BOTTLE,20220818CCHSIOAMB
EXPOCODE,SECT_ID,STNNBR,CASTNO,SAMPNO,BTLNBR,BTLNBR_FLAG_W,DATE,TIME,LATITUDE,LONGITUDE,DEPTH,CTDPRS,CTDSAL,CTDSAL_FLAG_W,SALNTY,SALNTY_FLAG_W,OXYGEN,OXYGEN_FLAG_W,SILCAT,SILCAT_FLAG_W,NITRAT,NITRAT_FLAG_W,NITRIT,NITRIT_FLAG_W,PHSPHT,PHSPHT_FLAG_W,TRITUM,TRITUM_FLAG_W,HELIUM,HELIUM_FLAG_W,DELHE3,DELHE3_FLAG_W,NEON,NEON_FLAG_W,NEONER,CTDTMP,HELIER,TRITER,DELHER
,,,,,,,,,,,METERS,DBAR,PSS-78,,PSS-78,,UMOL/KG,,UMOL/KG,,UMOL/KG,,UMOL/KG,,UMOL/KG,,TU,,NMOL/KG,,PERCNT,,NMOL/KG,,NMOL/KG,IPTS-68,NMOL/KG,TU,PERCNT
06AQANTIX_2,       SR04,      85,          1,         24,         24,2,19901207,       2359,   -67.0467,   -24.1517,       4649,     2.1,  34.4201,2,  34.4188,3,   315.2,2,   71.12,2,   28.84,2,    0.25,2,    1.95,2,-999.000,9,-999.0000,9, -999.00,9,-999.000,9,-999.000,    -1.8159,-999.0000,-999.000, -999.00
06AQANTIX_2,       SR04,      85,          1,         23,         23,2,19901207,       2359,   -67.0467,   -24.1517,       4649,     8.3,  34.4250,2,  34.4229,3,   314.3,2,   71.12,2,   28.92,2,    0.24,2,    1.94,2,-999.000,9,-999.0000,9, -999.00,9,-999.000,9,-999.000,    -1.8220,-999.0000,-999.000, -999.00
06AQANTIX_2,       SR04,      85,          1,         22,         22,2,19901207,       2359,   -67.0467,   -24.1517,       4649,    48.2,  34.4392,2,-999.0000,9,   312.1,2,   71.32,2,   29.00,2,    0.24,2,    1.96,2,-999.000,9,-999.0000,9, -999.00,9,-999.000,9,-999.000,    -1.8424,-999.0000,-999.000, -999.00
06AQANTIX_2,       SR04,      85,          1,         21,         21,2,19901207,       2359,   -67.0467,   -24.1517,       4649,    68.7,  34.4711,2,  34.4696,3,   310.1,2,   71.32,2,   29.15,2,    0.25,2,    1.96,2,-999.000,9,-999.0000,9, -999.00,9,-999.000,9,-999.000,    -1.8499,-999.0000,-999.000, -999.00
06AQANTIX_2,       SR04,      85,          1,         20,         20,2,19901207,       2359,   -67.0467,   -24.1517,       4649,    98.2,  34.4771,2,  34.4751,3,   309.3,2,   71.14,2,   29.29,2,    0.19,2,    1.95,2,-999.000,9,-999.0000,9, -999.00,9,-999.000,9,-999.000,    -1.8312,-999.0000,-999.000, -999.00
06AQANTIX_2,       SR04,      85,          1,         19,         19,2,19901207,       2359,   -67.0467,   -24.1517,       4649,   221.0,  34.6613,2,  34.6570,3,   210.0,2,  105.89,2,   33.14,2,    0.02,2,    2.24,2,-999.000,9,-999.0000,9, -999.00,9,-999.000,9,-999.000,     0.3466,-999.0000,-999.000, -999.00
06AQANTIX_2,       SR04,      85,          1,         18,         18,2,19901207,       2359,   -67.0467,   -24.1517,       4649,   346.3,  34.6768,2,  34.6750,3,   197.0,2,  112.99,2,   33.47,2,   -0.01,4,    2.26,2,-999.000,9,-999.0000,9, -999.00,9,-999.000,9,-999.000,     0.4795,-999.0000,-999.000, -999.00
06AQANTIX_2,       SR04,      85,          1,         17,         17,2,19901207,       2359,   -67.0467,   -24.1517,       4649,   396.3,  34.6839,2,  34.6810,3,   196.0,2,  116.92,2,   33.61,2,    0.02,2,    2.28,2,-999.000,9,-999.0000,9, -999.00,9,-999.000,9,-999.000,     0.5183,-999.0000,-999.000, -999.00
06AQANTIX_2,       SR04,      85,          1,         16,         16,2,19901207,       2359,   -67.0467,   -24.1517,       4649,   795.5,  34.6789,2,  34.6750,3,   200.4,2,  125.33,2,   33.82,2,    0.00,2,    2.29,2,-999.000,9,-999.0000,9, -999.00,9,-999.000,9,-999.000,     0.2915,-999.0000,-999.000, -999.00
06AQANTIX_2,       SR04,      85,          1,         15,         15,2,19901207,       2359,   -67.0467,   -24.1517,       4649,  1195.2,  34.6723,2,  34.6706,3,  -999.0,9,  126.83,2,   33.41,2,    0.01,2,    2.27,2,-999.000,9,-999.0000,9, -999.00,9,-999.000,9,-999.000,     0.1325,-999.0000,-999.000, -999.00
06AQANTIX_2,       SR04,      85,          1,         14,         14,2,19901207,       2359,   -67.0467,   -24.1517,       4649,  1596.0,  34.6668,2,  34.6648,3,   220.2,2,  126.84,2,   33.13,2,    0.01,2,    2.26,2,-999.000,9,-999.0000,9, -999.00,9,-999.000,9,-999.000,    -0.0097,-999.0000,-999.000, -999.00
06AQANTIX_2,       SR04,      85,          1,         13,         13,2,19901207,       2359,   -67.0467,   -24.1517,       4649,  1997.3,  34.6614,2,  34.6589,3,   227.1,2,  126.66,2,   32.97,2,    0.01,2,    2.24,2,-999.000,9,-999.0000,9, -999.00,9,-999.000,9,-999.000,    -0.1268,-999.0000,-999.000, -999.00
06AQANTIX_2,       SR04,      85,          1,         10,         10,2,19901207,       2359,   -67.0467,   -24.1517,       4649,  2500.1,  34.6578,2,  34.6565,3,  -999.0,9,  125.74,2,   32.73,2,    0.00,2,    2.23,2,-999.000,9,-999.0000,9, -999.00,9,-999.000,9,-999.000,    -0.2231,-999.0000,-999.000, -999.00
06AQANTIX_2,       SR04,      85,          1,         11,         11,2,19901207,       2359,   -67.0467,   -24.1517,       4649,  2500.2,  34.6576,2,  34.6561,3,  -999.0,9,  125.73,2,   32.77,2,    0.01,2,    2.23,2,-999.000,9,-999.0000,9, -999.00,9,-999.000,9,-999.000,    -0.2229,-999.0000,-999.000, -999.00
06AQANTIX_2,       SR04,      85,          1,         12,         12,2,19901207,       2359,   -67.0467,   -24.1517,       4649,  2500.3,  34.6574,2,  34.6567,3,   233.4,2,  125.91,2,   32.75,2,    0.01,2,    2.22,2,-999.000,9,-999.0000,9, -999.00,9,-999.000,9,-999.000,    -0.2228,-999.0000,-999.000, -999.00
06AQANTIX_2,       SR04,      85,          1,          9,          9,2,19901207,       2359,   -67.0467,   -24.1517,       4649,  3001.2,  34.6553,2,  34.6553,3,   237.6,2,  124.99,2,   32.51,2,    0.01,2,    2.22,2,-999.000,9,-999.0000,9, -999.00,9,-999.000,9,-999.000,    -0.2851,-999.0000,-999.000, -999.00
06AQANTIX_2,       SR04,      85,          1,          8,          8,2,19901207,       2359,   -67.0467,   -24.1517,       4649,  3502.1,  34.6528,2,  34.6513,3,   244.6,2,  124.25,2,   32.35,2,    0.02,2,    2.20,2,-999.000,9,-999.0000,9, -999.00,9,-999.000,9,-999.000,    -0.3325,-999.0000,-999.000, -999.00
06AQANTIX_2,       SR04,      85,          1,          7,          7,2,19901207,       2359,   -67.0467,   -24.1517,       4649,  4003.9,  34.6531,2,  34.6505,3,   244.8,2,  125.56,2,   32.31,2,    0.01,2,    2.20,2,-999.000,9,-999.0000,9, -999.00,9,-999.000,9,-999.000,    -0.3667,-999.0000,-999.000, -999.00
06AQANTIX_2,       SR04,      85,          1,          6,          6,2,19901207,       2359,   -67.0467,   -24.1517,       4649,  4303.5,  34.6509,2,  34.6529,3,  -999.0,9,  124.82,2,   32.21,2,    0.01,2,    2.20,2,-999.000,9,-999.0000,9, -999.00,9,-999.000,9,-999.000,    -0.3860,-999.0000,-999.000, -999.00
06AQANTIX_2,       SR04,      85,          1,          5,          5,2,19901207,       2359,   -67.0467,   -24.1517,       4649,  4504.5,  34.6508,2,  34.6522,3,   248.6,2,  123.70,2,   32.23,2,    0.00,2,    2.19,2,-999.000,9,-999.0000,9, -999.00,9,-999.000,9,-999.000,    -0.4204,-999.0000,-999.000, -999.00
06AQANTIX_2,       SR04,      85,          1,          4,          4,2,19901207,       2359,   -67.0467,   -24.1517,       4649,  4604.2,  34.6495,2,  34.6526,3,   249.4,2,  122.77,2,   32.19,2,    0.01,2,    2.19,2,-999.000,9,-999.0000,9, -999.00,9,-999.000,9,-999.000,    -0.4438,-999.0000,-999.000, -999.00
06AQANTIX_2,       SR04,      85,          1,          3,          3,2,19901207,       2359,   -67.0467,   -24.1517,       4649,  4805.8,  34.6477,2,  34.6442,3,   250.4,2,  126.33,2,   32.21,2,    0.00,2,    2.21,2,-999.000,9,-999.0000,9, -999.00,9,-999.000,9,-999.000,    -0.4797,-999.0000,-999.000, -999.00
06AQANTIX_2,       SR04,      85,          1,          2,          2,2,19901207,       2359,   -67.0467,   -24.1517,       4649,  4888.6,  34.6411,2,  34.6361,3,  -999.0,9,  125.58,2,   32.23,2,    0.01,2,    2.20,2,-999.000,9,-999.0000,9, -999.00,9,-999.000,9,-999.000,    -0.5241,-999.0000,-999.000, -999.00
06AQANTIX_2,       SR04,      85,          1,          1,          1,2,19901207,       2359,   -67.0467,   -24.1517,       4649,  4914.0,  34.6380,2,-999.0000,9,   252.1,2,  125.40,2,   32.19,2,   -0.01,4,    2.21,2,-999.000,9,-999.0000,9, -999.00,9,-999.000,9,-999.000,    -0.5250,-999.0000,-999.000, -999.00
06AQANTIX_2,       SR04,      86,          1,         24,         24,2,19901208,       0559,   -67.2267,   -24.1517,       4646,     2.3,  34.4086,2,-999.0000,9,   314.9,2,   71.35,2,   28.79,2,    0.24,2,    2.01,2,-999.000,9,-999.0000,9, -999.00,9,-999.000,9,-999.000,    -1.8203,-999.0000,-999.000, -999.00
06AQANTIX_2,       SR04,      86,          1,         23,         23,2,19901208,       0559,   -67.2267,   -24.1517,       4646,    22.7,  34.4143,2,  34.4162,3,  -999.0,9,   71.34,2,   28.79,2,    0.26,2,    2.01,2,-999.000,9,-999.0000,9, -999.00,9,-999.000,9,-999.000,    -1.8317,-999.0000,-999.000, -999.00
06AQANTIX_2,       SR04,      86,          1,         22,         22,2,19901208,       0559,   -67.2267,   -24.1517,       4646,    51.4,  34.4323,2,-999.0000,9,   314.0,2,   71.52,2,   28.85,2,    0.26,2,    2.01,2,-999.000,9,-999.0000,9, -999.00,9,-999.000,9,-999.000,    -1.8383,-999.0000,-999.000, -999.00
06AQANTIX_2,       SR04,      86,          1,         21,         21,2,19901208,       0559,   -67.2267,   -24.1517,       4646,    72.4,  34.4651,2,  34.4646,3,   311.6,2,   71.51,2,   28.92,2,    0.26,2,    2.02,2,-999.000,9,-999.0000,9, -999.00,9,-999.000,9,-999.000,    -1.8446,-999.0000,-999.000, -999.00
06AQANTIX_2,       SR04,      86,          1,         20,         20,2,19901208,       0559,   -67.2267,   -24.1517,       4646,   102.2,  34.4740,2,  34.4730,3,   308.8,2,   72.07,2,   29.17,2,    0.23,2,    2.03,2,-999.000,9,-999.0000,9, -999.00,9,-999.000,9,-999.000,    -1.8274,-999.0000,-999.000, -999.00
06AQANTIX_2,       SR04,      86,          1,         19,         19,2,19901208,       0559,   -67.2267,   -24.1517,       4646,   201.1,  34.6602,2,  34.6650,3,   202.2,2,  105.60,2,   32.87,2,    0.00,2,    2.29,2,-999.000,9,-999.0000,9, -999.00,9,-999.000,9,-999.000,     0.3735,-999.0000,-999.000, -999.00
06AQANTIX_2,       SR04,      86,          1,         18,         18,2,19901208,       0559,   -67.2267,   -24.1517,       4646,   499.4,  34.6853,2,  34.6855,3,  -999.0,9,  120.13,2,   33.18,2,   -0.02,4,    2.33,2,-999.000,9,-999.0000,9, -999.00,9,-999.000,9,-999.000,     0.4708,-999.0000,-999.000, -999.00
06AQANTIX_2,       SR04,      86,          1,         17,         17,2,19901208,       0559,   -67.2267,   -24.1517,       4646,   748.1,  34.6803,2,  34.6817,3,   202.0,2,  124.60,2,   33.50,2,    0.01,2,    2.35,2,-999.000,9,-999.0000,9, -999.00,9,-999.000,9,-999.000,     0.3161,-999.0000,-999.000, -999.00
06AQANTIX_2,       SR04,      86,          1,         16,         16,2,19901208,       0559,   -67.2267,   -24.1517,       4646,   999.6,  34.6760,2,  34.6763,3,   210.0,2,  126.46,2,   33.31,2,    0.02,2,    2.33,2,-999.000,9,-999.0000,9, -999.00,9,-999.000,9,-999.000,     0.2146,-999.0000,-999.000, -999.00
06AQANTIX_2,       SR04,      86,          1,         15,         15,2,19901208,       0559,   -67.2267,   -24.1517,       4646,  1248.6,  34.6727,2,  34.6728,3,   213.8,2,  126.82,2,   33.00,2,    0.01,2,    2.32,2,-999.000,9,-999.0000,9, -999.00,9,-999.000,9,-999.000,     0.1188,-999.0000,-999.000, -999.00
06AQANTIX_2,       SR04,      86,          1,         14,         14,2,19901208,       0559,   -67.2267,   -24.1517,       4646,  1496.7,  34.6687,2,  34.6690,3,   220.2,2,  127.00,2,   32.82,2,    0.02,2,    2.31,2,-999.000,9,-999.0000,9, -999.00,9,-999.000,9,-999.000,     0.0278,-999.0000,-999.000, -999.00
06AQANTIX_2,       SR04,      86,          1,         13,         13,2,19901208,       0559,   -67.2267,   -24.1517,       4646,  1998.0,  34.6619,2,  34.6635,3,  -999.0,9,  126.44,2,   32.57,2,    0.01,2,    2.30,2,-999.000,9,-999.0000,9, -999.00,9,-999.000,9,-999.000,    -0.1221,-999.0000,-999.000, -999.00
06AQANTIX_2,       SR04,      86,          1,         10,         10,2,19901208,       0559,   -67.2267,   -24.1517,       4646,  2498.0,  34.6582,2,  34.6596,3,  -999.0,9,  125.68,2,   32.45,2,    0.04,2,    2.28,2,-999.000,9,-999.0000,9, -999.00,9,-999.000,9,-999.000,    -0.2201,-999.0000,-999.000, -999.00
06AQANTIX_2,       SR04,      86,          1,         12,         12,2,19901208,       0559,   -67.2267,   -24.1517,       4646,  2498.1,  34.6582,2,  34.6584,3,  -999.0,9,  125.69,2,   32.38,2,    0.03,2,    2.29,2,-999.000,9,-999.0000,9, -999.00,9,-999.000,9,-999.000,    -0.2202,-999.0000,-999.000, -999.00
06AQANTIX_2,       SR04,      86,          1,         11,         11,2,19901208,       0559,   -67.2267,   -24.1517,       4646,  2498.1,  34.6587,2,  34.6593,3,   234.7,2,  125.87,2,   32.44,2,    0.04,2,    2.29,2,-999.000,9,-999.0000,9, -999.00,9,-999.000,9,-999.000,    -0.2206,-999.0000,-999.000, -999.00
06AQANTIX_2,       SR04,      86,          1,          9,          9,2,19901208,       0559,   -67.2267,   -24.1517,       4646,  3000.0,  34.6557,2,  34.6568,3,   238.8,2,  124.93,2,   32.26,2,    0.06,3,    2.26,2,-999.000,9,-999.0000,9, -999.00,9,-999.000,9,-999.000,    -0.2825,-999.0000,-999.000, -999.00
06AQANTIX_2,       SR04,      86,          1,          8,          8,2,19901208,       0559,   -67.2267,   -24.1517,       4646,  3501.8,  34.6540,2,  34.6539,3,   243.5,2,  124.36,2,   32.01,2,    0.06,3,    2.26,2,-999.000,9,-999.0000,9, -999.00,9,-999.000,9,-999.000,    -0.3301,-999.0000,-999.000, -999.00
06AQANTIX_2,       SR04,      86,          1,          7,          7,2,19901208,       0559,   -67.2267,   -24.1517,       4646,  4001.7,  34.6535,2,  34.6514,3,   246.1,2,  126.40,2,   32.08,2,    0.06,3,    2.26,2,-999.000,9,-999.0000,9, -999.00,9,-999.000,9,-999.000,    -0.3646,-999.0000,-999.000, -999.00
06AQANTIX_2,       SR04,      86,          1,          6,          6,2,19901208,       0559,   -67.2267,   -24.1517,       4646,  4301.3,  34.6526,2,  34.6516,3,   250.5,2,  125.47,2,   32.02,2,    0.08,3,    2.25,2,-999.000,9,-999.0000,9, -999.00,9,-999.000,9,-999.000,    -0.3791,-999.0000,-999.000, -999.00
06AQANTIX_2,       SR04,      86,          1,          5,          5,2,19901208,       0559,   -67.2267,   -24.1517,       4646,  4502.4,  34.6508,2,  34.6482,3,  -999.0,9,  122.11,2,   31.96,2,    0.08,3,    2.25,2,-999.000,9,-999.0000,9, -999.00,9,-999.000,9,-999.000,    -0.4146,-999.0000,-999.000, -999.00
06AQANTIX_2,       SR04,      86,          1,          4,          4,2,19901208,       0559,   -67.2267,   -24.1517,       4646,  4652.8,  34.6495,2,  34.6475,3,   252.4,2,  121.17,2,   31.89,2,    0.09,3,    2.25,2,-999.000,9,-999.0000,9, -999.00,9,-999.000,9,-999.000,    -0.4520,-999.0000,-999.000, -999.00
06AQANTIX_2,       SR04,      86,          1,          3,          3,2,19901208,       0559,   -67.2267,   -24.1517,       4646,  4804.2,  34.6497,2,  34.6473,3,   259.2,2,  124.89,2,   32.02,2,    0.09,3,    2.25,2,-999.000,9,-999.0000,9, -999.00,9,-999.000,9,-999.000,    -0.4738,-999.0000,-999.000, -999.00
06AQANTIX_2,       SR04,      86,          1,          2,          2,2,19901208,       0559,   -67.2267,   -24.1517,       4646,  4904.0,  34.6416,2,  34.6413,3,  -999.0,9,  125.44,2,   32.09,2,    0.10,3,    2.25,2,-999.000,9,-999.0000,9, -999.00,9,-999.000,9,-999.000,    -0.5161,-999.0000,-999.000, -999.00
06AQANTIX_2,       SR04,      86,          1,          1,          1,2,19901208,       0559,   -67.2267,   -24.1517,       4646,  4922.0,  34.6406,2,-999.0000,9,   259.8,2,  125.44,2,   32.09,2,    0.11,3,    2.25,2,-999.000,9,-999.0000,9, -999.00,9,-999.000,9,-999.000,    -0.5160,-999.0000,-999.000, -999.00