BOTTLE,20220818CCHSIOAMB
EXPOCODE,SECT_ID,STNNBR,CASTNO,SAMPNO,BTLNBR,BTLNBR_FLAG_W,DATE,TIME,LATITUDE,LONGITUDE,DEPTH,CTDPRS,CTDSAL,CTDSAL_FLAG_W,SALNTY,SALNTY_FLAG_W,OXYGEN,OXYGEN_FLAG_W,SILCAT,SILCAT_FLAG_W,NITRAT,NITRAT_FLAG_W,NITRIT,NITRIT_FLAG_W,PHSPHT,PHSPHT_FLAG_W,TRITUM,TRITUM_FLAG_W,HELIUM,HELIUM_FLAG_W,DELHE3,DELHE3_FLAG_W,NEON,NEON_FLAG_W,NEONER,CTDTMP,HELIER,TRITER,DELHER
,,,,,,,,,,,METERS,DBAR,PSS-78,,PSS-78,,UMOL/KG,,UMOL/KG,,UMOL/KG,,UMOL/KG,,UMOL/KG,,TU,,NMOL/KG,,PERCNT,,NMOL/KG,,NMOL/KG,IPTS-68,NMOL/KG,TU,PERCNT
06AQANTIX_2,       SR04,      99,          1,         24,         24,2,19901212,       0601,   -69.9683,   -14.7033,       4526,     2.8,  34.3283,2,  34.3319,3,   306.7,2,   69.87,2,   29.11,2,    0.27,2,    2.03,2,-999.000,9,-999.0000,9, -999.00,9,-999.000,9,-999.000,    -1.8478,-999.0000,-999.000, -999.00
06AQANTIX_2,       SR04,      99,          1,         23,         23,2,19901212,       0601,   -69.9683,   -14.7033,       4526,    26.6,  34.3330,2,  34.3337,3,   305.8,2,   70.26,2,   29.14,2,    0.26,2,    2.04,2,-999.000,9,   1.8230,2,    1.26,3,   8.144,2,   0.041,    -1.8529,   0.0090,-999.000,    0.20
06AQANTIX_2,       SR04,      99,          1,         22,         22,2,19901212,       0601,   -69.9683,   -14.7033,       4526,    50.0,  34.3360,2,  34.3325,3,   305.3,2,   70.27,2,   29.22,2,    0.25,2,    2.04,2,-999.000,9,-999.0000,9, -999.00,9,-999.000,9,-999.000,    -1.8535,-999.0000,-999.000, -999.00
06AQANTIX_2,       SR04,      99,          1,         21,         21,2,19901212,       0601,   -69.9683,   -14.7033,       4526,    62.0,  34.3364,2,  34.3323,3,   305.1,2,   70.28,2,   29.24,2,    0.26,2,    2.03,2,-999.000,9,-999.0000,9, -999.00,9,-999.000,9,-999.000,    -1.8524,-999.0000,-999.000, -999.00
06AQANTIX_2,       SR04,      99,          1,         20,         20,2,19901212,       0601,   -69.9683,   -14.7033,       4526,   101.2,  34.3951,2,  34.3941,3,   298.8,2,   71.44,2,   29.72,2,    0.22,2,    2.05,2,-999.000,9,   1.8320,2,    1.13,2,   8.183,2,   0.024,    -1.7166,   0.0050,-999.000,    0.20
06AQANTIX_2,       SR04,      99,          1,         19,         19,2,19901212,       0601,   -69.9683,   -14.7033,       4526,   149.5,  34.5819,2,-999.0000,9,   224.3,2,   91.83,2,   31.80,2,    0.02,2,    2.21,2,-999.000,9,-999.0000,9, -999.00,9,-999.000,9,-999.000,     0.0290,-999.0000,-999.000, -999.00
06AQANTIX_2,       SR04,      99,          1,         18,         18,2,19901212,       0601,   -69.9683,   -14.7033,       4526,   246.1,  34.6741,2,  34.6700,3,   205.5,2,  100.37,2,   32.05,2,    0.00,2,    2.23,2,-999.000,9,-999.0000,1, -999.00,1,-999.000,1,-999.000,     0.7176,-999.0000,-999.000, -999.00
06AQANTIX_2,       SR04,      99,          1,         17,         17,2,19901212,       0601,   -69.9683,   -14.7033,       4526,   501.4,  34.6929,2,  34.6877,3,   204.0,2,  109.11,2,   32.06,2,    0.03,2,    2.24,2,-999.000,9,-999.0000,9, -999.00,9,-999.000,9,-999.000,     0.7152,-999.0000,-999.000, -999.00
06AQANTIX_2,       SR04,      99,          1,         16,         16,2,19901212,       0601,   -69.9683,   -14.7033,       4526,   751.7,  34.6922,2,  34.6894,3,   204.8,2,  116.29,2,   32.31,2,    0.01,2,    2.26,2,-999.000,9,-999.0000,9, -999.00,9,-999.000,9,-999.000,     0.5671,-999.0000,-999.000, -999.00
06AQANTIX_2,       SR04,      99,          1,         15,         15,2,19901212,       0601,   -69.9683,   -14.7033,       4526,   998.2,  34.6856,2,  34.6861,3,   216.1,2,  120.76,2,   32.62,2,    0.02,2,    2.28,2,-999.000,9,-999.0000,9, -999.00,9,-999.000,9,-999.000,     0.4044,-999.0000,-999.000, -999.00
06AQANTIX_2,       SR04,      99,          1,         14,         14,2,19901212,       0601,   -69.9683,   -14.7033,       4526,  1497.8,  34.6750,2,  34.6731,3,   217.0,2,  125.23,2,   32.81,2,    0.02,2,    2.31,2,-999.000,9,-999.0000,9, -999.00,9,-999.000,9,-999.000,     0.1754,-999.0000,-999.000, -999.00
06AQANTIX_2,       SR04,      99,          1,         13,         13,2,19901212,       0601,   -69.9683,   -14.7033,       4526,  1997.4,  34.6665,2,  34.6699,3,   227.4,2,  126.21,2,   32.54,2,    0.02,2,    2.29,2,-999.000,9,-999.0000,9, -999.00,9,-999.000,9,-999.000,     0.0015,-999.0000,-999.000, -999.00
06AQANTIX_2,       SR04,      99,          1,         12,         12,2,19901212,       0601,   -69.9683,   -14.7033,       4526,  2500.5,  34.6620,2,  34.6693,3,   234.4,2,  126.41,2,   32.33,2,    0.02,2,    2.28,2,-999.000,9,-999.0000,9, -999.00,9,-999.000,9,-999.000,    -0.1296,-999.0000,-999.000, -999.00
06AQANTIX_2,       SR04,      99,          1,         11,         11,2,19901212,       0601,   -69.9683,   -14.7033,       4526,  3001.8,  34.6594,2,  34.6616,3,   240.0,2,  125.83,2,   32.18,2,    0.00,2,    2.26,2,-999.000,9,-999.0000,9, -999.00,9,-999.000,9,-999.000,    -0.2079,-999.0000,-999.000, -999.00
06AQANTIX_2,       SR04,      99,          1,          7,          7,2,19901212,       0601,   -69.9683,   -14.7033,       4526,  3502.1,  34.6568,2,  34.6618,3,  -999.0,9,  125.26,2,   31.97,2,    0.00,2,    2.25,2,-999.000,9,-999.0000,9, -999.00,9,-999.000,9,-999.000,    -0.2644,-999.0000,-999.000, -999.00
06AQANTIX_2,       SR04,      99,          1,          8,          8,2,19901212,       0601,   -69.9683,   -14.7033,       4526,  3502.3,  34.6566,2,  34.6587,3,  -999.0,9,  125.26,2,   31.95,2,    0.01,2,    2.26,2,-999.000,9,-999.0000,9, -999.00,9,-999.000,9,-999.000,    -0.2643,-999.0000,-999.000, -999.00
06AQANTIX_2,       SR04,      99,          1,          9,          9,2,19901212,       0601,   -69.9683,   -14.7033,       4526,  3502.4,  34.6562,2,  34.6560,3,   242.6,2,  125.25,2,   31.99,2,    0.00,2,    2.25,2,-999.000,9,-999.0000,9, -999.00,9,-999.000,9,-999.000,    -0.2639,-999.0000,-999.000, -999.00
06AQANTIX_2,       SR04,      99,          1,         10,         10,2,19901212,       0601,   -69.9683,   -14.7033,       4526,  3502.5,  34.6560,2,  34.6563,3,  -999.0,9,  125.06,2,   31.97,2,    0.02,2,    2.25,2,-999.000,9,-999.0000,9, -999.00,9,-999.000,9,-999.000,    -0.2638,-999.0000,-999.000, -999.00
06AQANTIX_2,       SR04,      99,          1,          6,          6,2,19901212,       0601,   -69.9683,   -14.7033,       4526,  4001.4,  34.6535,2,  34.6555,3,   244.3,2,  126.24,2,   31.93,2,    0.00,2,    2.26,2,-999.000,9,-999.0000,9, -999.00,9,-999.000,9,-999.000,    -0.2938,-999.0000,-999.000, -999.00
06AQANTIX_2,       SR04,      99,          1,          5,          5,2,19901212,       0601,   -69.9683,   -14.7033,       4526,  4198.9,  34.6529,2,  34.6557,3,   245.5,2,  127.79,2,   31.89,2,    0.01,2,    2.25,2,-999.000,9,-999.0000,9, -999.00,9,-999.000,9,-999.000,    -0.3017,-999.0000,-999.000, -999.00
06AQANTIX_2,       SR04,      99,          1,          4,          4,2,19901212,       0601,   -69.9683,   -14.7033,       4526,  4400.9,  34.6534,2,  34.6533,3,   246.2,2,  128.96,2,   31.91,2,    0.01,2,    2.25,2,-999.000,9,-999.0000,9, -999.00,9,-999.000,9,-999.000,    -0.3094,-999.0000,-999.000, -999.00
06AQANTIX_2,       SR04,      99,          1,          3,          3,2,19901212,       0601,   -69.9683,   -14.7033,       4526,  4602.1,  34.6513,2,  34.6512,3,   246.1,2,  129.93,2,   31.93,2,    0.01,2,    2.25,2,-999.000,9,-999.0000,9, -999.00,9,-999.000,9,-999.000,    -0.3414,-999.0000,-999.000, -999.00
06AQANTIX_2,       SR04,      99,          1,          2,          2,2,19901212,       0601,   -69.9683,   -14.7033,       4526,  4702.6,  34.6499,2,  34.6505,3,  -999.0,9,  129.16,2,   31.94,2,    0.01,2,    2.25,2,-999.000,9,-999.0000,9, -999.00,9,-999.000,9,-999.000,    -0.3908,-999.0000,-999.000, -999.00
06AQANTIX_2,       SR04,      99,          1,          1,          1,2,19901212,       0601,   -69.9683,   -14.7033,       4526,  4796.0,  34.6487,2,-999.0000,9,   253.4,2,  128.97,2,   31.91,2,    0.01,2,    2.25,2,-999.000,9,-999.0000,9, -999.00,9,-999.000,9,-999.000,    -0.4400,-999.0000,-999.000, -999.00
06AQANTIX_2,       SR04,     100,          1,         24,         24,2,19901212,       1047,    -70.125,   -14.2567,       4324,     1.3,  34.2971,2,  34.3007,3,   300.0,2,   72.50,2,   29.70,2,    0.25,2,    2.07,2,-999.000,9,-999.0000,9, -999.00,9,-999.000,9,-999.000,    -1.8325,-999.0000,-999.000, -999.00
06AQANTIX_2,       SR04,     100,          1,         23,         23,2,19901212,       1047,    -70.125,   -14.2567,       4324,    24.0,  34.3030,2,  34.3023,3,   297.2,2,   72.52,2,   29.70,2,    0.26,2,    2.04,2,-999.000,9,-999.0000,9, -999.00,9,-999.000,9,-999.000,    -1.8474,-999.0000,-999.000, -999.00
06AQANTIX_2,       SR04,     100,          1,         22,         22,2,19901212,       1047,    -70.125,   -14.2567,       4324,    48.4,  34.3118,2,-999.0000,9,   296.0,2,   73.31,2,   29.82,2,    0.24,2,    2.05,2,-999.000,9,-999.0000,9, -999.00,9,-999.000,9,-999.000,    -1.8407,-999.0000,-999.000, -999.00
06AQANTIX_2,       SR04,     100,          1,         21,         21,2,19901212,       1047,    -70.125,   -14.2567,       4324,    73.4,  34.3806,2,-999.0000,9,   286.3,2,   76.61,2,   30.23,2,    0.15,2,    2.09,2,-999.000,9,-999.0000,9, -999.00,9,-999.000,9,-999.000,    -1.5262,-999.0000,-999.000, -999.00
06AQANTIX_2,       SR04,     100,          1,         20,         20,2,19901212,       1047,    -70.125,   -14.2567,       4324,    98.4,  34.4994,2,-999.0000,9,   253.8,2,   84.55,2,   31.10,2,    0.03,2,    2.15,2,-999.000,9,-999.0000,9, -999.00,9,-999.000,9,-999.000,    -0.7732,-999.0000,-999.000, -999.00
06AQANTIX_2,       SR04,     100,          1,         19,         19,2,19901212,       1047,    -70.125,   -14.2567,       4324,   197.4,  34.6633,2,  34.6638,3,   210.9,2,   98.67,2,   31.96,2,    0.01,2,    2.22,2,-999.000,9,-999.0000,9, -999.00,9,-999.000,9,-999.000,     0.6208,-999.0000,-999.000, -999.00
06AQANTIX_2,       SR04,     100,          1,         18,         18,2,19901212,       1047,    -70.125,   -14.2567,       4324,   326.5,  34.6835,2,  34.6825,3,   204.8,2,  103.32,2,   31.91,2,    0.01,2,    2.21,2,-999.000,9,-999.0000,9, -999.00,9,-999.000,9,-999.000,     0.7411,-999.0000,-999.000, -999.00
06AQANTIX_2,       SR04,     100,          1,         17,         17,2,19901212,       1047,    -70.125,   -14.2567,       4324,   495.7,  34.6919,2,  34.6909,3,   203.7,2,  109.33,2,   31.98,2,    0.01,2,    2.22,2,-999.000,9,-999.0000,9, -999.00,9,-999.000,9,-999.000,     0.7102,-999.0000,-999.000, -999.00
06AQANTIX_2,       SR04,     100,          1,         16,         16,2,19901212,       1047,    -70.125,   -14.2567,       4324,   696.0,  34.6920,2,  34.6928,3,   205.8,2,  114.56,2,   32.10,2,    0.00,2,    2.25,2,-999.000,9,-999.0000,9, -999.00,9,-999.000,9,-999.000,     0.6062,-999.0000,-999.000, -999.00
06AQANTIX_2,       SR04,     100,          1,         15,         15,2,19901212,       1047,    -70.125,   -14.2567,       4324,   994.8,  34.6862,2,  34.6851,3,   206.6,2,  119.99,2,   32.39,2,    0.01,2,    2.27,2,-999.000,9,-999.0000,9, -999.00,9,-999.000,9,-999.000,     0.4274,-999.0000,-999.000, -999.00
06AQANTIX_2,       SR04,     100,          1,         14,         14,2,19901212,       1047,    -70.125,   -14.2567,       4324,  1495.7,  34.6761,2,  34.6752,3,   212.9,2,  124.45,2,   32.52,2,    0.00,2,    2.28,2,-999.000,9,-999.0000,9, -999.00,9,-999.000,9,-999.000,     0.2043,-999.0000,-999.000, -999.00
06AQANTIX_2,       SR04,     100,          1,         13,         13,2,19901212,       1047,    -70.125,   -14.2567,       4324,  1998.1,  34.6676,2,  34.6669,3,   224.1,2,  125.62,2,   32.29,2,    0.02,2,    2.27,2,-999.000,9,-999.0000,9, -999.00,9,-999.000,9,-999.000,     0.0112,-999.0000,-999.000, -999.00
06AQANTIX_2,       SR04,     100,          1,         12,         12,2,19901212,       1047,    -70.125,   -14.2567,       4324,  2499.9,  34.6623,2,  34.6616,3,   230.1,2,  125.83,2,   32.19,2,    0.01,2,    2.26,2,-999.000,9,-999.0000,9, -999.00,9,-999.000,9,-999.000,    -0.1180,-999.0000,-999.000, -999.00
06AQANTIX_2,       SR04,     100,          1,          9,          9,2,19901212,       1047,    -70.125,   -14.2567,       4324,  3001.2,  34.6601,2,  34.6622,3,   234.9,2,  124.90,2,   32.04,2,    0.01,2,    2.25,2,-999.000,9,-999.0000,9, -999.00,9,-999.000,9,-999.000,    -0.1940,-999.0000,-999.000, -999.00
06AQANTIX_2,       SR04,     100,          1,         10,         10,2,19901212,       1047,    -70.125,   -14.2567,       4324,  3001.6,  34.6598,2,  34.6594,3,  -999.0,9,  124.89,2,   32.03,2,    0.01,2,    2.25,2,-999.000,9,-999.0000,9, -999.00,9,-999.000,9,-999.000,    -0.1939,-999.0000,-999.000, -999.00
06AQANTIX_2,       SR04,     100,          1,         11,         11,2,19901212,       1047,    -70.125,   -14.2567,       4324,  3001.8,  34.6598,2,  34.6622,3,  -999.0,9,  124.88,2,   31.96,2,    0.01,2,    2.25,2,-999.000,9,-999.0000,9, -999.00,9,-999.000,9,-999.000,    -0.1940,-999.0000,-999.000, -999.00
06AQANTIX_2,       SR04,     100,          1,          8,          8,2,19901212,       1047,    -70.125,   -14.2567,       4324,  3503.1,  34.6567,2,  34.6561,3,   243.2,2,  124.53,2,   31.99,2,    0.01,2,    2.24,2,-999.000,9,-999.0000,9, -999.00,9,-999.000,9,-999.000,    -0.2514,-999.0000,-999.000, -999.00
06AQANTIX_2,       SR04,     100,          1,          7,          7,2,19901212,       1047,    -70.125,   -14.2567,       4324,  4003.9,  34.6543,2,  34.6541,3,  -999.0,9,  125.31,2,   31.94,2,    0.00,2,    2.24,2,-999.000,9,-999.0000,9, -999.00,9,-999.000,9,-999.000,    -0.2833,-999.0000,-999.000, -999.00
06AQANTIX_2,       SR04,     100,          1,          6,          6,2,19901212,       1047,    -70.125,   -14.2567,       4324,  4403.9,  34.6524,2,  34.6513,3,   244.0,2,  128.80,2,   31.94,2,    0.02,2,    2.24,2,-999.000,9,-999.0000,9, -999.00,9,-999.000,9,-999.000,    -0.2881,-999.0000,-999.000, -999.00
06AQANTIX_2,       SR04,     100,          1,          5,          5,2,19901212,       1047,    -70.125,   -14.2567,       4324,  4453.9,  34.6525,2,  34.6513,3,   243.5,2,  129.39,2,   31.95,2,    0.02,2,    2.24,2,-999.000,9,-999.0000,9, -999.00,9,-999.000,9,-999.000,    -0.2895,-999.0000,-999.000, -999.00
06AQANTIX_2,       SR04,     100,          1,          4,          4,2,19901212,       1047,    -70.125,   -14.2567,       4324,  4505.7,  34.6519,2,  34.6506,3,   245.9,2,  130.37,2,   31.96,2,    0.02,2,    2.24,2,-999.000,9,-999.0000,9, -999.00,9,-999.000,9,-999.000,    -0.2975,-999.0000,-999.000, -999.00
06AQANTIX_2,       SR04,     100,          1,          3,          3,2,19901212,       1047,    -70.125,   -14.2567,       4324,  4553.8,  34.6518,2,  34.6517,3,  -999.0,9,  130.96,2,   32.02,2,    0.00,2,    2.24,2,-999.000,9,-999.0000,9, -999.00,9,-999.000,9,-999.000,    -0.3049,-999.0000,-999.000, -999.00
06AQANTIX_2,       SR04,     100,          1,          2,          2,2,19901212,       1047,    -70.125,   -14.2567,       4324,  4567.2,  34.6521,2,  34.6518,3,   247.4,2,  130.98,2,   32.03,2,    0.03,2,    2.24,2,-999.000,9,-999.0000,9, -999.00,9,-999.000,9,-999.000,    -0.3051,-999.0000,-999.000, -999.00
06AQANTIX_2,       SR04,     100,          1,          1,          1,2,19901212,       1047,    -70.125,   -14.2567,       4324,  4586.0,  34.6513,2,-999.0000,9,   248.7,2,  130.60,2,   32.04,2,    0.02,2,    2.24,2,-999.000,9,-999.0000,9, -999.00,9,-999.000,9,-999.000,    -0.3270,-999.0000,-999.000, -999.00