BOTTLE,20220818CCHSIOAMB
EXPOCODE,SECT_ID,STNNBR,CASTNO,SAMPNO,BTLNBR,BTLNBR_FLAG_W,DATE,TIME,LATITUDE,LONGITUDE,DEPTH,CTDPRS,CTDSAL,CTDSAL_FLAG_W,SALNTY,SALNTY_FLAG_W,OXYGEN,OXYGEN_FLAG_W,SILCAT,SILCAT_FLAG_W,NITRAT,NITRAT_FLAG_W,NITRIT,NITRIT_FLAG_W,PHSPHT,PHSPHT_FLAG_W,TRITUM,TRITUM_FLAG_W,HELIUM,HELIUM_FLAG_W,DELHE3,DELHE3_FLAG_W,NEON,NEON_FLAG_W,NEONER,CTDTMP,HELIER,TRITER,DELHER
,,,,,,,,,,,METERS,DBAR,PSS-78,,PSS-78,,UMOL/KG,,UMOL/KG,,UMOL/KG,,UMOL/KG,,UMOL/KG,,TU,,NMOL/KG,,PERCNT,,NMOL/KG,,NMOL/KG,IPTS-68,NMOL/KG,TU,PERCNT
06AQANTIX_2,       SR04,      95,          1,         24,         24,2,19901210,       2208,   -69.0767,   -17.2633,       4555,     1.1,  34.3485,2,  34.3511,3,   309.4,2,   70.20,2,   28.95,2,    0.22,2,    2.01,2,-999.000,9,-999.0000,9, -999.00,9,-999.000,9,-999.000,    -1.8392,-999.0000,-999.000, -999.00
06AQANTIX_2,       SR04,      95,          1,         23,         23,2,19901210,       2208,   -69.0767,   -17.2633,       4555,    23.5,  34.3512,2,  34.3519,3,   308.9,2,   70.20,2,   28.95,2,    0.20,2,    2.01,2,-999.000,9,-999.0000,9, -999.00,9,-999.000,9,-999.000,    -1.8460,-999.0000,-999.000, -999.00
06AQANTIX_2,       SR04,      95,          1,         22,         22,2,19901210,       2208,   -69.0767,   -17.2633,       4555,    49.3,  34.3502,2,-999.0000,9,   315.5,2,   70.19,2,   29.00,2,    0.23,2,    2.02,2,-999.000,9,-999.0000,9, -999.00,9,-999.000,9,-999.000,    -1.8413,-999.0000,-999.000, -999.00
06AQANTIX_2,       SR04,      95,          1,         21,         21,2,19901210,       2208,   -69.0767,   -17.2633,       4555,    72.9,  34.3945,2,-999.0000,9,   303.5,2,   71.11,2,   29.28,2,    0.20,2,    2.04,2,-999.000,9,-999.0000,9, -999.00,9,-999.000,9,-999.000,    -1.7928,-999.0000,-999.000, -999.00
06AQANTIX_2,       SR04,      95,          1,         20,         20,2,19901210,       2208,   -69.0767,   -17.2633,       4555,    99.7,  34.4417,2,-999.0000,9,   306.3,2,   73.48,2,   29.83,2,    0.19,2,    2.06,2,-999.000,9,-999.0000,9, -999.00,9,-999.000,9,-999.000,    -1.5481,-999.0000,-999.000, -999.00
06AQANTIX_2,       SR04,      95,          1,         19,         19,2,19901210,       2208,   -69.0767,   -17.2633,       4555,   197.2,  34.6356,2,  34.6348,3,   221.5,2,   96.40,2,   32.06,2,    0.02,2,    2.23,2,-999.000,9,-999.0000,9, -999.00,9,-999.000,9,-999.000,     0.4069,-999.0000,-999.000, -999.00
06AQANTIX_2,       SR04,      95,          1,         18,         18,2,19901210,       2208,   -69.0767,   -17.2633,       4555,   316.0,  34.6885,2,  34.6891,3,   202.1,2,  106.66,2,   32.28,2,    0.01,2,    2.26,2,-999.000,9,-999.0000,9, -999.00,9,-999.000,9,-999.000,     0.8058,-999.0000,-999.000, -999.00
06AQANTIX_2,       SR04,      95,          1,         17,         17,2,19901210,       2208,   -69.0767,   -17.2633,       4555,   397.8,  34.6935,2,  34.6935,3,   204.2,2,  109.77,2,   32.33,2,    0.00,2,    2.25,2,-999.000,9,-999.0000,9, -999.00,9,-999.000,9,-999.000,     0.7690,-999.0000,-999.000, -999.00
06AQANTIX_2,       SR04,      95,          1,         16,         16,2,19901210,       2208,   -69.0767,   -17.2633,       4555,   596.4,  34.6902,2,  34.6895,3,   203.5,2,  116.55,2,   32.72,2,    0.01,2,    2.28,2,-999.000,9,-999.0000,9, -999.00,9,-999.000,9,-999.000,     0.5749,-999.0000,-999.000, -999.00
06AQANTIX_2,       SR04,      95,          1,         15,         15,2,19901210,       2208,   -69.0767,   -17.2633,       4555,   996.2,  34.6804,2,  34.6807,3,   207.5,2,  123.33,2,   33.10,2,    0.01,2,    2.31,2,-999.000,9,-999.0000,9, -999.00,9,-999.000,9,-999.000,     0.3198,-999.0000,-999.000, -999.00
06AQANTIX_2,       SR04,      95,          1,         14,         14,2,19901210,       2208,   -69.0767,   -17.2633,       4555,  1496.1,  34.6726,2,  34.6726,3,   217.1,2,  125.53,2,   32.76,2,    0.02,2,    2.30,2,-999.000,9,-999.0000,9, -999.00,9,-999.000,9,-999.000,     0.1148,-999.0000,-999.000, -999.00
06AQANTIX_2,       SR04,      95,          1,         13,         13,2,19901210,       2208,   -69.0767,   -17.2633,       4555,  1997.1,  34.6654,2,  34.6657,3,   228.2,2,  126.25,2,   32.53,2,    0.01,2,    2.29,2,-999.000,9,-999.0000,9, -999.00,9,-999.000,9,-999.000,    -0.0427,-999.0000,-999.000, -999.00
06AQANTIX_2,       SR04,      95,          1,         12,         12,2,19901210,       2208,   -69.0767,   -17.2633,       4555,  2500.2,  34.6606,2,  34.6614,3,   233.5,2,  125.51,2,   32.31,2,    0.01,2,    2.26,2,-999.000,9,-999.0000,9, -999.00,9,-999.000,9,-999.000,    -0.1649,-999.0000,-999.000, -999.00
06AQANTIX_2,       SR04,      95,          1,         11,         11,2,19901210,       2208,   -69.0767,   -17.2633,       4555,  3003.0,  34.6591,2,  34.6591,3,   239.7,2,  125.14,2,   32.19,2,    0.01,2,    2.27,2,-999.000,9,-999.0000,9, -999.00,9,-999.000,9,-999.000,    -0.2387,-999.0000,-999.000, -999.00
06AQANTIX_2,       SR04,      95,          1,         10,         10,2,19901210,       2208,   -69.0767,   -17.2633,       4555,  3500.7,  34.6560,2,  34.6550,3,   240.8,2,  124.58,2,   32.02,2,    0.00,2,    2.24,2,-999.000,9,-999.0000,9, -999.00,9,-999.000,9,-999.000,    -0.2948,-999.0000,-999.000, -999.00
06AQANTIX_2,       SR04,      95,          1,          7,          7,2,19901210,       2208,   -69.0767,   -17.2633,       4555,  4003.2,  34.6538,2,  34.6530,3,  -999.0,9,  126.03,2,   31.89,2,    0.00,2,    2.24,2,-999.000,9,-999.0000,9, -999.00,9,-999.000,9,-999.000,    -0.3280,-999.0000,-999.000, -999.00
06AQANTIX_2,       SR04,      95,          1,          8,          8,2,19901210,       2208,   -69.0767,   -17.2633,       4555,  4003.7,  34.6533,2,  34.6535,3,  -999.0,9,  126.04,2,   32.01,2,    0.00,2,    2.25,2,-999.000,9,-999.0000,9, -999.00,9,-999.000,9,-999.000,    -0.3277,-999.0000,-999.000, -999.00
06AQANTIX_2,       SR04,      95,          1,          9,          9,2,19901210,       2208,   -69.0767,   -17.2633,       4555,  4004.1,  34.6538,2,  34.6526,3,   245.0,2,  125.86,2,   32.01,2,    0.01,2,    2.25,2,-999.000,9,-999.0000,9, -999.00,9,-999.000,9,-999.000,    -0.3278,-999.0000,-999.000, -999.00
06AQANTIX_2,       SR04,      95,          1,          6,          6,2,19901210,       2208,   -69.0767,   -17.2633,       4555,  4501.8,  34.6526,2,  34.6522,3,   246.6,2,  127.49,2,   31.94,2,    0.01,2,    2.24,2,-999.000,9,-999.0000,9, -999.00,9,-999.000,9,-999.000,    -0.3479,-999.0000,-999.000, -999.00
06AQANTIX_2,       SR04,      95,          1,          5,          5,2,19901210,       2208,   -69.0767,   -17.2633,       4555,  4620.5,  34.6525,2,  34.6508,3,   247.5,2,  126.56,2,   31.99,2,    0.01,2,    2.24,2,-999.000,9,-999.0000,9, -999.00,9,-999.000,9,-999.000,    -0.3728,-999.0000,-999.000, -999.00
06AQANTIX_2,       SR04,      95,          1,          4,          4,2,19901210,       2208,   -69.0767,   -17.2633,       4555,  4698.2,  34.6515,2,  34.6500,3,  -999.0,9,  125.82,2,   31.93,2,    0.00,2,    2.24,2,-999.000,9,-999.0000,9, -999.00,9,-999.000,9,-999.000,    -0.4050,-999.0000,-999.000, -999.00
06AQANTIX_2,       SR04,      95,          1,          3,          3,2,19901210,       2208,   -69.0767,   -17.2633,       4555,  4750.9,  34.6495,2,  34.6496,3,   255.7,2,  126.18,2,   31.93,2,    0.00,2,    2.24,2,-999.000,9,-999.0000,9, -999.00,9,-999.000,9,-999.000,    -0.4297,-999.0000,-999.000, -999.00
06AQANTIX_2,       SR04,      95,          1,          2,          2,2,19901210,       2208,   -69.0767,   -17.2633,       4555,  4784.9,  34.6453,2,-999.0000,9,   262.1,2,  130.39,2,   32.04,2,   -0.01,4,    2.26,2,-999.000,9,-999.0000,9, -999.00,9,-999.000,9,-999.000,    -0.4495,-999.0000,-999.000, -999.00
06AQANTIX_2,       SR04,      96,          1,         24,         24,2,19901211,       0338,   -69.3617,   -16.4933,       4528,     1.6,  34.3119,2,  34.3156,3,   306.1,2,   70.78,2,   29.00,2,    0.20,2,    2.02,2,-999.000,9,-999.0000,9, -999.00,9,-999.000,9,-999.000,    -1.8516,-999.0000,-999.000, -999.00
06AQANTIX_2,       SR04,      96,          1,         23,         23,2,19901211,       0338,   -69.3617,   -16.4933,       4528,    20.7,  34.3172,2,  34.3158,3,   306.5,2,   70.76,2,   29.06,2,    0.19,2,    2.02,2,-999.000,9,-999.0000,9, -999.00,9,-999.000,9,-999.000,    -1.8549,-999.0000,-999.000, -999.00
06AQANTIX_2,       SR04,      96,          1,         22,         22,2,19901211,       0338,   -69.3617,   -16.4933,       4528,    50.4,  34.3163,2,  34.3184,3,   306.2,2,   70.92,2,   29.11,2,    0.19,2,    2.03,2,-999.000,9,-999.0000,9, -999.00,9,-999.000,9,-999.000,    -1.8505,-999.0000,-999.000, -999.00
06AQANTIX_2,       SR04,      96,          1,         21,         21,2,19901211,       0338,   -69.3617,   -16.4933,       4528,    69.7,  34.3572,2,-999.0000,9,   304.7,2,   71.26,2,   29.64,2,    0.19,2,    2.05,2,-999.000,9,-999.0000,9, -999.00,9,-999.000,9,-999.000,    -1.8116,-999.0000,-999.000, -999.00
06AQANTIX_2,       SR04,      96,          1,         20,         20,2,19901211,       0338,   -69.3617,   -16.4933,       4528,   100.7,  34.4485,2,-999.0000,9,   296.6,2,   73.05,2,   29.94,2,    0.15,2,    2.08,2,-999.000,9,-999.0000,9, -999.00,9,-999.000,9,-999.000,    -1.5063,-999.0000,-999.000, -999.00
06AQANTIX_2,       SR04,      96,          1,         19,         19,2,19901211,       0338,   -69.3617,   -16.4933,       4528,   200.8,  34.6588,2,-999.0000,9,   219.7,2,  100.61,2,   32.27,2,    0.02,2, -999.00,9,-999.000,9,-999.0000,9, -999.00,9,-999.000,9,-999.000,     0.6730,-999.0000,-999.000, -999.00
06AQANTIX_2,       SR04,      96,          1,         18,         18,2,19901211,       0338,   -69.3617,   -16.4933,       4528,   320.8,  34.6873,2,  34.6875,3,   203.4,2,  105.13,2,   32.02,2,    0.02,2, -999.00,9,-999.000,9,-999.0000,9, -999.00,9,-999.000,9,-999.000,     0.7726,-999.0000,-999.000, -999.00
06AQANTIX_2,       SR04,      96,          1,         17,         17,2,19901211,       0338,   -69.3617,   -16.4933,       4528,   399.2,  34.6919,2,  34.6926,3,   202.6,2,  107.83,2,   32.07,2,    0.02,2,    2.24,2,-999.000,9,-999.0000,9, -999.00,9,-999.000,9,-999.000,     0.7499,-999.0000,-999.000, -999.00
06AQANTIX_2,       SR04,      96,          1,         16,         16,2,19901211,       0338,   -69.3617,   -16.4933,       4528,   600.2,  34.6912,2,  34.6942,3,   205.2,2,  114.16,2,   32.30,2,    0.02,2,    2.25,2,-999.000,9,-999.0000,9, -999.00,9,-999.000,9,-999.000,     0.6068,-999.0000,-999.000, -999.00
06AQANTIX_2,       SR04,      96,          1,         15,         15,2,19901211,       0338,   -69.3617,   -16.4933,       4528,   800.1,  34.6872,2,  34.6867,3,   205.8,2,  118.50,2,   32.53,2,    0.01,2,    2.28,2,-999.000,9,-999.0000,9, -999.00,9,-999.000,9,-999.000,     0.4650,-999.0000,-999.000, -999.00
06AQANTIX_2,       SR04,      96,          1,         14,         14,2,19901211,       0338,   -69.3617,   -16.4933,       4528,   999.0,  34.6819,2,  34.6854,3,   212.0,2,  121.75,2,   32.77,2,    0.00,2,    2.30,2,-999.000,9,-999.0000,9, -999.00,9,-999.000,9,-999.000,     0.3444,-999.0000,-999.000, -999.00
06AQANTIX_2,       SR04,      96,          1,         13,         13,2,19901211,       0338,   -69.3617,   -16.4933,       4528,  1500.6,  34.6733,2,  34.6769,3,   214.6,2,  125.00,2,   32.64,2,    0.00,2,    2.29,2,-999.000,9,-999.0000,9, -999.00,9,-999.000,9,-999.000,     0.1343,-999.0000,-999.000, -999.00
06AQANTIX_2,       SR04,      96,          1,         12,         12,2,19901211,       0338,   -69.3617,   -16.4933,       4528,  2000.1,  34.6657,2,  34.6664,3,   223.0,2,  125.34,2,   32.51,2,    0.00,2,    2.28,2,-999.000,9,-999.0000,9, -999.00,9,-999.000,9,-999.000,    -0.0337,-999.0000,-999.000, -999.00
06AQANTIX_2,       SR04,      96,          1,         11,         11,2,19901211,       0338,   -69.3617,   -16.4933,       4528,  2501.1,  34.6612,2,  34.6618,3,   231.7,2,  124.96,2,   32.50,2,    0.00,2,    2.27,2,-999.000,9,-999.0000,9, -999.00,9,-999.000,9,-999.000,    -0.1520,-999.0000,-999.000, -999.00
06AQANTIX_2,       SR04,      96,          1,         10,         10,2,19901211,       0338,   -69.3617,   -16.4933,       4528,  3000.6,  34.6577,2,  34.6582,3,   237.7,2,  124.57,2,   32.38,2,    0.02,2,    2.25,2,-999.000,9,-999.0000,9, -999.00,9,-999.000,9,-999.000,    -0.2327,-999.0000,-999.000, -999.00
06AQANTIX_2,       SR04,      96,          1,          7,          7,2,19901211,       0338,   -69.3617,   -16.4933,       4528,  3499.0,  34.6553,2,  34.6553,3,   241.0,2,  125.42,2,   32.05,2,    0.03,2,    2.24,2,-999.000,9,-999.0000,9, -999.00,9,-999.000,9,-999.000,    -0.2848,-999.0000,-999.000, -999.00
06AQANTIX_2,       SR04,      96,          1,          9,          9,2,19901211,       0338,   -69.3617,   -16.4933,       4528,  3499.1,  34.6558,2,  34.6566,3,  -999.0,9,  123.46,2,   32.13,2,    0.02,2,    2.25,2,-999.000,9,-999.0000,9, -999.00,9,-999.000,9,-999.000,    -0.2843,-999.0000,-999.000, -999.00
06AQANTIX_2,       SR04,      96,          1,          8,          8,2,19901211,       0338,   -69.3617,   -16.4933,       4528,  3499.1,  34.6558,2,  34.6562,3,  -999.0,9,  123.26,2,   32.12,2,    0.03,2,    2.25,2,-999.000,9,-999.0000,9, -999.00,9,-999.000,9,-999.000,    -0.2844,-999.0000,-999.000, -999.00
06AQANTIX_2,       SR04,      96,          1,          6,          6,2,19901211,       0338,   -69.3617,   -16.4933,       4528,  4100.5,  34.6520,2,  34.6523,3,   244.0,2,  127.76,2,   31.93,2,    0.02,2,    2.25,2,-999.000,9,-999.0000,9, -999.00,9,-999.000,9,-999.000,    -0.3184,-999.0000,-999.000, -999.00
06AQANTIX_2,       SR04,      96,          1,          5,          5,2,19901211,       0338,   -69.3617,   -16.4933,       4528,  4401.0,  34.6519,2,  34.6531,3,   245.3,2,  128.83,2,   31.92,2,    0.01,2,    2.25,2,-999.000,9,-999.0000,9, -999.00,9,-999.000,9,-999.000,    -0.3321,-999.0000,-999.000, -999.00
06AQANTIX_2,       SR04,      96,          1,          4,          4,2,19901211,       0338,   -69.3617,   -16.4933,       4528,  4600.3,  34.6512,2,  34.6515,3,   246.3,2,  128.26,2,   31.91,2,    0.01,2,    2.25,2,-999.000,9,-999.0000,9, -999.00,9,-999.000,9,-999.000,    -0.3675,-999.0000,-999.000, -999.00
06AQANTIX_2,       SR04,      96,          1,          3,          3,2,19901211,       0338,   -69.3617,   -16.4933,       4528,  4701.9,  34.6486,2,  34.6481,3,   248.9,2,  127.52,2,   31.90,2,    0.01,2,    2.24,2,-999.000,9,-999.0000,9, -999.00,9,-999.000,9,-999.000,    -0.4225,-999.0000,-999.000, -999.00
06AQANTIX_2,       SR04,      96,          1,          2,          2,2,19901211,       0338,   -69.3617,   -16.4933,       4528,  4756.3,  34.6469,2,  34.6483,3,   249.3,2,  132.04,2,   32.14,2,    0.00,2,    2.25,2,-999.000,9,-999.0000,9, -999.00,9,-999.000,9,-999.000,    -0.4480,-999.0000,-999.000, -999.00
06AQANTIX_2,       SR04,      96,          1,          1,          1,2,19901211,       0338,   -69.3617,   -16.4933,       4528,  4795.0,  34.6480,2,-999.0000,9,   250.1,2,  130.93,2,   32.19,2,    0.02,2,    2.25,2,-999.000,9,-999.0000,9, -999.00,9,-999.000,9,-999.000,    -0.4540,-999.0000,-999.000, -999.00