BOTTLE,20220818CCHSIOAMB
EXPOCODE,SECT_ID,STNNBR,CASTNO,SAMPNO,BTLNBR,BTLNBR_FLAG_W,DATE,TIME,LATITUDE,LONGITUDE,DEPTH,CTDPRS,CTDSAL,CTDSAL_FLAG_W,SALNTY,SALNTY_FLAG_W,OXYGEN,OXYGEN_FLAG_W,SILCAT,SILCAT_FLAG_W,NITRAT,NITRAT_FLAG_W,NITRIT,NITRIT_FLAG_W,PHSPHT,PHSPHT_FLAG_W,TRITUM,TRITUM_FLAG_W,HELIUM,HELIUM_FLAG_W,DELHE3,DELHE3_FLAG_W,NEON,NEON_FLAG_W,NEONER,CTDTMP,HELIER,TRITER,DELHER
,,,,,,,,,,,METERS,DBAR,PSS-78,,PSS-78,,UMOL/KG,,UMOL/KG,,UMOL/KG,,UMOL/KG,,UMOL/KG,,TU,,NMOL/KG,,PERCNT,,NMOL/KG,,NMOL/KG,IPTS-68,NMOL/KG,TU,PERCNT
06AQANTIX_2,       SR04,      77,          1,         24,         24,2,19901205,       2222,   -66.6917,   -30.5933,       4527,     1.7,  34.3260,2,-999.0000,9,   321.1,2,   72.42,2,   27.28,2,    0.17,2,    1.98,3,-999.000,9,-999.0000,9, -999.00,9,-999.000,9,-999.000,    -1.7833,-999.0000,-999.000, -999.00
06AQANTIX_2,       SR04,      77,          1,         23,         23,2,19901205,       2222,   -66.6917,   -30.5933,       4527,    23.4,  34.3428,2,-999.0000,9,   319.7,2,   72.60,2,   27.40,2,    0.17,2,    1.97,3,-999.000,9,-999.0000,9, -999.00,9,-999.000,9,-999.000,    -1.7717,-999.0000,-999.000, -999.00
06AQANTIX_2,       SR04,      77,          1,         22,         22,2,19901205,       2222,   -66.6917,   -30.5933,       4527,    48.6,  34.4505,2,  34.4509,3,  -999.0,9,   73.35,2,   27.88,2,    0.17,2,    2.03,3,-999.000,9,-999.0000,9, -999.00,9,-999.000,9,-999.000,    -1.8305,-999.0000,-999.000, -999.00
06AQANTIX_2,       SR04,      77,          1,         21,         21,2,19901205,       2222,   -66.6917,   -30.5933,       4527,    71.0,  34.4581,2,  34.4597,3,   315.0,2,   74.10,2,   28.12,2,    0.18,2,    2.03,3,-999.000,9,-999.0000,9, -999.00,9,-999.000,9,-999.000,    -1.8311,-999.0000,-999.000, -999.00
06AQANTIX_2,       SR04,      77,          1,         20,         20,2,19901205,       2222,   -66.6917,   -30.5933,       4527,    98.8,  34.4700,2,  34.4678,3,   308.3,2,   74.47,2,   28.31,2,    0.19,2,    2.04,3,-999.000,9,-999.0000,9, -999.00,9,-999.000,9,-999.000,    -1.8323,-999.0000,-999.000, -999.00
06AQANTIX_2,       SR04,      77,          1,         19,         19,2,19901205,       2222,   -66.6917,   -30.5933,       4527,   199.6,  34.6674,2,  34.6658,3,   197.2,2,  111.02,2,   33.09,2,    0.01,2,    2.39,3,-999.000,9,-999.0000,9, -999.00,9,-999.000,9,-999.000,     0.3697,-999.0000,-999.000, -999.00
06AQANTIX_2,       SR04,      77,          1,         18,         18,2,19901205,       2222,   -66.6917,   -30.5933,       4527,   248.5,  34.6779,2,  34.6761,3,   194.8,2,  116.64,2,   33.33,2,    0.01,2,    2.41,3,-999.000,9,-999.0000,9, -999.00,9,-999.000,9,-999.000,     0.4401,-999.0000,-999.000, -999.00
06AQANTIX_2,       SR04,      77,          1,         17,         17,2,19901205,       2222,   -66.6917,   -30.5933,       4527,   397.6,  34.6817,2,  34.6833,3,   193.4,2,  122.08,2,   33.52,2,    0.01,2,    2.42,3,-999.000,9,-999.0000,9, -999.00,9,-999.000,9,-999.000,     0.3985,-999.0000,-999.000, -999.00
06AQANTIX_2,       SR04,      77,          1,         16,         16,2,19901205,       2222,   -66.6917,   -30.5933,       4527,   595.8,  34.6791,2,  34.6789,3,   195.9,2,  125.45,2,   33.58,2,    0.00,2,    2.42,3,-999.000,9,-999.0000,9, -999.00,9,-999.000,9,-999.000,     0.2979,-999.0000,-999.000, -999.00
06AQANTIX_2,       SR04,      77,          1,         15,         15,2,19901205,       2222,   -66.6917,   -30.5933,       4527,   795.0,  34.6761,2,  34.6759,3,   205.3,2,  127.14,2,   33.41,2,    0.00,2,    2.41,3,-999.000,9,-999.0000,9, -999.00,9,-999.000,9,-999.000,     0.2100,-999.0000,-999.000, -999.00
06AQANTIX_2,       SR04,      77,          1,         14,         14,2,19901205,       2222,   -66.6917,   -30.5933,       4527,  1195.2,  34.6697,2,  34.6714,3,   212.8,2,  127.32,2,   32.89,2,    0.00,2,    2.38,3,-999.000,9,-999.0000,9, -999.00,9,-999.000,9,-999.000,     0.0491,-999.0000,-999.000, -999.00
06AQANTIX_2,       SR04,      77,          1,         13,         13,2,19901205,       2222,   -66.6917,   -30.5933,       4527,  1597.0,  34.6641,2,  34.6647,3,   222.3,2,  126.76,2,   32.54,2,    0.00,2,    2.36,3,-999.000,9,-999.0000,9, -999.00,9,-999.000,9,-999.000,    -0.0848,-999.0000,-999.000, -999.00
06AQANTIX_2,       SR04,      77,          1,         12,         12,2,19901205,       2222,   -66.6917,   -30.5933,       4527,  1974.7,  34.6601,2,  34.6598,3,   229.2,2,  126.20,2,   32.38,2,    0.01,2,    2.34,3,-999.000,9,-999.0000,9, -999.00,9,-999.000,9,-999.000,    -0.1768,-999.0000,-999.000, -999.00
06AQANTIX_2,       SR04,      77,          1,         11,         11,2,19901205,       2222,   -66.6917,   -30.5933,       4527,  2501.3,  34.6566,2,  34.6570,3,   236.3,2,  125.45,2,   32.15,2,    0.01,2,    2.33,3,-999.000,9,-999.0000,9, -999.00,9,-999.000,9,-999.000,    -0.2538,-999.0000,-999.000, -999.00
06AQANTIX_2,       SR04,      77,          1,          7,          7,2,19901205,       2222,   -66.6917,   -30.5933,       4527,  3002.3,  34.6557,2,  34.6556,3,  -999.0,9,  124.51,2,   32.00,2,    0.00,2,    2.32,3,-999.000,9,-999.0000,9, -999.00,9,-999.000,9,-999.000,    -0.3061,-999.0000,-999.000, -999.00
06AQANTIX_2,       SR04,      77,          1,          8,          8,2,19901205,       2222,   -66.6917,   -30.5933,       4527,  3002.7,  34.6555,2,  34.6556,3,  -999.0,9,  124.51,2,   31.93,2,    0.01,2,    2.33,3,-999.000,9,-999.0000,9, -999.00,9,-999.000,9,-999.000,    -0.3061,-999.0000,-999.000, -999.00
06AQANTIX_2,       SR04,      77,          1,          9,          9,2,19901205,       2222,   -66.6917,   -30.5933,       4527,  3003.1,  34.6551,2,  34.6552,3,  -999.0,9,  124.51,2,   31.93,2,    0.01,2,    2.32,3,-999.000,9,-999.0000,9, -999.00,9,-999.000,9,-999.000,    -0.3059,-999.0000,-999.000, -999.00
06AQANTIX_2,       SR04,      77,          1,         10,         10,2,19901205,       2222,   -66.6917,   -30.5933,       4527,  3003.4,  34.6550,2,  34.6556,3,   236.9,2,  124.70,2,   31.92,2,    0.01,2,    2.33,3,-999.000,9,-999.0000,9, -999.00,9,-999.000,9,-999.000,    -0.3057,-999.0000,-999.000, -999.00
06AQANTIX_2,       SR04,      77,          1,          6,          6,2,19901205,       2222,   -66.6917,   -30.5933,       4527,  3503.3,  34.6525,2,  34.6526,3,   241.8,2,  123.76,2,   31.83,2,    0.00,2,    2.32,3,-999.000,9,-999.0000,9, -999.00,9,-999.000,9,-999.000,    -0.3591,-999.0000,-999.000, -999.00
06AQANTIX_2,       SR04,      77,          1,          5,          5,2,19901205,       2222,   -66.6917,   -30.5933,       4527,  4004.4,  34.6524,2,  34.6506,3,   246.1,2,  124.69,2,   31.78,2,    0.01,2,    2.31,3,-999.000,9,-999.0000,9, -999.00,9,-999.000,9,-999.000,    -0.4023,-999.0000,-999.000, -999.00
06AQANTIX_2,       SR04,      77,          1,          4,          4,2,19901205,       2222,   -66.6917,   -30.5933,       4527,  4504.4,  34.6452,2,  34.6426,3,   251.3,2,  117.39,2,   31.61,2,    0.00,2,    2.29,3,-999.000,9,-999.0000,9, -999.00,9,-999.000,9,-999.000,    -0.5153,-999.0000,-999.000, -999.00
06AQANTIX_2,       SR04,      77,          1,          3,          3,2,19901205,       2222,   -66.6917,   -30.5933,       4527,  4655.6,  34.6436,2,  34.6416,3,   259.1,2,  118.88,2,   31.62,2,    0.01,2,    2.30,3,-999.000,9,-999.0000,9, -999.00,9,-999.000,9,-999.000,    -0.5386,-999.0000,-999.000, -999.00
06AQANTIX_2,       SR04,      77,          1,          2,          2,2,19901205,       2222,   -66.6917,   -30.5933,       4527,  4755.0,  34.6379,2,  34.6346,3,  -999.0,9,  118.51,2,   31.63,2,    0.01,2,    2.29,3,-999.000,9,-999.0000,9, -999.00,9,-999.000,9,-999.000,    -0.5775,-999.0000,-999.000, -999.00
06AQANTIX_2,       SR04,      77,          1,          1,          1,2,19901205,       2222,   -66.6917,   -30.5933,       4527,  4794.0,  34.6363,2,-999.0000,9,   259.6,2,  117.01,2,   31.64,2,    0.01,2,    2.29,3,-999.000,9,-999.0000,9, -999.00,9,-999.000,9,-999.000,    -0.5820,-999.0000,-999.000, -999.00
06AQANTIX_2,       SR04,      78,          1,         24,         24,2,19901206,       0325,   -67.0817,   -30.8633,       4481,     1.7,  34.3480,2,  34.3476,3,   321.0,2,   74.18,2,   28.32,2,    0.18,2,    2.03,3,-999.000,9,-999.0000,9, -999.00,9,-999.000,9,-999.000,    -1.7993,-999.0000,-999.000, -999.00
06AQANTIX_2,       SR04,      78,          1,         23,         23,2,19901206,       0325,   -67.0817,   -30.8633,       4481,    21.4,  34.3561,2,  34.3592,3,   316.8,2,   74.13,2,   28.37,2,    0.18,2,    2.03,3,-999.000,9,-999.0000,9, -999.00,9,-999.000,9,-999.000,    -1.7903,-999.0000,-999.000, -999.00
06AQANTIX_2,       SR04,      78,          1,         22,         22,2,19901206,       0325,   -67.0817,   -30.8633,       4481,    52.0,  34.4618,2,  34.4625,3,  -999.0,9,   73.89,2,   28.60,2,    0.17,2,    2.06,3,-999.000,9,-999.0000,9, -999.00,9,-999.000,9,-999.000,    -1.8183,-999.0000,-999.000, -999.00
06AQANTIX_2,       SR04,      78,          1,         21,         21,2,19901206,       0325,   -67.0817,   -30.8633,       4481,    70.8,  34.4884,2,  34.4895,3,  -999.0,9,   73.47,2,   28.83,2,    0.19,2,    2.06,3,-999.000,9,-999.0000,9, -999.00,9,-999.000,9,-999.000,    -1.8259,-999.0000,-999.000, -999.00
06AQANTIX_2,       SR04,      78,          1,         20,         20,2,19901206,       0325,   -67.0817,   -30.8633,       4481,   103.2,  34.5011,2,  34.5016,3,   306.2,2,   73.98,2,   28.88,2,    0.09,2,    2.07,3,-999.000,9,-999.0000,9, -999.00,9,-999.000,9,-999.000,    -1.7312,-999.0000,-999.000, -999.00
06AQANTIX_2,       SR04,      78,          1,         19,         19,2,19901206,       0325,   -67.0817,   -30.8633,       4481,   251.4,  34.6704,2,  34.6698,3,   209.5,2,  107.81,2,   32.62,2,    0.01,2,    2.33,3,-999.000,9,-999.0000,9, -999.00,9,-999.000,9,-999.000,     0.4058,-999.0000,-999.000, -999.00
06AQANTIX_2,       SR04,      78,          1,         18,         18,2,19901206,       0325,   -67.0817,   -30.8633,       4481,   350.5,  34.6854,2,  34.6848,3,   202.1,2,  114.09,2,   32.68,2,    0.01,2,    2.35,3,-999.000,9,-999.0000,9, -999.00,9,-999.000,9,-999.000,     0.5437,-999.0000,-999.000, -999.00
06AQANTIX_2,       SR04,      78,          1,         17,         17,2,19901206,       0325,   -67.0817,   -30.8633,       4481,   503.3,  34.6847,2,  34.6895,3,   201.8,2,  119.07,2,   32.85,2,    0.01,2,    2.36,3,-999.000,9,-999.0000,9, -999.00,9,-999.000,9,-999.000,     0.4572,-999.0000,-999.000, -999.00
06AQANTIX_2,       SR04,      78,          1,         16,         16,2,19901206,       0325,   -67.0817,   -30.8633,       4481,   749.2,  34.6808,2,  34.6788,3,   204.8,2,  122.38,2,   32.91,2,    0.00,2,    2.38,3,-999.000,9,-999.0000,9, -999.00,9,-999.000,9,-999.000,     0.3268,-999.0000,-999.000, -999.00
06AQANTIX_2,       SR04,      78,          1,         14,         14,2,19901206,       0325,   -67.0817,   -30.8633,       4481,  1397.8,  34.6706,2,  34.6694,3,   218.1,2,  125.13,2,   32.54,2,    0.01,2,    2.35,3,-999.000,9,-999.0000,9, -999.00,9,-999.000,9,-999.000,     0.0655,-999.0000,-999.000, -999.00
06AQANTIX_2,       SR04,      78,          1,         13,         13,2,19901206,       0325,   -67.0817,   -30.8633,       4481,  1698.0,  34.6671,2,  34.6654,3,   223.3,2,  125.08,2,   32.30,2,    0.01,2,    2.35,3,-999.000,9,-999.0000,9, -999.00,9,-999.000,9,-999.000,    -0.0338,-999.0000,-999.000, -999.00
06AQANTIX_2,       SR04,      78,          1,         12,         12,2,19901206,       0325,   -67.0817,   -30.8633,       4481,  2099.8,  34.6621,2,  34.6608,3,   228.6,2,  124.67,2,   32.11,2,    0.01,2,    2.33,3,-999.000,9,-999.0000,9, -999.00,9,-999.000,9,-999.000,    -0.1446,-999.0000,-999.000, -999.00
06AQANTIX_2,       SR04,      78,          1,         11,         11,2,19901206,       0325,   -67.0817,   -30.8633,       4481,  2499.4,  34.6582,2,  34.6576,3,   237.3,2, -999.00,9,   31.93,2,    0.00,2,    2.34,3,-999.000,9,-999.0000,9, -999.00,9,-999.000,9,-999.000,    -0.2228,-999.0000,-999.000, -999.00
06AQANTIX_2,       SR04,      78,          1,          7,          7,2,19901206,       0325,   -67.0817,   -30.8633,       4481,  3000.0,  34.6557,2,  34.6541,3,  -999.0,9,  125.93,2,   31.61,2,    0.01,2,    2.32,3,-999.000,9,-999.0000,9, -999.00,9,-999.000,9,-999.000,    -0.2896,-999.0000,-999.000, -999.00
06AQANTIX_2,       SR04,      78,          1,          8,          8,2,19901206,       0325,   -67.0817,   -30.8633,       4481,  3000.1,  34.6553,2,  34.6532,3,  -999.0,9,  126.16,2,   31.67,2,    0.01,2,    2.32,3,-999.000,9,-999.0000,9, -999.00,9,-999.000,9,-999.000,    -0.2893,-999.0000,-999.000, -999.00
06AQANTIX_2,       SR04,      78,          1,         10,         10,2,19901206,       0325,   -67.0817,   -30.8633,       4481,  3000.2,  34.6553,2,  34.6532,3,  -999.0,9, -999.00,9,   31.68,2,    0.00,2,    2.32,3,-999.000,9,-999.0000,9, -999.00,9,-999.000,9,-999.000,    -0.2893,-999.0000,-999.000, -999.00
06AQANTIX_2,       SR04,      78,          1,          9,          9,2,19901206,       0325,   -67.0817,   -30.8633,       4481,  3000.2,  34.6554,2,  34.6543,3,   238.2,2,  126.21,2,   31.68,2,    0.01,2,    2.32,3,-999.000,9,-999.0000,9, -999.00,9,-999.000,9,-999.000,    -0.2894,-999.0000,-999.000, -999.00
06AQANTIX_2,       SR04,      78,          1,          6,          6,2,19901206,       0325,   -67.0817,   -30.8633,       4481,  3502.0,  34.6531,2,  34.6523,3,   242.4,2,  125.70,2,   31.48,2,    0.01,2,    2.31,3,-999.000,9,-999.0000,9, -999.00,9,-999.000,9,-999.000,    -0.3364,-999.0000,-999.000, -999.00
06AQANTIX_2,       SR04,      78,          1,          5,          5,2,19901206,       0325,   -67.0817,   -30.8633,       4481,  4003.3,  34.6543,2,  34.6510,3,   246.2,2,  126.77,2,   31.35,2,    0.01,2,    2.30,3,-999.000,9,-999.0000,9, -999.00,9,-999.000,9,-999.000,    -0.3644,-999.0000,-999.000, -999.00
06AQANTIX_2,       SR04,      78,          1,          4,          4,2,19901206,       0325,   -67.0817,   -30.8633,       4481,  4202.6,  34.6541,2,  34.6510,3,   246.7,2,  127.47,2,   31.29,2,    0.00,2,    2.31,3,-999.000,9,-999.0000,9, -999.00,9,-999.000,9,-999.000,    -0.3717,-999.0000,-999.000, -999.00
06AQANTIX_2,       SR04,      78,          1,          3,          3,2,19901206,       0325,   -67.0817,   -30.8633,       4481,  4391.5,  34.6533,2,  34.6503,3,   246.6,2,  126.87,2,   31.22,2,    0.01,2,    2.30,3,-999.000,9,-999.0000,9, -999.00,9,-999.000,9,-999.000,    -0.3858,-999.0000,-999.000, -999.00
06AQANTIX_2,       SR04,      78,          1,          2,          2,2,19901206,       0325,   -67.0817,   -30.8633,       4481,  4603.2,  34.6512,2,  34.6501,3,  -999.0,9,  127.01,2,   31.28,2,    0.01,2,    2.31,3,-999.000,9,-999.0000,9, -999.00,9,-999.000,9,-999.000,    -0.4502,-999.0000,-999.000, -999.00
06AQANTIX_2,       SR04,      78,          1,          1,          1,2,19901206,       0325,   -67.0817,   -30.8633,       4481,  4744.0,  34.6441,2,-999.0000,9,   248.3,2,  131.81,2,   31.33,2,    0.01,2,    2.33,3,-999.000,9,-999.0000,9, -999.00,9,-999.000,9,-999.000,    -0.4980,-999.0000,-999.000, -999.00