BOTTLE,20220818CCHSIOAMB
EXPOCODE,SECT_ID,STNNBR,CASTNO,SAMPNO,BTLNBR,BTLNBR_FLAG_W,DATE,TIME,LATITUDE,LONGITUDE,DEPTH,CTDPRS,CTDSAL,CTDSAL_FLAG_W,SALNTY,SALNTY_FLAG_W,OXYGEN,OXYGEN_FLAG_W,SILCAT,SILCAT_FLAG_W,NITRAT,NITRAT_FLAG_W,NITRIT,NITRIT_FLAG_W,PHSPHT,PHSPHT_FLAG_W,TRITUM,TRITUM_FLAG_W,HELIUM,HELIUM_FLAG_W,DELHE3,DELHE3_FLAG_W,NEON,NEON_FLAG_W,NEONER,CTDTMP,HELIER,TRITER,DELHER
,,,,,,,,,,,METERS,DBAR,PSS-78,,PSS-78,,UMOL/KG,,UMOL/KG,,UMOL/KG,,UMOL/KG,,UMOL/KG,,TU,,NMOL/KG,,PERCNT,,NMOL/KG,,NMOL/KG,IPTS-68,NMOL/KG,TU,PERCNT
06AQANTIX_2,       SR04,      45,          1,         24,         24,2,19901123,       1525,   -63.8667,   -50.0183,       2774,     1.5,  34.3567,2,  34.3550,3,  -999.0,9,   79.23,2,   30.40,2,    0.05,2,    2.06,2,-999.000,9,-999.0000,9, -999.00,9,-999.000,9,-999.000,    -1.7821,-999.0000,-999.000, -999.00
06AQANTIX_2,       SR04,      45,          1,         23,         23,2,19901123,       1525,   -63.8667,   -50.0183,       2774,    17.8,  34.3653,2,  34.3661,3,  -999.0,9,   79.56,2,   30.45,2,    0.04,2,    2.08,2,-999.000,9,-999.0000,9, -999.00,9,-999.000,9,-999.000,    -1.8048,-999.0000,-999.000, -999.00
06AQANTIX_2,       SR04,      45,          1,         22,         22,2,19901123,       1525,   -63.8667,   -50.0183,       2774,    29.3,  34.3710,2,  34.3732,3,  -999.0,9,   79.73,2,   30.45,2,    0.04,2,    2.07,2,-999.000,9,-999.0000,9, -999.00,9,-999.000,9,-999.000,    -1.8077,-999.0000,-999.000, -999.00
06AQANTIX_2,       SR04,      45,          1,         21,         21,2,19901123,       1525,   -63.8667,   -50.0183,       2774,    46.3,  34.3749,2,  34.3714,3,  -999.0,9,   79.74,2,   30.49,2,    0.04,2,    2.07,2,-999.000,9,-999.0000,9, -999.00,9,-999.000,9,-999.000,    -1.8116,-999.0000,-999.000, -999.00
06AQANTIX_2,       SR04,      45,          1,         20,         20,2,19901123,       1525,   -63.8667,   -50.0183,       2774,    71.1,  34.4022,2,  34.3995,3,  -999.0,9,   80.69,2,   30.54,2,    0.04,2,    2.09,2,-999.000,9,-999.0000,9, -999.00,9,-999.000,9,-999.000,    -1.8193,-999.0000,-999.000, -999.00
06AQANTIX_2,       SR04,      45,          1,         18,         18,2,19901123,       1525,   -63.8667,   -50.0183,       2774,   100.6,  34.4307,2,  34.4272,3,  -999.0,9,   80.40,2,   30.77,2,    0.03,2,    2.08,2,-999.000,9,-999.0000,9, -999.00,9,-999.000,9,-999.000,    -1.8099,-999.0000,-999.000, -999.00
06AQANTIX_2,       SR04,      45,          1,         19,         19,2,19901123,       1525,   -63.8667,   -50.0183,       2774,   100.7,  34.4309,2,-999.0000,9,  -999.0,9,   80.39,2,   30.63,2,    0.02,2,    2.08,2,-999.000,9,-999.0000,9, -999.00,9,-999.000,9,-999.000,    -1.8109,-999.0000,-999.000, -999.00
06AQANTIX_2,       SR04,      45,          1,         16,         16,2,19901123,       1525,   -63.8667,   -50.0183,       2774,   120.6,  34.4416,2,  34.4397,3,  -999.0,9,   82.16,2,   30.77,2,    0.02,2,    2.09,2,-999.000,9,-999.0000,9, -999.00,9,-999.000,9,-999.000,    -1.7522,-999.0000,-999.000, -999.00
06AQANTIX_2,       SR04,      45,          1,         17,         17,2,19901123,       1525,   -63.8667,   -50.0183,       2774,   120.7,  34.4412,2,-999.0000,9,  -999.0,9,   82.30,2,   30.77,2,    0.01,2,    2.09,2,-999.000,9,-999.0000,9, -999.00,9,-999.000,9,-999.000,    -1.7518,-999.0000,-999.000, -999.00
06AQANTIX_2,       SR04,      45,          1,         15,         15,2,19901123,       1525,   -63.8667,   -50.0183,       2774,   150.3,  34.4647,2,-999.0000,9,  -999.0,9,   83.11,2,   30.96,2,    0.02,2,    2.11,2,-999.000,9,-999.0000,9, -999.00,9,-999.000,9,-999.000,    -1.5437,-999.0000,-999.000, -999.00
06AQANTIX_2,       SR04,      45,          1,         14,         14,2,19901123,       1525,   -63.8667,   -50.0183,       2774,   150.3,  34.4642,2,  34.4637,3,  -999.0,9,   83.12,2,   30.96,2,    0.02,2,    2.10,2,-999.000,9,-999.0000,9, -999.00,9,-999.000,9,-999.000,    -1.5393,-999.0000,-999.000, -999.00
06AQANTIX_2,       SR04,      45,          1,         13,         13,2,19901123,       1525,   -63.8667,   -50.0183,       2774,   159.9,  34.4793,2,-999.0000,9,  -999.0,9,   84.71,2,   31.10,2,    0.02,2,    2.11,2,-999.000,9,-999.0000,9, -999.00,9,-999.000,9,-999.000,    -1.3971,-999.0000,-999.000, -999.00
06AQANTIX_2,       SR04,      45,          1,         12,         12,2,19901123,       1525,   -63.8667,   -50.0183,       2774,   159.9,  34.4801,2,  34.4792,3,  -999.0,9,   84.72,2,   31.09,2,    0.02,2,    2.12,2,-999.000,9,-999.0000,9, -999.00,9,-999.000,9,-999.000,    -1.3969,-999.0000,-999.000, -999.00
06AQANTIX_2,       SR04,      45,          1,         11,         11,2,19901123,       1525,   -63.8667,   -50.0183,       2774,   173.8,  34.5047,2,-999.0000,9,  -999.0,9,   86.79,2,   31.28,2,    0.01,2,    2.14,2,-999.000,9,-999.0000,9, -999.00,9,-999.000,9,-999.000,    -1.2123,-999.0000,-999.000, -999.00
06AQANTIX_2,       SR04,      45,          1,         10,         10,2,19901123,       1525,   -63.8667,   -50.0183,       2774,   173.8,  34.5035,2,  34.5085,3,  -999.0,9,   86.96,2,   31.28,2,    0.01,2,    2.20,2,-999.000,9,-999.0000,9, -999.00,9,-999.000,9,-999.000,    -1.2060,-999.0000,-999.000, -999.00
06AQANTIX_2,       SR04,      45,          1,          9,          9,2,19901123,       1525,   -63.8667,   -50.0183,       2774,   296.9,  34.6620,2,-999.0000,9,  -999.0,9,  104.03,2,   32.52,2,    0.01,2,    2.25,2,-999.000,9,-999.0000,9, -999.00,9,-999.000,9,-999.000,     0.4133,-999.0000,-999.000, -999.00
06AQANTIX_2,       SR04,      45,          1,          8,          8,2,19901123,       1525,   -63.8667,   -50.0183,       2774,   296.9,  34.6622,2,  34.6634,3,  -999.0,9,  104.05,2,   32.52,2,    0.01,2,    2.25,2,-999.000,9,-999.0000,9, -999.00,9,-999.000,9,-999.000,     0.4152,-999.0000,-999.000, -999.00
06AQANTIX_2,       SR04,      45,          1,          7,          7,2,19901123,       1525,   -63.8667,   -50.0183,       2774,   496.1,  34.6683,2,  34.6700,3,  -999.0,9,  108.64,2,   32.80,2,    0.00,2,    2.27,2,-999.000,9,-999.0000,9, -999.00,9,-999.000,9,-999.000,     0.3459,-999.0000,-999.000, -999.00
06AQANTIX_2,       SR04,      45,          1,          6,          6,2,19901123,       1525,   -63.8667,   -50.0183,       2774,   794.7,  34.6841,2,  34.6870,3,  -999.0,9,  118.46,2,   33.18,2,    0.01,2,    2.29,2,-999.000,9,-999.0000,9, -999.00,9,-999.000,9,-999.000,     0.4224,-999.0000,-999.000, -999.00
06AQANTIX_2,       SR04,      45,          1,          5,          5,2,19901123,       1525,   -63.8667,   -50.0183,       2774,   994.6,  34.6817,2,  34.6805,3,  -999.0,9,  121.95,2,   33.32,2,    0.01,2,    2.31,2,-999.000,9,-999.0000,9, -999.00,9,-999.000,9,-999.000,     0.3280,-999.0000,-999.000, -999.00
06AQANTIX_2,       SR04,      45,          1,          4,          4,2,19901123,       1525,   -63.8667,   -50.0183,       2774,  1495.5,  34.6723,2,  34.6705,3,  -999.0,9,  124.02,2,   32.94,2,    0.00,2,    2.30,2,-999.000,9,-999.0000,9, -999.00,9,-999.000,9,-999.000,     0.0929,-999.0000,-999.000, -999.00
06AQANTIX_2,       SR04,      45,          1,          3,          3,2,19901123,       1525,   -63.8667,   -50.0183,       2774,  1995.6,  34.6643,2,  34.6619,3,  -999.0,9,  123.40,2,   32.60,2,    0.00,2,    2.26,2,-999.000,9,-999.0000,9, -999.00,9,-999.000,9,-999.000,    -0.1135,-999.0000,-999.000, -999.00
06AQANTIX_2,       SR04,      45,          1,          2,          2,2,19901123,       1525,   -63.8667,   -50.0183,       2774,  2503.1,  34.6597,2,  34.6561,3,  -999.0,9,  120.72,2,   32.45,2,    0.00,2,    2.26,2,-999.000,9,-999.0000,9, -999.00,9,-999.000,9,-999.000,    -0.2633,-999.0000,-999.000, -999.00
06AQANTIX_2,       SR04,      45,          1,          1,          1,2,19901123,       1525,   -63.8667,   -50.0183,       2774,  2919.8,  34.6222,2,-999.0000,9,  -999.0,9,   86.57,2,   31.26,2,    0.00,2,    2.16,2,-999.000,9,-999.0000,9, -999.00,9,-999.000,9,-999.000,    -0.9849,-999.0000,-999.000, -999.00
06AQANTIX_2,       SR04,      46,          1,         24,         24,2,19901124,       0111,     -63.95,   -49.1533,       3367,     1.5,  34.3145,2,  34.3144,3,  -999.0,9,   87.95,2,   29.87,2,    0.05,2,    2.10,2,-999.000,9,-999.0000,9, -999.00,9,-999.000,9,-999.000,    -1.7800,-999.0000,-999.000, -999.00
06AQANTIX_2,       SR04,      46,          1,         23,         23,2,19901124,       0111,     -63.95,   -49.1533,       3367,    12.6,  34.3163,2,  34.3143,3,   312.7,2,   87.79,2,   29.81,2,    0.04,2,    2.10,2,-999.000,9,   1.8200,2,    1.54,2,   8.123,2,   0.024,    -1.7812,   0.0050,-999.000,    0.20
06AQANTIX_2,       SR04,      46,          1,         22,         22,2,19901124,       0111,     -63.95,   -49.1533,       3367,    38.7,  34.3292,2,-999.0000,9,   284.0,2,   87.95,2,   29.92,2,    0.04,2,    2.10,2,   0.178,2,-999.0000,1, -999.00,1,-999.000,1,-999.000,    -1.7861,-999.0000,   0.007, -999.00
06AQANTIX_2,       SR04,      46,          1,         21,         21,2,19901124,       0111,     -63.95,   -49.1533,       3367,    82.2,  34.4126,2,  34.4190,3,   278.4,2,   88.74,2,   30.20,2,    0.01,2,    2.13,2,-999.000,9,-999.0000,9, -999.00,9,-999.000,9,-999.000,    -1.6914,-999.0000,-999.000, -999.00
06AQANTIX_2,       SR04,      46,          1,         20,         20,2,19901124,       0111,     -63.95,   -49.1533,       3367,   134.0,  34.5403,2,  34.5476,3,   242.0,2,   96.74,2,   31.42,2,    0.00,2,    2.22,2,   0.138,2,-999.0000,1, -999.00,1,-999.000,1,-999.000,    -0.7724,-999.0000,   0.005, -999.00
06AQANTIX_2,       SR04,      46,          1,         19,         19,2,19901124,       0111,     -63.95,   -49.1533,       3367,   299.5,  34.6666,2,  34.6644,3,   209.3,2,  110.17,2,   32.47,2,    0.00,2,    2.30,2,   0.081,2,-999.0000,1, -999.00,1,-999.000,1,-999.000,     0.2741,-999.0000,   0.005, -999.00
06AQANTIX_2,       SR04,      46,          1,         18,         18,2,19901124,       0111,     -63.95,   -49.1533,       3367,   398.9,  34.6700,2,  34.6678,3,   207.3,2,  112.25,2,   32.63,2,    0.00,2,    2.31,2,   0.057,2,   1.8450,2,    7.41,2,   8.055,2,   0.024,     0.2887,   0.0050,   0.004,    0.20
06AQANTIX_2,       SR04,      46,          1,         17,         17,2,19901124,       0111,     -63.95,   -49.1533,       3367,   500.8,  34.6779,2,  34.6785,3,   201.8,2,  115.94,2,   32.73,2,    0.00,2,    2.32,2,   0.053,2,-999.0000,1, -999.00,1,-999.000,1,-999.000,     0.3624,-999.0000,   0.004, -999.00
06AQANTIX_2,       SR04,      46,          1,         16,         16,2,19901124,       0111,     -63.95,   -49.1533,       3367,   602.0,  34.6818,2,  34.6825,3,   203.9,2,  118.98,2,   32.89,2,    0.00,2,    2.33,2,   0.046,2,   1.8400,2,    7.66,2,   8.131,3,   0.024,     0.3896,   0.0050,   0.003,    0.20
06AQANTIX_2,       SR04,      46,          1,         15,         15,2,19901124,       0111,     -63.95,   -49.1533,       3367,   697.9,  34.6821,2,  34.6803,3,   204.2,2,  120.58,2,   32.94,2,    0.00,2,    2.34,2,   0.049,2,-999.0000,1, -999.00,1,-999.000,1,-999.000,     0.3612,-999.0000,   0.003, -999.00
06AQANTIX_2,       SR04,      46,          1,         14,         14,2,19901124,       0111,     -63.95,   -49.1533,       3367,   995.4,  34.6777,2,  34.6776,3,   211.3,2,  123.62,2,   32.87,2,    0.00,2,    2.33,2,-999.000,9,-999.0000,9, -999.00,9,-999.000,9,-999.000,     0.2280,-999.0000,-999.000, -999.00
06AQANTIX_2,       SR04,      46,          1,         13,         13,2,19901124,       0111,     -63.95,   -49.1533,       3367,  1193.5,  34.6745,2,  34.6731,3,   214.5,2,  124.42,2,   32.80,2,    0.01,2,    2.32,2,-999.000,9,-999.0000,9, -999.00,9,-999.000,9,-999.000,     0.1409,-999.0000,-999.000, -999.00
06AQANTIX_2,       SR04,      46,          1,         12,         12,2,19901124,       0111,     -63.95,   -49.1533,       3367,  1397.1,  34.6703,2,  34.6781,3,  -999.0,9,  124.74,2,   32.68,2,    0.00,2,    2.32,2,   0.049,2,   1.8790,3,    6.90,2,   8.164,2,   0.024,     0.0449,   0.0060,   0.003,    0.20
06AQANTIX_2,       SR04,      46,          1,         11,         11,2,19901124,       0111,     -63.95,   -49.1533,       3367,  1797.1,  34.6657,2,  34.6731,3,  -999.0,9,  125.06,2,   32.56,2,    0.00,2,    2.30,2,-999.000,9,-999.0000,9, -999.00,9,-999.000,9,-999.000,    -0.0958,-999.0000,-999.000, -999.00
06AQANTIX_2,       SR04,      46,          1,         10,         10,2,19901124,       0111,     -63.95,   -49.1533,       3367,  2098.6,  34.6630,2,  34.6708,3,  -999.0,9,  124.42,2,   32.50,2,    0.00,2,    2.29,2,-999.000,9,-999.0000,9, -999.00,9,-999.000,9,-999.000,    -0.1687,-999.0000,-999.000, -999.00
06AQANTIX_2,       SR04,      46,          1,          9,          9,2,19901124,       0111,     -63.95,   -49.1533,       3367,  2299.6,  34.6620,2,  34.6691,3,   232.8,2,  123.94,2,   32.49,2,    0.01,2,    2.29,2,-999.000,9,   1.8630,2,    5.92,2,   8.148,2,   0.024,    -0.2076,   0.0060,-999.000,    0.20
06AQANTIX_2,       SR04,      46,          1,          8,          8,2,19901124,       0111,     -63.95,   -49.1533,       3367,  2584.5,  34.6614,2,  34.6681,3,   235.8,2,  123.62,2,   32.36,2,    0.01,2,    2.28,2,-999.000,9,-999.0000,9, -999.00,9,-999.000,9,-999.000,    -0.2527,-999.0000,-999.000, -999.00
06AQANTIX_2,       SR04,      46,          1,          7,          7,2,19901124,       0111,     -63.95,   -49.1533,       3367,  2879.8,  34.6605,2,  34.6671,3,   238.8,2,  123.30,2,   32.35,2,    0.01,2,    2.28,2,-999.000,9,-999.0000,9, -999.00,9,-999.000,9,-999.000,    -0.2817,-999.0000,-999.000, -999.00
06AQANTIX_2,       SR04,      46,          1,          6,          6,2,19901124,       0111,     -63.95,   -49.1533,       3367,  3181.0,  34.6581,2,  34.6650,3,  -999.0,9,  123.14,2,   32.34,2,    0.01,2,    2.28,2,   0.073,2,   1.8800,2, -999.00,1,   8.230,2,   0.033,    -0.3081,   0.0070,   0.004, -999.00
06AQANTIX_2,       SR04,      46,          1,          5,          5,2,19901124,       0111,     -63.95,   -49.1533,       3367,  3330.4,  34.6524,2,  34.6581,3,   262.7,2,  117.54,2,   32.11,2,    0.01,2,    2.26,2,   0.071,2,   1.8760,2,    5.15,2,   8.205,2,   0.025,    -0.3794,   0.0060,   0.003,    0.20
06AQANTIX_2,       SR04,      46,          1,          4,          4,2,19901124,       0111,     -63.95,   -49.1533,       3367,  3443.6,  34.6413,2,  34.6423,3,  -999.0,9,  106.34,2,   31.78,2,    0.02,2,    2.23,2,   0.102,2,   1.8360,3,    3.08,2,   8.074,3,   0.040,    -0.5525,   0.0090,   0.005,    0.20
06AQANTIX_2,       SR04,      46,          1,          3,          3,2,19901124,       0111,     -63.95,   -49.1533,       3367,  3502.0,  34.6300,2,  34.6348,3,  -999.0,9,   97.05,2,   31.44,2,    0.01,2,    2.19,2,-999.000,9,   1.8830,2,    2.39,2,   8.272,2,   0.025,    -0.7300,   0.0060,-999.000,    0.20
06AQANTIX_2,       SR04,      46,          1,          2,          2,2,19901124,       0111,     -63.95,   -49.1533,       3367,  3537.4,  34.6262,2,  34.6317,3,  -999.0,9,   91.61,2,   31.27,2,    0.02,2,    2.18,2,-999.000,9,-999.0000,9, -999.00,9,-999.000,9,-999.000,    -0.8357,-999.0000,-999.000, -999.00
06AQANTIX_2,       SR04,      46,          1,          1,          1,2,19901124,       0111,     -63.95,   -49.1533,       3367,  3537.6,  34.6260,2,  34.6311,3,   270.1,2,   91.45,2,   31.31,2,    0.02,2,    2.18,2,   0.094,2,-999.0000,1, -999.00,1,-999.000,1,-999.000,    -0.8361,-999.0000,   0.005, -999.00