BOTTLE,20220818CCHSIOAMB
EXPOCODE,SECT_ID,STNNBR,CASTNO,SAMPNO,BTLNBR,BTLNBR_FLAG_W,DATE,TIME,LATITUDE,LONGITUDE,DEPTH,CTDPRS,CTDSAL,CTDSAL_FLAG_W,SALNTY,SALNTY_FLAG_W,OXYGEN,OXYGEN_FLAG_W,SILCAT,SILCAT_FLAG_W,NITRAT,NITRAT_FLAG_W,NITRIT,NITRIT_FLAG_W,PHSPHT,PHSPHT_FLAG_W,TRITUM,TRITUM_FLAG_W,HELIUM,HELIUM_FLAG_W,DELHE3,DELHE3_FLAG_W,NEON,NEON_FLAG_W,NEONER,CTDTMP,HELIER,TRITER,DELHER
,,,,,,,,,,,METERS,DBAR,PSS-78,,PSS-78,,UMOL/KG,,UMOL/KG,,UMOL/KG,,UMOL/KG,,UMOL/KG,,TU,,NMOL/KG,,PERCNT,,NMOL/KG,,NMOL/KG,IPTS-68,NMOL/KG,TU,PERCNT
06AQANTIX_2,       SR04,      93,          1,         24,         24,2,19901210,       0511,   -68.5533,   -18.6183,       4567,     1.6,  34.3589,2,  34.3716,3,   314.0,2,   68.90,2,   28.71,2,    0.21,2,    1.92,2,-999.000,9,-999.0000,9, -999.00,9,-999.000,9,-999.000,    -1.8285,-999.0000,-999.000, -999.00
06AQANTIX_2,       SR04,      93,          1,         23,         23,2,19901210,       0511,   -68.5533,   -18.6183,       4567,    20.1,  34.3670,2,  34.3751,3,   315.3,2,   68.94,2,   28.77,2,    0.22,2,    1.92,2,-999.000,9,-999.0000,9, -999.00,9,-999.000,9,-999.000,    -1.8391,-999.0000,-999.000, -999.00
06AQANTIX_2,       SR04,      93,          1,         22,         22,2,19901210,       0511,   -68.5533,   -18.6183,       4567,    44.9,  34.3728,2,  34.3827,3,   315.0,2,   68.98,2,   28.82,2,    0.21,2,    1.93,2,-999.000,9,-999.0000,9, -999.00,9,-999.000,9,-999.000,    -1.8408,-999.0000,-999.000, -999.00
06AQANTIX_2,       SR04,      93,          1,         21,         21,2,19901210,       0511,   -68.5533,   -18.6183,       4567,    65.5,  34.4234,2,  34.4405,3,   308.2,2,   69.78,2,   29.12,2,    0.20,2,    1.96,2,-999.000,9,-999.0000,9, -999.00,9,-999.000,9,-999.000,    -1.7983,-999.0000,-999.000, -999.00
06AQANTIX_2,       SR04,      93,          1,         20,         20,2,19901210,       0511,   -68.5533,   -18.6183,       4567,   100.7,  34.4674,2,  34.5027,3,   282.7,2,   76.89,2,   30.08,2,    0.15,2,    2.02,2,-999.000,9,-999.0000,9, -999.00,9,-999.000,9,-999.000,    -1.4416,-999.0000,-999.000, -999.00
06AQANTIX_2,       SR04,      93,          1,         19,         19,2,19901210,       0511,   -68.5533,   -18.6183,       4567,   201.6,  34.6701,2,  34.6778,3,  -999.0,9,  102.92,2,   32.62,2,    0.00,2,    2.21,2,-999.000,9,-999.0000,9, -999.00,9,-999.000,9,-999.000,     0.7199,-999.0000,-999.000, -999.00
06AQANTIX_2,       SR04,      93,          1,         18,         18,2,19901210,       0511,   -68.5533,   -18.6183,       4567,   301.1,  34.6911,2,  34.6973,3,   199.0,2,  108.72,2,   32.37,2,    0.00,2,    2.21,2,-999.000,9,-999.0000,9, -999.00,9,-999.000,9,-999.000,     0.8020,-999.0000,-999.000, -999.00
06AQANTIX_2,       SR04,      93,          1,         17,         17,2,19901210,       0511,   -68.5533,   -18.6183,       4567,   499.8,  34.6913,2,  34.6978,3,  -999.0,9,  116.25,2,   32.48,2,    0.02,2,    2.22,2,-999.000,9,-999.0000,9, -999.00,9,-999.000,9,-999.000,     0.6090,-999.0000,-999.000, -999.00
06AQANTIX_2,       SR04,      93,          1,         16,         16,2,19901210,       0511,   -68.5533,   -18.6183,       4567,   750.7,  34.6850,2,  34.6908,3,   204.0,2,  121.87,2,   32.90,2,    0.01,2,    2.25,2,-999.000,9,-999.0000,9, -999.00,9,-999.000,9,-999.000,     0.4098,-999.0000,-999.000, -999.00
06AQANTIX_2,       SR04,      93,          1,         15,         15,2,19901210,       0511,   -68.5533,   -18.6183,       4567,   998.6,  34.6803,2,  34.6857,3,   208.1,2,  125.20,2,   33.07,2,    0.01,2,    2.26,2,-999.000,9,-999.0000,9, -999.00,9,-999.000,9,-999.000,     0.2871,-999.0000,-999.000, -999.00
06AQANTIX_2,       SR04,      93,          1,         14,         14,2,19901210,       0511,   -68.5533,   -18.6183,       4567,  1499.9,  34.6714,2,  34.6754,3,   217.4,2,  126.80,2,   32.70,2,    0.00,2,    2.24,2,-999.000,9,-999.0000,9, -999.00,9,-999.000,9,-999.000,     0.0860,-999.0000,-999.000, -999.00
06AQANTIX_2,       SR04,      93,          1,         13,         13,2,19901210,       0511,   -68.5533,   -18.6183,       4567,  1999.5,  34.6651,2,  34.6719,3,   227.1,2,  126.88,2,   32.45,2,    0.01,2,    2.23,2,-999.000,9,-999.0000,9, -999.00,9,-999.000,9,-999.000,    -0.0763,-999.0000,-999.000, -999.00
06AQANTIX_2,       SR04,      93,          1,         12,         12,2,19901210,       0511,   -68.5533,   -18.6183,       4567,  2501.9,  34.6599,2,  34.6675,3,   233.0,2,  126.37,2,   32.26,2,    0.00,2,    2.21,2,-999.000,9,-999.0000,9, -999.00,9,-999.000,9,-999.000,    -0.1910,-999.0000,-999.000, -999.00
06AQANTIX_2,       SR04,      93,          1,          9,          9,2,19901210,       0511,   -68.5533,   -18.6183,       4567,  3002.6,  34.6583,2,  34.6648,3,  -999.0,9,  125.51,2,   32.04,2,    0.01,2,    2.20,2,-999.000,9,-999.0000,9, -999.00,9,-999.000,9,-999.000,    -0.2641,-999.0000,-999.000, -999.00
06AQANTIX_2,       SR04,      93,          1,         10,         10,2,19901210,       0511,   -68.5533,   -18.6183,       4567,  3003.7,  34.6576,2,  34.6649,3,   238.3,2,  125.56,2,   32.06,2,    0.00,2,    2.20,2,-999.000,9,-999.0000,9, -999.00,9,-999.000,9,-999.000,    -0.2640,-999.0000,-999.000, -999.00
06AQANTIX_2,       SR04,      93,          1,         11,         11,2,19901210,       0511,   -68.5533,   -18.6183,       4567,  3004.4,  34.6573,2,  34.6649,3,  -999.0,9,  125.68,2,   32.06,2,    0.01,2,    2.21,2,-999.000,9,-999.0000,9, -999.00,9,-999.000,9,-999.000,    -0.2640,-999.0000,-999.000, -999.00
06AQANTIX_2,       SR04,      93,          1,          8,          8,2,19901210,       0511,   -68.5533,   -18.6183,       4567,  3502.6,  34.6555,2,  34.6616,3,   244.8,2,  125.20,2,   31.85,2,    0.01,2,    2.20,2,-999.000,9,-999.0000,9, -999.00,9,-999.000,9,-999.000,    -0.3146,-999.0000,-999.000, -999.00
06AQANTIX_2,       SR04,      93,          1,          7,          7,2,19901210,       0511,   -68.5533,   -18.6183,       4567,  3802.1,  34.6535,2,  34.6604,3,   246.4,2,  125.66,2,   31.84,2,    0.01,2,    2.20,2,-999.000,9,-999.0000,9, -999.00,9,-999.000,9,-999.000,    -0.3375,-999.0000,-999.000, -999.00
06AQANTIX_2,       SR04,      93,          1,          6,          6,2,19901210,       0511,   -68.5533,   -18.6183,       4567,  3999.8,  34.6523,2,  34.6620,3,  -999.0,9,  126.50,2,   31.89,2,    0.01,2,    2.21,2,-999.000,9,-999.0000,9, -999.00,9,-999.000,9,-999.000,    -0.3476,-999.0000,-999.000, -999.00
06AQANTIX_2,       SR04,      93,          1,          5,          5,2,19901210,       0511,   -68.5533,   -18.6183,       4567,  4201.1,  34.6534,2,  34.6596,3,   246.6,2,  127.54,2,   31.94,2,    0.01,2,    2.21,2,-999.000,9,-999.0000,9, -999.00,9,-999.000,9,-999.000,    -0.3531,-999.0000,-999.000, -999.00
06AQANTIX_2,       SR04,      93,          1,          4,          4,2,19901210,       0511,   -68.5533,   -18.6183,       4567,  4502.0,  34.6534,2,  34.6586,3,   248.8,2,  126.45,2,   31.81,2,    0.01,2,    2.20,2,-999.000,9,-999.0000,9, -999.00,9,-999.000,9,-999.000,    -0.3794,-999.0000,-999.000, -999.00
06AQANTIX_2,       SR04,      93,          1,          3,          3,2,19901210,       0511,   -68.5533,   -18.6183,       4567,  4702.3,  34.6508,2,  34.6572,3,  -999.0,9,  125.17,2,   31.86,2,    0.00,2,    2.21,2,-999.000,9,-999.0000,9, -999.00,9,-999.000,9,-999.000,    -0.4433,-999.0000,-999.000, -999.00
06AQANTIX_2,       SR04,      93,          1,          2,          2,2,19901210,       0511,   -68.5533,   -18.6183,       4567,  4798.7,  34.6483,2,  34.6545,3,  -999.0,9,  129.69,2,   31.85,2,    0.01,2,    2.21,2,-999.000,9,-999.0000,9, -999.00,9,-999.000,9,-999.000,    -0.4656,-999.0000,-999.000, -999.00
06AQANTIX_2,       SR04,      93,          1,          1,          1,2,19901210,       0511,   -68.5533,   -18.6183,       4567,  4828.0,  34.6468,2,-999.0000,9,   249.6,2,  130.15,2,   32.09,2,    0.01,2,    2.22,2,-999.000,9,-999.0000,9, -999.00,9,-999.000,9,-999.000,    -0.4650,-999.0000,-999.000, -999.00
06AQANTIX_2,       SR04,      94,          1,         23,         23,2,19901210,       1437,   -68.8333,      -17.9,       4586,    10.0,  34.3586,2,  34.3579,3,   310.3,2,   69.72,2,   28.90,2,    0.23,2,    2.00,2,-999.000,9,-999.0000,9, -999.00,9,-999.000,9,-999.000,    -1.8423,-999.0000,-999.000, -999.00
06AQANTIX_2,       SR04,      94,          1,         22,         22,2,19901210,       1437,   -68.8333,      -17.9,       4586,    23.4,  34.3587,2,  34.3572,3,   312.8,2,   69.91,2,   28.95,2,    0.22,2,    2.00,2,-999.000,9,-999.0000,9, -999.00,9,-999.000,9,-999.000,    -1.8426,-999.0000,-999.000, -999.00
06AQANTIX_2,       SR04,      94,          1,         21,         21,2,19901210,       1437,   -68.8333,      -17.9,       4586,    36.7,  34.3609,2,  34.3581,3,   310.7,2,   69.91,2,   29.00,2,    0.22,2,    2.01,2,-999.000,9,-999.0000,9, -999.00,9,-999.000,9,-999.000,    -1.8424,-999.0000,-999.000, -999.00
06AQANTIX_2,       SR04,      94,          1,         20,         20,2,19901210,       1437,   -68.8333,      -17.9,       4586,    59.0,  34.3954,2,-999.0000,9,   316.0,2,   69.72,2,   29.10,2,    0.22,2,    2.03,2,-999.000,9,-999.0000,9, -999.00,9,-999.000,9,-999.000,    -1.8176,-999.0000,-999.000, -999.00
06AQANTIX_2,       SR04,      94,          1,         19,         19,2,19901210,       1437,   -68.8333,      -17.9,       4586,    88.6,  34.4374,2,  34.4356,3,   308.7,2,   70.09,2,   29.05,2,    0.20,2,    2.07,2,-999.000,9,-999.0000,9, -999.00,9,-999.000,9,-999.000,    -1.7445,-999.0000,-999.000, -999.00
06AQANTIX_2,       SR04,      94,          1,         18,         18,2,19901210,       1437,   -68.8333,      -17.9,       4586,   131.7,  34.4761,2,-999.0000,9,   281.3,2,   79.62,2,   30.42,2,    0.15,2,    2.16,2,-999.000,9,-999.0000,9, -999.00,9,-999.000,9,-999.000,    -1.4120,-999.0000,-999.000, -999.00
06AQANTIX_2,       SR04,      94,          1,         17,         17,2,19901210,       1437,   -68.8333,      -17.9,       4586,   200.1,  34.6402,2,-999.0000,9,  -999.0,9,   99.97,2,   32.49,2,    0.03,2,    2.31,2,-999.000,9,-999.0000,9, -999.00,9,-999.000,9,-999.000,     0.4132,-999.0000,-999.000, -999.00
06AQANTIX_2,       SR04,      94,          1,         16,         16,2,19901210,       1437,   -68.8333,      -17.9,       4586,   250.0,  34.6847,2,  34.6850,3,  -999.0,9,  105.58,2,   32.44,2,    0.03,2,    2.32,2,-999.000,9,-999.0000,9, -999.00,9,-999.000,9,-999.000,     0.8331,-999.0000,-999.000, -999.00
06AQANTIX_2,       SR04,      94,          1,         15,         15,2,19901210,       1437,   -68.8333,      -17.9,       4586,   300.8,  34.6900,2,  34.6915,3,   205.6,2,  108.01,2,   32.44,2,    0.03,2,    2.31,2,-999.000,9,-999.0000,9, -999.00,9,-999.000,9,-999.000,     0.7974,-999.0000,-999.000, -999.00
06AQANTIX_2,       SR04,      94,          1,         14,         14,2,19901210,       1437,   -68.8333,      -17.9,       4586,   500.5,  34.6929,2,  34.6911,3,   202.9,2,  114.37,2,   32.49,2,    0.02,2,    2.32,2,-999.000,9,-999.0000,9, -999.00,9,-999.000,9,-999.000,     0.6514,-999.0000,-999.000, -999.00
06AQANTIX_2,       SR04,      94,          1,         13,         13,2,19901210,       1437,   -68.8333,      -17.9,       4586,   999.6,  34.6812,2,  34.6807,3,  -999.0,9,  124.09,2,   33.17,2,    0.01,2,    2.35,2,-999.000,9,-999.0000,9, -999.00,9,-999.000,9,-999.000,     0.3051,-999.0000,-999.000, -999.00
06AQANTIX_2,       SR04,      94,          1,         12,         12,2,19901210,       1437,   -68.8333,      -17.9,       4586,  1498.1,  34.6728,2,  34.6735,3,   219.9,2,  125.96,2,   32.88,2,    0.02,2,    2.33,2,-999.000,9,-999.0000,9, -999.00,9,-999.000,9,-999.000,     0.1080,-999.0000,-999.000, -999.00
06AQANTIX_2,       SR04,      94,          1,         11,         11,2,19901210,       1437,   -68.8333,      -17.9,       4586,  1998.8,  34.6660,2,  34.6654,3,   230.0,2,  126.53,2,   32.63,2,    0.02,2,    2.31,2,-999.000,9,-999.0000,9, -999.00,9,-999.000,9,-999.000,    -0.0512,-999.0000,-999.000, -999.00
06AQANTIX_2,       SR04,      94,          1,         10,         10,2,19901210,       1437,   -68.8333,      -17.9,       4586,  2498.6,  34.6614,2,  34.6596,3,   235.5,2,  125.97,2,   32.44,2,    0.01,2,    2.29,2,-999.000,9,-999.0000,9, -999.00,9,-999.000,9,-999.000,    -0.1682,-999.0000,-999.000, -999.00
06AQANTIX_2,       SR04,      94,          1,          9,          9,2,19901210,       1437,   -68.8333,      -17.9,       4586,  2999.8,  34.6581,2,  34.6563,3,   236.9,2,  125.23,2,   32.29,2,    0.00,2,    2.27,2,-999.000,9,-999.0000,9, -999.00,9,-999.000,9,-999.000,    -0.2455,-999.0000,-999.000, -999.00
06AQANTIX_2,       SR04,      94,          1,          6,          6,2,19901210,       1437,   -68.8333,      -17.9,       4586,  3500.0,  34.6562,2,  34.6543,3,  -999.0,9,  124.68,2,   32.09,2,    0.02,2,    2.27,2,-999.000,9,-999.0000,9, -999.00,9,-999.000,9,-999.000,    -0.2932,-999.0000,-999.000, -999.00
06AQANTIX_2,       SR04,      94,          1,          7,          7,2,19901210,       1437,   -68.8333,      -17.9,       4586,  3500.1,  34.6562,2,  34.6543,3,  -999.0,9,  124.49,2,   32.14,2,    0.02,2,    2.27,2,-999.000,9,-999.0000,9, -999.00,9,-999.000,9,-999.000,    -0.2932,-999.0000,-999.000, -999.00
06AQANTIX_2,       SR04,      94,          1,          8,          8,2,19901210,       1437,   -68.8333,      -17.9,       4586,  3500.2,  34.6564,2,  34.6541,3,   246.9,2,  124.67,2,   32.14,2,    0.02,2,    2.28,2,-999.000,9,-999.0000,9, -999.00,9,-999.000,9,-999.000,    -0.2937,-999.0000,-999.000, -999.00
06AQANTIX_2,       SR04,      94,          1,          5,          5,2,19901210,       1437,   -68.8333,      -17.9,       4586,  3995.0,  34.6521,2,  34.6500,3,   248.4,2,  126.75,2,   32.09,2,    0.00,2,    2.26,2,-999.000,9,   1.8580,2,    4.58,2,   8.158,2,   0.024,    -0.3249,   0.0060,-999.000,    0.20
06AQANTIX_2,       SR04,      94,          1,          4,          4,2,19901210,       1437,   -68.8333,      -17.9,       4586,  4300.3,  34.6534,2,  34.6527,3,   249.1,2,  128.06,2,   32.09,2,    0.00,2,    2.26,2,-999.000,9,-999.0000,9, -999.00,9,-999.000,9,-999.000,    -0.3325,-999.0000,-999.000, -999.00
06AQANTIX_2,       SR04,      94,          1,          3,          3,2,19901210,       1437,   -68.8333,      -17.9,       4586,  4600.6,  34.6518,2,  34.6501,3,   249.8,2,  127.32,2,   32.04,2,    0.01,2,    2.27,2,-999.000,9,   1.8800,3,    3.49,2,   8.248,3,   0.041,    -0.3905,   0.0090,-999.000,    0.20
06AQANTIX_2,       SR04,      94,          1,          2,          2,2,19901210,       1437,   -68.8333,      -17.9,       4586,  4754.6,  34.6498,2,  34.6473,3,  -999.0,9,  126.39,2,   32.14,2,    0.00,2,    2.27,2,-999.000,9,-999.0000,9, -999.00,9,-999.000,9,-999.000,    -0.4547,-999.0000,-999.000, -999.00
06AQANTIX_2,       SR04,      94,          1,          1,          1,2,19901210,       1437,   -68.8333,      -17.9,       4586,  4842.0,  34.6474,2,-999.0000,9,   252.6,2,  128.45,2,   32.09,2,    0.02,2,    2.26,2,-999.000,9,   1.8570,2,    3.13,2,   8.226,3,   0.041,    -0.4610,   0.0090,-999.000,    0.20