BOTTLE,20220818CCHSIOAMB
EXPOCODE,SECT_ID,STNNBR,CASTNO,SAMPNO,BTLNBR,BTLNBR_FLAG_W,DATE,TIME,LATITUDE,LONGITUDE,DEPTH,CTDPRS,CTDSAL,CTDSAL_FLAG_W,SALNTY,SALNTY_FLAG_W,OXYGEN,OXYGEN_FLAG_W,SILCAT,SILCAT_FLAG_W,NITRAT,NITRAT_FLAG_W,NITRIT,NITRIT_FLAG_W,PHSPHT,PHSPHT_FLAG_W,TRITUM,TRITUM_FLAG_W,HELIUM,HELIUM_FLAG_W,DELHE3,DELHE3_FLAG_W,NEON,NEON_FLAG_W,NEONER,CTDTMP,HELIER,TRITER,DELHER
,,,,,,,,,,,METERS,DBAR,PSS-78,,PSS-78,,UMOL/KG,,UMOL/KG,,UMOL/KG,,UMOL/KG,,UMOL/KG,,TU,,NMOL/KG,,PERCNT,,NMOL/KG,,NMOL/KG,IPTS-68,NMOL/KG,TU,PERCNT
06AQANTIX_2,       SR04,      83,          1,         24,         24,2,19901207,       1021,   -66.7567,   -26.3933,       4643,     1.9,  34.3716,2,-999.0000,9,   324.5,2,   72.11,2,   27.84,2,    0.20,2,    2.10,3,-999.000,9,-999.0000,9, -999.00,9,-999.000,9,-999.000,    -1.7394,-999.0000,-999.000, -999.00
06AQANTIX_2,       SR04,      83,          1,         23,         23,2,19901207,       1021,   -66.7567,   -26.3933,       4643,    22.9,  34.3810,2,-999.0000,9,   331.6,2,   71.94,2,   27.79,2,    0.17,2,    2.09,3,   0.129,2,   1.8050,2,    0.75,2,   8.103,2,   0.024,    -1.7878,   0.0050,   0.012,    0.20
06AQANTIX_2,       SR04,      83,          1,         22,         22,2,19901207,       1021,   -66.7567,   -26.3933,       4643,    49.8,  34.4367,2,-999.0000,9,   320.2,2,   71.77,2,   27.98,2,    0.19,2,    2.10,3,   0.135,2,-999.0000,1, -999.00,1,-999.000,1,-999.000,    -1.8154,-999.0000,   0.009, -999.00
06AQANTIX_2,       SR04,      83,          1,         21,         21,2,19901207,       1021,   -66.7567,   -26.3933,       4643,    72.8,  34.4706,2,-999.0000,9,   317.2,2,   72.15,2,   28.42,2,    0.21,2,    2.10,3,   0.099,2,-999.0000,1, -999.00,1,-999.000,1,-999.000,    -1.8263,-999.0000,   0.005, -999.00
06AQANTIX_2,       SR04,      83,          1,         20,         20,2,19901207,       1021,   -66.7567,   -26.3933,       4643,    98.4,  34.4954,2,-999.0000,9,   305.6,2,   74.96,2,   28.85,2,    0.07,2,    2.15,3,   0.123,2,-999.0000,1, -999.00,1,-999.000,1,-999.000,    -1.6413,-999.0000,   0.007, -999.00
06AQANTIX_2,       SR04,      83,          1,         19,         19,2,19901207,       1021,   -66.7567,   -26.3933,       4643,   198.5,  34.6709,2,-999.0000,9,   203.8,2,  109.12,2,   32.73,2,    0.01,2,    2.45,3,   0.029,2,-999.0000,1, -999.00,1,-999.000,1,-999.000,     0.4136,-999.0000,   0.006, -999.00
06AQANTIX_2,       SR04,      83,          1,         18,         18,2,19901207,       1021,   -66.7567,   -26.3933,       4643,   259.4,  34.6741,2,-999.0000,9,  -999.0,9,  111.75,2,   32.87,2,    0.00,2,    2.44,3,   0.031,2,   1.8630,2,    8.31,2,   8.095,2,   0.024,     0.4264,   0.0060,   0.004,    0.20
06AQANTIX_2,       SR04,      83,          1,         17,         17,2,19901207,       1021,   -66.7567,   -26.3933,       4643,   299.7,  34.6836,2,-999.0000,9,   200.4,2,  115.12,2,   32.89,2,    0.01,2,    2.45,3,-999.000,9,   1.8630,2, -999.00,1,   8.098,2,   0.032,     0.5044,   0.0070,-999.000, -999.00
06AQANTIX_2,       SR04,      83,          1,         16,         16,2,19901207,       1021,   -66.7567,   -26.3933,       4643,   347.5,  34.6854,2,  34.6925,3,   199.7,2,  117.57,2,   32.90,2,    0.02,2,    2.44,3,   0.026,2,-999.0000,1, -999.00,1,-999.000,1,-999.000,     0.5083,-999.0000,   0.003, -999.00
06AQANTIX_2,       SR04,      83,          1,         15,         15,2,19901207,       1021,   -66.7567,   -26.3933,       4643,   498.1,  34.6835,2,  34.6900,3,   199.9,2,  122.25,2,   33.16,2,    0.00,2,    2.47,3,   0.032,2,   1.8600,2,    7.46,2,   8.098,2,   0.040,     0.4059,   0.0090,   0.003,    0.20
06AQANTIX_2,       SR04,      83,          1,         14,         14,2,19901207,       1021,   -66.7567,   -26.3933,       4643,   996.9,  34.6767,2,  34.6820,3,   211.7,2,  127.12,2,   32.82,2,    0.00,2,    2.46,3,   0.019,2,-999.0000,1, -999.00,1,-999.000,1,-999.000,     0.1777,-999.0000,   0.002, -999.00
06AQANTIX_2,       SR04,      83,          1,         13,         13,2,19901207,       1021,   -66.7567,   -26.3933,       4643,  1502.9,  34.6690,2,  34.6728,3,   222.8,2,  127.14,2,   32.42,2,    0.00,2,    2.42,3,-999.000,9,-999.0000,9, -999.00,9,-999.000,9,-999.000,    -0.0072,-999.0000,-999.000, -999.00
06AQANTIX_2,       SR04,      83,          1,         12,         12,2,19901207,       1021,   -66.7567,   -26.3933,       4643,  1999.8,  34.6626,2,  34.6658,3,   232.2,2,  126.79,2,   32.20,2,    0.02,2,    2.40,3,   0.033,2,-999.0000,1, -999.00,1,-999.000,1,-999.000,    -0.1486,-999.0000,   0.005, -999.00
06AQANTIX_2,       SR04,      83,          1,         11,         11,2,19901207,       1021,   -66.7567,   -26.3933,       4643,  2500.5,  34.6592,2,  34.6623,3,   238.1,2,  125.87,2,   31.98,2,    0.00,2,    2.38,3,-999.000,9,-999.0000,9, -999.00,9,-999.000,9,-999.000,    -0.2359,-999.0000,-999.000, -999.00
06AQANTIX_2,       SR04,      83,          1,         10,         10,2,19901207,       1021,   -66.7567,   -26.3933,       4643,  2999.9,  34.6564,2,  34.6600,3,  -999.0,9,  125.14,2,   31.81,2,    0.00,2,    2.37,3,   0.028,2,   1.8600,2,    4.86,2,   8.169,2,   0.041,    -0.2945,   0.0090,   0.004,    0.20
06AQANTIX_2,       SR04,      83,          1,          9,          9,2,19901207,       1021,   -66.7567,   -26.3933,       4643,  2999.9,  34.6569,2,  34.6588,3,  -999.0,9,  125.16,2,   31.89,2,    0.00,2,    2.37,3,-999.000,9,-999.0000,9, -999.00,9,-999.000,9,-999.000,    -0.2953,-999.0000,-999.000, -999.00
06AQANTIX_2,       SR04,      83,          1,          8,          8,2,19901207,       1021,   -66.7567,   -26.3933,       4643,  3000.1,  34.6572,2,  34.6575,3,   241.9,2,  125.18,2,   31.85,2,    0.01,2,    2.36,3,-999.000,9,-999.0000,9, -999.00,9,-999.000,9,-999.000,    -0.2958,-999.0000,-999.000, -999.00
06AQANTIX_2,       SR04,      83,          1,          7,          7,2,19901207,       1021,   -66.7567,   -26.3933,       4643,  3502.7,  34.6536,2,  34.6546,3,   246.2,2,  124.45,2,   31.74,2,    0.00,2,    2.37,3,-999.000,9,-999.0000,9, -999.00,9,-999.000,9,-999.000,    -0.3429,-999.0000,-999.000, -999.00
06AQANTIX_2,       SR04,      83,          1,          6,          6,2,19901207,       1021,   -66.7567,   -26.3933,       4643,  4003.0,  34.6539,2,  34.6523,3,  -999.0,9,  124.84,2,   31.70,2,    0.01,2,    2.35,3,   0.056,2,-999.0000,1, -999.00,1,-999.000,1,-999.000,    -0.3790,-999.0000,   0.011, -999.00
06AQANTIX_2,       SR04,      83,          1,          5,          5,2,19901207,       1021,   -66.7567,   -26.3933,       4643,  4502.2,  34.6485,2,  34.6456,3,  -999.0,9,  119.07,2,   31.54,2,    0.02,2,    2.32,3,   0.049,2,   1.9230,3,    2.83,2,   8.333,3,   0.025,    -0.4610,   0.0060,   0.015,    0.20
06AQANTIX_2,       SR04,      83,          1,          4,          4,2,19901207,       1021,   -66.7567,   -26.3933,       4643,  4771.1,  34.6480,2,  34.6470,3,   257.2,2,  124.51,2,   31.73,2,    0.00,2,    2.35,3,   0.034,3,   1.8520,2,    3.49,2,   8.097,2,   0.024,    -0.4922,   0.0060,   0.003,    0.20
06AQANTIX_2,       SR04,      83,          1,          3,          3,2,19901207,       1021,   -66.7567,   -26.3933,       4643,  4813.3,  34.6465,2,  34.6437,3,   257.1,2,  124.52,2,   31.75,2,    0.01,2,    2.33,3,   0.067,2,   1.8840,3,    3.61,2,   8.298,3,   0.042,    -0.5039,   0.0090,   0.011,    0.20
06AQANTIX_2,       SR04,      83,          1,          2,          2,2,19901207,       1021,   -66.7567,   -26.3933,       4643,  4872.0,  34.6420,2,  34.6396,3,   258.8,2,  124.36,2,   31.71,2,    0.00,2,    2.34,3,   0.069,2,-999.0000,1, -999.00,1,-999.000,1,-999.000,    -0.5327,-999.0000,   0.005, -999.00
06AQANTIX_2,       SR04,      83,          1,          1,          1,2,19901207,       1021,   -66.7567,   -26.3933,       4643,  4920.0,  34.6385,2,-999.0000,9,   258.6,2,  121.76,2,   31.54,2,    0.02,2,    2.32,3,   0.072,2,   1.8710,2,    3.65,2,   8.218,2,   0.025,    -0.5530,   0.0060,   0.004,    0.20
06AQANTIX_2,       SR04,      84,          1,         24,         24,2,19901207,       1617,     -66.89,   -25.5567,       4630,     1.4,  34.3852,2,  34.4125,3,   324.1,2,   71.50,2,   28.28,2,    0.22,2, -999.00,9,-999.000,9,-999.0000,9, -999.00,9,-999.000,9,-999.000,    -1.7387,-999.0000,-999.000, -999.00
06AQANTIX_2,       SR04,      84,          1,         23,         23,2,19901207,       1617,     -66.89,   -25.5567,       4630,     1.4,  34.3844,2,  34.4106,3,  -999.0,9,   71.51,2,   28.29,2,    0.21,2, -999.00,9,-999.000,9,-999.0000,9, -999.00,9,-999.000,9,-999.000,    -1.7391,-999.0000,-999.000, -999.00
06AQANTIX_2,       SR04,      84,          1,         22,         22,2,19901207,       1617,     -66.89,   -25.5567,       4630,    24.3,  34.3928,2,  34.4173,3,  -999.0,9,   71.53,2,   28.43,2,    0.22,2, -999.00,9,-999.000,9,-999.0000,9, -999.00,9,-999.000,9,-999.000,    -1.7882,-999.0000,-999.000, -999.00
06AQANTIX_2,       SR04,      84,          1,         21,         21,2,19901207,       1617,     -66.89,   -25.5567,       4630,    24.3,  34.3926,2,  34.4216,3,   323.3,2,   71.55,2,   28.50,2,    0.21,2, -999.00,9,-999.000,9,-999.0000,9, -999.00,9,-999.000,9,-999.000,    -1.7906,-999.0000,-999.000, -999.00
06AQANTIX_2,       SR04,      84,          1,         20,         20,2,19901207,       1617,     -66.89,   -25.5567,       4630,    52.0,  34.4663,2,  34.4859,3,   319.3,2,   71.37,2,   28.82,2,    0.24,2, -999.00,9,-999.000,9,-999.0000,9, -999.00,9,-999.000,9,-999.000,    -1.8348,-999.0000,-999.000, -999.00
06AQANTIX_2,       SR04,      84,          1,         19,         19,2,19901207,       1617,     -66.89,   -25.5567,       4630,    52.0,  34.4672,2,  34.4850,3,  -999.0,9,   71.57,2,   28.90,2,    0.24,2, -999.00,9,-999.000,9,-999.0000,9, -999.00,9,-999.000,9,-999.000,    -1.8363,-999.0000,-999.000, -999.00
06AQANTIX_2,       SR04,      84,          1,         18,         18,2,19901207,       1617,     -66.89,   -25.5567,       4630,    72.3,  34.4786,2,  34.4886,3,   317.5,2,   71.40,2,   28.97,2,    0.17,2, -999.00,9,-999.000,9,-999.0000,9, -999.00,9,-999.000,9,-999.000,    -1.8497,-999.0000,-999.000, -999.00
06AQANTIX_2,       SR04,      84,          1,         17,         17,2,19901207,       1617,     -66.89,   -25.5567,       4630,    72.3,  34.4796,2,  34.4885,3,  -999.0,9,   71.42,2,   28.92,2,    0.19,2, -999.00,9,-999.000,9,-999.0000,9, -999.00,9,-999.000,9,-999.000,    -1.8524,-999.0000,-999.000, -999.00
06AQANTIX_2,       SR04,      84,          1,         15,         15,2,19901207,       1617,     -66.89,   -25.5567,       4630,   104.0,  34.4823,2,  34.4889,3,   316.4,2,   71.45,2,   28.89,2,    0.08,2, -999.00,9,-999.000,9,-999.0000,9, -999.00,9,-999.000,9,-999.000,    -1.8428,-999.0000,-999.000, -999.00
06AQANTIX_2,       SR04,      84,          1,         16,         16,2,19901207,       1617,     -66.89,   -25.5567,       4630,   104.1,  34.4836,2,  34.4910,3,  -999.0,9,   71.62,2,   28.94,2,    0.07,2, -999.00,9,-999.000,9,-999.0000,9, -999.00,9,-999.000,9,-999.000,    -1.8464,-999.0000,-999.000, -999.00
06AQANTIX_2,       SR04,      84,          1,         14,         14,2,19901207,       1617,     -66.89,   -25.5567,       4630,   251.2,  34.6633,2,  34.6746,3,   205.8,2,  107.93,2,   33.05,2,    0.03,2, -999.00,9,-999.000,9,-999.0000,9, -999.00,9,-999.000,9,-999.000,     0.3334,-999.0000,-999.000, -999.00
06AQANTIX_2,       SR04,      84,          1,         13,         13,2,19901207,       1617,     -66.89,   -25.5567,       4630,   497.8,  34.6861,2,  34.6931,3,  -999.0,9,  120.60,2,   33.56,2,    0.00,2, -999.00,9,-999.000,9,-999.0000,9, -999.00,9,-999.000,9,-999.000,     0.4513,-999.0000,-999.000, -999.00
06AQANTIX_2,       SR04,      84,          1,         12,         12,2,19901207,       1617,     -66.89,   -25.5567,       4630,   994.4,  34.6779,2,  34.6867,3,   212.2,2,  126.39,2,   33.39,2,    0.02,2, -999.00,9,-999.000,9,-999.0000,9, -999.00,9,-999.000,9,-999.000,     0.2115,-999.0000,-999.000, -999.00
06AQANTIX_2,       SR04,      84,          1,         11,         11,2,19901207,       1617,     -66.89,   -25.5567,       4630,  1488.4,  34.6700,2,  34.6731,3,   222.0,2,  126.77,2,   32.92,2,    0.01,2, -999.00,9,-999.000,9,-999.0000,9, -999.00,9,-999.000,9,-999.000,     0.0282,-999.0000,-999.000, -999.00
06AQANTIX_2,       SR04,      84,          1,         10,         10,2,19901207,       1617,     -66.89,   -25.5567,       4630,  1998.6,  34.6638,2,  34.6663,3,   231.9,2,  126.42,2,   32.69,2,    0.02,2, -999.00,9,-999.000,9,-999.0000,9, -999.00,9,-999.000,9,-999.000,    -0.1211,-999.0000,-999.000, -999.00
06AQANTIX_2,       SR04,      84,          1,          9,          9,2,19901207,       1617,     -66.89,   -25.5567,       4630,  2499.1,  34.6599,2,  34.6638,3,   238.2,2,  125.69,2,   32.52,2,    0.00,2, -999.00,9,-999.000,9,-999.0000,9, -999.00,9,-999.000,9,-999.000,    -0.2241,-999.0000,-999.000, -999.00
06AQANTIX_2,       SR04,      84,          1,          8,          8,2,19901207,       1617,     -66.89,   -25.5567,       4630,  2998.9,  34.6577,2,  34.6565,3,   242.3,2,  124.96,2,   32.29,2,    0.02,2, -999.00,9,-999.000,9,-999.0000,9, -999.00,9,-999.000,9,-999.000,    -0.2866,-999.0000,-999.000, -999.00
06AQANTIX_2,       SR04,      84,          1,          7,          7,2,19901207,       1617,     -66.89,   -25.5567,       4630,  3501.1,  34.6551,2,  34.6548,3,   247.6,2,  124.60,2,   32.18,2,    0.01,2, -999.00,9,-999.000,9,-999.0000,9, -999.00,9,-999.000,9,-999.000,    -0.3353,-999.0000,-999.000, -999.00
06AQANTIX_2,       SR04,      84,          1,          6,          6,2,19901207,       1617,     -66.89,   -25.5567,       4630,  4001.4,  34.6550,2,  34.6531,3,   249.7,2,  125.55,2,   32.08,2,    0.01,2, -999.00,9,-999.000,9,-999.0000,9, -999.00,9,-999.000,9,-999.000,    -0.3666,-999.0000,-999.000, -999.00
06AQANTIX_2,       SR04,      84,          1,          5,          5,2,19901207,       1617,     -66.89,   -25.5567,       4630,  4400.1,  34.6536,2,  34.6527,3,   251.5,2,  125.00,2,   32.03,2,    0.01,2, -999.00,9,-999.000,9,-999.0000,9, -999.00,9,-999.000,9,-999.000,    -0.3925,-999.0000,-999.000, -999.00
06AQANTIX_2,       SR04,      84,          1,          4,          4,2,19901207,       1617,     -66.89,   -25.5567,       4630,  4594.1,  34.6512,2,  34.6506,3,   254.0,2,  122.23,2,   31.98,2,    0.01,2, -999.00,9,-999.000,9,-999.0000,9, -999.00,9,-999.000,9,-999.000,    -0.4422,-999.0000,-999.000, -999.00
06AQANTIX_2,       SR04,      84,          1,          3,          3,2,19901207,       1617,     -66.89,   -25.5567,       4630,  4800.5,  34.6505,2,  34.6467,3,   255.0,2,  124.66,2,   32.00,2,    0.00,2, -999.00,9,-999.000,9,-999.0000,9, -999.00,9,-999.000,9,-999.000,    -0.4785,-999.0000,-999.000, -999.00
06AQANTIX_2,       SR04,      84,          1,          2,          2,2,19901207,       1617,     -66.89,   -25.5567,       4630,  4884.6,  34.6450,2,  34.6443,3,   255.4,2,  126.91,2,   32.14,2,    0.01,2, -999.00,9,-999.000,9,-999.0000,9, -999.00,9,-999.000,9,-999.000,    -0.5044,-999.0000,-999.000, -999.00
06AQANTIX_2,       SR04,      84,          1,          1,          1,2,19901207,       1617,     -66.89,   -25.5567,       4630,  4908.0,  34.6414,2,-999.0000,9,   255.9,2,  125.62,2,   32.15,2,    0.01,2, -999.00,9,-999.000,9,-999.0000,9, -999.00,9,-999.000,9,-999.000,    -0.5200,-999.0000,-999.000, -999.00