BOTTLE,20220818CCHSIOAMB
EXPOCODE,SECT_ID,STNNBR,CASTNO,SAMPNO,BTLNBR,BTLNBR_FLAG_W,DATE,TIME,LATITUDE,LONGITUDE,DEPTH,CTDPRS,CTDSAL,CTDSAL_FLAG_W,SALNTY,SALNTY_FLAG_W,OXYGEN,OXYGEN_FLAG_W,SILCAT,SILCAT_FLAG_W,NITRAT,NITRAT_FLAG_W,NITRIT,NITRIT_FLAG_W,PHSPHT,PHSPHT_FLAG_W,TRITUM,TRITUM_FLAG_W,HELIUM,HELIUM_FLAG_W,DELHE3,DELHE3_FLAG_W,NEON,NEON_FLAG_W,NEONER,CTDTMP,HELIER,TRITER,DELHER
,,,,,,,,,,,METERS,DBAR,PSS-78,,PSS-78,,UMOL/KG,,UMOL/KG,,UMOL/KG,,UMOL/KG,,UMOL/KG,,TU,,NMOL/KG,,PERCNT,,NMOL/KG,,NMOL/KG,IPTS-68,NMOL/KG,TU,PERCNT
06AQANTIX_2,       SR04,     101,          1,         24,         24,2,19901212,       1854,   -70.3083,   -13.7033,       4165,     1.6,  34.3222,2,  34.3261,3,   294.7,2,   74.21,2,   29.22,2,    0.25,2,    2.09,2,   0.081,2,   1.8180,2,    1.17,2,   8.092,2,   0.024,    -1.8467,   0.0050,   0.008,    0.20
06AQANTIX_2,       SR04,     101,          1,         23,         23,2,19901212,       1854,   -70.3083,   -13.7033,       4165,    25.1,  34.3316,2,  34.3308,3,   293.9,2,   74.44,2,   29.26,2,    0.25,2,    2.10,2,   0.133,2,-999.0000,1, -999.00,1,-999.000,1,-999.000,    -1.8459,-999.0000,   0.009, -999.00
06AQANTIX_2,       SR04,     101,          1,         22,         22,2,19901212,       1854,   -70.3083,   -13.7033,       4165,    50.1,  34.3376,2,  34.3372,3,   292.8,2,   74.67,2,   29.30,2,    0.25,2,    2.09,2,   0.108,2,   1.8240,2,    1.12,2,   8.089,2,   0.024,    -1.8365,   0.0050,   0.006,    0.20
06AQANTIX_2,       SR04,     101,          1,         21,         21,2,19901212,       1854,   -70.3083,   -13.7033,       4165,    74.1,  34.3586,2,  34.3560,3,  -999.0,9,   75.30,2,   29.51,2,    0.21,2,    2.10,2,   0.107,2,-999.0000,1, -999.00,1,-999.000,1,-999.000,    -1.7983,-999.0000,   0.009, -999.00
06AQANTIX_2,       SR04,     101,          1,         20,         20,2,19901212,       1854,   -70.3083,   -13.7033,       4165,    99.7,  34.4131,2,-999.0000,9,   286.2,2,   78.64,2,   29.89,2,    0.05,2,    2.13,2,   0.107,2,-999.0000,1, -999.00,1,-999.000,1,-999.000,    -1.5535,-999.0000,   0.009, -999.00
06AQANTIX_2,       SR04,     101,          1,         19,         19,2,19901212,       1854,   -70.3083,   -13.7033,       4165,   198.5,  34.6423,2,-999.0000,9,   213.8,2,   95.40,2,   31.33,2,    0.01,2,    2.24,2,-999.000,9,-999.0000,1, -999.00,1,-999.000,1,-999.000,     0.4500,-999.0000,-999.000, -999.00
06AQANTIX_2,       SR04,     101,          1,         18,         18,2,19901212,       1854,   -70.3083,   -13.7033,       4165,   298.4,  34.6735,2,  34.6778,3,   208.6,2,  100.11,2,   31.32,2,    0.01,2,    2.25,2,   0.059,2,   1.8470,2,    7.42,2,   8.029,2,   0.024,     0.6771,   0.0050,   0.010,    0.20
06AQANTIX_2,       SR04,     101,          1,         17,         17,2,19901212,       1854,   -70.3083,   -13.7033,       4165,   499.5,  34.6921,2,  34.6919,3,   205.3,2,  108.33,2,   31.41,2,    0.00,2,    2.25,2,   0.040,2,-999.0000,1, -999.00,1,-999.000,1,-999.000,     0.7143,-999.0000,   0.004, -999.00
06AQANTIX_2,       SR04,     101,          1,         16,         16,2,19901212,       1854,   -70.3083,   -13.7033,       4165,   995.9,  34.6831,2,  34.6844,3,   209.3,2,  118.12,2,   31.79,2,    0.00,2,    2.28,2,   0.071,2,   1.8530,2,    7.64,2,   8.135,2,   0.024,     0.4013,   0.0060,   0.007,    0.20
06AQANTIX_2,       SR04,     101,          1,         15,         15,2,19901212,       1854,   -70.3083,   -13.7033,       4165,  1498.8,  34.6731,2,  34.6759,3,   217.8,2,  123.04,2,   31.89,2,    0.01,2,    2.31,2,-999.000,9,   1.8490,3,    7.02,2,   8.168,2,   0.024,     0.1584,   0.0050,-999.000,    0.20
06AQANTIX_2,       SR04,     101,          1,         14,         14,2,19901212,       1854,   -70.3083,   -13.7033,       4165,  2000.7,  34.6661,2,  34.6655,3,   223.8,2,  124.26,2,   31.76,2,    0.01,2,    2.30,2,-999.000,9,   1.8690,3,    5.82,3,   8.147,3,   0.028,    -0.0056,   0.0070,-999.000,    0.20
06AQANTIX_2,       SR04,     101,          1,         13,         13,2,19901212,       1854,   -70.3083,   -13.7033,       4165,  2501.9,  34.6606,2,  34.6647,3,  -999.0,9,  123.74,2,   31.57,2,    0.02,2,    2.29,2,   0.055,2,   1.8630,2,    6.28,2,   8.154,2,   0.024,    -0.1257,   0.0060,   0.006,    0.20
06AQANTIX_2,       SR04,     101,          1,          9,          9,2,19901212,       1854,   -70.3083,   -13.7033,       4165,  2997.9,  34.6599,2,  34.6634,3,   238.7,2,  123.56,2,   31.34,2,    0.01,2,    2.28,2,-999.000,9,   1.8600,2,    5.54,2,   8.209,3,   0.041,    -0.1853,   0.0090,-999.000,    0.20
06AQANTIX_2,       SR04,     101,          1,         10,         10,2,19901212,       1854,   -70.3083,   -13.7033,       4165,  2998.0,  34.6594,2,  34.6593,3,  -999.0,9,  123.71,2,   31.36,2,    0.00,2,    2.28,2,-999.000,9,-999.0000,9, -999.00,9,-999.000,9,-999.000,    -0.1848,-999.0000,-999.000, -999.00
06AQANTIX_2,       SR04,     101,          1,         12,         12,2,19901212,       1854,   -70.3083,   -13.7033,       4165,  2998.1,  34.6592,2,  34.6591,3,  -999.0,9,  123.60,2,   31.45,2,    0.01,2,    2.28,2,-999.000,9,-999.0000,9, -999.00,9,-999.000,9,-999.000,    -0.1847,-999.0000,-999.000, -999.00
06AQANTIX_2,       SR04,     101,          1,         11,         11,2,19901212,       1854,   -70.3083,   -13.7033,       4165,  2998.1,  34.6590,2,  34.6591,3,  -999.0,9,  123.65,2,   31.37,2,    0.02,2,    2.28,2,-999.000,9,-999.0000,9, -999.00,9,-999.000,9,-999.000,    -0.1845,-999.0000,-999.000, -999.00
06AQANTIX_2,       SR04,     101,          1,          6,          6,2,19901212,       1854,   -70.3083,   -13.7033,       4165,  3500.2,  34.6582,2,  34.6543,3,  -999.0,9,  124.32,2,   31.29,2,    0.00,2,    2.28,2,-999.000,9,-999.0000,1, -999.00,1,-999.000,1,-999.000,    -0.2125,-999.0000,-999.000, -999.00
06AQANTIX_2,       SR04,     101,          1,          8,          8,2,19901212,       1854,   -70.3083,   -13.7033,       4165,  3500.4,  34.6578,2,  34.6570,3,  -999.0,9,  124.40,2,   31.33,2,    0.00,2,    2.28,2,-999.000,9,-999.0000,9, -999.00,9,-999.000,9,-999.000,    -0.2111,-999.0000,-999.000, -999.00
06AQANTIX_2,       SR04,     101,          1,          7,          7,2,19901212,       1854,   -70.3083,   -13.7033,       4165,  3500.4,  34.6568,2,  34.6591,3,   240.2,2,  124.46,2,   31.31,2,    0.00,2,    2.28,2,-999.000,9,-999.0000,9, -999.00,9,-999.000,9,-999.000,    -0.2113,-999.0000,-999.000, -999.00
06AQANTIX_2,       SR04,     101,          1,          5,          5,2,19901212,       1854,   -70.3083,   -13.7033,       4165,  3899.7,  34.6571,2,  34.6560,3,  -999.0,9,  124.96,2,   31.39,2,    0.01,2,    2.28,2,   0.117,2,-999.0000,1, -999.00,1,-999.000,1,-999.000,    -0.2029,-999.0000,   0.006, -999.00
06AQANTIX_2,       SR04,     101,          1,          4,          4,2,19901212,       1854,   -70.3083,   -13.7033,       4165,  4151.0,  34.6556,2,  34.6554,3,   240.3,2,  125.60,2,   31.37,2,    0.01,2,    2.29,2,   0.073,2,-999.0000,1, -999.00,1,-999.000,1,-999.000,    -0.2004,-999.0000,   0.007, -999.00
06AQANTIX_2,       SR04,     101,          1,          3,          3,2,19901212,       1854,   -70.3083,   -13.7033,       4165,  4291.9,  34.6546,2,  34.6543,3,  -999.0,9,  126.24,2,   31.41,2,    0.00,2,    2.29,2,   0.053,2,   1.8580,2,    4.92,2,   8.240,3,   0.041,    -0.2125,   0.0090,   0.006,    0.20
06AQANTIX_2,       SR04,     101,          1,          2,          2,2,19901212,       1854,   -70.3083,   -13.7033,       4165,  4401.8,  34.6537,2,  34.6551,3,   241.2,2,  126.49,2,   31.40,2,    0.02,2,    2.30,2,   0.040,2,   1.8650,2,    4.93,2,   8.204,2,   0.025,    -0.2148,   0.0060,   0.005,    0.20
06AQANTIX_2,       SR04,     101,          1,          1,          1,2,19901212,       1854,   -70.3083,   -13.7033,       4165,  4430.0,  34.6535,2,-999.0000,9,   244.0,2,  126.74,2,   31.44,2,    0.00,2,    2.28,2,   0.043,2,   1.8620,2, -999.00,1,   8.197,2,   0.033,    -0.2150,   0.0070,   0.006, -999.00
06AQANTIX_2,       SR04,     102,          1,         23,         23,2,19901223,       0146,   -70.3833,   -13.5417,       2812,     1.4,  34.3385,2,  34.3418,3,   290.3,2,   76.16,2,   29.97,2,    0.23,2,    2.14,2,-999.000,9,-999.0000,9, -999.00,9,-999.000,9,-999.000,    -1.8389,-999.0000,-999.000, -999.00
06AQANTIX_2,       SR04,     102,          1,         22,         22,2,19901223,       0146,   -70.3833,   -13.5417,       2812,    22.6,  34.3405,2,  34.3441,3,   293.3,2,   75.98,2,   29.95,2,    0.21,2,    2.15,2,-999.000,9,-999.0000,9, -999.00,9,-999.000,9,-999.000,    -1.8439,-999.0000,-999.000, -999.00
06AQANTIX_2,       SR04,     102,          1,         21,         21,2,19901223,       0146,   -70.3833,   -13.5417,       2812,    51.0,  34.3495,2,  34.3503,3,  -999.0,9,   76.18,2,   29.93,2,    0.25,2,    2.14,2,-999.000,9,-999.0000,9, -999.00,9,-999.000,9,-999.000,    -1.8457,-999.0000,-999.000, -999.00
06AQANTIX_2,       SR04,     102,          1,         20,         20,2,19901223,       0146,   -70.3833,   -13.5417,       2812,    73.7,  34.3518,2,-999.0000,9,   288.5,2,   76.19,2,   29.98,2,    0.23,2,    2.14,2,-999.000,9,-999.0000,9, -999.00,9,-999.000,9,-999.000,    -1.8381,-999.0000,-999.000, -999.00
06AQANTIX_2,       SR04,     102,          1,         19,         19,2,19901223,       0146,   -70.3833,   -13.5417,       2812,   101.1,  34.3990,2,-999.0000,9,   281.4,2,   78.14,2,   30.26,2,    0.06,2,    2.17,2,-999.000,9,-999.0000,9, -999.00,9,-999.000,9,-999.000,    -1.6066,-999.0000,-999.000, -999.00
06AQANTIX_2,       SR04,     102,          1,         18,         18,2,19901223,       0146,   -70.3833,   -13.5417,       2812,   150.8,  34.5171,2,-999.0000,9,   255.0,2,   87.46,2,   31.15,2,    0.01,2,    2.23,2,-999.000,9,-999.0000,9, -999.00,9,-999.000,9,-999.000,    -0.8458,-999.0000,-999.000, -999.00
06AQANTIX_2,       SR04,     102,          1,         17,         17,2,19901223,       0146,   -70.3833,   -13.5417,       2812,   230.5,  34.6604,2,  34.6650,3,   213.1,2,   97.36,2,   31.62,2,    0.00,2,    2.27,2,-999.000,9,-999.0000,9, -999.00,9,-999.000,9,-999.000,     0.5758,-999.0000,-999.000, -999.00
06AQANTIX_2,       SR04,     102,          1,         16,         16,2,19901223,       0146,   -70.3833,   -13.5417,       2812,   300.4,  34.6792,2,  34.6808,3,   207.7,2,  101.06,2,   31.60,2,    0.01,2,    2.27,2,-999.000,9,-999.0000,9, -999.00,9,-999.000,9,-999.000,     0.7367,-999.0000,-999.000, -999.00
06AQANTIX_2,       SR04,     102,          1,         15,         15,2,19901223,       0146,   -70.3833,   -13.5417,       2812,   399.7,  34.6884,2,  34.6907,3,   206.8,2,  104.96,2,   31.58,2,    0.01,2,    2.27,2,-999.000,9,-999.0000,9, -999.00,9,-999.000,9,-999.000,     0.7446,-999.0000,-999.000, -999.00
06AQANTIX_2,       SR04,     102,          1,         14,         14,2,19901223,       0146,   -70.3833,   -13.5417,       2812,   698.4,  34.6860,2,  34.6885,3,   213.9,2,  112.54,2,   31.81,2,    0.01,2,    2.29,2,-999.000,9,-999.0000,9, -999.00,9,-999.000,9,-999.000,     0.5359,-999.0000,-999.000, -999.00
06AQANTIX_2,       SR04,     102,          1,         13,         13,2,19901223,       0146,   -70.3833,   -13.5417,       2812,  1295.2,  34.6740,2,  34.6774,3,   215.7,2,  121.49,2,   32.21,2,    0.01,2,    2.32,2,-999.000,9,-999.0000,9, -999.00,9,-999.000,9,-999.000,     0.2077,-999.0000,-999.000, -999.00
06AQANTIX_2,       SR04,     102,          1,         12,         12,2,19901223,       0146,   -70.3833,   -13.5417,       2812,  1596.3,  34.6681,2,  34.6697,3,   222.6,2,  123.05,2,   32.20,2,    0.01,2,    2.32,2,-999.000,9,-999.0000,9, -999.00,9,-999.000,9,-999.000,     0.0801,-999.0000,-999.000, -999.00
06AQANTIX_2,       SR04,     102,          1,         11,         11,2,19901223,       0146,   -70.3833,   -13.5417,       2812,  1897.2,  34.6641,2,  34.6662,3,   228.4,2,  123.65,2,   32.12,2,    0.01,2,    2.31,2,-999.000,9,-999.0000,9, -999.00,9,-999.000,9,-999.000,    -0.0272,-999.0000,-999.000, -999.00
06AQANTIX_2,       SR04,     102,          1,          7,          7,2,19901223,       0146,   -70.3833,   -13.5417,       2812,  2198.4,  34.6623,2,  34.6640,3,  -999.0,9,  123.70,2,   32.10,2,    0.00,2,    2.29,2,-999.000,9,-999.0000,9, -999.00,9,-999.000,9,-999.000,    -0.0959,-999.0000,-999.000, -999.00
06AQANTIX_2,       SR04,     102,          1,          8,          8,2,19901223,       0146,   -70.3833,   -13.5417,       2812,  2198.5,  34.6619,2,  34.6622,3,  -999.0,9,  123.69,2,   32.06,2,    0.01,2,    2.30,2,-999.000,9,-999.0000,9, -999.00,9,-999.000,9,-999.000,    -0.0956,-999.0000,-999.000, -999.00
06AQANTIX_2,       SR04,     102,          1,         10,         10,2,19901223,       0146,   -70.3833,   -13.5417,       2812,  2198.6,  34.6620,2,  34.6629,3,   229.0,2,  123.86,2,   31.98,2,    0.00,2,    2.30,2,-999.000,9,-999.0000,9, -999.00,9,-999.000,9,-999.000,    -0.0957,-999.0000,-999.000, -999.00
06AQANTIX_2,       SR04,     102,          1,          9,          9,2,19901223,       0146,   -70.3833,   -13.5417,       2812,  2198.6,  34.6619,2,  34.6622,3,  -999.0,9,  123.87,2,   32.08,2,    0.00,2,    2.30,2,-999.000,9,-999.0000,9, -999.00,9,-999.000,9,-999.000,    -0.0956,-999.0000,-999.000, -999.00
06AQANTIX_2,       SR04,     102,          1,          6,          6,2,19901223,       0146,   -70.3833,   -13.5417,       2812,  2499.7,  34.6598,2,  34.6595,3,   232.5,2,  123.91,2,   32.03,2,    0.01,2,    2.30,2,-999.000,9,-999.0000,9, -999.00,9,-999.000,9,-999.000,    -0.1487,-999.0000,-999.000, -999.00
06AQANTIX_2,       SR04,     102,          1,          5,          5,2,19901223,       0146,   -70.3833,   -13.5417,       2812,  2800.4,  34.6592,2,  34.6588,3,   235.4,2,  124.31,2,   32.01,2,    0.00,2,    2.29,2,-999.000,9,-999.0000,9, -999.00,9,-999.000,9,-999.000,    -0.1728,-999.0000,-999.000, -999.00
06AQANTIX_2,       SR04,     102,          1,          4,          4,2,19901223,       0146,   -70.3833,   -13.5417,       2812,  2900.6,  34.6587,2,  34.6595,3,   237.0,2,  124.13,2,   32.05,2,    0.01,2,    2.28,2,-999.000,9,-999.0000,9, -999.00,9,-999.000,9,-999.000,    -0.1696,-999.0000,-999.000, -999.00
06AQANTIX_2,       SR04,     102,          1,          3,          3,2,19901223,       0146,   -70.3833,   -13.5417,       2812,  2922.0,  34.6602,2,  34.6589,3,  -999.0,9,  124.14,2,   32.09,2,    0.03,2,    2.28,2,-999.000,9,-999.0000,9, -999.00,9,-999.000,9,-999.000,    -0.1686,-999.0000,-999.000, -999.00
06AQANTIX_2,       SR04,     102,          1,          2,          2,2,19901223,       0146,   -70.3833,   -13.5417,       2812,  2944.6,  34.6590,2,  34.6585,3,   236.6,2,  124.15,2,   32.07,2,    0.01,2,    2.28,2,-999.000,9,-999.0000,9, -999.00,9,-999.000,9,-999.000,    -0.1704,-999.0000,-999.000, -999.00
06AQANTIX_2,       SR04,     102,          1,          1,          1,2,19901223,       0146,   -70.3833,   -13.5417,       2812,  2962.0,  34.6601,2,-999.0000,9,  -999.0,9,  124.16,2,   32.06,2,    0.00,2,    2.27,2,-999.000,9,-999.0000,9, -999.00,9,-999.000,9,-999.000,    -0.1720,-999.0000,-999.000, -999.00