BOTTLE,20220818CCHSIOAMB
EXPOCODE,SECT_ID,STNNBR,CASTNO,SAMPNO,BTLNBR,BTLNBR_FLAG_W,DATE,TIME,LATITUDE,LONGITUDE,DEPTH,CTDPRS,CTDSAL,CTDSAL_FLAG_W,SALNTY,SALNTY_FLAG_W,OXYGEN,OXYGEN_FLAG_W,SILCAT,SILCAT_FLAG_W,NITRAT,NITRAT_FLAG_W,NITRIT,NITRIT_FLAG_W,PHSPHT,PHSPHT_FLAG_W,TRITUM,TRITUM_FLAG_W,HELIUM,HELIUM_FLAG_W,DELHE3,DELHE3_FLAG_W,NEON,NEON_FLAG_W,NEONER,CTDTMP,HELIER,TRITER,DELHER
,,,,,,,,,,,METERS,DBAR,PSS-78,,PSS-78,,UMOL/KG,,UMOL/KG,,UMOL/KG,,UMOL/KG,,UMOL/KG,,TU,,NMOL/KG,,PERCNT,,NMOL/KG,,NMOL/KG,IPTS-68,NMOL/KG,TU,PERCNT
06AQANTIX_2,       SR04,      63,          1,         24,         24,2,19901201,       1647,   -66.1217,   -31.7817,       4575,     1.5,  34.3645,2,-999.0000,9,   321.5,2,   71.59,2,   26.93,2,    0.19,2,    1.98,3,-999.000,9,-999.0000,9, -999.00,9,-999.000,9,-999.000,    -1.6725,-999.0000,-999.000, -999.00
06AQANTIX_2,       SR04,      63,          1,         23,         23,2,19901201,       1647,   -66.1217,   -31.7817,       4575,    12.0,  34.3906,2,-999.0000,9,   321.6,2,   71.76,2,   27.02,2,    0.19,2,    1.99,3,-999.000,9,-999.0000,9, -999.00,9,-999.000,9,-999.000,    -1.7420,-999.0000,-999.000, -999.00
06AQANTIX_2,       SR04,      63,          1,         22,         22,2,19901201,       1647,   -66.1217,   -31.7817,       4575,    19.2,  34.4196,2,  34.4236,3,   318.5,2,   71.94,2,   26.98,2,    0.17,2,    1.98,3,-999.000,9,-999.0000,9, -999.00,9,-999.000,9,-999.000,    -1.7745,-999.0000,-999.000, -999.00
06AQANTIX_2,       SR04,      63,          1,         21,         21,2,19901201,       1647,   -66.1217,   -31.7817,       4575,    29.3,  34.4390,2,  34.4401,3,   318.8,2,   71.96,2,   27.01,2,    0.18,2,    1.99,3,-999.000,9,-999.0000,9, -999.00,9,-999.000,9,-999.000,    -1.8133,-999.0000,-999.000, -999.00
06AQANTIX_2,       SR04,      63,          1,         20,         20,2,19901201,       1647,   -66.1217,   -31.7817,       4575,    47.2,  34.4459,2,  34.4477,3,   316.3,2,   71.99,2,   27.16,2,    0.18,2,    2.00,3,-999.000,9,-999.0000,9, -999.00,9,-999.000,9,-999.000,    -1.8291,-999.0000,-999.000, -999.00
06AQANTIX_2,       SR04,      63,          1,         19,         19,2,19901201,       1647,   -66.1217,   -31.7817,       4575,    67.4,  34.4539,2,  34.4537,3,   313.6,2,   72.16,2,   27.25,2,    0.18,2,    2.02,3,-999.000,9,-999.0000,9, -999.00,9,-999.000,9,-999.000,    -1.8430,-999.0000,-999.000, -999.00
06AQANTIX_2,       SR04,      63,          1,         18,         18,2,19901201,       1647,   -66.1217,   -31.7817,       4575,    67.4,  34.4535,2,  34.4580,3,  -999.0,9,   72.19,2,   27.28,2,    0.18,2,    2.02,3,-999.000,9,-999.0000,9, -999.00,9,-999.000,9,-999.000,    -1.8426,-999.0000,-999.000, -999.00
06AQANTIX_2,       SR04,      63,          1,         17,         17,2,19901201,       1647,   -66.1217,   -31.7817,       4575,   152.2,  34.4950,2,-999.0000,9,   264.0,2,   87.47,2,   30.07,2,    0.07,2,    2.19,3,-999.000,9,-999.0000,9, -999.00,9,-999.000,9,-999.000,    -1.4787,-999.0000,-999.000, -999.00
06AQANTIX_2,       SR04,      63,          1,         16,         16,2,19901201,       1647,   -66.1217,   -31.7817,       4575,   300.8,  34.6803,2,  34.6816,3,   201.6,2,  120.63,2,   33.37,2,    0.01,2,    2.43,3,-999.000,9,-999.0000,9, -999.00,9,-999.000,9,-999.000,     0.4042,-999.0000,-999.000, -999.00
06AQANTIX_2,       SR04,      63,          1,         15,         15,2,19901201,       1647,   -66.1217,   -31.7817,       4575,   500.4,  34.6804,2,  34.6815,3,  -999.0,9,  125.43,2,   33.45,2,    0.02,2,    2.43,3,-999.000,9,-999.0000,9, -999.00,9,-999.000,9,-999.000,     0.3226,-999.0000,-999.000, -999.00
06AQANTIX_2,       SR04,      63,          1,         14,         14,2,19901201,       1647,   -66.1217,   -31.7817,       4575,   749.5,  34.6776,2,  34.6825,3,   210.4,2,  127.46,2,   33.08,2,    0.02,2,    2.40,3,-999.000,9,-999.0000,9, -999.00,9,-999.000,9,-999.000,     0.2008,-999.0000,-999.000, -999.00
06AQANTIX_2,       SR04,      63,          1,         13,         13,2,19901201,       1647,   -66.1217,   -31.7817,       4575,   999.4,  34.6733,2,-999.0000,9,   210.9,2,  127.64,2,   32.77,2,    0.03,2,    2.39,3,-999.000,9,-999.0000,9, -999.00,9,-999.000,9,-999.000,     0.0960,-999.0000,-999.000, -999.00
06AQANTIX_2,       SR04,      63,          1,         12,         12,2,19901201,       1647,   -66.1217,   -31.7817,       4575,  1199.7,  34.6694,2,  34.6711,3,   221.4,2,  127.51,2,   32.60,2,    0.01,2,    2.37,3,-999.000,9,-999.0000,9, -999.00,9,-999.000,9,-999.000,     0.0250,-999.0000,-999.000, -999.00
06AQANTIX_2,       SR04,      63,          1,         11,         11,2,19901201,       1647,   -66.1217,   -31.7817,       4575,  1399.7,  34.6674,2,  34.6674,3,   220.9,2,  127.22,2,   32.42,2,    0.00,2,    2.36,3,-999.000,9,-999.0000,9, -999.00,9,-999.000,9,-999.000,    -0.0468,-999.0000,-999.000, -999.00
06AQANTIX_2,       SR04,      63,          1,         10,         10,2,19901201,       1647,   -66.1217,   -31.7817,       4575,  1599.5,  34.6650,2,  34.6652,3,   224.8,2,  126.94,2,   32.38,2,    0.00,2,    2.35,3,-999.000,9,-999.0000,9, -999.00,9,-999.000,9,-999.000,    -0.1039,-999.0000,-999.000, -999.00
06AQANTIX_2,       SR04,      63,          1,          9,          9,2,19901201,       1647,   -66.1217,   -31.7817,       4575,  1798.5,  34.6630,2,  34.6650,3,  -999.0,9,  126.50,2,   32.26,2,    0.00,2,    2.35,3,-999.000,9,-999.0000,9, -999.00,9,-999.000,9,-999.000,    -0.1572,-999.0000,-999.000, -999.00
06AQANTIX_2,       SR04,      63,          1,          8,          8,2,19901201,       1647,   -66.1217,   -31.7817,       4575,  1997.5,  34.6618,2,  34.6624,3,   233.6,2,  126.06,2,   32.28,2,    0.01,2,    2.35,3,-999.000,9,-999.0000,9, -999.00,9,-999.000,9,-999.000,    -0.1981,-999.0000,-999.000, -999.00
06AQANTIX_2,       SR04,      63,          1,          7,          7,2,19901201,       1647,   -66.1217,   -31.7817,       4575,  2499.1,  34.6590,2,  34.6606,3,   235.9,2,  125.31,2,   32.11,2,    0.01,2,    2.33,3,-999.000,9,-999.0000,9, -999.00,9,-999.000,9,-999.000,    -0.2664,-999.0000,-999.000, -999.00
06AQANTIX_2,       SR04,      63,          1,          6,          6,2,19901201,       1647,   -66.1217,   -31.7817,       4575,  3000.7,  34.6572,2,  34.6599,3,   237.2,2,  124.57,2,   31.93,2,    0.02,2,    2.32,3,-999.000,9,-999.0000,9, -999.00,9,-999.000,9,-999.000,    -0.3202,-999.0000,-999.000, -999.00
06AQANTIX_2,       SR04,      63,          1,          5,          5,2,19901201,       1647,   -66.1217,   -31.7817,       4575,  3502.2,  34.6546,2,  34.6578,3,   243.4,2,  123.66,2,   31.82,2,    0.00,2,    2.31,3,-999.000,9,-999.0000,9, -999.00,9,-999.000,9,-999.000,    -0.3703,-999.0000,-999.000, -999.00
06AQANTIX_2,       SR04,      63,          1,          4,          4,2,19901201,       1647,   -66.1217,   -31.7817,       4575,  4002.8,  34.6531,2,  34.6516,3,   248.8,2,  123.38,2,   31.78,2,    0.01,2,    2.30,3,-999.000,9,-999.0000,9, -999.00,9,-999.000,9,-999.000,    -0.4208,-999.0000,-999.000, -999.00
06AQANTIX_2,       SR04,      63,          1,          3,          3,2,19901201,       1647,   -66.1217,   -31.7817,       4575,  4503.1,  34.6446,2,  34.6425,3,  -999.0,9,  115.39,2,   31.60,2,    0.02,2,    2.29,3,-999.000,9,-999.0000,9, -999.00,9,-999.000,9,-999.000,    -0.5365,-999.0000,-999.000, -999.00
06AQANTIX_2,       SR04,      63,          1,          2,          2,2,19901201,       1647,   -66.1217,   -31.7817,       4575,  4825.0,  34.6385,2,  34.6359,3,  -999.0,9,  115.26,2,   31.68,2,    0.02,2,    2.28,3,-999.000,9,-999.0000,9, -999.00,9,-999.000,9,-999.000,    -0.5774,-999.0000,-999.000, -999.00
06AQANTIX_2,       SR04,      63,          1,          1,          1,2,19901201,       1647,   -66.1217,   -31.7817,       4575,  4846.0,  34.6381,2,-999.0000,9,  -999.0,9,  115.13,2,   31.64,2,    0.03,2,    2.27,3,-999.000,9,-999.0000,9, -999.00,9,-999.000,9,-999.000,    -0.5770,-999.0000,-999.000, -999.00
06AQANTIX_2,       SR04,      64,          1,         24,         24,2,19901202,       0015,   -66.1833,    -31.145,       4605,     2.1,  34.4040,2,-999.0000,9,   312.4,2,   72.61,2,   27.97,2,    0.16,2,    2.02,3,-999.000,9,-999.0000,9, -999.00,9,-999.000,9,-999.000,    -1.7923,-999.0000,-999.000, -999.00
06AQANTIX_2,       SR04,      64,          1,         23,         23,2,19901202,       0015,   -66.1833,    -31.145,       4605,    20.9,  34.4130,2,-999.0000,9,   311.8,2,   72.58,2,   27.96,2,    0.16,2,    2.01,3,-999.000,9,-999.0000,9, -999.00,9,-999.000,9,-999.000,    -1.8006,-999.0000,-999.000, -999.00
06AQANTIX_2,       SR04,      64,          1,         22,         22,2,19901202,       0015,   -66.1833,    -31.145,       4605,    51.3,  34.4312,2,-999.0000,9,   309.5,2,   72.54,2,   28.06,2,    0.17,2,    2.02,3,-999.000,9,-999.0000,9, -999.00,9,-999.000,9,-999.000,    -1.8400,-999.0000,-999.000, -999.00
06AQANTIX_2,       SR04,      64,          1,         21,         21,2,19901202,       0015,   -66.1833,    -31.145,       4605,    72.9,  34.4394,2,-999.0000,9,   308.9,2,   72.30,2,   28.15,2,    0.18,2,    2.03,3,-999.000,9,-999.0000,9, -999.00,9,-999.000,9,-999.000,    -1.8437,-999.0000,-999.000, -999.00
06AQANTIX_2,       SR04,      64,          1,         20,         20,2,19901202,       0015,   -66.1833,    -31.145,       4605,   100.8,  34.4503,2,-999.0000,9,   308.1,2,   72.46,2,   28.25,2,    0.17,2,    2.03,3,-999.000,9,-999.0000,9, -999.00,9,-999.000,9,-999.000,    -1.8254,-999.0000,-999.000, -999.00
06AQANTIX_2,       SR04,      64,          1,         19,         19,2,19901202,       0015,   -66.1833,    -31.145,       4605,   251.5,  34.6810,2,-999.0000,9,   194.7,2,  116.04,2,   33.93,2,    0.00,2,    2.40,3,-999.000,9,-999.0000,9, -999.00,9,-999.000,9,-999.000,     0.4754,-999.0000,-999.000, -999.00
06AQANTIX_2,       SR04,      64,          1,         18,         18,2,19901202,       0015,   -66.1833,    -31.145,       4605,   497.3,  34.6818,2,-999.0000,9,   196.6,2,  124.10,2,   34.34,2,   -0.01,4,    2.44,3,-999.000,9,-999.0000,9, -999.00,9,-999.000,9,-999.000,     0.3465,-999.0000,-999.000, -999.00
06AQANTIX_2,       SR04,      64,          1,         17,         17,2,19901202,       0015,   -66.1833,    -31.145,       4605,   700.2,  34.6795,2,-999.0000,9,   200.0,2,  126.23,2,   34.10,2,    0.00,2,    2.42,3,-999.000,9,-999.0000,9, -999.00,9,-999.000,9,-999.000,     0.2490,-999.0000,-999.000, -999.00
06AQANTIX_2,       SR04,      64,          1,         16,         16,2,19901202,       0015,   -66.1833,    -31.145,       4605,   998.5,  34.6753,2,-999.0000,9,   209.3,2,  126.99,2,   33.75,2,    0.01,2,    2.40,3,-999.000,9,-999.0000,9, -999.00,9,-999.000,9,-999.000,     0.1305,-999.0000,-999.000, -999.00
06AQANTIX_2,       SR04,      64,          1,         15,         15,2,19901202,       0015,   -66.1833,    -31.145,       4605,  1198.1,  34.6714,2,-999.0000,9,   214.9,2,  126.95,2,   33.62,2,    0.01,2,    2.40,3,-999.000,9,-999.0000,9, -999.00,9,-999.000,9,-999.000,     0.0511,-999.0000,-999.000, -999.00
06AQANTIX_2,       SR04,      64,          1,         14,         14,2,19901202,       0015,   -66.1833,    -31.145,       4605,  1498.4,  34.6673,2,-999.0000,9,   221.4,2,  126.52,2,   33.43,2,    0.00,2,    2.38,3,-999.000,9,-999.0000,9, -999.00,9,-999.000,9,-999.000,    -0.0515,-999.0000,-999.000, -999.00
06AQANTIX_2,       SR04,      64,          1,         13,         13,2,19901202,       0015,   -66.1833,    -31.145,       4605,  1799.6,  34.6644,2,-999.0000,9,   227.6,2,  126.29,2,   33.25,2,    0.02,2,    2.37,3,-999.000,9,-999.0000,9, -999.00,9,-999.000,9,-999.000,    -0.1306,-999.0000,-999.000, -999.00
06AQANTIX_2,       SR04,      64,          1,         12,         12,2,19901202,       0015,   -66.1833,    -31.145,       4605,  2096.3,  34.6614,2,-999.0000,9,   231.0,2,  125.86,2,   33.12,2,    0.01,2,    2.36,3,-999.000,9,-999.0000,9, -999.00,9,-999.000,9,-999.000,    -0.1982,-999.0000,-999.000, -999.00
06AQANTIX_2,       SR04,      64,          1,         11,         11,2,19901202,       0015,   -66.1833,    -31.145,       4605,  2496.8,  34.6601,2,-999.0000,9,   235.8,2,  125.23,2,   32.93,2,    0.01,2,    2.35,3,-999.000,9,-999.0000,9, -999.00,9,-999.000,9,-999.000,    -0.2591,-999.0000,-999.000, -999.00
06AQANTIX_2,       SR04,      64,          1,         10,         10,2,19901202,       0015,   -66.1833,    -31.145,       4605,  2897.8,  34.6588,2,-999.0000,9,   237.7,2,  124.60,2,   32.80,2,    0.01,2,    2.33,3,-999.000,9,-999.0000,9, -999.00,9,-999.000,9,-999.000,    -0.3050,-999.0000,-999.000, -999.00
06AQANTIX_2,       SR04,      64,          1,          9,          9,2,19901202,       0015,   -66.1833,    -31.145,       4605,  3299.5,  34.6563,2,-999.0000,9,   241.1,2,  124.17,2,   32.67,2,    0.01,2,    2.33,3,-999.000,9,-999.0000,9, -999.00,9,-999.000,9,-999.000,    -0.3450,-999.0000,-999.000, -999.00
06AQANTIX_2,       SR04,      64,          1,          8,          8,2,19901202,       0015,   -66.1833,    -31.145,       4605,  3701.5,  34.6549,2,-999.0000,9,   246.2,2,  124.13,2,   32.59,2,    0.00,2,    2.31,3,-999.000,9,-999.0000,9, -999.00,9,-999.000,9,-999.000,    -0.3801,-999.0000,-999.000, -999.00
06AQANTIX_2,       SR04,      64,          1,          7,          7,2,19901202,       0015,   -66.1833,    -31.145,       4605,  4002.6,  34.6544,2,-999.0000,9,   246.3,2,  124.29,2,   32.52,2,    0.01,2,    2.33,3,-999.000,9,-999.0000,9, -999.00,9,-999.000,9,-999.000,    -0.4034,-999.0000,-999.000, -999.00
06AQANTIX_2,       SR04,      64,          1,          6,          6,2,19901202,       0015,   -66.1833,    -31.145,       4605,  4302.5,  34.6503,2,-999.0000,9,   251.8,2,  119.52,2,   32.39,2,    0.01,2,    2.30,3,-999.000,9,-999.0000,9, -999.00,9,-999.000,9,-999.000,    -0.4554,-999.0000,-999.000, -999.00
06AQANTIX_2,       SR04,      64,          1,          5,          5,2,19901202,       0015,   -66.1833,    -31.145,       4605,  4501.2,  34.6476,2,-999.0000,9,   252.2,2,  117.11,2,   32.26,2,    0.02,2,    2.30,3,-999.000,9,-999.0000,9, -999.00,9,-999.000,9,-999.000,    -0.4993,-999.0000,-999.000, -999.00
06AQANTIX_2,       SR04,      64,          1,          4,          4,2,19901202,       0015,   -66.1833,    -31.145,       4605,  4600.8,  34.6487,2,-999.0000,9,   251.8,2,  119.05,2,   32.23,2,    0.02,2,    2.30,3,-999.000,9,-999.0000,9, -999.00,9,-999.000,9,-999.000,    -0.5105,-999.0000,-999.000, -999.00
06AQANTIX_2,       SR04,      64,          1,          3,          3,2,19901202,       0015,   -66.1833,    -31.145,       4605,  4701.6,  34.6471,2,-999.0000,9,   252.8,2,  121.19,2,   32.21,2,    0.01,2,    2.31,3,-999.000,9,-999.0000,9, -999.00,9,-999.000,9,-999.000,    -0.5208,-999.0000,-999.000, -999.00
06AQANTIX_2,       SR04,      64,          1,          2,          2,2,19901202,       0015,   -66.1833,    -31.145,       4605,  4803.2,  34.6404,2,-999.0000,9,  -999.0,9,  120.95,2,   32.13,2,    0.02,2,    2.30,3,-999.000,9,-999.0000,9, -999.00,9,-999.000,9,-999.000,    -0.5566,-999.0000,-999.000, -999.00
06AQANTIX_2,       SR04,      64,          1,          1,          1,2,19901202,       0015,   -66.1833,    -31.145,       4605,  4868.0,  34.6390,2,-999.0000,9,   255.8,2,  118.75,2,   32.05,2,    0.02,2,    2.30,3,-999.000,9,-999.0000,9, -999.00,9,-999.000,9,-999.000,    -0.5660,-999.0000,-999.000, -999.00