BOTTLE,20220818CCHSIOAMB
EXPOCODE,SECT_ID,STNNBR,CASTNO,SAMPNO,BTLNBR,BTLNBR_FLAG_W,DATE,TIME,LATITUDE,LONGITUDE,DEPTH,CTDPRS,CTDSAL,CTDSAL_FLAG_W,SALNTY,SALNTY_FLAG_W,OXYGEN,OXYGEN_FLAG_W,SILCAT,SILCAT_FLAG_W,NITRAT,NITRAT_FLAG_W,NITRIT,NITRIT_FLAG_W,PHSPHT,PHSPHT_FLAG_W,TRITUM,TRITUM_FLAG_W,HELIUM,HELIUM_FLAG_W,DELHE3,DELHE3_FLAG_W,NEON,NEON_FLAG_W,NEONER,CTDTMP,HELIER,TRITER,DELHER
,,,,,,,,,,,METERS,DBAR,PSS-78,,PSS-78,,UMOL/KG,,UMOL/KG,,UMOL/KG,,UMOL/KG,,UMOL/KG,,TU,,NMOL/KG,,PERCNT,,NMOL/KG,,NMOL/KG,IPTS-68,NMOL/KG,TU,PERCNT
06AQANTIX_2,       SR04,      67,          1,         24,         24,2,19901202,       1748,   -66.4633,     -28.73,       4639,     1.2,  34.3767,2,  34.3792,3,  -999.0,9,   72.15,2,   28.38,2, -999.00,9,    2.02,3,-999.000,9,-999.0000,9, -999.00,9,-999.000,9,-999.000,    -1.7489,-999.0000,-999.000, -999.00
06AQANTIX_2,       SR04,      67,          1,         23,         23,2,19901202,       1748,   -66.4633,     -28.73,       4639,    26.0,  34.3964,2,-999.0000,9,   326.3,2,   72.15,2,   28.48,2, -999.00,9,    2.01,3,-999.000,9,-999.0000,9, -999.00,9,-999.000,9,-999.000,    -1.7763,-999.0000,-999.000, -999.00
06AQANTIX_2,       SR04,      67,          1,         22,         22,2,19901202,       1748,   -66.4633,     -28.73,       4639,    49.4,  34.4360,2,  34.4400,3,   313.2,2,   71.95,2,   28.67,2, -999.00,9,    2.03,3,-999.000,9,-999.0000,9, -999.00,9,-999.000,9,-999.000,    -1.8163,-999.0000,-999.000, -999.00
06AQANTIX_2,       SR04,      67,          1,         21,         21,2,19901202,       1748,   -66.4633,     -28.73,       4639,    77.1,  34.4590,2,  34.4584,3,   310.2,2,   72.74,2,   29.06,2, -999.00,9,    2.04,3,-999.000,9,-999.0000,9, -999.00,9,-999.000,9,-999.000,    -1.8141,-999.0000,-999.000, -999.00
06AQANTIX_2,       SR04,      67,          1,         20,         20,2,19901202,       1748,   -66.4633,     -28.73,       4639,   101.4,  34.4678,2,-999.0000,9,   308.9,2,   72.34,2,   29.16,2, -999.00,9,    2.06,3,-999.000,9,-999.0000,9, -999.00,9,-999.000,9,-999.000,    -1.8056,-999.0000,-999.000, -999.00
06AQANTIX_2,       SR04,      67,          1,         19,         19,2,19901202,       1748,   -66.4633,     -28.73,       4639,   201.2,  34.6797,2,  34.6829,3,   195.8,2,  114.03,2,   33.87,2, -999.00,9,    2.41,3,-999.000,9,-999.0000,9, -999.00,9,-999.000,9,-999.000,     0.5255,-999.0000,-999.000, -999.00
06AQANTIX_2,       SR04,      67,          1,         18,         18,2,19901202,       1748,   -66.4633,     -28.73,       4639,   300.9,  34.6839,2,  34.6857,3,   194.8,2,  118.34,2,   33.77,2, -999.00,9,    2.42,3,-999.000,9,-999.0000,9, -999.00,9,-999.000,9,-999.000,     0.5013,-999.0000,-999.000, -999.00
06AQANTIX_2,       SR04,      67,          1,         17,         17,2,19901202,       1748,   -66.4633,     -28.73,       4639,   499.1,  34.6824,2,  34.6830,3,   197.7,2,  123.33,2,   34.07,2, -999.00,9,    2.43,3,-999.000,9,-999.0000,9, -999.00,9,-999.000,9,-999.000,     0.3720,-999.0000,-999.000, -999.00
06AQANTIX_2,       SR04,      67,          1,         16,         16,2,19901202,       1748,   -66.4633,     -28.73,       4639,   749.9,  34.6785,2,  34.6820,3,  -999.0,9,  126.56,2,   34.07,2, -999.00,9,    2.42,3,-999.000,9,-999.0000,9, -999.00,9,-999.000,9,-999.000,     0.2553,-999.0000,-999.000, -999.00
06AQANTIX_2,       SR04,      67,          1,         15,         15,2,19901202,       1748,   -66.4633,     -28.73,       4639,   997.5,  34.6751,2,  34.6768,3,   210.3,2,  127.34,2,   33.58,2, -999.00,9,    2.41,3,-999.000,9,-999.0000,9, -999.00,9,-999.000,9,-999.000,     0.1556,-999.0000,-999.000, -999.00
06AQANTIX_2,       SR04,      67,          1,         14,         14,2,19901202,       1748,   -66.4633,     -28.73,       4639,  1495.4,  34.6674,2,  34.6694,3,   220.1,2,  126.76,2,   32.79,2, -999.00,9,    2.39,3,-999.000,9,-999.0000,9, -999.00,9,-999.000,9,-999.000,    -0.0231,-999.0000,-999.000, -999.00
06AQANTIX_2,       SR04,      67,          1,         13,         13,2,19901202,       1748,   -66.4633,     -28.73,       4639,  1998.4,  34.6620,2,  34.6650,3,   232.1,2,  126.17,2,   32.89,2, -999.00,9,    2.40,3,-999.000,9,-999.0000,9, -999.00,9,-999.000,9,-999.000,    -0.1641,-999.0000,-999.000, -999.00
06AQANTIX_2,       SR04,      67,          1,         12,         12,2,19901202,       1748,   -66.4633,     -28.73,       4639,  2496.3,  34.6585,2,  34.6599,3,   237.1,2,  125.29,2,   32.69,2, -999.00,9,    2.35,3,-999.000,9,-999.0000,9, -999.00,9,-999.000,9,-999.000,    -0.2458,-999.0000,-999.000, -999.00
06AQANTIX_2,       SR04,      67,          1,         11,         11,2,19901202,       1748,   -66.4633,     -28.73,       4639,  3000.5,  34.6566,2,  34.6574,3,  -999.0,9,  125.19,2,   32.59,2, -999.00,9,    2.32,3,-999.000,9,-999.0000,9, -999.00,9,-999.000,9,-999.000,    -0.3071,-999.0000,-999.000, -999.00
06AQANTIX_2,       SR04,      67,          1,         10,         10,2,19901202,       1748,   -66.4633,     -28.73,       4639,  3000.6,  34.6561,2,  34.6568,3,  -999.0,9,  125.19,2,   32.50,2, -999.00,9,    2.32,3,-999.000,9,-999.0000,9, -999.00,9,-999.000,9,-999.000,    -0.3069,-999.0000,-999.000, -999.00
06AQANTIX_2,       SR04,      67,          1,          9,          9,2,19901202,       1748,   -66.4633,     -28.73,       4639,  3000.6,  34.6562,2,  34.6590,3,  -999.0,9,  123.23,2,   31.81,2, -999.00,9,    2.31,3,-999.000,9,-999.0000,9, -999.00,9,-999.000,9,-999.000,    -0.3070,-999.0000,-999.000, -999.00
06AQANTIX_2,       SR04,      67,          1,          8,          8,2,19901202,       1748,   -66.4633,     -28.73,       4639,  3000.6,  34.6561,2,  34.6590,3,  -999.0,9,  125.09,2,   32.50,2, -999.00,9,    2.31,3,-999.000,9,-999.0000,9, -999.00,9,-999.000,9,-999.000,    -0.3070,-999.0000,-999.000, -999.00
06AQANTIX_2,       SR04,      67,          1,          7,          7,2,19901202,       1748,   -66.4633,     -28.73,       4639,  3000.7,  34.6567,2,  34.6601,3,   238.9,2,  125.09,2,   32.50,2, -999.00,9,    2.30,3,-999.000,9,-999.0000,9, -999.00,9,-999.000,9,-999.000,    -0.3076,-999.0000,-999.000, -999.00
06AQANTIX_2,       SR04,      67,          1,          6,          6,2,19901202,       1748,   -66.4633,     -28.73,       4639,  3000.7,  34.6567,2,  34.6601,3,  -999.0,9,  124.70,2, -999.00,9, -999.00,9, -999.00,9,-999.000,9,-999.0000,9, -999.00,9,-999.000,9,-999.000,    -0.3076,-999.0000,-999.000, -999.00
06AQANTIX_2,       SR04,      67,          1,          5,          5,2,19901202,       1748,   -66.4633,     -28.73,       4639,  3502.0,  34.6538,2,  34.6585,3,   242.9,2,  124.51,2,   32.59,2, -999.00,9,    2.29,3,-999.000,9,-999.0000,9, -999.00,9,-999.000,9,-999.000,    -0.3549,-999.0000,-999.000, -999.00
06AQANTIX_2,       SR04,      67,          1,          4,          4,2,19901202,       1748,   -66.4633,     -28.73,       4639,  4000.7,  34.6534,2,  34.6583,3,  -999.0,9,  125.29,2,   32.59,2, -999.00,9,    2.30,3,-999.000,9,-999.0000,9, -999.00,9,-999.000,9,-999.000,    -0.3926,-999.0000,-999.000, -999.00
06AQANTIX_2,       SR04,      67,          1,          3,          3,2,19901202,       1748,   -66.4633,     -28.73,       4639,  4502.6,  34.6481,2,  34.6479,3,   251.1,2,  118.54,2,   32.30,2, -999.00,9,    2.30,3,-999.000,9,-999.0000,9, -999.00,9,-999.000,9,-999.000,    -0.4829,-999.0000,-999.000, -999.00
06AQANTIX_2,       SR04,      67,          1,          2,          2,2,19901202,       1748,   -66.4633,     -28.73,       4639,  4874.2,  34.6405,2,  34.6396,3,   260.1,2,  122.94,2,   32.40,2, -999.00,9,    2.28,3,-999.000,9,-999.0000,9, -999.00,9,-999.000,9,-999.000,    -0.5442,-999.0000,-999.000, -999.00
06AQANTIX_2,       SR04,      67,          1,          1,          1,2,19901202,       1748,   -66.4633,     -28.73,       4639,  4902.0,  34.6396,2,-999.0000,9,  -999.0,9,  123.23,2,   32.40,2, -999.00,9,    2.32,3,-999.000,9,-999.0000,9, -999.00,9,-999.000,9,-999.000,    -0.5450,-999.0000,-999.000, -999.00
06AQANTIX_2,       SR04,      68,          1,         24,         24,2,19901202,       2335,   -66.5167,   -27.9817,       4644,     1.4,  34.3762,2,  34.3740,3,   327.2,2,   71.96,2,   27.30,2,    0.16,2,    2.03,3,-999.000,9,-999.0000,9, -999.00,9,-999.000,9,-999.000,    -1.7358,-999.0000,-999.000, -999.00
06AQANTIX_2,       SR04,      68,          1,         23,         23,2,19901202,       2335,   -66.5167,   -27.9817,       4644,    22.6,  34.3913,2,-999.0000,9,   318.9,2,   71.96,2,   27.30,2,    0.15,2,    2.04,3,-999.000,9,-999.0000,9, -999.00,9,-999.000,9,-999.000,    -1.7498,-999.0000,-999.000, -999.00
06AQANTIX_2,       SR04,      68,          1,         22,         22,2,19901202,       2335,   -66.5167,   -27.9817,       4644,    50.1,  34.4503,2,-999.0000,9,   315.3,2,   70.88,2,   27.69,2,    0.20,2,    2.07,3,-999.000,9,-999.0000,9, -999.00,9,-999.000,9,-999.000,    -1.8359,-999.0000,-999.000, -999.00
06AQANTIX_2,       SR04,      68,          1,         21,         21,2,19901202,       2335,   -66.5167,   -27.9817,       4644,    72.3,  34.4634,2,-999.0000,9,   311.8,2,   70.88,2,   27.89,2,    0.17,2,    2.07,3,-999.000,9,-999.0000,9, -999.00,9,-999.000,9,-999.000,    -1.8376,-999.0000,-999.000, -999.00
06AQANTIX_2,       SR04,      68,          1,         20,         20,2,19901202,       2335,   -66.5167,   -27.9817,       4644,   102.1,  34.4790,2,-999.0000,9,   279.5,2,   80.47,2,   29.16,2,    0.05,2,    2.18,3,-999.000,9,-999.0000,9, -999.00,9,-999.000,9,-999.000,    -1.6785,-999.0000,-999.000, -999.00
06AQANTIX_2,       SR04,      68,          1,         19,         19,2,19901202,       2335,   -66.5167,   -27.9817,       4644,   152.3,  34.6584,2,  34.6579,3,   205.3,2,  104.93,2,   32.20,2,    0.01,2,    2.41,3,-999.000,9,-999.0000,9, -999.00,9,-999.000,9,-999.000,     0.3194,-999.0000,-999.000, -999.00
06AQANTIX_2,       SR04,      68,          1,         18,         18,2,19901202,       2335,   -66.5167,   -27.9817,       4644,   231.6,  34.6824,2,  34.6842,3,   196.7,2,  112.76,2,   32.40,2,    0.01,2,    2.42,3,-999.000,9,-999.0000,9, -999.00,9,-999.000,9,-999.000,     0.5797,-999.0000,-999.000, -999.00
06AQANTIX_2,       SR04,      68,          1,         17,         17,2,19901202,       2335,   -66.5167,   -27.9817,       4644,   300.2,  34.6841,2,  34.6855,3,   196.5,2,  115.50,2,   32.50,2,    0.00,2,    2.42,3,-999.000,9,-999.0000,9, -999.00,9,-999.000,9,-999.000,     0.5409,-999.0000,-999.000, -999.00
06AQANTIX_2,       SR04,      68,          1,         16,         16,2,19901202,       2335,   -66.5167,   -27.9817,       4644,   398.7,  34.6847,2,  34.6869,3,   199.7,2,  119.71,2,   32.59,2,    0.00,2,    2.44,3,-999.000,9,-999.0000,9, -999.00,9,-999.000,9,-999.000,     0.4896,-999.0000,-999.000, -999.00
06AQANTIX_2,       SR04,      68,          1,         15,         15,2,19901202,       2335,   -66.5167,   -27.9817,       4644,   698.3,  34.6800,2,  34.6819,3,   206.4,2,  125.58,2,   32.89,2,    0.01,2,    2.45,3,-999.000,9,-999.0000,9, -999.00,9,-999.000,9,-999.000,     0.2995,-999.0000,-999.000, -999.00
06AQANTIX_2,       SR04,      68,          1,         14,         14,2,19901202,       2335,   -66.5167,   -27.9817,       4644,   995.4,  34.6764,2,  34.6770,3,   207.2,2,  126.95,2,   32.59,2,    0.00,2,    2.44,3,-999.000,9,-999.0000,9, -999.00,9,-999.000,9,-999.000,     0.1772,-999.0000,-999.000, -999.00
06AQANTIX_2,       SR04,      68,          1,         13,         13,2,19901202,       2335,   -66.5167,   -27.9817,       4644,  1495.4,  34.6684,2,  34.6696,3,   223.0,2,  127.05,2,   32.30,2,    0.00,2,    2.42,3,-999.000,9,-999.0000,9, -999.00,9,-999.000,9,-999.000,    -0.0136,-999.0000,-999.000, -999.00
06AQANTIX_2,       SR04,      68,          1,         12,         12,2,19901202,       2335,   -66.5167,   -27.9817,       4644,  1996.4,  34.6619,2,  34.6649,3,   231.8,2,  126.46,2,   32.10,2,    0.00,2,    2.41,3,-999.000,9,-999.0000,9, -999.00,9,-999.000,9,-999.000,    -0.1542,-999.0000,-999.000, -999.00
06AQANTIX_2,       SR04,      68,          1,         11,         11,2,19901202,       2335,   -66.5167,   -27.9817,       4644,  2497.5,  34.6585,2,  34.6601,3,   235.4,2,  125.68,2,   32.00,2,    0.00,2,    2.38,3,-999.000,9,-999.0000,9, -999.00,9,-999.000,9,-999.000,    -0.2448,-999.0000,-999.000, -999.00
06AQANTIX_2,       SR04,      68,          1,         10,         10,2,19901202,       2335,   -66.5167,   -27.9817,       4644,  3001.8,  34.6562,2,  34.6579,3,   238.6,2,  125.00,2,   31.91,2,    0.00,2,    2.34,3,-999.000,9,-999.0000,9, -999.00,9,-999.000,9,-999.000,    -0.3047,-999.0000,-999.000, -999.00
06AQANTIX_2,       SR04,      68,          1,          8,          8,2,19901202,       2335,   -66.5167,   -27.9817,       4644,  3503.8,  34.6543,2,  34.6563,3,   243.4,2,  124.41,2,   31.71,2,    0.00,2,    2.34,3,-999.000,9,-999.0000,9, -999.00,9,-999.000,9,-999.000,    -0.3543,-999.0000,-999.000, -999.00
06AQANTIX_2,       SR04,      68,          1,          9,          9,2,19901202,       2335,   -66.5167,   -27.9817,       4644,  3506.3,  34.6532,2,  34.6553,3,  -999.0,9,  124.51,2,   31.81,2,    0.01,2,    2.33,3,-999.000,9,-999.0000,9, -999.00,9,-999.000,9,-999.000,    -0.3542,-999.0000,-999.000, -999.00
06AQANTIX_2,       SR04,      68,          1,          7,          7,2,19901202,       2335,   -66.5167,   -27.9817,       4644,  4004.0,  34.6542,2,  34.6528,3,  -999.0,9,  125.00,2,   31.61,2,    0.01,2,    2.34,3,-999.000,9,-999.0000,9, -999.00,9,-999.000,9,-999.000,    -0.3936,-999.0000,-999.000, -999.00
06AQANTIX_2,       SR04,      68,          1,          6,          6,2,19901202,       2335,   -66.5167,   -27.9817,       4644,  4205.2,  34.6515,2,  34.6508,3,   253.9,2,  123.04,2,   31.51,2,    0.00,2,    2.34,3,-999.000,9,-999.0000,9, -999.00,9,-999.000,9,-999.000,    -0.4208,-999.0000,-999.000, -999.00
06AQANTIX_2,       SR04,      68,          1,          5,          5,2,19901202,       2335,   -66.5167,   -27.9817,       4644,  4504.1,  34.6470,2,  34.6459,3,   252.7,2,  116.97,2,   31.22,2,    0.00,2,    2.33,3,-999.000,9,-999.0000,9, -999.00,9,-999.000,9,-999.000,    -0.4922,-999.0000,-999.000, -999.00
06AQANTIX_2,       SR04,      68,          1,          4,          4,2,19901202,       2335,   -66.5167,   -27.9817,       4644,  4704.8,  34.6461,2,  34.6454,3,   253.0,2,  118.83,2,   31.32,2,    0.00,2,    2.33,3,-999.000,9,-999.0000,9, -999.00,9,-999.000,9,-999.000,    -0.5165,-999.0000,-999.000, -999.00
06AQANTIX_2,       SR04,      68,          1,          3,          3,2,19901202,       2335,   -66.5167,   -27.9817,       4644,  4884.6,  34.6383,2,  34.6368,3,   256.0,2,  119.03,2,   31.32,2,   -0.01,4,    2.34,3,-999.000,9,-999.0000,9, -999.00,9,-999.000,9,-999.000,    -0.5613,-999.0000,-999.000, -999.00
06AQANTIX_2,       SR04,      68,          1,          2,          2,2,19901202,       2335,   -66.5167,   -27.9817,       4644,  4888.5,  34.6386,2,  34.6382,3,   258.2,2,  119.03,2,   31.22,2,    0.00,2,    2.32,3,-999.000,9,-999.0000,9, -999.00,9,-999.000,9,-999.000,    -0.5617,-999.0000,-999.000, -999.00
06AQANTIX_2,       SR04,      68,          1,          1,          1,2,19901202,       2335,   -66.5167,   -27.9817,       4644,  4908.0,  34.6375,2,-999.0000,9,   257.9,2,  119.03,2,   31.32,2,    0.00,2,    2.34,3,-999.000,9,-999.0000,9, -999.00,9,-999.000,9,-999.000,    -0.5610,-999.0000,-999.000, -999.00