BOTTLE,20220818CCHSIOAMB
EXPOCODE,SECT_ID,STNNBR,CASTNO,SAMPNO,BTLNBR,BTLNBR_FLAG_W,DATE,TIME,LATITUDE,LONGITUDE,DEPTH,CTDPRS,CTDSAL,CTDSAL_FLAG_W,SALNTY,SALNTY_FLAG_W,OXYGEN,OXYGEN_FLAG_W,SILCAT,SILCAT_FLAG_W,NITRAT,NITRAT_FLAG_W,NITRIT,NITRIT_FLAG_W,PHSPHT,PHSPHT_FLAG_W,TRITUM,TRITUM_FLAG_W,HELIUM,HELIUM_FLAG_W,DELHE3,DELHE3_FLAG_W,NEON,NEON_FLAG_W,NEONER,CTDTMP,HELIER,TRITER,DELHER
,,,,,,,,,,,METERS,DBAR,PSS-78,,PSS-78,,UMOL/KG,,UMOL/KG,,UMOL/KG,,UMOL/KG,,UMOL/KG,,TU,,NMOL/KG,,PERCNT,,NMOL/KG,,NMOL/KG,IPTS-68,NMOL/KG,TU,PERCNT
06AQANTIX_2,       SR04,      65,          1,         24,         24,2,19901202,       0525,     -66.28,   -30.2933,       4590,     1.6,  34.3743,2,  34.3779,3,   318.7,2,   74.04,2,   27.98,2,    0.19,2,    1.96,3,-999.000,9,-999.0000,9, -999.00,9,-999.000,9,-999.000,    -1.7118,-999.0000,-999.000, -999.00
06AQANTIX_2,       SR04,      65,          1,         23,         23,2,19901202,       0525,     -66.28,   -30.2933,       4590,    25.2,  34.3802,2,-999.0000,9,   315.2,2,   74.29,2,   28.10,2,    0.18,2,    1.98,3,-999.000,9,-999.0000,9, -999.00,9,-999.000,9,-999.000,    -1.7236,-999.0000,-999.000, -999.00
06AQANTIX_2,       SR04,      65,          1,         22,         22,2,19901202,       0525,     -66.28,   -30.2933,       4590,    52.7,  34.4189,2,-999.0000,9,  -999.0,9,   75.72,2,   28.60,2,    0.19,2,    2.03,3,-999.000,9,-999.0000,9, -999.00,9,-999.000,9,-999.000,    -1.8142,-999.0000,-999.000, -999.00
06AQANTIX_2,       SR04,      65,          1,         21,         21,2,19901202,       0525,     -66.28,   -30.2933,       4590,    71.9,  34.4417,2,-999.0000,9,   299.9,2,   76.17,2,   29.00,2,    0.18,2,    2.04,3,-999.000,9,-999.0000,9, -999.00,9,-999.000,9,-999.000,    -1.8066,-999.0000,-999.000, -999.00
06AQANTIX_2,       SR04,      65,          1,         20,         20,2,19901202,       0525,     -66.28,   -30.2933,       4590,   101.8,  34.5622,2,-999.0000,9,  -999.0,9,   94.93,2,   31.99,2,    0.03,2,    2.25,3,-999.000,9,-999.0000,9, -999.00,9,-999.000,9,-999.000,    -0.6683,-999.0000,-999.000, -999.00
06AQANTIX_2,       SR04,      65,          1,         19,         19,2,19901202,       0525,     -66.28,   -30.2933,       4590,   252.3,  34.6762,2,  34.6769,3,   201.0,2,  112.32,2,   33.65,2,    0.01,2,    2.37,3,-999.000,9,-999.0000,9, -999.00,9,-999.000,9,-999.000,     0.4582,-999.0000,-999.000, -999.00
06AQANTIX_2,       SR04,      65,          1,         18,         18,2,19901202,       0525,     -66.28,   -30.2933,       4590,   498.5,  34.6829,2,  34.6820,3,   197.5,2,  122.81,2,   33.88,2,    0.01,2,    2.39,3,-999.000,9,-999.0000,9, -999.00,9,-999.000,9,-999.000,     0.3834,-999.0000,-999.000, -999.00
06AQANTIX_2,       SR04,      65,          1,         17,         17,2,19901202,       0525,     -66.28,   -30.2933,       4590,   749.6,  34.6794,2,  34.6799,3,  -999.0,9,  125.81,2,   33.83,2,    0.01,2,    2.39,3,-999.000,9,-999.0000,9, -999.00,9,-999.000,9,-999.000,     0.2649,-999.0000,-999.000, -999.00
06AQANTIX_2,       SR04,      65,          1,         16,         16,2,19901202,       0525,     -66.28,   -30.2933,       4590,   998.1,  34.6760,2,  34.6765,3,   210.0,2,  126.85,2,   33.56,2,    0.02,2,    2.38,3,-999.000,9,-999.0000,9, -999.00,9,-999.000,9,-999.000,     0.1584,-999.0000,-999.000, -999.00
06AQANTIX_2,       SR04,      65,          1,         15,         15,2,19901202,       0525,     -66.28,   -30.2933,       4590,  1247.2,  34.6714,2,  34.6724,3,   216.0,2,  127.10,2,   33.35,2,    0.02,2,    2.37,3,-999.000,9,-999.0000,9, -999.00,9,-999.000,9,-999.000,     0.0595,-999.0000,-999.000, -999.00
06AQANTIX_2,       SR04,      65,          1,         14,         14,2,19901202,       0525,     -66.28,   -30.2933,       4590,  1497.1,  34.6674,2,  34.6686,3,   220.6,2,  126.95,2,   33.13,2,    0.03,2,    2.37,3,-999.000,9,-999.0000,9, -999.00,9,-999.000,9,-999.000,    -0.0263,-999.0000,-999.000, -999.00
06AQANTIX_2,       SR04,      65,          1,         13,         13,2,19901202,       0525,     -66.28,   -30.2933,       4590,  1748.0,  34.6649,2,  34.6654,3,   227.7,2,  126.61,2,   32.97,2,    0.02,2,    2.35,3,-999.000,9,-999.0000,9, -999.00,9,-999.000,9,-999.000,    -0.1053,-999.0000,-999.000, -999.00
06AQANTIX_2,       SR04,      65,          1,         12,         12,2,19901202,       0525,     -66.28,   -30.2933,       4590,  1999.3,  34.6618,2,  34.6626,3,   229.5,2,  126.27,2,   32.87,2,    0.02,2,    2.36,3,-999.000,9,-999.0000,9, -999.00,9,-999.000,9,-999.000,    -0.1658,-999.0000,-999.000, -999.00
06AQANTIX_2,       SR04,      65,          1,         11,         11,2,19901202,       0525,     -66.28,   -30.2933,       4590,  2298.3,  34.6600,2,  34.6609,3,   233.3,2,  125.73,2,   32.77,2,    0.02,2,    2.34,3,-999.000,9,-999.0000,9, -999.00,9,-999.000,9,-999.000,    -0.2264,-999.0000,-999.000, -999.00
06AQANTIX_2,       SR04,      65,          1,         10,         10,2,19901202,       0525,     -66.28,   -30.2933,       4590,  2497.8,  34.6597,2,  34.6599,3,  -999.0,9,  125.39,2,   32.61,2,    0.00,2,    2.32,3,-999.000,9,-999.0000,9, -999.00,9,-999.000,9,-999.000,    -0.2531,-999.0000,-999.000, -999.00
06AQANTIX_2,       SR04,      65,          1,          9,          9,2,19901202,       0525,     -66.28,   -30.2933,       4590,  2999.7,  34.6575,2,  34.6574,3,   241.3,2,  124.65,2,   32.51,2,    0.01,2,    2.31,3,-999.000,9,-999.0000,9, -999.00,9,-999.000,9,-999.000,    -0.3111,-999.0000,-999.000, -999.00
06AQANTIX_2,       SR04,      65,          1,          8,          8,2,19901202,       0525,     -66.28,   -30.2933,       4590,  3501.4,  34.6550,2,  34.6551,3,   242.9,2,  124.31,2,   32.40,2,    0.02,2,    2.31,3,-999.000,9,-999.0000,9, -999.00,9,-999.000,9,-999.000,    -0.3591,-999.0000,-999.000, -999.00
06AQANTIX_2,       SR04,      65,          1,          6,          6,2,19901202,       0525,     -66.28,   -30.2933,       4590,  4002.1,  34.6531,2,  34.6525,3,   247.2,2,  124.80,2,   32.31,2,    0.01,2,    2.29,3,-999.000,9,-999.0000,9, -999.00,9,-999.000,9,-999.000,    -0.4043,-999.0000,-999.000, -999.00
06AQANTIX_2,       SR04,      65,          1,          5,          5,2,19901202,       0525,     -66.28,   -30.2933,       4590,  4002.1,  34.6532,2,  34.6534,3,  -999.0,9,  124.85,2,   32.31,2,    0.00,2,    2.29,3,-999.000,9,-999.0000,9, -999.00,9,-999.000,9,-999.000,    -0.4044,-999.0000,-999.000, -999.00
06AQANTIX_2,       SR04,      65,          1,          4,          4,2,19901202,       0525,     -66.28,   -30.2933,       4590,  4002.1,  34.6533,2,  34.6541,3,  -999.0,9,  124.91,2,   32.26,2,    0.00,2,    2.29,3,-999.000,9,-999.0000,9, -999.00,9,-999.000,9,-999.000,    -0.4045,-999.0000,-999.000, -999.00
06AQANTIX_2,       SR04,      65,          1,          7,          7,2,19901202,       0525,     -66.28,   -30.2933,       4590,  4002.2,  34.6533,2,  34.6535,3,  -999.0,9,  124.95,2,   32.35,2,    0.01,2,    2.30,3,-999.000,9,-999.0000,9, -999.00,9,-999.000,9,-999.000,    -0.4040,-999.0000,-999.000, -999.00
06AQANTIX_2,       SR04,      65,          1,          3,          3,2,19901202,       0525,     -66.28,   -30.2933,       4590,  4502.7,  34.6472,2,  34.6460,3,   254.5,2,  116.69,2,   32.05,2,    0.00,2,    2.27,3,-999.000,9,-999.0000,9, -999.00,9,-999.000,9,-999.000,    -0.5082,-999.0000,-999.000, -999.00
06AQANTIX_2,       SR04,      65,          1,          2,          2,2,19901202,       0525,     -66.28,   -30.2933,       4590,  4844.9,  34.6376,2,  34.6374,3,  -999.0,9,  116.94,2,   32.06,2,    0.00,2,    2.26,3,-999.000,9,-999.0000,9, -999.00,9,-999.000,9,-999.000,    -0.5702,-999.0000,-999.000, -999.00
06AQANTIX_2,       SR04,      65,          1,          1,          1,2,19901202,       0525,     -66.28,   -30.2933,       4590,  4866.0,  34.6374,2,-999.0000,9,   256.5,2,  116.60,2,   32.06,2,    0.00,2,    2.26,3,-999.000,9,-999.0000,9, -999.00,9,-999.000,9,-999.000,    -0.5730,-999.0000,-999.000, -999.00
06AQANTIX_2,       SR04,      66,          1,         24,         24,2,19901202,       1303,   -66.3617,    -29.535,       4602,     1.6,  34.3141,2,  34.3189,3,   320.1,2,   77.02,2,   27.65,2,    0.16,2,    2.00,3,-999.000,9,-999.0000,9, -999.00,9,-999.000,9,-999.000,    -1.5507,-999.0000,-999.000, -999.00
06AQANTIX_2,       SR04,      66,          1,         23,         23,2,19901202,       1303,   -66.3617,    -29.535,       4602,     8.3,  34.3177,2,  34.3188,3,   319.6,2,   77.08,2,   27.68,2,    0.17,2,    2.00,3,-999.000,9,-999.0000,9, -999.00,9,-999.000,9,-999.000,    -1.5807,-999.0000,-999.000, -999.00
06AQANTIX_2,       SR04,      66,          1,         22,         22,2,19901202,       1303,   -66.3617,    -29.535,       4602,     8.3,  34.3174,2,  34.3229,3,   319.4,2,   77.14,2,   27.66,2,    0.17,2,    2.01,3,-999.000,9,-999.0000,9, -999.00,9,-999.000,9,-999.000,    -1.5823,-999.0000,-999.000, -999.00
06AQANTIX_2,       SR04,      66,          1,         21,         21,2,19901202,       1303,   -66.3617,    -29.535,       4602,    28.5,  34.3688,2,-999.0000,9,   307.4,2,   77.00,2,   27.81,2,    0.16,2,    2.02,3,-999.000,9,-999.0000,9, -999.00,9,-999.000,9,-999.000,    -1.7582,-999.0000,-999.000, -999.00
06AQANTIX_2,       SR04,      66,          1,         20,         20,2,19901202,       1303,   -66.3617,    -29.535,       4602,    46.2,  34.4235,2,-999.0000,9,   308.2,2,   75.10,2,   28.08,2,    0.20,2,    2.03,3,-999.000,9,-999.0000,9, -999.00,9,-999.000,9,-999.000,    -1.8044,-999.0000,-999.000, -999.00
06AQANTIX_2,       SR04,      66,          1,         19,         19,2,19901202,       1303,   -66.3617,    -29.535,       4602,    70.2,  34.4596,2,  34.4598,3,   313.9,2,   73.20,2,   28.24,2,    0.22,2,    2.03,3,-999.000,9,-999.0000,9, -999.00,9,-999.000,9,-999.000,    -1.8247,-999.0000,-999.000, -999.00
06AQANTIX_2,       SR04,      66,          1,         18,         18,2,19901202,       1303,   -66.3617,    -29.535,       4602,   105.9,  34.4855,2,-999.0000,9,   274.3,2,   83.65,2,   29.78,2,    0.06,2,    2.14,3,-999.000,9,-999.0000,9, -999.00,9,-999.000,9,-999.000,    -1.6760,-999.0000,-999.000, -999.00
06AQANTIX_2,       SR04,      66,          1,         17,         17,2,19901202,       1303,   -66.3617,    -29.535,       4602,   148.2,  34.6636,2,  34.6649,3,   198.3,2,  109.57,2,   33.02,2,    0.02,2,    2.37,3,-999.000,9,-999.0000,9, -999.00,9,-999.000,9,-999.000,     0.3173,-999.0000,-999.000, -999.00
06AQANTIX_2,       SR04,      66,          1,         16,         16,2,19901202,       1303,   -66.3617,    -29.535,       4602,   148.2,  34.6636,2,  34.6649,3,  -999.0,9,  109.43,2,   33.05,2,    0.02,2,    2.39,3,-999.000,9,-999.0000,9, -999.00,9,-999.000,9,-999.000,     0.3173,-999.0000,-999.000, -999.00
06AQANTIX_2,       SR04,      66,          1,         15,         15,2,19901202,       1303,   -66.3617,    -29.535,       4602,   222.2,  34.6794,2,  34.6816,3,   202.1,2,  115.76,2,   33.26,2,    0.01,2,    2.40,3,-999.000,9,-999.0000,9, -999.00,9,-999.000,9,-999.000,     0.4702,-999.0000,-999.000, -999.00
06AQANTIX_2,       SR04,      66,          1,         14,         14,2,19901202,       1303,   -66.3617,    -29.535,       4602,   297.5,  34.6825,2,  34.6843,3,   194.6,2,  119.74,2,   33.53,2,    0.01,2,    2.43,3,-999.000,9,-999.0000,9, -999.00,9,-999.000,9,-999.000,     0.4565,-999.0000,-999.000, -999.00
06AQANTIX_2,       SR04,      66,          1,         13,         13,2,19901202,       1303,   -66.3617,    -29.535,       4602,   297.5,  34.6825,2,  34.6843,3,  -999.0,9,  119.60,2,   33.37,2,    0.01,2,    2.40,3,-999.000,9,-999.0000,9, -999.00,9,-999.000,9,-999.000,     0.4565,-999.0000,-999.000, -999.00
06AQANTIX_2,       SR04,      66,          1,         12,         12,2,19901202,       1303,   -66.3617,    -29.535,       4602,   396.1,  34.6825,2,  34.6833,3,   199.3,2,  122.40,2,   33.52,2,    0.02,2,    2.40,3,-999.000,9,-999.0000,9, -999.00,9,-999.000,9,-999.000,     0.3962,-999.0000,-999.000, -999.00
06AQANTIX_2,       SR04,      66,          1,         11,         11,2,19901202,       1303,   -66.3617,    -29.535,       4602,   495.3,  34.6815,2,  34.6821,3,   202.3,2,  123.63,2,   33.54,2,    0.01,2,    2.40,3,-999.000,9,-999.0000,9, -999.00,9,-999.000,9,-999.000,     0.3442,-999.0000,-999.000, -999.00
06AQANTIX_2,       SR04,      66,          1,         10,         10,2,19901202,       1303,   -66.3617,    -29.535,       4602,   495.3,  34.6815,2,  34.6821,3,  -999.0,9,  123.69,2,   33.57,2,    0.01,2,    2.40,3,-999.000,9,-999.0000,9, -999.00,9,-999.000,9,-999.000,     0.3442,-999.0000,-999.000, -999.00
06AQANTIX_2,       SR04,      66,          1,          9,          9,2,19901202,       1303,   -66.3617,    -29.535,       4602,   794.3,  34.6788,2,  34.6797,3,   204.8,2,  125.90,2,   33.17,2,    0.01,2,    2.38,3,-999.000,9,-999.0000,9, -999.00,9,-999.000,9,-999.000,     0.2216,-999.0000,-999.000, -999.00
06AQANTIX_2,       SR04,      66,          1,          8,          8,2,19901202,       1303,   -66.3617,    -29.535,       4602,  1294.7,  34.6712,2,  34.6707,3,   216.6,2,  126.74,2,   32.77,2,    0.00,2,    2.35,3,-999.000,9,-999.0000,9, -999.00,9,-999.000,9,-999.000,     0.0281,-999.0000,-999.000, -999.00
06AQANTIX_2,       SR04,      66,          1,          7,          7,2,19901202,       1303,   -66.3617,    -29.535,       4602,  1995.2,  34.6634,2,  34.6634,3,   228.9,2,  126.02,2,   32.44,2,    0.01,2,    2.34,3,-999.000,9,-999.0000,9, -999.00,9,-999.000,9,-999.000,    -0.1545,-999.0000,-999.000, -999.00
06AQANTIX_2,       SR04,      66,          1,          6,          6,2,19901202,       1303,   -66.3617,    -29.535,       4602,  2800.0,  34.6583,2,  34.6583,3,   236.9,2,  125.09,2,   32.23,2,    0.00,2,    2.32,3,-999.000,9,-999.0000,9, -999.00,9,-999.000,9,-999.000,    -0.2837,-999.0000,-999.000, -999.00
06AQANTIX_2,       SR04,      66,          1,          5,          5,2,19901202,       1303,   -66.3617,    -29.535,       4602,  3500.8,  34.6551,2,  34.6550,3,   242.0,2,  123.78,2,   32.13,2,    0.00,2,    2.31,3,-999.000,9,-999.0000,9, -999.00,9,-999.000,9,-999.000,    -0.3463,-999.0000,-999.000, -999.00
06AQANTIX_2,       SR04,      66,          1,          4,          4,2,19901202,       1303,   -66.3617,    -29.535,       4602,  4304.5,  34.6494,2,  34.6480,3,   249.7,2,  119.53,2,   31.92,2,    0.00,2,    2.28,3,-999.000,9,-999.0000,9, -999.00,9,-999.000,9,-999.000,    -0.4509,-999.0000,-999.000, -999.00
06AQANTIX_2,       SR04,      66,          1,          3,          3,2,19901202,       1303,   -66.3617,    -29.535,       4602,  4502.9,  34.6467,2,  34.6442,3,   252.3,2,  116.65,2,   31.89,2,    0.01,2,    2.28,3,-999.000,9,-999.0000,9, -999.00,9,-999.000,9,-999.000,    -0.5008,-999.0000,-999.000, -999.00
06AQANTIX_2,       SR04,      66,          1,          2,          2,2,19901202,       1303,   -66.3617,    -29.535,       4602,  4844.5,  34.6372,2,  34.6369,3,  -999.0,9,  117.10,2,   31.85,2,    0.00,2,    2.28,3,-999.000,9,   1.8720,2,    3.87,2,   8.194,2,   0.041,    -0.5720,   0.0090,-999.000,    0.20
06AQANTIX_2,       SR04,      66,          1,          1,          1,2,19901202,       1303,   -66.3617,    -29.535,       4602,  4870.0,  34.6385,2,  34.6369,3,   257.1,2,  115.79,2,   31.82,2,    0.01,2,    2.26,3,-999.000,9,-999.0000,9, -999.00,9,-999.000,9,-999.000,    -0.5720,-999.0000,-999.000, -999.00