BOTTLE,20220818CCHSIOAMB
EXPOCODE,SECT_ID,STNNBR,CASTNO,SAMPNO,BTLNBR,BTLNBR_FLAG_W,DATE,TIME,LATITUDE,LONGITUDE,DEPTH,CTDPRS,CTDSAL,CTDSAL_FLAG_W,SALNTY,SALNTY_FLAG_W,OXYGEN,OXYGEN_FLAG_W,SILCAT,SILCAT_FLAG_W,NITRAT,NITRAT_FLAG_W,NITRIT,NITRIT_FLAG_W,PHSPHT,PHSPHT_FLAG_W,TRITUM,TRITUM_FLAG_W,HELIUM,HELIUM_FLAG_W,DELHE3,DELHE3_FLAG_W,NEON,NEON_FLAG_W,NEONER,CTDTMP,HELIER,TRITER,DELHER
,,,,,,,,,,,METERS,DBAR,PSS-78,,PSS-78,,UMOL/KG,,UMOL/KG,,UMOL/KG,,UMOL/KG,,UMOL/KG,,TU,,NMOL/KG,,PERCNT,,NMOL/KG,,NMOL/KG,IPTS-68,NMOL/KG,TU,PERCNT
06AQANTIX_2,       SR04,      89,          1,         24,         24,2,19901209,       0242,    -67.665,   -21.6617,       4705,     1.4,  34.3487,2,-999.0000,9,   319.6,2,   69.89,2,   28.30,2,    0.26,2,    1.96,2,-999.000,9,-999.0000,9, -999.00,9,-999.000,9,-999.000,    -1.8146,-999.0000,-999.000, -999.00
06AQANTIX_2,       SR04,      89,          1,         23,         23,2,19901209,       0242,    -67.665,   -21.6617,       4705,     1.4,  34.3478,2,-999.0000,9,   311.4,2,   69.90,2,   28.34,2,    0.26,2,    1.96,2,-999.000,9,-999.0000,9, -999.00,9,-999.000,9,-999.000,    -1.8155,-999.0000,-999.000, -999.00
06AQANTIX_2,       SR04,      89,          1,         22,         22,2,19901209,       0242,    -67.665,   -21.6617,       4705,    20.7,  34.3622,2,-999.0000,9,   313.1,2,   69.90,2,   28.44,2,    0.27,2,    1.96,2,-999.000,9,-999.0000,9, -999.00,9,-999.000,9,-999.000,    -1.8124,-999.0000,-999.000, -999.00
06AQANTIX_2,       SR04,      89,          1,         21,         21,2,19901209,       0242,    -67.665,   -21.6617,       4705,    51.7,  34.4463,2,  34.4503,3,   309.1,2,   70.64,2,   28.73,2,    0.27,2,    1.98,2,-999.000,9,-999.0000,9, -999.00,9,-999.000,9,-999.000,    -1.8236,-999.0000,-999.000, -999.00
06AQANTIX_2,       SR04,      89,          1,         20,         20,2,19901209,       0242,    -67.665,   -21.6617,       4705,    69.7,  34.4568,2,  34.4567,3,   315.9,2,   70.64,2,   28.67,2,    0.26,2,    2.01,2,-999.000,9,-999.0000,9, -999.00,9,-999.000,9,-999.000,    -1.8209,-999.0000,-999.000, -999.00
06AQANTIX_2,       SR04,      89,          1,         19,         19,2,19901209,       0242,    -67.665,   -21.6617,       4705,    99.4,  34.4589,2,-999.0000,9,   249.3,2,   87.82,2,   31.05,2,    0.11,2,    2.16,2,-999.000,9,-999.0000,9, -999.00,9,-999.000,9,-999.000,    -1.5818,-999.0000,-999.000, -999.00
06AQANTIX_2,       SR04,      89,          1,         18,         18,2,19901209,       0242,    -67.665,   -21.6617,       4705,   149.0,  34.6451,2,  34.6461,3,   207.7,2,   99.94,2,   32.63,2,    0.00,2,    2.27,2,-999.000,9,-999.0000,9, -999.00,9,-999.000,9,-999.000,     0.3056,-999.0000,-999.000, -999.00
06AQANTIX_2,       SR04,      89,          1,         17,         17,2,19901209,       0242,    -67.665,   -21.6617,       4705,   198.5,  34.6639,2,  34.6703,3,  -999.0,9,  104.42,2,   32.77,2,    0.00,2,    2.28,2,-999.000,9,-999.0000,9, -999.00,9,-999.000,9,-999.000,     0.4980,-999.0000,-999.000, -999.00
06AQANTIX_2,       SR04,      89,          1,         16,         16,2,19901209,       0242,    -67.665,   -21.6617,       4705,   252.0,  34.6824,2,  34.6849,3,   196.3,2,  109.09,2,   32.76,2,    0.01,2,    2.28,2,-999.000,9,-999.0000,9, -999.00,9,-999.000,9,-999.000,     0.6737,-999.0000,-999.000, -999.00
06AQANTIX_2,       SR04,      89,          1,         15,         15,2,19901209,       0242,    -67.665,   -21.6617,       4705,   302.1,  34.6895,2,  34.6944,3,   196.8,2,  112.08,2,   32.75,2,    0.01,2,    2.28,2,-999.000,9,-999.0000,9, -999.00,9,-999.000,9,-999.000,     0.6883,-999.0000,-999.000, -999.00
06AQANTIX_2,       SR04,      89,          1,         14,         14,2,19901209,       0242,    -67.665,   -21.6617,       4705,   502.6,  34.6862,2,-999.0000,9,   199.8,2,  119.17,2,   32.99,2,    0.01,2,    2.31,2,-999.000,9,-999.0000,9, -999.00,9,-999.000,9,-999.000,     0.4931,-999.0000,-999.000, -999.00
06AQANTIX_2,       SR04,      89,          1,         13,         13,2,19901209,       0242,    -67.665,   -21.6617,       4705,   998.4,  34.6771,2,  34.6849,3,   206.5,2,  125.89,2,   33.08,2,    0.00,2,    2.32,2,-999.000,9,-999.0000,9, -999.00,9,-999.000,9,-999.000,     0.2332,-999.0000,-999.000, -999.00
06AQANTIX_2,       SR04,      89,          1,         12,         12,2,19901209,       0242,    -67.665,   -21.6617,       4705,  1496.6,  34.6697,2,  34.6719,3,   219.2,2,  126.64,2,   32.68,2,    0.00,2,    2.30,2,-999.000,9,-999.0000,9, -999.00,9,-999.000,9,-999.000,     0.0412,-999.0000,-999.000, -999.00
06AQANTIX_2,       SR04,      89,          1,         11,         11,2,19901209,       0242,    -67.665,   -21.6617,       4705,  1999.6,  34.6628,2,  34.6641,3,   226.5,2,  126.46,2,   32.42,2,    0.00,2,    2.28,2,-999.000,9,-999.0000,9, -999.00,9,-999.000,9,-999.000,    -0.1081,-999.0000,-999.000, -999.00
06AQANTIX_2,       SR04,      89,          1,         10,         10,2,19901209,       0242,    -67.665,   -21.6617,       4705,  2500.0,  34.6587,2,  34.6608,3,   233.5,2,  125.90,2,   32.21,2,    0.00,2,    2.27,2,-999.000,9,-999.0000,9, -999.00,9,-999.000,9,-999.000,    -0.2150,-999.0000,-999.000, -999.00
06AQANTIX_2,       SR04,      89,          1,          8,          8,2,19901209,       0242,    -67.665,   -21.6617,       4705,  3001.7,  34.6562,2,  34.6616,3,  -999.0,9,  124.97,2,   32.19,2,    0.01,2,    2.25,2,-999.000,9,-999.0000,9, -999.00,9,-999.000,9,-999.000,    -0.2779,-999.0000,-999.000, -999.00
06AQANTIX_2,       SR04,      89,          1,          9,          9,2,19901209,       0242,    -67.665,   -21.6617,       4705,  3001.9,  34.6563,2,  34.6587,3,   237.5,2,  124.97,2,   32.15,2,    0.01,2,    2.25,2,-999.000,9,-999.0000,9, -999.00,9,-999.000,9,-999.000,    -0.2778,-999.0000,-999.000, -999.00
06AQANTIX_2,       SR04,      89,          1,          7,          7,2,19901209,       0242,    -67.665,   -21.6617,       4705,  3502.0,  34.6545,2,  34.6547,3,   242.0,2,  124.60,2,   32.03,2,    0.00,2,    2.24,2,-999.000,9,-999.0000,9, -999.00,9,-999.000,9,-999.000,    -0.3282,-999.0000,-999.000, -999.00
06AQANTIX_2,       SR04,      89,          1,          6,          6,2,19901209,       0242,    -67.665,   -21.6617,       4705,  4001.4,  34.6545,2,  34.6574,3,   244.8,2,  124.98,2,   31.97,2,    0.02,2,    2.25,2,-999.000,9,-999.0000,9, -999.00,9,-999.000,9,-999.000,    -0.3605,-999.0000,-999.000, -999.00
06AQANTIX_2,       SR04,      89,          1,          5,          5,2,19901209,       0242,    -67.665,   -21.6617,       4705,  4504.6,  34.6507,2,  34.6533,3,   249.1,2,  122.55,2,   31.96,2,    0.01,2,    2.26,2,-999.000,9,-999.0000,9, -999.00,9,-999.000,9,-999.000,    -0.4058,-999.0000,-999.000, -999.00
06AQANTIX_2,       SR04,      89,          1,          4,          4,2,19901209,       0242,    -67.665,   -21.6617,       4705,  4703.6,  34.6498,2,  34.6500,3,   251.5,2,  119.94,2,   31.91,2,    0.01,2,    2.25,2,-999.000,9,-999.0000,9, -999.00,9,-999.000,9,-999.000,    -0.4563,-999.0000,-999.000, -999.00
06AQANTIX_2,       SR04,      89,          1,          3,          3,2,19901209,       0242,    -67.665,   -21.6617,       4705,  4804.0,  34.6500,2,  34.6494,3,   257.6,2,  122.37,2,   31.90,2,    0.00,2,    2.26,2,-999.000,9,-999.0000,9, -999.00,9,-999.000,9,-999.000,    -0.4690,-999.0000,-999.000, -999.00
06AQANTIX_2,       SR04,      89,          1,          2,          2,2,19901209,       0242,    -67.665,   -21.6617,       4705,  4933.0,  34.6461,2,  34.6458,3,  -999.0,9,  124.80,2,   31.94,2,    0.01,2,    2.25,2,-999.000,9,-999.0000,9, -999.00,9,-999.000,9,-999.000,    -0.4896,-999.0000,-999.000, -999.00
06AQANTIX_2,       SR04,      89,          1,          1,          1,2,19901209,       0242,    -67.665,   -21.6617,       4705,  4966.0,  34.6415,2,-999.0000,9,  -999.0,9,  125.17,2,   32.03,2,    0.02,2,    2.25,2,-999.000,9,-999.0000,9, -999.00,9,-999.000,9,-999.000,    -0.5140,-999.0000,-999.000, -999.00
06AQANTIX_2,       SR04,      90,          1,         24,         24,2,19901209,       0844,   -67.8433,     -20.85,       4707,     1.7,  34.3702,2,  34.3736,3,   313.5,2,   68.02,2,   28.63,2,    0.30,2,    2.06,2,-999.000,9,-999.0000,9, -999.00,9,-999.000,9,-999.000,    -1.8342,-999.0000,-999.000, -999.00
06AQANTIX_2,       SR04,      90,          1,         23,         23,2,19901209,       0844,   -67.8433,     -20.85,       4707,    25.8,  34.3872,2,  34.3882,3,   313.1,2,   68.02,2,   28.67,2,    0.30,2,    2.08,2,-999.000,9,-999.0000,9, -999.00,9,-999.000,9,-999.000,    -1.8442,-999.0000,-999.000, -999.00
06AQANTIX_2,       SR04,      90,          1,         22,         22,2,19901209,       0844,   -67.8433,     -20.85,       4707,    49.5,  34.4260,2,  34.4199,3,   310.8,2,   68.03,2,   28.87,2,    0.29,2,    2.07,2,-999.000,9,-999.0000,9, -999.00,9,-999.000,9,-999.000,    -1.8347,-999.0000,-999.000, -999.00
06AQANTIX_2,       SR04,      90,          1,         21,         21,2,19901209,       0844,   -67.8433,     -20.85,       4707,    75.7,  34.4434,2,  34.4430,3,   314.0,2,   68.42,2,   28.96,2,    0.27,2,    2.09,2,-999.000,9,-999.0000,9, -999.00,9,-999.000,9,-999.000,    -1.8074,-999.0000,-999.000, -999.00
06AQANTIX_2,       SR04,      90,          1,         20,         20,2,19901209,       0844,   -67.8433,     -20.85,       4707,   100.9,  34.5008,2,-999.0000,9,   300.7,2,   70.93,2,   29.32,2,    0.23,2,    2.11,2,-999.000,9,-999.0000,9, -999.00,9,-999.000,9,-999.000,    -1.6004,-999.0000,-999.000, -999.00
06AQANTIX_2,       SR04,      90,          1,         19,         19,2,19901209,       0844,   -67.8433,     -20.85,       4707,   199.8,  34.6584,2,-999.0000,9,   200.8,2,  103.37,2,   32.89,2,   -0.01,4,    2.35,2,-999.000,9,-999.0000,9, -999.00,9,-999.000,9,-999.000,     0.5413,-999.0000,-999.000, -999.00
06AQANTIX_2,       SR04,      90,          1,         18,         18,2,19901209,       0844,   -67.8433,     -20.85,       4707,   298.4,  34.6920,2,  34.6976,3,  -999.0,9,  111.46,2,   32.82,2,    0.01,2,    2.34,2,-999.000,9,   1.8440,3,    8.47,2,   8.152,3,   0.024,     0.7453,   0.0050,-999.000,    0.20
06AQANTIX_2,       SR04,      90,          1,         17,         17,2,19901209,       0844,   -67.8433,     -20.85,       4707,   497.0,  34.6867,2,  34.6879,3,  -999.0,9,  118.59,2,   33.23,2,    0.00,2,    2.37,2,-999.000,9,-999.0000,9, -999.00,9,-999.000,9,-999.000,     0.5179,-999.0000,-999.000, -999.00
06AQANTIX_2,       SR04,      90,          1,         16,         16,2,19901209,       0844,   -67.8433,     -20.85,       4707,   696.1,  34.6822,2,  34.6835,3,   202.9,2,  122.66,2,   33.43,2,    0.01,2,    2.38,2,-999.000,9,-999.0000,9, -999.00,9,-999.000,9,-999.000,     0.3718,-999.0000,-999.000, -999.00
06AQANTIX_2,       SR04,      90,          1,         15,         15,2,19901209,       0844,   -67.8433,     -20.85,       4707,  1196.7,  34.6747,2,  34.6754,3,   210.5,2,  126.92,2,   33.25,2,    0.00,2,    2.36,2,-999.000,9,-999.0000,9, -999.00,9,-999.000,9,-999.000,     0.1597,-999.0000,-999.000, -999.00
06AQANTIX_2,       SR04,      90,          1,         14,         14,2,19901209,       0844,   -67.8433,     -20.85,       4707,  1597.6,  34.6683,2,  34.6691,3,   220.1,2,  126.95,2,   33.03,2,    0.01,2,    2.35,2,-999.000,9,-999.0000,9, -999.00,9,-999.000,9,-999.000,     0.0118,-999.0000,-999.000, -999.00
06AQANTIX_2,       SR04,      90,          1,         13,         13,2,19901209,       0844,   -67.8433,     -20.85,       4707,  1998.9,  34.6632,2,  34.6658,3,   227.1,2,  126.79,2,   32.80,2,    0.01,2,    2.33,2,-999.000,9,-999.0000,1, -999.00,1,-999.000,1,-999.000,    -0.1046,-999.0000,-999.000, -999.00
06AQANTIX_2,       SR04,      90,          1,         12,         12,2,19901209,       0844,   -67.8433,     -20.85,       4707,  2394.7,  34.6601,2,  34.6619,3,   232.1,2,  126.05,2,   32.63,2,    0.00,2,    2.32,2,-999.000,9,-999.0000,9, -999.00,9,-999.000,9,-999.000,    -0.1936,-999.0000,-999.000, -999.00
06AQANTIX_2,       SR04,      90,          1,         11,         11,2,19901209,       0844,   -67.8433,     -20.85,       4707,  2800.3,  34.6573,2,  34.6592,3,   235.8,2,  125.51,2,   32.45,2,    0.01,2,    2.31,2,-999.000,9,-999.0000,9, -999.00,9,-999.000,9,-999.000,    -0.2556,-999.0000,-999.000, -999.00
06AQANTIX_2,       SR04,      90,          1,          8,          8,2,19901209,       0844,   -67.8433,     -20.85,       4707,  3202.0,  34.6551,2,  34.6573,3,  -999.0,9,  124.64,2,   32.36,2,    0.02,2,    2.28,2,-999.000,9,-999.0000,9, -999.00,9,-999.000,9,-999.000,    -0.3016,-999.0000,-999.000, -999.00
06AQANTIX_2,       SR04,      90,          1,          9,          9,2,19901209,       0844,   -67.8433,     -20.85,       4707,  3202.2,  34.6553,2,  34.6566,3,  -999.0,9,  124.61,2,   32.37,2,    0.01,2,    2.30,2,-999.000,9,-999.0000,9, -999.00,9,-999.000,9,-999.000,    -0.3015,-999.0000,-999.000, -999.00
06AQANTIX_2,       SR04,      90,          1,         10,         10,2,19901209,       0844,   -67.8433,     -20.85,       4707,  3202.4,  34.6558,2,  34.6575,3,   241.2,2,  124.96,2,   32.28,2,    0.01,2,    2.29,2,-999.000,9,-999.0000,9, -999.00,9,-999.000,9,-999.000,    -0.3013,-999.0000,-999.000, -999.00
06AQANTIX_2,       SR04,      90,          1,          7,          7,2,19901209,       0844,   -67.8433,     -20.85,       4707,  3602.5,  34.6535,2,  34.6544,3,  -999.0,9,  124.67,2,   32.18,2,    0.00,2,    2.28,2,-999.000,9,-999.0000,9, -999.00,9,-999.000,9,-999.000,    -0.3361,-999.0000,-999.000, -999.00
06AQANTIX_2,       SR04,      90,          1,          6,          6,2,19901209,       0844,   -67.8433,     -20.85,       4707,  3996.6,  34.6520,2,  34.6534,3,   244.3,2,  126.25,2, -999.00,9,    0.01,2,    2.28,2,-999.000,9,-999.0000,9, -999.00,9,-999.000,9,-999.000,    -0.3594,-999.0000,-999.000, -999.00
06AQANTIX_2,       SR04,      90,          1,          5,          5,2,19901209,       0844,   -67.8433,     -20.85,       4707,  4501.9,  34.6528,2,  34.6516,3,   248.0,2,  123.57,2,   32.31,2,    0.00,2,    2.26,2,-999.000,9,-999.0000,9, -999.00,9,-999.000,9,-999.000,    -0.3987,-999.0000,-999.000, -999.00
06AQANTIX_2,       SR04,      90,          1,          4,          4,2,19901209,       0844,   -67.8433,     -20.85,       4707,  4703.4,  34.6508,2,  34.6497,3,   250.0,2,  122.25,2,   32.41,2,    0.01,2,    2.26,2,-999.000,9,-999.0000,9, -999.00,9,-999.000,9,-999.000,    -0.4466,-999.0000,-999.000, -999.00
06AQANTIX_2,       SR04,      90,          1,          3,          3,2,19901209,       0844,   -67.8433,     -20.85,       4707,  4854.1,  34.6496,2,  34.6488,3,   250.9,2,  123.83,2,   32.29,2,    0.01,2,    2.26,2,-999.000,9,-999.0000,9, -999.00,9,-999.000,9,-999.000,    -0.4677,-999.0000,-999.000, -999.00
06AQANTIX_2,       SR04,      90,          1,          1,          1,2,19901209,       0844,   -67.8433,     -20.85,       4707,  4948.0,  34.6506,2,-999.0000,9,   251.6,2,  126.02,2,   32.42,2,    0.01,2,    2.27,2,-999.000,9,-999.0000,9, -999.00,9,-999.000,9,-999.000,    -0.5055,-999.0000,-999.000, -999.00
06AQANTIX_2,       SR04,      90,          1,          2,          2,2,19901209,       0844,   -67.8433,     -20.85,       4707,  4960.0,  34.6461,2,  34.6452,3,   251.2,2,  126.57,2,   32.54,2,    0.01,2,    2.27,2,-999.000,9,   1.8850,3,    2.60,2,   8.260,3,   0.041,    -0.4821,   0.0090,-999.000,    0.20