BOTTLE,20220818CCHSIOAMB
EXPOCODE,SECT_ID,STNNBR,CASTNO,SAMPNO,BTLNBR,BTLNBR_FLAG_W,DATE,TIME,LATITUDE,LONGITUDE,DEPTH,CTDPRS,CTDSAL,CTDSAL_FLAG_W,SALNTY,SALNTY_FLAG_W,OXYGEN,OXYGEN_FLAG_W,SILCAT,SILCAT_FLAG_W,NITRAT,NITRAT_FLAG_W,NITRIT,NITRIT_FLAG_W,PHSPHT,PHSPHT_FLAG_W,TRITUM,TRITUM_FLAG_W,HELIUM,HELIUM_FLAG_W,DELHE3,DELHE3_FLAG_W,NEON,NEON_FLAG_W,NEONER,CTDTMP,HELIER,TRITER,DELHER
,,,,,,,,,,,METERS,DBAR,PSS-78,,PSS-78,,UMOL/KG,,UMOL/KG,,UMOL/KG,,UMOL/KG,,UMOL/KG,,TU,,NMOL/KG,,PERCNT,,NMOL/KG,,NMOL/KG,IPTS-68,NMOL/KG,TU,PERCNT
06AQANTIX_2,       SR04,      59,          1,         24,         24,2,19901130,       0146,   -65.7217,   -35.4467,       4622,     1.5,  34.4080,2,  34.4100,3,   329.5,2,   74.89,2,   28.48,2,    0.12,2,    1.99,2,-999.000,9,-999.0000,9, -999.00,9,-999.000,9,-999.000,    -1.7480,-999.0000,-999.000, -999.00
06AQANTIX_2,       SR04,      59,          1,         23,         23,2,19901130,       0146,   -65.7217,   -35.4467,       4622,     8.4,  34.4101,2,-999.0000,9,   312.3,2,   75.06,2,   28.52,2,    0.12,2,    2.00,2,-999.000,9,-999.0000,9, -999.00,9,-999.000,9,-999.000,    -1.7503,-999.0000,-999.000, -999.00
06AQANTIX_2,       SR04,      59,          1,         22,         22,2,19901130,       0146,   -65.7217,   -35.4467,       4622,    48.5,  34.4431,2,  34.4449,3,   312.1,2,   75.06,2,   28.66,2,    0.13,2,    1.99,2,-999.000,9,-999.0000,9, -999.00,9,-999.000,9,-999.000,    -1.7985,-999.0000,-999.000, -999.00
06AQANTIX_2,       SR04,      59,          1,         21,         21,2,19901130,       0146,   -65.7217,   -35.4467,       4622,   137.2,  34.6616,2,  34.6616,3,   199.7,2,  108.89,2,   33.65,2,   -0.01,4,    2.36,2,-999.000,9,-999.0000,9, -999.00,9,-999.000,9,-999.000,     0.2760,-999.0000,-999.000, -999.00
06AQANTIX_2,       SR04,      59,          1,         20,         20,2,19901130,       0146,   -65.7217,   -35.4467,       4622,   206.5,  34.6799,2,  34.6803,3,   197.6,2,  115.76,2,   33.36,2,    0.00,2,    2.37,2,-999.000,9,-999.0000,9, -999.00,9,-999.000,9,-999.000,     0.4743,-999.0000,-999.000, -999.00
06AQANTIX_2,       SR04,      59,          1,         19,         19,2,19901130,       0146,   -65.7217,   -35.4467,       4622,   495.9,  34.6806,2,  34.6811,3,   206.2,2,  125.12,2,   33.33,2,    0.01,2,    2.39,2,-999.000,9,-999.0000,9, -999.00,9,-999.000,9,-999.000,     0.3232,-999.0000,-999.000, -999.00
06AQANTIX_2,       SR04,      59,          1,         18,         18,2,19901130,       0146,   -65.7217,   -35.4467,       4622,   995.1,  34.6729,2,  34.6740,3,   219.5,2,  127.63,2,   32.78,2,    0.01,2,    2.36,2,-999.000,9,-999.0000,9, -999.00,9,-999.000,9,-999.000,     0.0981,-999.0000,-999.000, -999.00
06AQANTIX_2,       SR04,      59,          1,         17,         17,2,19901130,       0146,   -65.7217,   -35.4467,       4622,  1494.6,  34.6659,2,  34.6661,3,  -999.0,9,  127.18,2,   32.38,2,    0.01,2,    2.32,2,-999.000,9,-999.0000,9, -999.00,9,-999.000,9,-999.000,    -0.0766,-999.0000,-999.000, -999.00
06AQANTIX_2,       SR04,      59,          1,         16,         16,2,19901130,       0146,   -65.7217,   -35.4467,       4622,  1796.0,  34.6623,2,  34.6596,3,   229.1,2,  126.57,2,   32.25,2,    0.01,2,    2.32,2,-999.000,9,-999.0000,9, -999.00,9,-999.000,9,-999.000,    -0.1560,-999.0000,-999.000, -999.00
06AQANTIX_2,       SR04,      59,          1,         15,         15,2,19901130,       0146,   -65.7217,   -35.4467,       4622,  1996.4,  34.6609,2,  34.6623,3,   233.6,2,  126.28,2,   32.18,2,    0.03,2,    2.31,2,-999.000,9,-999.0000,9, -999.00,9,-999.000,9,-999.000,    -0.2002,-999.0000,-999.000, -999.00
06AQANTIX_2,       SR04,      59,          1,         11,         11,2,19901130,       0146,   -65.7217,   -35.4467,       4622,  2498.8,  34.6583,2,  34.6580,3,   239.1,2,  125.24,2,   32.15,2,    0.03,2,    2.30,2,-999.000,9,-999.0000,9, -999.00,9,-999.000,9,-999.000,    -0.2721,-999.0000,-999.000, -999.00
06AQANTIX_2,       SR04,      59,          1,         12,         12,2,19901130,       0146,   -65.7217,   -35.4467,       4622,  2498.9,  34.6581,2,  34.6580,3,  -999.0,9,  125.38,2,   32.06,2,    0.03,2,    2.30,2,-999.000,9,-999.0000,9, -999.00,9,-999.000,9,-999.000,    -0.2721,-999.0000,-999.000, -999.00
06AQANTIX_2,       SR04,      59,          1,         13,         13,2,19901130,       0146,   -65.7217,   -35.4467,       4622,  2499.0,  34.6579,2,  34.6606,3,  -999.0,9,  125.37,2,   32.03,2,    0.02,2,    2.30,2,-999.000,9,-999.0000,9, -999.00,9,-999.000,9,-999.000,    -0.2719,-999.0000,-999.000, -999.00
06AQANTIX_2,       SR04,      59,          1,         14,         14,2,19901130,       0146,   -65.7217,   -35.4467,       4622,  2499.1,  34.6581,2,  34.6585,3,  -999.0,9,  125.36,2,   32.00,2,    0.02,2,    2.31,2,-999.000,9,-999.0000,9, -999.00,9,-999.000,9,-999.000,    -0.2720,-999.0000,-999.000, -999.00
06AQANTIX_2,       SR04,      59,          1,         10,         10,2,19901130,       0146,   -65.7217,   -35.4467,       4622,  3000.8,  34.6556,2,  34.6568,3,  -999.0,9,  124.79,2,   32.02,2,    0.02,2,    2.28,2,-999.000,9,-999.0000,9, -999.00,9,-999.000,9,-999.000,    -0.3243,-999.0000,-999.000, -999.00
06AQANTIX_2,       SR04,      59,          1,          6,          6,2,19901130,       0146,   -65.7217,   -35.4467,       4622,  3502.9,  34.6533,2,  34.6538,3,  -999.0,9,  123.91,2,   31.99,2,    0.04,2,    2.28,2,-999.000,9,-999.0000,9, -999.00,9,-999.000,9,-999.000,    -0.3785,-999.0000,-999.000, -999.00
06AQANTIX_2,       SR04,      59,          1,          9,          9,2,19901130,       0146,   -65.7217,   -35.4467,       4622,  3503.0,  34.6534,2,  34.6546,3,   243.9,2,  124.18,2,   31.89,2,    0.03,2,    2.28,2,-999.000,9,-999.0000,9, -999.00,9,-999.000,9,-999.000,    -0.3784,-999.0000,-999.000, -999.00
06AQANTIX_2,       SR04,      59,          1,          8,          8,2,19901130,       0146,   -65.7217,   -35.4467,       4622,  3503.0,  34.6533,2,  34.6538,3,  -999.0,9,  124.04,2,   31.92,2,    0.03,2,    2.29,2,-999.000,9,-999.0000,9, -999.00,9,-999.000,9,-999.000,    -0.3785,-999.0000,-999.000, -999.00
06AQANTIX_2,       SR04,      59,          1,          7,          7,2,19901130,       0146,   -65.7217,   -35.4467,       4622,  3503.0,  34.6540,2,  34.6546,3,  -999.0,9,  124.05,2,   31.96,2,    0.04,2,    2.29,2,-999.000,9,-999.0000,9, -999.00,9,-999.000,9,-999.000,    -0.3784,-999.0000,-999.000, -999.00
06AQANTIX_2,       SR04,      59,          1,          5,          5,2,19901130,       0146,   -65.7217,   -35.4467,       4622,  4002.5,  34.6528,2,  34.6506,3,   247.8,2,  122.83,2,   31.97,2,    0.04,2,    2.28,2,-999.000,9,-999.0000,9, -999.00,9,-999.000,9,-999.000,    -0.4334,-999.0000,-999.000, -999.00
06AQANTIX_2,       SR04,      59,          1,          4,          4,2,19901130,       0146,   -65.7217,   -35.4467,       4622,  4502.0,  34.6456,2,  34.6428,3,  -999.0,9,  114.57,2,   31.79,2,    0.04,2,    2.26,2,-999.000,9,-999.0000,9, -999.00,9,-999.000,9,-999.000,    -0.5404,-999.0000,-999.000, -999.00
06AQANTIX_2,       SR04,      59,          1,          3,          3,2,19901130,       0146,   -65.7217,   -35.4467,       4622,  4702.4,  34.6424,2,  34.6399,3,   258.1,2,  117.71,2,   31.87,2,    0.05,2,    2.26,2,-999.000,9,-999.0000,9, -999.00,9,-999.000,9,-999.000,    -0.5584,-999.0000,-999.000, -999.00
06AQANTIX_2,       SR04,      59,          1,          2,          2,2,19901130,       0146,   -65.7217,   -35.4467,       4622,  4828.0,  34.6363,2,-999.0000,9,   259.6,2,  117.72,2,   31.90,2,    0.05,2,    2.26,2,-999.000,9,-999.0000,9, -999.00,9,-999.000,9,-999.000,    -0.5720,-999.0000,-999.000, -999.00
06AQANTIX_2,       SR04,      59,          1,          1,          1,2,19901130,       0146,   -65.7217,   -35.4467,       4622,  4828.0,  34.6363,2,-999.0000,9,  -999.0,9,  117.73,2,   31.88,2,    0.05,2,    2.26,2,-999.000,9,-999.0000,9, -999.00,9,-999.000,9,-999.000,    -0.5720,-999.0000,-999.000, -999.00
06AQANTIX_2,       SR04,      60,          1,         24,         24,2,19901130,       0718,     -65.83,     -34.35,       4631,    10.3,  34.4218,2,  34.4187,3,   311.8,2,   74.06,2,   27.88,2,    0.15,2,    2.03,3,-999.000,9,-999.0000,9, -999.00,9,-999.000,9,-999.000,    -1.7953,-999.0000,-999.000, -999.00
06AQANTIX_2,       SR04,      60,          1,         23,         23,2,19901130,       0718,     -65.83,     -34.35,       4631,    53.7,  34.4539,2,  34.4520,3,   317.7,2,   74.40,2,   28.05,2,    0.14,2,    2.07,3,-999.000,9,-999.0000,9, -999.00,9,-999.000,9,-999.000,    -1.8428,-999.0000,-999.000, -999.00
06AQANTIX_2,       SR04,      60,          1,         22,         22,2,19901130,       0718,     -65.83,     -34.35,       4631,   103.4,  34.4695,2,  34.4718,3,   306.2,2,   74.90,2,   28.29,2,    0.14,2,    2.08,3,-999.000,9,-999.0000,9, -999.00,9,-999.000,9,-999.000,    -1.8484,-999.0000,-999.000, -999.00
06AQANTIX_2,       SR04,      60,          1,         21,         21,2,19901130,       0718,     -65.83,     -34.35,       4631,   203.2,  34.6643,2,  34.6673,3,   230.6,2,  115.05,2,   33.28,2,    0.03,2,    2.43,3,-999.000,9,-999.0000,9, -999.00,9,-999.000,9,-999.000,     0.2566,-999.0000,-999.000, -999.00
06AQANTIX_2,       SR04,      60,          1,         20,         20,2,19901130,       0718,     -65.83,     -34.35,       4631,   300.3,  34.6795,2,  34.6804,3,   192.2,2,  121.78,2,   33.64,2,    0.02,2,    2.43,3,-999.000,9,-999.0000,9, -999.00,9,-999.000,9,-999.000,     0.3836,-999.0000,-999.000, -999.00
06AQANTIX_2,       SR04,      60,          1,         19,         19,2,19901130,       0718,     -65.83,     -34.35,       4631,   402.7,  34.6809,2,  34.6818,3,  -999.0,9,  124.31,2,   33.62,2,    0.03,2,    2.45,3,-999.000,9,-999.0000,9, -999.00,9,-999.000,9,-999.000,     0.3546,-999.0000,-999.000, -999.00
06AQANTIX_2,       SR04,      60,          1,         18,         18,2,19901130,       0718,     -65.83,     -34.35,       4631,   600.2,  34.6793,2,  34.6790,3,  -999.0,9,  126.68,2,   33.41,2,    0.03,2,    2.43,3,-999.000,9,-999.0000,9, -999.00,9,-999.000,9,-999.000,     0.2592,-999.0000,-999.000, -999.00
06AQANTIX_2,       SR04,      60,          1,         17,         17,2,19901130,       0718,     -65.83,     -34.35,       4631,   798.1,  34.6753,2,  34.6762,3,   204.8,2,  127.50,2,   33.20,2,    0.02,2,    2.41,3,-999.000,9,-999.0000,9, -999.00,9,-999.000,9,-999.000,     0.1662,-999.0000,-999.000, -999.00
06AQANTIX_2,       SR04,      60,          1,         16,         16,2,19901130,       0718,     -65.83,     -34.35,       4631,   992.6,  34.6716,2,  34.6721,3,   214.5,2,  127.38,2,   32.93,2,    0.01,2,    2.37,3,-999.000,9,-999.0000,9, -999.00,9,-999.000,9,-999.000,     0.0894,-999.0000,-999.000, -999.00
06AQANTIX_2,       SR04,      60,          1,         15,         15,2,19901130,       0718,     -65.83,     -34.35,       4631,  1294.8,  34.6689,2,  34.6678,3,   224.6,2,  127.27,2,   32.65,2,    0.02,2,    2.35,3,-999.000,9,-999.0000,9, -999.00,9,-999.000,9,-999.000,    -0.0146,-999.0000,-999.000, -999.00
06AQANTIX_2,       SR04,      60,          1,         14,         14,2,19901130,       0718,     -65.83,     -34.35,       4631,  1595.7,  34.6643,2,  34.6651,3,   237.2,2,  126.84,2,   32.44,2,    0.02,2,    2.37,3,-999.000,9,-999.0000,9, -999.00,9,-999.000,9,-999.000,    -0.1097,-999.0000,-999.000, -999.00
06AQANTIX_2,       SR04,      60,          1,         13,         13,2,19901130,       0718,     -65.83,     -34.35,       4631,  1996.6,  34.6605,2,  34.6601,3,  -999.0,9,  126.10,2,   32.30,2,    0.02,2,    2.35,3,-999.000,9,-999.0000,9, -999.00,9,-999.000,9,-999.000,    -0.2015,-999.0000,-999.000, -999.00
06AQANTIX_2,       SR04,      60,          1,         12,         12,2,19901130,       0718,     -65.83,     -34.35,       4631,  2398.8,  34.6588,2,  34.6589,3,   238.3,2,  125.67,2,   32.09,2,    0.02,2,    2.33,3,-999.000,9,-999.0000,9, -999.00,9,-999.000,9,-999.000,    -0.2571,-999.0000,-999.000, -999.00
06AQANTIX_2,       SR04,      60,          1,         11,         11,2,19901130,       0718,     -65.83,     -34.35,       4631,  2801.7,  34.6581,2,  34.6579,3,  -999.0,9,  125.25,2,   31.95,2,    0.03,2,    2.31,3,-999.000,9,-999.0000,9, -999.00,9,-999.000,9,-999.000,    -0.3006,-999.0000,-999.000, -999.00
06AQANTIX_2,       SR04,      60,          1,         10,         10,2,19901130,       0718,     -65.83,     -34.35,       4631,  3200.1,  34.6557,2,  34.6558,3,  -999.0,9,  124.19,2,   31.87,2,    0.02,2,    2.34,3,-999.000,9,-999.0000,9, -999.00,9,-999.000,9,-999.000,    -0.3396,-999.0000,-999.000, -999.00
06AQANTIX_2,       SR04,      60,          1,          9,          9,2,19901130,       0718,     -65.83,     -34.35,       4631,  3601.7,  34.6528,2,  34.6534,3,   246.2,2,  123.92,2,   31.78,2,    0.01,2,    2.33,3,-999.000,9,-999.0000,9, -999.00,9,-999.000,9,-999.000,    -0.3812,-999.0000,-999.000, -999.00
06AQANTIX_2,       SR04,      60,          1,          8,          8,2,19901130,       0718,     -65.83,     -34.35,       4631,  4002.3,  34.6532,2,  34.6501,3,   251.3,2,  122.71,2,   31.70,2,    0.00,2,    2.33,3,-999.000,9,-999.0000,9, -999.00,9,-999.000,9,-999.000,    -0.4309,-999.0000,-999.000, -999.00
06AQANTIX_2,       SR04,      60,          1,          7,          7,2,19901130,       0718,     -65.83,     -34.35,       4631,  4202.2,  34.6492,2,  34.6477,3,  -999.0,9,  118.70,2,   31.62,2,    0.00,2,    2.34,3,-999.000,9,-999.0000,9, -999.00,9,-999.000,9,-999.000,    -0.4777,-999.0000,-999.000, -999.00
06AQANTIX_2,       SR04,      60,          1,          6,          6,2,19901130,       0718,     -65.83,     -34.35,       4631,  4403.8,  34.6457,2,  34.6433,3,  -999.0,9,  114.99,2,   31.54,2,    0.00,2,    2.28,3,-999.000,9,-999.0000,9, -999.00,9,-999.000,9,-999.000,    -0.5264,-999.0000,-999.000, -999.00
06AQANTIX_2,       SR04,      60,          1,          5,          5,2,19901130,       0718,     -65.83,     -34.35,       4631,  4503.6,  34.6458,2,  34.6430,3,  -999.0,9,  115.03,2,   31.52,2,    0.01,2,    2.27,3,-999.000,9,-999.0000,9, -999.00,9,-999.000,9,-999.000,    -0.5387,-999.0000,-999.000, -999.00
06AQANTIX_2,       SR04,      60,          1,          4,          4,2,19901130,       0718,     -65.83,     -34.35,       4631,  4604.5,  34.6451,2,  34.6425,3,  -999.0,9,  116.94,2,   31.63,2,    0.00,2,    2.24,3,-999.000,9,-999.0000,9, -999.00,9,-999.000,9,-999.000,    -0.5467,-999.0000,-999.000, -999.00
06AQANTIX_2,       SR04,      60,          1,          3,          3,2,19901130,       0718,     -65.83,     -34.35,       4631,  4704.6,  34.6418,2,  34.6377,3,  -999.0,9,  117.29,2,   31.61,2,    0.00,2,    2.22,3,-999.000,9,-999.0000,9, -999.00,9,-999.000,9,-999.000,    -0.5671,-999.0000,-999.000, -999.00
06AQANTIX_2,       SR04,      60,          1,          2,          2,2,19901130,       0718,     -65.83,     -34.35,       4631,  4809.4,  34.6389,2,  34.6354,3,  -999.0,9,  115.92,2,   31.59,2,    0.01,2,    2.20,3,-999.000,9,-999.0000,9, -999.00,9,-999.000,9,-999.000,    -0.5797,-999.0000,-999.000, -999.00
06AQANTIX_2,       SR04,      60,          1,          1,          1,2,19901130,       0718,     -65.83,     -34.35,       4631,  4844.0,  34.6367,2,-999.0000,9,  -999.0,9,  115.96,2,   31.57,2,    0.00,2,    2.18,3,-999.000,9,-999.0000,9, -999.00,9,-999.000,9,-999.000,    -0.5770,-999.0000,-999.000, -999.00