BOTTLE,20220818CCHSIOAMB
EXPOCODE,SECT_ID,STNNBR,CASTNO,SAMPNO,BTLNBR,BTLNBR_FLAG_W,DATE,TIME,LATITUDE,LONGITUDE,DEPTH,CTDPRS,CTDSAL,CTDSAL_FLAG_W,SALNTY,SALNTY_FLAG_W,OXYGEN,OXYGEN_FLAG_W,SILCAT,SILCAT_FLAG_W,NITRAT,NITRAT_FLAG_W,NITRIT,NITRIT_FLAG_W,PHSPHT,PHSPHT_FLAG_W,TRITUM,TRITUM_FLAG_W,HELIUM,HELIUM_FLAG_W,DELHE3,DELHE3_FLAG_W,NEON,NEON_FLAG_W,NEONER,CTDTMP,HELIER,TRITER,DELHER
,,,,,,,,,,,METERS,DBAR,PSS-78,,PSS-78,,UMOL/KG,,UMOL/KG,,UMOL/KG,,UMOL/KG,,UMOL/KG,,TU,,NMOL/KG,,PERCNT,,NMOL/KG,,NMOL/KG,IPTS-68,NMOL/KG,TU,PERCNT
06AQANTIX_2,       SR04,      49,          1,         24,         24,2,19901125,       1000,     -64.62,   -44.2183,       4393,     1.8,  34.4008,2,  34.4033,3,   297.0,2,   76.10,2,   28.93,2,    0.25,2,    1.99,2,-999.000,9,-999.0000,9, -999.00,9,-999.000,9,-999.000,    -1.7703,-999.0000,-999.000, -999.00
06AQANTIX_2,       SR04,      49,          1,         23,         23,2,19901125,       1000,     -64.62,   -44.2183,       4393,    17.4,  34.4078,2,-999.0000,9,  -999.0,9,   76.10,2,   28.94,2,    0.24,2,    1.99,2,-999.000,9,-999.0000,9, -999.00,9,-999.000,9,-999.000,    -1.7687,-999.0000,-999.000, -999.00
06AQANTIX_2,       SR04,      49,          1,         22,         22,2,19901125,       1000,     -64.62,   -44.2183,       4393,    36.2,  34.4386,2,  34.4461,3,  -999.0,9,   76.43,2,   29.04,2,    0.23,2,    1.99,2,-999.000,9,-999.0000,9, -999.00,9,-999.000,9,-999.000,    -1.7613,-999.0000,-999.000, -999.00
06AQANTIX_2,       SR04,      49,          1,         21,         21,2,19901125,       1000,     -64.62,   -44.2183,       4393,    66.6,  34.4633,2,  34.4625,3,   310.7,2,   76.26,2,   29.21,2,    0.22,2,    2.02,2,-999.000,9,-999.0000,9, -999.00,9,-999.000,9,-999.000,    -1.8053,-999.0000,-999.000, -999.00
06AQANTIX_2,       SR04,      49,          1,         20,         20,2,19901125,       1000,     -64.62,   -44.2183,       4393,    94.8,  34.4695,2,  34.4689,3,  -999.0,9,   76.60,2,   29.23,2,    0.21,2,    2.01,2,-999.000,9,-999.0000,9, -999.00,9,-999.000,9,-999.000,    -1.8131,-999.0000,-999.000, -999.00
06AQANTIX_2,       SR04,      49,          1,         19,         19,2,19901125,       1000,     -64.62,   -44.2183,       4393,   146.3,  34.5501,2,-999.0000,9,   261.1,2,   95.76,2,   31.89,2,    0.04,2,    2.21,2,-999.000,9,-999.0000,9, -999.00,9,-999.000,9,-999.000,    -0.8607,-999.0000,-999.000, -999.00
06AQANTIX_2,       SR04,      49,          1,         18,         18,2,19901125,       1000,     -64.62,   -44.2183,       4393,   196.5,  34.6666,2,  34.6656,3,   201.9,2,  110.20,2,   33.30,2,    0.02,2,    2.33,2,-999.000,9,-999.0000,9, -999.00,9,-999.000,9,-999.000,     0.3194,-999.0000,-999.000, -999.00
06AQANTIX_2,       SR04,      49,          1,         17,         17,2,19901125,       1000,     -64.62,   -44.2183,       4393,   243.7,  34.6747,2,  34.6787,3,  -999.0,9,  114.24,2,   33.48,2,    0.01,2,    2.35,2,-999.000,9,-999.0000,9, -999.00,9,-999.000,9,-999.000,     0.3867,-999.0000,-999.000, -999.00
06AQANTIX_2,       SR04,      49,          1,         16,         16,2,19901125,       1000,     -64.62,   -44.2183,       4393,   295.4,  34.6772,2,  34.6772,3,   201.9,2,  117.26,2,   33.66,2,    0.01,2,    2.36,2,-999.000,9,-999.0000,9, -999.00,9,-999.000,9,-999.000,     0.3934,-999.0000,-999.000, -999.00
06AQANTIX_2,       SR04,      49,          1,         15,         15,2,19901125,       1000,     -64.62,   -44.2183,       4393,   332.0,  34.6794,2,  34.6790,3,   219.5,2,  118.77,2,   33.75,2,    0.00,2,    2.36,2,-999.000,9,-999.0000,9, -999.00,9,-999.000,9,-999.000,     0.4017,-999.0000,-999.000, -999.00
06AQANTIX_2,       SR04,      49,          1,         14,         14,2,19901125,       1000,     -64.62,   -44.2183,       4393,   418.2,  34.6823,2,  34.6815,3,  -999.0,9,  121.97,2,   33.85,2,    0.00,2,    2.38,2,-999.000,9,-999.0000,9, -999.00,9,-999.000,9,-999.000,     0.3999,-999.0000,-999.000, -999.00
06AQANTIX_2,       SR04,      49,          1,         13,         13,2,19901125,       1000,     -64.62,   -44.2183,       4393,   494.8,  34.6809,2,  34.6824,3,  -999.0,9,  123.48,2,   34.03,2,    0.00,2,    2.38,2,-999.000,9,-999.0000,9, -999.00,9,-999.000,9,-999.000,     0.3547,-999.0000,-999.000, -999.00
06AQANTIX_2,       SR04,      49,          1,         12,         12,2,19901125,       1000,     -64.62,   -44.2183,       4393,   595.1,  34.6793,2,  34.6804,3,  -999.0,9,  124.82,2,   33.87,2,    0.01,2,    2.38,2,-999.000,9,-999.0000,9, -999.00,9,-999.000,9,-999.000,     0.3029,-999.0000,-999.000, -999.00
06AQANTIX_2,       SR04,      49,          1,         11,         11,2,19901125,       1000,     -64.62,   -44.2183,       4393,   794.1,  34.6766,2,  34.6784,3,  -999.0,9,  126.17,2,   33.72,2,    0.00,2,    2.37,2,-999.000,9,-999.0000,9, -999.00,9,-999.000,9,-999.000,     0.2166,-999.0000,-999.000, -999.00
06AQANTIX_2,       SR04,      49,          1,         10,         10,2,19901125,       1000,     -64.62,   -44.2183,       4393,   998.3,  34.6723,2,  34.6722,3,  -999.0,9,  127.01,2,   33.57,2,    0.00,2,    2.35,2,-999.000,9,-999.0000,9, -999.00,9,-999.000,9,-999.000,     0.1211,-999.0000,-999.000, -999.00
06AQANTIX_2,       SR04,      49,          1,          9,          9,2,19901125,       1000,     -64.62,   -44.2183,       4393,  1495.0,  34.6669,2,  34.6667,3,  -999.0,9,  126.50,2,   33.17,2,    0.01,2,    2.34,2,-999.000,9,-999.0000,9, -999.00,9,-999.000,9,-999.000,    -0.0547,-999.0000,-999.000, -999.00
06AQANTIX_2,       SR04,      49,          1,          8,          8,2,19901125,       1000,     -64.62,   -44.2183,       4393,  1995.1,  34.6627,2,  34.6615,3,  -999.0,9,  125.66,2,   32.85,2,    0.01,2,    2.31,2,-999.000,9,-999.0000,9, -999.00,9,-999.000,9,-999.000,    -0.1797,-999.0000,-999.000, -999.00
06AQANTIX_2,       SR04,      49,          1,          7,          7,2,19901125,       1000,     -64.62,   -44.2183,       4393,  2501.7,  34.6605,2,  34.6584,3,  -999.0,9,  124.99,2,   32.70,2,    0.01,2,    2.30,2,-999.000,9,-999.0000,9, -999.00,9,-999.000,9,-999.000,    -0.2621,-999.0000,-999.000, -999.00
06AQANTIX_2,       SR04,      49,          1,          6,          6,2,19901125,       1000,     -64.62,   -44.2183,       4393,  2999.2,  34.6588,2,  34.6562,3,  -999.0,9,  124.15,2,   32.38,2,    0.02,2,    2.29,2,-999.000,9,-999.0000,9, -999.00,9,-999.000,9,-999.000,    -0.3187,-999.0000,-999.000, -999.00
06AQANTIX_2,       SR04,      49,          1,          5,          5,2,19901125,       1000,     -64.62,   -44.2183,       4393,  3506.2,  34.6555,2,  34.6532,3,  -999.0,9,  123.48,2,   32.23,2,    0.02,2,    2.27,2,-999.000,9,-999.0000,9, -999.00,9,-999.000,9,-999.000,    -0.3664,-999.0000,-999.000, -999.00
06AQANTIX_2,       SR04,      49,          1,          4,          4,2,19901125,       1000,     -64.62,   -44.2183,       4393,  4004.2,  34.6540,2,-999.0000,9,  -999.0,9,  123.81,2,   32.16,2,    0.02,2,    2.27,2,-999.000,9,-999.0000,9, -999.00,9,-999.000,9,-999.000,    -0.4090,-999.0000,-999.000, -999.00
06AQANTIX_2,       SR04,      49,          1,          3,          3,2,19901125,       1000,     -64.62,   -44.2183,       4393,  4543.8,  34.6434,2,  34.6409,3,   250.0,2,  118.77,2,   32.18,2,    0.01,2,    2.25,2,-999.000,9,-999.0000,9, -999.00,9,-999.000,9,-999.000,    -0.5578,-999.0000,-999.000, -999.00
06AQANTIX_2,       SR04,      49,          1,          2,          2,2,19901125,       1000,     -64.62,   -44.2183,       4393,  4604.5,  34.6407,2,  34.6376,3,  -999.0,9,  115.41,2,   32.11,2,    0.03,2,    2.24,2,-999.000,9,-999.0000,9, -999.00,9,-999.000,9,-999.000,    -0.5810,-999.0000,-999.000, -999.00
06AQANTIX_2,       SR04,      49,          1,          1,          1,2,19901125,       1000,     -64.62,   -44.2183,       4393,  4650.5,  34.6384,2,  34.6331,3,   264.1,2,  113.90,2,   32.04,2,    0.05,2,    2.23,2,-999.000,9,-999.0000,9, -999.00,9,-999.000,9,-999.000,    -0.5978,-999.0000,-999.000, -999.00
06AQANTIX_2,       SR04,      50,          1,         24,         24,2,19901125,       2143,     -64.82,   -42.5083,       4491,    10.0,  34.4264,2,  34.4265,3,   316.5,2,   75.26,2,   28.76,2,    0.16,2,    1.95,3,   0.171,2,-999.0000,1, -999.00,1,-999.000,1,-999.000,    -1.7636,-999.0000,   0.008, -999.00
06AQANTIX_2,       SR04,      50,          1,         23,         23,2,19901125,       2143,     -64.82,   -42.5083,       4491,    50.6,  34.4634,2,  34.4632,3,   310.8,2,   75.10,2,   28.98,2,    0.16,2,    1.96,3,   0.196,2,-999.0000,1, -999.00,1,-999.000,1,-999.000,    -1.8108,-999.0000,   0.008, -999.00
06AQANTIX_2,       SR04,      50,          1,         22,         22,2,19901125,       2143,     -64.82,   -42.5083,       4491,   101.5,  34.4835,2,  34.4843,3,   306.0,2,   75.27,2,   29.32,2,    0.17,2,    1.97,3,   0.192,2,-999.0000,1, -999.00,1,-999.000,1,-999.000,    -1.7857,-999.0000,   0.008, -999.00
06AQANTIX_2,       SR04,      50,          1,         21,         21,2,19901125,       2143,     -64.82,   -42.5083,       4491,   198.7,  34.6634,2,  34.6627,3,   223.2,2,  111.04,2,   33.62,2,    0.00,2,    2.31,3,   0.135,2,   1.8310,3,    7.26,2,   8.110,2,   0.024,     0.2611,   0.0050,   0.008,    0.20
06AQANTIX_2,       SR04,      50,          1,         20,         20,2,19901125,       2143,     -64.82,   -42.5083,       4491,   298.1,  34.6745,2,  34.6769,3,   195.2,2,  117.79,2,   34.07,2,    0.01,2,    2.34,3,   0.114,2,-999.0000,1, -999.00,1,-999.000,1,-999.000,     0.3593,-999.0000,   0.007, -999.00
06AQANTIX_2,       SR04,      50,          1,         19,         19,2,19901125,       2143,     -64.82,   -42.5083,       4491,   396.0,  34.6803,2,  34.6815,3,  -999.0,9,  122.70,2,   34.24,2,    0.00,2,    2.36,3,   0.112,2,   1.8520,2,    7.80,2,   8.083,2,   0.024,     0.3794,   0.0060,   0.005,    0.20
06AQANTIX_2,       SR04,      50,          1,         18,         18,2,19901125,       2143,     -64.82,   -42.5083,       4491,   596.8,  34.6780,2,  34.6796,3,   198.0,2,  126.08,2,   34.30,2,    0.01,2,    2.35,3,   0.052,2,   1.8530,2,    7.70,2,   8.106,2,   0.024,     0.2812,   0.0060,   0.003,    0.20
06AQANTIX_2,       SR04,      50,          1,         17,         17,2,19901125,       2143,     -64.82,   -42.5083,       4491,   793.3,  34.6757,2,  34.6765,3,  -999.0,9,  127.10,2,   34.24,2,    0.00,2,    2.34,3,   0.033,2,   1.8530,2,    7.54,2,   8.098,2,   0.024,     0.1841,   0.0060,   0.003,    0.20
06AQANTIX_2,       SR04,      50,          1,         16,         16,2,19901125,       2143,     -64.82,   -42.5083,       4491,   997.1,  34.6712,2,  34.6732,3,   210.5,2,  127.11,2,   33.90,2,    0.01,2,    2.32,3,   0.027,2,   1.8550,2,    7.18,2,   8.090,2,   0.024,     0.0994,   0.0060,   0.003,    0.20
06AQANTIX_2,       SR04,      50,          1,         15,         15,2,19901125,       2143,     -64.82,   -42.5083,       4491,  1297.5,  34.6678,2,  34.6681,3,  -999.0,9,  127.12,2,   33.67,2,    0.01,2,    2.31,3,   0.031,2,-999.0000,1, -999.00,1,-999.000,1,-999.000,    -0.0092,-999.0000,   0.003, -999.00
06AQANTIX_2,       SR04,      50,          1,         14,         14,2,19901125,       2143,     -64.82,   -42.5083,       4491,  1598.5,  34.6633,2,  34.6633,3,   224.2,2,  126.29,2,   33.39,2,    0.00,2,    2.30,3,-999.000,9,-999.0000,9, -999.00,9,-999.000,9,-999.000,    -0.1073,-999.0000,-999.000, -999.00
06AQANTIX_2,       SR04,      50,          1,         13,         13,2,19901125,       2143,     -64.82,   -42.5083,       4491,  1899.3,  34.6616,2,  34.6609,3,  -999.0,9,  125.79,2,   33.28,2,    0.01,2,    2.29,3,   0.047,2,   1.8510,2,    5.92,2,   8.130,2,   0.024,    -0.1840,   0.0060,   0.003,    0.20
06AQANTIX_2,       SR04,      50,          1,         12,         12,2,19901125,       2143,     -64.82,   -42.5083,       4491,  2197.2,  34.6600,2,  34.6604,3,   234.4,2,  125.63,2,   33.00,2,    0.01,2,    2.27,3,-999.000,9,-999.0000,9, -999.00,9,-999.000,9,-999.000,    -0.2286,-999.0000,-999.000, -999.00
06AQANTIX_2,       SR04,      50,          1,         11,         11,2,19901125,       2143,     -64.82,   -42.5083,       4491,  2500.6,  34.6586,2,  34.6586,3,  -999.0,9,  125.30,2,   32.94,2,    0.00,2,    2.26,3,   0.056,2,-999.0000,1, -999.00,1,-999.000,1,-999.000,    -0.2687,-999.0000,   0.007, -999.00
06AQANTIX_2,       SR04,      50,          1,         10,         10,2,19901125,       2143,     -64.82,   -42.5083,       4491,  2801.2,  34.6584,2,  34.6578,3,   238.8,2,  124.46,2,   32.77,2,    0.01,2,    2.26,3,-999.000,9,-999.0000,9, -999.00,9,-999.000,9,-999.000,    -0.3026,-999.0000,-999.000, -999.00
06AQANTIX_2,       SR04,      50,          1,          9,          9,2,19901125,       2143,     -64.82,   -42.5083,       4491,  3106.2,  34.6567,2,  34.6559,3,   248.6,2,  124.13,2,   32.66,2,    0.00,2,    2.25,3,   0.051,2,   1.8630,2,    5.37,2,   8.184,2,   0.025,    -0.3332,   0.0060,   0.004,    0.20
06AQANTIX_2,       SR04,      50,          1,          8,          8,2,19901125,       2143,     -64.82,   -42.5083,       4491,  3404.9,  34.6550,2,  34.6543,3,   248.9,2,  123.64,2,   32.49,2,    0.00,2,    2.25,3,-999.000,9,-999.0000,9, -999.00,9,-999.000,9,-999.000,    -0.3629,-999.0000,-999.000, -999.00
06AQANTIX_2,       SR04,      50,          1,          7,          7,2,19901125,       2143,     -64.82,   -42.5083,       4491,  3705.6,  34.6535,2,  34.6531,3,  -999.0,9,  123.64,2,   32.43,2,    0.00,2,    2.25,3,   0.065,2,-999.0000,1, -999.00,1,-999.000,1,-999.000,    -0.3874,-999.0000,   0.004, -999.00
06AQANTIX_2,       SR04,      50,          1,          6,          6,2,19901125,       2143,     -64.82,   -42.5083,       4491,  4005.6,  34.6528,2,  34.6518,3,   248.0,2,  123.82,2,   32.43,2,    0.00,2,    2.24,3,   0.063,2,-999.0000,1, -999.00,1,-999.000,1,-999.000,    -0.4216,-999.0000,   0.016, -999.00
06AQANTIX_2,       SR04,      50,          1,          5,          5,2,19901125,       2143,     -64.82,   -42.5083,       4491,  4206.5,  34.6491,2,  34.6468,3,  -999.0,9,  119.44,2,   32.20,2,    0.00,2,    2.23,3,   0.074,2,   1.8750,2,    4.36,2,   8.263,2,   0.025,    -0.4712,   0.0060,   0.005,    0.20
06AQANTIX_2,       SR04,      50,          1,          4,          4,2,19901125,       2143,     -64.82,   -42.5083,       4491,  4405.9,  34.6454,2,  34.6440,3,   253.2,2,  117.25,2,   32.15,2,    0.01,2,    2.22,3,   0.078,2,-999.0000,1, -999.00,1,-999.000,1,-999.000,    -0.5236,-999.0000,   0.005, -999.00
06AQANTIX_2,       SR04,      50,          1,          3,          3,2,19901125,       2143,     -64.82,   -42.5083,       4491,  4606.9,  34.6413,2,  34.6393,3,  -999.0,9,  116.24,2,   32.09,2,    0.00,2,    2.22,3,   0.086,2,-999.0000,1, -999.00,1,-999.000,1,-999.000,    -0.5683,-999.0000,   0.006, -999.00
06AQANTIX_2,       SR04,      50,          1,          2,          2,2,19901125,       2143,     -64.82,   -42.5083,       4491,  4706.9,  34.6383,2,  34.6369,3,   257.7,2,  113.55,2,   31.92,2,    0.01,2,    2.23,3,   0.121,2,   1.8660,2,    3.29,2,   8.221,2,   0.041,    -0.5884,   0.0090,   0.005,    0.20
06AQANTIX_2,       SR04,      50,          1,          1,          1,2,19901125,       2143,     -64.82,   -42.5083,       4491,  4744.9,  34.6380,2,  34.6354,3,   258.2,2,  113.14,2,   31.98,2,    0.00,2,    2.22,3,   0.112,2,   1.8660,2,    3.27,2,   8.229,2,   0.025,    -0.5921,   0.0060,   0.006,    0.20