BOTTLE,20220818CCHSIOAMB
EXPOCODE,SECT_ID,STNNBR,CASTNO,SAMPNO,BTLNBR,BTLNBR_FLAG_W,DATE,TIME,LATITUDE,LONGITUDE,DEPTH,CTDPRS,CTDSAL,CTDSAL_FLAG_W,SALNTY,SALNTY_FLAG_W,OXYGEN,OXYGEN_FLAG_W,SILCAT,SILCAT_FLAG_W,NITRAT,NITRAT_FLAG_W,NITRIT,NITRIT_FLAG_W,PHSPHT,PHSPHT_FLAG_W,TRITUM,TRITUM_FLAG_W,HELIUM,HELIUM_FLAG_W,DELHE3,DELHE3_FLAG_W,NEON,NEON_FLAG_W,NEONER,CTDTMP,HELIER,TRITER,DELHER
,,,,,,,,,,,METERS,DBAR,PSS-78,,PSS-78,,UMOL/KG,,UMOL/KG,,UMOL/KG,,UMOL/KG,,UMOL/KG,,TU,,NMOL/KG,,PERCNT,,NMOL/KG,,NMOL/KG,IPTS-68,NMOL/KG,TU,PERCNT
06AQANTIX_2,       SR04,     103,          1,         24,         24,2,19901213,       0442,     -70.42,    -13.295,       2584,     1.4,  34.3395,2,  34.3426,3,  -999.0,9,   76.61,2,   30.11,2,    0.23,2,    2.08,2,-999.000,9,-999.0000,9, -999.00,9,-999.000,9,-999.000,    -1.8396,-999.0000,-999.000, -999.00
06AQANTIX_2,       SR04,     103,          1,         23,         23,2,19901213,       0442,     -70.42,    -13.295,       2584,    24.7,  34.3442,2,  34.3457,3,   312.0,2,   76.62,2,   30.11,2,    0.22,2,    2.07,2,-999.000,9,-999.0000,9, -999.00,9,-999.000,9,-999.000,    -1.8409,-999.0000,-999.000, -999.00
06AQANTIX_2,       SR04,     103,          1,         22,         22,2,19901213,       0442,     -70.42,    -13.295,       2584,    51.9,  34.3519,2,  34.3525,3,   297.0,2,   76.82,2,   30.10,2,    0.21,2,    2.08,2,-999.000,9,-999.0000,9, -999.00,9,-999.000,9,-999.000,    -1.8384,-999.0000,-999.000, -999.00
06AQANTIX_2,       SR04,     103,          1,         21,         21,2,19901213,       0442,     -70.42,    -13.295,       2584,    76.7,  34.3679,2,-999.0000,9,   285.8,2,   77.21,2,   30.23,2,    0.18,2,    2.09,2,-999.000,9,-999.0000,9, -999.00,9,-999.000,9,-999.000,    -1.8117,-999.0000,-999.000, -999.00
06AQANTIX_2,       SR04,     103,          1,         20,         20,2,19901213,       0442,     -70.42,    -13.295,       2584,   101.2,  34.4008,2,  34.4044,3,   281.8,2,   77.79,2,   30.41,2,    0.11,2,    2.10,2,-999.000,9,-999.0000,9, -999.00,9,-999.000,9,-999.000,    -1.6575,-999.0000,-999.000, -999.00
06AQANTIX_2,       SR04,     103,          1,         19,         19,2,19901213,       0442,     -70.42,    -13.295,       2584,   200.4,  34.6273,2,-999.0000,9,   219.4,2,   94.17,2,   31.87,2,    0.00,2,    2.21,2,-999.000,9,-999.0000,9, -999.00,9,-999.000,9,-999.000,     0.4069,-999.0000,-999.000, -999.00
06AQANTIX_2,       SR04,     103,          1,         18,         18,2,19901213,       0442,     -70.42,    -13.295,       2584,   300.1,  34.6757,2,  34.6796,3,   208.4,2,  100.54,2,   31.86,2,    0.02,2,    2.20,2,-999.000,9,-999.0000,9, -999.00,9,-999.000,9,-999.000,     0.7078,-999.0000,-999.000, -999.00
06AQANTIX_2,       SR04,     103,          1,         17,         17,2,19901213,       0442,     -70.42,    -13.295,       2584,   400.5,  34.6886,2,  34.6877,3,   209.4,2,  104.20,2,   31.86,2,    0.00,2,    2.22,2,-999.000,9,-999.0000,9, -999.00,9,-999.000,9,-999.000,     0.7556,-999.0000,-999.000, -999.00
06AQANTIX_2,       SR04,     103,          1,         16,         16,2,19901213,       0442,     -70.42,    -13.295,       2584,   499.4,  34.6916,2,  34.6919,3,   206.8,2,  107.10,2,   31.86,2,   -0.01,4,    2.22,2,-999.000,9,-999.0000,9, -999.00,9,-999.000,9,-999.000,     0.7186,-999.0000,-999.000, -999.00
06AQANTIX_2,       SR04,     103,          1,         15,         15,2,19901213,       0442,     -70.42,    -13.295,       2584,   749.3,  34.6852,2,  34.6891,3,   213.3,2,  113.28,2,   32.11,2,    0.01,2,    2.24,2,-999.000,9,-999.0000,9, -999.00,9,-999.000,9,-999.000,     0.5088,-999.0000,-999.000, -999.00
06AQANTIX_2,       SR04,     103,          1,         14,         14,2,19901213,       0442,     -70.42,    -13.295,       2584,   999.3,  34.6788,2,  34.6852,3,   214.3,2,  116.95,2,   32.36,2,    0.01,2,    2.27,2,-999.000,9,-999.0000,9, -999.00,9,-999.000,9,-999.000,     0.3519,-999.0000,-999.000, -999.00
06AQANTIX_2,       SR04,     103,          1,         13,         13,2,19901213,       0442,     -70.42,    -13.295,       2584,  1249.1,  34.6738,2,  34.6773,3,   215.9,2,  119.65,2,   32.55,2,    0.01,2,    2.27,2,-999.000,9,-999.0000,9, -999.00,9,-999.000,9,-999.000,     0.2289,-999.0000,-999.000, -999.00
06AQANTIX_2,       SR04,     103,          1,         12,         12,2,19901213,       0442,     -70.42,    -13.295,       2584,  1499.2,  34.6688,2,  34.6700,3,   225.6,2,  121.78,2,   32.54,2,    0.02,2,    2.27,2,-999.000,9,-999.0000,9, -999.00,9,-999.000,9,-999.000,     0.1129,-999.0000,-999.000, -999.00
06AQANTIX_2,       SR04,     103,          1,          7,          7,2,19901213,       0442,     -70.42,    -13.295,       2584,  2000.6,  34.6632,2,  34.6676,3,  -999.0,9,  123.93,2,   32.39,2,    0.00,2,    2.27,2,-999.000,9,-999.0000,9, -999.00,9,-999.000,9,-999.000,    -0.0544,-999.0000,-999.000, -999.00
06AQANTIX_2,       SR04,     103,          1,          8,          8,2,19901213,       0442,     -70.42,    -13.295,       2584,  2000.7,  34.6628,2,  34.6662,3,  -999.0,9,  123.93,2,   32.40,2,    0.01,2,    2.27,2,-999.000,9,-999.0000,9, -999.00,9,-999.000,9,-999.000,    -0.0541,-999.0000,-999.000, -999.00
06AQANTIX_2,       SR04,     103,          1,          9,          9,2,19901213,       0442,     -70.42,    -13.295,       2584,  2000.9,  34.6624,2,  34.6640,3,  -999.0,9,  124.11,2,   32.40,2,    0.00,2,    2.27,2,-999.000,9,-999.0000,9, -999.00,9,-999.000,9,-999.000,    -0.0539,-999.0000,-999.000, -999.00
06AQANTIX_2,       SR04,     103,          1,         10,         10,2,19901213,       0442,     -70.42,    -13.295,       2584,  2001.1,  34.6621,2,  34.6663,3,  -999.0,9,  123.91,2,   32.41,2,    0.01,2,    2.27,2,-999.000,9,-999.0000,9, -999.00,9,-999.000,9,-999.000,    -0.0537,-999.0000,-999.000, -999.00
06AQANTIX_2,       SR04,     103,          1,         11,         11,2,19901213,       0442,     -70.42,    -13.295,       2584,  2001.5,  34.6621,2,  34.6640,3,   226.9,2,  124.10,2,   32.47,2,    0.01,2,    2.27,2,-999.000,9,-999.0000,9, -999.00,9,-999.000,9,-999.000,    -0.0539,-999.0000,-999.000, -999.00
06AQANTIX_2,       SR04,     103,          1,          3,          3,2,19901213,       0442,     -70.42,    -13.295,       2584,  2498.2,  34.6612,2,  34.6612,3,   232.2,2,  124.53,2,   32.25,2,    0.01,2,    2.27,2,-999.000,9,-999.0000,9, -999.00,9,-999.000,9,-999.000,    -0.1306,-999.0000,-999.000, -999.00
06AQANTIX_2,       SR04,     103,          1,          4,          4,2,19901213,       0442,     -70.42,    -13.295,       2584,  2498.4,  34.6610,2,  34.6612,3,  -999.0,9,  124.53,2,   32.32,2,    0.01,2,    2.27,2,-999.000,9,-999.0000,9, -999.00,9,-999.000,9,-999.000,    -0.1306,-999.0000,-999.000, -999.00
06AQANTIX_2,       SR04,     103,          1,          5,          5,2,19901213,       0442,     -70.42,    -13.295,       2584,  2498.6,  34.6611,2,  34.6612,3,  -999.0,9,  124.52,2,   32.32,2,    0.01,2,    2.27,2,-999.000,9,-999.0000,9, -999.00,9,-999.000,9,-999.000,    -0.1306,-999.0000,-999.000, -999.00
06AQANTIX_2,       SR04,     103,          1,          6,          6,2,19901213,       0442,     -70.42,    -13.295,       2584,  2498.9,  34.6608,2,  34.6673,3,  -999.0,9,  124.71,2,   32.33,2,    0.01,2,    2.27,2,-999.000,9,-999.0000,9, -999.00,9,-999.000,9,-999.000,    -0.1304,-999.0000,-999.000, -999.00
06AQANTIX_2,       SR04,     103,          1,          2,          2,2,19901213,       0442,     -70.42,    -13.295,       2584,  2601.1,  34.6612,2,  34.6617,3,   232.6,2,  124.54,2,   32.25,2,    0.02,2,    2.27,2,-999.000,9,-999.0000,9, -999.00,9,-999.000,9,-999.000,    -0.1336,-999.0000,-999.000, -999.00
06AQANTIX_2,       SR04,     103,          1,          1,          1,2,19901213,       0442,     -70.42,    -13.295,       2584,  2720.0,  34.6599,2,-999.0000,9,   234.4,2,  124.55,2,   32.18,2,    0.00,2,    2.26,2,-999.000,9,-999.0000,9, -999.00,9,-999.000,9,-999.000,    -0.1340,-999.0000,-999.000, -999.00
06AQANTIX_2,       SR04,     104,          1,         24,         24,2,19901213,       0741,    -70.495,   -13.1367,       2274,     1.1,  34.3320,2,  34.3329,3,   291.9,2,   76.43,2,   30.11,2,    0.17,2, -999.00,9,-999.000,9,-999.0000,9, -999.00,9,-999.000,9,-999.000,    -1.8053,-999.0000,-999.000, -999.00
06AQANTIX_2,       SR04,     104,          1,         23,         23,2,19901213,       0741,    -70.495,   -13.1367,       2274,     8.2,  34.3362,2,  34.3381,3,   301.6,2,   76.45,2,   30.14,2,    0.17,2, -999.00,9,-999.000,9,-999.0000,9, -999.00,9,-999.000,9,-999.000,    -1.8080,-999.0000,-999.000, -999.00
06AQANTIX_2,       SR04,     104,          1,         22,         22,2,19901213,       0741,    -70.495,   -13.1367,       2274,    23.8,  34.3372,2,-999.0000,9,   288.7,2,   76.27,2,   30.12,2,    0.17,2, -999.00,9,   0.097,2,-999.0000,1, -999.00,1,-999.000,1,-999.000,    -1.8102,-999.0000,   0.009, -999.00
06AQANTIX_2,       SR04,     104,          1,         21,         21,2,19901213,       0741,    -70.495,   -13.1367,       2274,    51.7,  34.3694,2,  34.3691,3,   284.6,2,   76.48,2,   30.27,2,    0.16,2, -999.00,9,   0.097,2,   1.8520,3,    2.51,2,   8.164,3,   0.024,    -1.7933,   0.0060,   0.010,    0.20
06AQANTIX_2,       SR04,     104,          1,         20,         20,2,19901213,       0741,    -70.495,   -13.1367,       2274,    70.6,  34.3866,2,  34.3900,3,  -999.0,9,   76.11,2,   30.41,2,    0.09,2, -999.00,9,   0.082,2,   1.8320,2,    1.76,2,   8.133,2,   0.024,    -1.7115,   0.0050,   0.006,    0.20
06AQANTIX_2,       SR04,     104,          1,         19,         19,2,19901213,       0741,    -70.495,   -13.1367,       2274,    95.8,  34.4210,2,  34.4205,3,   278.6,2,   77.28,2,   30.71,2,    0.02,2,    2.05,2,   0.062,2,   1.8470,2,    3.08,2,   8.132,2,   0.024,    -1.4952,   0.0050,   0.008,    0.20
06AQANTIX_2,       SR04,     104,          1,         18,         18,2,19901213,       0741,    -70.495,   -13.1367,       2274,   199.5,  34.5850,2,-999.0000,9,   228.9,2,   89.63,2,   31.75,2,    0.01,2,    2.15,2,   0.065,2,   1.8270,2,    6.18,2,   7.985,2,   0.024,     0.0310,   0.0050,   0.011,    0.20
06AQANTIX_2,       SR04,     104,          1,         17,         17,2,19901213,       0741,    -70.495,   -13.1367,       2274,   249.2,  34.6494,2,  34.6498,3,   215.9,2,   94.85,2,   31.89,2,    0.01,2,    2.19,2,   0.053,2,   1.8430,2,    7.56,2,   8.009,2,   0.024,     0.5926,   0.0050,   0.013,    0.20
06AQANTIX_2,       SR04,     104,          1,         16,         16,2,19901213,       0741,    -70.495,   -13.1367,       2274,   299.4,  34.6632,2,  34.6637,3,   212.1,2,   96.99,2,   31.92,2,    0.02,2,    2.19,2,   0.060,2,-999.0000,1, -999.00,1,-999.000,1,-999.000,     0.6724,-999.0000,   0.005, -999.00
06AQANTIX_2,       SR04,     104,          1,         15,         15,2,19901213,       0741,    -70.495,   -13.1367,       2274,   397.6,  34.6785,2,  34.6809,3,   210.7,2,  100.86,2,   31.80,2,    0.01,2,    2.19,2,   0.042,2,   1.8560,2,    8.07,2,   8.075,2,   0.024,     0.7481,   0.0060,   0.009,    0.20
06AQANTIX_2,       SR04,     104,          1,         14,         14,2,19901213,       0741,    -70.495,   -13.1367,       2274,   498.2,  34.6854,2,  34.6865,3,   210.6,2,  104.16,2,   31.72,2,    0.00,2,    2.18,2,-999.000,9,-999.0000,1, -999.00,1,-999.000,1,-999.000,     0.7430,-999.0000,-999.000, -999.00
06AQANTIX_2,       SR04,     104,          1,         13,         13,2,19901213,       0741,    -70.495,   -13.1367,       2274,   747.4,  34.6843,2,  34.6887,3,   211.5,2,  111.69,2,   31.92,2,    0.01,2,    2.19,2,   0.040,2,-999.0000,9, -999.00,9,-999.000,9,-999.000,     0.5563,-999.0000,   0.008, -999.00
06AQANTIX_2,       SR04,     104,          1,         12,         12,2,19901213,       0741,    -70.495,   -13.1367,       2274,   995.3,  34.6774,2,  34.6799,3,   214.4,2,  116.15,2,   32.11,2,    0.01,2,    2.21,2,   0.053,2,-999.0000,1, -999.00,1,-999.000,1,-999.000,     0.3696,-999.0000,   0.008, -999.00
06AQANTIX_2,       SR04,     104,          1,         11,         11,2,19901213,       0741,    -70.495,   -13.1367,       2274,  1245.7,  34.6729,2,  34.6738,3,  -999.0,9,  119.25,2,   32.30,2,    0.00,2,    2.22,2,-999.000,9,-999.0000,9, -999.00,9,-999.000,9,-999.000,     0.2346,-999.0000,-999.000, -999.00
06AQANTIX_2,       SR04,     104,          1,         10,         10,2,19901213,       0741,    -70.495,   -13.1367,       2274,  1495.1,  34.6688,2,  34.6705,3,   220.2,2,  121.58,2,   32.33,2,    0.00,2,    2.23,2,   0.028,2,-999.0000,1, -999.00,1,-999.000,1,-999.000,     0.1275,-999.0000,   0.009, -999.00
06AQANTIX_2,       SR04,     104,          1,          9,          9,2,19901213,       0741,    -70.495,   -13.1367,       2274,  1745.3,  34.6662,2,  34.6667,3,   225.7,2,  122.95,2,   32.37,2,    0.00,2,    2.23,2,-999.000,9,-999.0000,9, -999.00,9,-999.000,9,-999.000,     0.0401,-999.0000,-999.000, -999.00
06AQANTIX_2,       SR04,     104,          1,          8,          8,2,19901213,       0741,    -70.495,   -13.1367,       2274,  1997.7,  34.6639,2,  34.6639,3,   226.1,2,  123.74,2,   32.29,2,    0.02,2,    2.22,2,-999.000,9,-999.0000,1, -999.00,1,-999.000,1,-999.000,    -0.0325,-999.0000,-999.000, -999.00
06AQANTIX_2,       SR04,     104,          1,          5,          5,2,19901213,       0741,    -70.495,   -13.1367,       2274,  2297.8,  34.6619,2,  34.6590,3,  -999.0,9,  124.57,2,   32.23,2,    0.01,2,    2.23,2,   0.055,2,-999.0000,1, -999.00,1,-999.000,1,-999.000,    -0.1010,-999.0000,   0.007, -999.00
06AQANTIX_2,       SR04,     104,          1,          7,          7,2,19901213,       0741,    -70.495,   -13.1367,       2274,  2297.9,  34.6606,2,  34.6619,3,  -999.0,9,  124.53,2,   32.27,2,    0.00,2,    2.22,2,-999.000,9,-999.0000,9, -999.00,9,-999.000,9,-999.000,    -0.0991,-999.0000,-999.000, -999.00
06AQANTIX_2,       SR04,     104,          1,          6,          6,2,19901213,       0741,    -70.495,   -13.1367,       2274,  2297.9,  34.6611,2,  34.6615,3,   229.0,2,  124.74,2,   32.25,2,    0.01,2,    2.22,2,-999.000,9,-999.0000,9, -999.00,9,-999.000,9,-999.000,    -0.0996,-999.0000,-999.000, -999.00
06AQANTIX_2,       SR04,     104,          1,          4,          4,2,19901213,       0741,    -70.495,   -13.1367,       2274,  2320.6,  34.6618,2,  34.6610,3,   228.9,2,  124.78,2,   32.31,2,    0.01,2,    2.24,2,-999.000,9,-999.0000,9, -999.00,9,-999.000,9,-999.000,    -0.1037,-999.0000,-999.000, -999.00
06AQANTIX_2,       SR04,     104,          1,          3,          3,2,19901213,       0741,    -70.495,   -13.1367,       2274,  2348.7,  34.6614,2,  34.6611,3,   228.9,2,  124.99,2,   32.35,2,    0.00,2,    2.24,2,-999.000,9,   1.8670,2,    6.47,2,   8.190,2,   0.025,    -0.1104,   0.0060,-999.000,    0.20
06AQANTIX_2,       SR04,     104,          1,          2,          2,2,19901213,       0741,    -70.495,   -13.1367,       2274,  2373.0,  34.6599,2,  34.6620,3,   229.4,2,  125.00,2,   32.27,2,    0.01,2,    2.25,2,-999.000,9,-999.0000,9, -999.00,9,-999.000,9,-999.000,    -0.1096,-999.0000,-999.000, -999.00
06AQANTIX_2,       SR04,     104,          1,          1,          1,2,19901213,       0741,    -70.495,   -13.1367,       2274,  2392.2,  34.6581,2,-999.0000,9,   229.2,2,  125.22,2,   32.25,2,    0.00,2,    2.26,2,   0.036,2,-999.0000,1, -999.00,1,-999.000,1,-999.000,    -0.1120,-999.0000,   0.004, -999.00