BOTTLE,20220818CCHSIOAMB
EXPOCODE,SECT_ID,STNNBR,CASTNO,SAMPNO,BTLNBR,BTLNBR_FLAG_W,DATE,TIME,LATITUDE,LONGITUDE,DEPTH,CTDPRS,CTDSAL,CTDSAL_FLAG_W,SALNTY,SALNTY_FLAG_W,OXYGEN,OXYGEN_FLAG_W,SILCAT,SILCAT_FLAG_W,NITRAT,NITRAT_FLAG_W,NITRIT,NITRIT_FLAG_W,PHSPHT,PHSPHT_FLAG_W,TRITUM,TRITUM_FLAG_W,HELIUM,HELIUM_FLAG_W,DELHE3,DELHE3_FLAG_W,NEON,NEON_FLAG_W,NEONER,CTDTMP,HELIER,TRITER,DELHER
,,,,,,,,,,,METERS,DBAR,PSS-78,,PSS-78,,UMOL/KG,,UMOL/KG,,UMOL/KG,,UMOL/KG,,UMOL/KG,,TU,,NMOL/KG,,PERCNT,,NMOL/KG,,NMOL/KG,IPTS-68,NMOL/KG,TU,PERCNT
06AQANTIX_2,       SR04,      71,          1,         24,         24,2,19901204,       0611,     -65.83,   -28.3817,       4675,    10.6,  34.3463,2,-999.0000,9,   322.2,2,   69.34,2,   27.27,2,    0.20,2,    2.05,3,-999.000,9,-999.0000,9, -999.00,9,-999.000,9,-999.000,    -1.7629,-999.0000,-999.000, -999.00
06AQANTIX_2,       SR04,      71,          1,         23,         23,2,19901204,       0611,     -65.83,   -28.3817,       4675,    28.9,  34.4203,2,-999.0000,9,   327.1,2,   68.96,2,   27.38,2,    0.20,2,    2.07,3,-999.000,9,-999.0000,9, -999.00,9,-999.000,9,-999.000,    -1.7976,-999.0000,-999.000, -999.00
06AQANTIX_2,       SR04,      71,          1,         22,         22,2,19901204,       0611,     -65.83,   -28.3817,       4675,    49.3,  34.4323,2,  34.4365,3,   331.7,2,   68.21,2,   27.43,2,    0.22,2,    2.07,3,-999.000,9,-999.0000,9, -999.00,9,-999.000,9,-999.000,    -1.8269,-999.0000,-999.000, -999.00
06AQANTIX_2,       SR04,      71,          1,         21,         21,2,19901204,       0611,     -65.83,   -28.3817,       4675,    73.9,  34.4429,2,  34.4435,3,   327.8,2,   67.83,2,   27.53,2,    0.22,2,    2.08,3,-999.000,9,-999.0000,9, -999.00,9,-999.000,9,-999.000,    -1.8461,-999.0000,-999.000, -999.00
06AQANTIX_2,       SR04,      71,          1,         20,         20,2,19901204,       0611,     -65.83,   -28.3817,       4675,    99.3,  34.4467,2,  34.4459,3,  -999.0,9,   67.83,2,   27.58,2,    0.21,2,    2.06,3,-999.000,9,-999.0000,9, -999.00,9,-999.000,9,-999.000,    -1.8456,-999.0000,-999.000, -999.00
06AQANTIX_2,       SR04,      71,          1,         19,         19,2,19901204,       0611,     -65.83,   -28.3817,       4675,   248.7,  34.6646,2,  34.6639,3,   199.7,2,  113.66,2,   33.11,2,    0.01,2,    2.46,3,-999.000,9,-999.0000,9, -999.00,9,-999.000,9,-999.000,     0.3037,-999.0000,-999.000, -999.00
06AQANTIX_2,       SR04,      71,          1,         18,         18,2,19901204,       0611,     -65.83,   -28.3817,       4675,   499.3,  34.6810,2,  34.6803,3,   194.6,2,  124.97,2,   33.52,2,    0.01,2,    2.49,3,-999.000,9,-999.0000,9, -999.00,9,-999.000,9,-999.000,     0.3455,-999.0000,-999.000, -999.00
06AQANTIX_2,       SR04,      71,          1,         17,         17,2,19901204,       0611,     -65.83,   -28.3817,       4675,   749.1,  34.6776,2,  34.6796,3,  -999.0,9,  127.43,2,   33.23,2,    0.01,2,    2.48,3,-999.000,9,-999.0000,9, -999.00,9,-999.000,9,-999.000,     0.2315,-999.0000,-999.000, -999.00
06AQANTIX_2,       SR04,      71,          1,         16,         16,2,19901204,       0611,     -65.83,   -28.3817,       4675,   999.4,  34.6735,2,  34.6757,3,  -999.0,9,  127.80,2,   32.90,2,    0.02,2,    2.46,3,-999.000,9,-999.0000,9, -999.00,9,-999.000,9,-999.000,     0.1251,-999.0000,-999.000, -999.00
06AQANTIX_2,       SR04,      71,          1,         15,         15,2,19901204,       0611,     -65.83,   -28.3817,       4675,  1246.2,  34.6702,2,  34.6695,3,   216.3,2,  127.62,2,   32.67,2,    0.01,2,    2.44,3,-999.000,9,-999.0000,9, -999.00,9,-999.000,9,-999.000,     0.0396,-999.0000,-999.000, -999.00
06AQANTIX_2,       SR04,      71,          1,         14,         14,2,19901204,       0611,     -65.83,   -28.3817,       4675,  1505.6,  34.6659,2,  34.6681,3,  -999.0,9,  127.24,2,   32.49,2,    0.01,2,    2.42,3,-999.000,9,-999.0000,9, -999.00,9,-999.000,9,-999.000,    -0.0505,-999.0000,-999.000, -999.00
06AQANTIX_2,       SR04,      71,          1,         13,         13,2,19901204,       0611,     -65.83,   -28.3817,       4675,  2001.3,  34.6606,2,  34.6610,3,   231.6,2,  126.49,2,   32.21,2,    0.00,2,    2.43,3,-999.000,9,-999.0000,9, -999.00,9,-999.000,9,-999.000,    -0.1767,-999.0000,-999.000, -999.00
06AQANTIX_2,       SR04,      71,          1,         12,         12,2,19901204,       0611,     -65.83,   -28.3817,       4675,  2494.4,  34.6577,2,  34.6580,3,   236.2,2,  125.73,2,   31.93,2,    0.00,2,    2.42,3,-999.000,9,-999.0000,9, -999.00,9,-999.000,9,-999.000,    -0.2590,-999.0000,-999.000, -999.00
06AQANTIX_2,       SR04,      71,          1,          6,          6,2,19901204,       0611,     -65.83,   -28.3817,       4675,  3001.9,  34.6556,2,  34.6549,3,  -999.0,9,  125.17,2,   31.93,2,    0.00,2,    2.35,3,-999.000,9,-999.0000,9, -999.00,9,-999.000,9,-999.000,    -0.3175,-999.0000,-999.000, -999.00
06AQANTIX_2,       SR04,      71,          1,          7,          7,2,19901204,       0611,     -65.83,   -28.3817,       4675,  3002.5,  34.6552,2,  34.6568,3,  -999.0,9,  124.98,2,   31.90,2,    0.01,2,    2.36,3,-999.000,9,-999.0000,9, -999.00,9,-999.000,9,-999.000,    -0.3174,-999.0000,-999.000, -999.00
06AQANTIX_2,       SR04,      71,          1,          8,          8,2,19901204,       0611,     -65.83,   -28.3817,       4675,  3003.0,  34.6555,2,  34.6549,3,  -999.0,9,  124.98,2,   31.86,2,    0.02,2,    2.36,3,-999.000,9,-999.0000,9, -999.00,9,-999.000,9,-999.000,    -0.3175,-999.0000,-999.000, -999.00
06AQANTIX_2,       SR04,      71,          1,          9,          9,2,19901204,       0611,     -65.83,   -28.3817,       4675,  3003.4,  34.6557,2,  34.6568,3,  -999.0,9,  124.98,2,   31.83,2,    0.00,2,    2.37,3,-999.000,9,-999.0000,9, -999.00,9,-999.000,9,-999.000,    -0.3174,-999.0000,-999.000, -999.00
06AQANTIX_2,       SR04,      71,          1,         10,         10,2,19901204,       0611,     -65.83,   -28.3817,       4675,  3003.8,  34.6552,2,  34.6568,3,  -999.0,9,  125.17,2,   31.79,2,    0.01,2,    2.39,3,-999.000,9,-999.0000,9, -999.00,9,-999.000,9,-999.000,    -0.3174,-999.0000,-999.000, -999.00
06AQANTIX_2,       SR04,      71,          1,         11,         11,2,19901204,       0611,     -65.83,   -28.3817,       4675,  3004.0,  34.6556,2,  34.6551,3,   238.6,2,  125.17,2,   31.81,2,    0.00,2,    2.38,3,-999.000,9,-999.0000,9, -999.00,9,-999.000,9,-999.000,    -0.3176,-999.0000,-999.000, -999.00
06AQANTIX_2,       SR04,      71,          1,          5,          5,2,19901204,       0611,     -65.83,   -28.3817,       4675,  3499.2,  34.6538,2,  34.6530,3,   242.9,2,  124.79,2,   31.91,2,    0.04,2,    2.36,3,-999.000,9,-999.0000,9, -999.00,9,-999.000,9,-999.000,    -0.3635,-999.0000,-999.000, -999.00
06AQANTIX_2,       SR04,      71,          1,          4,          4,2,19901204,       0611,     -65.83,   -28.3817,       4675,  4009.5,  34.6538,2,  34.6511,3,   247.1,2,  125.35,2,   31.89,2,    0.04,2,    2.33,3,-999.000,9,-999.0000,9, -999.00,9,-999.000,9,-999.000,    -0.4007,-999.0000,-999.000, -999.00
06AQANTIX_2,       SR04,      71,          1,          3,          3,2,19901204,       0611,     -65.83,   -28.3817,       4675,  4498.8,  34.6475,2,  34.6453,3,  -999.0,9,  117.24,2,   31.77,2,    0.01,2,    2.33,3,-999.000,9,-999.0000,9, -999.00,9,-999.000,9,-999.000,    -0.4975,-999.0000,-999.000, -999.00
06AQANTIX_2,       SR04,      71,          1,          2,          2,2,19901204,       0611,     -65.83,   -28.3817,       4675,  4802.8,  34.6452,2,  34.6416,3,   250.7,2,  124.03,2,   31.96,2,    0.00,2,    2.32,3,-999.000,9,-999.0000,9, -999.00,9,-999.000,9,-999.000,    -0.5189,-999.0000,-999.000, -999.00
06AQANTIX_2,       SR04,      71,          1,          1,          1,2,19901204,       0611,     -65.83,   -28.3817,       4675,  4920.0,  34.6398,2,-999.0000,9,   252.0,2,  122.53,2,   32.04,2,    0.01,2,    2.31,3,-999.000,9,-999.0000,9, -999.00,9,-999.000,9,-999.000,    -0.5430,-999.0000,-999.000, -999.00
06AQANTIX_2,       SR04,      72,          1,         24,         24,2,19901204,       1127,   -65.4567,   -28.9667,       4708,     1.0,  34.3403,2,-999.0000,9,   332.7,2,   68.48,2,   27.64,2,    0.20,2, -999.00,9,-999.000,9,-999.0000,9, -999.00,9,-999.000,9,-999.000,    -1.7775,-999.0000,-999.000, -999.00
06AQANTIX_2,       SR04,      72,          1,         23,         23,2,19901204,       1127,   -65.4567,   -28.9667,       4708,    23.4,  34.3455,2,-999.0000,9,   318.8,2,   68.47,2,   27.74,2,    0.21,2, -999.00,9,-999.000,9,-999.0000,9, -999.00,9,-999.000,9,-999.000,    -1.7796,-999.0000,-999.000, -999.00
06AQANTIX_2,       SR04,      72,          1,         22,         22,2,19901204,       1127,   -65.4567,   -28.9667,       4708,    49.0,  34.4258,2,  34.4277,3,   322.8,2,   68.45,2,   27.96,2,    0.22,2, -999.00,9,-999.000,9,-999.0000,9, -999.00,9,-999.000,9,-999.000,    -1.8277,-999.0000,-999.000, -999.00
06AQANTIX_2,       SR04,      72,          1,         21,         21,2,19901204,       1127,   -65.4567,   -28.9667,       4708,    73.7,  34.4326,2,  34.4326,3,   315.7,2,   68.25,2,   28.01,2,    0.21,2, -999.00,9,-999.000,9,-999.0000,9, -999.00,9,-999.000,9,-999.000,    -1.8399,-999.0000,-999.000, -999.00
06AQANTIX_2,       SR04,      72,          1,         20,         20,2,19901204,       1127,   -65.4567,   -28.9667,       4708,    99.6,  34.4388,2,  34.4398,3,   315.4,2,   67.86,2,   28.12,2,    0.21,2, -999.00,9,-999.000,9,-999.0000,9, -999.00,9,-999.000,9,-999.000,    -1.8412,-999.0000,-999.000, -999.00
06AQANTIX_2,       SR04,      72,          1,         19,         19,2,19901204,       1127,   -65.4567,   -28.9667,       4708,   148.9,  34.6586,2,  34.6582,3,   199.8,2,  105.64,2,   32.97,2,    0.01,2, -999.00,9,-999.000,9,-999.0000,9, -999.00,9,-999.000,9,-999.000,     0.3711,-999.0000,-999.000, -999.00
06AQANTIX_2,       SR04,      72,          1,         18,         18,2,19901204,       1127,   -65.4567,   -28.9667,       4708,   198.4,  34.6725,2,  34.6733,3,  -999.0,9,  109.59,2,   33.13,2,    0.01,2, -999.00,9,-999.000,9,-999.0000,9, -999.00,9,-999.000,9,-999.000,     0.4967,-999.0000,-999.000, -999.00
06AQANTIX_2,       SR04,      72,          1,         17,         17,2,19901204,       1127,   -65.4567,   -28.9667,       4708,   249.0,  34.6806,2,  34.6825,3,   193.9,2,  114.50,2,   33.13,2,    0.01,2, -999.00,9,-999.000,9,-999.0000,9, -999.00,9,-999.000,9,-999.000,     0.5459,-999.0000,-999.000, -999.00
06AQANTIX_2,       SR04,      72,          1,         16,         16,2,19901204,       1127,   -65.4567,   -28.9667,       4708,   302.7,  34.6852,2,  34.6846,3,   195.3,2,  116.75,2,   33.18,2,    0.01,2, -999.00,9,-999.000,9,-999.0000,9, -999.00,9,-999.000,9,-999.000,     0.5380,-999.0000,-999.000, -999.00
06AQANTIX_2,       SR04,      72,          1,         15,         15,2,19901204,       1127,   -65.4567,   -28.9667,       4708,   500.2,  34.6824,2,  34.6826,3,   195.2,2,  122.41,2,   33.34,2,    0.01,2, -999.00,9,-999.000,9,-999.0000,9, -999.00,9,-999.000,9,-999.000,     0.3894,-999.0000,-999.000, -999.00
06AQANTIX_2,       SR04,      72,          1,         14,         14,2,19901204,       1127,   -65.4567,   -28.9667,       4708,   798.1,  34.6789,2,  34.6778,3,   200.5,2,  126.75,2,   33.28,2,    0.00,2, -999.00,9,-999.000,9,-999.0000,9, -999.00,9,-999.000,9,-999.000,     0.2451,-999.0000,-999.000, -999.00
06AQANTIX_2,       SR04,      72,          1,         13,         13,2,19901204,       1127,   -65.4567,   -28.9667,       4708,   999.9,  34.6750,2,  34.6752,3,   206.3,2,  127.69,2,   33.11,2,    0.00,2, -999.00,9,-999.000,9,-999.0000,9, -999.00,9,-999.000,9,-999.000,     0.1525,-999.0000,-999.000, -999.00
06AQANTIX_2,       SR04,      72,          1,         12,         12,2,19901204,       1127,   -65.4567,   -28.9667,       4708,  1501.4,  34.6682,2,  34.6670,3,   218.8,2,  127.49,2,   32.60,2,    0.01,2, -999.00,9,-999.000,9,-999.0000,9, -999.00,9,-999.000,9,-999.000,    -0.0263,-999.0000,-999.000, -999.00
06AQANTIX_2,       SR04,      72,          1,         11,         11,2,19901204,       1127,   -65.4567,   -28.9667,       4708,  2002.0,  34.6619,2,  34.6612,3,   228.6,2,  126.54,2,   32.38,2,    0.00,2, -999.00,9,-999.000,9,-999.0000,9, -999.00,9,-999.000,9,-999.000,    -0.1676,-999.0000,-999.000, -999.00
06AQANTIX_2,       SR04,      72,          1,         10,         10,2,19901204,       1127,   -65.4567,   -28.9667,       4708,  2500.8,  34.6587,2,  34.6584,3,   234.0,2,  125.20,2,   32.09,2,    0.01,2, -999.00,9,-999.000,9,-999.0000,9, -999.00,9,-999.000,9,-999.000,    -0.2512,-999.0000,-999.000, -999.00
06AQANTIX_2,       SR04,      72,          1,          9,          9,2,19901204,       1127,   -65.4567,   -28.9667,       4708,  3003.3,  34.6561,2,  34.6564,3,   236.8,2,  125.38,2,   31.92,2,    0.01,2, -999.00,9,-999.000,9,-999.0000,9, -999.00,9,-999.000,9,-999.000,    -0.3082,-999.0000,-999.000, -999.00
06AQANTIX_2,       SR04,      72,          1,          7,          7,2,19901204,       1127,   -65.4567,   -28.9667,       4708,  3503.9,  34.6544,2,  34.6520,3,   241.5,2,  124.80,2,   31.86,2,    0.00,2, -999.00,9,-999.000,9,-999.0000,9, -999.00,9,-999.000,9,-999.000,    -0.3599,-999.0000,-999.000, -999.00
06AQANTIX_2,       SR04,      72,          1,          8,          8,2,19901204,       1127,   -65.4567,   -28.9667,       4708,  3504.5,  34.6538,2,  34.6539,3,  -999.0,9,  124.62,2,   31.81,2,    0.01,2, -999.00,9,-999.000,9,-999.0000,9, -999.00,9,-999.000,9,-999.000,    -0.3608,-999.0000,-999.000, -999.00
06AQANTIX_2,       SR04,      72,          1,          6,          6,2,19901204,       1127,   -65.4567,   -28.9667,       4708,  4004.2,  34.6538,2,  34.6541,3,   243.3,2,  125.16,2,   31.91,2,    0.01,2, -999.00,9,-999.000,9,-999.0000,9, -999.00,9,-999.000,9,-999.000,    -0.4015,-999.0000,-999.000, -999.00
06AQANTIX_2,       SR04,      72,          1,          5,          5,2,19901204,       1127,   -65.4567,   -28.9667,       4708,  4508.7,  34.6474,2,  34.6450,3,   251.1,2,  116.65,2,   31.63,2,    0.01,2, -999.00,9,-999.000,9,-999.0000,9, -999.00,9,-999.000,9,-999.000,    -0.4993,-999.0000,-999.000, -999.00
06AQANTIX_2,       SR04,      72,          1,          4,          4,2,19901204,       1127,   -65.4567,   -28.9667,       4708,  4703.6,  34.6476,2,  34.6448,3,   251.1,2,  119.47,2,   31.68,2,    0.01,2, -999.00,9,-999.000,9,-999.0000,9, -999.00,9,-999.000,9,-999.000,    -0.5115,-999.0000,-999.000, -999.00
06AQANTIX_2,       SR04,      72,          1,          3,          3,2,19901204,       1127,   -65.4567,   -28.9667,       4708,  4852.1,  34.6439,2,  34.6414,3,   252.2,2,  122.49,2,   31.84,2,    0.00,2, -999.00,9,-999.000,9,-999.0000,9, -999.00,9,-999.000,9,-999.000,    -0.5260,-999.0000,-999.000, -999.00
06AQANTIX_2,       SR04,      72,          1,          2,          2,2,19901204,       1127,   -65.4567,   -28.9667,       4708,  4928.4,  34.6401,2,  34.6378,3,   252.7,2,  121.34,2,   31.84,2,    0.00,2, -999.00,9,-999.000,9,   1.8680,3,    3.93,2,   8.197,2,   0.041,    -0.5414,   0.0090,-999.000,    0.20
06AQANTIX_2,       SR04,      72,          1,          1,          1,2,19901204,       1127,   -65.4567,   -28.9667,       4708,  4976.0,  34.6372,2,-999.0000,9,   254.3,2,  117.93,2,   31.72,2,    0.00,2, -999.00,9,-999.000,9,-999.0000,9, -999.00,9,-999.000,9,-999.000,    -0.5500,-999.0000,-999.000, -999.00