BOTTLE,20220818CCHSIOAMB
EXPOCODE,SECT_ID,STNNBR,CASTNO,SAMPNO,BTLNBR,BTLNBR_FLAG_W,DATE,TIME,LATITUDE,LONGITUDE,DEPTH,CTDPRS,CTDSAL,CTDSAL_FLAG_W,SALNTY,SALNTY_FLAG_W,OXYGEN,OXYGEN_FLAG_W,SILCAT,SILCAT_FLAG_W,NITRAT,NITRAT_FLAG_W,NITRIT,NITRIT_FLAG_W,PHSPHT,PHSPHT_FLAG_W,TRITUM,TRITUM_FLAG_W,HELIUM,HELIUM_FLAG_W,DELHE3,DELHE3_FLAG_W,NEON,NEON_FLAG_W,NEONER,CTDTMP,HELIER,TRITER,DELHER
,,,,,,,,,,,METERS,DBAR,PSS-78,,PSS-78,,UMOL/KG,,UMOL/KG,,UMOL/KG,,UMOL/KG,,UMOL/KG,,TU,,NMOL/KG,,PERCNT,,NMOL/KG,,NMOL/KG,IPTS-68,NMOL/KG,TU,PERCNT
06AQANTIX_2,       SR04,     105,          1,         24,         24,2,19901213,       1223,   -70.6383,    -12.735,       2116,     1.4,  34.3349,2,  34.3369,3,   304.5,2,   74.60,2,   29.95,2,    0.12,2, -999.00,9,-999.000,9,-999.0000,9, -999.00,9,-999.000,9,-999.000,    -1.8007,-999.0000,-999.000, -999.00
06AQANTIX_2,       SR04,     105,          1,         23,         23,2,19901213,       1223,   -70.6383,    -12.735,       2116,     8.9,  34.3363,2,  34.3368,3,   292.1,2,   74.70,2,   29.95,2,    0.14,2, -999.00,9,-999.000,9,-999.0000,9, -999.00,9,-999.000,9,-999.000,    -1.8065,-999.0000,-999.000, -999.00
06AQANTIX_2,       SR04,     105,          1,         22,         22,2,19901213,       1223,   -70.6383,    -12.735,       2116,    24.6,  34.3490,2,  34.3499,3,   294.4,2,   74.31,2,   30.05,2,    0.10,2, -999.00,9,-999.000,9,-999.0000,9, -999.00,9,-999.000,9,-999.000,    -1.8234,-999.0000,-999.000, -999.00
06AQANTIX_2,       SR04,     105,          1,         21,         21,2,19901213,       1223,   -70.6383,    -12.735,       2116,    42.4,  34.3558,2,  34.3553,3,  -999.0,9,   73.92,2,   29.95,2,    0.13,2, -999.00,9,-999.000,9,-999.0000,9, -999.00,9,-999.000,9,-999.000,    -1.8270,-999.0000,-999.000, -999.00
06AQANTIX_2,       SR04,     105,          1,         20,         20,2,19901213,       1223,   -70.6383,    -12.735,       2116,    69.6,  34.3638,2,  34.3625,3,   289.2,2,   74.11,2,   30.05,2,    0.10,2, -999.00,9,-999.000,9,-999.0000,9, -999.00,9,-999.000,9,-999.000,    -1.8358,-999.0000,-999.000, -999.00
06AQANTIX_2,       SR04,     105,          1,         19,         19,2,19901213,       1223,   -70.6383,    -12.735,       2116,    98.9,  34.3714,2,  34.3704,3,  -999.0,9,   74.11,2,   30.15,2,    0.09,2, -999.00,9,-999.000,9,-999.0000,9, -999.00,9,-999.000,9,-999.000,    -1.8332,-999.0000,-999.000, -999.00
06AQANTIX_2,       SR04,     105,          1,         18,         18,2,19901213,       1223,   -70.6383,    -12.735,       2116,   148.1,  34.3976,2,-999.0000,9,   287.2,2,   73.72,2,   30.34,2,    0.01,2, -999.00,9,-999.000,9,-999.0000,9, -999.00,9,-999.000,9,-999.000,    -1.7162,-999.0000,-999.000, -999.00
06AQANTIX_2,       SR04,     105,          1,         17,         17,2,19901213,       1223,   -70.6383,    -12.735,       2116,   198.3,  34.4559,2,  34.4550,3,   278.8,2,   74.89,2,   30.64,2,    0.00,2, -999.00,9,-999.000,9,-999.0000,9, -999.00,9,-999.000,9,-999.000,    -1.2245,-999.0000,-999.000, -999.00
06AQANTIX_2,       SR04,     105,          1,         16,         16,2,19901213,       1223,   -70.6383,    -12.735,       2116,   297.7,  34.6121,2,  34.6172,3,   220.9,2,   91.03,2,   31.71,2,    0.01,2, -999.00,9,-999.000,9,-999.0000,9, -999.00,9,-999.000,9,-999.000,     0.3358,-999.0000,-999.000, -999.00
06AQANTIX_2,       SR04,     105,          1,         15,         15,2,19901213,       1223,   -70.6383,    -12.735,       2116,   342.0,  34.6374,2,  34.6376,3,   215.1,2,   93.58,2,   31.81,2,    0.00,2, -999.00,9,-999.000,9,-999.0000,9, -999.00,9,-999.000,9,-999.000,     0.5361,-999.0000,-999.000, -999.00
06AQANTIX_2,       SR04,     105,          1,         14,         14,2,19901213,       1223,   -70.6383,    -12.735,       2116,   496.8,  34.6684,2,  34.6675,3,   209.6,2,   99.84,2,   31.81,2,    0.00,2, -999.00,9,-999.000,9,-999.0000,9, -999.00,9,-999.000,9,-999.000,     0.6822,-999.0000,-999.000, -999.00
06AQANTIX_2,       SR04,     105,          1,         13,         13,2,19901213,       1223,   -70.6383,    -12.735,       2116,   597.7,  34.6801,2,  34.6794,3,   211.6,2,  104.44,2,   31.81,2,    0.00,2, -999.00,9,-999.000,9,-999.0000,9, -999.00,9,-999.000,9,-999.000,     0.6867,-999.0000,-999.000, -999.00
06AQANTIX_2,       SR04,     105,          1,         12,         12,2,19901213,       1223,   -70.6383,    -12.735,       2116,   795.6,  34.6838,2,  34.6826,3,   210.8,2,  110.51,2,   31.91,2,    0.00,2, -999.00,9,-999.000,9,-999.0000,9, -999.00,9,-999.000,9,-999.000,     0.5830,-999.0000,-999.000, -999.00
06AQANTIX_2,       SR04,     105,          1,         11,         11,2,19901213,       1223,   -70.6383,    -12.735,       2116,   995.2,  34.6796,2,  34.6786,3,   212.0,2,  115.01,2,   32.10,2,    0.01,2, -999.00,9,-999.000,9,-999.0000,9, -999.00,9,-999.000,9,-999.000,     0.4347,-999.0000,-999.000, -999.00
06AQANTIX_2,       SR04,     105,          1,         10,         10,2,19901213,       1223,   -70.6383,    -12.735,       2116,  1196.6,  34.6758,2,  34.6746,3,   213.3,2,  117.95,2,   32.30,2,    0.00,2, -999.00,9,-999.000,9,-999.0000,9, -999.00,9,-999.000,9,-999.000,     0.3247,-999.0000,-999.000, -999.00
06AQANTIX_2,       SR04,     105,          1,          9,          9,2,19901213,       1223,   -70.6383,    -12.735,       2116,  1395.2,  34.6713,2,  34.6698,3,   217.1,2,  120.30,2,   32.30,2,   -0.01,4, -999.00,9,-999.000,9,-999.0000,9, -999.00,9,-999.000,9,-999.000,     0.2129,-999.0000,-999.000, -999.00
06AQANTIX_2,       SR04,     105,          1,          8,          8,2,19901213,       1223,   -70.6383,    -12.735,       2116,  1597.9,  34.6683,2,  34.6661,3,   220.1,2,  121.96,2,   32.30,2,    0.00,2, -999.00,9,-999.000,9,-999.0000,9, -999.00,9,-999.000,9,-999.000,     0.1399,-999.0000,-999.000, -999.00
06AQANTIX_2,       SR04,     105,          1,          7,          7,2,19901213,       1223,   -70.6383,    -12.735,       2116,  1798.6,  34.6657,2,  34.6655,3,   224.7,2,  123.23,2,   32.30,2,    0.01,2, -999.00,9,-999.000,9,-999.0000,9, -999.00,9,-999.000,9,-999.000,     0.0665,-999.0000,-999.000, -999.00
06AQANTIX_2,       SR04,     105,          1,          5,          5,2,19901213,       1223,   -70.6383,    -12.735,       2116,  1989.3,  34.6645,2,  34.6631,3,   225.6,2,  124.11,2,   32.30,2,    0.01,2, -999.00,9,-999.000,9,-999.0000,9, -999.00,9,-999.000,9,-999.000,     0.0144,-999.0000,-999.000, -999.00
06AQANTIX_2,       SR04,     105,          1,          6,          6,2,19901213,       1223,   -70.6383,    -12.735,       2116,  1989.7,  34.6640,2,  34.6629,3,  -999.0,9,  124.02,2,   32.30,2,    0.00,2, -999.00,9,-999.000,9,-999.0000,9, -999.00,9,-999.000,9,-999.000,     0.0147,-999.0000,-999.000, -999.00
06AQANTIX_2,       SR04,     105,          1,          4,          4,2,19901213,       1223,   -70.6383,    -12.735,       2116,  1989.8,  34.6635,2,  34.6624,3,  -999.0,9,  124.02,2,   32.30,2,    0.01,2, -999.00,9,-999.000,9,-999.0000,9, -999.00,9,-999.000,9,-999.000,     0.0140,-999.0000,-999.000, -999.00
06AQANTIX_2,       SR04,     105,          1,          3,          3,2,19901213,       1223,   -70.6383,    -12.735,       2116,  2099.5,  34.6641,2,  34.6616,3,   227.6,2,  124.50,2,   32.30,2,    0.00,2, -999.00,9,-999.000,9,-999.0000,9, -999.00,9,-999.000,9,-999.000,    -0.0173,-999.0000,-999.000, -999.00
06AQANTIX_2,       SR04,     105,          1,          2,          2,2,19901213,       1223,   -70.6383,    -12.735,       2116,  2205.3,  34.6626,2,  34.6609,3,   227.7,2,  124.80,2,   32.30,2,    0.01,2, -999.00,9,-999.000,9,-999.0000,9, -999.00,9,-999.000,9,-999.000,    -0.0485,-999.0000,-999.000, -999.00
06AQANTIX_2,       SR04,     105,          1,          1,          1,2,19901213,       1223,   -70.6383,    -12.735,       2116,  2228.0,  34.6617,2,-999.0000,9,   228.1,2,  125.19,2,   32.30,2,    0.01,2, -999.00,9,-999.000,9,-999.0000,9, -999.00,9,-999.000,9,-999.000,    -0.0690,-999.0000,-999.000, -999.00
06AQANTIX_2,       SR04,     106,          1,         16,         16,2,19901213,       1613,   -70.7933,   -12.3617,       1956,     1.1,  34.3354,2,  34.3364,3,   298.6,2,   72.18,2,   29.89,2,    0.13,2, -999.00,9,-999.000,9,-999.0000,9, -999.00,9,-999.000,9,-999.000,    -1.8211,-999.0000,-999.000, -999.00
06AQANTIX_2,       SR04,     106,          1,         15,         15,2,19901213,       1613,   -70.7933,   -12.3617,       1956,    25.1,  34.3399,2,  34.3421,3,   296.1,2,   72.37,2,   29.89,2,    0.13,2, -999.00,9,-999.000,9,-999.0000,9, -999.00,9,-999.000,9,-999.000,    -1.8277,-999.0000,-999.000, -999.00
06AQANTIX_2,       SR04,     106,          1,         14,         14,2,19901213,       1613,   -70.7933,   -12.3617,       1956,    49.7,  34.3507,2,  34.3531,3,  -999.0,9,   72.94,2,   29.88,2,    0.13,2, -999.00,9,-999.000,9,-999.0000,9, -999.00,9,-999.000,9,-999.000,    -1.8336,-999.0000,-999.000, -999.00
06AQANTIX_2,       SR04,     106,          1,         13,         13,2,19901213,       1613,   -70.7933,   -12.3617,       1956,    74.7,  34.3659,2,  34.3656,3,   294.0,2,   73.71,2,   30.00,2,    0.13,2, -999.00,9,-999.000,9,-999.0000,9, -999.00,9,-999.000,9,-999.000,    -1.8439,-999.0000,-999.000, -999.00
06AQANTIX_2,       SR04,     106,          1,         12,         12,2,19901213,       1613,   -70.7933,   -12.3617,       1956,   103.0,  34.3702,2,  34.3690,3,   292.3,2,   73.89,2,   30.00,2,    0.09,2, -999.00,9,-999.000,9,-999.0000,9, -999.00,9,-999.000,9,-999.000,    -1.8472,-999.0000,-999.000, -999.00
06AQANTIX_2,       SR04,     106,          1,         11,         11,2,19901213,       1613,   -70.7933,   -12.3617,       1956,   202.6,  34.4027,2,  34.4007,3,  -999.0,9,   70.98,2,   30.06,2,    0.01,2, -999.00,9,-999.000,9,-999.0000,9, -999.00,9,-999.000,9,-999.000,    -1.7548,-999.0000,-999.000, -999.00
06AQANTIX_2,       SR04,     106,          1,         10,         10,2,19901213,       1613,   -70.7933,   -12.3617,       1956,   400.8,  34.6121,2,  34.6121,3,   228.4,2,   90.52,2,   31.49,2,    0.02,2, -999.00,9,-999.000,9,-999.0000,9, -999.00,9,-999.000,9,-999.000,     0.3419,-999.0000,-999.000, -999.00
06AQANTIX_2,       SR04,     106,          1,          9,          9,2,19901213,       1613,   -70.7933,   -12.3617,       1956,   600.1,  34.6709,2,  34.6685,3,   213.1,2,  100.38,2,   31.55,2,    0.00,2, -999.00,9,-999.000,9,-999.0000,9, -999.00,9,-999.000,9,-999.000,     0.6815,-999.0000,-999.000, -999.00
06AQANTIX_2,       SR04,     106,          1,          8,          8,2,19901213,       1613,   -70.7933,   -12.3617,       1956,   801.4,  34.6716,2,  34.6702,3,   218.0,2,  108.12,2,   31.74,2,    0.00,2, -999.00,9,-999.000,9,-999.0000,9, -999.00,9,-999.000,9,-999.000,     0.5207,-999.0000,-999.000, -999.00
06AQANTIX_2,       SR04,     106,          1,          7,          7,2,19901213,       1613,   -70.7933,   -12.3617,       1956,  1000.8,  34.6754,2,  34.6752,3,   217.0,2,  114.30,2,   31.92,2,    0.00,2, -999.00,9,-999.000,9,-999.0000,9, -999.00,9,-999.000,9,-999.000,     0.3983,-999.0000,-999.000, -999.00
06AQANTIX_2,       SR04,     106,          1,          6,          6,2,19901213,       1613,   -70.7933,   -12.3617,       1956,  1201.2,  34.6741,2,  34.6729,3,   217.6,2,  117.78,2,   32.04,2,    0.00,2, -999.00,9,-999.000,9,-999.0000,9, -999.00,9,-999.000,9,-999.000,     0.3021,-999.0000,-999.000, -999.00
06AQANTIX_2,       SR04,     106,          1,          5,          5,2,19901213,       1613,   -70.7933,   -12.3617,       1956,  1401.4,  34.6713,2,  34.6699,3,   220.8,2,  120.10,2,   32.10,2,    0.02,2, -999.00,9,-999.000,9,-999.0000,9, -999.00,9,-999.000,9,-999.000,     0.2147,-999.0000,-999.000, -999.00
06AQANTIX_2,       SR04,     106,          1,          4,          4,2,19901213,       1613,   -70.7933,   -12.3617,       1956,  1601.8,  34.6691,2,  34.6657,3,   222.4,2,  121.64,2,   32.22,2,    0.00,2, -999.00,9,-999.000,9,-999.0000,9, -999.00,9,-999.000,9,-999.000,     0.1432,-999.0000,-999.000, -999.00
06AQANTIX_2,       SR04,     106,          1,          3,          3,2,19901213,       1613,   -70.7933,   -12.3617,       1956,  1801.9,  34.6674,2,  34.6653,3,   223.6,2,  122.98,2,   32.16,2,    0.00,2, -999.00,9,-999.000,9,-999.0000,9, -999.00,9,-999.000,9,-999.000,     0.0786,-999.0000,-999.000, -999.00
06AQANTIX_2,       SR04,     106,          1,          2,          2,2,19901213,       1613,   -70.7933,   -12.3617,       1956,  1994.3,  34.6629,2,  34.6606,3,  -999.0,9,  125.30,2,   32.22,2,    0.00,2, -999.00,9,-999.000,9,-999.0000,9, -999.00,9,-999.000,9,-999.000,    -0.0323,-999.0000,-999.000, -999.00
06AQANTIX_2,       SR04,     106,          1,          1,          1,2,19901213,       1613,   -70.7933,   -12.3617,       1956,  2052.9,  34.6624,2,-999.0000,9,   229.3,2,  125.68,2,   32.28,2,    0.01,2, -999.00,9,-999.000,9,-999.0000,9, -999.00,9,-999.000,9,-999.000,    -0.0650,-999.0000,-999.000, -999.00