BOTTLE,20220818CCHSIOAMB
EXPOCODE,SECT_ID,STNNBR,CASTNO,SAMPNO,BTLNBR,BTLNBR_FLAG_W,DATE,TIME,LATITUDE,LONGITUDE,DEPTH,CTDPRS,CTDSAL,CTDSAL_FLAG_W,SALNTY,SALNTY_FLAG_W,OXYGEN,OXYGEN_FLAG_W,SILCAT,SILCAT_FLAG_W,NITRAT,NITRAT_FLAG_W,NITRIT,NITRIT_FLAG_W,PHSPHT,PHSPHT_FLAG_W,TRITUM,TRITUM_FLAG_W,HELIUM,HELIUM_FLAG_W,DELHE3,DELHE3_FLAG_W,NEON,NEON_FLAG_W,NEONER,CTDTMP,HELIER,TRITER,DELHER
,,,,,,,,,,,METERS,DBAR,PSS-78,,PSS-78,,UMOL/KG,,UMOL/KG,,UMOL/KG,,UMOL/KG,,UMOL/KG,,TU,,NMOL/KG,,PERCNT,,NMOL/KG,,NMOL/KG,IPTS-68,NMOL/KG,TU,PERCNT
06AQANTIX_2,       SR04,      79,          1,         24,         24,2,19901206,       0842,   -67.4767,    -31.095,       4408,     2.1,  34.3697,2,  34.3666,3,   315.1,2,   74.32,2,   28.34,2,    0.18,2,    2.10,3,-999.000,9,-999.0000,9, -999.00,9,-999.000,9,-999.000,    -1.7974,-999.0000,-999.000, -999.00
06AQANTIX_2,       SR04,      79,          1,         23,         23,2,19901206,       0842,   -67.4767,    -31.095,       4408,    20.0,  34.3872,2,-999.0000,9,   325.2,2,   74.70,2,   28.41,2,    0.17,2,    2.10,3,-999.000,9,-999.0000,9, -999.00,9,-999.000,9,-999.000,    -1.8066,-999.0000,-999.000, -999.00
06AQANTIX_2,       SR04,      79,          1,         22,         22,2,19901206,       0842,   -67.4767,    -31.095,       4408,    38.0,  34.4025,2,-999.0000,9,   311.8,2,   75.65,2,   28.79,2,    0.17,2,    2.13,3,-999.000,9,-999.0000,9, -999.00,9,-999.000,9,-999.000,    -1.8060,-999.0000,-999.000, -999.00
06AQANTIX_2,       SR04,      79,          1,         21,         21,2,19901206,       0842,   -67.4767,    -31.095,       4408,    78.9,  34.4936,2,  34.4930,3,   301.6,2,   76.78,2,   29.23,2,    0.15,2,    2.14,3,-999.000,9,-999.0000,9, -999.00,9,-999.000,9,-999.000,    -1.8378,-999.0000,-999.000, -999.00
06AQANTIX_2,       SR04,      79,          1,         20,         20,2,19901206,       0842,   -67.4767,    -31.095,       4408,   118.1,  34.5014,2,-999.0000,9,   298.9,2,   77.92,2,   29.42,2,    0.04,2,    2.16,3,-999.000,9,-999.0000,9, -999.00,9,-999.000,9,-999.000,    -1.7890,-999.0000,-999.000, -999.00
06AQANTIX_2,       SR04,      79,          1,         18,         18,2,19901206,       0842,   -67.4767,    -31.095,       4408,   179.3,  34.6660,2,-999.0000,9,   208.9,2,  105.84,2,   32.46,2,    0.02,2,    2.40,3,-999.000,9,-999.0000,9, -999.00,9,-999.000,9,-999.000,     0.2818,-999.0000,-999.000, -999.00
06AQANTIX_2,       SR04,      79,          1,         17,         17,2,19901206,       0842,   -67.4767,    -31.095,       4408,   300.0,  34.6683,2,  34.6671,3,   208.1,2,  109.60,2,   32.84,2,    0.01,2,    2.41,3,-999.000,9,-999.0000,9, -999.00,9,-999.000,9,-999.000,     0.3438,-999.0000,-999.000, -999.00
06AQANTIX_2,       SR04,      79,          1,         15,         15,2,19901206,       0842,   -67.4767,    -31.095,       4408,   400.0,  34.6866,2,  34.6857,3,   198.2,2,  118.24,2,   33.06,2,    0.01,2,    2.44,3,-999.000,9,-999.0000,9, -999.00,9,-999.000,9,-999.000,     0.5174,-999.0000,-999.000, -999.00
06AQANTIX_2,       SR04,      79,          1,         13,         13,2,19901206,       0842,   -67.4767,    -31.095,       4408,   494.5,  34.6847,2,  34.6844,3,   196.1,2,  120.70,2,   33.28,2,    0.01,2,    2.45,3,-999.000,9,-999.0000,9, -999.00,9,-999.000,9,-999.000,     0.4466,-999.0000,-999.000, -999.00
06AQANTIX_2,       SR04,      79,          1,         12,         12,2,19901206,       0842,   -67.4767,    -31.095,       4408,   797.6,  34.6800,2,  34.6796,3,   200.9,2,  124.83,2,   33.30,2,    0.01,2,    2.47,3,-999.000,9,-999.0000,9, -999.00,9,-999.000,9,-999.000,     0.2989,-999.0000,-999.000, -999.00
06AQANTIX_2,       SR04,      79,          1,         11,         11,2,19901206,       0842,   -67.4767,    -31.095,       4408,  1193.7,  34.6749,2,  34.6740,3,   211.6,2,  126.53,2,   32.95,2,    0.01,2,    2.44,3,-999.000,9,-999.0000,9, -999.00,9,-999.000,9,-999.000,     0.1463,-999.0000,-999.000, -999.00
06AQANTIX_2,       SR04,      79,          1,         10,         10,2,19901206,       0842,   -67.4767,    -31.095,       4408,  1595.0,  34.6686,2,  34.6678,3,   220.4,2,  126.36,2,   32.61,2,    0.01,2,    2.43,3,-999.000,9,-999.0000,9, -999.00,9,-999.000,9,-999.000,    -0.0039,-999.0000,-999.000, -999.00
06AQANTIX_2,       SR04,      79,          1,          9,          9,2,19901206,       0842,   -67.4767,    -31.095,       4408,  1997.2,  34.6628,2,  34.6626,3,   225.8,2,  126.19,2,   32.45,2,    0.00,2,    2.41,3,-999.000,9,-999.0000,9, -999.00,9,-999.000,9,-999.000,    -0.1216,-999.0000,-999.000, -999.00
06AQANTIX_2,       SR04,      79,          1,          8,          8,2,19901206,       0842,   -67.4767,    -31.095,       4408,  2497.8,  34.6588,2,  34.6594,3,   232.1,2,  125.45,2,   32.22,2,    0.00,2,    2.40,3,-999.000,9,-999.0000,9, -999.00,9,-999.000,9,-999.000,    -0.2208,-999.0000,-999.000, -999.00
06AQANTIX_2,       SR04,      79,          1,          7,          7,2,19901206,       0842,   -67.4767,    -31.095,       4408,  3003.0,  34.6560,2,  34.6563,3,   236.3,2,  124.53,2,   31.94,2,    0.00,2,    2.38,3,-999.000,9,-999.0000,9, -999.00,9,-999.000,9,-999.000,    -0.2888,-999.0000,-999.000, -999.00
06AQANTIX_2,       SR04,      79,          1,          6,          6,2,19901206,       0842,   -67.4767,    -31.095,       4408,  3487.8,  34.6540,2,  34.6537,3,   241.4,2,  124.35,2,   31.90,2,   -0.01,4,    2.38,3,-999.000,9,-999.0000,9, -999.00,9,-999.000,9,-999.000,    -0.3361,-999.0000,-999.000, -999.00
06AQANTIX_2,       SR04,      79,          1,          5,          5,2,19901206,       0842,   -67.4767,    -31.095,       4408,  4001.5,  34.6456,2,  34.6512,3,   244.7,2,  125.87,2,   31.85,2,    0.01,2,    2.38,3,-999.000,9,-999.0000,9, -999.00,9,-999.000,9,-999.000,    -0.3720,-999.0000,-999.000, -999.00
06AQANTIX_2,       SR04,      79,          1,          4,          4,2,19901206,       0842,   -67.4767,    -31.095,       4408,  4494.0,  34.6529,2,  34.6495,3,  -999.0,9,  123.82,2,   31.81,2,    0.01,2,    2.37,3,-999.000,9,-999.0000,9, -999.00,9,-999.000,9,-999.000,    -0.4311,-999.0000,-999.000, -999.00
06AQANTIX_2,       SR04,      79,          1,          3,          3,2,19901206,       0842,   -67.4767,    -31.095,       4408,  4566.3,  34.6521,2,  34.6492,3,   247.8,2,  125.52,2,   31.77,2,    0.01,2,    2.37,3,-999.000,9,-999.0000,9, -999.00,9,-999.000,9,-999.000,    -0.4560,-999.0000,-999.000, -999.00
06AQANTIX_2,       SR04,      79,          1,          2,          2,2,19901206,       0842,   -67.4767,    -31.095,       4408,  4621.2,  34.6505,2,  34.6481,3,   247.4,2,  128.90,2,   31.85,2,    0.02,2,    2.38,3,-999.000,9,-999.0000,9, -999.00,9,-999.000,9,-999.000,    -0.4700,-999.0000,-999.000, -999.00
06AQANTIX_2,       SR04,      79,          1,          1,          1,2,19901206,       0842,   -67.4767,    -31.095,       4408,  4670.7,  34.6396,2,-999.0000,9,   247.5,2,  130.23,2,   31.87,2,    0.00,2,    2.38,3,-999.000,9,-999.0000,9, -999.00,9,-999.000,9,-999.000,    -0.4956,-999.0000,-999.000, -999.00
06AQANTIX_2,       SR04,      80,          1,         24,         24,2,19901206,       1452,   -67.3167,    -29.955,       4464,     2.2,  34.3735,2,-999.0000,9,   310.8,2,   76.83,2,   28.75,2,    0.17,2,    2.11,3,-999.000,9,-999.0000,9, -999.00,9,-999.000,9,-999.000,    -1.8076,-999.0000,-999.000, -999.00
06AQANTIX_2,       SR04,      80,          1,         23,         23,2,19901206,       1452,   -67.3167,    -29.955,       4464,    20.0,  34.3896,2,-999.0000,9,   308.8,2,   77.08,2,   28.81,2,    0.17,2,    2.11,3,-999.000,9,-999.0000,9, -999.00,9,-999.000,9,-999.000,    -1.8130,-999.0000,-999.000, -999.00
06AQANTIX_2,       SR04,      80,          1,         22,         22,2,19901206,       1452,   -67.3167,    -29.955,       4464,    50.0,  34.4653,2,-999.0000,9,   303.5,2,   76.94,2,   29.17,2,    0.20,2,    2.13,3,-999.000,9,-999.0000,9, -999.00,9,-999.000,9,-999.000,    -1.8173,-999.0000,-999.000, -999.00
06AQANTIX_2,       SR04,      80,          1,         21,         21,2,19901206,       1452,   -67.3167,    -29.955,       4464,    62.2,  34.4836,2,-999.0000,9,   306.5,2,   75.24,2,   29.10,2,    0.20,2,    2.13,3,-999.000,9,-999.0000,9, -999.00,9,-999.000,9,-999.000,    -1.7855,-999.0000,-999.000, -999.00
06AQANTIX_2,       SR04,      80,          1,         20,         20,2,19901206,       1452,   -67.3167,    -29.955,       4464,   103.4,  34.5913,2,-999.0000,9,   241.5,2,  100.58,2,   31.90,2,    0.02,2,    2.34,3,-999.000,9,-999.0000,9, -999.00,9,-999.000,9,-999.000,    -0.5172,-999.0000,-999.000, -999.00
06AQANTIX_2,       SR04,      80,          1,         19,         19,2,19901206,       1452,   -67.3167,    -29.955,       4464,   160.0,  34.6616,2,  34.6590,3,   212.1,2,  106.29,2,   32.38,2,   -0.01,4,    2.37,3,-999.000,9,-999.0000,9, -999.00,9,-999.000,9,-999.000,     0.2097,-999.0000,-999.000, -999.00
06AQANTIX_2,       SR04,      80,          1,         18,         18,2,19901206,       1452,   -67.3167,    -29.955,       4464,   219.2,  34.6607,2,  34.6616,3,   209.0,2,  106.56,2,   32.38,2,    0.01,2,    2.38,3,-999.000,9,-999.0000,9, -999.00,9,-999.000,9,-999.000,     0.2955,-999.0000,-999.000, -999.00
06AQANTIX_2,       SR04,      80,          1,         17,         17,2,19901206,       1452,   -67.3167,    -29.955,       4464,   307.7,  34.6668,2,  34.6690,3,   205.9,2,  109.56,2,   32.56,2,    0.00,2,    2.40,3,-999.000,9,-999.0000,9, -999.00,9,-999.000,9,-999.000,     0.3669,-999.0000,-999.000, -999.00
06AQANTIX_2,       SR04,      80,          1,         16,         16,2,19901206,       1452,   -67.3167,    -29.955,       4464,   401.1,  34.6828,2,  34.6844,3,   201.5,2,  117.05,2,   32.80,2,    0.00,2,    2.41,3,-999.000,9,   1.8400,2,    8.02,2,   7.992,2,   0.040,     0.5109,   0.0090,-999.000,    0.20
06AQANTIX_2,       SR04,      80,          1,         15,         15,2,19901206,       1452,   -67.3167,    -29.955,       4464,   499.3,  34.6867,2,  34.6848,3,  -999.0,9,  120.84,2,   32.86,2,    0.02,2,    2.41,3,-999.000,9,-999.0000,9, -999.00,9,-999.000,9,-999.000,     0.4916,-999.0000,-999.000, -999.00
06AQANTIX_2,       SR04,      80,          1,         14,         14,2,19901206,       1452,   -67.3167,    -29.955,       4464,   797.8,  34.6806,2,  34.6788,3,   201.9,2,  126.20,2,   33.10,2,    0.01,2,    2.44,3,-999.000,9,-999.0000,9, -999.00,9,-999.000,9,-999.000,     0.3089,-999.0000,-999.000, -999.00
06AQANTIX_2,       SR04,      80,          1,         13,         13,2,19901206,       1452,   -67.3167,    -29.955,       4464,   996.0,  34.6777,2,  34.6787,3,   206.8,2,  127.66,2,   33.04,2,    0.02,2,    2.43,3,-999.000,9,-999.0000,9, -999.00,9,-999.000,9,-999.000,     0.2285,-999.0000,-999.000, -999.00
06AQANTIX_2,       SR04,      80,          1,         12,         12,2,19901206,       1452,   -67.3167,    -29.955,       4464,  1295.0,  34.6726,2,  34.6725,3,   211.9,2,  128.14,2,   32.80,2,    0.02,2,    2.43,3,-999.000,9,-999.0000,9, -999.00,9,-999.000,9,-999.000,     0.1142,-999.0000,-999.000, -999.00
06AQANTIX_2,       SR04,      80,          1,         11,         11,2,19901206,       1452,   -67.3167,    -29.955,       4464,  1596.6,  34.6681,2,  34.6692,3,   219.3,2,  128.04,2,   32.49,2,    0.01,2,    2.41,3,-999.000,9,-999.0000,9, -999.00,9,-999.000,9,-999.000,     0.0009,-999.0000,-999.000, -999.00
06AQANTIX_2,       SR04,      80,          1,         10,         10,2,19901206,       1452,   -67.3167,    -29.955,       4464,  3002.4,  34.6558,2,  34.6551,3,  -999.0,9,  126.17,2,   31.94,2,    0.01,2,    2.36,3,-999.000,9,-999.0000,9, -999.00,9,-999.000,9,-999.000,    -0.2862,-999.0000,-999.000, -999.00
06AQANTIX_2,       SR04,      80,          1,          7,          7,2,19901206,       1452,   -67.3167,    -29.955,       4464,  3502.3,  34.6528,2,  34.6534,3,  -999.0,9,  126.04,2,   31.88,2,    0.02,2,    2.35,3,-999.000,9,-999.0000,9, -999.00,9,-999.000,9,-999.000,    -0.3365,-999.0000,-999.000, -999.00
06AQANTIX_2,       SR04,      80,          1,          9,          9,2,19901206,       1452,   -67.3167,    -29.955,       4464,  3502.4,  34.6534,2,  34.6536,3,   241.6,2,  126.06,2,   31.76,2,    0.02,2,    2.35,3,-999.000,9,-999.0000,9, -999.00,9,-999.000,9,-999.000,    -0.3360,-999.0000,-999.000, -999.00
06AQANTIX_2,       SR04,      80,          1,          8,          8,2,19901206,       1452,   -67.3167,    -29.955,       4464,  3502.4,  34.6524,2,  34.6540,3,  -999.0,9,  125.95,2,   31.76,2,    0.01,2,    2.36,3,-999.000,9,-999.0000,9, -999.00,9,-999.000,9,-999.000,    -0.3362,-999.0000,-999.000, -999.00
06AQANTIX_2,       SR04,      80,          1,          6,          6,2,19901206,       1452,   -67.3167,    -29.955,       4464,  4002.9,  34.6542,2,  34.6513,3,  -999.0,9,  127.11,2,   31.75,2,    0.01,2,    2.35,3,-999.000,9,-999.0000,9, -999.00,9,-999.000,9,-999.000,    -0.3618,-999.0000,-999.000, -999.00
06AQANTIX_2,       SR04,      80,          1,          5,          5,2,19901206,       1452,   -67.3167,    -29.955,       4464,  4306.2,  34.6535,2,  34.6507,3,   246.9,2,  127.79,2,   31.81,2,    0.02,2,    2.34,3,-999.000,9,-999.0000,9, -999.00,9,-999.000,9,-999.000,    -0.3748,-999.0000,-999.000, -999.00
06AQANTIX_2,       SR04,      80,          1,          4,          4,2,19901206,       1452,   -67.3167,    -29.955,       4464,  4504.5,  34.6524,2,  34.6507,3,  -999.0,9,  125.72,2,   31.81,2,    0.02,2,    2.35,3,-999.000,9,-999.0000,9, -999.00,9,-999.000,9,-999.000,    -0.4142,-999.0000,-999.000, -999.00
06AQANTIX_2,       SR04,      80,          1,          3,          3,2,19901206,       1452,   -67.3167,    -29.955,       4464,  4554.9,  34.6524,2,  34.6493,3,   249.0,2,  125.61,2,   31.75,2,    0.01,2,    2.34,3,-999.000,9,-999.0000,9, -999.00,9,-999.000,9,-999.000,    -0.4327,-999.0000,-999.000, -999.00
06AQANTIX_2,       SR04,      80,          1,          2,          2,2,19901206,       1452,   -67.3167,    -29.955,       4464,  4625.1,  34.6513,2,  34.6493,3,  -999.0,9,  129.05,2,   31.87,2,    0.02,2,    2.35,3,-999.000,9,-999.0000,9, -999.00,9,-999.000,9,-999.000,    -0.4531,-999.0000,-999.000, -999.00
06AQANTIX_2,       SR04,      80,          1,          1,          1,2,19901206,       1452,   -67.3167,    -29.955,       4464,  4722.0,  34.6460,2,-999.0000,9,   249.8,2,  132.69,2,   31.93,2,    0.02,2,    2.36,3,-999.000,9,-999.0000,9, -999.00,9,-999.000,9,-999.000,    -0.4880,-999.0000,-999.000, -999.00