BOTTLE,20220818CCHSIOAMB
EXPOCODE,SECT_ID,STNNBR,CASTNO,SAMPNO,BTLNBR,BTLNBR_FLAG_W,DATE,TIME,LATITUDE,LONGITUDE,DEPTH,CTDPRS,CTDSAL,CTDSAL_FLAG_W,SALNTY,SALNTY_FLAG_W,OXYGEN,OXYGEN_FLAG_W,SILCAT,SILCAT_FLAG_W,NITRAT,NITRAT_FLAG_W,NITRIT,NITRIT_FLAG_W,PHSPHT,PHSPHT_FLAG_W,TRITUM,TRITUM_FLAG_W,HELIUM,HELIUM_FLAG_W,DELHE3,DELHE3_FLAG_W,NEON,NEON_FLAG_W,NEONER,CTDTMP,HELIER,TRITER,DELHER
,,,,,,,,,,,METERS,DBAR,PSS-78,,PSS-78,,UMOL/KG,,UMOL/KG,,UMOL/KG,,UMOL/KG,,UMOL/KG,,TU,,NMOL/KG,,PERCNT,,NMOL/KG,,NMOL/KG,IPTS-68,NMOL/KG,TU,PERCNT
06AQANTIX_2,       SR04,      87,          1,         24,         24,2,19901208,       1213,    -67.365,   -23.3233,       4674,     1.1,  34.3913,2,  34.4465,3,   313.1,2,   71.02,2,   28.79,2,    0.28,2,    2.02,2,-999.000,9,-999.0000,9, -999.00,9,-999.000,9,-999.000,    -1.8215,-999.0000,-999.000, -999.00
06AQANTIX_2,       SR04,      87,          1,         23,         23,2,19901208,       1213,    -67.365,   -23.3233,       4674,    21.5,  34.4069,2,  34.4555,3,   314.6,2,   71.25,2,   28.85,2,    0.28,2,    2.02,2,-999.000,9,-999.0000,9, -999.00,9,-999.000,9,-999.000,    -1.8374,-999.0000,-999.000, -999.00
06AQANTIX_2,       SR04,      87,          1,         22,         22,2,19901208,       1213,    -67.365,   -23.3233,       4674,    40.7,  34.4122,2,  34.4626,3,   313.0,2,   71.29,2,   28.91,2,    0.29,2,    2.03,2,-999.000,9,-999.0000,9, -999.00,9,-999.000,9,-999.000,    -1.8388,-999.0000,-999.000, -999.00
06AQANTIX_2,       SR04,      87,          1,         21,         21,2,19901208,       1213,    -67.365,   -23.3233,       4674,    71.2,  34.4564,2,  34.4951,3,   308.7,2,   71.52,2,   29.06,2,    0.28,2,    2.04,2,-999.000,9,-999.0000,9, -999.00,9,-999.000,9,-999.000,    -1.8394,-999.0000,-999.000, -999.00
06AQANTIX_2,       SR04,      87,          1,         20,         20,2,19901208,       1213,    -67.365,   -23.3233,       4674,   101.1,  34.4722,2,  34.5208,3,   301.0,2,   73.50,2,   29.52,2,    0.23,2,    2.06,2,-999.000,9,-999.0000,9, -999.00,9,-999.000,9,-999.000,    -1.7940,-999.0000,-999.000, -999.00
06AQANTIX_2,       SR04,      87,          1,         19,         19,2,19901208,       1213,    -67.365,   -23.3233,       4674,   150.7,  34.6542,2,  34.6874,3,   205.3,2,  102.71,2,   32.79,2,    0.02,2,    2.31,2,-999.000,9,-999.0000,9, -999.00,9,-999.000,9,-999.000,     0.3085,-999.0000,-999.000, -999.00
06AQANTIX_2,       SR04,      87,          1,         18,         18,2,19901208,       1213,    -67.365,   -23.3233,       4674,   199.5,  34.6681,2,  34.6978,3,   200.0,2,  105.50,2,   32.89,2,    0.02,2,    2.32,2,-999.000,9,-999.0000,9, -999.00,9,-999.000,9,-999.000,     0.4403,-999.0000,-999.000, -999.00
06AQANTIX_2,       SR04,      87,          1,         17,         17,2,19901208,       1213,    -67.365,   -23.3233,       4674,   299.6,  34.6877,2,  34.7173,3,  -999.0,9,  113.93,2,   33.00,2,    0.02,2,    2.32,2,-999.000,9,-999.0000,9, -999.00,9,-999.000,9,-999.000,     0.6258,-999.0000,-999.000, -999.00
06AQANTIX_2,       SR04,      87,          1,         16,         16,2,19901208,       1213,    -67.365,   -23.3233,       4674,   299.6,  34.6871,2,  34.7156,3,   195.7,2,  114.00,2,   33.01,2,    0.00,2,    2.33,2,-999.000,9,-999.0000,9, -999.00,9,-999.000,9,-999.000,     0.6260,-999.0000,-999.000, -999.00
06AQANTIX_2,       SR04,      87,          1,         15,         15,2,19901208,       1213,    -67.365,   -23.3233,       4674,   398.1,  34.6861,2,  34.7120,3,   197.6,2,  117.97,2,   33.17,2,    0.01,2,    2.34,2,-999.000,9,-999.0000,9, -999.00,9,-999.000,9,-999.000,     0.5399,-999.0000,-999.000, -999.00
06AQANTIX_2,       SR04,      87,          1,         14,         14,2,19901208,       1213,    -67.365,   -23.3233,       4674,   498.8,  34.6849,2,  34.7072,3,   197.6,2,  120.97,2,   33.33,2,    0.01,2,    2.35,2,-999.000,9,-999.0000,9, -999.00,9,-999.000,9,-999.000,     0.4415,-999.0000,-999.000, -999.00
06AQANTIX_2,       SR04,      87,          1,         13,         13,2,19901208,       1213,    -67.365,   -23.3233,       4674,   596.1,  34.6833,2,  34.7034,3,   198.3,2,  122.80,2,   33.44,2,    0.02,2,    2.35,2,-999.000,9,-999.0000,9, -999.00,9,-999.000,9,-999.000,     0.3848,-999.0000,-999.000, -999.00
06AQANTIX_2,       SR04,      87,          1,         12,         12,2,19901208,       1213,    -67.365,   -23.3233,       4674,   996.2,  34.6765,2,  34.6963,3,   215.9,2,  126.98,2,   33.30,2,    0.01,2,    2.35,2,-999.000,9,-999.0000,9, -999.00,9,-999.000,9,-999.000,     0.2137,-999.0000,-999.000, -999.00
06AQANTIX_2,       SR04,      87,          1,         11,         11,2,19901208,       1213,    -67.365,   -23.3233,       4674,  1496.3,  34.6688,2,  34.6870,3,   219.5,2,  127.25,2,   32.87,2,    0.01,2,    2.32,2,-999.000,9,-999.0000,9, -999.00,9,-999.000,9,-999.000,     0.0257,-999.0000,-999.000, -999.00
06AQANTIX_2,       SR04,      87,          1,         10,         10,2,19901208,       1213,    -67.365,   -23.3233,       4674,  1995.9,  34.6623,2,  34.6796,3,   229.0,2,  126.94,2,   32.63,2,    0.00,2,    2.31,2,-999.000,9,-999.0000,9, -999.00,9,-999.000,9,-999.000,    -0.1222,-999.0000,-999.000, -999.00
06AQANTIX_2,       SR04,      87,          1,          9,          9,2,19901208,       1213,    -67.365,   -23.3233,       4674,  2499.5,  34.6586,2,  34.6744,3,   235.2,2,  126.23,2,   32.34,2,    0.00,2,    2.29,2,-999.000,9,-999.0000,9, -999.00,9,-999.000,9,-999.000,    -0.2222,-999.0000,-999.000, -999.00
06AQANTIX_2,       SR04,      87,          1,          8,          8,2,19901208,       1213,    -67.365,   -23.3233,       4674,  3000.3,  34.6562,2,  34.6692,3,   239.8,2,  125.52,2,   32.20,2,    0.01,2,    2.28,2,-999.000,9,   1.8650,2,    4.69,2,   8.181,2,   0.041,    -0.2840,   0.0090,-999.000,    0.20
06AQANTIX_2,       SR04,      87,          1,          7,          7,2,19901208,       1213,    -67.365,   -23.3233,       4674,  3502.6,  34.6548,2,  34.6637,3,   246.3,2,  124.62,2,   32.07,2,    0.01,2,    2.27,2,-999.000,9,-999.0000,9, -999.00,9,-999.000,9,-999.000,    -0.3331,-999.0000,-999.000, -999.00
06AQANTIX_2,       SR04,      87,          1,          6,          6,2,19901208,       1213,    -67.365,   -23.3233,       4674,  4003.3,  34.6542,2,  34.6583,3,   246.3,2,  126.46,2,   32.08,2,    0.01,2,    2.27,2,-999.000,9,-999.0000,9, -999.00,9,-999.000,9,-999.000,    -0.3682,-999.0000,-999.000, -999.00
06AQANTIX_2,       SR04,      87,          1,          5,          5,2,19901208,       1213,    -67.365,   -23.3233,       4674,  4204.9,  34.6539,2,  34.6560,3,   247.6,2,  125.55,2,   32.09,2,    0.01,2,    2.27,2,-999.000,9,-999.0000,9, -999.00,9,-999.000,9,-999.000,    -0.3813,-999.0000,-999.000, -999.00
06AQANTIX_2,       SR04,      87,          1,          4,          4,2,19901208,       1213,    -67.365,   -23.3233,       4674,  4504.6,  34.6499,2,  34.6496,3,   251.0,2,  120.32,2, -999.00,9,    0.02,2,    2.26,2,-999.000,9,-999.0000,1, -999.00,1,-999.000,1,-999.000,    -0.4358,-999.0000,-999.000, -999.00
06AQANTIX_2,       SR04,      87,          1,          3,          3,2,19901208,       1213,    -67.365,   -23.3233,       4674,  4705.8,  34.6489,2,  34.6467,3,   251.5,2,  121.18,2,   31.96,2,    0.00,2,    2.26,2,-999.000,9,-999.0000,9, -999.00,9,-999.000,9,-999.000,    -0.4734,-999.0000,-999.000, -999.00
06AQANTIX_2,       SR04,      87,          1,          2,          2,2,19901208,       1213,    -67.365,   -23.3233,       4674,  4919.9,  34.6398,2,  34.6373,3,   254.2,2,  123.81,2,   32.02,2,    0.01,2,    2.25,2,-999.000,9,-999.0000,1, -999.00,1,-999.000,1,-999.000,    -0.5352,-999.0000,-999.000, -999.00
06AQANTIX_2,       SR04,      87,          1,          1,          1,2,19901208,       1213,    -67.365,   -23.3233,       4674,  4940.0,  34.6378,2,-999.0000,9,   256.3,2,  123.10,2,   32.03,2,    0.01,2,    2.26,2,-999.000,9,-999.0000,9, -999.00,9,-999.000,9,-999.000,    -0.5400,-999.0000,-999.000, -999.00
06AQANTIX_2,       SR04,      88,          1,         24,         24,2,19901208,       2008,   -67.5117,   -22.5233,       4667,     1.8,  34.3830,2,  34.3862,3,   310.7,2,   71.37,2,   28.67,2,    0.26,2,    2.00,2,-999.000,9,-999.0000,9, -999.00,9,-999.000,9,-999.000,    -1.8149,-999.0000,-999.000, -999.00
06AQANTIX_2,       SR04,      88,          1,         23,         23,2,19901208,       2008,   -67.5117,   -22.5233,       4667,    24.8,  34.3959,2,-999.0000,9,   330.3,2,   71.66,2,   28.67,2,    0.27,2,    2.00,2,-999.000,9,-999.0000,9, -999.00,9,-999.000,9,-999.000,    -1.8328,-999.0000,-999.000, -999.00
06AQANTIX_2,       SR04,      88,          1,         22,         22,2,19901208,       2008,   -67.5117,   -22.5233,       4667,    51.9,  34.4503,2,  34.4512,3,   308.9,2,   71.66,2,   28.87,2,    0.27,2,    2.01,2,-999.000,9,-999.0000,9, -999.00,9,-999.000,9,-999.000,    -1.8428,-999.0000,-999.000, -999.00
06AQANTIX_2,       SR04,      88,          1,         21,         21,2,19901208,       2008,   -67.5117,   -22.5233,       4667,    70.7,  34.4579,2,  34.4561,3,   307.8,2,   71.46,2,   28.87,2,    0.26,2,    2.02,2,-999.000,9,-999.0000,9, -999.00,9,-999.000,9,-999.000,    -1.8475,-999.0000,-999.000, -999.00
06AQANTIX_2,       SR04,      88,          1,         20,         20,2,19901208,       2008,   -67.5117,   -22.5233,       4667,   101.8,  34.4673,2,  34.4706,3,   308.1,2,   71.86,2,   29.06,2,    0.22,2,    2.02,2,-999.000,9,-999.0000,9, -999.00,9,-999.000,9,-999.000,    -1.8394,-999.0000,-999.000, -999.00
06AQANTIX_2,       SR04,      88,          1,         19,         19,2,19901208,       2008,   -67.5117,   -22.5233,       4667,   151.3,  34.6580,2,  34.6542,3,   210.3,2,  102.87,2,   32.59,2,    0.01,2,    2.28,2,-999.000,9,-999.0000,9, -999.00,9,-999.000,9,-999.000,     0.3330,-999.0000,-999.000, -999.00
06AQANTIX_2,       SR04,      88,          1,         18,         18,2,19901208,       2008,   -67.5117,   -22.5233,       4667,   251.7,  34.6798,2,  34.6791,3,   198.4,2,  109.82,2,   32.89,2,    0.01,2,    2.31,2,-999.000,9,-999.0000,9, -999.00,9,-999.000,9,-999.000,     0.5749,-999.0000,-999.000, -999.00
06AQANTIX_2,       SR04,      88,          1,         17,         17,2,19901208,       2008,   -67.5117,   -22.5233,       4667,   399.5,  34.6867,2,  34.6856,3,   197.1,2,  118.53,2,   33.08,2,    0.01,2,    2.32,2,-999.000,9,-999.0000,9, -999.00,9,-999.000,9,-999.000,     0.5227,-999.0000,-999.000, -999.00
06AQANTIX_2,       SR04,      88,          1,         16,         16,2,19901208,       2008,   -67.5117,   -22.5233,       4667,   499.4,  34.6849,2,  34.6835,3,   197.5,2,  120.98,2,   33.28,2,    0.02,2,    2.34,2,-999.000,9,-999.0000,9, -999.00,9,-999.000,9,-999.000,     0.4381,-999.0000,-999.000, -999.00
06AQANTIX_2,       SR04,      88,          1,         15,         15,2,19901208,       2008,   -67.5117,   -22.5233,       4667,   748.0,  34.6800,2,  34.6799,3,   200.7,2,  124.80,2,   33.28,2,    0.02,2,    2.34,2,-999.000,9,-999.0000,9, -999.00,9,-999.000,9,-999.000,     0.3016,-999.0000,-999.000, -999.00
06AQANTIX_2,       SR04,      88,          1,         14,         14,2,19901208,       2008,   -67.5117,   -22.5233,       4667,   995.0,  34.6765,2,  34.6761,3,   217.5,2,  126.46,2,   33.18,2,   -0.01,4,    2.34,2,-999.000,9,-999.0000,9, -999.00,9,-999.000,9,-999.000,     0.2009,-999.0000,-999.000, -999.00
06AQANTIX_2,       SR04,      88,          1,         13,         13,2,19901208,       2008,   -67.5117,   -22.5233,       4667,  1497.3,  34.6690,2,  34.6724,3,   219.6,2,  126.95,2,   32.69,2,    0.01,2,    2.32,2,-999.000,9,-999.0000,9, -999.00,9,-999.000,9,-999.000,     0.0185,-999.0000,-999.000, -999.00
06AQANTIX_2,       SR04,      88,          1,         12,         12,2,19901208,       2008,   -67.5117,   -22.5233,       4667,  1997.4,  34.6621,2,  34.6631,3,   227.5,2,  126.76,2,   32.40,2,    0.01,2,    2.30,2,-999.000,9,-999.0000,9, -999.00,9,-999.000,9,-999.000,    -0.1261,-999.0000,-999.000, -999.00
06AQANTIX_2,       SR04,      88,          1,         11,         11,2,19901208,       2008,   -67.5117,   -22.5233,       4667,  2500.1,  34.6585,2,  34.6580,3,   236.1,2,  125.78,2,   32.20,2,    0.01,2,    2.29,2,-999.000,9,-999.0000,9, -999.00,9,-999.000,9,-999.000,    -0.2262,-999.0000,-999.000, -999.00
06AQANTIX_2,       SR04,      88,          1,          8,          8,2,19901208,       2008,   -67.5117,   -22.5233,       4667,  3001.6,  34.6561,2,  34.6562,3,  -999.0,9,  125.09,2,   32.00,2,    0.01,2,    2.28,2,-999.000,9,-999.0000,9, -999.00,9,-999.000,9,-999.000,    -0.2912,-999.0000,-999.000, -999.00
06AQANTIX_2,       SR04,      88,          1,          9,          9,2,19901208,       2008,   -67.5117,   -22.5233,       4667,  3001.7,  34.6562,2,  34.6570,3,  -999.0,9,  125.09,2,   32.10,2,    0.01,2,    2.27,2,-999.000,9,-999.0000,9, -999.00,9,-999.000,9,-999.000,    -0.2907,-999.0000,-999.000, -999.00
06AQANTIX_2,       SR04,      88,          1,         10,         10,2,19901208,       2008,   -67.5117,   -22.5233,       4667,  3001.8,  34.6561,2,  34.6564,3,   238.7,2,  125.09,2,   32.10,2,    0.00,2,    2.27,2,-999.000,9,-999.0000,9, -999.00,9,-999.000,9,-999.000,    -0.2906,-999.0000,-999.000, -999.00
06AQANTIX_2,       SR04,      88,          1,          7,          7,2,19901208,       2008,   -67.5117,   -22.5233,       4667,  3504.3,  34.6544,2,  34.6536,3,   242.5,2,  124.70,2,   32.00,2,    0.01,2,    2.27,2,-999.000,9,-999.0000,9, -999.00,9,-999.000,9,-999.000,    -0.3385,-999.0000,-999.000, -999.00
06AQANTIX_2,       SR04,      88,          1,          6,          6,2,19901208,       2008,   -67.5117,   -22.5233,       4667,  4002.5,  34.6542,2,  34.6511,3,   245.6,2,  125.09,2,   32.00,2,    0.01,2,    2.27,2,-999.000,9,-999.0000,9, -999.00,9,-999.000,9,-999.000,    -0.3723,-999.0000,-999.000, -999.00
06AQANTIX_2,       SR04,      88,          1,          5,          5,2,19901208,       2008,   -67.5117,   -22.5233,       4667,  4503.2,  34.6503,2,  34.6479,3,  -999.0,9,  120.79,2,   31.81,2,    0.00,2,    2.29,2,-999.000,9,-999.0000,9, -999.00,9,-999.000,9,-999.000,    -0.4390,-999.0000,-999.000, -999.00
06AQANTIX_2,       SR04,      88,          1,          4,          4,2,19901208,       2008,   -67.5117,   -22.5233,       4667,  4704.4,  34.6490,2,  34.6466,3,   251.2,2,  120.69,2,   31.81,2,    0.01,2,    2.26,2,-999.000,9,-999.0000,9, -999.00,9,-999.000,9,-999.000,    -0.4770,-999.0000,-999.000, -999.00
06AQANTIX_2,       SR04,      88,          1,          3,          3,2,19901208,       2008,   -67.5117,   -22.5233,       4667,  4855.6,  34.6477,2,  34.6452,3,   251.3,2,  123.33,2,   31.91,2,    0.01,2,    2.26,2,-999.000,9,-999.0000,9, -999.00,9,-999.000,9,-999.000,    -0.4973,-999.0000,-999.000, -999.00
06AQANTIX_2,       SR04,      88,          1,          2,          2,2,19901208,       2008,   -67.5117,   -22.5233,       4667,  4909.4,  34.6445,2,  34.6417,3,   253.0,2,  122.94,2,   31.91,2,    0.01,2,    2.26,2,-999.000,9,-999.0000,9, -999.00,9,-999.000,9,-999.000,    -0.5099,-999.0000,-999.000, -999.00
06AQANTIX_2,       SR04,      88,          1,          1,          1,2,19901208,       2008,   -67.5117,   -22.5233,       4667,  4960.0,  34.6374,2,-999.0000,9,   253.2,2,  122.75,2,   31.91,2,    0.00,2,    2.27,2,-999.000,9,-999.0000,9, -999.00,9,-999.000,9,-999.000,    -0.5340,-999.0000,-999.000, -999.00