BOTTLE,20220818CCHSIOAMB
EXPOCODE,SECT_ID,STNNBR,CASTNO,SAMPNO,BTLNBR,BTLNBR_FLAG_W,DATE,TIME,LATITUDE,LONGITUDE,DEPTH,CTDPRS,CTDSAL,CTDSAL_FLAG_W,SALNTY,SALNTY_FLAG_W,OXYGEN,OXYGEN_FLAG_W,SILCAT,SILCAT_FLAG_W,NITRAT,NITRAT_FLAG_W,NITRIT,NITRIT_FLAG_W,PHSPHT,PHSPHT_FLAG_W,TRITUM,TRITUM_FLAG_W,HELIUM,HELIUM_FLAG_W,DELHE3,DELHE3_FLAG_W,NEON,NEON_FLAG_W,NEONER,CTDTMP,HELIER,TRITER,DELHER
,,,,,,,,,,,METERS,DBAR,PSS-78,,PSS-78,,UMOL/KG,,UMOL/KG,,UMOL/KG,,UMOL/KG,,UMOL/KG,,TU,,NMOL/KG,,PERCNT,,NMOL/KG,,NMOL/KG,IPTS-68,NMOL/KG,TU,PERCNT
06AQANTIX_2,       SR04,      69,          1,         24,         24,2,19901203,       0524,     -66.62,     -27.12,       4648,     1.2,  34.3749,2,  34.3787,3,   315.8,2,   71.96,2,   28.08,2,    0.16,2,    2.06,3,-999.000,9,-999.0000,9, -999.00,9,-999.000,9,-999.000,    -1.7813,-999.0000,-999.000, -999.00
06AQANTIX_2,       SR04,      69,          1,         23,         23,2,19901203,       0524,     -66.62,     -27.12,       4648,    23.0,  34.4014,2,-999.0000,9,  -999.0,9,   72.15,2,   28.18,2,    0.19,2,    2.06,3,-999.000,9,-999.0000,9, -999.00,9,-999.000,9,-999.000,    -1.7981,-999.0000,-999.000, -999.00
06AQANTIX_2,       SR04,      69,          1,         22,         22,2,19901203,       0524,     -66.62,     -27.12,       4648,    48.1,  34.4550,2,  34.4586,3,  -999.0,9,   71.95,2,   28.57,2,    0.27,2,    2.08,3,-999.000,9,-999.0000,9, -999.00,9,-999.000,9,-999.000,    -1.8291,-999.0000,-999.000, -999.00
06AQANTIX_2,       SR04,      69,          1,         21,         21,2,19901203,       0524,     -66.62,     -27.12,       4648,    74.0,  34.4739,2,  34.4743,3,  -999.0,9,   71.27,2,   28.77,2,    0.15,2,    2.09,3,-999.000,9,-999.0000,9, -999.00,9,-999.000,9,-999.000,    -1.8126,-999.0000,-999.000, -999.00
06AQANTIX_2,       SR04,      69,          1,         20,         20,2,19901203,       0524,     -66.62,     -27.12,       4648,    98.4,  34.4822,2,  34.4819,3,  -999.0,9,   71.46,2,   28.97,2,    0.10,2,    2.10,3,-999.000,9,-999.0000,9, -999.00,9,-999.000,9,-999.000,    -1.7487,-999.0000,-999.000, -999.00
06AQANTIX_2,       SR04,      69,          1,         19,         19,2,19901203,       0524,     -66.62,     -27.12,       4648,   247.1,  34.6752,2,  34.6770,3,  -999.0,9,  111.49,2,   33.38,2,    0.05,2,    2.42,3,-999.000,9,-999.0000,9, -999.00,9,-999.000,9,-999.000,     0.4643,-999.0000,-999.000, -999.00
06AQANTIX_2,       SR04,      69,          1,         18,         18,2,19901203,       0524,     -66.62,     -27.12,       4648,   497.8,  34.6827,2,  34.6825,3,  -999.0,9,  121.57,2,   33.67,2,    0.05,2,    2.44,3,-999.000,9,-999.0000,9, -999.00,9,-999.000,9,-999.000,     0.4036,-999.0000,-999.000, -999.00
06AQANTIX_2,       SR04,      69,          1,         17,         17,2,19901203,       0524,     -66.62,     -27.12,       4648,   748.8,  34.6796,2,  34.6801,3,   200.8,2,  125.29,2,   33.67,2,    0.03,2,    2.45,3,-999.000,9,-999.0000,9, -999.00,9,-999.000,9,-999.000,     0.2777,-999.0000,-999.000, -999.00
06AQANTIX_2,       SR04,      69,          1,         16,         16,2,19901203,       0524,     -66.62,     -27.12,       4648,   998.2,  34.6764,2,  34.6775,3,   207.5,2,  126.27,2,   33.28,2,    0.03,2,    2.42,3,-999.000,9,-999.0000,9, -999.00,9,-999.000,9,-999.000,     0.1751,-999.0000,-999.000, -999.00
06AQANTIX_2,       SR04,      69,          1,         15,         15,2,19901203,       0524,     -66.62,     -27.12,       4648,  1249.0,  34.6725,2,  34.6724,3,   213.5,2,  126.66,2,   33.18,2,    0.08,2,    2.42,3,-999.000,9,-999.0000,9, -999.00,9,-999.000,9,-999.000,     0.0804,-999.0000,-999.000, -999.00
06AQANTIX_2,       SR04,      69,          1,         14,         14,2,19901203,       0524,     -66.62,     -27.12,       4648,  1499.6,  34.6682,2,  34.6692,3,   219.7,2,  126.56,2,   33.08,2,    0.03,2,    2.42,3,-999.000,9,-999.0000,9, -999.00,9,-999.000,9,-999.000,    -0.0133,-999.0000,-999.000, -999.00
06AQANTIX_2,       SR04,      69,          1,         13,         13,2,19901203,       0524,     -66.62,     -27.12,       4648,  1751.5,  34.6650,2,  34.6679,3,   224.2,2,  126.17,2,   32.79,2,    0.04,2,    2.40,3,-999.000,9,-999.0000,9, -999.00,9,-999.000,9,-999.000,    -0.0879,-999.0000,-999.000, -999.00
06AQANTIX_2,       SR04,      69,          1,         12,         12,2,19901203,       0524,     -66.62,     -27.12,       4648,  1998.6,  34.6626,2,  34.6628,3,   228.8,2,  125.97,2,   32.69,2,   -0.01,4,    2.40,3,-999.000,9,-999.0000,9, -999.00,9,-999.000,9,-999.000,    -0.1541,-999.0000,-999.000, -999.00
06AQANTIX_2,       SR04,      69,          1,         11,         11,2,19901203,       0524,     -66.62,     -27.12,       4648,  2498.3,  34.6593,2,  34.6605,3,   234.0,2,  124.90,2,   32.50,2,    0.05,2,    2.37,3,-999.000,9,-999.0000,9, -999.00,9,-999.000,9,-999.000,    -0.2421,-999.0000,-999.000, -999.00
06AQANTIX_2,       SR04,      69,          1,          6,          6,2,19901203,       0524,     -66.62,     -27.12,       4648,  3001.0,  34.6568,2,  34.6581,3,  -999.0,9,  123.92,2,   32.40,2,   -0.01,4,    2.36,3,-999.000,9,-999.0000,9, -999.00,9,-999.000,9,-999.000,    -0.3015,-999.0000,-999.000, -999.00
06AQANTIX_2,       SR04,      69,          1,          7,          7,2,19901203,       0524,     -66.62,     -27.12,       4648,  3001.1,  34.6568,2,  34.6587,3,  -999.0,9,  124.02,2,   32.40,2,    0.07,3,    2.35,3,-999.000,9,-999.0000,9, -999.00,9,-999.000,9,-999.000,    -0.3013,-999.0000,-999.000, -999.00
06AQANTIX_2,       SR04,      69,          1,          9,          9,2,19901203,       0524,     -66.62,     -27.12,       4648,  3001.3,  34.6568,2,  34.6589,3,  -999.0,9,  124.21,2,   32.30,2,    0.02,2,    2.36,3,-999.000,9,-999.0000,9, -999.00,9,-999.000,9,-999.000,    -0.3011,-999.0000,-999.000, -999.00
06AQANTIX_2,       SR04,      69,          1,          8,          8,2,19901203,       0524,     -66.62,     -27.12,       4648,  3001.3,  34.6566,2,  34.6574,3,  -999.0,9,  123.82,2,   32.40,2,    0.06,3,    2.37,3,-999.000,9,-999.0000,9, -999.00,9,-999.000,9,-999.000,    -0.3012,-999.0000,-999.000, -999.00
06AQANTIX_2,       SR04,      69,          1,         10,         10,2,19901203,       0524,     -66.62,     -27.12,       4648,  3001.4,  34.6567,2,  34.6575,3,   238.5,2,  124.11,2,   32.30,2,    0.03,2,    2.36,3,-999.000,9,-999.0000,9, -999.00,9,-999.000,9,-999.000,    -0.3010,-999.0000,-999.000, -999.00
06AQANTIX_2,       SR04,      69,          1,          5,          5,2,19901203,       0524,     -66.62,     -27.12,       4648,  3501.1,  34.6548,2,  34.6552,3,   244.1,2,  123.14,2,   32.20,2,    0.04,2,    2.35,3,-999.000,9,-999.0000,9, -999.00,9,-999.000,9,-999.000,    -0.3491,-999.0000,-999.000, -999.00
06AQANTIX_2,       SR04,      69,          1,          4,          4,2,19901203,       0524,     -66.62,     -27.12,       4648,  4000.3,  34.6535,2,  34.6520,3,   246.4,2,  122.74,2,   32.20,2,    0.00,2,    2.33,3,-999.000,9,-999.0000,9, -999.00,9,-999.000,9,-999.000,    -0.3915,-999.0000,-999.000, -999.00
06AQANTIX_2,       SR04,      69,          1,          3,          3,2,19901203,       0524,     -66.62,     -27.12,       4648,  4504.7,  34.6469,2,  34.6473,3,  -999.0,9,  117.75,2,   32.01,2,    0.02,2,    2.32,3,-999.000,9,-999.0000,9, -999.00,9,-999.000,9,-999.000,    -0.4837,-999.0000,-999.000, -999.00
06AQANTIX_2,       SR04,      69,          1,          2,          2,2,19901203,       0524,     -66.62,     -27.12,       4648,  4902.0,  34.6370,2,-999.0000,9,  -999.0,9,  119.12,2,   33.67,4,    0.05,2,    2.39,3,-999.000,9,-999.0000,9, -999.00,9,-999.000,9,-999.000,    -0.5630,-999.0000,-999.000, -999.00
06AQANTIX_2,       SR04,      69,          1,          1,          1,2,19901203,       0524,     -66.62,     -27.12,       4648,  4926.0,  34.6369,2,-999.0000,9,   255.7,2,  118.93,2,   32.10,2,    0.05,2,    2.31,3,-999.000,9,-999.0000,9, -999.00,9,-999.000,9,-999.000,    -0.5590,-999.0000,-999.000, -999.00
06AQANTIX_2,       SR04,      70,          1,         24,         24,2,19901204,       0012,     -66.23,   -27.7267,       4670,     1.2,  34.3535,2,  34.3651,3,   320.3,2,   70.48,2,   27.78,2,    0.18,2,    2.07,3,-999.000,9,-999.0000,9, -999.00,9,-999.000,9,-999.000,    -1.7790,-999.0000,-999.000, -999.00
06AQANTIX_2,       SR04,      70,          1,         23,         23,2,19901204,       0012,     -66.23,   -27.7267,       4670,    50.0,  34.4466,2,  34.4536,3,  -999.0,9,   71.04,2,   28.32,2,    0.20,2,    2.09,3,-999.000,9,-999.0000,9, -999.00,9,-999.000,9,-999.000,    -1.8145,-999.0000,-999.000, -999.00
06AQANTIX_2,       SR04,      70,          1,         22,         22,2,19901204,       0012,     -66.23,   -27.7267,       4670,    66.8,  34.4610,2,  34.4696,3,   311.5,2,   70.29,2,   28.18,2,    0.19,2,    2.10,3,-999.000,9,-999.0000,9, -999.00,9,-999.000,9,-999.000,    -1.8323,-999.0000,-999.000, -999.00
06AQANTIX_2,       SR04,      70,          1,         21,         21,2,19901204,       0012,     -66.23,   -27.7267,       4670,    92.3,  34.4729,2,  34.4813,3,   308.5,2,   70.68,2,   28.38,2,    0.12,2,    2.11,3,-999.000,9,-999.0000,9, -999.00,9,-999.000,9,-999.000,    -1.7915,-999.0000,-999.000, -999.00
06AQANTIX_2,       SR04,      70,          1,         20,         20,2,19901204,       0012,     -66.23,   -27.7267,       4670,    92.3,  34.4729,2,  34.4813,3,  -999.0,9,   70.68,2,   28.39,2,    0.13,2,    2.10,3,-999.000,9,-999.0000,9, -999.00,9,-999.000,9,-999.000,    -1.7915,-999.0000,-999.000, -999.00
06AQANTIX_2,       SR04,      70,          1,         19,         19,2,19901204,       0012,     -66.23,   -27.7267,       4670,   200.1,  34.6674,2,  34.6761,3,   211.6,2,  107.46,2,   32.80,2,    0.00,2,    2.42,3,-999.000,9,-999.0000,9, -999.00,9,-999.000,9,-999.000,     0.4402,-999.0000,-999.000, -999.00
06AQANTIX_2,       SR04,      70,          1,         18,         18,2,19901204,       0012,     -66.23,   -27.7267,       4670,   352.0,  34.6847,2,  34.6936,3,   197.0,2,  116.71,2,   32.96,2,    0.00,2,    2.44,3,-999.000,9,-999.0000,9, -999.00,9,-999.000,9,-999.000,     0.5511,-999.0000,-999.000, -999.00
06AQANTIX_2,       SR04,      70,          1,         17,         17,2,19901204,       0012,     -66.23,   -27.7267,       4670,   496.6,  34.6831,2,  34.6923,3,   196.7,2,  121.62,2,   33.16,2,    0.02,2,    2.46,3,-999.000,9,-999.0000,9, -999.00,9,-999.000,9,-999.000,     0.4304,-999.0000,-999.000, -999.00
06AQANTIX_2,       SR04,      70,          1,         16,         16,2,19901204,       0012,     -66.23,   -27.7267,       4670,   696.0,  34.6805,2,  34.6886,3,   198.6,2,  125.22,2,   33.32,2,    0.00,2,    2.46,3,-999.000,9,-999.0000,9, -999.00,9,-999.000,9,-999.000,     0.3112,-999.0000,-999.000, -999.00
06AQANTIX_2,       SR04,      70,          1,         15,         15,2,19901204,       0012,     -66.23,   -27.7267,       4670,   994.4,  34.6755,2,  34.6845,3,   205.8,2,  127.11,2,   33.08,2,    0.01,2,    2.46,3,-999.000,9,-999.0000,9, -999.00,9,-999.000,9,-999.000,     0.1844,-999.0000,-999.000, -999.00
06AQANTIX_2,       SR04,      70,          1,         14,         14,2,19901204,       0012,     -66.23,   -27.7267,       4670,  1194.7,  34.6713,2,  34.6810,3,   211.4,2,  127.31,2,   32.85,2,    0.01,2,    2.45,3,-999.000,9,-999.0000,9, -999.00,9,-999.000,9,-999.000,     0.1018,-999.0000,-999.000, -999.00
06AQANTIX_2,       SR04,      70,          1,         13,         13,2,19901204,       0012,     -66.23,   -27.7267,       4670,  1494.9,  34.6683,2,  34.6766,3,   218.5,2,  127.13,2,   32.67,2,    0.00,2,    2.44,3,-999.000,9,-999.0000,9, -999.00,9,-999.000,9,-999.000,    -0.0100,-999.0000,-999.000, -999.00
06AQANTIX_2,       SR04,      70,          1,         12,         12,2,19901204,       0012,     -66.23,   -27.7267,       4670,  1796.4,  34.6634,2,  34.6728,3,   223.8,2,  126.95,2,   32.53,2,    0.01,2,    2.41,3,-999.000,9,-999.0000,9, -999.00,9,-999.000,9,-999.000,    -0.0988,-999.0000,-999.000, -999.00
06AQANTIX_2,       SR04,      70,          1,         11,         11,2,19901204,       0012,     -66.23,   -27.7267,       4670,  2196.4,  34.6596,2,  34.6692,3,   230.8,2,  126.21,2,   32.30,2,    0.00,2,    2.41,3,-999.000,9,-999.0000,9, -999.00,9,-999.000,9,-999.000,    -0.1911,-999.0000,-999.000, -999.00
06AQANTIX_2,       SR04,      70,          1,         10,         10,2,19901204,       0012,     -66.23,   -27.7267,       4670,  2497.4,  34.6576,2,  34.6680,3,  -999.0,9,  125.84,2,   32.26,2,    0.03,2,    2.38,3,-999.000,9,-999.0000,9, -999.00,9,-999.000,9,-999.000,    -0.2416,-999.0000,-999.000, -999.00
06AQANTIX_2,       SR04,      70,          1,          9,          9,2,19901204,       0012,     -66.23,   -27.7267,       4670,  2497.4,  34.6580,2,  34.6680,3,  -999.0,9,  125.85,2,   32.27,2,    0.02,2,    2.38,3,-999.000,9,-999.0000,9, -999.00,9,-999.000,9,-999.000,    -0.2416,-999.0000,-999.000, -999.00
06AQANTIX_2,       SR04,      70,          1,          8,          8,2,19901204,       0012,     -66.23,   -27.7267,       4670,  2497.4,  34.6580,2,  34.6659,3,   233.3,2,  125.86,2,   32.28,2,    0.01,2,    2.38,3,-999.000,9,-999.0000,9, -999.00,9,-999.000,9,-999.000,    -0.2415,-999.0000,-999.000, -999.00
06AQANTIX_2,       SR04,      70,          1,          7,          7,2,19901204,       0012,     -66.23,   -27.7267,       4670,  3000.4,  34.6559,2,  34.6652,3,   236.5,2,  125.11,2,   32.10,2,    0.01,2,    2.36,3,-999.000,9,-999.0000,9, -999.00,9,-999.000,9,-999.000,    -0.3018,-999.0000,-999.000, -999.00
06AQANTIX_2,       SR04,      70,          1,          6,          6,2,19901204,       0012,     -66.23,   -27.7267,       4670,  3502.1,  34.6536,2,  34.6620,3,   241.3,2,  124.37,2,   32.06,2,    0.00,2,    2.35,3,-999.000,9,-999.0000,9, -999.00,9,-999.000,9,-999.000,    -0.3507,-999.0000,-999.000, -999.00
06AQANTIX_2,       SR04,      70,          1,          5,          5,2,19901204,       0012,     -66.23,   -27.7267,       4670,  4102.7,  34.6530,2,  34.6604,3,   244.8,2,  125.32,2,   31.97,2,    0.01,2,    2.34,3,-999.000,9,-999.0000,9, -999.00,9,-999.000,9,-999.000,    -0.3941,-999.0000,-999.000, -999.00
06AQANTIX_2,       SR04,      70,          1,          4,          4,2,19901204,       0012,     -66.23,   -27.7267,       4670,  4502.4,  34.6492,2,  34.6562,3,  -999.0,9,  119.48,2,   31.84,2,    0.00,2,    2.32,3,-999.000,9,-999.0000,9, -999.00,9,-999.000,9,-999.000,    -0.4661,-999.0000,-999.000, -999.00
06AQANTIX_2,       SR04,      70,          1,          3,          3,2,19901204,       0012,     -66.23,   -27.7267,       4670,  4702.2,  34.6472,2,  34.6546,3,   251.4,2,  119.67,2,   31.90,2,    0.00,2,    2.31,3,-999.000,9,-999.0000,9, -999.00,9,-999.000,9,-999.000,    -0.4962,-999.0000,-999.000, -999.00
06AQANTIX_2,       SR04,      70,          1,          2,          2,2,19901204,       0012,     -66.23,   -27.7267,       4670,  4929.2,  34.6401,2,  34.6472,3,  -999.0,9,  123.65,2,   32.00,2,    0.00,2,    2.31,3,-999.000,9,-999.0000,9, -999.00,9,-999.000,9,-999.000,    -0.5302,-999.0000,-999.000, -999.00
06AQANTIX_2,       SR04,      70,          1,          1,          1,2,19901204,       0012,     -66.23,   -27.7267,       4670,  4936.0,  34.6408,2,-999.0000,9,   252.7,2,  123.47,2,   32.06,2,    0.01,2,    2.32,3,-999.000,9,-999.0000,9, -999.00,9,-999.000,9,-999.000,    -0.5320,-999.0000,-999.000, -999.00