BOTTLE,20220818CCHSIOAMB
EXPOCODE,SECT_ID,STNNBR,CASTNO,SAMPNO,BTLNBR,BTLNBR_FLAG_W,DATE,TIME,LATITUDE,LONGITUDE,DEPTH,CTDPRS,CTDSAL,CTDSAL_FLAG_W,SALNTY,SALNTY_FLAG_W,OXYGEN,OXYGEN_FLAG_W,SILCAT,SILCAT_FLAG_W,NITRAT,NITRAT_FLAG_W,NITRIT,NITRIT_FLAG_W,PHSPHT,PHSPHT_FLAG_W,TRITUM,TRITUM_FLAG_W,HELIUM,HELIUM_FLAG_W,DELHE3,DELHE3_FLAG_W,NEON,NEON_FLAG_W,NEONER,CTDTMP,HELIER,TRITER,DELHER
,,,,,,,,,,,METERS,DBAR,PSS-78,,PSS-78,,UMOL/KG,,UMOL/KG,,UMOL/KG,,UMOL/KG,,UMOL/KG,,TU,,NMOL/KG,,PERCNT,,NMOL/KG,,NMOL/KG,IPTS-68,NMOL/KG,TU,PERCNT
06AQANTIX_2,       SR04,      55,          1,         24,         24,2,19901128,       0843,     -65.67,   -37.7433,       4539,     8.3,  34.4123,2,  34.4073,3,   325.9,2,   75.84,2,   28.29,2,    0.17,2,    1.99,2,-999.000,9,-999.0000,9, -999.00,9,-999.000,9,-999.000,    -1.7566,-999.0000,-999.000, -999.00
06AQANTIX_2,       SR04,      55,          1,         23,         23,2,19901128,       0843,     -65.67,   -37.7433,       4539,    47.7,  34.4537,2,  34.4551,3,   307.7,2,   76.48,2,   28.71,2,    0.15,2,    2.01,2,-999.000,9,-999.0000,9, -999.00,9,-999.000,9,-999.000,    -1.8220,-999.0000,-999.000, -999.00
06AQANTIX_2,       SR04,      55,          1,         22,         22,2,19901128,       0843,     -65.67,   -37.7433,       4539,    97.7,  34.4769,2,  34.4755,3,   306.8,2,   77.60,2,   29.26,2,    0.11,2,    2.04,2,-999.000,9,-999.0000,9, -999.00,9,-999.000,9,-999.000,    -1.8185,-999.0000,-999.000, -999.00
06AQANTIX_2,       SR04,      55,          1,         21,         21,2,19901128,       0843,     -65.67,   -37.7433,       4539,   197.0,  34.6566,2,-999.0000,9,   205.2,2,  111.31,2,   33.40,2,    0.02,2,    2.37,2,-999.000,9,-999.0000,9, -999.00,9,-999.000,9,-999.000,     0.0265,-999.0000,-999.000, -999.00
06AQANTIX_2,       SR04,      55,          1,         20,         20,2,19901128,       0843,     -65.67,   -37.7433,       4539,   296.0,  34.6777,2,  34.6779,3,   192.8,2,  120.42,2,   33.87,2,    0.02,2,    2.40,2,-999.000,9,-999.0000,9, -999.00,9,-999.000,9,-999.000,     0.3706,-999.0000,-999.000, -999.00
06AQANTIX_2,       SR04,      55,          1,         19,         19,2,19901128,       0843,     -65.67,   -37.7433,       4539,   396.4,  34.6810,2,  34.6809,3,   192.5,2,  123.79,2,   33.95,2,    0.02,2,    2.40,2,-999.000,9,-999.0000,9, -999.00,9,-999.000,9,-999.000,     0.3607,-999.0000,-999.000, -999.00
06AQANTIX_2,       SR04,      55,          1,         18,         18,2,19901128,       0843,     -65.67,   -37.7433,       4539,   593.8,  34.6783,2,  34.6785,3,  -999.0,9,  126.84,2,   33.76,2,    0.01,2,    2.40,2,-999.000,9,-999.0000,9, -999.00,9,-999.000,9,-999.000,     0.2580,-999.0000,-999.000, -999.00
06AQANTIX_2,       SR04,      55,          1,         17,         17,2,19901128,       0843,     -65.67,   -37.7433,       4539,   793.5,  34.6746,2,  34.6741,3,   210.9,2,  127.49,2,   33.44,2,    0.02,2,    2.38,2,-999.000,9,-999.0000,9, -999.00,9,-999.000,9,-999.000,     0.1612,-999.0000,-999.000, -999.00
06AQANTIX_2,       SR04,      55,          1,         16,         16,2,19901128,       0843,     -65.67,   -37.7433,       4539,   993.3,  34.6709,2,  34.6715,3,   209.5,2,  127.66,2,   33.18,2,    0.01,2,    2.36,2,-999.000,9,-999.0000,9, -999.00,9,-999.000,9,-999.000,     0.0812,-999.0000,-999.000, -999.00
06AQANTIX_2,       SR04,      55,          1,         15,         15,2,19901128,       0843,     -65.67,   -37.7433,       4539,  1494.6,  34.6647,2,  34.6642,3,   224.6,2,  126.88,2,   32.66,2,    0.02,2,    2.33,2,-999.000,9,-999.0000,9, -999.00,9,-999.000,9,-999.000,    -0.0854,-999.0000,-999.000, -999.00
06AQANTIX_2,       SR04,      55,          1,         14,         14,2,19901128,       0843,     -65.67,   -37.7433,       4539,  1996.8,  34.6607,2,  34.6595,3,   233.2,2,  127.05,2,   32.67,2,    0.01,2,    2.32,2,-999.000,9,-999.0000,9, -999.00,9,-999.000,9,-999.000,    -0.2031,-999.0000,-999.000, -999.00
06AQANTIX_2,       SR04,      55,          1,         13,         13,2,19901128,       0843,     -65.67,   -37.7433,       4539,  2497.5,  34.6574,2,  34.6569,3,   239.4,2,  125.31,2,   32.22,2,    0.00,2,    2.30,2,-999.000,9,-999.0000,9, -999.00,9,-999.000,9,-999.000,    -0.2712,-999.0000,-999.000, -999.00
06AQANTIX_2,       SR04,      55,          1,         12,         12,2,19901128,       0843,     -65.67,   -37.7433,       4539,  3000.9,  34.6561,2,  34.6560,3,   239.7,2,  124.52,2,   32.03,2,    0.01,2,    2.29,2,-999.000,9,-999.0000,9, -999.00,9,-999.000,9,-999.000,    -0.3202,-999.0000,-999.000, -999.00
06AQANTIX_2,       SR04,      55,          1,         11,         11,2,19901128,       0843,     -65.67,   -37.7433,       4539,  3501.7,  34.6531,2,  34.6523,3,  -999.0,9,  124.05,2,   31.91,2,    0.00,2,    2.27,2,-999.000,9,-999.0000,9, -999.00,9,-999.000,9,-999.000,    -0.3687,-999.0000,-999.000, -999.00
06AQANTIX_2,       SR04,      55,          1,         10,         10,2,19901128,       0843,     -65.67,   -37.7433,       4539,  4003.5,  34.6525,2,  34.6501,3,   247.0,2,  123.59,2,   31.86,2,    0.00,2,    2.28,2,-999.000,9,-999.0000,9, -999.00,9,-999.000,9,-999.000,    -0.4188,-999.0000,-999.000, -999.00
06AQANTIX_2,       SR04,      55,          1,          9,          9,2,19901128,       0843,     -65.67,   -37.7433,       4539,  4403.1,  34.6451,2,  34.6426,3,  -999.0,9,  116.56,2,   31.80,2,    0.00,2,    2.24,2,-999.000,9,-999.0000,9, -999.00,9,-999.000,9,-999.000,    -0.5217,-999.0000,-999.000, -999.00
06AQANTIX_2,       SR04,      55,          1,          8,          8,2,19901128,       0843,     -65.67,   -37.7433,       4539,  4502.8,  34.6444,2,  34.6421,3,   254.8,2,  116.89,2,   31.81,2,    0.00,2,    2.25,2,-999.000,9,-999.0000,9, -999.00,9,-999.000,9,-999.000,    -0.5399,-999.0000,-999.000, -999.00
06AQANTIX_2,       SR04,      55,          1,          7,          7,2,19901128,       0843,     -65.67,   -37.7433,       4539,  4603.0,  34.6418,2,  34.6397,3,   256.8,2,  117.22,2,   31.95,2,    0.01,2,    2.27,2,-999.000,9,-999.0000,9, -999.00,9,-999.000,9,-999.000,    -0.5553,-999.0000,-999.000, -999.00
06AQANTIX_2,       SR04,      55,          1,          6,          6,2,19901128,       0843,     -65.67,   -37.7433,       4539,  4709.8,  34.6383,2,  34.6362,3,  -999.0,9,  116.27,2,   31.96,2,    0.02,2,    2.25,2,-999.000,9,-999.0000,9, -999.00,9,-999.000,9,-999.000,    -0.5864,-999.0000,-999.000, -999.00
06AQANTIX_2,       SR04,      55,          1,          5,          5,2,19901128,       0843,     -65.67,   -37.7433,       4539,  4741.9,  34.6383,2,  34.6342,3,  -999.0,9,  114.52,2,   32.15,2,    0.01,2,    2.25,2,-999.000,9,-999.0000,9, -999.00,9,-999.000,9,-999.000,    -0.5904,-999.0000,-999.000, -999.00
06AQANTIX_2,       SR04,      55,          1,          4,          4,2,19901128,       0843,     -65.67,   -37.7433,       4539,  4768.2,  34.6381,2,  34.6349,3,   258.2,2,  114.38,2,   32.03,2,    0.01,2,    2.23,2,-999.000,9,-999.0000,9, -999.00,9,-999.000,9,-999.000,    -0.5873,-999.0000,-999.000, -999.00
06AQANTIX_2,       SR04,      55,          1,          3,          3,2,19901128,       0843,     -65.67,   -37.7433,       4539,  4792.8,  34.6374,2,  34.6348,3,   258.3,2,  114.87,2,   31.98,2,    0.02,2,    2.23,2,-999.000,9,-999.0000,9, -999.00,9,-999.000,9,-999.000,    -0.5831,-999.0000,-999.000, -999.00
06AQANTIX_2,       SR04,      55,          1,          2,          2,2,19901128,       0843,     -65.67,   -37.7433,       4539,  4808.0,  34.6349,2,-999.0000,9,   258.4,2,  114.88,2,   32.18,2,    0.01,2,    2.27,2,-999.000,9,-999.0000,9, -999.00,9,-999.000,9,-999.000,    -0.5840,-999.0000,-999.000, -999.00
06AQANTIX_2,       SR04,      55,          1,          1,          1,2,19901128,       0843,     -65.67,   -37.7433,       4539,  4808.0,  34.6349,2,-999.0000,9,  -999.0,9,  114.73,2,   32.18,2,    0.02,2,    2.25,2,-999.000,9,-999.0000,9, -999.00,9,-999.000,9,-999.000,    -0.5840,-999.0000,-999.000, -999.00
06AQANTIX_2,       SR04,      56,          1,         24,         24,2,19901128,       1946,     -65.28,   -39.2967,       4623,     1.7,  34.3549,2,  34.3491,3,   320.4,2,   76.19,2,   28.60,2,    0.14,2,    1.94,2,-999.000,9,-999.0000,9, -999.00,9,-999.000,9,-999.000,    -1.6532,-999.0000,-999.000, -999.00
06AQANTIX_2,       SR04,      56,          1,         23,         23,2,19901128,       1946,     -65.28,   -39.2967,       4623,     7.7,  34.3601,2,-999.0000,9,  -999.0,9,   76.34,2,   28.62,2,    0.13,2,    1.94,2,-999.000,9,-999.0000,9, -999.00,9,-999.000,9,-999.000,    -1.6715,-999.0000,-999.000, -999.00
06AQANTIX_2,       SR04,      56,          1,         22,         22,2,19901128,       1946,     -65.28,   -39.2967,       4623,    16.5,  34.3928,2,-999.0000,9,   320.6,2,   76.49,2,   28.80,2,    0.14,2,    1.95,2,-999.000,9,-999.0000,9, -999.00,9,-999.000,9,-999.000,    -1.7522,-999.0000,-999.000, -999.00
06AQANTIX_2,       SR04,      56,          1,         21,         21,2,19901128,       1946,     -65.28,   -39.2967,       4623,    27.2,  34.4347,2,  34.4393,3,  -999.0,9,   76.33,2,   28.98,2,    0.14,2,    1.95,2,-999.000,9,-999.0000,9, -999.00,9,-999.000,9,-999.000,    -1.7695,-999.0000,-999.000, -999.00
06AQANTIX_2,       SR04,      56,          1,         20,         20,2,19901128,       1946,     -65.28,   -39.2967,       4623,    41.3,  34.4564,2,  34.4577,3,   314.0,2,   76.48,2,   29.15,2,    0.14,2,    1.97,2,-999.000,9,-999.0000,9, -999.00,9,-999.000,9,-999.000,    -1.8036,-999.0000,-999.000, -999.00
06AQANTIX_2,       SR04,      56,          1,         19,         19,2,19901128,       1946,     -65.28,   -39.2967,       4623,    64.4,  34.4628,2,  34.4645,3,   317.8,2,   76.63,2,   29.28,2,    0.14,2,    1.98,2,-999.000,9,-999.0000,9, -999.00,9,-999.000,9,-999.000,    -1.8083,-999.0000,-999.000, -999.00
06AQANTIX_2,       SR04,      56,          1,         18,         18,2,19901128,       1946,     -65.28,   -39.2967,       4623,   100.2,  34.4732,2,  34.4774,3,  -999.0,9,   76.94,2,   29.46,2,    0.09,2,    1.99,2,-999.000,9,-999.0000,9, -999.00,9,-999.000,9,-999.000,    -1.8261,-999.0000,-999.000, -999.00
06AQANTIX_2,       SR04,      56,          1,         17,         17,2,19901128,       1946,     -65.28,   -39.2967,       4623,   200.3,  34.5066,2,-999.0000,9,   207.2,2,   85.25,2,   30.72,2,    0.01,2,    2.08,2,-999.000,9,-999.0000,9, -999.00,9,-999.000,9,-999.000,    -1.4547,-999.0000,-999.000, -999.00
06AQANTIX_2,       SR04,      56,          1,         16,         16,2,19901128,       1946,     -65.28,   -39.2967,       4623,   401.3,  34.6788,2,  34.6797,3,   195.7,2,  126.51,2,   34.44,2,    0.00,2,    2.35,2,-999.000,9,-999.0000,9, -999.00,9,-999.000,9,-999.000,     0.2691,-999.0000,-999.000, -999.00
06AQANTIX_2,       SR04,      56,          1,         15,         15,2,19901128,       1946,     -65.28,   -39.2967,       4623,   499.8,  34.6769,2,  34.6779,3,   200.2,2,  127.28,2,   34.20,2,    0.00,2,    2.35,2,-999.000,9,-999.0000,9, -999.00,9,-999.000,9,-999.000,     0.2268,-999.0000,-999.000, -999.00
06AQANTIX_2,       SR04,      56,          1,         14,         14,2,19901128,       1946,     -65.28,   -39.2967,       4623,   574.8,  34.6761,2,  34.6769,3,   201.7,2,  127.59,2,   34.12,2,    0.00,2,    2.34,2,-999.000,9,-999.0000,9, -999.00,9,-999.000,9,-999.000,     0.1986,-999.0000,-999.000, -999.00
06AQANTIX_2,       SR04,      56,          1,         13,         13,2,19901128,       1946,     -65.28,   -39.2967,       4623,   796.9,  34.6721,2,  34.6720,3,   209.1,2,  127.74,2,   33.83,2,    0.01,2,    2.32,2,-999.000,9,-999.0000,9, -999.00,9,-999.000,9,-999.000,     0.0975,-999.0000,-999.000, -999.00
06AQANTIX_2,       SR04,      56,          1,         12,         12,2,19901128,       1946,     -65.28,   -39.2967,       4623,   994.9,  34.6695,2,  34.6706,3,   215.9,2,  127.59,2,   33.59,2,    0.00,2,    2.31,2,-999.000,9,-999.0000,9, -999.00,9,-999.000,9,-999.000,     0.0396,-999.0000,-999.000, -999.00
06AQANTIX_2,       SR04,      56,          1,         11,         11,2,19901128,       1946,     -65.28,   -39.2967,       4623,  1499.1,  34.6641,2,  34.6652,3,   228.9,2,  126.66,2,   33.25,2,    0.01,2,    2.29,2,-999.000,9,-999.0000,9, -999.00,9,-999.000,9,-999.000,    -0.1064,-999.0000,-999.000, -999.00
06AQANTIX_2,       SR04,      56,          1,         10,         10,2,19901128,       1946,     -65.28,   -39.2967,       4623,  1998.1,  34.6604,2,  34.6601,3,   237.5,2,  125.58,2,   32.96,2,    0.01,2,    2.27,2,-999.000,9,-999.0000,9, -999.00,9,-999.000,9,-999.000,    -0.2208,-999.0000,-999.000, -999.00
06AQANTIX_2,       SR04,      56,          1,          9,          9,2,19901128,       1946,     -65.28,   -39.2967,       4623,  2499.5,  34.6576,2,  34.6582,3,  -999.0,9,  125.27,2,   32.88,2,    0.00,2,    2.26,2,-999.000,9,-999.0000,9, -999.00,9,-999.000,9,-999.000,    -0.2772,-999.0000,-999.000, -999.00
06AQANTIX_2,       SR04,      56,          1,          8,          8,2,19901128,       1946,     -65.28,   -39.2967,       4623,  2999.4,  34.6557,2,  34.6555,3,   242.8,2,  124.35,2,   32.69,2,    0.00,2,    2.24,2,-999.000,9,-999.0000,9, -999.00,9,-999.000,9,-999.000,    -0.3258,-999.0000,-999.000, -999.00
06AQANTIX_2,       SR04,      56,          1,          7,          7,2,19901128,       1946,     -65.28,   -39.2967,       4623,  3494.4,  34.6526,2,  34.6540,3,   244.0,2,  123.73,2,   32.56,2,    0.00,2,    2.24,2,-999.000,9,-999.0000,9, -999.00,9,-999.000,9,-999.000,    -0.3768,-999.0000,-999.000, -999.00
06AQANTIX_2,       SR04,      56,          1,          6,          6,2,19901128,       1946,     -65.28,   -39.2967,       4623,  4002.9,  34.6531,2,  34.6504,3,  -999.0,9,  122.65,2,   32.52,2,    0.00,2,    2.23,2,-999.000,9,-999.0000,9, -999.00,9,-999.000,9,-999.000,    -0.4284,-999.0000,-999.000, -999.00
06AQANTIX_2,       SR04,      56,          1,          5,          5,2,19901128,       1946,     -65.28,   -39.2967,       4623,  4402.5,  34.6471,2,  34.6451,3,   255.4,2,  117.57,2,   32.29,2,    0.01,2,    2.22,2,-999.000,9,-999.0000,9, -999.00,9,-999.000,9,-999.000,    -0.5220,-999.0000,-999.000, -999.00
06AQANTIX_2,       SR04,      56,          1,          4,          4,2,19901128,       1946,     -65.28,   -39.2967,       4623,  4601.2,  34.6439,2,  34.6418,3,  -999.0,9,  118.65,2,   32.31,2,    0.00,2,    2.22,2,-999.000,9,-999.0000,9, -999.00,9,-999.000,9,-999.000,    -0.5538,-999.0000,-999.000, -999.00
06AQANTIX_2,       SR04,      56,          1,          3,          3,2,19901128,       1946,     -65.28,   -39.2967,       4623,  4698.6,  34.6404,2,  34.6376,3,  -999.0,9,  116.95,2,   32.27,2,    0.00,2,    2.22,2,-999.000,9,-999.0000,9, -999.00,9,-999.000,9,-999.000,    -0.5804,-999.0000,-999.000, -999.00
06AQANTIX_2,       SR04,      56,          1,          2,          2,2,19901128,       1946,     -65.28,   -39.2967,       4623,  4729.0,  34.6388,2,  34.6351,3,   256.8,2,  115.10,2,   32.24,2,    0.01,2,    2.21,2,-999.000,9,   1.8610,3,    3.23,2,   8.224,2,   0.041,    -0.5873,   0.0090,-999.000,    0.20
06AQANTIX_2,       SR04,      56,          1,          1,          1,2,19901128,       1946,     -65.28,   -39.2967,       4623,  4828.0,  34.6357,2,-999.0000,9,   262.0,2,  113.25,2,   32.16,2,    0.01,2,    2.20,2,-999.000,9,-999.0000,9, -999.00,9,-999.000,9,-999.000,    -0.5850,-999.0000,-999.000, -999.00