BOTTLE,20220818CCHSIOAMB
EXPOCODE,SECT_ID,STNNBR,CASTNO,SAMPNO,BTLNBR,BTLNBR_FLAG_W,DATE,TIME,LATITUDE,LONGITUDE,DEPTH,CTDPRS,CTDSAL,CTDSAL_FLAG_W,SALNTY,SALNTY_FLAG_W,OXYGEN,OXYGEN_FLAG_W,SILCAT,SILCAT_FLAG_W,NITRAT,NITRAT_FLAG_W,NITRIT,NITRIT_FLAG_W,PHSPHT,PHSPHT_FLAG_W,TRITUM,TRITUM_FLAG_W,HELIUM,HELIUM_FLAG_W,DELHE3,DELHE3_FLAG_W,NEON,NEON_FLAG_W,NEONER,CTDTMP,HELIER,TRITER,DELHER
,,,,,,,,,,,METERS,DBAR,PSS-78,,PSS-78,,UMOL/KG,,UMOL/KG,,UMOL/KG,,UMOL/KG,,UMOL/KG,,TU,,NMOL/KG,,PERCNT,,NMOL/KG,,NMOL/KG,IPTS-68,NMOL/KG,TU,PERCNT
06AQANTIX_2,       SR04,      73,          1,         24,         24,2,19901204,       1803,   -65.0867,   -29.5117,       4716,     2.3,  34.3503,2,  34.3538,3,   322.2,2,   70.57,2,   27.26,2,    0.18,2,    1.98,3,-999.000,9,-999.0000,9, -999.00,9,-999.000,9,-999.000,    -1.7895,-999.0000,-999.000, -999.00
06AQANTIX_2,       SR04,      73,          1,         23,         23,2,19901204,       1803,   -65.0867,   -29.5117,       4716,    23.5,  34.3544,2,  34.3541,3,   328.5,2,   70.38,2,   27.25,2,    0.18,2,    1.98,3,-999.000,9,   1.8080,2,   -0.28,2,   8.095,2,   0.040,    -1.7949,   0.0090,-999.000,    0.20
06AQANTIX_2,       SR04,      73,          1,         22,         22,2,19901204,       1803,   -65.0867,   -29.5117,       4716,    45.5,  34.3611,2,-999.0000,9,   318.5,2,   71.33,2,   27.06,2,    0.17,2,    1.97,3,-999.000,9,-999.0000,9, -999.00,9,-999.000,9,-999.000,    -1.7958,-999.0000,-999.000, -999.00
06AQANTIX_2,       SR04,      73,          1,         21,         21,2,19901204,       1803,   -65.0867,   -29.5117,       4716,    69.2,  34.4182,2,  34.4197,3,   324.0,2,   72.27,2,   26.94,2,    0.16,2,    1.99,3,-999.000,9,-999.0000,9, -999.00,9,-999.000,9,-999.000,    -1.8423,-999.0000,-999.000, -999.00
06AQANTIX_2,       SR04,      73,          1,         20,         20,2,19901204,       1803,   -65.0867,   -29.5117,       4716,   105.7,  34.4280,2,  34.4257,3,   315.8,2,   72.46,2,   26.93,2,    0.15,2,    2.00,3,-999.000,9,-999.0000,9, -999.00,9,-999.000,9,-999.000,    -1.8369,-999.0000,-999.000, -999.00
06AQANTIX_2,       SR04,      73,          1,         19,         19,2,19901204,       1803,   -65.0867,   -29.5117,       4716,   153.5,  34.4809,2,-999.0000,9,   271.6,2,   86.22,2,   30.30,2,    0.06,2,    2.18,3,-999.000,9,-999.0000,9, -999.00,9,-999.000,9,-999.000,    -1.3559,-999.0000,-999.000, -999.00
06AQANTIX_2,       SR04,      73,          1,         18,         18,2,19901204,       1803,   -65.0867,   -29.5117,       4716,   204.2,  34.6415,2,  34.6400,3,   206.2,2,  107.32,2,   33.27,2,    0.01,2,    2.37,3,-999.000,9,-999.0000,9, -999.00,9,-999.000,9,-999.000,     0.0883,-999.0000,-999.000, -999.00
06AQANTIX_2,       SR04,      73,          1,         17,         17,2,19901204,       1803,   -65.0867,   -29.5117,       4716,   253.0,  34.6722,2,  34.6718,3,   193.8,2,  114.47,2,   33.72,2,    0.01,2,    2.40,3,-999.000,9,-999.0000,9, -999.00,9,-999.000,9,-999.000,     0.3691,-999.0000,-999.000, -999.00
06AQANTIX_2,       SR04,      73,          1,         16,         16,2,19901204,       1803,   -65.0867,   -29.5117,       4716,   303.4,  34.6785,2,  34.6778,3,   191.9,2,  118.43,2,   33.83,2,    0.01,2,    2.41,3,-999.000,9,-999.0000,9, -999.00,9,-999.000,9,-999.000,     0.4073,-999.0000,-999.000, -999.00
06AQANTIX_2,       SR04,      73,          1,         15,         15,2,19901204,       1803,   -65.0867,   -29.5117,       4716,   495.8,  34.6811,2,  34.6810,3,   195.2,2,  124.65,2,   33.87,2,    0.01,2,    2.44,3,-999.000,9,-999.0000,9, -999.00,9,-999.000,9,-999.000,     0.3443,-999.0000,-999.000, -999.00
06AQANTIX_2,       SR04,      73,          1,         14,         14,2,19901204,       1803,   -65.0867,   -29.5117,       4716,   745.9,  34.6772,2,  34.6802,3,   201.5,2,  126.91,2,   33.45,2,    0.01,2,    2.41,3,-999.000,9,-999.0000,9, -999.00,9,-999.000,9,-999.000,     0.2212,-999.0000,-999.000, -999.00
06AQANTIX_2,       SR04,      73,          1,         13,         13,2,19901204,       1803,   -65.0867,   -29.5117,       4716,   993.0,  34.6728,2,  34.6749,3,   208.0,2,  127.66,2,   33.27,2,    0.01,2,    2.40,3,-999.000,9,-999.0000,9, -999.00,9,-999.000,9,-999.000,     0.1094,-999.0000,-999.000, -999.00
06AQANTIX_2,       SR04,      73,          1,         12,         12,2,19901204,       1803,   -65.0867,   -29.5117,       4716,  1493.6,  34.6660,2,  34.6661,3,   220.2,2,  127.09,2,   32.73,2,    0.01,2,    2.37,3,-999.000,9,-999.0000,9, -999.00,9,-999.000,9,-999.000,    -0.0643,-999.0000,-999.000, -999.00
06AQANTIX_2,       SR04,      73,          1,         11,         11,2,19901204,       1803,   -65.0867,   -29.5117,       4716,  1991.4,  34.6600,2,  34.6610,3,  -999.0,9,  126.15,2,   32.43,2,    0.01,2,    2.36,3,-999.000,9,-999.0000,9, -999.00,9,-999.000,9,-999.000,    -0.1923,-999.0000,-999.000, -999.00
06AQANTIX_2,       SR04,      73,          1,         10,         10,2,19901204,       1803,   -65.0867,   -29.5117,       4716,  1992.1,  34.6602,2,  34.6602,3,  -999.0,9,  125.96,2,   32.48,2,    0.00,2,    2.37,3,-999.000,9,-999.0000,9, -999.00,9,-999.000,9,-999.000,    -0.1927,-999.0000,-999.000, -999.00
06AQANTIX_2,       SR04,      73,          1,          9,          9,2,19901204,       1803,   -65.0867,   -29.5117,       4716,  1992.7,  34.6601,2,  34.6601,3,   229.9,2,  126.15,2,   32.47,2,    0.01,2,    2.36,3,-999.000,9,-999.0000,9, -999.00,9,-999.000,9,-999.000,    -0.1930,-999.0000,-999.000, -999.00
06AQANTIX_2,       SR04,      73,          1,          8,          8,2,19901204,       1803,   -65.0867,   -29.5117,       4716,  2498.2,  34.6575,2,  34.6574,3,   236.6,2,  125.21,2,   32.22,2,    0.01,2,    2.36,3,-999.000,9,-999.0000,9, -999.00,9,-999.000,9,-999.000,    -0.2673,-999.0000,-999.000, -999.00
06AQANTIX_2,       SR04,      73,          1,          7,          7,2,19901204,       1803,   -65.0867,   -29.5117,       4716,  3005.6,  34.6552,2,  34.6556,3,   237.1,2,  124.64,2,   32.10,2,    0.00,2,    2.35,3,-999.000,9,-999.0000,9, -999.00,9,-999.000,9,-999.000,    -0.3199,-999.0000,-999.000, -999.00
06AQANTIX_2,       SR04,      73,          1,          6,          6,2,19901204,       1803,   -65.0867,   -29.5117,       4716,  3505.3,  34.6526,2,  34.6534,3,   241.8,2,  123.88,2,   31.97,2,    0.00,2, -999.00,9,-999.000,9,-999.0000,9, -999.00,9,-999.000,9,-999.000,    -0.3702,-999.0000,-999.000, -999.00
06AQANTIX_2,       SR04,      73,          1,          5,          5,2,19901204,       1803,   -65.0867,   -29.5117,       4716,  3996.9,  34.6481,2,  34.6475,3,   248.8,2,  120.87,2,   31.84,2,    0.01,2, -999.00,9,-999.000,9,-999.0000,9, -999.00,9,-999.000,9,-999.000,    -0.4486,-999.0000,-999.000, -999.00
06AQANTIX_2,       SR04,      73,          1,          4,          4,2,19901204,       1803,   -65.0867,   -29.5117,       4716,  4499.0,  34.6411,2,  34.6399,3,   254.4,2,  112.21,2,   31.66,2,    0.00,2,    2.28,3,-999.000,9,-999.0000,9, -999.00,9,-999.000,9,-999.000,    -0.5517,-999.0000,-999.000, -999.00
06AQANTIX_2,       SR04,      73,          1,          3,          3,2,19901204,       1803,   -65.0867,   -29.5117,       4716,  4800.2,  34.6384,2,  34.6362,3,   256.6,2,  110.89,2,   31.59,2,    0.01,2,    2.27,3,-999.000,9,-999.0000,9, -999.00,9,-999.000,9,-999.000,    -0.5696,-999.0000,-999.000, -999.00
06AQANTIX_2,       SR04,      73,          1,          2,          2,2,19901204,       1803,   -65.0867,   -29.5117,       4716,  4980.7,  34.6373,2,  34.6344,3,   257.1,2,  111.26,2,   31.58,2,    0.00,2,    2.28,3,-999.000,9,-999.0000,9, -999.00,9,-999.000,9,-999.000,    -0.5709,-999.0000,-999.000, -999.00
06AQANTIX_2,       SR04,      73,          1,          1,          1,2,19901204,       1803,   -65.0867,   -29.5117,       4716,  4980.7,  34.6373,2,  34.6344,3,   257.5,2,  111.26,2,   31.63,2,    0.03,2,    2.28,3,-999.000,9,-999.0000,9, -999.00,9,-999.000,9,-999.000,    -0.5709,-999.0000,-999.000, -999.00
06AQANTIX_2,       SR04,      74,          1,         24,         24,2,19901205,       0138,   -65.4683,   -29.8467,       4682,     1.6,  34.3201,2,-999.0000,9,   319.8,2,   71.06,2,   28.03,2,    0.18,2,    2.06,3,-999.000,9,-999.0000,9, -999.00,9,-999.000,9,-999.000,    -1.7877,-999.0000,-999.000, -999.00
06AQANTIX_2,       SR04,      74,          1,         23,         23,2,19901205,       0138,   -65.4683,   -29.8467,       4682,    18.9,  34.3336,2,  34.3362,3,   315.4,2,   71.06,2,   27.98,2,    0.17,2,    2.06,3,-999.000,9,-999.0000,9, -999.00,9,-999.000,9,-999.000,    -1.7906,-999.0000,-999.000, -999.00
06AQANTIX_2,       SR04,      74,          1,         22,         22,2,19901205,       0138,   -65.4683,   -29.8467,       4682,    39.1,  34.3718,2,-999.0000,9,  -999.0,9,   70.69,2,   28.22,2,    0.19,2,    2.08,3,-999.000,9,-999.0000,9, -999.00,9,-999.000,9,-999.000,    -1.7989,-999.0000,-999.000, -999.00
06AQANTIX_2,       SR04,      74,          1,         21,         21,2,19901205,       0138,   -65.4683,   -29.8467,       4682,    80.1,  34.4462,2,  34.4511,3,   318.4,2,   69.75,2,   28.63,2,    0.21,2,    2.10,3,-999.000,9,-999.0000,9, -999.00,9,-999.000,9,-999.000,    -1.8076,-999.0000,-999.000, -999.00
06AQANTIX_2,       SR04,      74,          1,         20,         20,2,19901205,       0138,   -65.4683,   -29.8467,       4682,   119.9,  34.6431,2,-999.0000,9,   199.5,2,  104.08,2,   33.12,2,    0.00,2,    2.42,3,-999.000,9,-999.0000,9, -999.00,9,-999.000,9,-999.000,     0.2819,-999.0000,-999.000, -999.00
06AQANTIX_2,       SR04,      74,          1,         19,         19,2,19901205,       0138,   -65.4683,   -29.8467,       4682,   180.5,  34.6711,2,  34.6729,3,   194.5,2,  107.86,2,   33.31,2,    0.00,2,    2.44,3,-999.000,9,-999.0000,9, -999.00,9,-999.000,9,-999.000,     0.5315,-999.0000,-999.000, -999.00
06AQANTIX_2,       SR04,      74,          1,         18,         18,2,19901205,       0138,   -65.4683,   -29.8467,       4682,   180.5,  34.6712,2,  34.6756,3,   193.8,2,  108.24,2,   33.32,2,    0.01,2,    2.43,3,-999.000,9,-999.0000,9, -999.00,9,-999.000,9,-999.000,     0.5314,-999.0000,-999.000, -999.00
06AQANTIX_2,       SR04,      74,          1,         16,         16,2,19901205,       0138,   -65.4683,   -29.8467,       4682,   298.7,  34.6840,2,  34.6859,3,  -999.0,9,  115.23,2,   33.28,2,    0.00,2,    2.44,3,-999.000,9,-999.0000,9, -999.00,9,-999.000,9,-999.000,     0.5793,-999.0000,-999.000, -999.00
06AQANTIX_2,       SR04,      74,          1,         15,         15,2,19901205,       0138,   -65.4683,   -29.8467,       4682,   396.8,  34.6839,2,  34.6854,3,   196.8,2,  119.57,2,   33.35,2,    0.00,2,    2.45,3,-999.000,9,-999.0000,9, -999.00,9,-999.000,9,-999.000,     0.4918,-999.0000,-999.000, -999.00
06AQANTIX_2,       SR04,      74,          1,         14,         14,2,19901205,       0138,   -65.4683,   -29.8467,       4682,   497.0,  34.6812,2,  34.6828,3,   201.1,2,  122.22,2,   33.48,2,    0.01,2,    2.45,3,-999.000,9,-999.0000,9, -999.00,9,-999.000,9,-999.000,     0.4063,-999.0000,-999.000, -999.00
06AQANTIX_2,       SR04,      74,          1,         13,         13,2,19901205,       0138,   -65.4683,   -29.8467,       4682,   497.0,  34.6816,2,  34.6832,3,  -999.0,9,  122.03,2,   33.49,2,    0.01,2,    2.45,3,-999.000,9,-999.0000,9, -999.00,9,-999.000,9,-999.000,     0.4060,-999.0000,-999.000, -999.00
06AQANTIX_2,       SR04,      74,          1,         12,         12,2,19901205,       0138,   -65.4683,   -29.8467,       4682,   994.7,  34.6741,2,  34.6749,3,   208.8,2,  126.94,2,   33.27,2,    0.00,2,    2.44,3,-999.000,9,-999.0000,9, -999.00,9,-999.000,9,-999.000,     0.1700,-999.0000,-999.000, -999.00
06AQANTIX_2,       SR04,      74,          1,         11,         11,2,19901205,       0138,   -65.4683,   -29.8467,       4682,  1495.9,  34.6674,2,  34.6679,3,   218.8,2,  127.14,2,   33.00,2,    0.02,2,    2.41,3,-999.000,9,-999.0000,9, -999.00,9,-999.000,9,-999.000,    -0.0177,-999.0000,-999.000, -999.00
06AQANTIX_2,       SR04,      74,          1,         10,         10,2,19901205,       0138,   -65.4683,   -29.8467,       4682,  1997.0,  34.6611,2,  34.6626,3,   227.7,2,  126.57,2,   32.83,2,    0.01,2,    2.39,3,-999.000,9,-999.0000,9, -999.00,9,-999.000,9,-999.000,    -0.1586,-999.0000,-999.000, -999.00
06AQANTIX_2,       SR04,      74,          1,          9,          9,2,19901205,       0138,   -65.4683,   -29.8467,       4682,  2498.3,  34.6580,2,  34.6588,3,   233.0,2,  125.64,2,   32.50,2,    0.00,2,    2.38,3,-999.000,9,-999.0000,9, -999.00,9,-999.000,9,-999.000,    -0.2478,-999.0000,-999.000, -999.00
06AQANTIX_2,       SR04,      74,          1,          8,          8,2,19901205,       0138,   -65.4683,   -29.8467,       4682,  3001.6,  34.6546,2,  34.6564,3,   241.2,2,  125.08,2,   32.40,2,    0.02,2,    2.37,3,-999.000,9,-999.0000,9, -999.00,9,-999.000,9,-999.000,    -0.3065,-999.0000,-999.000, -999.00
06AQANTIX_2,       SR04,      74,          1,          7,          7,2,19901205,       0138,   -65.4683,   -29.8467,       4682,  3502.1,  34.6528,2,  34.6545,3,   241.1,2,  125.08,2,   32.29,2,    0.00,2,    2.35,3,-999.000,9,-999.0000,9, -999.00,9,-999.000,9,-999.000,    -0.3593,-999.0000,-999.000, -999.00
06AQANTIX_2,       SR04,      74,          1,          6,          6,2,19901205,       0138,   -65.4683,   -29.8467,       4682,  4001.7,  34.6517,2,  34.6512,3,   246.9,2,  124.33,2,   32.13,2,    0.01,2,    2.34,3,-999.000,9,-999.0000,9, -999.00,9,-999.000,9,-999.000,    -0.4075,-999.0000,-999.000, -999.00
06AQANTIX_2,       SR04,      74,          1,          5,          5,2,19901205,       0138,   -65.4683,   -29.8467,       4682,  4401.9,  34.6472,2,  34.6486,3,   250.1,2,  117.74,2,   32.03,2,    0.02,2,    2.33,3,-999.000,9,-999.0000,9, -999.00,9,-999.000,9,-999.000,    -0.4866,-999.0000,-999.000, -999.00
06AQANTIX_2,       SR04,      74,          1,          4,          4,2,19901205,       0138,   -65.4683,   -29.8467,       4682,  4604.3,  34.6455,2,  34.6460,3,   254.4,2,  116.61,2,   31.86,2,    0.01,2,    2.33,3,-999.000,9,-999.0000,9, -999.00,9,-999.000,9,-999.000,    -0.5165,-999.0000,-999.000, -999.00
06AQANTIX_2,       SR04,      74,          1,          3,          3,2,19901205,       0138,   -65.4683,   -29.8467,       4682,  4803.0,  34.6433,2,  34.6420,3,   251.4,2,  120.76,2,   32.05,2,    0.01,2,    2.33,3,-999.000,9,-999.0000,9, -999.00,9,-999.000,9,-999.000,    -0.5249,-999.0000,-999.000, -999.00
06AQANTIX_2,       SR04,      74,          1,          2,          2,2,19901205,       0138,   -65.4683,   -29.8467,       4682,  4905.5,  34.6393,2,  34.6382,3,   252.2,2,  121.14,2,   32.00,2,    0.01,2,    2.33,3,-999.000,9,-999.0000,9, -999.00,9,-999.000,9,-999.000,    -0.5438,-999.0000,-999.000, -999.00
06AQANTIX_2,       SR04,      74,          1,          1,          1,2,19901205,       0138,   -65.4683,   -29.8467,       4682,  4950.0,  34.6331,2,-999.0000,9,   254.4,2,  117.19,2,   31.90,2,    0.01,2,    2.31,3,-999.000,9,-999.0000,9, -999.00,9,-999.000,9,-999.000,    -0.5540,-999.0000,-999.000, -999.00