BOTTLE,20220818CCHSIOAMB
EXPOCODE,SECT_ID,STNNBR,CASTNO,SAMPNO,BTLNBR,BTLNBR_FLAG_W,DATE,TIME,LATITUDE,LONGITUDE,DEPTH,CTDPRS,CTDSAL,CTDSAL_FLAG_W,SALNTY,SALNTY_FLAG_W,OXYGEN,OXYGEN_FLAG_W,SILCAT,SILCAT_FLAG_W,NITRAT,NITRAT_FLAG_W,NITRIT,NITRIT_FLAG_W,PHSPHT,PHSPHT_FLAG_W,TRITUM,TRITUM_FLAG_W,HELIUM,HELIUM_FLAG_W,DELHE3,DELHE3_FLAG_W,NEON,NEON_FLAG_W,NEONER,CTDTMP,HELIER,TRITER,DELHER
,,,,,,,,,,,METERS,DBAR,PSS-78,,PSS-78,,UMOL/KG,,UMOL/KG,,UMOL/KG,,UMOL/KG,,UMOL/KG,,TU,,NMOL/KG,,PERCNT,,NMOL/KG,,NMOL/KG,IPTS-68,NMOL/KG,TU,PERCNT
06AQANTIX_2,       SR04,      47,          1,         20,         20,2,19901124,       0937,   -64.2333,    -47.565,       3984,    11.1,  34.3629,2,  34.3636,3,   315.2,2,   83.86,2,   26.97,2,    0.18,2,    2.19,2,   0.101,2,   1.7950,2,    0.67,2,   8.040,2,   0.024,    -1.6836,   0.0050,   0.005,    0.20
06AQANTIX_2,       SR04,      47,          1,         19,         19,2,19901124,       0937,   -64.2333,    -47.565,       3984,    40.6,  34.3739,2,  34.3792,3,   299.9,2,   83.78,2,   26.88,2,    0.16,2,    2.20,2,   0.176,2,-999.0000,1, -999.00,1,-999.000,1,-999.000,    -1.7543,-999.0000,   0.007, -999.00
06AQANTIX_2,       SR04,      47,          1,         18,         18,2,19901124,       0937,   -64.2333,    -47.565,       3984,    79.0,  34.4936,2,-999.0000,9,   280.9,2,   87.17,2,   27.59,2,    0.09,2,    2.24,2,   0.075,2,-999.0000,1, -999.00,1,-999.000,1,-999.000,    -1.2508,-999.0000,   0.004, -999.00
06AQANTIX_2,       SR04,      47,          1,         17,         17,2,19901124,       0937,   -64.2333,    -47.565,       3984,   150.4,  34.6427,2,  34.6500,3,   226.9,2,  101.48,2,   29.23,2,    0.00,2,    2.40,2,   0.045,2,   1.8470,2,    7.43,2,   8.091,2,   0.024,     0.1741,   0.0050,   0.004,    0.20
06AQANTIX_2,       SR04,      47,          1,         16,         16,2,19901124,       0937,   -64.2333,    -47.565,       3984,   200.4,  34.6577,2,  34.6595,3,   209.3,2,  102.82,2,   29.24,2,    0.01,2,    2.41,2,   0.045,2,   1.8850,3,    7.45,2,   8.194,3,   0.025,     0.3132,   0.0060,   0.003,    0.20
06AQANTIX_2,       SR04,      47,          1,         15,         15,2,19901124,       0937,   -64.2333,    -47.565,       3984,   251.8,  34.6686,2,  34.6721,3,   206.7,2,  105.58,2,   29.31,2,    0.02,2,    2.42,2,   0.084,2,   1.8960,3,    8.01,2,   8.309,3,   0.025,     0.4122,   0.0060,   0.004,    0.20
06AQANTIX_2,       SR04,      47,          1,         14,         14,2,19901124,       0937,   -64.2333,    -47.565,       3984,   301.4,  34.6667,2,  34.6714,3,   206.8,2,  105.97,2,   29.32,2,    0.01,2,    2.41,2,   0.038,2,-999.0000,1, -999.00,1,-999.000,1,-999.000,     0.3959,-999.0000,   0.003, -999.00
06AQANTIX_2,       SR04,      47,          1,         13,         13,2,19901124,       0937,   -64.2333,    -47.565,       3984,   401.5,  34.6776,2,  34.6822,3,  -999.0,9,  109.69,2,   29.33,2,    0.00,2,    2.42,2,   0.054,2,   1.8540,2,    8.27,2,   8.077,2,   0.024,     0.4867,   0.0060,   0.003,    0.20
06AQANTIX_2,       SR04,      47,          1,         12,         12,2,19901124,       0937,   -64.2333,    -47.565,       3984,   500.6,  34.6834,2,  34.6885,3,   204.9,2,  112.93,2,   29.40,2,    0.00,2,    2.42,2,   0.045,2,-999.0000,9, -999.00,9,-999.000,9,-999.000,     0.5205,-999.0000,   0.003, -999.00
06AQANTIX_2,       SR04,      47,          1,         11,         11,2,19901124,       0937,   -64.2333,    -47.565,       3984,   599.6,  34.6871,2,  34.6941,3,  -999.0,9,  117.90,2,   29.69,2,    0.02,2,    2.44,2,   0.042,2,-999.0000,1, -999.00,1,-999.000,1,-999.000,     0.5249,-999.0000,   0.003, -999.00
06AQANTIX_2,       SR04,      47,          1,         10,         10,2,19901124,       0937,   -64.2333,    -47.565,       3984,   801.0,  34.6822,2,  34.6880,3,  -999.0,9,  122.09,2,   29.92,3,    0.01,2,    2.46,2,   0.059,2,-999.0000,9, -999.00,9,-999.000,9,-999.000,     0.3916,-999.0000,   0.004, -999.00
06AQANTIX_2,       SR04,      47,          1,          9,          9,2,19901124,       0937,   -64.2333,    -47.565,       3984,   998.4,  34.6808,2,  34.6856,3,   206.3,2,  123.43,2,   29.82,3,    0.01,2,    2.46,2,   0.061,2,   1.8580,3,    8.26,3,   8.097,3,   0.028,     0.3178,   0.0070,   0.003,    0.20
06AQANTIX_2,       SR04,      47,          1,          8,          8,2,19901124,       0937,   -64.2333,    -47.565,       3984,  1599.1,  34.6720,2,  34.6763,3,   220.9,2,  125.72,2,   29.57,4,    0.01,2,    2.44,2,   0.051,2,   1.8460,2,    6.82,2,   8.113,2,   0.024,     0.0741,   0.0050,   0.003,    0.20
06AQANTIX_2,       SR04,      47,          1,          7,          7,2,19901124,       0937,   -64.2333,    -47.565,       3984,  2203.7,  34.6650,2,  34.6683,3,   230.3,2,  125.17,2,   29.31,4,    0.00,2,    2.41,2,   0.059,2,   1.8560,2,    6.53,2,   8.108,2,   0.024,    -0.1232,   0.0060,   0.004,    0.20
06AQANTIX_2,       SR04,      47,          1,          6,          6,2,19901124,       0937,   -64.2333,    -47.565,       3984,  2804.9,  34.6608,2,  34.6629,3,   237.0,2,  123.66,2,   29.05,4,    0.01,2,    2.39,2,   0.069,2,   1.8600,2,    5.90,2,   8.165,2,   0.024,    -0.2372,   0.0060,   0.004,    0.20
06AQANTIX_2,       SR04,      47,          1,          5,          5,2,19901124,       0937,   -64.2333,    -47.565,       3984,  3406.4,  34.6580,2,  34.6601,3,   243.7,2,  123.42,2,   29.01,4,    0.01,2,    2.38,2,   0.101,2,-999.0000,1, -999.00,1,-999.000,1,-999.000,    -0.2865,-999.0000,   0.005, -999.00
06AQANTIX_2,       SR04,      47,          1,          4,          4,2,19901124,       0937,   -64.2333,    -47.565,       3984,  4100.0,  34.6572,2,  34.6585,3,  -999.0,9,  124.60,2,   28.97,4,    0.00,2,    2.36,2,   0.088,2,   1.8640,2,    4.70,2,   8.194,2,   0.025,    -0.3378,   0.0060,   0.004,    0.20
06AQANTIX_2,       SR04,      47,          1,          3,          3,2,19901124,       0937,   -64.2333,    -47.565,       3984,  4100.0,  34.6570,2,  34.6580,3,   244.6,2,  125.63,2,   28.88,4,    0.02,2,    2.36,2,   0.068,2,-999.0000,9, -999.00,9,-999.000,9,-999.000,    -0.3377,-999.0000,   0.004, -999.00
06AQANTIX_2,       SR04,      47,          1,          2,          2,2,19901124,       0937,   -64.2333,    -47.565,       3984,  4149.7,  34.6566,2,  34.6580,3,   245.6,2,  127.04,2,   29.23,4,    0.02,2,    2.35,2,   0.036,3,-999.0000,1, -999.00,1,-999.000,1,-999.000,    -0.3478,-999.0000,   0.004, -999.00
06AQANTIX_2,       SR04,      47,          1,          1,          1,2,19901124,       0937,   -64.2333,    -47.565,       3984,  4208.8,  34.6500,2,-999.0000,9,   254.1,2,  126.64,2,   28.76,4,    0.03,2,    2.37,2,   0.086,2,   1.8880,2,    3.61,2,   8.232,2,   0.025,    -0.4070,   0.0060,   0.007,    0.20
06AQANTIX_2,       SR04,      48,          1,         23,         23,2,19901124,       2221,   -64.4083,     -45.81,       4250,     1.9,  34.3875,2,  34.3892,3,  -999.0,9,   78.64,2,   29.13,2,    0.22,2,    2.03,2,-999.000,9,-999.0000,9, -999.00,9,-999.000,9,-999.000,    -1.7885,-999.0000,-999.000, -999.00
06AQANTIX_2,       SR04,      48,          1,         22,         22,2,19901124,       2221,   -64.4083,     -45.81,       4250,     1.9,  34.3913,2,  34.3928,3,   304.2,2,   78.64,2,   29.12,2,    0.22,2,    2.03,2,-999.000,9,-999.0000,9, -999.00,9,-999.000,9,-999.000,    -1.7908,-999.0000,-999.000, -999.00
06AQANTIX_2,       SR04,      48,          1,         21,         21,2,19901124,       2221,   -64.4083,     -45.81,       4250,    28.2,  34.3974,2,  34.3981,3,   305.8,2,   78.47,2,   29.19,2,    0.22,2,    2.04,2,-999.000,9,-999.0000,9, -999.00,9,-999.000,9,-999.000,    -1.7995,-999.0000,-999.000, -999.00
06AQANTIX_2,       SR04,      48,          1,         20,         20,2,19901124,       2221,   -64.4083,     -45.81,       4250,    48.1,  34.4054,2,  34.4047,3,  -999.0,9,   78.63,2,   29.18,2,    0.22,2,    2.03,2,-999.000,9,-999.0000,9, -999.00,9,-999.000,9,-999.000,    -1.8031,-999.0000,-999.000, -999.00
06AQANTIX_2,       SR04,      48,          1,         19,         19,2,19901124,       2221,   -64.4083,     -45.81,       4250,    65.0,  34.4245,2,  34.4237,3,   303.8,2,   78.80,2,   29.38,2,    0.22,2,    2.03,2,-999.000,9,-999.0000,9, -999.00,9,-999.000,9,-999.000,    -1.7853,-999.0000,-999.000, -999.00
06AQANTIX_2,       SR04,      48,          1,         18,         18,2,19901124,       2221,   -64.4083,     -45.81,       4250,    98.1,  34.4520,2,-999.0000,9,   303.9,2,   79.47,2,   29.51,2,    0.23,2,    2.04,2,-999.000,9,-999.0000,9, -999.00,9,-999.000,9,-999.000,    -1.7492,-999.0000,-999.000, -999.00
06AQANTIX_2,       SR04,      48,          1,         17,         17,2,19901124,       2221,   -64.4083,     -45.81,       4250,   133.3,  34.4973,2,-999.0000,9,   274.3,2,   85.40,2,   30.48,2,    0.13,2,    2.10,2,-999.000,9,-999.0000,9, -999.00,9,-999.000,9,-999.000,    -1.3311,-999.0000,-999.000, -999.00
06AQANTIX_2,       SR04,      48,          1,         16,         16,2,19901124,       2221,   -64.4083,     -45.81,       4250,   197.5,  34.6644,2,  34.6641,3,   203.0,2,  107.44,2,   33.18,2,    0.00,2,    2.31,2,-999.000,9,-999.0000,9, -999.00,9,-999.000,9,-999.000,     0.3357,-999.0000,-999.000, -999.00
06AQANTIX_2,       SR04,      48,          1,         15,         15,2,19901124,       2221,   -64.4083,     -45.81,       4250,   296.7,  34.6795,2,  34.6797,3,   198.8,2,  114.39,2,   33.45,2,    0.00,2,    2.32,2,-999.000,9,-999.0000,9, -999.00,9,-999.000,9,-999.000,     0.4532,-999.0000,-999.000, -999.00
06AQANTIX_2,       SR04,      48,          1,         14,         14,2,19901124,       2221,   -64.4083,     -45.81,       4250,   494.8,  34.6834,2,  34.6870,3,   197.5,2,  122.19,2,   33.72,2,    0.01,2,    2.35,2,-999.000,9,-999.0000,9, -999.00,9,-999.000,9,-999.000,     0.4007,-999.0000,-999.000, -999.00
06AQANTIX_2,       SR04,      48,          1,         13,         13,2,19901124,       2221,   -64.4083,     -45.81,       4250,   593.6,  34.6814,2,  34.6812,3,   199.8,2,  124.22,2,   33.85,2,    0.00,2,    2.35,2,-999.000,9,-999.0000,9, -999.00,9,-999.000,9,-999.000,     0.3416,-999.0000,-999.000, -999.00
06AQANTIX_2,       SR04,      48,          1,         12,         12,2,19901124,       2221,   -64.4083,     -45.81,       4250,   794.3,  34.6790,2,  34.6817,3,   204.1,2,  126.08,2,   33.77,2,    0.00,2,    2.34,2,-999.000,9,-999.0000,9, -999.00,9,-999.000,9,-999.000,     0.2583,-999.0000,-999.000, -999.00
06AQANTIX_2,       SR04,      48,          1,         11,         11,2,19901124,       2221,   -64.4083,     -45.81,       4250,  1195.6,  34.6723,2,  34.6735,3,  -999.0,9,  126.76,2,   33.55,2,    0.00,2,    2.32,2,-999.000,9,-999.0000,9, -999.00,9,-999.000,9,-999.000,     0.0972,-999.0000,-999.000, -999.00
06AQANTIX_2,       SR04,      48,          1,         10,         10,2,19901124,       2221,   -64.4083,     -45.81,       4250,  1596.7,  34.6659,2,  34.6663,3,   222.0,2,  126.92,2,   33.40,2,    0.01,2,    2.31,2,-999.000,9,-999.0000,9, -999.00,9,-999.000,9,-999.000,    -0.0527,-999.0000,-999.000, -999.00
06AQANTIX_2,       SR04,      48,          1,          9,          9,2,19901124,       2221,   -64.4083,     -45.81,       4250,  1996.6,  34.6626,2,  34.6628,3,   229.6,2,  126.24,2,   33.18,2,    0.01,2,    2.30,2,-999.000,9,-999.0000,9, -999.00,9,-999.000,9,-999.000,    -0.1573,-999.0000,-999.000, -999.00
06AQANTIX_2,       SR04,      48,          1,          8,          8,2,19901124,       2221,   -64.4083,     -45.81,       4250,  2398.7,  34.6608,2,  34.6596,3,   234.3,2,  125.56,2,   33.17,2,    0.01,2,    2.28,2,-999.000,9,-999.0000,9, -999.00,9,-999.000,9,-999.000,    -0.2310,-999.0000,-999.000, -999.00
06AQANTIX_2,       SR04,      48,          1,          7,          7,2,19901124,       2221,   -64.4083,     -45.81,       4250,  2799.9,  34.6597,2,  34.6568,3,   236.7,2,  124.87,2,   32.95,2,    0.03,2,    2.27,2,-999.000,9,-999.0000,9, -999.00,9,-999.000,9,-999.000,    -0.2757,-999.0000,-999.000, -999.00
06AQANTIX_2,       SR04,      48,          1,          6,          6,2,19901124,       2221,   -64.4083,     -45.81,       4250,  3207.1,  34.6583,2,  34.6555,3,   248.2,2,  124.19,2,   32.67,2,    0.03,2,    2.26,2,-999.000,9,-999.0000,9, -999.00,9,-999.000,9,-999.000,    -0.3218,-999.0000,-999.000, -999.00
06AQANTIX_2,       SR04,      48,          1,          5,          5,2,19901124,       2221,   -64.4083,     -45.81,       4250,  3351.2,  34.6570,2,  34.6544,3,   249.1,2,  123.85,2,   32.79,2,    0.01,2,    2.26,2,-999.000,9,-999.0000,9, -999.00,9,-999.000,9,-999.000,    -0.3329,-999.0000,-999.000, -999.00
06AQANTIX_2,       SR04,      48,          1,          4,          4,2,19901124,       2221,   -64.4083,     -45.81,       4250,  4005.9,  34.6564,2,  34.6519,3,  -999.0,9,  124.69,2,   32.65,2,    0.01,2,    2.25,2,-999.000,9,-999.0000,9, -999.00,9,-999.000,9,-999.000,    -0.3803,-999.0000,-999.000, -999.00
06AQANTIX_2,       SR04,      48,          1,          3,          3,2,19901124,       2221,   -64.4083,     -45.81,       4250,  4398.0,  34.6502,2,  34.6472,3,  -999.0,9,  122.14,2,   32.57,2,    0.01,2,    2.24,2,-999.000,9,-999.0000,9, -999.00,9,-999.000,9,-999.000,    -0.4777,-999.0000,-999.000, -999.00
06AQANTIX_2,       SR04,      48,          1,          1,          1,2,19901124,       2221,   -64.4083,     -45.81,       4250,  4448.9,  34.6492,2,  34.6441,3,   260.2,2,  122.47,2,   32.27,2,    0.01,2,    2.25,2,-999.000,9,-999.0000,9, -999.00,9,-999.000,9,-999.000,    -0.5093,-999.0000,-999.000, -999.00
06AQANTIX_2,       SR04,      48,          1,          2,          2,2,19901124,       2221,   -64.4083,     -45.81,       4250,  4449.0,  34.6494,2,-999.0000,9,  -999.0,9,  122.48,2,   32.49,2,    0.02,2,    2.25,2,-999.000,9,-999.0000,9, -999.00,9,-999.000,9,-999.000,    -0.5089,-999.0000,-999.000, -999.00