BOTTLE,20220818CCHSIOAMB
EXPOCODE,SECT_ID,STNNBR,CASTNO,SAMPNO,BTLNBR,BTLNBR_FLAG_W,DATE,TIME,LATITUDE,LONGITUDE,DEPTH,CTDPRS,CTDSAL,CTDSAL_FLAG_W,SALNTY,SALNTY_FLAG_W,OXYGEN,OXYGEN_FLAG_W,SILCAT,SILCAT_FLAG_W,NITRAT,NITRAT_FLAG_W,NITRIT,NITRIT_FLAG_W,PHSPHT,PHSPHT_FLAG_W,TRITUM,TRITUM_FLAG_W,HELIUM,HELIUM_FLAG_W,DELHE3,DELHE3_FLAG_W,NEON,NEON_FLAG_W,NEONER,CTDTMP,HELIER,TRITER,DELHER
,,,,,,,,,,,METERS,DBAR,PSS-78,,PSS-78,,UMOL/KG,,UMOL/KG,,UMOL/KG,,UMOL/KG,,UMOL/KG,,TU,,NMOL/KG,,PERCNT,,NMOL/KG,,NMOL/KG,IPTS-68,NMOL/KG,TU,PERCNT
06AQANTIX_2,       SR04,      57,          1,         24,         24,2,19901129,       0540,   -65.4133,   -37.9217,       4541,     1.4,  34.3813,2,  34.3778,3,   322.9,2,   76.08,2,   28.71,2,    0.15,2,    1.97,2,-999.000,9,-999.0000,9, -999.00,9,-999.000,9,-999.000,    -1.6117,-999.0000,-999.000, -999.00
06AQANTIX_2,       SR04,      57,          1,         23,         23,2,19901129,       0540,   -65.4133,   -37.9217,       4541,    52.3,  34.4450,2,  34.4469,3,   306.3,2,   77.07,2,   29.24,2,    0.16,2,    2.03,2,-999.000,9,-999.0000,9, -999.00,9,-999.000,9,-999.000,    -1.8198,-999.0000,-999.000, -999.00
06AQANTIX_2,       SR04,      57,          1,         22,         22,2,19901129,       0540,   -65.4133,   -37.9217,       4541,   100.5,  34.4578,2,  34.4597,3,   318.1,2,   77.41,2,   29.41,2,    0.13,2,    2.02,2,-999.000,9,-999.0000,9, -999.00,9,-999.000,9,-999.000,    -1.8189,-999.0000,-999.000, -999.00
06AQANTIX_2,       SR04,      57,          1,         21,         21,2,19901129,       0540,   -65.4133,   -37.9217,       4541,   150.9,  34.5708,2,  34.5727,3,   243.9,2,   96.84,2,   32.38,2,    0.01,2,    2.25,2,-999.000,9,-999.0000,9, -999.00,9,-999.000,9,-999.000,    -0.7833,-999.0000,-999.000, -999.00
06AQANTIX_2,       SR04,      57,          1,         20,         20,2,19901129,       0540,   -65.4133,   -37.9217,       4541,   201.7,  34.6572,2,  34.6609,3,   208.0,2,  115.00,2,   34.25,2,    0.00,2,    2.40,2,-999.000,9,-999.0000,9, -999.00,9,-999.000,9,-999.000,     0.2012,-999.0000,-999.000, -999.00
06AQANTIX_2,       SR04,      57,          1,         19,         19,2,19901129,       0540,   -65.4133,   -37.9217,       4541,   248.9,  34.6782,2,  34.6772,3,   195.7,2,  120.03,2,   34.36,2,    0.00,2,    2.40,2,-999.000,9,-999.0000,9, -999.00,9,-999.000,9,-999.000,     0.3685,-999.0000,-999.000, -999.00
06AQANTIX_2,       SR04,      57,          1,         18,         18,2,19901129,       0540,   -65.4133,   -37.9217,       4541,   300.8,  34.6803,2,  34.6795,3,   191.3,2,  122.66,2,   34.48,2,    0.01,2,    2.42,2,-999.000,9,-999.0000,9, -999.00,9,-999.000,9,-999.000,     0.3741,-999.0000,-999.000, -999.00
06AQANTIX_2,       SR04,      57,          1,         17,         17,2,19901129,       0540,   -65.4133,   -37.9217,       4541,   500.2,  34.6792,2,  34.6805,3,   204.3,2,  126.90,2,   34.43,2,    0.00,2,    2.41,2,-999.000,9,-999.0000,9, -999.00,9,-999.000,9,-999.000,     0.2916,-999.0000,-999.000, -999.00
06AQANTIX_2,       SR04,      57,          1,         16,         16,2,19901129,       0540,   -65.4133,   -37.9217,       4541,   999.1,  34.6714,2,  34.6701,3,  -999.0,9,  128.25,2,   33.62,2,    0.00,2,    2.36,2,-999.000,9,-999.0000,9, -999.00,9,-999.000,9,-999.000,     0.0738,-999.0000,-999.000, -999.00
06AQANTIX_2,       SR04,      57,          1,         15,         15,2,19901129,       0540,   -65.4133,   -37.9217,       4541,  1497.2,  34.6646,2,  34.6650,3,   225.7,2,  127.51,2,   33.11,2,    0.01,2,    2.33,2,-999.000,9,-999.0000,9, -999.00,9,-999.000,9,-999.000,    -0.1003,-999.0000,-999.000, -999.00
06AQANTIX_2,       SR04,      57,          1,         14,         14,2,19901129,       0540,   -65.4133,   -37.9217,       4541,  1997.9,  34.6605,2,  34.6598,3,   235.4,2,  126.29,2,   32.91,2,    0.01,2,    2.31,2,-999.000,9,-999.0000,9, -999.00,9,-999.000,9,-999.000,    -0.2167,-999.0000,-999.000, -999.00
06AQANTIX_2,       SR04,      57,          1,         13,         13,2,19901129,       0540,   -65.4133,   -37.9217,       4541,  2499.6,  34.6586,2,  34.6569,3,   236.8,2,  124.90,2,   32.72,2,    0.01,2,    2.30,2,-999.000,9,-999.0000,9, -999.00,9,-999.000,9,-999.000,    -0.2799,-999.0000,-999.000, -999.00
06AQANTIX_2,       SR04,      57,          1,         12,         12,2,19901129,       0540,   -65.4133,   -37.9217,       4541,  2999.9,  34.6554,2,  34.6568,3,  -999.0,9,  124.80,2,   32.52,2,    0.00,2,    2.29,2,-999.000,9,-999.0000,9, -999.00,9,-999.000,9,-999.000,    -0.3356,-999.0000,-999.000, -999.00
06AQANTIX_2,       SR04,      57,          1,         11,         11,2,19901129,       0540,   -65.4133,   -37.9217,       4541,  3000.2,  34.6553,2,  34.6562,3,  -999.0,9,  124.70,2,   32.63,2,    0.01,2,    2.28,2,-999.000,9,-999.0000,9, -999.00,9,-999.000,9,-999.000,    -0.3357,-999.0000,-999.000, -999.00
06AQANTIX_2,       SR04,      57,          1,          9,          9,2,19901129,       0540,   -65.4133,   -37.9217,       4541,  3492.6,  34.6528,2,-999.0000,9,  -999.0,9,  124.01,2,   32.50,2,    0.01,2,    2.28,2,-999.000,9,-999.0000,9, -999.00,9,-999.000,9,-999.000,    -0.3870,-999.0000,-999.000, -999.00
06AQANTIX_2,       SR04,      57,          1,          7,          7,2,19901129,       0540,   -65.4133,   -37.9217,       4541,  3502.8,  34.6528,2,  34.6527,3,   247.2,2,  123.97,2,   32.57,2,    0.01,2,    2.29,2,-999.000,9,-999.0000,9, -999.00,9,-999.000,9,-999.000,    -0.3916,-999.0000,-999.000, -999.00
06AQANTIX_2,       SR04,      57,          1,          8,          8,2,19901129,       0540,   -65.4133,   -37.9217,       4541,  3503.0,  34.6525,2,  34.6536,3,  -999.0,9,  123.91,2,   32.56,2,    0.01,2,    2.28,2,-999.000,9,-999.0000,9, -999.00,9,-999.000,9,-999.000,    -0.3913,-999.0000,-999.000, -999.00
06AQANTIX_2,       SR04,      57,          1,         10,         10,2,19901129,       0540,   -65.4133,   -37.9217,       4541,  3503.1,  34.6528,2,  34.6532,3,  -999.0,9,  123.95,2,   32.49,2,    0.01,2,    2.28,2,-999.000,9,-999.0000,9, -999.00,9,-999.000,9,-999.000,    -0.3910,-999.0000,-999.000, -999.00
06AQANTIX_2,       SR04,      57,          1,          6,          6,2,19901129,       0540,   -65.4133,   -37.9217,       4541,  4001.7,  34.6506,2,  34.6472,3,   248.7,2,  120.47,2,   32.48,2,    0.01,2,    2.29,2,-999.000,9,-999.0000,9, -999.00,9,-999.000,9,-999.000,    -0.4631,-999.0000,-999.000, -999.00
06AQANTIX_2,       SR04,      57,          1,          4,          4,2,19901129,       0540,   -65.4133,   -37.9217,       4541,  4497.1,  34.6444,2,  34.6425,3,  -999.0,9,  115.23,2,   32.34,2,    0.02,2,    2.26,2,-999.000,9,-999.0000,9, -999.00,9,-999.000,9,-999.000,    -0.5576,-999.0000,-999.000, -999.00
06AQANTIX_2,       SR04,      57,          1,          5,          5,2,19901129,       0540,   -65.4133,   -37.9217,       4541,  4497.2,  34.6442,2,  34.6410,3,   256.2,2,  115.18,2,   32.33,2,    0.01,2,    2.26,2,-999.000,9,-999.0000,9, -999.00,9,-999.000,9,-999.000,    -0.5575,-999.0000,-999.000, -999.00
06AQANTIX_2,       SR04,      57,          1,          3,          3,2,19901129,       0540,   -65.4133,   -37.9217,       4541,  4747.0,  34.6369,2,-999.0000,9,  -999.0,9,  115.45,2,   32.40,2,    0.01,2,    2.27,2,-999.000,9,-999.0000,9, -999.00,9,-999.000,9,-999.000,    -0.5870,-999.0000,-999.000, -999.00
06AQANTIX_2,       SR04,      58,          1,         24,         24,2,19901129,       1859,   -65.6383,   -36.4767,       4595,    11.2,  34.3422,2,-999.0000,9,   318.4,2,   75.00,2,   28.33,2,    0.15,2,    1.97,2,   0.170,2,   1.7940,2, -999.00,1,   8.036,2,   0.032,    -1.6199,   0.0070,   0.007, -999.00
06AQANTIX_2,       SR04,      58,          1,         23,         23,2,19901129,       1859,   -65.6383,   -36.4767,       4595,    52.2,  34.4197,2,-999.0000,9,   322.0,2,   75.66,2,   28.65,2,    0.14,2,    1.99,2,-999.000,9,   1.8270,2,    0.33,2,   8.081,2,   0.024,    -1.7865,   0.0050,-999.000,    0.20
06AQANTIX_2,       SR04,      58,          1,         22,         22,2,19901129,       1859,   -65.6383,   -36.4767,       4595,   100.5,  34.4566,2,  34.4571,3,   303.3,2,   76.18,2,   29.13,2,    0.17,2,    2.02,2,-999.000,9,-999.0000,1, -999.00,1,-999.000,1,-999.000,    -1.8152,-999.0000,-999.000, -999.00
06AQANTIX_2,       SR04,      58,          1,         21,         21,2,19901129,       1859,   -65.6383,   -36.4767,       4595,   202.0,  34.6522,2,  34.6569,3,   221.2,2,  113.50,2,   33.98,2,    0.02,2,    2.37,2,   0.061,2,-999.0000,1, -999.00,1,-999.000,1,-999.000,     0.1310,-999.0000,   0.011, -999.00
06AQANTIX_2,       SR04,      58,          1,         20,         20,2,19901129,       1859,   -65.6383,   -36.4767,       4595,   298.8,  34.6796,2,  34.6800,3,   191.5,2,  122.13,2,   34.36,2,    0.01,2,    2.39,2,   0.040,2,   1.8520,2,    7.83,2,   8.083,2,   0.040,     0.3717,   0.0090,   0.011,    0.20
06AQANTIX_2,       SR04,      58,          1,         19,         19,2,19901129,       1859,   -65.6383,   -36.4767,       4595,   400.2,  34.6808,2,  34.6805,3,  -999.0,9,  124.68,2,   34.37,2,    0.02,2,    2.39,2,   0.037,2,-999.0000,9, -999.00,9,-999.000,9,-999.000,     0.3441,-999.0000,   0.009, -999.00
06AQANTIX_2,       SR04,      58,          1,         18,         18,2,19901129,       1859,   -65.6383,   -36.4767,       4595,   598.7,  34.6782,2,  34.6782,3,   200.0,2,  126.61,2,   34.08,2,    0.02,2,    2.38,2,-999.000,9,   1.8210,2,    6.81,2,   7.944,2,   0.024,     0.2526,   0.0050,-999.000,    0.20
06AQANTIX_2,       SR04,      58,          1,         17,         17,2,19901129,       1859,   -65.6383,   -36.4767,       4595,   800.2,  34.6753,2,  34.6754,3,   206.3,2,  127.29,2,   33.78,2,    0.01,2,    2.36,2,   0.021,2,   1.8500,2,    7.56,2,   8.083,2,   0.024,     0.1663,   0.0050,   0.003,    0.20
06AQANTIX_2,       SR04,      58,          1,         16,         16,2,19901129,       1859,   -65.6383,   -36.4767,       4595,   998.2,  34.6710,2,  34.6706,3,  -999.0,9,  127.50,2,   33.54,2,    0.02,2,    2.35,2,   0.029,4,-999.0000,1, -999.00,1,-999.000,1,-999.000,     0.0830,-999.0000,   0.012, -999.00
06AQANTIX_2,       SR04,      58,          1,         15,         15,2,19901129,       1859,   -65.6383,   -36.4767,       4595,  1296.7,  34.6681,2,  34.6676,3,   219.8,2,  127.25,2,   33.35,2,    0.02,2,    2.34,2,-999.000,9,-999.0000,9, -999.00,9,-999.000,9,-999.000,    -0.0197,-999.0000,-999.000, -999.00
06AQANTIX_2,       SR04,      58,          1,         14,         14,2,19901129,       1859,   -65.6383,   -36.4767,       4595,  1599.7,  34.6638,2,  34.6633,3,   236.1,2,  126.83,2,   32.95,2,    0.02,2,    2.32,2,   0.032,2,-999.0000,1, -999.00,1,-999.000,1,-999.000,    -0.1152,-999.0000,   0.004, -999.00
06AQANTIX_2,       SR04,      58,          1,         13,         13,2,19901129,       1859,   -65.6383,   -36.4767,       4595,  1899.2,  34.6610,2,  34.6635,3,   236.2,2,  126.11,2,   32.91,2,    0.02,2,    2.31,2,-999.000,9,-999.0000,9, -999.00,9,-999.000,9,-999.000,    -0.1864,-999.0000,-999.000, -999.00
06AQANTIX_2,       SR04,      58,          1,         12,         12,2,19901129,       1859,   -65.6383,   -36.4767,       4595,  2195.7,  34.6591,2,  34.6605,3,   236.5,2,  125.54,2,   32.77,2,    0.00,2,    2.31,2,-999.000,9,   1.8610,2,    5.32,2,   8.135,2,   0.024,    -0.2353,   0.0060,-999.000,    0.20
06AQANTIX_2,       SR04,      58,          1,         11,         11,2,19901129,       1859,   -65.6383,   -36.4767,       4595,  2498.8,  34.6577,2,  34.6580,3,   236.5,2,  125.28,2,   32.63,2,    0.00,2,    2.29,2,-999.000,9,-999.0000,9, -999.00,9,-999.000,9,-999.000,    -0.2717,-999.0000,-999.000, -999.00
06AQANTIX_2,       SR04,      58,          1,         10,         10,2,19901129,       1859,   -65.6383,   -36.4767,       4595,  2800.5,  34.6573,2,  34.6566,3,   238.4,2,  124.87,2,   32.49,2,    0.01,2,    2.29,2,   0.022,2,   1.8580,2,    5.20,2,   8.160,2,   0.024,    -0.3011,   0.0060,   0.004,    0.20
06AQANTIX_2,       SR04,      58,          1,          9,          9,2,19901129,       1859,   -65.6383,   -36.4767,       4595,  3096.6,  34.6565,2,  34.6554,3,  -999.0,9,  124.30,2,   32.40,2,    0.00,2,    2.28,2,-999.000,9,-999.0000,9, -999.00,9,-999.000,9,-999.000,    -0.3340,-999.0000,-999.000, -999.00
06AQANTIX_2,       SR04,      58,          1,          8,          8,2,19901129,       1859,   -65.6383,   -36.4767,       4595,  3399.3,  34.6542,2,  34.6531,3,   244.0,2,  123.89,2,   32.31,2,    0.01,2,    2.27,2,   0.040,2,   1.9110,3,    4.53,3,   8.254,3,   0.025,    -0.3606,   0.0060,   0.004,    0.20
06AQANTIX_2,       SR04,      58,          1,          7,          7,2,19901129,       1859,   -65.6383,   -36.4767,       4595,  3700.7,  34.6524,2,  34.6522,3,   247.4,2,  123.78,2,   32.17,2,    0.02,2,    2.27,2,-999.000,9,-999.0000,9, -999.00,9,-999.000,9,-999.000,    -0.3920,-999.0000,-999.000, -999.00
06AQANTIX_2,       SR04,      58,          1,          6,          6,2,19901129,       1859,   -65.6383,   -36.4767,       4595,  4002.2,  34.6526,2,  34.6491,3,   248.7,2,  122.59,2,   32.40,2,    0.01,2,    2.26,2,   0.055,2,   1.8720,2,    4.53,2,   8.214,2,   0.025,    -0.4275,   0.0060,   0.004,    0.20
06AQANTIX_2,       SR04,      58,          1,          5,          5,2,19901129,       1859,   -65.6383,   -36.4767,       4595,  4301.6,  34.6471,2,  34.6433,3,   252.8,2,  116.55,2,   32.15,2,    0.02,2,    2.25,2,   0.051,2,   1.9280,3,    3.77,3,   8.250,3,   0.025,    -0.5040,   0.0060,   0.010,    0.20
06AQANTIX_2,       SR04,      58,          1,          4,          4,2,19901129,       1859,   -65.6383,   -36.4767,       4595,  4502.8,  34.6447,2,  34.6407,3,  -999.0,9,  116.44,2,   32.17,2,    0.01,2,    2.25,2,   0.048,2,   1.8740,2,    3.85,2,   8.239,2,   0.025,    -0.5423,   0.0060,   0.004,    0.20
06AQANTIX_2,       SR04,      58,          1,          3,          3,2,19901129,       1859,   -65.6383,   -36.4767,       4595,  4703.1,  34.6402,2,  34.6375,3,   257.0,2,  115.25,2,   32.18,2,    0.00,2,    2.24,2,   0.068,2,   1.8790,2,    3.44,2,   8.217,2,   0.025,    -0.5735,   0.0060,   0.004,    0.20
06AQANTIX_2,       SR04,      58,          1,          2,          2,2,19901129,       1859,   -65.6383,   -36.4767,       4595,  4801.7,  34.6267,2,-999.0000,9,   257.0,2,  113.74,2,   32.09,2,    0.00,2,    2.24,2,   0.075,2,   1.8720,3,    3.53,2,   8.231,2,   0.041,    -0.5824,   0.0090,   0.005,    0.20
06AQANTIX_2,       SR04,      58,          1,          1,          1,2,19901129,       1859,   -65.6383,   -36.4767,       4595,  4825.6,  34.6191,2,-999.0000,9,  -999.0,9,  113.48,2,   32.11,2,    0.01,2,    2.22,2,   0.077,2,   1.8860,2, -999.00,1,   8.250,2,   0.033,    -0.5845,   0.0070,   0.007, -999.00