BOTTLE,20220818CCHSIOAMB
EXPOCODE,SECT_ID,STNNBR,CASTNO,SAMPNO,BTLNBR,BTLNBR_FLAG_W,DATE,TIME,LATITUDE,LONGITUDE,DEPTH,CTDPRS,CTDSAL,CTDSAL_FLAG_W,SALNTY,SALNTY_FLAG_W,OXYGEN,OXYGEN_FLAG_W,SILCAT,SILCAT_FLAG_W,NITRAT,NITRAT_FLAG_W,NITRIT,NITRIT_FLAG_W,PHSPHT,PHSPHT_FLAG_W,TRITUM,TRITUM_FLAG_W,HELIUM,HELIUM_FLAG_W,DELHE3,DELHE3_FLAG_W,NEON,NEON_FLAG_W,NEONER,CTDTMP,HELIER,TRITER,DELHER
,,,,,,,,,,,METERS,DBAR,PSS-78,,PSS-78,,UMOL/KG,,UMOL/KG,,UMOL/KG,,UMOL/KG,,UMOL/KG,,TU,,NMOL/KG,,PERCNT,,NMOL/KG,,NMOL/KG,IPTS-68,NMOL/KG,TU,PERCNT
06AQANTIX_2,       SR04,      51,          1,         24,         24,2,19901126,       0748,   -65.0433,   -40.7567,       4546,    10.8,  34.4245,2,  34.4226,3,   313.8,2,   75.89,2,   28.41,2,    0.15,2,    1.95,3,-999.000,9,-999.0000,9, -999.00,9,-999.000,9,-999.000,    -1.8007,-999.0000,-999.000, -999.00
06AQANTIX_2,       SR04,      51,          1,         23,         23,2,19901126,       0748,   -65.0433,   -40.7567,       4546,    49.5,  34.4493,2,  34.4507,3,   314.1,2,   76.24,2,   28.76,2,    0.15,2,    1.95,3,-999.000,9,-999.0000,9, -999.00,9,-999.000,9,-999.000,    -1.8054,-999.0000,-999.000, -999.00
06AQANTIX_2,       SR04,      51,          1,         22,         22,2,19901126,       0748,   -65.0433,   -40.7567,       4546,    99.6,  34.4801,2,  34.4813,3,   303.6,2,   77.63,2,   29.12,2,    0.14,2,    1.98,3,-999.000,9,-999.0000,9, -999.00,9,-999.000,9,-999.000,    -1.8016,-999.0000,-999.000, -999.00
06AQANTIX_2,       SR04,      51,          1,         21,         21,2,19901126,       0748,   -65.0433,   -40.7567,       4546,   149.7,  34.5377,2,-999.0000,9,   264.6,2,   95.28,2,   31.65,2,    0.02,2,    2.17,3,-999.000,9,-999.0000,9, -999.00,9,-999.000,9,-999.000,    -1.0563,-999.0000,-999.000, -999.00
06AQANTIX_2,       SR04,      51,          1,         20,         20,2,19901126,       0748,   -65.0433,   -40.7567,       4546,   199.7,  34.6615,2,  34.6615,3,   206.8,2,  115.02,2,   33.67,2,    0.00,2,    2.32,3,-999.000,9,-999.0000,9, -999.00,9,-999.000,9,-999.000,     0.2127,-999.0000,-999.000, -999.00
06AQANTIX_2,       SR04,      51,          1,         19,         19,2,19901126,       0748,   -65.0433,   -40.7567,       4546,   298.5,  34.6790,2,  34.6778,3,   197.4,2,  122.87,2,   34.15,2,    0.00,2,    2.36,3,-999.000,9,-999.0000,9, -999.00,9,-999.000,9,-999.000,     0.3528,-999.0000,-999.000, -999.00
06AQANTIX_2,       SR04,      51,          1,         18,         18,2,19901126,       0748,   -65.0433,   -40.7567,       4546,   349.2,  34.6799,2,  34.6805,3,   191.8,2,  124.43,2,   34.20,2,    0.00,2,    2.35,3,-999.000,9,-999.0000,9, -999.00,9,-999.000,9,-999.000,     0.3521,-999.0000,-999.000, -999.00
06AQANTIX_2,       SR04,      51,          1,         17,         17,2,19901126,       0748,   -65.0433,   -40.7567,       4546,   398.3,  34.6791,2,  34.6794,3,   192.7,2,  125.46,2,   34.06,2,    0.00,2,    2.35,3,-999.000,9,-999.0000,9, -999.00,9,-999.000,9,-999.000,     0.3357,-999.0000,-999.000, -999.00
06AQANTIX_2,       SR04,      51,          1,         16,         16,2,19901126,       0748,   -65.0433,   -40.7567,       4546,   497.3,  34.6778,2,  34.6798,3,   196.9,2,  127.53,2,   33.86,2,    0.00,2,    2.32,3,-999.000,9,-999.0000,9, -999.00,9,-999.000,9,-999.000,     0.2895,-999.0000,-999.000, -999.00
06AQANTIX_2,       SR04,      51,          1,         15,         15,2,19901126,       0748,   -65.0433,   -40.7567,       4546,   597.2,  34.6764,2,  34.6773,3,   201.4,2,  126.64,2,   33.90,2,    0.01,2,    2.34,3,-999.000,9,-999.0000,9, -999.00,9,-999.000,9,-999.000,     0.2346,-999.0000,-999.000, -999.00
06AQANTIX_2,       SR04,      51,          1,         14,         14,2,19901126,       0748,   -65.0433,   -40.7567,       4546,   746.9,  34.6739,2,  34.6740,3,   204.5,2,  128.02,2,   33.52,2,    0.01,2,    2.32,3,-999.000,9,-999.0000,9, -999.00,9,-999.000,9,-999.000,     0.1661,-999.0000,-999.000, -999.00
06AQANTIX_2,       SR04,      51,          1,         13,         13,2,19901126,       0748,   -65.0433,   -40.7567,       4546,   994.4,  34.6706,2,  34.6711,3,   212.1,2,  128.18,2,   33.26,2,    0.01,2,    2.30,3,-999.000,9,-999.0000,9, -999.00,9,-999.000,9,-999.000,     0.0662,-999.0000,-999.000, -999.00
06AQANTIX_2,       SR04,      51,          1,         12,         12,2,19901126,       0748,   -65.0433,   -40.7567,       4546,  1196.3,  34.6679,2,  34.6674,3,   220.8,2,  127.63,2,   33.00,2,    0.00,2,    2.29,3,-999.000,9,-999.0000,9, -999.00,9,-999.000,9,-999.000,    -0.0039,-999.0000,-999.000, -999.00
06AQANTIX_2,       SR04,      51,          1,         11,         11,2,19901126,       0748,   -65.0433,   -40.7567,       4546,  1598.0,  34.6630,2,  34.6620,3,  -999.0,9,  126.92,2,   32.67,2,    0.00,2,    2.27,3,-999.000,9,-999.0000,9, -999.00,9,-999.000,9,-999.000,    -0.1325,-999.0000,-999.000, -999.00
06AQANTIX_2,       SR04,      51,          1,         10,         10,2,19901126,       0748,   -65.0433,   -40.7567,       4546,  1999.1,  34.6603,2,  34.6590,3,   235.5,2,  125.50,2,   32.53,2,    0.00,2,    2.26,3,-999.000,9,-999.0000,9, -999.00,9,-999.000,9,-999.000,    -0.2206,-999.0000,-999.000, -999.00
06AQANTIX_2,       SR04,      51,          1,          9,          9,2,19901126,       0748,   -65.0433,   -40.7567,       4546,  2400.6,  34.6594,2,  34.6572,3,  -999.0,9,  124.96,2,   32.40,2,    0.00,2,    2.25,3,-999.000,9,-999.0000,9, -999.00,9,-999.000,9,-999.000,    -0.2689,-999.0000,-999.000, -999.00
06AQANTIX_2,       SR04,      51,          1,          8,          8,2,19901126,       0748,   -65.0433,   -40.7567,       4546,  2801.6,  34.6576,2,  34.6561,3,  -999.0,9,  124.42,2,   32.14,2,    0.01,2,    2.23,3,-999.000,9,-999.0000,9, -999.00,9,-999.000,9,-999.000,    -0.3087,-999.0000,-999.000, -999.00
06AQANTIX_2,       SR04,      51,          1,          7,          7,2,19901126,       0748,   -65.0433,   -40.7567,       4546,  3205.0,  34.6554,2,  34.6533,3,  -999.0,9,  123.71,2,   32.18,2,    0.01,2,    2.23,3,-999.000,9,-999.0000,9, -999.00,9,-999.000,9,-999.000,    -0.3515,-999.0000,-999.000, -999.00
06AQANTIX_2,       SR04,      51,          1,          6,          6,2,19901126,       0748,   -65.0433,   -40.7567,       4546,  3705.0,  34.6524,2,  34.6508,3,   248.0,2,  123.34,2,   32.23,2,    0.00,2,    2.22,3,-999.000,9,-999.0000,9, -999.00,9,-999.000,9,-999.000,    -0.4016,-999.0000,-999.000, -999.00
06AQANTIX_2,       SR04,      51,          1,          5,          5,2,19901126,       0748,   -65.0433,   -40.7567,       4546,  4206.0,  34.6451,2,  34.6420,3,   254.9,2,  115.66,2,   32.03,2,    0.01,2,    2.20,3,-999.000,9,-999.0000,9, -999.00,9,-999.000,9,-999.000,    -0.5205,-999.0000,-999.000, -999.00
06AQANTIX_2,       SR04,      51,          1,          4,          4,2,19901126,       0748,   -65.0433,   -40.7567,       4546,  4606.4,  34.6393,2,  34.6375,3,   258.1,2,  112.86,2,   31.83,2,    0.01,2,    2.19,3,-999.000,9,-999.0000,9, -999.00,9,-999.000,9,-999.000,    -0.5856,-999.0000,-999.000, -999.00
06AQANTIX_2,       SR04,      51,          1,          3,          3,2,19901126,       0748,   -65.0433,   -40.7567,       4546,  4707.5,  34.6383,2,  34.6357,3,  -999.0,9,  112.14,2,   31.82,2,    0.01,2,    2.20,3,-999.000,9,-999.0000,9, -999.00,9,-999.000,9,-999.000,    -0.5922,-999.0000,-999.000, -999.00
06AQANTIX_2,       SR04,      51,          1,          2,          2,2,19901126,       0748,   -65.0433,   -40.7567,       4546,  4759.1,  34.6376,2,  34.6371,3,   259.3,2,  112.48,2,   31.87,2,    0.01,2,    2.19,3,-999.000,9,-999.0000,9, -999.00,9,-999.000,9,-999.000,    -0.5926,-999.0000,-999.000, -999.00
06AQANTIX_2,       SR04,      51,          1,          1,          1,2,19901126,       0748,   -65.0433,   -40.7567,       4546,  4810.3,  34.6369,2,  34.6330,3,  -999.0,9,  112.64,2,   31.91,2,    0.02,2,    2.18,3,-999.000,9,-999.0000,9, -999.00,9,-999.000,9,-999.000,    -0.5883,-999.0000,-999.000, -999.00
06AQANTIX_2,       SR04,      53,          1,         24,         24,2,19901127,       1355,    -65.905,   -40.2683,       4414,    51.3,  34.4678,2,-999.0000,9,   303.2,2,   75.49,2,   28.30,2,    0.22,2,    2.01,2,-999.000,9,-999.0000,9, -999.00,9,-999.000,9,-999.000,    -1.8207,-999.0000,-999.000, -999.00
06AQANTIX_2,       SR04,      53,          1,         23,         23,2,19901127,       1355,    -65.905,   -40.2683,       4414,   120.4,  34.6054,2,-999.0000,9,   257.6,2,   95.79,2,   31.22,2,    0.00,2,    2.21,2,-999.000,9,-999.0000,9, -999.00,9,-999.000,9,-999.000,    -0.9749,-999.0000,-999.000, -999.00
06AQANTIX_2,       SR04,      53,          1,         22,         22,2,19901127,       1355,    -65.905,   -40.2683,       4414,   160.3,  34.6620,2,-999.0000,9,   211.3,2,  109.38,2,   32.76,2,    0.00,2,    2.33,2,-999.000,9,-999.0000,9, -999.00,9,-999.000,9,-999.000,     0.2488,-999.0000,-999.000, -999.00
06AQANTIX_2,       SR04,      53,          1,         21,         21,2,19901127,       1355,    -65.905,   -40.2683,       4414,   260.0,  34.6745,2,-999.0000,9,   202.9,2,  114.25,2,   33.03,2,    0.00,2,    2.35,2,-999.000,9,-999.0000,9, -999.00,9,-999.000,9,-999.000,     0.3685,-999.0000,-999.000, -999.00
06AQANTIX_2,       SR04,      53,          1,         20,         20,2,19901127,       1355,    -65.905,   -40.2683,       4414,   358.3,  34.6840,2,-999.0000,9,   201.2,2,  119.95,2,   33.19,2,    0.00,2,    2.36,2,-999.000,9,-999.0000,9, -999.00,9,-999.000,9,-999.000,     0.4563,-999.0000,-999.000, -999.00
06AQANTIX_2,       SR04,      53,          1,         19,         19,2,19901127,       1355,    -65.905,   -40.2683,       4414,   691.4,  34.6795,2,-999.0000,9,   204.7,2,  125.98,2,   33.52,2,    0.00,2,    2.38,2,-999.000,9,-999.0000,9, -999.00,9,-999.000,9,-999.000,     0.2859,-999.0000,-999.000, -999.00
06AQANTIX_2,       SR04,      53,          1,         18,         18,2,19901127,       1355,    -65.905,   -40.2683,       4414,  1194.1,  34.6712,2,-999.0000,9,  -999.0,9,  127.66,2,   33.06,2,    0.00,2,    2.36,2,-999.000,9,-999.0000,9, -999.00,9,-999.000,9,-999.000,     0.0794,-999.0000,-999.000, -999.00
06AQANTIX_2,       SR04,      53,          1,         17,         17,2,19901127,       1355,    -65.905,   -40.2683,       4414,  1996.0,  34.6612,2,-999.0000,9,   232.0,2,  126.48,2,   32.43,2,    0.00,2,    2.31,2,-999.000,9,-999.0000,9, -999.00,9,-999.000,9,-999.000,    -0.1643,-999.0000,-999.000, -999.00
06AQANTIX_2,       SR04,      53,          1,         16,         16,2,19901127,       1355,    -65.905,   -40.2683,       4414,  2499.8,  34.6582,2,-999.0000,9,  -999.0,9,  125.63,2,   32.25,2,    0.00,2,    2.30,2,-999.000,9,-999.0000,9, -999.00,9,-999.000,9,-999.000,    -0.2537,-999.0000,-999.000, -999.00
06AQANTIX_2,       SR04,      53,          1,         15,         15,2,19901127,       1355,    -65.905,   -40.2683,       4414,  3001.4,  34.6560,2,-999.0000,9,  -999.0,9,  124.79,2,   32.13,2,    0.00,2,    2.29,2,-999.000,9,-999.0000,9, -999.00,9,-999.000,9,-999.000,    -0.3131,-999.0000,-999.000, -999.00
06AQANTIX_2,       SR04,      53,          1,         14,         14,2,19901127,       1355,    -65.905,   -40.2683,       4414,  3497.3,  34.6537,2,-999.0000,9,   246.4,2,  124.28,2,   32.07,2,    0.00,2,    2.28,2,-999.000,9,-999.0000,9, -999.00,9,-999.000,9,-999.000,    -0.3577,-999.0000,-999.000, -999.00
06AQANTIX_2,       SR04,      53,          1,         13,         13,2,19901127,       1355,    -65.905,   -40.2683,       4414,  3497.4,  34.6536,2,-999.0000,9,  -999.0,9,  124.28,2,   32.11,2,    0.00,2,    2.28,2,-999.000,9,-999.0000,9, -999.00,9,-999.000,9,-999.000,    -0.3577,-999.0000,-999.000, -999.00
06AQANTIX_2,       SR04,      53,          1,         12,         12,2,19901127,       1355,    -65.905,   -40.2683,       4414,  3497.4,  34.6529,2,-999.0000,9,  -999.0,9,  124.10,2,   32.16,2,    0.00,2,    2.28,2,-999.000,9,-999.0000,9, -999.00,9,-999.000,9,-999.000,    -0.3579,-999.0000,-999.000, -999.00
06AQANTIX_2,       SR04,      53,          1,         11,         11,2,19901127,       1355,    -65.905,   -40.2683,       4414,  3497.4,  34.6541,2,-999.0000,9,  -999.0,9,  124.10,2,   32.31,2,    0.00,2,    2.28,2,-999.000,9,-999.0000,9, -999.00,9,-999.000,9,-999.000,    -0.3593,-999.0000,-999.000, -999.00
06AQANTIX_2,       SR04,      53,          1,         10,         10,2,19901127,       1355,    -65.905,   -40.2683,       4414,  4002.0,  34.6525,2,-999.0000,9,   247.0,2,  124.93,2,   32.13,2,    0.00,2,    2.27,2,-999.000,9,-999.0000,9, -999.00,9,-999.000,9,-999.000,    -0.3890,-999.0000,-999.000, -999.00
06AQANTIX_2,       SR04,      53,          1,          9,          9,2,19901127,       1355,    -65.905,   -40.2683,       4414,  4504.0,  34.6479,2,-999.0000,9,  -999.0,9,  124.26,2,   32.17,2,    0.01,2,    2.27,2,-999.000,9,-999.0000,9, -999.00,9,-999.000,9,-999.000,    -0.4910,-999.0000,-999.000, -999.00
06AQANTIX_2,       SR04,      53,          1,          8,          8,2,19901127,       1355,    -65.905,   -40.2683,       4414,  4574.0,  34.6454,2,-999.0000,9,   253.1,2,  124.92,2,   32.21,2,    0.00,2,    2.29,2,-999.000,9,-999.0000,9, -999.00,9,-999.000,9,-999.000,    -0.5160,-999.0000,-999.000, -999.00
06AQANTIX_2,       SR04,      53,          1,          7,          7,2,19901127,       1355,    -65.905,   -40.2683,       4414,  4600.0,  34.6450,2,-999.0000,9,   253.1,2,  125.25,2,   32.25,2,    0.00,2,    2.28,2,   0.069,2,   1.8730,2,    3.42,2,   8.247,2,   0.025,    -0.5270,   0.0060,   0.005,    0.20
06AQANTIX_2,       SR04,      53,          1,          6,          6,2,19901127,       1355,    -65.905,   -40.2683,       4414,  4624.0,  34.6432,2,-999.0000,9,  -999.0,9,  125.58,2,   32.29,2,    0.01,2,    2.28,2,-999.000,9,-999.0000,9, -999.00,9,-999.000,9,-999.000,    -0.5370,-999.0000,-999.000, -999.00
06AQANTIX_2,       SR04,      53,          1,          5,          5,2,19901127,       1355,    -65.905,   -40.2683,       4414,  4642.0,  34.6426,2,-999.0000,9,   255.2,2,  124.91,2,   32.27,2,    0.00,2,    2.28,2,-999.000,9,-999.0000,9, -999.00,9,-999.000,9,-999.000,    -0.5470,-999.0000,-999.000, -999.00
06AQANTIX_2,       SR04,      53,          1,          4,          4,2,19901127,       1355,    -65.905,   -40.2683,       4414,  4666.0,  34.6393,2,-999.0000,9,   257.5,2,  123.39,3,   32.20,2,    0.01,2,    2.28,2,   0.115,2,-999.0000,1, -999.00,1,-999.000,1,-999.000,    -0.5580,-999.0000,   0.016, -999.00
06AQANTIX_2,       SR04,      53,          1,          3,          3,2,19901127,       1355,    -65.905,   -40.2683,       4414,  4666.0,  34.6393,2,-999.0000,9,  -999.0,9,  120.88,2,   32.19,2,    0.01,2,    2.27,2,   0.127,2,-999.0000,9, -999.00,9,-999.000,9,-999.000,    -0.5580,-999.0000,   0.007, -999.00
06AQANTIX_2,       SR04,      53,          1,          2,          2,2,19901127,       1355,    -65.905,   -40.2683,       4414,  4666.0,  34.6393,2,-999.0000,9,  -999.0,9,  120.87,2,   32.11,2,    0.01,2,    2.27,2,-999.000,9,-999.0000,9, -999.00,9,-999.000,9,-999.000,    -0.5580,-999.0000,-999.000, -999.00
06AQANTIX_2,       SR04,      53,          1,          1,          1,2,19901127,       1355,    -65.905,   -40.2683,       4414,  4666.0,  34.6393,2,-999.0000,9,   258.2,2,  121.03,2,   32.15,2,    0.01,2,    2.27,2,   0.078,2,   1.8580,3,    3.57,2,   8.314,3,   0.025,    -0.5580,   0.0060,   0.004,    0.20