BOTTLE,20220818CCHSIOAMB
EXPOCODE,SECT_ID,STNNBR,CASTNO,SAMPNO,BTLNBR,BTLNBR_FLAG_W,DATE,TIME,LATITUDE,LONGITUDE,DEPTH,CTDPRS,CTDSAL,CTDSAL_FLAG_W,SALNTY,SALNTY_FLAG_W,OXYGEN,OXYGEN_FLAG_W,SILCAT,SILCAT_FLAG_W,NITRAT,NITRAT_FLAG_W,NITRIT,NITRIT_FLAG_W,PHSPHT,PHSPHT_FLAG_W,TRITUM,TRITUM_FLAG_W,HELIUM,HELIUM_FLAG_W,DELHE3,DELHE3_FLAG_W,NEON,NEON_FLAG_W,NEONER,CTDTMP,HELIER,TRITER,DELHER
,,,,,,,,,,,METERS,DBAR,PSS-78,,PSS-78,,UMOL/KG,,UMOL/KG,,UMOL/KG,,UMOL/KG,,UMOL/KG,,TU,,NMOL/KG,,PERCNT,,NMOL/KG,,NMOL/KG,IPTS-68,NMOL/KG,TU,PERCNT
06AQANTIX_2,       SR04,      75,          1,         24,         24,2,19901205,       0911,    -65.955,   -30.0733,       4636,     2.4,  34.3625,2,  34.3930,3,   316.6,2,   71.62,2,   27.35,2,    0.18,2,    1.92,3,-999.000,9,-999.0000,9, -999.00,9,-999.000,9,-999.000,    -1.7949,-999.0000,-999.000, -999.00
06AQANTIX_2,       SR04,      75,          1,         23,         23,2,19901205,       0911,    -65.955,   -30.0733,       4636,    11.3,  34.3645,2,  34.3927,3,   319.6,2,   71.44,2,   27.37,2,    0.17,2,    1.93,3,-999.000,9,-999.0000,9, -999.00,9,-999.000,9,-999.000,    -1.8068,-999.0000,-999.000, -999.00
06AQANTIX_2,       SR04,      75,          1,         22,         22,2,19901205,       0911,    -65.955,   -30.0733,       4636,    17.8,  34.3652,2,  34.3908,3,   316.6,2,   71.63,2,   27.39,2,    0.18,2,    1.92,3,-999.000,9,-999.0000,9, -999.00,9,-999.000,9,-999.000,    -1.8058,-999.0000,-999.000, -999.00
06AQANTIX_2,       SR04,      75,          1,         21,         21,2,19901205,       0911,    -65.955,   -30.0733,       4636,    28.8,  34.3633,2,  34.3909,3,   317.0,2,   71.64,2,   27.41,2,    0.18,2,    1.92,3,-999.000,9,-999.0000,9, -999.00,9,-999.000,9,-999.000,    -1.8160,-999.0000,-999.000, -999.00
06AQANTIX_2,       SR04,      75,          1,         20,         20,2,19901205,       0911,    -65.955,   -30.0733,       4636,    46.4,  34.3790,2,  34.4151,3,   312.7,2,   71.83,2,   27.55,2,    0.17,2,    1.94,3,-999.000,9,-999.0000,9, -999.00,9,-999.000,9,-999.000,    -1.8166,-999.0000,-999.000, -999.00
06AQANTIX_2,       SR04,      75,          1,         18,         18,2,19901205,       0911,    -65.955,   -30.0733,       4636,   106.3,  34.5081,2,  34.5707,3,   249.2,2,   89.59,2,   30.88,2,    0.03,2,    2.17,3,-999.000,9,-999.0000,9, -999.00,9,-999.000,9,-999.000,    -1.2313,-999.0000,-999.000, -999.00
06AQANTIX_2,       SR04,      75,          1,         17,         17,2,19901205,       0911,    -65.955,   -30.0733,       4636,   193.2,  34.6668,2,  34.6873,3,   196.0,2,  109.05,2,   33.09,2,    0.01,2,    2.34,3,-999.000,9,-999.0000,9, -999.00,9,-999.000,9,-999.000,     0.4150,-999.0000,-999.000, -999.00
06AQANTIX_2,       SR04,      75,          1,         16,         16,2,19901205,       0911,    -65.955,   -30.0733,       4636,   298.4,  34.6824,2,  34.7023,3,   193.6,2,  117.18,2,   33.28,2,    0.01,2,    2.35,3,-999.000,9,-999.0000,9, -999.00,9,-999.000,9,-999.000,     0.5205,-999.0000,-999.000, -999.00
06AQANTIX_2,       SR04,      75,          1,         15,         15,2,19901205,       0911,    -65.955,   -30.0733,       4636,   397.7,  34.6825,2,  34.6974,3,  -999.0,9,  120.78,2,   33.25,2,    0.01,2,    2.37,3,-999.000,9,-999.0000,9, -999.00,9,-999.000,9,-999.000,     0.4446,-999.0000,-999.000, -999.00
06AQANTIX_2,       SR04,      75,          1,         14,         14,2,19901205,       0911,    -65.955,   -30.0733,       4636,   496.9,  34.6812,2,  34.6974,3,   195.4,2,  123.44,2, -999.00,9,    0.02,2,    2.38,3,-999.000,9,-999.0000,9, -999.00,9,-999.000,9,-999.000,     0.3704,-999.0000,-999.000, -999.00
06AQANTIX_2,       SR04,      75,          1,         13,         13,2,19901205,       0911,    -65.955,   -30.0733,       4636,   797.0,  34.6763,2,  34.6906,3,   201.2,2,  127.03,2,   33.29,2,    0.00,2,    2.38,3,-999.000,9,-999.0000,9, -999.00,9,-999.000,9,-999.000,     0.2296,-999.0000,-999.000, -999.00
06AQANTIX_2,       SR04,      75,          1,         12,         12,2,19901205,       0911,    -65.955,   -30.0733,       4636,   997.0,  34.6734,2,  34.6917,3,   208.1,2,  127.23,2,   32.92,2,    0.00,2,    2.36,3,-999.000,9,-999.0000,9, -999.00,9,-999.000,9,-999.000,     0.1483,-999.0000,-999.000, -999.00
06AQANTIX_2,       SR04,      75,          1,         11,         11,2,19901205,       0911,    -65.955,   -30.0733,       4636,  1196.6,  34.6703,2,  34.6811,3,   211.8,2,  127.62,2,   32.83,2,    0.00,2,    2.37,3,-999.000,9,-999.0000,9, -999.00,9,-999.000,9,-999.000,     0.0642,-999.0000,-999.000, -999.00
06AQANTIX_2,       SR04,      75,          1,         10,         10,2,19901205,       0911,    -65.955,   -30.0733,       4636,  1497.9,  34.6658,2,  34.6751,3,   219.3,2,  127.25,2,   32.57,2,    0.01,2,    2.36,3,-999.000,9,-999.0000,9, -999.00,9,-999.000,9,-999.000,    -0.0424,-999.0000,-999.000, -999.00
06AQANTIX_2,       SR04,      75,          1,          9,          9,2,19901205,       0911,    -65.955,   -30.0733,       4636,  1798.4,  34.6624,2,  34.6701,3,   224.7,2,  126.88,2,   32.43,2,    0.00,2,    2.36,3,-999.000,9,-999.0000,9, -999.00,9,-999.000,9,-999.000,    -0.1237,-999.0000,-999.000, -999.00
06AQANTIX_2,       SR04,      75,          1,          8,          8,2,19901205,       0911,    -65.955,   -30.0733,       4636,  2199.6,  34.6579,2,  34.6663,3,   239.5,2,  125.75,2,   32.34,2,    0.00,2,    2.35,3,-999.000,9,-999.0000,9, -999.00,9,-999.000,9,-999.000,    -0.2102,-999.0000,-999.000, -999.00
06AQANTIX_2,       SR04,      75,          1,          7,          7,2,19901205,       0911,    -65.955,   -30.0733,       4636,  2802.9,  34.6551,2,  34.6621,3,   236.0,2,  125.19,2,   32.08,2,    0.02,2,    2.32,3,-999.000,9,-999.0000,9, -999.00,9,-999.000,9,-999.000,    -0.2856,-999.0000,-999.000, -999.00
06AQANTIX_2,       SR04,      75,          1,          6,          6,2,19901205,       0911,    -65.955,   -30.0733,       4636,  3003.5,  34.6543,2,  34.6600,3,  -999.0,9,  124.82,2,   32.04,2,    0.00,2,    2.33,3,-999.000,9,-999.0000,9, -999.00,9,-999.000,9,-999.000,    -0.3091,-999.0000,-999.000, -999.00
06AQANTIX_2,       SR04,      75,          1,          5,          5,2,19901205,       0911,    -65.955,   -30.0733,       4636,  3505.6,  34.6530,2,  34.6572,3,   239.1,2,  124.45,2,   31.90,2,    0.01,2,    2.31,3,-999.000,9,-999.0000,9, -999.00,9,-999.000,9,-999.000,    -0.3575,-999.0000,-999.000, -999.00
06AQANTIX_2,       SR04,      75,          1,          4,          4,2,19901205,       0911,    -65.955,   -30.0733,       4636,  4006.5,  34.6522,2,  34.6534,3,   242.3,2,  124.45,2,   31.92,2,    0.02,2,    2.31,3,-999.000,9,-999.0000,9, -999.00,9,-999.000,9,-999.000,    -0.3981,-999.0000,-999.000, -999.00
06AQANTIX_2,       SR04,      75,          1,          3,          3,2,19901205,       0911,    -65.955,   -30.0733,       4636,  4507.7,  34.6438,2,  34.6469,3,   253.1,2,  117.27,2,   31.71,2,    0.02,2,    2.31,3,-999.000,9,-999.0000,9, -999.00,9,-999.000,9,-999.000,    -0.2459,-999.0000,-999.000, -999.00
06AQANTIX_2,       SR04,      75,          1,          2,          2,2,19901205,       0911,    -65.955,   -30.0733,       4636,  4862.1,  34.6394,2,  34.6392,3,   253.0,2,  120.31,2,   31.79,2,    0.01,2,    2.31,3,-999.000,9,-999.0000,9, -999.00,9,-999.000,9,-999.000,    -0.5498,-999.0000,-999.000, -999.00
06AQANTIX_2,       SR04,      75,          1,          1,          1,2,19901205,       0911,    -65.955,   -30.0733,       4636,  4910.0,  34.6356,2,-999.0000,9,   254.7,2,  118.23,2,   31.76,2,    0.01,2,    2.31,3,-999.000,9,-999.0000,9, -999.00,9,-999.000,9,-999.000,    -0.5640,-999.0000,-999.000, -999.00
06AQANTIX_2,       SR04,      76,          1,         24,         24,2,19901205,       1658,     -66.29,   -30.2967,       4592,     1.2,  34.3560,2,  34.3480,3,   317.1,2,   74.34,2,   27.47,2,    0.17,2,    2.03,3,-999.000,9,-999.0000,9, -999.00,9,-999.000,9,-999.000,    -1.8098,-999.0000,-999.000, -999.00
06AQANTIX_2,       SR04,      76,          1,         23,         23,2,19901205,       1658,     -66.29,   -30.2967,       4592,     1.2,  34.3562,2,  34.3484,3,  -999.0,9,   74.35,2,   27.53,2,    0.16,2,    2.03,3,-999.000,9,-999.0000,9, -999.00,9,-999.000,9,-999.000,    -1.8106,-999.0000,-999.000, -999.00
06AQANTIX_2,       SR04,      76,          1,         22,         22,2,19901205,       1658,     -66.29,   -30.2967,       4592,    27.7,  34.3685,2,  34.3588,3,  -999.0,9,   74.35,2,   27.53,2,    0.16,2,    2.03,3,-999.000,9,   1.7980,3,   -0.36,3,   8.053,2,   0.040,    -1.8108,   0.0090,-999.000,    0.20
06AQANTIX_2,       SR04,      76,          1,         21,         21,2,19901205,       1658,     -66.29,   -30.2967,       4592,    50.2,  34.4283,2,  34.4607,3,  -999.0,9,   79.10,2,   28.80,2,    0.12,2,    2.12,3,-999.000,9,-999.0000,9, -999.00,9,-999.000,9,-999.000,    -1.8180,-999.0000,-999.000, -999.00
06AQANTIX_2,       SR04,      76,          1,         20,         20,2,19901205,       1658,     -66.29,   -30.2967,       4592,    77.4,  34.5140,2,  34.5322,3,   197.3,2,   87.83,2,   30.24,2,    0.05,2,    2.21,3,-999.000,9,-999.0000,9, -999.00,9,-999.000,9,-999.000,    -1.1421,-999.0000,-999.000, -999.00
06AQANTIX_2,       SR04,      76,          1,         19,         19,2,19901205,       1658,     -66.29,   -30.2967,       4592,   102.9,  34.6176,2,  34.6122,3,   197.5,2,  100.36,2,   31.96,2,    0.02,2,    2.34,3,-999.000,9,-999.0000,9, -999.00,9,-999.000,9,-999.000,    -0.0911,-999.0000,-999.000, -999.00
06AQANTIX_2,       SR04,      76,          1,         18,         18,2,19901205,       1658,     -66.29,   -30.2967,       4592,   252.0,  34.6746,2,  34.6671,3,   202.0,2,  112.52,2,   32.89,2,    0.01,2,    2.43,3,-999.000,9,-999.0000,9, -999.00,9,-999.000,9,-999.000,     0.4732,-999.0000,-999.000, -999.00
06AQANTIX_2,       SR04,      76,          1,         17,         17,2,19901205,       1658,     -66.29,   -30.2967,       4592,   500.1,  34.6820,2,  34.6722,3,   211.3,2,  122.78,2,   33.29,2,    0.00,2,    2.45,3,-999.000,9,-999.0000,9, -999.00,9,-999.000,9,-999.000,     0.3967,-999.0000,-999.000, -999.00
06AQANTIX_2,       SR04,      76,          1,         16,         16,2,19901205,       1658,     -66.29,   -30.2967,       4592,   750.3,  34.6784,2,  34.6703,3,   221.9,2,  125.83,2,   33.18,2,    0.01,2,    2.44,3,-999.000,9,-999.0000,9, -999.00,9,-999.000,9,-999.000,     0.2722,-999.0000,-999.000, -999.00
06AQANTIX_2,       SR04,      76,          1,         15,         15,2,19901205,       1658,     -66.29,   -30.2967,       4592,  1003.0,  34.6742,2,  34.6690,3,  -999.0,9,  127.36,2,   32.89,2,    0.01,2,    2.43,3,-999.000,9,-999.0000,9, -999.00,9,-999.000,9,-999.000,     0.1615,-999.0000,-999.000, -999.00
06AQANTIX_2,       SR04,      76,          1,         14,         14,2,19901205,       1658,     -66.29,   -30.2967,       4592,  1498.1,  34.6664,2,  34.6602,3,   230.6,2,  127.38,2,   32.49,2,    0.00,2,    2.41,3,-999.000,9,-999.0000,9, -999.00,9,-999.000,9,-999.000,    -0.0276,-999.0000,-999.000, -999.00
06AQANTIX_2,       SR04,      76,          1,         13,         13,2,19901205,       1658,     -66.29,   -30.2967,       4592,  1995.9,  34.6604,2,  34.6532,3,   238.2,2,  126.63,2,   32.26,2,    0.01,2,    2.38,3,-999.000,9,-999.0000,9, -999.00,9,-999.000,9,-999.000,    -0.1666,-999.0000,-999.000, -999.00
06AQANTIX_2,       SR04,      76,          1,         11,         11,2,19901205,       1658,     -66.29,   -30.2967,       4592,  2498.4,  34.6573,2,  34.6501,3,   239.2,2,  125.90,2,   32.09,2,    0.01,2,    2.38,3,-999.000,9,-999.0000,9, -999.00,9,-999.000,9,-999.000,    -0.2513,-999.0000,-999.000, -999.00
06AQANTIX_2,       SR04,      76,          1,         12,         12,2,19901205,       1658,     -66.29,   -30.2967,       4592,  2498.8,  34.6571,2,  34.6506,3,  -999.0,9,  125.89,2,   32.09,2,    0.01,2,    2.37,3,-999.000,9,-999.0000,9, -999.00,9,-999.000,9,-999.000,    -0.2512,-999.0000,-999.000, -999.00
06AQANTIX_2,       SR04,      76,          1,          7,          7,2,19901205,       1658,     -66.29,   -30.2967,       4592,  3001.7,  34.6547,2,  34.6479,3,  -999.0,9,  125.20,2,   31.87,2,    0.02,2,    2.35,3,-999.000,9,-999.0000,9, -999.00,9,-999.000,9,-999.000,    -0.3076,-999.0000,-999.000, -999.00
06AQANTIX_2,       SR04,      76,          1,          8,          8,2,19901205,       1658,     -66.29,   -30.2967,       4592,  3002.0,  34.6547,2,  34.6479,3,   241.3,2,  125.19,2,   31.87,2,    0.01,2,    2.34,3,-999.000,9,-999.0000,9, -999.00,9,-999.000,9,-999.000,    -0.3076,-999.0000,-999.000, -999.00
06AQANTIX_2,       SR04,      76,          1,          9,          9,2,19901205,       1658,     -66.29,   -30.2967,       4592,  3002.4,  34.6544,2,  34.6487,3,  -999.0,9,  125.17,2,   31.86,2,    0.00,2,    2.36,3,-999.000,9,-999.0000,9, -999.00,9,-999.000,9,-999.000,    -0.3075,-999.0000,-999.000, -999.00
06AQANTIX_2,       SR04,      76,          1,         10,         10,2,19901205,       1658,     -66.29,   -30.2967,       4592,  3002.8,  34.6543,2,  34.6479,3,  -999.0,9,  124.97,2,   31.86,2,    0.01,2,    2.36,3,-999.000,9,-999.0000,9, -999.00,9,-999.000,9,-999.000,    -0.3076,-999.0000,-999.000, -999.00
06AQANTIX_2,       SR04,      76,          1,          6,          6,2,19901205,       1658,     -66.29,   -30.2967,       4592,  3502.5,  34.6526,2,  34.6457,3,   245.7,2,  124.46,2,   31.75,2,    0.01,2,    2.33,3,-999.000,9,-999.0000,9, -999.00,9,-999.000,9,-999.000,    -0.3581,-999.0000,-999.000, -999.00
06AQANTIX_2,       SR04,      76,          1,          5,          5,2,19901205,       1658,     -66.29,   -30.2967,       4592,  3999.0,  34.6500,2,  34.6425,3,   248.5,2,  124.09,2,   31.76,2,    0.01,2,    2.32,3,-999.000,9,-999.0000,9, -999.00,9,-999.000,9,-999.000,    -0.4080,-999.0000,-999.000, -999.00
06AQANTIX_2,       SR04,      76,          1,          4,          4,2,19901205,       1658,     -66.29,   -30.2967,       4592,  4301.0,  34.6466,2,  34.6357,3,   253.8,2,  118.21,2,   31.64,2,    0.01,2,    2.32,3,-999.000,9,-999.0000,9, -999.00,9,-999.000,9,-999.000,    -0.4764,-999.0000,-999.000, -999.00
06AQANTIX_2,       SR04,      76,          1,          3,          3,2,19901205,       1658,     -66.29,   -30.2967,       4592,  4602.5,  34.6427,2,  34.6342,3,  -999.0,9,  115.37,2,   31.53,2,    0.01,2,    2.32,3,-999.000,9,-999.0000,9, -999.00,9,-999.000,9,-999.000,    -0.5320,-999.0000,-999.000, -999.00
06AQANTIX_2,       SR04,      76,          1,          2,          2,2,19901205,       1658,     -66.29,   -30.2967,       4592,  4803.7,  34.6392,2,  34.6316,3,   256.1,2,  122.04,2,   31.70,2,    0.00,2,    2.31,3,-999.000,9,-999.0000,9, -999.00,9,-999.000,9,-999.000,    -0.5595,-999.0000,-999.000, -999.00
06AQANTIX_2,       SR04,      76,          1,          1,          1,2,19901205,       1658,     -66.29,   -30.2967,       4592,  4864.0,  34.6360,2,-999.0000,9,   259.4,2,  116.92,2,   31.53,2,    0.01,2,    2.32,3,-999.000,9,-999.0000,9, -999.00,9,-999.000,9,-999.000,    -0.5730,-999.0000,-999.000, -999.00