BOTTLE,20220818CCHSIOAMB
EXPOCODE,SECT_ID,STNNBR,CASTNO,SAMPNO,BTLNBR,BTLNBR_FLAG_W,DATE,TIME,LATITUDE,LONGITUDE,DEPTH,CTDPRS,CTDSAL,CTDSAL_FLAG_W,SALNTY,SALNTY_FLAG_W,OXYGEN,OXYGEN_FLAG_W,SILCAT,SILCAT_FLAG_W,NITRAT,NITRAT_FLAG_W,NITRIT,NITRIT_FLAG_W,PHSPHT,PHSPHT_FLAG_W,TRITUM,TRITUM_FLAG_W,HELIUM,HELIUM_FLAG_W,DELHE3,DELHE3_FLAG_W,NEON,NEON_FLAG_W,NEONER,CTDTMP,HELIER,TRITER,DELHER
,,,,,,,,,,,METERS,DBAR,PSS-78,,PSS-78,,UMOL/KG,,UMOL/KG,,UMOL/KG,,UMOL/KG,,UMOL/KG,,TU,,NMOL/KG,,PERCNT,,NMOL/KG,,NMOL/KG,IPTS-68,NMOL/KG,TU,PERCNT
06AQANTIX_2,       SR04,      61,          1,         24,         24,2,19901201,       0136,   -65.9217,   -33.5733,       4550,     1.4,  34.3818,2,-999.0000,9,   339.0,2,   75.69,2,   28.45,2,    0.14,2,    2.05,3,-999.000,9,-999.0000,9, -999.00,9,-999.000,9,-999.000,    -1.7936,-999.0000,-999.000, -999.00
06AQANTIX_2,       SR04,      61,          1,         23,         23,2,19901201,       0136,   -65.9217,   -33.5733,       4550,    18.6,  34.3769,2,  34.3742,3,   324.9,2,   75.75,2,   28.50,2,    0.15,2,    2.05,3,-999.000,9,-999.0000,9, -999.00,9,-999.000,9,-999.000,    -1.7981,-999.0000,-999.000, -999.00
06AQANTIX_2,       SR04,      61,          1,         22,         22,2,19901201,       0136,   -65.9217,   -33.5733,       4550,    47.9,  34.4327,2,  34.4334,3,   303.2,2,   75.80,2,   28.65,2,    0.14,2,    2.06,3,-999.000,9,-999.0000,9, -999.00,9,-999.000,9,-999.000,    -1.8283,-999.0000,-999.000, -999.00
06AQANTIX_2,       SR04,      61,          1,         21,         21,2,19901201,       0136,   -65.9217,   -33.5733,       4550,    68.6,  34.4437,2,  34.4439,3,   250.0,2,   75.71,2,   28.74,2,    0.14,2,    2.07,3,-999.000,9,-999.0000,9, -999.00,9,-999.000,9,-999.000,    -1.8370,-999.0000,-999.000, -999.00
06AQANTIX_2,       SR04,      61,          1,         20,         20,2,19901201,       0136,   -65.9217,   -33.5733,       4550,    97.7,  34.4528,2,  34.4502,3,  -999.0,9,   75.92,2,   28.79,2,    0.15,2,    2.07,3,-999.000,9,-999.0000,9, -999.00,9,-999.000,9,-999.000,    -1.8365,-999.0000,-999.000, -999.00
06AQANTIX_2,       SR04,      61,          1,         19,         19,2,19901201,       0136,   -65.9217,   -33.5733,       4550,   197.2,  34.6783,2,  34.6762,3,   198.5,2,  115.50,2,   33.69,2,    0.01,2,    2.41,3,-999.000,9,-999.0000,9, -999.00,9,-999.000,9,-999.000,     0.4242,-999.0000,-999.000, -999.00
06AQANTIX_2,       SR04,      61,          1,         18,         18,2,19901201,       0136,   -65.9217,   -33.5733,       4550,   280.9,  34.6823,2,  34.6821,3,  -999.0,9,  120.02,2,   34.19,2,    0.01,2,    2.42,3,-999.000,9,-999.0000,9, -999.00,9,-999.000,9,-999.000,     0.4199,-999.0000,-999.000, -999.00
06AQANTIX_2,       SR04,      61,          1,         17,         17,2,19901201,       0136,   -65.9217,   -33.5733,       4550,   496.0,  34.6807,2,  34.6804,3,   206.6,2,  125.91,2,   34.09,2,    0.01,2,    2.44,3,-999.000,9,-999.0000,9, -999.00,9,-999.000,9,-999.000,     0.3083,-999.0000,-999.000, -999.00
06AQANTIX_2,       SR04,      61,          1,         16,         16,2,19901201,       0136,   -65.9217,   -33.5733,       4550,   695.3,  34.6775,2,  34.6788,3,  -999.0,9,  127.35,2,   33.79,2,    0.01,2,    2.42,3,-999.000,9,-999.0000,9, -999.00,9,-999.000,9,-999.000,     0.2176,-999.0000,-999.000, -999.00
06AQANTIX_2,       SR04,      61,          1,         15,         15,2,19901201,       0136,   -65.9217,   -33.5733,       4550,  1193.9,  34.6698,2,  34.6718,3,   218.4,2,  127.56,2,   33.08,2,    0.01,2,    2.39,3,-999.000,9,-999.0000,9, -999.00,9,-999.000,9,-999.000,     0.0216,-999.0000,-999.000, -999.00
06AQANTIX_2,       SR04,      61,          1,         14,         14,2,19901201,       0136,   -65.9217,   -33.5733,       4550,  1594.4,  34.6645,2,  34.6653,3,   228.8,2,  126.99,2,   32.78,2,    0.00,2,    2.37,3,-999.000,9,-999.0000,9, -999.00,9,-999.000,9,-999.000,    -0.1108,-999.0000,-999.000, -999.00
06AQANTIX_2,       SR04,      61,          1,         13,         13,2,19901201,       0136,   -65.9217,   -33.5733,       4550,  1896.4,  34.6619,2,  34.6618,3,   230.9,2,  126.12,2,   32.67,2,    0.00,2,    2.37,3,-999.000,9,-999.0000,9, -999.00,9,-999.000,9,-999.000,    -0.1845,-999.0000,-999.000, -999.00
06AQANTIX_2,       SR04,      61,          1,         12,         12,2,19901201,       0136,   -65.9217,   -33.5733,       4550,  2198.3,  34.6599,2,  34.6623,3,   235.6,2,  125.71,2,   32.57,2,    0.00,2,    2.35,3,-999.000,9,-999.0000,9, -999.00,9,-999.000,9,-999.000,    -0.2358,-999.0000,-999.000, -999.00
06AQANTIX_2,       SR04,      61,          1,         11,         11,2,19901201,       0136,   -65.9217,   -33.5733,       4550,  2500.3,  34.6586,2,  34.6588,3,  -999.0,9,  125.46,2,   32.42,2,    0.01,2,    2.33,3,-999.000,9,-999.0000,9, -999.00,9,-999.000,9,-999.000,    -0.2728,-999.0000,-999.000, -999.00
06AQANTIX_2,       SR04,      61,          1,         10,         10,2,19901201,       0136,   -65.9217,   -33.5733,       4550,  2800.0,  34.6577,2,  34.6575,3,   239.6,2,  125.05,2,   32.31,2,    0.00,2,    2.31,3,-999.000,9,-999.0000,9, -999.00,9,-999.000,9,-999.000,    -0.3051,-999.0000,-999.000, -999.00
06AQANTIX_2,       SR04,      61,          1,          9,          9,2,19901201,       0136,   -65.9217,   -33.5733,       4550,  3100.4,  34.6560,2,  34.6560,3,  -999.0,9,  124.33,2,   32.21,2,    0.00,2,    2.31,3,-999.000,9,-999.0000,9, -999.00,9,-999.000,9,-999.000,    -0.3351,-999.0000,-999.000, -999.00
06AQANTIX_2,       SR04,      61,          1,          8,          8,2,19901201,       0136,   -65.9217,   -33.5733,       4550,  3502.2,  34.6537,2,  34.6548,3,   243.5,2,  124.08,2,   32.16,2,    0.01,2,    2.31,3,-999.000,9,-999.0000,9, -999.00,9,-999.000,9,-999.000,    -0.3764,-999.0000,-999.000, -999.00
06AQANTIX_2,       SR04,      61,          1,          7,          7,2,19901201,       0136,   -65.9217,   -33.5733,       4550,  4003.3,  34.6528,2,  34.6516,3,   253.2,2,  122.75,2,   32.06,2,    0.00,2,    2.30,3,-999.000,9,-999.0000,9, -999.00,9,-999.000,9,-999.000,    -0.4348,-999.0000,-999.000, -999.00
06AQANTIX_2,       SR04,      61,          1,          6,          6,2,19901201,       0136,   -65.9217,   -33.5733,       4550,  4304.3,  34.6460,2,  34.6445,3,  -999.0,9,  115.12,2,   31.90,2,    0.00,2,    2.27,3,-999.000,9,-999.0000,9, -999.00,9,-999.000,9,-999.000,    -0.5134,-999.0000,-999.000, -999.00
06AQANTIX_2,       SR04,      61,          1,          5,          5,2,19901201,       0136,   -65.9217,   -33.5733,       4550,  4503.5,  34.6440,2,  34.6427,3,  -999.0,9,  114.09,2,   31.90,2,    0.00,2,    2.27,3,-999.000,9,-999.0000,9, -999.00,9,-999.000,9,-999.000,    -0.5454,-999.0000,-999.000, -999.00
06AQANTIX_2,       SR04,      61,          1,          4,          4,2,19901201,       0136,   -65.9217,   -33.5733,       4550,  4604.4,  34.6453,2,  34.6432,3,   254.5,2,  116.45,2,   31.95,2,    0.01,2,    2.26,3,-999.000,9,-999.0000,9, -999.00,9,-999.000,9,-999.000,    -0.5469,-999.0000,-999.000, -999.00
06AQANTIX_2,       SR04,      61,          1,          3,          3,2,19901201,       0136,   -65.9217,   -33.5733,       4550,  4703.7,  34.6422,2,  34.6385,3,  -999.0,9,  116.96,2,   31.94,2,    0.01,2,    2.26,3,-999.000,9,-999.0000,9, -999.00,9,-999.000,9,-999.000,    -0.5635,-999.0000,-999.000, -999.00
06AQANTIX_2,       SR04,      61,          1,          2,          2,2,19901201,       0136,   -65.9217,   -33.5733,       4550,  4827.0,  34.6390,2,  34.6369,3,   256.1,2,  116.56,2,   31.94,2,    0.01,2,    2.25,3,-999.000,9,-999.0000,9, -999.00,9,-999.000,9,-999.000,    -0.5737,-999.0000,-999.000, -999.00
06AQANTIX_2,       SR04,      61,          1,          1,          1,2,19901201,       0136,   -65.9217,   -33.5733,       4550,  4844.0,  34.6375,2,-999.0000,9,  -999.0,9,  116.30,2,   31.94,2,    0.00,2,    2.25,3,-999.000,9,-999.0000,9, -999.00,9,-999.000,9,-999.000,    -0.5740,-999.0000,-999.000, -999.00
06AQANTIX_2,       SR04,      62,          1,         22,         22,2,19901201,       1137,    -66.055,   -32.5467,       4558,    48.9,  34.4501,2,  34.4489,3,   311.2,2,   73.21,2,   27.67,2,    0.18,2,    2.01,3,-999.000,9,-999.0000,9, -999.00,9,-999.000,9,-999.000,    -1.8393,-999.0000,-999.000, -999.00
06AQANTIX_2,       SR04,      62,          1,         21,         21,2,19901201,       1137,    -66.055,   -32.5467,       4558,    68.5,  34.4548,2,  34.4572,3,   328.3,2,   73.14,2,   27.79,2,    0.18,2,    2.04,3,-999.000,9,-999.0000,9, -999.00,9,-999.000,9,-999.000,    -1.8446,-999.0000,-999.000, -999.00
06AQANTIX_2,       SR04,      62,          1,         20,         20,2,19901201,       1137,    -66.055,   -32.5467,       4558,    97.8,  34.4689,2,  34.4675,3,   237.3,2,   96.70,2,   31.71,2,    0.02,2,    2.31,3,-999.000,9,-999.0000,9, -999.00,9,-999.000,9,-999.000,    -1.8332,-999.0000,-999.000, -999.00
06AQANTIX_2,       SR04,      62,          1,         19,         19,2,19901201,       1137,    -66.055,   -32.5467,       4558,   147.9,  34.5904,2,  34.5884,3,   230.4,2,  103.15,2,   32.37,2,    0.02,2,    2.36,3,-999.000,9,-999.0000,9, -999.00,9,-999.000,9,-999.000,    -0.5174,-999.0000,-999.000, -999.00
06AQANTIX_2,       SR04,      62,          1,         18,         18,2,19901201,       1137,    -66.055,   -32.5467,       4558,   296.9,  34.6812,2,  34.6817,3,   192.9,2,  120.79,2,   33.54,2,    0.02,2,    2.45,3,-999.000,9,-999.0000,1, -999.00,1,-999.000,1,-999.000,     0.4147,-999.0000,-999.000, -999.00
06AQANTIX_2,       SR04,      62,          1,         17,         17,2,19901201,       1137,    -66.055,   -32.5467,       4558,   496.1,  34.6807,2,  34.6814,3,   200.0,2,  125.54,2,   33.48,2,    0.02,2,    2.44,3,-999.000,9,-999.0000,9, -999.00,9,-999.000,9,-999.000,     0.3202,-999.0000,-999.000, -999.00
06AQANTIX_2,       SR04,      62,          1,         16,         16,2,19901201,       1137,    -66.055,   -32.5467,       4558,   795.4,  34.6759,2,  34.6769,3,   205.7,2,  127.64,2,   33.15,2,    0.02,2,    2.42,3,-999.000,9,-999.0000,9, -999.00,9,-999.000,9,-999.000,     0.1860,-999.0000,-999.000, -999.00
06AQANTIX_2,       SR04,      62,          1,         15,         15,2,19901201,       1137,    -66.055,   -32.5467,       4558,  1192.9,  34.6702,2,  34.6705,3,   226.5,2,  127.57,2,   32.70,2,    0.02,2,    2.39,3,-999.000,9,-999.0000,9, -999.00,9,-999.000,9,-999.000,     0.0258,-999.0000,-999.000, -999.00
06AQANTIX_2,       SR04,      62,          1,         14,         14,2,19901201,       1137,    -66.055,   -32.5467,       4558,  1597.3,  34.6650,2,  34.6662,3,   225.3,2,  126.87,2,   32.37,2,    0.02,2,    2.37,3,-999.000,9,-999.0000,9, -999.00,9,-999.000,9,-999.000,    -0.1096,-999.0000,-999.000, -999.00
06AQANTIX_2,       SR04,      62,          1,         13,         13,2,19901201,       1137,    -66.055,   -32.5467,       4558,  1998.0,  34.6612,2,  34.6612,3,   232.2,2,  126.02,2,   32.20,2,    0.01,2,    2.36,3,-999.000,9,-999.0000,9, -999.00,9,-999.000,9,-999.000,    -0.1991,-999.0000,-999.000, -999.00
06AQANTIX_2,       SR04,      62,          1,         12,         12,2,19901201,       1137,    -66.055,   -32.5467,       4558,  2296.9,  34.6593,2,  34.6605,3,  -999.0,9,  125.64,2,   32.20,2,    0.01,2,    2.34,3,-999.000,9,-999.0000,9, -999.00,9,-999.000,9,-999.000,    -0.2419,-999.0000,-999.000, -999.00
06AQANTIX_2,       SR04,      62,          1,         11,         11,2,19901201,       1137,    -66.055,   -32.5467,       4558,  2497.7,  34.6593,2,  34.6591,3,   235.0,2,  125.57,2,   32.04,2,    0.01,2,    2.36,3,-999.000,9,-999.0000,9, -999.00,9,-999.000,9,-999.000,    -0.2638,-999.0000,-999.000, -999.00
06AQANTIX_2,       SR04,      62,          1,         10,         10,2,19901201,       1137,    -66.055,   -32.5467,       4558,  2800.3,  34.6585,2,  34.6648,3,  -999.0,9,  125.03,2,   31.87,2,    0.02,2,    2.35,3,-999.000,9,-999.0000,9, -999.00,9,-999.000,9,-999.000,    -0.2962,-999.0000,-999.000, -999.00
06AQANTIX_2,       SR04,      62,          1,          9,          9,2,19901201,       1137,    -66.055,   -32.5467,       4558,  3000.7,  34.6570,2,  34.6571,3,   242.2,2,  124.65,2,   31.82,2,    0.00,2,    2.33,3,-999.000,9,-999.0000,9, -999.00,9,-999.000,9,-999.000,    -0.3176,-999.0000,-999.000, -999.00
06AQANTIX_2,       SR04,      62,          1,          8,          8,2,19901201,       1137,    -66.055,   -32.5467,       4558,  3502.3,  34.6551,2,  34.6541,3,   243.2,2,  123.95,2,   31.76,2,    0.01,2,    2.32,3,-999.000,9,-999.0000,9, -999.00,9,-999.000,9,-999.000,    -0.3676,-999.0000,-999.000, -999.00
06AQANTIX_2,       SR04,      62,          1,          7,          7,2,19901201,       1137,    -66.055,   -32.5467,       4558,  3999.2,  34.6508,2,  34.6559,3,   250.3,2,  123.57,2,   31.71,2,    0.00,2,    2.32,3,-999.000,9,-999.0000,9, -999.00,9,-999.000,9,-999.000,    -0.4192,-999.0000,-999.000, -999.00
06AQANTIX_2,       SR04,      62,          1,          6,          6,2,19901201,       1137,    -66.055,   -32.5467,       4558,  4402.1,  34.6454,2,  34.6437,3,   253.8,2,  114.79,2,   31.60,2,    0.01,2,    2.31,3,-999.000,9,-999.0000,9, -999.00,9,-999.000,9,-999.000,    -0.5229,-999.0000,-999.000, -999.00
06AQANTIX_2,       SR04,      62,          1,          5,          5,2,19901201,       1137,    -66.055,   -32.5467,       4558,  4502.8,  34.6454,2,  34.6431,3,   253.8,2,  115.65,2,   31.65,2,    0.01,2,    2.31,3,-999.000,9,-999.0000,9, -999.00,9,-999.000,9,-999.000,    -0.5369,-999.0000,-999.000, -999.00
06AQANTIX_2,       SR04,      62,          1,          4,          4,2,19901201,       1137,    -66.055,   -32.5467,       4558,  4603.3,  34.6450,2,  34.6424,3,  -999.0,9,  116.35,2,   31.70,2,    0.00,2,    2.31,3,-999.000,9,-999.0000,9, -999.00,9,-999.000,9,-999.000,    -0.5494,-999.0000,-999.000, -999.00
06AQANTIX_2,       SR04,      62,          1,          3,          3,2,19901201,       1137,    -66.055,   -32.5467,       4558,  4695.7,  34.6424,2,  34.6394,3,   256.3,2,  115.97,2,   31.76,2,    0.01,2,    2.34,3,-999.000,9,-999.0000,9, -999.00,9,-999.000,9,-999.000,    -0.5643,-999.0000,-999.000, -999.00
06AQANTIX_2,       SR04,      62,          1,          2,          2,2,19901201,       1137,    -66.055,   -32.5467,       4558,  4822.7,  34.6385,2,  34.6363,3,   257.1,2,  115.74,2,   31.76,2,    0.00,2,    2.31,3,-999.000,9,-999.0000,9, -999.00,9,-999.000,9,-999.000,    -0.5784,-999.0000,-999.000, -999.00
06AQANTIX_2,       SR04,      62,          1,          1,          1,2,19901201,       1137,    -66.055,   -32.5467,       4558,  4848.0,  34.6369,2,-999.0000,9,  -999.0,9,  115.67,2,   31.81,2,    0.00,2,    2.30,3,-999.000,9,-999.0000,9, -999.00,9,-999.000,9,-999.000,    -0.5770,-999.0000,-999.000, -999.00