BOTTLE,20220818CCHSIOAMB
EXPOCODE,SECT_ID,STNNBR,CASTNO,SAMPNO,BTLNBR,BTLNBR_FLAG_W,DATE,TIME,LATITUDE,LONGITUDE,DEPTH,CTDPRS,CTDSAL,CTDSAL_FLAG_W,SALNTY,SALNTY_FLAG_W,OXYGEN,OXYGEN_FLAG_W,SILCAT,SILCAT_FLAG_W,NITRAT,NITRAT_FLAG_W,NITRIT,NITRIT_FLAG_W,PHSPHT,PHSPHT_FLAG_W,TRITUM,TRITUM_FLAG_W,HELIUM,HELIUM_FLAG_W,DELHE3,DELHE3_FLAG_W,NEON,NEON_FLAG_W,NEONER,CTDTMP,HELIER,TRITER,DELHER
,,,,,,,,,,,METERS,DBAR,PSS-78,,PSS-78,,UMOL/KG,,UMOL/KG,,UMOL/KG,,UMOL/KG,,UMOL/KG,,TU,,NMOL/KG,,PERCNT,,NMOL/KG,,NMOL/KG,IPTS-68,NMOL/KG,TU,PERCNT
06AQANTIX_2,       SR04,      97,          1,         24,         24,2,19901211,       0926,   -69.6583,   -15.7267,       4552,     1.8,  34.3357,2,  34.3407,3,   337.0,2,   69.90,2,   29.46,2,    0.23,2,    2.08,2,-999.000,9,-999.0000,9, -999.00,9,-999.000,9,-999.000,    -1.8441,-999.0000,-999.000, -999.00
06AQANTIX_2,       SR04,      97,          1,         23,         23,2,19901211,       0926,   -69.6583,   -15.7267,       4552,    19.2,  34.3389,2,  34.3405,3,   311.7,2,   70.00,2,   29.46,2,    0.22,2,    2.07,2,-999.000,9,-999.0000,9, -999.00,9,-999.000,9,-999.000,    -1.8507,-999.0000,-999.000, -999.00
06AQANTIX_2,       SR04,      97,          1,         22,         22,2,19901211,       0926,   -69.6583,   -15.7267,       4552,    50.0,  34.3431,2,  34.3446,3,   317.5,2,   70.00,2,   29.46,2,    0.22,2,    2.07,2,-999.000,9,-999.0000,9, -999.00,9,-999.000,9,-999.000,    -1.8449,-999.0000,-999.000, -999.00
06AQANTIX_2,       SR04,      97,          1,         21,         21,2,19901211,       0926,   -69.6583,   -15.7267,       4552,    68.3,  34.3426,2,-999.0000,9,   305.6,2,   70.59,2,   29.66,2,    0.23,2,    2.08,2,-999.000,9,-999.0000,9, -999.00,9,-999.000,9,-999.000,    -1.8378,-999.0000,-999.000, -999.00
06AQANTIX_2,       SR04,      97,          1,         20,         20,2,19901211,       0926,   -69.6583,   -15.7267,       4552,   100.2,  34.3951,2,-999.0000,9,   298.6,2,   73.33,2,   30.15,2,    0.15,2,    2.11,2,-999.000,9,-999.0000,9, -999.00,9,-999.000,9,-999.000,    -1.7198,-999.0000,-999.000, -999.00
06AQANTIX_2,       SR04,      97,          1,         19,         19,2,19901211,       0926,   -69.6583,   -15.7267,       4552,   150.8,  34.5187,2,-999.0000,9,   257.2,2,   85.07,2,   31.32,2,    0.01,2,    2.21,2,-999.000,9,-999.0000,9, -999.00,9,-999.000,9,-999.000,    -0.6602,-999.0000,-999.000, -999.00
06AQANTIX_2,       SR04,      97,          1,         18,         18,2,19901211,       0926,   -69.6583,   -15.7267,       4552,   298.3,  34.6751,2,  34.6779,3,   214.8,2,  101.01,2,   32.20,2,    0.01,2,    2.29,2,-999.000,9,-999.0000,9, -999.00,9,-999.000,9,-999.000,     0.7319,-999.0000,-999.000, -999.00
06AQANTIX_2,       SR04,      97,          1,         17,         17,2,19901211,       0926,   -69.6583,   -15.7267,       4552,   590.8,  34.6933,2,  34.6927,3,   205.8,2,  111.29,2,   32.40,2,    0.02,2,    2.31,2,-999.000,9,-999.0000,9, -999.00,9,-999.000,9,-999.000,     0.6827,-999.0000,-999.000, -999.00
06AQANTIX_2,       SR04,      97,          1,         16,         16,2,19901211,       0926,   -69.6583,   -15.7267,       4552,   996.4,  34.6843,2,  34.6860,3,   219.6,2,  120.49,2,   32.89,2,    0.00,2,    2.35,2,-999.000,9,-999.0000,9, -999.00,9,-999.000,9,-999.000,     0.4015,-999.0000,-999.000, -999.00
06AQANTIX_2,       SR04,      97,          1,         15,         15,2,19901211,       0926,   -69.6583,   -15.7267,       4552,  1500.9,  34.6739,2,  34.6742,3,   215.8,2,  124.60,2,   32.89,2,    0.02,2,    2.36,2,-999.000,9,-999.0000,9, -999.00,9,-999.000,9,-999.000,     0.1621,-999.0000,-999.000, -999.00
06AQANTIX_2,       SR04,      97,          1,         14,         14,2,19901211,       0926,   -69.6583,   -15.7267,       4552,  1998.7,  34.6659,2,  34.6673,3,   225.9,2,  125.58,2,   32.69,2,    0.02,2,    2.35,2,-999.000,9,-999.0000,9, -999.00,9,-999.000,9,-999.000,    -0.0107,-999.0000,-999.000, -999.00
06AQANTIX_2,       SR04,      97,          1,         13,         13,2,19901211,       0926,   -69.6583,   -15.7267,       4552,  2500.3,  34.6619,2,  34.6628,3,   233.5,2,  125.39,2,   32.69,2,    0.01,2,    2.34,2,-999.000,9,-999.0000,9, -999.00,9,-999.000,9,-999.000,    -0.1331,-999.0000,-999.000, -999.00
06AQANTIX_2,       SR04,      97,          1,         12,         12,2,19901211,       0926,   -69.6583,   -15.7267,       4552,  3002.3,  34.6590,2,  34.6599,3,   234.8,2,  125.19,2,   32.59,2,    0.00,2,    2.32,2,-999.000,9,-999.0000,9, -999.00,9,-999.000,9,-999.000,    -0.2136,-999.0000,-999.000, -999.00
06AQANTIX_2,       SR04,      97,          1,          9,          9,2,19901211,       0926,   -69.6583,   -15.7267,       4552,  3503.2,  34.6567,2,  34.6584,3,  -999.0,9,  124.70,2,   32.50,2,    0.02,2,    2.31,2,-999.000,9,-999.0000,9, -999.00,9,-999.000,9,-999.000,    -0.2658,-999.0000,-999.000, -999.00
06AQANTIX_2,       SR04,      97,          1,         10,         10,2,19901211,       0926,   -69.6583,   -15.7267,       4552,  3503.6,  34.6564,2,  34.6564,3,   239.4,2,  124.70,2,   32.50,2,    0.01,2,    2.31,2,-999.000,9,-999.0000,9, -999.00,9,-999.000,9,-999.000,    -0.2657,-999.0000,-999.000, -999.00
06AQANTIX_2,       SR04,      97,          1,         11,         11,2,19901211,       0926,   -69.6583,   -15.7267,       4552,  3503.9,  34.6563,2,  34.6564,3,  -999.0,9,  124.51,2,   32.40,2,    0.00,2,    2.31,2,-999.000,9,-999.0000,9, -999.00,9,-999.000,9,-999.000,    -0.2657,-999.0000,-999.000, -999.00
06AQANTIX_2,       SR04,      97,          1,          8,          8,2,19901211,       0926,   -69.6583,   -15.7267,       4552,  3503.9,  34.6567,2,  34.6567,3,  -999.0,9,  124.60,2,   32.40,2,    0.02,2,    2.32,2,-999.000,9,-999.0000,9, -999.00,9,-999.000,9,-999.000,    -0.2661,-999.0000,-999.000, -999.00
06AQANTIX_2,       SR04,      97,          1,          7,          7,2,19901211,       0926,   -69.6583,   -15.7267,       4552,  4004.1,  34.6523,2,  34.6544,3,   243.7,2,  125.68,2,   32.40,2,    0.02,2,    2.31,2,-999.000,9,-999.0000,9, -999.00,9,-999.000,9,-999.000,    -0.2986,-999.0000,-999.000, -999.00
06AQANTIX_2,       SR04,      97,          1,          6,          6,2,19901211,       0926,   -69.6583,   -15.7267,       4552,  4505.8,  34.6511,2,  34.6534,3,   244.3,2,  128.42,2,   32.30,2,    0.01,2,    2.32,2,-999.000,9,-999.0000,9, -999.00,9,-999.000,9,-999.000,    -0.3232,-999.0000,-999.000, -999.00
06AQANTIX_2,       SR04,      97,          1,          5,          5,2,19901211,       0926,   -69.6583,   -15.7267,       4552,  4604.7,  34.6507,2,  34.6526,3,   248.2,2,  128.42,2,   32.30,2,    0.01,2,    2.32,2,-999.000,9,-999.0000,9, -999.00,9,-999.000,9,-999.000,    -0.3416,-999.0000,-999.000, -999.00
06AQANTIX_2,       SR04,      97,          1,          4,          4,2,19901211,       0926,   -69.6583,   -15.7267,       4552,  4706.2,  34.6488,2,  34.6502,3,   247.8,2,  128.13,2,   32.30,2,    0.00,2,    2.32,2,-999.000,9,-999.0000,9, -999.00,9,-999.000,9,-999.000,    -0.3868,-999.0000,-999.000, -999.00
06AQANTIX_2,       SR04,      97,          1,          3,          3,2,19901211,       0926,   -69.6583,   -15.7267,       4552,  4741.0,  34.6476,2,  34.6494,3,   250.1,2,  127.54,2,   32.20,2,    0.02,2,    2.32,2,-999.000,9,-999.0000,9, -999.00,9,-999.000,9,-999.000,    -0.4063,-999.0000,-999.000, -999.00
06AQANTIX_2,       SR04,      97,          1,          2,          2,2,19901211,       0926,   -69.6583,   -15.7267,       4552,  4769.8,  34.6478,2,  34.6485,3,   253.5,2,  129.69,2,   32.20,2,    0.01,2,    2.33,2,-999.000,9,-999.0000,9, -999.00,9,-999.000,9,-999.000,    -0.4295,-999.0000,-999.000, -999.00
06AQANTIX_2,       SR04,      97,          1,          1,          1,2,19901211,       0926,   -69.6583,   -15.7267,       4552,  4818.0,  34.6478,2,-999.0000,9,   251.3,2,  131.46,2,   32.20,2,    0.00,2,    2.33,2,-999.000,9,-999.0000,9, -999.00,9,-999.000,9,-999.000,    -0.4500,-999.0000,-999.000, -999.00
06AQANTIX_2,       SR04,      98,          1,         24,         24,2,19901212,       0130,   -69.8033,    -15.245,       4555,     1.7,  34.3449,2,  34.3449,3,   307.4,2,   69.38,2,   28.78,2,    0.23,2,    2.04,2,-999.000,9,-999.0000,9, -999.00,9,-999.000,9,-999.000,    -1.8517,-999.0000,-999.000, -999.00
06AQANTIX_2,       SR04,      98,          1,         23,         23,2,19901212,       0130,   -69.8033,    -15.245,       4555,    23.9,  34.3471,2,  34.3473,3,   307.3,2,   69.39,2,   28.85,2,    0.22,2,    2.05,2,-999.000,9,-999.0000,9, -999.00,9,-999.000,9,-999.000,    -1.8574,-999.0000,-999.000, -999.00
06AQANTIX_2,       SR04,      98,          1,         22,         22,2,19901212,       0130,   -69.8033,    -15.245,       4555,    53.5,  34.3473,2,  34.3481,3,   306.7,2,   69.58,2,   28.86,2,    0.24,2,    2.05,2,-999.000,9,-999.0000,9, -999.00,9,-999.000,9,-999.000,    -1.8554,-999.0000,-999.000, -999.00
06AQANTIX_2,       SR04,      98,          1,         21,         21,2,19901212,       0130,   -69.8033,    -15.245,       4555,    73.4,  34.3541,2,  34.3527,3,   306.3,2,   69.78,2,   28.87,2,    0.23,2,    2.05,2,-999.000,9,-999.0000,9, -999.00,9,-999.000,9,-999.000,    -1.8469,-999.0000,-999.000, -999.00
06AQANTIX_2,       SR04,      98,          1,         20,         20,2,19901212,       0130,   -69.8033,    -15.245,       4555,    98.8,  34.4048,2,  34.4018,3,   299.8,2,   70.93,2,   29.32,2,    0.18,2,    2.08,2,-999.000,9,-999.0000,9, -999.00,9,-999.000,9,-999.000,    -1.6810,-999.0000,-999.000, -999.00
06AQANTIX_2,       SR04,      98,          1,         19,         19,2,19901212,       0130,   -69.8033,    -15.245,       4555,   146.2,  34.5832,2,-999.0000,9,  -999.0,9,   88.59,2,   31.09,2,    0.00,2,    2.22,2,-999.000,9,-999.0000,9, -999.00,9,-999.000,9,-999.000,    -0.0900,-999.0000,-999.000, -999.00
06AQANTIX_2,       SR04,      98,          1,         18,         18,2,19901212,       0130,   -69.8033,    -15.245,       4555,   222.4,  34.6677,2,  34.6726,3,   205.4,2,   99.15,2,   31.65,2,    0.00,2,    2.27,2,-999.000,9,-999.0000,9, -999.00,9,-999.000,9,-999.000,     0.7226,-999.0000,-999.000, -999.00
06AQANTIX_2,       SR04,      98,          1,         17,         17,2,19901212,       0130,   -69.8033,    -15.245,       4555,   296.6,  34.6786,2,  34.6819,3,   204.8,2,  101.65,2,   31.54,2,    0.00,2,    2.26,2,-999.000,9,-999.0000,9, -999.00,9,-999.000,9,-999.000,     0.7437,-999.0000,-999.000, -999.00
06AQANTIX_2,       SR04,      98,          1,         16,         16,2,19901212,       0130,   -69.8033,    -15.245,       4555,   394.8,  34.6902,2,  34.6923,3,   203.4,2,  105.88,2,   31.54,2,    0.00,2,    2.28,2,-999.000,9,-999.0000,9, -999.00,9,-999.000,9,-999.000,     0.7689,-999.0000,-999.000, -999.00
06AQANTIX_2,       SR04,      98,          1,         15,         15,2,19901212,       0130,   -69.8033,    -15.245,       4555,   795.2,  34.6915,2,  34.6903,3,   205.3,2,  116.63,2,   31.88,2,    0.03,2,    2.29,2,-999.000,9,-999.0000,9, -999.00,9,-999.000,9,-999.000,     0.5476,-999.0000,-999.000, -999.00
06AQANTIX_2,       SR04,      98,          1,         14,         14,2,19901212,       0130,   -69.8033,    -15.245,       4555,  1094.8,  34.6825,2,  34.6865,3,   206.6,2,  121.82,2,   32.32,2,    0.01,2,    2.30,2,-999.000,9,-999.0000,9, -999.00,9,-999.000,9,-999.000,     0.3518,-999.0000,-999.000, -999.00
06AQANTIX_2,       SR04,      98,          1,         13,         13,2,19901212,       0130,   -69.8033,    -15.245,       4555,  1495.5,  34.6755,2,  34.6748,3,   213.0,2,  124.89,2,   32.32,2,    0.00,2,    2.29,2,-999.000,9,-999.0000,9, -999.00,9,-999.000,9,-999.000,     0.1771,-999.0000,-999.000, -999.00
06AQANTIX_2,       SR04,      98,          1,         12,         12,2,19901212,       0130,   -69.8033,    -15.245,       4555,  1997.2,  34.6668,2,  34.6664,3,   222.6,2,  125.47,2,   32.05,2,    0.01,2,    2.27,2,-999.000,9,-999.0000,9, -999.00,9,-999.000,9,-999.000,    -0.0047,-999.0000,-999.000, -999.00
06AQANTIX_2,       SR04,      98,          1,         10,         10,2,19901212,       0130,   -69.8033,    -15.245,       4555,  2499.4,  34.6618,2,  34.6623,3,   228.0,2,  125.28,2,   31.89,2,    0.01,2,    2.21,2,-999.000,9,-999.0000,9, -999.00,9,-999.000,9,-999.000,    -0.1300,-999.0000,-999.000, -999.00
06AQANTIX_2,       SR04,      98,          1,         11,         11,2,19901212,       0130,   -69.8033,    -15.245,       4555,  2499.7,  34.6623,2,  34.6616,3,  -999.0,9,  125.66,2,   31.89,2,    0.00,2,    2.23,2,-999.000,9,-999.0000,9, -999.00,9,-999.000,9,-999.000,    -0.1294,-999.0000,-999.000, -999.00
06AQANTIX_2,       SR04,      98,          1,          9,          9,2,19901212,       0130,   -69.8033,    -15.245,       4555,  3001.5,  34.6594,2,  34.6594,3,   234.6,2,  124.90,2,   31.79,2,    0.02,2,    2.21,2,-999.000,9,-999.0000,9, -999.00,9,-999.000,9,-999.000,    -0.2124,-999.0000,-999.000, -999.00
06AQANTIX_2,       SR04,      98,          1,          8,          8,2,19901212,       0130,   -69.8033,    -15.245,       4555,  3503.8,  34.6563,2,  34.6572,3,   239.6,2,  124.51,2,   31.68,2,    0.04,2,    2.20,2,-999.000,9,-999.0000,9, -999.00,9,-999.000,9,-999.000,    -0.2647,-999.0000,-999.000, -999.00
06AQANTIX_2,       SR04,      98,          1,          7,          7,2,19901212,       0130,   -69.8033,    -15.245,       4555,  4005.4,  34.6533,2,  34.6538,3,   243.5,2,  125.47,2,   31.74,2,    0.03,2,    2.20,2,-999.000,9,-999.0000,9, -999.00,9,-999.000,9,-999.000,    -0.2998,-999.0000,-999.000, -999.00
06AQANTIX_2,       SR04,      98,          1,          6,          6,2,19901212,       0130,   -69.8033,    -15.245,       4555,  4306.1,  34.6524,2,  34.6528,3,  -999.0,9,  127.39,2,   31.74,2,    0.01,2,    2.21,2,-999.000,9,-999.0000,9, -999.00,9,-999.000,9,-999.000,    -0.3115,-999.0000,-999.000, -999.00
06AQANTIX_2,       SR04,      98,          1,          5,          5,2,19901212,       0130,   -69.8033,    -15.245,       4555,  4502.4,  34.6519,2,  34.6521,3,   245.6,2,  128.35,2,   31.80,2,    0.01,2,    2.22,2,-999.000,9,-999.0000,9, -999.00,9,-999.000,9,-999.000,    -0.3212,-999.0000,-999.000, -999.00
06AQANTIX_2,       SR04,      98,          1,          4,          4,2,19901212,       0130,   -69.8033,    -15.245,       4555,  4603.1,  34.6511,2,  34.6552,3,   246.1,2,  128.55,2,   31.85,2,    0.02,2,    2.22,2,-999.000,9,-999.0000,9, -999.00,9,-999.000,9,-999.000,    -0.3396,-999.0000,-999.000, -999.00
06AQANTIX_2,       SR04,      98,          1,          3,          3,2,19901212,       0130,   -69.8033,    -15.245,       4555,  4703.8,  34.6497,2,  34.6515,3,  -999.0,9,  127.01,2,   31.85,2,    0.00,2,    2.22,2,-999.000,9,-999.0000,9, -999.00,9,-999.000,9,-999.000,    -0.3866,-999.0000,-999.000, -999.00
06AQANTIX_2,       SR04,      98,          1,          2,          2,2,19901212,       0130,   -69.8033,    -15.245,       4555,  4795.2,  34.6462,2,  34.6471,3,   249.3,2,  129.70,2,   31.91,2,    0.02,2,    2.23,2,-999.000,9,-999.0000,9, -999.00,9,-999.000,9,-999.000,    -0.4486,-999.0000,-999.000, -999.00
06AQANTIX_2,       SR04,      98,          1,          1,          1,2,19901212,       0130,   -69.8033,    -15.245,       4555,  4814.0,  34.6484,2,-999.0000,9,   250.1,2,  129.89,2,   31.96,2,    0.02,2,    2.23,2,-999.000,9,-999.0000,9, -999.00,9,-999.000,9,-999.000,    -0.4490,-999.0000,-999.000, -999.00