BOTTLE,20220818CCHSIOAMB
EXPOCODE,SECT_ID,STNNBR,CASTNO,SAMPNO,BTLNBR,BTLNBR_FLAG_W,DATE,TIME,LATITUDE,LONGITUDE,DEPTH,CTDPRS,CTDSAL,CTDSAL_FLAG_W,SALNTY,SALNTY_FLAG_W,OXYGEN,OXYGEN_FLAG_W,SILCAT,SILCAT_FLAG_W,NITRAT,NITRAT_FLAG_W,NITRIT,NITRIT_FLAG_W,PHSPHT,PHSPHT_FLAG_W,TRITUM,TRITUM_FLAG_W,HELIUM,HELIUM_FLAG_W,DELHE3,DELHE3_FLAG_W,NEON,NEON_FLAG_W,NEONER,CTDTMP,HELIER,TRITER,DELHER
,,,,,,,,,,,METERS,DBAR,PSS-78,,PSS-78,,UMOL/KG,,UMOL/KG,,UMOL/KG,,UMOL/KG,,UMOL/KG,,TU,,NMOL/KG,,PERCNT,,NMOL/KG,,NMOL/KG,IPTS-68,NMOL/KG,TU,PERCNT
06AQANTIX_2,       SR04,      81,          1,         24,         24,2,19901206,       2118,   -67.1433,   -28.7833,       4545,     2.2,  34.4054,2,  34.4092,3,   315.0,2,   72.46,2,   28.11,2,    0.17,2,    2.08,3,-999.000,9,-999.0000,9, -999.00,9,-999.000,9,-999.000,    -1.8057,-999.0000,-999.000, -999.00
06AQANTIX_2,       SR04,      81,          1,         23,         23,2,19901206,       2118,   -67.1433,   -28.7833,       4545,    25.5,  34.4162,2,  34.4195,3,   323.8,2,   72.47,2,   28.19,2,    0.17,2,    2.09,3,-999.000,9,-999.0000,9, -999.00,9,-999.000,9,-999.000,    -1.8153,-999.0000,-999.000, -999.00
06AQANTIX_2,       SR04,      81,          1,         22,         22,2,19901206,       2118,   -67.1433,   -28.7833,       4545,    49.7,  34.4724,2,  34.4731,3,   310.6,2,   72.85,2,   28.50,2,    0.16,2,    2.09,3,-999.000,9,-999.0000,9, -999.00,9,-999.000,9,-999.000,    -1.8447,-999.0000,-999.000, -999.00
06AQANTIX_2,       SR04,      81,          1,         21,         21,2,19901206,       2118,   -67.1433,   -28.7833,       4545,    74.0,  34.4819,2,  34.4810,3,   309.0,2,   72.48,2,   28.64,2,    0.08,2,    2.09,3,-999.000,9,-999.0000,9, -999.00,9,-999.000,9,-999.000,    -1.8492,-999.0000,-999.000, -999.00
06AQANTIX_2,       SR04,      81,          1,         20,         20,2,19901206,       2118,   -67.1433,   -28.7833,       4545,    99.9,  34.4826,2,  34.4828,3,   308.0,2,   72.68,2,   28.72,2,    0.04,2,    2.10,3,-999.000,9,-999.0000,9, -999.00,9,-999.000,9,-999.000,    -1.8364,-999.0000,-999.000, -999.00
06AQANTIX_2,       SR04,      81,          1,         19,         19,2,19901206,       2118,   -67.1433,   -28.7833,       4545,   248.3,  34.6636,2,  34.6643,3,   203.9,2,  109.16,2,   32.92,2,    0.01,2,    2.41,3,-999.000,9,-999.0000,9, -999.00,9,-999.000,9,-999.000,     0.2837,-999.0000,-999.000, -999.00
06AQANTIX_2,       SR04,      81,          1,         18,         18,2,19901206,       2118,   -67.1433,   -28.7833,       4545,   298.4,  34.6739,2,  34.6778,3,   196.2,2,  114.06,2,   33.12,2,    0.02,2,    2.44,3,-999.000,9,-999.0000,9, -999.00,9,-999.000,9,-999.000,     0.4100,-999.0000,-999.000, -999.00
06AQANTIX_2,       SR04,      81,          1,         17,         17,2,19901206,       2118,   -67.1433,   -28.7833,       4545,   391.2,  34.6846,2,  34.6841,3,   194.6,2,  119.15,2,   33.38,2,    0.01,2,    2.43,3,-999.000,9,-999.0000,9, -999.00,9,-999.000,9,-999.000,     0.4918,-999.0000,-999.000, -999.00
06AQANTIX_2,       SR04,      81,          1,         16,         16,2,19901206,       2118,   -67.1433,   -28.7833,       4545,   446.0,  34.6843,2,  34.6853,3,   195.4,2,  120.86,2,   33.46,2,    0.00,2,    2.45,3,-999.000,9,-999.0000,9, -999.00,9,-999.000,9,-999.000,     0.4465,-999.0000,-999.000, -999.00
06AQANTIX_2,       SR04,      81,          1,         14,         14,2,19901206,       2118,   -67.1433,   -28.7833,       4545,   796.4,  34.6797,2,  34.6787,3,   201.9,2,  125.95,2,   33.42,2,    0.01,2,    2.45,3,-999.000,9,-999.0000,9, -999.00,9,-999.000,9,-999.000,     0.2639,-999.0000,-999.000, -999.00
06AQANTIX_2,       SR04,      81,          1,         13,         13,2,19901206,       2118,   -67.1433,   -28.7833,       4545,  1197.4,  34.6736,2,  34.6719,3,   210.7,2,  127.09,2,   32.95,2,    0.02,2,    2.43,3,-999.000,9,-999.0000,9, -999.00,9,-999.000,9,-999.000,     0.1055,-999.0000,-999.000, -999.00
06AQANTIX_2,       SR04,      81,          1,         12,         12,2,19901206,       2118,   -67.1433,   -28.7833,       4545,  1697.7,  34.6656,2,  34.6659,3,   221.9,2,  126.92,2,   32.54,2,    0.01,2,    2.40,3,-999.000,9,-999.0000,9, -999.00,9,-999.000,9,-999.000,    -0.0688,-999.0000,-999.000, -999.00
06AQANTIX_2,       SR04,      81,          1,         11,         11,2,19901206,       2118,   -67.1433,   -28.7833,       4545,  2499.2,  34.6587,2,  34.6587,3,   234.8,2,  125.42,2,   32.25,2,    0.01,2,    2.38,3,-999.000,9,-999.0000,9, -999.00,9,-999.000,9,-999.000,    -0.2397,-999.0000,-999.000, -999.00
06AQANTIX_2,       SR04,      81,          1,          7,          7,2,19901206,       2118,   -67.1433,   -28.7833,       4545,  3002.0,  34.6564,2,  34.6552,3,  -999.0,9,  124.91,2,   32.02,2,    0.00,2,    2.37,3,-999.000,9,-999.0000,9, -999.00,9,-999.000,9,-999.000,    -0.2994,-999.0000,-999.000, -999.00
06AQANTIX_2,       SR04,      81,          1,          9,          9,2,19901206,       2118,   -67.1433,   -28.7833,       4545,  3002.1,  34.6558,2,  34.6564,3,  -999.0,9,  125.07,2,   32.05,2,    0.00,2,    2.37,3,-999.000,9,-999.0000,9, -999.00,9,-999.000,9,-999.000,    -0.2989,-999.0000,-999.000, -999.00
06AQANTIX_2,       SR04,      81,          1,          8,          8,2,19901206,       2118,   -67.1433,   -28.7833,       4545,  3002.1,  34.6562,2,  34.6565,3,  -999.0,9,  124.90,2,   31.94,2,    0.01,2,    2.37,3,-999.000,9,-999.0000,9, -999.00,9,-999.000,9,-999.000,    -0.2993,-999.0000,-999.000, -999.00
06AQANTIX_2,       SR04,      81,          1,         10,         10,2,19901206,       2118,   -67.1433,   -28.7833,       4545,  3002.2,  34.6556,2,  34.6564,3,   237.8,2,  125.06,2,   32.09,2,    0.01,2,    2.36,3,-999.000,9,-999.0000,9, -999.00,9,-999.000,9,-999.000,    -0.2988,-999.0000,-999.000, -999.00
06AQANTIX_2,       SR04,      81,          1,          6,          6,2,19901206,       2118,   -67.1433,   -28.7833,       4545,  3503.5,  34.6536,2,  34.6540,3,   240.7,2,  124.36,2,   31.85,2,    0.01,2,    2.36,3,-999.000,9,-999.0000,9, -999.00,9,-999.000,9,-999.000,    -0.3483,-999.0000,-999.000, -999.00
06AQANTIX_2,       SR04,      81,          1,          5,          5,2,19901206,       2118,   -67.1433,   -28.7833,       4545,  4004.8,  34.6537,2,  34.6518,3,   243.9,2,  125.31,2,   31.81,2,    0.02,2,    2.36,3,-999.000,9,-999.0000,9, -999.00,9,-999.000,9,-999.000,    -0.3835,-999.0000,-999.000, -999.00
06AQANTIX_2,       SR04,      81,          1,          4,          4,2,19901206,       2118,   -67.1433,   -28.7833,       4545,  4505.2,  34.6487,2,  34.6467,3,  -999.0,9,  119.86,2,   31.65,2,    0.00,2,    2.33,3,-999.000,9,-999.0000,9, -999.00,9,-999.000,9,-999.000,    -0.4710,-999.0000,-999.000, -999.00
06AQANTIX_2,       SR04,      81,          1,          3,          3,2,19901206,       2118,   -67.1433,   -28.7833,       4545,  4605.7,  34.6485,2,  34.6472,3,  -999.0,9,  121.57,2,   31.72,2,    0.00,2,    2.35,3,-999.000,9,-999.0000,9, -999.00,9,-999.000,9,-999.000,    -0.4887,-999.0000,-999.000, -999.00
06AQANTIX_2,       SR04,      81,          1,          2,          2,2,19901206,       2118,   -67.1433,   -28.7833,       4545,  4654.2,  34.6488,2,  34.6459,3,   250.3,2,  123.09,2,   31.74,2,    0.00,2,    2.34,3,-999.000,9,-999.0000,9, -999.00,9,-999.000,9,-999.000,    -0.4933,-999.0000,-999.000, -999.00
06AQANTIX_2,       SR04,      81,          1,          1,          1,2,19901206,       2118,   -67.1433,   -28.7833,       4545,  4714.0,  34.6450,2,-999.0000,9,   251.1,2,  124.79,2,   31.82,2,    0.00,2,    2.35,3,-999.000,9,-999.0000,9, -999.00,9,-999.000,9,-999.000,    -0.5040,-999.0000,-999.000, -999.00
06AQANTIX_2,       SR04,      82,          1,         24,         24,2,19901207,       0354,   -66.9567,   -27.6133,       4609,     1.3,  34.3758,2,-999.0000,9,   317.7,2,   71.49,2,   28.12,2,    0.15,2,    2.08,3,-999.000,9,-999.0000,9, -999.00,9,-999.000,9,-999.000,    -1.8147,-999.0000,-999.000, -999.00
06AQANTIX_2,       SR04,      82,          1,         23,         23,2,19901207,       0354,   -66.9567,   -27.6133,       4609,    23.9,  34.3810,2,-999.0000,9,   321.1,2,   71.68,2,   28.07,2,    0.16,2,    2.07,3,-999.000,9,-999.0000,9, -999.00,9,-999.000,9,-999.000,    -1.8166,-999.0000,-999.000, -999.00
06AQANTIX_2,       SR04,      82,          1,         22,         22,2,19901207,       0354,   -66.9567,   -27.6133,       4609,    41.6,  34.4469,2,-999.0000,9,   311.9,2,   72.43,2,   28.45,2,    0.17,2,    2.09,3,-999.000,9,-999.0000,9, -999.00,9,-999.000,9,-999.000,    -1.8266,-999.0000,-999.000, -999.00
06AQANTIX_2,       SR04,      82,          1,         21,         21,2,19901207,       0354,   -66.9567,   -27.6133,       4609,    62.2,  34.4674,2,  34.4714,3,   309.8,2,   73.00,2,   28.77,2,    0.20,2,    2.11,3,-999.000,9,-999.0000,9, -999.00,9,-999.000,9,-999.000,    -1.8386,-999.0000,-999.000, -999.00
06AQANTIX_2,       SR04,      82,          1,         20,         20,2,19901207,       0354,   -66.9567,   -27.6133,       4609,    99.0,  34.4856,2,  34.4849,3,   307.2,2,   72.44,2,   28.91,2,    0.11,2,    2.11,3,-999.000,9,-999.0000,9, -999.00,9,-999.000,9,-999.000,    -1.8111,-999.0000,-999.000, -999.00
06AQANTIX_2,       SR04,      82,          1,         19,         19,2,19901207,       0354,   -66.9567,   -27.6133,       4609,   248.2,  34.6779,2,  34.6824,3,   196.2,2,  112.97,2,   33.52,2,    0.02,2,    2.46,3,-999.000,9,-999.0000,9, -999.00,9,-999.000,9,-999.000,     0.4686,-999.0000,-999.000, -999.00
06AQANTIX_2,       SR04,      82,          1,         18,         18,2,19901207,       0354,   -66.9567,   -27.6133,       4609,   501.0,  34.6830,2,  34.6845,3,   195.5,2,  122.73,2,   33.84,2,    0.00,2,    2.49,3,-999.000,9,-999.0000,9, -999.00,9,-999.000,9,-999.000,     0.3872,-999.0000,-999.000, -999.00
06AQANTIX_2,       SR04,      82,          1,         17,         17,2,19901207,       0354,   -66.9567,   -27.6133,       4609,   747.5,  34.6799,2,  34.6813,3,   199.4,2,  125.74,2,   33.67,2,    0.02,2,    2.48,3,-999.000,9,-999.0000,9, -999.00,9,-999.000,9,-999.000,     0.2742,-999.0000,-999.000, -999.00
06AQANTIX_2,       SR04,      82,          1,         16,         16,2,19901207,       0354,   -66.9567,   -27.6133,       4609,   998.2,  34.6757,2,  34.6754,3,   206.1,2,  126.87,2,   33.44,2,    0.01,2,    2.47,3,-999.000,9,-999.0000,9, -999.00,9,-999.000,9,-999.000,     0.1721,-999.0000,-999.000, -999.00
06AQANTIX_2,       SR04,      82,          1,         15,         15,2,19901207,       0354,   -66.9567,   -27.6133,       4609,  1244.6,  34.6730,2,  34.6730,3,   212.8,2,  127.06,2,   33.21,2,    0.01,2,    2.46,3,-999.000,9,-999.0000,9, -999.00,9,-999.000,9,-999.000,     0.0825,-999.0000,-999.000, -999.00
06AQANTIX_2,       SR04,      82,          1,         14,         14,2,19901207,       0354,   -66.9567,   -27.6133,       4609,  1496.5,  34.6681,2,  34.6708,3,   218.4,2,  126.88,2,   32.97,2,    0.01,2,    2.45,3,-999.000,9,-999.0000,9, -999.00,9,-999.000,9,-999.000,    -0.0084,-999.0000,-999.000, -999.00
06AQANTIX_2,       SR04,      82,          1,         13,         13,2,19901207,       0354,   -66.9567,   -27.6133,       4609,  1997.4,  34.6617,2,  34.6619,3,   227.1,2,  126.32,2,   32.74,2,    0.01,2,    2.43,3,-999.000,9,-999.0000,9, -999.00,9,-999.000,9,-999.000,    -0.1501,-999.0000,-999.000, -999.00
06AQANTIX_2,       SR04,      82,          1,          7,          7,2,19901207,       0354,   -66.9567,   -27.6133,       4609,  2499.0,  34.6590,2,  34.6591,3,  -999.0,9,  125.60,2,   32.57,2,    0.02,2,    2.41,3,-999.000,9,-999.0000,9, -999.00,9,-999.000,9,-999.000,    -0.2389,-999.0000,-999.000, -999.00
06AQANTIX_2,       SR04,      82,          1,          8,          8,2,19901207,       0354,   -66.9567,   -27.6133,       4609,  2499.1,  34.6587,2,  34.6590,3,  -999.0,9,  125.60,2,   32.62,2,    0.01,2,    2.42,3,-999.000,9,-999.0000,9, -999.00,9,-999.000,9,-999.000,    -0.2385,-999.0000,-999.000, -999.00
06AQANTIX_2,       SR04,      82,          1,          9,          9,2,19901207,       0354,   -66.9567,   -27.6133,       4609,  2499.2,  34.6588,2,  34.6597,3,  -999.0,9,  125.59,2,   32.67,2,    0.00,2,    2.41,3,-999.000,9,-999.0000,9, -999.00,9,-999.000,9,-999.000,    -0.2386,-999.0000,-999.000, -999.00
06AQANTIX_2,       SR04,      82,          1,         12,         12,2,19901207,       0354,   -66.9567,   -27.6133,       4609,  2499.3,  34.6587,2,  34.6597,3,   233.0,2,  125.58,2,   32.57,2,    0.01,2,    2.41,3,-999.000,9,-999.0000,9, -999.00,9,-999.000,9,-999.000,    -0.2386,-999.0000,-999.000, -999.00
06AQANTIX_2,       SR04,      82,          1,         11,         11,2,19901207,       0354,   -66.9567,   -27.6133,       4609,  2499.3,  34.6582,2,  34.6591,3,  -999.0,9,  125.58,2,   32.64,2,    0.01,2,    2.41,3,-999.000,9,-999.0000,9, -999.00,9,-999.000,9,-999.000,    -0.2381,-999.0000,-999.000, -999.00
06AQANTIX_2,       SR04,      82,          1,         10,         10,2,19901207,       0354,   -66.9567,   -27.6133,       4609,  2499.3,  34.6582,2,  34.6591,3,  -999.0,9,  125.59,2,   32.59,2,    0.01,2,    2.41,3,-999.000,9,-999.0000,9, -999.00,9,-999.000,9,-999.000,    -0.2381,-999.0000,-999.000, -999.00
06AQANTIX_2,       SR04,      82,          1,          6,          6,2,19901207,       0354,   -66.9567,   -27.6133,       4609,  2999.7,  34.6570,2,  34.6682,3,  -999.0,9, -999.00,9, -999.00,9,    0.01,2, -999.00,9,-999.000,9,-999.0000,9, -999.00,9,-999.000,9,-999.000,    -0.2966,-999.0000,-999.000, -999.00
06AQANTIX_2,       SR04,      82,          1,          5,          5,2,19901207,       0354,   -66.9567,   -27.6133,       4609,  3501.2,  34.6540,2,  34.6562,3,   240.5,2,  123.93,2,   32.29,2,    0.01,2,    2.38,3,-999.000,9,-999.0000,9, -999.00,9,-999.000,9,-999.000,    -0.3454,-999.0000,-999.000, -999.00
06AQANTIX_2,       SR04,      82,          1,          4,          4,2,19901207,       0354,   -66.9567,   -27.6133,       4609,  4002.3,  34.6535,2,  34.6522,3,   244.6,2,  124.31,2,   32.18,2,    0.02,2,    2.37,3,-999.000,9,-999.0000,9, -999.00,9,-999.000,9,-999.000,    -0.3908,-999.0000,-999.000, -999.00
06AQANTIX_2,       SR04,      82,          1,          3,          3,2,19901207,       0354,   -66.9567,   -27.6133,       4609,  4502.9,  34.6470,2,  34.6465,3,   249.8,2,  117.75,2,   32.01,2,    0.01,2,    2.36,3,-999.000,9,-999.0000,9, -999.00,9,-999.000,9,-999.000,    -0.4831,-999.0000,-999.000, -999.00
06AQANTIX_2,       SR04,      82,          1,          2,          2,2,19901207,       0354,   -66.9567,   -27.6133,       4609,  4802.7,  34.6421,2,  34.6414,3,  -999.0,9,  122.07,2,   32.08,2,   -0.01,4,    2.36,3,-999.000,9,-999.0000,9, -999.00,9,-999.000,9,-999.000,    -0.5359,-999.0000,-999.000, -999.00
06AQANTIX_2,       SR04,      82,          1,          1,          1,2,19901207,       0354,   -66.9567,   -27.6133,       4609,  4878.0,  34.6356,2,-999.0000,9,   253.9,2,  119.26,2,   32.09,2,    0.00,2,    2.36,3,-999.000,9,-999.0000,9, -999.00,9,-999.000,9,-999.000,    -0.5640,-999.0000,-999.000, -999.00