BOTTLE,20220818CCHSIOAMB
# Created residual file with rows where CTDPRS values were missing
#BOTTLE,20211025CCHSIORKP
# Original header:
#Changed TRITUM fill flag to 9
# CTDTMP units changed from ITS-90 to IPTS-68
#BOTTLE,20130710SIOCCHCBG
# Merged parameters: HELIUM, HELIUM_FLAG_W, NEON, NEON_FLAG_W, NEONER, TRITER, HELIER, TRITUM, TRITUM_FLAG_W, DELHER, DELHE3, DELHE3_FLAG_W
#BOTTLE,20010530WHPSIOKJU
# code : jjward hyd_to_exchange.pl, original files copied from HTML directory: 20010530
EXPOCODE,SECT_ID,STNNBR,CASTNO,SAMPNO,BTLNBR,BTLNBR_FLAG_W,DATE,TIME,LATITUDE,LONGITUDE,DEPTH,CTDPRS,CTDSAL,CTDSAL_FLAG_W,SALNTY,SALNTY_FLAG_W,OXYGEN,OXYGEN_FLAG_W,SILCAT,SILCAT_FLAG_W,NITRAT,NITRAT_FLAG_W,NITRIT,NITRIT_FLAG_W,PHSPHT,PHSPHT_FLAG_W,TRITUM,TRITUM_FLAG_W,HELIUM,HELIUM_FLAG_W,DELHE3,DELHE3_FLAG_W,NEON,NEON_FLAG_W,NEONER,CTDTMP,HELIER,TRITER,DELHER
,,,,,,,,,,,METERS,DBAR,PSS-78,,PSS-78,,UMOL/KG,,UMOL/KG,,UMOL/KG,,UMOL/KG,,UMOL/KG,,TU,,NMOL/KG,,PERCNT,,NMOL/KG,,NMOL/KG,IPTS-68,NMOL/KG,TU,PERCNT
06AQANTIX_2,       SR04,      36,          1,         24,         24,2,19901121,       0020,     -62.38,   -57.9967,       1857,    11.9,  34.2883,2,  34.2665,3,  -999.0,9,   79.33,2,   27.59,2,    0.12,2,    1.97,2,-999.000,9,-999.0000,9, -999.00,9,-999.000,9,-999.000,    -0.3751,-999.0000,-999.000, -999.00
06AQANTIX_2,       SR04,      36,          1,         23,         23,2,19901121,       0020,     -62.38,   -57.9967,       1857,    98.4,  34.3769,2,  34.3685,3,  -999.0,9,   84.01,2,   28.63,2,    0.08,2,    2.10,2,-999.000,9,   1.8170,2,    1.64,2,   8.069,2,   0.024,    -0.5439,   0.0050,-999.000,    0.20
06AQANTIX_2,       SR04,      36,          1,         22,         22,2,19901121,       0020,     -62.38,   -57.9967,       1857,   137.4,  34.4319,2,  34.4108,3,  -999.0,9,   85.59,2,   28.88,2,    0.07,2,    2.11,2,-999.000,9,-999.0000,9, -999.00,9,-999.000,9,-999.000,    -0.6342,-999.0000,-999.000, -999.00
06AQANTIX_2,       SR04,      36,          1,         21,         21,2,19901121,       0020,     -62.38,   -57.9967,       1857,   197.4,  34.4898,2,  34.4740,3,  -999.0,9,   87.31,2,   29.32,2,    0.06,2,    2.17,2,-999.000,9,   1.8310,3,    2.23,2,   8.062,3,   0.040,    -0.4698,   0.0090,-999.000,    0.20
06AQANTIX_2,       SR04,      36,          1,         20,         20,2,19901121,       0020,     -62.38,   -57.9967,       1857,   295.3,  34.5526,2,  34.5301,3,  -999.0,9,   88.26,2,   29.65,2,    0.02,2,    2.19,2,-999.000,9,-999.0000,9, -999.00,9,-999.000,9,-999.000,    -0.3642,-999.0000,-999.000, -999.00
06AQANTIX_2,       SR04,      36,          1,         19,         19,2,19901121,       0020,     -62.38,   -57.9967,       1857,   396.1,  34.5498,2,  34.5278,3,  -999.0,9,   87.19,2,   29.51,3,    0.00,2,    2.17,2,-999.000,9,-999.0000,9, -999.00,9,-999.000,9,-999.000,    -0.7256,-999.0000,-999.000, -999.00
06AQANTIX_2,       SR04,      36,          1,         18,         18,2,19901121,       0020,     -62.38,   -57.9967,       1857,   597.2,  34.5769,2,  34.5551,3,  -999.0,9,   89.69,2,   29.45,3,    0.01,2,    2.17,2,-999.000,9,-999.0000,9, -999.00,9,-999.000,9,-999.000,    -0.9182,-999.0000,-999.000, -999.00
06AQANTIX_2,       SR04,      36,          1,         17,         17,2,19901121,       0020,     -62.38,   -57.9967,       1857,   794.3,  34.5805,2,  34.5558,3,  -999.0,9,   87.37,2,   29.31,3,    0.00,2,    2.17,2,-999.000,9,-999.0000,9, -999.00,9,-999.000,9,-999.000,    -1.1677,-999.0000,-999.000, -999.00
06AQANTIX_2,       SR04,      36,          1,         16,         16,2,19901121,       0020,     -62.38,   -57.9967,       1857,   996.0,  34.5827,2,  34.5565,3,  -999.0,9,   86.92,2,   29.35,3,    0.00,2,    2.16,2,-999.000,9,-999.0000,9, -999.00,9,-999.000,9,-999.000,    -1.3227,-999.0000,-999.000, -999.00
06AQANTIX_2,       SR04,      36,          1,         15,         15,2,19901121,       0020,     -62.38,   -57.9967,       1857,  1285.7,  34.5933,2,  34.5608,3,  -999.0,9,   86.63,2,   29.39,3,    0.00,2,    2.17,2,-999.000,9,-999.0000,9, -999.00,9,-999.000,9,-999.000,    -1.4595,-999.0000,-999.000, -999.00
06AQANTIX_2,       SR04,      36,          1,          9,          9,2,19901121,       0020,     -62.38,   -57.9967,       1857,  1889.7,  34.6210,2,  34.5722,3,  -999.0,9,   85.93,2,   29.84,4,    0.00,2,    2.17,2,-999.000,9,-999.0000,9, -999.00,9,-999.000,9,-999.000,    -1.5625,-999.0000,-999.000, -999.00
06AQANTIX_2,       SR04,      36,          1,          4,          4,2,19901121,       0020,     -62.38,   -57.9967,       1857,  1889.7,  34.6210,2,  34.5723,3,  -999.0,9,   85.84,2,   30.39,3,    0.02,2,    2.18,2,-999.000,9,-999.0000,9, -999.00,9,-999.000,9,-999.000,    -1.5635,-999.0000,-999.000, -999.00
06AQANTIX_2,       SR04,      36,          1,         13,         13,2,19901121,       0020,     -62.38,   -57.9967,       1857,  1889.8,  34.6212,2,  34.5667,3,  -999.0,9,   86.18,2,   29.43,4,    0.00,2,    2.17,2,-999.000,9,-999.0000,9, -999.00,9,-999.000,9,-999.000,    -1.5628,-999.0000,-999.000, -999.00
06AQANTIX_2,       SR04,      36,          1,         12,         12,2,19901121,       0020,     -62.38,   -57.9967,       1857,  1889.8,  34.6211,2,  34.5720,3,  -999.0,9,   86.04,2,   29.56,4,    0.01,2,    2.17,2,-999.000,9,-999.0000,9, -999.00,9,-999.000,9,-999.000,    -1.5627,-999.0000,-999.000, -999.00
06AQANTIX_2,       SR04,      36,          1,         11,         11,2,19901121,       0020,     -62.38,   -57.9967,       1857,  1889.8,  34.6210,2,  34.5715,3,  -999.0,9,   86.05,2,   29.68,4,    0.00,2,    2.19,2,-999.000,9,-999.0000,9, -999.00,9,-999.000,9,-999.000,    -1.5626,-999.0000,-999.000, -999.00
06AQANTIX_2,       SR04,      36,          1,          7,          7,2,19901121,       0020,     -62.38,   -57.9967,       1857,  1889.8,  34.6207,2,  34.5715,3,  -999.0,9,   85.95,2,   29.96,4,    0.01,2,    2.17,2,-999.000,9,-999.0000,9, -999.00,9,-999.000,9,-999.000,    -1.5623,-999.0000,-999.000, -999.00
06AQANTIX_2,       SR04,      36,          1,          6,          6,2,19901121,       0020,     -62.38,   -57.9967,       1857,  1889.8,  34.6209,2,  34.5722,3,  -999.0,9,   85.96,2,   29.98,4,    0.02,2,    2.20,2,-999.000,9,-999.0000,9, -999.00,9,-999.000,9,-999.000,    -1.5625,-999.0000,-999.000, -999.00
06AQANTIX_2,       SR04,      36,          1,          5,          5,2,19901121,       0020,     -62.38,   -57.9967,       1857,  1889.8,  34.6215,2,  34.5713,3,  -999.0,9,   85.83,2,   30.10,4,    0.01,2,    2.16,2,-999.000,9,-999.0000,9, -999.00,9,-999.000,9,-999.000,    -1.5633,-999.0000,-999.000, -999.00
06AQANTIX_2,       SR04,      36,          1,          3,          3,2,19901121,       0020,     -62.38,   -57.9967,       1857,  1889.8,  34.6210,2,  34.5721,3,  -999.0,9,   86.64,2,   30.41,3,    0.02,2,    2.17,2,-999.000,9,-999.0000,9, -999.00,9,-999.000,9,-999.000,    -1.5634,-999.0000,-999.000, -999.00
06AQANTIX_2,       SR04,      36,          1,         10,         10,2,19901121,       0020,     -62.38,   -57.9967,       1857,  1889.9,  34.6205,2,  34.5710,3,  -999.0,9,   86.07,2,   29.81,4,    0.01,2,    2.16,2,-999.000,9,-999.0000,9, -999.00,9,-999.000,9,-999.000,    -1.5622,-999.0000,-999.000, -999.00
06AQANTIX_2,       SR04,      36,          1,          2,          2,2,19901121,       0020,     -62.38,   -57.9967,       1857,  1932.7,  34.6243,2,  34.5723,3,  -999.0,9,   86.65,2,   30.43,3,    0.01,2,    2.17,2,-999.000,9,-999.0000,9, -999.00,9,-999.000,9,-999.000,    -1.5671,-999.0000,-999.000, -999.00
06AQANTIX_2,       SR04,      36,          1,          1,          1,2,19901121,       0020,     -62.38,   -57.9967,       1857,  1932.9,  34.6241,2,  34.5737,3,  -999.0,9,   86.36,2,   30.53,3,    0.01,2,    2.19,2,-999.000,9,-999.0000,1, -999.00,1,-999.000,1,-999.000,    -1.5669,-999.0000,-999.000, -999.00
06AQANTIX_2,       SR04,      39,          1,         23,         23,2,19901121,       2040,   -63.3383,    -52.985,        418,     9.2,  34.4161,2,  34.4186,3,   330.0,2,   71.20,2,   27.21,2,    0.07,2,    2.00,2,-999.000,9,-999.0000,9, -999.00,9,-999.000,9,-999.000,    -1.3971,-999.0000,-999.000, -999.00
06AQANTIX_2,       SR04,      39,          1,         21,         21,2,19901121,       2040,   -63.3383,    -52.985,        418,    19.5,  34.4155,2,  34.4191,3,   328.4,2,   71.20,2,   27.33,2,    0.06,2,    1.99,2,-999.000,9,-999.0000,9, -999.00,9,-999.000,9,-999.000,    -1.4306,-999.0000,-999.000, -999.00
06AQANTIX_2,       SR04,      39,          1,         19,         19,2,19901121,       2040,   -63.3383,    -52.985,        418,    37.1,  34.4179,2,  34.4206,3,   329.1,2,   71.20,2,   27.57,2,    0.07,2,    2.00,2,-999.000,9,-999.0000,9, -999.00,9,-999.000,9,-999.000,    -1.4135,-999.0000,-999.000, -999.00
06AQANTIX_2,       SR04,      39,          1,         18,         18,2,19901121,       2040,   -63.3383,    -52.985,        418,    59.1,  34.4174,2,  34.4207,3,   314.9,2,   71.36,2,   27.74,2,    0.06,2,    2.03,2,-999.000,9,-999.0000,9, -999.00,9,-999.000,9,-999.000,    -1.5645,-999.0000,-999.000, -999.00
06AQANTIX_2,       SR04,      39,          1,         17,         17,2,19901121,       2040,   -63.3383,    -52.985,        418,    78.2,  34.4265,2,-999.0000,9,  -999.0,9,   71.98,2,   28.19,2,    0.05,2,    2.04,2,-999.000,9,-999.0000,9, -999.00,9,-999.000,9,-999.000,    -1.6647,-999.0000,-999.000, -999.00
06AQANTIX_2,       SR04,      39,          1,         15,         15,2,19901121,       2040,   -63.3383,    -52.985,        418,    78.2,  34.4270,2,  34.4269,3,   317.1,2,   71.83,2,   28.29,2,    0.06,2,    2.04,2,-999.000,9,-999.0000,9, -999.00,9,-999.000,9,-999.000,    -1.6586,-999.0000,-999.000, -999.00
06AQANTIX_2,       SR04,      39,          1,         13,         13,2,19901121,       2040,   -63.3383,    -52.985,        418,    98.9,  34.4418,2,-999.0000,9,   323.6,2,   73.38,2,   28.79,2,    0.04,2,    2.06,2,-999.000,9,-999.0000,9, -999.00,9,-999.000,9,-999.000,    -1.6752,-999.0000,-999.000, -999.00
06AQANTIX_2,       SR04,      39,          1,         11,         11,2,19901121,       2040,   -63.3383,    -52.985,        418,   150.0,  34.4693,2,  34.4746,3,   309.0,2,   74.00,2,   29.40,2,    0.03,2,    2.08,2,-999.000,9,-999.0000,9, -999.00,9,-999.000,9,-999.000,    -1.6063,-999.0000,-999.000, -999.00
06AQANTIX_2,       SR04,      39,          1,          9,          9,2,19901121,       2040,   -63.3383,    -52.985,        418,   199.8,  34.4985,2,  34.5037,3,   296.3,2,   75.54,2,   29.71,2,    0.02,2,    2.10,2,-999.000,9,-999.0000,9, -999.00,9,-999.000,9,-999.000,    -1.5023,-999.0000,-999.000, -999.00
06AQANTIX_2,       SR04,      39,          1,          7,          7,2,19901121,       2040,   -63.3383,    -52.985,        418,   250.8,  34.5544,2,  34.5598,3,   280.1,2,   82.19,2,   30.18,2,   -0.01,4,    2.13,2,-999.000,9,-999.0000,9, -999.00,9,-999.000,9,-999.000,    -1.1748,-999.0000,-999.000, -999.00
06AQANTIX_2,       SR04,      39,          1,          5,          5,2,19901121,       2040,   -63.3383,    -52.985,        418,   297.5,  34.5793,2,  34.5826,3,   274.2,2,   85.13,2,   30.58,2,    0.01,2,    2.14,2,-999.000,9,-999.0000,9, -999.00,9,-999.000,9,-999.000,    -1.1133,-999.0000,-999.000, -999.00
06AQANTIX_2,       SR04,      39,          1,          3,          3,2,19901121,       2040,   -63.3383,    -52.985,        418,   400.0,  34.5841,2,  34.5866,3,   272.5,2,   85.90,2,   30.70,2,   -0.01,4,    2.14,2,-999.000,9,-999.0000,9, -999.00,9,-999.000,9,-999.000,    -1.0698,-999.0000,-999.000, -999.00
06AQANTIX_2,       SR04,      39,          1,          2,          2,2,19901121,       2040,   -63.3383,    -52.985,        418,   435.6,  34.5844,2,  34.5872,3,  -999.0,9,   86.53,2,   30.76,2,    0.01,2,    2.15,2,-999.000,9,-999.0000,9, -999.00,9,-999.000,9,-999.000,    -1.0652,-999.0000,-999.000, -999.00
06AQANTIX_2,       SR04,      40,          1,         22,         22,2,19901121,       2347,   -63.2667,    -53.335,        372,     7.2,  34.4098,2,  34.3980,3,   223.9,3,   70.64,2,   28.77,2,    0.04,2,    1.98,2,   0.125,2,   1.7700,2,   -1.87,2,   7.972,2,   0.024,    -1.4773,   0.0050,   0.005,    0.20
06AQANTIX_2,       SR04,      40,          1,         20,         20,2,19901121,       2347,   -63.2667,    -53.335,        372,    18.6,  34.4071,2,  34.4000,3,   218.0,3,   70.64,2,   28.91,2,    0.04,2,    1.97,2,   0.120,2,-999.0000,9, -999.00,9,-999.000,9,-999.000,    -1.4597,-999.0000,   0.005, -999.00
06AQANTIX_2,       SR04,      40,          1,         17,         17,2,19901121,       2347,   -63.2667,    -53.335,        372,    37.7,  34.4147,2,  34.4488,3,   199.7,3,   71.42,2,   29.05,2,    0.03,2,    2.00,2,   0.106,2,   1.7660,2,   -1.81,2,   7.971,2,   0.024,    -1.5121,   0.0050,   0.005,    0.20
06AQANTIX_2,       SR04,      40,          1,         14,         14,2,19901121,       2347,   -63.2667,    -53.335,        372,    57.0,  34.4196,2,  34.5127,3,   225.5,3,   72.19,2,   29.09,2,    0.04,2,    2.01,2,   0.110,2,-999.0000,9, -999.00,9,-999.000,9,-999.000,    -1.5226,-999.0000,   0.009, -999.00
06AQANTIX_2,       SR04,      40,          1,         11,         11,2,19901121,       2347,   -63.2667,    -53.335,        372,    88.0,  34.4492,2,  34.3986,3,   205.4,3,   71.41,2,   30.13,2,    0.03,2,    2.05,2,   0.104,2,   1.8110,2,   -0.31,2,   8.101,2,   0.024,    -1.7631,   0.0050,   0.007,    0.20
06AQANTIX_2,       SR04,      40,          1,          9,          9,2,19901121,       2347,   -63.2667,    -53.335,        372,   149.2,  34.5093,2,  34.4122,3,   202.7,3,   76.68,2,   30.69,2,    0.00,2,    2.10,2,   0.086,2,   1.8520,3,    1.69,3,   8.207,3,   0.025,    -1.4291,   0.0060,   0.009,    0.20
06AQANTIX_2,       SR04,      40,          1,          8,          8,2,19901121,       2347,   -63.2667,    -53.335,        372,   180.1,  34.5259,2,  34.4423,3,   189.7,3,   78.85,2,   30.83,2,   -0.01,4,    2.11,2,   0.126,2,   1.8300,2,    1.21,2,   8.100,2,   0.024,    -1.3523,   0.0050,   0.005,    0.20
06AQANTIX_2,       SR04,      40,          1,          3,          3,2,19901121,       2347,   -63.2667,    -53.335,        372,   299.8,  34.5767,2,  34.5666,3,   210.6,3,   85.35,2,   31.02,2,   -0.01,4,    2.14,2,   0.092,2,   1.8600,2,    1.90,2,   8.214,2,   0.025,    -1.1171,   0.0060,   0.005,    0.20
06AQANTIX_2,       SR04,      40,          1,          2,          2,2,19901121,       2347,   -63.2667,    -53.335,        372,   385.4,  34.5758,2,  34.5644,3,   279.4,3,   85.04,2,   30.97,2,   -0.01,4,    2.13,2,   0.090,2,   1.8570,2,    1.58,2,   8.184,2,   0.025,    -1.1336,   0.0060,   0.010,    0.20
06AQANTIX_2,       SR04,      41,          1,         12,         12,2,19901122,       0626,   -63.4183,    -52.555,        480,     7.2,  34.3976,2,  34.4026,3,   336.4,2,   68.44,2,   29.58,2,    0.03,2,    2.02,2,-999.000,9,-999.0000,9, -999.00,9,-999.000,9,-999.000,    -1.5636,-999.0000,-999.000, -999.00
06AQANTIX_2,       SR04,      41,          1,         11,         11,2,19901122,       0626,   -63.4183,    -52.555,        480,    24.2,  34.3975,2,  34.3947,3,   333.4,2,   68.29,2,   29.55,2,    0.04,2,    2.03,2,-999.000,9,-999.0000,9, -999.00,9,-999.000,9,-999.000,    -1.5657,-999.0000,-999.000, -999.00
06AQANTIX_2,       SR04,      41,          1,         10,         10,2,19901122,       0626,   -63.4183,    -52.555,        480,    47.6,  34.3972,2,  34.3952,3,   335.4,2,   68.45,2,   29.57,2,    0.04,2,    2.04,2,-999.000,9,-999.0000,9, -999.00,9,-999.000,9,-999.000,    -1.5767,-999.0000,-999.000, -999.00
06AQANTIX_2,       SR04,      41,          1,          9,          9,2,19901122,       0626,   -63.4183,    -52.555,        480,    73.5,  34.4064,2,  34.4093,3,   323.5,2,   68.61,2,   29.88,2,    0.02,2,    2.04,2,-999.000,9,-999.0000,9, -999.00,9,-999.000,9,-999.000,    -1.7488,-999.0000,-999.000, -999.00
06AQANTIX_2,       SR04,      41,          1,          8,          8,2,19901122,       0626,   -63.4183,    -52.555,        480,    98.6,  34.4296,2,  34.4276,3,   322.0,2,   69.24,2,   30.09,2,    0.02,2,    2.07,2,-999.000,9,-999.0000,9, -999.00,9,-999.000,9,-999.000,    -1.7887,-999.0000,-999.000, -999.00
06AQANTIX_2,       SR04,      41,          1,          7,          7,2,19901122,       0626,   -63.4183,    -52.555,        480,   148.5,  34.4560,2,  34.4581,3,   302.1,2,   72.96,2,   30.40,2,    0.01,2,    2.09,2,-999.000,9,-999.0000,9, -999.00,9,-999.000,9,-999.000,    -1.5479,-999.0000,-999.000, -999.00
06AQANTIX_2,       SR04,      41,          1,          6,          6,2,19901122,       0626,   -63.4183,    -52.555,        480,   198.7,  34.4892,2,  34.4917,3,   281.8,2,   77.47,2,   30.70,2,    0.01,2,    2.11,2,-999.000,9,-999.0000,9, -999.00,9,-999.000,9,-999.000,    -1.2775,-999.0000,-999.000, -999.00
06AQANTIX_2,       SR04,      41,          1,          5,          5,2,19901122,       0626,   -63.4183,    -52.555,        480,   250.3,  34.5411,2,  34.5394,3,   266.5,2,   84.14,2,   31.10,2,    0.00,2,    2.12,2,-999.000,9,-999.0000,9, -999.00,9,-999.000,9,-999.000,    -0.8336,-999.0000,-999.000, -999.00
06AQANTIX_2,       SR04,      41,          1,          4,          4,2,19901122,       0626,   -63.4183,    -52.555,        480,   299.4,  34.5683,2,  34.5716,3,   266.8,2,   87.71,2,   31.02,2,    0.00,2,    2.13,2,-999.000,9,-999.0000,9, -999.00,9,-999.000,9,-999.000,    -0.8885,-999.0000,-999.000, -999.00
06AQANTIX_2,       SR04,      41,          1,          3,          3,2,19901122,       0626,   -63.4183,    -52.555,        480,   350.2,  34.5866,2,  34.5865,3,   261.8,2,   89.26,2,   31.13,2,    0.01,2,    2.14,2,-999.000,9,-999.0000,9, -999.00,9,-999.000,9,-999.000,    -0.8544,-999.0000,-999.000, -999.00
06AQANTIX_2,       SR04,      41,          1,          2,          2,2,19901122,       0626,   -63.4183,    -52.555,        480,   399.9,  34.5961,2,  34.5959,3,   261.9,2,   90.36,2,   31.15,2,    0.00,2,    2.14,2,-999.000,9,-999.0000,9, -999.00,9,-999.000,9,-999.000,    -0.8070,-999.0000,-999.000, -999.00
06AQANTIX_2,       SR04,      41,          1,          1,          1,2,19901122,       0626,   -63.4183,    -52.555,        480,   497.5,  34.5990,2,  34.5992,3,   266.0,2,   90.98,2,   31.12,2,    0.00,2,    2.15,2,-999.000,9,-999.0000,9, -999.00,9,-999.000,9,-999.000,    -0.7946,-999.0000,-999.000, -999.00