BOTTLE,20220818CCHSIOAMB
EXPOCODE,SECT_ID,STNNBR,CASTNO,SAMPNO,BTLNBR,BTLNBR_FLAG_W,DATE,TIME,LATITUDE,LONGITUDE,DEPTH,CTDPRS,CTDSAL,CTDSAL_FLAG_W,SALNTY,SALNTY_FLAG_W,OXYGEN,OXYGEN_FLAG_W,SILCAT,SILCAT_FLAG_W,NITRAT,NITRAT_FLAG_W,NITRIT,NITRIT_FLAG_W,PHSPHT,PHSPHT_FLAG_W,TRITUM,TRITUM_FLAG_W,HELIUM,HELIUM_FLAG_W,DELHE3,DELHE3_FLAG_W,NEON,NEON_FLAG_W,NEONER,CTDTMP,HELIER,TRITER,DELHER
,,,,,,,,,,,METERS,DBAR,PSS-78,,PSS-78,,UMOL/KG,,UMOL/KG,,UMOL/KG,,UMOL/KG,,UMOL/KG,,TU,,NMOL/KG,,PERCNT,,NMOL/KG,,NMOL/KG,IPTS-68,NMOL/KG,TU,PERCNT
06AQANTIX_2,       SR04,      42,          1,         12,         12,2,19901122,       1516,   -63.4917,     -52.09,        911,     8.5,  34.3722,2,  34.3725,3,   323.5,2,   68.27,2,   29.75,2,    0.05,2,    2.03,2,   0.114,2,   1.7660,2,   -1.04,2,   7.997,2,   0.024,    -1.5546,   0.0050,   0.005,    0.20
06AQANTIX_2,       SR04,      42,          1,         11,         11,2,19901122,       1516,   -63.4917,     -52.09,        911,    37.8,  34.3730,2,  34.3735,3,   325.6,2,   67.97,2,   29.68,2,    0.05,2,    2.02,2,   0.056,2,   1.7920,2,   -0.92,2,   8.006,2,   0.040,    -1.5867,   0.0090,   0.003,    0.20
06AQANTIX_2,       SR04,      42,          1,         10,         10,2,19901122,       1516,   -63.4917,     -52.09,        911,    88.1,  34.4181,2,  34.4195,3,   311.4,2,   68.61,2,   30.19,2,    0.02,2,    2.08,2,   0.106,2,   1.8440,3,   -0.15,2,   8.208,3,   0.025,    -1.8302,   0.0050,   0.004,    0.20
06AQANTIX_2,       SR04,      42,          1,          9,          9,2,19901122,       1516,   -63.4917,     -52.09,        911,   139.4,  34.4301,2,  34.4308,3,   311.0,2,   68.94,2,   30.28,2,    0.01,2,    2.08,2,-999.000,9,   1.8150,2,   -0.07,2,   8.124,2,   0.024,    -1.7822,   0.0050,-999.000,    0.20
06AQANTIX_2,       SR04,      42,          1,          8,          8,2,19901122,       1516,   -63.4917,     -52.09,        911,   298.3,  34.5090,2,  34.5109,3,   267.4,2,   81.30,2,   31.25,2,    0.00,2,    2.13,2,   1.282,4,   1.8100,3,    2.88,2,   8.022,3,   0.024,    -0.9637,   0.0050,   1.104,    0.20
06AQANTIX_2,       SR04,      42,          1,          7,          7,2,19901122,       1516,   -63.4917,     -52.09,        911,   397.2,  34.6120,2,  34.6097,3,  -999.0,9,   94.46,2,   31.90,2,    0.00,2,    2.19,2,   0.067,2,   1.8450,2,    4.97,2,   8.051,2,   0.024,     0.0101,   0.0050,   0.003,    0.20
06AQANTIX_2,       SR04,      42,          1,          6,          6,2,19901122,       1516,   -63.4917,     -52.09,        911,   501.3,  34.6425,2,  34.6470,3,   220.5,2,  101.77,2,   32.09,2,    0.00,2,    2.24,2,   0.050,2,   1.8410,2,    6.32,2,   7.955,3,   0.024,     0.1463,   0.0050,   0.003,    0.20
06AQANTIX_2,       SR04,      42,          1,          5,          5,2,19901122,       1516,   -63.4917,     -52.09,        911,   648.6,  34.6339,2,  34.6333,3,   236.0,2,  101.95,2,   31.88,2,    0.00,2,    2.20,2,   0.051,2,-999.0000,1, -999.00,1,-999.000,1,-999.000,    -0.1874,-999.0000,   0.007, -999.00
06AQANTIX_2,       SR04,      42,          1,          4,          4,2,19901122,       1516,   -63.4917,     -52.09,        911,   749.4,  34.6299,2,  34.6295,3,  -999.0,9,   99.75,2,   31.66,2,    0.00,2,    2.19,2,   0.099,2,   1.9400,3,    4.65,3,   8.323,3,   0.025,    -0.4404,   0.0060,   0.004,    0.20
06AQANTIX_2,       SR04,      42,          1,          3,          3,2,19901122,       1516,   -63.4917,     -52.09,        911,   848.1,  34.6165,2,  34.6187,3,   263.9,2,   93.90,2,   31.38,2,    0.00,2,    2.17,2,   0.080,2,   1.8920,2,    3.17,2,   8.218,2,   0.025,    -0.7461,   0.0060,   0.007,    0.20
06AQANTIX_2,       SR04,      42,          1,          2,          2,2,19901122,       1516,   -63.4917,     -52.09,        911,   903.9,  34.6086,2,-999.0000,9,   273.9,2,   89.96,2,   31.22,2,    0.01,2,    2.14,2,   0.126,2,-999.0000,1, -999.00,1,-999.000,1,-999.000,    -0.9375,-999.0000,   0.007, -999.00
06AQANTIX_2,       SR04,      42,          1,          1,          1,2,19901122,       1516,   -63.4917,     -52.09,        911,   949.5,  34.6087,2,-999.0000,9,   279.3,2,   90.13,2,   31.20,2,    0.00,2,    2.14,2,   0.099,2,-999.0000,1, -999.00,1,-999.000,1,-999.000,    -0.9517,-999.0000,   0.005, -999.00
06AQANTIX_2,       SR04,      43,          1,         16,         16,2,19901122,       1940,   -63.6283,   -51.3667,       2061,     2.4,  34.3654,2,  34.3685,3,   286.9,2,   73.08,2,   29.39,2,    0.05,2, -999.00,9,-999.000,9,-999.0000,1, -999.00,1,-999.000,1,-999.000,    -1.7787,-999.0000,-999.000, -999.00
06AQANTIX_2,       SR04,      43,          1,         15,         15,2,19901122,       1940,   -63.6283,   -51.3667,       2061,    20.1,  34.3695,2,  34.3695,3,   272.0,2,   73.24,2,   29.41,2,    0.05,2, -999.00,9,-999.000,9,   1.8020,2,   -0.01,2,   8.093,2,   0.024,    -1.7896,   0.0050,-999.000,    0.20
06AQANTIX_2,       SR04,      43,          1,         14,         14,2,19901122,       1940,   -63.6283,   -51.3667,       2061,    39.6,  34.3770,2,  34.3748,3,   261.5,2,   73.55,2,   29.53,2,    0.04,2, -999.00,9,-999.000,9,-999.0000,1, -999.00,1,-999.000,1,-999.000,    -1.7999,-999.0000,-999.000, -999.00
06AQANTIX_2,       SR04,      43,          1,         13,         13,2,19901122,       1940,   -63.6283,   -51.3667,       2061,    67.4,  34.4049,2,  34.4078,3,  -999.0,9,   74.48,2,   29.59,2,    0.02,2, -999.00,9,-999.000,9,-999.0000,9, -999.00,9,-999.000,9,-999.000,    -1.8421,-999.0000,-999.000, -999.00
06AQANTIX_2,       SR04,      43,          1,         12,         12,2,19901122,       1940,   -63.6283,   -51.3667,       2061,    98.2,  34.4273,2,  34.4276,3,   245.9,2,   79.91,2,   30.12,2,    0.01,2,    2.13,2,-999.000,9,   1.8270,2,    2.21,2,   8.079,2,   0.024,    -1.8273,   0.0050,-999.000,    0.20
06AQANTIX_2,       SR04,      43,          1,         11,         11,2,19901122,       1940,   -63.6283,   -51.3667,       2061,   147.0,  34.4729,2,-999.0000,9,   238.5,2,   85.34,2,   30.64,2,    0.00,2,    2.16,2,-999.000,9,   1.8130,2,    3.60,2,   8.040,2,   0.024,    -1.3566,   0.0050,-999.000,    0.20
06AQANTIX_2,       SR04,      43,          1,         10,         10,2,19901122,       1940,   -63.6283,   -51.3667,       2061,   195.4,  34.5258,2,  34.5329,3,   223.1,2,   98.69,2,   31.31,2,    0.00,2,    2.23,2,-999.000,9,   1.8280,2,    6.85,2,   7.950,2,   0.024,    -0.8454,   0.0050,-999.000,    0.20
06AQANTIX_2,       SR04,      43,          1,          9,          9,2,19901122,       1940,   -63.6283,   -51.3667,       2061,   298.7,  34.6331,2,  34.6343,3,   203.0,2,  104.89,2,   31.62,2,    0.00,2,    2.24,2,   0.167,4,   1.8490,2,    7.51,2,   7.985,2,   0.024,     0.1843,   0.0050,   0.121,    0.20
06AQANTIX_2,       SR04,      43,          1,          8,          8,2,19901122,       1940,   -63.6283,   -51.3667,       2061,   396.9,  34.6668,2,  34.6675,3,   200.6,2,  108.15,2,   31.73,2,    0.00,2,    2.26,2,   0.069,2,   1.8460,2,    7.98,2,   8.061,2,   0.024,     0.4580,   0.0050,   0.003,    0.20
06AQANTIX_2,       SR04,      43,          1,          7,          7,2,19901122,       1940,   -63.6283,   -51.3667,       2061,   494.7,  34.6759,2,  34.6757,3,   196.0,2,  116.68,2,   31.99,2,    0.00,2,    2.28,2,   0.021,2,   1.8580,2,    7.92,2,   8.062,2,   0.024,     0.4987,   0.0060,   0.006,    0.20
06AQANTIX_2,       SR04,      43,          1,          6,          6,2,19901122,       1940,   -63.6283,   -51.3667,       2061,   793.9,  34.6863,2,  34.6853,3,   216.3,2,  122.42,2,   32.09,2,    0.00,2,    2.30,2,   0.019,2,   1.8490,2,    6.78,2,   8.060,2,   0.024,     0.4710,   0.0050,   0.006,    0.20
06AQANTIX_2,       SR04,      43,          1,          5,          5,2,19901122,       1940,   -63.6283,   -51.3667,       2061,  1295.2,  34.6775,2,  34.6757,3,   242.1,2,  109.70,2,   31.34,2,    0.01,2,    2.25,2,   0.064,2,-999.0000,1, -999.00,1,-999.000,1,-999.000,     0.2059,-999.0000,   0.003, -999.00
06AQANTIX_2,       SR04,      43,          1,          4,          4,2,19901122,       1940,   -63.6283,   -51.3667,       2061,  1696.9,  34.6520,2,-999.0000,9,   266.8,2,   95.42,2,   30.70,3,    0.01,2,    2.23,2,   0.081,2,   1.8530,2,    2.66,2,   8.160,2,   0.024,    -0.2428,   0.0060,   0.016,    0.20
06AQANTIX_2,       SR04,      43,          1,          3,          3,2,19901122,       1940,   -63.6283,   -51.3667,       2061,  1997.4,  34.6316,2,  34.6279,3,  -999.0,9,   88.44,2,   30.50,3,    0.01,2, -999.00,9,   0.097,2,-999.0000,1, -999.00,1,-999.000,1,-999.000,    -0.7928,-999.0000,   0.004, -999.00
06AQANTIX_2,       SR04,      43,          1,          2,          2,2,19901122,       1940,   -63.6283,   -51.3667,       2061,  2104.1,  34.6216,2,  34.6184,3,   274.5,2,   87.20,2,   31.00,2,    0.01,2,    2.15,2,   0.109,2,   1.8610,2,    2.12,2,   8.235,2,   0.025,    -0.9867,   0.0060,   0.009,    0.20
06AQANTIX_2,       SR04,      44,          1,         20,         20,2,19901123,       0735,    -63.755,    -50.925,       2352,     8.7,  34.3758,2,-999.0000,9,  -999.0,9,   75.06,2,   30.44,2,    0.05,2,    2.06,2,-999.000,9,-999.0000,9, -999.00,9,-999.000,9,-999.000,    -1.8386,-999.0000,-999.000, -999.00
06AQANTIX_2,       SR04,      44,          1,         19,         19,2,19901123,       0735,    -63.755,    -50.925,       2352,     8.7,  34.3756,2,  34.3740,3,   298.5,2,   74.90,2,   30.48,2,    0.05,2,    2.06,2,-999.000,9,   1.8410,2,    1.68,2,   8.196,2,   0.025,    -1.8392,   0.0050,-999.000,    0.20
06AQANTIX_2,       SR04,      44,          1,         17,         17,2,19901123,       0735,    -63.755,    -50.925,       2352,    52.5,  34.4001,2,  34.4052,3,   299.1,2,   75.06,2,   30.65,2,    0.05,2,    2.07,2,   0.151,2,-999.0000,9, -999.00,9,-999.000,9,-999.000,    -1.8326,-999.0000,   0.005, -999.00
06AQANTIX_2,       SR04,      44,          1,         18,         18,2,19901123,       0735,    -63.755,    -50.925,       2352,    52.6,  34.3992,2,-999.0000,9,  -999.0,9,   74.90,2,   30.61,2,    0.05,2,    2.07,2,-999.000,9,-999.0000,1, -999.00,1,-999.000,1,-999.000,    -1.8317,-999.0000,-999.000, -999.00
06AQANTIX_2,       SR04,      44,          1,         16,         16,2,19901123,       0735,    -63.755,    -50.925,       2352,   101.5,  34.4328,2,  34.4316,3,  -999.0,9,   75.37,2,   30.84,2,    0.04,2,    2.08,2,-999.000,9,-999.0000,9, -999.00,9,-999.000,9,-999.000,    -1.7983,-999.0000,-999.000, -999.00
06AQANTIX_2,       SR04,      44,          1,         15,         15,2,19901123,       0735,    -63.755,    -50.925,       2352,   101.5,  34.4328,2,  34.4316,3,   293.0,2,   75.37,2,   30.78,2,    0.04,2,    2.08,2,   0.132,2,   1.8300,2,    0.87,2,   8.151,2,   0.024,    -1.7983,   0.0050,   0.005,    0.20
06AQANTIX_2,       SR04,      44,          1,         14,         14,2,19901123,       0735,    -63.755,    -50.925,       2352,   194.7,  34.5319,2,  34.5332,3,   257.6,2,   85.99,2,   31.69,2,    0.01,2,    2.15,2,   0.128,2,   1.8120,3,    3.76,2,   8.103,2,   0.024,    -0.8183,   0.0050,   0.005,    0.20
06AQANTIX_2,       SR04,      44,          1,         12,         12,2,19901123,       0735,    -63.755,    -50.925,       2352,   299.2,  34.6428,2,  34.6472,3,   217.3,2,   99.94,2,   32.59,2,    0.01,2,    2.23,2,-999.000,9,   1.8370,2,    6.98,2,   8.057,2,   0.024,     0.2785,   0.0050,-999.000,    0.20
06AQANTIX_2,       SR04,      44,          1,         11,         11,2,19901123,       0735,    -63.755,    -50.925,       2352,   399.5,  34.6654,2,  34.6670,3,   211.8,2,  104.22,2,   32.77,2,    0.01,2,    2.24,2,   0.084,2,   1.8320,2,    7.91,2,   7.979,2,   0.024,     0.4503,   0.0050,   0.004,    0.20
06AQANTIX_2,       SR04,      44,          1,         10,         10,2,19901123,       0735,    -63.755,    -50.925,       2352,   500.0,  34.6726,2,  34.6742,3,   210.6,2,  107.54,2,   32.77,2,    0.01,2,    2.25,2,   0.102,2,   1.8490,2,    7.91,2,   7.978,2,   0.024,     0.4497,   0.0050,   0.005,    0.20
06AQANTIX_2,       SR04,      44,          1,          9,          9,2,19901123,       0735,    -63.755,    -50.925,       2352,   594.8,  34.6776,2,  34.6785,3,   208.1,2,  110.24,2,   32.85,2,    0.01,2,    2.25,2,   0.114,2,   1.8420,2,    7.42,2,-999.000,1,-999.000,     0.4656,   0.0050,   0.007,    0.20
06AQANTIX_2,       SR04,      44,          1,          8,          8,2,19901123,       0735,    -63.755,    -50.925,       2352,   795.5,  34.6846,2,  34.6854,3,   209.4,2,  117.05,2,   33.04,2,    0.01,2,    2.27,2,-999.000,9,-999.0000,1, -999.00,1,-999.000,1,-999.000,     0.4510,-999.0000,-999.000, -999.00
06AQANTIX_2,       SR04,      44,          1,          7,          7,2,19901123,       0735,    -63.755,    -50.925,       2352,   995.2,  34.6823,2,  34.6830,3,   208.9,2,  120.22,2,   33.12,2,    0.00,2,    2.29,2,   0.107,2,-999.0000,1, -999.00,1,-999.000,1,-999.000,     0.3517,-999.0000,   0.005, -999.00
06AQANTIX_2,       SR04,      44,          1,          6,          6,2,19901123,       0735,    -63.755,    -50.925,       2352,  1495.4,  34.6722,2,  34.6715,3,   230.9,2,  123.23,2,   32.92,2,    0.00,2,    2.28,2,   0.025,2,   1.8540,2,    6.71,2,   8.132,2,   0.024,     0.0784,   0.0060,   0.003,    0.20
06AQANTIX_2,       SR04,      44,          1,          5,          5,2,19901123,       0735,    -63.755,    -50.925,       2352,  1993.3,  34.6570,2,  34.6550,3,   237.6,2,  117.68,2,   32.48,2,    0.00,2,    2.25,2,   0.102,3,   1.8520,2,    5.47,2,   8.175,2,   0.024,    -0.2397,   0.0060,   0.013,    0.20
06AQANTIX_2,       SR04,      44,          1,          4,          4,2,19901123,       0735,    -63.755,    -50.925,       2352,  2248.6,  34.6353,2,  34.6323,3,   258.1,2,   99.44,2,   31.84,2,    0.00,2,    2.19,2,   0.068,2,-999.0000,1, -999.00,1,-999.000,1,-999.000,    -0.6434,-999.0000,   0.003, -999.00
06AQANTIX_2,       SR04,      44,          1,          3,          3,2,19901123,       0735,    -63.755,    -50.925,       2352,  2350.9,  34.6234,2,  34.6198,3,  -999.0,9,   90.08,2,   31.45,2,    0.01,2,    2.15,2,-999.000,9,   1.8790,2,    3.11,2,   8.282,2,   0.025,    -0.9162,   0.0060,-999.000,    0.20
06AQANTIX_2,       SR04,      44,          1,          2,          2,2,19901123,       0735,    -63.755,    -50.925,       2352,  2399.9,  34.6219,2,  34.6191,3,   281.3,2,   88.49,2,   31.34,2,    0.00,2,    2.15,2,   0.084,2,   1.8790,2,    2.71,2,   8.316,2,   0.025,    -0.9703,   0.0060,   0.004,    0.20
06AQANTIX_2,       SR04,      44,          1,          1,          1,2,19901123,       0735,    -63.755,    -50.925,       2352,  2470.9,  34.6206,2,  34.6171,3,   280.9,2,   88.02,2,   31.38,2,    0.00,2,    2.15,2,   0.148,2,   1.8650,2,    2.43,2,   8.246,2,   0.025,    -0.9876,   0.0060,   0.006,    0.20