BOTTLE,20220818CCHSIOAMB
EXPOCODE,SECT_ID,STNNBR,CASTNO,SAMPNO,BTLNBR,BTLNBR_FLAG_W,DATE,TIME,LATITUDE,LONGITUDE,DEPTH,CTDPRS,CTDSAL,CTDSAL_FLAG_W,SALNTY,SALNTY_FLAG_W,OXYGEN,OXYGEN_FLAG_W,SILCAT,SILCAT_FLAG_W,NITRAT,NITRAT_FLAG_W,NITRIT,NITRIT_FLAG_W,PHSPHT,PHSPHT_FLAG_W,TRITUM,TRITUM_FLAG_W,HELIUM,HELIUM_FLAG_W,DELHE3,DELHE3_FLAG_W,NEON,NEON_FLAG_W,NEONER,CTDTMP,HELIER,TRITER,DELHER
,,,,,,,,,,,METERS,DBAR,PSS-78,,PSS-78,,UMOL/KG,,UMOL/KG,,UMOL/KG,,UMOL/KG,,UMOL/KG,,TU,,NMOL/KG,,PERCNT,,NMOL/KG,,NMOL/KG,IPTS-68,NMOL/KG,TU,PERCNT
06AQANTIX_2,       SR04,     108,          1,         24,         24,2,19901214,       0006,   -70.9917,   -11.8367,       1061,     1.8,  34.3276,2,  34.3324,3,   323.3,2,   59.89,2,   29.62,2,    0.07,2,    2.13,2,-999.000,9,-999.0000,9, -999.00,9,-999.000,9,-999.000,    -1.8019,-999.0000,-999.000, -999.00
06AQANTIX_2,       SR04,     108,          1,         23,         23,2,19901214,       0006,   -70.9917,   -11.8367,       1061,    15.8,  34.3338,2,  34.3344,3,   323.6,2,   59.90,2,   29.62,2,    0.08,2,    2.13,2,-999.000,9,-999.0000,9, -999.00,9,-999.000,9,-999.000,    -1.8143,-999.0000,-999.000, -999.00
06AQANTIX_2,       SR04,     108,          1,         22,         22,2,19901214,       0006,   -70.9917,   -11.8367,       1061,    32.0,  34.3368,2,  34.3374,3,   325.4,2,   59.71,2,   29.67,2,    0.07,2,    2.15,2,-999.000,9,-999.0000,9, -999.00,9,-999.000,9,-999.000,    -1.8254,-999.0000,-999.000, -999.00
06AQANTIX_2,       SR04,     108,          1,         21,         21,2,19901214,       0006,   -70.9917,   -11.8367,       1061,    52.6,  34.3398,2,  34.3416,3,   323.6,2,   59.91,2,   29.72,2,    0.06,2,    2.18,2,-999.000,9,-999.0000,9, -999.00,9,-999.000,9,-999.000,    -1.8272,-999.0000,-999.000, -999.00
06AQANTIX_2,       SR04,     108,          1,         20,         20,2,19901214,       0006,   -70.9917,   -11.8367,       1061,    80.8,  34.3438,2,  34.3463,3,   321.3,2,   59.72,2,   29.72,2,    0.06,2,    2.20,2,-999.000,9,-999.0000,9, -999.00,9,-999.000,9,-999.000,    -1.8427,-999.0000,-999.000, -999.00
06AQANTIX_2,       SR04,     108,          1,         19,         19,2,19901214,       0006,   -70.9917,   -11.8367,       1061,   122.8,  34.3511,2,  34.3511,3,   320.4,2,   59.92,2,   29.83,2,    0.06,2,    2.21,2,-999.000,9,-999.0000,9, -999.00,9,-999.000,9,-999.000,    -1.8553,-999.0000,-999.000, -999.00
06AQANTIX_2,       SR04,     108,          1,         18,         18,2,19901214,       0006,   -70.9917,   -11.8367,       1061,   122.8,  34.3511,2,  34.3511,3,  -999.0,9,   59.93,2,   29.83,2,    0.07,2,    2.21,2,-999.000,9,-999.0000,9, -999.00,9,-999.000,9,-999.000,    -1.8553,-999.0000,-999.000, -999.00
06AQANTIX_2,       SR04,     108,          1,         17,         17,2,19901214,       0006,   -70.9917,   -11.8367,       1061,   172.9,  34.3552,2,  34.3569,3,  -999.0,9,   60.13,2,   29.88,2,    0.05,2,    2.20,2,-999.000,9,-999.0000,9, -999.00,9,-999.000,9,-999.000,    -1.8467,-999.0000,-999.000, -999.00
06AQANTIX_2,       SR04,     108,          1,         16,         16,2,19901214,       0006,   -70.9917,   -11.8367,       1061,   172.9,  34.3552,2,  34.3569,3,  -999.0,9,   60.13,2,   29.83,2,    0.04,2,    2.20,2,-999.000,9,-999.0000,9, -999.00,9,-999.000,9,-999.000,    -1.8467,-999.0000,-999.000, -999.00
06AQANTIX_2,       SR04,     108,          1,         15,         15,2,19901214,       0006,   -70.9917,   -11.8367,       1061,   248.8,  34.3675,2,  34.3680,3,   317.6,2,   60.14,2,   29.98,2,    0.01,2,    2.17,2,-999.000,9,-999.0000,9, -999.00,9,-999.000,9,-999.000,    -1.8170,-999.0000,-999.000, -999.00
06AQANTIX_2,       SR04,     108,          1,         14,         14,2,19901214,       0006,   -70.9917,   -11.8367,       1061,   248.8,  34.3675,2,  34.3680,3,  -999.0,9,   59.95,2,   29.98,2,    0.02,2,    2.15,2,-999.000,9,-999.0000,9, -999.00,9,-999.000,9,-999.000,    -1.8170,-999.0000,-999.000, -999.00
06AQANTIX_2,       SR04,     108,          1,         13,         13,2,19901214,       0006,   -70.9917,   -11.8367,       1061,   348.3,  34.3715,2,  34.3710,3,   314.6,2,   60.34,2,   29.93,2,    0.02,2,    2.13,2,-999.000,9,-999.0000,9, -999.00,9,-999.000,9,-999.000,    -1.7982,-999.0000,-999.000, -999.00
06AQANTIX_2,       SR04,     108,          1,         12,         12,2,19901214,       0006,   -70.9917,   -11.8367,       1061,   348.3,  34.3715,2,  34.3710,3,  -999.0,9,   60.35,2,   29.93,2,    0.02,2,    2.12,2,-999.000,9,-999.0000,9, -999.00,9,-999.000,9,-999.000,    -1.7982,-999.0000,-999.000, -999.00
06AQANTIX_2,       SR04,     108,          1,         11,         11,2,19901214,       0006,   -70.9917,   -11.8367,       1061,   498.1,  34.4061,2,  34.4085,3,   300.0,2,   67.29,2,   30.40,2,    0.00,2,    2.14,2,-999.000,9,-999.0000,9, -999.00,9,-999.000,9,-999.000,    -1.4620,-999.0000,-999.000, -999.00
06AQANTIX_2,       SR04,     108,          1,         10,         10,2,19901214,       0006,   -70.9917,   -11.8367,       1061,   498.1,  34.4061,2,  34.4085,3,  -999.0,9,   67.29,2,   30.29,2,    0.02,2,    2.12,2,-999.000,9,-999.0000,9, -999.00,9,-999.000,9,-999.000,    -1.4620,-999.0000,-999.000, -999.00
06AQANTIX_2,       SR04,     108,          1,          9,          9,2,19901214,       0006,   -70.9917,   -11.8367,       1061,   597.9,  34.4548,2,-999.0000,9,   273.1,2,   75.57,2,   30.81,2,    0.01,2,    2.15,2,-999.000,9,-999.0000,9, -999.00,9,-999.000,9,-999.000,    -1.1879,-999.0000,-999.000, -999.00
06AQANTIX_2,       SR04,     108,          1,          8,          8,2,19901214,       0006,   -70.9917,   -11.8367,       1061,   699.3,  34.5702,2,  34.5648,3,   240.6,2,   85.00,2,   31.43,2,    0.01,2,    2.19,2,-999.000,9,-999.0000,9, -999.00,9,-999.000,9,-999.000,    -0.0926,-999.0000,-999.000, -999.00
06AQANTIX_2,       SR04,     108,          1,          7,          7,2,19901214,       0006,   -70.9917,   -11.8367,       1061,   799.2,  34.6071,2,  34.6108,3,   225.6,2,   91.36,2,   31.64,2,    0.00,2,    2.21,2,-999.000,9,-999.0000,9, -999.00,9,-999.000,9,-999.000,     0.2631,-999.0000,-999.000, -999.00
06AQANTIX_2,       SR04,     108,          1,          6,          6,2,19901214,       0006,   -70.9917,   -11.8367,       1061,   999.9,  34.6557,2,  34.6565,3,   214.9,2,  100.02,2,   31.84,2,    0.02,2,    2.23,2,-999.000,9,-999.0000,9, -999.00,9,-999.000,9,-999.000,     0.5703,-999.0000,-999.000, -999.00
06AQANTIX_2,       SR04,     108,          1,          5,          5,2,19901214,       0006,   -70.9917,   -11.8367,       1061,   999.9,  34.6557,2,  34.6565,3,  -999.0,9,  100.02,2,   31.84,2,    0.01,2,    2.22,2,-999.000,9,-999.0000,9, -999.00,9,-999.000,9,-999.000,     0.5703,-999.0000,-999.000, -999.00
06AQANTIX_2,       SR04,     108,          1,          4,          4,2,19901214,       0006,   -70.9917,   -11.8367,       1061,   999.9,  34.6557,2,  34.6565,3,  -999.0,9,  100.02,2,   31.84,2,    0.02,2,    2.18,2,-999.000,9,-999.0000,9, -999.00,9,-999.000,9,-999.000,     0.5703,-999.0000,-999.000, -999.00
06AQANTIX_2,       SR04,     108,          1,          3,          3,2,19901214,       0006,   -70.9917,   -11.8367,       1061,  1034.8,  34.6574,2,  34.6576,3,  -999.0,9,  100.60,2,   31.90,2,   -0.01,4,    2.18,2,-999.000,9,-999.0000,9, -999.00,9,-999.000,9,-999.000,     0.5774,-999.0000,-999.000, -999.00
06AQANTIX_2,       SR04,     108,          1,          2,          2,2,19901214,       0006,   -70.9917,   -11.8367,       1061,  1078.0,  34.6613,2,-999.0000,9,   214.7,2,  102.14,2,   31.89,2,    0.01,2,    2.15,2,-999.000,9,-999.0000,9, -999.00,9,-999.000,9,-999.000,     0.5680,-999.0000,-999.000, -999.00
06AQANTIX_2,       SR04,     108,          1,          1,          1,2,19901214,       0006,   -70.9917,   -11.8367,       1061,  1088.0,  34.6609,2,-999.0000,9,   212.8,2,  103.11,2,   32.00,2,    0.01,2,    2.14,2,-999.000,9,-999.0000,9, -999.00,9,-999.000,9,-999.000,     0.5680,-999.0000,-999.000, -999.00
06AQANTIX_2,       SR04,     109,          1,         16,         16,2,19901214,       0513,   -70.9067,   -11.9417,       1479,     1.3,  34.3072,2,  34.3095,3,   318.1,2,   61.68,2,   29.65,2,    0.09,2,    2.04,2,-999.000,9,-999.0000,9, -999.00,9,-999.000,9,-999.000,    -1.8166,-999.0000,-999.000, -999.00
06AQANTIX_2,       SR04,     109,          1,         15,         15,2,19901214,       0513,   -70.9067,   -11.9417,       1479,    24.3,  34.3150,2,  34.3176,3,   316.9,2,   61.68,2,   29.70,2,    0.09,2,    2.05,2,   0.134,2,   1.8330,2, -999.00,1,   8.223,2,   0.033,    -1.8359,   0.0070,   0.009, -999.00
06AQANTIX_2,       SR04,     109,          1,         14,         14,2,19901214,       0513,   -70.9067,   -11.9417,       1479,    48.5,  34.3322,2,  34.3316,3,  -999.0,9,   61.68,2,   29.74,2,    0.08,2,    2.06,2,-999.000,9,   1.8330,2,    0.30,2,   8.198,2,   0.025,    -1.8498,   0.0050,-999.000,    0.20
06AQANTIX_2,       SR04,     109,          1,         13,         13,2,19901214,       0513,   -70.9067,   -11.9417,       1479,    74.3,  34.3422,2,  34.3427,3,   315.2,2,   62.06,2,   29.79,2,    0.09,2,    2.06,2,   0.142,2,-999.0000,1, -999.00,1,-999.000,1,-999.000,    -1.8486,-999.0000,   0.007, -999.00
06AQANTIX_2,       SR04,     109,          1,         12,         12,2,19901214,       0513,   -70.9067,   -11.9417,       1479,   100.4,  34.3513,2,  34.3509,3,   311.9,2,   62.44,2,   29.83,2,    0.09,2,    2.06,2,   0.170,2,-999.0000,1, -999.00,1,-999.000,1,-999.000,    -1.8534,-999.0000,   0.007, -999.00
06AQANTIX_2,       SR04,     109,          1,         11,         11,2,19901214,       0513,   -70.9067,   -11.9417,       1479,   199.9,  34.3631,2,  34.3629,3,   314.9,2,   60.70,2,   29.88,2,    0.03,2,    2.06,2,   0.127,2,   1.8320,2,    0.41,2,   8.188,2,   0.025,    -1.8201,   0.0050,   0.007,    0.20
06AQANTIX_2,       SR04,     109,          1,         10,         10,2,19901214,       0513,   -70.9067,   -11.9417,       1479,   398.4,  34.4353,2,  34.4347,3,   283.0,2,   72.44,2,   30.59,2,    0.01,2,    2.12,2,   0.126,2,   1.8790,3, -999.00,1,   8.159,2,   0.033,    -1.2819,   0.0070,   0.013, -999.00
06AQANTIX_2,       SR04,     109,          1,          9,          9,2,19901214,       0513,   -70.9067,   -11.9417,       1479,   440.6,  34.4530,2,  34.4502,3,  -999.0,9,   73.01,2,   30.58,2,    0.01,2,    2.13,2,   0.108,2,   1.8330,2, -999.00,1,   8.148,2,   0.033,    -1.3468,   0.0070,   0.006, -999.00
06AQANTIX_2,       SR04,     109,          1,          8,          8,2,19901214,       0513,   -70.9067,   -11.9417,       1479,   799.2,  34.6710,2,  34.6715,3,   209.6,2,  100.13,2,   31.83,2,    0.01,2,    2.22,2,   0.052,2,   1.8360,2,    7.48,2,   8.033,3,   0.040,     0.7179,   0.0090,   0.004,    0.20
06AQANTIX_2,       SR04,     109,          1,          7,          7,2,19901214,       0513,   -70.9067,   -11.9417,       1479,  1000.4,  34.6821,2,  34.6836,3,   210.1,2,  106.66,2,   31.87,2,    0.01,2,    2.23,2,   0.064,2,   1.8400,2,    7.57,2,   8.118,2,   0.024,     0.6693,   0.0050,   0.005,    0.20
06AQANTIX_2,       SR04,     109,          1,          6,          6,2,19901214,       0513,   -70.9067,   -11.9417,       1479,  1200.9,  34.6737,2,  34.6750,3,  -999.0,9,  111.85,2,   32.08,2,    0.00,2,    2.25,2,-999.000,9,-999.0000,9, -999.00,9,-999.000,9,-999.000,     0.4661,-999.0000,-999.000, -999.00
06AQANTIX_2,       SR04,     109,          1,          5,          5,2,19901214,       0513,   -70.9067,   -11.9417,       1479,  1200.9,  34.6737,2,  34.6750,3,   213.6,2,  111.65,2,   32.07,2,   -0.01,4,    2.26,2,-999.000,9,-999.0000,9, -999.00,9,-999.000,9,-999.000,     0.4661,-999.0000,-999.000, -999.00
06AQANTIX_2,       SR04,     109,          1,          4,          4,2,19901214,       0513,   -70.9067,   -11.9417,       1479,  1200.9,  34.6732,2,  34.6728,3,  -999.0,9,  111.83,2,   32.06,2,    0.01,2,    2.26,2,-999.000,9,-999.0000,1, -999.00,1,-999.000,1,-999.000,     0.4645,-999.0000,-999.000, -999.00
06AQANTIX_2,       SR04,     109,          1,          3,          3,2,19901214,       0513,   -70.9067,   -11.9417,       1479,  1398.6,  34.6748,2,  34.6734,3,   215.0,2,  116.25,2,   32.22,2,    0.00,2,    2.28,2,   0.112,3,   1.8470,2,    8.26,2,   8.159,2,   0.024,     0.3591,   0.0050,   0.006,    0.20
06AQANTIX_2,       SR04,     109,          1,          2,          2,2,19901214,       0513,   -70.9067,   -11.9417,       1479,  1493.1,  34.6730,2,  34.6735,3,   216.4,2,  118.93,2,   32.32,2,    0.01,2,    2.29,2,   0.065,2,   1.8650,2,    6.90,2,   8.135,2,   0.041,     0.2826,   0.0090,   0.004,    0.20
06AQANTIX_2,       SR04,     109,          1,          1,          1,2,19901214,       0513,   -70.9067,   -11.9417,       1479,  1548.0,  34.6714,2,-999.0000,9,   226.5,2,  121.42,2,   32.42,2,    0.00,2,    2.29,2,   0.050,2,-999.0000,1, -999.00,1,-999.000,1,-999.000,     0.1860,-999.0000,   0.008, -999.00
06AQANTIX_2,       SR04,     113,          1,         21,         21,2,19901215,       1144,     -71.05,   -11.7067,        345,     2.4,  34.3297,2,  34.3341,3,  -999.0,9,   59.64,2,   29.70,2,    0.07,2,    2.06,2,-999.000,9,-999.0000,9, -999.00,9,-999.000,9,-999.000,    -1.6450,-999.0000,-999.000, -999.00
06AQANTIX_2,       SR04,     113,          1,         20,         20,2,19901215,       1144,     -71.05,   -11.7067,        345,     2.4,  34.3297,2,  34.3341,3,   323.3,2,   59.65,2,   29.65,2,    0.06,2,    2.05,2,-999.000,9,-999.0000,9, -999.00,9,-999.000,9,-999.000,    -1.6450,-999.0000,-999.000, -999.00
06AQANTIX_2,       SR04,     113,          1,         19,         19,2,19901215,       1144,     -71.05,   -11.7067,        345,    18.6,  34.3302,2,  34.3337,3,  -999.0,9,   59.85,2,   29.71,2,    0.04,2,    2.05,2,-999.000,9,-999.0000,9, -999.00,9,-999.000,9,-999.000,    -1.6342,-999.0000,-999.000, -999.00
06AQANTIX_2,       SR04,     113,          1,         18,         18,2,19901215,       1144,     -71.05,   -11.7067,        345,    18.6,  34.3302,2,  34.3337,3,   320.7,2,   59.67,2,   29.71,2,    0.05,2,    2.05,2,-999.000,9,-999.0000,9, -999.00,9,-999.000,9,-999.000,    -1.6342,-999.0000,-999.000, -999.00
06AQANTIX_2,       SR04,     113,          1,         17,         17,2,19901215,       1144,     -71.05,   -11.7067,        345,    50.1,  34.3424,2,  34.3434,3,  -999.0,9,   59.67,2,   29.71,2,    0.05,2,    2.06,2,-999.000,9,-999.0000,9, -999.00,9,-999.000,9,-999.000,    -1.8547,-999.0000,-999.000, -999.00
06AQANTIX_2,       SR04,     113,          1,         16,         16,2,19901215,       1144,     -71.05,   -11.7067,        345,    50.1,  34.3424,2,  34.3434,3,   324.5,2,   59.68,2,   29.72,2,    0.05,2,    2.06,2,-999.000,9,-999.0000,9, -999.00,9,-999.000,9,-999.000,    -1.8547,-999.0000,-999.000, -999.00
06AQANTIX_2,       SR04,     113,          1,         15,         15,2,19901215,       1144,     -71.05,   -11.7067,        345,    87.5,  34.3489,2,  34.3530,3,  -999.0,9,   59.69,2,   29.72,2,    0.05,2,    2.06,2,-999.000,9,-999.0000,9, -999.00,9,-999.000,9,-999.000,    -1.8603,-999.0000,-999.000, -999.00
06AQANTIX_2,       SR04,     113,          1,         14,         14,2,19901215,       1144,     -71.05,   -11.7067,        345,    87.5,  34.3489,2,  34.3530,3,  -999.0,9,   59.70,2,   29.67,2,    0.05,2,    2.06,2,-999.000,9,-999.0000,9, -999.00,9,-999.000,9,-999.000,    -1.8603,-999.0000,-999.000, -999.00
06AQANTIX_2,       SR04,     113,          1,         12,         12,2,19901215,       1144,     -71.05,   -11.7067,        345,   113.2,  34.3504,2,  34.3497,3,   326.6,2,   59.70,2,   29.78,2,    0.05,2,    2.07,2,-999.000,9,   1.8290,2,   -0.93,2,   8.319,3,   0.042,    -1.8598,   0.0090,-999.000,    0.20
06AQANTIX_2,       SR04,     113,          1,         10,         10,2,19901215,       1144,     -71.05,   -11.7067,        345,   179.1,  34.3552,2,  34.3555,3,   320.3,2,   59.71,2,   29.79,2,    0.06,2,    2.07,2,-999.000,9,-999.0000,9, -999.00,9,-999.000,9,-999.000,    -1.8487,-999.0000,-999.000, -999.00
06AQANTIX_2,       SR04,     113,          1,          8,          8,2,19901215,       1144,     -71.05,   -11.7067,        345,   240.7,  34.3664,2,  34.3652,3,  -999.0,9,   60.30,2,   29.95,2,    0.01,2,    2.07,2,-999.000,9,-999.0000,9, -999.00,9,-999.000,9,-999.000,    -1.8130,-999.0000,-999.000, -999.00
06AQANTIX_2,       SR04,     113,          1,          7,          7,2,19901215,       1144,     -71.05,   -11.7067,        345,   300.3,  34.3702,2,  34.3704,3,  -999.0,9,   61.08,2,   30.00,2,    0.00,2,    2.08,2,-999.000,9,-999.0000,9, -999.00,9,-999.000,9,-999.000,    -1.7895,-999.0000,-999.000, -999.00
06AQANTIX_2,       SR04,     113,          1,          6,          6,2,19901215,       1144,     -71.05,   -11.7067,        345,   300.3,  34.3702,2,  34.3704,3,   320.9,2,   61.09,2,   29.96,2,    0.00,2,    2.08,2,-999.000,9,-999.0000,9, -999.00,9,-999.000,9,-999.000,    -1.7895,-999.0000,-999.000, -999.00
06AQANTIX_2,       SR04,     113,          1,          5,          5,2,19901215,       1144,     -71.05,   -11.7067,        345,   398.0,  34.3783,2,  34.3792,3,   324.9,2,   61.87,2,   30.01,2,    0.00,2,    2.09,2,-999.000,9,-999.0000,9, -999.00,9,-999.000,9,-999.000,    -1.7487,-999.0000,-999.000, -999.00
06AQANTIX_2,       SR04,     113,          1,          4,          4,2,19901215,       1144,     -71.05,   -11.7067,        345,   500.3,  34.3785,2,  34.3778,3,   321.0,2,   61.30,2,   29.97,2,    0.01,2,    2.08,2,-999.000,9,-999.0000,9, -999.00,9,-999.000,9,-999.000,    -1.8046,-999.0000,-999.000, -999.00
06AQANTIX_2,       SR04,     113,          1,          3,          3,2,19901215,       1144,     -71.05,   -11.7067,        345,   598.8,  34.4056,2,  34.4049,3,   303.9,2,   65.55,2,   30.28,2,    0.01,2,    2.10,2,-999.000,9,   1.8390,2,    1.09,2,   8.220,2,   0.041,    -1.4896,   0.0090,-999.000,    0.20
06AQANTIX_2,       SR04,     113,          1,          2,          2,2,19901215,       1144,     -71.05,   -11.7067,        345,   698.4,  34.4611,2,  34.4593,3,   278.8,2,   73.87,2,   30.76,2,    0.00,2,    2.15,2,-999.000,9,-999.0000,9, -999.00,9,-999.000,9,-999.000,    -1.0356,-999.0000,-999.000, -999.00
06AQANTIX_2,       SR04,     113,          1,          1,          1,2,19901215,       1144,     -71.05,   -11.7067,        345,   770.0,  34.4707,2,-999.0000,9,   276.5,2,   75.42,2,   30.87,2,    0.00,2,    2.16,2,-999.000,9,   1.8180,2,    2.47,2,   8.074,2,   0.024,    -0.9560,   0.0050,-999.000,    0.20