BOTTLE,20220818CCHSIOAMB
EXPOCODE,SECT_ID,STNNBR,CASTNO,SAMPNO,BTLNBR,BTLNBR_FLAG_W,DATE,TIME,LATITUDE,LONGITUDE,DEPTH,CTDRAW,CTDPRS,CTDTMP,CTDSAL,CTDSAL_FLAG_W,SALNTY,SALNTY_FLAG_W,CTDOXY,CTDOXY_FLAG_W,THETA,OXYGEN,OXYGEN_FLAG_W,SILCAT,SILCAT_FLAG_W,NITRAT,NITRAT_FLAG_W,NITRIT,NITRIT_FLAG_W,PHSPHT,PHSPHT_FLAG_W,TRITUM,TRITUM_FLAG_W,TCARBN,TCARBN_FLAG_W,REVPRS,REVPRS_FLAG_W,TRITER,REVTMP,REVTMP_FLAG_W
,,,,,,,,,,,,,DBAR,ITS-90,PSS-78,,PSS-78,,UMOL/KG,,DEG C,UMOL/KG,,UMOL/KG,,UMOL/KG,,UMOL/KG,,UMOL/KG,,TU,,UMOL/KG,,DBAR,,TU,ITS-90,
  316N198212_2, ATAS2,    58,  1,      1,      1,2,19830101,1916,  2.5067, -42.8167, 4279,   19.1,      2.0,  27.1559,  36.0897,2,  36.0910,2,   -999.0,9, 27.1554,    201.2,2,     2.15,2,     0.02,2,     0.00,2,     0.11,2, -999.000,9,   -999.0,9,  -999.0,9,-999.000,  27.153,2
  316N198212_2, ATAS2,    58,  1,      2,      2,2,19830101,1916,  2.5067, -42.8167, 4279,   91.6,     73.0,  26.7709,  36.1046,2,  36.1060,2,   -999.0,9, 26.7542,    199.8,2,     2.15,2,     0.02,2,     0.04,2,     0.12,2, -999.000,9,   -999.0,9,  -999.0,9,-999.000,-999.000,9
  316N198212_2, ATAS2,    58,  1,      3,      3,2,19830101,1916,  2.5067, -42.8167, 4279,  119.9,    101.0,  26.7649,  36.1077,2,  36.1080,2,   -999.0,9, 26.7418,    198.9,2,     2.25,2,     0.00,2,     0.05,2,     0.13,2, -999.000,9,   -999.0,9,  -999.0,9,-999.000,-999.000,9
  316N198212_2, ATAS2,    58,  1,      4,      4,2,19830101,1916,  2.5067, -42.8167, 4279,  144.3,    126.0,  24.7699,  36.2669,2,  36.2700,2,   -999.0,9, 24.7426,    185.7,2,     2.54,2,     1.97,2,     0.03,2,     0.30,2, -999.000,9,   -999.0,9,  -999.0,9,-999.000,-999.000,9
  316N198212_2, ATAS2,    58,  1,      5,      5,2,19830101,1916,  2.5067, -42.8167, 4279,  161.8,    145.0,  21.9200,  36.4009,2,  36.3970,2,   -999.0,9, 21.8912,    189.0,2,     3.03,2,     3.17,2,     0.05,2,     0.42,2, -999.000,9,   -999.0,9,  -999.0,9,-999.000,-999.000,9
  316N198212_2, ATAS2,    58,  1,      6,      6,2,19830101,1916,  2.5067, -42.8167, 4279,  189.3,    174.0,  17.6690,  35.9236,2,  35.9250,2,   -999.0,9, 17.6394,    184.1,2,     4.39,2,     7.34,2,     0.02,2,     0.67,2, -999.000,9,   -999.0,9,  -999.0,9,-999.000,-999.000,9
  316N198212_2, ATAS2,    58,  1,      7,      7,2,19830101,1916,  2.5067, -42.8167, 4279,  232.5,    219.0,  12.5751,  35.2102,2,  35.2170,2,   -999.0,9, 12.5456,    158.3,2,     8.70,2,    17.39,2,     0.00,2,     1.24,2, -999.000,9,   -999.0,9,  -999.0,9,-999.000,-999.000,9
  316N198212_2, ATAS2,    58,  1,      8,      8,2,19830101,1916,  2.5067, -42.8167, 4279,  282.5,    269.0,  10.9882,  35.0300,2,  35.0340,2,   -999.0,9, 10.9549,    149.6,2,    11.34,2,    21.50,2,     0.00,2,     1.47,2, -999.000,9,   -999.0,9,  -999.0,9,-999.000,-999.000,9
  316N198212_2, ATAS2,    58,  1,      9,      9,2,19830101,1916,  2.5067, -42.8167, 4279,  331.9,    319.0,   9.1202,  34.8695,2,  34.8710,2,   -999.0,9,  9.0851,    113.9,2,    16.22,2,    29.22,2,     0.00,2,     1.88,2, -999.000,9,   -999.0,9,  -999.0,9,-999.000,-999.000,9
  316N198212_2, ATAS2,    58,  1,     10,     10,2,19830101,1916,  2.5067, -42.8167, 4279,  396.6,    385.0,   6.6833,  34.5910,2,  34.6070,2,   -999.0,9,  6.6479,    143.5,2,    21.80,2,    31.28,2,     0.00,2,     2.05,2, -999.000,9,   -999.0,9,  -999.0,9,-999.000,-999.000,9
  316N198212_2, ATAS2,    58,  1,     11,     11,2,19830101,1916,  2.5067, -42.8167, 4279,  461.7,    450.0,   5.8363,  34.5148,2,  34.5160,2,   -999.0,9,  5.7977,    155.6,2,    24.83,2,    32.26,2,     0.00,2,     2.12,2, -999.000,9,   -999.0,9,  -999.0,9,-999.000,-999.000,9
  316N198212_2, ATAS2,    58,  1,     12,     12,2,19830101,1916,  2.5067, -42.8167, 4279,  610.4,    599.4,   5.3403,  34.4941,2,  34.4940,2,   -999.0,9,  5.2905,    157.4,2,    27.57,2,    32.85,2,     0.00,2,     2.18,2, -999.000,9,   -999.0,9,  -999.0,9,-999.000,-999.000,9
  316N198212_2, ATAS2,    58,  1,     13,     13,2,19830101,1916,  2.5067, -42.8167, 4279,  757.1,    746.3,   4.8473,  34.4832,2,  34.4830,2,   -999.0,9,  4.7874,    163.5,2,    30.11,2,    33.14,2,     0.00,2,     2.20,2, -999.000,9,   -999.0,9,  -999.0,9,-999.000,-999.000,9
  316N198212_2, ATAS2,    58,  1,     14,     14,2,19830101,1916,  2.5067, -42.8167, 4279,  856.4,    845.8,   4.5083,  34.5875,2,  34.5880,2,   -999.0,9,  4.4418,    158.2,2,    32.35,2,    33.23,2,     0.00,2,     2.22,2, -999.000,9,   -999.0,9,  -999.0,9,-999.000,-999.000,9
  316N198212_2, ATAS2,    58,  1,     15,     15,2,19830101,1916,  2.5067, -42.8167, 4279, 1003.1,    992.5,   4.4453,  34.6456,2,-999.0000,9,   -999.0,9,  4.3666,   -999.0,9,  -999.00,9,  -999.00,9,  -999.00,9,  -999.00,9, -999.000,9,   -999.0,9,  -999.0,9,-999.000,-999.000,9
  316N198212_2, ATAS2,    58,  1,     16,     16,2,19830101,1916,  2.5067, -42.8167, 4279, 1208.0,   1197.7,   4.6423,  34.8258,2,  34.8230,2,   -999.0,9,  4.5434,    180.4,2,    25.61,2,    28.05,2,     0.00,2,     1.88,2, -999.000,9,   -999.0,9,  -999.0,9,-999.000,-999.000,9
  316N198212_2, ATAS2,    58,  1,     17,     17,2,19830101,1916,  2.5067, -42.8167, 4279, 1389.3,   1379.6,   4.5273,  34.9073,2,  34.9100,2,   -999.0,9,  4.4126,    205.1,2,    22.09,2,    24.72,2,     0.00,2,     1.65,2, -999.000,9,   -999.0,9,  1389.0,2,-999.000,   4.524,2
  316N198212_2, ATAS2,    58,  1,     18,     18,2,19830101,1916,  2.5067, -42.8167, 4279, 1622.6,   1614.0,   4.2253,  34.9855,2,-999.0000,9,   -999.0,9,  4.0919,   -999.0,9,  -999.00,9,  -999.00,9,  -999.00,9,  -999.00,9, -999.000,9,   -999.0,9,  -999.0,9,-999.000,-999.000,9
  316N198212_2, ATAS2,    58,  1,     19,     19,2,19830101,1916,  2.5067, -42.8167, 4279, 1831.7,   1824.1,   3.9823,  34.9847,2,  34.9860,2,   -999.0,9,  3.8320,    252.0,2,    16.71,2,    19.35,2,     0.00,2,     1.29,2, -999.000,9,   -999.0,9,  1824.0,2,-999.000,   3.983,2
  316N198212_2, ATAS2,    58,  1,     20,     20,2,19830101,1916,  2.5067, -42.8167, 4279, 2017.7,   2011.0,   3.6983,  34.9798,2,  34.9800,2,   -999.0,9,  3.5342,    259.0,2,    17.69,2,    18.86,2,     0.00,2,     1.27,2, -999.000,9,   -999.0,9,  -999.0,9,-999.000,-999.000,9
  316N198212_2, ATAS2,    58,  1,     21,     21,2,19830101,1916,  2.5067, -42.8167, 4279, 2210.6,   2205.0,   3.2993,  34.9638,2,  34.9650,2,   -999.0,9,  3.1228,    262.4,2,    20.62,2,    18.86,2,     0.00,2,     1.27,2, -999.000,9,   -999.0,9,  2207.0,2,-999.000,   3.298,2
  316N198212_2, ATAS2,    58,  1,     22,     22,2,19830101,1916,  2.5067, -42.8167, 4279, 4227.0,   4231.1,   2.0113,  34.8641,2,  34.8630,2,   -999.0,9,  1.6507,    255.9,2,    49.65,2,    21.70,2,     0.00,2,     1.49,2, -999.000,9,   -999.0,9,  -999.0,9,-999.000,-999.000,9
  316N198212_2, ATAS2,    58,  1,     23,     23,2,19830101,1916,  2.5067, -42.8167, 4279, 4346.9,   4351.8,   1.2384,  34.7761,2,  34.7730,2,   -999.0,9,  0.8877,    234.2,2,    88.45,2,    27.76,2,     0.00,2,     1.91,2,    0.030,2,   2242.0,2,  4347.0,2,   0.041,   1.241,2
  316N198212_2, ATAS2,    59,  2,      1,      1,2,19830102,1036,  3.4383, -42.3883, 4328,   22.8,      1.0,  27.2598,  36.0091,2,  36.0130,2,   -999.0,9, 27.2596,    199.4,2,     1.56,2,     0.01,2,     0.00,2,     0.10,2,    1.260,2,   2003.0,2,  -999.0,9,   0.070,  27.270,2
  316N198212_2, ATAS2,    59,  2,      2,      2,2,19830102,1036,  3.4383, -42.3883, 4328,   88.1,     65.0,  27.2418,  36.0110,2,  36.0080,2,   -999.0,9, 27.2268,    199.4,2,     1.56,2,     0.01,2,     0.00,2,     0.10,2,    1.260,2,   2012.0,2,  -999.0,9,   0.070,-999.000,9
  316N198212_2, ATAS2,    59,  2,      3,      3,2,19830102,1036,  3.4383, -42.3883, 4328,  135.9,    113.0,  26.6218,  36.2546,2,  36.2520,2,   -999.0,9, 26.5961,    193.2,2,     1.66,2,     0.25,2,     0.26,2,     0.17,2,    1.160,2,   2032.0,2,  -999.0,9,   0.070,-999.000,9
  316N198212_2, ATAS2,    59,  2,      4,      4,2,19830102,1036,  3.4383, -42.3883, 4328,  169.4,    147.0,  23.6349,  36.2497,2,  36.2480,2,   -999.0,9, 23.6041,    176.9,2,     2.64,2,     3.54,2,     0.03,2,     0.38,2,    1.200,2,   2080.0,2,  -999.0,9,   0.070,-999.000,9
  316N198212_2, ATAS2,    59,  2,      5,      5,2,19830102,1036,  3.4383, -42.3883, 4328,  207.0,    187.0,  16.9540,  36.0420,2,  36.0420,2,   -999.0,9, 16.9230,    127.5,2,     5.66,2,    14.74,2,     0.01,2,     0.92,2,    1.915,2,   2155.0,2,  -999.0,9,   0.073,-999.000,9
  316N198212_2, ATAS2,    59,  2,      6,      6,2,19830102,1036,  3.4383, -42.3883, 4328,  255.9,    238.0,  10.9841,  35.1147,2,  35.1150,2,   -999.0,9, 10.9547,    123.5,2,    11.73,2,    24.53,2,     0.01,2,     1.57,2,    0.540,2,   2188.0,2,  -999.0,9,   0.060,-999.000,9
  316N198212_2, ATAS2,    59,  2,      7,      7,2,19830102,1036,  3.4383, -42.3883, 4328,  295.0,    278.0,   9.3431,  34.8941,2,  34.8940,2,   -999.0,9,  9.3121,    122.6,2,    14.76,2,    27.75,2,     0.00,2,     1.78,2,    0.240,2,   2197.0,2,  -999.0,9,   0.070,-999.000,9
  316N198212_2, ATAS2,    59,  2,      8,      8,2,19830102,1036,  3.4383, -42.3883, 4328,  354.5,    337.0,   8.1182,  34.7470,2,  34.7400,2,   -999.0,9,  8.0836,    130.4,2,    17.30,2,    29.71,2,     0.00,2,     1.93,2,    0.190,2,   2202.0,2,  -999.0,9,   0.040,-999.000,9
  316N198212_2, ATAS2,    59,  2,      9,      9,2,19830102,1036,  3.4383, -42.3883, 4328,  403.6,    387.0,   7.4092,  34.6701,2,  34.6680,2,   -999.0,9,  7.3714,    130.9,2,    19.26,2,    31.18,2,     0.00,2,     2.01,2,    0.040,2,   2207.0,2,  -999.0,9,   0.060,-999.000,9
  316N198212_2, ATAS2,    59,  2,     10,     10,2,19830102,1036,  3.4383, -42.3883, 4328,  453.3,    437.0,   6.7102,  34.6269,2,  34.6350,2,   -999.0,9,  6.6698,    130.0,2,    21.89,2,    32.55,2,     0.00,2,     2.10,2,   -0.020,2,   2214.0,2,  -999.0,9,   0.050,-999.000,9
  316N198212_2, ATAS2,    59,  2,     11,     11,2,19830102,1036,  3.4383, -42.3883, 4328,  538.7,    528.1,   5.8262,  34.5619,2,  34.5630,2,   -999.0,9,  5.7806,    139.1,2,    25.12,2,    33.53,2,     0.00,2,     2.20,2,   -0.080,2,   2217.0,2,   532.0,2,   0.040,   5.818,2
  316N198212_2, ATAS2,    59,  2,     12,     12,2,19830102,1036,  3.4383, -42.3883, 4328,  614.3,    603.9,   5.0472,  34.5049,2,  34.5060,2,   -999.0,9,  4.9984,    156.5,2,    28.84,2,    33.33,2,     0.00,2,     2.20,2, -999.000,9,   -999.0,9,  -999.0,9,-999.000,-999.000,9
  316N198212_2, ATAS2,    59,  2,     13,     13,2,19830102,1036,  3.4383, -42.3883, 4328,  695.6,    685.2,   4.7582,  34.5088,2,  34.5080,2,   -999.0,9,  4.7040,    158.2,2,    30.69,2,    33.53,2,     0.00,2,     2.21,2, -999.000,9,   -999.0,9,  -999.0,9,-999.000,-999.000,9
  316N198212_2, ATAS2,    59,  2,     14,     14,2,19830102,1036,  3.4383, -42.3883, 4328,  799.5,    789.1,   4.8662,  34.5924,2,  34.5940,2,   -999.0,9,  4.8024,    145.2,2,    30.11,2,    33.92,2,     0.00,2,     2.25,2, -999.000,9,   -999.0,9,  -999.0,9,-999.000,-999.000,9
  316N198212_2, ATAS2,    59,  2,     15,     15,2,19830102,1036,  3.4383, -42.3883, 4328,  904.4,    894.3,   4.4852,  34.5871,2,  34.5870,2,   -999.0,9,  4.4148,    157.4,2,    31.77,2,    33.04,2,     0.00,2,     2.20,2, -999.000,9,   -999.0,9,  -999.0,9,-999.000,-999.000,9
  316N198212_2, ATAS2,    59,  2,     16,     16,2,19830102,1036,  3.4383, -42.3883, 4328, 1004.0,    993.8,   4.4802,  34.6321,2,  34.5870,2,   -999.0,9,  4.4012,    157.4,2,    31.77,2,    33.04,2,     0.00,2,     2.20,2, -999.000,9,   -999.0,9,  -999.0,9,-999.000,-999.000,9
  316N198212_2, ATAS2,    59,  2,     17,     17,2,19830102,1036,  3.4383, -42.3883, 4328, 1143.5,   1133.5,   4.6512,  34.7996,2,  34.7990,2,   -999.0,9,  4.5582,    176.9,2,    25.90,2,    28.73,2,     0.00,2,     1.92,2, -999.000,9,   -999.0,9,  1139.0,2,-999.000,   4.652,2
  316N198212_2, ATAS2,    59,  2,     18,     18,2,19830102,1036,  3.4383, -42.3883, 4328, 1308.2,   1298.7,   4.6872,  34.8929,2,  34.8940,2,   -999.0,9,  4.5785,    196.0,2,    22.57,2,    25.70,2,     0.00,2,     1.71,2, -999.000,9,   -999.0,9,  -999.0,9,-999.000,-999.000,9
  316N198212_2, ATAS2,    59,  2,     19,     19,2,19830102,1036,  3.4383, -42.3883, 4328, 1505.9,   1496.9,   4.6192,  34.9795,2,  34.9800,2,   -999.0,9,  4.4923,    225.1,2,    18.18,2,    21.69,2,     0.00,2,     1.46,2, -999.000,9,   -999.0,9,  1498.0,2,-999.000,   4.615,2
  316N198212_2, ATAS2,    59,  2,     20,     20,2,19830102,1036,  3.4383, -42.3883, 4328, 1700.6,   1692.7,   4.1022,  34.9842,2,  34.9840,2,   -999.0,9,  3.9629,    246.4,2,    18.27,2,    19.84,2,     0.00,2,     1.33,2, -999.000,9,   -999.0,9,  -999.0,9,-999.000,-999.000,9
  316N198212_2, ATAS2,    59,  2,     21,     21,2,19830102,1036,  3.4383, -42.3883, 4328, 1996.9,   1990.5,   3.6663,  34.9762,2,  34.9770,2,   -999.0,9,  3.5046,    257.2,2,    18.18,2,    19.06,2,     0.00,2,     1.28,2, -999.000,9,   -999.0,9,  1989.0,2,-999.000,   3.666,2
  316N198212_2, ATAS2,    60,  1,      1,      1,2,19830103,0225,  4.5833, -41.9217, 3919,   22.8,      1.0,  27.1327,  35.9562,2,  35.9560,2,   -999.0,9, 27.1325,    200.3,2,     1.56,2,     0.00,2,     0.00,2,     0.06,2,    1.230,2,   -999.0,9,  -999.0,9,   0.080,  27.133,2
  316N198212_2, ATAS2,    60,  1,     31,     31,2,19830103,0225,  4.5833, -41.9217, 3919,   86.4,     61.0,  27.1217,  35.9661,2,  35.9660,2,   -999.0,9, 27.1077,    199.4,2,     1.66,2,     0.00,2,     0.00,2,     0.07,2,    1.130,2,   -999.0,9,  -999.0,9,   0.070,-999.000,9
  316N198212_2, ATAS2,    60,  1,      3,      3,2,19830103,0225,  4.5833, -41.9217, 3919,  103.7,     80.0,  27.1907,  36.1417,2,  36.1360,2,   -999.0,9, 27.1722,    196.3,2,     1.46,2,     0.00,2,     0.03,2,     0.10,2,    1.220,2,   -999.0,9,  -999.0,9,   0.070,-999.000,9
  316N198212_2, ATAS2,    60,  1,      4,      4,2,19830103,0225,  4.5833, -41.9217, 3919,  138.9,    118.0,  26.8938,  36.2572,2,  36.2540,2,   -999.0,9, 26.8666,    195.4,2,     1.66,2,     0.00,2,     0.24,2,     0.13,2,    1.570,2,   -999.0,9,  -999.0,9,   0.090,-999.000,9
  316N198212_2, ATAS2,    60,  1,      5,      5,2,19830103,0225,  4.5833, -41.9217, 3919,  167.7,    148.0,  23.2258,  36.3200,2,  36.3190,2,   -999.0,9, 23.1952,    171.7,2,     2.93,2,     4.03,2,     0.02,2,     0.38,2,    1.380,2,   -999.0,9,  -999.0,9,   0.070,-999.000,9
  316N198212_2, ATAS2,    60,  1,      6,      6,2,19830103,0225,  4.5833, -41.9217, 3919,  205.1,    189.0,  13.8740,  35.4878,2,  35.4870,2,   -999.0,9, 13.8467,    120.5,2,     8.01,2,    19.73,2,     0.01,2,     1.28,2,    1.080,2,   -999.0,9,  -999.0,9,   0.090,-999.000,9
  316N198212_2, ATAS2,    60,  1,      7,      7,2,19830103,0225,  4.5833, -41.9217, 3919,  238.9,    224.0,  12.8160,  35.3168,2,  35.2920,2,   -999.0,9, 12.7854,    119.2,2,     9.09,2,    21.79,2,     0.00,2,     1.43,2,    0.500,2,   -999.0,9,  -999.0,9,   0.070,-999.000,9
  316N198212_2, ATAS2,    60,  1,      8,      8,2,19830103,0225,  4.5833, -41.9217, 3919,  273.3,    259.0,  11.3390,  35.1397,2,  35.1300,2,   -999.0,9, 11.3063,    124.0,2,    11.14,2,    23.84,2,     0.00,2,     1.55,2, -999.000,9,   -999.0,9,  -999.0,9,-999.000,-999.000,9
  316N198212_2, ATAS2,    60,  1,      9,      9,2,19830103,0225,  4.5833, -41.9217, 3919,  337.9,    324.0,   9.5581,  34.9239,2,  34.9140,2,   -999.0,9,  9.5213,    123.5,2,    14.37,2,    27.27,2,     0.00,2,     1.76,2,    0.270,2,   -999.0,9,  -999.0,9,   0.060,-999.000,9
  316N198212_2, ATAS2,    60,  1,     10,     10,2,19830103,0225,  4.5833, -41.9217, 3919,  412.9,    399.0,   8.3021,  34.7910,2,  34.7870,2,   -999.0,9,  8.2604,    120.0,2,    17.69,2,    30.40,2,     0.00,2,     1.94,2,    0.130,2,   -999.0,9,  -999.0,9,   0.050,-999.000,9
  316N198212_2, ATAS2,    60,  1,     11,     11,2,19830103,0225,  4.5833, -41.9217, 3919,  512.0,    501.2,   6.8261,  34.6458,2,  34.6480,2,   -999.0,9,  6.7791,    129.1,2,    21.89,2,    32.35,2,     0.00,2,     2.10,2,    0.040,2,   -999.0,9,   509.0,2,   0.050,   6.818,2
  316N198212_2, ATAS2,    60,  1,     12,     12,2,19830103,0225,  4.5833, -41.9217, 3919,  612.4,    602.1,   5.4922,  34.5508,2,  34.5500,2,   -999.0,9,  5.4414,    140.0,2,    27.57,2,    34.02,2,     0.00,2,     2.24,2, -999.000,9,   -999.0,9,  -999.0,9,-999.000,-999.000,9
  316N198212_2, ATAS2,    60,  1,     13,     13,2,19830103,0225,  4.5833, -41.9217, 3919,  712.9,    702.7,   5.0322,  34.5456,2,  34.5460,2,   -999.0,9,  4.9749,    140.4,2,    30.01,2,    34.60,2,     0.00,2,     2.30,2, -999.000,9,   -999.0,9,  -999.0,9,-999.000,-999.000,9
  316N198212_2, ATAS2,    60,  1,     14,     14,2,19830103,0225,  4.5833, -41.9217, 3919,  813.3,    803.2,   4.7512,  34.5737,2,  34.5770,2,   -999.0,9,  4.6868,    147.4,2,    31.18,2,    33.92,2,     0.00,2,     2.26,2, -999.000,9,   -999.0,9,  -999.0,9,-999.000,-999.000,9
  316N198212_2, ATAS2,    60,  1,     15,     15,2,19830103,0225,  4.5833, -41.9217, 3919,  973.2,    963.2,   4.6432,  34.6609,2,  34.6610,2,   -999.0,9,  4.5656,    155.2,2,    30.20,2,    32.35,2,     0.00,2,     2.16,2, -999.000,9,   -999.0,9,  -999.0,9,-999.000,-999.000,9
  316N198212_2, ATAS2,    60,  1,     16,     16,2,19830103,0225,  4.5833, -41.9217, 3919, 1147.9,   1138.2,   4.7272,  34.8135,2,  34.8150,2,   -999.0,9,  4.6330,    172.1,2,    26.00,2,    28.93,2,     0.00,2,     1.93,2, -999.000,9,   -999.0,9,  -999.0,9,-999.000,-999.000,9
  316N198212_2, ATAS2,    60,  1,     17,     17,2,19830103,0225,  4.5833, -41.9217, 3919, 1401.9,   1393.1,   4.4832,  34.9539,2,  34.9560,2,   -999.0,9,  4.3676,    219.0,2,    19.35,2,    22.67,2,     0.00,2,     1.50,2, -999.000,9,   -999.0,9,  1396.0,2,-999.000,   4.482,2
  316N198212_2, ATAS2,    60,  1,     18,     18,2,19830103,0225,  4.5833, -41.9217, 3919, 1711.9,   1704.8,   4.0482,  34.9825,2,  34.9830,2,   -999.0,9,  3.9084,    247.7,2,    16.32,2,    19.64,2,     0.00,2,     1.29,2, -999.000,9,   -999.0,9,  -999.0,9,-999.000,-999.000,9
  316N198212_2, ATAS2,    60,  1,     19,     19,2,19830103,0225,  4.5833, -41.9217, 3919, 2110.4,   2105.5,   3.3792,  34.9613,2,  34.9630,2,   -999.0,9,  3.2109,    256.8,2,    20.62,2,    19.35,2,     0.00,2,     1.30,2, -999.000,9,   -999.0,9,  2104.0,2,-999.000,   3.378,2
  316N198212_2, ATAS2,    60,  1,     20,     20,2,19830103,0225,  4.5833, -41.9217, 3919, 2504.1,   2501.2,   2.9822,  34.9421,2,  34.9410,2,   -999.0,9,  2.7825,    259.4,2,    25.51,2,    19.54,2,     0.00,2,     1.32,2, -999.000,9,   -999.0,9,  -999.0,9,-999.000,-999.000,9
  316N198212_2, ATAS2,    60,  1,     21,     21,2,19830103,0225,  4.5833, -41.9217, 3919, 2899.8,   2898.9,   2.7822,  34.9318,2,  34.9310,2,   -999.0,9,  2.5466,    259.4,2,    28.24,2,    19.64,2,     0.00,2,     1.32,2, -999.000,9,   -999.0,9,  2896.0,2,-999.000,   2.783,2
  316N198212_2, ATAS2,    60,  1,     22,     22,2,19830103,0225,  4.5833, -41.9217, 3919, 3785.6,   3789.1,   2.3292,  34.9003,2,  34.8990,2,   -999.0,9,  2.0095,    263.7,2,    33.52,2,    19.45,2,     0.00,2,     1.33,2, -999.000,9,   -999.0,9,  -999.0,9,-999.000,-999.000,9
  316N198212_2, ATAS2,    60,  1,     23,     23,2,19830103,0225,  4.5833, -41.9217, 3919, 3966.3,   3970.7,   2.2672,  34.8941,2,  34.8930,2,   -999.0,9,  1.9288,    263.7,2,    35.38,2,    19.64,2,     0.00,2,     1.34,2, -999.000,9,   -999.0,9,  3963.0,2,-999.000,   2.270,2