BOTTLE,20220818CCHSIOAMB
EXPOCODE,SECT_ID,STNNBR,CASTNO,SAMPNO,BTLNBR,BTLNBR_FLAG_W,DATE,TIME,LATITUDE,LONGITUDE,DEPTH,CTDRAW,CTDPRS,CTDTMP,CTDSAL,CTDSAL_FLAG_W,SALNTY,SALNTY_FLAG_W,CTDOXY,CTDOXY_FLAG_W,THETA,OXYGEN,OXYGEN_FLAG_W,SILCAT,SILCAT_FLAG_W,NITRAT,NITRAT_FLAG_W,NITRIT,NITRIT_FLAG_W,PHSPHT,PHSPHT_FLAG_W,TRITUM,TRITUM_FLAG_W,TCARBN,TCARBN_FLAG_W,REVPRS,REVPRS_FLAG_W,TRITER,REVTMP,REVTMP_FLAG_W
,,,,,,,,,,,,,DBAR,ITS-90,PSS-78,,PSS-78,,UMOL/KG,,DEG C,UMOL/KG,,UMOL/KG,,UMOL/KG,,UMOL/KG,,UMOL/KG,,TU,,UMOL/KG,,DBAR,,TU,ITS-90,
  316N198212_2, ATAS2,    65,  1,      1,      1,2,19830106,0157, 10.0017, -39.6317, 4470,   16.1,      2.0,  25.3495,  36.1129,2,  36.1070,2,   -999.0,9, 25.3490,    205.0,2,     1.76,2,     0.03,2,     0.00,2,     0.06,2, -999.000,9,   -999.0,9,  -999.0,9,-999.000,  25.348,2
  316N198212_2, ATAS2,    65,  1,      2,      2,2,19830106,0157, 10.0017, -39.6317, 4470,   89.9,     75.0,  21.7626,  36.0664,2,  36.0660,2,   -999.0,9, 21.7478,    149.9,2,     3.12,2,     7.09,2,     0.10,2,     0.53,2, -999.000,9,   -999.0,9,  -999.0,9,-999.000,-999.000,9
  316N198212_2, ATAS2,    65,  1,      3,      3,2,19830106,0157, 10.0017, -39.6317, 4470,  123.6,    110.4,  17.0936,  35.7876,2,  35.7850,2,   -999.0,9, 17.0753,    114.5,2,     6.54,2,    16.70,2,     0.03,2,     1.05,2, -999.000,9,   -999.0,9,  -999.0,9,-999.000,-999.000,9
  316N198212_2, ATAS2,    65,  1,     31,     31,2,19830106,0157, 10.0017, -39.6317, 4470,  138.8,    126.0,  15.6207,  35.6362,2,  35.6210,2,   -999.0,9, 15.6010,    113.1,2,     7.62,2,    19.05,2,     0.01,2,     1.22,2, -999.000,9,   -999.0,9,  -999.0,9,-999.000,-999.000,9
  316N198212_2, ATAS2,    65,  1,      5,      5,2,19830106,0157, 10.0017, -39.6317, 4470,  198.4,    186.9,  11.7267,  35.1859,2,  35.1780,2,   -999.0,9, 11.7027,    117.0,2,    10.75,2,    23.94,2,     0.01,2,     1.54,2, -999.000,9,   -999.0,9,  -999.0,9,-999.000,-999.000,9
  316N198212_2, ATAS2,    65,  1,      6,      6,2,19830106,0157, 10.0017, -39.6317, 4470,  233.3,    222.1,  10.9318,  35.0979,2,  35.0960,2,   -999.0,9, 10.9044,    104.8,2,    12.02,2,    26.38,2,     0.01,2,     1.67,2, -999.000,9,   -999.0,9,  -999.0,9,-999.000,-999.000,9
  316N198212_2, ATAS2,    65,  1,     32,     32,2,19830106,0157, 10.0017, -39.6317, 4470,  287.8,    276.7,  10.1988,  35.0259,2,  35.0250,2,   -999.0,9, 10.1661,     87.4,2,    13.88,2,    29.71,2,     0.01,2,     1.86,2, -999.000,9,   -999.0,9,  -999.0,9,-999.000,-999.000,9
  316N198212_2, ATAS2,    65,  1,      8,      8,2,19830106,0157, 10.0017, -39.6317, 4470,  337.7,    326.7,   9.5988,  34.9461,2,  34.9440,2,   -999.0,9,  9.5616,     96.5,2,    14.95,2,    29.90,2,     0.01,2,     1.89,2, -999.000,9,   -999.0,9,  -999.0,9,-999.000,-999.000,9
  316N198212_2, ATAS2,    65,  1,      9,      9,2,19830106,0157, 10.0017, -39.6317, 4470,  382.8,    371.8,   9.1808,  34.8904,2,-999.0000,9,   -999.0,9,  9.1395,   -999.0,9,  -999.00,9,  -999.00,9,  -999.00,9,  -999.00,9, -999.000,9,   -999.0,9,  -999.0,9,-999.000,-999.000,9
  316N198212_2, ATAS2,    65,  1,     33,     33,2,19830106,0157, 10.0017, -39.6317, 4470,  470.5,    459.8,   8.2648,  34.7874,2,  34.7960,2,   -999.0,9,  8.2167,    111.7,2,    17.69,2,    31.18,2,     0.00,2,     1.98,2, -999.000,9,   -999.0,9,  -999.0,9,-999.000,-999.000,9
  316N198212_2, ATAS2,    65,  1,     11,     11,2,19830106,0157, 10.0017, -39.6317, 4470,  569.9,    559.2,   7.6018,  34.7730,2,  34.7720,2,   -999.0,9,  7.5457,    101.7,2,    20.43,2,    33.62,2,     0.00,2,     2.13,2, -999.000,9,   -999.0,9,  -999.0,9,-999.000,-999.000,9
  316N198212_2, ATAS2,    65,  1,     34,     34,2,19830106,0157, 10.0017, -39.6317, 4470,  778.0,    767.9,   5.9819,  34.6739,2,  34.6850,2,   -999.0,9,  5.9132,    111.3,2,    26.39,2,    35.48,2,     0.00,2,     2.30,2, -999.000,9,   -999.0,9,  -999.0,9,-999.000,-999.000,9
  316N198212_2, ATAS2,    65,  1,     13,     13,2,19830106,0157, 10.0017, -39.6317, 4470,  989.1,    979.5,   5.1459,  34.7155,2,  34.7110,2,   -999.0,9,  5.0630,    140.4,2,    28.54,2,    32.94,2,     0.00,2,     2.17,2, -999.000,9,   -999.0,9,  -999.0,9,-999.000,-999.000,9
  316N198212_2, ATAS2,    65,  1,     35,     35,2,19830106,0157, 10.0017, -39.6317, 4470, 1205.7,   1196.6,   4.9519,  34.9011,2,  34.9040,2,   -999.0,9,  4.8502,    179.5,2,    23.36,2,    27.17,2,     0.00,2,     1.80,2, -999.000,9,   -999.0,9,  -999.0,9,-999.000,-999.000,9
  316N198212_2, ATAS2,    65,  1,     15,     15,2,19830106,0157, 10.0017, -39.6317, 4470, 1416.4,   1407.9,   4.5219,  34.9690,2,  34.9670,2,   -999.0,9,  4.4045,    216.4,2,    19.35,2,    22.87,2,     0.00,2,     1.51,2, -999.000,9,   -999.0,9,  -999.0,9,-999.000,-999.000,9
  316N198212_2, ATAS2,    65,  1,     16,     16,2,19830106,0157, 10.0017, -39.6317, 4470, 1642.4,   1634.9,   4.0409,  34.9829,2,-999.0000,9,   -999.0,9,  3.9077,   -999.0,9,  -999.00,9,  -999.00,9,  -999.00,9,  -999.00,9, -999.000,9,   -999.0,9,  -999.0,9,-999.000,-999.000,9
  316N198212_2, ATAS2,    65,  1,     17,     17,2,19830106,0157, 10.0017, -39.6317, 4470, 1906.0,   1899.9,   3.5739,  34.9680,2,  34.9670,2,   -999.0,9,  3.4222,    247.2,2,    20.52,2,    20.33,2,     0.00,2,     1.36,2, -999.000,9,   -999.0,9,  1910.0,2,-999.000,   3.574,2
  316N198212_2, ATAS2,    65,  1,     36,     36,2,19830106,0157, 10.0017, -39.6317, 4470, 2211.7,   2207.0,   3.2739,  34.9590,2,-999.0000,9,   -999.0,9,  3.0976,   -999.0,9,  -999.00,9,  -999.00,9,  -999.00,9,  -999.00,9, -999.000,9,   -999.0,9,  -999.0,9,-999.000,-999.000,9
  316N198212_2, ATAS2,    65,  1,     19,     19,2,19830106,0157, 10.0017, -39.6317, 4470, 2616.6,   2614.1,   2.9319,  34.9430,2,  34.9400,2,   -999.0,9,  2.7220,    254.2,2,    28.63,2,    20.23,2,     0.00,2,     1.36,2, -999.000,9,   -999.0,9,  2516.0,2,-999.000,   2.964,2
  316N198212_2, ATAS2,    65,  1,     37,     37,2,19830106,0157, 10.0017, -39.6317, 4470, 3125.3,   3124.9,   2.6599,  34.9237,2,-999.0000,9,   -999.0,9,  2.4036,    252.0,2,    33.91,2,    20.62,2,     0.00,2,     1.39,2, -999.000,9,   -999.0,9,  -999.0,9,-999.000,-999.000,9
  316N198212_2, ATAS2,    65,  1,     38,     38,2,19830106,0157, 10.0017, -39.6317, 4470, 3631.1,   3633.2,   2.4849,  34.9094,2,  34.9100,2,   -999.0,9,  2.1783,    249.4,2,    40.65,2,    21.30,2,     0.00,2,     1.45,2, -999.000,9,   -999.0,9,  3633.0,2,-999.000,   2.482,2
  316N198212_2, ATAS2,    65,  1,     39,     39,2,19830106,0157, 10.0017, -39.6317, 4470, 4029.3,   4033.2,   2.4459,  34.9008,2,-999.0000,9,   -999.0,9,  2.0954,    246.8,2,    41.24,2,    21.50,2,     0.00,2,     1.46,2, -999.000,9,   -999.0,9,  -999.0,9,-999.000,-999.000,9
  316N198212_2, ATAS2,    65,  1,     40,     40,2,19830106,0157, 10.0017, -39.6317, 4470, 4454.8,   4460.7,   2.3549,  34.8896,2,  34.8870,2,   -999.0,9,  1.9569,    248.5,2,    46.22,2,    21.79,2,     0.00,2,     1.49,2, -999.000,9,   -999.0,9,  4456.0,2,-999.000,   2.347,2
  316N198212_2, ATAS2,    66,  2,      1,      1,2,19830106,2029, 11.2600, -39.3467, 4088,   25.1,      2.0,  25.2814,  36.0967,2,  36.0930,2,   -999.0,9, 25.2810,    206.7,2,     1.37,2,     0.00,2,     0.00,2,     0.05,2,    1.470,2,   -999.0,9,  -999.0,9,   0.070,  25.277,2
  316N198212_2, ATAS2,    66,  2,      2,      2,2,19830106,2029, 11.2600, -39.3467, 4088,   98.5,     83.0,  19.6335,  36.2785,2,  36.2750,2,   -999.0,9, 19.6183,    134.5,2,     3.51,2,     8.38,2,     0.09,2,     0.58,2, -999.000,9,   -999.0,9,  -999.0,9,-999.000,-999.000,9
  316N198212_2, ATAS2,    66,  2,      3,      3,2,19830106,2029, 11.2600, -39.3467, 4088,  132.4,    119.4,  15.9486,  35.9467,2,  35.9360,2,   -999.0,9, 15.9297,    100.1,2,     6.15,2,    18.94,2,     0.01,2,     1.14,2,    1.830,2,   -999.0,9,  -999.0,9,   0.100,-999.000,9
  316N198212_2, ATAS2,    66,  2,     31,     31,2,19830106,2029, 11.2600, -39.3467, 4088,  211.5,    198.0,  12.6137,  35.4842,2,  35.4900,2,   -999.0,9, 12.5868,     94.4,2,     9.57,2,    24.42,2,     0.00,2,     1.48,2, -999.000,9,   -999.0,9,  -999.0,9,-999.000,-999.000,9
  316N198212_2, ATAS2,    66,  2,      5,      5,2,19830106,2029, 11.2600, -39.3467, 4088,  279.8,    268.4,  10.7547,  35.1586,2,  35.1560,2,   -999.0,9, 10.7219,     88.7,2,    12.60,2,    28.43,2,     0.00,2,     1.76,2,    0.598,2,   -999.0,9,  -999.0,9,   0.036,-999.000,9
  316N198212_2, ATAS2,    66,  2,      6,      6,2,19830106,2029, 11.2600, -39.3467, 4088,  368.6,    358.0,   9.9677,  35.0808,2,  35.0790,2,   -999.0,9,  9.9259,     84.8,2,    14.56,2,    30.29,2,     0.00,2,     1.86,2,    0.400,2,   -999.0,9,  -999.0,9,   0.033,-999.000,9
  316N198212_2, ATAS2,    66,  2,     32,     32,2,19830106,2029, 11.2600, -39.3467, 4088,  408.8,    397.6,   9.5207,  35.0341,2,  35.0320,2,   -999.0,9,  9.4755,     81.7,2,    15.54,2,    31.56,2,     0.00,2,     1.93,2, -999.000,9,   -999.0,9,  -999.0,9,-999.000,-999.000,9
  316N198212_2, ATAS2,    66,  2,      8,      8,2,19830106,2029, 11.2600, -39.3467, 4088,  454.7,    443.4,   9.3467,  35.0387,2,  35.0350,2,   -999.0,9,  9.2967,     85.7,2,    15.83,2,    31.46,2,     0.00,2,     1.93,2,    0.228,2,   -999.0,9,  -999.0,9,   0.028,-999.000,9
  316N198212_2, ATAS2,    66,  2,      9,      9,2,19830106,2029, 11.2600, -39.3467, 4088,  561.5,    550.5,   8.2888,  34.9299,2,  34.9250,2,   -999.0,9,  8.2306,     90.4,2,    18.86,2,    33.32,2,     0.00,2,     2.07,2,    0.130,2,   -999.0,9,  -999.0,9,   0.033,-999.000,9
  316N198212_2, ATAS2,    66,  2,     33,     33,2,19830106,2029, 11.2600, -39.3467, 4088,  811.1,    800.7,   6.3848,  34.7746,2,-999.0000,9,   -999.0,9,  6.3105,    106.9,2,    24.82,2,    34.99,2,     0.00,2,     2.24,2, -999.000,9,   -999.0,9,  -999.0,9,-999.000,-999.000,9
  316N198212_2, ATAS2,    66,  2,     11,     11,2,19830106,2029, 11.2600, -39.3467, 4088,  981.6,    971.6,   5.6198,  34.8022,2,  34.8010,2,   -999.0,9,  5.5340,    129.1,2,  -999.00,9,  -999.00,9,  -999.00,9,  -999.00,9,   -0.060,2,   -999.0,9,  -999.0,9,   0.024,-999.000,9
  316N198212_2, ATAS2,    66,  2,     34,     34,2,19830106,2029, 11.2600, -39.3467, 4088, 1212.8,   1203.5,   5.0528,  34.9289,2,  34.9290,2,   -999.0,9,  4.9495,    172.5,2,    23.06,2,    27.46,2,     0.00,2,     1.82,2, -999.000,9,   -999.0,9,  -999.0,9,-999.000,-999.000,9
  316N198212_2, ATAS2,    66,  2,     14,     14,2,19830106,2029, 11.2600, -39.3467, 4088, 1412.2,   1403.6,   4.5758,  34.9778,2,  34.9760,2,   -999.0,9,  4.4582,    211.6,2,    19.64,2,    23.26,2,     0.00,2,     1.55,2, -999.000,9,   -999.0,9,  -999.0,9,-999.000,-999.000,9
  316N198212_2, ATAS2,    66,  2,     35,     35,2,19830106,2029, 11.2600, -39.3467, 4088, 1412.4,   1403.8,   4.5748,  34.9775,2,  34.9760,2,   -999.0,9,  4.4572,    211.2,2,    19.74,2,    23.26,2,     0.00,2,     1.55,2, -999.000,9,   -999.0,9,  -999.0,9,-999.000,-999.000,9
  316N198212_2, ATAS2,    66,  2,     15,     15,2,19830106,2029, 11.2600, -39.3467, 4088, 1602.8,   1595.3,   4.1088,  34.9850,2,  34.9830,2,   -999.0,9,  3.9785,    236.8,2,    18.37,2,    20.91,2,     0.00,2,     1.40,2, -999.000,9,   -999.0,9,  -999.0,9,-999.000,-999.000,9
  316N198212_2, ATAS2,    66,  2,     16,     16,2,19830106,2029, 11.2600, -39.3467, 4088, 1732.8,   1726.0,   3.9018,  34.9807,2,-999.0000,9,   -999.0,9,  3.7619,   -999.0,9,  -999.00,9,  -999.00,9,  -999.00,9,  -999.00,9, -999.000,9,   -999.0,9,  -999.0,9,-999.000,-999.000,9
  316N198212_2, ATAS2,    66,  2,     17,     17,2,19830106,2029, 11.2600, -39.3467, 4088, 1913.8,   1907.9,   3.6118,  34.9718,2,  34.9720,2,   -999.0,9,  3.4588,    251.6,2,    19.35,2,    19.84,2,     0.00,2,     1.32,2, -999.000,9,   -999.0,9,  1919.0,2,-999.000,   3.613,2
  316N198212_2, ATAS2,    66,  2,     36,     36,2,19830106,2029, 11.2600, -39.3467, 4088, 2011.5,   2006.2,   3.4638,  34.9671,2,  34.9660,2,   -999.0,9,  3.3037,    252.0,2,    20.81,2,    19.84,2,     0.00,2,     1.33,2, -999.000,9,   -999.0,9,  -999.0,9,-999.000,-999.000,9
  316N198212_2, ATAS2,    66,  2,     19,     19,2,19830106,2029, 11.2600, -39.3467, 4088, 2215.0,   2210.7,   3.2118,  34.9576,2,  34.9540,2,   -999.0,9,  3.0362,    254.2,2,    23.84,2,    19.84,2,     0.00,2,     1.33,2, -999.000,9,   -999.0,9,  2213.0,2,-999.000,   3.201,2
  316N198212_2, ATAS2,    66,  2,     37,     37,2,19830106,2029, 11.2600, -39.3467, 4088, 3024.3,   3023.9,   2.6689,  34.9225,2,  34.9250,2,   -999.0,9,  2.4229,    254.2,2,    33.81,2,    20.52,2,     0.00,2,     1.39,2, -999.000,9,   -999.0,9,  -999.0,9,-999.000,-999.000,9
  316N198212_2, ATAS2,    66,  2,     38,     38,2,19830106,2029, 11.2600, -39.3467, 4088, 3427.7,   3429.2,   2.5479,  34.9133,2,  34.9120,2,   -999.0,9,  2.2619,    252.4,2,    37.82,2,    20.91,2,     0.00,2,     1.43,2, -999.000,9,   -999.0,9,  -999.0,9,-999.000,-999.000,9
  316N198212_2, ATAS2,    66,  2,     39,     39,2,19830106,2029, 11.2600, -39.3467, 4088, 3826.4,   3829.8,   2.4369,  34.9009,2,  34.9030,2,   -999.0,9,  2.1097,    251.6,2,    41.04,2,    21.40,2,     0.00,2,     1.46,2, -999.000,9,   -999.0,9,  -999.0,9,-999.000,-999.000,9
  316N198212_2, ATAS2,    66,  2,     40,     40,2,19830106,2029, 11.2600, -39.3467, 4088, 4171.9,   4177.1,   2.3539,  34.8920,2,  34.8920,2,   -999.0,9,  1.9893,    250.3,2,    44.56,2,    21.40,2,     0.00,2,     1.49,2, -999.000,9,   -999.0,9,  4173.0,2,-999.000,   2.348,2
  316N198212_2, ATAS2,    67,  1,      1,      1,2,19830107,0905, 12.0150, -39.2950, 5442,   18.7,      2.0,  25.1254,  35.9431,2,  35.9400,2,   -999.0,9, 25.1249,    207.2,2,     1.95,2,     0.00,2,     0.00,2,     0.04,2,    1.460,2,   -999.0,9,  -999.0,9,   0.070,  25.128,2
  316N198212_2, ATAS2,    67,  1,      2,      2,2,19830107,0905, 12.0150, -39.2950, 5442,  101.1,     89.0,  17.1085,  36.0411,2,  36.0590,2,   -999.0,9, 17.0937,    102.7,2,     5.27,2,    16.79,2,     0.03,2,     1.03,2,    1.870,2,   -999.0,9,  -999.0,9,   0.080,-999.000,9
  316N198212_2, ATAS2,    67,  1,      3,      3,2,19830107,0905, 12.0150, -39.2950, 5442,  125.9,    115.0,  14.9736,  35.6836,2,  35.6540,2,   -999.0,9, 14.9561,     90.1,2,     7.52,2,    21.88,2,     0.02,2,     1.35,2, -999.000,9,   -999.0,9,  -999.0,9,-999.000,-999.000,9
  316N198212_2, ATAS2,    67,  1,      4,      4,2,19830107,0905, 12.0150, -39.2950, 5442,  160.8,    151.0,  11.9026,  35.2302,2,  35.2240,2,   -999.0,9, 11.8830,     93.9,2,    10.55,2,    25.79,2,     0.00,2,     1.63,2, -999.000,9,   -999.0,9,  -999.0,9,-999.000,-999.000,9
  316N198212_2, ATAS2,    67,  1,      5,      5,2,19830107,0905, 12.0150, -39.2950, 5442,  235.8,    225.7,  10.7466,  35.0804,2,  35.0780,2,   -999.0,9, 10.7192,     87.8,2,    12.61,2,    28.63,2,     0.00,2,     1.79,2,    0.475,2,   -999.0,9,  -999.0,9,   0.033,-999.000,9
  316N198212_2, ATAS2,    67,  1,      6,      6,2,19830107,0905, 12.0150, -39.2950, 5442,  316.3,    307.0,  10.1367,  35.0278,2,  35.0270,2,   -999.0,9, 10.1005,     79.6,2,    14.27,2,    30.98,2,     0.00,2,     1.92,2,    0.243,2,   -999.0,9,  -999.0,9,   0.028,-999.000,9
  316N198212_2, ATAS2,    67,  1,      7,      7,2,19830107,0905, 12.0150, -39.2950, 5442,  395.6,    385.6,   9.5717,  34.9800,2,  34.9760,2,   -999.0,9,  9.5277,     71.3,2,    15.64,2,    32.74,2,     0.00,2,     2.00,2,    0.170,2,   -999.0,9,  -999.0,9,   0.036,-999.000,9
  316N198212_2, ATAS2,    67,  1,      8,      8,2,19830107,0905, 12.0150, -39.2950, 5442,  501.0,    490.9,   8.9077,  34.9545,2,  34.9540,2,   -999.0,9,  8.8538,     68.7,2,    17.49,2,    34.40,2,     0.00,2,     2.10,2,    0.100,2,   -999.0,9,  -999.0,9,   0.024,-999.000,9
  316N198212_2, ATAS2,    67,  1,      9,      9,2,19830107,0905, 12.0150, -39.2950, 5442,  591.0,    581.1,   8.4097,  34.9377,2,  34.9340,2,   -999.0,9,  8.3477,     81.3,2,    18.67,2,    33.71,2,     0.00,2,     2.09,2,    0.095,2,   -999.0,9,  -999.0,9,   0.024,-999.000,9
  316N198212_2, ATAS2,    67,  1,     10,     10,2,19830107,0905, 12.0150, -39.2950, 5442,  690.8,    681.1,   7.4497,  34.8469,2,  34.8530,2,   -999.0,9,  7.3816,     88.7,2,    21.31,2,    34.89,2,     0.00,2,     2.19,2,    0.015,2,   -999.0,9,  -999.0,9,   0.024,-999.000,9
  316N198212_2, ATAS2,    67,  1,     11,     11,2,19830107,0905, 12.0150, -39.2950, 5442,  800.9,    791.6,   6.4137,  34.7800,2,  34.7800,2,   -999.0,9,  6.3401,    103.5,2,    24.73,2,    35.18,2,     0.00,2,     2.25,2, -999.000,9,   -999.0,9,  -999.0,9,-999.000,-999.000,9
  316N198212_2, ATAS2,    67,  1,     12,     12,2,19830107,0905, 12.0150, -39.2950, 5442,  891.3,    882.3,   5.9467,  34.7803,2,  34.7790,2,   -999.0,9,  5.8673,    116.9,2,    25.70,2,    34.11,2,     0.00,2,     2.22,2, -999.000,9,   -999.0,9,  -999.0,9,-999.000,-999.000,9
  316N198212_2, ATAS2,    67,  1,     13,     13,2,19830107,0905, 12.0150, -39.2950, 5442,  991.3,    982.5,   5.5417,  34.8093,2,  34.8100,2,   -999.0,9,  5.4555,    133.0,2,    25.70,2,    32.45,2,     0.00,2,     2.12,2, -999.000,9,   -999.0,9,  -999.0,9,-999.000,-999.000,9
  316N198212_2, ATAS2,    67,  1,     14,     14,2,19830107,0905, 12.0150, -39.2950, 5442, 1111.4,   1103.0,   5.2777,  34.8775,2,  34.8790,2,   -999.0,9,  5.1821,    154.3,2,    24.53,2,    29.81,2,     0.00,2,     1.96,2, -999.000,9,   -999.0,9,  -999.0,9,-999.000,-999.000,9
  316N198212_2, ATAS2,    67,  1,     15,     15,2,19830107,0905, 12.0150, -39.2950, 5442, 1212.6,   1204.3,   5.1018,  34.9218,2,  34.9210,2,   -999.0,9,  4.9979,    169.5,2,    23.16,2,    27.85,2,     0.00,2,     1.84,2, -999.000,9,   -999.0,9,  -999.0,9,-999.000,-999.000,9
  316N198212_2, ATAS2,    67,  1,     16,     16,2,19830107,0905, 12.0150, -39.2950, 5442, 1388.8,   1381.2,   4.6458,  34.9752,2,  34.9740,2,   -999.0,9,  4.5295,    204.7,2,    20.33,2,    24.04,2,     0.00,2,     1.58,2, -999.000,9,   -999.0,9,  -999.0,9,-999.000,-999.000,9
  316N198212_2, ATAS2,    67,  1,     17,     17,2,19830107,0905, 12.0150, -39.2950, 5442, 1593.0,   1585.8,   4.1778,  34.9868,2,  34.9860,2,   -999.0,9,  4.0475,    229.9,2,    18.47,2,    21.50,2,     0.00,2,     1.44,2, -999.000,9,   -999.0,9,  -999.0,9,-999.000,-999.000,9
  316N198212_2, ATAS2,    67,  1,     18,     18,2,19830107,0905, 12.0150, -39.2950, 5442, 1876.6,   1870.3,   3.6208,  34.9737,2,  34.9720,2,   -999.0,9,  3.4711,    251.1,2,    19.25,2,    19.84,2,     0.00,2,     1.31,2, -999.000,9,   -999.0,9,  -999.0,9,-999.000,-999.000,9
  316N198212_2, ATAS2,    67,  1,     19,     19,2,19830107,0905, 12.0150, -39.2950, 5442, 2158.8,   2153.8,   3.3178,  34.9599,2,  34.9590,2,   -999.0,9,  3.1459,    252.0,2,    22.57,2,    19.94,2,     0.00,2,     1.34,2, -999.000,9,   -999.0,9,  2158.0,2,-999.000,   3.314,2
  316N198212_2, ATAS2,    67,  1,     20,     20,2,19830107,0905, 12.0150, -39.2950, 5442, 2494.0,   2490.3,   3.0838,  34.9504,2,  34.9480,2,   -999.0,9,  2.8832,    251.1,2,    26.68,2,    20.23,2,     0.00,2,     1.37,2, -999.000,9,   -999.0,9,  -999.0,9,-999.000,-999.000,9
  316N198212_2, ATAS2,    67,  1,     21,     21,2,19830107,0905, 12.0150, -39.2950, 5442, 4617.5,   4622.2,   2.2958,  34.8810,2,  34.8800,2,   -999.0,9,  1.8801,    250.7,2,    47.40,2,    21.99,2,     0.00,2,     1.50,2, -999.000,9,   -999.0,9,  4624.0,2,-999.000,   2.294,2
  316N198212_2, ATAS2,    67,  1,     22,     22,2,19830107,0905, 12.0150, -39.2950, 5442, 5388.5,   5395.9,   2.2728,  34.8670,2,  34.8670,2,   -999.0,9,  1.7604,    249.8,2,    50.92,2,    22.48,2,     0.00,2,     1.52,2, -999.000,9,   -999.0,9,  -999.0,9,-999.000,-999.000,9
  316N198212_2, ATAS2,    67,  1,     23,     23,2,19830107,0905, 12.0150, -39.2950, 5442, 5388.4,   5396.0,   2.2728,  34.8682,2,  34.8670,2,   -999.0,9,  1.7604,    249.4,2,    51.01,2,    22.48,2,     0.00,2,     1.52,2, -999.000,9,   -999.0,9,  5389.0,2,-999.000,   2.277,2