BOTTLE,20220818CCHSIOAMB
EXPOCODE,SECT_ID,STNNBR,CASTNO,SAMPNO,BTLNBR,BTLNBR_FLAG_W,DATE,TIME,LATITUDE,LONGITUDE,DEPTH,CTDRAW,CTDPRS,CTDTMP,CTDSAL,CTDSAL_FLAG_W,SALNTY,SALNTY_FLAG_W,CTDOXY,CTDOXY_FLAG_W,THETA,OXYGEN,OXYGEN_FLAG_W,SILCAT,SILCAT_FLAG_W,NITRAT,NITRAT_FLAG_W,NITRIT,NITRIT_FLAG_W,PHSPHT,PHSPHT_FLAG_W,TRITUM,TRITUM_FLAG_W,TCARBN,TCARBN_FLAG_W,REVPRS,REVPRS_FLAG_W,TRITER,REVTMP,REVTMP_FLAG_W
,,,,,,,,,,,,,DBAR,ITS-90,PSS-78,,PSS-78,,UMOL/KG,,DEG C,UMOL/KG,,UMOL/KG,,UMOL/KG,,UMOL/KG,,UMOL/KG,,TU,,UMOL/KG,,DBAR,,TU,ITS-90,
  316N198212_2, ATAS2,    77,  1,      1,      1,2,19830114,0207, 25.3383, -34.8500, 6080,   38.1,      4.0,  22.2008,  37.4881,2,  37.4870,2,   -999.0,9, 22.2000,    214.6,2,     1.56,2,     0.10,2,     0.00,2,     0.02,2,    3.170,2,   -999.0,9,  -999.0,9,   0.120,  22.202,2
  316N198212_2, ATAS2,    77,  1,      2,      2,2,19830114,0207, 25.3383, -34.8500, 6080,  183.9,    155.0,  21.6318,  37.3424,2,  37.4230,2,   -999.0,9, 21.6012,    211.9,2,     1.56,2,     0.16,2,     0.01,2,     0.02,2,    3.320,2,   -999.0,9,  -999.0,9,   0.120,-999.000,9
  316N198212_2, ATAS2,    77,  1,      3,      3,2,19830114,0207, 25.3383, -34.8500, 6080,  212.5,    189.0,  19.2719,  36.8593,2,  36.8540,2,   -999.0,9, 19.2375,    191.4,2,     1.95,2,     2.87,2,     0.01,2,     0.17,2, -999.000,9,   -999.0,9,  -999.0,9,-999.000,-999.000,9
  316N198212_2, ATAS2,    77,  1,      4,      4,2,19830114,0207, 25.3383, -34.8500, 6080,  252.1,    229.0,  17.6019,  36.5070,2,  36.4980,2,   -999.0,9, 17.5628,    189.7,2,     2.64,2,     5.17,2,     0.00,2,     0.30,2,    3.580,2,   -999.0,9,  -999.0,9,   0.120,-999.000,9
  316N198212_2, ATAS2,    77,  1,      5,      5,2,19830114,0207, 25.3383, -34.8500, 6080,  291.7,    269.0,  16.8179,  36.3676,2,  36.3640,2,   -999.0,9, 16.7734,    187.5,2,     2.83,2,     6.78,2,     0.00,2,     0.40,2, -999.000,9,   -999.0,9,  -999.0,9,-999.000,-999.000,9
  316N198212_2, ATAS2,    77,  1,      6,      6,2,19830114,0207, 25.3383, -34.8500, 6080,  329.0,    306.0,  16.0499,  36.2226,2,  36.2260,2,   -999.0,9, 16.0008,    187.0,2,     3.51,2,     7.98,2,     0.00,2,     0.48,2,    3.370,2,   -999.0,9,  -999.0,9,   0.130,-999.000,9
  316N198212_2, ATAS2,    77,  1,      7,      7,2,19830114,0207, 25.3383, -34.8500, 6080,  366.0,    344.0,  15.1870,  36.0776,2,  36.0760,2,   -999.0,9, 15.1337,    183.5,2,     4.20,2,     9.86,2,     0.00,2,     0.59,2,    3.180,2,   -999.0,9,  -999.0,9,   0.120,-999.000,9
  316N198212_2, ATAS2,    77,  1,      8,      8,2,19830114,0207, 25.3383, -34.8500, 6080,  409.2,    388.0,  14.5400,  35.9782,2,  35.9730,2,   -999.0,9, 14.4816,    182.2,2,     4.69,2,    10.94,2,     0.00,2,     0.66,2, -999.000,9,   -999.0,9,  -999.0,9,-999.000,-999.000,9
  316N198212_2, ATAS2,    77,  1,      9,      9,2,19830114,0207, 25.3383, -34.8500, 6080,  469.1,    448.0,  13.4590,  35.8277,2,  35.8230,2,   -999.0,9, 13.3949,    183.1,2,     5.57,2,    12.60,2,     0.00,2,     0.76,2,    2.930,2,   -999.0,9,  -999.0,9,   0.110,-999.000,9
  316N198212_2, ATAS2,    77,  1,     10,     10,2,19830114,0207, 25.3383, -34.8500, 6080,  516.3,    504.2,  12.6760,  35.7220,2,  35.7330,2,   -999.0,9, 12.6065,    181.3,2,     6.35,2,    13.97,2,     0.00,2,     0.86,2,    2.790,2,   -999.0,9,  -999.0,9,   0.110,-999.000,9
  316N198212_2, ATAS2,    77,  1,     11,     11,2,19830114,0207, 25.3383, -34.8500, 6080,  635.4,    623.6,  11.2900,  35.5504,2,  35.5510,2,   -999.0,9, 11.2099,    161.3,2,     9.18,2,    18.66,2,     0.00,2,     1.15,2,    1.640,2,   -999.0,9,   624.0,2,   0.080,  11.291,2
  316N198212_2, ATAS2,    77,  1,     12,     12,2,19830114,0207, 25.3383, -34.8500, 6080,  730.4,    719.1,  10.1871,  35.4188,2,  35.4130,2,   -999.0,9, 10.1000,    149.1,2,    12.02,2,    21.78,2,     0.00,2,     1.36,2,    0.773,2,   -999.0,9,  -999.0,9,   0.036,-999.000,9
  316N198212_2, ATAS2,    77,  1,     13,     13,2,19830114,0207, 25.3383, -34.8500, 6080,  833.5,    822.7,   8.9151,  35.3029,2,  35.3030,2,   -999.0,9,  8.8226,    148.2,2,    15.34,2,    23.94,2,     0.00,2,     1.52,2,    0.470,2,   -999.0,9,  -999.0,9,   0.033,-999.000,9
  316N198212_2, ATAS2,    77,  1,     14,     14,2,19830114,0207, 25.3383, -34.8500, 6080,  935.1,    925.3,   7.6551,  35.1516,2,  35.1510,2,   -999.0,9,  7.5592,    150.8,2,    17.88,2,    25.89,2,     0.00,2,     1.65,2,    0.150,2,   -999.0,9,  -999.0,9,   0.033,-999.000,9
  316N198212_2, ATAS2,    77,  1,     15,     15,2,19830114,0207, 25.3383, -34.8500, 6080, 1041.5,   1032.6,   6.5871,  35.0707,2,  35.0690,2,   -999.0,9,  6.4877,    163.9,2,    19.64,2,    25.99,2,     0.00,2,     1.68,2, -999.000,9,   -999.0,9,  -999.0,9,-999.000,-999.000,9
  316N198212_2, ATAS2,    77,  1,     16,     16,2,19830114,0207, 25.3383, -34.8500, 6080, 1144.9,   1136.6,   6.2971,  35.1047,2,  35.1040,2,   -999.0,9,  6.1892,    176.9,2,    19.25,2,    24.53,2,     0.00,2,     1.60,2, -999.000,9,   -999.0,9,  -999.0,9,-999.000,-999.000,9
  316N198212_2, ATAS2,    77,  1,     17,     17,2,19830114,0207, 25.3383, -34.8500, 6080, 1334.7,   1327.7,   5.5141,  35.1052,2,  35.1070,2,   -999.0,9,  5.3941,    202.5,2,    18.66,2,    22.47,2,     0.00,2,     1.49,2, -999.000,9,   -999.0,9,  1332.0,2,-999.000,   5.515,2
  316N198212_2, ATAS2,    77,  1,     18,     18,2,19830114,0207, 25.3383, -34.8500, 6080, 1502.9,   1497.0,   5.0512,  35.1024,2,  35.1030,2,   -999.0,9,  4.9191,    216.8,2,    18.66,2,    21.40,2,     0.00,2,     1.43,2, -999.000,9,   -999.0,9,  -999.0,9,-999.000,-999.000,9
  316N198212_2, ATAS2,    77,  1,     19,     19,2,19830114,0207, 25.3383, -34.8500, 6080, 1633.2,   1628.0,   4.8712,  35.1122,2,  35.1130,2,   -999.0,9,  4.7282,    224.2,2,    18.76,2,    20.62,2,     0.00,2,     1.38,2, -999.000,9,   -999.0,9,  1623.0,2,-999.000,   4.864,2
  316N198212_2, ATAS2,    77,  1,     20,     20,2,19830114,0207, 25.3383, -34.8500, 6080, 1775.6,   1771.2,   4.5712,  35.1019,2,  35.1010,2,   -999.0,9,  4.4179,    230.3,2,    19.74,2,    20.32,2,     0.00,2,     1.36,2, -999.000,9,   -999.0,9,  -999.0,9,-999.000,-999.000,9
  316N198212_2, ATAS2,    77,  1,     21,     21,2,19830114,0207, 25.3383, -34.8500, 6080, 1988.5,   1985.3,   4.1182,  35.0688,2,  35.0690,2,   -999.0,9,  3.9501,    236.4,2,    21.99,2,    20.23,2,     0.00,2,     1.36,2, -999.000,9,   -999.0,9,  1982.0,2,-999.000,   4.118,2
  316N198212_2, ATAS2,    77,  1,     22,     22,2,19830114,0207, 25.3383, -34.8500, 6080, 2186.4,   2184.3,   3.7402,  35.0356,2,  35.0350,2,   -999.0,9,  3.5583,    241.6,2,    24.23,2,    20.23,2,     0.00,2,     1.36,2, -999.000,9,   -999.0,9,  -999.0,9,-999.000,-999.000,9
  316N198212_2, ATAS2,    77,  1,     23,     23,2,19830114,0207, 25.3383, -34.8500, 6080, 2489.7,   2489.3,   3.2512,  34.9877,2,  34.9890,2,   -999.0,9,  3.0475,    244.2,2,    28.53,2,    20.42,2,     0.00,2,     1.38,2, -999.000,9,   -999.0,9,  2491.0,2,-999.000,   3.254,2
  316N198212_2, ATAS2,    78,  1,      1,      1,2,19830114,2057, 26.5700, -33.6600, 5834,   29.6,      3.0,  22.0088,  37.4341,2,  37.4300,2,   -999.0,9, 22.0082,    216.8,2,     1.17,2,     0.00,2,     0.00,2,     0.02,2, -999.000,9,   -999.0,9,  -999.0,9,-999.000,  22.009,2
  316N198212_2, ATAS2,    78,  1,      2,      2,2,19830114,2057, 26.5700, -33.6600, 5834,  174.2,    150.0,  21.8088,  37.3929,2,  37.3840,2,   -999.0,9, 21.7789,    216.3,2,     1.17,2,     0.00,2,     0.01,2,     0.03,2, -999.000,9,   -999.0,9,  -999.0,9,-999.000,-999.000,9
  316N198212_2, ATAS2,    78,  1,      3,      3,2,19830114,2057, 26.5700, -33.6600, 5834,  198.3,    177.0,  19.6618,  36.9392,2,  36.9330,2,   -999.0,9, 19.6291,    204.9,2,     1.27,2,     0.60,2,     0.02,2,     0.07,2, -999.000,9,   -999.0,9,  -999.0,9,-999.000,-999.000,9
  316N198212_2, ATAS2,    78,  1,      4,      4,2,19830114,2057, 26.5700, -33.6600, 5834,  232.9,    213.0,  18.4918,  36.7168,2,  36.7130,2,   -999.0,9, 18.4541,    198.0,2,     1.76,2,     2.35,2,     0.01,2,     0.18,2, -999.000,9,   -999.0,9,  -999.0,9,-999.000,-999.000,9
  316N198212_2, ATAS2,    78,  1,      5,      5,2,19830114,2057, 26.5700, -33.6600, 5834,  282.1,    262.0,  16.9889,  36.4097,2,  36.4050,2,   -999.0,9, 16.9451,    207.1,2,     2.25,2,     4.91,2,     0.00,2,     0.33,2, -999.000,9,   -999.0,9,  -999.0,9,-999.000,-999.000,9
  316N198212_2, ATAS2,    78,  1,      6,      6,2,19830114,2057, 26.5700, -33.6600, 5834,  331.1,    312.0,  15.7939,  36.1832,2,  36.1770,2,   -999.0,9, 15.7443,    193.6,2,     3.12,2,     7.17,2,     0.00,2,     0.47,2, -999.000,9,   -999.0,9,  -999.0,9,-999.000,-999.000,9
  316N198212_2, ATAS2,    78,  1,      7,      7,2,19830114,2057, 26.5700, -33.6600, 5834,  380.9,    362.0,  14.9319,  36.0378,2,  36.0290,2,   -999.0,9, 14.8765,    184.0,2,     4.00,2,     9.68,2,     0.00,2,     0.62,2, -999.000,9,   -999.0,9,  -999.0,9,-999.000,-999.000,9
  316N198212_2, ATAS2,    78,  1,      8,      8,2,19830114,2057, 26.5700, -33.6600, 5834,  435.1,    416.0,  14.1059,  35.9084,2,  35.9030,2,   -999.0,9, 14.0446,    170.0,2,     4.98,2,    12.50,2,     0.00,2,     0.78,2, -999.000,9,   -999.0,9,  -999.0,9,-999.000,-999.000,9
  316N198212_2, ATAS2,    78,  1,      9,      9,2,19830114,2057, 26.5700, -33.6600, 5834,  459.4,    446.0,  13.7539,  35.8634,2,  35.8600,2,   -999.0,9, 13.6892,    181.3,2,     4.98,2,    11.82,2,     0.00,2,     0.74,2, -999.000,9,   -999.0,9,  -999.0,9,-999.000,-999.000,9
  316N198212_2, ATAS2,    78,  1,     10,     10,2,19830114,2057, 26.5700, -33.6600, 5834,  494.2,    481.0,  13.2449,  35.7951,2,  35.7970,2,   -999.0,9, 13.1768,    182.2,2,     5.18,2,    12.70,2,     0.00,2,     0.79,2, -999.000,9,   -999.0,9,  -999.0,9,-999.000,-999.000,9
  316N198212_2, ATAS2,    78,  1,     11,     11,2,19830114,2057, 26.5700, -33.6600, 5834,  527.6,    516.4,  12.8409,  35.7412,2,-999.0000,9,   -999.0,9, 12.7691,   -999.0,9,  -999.00,9,  -999.00,9,  -999.00,9,  -999.00,9, -999.000,9,   -999.0,9,   512.0,2,-999.000,  12.852,2
  316N198212_2, ATAS2,    78,  1,     12,     12,2,19830114,2057, 26.5700, -33.6600, 5834,  648.5,    637.8,  11.3480,  35.5635,2,  35.5610,2,   -999.0,9, 11.2657,    168.3,2,     8.30,2,    17.58,2,     0.00,2,     1.09,2, -999.000,9,   -999.0,9,  -999.0,9,-999.000,-999.000,9
  316N198212_2, ATAS2,    78,  1,     13,     13,2,19830114,2057, 26.5700, -33.6600, 5834,  763.8,    753.6,   9.6970,  35.3838,2,  35.3830,2,   -999.0,9,  9.6083,    154.8,2,    12.80,2,    21.98,2,     0.00,2,     1.37,2, -999.000,9,   -999.0,9,  -999.0,9,-999.000,-999.000,9
  316N198212_2, ATAS2,    78,  1,     14,     14,2,19830114,2057, 26.5700, -33.6600, 5834,  888.0,    878.8,   8.2930,  35.2428,2,  35.2420,2,   -999.0,9,  8.1980,    151.7,2,    16.22,2,    24.91,2,     0.00,2,     1.57,2, -999.000,9,   -999.0,9,  -999.0,9,-999.000,-999.000,9
  316N198212_2, ATAS2,    78,  1,     15,     15,2,19830114,2057, 26.5700, -33.6600, 5834,  990.7,    982.4,   7.4111,  35.1878,2,  35.1880,2,   -999.0,9,  7.3106,    161.2,2,    17.68,2,    24.91,2,     0.00,2,     1.60,2, -999.000,9,   -999.0,9,  -999.0,9,-999.000,-999.000,9
  316N198212_2, ATAS2,    78,  1,     16,     16,2,19830114,2057, 26.5700, -33.6600, 5834, 1094.0,   1086.4,   6.7471,  35.1503,2,  35.1500,2,   -999.0,9,  6.6406,    170.4,2,    18.56,2,    24.82,2,     0.00,2,     1.59,2, -999.000,9,   -999.0,9,  -999.0,9,-999.000,-999.000,9
  316N198212_2, ATAS2,    78,  1,     17,     17,2,19830114,2057, 26.5700, -33.6600, 5834, 1286.6,   1280.2,   5.9671,  35.1447,2,  35.1510,2,   -999.0,9,  5.8473,    193.4,2,    17.88,2,    22.96,2,     0.00,2,     1.49,2, -999.000,9,   -999.0,9,  1278.0,2,-999.000,   5.986,2
  316N198212_2, ATAS2,    78,  1,     18,     18,2,19830114,2057, 26.5700, -33.6600, 5834, 1456.0,   1450.8,   5.3831,  35.1347,2,  35.1410,2,   -999.0,9,  5.2520,    210.3,2,    17.88,2,    21.50,2,     0.00,2,     1.41,2, -999.000,9,   -999.0,9,  -999.0,9,-999.000,-999.000,9
  316N198212_2, ATAS2,    78,  1,     19,     19,2,19830114,2057, 26.5700, -33.6600, 5834, 1677.5,   1673.6,   4.9231,  35.1267,2,  35.1290,2,   -999.0,9,  4.7750,    223.8,2,    18.86,2,    20.62,2,     0.00,2,     1.35,2, -999.000,9,   -999.0,9,  1672.0,2,-999.000,   4.917,2
  316N198212_2, ATAS2,    78,  1,     20,     20,2,19830114,2057, 26.5700, -33.6600, 5834, 1888.3,   1885.4,   4.3891,  35.0903,2,  35.0910,2,   -999.0,9,  4.2270,    233.8,2,    20.81,2,    20.23,2,     0.00,2,     1.34,2, -999.000,9,   -999.0,9,  -999.0,9,-999.000,-999.000,9
  316N198212_2, ATAS2,    78,  1,     21,     21,2,19830114,2057, 26.5700, -33.6600, 5834, 2091.9,   2090.3,   3.9481,  35.0557,2,  35.0560,2,   -999.0,9,  3.7722,    240.3,2,    22.87,2,    20.03,2,     0.00,2,     1.33,2, -999.000,9,   -999.0,9,  2088.0,2,-999.000,   3.950,2
  316N198212_2, ATAS2,    78,  1,     22,     22,2,19830114,2057, 26.5700, -33.6600, 5834, 2287.5,   2287.0,   3.5951,  35.0206,2,  35.0210,2,   -999.0,9,  3.4055,    245.0,2,    25.11,2,    20.03,2,     0.00,2,     1.34,2, -999.000,9,   -999.0,9,  -999.0,9,-999.000,-999.000,9
  316N198212_2, ATAS2,    78,  1,     23,     23,2,19830114,2057, 26.5700, -33.6600, 5834, 2484.6,   2485.2,   3.3251,  34.9941,2,  34.9950,2,   -999.0,9,  3.1205,    245.9,2,    27.85,2,    20.03,2,     0.00,2,     1.36,2, -999.000,9,   -999.0,9,  2477.0,2,-999.000,   3.323,2
  316N198212_2, ATAS2,    79,  1,      1,      1,2,19830115,1143, 27.8567, -32.4450, 4879,   27.8,      1.0,  20.9477,  37.1051,2,  37.1020,2,   -999.0,9, 20.9475,    224.1,2,     1.95,2,     0.00,2,     0.00,2,     0.01,2,    3.160,2,   2078.0,2,  -999.0,9,   0.120,  20.952,2
  316N198212_2, ATAS2,    79,  1,      2,      2,2,19830115,1143, 27.8567, -32.4450, 4879,  138.3,    112.0,  21.0387,  37.1489,2,  37.1450,2,   -999.0,9, 21.0171,    220.7,2,     1.66,2,     0.00,2,     0.00,2,     0.00,2,    3.170,2,   2090.0,2,  -999.0,9,   0.120,-999.000,9
  316N198212_2, ATAS2,    79,  1,      3,      3,2,19830115,1143, 27.8567, -32.4450, 4879,  162.4,    138.0,  18.8398,  36.6914,2,  36.6820,2,   -999.0,9, 18.8151,    209.3,2,     1.56,2,     0.71,2,     0.02,2,     0.04,2,    3.300,2,   2093.0,2,  -999.0,9,   0.120,-999.000,9
  316N198212_2, ATAS2,    79,  1,      4,      4,2,19830115,1143, 27.8567, -32.4450, 4879,  191.9,    168.0,  17.9968,  36.5363,2,  36.5320,2,   -999.0,9, 17.9677,    208.0,2,     1.95,2,     2.17,2,     0.01,2,     0.11,2, -999.000,9,   -999.0,9,  -999.0,9,-999.000,-999.000,9
  316N198212_2, ATAS2,    79,  1,      5,      5,2,19830115,1143, 27.8567, -32.4450, 4879,  235.7,    213.0,  17.1768,  36.4063,2,  36.3980,2,   -999.0,9, 17.1410,    204.9,2,     2.15,2,     4.48,2,     0.00,2,     0.23,2, -999.000,9,   -999.0,9,  -999.0,9,-999.000,-999.000,9
  316N198212_2, ATAS2,    79,  1,      6,      6,2,19830115,1143, 27.8567, -32.4450, 4879,  294.7,    272.0,  16.4988,  36.3003,2,  36.2930,2,   -999.0,9, 16.4543,    204.9,2,     2.73,2,     5.83,2,     0.00,2,     0.33,2,    3.020,2,   2105.0,2,  -999.0,9,   0.110,-999.000,9
  316N198212_2, ATAS2,    79,  1,      7,      7,2,19830115,1143, 27.8567, -32.4450, 4879,  332.5,    311.0,  15.8558,  36.1878,2,  36.1740,2,   -999.0,9, 15.8063,    200.1,2,     3.12,2,     7.10,2,     0.00,2,     0.42,2, -999.000,9,   -999.0,9,  -999.0,9,-999.000,-999.000,9
  316N198212_2, ATAS2,    79,  1,      8,      8,2,19830115,1143, 27.8567, -32.4450, 4879,  381.6,    360.0,  14.8659,  36.0258,2,  36.0210,2,   -999.0,9, 14.8109,    203.5,2,     3.81,2,     8.79,2,     0.00,2,     0.52,2,    3.340,2,   2118.0,2,  -999.0,9,   0.130,-999.000,9
  316N198212_2, ATAS2,    79,  1,      9,      9,2,19830115,1143, 27.8567, -32.4450, 4879,  425.6,    405.0,  14.2329,  35.9269,2,  35.9160,2,   -999.0,9, 14.1728,    198.8,2,     4.30,2,     9.96,2,     0.00,2,     0.61,2,    3.310,2,   -999.0,9,  -999.0,9,   0.140,-999.000,9
  316N198212_2, ATAS2,    79,  1,     10,     10,2,19830115,1143, 27.8567, -32.4450, 4879,  474.1,    454.0,  13.6739,  35.8442,2,  35.8350,2,   -999.0,9, 13.6082,    197.9,2,     4.98,2,    11.04,2,     0.00,2,     0.67,2, -999.000,9,   -999.0,9,  -999.0,9,-999.000,-999.000,9
  316N198212_2, ATAS2,    79,  1,     11,     11,2,19830115,1143, 27.8567, -32.4450, 4879,  537.2,    526.2,  12.8039,  35.7294,2,  35.7280,2,   -999.0,9, 12.7308,    194.8,2,     5.47,2,    12.60,2,     0.00,2,     0.77,2,    3.360,2,   -999.0,9,   523.0,2,   0.110,  12.807,2
  316N198212_2, ATAS2,    79,  1,     12,     12,2,19830115,1143, 27.8567, -32.4450, 4879,  653.8,    643.2,  11.3789,  35.5746,2,  35.5730,2,   -999.0,9, 11.2958,    185.6,2,     7.33,2,    15.73,2,     0.00,2,     0.97,2,    2.460,2,   2155.0,2,  -999.0,9,   0.100,-999.000,9
  316N198212_2, ATAS2,    79,  1,     13,     13,2,19830115,1143, 27.8567, -32.4450, 4879,  763.8,    753.8,  10.0779,  35.4648,2,  35.4620,2,   -999.0,9,  9.9871,    169.1,2,    10.65,2,    19.63,2,     0.00,2,     1.21,2,    1.450,2,   -999.0,9,  -999.0,9,   0.070,-999.000,9
  316N198212_2, ATAS2,    79,  1,     14,     14,2,19830115,1143, 27.8567, -32.4450, 4879,  823.9,    814.0,   9.4810,  35.4184,2,  35.4150,2,   -999.0,9,  9.3861,    167.4,2,    12.31,2,    21.00,2,     0.00,2,     1.30,2,    0.875,2,   2181.0,2,  -999.0,9,   0.041,-999.000,9
  316N198212_2, ATAS2,    79,  1,     15,     15,2,19830115,1143, 27.8567, -32.4450, 4879,  918.1,    909.1,   8.6580,  35.3764,2,  35.3760,2,   -999.0,9,  8.5569,    166.9,2,    14.17,2,    22.08,2,     0.00,2,     1.39,2,    0.668,2,   -999.0,9,  -999.0,9,   0.036,-999.000,9
  316N198212_2, ATAS2,    79,  1,     16,     16,2,19830115,1143, 27.8567, -32.4450, 4879, 1064.8,   1056.9,   7.6220,  35.3316,2,  35.3300,2,   -999.0,9,  7.5116,    179.5,2,    15.34,2,    22.08,2,     0.00,2,     1.41,2, -999.000,9,   -999.0,9,  -999.0,9,-999.000,-999.000,9
  316N198212_2, ATAS2,    79,  1,     17,     17,2,19830115,1143, 27.8567, -32.4450, 4879, 1153.4,   1146.1,   7.1010,  35.3042,2,  35.3060,2,   -999.0,9,  6.9850,    186.4,2,    16.12,2,    21.88,2,     0.00,2,     1.39,2, -999.000,9,   -999.0,9,  1149.0,2,-999.000,   7.117,2
  316N198212_2, ATAS2,    79,  1,     18,     18,2,19830115,1143, 27.8567, -32.4450, 4879, 1264.3,   1257.7,   6.7850,  35.3244,2,  35.3240,2,   -999.0,9,  6.6596,    198.2,2,    15.44,2,    20.91,2,     0.00,2,     1.34,2, -999.000,9,   -999.0,9,  -999.0,9,-999.000,-999.000,9
  316N198212_2, ATAS2,    79,  1,     19,     19,2,19830115,1143, 27.8567, -32.4450, 4879, 1378.7,   1372.9,   6.3020,  35.2994,2,  35.2990,2,   -999.0,9,  6.1690,    209.0,2,    16.12,2,    20.42,2,     0.00,2,     1.32,2, -999.000,9,   -999.0,9,  1370.0,2,-999.000,   6.304,2
  316N198212_2, ATAS2,    79,  1,     20,     20,2,19830115,1143, 27.8567, -32.4450, 4879, 1523.6,   1518.7,   5.6080,  35.2444,2,  35.2450,2,   -999.0,9,  5.4673,    224.6,2,    16.61,2,    19.74,2,     0.00,2,     1.28,2, -999.000,9,   -999.0,9,  -999.0,9,-999.000,-999.000,9
  316N198212_2, ATAS2,    79,  1,     21,     21,2,19830115,1143, 27.8567, -32.4450, 4879, 1704.7,   1701.0,   5.0440,  35.1857,2,  35.1860,2,   -999.0,9,  4.8915,    233.8,2,    17.39,2,    19.54,2,     0.00,2,     1.28,2, -999.000,9,   -999.0,9,  1697.0,2,-999.000,   5.043,2
  316N198212_2, ATAS2,    79,  1,     22,     22,2,19830115,1143, 27.8567, -32.4450, 4879, 2100.4,   2099.1,   3.9101,  35.0605,2,  35.0600,2,   -999.0,9,  3.7338,    249.0,2,    21.50,2,    19.45,2,     0.00,2,     1.29,2, -999.000,9,   -999.0,9,  -999.0,9,-999.000,-999.000,9
  316N198212_2, ATAS2,    79,  1,     23,     23,2,19830115,1143, 27.8567, -32.4450, 4879, 2494.9,   2495.7,   3.2301,  34.9869,2,  34.9890,2,   -999.0,9,  3.0262,    252.4,2,    27.07,2,    19.84,2,     0.00,2,     1.33,2, -999.000,9,   -999.0,9,  -999.0,9,-999.000,   3.234,2