BOTTLE,20220818CCHSIOAMB
EXPOCODE,SECT_ID,STNNBR,CASTNO,SAMPNO,BTLNBR,BTLNBR_FLAG_W,DATE,TIME,LATITUDE,LONGITUDE,DEPTH,CTDRAW,CTDPRS,CTDTMP,CTDSAL,CTDSAL_FLAG_W,SALNTY,SALNTY_FLAG_W,CTDOXY,CTDOXY_FLAG_W,THETA,OXYGEN,OXYGEN_FLAG_W,SILCAT,SILCAT_FLAG_W,NITRAT,NITRAT_FLAG_W,NITRIT,NITRIT_FLAG_W,PHSPHT,PHSPHT_FLAG_W,TRITUM,TRITUM_FLAG_W,TCARBN,TCARBN_FLAG_W,REVPRS,REVPRS_FLAG_W,TRITER,REVTMP,REVTMP_FLAG_W
,,,,,,,,,,,,,DBAR,ITS-90,PSS-78,,PSS-78,,UMOL/KG,,DEG C,UMOL/KG,,UMOL/KG,,UMOL/KG,,UMOL/KG,,UMOL/KG,,TU,,UMOL/KG,,DBAR,,TU,ITS-90,
  316N198212_2, ATAS2,    89,  1,      1,      1,2,19830120,1910, 20.5700, -23.0283, 4419,   34.0,      1.0,  21.1341,  36.8640,2,  36.8640,2,   -999.0,9, 21.1339,    220.3,2,     1.46,2,     0.01,2,     0.02,2,     0.15,2,    2.430,2,   2079.0,2,  -999.0,9,   0.110,  21.133,2
  316N198212_2, ATAS2,    89,  1,      2,      2,2,19830120,1910, 20.5700, -23.0283, 4419,  121.7,     99.0,  19.4242,  36.7720,2,  36.7720,2,   -999.0,9, 19.4061,    179.3,2,     2.24,2,     4.78,2,     0.03,2,     0.39,2, -999.000,9,   -999.0,9,  -999.0,9,-999.000,-999.000,9
  316N198212_2, ATAS2,    89,  1,      3,      3,2,19830120,1910, 20.5700, -23.0283, 4419,  159.8,    139.0,  17.9562,  36.5766,2,  36.5700,2,   -999.0,9, 17.9321,    165.8,2,     3.03,2,     7.79,2,     0.01,2,     0.54,2, -999.000,9,   -999.0,9,  -999.0,9,-999.000,-999.000,9
  316N198212_2, ATAS2,    89,  1,      4,      4,2,19830120,1910, 20.5700, -23.0283, 4419,  208.3,    190.0,  15.6612,  36.1052,2,  36.1020,2,   -999.0,9, 15.6314,    129.2,2,     5.37,2,    15.04,2,     0.00,2,     0.96,2,    2.790,2,   2166.0,2,  -999.0,9,   0.120,-999.000,9
  316N198212_2, ATAS2,    89,  1,      5,      5,2,19830120,1910, 20.5700, -23.0283, 4419,  255.7,    240.0,  14.4523,  35.9141,2,  35.8820,2,   -999.0,9, 14.4165,    128.7,2,     6.25,2,    17.09,2,     0.00,2,     1.07,2, -999.000,9,   -999.0,9,  -999.0,9,-999.000,-999.000,9
  316N198212_2, ATAS2,    89,  1,      6,      6,2,19830120,1910, 20.5700, -23.0283, 4419,  314.6,    300.0,  13.3383,  35.7358,2,  35.7290,2,   -999.0,9, 13.2959,    114.4,2,     7.91,2,    20.31,2,     0.00,2,     1.27,2,    2.360,2,   2183.0,2,  -999.0,9,   0.100,-999.000,9
  316N198212_2, ATAS2,    89,  1,      7,      7,2,19830120,1910, 20.5700, -23.0283, 4419,  364.0,    350.0,  12.5333,  35.6200,2,  35.6290,2,   -999.0,9, 12.4857,    107.4,2,     9.08,2,    22.37,2,     0.00,2,     1.39,2, -999.000,9,   -999.0,9,  -999.0,9,-999.000,-999.000,9
  316N198212_2, ATAS2,    89,  1,      8,      8,2,19830120,1910, 20.5700, -23.0283, 4419,  413.5,    400.0,  11.5673,  35.4805,2,  35.4680,2,   -999.0,9, 11.5157,     89.6,2,    11.53,2,    26.28,2,     0.00,2,     1.62,2,    1.490,2,   -999.0,9,  -999.0,9,   0.070,-999.000,9
  316N198212_2, ATAS2,    89,  1,      9,      9,2,19830120,1910, 20.5700, -23.0283, 4419,  458.4,    445.0,  10.7763,  35.3654,2,  35.3560,2,   -999.0,9, 10.7213,     81.7,2,    13.48,2,    28.62,2,     0.00,2,     1.77,2,    1.131,2,   -999.0,9,  -999.0,9,   0.061,-999.000,9
  316N198212_2, ATAS2,    89,  1,     10,     10,2,19830120,1910, 20.5700, -23.0283, 4419,  518.2,    507.5,  10.4223,  35.3719,2,  35.3680,2,   -999.0,9, 10.3607,    100.0,2,    13.58,2,    27.06,2,     0.00,2,     1.69,2,    0.950,2,   -999.0,9,  -999.0,9,   0.090,-999.000,9
  316N198212_2, ATAS2,    89,  1,     11,     11,2,19830120,1910, 20.5700, -23.0283, 4419,  682.5,    672.4,   8.2754,  35.0863,2,  35.0830,2,   -999.0,9,  8.2038,     88.2,2,    19.64,2,    32.34,2,     0.00,2,     2.05,2,    0.060,2,   -999.0,9,   677.0,2,   0.041,   8.259,2
  316N198212_2, ATAS2,    89,  1,     12,     12,2,19830120,1910, 20.5700, -23.0283, 4419,  812.6,    803.1,   7.0974,  34.9713,2,  34.9700,2,   -999.0,9,  7.0183,    103.9,2,    22.57,2,    32.74,2,     0.00,2,     2.12,2, -999.000,9,   -999.0,9,  -999.0,9,-999.000,-999.000,9
  316N198212_2, ATAS2,    89,  1,     13,     13,2,19830120,1910, 20.5700, -23.0283, 4419,  917.8,    908.6,   6.5894,  34.9625,2,  34.9600,2,   -999.0,9,  6.5028,    118.7,2,    23.45,2,    31.66,2,     0.00,2,     2.07,2, -999.000,9,   -999.0,9,  -999.0,9,-999.000,-999.000,9
  316N198212_2, ATAS2,    89,  1,     14,     14,2,19830120,1910, 20.5700, -23.0283, 4419, 1022.8,   1013.6,   6.3754,  35.0155,2,  35.0150,2,   -999.0,9,  6.2796,    142.1,2,    22.77,2,    29.22,2,     0.00,2,     1.93,2, -999.000,9,   -999.0,9,  -999.0,9,-999.000,-999.000,9
  316N198212_2, ATAS2,    89,  1,     15,     15,2,19830120,1910, 20.5700, -23.0283, 4419, 1148.1,   1139.4,   5.8164,  35.0276,2,  35.0270,2,   -999.0,9,  5.7124,    156.5,2,    23.06,2,    27.65,2,     0.00,2,     1.85,2, -999.000,9,   -999.0,9,  -999.0,9,-999.000,-999.000,9
  316N198212_2, ATAS2,    89,  1,     16,     16,2,19830120,1910, 20.5700, -23.0283, 4419, 1348.9,   1341.0,   5.1584,  35.0543,2,  35.0530,2,   -999.0,9,  5.0407,    183.8,2,    22.67,2,    24.92,2,     0.00,2,     1.69,2, -999.000,9,   -999.0,9,  -999.0,9,-999.000,-999.000,9
  316N198212_2, ATAS2,    89,  1,     17,     17,2,19830120,1910, 20.5700, -23.0283, 4419, 1543.3,   1536.1,   4.5105,  35.0308,2,  35.0310,2,   -999.0,9,  4.3809,    202.1,2,    23.45,2,    23.45,2,     0.00,2,     1.60,2, -999.000,9,   -999.0,9,  1543.0,2,-999.000,   4.514,2
  316N198212_2, ATAS2,    89,  1,     18,     18,2,19830120,1910, 20.5700, -23.0283, 4419, 1712.2,   1705.9,   4.1855,  35.0236,2,  35.0220,2,   -999.0,9,  4.0437,    214.6,2,    23.94,2,    22.47,2,     0.00,2,     1.53,2, -999.000,9,   -999.0,9,  -999.0,9,-999.000,-999.000,9
  316N198212_2, ATAS2,    89,  1,     19,     19,2,19830120,1910, 20.5700, -23.0283, 4419, 2113.2,   2108.9,   3.5515,  34.9874,2,  34.9850,2,   -999.0,9,  3.3801,    232.0,2,    26.38,2,    21.21,2,     0.00,2,     1.47,2, -999.000,9,   -999.0,9,  2109.0,2,-999.000,   3.555,2
  316N198212_2, ATAS2,    89,  1,     20,     20,2,19830120,1910, 20.5700, -23.0283, 4419, 2517.4,   2515.1,   3.1365,  34.9608,2,  34.9590,2,   -999.0,9,  2.9325,    235.5,2,    31.56,2,    21.30,2,     0.00,2,     1.47,2, -999.000,9,   -999.0,9,  -999.0,9,-999.000,-999.000,9
  316N198212_2, ATAS2,    89,  1,     21,     21,2,19830120,1910, 20.5700, -23.0283, 4419, 3021.3,   3021.4,   2.8435,  34.9456,2,  34.9420,2,   -999.0,9,  2.5938,    240.3,2,    35.86,2,    21.21,2,     0.00,2,     1.46,2, -999.000,9,   -999.0,9,  3019.0,2,-999.000,   2.846,2
  316N198212_2, ATAS2,    89,  1,     22,     22,2,19830120,1910, 20.5700, -23.0283, 4419, 3526.6,   3529.0,   2.5365,  34.9161,2,  34.9150,2,   -999.0,9,  2.2400,    238.1,2,    43.29,2,    21.99,2,     0.00,2,     1.51,2, -999.000,9,   -999.0,9,  -999.0,9,-999.000,-999.000,9
  316N198212_2, ATAS2,    89,  1,     23,     23,2,19830120,1910, 20.5700, -23.0283, 4419, 4498.8,   4505.7,   2.3975,  34.8912,2,  34.8930,2,   -999.0,9,  1.9927,    243.7,2,    47.40,2,    22.28,2,     0.00,2,     1.52,2, -999.000,9,   -999.0,9,  4516.0,2,-999.000,   2.401,2
  316N198212_2, ATAS2,    90,  1,      1,      1,2,19830121,0432, 20.5833, -21.9933, 4176,   30.5,      1.0,  20.4741,  36.4037,2,  36.4030,2,   -999.0,9, 20.4739,    223.4,2,     1.66,2,     0.00,2,     0.02,2,     0.11,2,    2.280,2,   -999.0,9,  -999.0,9,   0.110,  20.458,2
  316N198212_2, ATAS2,    90,  1,      2,      2,2,19830121,0432, 20.5833, -21.9933, 4176,   92.1,     69.0,  20.6301,  36.6044,2,  36.5990,2,   -999.0,9, 20.6170,    210.7,2,     1.46,2,     0.61,2,     0.67,2,     0.25,2, -999.000,9,   -999.0,9,  -999.0,9,-999.000,-999.000,9
  316N198212_2, ATAS2,    90,  1,      3,      3,2,19830121,0432, 20.5833, -21.9933, 4176,  140.1,    119.0,  18.1921,  36.4694,2,  36.4630,2,   -999.0,9, 18.1714,    133.6,2,     4.10,2,    11.32,2,     0.02,2,     0.77,2, -999.000,9,   -999.0,9,  -999.0,9,-999.000,-999.000,9
  316N198212_2, ATAS2,    90,  1,      4,      4,2,19830121,0432, 20.5833, -21.9933, 4176,  178.3,    160.0,  17.0882,  36.3729,2,  36.3760,2,   -999.0,9, 17.0614,    144.0,2,     4.20,2,    11.13,2,     0.01,2,     0.73,2, -999.000,9,   -999.0,9,  -999.0,9,-999.000,-999.000,9
  316N198212_2, ATAS2,    90,  1,      5,      5,2,19830121,0432, 20.5833, -21.9933, 4176,  211.2,    196.0,  15.8092,  36.1012,2,  36.1030,2,   -999.0,9, 15.7781,    118.3,2,     5.66,2,    16.01,2,     0.01,2,     1.02,2,    2.110,2,   -999.0,9,  -999.0,9,   0.110,-999.000,9
  316N198212_2, ATAS2,    90,  1,      6,      6,2,19830121,0432, 20.5833, -21.9933, 4176,  245.1,    232.0,  14.8942,  35.9419,2,  35.9420,2,   -999.0,9, 14.8589,    107.9,2,     6.64,2,    18.46,2,     0.00,2,     1.15,2, -999.000,9,   -999.0,9,  -999.0,9,-999.000,-999.000,9
  316N198212_2, ATAS2,    90,  1,      7,      7,2,19830121,0432, 20.5833, -21.9933, 4176,  283.3,    272.0,  14.3392,  35.8860,2,  35.8850,2,   -999.0,9, 14.2988,    117.0,2,     6.64,2,    18.07,2,     0.00,2,     1.13,2, -999.000,9,   -999.0,9,  -999.0,9,-999.000,-999.000,9
  316N198212_2, ATAS2,    90,  1,      8,      8,2,19830121,0432, 20.5833, -21.9933, 4176,  331.5,    322.0,  13.4092,  35.7294,2,  35.7280,2,   -999.0,9, 13.3635,     99.6,2,     8.40,2,    21.58,2,     0.00,2,     1.33,2, -999.000,9,   -999.0,9,  -999.0,9,-999.000,-999.000,9
  316N198212_2, ATAS2,    90,  1,      9,      9,2,19830121,0432, 20.5833, -21.9933, 4176,  386.1,    378.0,  12.7612,  35.6684,2,  35.6670,2,   -999.0,9, 12.7092,    109.6,2,     8.99,2,    21.68,2,     0.00,2,     1.33,2,    2.490,2,   -999.0,9,  -999.0,9,   0.110,-999.000,9
  316N198212_2, ATAS2,    90,  1,     10,     10,2,19830121,0432, 20.5833, -21.9933, 4176,  450.6,    443.0,  11.7003,  35.5240,2,  35.5230,2,   -999.0,9, 11.6425,    102.2,2,    10.84,2,    24.52,2,     0.00,2,     1.50,2, -999.000,9,   -999.0,9,  -999.0,9,-999.000,-999.000,9
  316N198212_2, ATAS2,    90,  1,     11,     11,2,19830121,0432, 20.5833, -21.9933, 4176,  511.3,    501.5,  10.6433,  35.3691,2,  35.3660,2,   -999.0,9, 10.5816,     86.1,2,    13.77,2,    28.33,2,     0.00,2,     1.74,2, -999.000,9,   -999.0,9,   503.0,2,-999.000,  10.607,2
  316N198212_2, ATAS2,    90,  1,     12,     12,2,19830121,0432, 20.5833, -21.9933, 4176,  673.1,    663.9,   8.6153,  35.1265,2,  35.1110,2,   -999.0,9,  8.5430,     85.6,2,    19.05,2,    32.24,2,     0.00,2,     2.03,2, -999.000,9,   -999.0,9,  -999.0,9,-999.000,-999.000,9
  316N198212_2, ATAS2,    90,  1,     13,     13,2,19830121,0432, 20.5833, -21.9933, 4176,  793.4,    784.6,   7.3873,  34.9765,2,  34.9770,2,   -999.0,9,  7.3085,     95.6,2,    22.18,2,    33.52,2,     0.00,2,     2.13,2, -999.000,9,   -999.0,9,  -999.0,9,-999.000,-999.000,9
  316N198212_2, ATAS2,    90,  1,     14,     14,2,19830121,0432, 20.5833, -21.9933, 4176,  927.6,    919.1,   6.8873,  35.0043,2,  35.0040,2,   -999.0,9,  6.7976,    119.5,2,    22.57,2,    31.07,2,     0.00,2,     2.02,2, -999.000,9,   -999.0,9,  -999.0,9,-999.000,-999.000,9
  316N198212_2, ATAS2,    90,  1,     15,     15,2,19830121,0432, 20.5833, -21.9933, 4176, 1134.9,   1127.0,   6.0534,  35.0469,2,  35.0440,2,   -999.0,9,  5.9486,    150.4,2,    22.87,2,    28.14,2,     0.00,2,     1.86,2, -999.000,9,   -999.0,9,  -999.0,9,-999.000,-999.000,9
  316N198212_2, ATAS2,    90,  1,     16,     16,2,19830121,0432, 20.5833, -21.9933, 4176, 1197.9,   1190.2,   5.9324,  35.0800,2,  35.0800,2,   -999.0,9,  5.8222,    160.4,2,    22.28,2,    26.87,2,     0.00,2,     1.77,2, -999.000,9,   -999.0,9,  -999.0,9,-999.000,-999.000,9
  316N198212_2, ATAS2,    90,  1,     17,     17,2,19830121,0432, 20.5833, -21.9933, 4176, 1286.8,   1279.4,   5.7024,  35.1049,2,  35.1070,2,   -999.0,9,  5.5853,    174.3,2,    21.69,2,    25.31,2,     0.00,2,     1.68,2, -999.000,9,   -999.0,9,  1284.0,2,-999.000,   5.705,2
  316N198212_2, ATAS2,    90,  1,     18,     18,2,19830121,0432, 20.5833, -21.9933, 4176, 1448.2,   1441.7,   4.9894,  35.0828,2,  35.0830,2,   -999.0,9,  4.8635,    195.1,2,    22.08,2,    23.65,2,     0.00,2,     1.58,2, -999.000,9,   -999.0,9,  -999.0,9,-999.000,-999.000,9
  316N198212_2, ATAS2,    90,  1,     19,     19,2,19830121,0432, 20.5833, -21.9933, 4176, 1671.2,   1666.0,   4.2964,  35.0410,2,  35.0420,2,   -999.0,9,  4.1570,    212.5,2,    23.84,2,    22.67,2,     0.00,2,     1.53,2, -999.000,9,   -999.0,9,  1666.0,2,-999.000,   4.292,2
  316N198212_2, ATAS2,    90,  1,     20,     20,2,19830121,0432, 20.5833, -21.9933, 4176, 2909.5,   2910.5,   2.8474,  34.9447,2,  34.9450,2,   -999.0,9,  2.6092,    240.3,2,    36.16,2,    21.40,2,     0.00,2,     1.47,2, -999.000,9,   -999.0,9,  -999.0,9,-999.000,-999.000,9
  316N198212_2, ATAS2,    90,  1,     21,     21,2,19830121,0432, 20.5833, -21.9933, 4176, 3216.7,   3219.2,   2.6424,  34.9265,2,  34.9260,2,   -999.0,9,  2.3766,    238.1,2,    41.44,2,    21.89,2,     0.00,2,     1.50,2, -999.000,9,   -999.0,9,  3215.0,2,-999.000,   2.640,2
  316N198212_2, ATAS2,    90,  1,     22,     22,2,19830121,0432, 20.5833, -21.9933, 4176, 3999.3,   4005.4,   2.3614,  34.8943,2,  34.8930,2,   -999.0,9,  2.0165,    242.4,2,    48.28,2,    22.38,2,     0.00,2,     1.53,2, -999.000,9,   -999.0,9,  -999.0,9,-999.000,-999.000,9
  316N198212_2, ATAS2,    90,  1,     23,     23,2,19830121,0432, 20.5833, -21.9933, 4176, 4241.6,   4248.9,   2.3774,  34.8924,2,  34.8920,2,   -999.0,9,  2.0038,    242.0,2,    48.37,2,    22.48,2,     0.00,2,     1.53,2, -999.000,9,   -999.0,9,  4258.0,2,-999.000,   2.380,2
  316N198212_2, ATAS2,    91,  2,      1,      1,2,19830121,1728, 20.5733, -20.9367, 3990,   31.6,      1.0,  19.5070,  36.4008,2,  36.4010,2,   -999.0,9, 19.5069,    225.0,2,     1.27,2,     1.45,2,     0.31,2,     0.29,2,    2.020,2,   -999.0,9,  -999.0,9,   0.100,  19.489,2
  316N198212_2, ATAS2,    91,  2,      2,      2,2,19830121,1728, 20.5733, -20.9367, 3990,  133.6,    114.0,  17.9911,  36.4415,2,  36.4300,2,   -999.0,9, 17.9714,    134.9,2,     3.81,2,    11.32,2,     0.02,2,     0.79,2, -999.000,9,   -999.0,9,  -999.0,9,-999.000,-999.000,9
  316N198212_2, ATAS2,    91,  2,      3,      3,2,19830121,1728, 20.5733, -20.9367, 3990,  192.0,    174.0,  16.2161,  36.1535,2,  36.1500,2,   -999.0,9, 16.1881,    112.7,2,     5.37,2,    16.21,2,     0.01,2,     1.03,2, -999.000,9,   -999.0,9,  -999.0,9,-999.000,-999.000,9
  316N198212_2, ATAS2,    91,  2,      4,      4,2,19830121,1728, 20.5733, -20.9367, 3990,  245.3,    229.0,  14.9511,  35.9537,2,  35.9480,2,   -999.0,9, 14.9162,    105.7,2,     6.44,2,    18.75,2,     0.00,2,     1.16,2, -999.000,9,   -999.0,9,  -999.0,9,-999.000,-999.000,9
  316N198212_2, ATAS2,    91,  2,      5,      5,2,19830121,1728, 20.5733, -20.9367, 3990,  304.1,    289.0,  13.7192,  35.7558,2,  35.7550,2,   -999.0,9, 13.6775,     92.2,2,     8.11,2,    21.97,2,     0.01,2,     1.35,2,    2.270,2,   -999.0,9,  -999.0,9,   0.100,-999.000,9
  316N198212_2, ATAS2,    91,  2,      6,      6,2,19830121,1728, 20.5733, -20.9367, 3990,  354.2,    340.0,  12.9922,  35.6720,2,  35.6710,2,   -999.0,9, 12.9449,    101.8,2,     8.50,2,    22.37,2,     0.00,2,     1.36,2, -999.000,9,   -999.0,9,  -999.0,9,-999.000,-999.000,9
  316N198212_2, ATAS2,    91,  2,      7,      7,2,19830121,1728, 20.5733, -20.9367, 3990,  413.3,    400.0,  12.1852,  35.5721,2,  35.5670,2,   -999.0,9, 12.1317,    100.4,2,     9.77,2,    23.93,2,     0.00,2,     1.46,2, -999.000,9,   -999.0,9,  -999.0,9,-999.000,-999.000,9
  316N198212_2, ATAS2,    91,  2,      8,      8,2,19830121,1728, 20.5733, -20.9367, 3990,  468.0,    455.0,  11.0402,  35.3923,2,  35.3860,2,   -999.0,9, 10.9831,     74.4,2,    12.80,2,    29.01,2,     0.00,2,     1.76,2,    1.050,2,   -999.0,9,  -999.0,9,   0.070,-999.000,9
  316N198212_2, ATAS2,    91,  2,      9,      9,2,19830121,1728, 20.5733, -20.9367, 3990,  542.7,    531.6,  10.1922,  35.3029,2,  35.2930,2,   -999.0,9, 10.1285,     80.4,2,    14.56,2,    29.90,2,     0.00,2,     1.84,2, -999.000,9,   -999.0,9,  -999.0,9,-999.000,-999.000,9
  316N198212_2, ATAS2,    91,  2,     10,     10,2,19830121,1728, 20.5733, -20.9367, 3990,  753.4,    743.1,   7.6123,  34.9655,2,  34.9730,2,   -999.0,9,  7.5366,     91.3,2,    21.21,2,    33.62,2,     0.00,2,     2.14,2, -999.000,9,   -999.0,9,  -999.0,9,-999.000,-999.000,9
  316N198212_2, ATAS2,    91,  2,     11,     11,2,19830121,1728, 20.5733, -20.9367, 3990,  983.3,    973.7,   6.3133,  34.9131,2,  34.9130,2,   -999.0,9,  6.2221,    115.6,2,    24.43,2,    32.74,2,     0.00,2,     2.12,2, -999.000,9,   -999.0,9,   977.0,2,-999.000,   6.299,2
  316N198212_2, ATAS2,    91,  2,     12,     12,2,19830121,1728, 20.5733, -20.9367, 3990, 1229.9,   1220.9,   5.7343,  35.0208,2,  35.0250,2,   -999.0,9,  5.6230,    156.5,2,    22.87,2,    27.85,2,     0.00,2,     1.85,2, -999.000,9,   -999.0,9,  -999.0,9,-999.000,-999.000,9
  316N198212_2, ATAS2,    91,  2,     13,     13,2,19830121,1728, 20.5733, -20.9367, 3990, 1399.3,   1391.1,   5.2543,  35.0620,2,  35.0630,2,   -999.0,9,  5.1307,    181.2,2,    22.38,2,    25.11,2,     0.00,2,     1.68,2, -999.000,9,   -999.0,9,  -999.0,9,-999.000,-999.000,9
  316N198212_2, ATAS2,    91,  2,     14,     14,2,19830121,1728, 20.5733, -20.9367, 3990, 1580.9,   1573.8,   4.5593,  35.0368,2,  35.0390,2,   -999.0,9,  4.4256,    202.1,2,    23.26,2,    23.55,2,     0.00,2,     1.59,2, -999.000,9,   -999.0,9,  -999.0,9,-999.000,-999.000,9
  316N198212_2, ATAS2,    91,  2,     15,     15,2,19830121,1728, 20.5733, -20.9367, 3990, 1781.7,   1775.8,   4.0903,  35.0171,2,  35.0190,2,   -999.0,9,  3.9431,    215.1,2,    24.53,2,    22.67,2,     0.00,2,     1.52,2, -999.000,9,   -999.0,9,  -999.0,9,-999.000,-999.000,9
  316N198212_2, ATAS2,    91,  2,     16,     16,2,19830121,1728, 20.5733, -20.9367, 3990, 2054.6,   2050.1,   3.6784,  34.9937,2,  34.9940,2,   -999.0,9,  3.5107,    225.1,2,    26.68,2,    21.89,2,     0.00,2,     1.49,2, -999.000,9,   -999.0,9,  -999.0,9,-999.000,-999.000,9
  316N198212_2, ATAS2,    91,  2,     17,     17,2,19830121,1728, 20.5733, -20.9367, 3990, 2838.6,   2838.2,   2.9204,  34.9443,2,  34.9450,2,   -999.0,9,  2.6880,    237.2,2,    34.98,2,    21.50,2,     0.00,2,     1.48,2, -999.000,9,   -999.0,9,  2850.0,2,-999.000,   2.921,2
  316N198212_2, ATAS2,    91,  2,     18,     18,2,19830121,1728, 20.5733, -20.9367, 3990, 3033.8,   3034.3,   2.8134,  34.9368,2,  34.9360,2,   -999.0,9,  2.5631,    239.0,2,    36.65,2,    21.50,2,     0.00,2,     1.47,2, -999.000,9,   -999.0,9,  -999.0,9,-999.000,-999.000,9
  316N198212_2, ATAS2,    91,  2,     19,     19,2,19830121,1728, 20.5733, -20.9367, 3990, 3236.1,   3237.6,   2.7054,  34.9295,2,  34.9290,2,   -999.0,9,  2.4361,    236.8,2,    39.68,2,    21.79,2,     0.00,2,     1.48,2, -999.000,9,   -999.0,9,  3232.0,2,-999.000,   2.707,2
  316N198212_2, ATAS2,    91,  2,     20,     20,2,19830121,1728, 20.5733, -20.9367, 3990, 3424.9,   3427.3,   2.5924,  34.9178,2,  34.9180,2,   -999.0,9,  2.3055,    235.9,2,    42.80,2,    22.28,2,     0.00,2,     1.50,2, -999.000,9,   -999.0,9,  -999.0,9,-999.000,-999.000,9
  316N198212_2, ATAS2,    91,  2,     21,     21,2,19830121,1728, 20.5733, -20.9367, 3990, 3731.4,   3735.4,   2.4514,  34.9030,2,  34.9030,2,   -999.0,9,  2.1344,    238.1,2,    45.74,2,    22.57,2,     0.00,2,     1.50,2, -999.000,9,   -999.0,9,  3733.0,2,-999.000,   2.453,2
  316N198212_2, ATAS2,    91,  2,     22,     22,2,19830121,1728, 20.5733, -20.9367, 3990, 3936.3,   3941.2,   2.3904,  34.8962,2,  34.8960,2,   -999.0,9,  2.0519,    236.4,2,    48.28,2,    22.97,2,     0.00,2,     1.52,2, -999.000,9,   -999.0,9,  -999.0,9,-999.000,-999.000,9
  316N198212_2, ATAS2,    91,  2,     23,     23,2,19830121,1728, 20.5733, -20.9367, 3990, 4030.7,   4036.2,   2.3814,  34.8937,2,  34.8940,2,   -999.0,9,  2.0323,    238.5,2,    47.89,2,    22.77,2,     0.00,2,     1.51,2, -999.000,9,   -999.0,9,  4047.0,2,-999.000,   2.386,2