BOTTLE,20220818CCHSIOAMB
EXPOCODE,SECT_ID,STNNBR,CASTNO,SAMPNO,BTLNBR,BTLNBR_FLAG_W,DATE,TIME,LATITUDE,LONGITUDE,DEPTH,CTDRAW,CTDPRS,CTDTMP,CTDSAL,CTDSAL_FLAG_W,SALNTY,SALNTY_FLAG_W,CTDOXY,CTDOXY_FLAG_W,THETA,OXYGEN,OXYGEN_FLAG_W,SILCAT,SILCAT_FLAG_W,NITRAT,NITRAT_FLAG_W,NITRIT,NITRIT_FLAG_W,PHSPHT,PHSPHT_FLAG_W,TRITUM,TRITUM_FLAG_W,TCARBN,TCARBN_FLAG_W,REVPRS,REVPRS_FLAG_W,TRITER,REVTMP,REVTMP_FLAG_W
,,,,,,,,,,,,,DBAR,ITS-90,PSS-78,,PSS-78,,UMOL/KG,,DEG C,UMOL/KG,,UMOL/KG,,UMOL/KG,,UMOL/KG,,UMOL/KG,,TU,,UMOL/KG,,DBAR,,TU,ITS-90,
  316N198212_2, ATAS2,    68,  1,      1,      1,2,19830108,0219, 13.3183, -39.2183, 5624,   23.8,      1.0,  24.9853,  35.9479,2,  35.9450,2,   -999.0,9, 24.9851,    208.0,2,     1.66,2,     0.00,2,     0.00,2,     0.02,2,    1.520,2,   -999.0,9,  -999.0,9,   0.090,  24.985,2
  316N198212_2, ATAS2,    68,  1,      2,      2,2,19830108,0219, 13.3183, -39.2183, 5624,   97.2,     80.0,  24.8833,  36.3919,2,  36.3560,2,   -999.0,9, 24.8659,    206.6,2,     1.46,2,     0.00,2,     0.00,2,     0.03,2, -999.000,9,   -999.0,9,  -999.0,9,-999.000,-999.000,9
  316N198212_2, ATAS2,    68,  1,      3,      3,2,19830108,0219, 13.3183, -39.2183, 5624,  115.2,     99.0,  22.4224,  36.8777,2,  36.8950,2,   -999.0,9, 22.4024,    189.0,2,     1.56,2,     0.76,2,     0.11,2,     0.09,2,    2.280,2,   -999.0,9,  -999.0,9,   0.100,-999.000,9
  316N198212_2, ATAS2,    68,  1,      4,      4,2,19830108,0219, 13.3183, -39.2183, 5624,  138.5,    123.0,  19.2904,  36.4747,2,  36.4790,2,   -999.0,9, 19.2681,    134.9,2,     3.32,2,     9.19,2,     0.03,2,     0.59,2, -999.000,9,   -999.0,9,  -999.0,9,-999.000,-999.000,9
  316N198212_2, ATAS2,    68,  1,      5,      5,2,19830108,0219, 13.3183, -39.2183, 5624,  162.5,    148.0,  17.4905,  36.3465,2,  36.3260,2,   -999.0,9, 17.4653,    129.2,2,     3.90,2,    12.98,2,     0.02,2,     0.77,2,    2.590,2,   -999.0,9,  -999.0,9,   0.120,-999.000,9
  316N198212_2, ATAS2,    68,  1,      6,      6,2,19830108,0219, 13.3183, -39.2183, 5624,  192.0,    178.0,  15.4755,  36.0265,2,  36.0250,2,   -999.0,9, 15.4477,    115.7,2,     5.76,2,    17.19,2,     0.01,2,     1.02,2, -999.000,9,   -999.0,9,  -999.0,9,-999.000,-999.000,9
  316N198212_2, ATAS2,    68,  1,      7,      7,2,19830108,0219, 13.3183, -39.2183, 5624,  221.4,    208.0,  13.1885,  35.5615,2,  35.5560,2,   -999.0,9, 13.1595,     98.7,2,     8.89,2,    22.86,2,     0.01,2,     1.41,2,    1.330,2,   -999.0,9,  -999.0,9,   0.090,-999.000,9
  316N198212_2, ATAS2,    68,  1,      8,      8,2,19830108,0219, 13.3183, -39.2183, 5624,  261.1,    248.0,  12.8535,  35.5688,2,  35.5660,2,   -999.0,9, 12.8194,    100.0,2,     9.38,2,    23.25,2,     0.01,2,     1.42,2, -999.000,9,   -999.0,9,  -999.0,9,-999.000,-999.000,9
  316N198212_2, ATAS2,    68,  1,      9,      9,2,19830108,0219, 13.3183, -39.2183, 5624,  305.8,    293.0,  11.6516,  35.3643,2,  35.3600,2,   -999.0,9, 11.6138,     93.1,2,    11.04,2,    25.99,2,     0.00,2,     1.60,2,    1.040,2,   -999.0,9,  -999.0,9,   0.080,-999.000,9
  316N198212_2, ATAS2,    68,  1,     10,     10,2,19830108,0219, 13.3183, -39.2183, 5624,  385.9,    373.0,  10.1736,  35.1259,2,  35.1300,2,   -999.0,9, 10.1294,     92.6,2,    13.97,2,    28.73,2,     0.00,2,     1.80,2, -999.000,9,   -999.0,9,  -999.0,9,-999.000,-999.000,9
  316N198212_2, ATAS2,    68,  1,     11,     11,2,19830108,0219, 13.3183, -39.2183, 5624,  472.2,    460.0,   9.1156,  34.9887,2,  34.9860,2,   -999.0,9,  9.0645,     92.2,2,    16.51,2,    31.07,2,     0.00,2,     1.95,2,    0.350,2,   -999.0,9,   464.0,2,   0.070,   9.107,2
  316N198212_2, ATAS2,    68,  1,     12,     12,2,19830108,0219, 13.3183, -39.2183, 5624,  550.2,    539.4,   8.4956,  34.9462,2,  34.9480,2,   -999.0,9,  8.4379,     96.1,2,    18.08,2,    31.86,2,     0.00,2,     2.01,2, -999.000,9,   -999.0,9,  -999.0,9,-999.000,-999.000,9
  316N198212_2, ATAS2,    68,  1,     13,     13,2,19830108,0219, 13.3183, -39.2183, 5624,  657.7,    647.1,   7.4336,  34.8431,2,  34.8420,2,   -999.0,9,  7.3691,     93.9,2,    21.60,2,    34.21,2,     0.00,2,     2.19,2, -999.000,9,   -999.0,9,  -999.0,9,-999.000,-999.000,9
  316N198212_2, ATAS2,    68,  1,     14,     14,2,19830108,0219, 13.3183, -39.2183, 5624,  798.0,    788.3,   6.3607,  34.7673,2,  34.7680,2,   -999.0,9,  6.2877,    113.0,2,    25.02,2,    34.01,2,     0.00,2,     2.22,2, -999.000,9,   -999.0,9,  -999.0,9,-999.000,-999.000,9
  316N198212_2, ATAS2,    68,  1,     15,     15,2,19830108,0219, 13.3183, -39.2183, 5624,  972.1,    963.4,   5.6657,  34.7956,2,  34.7930,2,   -999.0,9,  5.5804,    129.5,2,    26.29,2,    32.64,2,     0.00,2,     2.16,2, -999.000,9,   -999.0,9,  -999.0,9,-999.000,-999.000,9
  316N198212_2, ATAS2,    68,  1,     16,     16,2,19830108,0219, 13.3183, -39.2183, 5624, 1178.7,   1171.2,   5.2547,  34.9215,2,  34.9210,2,   -999.0,9,  5.1526,    162.5,2,    23.94,2,    28.54,2,     0.00,2,     1.89,2, -999.000,9,   -999.0,9,  -999.0,9,-999.000,-999.000,9
  316N198212_2, ATAS2,    68,  1,     17,     17,2,19830108,0219, 13.3183, -39.2183, 5624, 1288.2,   1281.3,   4.9637,  34.9675,2,  34.9690,2,   -999.0,9,  4.8538,    186.0,2,    21.89,2,    25.90,2,     0.00,2,     1.71,2, -999.000,9,   -999.0,9,  1283.0,2,-999.000,   4.961,2
  316N198212_2, ATAS2,    68,  1,     18,     18,2,19830108,0219, 13.3183, -39.2183, 5624, 1393.2,   1386.9,   4.7347,  34.9871,2,  34.9880,2,   -999.0,9,  4.6170,    198.2,2,    21.11,2,    24.43,2,     0.00,2,     1.62,2, -999.000,9,   -999.0,9,  -999.0,9,-999.000,-999.000,9
  316N198212_2, ATAS2,    68,  1,     19,     19,2,19830108,0219, 13.3183, -39.2183, 5624, 1576.3,   1571.1,   4.2197,  34.9883,2,  34.9920,2,   -999.0,9,  4.0904,    224.6,2,    19.93,2,    21.99,2,     0.00,2,     1.47,2, -999.000,9,   -999.0,9,  1567.0,2,-999.000,   4.213,2
  316N198212_2, ATAS2,    68,  1,     20,     20,2,19830108,0219, 13.3183, -39.2183, 5624, 1707.0,   1702.6,   3.9157,  34.9811,2,  34.9810,2,   -999.0,9,  3.7778,    239.4,2,    19.35,2,    20.81,2,     0.00,2,     1.39,2, -999.000,9,   -999.0,9,  -999.0,9,-999.000,-999.000,9
  316N198212_2, ATAS2,    68,  1,     21,     21,2,19830108,0219, 13.3183, -39.2183, 5624, 1855.2,   1851.6,   3.6977,  34.9759,2,  34.9780,2,   -999.0,9,  3.5488,    244.6,2,    20.72,2,    20.52,2,     0.00,2,     1.37,2, -999.000,9,   -999.0,9,  1851.0,2,-999.000,   3.695,2
  316N198212_2, ATAS2,    68,  1,     22,     22,2,19830108,0219, 13.3183, -39.2183, 5624, 2056.0,   2053.5,   3.4007,  34.9650,2,  34.9640,2,   -999.0,9,  3.2371,    251.6,2,    22.09,2,    19.94,2,     0.00,2,     1.34,2, -999.000,9,   -999.0,9,  -999.0,9,-999.000,-999.000,9
  316N198212_2, ATAS2,    68,  1,     23,     23,2,19830108,0219, 13.3183, -39.2183, 5624, 2205.8,   2204.1,   3.2767,  34.9591,2,  34.9600,2,   -999.0,9,  3.1007,    249.8,2,    24.63,2,    20.23,2,     0.00,2,     1.35,2, -999.000,9,   -999.0,9,  2192.0,2,-999.000,   3.279,2
  316N198212_2, ATAS2,    69,  1,      1,      1,2,19830108,1143, 14.1850, -39.1600, 5451,   24.3,      1.0,  24.8183,  35.9934,2,  35.9920,2,   -999.0,9, 24.8180,    208.0,2,     1.56,2,     0.00,2,     0.00,2,     0.03,2,    1.700,2,   -999.0,9,  -999.0,9,   0.080,  24.837,2
  316N198212_2, ATAS2,    69,  1,      2,      2,2,19830108,1143, 14.1850, -39.1600, 5451,  104.9,     85.0,  22.8333,  36.8153,2,  36.8180,2,   -999.0,9, 22.8159,    201.2,2,     1.56,2,     0.00,2,     0.01,2,     0.07,2, -999.000,9,   -999.0,9,  -999.0,9,-999.000,-999.000,9
  316N198212_2, ATAS2,    69,  1,      3,      3,2,19830108,1143, 14.1850, -39.1600, 5451,  119.2,    100.0,  21.4243,  36.9829,2,  36.9790,2,   -999.0,9, 21.4047,    174.1,2,     1.56,2,     1.77,2,     0.07,2,     0.17,2,    1.700,2,   -999.0,9,  -999.0,9,   0.080,-999.000,9
  316N198212_2, ATAS2,    69,  1,      4,      4,2,19830108,1143, 14.1850, -39.1600, 5451,  177.9,    160.0,  17.2544,  36.3270,2,  36.3280,2,   -999.0,9, 17.2275,    131.0,2,     3.90,2,    12.89,2,     0.01,2,     0.77,2,    2.780,2,   -999.0,9,  -999.0,9,   0.110,-999.000,9
  316N198212_2, ATAS2,    69,  1,      5,      5,2,19830108,1143, 14.1850, -39.1600, 5451,  226.2,    209.0,  15.3254,  36.0204,2,  36.0200,2,   -999.0,9, 15.2930,    119.2,2,     5.76,2,    17.09,2,     0.01,2,     1.02,2,    2.820,2,   -999.0,9,  -999.0,9,   0.120,-999.000,9
  316N198212_2, ATAS2,    69,  1,      6,      6,2,19830108,1143, 14.1850, -39.1600, 5451,  280.3,    264.0,  13.8095,  35.7853,2,  35.7700,2,   -999.0,9, 13.7713,    107.4,2,     7.52,2,    20.61,2,     0.01,2,     1.23,2,    2.261,2,   -999.0,9,  -999.0,9,   0.077,-999.000,9
  316N198212_2, ATAS2,    69,  1,      7,      7,2,19830108,1143, 14.1850, -39.1600, 5451,  318.7,    303.0,  12.8695,  35.6451,2,  35.6440,2,   -999.0,9, 12.8277,    100.9,2,     8.79,2,    22.76,2,     0.01,2,     1.36,2,    1.715,2,   -999.0,9,  -999.0,9,   0.057,-999.000,9
  316N198212_2, ATAS2,    69,  1,      8,      8,2,19830108,1143, 14.1850, -39.1600, 5451,  346.9,    331.0,  12.3915,  35.5656,2,  35.5590,2,   -999.0,9, 12.3469,     98.7,2,     9.96,2,    24.03,2,     0.01,2,     1.45,2, -999.000,9,   -999.0,9,  -999.0,9,-999.000,-999.000,9
  316N198212_2, ATAS2,    69,  1,      9,      9,2,19830108,1143, 14.1850, -39.1600, 5451,  393.3,    379.0,  11.2645,  35.3879,2,  35.3770,2,   -999.0,9, 11.2165,     92.6,2,    12.21,2,    26.96,2,     0.00,2,     1.62,2, -999.000,9,   -999.0,9,  -999.0,9,-999.000,-999.000,9
  316N198212_2, ATAS2,    69,  1,     10,     10,2,19830108,1143, 14.1850, -39.1600, 5451,  433.6,    420.0,  10.1335,  35.2054,2,  35.1930,2,   -999.0,9, 10.0837,     95.2,2,    14.26,2,    28.82,2,     0.00,2,     1.78,2,    0.535,2,   -999.0,9,  -999.0,9,   0.033,-999.000,9
  316N198212_2, ATAS2,    69,  1,     11,     11,2,19830108,1143, 14.1850, -39.1600, 5451,  483.3,    470.0,   9.1096,  35.0534,2,  35.0520,2,   -999.0,9,  9.0573,     96.5,2,    16.51,2,    30.58,2,     0.00,2,     1.91,2, -999.000,9,   -999.0,9,   477.0,2,-999.000,   9.083,2
  316N198212_2, ATAS2,    69,  1,     12,     12,2,19830108,1143, 14.1850, -39.1600, 5451,  613.8,    604.8,   7.5446,  34.8530,2,  34.8540,2,   -999.0,9,  7.4839,    109.1,2,    21.11,2,    32.45,2,     0.00,2,     2.07,2,    0.105,2,   -999.0,9,  -999.0,9,   0.024,-999.000,9
  316N198212_2, ATAS2,    69,  1,     13,     13,2,19830108,1143, 14.1850, -39.1600, 5451,  741.8,    733.1,   6.5246,  34.7756,2,  34.7760,2,   -999.0,9,  6.4561,    110.9,2,    24.34,2,    34.11,2,     0.00,2,     2.20,2, -999.000,9,   -999.0,9,  -999.0,9,-999.000,-999.000,9
  316N198212_2, ATAS2,    69,  1,     14,     14,2,19830108,1143, 14.1850, -39.1600, 5451,  972.2,    963.9,   5.6806,  34.8013,2,  34.8030,2,   -999.0,9,  5.5951,    130.0,2,    26.29,2,    32.84,2,     0.00,2,     2.14,2, -999.000,9,   -999.0,9,  -999.0,9,-999.000,-999.000,9
  316N198212_2, ATAS2,    69,  1,     15,     15,2,19830108,1143, 14.1850, -39.1600, 5451, 1228.8,   1221.3,   5.0086,  34.9362,2,  34.9360,2,   -999.0,9,  4.9040,    176.9,2,    23.16,2,    27.07,2,     0.00,2,     1.78,2, -999.000,9,   -999.0,9,  -999.0,9,-999.000,-999.000,9
  316N198212_2, ATAS2,    69,  1,     16,     16,2,19830108,1143, 14.1850, -39.1600, 5451, 1438.3,   1431.5,   4.5836,  34.9804,2,  34.9810,2,   -999.0,9,  4.4633,    207.7,2,    20.52,2,    23.65,2,     0.00,2,     1.56,2, -999.000,9,   -999.0,9,  -999.0,9,-999.000,-999.000,9
  316N198212_2, ATAS2,    69,  1,     17,     17,2,19830108,1143, 14.1850, -39.1600, 5451, 1638.2,   1631.5,   4.1586,  34.9866,2,  34.9870,2,   -999.0,9,  4.0244,    230.3,2,    19.25,2,    21.69,2,     0.00,2,     1.44,2, -999.000,9,   -999.0,9,  1642.0,2,-999.000,   4.166,2
  316N198212_2, ATAS2,    69,  1,     18,     18,2,19830108,1143, 14.1850, -39.1600, 5451, 1910.0,   1904.3,   3.6767,  34.9750,2,  34.9740,2,   -999.0,9,  3.5230,    245.9,2,    20.42,2,    20.33,2,     0.00,2,     1.35,2, -999.000,9,   -999.0,9,  -999.0,9,-999.000,-999.000,9
  316N198212_2, ATAS2,    69,  1,     19,     19,2,19830108,1143, 14.1850, -39.1600, 5451, 2212.5,   2208.1,   3.3427,  34.9623,2,  34.9630,2,   -999.0,9,  3.1651,    251.6,2,    23.26,2,    20.13,2,     0.00,2,     1.34,2, -999.000,9,   -999.0,9,  2210.0,2,-999.000,   3.343,2
  316N198212_2, ATAS2,    69,  1,     20,     20,2,19830108,1143, 14.1850, -39.1600, 5451, 2506.0,   2503.0,   3.0727,  34.9511,2,  34.9480,2,   -999.0,9,  2.8711,    249.0,2,    28.34,2,    20.52,2,     0.00,2,     1.38,2, -999.000,9,   -999.0,9,  -999.0,9,-999.000,-999.000,9
  316N198212_2, ATAS2,    69,  1,     21,     21,2,19830108,1143, 14.1850, -39.1600, 5451, 2905.8,   2904.3,   2.7707,  34.9335,2,  34.9310,2,   -999.0,9,  2.5347,    251.1,2,    33.71,2,    20.82,2,     0.00,2,     1.41,2, -999.000,9,   -999.0,9,  2906.0,2,-999.000,   2.771,2
  316N198212_2, ATAS2,    69,  1,     22,     22,2,19830108,1143, 14.1850, -39.1600, 5451, 5012.7,   5019.5,   2.3007,  34.8746,2,  34.8750,2,   -999.0,9,  1.8356,   -999.0,9,  -999.00,9,  -999.00,9,  -999.00,9,  -999.00,9, -999.000,9,   -999.0,9,  -999.0,9,-999.000,-999.000,9
  316N198212_2, ATAS2,    69,  1,     23,     23,2,19830108,1143, 14.1850, -39.1600, 5451, 5361.2,   5369.3,   2.3187,  34.8715,2,  34.8720,2,   -999.0,9,  1.8081,    250.7,2,    50.23,2,    22.28,2,     0.00,2,     1.52,2, -999.000,9,   -999.0,9,  5361.0,2,-999.000,   2.321,2
  316N198212_2, ATAS2,    70,  1,      1,      1,2,19830109,0410, 15.6783, -39.0483, 5284,   24.1,      1.0,  24.4942,  36.6510,2,  36.6500,2,   -999.0,9, 24.4940,    208.3,2,     1.37,2,     0.00,2,     0.00,2,     0.04,2, -999.000,9,   -999.0,9,  -999.0,9,-999.000,  24.488,2
  316N198212_2, ATAS2,    70,  1,      2,      2,2,19830109,0410, 15.6783, -39.0483, 5284,  101.9,     84.0,  22.6722,  37.2437,2,  37.2410,2,   -999.0,9, 22.6551,    208.1,2,     0.98,2,     0.05,2,     0.14,2,     0.06,2, -999.000,9,   -999.0,9,  -999.0,9,-999.000,-999.000,9
  316N198212_2, ATAS2,    70,  1,      3,      3,2,19830109,0410, 15.6783, -39.0483, 5284,  130.5,    113.0,  20.9703,  37.0797,2,  37.0780,2,   -999.0,9, 20.9485,    180.6,2,     1.37,2,     2.54,2,     0.03,2,     0.19,2, -999.000,9,   -999.0,9,  -999.0,9,-999.000,-999.000,9
  316N198212_2, ATAS2,    70,  1,      4,      4,2,19830109,0410, 15.6783, -39.0483, 5284,  163.6,    147.0,  18.4703,  36.6031,2,  36.6020,2,   -999.0,9, 18.4444,    152.7,2,     2.64,2,     8.84,2,     0.01,2,     0.53,2,    3.040,2,   2144.0,2,  -999.0,9,   0.120,-999.000,9
  316N198212_2, ATAS2,    70,  1,      5,      5,2,19830109,0410, 15.6783, -39.0483, 5284,  202.8,    187.0,  16.4504,  36.2251,2,  36.2260,2,   -999.0,9, 16.4199,    128.8,2,     4.20,2,    14.25,2,     0.01,2,     0.85,2,    2.970,2,   2157.0,2,  -999.0,9,   0.130,-999.000,9
  316N198212_2, ATAS2,    70,  1,      6,      6,2,19830109,0410, 15.6783, -39.0483, 5284,  242.8,    227.0,  14.9374,  35.9572,2,  35.9520,2,   -999.0,9, 14.9028,    111.8,2,     5.86,2,    18.16,2,     0.00,2,     1.08,2,    2.520,2,   2176.0,2,  -999.0,9,   0.120,-999.000,9
  316N198212_2, ATAS2,    70,  1,      7,      7,2,19830109,0410, 15.6783, -39.0483, 5284,  297.5,    282.0,  13.0634,  35.6406,2,  35.6370,2,   -999.0,9, 13.0241,     90.5,2,     8.69,2,    23.83,2,     0.00,2,     1.42,2, -999.000,9,   -999.0,9,  -999.0,9,-999.000,-999.000,9
  316N198212_2, ATAS2,    70,  1,      8,      8,2,19830109,0410, 15.6783, -39.0483, 5284,  336.7,    322.0,  12.1284,  35.4974,2,  35.4930,2,   -999.0,9, 12.0857,     83.9,2,    10.26,2,    26.08,2,     0.00,2,     1.56,2, -999.000,9,   -999.0,9,  -999.0,9,-999.000,-999.000,9
  316N198212_2, ATAS2,    70,  1,      9,      9,2,19830109,0410, 15.6783, -39.0483, 5284,  381.4,    367.0,  11.1305,  35.3380,2,  35.3310,2,   -999.0,9, 11.0843,     81.7,2,    12.02,2,    28.23,2,     0.00,2,     1.70,2, -999.000,9,   -999.0,9,  -999.0,9,-999.000,-999.000,9
  316N198212_2, ATAS2,    70,  1,     10,     10,2,19830109,0410, 15.6783, -39.0483, 5284,  421.3,    407.0,  10.1295,  35.1819,2,  35.1850,2,   -999.0,9, 10.0813,     80.9,2,    13.87,2,    30.09,2,     0.00,2,     1.84,2, -999.000,9,   -999.0,9,  -999.0,9,-999.000,-999.000,9
  316N198212_2, ATAS2,    70,  1,     11,     11,2,19830109,0410, 15.6783, -39.0483, 5284,  470.5,    457.0,   9.4645,  35.0981,2,  35.0970,2,   -999.0,9,  9.4125,     81.7,2,    15.54,2,    31.46,2,     0.00,2,     1.94,2, -999.000,9,   -999.0,9,   462.0,2,-999.000,   9.471,2
  316N198212_2, ATAS2,    70,  1,     12,     12,2,19830109,0410, 15.6783, -39.0483, 5284,  512.0,    502.5,   8.8065,  35.0170,2,  35.0180,2,   -999.0,9,  8.7516,     95.2,2,    16.71,2,    31.47,2,     0.00,2,     1.95,2, -999.000,9,   -999.0,9,  -999.0,9,-999.000,-999.000,9
  316N198212_2, ATAS2,    70,  1,     13,     13,2,19830109,0410, 15.6783, -39.0483, 5284,  614.4,    605.3,   7.3185,  34.8317,2,  34.8320,2,   -999.0,9,  7.2589,    103.9,2,    20.72,2,    33.52,2,     0.00,2,     2.13,2, -999.000,9,   -999.0,9,  -999.0,9,-999.000,-999.000,9
  316N198212_2, ATAS2,    70,  1,     14,     14,2,19830109,0410, 15.6783, -39.0483, 5284,  724.7,    715.8,   6.5855,  34.7726,2,  34.7730,2,   -999.0,9,  6.5185,    113.0,2,    23.16,2,    33.82,2,     0.00,2,     2.18,2, -999.000,9,   -999.0,9,  -999.0,9,-999.000,-999.000,9
  316N198212_2, ATAS2,    70,  1,     15,     15,2,19830109,0410, 15.6783, -39.0483, 5284,  833.3,    824.9,   6.1106,  34.7816,2,  34.7780,2,   -999.0,9,  6.0356,    118.7,2,    24.63,2,    33.91,2,     0.00,2,     2.19,2, -999.000,9,   -999.0,9,  -999.0,9,-999.000,-999.000,9
  316N198212_2, ATAS2,    70,  1,     16,     16,2,19830109,0410, 15.6783, -39.0483, 5284,  967.3,    959.8,   5.6176,  34.8197,2,  34.8190,2,   -999.0,9,  5.5329,    136.0,2,    25.02,2,    31.96,2,     0.00,2,     2.09,2, -999.000,9,   -999.0,9,  -999.0,9,-999.000,-999.000,9
  316N198212_2, ATAS2,    70,  1,     17,     17,2,19830109,0410, 15.6783, -39.0483, 5284, 1175.7,   1169.3,   5.3236,  34.9257,2,  34.9270,2,   -999.0,9,  5.2211,    160.8,2,    23.16,2,    28.54,2,     0.00,2,     1.88,2, -999.000,9,   -999.0,9,  1169.0,2,-999.000,   5.327,2
  316N198212_2, ATAS2,    70,  1,     18,     18,2,19830109,0410, 15.6783, -39.0483, 5284, 1291.9,   1286.1,   5.0846,  34.9663,2,  34.9670,2,   -999.0,9,  4.9730,    177.3,2,    22.28,2,    26.68,2,     0.00,2,     1.76,2, -999.000,9,   -999.0,9,  -999.0,9,-999.000,-999.000,9
  316N198212_2, ATAS2,    70,  1,     19,     19,2,19830109,0410, 15.6783, -39.0483, 5284, 1432.5,   1427.6,   4.7126,  34.9907,2,  34.9920,2,   -999.0,9,  4.5912,    198.2,2,    21.30,2,    24.43,2,     0.00,2,     1.62,2, -999.000,9,   -999.0,9,  1422.0,2,-999.000,   4.710,2
  316N198212_2, ATAS2,    70,  1,     20,     20,2,19830109,0410, 15.6783, -39.0483, 5284, 1599.3,   1595.3,   4.3216,  34.9950,2,  34.9950,2,   -999.0,9,  4.1887,    217.7,2,    20.52,2,    22.67,2,     0.00,2,     1.50,2, -999.000,9,   -999.0,9,  -999.0,9,-999.000,-999.000,9
  316N198212_2, ATAS2,    70,  1,     21,     21,2,19830109,0410, 15.6783, -39.0483, 5284, 1800.3,   1797.6,   3.8696,  34.9840,2,  34.9850,2,   -999.0,9,  3.7234,    235.1,2,    20.72,2,    21.21,2,     0.00,2,     1.42,2, -999.000,9,   -999.0,9,  1797.0,2,-999.000,   3.864,2
  316N198212_2, ATAS2,    70,  1,     22,     22,2,19830109,0410, 15.6783, -39.0483, 5284, 2105.6,   2104.5,   3.4636,  34.9672,2,  34.9670,2,   -999.0,9,  3.2941,    248.5,2,    22.48,2,    20.23,2,     0.00,2,     1.36,2, -999.000,9,   -999.0,9,  -999.0,9,-999.000,-999.000,9
  316N198212_2, ATAS2,    70,  1,     23,     23,2,19830109,0410, 15.6783, -39.0483, 5284, 2355.1,   2355.3,   3.2186,  34.9580,2,  34.9570,2,   -999.0,9,  3.0289,    249.8,2,    26.09,2,    20.42,2,     0.00,2,     1.37,2, -999.000,9,   -999.0,9,  2346.0,2,-999.000,   3.221,2