BOTTLE,20220818CCHSIOAMB
EXPOCODE,SECT_ID,STNNBR,CASTNO,SAMPNO,BTLNBR,BTLNBR_FLAG_W,DATE,TIME,LATITUDE,LONGITUDE,DEPTH,CTDRAW,CTDPRS,CTDTMP,CTDSAL,CTDSAL_FLAG_W,SALNTY,SALNTY_FLAG_W,CTDOXY,CTDOXY_FLAG_W,THETA,OXYGEN,OXYGEN_FLAG_W,SILCAT,SILCAT_FLAG_W,NITRAT,NITRAT_FLAG_W,NITRIT,NITRIT_FLAG_W,PHSPHT,PHSPHT_FLAG_W,TRITUM,TRITUM_FLAG_W,TCARBN,TCARBN_FLAG_W,REVPRS,REVPRS_FLAG_W,TRITER,REVTMP,REVTMP_FLAG_W
,,,,,,,,,,,,,DBAR,ITS-90,PSS-78,,PSS-78,,UMOL/KG,,DEG C,UMOL/KG,,UMOL/KG,,UMOL/KG,,UMOL/KG,,UMOL/KG,,TU,,UMOL/KG,,DBAR,,TU,ITS-90,
  316N198212_2, ATAS2,    83,  1,      1,      1,2,19830117,1754, 25.6667, -27.8267, 5524,   20.8,      1.0,  20.9415,  37.2326,2,  37.2310,2,   -999.0,9, 20.9413,    221.5,2,     1.17,2,     0.01,2,     0.00,2,     0.03,2, -999.000,9,   -999.0,9,  -999.0,9,-999.000,  20.943,2
  316N198212_2, ATAS2,    83,  1,      2,      2,2,19830117,1754, 25.6667, -27.8267, 5524,  145.6,    125.0,  19.1395,  36.7995,2,  36.7960,2,   -999.0,9, 19.1169,    212.3,2,     1.27,2,     0.62,2,     0.05,2,     0.06,2, -999.000,9,   -999.0,9,  -999.0,9,-999.000,-999.000,9
  316N198212_2, ATAS2,    83,  1,      3,      3,2,19830117,1754, 25.6667, -27.8267, 5524,  175.1,    155.0,  18.2585,  36.6313,2,  36.6250,2,   -999.0,9, 18.2314,    207.1,2,     1.46,2,     2.29,2,     0.01,2,     0.16,2,    3.000,2,   2103.0,2,  -999.0,9,   0.130,-999.000,9
  316N198212_2, ATAS2,    83,  1,      4,      4,2,19830117,1754, 25.6667, -27.8267, 5524,  204.6,    185.0,  17.6516,  36.5189,2,  36.5180,2,   -999.0,9, 17.6199,    204.5,2,     1.95,2,     3.55,2,     0.00,2,     0.22,2,    3.230,2,   2109.0,2,  -999.0,9,   0.130,-999.000,9
  316N198212_2, ATAS2,    83,  1,      5,      5,2,19830117,1754, 25.6667, -27.8267, 5524,  243.7,    225.0,  16.9666,  36.3943,2,  36.3870,2,   -999.0,9, 16.9291,    203.2,2,     2.25,2,     5.15,2,     0.00,2,     0.32,2,    3.230,2,   -999.0,9,  -999.0,9,   0.130,-999.000,9
  316N198212_2, ATAS2,    83,  1,      6,      6,2,19830117,1754, 25.6667, -27.8267, 5524,  298.5,    280.0,  15.7806,  36.1884,2,  36.1790,2,   -999.0,9, 15.7362,    198.3,2,     3.03,2,     7.39,2,     0.00,2,     0.47,2, -999.000,9,   -999.0,9,  -999.0,9,-999.000,-999.000,9
  316N198212_2, ATAS2,    83,  1,      7,      7,2,19830117,1754, 25.6667, -27.8267, 5524,  368.3,    350.0,  14.3616,  35.9568,2,-999.0000,9,   -999.0,9, 14.3095,   -999.0,9,  -999.00,9,  -999.00,9,  -999.00,9,  -999.00,9, -999.000,9,   -999.0,9,  -999.0,9,-999.000,-999.000,9
  316N198212_2, ATAS2,    83,  1,      8,      8,2,19830117,1754, 25.6667, -27.8267, 5524,  423.1,    405.0,  13.5706,  35.8417,2,  35.8300,2,   -999.0,9, 13.5125,    196.1,2,     4.30,2,    11.23,2,     0.00,2,     0.70,2, -999.000,9,   -999.0,9,  -999.0,9,-999.000,-999.000,9
  316N198212_2, ATAS2,    83,  1,      9,      9,2,19830117,1754, 25.6667, -27.8267, 5524,  478.0,    461.0,  12.7157,  35.7303,2,  35.7220,2,   -999.0,9, 12.6521,    193.9,2,     5.18,2,    12.79,2,     0.00,2,     0.77,2,    3.660,2,   2141.0,2,  -999.0,9,   0.140,-999.000,9
  316N198212_2, ATAS2,    83,  1,     10,     10,2,19830117,1754, 25.6667, -27.8267, 5524,  597.8,    586.0,  11.4927,  35.5936,2,  35.5900,2,   -999.0,9, 11.4166,    180.0,2,     7.13,2,    16.21,2,     0.00,2,     1.02,2, -999.000,9,   -999.0,9,  -999.0,9,-999.000,-999.000,9
  316N198212_2, ATAS2,    83,  1,     11,     11,2,19830117,1754, 25.6667, -27.8267, 5524,  712.4,    701.0,  10.0457,  35.4579,2,  35.4550,2,   -999.0,9,  9.9616,    159.5,2,    11.23,2,    20.81,2,     0.00,2,     1.32,2,    1.235,2,   2189.0,2,   704.0,2,   0.066,  10.042,2
  316N198212_2, ATAS2,    83,  1,     12,     12,2,19830117,1754, 25.6667, -27.8267, 5524,  811.8,    800.8,   9.2887,  35.4542,2,  35.4550,2,   -999.0,9,  9.1965,    158.2,2,    13.97,2,    22.08,2,     0.00,2,     1.42,2, -999.000,9,   -999.0,9,  -999.0,9,-999.000,-999.000,9
  316N198212_2, ATAS2,    83,  1,     13,     13,2,19830117,1754, 25.6667, -27.8267, 5524,  932.4,    921.4,  10.4567,  35.9164,2,  35.9160,2,   -999.0,9, 10.3417,    178.2,2,    10.55,2,    17.19,2,     0.00,2,     1.10,2,    1.622,2,   2197.0,2,  -999.0,9,   0.061,-999.000,9
  316N198212_2, ATAS2,    83,  1,     14,     14,2,19830117,1754, 25.6667, -27.8267, 5524, 1012.9,   1002.1,  11.0527,  36.1413,2,  36.1410,2,   -999.0,9, 10.9227,    182.9,2,     9.18,2,    15.23,2,     0.00,2,     0.97,2,    1.967,2,   2205.0,2,  -999.0,9,   0.069,-999.000,9
  316N198212_2, ATAS2,    83,  1,     15,     15,2,19830117,1754, 25.6667, -27.8267, 5524, 1063.4,   1052.9,  10.9077,  36.1102,2,  36.1070,2,   -999.0,9, 10.7719,    181.6,2,     9.57,2,    15.43,2,     0.00,2,     1.00,2, -999.000,9,   -999.0,9,  -999.0,9,-999.000,-999.000,9
  316N198212_2, ATAS2,    83,  1,     16,     16,2,19830117,1754, 25.6667, -27.8267, 5524, 1113.7,   1103.5,  10.6837,  36.0830,2,  36.0810,2,   -999.0,9, 10.5429,    181.6,2,    10.06,2,    15.82,2,     0.00,2,     1.02,2,    1.380,2,   2205.0,2,  -999.0,9,   0.057,-999.000,9
  316N198212_2, ATAS2,    83,  1,     17,     17,2,19830117,1754, 25.6667, -27.8267, 5524, 1213.6,   1204.3,   9.7167,  35.8969,2,  35.9020,2,   -999.0,9,  9.5708,    182.5,2,    12.01,2,    17.48,2,     0.00,2,     1.12,2, -999.000,9,   -999.0,9,  -999.0,9,-999.000,-999.000,9
  316N198212_2, ATAS2,    83,  1,     18,     18,2,19830117,1754, 25.6667, -27.8267, 5524, 1315.2,   1307.0,   8.1937,  35.6116,2,  35.6120,2,   -999.0,9,  8.0492,    184.2,2,    14.26,2,    19.73,2,     0.00,2,     1.28,2, -999.000,9,   -999.0,9,  -999.0,9,-999.000,-999.000,9
  316N198212_2, ATAS2,    83,  1,     19,     19,2,19830117,1754, 25.6667, -27.8267, 5524, 1414.8,   1407.7,   6.7658,  35.3735,2,  35.3750,2,   -999.0,9,  6.6242,    194.7,2,    16.31,2,    20.91,2,     0.00,2,     1.38,2, -999.000,9,   -999.0,9,  1407.0,2,-999.000,   6.771,2
  316N198212_2, ATAS2,    83,  1,     20,     20,2,19830117,1754, 25.6667, -27.8267, 5524, 1565.0,   1558.9,   5.7768,  35.2670,2,  35.2680,2,   -999.0,9,  5.6299,    213.3,2,    17.29,2,    20.22,2,     0.00,2,     1.34,2, -999.000,9,   -999.0,9,  -999.0,9,-999.000,-999.000,9
  316N198212_2, ATAS2,    83,  1,     21,     21,2,19830117,1754, 25.6667, -27.8267, 5524, 1714.0,   1708.9,   5.1198,  35.1939,2,  35.1940,2,   -999.0,9,  4.9655,    225.1,2,    18.66,2,    20.03,2,     0.00,2,     1.36,2, -999.000,9,   -999.0,9,  1705.0,2,-999.000,   5.119,2
  316N198212_2, ATAS2,    83,  1,     22,     22,2,19830117,1754, 25.6667, -27.8267, 5524, 1912.5,   1908.8,   4.3038,  35.0939,2,  35.0940,2,   -999.0,9,  4.1405,    230.7,2,    22.18,2,    20.42,2,     0.00,2,  -999.00,9, -999.000,9,   -999.0,9,  -999.0,9,-999.000,-999.000,9
  316N198212_2, ATAS2,    83,  1,     23,     23,2,19830117,1754, 25.6667, -27.8267, 5524, 2516.3,   2516.0,   3.1548,  34.9812,2,  34.9810,2,   -999.0,9,  2.9503,    245.9,2,    29.22,2,    20.33,2,     0.00,2,     1.32,2, -999.000,9,   -999.0,9,  2522.0,2,-999.000,   3.157,2
  316N198212_2, ATAS2,    84,  2,      1,      1,2,19830118,0916, 24.6783, -26.8750, 5234,   35.1,      1.0,  21.0604,  36.9593,2,  36.9560,2,   -999.0,9, 21.0602,    222.0,2,     1.76,2,     0.07,2,     0.01,2,     0.08,2, -999.000,9,   -999.0,9,  -999.0,9,-999.000,  21.072,2
  316N198212_2, ATAS2,    84,  2,      2,      2,2,19830118,0916, 24.6783, -26.8750, 5234,  140.1,    108.1,  20.1175,  36.8263,2,  36.8140,2,   -999.0,9, 20.0972,    187.1,2,     2.24,2,     3.96,2,     0.10,2,     0.33,2,    3.260,2,   -999.0,9,  -999.0,9,   0.110,-999.000,9
  316N198212_2, ATAS2,    84,  2,      3,      3,2,19830118,0916, 24.6783, -26.8750, 5234,  158.9,    127.0,  19.8745,  36.9478,2,  36.9410,2,   -999.0,9, 19.8508,    208.4,2,     1.85,2,     1.54,2,     0.04,2,     0.14,2, -999.000,9,   -999.0,9,  -999.0,9,-999.000,-999.000,9
  316N198212_2, ATAS2,    84,  2,      4,      4,2,19830118,0916, 24.6783, -26.8750, 5234,  167.9,    137.0,  19.4045,  36.8813,2,  36.8700,2,   -999.0,9, 19.3794,    200.6,2,     1.66,2,     2.29,2,     0.03,2,     0.18,2,    3.530,2,   -999.0,9,  -999.0,9,   0.130,-999.000,9
  316N198212_2, ATAS2,    84,  2,      5,      5,2,19830118,0916, 24.6783, -26.8750, 5234,  187.3,    157.0,  19.0355,  36.8411,2,  36.8040,2,   -999.0,9, 19.0071,    201.0,2,     1.76,2,     2.70,2,     0.02,2,     0.19,2, -999.000,9,   -999.0,9,  -999.0,9,-999.000,-999.000,9
  316N198212_2, ATAS2,    84,  2,      6,      6,2,19830118,0916, 24.6783, -26.8750, 5234,  215.8,    187.0,  17.1875,  36.3882,2,  36.3690,2,   -999.0,9, 17.1561,    142.3,2,     4.00,2,    11.81,2,     0.01,2,     0.74,2,    3.830,2,   -999.0,9,  -999.0,9,   0.150,-999.000,9
  316N198212_2, ATAS2,    84,  2,      7,      7,2,19830118,0916, 24.6783, -26.8750, 5234,  254.8,    227.0,  16.3535,  36.2695,2,  36.2660,2,   -999.0,9, 16.3167,    158.8,2,     3.71,2,    10.54,2,     0.00,2,     0.65,2,    3.060,2,   -999.0,9,  -999.0,9,   0.110,-999.000,9
  316N198212_2, ATAS2,    84,  2,      8,      8,2,19830118,0916, 24.6783, -26.8750, 5234,  303.8,    276.0,  15.6855,  36.2033,2,  36.1860,2,   -999.0,9, 15.6419,    180.9,2,     3.22,2,     9.00,2,     0.00,2,     0.57,2,    3.500,2,   -999.0,9,  -999.0,9,   0.110,-999.000,9
  316N198212_2, ATAS2,    84,  2,      9,      9,2,19830118,0916, 24.6783, -26.8750, 5234,  362.5,    336.0,  14.0456,  35.9010,2,  35.8820,2,   -999.0,9, 13.9963,    159.6,2,     5.47,2,    14.45,2,     0.00,2,     0.88,2, -999.000,9,   -999.0,9,  -999.0,9,-999.000,-999.000,9
  316N198212_2, ATAS2,    84,  2,     10,     10,2,19830118,0916, 24.6783, -26.8750, 5234,  411.3,    385.0,  13.3516,  35.8097,2,  35.7990,2,   -999.0,9, 13.2969,    158.7,2,     6.06,2,    15.33,2,     0.00,2,     0.92,2,    3.170,2,   -999.0,9,  -999.0,9,   0.140,-999.000,9
  316N198212_2, ATAS2,    84,  2,     11,     11,2,19830118,0916, 24.6783, -26.8750, 5234,  459.6,    435.0,  12.7286,  35.7266,2,  35.7190,2,   -999.0,9, 12.6686,    153.9,2,     6.84,2,    16.99,2,     0.00,2,     1.02,2, -999.000,9,   -999.0,9,   445.0,2,-999.000,  12.718,2
  316N198212_2, ATAS2,    84,  2,     12,     12,2,19830118,0916, 24.6783, -26.8750, 5234,  570.1,    560.6,  11.1746,  35.5227,2,  35.5190,2,   -999.0,9, 11.1033,    144.8,2,     9.87,2,    21.20,2,     0.00,2,     1.29,2, -999.000,9,   -999.0,9,  -999.0,9,-999.000,-999.000,9
  316N198212_2, ATAS2,    84,  2,     13,     13,2,19830118,0916, 24.6783, -26.8750, 5234,  719.7,    710.7,   9.3807,  35.3005,2,  35.2960,2,   -999.0,9,  9.2989,    123.5,2,    14.95,2,    26.48,2,     0.00,2,     1.64,2, -999.000,9,   -999.0,9,  -999.0,9,-999.000,-999.000,9
  316N198212_2, ATAS2,    84,  2,     14,     14,2,19830118,0916, 24.6783, -26.8750, 5234,  894.9,    886.7,   7.7227,  35.1447,2,  35.1440,2,   -999.0,9,  7.6306,    130.8,2,    19.05,2,    28.43,2,     0.00,2,     1.82,2, -999.000,9,   -999.0,9,  -999.0,9,-999.000,-999.000,9
  316N198212_2, ATAS2,    84,  2,     15,     15,2,19830118,0916, 24.6783, -26.8750, 5234, 1131.0,   1123.4,   6.5407,  35.1320,2,  35.1320,2,   -999.0,9,  6.4321,    161.7,2,    19.93,2,    25.99,2,     0.00,2,     1.69,2, -999.000,9,   -999.0,9,  -999.0,9,-999.000,-999.000,9
  316N198212_2, ATAS2,    84,  2,     16,     16,2,19830118,0916, 24.6783, -26.8750, 5234, 1290.6,   1283.7,   5.9877,  35.1602,2,  35.1610,2,   -999.0,9,  5.8674,    186.9,2,    19.25,2,    23.65,2,     0.00,2,     1.54,2, -999.000,9,   -999.0,9,  -999.0,9,-999.000,-999.000,9
  316N198212_2, ATAS2,    84,  2,     17,     17,2,19830118,0916, 24.6783, -26.8750, 5234, 1473.9,   1467.6,   5.3967,  35.1560,2,  35.1580,2,   -999.0,9,  5.2637,    202.5,2,    20.03,2,    22.38,2,     0.00,2,     1.48,2, -999.000,9,   -999.0,9,  1473.0,2,-999.000,   5.400,2
  316N198212_2, ATAS2,    84,  2,     18,     18,2,19830118,0916, 24.6783, -26.8750, 5234, 1600.2,   1594.1,   4.9527,  35.1293,2,  35.1310,2,   -999.0,9,  4.8122,    212.0,2,    21.01,2,    21.79,2,     0.00,2,     1.46,2, -999.000,9,   -999.0,9,  -999.0,9,-999.000,-999.000,9
  316N198212_2, ATAS2,    84,  2,     19,     19,2,19830118,0916, 24.6783, -26.8750, 5234, 1796.1,   1790.8,   4.4098,  35.0906,2,  35.0910,2,   -999.0,9,  4.2567,    227.2,2,    21.89,2,    21.01,2,     0.00,2,     1.40,2, -999.000,9,   -999.0,9,  1792.0,2,-999.000,   4.411,2
  316N198212_2, ATAS2,    84,  2,     20,     20,2,19830118,0916, 24.6783, -26.8750, 5234, 2002.9,   1998.6,   3.9888,  35.0565,2,  35.0550,2,   -999.0,9,  3.8213,    231.6,2,    23.45,2,    20.72,2,     0.00,2,     1.38,2, -999.000,9,   -999.0,9,  -999.0,9,-999.000,-999.000,9
  316N198212_2, ATAS2,    84,  2,     21,     21,2,19830118,0916, 24.6783, -26.8750, 5234, 2499.8,   2497.9,   3.2028,  34.9869,2,  34.9850,2,   -999.0,9,  2.9991,    247.7,2,    28.83,2,    20.33,2,     0.00,2,     1.38,2, -999.000,9,   -999.0,9,  2496.0,2,-999.000,   3.206,2
  316N198212_2, ATAS2,    84,  2,     22,     22,2,19830118,0916, 24.6783, -26.8750, 5234, 3001.6,   3002.0,   2.7498,  34.9420,2,  34.9400,2,   -999.0,9,  2.5042,    246.8,2,    35.86,2,    20.91,2,     0.00,2,     1.41,2, -999.000,9,   -999.0,9,  -999.0,9,-999.000,-999.000,9
  316N198212_2, ATAS2,    84,  2,     23,     23,2,19830118,0916, 24.6783, -26.8750, 5234, 5016.1,   5025.0,   2.4158,  34.8863,2,  34.8880,2,   -999.0,9,  1.9461,    245.5,2,    47.89,2,    22.18,2,     0.00,2,     1.51,2, -999.000,9,   -999.0,9,  5037.0,2,-999.000,   2.418,2
  316N198212_2, ATAS2,    85,  1,      1,      1,2,19830118,2103, 23.8500, -26.1100, 5329,   35.6,      1.0,  21.6064,  37.0285,2,  37.0250,2,   -999.0,9, 21.6062,   -999.0,9,     1.27,2,     0.07,2,     0.00,2,     0.05,2, -999.000,9,   -999.0,9,  -999.0,9,-999.000,  21.611,2
  316N198212_2, ATAS2,    85,  1,      2,      2,2,19830118,2103, 23.8500, -26.1100, 5329,  122.1,    105.0,  19.8974,  36.8836,2,  36.8860,2,   -999.0,9, 19.8779,    192.3,2,     1.85,2,     3.43,2,     0.04,2,     0.27,2, -999.000,9,   -999.0,9,  -999.0,9,-999.000,-999.000,9
  316N198212_2, ATAS2,    85,  1,      3,      3,2,19830118,2103, 23.8500, -26.1100, 5329,  160.2,    144.0,  18.2034,  36.5813,2,  36.5720,2,   -999.0,9, 18.1783,    156.2,2,     3.12,2,     8.82,2,     0.01,2,     0.57,2,    2.480,2,   -999.0,9,  -999.0,9,   0.100,-999.000,9
  316N198212_2, ATAS2,    85,  1,      4,      4,2,19830118,2103, 23.8500, -26.1100, 5329,  218.0,    203.0,  16.1635,  36.2013,2,  36.1990,2,   -999.0,9, 16.1308,    138.8,2,     4.49,2,    13.18,2,     0.00,2,     0.80,2, -999.000,9,   -999.0,9,  -999.0,9,-999.000,-999.000,9
  316N198212_2, ATAS2,    85,  1,      5,      5,2,19830118,2103, 23.8500, -26.1100, 5329,  276.8,    262.0,  15.0975,  36.0416,2,  36.0360,2,   -999.0,9, 15.0572,    151.8,2,     4.78,2,    13.28,2,     0.00,2,     0.80,2,    3.190,2,   -999.0,9,  -999.0,9,   0.120,-999.000,9
  316N198212_2, ATAS2,    85,  1,      6,      6,2,19830118,2103, 23.8500, -26.1100, 5329,  345.4,    331.0,  14.0815,  35.8994,2,  35.8940,2,   -999.0,9, 14.0329,    166.6,2,     5.08,2,    13.18,2,     0.00,2,     0.80,2, -999.000,9,   -999.0,9,  -999.0,9,-999.000,-999.000,9
  316N198212_2, ATAS2,    85,  1,      7,      7,2,19830118,2103, 23.8500, -26.1100, 5329,  374.8,    361.0,  13.6715,  35.8462,2,  35.8360,2,   -999.0,9, 13.6195,    173.1,2,     5.37,2,    13.28,2,     0.00,2,     0.80,2,    3.290,2,   -999.0,9,  -999.0,9,   0.120,-999.000,9
  316N198212_2, ATAS2,    85,  1,      8,      8,2,19830118,2103, 23.8500, -26.1100, 5329,  409.2,    396.0,  13.2035,  35.7787,2,  35.7670,2,   -999.0,9, 13.1477,    162.6,2,     5.96,2,    15.04,2,     0.00,2,     0.92,2, -999.000,9,   -999.0,9,  -999.0,9,-999.000,-999.000,9
  316N198212_2, ATAS2,    85,  1,      9,      9,2,19830118,2103, 23.8500, -26.1100, 5329,  444.3,    431.0,  12.7715,  35.7414,2,  35.7290,2,   -999.0,9, 12.7120,    184.4,2,     5.57,2,    13.38,2,     0.00,2,     0.82,2,    3.350,2,   -999.0,9,  -999.0,9,   0.110,-999.000,9
  316N198212_2, ATAS2,    85,  1,     10,     10,2,19830118,2103, 23.8500, -26.1100, 5329,  553.7,    543.1,  11.3666,  35.5643,2,  35.5620,2,   -999.0,9, 11.2967,    156.5,2,     8.79,2,    18.95,2,     0.00,2,     1.15,2, -999.000,9,   -999.0,9,  -999.0,9,-999.000,-999.000,9
  316N198212_2, ATAS2,    85,  1,     11,     11,2,19830118,2103, 23.8500, -26.1100, 5329,  617.9,    607.6,  10.3936,  35.4198,2,  35.4190,2,   -999.0,9, 10.3195,    126.9,2,    12.31,2,    24.03,2,     0.00,2,     1.46,2,    1.010,2,   -999.0,9,   609.0,2,   0.070,  10.405,2
  316N198212_2, ATAS2,    85,  1,     12,     12,2,19830118,2103, 23.8500, -26.1100, 5329,  699.3,    689.4,   9.2266,  35.2652,2,  35.2620,2,   -999.0,9,  9.1482,    114.3,2,    15.63,2,    27.65,2,     0.00,2,     1.70,2,    0.420,2,   -999.0,9,  -999.0,9,   0.070,-999.000,9
  316N198212_2, ATAS2,    85,  1,     13,     13,2,19830118,2103, 23.8500, -26.1100, 5329,  788.5,    779.0,   8.3136,  35.1804,2,  35.1780,2,   -999.0,9,  8.2298,    120.8,2,    18.08,2,    28.53,2,     0.00,2,     1.78,2,    0.280,2,   -999.0,9,  -999.0,9,   0.060,-999.000,9
  316N198212_2, ATAS2,    85,  1,     14,     14,2,19830118,2103, 23.8500, -26.1100, 5329,  884.1,    875.2,   7.5906,  35.1443,2,  35.1450,2,   -999.0,9,  7.5007,    135.6,2,    19.35,2,    28.04,2,     0.00,2,     1.77,2, -999.000,9,   -999.0,9,  -999.0,9,-999.000,-999.000,9
  316N198212_2, ATAS2,    85,  1,     15,     15,2,19830118,2103, 23.8500, -26.1100, 5329, 1009.9,   1001.8,   6.8996,  35.1236,2,  35.1250,2,   -999.0,9,  6.8009,    148.6,2,    20.23,2,    27.36,2,     0.00,2,     1.74,2, -999.000,9,   -999.0,9,  -999.0,9,-999.000,-999.000,9
  316N198212_2, ATAS2,    85,  1,     16,     16,2,19830118,2103, 23.8500, -26.1100, 5329, 1109.6,   1102.1,   6.6517,  35.1562,2,  35.1560,2,   -999.0,9,  6.5443,    159.9,2,    19.64,2,    26.19,2,     0.00,2,     1.66,2, -999.000,9,   -999.0,9,  -999.0,9,-999.000,-999.000,9
  316N198212_2, ATAS2,    85,  1,     17,     17,2,19830118,2103, 23.8500, -26.1100, 5329, 1264.1,   1257.5,   6.2287,  35.2093,2,  35.2110,2,   -999.0,9,  6.1087,    179.9,2,    19.54,2,    23.64,2,     0.00,2,     1.53,2, -999.000,9,   -999.0,9,  1259.0,2,-999.000,   6.230,2
  316N198212_2, ATAS2,    85,  1,     18,     18,2,19830118,2103, 23.8500, -26.1100, 5329, 1431.4,   1426.0,   5.6127,  35.1915,2,  35.1920,2,   -999.0,9,  5.4815,    196.0,2,    20.52,2,    22.47,2,     0.00,2,     1.48,2, -999.000,9,   -999.0,9,  -999.0,9,-999.000,-999.000,9
  316N198212_2, ATAS2,    85,  1,     19,     19,2,19830118,2103, 23.8500, -26.1100, 5329, 1611.8,   1607.5,   4.9497,  35.1454,2,  35.1470,2,   -999.0,9,  4.8078,    209.4,2,    22.38,2,    21.89,2,     0.00,2,     1.45,2, -999.000,9,   -999.0,9,  1603.0,2,-999.000,   4.945,2
  316N198212_2, ATAS2,    85,  1,     20,     20,2,19830118,2103, 23.8500, -26.1100, 5329, 1811.2,   1808.0,   4.2537,  35.0746,2,  35.0750,2,   -999.0,9,  4.1010,   -999.0,9,  -999.00,9,  -999.00,9,  -999.00,9,  -999.00,9, -999.000,9,   -999.0,9,  -999.0,9,-999.000,-999.000,9
  316N198212_2, ATAS2,    85,  1,     21,     21,2,19830118,2103, 23.8500, -26.1100, 5329, 1811.2,   1808.1,   4.2587,  35.0763,2,  35.0740,2,   -999.0,9,  4.1060,    224.6,2,    23.06,2,    21.20,2,     0.00,2,     1.41,2, -999.000,9,   -999.0,9,  1803.0,2,-999.000,   4.250,2
  316N198212_2, ATAS2,    85,  1,     22,     22,2,19830118,2103, 23.8500, -26.1100, 5329, 2210.6,   2209.8,   3.5317,  35.0114,2,  35.0120,2,   -999.0,9,  3.3508,    239.0,2,    26.58,2,    20.62,2,     0.00,2,     1.38,2, -999.000,9,   -999.0,9,  -999.0,9,-999.000,-999.000,9
  316N198212_2, ATAS2,    85,  1,     23,     23,2,19830118,2103, 23.8500, -26.1100, 5329, 2511.5,   2512.2,   3.1387,  34.9799,2,  34.9800,2,   -999.0,9,  2.9349,    244.6,2,    30.10,2,    20.42,2,     0.00,2,     1.37,2, -999.000,9,   -999.0,9,  2516.0,2,-999.000,   3.141,2