BOTTLE,20220818CCHSIOAMB
EXPOCODE,SECT_ID,STNNBR,CASTNO,SAMPNO,BTLNBR,BTLNBR_FLAG_W,DATE,TIME,LATITUDE,LONGITUDE,DEPTH,CTDRAW,CTDPRS,CTDTMP,CTDSAL,CTDSAL_FLAG_W,SALNTY,SALNTY_FLAG_W,CTDOXY,CTDOXY_FLAG_W,THETA,OXYGEN,OXYGEN_FLAG_W,SILCAT,SILCAT_FLAG_W,NITRAT,NITRAT_FLAG_W,NITRIT,NITRIT_FLAG_W,PHSPHT,PHSPHT_FLAG_W,TRITUM,TRITUM_FLAG_W,TCARBN,TCARBN_FLAG_W,REVPRS,REVPRS_FLAG_W,TRITER,REVTMP,REVTMP_FLAG_W
,,,,,,,,,,,,,DBAR,ITS-90,PSS-78,,PSS-78,,UMOL/KG,,DEG C,UMOL/KG,,UMOL/KG,,UMOL/KG,,UMOL/KG,,UMOL/KG,,TU,,UMOL/KG,,DBAR,,TU,ITS-90,
  316N198212_2, ATAS2,    74,  1,      1,      1,2,19830111,1616, 21.1850, -38.6150, 5224,   30.2,      1.0,  23.4760,  37.4320,2,  37.4330,2,   -999.0,9, 23.4758,    211.2,2,     1.37,2,     0.04,2,     0.00,2,     0.02,2, -999.000,9,   -999.0,9,  -999.0,9,-999.000,  23.483,2
  316N198212_2, ATAS2,    74,  1,      2,      2,2,19830111,1616, 21.1850, -38.6150, 5224,  125.0,     99.0,  22.1620,  37.3229,2,  37.3220,2,   -999.0,9, 22.1421,    205.9,2,     1.27,2,     0.11,2,     0.05,2,     0.03,2, -999.000,9,   -999.0,9,  -999.0,9,-999.000,-999.000,9
  316N198212_2, ATAS2,    74,  1,      3,      3,2,19830111,1616, 21.1850, -38.6150, 5224,  163.3,    138.0,  21.5650,  37.2730,2,  37.2630,2,   -999.0,9, 21.5378,    200.2,2,     1.27,2,     0.51,2,     0.03,2,     0.05,2,    2.980,2,   -999.0,9,  -999.0,9,   0.130,-999.000,9
  316N198212_2, ATAS2,    74,  1,      4,      4,2,19830111,1616, 21.1850, -38.6150, 5224,  211.8,    188.0,  19.6541,  36.9036,2,  36.9200,2,   -999.0,9, 19.6193,    182.8,2,     1.66,2,     3.44,2,     0.01,2,     0.19,2,    3.280,2,   -999.0,9,  -999.0,9,   0.130,-999.000,9
  316N198212_2, ATAS2,    74,  1,      5,      5,2,19830111,1616, 21.1850, -38.6150, 5224,  285.4,    262.0,  16.9751,  36.3852,2,  36.3780,2,   -999.0,9, 16.9314,    178.4,2,     3.03,2,     7.55,2,     0.00,2,     0.43,2,    3.050,2,   -999.0,9,  -999.0,9,   0.130,-999.000,9
  316N198212_2, ATAS2,    74,  1,      6,      6,2,19830111,1616, 21.1850, -38.6150, 5224,  358.3,    336.0,  15.4541,  36.1160,2,  36.1040,2,   -999.0,9, 15.4015,    174.9,2,     4.10,2,    10.45,2,     0.00,2,     0.62,2,    3.030,2,   -999.0,9,  -999.0,9,   0.140,-999.000,9
  316N198212_2, ATAS2,    74,  1,      7,      7,2,19830111,1616, 21.1850, -38.6150, 5224,  402.7,    380.0,  14.3142,  35.9374,2,  35.9310,2,   -999.0,9, 14.2576,    166.6,2,     5.08,2,    13.09,2,     0.00,2,     0.76,2, -999.000,9,   -999.0,9,  -999.0,9,-999.000,-999.000,9
  316N198212_2, ATAS2,    74,  1,      8,      8,2,19830111,1616, 21.1850, -38.6150, 5224,  436.8,    415.0,  13.6912,  35.8521,2,  35.8440,2,   -999.0,9, 13.6312,    165.7,2,     5.37,2,    14.26,2,     0.00,2,     0.84,2, -999.000,9,   -999.0,9,  -999.0,9,-999.000,-999.000,9
  316N198212_2, ATAS2,    74,  1,      9,      9,2,19830111,1616, 21.1850, -38.6150, 5224,  485.5,    465.0,  12.8552,  35.7400,2,  35.7370,2,   -999.0,9, 12.7906,    157.4,2,     6.54,2,    16.51,2,     0.00,2,     0.97,2, -999.000,9,   -999.0,9,  -999.0,9,-999.000,-999.000,9
  316N198212_2, ATAS2,    74,  1,     10,     10,2,19830111,1616, 21.1850, -38.6150, 5224,  534.4,    523.4,  12.0512,  35.6167,2,  35.6060,2,   -999.0,9, 11.9814,    139.6,2,     8.79,2,    20.32,2,     0.00,2,     1.20,2, -999.000,9,   -999.0,9,  -999.0,9,-999.000,-999.000,9
  316N198212_2, ATAS2,    74,  1,     11,     11,2,19830111,1616, 21.1850, -38.6150, 5224,  593.2,    582.4,  10.9762,  35.4634,2,  35.4630,2,   -999.0,9, 10.9029,    126.1,2,    11.23,2,    23.44,2,     0.00,2,     1.40,2, -999.000,9,   -999.0,9,   583.0,2,-999.000,  10.978,2
  316N198212_2, ATAS2,    74,  1,     12,     12,2,19830111,1616, 21.1850, -38.6150, 5224,  651.4,    641.0,   9.8792,  35.2997,2,  35.2950,2,   -999.0,9,  9.8035,   -999.0,9,    14.17,2,    26.87,2,     0.00,2,     1.63,2, -999.000,9,   -999.0,9,  -999.0,9,-999.000,-999.000,9
  316N198212_2, ATAS2,    74,  1,     13,     13,2,19830111,1616, 21.1850, -38.6150, 5224,  755.8,    746.0,   8.4423,  35.1358,2,  35.1340,2,   -999.0,9,  8.3615,    123.9,2,    17.49,2,    28.24,2,     0.00,2,     1.77,2, -999.000,9,   -999.0,9,  -999.0,9,-999.000,-999.000,9
  316N198212_2, ATAS2,    74,  1,     14,     14,2,19830111,1616, 21.1850, -38.6150, 5224,  836.0,    826.7,   7.4193,  35.0337,2,  35.0310,2,   -999.0,9,  7.3357,    133.9,2,    20.03,2,    28.92,2,     0.00,2,     1.84,2, -999.000,9,   -999.0,9,  -999.0,9,-999.000,-999.000,9
  316N198212_2, ATAS2,    74,  1,     15,     15,2,19830111,1616, 21.1850, -38.6150, 5224,  926.5,    917.9,   6.7433,  34.9764,2,  34.9760,2,   -999.0,9,  6.6547,    140.0,2,    21.30,2,    29.22,2,     0.00,2,     1.88,2, -999.000,9,   -999.0,9,  -999.0,9,-999.000,-999.000,9
  316N198212_2, ATAS2,    74,  1,     16,     16,2,19830111,1616, 21.1850, -38.6150, 5224, 1031.5,   1023.7,   6.1593,  34.9554,2,  34.9560,2,   -999.0,9,  6.0642,    152.1,2,    21.79,2,    28.73,2,     0.00,2,     1.86,2, -999.000,9,   -999.0,9,  -999.0,9,-999.000,-999.000,9
  316N198212_2, ATAS2,    74,  1,     17,     17,2,19830111,1616, 21.1850, -38.6150, 5224, 1160.6,   1153.6,   5.6413,  34.9736,2,  34.9750,2,   -999.0,9,  5.5375,    169.5,2,    21.40,2,    27.07,2,     0.00,2,     1.76,2, -999.000,9,   -999.0,9,  1156.0,2,-999.000,   5.647,2
  316N198212_2, ATAS2,    74,  1,     18,     18,2,19830111,1616, 21.1850, -38.6150, 5224, 1380.4,   1374.7,   5.1703,  35.0244,2,  35.0250,2,   -999.0,9,  5.0492,    196.4,2,    20.03,2,    24.14,2,     0.00,2,     1.57,2, -999.000,9,   -999.0,9,  -999.0,9,-999.000,-999.000,9
  316N198212_2, ATAS2,    74,  1,     19,     19,2,19830111,1616, 21.1850, -38.6150, 5224, 1612.3,   1608.0,   4.5753,  35.0371,2,  35.0400,2,   -999.0,9,  4.4381,    217.3,2,    20.13,2,    22.28,2,     0.00,2,     1.46,2, -999.000,9,   -999.0,9,  1605.0,2,-999.000,   4.572,2
  316N198212_2, ATAS2,    74,  1,     20,     20,2,19830111,1616, 21.1850, -38.6150, 5224, 1861.9,   1859.0,   3.9674,  35.0125,2,  35.0120,2,   -999.0,9,  3.8139,    233.8,2,    22.18,2,    21.30,2,     0.00,2,     1.42,2, -999.000,9,   -999.0,9,  -999.0,9,-999.000,-999.000,9
  316N198212_2, ATAS2,    74,  1,     21,     21,2,19830111,1616, 21.1850, -38.6150, 5224, 2107.2,   2105.6,   3.5594,  34.9875,2,  34.9880,2,   -999.0,9,  3.3882,    240.3,2,    24.33,2,    20.81,2,     0.00,2,     1.39,2, -999.000,9,   -999.0,9,  2102.0,2,-999.000,   3.559,2
  316N198212_2, ATAS2,    74,  1,     22,     22,2,19830111,1616, 21.1850, -38.6150, 5224, 2306.8,   2306.3,   3.3714,  34.9775,2,  34.9760,2,   -999.0,9,  3.1837,    242.0,2,    26.87,2,    20.81,2,     0.00,2,     1.40,2, -999.000,9,   -999.0,9,  -999.0,9,-999.000,-999.000,9
  316N198212_2, ATAS2,    74,  1,     23,     23,2,19830111,1616, 21.1850, -38.6150, 5224, 2468.1,   2468.5,   3.2214,  34.9675,2,  34.9680,2,   -999.0,9,  3.0204,    242.9,2,    29.02,2,    21.11,2,     0.00,2,     1.42,2, -999.000,9,   -999.0,9,  2462.0,2,-999.000,   3.220,2
  316N198212_2, ATAS2,    75,  2,      1,      1,2,19830112,1519, 22.7800, -37.2567, 5582,   28.8,      1.0,  22.9869,  37.5111,2,  37.5110,2,   -999.0,9, 22.9867,    213.8,2,     1.17,2,     0.00,2,     0.00,2,     0.03,2,    1.750,2,   -999.0,9,  -999.0,9,   0.090,  22.993,2
  316N198212_2, ATAS2,    75,  2,      2,      2,2,19830112,1519, 22.7800, -37.2567, 5582,  131.1,    104.0,  22.9609,  37.5117,2,  37.5050,2,   -999.0,9, 22.9395,    211.6,2,     1.27,2,     0.00,2,     0.00,2,     0.02,2,    2.620,2,   -999.0,9,  -999.0,9,   0.100,-999.000,9
  316N198212_2, ATAS2,    75,  2,      3,      3,2,19830112,1519, 22.7800, -37.2567, 5582,  238.7,    208.0,  17.8080,  36.5129,2,  36.5020,2,   -999.0,9, 17.7722,    185.8,2,     2.05,2,     5.34,2,     0.00,2,     0.28,2,    3.780,2,   -999.0,9,  -999.0,9,   0.130,-999.000,9
  316N198212_2, ATAS2,    75,  2,      4,      4,2,19830112,1519, 22.7800, -37.2567, 5582,  278.0,    248.0,  16.8120,  36.3442,2,  36.3410,2,   -999.0,9, 16.7710,    194.9,2,     2.25,2,     6.22,2,     0.00,2,     0.35,2, -999.000,9,   -999.0,9,  -999.0,9,-999.000,-999.000,9
  316N198212_2, ATAS2,    75,  2,      5,      5,2,19830112,1519, 22.7800, -37.2567, 5582,  315.7,    286.0,  16.3961,  36.2724,2,  36.2680,2,   -999.0,9, 16.3495,    193.1,2,     2.83,2,     6.99,2,     0.00,2,     0.40,2,    3.270,2,   -999.0,9,  -999.0,9,   0.110,-999.000,9
  316N198212_2, ATAS2,    75,  2,      6,      6,2,19830112,1519, 22.7800, -37.2567, 5582,  349.9,    320.0,  15.8651,  36.1838,2,  36.1770,2,   -999.0,9, 15.8141,    190.1,2,     3.12,2,     8.22,2,     0.00,2,     0.48,2,    3.430,2,   -999.0,9,  -999.0,9,   0.130,-999.000,9
  316N198212_2, ATAS2,    75,  2,      7,      7,2,19830112,1519, 22.7800, -37.2567, 5582,  394.0,    365.0,  15.1961,  36.0744,2,  36.0660,2,   -999.0,9, 15.1395,    186.6,2,     3.61,2,     9.73,2,     0.00,2,     0.57,2, -999.000,9,   -999.0,9,  -999.0,9,-999.000,-999.000,9
  316N198212_2, ATAS2,    75,  2,      8,      8,2,19830112,1519, 22.7800, -37.2567, 5582,  447.5,    419.0,  13.9911,  35.8949,2,  35.8840,2,   -999.0,9, 13.9296,    176.6,2,     4.79,2,    12.70,2,     0.00,2,     0.73,2,    3.510,2,   -999.0,9,  -999.0,9,   0.120,-999.000,9
  316N198212_2, ATAS2,    75,  2,      9,      9,2,19830112,1519, 22.7800, -37.2567, 5582,  500.7,    473.0,  13.2031,  35.7896,2,  35.7800,2,   -999.0,9, 13.1362,    172.2,2,     5.66,2,    14.26,2,     0.00,2,     0.84,2,    2.940,2,   -999.0,9,  -999.0,9,   0.110,-999.000,9
  316N198212_2, ATAS2,    75,  2,     10,     10,2,19830112,1519, 22.7800, -37.2567, 5582,  535.5,    524.3,  12.6141,  35.7055,2,  35.7110,2,   -999.0,9, 12.5421,    168.3,2,     6.45,2,    15.72,2,     0.00,2,     0.94,2,    2.700,2,   -999.0,9,  -999.0,9,   0.100,-999.000,9
  316N198212_2, ATAS2,    75,  2,     11,     11,2,19830112,1519, 22.7800, -37.2567, 5582,  649.3,    638.6,  11.1062,  35.5137,2,  35.5180,2,   -999.0,9, 11.0249,    150.0,2,     9.38,2,    20.12,2,     0.00,2,     1.23,2,    1.350,2,   -999.0,9,   633.0,2,   0.070,  11.110,2
  316N198212_2, ATAS2,    75,  2,     12,     12,2,19830112,1519, 22.7800, -37.2567, 5582,  762.2,    752.2,   9.0872,  35.2719,2,  35.2710,2,   -999.0,9,  9.0021,    138.2,2,    14.95,2,    25.11,2,     0.00,2,     1.57,2,    0.285,2,   -999.0,9,  -999.0,9,   0.041,-999.000,9
  316N198212_2, ATAS2,    75,  2,     13,     13,2,19830112,1519, 22.7800, -37.2567, 5582,  920.0,    910.9,   7.1022,  35.0696,2,  35.0710,2,   -999.0,9,  7.0118,    149.5,2,    19.25,2,    27.07,2,     0.00,2,     1.74,2, -999.000,9,   -999.0,9,  -999.0,9,   0.065,-999.000,9
  316N198212_2, ATAS2,    75,  2,     14,     14,2,19830112,1519, 22.7800, -37.2567, 5582, 1143.9,   1135.6,   5.8073,  35.0425,2,  35.0440,2,   -999.0,9,  5.7037,    179.9,2,    19.84,2,    25.02,2,     0.00,2,     1.64,2, -999.000,9,   -999.0,9,  -999.0,9,-999.000,-999.000,9
  316N198212_2, ATAS2,    75,  2,     15,     15,2,19830112,1519, 22.7800, -37.2567, 5582, 1326.0,   1318.4,   5.2113,  35.0587,2,  35.0590,2,   -999.0,9,  5.0952,    202.5,2,    19.05,2,    22.87,2,     0.00,2,     1.51,2, -999.000,9,   -999.0,9,  -999.0,9,-999.000,-999.000,9
  316N198212_2, ATAS2,    75,  2,     16,     16,2,19830112,1519, 22.7800, -37.2567, 5582, 1521.7,   1514.5,   4.7143,  35.0569,2,  35.0570,2,   -999.0,9,  4.5844,    219.9,2,    19.25,2,    21.69,2,     0.00,2,     1.44,2, -999.000,9,   -999.0,9,  -999.0,9,-999.000,-999.000,9
  316N198212_2, ATAS2,    75,  2,     17,     17,2,19830112,1519, 22.7800, -37.2567, 5582, 1748.9,   1742.1,   4.0923,  35.0282,2,  35.0320,2,   -999.0,9,  3.9483,    232.0,2,    21.11,2,    20.81,2,     0.00,2,     1.39,2, -999.000,9,   -999.0,9,  1752.0,2,-999.000,   4.103,2
  316N198212_2, ATAS2,    75,  2,     18,     18,2,19830112,1519, 22.7800, -37.2567, 5582, 1948.7,   1943.1,   3.7183,  35.0007,2,  35.0010,2,   -999.0,9,  3.5603,    238.1,2,    22.87,2,    20.81,2,     0.00,2,     1.39,2, -999.000,9,   -999.0,9,  -999.0,9,-999.000,-999.000,9
  316N198212_2, ATAS2,    75,  2,     19,     19,2,19830112,1519, 22.7800, -37.2567, 5582, 2302.3,   2298.1,   3.2873,  34.9791,2,  34.9780,2,   -999.0,9,  3.1019,    241.1,2,    27.46,2,    20.81,2,     0.00,2,     1.41,2, -999.000,9,   -999.0,9,  2300.0,2,-999.000,   3.285,2
  316N198212_2, ATAS2,    75,  2,     20,     20,2,19830112,1519, 22.7800, -37.2567, 5582, 2512.8,   2509.4,   3.1343,  34.9672,2,  34.9660,2,   -999.0,9,  2.9309,    243.3,2,    30.10,2,    20.91,2,     0.00,2,     1.42,2, -999.000,9,   -999.0,9,  -999.0,9,-999.000,-999.000,9
  316N198212_2, ATAS2,    75,  2,     21,     21,2,19830112,1519, 22.7800, -37.2567, 5582, 3015.0,   3013.6,   2.8373,  34.9464,2,  34.9430,2,   -999.0,9,  2.5886,    243.3,2,    35.08,2,    21.21,2,     0.00,2,     1.44,2, -999.000,9,   -999.0,9,  3015.0,2,-999.000,   2.838,2
  316N198212_2, ATAS2,    75,  2,     22,     22,2,19830112,1519, 22.7800, -37.2567, 5582, 5236.4,   5243.1,   2.3783,  34.8782,2,  34.8780,2,   -999.0,9,  1.8820,    248.1,2,    47.79,2,    22.09,2,     0.00,2,     1.52,2, -999.000,9,   -999.0,9,  -999.0,9,-999.000,-999.000,9
  316N198212_2, ATAS2,    75,  2,     23,     23,2,19830112,1519, 22.7800, -37.2567, 5582, 5495.1,   5502.7,   2.3923,  34.8764,2,  34.8770,2,   -999.0,9,  1.8615,    249.0,2,    48.08,2,    22.09,2,     0.00,2,     1.52,2, -999.000,9,   -999.0,9,  5505.0,2,-999.000,   2.393,2
  316N198212_2, ATAS2,    76,  1,      1,      1,2,19830113,1151, 24.1250, -35.9767, -999,   32.4,      2.0,  22.4679,  37.5192,2,  37.5260,2,   -999.0,9, 22.4675,    215.5,2,     1.27,2,     0.01,2,     0.00,2,     0.02,2, -999.000,9,   -999.0,9,  -999.0,9,-999.000,  22.478,2
  316N198212_2, ATAS2,    76,  1,      2,      2,2,19830113,1151, 24.1250, -35.9767, -999,  185.2,    147.0,  20.8729,  37.1363,2,  37.1350,2,   -999.0,9, 20.8446,    205.9,2,     1.37,2,     0.41,2,     0.03,2,     0.04,2, -999.000,9,   -999.0,9,  -999.0,9,-999.000,-999.000,9
  316N198212_2, ATAS2,    76,  1,      3,      3,2,19830113,1151, 24.1250, -35.9767, -999,  212.8,    176.0,  20.1059,  37.0227,2,  37.0170,2,   -999.0,9, 20.0729,    196.3,2,     1.46,2,     1.55,2,     0.01,2,     0.10,2, -999.000,9,   -999.0,9,  -999.0,9,-999.000,-999.000,9
  316N198212_2, ATAS2,    76,  1,      4,      4,2,19830113,1151, 24.1250, -35.9767, -999,  249.3,    215.0,  18.1170,  36.5890,2,  36.5790,2,   -999.0,9, 18.0795,    192.3,2,     1.85,2,     4.26,2,     0.00,2,     0.22,2, -999.000,9,   -999.0,9,  -999.0,9,-999.000,-999.000,9
  316N198212_2, ATAS2,    76,  1,      5,      5,2,19830113,1151, 24.1250, -35.9767, -999,  283.2,    249.0,  17.1550,  36.4166,2,  36.4040,2,   -999.0,9, 17.1132,    192.3,2,     2.54,2,     5.85,2,     0.00,2,     0.32,2, -999.000,9,   -999.0,9,  -999.0,9,-999.000,-999.000,9
  316N198212_2, ATAS2,    76,  1,      6,      6,2,19830113,1151, 24.1250, -35.9767, -999,  312.4,    278.0,  16.4530,  36.2910,2,  36.2840,2,   -999.0,9, 16.4076,    194.0,2,     2.64,2,     7.06,2,     0.00,2,     0.40,2, -999.000,9,   -999.0,9,  -999.0,9,-999.000,-999.000,9
  316N198212_2, ATAS2,    76,  1,      7,      7,2,19830113,1151, 24.1250, -35.9767, -999,  353.8,    323.0,  15.8920,  36.1944,2,  36.1840,2,   -999.0,9, 15.8405,    191.0,2,     3.12,2,     8.26,2,     0.00,2,     0.48,2, -999.000,9,   -999.0,9,  -999.0,9,-999.000,-999.000,9
  316N198212_2, ATAS2,    76,  1,      8,      8,2,19830113,1151, 24.1250, -35.9767, -999,  402.2,    373.0,  14.8380,  36.0300,2,  36.0140,2,   -999.0,9, 14.7812,    185.7,2,     3.91,2,    10.35,2,     0.00,2,     0.61,2, -999.000,9,   -999.0,9,  -999.0,9,-999.000,-999.000,9
  316N198212_2, ATAS2,    76,  1,      9,      9,2,19830113,1151, 24.1250, -35.9767, -999,  450.9,    423.0,  14.0080,  35.9041,2,  35.8950,2,   -999.0,9, 13.9459,    183.1,2,     4.69,2,    12.01,2,     0.00,2,     0.70,2, -999.000,9,   -999.0,9,  -999.0,9,-999.000,-999.000,9
  316N198212_2, ATAS2,    76,  1,     10,     10,2,19830113,1151, 24.1250, -35.9767, -999,  490.0,    463.0,  13.5281,  35.8376,2,  35.8380,2,   -999.0,9, 13.4615,    180.5,2,     5.37,2,    13.09,2,     0.00,2,     0.77,2, -999.000,9,   -999.0,9,  -999.0,9,-999.000,-999.000,9
  316N198212_2, ATAS2,    76,  1,     11,     11,2,19830113,1151, 24.1250, -35.9767, -999,  548.2,    536.4,  12.7291,  35.7270,2,  35.7260,2,   -999.0,9, 12.6549,    172.6,2,     6.35,2,    15.14,2,     0.00,2,     0.89,2, -999.000,9,   -999.0,9,   533.0,2,-999.000,  12.729,2
  316N198212_2, ATAS2,    76,  1,     12,     12,2,19830113,1151, 24.1250, -35.9767, -999,  635.1,    623.8,  11.3881,  35.5569,2,  35.5490,2,   -999.0,9, 11.3075,    163.5,2,     8.79,2,    18.75,2,     0.00,2,     1.11,2, -999.000,9,   -999.0,9,  -999.0,9,-999.000,-999.000,9
  316N198212_2, ATAS2,    76,  1,     13,     13,2,19830113,1151, 24.1250, -35.9767, -999,  761.7,    751.1,   9.3681,  35.3150,2,  35.3120,2,   -999.0,9,  9.2816,    144.3,2,    13.97,2,    24.13,2,     0.00,2,     1.48,2, -999.000,9,   -999.0,9,  -999.0,9,-999.000,-999.000,9
  316N198212_2, ATAS2,    76,  1,     14,     14,2,19830113,1151, 24.1250, -35.9767, -999,  922.4,    913.1,   7.5042,  35.1483,2,  35.1500,2,   -999.0,9,  7.4106,    155.6,2,    17.98,2,    26.09,2,     0.00,2,     1.64,2, -999.000,9,   -999.0,9,  -999.0,9,-999.000,-999.000,9
  316N198212_2, ATAS2,    76,  1,     15,     15,2,19830113,1151, 24.1250, -35.9767, -999, 1032.5,   1024.0,   6.7482,  35.1115,2,  35.1100,2,   -999.0,9,  6.6483,    166.9,2,    18.66,2,    25.70,2,     0.00,2,     1.63,2, -999.000,9,   -999.0,9,  -999.0,9,-999.000,-999.000,9
  316N198212_2, ATAS2,    76,  1,     16,     16,2,19830113,1151, 24.1250, -35.9767, -999, 1142.7,   1134.9,   6.0572,  35.0813,2,  35.0810,2,   -999.0,9,  5.9515,    181.7,2,    18.96,2,    24.82,2,     0.00,2,     1.57,2, -999.000,9,   -999.0,9,  -999.0,9,-999.000,-999.000,9
  316N198212_2, ATAS2,    76,  1,     17,     17,2,19830113,1151, 24.1250, -35.9767, -999, 1262.0,   1255.0,   5.6612,  35.0852,2,  35.0880,2,   -999.0,9,  5.5470,    194.7,2,    18.57,2,    23.65,2,     0.00,2,     1.51,2, -999.000,9,   -999.0,9,  1261.0,2,-999.000,   5.667,2
  316N198212_2, ATAS2,    76,  1,     18,     18,2,19830113,1151, 24.1250, -35.9767, -999, 1363.8,   1357.5,   5.4712,  35.1064,2,  35.1060,2,   -999.0,9,  5.3486,    205.5,2,    18.37,2,    22.57,2,     0.00,2,     1.45,2, -999.000,9,   -999.0,9,  -999.0,9,-999.000,-999.000,9
  316N198212_2, ATAS2,    76,  1,     19,     19,2,19830113,1151, 24.1250, -35.9767, -999, 1509.1,   1503.6,   5.0742,  35.1136,2,  35.1140,2,   -999.0,9,  4.9413,    218.6,2,    18.37,2,    21.40,2,     0.00,2,     1.38,2, -999.000,9,   -999.0,9,  1502.0,2,-999.000,   5.071,2
  316N198212_2, ATAS2,    76,  1,     20,     20,2,19830113,1151, 24.1250, -35.9767, -999, 1613.7,   1608.8,   4.8132,  35.1040,2,  35.1040,2,   -999.0,9,  4.6729,    224.6,2,    18.76,2,    21.01,2,     0.00,2,     1.37,2, -999.000,9,   -999.0,9,  -999.0,9,-999.000,-999.000,9
  316N198212_2, ATAS2,    76,  1,     21,     21,2,19830113,1151, 24.1250, -35.9767, -999, 2010.5,   2008.0,   3.8732,  35.0382,2,  35.0390,2,   -999.0,9,  3.7066,    241.6,2,    23.06,2,    20.52,2,     0.00,2,     1.35,2, -999.000,9,   -999.0,9,  2005.0,2,-999.000,   3.865,2
  316N198212_2, ATAS2,    76,  1,     22,     22,2,19830113,1151, 24.1250, -35.9767, -999, 2259.0,   2257.8,   3.4512,  35.0002,2,  35.0010,2,   -999.0,9,  3.2670,   -999.0,9,  -999.00,9,  -999.00,9,  -999.00,9,  -999.00,9, -999.000,9,   -999.0,9,  -999.0,9,-999.000,-999.000,9
  316N198212_2, ATAS2,    76,  1,     23,     23,2,19830113,1151, 24.1250, -35.9767, -999, 2457.4,   2457.2,   3.2233,  34.9803,2,  34.9830,2,   -999.0,9,  3.0233,    242.9,2,    29.22,2,    20.91,2,     0.00,2,     1.38,2, -999.000,9,   -999.0,9,  2450.0,2,-999.000,   3.227,2