BOTTLE,20220818CCHSIOAMB
EXPOCODE,SECT_ID,STNNBR,CASTNO,SAMPNO,BTLNBR,BTLNBR_FLAG_W,DATE,TIME,LATITUDE,LONGITUDE,DEPTH,CTDRAW,CTDPRS,CTDTMP,CTDSAL,CTDSAL_FLAG_W,SALNTY,SALNTY_FLAG_W,CTDOXY,CTDOXY_FLAG_W,THETA,OXYGEN,OXYGEN_FLAG_W,SILCAT,SILCAT_FLAG_W,NITRAT,NITRAT_FLAG_W,NITRIT,NITRIT_FLAG_W,PHSPHT,PHSPHT_FLAG_W,TRITUM,TRITUM_FLAG_W,TCARBN,TCARBN_FLAG_W,REVPRS,REVPRS_FLAG_W,TRITER,REVTMP,REVTMP_FLAG_W
,,,,,,,,,,,,,DBAR,ITS-90,PSS-78,,PSS-78,,UMOL/KG,,DEG C,UMOL/KG,,UMOL/KG,,UMOL/KG,,UMOL/KG,,UMOL/KG,,TU,,UMOL/KG,,DBAR,,TU,ITS-90,
  316N198212_2, ATAS2,    61,  1,      1,      1,2,19830103,1703,  5.9633, -41.3450, 4680,   26.9,      3.0,  27.0757,  35.8034,2,  35.8030,2,   -999.0,9, 27.0750,    200.3,2,     1.07,2,     0.01,2,     0.00,2,  -999.00,9, -999.000,9,   -999.0,9,  -999.0,9,-999.000,  27.076,2
  316N198212_2, ATAS2,    61,  1,     31,     31,2,19830103,1703,  5.9633, -41.3450, 4680,   96.8,     78.0,  27.0367,  36.2110,2,  36.2060,2,   -999.0,9, 27.0187,    197.6,2,     1.17,2,     0.01,2,     0.15,2,  -999.00,9, -999.000,9,   -999.0,9,  -999.0,9,-999.000,-999.000,9
  316N198212_2, ATAS2,    61,  1,      3,      3,2,19830103,1703,  5.9633, -41.3450, 4680,  149.4,    133.0,  24.2487,  36.3898,2,  36.3760,2,   -999.0,9, 24.2204,    179.1,2,     1.95,2,     2.74,2,     0.03,2,     0.26,2, -999.000,9,   -999.0,9,  -999.0,9,-999.000,-999.000,9
  316N198212_2, ATAS2,    61,  1,      4,      4,2,19830103,1703,  5.9633, -41.3450, 4680,  188.6,    175.0,  15.1839,  35.7169,2,  35.7170,2,   -999.0,9, 15.1571,    118.3,2,     7.03,2,    18.65,2,     0.01,2,     1.16,2, -999.000,9,   -999.0,9,  -999.0,9,-999.000,-999.000,9
  316N198212_2, ATAS2,    61,  1,      5,      5,2,19830103,1703,  5.9633, -41.3450, 4680,  220.9,    209.0,  11.1870,  35.1001,2,  35.1070,2,   -999.0,9, 11.1609,    142.7,2,    10.16,2,    21.79,2,     0.00,2,     1.44,2, -999.000,9,   -999.0,9,  -999.0,9,-999.000,-999.000,9
  316N198212_2, ATAS2,    61,  1,      6,      6,2,19830103,1703,  5.9633, -41.3450, 4680,  262.1,    250.0,   9.5700,  34.8856,2,  34.8880,2,   -999.0,9,  9.5418,    140.0,2,    13.29,2,    25.41,2,     0.00,2,     1.66,2, -999.000,9,   -999.0,9,  -999.0,9,-999.000,-999.000,9
  316N198212_2, ATAS2,    61,  1,      7,      7,2,19830103,1703,  5.9633, -41.3450, 4680,  292.7,    280.0,   9.2720,  34.8567,2,  34.8590,2,   -999.0,9,  9.2409,    137.4,2,    14.07,2,    26.58,2,     0.00,2,     1.73,2, -999.000,9,   -999.0,9,  -999.0,9,-999.000,-999.000,9
  316N198212_2, ATAS2,    61,  1,      8,      8,2,19830103,1703,  5.9633, -41.3450, 4680,  314.4,    307.0,   9.0320,  34.8299,2,  34.8390,2,   -999.0,9,  8.9985,    134.4,2,    14.37,2,    27.27,2,     0.00,2,     1.77,2, -999.000,9,   -999.0,9,  -999.0,9,-999.000,-999.000,9
  316N198212_2, ATAS2,    61,  1,      9,      9,2,19830103,1703,  5.9633, -41.3450, 4680,  349.8,    346.0,   8.5040,  34.7755,2,  34.7800,2,   -999.0,9,  8.4675,    126.1,2,    16.13,2,    29.42,2,     0.00,2,     1.90,2, -999.000,9,   -999.0,9,  -999.0,9,-999.000,-999.000,9
  316N198212_2, ATAS2,    61,  1,     10,     10,2,19830103,1703,  5.9633, -41.3450, 4680,  379.6,    376.0,   8.3070,  34.7599,2,  34.7710,2,   -999.0,9,  8.2678,    132.2,2,    16.32,2,    28.93,2,     0.00,2,     1.87,2, -999.000,9,   -999.0,9,  -999.0,9,-999.000,-999.000,9
  316N198212_2, ATAS2,    61,  1,     11,     11,2,19830103,1703,  5.9633, -41.3450, 4680,  471.1,    466.0,   7.4661,  34.6974,2,  34.7000,2,   -999.0,9,  7.4201,    104.8,2,    19.55,2,    29.91,2,     0.00,2,     2.15,2, -999.000,9,   -999.0,9,   466.0,2,-999.000,   7.445,2
  316N198212_2, ATAS2,    61,  1,     12,     12,2,19830103,1703,  5.9633, -41.3450, 4680,  613.4,    603.1,   6.2951,  34.5983,2,  34.5990,2,   -999.0,9,  6.2405,    120.4,2,    23.46,2,    34.70,2,     0.00,2,     2.23,2, -999.000,9,   -999.0,9,  -999.0,9,-999.000,-999.000,9
  316N198212_2, ATAS2,    61,  1,     13,     13,2,19830103,1703,  5.9633, -41.3450, 4680,  763.7,    753.6,   5.4741,  34.5772,2,  34.5760,2,   -999.0,9,  5.4098,    133.9,2,    27.27,2,    34.80,2,     0.00,2,     2.27,2, -999.000,9,   -999.0,9,  -999.0,9,-999.000,-999.000,9
  316N198212_2, ATAS2,    61,  1,     14,     14,2,19830103,1703,  5.9633, -41.3450, 4680,  914.3,    904.5,   5.0291,  34.6046,2,  34.6060,2,   -999.0,9,  4.9540,    139.1,2,    29.03,2,    34.41,2,     0.00,2,     2.26,2, -999.000,9,   -999.0,9,  -999.0,9,-999.000,-999.000,9
  316N198212_2, ATAS2,    61,  1,     15,     15,2,19830103,1703,  5.9633, -41.3450, 4680, 1114.7,   1105.1,   4.7981,  34.7427,2,  34.7420,2,   -999.0,9,  4.7065,    158.2,2,    27.46,2,    31.28,2,     0.00,2,     2.06,2, -999.000,9,   -999.0,9,  -999.0,9,-999.000,-999.000,9
  316N198212_2, ATAS2,    61,  1,     16,     16,2,19830103,1703,  5.9633, -41.3450, 4680, 1314.1,   1305.1,   4.5971,  34.9016,2,  34.9010,2,   -999.0,9,  4.4887,    195.6,2,    22.18,2,    25.70,2,     0.00,2,  -999.00,9, -999.000,9,   -999.0,9,  -999.0,9,-999.000,-999.000,9
  316N198212_2, ATAS2,    61,  1,     17,     17,2,19830103,1703,  5.9633, -41.3450, 4680, 1512.2,   1503.6,   4.4081,  34.9590,2,  34.9620,2,   -999.0,9,  4.2830,    223.4,2,    18.47,2,    22.28,2,     0.00,2,  -999.00,9, -999.000,9,   -999.0,9,  1512.0,2,-999.000,   4.412,2
  316N198212_2, ATAS2,    61,  1,     18,     18,2,19830103,1703,  5.9633, -41.3450, 4680, 1812.6,   1805.4,   3.9021,  34.9796,2,  34.9790,2,   -999.0,9,  3.7547,    251.6,2,    16.51,2,    19.64,2,     0.00,2,  -999.00,9, -999.000,9,   -999.0,9,  -999.0,9,-999.000,-999.000,9
  316N198212_2, ATAS2,    61,  1,     19,     19,2,19830103,1703,  5.9633, -41.3450, 4680, 2112.8,   2106.9,   3.4821,  34.9673,2,  34.9680,2,   -999.0,9,  3.3121,    258.5,2,    19.54,2,    19.35,2,     0.00,2,  -999.00,9, -999.000,9,   -999.0,9,  2110.0,2,-999.000,   3.476,2
  316N198212_2, ATAS2,    61,  1,     20,     20,2,19830103,1703,  5.9633, -41.3450, 4680, 2514.1,   2510.1,   3.0261,  34.9443,2,  34.9430,2,   -999.0,9,  2.8247,    258.5,2,    25.60,2,    19.74,2,     0.00,2,  -999.00,9, -999.000,9,   -999.0,9,  -999.0,9,-999.000,-999.000,9
  316N198212_2, ATAS2,    61,  1,     21,     21,2,19830103,1703,  5.9633, -41.3450, 4680, 2913.8,   2911.7,   2.7822,  34.9298,2,  34.9280,2,   -999.0,9,  2.5452,    257.2,2,    30.49,2,    20.13,2,     0.00,2,  -999.00,9, -999.000,9,   -999.0,9,  -999.0,9,-999.000,   2.783,2
  316N198212_2, ATAS2,    61,  1,     22,     22,2,19830103,1703,  5.9633, -41.3450, 4680, 4429.0,   4433.8,   1.7222,  34.8278,2,  34.8240,2,   -999.0,9,  1.3470,    247.2,2,    66.16,2,    24.34,2,     0.00,2,  -999.00,9, -999.000,9,   -999.0,9,  -999.0,9,-999.000,-999.000,9
  316N198212_2, ATAS2,    61,  1,     23,     23,2,19830103,1703,  5.9633, -41.3450, 4680, 4751.7,   4757.9,   1.4822,  34.7967,2,  34.7940,2,   -999.0,9,  1.0768,    239.4,2,    79.26,2,    26.29,2,     0.00,2,  -999.00,9, -999.000,9,   -999.0,9,  4749.0,2,-999.000,   1.485,2
  316N198212_2, ATAS2,    63,  1,      1,      1,2,19830104,1926,  7.7183, -40.6900, 4820,   27.0,      2.0,  26.8876,  36.0828,2,  36.0800,2,   -999.0,9, 26.8871,    201.6,2,     1.66,2,     0.00,2,     0.00,2,     0.08,2,    1.230,2,   2011.0,2,  -999.0,9,   0.070,-999.000,9
  316N198212_2, ATAS2,    63,  1,      2,      2,2,19830104,1926,  7.7183, -40.6900, 4820,  103.9,     91.0,  18.7807,  36.1077,2,  36.1090,2,   -999.0,9, 18.7646,    122.3,2,     4.88,2,    13.18,2,     0.04,2,     0.83,2,    1.770,2,   2145.0,2,  -999.0,9,   0.090,-999.000,9
  316N198212_2, ATAS2,    63,  1,      3,      3,2,19830104,1926,  7.7183, -40.6900, 4820,  153.0,    142.0,  11.9189,  35.2178,2,  35.2190,2,   -999.0,9, 11.9004,    102.6,2,    10.75,2,    25.11,2,     0.00,2,     1.58,2,    0.710,2,   2193.0,2,  -999.0,9,   0.050,-999.000,9
  316N198212_2, ATAS2,    63,  1,     31,     31,2,19830104,1926,  7.7183, -40.6900, 4820,  208.5,    199.0,  10.3499,  35.0117,2,  35.0060,2,   -999.0,9, 10.3263,    116.6,2,    12.90,2,    26.68,2,     0.00,2,     1.70,2, -999.000,9,   -999.0,9,  -999.0,9,-999.000,-999.000,9
  316N198212_2, ATAS2,    63,  1,      5,      5,2,19830104,1926,  7.7183, -40.6900, 4820,  268.2,    259.0,   9.2599,  34.8724,2,  34.8730,2,   -999.0,9,  9.2312,    117.0,2,    14.95,2,    28.54,2,     0.00,2,     1.82,2,    0.290,2,   2195.0,2,  -999.0,9,   0.033,-999.000,9
  316N198212_2, ATAS2,    63,  1,      6,      6,2,19830104,1926,  7.7183, -40.6900, 4820,  336.7,    329.0,   8.6209,  34.8086,2,  34.8110,2,   -999.0,9,  8.5859,    110.9,2,    16.81,2,    30.69,2,     0.00,2,     1.94,2,    0.165,2,   2206.0,2,  -999.0,9,   0.024,-999.000,9
  316N198212_2, ATAS2,    63,  1,     32,     32,2,19830104,1926,  7.7183, -40.6900, 4820,  404.0,    398.0,   7.9989,  34.7499,2,  34.7550,2,   -999.0,9,  7.9583,    110.0,2,    18.28,2,    32.16,2,     0.00,2,     2.04,2, -999.000,9,   -999.0,9,  -999.0,9,-999.000,-999.000,9
  316N198212_2, ATAS2,    63,  1,      8,      8,2,19830104,1926,  7.7183, -40.6900, 4820,  452.2,    447.0,   7.4639,  34.6960,2,  34.6980,2,   -999.0,9,  7.4200,    117.0,2,    20.04,2,    32.74,2,     0.00,2,     2.08,2,    0.116,2,   2213.0,2,  -999.0,9,   0.028,-999.000,9
  316N198212_2, ATAS2,    63,  1,      9,      9,2,19830104,1926,  7.7183, -40.6900, 4820,  501.1,    496.0,   6.9830,  34.6477,2,  34.6500,2,   -999.0,9,  6.9358,    125.2,2,    21.02,2,    32.74,2,     0.00,2,     2.10,2,    0.001,2,   2215.0,2,  -999.0,9,   0.024,-999.000,9
  316N198212_2, ATAS2,    63,  1,     33,     33,2,19830104,1926,  7.7183, -40.6900, 4820,  601.7,    590.9,   6.3580,  34.6158,2,  34.6170,2,   -999.0,9,  6.3042,    131.7,2,    23.46,2,    33.62,2,     0.00,2,     2.17,2, -999.000,9,   -999.0,9,   595.0,2,-999.000,   6.379,2
  316N198212_2, ATAS2,    63,  1,     11,     11,2,19830104,1926,  7.7183, -40.6900, 4820,  698.5,    687.8,   5.8870,  34.6101,2,  34.6110,2,   -999.0,9,  5.8264,    126.5,2,    25.61,2,    34.60,2,     0.00,2,     2.25,2,   -0.025,2,   2217.0,2,  -999.0,9,   0.024,-999.000,9
  316N198212_2, ATAS2,    63,  1,     34,     34,2,19830104,1926,  7.7183, -40.6900, 4820,  798.0,    787.6,   5.2930,  34.6072,2,  34.6100,2,   -999.0,9,  5.2267,    134.8,2,    28.35,2,    34.60,2,     0.00,2,     2.26,2, -999.000,9,   -999.0,9,  -999.0,9,-999.000,-999.000,9
  316N198212_2, ATAS2,    63,  1,     13,     13,2,19830104,1926,  7.7183, -40.6900, 4820,  897.0,    886.8,   4.9680,  34.6330,2,  34.6310,2,   -999.0,9,  4.8949,    143.0,2,    29.32,2,    33.82,2,     0.00,2,     2.24,2, -999.000,9,   -999.0,9,  -999.0,9,-999.000,-999.000,9
  316N198212_2, ATAS2,    63,  1,     35,     35,2,19830104,1926,  7.7183, -40.6900, 4820,  995.6,    985.4,   4.8900,  34.7026,2,  34.7040,2,   -999.0,9,  4.8085,    150.0,2,    28.44,2,    32.35,2,     0.00,2,     2.15,2, -999.000,9,   -999.0,9,  -999.0,9,-999.000,-999.000,9
  316N198212_2, ATAS2,    63,  1,     15,     15,2,19830104,1926,  7.7183, -40.6900, 4820, 1199.9,   1190.1,   4.8510,  34.8714,2,  34.8690,2,   -999.0,9,  4.7509,    182.1,2,    23.45,2,    27.27,2,     0.00,2,     1.82,2, -999.000,9,   -999.0,9,  -999.0,9,-999.000,-999.000,9
  316N198212_2, ATAS2,    63,  1,     16,     16,2,19830104,1926,  7.7183, -40.6900, 4820, 1406.3,   1397.2,   4.4910,  34.9641,2,  34.9630,2,   -999.0,9,  4.3749,    221.6,2,    19.25,2,    19.94,2,     0.00,2,     1.33,2, -999.000,9,   -999.0,9,  -999.0,9,-999.000,-999.000,9
  316N198212_2, ATAS2,    63,  1,     17,     17,2,19830104,1926,  7.7183, -40.6900, 4820, 1660.3,   1651.7,   4.0900,  34.9824,2,  34.9810,2,   -999.0,9,  3.9547,    242.9,2,    17.10,2,    20.33,2,     0.00,2,     1.35,2, -999.000,9,   -999.0,9,  1665.0,2,-999.000,   4.090,2
  316N198212_2, ATAS2,    63,  1,     36,     36,2,19830104,1926,  7.7183, -40.6900, 4820, 2008.3,   2001.4,   3.5530,  34.9693,2,-999.0000,9,   -999.0,9,  3.3920,   -999.0,9,    19.35,2,    19.94,2,     0.00,2,     1.32,2, -999.000,9,   -999.0,9,  -999.0,9,-999.000,-999.000,9
  316N198212_2, ATAS2,    63,  1,     19,     19,2,19830104,1926,  7.7183, -40.6900, 4820, 2439.8,   2434.9,   3.1070,  34.9515,2,  34.9480,2,   -999.0,9,  2.9115,    256.3,2,    24.72,2,    19.74,2,     0.00,2,     1.32,2, -999.000,9,   -999.0,9,  2437.0,2,-999.000,   3.108,2
  316N198212_2, ATAS2,    63,  1,     37,     37,2,19830104,1926,  7.7183, -40.6900, 4820, 2949.4,   2946.8,   2.8540,  34.9367,2,  34.9380,2,   -999.0,9,  2.6119,    260.3,2,    28.24,2,    19.74,2,     0.00,2,     1.34,2, -999.000,9,   -999.0,9,  -999.0,9,-999.000,-999.000,9
  316N198212_2, ATAS2,    63,  1,     38,     38,2,19830104,1926,  7.7183, -40.6900, 4820, 3944.2,   3946.0,   2.2110,  34.8884,2,  34.8890,2,   -999.0,9,  1.8770,    260.2,2,    39.77,2,    20.42,2,     0.00,2,     1.40,2, -999.000,9,   -999.0,9,  3943.0,2,-999.000,   2.211,2
  316N198212_2, ATAS2,    63,  1,     39,     39,2,19830104,1926,  7.7183, -40.6900, 4820, 4344.3,   4347.9,   1.8901,  34.8496,2,-999.0000,9,   -999.0,9,  1.5196,   -999.0,9,    51.11,2,    23.16,2,     0.00,2,     1.58,2, -999.000,9,   -999.0,9,  -999.0,9,-999.000,-999.000,9
  316N198212_2, ATAS2,    63,  1,     40,     40,2,19830104,1926,  7.7183, -40.6900, 4820, 4891.6,   4897.6,   1.6591,  34.8157,2,  34.8150,2,   -999.0,9,  1.2310,    242.0,2,    70.56,2,    25.12,2,     0.00,2,     1.72,2, -999.000,9,   -999.0,9,  4890.0,2,-999.000,   1.662,2
  316N198212_2, ATAS2,    64,  1,      1,      1,2,19830105,1406,  8.9000, -40.0983, 3509,   26.8,      2.0,  25.2435,  36.0819,2,  36.0850,2,   -999.0,9, 25.2431,    209.8,2,  -999.00,9,  -999.00,9,  -999.00,9,  -999.00,9,    1.470,2,   2010.0,2,  -999.0,9,   0.070,  25.241,2
  316N198212_2, ATAS2,    64,  1,      2,      2,2,19830105,1406,  8.9000, -40.0983, 3509,   83.4,     62.5,  25.1905,  36.0903,2,  36.0820,2,   -999.0,9, 25.1769,    206.3,2,     0.88,2,     0.00,2,     0.00,2,     0.08,2, -999.000,9,   -999.0,9,  -999.0,9,-999.000,-999.000,9
  316N198212_2, ATAS2,    64,  1,      3,      3,2,19830105,1406,  8.9000, -40.0983, 3509,  120.5,    112.0,  19.1457,  35.9447,2,  35.9450,2,   -999.0,9, 19.1255,    129.7,2,     4.98,2,    12.30,2,     0.08,2,     0.80,2,    1.530,2,   2131.0,2,  -999.0,9,   0.070,-999.000,9
  316N198212_2, ATAS2,    64,  1,     31,     31,2,19830105,1406,  8.9000, -40.0983, 3509,  155.0,    147.0,  14.7717,  35.5431,2,  35.5310,2,   -999.0,9, 14.7496,    121.4,2,     8.11,2,    19.34,2,     0.03,2,     1.25,2,    0.900,2,   2167.0,2,  -999.0,9,   0.050,-999.000,9
  316N198212_2, ATAS2,    64,  1,      5,      5,2,19830105,1406,  8.9000, -40.0983, 3509,  180.1,    173.0,  11.8498,  35.2020,2,  35.2050,2,   -999.0,9, 11.8274,    122.2,2,    10.55,2,    23.25,2,     0.01,2,     1.49,2, -999.000,9,   -999.0,9,  -999.0,9,-999.000,-999.000,9
  316N198212_2, ATAS2,    64,  1,      6,      6,2,19830105,1406,  8.9000, -40.0983, 3509,  209.8,    202.0,  10.9258,  35.0813,2,  35.0830,2,   -999.0,9, 10.9010,    120.0,2,    11.82,2,    25.01,2,     0.00,2,     1.60,2,    0.532,2,   -999.0,9,  -999.0,9,   0.044,-999.000,9
  316N198212_2, ATAS2,    64,  1,     32,     32,2,19830105,1406,  8.9000, -40.0983, 3509,  241.8,    235.0,  10.2818,  34.9981,2,  35.0030,2,   -999.0,9, 10.2540,    115.7,2,    13.00,2,    26.58,2,     0.00,2,     1.69,2, -999.000,9,   -999.0,9,  -999.0,9,-999.000,-999.000,9
  316N198212_2, ATAS2,    64,  1,      8,      8,2,19830105,1406,  8.9000, -40.0983, 3509,  275.5,    268.0,   9.9998,  34.9645,2,  34.9640,2,   -999.0,9,  9.9686,    112.6,2,    13.58,2,    27.66,2,     0.00,2,     1.75,2, -999.000,9,   -999.0,9,  -999.0,9,-999.000,-999.000,9
  316N198212_2, ATAS2,    64,  1,      9,      9,2,19830105,1406,  8.9000, -40.0983, 3509,  312.1,    305.0,   9.5708,  34.9086,2,  34.9090,2,   -999.0,9,  9.5363,    117.8,2,    14.17,2,    27.95,2,     0.00,2,     1.78,2,    0.325,2,   -999.0,9,  -999.0,9,   0.024,-999.000,9
  316N198212_2, ATAS2,    64,  1,     33,     33,2,19830105,1406,  8.9000, -40.0983, 3509,  347.1,    340.0,   9.2319,  34.8749,2,  34.8780,2,   -999.0,9,  9.1941,    110.9,2,    15.15,2,    29.32,2,     0.00,2,     1.87,2, -999.000,9,   -999.0,9,  -999.0,9,-999.000,-999.000,9
  316N198212_2, ATAS2,    64,  1,     11,     11,2,19830105,1406,  8.9000, -40.0983, 3509,  407.4,    401.0,   8.5659,  34.8133,2,  34.8130,2,   -999.0,9,  8.5232,    101.3,2,    17.20,2,    31.96,2,     0.00,2,     2.01,2,    0.140,2,   -999.0,9,  -999.0,9,   0.024,-999.000,9
  316N198212_2, ATAS2,    64,  1,     34,     34,2,19830105,1406,  8.9000, -40.0983, 3509,  483.0,    471.1,   7.8919,  34.7442,2,  34.7500,2,   -999.0,9,  7.8439,    107.8,2,    18.96,2,    32.64,2,     0.00,2,     2.06,2,    0.045,2,   -999.0,9,  -999.0,9,   0.024,-999.000,9
  316N198212_2, ATAS2,    64,  1,     13,     13,2,19830105,1406,  8.9000, -40.0983, 3509,  578.1,    566.2,   7.4869,  34.7378,2,  34.7340,2,   -999.0,9,  7.4306,    105.7,2,    20.33,2,    33.72,2,     0.00,2,     2.12,2,    0.037,2,   -999.0,9,  -999.0,9,   0.019,-999.000,9
  316N198212_2, ATAS2,    64,  1,     35,     35,2,19830105,1406,  8.9000, -40.0983, 3509,  792.3,    781.1,   5.5589,  34.6344,2,  34.6340,2,   -999.0,9,  5.4916,    126.1,2,    27.47,2,    34.99,2,     0.00,2,     2.27,2, -999.000,9,   -999.0,9,  -999.0,9,-999.000,-999.000,9
  316N198212_2, ATAS2,    64,  1,     15,     15,2,19830105,1406,  8.9000, -40.0983, 3509,  954.3,    944.1,   5.0009,  34.7066,2,  34.7030,2,   -999.0,9,  4.9223,    142.6,2,    28.54,2,    33.13,2,     0.00,2,     2.18,2, -999.000,9,   -999.0,9,  -999.0,9,-999.000,-999.000,9
  316N198212_2, ATAS2,    64,  1,     16,     16,2,19830105,1406,  8.9000, -40.0983, 3509, 1199.0,   1190.1,   4.8169,  34.9023,2,  34.8930,2,   -999.0,9,  4.7170,    185.1,2,    22.97,2,    26.87,2,     0.00,2,     1.77,2, -999.000,9,   -999.0,9,  -999.0,9,-999.000,-999.000,9
  316N198212_2, ATAS2,    64,  1,     17,     17,2,19830105,1406,  8.9000, -40.0983, 3509, 1417.8,   1410.1,   4.4939,  34.9666,2,  34.9650,2,   -999.0,9,  4.3766,    220.7,2,    19.06,2,    22.57,2,     0.00,2,     1.50,2, -999.000,9,   -999.0,9,  1412.0,2,-999.000,   4.500,2
  316N198212_2, ATAS2,    64,  1,     36,     36,2,19830105,1406,  8.9000, -40.0983, 3509, 1644.3,   1637.9,   4.1049,  34.9796,2,  34.9810,2,   -999.0,9,  3.9707,    241.6,2,    17.49,2,    20.52,2,     0.00,2,     1.38,2, -999.000,9,   -999.0,9,  -999.0,9,-999.000,-999.000,9
  316N198212_2, ATAS2,    64,  1,     19,     19,2,19830105,1406,  8.9000, -40.0983, 3509, 1899.4,   1894.3,   3.7440,  34.9756,2,  34.9740,2,   -999.0,9,  3.5903,   -999.0,9,  -999.00,9,  -999.00,9,  -999.00,9,  -999.00,9, -999.000,9,   -999.0,9,  1893.0,2,-999.000,   3.740,2
  316N198212_2, ATAS2,    64,  1,     37,     37,2,19830105,1406,  8.9000, -40.0983, 3509, 1901.9,   1896.9,   3.7430,  34.9754,2,-999.0000,9,   -999.0,9,  3.5891,   -999.0,9,  -999.00,9,  -999.00,9,  -999.00,9,  -999.00,9, -999.000,9,   -999.0,9,  -999.0,9,-999.000,-999.000,9
  316N198212_2, ATAS2,    64,  1,     38,     38,2,19830105,1406,  8.9000, -40.0983, 3509, 2050.6,   2046.4,   3.6360,  34.9720,2,  34.9720,2,   -999.0,9,  3.4694,    254.2,2,    19.15,2,    19.64,2,     0.00,2,     1.31,2, -999.000,9,   -999.0,9,  -999.0,9,-999.000,-999.000,9
  316N198212_2, ATAS2,    64,  1,     39,     39,2,19830105,1406,  8.9000, -40.0983, 3509, 2178.4,   2174.9,   3.3720,  34.9619,2,  34.9620,2,   -999.0,9,  3.1972,    253.7,2,    21.79,2,    19.74,2,     0.00,2,     1.32,2, -999.000,9,   -999.0,9,  -999.0,9,-999.000,-999.000,9
  316N198212_2, ATAS2,    64,  1,     40,     40,2,19830105,1406,  8.9000, -40.0983, 3509, 2376.6,   2374.2,   3.2220,  34.9552,2,  34.9560,2,   -999.0,9,  3.0303,    253.7,2,    23.94,2,    19.74,2,     0.00,2,     1.32,2, -999.000,9,   -999.0,9,  2370.0,2,-999.000,   3.212,2