BOTTLE,20220818CCHSIOAMB
EXPOCODE,SECT_ID,STNNBR,CASTNO,SAMPNO,BTLNBR,BTLNBR_FLAG_W,DATE,TIME,LATITUDE,LONGITUDE,DEPTH,CTDRAW,CTDPRS,CTDTMP,CTDSAL,CTDSAL_FLAG_W,SALNTY,SALNTY_FLAG_W,CTDOXY,CTDOXY_FLAG_W,THETA,OXYGEN,OXYGEN_FLAG_W,SILCAT,SILCAT_FLAG_W,NITRAT,NITRAT_FLAG_W,NITRIT,NITRIT_FLAG_W,PHSPHT,PHSPHT_FLAG_W,TRITUM,TRITUM_FLAG_W,TCARBN,TCARBN_FLAG_W,REVPRS,REVPRS_FLAG_W,TRITER,REVTMP,REVTMP_FLAG_W
,,,,,,,,,,,,,DBAR,ITS-90,PSS-78,,PSS-78,,UMOL/KG,,DEG C,UMOL/KG,,UMOL/KG,,UMOL/KG,,UMOL/KG,,UMOL/KG,,TU,,UMOL/KG,,DBAR,,TU,ITS-90,
  316N198212_2, ATAS2,    71,  1,      2,      2,2,19830109,1655, 17.0983, -38.9450, 5409,  104.1,     80.0,  24.1411,  37.2448,2,  37.2350,2,   -999.0,9, 24.1241,    211.7,2,     0.88,2,     0.00,2,     0.00,2,     0.03,2, -999.000,9,   -999.0,9,  -999.0,9,-999.000,-999.000,9
  316N198212_2, ATAS2,    71,  1,      3,      3,2,19830109,1655, 17.0983, -38.9450, 5409,  137.7,    114.0,  22.5792,  37.3300,2,  37.3270,2,   -999.0,9, 22.5560,    208.5,2,     0.88,2,     0.00,2,     0.05,2,     0.02,2,    3.360,2,   2087.0,2,  -999.0,9,   0.110,-999.000,9
  316N198212_2, ATAS2,    71,  1,      4,      4,2,19830109,1655, 17.0983, -38.9450, 5409,  171.3,    148.0,  21.1092,  37.1320,2,  37.1320,2,   -999.0,9, 21.0805,    187.1,2,     1.07,2,     1.88,2,     0.03,2,     0.13,2,    3.220,2,   2123.0,2,  -999.0,9,   0.110,-999.000,9
  316N198212_2, ATAS2,    71,  1,      5,      5,2,19830109,1655, 17.0983, -38.9450, 5409,  208.3,    186.0,  19.0192,  36.7606,2,  36.7580,2,   -999.0,9, 18.9857,    172.3,2,     1.95,2,     5.60,2,     0.01,2,     0.31,2,    3.360,2,   2121.0,2,  -999.0,9,   0.120,-999.000,9
  316N198212_2, ATAS2,    71,  1,      6,      6,2,19830109,1655, 17.0983, -38.9450, 5409,  273.7,    252.0,  15.9323,  36.1392,2,  36.1450,2,   -999.0,9, 15.8921,    130.5,2,     4.59,2,    14.65,2,     0.01,2,     0.87,2,    2.640,2,   2166.0,2,  -999.0,9,   0.100,-999.000,9
  316N198212_2, ATAS2,    71,  1,      7,      7,2,19830109,1655, 17.0983, -38.9450, 5409,  327.4,    306.0,  14.1403,  35.8146,2,  35.8130,2,   -999.0,9, 14.0953,    100.9,2,     7.03,2,    20.51,2,     0.00,2,     1.23,2,    2.350,2,   2180.0,2,  -999.0,9,   0.073,-999.000,9
  316N198212_2, ATAS2,    71,  1,      8,      8,2,19830109,1655, 17.0983, -38.9450, 5409,  382.2,    362.0,  13.1624,  35.6866,2,  35.6830,2,   -999.0,9, 13.1115,     98.3,2,     8.11,2,    22.56,2,     0.00,2,     1.33,2,    2.130,2,   2195.0,2,  -999.0,9,   0.090,-999.000,9
  316N198212_2, ATAS2,    71,  1,      9,      9,2,19830109,1655, 17.0983, -38.9450, 5409,  417.2,    397.0,  12.5644,  35.6017,2,  35.6000,2,   -999.0,9, 12.5103,     95.7,2,     9.08,2,    23.83,2,     0.00,2,     1.42,2,    1.767,2,   2192.0,2,  -999.0,9,   0.061,-999.000,9
  316N198212_2, ATAS2,    71,  1,     10,     10,2,19830109,1655, 17.0983, -38.9450, 5409,  466.8,    447.0,  11.9034,  35.5135,2,  35.5180,2,   -999.0,9, 11.8445,     93.9,2,    10.16,2,    25.30,2,     0.00,2,     1.50,2,    1.530,2,   2203.0,2,  -999.0,9,   0.080,-999.000,9
  316N198212_2, ATAS2,    71,  1,     11,     11,2,19830109,1655, 17.0983, -38.9450, 5409,  496.3,    477.0,  11.3794,  35.4429,2,  35.4430,2,   -999.0,9, 11.3182,     92.6,2,    11.14,2,    26.47,2,     0.00,2,     1.58,2, -999.000,9,   -999.0,9,   487.0,2,-999.000,  11.379,2
  316N198212_2, ATAS2,    71,  1,     12,     12,2,19830109,1655, 17.0983, -38.9450, 5409,  564.0,    553.1,  10.0844,  35.2620,2,  35.2610,2,   -999.0,9, 10.0185,     83.9,2,    14.26,2,    29.90,2,     0.00,2,     1.82,2,    0.515,2,   -999.0,9,  -999.0,9,   0.033,-999.000,9
  316N198212_2, ATAS2,    71,  1,     13,     13,2,19830109,1655, 17.0983, -38.9450, 5409,  662.7,    652.2,   8.6294,  35.0846,2,  35.0850,2,   -999.0,9,  8.5584,     93.5,2,    17.98,2,    31.66,2,     0.00,2,     1.97,2,    0.183,2,   -999.0,9,  -999.0,9,   0.028,-999.000,9
  316N198212_2, ATAS2,    71,  1,     14,     14,2,19830109,1655, 17.0983, -38.9450, 5409,  747.3,    737.2,   7.5955,  34.9770,2,  34.9790,2,   -999.0,9,  7.5205,    106.5,2,    20.23,2,    32.15,2,     0.00,2,     2.04,2, -999.000,9,   -999.0,9,  -999.0,9,-999.000,-999.000,9
  316N198212_2, ATAS2,    71,  1,     15,     15,2,19830109,1655, 17.0983, -38.9450, 5409,  852.0,    842.4,   6.6425,  34.8912,2,  34.8910,2,   -999.0,9,  6.5623,    116.9,2,    23.06,2,    32.45,2,     0.00,2,     2.08,2, -999.000,9,   -999.0,9,  -999.0,9,-999.000,-999.000,9
  316N198212_2, ATAS2,    71,  1,     16,     16,2,19830109,1655, 17.0983, -38.9450, 5409,  957.5,    948.2,   6.1005,  34.8948,2,  34.8940,2,   -999.0,9,  6.0134,    130.8,2,    23.36,2,    31.37,2,     0.00,2,     2.03,2, -999.000,9,   -999.0,9,  -999.0,9,-999.000,-999.000,9
  316N198212_2, ATAS2,    71,  1,     17,     17,2,19830109,1655, 17.0983, -38.9450, 5409, 1177.5,   1168.8,   5.4265,  34.9693,2,  34.9710,2,   -999.0,9,  5.3231,    169.9,2,    21.99,2,    27.17,2,     0.00,2,     1.79,2, -999.000,9,   -999.0,9,  1176.0,2,-999.000,   5.428,2
  316N198212_2, ATAS2,    71,  1,     18,     18,2,19830109,1655, 17.0983, -38.9450, 5409, 1385.8,   1377.9,   4.8305,  35.0055,2,  35.0060,2,   -999.0,9,  4.7126,    200.8,2,    20.23,2,    23.94,2,     0.00,2,     1.59,2, -999.000,9,   -999.0,9,  -999.0,9,-999.000,-999.000,9
  316N198212_2, ATAS2,    71,  1,     19,     19,2,19830109,1655, 17.0983, -38.9450, 5409, 1605.4,   1597.8,   4.2465,  35.0029,2,  35.0030,2,   -999.0,9,  4.1143,    225.1,2,    19.93,2,    21.89,2,     0.00,2,     1.45,2, -999.000,9,   -999.0,9,  1601.0,2,-999.000,   4.245,2
  316N198212_2, ATAS2,    71,  1,     20,     20,2,19830109,1655, 17.0983, -38.9450, 5409, 1917.7,   1911.4,   3.6345,  34.9791,2,  34.9780,2,   -999.0,9,  3.4808,    243.8,2,    21.40,2,    20.42,2,     0.00,2,     1.37,2, -999.000,9,   -999.0,9,  -999.0,9,-999.000,-999.000,9
  316N198212_2, ATAS2,    71,  1,     21,     21,2,19830109,1655, 17.0983, -38.9450, 5409, 2219.7,   2214.6,   3.3025,  34.9621,2,  34.9610,2,   -999.0,9,  3.1250,    251.1,2,    24.23,2,    20.13,2,     0.00,2,     1.35,2, -999.000,9,   -999.0,9,  2217.0,2,-999.000,   3.300,2
  316N198212_2, ATAS2,    71,  1,     22,     22,2,19830109,1655, 17.0983, -38.9450, 5409, 3330.3,   3329.4,   2.5806,  34.9197,2,  34.9160,2,   -999.0,9,  2.3045,    249.0,2,    39.09,2,    21.30,2,     0.00,2,     1.45,2, -999.000,9,   -999.0,9,  -999.0,9,-999.000,-999.000,9
  316N198212_2, ATAS2,    71,  1,     23,     23,2,19830109,1655, 17.0983, -38.9450, 5409, 5446.5,   5453.6,   2.3556,  34.8733,2,  34.8740,2,   -999.0,9,  1.8326,    251.1,2,    49.25,2,    22.28,2,     0.00,2,     1.51,2, -999.000,9,   -999.0,9,  5451.0,2,-999.000,   2.357,2
  316N198212_2, ATAS2,    72,  1,      1,      1,2,19830110,0651, 18.5783, -38.8467, 5168,   17.8,      1.0,  24.1761,  37.1448,2,  37.1450,2,   -999.0,9, 24.1759,    209.1,2,     1.37,2,     0.03,2,     0.00,2,     0.04,2, -999.000,9,   -999.0,9,  -999.0,9,-999.000,  24.180,2
  316N198212_2, ATAS2,    72,  1,      2,      2,2,19830110,0651, 18.5783, -38.8467, 5168,  109.1,     93.0,  23.2661,  37.3344,2,  37.3370,2,   -999.0,9, 23.2468,    213.8,2,     1.27,2,     0.00,2,     0.00,2,     0.04,2, -999.000,9,   -999.0,9,  -999.0,9,-999.000,-999.000,9
  316N198212_2, ATAS2,    72,  1,      3,      3,2,19830110,0651, 18.5783, -38.8467, 5168,  143.2,    127.0,  21.9771,  37.3045,2,  37.3020,2,   -999.0,9, 21.9518,    197.6,2,     1.37,2,     0.43,2,     0.05,2,     0.07,2, -999.000,9,   -999.0,9,  -999.0,9,-999.000,-999.000,9
  316N198212_2, ATAS2,    72,  1,      4,      4,2,19830110,0651, 18.5783, -38.8467, 5168,  177.2,    162.0,  20.6122,  37.0910,2,  37.0890,2,   -999.0,9, 20.5812,    185.8,2,     1.56,2,     2.39,2,     0.01,2,     0.15,2, -999.000,9,   -999.0,9,  -999.0,9,-999.000,-999.000,9
  316N198212_2, ATAS2,    72,  1,      5,      5,2,19830110,0651, 18.5783, -38.8467, 5168,  211.8,    197.0,  19.4382,  36.8479,2,  36.8360,2,   -999.0,9, 19.4021,    175.8,2,     1.95,2,     4.81,2,     0.01,2,     0.29,2, -999.000,9,   -999.0,9,  -999.0,9,-999.000,-999.000,9
  316N198212_2, ATAS2,    72,  1,      6,      6,2,19830110,0651, 18.5783, -38.8467, 5168,  256.5,    243.0,  16.4732,  36.2361,2,  36.2160,2,   -999.0,9, 16.4336,    132.2,2,     4.59,2,    13.77,2,     0.00,2,     0.84,2, -999.000,9,   -999.0,9,  -999.0,9,-999.000,-999.000,9
  316N198212_2, ATAS2,    72,  1,      7,      7,2,19830110,0651, 18.5783, -38.8467, 5168,  286.6,    274.0,  15.8332,  36.1186,2,  36.1170,2,   -999.0,9, 15.7897,    128.8,2,     4.78,2,    14.94,2,     0.00,2,     0.91,2, -999.000,9,   -999.0,9,  -999.0,9,-999.000,-999.000,9
  316N198212_2, ATAS2,    72,  1,      8,      8,2,19830110,0651, 18.5783, -38.8467, 5168,  331.7,    319.0,  14.6463,  35.9126,2,  35.8960,2,   -999.0,9, 14.5982,    112.7,2,     6.35,2,    18.65,2,     0.00,2,     1.13,2, -999.000,9,   -999.0,9,  -999.0,9,-999.000,-999.000,9
  316N198212_2, ATAS2,    72,  1,      9,      9,2,19830110,0651, 18.5783, -38.8467, 5168,  386.4,    374.0,  13.5203,  35.7462,2,  35.7340,2,   -999.0,9, 13.4668,    106.6,2,     7.81,2,    21.00,2,     0.00,2,     1.28,2, -999.000,9,   -999.0,9,  -999.0,9,-999.000,-999.000,9
  316N198212_2, ATAS2,    72,  1,     10,     10,2,19830110,0651, 18.5783, -38.8467, 5168,  421.6,    410.0,  12.8853,  35.6671,2,  35.6700,2,   -999.0,9, 12.8284,    107.4,2,     8.40,2,    21.88,2,     0.00,2,     1.32,2, -999.000,9,   -999.0,9,  -999.0,9,-999.000,-999.000,9
  316N198212_2, ATAS2,    72,  1,     11,     11,2,19830110,0651, 18.5783, -38.8467, 5168,  481.0,    470.0,  11.7653,  35.5079,2,  35.5080,2,   -999.0,9, 11.7038,     97.0,2,    10.65,2,    25.20,2,     0.00,2,     1.51,2, -999.000,9,   -999.0,9,   473.0,2,-999.000,  11.770,2
  316N198212_2, ATAS2,    72,  1,     12,     12,2,19830110,0651, 18.5783, -38.8467, 5168,  531.2,    521.6,  10.8823,  35.3886,2,  35.3830,2,   -999.0,9, 10.8172,     93.5,2,    12.70,2,    27.16,2,     0.00,2,     1.65,2, -999.000,9,   -999.0,9,  -999.0,9,-999.000,-999.000,9
  316N198212_2, ATAS2,    72,  1,     13,     13,2,19830110,0651, 18.5783, -38.8467, 5168,  591.4,    582.1,  10.0074,  35.2763,2,  35.2670,2,   -999.0,9,  9.9382,     96.5,2,    14.46,2,    28.63,2,     0.00,2,     1.76,2, -999.000,9,   -999.0,9,  -999.0,9,-999.000,-999.000,9
  316N198212_2, ATAS2,    72,  1,     14,     14,2,19830110,0651, 18.5783, -38.8467, 5168,  755.3,    746.7,   7.7244,  34.9791,2,  34.9780,2,   -999.0,9,  7.6477,    102.2,2,    20.42,2,    32.15,2,     0.00,2,     2.06,2, -999.000,9,   -999.0,9,  -999.0,9,-999.000,-999.000,9
  316N198212_2, ATAS2,    72,  1,     15,     15,2,19830110,0651, 18.5783, -38.8467, 5168,  870.6,    863.1,   6.6124,  34.8890,2,  34.8890,2,   -999.0,9,  6.5303,    119.1,2,    23.06,2,    32.15,2,     0.00,2,     2.09,2, -999.000,9,   -999.0,9,  -999.0,9,-999.000,-999.000,9
  316N198212_2, ATAS2,    72,  1,     16,     16,2,19830110,0651, 18.5783, -38.8467, 5168,  991.3,    984.5,   6.0584,  34.8894,2,  34.8890,2,   -999.0,9,  5.9681,    135.6,2,    23.85,2,    30.98,2,     0.00,2,     2.02,2, -999.000,9,   -999.0,9,  -999.0,9,-999.000,-999.000,9
  316N198212_2, ATAS2,    72,  1,     17,     17,2,19830110,0651, 18.5783, -38.8467, 5168, 1197.1,   1191.6,   5.5194,  34.9709,2,  34.9770,2,   -999.0,9,  5.4130,    167.3,2,    21.89,2,    27.17,2,     0.00,2,     1.80,2, -999.000,9,   -999.0,9,  1197.0,2,-999.000,   5.463,2
  316N198212_2, ATAS2,    72,  1,     18,     18,2,19830110,0651, 18.5783, -38.8467, 5168, 1381.5,   1377.1,   4.9365,  35.0252,2,  35.0260,2,   -999.0,9,  4.8175,    198.6,2,    20.52,2,    23.84,2,     0.00,2,     1.59,2, -999.000,9,   -999.0,9,  -999.0,9,-999.000,-999.000,9
  316N198212_2, ATAS2,    72,  1,     19,     19,2,19830110,0651, 18.5783, -38.8467, 5168, 1580.1,   1576.8,   4.4515,  35.0262,2,  35.0280,2,   -999.0,9,  4.3187,    216.4,2,    20.81,2,    22.38,2,     0.00,2,     1.50,2, -999.000,9,   -999.0,9,  1572.0,2,-999.000,   4.446,2
  316N198212_2, ATAS2,    72,  1,     20,     20,2,19830110,0651, 18.5783, -38.8467, 5168, 1726.4,   1724.1,   4.1005,  35.0102,2,  35.0110,2,   -999.0,9,  3.9581,    226.4,2,    21.30,2,    21.69,2,     0.00,2,     1.46,2, -999.000,9,   -999.0,9,  -999.0,9,-999.000,-999.000,9
  316N198212_2, ATAS2,    72,  1,     21,     21,2,19830110,0651, 18.5783, -38.8467, 5168, 1908.1,   1906.8,   3.7275,  34.9890,2,  34.9890,2,   -999.0,9,  3.5728,    237.7,2,    22.18,2,    21.01,2,     0.00,2,     1.41,2, -999.000,9,   -999.0,9,  1902.0,2,-999.000,   3.725,2
  316N198212_2, ATAS2,    72,  1,     22,     22,2,19830110,0651, 18.5783, -38.8467, 5168, 2109.4,   2109.1,   3.4695,  34.9741,2,  34.9730,2,   -999.0,9,  3.2994,    243.8,2,    24.04,2,    20.62,2,     0.00,2,     1.39,2, -999.000,9,   -999.0,9,  -999.0,9,-999.000,-999.000,9
  316N198212_2, ATAS2,    72,  1,     23,     23,2,19830110,0651, 18.5783, -38.8467, 5168, 2306.4,   2307.2,   3.2485,  34.9630,2,  34.9620,2,   -999.0,9,  3.0629,    245.5,2,    26.78,2,    20.62,2,     0.00,2,     1.40,2, -999.000,9,   -999.0,9,  2296.0,2,-999.000,   3.245,2
  316N198212_2, ATAS2,    73,  2,      1,      1,2,19830110,2127, 19.8383, -38.7400, 5595,   24.4,      2.0,  23.7990,  37.4090,2,  37.4130,2,   -999.0,9, 23.7986,    210.3,2,     1.66,2,     0.04,2,     0.00,2,     0.04,2,    2.670,2,   2080.0,2,  -999.0,9,   0.110,  23.792,2
  316N198212_2, ATAS2,    73,  2,      2,      2,2,19830110,2127, 19.8383, -38.7400, 5595,  139.6,    118.0,  22.6121,  37.3475,2,  37.3530,2,   -999.0,9, 22.5880,    212.0,2,     1.46,2,     0.03,2,     0.01,2,     0.04,2,    2.990,2,   2087.0,2,  -999.0,9,   0.110,-999.000,9
  316N198212_2, ATAS2,    73,  2,      3,      3,2,19830110,2127, 19.8383, -38.7400, 5595,  173.2,    152.0,  21.5061,  37.2512,2,  37.2550,2,   -999.0,9, 21.4762,    198.0,2,     1.56,2,     0.65,2,     0.03,2,     0.07,2, -999.000,9,   -999.0,9,  -999.0,9,-999.000,-999.000,9
  316N198212_2, ATAS2,    73,  2,      4,      4,2,19830110,2127, 19.8383, -38.7400, 5595,  206.3,    187.0,  19.1761,  36.7736,2,  36.7760,2,   -999.0,9, 19.1422,    170.1,2,     2.15,2,     5.50,2,     0.01,2,     0.32,2,    3.530,2,   -999.0,9,  -999.0,9,   0.130,-999.000,9
  316N198212_2, ATAS2,    73,  2,      5,      5,2,19830110,2127, 19.8383, -38.7400, 5595,  239.6,    221.0,  17.6152,  36.4826,2,  36.4810,2,   -999.0,9, 17.5774,    172.3,2,     3.03,2,     7.42,2,     0.00,2,     0.44,2,    2.880,2,   -999.0,9,  -999.0,9,   0.100,-999.000,9
  316N198212_2, ATAS2,    73,  2,      6,      6,2,19830110,2127, 19.8383, -38.7400, 5595,  289.2,    272.0,  16.0532,  36.2073,2,  36.1960,2,   -999.0,9, 16.0096,    179.7,2,     3.71,2,     9.19,2,     0.00,2,     0.55,2,    3.220,2,   -999.0,9,  -999.0,9,   0.120,-999.000,9
  316N198212_2, ATAS2,    73,  2,      7,      7,2,19830110,2127, 19.8383, -38.7400, 5595,  337.9,    320.0,  15.0582,  36.0443,2,  36.0430,2,   -999.0,9, 15.0090,    171.4,2,     4.59,2,    11.52,2,     0.00,2,     0.69,2,    2.670,2,   -999.0,9,  -999.0,9,   0.110,-999.000,9
  316N198212_2, ATAS2,    73,  2,      8,      8,2,19830110,2127, 19.8383, -38.7400, 5595,  385.8,    369.0,  14.0062,  35.8839,2,  35.8800,2,   -999.0,9, 13.9521,    154.8,2,     5.96,2,    14.84,2,     0.00,2,     0.90,2,    3.070,2,   -999.0,9,  -999.0,9,   0.110,-999.000,9
  316N198212_2, ATAS2,    73,  2,      9,      9,2,19830110,2127, 19.8383, -38.7400, 5595,  440.3,    423.0,  13.2372,  35.7787,2,  35.7730,2,   -999.0,9, 13.1774,    150.9,2,     6.84,2,    16.60,2,     0.00,2,     1.00,2,    3.000,2,   -999.0,9,  -999.0,9,   0.130,-999.000,9
  316N198212_2, ATAS2,    73,  2,     10,     10,2,19830110,2127, 19.8383, -38.7400, 5595,  475.0,    458.0,  12.8312,  35.7267,2,  35.7300,2,   -999.0,9, 12.7677,    149.2,2,     7.23,2,    17.38,2,     0.00,2,     1.05,2, -999.000,9,   -999.0,9,  -999.0,9,-999.000,-999.000,9
  316N198212_2, ATAS2,    73,  2,     11,     11,2,19830110,2127, 19.8383, -38.7400, 5595,  524.5,    513.6,  11.9193,  35.6005,2,  35.5970,2,   -999.0,9, 11.8513,    138.7,2,     9.08,2,    20.22,2,     0.00,2,     1.21,2,    1.860,2,   -999.0,9,  -999.0,9,   0.090,-999.000,9
  316N198212_2, ATAS2,    73,  2,     12,     12,2,19830110,2127, 19.8383, -38.7400, 5595,  609.0,    598.6,  10.3933,  35.3900,2,  35.3870,2,   -999.0,9, 10.3204,    127.0,2,    12.90,2,    24.23,2,     0.00,2,     1.48,2,    0.720,2,   -999.0,9,  -999.0,9,   0.041,-999.000,9
  316N198212_2, ATAS2,    73,  2,     13,     13,2,19830110,2127, 19.8383, -38.7400, 5595,  714.0,    704.2,   8.4333,  35.1433,2,  35.1430,2,   -999.0,9,  8.3573,    127.8,2,    18.08,2,    27.75,2,     0.00,2,     1.76,2,    0.665,2,   -999.0,9,  -999.0,9,   0.049,-999.000,9
  316N198212_2, ATAS2,    73,  2,     14,     14,2,19830110,2127, 19.8383, -38.7400, 5595,  823.9,    814.7,   6.9554,  34.9614,2,  34.9610,2,   -999.0,9,  6.8760,    133.9,2,    21.99,2,    29.90,2,     0.00,2,     1.93,2, -999.000,9,   -999.0,9,  -999.0,9,   0.001,-999.000,9
  316N198212_2, ATAS2,    73,  2,     15,     15,2,19830110,2127, 19.8383, -38.7400, 5595,  926.3,    917.5,   6.2164,  34.9143,2,  34.9140,2,   -999.0,9,  6.1315,    141.3,2,    23.26,2,    30.00,2,     0.00,2,     1.95,2, -999.000,9,   -999.0,9,  -999.0,9,-999.000,-999.000,9
  316N198212_2, ATAS2,    73,  2,     16,     16,2,19830110,2127, 19.8383, -38.7400, 5595, 1142.7,   1134.4,   5.5534,  34.9845,2,  34.9830,2,   -999.0,9,  5.4522,    172.5,2,    21.99,2,    26.78,2,     0.00,2,     1.76,2, -999.000,9,   -999.0,9,  -999.0,9,-999.000,-999.000,9
  316N198212_2, ATAS2,    73,  2,     17,     17,2,19830110,2127, 19.8383, -38.7400, 5595, 1353.9,   1346.3,   5.0654,  35.0272,2,  35.0300,2,   -999.0,9,  4.9481,    196.4,2,    20.81,2,    24.04,2,     0.00,2,     1.58,2, -999.000,9,   -999.0,9,  1355.0,2,-999.000,   5.067,2
  316N198212_2, ATAS2,    73,  2,     18,     18,2,19830110,2127, 19.8383, -38.7400, 5595, 1540.9,   1533.9,   4.6024,  35.0336,2,  35.0330,2,   -999.0,9,  4.4720,    212.9,2,    20.91,2,    22.67,2,     0.00,2,     1.50,2, -999.000,9,   -999.0,9,  -999.0,9,-999.000,-999.000,9
  316N198212_2, ATAS2,    73,  2,     19,     19,2,19830110,2127, 19.8383, -38.7400, 5595, 1754.2,   1747.5,   4.0674,  35.0119,2,  35.0120,2,   -999.0,9,  3.9232,    229.4,2,    21.69,2,    21.50,2,     0.00,2,     1.43,2, -999.000,9,   -999.0,9,  1748.0,2,-999.000,   4.067,2
  316N198212_2, ATAS2,    73,  2,     20,     20,2,19830110,2127, 19.8383, -38.7400, 5595, 2000.6,   1995.3,   3.7204,  34.9925,2,  34.9920,2,   -999.0,9,  3.5574,    235.5,2,    23.35,2,    21.11,2,     0.00,2,     1.41,2, -999.000,9,   -999.0,9,  -999.0,9,-999.000,-999.000,9
  316N198212_2, ATAS2,    73,  2,     21,     21,2,19830110,2127, 19.8383, -38.7400, 5595, 2304.0,   2299.8,   3.3394,  34.9709,2,  34.9680,2,   -999.0,9,  3.1530,    245.1,2,    25.99,2,    20.62,2,     0.00,2,     1.39,2, -999.000,9,   -999.0,9,  2300.0,2,-999.000,   3.340,2
  316N198212_2, ATAS2,    73,  2,     22,     22,2,19830110,2127, 19.8383, -38.7400, 5595, 5036.3,   5041.5,   2.3254,  34.8782,2,  34.8780,2,   -999.0,9,  1.8568,    250.7,2,    48.57,2,    22.09,2,     0.00,2,     1.51,2, -999.000,9,   -999.0,9,  -999.0,9,-999.000,-999.000,9
  316N198212_2, ATAS2,    73,  2,     23,     23,2,19830110,2127, 19.8383, -38.7400, 5595, 5701.8,   5709.2,   2.3934,  34.8756,2,  34.8750,2,   -999.0,9,  1.8350,    251.6,2,    48.77,2,    22.18,2,     0.00,2,     1.51,2, -999.000,9,   -999.0,9,  5708.0,2,-999.000,   2.394,2