BOTTLE,20220818CCHSIOAMB
# Extracted residual with missing pressures
#BOTTLE,20220707CCHSIOLM
# Removed TRITER_FLAG_W column
#BOTTLE,20060405WHPSIOdm
#code : jjward hyd_to_exchange.pl 
#original files copied from HTML directory: 20060405
#original HYD file: atas2hy.txt   Wed Apr  5 13:47:06 2006
#original SUM file: atas2su.txt   Fri Jan  6 10:20:57 2006
EXPOCODE,SECT_ID,STNNBR,CASTNO,SAMPNO,BTLNBR,BTLNBR_FLAG_W,DATE,TIME,LATITUDE,LONGITUDE,DEPTH,CTDRAW,CTDPRS,CTDTMP,CTDSAL,CTDSAL_FLAG_W,SALNTY,SALNTY_FLAG_W,CTDOXY,CTDOXY_FLAG_W,THETA,OXYGEN,OXYGEN_FLAG_W,SILCAT,SILCAT_FLAG_W,NITRAT,NITRAT_FLAG_W,NITRIT,NITRIT_FLAG_W,PHSPHT,PHSPHT_FLAG_W,TRITUM,TRITUM_FLAG_W,TCARBN,TCARBN_FLAG_W,REVPRS,REVPRS_FLAG_W,TRITER,REVTMP,REVTMP_FLAG_W
,,,,,,,,,,,,,DBAR,ITS-90,PSS-78,,PSS-78,,UMOL/KG,,DEG C,UMOL/KG,,UMOL/KG,,UMOL/KG,,UMOL/KG,,UMOL/KG,,TU,,UMOL/KG,,DBAR,,TU,ITS-90,
  316N198212_2, ATAS2,    55,  3,      1,      1,2,19821231,0736,  0.0917, -44.1833, 2544,   34.3,      2.0,  27.0250,  36.3442,2,  36.3420,2,   -999.0,9, 27.0242,    200.0,2,     1.50,2,     0.00,2,  -999.00,9,     0.10,2,    1.140,2,   2039.0,2,     2.2,2,   0.070,-999.000,9
  316N198212_2, ATAS2,    55,  3,      2,      2,2,19821231,0736,  0.0917, -44.1833, 2544,   55.9,     28.0,  27.0240,  36.3533,2,  36.3430,2,   -999.0,9, 27.0176,    200.0,2,     1.70,2,     0.00,2,  -999.00,9,     0.11,2,    1.270,2,   2027.0,2,  -999.0,9,   0.080,-999.000,9
  316N198212_2, ATAS2,    55,  3,      3,      3,2,19821231,0736,  0.0917, -44.1833, 2544,   88.1,     65.0,  26.9240,  36.3681,2,  36.3550,2,   -999.0,9, 26.9091,    201.0,2,     1.60,2,     0.00,2,  -999.00,9,     0.12,2,    1.230,2,   2040.0,2,  -999.0,9,   0.080,-999.000,9
  316N198212_2, ATAS2,    55,  3,      4,      4,2,19821231,0736,  0.0917, -44.1833, 2544,  130.3,    111.1,  22.4101,  36.4708,2,  36.4690,2,   -999.0,9, 22.3877,    197.0,2,     2.00,2,     1.90,2,  -999.00,9,     0.32,2,    1.150,2,   2075.0,2,  -999.0,9,   0.070,-999.000,9
  316N198212_2, ATAS2,    55,  3,      5,      5,2,19821231,0736,  0.0917, -44.1833, 2544,  166.3,    151.0,  16.6922,  35.7669,2,  35.7660,2,   -999.0,9, 16.6675,    188.0,2,     3.70,2,     7.60,2,  -999.00,9,     0.68,2,    1.210,2,   2110.0,2,  -999.0,9,   0.070,-999.000,9
  316N198212_2, ATAS2,    55,  3,      6,      6,2,19821231,0736,  0.0917, -44.1833, 2544,  214.3,    200.9,  14.2373,  35.4063,2,  35.4050,2,   -999.0,9, 14.2078,    187.0,2,     5.10,2,    11.30,2,  -999.00,9,     0.90,2, -999.000,9,   -999.0,9,  -999.0,9,-999.000,-999.000,9
  316N198212_2, ATAS2,    55,  3,      7,      7,2,19821231,0736,  0.0917, -44.1833, 2544,  271.9,    261.0,  11.6883,  35.0796,2,  35.0600,2,   -999.0,9, 11.6547,    167.0,2,     8.30,2,    18.20,2,  -999.00,9,     1.28,2,    0.560,2,   2153.0,2,  -999.0,9,   0.080,-999.000,9
  316N198212_2, ATAS2,    55,  3,      8,      8,2,19821231,0736,  0.0917, -44.1833, 2544,  341.5,    331.0,  10.5644,  34.9483,2,  34.9490,2,   -999.0,9, 10.5244,    163.0,2,    10.30,2,    20.90,2,  -999.00,9,     1.45,2,    0.501,2,   2154.0,2,  -999.0,9,   0.047,-999.000,9
  316N198212_2, ATAS2,    55,  3,      9,      9,2,19821231,0736,  0.0917, -44.1833, 2544,  472.0,    463.0,   6.9134,  34.6021,2,  34.6010,2,   -999.0,9,  6.8698,    137.0,2,    20.50,2,    31.50,2,  -999.00,9,     2.07,2,   -0.130,2,   2205.0,2,  -999.0,9,   0.050,-999.000,9
  316N198212_2, ATAS2,    55,  3,     10,     10,2,19821231,0736,  0.0917, -44.1833, 2544,  581.7,    570.7,   5.9964,  34.5312,2,  34.5410,2,   -999.0,9,  5.9463,    145.0,2,    24.20,2,    32.50,2,  -999.00,9,     2.16,2,    0.120,2,   2205.0,2,  -999.0,9,   0.050,-999.000,9
  316N198212_2, ATAS2,    55,  3,     11,     11,2,19821231,0736,  0.0917, -44.1833, 2544,  681.1,    670.5,   4.8285,  34.4555,2,  34.4540,2,   -999.0,9,  4.7752,    172.0,2,    29.40,2,    32.10,2,  -999.00,9,     2.16,2,   -0.030,2,   2213.0,2,  -999.0,9,   0.050,-999.000,9
  316N198212_2, ATAS2,    55,  3,     12,     12,2,19821231,0736,  0.0917, -44.1833, 2544,  734.8,    724.4,   4.7885,  34.5111,2,  34.5100,2,   -999.0,9,  4.7307,    155.0,2,    30.70,2,    33.00,2,  -999.00,9,     2.24,2,   -0.010,2,   2215.0,2,  -999.0,9,   0.060,-999.000,9
  316N198212_2, ATAS2,    55,  3,     13,     13,2,19821231,0736,  0.0917, -44.1833, 2544,  832.3,    822.5,   4.4165,  34.5735,2,  34.5710,2,   -999.0,9,  4.3526,    159.0,2,    32.70,2,    32.70,2,  -999.00,9,     2.22,2, -999.000,9,   -999.0,9,  -999.0,9,-999.000,-999.000,9
  316N198212_2, ATAS2,    55,  3,     14,     14,2,19821231,0736,  0.0917, -44.1833, 2544, 1001.0,    992.0,   4.4365,  34.6529,2,  34.6530,2,   -999.0,9,  4.3579,    161.0,2,    31.50,2,    31.70,2,  -999.00,9,     2.13,2, -999.000,9,   -999.0,9,  -999.0,9,-999.000,-999.000,9
  316N198212_2, ATAS2,    55,  3,     15,     15,2,19821231,0736,  0.0917, -44.1833, 2544, 1186.4,   1178.4,   4.5065,  34.7458,2,  34.7450,2,   -999.0,9,  4.4107,    173.0,2,    28.40,2,    29.50,2,  -999.00,9,     1.98,2, -999.000,9,   -999.0,9,  -999.0,9,-999.000,-999.000,9
  316N198212_2, ATAS2,    55,  3,     16,     16,2,19821231,0736,  0.0917, -44.1833, 2544, 1281.8,   1274.1,   4.6195,  34.8771,2,-999.0000,9,   -999.0,9,  4.5137,    193.0,2,    23.30,2,    25.80,2,  -999.00,9,     1.72,2, -999.000,9,   -999.0,9,  -999.0,9,-999.000,-999.000,9
  316N198212_2, ATAS2,    55,  3,     17,     17,2,19821231,0736,  0.0917, -44.1833, 2544, 1386.7,   1379.6,   4.5515,  34.9206,2,  34.9200,2,   -999.0,9,  4.4365,    206.0,2,    21.10,2,    24.00,2,  -999.00,9,     1.59,2, -999.000,9,   -999.0,9,  -999.0,9,-999.000,-999.000,9
  316N198212_2, ATAS2,    55,  3,     18,     18,2,19821231,0736,  0.0917, -44.1833, 2544, 1488.0,   1481.5,   4.4065,  34.9711,2,  34.9700,2,   -999.0,9,  4.2834,    229.0,2,    18.20,2,    21.40,2,  -999.00,9,     1.42,2, -999.000,9,   -999.0,9,  -999.0,9,-999.000,-999.000,9
  316N198212_2, ATAS2,    55,  3,     19,     19,2,19821231,0736,  0.0917, -44.1833, 2544, 1617.3,   1611.4,   4.2575,  34.9883,2,  34.9900,2,   -999.0,9,  4.1239,    242.0,2,    16.40,2,    20.00,2,  -999.00,9,     1.33,2, -999.000,9,   -999.0,9,  -999.0,9,-999.000,-999.000,9
  316N198212_2, ATAS2,    55,  3,     20,     20,2,19821231,0736,  0.0917, -44.1833, 2544, 1701.4,   1696.0,   4.1005,  34.9904,2,  34.9910,2,   -999.0,9,  3.9608,    249.0,2,    16.20,2,    19.30,2,  -999.00,9,     1.29,2, -999.000,9,   -999.0,9,  -999.0,9,-999.000,-999.000,9
  316N198212_2, ATAS2,    55,  3,     21,     21,2,19821231,0736,  0.0917, -44.1833, 2544, 1797.1,   1792.2,   3.8875,  34.9870,2,  34.9870,2,   -999.0,9,  3.7415,    255.0,2,    16.40,2,    19.00,2,  -999.00,9,     1.26,2, -999.000,9,   -999.0,9,  -999.0,9,-999.000,-999.000,9
  316N198212_2, ATAS2,    55,  3,     22,     22,2,19821231,0736,  0.0917, -44.1833, 2544, 1882.2,   1877.8,   3.7745,  34.9823,2,  34.9830,2,   -999.0,9,  3.6220,    256.0,2,    17.10,2,    19.00,2,  -999.00,9,     1.25,2, -999.000,9,   -999.0,9,  -999.0,9,-999.000,-999.000,9
  316N198212_2, ATAS2,    55,  3,     23,     23,2,19821231,0736,  0.0917, -44.1833, 2544, 2072.2,   2068.8,   3.3835,  34.9682,2,  34.9680,2,   -999.0,9,  3.2186,    260.0,2,    19.40,2,    18.80,2,  -999.00,9,     1.26,2, -999.000,9,   -999.0,9,  -999.0,9,-999.000,-999.000,9
  316N198212_2, ATAS2,    56,  1,      1,      1,2,19821231,1727,  0.8433, -43.6717, 4120,   22.7,      2.0,  27.1600,  36.1924,2,  36.1900,2,   -999.0,9, 27.1595,    202.0,2,     1.37,2,     0.00,2,     0.00,2,     0.10,2, -999.000,9,   -999.0,9,  -999.0,9,-999.000,  27.154,2
  316N198212_2, ATAS2,    56,  1,      2,      2,2,19821231,1727,  0.8433, -43.6717, 4120,   84.7,     64.0,  26.7430,  36.3657,2,  36.3630,2,   -999.0,9, 26.7284,    201.5,2,     1.17,2,     0.00,2,     0.00,2,     0.13,2, -999.000,9,   -999.0,9,  -999.0,9,-999.000,-999.000,9
  316N198212_2, ATAS2,    56,  1,      3,      3,2,19821231,1727,  0.8433, -43.6717, 4120,  109.9,     91.0,  23.1251,  36.7980,2,  36.7900,2,   -999.0,9, 23.1063,    199.9,2,     1.17,2,     0.28,2,     0.14,2,     0.24,2, -999.000,9,   -999.0,9,  -999.0,9,-999.000,-999.000,9
  316N198212_2, ATAS2,    56,  1,      4,      4,2,19821231,1727,  0.8433, -43.6717, 4120,  149.6,    133.0,  17.5612,  35.9005,2,  35.9020,2,   -999.0,9, 17.5386,    188.5,2,     2.93,2,     6.67,2,     0.04,2,     0.62,2, -999.000,9,   -999.0,9,  -999.0,9,-999.000,-999.000,9
  316N198212_2, ATAS2,    56,  1,      5,      5,2,19821231,1727,  0.8433, -43.6717, 4120,  179.9,    165.1,  15.5612,  35.6161,2,  35.6270,2,   -999.0,9, 15.5355,    174.5,2,     4.40,2,    10.84,2,     0.01,2,     0.85,2, -999.000,9,   -999.0,9,  -999.0,9,-999.000,-999.000,9
  316N198212_2, ATAS2,    56,  1,      6,      6,2,19821231,1727,  0.8433, -43.6717, 4120,  209.2,    194.8,  14.2092,  35.4166,2,  35.4200,2,   -999.0,9, 14.1807,    175.8,2,     5.37,2,    12.80,2,     0.01,2,     0.96,2, -999.000,9,   -999.0,9,  -999.0,9,-999.000,-999.000,9
  316N198212_2, ATAS2,    56,  1,      7,      7,2,19821231,1727,  0.8433, -43.6717, 4120,  229.3,    214.9,  14.0492,  35.3828,2,  35.3750,2,   -999.0,9, 14.0180,    186.6,2,     5.18,2,    11.72,2,     0.01,2,     0.91,2, -999.000,9,   -999.0,9,  -999.0,9,-999.000,-999.000,9
  316N198212_2, ATAS2,    56,  1,      8,      8,2,19821231,1727,  0.8433, -43.6717, 4120,  269.4,    255.6,  12.3353,  35.1442,2,  35.1430,2,   -999.0,9, 12.3012,    186.2,2,     7.23,2,    15.05,2,     0.00,2,     1.08,2, -999.000,9,   -999.0,9,  -999.0,9,-999.000,-999.000,9
  316N198212_2, ATAS2,    56,  1,      9,      9,2,19821231,1727,  0.8433, -43.6717, 4120,  313.4,    300.0,  11.9863,  35.1285,2,  35.0990,2,   -999.0,9, 11.9469,    160.1,2,     8.31,2,    18.76,2,     0.00,2,     1.30,2, -999.000,9,   -999.0,9,  -999.0,9,-999.000,-999.000,9
  316N198212_2, ATAS2,    56,  1,     10,     10,2,19821231,1727,  0.8433, -43.6717, 4120,  353.1,    341.0,  10.1473,  34.9025,2,  34.9200,2,   -999.0,9, 10.1071,    163.1,2,    11.04,2,    21.50,2,     0.00,2,     1.47,2, -999.000,9,   -999.0,9,  -999.0,9,-999.000,-999.000,9
  316N198212_2, ATAS2,    56,  1,     11,     11,2,19821231,1727,  0.8433, -43.6717, 4120,  412.6,    402.0,   7.5454,  34.6368,2,  34.6380,2,   -999.0,9,  7.5057,    156.1,2,    17.59,2,    27.96,2,     0.00,2,     1.86,2, -999.000,9,   -999.0,9,   404.0,2,-999.000,   7.535,2
  316N198212_2, ATAS2,    56,  1,     12,     12,2,19821231,1727,  0.8433, -43.6717, 4120,  493.0,    480.8,   6.9154,  34.5967,2,  34.5970,2,   -999.0,9,  6.8700,    143.0,2,    20.43,2,    30.60,2,     0.00,2,     2.01,2, -999.000,9,   -999.0,9,  -999.0,9,-999.000,-999.000,9
  316N198212_2, ATAS2,    56,  1,     13,     13,2,19821231,1727,  0.8433, -43.6717, 4120,  613.4,    601.4,   5.9864,  34.5327,2,  34.5320,2,   -999.0,9,  5.9334,    144.8,2,    24.34,2,    32.36,2,     0.00,2,     2.14,2, -999.000,9,   -999.0,9,  -999.0,9,-999.000,-999.000,9
  316N198212_2, ATAS2,    56,  1,     14,     14,2,19821231,1727,  0.8433, -43.6717, 4120,  713.1,    701.4,   4.9714,  34.4933,2,  34.4930,2,   -999.0,9,  4.9147,    160.4,2,    29.42,2,    32.55,2,     0.00,2,     2.18,2, -999.000,9,   -999.0,9,  -999.0,9,-999.000,-999.000,9
  316N198212_2, ATAS2,    56,  1,     15,     15,2,19821231,1727,  0.8433, -43.6717, 4120,  813.1,    801.7,   4.5134,  34.5159,2,  34.5120,2,   -999.0,9,  4.4508,    163.0,2,    32.75,2,    32.65,2,     0.00,2,     2.20,2, -999.000,9,   -999.0,9,  -999.0,9,-999.000,-999.000,9
  316N198212_2, ATAS2,    56,  1,     16,     16,2,19821231,1727,  0.8433, -43.6717, 4120,  913.2,    901.8,   4.4604,  34.6182,2,  34.6190,2,   -999.0,9,  4.3895,    160.8,2,    31.57,2,    32.06,2,     0.00,2,     2.16,2, -999.000,9,   -999.0,9,  -999.0,9,-999.000,-999.000,9
  316N198212_2, ATAS2,    56,  1,     17,     17,2,19821231,1727,  0.8433, -43.6717, 4120, 1092.8,   1081.6,   4.5264,  34.7297,2,  34.7280,2,   -999.0,9,  4.4392,    169.9,2,    28.34,2,    29.91,2,     0.00,2,     2.01,2, -999.000,9,   -999.0,9,  1090.0,2,-999.000,   4.533,2
  316N198212_2, ATAS2,    56,  1,     18,     18,2,19821231,1727,  0.8433, -43.6717, 4120, 1301.8,   1291.1,   4.5584,  34.8960,2,  34.8960,2,   -999.0,9,  4.4516,    200.3,2,    22.77,2,    25.02,2,     0.00,2,     1.68,2, -999.000,9,   -999.0,9,  -999.0,9,-999.000,-999.000,9
  316N198212_2, ATAS2,    56,  1,     19,     19,2,19821231,1727,  0.8433, -43.6717, 4120, 1609.3,   1600.2,   4.1704,  34.9876,2,  34.9890,2,   -999.0,9,  4.0389,    246.8,2,    17.10,2,    19.64,2,     0.00,2,     1.31,2, -999.000,9,   -999.0,9,  1603.0,2,-999.000,   4.167,2
  316N198212_2, ATAS2,    56,  1,     20,     20,2,19821231,1727,  0.8433, -43.6717, 4120, 1821.7,   1813.5,   3.8544,  34.9829,2,  34.9840,2,   -999.0,9,  3.7069,    256.4,2,    17.88,2,    18.96,2,     0.00,2,     1.27,2, -999.000,9,   -999.0,9,  -999.0,9,-999.000,-999.000,9
  316N198212_2, ATAS2,    56,  1,     21,     21,2,19821231,1727,  0.8433, -43.6717, 4120, 2135.8,   2129.4,   3.3874,  34.9670,2,  34.9670,2,   -999.0,9,  3.2167,    260.7,2,    20.91,2,    18.76,2,     0.00,2,     1.26,2, -999.000,9,   -999.0,9,  2128.0,2,-999.000,   3.384,2
  316N198212_2, ATAS2,    56,  1,     22,     22,2,19821231,1727,  0.8433, -43.6717, 4120, 2660.8,   2656.9,   2.9234,  34.9427,2,  34.9420,2,   -999.0,9,  2.7094,    260.3,2,    27.95,2,    19.15,2,     0.00,2,     1.30,2, -999.000,9,   -999.0,9,  -999.0,9,-999.000,-999.000,9
  316N198212_2, ATAS2,    56,  1,     23,     23,2,19821231,1727,  0.8433, -43.6717, 4120, 4145.4,   4148.7,   2.2925,  34.8967,2,  34.8950,2,   -999.0,9,  1.9330,    265.5,2,    36.55,2,    19.35,2,     0.00,2,     1.33,2,    0.031,2,   2184.0,2,  4146.0,2,   0.036,   2.295,2
  316N198212_2, ATAS2,    57,  1,      1,      1,2,19830101,0458,  1.6633, -43.2483, 4234,   25.1,      1.0,  26.8779,  36.1677,2,  36.1670,2,   -999.0,9, 26.8777,    199.4,2,     1.76,2,     0.04,2,     0.00,2,     0.14,2,    1.250,2,   2023.0,2,  -999.0,9,   0.090,  26.875,2
  316N198212_2, ATAS2,    57,  1,      2,      2,2,19830101,0458,  1.6633, -43.2483, 4234,   90.7,     69.0,  25.7370,  36.3194,2,  36.3540,2,   -999.0,9, 25.7216,    192.7,2,     1.85,2,     0.53,2,     0.23,2,     0.22,2,    1.310,2,   2056.0,2,  -999.0,9,   0.080,-999.000,9
  316N198212_2, ATAS2,    57,  1,      3,      3,2,19830101,0458,  1.6633, -43.2483, 4234,  136.6,    116.0,  24.8010,  36.4617,2,  36.4590,2,   -999.0,9, 24.7758,    195.3,2,     1.85,2,     0.91,2,     0.24,2,     0.24,2,    1.040,2,   -999.0,9,  -999.0,9,   0.080,-999.000,9
  316N198212_2, ATAS2,    57,  1,      4,      4,2,19830101,0458,  1.6633, -43.2483, 4234,  185.7,    168.0,  17.4911,  35.8875,2,  35.8730,2,   -999.0,9, 17.4627,    188.9,2,     3.61,2,     6.76,2,     0.03,2,     0.64,2,    0.990,2,   2110.0,2,  -999.0,9,   0.070,-999.000,9
  316N198212_2, ATAS2,    57,  1,      5,      5,2,19830101,0458,  1.6633, -43.2483, 4234,  224.5,    208.0,  14.6372,  35.4752,2,  35.4760,2,   -999.0,9, 14.6060,    181.0,2,     5.37,2,    11.43,2,     0.01,2,     0.91,2,    0.910,2,   2115.0,2,  -999.0,9,   0.080,-999.000,9
  316N198212_2, ATAS2,    57,  1,      6,      6,2,19830101,0458,  1.6633, -43.2483, 4234,  273.0,    257.0,  13.5342,  35.3320,2,  35.3330,2,   -999.0,9, 13.4977,    165.7,2,     6.74,2,    15.14,2,     0.00,2,     1.11,2,    0.610,2,   2144.0,2,  -999.0,9,   0.060,-999.000,9
  316N198212_2, ATAS2,    57,  1,      7,      7,2,19830101,0458,  1.6633, -43.2483, 4234,  322.5,    307.0,  12.1972,  35.1631,2,  35.1730,2,   -999.0,9, 12.1565,    154.0,2,     8.50,2,    18.76,2,     0.00,2,     1.31,2,    0.540,2,   2149.0,2,  -999.0,9,   0.060,-999.000,9
  316N198212_2, ATAS2,    57,  1,      8,      8,2,19830101,0458,  1.6633, -43.2483, 4234,  366.8,    355.0,   8.0463,  34.7066,2,  34.7080,2,   -999.0,9,  8.0100,    144.4,2,    17.01,2,    28.34,2,     0.00,2,     1.88,2, -999.000,9,   -999.0,9,  -999.0,9,-999.000,-999.000,9
  316N198212_2, ATAS2,    57,  1,      9,      9,2,19830101,0458,  1.6633, -43.2483, 4234,  410.7,    398.0,   6.8463,  34.5874,2,  34.5860,2,   -999.0,9,  6.8092,    146.1,2,    20.53,2,    30.99,2,     0.00,2,     2.03,2,   -0.050,2,   2198.0,2,  -999.0,9,   0.070,-999.000,9
  316N198212_2, ATAS2,    57,  1,     10,     10,2,19830101,0458,  1.6633, -43.2483, 4234,  472.5,    460.0,   6.5373,  34.5659,2,-999.0000,9,   -999.0,9,  6.4953,    147.8,2,    21.11,2,    30.99,2,     0.00,2,     2.06,2, -999.000,9,   -999.0,9,  -999.0,9,-999.000,-999.000,9
  316N198212_2, ATAS2,    57,  1,     11,     11,2,19830101,0458,  1.6633, -43.2483, 4234,  561.1,    550.8,   5.8593,  34.5122,2,  34.5130,2,   -999.0,9,  5.8116,    157.8,2,    24.05,2,    31.77,2,     0.00,2,     2.13,2,    0.010,2,   2203.0,2,   555.0,2,   0.050,   5.859,2
  316N198212_2, ATAS2,    57,  1,     12,     12,2,19830101,0458,  1.6633, -43.2483, 4234,  807.5,    797.5,   4.6064,  34.5300,2,  34.5290,2,   -999.0,9,  4.5435,    156.1,2,    31.48,2,    33.82,2,     0.00,2,     2.28,2, -999.000,9,   -999.0,9,  -999.0,9,-999.000,-999.000,9
  316N198212_2, ATAS2,    57,  1,     13,     13,2,19830101,0458,  1.6633, -43.2483, 4234, 1002.9,    993.1,   4.4574,  34.6397,2,  34.6390,2,   -999.0,9,  4.3786,    160.4,2,    31.18,2,    32.35,2,     0.00,2,     2.18,2, -999.000,9,   -999.0,9,  -999.0,9,-999.000,-999.000,9
  316N198212_2, ATAS2,    57,  1,     14,     14,2,19830101,0458,  1.6633, -43.2483, 4234, 1217.4,   1207.9,   4.6504,  34.8158,2,  34.8160,2,   -999.0,9,  4.5505,    178.6,2,    25.21,2,    28.34,2,     0.00,2,     1.92,2, -999.000,9,   -999.0,9,  -999.0,9,-999.000,-999.000,9
  316N198212_2, ATAS2,    57,  1,     15,     15,2,19830101,0458,  1.6633, -43.2483, 4234, 1341.6,   1332.5,   4.5344,  34.9182,2,  34.9200,2,   -999.0,9,  4.4239,    206.9,2,    20.82,2,    24.24,2,     0.00,2,     1.63,2, -999.000,9,   -999.0,9,  -999.0,9,-999.000,-999.000,9
  316N198212_2, ATAS2,    57,  1,     16,     16,2,19830101,0458,  1.6633, -43.2483, 4234, 1467.9,   1459.2,   4.3724,  34.9394,2,  34.9390,2,   -999.0,9,  4.2518,    218.6,2,    19.64,2,    22.96,2,     0.00,2,     1.54,2, -999.000,9,   -999.0,9,  -999.0,9,-999.000,-999.000,9
  316N198212_2, ATAS2,    57,  1,     18,     18,2,19830101,0458,  1.6633, -43.2483, 4234, 1620.7,   1612.9,   4.1784,  34.9895,2,  34.9900,2,   -999.0,9,  4.0456,    245.5,2,    15.83,2,    19.74,2,     0.00,2,     1.33,2, -999.000,9,   -999.0,9,  -999.0,9,-999.000,-999.000,9
  316N198212_2, ATAS2,    57,  1,     19,     19,2,19830101,0458,  1.6633, -43.2483, 4234, 1802.8,   1795.9,   3.8634,  34.9832,2,  34.9850,2,   -999.0,9,  3.7174,    253.3,2,    16.51,2,    19.15,2,     0.00,2,     1.29,2, -999.000,9,   -999.0,9,  1797.0,2,-999.000,   3.861,2
  316N198212_2, ATAS2,    57,  1,     20,     20,2,19830101,0458,  1.6633, -43.2483, 4234, 2004.6,   1998.6,   3.6584,  34.9769,2,  34.9770,2,   -999.0,9,  3.4960,    256.8,2,    17.59,2,    19.06,2,     0.00,2,     1.28,2, -999.000,9,   -999.0,9,  -999.0,9,-999.000,-999.000,9
  316N198212_2, ATAS2,    57,  1,     21,     21,2,19830101,0458,  1.6633, -43.2483, 4234, 2213.6,   2208.7,   3.3674,  34.9685,2,  34.9680,2,   -999.0,9,  3.1894,    261.6,2,    19.54,2,    18.76,2,     0.00,2,     1.28,2,   -0.110,2,   2169.0,2,  2207.0,2,   0.044,   3.365,2
  316N198212_2, ATAS2,    57,  1,     22,     22,2,19830101,0458,  1.6633, -43.2483, 4234, 2397.5,   2393.6,   3.0874,  34.9536,2,  34.9530,2,   -999.0,9,  2.8962,    260.7,2,    22.87,2,    19.06,2,     0.00,2,     1.30,2,   -0.020,2,   2175.0,2,  -999.0,9,   0.057,-999.000,9
  316N198212_2, ATAS2,    57,  1,     23,     23,2,19830101,0458,  1.6633, -43.2483, 4234, 4294.2,   4299.7,   1.3064,  34.7843,2,  34.7790,2,   -999.0,9,  0.9594,    232.9,2,    85.32,2,    27.17,2,     0.00,2,     1.90,2,    0.115,2,   2239.0,2,  4293.0,2,   0.049,   1.311,2