BOTTLE,20220818CCHSIOAMB
EXPOCODE,SECT_ID,STNNBR,CASTNO,SAMPNO,BTLNBR,BTLNBR_FLAG_W,DATE,TIME,LATITUDE,LONGITUDE,DEPTH,CTDRAW,CTDPRS,CTDTMP,CTDSAL,CTDSAL_FLAG_W,SALNTY,SALNTY_FLAG_W,CTDOXY,CTDOXY_FLAG_W,THETA,OXYGEN,OXYGEN_FLAG_W,SILCAT,SILCAT_FLAG_W,NITRAT,NITRAT_FLAG_W,NITRIT,NITRIT_FLAG_W,PHSPHT,PHSPHT_FLAG_W,TRITUM,TRITUM_FLAG_W,TCARBN,TCARBN_FLAG_W,REVPRS,REVPRS_FLAG_W,TRITER,REVTMP,REVTMP_FLAG_W
,,,,,,,,,,,,,DBAR,ITS-90,PSS-78,,PSS-78,,UMOL/KG,,DEG C,UMOL/KG,,UMOL/KG,,UMOL/KG,,UMOL/KG,,UMOL/KG,,TU,,UMOL/KG,,DBAR,,TU,ITS-90,
  316N198212_2, ATAS2,    80,  2,      1,      1,2,19830116,0630, 27.8333, -30.5450, 5184,   44.0,      1.0,  20.5917,  37.0886,2,  37.0840,2,   -999.0,9, 20.5915,    222.4,2,     1.27,2,     0.03,2,     0.00,2,     0.01,2,    3.530,2,   -999.0,9,  -999.0,9,   0.130,  20.601,2
  316N198212_2, ATAS2,    80,  2,      2,      2,2,19830116,0630, 27.8333, -30.5450, 5184,  192.4,    157.0,  18.1777,  36.5822,2,  36.5750,2,   -999.0,9, 18.1503,    207.5,2,     1.76,2,     2.10,2,     0.02,2,     0.12,2,    3.320,2,   -999.0,9,  -999.0,9,   0.120,-999.000,9
  316N198212_2, ATAS2,    80,  2,      3,      3,2,19830116,0630, 27.8333, -30.5450, 5184,  326.9,    294.0,  15.7818,  36.1846,2,  36.1740,2,   -999.0,9, 15.7351,    199.7,2,     3.22,2,     7.40,2,     0.00,2,     0.44,2,    3.590,2,   -999.0,9,  -999.0,9,   0.120,-999.000,9
  316N198212_2, ATAS2,    80,  2,     31,     31,2,19830116,0630, 27.8333, -30.5450, 5184,  422.9,    391.0,  14.3538,  35.9576,2,  35.9420,2,   -999.0,9, 14.2955,    198.3,2,     4.20,2,     9.86,2,     0.00,2,     0.60,2, -999.000,9,   -999.0,9,  -999.0,9,-999.000,-999.000,9
  316N198212_2, ATAS2,    80,  2,      5,      5,2,19830116,0630, 27.8333, -30.5450, 5184,  520.8,    509.8,  12.7588,  35.7277,2,  35.7240,2,   -999.0,9, 12.6883,    194.8,2,     5.37,2,    12.60,2,     0.00,2,     0.78,2,    3.440,2,   -999.0,9,  -999.0,9,   0.120,-999.000,9
  316N198212_2, ATAS2,    80,  2,      6,      6,2,19830116,0630, 27.8333, -30.5450, 5184,  718.6,    708.1,  10.8529,  35.5293,2,  35.5280,2,   -999.0,9, 10.7637,    179.6,2,     8.60,2,    17.39,2,     0.00,2,     1.08,2,    2.290,2,   -999.0,9,  -999.0,9,   0.081,-999.000,9
  316N198212_2, ATAS2,    80,  2,     37,     37,2,19830116,0630, 27.8333, -30.5450, 5184,  868.5,    858.7,   9.2039,  35.4165,2,  35.4180,2,   -999.0,9,  9.1053,    166.5,2,    13.29,2,    21.39,2,     0.00,2,     1.36,2, -999.000,9,   -999.0,9,  -999.0,9,-999.000,-999.000,9
  316N198212_2, ATAS2,    80,  2,      8,      8,2,19830116,0630, 27.8333, -30.5450, 5184,  918.4,    908.8,   8.7919,  35.3904,2,  35.3900,2,   -999.0,9,  8.6900,    166.0,2,    13.97,2,    21.79,2,     0.00,2,     1.40,2,    1.024,2,   -999.0,9,  -999.0,9,   0.044,-999.000,9
  316N198212_2, ATAS2,    80,  2,      9,      9,2,19830116,0630, 27.8333, -30.5450, 5184, 1118.3,   1109.4,   7.6629,  35.3659,2,  35.3650,2,   -999.0,9,  7.5463,    181.2,2,    15.34,2,    21.69,2,     0.00,2,     1.40,2,    0.445,2,   -999.0,9,  -999.0,9,   0.033,-999.000,9
  316N198212_2, ATAS2,    80,  2,     35,     35,2,19830116,0630, 27.8333, -30.5450, 5184, 1168.3,   1159.6,   7.4349,  35.3803,2,-999.0000,9,   -999.0,9,  7.3145,   -999.0,9,  -999.00,9,  -999.00,9,  -999.00,9,  -999.00,9, -999.000,9,   -999.0,9,  -999.0,9,-999.000,-999.000,9
  316N198212_2, ATAS2,    80,  2,     32,     32,2,19830116,0630, 27.8333, -30.5450, 5184, 1267.9,   1259.6,   6.9679,  35.3542,2,  35.3530,2,   -999.0,9,  6.8406,    195.5,2,    15.92,2,    20.81,2,     0.00,2,     1.35,2, -999.000,9,   -999.0,9,  1260.0,2,-999.000,   6.962,2
  316N198212_2, ATAS2,    80,  2,     33,     33,2,19830116,0630, 27.8333, -30.5450, 5184, 1366.2,   1358.5,   6.2450,  35.2886,2,  35.2890,2,   -999.0,9,  6.1141,    208.1,2,    16.32,2,    20.52,2,     0.00,2,     1.34,2, -999.000,9,   -999.0,9,  -999.0,9,-999.000,-999.000,9
  316N198212_2, ATAS2,    80,  2,     39,     39,2,19830116,0630, 27.8333, -30.5450, 5184, 1464.9,   1457.4,   5.9360,  35.2735,2,  35.2490,2,   -999.0,9,  5.7979,    220.3,2,    16.90,2,    19.74,2,     0.00,2,     1.31,2, -999.000,9,   -999.0,9,  -999.0,9,-999.000,-999.000,9
  316N198212_2, ATAS2,    80,  2,     14,     14,2,19830116,0630, 27.8333, -30.5450, 5184, 1515.9,   1508.6,   5.6590,  35.2424,2,  35.2420,2,   -999.0,9,  5.5187,    219.9,2,    17.00,2,    19.83,2,     0.00,2,     1.31,2, -999.000,9,   -999.0,9,  -999.0,9,-999.000,-999.000,9
  316N198212_2, ATAS2,    80,  2,     15,     15,2,19830116,0630, 27.8333, -30.5450, 5184, 1615.0,   1607.9,   5.2430,  35.2042,2,  35.2020,2,   -999.0,9,  5.0974,    227.2,2,    17.39,2,    19.74,2,     0.00,2,     1.30,2, -999.000,9,   -999.0,9,  -999.0,9,-999.000,-999.000,9
  316N198212_2, ATAS2,    80,  2,     16,     16,2,19830116,0630, 27.8333, -30.5450, 5184, 1915.2,   1909.6,   4.2960,  35.1056,2,  35.1020,2,   -999.0,9,  4.1327,    241.6,2,    19.84,2,    19.35,2,     0.00,2,     1.28,2, -999.000,9,   -999.0,9,  -999.0,9,-999.000,-999.000,9
  316N198212_2, ATAS2,    80,  2,     34,     34,2,19830116,0630, 27.8333, -30.5450, 5184, 2015.9,   2010.7,   4.1070,  35.0834,2,  35.0870,2,   -999.0,9,  3.9365,    244.2,2,    20.62,2,    19.35,2,     0.00,2,     1.28,2, -999.000,9,   -999.0,9,  2020.0,2,-999.000,   4.112,2
  316N198212_2, ATAS2,    80,  2,     18,     18,2,19830116,0630, 27.8333, -30.5450, 5184, 2116.6,   2111.9,   3.9180,  35.0621,2,  35.0610,2,   -999.0,9,  3.7404,    246.4,2,    21.40,2,    19.45,2,     0.00,2,     1.30,2, -999.000,9,   -999.0,9,  -999.0,9,-999.000,-999.000,9
  316N198212_2, ATAS2,    80,  2,     19,     19,2,19830116,0630, 27.8333, -30.5450, 5184, 2317.1,   2313.4,   3.5100,  35.0178,2,-999.0000,9,   -999.0,9,  3.3192,   -999.0,9,  -999.00,9,  -999.00,9,  -999.00,9,  -999.00,9, -999.000,9,   -999.0,9,  2310.0,2,-999.000,   3.510,2
  316N198212_2, ATAS2,    80,  2,     38,     38,2,19830116,0630, 27.8333, -30.5450, 5184, 3023.8,   3023.4,   2.7370,  34.9399,2,  34.9420,2,   -999.0,9,  2.4895,    249.4,2,    35.08,2,    20.72,2,     0.00,2,     1.40,2, -999.000,9,   -999.0,9,  -999.0,9,-999.000,-999.000,9
  316N198212_2, ATAS2,    80,  2,     40,     40,2,19830116,0630, 27.8333, -30.5450, 5184, 4031.2,   4035.0,   2.4600,  34.9064,2,-999.0000,9,   -999.0,9,  2.1088,   -999.0,9,  -999.00,9,  -999.00,9,  -999.00,9,  -999.00,9, -999.000,9,   -999.0,9,  3997.0,2,-999.000,   2.457,2
  316N198212_2, ATAS2,    80,  2,     22,     22,2,19830116,0630, 27.8333, -30.5450, 5184, 4638.6,   4645.0,   2.4120,  34.8914,2,  34.8910,2,   -999.0,9,  1.9898,    247.6,2,    46.42,2,    22.09,2,     0.00,2,     1.49,2, -999.000,9,   -999.0,9,  -999.0,9,-999.000,-999.000,9
  316N198212_2, ATAS2,    80,  2,     23,     23,2,19830116,0630, 27.8333, -30.5450, 5184, 5043.9,   5051.9,   2.4100,  34.8869,2,  34.8870,2,   -999.0,9,  1.9371,    247.2,2,    47.50,2,    22.28,2,     0.00,2,     1.50,2, -999.000,9,   -999.0,9,  5063.0,2,-999.000,   2.416,2
  316N198212_2, ATAS2,    81,  1,      1,      1,2,19830116,2044, 27.2600, -29.3133, 5224,   28.0,      2.0,  20.5286,  37.0155,2,  37.0120,2,   -999.0,9, 20.5282,    223.7,2,     1.37,2,     0.03,2,     0.00,2,     0.02,2,    2.920,2,   -999.0,9,  -999.0,9,   0.120,  20.531,2
  316N198212_2, ATAS2,    81,  1,      2,      2,2,19830116,2044, 27.2600, -29.3133, 5224,  159.9,    136.0,  18.5257,  36.6455,2,  36.6380,2,   -999.0,9, 18.5016,    211.5,2,     1.56,2,     1.18,2,     0.02,2,     0.09,2, -999.000,9,   -999.0,9,  -999.0,9,-999.000,-999.000,9
  316N198212_2, ATAS2,    81,  1,      3,      3,2,19830116,2044, 27.2600, -29.3133, 5224,  179.0,    156.0,  18.2107,  36.6000,2,-999.0000,9,   -999.0,9, 18.1834,    209.3,2,     1.66,2,     1.93,2,     0.01,2,     0.12,2,    3.800,2,   -999.0,9,  -999.0,9,   0.140,-999.000,9
  316N198212_2, ATAS2,    81,  1,      4,      4,2,19830116,2044, 27.2600, -29.3133, 5224,  217.4,    195.0,  17.3267,  36.4446,2,  36.4380,2,   -999.0,9, 17.2938,    205.3,2,     2.05,2,     3.97,2,     0.00,2,     0.24,2, -999.000,9,   -999.0,9,  -999.0,9,-999.000,-999.000,9
  316N198212_2, ATAS2,    81,  1,      5,      5,2,19830116,2044, 27.2600, -29.3133, 5224,  271.0,    250.0,  16.4747,  36.3001,2,  36.2930,2,   -999.0,9, 16.4339,    204.0,2,     2.64,2,     5.69,2,     0.00,2,     0.34,2,    3.120,2,   -999.0,9,  -999.0,9,   0.110,-999.000,9
  316N198212_2, ATAS2,    81,  1,      6,      6,2,19830116,2044, 27.2600, -29.3133, 5224,  334.3,    315.0,  15.3257,  36.1061,2,  36.1020,2,   -999.0,9, 15.2767,    199.2,2,     3.32,2,     7.81,2,     0.00,2,     0.49,2,    3.200,2,   -999.0,9,  -999.0,9,   0.120,-999.000,9
  316N198212_2, ATAS2,    81,  1,      7,      7,2,19830116,2044, 27.2600, -29.3133, 5224,  428.6,    410.0,  13.7258,  35.8605,2,-999.0000,9,   -999.0,9, 13.6664,    198.7,2,     4.00,2,     9.58,2,     0.00,2,     0.60,2,    3.410,2,   -999.0,9,  -999.0,9,   0.120,-999.000,9
  316N198212_2, ATAS2,    81,  1,      8,      8,2,19830116,2044, 27.2600, -29.3133, 5224,  507.7,    490.0,  12.8968,  35.7466,2,  35.7410,2,   -999.0,9, 12.8285,    193.1,2,     5.37,2,    12.40,2,     0.00,2,     0.77,2,    3.220,2,   -999.0,9,  -999.0,9,   0.120,-999.000,9
  316N198212_2, ATAS2,    81,  1,      9,      9,2,19830116,2044, 27.2600, -29.3133, 5224,  622.3,    611.1,  11.4428,  35.5791,2,  35.5740,2,   -999.0,9, 11.3636,    181.3,2,     7.42,2,    15.92,2,     0.00,2,     0.99,2, -999.000,9,   -999.0,9,  -999.0,9,-999.000,-999.000,9
  316N198212_2, ATAS2,    81,  1,     10,     10,2,19830116,2044, 27.2600, -29.3133, 5224,  745.5,    734.6,  10.2198,  35.4648,2,  35.4660,2,   -999.0,9, 10.1306,    166.9,2,    10.55,2,    19.24,2,     0.00,2,     1.21,2,    1.480,2,   -999.0,9,  -999.0,9,   0.090,-999.000,9
  316N198212_2, ATAS2,    81,  1,     11,     11,2,19830116,2044, 27.2600, -29.3133, 5224,  809.1,    798.5,   9.4388,  35.3968,2,  35.3940,2,   -999.0,9,  9.3461,    160.4,2,    12.80,2,    21.30,2,     0.00,2,     1.35,2, -999.000,9,   -999.0,9,   803.0,2,-999.000,   9.444,2
  316N198212_2, ATAS2,    81,  1,     12,     12,2,19830116,2044, 27.2600, -29.3133, 5224,  883.1,    873.3,   8.4959,  35.3126,2,-999.0000,9,   -999.0,9,  8.4001,   -999.0,9,  -999.00,9,  -999.00,9,  -999.00,9,  -999.00,9, -999.000,9,   -999.0,9,  -999.0,9,-999.000,-999.000,9
  316N198212_2, ATAS2,    81,  1,     13,     13,2,19830116,2044, 27.2600, -29.3133, 5224,  978.0,    969.0,   7.6989,  35.2525,2,  35.2530,2,   -999.0,9,  7.5977,    164.3,2,    16.80,2,    23.55,2,     0.00,2,     1.51,2,    0.367,2,   -999.0,9,  -999.0,9,   0.052,-999.000,9
  316N198212_2, ATAS2,    81,  1,     14,     14,2,19830116,2044, 27.2600, -29.3133, 5224, 1074.1,   1065.9,   6.9049,  35.1975,2,  35.1970,2,   -999.0,9,  6.7993,    175.1,2,    17.78,2,    23.64,2,     0.00,2,     1.53,2, -999.000,9,   -999.0,9,  -999.0,9,-999.000,-999.000,9
  316N198212_2, ATAS2,    81,  1,     15,     15,2,19830116,2044, 27.2600, -29.3133, 5224, 1153.5,   1145.7,   6.4699,  35.1788,2,  35.1780,2,   -999.0,9,  6.3595,    182.1,2,    17.88,2,    23.25,2,     0.00,2,     1.50,2, -999.000,9,   -999.0,9,  -999.0,9,-999.000,-999.000,9
  316N198212_2, ATAS2,    81,  1,     16,     16,2,19830116,2044, 27.2600, -29.3133, 5224, 1251.7,   1244.6,   6.2389,  35.2069,2,  35.2070,2,   -999.0,9,  6.1202,    191.2,2,    17.68,2,    22.37,2,     0.00,2,     1.46,2, -999.000,9,   -999.0,9,  -999.0,9,-999.000,-999.000,9
  316N198212_2, ATAS2,    81,  1,     17,     17,2,19830116,2044, 27.2600, -29.3133, 5224, 1311.1,   1304.3,   6.0709,  35.2079,2,  35.2100,2,   -999.0,9,  5.9476,    197.7,2,    17.59,2,    21.69,2,     0.00,2,     1.42,2, -999.000,9,   -999.0,9,  1306.0,2,-999.000,   6.071,2
  316N198212_2, ATAS2,    81,  1,     18,     18,2,19830116,2044, 27.2600, -29.3133, 5224, 1380.0,   1373.6,   6.0049,  35.2362,2,  35.2370,2,   -999.0,9,  5.8750,    201.6,2,    17.98,2,    21.20,2,     0.00,2,     1.41,2, -999.000,9,   -999.0,9,  -999.0,9,-999.000,-999.000,9
  316N198212_2, ATAS2,    81,  1,     19,     19,2,19830116,2044, 27.2600, -29.3133, 5224, 1492.2,   1486.5,   5.6269,  35.2247,2,  35.2270,2,   -999.0,9,  5.4893,    209.4,2,    18.95,2,    20.91,2,     0.00,2,     1.39,2, -999.000,9,   -999.0,9,  1481.0,2,-999.000,   5.632,2
  316N198212_2, ATAS2,    81,  1,     20,     20,2,19830116,2044, 27.2600, -29.3133, 5224, 1771.8,   1767.9,   4.6829,  35.1409,2,  35.1420,2,   -999.0,9,  4.5284,   -999.0,9,  -999.00,9,  -999.00,9,  -999.00,9,  -999.00,9, -999.000,9,   -999.0,9,  -999.0,9,-999.000,-999.000,9
  316N198212_2, ATAS2,    81,  1,     21,     21,2,19830116,2044, 27.2600, -29.3133, 5224, 1960.8,   1958.0,   4.1069,  35.0811,2,  35.0810,2,   -999.0,9,  3.9416,    240.7,2,    21.40,2,    19.54,2,     0.00,2,     1.32,2, -999.000,9,   -999.0,9,  1957.0,2,-999.000,   4.108,2
  316N198212_2, ATAS2,    81,  1,     22,     22,2,19830116,2044, 27.2600, -29.3133, 5224, 2159.4,   2157.8,   3.6999,  35.0378,2,  35.0360,2,   -999.0,9,  3.5213,    246.8,2,    22.67,2,    19.35,2,     0.00,2,     1.31,2, -999.000,9,   -999.0,9,  -999.0,9,-999.000,-999.000,9
  316N198212_2, ATAS2,    81,  1,     23,     23,2,19830116,2044, 27.2600, -29.3133, 5224, 2465.3,   2465.3,   3.2110,  34.9858,2,  34.9850,2,   -999.0,9,  3.0104,    253.7,2,    27.36,2,    19.74,2,     0.00,2,     1.33,2, -999.000,9,   -999.0,9,  2470.0,2,-999.000,   3.209,2
  316N198212_2, ATAS2,    82,  1,      1,      1,2,19830117,0834, 26.5033, -28.5983, 4666,   40.0,      1.0,  20.8576,  37.2264,2,  37.2240,2,   -999.0,9, 20.8574,    220.6,2,     1.27,2,     0.00,2,     0.00,2,     0.01,2, -999.000,9,   -999.0,9,  -999.0,9,-999.000,  20.870,2
  316N198212_2, ATAS2,    82,  1,      2,      2,2,19830117,0834, 26.5033, -28.5983, 4666,  173.3,    140.0,  19.0386,  36.7849,2,  36.7760,2,   -999.0,9, 19.0133,    212.3,2,     1.37,2,     0.55,2,     0.05,2,     0.05,2,    3.250,2,   -999.0,9,  -999.0,9,   0.130,-999.000,9
  316N198212_2, ATAS2,    82,  1,      3,      3,2,19830117,0834, 26.5033, -28.5983, 4666,  260.7,    229.0,  16.8986,  36.3691,2,  36.3550,2,   -999.0,9, 16.8606,    201.4,2,     2.34,2,     5.31,2,     0.00,2,     0.32,2, -999.000,9,   -999.0,9,  -999.0,9,-999.000,-999.000,9
  316N198212_2, ATAS2,    82,  1,      4,      4,2,19830117,0834, 26.5033, -28.5983, 4666,  343.7,    312.0,  15.3567,  36.1146,2,  36.1110,2,   -999.0,9, 15.3081,    197.0,2,     3.22,2,     8.03,2,     0.00,2,     0.49,2,    3.250,2,   2114.0,2,  -999.0,9,   0.130,-999.000,9
  316N198212_2, ATAS2,    82,  1,      5,      5,2,19830117,0834, 26.5033, -28.5983, 4666,  400.5,    370.0,  14.4507,  35.9718,2,  35.9630,2,   -999.0,9, 14.3953,    197.9,2,     4.00,2,     9.68,2,     0.00,2,     0.59,2, -999.000,9,   -999.0,9,  -999.0,9,-999.000,-999.000,9
  316N198212_2, ATAS2,    82,  1,      6,      6,2,19830117,0834, 26.5033, -28.5983, 4666,  499.1,    470.0,  12.7647,  35.7370,2,  35.7310,2,   -999.0,9, 12.6997,    191.8,2,     5.27,2,    12.89,2,     0.00,2,     0.78,2,    3.310,2,   2141.0,2,  -999.0,9,   0.140,-999.000,9
  316N198212_2, ATAS2,    82,  1,      7,      7,2,19830117,0834, 26.5033, -28.5983, 4666,  636.9,    626.6,  11.2477,  35.5586,2,  35.6140,2,   -999.0,9, 11.1674,    180.9,2,     7.13,2,    15.63,2,     0.00,2,     0.95,2, -999.000,9,   -999.0,9,  -999.0,9,-999.000,-999.000,9
  316N198212_2, ATAS2,    82,  1,      8,      8,2,19830117,0834, 26.5033, -28.5983, 4666,  764.4,    754.6,   9.8318,  35.4231,2,  35.4230,2,   -999.0,9,  9.7422,    156.1,2,    12.11,2,    21.49,2,     0.00,2,     1.34,2,    0.850,2,   2186.0,2,  -999.0,9,   0.080,-999.000,9
  316N198212_2, ATAS2,    82,  1,      9,      9,2,19830117,0834, 26.5033, -28.5983, 4666,  900.9,    891.8,   8.2948,  35.2765,2,  35.2780,2,   -999.0,9,  8.1983,    149.1,2,    16.22,2,    24.82,2,     0.00,2,     1.56,2, -999.000,9,   -999.0,9,  -999.0,9,-999.000,-999.000,9
  316N198212_2, ATAS2,    82,  1,     10,     10,2,19830117,0834, 26.5033, -28.5983, 4666, 1008.4,    999.7,   7.3998,  35.2150,2,  35.2210,2,   -999.0,9,  7.2975,    158.2,2,    17.88,2,    25.11,2,     0.00,2,     1.59,2,    0.490,2,   2204.0,2,  -999.0,9,   0.080,-999.000,9
  316N198212_2, ATAS2,    82,  1,     11,     11,2,19830117,0834, 26.5033, -28.5983, 4666, 1105.8,   1097.4,   6.9968,  35.2179,2,  35.2190,2,   -999.0,9,  6.8871,    167.8,2,    18.17,2,    24.43,2,     0.00,2,     1.56,2, -999.000,9,   -999.0,9,  1098.0,2,-999.000,   7.008,2
  316N198212_2, ATAS2,    82,  1,     12,     12,2,19830117,0834, 26.5033, -28.5983, 4666, 1268.2,   1260.5,   6.4438,  35.2323,2,  35.2340,2,   -999.0,9,  6.3215,    184.7,2,    17.98,2,    22.86,2,     0.00,2,     1.47,2, -999.000,9,   -999.0,9,  -999.0,9,-999.000,-999.000,9
  316N198212_2, ATAS2,    82,  1,     13,     13,2,19830117,0834, 26.5033, -28.5983, 4666, 1419.2,   1412.0,   6.0228,  35.2458,2,  35.2480,2,   -999.0,9,  5.8887,    201.6,2,    17.78,2,    21.40,2,     0.00,2,     1.38,2, -999.000,9,   -999.0,9,  -999.0,9,-999.000,-999.000,9
  316N198212_2, ATAS2,    82,  1,     14,     14,2,19830117,0834, 26.5033, -28.5983, 4666, 1603.5,   1596.9,   5.2929,  35.1975,2,  35.1990,2,   -999.0,9,  5.1478,    217.3,2,    18.66,2,    20.52,2,     0.00,2,     1.33,2, -999.000,9,   -999.0,9,  -999.0,9,-999.000,-999.000,9
  316N198212_2, ATAS2,    82,  1,     15,     15,2,19830117,0834, 26.5033, -28.5983, 4666, 1902.3,   1897.3,   4.4029,  35.1110,2,  35.1120,2,   -999.0,9,  4.2393,    233.3,2,    20.42,2,    19.93,2,     0.00,2,     1.30,2, -999.000,9,   -999.0,9,  -999.0,9,-999.000,-999.000,9
  316N198212_2, ATAS2,    82,  1,     16,     16,2,19830117,0834, 26.5033, -28.5983, 4666, 2199.3,   2195.9,   3.6889,  35.0354,2,  35.0350,2,   -999.0,9,  3.5067,    244.2,2,    23.55,2,    19.74,2,     0.00,2,     1.30,2, -999.000,9,   -999.0,9,  -999.0,9,-999.000,-999.000,9
  316N198212_2, ATAS2,    82,  1,     17,     17,2,19830117,0834, 26.5033, -28.5983, 4666, 2499.8,   2497.9,   3.1849,  34.9831,2,  34.9930,2,   -999.0,9,  2.9816,    247.7,2,    27.17,2,    19.93,2,     0.00,2,     1.32,2, -999.000,9,   -999.0,9,  2509.0,2,-999.000,   3.187,2
  316N198212_2, ATAS2,    82,  1,     18,     18,2,19830117,0834, 26.5033, -28.5983, 4666, 2795.0,   2794.5,   2.8829,  34.9548,2,  34.9530,2,   -999.0,9,  2.6557,    248.1,2,    32.15,2,    20.42,2,     0.00,2,     1.36,2, -999.000,9,   -999.0,9,  -999.0,9,-999.000,-999.000,9
  316N198212_2, ATAS2,    82,  1,     19,     19,2,19830117,0834, 26.5033, -28.5983, 4666, 3191.2,   3192.5,   2.6399,  34.9299,2,  34.9280,2,   -999.0,9,  2.3769,    246.8,2,    37.82,2,    21.11,2,     0.00,2,     1.42,2, -999.000,9,   -999.0,9,  3189.0,2,-999.000,   2.642,2
  316N198212_2, ATAS2,    82,  1,     20,     20,2,19830117,0834, 26.5033, -28.5983, 4666, 3583.9,   3586.9,   2.5179,  34.9156,2,  34.9130,2,   -999.0,9,  2.2155,    245.9,2,    41.63,2,    21.50,2,     0.00,2,     1.44,2, -999.000,9,   -999.0,9,  -999.0,9,-999.000,-999.000,9
  316N198212_2, ATAS2,    82,  1,     21,     21,2,19830117,0834, 26.5033, -28.5983, 4666, 3989.4,   3994.2,   2.4379,  34.9033,2,  34.9010,2,   -999.0,9,  2.0920,    245.9,2,    44.56,2,    21.89,2,     0.00,2,     1.47,2, -999.000,9,   -999.0,9,  3996.0,2,-999.000,   2.439,2
  316N198212_2, ATAS2,    82,  1,     22,     22,2,19830117,0834, 26.5033, -28.5983, 4666, 4481.3,   4488.3,   2.3879,  34.8902,2,  34.8900,2,   -999.0,9,  1.9855,    245.9,2,    46.91,2,    22.09,2,     0.00,2,     1.49,2, -999.000,9,   -999.0,9,  -999.0,9,-999.000,-999.000,9
  316N198212_2, ATAS2,    82,  1,     23,     23,2,19830117,0834, 26.5033, -28.5983, 4666, 4703.2,   4711.2,   2.3929,  34.8866,2,  34.8880,2,   -999.0,9,  1.9632,    246.8,2,    47.69,2,    22.28,2,     0.00,2,     1.49,2, -999.000,9,   -999.0,9,  4724.0,2,-999.000,   2.396,2