BOTTLE,20220818CCHSIOAMB
EXPOCODE,SECT_ID,STNNBR,CASTNO,SAMPNO,BTLNBR,BTLNBR_FLAG_W,DATE,TIME,LATITUDE,LONGITUDE,DEPTH,CTDRAW,CTDPRS,CTDTMP,CTDSAL,CTDSAL_FLAG_W,SALNTY,SALNTY_FLAG_W,CTDOXY,CTDOXY_FLAG_W,THETA,OXYGEN,OXYGEN_FLAG_W,SILCAT,SILCAT_FLAG_W,NITRAT,NITRAT_FLAG_W,NITRIT,NITRIT_FLAG_W,PHSPHT,PHSPHT_FLAG_W,TRITUM,TRITUM_FLAG_W,TCARBN,TCARBN_FLAG_W,REVPRS,REVPRS_FLAG_W,TRITER,REVTMP,REVTMP_FLAG_W
,,,,,,,,,,,,,DBAR,ITS-90,PSS-78,,PSS-78,,UMOL/KG,,DEG C,UMOL/KG,,UMOL/KG,,UMOL/KG,,UMOL/KG,,UMOL/KG,,TU,,UMOL/KG,,DBAR,,TU,ITS-90,
  316N198212_2, ATAS2,    86,  1,      1,      1,2,19830119,0648, 23.0267, -25.3517, 5208,   33.2,      2.0,  21.3243,  36.8467,2,  36.8430,2,   -999.0,9, 21.3239,    219.9,2,     1.27,2,     0.08,2,     0.00,2,     0.10,2, -999.000,9,   -999.0,9,  -999.0,9,-999.000,  21.328,2
  316N198212_2, ATAS2,    86,  1,      2,      2,2,19830119,0648, 23.0267, -25.3517, 5208,   60.9,     34.0,  21.4053,  36.8797,2,  36.8790,2,   -999.0,9, 21.3987,    219.0,2,     1.37,2,     0.04,2,     0.00,2,     0.11,2, -999.000,9,   -999.0,9,  -999.0,9,-999.000,-999.000,9
  316N198212_2, ATAS2,    86,  1,      3,      3,2,19830119,0648, 23.0267, -25.3517, 5208,  103.6,     77.0,  21.6883,  37.1384,2,  37.1320,2,   -999.0,9, 21.6731,    217.2,2,     1.27,2,     0.00,2,     0.00,2,     0.04,2,    2.750,2,   -999.0,9,  -999.0,9,   0.110,-999.000,9
  316N198212_2, ATAS2,    86,  1,      4,      4,2,19830119,0648, 23.0267, -25.3517, 5208,  140.9,    116.0,  20.4553,  37.0291,2,-999.0000,9,   -999.0,9, 20.4333,    201.9,2,     1.46,2,     1.33,2,     0.07,2,     0.14,2, -999.000,9,   -999.0,9,  -999.0,9,-999.000,-999.000,9
  316N198212_2, ATAS2,    86,  1,      5,      5,2,19830119,0648, 23.0267, -25.3517, 5208,  168.7,    146.0,  19.7373,  36.9998,2,  36.9920,2,   -999.0,9, 19.7103,    202.3,2,     1.37,2,     1.41,2,     0.03,2,     0.12,2,    3.200,2,   -999.0,9,  -999.0,9,   0.110,-999.000,9
  316N198212_2, ATAS2,    86,  1,      6,      6,2,19830119,0648, 23.0267, -25.3517, 5208,  206.7,    185.0,  18.7164,  36.7885,2,  36.7780,2,   -999.0,9, 18.6834,    192.7,2,     1.76,2,     3.41,2,     0.01,2,     0.23,2, -999.000,9,   -999.0,9,  -999.0,9,-999.000,-999.000,9
  316N198212_2, ATAS2,    86,  1,      7,      7,2,19830119,0648, 23.0267, -25.3517, 5208,  244.9,    224.0,  17.7074,  36.5836,2,  36.5750,2,   -999.0,9, 17.6689,    189.7,2,     1.95,2,     4.72,2,     0.01,2,     0.31,2,    3.400,2,   -999.0,9,  -999.0,9,   0.120,-999.000,9
  316N198212_2, ATAS2,    86,  1,      8,      8,2,19830119,0648, 23.0267, -25.3517, 5208,  282.1,    263.0,  16.2454,  36.2633,2,  36.2610,2,   -999.0,9, 16.2029,    164.0,2,     3.51,2,     9.69,2,     0.01,2,     0.62,2, -999.000,9,   -999.0,9,  -999.0,9,-999.000,-999.000,9
  316N198212_2, ATAS2,    86,  1,      9,      9,2,19830119,0648, 23.0267, -25.3517, 5208,  360.0,    342.0,  14.4904,  35.9899,2,  35.9830,2,   -999.0,9, 14.4392,    180.5,2,     3.81,2,    10.64,2,     0.00,2,     0.65,2,    3.610,2,   -999.0,9,  -999.0,9,   0.130,-999.000,9
  316N198212_2, ATAS2,    86,  1,     10,     10,2,19830119,0648, 23.0267, -25.3517, 5208,  443.7,    426.0,  12.8625,  35.7593,2,  35.7570,2,   -999.0,9, 12.8034,    181.3,2,     5.27,2,    13.28,2,     0.00,2,     0.82,2,    3.190,2,   -999.0,9,  -999.0,9,   0.130,-999.000,9
  316N198212_2, ATAS2,    86,  1,     11,     11,2,19830119,0648, 23.0267, -25.3517, 5208,  558.8,    549.0,  11.4325,  35.5746,2,  35.5730,2,   -999.0,9, 11.3616,    158.3,2,     8.40,2,    18.36,2,     0.00,2,     1.14,2,    2.110,2,   -999.0,9,   548.0,2,   0.100,  11.423,2
  316N198212_2, ATAS2,    86,  1,     12,     12,2,19830119,0648, 23.0267, -25.3517, 5208,  701.0,    691.9,   9.3735,  35.3158,2,  35.3120,2,   -999.0,9,  9.2940,    126.1,2,    14.75,2,    25.69,2,     0.01,2,     1.59,2, -999.000,9,   -999.0,9,  -999.0,9,-999.000,-999.000,9
  316N198212_2, ATAS2,    86,  1,     13,     13,2,19830119,0648, 23.0267, -25.3517, 5208,  861.3,    853.2,   7.5946,  35.1333,2,  35.1330,2,   -999.0,9,  7.5070,    130.0,2,    19.44,2,    28.43,2,     0.01,2,     1.80,2, -999.000,9,   -999.0,9,  -999.0,9,-999.000,-999.000,9
  316N198212_2, ATAS2,    86,  1,     14,     14,2,19830119,0648, 23.0267, -25.3517, 5208, 1000.1,    992.9,   6.6886,  35.0920,2,  35.0950,2,   -999.0,9,  6.5924,    150.8,2,    20.42,2,    27.16,2,     0.01,2,     1.76,2, -999.000,9,   -999.0,9,  -999.0,9,-999.000,-999.000,9
  316N198212_2, ATAS2,    86,  1,     15,     15,2,19830119,0648, 23.0267, -25.3517, 5208, 1099.0,   1092.5,   6.4206,  35.1281,2,  35.1290,2,   -999.0,9,  6.3162,    166.0,2,    19.84,2,    25.50,2,     0.01,2,     1.65,2, -999.000,9,   -999.0,9,  -999.0,9,-999.000,-999.000,9
  316N198212_2, ATAS2,    86,  1,     16,     16,2,19830119,0648, 23.0267, -25.3517, 5208, 1272.3,   1266.9,   5.8576,  35.1602,2,  35.1600,2,   -999.0,9,  5.7402,    188.6,2,    19.35,2,    23.06,2,     0.01,2,     1.52,2, -999.000,9,   -999.0,9,  -999.0,9,-999.000,-999.000,9
  316N198212_2, ATAS2,    86,  1,     17,     17,2,19830119,0648, 23.0267, -25.3517, 5208, 1386.0,   1381.3,   5.4136,  35.1431,2,  35.1440,2,   -999.0,9,  5.2891,    200.3,2,    19.44,2,    22.28,2,     0.01,2,     1.47,2, -999.000,9,   -999.0,9,  1377.0,2,-999.000,   5.414,2
  316N198212_2, ATAS2,    86,  1,     18,     18,2,19830119,0648, 23.0267, -25.3517, 5208, 1442.2,   1437.9,   5.1066,  35.1127,2,  35.1120,2,   -999.0,9,  4.9798,    206.0,2,    20.03,2,    22.18,2,     0.01,2,     1.46,2, -999.000,9,   -999.0,9,  -999.0,9,-999.000,-999.000,9
  316N198212_2, ATAS2,    86,  1,     19,     19,2,19830119,0648, 23.0267, -25.3517, 5208, 1588.2,   1584.7,   4.7326,  35.0970,2,  35.0980,2,   -999.0,9,  4.5957,    214.2,2,    21.11,2,    21.59,2,     0.01,2,     1.45,2, -999.000,9,   -999.0,9,  1579.0,2,-999.000,   4.730,2
  316N198212_2, ATAS2,    86,  1,     20,     20,2,19830119,0648, 23.0267, -25.3517, 5208, 1768.1,   1765.8,   4.2376,  35.0637,2,  35.0640,2,   -999.0,9,  4.0893,    223.3,2,    22.57,2,    21.11,2,     0.00,2,     1.42,2, -999.000,9,   -999.0,9,  -999.0,9,-999.000,-999.000,9
  316N198212_2, ATAS2,    86,  1,     21,     21,2,19830119,0648, 23.0267, -25.3517, 5208, 1966.8,   1965.6,   3.8416,  35.0305,2,  35.0300,2,   -999.0,9,  3.6796,    229.4,2,    24.62,2,    21.01,2,     0.00,2,     1.42,2, -999.000,9,   -999.0,9,  1957.0,2,-999.000,   3.841,2
  316N198212_2, ATAS2,    86,  1,     22,     22,2,19830119,0648, 23.0267, -25.3517, 5208, 2246.2,   2246.4,   3.4207,  34.9964,2,  34.9950,2,   -999.0,9,  3.2380,    235.5,2,    28.24,2,    21.01,2,     0.00,2,     1.42,2, -999.000,9,   -999.0,9,  -999.0,9,-999.000,-999.000,9
  316N198212_2, ATAS2,    86,  1,     23,     23,2,19830119,0648, 23.0267, -25.3517, 5208, 2443.0,   2444.3,   3.2197,  34.9830,2,  34.9820,2,   -999.0,9,  3.0211,    237.2,2,    30.39,2,  -999.00,9,     0.00,2,     1.42,2, -999.000,9,   -999.0,9,  2445.0,2,-999.000,   3.226,2
  316N198212_2, ATAS2,    87,  2,      1,      1,2,19830119,1934, 22.3617, -24.7017, 5094,  146.6,    115.0,  18.2793,  36.4928,2,  36.4790,2,   -999.0,9, 18.2592,    134.5,2,     3.61,2,    11.42,2,     0.02,2,     0.75,2, -999.000,9,   -999.0,9,  -999.0,9,-999.000,-999.000,9
  316N198212_2, ATAS2,    87,  2,      2,      2,2,19830119,1934, 22.3617, -24.7017, 5094,  194.6,    165.0,  16.6153,  36.2143,2,  36.2140,2,   -999.0,9, 16.5883,    110.9,2,     5.27,2,    15.82,2,     0.01,2,     1.01,2,    2.800,2,   -999.0,9,  -999.0,9,   0.110,-999.000,9
  316N198212_2, ATAS2,    87,  2,      3,      3,2,19830119,1934, 22.3617, -24.7017, 5094,  252.0,    225.0,  15.4024,  36.0621,2,  36.0600,2,   -999.0,9, 15.3673,    128.3,2,     5.37,2,    15.23,2,     0.00,2,     0.96,2, -999.000,9,   -999.0,9,  -999.0,9,-999.000,-999.000,9
  316N198212_2, ATAS2,    87,  2,      4,      4,2,19830119,1934, 22.3617, -24.7017, 5094,  368.4,    350.0,  13.2434,  35.7308,2,  35.7330,2,   -999.0,9, 13.1941,    118.7,2,     7.91,2,    19.73,2,     0.00,2,     1.21,2,    2.450,2,   -999.0,9,  -999.0,9,   0.100,-999.000,9
  316N198212_2, ATAS2,    87,  2,      5,      5,2,19830119,1934, 22.3617, -24.7017, 5094,  369.6,    351.0,  13.2574,  35.7391,2,  35.7170,2,   -999.0,9, 13.2079,    111.8,2,     8.30,2,    20.41,2,     0.00,2,     1.25,2, -999.000,9,   -999.0,9,  -999.0,9,-999.000,-999.000,9
  316N198212_2, ATAS2,    87,  2,      6,      6,2,19830119,1934, 22.3617, -24.7017, 5094,  410.7,    395.0,  12.7974,  35.7011,2,  35.6960,2,   -999.0,9, 12.7429,    128.7,2,     8.11,2,    19.24,2,     0.00,2,     1.19,2,    1.940,2,   -999.0,9,  -999.0,9,   0.090,-999.000,9
  316N198212_2, ATAS2,    87,  2,      7,      7,2,19830119,1934, 22.3617, -24.7017, 5094,  477.3,    466.1,  11.6584,  35.5353,2,  35.5350,2,   -999.0,9, 11.5977,    113.1,2,    10.06,2,    23.05,2,     0.00,2,     1.42,2, -999.000,9,   -999.0,9,  -999.0,9,-999.000,-999.000,9
  316N198212_2, ATAS2,    87,  2,      8,      8,2,19830119,1934, 22.3617, -24.7017, 5094,  558.6,    547.9,  10.0565,  35.3006,2,  35.2980,2,   -999.0,9,  9.9913,     85.2,2,    14.46,2,    29.21,2,     0.00,2,     1.80,2, -999.000,9,   -999.0,9,  -999.0,9,-999.000,-999.000,9
  316N198212_2, ATAS2,    87,  2,      9,      9,2,19830119,1934, 22.3617, -24.7017, 5094,  645.0,    634.7,   9.0405,  35.1849,2,  35.1820,2,   -999.0,9,  8.9694,     95.2,2,    17.00,2,    30.00,2,     0.00,2,     1.90,2,    0.305,2,   -999.0,9,  -999.0,9,   0.041,-999.000,9
  316N198212_2, ATAS2,    87,  2,     10,     10,2,19830119,1934, 22.3617, -24.7017, 5094,  725.3,    715.4,   7.9685,  35.0431,2,  35.0460,2,   -999.0,9,  7.8938,    100.0,2,    19.45,2,    31.46,2,     0.01,2,     2.01,2, -999.000,9,   -999.0,9,  -999.0,9,-999.000,-999.000,9
  316N198212_2, ATAS2,    87,  2,     11,     11,2,19830119,1934, 22.3617, -24.7017, 5094,  831.8,    822.2,   7.1025,  34.9673,2,  34.9670,2,   -999.0,9,  7.0215,    111.7,2,    21.79,2,    31.66,2,     0.01,2,     2.06,2,   -0.050,2,   -999.0,9,   826.0,2,   0.036,   7.131,2
  316N198212_2, ATAS2,    87,  2,     12,     12,2,19830119,1934, 22.3617, -24.7017, 5094,  928.5,    919.1,   6.5625,  34.9442,2,  34.9450,2,   -999.0,9,  6.4750,    122.6,2,    22.38,2,    31.17,2,     0.01,2,     2.05,2, -999.000,9,   -999.0,9,  -999.0,9,-999.000,-999.000,9
  316N198212_2, ATAS2,    87,  2,     13,     13,2,19830119,1934, 22.3617, -24.7017, 5094, 1022.9,   1013.8,   6.2445,  34.9588,2,  34.9580,2,   -999.0,9,  6.1498,    135.2,2,    22.96,2,    30.00,2,     0.01,2,     1.99,2, -999.000,9,   -999.0,9,  -999.0,9,-999.000,-999.000,9
  316N198212_2, ATAS2,    87,  2,     14,     14,2,19830119,1934, 22.3617, -24.7017, 5094, 1163.5,   1154.7,   6.0265,  35.0345,2,  35.0350,2,   -999.0,9,  5.9192,    158.6,2,    21.79,2,    27.17,2,     0.01,2,     1.83,2, -999.000,9,   -999.0,9,  -999.0,9,-999.000,-999.000,9
  316N198212_2, ATAS2,    87,  2,     15,     15,2,19830119,1934, 22.3617, -24.7017, 5094, 1345.6,   1337.5,   5.4776,  35.0862,2,  35.0860,2,   -999.0,9,  5.3569,    180.3,2,    21.30,2,    24.33,2,     0.01,2,     1.68,2, -999.000,9,   -999.0,9,  -999.0,9,-999.000,-999.000,9
  316N198212_2, ATAS2,    87,  2,     16,     16,2,19830119,1934, 22.3617, -24.7017, 5094, 1497.3,   1489.6,   5.0966,  35.1024,2,  35.1020,2,   -999.0,9,  4.9648,    202.9,2,    20.32,2,    22.18,2,     0.01,2,     1.53,2, -999.000,9,   -999.0,9,  -999.0,9,-999.000,-999.000,9
  316N198212_2, ATAS2,    87,  2,     19,     19,2,19830119,1934, 22.3617, -24.7017, 5094, 1769.4,   1762.4,   4.3786,  35.0743,2,  35.0750,2,   -999.0,9,  4.2287,    220.7,2,    22.18,2,    21.01,2,     0.01,2,     1.46,2, -999.000,9,   -999.0,9,  1766.0,2,-999.000,   4.374,2
  316N198212_2, ATAS2,    87,  2,     17,     17,2,19830119,1934, 22.3617, -24.7017, 5094, 1769.4,   1762.5,   4.3786,  35.0755,2,  35.0770,2,   -999.0,9,  4.2287,    220.7,2,    22.18,2,    21.01,2,     0.01,2,     1.47,2, -999.000,9,   -999.0,9,  1772.0,2,-999.000,   4.383,2
  316N198212_2, ATAS2,    87,  2,     18,     18,2,19830119,1934, 22.3617, -24.7017, 5094, 1769.7,   1762.7,   4.3786,  35.0754,2,  35.0760,2,   -999.0,9,  4.2287,   -999.0,9,  -999.00,9,  -999.00,9,  -999.00,9,  -999.00,9, -999.000,9,   -999.0,9,  -999.0,9,-999.000,-999.000,9
  316N198212_2, ATAS2,    87,  2,     20,     20,2,19830119,1934, 22.3617, -24.7017, 5094, 2068.2,   2062.8,   3.7676,  35.0252,2,  35.0250,2,   -999.0,9,  3.5972,    233.8,2,    24.82,2,    20.52,2,     0.01,2,     1.44,2, -999.000,9,   -999.0,9,  -999.0,9,-999.000,-999.000,9
  316N198212_2, ATAS2,    87,  2,     21,     21,2,19830119,1934, 22.3617, -24.7017, 5094, 2473.7,   2470.2,   3.2556,  34.9848,2,  34.9840,2,   -999.0,9,  3.0538,    239.4,2,    29.71,2,    20.52,2,     0.00,2,     1.46,2, -999.000,9,   -999.0,9,  2472.0,2,-999.000,   3.260,2
  316N198212_2, ATAS2,    87,  2,     22,     22,2,19830119,1934, 22.3617, -24.7017, 5094, 2979.3,   2978.1,   2.7766,  34.9427,2,  34.9400,2,   -999.0,9,  2.5329,    245.5,2,    35.47,2,    20.62,2,     0.01,2,     1.45,2, -999.000,9,   -999.0,9,  -999.0,9,-999.000,-999.000,9
  316N198212_2, ATAS2,    87,  2,     23,     23,2,19830119,1934, 22.3617, -24.7017, 5094, 5014.0,   5021.4,   2.4216,  34.8856,2,  34.8870,2,   -999.0,9,  1.9522,    245.9,2,    47.30,2,    21.79,2,     0.01,2,     1.53,2, -999.000,9,   -999.0,9,  5033.0,2,-999.000,   2.427,2
  316N198212_2, ATAS2,    88,  1,      1,      1,2,19830120,0921, 21.4600, -23.8533, 4829,   31.9,      1.0,  20.8772,  36.9078,2,  36.9090,2,   -999.0,9, 20.8770,    219.4,2,     1.07,2,     0.00,2,     0.01,2,     0.11,2, -999.000,9,   -999.0,9,  -999.0,9,-999.000,  20.879,2
  316N198212_2, ATAS2,    88,  1,      2,      2,2,19830120,0921, 21.4600, -23.8533, 4829,  167.4,    148.0,  18.3872,  36.6117,2,  36.5980,2,   -999.0,9, 18.3612,    163.6,2,     2.73,2,     7.49,2,     0.02,2,     0.53,2, -999.000,9,   -999.0,9,  -999.0,9,-999.000,-999.000,9
  316N198212_2, ATAS2,    88,  1,      3,      3,2,19830120,0921, 21.4600, -23.8533, 4829,  215.9,    198.0,  16.4593,  36.2853,2,  36.2720,2,   -999.0,9, 16.4270,    145.3,2,     3.81,2,    11.52,2,     0.01,2,     0.73,2, -999.000,9,   -999.0,9,  -999.0,9,-999.000,-999.000,9
  316N198212_2, ATAS2,    88,  1,      4,      4,2,19830120,0921, 21.4600, -23.8533, 4829,  240.3,    223.0,  15.9173,  36.1972,2,  36.1900,2,   -999.0,9, 15.8818,    154.4,2,     3.81,2,    11.62,2,     0.01,2,     0.70,2, -999.000,9,   -999.0,9,  -999.0,9,-999.000,-999.000,9
  316N198212_2, ATAS2,    88,  1,      5,      5,2,19830120,0921, 21.4600, -23.8533, 4829,  264.9,    248.0,  15.2153,  36.0421,2,  36.0380,2,   -999.0,9, 15.1770,    134.4,2,     4.98,2,    14.65,2,     0.01,2,     0.91,2, -999.000,9,   -999.0,9,  -999.0,9,-999.000,-999.000,9
  316N198212_2, ATAS2,    88,  1,      6,      6,2,19830120,0921, 21.4600, -23.8533, 4829,  294.3,    278.0,  14.2573,  35.8551,2,  35.8460,2,   -999.0,9, 14.2162,    107.9,2,     6.74,2,    19.24,2,     0.01,2,     1.16,2, -999.000,9,   -999.0,9,  -999.0,9,-999.000,-999.000,9
  316N198212_2, ATAS2,    88,  1,      7,      7,2,19830120,0921, 21.4600, -23.8533, 4829,  323.9,    308.0,  13.6773,  35.7784,2,  35.7610,2,   -999.0,9, 13.6330,    108.3,2,     7.32,2,    20.02,2,     0.01,2,     1.22,2, -999.000,9,   -999.0,9,  -999.0,9,-999.000,-999.000,9
  316N198212_2, ATAS2,    88,  1,      8,      8,2,19830120,0921, 21.4600, -23.8533, 4829,  373.5,    358.0,  12.9594,  35.6914,2,  35.6760,2,   -999.0,9, 12.9096,    111.3,2,     8.01,2,    21.10,2,     0.01,2,     1.28,2, -999.000,9,   -999.0,9,  -999.0,9,-999.000,-999.000,9
  316N198212_2, ATAS2,    88,  1,      9,      9,2,19830120,0921, 21.4600, -23.8533, 4829,  423.2,    408.0,  12.2364,  35.5960,2,  35.5840,2,   -999.0,9, 12.1817,    105.7,2,     9.28,2,    22.95,2,     0.01,2,     1.40,2, -999.000,9,   -999.0,9,  -999.0,9,-999.000,-999.000,9
  316N198212_2, ATAS2,    88,  1,     10,     10,2,19830120,0921, 21.4600, -23.8533, 4829,  472.8,    458.0,  11.6754,  35.5341,2,  35.5330,2,   -999.0,9, 11.6157,    108.3,2,     9.96,2,    23.64,2,     0.01,2,     1.43,2, -999.000,9,   -999.0,9,  -999.0,9,-999.000,-999.000,9
  316N198212_2, ATAS2,    88,  1,     11,     11,2,19830120,0921, 21.4600, -23.8533, 4829,  541.6,    531.8,  10.5424,  35.3752,2,  35.3730,2,   -999.0,9, 10.4773,     95.2,2,    12.90,2,    27.35,2,     0.01,2,     1.66,2, -999.000,9,   -999.0,9,   532.0,2,-999.000,  10.531,2
  316N198212_2, ATAS2,    88,  1,     12,     12,2,19830120,0921, 21.4600, -23.8533, 4829,  630.9,    621.5,   9.1924,  35.1945,2,  35.1900,2,   -999.0,9,  9.1222,     85.2,2,    16.71,2,    31.17,2,     0.01,2,     1.91,2, -999.000,9,   -999.0,9,  -999.0,9,-999.000,-999.000,9
  316N198212_2, ATAS2,    88,  1,     13,     13,2,19830120,0921, 21.4600, -23.8533, 4829,  721.0,    712.0,   8.0414,  35.0486,2,  35.0450,2,   -999.0,9,  7.9667,     86.9,2,    19.74,2,    33.03,2,     0.01,2,     2.07,2, -999.000,9,   -999.0,9,  -999.0,9,-999.000,-999.000,9
  316N198212_2, ATAS2,    88,  1,     14,     14,2,19830120,0921, 21.4600, -23.8533, 4829,  841.4,    832.9,   7.2225,  34.9873,2,  34.9870,2,   -999.0,9,  7.1395,    102.6,2,    21.79,2,    32.83,2,     0.01,2,     2.07,2, -999.000,9,   -999.0,9,  -999.0,9,-999.000,-999.000,9
  316N198212_2, ATAS2,    88,  1,     15,     15,2,19830120,0921, 21.4600, -23.8533, 4829,  966.9,    959.2,   6.5355,  34.9675,2,  34.9690,2,   -999.0,9,  6.4441,    120.8,2,    23.06,2,    31.37,2,     0.01,2,     2.01,2, -999.000,9,   -999.0,9,  -999.0,9,-999.000,-999.000,9
  316N198212_2, ATAS2,    88,  1,     16,     16,2,19830120,0921, 21.4600, -23.8533, 4829, 1062.0,   1054.9,   6.3035,  35.0155,2,  35.0140,2,   -999.0,9,  6.2040,    139.9,2,    22.57,2,    29.32,2,     0.01,2,     1.90,2, -999.000,9,   -999.0,9,  -999.0,9,-999.000,-999.000,9
  316N198212_2, ATAS2,    88,  1,     17,     17,2,19830120,0921, 21.4600, -23.8533, 4829, 1201.9,   1195.6,   6.0315,  35.0743,2,  35.0760,2,   -999.0,9,  5.9199,    159.9,2,    21.50,2,    27.07,2,     0.01,2,     1.76,2, -999.000,9,   -999.0,9,  1198.0,2,-999.000,   6.029,2
  316N198212_2, ATAS2,    88,  1,     18,     18,2,19830120,0921, 21.4600, -23.8533, 4829, 1372.2,   1367.0,   5.4185,  35.0928,2,  35.0940,2,   -999.0,9,  5.2955,    181.2,2,    21.59,2,    24.92,2,     0.00,2,     1.63,2, -999.000,9,   -999.0,9,  -999.0,9,-999.000,-999.000,9
  316N198212_2, ATAS2,    88,  1,     19,     19,2,19830120,0921, 21.4600, -23.8533, 4829, 1560.3,   1556.2,   4.8225,  35.0747,2,  35.0750,2,   -999.0,9,  4.6873,    201.2,2,    22.38,2,    23.45,2,     0.00,2,     1.55,2, -999.000,9,   -999.0,9,  1550.0,2,-999.000,   4.818,2
  316N198212_2, ATAS2,    88,  1,     20,     20,2,19830120,0921, 21.4600, -23.8533, 4829, 1758.9,   1755.9,   4.3155,  35.0545,2,  35.0560,2,   -999.0,9,  4.1672,    214.2,2,    23.55,2,    22.28,2,     0.00,2,     1.49,2, -999.000,9,   -999.0,9,  -999.0,9,-999.000,-999.000,9
  316N198212_2, ATAS2,    88,  1,     21,     21,2,19830120,0921, 21.4600, -23.8533, 4829, 2008.7,   2007.2,   3.7645,  35.0095,2,  35.0090,2,   -999.0,9,  3.5997,    226.8,2,    25.80,2,    21.79,2,     0.00,2,     1.46,2, -999.000,9,   -999.0,9,  2005.0,2,-999.000,   3.766,2
  316N198212_2, ATAS2,    88,  1,     22,     22,2,19830120,0921, 21.4600, -23.8533, 4829, 2307.1,   2307.2,   3.3545,  34.9783,2,  34.9790,2,   -999.0,9,  3.1671,    233.3,2,    28.63,2,    21.60,2,     0.00,2,     1.46,2, -999.000,9,   -999.0,9,  -999.0,9,-999.000,-999.000,9
  316N198212_2, ATAS2,    88,  1,     23,     23,2,19830120,0921, 21.4600, -23.8533, 4829, 2504.3,   2505.5,   3.1885,  34.9697,2,  34.9720,2,   -999.0,9,  2.9845,    236.4,2,    30.39,2,    21.69,2,     0.00,2,     1.44,2, -999.000,9,   -999.0,9,  2509.0,2,-999.000,   3.191,2