BOTTLE,20220818CCHSIOAMB
EXPOCODE,SECT_ID,STNNBR,CASTNO,SAMPNO,BTLNBR,BTLNBR_FLAG_W,DATE,TIME,LATITUDE,LONGITUDE,DEPTH,CTDRAW,CTDPRS,CTDTMP,CTDSAL,CTDSAL_FLAG_W,SALNTY,SALNTY_FLAG_W,CTDOXY,CTDOXY_FLAG_W,THETA,OXYGEN,OXYGEN_FLAG_W,SILCAT,SILCAT_FLAG_W,NITRAT,NITRAT_FLAG_W,NITRIT,NITRIT_FLAG_W,PHSPHT,PHSPHT_FLAG_W,TRITUM,TRITUM_FLAG_W,TCARBN,TCARBN_FLAG_W,REVPRS,REVPRS_FLAG_W,TRITER,REVTMP,REVTMP_FLAG_W
,,,,,,,,,,,,,DBAR,ITS-90,PSS-78,,PSS-78,,UMOL/KG,,DEG C,UMOL/KG,,UMOL/KG,,UMOL/KG,,UMOL/KG,,UMOL/KG,,TU,,UMOL/KG,,DBAR,,TU,ITS-90,
  316N198212_2, ATAS2,    92,  1,      1,      1,2,19830122,0519, 20.5633, -19.8817, 3635,   20.2,      1.0,  19.6110,  36.4358,2,  36.4450,2,   -999.0,9, 19.6108,    222.0,2,     1.37,2,     1.18,2,     0.18,2,     0.19,2, -999.000,9,   -999.0,9,  -999.0,9,-999.000,  19.599,2
  316N198212_2, ATAS2,    92,  1,      2,      2,2,19830122,0519, 20.5633, -19.8817, 3635,  113.1,    100.0,  17.2940,  36.2435,2,  36.2390,2,   -999.0,9, 17.2772,     97.0,2,     4.88,2,    17.18,2,     0.02,2,     1.03,2, -999.000,9,   -999.0,9,  -999.0,9,-999.000,-999.000,9
  316N198212_2, ATAS2,    92,  1,      3,      3,2,19830122,0519, 20.5633, -19.8817, 3635,  162.9,    151.0,  15.1611,  35.8506,2,  35.8480,2,   -999.0,9, 15.1379,     77.4,2,     7.23,2,    22.27,2,     0.00,2,     1.33,2,    1.830,2,   -999.0,9,  -999.0,9,   0.110,-999.000,9
  316N198212_2, ATAS2,    92,  1,      4,      4,2,19830122,0519, 20.5633, -19.8817, 3635,  231.6,    221.0,  13.2511,  35.5240,2,  35.5220,2,   -999.0,9, 13.2201,     53.5,2,    10.45,2,    27.84,2,     0.00,2,     1.66,2, -999.000,9,   -999.0,9,  -999.0,9,-999.000,-999.000,9
  316N198212_2, ATAS2,    92,  1,      5,      5,2,19830122,0519, 20.5633, -19.8817, 3635,  315.8,    307.0,  12.7761,  35.5384,2,  35.5380,2,   -999.0,9, 12.7340,     61.3,2,    10.55,2,    27.64,2,     0.00,2,     1.61,2,    1.520,2,   -999.0,9,  -999.0,9,   0.090,-999.000,9
  316N198212_2, ATAS2,    92,  1,      6,      6,2,19830122,0519, 20.5633, -19.8817, 3635,  369.2,    362.0,  12.6031,  35.5765,2,  35.5680,2,   -999.0,9, 12.5538,     77.0,2,    10.26,2,    26.28,2,     0.00,2,     1.52,2, -999.000,9,   -999.0,9,  -999.0,9,-999.000,-999.000,9
  316N198212_2, ATAS2,    92,  1,      7,      7,2,19830122,0519, 20.5633, -19.8817, 3635,  424.8,    421.0,  11.5491,  35.4202,2,  35.4210,2,   -999.0,9, 11.4948,     60.4,2,    12.31,2,    30.09,2,     0.00,2,     1.75,2, -999.000,9,   -999.0,9,  -999.0,9,-999.000,-999.000,9
  316N198212_2, ATAS2,    92,  1,      8,      8,2,19830122,0519, 20.5633, -19.8817, 3635,  477.0,    477.0,  10.7002,  35.2926,2,  35.2970,2,   -999.0,9, 10.6414,     56.1,2,    13.97,2,    32.14,2,     0.00,2,     1.89,2, -999.000,9,   -999.0,9,  -999.0,9,-999.000,-999.000,9
  316N198212_2, ATAS2,    92,  1,      9,      9,2,19830122,0519, 20.5633, -19.8817, 3635,  552.6,    543.1,  10.0312,  35.2459,2,  35.2440,2,   -999.0,9,  9.9667,     63.9,2,    15.63,2,    32.53,2,     0.00,2,     1.92,2,    0.660,2,   -999.0,9,  -999.0,9,   0.080,-999.000,9
  316N198212_2, ATAS2,    92,  1,     10,     10,2,19830122,0519, 20.5633, -19.8817, 3635,  754.9,    746.1,   8.0032,  35.0276,2,  35.0300,2,   -999.0,9,  7.9250,     81.7,2,    20.23,2,    34.30,2,     0.00,2,     2.09,2, -999.000,9,   -999.0,9,  -999.0,9,-999.000,-999.000,9
  316N198212_2, ATAS2,    92,  1,     11,     11,2,19830122,0519, 20.5633, -19.8817, 3635,  856.1,    847.6,   7.1352,  34.9565,2,  34.9560,2,   -999.0,9,  7.0513,     95.2,2,    22.57,2,    34.20,2,     0.00,2,     2.12,2, -999.000,9,   -999.0,9,   726.0,2,-999.000,   7.137,2
  316N198212_2, ATAS2,    92,  1,     12,     12,2,19830122,0519, 20.5633, -19.8817, 3635,  967.8,    959.6,   6.6442,  34.9551,2,  34.9550,2,   -999.0,9,  6.5520,    111.7,2,    23.36,2,    32.83,2,     0.00,2,     2.06,2, -999.000,9,   -999.0,9,  -999.0,9,-999.000,-999.000,9
  316N198212_2, ATAS2,    92,  1,     13,     13,2,19830122,0519, 20.5633, -19.8817, 3635, 1069.3,   1061.3,   6.2002,  34.9658,2,  34.9660,2,   -999.0,9,  6.1010,    128.2,2,    23.55,2,    31.27,2,     0.00,2,     1.99,2, -999.000,9,   -999.0,9,  -999.0,9,-999.000,-999.000,9
  316N198212_2, ATAS2,    92,  1,     14,     14,2,19830122,0519, 20.5633, -19.8817, 3635, 1368.9,   1362.3,   5.5843,  35.0982,2,-999.0000,9,   -999.0,9,  5.4600,   -999.0,9,  -999.00,9,  -999.00,9,  -999.00,9,  -999.00,9, -999.000,9,   -999.0,9,  -999.0,9,-999.000,-999.000,9
  316N198212_2, ATAS2,    92,  1,     15,     15,2,19830122,0519, 20.5633, -19.8817, 3635, 1370.2,   1363.6,   5.5833,  35.0975,2,  35.0990,2,   -999.0,9,  5.4589,    176.4,2,    21.69,2,    25.60,2,     0.00,2,     1.65,2, -999.000,9,   -999.0,9,  -999.0,9,-999.000,-999.000,9
  316N198212_2, ATAS2,    92,  1,     16,     16,2,19830122,0519, 20.5633, -19.8817, 3635, 1506.8,   1501.1,   5.1343,  35.0969,2,  35.0970,2,   -999.0,9,  5.0009,    190.8,2,    22.47,2,    24.23,2,     0.00,2,     1.59,2, -999.000,9,   -999.0,9,  -999.0,9,-999.000,-999.000,9
  316N198212_2, ATAS2,    92,  1,     17,     17,2,19830122,0519, 20.5633, -19.8817, 3635, 1708.9,   1704.5,   4.2893,  35.0340,2,  35.0370,2,   -999.0,9,  4.1463,    208.1,2,    24.72,2,    23.16,2,     0.00,2,     1.54,2, -999.000,9,   -999.0,9,  1708.0,2,-999.000,   4.287,2
  316N198212_2, ATAS2,    92,  1,     18,     18,2,19830122,0519, 20.5633, -19.8817, 3635, 2013.9,   2011.2,   3.7703,  35.0129,2,  35.0130,2,   -999.0,9,  3.6049,    224.2,2,    26.68,2,    21.99,2,     0.00,2,     1.48,2, -999.000,9,   -999.0,9,  -999.0,9,-999.000,-999.000,9
  316N198212_2, ATAS2,    92,  1,     19,     19,2,19830122,0519, 20.5633, -19.8817, 3635, 2920.9,   2923.1,   2.8133,  34.9397,2,  34.9390,2,   -999.0,9,  2.5745,    236.4,2,    37.43,2,    21.79,2,     0.00,2,     1.48,2, -999.000,9,   -999.0,9,  2917.0,2,-999.000,   2.812,2
  316N198212_2, ATAS2,    92,  1,     20,     20,2,19830122,0519, 20.5633, -19.8817, 3635, 3122.9,   3126.0,   2.6713,  34.9270,2,  34.9270,2,   -999.0,9,  2.4146,    235.5,2,    40.85,2,    21.99,2,     0.00,2,     1.50,2, -999.000,9,   -999.0,9,  -999.0,9,-999.000,-999.000,9
  316N198212_2, ATAS2,    92,  1,     21,     21,2,19830122,0519, 20.5633, -19.8817, 3635, 3325.0,   3329.3,   2.5573,  34.9169,2,  34.9170,2,   -999.0,9,  2.2818,    234.6,2,    44.07,2,    22.38,2,     0.00,2,     1.51,2, -999.000,9,   -999.0,9,  3323.0,2,-999.000,   2.557,2
  316N198212_2, ATAS2,    92,  1,     22,     22,2,19830122,0519, 20.5633, -19.8817, 3635, 3526.6,   3531.8,   2.4623,  34.9074,2,  34.9070,2,   -999.0,9,  2.1674,    232.0,2,    46.91,2,    22.77,2,     0.00,2,     1.53,2, -999.000,9,   -999.0,9,  -999.0,9,-999.000,-999.000,9
  316N198212_2, ATAS2,    92,  1,     23,     23,2,19830122,0519, 20.5633, -19.8817, 3635, 3678.1,   3684.2,   2.3683,  34.8979,2,-999.0000,9,   -999.0,9,  2.0592,    235.9,2,    48.77,2,    22.77,2,     0.00,2,     1.53,2, -999.000,9,   -999.0,9,  3691.0,2,-999.000,   2.376,2
  316N198212_2, ATAS2,    93,  1,      1,      1,2,19830122,1415, 20.5667, -18.8333, 2955,   21.4,      2.0,  19.1759,  36.5699,2,  36.5710,2,   -999.0,9, 19.1756,    230.7,2,     1.56,2,     1.89,2,     0.49,2,     0.28,2,    2.760,2,   2099.0,2,  -999.0,9,   0.130,  19.163,2
  316N198212_2, ATAS2,    93,  1,      2,      2,2,19830122,1415, 20.5667, -18.8333, 2955,  144.8,    126.0,  18.0730,  36.5649,2,  36.5520,2,   -999.0,9, 18.0511,    163.2,2,     2.73,2,     7.69,2,     0.02,2,     0.51,2, -999.000,9,   -999.0,9,  -999.0,9,-999.000,-999.000,9
  316N198212_2, ATAS2,    93,  1,      3,      3,2,19830122,1415, 20.5667, -18.8333, 2955,  181.6,    166.0,  17.2020,  36.4523,2,  36.4490,2,   -999.0,9, 17.1741,    172.3,2,     2.64,2,     7.34,2,     0.01,2,     0.48,2, -999.000,9,   -999.0,9,  -999.0,9,-999.000,-999.000,9
  316N198212_2, ATAS2,    93,  1,      4,      4,2,19830122,1415, 20.5667, -18.8333, 2955,  229.3,    216.0,  15.9900,  36.2494,2,  36.2260,2,   -999.0,9, 15.9555,    174.9,2,     3.32,2,     8.72,2,     0.01,2,     0.55,2,    3.340,2,   2133.0,2,  -999.0,9,   0.140,-999.000,9
  316N198212_2, ATAS2,    93,  1,      5,      5,2,19830122,1415, 20.5667, -18.8333, 2955,  283.6,    272.2,  14.6910,  36.0104,2,  36.0060,2,   -999.0,9, 14.6499,    161.4,2,     4.39,2,    12.11,2,     0.02,2,     0.75,2, -999.000,9,   -999.0,9,  -999.0,9,-999.000,-999.000,9
  316N198212_2, ATAS2,    93,  1,      6,      6,2,19830122,1415, 20.5667, -18.8333, 2955,  322.7,    312.0,  13.9990,  35.9008,2,  35.8920,2,   -999.0,9, 13.9534,    157.0,2,     5.18,2,    13.77,2,     0.02,2,     0.85,2,    2.930,2,   -999.0,9,  -999.0,9,   0.120,-999.000,9
  316N198212_2, ATAS2,    93,  1,      7,      7,2,19830122,1415, 20.5667, -18.8333, 2955,  382.5,    373.0,  12.7591,  35.6857,2,  35.6790,2,   -999.0,9, 12.7077,    119.6,2,     8.11,2,    20.32,2,     0.01,2,     1.22,2, -999.000,9,   -999.0,9,  -999.0,9,-999.000,-999.000,9
  316N198212_2, ATAS2,    93,  1,      8,      8,2,19830122,1415, 20.5667, -18.8333, 2955,  452.2,    443.0,  11.7591,  35.5354,2,  35.5400,2,   -999.0,9, 11.7011,    104.4,2,    10.06,2,    23.93,2,     0.01,2,     1.44,2,    1.850,2,   -999.0,9,  -999.0,9,   0.090,-999.000,9
  316N198212_2, ATAS2,    93,  1,      9,      9,2,19830122,1415, 20.5667, -18.8333, 2955,  537.2,    527.0,  10.5281,  35.3679,2,  35.3510,2,   -999.0,9, 10.4636,     91.7,2,    13.38,2,    28.14,2,     0.01,2,     1.70,2,    0.830,2,   -999.0,9,  -999.0,9,   0.070,-999.000,9
  316N198212_2, ATAS2,    93,  1,     10,     10,2,19830122,1415, 20.5667, -18.8333, 2955,  602.2,    592.3,   9.6631,  35.2748,2,  35.2720,2,   -999.0,9,  9.5942,     95.2,2,    15.34,2,    29.11,2,     0.01,2,     1.78,2, -999.000,9,   -999.0,9,  -999.0,9,-999.000,-999.000,9
  316N198212_2, ATAS2,    93,  1,     11,     11,2,19830122,1415, 20.5667, -18.8333, 2955,  677.1,    667.3,   9.0031,  35.2208,2,  35.2200,2,   -999.0,9,  8.9284,    105.2,2,    16.32,2,    29.21,2,     0.01,2,     1.80,2, -999.000,9,   -999.0,9,   670.0,2,-999.000,   9.001,2
  316N198212_2, ATAS2,    93,  1,     12,     12,2,19830122,1415, 20.5667, -18.8333, 2955,  741.6,    732.2,   8.0091,  35.0787,2,  35.0750,2,   -999.0,9,  7.9324,     96.9,2,    19.84,2,    32.05,2,     0.00,2,     1.99,2, -999.000,9,   -999.0,9,  -999.0,9,-999.000,-999.000,9
  316N198212_2, ATAS2,    93,  1,     13,     13,2,19830122,1415, 20.5667, -18.8333, 2955,  812.0,    802.8,   7.5972,  35.0680,2,  35.0650,2,   -999.0,9,  7.5150,    112.6,2,    20.03,2,    30.98,2,     0.00,2,     1.93,2, -999.000,9,   -999.0,9,  -999.0,9,-999.000,-999.000,9
  316N198212_2, ATAS2,    93,  1,     14,     14,2,19830122,1415, 20.5667, -18.8333, 2955,  896.9,    887.9,   6.9952,  35.0273,2,  35.0280,2,   -999.0,9,  6.9079,    123.4,2,    21.40,2,    30.68,2,     0.00,2,     1.93,2, -999.000,9,   -999.0,9,  -999.0,9,-999.000,-999.000,9
  316N198212_2, ATAS2,    93,  1,     15,     15,2,19830122,1415, 20.5667, -18.8333, 2955,  971.9,    963.1,   6.7392,  35.0340,2,  35.0340,2,   -999.0,9,  6.6458,    130.4,2,    21.60,2,    30.10,2,     0.00,2,     1.90,2, -999.000,9,   -999.0,9,  -999.0,9,-999.000,-999.000,9
  316N198212_2, ATAS2,    93,  1,     16,     16,2,19830122,1415, 20.5667, -18.8333, 2955, 1052.0,   1043.7,   6.2672,  35.0088,2,  35.0120,2,   -999.0,9,  6.1691,    136.5,2,    22.96,2,    30.00,2,     0.00,2,     1.90,2, -999.000,9,   -999.0,9,  -999.0,9,-999.000,-999.000,9
  316N198212_2, ATAS2,    93,  1,     17,     17,2,19830122,1415, 20.5667, -18.8333, 2955, 1152.4,   1144.8,   5.9892,  35.0600,2,  35.0620,2,   -999.0,9,  5.8831,    154.7,2,    22.18,2,    27.75,2,     0.00,2,     1.77,2, -999.000,9,   -999.0,9,  1147.0,2,-999.000,   5.998,2
  316N198212_2, ATAS2,    93,  1,     18,     18,2,19830122,1415, 20.5667, -18.8333, 2955, 1373.8,   1367.5,   5.0352,  35.0386,2,  35.0320,2,   -999.0,9,  4.9162,    189.5,2,    24.53,2,    24.92,2,     0.00,2,     1.62,2, -999.000,9,   -999.0,9,  -999.0,9,-999.000,-999.000,9
  316N198212_2, ATAS2,    93,  1,     19,     19,2,19830122,1415, 20.5667, -18.8333, 2955, 1568.7,   1563.7,   4.4502,  35.0292,2,  35.0310,2,   -999.0,9,  4.3188,    200.3,2,    23.84,2,    23.94,2,     0.00,2,     1.55,2, -999.000,9,   -999.0,9,  1561.0,2,-999.000,   4.452,2
  316N198212_2, ATAS2,    93,  1,     20,     20,2,19830122,1415, 20.5667, -18.8333, 2955, 1813.9,   1810.3,   3.8812,  34.9949,2,  34.9970,2,   -999.0,9,  3.7336,    216.4,2,    25.90,2,    22.87,2,     0.00,2,     1.49,2, -999.000,9,   -999.0,9,  -999.0,9,-999.000,-999.000,9
  316N198212_2, ATAS2,    93,  1,     21,     21,2,19830122,1415, 20.5667, -18.8333, 2955, 2314.2,   2313.3,   3.3282,  34.9771,2,  34.9810,2,   -999.0,9,  3.1407,    227.7,2,    31.08,2,    21.99,2,     0.00,2,     1.45,2, -999.000,9,   -999.0,9,  2309.0,2,-999.000,   3.322,2
  316N198212_2, ATAS2,    93,  1,     22,     22,2,19830122,1415, 20.5667, -18.8333, 2955, 2814.5,   2816.3,   2.8552,  34.9381,2,  34.9380,2,   -999.0,9,  2.6265,    228.5,2,    38.50,2,    22.09,2,     0.00,2,     1.47,2, -999.000,9,   -999.0,9,  -999.0,9,-999.000,-999.000,9
  316N198212_2, ATAS2,    93,  1,     23,     23,2,19830122,1415, 20.5667, -18.8333, 2955, 2979.0,   2981.7,   2.7522,  34.9303,2,  34.9300,2,   -999.0,9,  2.5088,    223.8,2,    41.83,2,    22.48,2,     0.00,2,     1.48,2, -999.000,9,   -999.0,9,  2990.0,2,-999.000,   2.756,2
  316N198212_2, ATAS2,    94,  1,      1,      1,2,19830123,0927, 18.3317, -19.4800, 3163,   30.7,      1.0,  19.8119,  36.0355,2,  36.0320,2,   -999.0,9, 19.8117,    241.2,2,     0.68,2,     0.18,2,     0.02,2,     0.21,2,    1.640,2,   2045.0,2,  -999.0,9,   0.080,  19.803,2
  316N198212_2, ATAS2,    94,  1,      2,      2,2,19830123,0927, 18.3317, -19.4800, 3163,   90.5,     77.0,  15.8399,  35.8554,2,  35.8660,2,   -999.0,9, 15.8278,     70.5,2,     7.03,2,    22.36,2,     0.02,2,     1.42,2, -999.000,9,   -999.0,9,  -999.0,9,-999.000,-999.000,9
  316N198212_2, ATAS2,    94,  1,      3,      3,2,19830123,0927, 18.3317, -19.4800, 3163,  134.6,    122.0,  13.7450,  35.4962,2,  35.5050,2,   -999.0,9, 13.7275,     63.9,2,     9.38,2,    25.98,2,     0.01,2,     1.63,2, -999.000,9,   -999.0,9,  -999.0,9,-999.000,-999.000,9
  316N198212_2, ATAS2,    94,  1,      4,      4,2,19830123,0927, 18.3317, -19.4800, 3163,  198.7,    186.0,  13.5280,  35.6139,2,  35.6260,2,   -999.0,9, 13.5016,     68.3,2,     9.18,2,    25.59,2,     0.00,2,     1.56,2,    1.830,2,   2212.0,2,  -999.0,9,   0.100,-999.000,9
  316N198212_2, ATAS2,    94,  1,      5,      5,2,19830123,0927, 18.3317, -19.4800, 3163,  253.0,    241.0,  12.7870,  35.5494,2,  35.5440,2,   -999.0,9, 12.7540,     66.1,2,    10.45,2,    26.86,2,     0.01,2,     1.62,2, -999.000,9,   -999.0,9,  -999.0,9,-999.000,-999.000,9
  316N198212_2, ATAS2,    94,  1,      6,      6,2,19830123,0927, 18.3317, -19.4800, 3163,  312.4,    301.0,  12.0710,  35.4637,2,  35.4580,2,   -999.0,9, 12.0312,     63.1,2,    11.62,2,    28.72,2,     0.01,2,     1.72,2,    1.080,2,   -999.0,9,  -999.0,9,   0.080,-999.000,9
  316N198212_2, ATAS2,    94,  1,      7,      7,2,19830123,0927, 18.3317, -19.4800, 3163,  381.7,    371.0,  11.4340,  35.3956,2,  35.3940,2,   -999.0,9, 11.3866,     63.9,2,    12.70,2,    29.60,2,     0.01,2,     1.77,2, -999.000,9,   -999.0,9,  -999.0,9,-999.000,-999.000,9
  316N198212_2, ATAS2,    94,  1,      8,      8,2,19830123,0927, 18.3317, -19.4800, 3163,  440.9,    431.0,  10.8790,  35.3373,2,  35.3250,2,   -999.0,9, 10.8255,     67.0,2,    13.78,2,    30.48,2,     0.01,2,     1.84,2,    0.970,2,   -999.0,9,  -999.0,9,   0.080,-999.000,9
  316N198212_2, ATAS2,    94,  1,      9,      9,2,19830123,0927, 18.3317, -19.4800, 3163,  520.1,    510.5,   9.6031,  35.1577,2,  35.1540,2,   -999.0,9,  9.5442,     67.4,2,    16.81,2,    32.93,2,     0.00,2,     2.00,2, -999.000,9,   -999.0,9,  -999.0,9,-999.000,-999.000,9
  316N198212_2, ATAS2,    94,  1,     10,     10,2,19830123,0927, 18.3317, -19.4800, 3163,  730.6,    721.6,   7.6531,  34.9622,2,  34.9610,2,   -999.0,9,  7.5795,     89.6,2,    21.60,2,    34.20,2,     0.00,2,     2.14,2, -999.000,9,   -999.0,9,  -999.0,9,-999.000,-999.000,9
  316N198212_2, ATAS2,    94,  1,     11,     11,2,19830123,0927, 18.3317, -19.4800, 3163,  860.5,    851.9,   6.7911,  34.9116,2,  34.9090,2,   -999.0,9,  6.7090,     99.1,2,    24.24,2,    34.20,2,     0.00,2,     2.18,2, -999.000,9,   -999.0,9,   854.0,2,-999.000,   6.791,2
  316N198212_2, ATAS2,    94,  1,     12,     12,2,19830123,0927, 18.3317, -19.4800, 3163,  960.3,    952.0,   6.2561,  34.8929,2,  34.8930,2,   -999.0,9,  6.1675,    114.3,2,    24.63,2,    33.13,2,     0.00,2,     2.12,2, -999.000,9,   -999.0,9,  -999.0,9,-999.000,-999.000,9
  316N198212_2, ATAS2,    94,  1,     13,     13,2,19830123,0927, 18.3317, -19.4800, 3163, 1171.8,   1164.3,   5.6991,  35.0011,2,  35.0010,2,   -999.0,9,  5.5937,    153.8,2,    23.55,2,    28.63,2,     0.00,2,     1.88,2, -999.000,9,   -999.0,9,  -999.0,9,-999.000,-999.000,9
  316N198212_2, ATAS2,    94,  1,     14,     14,2,19830123,0927, 18.3317, -19.4800, 3163, 1372.9,   1366.7,   5.1381,  35.0312,2,  35.0320,2,   -999.0,9,  5.0181,    176.9,2,    23.45,2,    25.89,2,     0.00,2,     1.72,2, -999.000,9,   -999.0,9,  -999.0,9,-999.000,-999.000,9
  316N198212_2, ATAS2,    94,  1,     15,     15,2,19830123,0927, 18.3317, -19.4800, 3163, 1588.6,   1583.8,   4.4212,  35.0131,2,  35.0130,2,   -999.0,9,  4.2882,    200.7,2,    24.14,2,    23.84,2,     0.00,2,     1.61,2, -999.000,9,   -999.0,9,  -999.0,9,-999.000,-999.000,9
  316N198212_2, ATAS2,    94,  1,     16,     16,2,19830123,0927, 18.3317, -19.4800, 3163, 1814.0,   1810.4,   3.8652,  34.9851,2,  34.9860,2,   -999.0,9,  3.7178,    219.0,2,    25.21,2,    22.57,2,     0.00,2,     1.52,2, -999.000,9,   -999.0,9,  -999.0,9,-999.000,-999.000,9
  316N198212_2, ATAS2,    94,  1,     17,     17,2,19830123,0927, 18.3317, -19.4800, 3163, 2212.4,   2211.0,   3.3802,  34.9648,2,  34.9660,2,   -999.0,9,  3.2017,    229.8,2,    28.93,2,    21.79,2,     0.00,2,     1.48,2, -999.000,9,   -999.0,9,  2216.0,2,-999.000,   3.383,2
  316N198212_2, ATAS2,    94,  1,     18,     18,2,19830123,0927, 18.3317, -19.4800, 3163, 2509.2,   2509.5,   3.1162,  34.9577,2,  34.9570,2,   -999.0,9,  2.9131,    234.2,2,    33.03,2,    21.69,2,     0.00,2,     1.48,2, -999.000,9,   -999.0,9,  -999.0,9,-999.000,-999.000,9
  316N198212_2, ATAS2,    94,  1,     19,     19,2,19830123,0927, 18.3317, -19.4800, 3163, 2710.7,   2712.0,   2.9462,  34.9462,2,  34.9450,2,   -999.0,9,  2.7261,    234.2,2,    35.28,2,    21.69,2,     0.00,2,     1.48,2, -999.000,9,   -999.0,9,  2707.0,2,-999.000,   2.944,2
  316N198212_2, ATAS2,    94,  1,     20,     20,2,19830123,0927, 18.3317, -19.4800, 3163, 2913.8,   2916.2,   2.7892,  34.9344,2,  34.9320,2,   -999.0,9,  2.5516,    235.9,2,    38.01,2,    21.69,2,     0.00,2,     1.48,2, -999.000,9,   -999.0,9,  -999.0,9,-999.000,-999.000,9
  316N198212_2, ATAS2,    94,  1,     21,     21,2,19830123,0927, 18.3317, -19.4800, 3163, 2913.8,   2916.3,   2.7892,  34.9343,2,  34.9340,2,   -999.0,9,  2.5516,   -999.0,9,  -999.00,9,  -999.00,9,  -999.00,9,  -999.00,9, -999.000,9,   -999.0,9,  2913.0,2,-999.000,   2.794,2
  316N198212_2, ATAS2,    94,  1,     22,     22,2,19830123,0927, 18.3317, -19.4800, 3163, 3063.5,   3066.7,   2.7012,  34.9274,2,  34.9250,2,   -999.0,9,  2.4500,    229.4,2,    41.34,2,    22.09,2,     0.00,2,     1.51,2, -999.000,9,   -999.0,9,  -999.0,9,-999.000,-999.000,9
  316N198212_2, ATAS2,    94,  1,     23,     23,2,19830123,0927, 18.3317, -19.4800, 3163, 3189.6,   3193.4,   2.6592,  34.9227,2,  34.9210,2,   -999.0,9,  2.3957,    214.2,2,    48.57,2,    22.87,2,     0.00,2,     1.62,2, -999.000,9,   -999.0,9,  3201.0,2,-999.000,   2.661,2