BOTTLE,20220818CCHSIOAMB
EXPOCODE,SECT_ID,STNNBR,CASTNO,SAMPNO,BTLNBR,BTLNBR_FLAG_W,DATE,TIME,LATITUDE,LONGITUDE,DEPTH,CTDPRS,CTDPRS_FLAG_W,CTDTMP,CTDTMP_FLAG_W,CTDSAL,CTDSAL_FLAG_W,SALNTY,SALNTY_FLAG_W,CTDOXY,CTDOXY_FLAG_W,OXYGEN,OXYGEN_FLAG_W,SILCAT,SILCAT_FLAG_W,NITRAT,NITRAT_FLAG_W,NITRIT,NITRIT_FLAG_W,PHSPHT,PHSPHT_FLAG_W,CFC-11,CFC-11_FLAG_W,CFC-12,CFC-12_FLAG_W,CFC113,CFC113_FLAG_W,TCARBN,TCARBN_FLAG_W,ALKALI,ALKALI_FLAG_W,PH_TOT,PH_TOT_FLAG_W,PH_TMP,TRITUM,TRITUM_FLAG_W,TRITER,DELC14,DELC14_FLAG_W,C14ERR,DELC13,DELC13_FLAG_W,C13ERR,THETA,SIG0,SBE35,SBE35_FLAG_W,DWNPRS,DWNPRS_FLAG_W,DWNOXY,DWNOXY_FLAG_W,SILUNC,NRAUNC,NRIUNC,PHPUNC,TOC,TOC_FLAG_W,CS-137,CS-137_FLAG_W,CS137ER,PLUTO,PLUTO_FLAG_W,PLUTOER
,,,,,,,,,,,METERS,DBAR,,ITS-90,,PSS-78,,PSS-78,,UMOL/KG,,UMOL/KG,,UMOL/KG,,UMOL/KG,,UMOL/KG,,UMOL/KG,,PMOL/KG,,PMOL/KG,,PMOL/KG,,UMOL/KG,,UMOL/KG,,,,DEG C,TU,,TU,/MILLE,,/MILLE,/MILLE,,/MILLE,DEG C,KG/M^3,ITS-90,,DBAR,,UMOL/KG,,UMOL/KG,UMOL/KG,UMOL/KG,UMOL/KG,UMOL/KG,,BQ/M^3,,BQ/M^3,MBQ/M^3,,MBQ/M^3
49NZ20031106, A10, 94, 1, 36, 12024, 2, 20031201, 2348, -29.2447, 13.1065, 3102,     10.5, 2,  18.3568, 2,  35.3681, 2,  35.3681, 2,    226.5, 1,    238.6, 2,     1.23, 2,    -0.02, 2,     0.01, 2,     0.17, 2, -999.000, 9, -999.000, 9, -999.000, 9,   -999.0, 9,   -999.0, 9, -999.0000, 9,   -999.00, -999.000, 9, -999.000,   -999.0, 9,   -999.0,  -999.00, 9,   -999.0,  18.3550, 25.4678,  18.3566, 2, 9.4, 2, 238.84, 2, 0.12, 0.03, 0.01, 0.02, -999, 9,  -999.00, 9, -999, -999, 9, -999
49NZ20031106, A10, 94, 1, 1, 12025, 9, 20031201, 2348, -29.2447, 13.1065, 3102,     10.6, 2,  18.3575, 2,  35.3682, 2, -999.0000, 9,    226.5, 1,   -999.0, 9,  -999.00, 9,  -999.00, 9,  -999.00, 9,  -999.00, 9, -999.000, 9, -999.000, 9, -999.000, 9,   -999.0, 9,   -999.0, 9, -999.0000, 9,   -999.00, -999.000, 9, -999.000,   -999.0, 9,   -999.0,  -999.00, 9,   -999.0,  18.3557, 25.4677,  18.3574, 2, 9.4, 2, 238.84, 2, -999, -999, -999, -999, -999, 9,  -999.00, 9, -999, -999, 9, -999
49NZ20031106, A10, 94, 1, 35, 12023, 2, 20031201, 2348, -29.2447, 13.1065, 3102,     49.5, 2,  18.0309, 2,  35.3734, 2,  35.3669, 3,    225.9, 1,    238.7, 2,     1.32, 2,     0.00, 2,     0.02, 2,     0.18, 2, -999.000, 9, -999.000, 9, -999.000, 9,   -999.0, 9,   -999.0, 9, -999.0000, 9,   -999.00, -999.000, 9, -999.000,   -999.0, 9,   -999.0,  -999.00, 9,   -999.0,  18.0224, 25.5454,  18.0795, 2, 50.6, 2, 237.78, 2, 0.12, 0.03, 0.01, 0.02, -999, 9,  -999.00, 9, -999, -999, 9, -999
49NZ20031106, A10, 94, 1, 34, 12022, 2, 20031201, 2348, -29.2447, 13.1065, 3102,     99.6, 2,  15.2734, 2,  35.4083, 2,  35.4079, 2,    199.1, 1,    208.9, 2,     4.71, 2,     6.93, 2,     0.08, 2,     0.60, 2, -999.000, 9, -999.000, 9, -999.000, 9,   -999.0, 9,   -999.0, 9, -999.0000, 9,   -999.00, -999.000, 9, -999.000,   -999.0, 9,   -999.0,  -999.00, 9,   -999.0,  15.2581, 26.2314,  15.2745, 2, 101.6, 2, 209.66, 2, 0.13, 0.05, 0.01, 0.01, -999, 9,  -999.00, 9, -999, -999, 9, -999
49NZ20031106, A10, 94, 1, 33, 12015, 2, 20031201, 2348, -29.2447, 13.1065, 3102,    151.9, 2,  13.5836, 2,  35.2188, 2,  35.2202, 2,    201.0, 1,    210.5, 2,     4.85, 2,     9.26, 2,     0.02, 2,     0.75, 2, -999.000, 9, -999.000, 9, -999.000, 9,   -999.0, 9,   -999.0, 9, -999.0000, 9,   -999.00, -999.000, 9, -999.000,   -999.0, 9,   -999.0,  -999.00, 9,   -999.0,  13.5621, 26.45,  13.5838, 2, 156.2, 2, 211.06, 2, 0.13, 0.06, 0.01, 0.01, -999, 9,  -999.00, 9, -999, -999, 9, -999
49NZ20031106, A10, 94, 1, 32, 12020, 2, 20031201, 2348, -29.2447, 13.1065, 3102,    200.1, 2,  12.5321, 2,  35.1256, 2,  35.1265, 2,    201.7, 1,    210.6, 2,     5.56, 2,    11.38, 2,     0.02, 2,     0.88, 2, -999.000, 9, -999.000, 9, -999.000, 9,   -999.0, 9,   -999.0, 9, -999.0000, 9,   -999.00, -999.000, 9, -999.000,   -999.0, 9,   -999.0,  -999.00, 9,   -999.0,  12.5052, 26.5909,  12.5316, 2, 201.5, 2, 211.53, 2, 0.13, 0.06, 0.01, 0.01, -999, 9,  -999.00, 9, -999, -999, 9, -999
49NZ20031106, A10, 94, 1, 31, 12019, 2, 20031201, 2348, -29.2447, 13.1065, 3102,    250.4, 2,  11.5331, 2,  34.9984, 2,  35.0039, 2,    203.7, 1,    212.7, 2,     5.77, 2,    13.17, 2,     0.01, 2,     0.99, 2, -999.000, 9, -999.000, 9, -999.000, 9,   -999.0, 9,   -999.0, 9, -999.0000, 9,   -999.00, -999.000, 9, -999.000,   -999.0, 9,   -999.0,  -999.00, 9,   -999.0,  11.5012, 26.6827,  11.5464, 2, 249.9, 2, 205.88, 2, 0.13, 0.07, 0.01, 0.01, -999, 9,  -999.00, 9, -999, -999, 9, -999
49NZ20031106, A10, 94, 1, 30, 12018, 2, 20031201, 2348, -29.2447, 13.1065, 3102,    300.4, 2,  10.4853, 2,  34.8648, 2,  34.8648, 2,    203.4, 1,    212.8, 2,     7.28, 2,    15.60, 2,     0.01, 2,     1.14, 2, -999.000, 9, -999.000, 9, -999.000, 9,   -999.0, 9,   -999.0, 9, -999.0000, 9,   -999.00, -999.000, 9, -999.000,   -999.0, 9,   -999.0,  -999.00, 9,   -999.0,  10.4493, 26.7698,  10.4870, 2, 300.6, 2, 219.15, 2, 0.14, 0.08, 0.01, 0.01, -999, 9,  -999.00, 9, -999, -999, 9, -999
49NZ20031106, A10, 94, 1, 29, 12017, 2, 20031201, 2348, -29.2447, 13.1065, 3102,    399.2, 2,   8.8307, 2,  34.6745, 2,  34.6733, 2,    171.2, 1,    177.9, 2,    14.45, 2,    22.41, 2,     0.01, 2,     1.64, 2, -999.000, 9, -999.000, 9, -999.000, 9,   -999.0, 9,   -999.0, 9, -999.0000, 9,   -999.00, -999.000, 9, -999.000,   -999.0, 9,   -999.0,  -999.00, 9,   -999.0,   8.7875, 26.8983,   8.8339, 2, 396.9, 2, 205.1, 2, 0.15, 0.1, 0.01, 0.01, -999, 9,  -999.00, 9, -999, -999, 9, -999
49NZ20031106, A10, 94, 1, 28, 12016, 2, 20031201, 2348, -29.2447, 13.1065, 3102,    498.5, 2,   7.5953, 2,  34.5622, 2,  34.5604, 2,    177.1, 1,    184.3, 2,    16.92, 2,    25.18, 2,     0.01, 2,     1.78, 2, -999.000, 9, -999.000, 9, -999.000, 9,   -999.0, 9,   -999.0, 9, -999.0000, 9,   -999.00, -999.000, 9, -999.000,   -999.0, 9,   -999.0,  -999.00, 9,   -999.0,   7.5457, 26.9978,   7.5954, 2, 496, 2, 193.67, 2, 0.16, 0.1, 0.01, 0.01, -999, 9,  -999.00, 9, -999, -999, 9, -999
49NZ20031106, A10, 94, 1, 27, 12012, 2, 20031201, 2348, -29.2447, 13.1065, 3102,    598.2, 2,   5.9438, 2,  34.4198, 2,  34.4192, 2,    198.6, 1,    206.7, 2,    21.90, 2,    27.32, 2,     0.00, 2,     1.90, 2, -999.000, 9, -999.000, 9, -999.000, 9,   -999.0, 9,   -999.0, 9, -999.0000, 9,   -999.00, -999.000, 9, -999.000,   -999.0, 9,   -999.0,  -999.00, 9,   -999.0,   5.8915, 27.1083,   5.9455, 2, 592.5, 2, 208.4, 2, 0.17, 0.11, 0.01, 0.01, -999, 9,  -999.00, 9, -999, -999, 9, -999
49NZ20031106, A10, 94, 1, 26, 12014, 2, 20031201, 2348, -29.2447, 13.1065, 3102,    699.0, 2,   4.7146, 2,  34.3585, 2,  34.3585, 2,    201.0, 1,    209.0, 2,    28.93, 2,    29.76, 2,     0.01, 2,     2.06, 2, -999.000, 9, -999.000, 9, -999.000, 9,   -999.0, 9,   -999.0, 9, -999.0000, 9,   -999.00, -999.000, 9, -999.000,   -999.0, 9,   -999.0,  -999.00, 9,   -999.0,   4.6596, 27.2057,   4.7142, 2, 696.7, 2, 207.99, 2, 0.18, 0.12, 0.01, 0.02, -999, 9,  -999.00, 9, -999, -999, 9, -999
49NZ20031106, A10, 94, 1, 25, 12013, 2, 20031201, 2348, -29.2447, 13.1065, 3102,    799.3, 2,   4.1090, 2,  34.3950, 2,  34.3931, 2,    186.3, 1,    193.7, 2,    38.81, 2,    31.96, 2,     0.00, 2,     2.22, 2, -999.000, 9, -999.000, 9, -999.000, 9,   -999.0, 9,   -999.0, 9, -999.0000, 9,   -999.00, -999.000, 9, -999.000,   -999.0, 9,   -999.0,  -999.00, 9,   -999.0,   4.0492, 27.3001,   4.1087, 2, 797.1, 2, 191.78, 2, 0.2, 0.12, 0.01, 0.02, -999, 9,  -999.00, 9, -999, -999, 9, -999
49NZ20031106, A10, 94, 1, 24, 12048, 2, 20031201, 2348, -29.2447, 13.1065, 3102,    899.4, 2,   3.7132, 2,  34.4393, 2,  34.4396, 2,    171.0, 1,    177.7, 2,    43.09, 2,    33.55, 2,     0.00, 2,     2.32, 2, -999.000, 9, -999.000, 9, -999.000, 9,   -999.0, 9,   -999.0, 9, -999.0000, 9,   -999.00, -999.000, 9, -999.000,   -999.0, 9,   -999.0,  -999.00, 9,   -999.0,   3.6479, 27.3762,   3.7126, 2, 899.1, 2, 178.14, 2, 0.21, 0.13, 0.01, 0.02, -999, 9,  -999.00, 9, -999, -999, 9, -999
49NZ20031106, A10, 94, 1, 2, 12026, 9, 20031201, 2348, -29.2447, 13.1065, 3102,   1000.2, 2,   3.4055, 2,  34.4917, 2, -999.0000, 9,    170.9, 1,   -999.0, 9,  -999.00, 9,  -999.00, 9,  -999.00, 9,  -999.00, 9, -999.000, 9, -999.000, 9, -999.000, 9,   -999.0, 9,   -999.0, 9, -999.0000, 9,   -999.00, -999.000, 9, -999.000,   -999.0, 9,   -999.0,  -999.00, 9,   -999.0,   3.3344, 27.4483,   3.4058, 2, 1000.4, 2, 177.46, 2, -999, -999, -999, -999, -999, 9,  -999.00, 9, -999, -999, 9, -999
49NZ20031106, A10, 94, 1, 3, 12027, 9, 20031201, 2348, -29.2447, 13.1065, 3102,   1000.5, 2,   3.4058, 2,  34.4917, 2, -999.0000, 9,    170.9, 1,   -999.0, 9,  -999.00, 9,  -999.00, 9,  -999.00, 9,  -999.00, 9, -999.000, 9, -999.000, 9, -999.000, 9,   -999.0, 9,   -999.0, 9, -999.0000, 9,   -999.00, -999.000, 9, -999.000,   -999.0, 9,   -999.0,  -999.00, 9,   -999.0,   3.3347, 27.4483,   3.4059, 2, 1000.6, 2, 177.43, 2, -999, -999, -999, -999, -999, 9,  -999.00, 9, -999, -999, 9, -999
49NZ20031106, A10, 94, 1, 5, 12029, 9, 20031201, 2348, -29.2447, 13.1065, 3102,   1000.6, 2,   3.4061, 2,  34.4916, 2, -999.0000, 9,    170.9, 1,   -999.0, 9,  -999.00, 9,  -999.00, 9,  -999.00, 9,  -999.00, 9, -999.000, 9, -999.000, 9, -999.000, 9,   -999.0, 9,   -999.0, 9, -999.0000, 9,   -999.00, -999.000, 9, -999.000,   -999.0, 9,   -999.0,  -999.00, 9,   -999.0,   3.3350, 27.4482,   3.4061, 2, 1000.7, 2, 177.44, 2, -999, -999, -999, -999, -999, 9,  -999.00, 9, -999, -999, 9, -999
49NZ20031106, A10, 94, 1, 8, 12032, 9, 20031201, 2348, -29.2447, 13.1065, 3102,   1000.7, 2,   3.4066, 2,  34.4916, 2, -999.0000, 9,    170.8, 1,   -999.0, 9,  -999.00, 9,  -999.00, 9,  -999.00, 9,  -999.00, 9, -999.000, 9, -999.000, 9, -999.000, 9,   -999.0, 9,   -999.0, 9, -999.0000, 9,   -999.00, -999.000, 9, -999.000,   -999.0, 9,   -999.0,  -999.00, 9,   -999.0,   3.3355, 27.4481,   3.4066, 2, 1000.8, 2, 177.44, 2, -999, -999, -999, -999, -999, 9,  -999.00, 9, -999, -999, 9, -999
49NZ20031106, A10, 94, 1, 4, 12028, 9, 20031201, 2348, -29.2447, 13.1065, 3102,   1000.8, 2,   3.4059, 2,  34.4918, 2, -999.0000, 9,    170.8, 1,   -999.0, 9,  -999.00, 9,  -999.00, 9,  -999.00, 9,  -999.00, 9, -999.000, 9, -999.000, 9, -999.000, 9,   -999.0, 9,   -999.0, 9, -999.0000, 9,   -999.00, -999.000, 9, -999.000,   -999.0, 9,   -999.0,  -999.00, 9,   -999.0,   3.3348, 27.4483,   3.4059, 2, 1000.9, 2, 177.43, 2, -999, -999, -999, -999, -999, 9,  -999.00, 9, -999, -999, 9, -999
49NZ20031106, A10, 94, 1, 7, 12031, 9, 20031201, 2348, -29.2447, 13.1065, 3102,   1001.0, 2,   3.4067, 2,  34.4916, 2, -999.0000, 9,    170.9, 1,   -999.0, 9,  -999.00, 9,  -999.00, 9,  -999.00, 9,  -999.00, 9, -999.000, 9, -999.000, 9, -999.000, 9,   -999.0, 9,   -999.0, 9, -999.0000, 9,   -999.00, -999.000, 9, -999.000,   -999.0, 9,   -999.0,  -999.00, 9,   -999.0,   3.3356, 27.4481,   3.4067, 2, 1001, 2, 177.41, 2, -999, -999, -999, -999, -999, 9,  -999.00, 9, -999, -999, 9, -999
49NZ20031106, A10, 94, 1, 23, 12047, 2, 20031201, 2348, -29.2447, 13.1065, 3102,   1001.2, 2,   3.4067, 2,  34.4916, 2,  34.4914, 2,    170.9, 1,    177.3, 2,    49.47, 2,    33.34, 2,     0.00, 2,     2.31, 2, -999.000, 9, -999.000, 9, -999.000, 9,   -999.0, 9,   -999.0, 9, -999.0000, 9,   -999.00, -999.000, 9, -999.000,   -999.0, 9,   -999.0,  -999.00, 9,   -999.0,   3.3356, 27.448,   3.4068, 2, 1001.1, 2, 177.4, 2, 0.23, 0.13, 0.01, 0.02, -999, 9,  -999.00, 9, -999, -999, 9, -999
49NZ20031106, A10, 94, 1, 6, 12030, 9, 20031201, 2348, -29.2447, 13.1065, 3102,   1001.2, 2,   3.4065, 2,  34.4917, 2, -999.0000, 9,    170.9, 1,   -999.0, 9,  -999.00, 9,  -999.00, 9,  -999.00, 9,  -999.00, 9, -999.000, 9, -999.000, 9, -999.000, 9,   -999.0, 9,   -999.0, 9, -999.0000, 9,   -999.00, -999.000, 9, -999.000,   -999.0, 9,   -999.0,  -999.00, 9,   -999.0,   3.3354, 27.4481,   3.4066, 2, 1001.2, 2, 177.4, 2, -999, -999, -999, -999, -999, 9,  -999.00, 9, -999, -999, 9, -999
49NZ20031106, A10, 94, 1, 22, 12046, 2, 20031201, 2348, -29.2447, 13.1065, 3102,   1200.7, 2,   3.2007, 2,  34.6292, 2,  34.6281, 2,    173.8, 1,    180.5, 2,    50.89, 2,    31.59, 2,     0.00, 2,     2.18, 2, -999.000, 9, -999.000, 9, -999.000, 9,   -999.0, 9,   -999.0, 9, -999.0000, 9,   -999.00, -999.000, 9, -999.000,   -999.0, 9,   -999.0,  -999.00, 9,   -999.0,   3.1152, 27.5787,   3.2004, 2, 1200.7, 2, 180.05, 2, 0.23, 0.12, 0.01, 0.02, -999, 9,  -999.00, 9, -999, -999, 9, -999
49NZ20031106, A10, 94, 1, 21, 12045, 2, 20031201, 2348, -29.2447, 13.1065, 3102,   1399.1, 2,   3.2162, 2,  34.7415, 2,  34.7418, 2,    185.7, 1,    192.9, 2,    45.13, 2,    28.80, 2,     0.00, 2,     1.98, 2, -999.000, 9, -999.000, 9, -999.000, 9,   -999.0, 9,   -999.0, 9, -999.0000, 9,   -999.00, -999.000, 9, -999.000,   -999.0, 9,   -999.0,  -999.00, 9,   -999.0,   3.1140, 27.6688,   3.2163, 2, 1398.1, 2, 192.86, 2, 0.22, 0.11, 0.01, 0.02, -999, 9,  -999.00, 9, -999, -999, 9, -999
49NZ20031106, A10, 94, 1, 20, 12044, 2, 20031201, 2348, -29.2447, 13.1065, 3102,   1598.8, 2,   3.2315, 2,  34.8104, 2,  34.8107, 2,    197.2, 1,    204.9, 2,    40.20, 2,    26.67, 2,     0.00, 2,     1.83, 2, -999.000, 9, -999.000, 9, -999.000, 9,   -999.0, 9,   -999.0, 9, -999.0000, 9,   -999.00, -999.000, 9, -999.000,   -999.0, 9,   -999.0,  -999.00, 9,   -999.0,   3.1119, 27.7244,   3.2314, 2, 1597.8, 2, 205.12, 2, 0.21, 0.11, 0.01, 0.01, -999, 9,  -999.00, 9, -999, -999, 9, -999
49NZ20031106, A10, 94, 1, 19, 12043, 2, 20031201, 2348, -29.2447, 13.1065, 3102,   1799.8, 2,   3.1616, 2,  34.8509, 2,  34.8512, 2,    207.7, 1,    215.7, 2,    38.13, 2,    25.13, 2,     0.00, 2,     1.71, 2, -999.000, 9, -999.000, 9, -999.000, 9,   -999.0, 9,   -999.0, 9, -999.0000, 9,   -999.00, -999.000, 9, -999.000,   -999.0, 9,   -999.0,  -999.00, 9,   -999.0,   3.0251, 27.7647,   3.1616, 2, 1799.2, 2, 215.75, 2, 0.2, 0.1, 0.01, 0.01, -999, 9,  -999.00, 9, -999, -999, 9, -999
49NZ20031106, A10, 94, 1, 18, 12042, 2, 20031201, 2348, -29.2447, 13.1065, 3102,   2000.0, 2,   3.0639, 2,  34.8680, 2,  34.8684, 2,    212.5, 1,    220.8, 2,    38.68, 2,    24.47, 2,     0.00, 2,     1.67, 2, -999.000, 9, -999.000, 9, -999.000, 9,   -999.0, 9,   -999.0, 9, -999.0000, 9,   -999.00, -999.000, 9, -999.000,   -999.0, 9,   -999.0,  -999.00, 9,   -999.0,   2.9106, 27.789,   3.0637, 2, 1999.1, 2, 221.37, 2, 0.2, 0.1, 0.01, 0.01, -999, 9,  -999.00, 9, -999, -999, 9, -999
49NZ20031106, A10, 94, 1, 11, 12035, 9, 20031201, 2348, -29.2447, 13.1065, 3102,   2101.0, 2,   2.9899, 2,  34.8739, 2, -999.0000, 9,    216.1, 1,   -999.0, 9,  -999.00, 9,  -999.00, 9,  -999.00, 9,  -999.00, 9, -999.000, 9, -999.000, 9, -999.000, 9,   -999.0, 9,   -999.0, 9, -999.0000, 9,   -999.00, -999.000, 9, -999.000,   -999.0, 9,   -999.0,  -999.00, 9,   -999.0,   2.8284, 27.8011,   2.9901, 2, 2100.2, 2, 224.59, 2, -999, -999, -999, -999, -999, 9,  -999.00, 9, -999, -999, 9, -999
49NZ20031106, A10, 94, 1, 17, 12041, 2, 20031201, 2348, -29.2447, 13.1065, 3102,   2199.6, 2,   2.9281, 2,  34.8792, 2,  34.8792, 2,    218.7, 1,    227.1, 2,    39.68, 2,    23.85, 2,     0.00, 2,     1.62, 2, -999.000, 9, -999.000, 9, -999.000, 9,   -999.0, 9,   -999.0, 9, -999.0000, 9,   -999.00, -999.000, 9, -999.000,   -999.0, 9,   -999.0,  -999.00, 9,   -999.0,   2.7584, 27.8117,   2.9282, 2, 2199.2, 2, 226.8, 2, 0.21, 0.1, 0.01, 0.01, -999, 9,  -999.00, 9, -999, -999, 9, -999
49NZ20031106, A10, 94, 1, 10, 12034, 9, 20031201, 2348, -29.2447, 13.1065, 3102,   2300.2, 2,   2.8536, 2,  34.8788, 2, -999.0000, 9,    220.4, 1,   -999.0, 9,  -999.00, 9,  -999.00, 9,  -999.00, 9,  -999.00, 9, -999.000, 9, -999.000, 9, -999.000, 9,   -999.0, 9,   -999.0, 9, -999.0000, 9,   -999.00, -999.000, 9, -999.000,   -999.0, 9,   -999.0,  -999.00, 9,   -999.0,   2.6757, 27.819,   2.8534, 2, 2300.2, 2, 228.42, 2, -999, -999, -999, -999, -999, 9,  -999.00, 9, -999, -999, 9, -999
49NZ20031106, A10, 94, 1, 16, 12040, 2, 20031201, 2348, -29.2447, 13.1065, 3102,   2400.1, 2,   2.7801, 2,  34.8772, 2,  34.8768, 2,    221.4, 1,    229.7, 2,    42.39, 2,    23.73, 2,     0.00, 2,     1.62, 2, -999.000, 9, -999.000, 9, -999.000, 9,   -999.0, 9,   -999.0, 9, -999.0000, 9,   -999.00, -999.000, 9, -999.000,   -999.0, 9,   -999.0,  -999.00, 9,   -999.0,   2.5940, 27.8246,   2.7801, 2, 2400, 2, 229.41, 2, 0.21, 0.1, 0.01, 0.01, -999, 9,  -999.00, 9, -999, -999, 9, -999
49NZ20031106, A10, 94, 1, 9, 12033, 9, 20031201, 2348, -29.2447, 13.1065, 3102,   2500.6, 2,   2.7203, 2,  34.8783, 2, -999.0000, 9,    222.3, 1,   -999.0, 9,  -999.00, 9,  -999.00, 9,  -999.00, 9,  -999.00, 9, -999.000, 9, -999.000, 9, -999.000, 9,   -999.0, 9,   -999.0, 9, -999.0000, 9,   -999.00, -999.000, 9, -999.000,   -999.0, 9,   -999.0,  -999.00, 9,   -999.0,   2.5257, 27.8315,   2.7203, 2, 2500.6, 2, 230.13, 2, -999, -999, -999, -999, -999, 9,  -999.00, 9, -999, -999, 9, -999
49NZ20031106, A10, 94, 1, 15, 12039, 2, 20031201, 2348, -29.2447, 13.1065, 3102,   2599.9, 2,   2.6752, 2,  34.8776, 2,  34.8780, 2,    222.5, 1,    230.1, 2,    44.87, 2,    23.71, 2,     0.00, 2,     1.62, 2, -999.000, 9, -999.000, 9, -999.000, 9,   -999.0, 9,   -999.0, 9, -999.0000, 9,   -999.00, -999.000, 9, -999.000,   -999.0, 9,   -999.0,  -999.00, 9,   -999.0,   2.4718, 27.8357,   2.6752, 2, 2600, 2, 230.2, 2, 0.22, 0.1, 0.01, 0.01, -999, 9,  -999.00, 9, -999, -999, 9, -999
49NZ20031106, A10, 94, 1, 14, 12038, 2, 20031201, 2348, -29.2447, 13.1065, 3102,   2802.6, 2,   2.5581, 2,  34.8731, 2,  34.8736, 2,    223.6, 1,    230.8, 2,    47.81, 2,    23.89, 2,     0.00, 2,     1.63, 2, -999.000, 9, -999.000, 9, -999.000, 9,   -999.0, 9,   -999.0, 9, -999.0000, 9,   -999.00, -999.000, 9, -999.000,   -999.0, 9,   -999.0,  -999.00, 9,   -999.0,   2.3371, 27.8437,   2.5582, 2, 2802.8, 2, 230.58, 2, 0.22, 0.1, 0.01, 0.01, -999, 9,  -999.00, 9, -999, -999, 9, -999
49NZ20031106, A10, 94, 1, 13, 12037, 2, 20031201, 2348, -29.2447, 13.1065, 3102,   3000.2, 2,   2.5017, 2,  34.8722, 2,  34.8721, 2,    223.7, 1,    230.3, 2,    49.79, 2,    23.99, 2,     0.00, 2,     1.64, 2, -999.000, 9, -999.000, 9, -999.000, 9,   -999.0, 9,   -999.0, 9, -999.0000, 9,   -999.00, -999.000, 9, -999.000,   -999.0, 9,   -999.0,  -999.00, 9,   -999.0,   2.2620, 27.8491,   2.5016, 2, 3000.3, 2, 230.2, 2, 0.23, 0.1, 0.01, 0.01, -999, 9,  -999.00, 9, -999, -999, 9, -999
49NZ20031106, A10, 94, 1, 12, 12036, 2, 20031201, 2348, -29.2447, 13.1065, 3102,   3126.2, 2,   2.4181, 2,  34.8665, 2,  34.8667, 2,    223.3, 1,    229.2, 2,    52.83, 2,    24.24, 2,     0.01, 2,     1.65, 2, -999.000, 9, -999.000, 9, -999.000, 9,   -999.0, 9,   -999.0, 9, -999.0000, 9,   -999.00, -999.000, 9, -999.000,   -999.0, 9,   -999.0,  -999.00, 9,   -999.0,   2.1674, 27.8525,   2.4180, 2, 3126.2, 2, 228.89, 2, 0.24, 0.1, 0.01, 0.01, -999, 9,  -999.00, 9, -999, -999, 9, -999