BOTTLE,20220818CCHSIOAMB
EXPOCODE,SECT_ID,STNNBR,CASTNO,SAMPNO,BTLNBR,BTLNBR_FLAG_W,DATE,TIME,LATITUDE,LONGITUDE,DEPTH,CTDPRS,CTDPRS_FLAG_W,CTDTMP,CTDTMP_FLAG_W,CTDSAL,CTDSAL_FLAG_W,SALNTY,SALNTY_FLAG_W,CTDOXY,CTDOXY_FLAG_W,OXYGEN,OXYGEN_FLAG_W,SILCAT,SILCAT_FLAG_W,NITRAT,NITRAT_FLAG_W,NITRIT,NITRIT_FLAG_W,PHSPHT,PHSPHT_FLAG_W,CFC-11,CFC-11_FLAG_W,CFC-12,CFC-12_FLAG_W,CFC113,CFC113_FLAG_W,TCARBN,TCARBN_FLAG_W,ALKALI,ALKALI_FLAG_W,PH_TOT,PH_TOT_FLAG_W,PH_TMP,TRITUM,TRITUM_FLAG_W,TRITER,DELC14,DELC14_FLAG_W,C14ERR,DELC13,DELC13_FLAG_W,C13ERR,THETA,SIG0,SBE35,SBE35_FLAG_W,DWNPRS,DWNPRS_FLAG_W,DWNOXY,DWNOXY_FLAG_W,SILUNC,NRAUNC,NRIUNC,PHPUNC,TOC,TOC_FLAG_W,CS-137,CS-137_FLAG_W,CS137ER,PLUTO,PLUTO_FLAG_W,PLUTOER
,,,,,,,,,,,METERS,DBAR,,ITS-90,,PSS-78,,PSS-78,,UMOL/KG,,UMOL/KG,,UMOL/KG,,UMOL/KG,,UMOL/KG,,UMOL/KG,,PMOL/KG,,PMOL/KG,,PMOL/KG,,UMOL/KG,,UMOL/KG,,,,DEG C,TU,,TU,/MILLE,,/MILLE,/MILLE,,/MILLE,DEG C,KG/M^3,ITS-90,,DBAR,,UMOL/KG,,UMOL/KG,UMOL/KG,UMOL/KG,UMOL/KG,UMOL/KG,,BQ/M^3,,BQ/M^3,MBQ/M^3,,MBQ/M^3
49NZ20031106, A10, 33, 1, 36, 12048, 2, 20031115, 224, -30.0027, -29.9890, 3488,     11.1, 2,  19.4018, 2,  35.8988, 2,  35.8995, 2,    219.2, 1,    230.9, 2,     0.84, 2,     0.03, 2,     0.00, 2,     0.07, 2,    2.528, 2,    1.442, 2,    0.260, 4,   2059.1, 2,   2353.9, 2,    8.0201, 2,     25.00, -999.000, 9, -999.000,   -999.0, 9,   -999.0,  -999.00, 9,   -999.0,  19.3998, 25.6067,  19.4026, 2, 11, 2, 231.16, 2, 0.12, 0.03, 0.01, 0.03, -999, 1,  -999.00, 9, -999, -999, 9, -999
49NZ20031106, A10, 33, 1, 35, 12047, 2, 20031115, 224, -30.0027, -29.9890, 3488,     49.9, 2,  18.9729, 2,  35.8966, 2,  35.8966, 2,    221.6, 1,    233.0, 2,     0.84, 2,     0.02, 2,     0.00, 2,     0.07, 2,    2.565, 2,    1.474, 2,    0.301, 4,   2058.4, 6,   2355.5, 2,    8.0211, 2,     25.00, -999.000, 9, -999.000,   -999.0, 9,   -999.0,  -999.00, 9,   -999.0,  18.9640, 25.7179,  18.9717, 2, 46.5, 2, 233.09, 2, 0.12, 0.03, 0.01, 0.03, -999, 1,  -999.00, 9, -999, -999, 9, -999
49NZ20031106, A10, 33, 1, 34, 12046, 2, 20031115, 224, -30.0027, -29.9890, 3488,    102.6, 2,  18.0787, 2,  35.8306, 2,  35.8295, 2,    222.6, 1,    234.2, 2,     0.86, 2,     0.00, 2,     0.01, 2,     0.09, 2,    2.610, 2,    1.450, 2,    0.304, 4,   2062.0, 2,   2354.5, 6,    8.0111, 2,     25.00, -999.000, 9, -999.000,   -999.0, 9,   -999.0,  -999.00, 9,   -999.0,  18.0610, 25.8946,  18.0792, 2, 100.5, 2, 232.59, 2, 0.12, 0.03, 0.01, 0.02, -999, 1,  -999.00, 9, -999, -999, 9, -999
49NZ20031106, A10, 33, 1, 33, 12045, 2, 20031115, 224, -30.0027, -29.9890, 3488,    150.4, 2,  16.6919, 2,  35.6668, 2,  35.6681, 2,    213.6, 1,    224.1, 2,     1.10, 2,     1.08, 2,     0.07, 2,     0.23, 2,    2.834, 2,    1.583, 2,    0.264, 4,   2079.9, 2,   2339.0, 2,    7.9663, 6,     25.00, -999.000, 9, -999.000,   -999.0, 9,   -999.0,  -999.00, 9,   -999.0,  16.6673, 26.1069,  16.6901, 2, 147.9, 2, 224.06, 2, 0.12, 0.04, 0.01, 0.02, -999, 1,  -999.00, 9, -999, -999, 9, -999
49NZ20031106, A10, 33, 1, 32, 12044, 2, 20031115, 224, -30.0027, -29.9890, 3488,    197.8, 2,  15.7282, 2,  35.5759, 2,  35.5754, 2,    220.9, 1,    231.9, 2,     1.14, 2,     1.77, 2,     0.01, 2,     0.25, 2,    2.940, 2,    1.628, 2,    0.216, 4,   2080.2, 2,   2337.9, 2,    7.9604, 2,     25.00, -999.000, 9, -999.000,   -999.0, 9,   -999.0,  -999.00, 9,   -999.0,  15.6971, 26.261,  15.7284, 2, 195, 2, 218.56, 2, 0.12, 0.04, 0.01, 0.01, -999, 1,  -999.00, 9, -999, -999, 9, -999
49NZ20031106, A10, 33, 1, 31, 12043, 2, 20031115, 224, -30.0027, -29.9890, 3488,    252.3, 2,  14.5570, 2,  35.3960, 2,  35.3958, 2,    204.6, 1,    213.9, 2,     2.11, 2,     5.87, 2,     0.01, 2,     0.53, 2,    3.052, 6,    1.682, 2,    0.079, 4,   2099.3, 2,   2324.5, 2,    7.9034, 2,     25.00, -999.000, 9, -999.000,   -999.0, 9,   -999.0,  -999.00, 9,   -999.0,  14.5194, 26.3833,  14.5577, 2, 251.1, 2, 213.57, 2, 0.12, 0.05, 0.01, 0.01, -999, 1,  -999.00, 9, -999, -999, 9, -999
49NZ20031106, A10, 33, 1, 30, 12042, 2, 20031115, 224, -30.0027, -29.9890, 3488,    301.9, 2,  13.7664, 2,  35.2972, 2,  35.2969, 2,    204.7, 1,    214.0, 2,     2.49, 2,     7.63, 2,     0.01, 2,     0.63, 2,    3.103, 2,    1.690, 2,    0.070, 4,   2105.3, 2,   2330.2, 3,    7.8854, 2,     25.00, -999.000, 9, -999.000,   -999.0, 9,   -999.0,  -999.00, 9,   -999.0,  13.7230, 26.4759,  13.7663, 2, 300.4, 2, 216.12, 2, 0.12, 0.05, 0.01, 0.01, -999, 1,  -999.00, 9, -999, -999, 9, -999
49NZ20031106, A10, 33, 1, 29, 12041, 2, 20031115, 224, -30.0027, -29.9890, 3488,    401.1, 2,  12.2973, 2,  35.1078, 2,  35.1287, 3,    202.9, 1,    211.7, 2,     3.50, 2,    11.00, 2,     0.00, 2,     0.82, 2,    3.153, 2,    1.677, 2,    0.085, 4,   2115.8, 2,   2308.3, 2,    7.8495, 2,     25.00, -999.000, 9, -999.000,   -999.0, 9,   -999.0,  -999.00, 9,   -999.0,  12.2436, 26.6265,  12.2973, 2, 405.1, 2, 211.34, 2, 0.13, 0.06, 0.01, 0.01, -999, 1,  -999.00, 9, -999, -999, 9, -999
49NZ20031106, A10, 33, 1, 28, 12040, 2, 20031115, 224, -30.0027, -29.9890, 3488,    501.0, 2,  10.5526, 2,  34.8754, 2,  34.8763, 2,    200.3, 1,    208.4, 2,     5.63, 2,    15.81, 2,     0.01, 2,     1.12, 2,    3.079, 2,    1.589, 2,    0.101, 4,   2130.6, 2,   2295.7, 2,    7.7950, 2,     25.00, -999.000, 9, -999.000,   -999.0, 9,   -999.0,  -999.00, 9,   -999.0,  10.4917, 26.7693,  10.5527, 2, 501.2, 2, 208.8, 2, 0.13, 0.08, 0.01, 0.01, -999, 1,  -999.00, 9, -999, -999, 9, -999
49NZ20031106, A10, 33, 1, 27, 12039, 2, 20031115, 224, -30.0027, -29.9890, 3488,    600.6, 2,   8.6066, 2,  34.6409, 2,  34.6433, 2,    200.0, 1,    207.9, 2,     8.72, 2,    20.74, 2,     0.01, 2,     1.43, 2,    3.050, 2,    1.528, 2,    0.120, 4,   2145.9, 2,   2290.7, 2,    7.7434, 2,     25.00, -999.000, 9, -999.000,   -999.0, 9,   -999.0,  -999.00, 9,   -999.0,   8.5419, 26.9091,   8.6060, 2, 601.2, 2, 208.38, 2, 0.14, 0.09, 0.01, 0.01, -999, 1,  -999.00, 9, -999, -999, 9, -999
49NZ20031106, A10, 33, 1, 26, 12038, 2, 20031115, 224, -30.0027, -29.9890, 3488,    702.3, 2,   6.1978, 2,  34.3929, 2,  34.3947, 2,    213.3, 1,    221.3, 2,    13.29, 2,    25.60, 2,     0.00, 2,     1.74, 2,    3.103, 2,    1.521, 2,    0.150, 4,   2159.0, 6,   2286.1, 2,    7.6952, 2,     25.00, -999.000, 9, -999.000,   -999.0, 9,   -999.0,  -999.00, 9,   -999.0,   6.1345, 27.0562,   6.1909, 2, 704.9, 2, 220.09, 2, 0.15, 0.1, 0.01, 0.01, -999, 1,  -999.00, 9, -999, -999, 9, -999
49NZ20031106, A10, 33, 1, 25, 12037, 2, 20031115, 224, -30.0027, -29.9890, 3488,    800.9, 2,   4.8450, 2,  34.2947, 2,  34.2961, 2,    221.9, 1,    230.4, 2,    18.30, 2,    27.95, 2,     0.00, 2,     1.91, 2,    2.886, 2,    1.378, 2,    0.164, 4,   2167.1, 2,   2278.6, 6,    7.6763, 2,     25.00, -999.000, 9, -999.000,   -999.0, 9,   -999.0,  -999.00, 9,   -999.0,   4.7807, 27.1415,   4.8431, 2, 805, 2, 229.19, 2, 0.16, 0.11, 0.01, 0.01, -999, 1,  -999.00, 9, -999, -999, 9, -999
49NZ20031106, A10, 33, 1, 24, 12036, 2, 20031115, 224, -30.0027, -29.9890, 3488,    901.3, 2,   4.2432, 2,  34.2771, 2,  34.2771, 2,    220.9, 1,    229.6, 2,    22.98, 2,    29.53, 2,     0.00, 2,     2.00, 2,    2.574, 2,    1.206, 2,    0.157, 4,   2176.1, 2,   2289.9, 2,    7.6618, 2,     25.00, -999.000, 9, -999.000,   -999.0, 9,   -999.0,  -999.00, 9,   -999.0,   4.1743, 27.1934,   4.2427, 2, 901.6, 2, 229.55, 2, 0.17, 0.12, 0.01, 0.02, -999, 1,  -999.00, 9, -999, -999, 9, -999
49NZ20031106, A10, 33, 1, 3, 12012, 9, 20031115, 224, -30.0027, -29.9890, 3488,    998.2, 2,   3.8636, 2,  34.2892, 2, -999.0000, 9,    214.3, 1,   -999.0, 9,  -999.00, 9,  -999.00, 9,  -999.00, 9,  -999.00, 9, -999.000, 9, -999.000, 9, -999.000, 9,   -999.0, 9,   -999.0, 9, -999.0000, 9,   -999.00, -999.000, 9, -999.000,   -999.0, 9,   -999.0,  -999.00, 9,   -999.0,   3.7895, 27.2423,   3.8619, 2, 998.3, 2, 223.69, 2, -999, -999, -999, -999, -999, 9,  -999.00, 9, -999, -999, 9, -999
49NZ20031106, A10, 33, 1, 2, 12014, 9, 20031115, 224, -30.0027, -29.9890, 3488,    999.1, 2,   3.8576, 2,  34.2896, 2, -999.0000, 9,    214.4, 1,   -999.0, 9,  -999.00, 9,  -999.00, 9,  -999.00, 9,  -999.00, 9, -999.000, 9, -999.000, 9, -999.000, 9,   -999.0, 9,   -999.0, 9, -999.0000, 9,   -999.00, -999.000, 9, -999.000,   -999.0, 9,   -999.0,  -999.00, 9,   -999.0,   3.7835, 27.2432,   3.8576, 2, 999.3, 2, 223.6, 2, -999, -999, -999, -999, -999, 9,  -999.00, 9, -999, -999, 9, -999
49NZ20031106, A10, 33, 1, 7, 12019, 9, 20031115, 224, -30.0027, -29.9890, 3488,    999.5, 2,   3.8483, 2,  34.2901, 2, -999.0000, 9,    214.2, 1,   -999.0, 9,  -999.00, 9,  -999.00, 9,  -999.00, 9,  -999.00, 9, -999.000, 9, -999.000, 9, -999.000, 9,   -999.0, 9,   -999.0, 9, -999.0000, 9,   -999.00, -999.000, 9, -999.000,   -999.0, 9,   -999.0,  -999.00, 9,   -999.0,   3.7742, 27.2448,   3.8474, 2, 1000, 2, 223.59, 2, -999, -999, -999, -999, -999, 9,  -999.00, 9, -999, -999, 9, -999
49NZ20031106, A10, 33, 1, 6, 12018, 9, 20031115, 224, -30.0027, -29.9890, 3488,    999.6, 2,   3.8488, 2,  34.2902, 2, -999.0000, 9,    214.4, 1,   -999.0, 9,  -999.00, 9,  -999.00, 9,  -999.00, 9,  -999.00, 9, -999.000, 9, -999.000, 9, -999.000, 9,   -999.0, 9,   -999.0, 9, -999.0000, 9,   -999.00, -999.000, 9, -999.000,   -999.0, 9,   -999.0,  -999.00, 9,   -999.0,   3.7747, 27.2447,   3.8489, 2, 1000, 2, 223.57, 2, -999, -999, -999, -999, -999, 9,  -999.00, 9, -999, -999, 9, -999
49NZ20031106, A10, 33, 1, 5, 12017, 9, 20031115, 224, -30.0027, -29.9890, 3488,    999.6, 2,   3.8492, 2,  34.2902, 2, -999.0000, 9,    214.3, 1,   -999.0, 9,  -999.00, 9,  -999.00, 9,  -999.00, 9,  -999.00, 9, -999.000, 9, -999.000, 9, -999.000, 9,   -999.0, 9,   -999.0, 9, -999.0000, 9,   -999.00, -999.000, 9, -999.000,   -999.0, 9,   -999.0,  -999.00, 9,   -999.0,   3.7751, 27.2445,   3.8494, 2, 1000, 2, 223.59, 2, -999, -999, -999, -999, -999, 9,  -999.00, 9, -999, -999, 9, -999
49NZ20031106, A10, 33, 1, 4, 12016, 9, 20031115, 224, -30.0027, -29.9890, 3488,    999.9, 2,   3.8482, 2,  34.2905, 2, -999.0000, 9,    214.2, 1,   -999.0, 9,  -999.00, 9,  -999.00, 9,  -999.00, 9,  -999.00, 9, -999.000, 9, -999.000, 9, -999.000, 9,   -999.0, 9,   -999.0, 9, -999.0000, 9,   -999.00, -999.000, 9, -999.000,   -999.0, 9,   -999.0,  -999.00, 9,   -999.0,   3.7741, 27.2447,   3.8497, 2, 1000.3, 2, 223.52, 2, -999, -999, -999, -999, -999, 9,  -999.00, 9, -999, -999, 9, -999
49NZ20031106, A10, 33, 1, 23, 12035, 2, 20031115, 224, -30.0027, -29.9890, 3488,   1000.0, 2,   3.8437, 2,  34.2907, 2,  34.2903, 2,    214.1, 1,    222.9, 2,    28.63, 2,    30.56, 2,     0.00, 2,     2.09, 2,    2.080, 6,    0.976, 2,    0.105, 4,   2185.6, 2,   2290.7, 2,    7.6462, 2,     25.00, -999.000, 9, -999.000,   -999.0, 9,   -999.0,  -999.00, 9,   -999.0,   3.7696, 27.2455,   3.8421, 2, 1000.6, 2, 223.49, 2, 0.18, 0.12, 0.01, 0.02, -999, 1,  -999.00, 9, -999, -999, 9, -999
49NZ20031106, A10, 33, 1, 22, 12034, 2, 20031115, 224, -30.0027, -29.9890, 3488,   1199.6, 2,   3.1892, 2,  34.4082, 2,  34.4082, 2,    190.0, 1,    197.5, 2,    45.57, 2,    32.79, 2,     0.00, 2,     2.25, 2,    0.808, 2,    0.408, 2,    0.023, 4,   2214.7, 2,   2311.6, 2,    7.6108, 2,     25.00, -999.000, 9, -999.000,   -999.0, 9,   -999.0,  -999.00, 9,   -999.0,   3.1043, 27.4036,   3.1891, 2, 1199.4, 2, 198.18, 2, 0.22, 0.12, 0.01, 0.02, -999, 1,  -999.00, 9, -999, -999, 9, -999
49NZ20031106, A10, 33, 1, 21, 12033, 2, 20031115, 224, -30.0027, -29.9890, 3488,   1399.3, 2,   2.9855, 2,  34.5379, 2,  34.5375, 2,    181.4, 1,    188.3, 2,    53.28, 2,    32.33, 2,     0.00, 2,     2.22, 2,    0.307, 2,    0.165, 2,    0.000, 4,   2226.6, 2,   2321.1, 2,    7.6070, 2,     25.00, -999.000, 9, -999.000,   -999.0, 9,   -999.0,  -999.00, 9,   -999.0,   2.8862, 27.527,   2.9856, 2, 1398.7, 2, 189.07, 2, 0.24, 0.12, 0.01, 0.02, -999, 1,  -999.00, 9, -999, -999, 9, -999
49NZ20031106, A10, 33, 1, 20, 12032, 2, 20031115, 224, -30.0027, -29.9890, 3488,   1599.8, 2,   2.8738, 2,  34.6704, 2,  34.6706, 2,    187.2, 1,    194.2, 2,    54.16, 2,    30.15, 2,     0.00, 2,     2.06, 2,    0.075, 2,    0.043, 2,    0.000, 4,   2223.9, 2,   2331.4, 2,    7.6308, 2,     25.00, -999.000, 9, -999.000,   -999.0, 9,   -999.0,  -999.00, 9,   -999.0,   2.7589, 27.6443,   2.8738, 2, 1600.3, 2, 194.18, 2, 0.24, 0.12, 0.01, 0.02, -999, 1,  -999.00, 9, -999, -999, 9, -999
49NZ20031106, A10, 33, 1, 19, 12031, 2, 20031115, 224, -30.0027, -29.9890, 3488,   1799.4, 2,   2.7715, 2,  34.7448, 2,  34.7447, 2,    197.9, 1,    205.7, 2,    52.52, 2,    28.24, 2,     0.00, 2,     1.92, 2,    0.023, 2,    0.014, 2,    0.000, 4,   2216.0, 2,   2321.7, 4,    7.6548, 2,     25.00, -999.000, 9, -999.000,   -999.0, 9,   -999.0,  -999.00, 9,   -999.0,   2.6406, 27.7141,   2.7715, 2, 1800.1, 2, 204.94, 2, 0.23, 0.11, 0.01, 0.01, -999, 1,  -999.00, 9, -999, -999, 9, -999
49NZ20031106, A10, 33, 1, 18, 12030, 2, 20031115, 224, -30.0027, -29.9890, 3488,   1998.7, 2,   2.7448, 2,  34.8006, 2,  34.8002, 2,    209.3, 1,    217.4, 2,    48.78, 2,    26.32, 2,     0.01, 2,     1.78, 2,    0.013, 2,    0.007, 2,    0.000, 4,   2206.1, 2,   2327.1, 2,    7.6793, 6,     25.00, -999.000, 9, -999.000,   -999.0, 9,   -999.0,  -999.00, 9,   -999.0,   2.5966, 27.7626,   2.7447, 2, 1999.7, 2, 216.14, 2, 0.23, 0.11, 0.01, 0.01, -999, 1,  -999.00, 9, -999, -999, 9, -999
49NZ20031106, A10, 33, 1, 17, 12029, 2, 20031115, 224, -30.0027, -29.9890, 3488,   2198.5, 2,   2.7380, 2,  34.8373, 2,  34.8373, 2,    218.5, 1,    226.8, 2,    44.85, 2,    24.73, 2,     0.00, 2,     1.67, 2,    0.015, 2,    0.008, 2,    0.000, 4,   2197.7, 2,   2331.1, 2,    7.6981, 2,     25.00, -999.000, 9, -999.000,   -999.0, 9,   -999.0,  -999.00, 9,   -999.0,   2.5717, 27.7941,   2.7380, 2, 2198.4, 2, 226.87, 2, 0.22, 0.1, 0.01, 0.01, -999, 1,  -999.00, 9, -999, -999, 9, -999
49NZ20031106, A10, 33, 1, 16, 12028, 2, 20031115, 224, -30.0027, -29.9890, 3488,   2401.6, 2,   2.7517, 2,  34.8594, 2,  34.8594, 2,    224.5, 1,    232.9, 2,    42.05, 2,    23.89, 2,     0.00, 2,     1.61, 2,    0.000, 2,    0.000, 2,    0.000, 4,   2192.5, 6,   2332.4, 2,    7.7089, 2,     25.00, -999.000, 9, -999.000,   -999.0, 9,   -999.0,  -999.00, 9,   -999.0,   2.5661, 27.8121,   2.7517, 2, 2401.9, 2, 232.38, 2, 0.21, 0.1, 0.01, 0.01, -999, 1,  -999.00, 9, -999, -999, 9, -999
49NZ20031106, A10, 33, 1, 15, 12027, 2, 20031115, 224, -30.0027, -29.9890, 3488,   2601.0, 2,   2.7587, 2,  34.8838, 2,  34.8839, 2,    231.7, 1,    240.3, 2,    38.65, 2,    22.71, 2,     0.00, 2,     1.53, 2,    0.000, 2,    0.000, 2,    0.000, 4,   2186.4, 2,   2325.6, 6,    7.7220, 2,     25.00, -999.000, 9, -999.000,   -999.0, 9,   -999.0,  -999.00, 9,   -999.0,   2.5536, 27.8329,   2.7586, 2, 2601, 2, 240.08, 2, 0.2, 0.1, 0.01, 0.01, -999, 1,  -999.00, 9, -999, -999, 9, -999
49NZ20031106, A10, 33, 1, 14, 12026, 2, 20031115, 224, -30.0027, -29.9890, 3488,   2800.8, 2,   2.7097, 2,  34.8966, 2,  34.8969, 2,    236.6, 1,    245.1, 2,    37.40, 2,    22.04, 2,     0.00, 2,     1.48, 2,    0.002, 2,    0.002, 2,    0.000, 4,   2183.1, 2,   2322.6, 2,    7.7302, 6,     25.00, -999.000, 9, -999.000,   -999.0, 9,   -999.0,  -999.00, 9,   -999.0,   2.4857, 27.8489,   2.7098, 2, 2801.1, 2, 244.89, 2, 0.2, 0.09, 0.01, 0.01, -999, 1,  -999.00, 9, -999, -999, 9, -999
49NZ20031106, A10, 33, 1, 10, 12022, 9, 20031115, 224, -30.0027, -29.9890, 3488,   2900.1, 2,   2.6541, 2,  34.8960, 2, -999.0000, 9,    237.4, 1,   -999.0, 9,  -999.00, 9,  -999.00, 9,  -999.00, 9,  -999.00, 9, -999.000, 9, -999.000, 9, -999.000, 9,   -999.0, 9,   -999.0, 9, -999.0000, 9,   -999.00, -999.000, 9, -999.000,   -999.0, 9,   -999.0,  -999.00, 9,   -999.0,   2.4212, 27.854,   2.6541, 2, 2900.2, 2, 245.89, 2, -999, -999, -999, -999, -999, 9,  -999.00, 9, -999, -999, 9, -999
49NZ20031106, A10, 33, 1, 13, 12025, 2, 20031115, 224, -30.0027, -29.9890, 3488,   3002.7, 2,   2.5690, 2,  34.8905, 2,  34.8909, 2,    237.3, 1,    245.4, 2,    41.03, 2,    22.29, 2,     0.00, 2,     1.49, 2, -999.000, 5, -999.000, 5, -999.000, 5,   2185.2, 2,   2327.0, 2,    7.7283, 2,     25.00, -999.000, 9, -999.000,   -999.0, 9,   -999.0,  -999.00, 9,   -999.0,   2.3275, 27.8576,   2.5690, 2, 3002.7, 2, 245.76, 2, 0.21, 0.1, 0.01, 0.01, -999, 1,  -999.00, 9, -999, -999, 9, -999
49NZ20031106, A10, 33, 1, 9, 12015, 9, 20031115, 224, -30.0027, -29.9890, 3488,   3102.2, 2,   2.4902, 2,  34.8859, 2, -999.0000, 9,    237.3, 1,   -999.0, 9,  -999.00, 9,  -999.00, 9,  -999.00, 9,  -999.00, 9, -999.000, 9, -999.000, 9, -999.000, 9,   -999.0, 9,   -999.0, 9, -999.0000, 9,   -999.00, -999.000, 9, -999.000,   -999.0, 9,   -999.0,  -999.00, 9,   -999.0,   2.2403, 27.8612,   2.4902, 2, 3102.2, 2, 245.53, 2, -999, -999, -999, -999, -999, 9,  -999.00, 9, -999, -999, 9, -999
49NZ20031106, A10, 33, 1, 12, 12024, 2, 20031115, 224, -30.0027, -29.9890, 3488,   3251.2, 2,   2.4190, 2,  34.8789, 2,  34.8785, 2,    237.0, 1,    244.4, 2,    46.13, 2,    22.93, 2,    -0.01, 2,     1.53, 2,    0.005, 2,    0.004, 2,    0.000, 4,   2191.7, 2,   2334.9, 2,    7.7234, 2,     25.00, -999.000, 9, -999.000,   -999.0, 9,   -999.0,  -999.00, 9,   -999.0,   2.1552, 27.8625,   2.4190, 2, 3251.3, 2, 244.91, 2, 0.22, 0.1, 0.01, 0.01, -999, 1,  -999.00, 9, -999, -999, 9, -999
49NZ20031106, A10, 33, 1, 1, 12013, 2, 20031115, 224, -30.0027, -29.9890, 3488,   3251.4, 2,   2.4183, 2,  34.8790, 2,  34.8790, 2,    237.0, 1,    244.1, 2,    46.26, 2,    22.82, 2,     0.00, 2,     1.55, 2,   -0.002, 2,    0.002, 2,    0.000, 4,   2191.1, 2,   2329.3, 3,    7.7240, 2,     25.00, -999.000, 9, -999.000,   -999.0, 9,   -999.0,  -999.00, 9,   -999.0,   2.1545, 27.8626,   2.4181, 2, 3251.5, 2, 244.89, 2, 0.22, 0.1, 0.01, 0.01, -999, 9,  -999.00, 9, -999, -999, 9, -999
49NZ20031106, A10, 33, 1, 8, 12020, 9, 20031115, 224, -30.0027, -29.9890, 3488,   3350.8, 2,   2.3523, 2,  34.8729, 2, -999.0000, 9,    236.5, 1,   -999.0, 9,  -999.00, 9,  -999.00, 9,  -999.00, 9,  -999.00, 9, -999.000, 9, -999.000, 9, -999.000, 9,   -999.0, 9,   -999.0, 9, -999.0000, 9,   -999.00, -999.000, 9, -999.000,   -999.0, 9,   -999.0,  -999.00, 9,   -999.0,   2.0797, 27.8638,   2.3522, 2, 3350.7, 2, 243.97, 2, -999, -999, -999, -999, -999, 9,  -999.00, 9, -999, -999, 9, -999
49NZ20031106, A10, 33, 1, 11, 12023, 2, 20031115, 224, -30.0027, -29.9890, 3488,   3545.0, 2,   1.9746, 2,  34.8356, 2,  34.8356, 2,    231.7, 1,    237.3, 2,    63.03, 2,    24.98, 2,     0.00, 2,     1.70, 2,    0.011, 2,    0.007, 2,    0.000, 4,   2207.9, 2,   2338.8, 2,    7.7020, 2,     25.00, -999.000, 9, -999.000,   -999.0, 9,   -999.0,  -999.00, 9,   -999.0,   1.6909, 27.8645,   1.9749, 2, 3544.9, 2, 237.27, 2, 0.26, 0.1, 0.01, 0.01, -999, 1,  -999.00, 9, -999, -999, 9, -999