BOTTLE,20220818CCHSIOAMB
EXPOCODE,SECT_ID,STNNBR,CASTNO,SAMPNO,BTLNBR,BTLNBR_FLAG_W,DATE,TIME,LATITUDE,LONGITUDE,DEPTH,CTDPRS,CTDPRS_FLAG_W,CTDTMP,CTDTMP_FLAG_W,CTDSAL,CTDSAL_FLAG_W,SALNTY,SALNTY_FLAG_W,CTDOXY,CTDOXY_FLAG_W,OXYGEN,OXYGEN_FLAG_W,SILCAT,SILCAT_FLAG_W,NITRAT,NITRAT_FLAG_W,NITRIT,NITRIT_FLAG_W,PHSPHT,PHSPHT_FLAG_W,CFC-11,CFC-11_FLAG_W,CFC-12,CFC-12_FLAG_W,CFC113,CFC113_FLAG_W,TCARBN,TCARBN_FLAG_W,ALKALI,ALKALI_FLAG_W,PH_TOT,PH_TOT_FLAG_W,PH_TMP,TRITUM,TRITUM_FLAG_W,TRITER,DELC14,DELC14_FLAG_W,C14ERR,DELC13,DELC13_FLAG_W,C13ERR,THETA,SIG0,SBE35,SBE35_FLAG_W,DWNPRS,DWNPRS_FLAG_W,DWNOXY,DWNOXY_FLAG_W,SILUNC,NRAUNC,NRIUNC,PHPUNC,TOC,TOC_FLAG_W,CS-137,CS-137_FLAG_W,CS137ER,PLUTO,PLUTO_FLAG_W,PLUTOER
,,,,,,,,,,,METERS,DBAR,,ITS-90,,PSS-78,,PSS-78,,UMOL/KG,,UMOL/KG,,UMOL/KG,,UMOL/KG,,UMOL/KG,,UMOL/KG,,PMOL/KG,,PMOL/KG,,PMOL/KG,,UMOL/KG,,UMOL/KG,,,,DEG C,TU,,TU,/MILLE,,/MILLE,/MILLE,,/MILLE,DEG C,KG/M^3,ITS-90,,DBAR,,UMOL/KG,,UMOL/KG,UMOL/KG,UMOL/KG,UMOL/KG,UMOL/KG,,BQ/M^3,,BQ/M^3,MBQ/M^3,,MBQ/M^3
49NZ20031106, A10, 34, 1, 36, 12036, 2, 20031116, 640, -29.9977, -29.4955, 2244,     10.0, 2,  19.4791, 2,  35.9068, 2,  35.9064, 2,    218.9, 1,    231.3, 2,     0.98, 2,     0.05, 2,     0.02, 2,     0.07, 2, -999.000, 9, -999.000, 9, -999.000, 9,   -999.0, 9,   -999.0, 9, -999.0000, 9,   -999.00, -999.000, 9, -999.000,   -999.0, 9,   -999.0,  -999.00, 9,   -999.0,  19.4773, 25.5922,  19.4792, 2, 10.7, 2, 231.43, 2, 0.12, 0.03, 0.01, 0.03, -999, 9,  -999.00, 9, -999, -999, 9, -999
49NZ20031106, A10, 34, 1, 35, 12035, 2, 20031116, 640, -29.9977, -29.4955, 2244,     49.7, 2,  19.3098, 2,  35.8937, 2,  35.8965, 2,    219.9, 1,    232.4, 2,     0.96, 2,     0.02, 2,     0.01, 2,     0.07, 2, -999.000, 9, -999.000, 9, -999.000, 9,   -999.0, 9,   -999.0, 9, -999.0000, 9,   -999.00, -999.000, 9, -999.000,   -999.0, 9,   -999.0,  -999.00, 9,   -999.0,  19.3008, 25.6282,  19.3099, 2, 47.5, 2, 232.65, 2, 0.12, 0.03, 0.01, 0.03, -999, 9,  -999.00, 9, -999, -999, 9, -999
49NZ20031106, A10, 34, 1, 34, 12034, 2, 20031116, 640, -29.9977, -29.4955, 2244,    100.6, 2,  18.0644, 2,  35.8369, 2,  35.8385, 2,    221.6, 1,    234.2, 2,     0.95, 2,     0.05, 2,     0.00, 2,     0.10, 2, -999.000, 9, -999.000, 9, -999.000, 9,   -999.0, 9,   -999.0, 9, -999.0000, 9,   -999.00, -999.000, 9, -999.000,   -999.0, 9,   -999.0,  -999.00, 9,   -999.0,  18.0470, 25.9036,  18.0589, 2, 103.2, 2, 236.79, 2, 0.12, 0.03, 0.01, 0.02, -999, 9,  -999.00, 9, -999, -999, 9, -999
49NZ20031106, A10, 34, 1, 33, 12033, 2, 20031116, 640, -29.9977, -29.4955, 2244,    149.7, 2,  16.6370, 2,  35.6525, 2,  35.6629, 3,    215.6, 1,    228.0, 2,     1.13, 2,     0.68, 2,     0.09, 2,     0.21, 2, -999.000, 9, -999.000, 9, -999.000, 9,   -999.0, 9,   -999.0, 9, -999.0000, 9,   -999.00, -999.000, 9, -999.000,   -999.0, 9,   -999.0,  -999.00, 9,   -999.0,  16.6126, 26.1125,  16.6122, 2, 154.1, 2, 227.5, 2, 0.12, 0.03, 0.01, 0.02, -999, 9,  -999.00, 9, -999, -999, 9, -999
49NZ20031106, A10, 34, 1, 32, 12032, 2, 20031116, 640, -29.9977, -29.4955, 2244,    200.8, 2,  15.2937, 2,  35.4888, 2,  35.4889, 2,    204.7, 1,    215.0, 2,     1.74, 2,     4.02, 2,     0.01, 2,     0.41, 2, -999.000, 9, -999.000, 9, -999.000, 9,   -999.0, 9,   -999.0, 9, -999.0000, 9,   -999.00, -999.000, 9, -999.000,   -999.0, 9,   -999.0,  -999.00, 9,   -999.0,  15.2628, 26.2917,  15.2894, 2, 205, 2, 214.91, 2, 0.12, 0.04, 0.01, 0.01, -999, 9,  -999.00, 9, -999, -999, 9, -999
49NZ20031106, A10, 34, 1, 31, 12031, 2, 20031116, 640, -29.9977, -29.4955, 2244,    252.0, 2,  14.4426, 2,  35.3820, 2,  35.3821, 2,    205.8, 1,    216.0, 2,     2.04, 2,     5.69, 2,     0.01, 2,     0.51, 2, -999.000, 9, -999.000, 9, -999.000, 9,   -999.0, 9,   -999.0, 9, -999.0000, 9,   -999.00, -999.000, 9, -999.000,   -999.0, 9,   -999.0,  -999.00, 9,   -999.0,  14.4052, 26.3961,  14.4467, 2, 250.8, 2, 214.31, 2, 0.12, 0.05, 0.01, 0.01, -999, 9,  -999.00, 9, -999, -999, 9, -999
49NZ20031106, A10, 34, 1, 30, 12030, 2, 20031116, 640, -29.9977, -29.4955, 2244,    300.8, 2,  13.6441, 2,  35.2860, 2,  35.2857, 2,    206.1, 1,    215.7, 2,     2.44, 2,     7.54, 2,     0.01, 2,     0.62, 2, -999.000, 9, -999.000, 9, -999.000, 9,   -999.0, 9,   -999.0, 9, -999.0000, 9,   -999.00, -999.000, 9, -999.000,   -999.0, 9,   -999.0,  -999.00, 9,   -999.0,  13.6011, 26.4919,  13.6450, 2, 301.4, 2, 215.2, 2, 0.12, 0.05, 0.01, 0.01, -999, 9,  -999.00, 9, -999, -999, 9, -999
49NZ20031106, A10, 34, 1, 29, 12029, 2, 20031116, 640, -29.9977, -29.4955, 2244,    400.4, 2,  12.4360, 2,  35.1254, 2,  35.1237, 2,    205.3, 1,    214.8, 2,     3.34, 2,    10.47, 2,     0.01, 2,     0.80, 2, -999.000, 9, -999.000, 9, -999.000, 9,   -999.0, 9,   -999.0, 9, -999.0000, 9,   -999.00, -999.000, 9, -999.000,   -999.0, 9,   -999.0,  -999.00, 9,   -999.0,  12.3820, 26.6125,  12.4338, 2, 396.9, 2, 214.34, 2, 0.13, 0.06, 0.01, 0.01, -999, 9,  -999.00, 9, -999, -999, 9, -999
49NZ20031106, A10, 34, 1, 28, 12028, 2, 20031116, 640, -29.9977, -29.4955, 2244,    501.8, 2,  10.4266, 2,  34.8584, 2,  34.6615, 3,    199.7, 1,    208.4, 2,     6.13, 2,    15.95, 2,     0.01, 2,     1.13, 2, -999.000, 9, -999.000, 9, -999.000, 9,   -999.0, 9,   -999.0, 9, -999.0000, 9,   -999.00, -999.000, 9, -999.000,   -999.0, 9,   -999.0,  -999.00, 9,   -999.0,  10.3660, 26.7771,  10.4284, 2, 497.3, 2, 208.27, 2, 0.13, 0.08, 0.01, 0.01, -999, 9,  -999.00, 9, -999, -999, 9, -999
49NZ20031106, A10, 34, 1, 27, 12027, 2, 20031116, 640, -29.9977, -29.4955, 2244,    601.5, 2,   8.3884, 2,  34.6149, 2,  34.6144, 2,    201.4, 1,    209.5, 2,     9.29, 2,    20.87, 2,     0.01, 2,     1.46, 2, -999.000, 9, -999.000, 9, -999.000, 9,   -999.0, 9,   -999.0, 9, -999.0000, 9,   -999.00, -999.000, 9, -999.000,   -999.0, 9,   -999.0,  -999.00, 9,   -999.0,   8.3246, 26.9219,   8.3872, 2, 599.2, 2, 209.93, 2, 0.14, 0.09, 0.01, 0.01, -999, 9,  -999.00, 9, -999, -999, 9, -999
49NZ20031106, A10, 34, 1, 26, 12026, 2, 20031116, 640, -29.9977, -29.4955, 2244,    699.2, 2,   6.3293, 2,  34.4105, 2,  34.4107, 2,    210.6, 1,    218.8, 2,    13.73, 2,    25.27, 2,     0.01, 2,     1.74, 2, -999.000, 9, -999.000, 9, -999.000, 9,   -999.0, 9,   -999.0, 9, -999.0000, 9,   -999.00, -999.000, 9, -999.000,   -999.0, 9,   -999.0,  -999.00, 9,   -999.0,   6.2656, 27.0525,   6.3294, 2, 702, 2, 217.28, 2, 0.15, 0.1, 0.01, 0.01, -999, 9,  -999.00, 9, -999, -999, 9, -999
49NZ20031106, A10, 34, 1, 25, 12025, 2, 20031116, 640, -29.9977, -29.4955, 2244,    801.8, 2,   5.4022, 2,  34.3360, 2,  34.3359, 2,    216.8, 1,    225.3, 2,    16.62, 2,    26.89, 2,     0.01, 2,     1.85, 2, -999.000, 9, -999.000, 9, -999.000, 9,   -999.0, 9,   -999.0, 9, -999.0000, 9,   -999.00, -999.000, 9, -999.000,   -999.0, 9,   -999.0,  -999.00, 9,   -999.0,   5.3343, 27.1091,   5.4033, 2, 802.6, 2, 225.36, 2, 0.16, 0.11, 0.01, 0.01, -999, 9,  -999.00, 9, -999, -999, 9, -999
49NZ20031106, A10, 34, 1, 24, 12024, 2, 20031116, 640, -29.9977, -29.4955, 2244,    901.9, 2,   4.3471, 2,  34.2922, 2,  34.2921, 2,    217.1, 1,    225.8, 2,    23.58, 2,    29.27, 2,     0.00, 2,     1.99, 2, -999.000, 9, -999.000, 9, -999.000, 9,   -999.0, 9,   -999.0, 9, -999.0000, 9,   -999.00, -999.000, 9, -999.000,   -999.0, 9,   -999.0,  -999.00, 9,   -999.0,   4.2774, 27.1937,   4.3492, 2, 903.4, 2, 225.73, 2, 0.17, 0.11, 0.01, 0.02, -999, 9,  -999.00, 9, -999, -999, 9, -999
49NZ20031106, A10, 34, 1, 2, 12038, 9, 20031116, 640, -29.9977, -29.4955, 2244,   1000.1, 2,   3.7633, 2,  34.2942, 2, -999.0000, 9,    213.1, 1,   -999.0, 9,  -999.00, 9,  -999.00, 9,  -999.00, 9,  -999.00, 9, -999.000, 9, -999.000, 9, -999.000, 9,   -999.0, 9,   -999.0, 9, -999.0000, 9,   -999.00, -999.000, 9, -999.000,   -999.0, 9,   -999.0,  -999.00, 9,   -999.0,   3.6898, 27.2559,   3.7636, 2, 999.5, 2, 221.49, 2, -999, -999, -999, -999, -999, 9,  -999.00, 9, -999, -999, 9, -999
49NZ20031106, A10, 34, 1, 4, 12040, 9, 20031116, 640, -29.9977, -29.4955, 2244,   1000.6, 2,   3.7628, 2,  34.2944, 2, -999.0000, 9,    213.2, 1,   -999.0, 9,  -999.00, 9,  -999.00, 9,  -999.00, 9,  -999.00, 9, -999.000, 9, -999.000, 9, -999.000, 9,   -999.0, 9,   -999.0, 9, -999.0000, 9,   -999.00, -999.000, 9, -999.000,   -999.0, 9,   -999.0,  -999.00, 9,   -999.0,   3.6893, 27.2563,   3.7627, 2, 999.9, 2, 221.45, 2, -999, -999, -999, -999, -999, 9,  -999.00, 9, -999, -999, 9, -999
49NZ20031106, A10, 34, 1, 7, 12043, 9, 20031116, 640, -29.9977, -29.4955, 2244,   1001.0, 2,   3.7609, 2,  34.2951, 2, -999.0000, 9,    213.2, 1,   -999.0, 9,  -999.00, 9,  -999.00, 9,  -999.00, 9,  -999.00, 9, -999.000, 9, -999.000, 9, -999.000, 9,   -999.0, 9,   -999.0, 9, -999.0000, 9,   -999.00, -999.000, 9, -999.000,   -999.0, 9,   -999.0,  -999.00, 9,   -999.0,   3.6874, 27.2569,   3.7610, 2, 1000.4, 2, 221.41, 2, -999, -999, -999, -999, -999, 9,  -999.00, 9, -999, -999, 9, -999
49NZ20031106, A10, 34, 1, 23, 12023, 2, 20031116, 640, -29.9977, -29.4955, 2244,   1001.2, 2,   3.7626, 2,  34.2944, 2,  34.2940, 2,    213.4, 1,    221.7, 2,    29.95, 2,    30.60, 2,     0.00, 2,     2.10, 2, -999.000, 9, -999.000, 9, -999.000, 9,   -999.0, 9,   -999.0, 9, -999.0000, 9,   -999.00, -999.000, 9, -999.000,   -999.0, 9,   -999.0,  -999.00, 9,   -999.0,   3.6890, 27.2565,   3.7620, 2, 1000.4, 2, 221.42, 2, 0.18, 0.12, 0.01, 0.02, -999, 9,  -999.00, 9, -999, -999, 9, -999
49NZ20031106, A10, 34, 1, 10, 12046, 9, 20031116, 640, -29.9977, -29.4955, 2244,   1001.3, 2,   3.7609, 2,  34.2949, 2, -999.0000, 9,    213.1, 1,   -999.0, 9,  -999.00, 9,  -999.00, 9,  -999.00, 9,  -999.00, 9, -999.000, 9, -999.000, 9, -999.000, 9,   -999.0, 9,   -999.0, 9, -999.0000, 9,   -999.00, -999.000, 9, -999.000,   -999.0, 9,   -999.0,  -999.00, 9,   -999.0,   3.6873, 27.2568,   3.7611, 2, 1000.6, 2, 221.41, 2, -999, -999, -999, -999, -999, 9,  -999.00, 9, -999, -999, 9, -999
49NZ20031106, A10, 34, 1, 13, 12013, 9, 20031116, 640, -29.9977, -29.4955, 2244,   1001.6, 2,   3.7605, 2,  34.2952, 2, -999.0000, 9,    213.1, 1,   -999.0, 9,  -999.00, 9,  -999.00, 9,  -999.00, 9,  -999.00, 9, -999.000, 9, -999.000, 9, -999.000, 9,   -999.0, 9,   -999.0, 9, -999.0000, 9,   -999.00, -999.000, 9, -999.000,   -999.0, 9,   -999.0,  -999.00, 9,   -999.0,   3.6869, 27.2572,   3.7604, 2, 1000.9, 2, 221.4, 2, -999, -999, -999, -999, -999, 9,  -999.00, 9, -999, -999, 9, -999
49NZ20031106, A10, 34, 1, 9, 12045, 9, 20031116, 640, -29.9977, -29.4955, 2244,   1001.6, 2,   3.7604, 2,  34.2952, 2, -999.0000, 9,    213.1, 1,   -999.0, 9,  -999.00, 9,  -999.00, 9,  -999.00, 9,  -999.00, 9, -999.000, 9, -999.000, 9, -999.000, 9,   -999.0, 9,   -999.0, 9, -999.0000, 9,   -999.00, -999.000, 9, -999.000,   -999.0, 9,   -999.0,  -999.00, 9,   -999.0,   3.6868, 27.2571,   3.7605, 2, 1000.9, 2, 221.4, 2, -999, -999, -999, -999, -999, 9,  -999.00, 9, -999, -999, 9, -999
49NZ20031106, A10, 34, 1, 3, 12039, 9, 20031116, 640, -29.9977, -29.4955, 2244,   1001.6, 2,   3.7610, 2,  34.2949, 2, -999.0000, 9,    213.1, 1,   -999.0, 9,  -999.00, 9,  -999.00, 9,  -999.00, 9,  -999.00, 9, -999.000, 9, -999.000, 9, -999.000, 9,   -999.0, 9,   -999.0, 9, -999.0000, 9,   -999.00, -999.000, 9, -999.000,   -999.0, 9,   -999.0,  -999.00, 9,   -999.0,   3.6874, 27.2568,   3.7618, 2, 1000.9, 2, 221.4, 2, -999, -999, -999, -999, -999, 9,  -999.00, 9, -999, -999, 9, -999
49NZ20031106, A10, 34, 1, 8, 12044, 9, 20031116, 640, -29.9977, -29.4955, 2244,   1001.7, 2,   3.7604, 2,  34.2951, 2, -999.0000, 9,    213.3, 1,   -999.0, 9,  -999.00, 9,  -999.00, 9,  -999.00, 9,  -999.00, 9, -999.000, 9, -999.000, 9, -999.000, 9,   -999.0, 9,   -999.0, 9, -999.0000, 9,   -999.00, -999.000, 9, -999.000,   -999.0, 9,   -999.0,  -999.00, 9,   -999.0,   3.6868, 27.2571,   3.7609, 2, 1001, 2, 221.39, 2, -999, -999, -999, -999, -999, 9,  -999.00, 9, -999, -999, 9, -999
49NZ20031106, A10, 34, 1, 15, 12012, 9, 20031116, 640, -29.9977, -29.4955, 2244,   1001.8, 2,   3.7600, 2,  34.2954, 2, -999.0000, 9,    213.1, 1,   -999.0, 9,  -999.00, 9,  -999.00, 9,  -999.00, 9,  -999.00, 9, -999.000, 9, -999.000, 9, -999.000, 9,   -999.0, 9,   -999.0, 9, -999.0000, 9,   -999.00, -999.000, 9, -999.000,   -999.0, 9,   -999.0,  -999.00, 9,   -999.0,   3.6864, 27.2573,   3.7602, 2, 1001.1, 2, 221.38, 2, -999, -999, -999, -999, -999, 9,  -999.00, 9, -999, -999, 9, -999
49NZ20031106, A10, 34, 1, 5, 12041, 9, 20031116, 640, -29.9977, -29.4955, 2244,   1001.8, 2,   3.7604, 2,  34.2952, 2, -999.0000, 9,    213.4, 1,   -999.0, 9,  -999.00, 9,  -999.00, 9,  -999.00, 9,  -999.00, 9, -999.000, 9, -999.000, 9, -999.000, 9,   -999.0, 9,   -999.0, 9, -999.0000, 9,   -999.00, -999.000, 9, -999.000,   -999.0, 9,   -999.0,  -999.00, 9,   -999.0,   3.6868, 27.2571,   3.7609, 2, 1001.1, 2, 221.38, 2, -999, -999, -999, -999, -999, 9,  -999.00, 9, -999, -999, 9, -999
49NZ20031106, A10, 34, 1, 14, 12014, 9, 20031116, 640, -29.9977, -29.4955, 2244,   1001.9, 2,   3.7597, 2,  34.2956, 2, -999.0000, 9,    213.1, 1,   -999.0, 9,  -999.00, 9,  -999.00, 9,  -999.00, 9,  -999.00, 9, -999.000, 9, -999.000, 9, -999.000, 9,   -999.0, 9,   -999.0, 9, -999.0000, 9,   -999.00, -999.000, 9, -999.000,   -999.0, 9,   -999.0,  -999.00, 9,   -999.0,   3.6861, 27.2575,   3.7599, 2, 1001.2, 2, 221.37, 2, -999, -999, -999, -999, -999, 9,  -999.00, 9, -999, -999, 9, -999
49NZ20031106, A10, 34, 1, 11, 12047, 9, 20031116, 640, -29.9977, -29.4955, 2244,   1001.9, 2,   3.7604, 2,  34.2952, 2, -999.0000, 9,    213.1, 1,   -999.0, 9,  -999.00, 9,  -999.00, 9,  -999.00, 9,  -999.00, 9, -999.000, 9, -999.000, 9, -999.000, 9,   -999.0, 9,   -999.0, 9, -999.0000, 9,   -999.00, -999.000, 9, -999.000,   -999.0, 9,   -999.0,  -999.00, 9,   -999.0,   3.6868, 27.2572,   3.7606, 2, 1001.2, 2, 221.38, 2, -999, -999, -999, -999, -999, 9,  -999.00, 9, -999, -999, 9, -999
49NZ20031106, A10, 34, 1, 6, 12042, 9, 20031116, 640, -29.9977, -29.4955, 2244,   1001.9, 2,   3.7598, 2,  34.2955, 2, -999.0000, 9,    213.2, 1,   -999.0, 9,  -999.00, 9,  -999.00, 9,  -999.00, 9,  -999.00, 9, -999.000, 9, -999.000, 9, -999.000, 9,   -999.0, 9,   -999.0, 9, -999.0000, 9,   -999.00, -999.000, 9, -999.000,   -999.0, 9,   -999.0,  -999.00, 9,   -999.0,   3.6862, 27.2574,   3.7599, 2, 1001.2, 2, 221.37, 2, -999, -999, -999, -999, -999, 9,  -999.00, 9, -999, -999, 9, -999
49NZ20031106, A10, 34, 1, 1, 12037, 9, 20031116, 640, -29.9977, -29.4955, 2244,   1001.9, 2,   3.7611, 2,  34.2951, 2, -999.0000, 9,    213.5, 1,   -999.0, 9,  -999.00, 9,  -999.00, 9,  -999.00, 9,  -999.00, 9, -999.000, 9, -999.000, 9, -999.000, 9,   -999.0, 9,   -999.0, 9, -999.0000, 9,   -999.00, -999.000, 9, -999.000,   -999.0, 9,   -999.0,  -999.00, 9,   -999.0,   3.6875, 27.2571,   3.7613, 2, 1001.1, 2, 221.38, 2, -999, -999, -999, -999, -999, 9,  -999.00, 9, -999, -999, 9, -999
49NZ20031106, A10, 34, 1, 12, 12048, 9, 20031116, 640, -29.9977, -29.4955, 2244,   1002.0, 2,   3.7600, 2,  34.2955, 2, -999.0000, 9,    213.4, 1,   -999.0, 9,  -999.00, 9,  -999.00, 9,  -999.00, 9,  -999.00, 9, -999.000, 9, -999.000, 9, -999.000, 9,   -999.0, 9,   -999.0, 9, -999.0000, 9,   -999.00, -999.000, 9, -999.000,   -999.0, 9,   -999.0,  -999.00, 9,   -999.0,   3.6864, 27.2575,   3.7600, 2, 1001.3, 2, 221.36, 2, -999, -999, -999, -999, -999, 9,  -999.00, 9, -999, -999, 9, -999
49NZ20031106, A10, 34, 1, 22, 12022, 2, 20031116, 640, -29.9977, -29.4955, 2244,   1200.7, 2,   3.2120, 2,  34.4038, 2,  34.4037, 2,    191.3, 1,    198.4, 2,    45.20, 2,    32.49, 2,     0.01, 2,     2.24, 2, -999.000, 9, -999.000, 9, -999.000, 9,   -999.0, 9,   -999.0, 9, -999.0000, 9,   -999.00, -999.000, 9, -999.000,   -999.0, 9,   -999.0,  -999.00, 9,   -999.0,   3.1268, 27.3976,   3.2120, 2, 1200.5, 2, 198.91, 2, 0.22, 0.12, 0.01, 0.02, -999, 9,  -999.00, 9, -999, -999, 9, -999
49NZ20031106, A10, 34, 1, 21, 12015, 2, 20031116, 640, -29.9977, -29.4955, 2244,   1399.9, 2,   2.9626, 2,  34.5402, 2,  34.5403, 2,    182.2, 1,    188.6, 2,    53.97, 2,    32.14, 2,     0.00, 2,     2.22, 2, -999.000, 9, -999.000, 9, -999.000, 9,   -999.0, 9,   -999.0, 9, -999.0000, 9,   -999.00, -999.000, 9, -999.000,   -999.0, 9,   -999.0,  -999.00, 9,   -999.0,   2.8635, 27.5305,   2.9626, 2, 1401, 2, 189.46, 2, 0.24, 0.12, 0.01, 0.02, -999, 9,  -999.00, 9, -999, -999, 9, -999
49NZ20031106, A10, 34, 1, 20, 12020, 2, 20031116, 640, -29.9977, -29.4955, 2244,   1600.9, 2,   2.8668, 2,  34.6640, 2,  34.6636, 2,    187.6, 1,    193.9, 2,    54.71, 2,    30.10, 2,     0.00, 2,     2.06, 2, -999.000, 9, -999.000, 9, -999.000, 9,   -999.0, 9,   -999.0, 9, -999.0000, 9,   -999.00, -999.000, 9, -999.000,   -999.0, 9,   -999.0,  -999.00, 9,   -999.0,   2.7519, 27.6394,   2.8670, 2, 1601.8, 2, 193.86, 2, 0.24, 0.12, 0.01, 0.02, -999, 9,  -999.00, 9, -999, -999, 9, -999
49NZ20031106, A10, 34, 1, 19, 12019, 2, 20031116, 640, -29.9977, -29.4955, 2244,   1801.7, 2,   2.7798, 2,  34.7448, 2,  34.7438, 2,    198.9, 1,    205.7, 2,    52.59, 2,    27.99, 2,     0.00, 2,     1.91, 2, -999.000, 9, -999.000, 9, -999.000, 9,   -999.0, 9,   -999.0, 9, -999.0000, 9,   -999.00, -999.000, 9, -999.000,   -999.0, 9,   -999.0,  -999.00, 9,   -999.0,   2.6486, 27.7129,   2.7800, 2, 1803.2, 2, 204.46, 2, 0.23, 0.11, 0.01, 0.01, -999, 9,  -999.00, 9, -999, -999, 9, -999
49NZ20031106, A10, 34, 1, 18, 12018, 2, 20031116, 640, -29.9977, -29.4955, 2244,   2001.9, 2,   2.7482, 2,  34.7948, 2,  34.7943, 2,    209.6, 1,    216.3, 2,    49.51, 2,    26.20, 2,     0.00, 2,     1.79, 2, -999.000, 9, -999.000, 9, -999.000, 9,   -999.0, 9,   -999.0, 9, -999.0000, 9,   -999.00, -999.000, 9, -999.000,   -999.0, 9,   -999.0,  -999.00, 9,   -999.0,   2.5997, 27.7573,   2.7484, 2, 2002.6, 2, 215.32, 2, 0.23, 0.11, 0.01, 0.01, -999, 9,  -999.00, 9, -999, -999, 9, -999
49NZ20031106, A10, 34, 1, 16, 12016, 9, 20031116, 640, -29.9977, -29.4955, 2244,   2098.8, 2,   2.7462, 2,  34.8177, 2, -999.0000, 9,    215.1, 1,   -999.0, 9,  -999.00, 9,  -999.00, 9,  -999.00, 9,  -999.00, 9, -999.000, 9, -999.000, 9, -999.000, 9,   -999.0, 9,   -999.0, 9, -999.0000, 9,   -999.00, -999.000, 9, -999.000,   -999.0, 9,   -999.0,  -999.00, 9,   -999.0,   2.5890, 27.7766,   2.7463, 2, 2098.9, 2, 221.3, 2, -999, -999, -999, -999, -999, 9,  -999.00, 9, -999, -999, 9, -999
49NZ20031106, A10, 34, 1, 17, 12017, 2, 20031116, 640, -29.9977, -29.4955, 2244,   2248.9, 2,   2.7452, 2,  34.8561, 2,  34.8554, 2,    225.4, 1,    231.9, 2,    42.86, 2,    23.84, 2,     0.00, 2,     1.61, 2, -999.000, 9, -999.000, 9, -999.000, 9,   -999.0, 9,   -999.0, 9, -999.0000, 9,   -999.00, -999.000, 9, -999.000,   -999.0, 9,   -999.0,  -999.00, 9,   -999.0,   2.5741, 27.8085,   2.7452, 2, 2249, 2, 231.92, 2, 0.21, 0.1, 0.01, 0.01, -999, 9,  -999.00, 9, -999, -999, 9, -999