BOTTLE,20220818CCHSIOAMB
EXPOCODE,SECT_ID,STNNBR,CASTNO,SAMPNO,BTLNBR,BTLNBR_FLAG_W,DATE,TIME,LATITUDE,LONGITUDE,DEPTH,CTDPRS,CTDPRS_FLAG_W,CTDTMP,CTDTMP_FLAG_W,CTDSAL,CTDSAL_FLAG_W,SALNTY,SALNTY_FLAG_W,CTDOXY,CTDOXY_FLAG_W,OXYGEN,OXYGEN_FLAG_W,SILCAT,SILCAT_FLAG_W,NITRAT,NITRAT_FLAG_W,NITRIT,NITRIT_FLAG_W,PHSPHT,PHSPHT_FLAG_W,CFC-11,CFC-11_FLAG_W,CFC-12,CFC-12_FLAG_W,CFC113,CFC113_FLAG_W,TCARBN,TCARBN_FLAG_W,ALKALI,ALKALI_FLAG_W,PH_TOT,PH_TOT_FLAG_W,PH_TMP,TRITUM,TRITUM_FLAG_W,TRITER,DELC14,DELC14_FLAG_W,C14ERR,DELC13,DELC13_FLAG_W,C13ERR,THETA,SIG0,SBE35,SBE35_FLAG_W,DWNPRS,DWNPRS_FLAG_W,DWNOXY,DWNOXY_FLAG_W,SILUNC,NRAUNC,NRIUNC,PHPUNC,TOC,TOC_FLAG_W,CS-137,CS-137_FLAG_W,CS137ER,PLUTO,PLUTO_FLAG_W,PLUTOER
,,,,,,,,,,,METERS,DBAR,,ITS-90,,PSS-78,,PSS-78,,UMOL/KG,,UMOL/KG,,UMOL/KG,,UMOL/KG,,UMOL/KG,,UMOL/KG,,PMOL/KG,,PMOL/KG,,PMOL/KG,,UMOL/KG,,UMOL/KG,,,,DEG C,TU,,TU,/MILLE,,/MILLE,/MILLE,,/MILLE,DEG C,KG/M^3,ITS-90,,DBAR,,UMOL/KG,,UMOL/KG,UMOL/KG,UMOL/KG,UMOL/KG,UMOL/KG,,BQ/M^3,,BQ/M^3,MBQ/M^3,,MBQ/M^3
49NZ20031106, A10, 60, 1, 36, 12036, 2, 20031122, 1330, -29.9958, -10.3347, 3745,     10.1, 2,  19.3655, 2,  35.8349, 2,  35.8345, 2,    221.4, 1,    234.2, 2,     1.05, 2,    -0.02, 2,     0.00, 2,     0.18, 2, -999.000, 9, -999.000, 9, -999.000, 9,   -999.0, 9,   -999.0, 9, -999.0000, 9,   -999.00, -999.000, 9, -999.000,   -999.0, 9,   -999.0,  -999.00, 9,   -999.0,  19.3637, 25.5672,  19.3616, 2, 10.1, 2, 234.17, 2, 0.12, 0.03, 0.01, 0.02, -999, 9,  -999.00, 9, -999, -999, 9, -999
49NZ20031106, A10, 60, 1, 35, 12035, 2, 20031122, 1330, -29.9958, -10.3347, 3745,     50.5, 2,  18.2950, 2,  35.7934, 2,  35.7963, 2,    226.6, 1,    239.6, 2,     1.02, 2,    -0.04, 2,     0.01, 2,     0.18, 2, -999.000, 9, -999.000, 9, -999.000, 9,   -999.0, 9,   -999.0, 9, -999.0000, 9,   -999.00, -999.000, 9, -999.000,   -999.0, 9,   -999.0,  -999.00, 9,   -999.0,  18.2862, 25.8091,  18.2977, 2, 51.4, 2, 239.06, 2, 0.12, 0.03, 0.01, 0.02, -999, 9,  -999.00, 9, -999, -999, 9, -999
49NZ20031106, A10, 60, 1, 34, 12034, 2, 20031122, 1330, -29.9958, -10.3347, 3745,     99.3, 2,  17.5089, 2,  35.7551, 2,  35.7552, 2,    224.8, 1,    237.5, 2,     1.11, 2,    -0.05, 2,     0.00, 2,     0.20, 2, -999.000, 9, -999.000, 9, -999.000, 9,   -999.0, 9,   -999.0, 9, -999.0000, 9,   -999.00, -999.000, 1, -999.000,   -999.0, 9,   -999.0,  -999.00, 9,   -999.0,  17.4921, 25.9764,  17.5087, 2, 101.3, 2, 237.75, 2, 0.12, 0.03, 0.01, 0.02, -999, 9,     1.60, 2, 0.16, -999, 1, -999
49NZ20031106, A10, 60, 1, 8, 12044, 2, 20031122, 1330, -29.9958, -10.3347, 3745,    122.4, 2,  16.8827, 2,  35.6531, 2, -999.0000, 9,    226.5, 1,   -999.0, 9,  -999.00, 9,  -999.00, 9,  -999.00, 9,  -999.00, 9, -999.000, 9, -999.000, 9, -999.000, 9,   -999.0, 9,   -999.0, 9, -999.0000, 9,   -999.00, -999.000, 9, -999.000,   -999.0, 9,   -999.0,  -999.00, 9,   -999.0,  16.8625, 26.0494,  16.8828, 2, 130.9, 2, 235.18, 2, -999, -999, -999, -999, -999, 9,  -999.00, 9, -999, -999, 9, -999
49NZ20031106, A10, 60, 1, 33, 12033, 2, 20031122, 1330, -29.9958, -10.3347, 3745,    150.7, 2,  16.5519, 2,  35.6221, 2,  35.6206, 2,    219.0, 1,    231.9, 2,     1.22, 2,     0.75, 2,     0.11, 2,     0.28, 2, -999.000, 9, -999.000, 9, -999.000, 9,   -999.0, 9,   -999.0, 9, -999.0000, 9,   -999.00, -999.000, 9, -999.000,   -999.0, 9,   -999.0,  -999.00, 9,   -999.0,  16.5274, 26.1049,  16.5526, 2, 155.2, 2, 239.46, 2, 0.12, 0.03, 0.01, 0.01, -999, 9,  -999.00, 9, -999, -999, 9, -999
49NZ20031106, A10, 60, 1, 32, 12032, 2, 20031122, 1330, -29.9958, -10.3347, 3745,    199.9, 2,  15.4204, 2,  35.4812, 2,  35.4814, 2,    212.9, 1,    224.6, 2,     1.64, 2,     3.14, 2,     0.03, 2,     0.41, 2, -999.000, 9, -999.000, 9, -999.000, 9,   -999.0, 9,   -999.0, 9, -999.0000, 9,   -999.00, -999.000, 1, -999.000,   -999.0, 9,   -999.0,  -999.00, 9,   -999.0,  15.3894, 26.2571,  15.4202, 2, 202.3, 2, 224.12, 2, 0.12, 0.04, 0.01, 0.01, -999, 9,  -999.00, 1, -999, -999, 1, -999
49NZ20031106, A10, 60, 1, 4, 12040, 2, 20031122, 1330, -29.9958, -10.3347, 3745,    200.0, 2,  15.4218, 2,  35.4813, 2, -999.0000, 9,    213.1, 1,   -999.0, 9,  -999.00, 9,  -999.00, 9,  -999.00, 9,  -999.00, 9, -999.000, 9, -999.000, 9, -999.000, 9,   -999.0, 9,   -999.0, 9, -999.0000, 9,   -999.00, -999.000, 1, -999.000,   -999.0, 9,   -999.0,  -999.00, 9,   -999.0,  15.3908, 26.2576,  15.4207, 2, 202.3, 2, 224.12, 2, -999, -999, -999, -999, -999, 9,  -999.00, 9, -999, -999, 9, -999
49NZ20031106, A10, 60, 1, 31, 12031, 2, 20031122, 1330, -29.9958, -10.3347, 3745,    249.5, 2,  14.4170, 2,  35.3485, 2,  35.3464, 2,    209.9, 1,    221.0, 2,     2.08, 2,     5.41, 2,     0.01, 2,     0.53, 2, -999.000, 9, -999.000, 9, -999.000, 9,   -999.0, 9,   -999.0, 9, -999.0000, 9,   -999.00, -999.000, 9, -999.000,   -999.0, 9,   -999.0,  -999.00, 9,   -999.0,  14.3800, 26.3755,  14.4284, 2, 252.4, 2, 218.84, 2, 0.12, 0.05, 0.01, 0.01, -999, 9,  -999.00, 9, -999, -999, 9, -999
49NZ20031106, A10, 60, 1, 30, 12030, 2, 20031122, 1330, -29.9958, -10.3347, 3745,    301.2, 2,  13.3377, 2,  35.2150, 2,  35.2151, 2,    206.3, 1,    216.5, 2,     2.76, 2,     8.20, 2,     0.00, 2,     0.70, 2, -999.000, 9, -999.000, 9, -999.000, 9,   -999.0, 9,   -999.0, 9, -999.0000, 9,   -999.00, -999.000, 9, -999.000,   -999.0, 9,   -999.0,  -999.00, 9,   -999.0,  13.2953, 26.5005,  13.3363, 2, 301.9, 2, 215.94, 2, 0.13, 0.06, 0.01, 0.01, -999, 9,  -999.00, 9, -999, -999, 9, -999
49NZ20031106, A10, 60, 1, 29, 12029, 2, 20031122, 1330, -29.9958, -10.3347, 3745,    401.4, 2,  11.7442, 2,  35.0100, 2,  35.0103, 2,    203.9, 1,    214.0, 2,     4.10, 2,    12.24, 2,     0.01, 2,     0.93, 2, -999.000, 9, -999.000, 9, -999.000, 9,   -999.0, 9,   -999.0, 9, -999.0000, 9,   -999.00, -999.000, 1, -999.000,   -999.0, 9,   -999.0,  -999.00, 9,   -999.0,  11.6921, 26.656,  11.7419, 2, 399, 2, 213.94, 2, 0.13, 0.07, 0.01, 0.01, -999, 9,     0.87, 2, 0.23, -999, 1, -999
49NZ20031106, A10, 60, 1, 28, 12028, 2, 20031122, 1330, -29.9958, -10.3347, 3745,    501.2, 2,  10.1245, 2,  34.8121, 2,  34.8112, 2,    196.6, 1,    205.8, 2,     6.71, 2,    16.98, 2,     0.00, 2,     1.23, 2, -999.000, 9, -999.000, 9, -999.000, 9,   -999.0, 9,   -999.0, 9, -999.0000, 9,   -999.00, -999.000, 9, -999.000,   -999.0, 9,   -999.0,  -999.00, 9,   -999.0,  10.0651, 26.7944,  10.1258, 2, 498.8, 2, 205.7, 2, 0.13, 0.08, 0.01, 0.01, -999, 9,  -999.00, 9, -999, -999, 9, -999
49NZ20031106, A10, 60, 1, 27, 12027, 2, 20031122, 1330, -29.9958, -10.3347, 3745,    600.9, 2,   8.2772, 2,  34.6080, 2,  34.6083, 2,    192.1, 1,    200.4, 2,    11.09, 2,    22.13, 2,     0.00, 2,     1.56, 2, -999.000, 9, -999.000, 9, -999.000, 9,   -999.0, 9,   -999.0, 9, -999.0000, 9,   -999.00, -999.000, 1, -999.000,   -999.0, 9,   -999.0,  -999.00, 9,   -999.0,   8.2139, 26.9338,   8.2758, 2, 600.3, 2, 201.6, 2, 0.14, 0.09, 0.01, 0.01, -999, 9,  -999.00, 1, -999, -999, 1, -999
49NZ20031106, A10, 60, 1, 2, 12038, 2, 20031122, 1330, -29.9958, -10.3347, 3745,    601.1, 2,   8.2682, 2,  34.6070, 2, -999.0000, 9,    192.0, 1,   -999.0, 9,  -999.00, 9,  -999.00, 9,  -999.00, 9,  -999.00, 9, -999.000, 9, -999.000, 9, -999.000, 9,   -999.0, 9,   -999.0, 9, -999.0000, 9,   -999.00, -999.000, 1, -999.000,   -999.0, 9,   -999.0,  -999.00, 9,   -999.0,   8.2049, 26.9346,   8.2674, 2, 600.6, 2, 201.62, 2, -999, -999, -999, -999, -999, 9,  -999.00, 9, -999, -999, 9, -999
49NZ20031106, A10, 60, 1, 26, 12026, 2, 20031122, 1330, -29.9958, -10.3347, 3745,    700.5, 2,   6.4188, 2,  34.4282, 2,  34.4282, 2,    201.9, 1,    210.5, 2,    14.88, 2,    25.91, 2,     0.00, 2,     1.79, 2, -999.000, 9, -999.000, 9, -999.000, 9,   -999.0, 9,   -999.0, 9, -999.0000, 9,   -999.00, -999.000, 9, -999.000,   -999.0, 9,   -999.0,  -999.00, 9,   -999.0,   6.3545, 27.0551,   6.4193, 2, 701.1, 2, 211.73, 2, 0.15, 0.11, 0.01, 0.01, -999, 9,  -999.00, 9, -999, -999, 9, -999
49NZ20031106, A10, 60, 1, 7, 12043, 2, 20031122, 1330, -29.9958, -10.3347, 3745,    801.2, 2,   5.1721, 2,  34.3425, 2, -999.0000, 9,    206.3, 1,   -999.0, 9,  -999.00, 9,  -999.00, 9,  -999.00, 9,  -999.00, 9, -999.000, 9, -999.000, 9, -999.000, 9,   -999.0, 9,   -999.0, 9, -999.0000, 9,   -999.00, -999.000, 1, -999.000,   -999.0, 9,   -999.0,  -999.00, 9,   -999.0,   5.1057, 27.1421,   5.1698, 2, 800.7, 2, 216, 2, -999, -999, -999, -999, -999, 9,  -999.00, 9, -999, -999, 9, -999
49NZ20031106, A10, 60, 1, 25, 12025, 2, 20031122, 1330, -29.9958, -10.3347, 3745,    801.7, 2,   5.1755, 2,  34.3427, 2,  34.3415, 2,    206.4, 1,    215.7, 2,    20.28, 2,    28.54, 2,     0.00, 2,     1.97, 2, -999.000, 9, -999.000, 9, -999.000, 9,   -999.0, 9,   -999.0, 9, -999.0000, 9,   -999.00, -999.000, 1, -999.000,   -999.0, 9,   -999.0,  -999.00, 9,   -999.0,   5.1090, 27.1416,   5.1749, 2, 801.1, 2, 216.01, 2, 0.16, 0.11, 0.01, 0.01, -999, 9,  -999.00, 9, -999, -999, 9, -999
49NZ20031106, A10, 60, 1, 24, 12024, 2, 20031122, 1330, -29.9958, -10.3347, 3745,    900.5, 2,   4.4046, 2,  34.3314, 2,  34.3315, 2,    201.9, 1,    210.9, 2,    27.39, 2,    30.35, 2,     0.00, 2,     2.09, 2, -999.000, 9, -999.000, 9, -999.000, 9,   -999.0, 9,   -999.0, 9, -999.0000, 9,   -999.00, -999.000, 9, -999.000,   -999.0, 9,   -999.0,  -999.00, 9,   -999.0,   4.3346, 27.2195,   4.4050, 2, 899.5, 2, 211.32, 2, 0.18, 0.12, 0.01, 0.02, -999, 9,  -999.00, 9, -999, -999, 9, -999
49NZ20031106, A10, 60, 1, 23, 12023, 2, 20031122, 1330, -29.9958, -10.3347, 3745,    998.9, 2,   3.8868, 2,  34.3517, 2,  34.3516, 2,    194.7, 1,    203.9, 2,    34.73, 2,    31.64, 2,     0.01, 2,     2.19, 2, -999.000, 9, -999.000, 9, -999.000, 9,   -999.0, 9,   -999.0, 9, -999.0000, 9,   -999.00, -999.000, 1, -999.000,   -999.0, 9,   -999.0,  -999.00, 9,   -999.0,   3.8124, 27.2899,   3.8867, 2, 1000.2, 2, 205.1, 2, 0.2, 0.12, 0.01, 0.02, -999, 9,  -999.00, 1, -999, -999, 1, -999
49NZ20031106, A10, 60, 1, 3, 12039, 2, 20031122, 1330, -29.9958, -10.3347, 3745,    999.8, 2,   3.8866, 2,  34.3518, 2, -999.0000, 9,    194.8, 1,   -999.0, 9,  -999.00, 9,  -999.00, 9,  -999.00, 9,  -999.00, 9, -999.000, 9, -999.000, 9, -999.000, 9,   -999.0, 9,   -999.0, 9, -999.0000, 9,   -999.00, -999.000, 1, -999.000,   -999.0, 9,   -999.0,  -999.00, 9,   -999.0,   3.8121, 27.2899,   3.8868, 2, 1001, 2, 205.03, 2, -999, -999, -999, -999, -999, 9,  -999.00, 9, -999, -999, 9, -999
49NZ20031106, A10, 60, 1, 22, 12022, 2, 20031122, 1330, -29.9958, -10.3347, 3745,   1201.0, 2,   3.2345, 2,  34.4532, 2,  34.4539, 2,    180.9, 1,    188.9, 2,    48.96, 2,    32.92, 2,     0.00, 2,     2.29, 2, -999.000, 9, -999.000, 9, -999.000, 9,   -999.0, 9,   -999.0, 9, -999.0000, 9,   -999.00, -999.000, 1, -999.000,   -999.0, 9,   -999.0,  -999.00, 9,   -999.0,   3.1490, 27.4351,   3.2347, 2, 1200.7, 2, 188.79, 2, 0.23, 0.12, 0.01, 0.02, -999, 9,     0.01, 2, 0.02, -999, 1, -999
49NZ20031106, A10, 60, 1, 21, 12015, 2, 20031122, 1330, -29.9958, -10.3347, 3745,   1400.8, 2,   2.9812, 2,  34.5814, 2,  34.5820, 2,    177.9, 1,    185.4, 2,    55.14, 2,    32.05, 2,     0.00, 2,     2.22, 2, -999.000, 9, -999.000, 9, -999.000, 9,   -999.0, 9,   -999.0, 9, -999.0000, 9,   -999.00, -999.000, 1, -999.000,   -999.0, 9,   -999.0,  -999.00, 9,   -999.0,   2.8818, 27.5621,   2.9813, 2, 1400.8, 2, 185.01, 2, 0.24, 0.12, 0.01, 0.02, -999, 9,     0.01, 2, 0.01, -999, 1, -999
49NZ20031106, A10, 60, 1, 20, 12020, 2, 20031122, 1330, -29.9958, -10.3347, 3745,   1600.6, 2,   2.8623, 2,  34.6789, 2,  34.6793, 2,    185.3, 1,    193.1, 2,    55.19, 2,    30.18, 2,     0.00, 2,     2.08, 2, -999.000, 9, -999.000, 9, -999.000, 9,   -999.0, 9,   -999.0, 9, -999.0000, 9,   -999.00, -999.000, 9, -999.000,   -999.0, 9,   -999.0,  -999.00, 9,   -999.0,   2.7474, 27.6522,   2.8624, 2, 1599.5, 2, 193.17, 2, 0.24, 0.12, 0.01, 0.02, -999, 9,  -999.00, 9, -999, -999, 9, -999
49NZ20031106, A10, 60, 1, 19, 12019, 2, 20031122, 1330, -29.9958, -10.3347, 3745,   1799.2, 2,   2.8269, 2,  34.7524, 2,  34.7521, 2,    195.2, 1,    203.5, 3,    52.39, 2,    28.14, 2,     0.00, 2,     1.94, 2, -999.000, 9, -999.000, 9, -999.000, 9,   -999.0, 9,   -999.0, 9, -999.0000, 9,   -999.00, -999.000, 9, -999.000,   -999.0, 9,   -999.0,  -999.00, 9,   -999.0,   2.6953, 27.7155,   2.8267, 2, 1799, 2, 203.09, 2, 0.23, 0.11, 0.01, 0.01, -999, 9,  -999.00, 9, -999, -999, 9, -999
49NZ20031106, A10, 60, 1, 5, 12041, 2, 20031122, 1330, -29.9958, -10.3347, 3745,   1999.0, 2,   2.7065, 2,  34.7946, 2, -999.0000, 9,    204.5, 1,   -999.0, 9,  -999.00, 9,  -999.00, 9,  -999.00, 9,  -999.00, 9, -999.000, 9, -999.000, 9, -999.000, 9,   -999.0, 9,   -999.0, 9, -999.0000, 9,   -999.00, -999.000, 1, -999.000,   -999.0, 9,   -999.0,  -999.00, 9,   -999.0,   2.5589, 27.7613,   2.7064, 2, 1999, 2, 213.06, 2, -999, -999, -999, -999, -999, 9,  -999.00, 9, -999, -999, 9, -999
49NZ20031106, A10, 60, 1, 18, 12018, 2, 20031122, 1330, -29.9958, -10.3347, 3745,   1999.6, 2,   2.7085, 2,  34.7946, 2,  34.7946, 2,    204.6, 1,    213.5, 2,    51.84, 2,    26.77, 2,     0.00, 2,     1.84, 2, -999.000, 9, -999.000, 9, -999.000, 9,   -999.0, 9,   -999.0, 9, -999.0000, 9,   -999.00, -999.000, 1, -999.000,   -999.0, 9,   -999.0,  -999.00, 9,   -999.0,   2.5608, 27.7612,   2.7078, 2, 1999.4, 2, 213.08, 2, 0.23, 0.11, 0.01, 0.01, -999, 9,  -999.00, 1, -999, -999, 1, -999
49NZ20031106, A10, 60, 1, 17, 12017, 2, 20031122, 1330, -29.9958, -10.3347, 3745,   2200.6, 2,   2.5995, 2,  34.8242, 2,  34.8242, 2,    212.8, 1,    221.9, 2,    51.05, 2,    25.64, 2,     0.00, 2,     1.76, 2, -999.000, 9, -999.000, 9, -999.000, 9,   -999.0, 9,   -999.0, 9, -999.0000, 9,   -999.00, -999.000, 9, -999.000,   -999.0, 9,   -999.0,  -999.00, 9,   -999.0,   2.4353, 27.7956,   2.6000, 2, 2201, 2, 221.18, 2, 0.23, 0.1, 0.01, 0.01, -999, 9,  -999.00, 9, -999, -999, 9, -999
49NZ20031106, A10, 60, 1, 16, 12016, 2, 20031122, 1330, -29.9958, -10.3347, 3745,   2400.0, 2,   2.5273, 2,  34.8395, 2,  34.8394, 2,    218.2, 1,    227.6, 2,    50.49, 2,    24.91, 2,     0.00, 2,     1.70, 2, -999.000, 9, -999.000, 9, -999.000, 9,   -999.0, 9,   -999.0, 9, -999.0000, 9,   -999.00, -999.000, 1, -999.000,   -999.0, 9,   -999.0,  -999.00, 9,   -999.0,   2.3459, 27.8155,   2.5277, 2, 2400, 2, 227.41, 2, 0.23, 0.1, 0.01, 0.01, -999, 9,     0.03, 2, 0.02, -999, 1, -999
49NZ20031106, A10, 60, 1, 15, 12012, 2, 20031122, 1330, -29.9958, -10.3347, 3745,   2601.2, 2,   2.4561, 2,  34.8544, 2,  34.8543, 2,    224.2, 1,    233.6, 2,    49.76, 2,    24.16, 2,     0.00, 2,     1.66, 2, -999.000, 9, -999.000, 9, -999.000, 9,   -999.0, 9,   -999.0, 9, -999.0000, 9,   -999.00, -999.000, 9, -999.000,   -999.0, 9,   -999.0,  -999.00, 9,   -999.0,   2.2569, 27.8349,   2.4562, 2, 2601.2, 2, 233.25, 2, 0.23, 0.1, 0.01, 0.01, -999, 9,  -999.00, 9, -999, -999, 9, -999
49NZ20031106, A10, 60, 1, 14, 12014, 2, 20031122, 1330, -29.9958, -10.3347, 3745,   2801.0, 2,   2.4378, 2,  34.8592, 2,  34.8593, 2,    226.5, 1,    235.9, 2,    49.59, 2,    23.92, 2,     0.00, 2,     1.64, 2, -999.000, 9, -999.000, 9, -999.000, 9,   -999.0, 9,   -999.0, 9, -999.0000, 9,   -999.00, -999.000, 9, -999.000,   -999.0, 9,   -999.0,  -999.00, 9,   -999.0,   2.2195, 27.8421,   2.4381, 2, 2801, 2, 235.49, 2, 0.23, 0.1, 0.01, 0.01, -999, 9,  -999.00, 9, -999, -999, 9, -999
49NZ20031106, A10, 60, 1, 6, 12042, 2, 20031122, 1330, -29.9958, -10.3347, 3745,   3000.7, 2,   2.4102, 2,  34.8634, 2, -999.0000, 9,    228.5, 1,   -999.0, 9,  -999.00, 9,  -999.00, 9,  -999.00, 9,  -999.00, 9, -999.000, 9, -999.000, 9, -999.000, 9,   -999.0, 9,   -999.0, 9, -999.0000, 9,   -999.00, -999.000, 1, -999.000,   -999.0, 9,   -999.0,  -999.00, 9,   -999.0,   2.1725, 27.8491,   2.4101, 2, 3000.7, 2, 237.22, 2, -999, -999, -999, -999, -999, 9,  -999.00, 9, -999, -999, 9, -999
49NZ20031106, A10, 60, 1, 13, 12013, 2, 20031122, 1330, -29.9958, -10.3347, 3745,   3001.3, 2,   2.4104, 2,  34.8632, 2,  34.8633, 2,    228.5, 1,    237.5, 2,    49.74, 2,    23.69, 2,     0.00, 2,     1.63, 2, -999.000, 9, -999.000, 9, -999.000, 9,   -999.0, 9,   -999.0, 9, -999.0000, 9,   -999.00, -999.000, 1, -999.000,   -999.0, 9,   -999.0,  -999.00, 9,   -999.0,   2.1726, 27.8491,   2.4103, 2, 3001.3, 2, 237.22, 2, 0.23, 0.1, 0.01, 0.01, -999, 9,  -999.00, 1, -999, -999, 1, -999
49NZ20031106, A10, 60, 1, 12, 12048, 2, 20031122, 1330, -29.9958, -10.3347, 3745,   3250.6, 2,   2.3875, 2,  34.8684, 2,  34.8686, 2,    229.5, 1,    237.9, 2,    50.11, 2,    23.51, 2,     0.00, 2,     1.61, 2, -999.000, 9, -999.000, 9, -999.000, 9,   -999.0, 9,   -999.0, 9, -999.0000, 9,   -999.00, -999.000, 9, -999.000,   -999.0, 9,   -999.0,  -999.00, 9,   -999.0,   2.1246, 27.8572,   2.3876, 2, 3250.5, 2, 237.79, 2, 0.23, 0.1, 0.01, 0.01, -999, 9,  -999.00, 9, -999, -999, 9, -999
49NZ20031106, A10, 60, 1, 11, 12047, 2, 20031122, 1330, -29.9958, -10.3347, 3745,   3500.6, 2,   2.3801, 2,  34.8717, 2,  34.8715, 2,    230.6, 1,    238.1, 2,    50.53, 2,    23.43, 2,     0.00, 2,     1.61, 2, -999.000, 9, -999.000, 9, -999.000, 9,   -999.0, 9,   -999.0, 9, -999.0000, 9,   -999.00, -999.000, 1, -999.000,   -999.0, 9,   -999.0,  -999.00, 9,   -999.0,   2.0908, 27.8627,   2.3801, 2, 3500.6, 2, 238.07, 2, 0.23, 0.1, 0.01, 0.01, -999, 9,  -999.00, 1, -999, -999, 1, -999
49NZ20031106, A10, 60, 1, 10, 12046, 2, 20031122, 1330, -29.9958, -10.3347, 3745,   3749.6, 2,   2.3940, 2,  34.8748, 2,  34.8748, 2,    231.0, 1,    237.3, 2,    50.64, 2,    23.40, 2,     0.00, 2,     1.60, 2, -999.000, 9, -999.000, 9, -999.000, 9,   -999.0, 9,   -999.0, 9, -999.0000, 9,   -999.00, -999.000, 9, -999.000,   -999.0, 9,   -999.0,  -999.00, 9,   -999.0,   2.0771, 27.8662,   2.3941, 2, 3749.6, 2, 237.43, 2, 0.23, 0.1, 0.01, 0.01, -999, 9,  -999.00, 9, -999, -999, 9, -999
49NZ20031106, A10, 60, 1, 1, 12037, 2, 20031122, 1330, -29.9958, -10.3347, 3745,   3789.0, 2,   2.3958, 2,  34.8758, 2, -999.0000, 9,    231.0, 1,   -999.0, 9,  -999.00, 9,  -999.00, 9,  -999.00, 9,  -999.00, 9, -999.000, 9, -999.000, 9, -999.000, 9,   -999.0, 9,   -999.0, 9, -999.0000, 9,   -999.00, -999.000, 9, -999.000,   -999.0, 9,   -999.0,  -999.00, 9,   -999.0,   2.0744, 27.8673,   2.3959, 2, 3789, 2, 236.92, 2, -999, -999, -999, -999, -999, 9,  -999.00, 9, -999, -999, 9, -999
49NZ20031106, A10, 60, 1, 9, 12045, 2, 20031122, 1330, -29.9958, -10.3347, 3745,   3789.1, 2,   2.3957, 2,  34.8757, 2,  34.8754, 2,    231.1, 1,    237.0, 2,    50.67, 2,    23.43, 2,     0.00, 2,     1.60, 2, -999.000, 9, -999.000, 9, -999.000, 9,   -999.0, 9,   -999.0, 9, -999.0000, 9,   -999.00, -999.000, 1, -999.000,   -999.0, 9,   -999.0,  -999.00, 9,   -999.0,   2.0743, 27.8672,   2.3959, 2, 3789.1, 2, 236.93, 2, 0.23, 0.1, 0.01, 0.01, -999, 9,  -999.00, 1, -999, -999, 1, -999