BOTTLE,20220818CCHSIOAMB
EXPOCODE,SECT_ID,STNNBR,CASTNO,SAMPNO,BTLNBR,BTLNBR_FLAG_W,DATE,TIME,LATITUDE,LONGITUDE,DEPTH,CTDPRS,CTDPRS_FLAG_W,CTDTMP,CTDTMP_FLAG_W,CTDSAL,CTDSAL_FLAG_W,SALNTY,SALNTY_FLAG_W,CTDOXY,CTDOXY_FLAG_W,OXYGEN,OXYGEN_FLAG_W,SILCAT,SILCAT_FLAG_W,NITRAT,NITRAT_FLAG_W,NITRIT,NITRIT_FLAG_W,PHSPHT,PHSPHT_FLAG_W,CFC-11,CFC-11_FLAG_W,CFC-12,CFC-12_FLAG_W,CFC113,CFC113_FLAG_W,TCARBN,TCARBN_FLAG_W,ALKALI,ALKALI_FLAG_W,PH_TOT,PH_TOT_FLAG_W,PH_TMP,TRITUM,TRITUM_FLAG_W,TRITER,DELC14,DELC14_FLAG_W,C14ERR,DELC13,DELC13_FLAG_W,C13ERR,THETA,SIG0,SBE35,SBE35_FLAG_W,DWNPRS,DWNPRS_FLAG_W,DWNOXY,DWNOXY_FLAG_W,SILUNC,NRAUNC,NRIUNC,PHPUNC,TOC,TOC_FLAG_W,CS-137,CS-137_FLAG_W,CS137ER,PLUTO,PLUTO_FLAG_W,PLUTOER
,,,,,,,,,,,METERS,DBAR,,ITS-90,,PSS-78,,PSS-78,,UMOL/KG,,UMOL/KG,,UMOL/KG,,UMOL/KG,,UMOL/KG,,UMOL/KG,,PMOL/KG,,PMOL/KG,,PMOL/KG,,UMOL/KG,,UMOL/KG,,,,DEG C,TU,,TU,/MILLE,,/MILLE,/MILLE,,/MILLE,DEG C,KG/M^3,ITS-90,,DBAR,,UMOL/KG,,UMOL/KG,UMOL/KG,UMOL/KG,UMOL/KG,UMOL/KG,,BQ/M^3,,BQ/M^3,MBQ/M^3,,MBQ/M^3
49NZ20031106, A10, 96, 1, 1, 12025, 9, 20031202, 708, -28.9962, 13.7298, 2140,     10.4, 2,  18.5121, 2,  35.3149, 2, -999.0000, 9,    226.2, 1,   -999.0, 9,  -999.00, 9,  -999.00, 9,  -999.00, 9,  -999.00, 9, -999.000, 9, -999.000, 9, -999.000, 9,   -999.0, 9,   -999.0, 9, -999.0000, 9,   -999.00, -999.000, 9, -999.000,   -999.0, 9,   -999.0,  -999.00, 9,   -999.0,  18.5103, 25.388,  18.5119, 2, 11.1, 2, 238.12, 2, -999, -999, -999, -999, -999, 9,  -999.00, 9, -999, -999, 9, -999
49NZ20031106, A10, 96, 1, 36, 12024, 2, 20031202, 708, -28.9962, 13.7298, 2140,     10.8, 2,  18.5135, 2,  35.3151, 2,  35.3151, 2,    226.6, 1,    174.4, 4,     1.17, 2,    -0.02, 2,     0.01, 2,     0.21, 2, -999.000, 9, -999.000, 9, -999.000, 9,   -999.0, 9,   -999.0, 9, -999.0000, 9,   -999.00, -999.000, 9, -999.000,   -999.0, 9,   -999.0,  -999.00, 9,   -999.0,  18.5116, 25.3872,  18.5151, 2, 11.5, 2, 238.22, 2, 0.12, 0.03, 0.01, 0.02, -999, 9,  -999.00, 9, -999, -999, 9, -999
49NZ20031106, A10, 96, 1, 35, 12023, 2, 20031202, 708, -28.9962, 13.7298, 2140,     49.8, 2,  16.9085, 2,  35.2667, 2,  35.2765, 2,    221.1, 1,    231.0, 2,     2.60, 2,     1.50, 2,     0.28, 2,     0.33, 2, -999.000, 9, -999.000, 9, -999.000, 9,   -999.0, 9,   -999.0, 9, -999.0000, 9,   -999.00, -999.000, 9, -999.000,   -999.0, 9,   -999.0,  -999.00, 9,   -999.0,  16.9003, 25.7597,  16.8643, 2, 47.6, 2, 231.46, 2, 0.12, 0.04, 0.01, 0.01, -999, 9,  -999.00, 9, -999, -999, 9, -999
49NZ20031106, A10, 96, 1, 34, 12022, 2, 20031202, 708, -28.9962, 13.7298, 2140,     99.3, 2,  13.6439, 2,  35.1920, 2,  35.1904, 2,    192.8, 1,    201.7, 2,     5.76, 2,    10.54, 2,     0.03, 2,     0.83, 2, -999.000, 9, -999.000, 9, -999.000, 9,   -999.0, 9,   -999.0, 9, -999.0000, 9,   -999.00, -999.000, 9, -999.000,   -999.0, 9,   -999.0,  -999.00, 9,   -999.0,  13.6298, 26.4151,  13.6441, 2, 100.4, 2, 202.46, 2, 0.13, 0.06, 0.01, 0.01, -999, 9,  -999.00, 9, -999, -999, 9, -999
49NZ20031106, A10, 96, 1, 33, 12015, 2, 20031202, 708, -28.9962, 13.7298, 2140,    149.6, 2,  12.1392, 2,  35.0408, 2,  35.0371, 2,    193.4, 1,    201.8, 2,     6.49, 2,    13.38, 2,     0.02, 2,     0.99, 2, -999.000, 9, -999.000, 9, -999.000, 9,   -999.0, 9,   -999.0, 9, -999.0000, 9,   -999.00, -999.000, 9, -999.000,   -999.0, 9,   -999.0,  -999.00, 9,   -999.0,  12.1196, 26.6043,  12.1170, 2, 145.5, 2, 201.14, 2, 0.13, 0.07, 0.01, 0.01, -999, 9,  -999.00, 9, -999, -999, 9, -999
49NZ20031106, A10, 96, 1, 32, 12020, 2, 20031202, 708, -28.9962, 13.7298, 2140,    198.7, 2,  10.9307, 2,  34.9066, 2,  34.9031, 2,    189.7, 1,    197.8, 2,     7.93, 2,    16.11, 2,     0.01, 2,     1.19, 2, -999.000, 9, -999.000, 9, -999.000, 9,   -999.0, 9,   -999.0, 9, -999.0000, 9,   -999.00, -999.000, 9, -999.000,   -999.0, 9,   -999.0,  -999.00, 9,   -999.0,  10.9063, 26.7212,  10.9246, 2, 194.6, 2, 199.36, 2, 0.14, 0.08, 0.01, 0.01, -999, 9,  -999.00, 9, -999, -999, 9, -999
49NZ20031106, A10, 96, 1, 31, 12019, 2, 20031202, 708, -28.9962, 13.7298, 2140,    249.0, 2,  10.0445, 2,  34.8069, 2,  34.8093, 2,    182.7, 1,    189.3, 2,     9.09, 2,    18.76, 2,     0.01, 2,     1.35, 2, -999.000, 9, -999.000, 9, -999.000, 9,   -999.0, 9,   -999.0, 9, -999.0000, 9,   -999.00, -999.000, 9, -999.000,   -999.0, 9,   -999.0,  -999.00, 9,   -999.0,  10.0155, 26.8002,  10.0416, 2, 246.5, 2, 196.64, 2, 0.14, 0.09, 0.01, 0.01, -999, 9,  -999.00, 9, -999, -999, 9, -999
49NZ20031106, A10, 96, 1, 30, 12018, 2, 20031202, 708, -28.9962, 13.7298, 2140,    300.2, 2,   9.1945, 2,  34.7028, 2,  34.7024, 2,    190.3, 1,    197.7, 2,    10.39, 2,    19.96, 2,     0.01, 2,     1.44, 2, -999.000, 9, -999.000, 9, -999.000, 9,   -999.0, 9,   -999.0, 9, -999.0000, 9,   -999.00, -999.000, 9, -999.000,   -999.0, 9,   -999.0,  -999.00, 9,   -999.0,   9.1614, 26.8616,   9.1919, 2, 298.2, 2, 193.6, 2, 0.14, 0.09, 0.01, 0.01, -999, 9,  -999.00, 9, -999, -999, 9, -999
49NZ20031106, A10, 96, 1, 29, 12017, 2, 20031202, 708, -28.9962, 13.7298, 2140,    401.2, 2,   7.5408, 2,  34.5418, 2,  34.5405, 2,    184.8, 1,    194.0, 2,    14.56, 2,    24.62, 2,     0.00, 2,     1.72, 2, -999.000, 9, -999.000, 9, -999.000, 9,   -999.0, 9,   -999.0, 9, -999.0000, 9,   -999.00, -999.000, 9, -999.000,   -999.0, 9,   -999.0,  -999.00, 9,   -999.0,   7.5013, 26.9888,   7.5385, 2, 403, 2, 203.01, 2, 0.15, 0.1, 0.01, 0.01, -999, 9,  -999.00, 9, -999, -999, 9, -999
49NZ20031106, A10, 96, 1, 28, 12016, 2, 20031202, 708, -28.9962, 13.7298, 2140,    501.9, 2,   5.9028, 2,  34.3992, 2,  34.3992, 2,    200.8, 1,    208.7, 2,    19.24, 2,    27.31, 2,     0.01, 2,     1.90, 2, -999.000, 9, -999.000, 9, -999.000, 9,   -999.0, 9,   -999.0, 9, -999.0000, 9,   -999.00, -999.000, 9, -999.000,   -999.0, 9,   -999.0,  -999.00, 9,   -999.0,   5.8594, 27.0967,   5.9025, 2, 499.8, 2, 208.64, 2, 0.16, 0.11, 0.01, 0.01, -999, 9,  -999.00, 9, -999, -999, 9, -999
49NZ20031106, A10, 96, 1, 27, 12012, 2, 20031202, 708, -28.9962, 13.7298, 2140,    600.1, 2,   4.8264, 2,  34.3451, 2,  34.3458, 2,    203.5, 1,    211.5, 2,    25.31, 2,    29.54, 2,     0.00, 2,     2.04, 2, -999.000, 9, -999.000, 9, -999.000, 9,   -999.0, 9,   -999.0, 9, -999.0000, 9,   -999.00, -999.000, 9, -999.000,   -999.0, 9,   -999.0,  -999.00, 9,   -999.0,   4.7791, 27.1821,   4.8266, 2, 599.8, 2, 204.86, 2, 0.17, 0.12, 0.01, 0.02, -999, 9,  -999.00, 9, -999, -999, 9, -999
49NZ20031106, A10, 96, 1, 15, 12039, 2, 20031202, 708, -28.9962, 13.7298, 2140,    666.4, 2,   4.5992, 2,  34.3883, 2,  34.3904, 2,    172.5, 1,    177.9, 2,    30.50, 2,    32.70, 2,     0.00, 2,     2.25, 2, -999.000, 9, -999.000, 9, -999.000, 9,   -999.0, 9,   -999.0, 9, -999.0000, 9,   -999.00, -999.000, 9, -999.000,   -999.0, 9,   -999.0,  -999.00, 9,   -999.0,   4.5475, 27.2422,   4.5989, 2, 666.9, 2, 168.3, 2, 0.19, 0.12, 0.01, 0.02, -999, 9,  -999.00, 9, -999, -999, 9, -999
49NZ20031106, A10, 96, 1, 26, 12014, 2, 20031202, 708, -28.9962, 13.7298, 2140,    699.7, 2,   4.5238, 2,  34.4073, 2,  34.4060, 2,    162.4, 1,    168.9, 2,    32.45, 2,    33.74, 2,     0.01, 2,     2.30, 2, -999.000, 9, -999.000, 9, -999.000, 9,   -999.0, 9,   -999.0, 9, -999.0000, 9,   -999.00, -999.000, 9, -999.000,   -999.0, 9,   -999.0,  -999.00, 9,   -999.0,   4.4697, 27.2656,   4.5240, 2, 698.9, 2, 178.57, 2, 0.19, 0.13, 0.01, 0.02, -999, 9,  -999.00, 9, -999, -999, 9, -999
49NZ20031106, A10, 96, 1, 25, 12013, 2, 20031202, 708, -28.9962, 13.7298, 2140,    799.6, 2,   4.0894, 2,  34.4122, 2,  34.4134, 2,    169.2, 1,    239.6, 4,    37.32, 2,    33.64, 2,     0.00, 2,     2.33, 2, -999.000, 9, -999.000, 9, -999.000, 9,   -999.0, 9,   -999.0, 9, -999.0000, 9,   -999.00, -999.000, 9, -999.000,   -999.0, 9,   -999.0,  -999.00, 9,   -999.0,   4.0297, 27.316,   4.0895, 2, 796.6, 2, 175.16, 2, 0.2, 0.13, 0.01, 0.02, -999, 9,  -999.00, 9, -999, -999, 9, -999
49NZ20031106, A10, 96, 1, 24, 12048, 2, 20031202, 708, -28.9962, 13.7298, 2140,    900.0, 2,   3.8144, 2,  34.4486, 2,  34.4489, 2,    165.7, 1,    171.2, 2,    41.60, 2,    33.95, 2,     0.00, 2,     2.34, 2, -999.000, 9, -999.000, 9, -999.000, 9,   -999.0, 9,   -999.0, 9, -999.0000, 9,   -999.00, -999.000, 9, -999.000,   -999.0, 9,   -999.0,  -999.00, 9,   -999.0,   3.7484, 27.3737,   3.8143, 2, 899.3, 2, 172.2, 2, 0.21, 0.13, 0.01, 0.02, -999, 9,  -999.00, 9, -999, -999, 9, -999
49NZ20031106, A10, 96, 1, 2, 12026, 9, 20031202, 708, -28.9962, 13.7298, 2140,   1001.0, 2,   3.4728, 2,  34.5004, 2, -999.0000, 9,    169.1, 1,   -999.0, 9,  -999.00, 9,  -999.00, 9,  -999.00, 9,  -999.00, 9, -999.000, 9, -999.000, 9, -999.000, 9,   -999.0, 9,   -999.0, 9, -999.0000, 9,   -999.00, -999.000, 9, -999.000,   -999.0, 9,   -999.0,  -999.00, 9,   -999.0,   3.4011, 27.4487,   3.4729, 2, 1002.1, 2, 174.96, 2, -999, -999, -999, -999, -999, 9,  -999.00, 9, -999, -999, 9, -999
49NZ20031106, A10, 96, 1, 7, 12031, 9, 20031202, 708, -28.9962, 13.7298, 2140,   1001.2, 2,   3.4730, 2,  34.5003, 2, -999.0000, 9,    169.1, 1,   -999.0, 9,  -999.00, 9,  -999.00, 9,  -999.00, 9,  -999.00, 9, -999.000, 9, -999.000, 9, -999.000, 9,   -999.0, 9,   -999.0, 9, -999.0000, 9,   -999.00, -999.000, 9, -999.000,   -999.0, 9,   -999.0,  -999.00, 9,   -999.0,   3.4013, 27.4487,   3.4730, 2, 1002.2, 2, 174.96, 2, -999, -999, -999, -999, -999, 9,  -999.00, 9, -999, -999, 9, -999
49NZ20031106, A10, 96, 1, 10, 12034, 9, 20031202, 708, -28.9962, 13.7298, 2140,   1001.3, 2,   3.4733, 2,  34.5003, 2, -999.0000, 9,    169.0, 1,   -999.0, 9,  -999.00, 9,  -999.00, 9,  -999.00, 9,  -999.00, 9, -999.000, 9, -999.000, 9, -999.000, 9,   -999.0, 9,   -999.0, 9, -999.0000, 9,   -999.00, -999.000, 9, -999.000,   -999.0, 9,   -999.0,  -999.00, 9,   -999.0,   3.4016, 27.4487,   3.4732, 2, 1002.3, 2, 174.95, 2, -999, -999, -999, -999, -999, 9,  -999.00, 9, -999, -999, 9, -999
49NZ20031106, A10, 96, 1, 5, 12029, 9, 20031202, 708, -28.9962, 13.7298, 2140,   1001.3, 2,   3.4731, 2,  34.5004, 2, -999.0000, 9,    169.1, 1,   -999.0, 9,  -999.00, 9,  -999.00, 9,  -999.00, 9,  -999.00, 9, -999.000, 9, -999.000, 9, -999.000, 9,   -999.0, 9,   -999.0, 9, -999.0000, 9,   -999.00, -999.000, 9, -999.000,   -999.0, 9,   -999.0,  -999.00, 9,   -999.0,   3.4014, 27.4486,   3.4735, 2, 1002.3, 2, 174.95, 2, -999, -999, -999, -999, -999, 9,  -999.00, 9, -999, -999, 9, -999
49NZ20031106, A10, 96, 1, 4, 12028, 9, 20031202, 708, -28.9962, 13.7298, 2140,   1001.3, 2,   3.4739, 2,  34.5001, 2, -999.0000, 9,    169.1, 1,   -999.0, 9,  -999.00, 9,  -999.00, 9,  -999.00, 9,  -999.00, 9, -999.000, 9, -999.000, 9, -999.000, 9,   -999.0, 9,   -999.0, 9, -999.0000, 9,   -999.00, -999.000, 9, -999.000,   -999.0, 9,   -999.0,  -999.00, 9,   -999.0,   3.4022, 27.4485,   3.4738, 2, 1002.3, 2, 174.95, 2, -999, -999, -999, -999, -999, 9,  -999.00, 9, -999, -999, 9, -999
49NZ20031106, A10, 96, 1, 23, 12047, 2, 20031202, 708, -28.9962, 13.7298, 2140,   1001.4, 2,   3.4722, 2,  34.5004, 2,  34.4996, 2,    169.0, 1,    174.8, 2,    47.45, 2,    33.34, 2,     0.00, 2,     2.32, 2, -999.000, 9, -999.000, 9, -999.000, 9,   -999.0, 9,   -999.0, 9, -999.0000, 9,   -999.00, -999.000, 9, -999.000,   -999.0, 9,   -999.0,  -999.00, 9,   -999.0,   3.4005, 27.4489,   3.4721, 2, 1002.5, 2, 174.96, 2, 0.22, 0.13, 0.01, 0.02, -999, 9,  -999.00, 9, -999, -999, 9, -999
49NZ20031106, A10, 96, 1, 13, 12037, 9, 20031202, 708, -28.9962, 13.7298, 2140,   1001.4, 2,   3.4731, 2,  34.5003, 2, -999.0000, 9,    169.0, 1,   -999.0, 9,  -999.00, 9,  -999.00, 9,  -999.00, 9,  -999.00, 9, -999.000, 9, -999.000, 9, -999.000, 9,   -999.0, 9,   -999.0, 9, -999.0000, 9,   -999.00, -999.000, 9, -999.000,   -999.0, 9,   -999.0,  -999.00, 9,   -999.0,   3.4014, 27.4488,   3.4729, 2, 1002.4, 2, 174.95, 2, -999, -999, -999, -999, -999, 9,  -999.00, 9, -999, -999, 9, -999
49NZ20031106, A10, 96, 1, 9, 12033, 9, 20031202, 708, -28.9962, 13.7298, 2140,   1001.5, 2,   3.4740, 2,  34.5002, 2, -999.0000, 9,    169.0, 1,   -999.0, 9,  -999.00, 9,  -999.00, 9,  -999.00, 9,  -999.00, 9, -999.000, 9, -999.000, 9, -999.000, 9,   -999.0, 9,   -999.0, 9, -999.0000, 9,   -999.00, -999.000, 9, -999.000,   -999.0, 9,   -999.0,  -999.00, 9,   -999.0,   3.4023, 27.4485,   3.4741, 2, 1002.5, 2, 174.96, 2, -999, -999, -999, -999, -999, 9,  -999.00, 9, -999, -999, 9, -999
49NZ20031106, A10, 96, 1, 14, 12038, 9, 20031202, 708, -28.9962, 13.7298, 2140,   1001.6, 2,   3.4723, 2,  34.5005, 2, -999.0000, 9,    169.1, 1,   -999.0, 9,  -999.00, 9,  -999.00, 9,  -999.00, 9,  -999.00, 9, -999.000, 9, -999.000, 9, -999.000, 9,   -999.0, 9,   -999.0, 9, -999.0000, 9,   -999.00, -999.000, 9, -999.000,   -999.0, 9,   -999.0,  -999.00, 9,   -999.0,   3.4006, 27.4489,   3.4722, 2, 1002.7, 2, 174.96, 2, -999, -999, -999, -999, -999, 9,  -999.00, 9, -999, -999, 9, -999
49NZ20031106, A10, 96, 1, 12, 12036, 9, 20031202, 708, -28.9962, 13.7298, 2140,   1001.7, 2,   3.4726, 2,  34.5006, 2, -999.0000, 9,    169.0, 1,   -999.0, 9,  -999.00, 9,  -999.00, 9,  -999.00, 9,  -999.00, 9, -999.000, 9, -999.000, 9, -999.000, 9,   -999.0, 9,   -999.0, 9, -999.0000, 9,   -999.00, -999.000, 9, -999.000,   -999.0, 9,   -999.0,  -999.00, 9,   -999.0,   3.4009, 27.4488,   3.4726, 2, 1002.8, 2, 174.95, 2, -999, -999, -999, -999, -999, 9,  -999.00, 9, -999, -999, 9, -999
49NZ20031106, A10, 96, 1, 6, 12030, 9, 20031202, 708, -28.9962, 13.7298, 2140,   1001.7, 2,   3.4731, 2,  34.5003, 2, -999.0000, 9,    169.1, 1,   -999.0, 9,  -999.00, 9,  -999.00, 9,  -999.00, 9,  -999.00, 9, -999.000, 9, -999.000, 9, -999.000, 9,   -999.0, 9,   -999.0, 9, -999.0000, 9,   -999.00, -999.000, 9, -999.000,   -999.0, 9,   -999.0,  -999.00, 9,   -999.0,   3.4014, 27.4486,   3.4731, 2, 1002.7, 2, 174.96, 2, -999, -999, -999, -999, -999, 9,  -999.00, 9, -999, -999, 9, -999
49NZ20031106, A10, 96, 1, 3, 12027, 9, 20031202, 708, -28.9962, 13.7298, 2140,   1001.8, 2,   3.4726, 2,  34.5004, 2, -999.0000, 9,    169.1, 1,   -999.0, 9,  -999.00, 9,  -999.00, 9,  -999.00, 9,  -999.00, 9, -999.000, 9, -999.000, 9, -999.000, 9,   -999.0, 9,   -999.0, 9, -999.0000, 9,   -999.00, -999.000, 9, -999.000,   -999.0, 9,   -999.0,  -999.00, 9,   -999.0,   3.4009, 27.4488,   3.4727, 2, 1002.9, 2, 174.95, 2, -999, -999, -999, -999, -999, 9,  -999.00, 9, -999, -999, 9, -999
49NZ20031106, A10, 96, 1, 8, 12032, 9, 20031202, 708, -28.9962, 13.7298, 2140,   1002.0, 2,   3.4743, 2,  34.5001, 2, -999.0000, 9,    169.1, 1,   -999.0, 9,  -999.00, 9,  -999.00, 9,  -999.00, 9,  -999.00, 9, -999.000, 9, -999.000, 9, -999.000, 9,   -999.0, 9,   -999.0, 9, -999.0000, 9,   -999.00, -999.000, 9, -999.000,   -999.0, 9,   -999.0,  -999.00, 9,   -999.0,   3.4026, 27.4486,   3.4738, 2, 1002.9, 2, 174.95, 2, -999, -999, -999, -999, -999, 9,  -999.00, 9, -999, -999, 9, -999
49NZ20031106, A10, 96, 1, 11, 12035, 9, 20031202, 708, -28.9962, 13.7298, 2140,   1002.1, 2,   3.4727, 2,  34.5004, 2, -999.0000, 9,    169.0, 1,   -999.0, 9,  -999.00, 9,  -999.00, 9,  -999.00, 9,  -999.00, 9, -999.000, 9, -999.000, 9, -999.000, 9,   -999.0, 9,   -999.0, 9, -999.0000, 9,   -999.00, -999.000, 9, -999.000,   -999.0, 9,   -999.0,  -999.00, 9,   -999.0,   3.4010, 27.4488,   3.4728, 2, 1003.1, 2, 174.95, 2, -999, -999, -999, -999, -999, 9,  -999.00, 9, -999, -999, 9, -999
49NZ20031106, A10, 96, 1, 22, 12046, 2, 20031202, 708, -28.9962, 13.7298, 2140,   1200.5, 2,   3.2276, 2,  34.6205, 2,  34.6196, 2,    173.8, 1,    179.5, 2,    50.66, 2,    31.75, 2,     0.00, 2,     2.21, 2, -999.000, 9, -999.000, 9, -999.000, 9,   -999.0, 9,   -999.0, 9, -999.0000, 9,   -999.00, -999.000, 9, -999.000,   -999.0, 9,   -999.0,  -999.00, 9,   -999.0,   3.1419, 27.5689,   3.2275, 2, 1203.3, 2, 179.02, 2, 0.23, 0.12, 0.01, 0.02, -999, 9,  -999.00, 9, -999, -999, 9, -999
49NZ20031106, A10, 96, 1, 21, 12045, 2, 20031202, 708, -28.9962, 13.7298, 2140,   1399.5, 2,   3.1635, 2,  34.7384, 2,  34.7384, 2,    186.5, 1,    192.9, 2,    46.91, 2,    28.95, 2,     0.00, 2,     2.00, 2, -999.000, 9, -999.000, 9, -999.000, 9,   -999.0, 9,   -999.0, 9, -999.0000, 9,   -999.00, -999.000, 9, -999.000,   -999.0, 9,   -999.0,  -999.00, 9,   -999.0,   3.0618, 27.6707,   3.1635, 2, 1400.9, 2, 191.58, 2, 0.22, 0.11, 0.01, 0.02, -999, 9,  -999.00, 9, -999, -999, 9, -999
49NZ20031106, A10, 96, 1, 20, 12044, 2, 20031202, 708, -28.9962, 13.7298, 2140,   1599.1, 2,   3.1823, 2,  34.8074, 2,  34.8078, 2,    198.3, 1,    204.9, 2,    41.86, 2,    26.81, 2,     0.00, 2,     1.84, 2, -999.000, 9, -999.000, 9, -999.000, 9,   -999.0, 9,   -999.0, 9, -999.0000, 9,   -999.00, -999.000, 9, -999.000,   -999.0, 9,   -999.0,  -999.00, 9,   -999.0,   3.0633, 27.726,   3.1827, 2, 1599.8, 2, 203.88, 2, 0.21, 0.11, 0.01, 0.01, -999, 9,  -999.00, 9, -999, -999, 9, -999
49NZ20031106, A10, 96, 1, 19, 12043, 2, 20031202, 708, -28.9962, 13.7298, 2140,   1800.2, 2,   3.1148, 2,  34.8504, 2,  34.8505, 2,    208.3, 1,    215.0, 2,    39.37, 2,    25.17, 2,     0.00, 2,     1.73, 2, -999.000, 9, -999.000, 9, -999.000, 9,   -999.0, 9,   -999.0, 9, -999.0000, 9,   -999.00, -999.000, 9, -999.000,   -999.0, 9,   -999.0,  -999.00, 9,   -999.0,   2.9789, 27.7682,   3.1148, 2, 1800.4, 2, 214.94, 2, 0.21, 0.1, 0.01, 0.01, -999, 9,  -999.00, 9, -999, -999, 9, -999
49NZ20031106, A10, 96, 1, 18, 12042, 2, 20031202, 708, -28.9962, 13.7298, 2140,   2001.0, 2,   3.0022, 2,  34.8713, 2,  34.8713, 2,    215.7, 1,    222.4, 2,    39.65, 2,    24.31, 2,     0.00, 2,     1.67, 2, -999.000, 9, -999.000, 9, -999.000, 9,   -999.0, 9,   -999.0, 9, -999.0000, 9,   -999.00, -999.000, 9, -999.000,   -999.0, 9,   -999.0,  -999.00, 9,   -999.0,   2.8497, 27.7966,   3.0023, 2, 2001.3, 2, 222.31, 2, 0.21, 0.1, 0.01, 0.01, -999, 9,  -999.00, 9, -999, -999, 9, -999
49NZ20031106, A10, 96, 1, 16, 12040, 9, 20031202, 708, -28.9962, 13.7298, 2140,   2101.6, 2,   2.9384, 2,  34.8798, 2, -999.0000, 9,    217.2, 1,   -999.0, 9,  -999.00, 9,  -999.00, 9,  -999.00, 9,  -999.00, 9, -999.000, 9, -999.000, 9, -999.000, 9,   -999.0, 9,   -999.0, 9, -999.0000, 9,   -999.00, -999.000, 9, -999.000,   -999.0, 9,   -999.0,  -999.00, 9,   -999.0,   2.7777, 27.81,   2.9387, 2, 2101.7, 2, 224.32, 2, -999, -999, -999, -999, -999, 9,  -999.00, 9, -999, -999, 9, -999
49NZ20031106, A10, 96, 1, 17, 12041, 2, 20031202, 708, -28.9962, 13.7298, 2140,   2153.6, 2,   2.8561, 2,  34.8816, 2,  34.8814, 2,    218.9, 1,    224.9, 2,    41.75, 2,    23.89, 2,     0.01, 2,     1.65, 2, -999.000, 9, -999.000, 9, -999.000, 9,   -999.0, 9,   -999.0, 9, -999.0000, 9,   -999.00, -999.000, 9, -999.000,   -999.0, 9,   -999.0,  -999.00, 9,   -999.0,   2.6919, 27.8193,   2.8560, 2, 2154, 2, 225.64, 2, 0.21, 0.1, 0.01, 0.01, -999, 9,  -999.00, 9, -999, -999, 9, -999