BOTTLE,20220818CCHSIOAMB
EXPOCODE,SECT_ID,STNNBR,CASTNO,SAMPNO,BTLNBR,BTLNBR_FLAG_W,DATE,TIME,LATITUDE,LONGITUDE,DEPTH,CTDPRS,CTDPRS_FLAG_W,CTDTMP,CTDTMP_FLAG_W,CTDSAL,CTDSAL_FLAG_W,SALNTY,SALNTY_FLAG_W,CTDOXY,CTDOXY_FLAG_W,OXYGEN,OXYGEN_FLAG_W,SILCAT,SILCAT_FLAG_W,NITRAT,NITRAT_FLAG_W,NITRIT,NITRIT_FLAG_W,PHSPHT,PHSPHT_FLAG_W,CFC-11,CFC-11_FLAG_W,CFC-12,CFC-12_FLAG_W,CFC113,CFC113_FLAG_W,TCARBN,TCARBN_FLAG_W,ALKALI,ALKALI_FLAG_W,PH_TOT,PH_TOT_FLAG_W,PH_TMP,TRITUM,TRITUM_FLAG_W,TRITER,DELC14,DELC14_FLAG_W,C14ERR,DELC13,DELC13_FLAG_W,C13ERR,THETA,SIG0,SBE35,SBE35_FLAG_W,DWNPRS,DWNPRS_FLAG_W,DWNOXY,DWNOXY_FLAG_W,SILUNC,NRAUNC,NRIUNC,PHPUNC,TOC,TOC_FLAG_W,CS-137,CS-137_FLAG_W,CS137ER,PLUTO,PLUTO_FLAG_W,PLUTOER
,,,,,,,,,,,METERS,DBAR,,ITS-90,,PSS-78,,PSS-78,,UMOL/KG,,UMOL/KG,,UMOL/KG,,UMOL/KG,,UMOL/KG,,UMOL/KG,,PMOL/KG,,PMOL/KG,,PMOL/KG,,UMOL/KG,,UMOL/KG,,,,DEG C,TU,,TU,/MILLE,,/MILLE,/MILLE,,/MILLE,DEG C,KG/M^3,ITS-90,,DBAR,,UMOL/KG,,UMOL/KG,UMOL/KG,UMOL/KG,UMOL/KG,UMOL/KG,,BQ/M^3,,BQ/M^3,MBQ/M^3,,MBQ/M^3
49NZ20031106, A10, 30, 1, 36, 12048, 2, 20031114, 1053, -30.0030, -31.5087, 3811,      8.2, 2,  20.4744, 2,  36.0090, 2,  36.0123, 2,    214.9, 1,    226.7, 2,     0.76, 2,     0.06, 2,     0.01, 2,     0.04, 2, -999.000, 9, -999.000, 9, -999.000, 9,   -999.0, 9,   -999.0, 9, -999.0000, 9,   -999.00, -999.000, 9, -999.000,   -999.0, 9,   -999.0,  -999.00, 9,   -999.0,  20.4729, 25.4073,  20.4750, 2, 8.2, 2, 227.5, 2, 0.12, 0.03, 0.01, 0.04, -999, 9,  -999.00, 9, -999, -999, 9, -999
49NZ20031106, A10, 30, 1, 35, 12047, 2, 20031114, 1053, -30.0030, -31.5087, 3811,     48.2, 2,  19.8509, 2,  35.9793, 2,  35.9787, 2,    218.9, 1,    230.7, 2,     0.65, 2,     0.04, 2,     0.01, 2,     0.04, 2, -999.000, 9, -999.000, 9, -999.000, 9,   -999.0, 9,   -999.0, 9, -999.0000, 9,   -999.00, -999.000, 9, -999.000,   -999.0, 9,   -999.0,  -999.00, 9,   -999.0,  19.8420, 25.5528,  19.8523, 2, 46.8, 2, 229.58, 2, 0.12, 0.03, 0.01, 0.04, -999, 9,  -999.00, 9, -999, -999, 9, -999
49NZ20031106, A10, 30, 1, 34, 12046, 2, 20031114, 1053, -30.0030, -31.5087, 3811,    100.3, 2,  18.5986, 2,  35.8581, 2,  35.8591, 2,    221.1, 1,    231.5, 2,     0.76, 2,     0.04, 2,     0.01, 2,     0.08, 2, -999.000, 9, -999.000, 9, -999.000, 9,   -999.0, 9,   -999.0, 9, -999.0000, 9,   -999.00, -999.000, 1, -999.000,   -999.0, 9,   -999.0,  -999.00, 9,   -999.0,  18.5809, 25.7859,  18.5964, 2, 92.6, 2, 230.81, 2, 0.12, 0.03, 0.01, 0.02, -999, 9,     1.21, 2, 0.15, -999, 1, -999
49NZ20031106, A10, 30, 1, 8, 12020, 2, 20031114, 1053, -30.0030, -31.5087, 3811,    114.9, 2,  18.3062, 2,  35.8277, 2, -999.0000, 9,    219.9, 1,   -999.0, 9,  -999.00, 9,  -999.00, 9,  -999.00, 9,  -999.00, 9, -999.000, 9, -999.000, 9, -999.000, 9,   -999.0, 9,   -999.0, 9, -999.0000, 9,   -999.00, -999.000, 9, -999.000,   -999.0, 9,   -999.0,  -999.00, 9,   -999.0,  18.2862, 25.8364,  18.3060, 2, 109.4, 2, 229.32, 2, -999, -999, -999, -999, -999, 9,  -999.00, 9, -999, -999, 9, -999
49NZ20031106, A10, 30, 1, 33, 12045, 2, 20031114, 1053, -30.0030, -31.5087, 3811,    150.2, 2,  17.3085, 2,  35.7443, 2,  35.7435, 2,    209.3, 1,    219.6, 2,     1.01, 2,     0.96, 2,     0.12, 2,     0.21, 2, -999.000, 9, -999.000, 9, -999.000, 9,   -999.0, 9,   -999.0, 9, -999.0000, 9,   -999.00, -999.000, 9, -999.000,   -999.0, 9,   -999.0,  -999.00, 9,   -999.0,  17.2833, 26.019,  17.3101, 2, 144.9, 2, 218.3, 2, 0.12, 0.04, 0.01, 0.02, -999, 9,  -999.00, 9, -999, -999, 9, -999
49NZ20031106, A10, 30, 1, 32, 12044, 2, 20031114, 1053, -30.0030, -31.5087, 3811,    200.1, 2,  15.7173, 2,  35.5794, 2,  35.5786, 2,    201.6, 1,    210.6, 2,     1.64, 2,     4.13, 2,     0.02, 2,     0.40, 2, -999.000, 9, -999.000, 9, -999.000, 9,   -999.0, 9,   -999.0, 9, -999.0000, 9,   -999.00, -999.000, 1, -999.000,   -999.0, 9,   -999.0,  -999.00, 9,   -999.0,  15.6859, 26.2659,  15.7181, 2, 198.2, 2, 210.74, 2, 0.12, 0.04, 0.01, 0.01, -999, 9,  -999.00, 1, -999, -999, 1, -999
49NZ20031106, A10, 30, 1, 31, 12043, 2, 20031114, 1053, -30.0030, -31.5087, 3811,    250.5, 2,  14.8544, 2,  35.4629, 2,  35.4623, 2,    204.2, 1,    213.4, 2,     1.89, 2,     5.49, 2,     0.02, 2,     0.49, 2, -999.000, 9, -999.000, 9, -999.000, 9,   -999.0, 9,   -999.0, 9, -999.0000, 9,   -999.00, -999.000, 9, -999.000,   -999.0, 9,   -999.0,  -999.00, 9,   -999.0,  14.8165, 26.3701,  14.8530, 2, 251.1, 2, 212.88, 2, 0.12, 0.05, 0.01, 0.01, -999, 9,  -999.00, 9, -999, -999, 9, -999
49NZ20031106, A10, 30, 1, 30, 12042, 2, 20031114, 1053, -30.0030, -31.5087, 3811,    299.0, 2,  14.1179, 2,  35.3748, 2,  35.3736, 2,    205.3, 1,    214.3, 2,     2.18, 2,     7.05, 2,     0.02, 2,     0.58, 2, -999.000, 9, -999.000, 9, -999.000, 9,   -999.0, 9,   -999.0, 9, -999.0000, 9,   -999.00, -999.000, 9, -999.000,   -999.0, 9,   -999.0,  -999.00, 9,   -999.0,  14.0741, 26.4614,  14.1185, 2, 298.2, 2, 214.27, 2, 0.12, 0.05, 0.01, 0.01, -999, 9,  -999.00, 9, -999, -999, 9, -999
49NZ20031106, A10, 30, 1, 29, 12041, 2, 20031114, 1053, -30.0030, -31.5087, 3811,    399.8, 2,  12.3839, 2,  35.1255, 2,  35.1255, 2,    202.6, 1,    211.1, 2,     3.49, 2,    11.26, 2,     0.01, 2,     0.84, 2, -999.000, 9, -999.000, 9, -999.000, 9,   -999.0, 9,   -999.0, 9, -999.0000, 9,   -999.00, -999.000, 1, -999.000,   -999.0, 9,   -999.0,  -999.00, 9,   -999.0,  12.3302, 26.6241,  12.3720, 2, 401.9, 2, 211.27, 2, 0.13, 0.06, 0.01, 0.01, -999, 9,     1.06, 2, 0.12, -999, 1, -999
49NZ20031106, A10, 30, 1, 4, 12016, 2, 20031114, 1053, -30.0030, -31.5087, 3811,    399.8, 2,  12.3921, 2,  35.1264, 2, -999.0000, 9,    203.0, 1,   -999.0, 9,  -999.00, 9,  -999.00, 9,  -999.00, 9,  -999.00, 9, -999.000, 9, -999.000, 9, -999.000, 9,   -999.0, 9,   -999.0, 9, -999.0000, 9,   -999.00, -999.000, 1, -999.000,   -999.0, 9,   -999.0,  -999.00, 9,   -999.0,  12.3383, 26.6225,  12.3852, 2, 401.7, 2, 211.29, 2, -999, -999, -999, -999, -999, 9,  -999.00, 9, -999, -999, 9, -999
49NZ20031106, A10, 30, 1, 28, 12040, 2, 20031114, 1053, -30.0030, -31.5087, 3811,    501.7, 2,  10.4573, 2,  34.8647, 2,  34.8659, 2,    199.9, 1,    207.9, 2,     5.80, 2,    16.19, 2,     0.01, 2,     1.15, 2, -999.000, 9, -999.000, 9, -999.000, 9,   -999.0, 9,   -999.0, 9, -999.0000, 9,   -999.00, -999.000, 9, -999.000,   -999.0, 9,   -999.0,  -999.00, 9,   -999.0,  10.3966, 26.7776,  10.4580, 2, 504.8, 2, 207.86, 2, 0.13, 0.08, 0.01, 0.01, -999, 9,  -999.00, 9, -999, -999, 9, -999
49NZ20031106, A10, 30, 1, 2, 12014, 2, 20031114, 1053, -30.0030, -31.5087, 3811,    599.9, 2,   8.5644, 2,  34.6332, 2, -999.0000, 9,    202.5, 1,   -999.0, 9,  -999.00, 9,  -999.00, 9,  -999.00, 9,  -999.00, 9, -999.000, 9, -999.000, 9, -999.000, 9,   -999.0, 9,   -999.0, 9, -999.0000, 9,   -999.00, -999.000, 1, -999.000,   -999.0, 9,   -999.0,  -999.00, 9,   -999.0,   8.4999, 26.9089,   8.5683, 2, 598.8, 2, 210.45, 2, -999, -999, -999, -999, -999, 9,  -999.00, 9, -999, -999, 9, -999
49NZ20031106, A10, 30, 1, 27, 12039, 2, 20031114, 1053, -30.0030, -31.5087, 3811,    600.1, 2,   8.5640, 2,  34.6329, 2,  34.6326, 2,    202.2, 1,    210.0, 2,     8.50, 2,    20.84, 2,     0.01, 2,     1.45, 2, -999.000, 9, -999.000, 9, -999.000, 9,   -999.0, 9,   -999.0, 9, -999.0000, 9,   -999.00, -999.000, 1, -999.000,   -999.0, 9,   -999.0,  -999.00, 9,   -999.0,   8.4995, 26.9093,   8.5586, 2, 598.9, 2, 210.45, 2, 0.14, 0.09, 0.01, 0.01, -999, 9,  -999.00, 1, -999, -999, 1, -999
49NZ20031106, A10, 30, 1, 26, 12038, 2, 20031114, 1053, -30.0030, -31.5087, 3811,    700.8, 2,   6.8186, 2,  34.4512, 2,  34.4518, 2,    209.1, 1,    217.1, 2,    11.91, 2,    24.53, 2,     0.01, 2,     1.69, 2, -999.000, 9, -999.000, 9, -999.000, 9,   -999.0, 9,   -999.0, 9, -999.0000, 9,   -999.00, -999.000, 9, -999.000,   -999.0, 9,   -999.0,  -999.00, 9,   -999.0,   6.7521, 27.0198,   6.8153, 2, 697.8, 2, 218.49, 2, 0.15, 0.1, 0.01, 0.01, -999, 9,  -999.00, 9, -999, -999, 9, -999
49NZ20031106, A10, 30, 1, 7, 12019, 2, 20031114, 1053, -30.0030, -31.5087, 3811,    799.3, 2,   5.1944, 2,  34.3226, 2, -999.0000, 9,    218.1, 1,   -999.0, 9,  -999.00, 9,  -999.00, 9,  -999.00, 9,  -999.00, 9, -999.000, 9, -999.000, 9, -999.000, 9,   -999.0, 9,   -999.0, 9, -999.0000, 9,   -999.00, -999.000, 1, -999.000,   -999.0, 9,   -999.0,  -999.00, 9,   -999.0,   5.1280, 27.1228,   5.1956, 2, 799.2, 2, 226.65, 2, -999, -999, -999, -999, -999, 9,  -999.00, 9, -999, -999, 9, -999
49NZ20031106, A10, 30, 1, 25, 12037, 2, 20031114, 1053, -30.0030, -31.5087, 3811,    800.0, 2,   5.1928, 2,  34.3229, 2,  34.3213, 2,    218.1, 1,    226.8, 2,    17.30, 2,    27.66, 2,     0.01, 2,     1.90, 2, -999.000, 9, -999.000, 9, -999.000, 9,   -999.0, 9,   -999.0, 9, -999.0000, 9,   -999.00, -999.000, 1, -999.000,   -999.0, 9,   -999.0,  -999.00, 9,   -999.0,   5.1264, 27.1233,   5.1946, 2, 799.7, 2, 226.7, 2, 0.16, 0.11, 0.01, 0.01, -999, 9,  -999.00, 1, -999, -999, 1, -999
49NZ20031106, A10, 30, 1, 3, 12012, 2, 20031114, 1053, -30.0030, -31.5087, 3811,    899.4, 2,   4.3875, 2,  34.2965, 2,  34.2965, 2,    216.2, 1,    224.8, 2,    23.48, 2,    29.57, 2,     0.00, 2,     2.04, 2, -999.000, 9, -999.000, 9, -999.000, 9,   -999.0, 9,   -999.0, 9, -999.0000, 9,   -999.00, -999.000, 9, -999.000,   -999.0, 9,   -999.0,  -999.00, 9,   -999.0,   4.3178, 27.1928,   4.3876, 2, 899.4, 2, 224.53, 2, 0.17, 0.12, 0.01, 0.02, -999, 9,  -999.00, 9, -999, -999, 9, -999
49NZ20031106, A10, 30, 1, 23, 12035, 2, 20031114, 1053, -30.0030, -31.5087, 3811,    998.8, 2,   3.8533, 2,  34.3118, 2,  34.3119, 2,    208.6, 1,    217.0, 2,    30.65, 2,    31.02, 2,     0.01, 2,     2.14, 2, -999.000, 9, -999.000, 9, -999.000, 9,   -999.0, 9,   -999.0, 9, -999.0000, 9,   -999.00, -999.000, 1, -999.000,   -999.0, 9,   -999.0,  -999.00, 9,   -999.0,   3.7792, 27.2612,   3.8530, 2, 1000.5, 2, 217.66, 2, 0.19, 0.12, 0.01, 0.02, -999, 9,  -999.00, 1, -999, -999, 1, -999
49NZ20031106, A10, 30, 1, 24, 12036, 2, 20031114, 1053, -30.0030, -31.5087, 3811,    999.0, 2,   3.8543, 2,  34.3118, 2, -999.0000, 9,    208.7, 1,   -999.0, 9,  -999.00, 9,  -999.00, 9,  -999.00, 9,  -999.00, 9, -999.000, 9, -999.000, 9, -999.000, 9,   -999.0, 9,   -999.0, 9, -999.0000, 9,   -999.00, -999.000, 1, -999.000,   -999.0, 9,   -999.0,  -999.00, 9,   -999.0,   3.7802, 27.2611,   3.8542, 2, 1000.7, 2, 217.65, 2, -999, -999, -999, -999, -999, 9,  -999.00, 9, -999, -999, 9, -999
49NZ20031106, A10, 30, 1, 22, 12034, 2, 20031114, 1053, -30.0030, -31.5087, 3811,   1199.9, 2,   3.2096, 2,  34.4149, 2,  34.4139, 2,    189.4, 1,    197.1, 2,    45.55, 2,    32.86, 2,     0.00, 2,     2.26, 2, -999.000, 9, -999.000, 9, -999.000, 9,   -999.0, 9,   -999.0, 9, -999.0000, 9,   -999.00, -999.000, 1, -999.000,   -999.0, 9,   -999.0,  -999.00, 9,   -999.0,   3.1245, 27.4065,   3.2098, 2, 1202.7, 2, 198.53, 2, 0.22, 0.12, 0.01, 0.02, -999, 9,  -999.00, 5, -999, -999, 1, -999
49NZ20031106, A10, 30, 1, 21, 12033, 2, 20031114, 1053, -30.0030, -31.5087, 3811,   1402.1, 2,   2.9431, 2,  34.5579, 2,  34.5581, 2,    181.5, 1,    188.3, 2,    54.00, 2,    32.29, 2,     0.00, 2,     2.23, 2, -999.000, 9, -999.000, 9, -999.000, 9,   -999.0, 9,   -999.0, 9, -999.0000, 9,   -999.00, -999.000, 1, -999.000,   -999.0, 9,   -999.0,  -999.00, 9,   -999.0,   2.8440, 27.5465,   2.9431, 2, 1405.6, 2, 188.22, 2, 0.24, 0.12, 0.01, 0.02, -999, 9,     0.03, 2, 0.03, -999, 1, -999
49NZ20031106, A10, 30, 1, 20, 12032, 2, 20031114, 1053, -30.0030, -31.5087, 3811,   1600.8, 2,   2.8390, 2,  34.6661, 2,  34.6657, 2,    186.8, 1,    193.7, 2,    54.94, 2,    30.50, 2,     0.01, 2,     2.10, 2, -999.000, 9, -999.000, 9, -999.000, 9,   -999.0, 9,   -999.0, 9, -999.0000, 9,   -999.00, -999.000, 9, -999.000,   -999.0, 9,   -999.0,  -999.00, 9,   -999.0,   2.7244, 27.6436,   2.8389, 2, 1602.1, 2, 192.35, 2, 0.24, 0.12, 0.01, 0.02, -999, 9,  -999.00, 9, -999, -999, 9, -999
49NZ20031106, A10, 30, 1, 19, 12031, 2, 20031114, 1053, -30.0030, -31.5087, 3811,   1800.0, 2,   2.7951, 2,  34.7431, 2,  34.7436, 2,    197.1, 1,    204.6, 2,    52.31, 2,    28.42, 2,     0.01, 2,     1.94, 2, -999.000, 9, -999.000, 9, -999.000, 9,   -999.0, 9,   -999.0, 9, -999.0000, 9,   -999.00, -999.000, 9, -999.000,   -999.0, 9,   -999.0,  -999.00, 9,   -999.0,   2.6639, 27.7105,   2.7950, 2, 1799.8, 2, 204.02, 2, 0.23, 0.11, 0.01, 0.01, -999, 9,  -999.00, 9, -999, -999, 9, -999
49NZ20031106, A10, 30, 1, 18, 12030, 2, 20031114, 1053, -30.0030, -31.5087, 3811,   2000.0, 2,   2.7711, 2,  34.8020, 2,  34.8022, 2,    209.2, 1,    217.1, 2,    48.19, 2,    26.41, 2,     0.00, 2,     1.80, 2, -999.000, 9, -999.000, 9, -999.000, 9,   -999.0, 9,   -999.0, 9, -999.0000, 9,   -999.00, -999.000, 1, -999.000,   -999.0, 9,   -999.0,  -999.00, 9,   -999.0,   2.6224, 27.7613,   2.7709, 2, 1999.9, 2, 216.46, 2, 0.23, 0.11, 0.01, 0.01, -999, 9,  -999.00, 1, -999, -999, 1, -999
49NZ20031106, A10, 30, 1, 5, 12017, 2, 20031114, 1053, -30.0030, -31.5087, 3811,   2000.9, 2,   2.7711, 2,  34.8016, 2, -999.0000, 9,    209.1, 1,   -999.0, 9,  -999.00, 9,  -999.00, 9,  -999.00, 9,  -999.00, 9, -999.000, 9, -999.000, 9, -999.000, 9,   -999.0, 9,   -999.0, 9, -999.0000, 9,   -999.00, -999.000, 1, -999.000,   -999.0, 9,   -999.0,  -999.00, 9,   -999.0,   2.6224, 27.7611,   2.7710, 2, 2000.7, 2, 216.5, 2, -999, -999, -999, -999, -999, 9,  -999.00, 9, -999, -999, 9, -999
49NZ20031106, A10, 30, 1, 17, 12029, 2, 20031114, 1053, -30.0030, -31.5087, 3811,   2200.8, 2,   2.7723, 2,  34.8450, 2,  34.8447, 2,    219.9, 1,    228.3, 2,    43.22, 2,    24.59, 2,     0.01, 2,     1.67, 2, -999.000, 9, -999.000, 9, -999.000, 9,   -999.0, 9,   -999.0, 9, -999.0000, 9,   -999.00, -999.000, 9, -999.000,   -999.0, 9,   -999.0,  -999.00, 9,   -999.0,   2.6052, 27.797,   2.7723, 2, 2201, 2, 227.69, 2, 0.21, 0.1, 0.01, 0.01, -999, 9,  -999.00, 9, -999, -999, 9, -999
49NZ20031106, A10, 30, 1, 16, 12028, 2, 20031114, 1053, -30.0030, -31.5087, 3811,   2401.5, 2,   2.7780, 2,  34.8714, 2,  34.8889, 4,    227.1, 1,    235.7, 2,    39.88, 2,    23.47, 2,     0.01, 2,     1.59, 2, -999.000, 9, -999.000, 9, -999.000, 9,   -999.0, 9,   -999.0, 9, -999.0000, 9,   -999.00, -999.000, 1, -999.000,   -999.0, 9,   -999.0,  -999.00, 9,   -999.0,   2.5919, 27.8193,   2.7780, 2, 2401.3, 2, 235.74, 2, 0.21, 0.1, 0.01, 0.01, -999, 9,  -999.00, 1, -999, -999, 1, -999
49NZ20031106, A10, 30, 1, 15, 12027, 2, 20031114, 1053, -30.0030, -31.5087, 3811,   2602.3, 2,   2.7592, 2,  34.8888, 2,  34.8889, 2,    232.5, 1,    241.2, 2,    37.69, 2,    22.58, 2,     0.01, 2,     1.53, 2, -999.000, 9, -999.000, 9, -999.000, 9,   -999.0, 9,   -999.0, 9, -999.0000, 9,   -999.00, -999.000, 9, -999.000,   -999.0, 9,   -999.0,  -999.00, 9,   -999.0,   2.5539, 27.8365,   2.7593, 2, 2602.5, 2, 241.06, 2, 0.2, 0.1, 0.01, 0.01, -999, 9,  -999.00, 9, -999, -999, 9, -999
49NZ20031106, A10, 30, 1, 14, 12026, 2, 20031114, 1053, -30.0030, -31.5087, 3811,   2800.4, 2,   2.7042, 2,  34.8955, 2,  34.8958, 2,    235.7, 1,    244.2, 2,    37.73, 2,    22.24, 2,     0.00, 2,     1.50, 2, -999.000, 9, -999.000, 9, -999.000, 9,   -999.0, 9,   -999.0, 9, -999.0000, 9,   -999.00, -999.000, 9, -999.000,   -999.0, 9,   -999.0,  -999.00, 9,   -999.0,   2.4803, 27.8482,   2.7042, 2, 2800.7, 2, 244.05, 2, 0.2, 0.1, 0.01, 0.01, -999, 9,  -999.00, 9, -999, -999, 9, -999
49NZ20031106, A10, 30, 1, 13, 12025, 2, 20031114, 1053, -30.0030, -31.5087, 3811,   3001.0, 2,   2.6187, 2,  34.8957, 2,  34.8959, 2,    237.4, 1,    245.8, 2,    39.42, 2,    22.18, 2,     0.00, 2,     1.50, 2, -999.000, 9, -999.000, 9, -999.000, 9,   -999.0, 9,   -999.0, 9, -999.0000, 9,   -999.00, -999.000, 1, -999.000,   -999.0, 9,   -999.0,  -999.00, 9,   -999.0,   2.3763, 27.8571,   2.6189, 2, 3000.8, 2, 245.77, 2, 0.21, 0.09, 0.01, 0.01, -999, 9,  -999.00, 1, -999, -999, 1, -999
49NZ20031106, A10, 30, 1, 6, 12018, 2, 20031114, 1053, -30.0030, -31.5087, 3811,   3001.2, 2,   2.6198, 2,  34.8958, 2, -999.0000, 9,    237.4, 1,   -999.0, 9,  -999.00, 9,  -999.00, 9,  -999.00, 9,  -999.00, 9, -999.000, 9, -999.000, 9, -999.000, 9,   -999.0, 9,   -999.0, 9, -999.0000, 9,   -999.00, -999.000, 1, -999.000,   -999.0, 9,   -999.0,  -999.00, 9,   -999.0,   2.3773, 27.857,   2.6201, 2, 3001, 2, 245.76, 2, -999, -999, -999, -999, -999, 9,  -999.00, 9, -999, -999, 9, -999
49NZ20031106, A10, 30, 1, 12, 12024, 2, 20031114, 1053, -30.0030, -31.5087, 3811,   3250.2, 2,   2.3775, 2,  34.8785, 2,  34.8780, 2,    236.5, 1,    244.4, 2,    46.85, 2,    22.99, 2,     0.00, 2,     1.56, 2, -999.000, 9, -999.000, 9, -999.000, 9,   -999.0, 9,   -999.0, 9, -999.0000, 9,   -999.00, -999.000, 9, -999.000,   -999.0, 9,   -999.0,  -999.00, 9,   -999.0,   2.1148, 27.865,   2.3776, 2, 3250.8, 2, 244.88, 2, 0.22, 0.1, 0.01, 0.01, -999, 9,  -999.00, 9, -999, -999, 9, -999
49NZ20031106, A10, 30, 1, 11, 12023, 2, 20031114, 1053, -30.0030, -31.5087, 3811,   3502.0, 2,   2.0380, 2,  34.8445, 2,  34.8442, 2,    232.1, 1,    239.3, 2,    59.85, 2,    24.66, 2,     0.01, 2,     1.68, 2, -999.000, 9, -999.000, 9, -999.000, 9,   -999.0, 9,   -999.0, 9, -999.0000, 9,   -999.00, -999.000, 1, -999.000,   -999.0, 9,   -999.0,  -999.00, 9,   -999.0,   1.7572, 27.8662,   2.0380, 2, 3502.3, 2, 239.98, 2, 0.25, 0.1, 0.01, 0.01, -999, 9,  -999.00, 1, -999, -999, 1, -999
49NZ20031106, A10, 30, 1, 10, 12022, 2, 20031114, 1053, -30.0030, -31.5087, 3811,   3750.4, 2,   1.6773, 2,  34.8045, 2,  34.8039, 2,    226.1, 1,    231.6, 2,    75.60, 2,    26.78, 2,     0.00, 2,     1.84, 2, -999.000, 9, -999.000, 9, -999.000, 9,   -999.0, 9,   -999.0, 9, -999.0000, 9,   -999.00, -999.000, 9, -999.000,   -999.0, 9,   -999.0,  -999.00, 9,   -999.0,   1.3797, 27.8623,   1.6771, 2, 3750.3, 2, 231.63, 2, 0.29, 0.11, 0.01, 0.01, -999, 9,  -999.00, 9, -999, -999, 9, -999
49NZ20031106, A10, 30, 1, 9, 12015, 2, 20031114, 1053, -30.0030, -31.5087, 3811,   3846.7, 2,   1.5528, 2,  34.7902, 2,  34.7903, 2,    224.5, 1,    229.3, 2,    80.85, 2,    27.54, 2,     0.00, 2,     1.89, 2, -999.000, 9, -999.000, 9, -999.000, 9,   -999.0, 9,   -999.0, 9, -999.0000, 9,   -999.00, -999.000, 1, -999.000,   -999.0, 9,   -999.0,  -999.00, 9,   -999.0,   1.2483, 27.8604,   1.5524, 2, 3846.7, 2, 228.68, 2, 0.3, 0.11, 0.01, 0.01, -999, 9,  -999.00, 1, -999, -999, 1, -999
49NZ20031106, A10, 30, 1, 1, 12013, 2, 20031114, 1053, -30.0030, -31.5087, 3811,   3847.1, 2,   1.5525, 2,  34.7903, 2, -999.0000, 9,    224.6, 1,   -999.0, 9,  -999.00, 9,  -999.00, 9,  -999.00, 9,  -999.00, 9, -999.000, 9, -999.000, 9, -999.000, 9,   -999.0, 9,   -999.0, 9, -999.0000, 9,   -999.00, -999.000, 9, -999.000,   -999.0, 9,   -999.0,  -999.00, 9,   -999.0,   1.2480, 27.8603,   1.5532, 2, 3847.1, 2, 228.69, 2, -999, -999, -999, -999, -999, 9,  -999.00, 9, -999, -999, 9, -999