BOTTLE,20220818CCHSIOAMB
EXPOCODE,SECT_ID,STNNBR,CASTNO,SAMPNO,BTLNBR,BTLNBR_FLAG_W,DATE,TIME,LATITUDE,LONGITUDE,DEPTH,CTDPRS,CTDPRS_FLAG_W,CTDTMP,CTDTMP_FLAG_W,CTDSAL,CTDSAL_FLAG_W,SALNTY,SALNTY_FLAG_W,CTDOXY,CTDOXY_FLAG_W,OXYGEN,OXYGEN_FLAG_W,SILCAT,SILCAT_FLAG_W,NITRAT,NITRAT_FLAG_W,NITRIT,NITRIT_FLAG_W,PHSPHT,PHSPHT_FLAG_W,CFC-11,CFC-11_FLAG_W,CFC-12,CFC-12_FLAG_W,CFC113,CFC113_FLAG_W,TCARBN,TCARBN_FLAG_W,ALKALI,ALKALI_FLAG_W,PH_TOT,PH_TOT_FLAG_W,PH_TMP,TRITUM,TRITUM_FLAG_W,TRITER,DELC14,DELC14_FLAG_W,C14ERR,DELC13,DELC13_FLAG_W,C13ERR,THETA,SIG0,SBE35,SBE35_FLAG_W,DWNPRS,DWNPRS_FLAG_W,DWNOXY,DWNOXY_FLAG_W,SILUNC,NRAUNC,NRIUNC,PHPUNC,TOC,TOC_FLAG_W,CS-137,CS-137_FLAG_W,CS137ER,PLUTO,PLUTO_FLAG_W,PLUTOER
,,,,,,,,,,,METERS,DBAR,,ITS-90,,PSS-78,,PSS-78,,UMOL/KG,,UMOL/KG,,UMOL/KG,,UMOL/KG,,UMOL/KG,,UMOL/KG,,PMOL/KG,,PMOL/KG,,PMOL/KG,,UMOL/KG,,UMOL/KG,,,,DEG C,TU,,TU,/MILLE,,/MILLE,/MILLE,,/MILLE,DEG C,KG/M^3,ITS-90,,DBAR,,UMOL/KG,,UMOL/KG,UMOL/KG,UMOL/KG,UMOL/KG,UMOL/KG,,BQ/M^3,,BQ/M^3,MBQ/M^3,,MBQ/M^3
49NZ20031106, A10, X13, 1, 4, 12028, 2, 20031130, 1029, -29.7533, 9.9615, 4872,     10.2, 2,  18.8483, 2,  35.5786, 2, -999.0000, 9,    223.8, 1,   -999.0, 9,  -999.00, 9,  -999.00, 9,  -999.00, 9,  -999.00, 9, -999.000, 9, -999.000, 9, -999.000, 9,   -999.0, 9,   -999.0, 9, -999.0000, 9,   -999.00, -999.000, 9, -999.000,   -999.0, 9,   -999.0,  -999.00, 9,   -999.0,  18.8465, 25.5055,  18.8487, 2, 3.9, 2, 235.83, 2, -999, -999, -999, -999, -999, 9,  -999.00, 9, -999, -999, 9, -999
49NZ20031106, A10, X13, 1, 3, 12027, 2, 20031130, 1029, -29.7533, 9.9615, 4872,     10.2, 2,  18.8508, 2,  35.5786, 2, -999.0000, 9,    223.6, 1,   -999.0, 9,  -999.00, 9,  -999.00, 9,  -999.00, 9,  -999.00, 9, -999.000, 9, -999.000, 9, -999.000, 9,   -999.0, 9,   -999.0, 9, -999.0000, 9,   -999.00, -999.000, 9, -999.000,   -999.0, 9,   -999.0,  -999.00, 9,   -999.0,  18.8490, 25.5048,  18.8519, 2, 3.7, 2, 235.77, 2, -999, -999, -999, -999, -999, 9,  -999.00, 9, -999, -999, 9, -999
49NZ20031106, A10, X13, 1, 36, 12024, 2, 20031130, 1029, -29.7533, 9.9615, 4872,     10.6, 2,  18.8551, 2,  35.5782, 2,  35.5803, 2,    223.6, 1,    236.3, 2,     1.35, 2,     0.02, 2,     0.00, 2,     0.17, 2,    2.721, 2,    1.487, 2,    0.588, 4,   2051.2, 2,   2333.8, 2,    8.0122, 2,     25.00, -999.000, 9, -999.000,   -999.0, 9,   -999.0,  -999.00, 9,   -999.0,  18.8532, 25.5046,  18.8528, 2, 3.8, 2, 235.8, 2, 0.12, 0.03, 0.01, 0.02, -999, 9,  -999.00, 9, -999, -999, 9, -999
49NZ20031106, A10, X13, 1, 35, 12023, 2, 20031130, 1029, -29.7533, 9.9615, 4872,     49.6, 2,  17.4767, 2,  35.6011, 2,  35.6074, 3,    235.9, 1,    248.0, 2,     1.95, 2,    -0.01, 2,     0.01, 2,     0.18, 2,    2.889, 2,    1.556, 2,    0.401, 4,   2054.9, 6,   2333.8, 2,    8.0047, 2,     25.00, -999.000, 9, -999.000,   -999.0, 9,   -999.0,  -999.00, 9,   -999.0,  17.4684, 25.8683,  17.4660, 2, 51.6, 2, 245.22, 2, 0.12, 0.03, 0.01, 0.02, -999, 9,  -999.00, 9, -999, -999, 9, -999
49NZ20031106, A10, X13, 1, 2, 12026, 2, 20031130, 1029, -29.7533, 9.9615, 4872,     74.3, 2,  16.3442, 2,  35.5722, 2, -999.0000, 9,    227.9, 1,   -999.0, 9,  -999.00, 9,  -999.00, 9,  -999.00, 9,  -999.00, 9, -999.000, 9, -999.000, 9, -999.000, 9,   -999.0, 9,   -999.0, 9, -999.0000, 9,   -999.00, -999.000, 9, -999.000,   -999.0, 9,   -999.0,  -999.00, 9,   -999.0,  16.3323, 26.1152,  16.3462, 2, 77.5, 2, 240.74, 2, -999, -999, -999, -999, -999, 9,  -999.00, 9, -999, -999, 9, -999
49NZ20031106, A10, X13, 1, 34, 12022, 2, 20031130, 1029, -29.7533, 9.9615, 4872,    101.7, 2,  16.2329, 2,  35.5755, 2,  35.5767, 2,    221.6, 1,    234.2, 2,     2.30, 2,     1.97, 2,     0.38, 2,     0.33, 2,    2.968, 2,    1.594, 2,    0.239, 4,   2073.8, 2,   2333.3, 6,    7.9656, 2,     25.00, -999.000, 9, -999.000,   -999.0, 9,   -999.0,  -999.00, 9,   -999.0,  16.2166, 26.1428,  16.2327, 2, 102.2, 2, 234.28, 2, 0.12, 0.04, 0, 0.01, -999, 9,  -999.00, 9, -999, -999, 9, -999
49NZ20031106, A10, X13, 1, 33, 12015, 2, 20031130, 1029, -29.7533, 9.9615, 4872,    149.6, 2,  15.4298, 2,  35.4399, 2,  35.4349, 2,    212.0, 1,    223.2, 2,     2.88, 2,     4.70, 2,     0.03, 2,     0.46, 2,    3.065, 2,    1.657, 2,    0.217, 4,   2074.8, 2,   2321.6, 2,    7.9331, 6,     25.00, -999.000, 9, -999.000,   -999.0, 9,   -999.0,  -999.00, 9,   -999.0,  15.4067, 26.2246,  15.4263, 2, 151.3, 2, 224.27, 2, 0.13, 0.05, 0.01, 0.01, -999, 9,  -999.00, 9, -999, -999, 9, -999
49NZ20031106, A10, X13, 1, 32, 12020, 2, 20031130, 1029, -29.7533, 9.9615, 4872,    199.6, 2,  13.6540, 2,  35.1845, 2,  35.1840, 2,    207.4, 1,    218.1, 2,     3.33, 2,     7.76, 2,     0.01, 2,     0.65, 2,    3.297, 2,    1.739, 2,    0.179, 4,   2101.1, 2,   2313.5, 2,    7.8819, 2,     25.00, -999.000, 9, -999.000,   -999.0, 9,   -999.0,  -999.00, 9,   -999.0,  13.6256, 26.4087,  13.6520, 2, 204.2, 2, 214.84, 2, 0.13, 0.05, 0.01, 0.01, -999, 9,  -999.00, 9, -999, -999, 9, -999
49NZ20031106, A10, X13, 1, 31, 12019, 2, 20031130, 1029, -29.7533, 9.9615, 4872,    252.4, 2,  12.7028, 2,  35.1191, 2,  35.1206, 2,    205.1, 1,    214.9, 2,     3.83, 2,    10.00, 2,     0.01, 2,     0.78, 2,    3.401, 6,    1.762, 6,    0.117, 4,   2113.9, 2,   2312.6, 2,    7.8537, 2,     25.00, -999.000, 9, -999.000,   -999.0, 9,   -999.0,  -999.00, 9,   -999.0,  12.6685, 26.5521,  12.7085, 2, 260.4, 2, 214.88, 2, 0.13, 0.06, 0.01, 0.01, -999, 9,  -999.00, 9, -999, -999, 9, -999
49NZ20031106, A10, X13, 1, 30, 12018, 2, 20031130, 1029, -29.7533, 9.9615, 4872,    301.9, 2,  11.8786, 2,  35.0279, 2,  35.0268, 2,    205.0, 1,    214.8, 2,     4.54, 2,    11.99, 2,     0.02, 2,     0.90, 2,    2.935, 2,    1.434, 2,    0.114, 4,   2120.4, 2,   2307.0, 2,    7.8316, 2,     25.00, -999.000, 9, -999.000,   -999.0, 9,   -999.0,  -999.00, 9,   -999.0,  11.8393, 26.6421,  11.8792, 2, 306.8, 2, 215.16, 2, 0.13, 0.07, 0.01, 0.01, -999, 9,  -999.00, 9, -999, -999, 9, -999
49NZ20031106, A10, X13, 1, 29, 12017, 2, 20031130, 1029, -29.7533, 9.9615, 4872,    403.1, 2,   9.8945, 2,  34.7786, 2,  34.7798, 2,    202.4, 1,    212.0, 2,     7.06, 2,    16.89, 2,     0.02, 2,     1.20, 2,    3.096, 4,    1.497, 4,    0.149, 4,   2135.7, 2,   2298.6, 2,    7.7777, 2,     25.00, -999.000, 9, -999.000,   -999.0, 9,   -999.0,  -999.00, 9,   -999.0,   9.8477, 26.8051,   9.8986, 2, 404.3, 2, 214.59, 2, 0.13, 0.08, 0.01, 0.01, -999, 9,  -999.00, 9, -999, -999, 9, -999
49NZ20031106, A10, X13, 1, 28, 12016, 2, 20031130, 1029, -29.7533, 9.9615, 4872,    500.3, 2,   7.9746, 2,  34.5725, 2,  34.5714, 2,    193.6, 1,    202.3, 2,    12.25, 2,    22.69, 2,     0.00, 2,     1.58, 2, -999.000, 5, -999.000, 5, -999.000, 5,   2158.4, 2,   2286.6, 2,    7.7112, 2,     25.00, -999.000, 9, -999.000,   -999.0, 9,   -999.0,  -999.00, 9,   -999.0,   7.9234, 26.9501,   7.9704, 2, 505.1, 2, 200.22, 2, 0.15, 0.1, 0.01, 0.01, -999, 9,  -999.00, 9, -999, -999, 9, -999
49NZ20031106, A10, X13, 1, 27, 12012, 2, 20031130, 1029, -29.7533, 9.9615, 4872,    601.9, 2,   6.0307, 2,  34.3984, 2,  34.3993, 2,    202.4, 1,    211.3, 2,    16.86, 2,    26.72, 2,     0.00, 2,     1.84, 2,    3.031, 2,    1.413, 2,    0.153, 4,   2171.1, 2,   2286.4, 2,    7.6753, 2,     25.00, -999.000, 9, -999.000,   -999.0, 9,   -999.0,  -999.00, 9,   -999.0,   5.9776, 27.0799,   6.0374, 2, 605, 2, 211.13, 2, 0.16, 0.11, 0.01, 0.01, -999, 9,  -999.00, 9, -999, -999, 9, -999
49NZ20031106, A10, X13, 1, 26, 12014, 2, 20031130, 1029, -29.7533, 9.9615, 4872,    703.2, 2,   4.8943, 2,  34.3320, 2,  34.3312, 2,    207.1, 1,    217.1, 2,    22.81, 2,    28.88, 2,     0.00, 2,     1.98, 2,    2.772, 2,    1.279, 2,    0.142, 4,   2180.1, 6,   2291.9, 2,    7.6598, 2,     25.00, -999.000, 9, -999.000,   -999.0, 9,   -999.0,  -999.00, 9,   -999.0,   4.8380, 27.1645,   4.8943, 2, 706.3, 2, 217.96, 2, 0.17, 0.11, 0.01, 0.02, -999, 9,  -999.00, 9, -999, -999, 9, -999
49NZ20031106, A10, X13, 1, 25, 12013, 2, 20031130, 1029, -29.7533, 9.9615, 4872,    802.1, 2,   4.3811, 2,  34.3499, 2,  34.3507, 2,    196.5, 1,    205.5, 2,    30.61, 2,    30.73, 2,     0.00, 2,     2.11, 2,    2.108, 2,    0.964, 2,    0.106, 4,   2196.4, 2,   2296.4, 6,    7.6346, 2,     25.00, -999.000, 9, -999.000,   -999.0, 9,   -999.0,  -999.00, 9,   -999.0,   4.3194, 27.2361,   4.3812, 2, 803.2, 2, 208.67, 2, 0.19, 0.12, 0.01, 0.02, -999, 9,  -999.00, 9, -999, -999, 9, -999
49NZ20031106, A10, X13, 1, 24, 12048, 2, 20031130, 1029, -29.7533, 9.9615, 4872,    902.3, 2,   3.9456, 2,  34.3808, 2,  34.3799, 2,    185.0, 1,    193.7, 2,    44.99, 2,    33.29, 2,     0.00, 2,     2.30, 2,    1.508, 2,    0.696, 2,    0.064, 4,   2209.2, 2,   2301.6, 2,    7.6138, 6,     25.00, -999.000, 9, -999.000,   -999.0, 9,   -999.0,  -999.00, 9,   -999.0,   3.8786, 27.3061,   3.9469, 2, 902.7, 2, 192.98, 2, 0.22, 0.13, 0.01, 0.02, -999, 9,  -999.00, 9, -999, -999, 9, -999
49NZ20031106, A10, X13, 1, 23, 12047, 2, 20031130, 1029, -29.7533, 9.9615, 4872,   1001.7, 2,   3.5983, 2,  34.4371, 2,  34.4353, 2,    173.7, 1,    181.9, 2,    45.00, 2,    33.28, 2,     0.00, 2,     2.30, 2,    0.843, 6,    0.390, 6,    0.034, 4,   2222.7, 2,   2311.4, 2,    7.5981, 2,     25.00, -999.000, 9, -999.000,   -999.0, 9,   -999.0,  -999.00, 9,   -999.0,   3.5257, 27.3866,   3.5980, 2, 1004.9, 2, 184.6, 2, 0.22, 0.13, 0.01, 0.02, -999, 9,  -999.00, 9, -999, -999, 9, -999
49NZ20031106, A10, X13, 1, 22, 12046, 2, 20031130, 1029, -29.7533, 9.9615, 4872,   1201.7, 2,   3.1215, 2,  34.5323, 2,  34.5328, 2,    171.4, 1,    179.4, 2,    55.44, 2,    33.05, 2,     0.00, 2,     2.28, 2,    0.408, 2,    0.190, 2,    0.012, 4,   2233.3, 2,   2323.2, 2,    7.5948, 2,     25.00, -999.000, 9, -999.000,   -999.0, 9,   -999.0,  -999.00, 9,   -999.0,   3.0368, 27.5091,   3.1214, 2, 1202.6, 2, 178.86, 2, 0.24, 0.13, 0.01, 0.02, -999, 9,  -999.00, 9, -999, -999, 9, -999
49NZ20031106, A10, X13, 1, 21, 12045, 2, 20031130, 1029, -29.7533, 9.9615, 4872,   1401.5, 2,   3.1222, 2,  34.6699, 2,  34.6699, 2,    177.2, 1,    185.4, 2,    51.49, 2,    30.70, 2,     0.00, 2,     2.10, 2,    0.090, 2,    0.044, 2,    0.007, 4,   2226.8, 2,   2327.1, 2,    7.6199, 2,     25.00, -999.000, 9, -999.000,   -999.0, 9,   -999.0,  -999.00, 9,   -999.0,   3.0210, 27.6203,   3.1217, 2, 1402.7, 2, 185.35, 2, 0.23, 0.12, 0.01, 0.02, -999, 9,  -999.00, 9, -999, -999, 9, -999
49NZ20031106, A10, X13, 1, 1, 12025, 2, 20031130, 1029, -29.7533, 9.9615, 4872,   1603.6, 2,   2.9276, 2,  34.7308, 2,  34.7305, 2,    186.0, 1,    194.5, 2,    53.52, 2,    29.22, 2,     0.00, 2,     2.00, 2,    0.053, 2,    0.028, 2,    0.000, 4,   2225.8, 2,   2326.1, 2,    7.6381, 2,     25.00, -999.000, 9, -999.000,   -999.0, 9,   -999.0,  -999.00, 9,   -999.0,   2.8115, 27.6881,   2.9278, 2, 1605, 2, 194.44, 2, 0.24, 0.11, 0.01, 0.02, -999, 9,  -999.00, 9, -999, -999, 9, -999
49NZ20031106, A10, X13, 1, 19, 12043, 2, 20031130, 1029, -29.7533, 9.9615, 4872,   1801.6, 2,   2.8885, 2,  34.7893, 2,  34.7887, 2,    196.6, 1,    205.9, 2,    50.36, 2,    27.32, 2,     0.00, 2,     1.87, 2,    0.024, 2,    0.012, 2,    0.000, 4,   2215.9, 2,   2324.7, 2,    7.6589, 2,     25.00, -999.000, 9, -999.000,   -999.0, 9,   -999.0,  -999.00, 9,   -999.0,   2.7557, 27.7403,   2.8872, 2, 1802, 2, 207.66, 2, 0.23, 0.11, 0.01, 0.01, -999, 9,  -999.00, 9, -999, -999, 9, -999
49NZ20031106, A10, X13, 1, 18, 12042, 2, 20031130, 1029, -29.7533, 9.9615, 4872,   2000.4, 2,   2.8951, 2,  34.8425, 2,  34.8427, 2,    208.5, 1,    218.9, 2,    44.40, 2,    25.20, 2,     0.00, 2,     1.72, 2,    0.005, 2,    0.003, 2,    0.000, 4,   2202.2, 2,   2328.6, 2,    7.6872, 6,     25.00, -999.000, 9, -999.000,   -999.0, 9,   -999.0,  -999.00, 9,   -999.0,   2.7444, 27.7834,   2.8950, 2, 2000.9, 2, 218.79, 2, 0.22, 0.1, 0.01, 0.01, -999, 9,  -999.00, 9, -999, -999, 9, -999
49NZ20031106, A10, X13, 1, 17, 12041, 2, 20031130, 1029, -29.7533, 9.9615, 4872,   2202.1, 2,   2.7273, 2,  34.8502, 2,  34.8501, 2,    213.3, 1,    224.1, 2,    46.70, 2,    24.72, 2,     0.00, 2,     1.68, 2,    0.004, 2,    0.003, 2,    0.000, 4,   2202.6, 2,   2332.4, 2,    7.6935, 2,     25.00, -999.000, 9, -999.000,   -999.0, 9,   -999.0,  -999.00, 9,   -999.0,   2.5608, 27.8059,   2.7271, 2, 2202.5, 2, 224.2, 2, 0.22, 0.1, 0.01, 0.01, -999, 9,  -999.00, 9, -999, -999, 9, -999
49NZ20031106, A10, X13, 1, 16, 12040, 2, 20031130, 1029, -29.7533, 9.9615, 4872,   2400.8, 2,   2.5768, 2,  34.8486, 2,  34.8487, 2,    214.9, 1,    226.0, 2,    49.94, 2,    24.69, 2,     0.00, 2,     1.69, 2,    0.001, 2,    0.002, 2,    0.000, 4,   2204.7, 6,   2333.0, 2,    7.6957, 2,     25.00, -999.000, 9, -999.000,   -999.0, 9,   -999.0,  -999.00, 9,   -999.0,   2.3944, 27.8189,   2.5768, 2, 2401.3, 2, 227.07, 2, 0.23, 0.1, 0.01, 0.01, -999, 9,  -999.00, 9, -999, -999, 9, -999
49NZ20031106, A10, X13, 1, 15, 12039, 2, 20031130, 1029, -29.7533, 9.9615, 4872,   2600.1, 2,   2.5194, 2,  34.8577, 2,  34.8582, 2,    218.5, 1,    229.8, 2,    49.65, 2,    24.30, 2,     0.00, 2,     1.65, 2,   -0.006, 2,   -0.001, 2,    0.000, 4,   2204.5, 2,   2334.7, 6,    7.7044, 2,     25.00, -999.000, 9, -999.000,   -999.0, 9,   -999.0,  -999.00, 9,   -999.0,   2.3191, 27.8327,   2.5194, 2, 2600.1, 2, 228.98, 2, 0.23, 0.1, 0.01, 0.01, -999, 9,  -999.00, 9, -999, -999, 9, -999
49NZ20031106, A10, X13, 1, 14, 12038, 2, 20031130, 1029, -29.7533, 9.9615, 4872,   2800.9, 2,   2.4504, 2,  34.8599, 2,  34.8600, 2,    219.8, 1,    231.0, 2,    50.95, 2,    24.23, 2,     0.00, 2,     1.65, 2,   -0.003, 2,    0.000, 2,    0.000, 4,   2205.8, 2,   2335.2, 2,    7.7061, 2,     25.00, -999.000, 9, -999.000,   -999.0, 9,   -999.0,  -999.00, 9,   -999.0,   2.2318, 27.8417,   2.4503, 2, 2800.9, 2, 230.43, 2, 0.23, 0.1, 0.01, 0.01, -999, 9,  -999.00, 9, -999, -999, 9, -999
49NZ20031106, A10, X13, 1, 13, 12037, 2, 20031130, 1029, -29.7533, 9.9615, 4872,   3002.9, 2,   2.3901, 2,  34.8600, 2,  34.8606, 2,    220.4, 1,    231.6, 2,    52.46, 2,    24.23, 2,     0.00, 2,     1.64, 2,    0.002, 2,    0.000, 2,    0.000, 4,   2208.4, 2,   2338.5, 2,    7.7075, 2,     25.00, -999.000, 9, -999.000,   -999.0, 9,   -999.0,  -999.00, 9,   -999.0,   2.1526, 27.8485,   2.3900, 2, 3003, 2, 230.64, 2, 0.23, 0.1, 0.01, 0.01, -999, 9,  -999.00, 9, -999, -999, 9, -999
49NZ20031106, A10, X13, 1, 12, 12036, 2, 20031130, 1029, -29.7533, 9.9615, 4872,   3250.6, 2,   2.3191, 2,  34.8586, 2,  34.8588, 2,    220.3, 1,    231.4, 2,    54.93, 2,    24.44, 2,     0.00, 2,     1.65, 2,    0.013, 2,    0.003, 2,    0.000, 4,   2209.2, 2,   2342.6, 2,    7.7072, 2,     25.00, -999.000, 9, -999.000,   -999.0, 9,   -999.0,  -999.00, 9,   -999.0,   2.0578, 27.8551,   2.3190, 2, 3250.8, 2, 230.98, 2, 0.24, 0.1, 0.01, 0.01, -999, 9,  -999.00, 9, -999, -999, 9, -999
49NZ20031106, A10, X13, 1, 11, 12035, 2, 20031130, 1029, -29.7533, 9.9615, 4872,   3499.2, 2,   2.2169, 2,  34.8507, 2,  34.8505, 2,    219.5, 1,    230.3, 2,    59.17, 2,    24.81, 2,     0.01, 2,     1.68, 2,    0.007, 2,    0.000, 2,    0.000, 4,   2216.0, 2,   2344.4, 2,    7.7054, 2,     25.00, -999.000, 9, -999.000,   -999.0, 9,   -999.0,  -999.00, 9,   -999.0,   1.9319, 27.8586,   2.2168, 2, 3499.3, 2, 230.04, 2, 0.25, 0.1, 0.01, 0.01, -999, 9,  -999.00, 9, -999, -999, 9, -999
49NZ20031106, A10, X13, 1, 10, 12034, 2, 20031130, 1029, -29.7533, 9.9615, 4872,   3749.6, 2,   1.9930, 2,  34.8268, 2,  34.8269, 2,    216.4, 1,    226.5, 2,    69.09, 2,    26.09, 2,     0.00, 2,     1.77, 2,    0.007, 2,    0.004, 2,    0.000, 4,   2223.9, 2,   2351.3, 2,    7.6911, 2,     25.00, -999.000, 9, -999.000,   -999.0, 9,   -999.0,  -999.00, 9,   -999.0,   1.6870, 27.8584,   1.9930, 2, 3750.1, 2, 226.63, 2, 0.27, 0.11, 0.01, 0.01, -999, 9,  -999.00, 9, -999, -999, 9, -999
49NZ20031106, A10, X13, 1, 9, 12033, 2, 20031130, 1029, -29.7533, 9.9615, 4872,   3999.2, 2,   1.5827, 2,  34.7839, 2,  34.7839, 2,    211.8, 1,    221.2, 2,    85.98, 2,    28.22, 2,     0.00, 2,     1.93, 2,    0.001, 2,    0.002, 2,    0.000, 4,   2240.3, 2,   2356.8, 2,    7.6702, 2,     25.00, -999.000, 9, -999.000,   -999.0, 9,   -999.0,  -999.00, 9,   -999.0,   1.2609, 27.8552,   1.5826, 2, 3999.8, 2, 221.6, 2, 0.31, 0.11, 0.01, 0.01, -999, 9,  -999.00, 9, -999, -999, 9, -999
49NZ20031106, A10, X13, 1, 8, 12032, 2, 20031130, 1029, -29.7533, 9.9615, 4872,   4251.4, 2,   1.2533, 2,  34.7511, 2,  34.7511, 2,    209.6, 1,    218.2, 2,    99.09, 2,    29.83, 2,     0.01, 2,     2.05, 2,    0.019, 2,    0.010, 2,    0.000, 4,   2248.9, 2,   2363.5, 2,    7.6568, 2,     25.00, -999.000, 9, -999.000,   -999.0, 9,   -999.0,  -999.00, 9,   -999.0,   0.9135, 27.8526,   1.2531, 2, 4251.5, 2, 218.26, 2, 0.34, 0.12, 0.01, 0.02, -999, 9,  -999.00, 9, -999, -999, 9, -999
49NZ20031106, A10, X13, 1, 7, 12031, 2, 20031130, 1029, -29.7533, 9.9615, 4872,   4500.8, 2,   1.1436, 2,  34.7391, 2,  34.7389, 2,    209.8, 1,    217.3, 2,   104.21, 2,    30.34, 2,     0.00, 2,     2.09, 2,    0.025, 2,    0.012, 2,    0.000, 4,   2254.4, 2,   2365.8, 6,    7.6468, 2,     25.00, -999.000, 9, -999.000,   -999.0, 9,   -999.0,  -999.00, 9,   -999.0,   0.7793, 27.8516,   1.1433, 2, 4500.8, 2, 217.23, 2, 0.35, 0.12, 0.01, 0.02, -999, 9,  -999.00, 9, -999, -999, 9, -999
49NZ20031106, A10, X13, 1, 6, 12030, 2, 20031130, 1029, -29.7533, 9.9615, 4872,   4750.1, 2,   1.1212, 2,  34.7344, 2,  34.7344, 2,    210.7, 1,    217.0, 2,   106.00, 2,    30.60, 2,     0.00, 2,     2.11, 2, -999.000, 5, -999.000, 5, -999.000, 5,   2257.9, 2,   2368.5, 2,    7.6481, 6,     25.00, -999.000, 9, -999.000,   -999.0, 9,   -999.0,  -999.00, 9,   -999.0,   0.7290, 27.8512,   1.1211, 2, 4750.2, 2, 216.8, 2, 0.35, 0.12, 0.01, 0.02, -999, 9,  -999.00, 9, -999, -999, 9, -999
49NZ20031106, A10, X13, 1, 20, 12044, 2, 20031130, 1029, -29.7533, 9.9615, 4872,   4750.5, 2,   1.1211, 2,  34.7345, 2,  34.7341, 2,    210.6, 1,    216.8, 2,   106.14, 2,    30.54, 2,     0.01, 2,     2.10, 2,    0.039, 4,    0.018, 4,    0.000, 4,   2255.9, 2,   2367.6, 2,    7.6487, 2,     25.00, -999.000, 9, -999.000,   -999.0, 9,   -999.0,  -999.00, 9,   -999.0,   0.7288, 27.8512,   1.1210, 2, 4750.6, 2, 216.76, 2, 0.35, 0.12, 0.01, 0.02, -999, 9,  -999.00, 9, -999, -999, 9, -999
49NZ20031106, A10, X13, 1, 5, 12029, 2, 20031130, 1029, -29.7533, 9.9615, 4872,   4942.4, 2,   1.1254, 2,  34.7325, 2,  34.7325, 2,    212.1, 1,    216.8, 2,   106.78, 2,    30.69, 2,     0.00, 2,     2.11, 2,    0.040, 2,    0.020, 2,    0.000, 4,   2258.2, 2,   2363.7, 2,    7.6461, 2,     25.00, -999.000, 9, -999.000,   -999.0, 9,   -999.0,  -999.00, 9,   -999.0,   0.7104, 27.8508,   1.1253, 2, 4942.4, 2, 216.44, 2, 0.35, 0.12, 0.01, 0.02, -999, 9,  -999.00, 9, -999, -999, 9, -999