BOTTLE,20220818CCHSIOAMB
EXPOCODE,SECT_ID,STNNBR,CASTNO,SAMPNO,BTLNBR,BTLNBR_FLAG_W,DATE,TIME,LATITUDE,LONGITUDE,DEPTH,CTDPRS,CTDPRS_FLAG_W,CTDTMP,CTDTMP_FLAG_W,CTDSAL,CTDSAL_FLAG_W,SALNTY,SALNTY_FLAG_W,CTDOXY,CTDOXY_FLAG_W,OXYGEN,OXYGEN_FLAG_W,SILCAT,SILCAT_FLAG_W,NITRAT,NITRAT_FLAG_W,NITRIT,NITRIT_FLAG_W,PHSPHT,PHSPHT_FLAG_W,CFC-11,CFC-11_FLAG_W,CFC-12,CFC-12_FLAG_W,CFC113,CFC113_FLAG_W,TCARBN,TCARBN_FLAG_W,ALKALI,ALKALI_FLAG_W,PH_TOT,PH_TOT_FLAG_W,PH_TMP,TRITUM,TRITUM_FLAG_W,TRITER,DELC14,DELC14_FLAG_W,C14ERR,DELC13,DELC13_FLAG_W,C13ERR,THETA,SIG0,SBE35,SBE35_FLAG_W,DWNPRS,DWNPRS_FLAG_W,DWNOXY,DWNOXY_FLAG_W,SILUNC,NRAUNC,NRIUNC,PHPUNC,TOC,TOC_FLAG_W,CS-137,CS-137_FLAG_W,CS137ER,PLUTO,PLUTO_FLAG_W,PLUTOER
,,,,,,,,,,,METERS,DBAR,,ITS-90,,PSS-78,,PSS-78,,UMOL/KG,,UMOL/KG,,UMOL/KG,,UMOL/KG,,UMOL/KG,,UMOL/KG,,PMOL/KG,,PMOL/KG,,PMOL/KG,,UMOL/KG,,UMOL/KG,,,,DEG C,TU,,TU,/MILLE,,/MILLE,/MILLE,,/MILLE,DEG C,KG/M^3,ITS-90,,DBAR,,UMOL/KG,,UMOL/KG,UMOL/KG,UMOL/KG,UMOL/KG,UMOL/KG,,BQ/M^3,,BQ/M^3,MBQ/M^3,,MBQ/M^3
49NZ20031106, A10, 7, 1, 3, 12012, 2, 20031110, 947, -29.6075, -41.1617, 3795,      4.9, 2,  19.4239, 2,  35.7080, 2, -999.0000, 9,    222.0, 1,   -999.0, 9,  -999.00, 9,  -999.00, 9,  -999.00, 9,  -999.00, 9, -999.000, 9, -999.000, 9, -999.000, 9,   -999.0, 9,   -999.0, 9, -999.0000, 9,   -999.00, -999.000, 9, -999.000,   -999.0, 9,   -999.0,  -999.00, 9,   -999.0,  19.4230, 25.4563,  19.4178, 2, 4.9, 2, 233.46, 2, -999, -999, -999, -999, -999, 9,  -999.00, 9, -999, -999, 9, -999
49NZ20031106, A10, 7, 1, 4, 12016, 2, 20031110, 947, -29.6075, -41.1617, 3795,      5.0, 2,  19.4090, 2,  35.7077, 2, -999.0000, 9,    222.3, 1,   -999.0, 9,  -999.00, 9,  -999.00, 9,  -999.00, 9,  -999.00, 9, -999.000, 9, -999.000, 9, -999.000, 9,   -999.0, 9,   -999.0, 9, -999.0000, 9,   -999.00, -999.000, 9, -999.000,   -999.0, 9,   -999.0,  -999.00, 9,   -999.0,  19.4081, 25.4567,  19.4076, 2, 5, 2, 233.42, 2, -999, -999, -999, -999, -999, 9,  -999.00, 9, -999, -999, 9, -999
49NZ20031106, A10, 7, 1, 36, 12048, 2, 20031110, 947, -29.6075, -41.1617, 3795,     10.4, 2,  18.9796, 2,  35.7122, 2,  35.7119, 2,    222.5, 1,    233.7, 2,     0.86, 2,     0.03, 2,     0.00, 2,     0.08, 2,    2.609, 2,    1.472, 2,    0.270, 4,   2054.2, 2,   2366.0, 2,    8.0272, 2,     25.00, -999.000, 9, -999.000,     84.5, 2,      6.0,     1.45, 2,      0.0,  18.9777, 25.5729,  18.9792, 2, 12.4, 2, 233.38, 2, 0.12, 0.03, 0.01, 0.02, -999, 9,  -999.00, 9, -999, -999, 9, -999
49NZ20031106, A10, 7, 1, 35, 12047, 2, 20031110, 947, -29.6075, -41.1617, 3795,     50.0, 2,  18.5489, 2,  35.7703, 2,  35.7708, 2,    226.2, 1,    237.0, 2,     0.85, 2,     0.02, 2,    -0.01, 2,     0.07, 2,    2.666, 2,    1.474, 2,    0.273, 4,   2057.5, 6,   2373.8, 2,    8.0296, 2,     25.00, -999.000, 9, -999.000,     76.9, 2,      4.2,     1.45, 2,      0.0,  18.5401, 25.7295,  18.5364, 2, 49.5, 2, 236.93, 2, 0.12, 0.03, 0.01, 0.03, -999, 9,  -999.00, 9, -999, -999, 9, -999
49NZ20031106, A10, 7, 1, 2, 12014, 2, 20031110, 947, -29.6075, -41.1617, 3795,     96.1, 2,  17.0886, 2,  35.8083, 2, -999.0000, 9,    222.5, 1,   -999.0, 9,  -999.00, 9,  -999.00, 9,  -999.00, 9,  -999.00, 9, -999.000, 9, -999.000, 9, -999.000, 9,   -999.0, 9,   -999.0, 9, -999.0000, 9,   -999.00, -999.000, 9, -999.000,   -999.0, 9,   -999.0,  -999.00, 9,   -999.0,  17.0726, 26.1169,  17.0958, 2, 93, 2, 229.83, 2, -999, -999, -999, -999, -999, 9,  -999.00, 9, -999, -999, 9, -999
49NZ20031106, A10, 7, 1, 34, 12046, 2, 20031110, 947, -29.6075, -41.1617, 3795,    101.1, 2,  17.0111, 2,  35.8037, 2,  35.8078, 2,    220.5, 1,    231.2, 2,     1.05, 2,     0.19, 2,     0.05, 2,     0.15, 2,    2.706, 2,    1.515, 2,    0.209, 4,   2076.1, 2,   2359.6, 6,    8.0088, 2,     25.00, -999.000, 9, -999.000,     89.5, 2,      4.1,     1.35, 2,      0.0,  16.9944, 26.1324,  17.0160, 2, 97, 2, 228.8, 2, 0.12, 0.03, 0.01, 0.02, -999, 9,  -999.00, 9, -999, -999, 9, -999
49NZ20031106, A10, 7, 1, 33, 12045, 2, 20031110, 947, -29.6075, -41.1617, 3795,    151.5, 2,  15.7220, 2,  35.6247, 2,  35.6164, 3,    205.0, 1,    213.6, 2,     1.64, 2,     4.10, 2,     0.01, 2,     0.39, 2,    2.924, 2,    1.599, 2,    0.112, 4,   2095.8, 2,   2349.8, 2,    7.9550, 6,     25.00, -999.000, 9, -999.000,     72.5, 2,      4.1,     1.18, 2,      0.0,  15.6982, 26.2993,  15.7286, 2, 150.3, 2, 215.12, 2, 0.12, 0.04, 0.01, 0.01, -999, 9,  -999.00, 9, -999, -999, 9, -999
49NZ20031106, A10, 7, 1, 32, 12044, 2, 20031110, 947, -29.6075, -41.1617, 3795,    200.0, 2,  14.7460, 2,  35.4661, 2,  35.4646, 2,    205.5, 1,    214.3, 2,     1.92, 2,     5.58, 2,     0.01, 2,     0.49, 2,    3.055, 2,    1.662, 2,    0.083, 4,   2101.1, 2,   2643.7, 4,    7.9318, 2,     25.00, -999.000, 9, -999.000,     81.3, 6,      3.7,     1.18, 6,      0.0,  14.7159, 26.3946,  14.7460, 2, 199.7, 2, 214.3, 2, 0.12, 0.05, 0.01, 0.01, -999, 9,  -999.00, 9, -999, -999, 9, -999
49NZ20031106, A10, 7, 1, 31, 12043, 2, 20031110, 947, -29.6075, -41.1617, 3795,    252.8, 2,  14.0556, 2,  35.3793, 2,  35.3784, 2,    206.9, 1,    215.3, 2,     2.21, 2,     7.03, 2,     0.00, 2,     0.58, 2,    3.086, 6,    1.668, 6,    0.071, 4,   2102.5, 4,   2350.6, 2,    7.9166, 2,     25.00, -999.000, 9, -999.000,     68.5, 3,      4.1,     1.14, 2,      0.0,  14.0188, 26.4771,  14.0552, 2, 253.7, 2, 215.8, 2, 0.12, 0.05, 0.01, 0.01, -999, 9,  -999.00, 9, -999, -999, 9, -999
49NZ20031106, A10, 7, 1, 30, 12042, 2, 20031110, 947, -29.6075, -41.1617, 3795,    301.2, 2,  13.5806, 2,  35.3259, 2,  35.3250, 2,    203.8, 1,    212.3, 2,     2.63, 2,     8.56, 2,     0.01, 2,     0.67, 2,    2.957, 2,    1.587, 2,    0.069, 4,   2111.0, 2,   2332.2, 2,    7.9018, 2,     25.00, -999.000, 9, -999.000,     79.0, 2,      4.1,     1.15, 2,      0.0,  13.5377, 26.5356,  13.5814, 2, 301.4, 2, 212.39, 2, 0.12, 0.06, 0.01, 0.01, -999, 9,  -999.00, 9, -999, -999, 9, -999
49NZ20031106, A10, 7, 1, 29, 12041, 2, 20031110, 947, -29.6075, -41.1617, 3795,    402.4, 2,  11.7424, 2,  35.0417, 2,  35.0249, 3,    200.2, 1,    208.1, 2,     4.38, 2,    13.33, 2,     0.01, 2,     0.98, 2,    3.041, 2,    1.530, 2,    0.094, 4,   2124.4, 2,   2317.0, 2,    7.8458, 2,     25.00, -999.000, 9, -999.000,     53.5, 2,      3.9,     1.14, 2,      0.0,  11.6902, 26.6793,  11.7456, 2, 401.6, 2, 207.56, 2, 0.13, 0.07, 0.01, 0.01, -999, 9,  -999.00, 9, -999, -999, 9, -999
49NZ20031106, A10, 7, 1, 28, 12040, 2, 20031110, 947, -29.6075, -41.1617, 3795,    501.3, 2,   9.5773, 2,  34.7510, 2,  34.7496, 2,    202.3, 1,    209.9, 2,     6.71, 2,    18.06, 2,     0.00, 2,     1.29, 2,    3.155, 2,    1.556, 2,    0.129, 4,   2138.0, 2,   2430.7, 4,    7.7904, 2,     25.00, -999.000, 9, -999.000,     46.1, 2,      3.9,     1.15, 2,      0.0,   9.5199, 26.8374,   9.5772, 2, 501.9, 2, 209.66, 2, 0.13, 0.08, 0.01, 0.01, -999, 9,  -999.00, 9, -999, -999, 9, -999
49NZ20031106, A10, 7, 1, 27, 12039, 2, 20031110, 947, -29.6075, -41.1617, 3795,    600.5, 2,   7.5338, 2,  34.5133, 2,  34.5122, 2,    209.6, 1,    217.2, 2,     9.79, 2,    22.55, 2,    -0.01, 2,     1.58, 2,    3.190, 2,    1.535, 2,    0.161, 4,   2149.0, 2,   2290.1, 2,    7.7443, 2,     25.00, -999.000, 9, -999.000,     11.3, 2,      3.8,     1.14, 2,      0.0,   7.4740, 26.9679,   7.5336, 2, 599.4, 2, 217.82, 2, 0.14, 0.1, 0.01, 0.01, -999, 9,  -999.00, 9, -999, -999, 9, -999
49NZ20031106, A10, 7, 1, 26, 12038, 2, 20031110, 947, -29.6075, -41.1617, 3795,    700.7, 2,   6.0553, 2,  34.3931, 2,  34.3925, 2,    210.7, 1,    218.4, 2,    14.76, 2,    26.08, 2,    -0.01, 2,     1.81, 2,    2.839, 2,    1.331, 2,    0.147, 4,   2162.7, 2,   -999.0, 5,    7.7105, 2,     25.00, -999.000, 9, -999.000,     -6.8, 2,      3.9,     1.09, 2,      0.0,   5.9929, 27.0728,   6.0586, 2, 699.7, 2, 218.76, 2, 0.15, 0.11, 0.01, 0.01, -999, 9,  -999.00, 9, -999, -999, 9, -999
49NZ20031106, A10, 7, 1, 25, 12037, 2, 20031110, 947, -29.6075, -41.1617, 3795,    800.3, 2,   4.9360, 2,  34.3115, 2,  34.3117, 2,    218.7, 1,    226.5, 2,    19.16, 2,    27.97, 2,    -0.01, 2,     1.94, 2,    2.703, 2,    1.277, 2,    0.151, 4,   2169.7, 2,   2295.1, 6,    7.6937, 2,     25.00, -999.000, 9, -999.000,    -28.7, 2,      3.8,     1.06, 2,      0.0,   4.8711, 27.1438,   4.9360, 2, 800.3, 2, 226.25, 2, 0.16, 0.11, 0.01, 0.01, -999, 9,  -999.00, 9, -999, -999, 9, -999
49NZ20031106, A10, 7, 1, 24, 12036, 2, 20031110, 947, -29.6075, -41.1617, 3795,    900.5, 2,   4.1185, 2,  34.2827, 2,  34.2819, 2,    219.7, 1,    228.4, 2,    24.76, 2,    29.51, 2,    -0.01, 2,     2.04, 2,    2.396, 2,    1.122, 2,    0.144, 4,   2179.1, 2,   2292.8, 2,    7.6788, 6,     25.00, -999.000, 9, -999.000,    -54.7, 2,      3.8,     1.05, 2,      0.0,   4.0505, 27.2097,   4.1194, 2, 899.5, 2, 227.15, 2, 0.17, 0.12, 0.01, 0.02, -999, 9,  -999.00, 9, -999, -999, 9, -999
49NZ20031106, A10, 7, 1, 6, 12018, 9, 20031110, 947, -29.6075, -41.1617, 3795,   1000.7, 2,   3.6806, 2,  34.3113, 2, -999.0000, 9,    209.1, 1,   -999.0, 9,  -999.00, 9,  -999.00, 9,  -999.00, 9,  -999.00, 9, -999.000, 9, -999.000, 9, -999.000, 9,   -999.0, 9,   -999.0, 9, -999.0000, 9,   -999.00, -999.000, 9, -999.000,   -999.0, 9,   -999.0,  -999.00, 9,   -999.0,   3.6077, 27.2781,   3.6780, 2, 998.6, 2, 217.08, 2, -999, -999, -999, -999, -999, 9,  -999.00, 9, -999, -999, 9, -999
49NZ20031106, A10, 7, 1, 23, 12035, 2, 20031110, 947, -29.6075, -41.1617, 3795,   1000.8, 2,   3.6827, 2,  34.3111, 2,  34.3112, 2,    209.0, 1,    217.1, 2,    32.29, 2,    31.02, 2,    -0.01, 2,     2.14, 2,    1.748, 6,    0.815, 6,    0.089, 4,   2192.7, 2,   2300.2, 2,    7.6560, 2,     25.00, -999.000, 9, -999.000,    -80.2, 2,      3.6,     0.95, 2,      0.0,   3.6098, 27.2772,   3.6828, 2, 998.6, 2, 217.08, 2, 0.19, 0.12, 0.01, 0.02, -999, 9,  -999.00, 9, -999, -999, 9, -999
49NZ20031106, A10, 7, 1, 5, 12017, 9, 20031110, 947, -29.6075, -41.1617, 3795,   1000.8, 2,   3.6772, 2,  34.3114, 2, -999.0000, 9,    209.2, 1,   -999.0, 9,  -999.00, 9,  -999.00, 9,  -999.00, 9,  -999.00, 9, -999.000, 9, -999.000, 9, -999.000, 9,   -999.0, 9,   -999.0, 9, -999.0000, 9,   -999.00, -999.000, 9, -999.000,   -999.0, 9,   -999.0,  -999.00, 9,   -999.0,   3.6043, 27.2778,   3.6771, 2, 998.7, 2, 217.03, 2, -999, -999, -999, -999, -999, 9,  -999.00, 9, -999, -999, 9, -999
49NZ20031106, A10, 7, 1, 7, 12019, 9, 20031110, 947, -29.6075, -41.1617, 3795,   1000.9, 2,   3.6757, 2,  34.3117, 2, -999.0000, 9,    209.3, 1,   -999.0, 9,  -999.00, 9,  -999.00, 9,  -999.00, 9,  -999.00, 9, -999.000, 9, -999.000, 9, -999.000, 9,   -999.0, 9,   -999.0, 9, -999.0000, 9,   -999.00, -999.000, 9, -999.000,   -999.0, 9,   -999.0,  -999.00, 9,   -999.0,   3.6028, 27.2778,   3.6799, 2, 998.9, 2, 216.99, 2, -999, -999, -999, -999, -999, 9,  -999.00, 9, -999, -999, 9, -999
49NZ20031106, A10, 7, 1, 22, 12034, 2, 20031110, 947, -29.6075, -41.1617, 3795,   1200.1, 2,   3.1396, 2,  34.4277, 2,  34.4277, 2,    187.3, 1,    194.1, 2,    47.22, 2,    32.72, 2,    -0.01, 2,     2.27, 2,    0.675, 2,    0.325, 2,    0.036, 4,   2218.8, 2,   2313.1, 2,    7.6179, 2,     25.00, -999.000, 9, -999.000,   -115.4, 2,      5.4,     0.77, 2,      0.0,   3.0551, 27.4232,   3.1395, 2, 1199.1, 2, 194.92, 2, 0.22, 0.12, 0.01, 0.02, -999, 9,  -999.00, 9, -999, -999, 9, -999
49NZ20031106, A10, 7, 1, 21, 12033, 2, 20031110, 947, -29.6075, -41.1617, 3795,   1401.8, 2,   3.0695, 2,  34.5810, 2,  34.5813, 2,    182.6, 1,    189.1, 2,    51.43, 2,    31.54, 2,    -0.01, 2,     2.18, 2,    0.180, 2,    0.093, 2,    0.012, 4,   2224.0, 2,   2327.8, 2,    7.6283, 2,     25.00, -999.000, 9, -999.000,   -131.8, 6,      5.0,     0.68, 6,      0.0,   2.9690, 27.5537,   3.0689, 2, 1400.9, 2, 189.02, 2, 0.23, 0.12, 0.01, 0.02, -999, 9,  -999.00, 9, -999, -999, 9, -999
49NZ20031106, A10, 7, 1, 20, 12032, 2, 20031110, 947, -29.6075, -41.1617, 3795,   1600.4, 2,   3.1907, 2,  34.7117, 2,  34.7120, 2,    191.5, 1,    198.3, 2,    46.66, 2,    28.86, 2,    -0.01, 2,     1.98, 2,    0.078, 2,    0.053, 2,    0.007, 4,   2214.5, 2,   2329.2, 2,    7.6565, 2,     25.00, -999.000, 9, -999.000,   -127.8, 2,      3.4,     0.70, 2,      0.0,   3.0717, 27.6486,   3.1896, 2, 1600.2, 2, 197.39, 2, 0.22, 0.11, 0.01, 0.02, -999, 9,  -999.00, 9, -999, -999, 9, -999
49NZ20031106, A10, 7, 1, 19, 12031, 2, 20031110, 947, -29.6075, -41.1617, 3795,   1800.3, 2,   3.4060, 2,  34.8410, 2,  34.8418, 2,    210.8, 1,    218.5, 2,    35.70, 2,    24.87, 2,    -0.01, 2,     1.70, 2,    0.076, 2,    0.035, 2,    0.000, 4,   2195.5, 2,   2327.3, 2,    7.7012, 2,     25.00, -999.000, 9, -999.000,   -100.6, 2,      3.4,     0.82, 2,      0.0,   3.2662, 27.7333,   3.4060, 2, 1800.2, 2, 217.57, 2, 0.2, 0.1, 0.01, 0.01, -999, 9,  -999.00, 9, -999, -999, 9, -999
49NZ20031106, A10, 7, 1, 18, 12030, 2, 20031110, 947, -29.6075, -41.1617, 3795,   1999.7, 2,   3.3990, 2,  34.8961, 2,  34.8957, 2,    224.4, 1,    232.9, 2,    30.61, 2,    22.64, 2,    -0.01, 2,     1.55, 2,    0.083, 2,    0.045, 2,    0.000, 4,   2184.4, 2,   2325.9, 2,    7.7255, 2,     25.00, -999.000, 9, -999.000,   -116.9, 3,      3.3,     0.90, 2,      0.0,   3.2407, 27.7796,   3.3989, 2, 1999.2, 2, 231.11, 2, 0.19, 0.1, 0.01, 0.01, -999, 9,  -999.00, 9, -999, -999, 9, -999
49NZ20031106, A10, 7, 1, 17, 12029, 2, 20031110, 947, -29.6075, -41.1617, 3795,   2199.0, 2,   3.4075, 2,  34.9389, 2,  34.9392, 2,    236.3, 1,    245.2, 2,    24.97, 2,    20.71, 2,    -0.01, 2,     1.40, 2,    0.097, 2,    0.055, 2,    0.000, 4,   2172.9, 2,   2319.7, 3,    7.7499, 2,     25.00, -999.000, 9, -999.000,    -98.4, 2,      3.4,     1.03, 2,      0.0,   3.2299, 27.8148,   3.4075, 2, 2198.4, 2, 245.09, 2, 0.17, 0.09, 0.01, 0.01, -999, 9,  -999.00, 9, -999, -999, 9, -999
49NZ20031106, A10, 7, 1, 1, 12013, 2, 20031110, 947, -29.6075, -41.1617, 3795,   2399.6, 2,   3.2429, 2,  34.9404, 2,  34.9407, 2,    239.9, 1,    248.9, 2,    25.85, 2,    20.39, 2,    -0.01, 2,     1.38, 2,    0.074, 2,    0.043, 2,    0.000, 4,   2172.9, 6,   2327.1, 2,    7.7498, 2,     25.00, -999.000, 9, -999.000,    -89.4, 2,      3.4,     1.00, 2,      0.0,   3.0485, 27.8331,   3.2427, 2, 2399.2, 2, 248.56, 2, 0.18, 0.09, 0.01, 0.01, -999, 9,  -999.00, 9, -999, -999, 9, -999
49NZ20031106, A10, 7, 1, 15, 12027, 2, 20031110, 947, -29.6075, -41.1617, 3795,   2600.7, 2,   3.0814, 2,  34.9369, 2,  34.9370, 2,    241.8, 1,    250.6, 2,    27.43, 2,    20.24, 2,    -0.01, 2,     1.38, 2,    0.059, 2,    0.033, 2,    0.000, 4,   2172.6, 2,   2326.9, 6,    7.7558, 2,     25.00, -999.000, 9, -999.000,   -102.9, 2,      3.6,     0.99, 2,      0.0,   2.8700, 27.8468,   3.0814, 2, 2600.4, 2, 250.46, 2, 0.18, 0.09, 0.01, 0.01, -999, 9,  -999.00, 9, -999, -999, 9, -999
49NZ20031106, A10, 7, 1, 16, 12028, 2, 20031110, 947, -29.6075, -41.1617, 3795,   2600.8, 2,   3.0813, 2,  34.9370, 2,  34.9370, 2,    241.8, 1,    250.7, 2,    27.44, 2,    20.27, 2,     0.00, 2,     1.38, 2,    0.069, 2,    0.035, 2,    0.000, 4,   2173.9, 2,   2326.6, 2,    7.7542, 2,     25.00, -999.000, 9, -999.000,    -99.6, 2,      3.6,     1.01, 2,      0.0,   2.8699, 27.8468,   3.0814, 2, 2600.5, 2, 250.46, 2, 0.18, 0.09, 0.01, 0.01, -999, 9,  -999.00, 9, -999, -999, 9, -999
49NZ20031106, A10, 7, 1, 14, 12026, 2, 20031110, 947, -29.6075, -41.1617, 3795,   2802.1, 2,   2.9417, 2,  34.9298, 2,  34.9302, 2,    242.2, 1,    250.7, 2,    29.66, 2,    20.44, 2,    -0.01, 2,     1.38, 2,    0.046, 2,    0.027, 2,    0.000, 4,   2174.4, 2,   2328.4, 2,    7.7547, 6,     25.00, -999.000, 9, -999.000,   -111.6, 3,      3.4,     1.02, 2,      0.0,   2.7127, 27.8554,   2.9417, 2, 2802, 2, 250.89, 2, 0.18, 0.09, 0.01, 0.01, -999, 9,  -999.00, 9, -999, -999, 9, -999
49NZ20031106, A10, 7, 1, 13, 12025, 2, 20031110, 947, -29.6075, -41.1617, 3795,   3000.6, 2,   2.7936, 2,  34.9220, 2,  34.9217, 2,    243.0, 1,    251.3, 2,    32.25, 2,    20.59, 2,    -0.01, 2,     1.40, 2,    0.033, 2,    0.020, 2,    0.000, 4,   2177.8, 2,   2332.0, 2,    7.7536, 2,     25.00, -999.000, 9, -999.000,   -103.9, 6,      2.6,     1.00, 6,      0.0,   2.5473, 27.8634,   2.7937, 2, 3000.6, 2, 251.34, 2, 0.19, 0.09, 0.01, 0.01, -999, 9,  -999.00, 9, -999, -999, 9, -999
49NZ20031106, A10, 7, 1, 12, 12024, 2, 20031110, 947, -29.6075, -41.1617, 3795,   3251.2, 2,   2.4432, 2,  34.8945, 2,  34.8938, 2,    241.8, 1,    249.7, 2,    41.48, 2,    21.69, 2,    -0.01, 2,     1.48, 2,    0.024, 2,    0.014, 2,    0.000, 4,   2187.1, 2,   2335.2, 2,    7.7436, 2,     25.00, -999.000, 9, -999.000,   -104.7, 2,      3.3,     0.99, 2,      0.0,   2.1788, 27.8726,   2.4433, 2, 3251.3, 2, 249.6, 2, 0.21, 0.09, 0.01, 0.01, -999, 9,  -999.00, 9, -999, -999, 9, -999
49NZ20031106, A10, 7, 1, 9, 12015, 9, 20031110, 947, -29.6075, -41.1617, 3795,   3401.6, 2,   1.9360, 2,  34.8438, 2, -999.0000, 9,    234.3, 1,   -999.0, 9,  -999.00, 9,  -999.00, 9,  -999.00, 9,  -999.00, 9, -999.000, 9, -999.000, 9, -999.000, 9,   -999.0, 9,   -999.0, 9, -999.0000, 9,   -999.00, -999.000, 9, -999.000,   -999.0, 9,   -999.0,  -999.00, 9,   -999.0,   1.6683, 27.8722,   1.9367, 2, 3400.7, 2, 241.41, 2, -999, -999, -999, -999, -999, 9,  -999.00, 9, -999, -999, 9, -999
49NZ20031106, A10, 7, 1, 11, 12023, 2, 20031110, 947, -29.6075, -41.1617, 3795,   3501.7, 2,   1.4457, 2,  34.7914, 2,  34.7903, 2,    225.5, 1,    232.1, 2,    80.82, 2,    27.06, 2,    -0.01, 2,     1.87, 2,    0.051, 2,    0.023, 2,    0.000, 4,   2224.9, 2,   2355.2, 2,    7.6903, 2,     25.00, -999.000, 9, -999.000,   -126.1, 2,      3.3,     0.73, 2,      0.0,   1.1801, 27.8658,   1.4455, 2, 3501.6, 2, 232.45, 2, 0.3, 0.11, 0.01, 0.01, -999, 9,  -999.00, 9, -999, -999, 9, -999
49NZ20031106, A10, 7, 1, 8, 12020, 9, 20031110, 947, -29.6075, -41.1617, 3795,   3600.6, 2,   1.0184, 2,  34.7463, 2, -999.0000, 9,    219.0, 1,   -999.0, 9,  -999.00, 9,  -999.00, 9,  -999.00, 9,  -999.00, 9, -999.000, 9, -999.000, 9, -999.000, 9,   -999.0, 9,   -999.0, 9, -999.0000, 9,   -999.00, -999.000, 9, -999.000,   -999.0, 9,   -999.0,  -999.00, 9,   -999.0,   0.7540, 27.858,   1.0182, 2, 3600.8, 2, 225.24, 2, -999, -999, -999, -999, -999, 9,  -999.00, 9, -999, -999, 9, -999
49NZ20031106, A10, 7, 1, 10, 12022, 2, 20031110, 947, -29.6075, -41.1617, 3795,   3834.7, 2,   0.4750, 2,  34.6924, 2,  34.6925, 2,    214.8, 1,    219.0, 2,   118.12, 2,    32.04, 2,    -0.01, 2,     2.23, 2,    0.181, 2,    0.085, 2,    0.000, 4,   2258.5, 2,   2364.7, 2,    7.6339, 2,     25.00, -999.000, 9, -999.000,   -149.4, 2,      3.4,     0.54, 2,      0.0,   0.2019, 27.8482,   0.4747, 2, 3834.7, 2, 218.48, 2, 0.38, 0.12, 0.01, 0.02, -999, 9,  -999.00, 9, -999, -999, 9, -999