BOTTLE,20220818CCHSIOAMB
EXPOCODE,SECT_ID,STNNBR,CASTNO,SAMPNO,BTLNBR,BTLNBR_FLAG_W,DATE,TIME,LATITUDE,LONGITUDE,DEPTH,CTDPRS,CTDPRS_FLAG_W,CTDTMP,CTDTMP_FLAG_W,CTDSAL,CTDSAL_FLAG_W,SALNTY,SALNTY_FLAG_W,CTDOXY,CTDOXY_FLAG_W,OXYGEN,OXYGEN_FLAG_W,SILCAT,SILCAT_FLAG_W,NITRAT,NITRAT_FLAG_W,NITRIT,NITRIT_FLAG_W,PHSPHT,PHSPHT_FLAG_W,CFC-11,CFC-11_FLAG_W,CFC-12,CFC-12_FLAG_W,CFC113,CFC113_FLAG_W,TCARBN,TCARBN_FLAG_W,ALKALI,ALKALI_FLAG_W,PH_TOT,PH_TOT_FLAG_W,PH_TMP,TRITUM,TRITUM_FLAG_W,TRITER,DELC14,DELC14_FLAG_W,C14ERR,DELC13,DELC13_FLAG_W,C13ERR,THETA,SIG0,SBE35,SBE35_FLAG_W,DWNPRS,DWNPRS_FLAG_W,DWNOXY,DWNOXY_FLAG_W,SILUNC,NRAUNC,NRIUNC,PHPUNC,TOC,TOC_FLAG_W,CS-137,CS-137_FLAG_W,CS137ER,PLUTO,PLUTO_FLAG_W,PLUTOER
,,,,,,,,,,,METERS,DBAR,,ITS-90,,PSS-78,,PSS-78,,UMOL/KG,,UMOL/KG,,UMOL/KG,,UMOL/KG,,UMOL/KG,,UMOL/KG,,PMOL/KG,,PMOL/KG,,PMOL/KG,,UMOL/KG,,UMOL/KG,,,,DEG C,TU,,TU,/MILLE,,/MILLE,/MILLE,,/MILLE,DEG C,KG/M^3,ITS-90,,DBAR,,UMOL/KG,,UMOL/KG,UMOL/KG,UMOL/KG,UMOL/KG,UMOL/KG,,BQ/M^3,,BQ/M^3,MBQ/M^3,,MBQ/M^3
49NZ20031106, A10, 5, 1, 36, 12048, 2, 20031109, 2221, -29.2282, -42.3242, 4006,      9.6, 2,  20.3027, 2,  36.0175, 2,  36.0032, 3,    216.8, 1,    227.3, 2,     0.78, 2,     0.05, 2,     0.01, 2,     0.04, 2,    2.317, 2,    1.342, 2,    0.259, 4,   2051.8, 2,   2368.2, 2,    8.0294, 2,     25.00, -999.000, 9, -999.000,   -999.0, 9,   -999.0,  -999.00, 9,   -999.0,  20.3009, 25.4578,  20.3043, 2, 14.3, 2, 227.89, 2, 0.12, 0.03, 0.01, 0.04, -999, 1,  -999.00, 9, -999, -999, 9, -999
49NZ20031106, A10, 5, 1, 35, 12047, 2, 20031109, 2221, -29.2282, -42.3242, 4006,     50.1, 2,  20.0958, 2,  36.0221, 2,  36.0208, 2,    217.4, 1,    228.4, 2,     0.75, 2,     0.04, 2,     0.00, 2,     0.05, 2,    2.513, 2,    1.428, 2,    0.287, 4,   2054.4, 6,   2367.0, 2,    8.0310, 2,     25.00, -999.000, 9, -999.000,   -999.0, 9,   -999.0,  -999.00, 9,   -999.0,  20.0865, 25.5193,  20.0956, 2, 50.1, 2, 228.26, 2, 0.12, 0.03, 0.01, 0.03, -999, 1,  -999.00, 9, -999, -999, 9, -999
49NZ20031106, A10, 5, 1, 34, 12046, 2, 20031109, 2221, -29.2282, -42.3242, 4006,    101.0, 2,  19.2280, 2,  36.0358, 2,  36.0358, 2,    219.7, 1,    230.7, 2,     0.76, 2,     0.04, 2,     0.00, 2,     0.06, 2,    2.587, 2,    1.467, 2,    0.272, 4,   2061.2, 2,   2363.6, 6,    8.0252, 2,     25.00, -999.000, 9, -999.000,   -999.0, 9,   -999.0,  -999.00, 9,   -999.0,  19.2098, 25.7598,  19.2280, 2, 103.5, 2, 227.34, 2, 0.12, 0.03, 0.01, 0.03, -999, 1,  -999.00, 9, -999, -999, 9, -999
49NZ20031106, A10, 5, 1, 33, 12045, 2, 20031109, 2221, -29.2282, -42.3242, 4006,    150.3, 2,  18.0211, 2,  35.8892, 2,  35.8945, 2,    214.2, 1,    224.9, 2,     0.87, 2,     0.35, 2,     0.12, 2,     0.14, 2,    2.690, 2,    1.528, 2,    0.229, 4,   2071.1, 2,   2357.2, 2,    7.9947, 6,     25.00, -999.000, 9, -999.000,   -999.0, 9,   -999.0,  -999.00, 9,   -999.0,  17.9951, 25.957,  18.0094, 2, 154.5, 2, 222.72, 2, 0.12, 0.03, 0.01, 0.02, -999, 1,  -999.00, 9, -999, -999, 9, -999
49NZ20031106, A10, 5, 1, 32, 12044, 2, 20031109, 2221, -29.2282, -42.3242, 4006,    199.2, 2,  17.1854, 2,  35.8171, 2,  35.8110, 2,    207.1, 1,    216.8, 2,     1.14, 2,     1.82, 2,     0.01, 2,     0.25, 2,    2.786, 2,    1.559, 2,    0.164, 4,   2082.2, 2,   2351.4, 2,    7.9647, 2,     25.00, -999.000, 9, -999.000,   -999.0, 9,   -999.0,  -999.00, 9,   -999.0,  17.1521, 26.1055,  17.1846, 2, 201.1, 2, 217.37, 2, 0.12, 0.04, 0.01, 0.01, -999, 1,  -999.00, 9, -999, -999, 9, -999
49NZ20031106, A10, 5, 1, 31, 12043, 2, 20031109, 2221, -29.2282, -42.3242, 4006,    251.4, 2,  15.6063, 2,  35.5579, 2,  35.5579, 2,    208.8, 1,    218.0, 2,     1.53, 2,     3.38, 2,     0.00, 2,     0.39, 2,    3.024, 6,    1.667, 6,    0.062, 4,   2088.7, 2,   2339.5, 2,    7.9268, 2,     25.00, -999.000, 9, -999.000,   -999.0, 9,   -999.0,  -999.00, 9,   -999.0,  15.5669, 26.2759,  15.6075, 2, 253, 2, 217.4, 2, 0.12, 0.04, 0.01, 0.01, -999, 1,  -999.00, 9, -999, -999, 9, -999
49NZ20031106, A10, 5, 1, 30, 12042, 2, 20031109, 2221, -29.2282, -42.3242, 4006,    299.8, 2,  14.9290, 2,  35.4627, 2,  35.4617, 2,    207.7, 1,    216.8, 2,     1.75, 2,     4.79, 2,     0.01, 2,     0.46, 2,    3.086, 2,    1.681, 2,    0.070, 4,   2097.4, 2,   2330.8, 2,    7.9114, 2,     25.00, -999.000, 9, -999.000,   -999.0, 9,   -999.0,  -999.00, 9,   -999.0,  14.8834, 26.3548,  14.9285, 2, 300.2, 2, 216.68, 2, 0.12, 0.05, 0.01, 0.01, -999, 1,  -999.00, 9, -999, -999, 9, -999
49NZ20031106, A10, 5, 1, 29, 12041, 2, 20031109, 2221, -29.2282, -42.3242, 4006,    399.0, 2,  13.3892, 2,  35.2693, 2,  35.2709, 2,    204.0, 1,    212.7, 2,     2.75, 2,     8.71, 2,     0.00, 2,     0.69, 2,    3.214, 2,    1.697, 2,    0.054, 4,   2109.3, 2,   2324.5, 2,    7.8692, 2,     25.00, -999.000, 9, -999.000,   -999.0, 9,   -999.0,  -999.00, 9,   -999.0,  13.3327, 26.5336,  13.3886, 2, 400.5, 2, 212.76, 2, 0.13, 0.06, 0.01, 0.01, -999, 1,  -999.00, 9, -999, -999, 9, -999
49NZ20031106, A10, 5, 1, 28, 12040, 2, 20031109, 2221, -29.2282, -42.3242, 4006,    502.2, 2,  11.3409, 2,  34.9833, 2,  34.9856, 2,    201.7, 1,    209.5, 2,     4.64, 2,    13.80, 2,     0.00, 2,     1.01, 2,    3.220, 2,    1.645, 2,    0.071, 4,   2124.9, 2,   2307.9, 2,    7.8127, 2,     25.00, -999.000, 9, -999.000,   -999.0, 9,   -999.0,  -999.00, 9,   -999.0,  11.2769, 26.7123,  11.3342, 2, 504.3, 2, 210.04, 2, 0.13, 0.07, 0.01, 0.01, -999, 1,  -999.00, 9, -999, -999, 9, -999
49NZ20031106, A10, 5, 1, 27, 12039, 2, 20031109, 2221, -29.2282, -42.3242, 4006,    600.2, 2,   9.3530, 2,  34.7289, 2,  34.7291, 2,    199.2, 1,    206.4, 2,     7.70, 2,    18.98, 2,    -0.01, 2,     1.35, 2,    3.122, 2,    1.545, 2,    0.082, 4,   2141.3, 2,   2292.6, 2,    7.7523, 2,     25.00, -999.000, 9, -999.000,   -999.0, 9,   -999.0,  -999.00, 9,   -999.0,   9.2850, 26.8591,   9.3543, 2, 599.4, 2, 206.98, 2, 0.14, 0.09, 0.01, 0.01, -999, 1,  -999.00, 9, -999, -999, 9, -999
49NZ20031106, A10, 5, 1, 26, 12038, 2, 20031109, 2221, -29.2282, -42.3242, 4006,    702.2, 2,   7.3648, 2,  34.5110, 2,  34.5100, 2,    203.8, 1,    211.3, 2,    11.48, 2,    23.59, 2,     0.00, 2,     1.65, 2,    3.108, 2,    1.500, 2,    0.119, 4,   2154.3, 6,   2287.4, 2,    7.7045, 2,     25.00, -999.000, 9, -999.000,   -999.0, 9,   -999.0,  -999.00, 9,   -999.0,   7.2952, 26.9914,   7.3647, 2, 701.8, 2, 211.13, 2, 0.14, 0.1, 0.01, 0.01, -999, 1,  -999.00, 9, -999, -999, 9, -999
49NZ20031106, A10, 5, 1, 25, 12037, 2, 20031109, 2221, -29.2282, -42.3242, 4006,    800.2, 2,   5.7653, 2,  34.3731, 2,  34.3727, 2,    211.3, 1,    219.3, 2,    16.19, 2,    26.72, 2,     0.01, 2,     1.85, 2,    2.893, 2,    1.354, 2,    0.111, 4,   2163.8, 2,   2285.7, 6,    7.6729, 2,     25.00, -999.000, 9, -999.000,   -999.0, 9,   -999.0,  -999.00, 9,   -999.0,   5.6953, 27.0953,   5.7635, 2, 799.9, 2, 218.92, 2, 0.15, 0.11, 0.01, 0.01, -999, 1,  -999.00, 9, -999, -999, 9, -999
49NZ20031106, A10, 5, 1, 24, 12036, 2, 20031109, 2221, -29.2282, -42.3242, 4006,    901.5, 2,   4.7249, 2,  34.3191, 2,  34.3186, 2,    212.4, 1,    220.3, 2,    22.52, 2,    29.05, 2,     0.00, 2,     2.00, 2,    2.523, 2,    1.162, 2,    0.094, 4,   2178.0, 2,   2286.7, 2,    7.6686, 2,     25.00, -999.000, 9, -999.000,   -999.0, 9,   -999.0,  -999.00, 9,   -999.0,   4.6526, 27.1742,   4.7249, 2, 903, 2, 220.25, 2, 0.17, 0.11, 0.01, 0.02, -999, 1,  -999.00, 9, -999, -999, 9, -999
49NZ20031106, A10, 5, 1, 23, 12035, 2, 20031109, 2221, -29.2282, -42.3242, 4006,   1001.3, 2,   3.9631, 2,  34.3137, 2,  34.3137, 2,    208.2, 1,    216.4, 2,    30.05, 2,    30.75, 2,    -0.01, 2,     2.12, 2,    1.960, 6,    0.899, 6,    0.063, 4,   2190.3, 2,   2299.7, 2,    7.6328, 2,     25.00, -999.000, 9, -999.000,   -999.0, 9,   -999.0,  -999.00, 9,   -999.0,   3.8879, 27.2515,   3.9620, 2, 1002.9, 2, 216.89, 2, 0.19, 0.12, 0.01, 0.02, -999, 1,  -999.00, 9, -999, -999, 9, -999
49NZ20031106, A10, 5, 1, 5, 12017, 9, 20031109, 2221, -29.2282, -42.3242, 4006,   1001.4, 2,   3.9632, 2,  34.3138, 2, -999.0000, 9,    208.5, 1,   -999.0, 9,  -999.00, 9,  -999.00, 9,  -999.00, 9,  -999.00, 9, -999.000, 9, -999.000, 9, -999.000, 9,   -999.0, 9,   -999.0, 9, -999.0000, 9,   -999.00, -999.000, 9, -999.000,   -999.0, 9,   -999.0,  -999.00, 9,   -999.0,   3.8880, 27.2515,   3.9632, 2, 1003, 2, 216.89, 2, -999, -999, -999, -999, -999, 9,  -999.00, 9, -999, -999, 9, -999
49NZ20031106, A10, 5, 1, 4, 12016, 9, 20031109, 2221, -29.2282, -42.3242, 4006,   1001.5, 2,   3.9633, 2,  34.3138, 2, -999.0000, 9,    208.3, 1,   -999.0, 9,  -999.00, 9,  -999.00, 9,  -999.00, 9,  -999.00, 9, -999.000, 9, -999.000, 9, -999.000, 9,   -999.0, 9,   -999.0, 9, -999.0000, 9,   -999.00, -999.000, 9, -999.000,   -999.0, 9,   -999.0,  -999.00, 9,   -999.0,   3.8881, 27.2515,   3.9635, 2, 1003.1, 2, 216.89, 2, -999, -999, -999, -999, -999, 9,  -999.00, 9, -999, -999, 9, -999
49NZ20031106, A10, 5, 1, 6, 12018, 9, 20031109, 2221, -29.2282, -42.3242, 4006,   1001.8, 2,   3.9635, 2,  34.3137, 2, -999.0000, 9,    208.6, 1,   -999.0, 9,  -999.00, 9,  -999.00, 9,  -999.00, 9,  -999.00, 9, -999.000, 9, -999.000, 9, -999.000, 9,   -999.0, 9,   -999.0, 9, -999.0000, 9,   -999.00, -999.000, 9, -999.000,   -999.0, 9,   -999.0,  -999.00, 9,   -999.0,   3.8883, 27.2515,   3.9633, 2, 1003.3, 2, 216.89, 2, -999, -999, -999, -999, -999, 9,  -999.00, 9, -999, -999, 9, -999
49NZ20031106, A10, 5, 1, 3, 12012, 9, 20031109, 2221, -29.2282, -42.3242, 4006,   1001.9, 2,   3.9642, 2,  34.3137, 2, -999.0000, 9,    208.4, 1,   -999.0, 9,  -999.00, 9,  -999.00, 9,  -999.00, 9,  -999.00, 9, -999.000, 9, -999.000, 9, -999.000, 9,   -999.0, 9,   -999.0, 9, -999.0000, 9,   -999.00, -999.000, 9, -999.000,   -999.0, 9,   -999.0,  -999.00, 9,   -999.0,   3.8890, 27.2513,   3.9643, 2, 1003.3, 2, 216.88, 2, -999, -999, -999, -999, -999, 9,  -999.00, 9, -999, -999, 9, -999
49NZ20031106, A10, 5, 1, 2, 12014, 9, 20031109, 2221, -29.2282, -42.3242, 4006,   1002.1, 2,   3.9643, 2,  34.3138, 2, -999.0000, 9,    208.3, 1,   -999.0, 9,  -999.00, 9,  -999.00, 9,  -999.00, 9,  -999.00, 9, -999.000, 9, -999.000, 9, -999.000, 9,   -999.0, 9,   -999.0, 9, -999.0000, 9,   -999.00, -999.000, 9, -999.000,   -999.0, 9,   -999.0,  -999.00, 9,   -999.0,   3.8891, 27.2513,   3.9644, 2, 1003.4, 2, 216.87, 2, -999, -999, -999, -999, -999, 9,  -999.00, 9, -999, -999, 9, -999
49NZ20031106, A10, 5, 1, 22, 12034, 2, 20031109, 2221, -29.2282, -42.3242, 4006,   1199.6, 2,   3.3358, 2,  34.4123, 2,  34.4113, 2,    189.0, 1,    196.4, 2,    44.33, 2,    32.55, 2,    -0.01, 2,     2.25, 2,    0.810, 2,    0.395, 2,    0.000, 4,   2210.9, 2,   2313.8, 2,    7.6056, 2,     25.00, -999.000, 9, -999.000,   -999.0, 9,   -999.0,  -999.00, 9,   -999.0,   3.2496, 27.3929,   3.3348, 2, 1198.9, 2, 196.12, 2, 0.22, 0.12, 0.01, 0.02, -999, 1,  -999.00, 9, -999, -999, 9, -999
49NZ20031106, A10, 5, 1, 21, 12033, 2, 20031109, 2221, -29.2282, -42.3242, 4006,   1402.1, 2,   3.0444, 2,  34.5437, 2,  34.5447, 2,    181.5, 1,    188.1, 2,    52.38, 2,    32.17, 2,    -0.01, 2,     2.22, 2,    0.227, 2,    0.127, 2,    0.000, 4,   2225.9, 2,   2323.2, 2,    7.5993, 2,     25.00, -999.000, 9, -999.000,   -999.0, 9,   -999.0,  -999.00, 9,   -999.0,   2.9443, 27.5261,   3.0449, 2, 1402.2, 2, 188.06, 2, 0.23, 0.12, 0.01, 0.02, -999, 1,  -999.00, 9, -999, -999, 9, -999
49NZ20031106, A10, 5, 1, 20, 12032, 2, 20031109, 2221, -29.2282, -42.3242, 4006,   1601.9, 2,   2.9977, 2,  34.6554, 2,  34.6562, 2,    186.5, 1,    193.2, 2,    52.22, 2,    30.23, 2,     0.00, 2,     2.09, 2,    0.073, 2,    0.045, 2,    0.000, 4,   2225.0, 2,   2320.1, 2,    7.6173, 2,     25.00, -999.000, 9, -999.000,   -999.0, 9,   -999.0,  -999.00, 9,   -999.0,   2.8811, 27.6212,   2.9976, 2, 1600.6, 2, 193.56, 2, 0.23, 0.12, 0.01, 0.02, -999, 1,  -999.00, 9, -999, -999, 9, -999
49NZ20031106, A10, 5, 1, 19, 12031, 2, 20031109, 2221, -29.2282, -42.3242, 4006,   1801.3, 2,   3.1633, 2,  34.7876, 2,  34.7890, 2,    203.8, 1,    211.0, 2,    43.43, 2,    26.60, 2,    -0.01, 2,     1.82, 2,    0.040, 2,    0.028, 2,    0.000, 4,   2205.2, 2,   2324.3, 3,    7.6592, 2,     25.00, -999.000, 9, -999.000,   -999.0, 9,   -999.0,  -999.00, 9,   -999.0,   3.0268, 27.7135,   3.1650, 2, 1800.9, 2, 210.29, 2, 0.21, 0.11, 0.01, 0.01, -999, 1,  -999.00, 9, -999, -999, 9, -999
49NZ20031106, A10, 5, 1, 18, 12030, 2, 20031109, 2221, -29.2282, -42.3242, 4006,   2000.2, 2,   3.4832, 2,  34.8990, 2,  34.8995, 2,    223.3, 1,    232.1, 2,    29.53, 2,    22.58, 2,     0.00, 2,     1.54, 2,    0.076, 2,    0.045, 2,    0.000, 4,   2185.0, 2,   2313.6, 2,    7.7008, 6,     25.00, -999.000, 9, -999.000,   -999.0, 9,   -999.0,  -999.00, 9,   -999.0,   3.3235, 27.7744,   3.4832, 2, 1999.3, 2, 229.04, 2, 0.18, 0.1, 0.01, 0.01, -999, 1,  -999.00, 9, -999, -999, 9, -999
49NZ20031106, A10, 5, 1, 1, 12013, 2, 20031109, 2221, -29.2282, -42.3242, 4006,   2201.3, 2,   3.3715, 2,  34.9255, 2,  34.9254, 2,    232.9, 1,    242.2, 2,    27.19, 2,    21.27, 2,    -0.01, 2,     1.45, 2,    0.081, 2,    0.047, 2,    0.000, 4,   2175.5, 2,   2315.8, 2,    7.7338, 2,     25.00, -999.000, 9, -999.000,   -999.0, 9,   -999.0,  -999.00, 9,   -999.0,   3.1943, 27.8078,   3.3714, 2, 2201.3, 2, 240.73, 2, 0.18, 0.09, 0.01, 0.01, -999, 1,  -999.00, 9, -999, -999, 9, -999
49NZ20031106, A10, 5, 1, 16, 12028, 2, 20031109, 2221, -29.2282, -42.3242, 4006,   2401.6, 2,   3.2401, 2,  34.9330, 2,  34.9339, 2,    237.6, 1,    247.0, 2,    26.74, 2,    20.68, 2,     0.00, 2,     1.40, 2,    0.060, 2,    0.044, 2,    0.000, 4,   2174.6, 6,   2326.2, 3,    7.7268, 2,     25.00, -999.000, 9, -999.000,   -999.0, 9,   -999.0,  -999.00, 9,   -999.0,   3.0456, 27.828,   3.2407, 2, 2401.4, 2, 247.41, 2, 0.18, 0.09, 0.01, 0.01, -999, 1,  -999.00, 9, -999, -999, 9, -999
49NZ20031106, A10, 5, 1, 15, 12027, 2, 20031109, 2221, -29.2282, -42.3242, 4006,   2601.0, 2,   3.1296, 2,  34.9389, 2,  34.9390, 2,    241.3, 1,    250.7, 2,    26.79, 2,    20.15, 2,     0.00, 2,     1.38, 2,    0.072, 2,    0.064, 2,    0.000, 4,   2173.7, 2,   2321.8, 6,    7.7332, 2,     25.00, -999.000, 9, -999.000,   -999.0, 9,   -999.0,  -999.00, 9,   -999.0,   2.9172, 27.8446,   3.1296, 2, 2600.4, 2, 249.87, 2, 0.18, 0.09, 0.01, 0.01, -999, 1,  -999.00, 9, -999, -999, 9, -999
49NZ20031106, A10, 5, 1, 14, 12026, 2, 20031109, 2221, -29.2282, -42.3242, 4006,   2799.9, 2,   2.9720, 2,  34.9300, 2,  34.9299, 2,    241.4, 1,    250.6, 2,    29.39, 2,    20.48, 2,    -0.01, 2,     1.39, 2,    0.040, 2,    0.029, 2,    0.000, 4,   2175.2, 2,   2320.9, 2,    7.7344, 6,     25.00, -999.000, 9, -999.000,   -999.0, 9,   -999.0,  -999.00, 9,   -999.0,   2.7426, 27.8533,   2.9720, 2, 2799.6, 2, 250.52, 2, 0.18, 0.09, 0.01, 0.01, -999, 1,  -999.00, 9, -999, -999, 9, -999
49NZ20031106, A10, 5, 1, 13, 12025, 2, 20031109, 2221, -29.2282, -42.3242, 4006,   3001.4, 2,   2.8201, 2,  34.9223, 2,  34.9226, 2,    242.1, 1,    251.2, 2,    31.87, 2,    20.57, 2,    -0.01, 2,     1.40, 2,    0.044, 2,    0.020, 2,    0.000, 4,   2177.8, 2,   2332.7, 3,    7.7392, 2,     25.00, -999.000, 9, -999.000,   -999.0, 9,   -999.0,  -999.00, 9,   -999.0,   2.5732, 27.8621,   2.8201, 2, 3001, 2, 251.14, 2, 0.19, 0.09, 0.01, 0.01, -999, 1,  -999.00, 9, -999, -999, 9, -999
49NZ20031106, A10, 5, 1, 12, 12024, 2, 20031109, 2221, -29.2282, -42.3242, 4006,   3249.8, 2,   2.5711, 2,  34.9041, 2,  34.9038, 2,    242.0, 1,    250.5, 2,    38.15, 2,    21.23, 2,     0.00, 2,     1.45, 2,    0.031, 2,    0.021, 2,    0.000, 4,   2183.7, 2,   2325.6, 2,    7.7383, 2,     25.00, -999.000, 9, -999.000,   -999.0, 9,   -999.0,  -999.00, 9,   -999.0,   2.3038, 27.8706,   2.5714, 2, 3249.5, 2, 250.48, 2, 0.2, 0.09, 0.01, 0.01, -999, 1,  -999.00, 9, -999, -999, 9, -999
49NZ20031106, A10, 5, 1, 8, 12020, 9, 20031109, 2221, -29.2282, -42.3242, 4006,   3401.2, 2,   2.2680, 2,  34.8761, 2, -999.0000, 9,    239.0, 1,   -999.0, 9,  -999.00, 9,  -999.00, 9,  -999.00, 9,  -999.00, 9, -999.000, 9, -999.000, 9, -999.000, 9,   -999.0, 9,   -999.0, 9, -999.0000, 9,   -999.00, -999.000, 9, -999.000,   -999.0, 9,   -999.0,  -999.00, 9,   -999.0,   1.9921, 27.8737,   2.2680, 2, 3401.5, 2, 247.31, 2, -999, -999, -999, -999, -999, 9,  -999.00, 9, -999, -999, 9, -999
49NZ20031106, A10, 5, 1, 11, 12023, 2, 20031109, 2221, -29.2282, -42.3242, 4006,   3499.6, 2,   1.8344, 2,  34.8322, 2,  34.8317, 2,    232.2, 1,    239.9, 2,    65.20, 2,    24.87, 2,     0.00, 2,     1.72, 2,    0.034, 2,    0.022, 2,    0.000, 4,   2207.0, 2,   2344.6, 2,    7.7040, 2,     25.00, -999.000, 9, -999.000,   -999.0, 9,   -999.0,  -999.00, 9,   -999.0,   1.5591, 27.8718,   1.8342, 2, 3499.6, 2, 240.14, 2, 0.26, 0.1, 0.01, 0.01, -999, 1,  -999.00, 9, -999, -999, 9, -999
49NZ20031106, A10, 5, 1, 7, 12019, 9, 20031109, 2221, -29.2282, -42.3242, 4006,   3599.9, 2,   1.3905, 2,  34.7853, 2, -999.0000, 9,    224.6, 1,   -999.0, 9,  -999.00, 9,  -999.00, 9,  -999.00, 9,  -999.00, 9, -999.000, 9, -999.000, 9, -999.000, 9,   -999.0, 9,   -999.0, 9, -999.0000, 9,   -999.00, -999.000, 9, -999.000,   -999.0, 9,   -999.0,  -999.00, 9,   -999.0,   1.1163, 27.8659,   1.3902, 2, 3599.5, 2, 231.74, 2, -999, -999, -999, -999, -999, 9,  -999.00, 9, -999, -999, 9, -999
49NZ20031106, A10, 5, 1, 17, 12029, 2, 20031109, 2221, -29.2282, -42.3242, 4006,   3749.9, 2,   1.0121, 2,  34.7451, 2,  34.7449, 2,    219.0, 1,    225.1, 2,    98.42, 2,    29.49, 2,     0.00, 2,     2.05, 2,    0.096, 2,    0.056, 2,    0.000, 4,   2244.6, 2,   2352.5, 2,    7.6446, 2,     25.00, -999.000, 9, -999.000,   -999.0, 9,   -999.0,  -999.00, 9,   -999.0,   0.7327, 27.8588,   1.0105, 2, 3750, 2, 225.08, 2, 0.34, 0.12, 0.01, 0.02, -999, 9,  -999.00, 9, -999, -999, 9, -999
49NZ20031106, A10, 5, 1, 10, 12022, 2, 20031109, 2221, -29.2282, -42.3242, 4006,   3749.9, 2,   1.0094, 2,  34.7449, 2,  34.7440, 2,    218.9, 1,    225.1, 2,    98.86, 2,    29.49, 2,     0.01, 2,     2.05, 2,    0.093, 2,    0.057, 2,    0.000, 4,   2240.8, 2,   2360.3, 2,    7.6560, 2,     25.00, -999.000, 9, -999.000,   -999.0, 9,   -999.0,  -999.00, 9,   -999.0,   0.7301, 27.8587,   1.0088, 2, 3750, 2, 225.08, 2, 0.34, 0.12, 0.01, 0.02, -999, 1,  -999.00, 9, -999, -999, 9, -999
49NZ20031106, A10, 5, 1, 9, 12015, 2, 20031109, 2221, -29.2282, -42.3242, 4006,   4054.0, 2,   0.4679, 2,  34.6905, 2,  34.6908, 2,    214.8, 1,    219.2, 2,   119.43, 2,    32.10, 2,    -0.01, 2,     2.24, 2,    0.174, 2,    0.104, 2,    0.000, 4,   2261.7, 2,   2375.8, 2,    7.6293, 2,     25.00, -999.000, 9, -999.000,   -999.0, 9,   -999.0,  -999.00, 9,   -999.0,   0.1727, 27.8486,   0.4676, 2, 4054, 2, 218.03, 2, 0.38, 0.12, 0.01, 0.02, -999, 1,  -999.00, 9, -999, -999, 9, -999