BOTTLE,20220818CCHSIOAMB
EXPOCODE,SECT_ID,STNNBR,CASTNO,SAMPNO,BTLNBR,BTLNBR_FLAG_W,DATE,TIME,LATITUDE,LONGITUDE,DEPTH,CTDPRS,CTDPRS_FLAG_W,CTDTMP,CTDTMP_FLAG_W,CTDSAL,CTDSAL_FLAG_W,SALNTY,SALNTY_FLAG_W,CTDOXY,CTDOXY_FLAG_W,OXYGEN,OXYGEN_FLAG_W,SILCAT,SILCAT_FLAG_W,NITRAT,NITRAT_FLAG_W,NITRIT,NITRIT_FLAG_W,PHSPHT,PHSPHT_FLAG_W,CFC-11,CFC-11_FLAG_W,CFC-12,CFC-12_FLAG_W,CFC113,CFC113_FLAG_W,TCARBN,TCARBN_FLAG_W,ALKALI,ALKALI_FLAG_W,PH_TOT,PH_TOT_FLAG_W,PH_TMP,TRITUM,TRITUM_FLAG_W,TRITER,DELC14,DELC14_FLAG_W,C14ERR,DELC13,DELC13_FLAG_W,C13ERR,THETA,SIG0,SBE35,SBE35_FLAG_W,DWNPRS,DWNPRS_FLAG_W,DWNOXY,DWNOXY_FLAG_W,SILUNC,NRAUNC,NRIUNC,PHPUNC,TOC,TOC_FLAG_W,CS-137,CS-137_FLAG_W,CS137ER,PLUTO,PLUTO_FLAG_W,PLUTOER
,,,,,,,,,,,METERS,DBAR,,ITS-90,,PSS-78,,PSS-78,,UMOL/KG,,UMOL/KG,,UMOL/KG,,UMOL/KG,,UMOL/KG,,UMOL/KG,,PMOL/KG,,PMOL/KG,,PMOL/KG,,UMOL/KG,,UMOL/KG,,,,DEG C,TU,,TU,/MILLE,,/MILLE,/MILLE,,/MILLE,DEG C,KG/M^3,ITS-90,,DBAR,,UMOL/KG,,UMOL/KG,UMOL/KG,UMOL/KG,UMOL/KG,UMOL/KG,,BQ/M^3,,BQ/M^3,MBQ/M^3,,MBQ/M^3
49NZ20031106, A10, 25, 1, 3, 12012, 2, 20031113, 1050, -29.9963, -33.9977, 1999,      4.7, 2,  20.0411, 2,  36.0647, 2, -999.0000, 9,    217.4, 1,   -999.0, 9,  -999.00, 9,  -999.00, 9,  -999.00, 9,  -999.00, 9, -999.000, 9, -999.000, 9, -999.000, 9,   -999.0, 9,   -999.0, 9, -999.0000, 9,   -999.00, -999.000, 1, -999.000,   -999.0, 9,   -999.0,  -999.00, 9,   -999.0,  20.0402, 25.5649,  20.0425, 2, 2.2, 2, 228.27, 2, -999, -999, -999, -999, -999, 9,  -999.00, 9, -999, -999, 9, -999
49NZ20031106, A10, 25, 1, 2, 12014, 2, 20031113, 1050, -29.9963, -33.9977, 1999,      4.8, 2,  20.0312, 2,  36.0644, 2, -999.0000, 9,    217.4, 1,   -999.0, 9,  -999.00, 9,  -999.00, 9,  -999.00, 9,  -999.00, 9, -999.000, 9, -999.000, 9, -999.000, 9,   -999.0, 9,   -999.0, 9, -999.0000, 9,   -999.00, -999.000, 1, -999.000,   -999.0, 9,   -999.0,  -999.00, 9,   -999.0,  20.0303, 25.5676,  20.0310, 2, 2.8, 2, 228.27, 2, -999, -999, -999, -999, -999, 9,  -999.00, 9, -999, -999, 9, -999
49NZ20031106, A10, 25, 1, 36, 12048, 2, 20031113, 1050, -29.9963, -33.9977, 1999,      9.4, 2,  20.0317, 2,  36.0641, 2,  36.0641, 2,    217.5, 1,    228.6, 2,     0.85, 2,     0.02, 2,     0.00, 2,     0.05, 2,    2.472, 2,    1.375, 2,    0.257, 4,   2063.8, 2,   2366.8, 2,    8.0293, 2,     25.00, -999.000, 9, -999.000,   -999.0, 9,   -999.0,  -999.00, 9,   -999.0,  20.0300, 25.5674,  20.0314, 2, 6.9, 2, 228.55, 2, 0.12, 0.03, 0.01, 0.03, -999, 1,  -999.00, 9, -999, -999, 9, -999
49NZ20031106, A10, 25, 1, 35, 12047, 2, 20031113, 1050, -29.9963, -33.9977, 1999,     49.4, 2,  19.1454, 2,  35.9983, 2,  35.9983, 2,    220.8, 1,    232.4, 2,     0.85, 2,     0.02, 2,     0.01, 2,     0.05, 2,    2.512, 2,    1.413, 2,    0.255, 4,   2062.3, 6,   2363.2, 2,    8.0263, 2,     25.00, -999.000, 9, -999.000,   -999.0, 9,   -999.0,  -999.00, 9,   -999.0,  19.1365, 25.7515,  19.1444, 2, 50.6, 2, 233.14, 2, 0.12, 0.03, 0.01, 0.03, -999, 1,  -999.00, 9, -999, -999, 9, -999
49NZ20031106, A10, 25, 1, 1, 12013, 9, 20031113, 1050, -29.9963, -33.9977, 1999,     49.5, 2,  19.1469, 2,  35.9989, 2, -999.0000, 9,    221.1, 1,   -999.0, 9,  -999.00, 9,  -999.00, 9,  -999.00, 9,  -999.00, 9, -999.000, 9, -999.000, 9, -999.000, 9,   -999.0, 9,   -999.0, 9, -999.0000, 9,   -999.00, -999.000, 9, -999.000,   -999.0, 9,   -999.0,  -999.00, 9,   -999.0,  19.1380, 25.7515,  19.1480, 2, 50.6, 2, 233.13, 2, -999, -999, -999, -999, -999, 9,  -999.00, 9, -999, -999, 9, -999
49NZ20031106, A10, 25, 1, 34, 12046, 2, 20031113, 1050, -29.9963, -33.9977, 1999,    102.2, 2,  18.0243, 2,  35.8605, 2,  35.8624, 2,    218.9, 1,    229.6, 2,     0.93, 2,     0.06, 2,     0.02, 2,     0.12, 2,    2.580, 2,    1.449, 2,    0.231, 4,   2070.6, 2,   2355.5, 6,    8.0043, 2,     25.00, -999.000, 9, -999.000,   -999.0, 9,   -999.0,  -999.00, 9,   -999.0,  18.0067, 25.9309,  18.0253, 2, 98.5, 2, 228.35, 2, 0.12, 0.03, 0.01, 0.02, -999, 1,  -999.00, 9, -999, -999, 9, -999
49NZ20031106, A10, 25, 1, 33, 12045, 2, 20031113, 1050, -29.9963, -33.9977, 1999,    151.4, 2,  16.4977, 2,  35.6766, 2,  35.6793, 2,    205.4, 1,    215.2, 2,     1.35, 2,     2.56, 2,     0.04, 2,     0.31, 2,    2.778, 2,    1.532, 2,    0.168, 4,   2090.1, 2,   2344.3, 2,    7.9520, 6,     25.00, -999.000, 9, -999.000,   -999.0, 9,   -999.0,  -999.00, 9,   -999.0,  16.4731, 26.1599,  16.4980, 2, 145.8, 2, 213.87, 2, 0.12, 0.04, 0.01, 0.01, -999, 1,  -999.00, 9, -999, -999, 9, -999
49NZ20031106, A10, 25, 1, 32, 12044, 2, 20031113, 1050, -29.9963, -33.9977, 1999,    200.2, 2,  15.2338, 2,  35.5197, 2,  35.5196, 2,    204.0, 1,    213.3, 2,     1.79, 2,     4.74, 2,     0.02, 2,     0.44, 2,    2.966, 2,    1.609, 2,    0.098, 4,   2099.2, 2,   2336.2, 2,    7.9222, 2,     25.00, -999.000, 9, -999.000,   -999.0, 9,   -999.0,  -999.00, 9,   -999.0,  15.2030, 26.3281,  15.2370, 2, 196.8, 2, 213.21, 2, 0.12, 0.05, 0.01, 0.01, -999, 1,  -999.00, 9, -999, -999, 9, -999
49NZ20031106, A10, 25, 1, 31, 12043, 2, 20031113, 1050, -29.9963, -33.9977, 1999,    251.9, 2,  14.4342, 2,  35.4268, 2,  35.4237, 2,    205.1, 1,    213.7, 2,     2.14, 2,     6.45, 2,     0.01, 2,     0.54, 2,    2.990, 6,    1.610, 6,    0.077, 4,   2104.2, 2,   2329.1, 2,    7.9033, 2,     25.00, -999.000, 9, -999.000,   -999.0, 9,   -999.0,  -999.00, 9,   -999.0,  14.3968, 26.4333,  14.4346, 2, 250.5, 2, 213.9, 2, 0.12, 0.05, 0.01, 0.01, -999, 1,  -999.00, 9, -999, -999, 9, -999
49NZ20031106, A10, 25, 1, 30, 12042, 2, 20031113, 1050, -29.9963, -33.9977, 1999,    300.6, 2,  13.6183, 2,  35.3199, 2,  35.3187, 2,    204.8, 1,    213.4, 2,     2.61, 2,     8.30, 2,     0.01, 2,     0.66, 2,    3.149, 2,    1.683, 2,    0.082, 4,   2111.6, 2,   2327.1, 2,    7.8842, 2,     25.00, -999.000, 9, -999.000,   -999.0, 9,   -999.0,  -999.00, 9,   -999.0,  13.5754, 26.5237,  13.6164, 2, 303.4, 2, 213.47, 2, 0.12, 0.06, 0.01, 0.01, -999, 1,  -999.00, 9, -999, -999, 9, -999
49NZ20031106, A10, 25, 1, 29, 12041, 2, 20031113, 1050, -29.9963, -33.9977, 1999,    400.5, 2,  12.0652, 2,  35.0904, 2,  35.0904, 2,    202.8, 1,    210.9, 2,     3.86, 2,    12.04, 2,     0.01, 2,     0.90, 2,    3.080, 2,    1.596, 2,    0.076, 4,   2121.8, 2,   2312.5, 2,    7.8407, 2,     25.00, -999.000, 9, -999.000,   -999.0, 9,   -999.0,  -999.00, 9,   -999.0,  12.0123, 26.6579,  12.0648, 2, 403.2, 2, 210.8, 2, 0.13, 0.07, 0.01, 0.01, -999, 1,  -999.00, 9, -999, -999, 9, -999
49NZ20031106, A10, 25, 1, 28, 12040, 2, 20031113, 1050, -29.9963, -33.9977, 1999,    500.1, 2,   9.9442, 2,  34.8026, 2,  34.8024, 2,    201.9, 1,    209.1, 2,     6.48, 2,    17.36, 2,     0.01, 2,     1.23, 2,    3.069, 2,    1.526, 2,    0.096, 4,   2133.4, 2,   2297.7, 2,    7.7815, 2,     25.00, -999.000, 9, -999.000,   -999.0, 9,   -999.0,  -999.00, 9,   -999.0,   9.8856, 26.8171,   9.9430, 2, 501.6, 2, 209.18, 2, 0.13, 0.08, 0.01, 0.01, -999, 1,  -999.00, 9, -999, -999, 9, -999
49NZ20031106, A10, 25, 1, 27, 12039, 2, 20031113, 1050, -29.9963, -33.9977, 1999,    600.4, 2,   7.7926, 2,  34.5511, 2,  34.5516, 2,    207.5, 1,    214.6, 2,     9.87, 2,    22.05, 2,     0.00, 2,     1.53, 2,    3.117, 2,    1.523, 2,    0.134, 4,   2150.4, 2,   2285.9, 2,    7.7309, 2,     25.00, -999.000, 9, -999.000,   -999.0, 9,   -999.0,  -999.00, 9,   -999.0,   7.7316, 26.9602,   7.7943, 2, 603.3, 2, 214.37, 2, 0.14, 0.09, 0.01, 0.01, -999, 1,  -999.00, 9, -999, -999, 9, -999
49NZ20031106, A10, 25, 1, 26, 12038, 2, 20031113, 1050, -29.9963, -33.9977, 1999,    700.8, 2,   6.1432, 2,  34.3856, 2,  34.3854, 2,    218.9, 1,    226.5, 2,    13.17, 2,    25.04, 2,     0.00, 2,     1.73, 2,    3.108, 2,    1.499, 2,    0.147, 4,   2157.8, 6,   2286.2, 2,    7.7012, 2,     25.00, -999.000, 9, -999.000,   -999.0, 9,   -999.0,  -999.00, 9,   -999.0,   6.0804, 27.0566,   6.1423, 2, 701.8, 2, 225.51, 2, 0.15, 0.1, 0.01, 0.01, -999, 1,  -999.00, 9, -999, -999, 9, -999
49NZ20031106, A10, 25, 1, 25, 12037, 2, 20031113, 1050, -29.9963, -33.9977, 1999,    800.0, 2,   4.9633, 2,  34.3057, 2,  34.3058, 2,    222.9, 1,    230.6, 2,    18.24, 2,    27.54, 2,     0.00, 2,     1.90, 2,    2.909, 2,    1.380, 2,    0.152, 4,   2167.9, 2,   2286.3, 6,    7.6801, 2,     25.00, -999.000, 9, -999.000,   -999.0, 9,   -999.0,  -999.00, 9,   -999.0,   4.8983, 27.1364,   4.9624, 2, 801.5, 2, 230.06, 2, 0.16, 0.11, 0.01, 0.01, -999, 1,  -999.00, 9, -999, -999, 9, -999
49NZ20031106, A10, 25, 1, 24, 12036, 2, 20031113, 1050, -29.9963, -33.9977, 1999,    900.1, 2,   4.0985, 2,  34.2980, 2,  34.2985, 2,    215.2, 1,    222.4, 2,    26.70, 2,    29.99, 2,     0.00, 2,     2.05, 2,    2.132, 2,    1.003, 2,    0.094, 4,   2185.2, 2,   2291.0, 2,    7.6494, 2,     25.00, -999.000, 9, -999.000,   -999.0, 9,   -999.0,  -999.00, 9,   -999.0,   4.0307, 27.2244,   4.0973, 2, 902.5, 2, 223.04, 2, 0.18, 0.12, 0.01, 0.02, -999, 1,  -999.00, 9, -999, -999, 9, -999
49NZ20031106, A10, 25, 1, 4, 12016, 9, 20031113, 1050, -29.9963, -33.9977, 1999,    999.5, 2,   3.6172, 2,  34.3286, 2, -999.0000, 9,    205.7, 1,   -999.0, 9,  -999.00, 9,  -999.00, 9,  -999.00, 9,  -999.00, 9, -999.000, 9, -999.000, 9, -999.000, 9,   -999.0, 9,   -999.0, 9, -999.0000, 9,   -999.00, -999.000, 9, -999.000,   -999.0, 9,   -999.0,  -999.00, 9,   -999.0,   3.5448, 27.2971,   3.6177, 2, 1002.1, 2, 213.82, 2, -999, -999, -999, -999, -999, 9,  -999.00, 9, -999, -999, 9, -999
49NZ20031106, A10, 25, 1, 13, 12025, 9, 20031113, 1050, -29.9963, -33.9977, 1999,    999.7, 2,   3.6171, 2,  34.3286, 2, -999.0000, 9,    205.9, 1,   -999.0, 9,  -999.00, 9,  -999.00, 9,  -999.00, 9,  -999.00, 9, -999.000, 9, -999.000, 9, -999.000, 9,   -999.0, 9,   -999.0, 9, -999.0000, 9,   -999.00, -999.000, 9, -999.000,   -999.0, 9,   -999.0,  -999.00, 9,   -999.0,   3.5447, 27.2978,   3.6163, 2, 1002.2, 2, 213.78, 2, -999, -999, -999, -999, -999, 9,  -999.00, 9, -999, -999, 9, -999
49NZ20031106, A10, 25, 1, 9, 12015, 9, 20031113, 1050, -29.9963, -33.9977, 1999,    999.8, 2,   3.6148, 2,  34.3288, 2, -999.0000, 9,    205.8, 1,   -999.0, 9,  -999.00, 9,  -999.00, 9,  -999.00, 9,  -999.00, 9, -999.000, 9, -999.000, 9, -999.000, 9,   -999.0, 9,   -999.0, 9, -999.0000, 9,   -999.00, -999.000, 9, -999.000,   -999.0, 9,   -999.0,  -999.00, 9,   -999.0,   3.5424, 27.298,   3.6152, 2, 1002.4, 2, 213.75, 2, -999, -999, -999, -999, -999, 9,  -999.00, 9, -999, -999, 9, -999
49NZ20031106, A10, 25, 1, 23, 12035, 2, 20031113, 1050, -29.9963, -33.9977, 1999,    999.9, 2,   3.6149, 2,  34.3289, 2,  34.3287, 2,    205.6, 1,    212.6, 2,    34.62, 2,    31.37, 2,     0.00, 2,     2.16, 2,    1.546, 6,    0.714, 6,    0.067, 4,   2199.1, 2,   2299.3, 2,    7.6318, 2,     25.00, -999.000, 9, -999.000,   -999.0, 9,   -999.0,  -999.00, 9,   -999.0,   3.5425, 27.2982,   3.6154, 2, 1002.4, 2, 213.74, 2, 0.2, 0.12, 0.01, 0.02, -999, 1,  -999.00, 9, -999, -999, 9, -999
49NZ20031106, A10, 25, 1, 15, 12027, 9, 20031113, 1050, -29.9963, -33.9977, 1999,    999.9, 2,   3.6176, 2,  34.3285, 2, -999.0000, 9,    205.8, 1,   -999.0, 9,  -999.00, 9,  -999.00, 9,  -999.00, 9,  -999.00, 9, -999.000, 9, -999.000, 9, -999.000, 9,   -999.0, 9,   -999.0, 9, -999.0000, 9,   -999.00, -999.000, 9, -999.000,   -999.0, 9,   -999.0,  -999.00, 9,   -999.0,   3.5452, 27.2978,   3.6168, 2, 1002.3, 2, 213.74, 2, -999, -999, -999, -999, -999, 9,  -999.00, 9, -999, -999, 9, -999
49NZ20031106, A10, 25, 1, 10, 12022, 9, 20031113, 1050, -29.9963, -33.9977, 1999,   1000.0, 2,   3.6152, 2,  34.3288, 2, -999.0000, 9,    205.8, 1,   -999.0, 9,  -999.00, 9,  -999.00, 9,  -999.00, 9,  -999.00, 9, -999.000, 9, -999.000, 9, -999.000, 9,   -999.0, 9,   -999.0, 9, -999.0000, 9,   -999.00, -999.000, 9, -999.000,   -999.0, 9,   -999.0,  -999.00, 9,   -999.0,   3.5428, 27.298,   3.6156, 2, 1002.5, 2, 213.72, 2, -999, -999, -999, -999, -999, 9,  -999.00, 9, -999, -999, 9, -999
49NZ20031106, A10, 25, 1, 6, 12018, 9, 20031113, 1050, -29.9963, -33.9977, 1999,   1000.1, 2,   3.6164, 2,  34.3288, 2, -999.0000, 9,    205.7, 1,   -999.0, 9,  -999.00, 9,  -999.00, 9,  -999.00, 9,  -999.00, 9, -999.000, 9, -999.000, 9, -999.000, 9,   -999.0, 9,   -999.0, 9, -999.0000, 9,   -999.00, -999.000, 9, -999.000,   -999.0, 9,   -999.0,  -999.00, 9,   -999.0,   3.5440, 27.2977,   3.6163, 2, 1002.5, 2, 213.71, 2, -999, -999, -999, -999, -999, 9,  -999.00, 9, -999, -999, 9, -999
49NZ20031106, A10, 25, 1, 8, 12020, 9, 20031113, 1050, -29.9963, -33.9977, 1999,   1000.2, 2,   3.6153, 2,  34.3288, 2, -999.0000, 9,    205.8, 1,   -999.0, 9,  -999.00, 9,  -999.00, 9,  -999.00, 9,  -999.00, 9, -999.000, 9, -999.000, 9, -999.000, 9,   -999.0, 9,   -999.0, 9, -999.0000, 9,   -999.00, -999.000, 9, -999.000,   -999.0, 9,   -999.0,  -999.00, 9,   -999.0,   3.5429, 27.2981,   3.6152, 2, 1002.6, 2, 213.69, 2, -999, -999, -999, -999, -999, 9,  -999.00, 9, -999, -999, 9, -999
49NZ20031106, A10, 25, 1, 11, 12023, 9, 20031113, 1050, -29.9963, -33.9977, 1999,   1000.3, 2,   3.6155, 2,  34.3288, 2, -999.0000, 9,    205.8, 1,   -999.0, 9,  -999.00, 9,  -999.00, 9,  -999.00, 9,  -999.00, 9, -999.000, 9, -999.000, 9, -999.000, 9,   -999.0, 9,   -999.0, 9, -999.0000, 9,   -999.00, -999.000, 9, -999.000,   -999.0, 9,   -999.0,  -999.00, 9,   -999.0,   3.5431, 27.298,   3.6161, 2, 1002.7, 2, 213.68, 2, -999, -999, -999, -999, -999, 9,  -999.00, 9, -999, -999, 9, -999
49NZ20031106, A10, 25, 1, 17, 12029, 9, 20031113, 1050, -29.9963, -33.9977, 1999,   1000.4, 2,   3.6166, 2,  34.3285, 2, -999.0000, 9,    205.9, 1,   -999.0, 9,  -999.00, 9,  -999.00, 9,  -999.00, 9,  -999.00, 9, -999.000, 9, -999.000, 9, -999.000, 9,   -999.0, 9,   -999.0, 9, -999.0000, 9,   -999.00, -999.000, 9, -999.000,   -999.0, 9,   -999.0,  -999.00, 9,   -999.0,   3.5442, 27.2983,   3.6156, 2, 1002.7, 2, 213.66, 2, -999, -999, -999, -999, -999, 9,  -999.00, 9, -999, -999, 9, -999
49NZ20031106, A10, 25, 1, 16, 12028, 9, 20031113, 1050, -29.9963, -33.9977, 1999,   1000.4, 2,   3.6152, 2,  34.3288, 2, -999.0000, 9,    205.9, 1,   -999.0, 9,  -999.00, 9,  -999.00, 9,  -999.00, 9,  -999.00, 9, -999.000, 9, -999.000, 9, -999.000, 9,   -999.0, 9,   -999.0, 9, -999.0000, 9,   -999.00, -999.000, 9, -999.000,   -999.0, 9,   -999.0,  -999.00, 9,   -999.0,   3.5428, 27.298,   3.6167, 2, 1002.8, 2, 213.65, 2, -999, -999, -999, -999, -999, 9,  -999.00, 9, -999, -999, 9, -999
49NZ20031106, A10, 25, 1, 14, 12026, 9, 20031113, 1050, -29.9963, -33.9977, 1999,   1000.4, 2,   3.6149, 2,  34.3288, 2, -999.0000, 9,    205.9, 1,   -999.0, 9,  -999.00, 9,  -999.00, 9,  -999.00, 9,  -999.00, 9, -999.000, 9, -999.000, 9, -999.000, 9,   -999.0, 9,   -999.0, 9, -999.0000, 9,   -999.00, -999.000, 9, -999.000,   -999.0, 9,   -999.0,  -999.00, 9,   -999.0,   3.5425, 27.2982,   3.6153, 2, 1002.8, 2, 213.65, 2, -999, -999, -999, -999, -999, 9,  -999.00, 9, -999, -999, 9, -999
49NZ20031106, A10, 25, 1, 12, 12024, 9, 20031113, 1050, -29.9963, -33.9977, 1999,   1000.4, 2,   3.6147, 2,  34.3290, 2, -999.0000, 9,    205.7, 1,   -999.0, 9,  -999.00, 9,  -999.00, 9,  -999.00, 9,  -999.00, 9, -999.000, 9, -999.000, 9, -999.000, 9,   -999.0, 9,   -999.0, 9, -999.0000, 9,   -999.00, -999.000, 9, -999.000,   -999.0, 9,   -999.0,  -999.00, 9,   -999.0,   3.5423, 27.2982,   3.6162, 2, 1002.8, 2, 213.65, 2, -999, -999, -999, -999, -999, 9,  -999.00, 9, -999, -999, 9, -999
49NZ20031106, A10, 25, 1, 7, 12019, 9, 20031113, 1050, -29.9963, -33.9977, 1999,   1000.7, 2,   3.6145, 2,  34.3290, 2, -999.0000, 9,    205.7, 1,   -999.0, 9,  -999.00, 9,  -999.00, 9,  -999.00, 9,  -999.00, 9, -999.000, 9, -999.000, 9, -999.000, 9,   -999.0, 9,   -999.0, 9, -999.0000, 9,   -999.00, -999.000, 9, -999.000,   -999.0, 9,   -999.0,  -999.00, 9,   -999.0,   3.5421, 27.2981,   3.6156, 2, 1003, 2, 213.6, 2, -999, -999, -999, -999, -999, 9,  -999.00, 9, -999, -999, 9, -999
49NZ20031106, A10, 25, 1, 22, 12034, 2, 20031113, 1050, -29.9963, -33.9977, 1999,   1200.7, 2,   3.1143, 2,  34.4477, 2,  34.4483, 2,    187.6, 1,    193.4, 2,    48.52, 2,    32.61, 2,     0.00, 2,     2.24, 2,    0.618, 2,    0.283, 2,    0.018, 4,   2221.4, 2,   2310.9, 2,    7.6097, 2,     25.00, -999.000, 9, -999.000,   -999.0, 9,   -999.0,  -999.00, 9,   -999.0,   3.0299, 27.4416,   3.1144, 2, 1200.5, 2, 193.39, 2, 0.23, 0.12, 0.01, 0.02, -999, 1,  -999.00, 9, -999, -999, 9, -999
49NZ20031106, A10, 25, 1, 21, 12033, 2, 20031113, 1050, -29.9963, -33.9977, 1999,   1399.3, 2,   2.9132, 2,  34.5804, 2,  34.5794, 2,    183.7, 1,    189.1, 2,    54.39, 2,    31.59, 2,     0.00, 2,     2.17, 2,    0.203, 2,    0.100, 2,    0.000, 4,   2229.2, 2,   2325.0, 2,    7.6127, 2,     25.00, -999.000, 9, -999.000,   -999.0, 9,   -999.0,  -999.00, 9,   -999.0,   2.8146, 27.5673,   2.9140, 2, 1399.6, 2, 188.95, 2, 0.24, 0.12, 0.01, 0.02, -999, 1,  -999.00, 9, -999, -999, 9, -999
49NZ20031106, A10, 25, 1, 20, 12032, 2, 20031113, 1050, -29.9963, -33.9977, 1999,   1601.1, 2,   2.8300, 2,  34.6870, 2,  34.6869, 2,    191.4, 1,    197.0, 2,    54.10, 2,    29.57, 2,     0.01, 2,     2.03, 2,    0.064, 2,    0.030, 2,    0.000, 4,   2223.8, 2,   2329.4, 2,    7.6349, 2,     25.00, -999.000, 9, -999.000,   -999.0, 9,   -999.0,  -999.00, 9,   -999.0,   2.7154, 27.6614,   2.8300, 2, 1601, 2, 196.51, 2, 0.24, 0.12, 0.01, 0.02, -999, 1,  -999.00, 9, -999, -999, 9, -999
49NZ20031106, A10, 25, 1, 19, 12031, 2, 20031113, 1050, -29.9963, -33.9977, 1999,   1799.6, 2,   2.8083, 2,  34.7623, 2,  34.7618, 2,    202.9, 1,    208.5, 2,    50.89, 2,    27.51, 2,     0.01, 2,     1.89, 2,    0.015, 2,    0.015, 2,    0.000, 4,   2214.3, 2,   2332.1, 2,    7.6614, 2,     25.00, -999.000, 9, -999.000,   -999.0, 9,   -999.0,  -999.00, 9,   -999.0,   2.6769, 27.7253,   2.8082, 2, 1799.6, 2, 208.19, 2, 0.23, 0.11, 0.01, 0.01, -999, 1,  -999.00, 9, -999, -999, 9, -999
49NZ20031106, A10, 25, 1, 5, 12017, 2, 20031113, 1050, -29.9963, -33.9977, 1999,   1799.6, 2,   2.8084, 2,  34.7624, 2,  34.7622, 2,    203.0, 1,    208.3, 2,    51.00, 2,    27.51, 2,     0.00, 2,     1.88, 2,    0.005, 2,    0.001, 2,    0.000, 4,   2215.0, 2,   2331.9, 2,    7.6614, 2,     25.00, -999.000, 9, -999.000,   -999.0, 9,   -999.0,  -999.00, 9,   -999.0,   2.6770, 27.7254,   2.8083, 2, 1799.6, 2, 208.19, 2, 0.23, 0.11, 0.01, 0.01, -999, 9,  -999.00, 9, -999, -999, 9, -999
49NZ20031106, A10, 25, 1, 18, 12030, 2, 20031113, 1050, -29.9963, -33.9977, 1999,   2006.1, 2,   2.8113, 2,  34.8111, 2,  34.8118, 2,    213.6, 1,    218.9, 2,    46.94, 2,    25.81, 2,     0.00, 2,     1.76, 2,    0.005, 2,    0.001, 2,    0.000, 4,   2205.8, 2,   2328.6, 2,    7.6827, 6,     25.00, -999.000, 9, -999.000,   -999.0, 9,   -999.0,  -999.00, 9,   -999.0,   2.6615, 27.7657,   2.8113, 2, 2006.1, 2, 219.23, 2, 0.22, 0.11, 0.01, 0.01, -999, 1,  -999.00, 9, -999, -999, 9, -999