BOTTLE,20220818CCHSIOAMB
EXPOCODE,SECT_ID,STNNBR,CASTNO,SAMPNO,BTLNBR,BTLNBR_FLAG_W,DATE,TIME,LATITUDE,LONGITUDE,DEPTH,CTDPRS,CTDPRS_FLAG_W,CTDTMP,CTDTMP_FLAG_W,CTDSAL,CTDSAL_FLAG_W,SALNTY,SALNTY_FLAG_W,CTDOXY,CTDOXY_FLAG_W,OXYGEN,OXYGEN_FLAG_W,SILCAT,SILCAT_FLAG_W,NITRAT,NITRAT_FLAG_W,NITRIT,NITRIT_FLAG_W,PHSPHT,PHSPHT_FLAG_W,CFC-11,CFC-11_FLAG_W,CFC-12,CFC-12_FLAG_W,CFC113,CFC113_FLAG_W,TCARBN,TCARBN_FLAG_W,ALKALI,ALKALI_FLAG_W,PH_TOT,PH_TOT_FLAG_W,PH_TMP,TRITUM,TRITUM_FLAG_W,TRITER,DELC14,DELC14_FLAG_W,C14ERR,DELC13,DELC13_FLAG_W,C13ERR,THETA,SIG0,SBE35,SBE35_FLAG_W,DWNPRS,DWNPRS_FLAG_W,DWNOXY,DWNOXY_FLAG_W,SILUNC,NRAUNC,NRIUNC,PHPUNC,TOC,TOC_FLAG_W,CS-137,CS-137_FLAG_W,CS137ER,PLUTO,PLUTO_FLAG_W,PLUTOER
,,,,,,,,,,,METERS,DBAR,,ITS-90,,PSS-78,,PSS-78,,UMOL/KG,,UMOL/KG,,UMOL/KG,,UMOL/KG,,UMOL/KG,,UMOL/KG,,PMOL/KG,,PMOL/KG,,PMOL/KG,,UMOL/KG,,UMOL/KG,,,,DEG C,TU,,TU,/MILLE,,/MILLE,/MILLE,,/MILLE,DEG C,KG/M^3,ITS-90,,DBAR,,UMOL/KG,,UMOL/KG,UMOL/KG,UMOL/KG,UMOL/KG,UMOL/KG,,BQ/M^3,,BQ/M^3,MBQ/M^3,,MBQ/M^3
49NZ20031106, A10, 73, 1, 36, 12024, 2, 20031126, 1901, -29.9897, 0.0080, 3969,     10.9, 2,  18.7681, 2,  35.9025, 2,  35.9020, 2,    224.2, 1,    236.6, 2,     1.77, 2,     0.00, 2,     0.01, 2,     0.20, 2,    2.608, 2,    1.497, 2,    0.313, 4,   2068.6, 2,   2354.3, 2,    8.0035, 2,     25.00, -999.000, 9, -999.000,   -999.0, 9,   -999.0,  -999.00, 9,   -999.0,  18.7662, 25.7727,  18.7681, 2, 10.6, 2, 236.03, 2, 0.12, 0.03, 0.01, 0.02, -999, 9,  -999.00, 9, -999, -999, 9, -999
49NZ20031106, A10, 73, 1, 1, 12025, 9, 20031126, 1901, -29.9897, 0.0080, 3969,     10.9, 2,  18.7733, 2,  35.9025, 2, -999.0000, 9,    224.2, 1,   -999.0, 9,  -999.00, 9,  -999.00, 9,  -999.00, 9,  -999.00, 9, -999.000, 9, -999.000, 9, -999.000, 9,   -999.0, 9,   -999.0, 9, -999.0000, 9,   -999.00, -999.000, 9, -999.000,   -999.0, 9,   -999.0,  -999.00, 9,   -999.0,  18.7714, 25.7718,  18.7718, 2, 10.5, 2, 236.02, 2, -999, -999, -999, -999, -999, 9,  -999.00, 9, -999, -999, 9, -999
49NZ20031106, A10, 73, 1, 35, 12023, 2, 20031126, 1901, -29.9897, 0.0080, 3969,     51.2, 2,  18.2480, 2,  35.8682, 2,  35.8712, 2,    227.1, 1,    239.3, 2,     1.81, 2,    -0.04, 2,     0.01, 2,     0.21, 2,    2.691, 2,    1.504, 2,    0.297, 4,   2065.7, 6,   2352.8, 2,    8.0040, 2,     25.00, -999.000, 9, -999.000,   -999.0, 9,   -999.0,  -999.00, 9,   -999.0,  18.2391, 25.8811,  18.2411, 2, 53.5, 2, 238.3, 2, 0.12, 0.03, 0.01, 0.02, -999, 9,  -999.00, 9, -999, -999, 9, -999
49NZ20031106, A10, 73, 1, 34, 12022, 2, 20031126, 1901, -29.9897, 0.0080, 3969,    100.6, 2,  16.6781, 2,  35.6685, 2,  35.6681, 2,    226.1, 1,    238.3, 2,     2.17, 2,     0.77, 2,     0.37, 2,     0.28, 2,    2.862, 2,    1.593, 2,    0.265, 4,   2069.5, 2,   2336.3, 6,    7.9813, 2,     25.00, -999.000, 9, -999.000,   -999.0, 9,   -999.0,  -999.00, 9,   -999.0,  16.6617, 26.1093,  16.6784, 2, 103.3, 2, 237.75, 2, 0.12, 0.03, 0, 0.01, -999, 9,  -999.00, 9, -999, -999, 9, -999
49NZ20031106, A10, 73, 1, 33, 12015, 2, 20031126, 1901, -29.9897, 0.0080, 3969,    150.1, 2,  16.2341, 2,  35.6164, 2,  35.6152, 2,    220.6, 1,    231.9, 2,     2.36, 2,     2.47, 2,     0.02, 2,     0.35, 2,    2.844, 2,    1.592, 2,    0.220, 4,   2075.8, 2,   2337.1, 2,    7.9625, 2,     25.00, -999.000, 9, -999.000,   -999.0, 9,   -999.0,  -999.00, 9,   -999.0,  16.2100, 26.175,  16.2347, 2, 154.7, 2, 231.8, 2, 0.12, 0.04, 0.01, 0.01, -999, 9,  -999.00, 9, -999, -999, 9, -999
49NZ20031106, A10, 73, 1, 32, 12020, 2, 20031126, 1901, -29.9897, 0.0080, 3969,    200.9, 2,  15.6181, 2,  35.5205, 2,  35.5142, 4,    211.2, 1,    222.1, 2,     2.60, 2,     4.14, 2,     0.02, 2,     0.45, 2,    2.967, 2,    1.650, 2,    0.186, 4,   2087.1, 2,   2329.4, 2,    7.9349, 2,     25.00, -999.000, 9, -999.000,   -999.0, 9,   -999.0,  -999.00, 9,   -999.0,  15.5867, 26.2438,  15.6201, 2, 208.4, 2, 225.89, 2, 0.12, 0.04, 0.01, 0.01, -999, 9,  -999.00, 9, -999, -999, 9, -999
49NZ20031106, A10, 73, 1, 31, 12019, 2, 20031126, 1901, -29.9897, 0.0080, 3969,    249.3, 2,  14.9125, 2,  35.4391, 2,  35.4365, 2,    206.3, 1,    217.1, 2,     3.07, 2,     5.92, 2,     0.01, 2,     0.55, 2,    3.068, 6,    1.673, 6,    0.133, 4,   2096.5, 2,   2324.7, 2,    7.9113, 2,     25.00, -999.000, 9, -999.000,   -999.0, 9,   -999.0,  -999.00, 9,   -999.0,  14.8747, 26.3395,  14.9119, 2, 256.3, 2, 217.94, 2, 0.13, 0.05, 0.01, 0.01, -999, 9,  -999.00, 9, -999, -999, 9, -999
49NZ20031106, A10, 73, 1, 30, 12018, 2, 20031126, 1901, -29.9897, 0.0080, 3969,    299.5, 2,  14.0452, 2,  35.3015, 2,  35.2972, 2,    205.2, 1,    215.2, 2,     3.31, 2,     7.52, 2,     0.01, 2,     0.66, 2,    3.172, 2,    1.714, 2,    0.138, 4,   2101.7, 2,   2315.5, 2,    7.8870, 2,     25.00, -999.000, 9, -999.000,   -999.0, 9,   -999.0,  -999.00, 9,   -999.0,  14.0016, 26.4213,  14.0466, 2, 298.6, 2, 214.73, 2, 0.13, 0.05, 0.01, 0.01, -999, 9,  -999.00, 9, -999, -999, 9, -999
49NZ20031106, A10, 73, 1, 29, 12017, 2, 20031126, 1901, -29.9897, 0.0080, 3969,    398.0, 2,  12.2995, 2,  35.0859, 2,  35.0817, 2,    205.2, 1,    214.9, 2,     4.44, 2,    11.18, 2,     0.01, 2,     0.88, 2,    3.302, 2,    1.734, 2,    0.099, 4,   2113.0, 2,   2303.7, 2,    7.8425, 2,     25.00, -999.000, 9, -999.000,   -999.0, 9,   -999.0,  -999.00, 9,   -999.0,  12.2463, 26.6092,  12.3008, 2, 395.9, 2, 214.97, 2, 0.13, 0.06, 0.01, 0.01, -999, 9,  -999.00, 9, -999, -999, 9, -999
49NZ20031106, A10, 73, 1, 28, 12016, 2, 20031126, 1901, -29.9897, 0.0080, 3969,    498.4, 2,  10.6523, 2,  34.8791, 2,  34.8736, 2,    195.7, 1,    204.7, 2,     6.81, 2,    15.99, 2,     0.01, 2,     1.17, 2,    3.190, 2,    1.626, 2,    0.095, 4,   2135.0, 2,   2298.8, 2,    7.7847, 2,     25.00, -999.000, 9, -999.000,   -999.0, 9,   -999.0,  -999.00, 9,   -999.0,  10.5913, 26.7544,  10.6547, 2, 500.7, 2, 204.74, 2, 0.13, 0.08, 0.01, 0.01, -999, 9,  -999.00, 9, -999, -999, 9, -999
49NZ20031106, A10, 73, 1, 27, 12012, 2, 20031126, 1901, -29.9897, 0.0080, 3969,    600.5, 2,   8.4729, 2,  34.6287, 2,  34.6285, 2,    189.4, 1,    197.5, 2,    11.64, 2,    21.87, 2,     0.01, 2,     1.55, 2,    2.885, 2,    1.450, 2,    0.114, 4,   2154.9, 2,   2285.8, 2,    7.7187, 2,     25.00, -999.000, 9, -999.000,   -999.0, 9,   -999.0,  -999.00, 9,   -999.0,   8.4088, 26.9201,   8.4750, 2, 605.1, 2, 198.61, 2, 0.14, 0.09, 0.01, 0.01, -999, 9,  -999.00, 9, -999, -999, 9, -999
49NZ20031106, A10, 73, 1, 26, 12014, 2, 20031126, 1901, -29.9897, 0.0080, 3969,    701.1, 2,   7.0236, 2,  34.4903, 2,  34.4903, 2,    192.4, 1,    200.7, 2,    15.26, 2,    25.26, 2,     0.01, 2,     1.76, 2,    2.831, 2,    1.390, 2,    0.140, 4,   2167.5, 6,   2286.4, 2,    7.6843, 2,     25.00, -999.000, 9, -999.000,   -999.0, 9,   -999.0,  -999.00, 9,   -999.0,   6.9560, 27.022,   7.0232, 2, 702.6, 2, 200.65, 2, 0.15, 0.1, 0.01, 0.01, -999, 9,  -999.00, 9, -999, -999, 9, -999
49NZ20031106, A10, 73, 1, 25, 12013, 2, 20031126, 1901, -29.9897, 0.0080, 3969,    800.0, 2,   5.5956, 2,  34.3894, 2,  34.3916, 2,    194.9, 1,    203.0, 2,    20.84, 2,    28.37, 2,     0.01, 2,     1.96, 2,    2.524, 2,    1.209, 2,    0.125, 4,   2177.7, 2,   2286.1, 6,    7.6548, 2,     25.00, -999.000, 9, -999.000,   -999.0, 9,   -999.0,  -999.00, 9,   -999.0,   5.5266, 27.13,   5.5900, 2, 802.1, 2, 203.16, 2, 0.16, 0.11, 0.01, 0.01, -999, 9,  -999.00, 9, -999, -999, 9, -999
49NZ20031106, A10, 73, 1, 24, 12048, 2, 20031126, 1901, -29.9897, 0.0080, 3969,    900.1, 2,   4.6455, 2,  34.3545, 2,  34.3538, 2,    195.1, 1,    203.7, 2,    28.13, 2,    30.46, 2,     0.01, 2,     2.09, 2,    2.017, 2,    0.971, 2,    0.092, 4,   2191.4, 2,   2293.1, 2,    7.6349, 6,     25.00, -999.000, 9, -999.000,   -999.0, 9,   -999.0,  -999.00, 9,   -999.0,   4.5738, 27.2113,   4.6466, 2, 902.1, 2, 204.81, 2, 0.18, 0.12, 0.01, 0.02, -999, 9,  -999.00, 9, -999, -999, 9, -999
49NZ20031106, A10, 73, 1, 23, 12047, 2, 20031126, 1901, -29.9897, 0.0080, 3969,   1000.6, 2,   4.0645, 2,  34.3623, 2,  34.3630, 2,    191.1, 1,    199.5, 2,    35.15, 2,    31.65, 2,     0.00, 2,     2.20, 2,    1.603, 6,    0.789, 6,    0.063, 4,   2200.4, 2,   2300.2, 2,    7.6198, 2,     25.00, -999.000, 9, -999.000,   -999.0, 9,   -999.0,  -999.00, 9,   -999.0,   3.9885, 27.2799,   4.0624, 2, 1000.3, 2, 200.04, 2, 0.2, 0.12, 0.01, 0.02, -999, 9,  -999.00, 9, -999, -999, 9, -999
49NZ20031106, A10, 73, 1, 8, 12032, 9, 20031126, 1901, -29.9897, 0.0080, 3969,   1000.6, 2,   4.0596, 2,  34.3626, 2, -999.0000, 9,    191.3, 1,   -999.0, 9,  -999.00, 9,  -999.00, 9,  -999.00, 9,  -999.00, 9, -999.000, 9, -999.000, 9, -999.000, 9,   -999.0, 9,   -999.0, 9, -999.0000, 9,   -999.00, -999.000, 9, -999.000,   -999.0, 9,   -999.0,  -999.00, 9,   -999.0,   3.9837, 27.2806,   4.0594, 2, 1000.5, 2, 200.01, 2, -999, -999, -999, -999, -999, 9,  -999.00, 9, -999, -999, 9, -999
49NZ20031106, A10, 73, 1, 3, 12027, 9, 20031126, 1901, -29.9897, 0.0080, 3969,   1000.6, 2,   4.0641, 2,  34.3625, 2, -999.0000, 9,    191.2, 1,   -999.0, 9,  -999.00, 9,  -999.00, 9,  -999.00, 9,  -999.00, 9, -999.000, 9, -999.000, 9, -999.000, 9,   -999.0, 9,   -999.0, 9, -999.0000, 9,   -999.00, -999.000, 9, -999.000,   -999.0, 9,   -999.0,  -999.00, 9,   -999.0,   3.9881, 27.2799,   4.0623, 2, 1000.4, 2, 200.02, 2, -999, -999, -999, -999, -999, 9,  -999.00, 9, -999, -999, 9, -999
49NZ20031106, A10, 73, 1, 7, 12031, 9, 20031126, 1901, -29.9897, 0.0080, 3969,   1000.7, 2,   4.0591, 2,  34.3628, 2, -999.0000, 9,    191.4, 1,   -999.0, 9,  -999.00, 9,  -999.00, 9,  -999.00, 9,  -999.00, 9, -999.000, 9, -999.000, 9, -999.000, 9,   -999.0, 9,   -999.0, 9, -999.0000, 9,   -999.00, -999.000, 9, -999.000,   -999.0, 9,   -999.0,  -999.00, 9,   -999.0,   3.9832, 27.2805,   4.0595, 2, 1000.6, 2, 200, 2, -999, -999, -999, -999, -999, 9,  -999.00, 9, -999, -999, 9, -999
49NZ20031106, A10, 73, 1, 6, 12030, 9, 20031126, 1901, -29.9897, 0.0080, 3969,   1000.9, 2,   4.0605, 2,  34.3627, 2, -999.0000, 9,    191.2, 1,   -999.0, 9,  -999.00, 9,  -999.00, 9,  -999.00, 9,  -999.00, 9, -999.000, 9, -999.000, 9, -999.000, 9,   -999.0, 9,   -999.0, 9, -999.0000, 9,   -999.00, -999.000, 9, -999.000,   -999.0, 9,   -999.0,  -999.00, 9,   -999.0,   3.9845, 27.2805,   4.0603, 2, 1000.7, 2, 199.99, 2, -999, -999, -999, -999, -999, 9,  -999.00, 9, -999, -999, 9, -999
49NZ20031106, A10, 73, 1, 4, 12028, 9, 20031126, 1901, -29.9897, 0.0080, 3969,   1001.1, 2,   4.0604, 2,  34.3627, 2, -999.0000, 9,    191.3, 1,   -999.0, 9,  -999.00, 9,  -999.00, 9,  -999.00, 9,  -999.00, 9, -999.000, 9, -999.000, 9, -999.000, 9,   -999.0, 9,   -999.0, 9, -999.0000, 9,   -999.00, -999.000, 9, -999.000,   -999.0, 9,   -999.0,  -999.00, 9,   -999.0,   3.9844, 27.2804,   4.0613, 2, 1000.9, 2, 199.96, 2, -999, -999, -999, -999, -999, 9,  -999.00, 9, -999, -999, 9, -999
49NZ20031106, A10, 73, 1, 22, 12046, 2, 20031126, 1901, -29.9897, 0.0080, 3969,   1200.6, 2,   3.4033, 2,  34.4489, 2,  34.4491, 2,    178.3, 1,    185.9, 2,    47.85, 2,    32.98, 2,     0.00, 2,     2.29, 2,    0.671, 2,    0.356, 2,    0.014, 4,   2221.7, 2,   2313.6, 2,    7.5997, 2,     25.00, -999.000, 9, -999.000,   -999.0, 9,   -999.0,  -999.00, 9,   -999.0,   3.3163, 27.4157,   3.4033, 2, 1197.1, 2, 185.42, 2, 0.22, 0.13, 0.01, 0.02, -999, 9,  -999.00, 9, -999, -999, 9, -999
49NZ20031106, A10, 73, 1, 21, 12045, 2, 20031126, 1901, -29.9897, 0.0080, 3969,   1399.7, 2,   3.0948, 2,  34.5845, 2,  34.5858, 2,    175.7, 1,    183.1, 2,    53.96, 2,    32.01, 2,     0.00, 2,     2.21, 2,    0.200, 2,    0.125, 2,    0.000, 4,   2229.2, 2,   2320.6, 2,    7.6054, 2,     25.00, -999.000, 9, -999.000,   -999.0, 9,   -999.0,  -999.00, 9,   -999.0,   2.9942, 27.5539,   3.0948, 2, 1401.4, 2, 183.1, 2, 0.24, 0.12, 0.01, 0.02, -999, 9,  -999.00, 9, -999, -999, 9, -999
49NZ20031106, A10, 73, 1, 20, 12044, 2, 20031126, 1901, -29.9897, 0.0080, 3969,   1600.2, 2,   3.0532, 2,  34.6986, 2,  34.6987, 2,    183.9, 1,    191.9, 2,    51.48, 2,    29.70, 2,     0.00, 2,     2.06, 2,    0.064, 2,    0.038, 2,    0.000, 4,   2222.6, 2,   2326.9, 2,    7.6305, 2,     25.00, -999.000, 9, -999.000,   -999.0, 9,   -999.0,  -999.00, 9,   -999.0,   2.9360, 27.6506,   3.0532, 2, 1600.8, 2, 191.35, 2, 0.23, 0.12, 0.01, 0.02, -999, 9,  -999.00, 9, -999, -999, 9, -999
49NZ20031106, A10, 73, 1, 19, 12043, 2, 20031126, 1901, -29.9897, 0.0080, 3969,   1800.8, 2,   2.9758, 2,  34.7720, 2,  34.7713, 2,    195.8, 1,    204.5, 2,    48.66, 2,    27.58, 2,     0.00, 2,     1.89, 2,    0.030, 2,    0.021, 2,    0.000, 4,   2213.8, 2,   2326.5, 2,    7.6556, 2,     25.00, -999.000, 9, -999.000,   -999.0, 9,   -999.0,  -999.00, 9,   -999.0,   2.8420, 27.7178,   2.9759, 2, 1803.8, 2, 201.62, 2, 0.23, 0.11, 0.01, 0.01, -999, 9,  -999.00, 9, -999, -999, 9, -999
49NZ20031106, A10, 73, 1, 18, 12042, 2, 20031126, 1901, -29.9897, 0.0080, 3969,   2000.9, 2,   2.8647, 2,  34.8012, 2,  34.8011, 2,    202.7, 1,    212.0, 2,    48.82, 2,    26.55, 2,     0.01, 2,     1.82, 2,    0.018, 2,    0.011, 2,    0.000, 4,   2208.8, 2,   2329.0, 2,    7.6692, 6,     25.00, -999.000, 9, -999.000,   -999.0, 9,   -999.0,  -999.00, 9,   -999.0,   2.7145, 27.7525,   2.8648, 2, 2002.4, 2, 210.21, 2, 0.23, 0.11, 0.01, 0.01, -999, 9,  -999.00, 9, -999, -999, 9, -999
49NZ20031106, A10, 73, 1, 17, 12041, 2, 20031126, 1901, -29.9897, 0.0080, 3969,   2200.8, 2,   2.7109, 2,  34.8186, 2,  34.8179, 2,    208.5, 1,    217.9, 2,    50.47, 2,    25.91, 2,     0.00, 2,     1.78, 2,    0.013, 2,    0.005, 2,    0.000, 4,   2208.0, 2,   2330.6, 2,    7.6791, 2,     25.00, -999.000, 9, -999.000,   -999.0, 9,   -999.0,  -999.00, 9,   -999.0,   2.5449, 27.7816,   2.7107, 2, 2201.3, 2, 217.27, 2, 0.23, 0.11, 0.01, 0.01, -999, 9,  -999.00, 9, -999, -999, 9, -999
49NZ20031106, A10, 73, 1, 16, 12040, 2, 20031126, 1901, -29.9897, 0.0080, 3969,   2400.3, 2,   2.5701, 2,  34.8320, 2,  34.8318, 2,    213.8, 1,    223.4, 2,    52.04, 2,    25.31, 2,     0.00, 2,     1.74, 2,    0.004, 2,    0.001, 2,    0.000, 4,   2206.5, 6,   2331.7, 2,    7.6882, 2,     25.00, -999.000, 9, -999.000,   -999.0, 9,   -999.0,  -999.00, 9,   -999.0,   2.3879, 27.8057,   2.5702, 2, 2399.9, 2, 223.28, 2, 0.23, 0.1, 0.01, 0.01, -999, 9,  -999.00, 9, -999, -999, 9, -999
49NZ20031106, A10, 73, 1, 15, 12039, 2, 20031126, 1901, -29.9897, 0.0080, 3969,   2600.9, 2,   2.4788, 2,  34.8438, 2,  34.8438, 2,    218.3, 1,    227.7, 2,    52.41, 2,    24.73, 2,     0.01, 2,     1.70, 2,    0.004, 2,    0.003, 2,    0.000, 4,   2205.8, 2,   2336.4, 6,    7.6969, 2,     25.00, -999.000, 9, -999.000,   -999.0, 9,   -999.0,  -999.00, 9,   -999.0,   2.2792, 27.8245,   2.4787, 2, 2600.6, 2, 227.64, 2, 0.23, 0.1, 0.01, 0.01, -999, 9,  -999.00, 9, -999, -999, 9, -999
49NZ20031106, A10, 73, 1, 14, 12038, 2, 20031126, 1901, -29.9897, 0.0080, 3969,   2800.2, 2,   2.3937, 2,  34.8548, 2,  34.8546, 2,    221.6, 1,    231.1, 2,    52.81, 2,    24.36, 2,     0.00, 2,     1.66, 2,    0.000, 2,    0.000, 2,    0.000, 4,   2204.1, 2,   2338.0, 2,    7.7039, 6,     25.00, -999.000, 9, -999.000,   -999.0, 9,   -999.0,  -999.00, 9,   -999.0,   2.1764, 27.8418,   2.3936, 2, 2801, 2, 230.64, 2, 0.24, 0.1, 0.01, 0.01, -999, 9,  -999.00, 9, -999, -999, 9, -999
49NZ20031106, A10, 73, 1, 13, 12037, 2, 20031126, 1901, -29.9897, 0.0080, 3969,   2999.8, 2,   2.3609, 2,  34.8622, 2,  34.8623, 2,    224.0, 1,    233.2, 2,    52.78, 2,    24.00, 2,     0.00, 2,     1.64, 2,   -0.002, 2,   -0.004, 2,    0.000, 4,   2203.2, 2,   2338.7, 2,    7.7102, 2,     25.00, -999.000, 9, -999.000,   -999.0, 9,   -999.0,  -999.00, 9,   -999.0,   2.1244, 27.8523,   2.3608, 2, 2999.8, 2, 233.04, 2, 0.24, 0.1, 0.01, 0.01, -999, 9,  -999.00, 9, -999, -999, 9, -999
49NZ20031106, A10, 73, 1, 12, 12036, 2, 20031126, 1901, -29.9897, 0.0080, 3969,   3250.6, 2,   2.3100, 2,  34.8703, 2,  34.8707, 2,    225.0, 1,    233.9, 2,    53.33, 2,    23.73, 2,     0.01, 2,     1.62, 2,   -0.001, 2,    0.002, 2,    0.000, 4,   2205.7, 2,   2346.7, 2,    7.7172, 2,     25.00, -999.000, 9, -999.000,   -999.0, 9,   -999.0,  -999.00, 9,   -999.0,   2.0489, 27.865,   2.3107, 2, 3250.7, 2, 233.78, 2, 0.24, 0.1, 0.01, 0.01, -999, 9,  -999.00, 9, -999, -999, 9, -999
49NZ20031106, A10, 73, 1, 11, 12035, 2, 20031126, 1901, -29.9897, 0.0080, 3969,   3502.6, 2,   2.2812, 2,  34.8723, 2,  34.8723, 2,    224.8, 1,    232.7, 2,    54.64, 2,    23.83, 2,     0.01, 2,     1.63, 2,    0.000, 2,    0.000, 2,    0.000, 4,   2211.8, 2,   2351.1, 2,    7.7184, 2,     25.00, -999.000, 9, -999.000,   -999.0, 9,   -999.0,  -999.00, 9,   -999.0,   1.9942, 27.871,   2.2809, 2, 3502.6, 2, 232.76, 2, 0.24, 0.1, 0.01, 0.01, -999, 9,  -999.00, 9, -999, -999, 9, -999
49NZ20031106, A10, 73, 1, 5, 12029, 2, 20031126, 1901, -29.9897, 0.0080, 3969,   3751.1, 2,   2.2894, 2,  34.8732, 2,  34.8731, 2,    225.0, 1,    232.1, 2,    54.99, 2,    23.84, 2,     0.01, 2,     1.63, 2, -999.000, 5, -999.000, 5, -999.000, 5,   2212.8, 2,   2351.5, 2,    7.7201, 2,     25.00, -999.000, 9, -999.000,   -999.0, 9,   -999.0,  -999.00, 9,   -999.0,   1.9751, 27.8734,   2.2893, 2, 3751.1, 2, 232.17, 2, 0.24, 0.1, 0.01, 0.01, -999, 9,  -999.00, 9, -999, -999, 9, -999
49NZ20031106, A10, 73, 1, 10, 12034, 2, 20031126, 1901, -29.9897, 0.0080, 3969,   3751.6, 2,   2.2891, 2,  34.8732, 2,  34.8732, 2,    225.0, 1,    232.1, 2,    55.16, 2,    23.84, 2,     0.01, 2,     1.62, 2,   -0.003, 2,    0.000, 2,    0.000, 4,   2212.4, 2,   2354.5, 2,    7.7194, 2,     25.00, -999.000, 9, -999.000,   -999.0, 9,   -999.0,  -999.00, 9,   -999.0,   1.9747, 27.8734,   2.2891, 2, 3751.6, 2, 232.16, 2, 0.24, 0.1, 0.01, 0.01, -999, 9,  -999.00, 9, -999, -999, 9, -999
49NZ20031106, A10, 73, 1, 9, 12033, 2, 20031126, 1901, -29.9897, 0.0080, 3969,   3942.6, 2,   2.3021, 2,  34.8741, 2,  34.8744, 2,    226.0, 1,    231.8, 2,    55.25, 2,    23.86, 2,     0.01, 2,     1.62, 2,   -0.001, 2,   -0.003, 2,    0.000, 4,   2216.7, 2,   2353.4, 2,    7.7194, 2,     25.00, -999.000, 9, -999.000,   -999.0, 9,   -999.0,  -999.00, 9,   -999.0,   1.9660, 27.8749,   2.3020, 2, 3942.6, 2, 231.74, 2, 0.24, 0.1, 0.01, 0.01, -999, 9,  -999.00, 9, -999, -999, 9, -999
49NZ20031106, A10, 73, 1, 2, 12026, 9, 20031126, 1901, -29.9897, 0.0080, 3969,   3942.8, 2,   2.3021, 2,  34.8742, 2, -999.0000, 9,    226.1, 1,   -999.0, 9,  -999.00, 9,  -999.00, 9,  -999.00, 9,  -999.00, 9, -999.000, 9, -999.000, 9, -999.000, 9,   -999.0, 9,   -999.0, 9, -999.0000, 9,   -999.00, -999.000, 9, -999.000,   -999.0, 9,   -999.0,  -999.00, 9,   -999.0,   1.9660, 27.8749,   2.3020, 2, 3942.8, 2, 231.75, 2, -999, -999, -999, -999, -999, 9,  -999.00, 9, -999, -999, 9, -999