BOTTLE,20220818CCHSIOAMB
EXPOCODE,SECT_ID,STNNBR,CASTNO,SAMPNO,BTLNBR,BTLNBR_FLAG_W,DATE,TIME,LATITUDE,LONGITUDE,DEPTH,CTDPRS,CTDPRS_FLAG_W,CTDTMP,CTDTMP_FLAG_W,CTDSAL,CTDSAL_FLAG_W,SALNTY,SALNTY_FLAG_W,CTDOXY,CTDOXY_FLAG_W,OXYGEN,OXYGEN_FLAG_W,SILCAT,SILCAT_FLAG_W,NITRAT,NITRAT_FLAG_W,NITRIT,NITRIT_FLAG_W,PHSPHT,PHSPHT_FLAG_W,CFC-11,CFC-11_FLAG_W,CFC-12,CFC-12_FLAG_W,CFC113,CFC113_FLAG_W,TCARBN,TCARBN_FLAG_W,ALKALI,ALKALI_FLAG_W,PH_TOT,PH_TOT_FLAG_W,PH_TMP,TRITUM,TRITUM_FLAG_W,TRITER,DELC14,DELC14_FLAG_W,C14ERR,DELC13,DELC13_FLAG_W,C13ERR,THETA,SIG0,SBE35,SBE35_FLAG_W,DWNPRS,DWNPRS_FLAG_W,DWNOXY,DWNOXY_FLAG_W,SILUNC,NRAUNC,NRIUNC,PHPUNC,TOC,TOC_FLAG_W,CS-137,CS-137_FLAG_W,CS137ER,PLUTO,PLUTO_FLAG_W,PLUTOER
,,,,,,,,,,,METERS,DBAR,,ITS-90,,PSS-78,,PSS-78,,UMOL/KG,,UMOL/KG,,UMOL/KG,,UMOL/KG,,UMOL/KG,,UMOL/KG,,PMOL/KG,,PMOL/KG,,PMOL/KG,,UMOL/KG,,UMOL/KG,,,,DEG C,TU,,TU,/MILLE,,/MILLE,/MILLE,,/MILLE,DEG C,KG/M^3,ITS-90,,DBAR,,UMOL/KG,,UMOL/KG,UMOL/KG,UMOL/KG,UMOL/KG,UMOL/KG,,BQ/M^3,,BQ/M^3,MBQ/M^3,,MBQ/M^3
49NZ20031106, A10, 8, 1, 36, 12048, 2, 20031110, 1506, -29.8058, -40.5783, 3782,      8.9, 2,  19.3303, 2,  35.8362, 2,  35.8285, 3,    221.2, 1,    232.4, 2,     0.90, 2,    -0.01, 2,     0.01, 2,     0.08, 2, -999.000, 9, -999.000, 9, -999.000, 9,   -999.0, 9,   -999.0, 9, -999.0000, 9,   -999.00, -999.000, 9, -999.000,   -999.0, 9,   -999.0,  -999.00, 9,   -999.0,  19.3287, 25.5757,  19.3424, 2, 12.9, 2, 232.47, 2, 0.12, 0.03, 0.01, 0.02, -999, 9,  -999.00, 9, -999, -999, 9, -999
49NZ20031106, A10, 8, 1, 35, 12047, 2, 20031110, 1506, -29.8058, -40.5783, 3782,     49.5, 2,  18.0987, 2,  35.8275, 2,  35.8317, 2,    228.8, 1,    240.0, 2,     0.85, 2,    -0.01, 2,     0.00, 2,     0.10, 2, -999.000, 9, -999.000, 9, -999.000, 9,   -999.0, 9,   -999.0, 9, -999.0000, 9,   -999.00, -999.000, 9, -999.000,   -999.0, 9,   -999.0,  -999.00, 9,   -999.0,  18.0901, 25.8938,  18.0859, 2, 55.9, 2, 238.58, 2, 0.12, 0.03, 0.01, 0.02, -999, 9,  -999.00, 9, -999, -999, 9, -999
49NZ20031106, A10, 8, 1, 34, 12046, 2, 20031110, 1506, -29.8058, -40.5783, 3782,    100.5, 2,  16.9564, 2,  35.7824, 2,  35.7845, 2,    215.5, 1,    225.6, 2,     1.02, 2,     0.91, 2,     0.09, 2,     0.21, 2, -999.000, 9, -999.000, 9, -999.000, 9,   -999.0, 9,   -999.0, 9, -999.0000, 9,   -999.00, -999.000, 1, -999.000,   -999.0, 9,   -999.0,  -999.00, 9,   -999.0,  16.9398, 26.1311,  16.9514, 2, 104.9, 2, 226.44, 2, 0.12, 0.04, 0.01, 0.02, -999, 9,     1.34, 2, 0.26, -999, 1, -999
49NZ20031106, A10, 8, 1, 9, 12015, 2, 20031110, 1506, -29.8058, -40.5783, 3782,    106.3, 2,  16.8580, 2,  35.7730, 2, -999.0000, 9,    213.6, 1,   -999.0, 9,  -999.00, 9,  -999.00, 9,  -999.00, 9,  -999.00, 9, -999.000, 9, -999.000, 9, -999.000, 9,   -999.0, 9,   -999.0, 9, -999.0000, 9,   -999.00, -999.000, 9, -999.000,   -999.0, 9,   -999.0,  -999.00, 9,   -999.0,  16.8405, 26.149,  16.8197, 2, 108.8, 2, 224.22, 2, -999, -999, -999, -999, -999, 9,  -999.00, 9, -999, -999, 9, -999
49NZ20031106, A10, 8, 1, 33, 12045, 2, 20031110, 1506, -29.8058, -40.5783, 3782,    150.4, 2,  15.6267, 2,  35.5769, 2,  35.5803, 2,    204.6, 1,    213.5, 2,     1.54, 2,     3.87, 2,     0.02, 2,     0.40, 2, -999.000, 9, -999.000, 9, -999.000, 9,   -999.0, 9,   -999.0, 9, -999.0000, 9,   -999.00, -999.000, 9, -999.000,   -999.0, 9,   -999.0,  -999.00, 9,   -999.0,  15.6032, 26.2839,  15.6228, 2, 153.9, 2, 213.26, 2, 0.12, 0.04, 0.01, 0.01, -999, 9,  -999.00, 9, -999, -999, 9, -999
49NZ20031106, A10, 8, 1, 32, 12044, 2, 20031110, 1506, -29.8058, -40.5783, 3782,    199.8, 2,  14.6991, 2,  35.4418, 2,  35.4402, 2,    206.2, 1,    215.1, 2,     1.93, 2,     5.43, 2,     0.01, 2,     0.51, 2, -999.000, 9, -999.000, 9, -999.000, 9,   -999.0, 9,   -999.0, 9, -999.0000, 9,   -999.00, -999.000, 1, -999.000,   -999.0, 9,   -999.0,  -999.00, 9,   -999.0,  14.6691, 26.3862,  14.6974, 2, 202.2, 2, 215, 2, 0.12, 0.05, 0.01, 0.01, -999, 9,  -999.00, 1, -999, -999, 1, -999
49NZ20031106, A10, 8, 1, 4, 12016, 2, 20031110, 1506, -29.8058, -40.5783, 3782,    200.1, 2,  14.7005, 2,  35.4419, 2, -999.0000, 9,    206.0, 1,   -999.0, 9,  -999.00, 9,  -999.00, 9,  -999.00, 9,  -999.00, 9, -999.000, 9, -999.000, 9, -999.000, 9,   -999.0, 9,   -999.0, 9, -999.0000, 9,   -999.00, -999.000, 1, -999.000,   -999.0, 9,   -999.0,  -999.00, 9,   -999.0,  14.6705, 26.3859,  14.7004, 2, 202.4, 2, 214.97, 2, -999, -999, -999, -999, -999, 9,  -999.00, 9, -999, -999, 9, -999
49NZ20031106, A10, 8, 1, 31, 12043, 2, 20031110, 1506, -29.8058, -40.5783, 3782,    249.9, 2,  13.7735, 2,  35.3194, 2,  35.3191, 2,    206.9, 1,    215.8, 2,     2.40, 2,     7.33, 2,     0.01, 2,     0.62, 2, -999.000, 9, -999.000, 9, -999.000, 9,   -999.0, 9,   -999.0, 9, -999.0000, 9,   -999.00, -999.000, 9, -999.000,   -999.0, 9,   -999.0,  -999.00, 9,   -999.0,  13.7376, 26.4895,  13.7732, 2, 253, 2, 215.47, 2, 0.12, 0.05, 0.01, 0.01, -999, 9,  -999.00, 9, -999, -999, 9, -999
49NZ20031106, A10, 8, 1, 30, 12042, 2, 20031110, 1506, -29.8058, -40.5783, 3782,    300.2, 2,  13.0934, 2,  35.2225, 2,  35.2211, 2,    206.2, 1,    215.0, 2,     2.88, 2,     8.96, 2,     0.00, 2,     0.72, 2, -999.000, 9, -999.000, 9, -999.000, 9,   -999.0, 9,   -999.0, 9, -999.0000, 9,   -999.00, -999.000, 9, -999.000,   -999.0, 9,   -999.0,  -999.00, 9,   -999.0,  13.0517, 26.555,  13.0965, 2, 301.5, 2, 214.97, 2, 0.13, 0.06, 0.01, 0.01, -999, 9,  -999.00, 9, -999, -999, 9, -999
49NZ20031106, A10, 8, 1, 29, 12041, 2, 20031110, 1506, -29.8058, -40.5783, 3782,    401.9, 2,  11.3829, 2,  34.9868, 2,  34.9868, 2,    202.8, 1,    210.9, 2,     4.43, 2,    13.41, 2,     0.00, 2,     1.00, 2, -999.000, 9, -999.000, 9, -999.000, 9,   -999.0, 9,   -999.0, 9, -999.0000, 9,   -999.00, -999.000, 1, -999.000,   -999.0, 9,   -999.0,  -999.00, 9,   -999.0,  11.3318, 26.7042,  11.3826, 2, 403.9, 2, 211.41, 2, 0.13, 0.07, 0.01, 0.01, -999, 9,     0.61, 2, 0.14, -999, 1, -999
49NZ20031106, A10, 8, 1, 28, 12040, 2, 20031110, 1506, -29.8058, -40.5783, 3782,    501.7, 2,   9.3143, 2,  34.7175, 2,  34.7162, 2,    202.8, 1,    210.3, 2,     7.06, 2,    18.56, 2,     0.00, 2,     1.32, 2, -999.000, 9, -999.000, 9, -999.000, 9,   -999.0, 9,   -999.0, 9, -999.0000, 9,   -999.00, -999.000, 9, -999.000,   -999.0, 9,   -999.0,  -999.00, 9,   -999.0,   9.2579, 26.854,   9.3167, 2, 502.8, 2, 210.39, 2, 0.13, 0.08, 0.01, 0.01, -999, 9,  -999.00, 9, -999, -999, 9, -999
49NZ20031106, A10, 8, 1, 27, 12039, 2, 20031110, 1506, -29.8058, -40.5783, 3782,    599.9, 2,   7.3092, 2,  34.4927, 2,  34.4925, 2,    210.9, 1,    218.6, 2,    10.43, 2,    22.83, 2,     0.01, 2,     1.59, 2, -999.000, 9, -999.000, 9, -999.000, 9,   -999.0, 9,   -999.0, 9, -999.0000, 9,   -999.00, -999.000, 1, -999.000,   -999.0, 9,   -999.0,  -999.00, 9,   -999.0,   7.2505, 26.9832,   7.3106, 2, 600.7, 2, 218.25, 2, 0.14, 0.1, 0.01, 0.01, -999, 9,  -999.00, 1, -999, -999, 1, -999
49NZ20031106, A10, 8, 1, 2, 12014, 2, 20031110, 1506, -29.8058, -40.5783, 3782,    600.3, 2,   7.3160, 2,  34.4934, 2, -999.0000, 9,    210.8, 1,   -999.0, 9,  -999.00, 9,  -999.00, 9,  -999.00, 9,  -999.00, 9, -999.000, 9, -999.000, 9, -999.000, 9,   -999.0, 9,   -999.0, 9, -999.0000, 9,   -999.00, -999.000, 1, -999.000,   -999.0, 9,   -999.0,  -999.00, 9,   -999.0,   7.2572, 26.983,   7.3201, 2, 600.9, 2, 218.27, 2, -999, -999, -999, -999, -999, 9,  -999.00, 9, -999, -999, 9, -999
49NZ20031106, A10, 8, 1, 26, 12038, 2, 20031110, 1506, -29.8058, -40.5783, 3782,    700.2, 2,   5.7611, 2,  34.3519, 2,  34.3522, 2,    220.8, 1,    229.2, 2,    14.28, 2,    25.71, 2,    -0.01, 2,     1.78, 2, -999.000, 9, -999.000, 9, -999.000, 9,   -999.0, 9,   -999.0, 9, -999.0000, 9,   -999.00, -999.000, 9, -999.000,   -999.0, 9,   -999.0,  -999.00, 9,   -999.0,   5.7004, 27.0779,   5.7664, 2, 701.6, 2, 228.8, 2, 0.15, 0.1, 0.01, 0.01, -999, 9,  -999.00, 9, -999, -999, 9, -999
49NZ20031106, A10, 8, 1, 7, 12019, 2, 20031110, 1506, -29.8058, -40.5783, 3782,    801.5, 2,   4.6124, 2,  34.2829, 2, -999.0000, 9,    224.0, 1,   -999.0, 9,  -999.00, 9,  -999.00, 9,  -999.00, 9,  -999.00, 9, -999.000, 9, -999.000, 9, -999.000, 9,   -999.0, 9,   -999.0, 9, -999.0000, 9,   -999.00, -999.000, 1, -999.000,   -999.0, 9,   -999.0,  -999.00, 9,   -999.0,   4.5495, 27.1568,   4.6193, 2, 804.6, 2, 232.77, 2, -999, -999, -999, -999, -999, 9,  -999.00, 9, -999, -999, 9, -999
49NZ20031106, A10, 8, 1, 25, 12037, 2, 20031110, 1506, -29.8058, -40.5783, 3782,    801.7, 2,   4.6176, 2,  34.2828, 2,  34.2823, 2,    223.9, 1,    232.5, 2,    19.80, 2,    28.12, 2,    -0.01, 2,     1.94, 2, -999.000, 9, -999.000, 9, -999.000, 9,   -999.0, 9,   -999.0, 9, -999.0000, 9,   -999.00, -999.000, 1, -999.000,   -999.0, 9,   -999.0,  -999.00, 9,   -999.0,   4.5546, 27.1559,   4.6186, 2, 804.6, 2, 232.77, 2, 0.16, 0.11, 0.01, 0.01, -999, 9,     0.33, 2, 0.16, -999, 1, -999
49NZ20031106, A10, 8, 1, 24, 12036, 2, 20031110, 1506, -29.8058, -40.5783, 3782,    901.6, 2,   4.0106, 2,  34.2850, 2,  34.2850, 2,    217.0, 1,    225.4, 2,    26.47, 2,    29.74, 2,    -0.01, 2,     2.06, 2, -999.000, 9, -999.000, 9, -999.000, 9,   -999.0, 9,   -999.0, 9, -999.0000, 9,   -999.00, -999.000, 9, -999.000,   -999.0, 9,   -999.0,  -999.00, 9,   -999.0,   3.9433, 27.2233,   4.0081, 2, 903.9, 2, 227.66, 2, 0.18, 0.12, 0.01, 0.02, -999, 9,  -999.00, 9, -999, -999, 9, -999
49NZ20031106, A10, 8, 1, 3, 12012, 2, 20031110, 1506, -29.8058, -40.5783, 3782,   1000.8, 2,   3.6669, 2,  34.3227, 2, -999.0000, 9,    205.9, 1,   -999.0, 9,  -999.00, 9,  -999.00, 9,  -999.00, 9,  -999.00, 9, -999.000, 9, -999.000, 9, -999.000, 9,   -999.0, 9,   -999.0, 9, -999.0000, 9,   -999.00, -999.000, 1, -999.000,   -999.0, 9,   -999.0,  -999.00, 9,   -999.0,   3.5941, 27.2875,   3.6689, 2, 1002.9, 2, 215.47, 2, -999, -999, -999, -999, -999, 9,  -999.00, 9, -999, -999, 9, -999
49NZ20031106, A10, 8, 1, 23, 12035, 2, 20031110, 1506, -29.8058, -40.5783, 3782,   1000.9, 2,   3.6603, 2,  34.3233, 2,  34.3224, 2,    205.8, 1,    213.8, 2,    33.68, 2,    31.12, 2,    -0.01, 2,     2.16, 2, -999.000, 9, -999.000, 9, -999.000, 9,   -999.0, 9,   -999.0, 9, -999.0000, 9,   -999.00, -999.000, 1, -999.000,   -999.0, 9,   -999.0,  -999.00, 9,   -999.0,   3.5875, 27.289,   3.6606, 2, 1003.3, 2, 215.41, 2, 0.19, 0.12, 0.01, 0.02, -999, 9,  -999.00, 1, -999, -999, 1, -999
49NZ20031106, A10, 8, 1, 22, 12034, 2, 20031110, 1506, -29.8058, -40.5783, 3782,   1200.4, 2,   3.1058, 2,  34.4236, 2,  34.4246, 2,    189.5, 1,    196.4, 2,    47.58, 2,    32.47, 2,     0.00, 2,     2.25, 2, -999.000, 9, -999.000, 9, -999.000, 9,   -999.0, 9,   -999.0, 9, -999.0000, 9,   -999.00, -999.000, 1, -999.000,   -999.0, 9,   -999.0,  -999.00, 9,   -999.0,   3.0216, 27.4231,   3.1058, 2, 1202.2, 2, 197.55, 2, 0.22, 0.12, 0.01, 0.02, -999, 9,  -999.00, 5, -999, -999, 1, -999
49NZ20031106, A10, 8, 1, 21, 12033, 2, 20031110, 1506, -29.8058, -40.5783, 3782,   1400.3, 2,   2.9476, 2,  34.5687, 2,  34.5694, 2,    182.0, 1,    188.4, 2,    54.45, 2,    31.74, 2,     0.00, 2,     2.19, 2, -999.000, 9, -999.000, 9, -999.000, 9,   -999.0, 9,   -999.0, 9, -999.0000, 9,   -999.00, -999.000, 1, -999.000,   -999.0, 9,   -999.0,  -999.00, 9,   -999.0,   2.8486, 27.5546,   2.9474, 2, 1401.2, 2, 188.23, 2, 0.24, 0.12, 0.01, 0.02, -999, 9,     0.04, 2, 0.02, -999, 1, -999
49NZ20031106, A10, 8, 1, 20, 12032, 2, 20031110, 1506, -29.8058, -40.5783, 3782,   1601.7, 2,   3.3263, 2,  34.7417, 2,  34.7461, 3,    194.2, 1,    200.9, 2,    43.23, 2,    27.86, 2,    -0.01, 2,     1.91, 2, -999.000, 9, -999.000, 9, -999.000, 9,   -999.0, 9,   -999.0, 9, -999.0000, 9,   -999.00, -999.000, 9, -999.000,   -999.0, 9,   -999.0,  -999.00, 9,   -999.0,   3.2055, 27.6603,   3.3275, 2, 1601.1, 2, 202.1, 2, 0.21, 0.11, 0.01, 0.01, -999, 9,  -999.00, 9, -999, -999, 9, -999
49NZ20031106, A10, 8, 1, 19, 12031, 2, 20031110, 1506, -29.8058, -40.5783, 3782,   1800.0, 2,   3.5642, 2,  34.8675, 2,  34.8678, 2,    214.3, 1,    221.9, 2,    31.89, 2,    23.94, 2,    -0.01, 2,     1.63, 2, -999.000, 9, -999.000, 9, -999.000, 9,   -999.0, 9,   -999.0, 9, -999.0000, 9,   -999.00, -999.000, 9, -999.000,   -999.0, 9,   -999.0,  -999.00, 9,   -999.0,   3.4222, 27.7393,   3.5640, 2, 1800.2, 2, 220.98, 2, 0.19, 0.1, 0.01, 0.01, -999, 9,  -999.00, 9, -999, -999, 9, -999
49NZ20031106, A10, 8, 1, 5, 12017, 2, 20031110, 1506, -29.8058, -40.5783, 3782,   2000.8, 2,   3.4709, 2,  34.9082, 2, -999.0000, 9,    226.3, 1,   -999.0, 9,  -999.00, 9,  -999.00, 9,  -999.00, 9,  -999.00, 9, -999.000, 9, -999.000, 9, -999.000, 9,   -999.0, 9,   -999.0, 9, -999.0000, 9,   -999.00, -999.000, 1, -999.000,   -999.0, 9,   -999.0,  -999.00, 9,   -999.0,   3.3113, 27.7824,   3.4710, 2, 2000.7, 2, 234.09, 2, -999, -999, -999, -999, -999, 9,  -999.00, 9, -999, -999, 9, -999
49NZ20031106, A10, 8, 1, 18, 12030, 2, 20031110, 1506, -29.8058, -40.5783, 3782,   2000.9, 2,   3.4709, 2,  34.9082, 2,  34.9077, 2,    226.4, 1,    234.6, 2,    28.70, 2,    22.15, 2,    -0.01, 2,     1.50, 2, -999.000, 9, -999.000, 9, -999.000, 9,   -999.0, 9,   -999.0, 9, -999.0000, 9,   -999.00, -999.000, 1, -999.000,   -999.0, 9,   -999.0,  -999.00, 9,   -999.0,   3.3113, 27.7825,   3.4709, 2, 2000.8, 2, 234.09, 2, 0.18, 0.09, 0.01, 0.01, -999, 9,  -999.00, 1, -999, -999, 1, -999
49NZ20031106, A10, 8, 1, 17, 12029, 2, 20031110, 1506, -29.8058, -40.5783, 3782,   2200.9, 2,   3.3832, 2,  34.9296, 2,  34.9305, 2,    234.3, 1,    243.1, 2,    26.44, 2,    20.94, 2,     0.00, 2,     1.42, 2, -999.000, 9, -999.000, 9, -999.000, 9,   -999.0, 9,   -999.0, 9, -999.0000, 9,   -999.00, -999.000, 9, -999.000,   -999.0, 9,   -999.0,  -999.00, 9,   -999.0,   3.2058, 27.8097,   3.3832, 2, 2200.7, 2, 242.84, 2, 0.18, 0.09, 0.01, 0.01, -999, 9,  -999.00, 9, -999, -999, 9, -999
49NZ20031106, A10, 8, 1, 16, 12028, 2, 20031110, 1506, -29.8058, -40.5783, 3782,   2401.8, 2,   3.2559, 2,  34.9400, 2,  34.9401, 2,    239.7, 1,    248.7, 2,    25.82, 2,    20.26, 2,    -0.01, 2,     1.38, 2, -999.000, 9, -999.000, 9, -999.000, 9,   -999.0, 9,   -999.0, 9, -999.0000, 9,   -999.00, -999.000, 1, -999.000,   -999.0, 9,   -999.0,  -999.00, 9,   -999.0,   3.0610, 27.8318,   3.2563, 2, 2401.9, 2, 247.63, 2, 0.18, 0.09, 0.01, 0.01, -999, 9,  -999.00, 1, -999, -999, 1, -999
49NZ20031106, A10, 8, 1, 15, 12027, 2, 20031110, 1506, -29.8058, -40.5783, 3782,   2600.4, 2,   3.0795, 2,  34.9340, 2,  34.9340, 2,    241.0, 1,    249.9, 2,    27.93, 2,    20.29, 2,    -0.01, 2,     1.38, 2, -999.000, 9, -999.000, 9, -999.000, 9,   -999.0, 9,   -999.0, 9, -999.0000, 9,   -999.00, -999.000, 9, -999.000,   -999.0, 9,   -999.0,  -999.00, 9,   -999.0,   2.8681, 27.8446,   3.0796, 2, 2600.8, 2, 250.18, 2, 0.18, 0.09, 0.01, 0.01, -999, 9,  -999.00, 9, -999, -999, 9, -999
49NZ20031106, A10, 8, 1, 14, 12026, 2, 20031110, 1506, -29.8058, -40.5783, 3782,   2801.7, 2,   2.9614, 2,  34.9301, 2,  34.9303, 2,    242.2, 1,    250.7, 2,    29.54, 2,    20.32, 2,     0.00, 2,     1.38, 2, -999.000, 9, -999.000, 9, -999.000, 9,   -999.0, 9,   -999.0, 9, -999.0000, 9,   -999.00, -999.000, 9, -999.000,   -999.0, 9,   -999.0,  -999.00, 9,   -999.0,   2.7320, 27.8538,   2.9614, 2, 2801.8, 2, 250.6, 2, 0.18, 0.09, 0.01, 0.01, -999, 9,  -999.00, 9, -999, -999, 9, -999
49NZ20031106, A10, 8, 1, 6, 12018, 2, 20031110, 1506, -29.8058, -40.5783, 3782,   3000.2, 2,   2.8493, 2,  34.9246, 2, -999.0000, 9,    243.0, 1,   -999.0, 9,  -999.00, 9,  -999.00, 9,  -999.00, 9,  -999.00, 9, -999.000, 9, -999.000, 9, -999.000, 9,   -999.0, 9,   -999.0, 9, -999.0000, 9,   -999.00, -999.000, 1, -999.000,   -999.0, 9,   -999.0,  -999.00, 9,   -999.0,   2.6018, 27.8609,   2.8493, 2, 3000.8, 2, 251.28, 2, -999, -999, -999, -999, -999, 9,  -999.00, 9, -999, -999, 9, -999
49NZ20031106, A10, 8, 1, 13, 12025, 2, 20031110, 1506, -29.8058, -40.5783, 3782,   3000.4, 2,   2.8489, 2,  34.9246, 2,  34.9246, 2,    243.1, 1,    251.2, 2,    31.29, 2,    20.37, 2,     0.00, 2,     1.39, 2, -999.000, 9, -999.000, 9, -999.000, 9,   -999.0, 9,   -999.0, 9, -999.0000, 9,   -999.00, -999.000, 1, -999.000,   -999.0, 9,   -999.0,  -999.00, 9,   -999.0,   2.6014, 27.861,   2.8489, 2, 3001, 2, 251.27, 2, 0.19, 0.09, 0.01, 0.01, -999, 9,  -999.00, 1, -999, -999, 1, -999
49NZ20031106, A10, 8, 1, 12, 12024, 2, 20031110, 1506, -29.8058, -40.5783, 3782,   3252.3, 2,   2.6195, 2,  34.9094, 2,  34.9093, 2,    243.6, 1,    251.3, 2,    36.35, 2,    20.78, 2,     0.00, 2,     1.42, 2, -999.000, 9, -999.000, 9, -999.000, 9,   -999.0, 9,   -999.0, 9, -999.0000, 9,   -999.00, -999.000, 9, -999.000,   -999.0, 9,   -999.0,  -999.00, 9,   -999.0,   2.3508, 27.8702,   2.6197, 2, 3252.8, 2, 251.21, 2, 0.2, 0.09, 0.01, 0.01, -999, 9,  -999.00, 9, -999, -999, 9, -999
49NZ20031106, A10, 8, 1, 11, 12023, 2, 20031110, 1506, -29.8058, -40.5783, 3782,   3500.9, 2,   1.8006, 2,  34.8298, 2,  34.8296, 2,    232.8, 1,    239.6, 2,    65.92, 2,    24.78, 2,     0.00, 2,     1.71, 2, -999.000, 9, -999.000, 9, -999.000, 9,   -999.0, 9,   -999.0, 9, -999.0000, 9,   -999.00, -999.000, 1, -999.000,   -999.0, 9,   -999.0,  -999.00, 9,   -999.0,   1.5260, 27.8718,   1.8012, 2, 3502.2, 2, 240.71, 2, 0.26, 0.1, 0.01, 0.01, -999, 9,     0.03, 2, 0.02, -999, 1, -999
49NZ20031106, A10, 8, 1, 8, 12020, 9, 20031110, 1506, -29.8058, -40.5783, 3782,   3602.7, 2,   1.4020, 2,  34.7851, 2, -999.0000, 9,    224.8, 1,   -999.0, 9,  -999.00, 9,  -999.00, 9,  -999.00, 9,  -999.00, 9, -999.000, 9, -999.000, 9, -999.000, 9,   -999.0, 9,   -999.0, 9, -999.0000, 9,   -999.00, -999.000, 9, -999.000,   -999.0, 9,   -999.0,  -999.00, 9,   -999.0,   1.1272, 27.8643,   1.4020, 2, 3603.2, 2, 230.17, 2, -999, -999, -999, -999, -999, 9,  -999.00, 9, -999, -999, 9, -999
49NZ20031106, A10, 8, 1, 1, 12013, 2, 20031110, 1506, -29.8058, -40.5783, 3782,   3805.8, 2,   0.5390, 2,  34.6981, 2, -999.0000, 9,    214.9, 1,   -999.0, 9,  -999.00, 9,  -999.00, 9,  -999.00, 9,  -999.00, 9, -999.000, 9, -999.000, 9, -999.000, 9,   -999.0, 9,   -999.0, 9, -999.0000, 9,   -999.00, -999.000, 9, -999.000,   -999.0, 9,   -999.0,  -999.00, 9,   -999.0,   0.2671, 27.8486,   0.5384, 2, 3805.8, 2, 217.34, 2, -999, -999, -999, -999, -999, 9,  -999.00, 9, -999, -999, 9, -999
49NZ20031106, A10, 8, 1, 10, 12022, 2, 20031110, 1506, -29.8058, -40.5783, 3782,   3806.5, 2,   0.5379, 2,  34.6981, 2,  34.6982, 2,    214.9, 1,    219.2, 2,   116.24, 2,    31.58, 2,    -0.01, 2,     2.20, 2, -999.000, 9, -999.000, 9, -999.000, 9,   -999.0, 9,   -999.0, 9, -999.0000, 9,   -999.00, -999.000, 1, -999.000,   -999.0, 9,   -999.0,  -999.00, 9,   -999.0,   0.2659, 27.8486,   0.5368, 2, 3806.5, 2, 217.29, 2, 0.37, 0.12, 0.01, 0.02, -999, 9,  -999.00, 1, -999, -999, 1, -999