BOTTLE,20220818CCHSIOAMB
EXPOCODE,SECT_ID,STNNBR,CASTNO,SAMPNO,BTLNBR,BTLNBR_FLAG_W,DATE,TIME,LATITUDE,LONGITUDE,DEPTH,CTDPRS,CTDPRS_FLAG_W,CTDTMP,CTDTMP_FLAG_W,CTDSAL,CTDSAL_FLAG_W,SALNTY,SALNTY_FLAG_W,CTDOXY,CTDOXY_FLAG_W,OXYGEN,OXYGEN_FLAG_W,SILCAT,SILCAT_FLAG_W,NITRAT,NITRAT_FLAG_W,NITRIT,NITRIT_FLAG_W,PHSPHT,PHSPHT_FLAG_W,CFC-11,CFC-11_FLAG_W,CFC-12,CFC-12_FLAG_W,CFC113,CFC113_FLAG_W,TCARBN,TCARBN_FLAG_W,ALKALI,ALKALI_FLAG_W,PH_TOT,PH_TOT_FLAG_W,PH_TMP,TRITUM,TRITUM_FLAG_W,TRITER,DELC14,DELC14_FLAG_W,C14ERR,DELC13,DELC13_FLAG_W,C13ERR,THETA,SIG0,SBE35,SBE35_FLAG_W,DWNPRS,DWNPRS_FLAG_W,DWNOXY,DWNOXY_FLAG_W,SILUNC,NRAUNC,NRIUNC,PHPUNC,TOC,TOC_FLAG_W,CS-137,CS-137_FLAG_W,CS137ER,PLUTO,PLUTO_FLAG_W,PLUTOER
,,,,,,,,,,,METERS,DBAR,,ITS-90,,PSS-78,,PSS-78,,UMOL/KG,,UMOL/KG,,UMOL/KG,,UMOL/KG,,UMOL/KG,,UMOL/KG,,PMOL/KG,,PMOL/KG,,PMOL/KG,,UMOL/KG,,UMOL/KG,,,,DEG C,TU,,TU,/MILLE,,/MILLE,/MILLE,,/MILLE,DEG C,KG/M^3,ITS-90,,DBAR,,UMOL/KG,,UMOL/KG,UMOL/KG,UMOL/KG,UMOL/KG,UMOL/KG,,BQ/M^3,,BQ/M^3,MBQ/M^3,,MBQ/M^3
49NZ20031106, A10, 98, 1, 36, 12024, 2, 20031202, 1245, -28.7542, 14.3555, 489,     10.1, 2,  18.3305, 2,  35.2873, 2,  35.2882, 2,    225.6, 1,    237.8, 2,     2.28, 2,     0.48, 2,     0.07, 2,     0.27, 2, -999.000, 9, -999.000, 9, -999.000, 9,   -999.0, 9,   -999.0, 9, -999.0000, 9,   -999.00, -999.000, 9, -999.000,   -999.0, 9,   -999.0,  -999.00, 9,   -999.0,  18.3287, 25.4126,  18.3296, 2, 6.3, 2, 237.7, 2, 0.12, 0.03, 0.01, 0.01, -999, 9,  -999.00, 9, -999, -999, 9, -999
49NZ20031106, A10, 98, 1, 1, 12025, 9, 20031202, 1245, -28.7542, 14.3555, 489,     10.3, 2,  18.3180, 2,  35.2875, 2, -999.0000, 9,    225.6, 1,   -999.0, 9,  -999.00, 9,  -999.00, 9,  -999.00, 9,  -999.00, 9, -999.000, 9, -999.000, 9, -999.000, 9,   -999.0, 9,   -999.0, 9, -999.0000, 9,   -999.00, -999.000, 9, -999.000,   -999.0, 9,   -999.0,  -999.00, 9,   -999.0,  18.3162, 25.4155,  18.3178, 2, 7.1, 2, 237.55, 2, -999, -999, -999, -999, -999, 9,  -999.00, 9, -999, -999, 9, -999
49NZ20031106, A10, 98, 1, 35, 12023, 2, 20031202, 1245, -28.7542, 14.3555, 489,     50.3, 2,  17.3061, 2,  35.3355, 2,  35.3375, 2,    222.8, 1,    234.7, 2,     2.30, 2,     1.64, 2,     0.13, 2,     0.32, 2, -999.000, 9, -999.000, 9, -999.000, 9,   -999.0, 9,   -999.0, 9, -999.0000, 9,   -999.00, -999.000, 9, -999.000,   -999.0, 9,   -999.0,  -999.00, 9,   -999.0,  17.2977, 25.7063,  17.3039, 2, 50.4, 2, 233.69, 2, 0.12, 0.04, 0.01, 0.01, -999, 9,  -999.00, 9, -999, -999, 9, -999
49NZ20031106, A10, 98, 1, 28, 12016, 2, 20031202, 1245, -28.7542, 14.3555, 489,    100.0, 2,  14.4269, 2,  35.2504, 2,  35.2479, 2,    203.1, 1,    212.7, 2,     4.48, 2,     8.06, 2,     0.12, 2,     0.68, 2, -999.000, 9, -999.000, 9, -999.000, 9,   -999.0, 9,   -999.0, 9, -999.0000, 9,   -999.00, -999.000, 9, -999.000,   -999.0, 9,   -999.0,  -999.00, 9,   -999.0,  14.4122, 26.2953,  14.4232, 2, 101.3, 2, 212.97, 2, 0.13, 0.06, 0.01, 0.01, -999, 9,  -999.00, 9, -999, -999, 9, -999
49NZ20031106, A10, 98, 1, 27, 12012, 2, 20031202, 1245, -28.7542, 14.3555, 489,    151.3, 2,  11.6315, 2,  34.9767, 2,  34.9773, 2,    186.4, 1,    194.6, 2,     7.57, 2,    14.81, 2,     0.04, 2,     1.12, 2, -999.000, 9, -999.000, 9, -999.000, 9,   -999.0, 9,   -999.0, 9, -999.0000, 9,   -999.00, -999.000, 9, -999.000,   -999.0, 9,   -999.0,  -999.00, 9,   -999.0,  11.6122, 26.646,  11.6360, 2, 151.7, 2, 195.79, 2, 0.14, 0.07, 0.01, 0.01, -999, 9,  -999.00, 9, -999, -999, 9, -999
49NZ20031106, A10, 98, 1, 19, 12043, 2, 20031202, 1245, -28.7542, 14.3555, 489,    200.6, 2,  10.3100, 2,  34.8425, 2,  34.8399, 2,    167.7, 1,    172.1, 2,    10.98, 2,    19.55, 2,     0.02, 2,     1.45, 2, -999.000, 9, -999.000, 9, -999.000, 9,   -999.0, 9,   -999.0, 9, -999.0000, 9,   -999.00, -999.000, 9, -999.000,   -999.0, 9,   -999.0,  -999.00, 9,   -999.0,  10.2863, 26.7811,  10.3099, 2, 199.8, 2, 176.79, 2, 0.14, 0.09, 0.01, 0.01, -999, 9,  -999.00, 9, -999, -999, 9, -999
49NZ20031106, A10, 98, 1, 18, 12042, 2, 20031202, 1245, -28.7542, 14.3555, 489,    249.6, 2,   9.7852, 2,  34.8163, 2,  34.8163, 2,     91.1, 1,     92.9, 2,    21.47, 2,    27.45, 2,     0.02, 2,     2.05, 2, -999.000, 9, -999.000, 9, -999.000, 9,   -999.0, 9,   -999.0, 9, -999.0000, 9,   -999.00, -999.000, 9, -999.000,   -999.0, 9,   -999.0,  -999.00, 9,   -999.0,   9.7566, 26.8515,   9.7856, 2, 249.6, 2, 104.04, 2, 0.17, 0.11, 0.01, 0.02, -999, 9,  -999.00, 9, -999, -999, 9, -999
49NZ20031106, A10, 98, 1, 10, 12034, 2, 20031202, 1245, -28.7542, 14.3555, 489,    300.1, 2,   9.6237, 2,  34.8006, 2,  34.7873, 3,     90.4, 1,     98.0, 2,    21.13, 2,    27.65, 2,     0.02, 2,     2.06, 2, -999.000, 9, -999.000, 9, -999.000, 9,   -999.0, 9,   -999.0, 9, -999.0000, 9,   -999.00, -999.000, 9, -999.000,   -999.0, 9,   -999.0,  -999.00, 9,   -999.0,   9.5896, 26.8659,   9.6311, 2, 303.3, 2, 89.68, 2, 0.17, 0.11, 0.01, 0.02, -999, 9,  -999.00, 9, -999, -999, 9, -999
49NZ20031106, A10, 98, 1, 9, 12033, 2, 20031202, 1245, -28.7542, 14.3555, 489,    400.5, 2,   8.1228, 2,  34.6386, 2,  34.6392, 2,    129.9, 1,    133.5, 2,    18.80, 2,    28.55, 2,     0.03, 2,     2.02, 2, -999.000, 9, -999.000, 9, -999.000, 9,   -999.0, 9,   -999.0, 9, -999.0000, 9,   -999.00, -999.000, 9, -999.000,   -999.0, 9,   -999.0,  -999.00, 9,   -999.0,   8.0816, 26.981,   8.1206, 2, 398.7, 2, 134.23, 2, 0.16, 0.11, 0.01, 0.02, -999, 9,  -999.00, 9, -999, -999, 9, -999
49NZ20031106, A10, 98, 1, 17, 12041, 9, 20031202, 1245, -28.7542, 14.3555, 489,    400.8, 2,   8.1294, 2,  34.6398, 2, -999.0000, 9,    129.6, 1,   -999.0, 9,  -999.00, 9,  -999.00, 9,  -999.00, 9,  -999.00, 9, -999.000, 9, -999.000, 9, -999.000, 9,   -999.0, 9,   -999.0, 9, -999.0000, 9,   -999.00, -999.000, 9, -999.000,   -999.0, 9,   -999.0,  -999.00, 9,   -999.0,   8.0881, 26.9797,   8.1312, 2, 398.9, 2, 134.26, 2, -999, -999, -999, -999, -999, 9,  -999.00, 9, -999, -999, 9, -999
49NZ20031106, A10, 98, 1, 26, 12014, 9, 20031202, 1245, -28.7542, 14.3555, 489,    401.0, 2,   8.1258, 2,  34.6393, 2, -999.0000, 9,    129.6, 1,   -999.0, 9,  -999.00, 9,  -999.00, 9,  -999.00, 9,  -999.00, 9, -999.000, 9, -999.000, 9, -999.000, 9,   -999.0, 9,   -999.0, 9, -999.0000, 9,   -999.00, -999.000, 9, -999.000,   -999.0, 9,   -999.0,  -999.00, 9,   -999.0,   8.0845, 26.9802,   8.1289, 2, 399, 2, 134.28, 2, -999, -999, -999, -999, -999, 9,  -999.00, 9, -999, -999, 9, -999
49NZ20031106, A10, 98, 1, 8, 12032, 2, 20031202, 1245, -28.7542, 14.3555, 489,    481.9, 2,   6.4255, 2,  34.4998, 2,  34.5034, 2,    142.8, 1,    146.3, 2,    22.47, 2,    31.47, 2,     0.04, 2,     2.19, 2, -999.000, 9, -999.000, 9, -999.000, 9,   -999.0, 9,   -999.0, 9, -999.0000, 9,   -999.00, -999.000, 9, -999.000,   -999.0, 9,   -999.0,  -999.00, 9,   -999.0,   6.3819, 27.1099,   6.4284, 2, 482.1, 2, 147.35, 2, 0.17, 0.12, 0.01, 0.02, -999, 9,  -999.00, 9, -999, -999, 9, -999
49NZ20031106, A10, 99, 1, 36, 12024, 2, 20031202, 1444, -28.6218, 14.6867, 169,     11.0, 2,  18.0707, 2,  35.1360, 2,  35.1360, 2,    227.7, 1,    239.6, 2,     2.41, 2,     0.57, 2,     0.05, 2,     0.30, 2, -999.000, 9, -999.000, 9, -999.000, 9,   -999.0, 9,   -999.0, 9, -999.0000, 9,   -999.00, -999.000, 9, -999.000,   -999.0, 9,   -999.0,  -999.00, 9,   -999.0,  18.0688, 25.3605,  18.0700, 2, 9.4, 2, 239.95, 2, 0.12, 0.03, 0.01, 0.01, -999, 9,  -999.00, 9, -999, -999, 9, -999
49NZ20031106, A10, 99, 1, 27, 12012, 2, 20031202, 1444, -28.6218, 14.6867, 169,     51.4, 2,  15.6363, 2,  35.2600, 2,  35.2587, 2,    208.8, 1,    219.7, 2,     3.88, 2,     5.04, 2,     0.22, 2,     0.52, 2, -999.000, 9, -999.000, 9, -999.000, 9,   -999.0, 9,   -999.0, 9, -999.0000, 9,   -999.00, -999.000, 9, -999.000,   -999.0, 9,   -999.0,  -999.00, 9,   -999.0,  15.6283, 26.0239,  15.6724, 2, 51.6, 2, 214.15, 2, 0.13, 0.05, 0.01, 0.01, -999, 9,  -999.00, 9, -999, -999, 9, -999
49NZ20031106, A10, 99, 1, 18, 12042, 2, 20031202, 1444, -28.6218, 14.6867, 169,    101.0, 2,  12.1408, 2,  35.0484, 2,  35.0482, 2,    194.2, 1,    202.1, 2,     6.45, 2,    13.09, 2,     0.04, 2,     0.99, 2, -999.000, 9, -999.000, 9, -999.000, 9,   -999.0, 9,   -999.0, 9, -999.0000, 9,   -999.00, -999.000, 9, -999.000,   -999.0, 9,   -999.0,  -999.00, 9,   -999.0,  12.1276, 26.6031,  12.1430, 2, 100.9, 2, 202.93, 2, 0.13, 0.07, 0.01, 0.01, -999, 9,  -999.00, 9, -999, -999, 9, -999
49NZ20031106, A10, 99, 1, 9, 12033, 2, 20031202, 1444, -28.6218, 14.6867, 169,    154.7, 2,  11.3060, 2,  34.9487, 2,  34.9484, 2,    186.6, 1,    193.9, 2,     8.27, 2,    15.39, 2,     0.07, 2,     1.16, 2, -999.000, 9, -999.000, 9, -999.000, 9,   -999.0, 9,   -999.0, 9, -999.0000, 9,   -999.00, -999.000, 9, -999.000,   -999.0, 9,   -999.0,  -999.00, 9,   -999.0,  11.2866, 26.6843,  11.3074, 2, 154.5, 2, 194.06, 2, 0.14, 0.08, 0.01, 0.01, -999, 9,  -999.00, 9, -999, -999, 9, -999
49NZ20031106, A10, 100, 1, 36, 12024, 2, 20031202, 1623, -28.5025, 15.0012, 178,     10.7, 2,  17.5269, 2,  35.1402, 2,  35.1397, 2,    227.2, 1,    238.8, 2,     2.34, 2,     1.59, 2,     0.11, 2,     0.35, 2, -999.000, 9, -999.000, 9, -999.000, 9,   -999.0, 9,   -999.0, 9, -999.0000, 9,   -999.00, -999.000, 9, -999.000,   -999.0, 9,   -999.0,  -999.00, 9,   -999.0,  17.5251, 25.4971,  17.5264, 2, 11.5, 2, 238.28, 2, 0.12, 0.04, 0.01, 0.01, -999, 9,  -999.00, 9, -999, -999, 9, -999
49NZ20031106, A10, 100, 1, 27, 12012, 2, 20031202, 1623, -28.5025, 15.0012, 178,     51.7, 2,  17.0926, 2,  35.1871, 2,  35.1857, 2,    223.6, 1,    235.1, 2,     2.46, 2,     1.72, 2,     0.15, 2,     0.36, 2, -999.000, 9, -999.000, 9, -999.000, 9,   -999.0, 9,   -999.0, 9, -999.0000, 9,   -999.00, -999.000, 9, -999.000,   -999.0, 9,   -999.0,  -999.00, 9,   -999.0,  17.0841, 25.6382,  17.0964, 2, 51.5, 2, 233.98, 2, 0.12, 0.04, 0.01, 0.01, -999, 9,  -999.00, 9, -999, -999, 9, -999
49NZ20031106, A10, 100, 1, 18, 12042, 2, 20031202, 1623, -28.5025, 15.0012, 178,    100.4, 2,  12.1475, 2,  35.0166, 2,  35.0336, 3,    184.7, 1,    193.3, 2,     7.14, 2,    13.98, 2,     0.11, 2,     1.07, 2, -999.000, 9, -999.000, 9, -999.000, 9,   -999.0, 9,   -999.0, 9, -999.0000, 9,   -999.00, -999.000, 9, -999.000,   -999.0, 9,   -999.0,  -999.00, 9,   -999.0,  12.1343, 26.577,  12.1720, 2, 99.5, 2, 191.9, 2, 0.13, 0.07, 0.01, 0.01, -999, 9,  -999.00, 9, -999, -999, 9, -999
49NZ20031106, A10, 100, 1, 17, 12041, 9, 20031202, 1623, -28.5025, 15.0012, 178,    100.5, 2,  12.1744, 2,  35.0207, 2, -999.0000, 9,    184.4, 1,   -999.0, 9,  -999.00, 9,  -999.00, 9,  -999.00, 9,  -999.00, 9, -999.000, 9, -999.000, 9, -999.000, 9,   -999.0, 9,   -999.0, 9, -999.0000, 9,   -999.00, -999.000, 9, -999.000,   -999.0, 9,   -999.0,  -999.00, 9,   -999.0,  12.1612, 26.5695,  12.2022, 2, 99.4, 2, 191.89, 2, -999, -999, -999, -999, -999, 9,  -999.00, 9, -999, -999, 9, -999
49NZ20031106, A10, 100, 1, 9, 12033, 2, 20031202, 1623, -28.5025, 15.0012, 178,    163.0, 2,  10.1484, 2,  34.8210, 2,  34.8209, 2,    147.0, 1,    151.4, 2,    14.99, 2,    20.65, 2,     0.05, 2,     1.62, 2, -999.000, 9, -999.000, 9, -999.000, 9,   -999.0, 9,   -999.0, 9, -999.0000, 9,   -999.00, -999.000, 9, -999.000,   -999.0, 9,   -999.0,  -999.00, 9,   -999.0,  10.1294, 26.7911,  10.1488, 2, 163, 2, 152.92, 2, 0.15, 0.09, 0.01, 0.01, -999, 9,  -999.00, 9, -999, -999, 9, -999