BOTTLE,20220818CCHSIOAMB
EXPOCODE,SECT_ID,STNNBR,CASTNO,SAMPNO,BTLNBR,BTLNBR_FLAG_W,DATE,TIME,LATITUDE,LONGITUDE,DEPTH,CTDPRS,CTDPRS_FLAG_W,CTDTMP,CTDTMP_FLAG_W,CTDSAL,CTDSAL_FLAG_W,SALNTY,SALNTY_FLAG_W,CTDOXY,CTDOXY_FLAG_W,OXYGEN,OXYGEN_FLAG_W,SILCAT,SILCAT_FLAG_W,NITRAT,NITRAT_FLAG_W,NITRIT,NITRIT_FLAG_W,PHSPHT,PHSPHT_FLAG_W,CFC-11,CFC-11_FLAG_W,CFC-12,CFC-12_FLAG_W,CFC113,CFC113_FLAG_W,TCARBN,TCARBN_FLAG_W,ALKALI,ALKALI_FLAG_W,PH_TOT,PH_TOT_FLAG_W,PH_TMP,TRITUM,TRITUM_FLAG_W,TRITER,DELC14,DELC14_FLAG_W,C14ERR,DELC13,DELC13_FLAG_W,C13ERR,THETA,SIG0,SBE35,SBE35_FLAG_W,DWNPRS,DWNPRS_FLAG_W,DWNOXY,DWNOXY_FLAG_W,SILUNC,NRAUNC,NRIUNC,PHPUNC,TOC,TOC_FLAG_W,CS-137,CS-137_FLAG_W,CS137ER,PLUTO,PLUTO_FLAG_W,PLUTOER
,,,,,,,,,,,METERS,DBAR,,ITS-90,,PSS-78,,PSS-78,,UMOL/KG,,UMOL/KG,,UMOL/KG,,UMOL/KG,,UMOL/KG,,UMOL/KG,,PMOL/KG,,PMOL/KG,,PMOL/KG,,UMOL/KG,,UMOL/KG,,,,DEG C,TU,,TU,/MILLE,,/MILLE,/MILLE,,/MILLE,DEG C,KG/M^3,ITS-90,,DBAR,,UMOL/KG,,UMOL/KG,UMOL/KG,UMOL/KG,UMOL/KG,UMOL/KG,,BQ/M^3,,BQ/M^3,MBQ/M^3,,MBQ/M^3
49NZ20031106, A10, 71, 1, 3, 12027, 2, 20031126, 643, -30.0048, -1.4903, 4749,      4.4, 2,  18.3321, 2,  35.8378, 2, -999.0000, 9,    227.0, 1,   -999.0, 9,  -999.00, 9,  -999.00, 9,  -999.00, 9,  -999.00, 9, -999.000, 9, -999.000, 9, -999.000, 9,   -999.0, 9,   -999.0, 9, -999.0000, 9,   -999.00, -999.000, 9, -999.000,   -999.0, 9,   -999.0,  -999.00, 9,   -999.0,  18.3313, 25.8328,  18.3286, 2, 7.8, 2, 239.61, 2, -999, -999, -999, -999, -999, 9,  -999.00, 9, -999, -999, 9, -999
49NZ20031106, A10, 71, 1, 4, 12028, 2, 20031126, 643, -30.0048, -1.4903, 4749,      4.6, 2,  18.3314, 2,  35.8377, 2, -999.0000, 9,    226.5, 1,   -999.0, 9,  -999.00, 9,  -999.00, 9,  -999.00, 9,  -999.00, 9, -999.000, 9, -999.000, 9, -999.000, 9,   -999.0, 9,   -999.0, 9, -999.0000, 9,   -999.00, -999.000, 9, -999.000,   -999.0, 9,   -999.0,  -999.00, 9,   -999.0,  18.3306, 25.8322,  18.3352, 2, 8, 2, 239.64, 2, -999, -999, -999, -999, -999, 9,  -999.00, 9, -999, -999, 9, -999
49NZ20031106, A10, 71, 1, 36, 12024, 2, 20031126, 643, -30.0048, -1.4903, 4749,     10.1, 2,  18.3237, 2,  35.8373, 2,  35.8369, 2,    227.1, 1,    240.2, 2,     1.22, 2,    -0.01, 2,     0.00, 2,     0.15, 2,    2.706, 2,    1.511, 2,    0.198, 4,   2059.7, 2,   2349.1, 2,    8.0071, 2,     25.00, -999.000, 9, -999.000,     56.9, 3,      4.1,     1.22, 2,      0.0,  18.3219, 25.8345,  18.3243, 2, 12.5, 2, 239.37, 2, 0.12, 0.03, 0.01, 0.02, -999, 1,  -999.00, 9, -999, -999, 9, -999
49NZ20031106, A10, 71, 1, 35, 12023, 2, 20031126, 643, -30.0048, -1.4903, 4749,     50.1, 2,  17.8938, 2,  35.8180, 2,  35.8182, 2,    226.0, 1,    239.3, 2,     1.40, 2,     0.07, 2,     0.12, 2,     0.18, 2,    2.696, 2,    1.521, 2,    0.188, 4,   2060.5, 6,   2344.4, 2,    8.0030, 2,     25.00, -999.000, 9, -999.000,     80.9, 2,      3.9,     1.16, 2,      0.0,  17.8852, 25.9285,  17.8944, 2, 53.4, 2, 237.67, 2, 0.12, 0.03, 0.01, 0.02, -999, 1,  -999.00, 9, -999, -999, 9, -999
49NZ20031106, A10, 71, 1, 5, 12029, 2, 20031126, 643, -30.0048, -1.4903, 4749,     50.1, 2,  17.8858, 2,  35.8178, 2, -999.0000, 9,    226.3, 1,   -999.0, 9,  -999.00, 9,  -999.00, 9,  -999.00, 9,  -999.00, 9, -999.000, 9, -999.000, 9, -999.000, 9,   -999.0, 9,   -999.0, 9, -999.0000, 9,   -999.00, -999.000, 9, -999.000,   -999.0, 9,   -999.0,  -999.00, 9,   -999.0,  17.8772, 25.9303,  17.8855, 2, 53.5, 2, 237.72, 2, -999, -999, -999, -999, -999, 9,  -999.00, 9, -999, -999, 9, -999
49NZ20031106, A10, 71, 1, 2, 12026, 2, 20031126, 643, -30.0048, -1.4903, 4749,     73.3, 2,  17.3907, 2,  35.7939, 2, -999.0000, 9,    222.7, 1,   -999.0, 9,  -999.00, 9,  -999.00, 9,  -999.00, 9,  -999.00, 9, -999.000, 9, -999.000, 9, -999.000, 9,   -999.0, 9,   -999.0, 9, -999.0000, 9,   -999.00, -999.000, 9, -999.000,   -999.0, 9,   -999.0,  -999.00, 9,   -999.0,  17.3784, 26.0343,  17.3903, 2, 78.5, 2, 235.51, 2, -999, -999, -999, -999, -999, 9,  -999.00, 9, -999, -999, 9, -999
49NZ20031106, A10, 71, 1, 34, 12022, 2, 20031126, 643, -30.0048, -1.4903, 4749,    101.5, 2,  17.1798, 2,  35.7846, 2,  35.7849, 2,    220.0, 1,    232.7, 2,     2.43, 2,     0.85, 2,     0.87, 2,     0.26, 2,    2.729, 2,    1.533, 2,    0.208, 4,   2070.3, 2,   2344.2, 6,    7.9841, 2,     25.00, -999.000, 9, -999.000,     85.3, 2,      3.7,     1.00, 2,      0.0,  17.1629, 26.0794,  17.1800, 2, 101.7, 2, 232.03, 2, 0.12, 0.04, 0, 0.01, -999, 1,  -999.00, 9, -999, -999, 9, -999
49NZ20031106, A10, 71, 1, 33, 12015, 2, 20031126, 643, -30.0048, -1.4903, 4749,    151.1, 2,  16.9087, 2,  35.7495, 2,  35.7452, 3,    214.0, 1,    225.8, 2,     2.80, 2,     2.84, 2,     0.01, 2,     0.33, 2,    2.791, 2,    1.563, 2,    0.167, 4,   2075.3, 2,   2341.0, 2,    7.9707, 6,     25.00, -999.000, 9, -999.000,     72.1, 2,      4.1,     0.99, 2,      0.0,  16.8838, 26.1189,  16.9083, 2, 157.5, 2, 228.92, 2, 0.13, 0.04, 0.01, 0.01, -999, 1,  -999.00, 9, -999, -999, 9, -999
49NZ20031106, A10, 71, 1, 32, 12020, 2, 20031126, 643, -30.0048, -1.4903, 4749,    198.8, 2,  15.6707, 2,  35.6163, 2,  35.6155, 2,    212.1, 1,    223.2, 2,     3.22, 2,     4.81, 2,     0.01, 2,     0.45, 2,    2.963, 2,    1.633, 2,    0.131, 4,   2083.7, 2,   2334.7, 2,    7.9423, 2,     25.00, -999.000, 9, -999.000,     88.2, 6,      2.7,     0.93, 6,      0.0,  15.6395, 26.306,  15.6709, 2, 206.9, 2, 220.94, 2, 0.13, 0.05, 0.01, 0.01, -999, 1,  -999.00, 9, -999, -999, 9, -999
49NZ20031106, A10, 71, 1, 31, 12019, 2, 20031126, 643, -30.0048, -1.4903, 4749,    250.3, 2,  15.4708, 2,  35.6011, 2,  35.6013, 2,    215.1, 1,    227.0, 3,     3.27, 2,     4.83, 2,     0.01, 2,     0.45, 2,    2.971, 6,    1.647, 6,    0.142, 4,   2083.0, 2,   2332.0, 2,    7.9428, 2,     25.00, -999.000, 9, -999.000,     82.6, 2,      3.8,     0.92, 2,      0.0,  15.4318, 26.3414,  15.4715, 2, 251, 2, 225.58, 2, 0.13, 0.05, 0.01, 0.01, -999, 1,  -999.00, 9, -999, -999, 9, -999
49NZ20031106, A10, 71, 1, 30, 12018, 2, 20031126, 643, -30.0048, -1.4903, 4749,    301.1, 2,  15.4092, 2,  35.5887, 2,  35.5888, 2,    215.8, 1,    227.7, 2,     3.22, 2,     4.83, 2,     0.01, 2,     0.45, 2,    2.942, 2,    1.636, 2,    0.121, 4,   2081.7, 2,   2333.5, 2,    7.9415, 2,     25.00, -999.000, 9, -999.000,     89.0, 2,      5.7,     0.95, 2,      0.0,  15.3624, 26.3477,  15.4083, 2, 301.6, 2, 227.28, 2, 0.13, 0.05, 0.01, 0.01, -999, 1,  -999.00, 9, -999, -999, 9, -999
49NZ20031106, A10, 71, 1, 29, 12017, 2, 20031126, 643, -30.0048, -1.4903, 4749,    400.1, 2,  13.2104, 2,  35.2467, 2,  35.2445, 3,    199.3, 1,    209.0, 2,     5.14, 2,    10.29, 2,     0.01, 2,     0.80, 2,    3.090, 2,    1.607, 2,    0.069, 4,   2111.6, 2,   2314.4, 2,    7.8636, 2,     25.00, -999.000, 9, -999.000,     70.1, 2,      3.9,     1.00, 2,      0.0,  13.1542, 26.5549,  13.2119, 2, 408, 2, 211.18, 2, 0.13, 0.06, 0.01, 0.01, -999, 1,  -999.00, 9, -999, -999, 9, -999
49NZ20031106, A10, 71, 1, 28, 12016, 2, 20031126, 643, -30.0048, -1.4903, 4749,    500.3, 2,  11.5432, 2,  35.0200, 2,  35.0205, 2,    188.7, 1,    197.6, 2,     8.19, 2,    14.89, 2,     0.00, 2,     1.09, 2,    2.862, 2,    1.441, 2,    0.074, 4,   2129.7, 2,   2305.5, 2,    7.8070, 2,     25.00, -999.000, 9, -999.000,     66.5, 2,      3.8,     1.03, 2,      0.0,  11.4787, 26.7053,  11.5430, 2, 503.8, 2, 198.66, 2, 0.14, 0.07, 0.01, 0.01, -999, 1,  -999.00, 9, -999, -999, 9, -999
49NZ20031106, A10, 71, 1, 27, 12012, 2, 20031126, 643, -30.0048, -1.4903, 4749,    599.2, 2,  10.9030, 2,  34.9374, 2,  34.9384, 2,    192.6, 1,    201.3, 2,     8.72, 2,    15.95, 2,     0.00, 2,     1.16, 2,    2.843, 2,    1.420, 2,    0.062, 4,   2131.9, 2,   2305.8, 2,    7.7962, 2,     25.00, -999.000, 9, -999.000,     67.4, 2,      3.8,     1.06, 2,      0.0,  10.8282, 26.7599,  10.9037, 2, 602.9, 2, 198.03, 2, 0.14, 0.08, 0.01, 0.01, -999, 1,  -999.00, 9, -999, -999, 9, -999
49NZ20031106, A10, 71, 1, 26, 12014, 2, 20031126, 643, -30.0048, -1.4903, 4749,    700.0, 2,  10.4029, 2,  34.8748, 2,  34.8752, 2,    191.7, 1,    200.4, 2,     9.85, 2,    17.21, 2,     0.00, 2,     1.25, 2,    2.724, 2,    1.351, 2,    0.070, 4,   2136.8, 6,   2299.2, 2,    7.7813, 2,     25.00, -999.000, 9, -999.000,     61.8, 2,      3.7,     1.06, 2,      0.0,  10.3177, 26.8014,  10.4030, 2, 702.5, 2, 200.36, 2, 0.14, 0.08, 0.01, 0.01, -999, 1,  -999.00, 9, -999, -999, 9, -999
49NZ20031106, A10, 71, 1, 25, 12013, 2, 20031126, 643, -30.0048, -1.4903, 4749,    799.9, 2,   9.6018, 2,  34.7768, 2,  34.7766, 2,    190.8, 1,    199.8, 2,    11.60, 2,    19.18, 2,     0.00, 2,     1.36, 2,    2.573, 2,    1.269, 2,    0.092, 4,   2142.8, 2,   2296.3, 6,    7.7621, 2,     25.00, -999.000, 9, -999.000,     36.0, 2,      3.6,     1.08, 2,      0.0,   9.5087, 26.8621,   9.6024, 2, 801.2, 2, 200.45, 2, 0.14, 0.09, 0.01, 0.01, -999, 1,  -999.00, 9, -999, -999, 9, -999
49NZ20031106, A10, 71, 1, 24, 12048, 2, 20031126, 643, -30.0048, -1.4903, 4749,    899.0, 2,   8.7513, 2,  34.6856, 2,  34.6855, 2,    186.6, 1,    195.0, 2,    14.46, 2,    21.66, 2,    -0.01, 2,     1.53, 2,    2.425, 2,    1.206, 2,    0.071, 4,   2155.2, 2,   2298.5, 2,    7.7304, 6,     25.00, -999.000, 9, -999.000,     26.4, 2,      3.6,     1.04, 2,      0.0,   8.6518, 26.9286,   8.7512, 2, 896.8, 2, 195.55, 2, 0.15, 0.09, 0.01, 0.01, -999, 1,  -999.00, 9, -999, -999, 9, -999
49NZ20031106, A10, 71, 1, 23, 12047, 2, 20031126, 643, -30.0048, -1.4903, 4749,   1001.1, 2,   7.0831, 2,  34.5133, 2,  34.5062, 4,    192.9, 1,    202.1, 2,    17.60, 2,    25.33, 2,    -0.01, 2,     1.77, 2,    2.598, 2,    1.273, 2,    0.129, 4,   2166.6, 2,   2292.7, 2,    7.6926, 2,     25.00, -999.000, 9, -999.000,    -10.3, 2,      3.7,     1.05, 2,      0.0,   6.9841, 27.0389,   7.0849, 2, 996.3, 2, 203.67, 2, 0.16, 0.1, 0.01, 0.01, -999, 1,  -999.00, 9, -999, -999, 9, -999
49NZ20031106, A10, 71, 1, 22, 12046, 2, 20031126, 643, -30.0048, -1.4903, 4749,   1200.5, 2,   4.1820, 2,  34.3561, 2,  34.3574, 3,    193.1, 1,    202.3, 3,    33.22, 2,    31.42, 2,    -0.01, 2,     2.16, 2,    1.746, 2,    0.859, 2,    0.080, 4,   2199.4, 2,   2297.6, 2,    7.6287, 2,     25.00, -999.000, 9, -999.000,    -72.2, 2,      3.3,     0.91, 2,      0.0,   4.0880, 27.2659,   4.1819, 2, 1203.3, 2, 204.66, 2, 0.19, 0.12, 0.01, 0.02, -999, 1,  -999.00, 9, -999, -999, 9, -999
49NZ20031106, A10, 71, 1, 21, 12045, 2, 20031126, 643, -30.0048, -1.4903, 4749,   1402.0, 2,   3.3532, 2,  34.4640, 2,  34.4651, 3,    176.0, 1,    184.0, 2,    49.29, 2,    33.17, 2,    -0.01, 2,     2.30, 2,    0.607, 2,    0.334, 2,    0.011, 4,   2225.0, 2,   2316.3, 2,    7.5964, 2,     25.00, -999.000, 9, -999.000,   -105.5, 2,      3.5,     0.67, 2,      0.0,   3.2499, 27.4351,   3.3531, 2, 1406.6, 2, 187.15, 2, 0.23, 0.13, 0.01, 0.02, -999, 1,  -999.00, 9, -999, -999, 9, -999
49NZ20031106, A10, 71, 1, 20, 12044, 2, 20031126, 643, -30.0048, -1.4903, 4749,   1600.2, 2,   3.1366, 2,  34.5953, 2,  34.5949, 2,    173.9, 1,    182.1, 2,    53.46, 2,    32.07, 2,    -0.01, 2,     2.21, 2,    0.190, 2,    0.111, 2,    0.000, 4,   2230.7, 2,   2321.8, 2,    7.6066, 2,     25.00, -999.000, 9, -999.000,   -127.2, 2,      3.2,     0.66, 2,      0.0,   3.0186, 27.5608,   3.1374, 2, 1601.3, 2, 182.01, 2, 0.24, 0.12, 0.01, 0.02, -999, 1,  -999.00, 9, -999, -999, 9, -999
49NZ20031106, A10, 71, 1, 19, 12043, 2, 20031126, 643, -30.0048, -1.4903, 4749,   1802.4, 2,   3.0655, 2,  34.7179, 2,  34.7184, 2,    185.5, 1,    194.5, 2,    50.16, 2,    29.31, 2,    -0.01, 2,     2.02, 2,    0.054, 2,    0.031, 2,    0.000, 4,   2221.0, 2,   2325.9, 2,    7.6378, 2,     25.00, -999.000, 9, -999.000,   -129.2, 2,      3.4,     0.73, 2,      0.0,   2.9305, 27.6673,   3.0656, 2, 1803.1, 2, 192.86, 2, 0.23, 0.11, 0.01, 0.02, -999, 1,  -999.00, 9, -999, -999, 9, -999
49NZ20031106, A10, 71, 1, 18, 12042, 2, 20031126, 643, -30.0048, -1.4903, 4749,   2001.3, 2,   3.0056, 2,  34.7671, 2,  34.7671, 2,    194.1, 1,    203.6, 2,    48.34, 2,    27.81, 2,    -0.01, 2,     1.91, 2,    0.021, 2,    0.014, 2,    0.000, 4,   2213.1, 2,   2326.6, 2,    7.6559, 6,     25.00, -999.000, 9, -999.000,   -122.9, 2,      3.4,     0.73, 2,      0.0,   2.8534, 27.7136,   3.0058, 2, 2002.5, 2, 202.27, 2, 0.23, 0.11, 0.01, 0.01, -999, 1,  -999.00, 9, -999, -999, 9, -999
49NZ20031106, A10, 71, 1, 17, 12041, 2, 20031126, 643, -30.0048, -1.4903, 4749,   2202.1, 2,   2.8812, 2,  34.8001, 2,  34.7999, 2,    201.9, 1,    211.8, 2,    48.51, 2,    26.69, 2,    -0.01, 2,     1.83, 2,    0.008, 2,    0.006, 2,    0.000, 4,   2207.4, 2,   2330.2, 2,    7.6717, 2,     25.00, -999.000, 9, -999.000,   -114.5, 2,      3.4,     0.78, 2,      0.0,   2.7124, 27.7527,   2.8811, 2, 2205, 2, 209.25, 2, 0.23, 0.11, 0.01, 0.01, -999, 1,  -999.00, 9, -999, -999, 9, -999
49NZ20031106, A10, 71, 1, 16, 12040, 2, 20031126, 643, -30.0048, -1.4903, 4749,   2401.7, 2,   2.7288, 2,  34.8233, 2,  34.8236, 2,    208.8, 1,    219.5, 2,    49.53, 2,    25.76, 2,    -0.01, 2,     1.76, 2, -999.000, 5, -999.000, 5, -999.000, 5,   2206.3, 6,   2330.1, 2,    7.6825, 2,     25.00, -999.000, 9, -999.000,   -122.3, 2,      3.4,     0.86, 3,      0.0,   2.5437, 27.7859,   2.7288, 2, 2404.7, 2, 217.26, 2, 0.23, 0.1, 0.01, 0.01, -999, 1,  -999.00, 9, -999, -999, 9, -999
49NZ20031106, A10, 71, 1, 15, 12039, 2, 20031126, 643, -30.0048, -1.4903, 4749,   2602.0, 2,   2.5808, 2,  34.8296, 2,  34.8298, 2,    212.6, 1,    223.4, 2,    51.98, 2,    25.50, 2,    -0.01, 2,     1.74, 2,    0.009, 2,    0.005, 2,    0.000, 4,   2207.7, 2,   2331.8, 6,    7.6906, 2,     25.00, -999.000, 9, -999.000,   -121.0, 2,      3.4,     0.81, 2,      0.0,   2.3792, 27.8047,   2.5808, 2, 2601.7, 2, 223.28, 2, 0.23, 0.1, 0.01, 0.01, -999, 1,  -999.00, 9, -999, -999, 9, -999
49NZ20031106, A10, 71, 1, 14, 12038, 2, 20031126, 643, -30.0048, -1.4903, 4749,   2800.0, 2,   2.5159, 2,  34.8415, 2,  34.8414, 2,    216.8, 1,    227.8, 2,    51.86, 2,    24.98, 2,    -0.01, 2,     1.70, 2,   -0.003, 2,   -0.002, 2,    0.000, 4,   2205.7, 2,   2335.4, 2,    7.6965, 6,     25.00, -999.000, 9, -999.000,   -123.2, 2,      3.5,     0.84, 2,      0.0,   2.2962, 27.8214,   2.5160, 2, 2800.1, 2, 227.39, 2, 0.23, 0.1, 0.01, 0.01, -999, 1,  -999.00, 9, -999, -999, 9, -999
49NZ20031106, A10, 71, 1, 13, 12037, 2, 20031126, 643, -30.0048, -1.4903, 4749,   3001.9, 2,   2.4514, 2,  34.8549, 2,  34.8551, 2,    221.4, 1,    232.6, 2,    51.31, 2,    24.29, 2,    -0.01, 2,     1.66, 2,    0.004, 2,    0.002, 2,    0.000, 4,   2202.2, 2,   2337.5, 2,    7.7060, 2,     25.00, -999.000, 9, -999.000,   -112.6, 6,      7.4,     0.87, 6,      0.0,   2.2127, 27.8392,   2.4514, 2, 3001.8, 2, 232.59, 2, 0.23, 0.1, 0.01, 0.01, -999, 1,  -999.00, 9, -999, -999, 9, -999
49NZ20031106, A10, 71, 1, 12, 12036, 2, 20031126, 643, -30.0048, -1.4903, 4749,   3250.5, 2,   2.4099, 2,  34.8645, 2,  34.8644, 2,    224.0, 1,    235.2, 2,    50.94, 2,    23.86, 2,    -0.01, 2,     1.63, 2,    0.005, 2,    0.004, 2,    0.000, 4,   2202.5, 2,   2340.6, 2,    7.7137, 2,     25.00, -999.000, 9, -999.000,   -116.9, 2,      3.4,     0.88, 2,      0.0,   2.1465, 27.8522,   2.4098, 2, 3250.6, 2, 234.74, 2, 0.23, 0.1, 0.01, 0.01, -999, 1,  -999.00, 9, -999, -999, 9, -999
49NZ20031106, A10, 71, 1, 11, 12035, 2, 20031126, 643, -30.0048, -1.4903, 4749,   3499.6, 2,   2.3911, 2,  34.8701, 2,  34.8700, 2,    225.0, 1,    235.6, 2,    51.25, 2,    23.72, 2,    -0.01, 2,     1.61, 2,    0.004, 2,    0.002, 2,    0.000, 4,   2203.9, 2,   2341.3, 2,    7.7176, 2,     25.00, -999.000, 9, -999.000,   -123.8, 2,      3.2,     0.89, 2,      0.0,   2.1017, 27.8605,   2.3912, 2, 3499.8, 2, 235.55, 2, 0.23, 0.1, 0.01, 0.01, -999, 1,  -999.00, 9, -999, -999, 9, -999
49NZ20031106, A10, 71, 1, 10, 12034, 2, 20031126, 643, -30.0048, -1.4903, 4749,   3751.2, 2,   2.3791, 2,  34.8758, 2,  34.8758, 2,    225.5, 1,    235.5, 2,    51.41, 2,    23.59, 2,    -0.01, 2,     1.60, 2,    0.000, 2,   -0.002, 2,    0.000, 4,   2205.5, 2,   2346.4, 2,    7.7199, 2,     25.00, -999.000, 9, -999.000,   -117.7, 2,      3.5,     0.90, 2,      0.0,   2.0624, 27.8682,   2.3793, 2, 3751.1, 2, 235.66, 2, 0.23, 0.1, 0.01, 0.01, -999, 1,  -999.00, 9, -999, -999, 9, -999
49NZ20031106, A10, 71, 1, 9, 12033, 2, 20031126, 643, -30.0048, -1.4903, 4749,   4000.0, 2,   2.3716, 2,  34.8765, 2,  34.8762, 2,    225.1, 1,    234.4, 2,    52.50, 2,    23.68, 2,    -0.01, 2,     1.59, 2,    0.004, 2,    0.002, 2,    0.000, 4,   2211.6, 2,   2349.7, 2,    7.7214, 2,     25.00, -999.000, 9, -999.000,   -123.4, 2,      3.4,     0.88, 2,      0.0,   2.0271, 27.8718,   2.3717, 2, 3999.8, 2, 234.33, 2, 0.23, 0.1, 0.01, 0.01, -999, 1,  -999.00, 9, -999, -999, 9, -999
49NZ20031106, A10, 71, 1, 8, 12032, 2, 20031126, 643, -30.0048, -1.4903, 4749,   4249.7, 2,   2.3646, 2,  34.8745, 2,  34.8745, 2,    224.9, 1,    233.3, 2,    53.87, 2,    23.84, 2,    -0.01, 2,     1.62, 2,   -0.005, 2,   -0.002, 2,    0.000, 4,   2213.6, 6,   2351.4, 2,    7.7200, 2,     25.00, -999.000, 9, -999.000,   -112.8, 2,      3.1,     0.87, 2,      0.0,   1.9914, 27.8731,   2.3647, 2, 4249.4, 2, 233.27, 2, 0.24, 0.1, 0.01, 0.01, -999, 1,  -999.00, 9, -999, -999, 9, -999
49NZ20031106, A10, 71, 1, 6, 12030, 2, 20031126, 643, -30.0048, -1.4903, 4749,   4499.7, 2,   2.3325, 2,  34.8690, 2,  34.8690, 2,    224.9, 1,    232.1, 2,    56.31, 2,    24.17, 2,    -0.01, 2,     1.64, 2,   -0.003, 2,   -0.001, 2,    0.000, 4,   2214.7, 2,   2351.5, 2,    7.7180, 2,     25.00, -999.000, 9, -999.000,   -114.7, 2,      3.3,     0.80, 2,      0.0,   1.9306, 27.8734,   2.3330, 2, 4500, 2, 232, 2, 0.24, 0.1, 0.01, 0.01, -999, 9,  -999.00, 9, -999, -999, 9, -999
49NZ20031106, A10, 71, 1, 7, 12031, 2, 20031126, 643, -30.0048, -1.4903, 4749,   4500.6, 2,   2.3323, 2,  34.8688, 2,  34.8689, 2,    224.9, 1,    232.1, 2,    56.40, 2,    24.15, 2,    -0.01, 2,     1.65, 2,   -0.006, 2,   -0.003, 2,    0.000, 4,   2213.5, 2,   2354.2, 6,    7.7171, 2,     25.00, -999.000, 9, -999.000,   -121.3, 2,      3.4,     0.79, 2,      0.0,   1.9303, 27.8733,   2.3325, 2, 4500.9, 2, 232.03, 2, 0.24, 0.1, 0.01, 0.01, -999, 1,  -999.00, 9, -999, -999, 9, -999
49NZ20031106, A10, 71, 1, 1, 12025, 2, 20031126, 643, -30.0048, -1.4903, 4749,   4788.9, 2,   2.3078, 2,  34.8619, 2,  34.8631, 2,    226.3, 1,    231.2, 2,    58.98, 2,    24.50, 2,    -0.01, 2,     1.67, 2,    0.002, 2,    0.003, 2,    0.000, 4,   2217.2, 2,   2355.5, 2,    7.7144, 2,     25.00, -999.000, 9, -999.000,   -116.1, 2,      3.1,     0.82, 2,      0.0,   1.8714, 27.8724,   2.3087, 2, 4788.9, 2, 230.75, 2, 0.25, 0.1, 0.01, 0.01, -999, 1,  -999.00, 9, -999, -999, 9, -999