BOTTLE,20220818CCHSIOAMB
EXPOCODE,SECT_ID,STNNBR,CASTNO,SAMPNO,BTLNBR,BTLNBR_FLAG_W,DATE,TIME,LATITUDE,LONGITUDE,DEPTH,CTDPRS,CTDPRS_FLAG_W,CTDTMP,CTDTMP_FLAG_W,CTDSAL,CTDSAL_FLAG_W,SALNTY,SALNTY_FLAG_W,CTDOXY,CTDOXY_FLAG_W,OXYGEN,OXYGEN_FLAG_W,SILCAT,SILCAT_FLAG_W,NITRAT,NITRAT_FLAG_W,NITRIT,NITRIT_FLAG_W,PHSPHT,PHSPHT_FLAG_W,CFC-11,CFC-11_FLAG_W,CFC-12,CFC-12_FLAG_W,CFC113,CFC113_FLAG_W,TCARBN,TCARBN_FLAG_W,ALKALI,ALKALI_FLAG_W,PH_TOT,PH_TOT_FLAG_W,PH_TMP,TRITUM,TRITUM_FLAG_W,TRITER,DELC14,DELC14_FLAG_W,C14ERR,DELC13,DELC13_FLAG_W,C13ERR,THETA,SIG0,SBE35,SBE35_FLAG_W,DWNPRS,DWNPRS_FLAG_W,DWNOXY,DWNOXY_FLAG_W,SILUNC,NRAUNC,NRIUNC,PHPUNC,TOC,TOC_FLAG_W,CS-137,CS-137_FLAG_W,CS137ER,PLUTO,PLUTO_FLAG_W,PLUTOER
,,,,,,,,,,,METERS,DBAR,,ITS-90,,PSS-78,,PSS-78,,UMOL/KG,,UMOL/KG,,UMOL/KG,,UMOL/KG,,UMOL/KG,,UMOL/KG,,PMOL/KG,,PMOL/KG,,PMOL/KG,,UMOL/KG,,UMOL/KG,,,,DEG C,TU,,TU,/MILLE,,/MILLE,/MILLE,,/MILLE,DEG C,KG/M^3,ITS-90,,DBAR,,UMOL/KG,,UMOL/KG,UMOL/KG,UMOL/KG,UMOL/KG,UMOL/KG,,BQ/M^3,,BQ/M^3,MBQ/M^3,,MBQ/M^3
49NZ20031106, A10, 65, 1, 36, 12036, 2, 20031123, 1929, -30.0038, -6.4877, 4627,     10.6, 2,  19.7043, 2,  36.0606, 2,  36.0607, 2,    218.5, 1,    231.2, 2,     1.40, 2,     0.02, 2,     0.00, 2,     0.17, 2,    2.461, 2,    1.371, 2,    0.300, 4,   2077.0, 2,   2365.5, 2,    8.0047, 2,     25.00, -999.000, 9, -999.000,   -999.0, 9,   -999.0,  -999.00, 9,   -999.0,  19.7024, 25.6512,  19.7046, 2, 15.9, 2, 231.13, 2, 0.12, 0.03, 0.01, 0.02, -999, 1,  -999.00, 9, -999, -999, 9, -999
49NZ20031106, A10, 65, 1, 2, 12038, 9, 20031123, 1929, -30.0038, -6.4877, 4627,     11.0, 2,  19.7012, 2,  36.0609, 2, -999.0000, 9,    218.3, 1,   -999.0, 9,  -999.00, 9,  -999.00, 9,  -999.00, 9,  -999.00, 9, -999.000, 9, -999.000, 9, -999.000, 9,   -999.0, 9,   -999.0, 9, -999.0000, 9,   -999.00, -999.000, 9, -999.000,   -999.0, 9,   -999.0,  -999.00, 9,   -999.0,  19.6992, 25.6519,  19.7022, 2, 16.1, 2, 231.18, 2, -999, -999, -999, -999, -999, 9,  -999.00, 9, -999, -999, 9, -999
49NZ20031106, A10, 65, 1, 35, 12035, 2, 20031123, 1929, -30.0038, -6.4877, 4627,     51.5, 2,  19.5928, 2,  36.0635, 2,  36.0642, 2,    219.0, 1,    231.5, 2,     1.41, 2,     0.00, 2,     0.00, 2,     0.17, 2, -999.000, 5, -999.000, 5, -999.000, 5,   2075.1, 6,   2367.2, 2,    8.0051, 2,     25.00, -999.000, 9, -999.000,   -999.0, 9,   -999.0,  -999.00, 9,   -999.0,  19.5834, 25.6865,  19.5878, 2, 51.8, 2, 230.83, 2, 0.12, 0.03, 0.01, 0.02, -999, 1,  -999.00, 9, -999, -999, 9, -999
49NZ20031106, A10, 65, 1, 34, 12034, 2, 20031123, 1929, -30.0038, -6.4877, 4627,     99.5, 2,  17.7941, 2,  35.8146, 2,  35.8131, 2,    225.6, 1,    238.3, 2,     1.38, 2,    -0.01, 2,     0.00, 2,     0.18, 2,    2.608, 2,    1.438, 2,    0.337, 4,   2068.8, 2,   2351.5, 6,    7.9968, 2,     25.00, -999.000, 9, -999.000,   -999.0, 9,   -999.0,  -999.00, 9,   -999.0,  17.7771, 25.954,  17.7956, 2, 98.3, 2, 238, 2, 0.12, 0.03, 0.01, 0.02, -999, 1,  -999.00, 9, -999, -999, 9, -999
49NZ20031106, A10, 65, 1, 33, 12033, 2, 20031123, 1929, -30.0038, -6.4877, 4627,    149.1, 2,  17.0334, 2,  35.6962, 2,  35.6990, 3,    222.7, 1,    236.2, 2,     1.40, 2,     0.07, 2,     0.05, 2,     0.21, 2,    2.709, 2,    1.506, 2,    0.303, 4,   2072.9, 2,   2344.5, 2,    7.9815, 6,     25.00, -999.000, 9, -999.000,   -999.0, 9,   -999.0,  -999.00, 9,   -999.0,  17.0087, 26.053,  17.0031, 2, 148.7, 2, 235.25, 2, 0.12, 0.03, 0.01, 0.02, -999, 1,  -999.00, 9, -999, -999, 9, -999
49NZ20031106, A10, 65, 1, 32, 12032, 2, 20031123, 1929, -30.0038, -6.4877, 4627,    200.3, 2,  15.9707, 2,  35.5718, 2,  35.5703, 2,    213.1, 1,    224.4, 2,     1.82, 2,     2.36, 2,     0.04, 2,     0.35, 2,    2.837, 2,    1.587, 2,    0.221, 4,   2085.5, 2,   2334.7, 2,    7.9439, 2,     25.00, -999.000, 9, -999.000,   -999.0, 9,   -999.0,  -999.00, 9,   -999.0,  15.9389, 26.2034,  15.9709, 2, 193.7, 2, 224.21, 2, 0.12, 0.04, 0.01, 0.01, -999, 1,  -999.00, 9, -999, -999, 9, -999
49NZ20031106, A10, 65, 1, 31, 12031, 2, 20031123, 1929, -30.0038, -6.4877, 4627,    252.0, 2,  14.4379, 2,  35.3540, 2,  35.3535, 2,    209.1, 1,    220.2, 2,     2.45, 2,     5.67, 2,     0.01, 2,     0.54, 2, -999.000, 5, -999.000, 5, -999.000, 5,   2095.9, 2,   2323.7, 2,    7.9050, 2,     25.00, -999.000, 9, -999.000,   -999.0, 9,   -999.0,  -999.00, 9,   -999.0,  14.4005, 26.3771,  14.4357, 2, 247.9, 2, 220.12, 2, 0.12, 0.05, 0.01, 0.01, -999, 1,  -999.00, 9, -999, -999, 9, -999
49NZ20031106, A10, 65, 1, 30, 12030, 2, 20031123, 1929, -30.0038, -6.4877, 4627,    298.9, 2,  13.5487, 2,  35.2381, 2,  35.2381, 2,    207.3, 1,    217.5, 2,     3.00, 2,     7.83, 2,     0.00, 2,     0.65, 2,    3.190, 2,    1.708, 2,    0.108, 4,   2103.3, 2,   2316.1, 2,    7.8797, 2,     25.00, -999.000, 9, -999.000,   -999.0, 9,   -999.0,  -999.00, 9,   -999.0,  13.5062, 26.4754,  13.5497, 2, 296.5, 2, 217.51, 2, 0.13, 0.05, 0.01, 0.01, -999, 1,  -999.00, 9, -999, -999, 9, -999
49NZ20031106, A10, 65, 1, 29, 12029, 2, 20031123, 1929, -30.0038, -6.4877, 4627,    399.1, 2,  12.2157, 2,  35.0662, 2,  35.0667, 2,    205.4, 1,    215.4, 2,     3.87, 2,    11.06, 2,     0.00, 2,     0.85, 2,    3.297, 2,    1.727, 2,    0.116, 4,   2114.5, 2,   2309.9, 2,    7.8423, 2,     25.00, -999.000, 9, -999.000,   -999.0, 9,   -999.0,  -999.00, 9,   -999.0,  12.1626, 26.6105,  12.2159, 2, 398, 2, 215.5, 2, 0.13, 0.06, 0.01, 0.01, -999, 1,  -999.00, 9, -999, -999, 9, -999
49NZ20031106, A10, 65, 1, 28, 12028, 2, 20031123, 1929, -30.0038, -6.4877, 4627,    498.8, 2,  10.1014, 2,  34.8086, 2,  34.8083, 2,    196.4, 1,    205.4, 2,     7.01, 2,    17.20, 2,     0.00, 2,     1.23, 2,    3.164, 2,    1.610, 2,    0.127, 4,   2137.5, 2,   2297.2, 2,    7.7735, 2,     25.00, -999.000, 9, -999.000,   -999.0, 9,   -999.0,  -999.00, 9,   -999.0,  10.0424, 26.7959,  10.1017, 2, 503.7, 2, 207.21, 2, 0.13, 0.08, 0.01, 0.01, -999, 1,  -999.00, 9, -999, -999, 9, -999
49NZ20031106, A10, 65, 1, 27, 12027, 2, 20031123, 1929, -30.0038, -6.4877, 4627,    600.6, 2,   8.1539, 2,  34.5977, 2,  34.5977, 2,    190.4, 1,    198.5, 2,    11.56, 2,    22.77, 2,     0.00, 2,     1.59, 2,    2.920, 2,    1.424, 2,    0.143, 4,   2156.4, 2,   2287.9, 2,    7.7113, 2,     25.00, -999.000, 9, -999.000,   -999.0, 9,   -999.0,  -999.00, 9,   -999.0,   8.0912, 26.9434,   8.1428, 2, 601.6, 2, 199.17, 2, 0.14, 0.1, 0.01, 0.01, -999, 1,  -999.00, 9, -999, -999, 9, -999
49NZ20031106, A10, 65, 1, 26, 12026, 2, 20031123, 1929, -30.0038, -6.4877, 4627,    699.4, 2,   6.5679, 2,  34.4496, 2,  34.4512, 3,    195.3, 1,    203.8, 2,    15.74, 2,    26.34, 2,     0.00, 2,     1.82, 2,    2.756, 2,    1.302, 2,    0.142, 4,   2167.6, 6,   2287.3, 2,    7.6777, 2,     25.00, -999.000, 9, -999.000,   -999.0, 9,   -999.0,  -999.00, 9,   -999.0,   6.5029, 27.0534,   6.5623, 2, 697, 2, 205.75, 2, 0.15, 0.11, 0.01, 0.01, -999, 1,  -999.00, 9, -999, -999, 9, -999
49NZ20031106, A10, 65, 1, 25, 12025, 2, 20031123, 1929, -30.0038, -6.4877, 4627,    799.4, 2,   5.1558, 2,  34.3437, 2,  34.3475, 4,    205.2, 1,    214.2, 2,    20.51, 2,    28.65, 2,     0.00, 2,     1.97, 2,    2.648, 2,    1.247, 2,    0.132, 4,   2177.2, 2,   2285.4, 6,    7.6606, 2,     25.00, -999.000, 9, -999.000,   -999.0, 9,   -999.0,  -999.00, 9,   -999.0,   5.0896, 27.1454,   5.1547, 2, 797.6, 2, 213.84, 2, 0.16, 0.11, 0.01, 0.01, -999, 1,  -999.00, 9, -999, -999, 9, -999
49NZ20031106, A10, 65, 1, 24, 12024, 2, 20031123, 1929, -30.0038, -6.4877, 4627,    900.8, 2,   4.3257, 2,  34.3327, 2,  34.3346, 2,    200.2, 1,    208.6, 2,    28.58, 2,    30.78, 2,     0.00, 2,     2.11, 2,    2.036, 2,    0.937, 2,    0.099, 4,   2189.4, 2,   2293.1, 2,    7.6387, 2,     25.00, -999.000, 9, -999.000,   -999.0, 9,   -999.0,  -999.00, 9,   -999.0,   4.2562, 27.2292,   4.3294, 2, 902, 2, 206.86, 2, 0.18, 0.12, 0.01, 0.02, -999, 1,  -999.00, 9, -999, -999, 9, -999
49NZ20031106, A10, 65, 1, 3, 12039, 9, 20031123, 1929, -30.0038, -6.4877, 4627,    997.0, 2,   3.9536, 2,  34.3552, 2, -999.0000, 9,    192.8, 1,   -999.0, 9,  -999.00, 9,  -999.00, 9,  -999.00, 9,  -999.00, 9, -999.000, 9, -999.000, 9, -999.000, 9,   -999.0, 9,   -999.0, 9, -999.0000, 9,   -999.00, -999.000, 9, -999.000,   -999.0, 9,   -999.0,  -999.00, 9,   -999.0,   3.8788, 27.2869,   3.9527, 2, 997.2, 2, 202.92, 2, -999, -999, -999, -999, -999, 9,  -999.00, 9, -999, -999, 9, -999
49NZ20031106, A10, 65, 1, 5, 12041, 9, 20031123, 1929, -30.0038, -6.4877, 4627,    997.1, 2,   3.9562, 2,  34.3551, 2, -999.0000, 9,    192.8, 1,   -999.0, 9,  -999.00, 9,  -999.00, 9,  -999.00, 9,  -999.00, 9, -999.000, 9, -999.000, 9, -999.000, 9,   -999.0, 9,   -999.0, 9, -999.0000, 9,   -999.00, -999.000, 9, -999.000,   -999.0, 9,   -999.0,  -999.00, 9,   -999.0,   3.8814, 27.2862,   3.9553, 2, 997.2, 2, 202.92, 2, -999, -999, -999, -999, -999, 9,  -999.00, 9, -999, -999, 9, -999
49NZ20031106, A10, 65, 1, 4, 12040, 9, 20031123, 1929, -30.0038, -6.4877, 4627,    997.6, 2,   3.9548, 2,  34.3549, 2, -999.0000, 9,    192.9, 1,   -999.0, 9,  -999.00, 9,  -999.00, 9,  -999.00, 9,  -999.00, 9, -999.000, 9, -999.000, 9, -999.000, 9,   -999.0, 9,   -999.0, 9, -999.0000, 9,   -999.00, -999.000, 9, -999.000,   -999.0, 9,   -999.0,  -999.00, 9,   -999.0,   3.8799, 27.2862,   3.9543, 2, 997.7, 2, 202.78, 2, -999, -999, -999, -999, -999, 9,  -999.00, 9, -999, -999, 9, -999
49NZ20031106, A10, 65, 1, 23, 12023, 2, 20031123, 1929, -30.0038, -6.4877, 4627,    997.9, 2,   3.9515, 2,  34.3547, 2,  34.3550, 2,    192.4, 1,    201.8, 2,    34.69, 2,    31.91, 2,     0.00, 2,     2.20, 2,    1.573, 6,    0.736, 6,    0.078, 4,   2200.5, 2,   2295.4, 2,    7.6223, 2,     25.00, -999.000, 9, -999.000,   -999.0, 9,   -999.0,  -999.00, 9,   -999.0,   3.8766, 27.2872,   3.9496, 2, 998.1, 2, 202.68, 2, 0.2, 0.12, 0.01, 0.02, -999, 1,  -999.00, 9, -999, -999, 9, -999
49NZ20031106, A10, 65, 1, 22, 12022, 2, 20031123, 1929, -30.0038, -6.4877, 4627,   1198.6, 2,   3.3441, 2,  34.4660, 2,  34.4657, 2,    176.7, 1,    184.9, 2,    48.32, 2,    33.09, 2,    -0.01, 2,     2.29, 2,    0.599, 2,    0.275, 2,    0.019, 4,   2220.7, 2,   2314.3, 2,    7.5988, 2,     25.00, -999.000, 9, -999.000,   -999.0, 9,   -999.0,  -999.00, 9,   -999.0,   3.2577, 27.436,   3.3445, 2, 1198.9, 2, 185.78, 2, 0.23, 0.13, 0.01, 0.02, -999, 1,  -999.00, 9, -999, -999, 9, -999
49NZ20031106, A10, 65, 1, 21, 12015, 2, 20031123, 1929, -30.0038, -6.4877, 4627,   1399.5, 2,   2.9310, 2,  34.5706, 2,  34.5700, 2,    178.5, 1,    186.6, 2,    55.79, 2,    32.19, 2,    -0.01, 2,     2.22, 2,    0.302, 2,    0.150, 2,    0.011, 4,   2227.9, 2,   2323.8, 2,    7.6079, 2,     25.00, -999.000, 9, -999.000,   -999.0, 9,   -999.0,  -999.00, 9,   -999.0,   2.8322, 27.5586,   2.9309, 2, 1400.2, 2, 186.51, 2, 0.24, 0.12, 0.01, 0.02, -999, 1,  -999.00, 9, -999, -999, 9, -999
49NZ20031106, A10, 65, 1, 20, 12020, 2, 20031123, 1929, -30.0038, -6.4877, 4627,   1599.6, 2,   2.8319, 2,  34.6723, 2,  34.6715, 2,    184.5, 1,    193.1, 2,    56.12, 2,    30.41, 2,    -0.01, 2,     2.09, 2,    0.116, 2,    0.048, 2,    0.004, 4,   2226.7, 2,   2323.9, 2,    7.6267, 2,     25.00, -999.000, 9, -999.000,   -999.0, 9,   -999.0,  -999.00, 9,   -999.0,   2.7175, 27.6502,   2.8320, 2, 1600.2, 2, 192.5, 2, 0.24, 0.12, 0.01, 0.02, -999, 1,  -999.00, 9, -999, -999, 9, -999
49NZ20031106, A10, 65, 1, 19, 12019, 2, 20031123, 1929, -30.0038, -6.4877, 4627,   1799.3, 2,   2.7734, 2,  34.7409, 2,  34.7409, 2,    193.3, 1,    202.6, 2,    54.39, 2,    28.58, 2,    -0.01, 2,     1.96, 2,    0.048, 2,    0.023, 2,    0.000, 4,   2218.2, 2,   2329.6, 2,    7.6464, 2,     25.00, -999.000, 9, -999.000,   -999.0, 9,   -999.0,  -999.00, 9,   -999.0,   2.6425, 27.7114,   2.7733, 2, 1799.2, 2, 202.3, 2, 0.24, 0.11, 0.01, 0.01, -999, 1,  -999.00, 9, -999, -999, 9, -999
49NZ20031106, A10, 65, 1, 18, 12018, 2, 20031123, 1929, -30.0038, -6.4877, 4627,   2001.0, 2,   2.6748, 2,  34.7894, 2,  34.7894, 2,    202.8, 1,    212.6, 2,    53.04, 2,    27.00, 2,    -0.01, 2,     1.85, 2,    0.023, 2,    0.007, 2,    0.000, 4,   2211.9, 2,   2330.7, 2,    7.6685, 6,     25.00, -999.000, 9, -999.000,   -999.0, 9,   -999.0,  -999.00, 9,   -999.0,   2.5275, 27.7601,   2.6747, 2, 2000, 2, 213.1, 2, 0.24, 0.11, 0.01, 0.01, -999, 1,  -999.00, 9, -999, -999, 9, -999
49NZ20031106, A10, 65, 1, 17, 12017, 2, 20031123, 1929, -30.0038, -6.4877, 4627,   2201.1, 2,   2.5846, 2,  34.8179, 2,  34.8181, 2,    210.3, 1,    220.6, 2,    52.24, 2,    25.97, 2,    -0.01, 2,     1.77, 2,    0.008, 2,    0.000, 2,    0.000, 4,   2206.1, 2,   2330.6, 2,    7.6817, 2,     25.00, -999.000, 9, -999.000,   -999.0, 9,   -999.0,  -999.00, 9,   -999.0,   2.4207, 27.7922,   2.5844, 2, 2200.6, 2, 220.27, 2, 0.23, 0.11, 0.01, 0.01, -999, 1,  -999.00, 9, -999, -999, 9, -999
49NZ20031106, A10, 65, 1, 16, 12016, 2, 20031123, 1929, -30.0038, -6.4877, 4627,   2400.3, 2,   2.5014, 2,  34.8386, 2,  34.8391, 2,    216.5, 1,    227.2, 2,    51.41, 2,    25.10, 2,    -0.01, 2,     1.71, 2,    0.011, 2,    0.003, 2,    0.000, 4,   2203.8, 6,   2330.6, 2,    7.6943, 2,     25.00, -999.000, 9, -999.000,   -999.0, 9,   -999.0,  -999.00, 9,   -999.0,   2.3204, 27.8173,   2.5013, 2, 2399.8, 2, 227.24, 2, 0.23, 0.1, 0.01, 0.01, -999, 1,  -999.00, 9, -999, -999, 9, -999
49NZ20031106, A10, 65, 1, 15, 12012, 2, 20031123, 1929, -30.0038, -6.4877, 4627,   2599.3, 2,   2.4539, 2,  34.8509, 2,  34.8509, 2,    220.6, 1,    231.4, 2,    50.69, 2,    24.50, 2,    -0.01, 2,     1.67, 2,    0.005, 2,    0.007, 2,    0.000, 4,   2201.5, 2,   2332.7, 6,    7.7026, 2,     25.00, -999.000, 9, -999.000,   -999.0, 9,   -999.0,  -999.00, 9,   -999.0,   2.2549, 27.8325,   2.4539, 2, 2599.2, 2, 231.12, 2, 0.23, 0.1, 0.01, 0.01, -999, 1,  -999.00, 9, -999, -999, 9, -999
49NZ20031106, A10, 65, 1, 14, 12014, 2, 20031123, 1929, -30.0038, -6.4877, 4627,   2799.7, 2,   2.4207, 2,  34.8590, 2,  34.8594, 2,    223.2, 1,    234.1, 2,    50.34, 2,    24.18, 2,    -0.01, 2,     1.65, 2,    0.009, 2,    0.004, 2,    0.000, 4,   2200.5, 2,   2334.9, 2,    7.7099, 6,     25.00, -999.000, 9, -999.000,   -999.0, 9,   -999.0,  -999.00, 9,   -999.0,   2.2029, 27.8434,   2.4206, 2, 2799.1, 2, 234.01, 2, 0.23, 0.1, 0.01, 0.01, -999, 1,  -999.00, 9, -999, -999, 9, -999
49NZ20031106, A10, 65, 1, 13, 12013, 2, 20031123, 1929, -30.0038, -6.4877, 4627,   3000.0, 2,   2.3859, 2,  34.8669, 2,  34.8668, 2,    225.3, 1,    236.2, 2,    50.22, 2,    23.80, 2,    -0.01, 2,     1.63, 2,   -0.002, 2,   -0.001, 2,    0.000, 4,   2201.3, 2,   2340.7, 2,    7.7136, 2,     25.00, -999.000, 9, -999.000,   -999.0, 9,   -999.0,  -999.00, 9,   -999.0,   2.1488, 27.854,   2.3859, 2, 2999.6, 2, 235.92, 2, 0.23, 0.1, 0.01, 0.01, -999, 1,  -999.00, 9, -999, -999, 9, -999
49NZ20031106, A10, 65, 1, 12, 12048, 2, 20031123, 1929, -30.0038, -6.4877, 4627,   3251.8, 2,   2.3614, 2,  34.8736, 2,  34.8738, 2,    226.0, 1,    236.6, 2,    50.57, 2,    23.60, 2,    -0.01, 2,     1.60, 2,   -0.002, 2,    0.001, 2,    0.000, 4,   2202.1, 2,   2341.8, 2,    7.7201, 2,     25.00, -999.000, 9, -999.000,   -999.0, 9,   -999.0,  -999.00, 9,   -999.0,   2.0989, 27.8637,   2.3613, 2, 3251.6, 2, 236.52, 2, 0.23, 0.1, 0.01, 0.01, -999, 1,  -999.00, 9, -999, -999, 9, -999
49NZ20031106, A10, 65, 1, 11, 12047, 2, 20031123, 1929, -30.0038, -6.4877, 4627,   3500.3, 2,   2.3608, 2,  34.8771, 2,  34.8770, 2,    225.9, 1,    236.1, 2,    50.96, 2,    23.51, 2,     0.00, 2,     1.60, 2,   -0.003, 2,    0.000, 2,    0.000, 4,   2203.0, 2,   2347.4, 2,    7.7210, 2,     25.00, -999.000, 9, -999.000,   -999.0, 9,   -999.0,  -999.00, 9,   -999.0,   2.0720, 27.8685,   2.3608, 2, 3500.1, 2, 235.8, 2, 0.23, 0.1, 0.01, 0.01, -999, 1,  -999.00, 9, -999, -999, 9, -999
49NZ20031106, A10, 65, 1, 10, 12046, 2, 20031123, 1929, -30.0038, -6.4877, 4627,   3750.7, 2,   2.3687, 2,  34.8788, 2,  34.8787, 2,    225.8, 1,    235.1, 2,    51.42, 2,    23.55, 2,    -0.01, 2,     1.61, 2,   -0.004, 2,   -0.002, 2,    0.000, 4,   2206.3, 2,   2351.9, 2,    7.7225, 2,     25.00, -999.000, 9, -999.000,   -999.0, 9,   -999.0,  -999.00, 9,   -999.0,   2.0523, 27.8716,   2.3688, 2, 3750.6, 2, 235.04, 2, 0.23, 0.1, 0.01, 0.01, -999, 1,  -999.00, 9, -999, -999, 9, -999
49NZ20031106, A10, 65, 1, 1, 12037, 2, 20031123, 1929, -30.0038, -6.4877, 4627,   4000.7, 2,   2.3776, 2,  34.8789, 2,  34.8790, 2,    225.6, 1,    234.3, 2,    51.91, 2,    23.63, 2,    -0.01, 2,     1.61, 2,    0.002, 2,    0.000, 2,    0.000, 4,   2208.3, 2,   2348.4, 2,    7.7252, 2,     25.00, -999.000, 9, -999.000,   -999.0, 9,   -999.0,  -999.00, 9,   -999.0,   2.0328, 27.8734,   2.3776, 2, 4000.6, 2, 234.2, 2, 0.23, 0.1, 0.01, 0.01, -999, 1,  -999.00, 9, -999, -999, 9, -999
49NZ20031106, A10, 65, 1, 8, 12044, 2, 20031123, 1929, -30.0038, -6.4877, 4627,   4250.8, 2,   2.3885, 2,  34.8783, 2,  34.8785, 2,    226.0, 1,    233.5, 2,    52.85, 2,    23.71, 2,    -0.01, 2,     1.61, 2,    0.001, 2,    0.000, 2,    0.000, 4,   2211.2, 6,   2347.9, 2,    7.7225, 2,     25.00, -999.000, 9, -999.000,   -999.0, 9,   -999.0,  -999.00, 9,   -999.0,   2.0144, 27.8744,   2.3886, 2, 4250.8, 2, 233.71, 2, 0.24, 0.1, 0.01, 0.01, -999, 1,  -999.00, 9, -999, -999, 9, -999
49NZ20031106, A10, 65, 1, 9, 12045, 2, 20031123, 1929, -30.0038, -6.4877, 4627,   4501.3, 2,   2.3906, 2,  34.8756, 2,  34.8756, 2,    226.7, 1,    232.9, 2,    54.14, 2,    23.88, 2,    -0.01, 2,     1.63, 2,   -0.003, 2,    0.001, 2,    0.000, 4,   2212.4, 2,   2352.3, 2,    7.7206, 2,     25.00, -999.000, 9, -999.000,   -999.0, 9,   -999.0,  -999.00, 9,   -999.0,   1.9867, 27.8744,   2.3907, 2, 4501.3, 2, 232.87, 2, 0.24, 0.1, 0.01, 0.01, -999, 9,  -999.00, 9, -999, -999, 9, -999
49NZ20031106, A10, 65, 1, 7, 12043, 2, 20031123, 1929, -30.0038, -6.4877, 4627,   4502.7, 2,   2.3905, 2,  34.8755, 2,  34.8757, 2,    226.6, 1,    232.9, 2,    54.06, 2,    23.88, 2,    -0.01, 2,     1.62, 2,    0.004, 2,    0.000, 2,    0.000, 4,   2213.2, 2,   2352.2, 6,    7.7201, 2,     25.00, -999.000, 9, -999.000,   -999.0, 9,   -999.0,  -999.00, 9,   -999.0,   1.9864, 27.8743,   2.3907, 2, 4502.7, 2, 232.84, 2, 0.24, 0.1, 0.01, 0.01, -999, 1,  -999.00, 9, -999, -999, 9, -999
49NZ20031106, A10, 65, 1, 6, 12042, 2, 20031123, 1929, -30.0038, -6.4877, 4627,   4681.8, 2,   2.4047, 2,  34.8746, 2,  34.8746, 2,    228.0, 1,    232.6, 2,    54.42, 2,    23.93, 2,    -0.01, 2,     1.62, 2,    0.007, 2,    0.002, 2,    0.000, 4,   2212.0, 2,   2353.6, 2,    7.7222, 6,     25.00, -999.000, 9, -999.000,   -999.0, 9,   -999.0,  -999.00, 9,   -999.0,   1.9784, 27.8742,   2.4048, 2, 4681.8, 2, 232.52, 2, 0.24, 0.1, 0.01, 0.01, -999, 1,  -999.00, 9, -999, -999, 9, -999