BOTTLE,20220818CCHSIOAMB
EXPOCODE,SECT_ID,STNNBR,CASTNO,SAMPNO,BTLNBR,BTLNBR_FLAG_W,DATE,TIME,LATITUDE,LONGITUDE,DEPTH,CTDPRS,CTDPRS_FLAG_W,CTDTMP,CTDTMP_FLAG_W,CTDSAL,CTDSAL_FLAG_W,SALNTY,SALNTY_FLAG_W,CTDOXY,CTDOXY_FLAG_W,OXYGEN,OXYGEN_FLAG_W,SILCAT,SILCAT_FLAG_W,NITRAT,NITRAT_FLAG_W,NITRIT,NITRIT_FLAG_W,PHSPHT,PHSPHT_FLAG_W,CFC-11,CFC-11_FLAG_W,CFC-12,CFC-12_FLAG_W,CFC113,CFC113_FLAG_W,TCARBN,TCARBN_FLAG_W,ALKALI,ALKALI_FLAG_W,PH_TOT,PH_TOT_FLAG_W,PH_TMP,TRITUM,TRITUM_FLAG_W,TRITER,DELC14,DELC14_FLAG_W,C14ERR,DELC13,DELC13_FLAG_W,C13ERR,THETA,SIG0,SBE35,SBE35_FLAG_W,DWNPRS,DWNPRS_FLAG_W,DWNOXY,DWNOXY_FLAG_W,SILUNC,NRAUNC,NRIUNC,PHPUNC,TOC,TOC_FLAG_W,CS-137,CS-137_FLAG_W,CS137ER,PLUTO,PLUTO_FLAG_W,PLUTOER
,,,,,,,,,,,METERS,DBAR,,ITS-90,,PSS-78,,PSS-78,,UMOL/KG,,UMOL/KG,,UMOL/KG,,UMOL/KG,,UMOL/KG,,UMOL/KG,,PMOL/KG,,PMOL/KG,,PMOL/KG,,UMOL/KG,,UMOL/KG,,,,DEG C,TU,,TU,/MILLE,,/MILLE,/MILLE,,/MILLE,DEG C,KG/M^3,ITS-90,,DBAR,,UMOL/KG,,UMOL/KG,UMOL/KG,UMOL/KG,UMOL/KG,UMOL/KG,,BQ/M^3,,BQ/M^3,MBQ/M^3,,MBQ/M^3
49NZ20031106, A10, 35, 1, 4, 12040, 2, 20031116, 1042, -30.0003, -28.9917, 3169,      4.9, 2,  20.5271, 2,  36.1407, 2, -999.0000, 9,    214.4, 1,   -999.0, 9,  -999.00, 9,  -999.00, 9,  -999.00, 9,  -999.00, 9, -999.000, 9, -999.000, 9, -999.000, 9,   -999.0, 9,   -999.0, 9, -999.0000, 9,   -999.00, -999.000, 9, -999.000,   -999.0, 9,   -999.0,  -999.00, 9,   -999.0,  20.5262, 25.4925,  20.5323, 2, 4.9, 2, 228.34, 2, -999, -999, -999, -999, -999, 9,  -999.00, 9, -999, -999, 9, -999
49NZ20031106, A10, 35, 1, 3, 12039, 2, 20031116, 1042, -30.0003, -28.9917, 3169,      4.9, 2,  20.5359, 2,  36.1408, 2, -999.0000, 9,    214.3, 1,   -999.0, 9,  -999.00, 9,  -999.00, 9,  -999.00, 9,  -999.00, 9, -999.000, 9, -999.000, 9, -999.000, 9,   -999.0, 9,   -999.0, 9, -999.0000, 9,   -999.00, -999.000, 9, -999.000,   -999.0, 9,   -999.0,  -999.00, 9,   -999.0,  20.5350, 25.49,  20.5369, 2, 4.9, 2, 228.34, 2, -999, -999, -999, -999, -999, 9,  -999.00, 9, -999, -999, 9, -999
49NZ20031106, A10, 35, 1, 36, 12036, 2, 20031116, 1042, -30.0003, -28.9917, 3169,     10.0, 2,  20.5319, 2,  36.1403, 2,  36.1395, 2,    214.7, 1,    226.9, 2,     0.80, 2,     0.07, 2,     0.00, 2,     0.06, 2,    2.499, 2,    1.345, 2,    0.319, 4,   2061.1, 2,   2369.8, 2,    8.0356, 2,     25.00, -999.000, 9, -999.000,     85.6, 2,      3.8,     1.51, 2,      0.0,  20.5300, 25.4934,  20.5321, 2, 3.3, 2, 228.46, 2, 0.12, 0.03, 0.01, 0.03, -999, 9,  -999.00, 9, -999, -999, 9, -999
49NZ20031106, A10, 35, 1, 35, 12035, 2, 20031116, 1042, -30.0003, -28.9917, 3169,     50.5, 2,  20.4435, 2,  36.1373, 2,  36.1373, 2,    214.4, 1,    227.0, 2,     0.79, 2,     0.05, 2,     0.00, 2,     0.06, 2,    2.507, 2,    1.342, 2,    0.315, 4,   2060.3, 6,   2370.1, 2,    8.0357, 2,     25.00, -999.000, 9, -999.000,     85.6, 2,      3.9,     1.48, 2,      0.0,  20.4340, 25.5154,  20.4429, 2, 48.7, 2, 227.35, 2, 0.12, 0.03, 0.01, 0.03, -999, 9,  -999.00, 9, -999, -999, 9, -999
49NZ20031106, A10, 35, 1, 34, 12034, 2, 20031116, 1042, -30.0003, -28.9917, 3169,     98.9, 2,  19.2101, 2,  35.9779, 2,  35.9779, 2,    221.2, 1,    233.4, 2,     0.84, 2,     0.05, 2,    -0.01, 2,     0.08, 2,    2.561, 2,    1.377, 2,    0.327, 4,   2058.9, 2,   2360.7, 6,    8.0272, 2,     25.00, -999.000, 9, -999.000,     88.1, 2,      3.7,     1.48, 2,      0.0,  19.1923, 25.7207,  19.2082, 2, 95, 2, 233.2, 2, 0.12, 0.03, 0.01, 0.02, -999, 9,  -999.00, 9, -999, -999, 9, -999
49NZ20031106, A10, 35, 1, 33, 12033, 2, 20031116, 1042, -30.0003, -28.9917, 3169,    150.9, 2,  17.6008, 2,  35.7445, 2,  35.7427, 2,    220.1, 1,    232.3, 2,     0.85, 2,     0.05, 2,     0.02, 2,     0.12, 2,    2.724, 2,    1.462, 2,    0.288, 4,   2066.3, 2,   2348.3, 2,    7.9965, 6,     25.00, -999.000, 9, -999.000,     88.3, 2,      3.8,     1.39, 2,      0.0,  17.5752, 25.9473,  17.6018, 2, 147.9, 2, 224.47, 2, 0.12, 0.03, 0.01, 0.02, -999, 9,  -999.00, 9, -999, -999, 9, -999
49NZ20031106, A10, 35, 1, 2, 12038, 2, 20031116, 1042, -30.0003, -28.9917, 3169,    150.9, 2,  17.6026, 2,  35.7452, 2, -999.0000, 9,    220.4, 1,   -999.0, 9,  -999.00, 9,  -999.00, 9,  -999.00, 9,  -999.00, 9, -999.000, 9, -999.000, 9, -999.000, 9,   -999.0, 9,   -999.0, 9, -999.0000, 9,   -999.00, -999.000, 9, -999.000,   -999.0, 9,   -999.0,  -999.00, 9,   -999.0,  17.5770, 25.9474,  17.6059, 2, 147.9, 2, 224.45, 2, -999, -999, -999, -999, -999, 9,  -999.00, 9, -999, -999, 9, -999
49NZ20031106, A10, 35, 1, 32, 12032, 2, 20031116, 1042, -30.0003, -28.9917, 3169,    200.6, 2,  16.0891, 2,  35.5938, 2,  35.5931, 2,    204.6, 1,    215.0, 2,     1.47, 2,     2.58, 2,     0.03, 2,     0.35, 2,    2.925, 2,    1.563, 2,    0.175, 4,   2090.6, 2,   2335.8, 2,    7.9366, 2,     25.00, -999.000, 9, -999.000,     85.6, 2,      5.9,     1.23, 2,      0.0,  16.0571, 26.1921,  16.0879, 2, 196.6, 2, 214.24, 2, 0.12, 0.04, 0.01, 0.01, -999, 9,  -999.00, 9, -999, -999, 9, -999
49NZ20031106, A10, 35, 1, 31, 12031, 2, 20031116, 1042, -30.0003, -28.9917, 3169,    252.2, 2,  14.6096, 2,  35.3951, 2,  35.3953, 2,    203.4, 1,    213.3, 2,     2.24, 2,     5.76, 2,     0.01, 2,     0.52, 2,    3.073, 6,    1.622, 6,    0.077, 4,   2098.7, 2,   2325.2, 2,    7.9025, 2,     25.00, -999.000, 9, -999.000,     85.4, 2,      3.9,     1.15, 2,      0.0,  14.5719, 26.3717,  14.6092, 2, 251, 2, 213.25, 2, 0.12, 0.05, 0.01, 0.01, -999, 9,  -999.00, 9, -999, -999, 9, -999
49NZ20031106, A10, 35, 1, 30, 12030, 2, 20031116, 1042, -30.0003, -28.9917, 3169,    301.5, 2,  13.7273, 2,  35.2914, 2,  35.2965, 2,    203.9, 1,    213.7, 2,     2.51, 2,     7.58, 2,     0.01, 2,     0.62, 2,    3.171, 2,    1.659, 2,    0.063, 4,   2106.4, 2,   2318.7, 2,    7.8835, 2,     25.00, -999.000, 9, -999.000,     83.0, 2,      3.9,     1.12, 2,      0.0,  13.6840, 26.4825,  13.7161, 2, 300.2, 2, 213.99, 2, 0.12, 0.05, 0.01, 0.01, -999, 9,  -999.00, 9, -999, -999, 9, -999
49NZ20031106, A10, 35, 1, 29, 12029, 2, 20031116, 1042, -30.0003, -28.9917, 3169,    400.7, 2,  12.2304, 2,  35.0913, 2,  35.0966, 2,    204.3, 1,    213.8, 2,     3.53, 2,    10.97, 2,     0.00, 2,     0.83, 2,    3.246, 2,    1.660, 2,    0.076, 4,   2115.5, 2,   2308.4, 2,    7.8460, 2,     25.00, -999.000, 9, -999.000,     71.0, 2,      3.8,     1.12, 2,      0.0,  12.1770, 26.6247,  12.2359, 2, 398.4, 2, 214.05, 2, 0.13, 0.06, 0.01, 0.01, -999, 9,  -999.00, 9, -999, -999, 9, -999
49NZ20031106, A10, 35, 1, 28, 12028, 2, 20031116, 1042, -30.0003, -28.9917, 3169,    502.2, 2,  10.4977, 2,  34.8667, 2,  34.8689, 2,    199.6, 1,    208.3, 2,     5.84, 2,    15.66, 2,     0.00, 2,     1.13, 2,    3.159, 2,    1.546, 2,    0.097, 4,   2130.6, 2,   2301.2, 2,    7.7921, 2,     25.00, -999.000, 9, -999.000,     66.6, 2,      3.9,     1.16, 2,      0.0,  10.4368, 26.7716,  10.4916, 2, 500.1, 2, 207.51, 2, 0.13, 0.08, 0.01, 0.01, -999, 9,  -999.00, 9, -999, -999, 9, -999
49NZ20031106, A10, 35, 1, 27, 12027, 2, 20031116, 1042, -30.0003, -28.9917, 3169,    601.3, 2,   8.6776, 2,  34.6480, 2,  34.6542, 2,    200.7, 1,    209.7, 2,     8.29, 2,    20.06, 2,     0.00, 2,     1.40, 2,    3.173, 2,    1.519, 2,    0.132, 4,   2143.9, 2,   2293.6, 2,    7.7466, 2,     25.00, -999.000, 9, -999.000,     36.1, 2,      5.4,     1.02, 3,      0.0,   8.6125, 26.9035,   8.6728, 2, 599.3, 2, 208.19, 2, 0.14, 0.09, 0.01, 0.01, -999, 9,  -999.00, 9, -999, -999, 9, -999
49NZ20031106, A10, 35, 1, 26, 12026, 2, 20031116, 1042, -30.0003, -28.9917, 3169,    700.2, 2,   6.7198, 2,  34.4497, 2,  34.4514, 2,    206.3, 1,    214.7, 2,    12.82, 2,    24.56, 2,     0.00, 2,     1.69, 2,    3.024, 2,    1.414, 2,    0.136, 4,   2158.6, 6,   2285.6, 2,    7.7000, 2,     25.00, -999.000, 9, -999.000,      7.4, 2,      3.7,     1.10, 2,      0.0,   6.6539, 27.033,   6.7184, 2, 699.9, 2, 214.9, 2, 0.15, 0.1, 0.01, 0.01, -999, 9,  -999.00, 9, -999, -999, 9, -999
49NZ20031106, A10, 35, 1, 25, 12025, 2, 20031116, 1042, -30.0003, -28.9917, 3169,    801.1, 2,   5.3554, 2,  34.3392, 2,  34.3394, 2,    214.3, 1,    223.2, 2,    17.43, 2,    27.28, 2,     0.00, 2,     1.88, 2,    2.814, 2,    1.306, 2,    0.147, 4,   2166.8, 2,   2283.4, 6,    7.6763, 2,     25.00, -999.000, 9, -999.000,    -12.1, 2,      3.6,     1.03, 2,      0.0,   5.2879, 27.1174,   5.3544, 2, 799.2, 2, 223.01, 2, 0.16, 0.11, 0.01, 0.01, -999, 9,  -999.00, 9, -999, -999, 9, -999
49NZ20031106, A10, 35, 1, 24, 12024, 2, 20031116, 1042, -30.0003, -28.9917, 3169,    900.5, 2,   4.3743, 2,  34.2952, 2,  34.2953, 2,    216.1, 1,    225.0, 2,    23.55, 2,    29.18, 2,     0.00, 2,     2.00, 2,    2.500, 2,    1.152, 2,    0.130, 4,   2177.2, 2,   2284.9, 2,    7.6578, 6,     25.00, -999.000, 9, -999.000,    -38.6, 2,      3.5,     1.03, 2,      0.0,   4.3046, 27.1938,   4.3731, 2, 901.7, 2, 224.95, 2, 0.17, 0.11, 0.01, 0.02, -999, 9,  -999.00, 9, -999, -999, 9, -999
49NZ20031106, A10, 35, 1, 5, 12041, 9, 20031116, 1042, -30.0003, -28.9917, 3169,    998.5, 2,   3.8092, 2,  34.3000, 2, -999.0000, 9,    211.3, 1,   -999.0, 9,  -999.00, 9,  -999.00, 9,  -999.00, 9,  -999.00, 9, -999.000, 9, -999.000, 9, -999.000, 9,   -999.0, 9,   -999.0, 9, -999.0000, 9,   -999.00, -999.000, 9, -999.000,   -999.0, 9,   -999.0,  -999.00, 9,   -999.0,   3.7355, 27.2564,   3.8091, 2, 998.8, 2, 220.25, 2, -999, -999, -999, -999, -999, 9,  -999.00, 9, -999, -999, 9, -999
49NZ20031106, A10, 35, 1, 1, 12037, 2, 20031116, 1042, -30.0003, -28.9917, 3169,    998.5, 2,   3.8095, 2,  34.3000, 2,  34.3006, 2,    211.2, 1,    220.2, 2,    30.21, 2,    30.68, 2,     0.00, 2,     2.11, 2,    1.983, 3,    0.915, 3,    0.076, 4,   2189.0, 2,   2294.2, 2,    7.6423, 2,     25.00, -999.000, 9, -999.000,    -59.6, 2,      3.6,     0.99, 2,      0.0,   3.7358, 27.2562,   3.8096, 2, 998.8, 2, 220.26, 2, 0.19, 0.12, 0.01, 0.02, -999, 9,  -999.00, 9, -999, -999, 9, -999
49NZ20031106, A10, 35, 1, 6, 12042, 9, 20031116, 1042, -30.0003, -28.9917, 3169,    998.6, 2,   3.8094, 2,  34.3001, 2, -999.0000, 9,    211.3, 1,   -999.0, 9,  -999.00, 9,  -999.00, 9,  -999.00, 9,  -999.00, 9, -999.000, 9, -999.000, 9, -999.000, 9,   -999.0, 9,   -999.0, 9, -999.0000, 9,   -999.00, -999.000, 9, -999.000,   -999.0, 9,   -999.0,  -999.00, 9,   -999.0,   3.7357, 27.2563,   3.8094, 2, 998.9, 2, 220.25, 2, -999, -999, -999, -999, -999, 9,  -999.00, 9, -999, -999, 9, -999
49NZ20031106, A10, 35, 1, 22, 12022, 2, 20031116, 1042, -30.0003, -28.9917, 3169,   1199.1, 2,   3.2022, 2,  34.4194, 2,  34.4199, 2,    188.5, 1,    196.3, 2,    46.27, 2,    32.62, 2,    -0.01, 2,     2.24, 2,    0.820, 2,    0.389, 2,    0.035, 4,   2217.5, 2,   2309.5, 2,    7.6106, 2,     25.00, -999.000, 9, -999.000,   -108.4, 2,      3.4,     0.77, 2,      0.0,   3.1172, 27.4117,   3.2018, 2, 1201.3, 2, 198.47, 2, 0.22, 0.12, 0.01, 0.02, -999, 9,  -999.00, 9, -999, -999, 9, -999
49NZ20031106, A10, 35, 1, 21, 12015, 2, 20031116, 1042, -30.0003, -28.9917, 3169,   1399.1, 2,   2.9261, 2,  34.5504, 2,  34.5493, 2,    181.4, 1,    188.5, 2,    54.48, 2,    32.03, 2,     0.01, 2,     2.20, 2,    0.292, 2,    0.140, 2,    0.011, 4,   2227.9, 2,   2319.2, 2,    7.6071, 2,     25.00, -999.000, 9, -999.000,   -117.3, 6,      3.8,     0.66, 6,      0.0,   2.8275, 27.5423,   2.9257, 2, 1401.4, 2, 189.23, 2, 0.24, 0.12, 0.01, 0.02, -999, 9,  -999.00, 9, -999, -999, 9, -999
49NZ20031106, A10, 35, 1, 20, 12020, 2, 20031116, 1042, -30.0003, -28.9917, 3169,   1600.8, 2,   2.8469, 2,  34.6597, 2,  34.6575, 2,    186.8, 1,    193.6, 2,    55.19, 2,    30.24, 2,     0.00, 2,     2.08, 2,    0.096, 2,    0.050, 2,    0.000, 4,   2225.0, 2,   2323.8, 2,    7.6267, 2,     25.00, -999.000, 9, -999.000,   -124.3, 2,      3.3,     0.68, 2,      0.0,   2.7322, 27.6381,   2.8462, 2, 1601.6, 2, 193.6, 2, 0.24, 0.12, 0.01, 0.02, -999, 9,  -999.00, 9, -999, -999, 9, -999
49NZ20031106, A10, 35, 1, 19, 12019, 2, 20031116, 1042, -30.0003, -28.9917, 3169,   1800.4, 2,   2.7725, 2,  34.7420, 2,  34.7415, 2,    197.8, 1,    205.3, 2,    53.01, 2,    28.08, 2,    -0.01, 2,     1.92, 2,    0.035, 2,    0.015, 2,    0.000, 4,   2216.2, 2,   2328.1, 2,    7.6524, 2,     25.00, -999.000, 9, -999.000,   -119.2, 2,      3.2,     0.73, 2,      0.0,   2.6416, 27.7117,   2.7726, 2, 1801, 2, 204.65, 2, 0.24, 0.11, 0.01, 0.01, -999, 9,  -999.00, 9, -999, -999, 9, -999
49NZ20031106, A10, 35, 1, 18, 12018, 2, 20031116, 1042, -30.0003, -28.9917, 3169,   1998.9, 2,   2.7393, 2,  34.8021, 2,  34.8012, 2,    210.2, 1,    218.1, 2,    48.69, 2,    26.01, 2,     0.01, 2,     1.77, 2,    0.007, 2,    0.007, 2,    0.000, 4,   2204.0, 2,   2328.0, 2,    7.6811, 2,     25.00, -999.000, 9, -999.000,   -123.0, 2,      3.3,     0.80, 2,      0.0,   2.5912, 27.7643,   2.7394, 2, 1999.6, 2, 217.13, 2, 0.23, 0.11, 0.01, 0.01, -999, 9,  -999.00, 9, -999, -999, 9, -999
49NZ20031106, A10, 35, 1, 11, 12047, 9, 20031116, 1042, -30.0003, -28.9917, 3169,   2099.4, 2,   2.7421, 2,  34.8255, 2, -999.0000, 9,    215.7, 1,   -999.0, 9,  -999.00, 9,  -999.00, 9,  -999.00, 9,  -999.00, 9, -999.000, 9, -999.000, 9, -999.000, 9,   -999.0, 9,   -999.0, 9, -999.0000, 9,   -999.00, -999.000, 9, -999.000,   -999.0, 9,   -999.0,  -999.00, 9,   -999.0,   2.5848, 27.7833,   2.7422, 2, 2099.9, 2, 223, 2, -999, -999, -999, -999, -999, 9,  -999.00, 9, -999, -999, 9, -999
49NZ20031106, A10, 35, 1, 17, 12017, 2, 20031116, 1042, -30.0003, -28.9917, 3169,   2199.9, 2,   2.7432, 2,  34.8455, 2,  34.8450, 2,    220.9, 1,    229.1, 2,    44.02, 2,    24.29, 2,    -0.01, 2,     1.65, 2,   -0.003, 2,    0.000, 2,    0.000, 4,   2197.7, 2,   2327.9, 2,    7.7022, 2,     25.00, -999.000, 9, -999.000,   -112.1, 2,      3.4,     0.84, 2,      0.0,   2.5767, 27.8001,   2.7431, 2, 2200.2, 2, 228.44, 2, 0.22, 0.1, 0.01, 0.01, -999, 9,  -999.00, 9, -999, -999, 9, -999
49NZ20031106, A10, 35, 1, 10, 12046, 9, 20031116, 1042, -30.0003, -28.9917, 3169,   2301.6, 2,   2.7477, 2,  34.8595, 2, -999.0000, 9,    224.6, 1,   -999.0, 9,  -999.00, 9,  -999.00, 9,  -999.00, 9,  -999.00, 9, -999.000, 9, -999.000, 9, -999.000, 9,   -999.0, 9,   -999.0, 9, -999.0000, 9,   -999.00, -999.000, 9, -999.000,   -999.0, 9,   -999.0,  -999.00, 9,   -999.0,   2.5716, 27.8116,   2.7478, 2, 2301.7, 2, 232.8, 2, -999, -999, -999, -999, -999, 9,  -999.00, 9, -999, -999, 9, -999
49NZ20031106, A10, 35, 1, 16, 12016, 2, 20031116, 1042, -30.0003, -28.9917, 3169,   2401.8, 2,   2.7554, 2,  34.8717, 2,  34.8716, 2,    228.3, 1,    236.7, 2,    40.37, 2,    23.03, 2,     0.00, 2,     1.56, 2,   -0.003, 2,   -0.001, 2,    0.000, 4,   2189.7, 6,   2326.0, 2,    7.7150, 2,     25.00, -999.000, 9, -999.000,   -105.6, 2,      3.2,     0.93, 2,      0.0,   2.5696, 27.8217,   2.7554, 2, 2402, 2, 236.32, 2, 0.21, 0.1, 0.01, 0.01, -999, 9,  -999.00, 9, -999, -999, 9, -999
49NZ20031106, A10, 35, 1, 9, 12045, 9, 20031116, 1042, -30.0003, -28.9917, 3169,   2499.6, 2,   2.7503, 2,  34.8816, 2, -999.0000, 9,    231.1, 1,   -999.0, 9,  -999.00, 9,  -999.00, 9,  -999.00, 9,  -999.00, 9, -999.000, 9, -999.000, 9, -999.000, 9,   -999.0, 9,   -999.0, 9, -999.0000, 9,   -999.00, -999.000, 9, -999.000,   -999.0, 9,   -999.0,  -999.00, 9,   -999.0,   2.5552, 27.8308,   2.7504, 2, 2499.9, 2, 239.33, 2, -999, -999, -999, -999, -999, 9,  -999.00, 9, -999, -999, 9, -999
49NZ20031106, A10, 35, 1, 15, 12012, 2, 20031116, 1042, -30.0003, -28.9917, 3169,   2599.6, 2,   2.7428, 2,  34.8900, 2,  34.8898, 2,    234.0, 1,    242.2, 2,    38.14, 2,    22.24, 2,     0.00, 2,     1.50, 2,    0.000, 2,    0.001, 2,    0.000, 4,   2185.5, 2,   2326.9, 6,    7.7246, 2,     25.00, -999.000, 9, -999.000,   -109.3, 2,      3.5,     0.94, 2,      0.0,   2.5381, 27.839,   2.7428, 2, 2599.8, 2, 242.14, 2, 0.2, 0.1, 0.01, 0.01, -999, 9,  -999.00, 9, -999, -999, 9, -999
49NZ20031106, A10, 35, 1, 8, 12044, 9, 20031116, 1042, -30.0003, -28.9917, 3169,   2699.5, 2,   2.7343, 2,  34.8950, 2, -999.0000, 9,    236.0, 1,   -999.0, 9,  -999.00, 9,  -999.00, 9,  -999.00, 9,  -999.00, 9, -999.000, 9, -999.000, 9, -999.000, 9,   -999.0, 9,   -999.0, 9, -999.0000, 9,   -999.00, -999.000, 9, -999.000,   -999.0, 9,   -999.0,  -999.00, 9,   -999.0,   2.5199, 27.8445,   2.7344, 2, 2699.7, 2, 243.81, 2, -999, -999, -999, -999, -999, 9,  -999.00, 9, -999, -999, 9, -999
49NZ20031106, A10, 35, 1, 14, 12014, 2, 20031116, 1042, -30.0003, -28.9917, 3169,   2799.8, 2,   2.7136, 2,  34.8980, 2,  34.8980, 2,    237.4, 1,    245.4, 2,    37.42, 2,    21.89, 2,     0.00, 2,     1.48, 2,   -0.001, 2,   -0.001, 2,    0.000, 4,   2183.5, 2,   2333.7, 3,    7.7309, 6,     25.00, -999.000, 9, -999.000,   -108.4, 2,      3.4,     0.89, 3,      0.0,   2.4896, 27.8495,   2.7141, 2, 2799.9, 2, 245.22, 2, 0.2, 0.09, 0.01, 0.01, -999, 9,  -999.00, 9, -999, -999, 9, -999
49NZ20031106, A10, 35, 1, 7, 12043, 9, 20031116, 1042, -30.0003, -28.9917, 3169,   2900.5, 2,   2.6796, 2,  34.8972, 2, -999.0000, 9,    238.1, 1,   -999.0, 9,  -999.00, 9,  -999.00, 9,  -999.00, 9,  -999.00, 9, -999.000, 9, -999.000, 9, -999.000, 9,   -999.0, 9,   -999.0, 9, -999.0000, 9,   -999.00, -999.000, 9, -999.000,   -999.0, 9,   -999.0,  -999.00, 9,   -999.0,   2.4461, 27.8529,   2.6796, 2, 2900.5, 2, 246.01, 2, -999, -999, -999, -999, -999, 9,  -999.00, 9, -999, -999, 9, -999
49NZ20031106, A10, 35, 1, 23, 12023, 2, 20031116, 1042, -30.0003, -28.9917, 3169,   3001.2, 2,   2.6369, 2,  34.8962, 2,  34.8964, 2,    238.8, 1,    246.1, 2,    39.23, 2,    21.90, 2,    -0.01, 2,     1.47, 2,    0.003, 2,    0.002, 2,    0.000, 4,   2183.7, 2,   2329.1, 2,    7.7296, 2,     25.00, -999.000, 9, -999.000,   -115.3, 3,      3.5,     0.97, 2,      0.0,   2.3941, 27.8562,   2.6370, 2, 3001.3, 2, 246.4, 2, 0.21, 0.09, 0.01, 0.01, -999, 9,  -999.00, 9, -999, -999, 9, -999
49NZ20031106, A10, 35, 1, 13, 12013, 2, 20031116, 1042, -30.0003, -28.9917, 3169,   3001.2, 2,   2.6363, 2,  34.8963, 2,  34.8957, 2,    238.8, 1,    246.0, 2,    39.37, 2,    21.83, 2,     0.00, 2,     1.48, 2,    0.002, 2,    0.001, 2,    0.000, 4,   2184.5, 2,   2327.8, 2,    7.7313, 2,     25.00, -999.000, 9, -999.000,   -103.4, 6,      5.1,     0.97, 2,      0.0,   2.3935, 27.8564,   2.6363, 2, 3001.3, 2, 246.4, 2, 0.21, 0.09, 0.01, 0.01, -999, 9,  -999.00, 9, -999, -999, 9, -999
49NZ20031106, A10, 35, 1, 12, 12048, 2, 20031116, 1042, -30.0003, -28.9917, 3169,   3198.9, 2,   2.5447, 2,  34.8913, 2,  34.8912, 2,    239.9, 1,    246.1, 2,    41.90, 2,    22.06, 2,     0.00, 2,     1.48, 2,    0.005, 2,    0.000, 2,    0.000, 4,   2186.6, 2,   2329.9, 2,    7.7289, 2,     25.00, -999.000, 9, -999.000,   -106.9, 2,      3.3,     0.96, 2,      0.0,   2.2834, 27.8617,   2.5453, 2, 3198.9, 2, 246.64, 2, 0.21, 0.09, 0.01, 0.01, -999, 9,  -999.00, 9, -999, -999, 9, -999