BOTTLE,20220818CCHSIOAMB
EXPOCODE,SECT_ID,STNNBR,CASTNO,SAMPNO,BTLNBR,BTLNBR_FLAG_W,DATE,TIME,LATITUDE,LONGITUDE,DEPTH,CTDPRS,CTDPRS_FLAG_W,CTDTMP,CTDTMP_FLAG_W,CTDSAL,CTDSAL_FLAG_W,SALNTY,SALNTY_FLAG_W,CTDOXY,CTDOXY_FLAG_W,OXYGEN,OXYGEN_FLAG_W,SILCAT,SILCAT_FLAG_W,NITRAT,NITRAT_FLAG_W,NITRIT,NITRIT_FLAG_W,PHSPHT,PHSPHT_FLAG_W,CFC-11,CFC-11_FLAG_W,CFC-12,CFC-12_FLAG_W,CFC113,CFC113_FLAG_W,TCARBN,TCARBN_FLAG_W,ALKALI,ALKALI_FLAG_W,PH_TOT,PH_TOT_FLAG_W,PH_TMP,TRITUM,TRITUM_FLAG_W,TRITER,DELC14,DELC14_FLAG_W,C14ERR,DELC13,DELC13_FLAG_W,C13ERR,THETA,SIG0,SBE35,SBE35_FLAG_W,DWNPRS,DWNPRS_FLAG_W,DWNOXY,DWNOXY_FLAG_W,SILUNC,NRAUNC,NRIUNC,PHPUNC,TOC,TOC_FLAG_W,CS-137,CS-137_FLAG_W,CS137ER,PLUTO,PLUTO_FLAG_W,PLUTOER
,,,,,,,,,,,METERS,DBAR,,ITS-90,,PSS-78,,PSS-78,,UMOL/KG,,UMOL/KG,,UMOL/KG,,UMOL/KG,,UMOL/KG,,UMOL/KG,,PMOL/KG,,PMOL/KG,,PMOL/KG,,UMOL/KG,,UMOL/KG,,,,DEG C,TU,,TU,/MILLE,,/MILLE,/MILLE,,/MILLE,DEG C,KG/M^3,ITS-90,,DBAR,,UMOL/KG,,UMOL/KG,UMOL/KG,UMOL/KG,UMOL/KG,UMOL/KG,,BQ/M^3,,BQ/M^3,MBQ/M^3,,MBQ/M^3
49NZ20031106, A10, 632, 1, 2, 12014, 2, 20031108, 1749, -28.2257, -45.4083, 2964,      5.6, 2,  23.3482, 2,  37.1039, 2, -999.0000, 9,    201.1, 1,   -999.0, 9,  -999.00, 9,  -999.00, 9,  -999.00, 9,  -999.00, 9, -999.000, 9, -999.000, 9, -999.000, 9,   -999.0, 9,   -999.0, 9, -999.0000, 9,   -999.00, -999.000, 9, -999.000,   -999.0, 9,   -999.0,  -999.00, 9,   -999.0,  23.3470, 25.429,  23.3468, 2, 6.1, 2, 212.22, 2, -999, -999, -999, -999, -999, 9,  -999.00, 9, -999, -999, 9, -999
49NZ20031106, A10, 632, 1, 3, 12012, 2, 20031108, 1749, -28.2257, -45.4083, 2964,      5.7, 2,  23.3672, 2,  37.1033, 2, -999.0000, 9,    201.5, 1,   -999.0, 9,  -999.00, 9,  -999.00, 9,  -999.00, 9,  -999.00, 9, -999.000, 9, -999.000, 9, -999.000, 9,   -999.0, 9,   -999.0, 9, -999.0000, 9,   -999.00, -999.000, 9, -999.000,   -999.0, 9,   -999.0,  -999.00, 9,   -999.0,  23.3660, 25.4246,  23.3609, 2, -999, 9, -999, 9, -999, -999, -999, -999, -999, 9,  -999.00, 9, -999, -999, 9, -999
49NZ20031106, A10, 632, 1, 36, 12048, 2, 20031108, 1749, -28.2257, -45.4083, 2964,      9.9, 2,  23.2984, 2,  37.1019, 2,  37.1013, 2,    201.3, 1,    212.1, 2,     0.96, 2,     0.00, 2,     0.01, 2,     0.09, 2, -999.000, 9, -999.000, 9, -999.000, 9,   -999.0, 9,   -999.0, 9, -999.0000, 9,   -999.00, -999.000, 9, -999.000,   -999.0, 9,   -999.0,  -999.00, 9,   -999.0,  23.2963, 25.4433,  23.2990, 2, 7.7, 2, 211.97, 2, 0.12, 0.03, 0.01, 0.02, -999, 9,  -999.00, 9, -999, -999, 9, -999
49NZ20031106, A10, 632, 1, 35, 12047, 2, 20031108, 1749, -28.2257, -45.4083, 2964,     49.7, 2,  23.1250, 2,  37.1008, 2,  37.1012, 2,    201.6, 1,    212.3, 2,     0.93, 2,    -0.01, 2,     0.01, 2,     0.08, 2, -999.000, 9, -999.000, 9, -999.000, 9,   -999.0, 9,   -999.0, 9, -999.0000, 9,   -999.00, -999.000, 9, -999.000,   -999.0, 9,   -999.0,  -999.00, 9,   -999.0,  23.1147, 25.496,  23.1250, 2, 49.7, 2, 212.2, 2, 0.12, 0.03, 0.01, 0.02, -999, 9,  -999.00, 9, -999, -999, 9, -999
49NZ20031106, A10, 632, 1, 1, 12013, 2, 20031108, 1749, -28.2257, -45.4083, 2964,    101.6, 2,  23.1126, 2,  37.0937, 2, -999.0000, 9,    200.7, 1,   -999.0, 9,  -999.00, 9,  -999.00, 9,  -999.00, 9,  -999.00, 9, -999.000, 9, -999.000, 9, -999.000, 9,   -999.0, 9,   -999.0, 9, -999.0000, 9,   -999.00, -999.000, 9, -999.000,   -999.0, 9,   -999.0,  -999.00, 9,   -999.0,  23.0916, 25.4981,  23.1115, 2, 101.4, 2, 211.29, 2, -999, -999, -999, -999, -999, 9,  -999.00, 9, -999, -999, 9, -999
49NZ20031106, A10, 632, 1, 34, 12046, 2, 20031108, 1749, -28.2257, -45.4083, 2964,    101.7, 2,  23.1128, 2,  37.0935, 2,  37.0954, 2,    200.9, 1,    211.6, 2,     0.90, 2,    -0.02, 2,     0.02, 2,     0.07, 2, -999.000, 9, -999.000, 9, -999.000, 9,   -999.0, 9,   -999.0, 9, -999.0000, 9,   -999.00, -999.000, 9, -999.000,   -999.0, 9,   -999.0,  -999.00, 9,   -999.0,  23.0918, 25.4982,  23.1118, 2, 101.4, 2, 211.29, 2, 0.12, 0.03, 0.01, 0.03, -999, 9,  -999.00, 9, -999, -999, 9, -999
49NZ20031106, A10, 632, 1, 33, 12045, 2, 20031108, 1749, -28.2257, -45.4083, 2964,    152.6, 2,  21.9436, 2,  36.7934, 2,  36.8173, 3,    196.9, 1,    206.7, 2,     0.95, 2,     0.43, 2,     0.10, 2,     0.12, 2, -999.000, 9, -999.000, 9, -999.000, 9,   -999.0, 9,   -999.0, 9, -999.0000, 9,   -999.00, -999.000, 9, -999.000,   -999.0, 9,   -999.0,  -999.00, 9,   -999.0,  21.9132, 25.6055,  21.9596, 2, 151.6, 2, 206.61, 2, 0.12, 0.03, 0.01, 0.02, -999, 9,  -999.00, 9, -999, -999, 9, -999
49NZ20031106, A10, 632, 1, 32, 12044, 2, 20031108, 1749, -28.2257, -45.4083, 2964,    201.9, 2,  18.9927, 2,  36.1713, 2,  36.1705, 2,    193.5, 1,    203.0, 2,     1.30, 2,     1.79, 2,     0.02, 2,     0.25, 2, -999.000, 9, -999.000, 9, -999.000, 9,   -999.0, 9,   -999.0, 9, -999.0000, 9,   -999.00, -999.000, 9, -999.000,   -999.0, 9,   -999.0,  -999.00, 9,   -999.0,  18.9564, 25.928,  18.9968, 2, 202.8, 2, 202.41, 2, 0.12, 0.04, 0.01, 0.01, -999, 9,  -999.00, 9, -999, -999, 9, -999
49NZ20031106, A10, 632, 1, 31, 12043, 2, 20031108, 1749, -28.2257, -45.4083, 2964,    251.5, 2,  16.6752, 2,  35.7577, 2,  35.7554, 2,    198.0, 1,    206.8, 2,     1.74, 2,     3.39, 2,     0.02, 2,     0.39, 2, -999.000, 9, -999.000, 9, -999.000, 9,   -999.0, 9,   -999.0, 9, -999.0000, 9,   -999.00, -999.000, 9, -999.000,   -999.0, 9,   -999.0,  -999.00, 9,   -999.0,  16.6340, 26.1826,  16.6755, 2, 250, 2, 206.89, 2, 0.12, 0.04, 0.01, 0.01, -999, 9,  -999.00, 9, -999, -999, 9, -999
49NZ20031106, A10, 632, 1, 30, 12042, 2, 20031108, 1749, -28.2257, -45.4083, 2964,    302.1, 2,  14.8574, 2,  35.4652, 2,  35.4767, 3,    194.3, 1,    202.3, 2,     2.54, 2,     6.66, 2,     0.01, 2,     0.58, 2, -999.000, 9, -999.000, 9, -999.000, 9,   -999.0, 9,   -999.0, 9, -999.0000, 9,   -999.00, -999.000, 9, -999.000,   -999.0, 9,   -999.0,  -999.00, 9,   -999.0,  14.8116, 26.3714,  14.8589, 2, 303.7, 2, 202.61, 2, 0.12, 0.05, 0.01, 0.01, -999, 9,  -999.00, 9, -999, -999, 9, -999
49NZ20031106, A10, 632, 1, 29, 12041, 2, 20031108, 1749, -28.2257, -45.4083, 2964,    403.4, 2,  12.7360, 2,  35.1577, 2,  35.1593, 2,    193.3, 1,    200.8, 2,     4.10, 2,    11.38, 2,     0.01, 2,     0.88, 2, -999.000, 9, -999.000, 9, -999.000, 9,   -999.0, 9,   -999.0, 9, -999.0000, 9,   -999.00, -999.000, 9, -999.000,   -999.0, 9,   -999.0,  -999.00, 9,   -999.0,  12.6808, 26.5786,  12.7304, 2, 405.8, 2, 202.34, 2, 0.13, 0.06, 0.01, 0.01, -999, 9,  -999.00, 9, -999, -999, 9, -999
49NZ20031106, A10, 632, 1, 28, 12040, 2, 20031108, 1749, -28.2257, -45.4083, 2964,    501.1, 2,  11.0437, 2,  34.9426, 2,  34.9384, 2,    198.1, 1,    205.6, 2,     5.32, 2,    14.97, 2,     0.01, 2,     1.09, 2, -999.000, 9, -999.000, 9, -999.000, 9,   -999.0, 9,   -999.0, 9, -999.0000, 9,   -999.00, -999.000, 9, -999.000,   -999.0, 9,   -999.0,  -999.00, 9,   -999.0,  10.9809, 26.7335,  11.0412, 2, 499, 2, 205.88, 2, 0.13, 0.07, 0.01, 0.01, -999, 9,  -999.00, 9, -999, -999, 9, -999
49NZ20031106, A10, 632, 1, 27, 12039, 2, 20031108, 1749, -28.2257, -45.4083, 2964,    600.0, 2,   8.8789, 2,  34.6805, 2,  34.6824, 2,    194.4, 1,    201.2, 2,     9.10, 2,    20.49, 2,     0.01, 2,     1.44, 2, -999.000, 9, -999.000, 9, -999.000, 9,   -999.0, 9,   -999.0, 9, -999.0000, 9,   -999.00, -999.000, 9, -999.000,   -999.0, 9,   -999.0,  -999.00, 9,   -999.0,   8.8130, 26.8961,   8.8839, 2, 598.1, 2, 202.5, 2, 0.14, 0.09, 0.01, 0.01, -999, 9,  -999.00, 9, -999, -999, 9, -999
49NZ20031106, A10, 632, 1, 26, 12038, 2, 20031108, 1749, -28.2257, -45.4083, 2964,    703.2, 2,   6.5799, 2,  34.4435, 2,  34.4445, 2,    205.6, 1,    212.3, 2,    13.82, 2,    25.23, 2,     0.00, 2,     1.75, 2, -999.000, 9, -999.000, 9, -999.000, 9,   -999.0, 9,   -999.0, 9, -999.0000, 9,   -999.00, -999.000, 9, -999.000,   -999.0, 9,   -999.0,  -999.00, 9,   -999.0,   6.5144, 27.0447,   6.5772, 2, 705.4, 2, 211.56, 2, 0.15, 0.1, 0.01, 0.01, -999, 9,  -999.00, 9, -999, -999, 9, -999
49NZ20031106, A10, 632, 1, 25, 12037, 2, 20031108, 1749, -28.2257, -45.4083, 2964,    801.4, 2,   5.1903, 2,  34.3284, 2,  34.3300, 2,    216.9, 1,    224.8, 2,    17.79, 2,    27.43, 2,    -0.01, 2,     1.89, 2, -999.000, 9, -999.000, 9, -999.000, 9,   -999.0, 9,   -999.0, 9, -999.0000, 9,   -999.00, -999.000, 9, -999.000,   -999.0, 9,   -999.0,  -999.00, 9,   -999.0,   5.1237, 27.1272,   5.1951, 2, 804.6, 2, 224.07, 2, 0.16, 0.11, 0.01, 0.01, -999, 9,  -999.00, 9, -999, -999, 9, -999
49NZ20031106, A10, 632, 1, 24, 12036, 2, 20031108, 1749, -28.2257, -45.4083, 2964,    899.8, 2,   4.4028, 2,  34.3068, 2,  34.3064, 2,    213.2, 1,    221.6, 2,    24.33, 2,    29.45, 2,     0.00, 2,     2.03, 2, -999.000, 9, -999.000, 9, -999.000, 9,   -999.0, 9,   -999.0, 9, -999.0000, 9,   -999.00, -999.000, 9, -999.000,   -999.0, 9,   -999.0,  -999.00, 9,   -999.0,   4.3329, 27.1993,   4.3953, 2, 900.2, 2, 221.73, 2, 0.17, 0.12, 0.01, 0.02, -999, 9,  -999.00, 9, -999, -999, 9, -999
49NZ20031106, A10, 632, 1, 23, 12035, 2, 20031108, 1749, -28.2257, -45.4083, 2964,   1001.5, 2,   3.9166, 2,  34.3394, 2,  34.3384, 2,    201.4, 1,    209.0, 2,    32.43, 2,    31.19, 2,     0.01, 2,     2.15, 2, -999.000, 9, -999.000, 9, -999.000, 9,   -999.0, 9,   -999.0, 9, -999.0000, 9,   -999.00, -999.000, 9, -999.000,   -999.0, 9,   -999.0,  -999.00, 9,   -999.0,   3.8417, 27.2759,   3.9165, 2, 1001.1, 2, 208.88, 2, 0.19, 0.12, 0.01, 0.02, -999, 9,  -999.00, 9, -999, -999, 9, -999
49NZ20031106, A10, 632, 1, 8, 12020, 9, 20031108, 1749, -28.2257, -45.4083, 2964,   1001.5, 2,   3.9178, 2,  34.3394, 2, -999.0000, 9,    201.6, 1,   -999.0, 9,  -999.00, 9,  -999.00, 9,  -999.00, 9,  -999.00, 9, -999.000, 9, -999.000, 9, -999.000, 9,   -999.0, 9,   -999.0, 9, -999.0000, 9,   -999.00, -999.000, 9, -999.000,   -999.0, 9,   -999.0,  -999.00, 9,   -999.0,   3.8429, 27.2756,   3.9174, 2, 1001.1, 2, 208.88, 2, -999, -999, -999, -999, -999, 9,  -999.00, 9, -999, -999, 9, -999
49NZ20031106, A10, 632, 1, 6, 12018, 9, 20031108, 1749, -28.2257, -45.4083, 2964,   1001.5, 2,   3.9173, 2,  34.3394, 2, -999.0000, 9,    201.4, 1,   -999.0, 9,  -999.00, 9,  -999.00, 9,  -999.00, 9,  -999.00, 9, -999.000, 9, -999.000, 9, -999.000, 9,   -999.0, 9,   -999.0, 9, -999.0000, 9,   -999.00, -999.000, 9, -999.000,   -999.0, 9,   -999.0,  -999.00, 9,   -999.0,   3.8424, 27.2758,   3.9176, 2, 1001.1, 2, 208.88, 2, -999, -999, -999, -999, -999, 9,  -999.00, 9, -999, -999, 9, -999
49NZ20031106, A10, 632, 1, 4, 12016, 9, 20031108, 1749, -28.2257, -45.4083, 2964,   1001.6, 2,   3.9165, 2,  34.3396, 2, -999.0000, 9,    201.4, 1,   -999.0, 9,  -999.00, 9,  -999.00, 9,  -999.00, 9,  -999.00, 9, -999.000, 9, -999.000, 9, -999.000, 9,   -999.0, 9,   -999.0, 9, -999.0000, 9,   -999.00, -999.000, 9, -999.000,   -999.0, 9,   -999.0,  -999.00, 9,   -999.0,   3.8416, 27.2758,   3.9167, 2, 1001.2, 2, 208.89, 2, -999, -999, -999, -999, -999, 9,  -999.00, 9, -999, -999, 9, -999
49NZ20031106, A10, 632, 1, 7, 12019, 9, 20031108, 1749, -28.2257, -45.4083, 2964,   1001.7, 2,   3.9162, 2,  34.3396, 2, -999.0000, 9,    201.5, 1,   -999.0, 9,  -999.00, 9,  -999.00, 9,  -999.00, 9,  -999.00, 9, -999.000, 9, -999.000, 9, -999.000, 9,   -999.0, 9,   -999.0, 9, -999.0000, 9,   -999.00, -999.000, 9, -999.000,   -999.0, 9,   -999.0,  -999.00, 9,   -999.0,   3.8413, 27.2759,   3.9168, 2, 1001.3, 2, 208.88, 2, -999, -999, -999, -999, -999, 9,  -999.00, 9, -999, -999, 9, -999
49NZ20031106, A10, 632, 1, 5, 12017, 9, 20031108, 1749, -28.2257, -45.4083, 2964,   1002.0, 2,   3.9167, 2,  34.3394, 2, -999.0000, 9,    201.4, 1,   -999.0, 9,  -999.00, 9,  -999.00, 9,  -999.00, 9,  -999.00, 9, -999.000, 9, -999.000, 9, -999.000, 9,   -999.0, 9,   -999.0, 9, -999.0000, 9,   -999.00, -999.000, 9, -999.000,   -999.0, 9,   -999.0,  -999.00, 9,   -999.0,   3.8418, 27.276,   3.9168, 2, 1001.5, 2, 208.9, 2, -999, -999, -999, -999, -999, 9,  -999.00, 9, -999, -999, 9, -999
49NZ20031106, A10, 632, 1, 22, 12034, 2, 20031108, 1749, -28.2257, -45.4083, 2964,   1200.8, 2,   3.4152, 2,  34.4442, 2,  34.4442, 2,    185.2, 1,    191.8, 2,    44.03, 2,    32.39, 2,    -0.01, 2,     2.23, 2, -999.000, 9, -999.000, 9, -999.000, 9,   -999.0, 9,   -999.0, 9, -999.0000, 9,   -999.00, -999.000, 9, -999.000,   -999.0, 9,   -999.0,  -999.00, 9,   -999.0,   3.3281, 27.41,   3.4148, 2, 1199.9, 2, 191.95, 2, 0.22, 0.12, 0.01, 0.02, -999, 9,  -999.00, 9, -999, -999, 9, -999
49NZ20031106, A10, 632, 1, 21, 12033, 2, 20031108, 1749, -28.2257, -45.4083, 2964,   1400.8, 2,   3.4057, 2,  34.5811, 2,  34.5811, 2,    182.7, 1,    188.8, 2,    44.81, 2,    31.21, 2,     0.00, 2,     2.15, 2, -999.000, 9, -999.000, 9, -999.000, 9,   -999.0, 9,   -999.0, 9, -999.0000, 9,   -999.00, -999.000, 9, -999.000,   -999.0, 9,   -999.0,  -999.00, 9,   -999.0,   3.3017, 27.5217,   3.4056, 2, 1401.5, 2, 188.73, 2, 0.22, 0.12, 0.01, 0.02, -999, 9,  -999.00, 9, -999, -999, 9, -999
49NZ20031106, A10, 632, 1, 20, 12032, 2, 20031108, 1749, -28.2257, -45.4083, 2964,   1600.8, 2,   3.6231, 2,  34.7146, 2,  34.7135, 2,    189.6, 1,    198.8, 3,    38.78, 2,    28.67, 2,     0.01, 2,     1.96, 2, -999.000, 9, -999.000, 9, -999.000, 9,   -999.0, 9,   -999.0, 9, -999.0000, 9,   -999.00, -999.000, 9, -999.000,   -999.0, 9,   -999.0,  -999.00, 9,   -999.0,   3.4988, 27.6092,   3.6237, 2, 1601.5, 2, 195.42, 2, 0.2, 0.11, 0.01, 0.01, -999, 9,  -999.00, 9, -999, -999, 9, -999
49NZ20031106, A10, 632, 1, 19, 12031, 2, 20031108, 1749, -28.2257, -45.4083, 2964,   1800.6, 2,   3.9314, 2,  34.8639, 2,  34.8638, 2,    207.7, 1,    214.3, 2,    27.44, 2,    24.53, 2,     0.00, 2,     1.66, 2, -999.000, 9, -999.000, 9, -999.000, 9,   -999.0, 9,   -999.0, 9, -999.0000, 9,   -999.00, -999.000, 9, -999.000,   -999.0, 9,   -999.0,  -999.00, 9,   -999.0,   3.7844, 27.6996,   3.9317, 2, 1801.2, 2, 212.4, 2, 0.18, 0.1, 0.01, 0.01, -999, 9,  -999.00, 9, -999, -999, 9, -999
49NZ20031106, A10, 632, 1, 18, 12030, 2, 20031108, 1749, -28.2257, -45.4083, 2964,   2000.3, 2,   3.8563, 2,  34.9237, 2,  34.9237, 2,    223.4, 1,    230.7, 2,    23.65, 2,    22.11, 2,     0.01, 2,     1.49, 2, -999.000, 9, -999.000, 9, -999.000, 9,   -999.0, 9,   -999.0, 9, -999.0000, 9,   -999.00, -999.000, 9, -999.000,   -999.0, 9,   -999.0,  -999.00, 9,   -999.0,   3.6910, 27.7565,   3.8563, 2, 2000.9, 2, 229.04, 2, 0.17, 0.09, 0.01, 0.01, -999, 9,  -999.00, 9, -999, -999, 9, -999
49NZ20031106, A10, 632, 1, 12, 12024, 9, 20031108, 1749, -28.2257, -45.4083, 2964,   2099.7, 2,   3.7153, 2,  34.9379, 2, -999.0000, 9,    230.5, 1,   -999.0, 9,  -999.00, 9,  -999.00, 9,  -999.00, 9,  -999.00, 9, -999.000, 9, -999.000, 9, -999.000, 9,   -999.0, 9,   -999.0, 9, -999.0000, 9,   -999.00, -999.000, 9, -999.000,   -999.0, 9,   -999.0,  -999.00, 9,   -999.0,   3.5424, 27.7828,   3.7150, 2, 2100.5, 2, 237, 2, -999, -999, -999, -999, -999, 9,  -999.00, 9, -999, -999, 9, -999
49NZ20031106, A10, 632, 1, 17, 12029, 2, 20031108, 1749, -28.2257, -45.4083, 2964,   2199.5, 2,   3.6295, 2,  34.9437, 2,  34.9429, 2,    234.3, 1,    241.7, 2,    23.13, 2,    20.79, 2,     0.00, 2,     1.40, 2, -999.000, 9, -999.000, 9, -999.000, 9,   -999.0, 9,   -999.0, 9, -999.0000, 9,   -999.00, -999.000, 9, -999.000,   -999.0, 9,   -999.0,  -999.00, 9,   -999.0,   3.4482, 27.7968,   3.6293, 2, 2199.4, 2, 241.67, 2, 0.17, 0.09, 0.01, 0.01, -999, 9,  -999.00, 9, -999, -999, 9, -999
49NZ20031106, A10, 632, 1, 11, 12023, 9, 20031108, 1749, -28.2257, -45.4083, 2964,   2301.6, 2,   3.4349, 2,  34.9484, 2, -999.0000, 9,    239.9, 1,   -999.0, 9,  -999.00, 9,  -999.00, 9,  -999.00, 9,  -999.00, 9, -999.000, 9, -999.000, 9, -999.000, 9,   -999.0, 9,   -999.0, 9, -999.0000, 9,   -999.00, -999.000, 9, -999.000,   -999.0, 9,   -999.0,  -999.00, 9,   -999.0,   3.2468, 27.8196,   3.4353, 2, 2301.7, 2, 247.05, 2, -999, -999, -999, -999, -999, 9,  -999.00, 9, -999, -999, 9, -999
49NZ20031106, A10, 632, 1, 16, 12028, 2, 20031108, 1749, -28.2257, -45.4083, 2964,   2400.0, 2,   3.2990, 2,  34.9465, 2,  34.9469, 2,    241.9, 1,    249.3, 2,    24.70, 2,    20.12, 2,     0.00, 2,     1.35, 2, -999.000, 9, -999.000, 9, -999.000, 9,   -999.0, 9,   -999.0, 9, -999.0000, 9,   -999.00, -999.000, 9, -999.000,   -999.0, 9,   -999.0,  -999.00, 9,   -999.0,   3.1035, 27.832,   3.2993, 2, 2400.1, 2, 249.11, 2, 0.17, 0.09, 0.01, 0.01, -999, 9,  -999.00, 9, -999, -999, 9, -999
49NZ20031106, A10, 632, 1, 10, 12022, 9, 20031108, 1749, -28.2257, -45.4083, 2964,   2499.9, 2,   3.1242, 2,  34.9376, 2, -999.0000, 9,    242.6, 1,   -999.0, 9,  -999.00, 9,  -999.00, 9,  -999.00, 9,  -999.00, 9, -999.000, 9, -999.000, 9, -999.000, 9,   -999.0, 9,   -999.0, 9, -999.0000, 9,   -999.00, -999.000, 9, -999.000,   -999.0, 9,   -999.0,  -999.00, 9,   -999.0,   2.9220, 27.8419,   3.1244, 2, 2500, 2, 249.75, 2, -999, -999, -999, -999, -999, 9,  -999.00, 9, -999, -999, 9, -999
49NZ20031106, A10, 632, 1, 15, 12027, 2, 20031108, 1749, -28.2257, -45.4083, 2964,   2600.5, 2,   3.0567, 2,  34.9355, 2,  34.9351, 2,    243.4, 1,    249.7, 2,    28.04, 2,    20.29, 2,     0.00, 2,     1.37, 2, -999.000, 9, -999.000, 9, -999.000, 9,   -999.0, 9,   -999.0, 9, -999.0000, 9,   -999.00, -999.000, 9, -999.000,   -999.0, 9,   -999.0,  -999.00, 9,   -999.0,   2.8458, 27.847,   3.0565, 2, 2600.7, 2, 250.31, 2, 0.18, 0.09, 0.01, 0.01, -999, 9,  -999.00, 9, -999, -999, 9, -999
49NZ20031106, A10, 632, 1, 9, 12015, 9, 20031108, 1749, -28.2257, -45.4083, 2964,   2699.6, 2,   2.9420, 2,  34.9306, 2, -999.0000, 9,    244.0, 1,   -999.0, 9,  -999.00, 9,  -999.00, 9,  -999.00, 9,  -999.00, 9, -999.000, 9, -999.000, 9, -999.000, 9,   -999.0, 9,   -999.0, 9, -999.0000, 9,   -999.00, -999.000, 9, -999.000,   -999.0, 9,   -999.0,  -999.00, 9,   -999.0,   2.7234, 27.854,   2.9415, 2, 2699.8, 2, 250.69, 2, -999, -999, -999, -999, -999, 9,  -999.00, 9, -999, -999, 9, -999
49NZ20031106, A10, 632, 1, 14, 12026, 2, 20031108, 1749, -28.2257, -45.4083, 2964,   2802.6, 2,   2.8230, 2,  34.9241, 2,  34.9241, 2,    244.6, 1,    251.1, 2,    31.81, 2,    20.48, 2,     0.00, 2,     1.39, 2, -999.000, 9, -999.000, 9, -999.000, 9,   -999.0, 9,   -999.0, 9, -999.0000, 9,   -999.00, -999.000, 9, -999.000,   -999.0, 9,   -999.0,  -999.00, 9,   -999.0,   2.5964, 27.8601,   2.8230, 2, 2802.8, 2, 250.91, 2, 0.19, 0.09, 0.01, 0.01, -999, 9,  -999.00, 9, -999, -999, 9, -999
49NZ20031106, A10, 632, 1, 13, 12025, 2, 20031108, 1749, -28.2257, -45.4083, 2964,   2992.7, 2,   2.2807, 2,  34.8790, 2,  34.8791, 2,    241.4, 1,    246.5, 2,    47.63, 2,    22.40, 2,     0.00, 2,     1.53, 2, -999.000, 9, -999.000, 9, -999.000, 9,   -999.0, 9,   -999.0, 9, -999.0000, 9,   -999.00, -999.000, 9, -999.000,   -999.0, 9,   -999.0,  -999.00, 9,   -999.0,   2.0465, 27.8706,   2.2805, 2, 2992.7, 2, 246.49, 2, 0.22, 0.1, 0.01, 0.01, -999, 9,  -999.00, 9, -999, -999, 9, -999