BOTTLE,20220818CCHSIOAMB
EXPOCODE,SECT_ID,STNNBR,CASTNO,SAMPNO,BTLNBR,BTLNBR_FLAG_W,DATE,TIME,LATITUDE,LONGITUDE,DEPTH,CTDPRS,CTDPRS_FLAG_W,CTDTMP,CTDTMP_FLAG_W,CTDSAL,CTDSAL_FLAG_W,SALNTY,SALNTY_FLAG_W,CTDOXY,CTDOXY_FLAG_W,OXYGEN,OXYGEN_FLAG_W,SILCAT,SILCAT_FLAG_W,NITRAT,NITRAT_FLAG_W,NITRIT,NITRIT_FLAG_W,PHSPHT,PHSPHT_FLAG_W,CFC-11,CFC-11_FLAG_W,CFC-12,CFC-12_FLAG_W,CFC113,CFC113_FLAG_W,TCARBN,TCARBN_FLAG_W,ALKALI,ALKALI_FLAG_W,PH_TOT,PH_TOT_FLAG_W,PH_TMP,TRITUM,TRITUM_FLAG_W,TRITER,DELC14,DELC14_FLAG_W,C14ERR,DELC13,DELC13_FLAG_W,C13ERR,THETA,SIG0,SBE35,SBE35_FLAG_W,DWNPRS,DWNPRS_FLAG_W,DWNOXY,DWNOXY_FLAG_W,SILUNC,NRAUNC,NRIUNC,PHPUNC,TOC,TOC_FLAG_W,CS-137,CS-137_FLAG_W,CS137ER,PLUTO,PLUTO_FLAG_W,PLUTOER
,,,,,,,,,,,METERS,DBAR,,ITS-90,,PSS-78,,PSS-78,,UMOL/KG,,UMOL/KG,,UMOL/KG,,UMOL/KG,,UMOL/KG,,UMOL/KG,,PMOL/KG,,PMOL/KG,,PMOL/KG,,UMOL/KG,,UMOL/KG,,,,DEG C,TU,,TU,/MILLE,,/MILLE,/MILLE,,/MILLE,DEG C,KG/M^3,ITS-90,,DBAR,,UMOL/KG,,UMOL/KG,UMOL/KG,UMOL/KG,UMOL/KG,UMOL/KG,,BQ/M^3,,BQ/M^3,MBQ/M^3,,MBQ/M^3
49NZ20031106, A10, 624, 1, 36, 12048, 2, 20031107, 1512, -27.8147, -47.0255, 538,      8.2, 2,  22.5375, 2,  36.2511, 2,  36.2505, 2,    204.9, 1,    215.6, 2,     1.00, 2,     0.02, 2,     0.01, 2,     0.16, 3, -999.000, 9, -999.000, 9, -999.000, 9,   -999.0, 9,   -999.0, 9, -999.0000, 9,   -999.00, -999.000, 9, -999.000,   -999.0, 9,   -999.0,  -999.00, 9,   -999.0,  22.5358, 25.0189,  22.5363, 2, 11.3, 2, 217.08, 2, 0.12, 0.03, 0.01, 0.02, -999, 9,  -999.00, 9, -999, -999, 9, -999
49NZ20031106, A10, 624, 1, 35, 12047, 2, 20031107, 1512, -27.8147, -47.0255, 538,     49.6, 2,  22.0626, 2,  36.7346, 2,  36.7379, 2,    202.5, 1,    214.2, 2,     1.05, 2,    -0.01, 2,     0.01, 2,     0.14, 3, -999.000, 9, -999.000, 9, -999.000, 9,   -999.0, 9,   -999.0, 9, -999.0000, 9,   -999.00, -999.000, 9, -999.000,   -999.0, 9,   -999.0,  -999.00, 9,   -999.0,  22.0527, 25.5259,  22.0592, 2, 53.7, 2, 213.72, 2, 0.12, 0.03, 0.01, 0.02, -999, 9,  -999.00, 9, -999, -999, 9, -999
49NZ20031106, A10, 624, 1, 25, 12037, 9, 20031107, 1512, -27.8147, -47.0255, 538,     97.7, 2,  18.4373, 2,  36.0685, 2, -999.0000, 9,    188.2, 1,   -999.0, 9,  -999.00, 9,  -999.00, 9,  -999.00, 9,  -999.00, 9, -999.000, 9, -999.000, 9, -999.000, 9,   -999.0, 9,   -999.0, 9, -999.0000, 9,   -999.00, -999.000, 9, -999.000,   -999.0, 9,   -999.0,  -999.00, 9,   -999.0,  18.4202, 25.9866,  18.4369, 2, 99.7, 2, 197.83, 2, -999, -999, -999, -999, -999, 9,  -999.00, 9, -999, -999, 9, -999
49NZ20031106, A10, 624, 1, 10, 12022, 9, 20031107, 1512, -27.8147, -47.0255, 538,     98.0, 2,  18.4235, 2,  36.0652, 2, -999.0000, 9,    188.2, 1,   -999.0, 9,  -999.00, 9,  -999.00, 9,  -999.00, 9,  -999.00, 9, -999.000, 9, -999.000, 9, -999.000, 9,   -999.0, 9,   -999.0, 9, -999.0000, 9,   -999.00, -999.000, 9, -999.000,   -999.0, 9,   -999.0,  -999.00, 9,   -999.0,  18.4063, 25.9879,  18.4230, 2, 99.8, 2, 197.83, 2, -999, -999, -999, -999, -999, 9,  -999.00, 9, -999, -999, 9, -999
49NZ20031106, A10, 624, 1, 9, 12015, 9, 20031107, 1512, -27.8147, -47.0255, 538,     98.0, 2,  18.4231, 2,  36.0651, 2, -999.0000, 9,    188.4, 1,   -999.0, 9,  -999.00, 9,  -999.00, 9,  -999.00, 9,  -999.00, 9, -999.000, 9, -999.000, 9, -999.000, 9,   -999.0, 9,   -999.0, 9, -999.0000, 9,   -999.00, -999.000, 9, -999.000,   -999.0, 9,   -999.0,  -999.00, 9,   -999.0,  18.4059, 25.9877,  18.4215, 2, 99.8, 2, 197.83, 2, -999, -999, -999, -999, -999, 9,  -999.00, 9, -999, -999, 9, -999
49NZ20031106, A10, 624, 1, 15, 12027, 9, 20031107, 1512, -27.8147, -47.0255, 538,     98.1, 2,  18.4395, 2,  36.0684, 2, -999.0000, 9,    188.7, 1,   -999.0, 9,  -999.00, 9,  -999.00, 9,  -999.00, 9,  -999.00, 9, -999.000, 9, -999.000, 9, -999.000, 9,   -999.0, 9,   -999.0, 9, -999.0000, 9,   -999.00, -999.000, 9, -999.000,   -999.0, 9,   -999.0,  -999.00, 9,   -999.0,  18.4223, 25.9867,  18.4374, 2, 99.8, 2, 197.83, 2, -999, -999, -999, -999, -999, 9,  -999.00, 9, -999, -999, 9, -999
49NZ20031106, A10, 624, 1, 14, 12026, 9, 20031107, 1512, -27.8147, -47.0255, 538,     98.1, 2,  18.4368, 2,  36.0684, 2, -999.0000, 9,    188.3, 1,   -999.0, 9,  -999.00, 9,  -999.00, 9,  -999.00, 9,  -999.00, 9, -999.000, 9, -999.000, 9, -999.000, 9,   -999.0, 9,   -999.0, 9, -999.0000, 9,   -999.00, -999.000, 9, -999.000,   -999.0, 9,   -999.0,  -999.00, 9,   -999.0,  18.4196, 25.9867,  18.4375, 2, 99.8, 2, 197.83, 2, -999, -999, -999, -999, -999, 9,  -999.00, 9, -999, -999, 9, -999
49NZ20031106, A10, 624, 1, 7, 12019, 9, 20031107, 1512, -27.8147, -47.0255, 538,     98.1, 2,  18.4184, 2,  36.0637, 2, -999.0000, 9,    188.2, 1,   -999.0, 9,  -999.00, 9,  -999.00, 9,  -999.00, 9,  -999.00, 9, -999.000, 9, -999.000, 9, -999.000, 9,   -999.0, 9,   -999.0, 9, -999.0000, 9,   -999.00, -999.000, 9, -999.000,   -999.0, 9,   -999.0,  -999.00, 9,   -999.0,  18.4012, 25.9886,  18.4165, 2, 99.8, 2, 197.83, 2, -999, -999, -999, -999, -999, 9,  -999.00, 9, -999, -999, 9, -999
49NZ20031106, A10, 624, 1, 8, 12020, 9, 20031107, 1512, -27.8147, -47.0255, 538,     98.2, 2,  18.4202, 2,  36.0642, 2, -999.0000, 9,    188.4, 1,   -999.0, 9,  -999.00, 9,  -999.00, 9,  -999.00, 9,  -999.00, 9, -999.000, 9, -999.000, 9, -999.000, 9,   -999.0, 9,   -999.0, 9, -999.0000, 9,   -999.00, -999.000, 9, -999.000,   -999.0, 9,   -999.0,  -999.00, 9,   -999.0,  18.4030, 25.988,  18.4193, 2, 99.9, 2, 197.83, 2, -999, -999, -999, -999, -999, 9,  -999.00, 9, -999, -999, 9, -999
49NZ20031106, A10, 624, 1, 22, 12034, 9, 20031107, 1512, -27.8147, -47.0255, 538,     98.3, 2,  18.4307, 2,  36.0667, 2, -999.0000, 9,    188.4, 1,   -999.0, 9,  -999.00, 9,  -999.00, 9,  -999.00, 9,  -999.00, 9, -999.000, 9, -999.000, 9, -999.000, 9,   -999.0, 9,   -999.0, 9, -999.0000, 9,   -999.00, -999.000, 9, -999.000,   -999.0, 9,   -999.0,  -999.00, 9,   -999.0,  18.4135, 25.987,  18.4303, 2, 99.8, 2, 197.83, 2, -999, -999, -999, -999, -999, 9,  -999.00, 9, -999, -999, 9, -999
49NZ20031106, A10, 624, 1, 21, 12033, 9, 20031107, 1512, -27.8147, -47.0255, 538,     98.3, 2,  18.4301, 2,  36.0667, 2, -999.0000, 9,    188.4, 1,   -999.0, 9,  -999.00, 9,  -999.00, 9,  -999.00, 9,  -999.00, 9, -999.000, 9, -999.000, 9, -999.000, 9,   -999.0, 9,   -999.0, 9, -999.0000, 9,   -999.00, -999.000, 9, -999.000,   -999.0, 9,   -999.0,  -999.00, 9,   -999.0,  18.4129, 25.9873,  18.4308, 2, 99.9, 2, 197.83, 2, -999, -999, -999, -999, -999, 9,  -999.00, 9, -999, -999, 9, -999
49NZ20031106, A10, 624, 1, 20, 12032, 9, 20031107, 1512, -27.8147, -47.0255, 538,     98.4, 2,  18.4276, 2,  36.0661, 2, -999.0000, 9,    188.3, 1,   -999.0, 9,  -999.00, 9,  -999.00, 9,  -999.00, 9,  -999.00, 9, -999.000, 9, -999.000, 9, -999.000, 9,   -999.0, 9,   -999.0, 9, -999.0000, 9,   -999.00, -999.000, 9, -999.000,   -999.0, 9,   -999.0,  -999.00, 9,   -999.0,  18.4103, 25.9872,  18.4293, 2, 99.9, 2, 197.83, 2, -999, -999, -999, -999, -999, 9,  -999.00, 9, -999, -999, 9, -999
49NZ20031106, A10, 624, 1, 18, 12030, 9, 20031107, 1512, -27.8147, -47.0255, 538,     98.4, 2,  18.4299, 2,  36.0670, 2, -999.0000, 9,    188.4, 1,   -999.0, 9,  -999.00, 9,  -999.00, 9,  -999.00, 9,  -999.00, 9, -999.000, 9, -999.000, 9, -999.000, 9,   -999.0, 9,   -999.0, 9, -999.0000, 9,   -999.00, -999.000, 9, -999.000,   -999.0, 9,   -999.0,  -999.00, 9,   -999.0,  18.4126, 25.9871,  18.4295, 2, 99.9, 2, 197.84, 2, -999, -999, -999, -999, -999, 9,  -999.00, 9, -999, -999, 9, -999
49NZ20031106, A10, 624, 1, 17, 12029, 9, 20031107, 1512, -27.8147, -47.0255, 538,     98.4, 2,  18.4252, 2,  36.0658, 2, -999.0000, 9,    188.2, 1,   -999.0, 9,  -999.00, 9,  -999.00, 9,  -999.00, 9,  -999.00, 9, -999.000, 9, -999.000, 9, -999.000, 9,   -999.0, 9,   -999.0, 9, -999.0000, 9,   -999.00, -999.000, 9, -999.000,   -999.0, 9,   -999.0,  -999.00, 9,   -999.0,  18.4079, 25.9873,  18.4286, 2, 99.9, 2, 197.83, 2, -999, -999, -999, -999, -999, 9,  -999.00, 9, -999, -999, 9, -999
49NZ20031106, A10, 624, 1, 16, 12028, 9, 20031107, 1512, -27.8147, -47.0255, 538,     98.4, 2,  18.4286, 2,  36.0666, 2, -999.0000, 9,    188.5, 1,   -999.0, 9,  -999.00, 9,  -999.00, 9,  -999.00, 9,  -999.00, 9, -999.000, 9, -999.000, 9, -999.000, 9,   -999.0, 9,   -999.0, 9, -999.0000, 9,   -999.00, -999.000, 9, -999.000,   -999.0, 9,   -999.0,  -999.00, 9,   -999.0,  18.4113, 25.9872,  18.4323, 2, 99.9, 2, 197.83, 2, -999, -999, -999, -999, -999, 9,  -999.00, 9, -999, -999, 9, -999
49NZ20031106, A10, 624, 1, 11, 12023, 9, 20031107, 1512, -27.8147, -47.0255, 538,     98.4, 2,  18.4243, 2,  36.0654, 2, -999.0000, 9,    188.3, 1,   -999.0, 9,  -999.00, 9,  -999.00, 9,  -999.00, 9,  -999.00, 9, -999.000, 9, -999.000, 9, -999.000, 9,   -999.0, 9,   -999.0, 9, -999.0000, 9,   -999.00, -999.000, 9, -999.000,   -999.0, 9,   -999.0,  -999.00, 9,   -999.0,  18.4070, 25.9877,  18.4241, 2, 99.9, 2, 197.83, 2, -999, -999, -999, -999, -999, 9,  -999.00, 9, -999, -999, 9, -999
49NZ20031106, A10, 624, 1, 3, 12012, 9, 20031107, 1512, -27.8147, -47.0255, 538,     98.4, 2,  18.3912, 2,  36.0590, 2, -999.0000, 9,    188.5, 1,   -999.0, 9,  -999.00, 9,  -999.00, 9,  -999.00, 9,  -999.00, 9, -999.000, 9, -999.000, 9, -999.000, 9,   -999.0, 9,   -999.0, 9, -999.0000, 9,   -999.00, -999.000, 9, -999.000,   -999.0, 9,   -999.0,  -999.00, 9,   -999.0,  18.3740, 25.9914,  18.3840, 2, 100.1, 2, 197.78, 2, -999, -999, -999, -999, -999, 9,  -999.00, 9, -999, -999, 9, -999
49NZ20031106, A10, 624, 1, 34, 12046, 2, 20031107, 1512, -27.8147, -47.0255, 538,     98.5, 2,  18.3971, 2,  36.0602, 2,  36.0624, 2,    188.4, 1,    197.9, 2,     1.52, 2,     2.65, 2,     0.04, 2,     0.33, 3, -999.000, 9, -999.000, 9, -999.000, 9,   -999.0, 9,   -999.0, 9, -999.0000, 9,   -999.00, -999.000, 9, -999.000,   -999.0, 9,   -999.0,  -999.00, 9,   -999.0,  18.3798, 25.99,  18.4007, 2, 100.1, 2, 197.78, 2, 0.12, 0.04, 0.01, 0.01, -999, 9,  -999.00, 9, -999, -999, 9, -999
49NZ20031106, A10, 624, 1, 23, 12035, 9, 20031107, 1512, -27.8147, -47.0255, 538,     98.5, 2,  18.4325, 2,  36.0673, 2, -999.0000, 9,    188.5, 1,   -999.0, 9,  -999.00, 9,  -999.00, 9,  -999.00, 9,  -999.00, 9, -999.000, 9, -999.000, 9, -999.000, 9,   -999.0, 9,   -999.0, 9, -999.0000, 9,   -999.00, -999.000, 9, -999.000,   -999.0, 9,   -999.0,  -999.00, 9,   -999.0,  18.4152, 25.9869,  18.4325, 2, 99.9, 2, 197.84, 2, -999, -999, -999, -999, -999, 9,  -999.00, 9, -999, -999, 9, -999
49NZ20031106, A10, 624, 1, 1, 12013, 9, 20031107, 1512, -27.8147, -47.0255, 538,     98.5, 2,  18.3877, 2,  36.0581, 2, -999.0000, 9,    188.3, 1,   -999.0, 9,  -999.00, 9,  -999.00, 9,  -999.00, 9,  -999.00, 9, -999.000, 9, -999.000, 9, -999.000, 9,   -999.0, 9,   -999.0, 9, -999.0000, 9,   -999.00, -999.000, 9, -999.000,   -999.0, 9,   -999.0,  -999.00, 9,   -999.0,  18.3705, 25.9921,  18.3846, 2, 100.1, 2, 197.74, 2, -999, -999, -999, -999, -999, 9,  -999.00, 9, -999, -999, 9, -999
49NZ20031106, A10, 624, 1, 26, 12038, 9, 20031107, 1512, -27.8147, -47.0255, 538,     98.6, 2,  18.4434, 2,  36.0697, 2, -999.0000, 9,    188.4, 1,   -999.0, 9,  -999.00, 9,  -999.00, 9,  -999.00, 9,  -999.00, 9, -999.000, 9, -999.000, 9, -999.000, 9,   -999.0, 9,   -999.0, 9, -999.0000, 9,   -999.00, -999.000, 9, -999.000,   -999.0, 9,   -999.0,  -999.00, 9,   -999.0,  18.4261, 25.9861,  18.4427, 2, 99.9, 2, 197.84, 2, -999, -999, -999, -999, -999, 9,  -999.00, 9, -999, -999, 9, -999
49NZ20031106, A10, 624, 1, 13, 12025, 9, 20031107, 1512, -27.8147, -47.0255, 538,     98.6, 2,  18.4293, 2,  36.0666, 2, -999.0000, 9,    188.1, 1,   -999.0, 9,  -999.00, 9,  -999.00, 9,  -999.00, 9,  -999.00, 9, -999.000, 9, -999.000, 9, -999.000, 9,   -999.0, 9,   -999.0, 9, -999.0000, 9,   -999.00, -999.000, 9, -999.000,   -999.0, 9,   -999.0,  -999.00, 9,   -999.0,  18.4120, 25.9874,  18.4306, 2, 99.9, 2, 197.83, 2, -999, -999, -999, -999, -999, 9,  -999.00, 9, -999, -999, 9, -999
49NZ20031106, A10, 624, 1, 24, 12036, 9, 20031107, 1512, -27.8147, -47.0255, 538,     98.7, 2,  18.4362, 2,  36.0679, 2, -999.0000, 9,    188.3, 1,   -999.0, 9,  -999.00, 9,  -999.00, 9,  -999.00, 9,  -999.00, 9, -999.000, 9, -999.000, 9, -999.000, 9,   -999.0, 9,   -999.0, 9, -999.0000, 9,   -999.00, -999.000, 9, -999.000,   -999.0, 9,   -999.0,  -999.00, 9,   -999.0,  18.4189, 25.9866,  18.4366, 2, 99.9, 2, 197.83, 2, -999, -999, -999, -999, -999, 9,  -999.00, 9, -999, -999, 9, -999
49NZ20031106, A10, 624, 1, 6, 12018, 9, 20031107, 1512, -27.8147, -47.0255, 538,     98.7, 2,  18.4139, 2,  36.0624, 2, -999.0000, 9,    188.6, 1,   -999.0, 9,  -999.00, 9,  -999.00, 9,  -999.00, 9,  -999.00, 9, -999.000, 9, -999.000, 9, -999.000, 9,   -999.0, 9,   -999.0, 9, -999.0000, 9,   -999.00, -999.000, 9, -999.000,   -999.0, 9,   -999.0,  -999.00, 9,   -999.0,  18.3966, 25.9889,  18.4106, 2, 100, 2, 197.83, 2, -999, -999, -999, -999, -999, 9,  -999.00, 9, -999, -999, 9, -999
49NZ20031106, A10, 624, 1, 4, 12016, 9, 20031107, 1512, -27.8147, -47.0255, 538,     98.7, 2,  18.3833, 2,  36.0573, 2, -999.0000, 9,    188.7, 1,   -999.0, 9,  -999.00, 9,  -999.00, 9,  -999.00, 9,  -999.00, 9, -999.000, 9, -999.000, 9, -999.000, 9,   -999.0, 9,   -999.0, 9, -999.0000, 9,   -999.00, -999.000, 9, -999.000,   -999.0, 9,   -999.0,  -999.00, 9,   -999.0,  18.3660, 25.9911,  18.3857, 2, 100.2, 2, 197.68, 2, -999, -999, -999, -999, -999, 9,  -999.00, 9, -999, -999, 9, -999
49NZ20031106, A10, 624, 1, 2, 12014, 9, 20031107, 1512, -27.8147, -47.0255, 538,     98.7, 2,  18.3865, 2,  36.0580, 2, -999.0000, 9,    188.4, 1,   -999.0, 9,  -999.00, 9,  -999.00, 9,  -999.00, 9,  -999.00, 9, -999.000, 9, -999.000, 9, -999.000, 9,   -999.0, 9,   -999.0, 9, -999.0000, 9,   -999.00, -999.000, 9, -999.000,   -999.0, 9,   -999.0,  -999.00, 9,   -999.0,  18.3692, 25.993,  18.3847, 2, 100.2, 2, 197.69, 2, -999, -999, -999, -999, -999, 9,  -999.00, 9, -999, -999, 9, -999
49NZ20031106, A10, 624, 1, 19, 12031, 9, 20031107, 1512, -27.8147, -47.0255, 538,     98.8, 2,  18.4234, 2,  36.0650, 2, -999.0000, 9,    188.5, 1,   -999.0, 9,  -999.00, 9,  -999.00, 9,  -999.00, 9,  -999.00, 9, -999.000, 9, -999.000, 9, -999.000, 9,   -999.0, 9,   -999.0, 9, -999.0000, 9,   -999.00, -999.000, 9, -999.000,   -999.0, 9,   -999.0,  -999.00, 9,   -999.0,  18.4061, 25.9879,  18.4228, 2, 100, 2, 197.83, 2, -999, -999, -999, -999, -999, 9,  -999.00, 9, -999, -999, 9, -999
49NZ20031106, A10, 624, 1, 5, 12017, 9, 20031107, 1512, -27.8147, -47.0255, 538,     98.8, 2,  18.3859, 2,  36.0578, 2, -999.0000, 9,    188.5, 1,   -999.0, 9,  -999.00, 9,  -999.00, 9,  -999.00, 9,  -999.00, 9, -999.000, 9, -999.000, 9, -999.000, 9,   -999.0, 9,   -999.0, 9, -999.0000, 9,   -999.00, -999.000, 9, -999.000,   -999.0, 9,   -999.0,  -999.00, 9,   -999.0,  18.3686, 25.9916,  18.3894, 2, 100.2, 2, 197.68, 2, -999, -999, -999, -999, -999, 9,  -999.00, 9, -999, -999, 9, -999
49NZ20031106, A10, 624, 1, 12, 12024, 9, 20031107, 1512, -27.8147, -47.0255, 538,     98.9, 2,  18.4272, 2,  36.0661, 2, -999.0000, 9,    188.1, 1,   -999.0, 9,  -999.00, 9,  -999.00, 9,  -999.00, 9,  -999.00, 9, -999.000, 9, -999.000, 9, -999.000, 9,   -999.0, 9,   -999.0, 9, -999.0000, 9,   -999.00, -999.000, 9, -999.000,   -999.0, 9,   -999.0,  -999.00, 9,   -999.0,  18.4099, 25.9875,  18.4277, 2, 100, 2, 197.83, 2, -999, -999, -999, -999, -999, 9,  -999.00, 9, -999, -999, 9, -999
49NZ20031106, A10, 624, 1, 33, 12045, 2, 20031107, 1512, -27.8147, -47.0255, 538,    149.5, 2,  15.8794, 2,  35.6182, 2,  35.6147, 2,    193.5, 1,    201.6, 2,     2.28, 2,     5.17, 2,     0.02, 2,     0.51, 3, -999.000, 9, -999.000, 9, -999.000, 9,   -999.0, 9,   -999.0, 9, -999.0000, 9,   -999.00, -999.000, 9, -999.000,   -999.0, 9,   -999.0,  -999.00, 9,   -999.0,  15.8558, 26.2565,  15.8802, 2, 149, 2, 201.44, 2, 0.12, 0.05, 0.01, 0.01, -999, 9,  -999.00, 9, -999, -999, 9, -999
49NZ20031106, A10, 624, 1, 32, 12044, 2, 20031107, 1512, -27.8147, -47.0255, 538,    198.7, 2,  14.8919, 2,  35.4682, 2,  35.4672, 2,    194.2, 1,    202.6, 2,     2.67, 2,     6.81, 2,     0.02, 2,     0.59, 3, -999.000, 9, -999.000, 9, -999.000, 9,   -999.0, 9,   -999.0, 9, -999.0000, 9,   -999.00, -999.000, 9, -999.000,   -999.0, 9,   -999.0,  -999.00, 9,   -999.0,  14.8618, 26.3633,  14.8940, 2, 197.4, 2, 202.1, 2, 0.12, 0.05, 0.01, 0.01, -999, 9,  -999.00, 9, -999, -999, 9, -999
49NZ20031106, A10, 624, 1, 31, 12043, 2, 20031107, 1512, -27.8147, -47.0255, 538,    249.1, 2,  14.1727, 2,  35.3761, 2,  35.3493, 3,    196.2, 1,    204.2, 2,     3.00, 2,     8.36, 2,     0.02, 2,     0.68, 3, -999.000, 9, -999.000, 9, -999.000, 9,   -999.0, 9,   -999.0, 9, -999.0000, 9,   -999.00, -999.000, 9, -999.000,   -999.0, 9,   -999.0,  -999.00, 9,   -999.0,  14.1362, 26.4447,  14.2047, 2, 249.1, 2, 203.64, 2, 0.13, 0.06, 0.01, 0.01, -999, 9,  -999.00, 9, -999, -999, 9, -999
49NZ20031106, A10, 624, 1, 30, 12042, 2, 20031107, 1512, -27.8147, -47.0255, 538,    299.6, 2,  12.9290, 2,  35.1944, 2,  35.1940, 2,    195.9, 1,    203.8, 2,     3.80, 2,    10.70, 2,     0.01, 2,     0.85, 3, -999.000, 9, -999.000, 9, -999.000, 9,   -999.0, 9,   -999.0, 9, -999.0000, 9,   -999.00, -999.000, 9, -999.000,   -999.0, 9,   -999.0,  -999.00, 9,   -999.0,  12.8877, 26.5652,  12.9265, 2, 298.6, 2, 202.99, 2, 0.13, 0.06, 0.01, 0.01, -999, 9,  -999.00, 9, -999, -999, 9, -999
49NZ20031106, A10, 624, 1, 29, 12041, 2, 20031107, 1512, -27.8147, -47.0255, 538,    400.3, 2,  10.5781, 2,  34.8853, 2,  34.8911, 2,    198.4, 1,    205.2, 2,     5.92, 2,    15.88, 2,     0.01, 2,     1.16, 3, -999.000, 9, -999.000, 9, -999.000, 9,   -999.0, 9,   -999.0, 9, -999.0000, 9,   -999.00, -999.000, 9, -999.000,   -999.0, 9,   -999.0,  -999.00, 9,   -999.0,  10.5296, 26.7681,  10.5845, 2, 402.2, 2, 204.99, 2, 0.13, 0.08, 0.01, 0.01, -999, 9,  -999.00, 9, -999, -999, 9, -999
49NZ20031106, A10, 624, 1, 28, 12040, 2, 20031107, 1512, -27.8147, -47.0255, 538,    500.9, 2,   8.6170, 2,  34.6478, 2,  34.6468, 2,    199.5, 1,    206.0, 2,     9.20, 2,    20.78, 2,     0.01, 2,     1.47, 3, -999.000, 9, -999.000, 9, -999.000, 9,   -999.0, 9,   -999.0, 9, -999.0000, 9,   -999.00, -999.000, 9, -999.000,   -999.0, 9,   -999.0,  -999.00, 9,   -999.0,   8.5633, 26.9107,   8.6146, 2, 500.7, 2, 206.53, 2, 0.14, 0.09, 0.01, 0.01, -999, 9,  -999.00, 9, -999, -999, 9, -999
49NZ20031106, A10, 624, 1, 27, 12039, 2, 20031107, 1512, -27.8147, -47.0255, 538,    530.6, 2,   7.3284, 2,  34.5089, 2,  34.5099, 2,    206.4, 1,    212.6, 2,    11.65, 2,    23.32, 2,     0.01, 2,     1.64, 3, -999.000, 9, -999.000, 9, -999.000, 9,   -999.0, 9,   -999.0, 9, -999.0000, 9,   -999.00, -999.000, 9, -999.000,   -999.0, 9,   -999.0,  -999.00, 9,   -999.0,   7.2766, 26.9927,   7.3279, 2, 530.4, 2, 212.86, 2, 0.14, 0.1, 0.01, 0.01, -999, 9,  -999.00, 9, -999, -999, 9, -999