BOTTLE,20220818CCHSIOAMB
EXPOCODE,SECT_ID,STNNBR,CASTNO,SAMPNO,BTLNBR,BTLNBR_FLAG_W,DATE,TIME,LATITUDE,LONGITUDE,DEPTH,CTDPRS,CTDPRS_FLAG_W,CTDTMP,CTDTMP_FLAG_W,CTDSAL,CTDSAL_FLAG_W,SALNTY,SALNTY_FLAG_W,CTDOXY,CTDOXY_FLAG_W,OXYGEN,OXYGEN_FLAG_W,SILCAT,SILCAT_FLAG_W,NITRAT,NITRAT_FLAG_W,NITRIT,NITRIT_FLAG_W,PHSPHT,PHSPHT_FLAG_W,CFC-11,CFC-11_FLAG_W,CFC-12,CFC-12_FLAG_W,CFC113,CFC113_FLAG_W,TCARBN,TCARBN_FLAG_W,ALKALI,ALKALI_FLAG_W,PH_TOT,PH_TOT_FLAG_W,PH_TMP,TRITUM,TRITUM_FLAG_W,TRITER,DELC14,DELC14_FLAG_W,C14ERR,DELC13,DELC13_FLAG_W,C13ERR,THETA,SIG0,SBE35,SBE35_FLAG_W,DWNPRS,DWNPRS_FLAG_W,DWNOXY,DWNOXY_FLAG_W,SILUNC,NRAUNC,NRIUNC,PHPUNC,TOC,TOC_FLAG_W,CS-137,CS-137_FLAG_W,CS137ER,PLUTO,PLUTO_FLAG_W,PLUTOER
,,,,,,,,,,,METERS,DBAR,,ITS-90,,PSS-78,,PSS-78,,UMOL/KG,,UMOL/KG,,UMOL/KG,,UMOL/KG,,UMOL/KG,,UMOL/KG,,PMOL/KG,,PMOL/KG,,PMOL/KG,,UMOL/KG,,UMOL/KG,,,,DEG C,TU,,TU,/MILLE,,/MILLE,/MILLE,,/MILLE,DEG C,KG/M^3,ITS-90,,DBAR,,UMOL/KG,,UMOL/KG,UMOL/KG,UMOL/KG,UMOL/KG,UMOL/KG,,BQ/M^3,,BQ/M^3,MBQ/M^3,,MBQ/M^3
49NZ20031106, A10, 58, 1, 1, 12037, 9, 20031122, 228, -29.9920, -11.6713, 3492,     10.0, 2,  19.1010, 2,  35.7941, 2, -999.0000, 9,    221.4, 1,   -999.0, 9,  -999.00, 9,  -999.00, 9,  -999.00, 9,  -999.00, 9, -999.000, 9, -999.000, 9, -999.000, 9,   -999.0, 9,   -999.0, 9, -999.0000, 9,   -999.00, -999.000, 9, -999.000,   -999.0, 9,   -999.0,  -999.00, 9,   -999.0,  19.0992, 25.6045,  19.1013, 2, 11.4, 2, 233.38, 2, -999, -999, -999, -999, -999, 9,  -999.00, 9, -999, -999, 9, -999
49NZ20031106, A10, 58, 1, 36, 12036, 2, 20031122, 228, -29.9920, -11.6713, 3492,     10.3, 2,  19.1021, 2,  35.7941, 2,  35.7943, 2,    221.6, 1,    234.5, 2,     0.88, 2,     0.00, 2,     0.00, 2,     0.15, 2, -999.000, 9, -999.000, 9, -999.000, 9,   -999.0, 9,   -999.0, 9, -999.0000, 9,   -999.00, -999.000, 9, -999.000,   -999.0, 9,   -999.0,  -999.00, 9,   -999.0,  19.1003, 25.6042,  19.1021, 2, 11.7, 2, 233.38, 2, 0.12, 0.03, 0.01, 0.02, -999, 9,  -999.00, 9, -999, -999, 9, -999
49NZ20031106, A10, 58, 1, 35, 12035, 2, 20031122, 228, -29.9920, -11.6713, 3492,     50.7, 2,  18.2342, 2,  35.7673, 2,  35.7651, 2,    225.7, 1,    238.4, 2,     0.92, 2,    -0.03, 2,     0.01, 2,     0.15, 2, -999.000, 9, -999.000, 9, -999.000, 9,   -999.0, 9,   -999.0, 9, -999.0000, 9,   -999.00, -999.000, 9, -999.000,   -999.0, 9,   -999.0,  -999.00, 9,   -999.0,  18.2254, 25.8057,  18.2341, 2, 57, 2, 237.85, 2, 0.12, 0.03, 0.01, 0.02, -999, 9,  -999.00, 9, -999, -999, 9, -999
49NZ20031106, A10, 58, 1, 34, 12034, 2, 20031122, 228, -29.9920, -11.6713, 3492,     99.5, 2,  17.1108, 2,  35.6593, 2,  35.6590, 2,    226.7, 1,    239.4, 2,     0.94, 2,    -0.04, 2,     0.01, 2,     0.18, 2, -999.000, 9, -999.000, 9, -999.000, 9,   -999.0, 9,   -999.0, 9, -999.0000, 9,   -999.00, -999.000, 9, -999.000,   -999.0, 9,   -999.0,  -999.00, 9,   -999.0,  17.0943, 25.9999,  17.1109, 2, 110.6, 2, 237.77, 2, 0.12, 0.03, 0.01, 0.02, -999, 9,  -999.00, 9, -999, -999, 9, -999
49NZ20031106, A10, 58, 1, 33, 12033, 2, 20031122, 228, -29.9920, -11.6713, 3492,    150.8, 2,  15.3235, 2,  35.3854, 2,  35.3853, 2,    225.1, 1,    237.1, 2,     1.07, 2,     1.24, 2,     0.22, 2,     0.29, 2, -999.000, 9, -999.000, 9, -999.000, 9,   -999.0, 9,   -999.0, 9, -999.0000, 9,   -999.00, -999.000, 9, -999.000,   -999.0, 9,   -999.0,  -999.00, 9,   -999.0,  15.3003, 26.2043,  15.3236, 2, 162.3, 2, 237.49, 2, 0.12, 0.04, 0.01, 0.01, -999, 9,  -999.00, 9, -999, -999, 9, -999
49NZ20031106, A10, 58, 1, 32, 12032, 2, 20031122, 228, -29.9920, -11.6713, 3492,    199.2, 2,  14.5343, 2,  35.3699, 2,  35.3793, 2,    208.8, 1,    219.6, 2,     1.90, 2,     5.07, 2,     0.01, 2,     0.50, 2, -999.000, 9, -999.000, 9, -999.000, 9,   -999.0, 9,   -999.0, 9, -999.0000, 9,   -999.00, -999.000, 9, -999.000,   -999.0, 9,   -999.0,  -999.00, 9,   -999.0,  14.5047, 26.3671,  14.5406, 2, 205.2, 2, 219.03, 2, 0.12, 0.05, 0.01, 0.01, -999, 9,  -999.00, 9, -999, -999, 9, -999
49NZ20031106, A10, 58, 1, 31, 12031, 2, 20031122, 228, -29.9920, -11.6713, 3492,    249.4, 2,  13.5848, 2,  35.2465, 2,  35.2469, 2,    209.3, 1,    219.6, 2,     2.17, 2,     7.05, 2,     0.01, 2,     0.61, 2, -999.000, 9, -999.000, 9, -999.000, 9,   -999.0, 9,   -999.0, 9, -999.0000, 9,   -999.00, -999.000, 9, -999.000,   -999.0, 9,   -999.0,  -999.00, 9,   -999.0,  13.5493, 26.4735,  13.5858, 2, 254.3, 2, 219.65, 2, 0.12, 0.05, 0.01, 0.01, -999, 9,  -999.00, 9, -999, -999, 9, -999
49NZ20031106, A10, 58, 1, 30, 12030, 2, 20031122, 228, -29.9920, -11.6713, 3492,    299.9, 2,  12.8520, 2,  35.1648, 2,  35.1652, 2,    207.7, 1,    217.7, 2,     2.64, 2,     9.05, 2,     0.01, 2,     0.72, 2, -999.000, 9, -999.000, 9, -999.000, 9,   -999.0, 9,   -999.0, 9, -999.0000, 9,   -999.00, -999.000, 9, -999.000,   -999.0, 9,   -999.0,  -999.00, 9,   -999.0,  12.8108, 26.5598,  12.8533, 2, 302.8, 2, 218.08, 2, 0.12, 0.06, 0.01, 0.01, -999, 9,  -999.00, 9, -999, -999, 9, -999
49NZ20031106, A10, 58, 1, 29, 12029, 2, 20031122, 228, -29.9920, -11.6713, 3492,    400.9, 2,  11.1295, 2,  34.9374, 2,  34.9374, 2,    203.6, 1,    213.5, 2,     4.53, 2,    13.60, 2,     0.01, 2,     1.01, 2, -999.000, 9, -999.000, 9, -999.000, 9,   -999.0, 9,   -999.0, 9, -999.0000, 9,   -999.00, -999.000, 9, -999.000,   -999.0, 9,   -999.0,  -999.00, 9,   -999.0,  11.0793, 26.7132,  11.1320, 2, 402.6, 2, 214.25, 2, 0.13, 0.07, 0.01, 0.01, -999, 9,  -999.00, 9, -999, -999, 9, -999
49NZ20031106, A10, 58, 1, 28, 12028, 2, 20031122, 228, -29.9920, -11.6713, 3492,    501.1, 2,   9.2996, 2,  34.7165, 2,  34.7162, 2,    197.1, 1,    205.9, 2,     7.87, 2,    18.97, 2,     0.00, 2,     1.34, 2, -999.000, 9, -999.000, 9, -999.000, 9,   -999.0, 9,   -999.0, 9, -999.0000, 9,   -999.00, -999.000, 9, -999.000,   -999.0, 9,   -999.0,  -999.00, 9,   -999.0,   9.2433, 26.8576,   9.2989, 2, 501.9, 2, 206.05, 2, 0.14, 0.09, 0.01, 0.01, -999, 9,  -999.00, 9, -999, -999, 9, -999
49NZ20031106, A10, 58, 1, 27, 12027, 2, 20031122, 228, -29.9920, -11.6713, 3492,    600.6, 2,   7.2448, 2,  34.4985, 2,  34.4990, 2,    200.9, 1,    209.7, 2,    11.90, 2,    23.89, 2,     0.00, 2,     1.65, 2, -999.000, 9, -999.000, 9, -999.000, 9,   -999.0, 9,   -999.0, 9, -999.0000, 9,   -999.00, -999.000, 9, -999.000,   -999.0, 9,   -999.0,  -999.00, 9,   -999.0,   7.1863, 26.9984,   7.2445, 2, 601.3, 2, 210.72, 2, 0.15, 0.1, 0.01, 0.01, -999, 9,  -999.00, 9, -999, -999, 9, -999
49NZ20031106, A10, 58, 1, 26, 12026, 2, 20031122, 228, -29.9920, -11.6713, 3492,    699.5, 2,   5.6876, 2,  34.3466, 2,  34.3466, 2,    215.7, 1,    225.4, 2,    14.56, 2,    26.43, 2,     0.00, 2,     1.81, 2, -999.000, 9, -999.000, 9, -999.000, 9,   -999.0, 9,   -999.0, 9, -999.0000, 9,   -999.00, -999.000, 9, -999.000,   -999.0, 9,   -999.0,  -999.00, 9,   -999.0,   5.6273, 27.0833,   5.6853, 2, 700.1, 2, 226.71, 2, 0.15, 0.11, 0.01, 0.01, -999, 9,  -999.00, 9, -999, -999, 9, -999
49NZ20031106, A10, 58, 1, 25, 12025, 2, 20031122, 228, -29.9920, -11.6713, 3492,    801.4, 2,   4.7343, 2,  34.3054, 2,  34.3055, 2,    215.0, 1,    224.6, 2,    20.76, 2,    28.67, 2,     0.00, 2,     1.96, 2, -999.000, 9, -999.000, 9, -999.000, 9,   -999.0, 9,   -999.0, 9, -999.0000, 9,   -999.00, -999.000, 9, -999.000,   -999.0, 9,   -999.0,  -999.00, 9,   -999.0,   4.6706, 27.162,   4.7347, 2, 802.6, 2, 223.88, 2, 0.16, 0.11, 0.01, 0.01, -999, 9,  -999.00, 9, -999, -999, 9, -999
49NZ20031106, A10, 58, 1, 24, 12024, 2, 20031122, 228, -29.9920, -11.6713, 3492,    899.9, 2,   4.1811, 2,  34.3011, 2,  34.3010, 2,    212.0, 1,    221.7, 2,    26.17, 2,    29.86, 2,     0.00, 2,     2.05, 2, -999.000, 9, -999.000, 9, -999.000, 9,   -999.0, 9,   -999.0, 9, -999.0000, 9,   -999.00, -999.000, 9, -999.000,   -999.0, 9,   -999.0,  -999.00, 9,   -999.0,   4.1127, 27.219,   4.1813, 2, 898.5, 2, 220.92, 2, 0.18, 0.12, 0.01, 0.02, -999, 9,  -999.00, 9, -999, -999, 9, -999
49NZ20031106, A10, 58, 1, 4, 12040, 9, 20031122, 228, -29.9920, -11.6713, 3492,   1001.0, 2,   3.7108, 2,  34.3409, 2, -999.0000, 9,    199.5, 1,   -999.0, 9,  -999.00, 9,  -999.00, 9,  -999.00, 9,  -999.00, 9, -999.000, 9, -999.000, 9, -999.000, 9,   -999.0, 9,   -999.0, 9, -999.0000, 9,   -999.00, -999.000, 9, -999.000,   -999.0, 9,   -999.0,  -999.00, 9,   -999.0,   3.6376, 27.299,   3.7118, 2, 999.1, 2, 206.77, 2, -999, -999, -999, -999, -999, 9,  -999.00, 9, -999, -999, 9, -999
49NZ20031106, A10, 58, 1, 2, 12038, 9, 20031122, 228, -29.9920, -11.6713, 3492,   1001.4, 2,   3.7104, 2,  34.3404, 2, -999.0000, 9,    199.6, 1,   -999.0, 9,  -999.00, 9,  -999.00, 9,  -999.00, 9,  -999.00, 9, -999.000, 9, -999.000, 9, -999.000, 9,   -999.0, 9,   -999.0, 9, -999.0000, 9,   -999.00, -999.000, 9, -999.000,   -999.0, 9,   -999.0,  -999.00, 9,   -999.0,   3.6371, 27.2985,   3.7103, 2, 999.5, 2, 206.67, 2, -999, -999, -999, -999, -999, 9,  -999.00, 9, -999, -999, 9, -999
49NZ20031106, A10, 58, 1, 3, 12039, 9, 20031122, 228, -29.9920, -11.6713, 3492,   1001.5, 2,   3.7103, 2,  34.3407, 2, -999.0000, 9,    199.7, 1,   -999.0, 9,  -999.00, 9,  -999.00, 9,  -999.00, 9,  -999.00, 9, -999.000, 9, -999.000, 9, -999.000, 9,   -999.0, 9,   -999.0, 9, -999.0000, 9,   -999.00, -999.000, 9, -999.000,   -999.0, 9,   -999.0,  -999.00, 9,   -999.0,   3.6370, 27.2987,   3.7102, 2, 999.6, 2, 206.62, 2, -999, -999, -999, -999, -999, 9,  -999.00, 9, -999, -999, 9, -999
49NZ20031106, A10, 58, 1, 7, 12043, 9, 20031122, 228, -29.9920, -11.6713, 3492,   1001.6, 2,   3.7092, 2,  34.3402, 2, -999.0000, 9,    199.8, 1,   -999.0, 9,  -999.00, 9,  -999.00, 9,  -999.00, 9,  -999.00, 9, -999.000, 9, -999.000, 9, -999.000, 9,   -999.0, 9,   -999.0, 9, -999.0000, 9,   -999.00, -999.000, 9, -999.000,   -999.0, 9,   -999.0,  -999.00, 9,   -999.0,   3.6359, 27.2986,   3.7093, 2, 999.7, 2, 206.61, 2, -999, -999, -999, -999, -999, 9,  -999.00, 9, -999, -999, 9, -999
49NZ20031106, A10, 58, 1, 5, 12041, 9, 20031122, 228, -29.9920, -11.6713, 3492,   1001.6, 2,   3.7096, 2,  34.3405, 2, -999.0000, 9,    199.6, 1,   -999.0, 9,  -999.00, 9,  -999.00, 9,  -999.00, 9,  -999.00, 9, -999.000, 9, -999.000, 9, -999.000, 9,   -999.0, 9,   -999.0, 9, -999.0000, 9,   -999.00, -999.000, 9, -999.000,   -999.0, 9,   -999.0,  -999.00, 9,   -999.0,   3.6363, 27.2986,   3.7099, 2, 999.7, 2, 206.59, 2, -999, -999, -999, -999, -999, 9,  -999.00, 9, -999, -999, 9, -999
49NZ20031106, A10, 58, 1, 6, 12042, 9, 20031122, 228, -29.9920, -11.6713, 3492,   1001.7, 2,   3.7093, 2,  34.3404, 2, -999.0000, 9,    199.8, 1,   -999.0, 9,  -999.00, 9,  -999.00, 9,  -999.00, 9,  -999.00, 9, -999.000, 9, -999.000, 9, -999.000, 9,   -999.0, 9,   -999.0, 9, -999.0000, 9,   -999.00, -999.000, 9, -999.000,   -999.0, 9,   -999.0,  -999.00, 9,   -999.0,   3.6360, 27.2986,   3.7095, 2, 999.8, 2, 206.58, 2, -999, -999, -999, -999, -999, 9,  -999.00, 9, -999, -999, 9, -999
49NZ20031106, A10, 58, 1, 23, 12023, 2, 20031122, 228, -29.9920, -11.6713, 3492,   1001.9, 2,   3.7093, 2,  34.3401, 2,  34.3400, 2,    199.8, 1,    208.7, 2,    35.08, 2,    31.50, 2,     0.00, 2,     2.17, 2, -999.000, 9, -999.000, 9, -999.000, 9,   -999.0, 9,   -999.0, 9, -999.0000, 9,   -999.00, -999.000, 9, -999.000,   -999.0, 9,   -999.0,  -999.00, 9,   -999.0,   3.6360, 27.2984,   3.7096, 2, 999.9, 2, 206.52, 2, 0.2, 0.12, 0.01, 0.02, -999, 9,  -999.00, 9, -999, -999, 9, -999
49NZ20031106, A10, 58, 1, 22, 12022, 2, 20031122, 228, -29.9920, -11.6713, 3492,   1200.8, 2,   3.1883, 2,  34.4651, 2,  34.4654, 2,    180.7, 1,    188.2, 2,    49.80, 2,    32.84, 2,     0.00, 2,     2.26, 2, -999.000, 9, -999.000, 9, -999.000, 9,   -999.0, 9,   -999.0, 9, -999.0000, 9,   -999.00, -999.000, 9, -999.000,   -999.0, 9,   -999.0,  -999.00, 9,   -999.0,   3.1032, 27.449,   3.1883, 2, 1200.2, 2, 188.32, 2, 0.23, 0.12, 0.01, 0.02, -999, 9,  -999.00, 9, -999, -999, 9, -999
49NZ20031106, A10, 58, 1, 21, 12015, 2, 20031122, 228, -29.9920, -11.6713, 3492,   1400.6, 2,   2.9716, 2,  34.5842, 2,  34.5845, 2,    179.1, 1,    186.4, 2,    54.68, 2,    31.80, 2,     0.00, 2,     2.19, 2, -999.000, 9, -999.000, 9, -999.000, 9,   -999.0, 9,   -999.0, 9, -999.0000, 9,   -999.00, -999.000, 9, -999.000,   -999.0, 9,   -999.0,  -999.00, 9,   -999.0,   2.8723, 27.5651,   2.9717, 2, 1398.9, 2, 186.39, 2, 0.24, 0.12, 0.01, 0.02, -999, 9,  -999.00, 9, -999, -999, 9, -999
49NZ20031106, A10, 58, 1, 20, 12020, 2, 20031122, 228, -29.9920, -11.6713, 3492,   1601.4, 2,   2.8822, 2,  34.6793, 2,  34.6801, 2,    185.9, 1,    193.6, 2,    54.35, 2,    29.88, 2,     0.00, 2,     2.05, 2, -999.000, 9, -999.000, 9, -999.000, 9,   -999.0, 9,   -999.0, 9, -999.0000, 9,   -999.00, -999.000, 9, -999.000,   -999.0, 9,   -999.0,  -999.00, 9,   -999.0,   2.7670, 27.6507,   2.8821, 2, 1599.8, 2, 193.8, 2, 0.24, 0.12, 0.01, 0.02, -999, 9,  -999.00, 9, -999, -999, 9, -999
49NZ20031106, A10, 58, 1, 19, 12019, 2, 20031122, 228, -29.9920, -11.6713, 3492,   1800.8, 2,   2.8198, 2,  34.7502, 2,  34.7500, 2,    195.9, 1,    204.0, 2,    52.14, 2,    27.95, 2,     0.00, 2,     1.91, 2, -999.000, 9, -999.000, 9, -999.000, 9,   -999.0, 9,   -999.0, 9, -999.0000, 9,   -999.00, -999.000, 9, -999.000,   -999.0, 9,   -999.0,  -999.00, 9,   -999.0,   2.6882, 27.7143,   2.8199, 2, 1799.9, 2, 204.39, 2, 0.23, 0.11, 0.01, 0.01, -999, 9,  -999.00, 9, -999, -999, 9, -999
49NZ20031106, A10, 58, 1, 18, 12018, 2, 20031122, 228, -29.9920, -11.6713, 3492,   2000.3, 2,   2.7032, 2,  34.7948, 2,  34.7943, 2,    205.7, 1,    214.2, 2,    51.26, 2,    26.50, 2,     0.00, 2,     1.81, 2, -999.000, 9, -999.000, 9, -999.000, 9,   -999.0, 9,   -999.0, 9, -999.0000, 9,   -999.00, -999.000, 9, -999.000,   -999.0, 9,   -999.0,  -999.00, 9,   -999.0,   2.5556, 27.7618,   2.7032, 2, 2000, 2, 214.07, 2, 0.23, 0.11, 0.01, 0.01, -999, 9,  -999.00, 9, -999, -999, 9, -999
49NZ20031106, A10, 58, 1, 17, 12017, 2, 20031122, 228, -29.9920, -11.6713, 3492,   2200.8, 2,   2.6207, 2,  34.8206, 2,  34.8205, 2,    213.4, 1,    222.3, 2,    50.21, 2,    25.41, 2,     0.00, 2,     1.73, 2, -999.000, 9, -999.000, 9, -999.000, 9,   -999.0, 9,   -999.0, 9, -999.0000, 9,   -999.00, -999.000, 9, -999.000,   -999.0, 9,   -999.0,  -999.00, 9,   -999.0,   2.4562, 27.7909,   2.6207, 2, 2200.4, 2, 222.37, 2, 0.23, 0.1, 0.01, 0.01, -999, 9,  -999.00, 9, -999, -999, 9, -999
49NZ20031106, A10, 58, 1, 16, 12016, 2, 20031122, 228, -29.9920, -11.6713, 3492,   2400.3, 2,   2.5549, 2,  34.8398, 2,  34.8397, 2,    219.6, 1,    228.6, 2,    49.38, 2,    24.63, 2,     0.00, 2,     1.68, 2, -999.000, 9, -999.000, 9, -999.000, 9,   -999.0, 9,   -999.0, 9, -999.0000, 9,   -999.00, -999.000, 9, -999.000,   -999.0, 9,   -999.0,  -999.00, 9,   -999.0,   2.3730, 27.8132,   2.5550, 2, 2400.3, 2, 228.2, 2, 0.23, 0.1, 0.01, 0.01, -999, 9,  -999.00, 9, -999, -999, 9, -999
49NZ20031106, A10, 58, 1, 15, 12012, 2, 20031122, 228, -29.9920, -11.6713, 3492,   2600.9, 2,   2.5026, 2,  34.8513, 2,  34.8512, 2,    223.7, 1,    232.7, 2,    49.09, 2,    24.03, 2,     0.00, 2,     1.64, 2, -999.000, 9, -999.000, 9, -999.000, 9,   -999.0, 9,   -999.0, 9, -999.0000, 9,   -999.00, -999.000, 9, -999.000,   -999.0, 9,   -999.0,  -999.00, 9,   -999.0,   2.3025, 27.8286,   2.5027, 2, 2601.3, 2, 232.44, 2, 0.23, 0.1, 0.01, 0.01, -999, 9,  -999.00, 9, -999, -999, 9, -999
49NZ20031106, A10, 58, 1, 14, 12014, 2, 20031122, 228, -29.9920, -11.6713, 3492,   2801.1, 2,   2.4580, 2,  34.8582, 2,  34.8581, 2,    227.0, 1,    235.8, 2,    49.06, 2,    23.74, 2,     0.00, 2,     1.61, 2, -999.000, 9, -999.000, 9, -999.000, 9,   -999.0, 9,   -999.0, 9, -999.0000, 9,   -999.00, -999.000, 9, -999.000,   -999.0, 9,   -999.0,  -999.00, 9,   -999.0,   2.2393, 27.8395,   2.4580, 2, 2801.3, 2, 235.65, 2, 0.23, 0.1, 0.01, 0.01, -999, 9,  -999.00, 9, -999, -999, 9, -999
49NZ20031106, A10, 58, 1, 10, 12046, 9, 20031122, 228, -29.9920, -11.6713, 3492,   2899.9, 2,   2.4321, 2,  34.8600, 2, -999.0000, 9,    228.2, 1,   -999.0, 9,  -999.00, 9,  -999.00, 9,  -999.00, 9,  -999.00, 9, -999.000, 9, -999.000, 9, -999.000, 9,   -999.0, 9,   -999.0, 9, -999.0000, 9,   -999.00, -999.000, 9, -999.000,   -999.0, 9,   -999.0,  -999.00, 9,   -999.0,   2.2041, 27.8439,   2.4324, 2, 2900.3, 2, 236.53, 2, -999, -999, -999, -999, -999, 9,  -999.00, 9, -999, -999, 9, -999
49NZ20031106, A10, 58, 1, 13, 12013, 2, 20031122, 228, -29.9920, -11.6713, 3492,   3000.5, 2,   2.4168, 2,  34.8612, 2,  34.8612, 2,    228.8, 1,    237.1, 2,    50.04, 2,    23.62, 2,     0.00, 2,     1.62, 2, -999.000, 9, -999.000, 9, -999.000, 9,   -999.0, 9,   -999.0, 9, -999.0000, 9,   -999.00, -999.000, 9, -999.000,   -999.0, 9,   -999.0,  -999.00, 9,   -999.0,   2.1790, 27.847,   2.4168, 2, 3000.6, 2, 237.12, 2, 0.23, 0.1, 0.01, 0.01, -999, 9,  -999.00, 9, -999, -999, 9, -999
49NZ20031106, A10, 58, 1, 9, 12045, 9, 20031122, 228, -29.9920, -11.6713, 3492,   3101.6, 2,   2.4083, 2,  34.8612, 2, -999.0000, 9,    229.6, 1,   -999.0, 9,  -999.00, 9,  -999.00, 9,  -999.00, 9,  -999.00, 9, -999.000, 9, -999.000, 9, -999.000, 9,   -999.0, 9,   -999.0, 9, -999.0000, 9,   -999.00, -999.000, 9, -999.000,   -999.0, 9,   -999.0,  -999.00, 9,   -999.0,   2.1604, 27.8486,   2.4085, 2, 3101.6, 2, 237.71, 2, -999, -999, -999, -999, -999, 9,  -999.00, 9, -999, -999, 9, -999
49NZ20031106, A10, 58, 1, 12, 12048, 2, 20031122, 228, -29.9920, -11.6713, 3492,   3250.1, 2,   2.3858, 2,  34.8609, 2,  34.8613, 2,    231.0, 1,    238.4, 2,    50.83, 2,    23.57, 2,     0.00, 2,     1.61, 2, -999.000, 9, -999.000, 9, -999.000, 9,   -999.0, 9,   -999.0, 9, -999.0000, 9,   -999.00, -999.000, 9, -999.000,   -999.0, 9,   -999.0,  -999.00, 9,   -999.0,   2.1230, 27.8514,   2.3858, 2, 3250.2, 2, 238.52, 2, 0.23, 0.1, 0.01, 0.01, -999, 9,  -999.00, 9, -999, -999, 9, -999
49NZ20031106, A10, 58, 1, 8, 12044, 9, 20031122, 228, -29.9920, -11.6713, 3492,   3350.6, 2,   2.3817, 2,  34.8606, 2, -999.0000, 9,    231.6, 1,   -999.0, 9,  -999.00, 9,  -999.00, 9,  -999.00, 9,  -999.00, 9, -999.000, 9, -999.000, 9, -999.000, 9,   -999.0, 9,   -999.0, 9, -999.0000, 9,   -999.00, -999.000, 9, -999.000,   -999.0, 9,   -999.0,  -999.00, 9,   -999.0,   2.1084, 27.8525,   2.3818, 2, 3350.7, 2, 238.54, 2, -999, -999, -999, -999, -999, 9,  -999.00, 9, -999, -999, 9, -999
49NZ20031106, A10, 58, 1, 11, 12047, 2, 20031122, 228, -29.9920, -11.6713, 3492,   3524.9, 2,   2.3836, 2,  34.8641, 2,  34.8640, 2,    232.8, 1,    238.6, 2,    51.03, 2,    23.48, 2,     0.00, 2,     1.61, 2, -999.000, 9, -999.000, 9, -999.000, 9,   -999.0, 9,   -999.0, 9, -999.0000, 9,   -999.00, -999.000, 9, -999.000,   -999.0, 9,   -999.0,  -999.00, 9,   -999.0,   2.0916, 27.8565,   2.3837, 2, 3524.9, 2, 238.7, 2, 0.23, 0.1, 0.01, 0.01, -999, 9,  -999.00, 9, -999, -999, 9, -999