BOTTLE,20220818CCHSIOAMB
EXPOCODE,SECT_ID,STNNBR,CASTNO,SAMPNO,BTLNBR,BTLNBR_FLAG_W,DATE,TIME,LATITUDE,LONGITUDE,DEPTH,CTDPRS,CTDPRS_FLAG_W,CTDTMP,CTDTMP_FLAG_W,CTDSAL,CTDSAL_FLAG_W,SALNTY,SALNTY_FLAG_W,CTDOXY,CTDOXY_FLAG_W,OXYGEN,OXYGEN_FLAG_W,SILCAT,SILCAT_FLAG_W,NITRAT,NITRAT_FLAG_W,NITRIT,NITRIT_FLAG_W,PHSPHT,PHSPHT_FLAG_W,CFC-11,CFC-11_FLAG_W,CFC-12,CFC-12_FLAG_W,CFC113,CFC113_FLAG_W,TCARBN,TCARBN_FLAG_W,ALKALI,ALKALI_FLAG_W,PH_TOT,PH_TOT_FLAG_W,PH_TMP,TRITUM,TRITUM_FLAG_W,TRITER,DELC14,DELC14_FLAG_W,C14ERR,DELC13,DELC13_FLAG_W,C13ERR,THETA,SIG0,SBE35,SBE35_FLAG_W,DWNPRS,DWNPRS_FLAG_W,DWNOXY,DWNOXY_FLAG_W,SILUNC,NRAUNC,NRIUNC,PHPUNC,TOC,TOC_FLAG_W,CS-137,CS-137_FLAG_W,CS137ER,PLUTO,PLUTO_FLAG_W,PLUTOER
,,,,,,,,,,,METERS,DBAR,,ITS-90,,PSS-78,,PSS-78,,UMOL/KG,,UMOL/KG,,UMOL/KG,,UMOL/KG,,UMOL/KG,,UMOL/KG,,PMOL/KG,,PMOL/KG,,PMOL/KG,,UMOL/KG,,UMOL/KG,,,,DEG C,TU,,TU,/MILLE,,/MILLE,/MILLE,,/MILLE,DEG C,KG/M^3,ITS-90,,DBAR,,UMOL/KG,,UMOL/KG,UMOL/KG,UMOL/KG,UMOL/KG,UMOL/KG,,BQ/M^3,,BQ/M^3,MBQ/M^3,,MBQ/M^3
49NZ20031106, A10, X16, 1, 36, 12036, 2, 20031117, 1759, -30.2172, -25.0462, 4349,     10.4, 2,  19.3864, 2,  35.7250, 2,  35.7233, 2,    221.0, 1,    233.3, 2,     0.88, 2,     0.04, 2,     0.01, 2,     0.09, 2,    2.676, 2,    1.428, 2,    0.267, 4,   2059.8, 2,   2344.4, 2,    8.0027, 2,     25.00, -999.000, 9, -999.000,     81.0, 2,      4.0,     1.47, 2,      0.0,  19.3845, 25.4782,  19.3856, 2, 13, 2, 233.19, 2, 0.12, 0.03, 0.01, 0.02, -999, 9,  -999.00, 9, -999, -999, 9, -999
49NZ20031106, A10, X16, 1, 35, 12035, 2, 20031117, 1759, -30.2172, -25.0462, 4349,     49.4, 2,  18.4042, 2,  35.7597, 2,  35.7635, 2,    225.4, 1,    237.8, 2,     0.88, 2,     0.02, 2,     0.00, 2,     0.08, 2,    2.740, 2,    1.435, 2,    0.285, 4,   2057.9, 6,   2346.6, 2,    8.0078, 2,     25.00, -999.000, 9, -999.000,     97.6, 2,      4.0,     1.47, 2,      0.0,  18.3956, 25.7588,  18.3982, 2, 46.2, 2, 237.04, 2, 0.12, 0.03, 0.01, 0.02, -999, 9,  -999.00, 9, -999, -999, 9, -999
49NZ20031106, A10, X16, 1, 34, 12034, 2, 20031117, 1759, -30.2172, -25.0462, 4349,    100.3, 2,  16.6399, 2,  35.6240, 2,  35.6252, 2,    220.4, 1,    231.7, 2,     1.01, 2,     0.23, 2,     0.03, 2,     0.17, 2,    2.850, 2,    1.526, 2,    0.257, 4,   2072.8, 2,   2339.3, 6,    7.9723, 2,     25.00, -999.000, 9, -999.000,     82.4, 2,      3.9,     1.36, 2,      0.0,  16.6236, 26.0867,  16.6444, 2, 101, 2, 238.69, 2, 0.12, 0.03, 0.01, 0.02, -999, 9,  -999.00, 9, -999, -999, 9, -999
49NZ20031106, A10, X16, 1, 2, 12038, 2, 20031117, 1759, -30.2172, -25.0462, 4349,    119.6, 2,  15.9697, 2,  35.5161, 2, -999.0000, 9,    228.4, 1,   -999.0, 9,  -999.00, 9,  -999.00, 9,  -999.00, 9,  -999.00, 9, -999.000, 9, -999.000, 9, -999.000, 9,   -999.0, 9,   -999.0, 9, -999.0000, 9,   -999.00, -999.000, 9, -999.000,   -999.0, 9,   -999.0,  -999.00, 9,   -999.0,  15.9508, 26.1578,  15.9702, 2, 116.8, 2, 238.27, 2, -999, -999, -999, -999, -999, 9,  -999.00, 9, -999, -999, 9, -999
49NZ20031106, A10, X16, 1, 33, 12033, 2, 20031117, 1759, -30.2172, -25.0462, 4349,    150.3, 2,  15.4591, 2,  35.4970, 2,  35.4970, 2,    212.5, 1,    223.3, 2,     1.36, 2,     2.82, 2,     0.06, 2,     0.34, 2,    3.008, 2,    1.576, 2,    0.163, 4,   2086.4, 2,   2329.2, 2,    7.9361, 6,     25.00, -999.000, 9, -999.000,     89.5, 2,      3.9,     1.29, 2,      0.0,  15.4358, 26.2596,  15.4592, 2, 151.4, 2, 225.46, 2, 0.12, 0.04, 0.01, 0.01, -999, 9,  -999.00, 9, -999, -999, 9, -999
49NZ20031106, A10, X16, 1, 32, 12032, 2, 20031117, 1759, -30.2172, -25.0462, 4349,    200.0, 2,  14.5630, 2,  35.4211, 2,  35.4211, 2,    209.4, 1,    219.9, 2,     1.81, 2,     5.25, 2,     0.01, 2,     0.47, 2,    3.153, 2,    1.640, 2,    0.115, 4,   2096.6, 2,   2325.6, 2,    7.9111, 2,     25.00, -999.000, 9, -999.000,     77.6, 6,      3.3,     1.20, 6,      0.0,  14.5332, 26.4004,  14.5607, 2, 202.8, 2, 218.11, 2, 0.12, 0.05, 0.01, 0.01, -999, 9,  -999.00, 9, -999, -999, 9, -999
49NZ20031106, A10, X16, 1, 31, 12031, 2, 20031117, 1759, -30.2172, -25.0462, 4349,    250.5, 2,  13.9480, 2,  35.3486, 2,  35.3480, 2,    207.2, 1,    217.5, 2,     2.19, 2,     6.95, 2,     0.01, 2,     0.58, 2,    3.200, 6,    1.653, 6,    0.077, 4,   2104.2, 2,   2323.6, 2,    7.8928, 2,     25.00, -999.000, 9, -999.000,     79.4, 2,      3.9,     1.14, 2,      0.0,  13.9117, 26.4761,  13.9490, 2, 249.9, 2, 216.47, 2, 0.12, 0.05, 0.01, 0.01, -999, 9,  -999.00, 9, -999, -999, 9, -999
49NZ20031106, A10, X16, 1, 30, 12030, 2, 20031117, 1759, -30.2172, -25.0462, 4349,    299.9, 2,  13.2925, 2,  35.2581, 2,  35.2580, 2,    206.7, 1,    216.7, 2,     2.59, 2,     8.48, 2,     0.01, 2,     0.67, 2,    3.211, 3,    1.636, 3,    0.071, 4,   2106.4, 2,   2317.8, 2,    7.8759, 2,     25.00, -999.000, 9, -999.000,     86.5, 2,      4.0,     1.14, 2,      0.0,  13.2504, 26.543,  13.2912, 2, 299.1, 2, 215.83, 2, 0.12, 0.06, 0.01, 0.01, -999, 9,  -999.00, 9, -999, -999, 9, -999
49NZ20031106, A10, X16, 1, 29, 12029, 2, 20031117, 1759, -30.2172, -25.0462, 4349,    399.6, 2,  11.6744, 2,  35.0200, 2,  35.0193, 2,    202.6, 1,    211.9, 2,     4.18, 2,    12.73, 2,     0.01, 2,     0.94, 2,    3.126, 3,    1.533, 3,    0.082, 4,   2120.4, 2,   2304.0, 2,    7.8269, 2,     25.00, -999.000, 9, -999.000,     71.6, 2,      3.8,     1.16, 2,      0.0,  11.6227, 26.6766,  11.6738, 2, 397.2, 2, 211.95, 2, 0.13, 0.07, 0.01, 0.01, -999, 9,  -999.00, 9, -999, -999, 9, -999
49NZ20031106, A10, X16, 1, 28, 12028, 2, 20031117, 1759, -30.2172, -25.0462, 4349,    500.0, 2,   9.8041, 2,  34.7784, 2,  34.7762, 2,    200.5, 1,    209.4, 2,     6.68, 2,    17.63, 2,     0.01, 2,     1.24, 2,    3.271, 3,    1.596, 3,    0.107, 4,   2135.5, 2,   2293.8, 2,    7.7731, 2,     25.00, -999.000, 9, -999.000,     48.3, 2,      3.9,     1.15, 2,      0.0,   9.7461, 26.8219,   9.7984, 2, 497.9, 2, 209.65, 2, 0.13, 0.08, 0.01, 0.01, -999, 9,  -999.00, 9, -999, -999, 9, -999
49NZ20031106, A10, X16, 1, 27, 12027, 2, 20031117, 1759, -30.2172, -25.0462, 4349,    600.4, 2,   7.6265, 2,  34.5271, 2,  34.5276, 2,    205.3, 1,    213.6, 2,    10.08, 2,    22.71, 2,     0.01, 2,     1.57, 2,    3.148, 2,    1.517, 2,    0.137, 4,   2150.7, 2,   2284.7, 2,    7.7210, 2,     25.00, -999.000, 9, -999.000,     21.7, 2,      3.7,     1.06, 3,      0.0,   7.5662, 26.9662,   7.6288, 2, 600.1, 2, 215.78, 2, 0.14, 0.1, 0.01, 0.01, -999, 9,  -999.00, 9, -999, -999, 9, -999
49NZ20031106, A10, X16, 1, 26, 12026, 2, 20031117, 1759, -30.2172, -25.0462, 4349,    700.9, 2,   6.0703, 2,  34.3762, 2,  34.3761, 2,    215.2, 1,    224.5, 2,    13.28, 2,    25.63, 2,     0.01, 2,     1.76, 2,    3.300, 2,    1.534, 2,    0.169, 4,   2157.4, 6,   2281.0, 2,    7.6946, 2,     25.00, -999.000, 9, -999.000,      2.2, 2,      3.7,     1.17, 2,      0.0,   6.0078, 27.0589,   6.0706, 2, 699, 2, 219.93, 2, 0.15, 0.1, 0.01, 0.01, -999, 9,  -999.00, 9, -999, -999, 9, -999
49NZ20031106, A10, X16, 1, 25, 12025, 2, 20031117, 1759, -30.2172, -25.0462, 4349,    800.1, 2,   4.9587, 2,  34.3170, 2,  34.3163, 2,    214.6, 1,    224.0, 2,    19.71, 2,    28.29, 2,     0.01, 2,     1.94, 2,    2.757, 2,    1.257, 2,    0.143, 4,   2170.8, 2,   2283.1, 6,    7.6678, 2,     25.00, -999.000, 9, -999.000,    -32.3, 2,      3.6,     1.11, 2,      0.0,   4.8937, 27.1461,   4.9654, 2, 800.9, 2, 224.76, 2, 0.16, 0.11, 0.01, 0.01, -999, 9,  -999.00, 9, -999, -999, 9, -999
49NZ20031106, A10, X16, 1, 24, 12024, 2, 20031117, 1759, -30.2172, -25.0462, 4349,    901.1, 2,   4.2283, 2,  34.3018, 2,  34.3020, 2,    212.2, 1,    221.6, 2,    25.84, 2,    30.02, 2,     0.01, 2,     2.04, 2,    2.243, 2,    1.026, 2,    0.109, 4,   2181.0, 2,   2293.1, 2,    7.6510, 2,     25.00, -999.000, 9, -999.000,    -55.8, 2,      3.7,     0.93, 2,      0.0,   4.1595, 27.2144,   4.2288, 2, 902.3, 2, 222.17, 2, 0.18, 0.12, 0.01, 0.02, -999, 9,  -999.00, 9, -999, -999, 9, -999
49NZ20031106, A10, X16, 1, 4, 12040, 9, 20031117, 1759, -30.2172, -25.0462, 4349,   1000.8, 2,   3.7303, 2,  34.3163, 2, -999.0000, 9,    206.3, 1,   -999.0, 9,  -999.00, 9,  -999.00, 9,  -999.00, 9,  -999.00, 9, -999.000, 9, -999.000, 9, -999.000, 9,   -999.0, 9,   -999.0, 9, -999.0000, 9,   -999.00, -999.000, 9, -999.000,   -999.0, 9,   -999.0,  -999.00, 9,   -999.0,   3.6570, 27.2774,   3.7302, 2, 1000.3, 2, 215.64, 2, -999, -999, -999, -999, -999, 9,  -999.00, 9, -999, -999, 9, -999
49NZ20031106, A10, X16, 1, 6, 12042, 9, 20031117, 1759, -30.2172, -25.0462, 4349,   1000.9, 2,   3.7299, 2,  34.3163, 2, -999.0000, 9,    206.1, 1,   -999.0, 9,  -999.00, 9,  -999.00, 9,  -999.00, 9,  -999.00, 9, -999.000, 9, -999.000, 9, -999.000, 9,   -999.0, 9,   -999.0, 9, -999.0000, 9,   -999.00, -999.000, 9, -999.000,   -999.0, 9,   -999.0,  -999.00, 9,   -999.0,   3.6566, 27.2774,   3.7298, 2, 1000.5, 2, 215.63, 2, -999, -999, -999, -999, -999, 9,  -999.00, 9, -999, -999, 9, -999
49NZ20031106, A10, X16, 1, 5, 12041, 9, 20031117, 1759, -30.2172, -25.0462, 4349,   1001.1, 2,   3.7300, 2,  34.3163, 2, -999.0000, 9,    206.3, 1,   -999.0, 9,  -999.00, 9,  -999.00, 9,  -999.00, 9,  -999.00, 9, -999.000, 9, -999.000, 9, -999.000, 9,   -999.0, 9,   -999.0, 9, -999.0000, 9,   -999.00, -999.000, 9, -999.000,   -999.0, 9,   -999.0,  -999.00, 9,   -999.0,   3.6567, 27.2775,   3.7299, 2, 1000.6, 2, 215.6, 2, -999, -999, -999, -999, -999, 9,  -999.00, 9, -999, -999, 9, -999
49NZ20031106, A10, X16, 1, 3, 12039, 9, 20031117, 1759, -30.2172, -25.0462, 4349,   1001.3, 2,   3.7302, 2,  34.3164, 2, -999.0000, 9,    206.2, 1,   -999.0, 9,  -999.00, 9,  -999.00, 9,  -999.00, 9,  -999.00, 9, -999.000, 9, -999.000, 9, -999.000, 9,   -999.0, 9,   -999.0, 9, -999.0000, 9,   -999.00, -999.000, 9, -999.000,   -999.0, 9,   -999.0,  -999.00, 9,   -999.0,   3.6568, 27.2774,   3.7301, 2, 1000.8, 2, 215.58, 2, -999, -999, -999, -999, -999, 9,  -999.00, 9, -999, -999, 9, -999
49NZ20031106, A10, X16, 1, 23, 12023, 2, 20031117, 1759, -30.2172, -25.0462, 4349,   1001.4, 2,   3.7309, 2,  34.3163, 2,  34.3162, 2,    206.1, 1,    215.6, 2,    32.47, 2,    31.25, 2,     0.00, 2,     2.14, 2,    1.759, 6,    0.806, 6,    0.082, 4,   2193.6, 2,   2295.5, 2,    7.6350, 2,     25.00, -999.000, 9, -999.000,    -68.9, 2,      3.5,     0.90, 2,      0.0,   3.6575, 27.2771,   3.7310, 2, 1000.9, 2, 215.57, 2, 0.19, 0.12, 0.01, 0.02, -999, 9,  -999.00, 9, -999, -999, 9, -999
49NZ20031106, A10, X16, 1, 22, 12022, 2, 20031117, 1759, -30.2172, -25.0462, 4349,   1200.5, 2,   3.1025, 2,  34.4138, 2,  34.4152, 2,    188.8, 1,    197.2, 2,    46.90, 2,    32.79, 2,     0.00, 2,     2.26, 2,    0.799, 2,    0.365, 2,    0.029, 4,   2218.0, 2,   2309.6, 2,    7.6071, 2,     25.00, -999.000, 9, -999.000,   -105.4, 2,      4.7,     0.76, 2,      0.0,   3.0183, 27.4159,   3.1025, 2, 1199, 2, 197.38, 2, 0.22, 0.12, 0.01, 0.02, -999, 9,  -999.00, 9, -999, -999, 9, -999
49NZ20031106, A10, X16, 1, 1, 12037, 2, 20031117, 1759, -30.2172, -25.0462, 4349,   1400.6, 2,   2.8657, 2,  34.5445, 2,  34.5460, 2,    180.2, 1,    188.0, 2,    55.59, 2,    32.45, 2,     0.00, 2,     2.23, 2,    0.312, 2,    0.144, 2,    0.011, 4,   2228.2, 2,   2321.7, 2,    7.6056, 2,     25.00, -999.000, 9, -999.000,   -114.0, 2,      3.1,     0.61, 2,      0.0,   2.7676, 27.5432,   2.8659, 2, 1400.4, 2, 188.77, 2, 0.24, 0.12, 0.01, 0.02, -999, 9,  -999.00, 9, -999, -999, 9, -999
49NZ20031106, A10, X16, 1, 20, 12020, 2, 20031117, 1759, -30.2172, -25.0462, 4349,   1599.9, 2,   2.8132, 2,  34.6702, 2,  34.6707, 2,    185.7, 1,    193.9, 2,    55.99, 2,    30.34, 2,     0.00, 2,     2.07, 2,    0.098, 2,    0.043, 2,    0.000, 4,   2224.7, 2,   2327.8, 2,    7.6271, 2,     25.00, -999.000, 9, -999.000,   -130.1, 2,      3.4,     0.67, 2,      0.0,   2.6990, 27.6496,   2.8131, 2, 1600.9, 2, 193.75, 2, 0.24, 0.12, 0.01, 0.02, -999, 9,  -999.00, 9, -999, -999, 9, -999
49NZ20031106, A10, X16, 1, 19, 12019, 2, 20031117, 1759, -30.2172, -25.0462, 4349,   1799.8, 2,   2.7782, 2,  34.7510, 2,  34.7516, 2,    196.8, 1,    205.9, 2,    52.82, 2,    28.07, 2,     0.01, 2,     1.91, 2,    0.048, 2,    0.023, 2,    0.000, 4,   2216.4, 2,   2328.1, 2,    7.6534, 2,     25.00, -999.000, 9, -999.000,   -119.5, 2,      3.4,     0.70, 2,      0.0,   2.6472, 27.7188,   2.7778, 2, 1800.5, 2, 205.05, 2, 0.24, 0.11, 0.01, 0.01, -999, 9,  -999.00, 9, -999, -999, 9, -999
49NZ20031106, A10, X16, 1, 18, 12018, 2, 20031117, 1759, -30.2172, -25.0462, 4349,   1999.0, 2,   2.7262, 2,  34.8021, 2,  34.8025, 2,    207.9, 1,    217.7, 2,    49.47, 2,    26.22, 2,     0.01, 2,     1.78, 2,    0.023, 2,    0.013, 2,    0.000, 4,   2207.1, 2,   2329.1, 2,    7.6773, 6,     25.00, -999.000, 9, -999.000,   -117.8, 2,      3.3,     0.81, 2,      0.0,   2.5783, 27.7657,   2.7262, 2, 1999.8, 2, 216.04, 2, 0.23, 0.11, 0.01, 0.01, -999, 9,  -999.00, 9, -999, -999, 9, -999
49NZ20031106, A10, X16, 1, 17, 12017, 2, 20031117, 1759, -30.2172, -25.0462, 4349,   2202.1, 2,   2.6935, 2,  34.8317, 2,  34.8320, 2,    215.8, 1,    225.9, 2,    46.74, 2,    25.05, 2,     0.01, 2,     1.70, 2,    0.026, 2,    0.013, 2,    0.000, 4,   2198.7, 2,   2328.1, 2,    7.6920, 2,     25.00, -999.000, 9, -999.000,   -111.9, 2,      3.3,     0.86, 2,      0.0,   2.5276, 27.7938,   2.6935, 2, 2201.9, 2, 225.44, 2, 0.22, 0.1, 0.01, 0.01, -999, 9,  -999.00, 9, -999, -999, 9, -999
49NZ20031106, A10, X16, 1, 16, 12016, 2, 20031117, 1759, -30.2172, -25.0462, 4349,   2400.4, 2,   2.6787, 2,  34.8569, 2,  34.8568, 2,    223.0, 1,    233.5, 2,    43.90, 2,    23.88, 2,     0.00, 2,     1.62, 2,   -0.006, 2,   -0.002, 2,    0.000, 4,   2193.0, 6,   2324.5, 2,    7.7066, 2,     25.00, -999.000, 9, -999.000,   -111.6, 2,      3.3,     0.78, 3,      0.0,   2.4945, 27.8169,   2.6787, 2, 2400.5, 2, 232.78, 2, 0.22, 0.1, 0.01, 0.01, -999, 9,  -999.00, 9, -999, -999, 9, -999
49NZ20031106, A10, X16, 1, 15, 12012, 2, 20031117, 1759, -30.2172, -25.0462, 4349,   2599.6, 2,   2.6905, 2,  34.8779, 2,  34.8782, 2,    229.3, 1,    239.7, 2,    40.74, 2,    22.90, 2,     0.01, 2,     1.55, 2,    0.002, 2,    0.001, 2,    0.000, 4,   2187.3, 2,   2326.4, 6,    7.7188, 2,     25.00, -999.000, 9, -999.000,   -110.1, 2,      3.5,     0.89, 3,      0.0,   2.4869, 27.8343,   2.6905, 2, 2599.6, 2, 238.99, 2, 0.21, 0.1, 0.01, 0.01, -999, 9,  -999.00, 9, -999, -999, 9, -999
49NZ20031106, A10, X16, 1, 14, 12014, 2, 20031117, 1759, -30.2172, -25.0462, 4349,   2800.3, 2,   2.6683, 2,  34.8889, 2,  34.8898, 2,    233.0, 1,    243.5, 2,    39.33, 2,    22.34, 2,     0.00, 2,     1.51, 2,    0.003, 2,    0.005, 2,    0.000, 4,   2184.3, 2,   2325.7, 2,    7.7258, 6,     25.00, -999.000, 9, -999.000,   -108.5, 2,      3.5,     0.96, 2,      0.0,   2.4452, 27.8469,   2.6683, 2, 2800.3, 2, 243.49, 2, 0.21, 0.1, 0.01, 0.01, -999, 9,  -999.00, 9, -999, -999, 9, -999
49NZ20031106, A10, X16, 1, 13, 12013, 2, 20031117, 1759, -30.2172, -25.0462, 4349,   3000.4, 2,   2.6193, 2,  34.8966, 2,  34.8968, 2,    236.4, 1,    247.1, 2,    38.87, 2,    21.92, 2,     0.01, 2,     1.48, 2,    0.002, 2,    0.001, 2,    0.000, 4,   2182.1, 2,   2328.4, 2,    7.7318, 2,     25.00, -999.000, 9, -999.000,    -98.5, 6,      2.4,     0.94, 6,      0.0,   2.3769, 27.8588,   2.6195, 2, 3000.7, 2, 246.74, 2, 0.2, 0.09, 0.01, 0.01, -999, 9,  -999.00, 9, -999, -999, 9, -999
49NZ20031106, A10, X16, 1, 12, 12048, 2, 20031117, 1759, -30.2172, -25.0462, 4349,   3250.1, 2,   2.4579, 2,  34.8886, 2,  34.8888, 2,    237.2, 1,    247.7, 2,    42.88, 2,    22.19, 2,     0.01, 2,     1.50, 2,    0.030, 2,    0.010, 2,    0.000, 4,   2185.9, 2,   2330.2, 2,    7.7300, 2,     25.00, -999.000, 9, -999.000,    -96.0, 2,      3.5,     0.96, 2,      0.0,   2.1933, 27.8676,   2.4581, 2, 3250.5, 2, 247.64, 2, 0.21, 0.09, 0.01, 0.01, -999, 9,  -999.00, 9, -999, -999, 9, -999
49NZ20031106, A10, X16, 1, 11, 12047, 2, 20031117, 1759, -30.2172, -25.0462, 4349,   3500.7, 2,   2.1556, 2,  34.8604, 2,  34.8604, 2,    234.1, 1,    243.9, 2,    53.86, 2,    23.53, 2,     0.00, 2,     1.60, 2,    0.002, 2,   -0.001, 2,    0.000, 4,   2194.8, 2,   2338.1, 2,    7.7153, 2,     25.00, -999.000, 9, -999.000,   -108.5, 2,      3.4,     0.90, 2,      0.0,   1.8720, 27.8711,   2.1554, 2, 3500.5, 2, 243.99, 2, 0.24, 0.1, 0.01, 0.01, -999, 9,  -999.00, 9, -999, -999, 9, -999
49NZ20031106, A10, X16, 1, 10, 12046, 2, 20031117, 1759, -30.2172, -25.0462, 4349,   3750.1, 2,   1.7782, 2,  34.8213, 2,  34.8204, 2,    228.6, 1,    237.4, 2,    69.00, 2,    25.61, 2,     0.00, 2,     1.74, 2,    0.008, 2,    0.000, 2,    0.000, 4,   2211.5, 2,   2344.8, 2,    7.6958, 2,     25.00, -999.000, 9, -999.000,   -999.0, 5,   -999.0,  -999.00, 5,   -999.0,   1.4779, 27.8694,   1.7780, 2, 3749.5, 2, 236.97, 2, 0.27, 0.1, 0.01, 0.01, -999, 9,  -999.00, 9, -999, -999, 9, -999
49NZ20031106, A10, X16, 1, 9, 12045, 2, 20031117, 1759, -30.2172, -25.0462, 4349,   4001.6, 2,   1.4082, 2,  34.7827, 2,  34.7826, 2,    223.7, 1,    231.6, 2,    83.58, 2,    27.59, 2,     0.00, 2,     1.88, 2,    0.017, 2,    0.010, 2,    0.000, 4,   2227.4, 2,   2352.7, 2,    7.6767, 2,     25.00, -999.000, 9, -999.000,   -134.7, 2,      5.4,     0.70, 2,      0.0,   1.0911, 27.8659,   1.4082, 2, 4001.8, 2, 231.72, 2, 0.3, 0.11, 0.01, 0.01, -999, 9,  -999.00, 9, -999, -999, 9, -999
49NZ20031106, A10, X16, 1, 8, 12044, 2, 20031117, 1759, -30.2172, -25.0462, 4349,   4249.8, 2,   1.3103, 2,  34.7687, 2,  34.7687, 2,    222.4, 1,    228.8, 2,    88.96, 2,    28.36, 2,     0.01, 2,     1.95, 2,    0.022, 2,    0.012, 2,    0.000, 4,   2233.2, 6,   2354.3, 2,    7.6689, 2,     25.00, -999.000, 9, -999.000,   -132.2, 2,      3.3,     0.65, 2,      0.0,   0.9689, 27.863,   1.3102, 2, 4249.8, 2, 228.81, 2, 0.31, 0.11, 0.01, 0.01, -999, 9,  -999.00, 9, -999, -999, 9, -999
49NZ20031106, A10, X16, 1, 21, 12015, 2, 20031117, 1759, -30.2172, -25.0462, 4349,   4249.9, 2,   1.3096, 2,  34.7688, 2,  34.7692, 2,    222.4, 1,    228.9, 2,    88.90, 2,    28.36, 2,     0.00, 2,     1.94, 2,    0.033, 2,    0.014, 2,    0.000, 4,   2233.0, 2,   2350.5, 2,    7.6680, 2,     25.00, -999.000, 9, -999.000,   -147.5, 3,      4.7,     0.66, 2,      0.0,   0.9682, 27.863,   1.3095, 2, 4250, 2, 228.82, 2, 0.31, 0.11, 0.01, 0.01, -999, 9,  -999.00, 9, -999, -999, 9, -999
49NZ20031106, A10, X16, 1, 7, 12043, 2, 20031117, 1759, -30.2172, -25.0462, 4349,   4410.5, 2,   1.2750, 2,  34.7625, 2,  34.7624, 2,    222.4, 1,    227.7, 2,    91.28, 2,    28.68, 2,     0.00, 2,     1.97, 2,    0.030, 2,    0.015, 2,    0.000, 4,   2233.9, 2,   2354.4, 2,    7.6652, 2,     25.00, -999.000, 9, -999.000,   -131.8, 2,      3.3,     0.61, 2,      0.0,   0.9167, 27.8614,   1.2749, 2, 4410.5, 2, 227.33, 2, 0.32, 0.11, 0.01, 0.01, -999, 9,  -999.00, 9, -999, -999, 9, -999