BOTTLE,20220818CCHSIOAMB
EXPOCODE,SECT_ID,STNNBR,CASTNO,SAMPNO,BTLNBR,BTLNBR_FLAG_W,DATE,TIME,LATITUDE,LONGITUDE,DEPTH,CTDPRS,CTDPRS_FLAG_W,CTDTMP,CTDTMP_FLAG_W,CTDSAL,CTDSAL_FLAG_W,SALNTY,SALNTY_FLAG_W,CTDOXY,CTDOXY_FLAG_W,OXYGEN,OXYGEN_FLAG_W,SILCAT,SILCAT_FLAG_W,NITRAT,NITRAT_FLAG_W,NITRIT,NITRIT_FLAG_W,PHSPHT,PHSPHT_FLAG_W,CFC-11,CFC-11_FLAG_W,CFC-12,CFC-12_FLAG_W,CFC113,CFC113_FLAG_W,TCARBN,TCARBN_FLAG_W,ALKALI,ALKALI_FLAG_W,PH_TOT,PH_TOT_FLAG_W,PH_TMP,TRITUM,TRITUM_FLAG_W,TRITER,DELC14,DELC14_FLAG_W,C14ERR,DELC13,DELC13_FLAG_W,C13ERR,THETA,SIG0,SBE35,SBE35_FLAG_W,DWNPRS,DWNPRS_FLAG_W,DWNOXY,DWNOXY_FLAG_W,SILUNC,NRAUNC,NRIUNC,PHPUNC,TOC,TOC_FLAG_W,CS-137,CS-137_FLAG_W,CS137ER,PLUTO,PLUTO_FLAG_W,PLUTOER
,,,,,,,,,,,METERS,DBAR,,ITS-90,,PSS-78,,PSS-78,,UMOL/KG,,UMOL/KG,,UMOL/KG,,UMOL/KG,,UMOL/KG,,UMOL/KG,,PMOL/KG,,PMOL/KG,,PMOL/KG,,UMOL/KG,,UMOL/KG,,,,DEG C,TU,,TU,/MILLE,,/MILLE,/MILLE,,/MILLE,DEG C,KG/M^3,ITS-90,,DBAR,,UMOL/KG,,UMOL/KG,UMOL/KG,UMOL/KG,UMOL/KG,UMOL/KG,,BQ/M^3,,BQ/M^3,MBQ/M^3,,MBQ/M^3
49NZ20031106, A10, 39, 1, 3, 12039, 2, 20031117, 1135, -29.9945, -25.8613, 4544,      5.4, 2,  19.7277, 2,  35.8752, 2, -999.0000, 9,    218.5, 1,   -999.0, 9,  -999.00, 9,  -999.00, 9,  -999.00, 9,  -999.00, 9, -999.000, 9, -999.000, 9, -999.000, 9,   -999.0, 9,   -999.0, 9, -999.0000, 9,   -999.00, -999.000, 9, -999.000,   -999.0, 9,   -999.0,  -999.00, 9,   -999.0,  19.7267, 25.5026,  19.7303, 2, 5.4, 2, 232.71, 2, -999, -999, -999, -999, -999, 9,  -999.00, 9, -999, -999, 9, -999
49NZ20031106, A10, 39, 1, 2, 12038, 2, 20031117, 1135, -29.9945, -25.8613, 4544,      5.5, 2,  19.7402, 2,  35.8756, 2, -999.0000, 9,    218.8, 1,   -999.0, 9,  -999.00, 9,  -999.00, 9,  -999.00, 9,  -999.00, 9, -999.000, 9, -999.000, 9, -999.000, 9,   -999.0, 9,   -999.0, 9, -999.0000, 9,   -999.00, -999.000, 9, -999.000,   -999.0, 9,   -999.0,  -999.00, 9,   -999.0,  19.7392, 25.4999,  19.7415, 2, 5.5, 2, 232.72, 2, -999, -999, -999, -999, -999, 9,  -999.00, 9, -999, -999, 9, -999
49NZ20031106, A10, 39, 1, 36, 12036, 2, 20031117, 1135, -29.9945, -25.8613, 4544,     10.3, 2,  19.6588, 2,  35.8716, 2,  35.8705, 2,    218.8, 1,    231.4, 2,     0.84, 2,    -0.01, 2,     0.01, 2,     0.09, 2, -999.000, 9, -999.000, 9, -999.000, 9,   -999.0, 9,   -999.0, 9, -999.0000, 9,   -999.00, -999.000, 9, -999.000,   -999.0, 9,   -999.0,  -999.00, 9,   -999.0,  19.6569, 25.5175,  19.6648, 2, 4.8, 2, 232.63, 2, 0.12, 0.03, 0.01, 0.02, -999, 9,  -999.00, 9, -999, -999, 9, -999
49NZ20031106, A10, 39, 1, 35, 12035, 2, 20031117, 1135, -29.9945, -25.8613, 4544,     51.1, 2,  19.3275, 2,  35.8339, 2,  35.8339, 2,    220.5, 1,    233.0, 2,     0.81, 2,    -0.03, 2,     0.00, 2,     0.09, 2, -999.000, 9, -999.000, 9, -999.000, 9,   -999.0, 9,   -999.0, 9, -999.0000, 9,   -999.00, -999.000, 9, -999.000,   -999.0, 9,   -999.0,  -999.00, 9,   -999.0,  19.3183, 25.5801,  19.3186, 2, 49.6, 2, 234, 2, 0.12, 0.03, 0.01, 0.02, -999, 9,  -999.00, 9, -999, -999, 9, -999
49NZ20031106, A10, 39, 1, 34, 12034, 2, 20031117, 1135, -29.9945, -25.8613, 4544,     99.3, 2,  18.1341, 2,  35.8190, 2,  35.8202, 2,    222.2, 1,    235.1, 2,     0.84, 2,    -0.04, 2,     0.01, 2,     0.12, 2, -999.000, 9, -999.000, 9, -999.000, 9,   -999.0, 9,   -999.0, 9, -999.0000, 9,   -999.00, -999.000, 9, -999.000,   -999.0, 9,   -999.0,  -999.00, 9,   -999.0,  18.1169, 25.8701,  18.1445, 2, 95.7, 2, 238.74, 2, 0.12, 0.03, 0.01, 0.02, -999, 9,  -999.00, 9, -999, -999, 9, -999
49NZ20031106, A10, 39, 1, 1, 12037, 2, 20031117, 1135, -29.9945, -25.8613, 4544,    120.1, 2,  17.4441, 2,  35.7398, 2, -999.0000, 9,    220.3, 1,   -999.0, 9,  -999.00, 9,  -999.00, 9,  -999.00, 9,  -999.00, 9, -999.000, 9, -999.000, 9, -999.000, 9,   -999.0, 9,   -999.0, 9, -999.0000, 9,   -999.00, -999.000, 9, -999.000,   -999.0, 9,   -999.0,  -999.00, 9,   -999.0,  17.4239, 25.9809,  17.4452, 2, 115.9, 2, 231.27, 2, -999, -999, -999, -999, -999, 9,  -999.00, 9, -999, -999, 9, -999
49NZ20031106, A10, 39, 1, 33, 12033, 2, 20031117, 1135, -29.9945, -25.8613, 4544,    150.8, 2,  16.4581, 2,  35.6034, 2,  35.6056, 2,    214.5, 1,    225.7, 2,     0.99, 2,     0.96, 2,     0.04, 2,     0.24, 2, -999.000, 9, -999.000, 9, -999.000, 9,   -999.0, 9,   -999.0, 9, -999.0000, 9,   -999.00, -999.000, 9, -999.000,   -999.0, 9,   -999.0,  -999.00, 9,   -999.0,  16.4337, 26.1121,  16.4541, 2, 147.7, 2, 222.67, 2, 0.12, 0.04, 0.01, 0.02, -999, 9,  -999.00, 9, -999, -999, 9, -999
49NZ20031106, A10, 39, 1, 32, 12032, 2, 20031117, 1135, -29.9945, -25.8613, 4544,    200.8, 2,  15.2179, 2,  35.4805, 2,  35.4806, 2,    205.3, 1,    215.5, 2,     1.74, 2,     4.13, 2,     0.02, 2,     0.44, 2, -999.000, 9, -999.000, 9, -999.000, 9,   -999.0, 9,   -999.0, 9, -999.0000, 9,   -999.00, -999.000, 9, -999.000,   -999.0, 9,   -999.0,  -999.00, 9,   -999.0,  15.1871, 26.3015,  15.2189, 2, 198.3, 2, 215.21, 2, 0.12, 0.04, 0.01, 0.01, -999, 9,  -999.00, 9, -999, -999, 9, -999
49NZ20031106, A10, 39, 1, 31, 12031, 2, 20031117, 1135, -29.9945, -25.8613, 4544,    250.3, 2,  14.2021, 2,  35.3494, 2,  35.3479, 2,    205.0, 1,    215.3, 2,     2.25, 2,     6.33, 2,     0.01, 2,     0.57, 2, -999.000, 9, -999.000, 9, -999.000, 9,   -999.0, 9,   -999.0, 9, -999.0000, 9,   -999.00, -999.000, 9, -999.000,   -999.0, 9,   -999.0,  -999.00, 9,   -999.0,  14.1654, 26.4222,  14.2030, 2, 247.8, 2, 216.43, 2, 0.12, 0.05, 0.01, 0.01, -999, 9,  -999.00, 9, -999, -999, 9, -999
49NZ20031106, A10, 39, 1, 30, 12030, 2, 20031117, 1135, -29.9945, -25.8613, 4544,    300.4, 2,  13.4707, 2,  35.2670, 2,  35.2658, 2,    205.9, 1,    216.0, 2,     2.58, 2,     7.97, 2,     0.01, 2,     0.67, 2, -999.000, 9, -999.000, 9, -999.000, 9,   -999.0, 9,   -999.0, 9, -999.0000, 9,   -999.00, -999.000, 9, -999.000,   -999.0, 9,   -999.0,  -999.00, 9,   -999.0,  13.4281, 26.5129,  13.4655, 2, 298.5, 2, 215.7, 2, 0.12, 0.06, 0.01, 0.01, -999, 9,  -999.00, 9, -999, -999, 9, -999
49NZ20031106, A10, 39, 1, 29, 12029, 2, 20031117, 1135, -29.9945, -25.8613, 4544,    400.7, 2,  11.8270, 2,  35.0426, 2,  35.0405, 2,    202.9, 1,    212.6, 2,     3.96, 2,    12.13, 2,     0.01, 2,     0.93, 2, -999.000, 9, -999.000, 9, -999.000, 9,   -999.0, 9,   -999.0, 9, -999.0000, 9,   -999.00, -999.000, 9, -999.000,   -999.0, 9,   -999.0,  -999.00, 9,   -999.0,  11.7748, 26.6646,  11.8267, 2, 401, 2, 212.45, 2, 0.13, 0.07, 0.01, 0.01, -999, 9,  -999.00, 9, -999, -999, 9, -999
49NZ20031106, A10, 39, 1, 28, 12028, 2, 20031117, 1135, -29.9945, -25.8613, 4544,    501.2, 2,   9.9651, 2,  34.7992, 2,  34.8007, 2,    200.1, 1,    209.0, 2,     6.46, 2,    16.97, 2,     0.01, 2,     1.22, 2, -999.000, 9, -999.000, 9, -999.000, 9,   -999.0, 9,   -999.0, 9, -999.0000, 9,   -999.00, -999.000, 9, -999.000,   -999.0, 9,   -999.0,  -999.00, 9,   -999.0,   9.9063, 26.8102,   9.9557, 2, 501.9, 2, 208.98, 2, 0.13, 0.08, 0.01, 0.01, -999, 9,  -999.00, 9, -999, -999, 9, -999
49NZ20031106, A10, 39, 1, 27, 12027, 2, 20031117, 1135, -29.9945, -25.8613, 4544,    600.1, 2,   7.7151, 2,  34.5417, 2,  34.5423, 2,    203.8, 1,    212.5, 2,    10.13, 2,    22.35, 2,     0.01, 2,     1.56, 2, -999.000, 9, -999.000, 9, -999.000, 9,   -999.0, 9,   -999.0, 9, -999.0000, 9,   -999.00, -999.000, 9, -999.000,   -999.0, 9,   -999.0,  -999.00, 9,   -999.0,   7.6545, 26.9639,   7.7208, 2, 601.3, 2, 211.77, 2, 0.14, 0.1, 0.01, 0.01, -999, 9,  -999.00, 9, -999, -999, 9, -999
49NZ20031106, A10, 39, 1, 26, 12026, 2, 20031117, 1135, -29.9945, -25.8613, 4544,    700.1, 2,   5.9558, 2,  34.3801, 2,  34.3795, 2,    211.4, 1,    220.8, 2,    15.03, 2,    26.06, 2,     0.01, 2,     1.81, 2, -999.000, 9, -999.000, 9, -999.000, 9,   -999.0, 9,   -999.0, 9, -999.0000, 9,   -999.00, -999.000, 9, -999.000,   -999.0, 9,   -999.0,  -999.00, 9,   -999.0,   5.8940, 27.0757,   5.9552, 2, 704.6, 2, 218.7, 2, 0.15, 0.11, 0.01, 0.01, -999, 9,  -999.00, 9, -999, -999, 9, -999
49NZ20031106, A10, 39, 1, 25, 12025, 2, 20031117, 1135, -29.9945, -25.8613, 4544,    800.5, 2,   4.8927, 2,  34.3060, 2,  34.3054, 2,    217.7, 1,    227.3, 2,    19.18, 2,    28.03, 2,     0.01, 2,     1.93, 2, -999.000, 9, -999.000, 9, -999.000, 9,   -999.0, 9,   -999.0, 9, -999.0000, 9,   -999.00, -999.000, 9, -999.000,   -999.0, 9,   -999.0,  -999.00, 9,   -999.0,   4.8281, 27.1444,   4.8918, 2, 801.6, 2, 225.85, 2, 0.16, 0.11, 0.01, 0.01, -999, 9,  -999.00, 9, -999, -999, 9, -999
49NZ20031106, A10, 39, 1, 24, 12024, 2, 20031117, 1135, -29.9945, -25.8613, 4544,    899.8, 2,   4.1690, 2,  34.2940, 2,  34.2936, 2,    214.1, 1,    223.9, 2,    25.80, 2,    29.74, 2,     0.01, 2,     2.05, 2, -999.000, 9, -999.000, 9, -999.000, 9,   -999.0, 9,   -999.0, 9, -999.0000, 9,   -999.00, -999.000, 9, -999.000,   -999.0, 9,   -999.0,  -999.00, 9,   -999.0,   4.1007, 27.2141,   4.1678, 2, 901.5, 2, 224, 2, 0.18, 0.12, 0.01, 0.02, -999, 9,  -999.00, 9, -999, -999, 9, -999
49NZ20031106, A10, 39, 1, 4, 12040, 9, 20031117, 1135, -29.9945, -25.8613, 4544,   1001.1, 2,   3.7115, 2,  34.3145, 2, -999.0000, 9,    206.5, 1,   -999.0, 9,  -999.00, 9,  -999.00, 9,  -999.00, 9,  -999.00, 9, -999.000, 9, -999.000, 9, -999.000, 9,   -999.0, 9,   -999.0, 9, -999.0000, 9,   -999.00, -999.000, 9, -999.000,   -999.0, 9,   -999.0,  -999.00, 9,   -999.0,   3.6383, 27.2777,   3.7116, 2, 1000.2, 2, 215.35, 2, -999, -999, -999, -999, -999, 9,  -999.00, 9, -999, -999, 9, -999
49NZ20031106, A10, 39, 1, 23, 12023, 2, 20031117, 1135, -29.9945, -25.8613, 4544,   1001.7, 2,   3.7062, 2,  34.3154, 2,  34.3143, 2,    206.6, 1,    216.2, 2,    32.62, 2,    31.03, 2,     0.01, 2,     2.14, 2, -999.000, 9, -999.000, 9, -999.000, 9,   -999.0, 9,   -999.0, 9, -999.0000, 9,   -999.00, -999.000, 9, -999.000,   -999.0, 9,   -999.0,  -999.00, 9,   -999.0,   3.6330, 27.2781,   3.7068, 2, 1000.8, 2, 215.3, 2, 0.19, 0.12, 0.01, 0.02, -999, 9,  -999.00, 9, -999, -999, 9, -999
49NZ20031106, A10, 39, 1, 22, 12022, 2, 20031117, 1135, -29.9945, -25.8613, 4544,   1201.4, 2,   3.1279, 2,  34.4282, 2,  34.4286, 2,    186.9, 1,    195.4, 2,    47.82, 2,    32.68, 2,     0.01, 2,     2.26, 2, -999.000, 9, -999.000, 9, -999.000, 9,   -999.0, 9,   -999.0, 9, -999.0000, 9,   -999.00, -999.000, 9, -999.000,   -999.0, 9,   -999.0,  -999.00, 9,   -999.0,   3.0434, 27.4249,   3.1278, 2, 1201.3, 2, 195.51, 2, 0.22, 0.12, 0.01, 0.02, -999, 9,  -999.00, 9, -999, -999, 9, -999
49NZ20031106, A10, 39, 1, 21, 12015, 2, 20031117, 1135, -29.9945, -25.8613, 4544,   1399.4, 2,   2.9339, 2,  34.5553, 2,  34.5555, 2,    180.3, 1,    188.4, 2,    54.78, 2,    32.02, 2,     0.01, 2,     2.22, 2, -999.000, 9, -999.000, 9, -999.000, 9,   -999.0, 9,   -999.0, 9, -999.0000, 9,   -999.00, -999.000, 9, -999.000,   -999.0, 9,   -999.0,  -999.00, 9,   -999.0,   2.8351, 27.5452,   2.9336, 2, 1398.9, 2, 188.04, 2, 0.24, 0.12, 0.01, 0.02, -999, 9,  -999.00, 9, -999, -999, 9, -999
49NZ20031106, A10, 39, 1, 20, 12020, 2, 20031117, 1135, -29.9945, -25.8613, 4544,   1601.3, 2,   2.8343, 2,  34.6629, 2,  34.6631, 2,    185.5, 1,    193.8, 2,    55.71, 2,    30.24, 2,     0.00, 2,     2.09, 2, -999.000, 9, -999.000, 9, -999.000, 9,   -999.0, 9,   -999.0, 9, -999.0000, 9,   -999.00, -999.000, 9, -999.000,   -999.0, 9,   -999.0,  -999.00, 9,   -999.0,   2.7197, 27.6415,   2.8342, 2, 1599.9, 2, 193.73, 2, 0.24, 0.12, 0.01, 0.02, -999, 9,  -999.00, 9, -999, -999, 9, -999
49NZ20031106, A10, 39, 1, 19, 12019, 2, 20031117, 1135, -29.9945, -25.8613, 4544,   1800.0, 2,   2.7710, 2,  34.7457, 2,  34.7445, 2,    196.7, 1,    205.4, 2,    53.31, 2,    28.02, 2,     0.01, 2,     1.93, 2, -999.000, 9, -999.000, 9, -999.000, 9,   -999.0, 9,   -999.0, 9, -999.0000, 9,   -999.00, -999.000, 9, -999.000,   -999.0, 9,   -999.0,  -999.00, 9,   -999.0,   2.6401, 27.7149,   2.7707, 2, 1798.7, 2, 205.61, 2, 0.24, 0.11, 0.01, 0.01, -999, 9,  -999.00, 9, -999, -999, 9, -999
49NZ20031106, A10, 39, 1, 18, 12018, 2, 20031117, 1135, -29.9945, -25.8613, 4544,   2001.4, 2,   2.7322, 2,  34.7964, 2,  34.7969, 2,    206.6, 1,    216.2, 2,    50.17, 2,    26.29, 2,     0.01, 2,     1.81, 2, -999.000, 9, -999.000, 9, -999.000, 9,   -999.0, 9,   -999.0, 9, -999.0000, 9,   -999.00, -999.000, 9, -999.000,   -999.0, 9,   -999.0,  -999.00, 9,   -999.0,   2.5840, 27.7603,   2.7321, 2, 2000.3, 2, 216.49, 2, 0.23, 0.11, 0.01, 0.01, -999, 9,  -999.00, 9, -999, -999, 9, -999
49NZ20031106, A10, 39, 1, 17, 12017, 2, 20031117, 1135, -29.9945, -25.8613, 4544,   2201.1, 2,   2.6925, 2,  34.8335, 2,  34.8338, 2,    216.2, 1,    226.5, 2,    46.77, 2,    24.76, 2,     0.01, 2,     1.70, 2, -999.000, 9, -999.000, 9, -999.000, 9,   -999.0, 9,   -999.0, 9, -999.0000, 9,   -999.00, -999.000, 9, -999.000,   -999.0, 9,   -999.0,  -999.00, 9,   -999.0,   2.5267, 27.7951,   2.6925, 2, 2200.2, 2, 227.14, 2, 0.22, 0.1, 0.01, 0.01, -999, 9,  -999.00, 9, -999, -999, 9, -999
49NZ20031106, A10, 39, 1, 16, 12016, 2, 20031117, 1135, -29.9945, -25.8613, 4544,   2400.2, 2,   2.7209, 2,  34.8671, 2,  34.8674, 2,    225.1, 1,    235.9, 2,    41.82, 2,    23.22, 2,     0.01, 2,     1.59, 2, -999.000, 9, -999.000, 9, -999.000, 9,   -999.0, 9,   -999.0, 9, -999.0000, 9,   -999.00, -999.000, 9, -999.000,   -999.0, 9,   -999.0,  -999.00, 9,   -999.0,   2.5359, 27.821,   2.7209, 2, 2400.1, 2, 235.03, 2, 0.21, 0.1, 0.01, 0.01, -999, 9,  -999.00, 9, -999, -999, 9, -999
49NZ20031106, A10, 39, 1, 15, 12012, 2, 20031117, 1135, -29.9945, -25.8613, 4544,   2600.4, 2,   2.7489, 2,  34.8905, 2,  34.8904, 2,    231.6, 1,    254.6, 4,    37.98, 2,    22.21, 2,     0.00, 2,     1.51, 2, -999.000, 9, -999.000, 9, -999.000, 9,   -999.0, 9,   -999.0, 9, -999.0000, 9,   -999.00, -999.000, 9, -999.000,   -999.0, 9,   -999.0,  -999.00, 9,   -999.0,   2.5440, 27.8392,   2.7488, 2, 2600.3, 2, 242.19, 2, 0.2, 0.09, 0.01, 0.01, -999, 9,  -999.00, 9, -999, -999, 9, -999
49NZ20031106, A10, 39, 1, 14, 12014, 2, 20031117, 1135, -29.9945, -25.8613, 4544,   2801.6, 2,   2.7357, 2,  34.9036, 2,  34.9038, 2,    235.8, 1,    247.1, 2,    35.91, 2,    21.51, 2,     0.01, 2,     1.47, 2, -999.000, 9, -999.000, 9, -999.000, 9,   -999.0, 9,   -999.0, 9, -999.0000, 9,   -999.00, -999.000, 9, -999.000,   -999.0, 9,   -999.0,  -999.00, 9,   -999.0,   2.5110, 27.8528,   2.7357, 2, 2801.6, 2, 246.9, 2, 0.2, 0.09, 0.01, 0.01, -999, 9,  -999.00, 9, -999, -999, 9, -999
49NZ20031106, A10, 39, 1, 13, 12013, 2, 20031117, 1135, -29.9945, -25.8613, 4544,   3001.3, 2,   2.6639, 2,  34.9041, 2,  34.9040, 2,    237.5, 1,    248.7, 2,    37.03, 2,    21.42, 2,     0.01, 2,     1.47, 2, -999.000, 9, -999.000, 9, -999.000, 9,   -999.0, 9,   -999.0, 9, -999.0000, 9,   -999.00, -999.000, 9, -999.000,   -999.0, 9,   -999.0,  -999.00, 9,   -999.0,   2.4204, 27.8609,   2.6640, 2, 3001.4, 2, 248.67, 2, 0.2, 0.09, 0.01, 0.01, -999, 9,  -999.00, 9, -999, -999, 9, -999
49NZ20031106, A10, 39, 1, 12, 12048, 9, 20031117, 1135, -29.9945, -25.8613, 4544,   3250.0, 2,   2.4849, 2,  34.8906, 2, -999.0000, 9,    236.8, 1,   -999.0, 9,  -999.00, 9,  -999.00, 9,  -999.00, 9,  -999.00, 9, -999.000, 9, -999.000, 9, -999.000, 9,   -999.0, 9,   -999.0, 9, -999.0000, 9,   -999.00, -999.000, 9, -999.000,   -999.0, 9,   -999.0,  -999.00, 9,   -999.0,   2.2197, 27.8669,   2.4849, 2, 3249.9, 2, 247.93, 2, -999, -999, -999, -999, -999, 9,  -999.00, 9, -999, -999, 9, -999
49NZ20031106, A10, 39, 1, 11, 12047, 2, 20031117, 1135, -29.9945, -25.8613, 4544,   3501.5, 2,   2.1769, 2,  34.8623, 2,  34.8621, 2,    233.7, 1,    243.9, 2,    53.46, 2,    23.32, 2,     0.01, 2,     1.60, 2, -999.000, 9, -999.000, 9, -999.000, 9,   -999.0, 9,   -999.0, 9, -999.0000, 9,   -999.00, -999.000, 9, -999.000,   -999.0, 9,   -999.0,  -999.00, 9,   -999.0,   1.8926, 27.8707,   2.1770, 2, 3501.4, 2, 244.32, 2, 0.24, 0.1, 0.01, 0.01, -999, 9,  -999.00, 9, -999, -999, 9, -999
49NZ20031106, A10, 39, 1, 10, 12046, 2, 20031117, 1135, -29.9945, -25.8613, 4544,   3750.9, 2,   1.7570, 2,  34.8199, 2,  34.8196, 2,    228.0, 1,    237.6, 2,    69.68, 2,    25.48, 2,     0.00, 2,     1.75, 2, -999.000, 9, -999.000, 9, -999.000, 9,   -999.0, 9,   -999.0, 9, -999.0000, 9,   -999.00, -999.000, 9, -999.000,   -999.0, 9,   -999.0,  -999.00, 9,   -999.0,   1.4571, 27.8697,   1.7571, 2, 3750.9, 2, 237.6, 2, 0.27, 0.1, 0.01, 0.01, -999, 9,  -999.00, 9, -999, -999, 9, -999
49NZ20031106, A10, 39, 1, 5, 12041, 9, 20031117, 1135, -29.9945, -25.8613, 4544,   3849.5, 2,   1.5916, 2,  34.8019, 2, -999.0000, 9,    225.3, 1,   -999.0, 9,  -999.00, 9,  -999.00, 9,  -999.00, 9,  -999.00, 9, -999.000, 9, -999.000, 9, -999.000, 9,   -999.0, 9,   -999.0, 9, -999.0000, 9,   -999.00, -999.000, 9, -999.000,   -999.0, 9,   -999.0,  -999.00, 9,   -999.0,   1.2857, 27.8676,   1.5916, 2, 3849.5, 2, 234.61, 2, -999, -999, -999, -999, -999, 9,  -999.00, 9, -999, -999, 9, -999
49NZ20031106, A10, 39, 1, 9, 12045, 2, 20031117, 1135, -29.9945, -25.8613, 4544,   3999.6, 2,   1.3814, 2,  34.7790, 2,  34.7790, 2,    222.0, 1,    230.7, 2,    85.66, 2,    27.66, 2,     0.00, 2,     1.92, 2, -999.000, 9, -999.000, 9, -999.000, 9,   -999.0, 9,   -999.0, 9, -999.0000, 9,   -999.00, -999.000, 9, -999.000,   -999.0, 9,   -999.0,  -999.00, 9,   -999.0,   1.0653, 27.8645,   1.3813, 2, 3999.6, 2, 230.63, 2, 0.31, 0.11, 0.01, 0.01, -999, 9,  -999.00, 9, -999, -999, 9, -999
49NZ20031106, A10, 39, 1, 8, 12044, 2, 20031117, 1135, -29.9945, -25.8613, 4544,   4250.7, 2,   1.2793, 2,  34.7650, 2,  34.7648, 2,    220.7, 1,    228.2, 2,    90.89, 2,    28.40, 2,     0.01, 2,     1.97, 2, -999.000, 9, -999.000, 9, -999.000, 9,   -999.0, 9,   -999.0, 9, -999.0000, 9,   -999.00, -999.000, 9, -999.000,   -999.0, 9,   -999.0,  -999.00, 9,   -999.0,   0.9387, 27.862,   1.2793, 2, 4250.7, 2, 227.91, 2, 0.32, 0.11, 0.01, 0.01, -999, 9,  -999.00, 9, -999, -999, 9, -999
49NZ20031106, A10, 39, 1, 6, 12042, 2, 20031117, 1135, -29.9945, -25.8613, 4544,   4500.5, 2,   1.2544, 2,  34.7593, 2,  34.7591, 2,    221.1, 1,    226.9, 2,    93.23, 2,    28.69, 2,     0.01, 2,     1.99, 2, -999.000, 9, -999.000, 9, -999.000, 9,   -999.0, 9,   -999.0, 9, -999.0000, 9,   -999.00, -999.000, 9, -999.000,   -999.0, 9,   -999.0,  -999.00, 9,   -999.0,   0.8865, 27.8608,   1.2542, 2, 4500.5, 2, 226.85, 2, 0.32, 0.11, 0.01, 0.02, -999, 9,  -999.00, 9, -999, -999, 9, -999
49NZ20031106, A10, 39, 1, 7, 12043, 2, 20031117, 1135, -29.9945, -25.8613, 4544,   4598.7, 2,   1.2358, 2,  34.7560, 2,  34.7563, 2,    221.7, 1,    226.4, 2,    94.25, 2,    28.85, 2,     0.01, 2,     2.01, 2, -999.000, 9, -999.000, 9, -999.000, 9,   -999.0, 9,   -999.0, 9, -999.0000, 9,   -999.00, -999.000, 9, -999.000,   -999.0, 9,   -999.0,  -999.00, 9,   -999.0,   0.8573, 27.8601,   1.2357, 2, 4598.7, 2, 226.22, 2, 0.33, 0.11, 0.01, 0.02, -999, 9,  -999.00, 9, -999, -999, 9, -999