BOTTLE,20220818CCHSIOAMB
EXPOCODE,SECT_ID,STNNBR,CASTNO,SAMPNO,BTLNBR,BTLNBR_FLAG_W,DATE,TIME,LATITUDE,LONGITUDE,DEPTH,CTDPRS,CTDPRS_FLAG_W,CTDTMP,CTDTMP_FLAG_W,CTDSAL,CTDSAL_FLAG_W,SALNTY,SALNTY_FLAG_W,CTDOXY,CTDOXY_FLAG_W,OXYGEN,OXYGEN_FLAG_W,SILCAT,SILCAT_FLAG_W,NITRAT,NITRAT_FLAG_W,NITRIT,NITRIT_FLAG_W,PHSPHT,PHSPHT_FLAG_W,CFC-11,CFC-11_FLAG_W,CFC-12,CFC-12_FLAG_W,CFC113,CFC113_FLAG_W,TCARBN,TCARBN_FLAG_W,ALKALI,ALKALI_FLAG_W,PH_TOT,PH_TOT_FLAG_W,PH_TMP,TRITUM,TRITUM_FLAG_W,TRITER,DELC14,DELC14_FLAG_W,C14ERR,DELC13,DELC13_FLAG_W,C13ERR,THETA,SIG0,SBE35,SBE35_FLAG_W,DWNPRS,DWNPRS_FLAG_W,DWNOXY,DWNOXY_FLAG_W,SILUNC,NRAUNC,NRIUNC,PHPUNC,TOC,TOC_FLAG_W,CS-137,CS-137_FLAG_W,CS137ER,PLUTO,PLUTO_FLAG_W,PLUTOER
,,,,,,,,,,,METERS,DBAR,,ITS-90,,PSS-78,,PSS-78,,UMOL/KG,,UMOL/KG,,UMOL/KG,,UMOL/KG,,UMOL/KG,,UMOL/KG,,PMOL/KG,,PMOL/KG,,PMOL/KG,,UMOL/KG,,UMOL/KG,,,,DEG C,TU,,TU,/MILLE,,/MILLE,/MILLE,,/MILLE,DEG C,KG/M^3,ITS-90,,DBAR,,UMOL/KG,,UMOL/KG,UMOL/KG,UMOL/KG,UMOL/KG,UMOL/KG,,BQ/M^3,,BQ/M^3,MBQ/M^3,,MBQ/M^3
49NZ20031106, A10, 29, 1, 36, 12048, 2, 20031114, 541, -30.0065, -32.0048, 3835,      9.8, 2,  20.0149, 2,  35.9146, 2,  35.9145, 2,    217.2, 1,    229.0, 2,     0.85, 2,     0.04, 2,     0.00, 2,     0.06, 2,    2.464, 2,    1.379, 2,    0.278, 4,   2058.4, 2,   2359.1, 2,    8.0236, 2,     25.00, -999.000, 9, -999.000,     93.4, 2,      5.4,     1.51, 2,      0.0,  20.0131, 25.4577,  20.0148, 2, 10.7, 2, 229.62, 2, 0.12, 0.03, 0.01, 0.03, -999, 1,  -999.00, 9, -999, -999, 9, -999
49NZ20031106, A10, 29, 1, 35, 12047, 2, 20031114, 541, -30.0065, -32.0048, 3835,     49.9, 2,  19.5236, 2,  35.9056, 2,  35.9060, 2,    220.3, 1,    231.8, 2,     0.81, 2,     0.02, 2,     0.00, 2,     0.06, 2,    2.516, 2,    1.405, 2,    0.302, 4,   2056.2, 6,   2355.7, 2,    8.0257, 2,     25.00, -999.000, 9, -999.000,     98.7, 2,      3.9,     1.51, 2,      0.0,  19.5145, 25.5822,  19.5264, 2, 49.4, 2, 232.3, 2, 0.12, 0.03, 0.01, 0.03, -999, 1,  -999.00, 9, -999, -999, 9, -999
49NZ20031106, A10, 29, 1, 34, 12046, 2, 20031114, 541, -30.0065, -32.0048, 3835,    100.9, 2,  17.9130, 2,  35.7940, 2,  35.7948, 2,    224.3, 1,    235.4, 2,     0.83, 2,     0.02, 2,     0.00, 2,     0.10, 2,    2.691, 2,    1.494, 2,    0.275, 4,   2060.2, 2,   2347.2, 6,    8.0058, 2,     25.00, -999.000, 9, -999.000,     83.4, 2,      4.0,     1.46, 2,      0.0,  17.8957, 25.9075,  17.9135, 2, 97.2, 2, 234.42, 2, 0.12, 0.03, 0.01, 0.02, -999, 1,  -999.00, 9, -999, -999, 9, -999
49NZ20031106, A10, 29, 1, 33, 12045, 2, 20031114, 541, -30.0065, -32.0048, 3835,    151.2, 2,  16.6734, 2,  35.6805, 2,  35.6796, 2,    207.4, 1,    217.5, 2,     1.17, 2,     1.96, 2,     0.04, 2,     0.29, 2,    2.864, 2,    1.562, 2,    0.214, 4,   2085.7, 2,   2343.1, 2,    7.9523, 2,     25.00, -999.000, 9, -999.000,     89.2, 2,      4.0,     1.15, 3,      0.0,  16.6487, 26.1217,  16.6739, 2, 150.6, 2, 217.48, 2, 0.12, 0.04, 0.01, 0.01, -999, 1,  -999.00, 9, -999, -999, 9, -999
49NZ20031106, A10, 29, 1, 32, 12044, 2, 20031114, 541, -30.0065, -32.0048, 3835,    201.7, 2,  15.4228, 2,  35.5409, 2,  35.5400, 2,    204.0, 1,    213.4, 2,     1.66, 2,     4.30, 2,     0.01, 2,     0.44, 2,    3.003, 2,    1.620, 2,    0.100, 4,   2096.9, 2,   2333.9, 2,    7.9149, 2,     25.00, -999.000, 9, -999.000,     90.2, 6,      3.7,     1.21, 6,      0.0,  15.3915, 26.3026,  15.4230, 2, 199, 2, 213.19, 2, 0.12, 0.04, 0.01, 0.01, -999, 1,  -999.00, 9, -999, -999, 9, -999
49NZ20031106, A10, 29, 1, 31, 12043, 2, 20031114, 541, -30.0065, -32.0048, 3835,    251.1, 2,  14.6907, 2,  35.4517, 2,  35.4503, 2,    204.8, 1,    214.0, 2,     2.00, 2,     5.78, 2,     0.01, 2,     0.52, 2,    3.074, 6,    1.653, 6,    0.089, 4,   2102.1, 2,   2330.4, 2,    7.8971, 2,     25.00, -999.000, 9, -999.000,     88.2, 2,      4.1,     1.19, 2,      0.0,  14.6530, 26.3968,  14.6907, 2, 249.5, 2, 213.82, 2, 0.12, 0.05, 0.01, 0.01, -999, 1,  -999.00, 9, -999, -999, 9, -999
49NZ20031106, A10, 29, 1, 30, 12042, 2, 20031114, 541, -30.0065, -32.0048, 3835,    300.8, 2,  13.9687, 2,  35.3582, 2,  35.3571, 2,    204.8, 1,    213.7, 2,     2.35, 2,     7.40, 2,     0.01, 2,     0.62, 2,    3.108, 2,    1.645, 2,    0.052, 4,   2106.3, 2,   2321.5, 2,    7.8795, 2,     25.00, -999.000, 9, -999.000,     89.0, 2,      4.0,     1.15, 2,      0.0,  13.9250, 26.4801,  13.9690, 2, 298.3, 2, 213.24, 2, 0.12, 0.05, 0.01, 0.01, -999, 1,  -999.00, 9, -999, -999, 9, -999
49NZ20031106, A10, 29, 1, 29, 12041, 2, 20031114, 541, -30.0065, -32.0048, 3835,    402.0, 2,  12.5313, 2,  35.1514, 2,  35.1528, 2,    203.1, 1,    211.8, 2,     3.40, 2,    10.81, 2,     0.01, 2,     0.82, 2,    3.160, 4,    1.693, 4,    0.044, 4,   2116.2, 2,   2310.7, 2,    7.8473, 2,     25.00, -999.000, 9, -999.000,     80.2, 2,      4.2,     1.19, 2,      0.0,  12.4768, 26.6153,  12.5273, 2, 399.4, 2, 211.31, 2, 0.13, 0.06, 0.01, 0.01, -999, 1,  -999.00, 9, -999, -999, 9, -999
49NZ20031106, A10, 29, 1, 28, 12040, 2, 20031114, 541, -30.0065, -32.0048, 3835,    501.1, 2,  10.2135, 2,  34.8333, 2,  34.8325, 2,    200.7, 1,    208.6, 2,     5.98, 2,    16.65, 2,     0.00, 2,     1.19, 2,    3.237, 2,    1.638, 2,    0.081, 4,   2134.5, 2,   2299.2, 2,    7.7844, 2,     25.00, -999.000, 9, -999.000,     67.5, 2,      3.8,     1.12, 2,      0.0,  10.1538, 26.7947,  10.2141, 2, 499.4, 2, 209.27, 2, 0.13, 0.08, 0.01, 0.01, -999, 1,  -999.00, 9, -999, -999, 9, -999
49NZ20031106, A10, 29, 1, 27, 12039, 2, 20031114, 541, -30.0065, -32.0048, 3835,    601.1, 2,   7.9340, 2,  34.5676, 2,  34.5673, 2,    203.4, 1,    210.9, 2,     9.90, 2,    22.13, 2,     0.00, 2,     1.55, 2,    3.134, 2,    1.528, 2,    0.143, 4,   2150.8, 2,   2290.3, 2,    7.7255, 2,     25.00, -999.000, 9, -999.000,     20.1, 3,      3.8,     1.15, 2,      0.0,   7.8723, 26.9524,   7.9341, 2, 601.5, 2, 212.26, 2, 0.14, 0.09, 0.01, 0.01, -999, 1,  -999.00, 9, -999, -999, 9, -999
49NZ20031106, A10, 29, 1, 26, 12038, 2, 20031114, 541, -30.0065, -32.0048, 3835,    701.4, 2,   6.2126, 2,  34.3952, 2,  34.3961, 2,    213.6, 1,    221.6, 2,    13.39, 2,    25.45, 2,     0.00, 2,     1.76, 2,    3.152, 2,    1.491, 2,    0.162, 4,   2159.5, 6,   2280.0, 2,    7.6954, 2,     25.00, -999.000, 9, -999.000,      9.9, 2,      3.8,     1.10, 2,      0.0,   6.1493, 27.0551,   6.2141, 2, 702.1, 2, 220.86, 2, 0.15, 0.1, 0.01, 0.01, -999, 1,  -999.00, 9, -999, -999, 9, -999
49NZ20031106, A10, 29, 1, 25, 12037, 2, 20031114, 541, -30.0065, -32.0048, 3835,    800.9, 2,   5.0052, 2,  34.3124, 2,  34.3123, 2,    218.6, 1,    227.2, 2,    18.47, 2,    27.93, 2,     0.00, 2,     1.93, 2,    2.906, 2,    1.353, 2,    0.156, 4,   2169.4, 2,   2284.9, 6,    7.6726, 2,     25.00, -999.000, 9, -999.000,    -22.3, 2,      3.8,     1.13, 2,      0.0,   4.9398, 27.1367,   5.0055, 2, 802.6, 2, 227.11, 2, 0.16, 0.11, 0.01, 0.01, -999, 1,  -999.00, 9, -999, -999, 9, -999
49NZ20031106, A10, 29, 1, 24, 12036, 2, 20031114, 541, -30.0065, -32.0048, 3835,    900.7, 2,   4.2254, 2,  34.2968, 2,  34.2968, 2,    214.4, 1,    222.9, 2,    25.22, 2,    29.88, 2,     0.00, 2,     2.06, 2,    2.359, 2,    1.088, 2,    0.112, 4,   2182.0, 2,   2293.9, 2,    7.6529, 6,     25.00, -999.000, 9, -999.000,    -47.3, 2,      3.5,     1.05, 2,      0.0,   4.1567, 27.2105,   4.2251, 2, 901.3, 2, 223.17, 2, 0.17, 0.12, 0.01, 0.02, -999, 1,  -999.00, 9, -999, -999, 9, -999
49NZ20031106, A10, 29, 1, 5, 12017, 9, 20031114, 541, -30.0065, -32.0048, 3835,   1001.4, 2,   3.6717, 2,  34.3156, 2, -999.0000, 9,    207.0, 1,   -999.0, 9,  -999.00, 9,  -999.00, 9,  -999.00, 9,  -999.00, 9, -999.000, 9, -999.000, 9, -999.000, 9,   -999.0, 9,   -999.0, 9, -999.0000, 9,   -999.00, -999.000, 9, -999.000,   -999.0, 9,   -999.0,  -999.00, 9,   -999.0,   3.5988, 27.2823,   3.6709, 2, 1004.4, 2, 215.91, 2, -999, -999, -999, -999, -999, 9,  -999.00, 9, -999, -999, 9, -999
49NZ20031106, A10, 29, 1, 6, 12018, 9, 20031114, 541, -30.0065, -32.0048, 3835,   1001.7, 2,   3.6717, 2,  34.3157, 2, -999.0000, 9,    207.1, 1,   -999.0, 9,  -999.00, 9,  -999.00, 9,  -999.00, 9,  -999.00, 9, -999.000, 9, -999.000, 9, -999.000, 9,   -999.0, 9,   -999.0, 9, -999.0000, 9,   -999.00, -999.000, 9, -999.000,   -999.0, 9,   -999.0,  -999.00, 9,   -999.0,   3.5988, 27.2822,   3.6714, 2, 1004.7, 2, 215.89, 2, -999, -999, -999, -999, -999, 9,  -999.00, 9, -999, -999, 9, -999
49NZ20031106, A10, 29, 1, 2, 12014, 9, 20031114, 541, -30.0065, -32.0048, 3835,   1002.0, 2,   3.6688, 2,  34.3157, 2, -999.0000, 9,    207.0, 1,   -999.0, 9,  -999.00, 9,  -999.00, 9,  -999.00, 9,  -999.00, 9, -999.000, 9, -999.000, 9, -999.000, 9,   -999.0, 9,   -999.0, 9, -999.0000, 9,   -999.00, -999.000, 9, -999.000,   -999.0, 9,   -999.0,  -999.00, 9,   -999.0,   3.5959, 27.2824,   3.6691, 2, 1005, 2, 215.87, 2, -999, -999, -999, -999, -999, 9,  -999.00, 9, -999, -999, 9, -999
49NZ20031106, A10, 29, 1, 4, 12016, 9, 20031114, 541, -30.0065, -32.0048, 3835,   1002.1, 2,   3.6702, 2,  34.3156, 2, -999.0000, 9,    206.9, 1,   -999.0, 9,  -999.00, 9,  -999.00, 9,  -999.00, 9,  -999.00, 9, -999.000, 9, -999.000, 9, -999.000, 9,   -999.0, 9,   -999.0, 9, -999.0000, 9,   -999.00, -999.000, 9, -999.000,   -999.0, 9,   -999.0,  -999.00, 9,   -999.0,   3.5972, 27.2822,   3.6702, 2, 1005, 2, 215.87, 2, -999, -999, -999, -999, -999, 9,  -999.00, 9, -999, -999, 9, -999
49NZ20031106, A10, 29, 1, 1, 12013, 9, 20031114, 541, -30.0065, -32.0048, 3835,   1002.1, 2,   3.6683, 2,  34.3156, 2, -999.0000, 9,    207.1, 1,   -999.0, 9,  -999.00, 9,  -999.00, 9,  -999.00, 9,  -999.00, 9, -999.000, 9, -999.000, 9, -999.000, 9,   -999.0, 9,   -999.0, 9, -999.0000, 9,   -999.00, -999.000, 9, -999.000,   -999.0, 9,   -999.0,  -999.00, 9,   -999.0,   3.5953, 27.2825,   3.6681, 2, 1005.1, 2, 215.87, 2, -999, -999, -999, -999, -999, 9,  -999.00, 9, -999, -999, 9, -999
49NZ20031106, A10, 29, 1, 23, 12035, 2, 20031114, 541, -30.0065, -32.0048, 3835,   1003.4, 2,   3.6639, 2,  34.3156, 2,  34.3163, 2,    206.9, 1,    215.2, 2,    32.98, 2,    31.27, 2,    -0.01, 2,     2.16, 2,    1.788, 6,    0.815, 6,    0.077, 4,   2195.7, 2,   2292.0, 2,    7.6338, 2,     25.00, -999.000, 9, -999.000,    -63.7, 2,      3.9,     0.96, 2,      0.0,   3.5909, 27.2828,   3.6653, 2, 1006.3, 2, 215.78, 2, 0.19, 0.12, 0.01, 0.02, -999, 1,  -999.00, 9, -999, -999, 9, -999
49NZ20031106, A10, 29, 1, 22, 12034, 2, 20031114, 541, -30.0065, -32.0048, 3835,   1202.2, 2,   3.1639, 2,  34.4178, 2,  34.4173, 2,    189.1, 1,    196.6, 2,    46.19, 2,    32.73, 2,     0.00, 2,     2.26, 2,    0.756, 2,    0.384, 2,    0.024, 4,   2217.1, 2,   2307.2, 2,    7.6102, 2,     25.00, -999.000, 9, -999.000,   -108.1, 2,      3.6,     0.78, 2,      0.0,   3.0790, 27.4131,   3.1637, 2, 1205.3, 2, 198.31, 2, 0.22, 0.12, 0.01, 0.02, -999, 1,  -999.00, 9, -999, -999, 9, -999
49NZ20031106, A10, 29, 1, 21, 12033, 2, 20031114, 541, -30.0065, -32.0048, 3835,   1400.8, 2,   2.9323, 2,  34.5501, 2,  34.5497, 2,    181.3, 1,    188.3, 2,    54.16, 2,    32.34, 2,     0.00, 2,     2.22, 2,    0.251, 2,    0.139, 2,    0.017, 4,   2228.0, 2,   2323.7, 2,    7.6082, 2,     25.00, -999.000, 9, -999.000,   -123.4, 2,      3.5,     0.68, 6,      0.0,   2.8335, 27.5412,   2.9322, 2, 1402.9, 2, 188.22, 2, 0.24, 0.12, 0.01, 0.02, -999, 1,  -999.00, 9, -999, -999, 9, -999
49NZ20031106, A10, 29, 1, 20, 12032, 2, 20031114, 541, -30.0065, -32.0048, 3835,   1601.0, 2,   2.8377, 2,  34.6617, 2,  34.6618, 2,    186.0, 1,    193.2, 2,    55.27, 2,    30.44, 2,     0.01, 2,     2.09, 2,    0.082, 2,    0.048, 2,    0.000, 4,   2226.3, 2,   2341.4, 4,    7.6263, 2,     25.00, -999.000, 9, -999.000,   -122.3, 2,      3.4,     0.68, 2,      0.0,   2.7231, 27.6403,   2.8377, 2, 1601.9, 2, 192.29, 2, 0.24, 0.12, 0.01, 0.02, -999, 1,  -999.00, 9, -999, -999, 9, -999
49NZ20031106, A10, 29, 1, 19, 12031, 2, 20031114, 541, -30.0065, -32.0048, 3835,   1801.4, 2,   2.7960, 2,  34.7419, 2,  34.7415, 2,    196.7, 1,    204.4, 2,    52.58, 2,    28.29, 2,     0.00, 2,     1.94, 2,    0.036, 2,    0.022, 2,    0.000, 4,   2217.5, 2,   2320.8, 4,    7.6518, 2,     25.00, -999.000, 9, -999.000,   -104.7, 3,      3.6,     0.76, 2,      0.0,   2.6646, 27.7095,   2.7959, 2, 1803, 2, 202.01, 2, 0.23, 0.11, 0.01, 0.01, -999, 1,  -999.00, 9, -999, -999, 9, -999
49NZ20031106, A10, 29, 1, 18, 12030, 2, 20031114, 541, -30.0065, -32.0048, 3835,   2001.1, 2,   2.7751, 2,  34.7993, 2,  34.7996, 2,    208.2, 1,    216.4, 2,    48.49, 2,    26.29, 2,     0.00, 2,     1.80, 2,    0.011, 2,    0.004, 2,    0.000, 4,   2208.1, 2,   2329.0, 2,    7.6761, 6,     25.00, -999.000, 9, -999.000,   -108.8, 3,      3.6,     0.81, 2,      0.0,   2.6263, 27.7587,   2.7749, 2, 2001.1, 2, 215.28, 2, 0.23, 0.11, 0.01, 0.01, -999, 1,  -999.00, 9, -999, -999, 9, -999
49NZ20031106, A10, 29, 1, 17, 12029, 2, 20031114, 541, -30.0065, -32.0048, 3835,   2200.3, 2,   2.7728, 2,  34.8389, 2,  34.8393, 2,    218.1, 1,    226.7, 2,    44.16, 2,    24.75, 2,    -0.01, 2,     1.69, 2,    0.010, 2,    0.007, 2,    0.000, 4,   2198.7, 2,   2327.3, 2,    7.6972, 2,     25.00, -999.000, 9, -999.000,   -120.2, 2,      3.7,     0.84, 2,      0.0,   2.6058, 27.7923,   2.7727, 2, 2200.1, 2, 226.67, 2, 0.22, 0.1, 0.01, 0.01, -999, 1,  -999.00, 9, -999, -999, 9, -999
49NZ20031106, A10, 29, 1, 16, 12028, 2, 20031114, 541, -30.0065, -32.0048, 3835,   2399.7, 2,   2.7877, 2,  34.8681, 2,  34.8683, 2,    226.1, 1,    235.0, 2,    40.19, 2,    23.46, 2,     0.00, 2,     1.59, 2,   -0.001, 2,    0.001, 2,    0.000, 4,   2189.9, 6,   2333.2, 3,    7.7123, 2,     25.00, -999.000, 9, -999.000,   -109.4, 2,      3.6,     0.94, 2,      0.0,   2.6016, 27.8159,   2.7877, 2, 2399.3, 2, 234.86, 2, 0.21, 0.1, 0.01, 0.01, -999, 1,  -999.00, 9, -999, -999, 9, -999
49NZ20031106, A10, 29, 1, 15, 12027, 2, 20031114, 541, -30.0065, -32.0048, 3835,   2601.1, 2,   2.7798, 2,  34.8869, 2,  34.8873, 2,    231.8, 1,    240.6, 2,    37.72, 2,    22.55, 2,     0.00, 2,     1.53, 2,    0.013, 2,    0.011, 2,    0.000, 4,   2185.6, 2,   2326.1, 6,    7.7225, 2,     25.00, -999.000, 9, -999.000,   -109.1, 2,      3.4,     0.97, 2,      0.0,   2.5743, 27.8331,   2.7798, 2, 2600.6, 2, 240.39, 2, 0.2, 0.1, 0.01, 0.01, -999, 1,  -999.00, 9, -999, -999, 9, -999
49NZ20031106, A10, 29, 1, 14, 12026, 2, 20031114, 541, -30.0065, -32.0048, 3835,   2800.2, 2,   2.7302, 2,  34.8968, 2,  34.8969, 2,    235.6, 1,    244.3, 2,    37.09, 2,    22.06, 2,    -0.01, 2,     1.49, 2,    0.001, 2,   -0.001, 2,    0.000, 4,   2186.0, 2,   2324.4, 2,    7.7277, 2,     25.00, -999.000, 9, -999.000,   -103.6, 2,      3.6,     1.00, 2,      0.0,   2.5058, 27.847,   2.7303, 2, 2800.3, 2, 243.97, 2, 0.2, 0.09, 0.01, 0.01, -999, 1,  -999.00, 9, -999, -999, 9, -999
49NZ20031106, A10, 29, 1, 9, 12015, 9, 20031114, 541, -30.0065, -32.0048, 3835,   2900.3, 2,   2.7025, 2,  34.8982, 2, -999.0000, 9,    236.5, 1,   -999.0, 9,  -999.00, 9,  -999.00, 9,  -999.00, 9,  -999.00, 9, -999.000, 9, -999.000, 9, -999.000, 9,   -999.0, 9,   -999.0, 9, -999.0000, 9,   -999.00, -999.000, 9, -999.000,   -999.0, 9,   -999.0,  -999.00, 9,   -999.0,   2.4686, 27.8513,   2.7025, 2, 2899.8, 2, 245.28, 2, -999, -999, -999, -999, -999, 9,  -999.00, 9, -999, -999, 9, -999
49NZ20031106, A10, 29, 1, 13, 12025, 2, 20031114, 541, -30.0065, -32.0048, 3835,   3000.6, 2,   2.6446, 2,  34.8973, 2,  34.8967, 2,    237.5, 1,    246.0, 2,    38.66, 2,    21.99, 2,     0.00, 2,     1.50, 2,    0.003, 2,    0.005, 2,    0.000, 4,   2186.0, 2,   2327.6, 2,    7.7297, 2,     25.00, -999.000, 9, -999.000,   -101.0, 2,      3.6,     1.00, 2,      0.0,   2.4017, 27.8562,   2.6447, 2, 3000.4, 2, 245.91, 2, 0.2, 0.09, 0.01, 0.01, -999, 1,  -999.00, 9, -999, -999, 9, -999
49NZ20031106, A10, 29, 1, 8, 12020, 9, 20031114, 541, -30.0065, -32.0048, 3835,   3100.7, 2,   2.5644, 2,  34.8938, 2, -999.0000, 9,    238.0, 1,   -999.0, 9,  -999.00, 9,  -999.00, 9,  -999.00, 9,  -999.00, 9, -999.000, 9, -999.000, 9, -999.000, 9,   -999.0, 9,   -999.0, 9, -999.0000, 9,   -999.00, -999.000, 9, -999.000,   -999.0, 9,   -999.0,  -999.00, 9,   -999.0,   2.3129, 27.8612,   2.5653, 2, 3099.9, 2, 246.26, 2, -999, -999, -999, -999, -999, 9,  -999.00, 9, -999, -999, 9, -999
49NZ20031106, A10, 29, 1, 12, 12024, 2, 20031114, 541, -30.0065, -32.0048, 3835,   3249.0, 2,   2.3720, 2,  34.8800, 2,  34.8792, 2,    237.4, 1,    245.5, 2,    46.42, 2,    22.67, 2,     0.00, 2,     1.55, 2,    0.007, 2,    0.005, 2,    0.000, 4,   2192.8, 2,   2331.0, 2,    7.7239, 2,     25.00, -999.000, 9, -999.000,   -110.8, 2,      3.7,     0.96, 2,      0.0,   2.1095, 27.8669,   2.3719, 2, 3249.5, 2, 245.54, 2, 0.22, 0.1, 0.01, 0.01, -999, 1,  -999.00, 9, -999, -999, 9, -999
49NZ20031106, A10, 29, 1, 7, 12019, 9, 20031114, 541, -30.0065, -32.0048, 3835,   3349.0, 2,   2.2848, 2,  34.8723, 2, -999.0000, 9,    236.8, 1,   -999.0, 9,  -999.00, 9,  -999.00, 9,  -999.00, 9,  -999.00, 9, -999.000, 9, -999.000, 9, -999.000, 9,   -999.0, 9,   -999.0, 9, -999.0000, 9,   -999.00, -999.000, 9, -999.000,   -999.0, 9,   -999.0,  -999.00, 9,   -999.0,   2.0140, 27.8682,   2.2852, 2, 3348.5, 2, 244.13, 2, -999, -999, -999, -999, -999, 9,  -999.00, 9, -999, -999, 9, -999
49NZ20031106, A10, 29, 1, 11, 12023, 2, 20031114, 541, -30.0065, -32.0048, 3835,   3502.2, 2,   1.9698, 2,  34.8395, 2,  34.8391, 2,    231.6, 1,    238.8, 2,    61.87, 2,    24.75, 2,     0.00, 2,     1.70, 2,    0.013, 2,    0.009, 2,    0.000, 4,   2208.2, 2,   2339.1, 2,    7.7048, 2,     25.00, -999.000, 9, -999.000,   -122.1, 2,      3.5,     0.83, 2,      0.0,   1.6908, 27.8672,   1.9700, 2, 3502.5, 2, 239.67, 2, 0.26, 0.1, 0.01, 0.01, -999, 1,  -999.00, 9, -999, -999, 9, -999
49NZ20031106, A10, 29, 1, 3, 12012, 2, 20031114, 541, -30.0065, -32.0048, 3835,   3502.9, 2,   1.9677, 2,  34.8392, 2,  34.8399, 2,    231.7, 1,    238.8, 2,    61.82, 2,    24.76, 2,     0.00, 2,     1.69, 2,    0.016, 2,    0.011, 2,    0.000, 4,   2208.6, 2,   2305.0, 4,    7.7033, 2,     25.00, -999.000, 9, -999.000,   -101.1, 4,      3.4,     0.71, 4,      0.0,   1.6886, 27.8671,   1.9681, 2, 3503.2, 2, 239.62, 2, 0.26, 0.1, 0.01, 0.01, -999, 9,  -999.00, 9, -999, -999, 9, -999
49NZ20031106, A10, 29, 1, 10, 12022, 2, 20031114, 541, -30.0065, -32.0048, 3835,   3861.6, 2,   1.3954, 2,  34.7738, 2,  34.7733, 2,    221.9, 1,    226.8, 3,    87.18, 2,    28.28, 2,     0.00, 2,     1.95, 2,    0.062, 2,    0.039, 2,    0.000, 4,   2234.9, 2,   2356.3, 2,    7.6665, 2,     25.00, -999.000, 9, -999.000,   -130.0, 2,      3.7,     0.66, 2,      0.0,   1.0937, 27.858,   1.3955, 2, 3861.5, 2, 225.56, 2, 0.31, 0.11, 0.01, 0.01, -999, 1,  -999.00, 9, -999, -999, 9, -999