BOTTLE,20220818CCHSIOAMB
EXPOCODE,SECT_ID,STNNBR,CASTNO,SAMPNO,BTLNBR,BTLNBR_FLAG_W,DATE,TIME,LATITUDE,LONGITUDE,DEPTH,CTDPRS,CTDPRS_FLAG_W,CTDTMP,CTDTMP_FLAG_W,CTDSAL,CTDSAL_FLAG_W,SALNTY,SALNTY_FLAG_W,CTDOXY,CTDOXY_FLAG_W,OXYGEN,OXYGEN_FLAG_W,SILCAT,SILCAT_FLAG_W,NITRAT,NITRAT_FLAG_W,NITRIT,NITRIT_FLAG_W,PHSPHT,PHSPHT_FLAG_W,CFC-11,CFC-11_FLAG_W,CFC-12,CFC-12_FLAG_W,CFC113,CFC113_FLAG_W,TCARBN,TCARBN_FLAG_W,ALKALI,ALKALI_FLAG_W,PH_TOT,PH_TOT_FLAG_W,PH_TMP,TRITUM,TRITUM_FLAG_W,TRITER,DELC14,DELC14_FLAG_W,C14ERR,DELC13,DELC13_FLAG_W,C13ERR,THETA,SIG0,SBE35,SBE35_FLAG_W,DWNPRS,DWNPRS_FLAG_W,DWNOXY,DWNOXY_FLAG_W,SILUNC,NRAUNC,NRIUNC,PHPUNC,TOC,TOC_FLAG_W,CS-137,CS-137_FLAG_W,CS137ER,PLUTO,PLUTO_FLAG_W,PLUTOER
,,,,,,,,,,,METERS,DBAR,,ITS-90,,PSS-78,,PSS-78,,UMOL/KG,,UMOL/KG,,UMOL/KG,,UMOL/KG,,UMOL/KG,,UMOL/KG,,PMOL/KG,,PMOL/KG,,PMOL/KG,,UMOL/KG,,UMOL/KG,,,,DEG C,TU,,TU,/MILLE,,/MILLE,/MILLE,,/MILLE,DEG C,KG/M^3,ITS-90,,DBAR,,UMOL/KG,,UMOL/KG,UMOL/KG,UMOL/KG,UMOL/KG,UMOL/KG,,BQ/M^3,,BQ/M^3,MBQ/M^3,,MBQ/M^3
49NZ20031106, A10, 95, 1, 2, 12026, 9, 20031202, 335, -29.1182, 13.4215, 2661,     10.3, 2,  18.5242, 2,  35.4009, 2, -999.0000, 9,    224.8, 1,   -999.0, 9,  -999.00, 9,  -999.00, 9,  -999.00, 9,  -999.00, 9, -999.000, 9, -999.000, 9, -999.000, 9,   -999.0, 9,   -999.0, 9, -999.0000, 9,   -999.00, -999.000, 9, -999.000,   -999.0, 9,   -999.0,  -999.00, 9,   -999.0,  18.5224, 25.4505,  18.5238, 2, 9.7, 2, 237.89, 2, -999, -999, -999, -999, -999, 9,  -999.00, 9, -999, -999, 9, -999
49NZ20031106, A10, 95, 1, 36, 12024, 2, 20031202, 335, -29.1182, 13.4215, 2661,     10.5, 2,  18.5239, 2,  35.4008, 2,  35.4008, 2,    224.8, 1,    237.4, 2,     1.72, 2,     0.02, 2,     0.00, 2,     0.17, 2,    2.657, 2,    1.506, 2, -999.000, 5,   2044.2, 2,   2336.3, 2,    8.0141, 2,     25.00, -999.000, 9, -999.000,   -999.0, 9,   -999.0,  -999.00, 9,   -999.0,  18.5221, 25.4512,  18.5250, 2, 9.9, 2, 237.92, 2, 0.12, 0.03, 0.01, 0.02, -999, 1,  -999.00, 9, -999, -999, 9, -999
49NZ20031106, A10, 95, 1, 35, 12023, 2, 20031202, 335, -29.1182, 13.4215, 2661,     50.2, 2,  17.2490, 2,  35.3949, 2,  35.3977, 2,    224.3, 1,    236.7, 2,     1.86, 2,     0.47, 2,     0.13, 2,     0.24, 2,    2.821, 2,    1.586, 2, -999.000, 5,   2049.2, 6,   2328.8, 2,    7.9999, 2,     25.00, -999.000, 9, -999.000,   -999.0, 9,   -999.0,  -999.00, 9,   -999.0,  17.2406, 25.7673,  17.2475, 2, 51.1, 2, 234.42, 2, 0.12, 0.03, 0.01, 0.02, -999, 1,  -999.00, 9, -999, -999, 9, -999
49NZ20031106, A10, 95, 1, 34, 12022, 2, 20031202, 335, -29.1182, 13.4215, 2661,    100.2, 2,  14.6373, 2,  35.2792, 2,  35.2789, 2,    199.7, 1,    209.5, 2,     4.76, 2,     7.97, 2,     0.06, 2,     0.67, 2,    3.017, 2,    1.648, 2,    0.558, 4,   2097.2, 2,   2319.7, 6,    7.8959, 2,     25.00, -999.000, 9, -999.000,   -999.0, 9,   -999.0,  -999.00, 9,   -999.0,  14.6224, 26.2722,  14.6359, 2, 96.3, 2, 210.97, 2, 0.13, 0.06, 0.01, 0.01, -999, 1,  -999.00, 9, -999, -999, 9, -999
49NZ20031106, A10, 95, 1, 33, 12015, 2, 20031202, 335, -29.1182, 13.4215, 2661,    149.6, 2,  13.2721, 2,  35.2098, 2,  35.2099, 2,    200.3, 1,    209.5, 2,     5.23, 2,    10.07, 2,     0.02, 2,     0.78, 2,    3.062, 2,    1.637, 2,    0.149, 4,   2110.0, 2,   2318.7, 2,    7.8625, 6,     25.00, -999.000, 9, -999.000,   -999.0, 9,   -999.0,  -999.00, 9,   -999.0,  13.2512, 26.5072,  13.2729, 2, 146.5, 2, 208.58, 2, 0.13, 0.06, 0.01, 0.01, -999, 1,  -999.00, 9, -999, -999, 9, -999
49NZ20031106, A10, 95, 1, 32, 12020, 2, 20031202, 335, -29.1182, 13.4215, 2661,    198.4, 2,  12.4733, 2,  35.1255, 2,  35.1265, 2,    204.2, 1,    213.5, 2,     5.09, 2,    11.27, 2,     0.01, 2,     0.85, 2,    3.178, 2,    1.683, 2,    0.128, 4,   2112.1, 2,   2316.0, 2,    7.8472, 2,     25.00, -999.000, 9, -999.000,   -999.0, 9,   -999.0,  -999.00, 9,   -999.0,  12.4467, 26.6034,  12.4671, 2, 197.2, 2, 212.94, 2, 0.13, 0.06, 0.01, 0.01, -999, 1,  -999.00, 9, -999, -999, 9, -999
49NZ20031106, A10, 95, 1, 31, 12019, 2, 20031202, 335, -29.1182, 13.4215, 2661,    251.3, 2,  11.2748, 2,  34.9609, 2,  34.9663, 2,    203.3, 1,    212.5, 2,     6.18, 2,    13.88, 2,     0.01, 2,     1.02, 2,    3.195, 6,    1.661, 6,    0.113, 4,   2124.4, 2,   2304.8, 2,    7.8168, 2,     25.00, -999.000, 9, -999.000,   -999.0, 9,   -999.0,  -999.00, 9,   -999.0,  11.2433, 26.703,  11.2863, 2, 249.9, 2, 212.43, 2, 0.13, 0.07, 0.01, 0.01, -999, 1,  -999.00, 9, -999, -999, 9, -999
49NZ20031106, A10, 95, 1, 30, 12018, 2, 20031202, 335, -29.1182, 13.4215, 2661,    299.5, 2,  10.2482, 2,  34.8261, 2,  34.8247, 2,    195.8, 1,    203.6, 2,     8.48, 2,    17.09, 2,     0.00, 2,     1.24, 2,    3.212, 2,    1.577, 2,    0.151, 4,   2140.2, 2,   2302.2, 2,    7.7741, 2,     25.00, -999.000, 9, -999.000,   -999.0, 9,   -999.0,  -999.00, 9,   -999.0,  10.2128, 26.7826,  10.2489, 2, 293.9, 2, 204.72, 2, 0.14, 0.08, 0.01, 0.01, -999, 1,  -999.00, 9, -999, -999, 9, -999
49NZ20031106, A10, 95, 1, 29, 12017, 2, 20031202, 335, -29.1182, 13.4215, 2661,    400.5, 2,   8.8034, 2,  34.6806, 2,  34.6812, 2,    160.6, 1,    166.7, 2,    13.70, 2,    24.05, 2,     0.01, 2,     1.68, 2,    2.782, 2,    1.332, 2,    0.112, 4,   2173.2, 2,   2299.3, 2,    7.6742, 2,     25.00, -999.000, 9, -999.000,   -999.0, 9,   -999.0,  -999.00, 9,   -999.0,   8.7601, 26.909,   8.8038, 2, 397, 2, 163.41, 2, 0.15, 0.1, 0.01, 0.01, -999, 1,  -999.00, 9, -999, -999, 9, -999
49NZ20031106, A10, 95, 1, 28, 12016, 2, 20031202, 335, -29.1182, 13.4215, 2661,    499.9, 2,   6.9885, 2,  34.5034, 2,  34.5029, 2,    177.2, 1,    183.7, 2,    17.56, 2,    27.14, 2,     0.00, 2,     1.87, 2,    2.701, 2,    1.228, 2,    0.134, 4,   2178.4, 2,   2295.3, 2,    7.6560, 2,     25.00, -999.000, 9, -999.000,   -999.0, 9,   -999.0,  -999.00, 9,   -999.0,   6.9411, 27.0393,   6.9865, 2, 498.7, 2, 184.07, 2, 0.16, 0.11, 0.01, 0.01, -999, 1,  -999.00, 9, -999, -999, 9, -999
49NZ20031106, A10, 95, 1, 27, 12012, 2, 20031202, 335, -29.1182, 13.4215, 2661,    598.6, 2,   5.3440, 2,  34.3769, 2,  34.3776, 2,    202.9, 1,    211.4, 2,    23.84, 2,    28.35, 2,     0.00, 2,     1.95, 2,    2.832, 2,    1.250, 2,    0.161, 4,   2179.1, 2,   2293.2, 2,    7.6650, 2,     25.00, -999.000, 9, -999.000,   -999.0, 9,   -999.0,  -999.00, 9,   -999.0,   5.2944, 27.1476,   5.3453, 2, 598.9, 2, 211.12, 2, 0.17, 0.11, 0.01, 0.01, -999, 1,  -999.00, 9, -999, -999, 9, -999
49NZ20031106, A10, 95, 1, 8, 12032, 9, 20031202, 335, -29.1182, 13.4215, 2661,    699.4, 2,   4.5818, 2,  34.3958, 2, -999.0000, 9,    182.9, 1,   -999.0, 9,  -999.00, 9,  -999.00, 9,  -999.00, 9,  -999.00, 9, -999.000, 9, -999.000, 9, -999.000, 9,   -999.0, 9,   -999.0, 9, -999.0000, 9,   -999.00, -999.000, 9, -999.000,   -999.0, 9,   -999.0,  -999.00, 9,   -999.0,   4.5274, 27.2498,   4.5820, 2, 699.3, 2, 190.98, 2, -999, -999, -999, -999, -999, 9,  -999.00, 9, -999, -999, 9, -999
49NZ20031106, A10, 95, 1, 7, 12031, 9, 20031202, 335, -29.1182, 13.4215, 2661,    699.9, 2,   4.5818, 2,  34.3959, 2, -999.0000, 9,    182.9, 1,   -999.0, 9,  -999.00, 9,  -999.00, 9,  -999.00, 9,  -999.00, 9, -999.000, 9, -999.000, 9, -999.000, 9,   -999.0, 9,   -999.0, 9, -999.0000, 9,   -999.00, -999.000, 9, -999.000,   -999.0, 9,   -999.0,  -999.00, 9,   -999.0,   4.5274, 27.2499,   4.5820, 2, 699.8, 2, 190.74, 2, -999, -999, -999, -999, -999, 9,  -999.00, 9, -999, -999, 9, -999
49NZ20031106, A10, 95, 1, 6, 12030, 9, 20031202, 335, -29.1182, 13.4215, 2661,    699.9, 2,   4.5819, 2,  34.3959, 2, -999.0000, 9,    182.7, 1,   -999.0, 9,  -999.00, 9,  -999.00, 9,  -999.00, 9,  -999.00, 9, -999.000, 9, -999.000, 9, -999.000, 9,   -999.0, 9,   -999.0, 9, -999.0000, 9,   -999.00, -999.000, 9, -999.000,   -999.0, 9,   -999.0,  -999.00, 9,   -999.0,   4.5275, 27.2499,   4.5821, 2, 699.8, 2, 190.74, 2, -999, -999, -999, -999, -999, 9,  -999.00, 9, -999, -999, 9, -999
49NZ20031106, A10, 95, 1, 4, 12028, 9, 20031202, 335, -29.1182, 13.4215, 2661,    699.9, 2,   4.5818, 2,  34.3958, 2, -999.0000, 9,    182.9, 1,   -999.0, 9,  -999.00, 9,  -999.00, 9,  -999.00, 9,  -999.00, 9, -999.000, 9, -999.000, 9, -999.000, 9,   -999.0, 9,   -999.0, 9, -999.0000, 9,   -999.00, -999.000, 9, -999.000,   -999.0, 9,   -999.0,  -999.00, 9,   -999.0,   4.5274, 27.2498,   4.5819, 2, 699.8, 2, 190.76, 2, -999, -999, -999, -999, -999, 9,  -999.00, 9, -999, -999, 9, -999
49NZ20031106, A10, 95, 1, 10, 12034, 9, 20031202, 335, -29.1182, 13.4215, 2661,    700.0, 2,   4.5815, 2,  34.3956, 2, -999.0000, 9,    182.6, 1,   -999.0, 9,  -999.00, 9,  -999.00, 9,  -999.00, 9,  -999.00, 9, -999.000, 9, -999.000, 9, -999.000, 9,   -999.0, 9,   -999.0, 9, -999.0000, 9,   -999.00, -999.000, 9, -999.000,   -999.0, 9,   -999.0,  -999.00, 9,   -999.0,   4.5271, 27.2497,   4.5817, 2, 699.9, 2, 190.72, 2, -999, -999, -999, -999, -999, 9,  -999.00, 9, -999, -999, 9, -999
49NZ20031106, A10, 95, 1, 9, 12033, 9, 20031202, 335, -29.1182, 13.4215, 2661,    700.0, 2,   4.5820, 2,  34.3956, 2, -999.0000, 9,    182.6, 1,   -999.0, 9,  -999.00, 9,  -999.00, 9,  -999.00, 9,  -999.00, 9, -999.000, 9, -999.000, 9, -999.000, 9,   -999.0, 9,   -999.0, 9, -999.0000, 9,   -999.00, -999.000, 9, -999.000,   -999.0, 9,   -999.0,  -999.00, 9,   -999.0,   4.5276, 27.2498,   4.5820, 2, 699.9, 2, 190.72, 2, -999, -999, -999, -999, -999, 9,  -999.00, 9, -999, -999, 9, -999
49NZ20031106, A10, 95, 1, 3, 12027, 9, 20031202, 335, -29.1182, 13.4215, 2661,    700.0, 2,   4.5820, 2,  34.3957, 2, -999.0000, 9,    183.0, 1,   -999.0, 9,  -999.00, 9,  -999.00, 9,  -999.00, 9,  -999.00, 9, -999.000, 9, -999.000, 9, -999.000, 9,   -999.0, 9,   -999.0, 9, -999.0000, 9,   -999.00, -999.000, 9, -999.000,   -999.0, 9,   -999.0,  -999.00, 9,   -999.0,   4.5276, 27.2499,   4.5819, 2, 699.9, 2, 190.7, 2, -999, -999, -999, -999, -999, 9,  -999.00, 9, -999, -999, 9, -999
49NZ20031106, A10, 95, 1, 5, 12029, 9, 20031202, 335, -29.1182, 13.4215, 2661,    700.6, 2,   4.5822, 2,  34.3958, 2, -999.0000, 9,    182.7, 1,   -999.0, 9,  -999.00, 9,  -999.00, 9,  -999.00, 9,  -999.00, 9, -999.000, 9, -999.000, 9, -999.000, 9,   -999.0, 9,   -999.0, 9, -999.0000, 9,   -999.00, -999.000, 9, -999.000,   -999.0, 9,   -999.0,  -999.00, 9,   -999.0,   4.5277, 27.2499,   4.5820, 2, 700.5, 2, 190.55, 2, -999, -999, -999, -999, -999, 9,  -999.00, 9, -999, -999, 9, -999
49NZ20031106, A10, 95, 1, 26, 12014, 2, 20031202, 335, -29.1182, 13.4215, 2661,    700.8, 2,   4.5821, 2,  34.3959, 2,  34.3957, 2,    182.9, 1,    190.2, 2,    33.44, 2,    31.63, 2,    -0.01, 2,     2.17, 2,    1.767, 2,    0.783, 2,    0.084, 4,   2202.7, 6,   2308.1, 2,    7.6226, 2,     25.00, -999.000, 9, -999.000,   -999.0, 9,   -999.0,  -999.00, 9,   -999.0,   4.5276, 27.2499,   4.5822, 2, 700.7, 2, 190.49, 2, 0.19, 0.12, 0.01, 0.02, -999, 1,  -999.00, 9, -999, -999, 9, -999
49NZ20031106, A10, 95, 1, 25, 12013, 2, 20031202, 335, -29.1182, 13.4215, 2661,    800.8, 2,   4.0314, 2,  34.4042, 2,  34.4041, 2,    173.6, 1,    180.4, 2,    37.62, 2,    33.28, 2,    -0.01, 2,     2.29, 2,    1.101, 2,    0.497, 2,    0.059, 4,   2214.6, 2,   2308.6, 6,    7.5986, 2,     25.00, -999.000, 9, -999.000,   -999.0, 9,   -999.0,  -999.00, 9,   -999.0,   3.9720, 27.3152,   4.0323, 2, 799.5, 2, 181.5, 2, 0.2, 0.13, 0.01, 0.02, -999, 1,  -999.00, 9, -999, -999, 9, -999
49NZ20031106, A10, 95, 1, 24, 12048, 2, 20031202, 335, -29.1182, 13.4215, 2661,    900.3, 2,   3.5499, 2,  34.4377, 2,  34.4400, 2,    176.1, 1,    182.4, 2,    45.66, 2,    33.42, 2,     0.00, 2,     2.29, 2,    0.803, 2,    0.366, 2,    0.053, 4,   2222.1, 2,   2315.0, 2,    7.6003, 6,     25.00, -999.000, 9, -999.000,   -999.0, 9,   -999.0,  -999.00, 9,   -999.0,   3.4857, 27.3899,   3.5502, 2, 899.9, 2, 182.44, 2, 0.22, 0.13, 0.01, 0.02, -999, 1,  -999.00, 9, -999, -999, 9, -999
49NZ20031106, A10, 95, 1, 23, 12047, 2, 20031202, 335, -29.1182, 13.4215, 2661,   1000.7, 2,   3.4034, 2,  34.5010, 2,  34.5010, 2,    170.7, 1,    176.9, 2,    48.53, 2,    33.37, 2,    -0.01, 2,     2.30, 2,    0.431, 6,    0.198, 6,    0.021, 4,   2226.7, 2,   2318.2, 2,    7.5947, 2,     25.00, -999.000, 9, -999.000,   -999.0, 9,   -999.0,  -999.00, 9,   -999.0,   3.3323, 27.4551,   3.4047, 2, 1001.3, 2, 176.88, 2, 0.23, 0.13, 0.01, 0.02, -999, 1,  -999.00, 9, -999, -999, 9, -999
49NZ20031106, A10, 95, 1, 22, 12046, 2, 20031202, 335, -29.1182, 13.4215, 2661,   1201.0, 2,   3.2621, 2,  34.6315, 2,  34.6315, 2,    173.6, 1,    180.3, 2,    49.32, 2,    31.57, 2,    -0.01, 2,     2.17, 2,    0.116, 2,    0.057, 2,    0.008, 4,   2227.5, 2,   2327.1, 2,    7.6085, 2,     25.00, -999.000, 9, -999.000,   -999.0, 9,   -999.0,  -999.00, 9,   -999.0,   3.1760, 27.5741,   3.2621, 2, 1201.6, 2, 179.35, 2, 0.23, 0.12, 0.01, 0.02, -999, 1,  -999.00, 9, -999, -999, 9, -999
49NZ20031106, A10, 95, 1, 21, 12045, 2, 20031202, 335, -29.1182, 13.4215, 2661,   1401.4, 2,   3.2028, 2,  34.7286, 2,  34.7288, 2,    184.0, 1,    191.1, 2,    46.35, 2,    29.26, 2,     0.00, 2,     2.01, 2,    0.035, 2,    0.018, 2,    0.000, 4,   2219.2, 2,   2331.0, 2,    7.6356, 2,     25.00, -999.000, 9, -999.000,   -999.0, 9,   -999.0,  -999.00, 9,   -999.0,   3.1006, 27.6591,   3.2029, 2, 1401.8, 2, 190.14, 2, 0.22, 0.11, 0.01, 0.02, -999, 1,  -999.00, 9, -999, -999, 9, -999
49NZ20031106, A10, 95, 1, 20, 12044, 2, 20031202, 335, -29.1182, 13.4215, 2661,   1600.8, 2,   3.2282, 2,  34.8042, 2,  34.8050, 2,    195.9, 1,    203.3, 2,    41.06, 2,    27.04, 2,    -0.01, 2,     1.84, 2,    0.001, 2,   -0.001, 2,    0.000, 4,   2208.2, 2,   2323.8, 2,    7.6616, 2,     25.00, -999.000, 9, -999.000,   -999.0, 9,   -999.0,  -999.00, 9,   -999.0,   3.1085, 27.7192,   3.2282, 2, 1600.9, 2, 203.23, 2, 0.21, 0.11, 0.01, 0.01, -999, 1,  -999.00, 9, -999, -999, 9, -999
49NZ20031106, A10, 95, 1, 19, 12043, 2, 20031202, 335, -29.1182, 13.4215, 2661,   1800.6, 2,   3.1511, 2,  34.8515, 2,  34.8515, 2,    208.0, 1,    215.8, 2,    38.48, 2,    25.22, 2,    -0.01, 2,     1.71, 2,    0.007, 2,    0.001, 2,    0.000, 4,   2199.8, 2,   2330.3, 2,    7.6838, 2,     25.00, -999.000, 9, -999.000,   -999.0, 9,   -999.0,  -999.00, 9,   -999.0,   3.0147, 27.7659,   3.1509, 2, 1800.5, 2, 215.59, 2, 0.2, 0.1, 0.01, 0.01, -999, 1,  -999.00, 9, -999, -999, 9, -999
49NZ20031106, A10, 95, 1, 18, 12042, 2, 20031202, 335, -29.1182, 13.4215, 2661,   2001.5, 2,   3.0147, 2,  34.8716, 2,  34.8715, 2,    215.1, 1,    222.8, 2,    39.05, 2,    24.40, 2,    -0.01, 2,     1.65, 2,    0.003, 2,    0.001, 2,    0.000, 4,   2194.4, 2,   2327.4, 2,    7.6977, 6,     25.00, -999.000, 9, -999.000,   -999.0, 9,   -999.0,  -999.00, 9,   -999.0,   2.8620, 27.796,   3.0146, 2, 2001.6, 2, 222.52, 2, 0.2, 0.1, 0.01, 0.01, -999, 1,  -999.00, 9, -999, -999, 9, -999
49NZ20031106, A10, 95, 1, 13, 12037, 9, 20031202, 335, -29.1182, 13.4215, 2661,   2100.8, 2,   2.9739, 2,  34.8743, 2, -999.0000, 9,    216.6, 1,   -999.0, 9,  -999.00, 9,  -999.00, 9,  -999.00, 9,  -999.00, 9, -999.000, 9, -999.000, 9, -999.000, 9,   -999.0, 9,   -999.0, 9, -999.0000, 9,   -999.00, -999.000, 9, -999.000,   -999.0, 9,   -999.0,  -999.00, 9,   -999.0,   2.8127, 27.8026,   2.9739, 2, 2100.6, 2, 224.27, 2, -999, -999, -999, -999, -999, 9,  -999.00, 9, -999, -999, 9, -999
49NZ20031106, A10, 95, 1, 1, 12025, 2, 20031202, 335, -29.1182, 13.4215, 2661,   2201.5, 2,   2.9207, 2,  34.8791, 2,  34.8790, 2,    218.4, 1,    226.1, 2,    40.19, 2,    23.95, 2,    -0.01, 2,     1.62, 2,    0.003, 2,    0.001, 2,    0.000, 4,   2195.7, 2,   2331.9, 2,    7.7012, 2,     25.00, -999.000, 9, -999.000,   -999.0, 9,   -999.0,  -999.00, 9,   -999.0,   2.7510, 27.8121,   2.9209, 2, 2201.7, 2, 225.7, 2, 0.21, 0.1, 0.01, 0.01, -999, 1,  -999.00, 9, -999, -999, 9, -999
49NZ20031106, A10, 95, 1, 12, 12036, 9, 20031202, 335, -29.1182, 13.4215, 2661,   2301.6, 2,   2.8559, 2,  34.8796, 2, -999.0000, 9,    220.1, 1,   -999.0, 9,  -999.00, 9,  -999.00, 9,  -999.00, 9,  -999.00, 9, -999.000, 9, -999.000, 9, -999.000, 9,   -999.0, 9,   -999.0, 9, -999.0000, 9,   -999.00, -999.000, 9, -999.000,   -999.0, 9,   -999.0,  -999.00, 9,   -999.0,   2.6779, 27.819,   2.8559, 2, 2301.8, 2, 227.32, 2, -999, -999, -999, -999, -999, 9,  -999.00, 9, -999, -999, 9, -999
49NZ20031106, A10, 95, 1, 16, 12040, 2, 20031202, 335, -29.1182, 13.4215, 2661,   2401.7, 2,   2.7775, 2,  34.8785, 2,  34.8785, 2,    222.2, 1,    229.4, 2,    42.48, 2,    23.78, 2,    -0.01, 2,     1.62, 2,   -0.002, 2,    0.001, 2,    0.000, 4,   2195.6, 6,   2334.1, 2,    7.7072, 2,     25.00, -999.000, 9, -999.000,   -999.0, 9,   -999.0,  -999.00, 9,   -999.0,   2.5913, 27.8257,   2.7776, 2, 2401.7, 2, 229.41, 2, 0.21, 0.1, 0.01, 0.01, -999, 1,  -999.00, 9, -999, -999, 9, -999
49NZ20031106, A10, 95, 1, 11, 12035, 9, 20031202, 335, -29.1182, 13.4215, 2661,   2500.8, 2,   2.7242, 2,  34.8782, 2, -999.0000, 9,    222.3, 1,   -999.0, 9,  -999.00, 9,  -999.00, 9,  -999.00, 9,  -999.00, 9, -999.000, 9, -999.000, 9, -999.000, 9,   -999.0, 9,   -999.0, 9, -999.0000, 9,   -999.00, -999.000, 9, -999.000,   -999.0, 9,   -999.0,  -999.00, 9,   -999.0,   2.5295, 27.831,   2.7242, 2, 2500.8, 2, 229.21, 2, -999, -999, -999, -999, -999, 9,  -999.00, 9, -999, -999, 9, -999
49NZ20031106, A10, 95, 1, 15, 12039, 2, 20031202, 335, -29.1182, 13.4215, 2661,   2601.1, 2,   2.6690, 2,  34.8775, 2,  34.8776, 2,    222.8, 1,    229.4, 2,    45.38, 2,    23.88, 2,    -0.01, 2,     1.62, 2,   -0.003, 2,   -0.001, 2,    0.000, 4,   2200.9, 2,   2339.6, 6,    7.7095, 2,     25.00, -999.000, 9, -999.000,   -999.0, 9,   -999.0,  -999.00, 9,   -999.0,   2.4656, 27.8359,   2.6689, 2, 2601.1, 2, 229.36, 2, 0.22, 0.1, 0.01, 0.01, -999, 1,  -999.00, 9, -999, -999, 9, -999
49NZ20031106, A10, 95, 1, 17, 12041, 2, 20031202, 335, -29.1182, 13.4215, 2661,   2602.1, 2,   2.6676, 2,  34.8777, 2,  34.8777, 2,    222.7, 1,    229.3, 2,    45.45, 2,    23.83, 2,    -0.01, 2,     1.62, 2,   -0.006, 2,   -0.003, 2,    0.000, 4,   2200.6, 2,   2337.9, 2,    7.7071, 2,     25.00, -999.000, 9, -999.000,   -999.0, 9,   -999.0,  -999.00, 9,   -999.0,   2.4642, 27.836,   2.6675, 2, 2602.2, 2, 229.34, 2, 0.22, 0.1, 0.01, 0.01, -999, 9,  -999.00, 9, -999, -999, 9, -999
49NZ20031106, A10, 95, 1, 14, 12038, 2, 20031202, 335, -29.1182, 13.4215, 2661,   2685.8, 2,   2.6003, 2,  34.8760, 2,  34.8761, 2,    223.1, 1,    229.2, 2,    47.23, 2,    23.97, 2,     0.01, 2,     1.63, 2,   -0.003, 2,    0.001, 2,    0.000, 4,   2202.3, 2,   2341.4, 2,    7.7086, 2,     25.00, -999.000, 9, -999.000,   -999.0, 9,   -999.0,  -999.00, 9,   -999.0,   2.3900, 27.8409,   2.6002, 2, 2685.8, 2, 229.11, 2, 0.22, 0.1, 0.01, 0.01, -999, 1,  -999.00, 9, -999, -999, 9, -999