BOTTLE,20220818CCHSIOAMB
EXPOCODE,SECT_ID,STNNBR,CASTNO,SAMPNO,BTLNBR,BTLNBR_FLAG_W,DATE,TIME,LATITUDE,LONGITUDE,DEPTH,CTDPRS,CTDPRS_FLAG_W,CTDTMP,CTDTMP_FLAG_W,CTDSAL,CTDSAL_FLAG_W,SALNTY,SALNTY_FLAG_W,CTDOXY,CTDOXY_FLAG_W,OXYGEN,OXYGEN_FLAG_W,SILCAT,SILCAT_FLAG_W,NITRAT,NITRAT_FLAG_W,NITRIT,NITRIT_FLAG_W,PHSPHT,PHSPHT_FLAG_W,CFC-11,CFC-11_FLAG_W,CFC-12,CFC-12_FLAG_W,CFC113,CFC113_FLAG_W,TCARBN,TCARBN_FLAG_W,ALKALI,ALKALI_FLAG_W,PH_TOT,PH_TOT_FLAG_W,PH_TMP,TRITUM,TRITUM_FLAG_W,TRITER,DELC14,DELC14_FLAG_W,C14ERR,DELC13,DELC13_FLAG_W,C13ERR,THETA,SIG0,SBE35,SBE35_FLAG_W,DWNPRS,DWNPRS_FLAG_W,DWNOXY,DWNOXY_FLAG_W,SILUNC,NRAUNC,NRIUNC,PHPUNC,TOC,TOC_FLAG_W,CS-137,CS-137_FLAG_W,CS137ER,PLUTO,PLUTO_FLAG_W,PLUTOER
,,,,,,,,,,,METERS,DBAR,,ITS-90,,PSS-78,,PSS-78,,UMOL/KG,,UMOL/KG,,UMOL/KG,,UMOL/KG,,UMOL/KG,,UMOL/KG,,PMOL/KG,,PMOL/KG,,PMOL/KG,,UMOL/KG,,UMOL/KG,,,,DEG C,TU,,TU,/MILLE,,/MILLE,/MILLE,,/MILLE,DEG C,KG/M^3,ITS-90,,DBAR,,UMOL/KG,,UMOL/KG,UMOL/KG,UMOL/KG,UMOL/KG,UMOL/KG,,BQ/M^3,,BQ/M^3,MBQ/M^3,,MBQ/M^3
49NZ20031106, A10, 63, 1, 2, 12038, 2, 20031123, 653, -29.9990, -8.1630, 3937,      6.2, 2,  18.6876, 2,  35.7752, 2, -999.0000, 9,    223.1, 1,   -999.0, 9,  -999.00, 9,  -999.00, 9,  -999.00, 9,  -999.00, 9, -999.000, 9, -999.000, 9, -999.000, 9,   -999.0, 9,   -999.0, 9, -999.0000, 9,   -999.00, -999.000, 9, -999.000,   -999.0, 9,   -999.0,  -999.00, 9,   -999.0,  18.6865, 25.6959,  18.6900, 2, 6, 2, 236.01, 2, -999, -999, -999, -999, -999, 9,  -999.00, 9, -999, -999, 9, -999
49NZ20031106, A10, 63, 1, 3, 12039, 2, 20031123, 653, -29.9990, -8.1630, 3937,      6.6, 2,  18.6895, 2,  35.7754, 2, -999.0000, 9,    223.3, 1,   -999.0, 9,  -999.00, 9,  -999.00, 9,  -999.00, 9,  -999.00, 9, -999.000, 9, -999.000, 9, -999.000, 9,   -999.0, 9,   -999.0, 9, -999.0000, 9,   -999.00, -999.000, 9, -999.000,   -999.0, 9,   -999.0,  -999.00, 9,   -999.0,  18.6883, 25.6954,  18.6890, 2, 6.2, 2, 235.92, 2, -999, -999, -999, -999, -999, 9,  -999.00, 9, -999, -999, 9, -999
49NZ20031106, A10, 63, 1, 4, 12040, 9, 20031123, 653, -29.9990, -8.1630, 3937,      7.1, 2,  18.6863, 2,  35.7748, 2, -999.0000, 9,    223.1, 1,   -999.0, 9,  -999.00, 9,  -999.00, 9,  -999.00, 9,  -999.00, 9, -999.000, 9, -999.000, 9, -999.000, 9,   -999.0, 9,   -999.0, 9, -999.0000, 9,   -999.00, -999.000, 9, -999.000,   -999.0, 9,   -999.0,  -999.00, 9,   -999.0,  18.6850, 25.6959,  18.6872, 2, 6.6, 2, 235.75, 2, -999, -999, -999, -999, -999, 9,  -999.00, 9, -999, -999, 9, -999
49NZ20031106, A10, 63, 1, 36, 12036, 2, 20031123, 653, -29.9990, -8.1630, 3937,      8.8, 2,  18.6821, 2,  35.7747, 2,  35.7747, 2,    223.3, 1,    236.1, 2,     1.16, 2,     0.01, 2,     0.01, 2,     0.18, 2, -999.000, 9, -999.000, 9, -999.000, 9,   -999.0, 9,   -999.0, 9, -999.0000, 9,   -999.00, -999.000, 9, -999.000,   -999.0, 9,   -999.0,  -999.00, 9,   -999.0,  18.6805, 25.6973,  18.6825, 2, 8.7, 2, 235.67, 2, 0.12, 0.03, 0.01, 0.02, -999, 9,  -999.00, 9, -999, -999, 9, -999
49NZ20031106, A10, 63, 1, 35, 12035, 2, 20031123, 653, -29.9990, -8.1630, 3937,     50.2, 2,  18.3095, 2,  35.7535, 2,  35.7554, 2,    226.0, 1,    239.0, 2,     1.15, 2,    -0.01, 2,     0.01, 2,     0.19, 2, -999.000, 9, -999.000, 9, -999.000, 9,   -999.0, 9,   -999.0, 9, -999.0000, 9,   -999.00, -999.000, 9, -999.000,   -999.0, 9,   -999.0,  -999.00, 9,   -999.0,  18.3008, 25.7761,  18.3133, 2, 41.3, 2, 240.11, 2, 0.12, 0.03, 0.01, 0.02, -999, 9,  -999.00, 9, -999, -999, 9, -999
49NZ20031106, A10, 63, 1, 34, 12034, 2, 20031123, 653, -29.9990, -8.1630, 3937,     99.6, 2,  16.2109, 2,  35.5390, 2,  35.5501, 3,    231.7, 1,    243.8, 2,     1.18, 2,     0.03, 2,     0.01, 2,     0.22, 2, -999.000, 9, -999.000, 9, -999.000, 9,   -999.0, 9,   -999.0, 9, -999.0000, 9,   -999.00, -999.000, 9, -999.000,   -999.0, 9,   -999.0,  -999.00, 9,   -999.0,  16.1950, 26.1213,  16.1832, 2, 101.9, 2, 239.45, 2, 0.12, 0.03, 0.01, 0.02, -999, 9,  -999.00, 9, -999, -999, 9, -999
49NZ20031106, A10, 63, 1, 1, 12037, 2, 20031123, 653, -29.9990, -8.1630, 3937,    107.4, 2,  16.0077, 2,  35.5133, 2, -999.0000, 9,    231.0, 1,   -999.0, 9,  -999.00, 9,  -999.00, 9,  -999.00, 9,  -999.00, 9, -999.000, 9, -999.000, 9, -999.000, 9,   -999.0, 9,   -999.0, 9, -999.0000, 9,   -999.00, -999.000, 9, -999.000,   -999.0, 9,   -999.0,  -999.00, 9,   -999.0,  15.9907, 26.1464,  16.0056, 2, 107.9, 2, 233.79, 2, -999, -999, -999, -999, -999, 9,  -999.00, 9, -999, -999, 9, -999
49NZ20031106, A10, 63, 1, 33, 12033, 2, 20031123, 653, -29.9990, -8.1630, 3937,    150.7, 2,  14.9834, 2,  35.3971, 2,  35.4085, 3,    215.9, 1,    226.6, 2,     1.69, 2,     3.44, 2,     0.03, 2,     0.42, 2, -999.000, 9, -999.000, 9, -999.000, 9,   -999.0, 9,   -999.0, 9, -999.0000, 9,   -999.00, -999.000, 9, -999.000,   -999.0, 9,   -999.0,  -999.00, 9,   -999.0,  14.9606, 26.2893,  14.9859, 2, 150.9, 2, 231.47, 2, 0.12, 0.04, 0.01, 0.01, -999, 9,  -999.00, 9, -999, -999, 9, -999
49NZ20031106, A10, 63, 1, 32, 12032, 2, 20031123, 653, -29.9990, -8.1630, 3937,    200.6, 2,  14.2247, 2,  35.3277, 2,  35.3282, 2,    209.2, 1,    219.6, 2,     2.36, 2,     6.00, 2,     0.01, 2,     0.57, 2, -999.000, 9, -999.000, 9, -999.000, 9,   -999.0, 9,   -999.0, 9, -999.0000, 9,   -999.00, -999.000, 9, -999.000,   -999.0, 9,   -999.0,  -999.00, 9,   -999.0,  14.1953, 26.4005,  14.2248, 2, 200.7, 2, 219.59, 2, 0.12, 0.05, 0.01, 0.01, -999, 9,  -999.00, 9, -999, -999, 9, -999
49NZ20031106, A10, 63, 1, 31, 12031, 2, 20031123, 653, -29.9990, -8.1630, 3937,    251.4, 2,  13.4141, 2,  35.2289, 2,  35.2287, 2,    207.5, 1,    217.6, 2,     2.62, 2,     7.86, 2,     0.01, 2,     0.67, 2, -999.000, 9, -999.000, 9, -999.000, 9,   -999.0, 9,   -999.0, 9, -999.0000, 9,   -999.00, -999.000, 9, -999.000,   -999.0, 9,   -999.0,  -999.00, 9,   -999.0,  13.3786, 26.4943,  13.4172, 2, 250.9, 2, 217.58, 2, 0.12, 0.05, 0.01, 0.01, -999, 9,  -999.00, 9, -999, -999, 9, -999
49NZ20031106, A10, 63, 1, 30, 12030, 2, 20031123, 653, -29.9990, -8.1630, 3937,    301.0, 2,  12.6923, 2,  35.1370, 2,  35.1353, 2,    206.3, 1,    216.6, 2,     3.10, 2,     9.66, 2,     0.01, 2,     0.78, 2, -999.000, 9, -999.000, 9, -999.000, 9,   -999.0, 9,   -999.0, 9, -999.0000, 9,   -999.00, -999.000, 9, -999.000,   -999.0, 9,   -999.0,  -999.00, 9,   -999.0,  12.6513, 26.5698,  12.6922, 2, 299.3, 2, 215.99, 2, 0.13, 0.06, 0.01, 0.01, -999, 9,  -999.00, 9, -999, -999, 9, -999
49NZ20031106, A10, 63, 1, 29, 12029, 2, 20031123, 653, -29.9990, -8.1630, 3937,    401.4, 2,  11.1213, 2,  34.9338, 2,  34.9338, 2,    201.6, 1,    210.6, 2,     5.00, 2,    14.05, 2,     0.01, 2,     1.05, 2, -999.000, 9, -999.000, 9, -999.000, 9,   -999.0, 9,   -999.0, 9, -999.0000, 9,   -999.00, -999.000, 9, -999.000,   -999.0, 9,   -999.0,  -999.00, 9,   -999.0,  11.0710, 26.7115,  11.1218, 2, 398.9, 2, 211.53, 2, 0.13, 0.07, 0.01, 0.01, -999, 9,  -999.00, 9, -999, -999, 9, -999
49NZ20031106, A10, 63, 1, 28, 12028, 2, 20031123, 653, -29.9990, -8.1630, 3937,    499.9, 2,   9.2012, 2,  34.6967, 2,  34.6951, 2,    200.4, 1,    209.8, 2,     7.50, 2,    18.86, 2,     0.00, 2,     1.35, 2, -999.000, 9, -999.000, 9, -999.000, 9,   -999.0, 9,   -999.0, 9, -999.0000, 9,   -999.00, -999.000, 9, -999.000,   -999.0, 9,   -999.0,  -999.00, 9,   -999.0,   9.1454, 26.8574,   9.1988, 2, 497.2, 2, 209.84, 2, 0.14, 0.09, 0.01, 0.01, -999, 9,  -999.00, 9, -999, -999, 9, -999
49NZ20031106, A10, 63, 1, 27, 12027, 2, 20031123, 653, -29.9990, -8.1630, 3937,    599.1, 2,   7.2567, 2,  34.4916, 2,  34.4919, 2,    202.3, 1,    211.1, 2,    11.59, 2,    23.81, 2,     0.01, 2,     1.67, 2, -999.000, 9, -999.000, 9, -999.000, 9,   -999.0, 9,   -999.0, 9, -999.0000, 9,   -999.00, -999.000, 9, -999.000,   -999.0, 9,   -999.0,  -999.00, 9,   -999.0,   7.1983, 26.991,   7.2593, 2, 597.7, 2, 214.05, 2, 0.14, 0.1, 0.01, 0.01, -999, 9,  -999.00, 9, -999, -999, 9, -999
49NZ20031106, A10, 63, 1, 26, 12026, 2, 20031123, 653, -29.9990, -8.1630, 3937,    699.9, 2,   5.6006, 2,  34.3346, 2,  34.3356, 2,    217.3, 1,    227.2, 2,    14.58, 2,    26.41, 2,     0.00, 2,     1.84, 2, -999.000, 9, -999.000, 9, -999.000, 9,   -999.0, 9,   -999.0, 9, -999.0000, 9,   -999.00, -999.000, 9, -999.000,   -999.0, 9,   -999.0,  -999.00, 9,   -999.0,   5.5408, 27.0845,   5.5982, 2, 700, 2, 227.06, 2, 0.15, 0.11, 0.01, 0.01, -999, 9,  -999.00, 9, -999, -999, 9, -999
49NZ20031106, A10, 63, 1, 25, 12025, 2, 20031123, 653, -29.9990, -8.1630, 3937,    800.8, 2,   4.8246, 2,  34.3177, 2,  34.3178, 2,    210.8, 1,    220.4, 2,    21.52, 2,    28.83, 2,     0.00, 2,     1.99, 2, -999.000, 9, -999.000, 9, -999.000, 9,   -999.0, 9,   -999.0, 9, -999.0000, 9,   -999.00, -999.000, 9, -999.000,   -999.0, 9,   -999.0,  -999.00, 9,   -999.0,   4.7604, 27.1621,   4.8252, 2, 800.9, 2, 220.11, 2, 0.17, 0.11, 0.01, 0.02, -999, 9,  -999.00, 9, -999, -999, 9, -999
49NZ20031106, A10, 63, 1, 24, 12024, 2, 20031123, 653, -29.9990, -8.1630, 3937,    900.6, 2,   4.1144, 2,  34.3171, 2,  34.3185, 2,    205.1, 1,    214.3, 2,    29.04, 2,    30.50, 2,     0.00, 2,     2.12, 2, -999.000, 9, -999.000, 9, -999.000, 9,   -999.0, 9,   -999.0, 9, -999.0000, 9,   -999.00, -999.000, 9, -999.000,   -999.0, 9,   -999.0,  -999.00, 9,   -999.0,   4.0464, 27.2383,   4.1187, 2, 903.3, 2, 215.12, 2, 0.18, 0.12, 0.01, 0.02, -999, 9,  -999.00, 9, -999, -999, 9, -999
49NZ20031106, A10, 63, 1, 6, 12042, 9, 20031123, 653, -29.9990, -8.1630, 3937,    999.8, 2,   3.6494, 2,  34.3491, 2, -999.0000, 9,    196.8, 1,   -999.0, 9,  -999.00, 9,  -999.00, 9,  -999.00, 9,  -999.00, 9, -999.000, 9, -999.000, 9, -999.000, 9,   -999.0, 9,   -999.0, 9, -999.0000, 9,   -999.00, -999.000, 9, -999.000,   -999.0, 9,   -999.0,  -999.00, 9,   -999.0,   3.5767, 27.3114,   3.6497, 2, 1001.8, 2, 207.63, 2, -999, -999, -999, -999, -999, 9,  -999.00, 9, -999, -999, 9, -999
49NZ20031106, A10, 63, 1, 5, 12041, 9, 20031123, 653, -29.9990, -8.1630, 3937,   1000.3, 2,   3.6490, 2,  34.3491, 2, -999.0000, 9,    196.8, 1,   -999.0, 9,  -999.00, 9,  -999.00, 9,  -999.00, 9,  -999.00, 9, -999.000, 9, -999.000, 9, -999.000, 9,   -999.0, 9,   -999.0, 9, -999.0000, 9,   -999.00, -999.000, 9, -999.000,   -999.0, 9,   -999.0,  -999.00, 9,   -999.0,   3.5763, 27.3119,   3.6468, 2, 1002.2, 2, 207.62, 2, -999, -999, -999, -999, -999, 9,  -999.00, 9, -999, -999, 9, -999
49NZ20031106, A10, 63, 1, 23, 12023, 2, 20031123, 653, -29.9990, -8.1630, 3937,   1000.4, 2,   3.6500, 2,  34.3489, 2,  34.3489, 2,    196.8, 1,    207.7, 2,    36.94, 2,    31.81, 2,     0.00, 2,     2.21, 2, -999.000, 9, -999.000, 9, -999.000, 9,   -999.0, 9,   -999.0, 9, -999.0000, 9,   -999.00, -999.000, 9, -999.000,   -999.0, 9,   -999.0,  -999.00, 9,   -999.0,   3.5773, 27.3116,   3.6492, 2, 1002.2, 2, 207.62, 2, 0.2, 0.12, 0.01, 0.02, -999, 9,  -999.00, 9, -999, -999, 9, -999
49NZ20031106, A10, 63, 1, 22, 12022, 2, 20031123, 653, -29.9990, -8.1630, 3937,   1201.4, 2,   3.1235, 2,  34.4720, 2,  34.4720, 2,    180.7, 1,    192.0, 2,    51.02, 2,    32.83, 2,     0.00, 2,     2.30, 2, -999.000, 9, -999.000, 9, -999.000, 9,   -999.0, 9,   -999.0, 9, -999.0000, 9,   -999.00, -999.000, 9, -999.000,   -999.0, 9,   -999.0,  -999.00, 9,   -999.0,   3.0390, 27.4607,   3.1236, 2, 1203, 2, 188.66, 2, 0.23, 0.12, 0.01, 0.02, -999, 9,  -999.00, 9, -999, -999, 9, -999
49NZ20031106, A10, 63, 1, 21, 12015, 2, 20031123, 653, -29.9990, -8.1630, 3937,   1400.5, 2,   2.9030, 2,  34.5963, 2,  34.5956, 2,    179.4, 1,    187.1, 2,    56.42, 2,    31.70, 2,     0.00, 2,     2.20, 2, -999.000, 9, -999.000, 9, -999.000, 9,   -999.0, 9,   -999.0, 9, -999.0000, 9,   -999.00, -999.000, 9, -999.000,   -999.0, 9,   -999.0,  -999.00, 9,   -999.0,   2.8044, 27.5812,   2.9032, 2, 1402.4, 2, 187.51, 2, 0.24, 0.12, 0.01, 0.02, -999, 9,  -999.00, 9, -999, -999, 9, -999
49NZ20031106, A10, 63, 1, 20, 12020, 2, 20031123, 653, -29.9990, -8.1630, 3937,   1600.9, 2,   2.8167, 2,  34.6917, 2,  34.6912, 2,    187.1, 1,    195.1, 2,    55.83, 2,    29.68, 2,     0.00, 2,     2.07, 2, -999.000, 9, -999.000, 9, -999.000, 9,   -999.0, 9,   -999.0, 9, -999.0000, 9,   -999.00, -999.000, 9, -999.000,   -999.0, 9,   -999.0,  -999.00, 9,   -999.0,   2.7023, 27.6666,   2.8169, 2, 1601.2, 2, 194.65, 2, 0.24, 0.12, 0.01, 0.02, -999, 9,  -999.00, 9, -999, -999, 9, -999
49NZ20031106, A10, 63, 1, 19, 12019, 2, 20031123, 653, -29.9990, -8.1630, 3937,   1799.7, 2,   2.7483, 2,  34.7527, 2,  34.7524, 2,    196.1, 1,    204.7, 2,    54.16, 2,    28.13, 2,    -0.01, 2,     1.94, 2, -999.000, 9, -999.000, 9, -999.000, 9,   -999.0, 9,   -999.0, 9, -999.0000, 9,   -999.00, -999.000, 9, -999.000,   -999.0, 9,   -999.0,  -999.00, 9,   -999.0,   2.6177, 27.7229,   2.7483, 2, 1798.5, 2, 205.3, 2, 0.24, 0.11, 0.01, 0.01, -999, 9,  -999.00, 9, -999, -999, 9, -999
49NZ20031106, A10, 63, 1, 18, 12018, 2, 20031123, 653, -29.9990, -8.1630, 3937,   1999.5, 2,   2.6544, 2,  34.7967, 2,  34.7969, 2,    205.2, 1,    214.4, 2,    53.01, 2,    26.65, 2,     0.00, 2,     1.83, 2, -999.000, 9, -999.000, 9, -999.000, 9,   -999.0, 9,   -999.0, 9, -999.0000, 9,   -999.00, -999.000, 9, -999.000,   -999.0, 9,   -999.0,  -999.00, 9,   -999.0,   2.5075, 27.7677,   2.6544, 2, 1998.9, 2, 214.33, 2, 0.24, 0.11, 0.01, 0.01, -999, 9,  -999.00, 9, -999, -999, 9, -999
49NZ20031106, A10, 63, 1, 17, 12017, 2, 20031123, 653, -29.9990, -8.1630, 3937,   2200.9, 2,   2.5760, 2,  34.8218, 2,  34.8218, 2,    212.1, 1,    221.7, 2,    52.08, 2,    25.63, 2,     0.00, 2,     1.77, 2, -999.000, 9, -999.000, 9, -999.000, 9,   -999.0, 9,   -999.0, 9, -999.0000, 9,   -999.00, -999.000, 9, -999.000,   -999.0, 9,   -999.0,  -999.00, 9,   -999.0,   2.4122, 27.7959,   2.5760, 2, 2200, 2, 221.95, 2, 0.23, 0.1, 0.01, 0.01, -999, 9,  -999.00, 9, -999, -999, 9, -999
49NZ20031106, A10, 63, 1, 16, 12016, 2, 20031123, 653, -29.9990, -8.1630, 3937,   2400.4, 2,   2.4998, 2,  34.8414, 2,  34.8412, 2,    218.1, 1,    228.1, 2,    51.13, 2,    24.78, 2,     0.00, 2,     1.71, 2, -999.000, 9, -999.000, 9, -999.000, 9,   -999.0, 9,   -999.0, 9, -999.0000, 9,   -999.00, -999.000, 9, -999.000,   -999.0, 9,   -999.0,  -999.00, 9,   -999.0,   2.3188, 27.8195,   2.4998, 2, 2399.5, 2, 228.44, 2, 0.23, 0.1, 0.01, 0.01, -999, 9,  -999.00, 9, -999, -999, 9, -999
49NZ20031106, A10, 63, 1, 15, 12012, 2, 20031123, 653, -29.9990, -8.1630, 3937,   2600.4, 2,   2.4433, 2,  34.8533, 2,  34.8535, 2,    222.3, 1,    232.4, 2,    50.59, 2,    24.24, 2,     0.00, 2,     1.67, 2, -999.000, 9, -999.000, 9, -999.000, 9,   -999.0, 9,   -999.0, 9, -999.0000, 9,   -999.00, -999.000, 9, -999.000,   -999.0, 9,   -999.0,  -999.00, 9,   -999.0,   2.2444, 27.8353,   2.4434, 2, 2600.1, 2, 232.24, 2, 0.23, 0.1, 0.01, 0.01, -999, 9,  -999.00, 9, -999, -999, 9, -999
49NZ20031106, A10, 63, 1, 14, 12014, 2, 20031123, 653, -29.9990, -8.1630, 3937,   2800.0, 2,   2.4055, 2,  34.8618, 2,  34.8619, 2,    225.4, 1,    235.4, 2,    50.35, 2,    23.86, 2,    -0.01, 2,     1.64, 2, -999.000, 9, -999.000, 9, -999.000, 9,   -999.0, 9,   -999.0, 9, -999.0000, 9,   -999.00, -999.000, 9, -999.000,   -999.0, 9,   -999.0,  -999.00, 9,   -999.0,   2.1879, 27.8466,   2.4057, 2, 2799.7, 2, 235.35, 2, 0.23, 0.1, 0.01, 0.01, -999, 9,  -999.00, 9, -999, -999, 9, -999
49NZ20031106, A10, 63, 1, 13, 12013, 2, 20031123, 653, -29.9990, -8.1630, 3937,   3000.3, 2,   2.3813, 2,  34.8674, 2,  34.8676, 2,    227.4, 1,    236.9, 2,    50.39, 2,    23.63, 2,     0.00, 2,     1.63, 2, -999.000, 9, -999.000, 9, -999.000, 9,   -999.0, 9,   -999.0, 9, -999.0000, 9,   -999.00, -999.000, 9, -999.000,   -999.0, 9,   -999.0,  -999.00, 9,   -999.0,   2.1442, 27.855,   2.3813, 2, 3000, 2, 236.81, 2, 0.23, 0.1, 0.01, 0.01, -999, 9,  -999.00, 9, -999, -999, 9, -999
49NZ20031106, A10, 63, 1, 12, 12048, 2, 20031123, 653, -29.9990, -8.1630, 3937,   3250.8, 2,   2.3633, 2,  34.8729, 2,  34.8734, 2,    228.4, 1,    237.8, 2,    50.53, 2,    23.42, 2,     0.00, 2,     1.60, 2, -999.000, 9, -999.000, 9, -999.000, 9,   -999.0, 9,   -999.0, 9, -999.0000, 9,   -999.00, -999.000, 9, -999.000,   -999.0, 9,   -999.0,  -999.00, 9,   -999.0,   2.1009, 27.8627,   2.3635, 2, 3250.7, 2, 237.49, 2, 0.23, 0.1, 0.01, 0.01, -999, 9,  -999.00, 9, -999, -999, 9, -999
49NZ20031106, A10, 63, 1, 8, 12044, 9, 20031123, 653, -29.9990, -8.1630, 3937,   3399.9, 2,   2.3625, 2,  34.8753, 2, -999.0000, 9,    228.5, 1,   -999.0, 9,  -999.00, 9,  -999.00, 9,  -999.00, 9,  -999.00, 9, -999.000, 9, -999.000, 9, -999.000, 9,   -999.0, 9,   -999.0, 9, -999.0000, 9,   -999.00, -999.000, 9, -999.000,   -999.0, 9,   -999.0,  -999.00, 9,   -999.0,   2.0844, 27.866,   2.3626, 2, 3399.9, 2, 237.14, 2, -999, -999, -999, -999, -999, 9,  -999.00, 9, -999, -999, 9, -999
49NZ20031106, A10, 63, 1, 11, 12047, 2, 20031123, 653, -29.9990, -8.1630, 3937,   3499.0, 2,   2.3642, 2,  34.8765, 2,  34.8765, 2,    228.4, 1,    236.7, 2,    50.92, 2,    23.37, 2,     0.00, 2,     1.61, 2, -999.000, 9, -999.000, 9, -999.000, 9,   -999.0, 9,   -999.0, 9, -999.0000, 9,   -999.00, -999.000, 9, -999.000,   -999.0, 9,   -999.0,  -999.00, 9,   -999.0,   2.0755, 27.8678,   2.3642, 2, 3498.9, 2, 236.69, 2, 0.23, 0.1, 0.01, 0.01, -999, 9,  -999.00, 9, -999, -999, 9, -999
49NZ20031106, A10, 63, 1, 7, 12043, 9, 20031123, 653, -29.9990, -8.1630, 3937,   3601.6, 2,   2.3667, 2,  34.8777, 2, -999.0000, 9,    228.4, 1,   -999.0, 9,  -999.00, 9,  -999.00, 9,  -999.00, 9,  -999.00, 9, -999.000, 9, -999.000, 9, -999.000, 9,   -999.0, 9,   -999.0, 9, -999.0000, 9,   -999.00, -999.000, 9, -999.000,   -999.0, 9,   -999.0,  -999.00, 9,   -999.0,   2.0668, 27.8695,   2.3668, 2, 3601.6, 2, 236.26, 2, -999, -999, -999, -999, -999, 9,  -999.00, 9, -999, -999, 9, -999
49NZ20031106, A10, 63, 1, 10, 12046, 2, 20031123, 653, -29.9990, -8.1630, 3937,   3752.3, 2,   2.3754, 2,  34.8788, 2,  34.8788, 2,    228.5, 1,    235.9, 2,    51.30, 2,    23.38, 2,     0.00, 2,     1.61, 2, -999.000, 9, -999.000, 9, -999.000, 9,   -999.0, 9,   -999.0, 9, -999.0000, 9,   -999.00, -999.000, 9, -999.000,   -999.0, 9,   -999.0,  -999.00, 9,   -999.0,   2.0587, 27.871,   2.3755, 2, 3752.3, 2, 235.7, 2, 0.23, 0.1, 0.01, 0.01, -999, 9,  -999.00, 9, -999, -999, 9, -999
49NZ20031106, A10, 63, 1, 9, 12045, 2, 20031123, 653, -29.9990, -8.1630, 3937,   3980.6, 2,   2.3821, 2,  34.8790, 2,  34.8788, 2,    229.2, 1,    234.8, 2,    51.98, 2,    23.53, 2,    -0.01, 2,     1.61, 2, -999.000, 9, -999.000, 9, -999.000, 9,   -999.0, 9,   -999.0, 9, -999.0000, 9,   -999.00, -999.000, 9, -999.000,   -999.0, 9,   -999.0,  -999.00, 9,   -999.0,   2.0395, 27.8726,   2.3822, 2, 3980.6, 2, 234.76, 2, 0.23, 0.1, 0.01, 0.01, -999, 9,  -999.00, 9, -999, -999, 9, -999