BOTTLE,20220818CCHSIOAMB
EXPOCODE,SECT_ID,STNNBR,CASTNO,SAMPNO,BTLNBR,BTLNBR_FLAG_W,DATE,TIME,LATITUDE,LONGITUDE,DEPTH,CTDPRS,CTDPRS_FLAG_W,CTDTMP,CTDTMP_FLAG_W,CTDSAL,CTDSAL_FLAG_W,SALNTY,SALNTY_FLAG_W,CTDOXY,CTDOXY_FLAG_W,OXYGEN,OXYGEN_FLAG_W,SILCAT,SILCAT_FLAG_W,NITRAT,NITRAT_FLAG_W,NITRIT,NITRIT_FLAG_W,PHSPHT,PHSPHT_FLAG_W,CFC-11,CFC-11_FLAG_W,CFC-12,CFC-12_FLAG_W,CFC113,CFC113_FLAG_W,TCARBN,TCARBN_FLAG_W,ALKALI,ALKALI_FLAG_W,PH_TOT,PH_TOT_FLAG_W,PH_TMP,TRITUM,TRITUM_FLAG_W,TRITER,DELC14,DELC14_FLAG_W,C14ERR,DELC13,DELC13_FLAG_W,C13ERR,THETA,SIG0,SBE35,SBE35_FLAG_W,DWNPRS,DWNPRS_FLAG_W,DWNOXY,DWNOXY_FLAG_W,SILUNC,NRAUNC,NRIUNC,PHPUNC,TOC,TOC_FLAG_W,CS-137,CS-137_FLAG_W,CS137ER,PLUTO,PLUTO_FLAG_W,PLUTOER
,,,,,,,,,,,METERS,DBAR,,ITS-90,,PSS-78,,PSS-78,,UMOL/KG,,UMOL/KG,,UMOL/KG,,UMOL/KG,,UMOL/KG,,UMOL/KG,,PMOL/KG,,PMOL/KG,,PMOL/KG,,UMOL/KG,,UMOL/KG,,,,DEG C,TU,,TU,/MILLE,,/MILLE,/MILLE,,/MILLE,DEG C,KG/M^3,ITS-90,,DBAR,,UMOL/KG,,UMOL/KG,UMOL/KG,UMOL/KG,UMOL/KG,UMOL/KG,,BQ/M^3,,BQ/M^3,MBQ/M^3,,MBQ/M^3
49NZ20031106, A10, 18, 1, 36, 12048, 2, 20031112, 1239, -29.9988, -36.4957, 1772,      9.3, 2,  20.0947, 2,  35.9572, 2,  35.9572, 2,    218.3, 1,    229.4, 2,     0.81, 2,    -0.02, 2,     0.01, 2,     0.05, 2,    2.328, 2,    1.341, 2,    0.344, 4,   2054.8, 2,   2364.0, 2,    8.0311, 2,     25.00, -999.000, 9, -999.000,   -999.0, 9,   -999.0,  -999.00, 9,   -999.0,  20.0930, 25.4695,  20.0968, 2, 2.2, 2, 230.17, 2, 0.12, 0.03, 0.01, 0.03, -999, 9,  -999.00, 9, -999, -999, 9, -999
49NZ20031106, A10, 18, 1, 35, 12047, 2, 20031112, 1239, -29.9988, -36.4957, 1772,     48.9, 2,  19.8001, 2,  35.9745, 2,  35.9746, 2,    219.7, 1,    230.8, 2,     0.84, 2,    -0.05, 2,     0.01, 2,     0.05, 2,    2.373, 2,    1.367, 2,    0.350, 4,   2055.6, 6,   2357.2, 2,    8.0312, 2,     25.00, -999.000, 9, -999.000,   -999.0, 9,   -999.0,  -999.00, 9,   -999.0,  19.7911, 25.5624,  19.7997, 2, 48.2, 2, 231.55, 2, 0.12, 0.03, 0.01, 0.03, -999, 9,  -999.00, 9, -999, -999, 9, -999
49NZ20031106, A10, 18, 1, 34, 12046, 2, 20031112, 1239, -29.9988, -36.4957, 1772,     99.8, 2,  19.0631, 2,  35.9519, 2,  35.9527, 2,    220.2, 1,    231.5, 2,     0.82, 2,    -0.05, 2,     0.01, 2,     0.07, 2,    2.387, 2,    1.357, 2,    0.344, 4,   2057.9, 2,   2359.6, 6,    8.0275, 2,     25.00, -999.000, 9, -999.000,   -999.0, 9,   -999.0,  -999.00, 9,   -999.0,  19.0452, 25.7392,  19.0639, 2, 99.3, 2, 231.91, 2, 0.12, 0.03, 0.01, 0.03, -999, 9,  -999.00, 9, -999, -999, 9, -999
49NZ20031106, A10, 18, 1, 33, 12045, 2, 20031112, 1239, -29.9988, -36.4957, 1772,    151.6, 2,  17.7230, 2,  35.8033, 2,  35.8033, 2,    215.4, 1,    226.5, 2,     0.90, 2,     0.38, 2,     0.08, 2,     0.14, 2,    2.596, 2,    1.477, 2,    0.266, 4,   2071.9, 2,   2351.8, 2,    7.9940, 6,     25.00, -999.000, 9, -999.000,   -999.0, 9,   -999.0,  -999.00, 9,   -999.0,  17.6971, 25.9632,  17.7241, 2, 147.7, 2, 224.9, 2, 0.12, 0.03, 0.01, 0.02, -999, 9,  -999.00, 9, -999, -999, 9, -999
49NZ20031106, A10, 18, 1, 32, 12044, 2, 20031112, 1239, -29.9988, -36.4957, 1772,    200.1, 2,  16.2647, 2,  35.6292, 2,  35.6326, 2,    207.7, 1,    217.2, 2,     1.42, 2,     2.22, 2,     0.02, 2,     0.32, 2,    2.681, 2,    1.517, 2,    0.170, 4,   2090.0, 2,   2338.4, 2,    7.9466, 2,     25.00, -999.000, 9, -999.000,   -999.0, 9,   -999.0,  -999.00, 9,   -999.0,  16.2325, 26.1783,  16.2586, 2, 199.6, 2, 217.01, 2, 0.12, 0.04, 0.01, 0.01, -999, 9,  -999.00, 9, -999, -999, 9, -999
49NZ20031106, A10, 18, 1, 31, 12043, 2, 20031112, 1239, -29.9988, -36.4957, 1772,    249.9, 2,  15.2346, 2,  35.5180, 2,  35.5235, 2,    211.9, 1,    221.4, 2,     1.96, 2,     3.80, 2,     0.01, 2,     0.42, 2,    2.848, 6,    1.620, 6,    0.060, 4,   2094.4, 2,   2335.2, 2,    7.9293, 2,     25.00, -999.000, 9, -999.000,   -999.0, 9,   -999.0,  -999.00, 9,   -999.0,  15.1961, 26.327,  15.2315, 2, 249.7, 2, 220.54, 2, 0.12, 0.04, 0.01, 0.01, -999, 9,  -999.00, 9, -999, -999, 9, -999
49NZ20031106, A10, 18, 1, 30, 12042, 2, 20031112, 1239, -29.9988, -36.4957, 1772,    301.1, 2,  14.6685, 2,  35.4269, 2,  35.4262, 2,    212.2, 1,    221.3, 2,     2.11, 2,     4.82, 2,     0.02, 2,     0.48, 2,    2.884, 2,    1.628, 2,    0.064, 4,   2096.2, 2,   2326.8, 2,    7.9154, 2,     25.00, -999.000, 9, -999.000,   -999.0, 9,   -999.0,  -999.00, 9,   -999.0,  14.6233, 26.3838,  14.6688, 2, 300.7, 2, 220.95, 2, 0.12, 0.05, 0.01, 0.01, -999, 9,  -999.00, 9, -999, -999, 9, -999
49NZ20031106, A10, 18, 1, 29, 12041, 2, 20031112, 1239, -29.9988, -36.4957, 1772,    400.6, 2,  12.6525, 2,  35.1515, 2,  35.1519, 2,    205.0, 1,    213.3, 2,     3.41, 2,    10.14, 2,     0.01, 2,     0.79, 2,    2.945, 2,    1.595, 2,    0.059, 4,   2114.5, 2,   2313.6, 2,    7.8565, 2,     25.00, -999.000, 9, -999.000,   -999.0, 9,   -999.0,  -999.00, 9,   -999.0,  12.5979, 26.5896,  12.6538, 2, 404.7, 2, 214.15, 2, 0.13, 0.06, 0.01, 0.01, -999, 9,  -999.00, 9, -999, -999, 9, -999
49NZ20031106, A10, 18, 1, 28, 12040, 2, 20031112, 1239, -29.9988, -36.4957, 1772,    504.0, 2,  10.5906, 2,  34.8832, 2,  34.8857, 2,    199.8, 1,    207.3, 2,     5.76, 2,    15.66, 2,     0.01, 2,     1.13, 2,    2.890, 2,    1.514, 2,    0.045, 4,   2132.6, 2,   2302.1, 2,    7.7971, 2,     25.00, -999.000, 9, -999.000,   -999.0, 9,   -999.0,  -999.00, 9,   -999.0,  10.5291, 26.7689,  10.5843, 2, 507.9, 2, 207.79, 2, 0.13, 0.08, 0.01, 0.01, -999, 9,  -999.00, 9, -999, -999, 9, -999
49NZ20031106, A10, 18, 1, 27, 12039, 2, 20031112, 1239, -29.9988, -36.4957, 1772,    601.3, 2,   8.6391, 2,  34.6497, 2,  34.6512, 2,    199.8, 1,    206.6, 2,     9.07, 2,    20.56, 2,     0.01, 2,     1.45, 2,    2.869, 2,    1.463, 2,    0.069, 4,   2146.7, 2,   2293.8, 2,    7.7420, 2,     25.00, -999.000, 9, -999.000,   -999.0, 9,   -999.0,  -999.00, 9,   -999.0,   8.5741, 26.9106,   8.6389, 2, 604.2, 2, 206.28, 2, 0.14, 0.09, 0.01, 0.01, -999, 9,  -999.00, 9, -999, -999, 9, -999
49NZ20031106, A10, 18, 1, 26, 12038, 2, 20031112, 1239, -29.9988, -36.4957, 1772,    703.0, 2,   7.3667, 2,  34.5125, 2,  34.5154, 2,    211.5, 1,    218.3, 2,    10.93, 2,    22.64, 2,     0.01, 2,     1.58, 2,    2.983, 2,    1.518, 2,    0.116, 4,   2152.2, 6,   2288.3, 2,    7.7256, 2,     25.00, -999.000, 9, -999.000,   -999.0, 9,   -999.0,  -999.00, 9,   -999.0,   7.2971, 26.994,   7.3340, 2, 704.2, 2, 217.89, 2, 0.14, 0.1, 0.01, 0.01, -999, 9,  -999.00, 9, -999, -999, 9, -999
49NZ20031106, A10, 18, 1, 25, 12037, 2, 20031112, 1239, -29.9988, -36.4957, 1772,    800.6, 2,   5.8208, 2,  34.3715, 2,  34.3719, 2,    220.1, 1,    227.4, 2,    15.21, 2,    25.69, 2,     0.01, 2,     1.78, 2,    2.929, 2,    1.460, 2,    0.122, 4,   2160.5, 2,   2285.7, 6,    7.6980, 2,     25.00, -999.000, 9, -999.000,   -999.0, 9,   -999.0,  -999.00, 9,   -999.0,   5.7504, 27.0868,   5.8193, 2, 803.9, 2, 225.03, 2, 0.15, 0.1, 0.01, 0.01, -999, 9,  -999.00, 9, -999, -999, 9, -999
49NZ20031106, A10, 18, 1, 24, 12036, 2, 20031112, 1239, -29.9988, -36.4957, 1772,    900.4, 2,   4.6076, 2,  34.3157, 2,  34.3154, 2,    219.4, 1,    226.7, 2,    22.77, 2,    28.41, 2,     0.01, 2,     1.96, 2,    2.419, 2,    1.163, 2,    0.109, 4,   2176.0, 2,   2282.0, 2,    7.6688, 6,     25.00, -999.000, 9, -999.000,   -999.0, 9,   -999.0,  -999.00, 9,   -999.0,   4.5362, 27.1844,   4.6080, 2, 901.6, 2, 226.61, 2, 0.17, 0.11, 0.01, 0.01, -999, 9,  -999.00, 9, -999, -999, 9, -999
49NZ20031106, A10, 18, 1, 3, 12012, 9, 20031112, 1239, -29.9988, -36.4957, 1772,    999.8, 2,   3.9649, 2,  34.3206, 2, -999.0000, 9,    213.0, 1,   -999.0, 9,  -999.00, 9,  -999.00, 9,  -999.00, 9,  -999.00, 9, -999.000, 9, -999.000, 9, -999.000, 9,   -999.0, 9,   -999.0, 9, -999.0000, 9,   -999.00, -999.000, 9, -999.000,   -999.0, 9,   -999.0,  -999.00, 9,   -999.0,   3.8898, 27.2568,   3.9653, 2, 1001.3, 2, 220.06, 2, -999, -999, -999, -999, -999, 9,  -999.00, 9, -999, -999, 9, -999
49NZ20031106, A10, 18, 1, 1, 12013, 9, 20031112, 1239, -29.9988, -36.4957, 1772,    999.9, 2,   3.9666, 2,  34.3206, 2, -999.0000, 9,    212.9, 1,   -999.0, 9,  -999.00, 9,  -999.00, 9,  -999.00, 9,  -999.00, 9, -999.000, 9, -999.000, 9, -999.000, 9,   -999.0, 9,   -999.0, 9, -999.0000, 9,   -999.00, -999.000, 9, -999.000,   -999.0, 9,   -999.0,  -999.00, 9,   -999.0,   3.8915, 27.2564,   3.9676, 2, 1001.4, 2, 220.05, 2, -999, -999, -999, -999, -999, 9,  -999.00, 9, -999, -999, 9, -999
49NZ20031106, A10, 18, 1, 23, 12035, 2, 20031112, 1239, -29.9988, -36.4957, 1772,   1000.1, 2,   3.9673, 2,  34.3206, 2,  34.3204, 2,    212.9, 1,    219.9, 2,    29.72, 2,    30.10, 2,     0.01, 2,     2.08, 2,    1.919, 6,    0.892, 6,    0.081, 4,   2188.6, 2,   2295.4, 2,    7.6486, 2,     25.00, -999.000, 9, -999.000,   -999.0, 9,   -999.0,  -999.00, 9,   -999.0,   3.8922, 27.2566,   3.9665, 2, 1001.5, 2, 220.04, 2, 0.18, 0.12, 0.01, 0.02, -999, 9,  -999.00, 9, -999, -999, 9, -999
49NZ20031106, A10, 18, 1, 15, 12027, 9, 20031112, 1239, -29.9988, -36.4957, 1772,   1000.3, 2,   3.9621, 2,  34.3206, 2, -999.0000, 9,    213.1, 1,   -999.0, 9,  -999.00, 9,  -999.00, 9,  -999.00, 9,  -999.00, 9, -999.000, 9, -999.000, 9, -999.000, 9,   -999.0, 9,   -999.0, 9, -999.0000, 9,   -999.00, -999.000, 9, -999.000,   -999.0, 9,   -999.0,  -999.00, 9,   -999.0,   3.8870, 27.2573,   3.9621, 2, 1001.8, 2, 220.02, 2, -999, -999, -999, -999, -999, 9,  -999.00, 9, -999, -999, 9, -999
49NZ20031106, A10, 18, 1, 13, 12025, 9, 20031112, 1239, -29.9988, -36.4957, 1772,   1000.3, 2,   3.9628, 2,  34.3207, 2, -999.0000, 9,    213.0, 1,   -999.0, 9,  -999.00, 9,  -999.00, 9,  -999.00, 9,  -999.00, 9, -999.000, 9, -999.000, 9, -999.000, 9,   -999.0, 9,   -999.0, 9, -999.0000, 9,   -999.00, -999.000, 9, -999.000,   -999.0, 9,   -999.0,  -999.00, 9,   -999.0,   3.8877, 27.257,   3.9621, 2, 1001.8, 2, 220.02, 2, -999, -999, -999, -999, -999, 9,  -999.00, 9, -999, -999, 9, -999
49NZ20031106, A10, 18, 1, 7, 12019, 9, 20031112, 1239, -29.9988, -36.4957, 1772,   1000.4, 2,   3.9671, 2,  34.3205, 2, -999.0000, 9,    213.0, 1,   -999.0, 9,  -999.00, 9,  -999.00, 9,  -999.00, 9,  -999.00, 9, -999.000, 9, -999.000, 9, -999.000, 9,   -999.0, 9,   -999.0, 9, -999.0000, 9,   -999.00, -999.000, 9, -999.000,   -999.0, 9,   -999.0,  -999.00, 9,   -999.0,   3.8920, 27.2566,   3.9664, 2, 1001.8, 2, 220.02, 2, -999, -999, -999, -999, -999, 9,  -999.00, 9, -999, -999, 9, -999
49NZ20031106, A10, 18, 1, 17, 12029, 9, 20031112, 1239, -29.9988, -36.4957, 1772,   1000.7, 2,   3.9607, 2,  34.3206, 2, -999.0000, 9,    213.0, 1,   -999.0, 9,  -999.00, 9,  -999.00, 9,  -999.00, 9,  -999.00, 9, -999.000, 9, -999.000, 9, -999.000, 9,   -999.0, 9,   -999.0, 9, -999.0000, 9,   -999.00, -999.000, 9, -999.000,   -999.0, 9,   -999.0,  -999.00, 9,   -999.0,   3.8856, 27.2573,   3.9611, 2, 1002.2, 2, 220, 2, -999, -999, -999, -999, -999, 9,  -999.00, 9, -999, -999, 9, -999
49NZ20031106, A10, 18, 1, 11, 12023, 9, 20031112, 1239, -29.9988, -36.4957, 1772,   1001.0, 2,   3.9636, 2,  34.3207, 2, -999.0000, 9,    212.9, 1,   -999.0, 9,  -999.00, 9,  -999.00, 9,  -999.00, 9,  -999.00, 9, -999.000, 9, -999.000, 9, -999.000, 9,   -999.0, 9,   -999.0, 9, -999.0000, 9,   -999.00, -999.000, 9, -999.000,   -999.0, 9,   -999.0,  -999.00, 9,   -999.0,   3.8884, 27.257,   3.9622, 2, 1002.4, 2, 220, 2, -999, -999, -999, -999, -999, 9,  -999.00, 9, -999, -999, 9, -999
49NZ20031106, A10, 18, 1, 6, 12018, 9, 20031112, 1239, -29.9988, -36.4957, 1772,   1001.1, 2,   3.9655, 2,  34.3205, 2, -999.0000, 9,    213.1, 1,   -999.0, 9,  -999.00, 9,  -999.00, 9,  -999.00, 9,  -999.00, 9, -999.000, 9, -999.000, 9, -999.000, 9,   -999.0, 9,   -999.0, 9, -999.0000, 9,   -999.00, -999.000, 9, -999.000,   -999.0, 9,   -999.0,  -999.00, 9,   -999.0,   3.8903, 27.2568,   3.9655, 2, 1002.4, 2, 220, 2, -999, -999, -999, -999, -999, 9,  -999.00, 9, -999, -999, 9, -999
49NZ20031106, A10, 18, 1, 8, 12020, 9, 20031112, 1239, -29.9988, -36.4957, 1772,   1001.2, 2,   3.9632, 2,  34.3207, 2, -999.0000, 9,    213.2, 1,   -999.0, 9,  -999.00, 9,  -999.00, 9,  -999.00, 9,  -999.00, 9, -999.000, 9, -999.000, 9, -999.000, 9,   -999.0, 9,   -999.0, 9, -999.0000, 9,   -999.00, -999.000, 9, -999.000,   -999.0, 9,   -999.0,  -999.00, 9,   -999.0,   3.8880, 27.2571,   3.9625, 2, 1002.5, 2, 220, 2, -999, -999, -999, -999, -999, 9,  -999.00, 9, -999, -999, 9, -999
49NZ20031106, A10, 18, 1, 9, 12015, 9, 20031112, 1239, -29.9988, -36.4957, 1772,   1001.4, 2,   3.9610, 2,  34.3207, 2, -999.0000, 9,    213.1, 1,   -999.0, 9,  -999.00, 9,  -999.00, 9,  -999.00, 9,  -999.00, 9, -999.000, 9, -999.000, 9, -999.000, 9,   -999.0, 9,   -999.0, 9, -999.0000, 9,   -999.00, -999.000, 9, -999.000,   -999.0, 9,   -999.0,  -999.00, 9,   -999.0,   3.8858, 27.2573,   3.9606, 2, 1002.7, 2, 219.98, 2, -999, -999, -999, -999, -999, 9,  -999.00, 9, -999, -999, 9, -999
49NZ20031106, A10, 18, 1, 5, 12017, 9, 20031112, 1239, -29.9988, -36.4957, 1772,   1001.5, 2,   3.9649, 2,  34.3206, 2, -999.0000, 9,    212.8, 1,   -999.0, 9,  -999.00, 9,  -999.00, 9,  -999.00, 9,  -999.00, 9, -999.000, 9, -999.000, 9, -999.000, 9,   -999.0, 9,   -999.0, 9, -999.0000, 9,   -999.00, -999.000, 9, -999.000,   -999.0, 9,   -999.0,  -999.00, 9,   -999.0,   3.8897, 27.257,   3.9649, 2, 1002.7, 2, 219.98, 2, -999, -999, -999, -999, -999, 9,  -999.00, 9, -999, -999, 9, -999
49NZ20031106, A10, 18, 1, 2, 12014, 9, 20031112, 1239, -29.9988, -36.4957, 1772,   1001.5, 2,   3.9640, 2,  34.3207, 2, -999.0000, 9,    213.0, 1,   -999.0, 9,  -999.00, 9,  -999.00, 9,  -999.00, 9,  -999.00, 9, -999.000, 9, -999.000, 9, -999.000, 9,   -999.0, 9,   -999.0, 9, -999.0000, 9,   -999.00, -999.000, 9, -999.000,   -999.0, 9,   -999.0,  -999.00, 9,   -999.0,   3.8888, 27.2569,   3.9648, 2, 1002.7, 2, 219.98, 2, -999, -999, -999, -999, -999, 9,  -999.00, 9, -999, -999, 9, -999
49NZ20031106, A10, 18, 1, 20, 12032, 9, 20031112, 1239, -29.9988, -36.4957, 1772,   1001.6, 2,   3.9584, 2,  34.3208, 2, -999.0000, 9,    213.1, 1,   -999.0, 9,  -999.00, 9,  -999.00, 9,  -999.00, 9,  -999.00, 9, -999.000, 9, -999.000, 9, -999.000, 9,   -999.0, 9,   -999.0, 9, -999.0000, 9,   -999.00, -999.000, 9, -999.000,   -999.0, 9,   -999.0,  -999.00, 9,   -999.0,   3.8832, 27.2576,   3.9588, 2, 1002.9, 2, 219.98, 2, -999, -999, -999, -999, -999, 9,  -999.00, 9, -999, -999, 9, -999
49NZ20031106, A10, 18, 1, 4, 12016, 9, 20031112, 1239, -29.9988, -36.4957, 1772,   1001.8, 2,   3.9628, 2,  34.3207, 2, -999.0000, 9,    213.0, 1,   -999.0, 9,  -999.00, 9,  -999.00, 9,  -999.00, 9,  -999.00, 9, -999.000, 9, -999.000, 9, -999.000, 9,   -999.0, 9,   -999.0, 9, -999.0000, 9,   -999.00, -999.000, 9, -999.000,   -999.0, 9,   -999.0,  -999.00, 9,   -999.0,   3.8876, 27.2571,   3.9633, 2, 1003, 2, 219.97, 2, -999, -999, -999, -999, -999, 9,  -999.00, 9, -999, -999, 9, -999
49NZ20031106, A10, 18, 1, 18, 12030, 9, 20031112, 1239, -29.9988, -36.4957, 1772,   1002.2, 2,   3.9585, 2,  34.3208, 2, -999.0000, 9,    213.0, 1,   -999.0, 9,  -999.00, 9,  -999.00, 9,  -999.00, 9,  -999.00, 9, -999.000, 9, -999.000, 9, -999.000, 9,   -999.0, 9,   -999.0, 9, -999.0000, 9,   -999.00, -999.000, 9, -999.000,   -999.0, 9,   -999.0,  -999.00, 9,   -999.0,   3.8833, 27.2577,   3.9593, 2, 1003.4, 2, 219.94, 2, -999, -999, -999, -999, -999, 9,  -999.00, 9, -999, -999, 9, -999
49NZ20031106, A10, 18, 1, 12, 12024, 9, 20031112, 1239, -29.9988, -36.4957, 1772,   1002.3, 2,   3.9577, 2,  34.3208, 2, -999.0000, 9,    212.9, 1,   -999.0, 9,  -999.00, 9,  -999.00, 9,  -999.00, 9,  -999.00, 9, -999.000, 9, -999.000, 9, -999.000, 9,   -999.0, 9,   -999.0, 9, -999.0000, 9,   -999.00, -999.000, 9, -999.000,   -999.0, 9,   -999.0,  -999.00, 9,   -999.0,   3.8825, 27.2577,   3.9584, 2, 1003.5, 2, 219.93, 2, -999, -999, -999, -999, -999, 9,  -999.00, 9, -999, -999, 9, -999
49NZ20031106, A10, 18, 1, 14, 12026, 9, 20031112, 1239, -29.9988, -36.4957, 1772,   1002.8, 2,   3.9579, 2,  34.3207, 2, -999.0000, 9,    213.0, 1,   -999.0, 9,  -999.00, 9,  -999.00, 9,  -999.00, 9,  -999.00, 9, -999.000, 9, -999.000, 9, -999.000, 9,   -999.0, 9,   -999.0, 9, -999.0000, 9,   -999.00, -999.000, 9, -999.000,   -999.0, 9,   -999.0,  -999.00, 9,   -999.0,   3.8826, 27.2579,   3.9583, 2, 1003.9, 2, 219.9, 2, -999, -999, -999, -999, -999, 9,  -999.00, 9, -999, -999, 9, -999
49NZ20031106, A10, 18, 1, 22, 12034, 2, 20031112, 1239, -29.9988, -36.4957, 1772,   1199.8, 2,   3.2668, 2,  34.3991, 2,  34.3994, 2,    196.7, 1,    202.7, 2,    43.17, 2,    32.05, 2,     0.01, 2,     2.22, 2,    0.943, 2,    0.441, 2,    0.022, 4,   2211.5, 2,   2306.1, 2,    7.6203, 2,     25.00, -999.000, 9, -999.000,   -999.0, 9,   -999.0,  -999.00, 9,   -999.0,   3.1812, 27.3888,   3.2670, 2, 1200.1, 2, 202.8, 2, 0.21, 0.12, 0.01, 0.02, -999, 9,  -999.00, 9, -999, -999, 9, -999
49NZ20031106, A10, 18, 1, 21, 12033, 2, 20031112, 1239, -29.9988, -36.4957, 1772,   1400.7, 2,   2.9973, 2,  34.5158, 2,  34.5152, 2,    186.4, 1,    192.0, 2,    51.90, 2,    32.11, 2,     0.01, 2,     2.22, 2,    0.325, 2,    0.164, 2,    0.000, 4,   2224.6, 2,   2321.2, 2,    7.6102, 2,     25.00, -999.000, 9, -999.000,   -999.0, 9,   -999.0,  -999.00, 9,   -999.0,   2.8978, 27.5081,   2.9970, 2, 1401.7, 2, 191.9, 2, 0.23, 0.12, 0.01, 0.02, -999, 9,  -999.00, 9, -999, -999, 9, -999
49NZ20031106, A10, 18, 1, 16, 12028, 2, 20031112, 1239, -29.9988, -36.4957, 1772,   1600.5, 2,   2.8871, 2,  34.6429, 2,  34.6435, 2,    189.9, 1,    194.9, 2,    53.75, 2,    30.23, 2,     0.01, 2,     2.09, 2,    0.104, 2,    0.042, 2,    0.000, 4,   2214.8, 3,   2323.0, 2,    7.6280, 2,     25.00, -999.000, 9, -999.000,   -999.0, 9,   -999.0,  -999.00, 9,   -999.0,   2.7720, 27.621,   2.8871, 2, 1600.9, 2, 194.71, 2, 0.24, 0.12, 0.01, 0.02, -999, 9,  -999.00, 9, -999, -999, 9, -999
49NZ20031106, A10, 18, 1, 10, 12022, 2, 20031112, 1239, -29.9988, -36.4957, 1772,   1601.6, 2,   2.8869, 2,  34.6430, 2,  34.6439, 2,    190.0, 1,    194.8, 2,    53.66, 2,    30.22, 2,     0.02, 2,     2.09, 2,    0.099, 2,    0.064, 2,    0.000, 4,   2223.1, 2,   2324.7, 2,    7.6272, 2,     25.00, -999.000, 9, -999.000,   -999.0, 9,   -999.0,  -999.00, 9,   -999.0,   2.7717, 27.6209,   2.8869, 2, 1601.8, 2, 194.77, 2, 0.24, 0.12, 0.01, 0.02, -999, 9,  -999.00, 9, -999, -999, 9, -999
49NZ20031106, A10, 18, 1, 19, 12031, 2, 20031112, 1239, -29.9988, -36.4957, 1772,   1772.1, 2,   2.8521, 2,  34.7429, 2,  34.7431, 2,    202.0, 1,    206.9, 2,    50.34, 2,    27.79, 2,     0.01, 2,     1.91, 2,    0.026, 2,    0.020, 2,    0.000, 4,   2226.5, 2,   2328.1, 2,    7.6571, 2,     25.00, -999.000, 9, -999.000,   -999.0, 9,   -999.0,  -999.00, 9,   -999.0,   2.7225, 27.7054,   2.8519, 2, 1772.2, 2, 206.72, 2, 0.23, 0.11, 0.01, 0.01, -999, 9,  -999.00, 9, -999, -999, 9, -999