BOTTLE,20220818CCHSIOAMB
EXPOCODE,SECT_ID,STNNBR,CASTNO,SAMPNO,BTLNBR,BTLNBR_FLAG_W,DATE,TIME,LATITUDE,LONGITUDE,DEPTH,CTDPRS,CTDPRS_FLAG_W,CTDTMP,CTDTMP_FLAG_W,CTDSAL,CTDSAL_FLAG_W,SALNTY,SALNTY_FLAG_W,CTDOXY,CTDOXY_FLAG_W,OXYGEN,OXYGEN_FLAG_W,SILCAT,SILCAT_FLAG_W,NITRAT,NITRAT_FLAG_W,NITRIT,NITRIT_FLAG_W,PHSPHT,PHSPHT_FLAG_W,CFC-11,CFC-11_FLAG_W,CFC-12,CFC-12_FLAG_W,CFC113,CFC113_FLAG_W,TCARBN,TCARBN_FLAG_W,ALKALI,ALKALI_FLAG_W,PH_TOT,PH_TOT_FLAG_W,PH_TMP,TRITUM,TRITUM_FLAG_W,TRITER,DELC14,DELC14_FLAG_W,C14ERR,DELC13,DELC13_FLAG_W,C13ERR,THETA,SIG0,SBE35,SBE35_FLAG_W,DWNPRS,DWNPRS_FLAG_W,DWNOXY,DWNOXY_FLAG_W,SILUNC,NRAUNC,NRIUNC,PHPUNC,TOC,TOC_FLAG_W,CS-137,CS-137_FLAG_W,CS137ER,PLUTO,PLUTO_FLAG_W,PLUTOER
,,,,,,,,,,,METERS,DBAR,,ITS-90,,PSS-78,,PSS-78,,UMOL/KG,,UMOL/KG,,UMOL/KG,,UMOL/KG,,UMOL/KG,,UMOL/KG,,PMOL/KG,,PMOL/KG,,PMOL/KG,,UMOL/KG,,UMOL/KG,,,,DEG C,TU,,TU,/MILLE,,/MILLE,/MILLE,,/MILLE,DEG C,KG/M^3,ITS-90,,DBAR,,UMOL/KG,,UMOL/KG,UMOL/KG,UMOL/KG,UMOL/KG,UMOL/KG,,BQ/M^3,,BQ/M^3,MBQ/M^3,,MBQ/M^3
49NZ20031106, A10, 19, 1, 2, 12014, 2, 20031112, 1521, -29.9963, -36.1640, 1257,      5.3, 2,  20.1532, 2,  35.9821, 2, -999.0000, 9,    217.9, 1,   -999.0, 9,  -999.00, 9,  -999.00, 9,  -999.00, 9,  -999.00, 9, -999.000, 9, -999.000, 9, -999.000, 9,   -999.0, 9,   -999.0, 9, -999.0000, 9,   -999.00, -999.000, 9, -999.000,   -999.0, 9,   -999.0,  -999.00, 9,   -999.0,  20.1522, 25.4725,  20.1512, 2, 6.1, 2, 230.65, 2, -999, -999, -999, -999, -999, 9,  -999.00, 9, -999, -999, 9, -999
49NZ20031106, A10, 19, 1, 3, 12012, 2, 20031112, 1521, -29.9963, -36.1640, 1257,      5.4, 2,  20.1522, 2,  35.9822, 2, -999.0000, 9,    217.7, 1,   -999.0, 9,  -999.00, 9,  -999.00, 9,  -999.00, 9,  -999.00, 9, -999.000, 9, -999.000, 9, -999.000, 9,   -999.0, 9,   -999.0, 9, -999.0000, 9,   -999.00, -999.000, 9, -999.000,   -999.0, 9,   -999.0,  -999.00, 9,   -999.0,  20.1512, 25.4728,  20.1531, 2, 6.4, 2, 230.61, 2, -999, -999, -999, -999, -999, 9,  -999.00, 9, -999, -999, 9, -999
49NZ20031106, A10, 19, 1, 36, 12048, 2, 20031112, 1521, -29.9963, -36.1640, 1257,      9.6, 2,  20.0824, 2,  35.9820, 2,  35.9824, 2,    218.4, 1,    229.7, 3,     0.85, 2,     0.01, 2,     0.00, 2,     0.05, 2,    2.446, 2,    1.381, 2,    0.264, 4,   2058.6, 2,   2363.1, 2,    8.0289, 2,     25.00, -999.000, 9, -999.000,   -999.0, 9,   -999.0,  -999.00, 9,   -999.0,  20.0806, 25.4913,  20.0829, 2, 10.3, 2, 230.65, 2, 0.12, 0.03, 0.01, 0.03, -999, 9,  -999.00, 9, -999, -999, 9, -999
49NZ20031106, A10, 19, 1, 35, 12047, 2, 20031112, 1521, -29.9963, -36.1640, 1257,     51.4, 2,  19.7447, 2,  36.0016, 2,  36.0011, 2,    219.6, 1,    230.9, 2,     0.84, 2,    -0.01, 2,    -0.01, 2,     0.05, 2,    2.443, 2,    1.361, 2,    0.280, 4,   2056.3, 6,   2361.6, 2,    8.0339, 2,     25.00, -999.000, 9, -999.000,   -999.0, 9,   -999.0,  -999.00, 9,   -999.0,  19.7353, 25.5972,  19.7456, 2, 51.8, 2, 231.98, 2, 0.12, 0.03, 0.01, 0.03, -999, 9,  -999.00, 9, -999, -999, 9, -999
49NZ20031106, A10, 19, 1, 34, 12046, 2, 20031112, 1521, -29.9963, -36.1640, 1257,     99.4, 2,  18.7083, 2,  35.9227, 2,  35.9303, 2,    219.2, 1,    230.7, 2,     0.85, 2,    -0.02, 2,     0.00, 2,     0.07, 2,    2.462, 2,    1.424, 2,    0.245, 4,   2060.5, 2,   2357.1, 6,    8.0193, 2,     25.00, -999.000, 9, -999.000,   -999.0, 9,   -999.0,  -999.00, 9,   -999.0,  18.6907, 25.8088,  18.7010, 2, 100.4, 2, 230.63, 2, 0.12, 0.03, 0.01, 0.03, -999, 9,  -999.00, 9, -999, -999, 9, -999
49NZ20031106, A10, 19, 1, 1, 12013, 2, 20031112, 1521, -29.9963, -36.1640, 1257,    122.6, 2,  18.3646, 2,  35.8867, 2, -999.0000, 9,    219.3, 1,   -999.0, 9,  -999.00, 9,  -999.00, 9,  -999.00, 9,  -999.00, 9, -999.000, 9, -999.000, 9, -999.000, 9,   -999.0, 9,   -999.0, 9, -999.0000, 9,   -999.00, -999.000, 9, -999.000,   -999.0, 9,   -999.0,  -999.00, 9,   -999.0,  18.3432, 25.8681,  18.3614, 2, 124.3, 2, 229.67, 2, -999, -999, -999, -999, -999, 9,  -999.00, 9, -999, -999, 9, -999
49NZ20031106, A10, 19, 1, 33, 12045, 2, 20031112, 1521, -29.9963, -36.1640, 1257,    145.9, 2,  17.8329, 2,  35.8081, 2,  35.8076, 2,    213.7, 1,    224.9, 2,     0.95, 2,     0.42, 2,     0.07, 2,     0.15, 2,    2.581, 2,    1.484, 2,    0.251, 4,   2072.1, 2,   2354.5, 2,    7.9910, 6,     25.00, -999.000, 9, -999.000,   -999.0, 9,   -999.0,  -999.00, 9,   -999.0,  17.8079, 25.9409,  17.8239, 2, 146.4, 2, 224.36, 2, 0.12, 0.03, 0.01, 0.02, -999, 9,  -999.00, 9, -999, -999, 9, -999
49NZ20031106, A10, 19, 1, 32, 12044, 2, 20031112, 1521, -29.9963, -36.1640, 1257,    204.8, 2,  16.0998, 2,  35.6138, 2,  35.6173, 2,    206.4, 1,    216.1, 2,     1.44, 2,     2.66, 2,     0.02, 2,     0.33, 2,    2.802, 2,    1.594, 2,    0.143, 4,   2090.8, 2,   2339.1, 2,    7.9411, 2,     25.00, -999.000, 9, -999.000,   -999.0, 9,   -999.0,  -999.00, 9,   -999.0,  16.0671, 26.2052,  16.1069, 2, 204.5, 2, 215.98, 2, 0.12, 0.04, 0.01, 0.01, -999, 9,  -999.00, 9, -999, -999, 9, -999
49NZ20031106, A10, 19, 1, 31, 12043, 2, 20031112, 1521, -29.9963, -36.1640, 1257,    248.5, 2,  15.0541, 2,  35.4826, 2,  35.4827, 2,    205.8, 1,    214.9, 2,     1.85, 2,     4.79, 2,     0.01, 2,     0.46, 2,    2.896, 6,    1.634, 6,    0.083, 4,   2099.1, 2,   2328.4, 2,    7.9187, 2,     25.00, -999.000, 9, -999.000,   -999.0, 9,   -999.0,  -999.00, 9,   -999.0,  15.0162, 26.341,  15.0533, 2, 248.7, 2, 214.37, 2, 0.12, 0.05, 0.01, 0.01, -999, 9,  -999.00, 9, -999, -999, 9, -999
49NZ20031106, A10, 19, 1, 30, 12042, 2, 20031112, 1521, -29.9963, -36.1640, 1257,    302.7, 2,  14.5271, 2,  35.4111, 2,  35.4103, 2,    207.4, 1,    216.6, 2,     2.12, 2,     5.70, 2,     0.01, 2,     0.51, 2,    2.977, 2,    1.670, 2,    0.071, 4,   2099.7, 2,   2329.2, 2,    7.9068, 2,     25.00, -999.000, 9, -999.000,   -999.0, 9,   -999.0,  -999.00, 9,   -999.0,  14.4819, 26.4022,  14.5272, 2, 302.4, 2, 210.93, 2, 0.12, 0.05, 0.01, 0.01, -999, 9,  -999.00, 9, -999, -999, 9, -999
49NZ20031106, A10, 19, 1, 29, 12041, 2, 20031112, 1521, -29.9963, -36.1640, 1257,    402.8, 2,  13.3241, 2,  35.2654, 2,  35.2641, 2,    204.3, 1,    212.5, 2,     2.83, 2,     8.89, 2,     0.01, 2,     0.70, 2,    3.042, 2,    1.660, 2,    0.066, 4,   2109.3, 2,   2318.3, 2,    7.8738, 2,     25.00, -999.000, 9, -999.000,   -999.0, 9,   -999.0,  -999.00, 9,   -999.0,  13.2672, 26.5439,  13.3254, 2, 401.5, 2, 212.06, 2, 0.13, 0.06, 0.01, 0.01, -999, 9,  -999.00, 9, -999, -999, 9, -999
49NZ20031106, A10, 19, 1, 28, 12040, 2, 20031112, 1521, -29.9963, -36.1640, 1257,    501.8, 2,  11.3727, 2,  34.9859, 2,  34.9850, 2,    200.0, 1,    207.3, 2,     4.93, 2,    13.95, 2,     0.01, 2,     1.02, 2,    3.013, 2,    1.538, 2,    0.114, 4,   2126.1, 2,   2305.1, 2,    7.8151, 2,     25.00, -999.000, 9, -999.000,   -999.0, 9,   -999.0,  -999.00, 9,   -999.0,  11.3086, 26.7077,  11.3712, 2, 500.8, 2, 207.45, 2, 0.13, 0.07, 0.01, 0.01, -999, 9,  -999.00, 9, -999, -999, 9, -999
49NZ20031106, A10, 19, 1, 27, 12039, 2, 20031112, 1521, -29.9963, -36.1640, 1257,    600.6, 2,   9.4132, 2,  34.7399, 2,  34.7413, 2,    202.1, 1,    209.1, 2,     7.41, 2,    18.55, 2,     0.01, 2,     1.31, 2,    3.033, 2,    1.588, 2,    0.082, 4,   2139.8, 2,   2294.7, 2,    7.7681, 2,     25.00, -999.000, 9, -999.000,   -999.0, 9,   -999.0,  -999.00, 9,   -999.0,   9.3449, 26.8557,   9.4158, 2, 600.1, 2, 208.98, 2, 0.14, 0.08, 0.01, 0.01, -999, 9,  -999.00, 9, -999, -999, 9, -999
49NZ20031106, A10, 19, 1, 26, 12038, 2, 20031112, 1521, -29.9963, -36.1640, 1257,    700.3, 2,   8.1291, 2,  34.5951, 2,  34.5935, 2,    205.9, 1,    212.6, 2,     9.75, 2,    21.48, 2,     0.01, 2,     1.50, 2,    2.915, 2,    1.464, 2,    0.123, 4,   2148.2, 6,   2289.0, 2,    7.7374, 2,     25.00, -999.000, 9, -999.000,   -999.0, 9,   -999.0,  -999.00, 9,   -999.0,   8.0557, 26.9465,   8.1302, 2, 700.2, 2, 212.93, 2, 0.14, 0.09, 0.01, 0.01, -999, 9,  -999.00, 9, -999, -999, 9, -999
49NZ20031106, A10, 19, 1, 25, 12037, 2, 20031112, 1521, -29.9963, -36.1640, 1257,    802.9, 2,   6.2073, 2,  34.4106, 2,  34.4120, 2,    209.6, 1,    215.8, 2,    14.79, 2,    25.91, 2,     0.00, 2,     1.78, 2,    2.762, 2,    1.336, 2,    0.126, 4,   2163.0, 2,   2285.6, 6,    7.6902, 2,     25.00, -999.000, 9, -999.000,   -999.0, 9,   -999.0,  -999.00, 9,   -999.0,   6.1343, 27.069,   6.2103, 2, 800.4, 2, 216.87, 2, 0.15, 0.11, 0.01, 0.01, -999, 9,  -999.00, 9, -999, -999, 9, -999
49NZ20031106, A10, 19, 1, 24, 12036, 2, 20031112, 1521, -29.9963, -36.1640, 1257,    901.0, 2,   4.7585, 2,  34.3077, 2,  34.3076, 2,    220.1, 1,    226.8, 2,    20.75, 2,    28.34, 2,     0.00, 2,     1.94, 2,    2.602, 2,    1.267, 2,    0.141, 4,   2171.2, 2,   2285.2, 2,    7.6703, 6,     25.00, -999.000, 9, -999.000,   -999.0, 9,   -999.0,  -999.00, 9,   -999.0,   4.6860, 27.1618,   4.7581, 2, 902, 2, 225.91, 2, 0.16, 0.11, 0.01, 0.01, -999, 9,  -999.00, 9, -999, -999, 9, -999
49NZ20031106, A10, 19, 1, 14, 12026, 9, 20031112, 1521, -29.9963, -36.1640, 1257,   1000.1, 2,   3.9822, 2,  34.3115, 2, -999.0000, 9,    212.2, 1,   -999.0, 9,  -999.00, 9,  -999.00, 9,  -999.00, 9,  -999.00, 9, -999.000, 9, -999.000, 9, -999.000, 9,   -999.0, 9,   -999.0, 9, -999.0000, 9,   -999.00, -999.000, 9, -999.000,   -999.0, 9,   -999.0,  -999.00, 9,   -999.0,   3.9070, 27.2479,   3.9822, 2, 1002.5, 2, 219.31, 2, -999, -999, -999, -999, -999, 9,  -999.00, 9, -999, -999, 9, -999
49NZ20031106, A10, 19, 1, 6, 12018, 9, 20031112, 1521, -29.9963, -36.1640, 1257,   1000.1, 2,   3.9817, 2,  34.3111, 2, -999.0000, 9,    212.2, 1,   -999.0, 9,  -999.00, 9,  -999.00, 9,  -999.00, 9,  -999.00, 9, -999.000, 9, -999.000, 9, -999.000, 9,   -999.0, 9,   -999.0, 9, -999.0000, 9,   -999.00, -999.000, 9, -999.000,   -999.0, 9,   -999.0,  -999.00, 9,   -999.0,   3.9065, 27.2478,   3.9773, 2, 1002.5, 2, 219.31, 2, -999, -999, -999, -999, -999, 9,  -999.00, 9, -999, -999, 9, -999
49NZ20031106, A10, 19, 1, 13, 12025, 9, 20031112, 1521, -29.9963, -36.1640, 1257,   1000.3, 2,   3.9801, 2,  34.3117, 2, -999.0000, 9,    212.2, 1,   -999.0, 9,  -999.00, 9,  -999.00, 9,  -999.00, 9,  -999.00, 9, -999.000, 9, -999.000, 9, -999.000, 9,   -999.0, 9,   -999.0, 9, -999.0000, 9,   -999.00, -999.000, 9, -999.000,   -999.0, 9,   -999.0,  -999.00, 9,   -999.0,   3.9049, 27.2481,   3.9797, 2, 1002.7, 2, 219.28, 2, -999, -999, -999, -999, -999, 9,  -999.00, 9, -999, -999, 9, -999
49NZ20031106, A10, 19, 1, 23, 12035, 2, 20031112, 1521, -29.9963, -36.1640, 1257,   1000.6, 2,   3.9760, 2,  34.3118, 2,  34.3107, 2,    212.6, 1,    218.9, 2,    29.06, 2,    30.36, 2,     0.00, 2,     2.09, 2,    1.955, 6,    0.947, 6,    0.090, 4,   2188.0, 2,   2289.8, 2,    7.6446, 2,     25.00, -999.000, 9, -999.000,   -999.0, 9,   -999.0,  -999.00, 9,   -999.0,   3.9008, 27.2492,   3.9768, 2, 1003.1, 2, 219.23, 2, 0.18, 0.12, 0.01, 0.02, -999, 9,  -999.00, 9, -999, -999, 9, -999
49NZ20031106, A10, 19, 1, 18, 12030, 9, 20031112, 1521, -29.9963, -36.1640, 1257,   1000.6, 2,   3.9816, 2,  34.3117, 2, -999.0000, 9,    212.2, 1,   -999.0, 9,  -999.00, 9,  -999.00, 9,  -999.00, 9,  -999.00, 9, -999.000, 9, -999.000, 9, -999.000, 9,   -999.0, 9,   -999.0, 9, -999.0000, 9,   -999.00, -999.000, 9, -999.000,   -999.0, 9,   -999.0,  -999.00, 9,   -999.0,   3.9064, 27.248,   3.9821, 2, 1002.9, 2, 219.25, 2, -999, -999, -999, -999, -999, 9,  -999.00, 9, -999, -999, 9, -999
49NZ20031106, A10, 19, 1, 11, 12023, 9, 20031112, 1521, -29.9963, -36.1640, 1257,   1000.8, 2,   3.9753, 2,  34.3118, 2, -999.0000, 9,    212.2, 1,   -999.0, 9,  -999.00, 9,  -999.00, 9,  -999.00, 9,  -999.00, 9, -999.000, 9, -999.000, 9, -999.000, 9,   -999.0, 9,   -999.0, 9, -999.0000, 9,   -999.00, -999.000, 9, -999.000,   -999.0, 9,   -999.0,  -999.00, 9,   -999.0,   3.9001, 27.2489,   3.9753, 2, 1003.2, 2, 219.21, 2, -999, -999, -999, -999, -999, 9,  -999.00, 9, -999, -999, 9, -999
49NZ20031106, A10, 19, 1, 4, 12016, 9, 20031112, 1521, -29.9963, -36.1640, 1257,   1000.9, 2,   3.9843, 2,  34.3110, 2, -999.0000, 9,    212.5, 1,   -999.0, 9,  -999.00, 9,  -999.00, 9,  -999.00, 9,  -999.00, 9, -999.000, 9, -999.000, 9, -999.000, 9,   -999.0, 9,   -999.0, 9, -999.0000, 9,   -999.00, -999.000, 9, -999.000,   -999.0, 9,   -999.0,  -999.00, 9,   -999.0,   3.9090, 27.2478,   3.9821, 2, 1003, 2, 219.24, 2, -999, -999, -999, -999, -999, 9,  -999.00, 9, -999, -999, 9, -999
49NZ20031106, A10, 19, 1, 10, 12022, 9, 20031112, 1521, -29.9963, -36.1640, 1257,   1001.0, 2,   3.9732, 2,  34.3118, 2, -999.0000, 9,    212.1, 1,   -999.0, 9,  -999.00, 9,  -999.00, 9,  -999.00, 9,  -999.00, 9, -999.000, 9, -999.000, 9, -999.000, 9,   -999.0, 9,   -999.0, 9, -999.0000, 9,   -999.00, -999.000, 9, -999.000,   -999.0, 9,   -999.0,  -999.00, 9,   -999.0,   3.8980, 27.2492,   3.9733, 2, 1003.4, 2, 219.18, 2, -999, -999, -999, -999, -999, 9,  -999.00, 9, -999, -999, 9, -999
49NZ20031106, A10, 19, 1, 7, 12019, 9, 20031112, 1521, -29.9963, -36.1640, 1257,   1001.0, 2,   3.9720, 2,  34.3117, 2, -999.0000, 9,    212.2, 1,   -999.0, 9,  -999.00, 9,  -999.00, 9,  -999.00, 9,  -999.00, 9, -999.000, 9, -999.000, 9, -999.000, 9,   -999.0, 9,   -999.0, 9, -999.0000, 9,   -999.00, -999.000, 9, -999.000,   -999.0, 9,   -999.0,  -999.00, 9,   -999.0,   3.8968, 27.2493,   3.9724, 2, 1003.4, 2, 219.17, 2, -999, -999, -999, -999, -999, 9,  -999.00, 9, -999, -999, 9, -999
49NZ20031106, A10, 19, 1, 21, 12033, 9, 20031112, 1521, -29.9963, -36.1640, 1257,   1001.1, 2,   3.9654, 2,  34.3120, 2, -999.0000, 9,    212.0, 1,   -999.0, 9,  -999.00, 9,  -999.00, 9,  -999.00, 9,  -999.00, 9, -999.000, 9, -999.000, 9, -999.000, 9,   -999.0, 9,   -999.0, 9, -999.0000, 9,   -999.00, -999.000, 9, -999.000,   -999.0, 9,   -999.0,  -999.00, 9,   -999.0,   3.8902, 27.25,   3.9659, 2, 1003.7, 2, 219.13, 2, -999, -999, -999, -999, -999, 9,  -999.00, 9, -999, -999, 9, -999
49NZ20031106, A10, 19, 1, 20, 12032, 9, 20031112, 1521, -29.9963, -36.1640, 1257,   1001.1, 2,   3.9651, 2,  34.3122, 2, -999.0000, 9,    212.1, 1,   -999.0, 9,  -999.00, 9,  -999.00, 9,  -999.00, 9,  -999.00, 9, -999.000, 9, -999.000, 9, -999.000, 9,   -999.0, 9,   -999.0, 9, -999.0000, 9,   -999.00, -999.000, 9, -999.000,   -999.0, 9,   -999.0,  -999.00, 9,   -999.0,   3.8899, 27.2502,   3.9646, 2, 1003.7, 2, 219.13, 2, -999, -999, -999, -999, -999, 9,  -999.00, 9, -999, -999, 9, -999
49NZ20031106, A10, 19, 1, 19, 12031, 9, 20031112, 1521, -29.9963, -36.1640, 1257,   1001.1, 2,   3.9646, 2,  34.3122, 2, -999.0000, 9,    212.2, 1,   -999.0, 9,  -999.00, 9,  -999.00, 9,  -999.00, 9,  -999.00, 9, -999.000, 9, -999.000, 9, -999.000, 9,   -999.0, 9,   -999.0, 9, -999.0000, 9,   -999.00, -999.000, 9, -999.000,   -999.0, 9,   -999.0,  -999.00, 9,   -999.0,   3.8894, 27.2495,   3.9670, 2, 1003.7, 2, 219.13, 2, -999, -999, -999, -999, -999, 9,  -999.00, 9, -999, -999, 9, -999
49NZ20031106, A10, 19, 1, 17, 12029, 9, 20031112, 1521, -29.9963, -36.1640, 1257,   1001.2, 2,   3.9846, 2,  34.3117, 2, -999.0000, 9,    212.2, 1,   -999.0, 9,  -999.00, 9,  -999.00, 9,  -999.00, 9,  -999.00, 9, -999.000, 9, -999.000, 9, -999.000, 9,   -999.0, 9,   -999.0, 9, -999.0000, 9,   -999.00, -999.000, 9, -999.000,   -999.0, 9,   -999.0,  -999.00, 9,   -999.0,   3.9093, 27.2479,   3.9855, 2, 1003.3, 2, 219.19, 2, -999, -999, -999, -999, -999, 9,  -999.00, 9, -999, -999, 9, -999
49NZ20031106, A10, 19, 1, 12, 12024, 9, 20031112, 1521, -29.9963, -36.1640, 1257,   1001.2, 2,   3.9756, 2,  34.3118, 2, -999.0000, 9,    212.2, 1,   -999.0, 9,  -999.00, 9,  -999.00, 9,  -999.00, 9,  -999.00, 9, -999.000, 9, -999.000, 9, -999.000, 9,   -999.0, 9,   -999.0, 9, -999.0000, 9,   -999.00, -999.000, 9, -999.000,   -999.0, 9,   -999.0,  -999.00, 9,   -999.0,   3.9003, 27.249,   3.9744, 2, 1003.5, 2, 219.16, 2, -999, -999, -999, -999, -999, 9,  -999.00, 9, -999, -999, 9, -999
49NZ20031106, A10, 19, 1, 5, 12017, 9, 20031112, 1521, -29.9963, -36.1640, 1257,   1001.2, 2,   3.9714, 2,  34.3119, 2, -999.0000, 9,    212.4, 1,   -999.0, 9,  -999.00, 9,  -999.00, 9,  -999.00, 9,  -999.00, 9, -999.000, 9, -999.000, 9, -999.000, 9,   -999.0, 9,   -999.0, 9, -999.0000, 9,   -999.00, -999.000, 9, -999.000,   -999.0, 9,   -999.0,  -999.00, 9,   -999.0,   3.8962, 27.2498,   3.9684, 2, 1003.6, 2, 219.14, 2, -999, -999, -999, -999, -999, 9,  -999.00, 9, -999, -999, 9, -999
49NZ20031106, A10, 19, 1, 9, 12015, 2, 20031112, 1521, -29.9963, -36.1640, 1257,   1001.3, 2,   3.9716, 2,  34.3117, 2,  34.3120, 2,    212.3, 1,    218.5, 2,    29.29, 2,    30.43, 2,    -0.01, 2,     2.10, 2,    1.943, 2,    0.940, 2,    0.095, 4,   2187.3, 2,   2292.8, 2,    7.6428, 2,     25.00, -999.000, 9, -999.000,   -999.0, 9,   -999.0,  -999.00, 9,   -999.0,   3.8964, 27.2495,   3.9706, 2, 1003.7, 2, 219.13, 2, 0.18, 0.12, 0.01, 0.02, -999, 9,  -999.00, 9, -999, -999, 9, -999
49NZ20031106, A10, 19, 1, 16, 12028, 9, 20031112, 1521, -29.9963, -36.1640, 1257,   1001.5, 2,   3.9836, 2,  34.3117, 2, -999.0000, 9,    212.1, 1,   -999.0, 9,  -999.00, 9,  -999.00, 9,  -999.00, 9,  -999.00, 9, -999.000, 9, -999.000, 9, -999.000, 9,   -999.0, 9,   -999.0, 9, -999.0000, 9,   -999.00, -999.000, 9, -999.000,   -999.0, 9,   -999.0,  -999.00, 9,   -999.0,   3.9083, 27.2478,   3.9858, 2, 1003.6, 2, 219.15, 2, -999, -999, -999, -999, -999, 9,  -999.00, 9, -999, -999, 9, -999
49NZ20031106, A10, 19, 1, 15, 12027, 9, 20031112, 1521, -29.9963, -36.1640, 1257,   1001.5, 2,   3.9782, 2,  34.3118, 2, -999.0000, 9,    212.1, 1,   -999.0, 9,  -999.00, 9,  -999.00, 9,  -999.00, 9,  -999.00, 9, -999.000, 9, -999.000, 9, -999.000, 9,   -999.0, 9,   -999.0, 9, -999.0000, 9,   -999.00, -999.000, 9, -999.000,   -999.0, 9,   -999.0,  -999.00, 9,   -999.0,   3.9029, 27.2483,   3.9805, 2, 1003.7, 2, 219.13, 2, -999, -999, -999, -999, -999, 9,  -999.00, 9, -999, -999, 9, -999
49NZ20031106, A10, 19, 1, 8, 12020, 9, 20031112, 1521, -29.9963, -36.1640, 1257,   1002.0, 2,   3.9633, 2,  34.3124, 2, -999.0000, 9,    212.3, 1,   -999.0, 9,  -999.00, 9,  -999.00, 9,  -999.00, 9,  -999.00, 9, -999.000, 9, -999.000, 9, -999.000, 9,   -999.0, 9,   -999.0, 9, -999.0000, 9,   -999.00, -999.000, 9, -999.000,   -999.0, 9,   -999.0,  -999.00, 9,   -999.0,   3.8881, 27.2503,   3.9662, 2, 1004.5, 2, 218.95, 2, -999, -999, -999, -999, -999, 9,  -999.00, 9, -999, -999, 9, -999
49NZ20031106, A10, 19, 1, 22, 12034, 2, 20031112, 1521, -29.9963, -36.1640, 1257,   1230.4, 2,   3.2329, 2,  34.4152, 2,  34.4166, 2,    194.4, 1,    199.2, 2,    44.80, 2,    32.27, 2,     0.01, 2,     2.23, 2,    0.842, 2,    0.409, 2,    0.043, 4,   2214.1, 2,   2309.4, 2,    7.6151, 2,     25.00, -999.000, 9, -999.000,   -999.0, 9,   -999.0,  -999.00, 9,   -999.0,   3.1451, 27.4057,   3.2332, 2, 1230.4, 2, 199.24, 2, 0.22, 0.12, 0.01, 0.02, -999, 9,  -999.00, 9, -999, -999, 9, -999