BOTTLE,20220818CCHSIOAMB
EXPOCODE,SECT_ID,STNNBR,CASTNO,SAMPNO,BTLNBR,BTLNBR_FLAG_W,DATE,TIME,LATITUDE,LONGITUDE,DEPTH,CTDPRS,CTDPRS_FLAG_W,CTDTMP,CTDTMP_FLAG_W,CTDSAL,CTDSAL_FLAG_W,SALNTY,SALNTY_FLAG_W,CTDOXY,CTDOXY_FLAG_W,OXYGEN,OXYGEN_FLAG_W,SILCAT,SILCAT_FLAG_W,NITRAT,NITRAT_FLAG_W,NITRIT,NITRIT_FLAG_W,PHSPHT,PHSPHT_FLAG_W,CFC-11,CFC-11_FLAG_W,CFC-12,CFC-12_FLAG_W,CFC113,CFC113_FLAG_W,TCARBN,TCARBN_FLAG_W,ALKALI,ALKALI_FLAG_W,PH_TOT,PH_TOT_FLAG_W,PH_TMP,TRITUM,TRITUM_FLAG_W,TRITER,DELC14,DELC14_FLAG_W,C14ERR,DELC13,DELC13_FLAG_W,C13ERR,THETA,SIG0,SBE35,SBE35_FLAG_W,DWNPRS,DWNPRS_FLAG_W,DWNOXY,DWNOXY_FLAG_W,SILUNC,NRAUNC,NRIUNC,PHPUNC,TOC,TOC_FLAG_W,CS-137,CS-137_FLAG_W,CS137ER,PLUTO,PLUTO_FLAG_W,PLUTOER
,,,,,,,,,,,METERS,DBAR,,ITS-90,,PSS-78,,PSS-78,,UMOL/KG,,UMOL/KG,,UMOL/KG,,UMOL/KG,,UMOL/KG,,UMOL/KG,,PMOL/KG,,PMOL/KG,,PMOL/KG,,UMOL/KG,,UMOL/KG,,,,DEG C,TU,,TU,/MILLE,,/MILLE,/MILLE,,/MILLE,DEG C,KG/M^3,ITS-90,,DBAR,,UMOL/KG,,UMOL/KG,UMOL/KG,UMOL/KG,UMOL/KG,UMOL/KG,,BQ/M^3,,BQ/M^3,MBQ/M^3,,MBQ/M^3
49NZ20031106, A10, 16, 1, 36, 12048, 2, 20031112, 531, -30.0025, -37.1715, 2327,     10.4, 2,  20.2859, 2,  36.0543, 2,  36.0542, 2,    216.1, 1,    227.8, 2,     1.08, 3,     0.03, 2,     0.00, 2,     0.05, 3, -999.000, 9, -999.000, 9, -999.000, 9,   -999.0, 9,   -999.0, 9, -999.0000, 9,   -999.00, -999.000, 9, -999.000,   -999.0, 9,   -999.0,  -999.00, 9,   -999.0,  20.2840, 25.4905,  20.2883, 2, 14.8, 2, 228.29, 2, 0.12, 0.03, 0.01, 0.03, -999, 9,  -999.00, 9, -999, -999, 9, -999
49NZ20031106, A10, 16, 1, 35, 12047, 2, 20031112, 531, -30.0025, -37.1715, 2327,     50.0, 2,  19.6227, 2,  35.9614, 2,  35.9599, 2,    219.8, 1,    231.7, 2,     0.86, 3,     0.02, 2,    -0.01, 2,     0.05, 3, -999.000, 9, -999.000, 9, -999.000, 9,   -999.0, 9,   -999.0, 9, -999.0000, 9,   -999.00, -999.000, 9, -999.000,   -999.0, 9,   -999.0,  -999.00, 9,   -999.0,  19.6136, 25.5991,  19.6169, 2, 53.6, 2, 230.76, 2, 0.12, 0.03, 0.01, 0.03, -999, 9,  -999.00, 9, -999, -999, 9, -999
49NZ20031106, A10, 16, 1, 34, 12046, 2, 20031112, 531, -30.0025, -37.1715, 2327,    100.0, 2,  18.6944, 2,  35.9288, 2,  35.9298, 2,    219.3, 1,    230.8, 2,     1.15, 3,     0.00, 2,     0.00, 2,     0.07, 3, -999.000, 9, -999.000, 9, -999.000, 9,   -999.0, 9,   -999.0, 9, -999.0000, 9,   -999.00, -999.000, 9, -999.000,   -999.0, 9,   -999.0,  -999.00, 9,   -999.0,  18.6767, 25.815,  18.6691, 2, 106.1, 2, 231.79, 2, 0.12, 0.03, 0.01, 0.03, -999, 9,  -999.00, 9, -999, -999, 9, -999
49NZ20031106, A10, 16, 1, 33, 12045, 2, 20031112, 531, -30.0025, -37.1715, 2327,    151.3, 2,  17.4594, 2,  35.7807, 2,  35.7938, 2,    209.4, 1,    220.1, 2,     1.38, 2,     0.91, 2,     0.06, 2,     0.20, 2, -999.000, 9, -999.000, 9, -999.000, 9,   -999.0, 9,   -999.0, 9, -999.0000, 9,   -999.00, -999.000, 9, -999.000,   -999.0, 9,   -999.0,  -999.00, 9,   -999.0,  17.4339, 26.0031,  17.4996, 2, 160.8, 2, 221.29, 2, 0.12, 0.04, 0.01, 0.02, -999, 9,  -999.00, 9, -999, -999, 9, -999
49NZ20031106, A10, 16, 1, 32, 12044, 2, 20031112, 531, -30.0025, -37.1715, 2327,    200.5, 2,  16.1150, 2,  35.6283, 2,  35.6255, 2,    204.4, 1,    214.1, 2,     1.63, 2,     3.03, 2,     0.01, 2,     0.36, 2, -999.000, 9, -999.000, 9, -999.000, 9,   -999.0, 9,   -999.0, 9, -999.0000, 9,   -999.00, -999.000, 9, -999.000,   -999.0, 9,   -999.0,  -999.00, 9,   -999.0,  16.0830, 26.2129,  16.1123, 2, 206.8, 2, 213.3, 2, 0.12, 0.04, 0.01, 0.01, -999, 9,  -999.00, 9, -999, -999, 9, -999
49NZ20031106, A10, 16, 1, 31, 12043, 2, 20031112, 531, -30.0025, -37.1715, 2327,    249.9, 2,  15.3507, 2,  35.5274, 2,  35.5254, 2,    203.2, 1,    212.7, 2,     1.91, 2,     4.50, 2,     0.01, 2,     0.45, 2, -999.000, 9, -999.000, 9, -999.000, 9,   -999.0, 9,   -999.0, 9, -999.0000, 9,   -999.00, -999.000, 9, -999.000,   -999.0, 9,   -999.0,  -999.00, 9,   -999.0,  15.3120, 26.3104,  15.3511, 2, 251.2, 2, 209.05, 2, 0.12, 0.05, 0.01, 0.01, -999, 9,  -999.00, 9, -999, -999, 9, -999
49NZ20031106, A10, 16, 1, 30, 12042, 2, 20031112, 531, -30.0025, -37.1715, 2327,    300.3, 2,  14.6535, 2,  35.4351, 2,  35.4356, 2,    203.6, 1,    212.3, 2,     2.11, 2,     5.98, 2,     0.00, 2,     0.52, 2, -999.000, 9, -999.000, 9, -999.000, 9,   -999.0, 9,   -999.0, 9, -999.0000, 9,   -999.00, -999.000, 9, -999.000,   -999.0, 9,   -999.0,  -999.00, 9,   -999.0,  14.6084, 26.3948,  14.6570, 2, 300.2, 2, 210.8, 2, 0.12, 0.05, 0.01, 0.01, -999, 9,  -999.00, 9, -999, -999, 9, -999
49NZ20031106, A10, 16, 1, 29, 12041, 2, 20031112, 531, -30.0025, -37.1715, 2327,    399.5, 2,  12.4346, 2,  35.1242, 2,  35.1242, 2,    204.5, 1,    212.7, 2,     3.58, 2,    10.78, 2,     0.00, 2,     0.82, 2, -999.000, 9, -999.000, 9, -999.000, 9,   -999.0, 9,   -999.0, 9, -999.0000, 9,   -999.00, -999.000, 9, -999.000,   -999.0, 9,   -999.0,  -999.00, 9,   -999.0,  12.3808, 26.6124,  12.4340, 2, 400.7, 2, 212.64, 2, 0.13, 0.06, 0.01, 0.01, -999, 9,  -999.00, 9, -999, -999, 9, -999
49NZ20031106, A10, 16, 1, 28, 12040, 2, 20031112, 531, -30.0025, -37.1715, 2327,    500.2, 2,  10.8617, 2,  34.9206, 2,  34.9227, 2,    195.7, 1,    202.6, 2,     5.85, 2,    15.55, 2,     0.00, 2,     1.11, 2, -999.000, 9, -999.000, 9, -999.000, 9,   -999.0, 9,   -999.0, 9, -999.0000, 9,   -999.00, -999.000, 9, -999.000,   -999.0, 9,   -999.0,  -999.00, 9,   -999.0,  10.7997, 26.7504,  10.8481, 2, 499.2, 2, 202.51, 2, 0.13, 0.08, 0.01, 0.01, -999, 9,  -999.00, 9, -999, -999, 9, -999
49NZ20031106, A10, 16, 1, 27, 12039, 2, 20031112, 531, -30.0025, -37.1715, 2327,    600.1, 2,   8.1840, 2,  34.5972, 2,  34.5984, 2,    201.1, 1,    208.0, 2,     9.78, 2,    21.68, 2,     0.00, 2,     1.50, 2, -999.000, 9, -999.000, 9, -999.000, 9,   -999.0, 9,   -999.0, 9, -999.0000, 9,   -999.00, -999.000, 9, -999.000,   -999.0, 9,   -999.0,  -999.00, 9,   -999.0,   8.1212, 26.9384,   8.1833, 2, 607.5, 2, 206.72, 2, 0.14, 0.09, 0.01, 0.01, -999, 9,  -999.00, 9, -999, -999, 9, -999
49NZ20031106, A10, 16, 1, 26, 12038, 2, 20031112, 531, -30.0025, -37.1715, 2327,    700.5, 2,   6.7245, 2,  34.4499, 2,  34.4475, 2,    208.7, 1,    215.9, 2,    12.96, 2,    24.80, 2,     0.00, 2,     1.70, 2, -999.000, 9, -999.000, 9, -999.000, 9,   -999.0, 9,   -999.0, 9, -999.0000, 9,   -999.00, -999.000, 9, -999.000,   -999.0, 9,   -999.0,  -999.00, 9,   -999.0,   6.6585, 27.0321,   6.7208, 2, 704.5, 2, 215.71, 2, 0.15, 0.1, 0.01, 0.01, -999, 9,  -999.00, 9, -999, -999, 9, -999
49NZ20031106, A10, 16, 1, 25, 12037, 2, 20031112, 531, -30.0025, -37.1715, 2327,    800.4, 2,   5.6634, 2,  34.3554, 2,  34.3548, 2,    217.7, 1,    225.4, 2,    15.59, 2,    26.42, 2,     0.00, 2,     1.82, 2, -999.000, 9, -999.000, 9, -999.000, 9,   -999.0, 9,   -999.0, 9, -999.0000, 9,   -999.00, -999.000, 9, -999.000,   -999.0, 9,   -999.0,  -999.00, 9,   -999.0,   5.5940, 27.0936,   5.6672, 2, 801.9, 2, 224.35, 2, 0.15, 0.11, 0.01, 0.01, -999, 9,  -999.00, 9, -999, -999, 9, -999
49NZ20031106, A10, 16, 1, 24, 12036, 2, 20031112, 531, -30.0025, -37.1715, 2327,    899.8, 2,   4.6288, 2,  34.2922, 2,  34.2922, 2,    221.5, 1,    229.3, 2,    20.68, 2,    28.46, 2,    -0.01, 2,     1.95, 2, -999.000, 9, -999.000, 9, -999.000, 9,   -999.0, 9,   -999.0, 9, -999.0000, 9,   -999.00, -999.000, 9, -999.000,   -999.0, 9,   -999.0,  -999.00, 9,   -999.0,   4.5574, 27.1646,   4.6249, 2, 901.9, 2, 229.4, 2, 0.16, 0.11, 0.01, 0.01, -999, 9,  -999.00, 9, -999, -999, 9, -999
49NZ20031106, A10, 16, 1, 2, 12014, 9, 20031112, 531, -30.0025, -37.1715, 2327,    999.3, 2,   4.2192, 2,  34.2943, 2, -999.0000, 9,    217.8, 1,   -999.0, 9,  -999.00, 9,  -999.00, 9,  -999.00, 9,  -999.00, 9, -999.000, 9, -999.000, 9, -999.000, 9,   -999.0, 9,   -999.0, 9, -999.0000, 9,   -999.00, -999.000, 9, -999.000,   -999.0, 9,   -999.0,  -999.00, 9,   -999.0,   4.1423, 27.21,   4.2199, 2, 999.5, 2, 225.6, 2, -999, -999, -999, -999, -999, 9,  -999.00, 9, -999, -999, 9, -999
49NZ20031106, A10, 16, 1, 8, 12020, 9, 20031112, 531, -30.0025, -37.1715, 2327,    999.4, 2,   4.2232, 2,  34.2943, 2, -999.0000, 9,    217.9, 1,   -999.0, 9,  -999.00, 9,  -999.00, 9,  -999.00, 9,  -999.00, 9, -999.000, 9, -999.000, 9, -999.000, 9,   -999.0, 9,   -999.0, 9, -999.0000, 9,   -999.00, -999.000, 9, -999.000,   -999.0, 9,   -999.0,  -999.00, 9,   -999.0,   4.1462, 27.2095,   4.2232, 2, 999.4, 2, 225.6, 2, -999, -999, -999, -999, -999, 9,  -999.00, 9, -999, -999, 9, -999
49NZ20031106, A10, 16, 1, 1, 12013, 9, 20031112, 531, -30.0025, -37.1715, 2327,    999.4, 2,   4.2182, 2,  34.2944, 2, -999.0000, 9,    217.8, 1,   -999.0, 9,  -999.00, 9,  -999.00, 9,  -999.00, 9,  -999.00, 9, -999.000, 9, -999.000, 9, -999.000, 9,   -999.0, 9,   -999.0, 9, -999.0000, 9,   -999.00, -999.000, 9, -999.000,   -999.0, 9,   -999.0,  -999.00, 9,   -999.0,   4.1413, 27.21,   4.2194, 2, 999.6, 2, 225.59, 2, -999, -999, -999, -999, -999, 9,  -999.00, 9, -999, -999, 9, -999
49NZ20031106, A10, 16, 1, 6, 12018, 9, 20031112, 531, -30.0025, -37.1715, 2327,    999.6, 2,   4.2226, 2,  34.2943, 2, -999.0000, 9,    217.9, 1,   -999.0, 9,  -999.00, 9,  -999.00, 9,  -999.00, 9,  -999.00, 9, -999.000, 9, -999.000, 9, -999.000, 9,   -999.0, 9,   -999.0, 9, -999.0000, 9,   -999.00, -999.000, 9, -999.000,   -999.0, 9,   -999.0,  -999.00, 9,   -999.0,   4.1456, 27.2096,   4.2227, 2, 999.6, 2, 225.59, 2, -999, -999, -999, -999, -999, 9,  -999.00, 9, -999, -999, 9, -999
49NZ20031106, A10, 16, 1, 9, 12015, 9, 20031112, 531, -30.0025, -37.1715, 2327,    999.7, 2,   4.2234, 2,  34.2943, 2, -999.0000, 9,    218.0, 1,   -999.0, 9,  -999.00, 9,  -999.00, 9,  -999.00, 9,  -999.00, 9, -999.000, 9, -999.000, 9, -999.000, 9,   -999.0, 9,   -999.0, 9, -999.0000, 9,   -999.00, -999.000, 9, -999.000,   -999.0, 9,   -999.0,  -999.00, 9,   -999.0,   4.1464, 27.2094,   4.2236, 2, 999.7, 2, 225.58, 2, -999, -999, -999, -999, -999, 9,  -999.00, 9, -999, -999, 9, -999
49NZ20031106, A10, 16, 1, 5, 12017, 9, 20031112, 531, -30.0025, -37.1715, 2327,    999.7, 2,   4.2220, 2,  34.2943, 2, -999.0000, 9,    217.9, 1,   -999.0, 9,  -999.00, 9,  -999.00, 9,  -999.00, 9,  -999.00, 9, -999.000, 9, -999.000, 9, -999.000, 9,   -999.0, 9,   -999.0, 9, -999.0000, 9,   -999.00, -999.000, 9, -999.000,   -999.0, 9,   -999.0,  -999.00, 9,   -999.0,   4.1450, 27.2096,   4.2221, 2, 999.8, 2, 225.58, 2, -999, -999, -999, -999, -999, 9,  -999.00, 9, -999, -999, 9, -999
49NZ20031106, A10, 16, 1, 4, 12016, 9, 20031112, 531, -30.0025, -37.1715, 2327,    999.8, 2,   4.2211, 2,  34.2944, 2, -999.0000, 9,    217.9, 1,   -999.0, 9,  -999.00, 9,  -999.00, 9,  -999.00, 9,  -999.00, 9, -999.000, 9, -999.000, 9, -999.000, 9,   -999.0, 9,   -999.0, 9, -999.0000, 9,   -999.00, -999.000, 9, -999.000,   -999.0, 9,   -999.0,  -999.00, 9,   -999.0,   4.1441, 27.2096,   4.2212, 2, 999.9, 2, 225.57, 2, -999, -999, -999, -999, -999, 9,  -999.00, 9, -999, -999, 9, -999
49NZ20031106, A10, 16, 1, 11, 12023, 9, 20031112, 531, -30.0025, -37.1715, 2327,    999.9, 2,   4.2240, 2,  34.2942, 2, -999.0000, 9,    218.1, 1,   -999.0, 9,  -999.00, 9,  -999.00, 9,  -999.00, 9,  -999.00, 9, -999.000, 9, -999.000, 9, -999.000, 9,   -999.0, 9,   -999.0, 9, -999.0000, 9,   -999.00, -999.000, 9, -999.000,   -999.0, 9,   -999.0,  -999.00, 9,   -999.0,   4.1470, 27.2094,   4.2239, 2, 999.9, 2, 225.57, 2, -999, -999, -999, -999, -999, 9,  -999.00, 9, -999, -999, 9, -999
49NZ20031106, A10, 16, 1, 10, 12022, 9, 20031112, 531, -30.0025, -37.1715, 2327,    999.9, 2,   4.2234, 2,  34.2943, 2, -999.0000, 9,    218.0, 1,   -999.0, 9,  -999.00, 9,  -999.00, 9,  -999.00, 9,  -999.00, 9, -999.000, 9, -999.000, 9, -999.000, 9,   -999.0, 9,   -999.0, 9, -999.0000, 9,   -999.00, -999.000, 9, -999.000,   -999.0, 9,   -999.0,  -999.00, 9,   -999.0,   4.1464, 27.2094,   4.2235, 2, 999.9, 2, 225.57, 2, -999, -999, -999, -999, -999, 9,  -999.00, 9, -999, -999, 9, -999
49NZ20031106, A10, 16, 1, 3, 12012, 9, 20031112, 531, -30.0025, -37.1715, 2327,    999.9, 2,   4.2200, 2,  34.2944, 2, -999.0000, 9,    217.9, 1,   -999.0, 9,  -999.00, 9,  -999.00, 9,  -999.00, 9,  -999.00, 9, -999.000, 9, -999.000, 9, -999.000, 9,   -999.0, 9,   -999.0, 9, -999.0000, 9,   -999.00, -999.000, 9, -999.000,   -999.0, 9,   -999.0,  -999.00, 9,   -999.0,   4.1430, 27.2097,   4.2202, 2, 1000, 2, 225.56, 2, -999, -999, -999, -999, -999, 9,  -999.00, 9, -999, -999, 9, -999
49NZ20031106, A10, 16, 1, 14, 12026, 9, 20031112, 531, -30.0025, -37.1715, 2327,   1000.0, 2,   4.2229, 2,  34.2942, 2, -999.0000, 9,    218.0, 1,   -999.0, 9,  -999.00, 9,  -999.00, 9,  -999.00, 9,  -999.00, 9, -999.000, 9, -999.000, 9, -999.000, 9,   -999.0, 9,   -999.0, 9, -999.0000, 9,   -999.00, -999.000, 9, -999.000,   -999.0, 9,   -999.0,  -999.00, 9,   -999.0,   4.1459, 27.2094,   4.2235, 2, 1000, 2, 225.56, 2, -999, -999, -999, -999, -999, 9,  -999.00, 9, -999, -999, 9, -999
49NZ20031106, A10, 16, 1, 13, 12025, 9, 20031112, 531, -30.0025, -37.1715, 2327,   1000.0, 2,   4.2242, 2,  34.2941, 2, -999.0000, 9,    218.1, 1,   -999.0, 9,  -999.00, 9,  -999.00, 9,  -999.00, 9,  -999.00, 9, -999.000, 9, -999.000, 9, -999.000, 9,   -999.0, 9,   -999.0, 9, -999.0000, 9,   -999.00, -999.000, 9, -999.000,   -999.0, 9,   -999.0,  -999.00, 9,   -999.0,   4.1472, 27.2093,   4.2243, 2, 1000, 2, 225.56, 2, -999, -999, -999, -999, -999, 9,  -999.00, 9, -999, -999, 9, -999
49NZ20031106, A10, 16, 1, 12, 12024, 9, 20031112, 531, -30.0025, -37.1715, 2327,   1000.1, 2,   4.2247, 2,  34.2941, 2, -999.0000, 9,    218.1, 1,   -999.0, 9,  -999.00, 9,  -999.00, 9,  -999.00, 9,  -999.00, 9, -999.000, 9, -999.000, 9, -999.000, 9,   -999.0, 9,   -999.0, 9, -999.0000, 9,   -999.00, -999.000, 9, -999.000,   -999.0, 9,   -999.0,  -999.00, 9,   -999.0,   4.1477, 27.2093,   4.2250, 2, 1000, 2, 225.56, 2, -999, -999, -999, -999, -999, 9,  -999.00, 9, -999, -999, 9, -999
49NZ20031106, A10, 16, 1, 7, 12019, 9, 20031112, 531, -30.0025, -37.1715, 2327,   1000.2, 2,   4.2236, 2,  34.2941, 2, -999.0000, 9,    217.9, 1,   -999.0, 9,  -999.00, 9,  -999.00, 9,  -999.00, 9,  -999.00, 9, -999.000, 9, -999.000, 9, -999.000, 9,   -999.0, 9,   -999.0, 9, -999.0000, 9,   -999.00, -999.000, 9, -999.000,   -999.0, 9,   -999.0,  -999.00, 9,   -999.0,   4.1466, 27.2095,   4.2238, 2, 1000.2, 2, 225.55, 2, -999, -999, -999, -999, -999, 9,  -999.00, 9, -999, -999, 9, -999
49NZ20031106, A10, 16, 1, 23, 12035, 2, 20031112, 531, -30.0025, -37.1715, 2327,   1000.3, 2,   4.2193, 2,  34.2943, 2,  34.2944, 2,    217.8, 1,    225.6, 2,    25.10, 2,    29.48, 2,    -0.01, 2,     2.02, 2, -999.000, 9, -999.000, 9, -999.000, 9,   -999.0, 9,   -999.0, 9, -999.0000, 9,   -999.00, -999.000, 9, -999.000,   -999.0, 9,   -999.0,  -999.00, 9,   -999.0,   4.1423, 27.2099,   4.2190, 2, 1000.4, 2, 225.54, 2, 0.17, 0.12, 0.01, 0.02, -999, 9,  -999.00, 9, -999, -999, 9, -999
49NZ20031106, A10, 16, 1, 22, 12034, 2, 20031112, 531, -30.0025, -37.1715, 2327,   1200.2, 2,   3.2825, 2,  34.3848, 2,  34.3848, 2,    195.2, 1,    202.1, 2,    42.86, 2,    32.30, 2,    -0.01, 2,     2.22, 2, -999.000, 9, -999.000, 9, -999.000, 9,   -999.0, 9,   -999.0, 9, -999.0000, 9,   -999.00, -999.000, 9, -999.000,   -999.0, 9,   -999.0,  -999.00, 9,   -999.0,   3.1968, 27.3758,   3.2824, 2, 1200.4, 2, 202.06, 2, 0.21, 0.12, 0.01, 0.02, -999, 9,  -999.00, 9, -999, -999, 9, -999
49NZ20031106, A10, 16, 1, 21, 12033, 2, 20031112, 531, -30.0025, -37.1715, 2327,   1400.3, 2,   2.9581, 2,  34.5200, 2,  34.5197, 2,    183.0, 1,    188.9, 2,    53.47, 2,    32.50, 2,    -0.01, 2,     2.22, 2, -999.000, 9, -999.000, 9, -999.000, 9,   -999.0, 9,   -999.0, 9, -999.0000, 9,   -999.00, -999.000, 9, -999.000,   -999.0, 9,   -999.0,  -999.00, 9,   -999.0,   2.8591, 27.5148,   2.9581, 2, 1401, 2, 188.87, 2, 0.24, 0.12, 0.01, 0.02, -999, 9,  -999.00, 9, -999, -999, 9, -999
49NZ20031106, A10, 16, 1, 20, 12032, 2, 20031112, 531, -30.0025, -37.1715, 2327,   1600.7, 2,   2.8881, 2,  34.6486, 2,  34.6484, 2,    186.7, 1,    192.2, 2,    54.87, 2,    30.58, 2,    -0.01, 2,     2.09, 2, -999.000, 9, -999.000, 9, -999.000, 9,   -999.0, 9,   -999.0, 9, -999.0000, 9,   -999.00, -999.000, 9, -999.000,   -999.0, 9,   -999.0,  -999.00, 9,   -999.0,   2.7730, 27.6252,   2.8880, 2, 1599.7, 2, 192.16, 2, 0.24, 0.12, 0.01, 0.02, -999, 9,  -999.00, 9, -999, -999, 9, -999
49NZ20031106, A10, 16, 1, 19, 12031, 2, 20031112, 531, -30.0025, -37.1715, 2327,   1800.9, 2,   2.9217, 2,  34.7575, 2,  34.7577, 2,    199.7, 1,    205.7, 2,    50.59, 2,    27.77, 2,    -0.01, 2,     1.89, 2, -999.000, 9, -999.000, 9, -999.000, 9,   -999.0, 9,   -999.0, 9, -999.0000, 9,   -999.00, -999.000, 9, -999.000,   -999.0, 9,   -999.0,  -999.00, 9,   -999.0,   2.7886, 27.7109,   2.9218, 2, 1800.1, 2, 205.61, 2, 0.23, 0.11, 0.01, 0.01, -999, 9,  -999.00, 9, -999, -999, 9, -999
49NZ20031106, A10, 16, 1, 18, 12030, 2, 20031112, 531, -30.0025, -37.1715, 2327,   2002.9, 2,   2.9850, 2,  34.8311, 2,  34.8309, 2,    215.6, 1,    221.7, 2,    42.83, 2,    25.07, 2,    -0.01, 2,     1.70, 2, -999.000, 9, -999.000, 9, -999.000, 9,   -999.0, 9,   -999.0, 9, -999.0000, 9,   -999.00, -999.000, 9, -999.000,   -999.0, 9,   -999.0,  -999.00, 9,   -999.0,   2.8328, 27.7658,   2.9850, 2, 2002.9, 2, 221.08, 2, 0.21, 0.1, 0.01, 0.01, -999, 9,  -999.00, 9, -999, -999, 9, -999
49NZ20031106, A10, 16, 1, 15, 12027, 9, 20031112, 531, -30.0025, -37.1715, 2327,   2103.3, 2,   2.9785, 2,  34.8478, 2, -999.0000, 9,    220.3, 1,   -999.0, 9,  -999.00, 9,  -999.00, 9,  -999.00, 9,  -999.00, 9, -999.000, 9, -999.000, 9, -999.000, 9,   -999.0, 9,   -999.0, 9, -999.0000, 9,   -999.00, -999.000, 9, -999.000,   -999.0, 9,   -999.0,  -999.00, 9,   -999.0,   2.8171, 27.7806,   2.9787, 2, 2103.3, 2, 226, 2, -999, -999, -999, -999, -999, 9,  -999.00, 9, -999, -999, 9, -999
49NZ20031106, A10, 16, 1, 17, 12029, 2, 20031112, 531, -30.0025, -37.1715, 2327,   2200.4, 2,   2.9560, 2,  34.8656, 2,  34.8658, 2,    225.7, 1,    231.6, 2,    38.96, 2,    23.54, 2,     0.00, 2,     1.59, 2, -999.000, 9, -999.000, 9, -999.000, 9,   -999.0, 9,   -999.0, 9, -999.0000, 9,   -999.00, -999.000, 9, -999.000,   -999.0, 9,   -999.0,  -999.00, 9,   -999.0,   2.7859, 27.7975,   2.9561, 2, 2200.5, 2, 231.21, 2, 0.2, 0.1, 0.01, 0.01, -999, 9,  -999.00, 9, -999, -999, 9, -999
49NZ20031106, A10, 16, 1, 16, 12028, 2, 20031112, 531, -30.0025, -37.1715, 2327,   2335.4, 2,   2.9315, 2,  34.8830, 2,  34.8830, 2,    231.2, 1,    236.7, 2,    36.75, 2,    22.75, 2,    -0.01, 2,     1.53, 2, -999.000, 9, -999.000, 9, -999.000, 9,   -999.0, 9,   -999.0, 9, -999.0000, 9,   -999.00, -999.000, 9, -999.000,   -999.0, 9,   -999.0,  -999.00, 9,   -999.0,   2.7489, 27.8148,   2.9315, 2, 2335.4, 2, 237.23, 2, 0.2, 0.1, 0.01, 0.01, -999, 9,  -999.00, 9, -999, -999, 9, -999