BOTTLE,20220818CCHSIOAMB
EXPOCODE,SECT_ID,STNNBR,CASTNO,SAMPNO,BTLNBR,BTLNBR_FLAG_W,DATE,TIME,LATITUDE,LONGITUDE,DEPTH,CTDPRS,CTDPRS_FLAG_W,CTDTMP,CTDTMP_FLAG_W,CTDSAL,CTDSAL_FLAG_W,SALNTY,SALNTY_FLAG_W,CTDOXY,CTDOXY_FLAG_W,OXYGEN,OXYGEN_FLAG_W,SILCAT,SILCAT_FLAG_W,NITRAT,NITRAT_FLAG_W,NITRIT,NITRIT_FLAG_W,PHSPHT,PHSPHT_FLAG_W,CFC-11,CFC-11_FLAG_W,CFC-12,CFC-12_FLAG_W,CFC113,CFC113_FLAG_W,TCARBN,TCARBN_FLAG_W,ALKALI,ALKALI_FLAG_W,PH_TOT,PH_TOT_FLAG_W,PH_TMP,TRITUM,TRITUM_FLAG_W,TRITER,DELC14,DELC14_FLAG_W,C14ERR,DELC13,DELC13_FLAG_W,C13ERR,THETA,SIG0,SBE35,SBE35_FLAG_W,DWNPRS,DWNPRS_FLAG_W,DWNOXY,DWNOXY_FLAG_W,SILUNC,NRAUNC,NRIUNC,PHPUNC,TOC,TOC_FLAG_W,CS-137,CS-137_FLAG_W,CS137ER,PLUTO,PLUTO_FLAG_W,PLUTOER
,,,,,,,,,,,METERS,DBAR,,ITS-90,,PSS-78,,PSS-78,,UMOL/KG,,UMOL/KG,,UMOL/KG,,UMOL/KG,,UMOL/KG,,UMOL/KG,,PMOL/KG,,PMOL/KG,,PMOL/KG,,UMOL/KG,,UMOL/KG,,,,DEG C,TU,,TU,/MILLE,,/MILLE,/MILLE,,/MILLE,DEG C,KG/M^3,ITS-90,,DBAR,,UMOL/KG,,UMOL/KG,UMOL/KG,UMOL/KG,UMOL/KG,UMOL/KG,,BQ/M^3,,BQ/M^3,MBQ/M^3,,MBQ/M^3
49NZ20031106, A10, 89, 2, 2, 12026, 2, 20031130, 2246, -29.7478, 10.9778, 4276,      9.6, 2,  18.7214, 2,  35.5923, 2, -999.0000, 9,    225.4, 1,   -999.0, 9,  -999.00, 9,  -999.00, 9,  -999.00, 9,  -999.00, 9, -999.000, 9, -999.000, 9, -999.000, 9,   -999.0, 9,   -999.0, 9, -999.0000, 9,   -999.00, -999.000, 9, -999.000,   -999.0, 9,   -999.0,  -999.00, 9,   -999.0,  18.7197, 25.5485,  18.7220, 2, 17.9, 2, 238.15, 2, -999, -999, -999, -999, -999, 9,  -999.00, 9, -999, -999, 9, -999
49NZ20031106, A10, 89, 2, 3, 12027, 9, 20031130, 2246, -29.7478, 10.9778, 4276,      9.8, 2,  18.7217, 2,  35.5920, 2, -999.0000, 9,    225.7, 1,   -999.0, 9,  -999.00, 9,  -999.00, 9,  -999.00, 9,  -999.00, 9, -999.000, 9, -999.000, 9, -999.000, 9,   -999.0, 9,   -999.0, 9, -999.0000, 9,   -999.00, -999.000, 9, -999.000,   -999.0, 9,   -999.0,  -999.00, 9,   -999.0,  18.7200, 25.5478,  18.7210, 2, 18, 2, 238.15, 2, -999, -999, -999, -999, -999, 9,  -999.00, 9, -999, -999, 9, -999
49NZ20031106, A10, 89, 2, 36, 12024, 2, 20031130, 2246, -29.7478, 10.9778, 4276,     10.1, 2,  18.7201, 2,  35.5923, 2,  35.5935, 2,    225.5, 1,    237.4, 2,     1.68, 2,     0.01, 2,    -0.01, 2,     0.16, 2, -999.000, 9, -999.000, 9, -999.000, 9,   -999.0, 9,   -999.0, 9, -999.0000, 9,   -999.00, -999.000, 9, -999.000,   -999.0, 9,   -999.0,  -999.00, 9,   -999.0,  18.7183, 25.5486,  18.7199, 2, 18.4, 2, 238.02, 2, 0.12, 0.03, 0.01, 0.02, -999, 9,  -999.00, 9, -999, -999, 9, -999
49NZ20031106, A10, 89, 2, 35, 12023, 2, 20031130, 2246, -29.7478, 10.9778, 4276,     50.6, 2,  18.6711, 2,  35.5821, 2,  35.5854, 2,    226.1, 1,    237.8, 2,     1.64, 2,    -0.02, 2,    -0.01, 2,     0.16, 2, -999.000, 9, -999.000, 9, -999.000, 9,   -999.0, 9,   -999.0, 9, -999.0000, 9,   -999.00, -999.000, 9, -999.000,   -999.0, 9,   -999.0,  -999.00, 9,   -999.0,  18.6622, 25.556,  18.6706, 2, 45.7, 2, 237.41, 2, 0.12, 0.03, 0.01, 0.02, -999, 9,  -999.00, 9, -999, -999, 9, -999
49NZ20031106, A10, 89, 2, 1, 12025, 2, 20031130, 2246, -29.7478, 10.9778, 4276,     56.1, 2,  18.4165, 2,  35.5559, 2, -999.0000, 9,    227.6, 1,   -999.0, 9,  -999.00, 9,  -999.00, 9,  -999.00, 9,  -999.00, 9, -999.000, 9, -999.000, 9, -999.000, 9,   -999.0, 9,   -999.0, 9, -999.0000, 9,   -999.00, -999.000, 9, -999.000,   -999.0, 9,   -999.0,  -999.00, 9,   -999.0,  18.4067, 25.5948,  18.4335, 2, 47.7, 2, 238.51, 2, -999, -999, -999, -999, -999, 9,  -999.00, 9, -999, -999, 9, -999
49NZ20031106, A10, 89, 2, 34, 12022, 2, 20031130, 2246, -29.7478, 10.9778, 4276,     99.3, 2,  15.9301, 2,  35.5416, 2,  35.5407, 2,    227.0, 1,    237.9, 2,     2.41, 2,     1.82, 2,     0.35, 2,     0.32, 2, -999.000, 9, -999.000, 9, -999.000, 9,   -999.0, 9,   -999.0, 9, -999.0000, 9,   -999.00, -999.000, 9, -999.000,   -999.0, 9,   -999.0,  -999.00, 9,   -999.0,  15.9144, 26.1863,  15.9293, 2, 96.3, 2, 233.8, 2, 0.12, 0.04, 0, 0.01, -999, 9,  -999.00, 9, -999, -999, 9, -999
49NZ20031106, A10, 89, 2, 33, 12015, 2, 20031130, 2246, -29.7478, 10.9778, 4276,    150.5, 2,  14.8225, 2,  35.3617, 2,  35.3603, 2,    214.5, 1,    224.5, 2,     3.20, 2,     5.24, 2,     0.02, 2,     0.51, 2, -999.000, 9, -999.000, 9, -999.000, 9,   -999.0, 9,   -999.0, 9, -999.0000, 9,   -999.00, -999.000, 9, -999.000,   -999.0, 9,   -999.0,  -999.00, 9,   -999.0,  14.7999, 26.2967,  14.8243, 2, 148, 2, 224.27, 2, 0.13, 0.05, 0.01, 0.01, -999, 9,  -999.00, 9, -999, -999, 9, -999
49NZ20031106, A10, 89, 2, 32, 12020, 2, 20031130, 2246, -29.7478, 10.9778, 4276,    202.4, 2,  13.4443, 2,  35.1845, 2,  35.1885, 2,    207.0, 1,    215.9, 2,     4.42, 2,     8.85, 2,     0.01, 2,     0.73, 2, -999.000, 9, -999.000, 9, -999.000, 9,   -999.0, 9,   -999.0, 9, -999.0000, 9,   -999.00, -999.000, 9, -999.000,   -999.0, 9,   -999.0,  -999.00, 9,   -999.0,  13.4158, 26.4527,  13.4386, 2, 202.8, 2, 215.8, 2, 0.13, 0.06, 0.01, 0.01, -999, 9,  -999.00, 9, -999, -999, 9, -999
49NZ20031106, A10, 89, 2, 31, 12019, 2, 20031130, 2246, -29.7478, 10.9778, 4276,    250.9, 2,  12.7665, 2,  35.1441, 2,  35.1437, 2,    202.7, 1,    211.7, 2,     5.29, 2,    10.77, 2,     0.01, 2,     0.84, 2, -999.000, 9, -999.000, 9, -999.000, 9,   -999.0, 9,   -999.0, 9, -999.0000, 9,   -999.00, -999.000, 9, -999.000,   -999.0, 9,   -999.0,  -999.00, 9,   -999.0,  12.7323, 26.5597,  12.7669, 2, 252.6, 2, 212.23, 2, 0.13, 0.06, 0.01, 0.01, -999, 9,  -999.00, 9, -999, -999, 9, -999
49NZ20031106, A10, 89, 2, 30, 12018, 2, 20031130, 2246, -29.7478, 10.9778, 4276,    302.3, 2,  11.7072, 2,  35.0116, 2,  35.0113, 2,    208.4, 1,    217.8, 2,     5.48, 2,    12.43, 2,     0.01, 2,     0.95, 2, -999.000, 9, -999.000, 9, -999.000, 9,   -999.0, 9,   -999.0, 9, -999.0000, 9,   -999.00, -999.000, 9, -999.000,   -999.0, 9,   -999.0,  -999.00, 9,   -999.0,  11.6682, 26.6622,  11.7069, 2, 302.8, 2, 217.97, 2, 0.13, 0.07, 0.01, 0.01, -999, 9,  -999.00, 9, -999, -999, 9, -999
49NZ20031106, A10, 89, 2, 29, 12017, 2, 20031130, 2246, -29.7478, 10.9778, 4276,    401.2, 2,  10.0628, 2,  34.8136, 2,  34.8124, 2,    203.9, 1,    212.8, 2,     7.82, 2,    16.56, 2,     0.01, 2,     1.21, 2, -999.000, 9, -999.000, 9, -999.000, 9,   -999.0, 9,   -999.0, 9, -999.0000, 9,   -999.00, -999.000, 9, -999.000,   -999.0, 9,   -999.0,  -999.00, 9,   -999.0,  10.0157, 26.8045,  10.0630, 2, 403.4, 2, 214.02, 2, 0.14, 0.08, 0.01, 0.01, -999, 9,  -999.00, 9, -999, -999, 9, -999
49NZ20031106, A10, 89, 2, 28, 12016, 2, 20031130, 2246, -29.7478, 10.9778, 4276,    501.9, 2,   8.4185, 2,  34.6341, 2,  34.6336, 2,    195.0, 1,    202.9, 2,    13.35, 2,    21.52, 2,     0.00, 2,     1.52, 2, -999.000, 9, -999.000, 9, -999.000, 9,   -999.0, 9,   -999.0, 9, -999.0000, 9,   -999.00, -999.000, 9, -999.000,   -999.0, 9,   -999.0,  -999.00, 9,   -999.0,   8.3654, 26.9319,   8.4187, 2, 503.7, 2, 202.72, 2, 0.15, 0.09, 0.01, 0.01, -999, 9,  -999.00, 9, -999, -999, 9, -999
49NZ20031106, A10, 89, 2, 27, 12012, 2, 20031130, 2246, -29.7478, 10.9778, 4276,    600.8, 2,   6.4012, 2,  34.4372, 2,  34.4338, 2,    200.6, 1,    209.2, 2,    18.29, 2,    26.07, 2,     0.00, 2,     1.82, 2, -999.000, 9, -999.000, 9, -999.000, 9,   -999.0, 9,   -999.0, 9, -999.0000, 9,   -999.00, -999.000, 9, -999.000,   -999.0, 9,   -999.0,  -999.00, 9,   -999.0,   6.3465, 27.0642,   6.3990, 2, 601.2, 2, 205.44, 2, 0.16, 0.11, 0.01, 0.01, -999, 9,  -999.00, 9, -999, -999, 9, -999
49NZ20031106, A10, 89, 2, 26, 12014, 2, 20031130, 2246, -29.7478, 10.9778, 4276,    701.6, 2,   5.1779, 2,  34.3668, 2,  34.3640, 2,    195.4, 1,    205.2, 2,    23.52, 2,    29.31, 2,     0.00, 2,     2.02, 2, -999.000, 9, -999.000, 9, -999.000, 9,   -999.0, 9,   -999.0, 9, -999.0000, 9,   -999.00, -999.000, 9, -999.000,   -999.0, 9,   -999.0,  -999.00, 9,   -999.0,   5.1202, 27.16,   5.1772, 2, 702.5, 2, 207.42, 2, 0.17, 0.11, 0.01, 0.02, -999, 9,  -999.00, 9, -999, -999, 9, -999
49NZ20031106, A10, 89, 2, 25, 12013, 2, 20031130, 2246, -29.7478, 10.9778, 4276,    801.1, 2,   4.2602, 2,  34.3391, 2,  34.3387, 2,    200.9, 1,    209.7, 2,    31.02, 2,    30.55, 2,     0.00, 2,     2.12, 2, -999.000, 9, -999.000, 9, -999.000, 9,   -999.0, 9,   -999.0, 9, -999.0000, 9,   -999.00, -999.000, 9, -999.000,   -999.0, 9,   -999.0,  -999.00, 9,   -999.0,   4.1994, 27.2404,   4.2609, 2, 802.5, 2, 209.72, 2, 0.19, 0.12, 0.01, 0.02, -999, 9,  -999.00, 9, -999, -999, 9, -999
49NZ20031106, A10, 89, 2, 24, 12048, 2, 20031130, 2246, -29.7478, 10.9778, 4276,    901.0, 2,   3.8185, 2,  34.3805, 2,  34.3801, 2,    188.0, 1,    196.3, 2,    39.92, 2,    32.06, 2,    -0.01, 2,     2.23, 2, -999.000, 9, -999.000, 9, -999.000, 9,   -999.0, 9,   -999.0, 9, -999.0000, 9,   -999.00, -999.000, 9, -999.000,   -999.0, 9,   -999.0,  -999.00, 9,   -999.0,   3.7525, 27.3193,   3.8190, 2, 902.3, 2, 199.26, 2, 0.21, 0.12, 0.01, 0.02, -999, 9,  -999.00, 9, -999, -999, 9, -999
49NZ20031106, A10, 89, 2, 23, 12047, 2, 20031130, 2246, -29.7478, 10.9778, 4276,   1000.6, 2,   3.4974, 2,  34.4276, 2,  34.4333, 3,    179.4, 1,    185.0, 2,    46.53, 2,    33.11, 2,     0.00, 2,     2.30, 2, -999.000, 9, -999.000, 9, -999.000, 9,   -999.0, 9,   -999.0, 9, -999.0000, 9,   -999.00, -999.000, 9, -999.000,   -999.0, 9,   -999.0,  -999.00, 9,   -999.0,   3.4257, 27.39,   3.4975, 2, 1001.7, 2, 187.8, 2, 0.22, 0.13, 0.01, 0.02, -999, 9,  -999.00, 9, -999, -999, 9, -999
49NZ20031106, A10, 89, 2, 6, 12030, 9, 20031130, 2246, -29.7478, 10.9778, 4276,   1000.9, 2,   3.4922, 2,  34.4248, 2, -999.0000, 9,    179.9, 1,   -999.0, 9,  -999.00, 9,  -999.00, 9,  -999.00, 9,  -999.00, 9, -999.000, 9, -999.000, 9, -999.000, 9,   -999.0, 9,   -999.0, 9, -999.0000, 9,   -999.00, -999.000, 9, -999.000,   -999.0, 9,   -999.0,  -999.00, 9,   -999.0,   3.4205, 27.3877,   3.4922, 2, 1001.6, 2, 187.81, 2, -999, -999, -999, -999, -999, 9,  -999.00, 9, -999, -999, 9, -999
49NZ20031106, A10, 89, 2, 4, 12028, 9, 20031130, 2246, -29.7478, 10.9778, 4276,   1000.9, 2,   3.4960, 2,  34.4269, 2, -999.0000, 9,    179.3, 1,   -999.0, 9,  -999.00, 9,  -999.00, 9,  -999.00, 9,  -999.00, 9, -999.000, 9, -999.000, 9, -999.000, 9,   -999.0, 9,   -999.0, 9, -999.0000, 9,   -999.00, -999.000, 9, -999.000,   -999.0, 9,   -999.0,  -999.00, 9,   -999.0,   3.4243, 27.3887,   3.4959, 2, 1001.9, 2, 187.79, 2, -999, -999, -999, -999, -999, 9,  -999.00, 9, -999, -999, 9, -999
49NZ20031106, A10, 89, 2, 5, 12029, 9, 20031130, 2246, -29.7478, 10.9778, 4276,   1001.1, 2,   3.4918, 2,  34.4246, 2, -999.0000, 9,    179.7, 1,   -999.0, 9,  -999.00, 9,  -999.00, 9,  -999.00, 9,  -999.00, 9, -999.000, 9, -999.000, 9, -999.000, 9,   -999.0, 9,   -999.0, 9, -999.0000, 9,   -999.00, -999.000, 9, -999.000,   -999.0, 9,   -999.0,  -999.00, 9,   -999.0,   3.4201, 27.3877,   3.4922, 2, 1001.8, 2, 187.78, 2, -999, -999, -999, -999, -999, 9,  -999.00, 9, -999, -999, 9, -999
49NZ20031106, A10, 89, 2, 22, 12046, 2, 20031130, 2246, -29.7478, 10.9778, 4276,   1200.7, 2,   3.3291, 2,  34.5716, 2,  34.5715, 2,    169.4, 1,    176.4, 2,    49.53, 2,    32.45, 2,    -0.01, 2,     2.25, 2, -999.000, 9, -999.000, 9, -999.000, 9,   -999.0, 9,   -999.0, 9, -999.0000, 9,   -999.00, -999.000, 9, -999.000,   -999.0, 9,   -999.0,  -999.00, 9,   -999.0,   3.2425, 27.5214,   3.3305, 2, 1200.9, 2, 176.88, 2, 0.23, 0.12, 0.01, 0.02, -999, 9,  -999.00, 9, -999, -999, 9, -999
49NZ20031106, A10, 89, 2, 21, 12045, 2, 20031130, 2246, -29.7478, 10.9778, 4276,   1400.8, 2,   3.1285, 2,  34.6872, 2,  34.6868, 2,    179.5, 1,    187.0, 2,    50.49, 2,    30.23, 2,    -0.01, 2,     2.09, 2, -999.000, 9, -999.000, 9, -999.000, 9,   -999.0, 9,   -999.0, 9, -999.0000, 9,   -999.00, -999.000, 9, -999.000,   -999.0, 9,   -999.0,  -999.00, 9,   -999.0,   3.0272, 27.6335,   3.1335, 2, 1401.9, 2, 186.19, 2, 0.23, 0.12, 0.01, 0.02, -999, 9,  -999.00, 9, -999, -999, 9, -999
49NZ20031106, A10, 89, 2, 20, 12044, 2, 20031130, 2246, -29.7478, 10.9778, 4276,   1600.2, 2,   3.1741, 2,  34.7843, 2,  34.7846, 2,    193.1, 1,    201.4, 2,    43.50, 2,    27.41, 2,    -0.01, 2,     1.89, 2, -999.000, 9, -999.000, 9, -999.000, 9,   -999.0, 9,   -999.0, 9, -999.0000, 9,   -999.00, -999.000, 9, -999.000,   -999.0, 9,   -999.0,  -999.00, 9,   -999.0,   3.0552, 27.7087,   3.1741, 2, 1601.1, 2, 200.09, 2, 0.21, 0.11, 0.01, 0.01, -999, 9,  -999.00, 9, -999, -999, 9, -999
49NZ20031106, A10, 89, 2, 19, 12043, 2, 20031130, 2246, -29.7478, 10.9778, 4276,   1801.2, 2,   3.1417, 2,  34.8331, 2,  34.8342, 2,    203.2, 1,    212.5, 2,    40.16, 2,    25.69, 2,    -0.01, 2,     1.76, 2, -999.000, 9, -999.000, 9, -999.000, 9,   -999.0, 9,   -999.0, 9, -999.0000, 9,   -999.00, -999.000, 9, -999.000,   -999.0, 9,   -999.0,  -999.00, 9,   -999.0,   3.0054, 27.7525,   3.1417, 2, 1801.7, 2, 211.03, 2, 0.21, 0.1, 0.01, 0.01, -999, 9,  -999.00, 9, -999, -999, 9, -999
49NZ20031106, A10, 89, 2, 18, 12042, 2, 20031130, 2246, -29.7478, 10.9778, 4276,   1999.5, 2,   3.0893, 2,  34.8661, 2,  34.8662, 2,    210.9, 1,    221.0, 2,    38.34, 2,    24.43, 2,     0.00, 2,     1.68, 2, -999.000, 9, -999.000, 9, -999.000, 9,   -999.0, 9,   -999.0, 9, -999.0000, 9,   -999.00, -999.000, 9, -999.000,   -999.0, 9,   -999.0,  -999.00, 9,   -999.0,   2.9357, 27.7854,   3.0888, 2, 1999.6, 2, 220.67, 2, 0.2, 0.1, 0.01, 0.01, -999, 9,  -999.00, 9, -999, -999, 9, -999
49NZ20031106, A10, 89, 2, 17, 12041, 2, 20031130, 2246, -29.7478, 10.9778, 4276,   2200.3, 2,   2.9317, 2,  34.8709, 2,  34.8713, 2,    216.6, 1,    226.7, 2,    40.19, 2,    23.98, 2,    -0.01, 2,     1.64, 2, -999.000, 9, -999.000, 9, -999.000, 9,   -999.0, 9,   -999.0, 9, -999.0000, 9,   -999.00, -999.000, 9, -999.000,   -999.0, 9,   -999.0,  -999.00, 9,   -999.0,   2.7620, 27.8051,   2.9318, 2, 2200.8, 2, 225.69, 2, 0.21, 0.1, 0.01, 0.01, -999, 9,  -999.00, 9, -999, -999, 9, -999
49NZ20031106, A10, 89, 2, 16, 12040, 2, 20031130, 2246, -29.7478, 10.9778, 4276,   2399.4, 2,   2.8053, 2,  34.8752, 2,  34.8756, 2,    220.0, 1,    230.3, 2,    41.86, 2,    23.66, 2,    -0.01, 2,     1.62, 2, -999.000, 9, -999.000, 9, -999.000, 9,   -999.0, 9,   -999.0, 9, -999.0000, 9,   -999.00, -999.000, 9, -999.000,   -999.0, 9,   -999.0,  -999.00, 9,   -999.0,   2.6189, 27.8211,   2.8053, 2, 2400, 2, 229.61, 2, 0.21, 0.1, 0.01, 0.01, -999, 9,  -999.00, 9, -999, -999, 9, -999
49NZ20031106, A10, 89, 2, 15, 12039, 2, 20031130, 2246, -29.7478, 10.9778, 4276,   2599.9, 2,   2.6283, 2,  34.8657, 2,  34.8658, 2,    220.2, 1,    230.5, 2,    46.50, 2,    24.02, 2,    -0.01, 2,     1.65, 2, -999.000, 9, -999.000, 9, -999.000, 9,   -999.0, 9,   -999.0, 9, -999.0000, 9,   -999.00, -999.000, 9, -999.000,   -999.0, 9,   -999.0,  -999.00, 9,   -999.0,   2.4259, 27.8304,   2.6281, 2, 2600.5, 2, 230.53, 2, 0.22, 0.1, 0.01, 0.01, -999, 9,  -999.00, 9, -999, -999, 9, -999
49NZ20031106, A10, 89, 2, 14, 12038, 2, 20031130, 2246, -29.7478, 10.9778, 4276,   2800.0, 2,   2.5200, 2,  34.8618, 2,  34.8619, 2,    220.9, 1,    230.9, 2,    49.38, 2,    24.10, 2,    -0.01, 2,     1.66, 2, -999.000, 9, -999.000, 9, -999.000, 9,   -999.0, 9,   -999.0, 9, -999.0000, 9,   -999.00, -999.000, 9, -999.000,   -999.0, 9,   -999.0,  -999.00, 9,   -999.0,   2.3001, 27.8377,   2.5198, 2, 2800.4, 2, 230.86, 2, 0.23, 0.1, 0.01, 0.01, -999, 9,  -999.00, 9, -999, -999, 9, -999
49NZ20031106, A10, 89, 2, 13, 12037, 2, 20031130, 2246, -29.7478, 10.9778, 4276,   2999.1, 2,   2.4582, 2,  34.8627, 2,  34.8627, 2,    221.9, 1,    231.5, 2,    50.84, 2,    24.14, 2,    -0.01, 2,     1.65, 2, -999.000, 9, -999.000, 9, -999.000, 9,   -999.0, 9,   -999.0, 9, -999.0000, 9,   -999.00, -999.000, 9, -999.000,   -999.0, 9,   -999.0,  -999.00, 9,   -999.0,   2.2196, 27.8453,   2.4581, 2, 2999.5, 2, 231.47, 2, 0.23, 0.1, 0.01, 0.01, -999, 9,  -999.00, 9, -999, -999, 9, -999
49NZ20031106, A10, 89, 2, 12, 12036, 2, 20031130, 2246, -29.7478, 10.9778, 4276,   3248.9, 2,   2.3768, 2,  34.8601, 2,  34.8600, 2,    222.3, 1,    231.5, 2,    53.53, 2,    24.25, 2,    -0.01, 2,     1.66, 2, -999.000, 9, -999.000, 9, -999.000, 9,   -999.0, 9,   -999.0, 9, -999.0000, 9,   -999.00, -999.000, 9, -999.000,   -999.0, 9,   -999.0,  -999.00, 9,   -999.0,   2.1144, 27.8517,   2.3769, 2, 3249.1, 2, 231.59, 2, 0.24, 0.1, 0.01, 0.01, -999, 9,  -999.00, 9, -999, -999, 9, -999
49NZ20031106, A10, 89, 2, 11, 12035, 2, 20031130, 2246, -29.7478, 10.9778, 4276,   3499.1, 2,   2.3081, 2,  34.8561, 2,  34.8561, 2,    222.3, 1,    231.2, 2,    56.30, 2,    24.48, 2,    -0.01, 2,     1.68, 2, -999.000, 9, -999.000, 9, -999.000, 9,   -999.0, 9,   -999.0, 9, -999.0000, 9,   -999.00, -999.000, 9, -999.000,   -999.0, 9,   -999.0,  -999.00, 9,   -999.0,   2.0209, 27.8562,   2.3081, 2, 3499, 2, 231.14, 2, 0.24, 0.1, 0.01, 0.01, -999, 9,  -999.00, 9, -999, -999, 9, -999
49NZ20031106, A10, 89, 2, 10, 12034, 2, 20031130, 2246, -29.7478, 10.9778, 4276,   3750.4, 2,   2.1617, 2,  34.8429, 2,  34.8429, 2,    220.8, 1,    228.9, 2,    62.69, 2,    25.22, 2,    -0.01, 2,     1.74, 2, -999.000, 9, -999.000, 9, -999.000, 9,   -999.0, 9,   -999.0, 9, -999.0000, 9,   -999.00, -999.000, 9, -999.000,   -999.0, 9,   -999.0,  -999.00, 9,   -999.0,   1.8510, 27.859,   2.1619, 2, 3750.5, 2, 228.97, 2, 0.26, 0.1, 0.01, 0.01, -999, 9,  -999.00, 9, -999, -999, 9, -999
49NZ20031106, A10, 89, 2, 9, 12033, 2, 20031130, 2246, -29.7478, 10.9778, 4276,   3999.0, 2,   1.7980, 2,  34.8041, 2,  34.8040, 2,    216.1, 1,    223.4, 2,    78.23, 2,    27.19, 2,    -0.01, 2,     1.88, 2, -999.000, 9, -999.000, 9, -999.000, 9,   -999.0, 9,   -999.0, 9, -999.0000, 9,   -999.00, -999.000, 9, -999.000,   -999.0, 9,   -999.0,  -999.00, 9,   -999.0,   1.4701, 27.8566,   1.7982, 2, 3999.1, 2, 223.37, 2, 0.29, 0.11, 0.01, 0.01, -999, 9,  -999.00, 9, -999, -999, 9, -999
49NZ20031106, A10, 89, 2, 8, 12032, 2, 20031130, 2246, -29.7478, 10.9778, 4276,   4248.4, 2,   1.2708, 2,  34.7525, 2,  34.7524, 2,    207.8, 1,    213.4, 2,   101.06, 2,    30.12, 2,     0.00, 2,     2.08, 2, -999.000, 9, -999.000, 9, -999.000, 9,   -999.0, 9,   -999.0, 9, -999.0000, 9,   -999.00, -999.000, 9, -999.000,   -999.0, 9,   -999.0,  -999.00, 9,   -999.0,   0.9308, 27.8527,   1.2704, 2, 4248.6, 2, 213.3, 2, 0.34, 0.12, 0.01, 0.02, -999, 9,  -999.00, 9, -999, -999, 9, -999
49NZ20031106, A10, 89, 2, 7, 12031, 2, 20031130, 2246, -29.7478, 10.9778, 4276,   4334.6, 2,   1.1832, 2,  34.7433, 2,  34.7433, 2,    207.8, 1,    212.1, 2,   104.71, 2,    30.60, 2,     0.00, 2,     2.11, 2, -999.000, 9, -999.000, 9, -999.000, 9,   -999.0, 9,   -999.0, 9, -999.0000, 9,   -999.00, -999.000, 9, -999.000,   -999.0, 9,   -999.0,  -999.00, 9,   -999.0,   0.8363, 27.8516,   1.1833, 2, 4334.6, 2, 211.58, 2, 0.35, 0.12, 0.01, 0.02, -999, 9,  -999.00, 9, -999, -999, 9, -999