BOTTLE,20220818CCHSIOAMB
EXPOCODE,SECT_ID,STNNBR,CASTNO,SAMPNO,BTLNBR,BTLNBR_FLAG_W,DATE,TIME,LATITUDE,LONGITUDE,DEPTH,CTDPRS,CTDPRS_FLAG_W,CTDTMP,CTDTMP_FLAG_W,CTDSAL,CTDSAL_FLAG_W,SALNTY,SALNTY_FLAG_W,CTDOXY,CTDOXY_FLAG_W,OXYGEN,OXYGEN_FLAG_W,SILCAT,SILCAT_FLAG_W,NITRAT,NITRAT_FLAG_W,NITRIT,NITRIT_FLAG_W,PHSPHT,PHSPHT_FLAG_W,CFC-11,CFC-11_FLAG_W,CFC-12,CFC-12_FLAG_W,CFC113,CFC113_FLAG_W,TCARBN,TCARBN_FLAG_W,ALKALI,ALKALI_FLAG_W,PH_TOT,PH_TOT_FLAG_W,PH_TMP,TRITUM,TRITUM_FLAG_W,TRITER,DELC14,DELC14_FLAG_W,C14ERR,DELC13,DELC13_FLAG_W,C13ERR,THETA,SIG0,SBE35,SBE35_FLAG_W,DWNPRS,DWNPRS_FLAG_W,DWNOXY,DWNOXY_FLAG_W,SILUNC,NRAUNC,NRIUNC,PHPUNC,TOC,TOC_FLAG_W,CS-137,CS-137_FLAG_W,CS137ER,PLUTO,PLUTO_FLAG_W,PLUTOER
,,,,,,,,,,,METERS,DBAR,,ITS-90,,PSS-78,,PSS-78,,UMOL/KG,,UMOL/KG,,UMOL/KG,,UMOL/KG,,UMOL/KG,,UMOL/KG,,PMOL/KG,,PMOL/KG,,PMOL/KG,,UMOL/KG,,UMOL/KG,,,,DEG C,TU,,TU,/MILLE,,/MILLE,/MILLE,,/MILLE,DEG C,KG/M^3,ITS-90,,DBAR,,UMOL/KG,,UMOL/KG,UMOL/KG,UMOL/KG,UMOL/KG,UMOL/KG,,BQ/M^3,,BQ/M^3,MBQ/M^3,,MBQ/M^3
49NZ20031106, A10, 61, 1, 2, 12038, 9, 20031122, 1857, -30.0012, -9.6587, 3785,     10.3, 2,  19.2600, 2,  35.8569, 2, -999.0000, 9,    221.1, 1,   -999.0, 9,  -999.00, 9,  -999.00, 9,  -999.00, 9,  -999.00, 9, -999.000, 9, -999.000, 9, -999.000, 9,   -999.0, 9,   -999.0, 9, -999.0000, 9,   -999.00, -999.000, 9, -999.000,   -999.0, 9,   -999.0,  -999.00, 9,   -999.0,  19.2581, 25.6121,  19.2594, 2, 13.3, 2, 234.01, 2, -999, -999, -999, -999, -999, 9,  -999.00, 9, -999, -999, 9, -999
49NZ20031106, A10, 61, 1, 36, 12036, 2, 20031122, 1857, -30.0012, -9.6587, 3785,     10.7, 2,  19.2535, 2,  35.8570, 2,  35.8571, 2,    221.0, 1,    233.8, 2,     1.31, 2,     0.02, 2,     0.00, 2,     0.17, 2,    2.518, 2,    1.454, 2,    0.262, 4,   2072.4, 2,   2354.6, 2,    7.9983, 2,     25.00, -999.000, 9, -999.000,   -999.0, 9,   -999.0,  -999.00, 9,   -999.0,  19.2516, 25.6135,  19.2547, 2, 14.1, 2, 234.16, 2, 0.12, 0.03, 0.01, 0.02, -999, 9,  -999.00, 9, -999, -999, 9, -999
49NZ20031106, A10, 61, 1, 35, 12035, 2, 20031122, 1857, -30.0012, -9.6587, 3785,     50.2, 2,  18.3743, 2,  35.8215, 2,  35.8215, 2,    226.5, 1,    239.1, 2,     1.32, 2,     0.01, 2,    -0.01, 2,     0.17, 2,    2.604, 2,    1.462, 2,    0.308, 4,   2070.4, 6,   2349.5, 2,    7.9993, 2,     25.00, -999.000, 9, -999.000,   -999.0, 9,   -999.0,  -999.00, 9,   -999.0,  18.3655, 25.8132,  18.3778, 2, 47.7, 2, 238.51, 2, 0.12, 0.03, 0.01, 0.02, -999, 9,  -999.00, 9, -999, -999, 9, -999
49NZ20031106, A10, 61, 1, 34, 12034, 2, 20031122, 1857, -30.0012, -9.6587, 3785,    100.5, 2,  17.6375, 2,  35.7676, 2,  35.7715, 2,    226.6, 1,    239.2, 2,     1.36, 2,     0.01, 2,     0.00, 2,     0.18, 2,    2.667, 2,    1.524, 2,    0.396, 4,   2069.4, 2,   2347.1, 6,    7.9955, 2,     25.00, -999.000, 9, -999.000,   -999.0, 9,   -999.0,  -999.00, 9,   -999.0,  17.6204, 25.9559,  17.6304, 2, 101, 2, 239.14, 2, 0.12, 0.03, 0.01, 0.02, -999, 9,  -999.00, 9, -999, -999, 9, -999
49NZ20031106, A10, 61, 1, 33, 12033, 2, 20031122, 1857, -30.0012, -9.6587, 3785,    150.7, 2,  16.9676, 2,  35.6846, 2,  35.6873, 2,    224.1, 1,    236.7, 2,     1.38, 2,     0.05, 2,     0.05, 2,     0.21, 2,    2.693, 2,    1.534, 2,    0.287, 4,   2074.4, 2,   2341.6, 2,    7.9807, 6,     25.00, -999.000, 9, -999.000,   -999.0, 9,   -999.0,  -999.00, 9,   -999.0,  16.9427, 26.0562,  16.9587, 2, 152.9, 2, 235.69, 2, 0.12, 0.03, 0.01, 0.02, -999, 9,  -999.00, 9, -999, -999, 9, -999
49NZ20031106, A10, 61, 1, 32, 12032, 2, 20031122, 1857, -30.0012, -9.6587, 3785,    200.8, 2,  15.8148, 2,  35.5431, 2,  35.5450, 2,    212.4, 1,    223.6, 2,     1.98, 2,     2.81, 2,     0.02, 2,     0.38, 2,    2.912, 2,    1.623, 2,    0.203, 4,   2088.6, 2,   2335.7, 2,    7.9396, 2,     25.00, -999.000, 9, -999.000,   -999.0, 9,   -999.0,  -999.00, 9,   -999.0,  15.7831, 26.2168,  15.8115, 2, 200.8, 2, 222.57, 2, 0.12, 0.04, 0.01, 0.01, -999, 9,  -999.00, 9, -999, -999, 9, -999
49NZ20031106, A10, 61, 1, 31, 12031, 2, 20031122, 1857, -30.0012, -9.6587, 3785,    251.1, 2,  14.7600, 2,  35.4089, 2,  35.4084, 2,    209.8, 1,    220.4, 2,     2.46, 2,     5.16, 2,     0.01, 2,     0.50, 2,    3.045, 2,    1.681, 2,    0.124, 4,   2096.1, 2,   2326.2, 2,    7.9128, 2,     25.00, -999.000, 9, -999.000,   -999.0, 9,   -999.0,  -999.00, 9,   -999.0,  14.7222, 26.3491,  14.7605, 2, 250.3, 2, 220.36, 2, 0.12, 0.05, 0.01, 0.01, -999, 9,  -999.00, 9, -999, -999, 9, -999
49NZ20031106, A10, 61, 1, 30, 12030, 2, 20031122, 1857, -30.0012, -9.6587, 3785,    299.9, 2,  13.7317, 2,  35.2633, 2,  35.2632, 2,    207.6, 1,    217.9, 2,     2.92, 2,     7.40, 2,     0.01, 2,     0.64, 2,    3.121, 2,    1.684, 2,    0.102, 4,   2104.0, 2,   2314.2, 2,    7.8853, 2,     25.00, -999.000, 9, -999.000,   -999.0, 9,   -999.0,  -999.00, 9,   -999.0,  13.6887, 26.4573,  13.7319, 2, 296.3, 2, 217.56, 2, 0.13, 0.05, 0.01, 0.01, -999, 9,  -999.00, 9, -999, -999, 9, -999
49NZ20031106, A10, 61, 1, 29, 12029, 2, 20031122, 1857, -30.0012, -9.6587, 3785,    402.8, 2,  12.0278, 2,  35.0469, 2,  35.0490, 2,    202.0, 1,    211.7, 2,     4.33, 2,    11.96, 2,     0.00, 2,     0.92, 2, -999.000, 5, -999.000, 5, -999.000, 5,   2120.2, 2,   2308.9, 2,    7.8336, 2,     25.00, -999.000, 9, -999.000,   -999.0, 9,   -999.0,  -999.00, 9,   -999.0,  11.9747, 26.6304,  12.0316, 2, 398, 2, 211.91, 2, 0.13, 0.07, 0.01, 0.01, -999, 9,  -999.00, 9, -999, -999, 9, -999
49NZ20031106, A10, 61, 1, 28, 12028, 2, 20031122, 1857, -30.0012, -9.6587, 3785,    500.7, 2,  10.1845, 2,  34.8183, 2,  34.8175, 2,    198.0, 1,    206.7, 2,     6.77, 2,    16.88, 2,     0.01, 2,     1.23, 2,    3.059, 2,    1.609, 2,    0.115, 4,   2137.2, 2,   2294.2, 2,    7.7777, 2,     25.00, -999.000, 9, -999.000,   -999.0, 9,   -999.0,  -999.00, 9,   -999.0,  10.1250, 26.7891,  10.1823, 2, 495.9, 2, 205.91, 2, 0.13, 0.08, 0.01, 0.01, -999, 9,  -999.00, 9, -999, -999, 9, -999
49NZ20031106, A10, 61, 1, 27, 12027, 2, 20031122, 1857, -30.0012, -9.6587, 3785,    601.7, 2,   8.1495, 2,  34.5871, 2,  34.5890, 2,    197.0, 1,    205.3, 2,    10.44, 2,    22.12, 2,     0.01, 2,     1.55, 2,    3.014, 2,    1.529, 2,    0.148, 4,   2154.1, 2,   2290.9, 2,    7.7214, 2,     25.00, -999.000, 9, -999.000,   -999.0, 9,   -999.0,  -999.00, 9,   -999.0,   8.0867, 26.9368,   8.1493, 2, 599.7, 2, 206.3, 2, 0.14, 0.09, 0.01, 0.01, -999, 9,  -999.00, 9, -999, -999, 9, -999
49NZ20031106, A10, 61, 1, 26, 12026, 2, 20031122, 1857, -30.0012, -9.6587, 3785,    700.7, 2,   6.3841, 2,  34.4234, 2,  34.4234, 2,    202.3, 1,    210.9, 2,    14.96, 2,    26.08, 2,     0.00, 2,     1.80, 2,    2.878, 2,    1.427, 2,    0.142, 4,   2166.3, 6,   2284.5, 2,    7.6823, 2,     25.00, -999.000, 9, -999.000,   -999.0, 9,   -999.0,  -999.00, 9,   -999.0,   6.3199, 27.0556,   6.3858, 2, 701, 2, 210.77, 2, 0.15, 0.11, 0.01, 0.01, -999, 9,  -999.00, 9, -999, -999, 9, -999
49NZ20031106, A10, 61, 1, 25, 12025, 2, 20031122, 1857, -30.0012, -9.6587, 3785,    800.2, 2,   5.0619, 2,  34.3330, 2,  34.3332, 2,    208.6, 1,    217.7, 2,    20.41, 2,    28.62, 2,     0.00, 2,     1.97, 2,    2.621, 2,    1.285, 2,    0.153, 4,   2176.2, 2,   2287.5, 6,    7.6637, 2,     25.00, -999.000, 9, -999.000,   -999.0, 9,   -999.0,  -999.00, 9,   -999.0,   4.9962, 27.1467,   5.0678, 2, 802.3, 2, 221.3, 2, 0.16, 0.11, 0.01, 0.01, -999, 9,  -999.00, 9, -999, -999, 9, -999
49NZ20031106, A10, 61, 1, 24, 12024, 2, 20031122, 1857, -30.0012, -9.6587, 3785,    901.4, 2,   4.2738, 2,  34.3253, 2,  34.3249, 2,    203.4, 1,    212.4, 2,    28.27, 2,    30.49, 2,     0.00, 2,     2.12, 2,    2.025, 2,    1.004, 2,    0.100, 4,   2189.6, 2,   2289.5, 2,    7.6399, 6,     25.00, -999.000, 9, -999.000,   -999.0, 9,   -999.0,  -999.00, 9,   -999.0,   4.2046, 27.2286,   4.2713, 2, 904.9, 2, 212.95, 2, 0.18, 0.12, 0.01, 0.02, -999, 9,  -999.00, 9, -999, -999, 9, -999
49NZ20031106, A10, 61, 1, 4, 12040, 9, 20031122, 1857, -30.0012, -9.6587, 3785,    999.8, 2,   3.7143, 2,  34.3337, 2, -999.0000, 9,    201.1, 1,   -999.0, 9,  -999.00, 9,  -999.00, 9,  -999.00, 9,  -999.00, 9, -999.000, 9, -999.000, 9, -999.000, 9,   -999.0, 9,   -999.0, 9, -999.0000, 9,   -999.00, -999.000, 9, -999.000,   -999.0, 9,   -999.0,  -999.00, 9,   -999.0,   3.6411, 27.2928,   3.7146, 2, 1000.9, 2, 210.15, 2, -999, -999, -999, -999, -999, 9,  -999.00, 9, -999, -999, 9, -999
49NZ20031106, A10, 61, 1, 23, 12023, 2, 20031122, 1857, -30.0012, -9.6587, 3785,   1000.2, 2,   3.7118, 2,  34.3341, 2,  34.3338, 2,    200.8, 1,    209.0, 2,    34.80, 2,    31.63, 2,     0.00, 2,     2.18, 2,    1.614, 6,    0.818, 6,    0.078, 4,   2200.1, 2,   2293.1, 2,    7.6267, 2,     25.00, -999.000, 9, -999.000,   -999.0, 9,   -999.0,  -999.00, 9,   -999.0,   3.6386, 27.2933,   3.7112, 2, 1001.3, 2, 210.13, 2, 0.2, 0.12, 0.01, 0.02, -999, 9,  -999.00, 9, -999, -999, 9, -999
49NZ20031106, A10, 61, 1, 3, 12039, 9, 20031122, 1857, -30.0012, -9.6587, 3785,   1000.2, 2,   3.7124, 2,  34.3336, 2, -999.0000, 9,    200.7, 1,   -999.0, 9,  -999.00, 9,  -999.00, 9,  -999.00, 9,  -999.00, 9, -999.000, 9, -999.000, 9, -999.000, 9,   -999.0, 9,   -999.0, 9, -999.0000, 9,   -999.00, -999.000, 9, -999.000,   -999.0, 9,   -999.0,  -999.00, 9,   -999.0,   3.6392, 27.2935,   3.7102, 2, 1001.3, 2, 210.13, 2, -999, -999, -999, -999, -999, 9,  -999.00, 9, -999, -999, 9, -999
49NZ20031106, A10, 61, 1, 5, 12041, 9, 20031122, 1857, -30.0012, -9.6587, 3785,   1000.7, 2,   3.7105, 2,  34.3334, 2, -999.0000, 9,    201.0, 1,   -999.0, 9,  -999.00, 9,  -999.00, 9,  -999.00, 9,  -999.00, 9, -999.000, 9, -999.000, 9, -999.000, 9,   -999.0, 9,   -999.0, 9, -999.0000, 9,   -999.00, -999.000, 9, -999.000,   -999.0, 9,   -999.0,  -999.00, 9,   -999.0,   3.6373, 27.293,   3.7112, 2, 1001.7, 2, 210.11, 2, -999, -999, -999, -999, -999, 9,  -999.00, 9, -999, -999, 9, -999
49NZ20031106, A10, 61, 1, 6, 12042, 9, 20031122, 1857, -30.0012, -9.6587, 3785,   1001.0, 2,   3.7095, 2,  34.3334, 2, -999.0000, 9,    200.9, 1,   -999.0, 9,  -999.00, 9,  -999.00, 9,  -999.00, 9,  -999.00, 9, -999.000, 9, -999.000, 9, -999.000, 9,   -999.0, 9,   -999.0, 9, -999.0000, 9,   -999.00, -999.000, 9, -999.000,   -999.0, 9,   -999.0,  -999.00, 9,   -999.0,   3.6363, 27.2931,   3.7117, 2, 1002, 2, 210.1, 2, -999, -999, -999, -999, -999, 9,  -999.00, 9, -999, -999, 9, -999
49NZ20031106, A10, 61, 1, 22, 12022, 2, 20031122, 1857, -30.0012, -9.6587, 3785,   1200.3, 2,   3.2087, 2,  34.4486, 2,  34.4500, 2,    182.1, 1,    189.9, 2,    48.96, 2,    32.85, 2,     0.00, 2,     2.28, 2,    0.563, 2,    0.325, 2,    0.022, 4,   2223.3, 2,   2310.1, 2,    7.6049, 2,     25.00, -999.000, 9, -999.000,   -999.0, 9,   -999.0,  -999.00, 9,   -999.0,   3.1235, 27.4343,   3.2117, 2, 1201.9, 2, 189.93, 2, 0.23, 0.12, 0.01, 0.02, -999, 9,  -999.00, 9, -999, -999, 9, -999
49NZ20031106, A10, 61, 1, 21, 12015, 2, 20031122, 1857, -30.0012, -9.6587, 3785,   1399.9, 2,   2.9930, 2,  34.5744, 2,  34.5739, 2,    177.7, 1,    185.2, 2,    55.12, 2,    32.16, 2,     0.00, 2,     2.24, 2, -999.000, 5, -999.000, 5, -999.000, 5,   2231.4, 2,   2320.0, 2,    7.6074, 2,     25.00, -999.000, 9, -999.000,   -999.0, 9,   -999.0,  -999.00, 9,   -999.0,   2.8935, 27.5559,   2.9929, 2, 1401.4, 2, 185.18, 2, 0.24, 0.12, 0.01, 0.02, -999, 9,  -999.00, 9, -999, -999, 9, -999
49NZ20031106, A10, 61, 1, 20, 12020, 2, 20031122, 1857, -30.0012, -9.6587, 3785,   1599.3, 2,   2.8989, 2,  34.6876, 2,  34.6876, 2,    185.5, 1,    193.3, 2,    54.41, 2,    29.99, 2,     0.00, 2,     2.08, 2,    0.057, 2,    0.048, 2,    0.000, 4,   2224.0, 2,   2322.6, 2,    7.6290, 2,     25.00, -999.000, 9, -999.000,   -999.0, 9,   -999.0,  -999.00, 9,   -999.0,   2.7836, 27.6562,   2.8989, 2, 1600.2, 2, 192.49, 2, 0.24, 0.12, 0.01, 0.02, -999, 9,  -999.00, 9, -999, -999, 9, -999
49NZ20031106, A10, 61, 1, 19, 12019, 2, 20031122, 1857, -30.0012, -9.6587, 3785,   1800.2, 2,   2.8249, 2,  34.7543, 2,  34.7542, 2,    195.6, 1,    203.9, 2,    52.52, 2,    28.18, 2,     0.00, 2,     1.94, 2,    0.023, 2,    0.024, 2,    0.000, 4,   2218.9, 2,   2338.7, 4,    7.6520, 2,     25.00, -999.000, 9, -999.000,   -999.0, 9,   -999.0,  -999.00, 9,   -999.0,   2.6932, 27.7175,   2.8250, 2, 1800.2, 2, 203.18, 2, 0.23, 0.11, 0.01, 0.01, -999, 9,  -999.00, 9, -999, -999, 9, -999
49NZ20031106, A10, 61, 1, 18, 12018, 2, 20031122, 1857, -30.0012, -9.6587, 3785,   2000.6, 2,   2.7034, 2,  34.7973, 2,  34.7976, 2,    205.3, 1,    214.0, 2,    51.72, 2,    26.69, 2,     0.00, 2,     1.84, 2,    0.008, 2,    0.008, 2,    0.000, 4,   2212.6, 2,   2327.2, 2,    7.6723, 6,     25.00, -999.000, 9, -999.000,   -999.0, 9,   -999.0,  -999.00, 9,   -999.0,   2.5557, 27.764,   2.7034, 2, 2000.4, 2, 213.49, 2, 0.23, 0.11, 0.01, 0.01, -999, 9,  -999.00, 9, -999, -999, 9, -999
49NZ20031106, A10, 61, 1, 17, 12017, 2, 20031122, 1857, -30.0012, -9.6587, 3785,   2200.8, 2,   2.6030, 2,  34.8225, 2,  34.8224, 2,    212.2, 1,    221.5, 2,    51.35, 2,    25.70, 2,     0.00, 2,     1.76, 2,   -0.004, 2,   -0.002, 2,    0.000, 4,   2209.4, 2,   2324.2, 2,    7.6841, 2,     25.00, -999.000, 9, -999.000,   -999.0, 9,   -999.0,  -999.00, 9,   -999.0,   2.4388, 27.7941,   2.6031, 2, 2200.9, 2, 220.74, 2, 0.23, 0.1, 0.01, 0.01, -999, 9,  -999.00, 9, -999, -999, 9, -999
49NZ20031106, A10, 61, 1, 16, 12016, 2, 20031122, 1857, -30.0012, -9.6587, 3785,   2400.8, 2,   2.5248, 2,  34.8379, 2,  34.8381, 2,    217.5, 1,    226.9, 2,    51.03, 2,    25.03, 2,     0.00, 2,     1.72, 2,   -0.005, 2,   -0.002, 2,    0.000, 4,   2205.0, 6,   2327.5, 2,    7.6923, 2,     25.00, -999.000, 9, -999.000,   -999.0, 9,   -999.0,  -999.00, 9,   -999.0,   2.3434, 27.8149,   2.5248, 2, 2400.8, 2, 226.39, 2, 0.23, 0.1, 0.01, 0.01, -999, 9,  -999.00, 9, -999, -999, 9, -999
49NZ20031106, A10, 61, 1, 15, 12012, 2, 20031122, 1857, -30.0012, -9.6587, 3785,   2599.7, 2,   2.4664, 2,  34.8500, 2,  34.8501, 2,    221.8, 1,    231.3, 2,    50.53, 2,    24.46, 2,     0.00, 2,     1.67, 2,    0.001, 2,    0.003, 2,    0.000, 4,   2203.3, 2,   2330.9, 2,    7.7107, 2,     25.00, -999.000, 9, -999.000,   -999.0, 9,   -999.0,  -999.00, 9,   -999.0,   2.2672, 27.8308,   2.4665, 2, 2599.1, 2, 231.26, 2, 0.23, 0.1, 0.01, 0.01, -999, 9,  -999.00, 9, -999, -999, 9, -999
49NZ20031106, A10, 61, 1, 14, 12014, 2, 20031122, 1857, -30.0012, -9.6587, 3785,   2800.3, 2,   2.4180, 2,  34.8600, 2,  34.8603, 2,    226.0, 1,    235.2, 2,    50.12, 2,    23.99, 2,     0.00, 2,     1.64, 2,    0.007, 2,    0.003, 2,    0.000, 4,   2201.3, 2,   2331.8, 2,    7.7122, 2,     25.00, -999.000, 9, -999.000,   -999.0, 9,   -999.0,  -999.00, 9,   -999.0,   2.2002, 27.8444,   2.4181, 2, 2800, 2, 234.88, 2, 0.23, 0.1, 0.01, 0.01, -999, 9,  -999.00, 9, -999, -999, 9, -999
49NZ20031106, A10, 61, 1, 9, 12045, 9, 20031122, 1857, -30.0012, -9.6587, 3785,   2900.5, 2,   2.4034, 2,  34.8631, 2, -999.0000, 9,    227.2, 1,   -999.0, 9,  -999.00, 9,  -999.00, 9,  -999.00, 9,  -999.00, 9, -999.000, 9, -999.000, 9, -999.000, 9,   -999.0, 9,   -999.0, 9, -999.0000, 9,   -999.00, -999.000, 9, -999.000,   -999.0, 9,   -999.0,  -999.00, 9,   -999.0,   2.1759, 27.8488,   2.4036, 2, 2900.4, 2, 235.94, 2, -999, -999, -999, -999, -999, 9,  -999.00, 9, -999, -999, 9, -999
49NZ20031106, A10, 61, 1, 13, 12013, 2, 20031122, 1857, -30.0012, -9.6587, 3785,   2998.5, 2,   2.3895, 2,  34.8650, 2,  34.8652, 2,    228.6, 1,    237.3, 2,    50.12, 2,    23.73, 2,     0.00, 2,     1.63, 2,    0.006, 2,    0.003, 2,    0.000, 4,   2201.6, 2,   2331.7, 2,    7.7149, 2,     25.00, -999.000, 9, -999.000,   -999.0, 9,   -999.0,  -999.00, 9,   -999.0,   2.1525, 27.8523,   2.3898, 2, 2998.4, 2, 237.07, 2, 0.23, 0.1, 0.01, 0.01, -999, 9,  -999.00, 9, -999, -999, 9, -999
49NZ20031106, A10, 61, 1, 8, 12044, 9, 20031122, 1857, -30.0012, -9.6587, 3785,   3099.2, 2,   2.3822, 2,  34.8663, 2, -999.0000, 9,    229.3, 1,   -999.0, 9,  -999.00, 9,  -999.00, 9,  -999.00, 9,  -999.00, 9, -999.000, 9, -999.000, 9, -999.000, 9,   -999.0, 9,   -999.0, 9, -999.0000, 9,   -999.00, -999.000, 9, -999.000,   -999.0, 9,   -999.0,  -999.00, 9,   -999.0,   2.1351, 27.8548,   2.3822, 2, 3099.1, 2, 237.75, 2, -999, -999, -999, -999, -999, 9,  -999.00, 9, -999, -999, 9, -999
49NZ20031106, A10, 61, 1, 12, 12048, 2, 20031122, 1857, -30.0012, -9.6587, 3785,   3248.7, 2,   2.3779, 2,  34.8696, 2,  34.8696, 2,    229.5, 1,    237.7, 2,    50.24, 2,    23.56, 2,     0.00, 2,     1.62, 2,    0.000, 2,    0.002, 2,    0.000, 4,   2202.4, 2,   2334.8, 2,    7.7170, 2,     25.00, -999.000, 9, -999.000,   -999.0, 9,   -999.0,  -999.00, 9,   -999.0,   2.1154, 27.8592,   2.3778, 2, 3248.7, 2, 237.75, 2, 0.23, 0.1, 0.01, 0.01, -999, 9,  -999.00, 9, -999, -999, 9, -999
49NZ20031106, A10, 61, 1, 7, 12043, 9, 20031122, 1857, -30.0012, -9.6587, 3785,   3351.3, 2,   2.3769, 2,  34.8716, 2, -999.0000, 9,    229.8, 1,   -999.0, 9,  -999.00, 9,  -999.00, 9,  -999.00, 9,  -999.00, 9, -999.000, 9, -999.000, 9, -999.000, 9,   -999.0, 9,   -999.0, 9, -999.0000, 9,   -999.00, -999.000, 9, -999.000,   -999.0, 9,   -999.0,  -999.00, 9,   -999.0,   2.1036, 27.8618,   2.3770, 2, 3351.3, 2, 237.54, 2, -999, -999, -999, -999, -999, 9,  -999.00, 9, -999, -999, 9, -999
49NZ20031106, A10, 61, 1, 1, 12037, 2, 20031122, 1857, -30.0012, -9.6587, 3785,   3500.1, 2,   2.3751, 2,  34.8734, 2,  34.8736, 2,    230.3, 1,    237.3, 2,    50.70, 2,    23.54, 2,     0.00, 2,     1.61, 2,    0.007, 2,    0.003, 2,    0.000, 4,   2205.8, 2,   2340.2, 2,    7.7191, 2,     25.00, -999.000, 9, -999.000,   -999.0, 9,   -999.0,  -999.00, 9,   -999.0,   2.0860, 27.8647,   2.3751, 2, 3500.1, 2, 237.36, 2, 0.23, 0.1, 0.01, 0.01, -999, 9,  -999.00, 9, -999, -999, 9, -999
49NZ20031106, A10, 61, 1, 11, 12047, 2, 20031122, 1857, -30.0012, -9.6587, 3785,   3500.6, 2,   2.3749, 2,  34.8732, 2,  34.8731, 2,    230.2, 1,    237.4, 2,    50.65, 2,    23.46, 2,     0.00, 2,     1.61, 2,   -0.004, 2,   -0.003, 2,    0.000, 4,   2203.6, 2,   2339.7, 2,    7.7207, 2,     25.00, -999.000, 9, -999.000,   -999.0, 9,   -999.0,  -999.00, 9,   -999.0,   2.0857, 27.8646,   2.3750, 2, 3500.6, 2, 237.35, 2, 0.23, 0.1, 0.01, 0.01, -999, 9,  -999.00, 9, -999, -999, 9, -999
49NZ20031106, A10, 61, 1, 10, 12046, 2, 20031122, 1857, -30.0012, -9.6587, 3785,   3813.9, 2,   2.3872, 2,  34.8779, 2,  34.8780, 2,    230.3, 1,    235.9, 2,    51.02, 2,    23.45, 2,     0.00, 2,     1.61, 2,    0.000, 2,   -0.003, 2,    0.000, 4,   2207.8, 2,   2347.9, 2,    7.7233, 2,     25.00, -999.000, 9, -999.000,   -999.0, 9,   -999.0,  -999.00, 9,   -999.0,   2.0633, 27.8703,   2.3871, 2, 3813.9, 2, 235.86, 2, 0.23, 0.1, 0.01, 0.01, -999, 9,  -999.00, 9, -999, -999, 9, -999