BOTTLE,20220818CCHSIOAMB
EXPOCODE,SECT_ID,STNNBR,CASTNO,SAMPNO,BTLNBR,BTLNBR_FLAG_W,DATE,TIME,LATITUDE,LONGITUDE,DEPTH,CTDPRS,CTDPRS_FLAG_W,CTDTMP,CTDTMP_FLAG_W,CTDSAL,CTDSAL_FLAG_W,SALNTY,SALNTY_FLAG_W,CTDOXY,CTDOXY_FLAG_W,OXYGEN,OXYGEN_FLAG_W,SILCAT,SILCAT_FLAG_W,NITRAT,NITRAT_FLAG_W,NITRIT,NITRIT_FLAG_W,PHSPHT,PHSPHT_FLAG_W,CFC-11,CFC-11_FLAG_W,CFC-12,CFC-12_FLAG_W,CFC113,CFC113_FLAG_W,TCARBN,TCARBN_FLAG_W,ALKALI,ALKALI_FLAG_W,PH_TOT,PH_TOT_FLAG_W,PH_TMP,TRITUM,TRITUM_FLAG_W,TRITER,DELC14,DELC14_FLAG_W,C14ERR,DELC13,DELC13_FLAG_W,C13ERR,THETA,SIG0,SBE35,SBE35_FLAG_W,DWNPRS,DWNPRS_FLAG_W,DWNOXY,DWNOXY_FLAG_W,SILUNC,NRAUNC,NRIUNC,PHPUNC,TOC,TOC_FLAG_W,CS-137,CS-137_FLAG_W,CS137ER,PLUTO,PLUTO_FLAG_W,PLUTOER
,,,,,,,,,,,METERS,DBAR,,ITS-90,,PSS-78,,PSS-78,,UMOL/KG,,UMOL/KG,,UMOL/KG,,UMOL/KG,,UMOL/KG,,UMOL/KG,,PMOL/KG,,PMOL/KG,,PMOL/KG,,UMOL/KG,,UMOL/KG,,,,DEG C,TU,,TU,/MILLE,,/MILLE,/MILLE,,/MILLE,DEG C,KG/M^3,ITS-90,,DBAR,,UMOL/KG,,UMOL/KG,UMOL/KG,UMOL/KG,UMOL/KG,UMOL/KG,,BQ/M^3,,BQ/M^3,MBQ/M^3,,MBQ/M^3
49NZ20031106, A10, 2, 1, 36, 12048, 2, 20031109, 503, -28.6107, -44.2228, 3706,     10.9, 2,  22.5893, 2,  36.9523, 2,  36.9521, 2,    201.6, 1,    213.0, 2,     0.83, 2,    -0.02, 2,     0.02, 2,     0.09, 2, -999.000, 9, -999.000, 9, -999.000, 9,   -999.0, 9,   -999.0, 9, -999.0000, 9,   -999.00, -999.000, 9, -999.000,   -999.0, 9,   -999.0,  -999.00, 9,   -999.0,  22.5871, 25.5366,  22.5885, 2, 13.9, 2, 213.3, 2, 0.12, 0.03, 0.01, 0.02, -999, 9,  -999.00, 9, -999, -999, 9, -999
49NZ20031106, A10, 2, 1, 35, 12047, 2, 20031109, 503, -28.6107, -44.2228, 3706,     50.8, 2,  22.5946, 2,  36.9516, 2,  36.9516, 2,    201.9, 1,    212.9, 2,     0.78, 2,    -0.05, 2,     0.02, 2,     0.09, 2, -999.000, 9, -999.000, 9, -999.000, 9,   -999.0, 9,   -999.0, 9, -999.0000, 9,   -999.00, -999.000, 9, -999.000,   -999.0, 9,   -999.0,  -999.00, 9,   -999.0,  22.5843, 25.5372,  22.5946, 2, 52.3, 2, 213.03, 2, 0.12, 0.03, 0.01, 0.02, -999, 9,  -999.00, 9, -999, -999, 9, -999
49NZ20031106, A10, 2, 1, 34, 12046, 2, 20031109, 503, -28.6107, -44.2228, 3706,    100.4, 2,  22.0539, 2,  36.8162, 2,  36.8859, 4,    198.5, 1,    211.1, 2,     0.87, 2,     0.07, 2,     0.08, 2,     0.10, 2, -999.000, 9, -999.000, 9, -999.000, 9,   -999.0, 9,   -999.0, 9, -999.0000, 9,   -999.00, -999.000, 9, -999.000,   -999.0, 9,   -999.0,  -999.00, 9,   -999.0,  22.0338, 25.5969,  22.0147, 2, 94.8, 2, 204.39, 2, 0.12, 0.03, 0.01, 0.02, -999, 9,  -999.00, 9, -999, -999, 9, -999
49NZ20031106, A10, 2, 1, 33, 12045, 2, 20031109, 503, -28.6107, -44.2228, 3706,    151.6, 2,  18.5576, 2,  36.0909, 2,  36.0904, 2,    197.1, 1,    207.2, 2,     1.23, 2,     1.78, 2,     0.05, 2,     0.23, 2, -999.000, 9, -999.000, 9, -999.000, 9,   -999.0, 9,   -999.0, 9, -999.0000, 9,   -999.00, -999.000, 9, -999.000,   -999.0, 9,   -999.0,  -999.00, 9,   -999.0,  18.5308, 25.9757,  18.5575, 2, 152.7, 2, 202.15, 2, 0.12, 0.04, 0.01, 0.02, -999, 9,  -999.00, 9, -999, -999, 9, -999
49NZ20031106, A10, 2, 1, 32, 12044, 2, 20031109, 503, -28.6107, -44.2228, 3706,    201.1, 2,  16.8200, 2,  35.8303, 2,  35.8347, 2,    198.1, 1,    207.8, 2,     1.66, 2,     3.41, 2,     0.03, 2,     0.35, 2, -999.000, 9, -999.000, 9, -999.000, 9,   -999.0, 9,   -999.0, 9, -999.0000, 9,   -999.00, -999.000, 9, -999.000,   -999.0, 9,   -999.0,  -999.00, 9,   -999.0,  16.7869, 26.2031,  16.8262, 2, 203.1, 2, 208.75, 2, 0.12, 0.04, 0.01, 0.01, -999, 9,  -999.00, 9, -999, -999, 9, -999
49NZ20031106, A10, 2, 1, 31, 12043, 2, 20031109, 503, -28.6107, -44.2228, 3706,    250.4, 2,  15.6479, 2,  35.6132, 2,  35.6135, 2,    197.5, 1,    206.7, 2,     1.84, 2,     4.86, 2,     0.03, 2,     0.45, 2, -999.000, 9, -999.000, 9, -999.000, 9,   -999.0, 9,   -999.0, 9, -999.0000, 9,   -999.00, -999.000, 9, -999.000,   -999.0, 9,   -999.0,  -999.00, 9,   -999.0,  15.6086, 26.3082,  15.6543, 2, 251.2, 2, 206.21, 2, 0.12, 0.05, 0.01, 0.01, -999, 9,  -999.00, 9, -999, -999, 9, -999
49NZ20031106, A10, 2, 1, 30, 12042, 2, 20031109, 503, -28.6107, -44.2228, 3706,    300.7, 2,  15.0495, 2,  35.5610, 2,  35.5617, 2,    202.8, 1,    212.0, 2,     1.92, 2,     5.75, 2,     0.02, 2,     0.50, 2, -999.000, 9, -999.000, 9, -999.000, 9,   -999.0, 9,   -999.0, 9, -999.0000, 9,   -999.00, -999.000, 9, -999.000,   -999.0, 9,   -999.0,  -999.00, 9,   -999.0,  15.0035, 26.4041,  15.0473, 2, 301.4, 2, 211.59, 2, 0.12, 0.05, 0.01, 0.01, -999, 9,  -999.00, 9, -999, -999, 9, -999
49NZ20031106, A10, 2, 1, 29, 12041, 2, 20031109, 503, -28.6107, -44.2228, 3706,    402.1, 2,  13.2914, 2,  35.2747, 2,  35.2757, 2,    200.9, 1,    209.3, 2,     2.90, 2,     9.44, 2,     0.01, 2,     0.73, 2, -999.000, 9, -999.000, 9, -999.000, 9,   -999.0, 9,   -999.0, 9, -999.0000, 9,   -999.00, -999.000, 9, -999.000,   -999.0, 9,   -999.0,  -999.00, 9,   -999.0,  13.2347, 26.5583,  13.2866, 2, 399.4, 2, 208.24, 2, 0.13, 0.06, 0.01, 0.01, -999, 9,  -999.00, 9, -999, -999, 9, -999
49NZ20031106, A10, 2, 1, 28, 12040, 2, 20031109, 503, -28.6107, -44.2228, 3706,    501.4, 2,  10.7321, 2,  34.8960, 2,  34.8950, 2,    199.1, 1,    206.9, 2,     5.34, 2,    15.54, 2,     0.01, 2,     1.11, 2, -999.000, 9, -999.000, 9, -999.000, 9,   -999.0, 9,   -999.0, 9, -999.0000, 9,   -999.00, -999.000, 9, -999.000,   -999.0, 9,   -999.0,  -999.00, 9,   -999.0,  10.6705, 26.7527,  10.7334, 2, 500.2, 2, 206.82, 2, 0.13, 0.08, 0.01, 0.01, -999, 9,  -999.00, 9, -999, -999, 9, -999
49NZ20031106, A10, 2, 1, 27, 12039, 2, 20031109, 503, -28.6107, -44.2228, 3706,    600.0, 2,   8.3104, 2,  34.6118, 2,  34.6106, 2,    200.1, 1,    207.4, 2,     9.42, 2,    21.44, 2,     0.01, 2,     1.49, 2, -999.000, 9, -999.000, 9, -999.000, 9,   -999.0, 9,   -999.0, 9, -999.0000, 9,   -999.00, -999.000, 9, -999.000,   -999.0, 9,   -999.0,  -999.00, 9,   -999.0,   8.2471, 26.9307,   8.3109, 2, 601.1, 2, 207.51, 2, 0.14, 0.09, 0.01, 0.01, -999, 9,  -999.00, 9, -999, -999, 9, -999
49NZ20031106, A10, 2, 1, 26, 12038, 2, 20031109, 503, -28.6107, -44.2228, 3706,    703.4, 2,   6.4665, 2,  34.4255, 2,  34.4257, 2,    209.5, 1,    217.4, 2,    13.20, 2,    25.04, 2,     0.02, 2,     1.73, 2, -999.000, 9, -999.000, 9, -999.000, 9,   -999.0, 9,   -999.0, 9, -999.0000, 9,   -999.00, -999.000, 9, -999.000,   -999.0, 9,   -999.0,  -999.00, 9,   -999.0,   6.4016, 27.0458,   6.4696, 2, 704.9, 2, 217.76, 2, 0.15, 0.1, 0.01, 0.01, -999, 9,  -999.00, 9, -999, -999, 9, -999
49NZ20031106, A10, 2, 1, 25, 12037, 2, 20031109, 503, -28.6107, -44.2228, 3706,    802.8, 2,   5.1511, 2,  34.3380, 2,  34.3378, 2,    212.0, 1,    220.2, 2,    19.08, 2,    28.02, 2,     0.01, 2,     1.92, 2, -999.000, 9, -999.000, 9, -999.000, 9,   -999.0, 9,   -999.0, 9, -999.0000, 9,   -999.00, -999.000, 9, -999.000,   -999.0, 9,   -999.0,  -999.00, 9,   -999.0,   5.0847, 27.14,   5.1509, 2, 803.3, 2, 220.48, 2, 0.16, 0.11, 0.01, 0.01, -999, 9,  -999.00, 9, -999, -999, 9, -999
49NZ20031106, A10, 2, 1, 24, 12036, 2, 20031109, 503, -28.6107, -44.2228, 3706,    900.6, 2,   4.1019, 2,  34.2820, 2,  34.2815, 2,    219.4, 1,    228.1, 2,    24.81, 2,    29.60, 2,     0.01, 2,     2.03, 2, -999.000, 9, -999.000, 9, -999.000, 9,   -999.0, 9,   -999.0, 9, -999.0000, 9,   -999.00, -999.000, 9, -999.000,   -999.0, 9,   -999.0,  -999.00, 9,   -999.0,   4.0341, 27.2108,   4.1019, 2, 900.4, 2, 228.06, 2, 0.17, 0.12, 0.01, 0.02, -999, 9,  -999.00, 9, -999, -999, 9, -999
49NZ20031106, A10, 2, 1, 6, 12018, 9, 20031109, 503, -28.6107, -44.2228, 3706,   1001.1, 2,   3.7761, 2,  34.3322, 2, -999.0000, 9,    203.2, 1,   -999.0, 9,  -999.00, 9,  -999.00, 9,  -999.00, 9,  -999.00, 9, -999.000, 9, -999.000, 9, -999.000, 9,   -999.0, 9,   -999.0, 9, -999.0000, 9,   -999.00, -999.000, 9, -999.000,   -999.0, 9,   -999.0,  -999.00, 9,   -999.0,   3.7024, 27.2846,   3.7770, 2, 1001, 2, 210.79, 2, -999, -999, -999, -999, -999, 9,  -999.00, 9, -999, -999, 9, -999
49NZ20031106, A10, 2, 1, 1, 12013, 9, 20031109, 503, -28.6107, -44.2228, 3706,   1001.7, 2,   3.7831, 2,  34.3345, 2, -999.0000, 9,    202.7, 1,   -999.0, 9,  -999.00, 9,  -999.00, 9,  -999.00, 9,  -999.00, 9, -999.000, 9, -999.000, 9, -999.000, 9,   -999.0, 9,   -999.0, 9, -999.0000, 9,   -999.00, -999.000, 9, -999.000,   -999.0, 9,   -999.0,  -999.00, 9,   -999.0,   3.7093, 27.286,   3.7847, 2, 1001.6, 2, 210.79, 2, -999, -999, -999, -999, -999, 9,  -999.00, 9, -999, -999, 9, -999
49NZ20031106, A10, 2, 1, 23, 12035, 2, 20031109, 503, -28.6107, -44.2228, 3706,   1001.9, 2,   3.7838, 2,  34.3345, 2,  34.3324, 2,    203.2, 1,    211.5, 2,    33.03, 2,    31.24, 2,     0.01, 2,     2.15, 2, -999.000, 9, -999.000, 9, -999.000, 9,   -999.0, 9,   -999.0, 9, -999.0000, 9,   -999.00, -999.000, 9, -999.000,   -999.0, 9,   -999.0,  -999.00, 9,   -999.0,   3.7099, 27.2851,   3.7843, 2, 1001.7, 2, 210.78, 2, 0.19, 0.12, 0.01, 0.02, -999, 9,  -999.00, 9, -999, -999, 9, -999
49NZ20031106, A10, 2, 1, 3, 12012, 9, 20031109, 503, -28.6107, -44.2228, 3706,   1001.9, 2,   3.7839, 2,  34.3349, 2, -999.0000, 9,    203.0, 1,   -999.0, 9,  -999.00, 9,  -999.00, 9,  -999.00, 9,  -999.00, 9, -999.000, 9, -999.000, 9, -999.000, 9,   -999.0, 9,   -999.0, 9, -999.0000, 9,   -999.00, -999.000, 9, -999.000,   -999.0, 9,   -999.0,  -999.00, 9,   -999.0,   3.7100, 27.2861,   3.7840, 2, 1001.7, 2, 210.78, 2, -999, -999, -999, -999, -999, 9,  -999.00, 9, -999, -999, 9, -999
49NZ20031106, A10, 2, 1, 2, 12014, 9, 20031109, 503, -28.6107, -44.2228, 3706,   1002.2, 2,   3.7855, 2,  34.3355, 2, -999.0000, 9,    202.9, 1,   -999.0, 9,  -999.00, 9,  -999.00, 9,  -999.00, 9,  -999.00, 9, -999.000, 9, -999.000, 9, -999.000, 9,   -999.0, 9,   -999.0, 9, -999.0000, 9,   -999.00, -999.000, 9, -999.000,   -999.0, 9,   -999.0,  -999.00, 9,   -999.0,   3.7116, 27.2861,   3.7862, 2, 1002, 2, 210.77, 2, -999, -999, -999, -999, -999, 9,  -999.00, 9, -999, -999, 9, -999
49NZ20031106, A10, 2, 1, 4, 12016, 9, 20031109, 503, -28.6107, -44.2228, 3706,   1002.3, 2,   3.7786, 2,  34.3336, 2, -999.0000, 9,    202.9, 1,   -999.0, 9,  -999.00, 9,  -999.00, 9,  -999.00, 9,  -999.00, 9, -999.000, 9, -999.000, 9, -999.000, 9,   -999.0, 9,   -999.0, 9, -999.0000, 9,   -999.00, -999.000, 9, -999.000,   -999.0, 9,   -999.0,  -999.00, 9,   -999.0,   3.7047, 27.2856,   3.7770, 2, 1002, 2, 210.77, 2, -999, -999, -999, -999, -999, 9,  -999.00, 9, -999, -999, 9, -999
49NZ20031106, A10, 2, 1, 5, 12017, 9, 20031109, 503, -28.6107, -44.2228, 3706,   1002.5, 2,   3.7848, 2,  34.3355, 2, -999.0000, 9,    203.4, 1,   -999.0, 9,  -999.00, 9,  -999.00, 9,  -999.00, 9,  -999.00, 9, -999.000, 9, -999.000, 9, -999.000, 9,   -999.0, 9,   -999.0, 9, -999.0000, 9,   -999.00, -999.000, 9, -999.000,   -999.0, 9,   -999.0,  -999.00, 9,   -999.0,   3.7109, 27.2866,   3.7849, 2, 1002.3, 2, 210.72, 2, -999, -999, -999, -999, -999, 9,  -999.00, 9, -999, -999, 9, -999
49NZ20031106, A10, 2, 1, 22, 12034, 2, 20031109, 503, -28.6107, -44.2228, 3706,   1200.7, 2,   3.3571, 2,  34.4687, 2,  34.4684, 2,    183.1, 1,    190.1, 2,    45.04, 2,    32.39, 2,     0.01, 2,     2.23, 2, -999.000, 9, -999.000, 9, -999.000, 9,   -999.0, 9,   -999.0, 9, -999.0000, 9,   -999.00, -999.000, 9, -999.000,   -999.0, 9,   -999.0,  -999.00, 9,   -999.0,   3.2705, 27.4354,   3.3569, 2, 1201.9, 2, 191.92, 2, 0.22, 0.12, 0.01, 0.02, -999, 9,  -999.00, 9, -999, -999, 9, -999
49NZ20031106, A10, 2, 1, 21, 12033, 2, 20031109, 503, -28.6107, -44.2228, 3706,   1400.8, 2,   3.4364, 2,  34.6301, 2,  34.6300, 2,    183.6, 1,    190.2, 2,    43.50, 2,    30.45, 2,     0.01, 2,     2.09, 2, -999.000, 9, -999.000, 9, -999.000, 9,   -999.0, 9,   -999.0, 9, -999.0000, 9,   -999.00, -999.000, 9, -999.000,   -999.0, 9,   -999.0,  -999.00, 9,   -999.0,   3.3320, 27.5585,   3.4363, 2, 1401.7, 2, 190.14, 2, 0.21, 0.12, 0.01, 0.02, -999, 9,  -999.00, 9, -999, -999, 9, -999
49NZ20031106, A10, 2, 1, 20, 12032, 2, 20031109, 503, -28.6107, -44.2228, 3706,   1600.7, 2,   3.5905, 2,  34.7656, 2,  34.7656, 2,    195.3, 1,    202.1, 2,    37.49, 2,    27.35, 2,     0.01, 2,     1.87, 2, -999.000, 9, -999.000, 9, -999.000, 9,   -999.0, 9,   -999.0, 9, -999.0000, 9,   -999.00, -999.000, 9, -999.000,   -999.0, 9,   -999.0,  -999.00, 9,   -999.0,   3.4665, 27.6536,   3.5907, 2, 1601.2, 2, 202.19, 2, 0.2, 0.11, 0.01, 0.01, -999, 9,  -999.00, 9, -999, -999, 9, -999
49NZ20031106, A10, 2, 1, 19, 12031, 2, 20031109, 503, -28.6107, -44.2228, 3706,   1802.5, 2,   3.9087, 2,  34.9146, 2,  34.9142, 2,    218.3, 1,    226.6, 2,    23.70, 2,    22.60, 2,     0.01, 2,     1.53, 2, -999.000, 9, -999.000, 9, -999.000, 9,   -999.0, 9,   -999.0, 9, -999.0000, 9,   -999.00, -999.000, 9, -999.000,   -999.0, 9,   -999.0,  -999.00, 9,   -999.0,   3.7617, 27.7427,   3.9088, 2, 1802.5, 2, 225.01, 2, 0.17, 0.1, 0.01, 0.01, -999, 9,  -999.00, 9, -999, -999, 9, -999
49NZ20031106, A10, 2, 1, 18, 12030, 2, 20031109, 503, -28.6107, -44.2228, 3706,   2001.8, 2,   3.7649, 2,  34.9484, 2,  34.9482, 2,    231.1, 1,    240.0, 2,    21.38, 2,    20.85, 2,     0.01, 2,     1.40, 2, -999.000, 9, -999.000, 9, -999.000, 9,   -999.0, 9,   -999.0, 9, -999.0000, 9,   -999.00, -999.000, 9, -999.000,   -999.0, 9,   -999.0,  -999.00, 9,   -999.0,   3.6008, 27.7859,   3.7647, 2, 2002.2, 2, 237.25, 2, 0.17, 0.09, 0.01, 0.01, -999, 9,  -999.00, 9, -999, -999, 9, -999
49NZ20031106, A10, 2, 1, 17, 12029, 2, 20031109, 503, -28.6107, -44.2228, 3706,   2204.9, 2,   3.4820, 2,  34.9458, 2,  34.9435, 2,    236.9, 1,    245.3, 2,    23.69, 2,    20.49, 2,     0.01, 2,     1.38, 2, -999.000, 9, -999.000, 9, -999.000, 9,   -999.0, 9,   -999.0, 9, -999.0000, 9,   -999.00, -999.000, 9, -999.000,   -999.0, 9,   -999.0,  -999.00, 9,   -999.0,   3.3026, 27.8131,   3.4833, 2, 2205.2, 2, 244.83, 2, 0.17, 0.09, 0.01, 0.01, -999, 9,  -999.00, 9, -999, -999, 9, -999
49NZ20031106, A10, 2, 1, 16, 12028, 2, 20031109, 503, -28.6107, -44.2228, 3706,   2400.9, 2,   3.2673, 2,  34.9418, 2,  34.9432, 2,    239.9, 1,    249.2, 2,    25.06, 2,    20.21, 2,     0.01, 2,     1.36, 2, -999.000, 9, -999.000, 9, -999.000, 9,   -999.0, 9,   -999.0, 9, -999.0000, 9,   -999.00, -999.000, 9, -999.000,   -999.0, 9,   -999.0,  -999.00, 9,   -999.0,   3.0723, 27.8319,   3.2689, 2, 2400.8, 2, 249.09, 2, 0.17, 0.09, 0.01, 0.01, -999, 9,  -999.00, 9, -999, -999, 9, -999
49NZ20031106, A10, 2, 1, 15, 12027, 2, 20031109, 503, -28.6107, -44.2228, 3706,   2605.9, 2,   3.0908, 2,  34.9359, 2,  34.9359, 2,    241.4, 1,    250.3, 2,    27.34, 2,    20.24, 2,     0.01, 2,     1.37, 2, -999.000, 9, -999.000, 9, -999.000, 9,   -999.0, 9,   -999.0, 9, -999.0000, 9,   -999.00, -999.000, 9, -999.000,   -999.0, 9,   -999.0,  -999.00, 9,   -999.0,   2.8787, 27.8452,   3.0908, 2, 2605.8, 2, 250.3, 2, 0.18, 0.09, 0.01, 0.01, -999, 9,  -999.00, 9, -999, -999, 9, -999
49NZ20031106, A10, 2, 1, 14, 12026, 2, 20031109, 503, -28.6107, -44.2228, 3706,   2801.8, 2,   2.8948, 2,  34.9270, 2,  34.9272, 2,    242.3, 1,    251.1, 2,    30.29, 2,    20.44, 2,     0.01, 2,     1.39, 2, -999.000, 9, -999.000, 9, -999.000, 9,   -999.0, 9,   -999.0, 9, -999.0000, 9,   -999.00, -999.000, 9, -999.000,   -999.0, 9,   -999.0,  -999.00, 9,   -999.0,   2.6668, 27.8572,   2.8946, 2, 2801.4, 2, 251.04, 2, 0.19, 0.09, 0.01, 0.01, -999, 9,  -999.00, 9, -999, -999, 9, -999
49NZ20031106, A10, 2, 1, 7, 12019, 9, 20031109, 503, -28.6107, -44.2228, 3706,   2900.6, 2,   2.8052, 2,  34.9222, 2, -999.0000, 9,    242.8, 1,   -999.0, 9,  -999.00, 9,  -999.00, 9,  -999.00, 9,  -999.00, 9, -999.000, 9, -999.000, 9, -999.000, 9,   -999.0, 9,   -999.0, 9, -999.0000, 9,   -999.00, -999.000, 9, -999.000,   -999.0, 9,   -999.0,  -999.00, 9,   -999.0,   2.5690, 27.862,   2.8053, 2, 2900.7, 2, 251.27, 2, -999, -999, -999, -999, -999, 9,  -999.00, 9, -999, -999, 9, -999
49NZ20031106, A10, 2, 1, 13, 12025, 2, 20031109, 503, -28.6107, -44.2228, 3706,   3000.6, 2,   2.7204, 2,  34.9173, 2,  34.9170, 2,    243.1, 1,    251.7, 2,    33.45, 2,    20.62, 2,     0.02, 2,     1.40, 2, -999.000, 9, -999.000, 9, -999.000, 9,   -999.0, 9,   -999.0, 9, -999.0000, 9,   -999.00, -999.000, 9, -999.000,   -999.0, 9,   -999.0,  -999.00, 9,   -999.0,   2.4757, 27.866,   2.7207, 2, 3001, 2, 251.46, 2, 0.19, 0.09, 0.01, 0.01, -999, 9,  -999.00, 9, -999, -999, 9, -999
49NZ20031106, A10, 2, 1, 8, 12020, 9, 20031109, 503, -28.6107, -44.2228, 3706,   3100.5, 2,   2.6414, 2,  34.9115, 2, -999.0000, 9,    243.3, 1,   -999.0, 9,  -999.00, 9,  -999.00, 9,  -999.00, 9,  -999.00, 9, -999.000, 9, -999.000, 9, -999.000, 9,   -999.0, 9,   -999.0, 9, -999.0000, 9,   -999.00, -999.000, 9, -999.000,   -999.0, 9,   -999.0,  -999.00, 9,   -999.0,   2.3881, 27.8689,   2.6414, 2, 3100.6, 2, 251.36, 2, -999, -999, -999, -999, -999, 9,  -999.00, 9, -999, -999, 9, -999
49NZ20031106, A10, 2, 1, 12, 12024, 2, 20031109, 503, -28.6107, -44.2228, 3706,   3250.4, 2,   2.4612, 2,  34.8956, 2,  34.8954, 2,    242.1, 1,    249.8, 2,    41.03, 2,    21.44, 2,     0.02, 2,     1.47, 2, -999.000, 9, -999.000, 9, -999.000, 9,   -999.0, 9,   -999.0, 9, -999.0000, 9,   -999.00, -999.000, 9, -999.000,   -999.0, 9,   -999.0,  -999.00, 9,   -999.0,   2.1964, 27.8721,   2.4611, 2, 3250.4, 2, 250.02, 2, 0.21, 0.09, 0.01, 0.01, -999, 9,  -999.00, 9, -999, -999, 9, -999
49NZ20031106, A10, 2, 1, 9, 12015, 9, 20031109, 503, -28.6107, -44.2228, 3706,   3351.0, 2,   2.1959, 2,  34.8702, 2, -999.0000, 9,    238.9, 1,   -999.0, 9,  -999.00, 9,  -999.00, 9,  -999.00, 9,  -999.00, 9, -999.000, 9, -999.000, 9, -999.000, 9,   -999.0, 9,   -999.0, 9, -999.0000, 9,   -999.00, -999.000, 9, -999.000,   -999.0, 9,   -999.0,  -999.00, 9,   -999.0,   1.9270, 27.8736,   2.1962, 2, 3351.1, 2, 246.8, 2, -999, -999, -999, -999, -999, 9,  -999.00, 9, -999, -999, 9, -999
49NZ20031106, A10, 2, 1, 11, 12023, 2, 20031109, 503, -28.6107, -44.2228, 3706,   3498.3, 2,   1.4089, 2,  34.7885, 2,  34.7885, 2,    225.9, 1,    232.5, 2,    81.59, 2,    27.09, 2,     0.01, 2,     1.87, 2, -999.000, 9, -999.000, 9, -999.000, 9,   -999.0, 9,   -999.0, 9, -999.0000, 9,   -999.00, -999.000, 9, -999.000,   -999.0, 9,   -999.0,  -999.00, 9,   -999.0,   1.1446, 27.8661,   1.4088, 2, 3499, 2, 233.05, 2, 0.3, 0.11, 0.01, 0.01, -999, 9,  -999.00, 9, -999, -999, 9, -999
49NZ20031106, A10, 2, 1, 10, 12022, 2, 20031109, 503, -28.6107, -44.2228, 3706,   3739.7, 2,   0.7347, 2,  34.7178, 2,  34.7184, 2,    217.3, 1,    221.8, 2,   108.68, 2,    30.70, 2,     0.01, 2,     2.13, 2, -999.000, 9, -999.000, 9, -999.000, 9,   -999.0, 9,   -999.0, 9, -999.0000, 9,   -999.00, -999.000, 9, -999.000,   -999.0, 9,   -999.0,  -999.00, 9,   -999.0,   0.4640, 27.8535,   0.7345, 2, 3739.7, 2, 221.01, 2, 0.36, 0.12, 0.01, 0.02, -999, 9,  -999.00, 9, -999, -999, 9, -999