BOTTLE,20220818CCHSIOAMB
EXPOCODE,SECT_ID,STNNBR,CASTNO,SAMPNO,BTLNBR,BTLNBR_FLAG_W,DATE,TIME,LATITUDE,LONGITUDE,DEPTH,CTDPRS,CTDPRS_FLAG_W,CTDTMP,CTDTMP_FLAG_W,CTDSAL,CTDSAL_FLAG_W,SALNTY,SALNTY_FLAG_W,CTDOXY,CTDOXY_FLAG_W,OXYGEN,OXYGEN_FLAG_W,SILCAT,SILCAT_FLAG_W,NITRAT,NITRAT_FLAG_W,NITRIT,NITRIT_FLAG_W,PHSPHT,PHSPHT_FLAG_W,CFC-11,CFC-11_FLAG_W,CFC-12,CFC-12_FLAG_W,CFC113,CFC113_FLAG_W,TCARBN,TCARBN_FLAG_W,ALKALI,ALKALI_FLAG_W,PH_TOT,PH_TOT_FLAG_W,PH_TMP,TRITUM,TRITUM_FLAG_W,TRITER,DELC14,DELC14_FLAG_W,C14ERR,DELC13,DELC13_FLAG_W,C13ERR,THETA,SIG0,SBE35,SBE35_FLAG_W,DWNPRS,DWNPRS_FLAG_W,DWNOXY,DWNOXY_FLAG_W,SILUNC,NRAUNC,NRIUNC,PHPUNC,TOC,TOC_FLAG_W,CS-137,CS-137_FLAG_W,CS137ER,PLUTO,PLUTO_FLAG_W,PLUTOER
,,,,,,,,,,,METERS,DBAR,,ITS-90,,PSS-78,,PSS-78,,UMOL/KG,,UMOL/KG,,UMOL/KG,,UMOL/KG,,UMOL/KG,,UMOL/KG,,PMOL/KG,,PMOL/KG,,PMOL/KG,,UMOL/KG,,UMOL/KG,,,,DEG C,TU,,TU,/MILLE,,/MILLE,/MILLE,,/MILLE,DEG C,KG/M^3,ITS-90,,DBAR,,UMOL/KG,,UMOL/KG,UMOL/KG,UMOL/KG,UMOL/KG,UMOL/KG,,BQ/M^3,,BQ/M^3,MBQ/M^3,,MBQ/M^3
49NZ20031106, A10, 86, 1, 1, 12025, 9, 20031129, 2106, -29.7470, 8.4707, 5046,     10.3, 2,  18.9701, 2,  35.3650, 2, -999.0000, 9,    228.5, 1,   -999.0, 9,  -999.00, 9,  -999.00, 9,  -999.00, 9,  -999.00, 9, -999.000, 9, -999.000, 9, -999.000, 9,   -999.0, 9,   -999.0, 9, -999.0000, 9,   -999.00, -999.000, 9, -999.000,   -999.0, 9,   -999.0,  -999.00, 9,   -999.0,  18.9683, 25.3111,  18.9702, 2, 11.8, 2, 243.94, 2, -999, -999, -999, -999, -999, 9,  -999.00, 9, -999, -999, 9, -999
49NZ20031106, A10, 86, 1, 36, 12024, 2, 20031129, 2106, -29.7470, 8.4707, 5046,     10.9, 2,  18.9714, 2,  35.3651, 2,  35.3665, 2,    228.2, 1,    241.3, 2,     0.54, 2,     0.25, 2,     0.03, 2,     0.30, 2, -999.000, 9, -999.000, 9, -999.000, 9,   -999.0, 9,   -999.0, 9, -999.0000, 9,   -999.00, -999.000, 9, -999.000,   -999.0, 9,   -999.0,  -999.00, 9,   -999.0,  18.9695, 25.3108,  18.9709, 2, 12.3, 2, 243.95, 2, 0.12, 0.03, 0.01, 0.01, -999, 9,  -999.00, 9, -999, -999, 9, -999
49NZ20031106, A10, 86, 1, 35, 12023, 2, 20031129, 2106, -29.7470, 8.4707, 5046,     50.5, 2,  18.3393, 2,  35.3965, 2,  35.4098, 3,    227.7, 1,    240.8, 2,     1.09, 2,     0.49, 2,     0.04, 2,     0.29, 2, -999.000, 9, -999.000, 9, -999.000, 9,   -999.0, 9,   -999.0, 9, -999.0000, 9,   -999.00, -999.000, 9, -999.000,   -999.0, 9,   -999.0,  -999.00, 9,   -999.0,  18.3305, 25.4964,  18.3407, 2, 44.6, 2, 240.63, 2, 0.12, 0.03, 0.01, 0.01, -999, 9,  -999.00, 9, -999, -999, 9, -999
49NZ20031106, A10, 86, 1, 34, 12022, 2, 20031129, 2106, -29.7470, 8.4707, 5046,    100.3, 2,  14.4173, 2,  35.0761, 2,  35.0777, 3,    219.7, 1,    231.5, 2,     3.71, 2,     9.88, 2,     0.52, 2,     0.88, 2, -999.000, 9, -999.000, 9, -999.000, 9,   -999.0, 9,   -999.0, 9, -999.0000, 9,   -999.00, -999.000, 9, -999.000,   -999.0, 9,   -999.0,  -999.00, 9,   -999.0,  14.4025, 26.1613,  14.4121, 2, 90.9, 2, 225.34, 2, 0.13, 0.06, 0, 0.01, -999, 9,  -999.00, 9, -999, -999, 9, -999
49NZ20031106, A10, 86, 1, 33, 12015, 2, 20031129, 2106, -29.7470, 8.4707, 5046,    151.1, 2,  13.1802, 2,  35.1550, 2,  35.1506, 2,    176.7, 1,   -999.0, 5,     5.26, 2,    13.56, 2,     0.02, 2,     1.04, 2, -999.000, 9, -999.000, 9, -999.000, 9,   -999.0, 9,   -999.0, 9, -999.0000, 9,   -999.00, -999.000, 9, -999.000,   -999.0, 9,   -999.0,  -999.00, 9,   -999.0,  13.1592, 26.4822,  13.1824, 2, 146.7, 2, 199.54, 2, 0.13, 0.07, 0.01, 0.01, -999, 9,  -999.00, 9, -999, -999, 9, -999
49NZ20031106, A10, 86, 1, 32, 12020, 2, 20031129, 2106, -29.7470, 8.4707, 5046,    201.4, 2,  12.4971, 2,  35.0985, 2,  35.0987, 2,    170.0, 1,    176.0, 2,     6.01, 2,    15.13, 2,     0.03, 2,     1.10, 2, -999.000, 9, -999.000, 9, -999.000, 9,   -999.0, 9,   -999.0, 9, -999.0000, 9,   -999.00, -999.000, 9, -999.000,   -999.0, 9,   -999.0,  -999.00, 9,   -999.0,  12.4701, 26.5754,  12.4973, 2, 197.5, 2, 130.94, 2, 0.13, 0.08, 0.01, 0.01, -999, 9,  -999.00, 9, -999, -999, 9, -999
49NZ20031106, A10, 86, 1, 31, 12019, 3, 20031129, 2106, -29.7470, 8.4707, 5046,    250.1, 2,  11.9146, 2,  35.0558, 2,  35.0543, 2,    122.5, 1,    127.4, 2,     8.32, 2,    21.54, 2,     0.02, 2,     1.48, 2, -999.000, 9, -999.000, 9, -999.000, 9,   -999.0, 9,   -999.0, 9, -999.0000, 9,   -999.00, -999.000, 9, -999.000,   -999.0, 9,   -999.0,  -999.00, 9,   -999.0,  11.8820, 26.6561,  11.9142, 2, 247.3, 2, 166.09, 2, 0.14, 0.09, 0.01, 0.01, -999, 9,  -999.00, 9, -999, -999, 9, -999
49NZ20031106, A10, 86, 1, 30, 12018, 2, 20031129, 2106, -29.7470, 8.4707, 5046,    299.5, 2,  10.9442, 2,  34.9194, 2,  34.9166, 2,    173.2, 1,    180.9, 2,     8.08, 2,    17.69, 2,     0.02, 2,     1.28, 2, -999.000, 9, -999.000, 9, -999.000, 9,   -999.0, 9,   -999.0, 9, -999.0000, 9,   -999.00, -999.000, 9, -999.000,   -999.0, 9,   -999.0,  -999.00, 9,   -999.0,  10.9073, 26.7302,  10.9440, 2, 297, 2, 170.8, 2, 0.14, 0.08, 0.01, 0.01, -999, 9,  -999.00, 9, -999, -999, 9, -999
49NZ20031106, A10, 86, 1, 29, 12017, 2, 20031129, 2106, -29.7470, 8.4707, 5046,    403.0, 2,   9.1891, 2,  34.7186, 2,  34.7198, 2,    160.9, 1,    168.7, 2,    11.71, 2,    22.85, 2,     0.01, 2,     1.59, 2, -999.000, 9, -999.000, 9, -999.000, 9,   -999.0, 9,   -999.0, 9, -999.0000, 9,   -999.00, -999.000, 9, -999.000,   -999.0, 9,   -999.0,  -999.00, 9,   -999.0,   9.1444, 26.8743,   9.1978, 2, 403.4, 2, 178.52, 2, 0.14, 0.1, 0.01, 0.01, -999, 9,  -999.00, 9, -999, -999, 9, -999
49NZ20031106, A10, 86, 1, 28, 12016, 2, 20031129, 2106, -29.7470, 8.4707, 5046,    498.1, 2,   7.7847, 2,  34.6005, 2,  34.5987, 2,    136.8, 1,    141.8, 2,    17.39, 2,    29.14, 2,     0.02, 2,     1.99, 2, -999.000, 9, -999.000, 9, -999.000, 9,   -999.0, 9,   -999.0, 9, -999.0000, 9,   -999.00, -999.000, 9, -999.000,   -999.0, 9,   -999.0,  -999.00, 9,   -999.0,   7.7344, 27.0002,   7.7847, 2, 500.8, 2, 138.77, 2, 0.16, 0.11, 0.01, 0.02, -999, 9,  -999.00, 9, -999, -999, 9, -999
49NZ20031106, A10, 86, 1, 27, 12012, 2, 20031129, 2106, -29.7470, 8.4707, 5046,    602.2, 2,   6.3966, 2,  34.4949, 2,  34.4938, 2,    138.0, 1,    143.3, 2,    20.86, 2,    32.50, 2,     0.01, 2,     2.19, 2, -999.000, 9, -999.000, 9, -999.000, 9,   -999.0, 9,   -999.0, 9, -999.0000, 9,   -999.00, -999.000, 9, -999.000,   -999.0, 9,   -999.0,  -999.00, 9,   -999.0,   6.3417, 27.1097,   6.3951, 2, 602.1, 2, 149.92, 2, 0.16, 0.12, 0.01, 0.02, -999, 9,  -999.00, 9, -999, -999, 9, -999
49NZ20031106, A10, 86, 1, 26, 12014, 2, 20031129, 2106, -29.7470, 8.4707, 5046,    702.2, 2,   5.1373, 2,  34.3910, 2,  34.3883, 2,    174.2, 1,    182.8, 2,    25.28, 2,    31.59, 2,     0.01, 2,     2.15, 2, -999.000, 9, -999.000, 9, -999.000, 9,   -999.0, 9,   -999.0, 9, -999.0000, 9,   -999.00, -999.000, 9, -999.000,   -999.0, 9,   -999.0,  -999.00, 9,   -999.0,   5.0797, 27.1836,   5.1371, 2, 700.3, 2, 169.94, 2, 0.17, 0.12, 0.01, 0.02, -999, 9,  -999.00, 9, -999, -999, 9, -999
49NZ20031106, A10, 86, 1, 25, 12013, 2, 20031129, 2106, -29.7470, 8.4707, 5046,    801.3, 2,   4.5978, 2,  34.4024, 2,  34.4012, 2,    162.6, 1,    169.3, 2,    30.99, 2,    33.71, 2,     0.01, 2,     2.29, 2, -999.000, 9, -999.000, 9, -999.000, 9,   -999.0, 9,   -999.0, 9, -999.0000, 9,   -999.00, -999.000, 9, -999.000,   -999.0, 9,   -999.0,  -999.00, 9,   -999.0,   4.5348, 27.2539,   4.6001, 2, 799.2, 2, 176.21, 2, 0.19, 0.13, 0.01, 0.02, -999, 9,  -999.00, 9, -999, -999, 9, -999
49NZ20031106, A10, 86, 1, 24, 12048, 2, 20031129, 2106, -29.7470, 8.4707, 5046,    901.0, 2,   3.9929, 2,  34.4054, 2,  34.4056, 2,    172.3, 1,    179.9, 2,    37.92, 2,    33.29, 2,     0.01, 2,     2.27, 2, -999.000, 9, -999.000, 9, -999.000, 9,   -999.0, 9,   -999.0, 9, -999.0000, 9,   -999.00, -999.000, 9, -999.000,   -999.0, 9,   -999.0,  -999.00, 9,   -999.0,   3.9256, 27.3212,   3.9932, 2, 898.4, 2, 185.1, 2, 0.2, 0.13, 0.01, 0.02, -999, 9,  -999.00, 9, -999, -999, 9, -999
49NZ20031106, A10, 86, 1, 23, 12047, 2, 20031129, 2106, -29.7470, 8.4707, 5046,   1000.9, 2,   3.6432, 2,  34.4365, 2,  34.4355, 2,    173.0, 1,    181.2, 2,    43.68, 2,    33.32, 2,     0.01, 2,     2.29, 2, -999.000, 9, -999.000, 9, -999.000, 9,   -999.0, 9,   -999.0, 9, -999.0000, 9,   -999.00, -999.000, 9, -999.000,   -999.0, 9,   -999.0,  -999.00, 9,   -999.0,   3.5703, 27.382,   3.6426, 2, 998.3, 2, 184.03, 2, 0.22, 0.13, 0.01, 0.02, -999, 9,  -999.00, 9, -999, -999, 9, -999
49NZ20031106, A10, 86, 1, 3, 12027, 9, 20031129, 2106, -29.7470, 8.4707, 5046,   1001.0, 2,   3.6442, 2,  34.4360, 2, -999.0000, 9,    172.9, 1,   -999.0, 9,  -999.00, 9,  -999.00, 9,  -999.00, 9,  -999.00, 9, -999.000, 9, -999.000, 9, -999.000, 9,   -999.0, 9,   -999.0, 9, -999.0000, 9,   -999.00, -999.000, 9, -999.000,   -999.0, 9,   -999.0,  -999.00, 9,   -999.0,   3.5713, 27.3814,   3.6435, 2, 998.3, 2, 184.03, 2, -999, -999, -999, -999, -999, 9,  -999.00, 9, -999, -999, 9, -999
49NZ20031106, A10, 86, 1, 2, 12026, 9, 20031129, 2106, -29.7470, 8.4707, 5046,   1001.3, 2,   3.6462, 2,  34.4363, 2, -999.0000, 9,    172.8, 1,   -999.0, 9,  -999.00, 9,  -999.00, 9,  -999.00, 9,  -999.00, 9, -999.000, 9, -999.000, 9, -999.000, 9,   -999.0, 9,   -999.0, 9, -999.0000, 9,   -999.00, -999.000, 9, -999.000,   -999.0, 9,   -999.0,  -999.00, 9,   -999.0,   3.5733, 27.381,   3.6456, 2, 998.5, 2, 184.03, 2, -999, -999, -999, -999, -999, 9,  -999.00, 9, -999, -999, 9, -999
49NZ20031106, A10, 86, 1, 22, 12046, 2, 20031129, 2106, -29.7470, 8.4707, 5046,   1201.0, 2,   3.2294, 2,  34.5625, 2,  34.5605, 2,    170.6, 1,    178.3, 2,    52.10, 2,    32.60, 2,     0.00, 2,     2.25, 2, -999.000, 9, -999.000, 9, -999.000, 9,   -999.0, 9,   -999.0, 9, -999.0000, 9,   -999.00, -999.000, 9, -999.000,   -999.0, 9,   -999.0,  -999.00, 9,   -999.0,   3.1437, 27.5231,   3.2299, 2, 1200, 2, 179.41, 2, 0.23, 0.12, 0.01, 0.02, -999, 9,  -999.00, 9, -999, -999, 9, -999
49NZ20031106, A10, 86, 1, 21, 12045, 2, 20031129, 2106, -29.7470, 8.4707, 5046,   1400.9, 2,   3.1632, 2,  34.6903, 2,  34.6903, 2,    179.6, 1,    187.9, 2,    49.27, 2,    30.13, 2,     0.01, 2,     2.07, 2, -999.000, 9, -999.000, 9, -999.000, 9,   -999.0, 9,   -999.0, 9, -999.0000, 9,   -999.00, -999.000, 9, -999.000,   -999.0, 9,   -999.0,  -999.00, 9,   -999.0,   3.0615, 27.6331,   3.1629, 2, 1401.1, 2, 187.85, 2, 0.23, 0.12, 0.01, 0.02, -999, 9,  -999.00, 9, -999, -999, 9, -999
49NZ20031106, A10, 86, 1, 20, 12044, 2, 20031129, 2106, -29.7470, 8.4707, 5046,   1600.2, 2,   3.2037, 2,  34.7876, 2,  34.7881, 2,    193.4, 1,    202.7, 2,    42.50, 2,    27.24, 2,     0.01, 2,     1.86, 2, -999.000, 9, -999.000, 9, -999.000, 9,   -999.0, 9,   -999.0, 9, -999.0000, 9,   -999.00, -999.000, 9, -999.000,   -999.0, 9,   -999.0,  -999.00, 9,   -999.0,   3.0844, 27.7085,   3.2038, 2, 1601, 2, 201.68, 2, 0.21, 0.11, 0.01, 0.01, -999, 9,  -999.00, 9, -999, -999, 9, -999
49NZ20031106, A10, 86, 1, 19, 12043, 2, 20031129, 2106, -29.7470, 8.4707, 5046,   1801.1, 2,   3.1407, 2,  34.8383, 2,  34.8383, 2,    204.6, 1,    214.9, 2,    39.49, 2,    25.43, 2,     0.01, 2,     1.74, 2, -999.000, 9, -999.000, 9, -999.000, 9,   -999.0, 9,   -999.0, 9, -999.0000, 9,   -999.00, -999.000, 9, -999.000,   -999.0, 9,   -999.0,  -999.00, 9,   -999.0,   3.0044, 27.7563,   3.1405, 2, 1800.9, 2, 214.49, 2, 0.21, 0.1, 0.01, 0.01, -999, 9,  -999.00, 9, -999, -999, 9, -999
49NZ20031106, A10, 86, 1, 18, 12042, 2, 20031129, 2106, -29.7470, 8.4707, 5046,   2000.4, 2,   3.0588, 2,  34.8620, 2,  34.8617, 2,    211.1, 1,    222.0, 2,    38.82, 2,    24.40, 2,     0.00, 2,     1.68, 2, -999.000, 9, -999.000, 9, -999.000, 9,   -999.0, 9,   -999.0, 9, -999.0000, 9,   -999.00, -999.000, 9, -999.000,   -999.0, 9,   -999.0,  -999.00, 9,   -999.0,   2.9056, 27.7844,   3.0587, 2, 2000, 2, 221.91, 2, 0.2, 0.1, 0.01, 0.01, -999, 9,  -999.00, 9, -999, -999, 9, -999
49NZ20031106, A10, 86, 1, 17, 12041, 2, 20031129, 2106, -29.7470, 8.4707, 5046,   2200.1, 2,   2.8867, 2,  34.8642, 2,  34.8645, 2,    214.9, 1,    226.2, 2,    41.61, 2,    24.18, 2,     0.01, 2,     1.64, 2, -999.000, 9, -999.000, 9, -999.000, 9,   -999.0, 9,   -999.0, 9, -999.0000, 9,   -999.00, -999.000, 9, -999.000,   -999.0, 9,   -999.0,  -999.00, 9,   -999.0,   2.7177, 27.8032,   2.8867, 2, 2200.3, 2, 225.85, 2, 0.21, 0.1, 0.01, 0.01, -999, 9,  -999.00, 9, -999, -999, 9, -999
49NZ20031106, A10, 86, 1, 16, 12040, 2, 20031129, 2106, -29.7470, 8.4707, 5046,   2399.8, 2,   2.7684, 2,  34.8676, 2,  34.8677, 2,    217.7, 1,    229.3, 2,    43.45, 2,    23.93, 2,     0.01, 2,     1.63, 2, -999.000, 9, -999.000, 9, -999.000, 9,   -999.0, 9,   -999.0, 9, -999.0000, 9,   -999.00, -999.000, 9, -999.000,   -999.0, 9,   -999.0,  -999.00, 9,   -999.0,   2.5826, 27.8179,   2.7683, 2, 2399.5, 2, 229.18, 2, 0.21, 0.1, 0.01, 0.01, -999, 9,  -999.00, 9, -999, -999, 9, -999
49NZ20031106, A10, 86, 1, 15, 12039, 2, 20031129, 2106, -29.7470, 8.4707, 5046,   2600.8, 2,   2.6331, 2,  34.8657, 2,  34.8662, 2,    219.1, 1,    230.8, 2,    46.27, 2,    23.95, 2,     0.01, 2,     1.63, 2, -999.000, 9, -999.000, 9, -999.000, 9,   -999.0, 9,   -999.0, 9, -999.0000, 9,   -999.00, -999.000, 9, -999.000,   -999.0, 9,   -999.0,  -999.00, 9,   -999.0,   2.4305, 27.8295,   2.6331, 2, 2600.8, 2, 230.55, 2, 0.22, 0.1, 0.01, 0.01, -999, 9,  -999.00, 9, -999, -999, 9, -999
49NZ20031106, A10, 86, 1, 14, 12038, 2, 20031129, 2106, -29.7470, 8.4707, 5046,   2800.4, 2,   2.5396, 2,  34.8640, 2,  34.8644, 2,    219.9, 1,    231.3, 2,    48.51, 2,    24.00, 2,     0.01, 2,     1.63, 2, -999.000, 9, -999.000, 9, -999.000, 9,   -999.0, 9,   -999.0, 9, -999.0000, 9,   -999.00, -999.000, 9, -999.000,   -999.0, 9,   -999.0,  -999.00, 9,   -999.0,   2.3192, 27.8376,   2.5397, 2, 2800, 2, 231.59, 2, 0.23, 0.1, 0.01, 0.01, -999, 9,  -999.00, 9, -999, -999, 9, -999
49NZ20031106, A10, 86, 1, 13, 12037, 2, 20031129, 2106, -29.7470, 8.4707, 5046,   3000.2, 2,   2.4827, 2,  34.8683, 2,  34.8686, 2,    220.9, 1,    232.5, 2,    49.52, 2,    23.87, 2,     0.00, 2,     1.62, 2, -999.000, 9, -999.000, 9, -999.000, 9,   -999.0, 9,   -999.0, 9, -999.0000, 9,   -999.00, -999.000, 9, -999.000,   -999.0, 9,   -999.0,  -999.00, 9,   -999.0,   2.2434, 27.8476,   2.4827, 2, 2999.9, 2, 232.51, 2, 0.23, 0.1, 0.01, 0.01, -999, 9,  -999.00, 9, -999, -999, 9, -999
49NZ20031106, A10, 86, 1, 12, 12036, 2, 20031129, 2106, -29.7470, 8.4707, 5046,   3251.1, 2,   2.4019, 2,  34.8640, 2,  34.8639, 2,    220.3, 1,    231.8, 2,    52.59, 2,    24.12, 2,     0.00, 2,     1.64, 2, -999.000, 9, -999.000, 9, -999.000, 9,   -999.0, 9,   -999.0, 9, -999.0000, 9,   -999.00, -999.000, 9, -999.000,   -999.0, 9,   -999.0,  -999.00, 9,   -999.0,   2.1386, 27.8527,   2.4018, 2, 3250.8, 2, 231.68, 2, 0.23, 0.1, 0.01, 0.01, -999, 9,  -999.00, 9, -999, -999, 9, -999
49NZ20031106, A10, 86, 1, 11, 12035, 2, 20031129, 2106, -29.7470, 8.4707, 5046,   3501.0, 2,   2.3177, 2,  34.8580, 2,  34.8578, 2,    220.1, 1,    231.1, 2,    55.86, 2,    24.42, 2,     0.01, 2,     1.67, 2, -999.000, 9, -999.000, 9, -999.000, 9,   -999.0, 9,   -999.0, 9, -999.0000, 9,   -999.00, -999.000, 9, -999.000,   -999.0, 9,   -999.0,  -999.00, 9,   -999.0,   2.0300, 27.8568,   2.3178, 2, 3500.7, 2, 231.17, 2, 0.24, 0.1, 0.01, 0.01, -999, 9,  -999.00, 9, -999, -999, 9, -999
49NZ20031106, A10, 86, 1, 10, 12034, 2, 20031129, 2106, -29.7470, 8.4707, 5046,   3751.2, 2,   2.1999, 2,  34.8477, 2,  34.8473, 2,    218.7, 1,    229.5, 2,    60.94, 2,    24.96, 2,     0.01, 2,     1.70, 2, -999.000, 9, -999.000, 9, -999.000, 9,   -999.0, 9,   -999.0, 9, -999.0000, 9,   -999.00, -999.000, 9, -999.000,   -999.0, 9,   -999.0,  -999.00, 9,   -999.0,   1.8881, 27.8598,   2.1999, 2, 3750.8, 2, 229.56, 2, 0.25, 0.1, 0.01, 0.01, -999, 9,  -999.00, 9, -999, -999, 9, -999
49NZ20031106, A10, 86, 1, 9, 12033, 2, 20031129, 2106, -29.7470, 8.4707, 5046,   3999.2, 2,   1.8951, 2,  34.8151, 2,  34.8152, 2,    214.4, 1,    224.5, 2,    74.29, 2,    26.72, 2,     0.01, 2,     1.84, 2, -999.000, 9, -999.000, 9, -999.000, 9,   -999.0, 9,   -999.0, 9, -999.0000, 9,   -999.00, -999.000, 9, -999.000,   -999.0, 9,   -999.0,  -999.00, 9,   -999.0,   1.5644, 27.8582,   1.8950, 2, 3999.1, 2, 224.82, 2, 0.28, 0.11, 0.01, 0.01, -999, 9,  -999.00, 9, -999, -999, 9, -999
49NZ20031106, A10, 86, 1, 8, 12032, 2, 20031129, 2106, -29.7470, 8.4707, 5046,   4250.2, 2,   1.4846, 2,  34.7724, 2,  34.7723, 2,    210.8, 1,    220.1, 2,    90.77, 2,    28.77, 2,     0.01, 2,     1.98, 2, -999.000, 9, -999.000, 9, -999.000, 9,   -999.0, 9,   -999.0, 9, -999.0000, 9,   -999.00, -999.000, 9, -999.000,   -999.0, 9,   -999.0,  -999.00, 9,   -999.0,   1.1379, 27.8547,   1.4846, 2, 4250.2, 2, 220.28, 2, 0.32, 0.11, 0.01, 0.02, -999, 9,  -999.00, 9, -999, -999, 9, -999
49NZ20031106, A10, 86, 1, 7, 12031, 2, 20031129, 2106, -29.7470, 8.4707, 5046,   4500.6, 2,   1.2319, 2,  34.7468, 2,  34.7468, 2,    209.3, 1,    217.7, 2,   101.22, 2,    30.02, 2,     0.00, 2,     2.06, 2, -999.000, 9, -999.000, 9, -999.000, 9,   -999.0, 9,   -999.0, 9, -999.0000, 9,   -999.00, -999.000, 9, -999.000,   -999.0, 9,   -999.0,  -999.00, 9,   -999.0,   0.8648, 27.8526,   1.2316, 2, 4500.5, 2, 217.71, 2, 0.34, 0.12, 0.01, 0.02, -999, 9,  -999.00, 9, -999, -999, 9, -999
49NZ20031106, A10, 86, 1, 6, 12030, 2, 20031129, 2106, -29.7470, 8.4707, 5046,   4749.2, 2,   1.1528, 2,  34.7372, 2,  34.7372, 2,    209.6, 1,    217.0, 2,   105.13, 2,    30.46, 2,     0.00, 2,     2.10, 2, -999.000, 9, -999.000, 9, -999.000, 9,   -999.0, 9,   -999.0, 9, -999.0000, 9,   -999.00, -999.000, 9, -999.000,   -999.0, 9,   -999.0,  -999.00, 9,   -999.0,   0.7596, 27.8516,   1.1528, 2, 4749.2, 2, 216.7, 2, 0.35, 0.12, 0.01, 0.02, -999, 9,  -999.00, 9, -999, -999, 9, -999
49NZ20031106, A10, 86, 1, 5, 12029, 2, 20031129, 2106, -29.7470, 8.4707, 5046,   4999.4, 2,   1.1537, 2,  34.7345, 2,  34.7345, 2,    210.8, 1,    216.4, 2,   106.27, 2,    30.63, 2,     0.01, 2,     2.12, 2, -999.000, 9, -999.000, 9, -999.000, 9,   -999.0, 9,   -999.0, 9, -999.0000, 9,   -999.00, -999.000, 9, -999.000,   -999.0, 9,   -999.0,  -999.00, 9,   -999.0,   0.7309, 27.8511,   1.1537, 2, 4999.5, 2, 216.36, 2, 0.35, 0.12, 0.01, 0.02, -999, 9,  -999.00, 9, -999, -999, 9, -999
49NZ20031106, A10, 86, 1, 4, 12028, 2, 20031129, 2106, -29.7470, 8.4707, 5046,   5117.5, 2,   1.1348, 2,  34.7313, 2,  34.7313, 2,    212.5, 1,    216.9, 2,   107.34, 2,    30.72, 2,     0.01, 2,     2.12, 2, -999.000, 9, -999.000, 9, -999.000, 9,   -999.0, 9,   -999.0, 9, -999.0000, 9,   -999.00, -999.000, 9, -999.000,   -999.0, 9,   -999.0,  -999.00, 9,   -999.0,   0.6985, 27.8506,   1.1348, 2, 5117.5, 2, 216.7, 2, 0.36, 0.12, 0.01, 0.02, -999, 9,  -999.00, 9, -999, -999, 9, -999