BOTTLE,20220818CCHSIOAMB
EXPOCODE,SECT_ID,STNNBR,CASTNO,SAMPNO,BTLNBR,BTLNBR_FLAG_W,DATE,TIME,LATITUDE,LONGITUDE,DEPTH,CTDPRS,CTDPRS_FLAG_W,CTDTMP,CTDTMP_FLAG_W,CTDSAL,CTDSAL_FLAG_W,SALNTY,SALNTY_FLAG_W,CTDOXY,CTDOXY_FLAG_W,OXYGEN,OXYGEN_FLAG_W,SILCAT,SILCAT_FLAG_W,NITRAT,NITRAT_FLAG_W,NITRIT,NITRIT_FLAG_W,PHSPHT,PHSPHT_FLAG_W,CFC-11,CFC-11_FLAG_W,CFC-12,CFC-12_FLAG_W,CFC113,CFC113_FLAG_W,TCARBN,TCARBN_FLAG_W,ALKALI,ALKALI_FLAG_W,PH_TOT,PH_TOT_FLAG_W,PH_TMP,TRITUM,TRITUM_FLAG_W,TRITER,DELC14,DELC14_FLAG_W,C14ERR,DELC13,DELC13_FLAG_W,C13ERR,THETA,SIG0,SBE35,SBE35_FLAG_W,DWNPRS,DWNPRS_FLAG_W,DWNOXY,DWNOXY_FLAG_W,SILUNC,NRAUNC,NRIUNC,PHPUNC,TOC,TOC_FLAG_W,CS-137,CS-137_FLAG_W,CS137ER,PLUTO,PLUTO_FLAG_W,PLUTOER
,,,,,,,,,,,METERS,DBAR,,ITS-90,,PSS-78,,PSS-78,,UMOL/KG,,UMOL/KG,,UMOL/KG,,UMOL/KG,,UMOL/KG,,UMOL/KG,,PMOL/KG,,PMOL/KG,,PMOL/KG,,UMOL/KG,,UMOL/KG,,,,DEG C,TU,,TU,/MILLE,,/MILLE,/MILLE,,/MILLE,DEG C,KG/M^3,ITS-90,,DBAR,,UMOL/KG,,UMOL/KG,UMOL/KG,UMOL/KG,UMOL/KG,UMOL/KG,,BQ/M^3,,BQ/M^3,MBQ/M^3,,MBQ/M^3
49NZ20031106, A10, 9, 1, 36, 12048, 2, 20031110, 2011, -30.0087, -39.9937, 3184,     10.4, 2,  20.2881, 2,  36.0094, 2,  36.0095, 2,    217.6, 1,    228.7, 2,     0.83, 2,     0.04, 2,     0.00, 2,     0.05, 2,    2.295, 2,    1.364, 2,    0.248, 4,   2058.6, 2,   2370.0, 2,    8.0456, 2,     25.00, -999.000, 9, -999.000,   -999.0, 9,   -999.0,  -999.00, 9,   -999.0,  20.2862, 25.4562,  20.2873, 2, 8.5, 2, 228.91, 2, 0.12, 0.03, 0.01, 0.03, -999, 1,  -999.00, 9, -999, -999, 9, -999
49NZ20031106, A10, 9, 1, 35, 12047, 2, 20031110, 2011, -30.0087, -39.9937, 3184,     50.9, 2,  18.8724, 2,  35.9264, 2,  35.9489, 3,    224.6, 1,    235.3, 2,     0.83, 2,     0.02, 2,     0.00, 2,     0.08, 2,    2.433, 2,    1.412, 2,    0.287, 4,   2061.3, 6,   2365.5, 2,    8.0395, 2,     25.00, -999.000, 9, -999.000,   -999.0, 9,   -999.0,  -999.00, 9,   -999.0,  18.8633, 25.7484,  18.9062, 2, 48.8, 2, 235.34, 2, 0.12, 0.03, 0.01, 0.02, -999, 1,  -999.00, 9, -999, -999, 9, -999
49NZ20031106, A10, 9, 1, 34, 12046, 2, 20031110, 2011, -30.0087, -39.9937, 3184,    101.3, 2,  17.2404, 2,  35.9091, 2,  35.9084, 2,    217.2, 1,    227.8, 2,     0.99, 2,     0.82, 2,     0.06, 2,     0.19, 2,    2.586, 2,    1.504, 2,    0.194, 4,   2079.9, 2,   2363.3, 6,    8.0059, 2,     25.00, -999.000, 9, -999.000,   -999.0, 9,   -999.0,  -999.00, 9,   -999.0,  17.2235, 26.1592,  17.2386, 2, 100.1, 2, 228.57, 2, 0.12, 0.04, 0.01, 0.02, -999, 1,  -999.00, 9, -999, -999, 9, -999
49NZ20031106, A10, 9, 1, 33, 12045, 2, 20031110, 2011, -30.0087, -39.9937, 3184,    151.3, 2,  16.4711, 2,  35.7939, 2,  35.7968, 2,    210.4, 1,    220.0, 2,     1.42, 2,     2.74, 2,     0.02, 2,     0.31, 2,    2.661, 2,    1.524, 2,    0.140, 4,   2088.2, 2,   2357.5, 2,    7.9792, 6,     25.00, -999.000, 9, -999.000,   -999.0, 9,   -999.0,  -999.00, 9,   -999.0,  16.4466, 26.2547,  16.4735, 2, 150.2, 2, 216.84, 2, 0.12, 0.04, 0.01, 0.01, -999, 1,  -999.00, 9, -999, -999, 9, -999
49NZ20031106, A10, 9, 1, 32, 12044, 2, 20031110, 2011, -30.0087, -39.9937, 3184,    201.9, 2,  15.4477, 2,  35.6076, 2,  35.6070, 2,    204.7, 1,    213.6, 2,     1.81, 2,     4.78, 2,     0.01, 2,     0.45, 2,    2.822, 2,    1.600, 2,    0.080, 4,   2098.2, 2,   2343.9, 2,    7.9442, 2,     25.00, -999.000, 9, -999.000,   -999.0, 9,   -999.0,  -999.00, 9,   -999.0,  15.4163, 26.3484,  15.4466, 2, 200.8, 2, 213.57, 2, 0.12, 0.05, 0.01, 0.01, -999, 1,  -999.00, 9, -999, -999, 9, -999
49NZ20031106, A10, 9, 1, 31, 12043, 2, 20031110, 2011, -30.0087, -39.9937, 3184,    252.8, 2,  14.3439, 2,  35.4168, 2,  35.4233, 2,    203.7, 1,    212.4, 2,     2.23, 2,     6.74, 2,     0.00, 2,     0.58, 2,    2.950, 6,    1.648, 6,    0.060, 4,   2104.9, 2,   2332.1, 2,    7.9155, 2,     25.00, -999.000, 9, -999.000,   -999.0, 9,   -999.0,  -999.00, 9,   -999.0,  14.3066, 26.4447,  14.3310, 2, 252.3, 2, 212.25, 2, 0.12, 0.05, 0.01, 0.01, -999, 1,  -999.00, 9, -999, -999, 9, -999
49NZ20031106, A10, 9, 1, 30, 12042, 2, 20031110, 2011, -30.0087, -39.9937, 3184,    302.3, 2,  13.5311, 2,  35.2960, 2,  35.2960, 2,    203.6, 1,    212.2, 2,     2.74, 2,     8.53, 2,     0.01, 2,     0.69, 2,    3.062, 2,    1.656, 2,    0.045, 4,   2109.7, 2,   2326.7, 2,    7.8931, 2,     25.00, -999.000, 9, -999.000,   -999.0, 9,   -999.0,  -999.00, 9,   -999.0,  13.4881, 26.5224,  13.5338, 2, 299.9, 2, 212.67, 2, 0.13, 0.06, 0.01, 0.01, -999, 1,  -999.00, 9, -999, -999, 9, -999
49NZ20031106, A10, 9, 1, 29, 12041, 2, 20031110, 2011, -30.0087, -39.9937, 3184,    401.8, 2,  11.7518, 2,  35.0406, 2,  35.0407, 2,    201.1, 1,    209.2, 2,     4.28, 2,    12.97, 2,     0.00, 2,     0.96, 2,    3.087, 2,    1.620, 2,    0.071, 4,   2122.7, 2,   2315.8, 2,    7.8422, 2,     25.00, -999.000, 9, -999.000,   -999.0, 9,   -999.0,  -999.00, 9,   -999.0,  11.6996, 26.6769,  11.7535, 2, 403.4, 2, 208.94, 2, 0.13, 0.07, 0.01, 0.01, -999, 1,  -999.00, 9, -999, -999, 9, -999
49NZ20031106, A10, 9, 1, 28, 12040, 2, 20031110, 2011, -30.0087, -39.9937, 3184,    502.6, 2,   9.5848, 2,  34.7580, 2,  34.7581, 2,    199.4, 1,    207.0, 2,     7.19, 2,    18.39, 2,     0.00, 2,     1.31, 2,    2.825, 2,    1.396, 2,    0.086, 4,   2141.0, 2,   2301.7, 2,    7.7807, 2,     25.00, -999.000, 9, -999.000,   -999.0, 9,   -999.0,  -999.00, 9,   -999.0,   9.5273, 26.8416,   9.5854, 2, 505.6, 2, 206.45, 2, 0.13, 0.08, 0.01, 0.01, -999, 1,  -999.00, 9, -999, -999, 9, -999
49NZ20031106, A10, 9, 1, 27, 12039, 2, 20031110, 2011, -30.0087, -39.9937, 3184,    600.5, 2,   7.3544, 2,  34.5005, 2,  34.5003, 2,    209.8, 1,    217.4, 2,    10.44, 2,    23.03, 2,     0.00, 2,     1.61, 2,    3.127, 2,    1.536, 2,    0.141, 4,   2150.7, 2,   2289.2, 2,    7.7334, 2,     25.00, -999.000, 9, -999.000,   -999.0, 9,   -999.0,  -999.00, 9,   -999.0,   7.2954, 26.9831,   7.3558, 2, 603.3, 2, 217.03, 2, 0.14, 0.1, 0.01, 0.01, -999, 1,  -999.00, 9, -999, -999, 9, -999
49NZ20031106, A10, 9, 1, 26, 12038, 2, 20031110, 2011, -30.0087, -39.9937, 3184,    701.6, 2,   5.6938, 2,  34.3314, 2,  34.3314, 2,    225.1, 1,    233.8, 2,    13.17, 2,    25.70, 2,     0.00, 2,     1.78, 2,    3.336, 2,    1.648, 2,    0.194, 4,   2156.6, 6,   2283.5, 2,    7.7115, 2,     25.00, -999.000, 9, -999.000,   -999.0, 9,   -999.0,  -999.00, 9,   -999.0,   5.6333, 27.0694,   5.6942, 2, 702.5, 2, 233.6, 2, 0.15, 0.1, 0.01, 0.01, -999, 1,  -999.00, 9, -999, -999, 9, -999
49NZ20031106, A10, 9, 1, 25, 12037, 2, 20031110, 2011, -30.0087, -39.9937, 3184,    801.7, 2,   4.7477, 2,  34.2636, 2,  34.2636, 2,    231.5, 1,    240.7, 2,    16.59, 2,    27.39, 2,    -0.01, 2,     1.89, 2,    3.258, 2,    1.587, 2,    0.210, 4,   2162.7, 2,   2286.9, 6,    7.6982, 2,     25.00, -999.000, 9, -999.000,   -999.0, 9,   -999.0,  -999.00, 9,   -999.0,   4.6839, 27.1267,   4.7485, 2, 800.3, 2, 241.09, 2, 0.16, 0.11, 0.01, 0.01, -999, 1,  -999.00, 9, -999, -999, 9, -999
49NZ20031106, A10, 9, 1, 24, 12036, 2, 20031110, 2011, -30.0087, -39.9937, 3184,    900.3, 2,   4.1261, 2,  34.2720, 2,  34.2720, 2,    222.3, 1,    231.1, 2,    23.84, 2,    29.39, 2,    -0.01, 2,     2.03, 2,    2.636, 2,    1.213, 2,    0.120, 4,   2177.2, 2,   2290.8, 2,    7.6749, 6,     25.00, -999.000, 9, -999.000,   -999.0, 9,   -999.0,  -999.00, 9,   -999.0,   4.0581, 27.2008,   4.1261, 2, 900.4, 2, 232.02, 2, 0.17, 0.12, 0.01, 0.02, -999, 1,  -999.00, 9, -999, -999, 9, -999
49NZ20031106, A10, 9, 1, 5, 12017, 9, 20031110, 2011, -30.0087, -39.9937, 3184,   1001.7, 2,   3.6148, 2,  34.2930, 2, -999.0000, 9,    213.3, 1,   -999.0, 9,  -999.00, 9,  -999.00, 9,  -999.00, 9,  -999.00, 9, -999.000, 9, -999.000, 9, -999.000, 9,   -999.0, 9,   -999.0, 9, -999.0000, 9,   -999.00, -999.000, 9, -999.000,   -999.0, 9,   -999.0,  -999.00, 9,   -999.0,   3.5423, 27.2695,   3.6148, 2, 1003.3, 2, 223.18, 2, -999, -999, -999, -999, -999, 9,  -999.00, 9, -999, -999, 9, -999
49NZ20031106, A10, 9, 1, 4, 12016, 9, 20031110, 2011, -30.0087, -39.9937, 3184,   1001.8, 2,   3.6148, 2,  34.2930, 2, -999.0000, 9,    213.2, 1,   -999.0, 9,  -999.00, 9,  -999.00, 9,  -999.00, 9,  -999.00, 9, -999.000, 9, -999.000, 9, -999.000, 9,   -999.0, 9,   -999.0, 9, -999.0000, 9,   -999.00, -999.000, 9, -999.000,   -999.0, 9,   -999.0,  -999.00, 9,   -999.0,   3.5423, 27.2695,   3.6149, 2, 1003.4, 2, 223.15, 2, -999, -999, -999, -999, -999, 9,  -999.00, 9, -999, -999, 9, -999
49NZ20031106, A10, 9, 1, 23, 12035, 2, 20031110, 2011, -30.0087, -39.9937, 3184,   1001.9, 2,   3.6148, 2,  34.2930, 2,  34.2937, 2,    213.0, 1,    221.5, 2,    31.43, 2,    30.95, 2,     0.00, 2,     2.14, 2,    1.992, 6,    0.913, 6,    0.071, 4,   2191.6, 2,   2302.6, 2,    7.6536, 2,     25.00, -999.000, 9, -999.000,   -999.0, 9,   -999.0,  -999.00, 9,   -999.0,   3.5423, 27.2695,   3.6146, 2, 1003.5, 2, 223.14, 2, 0.19, 0.12, 0.01, 0.02, -999, 1,  -999.00, 9, -999, -999, 9, -999
49NZ20031106, A10, 9, 1, 2, 12014, 9, 20031110, 2011, -30.0087, -39.9937, 3184,   1001.9, 2,   3.6148, 2,  34.2930, 2, -999.0000, 9,    213.1, 1,   -999.0, 9,  -999.00, 9,  -999.00, 9,  -999.00, 9,  -999.00, 9, -999.000, 9, -999.000, 9, -999.000, 9,   -999.0, 9,   -999.0, 9, -999.0000, 9,   -999.00, -999.000, 9, -999.000,   -999.0, 9,   -999.0,  -999.00, 9,   -999.0,   3.5423, 27.2695,   3.6148, 2, 1003.5, 2, 223.14, 2, -999, -999, -999, -999, -999, 9,  -999.00, 9, -999, -999, 9, -999
49NZ20031106, A10, 9, 1, 6, 12018, 9, 20031110, 2011, -30.0087, -39.9937, 3184,   1002.0, 2,   3.6148, 2,  34.2929, 2, -999.0000, 9,    213.2, 1,   -999.0, 9,  -999.00, 9,  -999.00, 9,  -999.00, 9,  -999.00, 9, -999.000, 9, -999.000, 9, -999.000, 9,   -999.0, 9,   -999.0, 9, -999.0000, 9,   -999.00, -999.000, 9, -999.000,   -999.0, 9,   -999.0,  -999.00, 9,   -999.0,   3.5423, 27.2695,   3.6149, 2, 1003.5, 2, 223.13, 2, -999, -999, -999, -999, -999, 9,  -999.00, 9, -999, -999, 9, -999
49NZ20031106, A10, 9, 1, 3, 12012, 9, 20031110, 2011, -30.0087, -39.9937, 3184,   1002.0, 2,   3.6148, 2,  34.2929, 2, -999.0000, 9,    213.2, 1,   -999.0, 9,  -999.00, 9,  -999.00, 9,  -999.00, 9,  -999.00, 9, -999.000, 9, -999.000, 9, -999.000, 9,   -999.0, 9,   -999.0, 9, -999.0000, 9,   -999.00, -999.000, 9, -999.000,   -999.0, 9,   -999.0,  -999.00, 9,   -999.0,   3.5423, 27.2695,   3.6148, 2, 1003.5, 2, 223.11, 2, -999, -999, -999, -999, -999, 9,  -999.00, 9, -999, -999, 9, -999
49NZ20031106, A10, 9, 1, 22, 12034, 2, 20031110, 2011, -30.0087, -39.9937, 3184,   1200.2, 2,   3.1248, 2,  34.4162, 2,  34.4163, 2,    190.6, 1,    197.8, 2,    46.70, 2,    32.73, 2,     0.00, 2,     2.26, 2,    0.785, 2,    0.374, 2,    0.015, 4,   2217.5, 2,   2314.5, 2,    7.6239, 2,     25.00, -999.000, 9, -999.000,   -999.0, 9,   -999.0,  -999.00, 9,   -999.0,   3.0405, 27.4153,   3.1247, 2, 1199.3, 2, 197.57, 2, 0.22, 0.12, 0.01, 0.02, -999, 1,  -999.00, 9, -999, -999, 9, -999
49NZ20031106, A10, 9, 1, 21, 12033, 2, 20031110, 2011, -30.0087, -39.9937, 3184,   1400.8, 2,   2.9730, 2,  34.5588, 2,  34.5587, 2,    182.3, 1,    188.6, 2,    53.86, 2,    32.01, 2,     0.00, 2,     2.22, 2,    0.209, 2,    0.118, 2,    0.000, 4,   2227.4, 2,   2329.1, 2,    7.6242, 2,     25.00, -999.000, 9, -999.000,   -999.0, 9,   -999.0,  -999.00, 9,   -999.0,   2.8737, 27.5445,   2.9730, 2, 1400.1, 2, 188.56, 2, 0.24, 0.12, 0.01, 0.02, -999, 1,  -999.00, 9, -999, -999, 9, -999
49NZ20031106, A10, 9, 1, 20, 12032, 2, 20031110, 2011, -30.0087, -39.9937, 3184,   1601.4, 2,   2.8699, 2,  34.6624, 2,  34.6624, 2,    187.5, 1,    193.9, 3,    54.73, 2,    30.34, 2,     0.00, 2,     2.09, 2,    0.075, 2,    0.041, 2,    0.000, 4,   2225.2, 2,   2329.9, 2,    7.6418, 2,     25.00, -999.000, 9, -999.000,   -999.0, 9,   -999.0,  -999.00, 9,   -999.0,   2.7549, 27.638,   2.8696, 2, 1601, 2, 193.75, 2, 0.24, 0.12, 0.01, 0.02, -999, 1,  -999.00, 9, -999, -999, 9, -999
49NZ20031106, A10, 9, 1, 19, 12031, 2, 20031110, 2011, -30.0087, -39.9937, 3184,   1800.6, 2,   2.9567, 2,  34.7670, 2,  34.7675, 2,    201.4, 1,    208.3, 2,    48.49, 2,    27.39, 2,    -0.01, 2,     1.88, 2,    0.029, 2,    0.023, 2,    0.000, 4,   2212.4, 2,   2333.7, 3,    7.6763, 2,     25.00, -999.000, 9, -999.000,   -999.0, 9,   -999.0,  -999.00, 9,   -999.0,   2.8232, 27.7155,   2.9569, 2, 1799.6, 2, 208.58, 2, 0.23, 0.11, 0.01, 0.01, -999, 1,  -999.00, 9, -999, -999, 9, -999
49NZ20031106, A10, 9, 1, 18, 12030, 2, 20031110, 2011, -30.0087, -39.9937, 3184,   2002.6, 2,   3.4589, 2,  34.9257, 2,  34.9256, 2,    231.9, 1,    240.0, 2,    26.45, 2,    21.51, 2,    -0.01, 2,     1.46, 2,    0.067, 3,    0.049, 3,    0.000, 4,   2178.1, 2,   2327.0, 2,    7.7387, 6,     25.00, -999.000, 9, -999.000,   -999.0, 9,   -999.0,  -999.00, 9,   -999.0,   3.2993, 27.7976,   3.4586, 2, 2003, 2, 239.83, 2, 0.18, 0.09, 0.01, 0.01, -999, 1,  -999.00, 9, -999, -999, 9, -999
49NZ20031106, A10, 9, 1, 11, 12023, 9, 20031110, 2011, -30.0087, -39.9937, 3184,   2100.0, 2,   3.3911, 2,  34.9313, 2, -999.0000, 9,    234.9, 1,   -999.0, 9,  -999.00, 9,  -999.00, 9,  -999.00, 9,  -999.00, 9, -999.000, 9, -999.000, 9, -999.000, 9,   -999.0, 9,   -999.0, 9, -999.0000, 9,   -999.00, -999.000, 9, -999.000,   -999.0, 9,   -999.0,  -999.00, 9,   -999.0,   3.2233, 27.8092,   3.3911, 2, 2099.8, 2, 242.94, 2, -999, -999, -999, -999, -999, 9,  -999.00, 9, -999, -999, 9, -999
49NZ20031106, A10, 9, 1, 17, 12029, 2, 20031110, 2011, -30.0087, -39.9937, 3184,   2200.0, 2,   3.3346, 2,  34.9365, 2,  34.9360, 2,    237.8, 1,    246.1, 2,    25.80, 2,    20.75, 2,     0.00, 2,     1.41, 2,    0.057, 4,    0.047, 4,    0.000, 4,   2176.0, 2,   2328.1, 2,    7.7482, 2,     25.00, -999.000, 9, -999.000,   -999.0, 9,   -999.0,  -999.00, 9,   -999.0,   3.1581, 27.8196,   3.3347, 2, 2200, 2, 245.78, 2, 0.18, 0.09, 0.01, 0.01, -999, 1,  -999.00, 9, -999, -999, 9, -999
49NZ20031106, A10, 9, 1, 10, 12022, 9, 20031110, 2011, -30.0087, -39.9937, 3184,   2298.7, 2,   3.2726, 2,  34.9398, 2, -999.0000, 9,    239.8, 1,   -999.0, 9,  -999.00, 9,  -999.00, 9,  -999.00, 9,  -999.00, 9, -999.000, 9, -999.000, 9, -999.000, 9,   -999.0, 9,   -999.0, 9, -999.0000, 9,   -999.00, -999.000, 9, -999.000,   -999.0, 9,   -999.0,  -999.00, 9,   -999.0,   3.0875, 27.8288,   3.2726, 2, 2298.7, 2, 248.03, 2, -999, -999, -999, -999, -999, 9,  -999.00, 9, -999, -999, 9, -999
49NZ20031106, A10, 9, 1, 16, 12028, 2, 20031110, 2011, -30.0087, -39.9937, 3184,   2401.7, 2,   3.2030, 2,  34.9401, 2,  34.9401, 2,    241.6, 1,    249.8, 2,    25.99, 2,    20.36, 2,    -0.01, 2,     1.38, 2,    0.046, 2,    0.037, 2,    0.007, 4,   2173.3, 6,   2328.6, 2,    7.7545, 2,     25.00, -999.000, 9, -999.000,   -999.0, 9,   -999.0,  -999.00, 9,   -999.0,   3.0091, 27.8365,   3.2031, 2, 2402.1, 2, 249.64, 2, 0.18, 0.09, 0.01, 0.01, -999, 1,  -999.00, 9, -999, -999, 9, -999
49NZ20031106, A10, 9, 1, 9, 12015, 9, 20031110, 2011, -30.0087, -39.9937, 3184,   2500.0, 2,   3.1075, 2,  34.9342, 2, -999.0000, 9,    241.5, 1,   -999.0, 9,  -999.00, 9,  -999.00, 9,  -999.00, 9,  -999.00, 9, -999.000, 9, -999.000, 9, -999.000, 9,   -999.0, 9,   -999.0, 9, -999.0000, 9,   -999.00, -999.000, 9, -999.000,   -999.0, 9,   -999.0,  -999.00, 9,   -999.0,   2.9056, 27.8412,   3.1074, 2, 2499.8, 2, 249.56, 2, -999, -999, -999, -999, -999, 9,  -999.00, 9, -999, -999, 9, -999
49NZ20031106, A10, 9, 1, 1, 12013, 2, 20031110, 2011, -30.0087, -39.9937, 3184,   2600.1, 2,   3.0324, 2,  34.9325, 2,  34.9325, 2,    242.4, 1,    250.2, 2,    28.49, 2,    20.53, 2,    -0.01, 2,     1.40, 2,    0.040, 2,    0.029, 2,    0.000, 4,   2175.8, 2,   2328.8, 6,    7.7520, 2,     25.00, -999.000, 9, -999.000,   -999.0, 9,   -999.0,  -999.00, 9,   -999.0,   2.8220, 27.8474,   3.0325, 2, 2600.2, 2, 250.08, 2, 0.18, 0.09, 0.01, 0.01, -999, 1,  -999.00, 9, -999, -999, 9, -999
49NZ20031106, A10, 9, 1, 8, 12020, 9, 20031110, 2011, -30.0087, -39.9937, 3184,   2700.7, 2,   2.9714, 2,  34.9310, 2, -999.0000, 9,    243.2, 1,   -999.0, 9,  -999.00, 9,  -999.00, 9,  -999.00, 9,  -999.00, 9, -999.000, 9, -999.000, 9, -999.000, 9,   -999.0, 9,   -999.0, 9, -999.0000, 9,   -999.00, -999.000, 9, -999.000,   -999.0, 9,   -999.0,  -999.00, 9,   -999.0,   2.7521, 27.8527,   2.9711, 2, 2700.7, 2, 250.85, 2, -999, -999, -999, -999, -999, 9,  -999.00, 9, -999, -999, 9, -999
49NZ20031106, A10, 9, 1, 14, 12026, 2, 20031110, 2011, -30.0087, -39.9937, 3184,   2799.0, 2,   2.9189, 2,  34.9286, 2,  34.9286, 2,    243.7, 1,    251.2, 2,    29.96, 2,    20.53, 2,    -0.01, 2,     1.39, 2, -999.000, 5, -999.000, 5, -999.000, 5,   2174.6, 2,   2328.6, 2,    7.7540, 2,     25.00, -999.000, 9, -999.000,   -999.0, 9,   -999.0,  -999.00, 9,   -999.0,   2.6907, 27.8561,   2.9188, 2, 2798.9, 2, 251.13, 2, 0.18, 0.09, 0.01, 0.01, -999, 1,  -999.00, 9, -999, -999, 9, -999
49NZ20031106, A10, 9, 1, 7, 12019, 9, 20031110, 2011, -30.0087, -39.9937, 3184,   2898.5, 2,   2.8658, 2,  34.9260, 2, -999.0000, 9,    244.3, 1,   -999.0, 9,  -999.00, 9,  -999.00, 9,  -999.00, 9,  -999.00, 9, -999.000, 9, -999.000, 9, -999.000, 9,   -999.0, 9,   -999.0, 9, -999.0000, 9,   -999.00, -999.000, 9, -999.000,   -999.0, 9,   -999.0,  -999.00, 9,   -999.0,   2.6285, 27.8594,   2.8657, 2, 2898.4, 2, 251.32, 2, -999, -999, -999, -999, -999, 9,  -999.00, 9, -999, -999, 9, -999
49NZ20031106, A10, 9, 1, 13, 12025, 2, 20031110, 2011, -30.0087, -39.9937, 3184,   3001.2, 2,   2.7647, 2,  34.9200, 2,  34.9197, 2,    244.9, 1,    251.5, 2,    32.56, 2,    20.73, 2,    -0.01, 2,     1.41, 2,    0.020, 2,    0.017, 2,    0.000, 4,   2178.1, 2,   2332.1, 2,    7.7531, 2,     25.00, -999.000, 9, -999.000,   -999.0, 9,   -999.0,  -999.00, 9,   -999.0,   2.5190, 27.8644,   2.7646, 2, 3001.2, 2, 251.59, 2, 0.19, 0.09, 0.01, 0.01, -999, 1,  -999.00, 9, -999, -999, 9, -999
49NZ20031106, A10, 9, 1, 15, 12027, 2, 20031110, 2011, -30.0087, -39.9937, 3184,   3001.3, 2,   2.7649, 2,  34.9200, 2,  34.9201, 2,    244.9, 1,    251.6, 2,    32.60, 2,    20.71, 2,    -0.01, 2,     1.40, 2,    0.020, 2,    0.017, 2,    0.000, 4,   2177.0, 2,   2333.9, 2,    7.7529, 2,     25.00, -999.000, 9, -999.000,   -999.0, 9,   -999.0,  -999.00, 9,   -999.0,   2.5192, 27.8644,   2.7648, 2, 3001.3, 2, 251.59, 2, 0.19, 0.09, 0.01, 0.01, -999, 9,  -999.00, 9, -999, -999, 9, -999
49NZ20031106, A10, 9, 1, 12, 12024, 2, 20031110, 2011, -30.0087, -39.9937, 3184,   3220.5, 2,   2.5847, 2,  34.9067, 2,  34.9068, 2,    245.8, 1,    251.4, 2,    37.01, 2,    21.12, 2,    -0.01, 2,     1.45, 2,    0.012, 2,    0.016, 2,    0.000, 4,   2181.5, 2,   2333.5, 2,    7.7507, 2,     25.00, -999.000, 9, -999.000,   -999.0, 9,   -999.0,  -999.00, 9,   -999.0,   2.3202, 27.8707,   2.5847, 2, 3220.5, 2, 251.08, 2, 0.2, 0.09, 0.01, 0.01, -999, 1,  -999.00, 9, -999, -999, 9, -999