BOTTLE,20220818CCHSIOAMB
EXPOCODE,SECT_ID,STNNBR,CASTNO,SAMPNO,BTLNBR,BTLNBR_FLAG_W,DATE,TIME,LATITUDE,LONGITUDE,DEPTH,CTDPRS,CTDPRS_FLAG_W,CTDTMP,CTDTMP_FLAG_W,CTDSAL,CTDSAL_FLAG_W,SALNTY,SALNTY_FLAG_W,CTDOXY,CTDOXY_FLAG_W,OXYGEN,OXYGEN_FLAG_W,SILCAT,SILCAT_FLAG_W,NITRAT,NITRAT_FLAG_W,NITRIT,NITRIT_FLAG_W,PHSPHT,PHSPHT_FLAG_W,CFC-11,CFC-11_FLAG_W,CFC-12,CFC-12_FLAG_W,CFC113,CFC113_FLAG_W,TCARBN,TCARBN_FLAG_W,ALKALI,ALKALI_FLAG_W,PH_TOT,PH_TOT_FLAG_W,PH_TMP,TRITUM,TRITUM_FLAG_W,TRITER,DELC14,DELC14_FLAG_W,C14ERR,DELC13,DELC13_FLAG_W,C13ERR,THETA,SIG0,SBE35,SBE35_FLAG_W,DWNPRS,DWNPRS_FLAG_W,DWNOXY,DWNOXY_FLAG_W,SILUNC,NRAUNC,NRIUNC,PHPUNC,TOC,TOC_FLAG_W,CS-137,CS-137_FLAG_W,CS137ER,PLUTO,PLUTO_FLAG_W,PLUTOER
,,,,,,,,,,,METERS,DBAR,,ITS-90,,PSS-78,,PSS-78,,UMOL/KG,,UMOL/KG,,UMOL/KG,,UMOL/KG,,UMOL/KG,,UMOL/KG,,PMOL/KG,,PMOL/KG,,PMOL/KG,,UMOL/KG,,UMOL/KG,,,,DEG C,TU,,TU,/MILLE,,/MILLE,/MILLE,,/MILLE,DEG C,KG/M^3,ITS-90,,DBAR,,UMOL/KG,,UMOL/KG,UMOL/KG,UMOL/KG,UMOL/KG,UMOL/KG,,BQ/M^3,,BQ/M^3,MBQ/M^3,,MBQ/M^3
49NZ20031106, A10, 26, 1, 2, 12014, 2, 20031113, 1436, -30.0002, -33.4988, 3143,      4.6, 2,  19.8783, 2,  35.9115, 2, -999.0000, 9,    219.0, 1,   -999.0, 9,  -999.00, 9,  -999.00, 9,  -999.00, 9,  -999.00, 9, -999.000, 9, -999.000, 9, -999.000, 9,   -999.0, 9,   -999.0, 9, -999.0000, 9,   -999.00, -999.000, 9, -999.000,   -999.0, 9,   -999.0,  -999.00, 9,   -999.0,  19.8775, 25.4915,  19.8786, 2, 4.6, 2, 230.1, 2, -999, -999, -999, -999, -999, 9,  -999.00, 9, -999, -999, 9, -999
49NZ20031106, A10, 26, 1, 3, 12012, 2, 20031113, 1436, -30.0002, -33.4988, 3143,      4.7, 2,  19.8765, 2,  35.9118, 2, -999.0000, 9,    219.2, 1,   -999.0, 9,  -999.00, 9,  -999.00, 9,  -999.00, 9,  -999.00, 9, -999.000, 9, -999.000, 9, -999.000, 9,   -999.0, 9,   -999.0, 9, -999.0000, 9,   -999.00, -999.000, 9, -999.000,   -999.0, 9,   -999.0,  -999.00, 9,   -999.0,  19.8756, 25.4906,  19.8818, 2, 4.7, 2, 230.15, 2, -999, -999, -999, -999, -999, 9,  -999.00, 9, -999, -999, 9, -999
49NZ20031106, A10, 26, 1, 36, 12048, 2, 20031113, 1436, -30.0002, -33.4988, 3143,     10.2, 2,  19.8765, 2,  35.9117, 2,  35.9099, 2,    218.8, 1,    230.6, 2,     0.81, 2,     0.02, 2,    -0.01, 2,     0.06, 2, -999.000, 9, -999.000, 9, -999.000, 9,   -999.0, 9,   -999.0, 9, -999.0000, 9,   -999.00, -999.000, 9, -999.000,   -999.0, 9,   -999.0,  -999.00, 9,   -999.0,  19.8746, 25.4919,  19.8771, 2, 7.2, 2, 230.51, 2, 0.12, 0.03, 0.01, 0.03, -999, 9,  -999.00, 9, -999, -999, 9, -999
49NZ20031106, A10, 26, 1, 35, 12047, 2, 20031113, 1436, -30.0002, -33.4988, 3143,     50.5, 2,  19.2224, 2,  35.9248, 2,  35.9253, 2,    221.8, 1,    233.1, 2,     0.80, 2,     0.01, 2,    -0.02, 2,     0.05, 2, -999.000, 9, -999.000, 9, -999.000, 9,   -999.0, 9,   -999.0, 9, -999.0000, 9,   -999.00, -999.000, 9, -999.000,   -999.0, 9,   -999.0,  -999.00, 9,   -999.0,  19.2133, 25.6749,  19.2220, 2, 49, 2, 233.43, 2, 0.12, 0.03, 0.01, 0.03, -999, 9,  -999.00, 9, -999, -999, 9, -999
49NZ20031106, A10, 26, 1, 34, 12046, 2, 20031113, 1436, -30.0002, -33.4988, 3143,     99.5, 2,  18.0071, 2,  35.7894, 2,  35.7888, 2,    225.9, 1,    237.0, 2,     0.84, 2,    -0.01, 2,    -0.01, 2,     0.09, 2, -999.000, 9, -999.000, 9, -999.000, 9,   -999.0, 9,   -999.0, 9, -999.0000, 9,   -999.00, -999.000, 9, -999.000,   -999.0, 9,   -999.0,  -999.00, 9,   -999.0,  17.9900, 25.8806,  18.0070, 2, 97.9, 2, 237.71, 2, 0.12, 0.03, 0.01, 0.02, -999, 9,  -999.00, 9, -999, -999, 9, -999
49NZ20031106, A10, 26, 1, 1, 12013, 2, 20031113, 1436, -30.0002, -33.4988, 3143,    126.8, 2,  17.6455, 2,  35.7580, 2, -999.0000, 9,    220.9, 1,   -999.0, 9,  -999.00, 9,  -999.00, 9,  -999.00, 9,  -999.00, 9, -999.000, 9, -999.000, 9, -999.000, 9,   -999.0, 9,   -999.0, 9, -999.0000, 9,   -999.00, -999.000, 9, -999.000,   -999.0, 9,   -999.0,  -999.00, 9,   -999.0,  17.6239, 25.9493,  17.6388, 2, 123.8, 2, 228.76, 2, -999, -999, -999, -999, -999, 9,  -999.00, 9, -999, -999, 9, -999
49NZ20031106, A10, 26, 1, 33, 12045, 2, 20031113, 1436, -30.0002, -33.4988, 3143,    150.0, 2,  16.7270, 2,  35.6709, 2,  35.6745, 2,    210.4, 1,    221.4, 2,     1.14, 2,     1.15, 2,     0.08, 2,     0.24, 2, -999.000, 9, -999.000, 9, -999.000, 9,   -999.0, 9,   -999.0, 9, -999.0000, 9,   -999.00, -999.000, 9, -999.000,   -999.0, 9,   -999.0,  -999.00, 9,   -999.0,  16.7024, 26.0997,  16.7357, 2, 145.2, 2, 217.43, 2, 0.12, 0.04, 0.01, 0.02, -999, 9,  -999.00, 9, -999, -999, 9, -999
49NZ20031106, A10, 26, 1, 32, 12044, 2, 20031113, 1436, -30.0002, -33.4988, 3143,    200.0, 2,  15.1884, 2,  35.4851, 2,  35.4862, 2,    205.4, 1,    214.9, 2,     1.73, 2,     4.23, 2,    -0.01, 2,     0.43, 2, -999.000, 9, -999.000, 9, -999.000, 9,   -999.0, 9,   -999.0, 9, -999.0000, 9,   -999.00, -999.000, 9, -999.000,   -999.0, 9,   -999.0,  -999.00, 9,   -999.0,  15.1577, 26.3134,  15.1748, 2, 197.3, 2, 214.49, 2, 0.12, 0.04, 0.01, 0.01, -999, 9,  -999.00, 9, -999, -999, 9, -999
49NZ20031106, A10, 26, 1, 31, 12043, 2, 20031113, 1436, -30.0002, -33.4988, 3143,    249.7, 2,  14.2638, 2,  35.3822, 2,  35.3836, 2,    204.8, 1,    214.0, 2,     2.17, 2,     6.49, 2,    -0.01, 2,     0.56, 2, -999.000, 9, -999.000, 9, -999.000, 9,   -999.0, 9,   -999.0, 9, -999.0000, 9,   -999.00, -999.000, 9, -999.000,   -999.0, 9,   -999.0,  -999.00, 9,   -999.0,  14.2271, 26.4339,  14.2697, 2, 248.2, 2, 213.33, 2, 0.12, 0.05, 0.01, 0.01, -999, 9,  -999.00, 9, -999, -999, 9, -999
49NZ20031106, A10, 26, 1, 30, 12042, 2, 20031113, 1436, -30.0002, -33.4988, 3143,    302.0, 2,  13.6939, 2,  35.3070, 2,  35.3099, 2,    205.0, 1,    214.0, 2,     2.51, 2,     7.74, 2,    -0.01, 2,     0.64, 2, -999.000, 9, -999.000, 9, -999.000, 9,   -999.0, 9,   -999.0, 9, -999.0000, 9,   -999.00, -999.000, 9, -999.000,   -999.0, 9,   -999.0,  -999.00, 9,   -999.0,  13.6506, 26.4981,  13.6953, 2, 299.5, 2, 213.73, 2, 0.12, 0.05, 0.01, 0.01, -999, 9,  -999.00, 9, -999, -999, 9, -999
49NZ20031106, A10, 26, 1, 29, 12041, 2, 20031113, 1436, -30.0002, -33.4988, 3143,    397.8, 2,  12.0422, 2,  35.0779, 2,  35.0763, 2,    202.5, 1,    211.0, 2,     3.87, 2,    11.94, 2,    -0.02, 2,     0.89, 2, -999.000, 9, -999.000, 9, -999.000, 9,   -999.0, 9,   -999.0, 9, -999.0000, 9,   -999.00, -999.000, 9, -999.000,   -999.0, 9,   -999.0,  -999.00, 9,   -999.0,  11.9897, 26.6513,  12.0353, 2, 396.2, 2, 211.05, 2, 0.13, 0.07, 0.01, 0.01, -999, 9,  -999.00, 9, -999, -999, 9, -999
49NZ20031106, A10, 26, 1, 28, 12040, 2, 20031113, 1436, -30.0002, -33.4988, 3143,    497.9, 2,   9.6174, 2,  34.7622, 2,  34.7756, 3,    199.8, 1,    207.8, 2,     7.07, 2,    17.86, 2,    -0.01, 2,     1.27, 2, -999.000, 9, -999.000, 9, -999.000, 9,   -999.0, 9,   -999.0, 9, -999.0000, 9,   -999.00, -999.000, 9, -999.000,   -999.0, 9,   -999.0,  -999.00, 9,   -999.0,   9.5603, 26.8395,   9.6427, 2, 500.9, 2, 207.72, 2, 0.13, 0.08, 0.01, 0.01, -999, 9,  -999.00, 9, -999, -999, 9, -999
49NZ20031106, A10, 26, 1, 27, 12039, 2, 20031113, 1436, -30.0002, -33.4988, 3143,    599.0, 2,   7.7674, 2,  34.5518, 2,  34.5516, 2,    204.2, 1,    211.9, 2,    10.48, 2,    22.34, 2,    -0.02, 2,     1.56, 2, -999.000, 9, -999.000, 9, -999.000, 9,   -999.0, 9,   -999.0, 9, -999.0000, 9,   -999.00, -999.000, 9, -999.000,   -999.0, 9,   -999.0,  -999.00, 9,   -999.0,   7.7066, 26.9652,   7.7617, 2, 599.7, 2, 211.97, 2, 0.14, 0.1, 0.01, 0.01, -999, 9,  -999.00, 9, -999, -999, 9, -999
49NZ20031106, A10, 26, 1, 26, 12038, 2, 20031113, 1436, -30.0002, -33.4988, 3143,    701.5, 2,   6.1200, 2,  34.3867, 2,  34.3872, 2,    213.9, 1,    221.7, 2,    13.95, 2,    25.67, 2,    -0.02, 2,     1.77, 2, -999.000, 9, -999.000, 9, -999.000, 9,   -999.0, 9,   -999.0, 9, -999.0000, 9,   -999.00, -999.000, 9, -999.000,   -999.0, 9,   -999.0,  -999.00, 9,   -999.0,   6.0572, 27.0604,   6.1186, 2, 699.4, 2, 228.18, 2, 0.15, 0.1, 0.01, 0.01, -999, 9,  -999.00, 9, -999, -999, 9, -999
49NZ20031106, A10, 26, 1, 25, 12037, 2, 20031113, 1436, -30.0002, -33.4988, 3143,    798.7, 2,   4.9992, 2,  34.3086, 2,  34.3089, 2,    220.0, 1,    228.2, 2,    18.35, 2,    27.68, 2,    -0.01, 2,     1.91, 2, -999.000, 9, -999.000, 9, -999.000, 9,   -999.0, 9,   -999.0, 9, -999.0000, 9,   -999.00, -999.000, 9, -999.000,   -999.0, 9,   -999.0,  -999.00, 9,   -999.0,   4.9341, 27.1345,   4.9982, 2, 798.1, 2, 228.01, 2, 0.16, 0.11, 0.01, 0.01, -999, 9,  -999.00, 9, -999, -999, 9, -999
49NZ20031106, A10, 26, 1, 24, 12036, 2, 20031113, 1436, -30.0002, -33.4988, 3143,    899.6, 2,   4.3226, 2,  34.2904, 2,  34.2905, 2,    217.8, 1,    226.3, 2,    23.66, 2,    29.35, 2,    -0.01, 2,     2.01, 2, -999.000, 9, -999.000, 9, -999.000, 9,   -999.0, 9,   -999.0, 9, -999.0000, 9,   -999.00, -999.000, 9, -999.000,   -999.0, 9,   -999.0,  -999.00, 9,   -999.0,   4.2533, 27.195,   4.3226, 2, 898.1, 2, 226.25, 2, 0.17, 0.11, 0.01, 0.02, -999, 9,  -999.00, 9, -999, -999, 9, -999
49NZ20031106, A10, 26, 1, 6, 12018, 9, 20031113, 1436, -30.0002, -33.4988, 3143,    998.8, 2,   3.8049, 2,  34.3150, 2, -999.0000, 9,    208.0, 1,   -999.0, 9,  -999.00, 9,  -999.00, 9,  -999.00, 9,  -999.00, 9, -999.000, 9, -999.000, 9, -999.000, 9,   -999.0, 9,   -999.0, 9, -999.0000, 9,   -999.00, -999.000, 9, -999.000,   -999.0, 9,   -999.0,  -999.00, 9,   -999.0,   3.7312, 27.2688,   3.8047, 2, 1000.1, 2, 217.22, 2, -999, -999, -999, -999, -999, 9,  -999.00, 9, -999, -999, 9, -999
49NZ20031106, A10, 26, 1, 5, 12017, 9, 20031113, 1436, -30.0002, -33.4988, 3143,    999.3, 2,   3.8077, 2,  34.3145, 2, -999.0000, 9,    208.0, 1,   -999.0, 9,  -999.00, 9,  -999.00, 9,  -999.00, 9,  -999.00, 9, -999.000, 9, -999.000, 9, -999.000, 9,   -999.0, 9,   -999.0, 9, -999.0000, 9,   -999.00, -999.000, 9, -999.000,   -999.0, 9,   -999.0,  -999.00, 9,   -999.0,   3.7339, 27.2685,   3.8054, 2, 1000.4, 2, 217.18, 2, -999, -999, -999, -999, -999, 9,  -999.00, 9, -999, -999, 9, -999
49NZ20031106, A10, 26, 1, 23, 12035, 2, 20031113, 1436, -30.0002, -33.4988, 3143,    999.8, 2,   3.8022, 2,  34.3150, 2,  34.3151, 2,    207.6, 1,    215.9, 2,    31.59, 2,    30.95, 2,    -0.02, 2,     2.14, 2, -999.000, 9, -999.000, 9, -999.000, 9,   -999.0, 9,   -999.0, 9, -999.0000, 9,   -999.00, -999.000, 9, -999.000,   -999.0, 9,   -999.0,  -999.00, 9,   -999.0,   3.7284, 27.2695,   3.7981, 2, 1000.9, 2, 217.09, 2, 0.19, 0.12, 0.01, 0.02, -999, 9,  -999.00, 9, -999, -999, 9, -999
49NZ20031106, A10, 26, 1, 4, 12016, 9, 20031113, 1436, -30.0002, -33.4988, 3143,   1000.1, 2,   3.8105, 2,  34.3143, 2, -999.0000, 9,    207.7, 1,   -999.0, 9,  -999.00, 9,  -999.00, 9,  -999.00, 9,  -999.00, 9, -999.000, 9, -999.000, 9, -999.000, 9,   -999.0, 9,   -999.0, 9, -999.0000, 9,   -999.00, -999.000, 9, -999.000,   -999.0, 9,   -999.0,  -999.00, 9,   -999.0,   3.7366, 27.2675,   3.8085, 2, 1000.8, 2, 217.1, 2, -999, -999, -999, -999, -999, 9,  -999.00, 9, -999, -999, 9, -999
49NZ20031106, A10, 26, 1, 22, 12034, 2, 20031113, 1436, -30.0002, -33.4988, 3143,   1200.5, 2,   3.1817, 2,  34.4279, 2,  34.4289, 2,    188.0, 1,    194.9, 2,    46.99, 2,    32.63, 2,    -0.02, 2,     2.26, 2, -999.000, 9, -999.000, 9, -999.000, 9,   -999.0, 9,   -999.0, 9, -999.0000, 9,   -999.00, -999.000, 9, -999.000,   -999.0, 9,   -999.0,  -999.00, 9,   -999.0,   3.0968, 27.4201,   3.1809, 2, 1200.3, 2, 195.24, 2, 0.22, 0.12, 0.01, 0.02, -999, 9,  -999.00, 9, -999, -999, 9, -999
49NZ20031106, A10, 26, 1, 21, 12033, 2, 20031113, 1436, -30.0002, -33.4988, 3143,   1401.5, 2,   2.9510, 2,  34.5611, 2,  34.5611, 2,    181.9, 1,    188.4, 2,    54.21, 2,    31.99, 2,    -0.02, 2,     2.21, 2, -999.000, 9, -999.000, 9, -999.000, 9,   -999.0, 9,   -999.0, 9, -999.0000, 9,   -999.00, -999.000, 9, -999.000,   -999.0, 9,   -999.0,  -999.00, 9,   -999.0,   2.8519, 27.5491,   2.9500, 2, 1400.6, 2, 188.32, 2, 0.24, 0.12, 0.01, 0.02, -999, 9,  -999.00, 9, -999, -999, 9, -999
49NZ20031106, A10, 26, 1, 20, 12032, 2, 20031113, 1436, -30.0002, -33.4988, 3143,   1599.8, 2,   2.8442, 2,  34.6634, 2,  34.6624, 2,    187.3, 1,    193.7, 2,    55.25, 2,    30.31, 2,    -0.02, 2,     2.09, 2, -999.000, 9, -999.000, 9, -999.000, 9,   -999.0, 9,   -999.0, 9, -999.0000, 9,   -999.00, -999.000, 9, -999.000,   -999.0, 9,   -999.0,  -999.00, 9,   -999.0,   2.7296, 27.6415,   2.8439, 2, 1598.5, 2, 193.82, 2, 0.24, 0.12, 0.01, 0.02, -999, 9,  -999.00, 9, -999, -999, 9, -999
49NZ20031106, A10, 26, 1, 19, 12031, 2, 20031113, 1436, -30.0002, -33.4988, 3143,   1802.4, 2,   2.8023, 2,  34.7539, 2,  34.7538, 2,    200.3, 1,    207.2, 2,    51.56, 2,    27.75, 2,    -0.02, 2,     1.90, 2, -999.000, 9, -999.000, 9, -999.000, 9,   -999.0, 9,   -999.0, 9, -999.0000, 9,   -999.00, -999.000, 9, -999.000,   -999.0, 9,   -999.0,  -999.00, 9,   -999.0,   2.6707, 27.7188,   2.8021, 2, 1802.7, 2, 206.42, 2, 0.23, 0.11, 0.01, 0.01, -999, 9,  -999.00, 9, -999, -999, 9, -999
49NZ20031106, A10, 26, 1, 18, 12030, 2, 20031113, 1436, -30.0002, -33.4988, 3143,   2001.8, 2,   2.7816, 2,  34.8060, 2,  34.8065, 2,    211.5, 1,    218.7, 2,    47.31, 2,    25.91, 2,    -0.02, 2,     1.77, 2, -999.000, 9, -999.000, 9, -999.000, 9,   -999.0, 9,   -999.0, 9, -999.0000, 9,   -999.00, -999.000, 9, -999.000,   -999.0, 9,   -999.0,  -999.00, 9,   -999.0,   2.6326, 27.7634,   2.7816, 2, 2001.7, 2, 218.45, 2, 0.22, 0.11, 0.01, 0.01, -999, 9,  -999.00, 9, -999, -999, 9, -999
49NZ20031106, A10, 26, 1, 11, 12023, 9, 20031113, 1436, -30.0002, -33.4988, 3143,   2101.5, 2,   2.7846, 2,  34.8272, 2, -999.0000, 9,    216.6, 1,   -999.0, 9,  -999.00, 9,  -999.00, 9,  -999.00, 9,  -999.00, 9, -999.000, 9, -999.000, 9, -999.000, 9,   -999.0, 9,   -999.0, 9, -999.0000, 9,   -999.00, -999.000, 9, -999.000,   -999.0, 9,   -999.0,  -999.00, 9,   -999.0,   2.6265, 27.781,   2.7845, 2, 2101.5, 2, 223.79, 2, -999, -999, -999, -999, -999, 9,  -999.00, 9, -999, -999, 9, -999
49NZ20031106, A10, 26, 1, 17, 12029, 2, 20031113, 1436, -30.0002, -33.4988, 3143,   2198.9, 2,   2.7927, 2,  34.8441, 2,  34.8438, 2,    220.8, 1,    228.4, 2,    43.17, 2,    24.35, 2,    -0.02, 2,     1.66, 2, -999.000, 9, -999.000, 9, -999.000, 9,   -999.0, 9,   -999.0, 9, -999.0000, 9,   -999.00, -999.000, 9, -999.000,   -999.0, 9,   -999.0,  -999.00, 9,   -999.0,   2.6255, 27.7947,   2.7928, 2, 2199.4, 2, 227.36, 2, 0.21, 0.1, 0.01, 0.01, -999, 9,  -999.00, 9, -999, -999, 9, -999
49NZ20031106, A10, 26, 1, 10, 12022, 9, 20031113, 1436, -30.0002, -33.4988, 3143,   2301.1, 2,   2.7973, 2,  34.8586, 2, -999.0000, 9,    224.8, 1,   -999.0, 9,  -999.00, 9,  -999.00, 9,  -999.00, 9,  -999.00, 9, -999.000, 9, -999.000, 9, -999.000, 9,   -999.0, 9,   -999.0, 9, -999.0000, 9,   -999.00, -999.000, 9, -999.000,   -999.0, 9,   -999.0,  -999.00, 9,   -999.0,   2.6204, 27.8069,   2.7972, 2, 2301, 2, 232.41, 2, -999, -999, -999, -999, -999, 9,  -999.00, 9, -999, -999, 9, -999
49NZ20031106, A10, 26, 1, 16, 12028, 2, 20031113, 1436, -30.0002, -33.4988, 3143,   2400.9, 2,   2.7948, 2,  34.8746, 2,  34.8748, 2,    229.3, 1,    236.8, 2,    39.31, 2,    23.02, 2,    -0.02, 2,     1.56, 2, -999.000, 9, -999.000, 9, -999.000, 9,   -999.0, 9,   -999.0, 9, -999.0000, 9,   -999.00, -999.000, 9, -999.000,   -999.0, 9,   -999.0,  -999.00, 9,   -999.0,   2.6084, 27.8205,   2.7948, 2, 2400.7, 2, 237.08, 2, 0.21, 0.1, 0.01, 0.01, -999, 9,  -999.00, 9, -999, -999, 9, -999
49NZ20031106, A10, 26, 1, 9, 12015, 9, 20031113, 1436, -30.0002, -33.4988, 3143,   2500.5, 2,   2.7863, 2,  34.8831, 2, -999.0000, 9,    231.8, 1,   -999.0, 9,  -999.00, 9,  -999.00, 9,  -999.00, 9,  -999.00, 9, -999.000, 9, -999.000, 9, -999.000, 9,   -999.0, 9,   -999.0, 9, -999.0000, 9,   -999.00, -999.000, 9, -999.000,   -999.0, 9,   -999.0,  -999.00, 9,   -999.0,   2.5905, 27.8289,   2.7865, 2, 2500.8, 2, 238.94, 2, -999, -999, -999, -999, -999, 9,  -999.00, 9, -999, -999, 9, -999
49NZ20031106, A10, 26, 1, 15, 12027, 2, 20031113, 1436, -30.0002, -33.4988, 3143,   2600.3, 2,   2.7737, 2,  34.8913, 2,  34.8916, 2,    234.5, 1,    242.2, 2,    37.43, 2,    22.24, 2,    -0.02, 2,     1.50, 2, -999.000, 9, -999.000, 9, -999.000, 9,   -999.0, 9,   -999.0, 9, -999.0000, 9,   -999.00, -999.000, 9, -999.000,   -999.0, 9,   -999.0,  -999.00, 9,   -999.0,   2.5684, 27.8375,   2.7738, 2, 2600.6, 2, 241.87, 2, 0.2, 0.1, 0.01, 0.01, -999, 9,  -999.00, 9, -999, -999, 9, -999
49NZ20031106, A10, 26, 1, 8, 12020, 9, 20031113, 1436, -30.0002, -33.4988, 3143,   2699.1, 2,   2.7561, 2,  34.8963, 2, -999.0000, 9,    236.5, 1,   -999.0, 9,  -999.00, 9,  -999.00, 9,  -999.00, 9,  -999.00, 9, -999.000, 9, -999.000, 9, -999.000, 9,   -999.0, 9,   -999.0, 9, -999.0000, 9,   -999.00, -999.000, 9, -999.000,   -999.0, 9,   -999.0,  -999.00, 9,   -999.0,   2.5413, 27.8437,   2.7562, 2, 2699.3, 2, 243.79, 2, -999, -999, -999, -999, -999, 9,  -999.00, 9, -999, -999, 9, -999
49NZ20031106, A10, 26, 1, 14, 12026, 2, 20031113, 1436, -30.0002, -33.4988, 3143,   2799.2, 2,   2.7145, 2,  34.8973, 2,  34.8977, 2,    237.8, 1,    245.0, 2,    37.46, 2,    21.89, 2,    -0.02, 2,     1.48, 2, -999.000, 9, -999.000, 9, -999.000, 9,   -999.0, 9,   -999.0, 9, -999.0000, 9,   -999.00, -999.000, 9, -999.000,   -999.0, 9,   -999.0,  -999.00, 9,   -999.0,   2.4905, 27.849,   2.7145, 2, 2799.3, 2, 245.13, 2, 0.2, 0.09, 0.01, 0.01, -999, 9,  -999.00, 9, -999, -999, 9, -999
49NZ20031106, A10, 26, 1, 7, 12019, 9, 20031113, 1436, -30.0002, -33.4988, 3143,   2901.4, 2,   2.6746, 2,  34.8986, 2, -999.0000, 9,    239.2, 1,   -999.0, 9,  -999.00, 9,  -999.00, 9,  -999.00, 9,  -999.00, 9, -999.000, 9, -999.000, 9, -999.000, 9,   -999.0, 9,   -999.0, 9, -999.0000, 9,   -999.00, -999.000, 9, -999.000,   -999.0, 9,   -999.0,  -999.00, 9,   -999.0,   2.4411, 27.8541,   2.6745, 2, 2901.5, 2, 246.31, 2, -999, -999, -999, -999, -999, 9,  -999.00, 9, -999, -999, 9, -999
49NZ20031106, A10, 26, 1, 13, 12025, 2, 20031113, 1436, -30.0002, -33.4988, 3143,   3001.0, 2,   2.6050, 2,  34.8978, 2,  34.8975, 2,    240.5, 1,    247.2, 2,    39.24, 2,    21.76, 2,    -0.02, 2,     1.48, 2, -999.000, 9, -999.000, 9, -999.000, 9,   -999.0, 9,   -999.0, 9, -999.0000, 9,   -999.00, -999.000, 9, -999.000,   -999.0, 9,   -999.0,  -999.00, 9,   -999.0,   2.3629, 27.8602,   2.6049, 2, 3001, 2, 247.15, 2, 0.21, 0.09, 0.01, 0.01, -999, 9,  -999.00, 9, -999, -999, 9, -999
49NZ20031106, A10, 26, 1, 12, 12024, 2, 20031113, 1436, -30.0002, -33.4988, 3143,   3178.4, 2,   2.4277, 2,  34.8830, 2,  34.8830, 2,    239.9, 1,    245.2, 2,    44.97, 2,    22.43, 2,    -0.02, 2,     1.52, 2, -999.000, 9, -999.000, 9, -999.000, 9,   -999.0, 9,   -999.0, 9, -999.0000, 9,   -999.00, -999.000, 9, -999.000,   -999.0, 9,   -999.0,  -999.00, 9,   -999.0,   2.1713, 27.8645,   2.4275, 2, 3178.4, 2, 245.7, 2, 0.22, 0.1, 0.01, 0.01, -999, 9,  -999.00, 9, -999, -999, 9, -999