BOTTLE,20220818CCHSIOAMB
EXPOCODE,SECT_ID,STNNBR,CASTNO,SAMPNO,BTLNBR,BTLNBR_FLAG_W,DATE,TIME,LATITUDE,LONGITUDE,DEPTH,CTDPRS,CTDPRS_FLAG_W,CTDTMP,CTDTMP_FLAG_W,CTDSAL,CTDSAL_FLAG_W,SALNTY,SALNTY_FLAG_W,CTDOXY,CTDOXY_FLAG_W,OXYGEN,OXYGEN_FLAG_W,SILCAT,SILCAT_FLAG_W,NITRAT,NITRAT_FLAG_W,NITRIT,NITRIT_FLAG_W,PHSPHT,PHSPHT_FLAG_W,CFC-11,CFC-11_FLAG_W,CFC-12,CFC-12_FLAG_W,CFC113,CFC113_FLAG_W,TCARBN,TCARBN_FLAG_W,ALKALI,ALKALI_FLAG_W,PH_TOT,PH_TOT_FLAG_W,PH_TMP,TRITUM,TRITUM_FLAG_W,TRITER,DELC14,DELC14_FLAG_W,C14ERR,DELC13,DELC13_FLAG_W,C13ERR,THETA,SIG0,SBE35,SBE35_FLAG_W,DWNPRS,DWNPRS_FLAG_W,DWNOXY,DWNOXY_FLAG_W,SILUNC,NRAUNC,NRIUNC,PHPUNC,TOC,TOC_FLAG_W,CS-137,CS-137_FLAG_W,CS137ER,PLUTO,PLUTO_FLAG_W,PLUTOER
,,,,,,,,,,,METERS,DBAR,,ITS-90,,PSS-78,,PSS-78,,UMOL/KG,,UMOL/KG,,UMOL/KG,,UMOL/KG,,UMOL/KG,,UMOL/KG,,PMOL/KG,,PMOL/KG,,PMOL/KG,,UMOL/KG,,UMOL/KG,,,,DEG C,TU,,TU,/MILLE,,/MILLE,/MILLE,,/MILLE,DEG C,KG/M^3,ITS-90,,DBAR,,UMOL/KG,,UMOL/KG,UMOL/KG,UMOL/KG,UMOL/KG,UMOL/KG,,BQ/M^3,,BQ/M^3,MBQ/M^3,,MBQ/M^3
49NZ20031106, A10, 21, 1, 36, 12048, 2, 20031112, 2147, -29.9970, -35.4885, 2327,      9.6, 2,  20.1057, 2,  36.0598, 2,  36.0591, 2,    217.1, 1,    228.8, 2,     0.87, 2,    -0.02, 2,    -0.01, 2,     0.05, 2, -999.000, 5, -999.000, 5, -999.000, 5,   2059.7, 2,   2361.4, 2,    8.0329, 2,     25.00, -999.000, 9, -999.000,     77.4, 2,      4.1,     1.49, 2,      0.0,  20.1039, 25.5443,  20.1059, 2, 9.6, 2, 229.73, 2, 0.12, 0.03, 0.01, 0.03, -999, 1,  -999.00, 9, -999, -999, 9, -999
49NZ20031106, A10, 21, 1, 35, 12047, 2, 20031112, 2147, -29.9970, -35.4885, 2327,     51.9, 2,  19.5552, 2,  36.0211, 2,  36.0234, 2,    218.8, 1,    230.5, 2,     0.85, 2,    -0.03, 2,    -0.01, 2,     0.04, 2,    2.413, 2,    1.403, 2,    0.285, 4,   2058.0, 6,   2361.9, 2,    8.0335, 2,     25.00, -999.000, 9, -999.000,     87.9, 2,      4.0,     1.44, 2,      0.0,  19.5457, 25.6646,  19.5550, 2, 54.1, 2, 230.32, 2, 0.12, 0.03, 0.01, 0.04, -999, 1,  -999.00, 9, -999, -999, 9, -999
49NZ20031106, A10, 21, 1, 34, 12046, 2, 20031112, 2147, -29.9970, -35.4885, 2327,    102.9, 2,  18.6484, 2,  35.9258, 2,  35.9257, 2,    219.4, 1,    230.8, 2,     0.89, 2,    -0.03, 2,     0.00, 2,     0.08, 2,    2.551, 2,    1.496, 2,    0.267, 4,   2061.4, 2,   2355.8, 6,    8.0185, 2,     25.00, -999.000, 9, -999.000,     85.0, 2,      4.0,     1.48, 2,      0.0,  18.6302, 25.8232,  18.6501, 2, 104.8, 2, 231.06, 2, 0.12, 0.03, 0.01, 0.02, -999, 1,  -999.00, 9, -999, -999, 9, -999
49NZ20031106, A10, 21, 1, 33, 12045, 2, 20031112, 2147, -29.9970, -35.4885, 2327,    150.8, 2,  17.3109, 2,  35.8083, 2,  35.8176, 3,    212.7, 1,    224.0, 2,     1.03, 2,     0.85, 2,     0.07, 2,     0.18, 2,    2.651, 2,    1.530, 2,    0.217, 4,   2078.9, 2,   2356.0, 2,    7.9850, 2,     25.00, -999.000, 9, -999.000,     87.0, 2,      4.0,     1.14, 3,      0.0,  17.2856, 26.0714,  17.3128, 2, 154.8, 2, 225.68, 2, 0.12, 0.04, 0.01, 0.02, -999, 1,  -999.00, 9, -999, -999, 9, -999
49NZ20031106, A10, 21, 1, 32, 12044, 2, 20031112, 2147, -29.9970, -35.4885, 2327,    198.6, 2,  16.2174, 2,  35.6613, 2,  35.6613, 2,    204.2, 1,    214.3, 2,     1.50, 2,     3.21, 2,     0.02, 2,     0.35, 2,    2.787, 2,    1.548, 2,    0.110, 4,   2090.9, 2,   2344.6, 2,    7.9453, 2,     25.00, -999.000, 9, -999.000,     83.0, 6,      2.8,     1.24, 6,      0.0,  16.1855, 26.2143,  16.2190, 2, 200.8, 2, 214.21, 2, 0.12, 0.04, 0.01, 0.01, -999, 1,  -999.00, 9, -999, -999, 9, -999
49NZ20031106, A10, 21, 1, 31, 12043, 2, 20031112, 2147, -29.9970, -35.4885, 2327,    249.2, 2,  15.0638, 2,  35.5048, 2,  35.5037, 2,    203.9, 1,    213.1, 2,     1.88, 2,     5.14, 2,     0.00, 2,     0.47, 2,    2.888, 6,    1.636, 6,    0.065, 4,   2099.3, 2,   2335.2, 2,    7.9191, 2,     25.00, -999.000, 9, -999.000,     78.3, 2,      4.0,     1.20, 2,      0.0,  15.0257, 26.3552,  15.0665, 2, 250.2, 2, 212.56, 2, 0.12, 0.05, 0.01, 0.01, -999, 1,  -999.00, 9, -999, -999, 9, -999
49NZ20031106, A10, 21, 1, 30, 12042, 2, 20031112, 2147, -29.9970, -35.4885, 2327,    301.5, 2,  14.5328, 2,  35.4472, 2,  35.4459, 2,    203.9, 1,    212.9, 2,     2.14, 2,     6.41, 2,     0.01, 2,     0.54, 2,    2.917, 2,    1.639, 2,    0.066, 4,   2102.7, 2,   2327.2, 2,    7.9053, 2,     25.00, -999.000, 9, -999.000,     83.7, 2,      3.9,     1.19, 2,      0.0,  14.4878, 26.4287,  14.5332, 2, 301.8, 2, 212.79, 2, 0.12, 0.05, 0.01, 0.01, -999, 1,  -999.00, 9, -999, -999, 9, -999
49NZ20031106, A10, 21, 1, 29, 12041, 2, 20031112, 2147, -29.9970, -35.4885, 2327,    400.5, 2,  12.9052, 2,  35.2128, 2,  35.2180, 2,    203.5, 1,    212.0, 2,     3.21, 2,     9.93, 2,     0.00, 2,     0.77, 2,    2.978, 2,    1.630, 2,    0.052, 4,   2114.5, 2,   2317.3, 2,    7.8648, 2,     25.00, -999.000, 9, -999.000,     82.1, 2,      6.0,     1.17, 2,      0.0,  12.8499, 26.5866,  12.9056, 2, 403.6, 2, 211.88, 2, 0.13, 0.06, 0.01, 0.01, -999, 1,  -999.00, 9, -999, -999, 9, -999
49NZ20031106, A10, 21, 1, 28, 12040, 2, 20031112, 2147, -29.9970, -35.4885, 2327,    500.2, 2,  10.6966, 2,  34.9005, 2,  34.9036, 2,    201.6, 1,    209.4, 2,     5.53, 2,    15.46, 2,     0.00, 2,     1.11, 2,    3.034, 2,    1.575, 2,    0.087, 4,   2131.3, 2,   2304.5, 2,    7.8024, 2,     25.00, -999.000, 9, -999.000,     63.4, 2,      3.8,     1.17, 2,      0.0,  10.6352, 26.7645,  10.6926, 2, 503.8, 2, 208.51, 2, 0.13, 0.08, 0.01, 0.01, -999, 1,  -999.00, 9, -999, -999, 9, -999
49NZ20031106, A10, 21, 1, 27, 12039, 2, 20031112, 2147, -29.9970, -35.4885, 2327,    601.3, 2,   8.2156, 2,  34.6038, 2,  34.6038, 2,    206.4, 1,    213.9, 2,     9.48, 2,    21.19, 2,     0.00, 2,     1.48, 2,    2.992, 2,    1.503, 2,    0.111, 4,   2145.8, 2,   2292.7, 2,    7.7408, 2,     25.00, -999.000, 9, -999.000,     29.4, 2,      3.8,     1.15, 2,      0.0,   8.1526, 26.9391,   8.2170, 2, 602, 2, 213.29, 2, 0.14, 0.09, 0.01, 0.01, -999, 1,  -999.00, 9, -999, -999, 9, -999
49NZ20031106, A10, 21, 1, 26, 12038, 2, 20031112, 2147, -29.9970, -35.4885, 2327,    699.1, 2,   7.0075, 2,  34.4802, 2,  34.4840, 2,    212.3, 1,    219.9, 2,    11.97, 2,    23.56, 2,     0.00, 2,     1.62, 2,    2.977, 2,    1.492, 2,    0.135, 4,   2152.8, 6,   2288.4, 2,    7.7187, 2,     25.00, -999.000, 9, -999.000,      8.0, 2,      3.8,     1.13, 2,      0.0,   6.9402, 27.0171,   7.0039, 2, 700.7, 2, 219.81, 2, 0.15, 0.1, 0.01, 0.01, -999, 1,  -999.00, 9, -999, -999, 9, -999
49NZ20031106, A10, 21, 1, 25, 12037, 2, 20031112, 2147, -29.9970, -35.4885, 2327,    800.4, 2,   5.4968, 2,  34.3421, 2,  34.3431, 2,    220.9, 1,    228.9, 2,    16.01, 2,    26.49, 2,    -0.01, 2,     1.82, 2,    2.957, 2,    1.460, 2,    0.135, 4,   2161.9, 2,   2285.6, 6,    7.6907, 2,     25.00, -999.000, 9, -999.000,     -3.6, 2,      4.0,     1.11, 2,      0.0,   5.4284, 27.1034,   5.4906, 2, 803.5, 2, 226.9, 2, 0.15, 0.11, 0.01, 0.01, -999, 1,  -999.00, 9, -999, -999, 9, -999
49NZ20031106, A10, 21, 1, 24, 12036, 2, 20031112, 2147, -29.9970, -35.4885, 2327,    900.2, 2,   4.7531, 2,  34.3110, 2,  34.3116, 2,    219.4, 1,    227.4, 2,    21.25, 2,    28.24, 2,    -0.01, 2,     1.94, 2,    2.591, 2,    1.237, 2,    0.121, 4,   2171.6, 2,   2287.5, 2,    7.6709, 6,     25.00, -999.000, 9, -999.000,    -30.7, 2,      3.7,     1.13, 2,      0.0,   4.6807, 27.1661,   4.7462, 2, 901.5, 2, 228.43, 2, 0.17, 0.11, 0.01, 0.01, -999, 1,  -999.00, 9, -999, -999, 9, -999
49NZ20031106, A10, 21, 1, 2, 12014, 9, 20031112, 2147, -29.9970, -35.4885, 2327,    999.8, 2,   4.0531, 2,  34.3060, 2, -999.0000, 9,    214.0, 1,   -999.0, 9,  -999.00, 9,  -999.00, 9,  -999.00, 9,  -999.00, 9, -999.000, 9, -999.000, 9, -999.000, 9,   -999.0, 9,   -999.0, 9, -999.0000, 9,   -999.00, -999.000, 9, -999.000,   -999.0, 9,   -999.0,  -999.00, 9,   -999.0,   3.9774, 27.2364,   4.0532, 2, 1003.1, 2, 223.01, 2, -999, -999, -999, -999, -999, 9,  -999.00, 9, -999, -999, 9, -999
49NZ20031106, A10, 21, 1, 5, 12017, 9, 20031112, 2147, -29.9970, -35.4885, 2327,    999.9, 2,   4.0549, 2,  34.3058, 2, -999.0000, 9,    214.1, 1,   -999.0, 9,  -999.00, 9,  -999.00, 9,  -999.00, 9,  -999.00, 9, -999.000, 9, -999.000, 9, -999.000, 9,   -999.0, 9,   -999.0, 9, -999.0000, 9,   -999.00, -999.000, 9, -999.000,   -999.0, 9,   -999.0,  -999.00, 9,   -999.0,   3.9792, 27.2365,   4.0538, 2, 1003.2, 2, 223.01, 2, -999, -999, -999, -999, -999, 9,  -999.00, 9, -999, -999, 9, -999
49NZ20031106, A10, 21, 1, 6, 12018, 9, 20031112, 2147, -29.9970, -35.4885, 2327,   1000.0, 2,   4.0540, 2,  34.3059, 2, -999.0000, 9,    214.0, 1,   -999.0, 9,  -999.00, 9,  -999.00, 9,  -999.00, 9,  -999.00, 9, -999.000, 9, -999.000, 9, -999.000, 9,   -999.0, 9,   -999.0, 9, -999.0000, 9,   -999.00, -999.000, 9, -999.000,   -999.0, 9,   -999.0,  -999.00, 9,   -999.0,   3.9783, 27.2363,   4.0542, 2, 1003.3, 2, 223, 2, -999, -999, -999, -999, -999, 9,  -999.00, 9, -999, -999, 9, -999
49NZ20031106, A10, 21, 1, 1, 12013, 9, 20031112, 2147, -29.9970, -35.4885, 2327,   1000.2, 2,   4.0535, 2,  34.3059, 2, -999.0000, 9,    214.0, 1,   -999.0, 9,  -999.00, 9,  -999.00, 9,  -999.00, 9,  -999.00, 9, -999.000, 9, -999.000, 9, -999.000, 9,   -999.0, 9,   -999.0, 9, -999.0000, 9,   -999.00, -999.000, 9, -999.000,   -999.0, 9,   -999.0,  -999.00, 9,   -999.0,   3.9777, 27.2364,   4.0538, 2, 1003.4, 2, 222.97, 2, -999, -999, -999, -999, -999, 9,  -999.00, 9, -999, -999, 9, -999
49NZ20031106, A10, 21, 1, 3, 12012, 9, 20031112, 2147, -29.9970, -35.4885, 2327,   1000.5, 2,   4.0519, 2,  34.3060, 2, -999.0000, 9,    214.1, 1,   -999.0, 9,  -999.00, 9,  -999.00, 9,  -999.00, 9,  -999.00, 9, -999.000, 9, -999.000, 9, -999.000, 9,   -999.0, 9,   -999.0, 9, -999.0000, 9,   -999.00, -999.000, 9, -999.000,   -999.0, 9,   -999.0,  -999.00, 9,   -999.0,   3.9761, 27.2365,   4.0525, 2, 1003.7, 2, 222.93, 2, -999, -999, -999, -999, -999, 9,  -999.00, 9, -999, -999, 9, -999
49NZ20031106, A10, 21, 1, 14, 12026, 9, 20031112, 2147, -29.9970, -35.4885, 2327,   1000.7, 2,   4.0530, 2,  34.3058, 2, -999.0000, 9,    214.3, 1,   -999.0, 9,  -999.00, 9,  -999.00, 9,  -999.00, 9,  -999.00, 9, -999.000, 9, -999.000, 9, -999.000, 9,   -999.0, 9,   -999.0, 9, -999.0000, 9,   -999.00, -999.000, 9, -999.000,   -999.0, 9,   -999.0,  -999.00, 9,   -999.0,   3.9772, 27.2365,   4.0535, 2, 1003.8, 2, 222.92, 2, -999, -999, -999, -999, -999, 9,  -999.00, 9, -999, -999, 9, -999
49NZ20031106, A10, 21, 1, 10, 12022, 9, 20031112, 2147, -29.9970, -35.4885, 2327,   1000.7, 2,   4.0526, 2,  34.3060, 2, -999.0000, 9,    214.3, 1,   -999.0, 9,  -999.00, 9,  -999.00, 9,  -999.00, 9,  -999.00, 9, -999.000, 9, -999.000, 9, -999.000, 9,   -999.0, 9,   -999.0, 9, -999.0000, 9,   -999.00, -999.000, 9, -999.000,   -999.0, 9,   -999.0,  -999.00, 9,   -999.0,   3.9768, 27.2365,   4.0537, 2, 1003.9, 2, 222.92, 2, -999, -999, -999, -999, -999, 9,  -999.00, 9, -999, -999, 9, -999
49NZ20031106, A10, 21, 1, 23, 12035, 2, 20031112, 2147, -29.9970, -35.4885, 2327,   1000.8, 2,   4.0512, 2,  34.3061, 2,  34.3058, 2,    213.8, 1,    221.8, 2,    27.93, 2,    30.01, 2,    -0.01, 2,     2.06, 2,    2.108, 6,    0.986, 6,    0.074, 4,   2184.0, 2,   2291.0, 2,    7.6639, 2,     25.00, -999.000, 9, -999.000,    -60.3, 2,      3.5,     1.03, 2,      0.0,   3.9754, 27.2367,   4.0515, 2, 1004, 2, 222.9, 2, 0.18, 0.12, 0.01, 0.02, -999, 1,  -999.00, 9, -999, -999, 9, -999
49NZ20031106, A10, 21, 1, 12, 12024, 9, 20031112, 2147, -29.9970, -35.4885, 2327,   1000.8, 2,   4.0530, 2,  34.3059, 2, -999.0000, 9,    214.2, 1,   -999.0, 9,  -999.00, 9,  -999.00, 9,  -999.00, 9,  -999.00, 9, -999.000, 9, -999.000, 9, -999.000, 9,   -999.0, 9,   -999.0, 9, -999.0000, 9,   -999.00, -999.000, 9, -999.000,   -999.0, 9,   -999.0,  -999.00, 9,   -999.0,   3.9772, 27.2364,   4.0542, 2, 1003.9, 2, 222.91, 2, -999, -999, -999, -999, -999, 9,  -999.00, 9, -999, -999, 9, -999
49NZ20031106, A10, 21, 1, 4, 12016, 9, 20031112, 2147, -29.9970, -35.4885, 2327,   1000.8, 2,   4.0522, 2,  34.3060, 2, -999.0000, 9,    214.1, 1,   -999.0, 9,  -999.00, 9,  -999.00, 9,  -999.00, 9,  -999.00, 9, -999.000, 9, -999.000, 9, -999.000, 9,   -999.0, 9,   -999.0, 9, -999.0000, 9,   -999.00, -999.000, 9, -999.000,   -999.0, 9,   -999.0,  -999.00, 9,   -999.0,   3.9764, 27.2368,   4.0521, 2, 1004, 2, 222.9, 2, -999, -999, -999, -999, -999, 9,  -999.00, 9, -999, -999, 9, -999
49NZ20031106, A10, 21, 1, 11, 12023, 9, 20031112, 2147, -29.9970, -35.4885, 2327,   1000.9, 2,   4.0524, 2,  34.3060, 2, -999.0000, 9,    214.3, 1,   -999.0, 9,  -999.00, 9,  -999.00, 9,  -999.00, 9,  -999.00, 9, -999.000, 9, -999.000, 9, -999.000, 9,   -999.0, 9,   -999.0, 9, -999.0000, 9,   -999.00, -999.000, 9, -999.000,   -999.0, 9,   -999.0,  -999.00, 9,   -999.0,   3.9766, 27.2365,   4.0533, 2, 1004, 2, 222.89, 2, -999, -999, -999, -999, -999, 9,  -999.00, 9, -999, -999, 9, -999
49NZ20031106, A10, 21, 1, 7, 12019, 9, 20031112, 2147, -29.9970, -35.4885, 2327,   1000.9, 2,   4.0524, 2,  34.3060, 2, -999.0000, 9,    214.1, 1,   -999.0, 9,  -999.00, 9,  -999.00, 9,  -999.00, 9,  -999.00, 9, -999.000, 9, -999.000, 9, -999.000, 9,   -999.0, 9,   -999.0, 9, -999.0000, 9,   -999.00, -999.000, 9, -999.000,   -999.0, 9,   -999.0,  -999.00, 9,   -999.0,   3.9766, 27.2365,   4.0530, 2, 1004, 2, 222.89, 2, -999, -999, -999, -999, -999, 9,  -999.00, 9, -999, -999, 9, -999
49NZ20031106, A10, 21, 1, 9, 12015, 9, 20031112, 2147, -29.9970, -35.4885, 2327,   1001.0, 2,   4.0523, 2,  34.3061, 2, -999.0000, 9,    214.2, 1,   -999.0, 9,  -999.00, 9,  -999.00, 9,  -999.00, 9,  -999.00, 9, -999.000, 9, -999.000, 9, -999.000, 9,   -999.0, 9,   -999.0, 9, -999.0000, 9,   -999.00, -999.000, 9, -999.000,   -999.0, 9,   -999.0,  -999.00, 9,   -999.0,   3.9765, 27.2365,   4.0538, 2, 1004.1, 2, 222.88, 2, -999, -999, -999, -999, -999, 9,  -999.00, 9, -999, -999, 9, -999
49NZ20031106, A10, 21, 1, 13, 12025, 9, 20031112, 2147, -29.9970, -35.4885, 2327,   1001.3, 2,   4.0528, 2,  34.3060, 2, -999.0000, 9,    214.3, 1,   -999.0, 9,  -999.00, 9,  -999.00, 9,  -999.00, 9,  -999.00, 9, -999.000, 9, -999.000, 9, -999.000, 9,   -999.0, 9,   -999.0, 9, -999.0000, 9,   -999.00, -999.000, 9, -999.000,   -999.0, 9,   -999.0,  -999.00, 9,   -999.0,   3.9770, 27.2365,   4.0533, 2, 1004.3, 2, 222.85, 2, -999, -999, -999, -999, -999, 9,  -999.00, 9, -999, -999, 9, -999
49NZ20031106, A10, 21, 1, 22, 12034, 2, 20031112, 2147, -29.9970, -35.4885, 2327,   1200.2, 2,   3.2206, 2,  34.4047, 2,  34.4050, 2,    192.4, 1,    199.0, 2,    44.95, 2,    32.45, 2,    -0.01, 2,     2.23, 2,    0.863, 2,    0.407, 2,    0.025, 4,   2213.7, 2,   2309.4, 2,    7.6137, 2,     25.00, -999.000, 9, -999.000,   -104.4, 2,      3.4,     0.81, 2,      0.0,   3.1354, 27.3978,   3.2205, 2, 1200, 2, 198.93, 2, 0.22, 0.12, 0.01, 0.02, -999, 1,  -999.00, 9, -999, -999, 9, -999
49NZ20031106, A10, 21, 1, 21, 12033, 2, 20031112, 2147, -29.9970, -35.4885, 2327,   1401.4, 2,   2.9781, 2,  34.5306, 2,  34.5305, 2,    183.9, 1,    189.9, 2,    53.00, 2,    32.21, 2,    -0.01, 2,     2.21, 2,    0.332, 2,    0.151, 2,    0.000, 4,   2225.7, 2,   2324.2, 2,    7.6094, 2,     25.00, -999.000, 9, -999.000,   -127.6, 2,      3.4,     0.58, 2,      0.0,   2.8788, 27.5217,   2.9784, 2, 1402.7, 2, 189.87, 2, 0.24, 0.12, 0.01, 0.02, -999, 1,  -999.00, 9, -999, -999, 9, -999
49NZ20031106, A10, 21, 1, 20, 12032, 2, 20031112, 2147, -29.9970, -35.4885, 2327,   1600.4, 2,   2.8740, 2,  34.6660, 2,  34.6660, 2,    189.3, 1,    195.2, 2,    53.92, 2,    30.10, 2,    -0.01, 2,     2.06, 2, -999.000, 5, -999.000, 5, -999.000, 5,   2223.9, 2,   2323.5, 2,    7.6326, 2,     25.00, -999.000, 9, -999.000,   -136.2, 2,      4.8,     0.70, 2,      0.0,   2.7590, 27.6405,   2.8739, 2, 1599.7, 2, 195.25, 2, 0.24, 0.12, 0.01, 0.02, -999, 1,  -999.00, 9, -999, -999, 9, -999
49NZ20031106, A10, 21, 1, 19, 12031, 2, 20031112, 2147, -29.9970, -35.4885, 2327,   1796.6, 2,   2.8186, 2,  34.7564, 2,  34.7564, 2,    202.4, 1,    208.4, 2,    50.56, 2,    27.56, 2,    -0.01, 2,     1.88, 2,    0.026, 2,    0.000, 2,    0.000, 4,   2213.5, 2,   2328.0, 2,    7.6607, 2,     25.00, -999.000, 9, -999.000,   -140.3, 3,      3.5,     0.71, 2,      0.0,   2.6873, 27.7191,   2.8186, 2, 1796.3, 2, 208.16, 2, 0.23, 0.11, 0.01, 0.01, -999, 1,  -999.00, 9, -999, -999, 9, -999
49NZ20031106, A10, 21, 1, 18, 12030, 2, 20031112, 2147, -29.9970, -35.4885, 2327,   2000.9, 2,   2.8089, 2,  34.8038, 2,  34.8036, 2,    211.9, 1,    218.2, 2,    47.12, 2,    26.03, 2,    -0.01, 2,     1.77, 2,    0.019, 2,    0.001, 2,    0.000, 4,   2204.8, 2,   2331.5, 2,    7.6821, 6,     25.00, -999.000, 9, -999.000,   -124.2, 2,      3.6,     0.80, 2,      0.0,   2.6596, 27.7595,   2.8088, 2, 2000.9, 2, 217.98, 2, 0.22, 0.11, 0.01, 0.01, -999, 1,  -999.00, 9, -999, -999, 9, -999
49NZ20031106, A10, 21, 1, 15, 12027, 9, 20031112, 2147, -29.9970, -35.4885, 2327,   2100.2, 2,   2.8101, 2,  34.8185, 2, -999.0000, 9,    215.5, 1,   -999.0, 9,  -999.00, 9,  -999.00, 9,  -999.00, 9,  -999.00, 9, -999.000, 9, -999.000, 9, -999.000, 9,   -999.0, 9,   -999.0, 9, -999.0000, 9,   -999.00, -999.000, 9, -999.000,   -999.0, 9,   -999.0,  -999.00, 9,   -999.0,   2.6517, 27.7719,   2.8100, 2, 2100, 2, 221.86, 2, -999, -999, -999, -999, -999, 9,  -999.00, 9, -999, -999, 9, -999
49NZ20031106, A10, 21, 1, 8, 12020, 2, 20031112, 2147, -29.9970, -35.4885, 2327,   2201.4, 2,   2.8012, 2,  34.8376, 2,  34.8376, 2,    220.7, 1,    226.6, 2,    43.70, 2,    24.62, 2,    -0.01, 2,     1.66, 2,    0.012, 2,   -0.005, 2,    0.000, 4,   2199.5, 2,   2327.8, 2,    7.6991, 2,     25.00, -999.000, 9, -999.000,   -123.6, 2,      3.5,     0.87, 2,      0.0,   2.6336, 27.7886,   2.8015, 2, 2201.5, 2, 226.56, 2, 0.22, 0.1, 0.01, 0.01, -999, 9,  -999.00, 9, -999, -999, 9, -999
49NZ20031106, A10, 21, 1, 17, 12029, 2, 20031112, 2147, -29.9970, -35.4885, 2327,   2201.6, 2,   2.8011, 2,  34.8376, 2,  34.8375, 2,    220.8, 1,    226.7, 2,    43.84, 2,    24.70, 2,    -0.01, 2,     1.67, 2,    0.014, 2,   -0.004, 2,    0.000, 4,   2197.8, 2,   2327.5, 2,    7.6989, 2,     25.00, -999.000, 9, -999.000,   -126.8, 2,      3.4,     0.88, 2,      0.0,   2.6335, 27.7889,   2.8012, 2, 2201.7, 2, 226.57, 2, 0.22, 0.1, 0.01, 0.01, -999, 1,  -999.00, 9, -999, -999, 9, -999
49NZ20031106, A10, 21, 1, 16, 12028, 2, 20031112, 2147, -29.9970, -35.4885, 2327,   2327.6, 2,   2.7932, 2,  34.8570, 2,  34.8574, 2,    226.1, 1,    232.2, 2,    41.61, 2,    23.82, 2,    -0.01, 2,     1.61, 2, -999.000, 5, -999.000, 5, -999.000, 5,   2192.8, 6,   2327.7, 2,    7.7076, 2,     25.00, -999.000, 9, -999.000,   -118.5, 2,      4.8,     0.92, 2,      0.0,   2.6139, 27.806,   2.7931, 2, 2327.6, 2, 232.22, 2, 0.21, 0.1, 0.01, 0.01, -999, 1,  -999.00, 9, -999, -999, 9, -999