BOTTLE,20220818CCHSIOAMB
EXPOCODE,SECT_ID,STNNBR,CASTNO,SAMPNO,BTLNBR,BTLNBR_FLAG_W,DATE,TIME,LATITUDE,LONGITUDE,DEPTH,CTDPRS,CTDPRS_FLAG_W,CTDTMP,CTDTMP_FLAG_W,CTDSAL,CTDSAL_FLAG_W,SALNTY,SALNTY_FLAG_W,CTDOXY,CTDOXY_FLAG_W,OXYGEN,OXYGEN_FLAG_W,SILCAT,SILCAT_FLAG_W,NITRAT,NITRAT_FLAG_W,NITRIT,NITRIT_FLAG_W,PHSPHT,PHSPHT_FLAG_W,CFC-11,CFC-11_FLAG_W,CFC-12,CFC-12_FLAG_W,CFC113,CFC113_FLAG_W,TCARBN,TCARBN_FLAG_W,ALKALI,ALKALI_FLAG_W,PH_TOT,PH_TOT_FLAG_W,PH_TMP,TRITUM,TRITUM_FLAG_W,TRITER,DELC14,DELC14_FLAG_W,C14ERR,DELC13,DELC13_FLAG_W,C13ERR,THETA,SIG0,SBE35,SBE35_FLAG_W,DWNPRS,DWNPRS_FLAG_W,DWNOXY,DWNOXY_FLAG_W,SILUNC,NRAUNC,NRIUNC,PHPUNC,TOC,TOC_FLAG_W,CS-137,CS-137_FLAG_W,CS137ER,PLUTO,PLUTO_FLAG_W,PLUTOER
,,,,,,,,,,,METERS,DBAR,,ITS-90,,PSS-78,,PSS-78,,UMOL/KG,,UMOL/KG,,UMOL/KG,,UMOL/KG,,UMOL/KG,,UMOL/KG,,PMOL/KG,,PMOL/KG,,PMOL/KG,,UMOL/KG,,UMOL/KG,,,,DEG C,TU,,TU,/MILLE,,/MILLE,/MILLE,,/MILLE,DEG C,KG/M^3,ITS-90,,DBAR,,UMOL/KG,,UMOL/KG,UMOL/KG,UMOL/KG,UMOL/KG,UMOL/KG,,BQ/M^3,,BQ/M^3,MBQ/M^3,,MBQ/M^3
49NZ20031106, A10, 81, 1, 4, 12028, 2, 20031128, 1112, -29.7473, 4.2437, 4978,      4.2, 2,  19.1152, 2,  35.7664, 2, -999.0000, 9,    223.9, 1,   -999.0, 9,  -999.00, 9,  -999.00, 9,  -999.00, 9,  -999.00, 9, -999.000, 9, -999.000, 9, -999.000, 9,   -999.0, 9,   -999.0, 9, -999.0000, 9,   -999.00, -999.000, 9, -999.000,   -999.0, 9,   -999.0,  -999.00, 9,   -999.0,  19.1144, 25.5812,  19.1132, 2, 4.2, 2, 235.92, 2, -999, -999, -999, -999, -999, 9,  -999.00, 9, -999, -999, 9, -999
49NZ20031106, A10, 81, 1, 3, 12027, 2, 20031128, 1112, -29.7473, 4.2437, 4978,      4.4, 2,  19.1167, 2,  35.7665, 2, -999.0000, 9,    223.4, 1,   -999.0, 9,  -999.00, 9,  -999.00, 9,  -999.00, 9,  -999.00, 9, -999.000, 9, -999.000, 9, -999.000, 9,   -999.0, 9,   -999.0, 9, -999.0000, 9,   -999.00, -999.000, 9, -999.000,   -999.0, 9,   -999.0,  -999.00, 9,   -999.0,  19.1159, 25.5807,  19.1150, 2, 4.4, 2, 235.9, 2, -999, -999, -999, -999, -999, 9,  -999.00, 9, -999, -999, 9, -999
49NZ20031106, A10, 81, 1, 36, 12024, 2, 20031128, 1112, -29.7473, 4.2437, 4978,      9.8, 2,  19.1256, 2,  35.7658, 2,  35.7682, 2,    223.3, 1,    236.0, 2,     2.00, 2,    -0.05, 2,     0.00, 2,     0.22, 2,    2.721, 2,    1.498, 2,    0.385, 4,   2061.0, 2,   2351.0, 2,    8.0065, 4,     25.00, -999.000, 9, -999.000,   -999.0, 9,   -999.0,  -999.00, 9,   -999.0,  19.1238, 25.5794,  19.1203, 2, 9.8, 2, 235.94, 2, 0.12, 0.03, 0.01, 0.02, -999, 9,  -999.00, 9, -999, -999, 9, -999
49NZ20031106, A10, 81, 1, 35, 12023, 2, 20031128, 1112, -29.7473, 4.2437, 4978,     50.1, 2,  18.6013, 2,  35.7465, 2,  35.7479, 2,    225.5, 1,    238.4, 2,     2.01, 2,     0.00, 2,     0.00, 2,     0.21, 2,    2.769, 2,    1.516, 2,    0.376, 4,   2060.3, 6,   2349.4, 2,    8.0077, 2,     25.00, -999.000, 9, -999.000,   -999.0, 9,   -999.0,  -999.00, 9,   -999.0,  18.5925, 25.6992,  18.6012, 2, 46.7, 2, 238.5, 2, 0.12, 0.03, 0.01, 0.02, -999, 9,  -999.00, 9, -999, -999, 9, -999
49NZ20031106, A10, 81, 1, 2, 12026, 2, 20031128, 1112, -29.7473, 4.2437, 4978,     80.7, 2,  16.8201, 2,  35.5882, 2, -999.0000, 9,    229.3, 1,   -999.0, 9,  -999.00, 9,  -999.00, 9,  -999.00, 9,  -999.00, 9, -999.000, 9, -999.000, 9, -999.000, 9,   -999.0, 9,   -999.0, 9, -999.0000, 9,   -999.00, -999.000, 9, -999.000,   -999.0, 9,   -999.0,  -999.00, 9,   -999.0,  16.8069, 26.0145,  16.8197, 2, 75.8, 2, 237.81, 2, -999, -999, -999, -999, -999, 9,  -999.00, 9, -999, -999, 9, -999
49NZ20031106, A10, 81, 1, 34, 12022, 2, 20031128, 1112, -29.7473, 4.2437, 4978,     99.7, 2,  16.4832, 2,  35.5600, 2,  35.5604, 2,    223.1, 1,    234.8, 2,     2.33, 2,     2.24, 2,     0.51, 2,     0.40, 2,    2.995, 2,    1.617, 2,    0.275, 4,   2077.8, 2,   2334.3, 6,    7.9583, 2,     25.00, -999.000, 9, -999.000,   -999.0, 9,   -999.0,  -999.00, 9,   -999.0,  16.4671, 26.073,  16.4817, 2, 95, 2, 233.38, 2, 0.12, 0.04, 0, 0.01, -999, 9,  -999.00, 9, -999, -999, 9, -999
49NZ20031106, A10, 81, 1, 33, 12015, 2, 20031128, 1112, -29.7473, 4.2437, 4978,    150.5, 2,  15.6053, 2,  35.4465, 2,  35.4469, 2,    212.2, 1,    223.0, 2,     2.65, 2,     5.77, 2,     0.02, 2,     0.58, 2,    3.132, 2,    1.668, 2,    0.241, 4,   2090.6, 2,   2328.6, 2,    7.9189, 2,     25.00, -999.000, 9, -999.000,   -999.0, 9,   -999.0,  -999.00, 9,   -999.0,  15.5818, 26.1888,  15.6047, 2, 148.5, 2, 221.63, 2, 0.12, 0.05, 0.01, 0.01, -999, 9,  -999.00, 9, -999, -999, 9, -999
49NZ20031106, A10, 81, 1, 32, 12020, 2, 20031128, 1112, -29.7473, 4.2437, 4978,    201.1, 2,  14.1870, 2,  35.3010, 2,  35.2990, 2,    199.7, 1,    209.0, 2,     3.55, 2,     8.11, 2,     0.02, 2,     0.71, 2,    3.279, 2,    1.704, 2,    0.184, 4,   2108.4, 2,   2309.3, 2,    7.8766, 2,     25.00, -999.000, 9, -999.000,   -999.0, 9,   -999.0,  -999.00, 9,   -999.0,  14.1576, 26.3881,  14.1854, 2, 200.6, 2, 205.45, 2, 0.13, 0.06, 0.01, 0.01, -999, 9,  -999.00, 9, -999, -999, 9, -999
49NZ20031106, A10, 81, 1, 31, 12019, 2, 20031128, 1112, -29.7473, 4.2437, 4978,    250.5, 2,  13.0180, 2,  35.1545, 2,  35.1516, 2,    189.1, 1,    198.9, 2,     4.54, 2,    11.46, 2,     0.01, 2,     0.91, 2,    3.377, 6,    1.738, 6,    0.137, 4,   2125.1, 3,   2311.2, 2,    7.8294, 2,     25.00, -999.000, 9, -999.000,   -999.0, 9,   -999.0,  -999.00, 9,   -999.0,  12.9834, 26.5175,  13.0185, 2, 251.7, 2, 199.65, 2, 0.13, 0.06, 0.01, 0.01, -999, 9,  -999.00, 9, -999, -999, 9, -999
49NZ20031106, A10, 81, 1, 30, 12018, 2, 20031128, 1112, -29.7473, 4.2437, 4978,    300.7, 2,  12.2836, 2,  35.0696, 2,  35.0682, 2,    195.9, 1,    205.3, 2,     4.76, 2,    12.22, 2,     0.01, 2,     0.96, 2,    3.443, 2,    1.732, 2,    0.172, 4,   2120.6, 2,   2306.2, 2,    7.8224, 2,     25.00, -999.000, 9, -999.000,   -999.0, 9,   -999.0,  -999.00, 9,   -999.0,  12.2436, 26.5976,  12.2843, 2, 301.8, 2, 203.58, 2, 0.13, 0.07, 0.01, 0.01, -999, 9,  -999.00, 9, -999, -999, 9, -999
49NZ20031106, A10, 81, 1, 29, 12017, 2, 20031128, 1112, -29.7473, 4.2437, 4978,    401.4, 2,  10.8049, 2,  34.8972, 2,  34.8934, 2,    193.2, 1,    202.7, 2,     6.65, 2,    15.89, 2,     0.01, 2,     1.18, 2,    3.427, 2,    1.674, 2,    0.136, 4,   2134.6, 2,   2296.9, 2,    7.7828, 2,     25.00, -999.000, 9, -999.000,   -999.0, 9,   -999.0,  -999.00, 9,   -999.0,  10.7556, 26.7404,  10.8045, 2, 401.3, 2, 202.87, 2, 0.13, 0.08, 0.01, 0.01, -999, 9,  -999.00, 9, -999, -999, 9, -999
49NZ20031106, A10, 81, 1, 28, 12016, 2, 20031128, 1112, -29.7473, 4.2437, 4978,    501.4, 2,   9.2418, 2,  34.7160, 2,  34.7150, 2,    175.1, 1,    180.3, 2,    10.90, 2,    21.58, 2,     0.01, 2,     1.54, 2,    3.037, 2,    1.457, 2,    0.134, 4,   2162.6, 2,   2290.1, 2,    7.7082, 2,     25.00, -999.000, 9, -999.000,   -999.0, 9,   -999.0,  -999.00, 9,   -999.0,   9.1857, 26.8665,   9.2388, 2, 503.3, 2, 182.15, 2, 0.14, 0.09, 0.01, 0.01, -999, 9,  -999.00, 9, -999, -999, 9, -999
49NZ20031106, A10, 81, 1, 27, 12012, 2, 20031128, 1112, -29.7473, 4.2437, 4978,    602.6, 2,   7.5502, 2,  34.5494, 2,  34.5487, 2,    177.2, 1,    184.7, 2,    15.05, 2,    25.60, 2,    -0.01, 2,     1.79, 2,    2.725, 2,    1.272, 2,    0.135, 4,   2170.0, 2,   2288.9, 2,    7.6719, 2,     25.00, -999.000, 9, -999.000,   -999.0, 9,   -999.0,  -999.00, 9,   -999.0,   7.4900, 26.9949,   7.5498, 2, 603.5, 2, 184.92, 2, 0.15, 0.1, 0.01, 0.01, -999, 9,  -999.00, 9, -999, -999, 9, -999
49NZ20031106, A10, 81, 1, 26, 12014, 2, 20031128, 1112, -29.7473, 4.2437, 4978,    702.0, 2,   6.0369, 2,  34.4253, 2,  34.4245, 2,    185.2, 1,    193.1, 2,    19.34, 2,    28.55, 2,    -0.01, 2,     1.97, 2, -999.000, 5, -999.000, 5, -999.000, 5,   2182.7, 6,   2284.3, 2,    7.6475, 2,     25.00, -999.000, 9, -999.000,   -999.0, 9,   -999.0,  -999.00, 9,   -999.0,   5.9745, 27.1018,   6.0376, 2, 701.8, 2, 194.55, 2, 0.16, 0.11, 0.01, 0.01, -999, 9,  -999.00, 9, -999, -999, 9, -999
49NZ20031106, A10, 81, 1, 25, 12013, 2, 20031128, 1112, -29.7473, 4.2437, 4978,    799.8, 2,   4.9388, 2,  34.3509, 2,  34.3505, 2,    198.7, 1,    207.6, 2,    24.19, 2,    29.59, 2,     0.00, 2,     2.06, 2,    2.520, 2,    1.140, 2,    0.129, 4,   2185.4, 2,   2288.7, 6,    7.6443, 2,     25.00, -999.000, 9, -999.000,   -999.0, 9,   -999.0,  -999.00, 9,   -999.0,   4.8739, 27.1754,   4.9384, 2, 799.6, 2, 207.14, 2, 0.17, 0.12, 0.01, 0.02, -999, 9,  -999.00, 9, -999, -999, 9, -999
49NZ20031106, A10, 81, 1, 24, 12048, 2, 20031128, 1112, -29.7473, 4.2437, 4978,    901.5, 2,   4.2920, 2,  34.3545, 2,  34.3545, 2,    193.2, 1,    201.8, 2,    31.58, 2,    31.21, 2,    -0.01, 2,     2.16, 2,    1.887, 2,    0.878, 2,    0.110, 4,   2198.4, 2,   2294.2, 2,    7.6271, 6,     25.00, -999.000, 9, -999.000,   -999.0, 9,   -999.0,  -999.00, 9,   -999.0,   4.2227, 27.2495,   4.2924, 2, 903.8, 2, 202.62, 2, 0.19, 0.12, 0.01, 0.02, -999, 9,  -999.00, 9, -999, -999, 9, -999
49NZ20031106, A10, 81, 1, 23, 12047, 2, 20031128, 1112, -29.7473, 4.2437, 4978,   1000.3, 2,   3.8746, 2,  34.3808, 2,  34.3819, 2,    185.5, 1,    193.8, 2,    38.42, 2,    32.37, 2,    -0.01, 2,     2.25, 2,    1.331, 2,    0.652, 2,    0.057, 4,   2208.2, 2,   2302.4, 2,    7.6108, 2,     25.00, -999.000, 9, -999.000,   -999.0, 9,   -999.0,  -999.00, 9,   -999.0,   3.8001, 27.3142,   3.8743, 2, 1001.7, 2, 200.24, 2, 0.2, 0.12, 0.01, 0.02, -999, 9,  -999.00, 9, -999, -999, 9, -999
49NZ20031106, A10, 81, 1, 22, 12046, 2, 20031128, 1112, -29.7473, 4.2437, 4978,   1200.9, 2,   3.2002, 2,  34.4630, 2,  34.4641, 2,    177.5, 1,    186.0, 2,    51.41, 2,    33.17, 2,    -0.01, 2,     2.31, 2,    0.634, 2,    0.337, 2,    0.016, 4,   2227.3, 2,   2315.8, 2,    7.5970, 2,     25.00, -999.000, 9, -999.000,   -999.0, 9,   -999.0,  -999.00, 9,   -999.0,   3.1150, 27.4461,   3.2002, 2, 1200.4, 2, 187.79, 2, 0.23, 0.13, 0.01, 0.02, -999, 9,  -999.00, 9, -999, -999, 9, -999
49NZ20031106, A10, 81, 1, 21, 12045, 2, 20031128, 1112, -29.7473, 4.2437, 4978,   1401.3, 2,   3.0862, 2,  34.6021, 2,  34.6050, 2,    172.9, 1,    180.9, 2,    54.83, 2,    32.06, 2,    -0.01, 2,     2.23, 2,    0.171, 2,    0.094, 2,    0.012, 4,   2230.7, 2,   2321.6, 2,    7.6057, 2,     25.00, -999.000, 9, -999.000,   -999.0, 9,   -999.0,  -999.00, 9,   -999.0,   2.9855, 27.5694,   3.0863, 2, 1402.4, 2, 180.31, 2, 0.24, 0.12, 0.01, 0.02, -999, 9,  -999.00, 9, -999, -999, 9, -999
49NZ20031106, A10, 81, 1, 20, 12044, 2, 20031128, 1112, -29.7473, 4.2437, 4978,   1601.7, 2,   3.0174, 2,  34.7098, 2,  34.7108, 2,    183.2, 1,    191.9, 2,    52.17, 2,    29.67, 2,    -0.01, 2,     2.05, 2,    0.055, 2,    0.033, 2,    0.000, 4,   2224.4, 2,   2325.4, 2,    7.6315, 2,     25.00, -999.000, 9, -999.000,   -999.0, 9,   -999.0,  -999.00, 9,   -999.0,   2.9004, 27.6632,   3.0174, 2, 1602, 2, 190.8, 2, 0.23, 0.12, 0.01, 0.02, -999, 9,  -999.00, 9, -999, -999, 9, -999
49NZ20031106, A10, 81, 1, 19, 12043, 2, 20031128, 1112, -29.7473, 4.2437, 4978,   1799.2, 2,   3.0111, 2,  34.7807, 2,  34.7819, 2,    194.5, 1,    204.1, 2,    47.57, 2,    27.46, 2,    -0.01, 2,     1.90, 2,    0.023, 2,    0.013, 2,    0.000, 4,   2214.4, 2,   2327.2, 2,    7.6571, 2,     25.00, -999.000, 9, -999.000,   -999.0, 9,   -999.0,  -999.00, 9,   -999.0,   2.8769, 27.7218,   3.0111, 2, 1799.9, 2, 202.84, 2, 0.22, 0.11, 0.01, 0.01, -999, 9,  -999.00, 9, -999, -999, 9, -999
49NZ20031106, A10, 81, 1, 18, 12042, 2, 20031128, 1112, -29.7473, 4.2437, 4978,   2000.3, 2,   2.9192, 2,  34.8201, 2,  34.8190, 2,    203.9, 1,    213.7, 2,    46.74, 2,    26.14, 2,    -0.01, 2,     1.80, 2,    0.014, 2,    0.004, 2,    0.000, 4,   2207.7, 2,   2325.1, 2,    7.6749, 6,     25.00, -999.000, 9, -999.000,   -999.0, 9,   -999.0,  -999.00, 9,   -999.0,   2.7682, 27.7632,   2.9186, 2, 2001.2, 2, 212.53, 2, 0.22, 0.11, 0.01, 0.01, -999, 9,  -999.00, 9, -999, -999, 9, -999
49NZ20031106, A10, 81, 1, 17, 12041, 2, 20031128, 1112, -29.7473, 4.2437, 4978,   2201.6, 2,   2.7193, 2,  34.8278, 2,  34.8277, 2,    207.7, 1,    218.5, 2,    49.96, 2,    25.75, 2,    -0.01, 2,     1.78, 2,    0.011, 2,    0.006, 2,    0.000, 4,   2206.8, 2,   2328.1, 2,    7.6830, 2,     25.00, -999.000, 9, -999.000,   -999.0, 9,   -999.0,  -999.00, 9,   -999.0,   2.5531, 27.7883,   2.7195, 2, 2202, 2, 217.32, 2, 0.23, 0.1, 0.01, 0.01, -999, 9,  -999.00, 9, -999, -999, 9, -999
49NZ20031106, A10, 81, 1, 16, 12040, 2, 20031128, 1112, -29.7473, 4.2437, 4978,   2400.3, 2,   2.5806, 2,  34.8336, 2,  34.8337, 2,    210.8, 1,    221.7, 2,    52.45, 2,    25.53, 2,    -0.01, 2,     1.76, 2,    0.001, 2,    0.001, 2,    0.000, 4,   2206.4, 6,   2331.5, 2,    7.6864, 2,     25.00, -999.000, 9, -999.000,   -999.0, 9,   -999.0,  -999.00, 9,   -999.0,   2.3982, 27.8064,   2.5806, 2, 2400.7, 2, 221.84, 2, 0.23, 0.1, 0.01, 0.01, -999, 9,  -999.00, 9, -999, -999, 9, -999
49NZ20031106, A10, 81, 1, 15, 12039, 2, 20031128, 1112, -29.7473, 4.2437, 4978,   2599.8, 2,   2.5073, 2,  34.8460, 2,  34.8464, 2,    215.7, 1,    226.8, 2,    52.07, 2,    24.88, 2,    -0.01, 2,     1.73, 2,   -0.004, 2,   -0.003, 2,    0.000, 4,   2206.0, 2,   2333.0, 6,    7.6965, 2,     25.00, -999.000, 9, -999.000,   -999.0, 9,   -999.0,  -999.00, 9,   -999.0,   2.3073, 27.8241,   2.5073, 2, 2600.2, 2, 225.87, 2, 0.23, 0.1, 0.01, 0.01, -999, 9,  -999.00, 9, -999, -999, 9, -999
49NZ20031106, A10, 81, 1, 14, 12038, 2, 20031128, 1112, -29.7473, 4.2437, 4978,   2799.0, 2,   2.4045, 2,  34.8470, 2,  34.8472, 2,    217.3, 1,    228.3, 2,    54.44, 2,    24.91, 2,    -0.01, 2,     1.72, 2,    0.003, 2,    0.001, 2,    0.000, 4,   2208.2, 2,   2334.3, 2,    7.6984, 6,     25.00, -999.000, 9, -999.000,   -999.0, 9,   -999.0,  -999.00, 9,   -999.0,   2.1871, 27.835,   2.4046, 2, 2799.2, 2, 227.84, 2, 0.24, 0.1, 0.01, 0.01, -999, 9,  -999.00, 9, -999, -999, 9, -999
49NZ20031106, A10, 81, 1, 13, 12037, 2, 20031128, 1112, -29.7473, 4.2437, 4978,   3000.3, 2,   2.3373, 2,  34.8498, 2,  34.8498, 2,    218.7, 1,    230.0, 2,    55.68, 2,    24.82, 2,    -0.01, 2,     1.71, 2,    0.003, 2,    0.002, 2,    0.000, 4,   2207.1, 2,   2340.7, 2,    7.7007, 2,     25.00, -999.000, 9, -999.000,   -999.0, 9,   -999.0,  -999.00, 9,   -999.0,   2.1013, 27.8442,   2.3372, 2, 3000.3, 2, 229.95, 2, 0.24, 0.1, 0.01, 0.01, -999, 9,  -999.00, 9, -999, -999, 9, -999
49NZ20031106, A10, 81, 1, 12, 12036, 2, 20031128, 1112, -29.7473, 4.2437, 4978,   3250.8, 2,   2.2482, 2,  34.8500, 2,  34.8503, 2,    219.5, 1,    230.4, 2,    57.91, 2,    24.75, 2,    -0.01, 2,     1.71, 2,   -0.002, 2,   -0.001, 2,    0.000, 4,   2210.6, 2,   2344.8, 2,    7.7037, 2,     25.00, -999.000, 9, -999.000,   -999.0, 9,   -999.0,  -999.00, 9,   -999.0,   1.9886, 27.8536,   2.2483, 2, 3251, 2, 230.63, 2, 0.25, 0.1, 0.01, 0.01, -999, 9,  -999.00, 9, -999, -999, 9, -999
49NZ20031106, A10, 81, 1, 11, 12035, 2, 20031128, 1112, -29.7473, 4.2437, 4978,   3501.7, 2,   2.0814, 2,  34.8367, 2,  34.8366, 2,    217.7, 1,    228.3, 2,    64.67, 2,    25.56, 2,    -0.01, 2,     1.76, 2,   -0.002, 2,    0.003, 2,    0.000, 4,   2217.8, 2,   2348.2, 2,    7.6978, 2,     25.00, -999.000, 9, -999.000,   -999.0, 9,   -999.0,  -999.00, 9,   -999.0,   1.7996, 27.8577,   2.0816, 2, 3501.8, 2, 228.76, 2, 0.26, 0.1, 0.01, 0.01, -999, 9,  -999.00, 9, -999, -999, 9, -999
49NZ20031106, A10, 81, 1, 10, 12034, 2, 20031128, 1112, -29.7473, 4.2437, 4978,   3750.7, 2,   1.7138, 2,  34.7979, 2,  34.7978, 2,    212.9, 1,    222.9, 2,    80.13, 2,    27.52, 2,    -0.01, 2,     1.90, 2,    0.007, 2,    0.004, 2,    0.000, 4,   2230.2, 2,   2352.6, 2,    7.6778, 2,     25.00, -999.000, 9, -999.000,   -999.0, 9,   -999.0,  -999.00, 9,   -999.0,   1.4152, 27.8553,   1.7140, 2, 3751.1, 2, 223.62, 2, 0.3, 0.11, 0.01, 0.01, -999, 9,  -999.00, 9, -999, -999, 9, -999
49NZ20031106, A10, 81, 1, 9, 12033, 2, 20031128, 1112, -29.7473, 4.2437, 4978,   4000.7, 2,   1.3276, 2,  34.7602, 2,  34.7601, 2,    209.6, 1,   -999.0, 5,    95.39, 2,    29.36, 2,    -0.01, 2,     2.04, 2,    0.009, 2,    0.007, 2,    0.000, 4,   2246.0, 2,   2360.9, 2,    7.6591, 2,     25.00, -999.000, 9, -999.000,   -999.0, 9,   -999.0,  -999.00, 9,   -999.0,   1.0130, 27.8531,   1.3277, 2, 4001, 2, 219.33, 2, 0.33, 0.11, 0.01, 0.02, -999, 9,  -999.00, 9, -999, -999, 9, -999
49NZ20031106, A10, 81, 1, 8, 12032, 2, 20031128, 1112, -29.7473, 4.2437, 4978,   4249.0, 2,   1.1550, 2,  34.7426, 2,  34.7423, 2,    208.8, 1,    217.6, 2,   102.58, 2,    30.18, 2,    -0.01, 2,     2.10, 2,    0.017, 2,    0.011, 2,    0.000, 4,   2251.1, 6,   2365.1, 2,    7.6509, 2,     25.00, -999.000, 9, -999.000,   -999.0, 9,   -999.0,  -999.00, 9,   -999.0,   0.8184, 27.8519,   1.1551, 2, 4249, 2, 217.61, 2, 0.34, 0.12, 0.01, 0.02, -999, 9,  -999.00, 9, -999, -999, 9, -999
49NZ20031106, A10, 81, 1, 7, 12031, 2, 20031128, 1112, -29.7473, 4.2437, 4978,   4500.6, 2,   1.1060, 2,  34.7358, 2,  34.7358, 2,    209.5, 1,    217.1, 2,   105.41, 2,    30.61, 2,    -0.01, 2,     2.13, 2,    0.024, 2,    0.017, 2,    0.000, 4,   2252.8, 2,   2365.7, 6,    7.6503, 2,     25.00, -999.000, 9, -999.000,   -999.0, 9,   -999.0,  -999.00, 9,   -999.0,   0.7429, 27.8512,   1.1059, 2, 4500.6, 2, 216.99, 2, 0.35, 0.12, 0.01, 0.02, -999, 9,  -999.00, 9, -999, -999, 9, -999
49NZ20031106, A10, 81, 1, 6, 12030, 2, 20031128, 1112, -29.7473, 4.2437, 4978,   4749.4, 2,   1.0985, 2,  34.7325, 2,  34.7324, 2,    210.5, 1,    217.0, 2,   106.80, 2,    30.59, 2,    -0.01, 2,     2.14, 2,    0.027, 2,    0.021, 2,    0.000, 4,   2252.0, 2,   2363.4, 2,    7.6479, 6,     25.00, -999.000, 9, -999.000,   -999.0, 9,   -999.0,  -999.00, 9,   -999.0,   0.7071, 27.8508,   1.0986, 2, 4749.5, 2, 216.97, 2, 0.35, 0.12, 0.01, 0.02, -999, 9,  -999.00, 9, -999, -999, 9, -999
49NZ20031106, A10, 81, 1, 1, 12025, 2, 20031128, 1112, -29.7473, 4.2437, 4978,   4749.7, 2,   1.0986, 2,  34.7325, 2,  34.7325, 2,    210.5, 1,    217.1, 2,   107.03, 2,    30.75, 2,    -0.01, 2,     2.14, 2,    0.028, 2,    0.020, 2,    0.000, 4,   2253.6, 2,   2365.2, 2,    7.6444, 2,     25.00, -999.000, 9, -999.000,   -999.0, 9,   -999.0,  -999.00, 9,   -999.0,   0.7072, 27.8508,   1.0987, 2, 4749.8, 2, 216.96, 2, 0.35, 0.12, 0.01, 0.02, -999, 9,  -999.00, 9, -999, -999, 9, -999
49NZ20031106, A10, 81, 1, 5, 12029, 2, 20031128, 1112, -29.7473, 4.2437, 4978,   5049.8, 2,   1.1176, 2,  34.7306, 2,  34.7304, 2,    212.6, 1,    216.9, 2,   107.41, 2,    30.76, 2,    -0.01, 2,     2.14, 2,    0.033, 2,    0.024, 2,    0.000, 4,   2254.7, 2,   2366.4, 2,    7.6471, 2,     25.00, -999.000, 9, -999.000,   -999.0, 9,   -999.0,  -999.00, 9,   -999.0,   0.6900, 27.8505,   1.1178, 2, 5049.8, 2, 216.76, 2, 0.36, 0.12, 0.01, 0.02, -999, 9,  -999.00, 9, -999, -999, 9, -999