BOTTLE,20220818CCHSIOAMB
EXPOCODE,SECT_ID,STNNBR,CASTNO,SAMPNO,BTLNBR,BTLNBR_FLAG_W,DATE,TIME,LATITUDE,LONGITUDE,DEPTH,CTDPRS,CTDPRS_FLAG_W,CTDTMP,CTDTMP_FLAG_W,CTDSAL,CTDSAL_FLAG_W,SALNTY,SALNTY_FLAG_W,CTDOXY,CTDOXY_FLAG_W,OXYGEN,OXYGEN_FLAG_W,SILCAT,SILCAT_FLAG_W,NITRAT,NITRAT_FLAG_W,NITRIT,NITRIT_FLAG_W,PHSPHT,PHSPHT_FLAG_W,CFC-11,CFC-11_FLAG_W,CFC-12,CFC-12_FLAG_W,CFC113,CFC113_FLAG_W,TCARBN,TCARBN_FLAG_W,ALKALI,ALKALI_FLAG_W,PH_TOT,PH_TOT_FLAG_W,PH_TMP,TRITUM,TRITUM_FLAG_W,TRITER,DELC14,DELC14_FLAG_W,C14ERR,DELC13,DELC13_FLAG_W,C13ERR,THETA,SIG0,SBE35,SBE35_FLAG_W,DWNPRS,DWNPRS_FLAG_W,DWNOXY,DWNOXY_FLAG_W,SILUNC,NRAUNC,NRIUNC,PHPUNC,TOC,TOC_FLAG_W,CS-137,CS-137_FLAG_W,CS137ER,PLUTO,PLUTO_FLAG_W,PLUTOER
,,,,,,,,,,,METERS,DBAR,,ITS-90,,PSS-78,,PSS-78,,UMOL/KG,,UMOL/KG,,UMOL/KG,,UMOL/KG,,UMOL/KG,,UMOL/KG,,PMOL/KG,,PMOL/KG,,PMOL/KG,,UMOL/KG,,UMOL/KG,,,,DEG C,TU,,TU,/MILLE,,/MILLE,/MILLE,,/MILLE,DEG C,KG/M^3,ITS-90,,DBAR,,UMOL/KG,,UMOL/KG,UMOL/KG,UMOL/KG,UMOL/KG,UMOL/KG,,BQ/M^3,,BQ/M^3,MBQ/M^3,,MBQ/M^3
49NZ20031106, A10, 46, 1, 4, 12040, 9, 20031119, 954, -29.9977, -19.9068, 4825,      5.1, 2,  20.1601, 2,  35.8910, 2, -999.0000, 9,    217.6, 1,   -999.0, 9,  -999.00, 9,  -999.00, 9,  -999.00, 9,  -999.00, 9, -999.000, 9, -999.000, 9, -999.000, 9,   -999.0, 9,   -999.0, 9, -999.0000, 9,   -999.00, -999.000, 9, -999.000,   -999.0, 9,   -999.0,  -999.00, 9,   -999.0,  20.1592, 25.4016,  20.1586, 2, 5.1, 2, 231.15, 2, -999, -999, -999, -999, -999, 9,  -999.00, 9, -999, -999, 9, -999
49NZ20031106, A10, 46, 1, 3, 12039, 2, 20031119, 954, -29.9977, -19.9068, 4825,      5.2, 2,  20.1667, 2,  35.8911, 2, -999.0000, 9,    217.8, 1,   -999.0, 9,  -999.00, 9,  -999.00, 9,  -999.00, 9,  -999.00, 9, -999.000, 9, -999.000, 9, -999.000, 9,   -999.0, 9,   -999.0, 9, -999.0000, 9,   -999.00, -999.000, 9, -999.000,   -999.0, 9,   -999.0,  -999.00, 9,   -999.0,  20.1657, 25.4008,  20.1665, 2, 5.2, 2, 231.13, 2, -999, -999, -999, -999, -999, 9,  -999.00, 9, -999, -999, 9, -999
49NZ20031106, A10, 46, 1, 2, 12038, 2, 20031119, 954, -29.9977, -19.9068, 4825,      5.5, 2,  20.1677, 2,  35.8912, 2, -999.0000, 9,    217.7, 1,   -999.0, 9,  -999.00, 9,  -999.00, 9,  -999.00, 9,  -999.00, 9, -999.000, 9, -999.000, 9, -999.000, 9,   -999.0, 9,   -999.0, 9, -999.0000, 9,   -999.00, -999.000, 9, -999.000,   -999.0, 9,   -999.0,  -999.00, 9,   -999.0,  20.1667, 25.3993,  20.1699, 2, 5.5, 2, 231.09, 2, -999, -999, -999, -999, -999, 9,  -999.00, 9, -999, -999, 9, -999
49NZ20031106, A10, 46, 1, 36, 12036, 2, 20031119, 954, -29.9977, -19.9068, 4825,     10.2, 2,  20.1613, 2,  35.8912, 2,  35.8915, 2,    217.7, 1,    230.6, 2,     0.92, 2,    -0.01, 2,     0.01, 2,     0.13, 2, -999.000, 9, -999.000, 9, -999.000, 9,   -999.0, 9,   -999.0, 9, -999.0000, 9,   -999.00, -999.000, 9, -999.000,   -999.0, 9,   -999.0,  -999.00, 9,   -999.0,  20.1594, 25.403,  20.1475, 2, 10.2, 2, 230.82, 2, 0.12, 0.03, 0.01, 0.02, -999, 9,  -999.00, 9, -999, -999, 9, -999
49NZ20031106, A10, 46, 1, 35, 12035, 2, 20031119, 954, -29.9977, -19.9068, 4825,     50.0, 2,  19.2014, 2,  35.8629, 2,  35.8630, 2,    221.7, 1,    234.5, 2,     0.91, 2,    -0.03, 2,     0.01, 2,     0.12, 2, -999.000, 9, -999.000, 9, -999.000, 9,   -999.0, 9,   -999.0, 9, -999.0000, 9,   -999.00, -999.000, 9, -999.000,   -999.0, 9,   -999.0,  -999.00, 9,   -999.0,  19.1924, 25.6332,  19.2002, 2, 47.8, 2, 233.74, 2, 0.12, 0.03, 0.01, 0.02, -999, 9,  -999.00, 9, -999, -999, 9, -999
49NZ20031106, A10, 46, 1, 34, 12034, 2, 20031119, 954, -29.9977, -19.9068, 4825,    100.4, 2,  18.4156, 2,  35.8320, 2,  35.8308, 2,    222.7, 1,    235.4, 2,     0.90, 2,    -0.04, 2,     0.01, 2,     0.13, 2, -999.000, 9, -999.000, 9, -999.000, 9,   -999.0, 9,   -999.0, 9, -999.0000, 9,   -999.00, -999.000, 9, -999.000,   -999.0, 9,   -999.0,  -999.00, 9,   -999.0,  18.3980, 25.8122,  18.4147, 2, 102.5, 2, 231.84, 2, 0.12, 0.03, 0.01, 0.02, -999, 9,  -999.00, 9, -999, -999, 9, -999
49NZ20031106, A10, 46, 1, 33, 12033, 2, 20031119, 954, -29.9977, -19.9068, 4825,    148.5, 2,  16.2148, 2,  35.5640, 2,  35.5620, 2,    214.7, 1,    226.0, 2,     1.23, 2,     0.78, 2,     0.10, 2,     0.29, 2, -999.000, 9, -999.000, 9, -999.000, 9,   -999.0, 9,   -999.0, 9, -999.0000, 9,   -999.00, -999.000, 9, -999.000,   -999.0, 9,   -999.0,  -999.00, 9,   -999.0,  16.1910, 26.1393,  16.2093, 2, 150.4, 2, 225.93, 2, 0.12, 0.03, 0.01, 0.01, -999, 9,  -999.00, 9, -999, -999, 9, -999
49NZ20031106, A10, 46, 1, 1, 12037, 2, 20031119, 954, -29.9977, -19.9068, 4825,    149.0, 2,  16.2344, 2,  35.5658, 2, -999.0000, 9,    215.0, 1,   -999.0, 9,  -999.00, 9,  -999.00, 9,  -999.00, 9,  -999.00, 9, -999.000, 9, -999.000, 9, -999.000, 9,   -999.0, 9,   -999.0, 9, -999.0000, 9,   -999.00, -999.000, 9, -999.000,   -999.0, 9,   -999.0,  -999.00, 9,   -999.0,  16.2105, 26.1366,  16.2314, 2, 150.2, 2, 225.98, 2, -999, -999, -999, -999, -999, 9,  -999.00, 9, -999, -999, 9, -999
49NZ20031106, A10, 46, 1, 32, 12032, 2, 20031119, 954, -29.9977, -19.9068, 4825,    201.1, 2,  14.8448, 2,  35.4111, 2,  35.4115, 2,    208.9, 1,    219.4, 2,     1.75, 2,     4.44, 2,     0.02, 2,     0.46, 2, -999.000, 9, -999.000, 9, -999.000, 9,   -999.0, 9,   -999.0, 9, -999.0000, 9,   -999.00, -999.000, 9, -999.000,   -999.0, 9,   -999.0,  -999.00, 9,   -999.0,  14.8145, 26.3305,  14.8483, 2, 203.4, 2, 219.2, 2, 0.12, 0.05, 0.01, 0.01, -999, 9,  -999.00, 9, -999, -999, 9, -999
49NZ20031106, A10, 46, 1, 31, 12031, 2, 20031119, 954, -29.9977, -19.9068, 4825,    251.5, 2,  13.9245, 2,  35.2988, 2,  35.2983, 2,    207.4, 1,    217.8, 2,     2.34, 2,     6.69, 2,     0.01, 2,     0.59, 2, -999.000, 9, -999.000, 9, -999.000, 9,   -999.0, 9,   -999.0, 9, -999.0000, 9,   -999.00, -999.000, 9, -999.000,   -999.0, 9,   -999.0,  -999.00, 9,   -999.0,  13.8881, 26.4425,  13.9240, 2, 253.7, 2, 217.77, 2, 0.12, 0.05, 0.01, 0.01, -999, 9,  -999.00, 9, -999, -999, 9, -999
49NZ20031106, A10, 46, 1, 30, 12030, 2, 20031119, 954, -29.9977, -19.9068, 4825,    302.7, 2,  13.3550, 2,  35.2243, 2,  35.2261, 2,    206.5, 1,    216.5, 2,     2.72, 2,     8.07, 2,     0.01, 2,     0.67, 2, -999.000, 9, -999.000, 9, -999.000, 9,   -999.0, 9,   -999.0, 9, -999.0000, 9,   -999.00, -999.000, 9, -999.000,   -999.0, 9,   -999.0,  -999.00, 9,   -999.0,  13.3124, 26.5041,  13.3589, 2, 301.5, 2, 216.41, 2, 0.12, 0.06, 0.01, 0.01, -999, 9,  -999.00, 9, -999, -999, 9, -999
49NZ20031106, A10, 46, 1, 29, 12029, 2, 20031119, 954, -29.9977, -19.9068, 4825,    399.5, 2,  11.9783, 2,  35.0497, 2,  35.0482, 2,    203.1, 1,    212.6, 2,     3.98, 2,    11.79, 2,     0.01, 2,     0.89, 2, -999.000, 9, -999.000, 9, -999.000, 9,   -999.0, 9,   -999.0, 9, -999.0000, 9,   -999.00, -999.000, 9, -999.000,   -999.0, 9,   -999.0,  -999.00, 9,   -999.0,  11.9258, 26.6425,  11.9788, 2, 398.5, 2, 212.58, 2, 0.13, 0.07, 0.01, 0.01, -999, 9,  -999.00, 9, -999, -999, 9, -999
49NZ20031106, A10, 46, 1, 28, 12028, 2, 20031119, 954, -29.9977, -19.9068, 4825,    498.6, 2,  10.1660, 2,  34.8201, 2,  34.8201, 2,    199.2, 1,    208.5, 2,     6.42, 2,    16.57, 2,     0.01, 2,     1.19, 2, -999.000, 9, -999.000, 9, -999.000, 9,   -999.0, 9,   -999.0, 9, -999.0000, 9,   -999.00, -999.000, 9, -999.000,   -999.0, 9,   -999.0,  -999.00, 9,   -999.0,  10.1068, 26.7941,  10.1593, 2, 497.2, 2, 209.55, 2, 0.13, 0.08, 0.01, 0.01, -999, 9,  -999.00, 9, -999, -999, 9, -999
49NZ20031106, A10, 46, 1, 27, 12027, 2, 20031119, 954, -29.9977, -19.9068, 4825,    600.9, 2,   8.2006, 2,  34.5957, 2,  34.5943, 2,    200.1, 1,    209.1, 2,     9.76, 2,    21.57, 2,     0.01, 2,     1.50, 2, -999.000, 9, -999.000, 9, -999.000, 9,   -999.0, 9,   -999.0, 9, -999.0000, 9,   -999.00, -999.000, 9, -999.000,   -999.0, 9,   -999.0,  -999.00, 9,   -999.0,   8.1377, 26.9354,   8.2014, 2, 602.7, 2, 207.56, 2, 0.14, 0.09, 0.01, 0.01, -999, 9,  -999.00, 9, -999, -999, 9, -999
49NZ20031106, A10, 46, 1, 26, 12026, 2, 20031119, 954, -29.9977, -19.9068, 4825,    701.4, 2,   6.4485, 2,  34.4239, 2,  34.4245, 2,    207.4, 1,    216.9, 2,    13.57, 2,    25.25, 2,     0.01, 2,     1.73, 2, -999.000, 9, -999.000, 9, -999.000, 9,   -999.0, 9,   -999.0, 9, -999.0000, 9,   -999.00, -999.000, 9, -999.000,   -999.0, 9,   -999.0,  -999.00, 9,   -999.0,   6.3839, 27.0466,   6.4593, 2, 703.4, 2, 216.79, 2, 0.15, 0.1, 0.01, 0.01, -999, 9,  -999.00, 9, -999, -999, 9, -999
49NZ20031106, A10, 46, 1, 25, 12025, 2, 20031119, 954, -29.9977, -19.9068, 4825,    800.4, 2,   5.2428, 2,  34.3344, 2,  34.3344, 2,    212.6, 1,    222.6, 2,    18.38, 2,    27.66, 2,     0.01, 2,     1.89, 2, -999.000, 9, -999.000, 9, -999.000, 9,   -999.0, 9,   -999.0, 9, -999.0000, 9,   -999.00, -999.000, 9, -999.000,   -999.0, 9,   -999.0,  -999.00, 9,   -999.0,   5.1760, 27.127,   5.2440, 2, 802.7, 2, 222.67, 2, 0.16, 0.11, 0.01, 0.01, -999, 9,  -999.00, 9, -999, -999, 9, -999
49NZ20031106, A10, 46, 1, 24, 12024, 2, 20031119, 954, -29.9977, -19.9068, 4825,    900.1, 2,   4.3305, 2,  34.3086, 2,  34.3085, 2,    210.3, 1,    220.4, 2,    25.72, 2,    29.79, 2,     0.01, 2,     2.04, 2, -999.000, 9, -999.000, 9, -999.000, 9,   -999.0, 9,   -999.0, 9, -999.0000, 9,   -999.00, -999.000, 9, -999.000,   -999.0, 9,   -999.0,  -999.00, 9,   -999.0,   4.2611, 27.2087,   4.3320, 2, 901.2, 2, 220.29, 2, 0.18, 0.12, 0.01, 0.02, -999, 9,  -999.00, 9, -999, -999, 9, -999
49NZ20031106, A10, 46, 1, 23, 12023, 2, 20031119, 954, -29.9977, -19.9068, 4825,   1001.3, 2,   3.7479, 2,  34.3373, 2,  34.3369, 2,    200.5, 1,    210.2, 2,    34.60, 2,    31.38, 2,     0.01, 2,     2.16, 2, -999.000, 9, -999.000, 9, -999.000, 9,   -999.0, 9,   -999.0, 9, -999.0000, 9,   -999.00, -999.000, 9, -999.000,   -999.0, 9,   -999.0,  -999.00, 9,   -999.0,   3.6744, 27.2921,   3.7479, 2, 1004.6, 2, 211.91, 2, 0.2, 0.12, 0.01, 0.02, -999, 9,  -999.00, 9, -999, -999, 9, -999
49NZ20031106, A10, 46, 1, 22, 12022, 2, 20031119, 954, -29.9977, -19.9068, 4825,   1200.6, 2,   3.2047, 2,  34.4227, 2,  34.4231, 2,    187.3, 1,    196.2, 2,    46.85, 2,    32.62, 2,     0.00, 2,     2.24, 2, -999.000, 9, -999.000, 9, -999.000, 9,   -999.0, 9,   -999.0, 9, -999.0000, 9,   -999.00, -999.000, 9, -999.000,   -999.0, 9,   -999.0,  -999.00, 9,   -999.0,   3.1196, 27.4136,   3.2047, 2, 1199.7, 2, 196.15, 2, 0.22, 0.12, 0.01, 0.02, -999, 9,  -999.00, 9, -999, -999, 9, -999
49NZ20031106, A10, 46, 1, 21, 12015, 2, 20031119, 954, -29.9977, -19.9068, 4825,   1400.6, 2,   2.9079, 2,  34.5587, 2,  34.5580, 2,    180.7, 1,    189.4, 2,    55.23, 2,    32.01, 2,     0.01, 2,     2.20, 2, -999.000, 9, -999.000, 9, -999.000, 9,   -999.0, 9,   -999.0, 9, -999.0000, 9,   -999.00, -999.000, 9, -999.000,   -999.0, 9,   -999.0,  -999.00, 9,   -999.0,   2.8093, 27.5504,   2.9078, 2, 1400, 2, 189.63, 2, 0.24, 0.12, 0.01, 0.02, -999, 9,  -999.00, 9, -999, -999, 9, -999
49NZ20031106, A10, 46, 1, 20, 12020, 2, 20031119, 954, -29.9977, -19.9068, 4825,   1600.4, 2,   2.8008, 2,  34.6746, 2,  34.6752, 2,    186.9, 1,   -999.0, 5,    55.98, 2,    29.98, 2,     0.01, 2,     2.06, 2, -999.000, 9, -999.000, 9, -999.000, 9,   -999.0, 9,   -999.0, 9, -999.0000, 9,   -999.00, -999.000, 9, -999.000,   -999.0, 9,   -999.0,  -999.00, 9,   -999.0,   2.6867, 27.654,   2.8007, 2, 1601.4, 2, 195.38, 2, 0.24, 0.12, 0.01, 0.02, -999, 9,  -999.00, 9, -999, -999, 9, -999
49NZ20031106, A10, 46, 1, 19, 12019, 2, 20031119, 954, -29.9977, -19.9068, 4825,   1800.9, 2,   2.7432, 2,  34.7485, 2,  34.7488, 2,    197.1, 1,    206.7, 2,    53.60, 2,    28.02, 2,     0.01, 2,     1.91, 2, -999.000, 9, -999.000, 9, -999.000, 9,   -999.0, 9,   -999.0, 9, -999.0000, 9,   -999.00, -999.000, 9, -999.000,   -999.0, 9,   -999.0,  -999.00, 9,   -999.0,   2.6126, 27.7196,   2.7431, 2, 1801.7, 2, 205.86, 2, 0.24, 0.11, 0.01, 0.01, -999, 9,  -999.00, 9, -999, -999, 9, -999
49NZ20031106, A10, 46, 1, 18, 12018, 2, 20031119, 954, -29.9977, -19.9068, 4825,   2001.1, 2,   2.6727, 2,  34.7989, 2,  34.7992, 2,    207.7, 1,    217.9, 2,    50.92, 2,    26.17, 2,     0.01, 2,     1.79, 2, -999.000, 9, -999.000, 9, -999.000, 9,   -999.0, 9,   -999.0, 9, -999.0000, 9,   -999.00, -999.000, 9, -999.000,   -999.0, 9,   -999.0,  -999.00, 9,   -999.0,   2.5254, 27.7676,   2.6726, 2, 2002.3, 2, 216.47, 2, 0.23, 0.11, 0.01, 0.01, -999, 9,  -999.00, 9, -999, -999, 9, -999
49NZ20031106, A10, 46, 1, 17, 12017, 2, 20031119, 954, -29.9977, -19.9068, 4825,   2198.8, 2,   2.6544, 2,  34.8286, 2,  34.8286, 2,    215.0, 1,    225.8, 2,    48.19, 2,    25.04, 2,     0.01, 2,     1.70, 2, -999.000, 9, -999.000, 9, -999.000, 9,   -999.0, 9,   -999.0, 9, -999.0000, 9,   -999.00, -999.000, 9, -999.000,   -999.0, 9,   -999.0,  -999.00, 9,   -999.0,   2.4895, 27.7946,   2.6544, 2, 2199.4, 2, 224.37, 2, 0.23, 0.1, 0.01, 0.01, -999, 9,  -999.00, 9, -999, -999, 9, -999
49NZ20031106, A10, 46, 1, 16, 12016, 2, 20031119, 954, -29.9977, -19.9068, 4825,   2399.5, 2,   2.6489, 2,  34.8530, 2,  34.8528, 2,    221.4, 1,    232.8, 2,    45.42, 2,    23.93, 2,     0.01, 2,     1.63, 2, -999.000, 9, -999.000, 9, -999.000, 9,   -999.0, 9,   -999.0, 9, -999.0000, 9,   -999.00, -999.000, 9, -999.000,   -999.0, 9,   -999.0,  -999.00, 9,   -999.0,   2.4653, 27.8163,   2.6487, 2, 2399.6, 2, 232.01, 2, 0.22, 0.1, 0.01, 0.01, -999, 9,  -999.00, 9, -999, -999, 9, -999
49NZ20031106, A10, 46, 1, 15, 12012, 2, 20031119, 954, -29.9977, -19.9068, 4825,   2600.6, 2,   2.6487, 2,  34.8684, 2,  34.8688, 2,    226.0, 1,    237.3, 2,    43.47, 2,    23.25, 2,     0.01, 2,     1.58, 2, -999.000, 9, -999.000, 9, -999.000, 9,   -999.0, 9,   -999.0, 9, -999.0000, 9,   -999.00, -999.000, 9, -999.000,   -999.0, 9,   -999.0,  -999.00, 9,   -999.0,   2.4458, 27.8303,   2.6486, 2, 2600.8, 2, 237.05, 2, 0.21, 0.1, 0.01, 0.01, -999, 9,  -999.00, 9, -999, -999, 9, -999
49NZ20031106, A10, 46, 1, 14, 12014, 2, 20031119, 954, -29.9977, -19.9068, 4825,   2800.7, 2,   2.6751, 2,  34.8902, 2,  34.8904, 2,    232.2, 1,    243.8, 2,    39.49, 2,    22.22, 2,     0.00, 2,     1.51, 2, -999.000, 9, -999.000, 9, -999.000, 9,   -999.0, 9,   -999.0, 9, -999.0000, 9,   -999.00, -999.000, 9, -999.000,   -999.0, 9,   -999.0,  -999.00, 9,   -999.0,   2.4518, 27.8472,   2.6751, 2, 2800.6, 2, 243.18, 2, 0.21, 0.1, 0.01, 0.01, -999, 9,  -999.00, 9, -999, -999, 9, -999
49NZ20031106, A10, 46, 1, 13, 12013, 2, 20031119, 954, -29.9977, -19.9068, 4825,   3000.8, 2,   2.6317, 2,  34.8963, 2,  34.8963, 2,    234.8, 1,    246.7, 2,    39.25, 2,    21.83, 2,     0.01, 2,     1.48, 2, -999.000, 9, -999.000, 9, -999.000, 9,   -999.0, 9,   -999.0, 9, -999.0000, 9,   -999.00, -999.000, 9, -999.000,   -999.0, 9,   -999.0,  -999.00, 9,   -999.0,   2.3890, 27.8576,   2.6320, 2, 3000.5, 2, 245.9, 2, 0.21, 0.09, 0.01, 0.01, -999, 9,  -999.00, 9, -999, -999, 9, -999
49NZ20031106, A10, 46, 1, 12, 12048, 2, 20031119, 954, -29.9977, -19.9068, 4825,   3251.2, 2,   2.4518, 2,  34.8845, 2,  34.8844, 2,    234.8, 1,    246.5, 2,    44.50, 2,    22.32, 2,     0.01, 2,     1.52, 2, -999.000, 9, -999.000, 9, -999.000, 9,   -999.0, 9,   -999.0, 9, -999.0000, 9,   -999.00, -999.000, 9, -999.000,   -999.0, 9,   -999.0,  -999.00, 9,   -999.0,   2.1872, 27.8651,   2.4517, 2, 3251.5, 2, 246.47, 2, 0.22, 0.1, 0.01, 0.01, -999, 9,  -999.00, 9, -999, -999, 9, -999
49NZ20031106, A10, 46, 1, 11, 12047, 2, 20031119, 954, -29.9977, -19.9068, 4825,   3499.9, 2,   2.2128, 2,  34.8666, 2,  34.8668, 2,    233.8, 1,    245.2, 2,    52.06, 2,    23.11, 2,     0.00, 2,     1.58, 2, -999.000, 9, -999.000, 9, -999.000, 9,   -999.0, 9,   -999.0, 9, -999.0000, 9,   -999.00, -999.000, 9, -999.000,   -999.0, 9,   -999.0,  -999.00, 9,   -999.0,   1.9278, 27.8718,   2.2123, 2, 3500.1, 2, 245.19, 2, 0.23, 0.1, 0.01, 0.01, -999, 9,  -999.00, 9, -999, -999, 9, -999
49NZ20031106, A10, 46, 1, 10, 12046, 2, 20031119, 954, -29.9977, -19.9068, 4825,   3750.7, 2,   1.9025, 2,  34.8356, 2,  34.8354, 2,    229.9, 1,    240.8, 2,    64.16, 2,    24.69, 2,     0.00, 2,     1.69, 2, -999.000, 9, -999.000, 9, -999.000, 9,   -999.0, 9,   -999.0, 9, -999.0000, 9,   -999.00, -999.000, 9, -999.000,   -999.0, 9,   -999.0,  -999.00, 9,   -999.0,   1.5987, 27.8721,   1.9025, 2, 3750.6, 2, 240.84, 2, 0.26, 0.1, 0.01, 0.01, -999, 9,  -999.00, 9, -999, -999, 9, -999
49NZ20031106, A10, 46, 1, 9, 12045, 2, 20031119, 954, -29.9977, -19.9068, 4825,   4000.7, 2,   1.6334, 2,  34.8064, 2,  34.8063, 2,    225.8, 1,    235.9, 2,    75.27, 2,    26.21, 2,     0.00, 2,     1.80, 2, -999.000, 9, -999.000, 9, -999.000, 9,   -999.0, 9,   -999.0, 9, -999.0000, 9,   -999.00, -999.000, 9, -999.000,   -999.0, 9,   -999.0,  -999.00, 9,   -999.0,   1.3099, 27.8696,   1.6330, 2, 4000.8, 2, 235.98, 2, 0.28, 0.11, 0.01, 0.01, -999, 9,  -999.00, 9, -999, -999, 9, -999
49NZ20031106, A10, 46, 1, 8, 12044, 2, 20031119, 954, -29.9977, -19.9068, 4825,   4249.5, 2,   1.4650, 2,  34.7856, 2,  34.7856, 2,    222.8, 1,    232.0, 2,    83.37, 2,    27.38, 2,     0.01, 2,     1.89, 2, -999.000, 9, -999.000, 9, -999.000, 9,   -999.0, 9,   -999.0, 9, -999.0000, 9,   -999.00, -999.000, 9, -999.000,   -999.0, 9,   -999.0,  -999.00, 9,   -999.0,   1.1189, 27.8661,   1.4649, 2, 4249.6, 2, 232.14, 2, 0.3, 0.11, 0.01, 0.01, -999, 9,  -999.00, 9, -999, -999, 9, -999
49NZ20031106, A10, 46, 1, 7, 12043, 2, 20031119, 954, -29.9977, -19.9068, 4825,   4500.2, 2,   1.3870, 2,  34.7733, 2,  34.7733, 2,    221.4, 1,    229.3, 2,    88.17, 2,    28.06, 2,     0.01, 2,     1.93, 2, -999.000, 9, -999.000, 9, -999.000, 9,   -999.0, 9,   -999.0, 9, -999.0000, 9,   -999.00, -999.000, 9, -999.000,   -999.0, 9,   -999.0,  -999.00, 9,   -999.0,   1.0149, 27.8632,   1.3870, 2, 4500.4, 2, 229.27, 2, 0.31, 0.11, 0.01, 0.01, -999, 9,  -999.00, 9, -999, -999, 9, -999
49NZ20031106, A10, 46, 1, 5, 12041, 2, 20031119, 954, -29.9977, -19.9068, 4825,   4750.6, 2,   1.3612, 2,  34.7669, 2,  34.7665, 2,    221.6, 1,    228.0, 2,    90.56, 2,    28.41, 2,     0.01, 2,     1.95, 2, -999.000, 9, -999.000, 9, -999.000, 9,   -999.0, 9,   -999.0, 9, -999.0000, 9,   -999.00, -999.000, 9, -999.000,   -999.0, 9,   -999.0,  -999.00, 9,   -999.0,   0.9608, 27.8619,   1.3611, 2, 4750.7, 2, 227.86, 2, 0.32, 0.11, 0.01, 0.01, -999, 9,  -999.00, 9, -999, -999, 9, -999
49NZ20031106, A10, 46, 1, 6, 12042, 2, 20031119, 954, -29.9977, -19.9068, 4825,   4872.1, 2,   1.3798, 2,  34.7671, 2,  34.7671, 2,    223.0, 1,    228.1, 2,    90.42, 2,    28.38, 2,     0.01, 2,     1.95, 2, -999.000, 9, -999.000, 9, -999.000, 9,   -999.0, 9,   -999.0, 9, -999.0000, 9,   -999.00, -999.000, 9, -999.000,   -999.0, 9,   -999.0,  -999.00, 9,   -999.0,   0.9644, 27.862,   1.3797, 2, 4872.1, 2, 227.61, 2, 0.32, 0.11, 0.01, 0.01, -999, 9,  -999.00, 9, -999, -999, 9, -999