BOTTLE,20220818CCHSIOAMB
EXPOCODE,SECT_ID,STNNBR,CASTNO,SAMPNO,BTLNBR,BTLNBR_FLAG_W,DATE,TIME,LATITUDE,LONGITUDE,DEPTH,CTDPRS,CTDPRS_FLAG_W,CTDTMP,CTDTMP_FLAG_W,CTDSAL,CTDSAL_FLAG_W,SALNTY,SALNTY_FLAG_W,CTDOXY,CTDOXY_FLAG_W,OXYGEN,OXYGEN_FLAG_W,SILCAT,SILCAT_FLAG_W,NITRAT,NITRAT_FLAG_W,NITRIT,NITRIT_FLAG_W,PHSPHT,PHSPHT_FLAG_W,CFC-11,CFC-11_FLAG_W,CFC-12,CFC-12_FLAG_W,CFC113,CFC113_FLAG_W,TCARBN,TCARBN_FLAG_W,ALKALI,ALKALI_FLAG_W,PH_TOT,PH_TOT_FLAG_W,PH_TMP,TRITUM,TRITUM_FLAG_W,TRITER,DELC14,DELC14_FLAG_W,C14ERR,DELC13,DELC13_FLAG_W,C13ERR,THETA,SIG0,SBE35,SBE35_FLAG_W,DWNPRS,DWNPRS_FLAG_W,DWNOXY,DWNOXY_FLAG_W,SILUNC,NRAUNC,NRIUNC,PHPUNC,TOC,TOC_FLAG_W,CS-137,CS-137_FLAG_W,CS137ER,PLUTO,PLUTO_FLAG_W,PLUTOER
,,,,,,,,,,,METERS,DBAR,,ITS-90,,PSS-78,,PSS-78,,UMOL/KG,,UMOL/KG,,UMOL/KG,,UMOL/KG,,UMOL/KG,,UMOL/KG,,PMOL/KG,,PMOL/KG,,PMOL/KG,,UMOL/KG,,UMOL/KG,,,,DEG C,TU,,TU,/MILLE,,/MILLE,/MILLE,,/MILLE,DEG C,KG/M^3,ITS-90,,DBAR,,UMOL/KG,,UMOL/KG,UMOL/KG,UMOL/KG,UMOL/KG,UMOL/KG,,BQ/M^3,,BQ/M^3,MBQ/M^3,,MBQ/M^3
49NZ20031106, A10, 20, 1, 36, 12048, 2, 20031112, 1810, -30.0000, -35.8282, 2398,     10.1, 2,  20.2247, 2,  36.0419, 2,  36.0403, 2,    217.9, 1,    228.7, 2,     0.72, 2,     0.01, 2,     0.01, 2,     0.05, 2, -999.000, 9, -999.000, 9, -999.000, 9,   -999.0, 9,   -999.0, 9, -999.0000, 9,   -999.00, -999.000, 9, -999.000,   -999.0, 9,   -999.0,  -999.00, 9,   -999.0,  20.2228, 25.4987,  20.2251, 2, 8.8, 2, 230, 2, 0.12, 0.03, 0.01, 0.03, -999, 9,  -999.00, 9, -999, -999, 9, -999
49NZ20031106, A10, 20, 1, 35, 12047, 2, 20031112, 1810, -30.0000, -35.8282, 2398,     50.2, 2,  20.1530, 2,  36.1390, 2,  36.1273, 3,    217.2, 1,    228.7, 2,     0.72, 2,    -0.02, 2,     0.01, 2,     0.04, 2, -999.000, 9, -999.000, 9, -999.000, 9,   -999.0, 9,   -999.0, 9, -999.0000, 9,   -999.00, -999.000, 9, -999.000,   -999.0, 9,   -999.0,  -999.00, 9,   -999.0,  20.1436, 25.5927,  20.1524, 2, 41.5, 2, 229.83, 2, 0.12, 0.03, 0.01, 0.04, -999, 9,  -999.00, 9, -999, -999, 9, -999
49NZ20031106, A10, 20, 1, 34, 12046, 2, 20031112, 1810, -30.0000, -35.8282, 2398,    100.6, 2,  18.9964, 2,  35.9679, 2,  35.9705, 2,    218.9, 1,    230.0, 2,     0.74, 2,    -0.02, 2,     0.01, 2,     0.07, 2, -999.000, 9, -999.000, 9, -999.000, 9,   -999.0, 9,   -999.0, 9, -999.0000, 9,   -999.00, -999.000, 9, -999.000,   -999.0, 9,   -999.0,  -999.00, 9,   -999.0,  18.9784, 25.7656,  19.0031, 2, 96.8, 2, 230.27, 2, 0.12, 0.03, 0.01, 0.03, -999, 9,  -999.00, 9, -999, -999, 9, -999
49NZ20031106, A10, 20, 1, 33, 12045, 2, 20031112, 1810, -30.0000, -35.8282, 2398,    150.1, 2,  17.9337, 2,  35.8634, 2,  35.8623, 2,    215.9, 1,    226.5, 2,     0.83, 2,     0.33, 2,     0.09, 2,     0.13, 2, -999.000, 9, -999.000, 9, -999.000, 9,   -999.0, 9,   -999.0, 9, -999.0000, 9,   -999.00, -999.000, 9, -999.000,   -999.0, 9,   -999.0,  -999.00, 9,   -999.0,  17.9079, 25.9573,  17.9333, 2, 148.2, 2, 226.35, 2, 0.12, 0.03, 0.01, 0.02, -999, 9,  -999.00, 9, -999, -999, 9, -999
49NZ20031106, A10, 20, 1, 32, 12044, 2, 20031112, 1810, -30.0000, -35.8282, 2398,    199.2, 2,  16.9096, 2,  35.7519, 2,  35.7511, 2,    207.6, 1,    217.2, 2,     1.16, 2,     1.99, 2,     0.03, 2,     0.26, 2, -999.000, 9, -999.000, 9, -999.000, 9,   -999.0, 9,   -999.0, 9, -999.0000, 9,   -999.00, -999.000, 9, -999.000,   -999.0, 9,   -999.0,  -999.00, 9,   -999.0,  16.8767, 26.1216,  16.9102, 2, 196.2, 2, 213.83, 2, 0.12, 0.04, 0.01, 0.01, -999, 9,  -999.00, 9, -999, -999, 9, -999
49NZ20031106, A10, 20, 1, 31, 12043, 2, 20031112, 1810, -30.0000, -35.8282, 2398,    250.4, 2,  15.5038, 2,  35.5637, 2,  35.5642, 2,    204.0, 1,    213.2, 2,     1.63, 2,     4.29, 2,     0.01, 2,     0.42, 2, -999.000, 9, -999.000, 9, -999.000, 9,   -999.0, 9,   -999.0, 9, -999.0000, 9,   -999.00, -999.000, 9, -999.000,   -999.0, 9,   -999.0,  -999.00, 9,   -999.0,  15.4648, 26.3031,  15.5076, 2, 253.6, 2, 211.81, 2, 0.12, 0.04, 0.01, 0.01, -999, 9,  -999.00, 9, -999, -999, 9, -999
49NZ20031106, A10, 20, 1, 30, 12042, 2, 20031112, 1810, -30.0000, -35.8282, 2398,    300.7, 2,  14.5221, 2,  35.4466, 2,  35.4451, 2,    204.6, 1,    213.3, 2,     2.07, 2,     6.27, 2,     0.01, 2,     0.54, 2, -999.000, 9, -999.000, 9, -999.000, 9,   -999.0, 9,   -999.0, 9, -999.0000, 9,   -999.00, -999.000, 9, -999.000,   -999.0, 9,   -999.0,  -999.00, 9,   -999.0,  14.4772, 26.4307,  14.5220, 2, 303.1, 2, 212.56, 2, 0.12, 0.05, 0.01, 0.01, -999, 9,  -999.00, 9, -999, -999, 9, -999
49NZ20031106, A10, 20, 1, 29, 12041, 2, 20031112, 1810, -30.0000, -35.8282, 2398,    399.6, 2,  12.9977, 2,  35.2257, 2,  35.2267, 2,    203.5, 1,    212.0, 2,     3.01, 2,     9.69, 2,     0.00, 2,     0.74, 2, -999.000, 9, -999.000, 9, -999.000, 9,   -999.0, 9,   -999.0, 9, -999.0000, 9,   -999.00, -999.000, 9, -999.000,   -999.0, 9,   -999.0,  -999.00, 9,   -999.0,  12.9422, 26.579,  12.9981, 2, 398.9, 2, 212.37, 2, 0.13, 0.06, 0.01, 0.01, -999, 9,  -999.00, 9, -999, -999, 9, -999
49NZ20031106, A10, 20, 1, 28, 12040, 2, 20031112, 1810, -30.0000, -35.8282, 2398,    500.9, 2,  11.1545, 2,  34.9605, 2,  34.9622, 2,    201.0, 1,    208.9, 2,     4.92, 2,    14.25, 2,     0.00, 2,     1.03, 2, -999.000, 9, -999.000, 9, -999.000, 9,   -999.0, 9,   -999.0, 9, -999.0000, 9,   -999.00, -999.000, 9, -999.000,   -999.0, 9,   -999.0,  -999.00, 9,   -999.0,  11.0914, 26.7276,  11.1564, 2, 500.9, 2, 208.65, 2, 0.13, 0.07, 0.01, 0.01, -999, 9,  -999.00, 9, -999, -999, 9, -999
49NZ20031106, A10, 20, 1, 27, 12039, 2, 20031112, 1810, -30.0000, -35.8282, 2398,    599.7, 2,   8.8806, 2,  34.6766, 2,  34.6763, 2,    201.0, 1,    208.2, 2,     8.39, 2,    19.96, 2,     0.00, 2,     1.39, 2, -999.000, 9, -999.000, 9, -999.000, 9,   -999.0, 9,   -999.0, 9, -999.0000, 9,   -999.00, -999.000, 9, -999.000,   -999.0, 9,   -999.0,  -999.00, 9,   -999.0,   8.8147, 26.8943,   8.8799, 2, 600.9, 2, 207.45, 2, 0.14, 0.09, 0.01, 0.01, -999, 9,  -999.00, 9, -999, -999, 9, -999
49NZ20031106, A10, 20, 1, 26, 12038, 2, 20031112, 1810, -30.0000, -35.8282, 2398,    700.9, 2,   7.3454, 2,  34.5105, 2,  34.5123, 2,    203.3, 1,    210.1, 2,    11.52, 2,    23.50, 2,     0.00, 2,     1.63, 2, -999.000, 9, -999.000, 9, -999.000, 9,   -999.0, 9,   -999.0, 9, -999.0000, 9,   -999.00, -999.000, 9, -999.000,   -999.0, 9,   -999.0,  -999.00, 9,   -999.0,   7.2761, 26.9945,   7.3446, 2, 703.3, 2, 208.6, 2, 0.14, 0.1, 0.01, 0.01, -999, 9,  -999.00, 9, -999, -999, 9, -999
49NZ20031106, A10, 20, 1, 25, 12037, 2, 20031112, 1810, -30.0000, -35.8282, 2398,    799.5, 2,   5.8685, 2,  34.3796, 2,  34.3868, 3,    212.6, 1,    218.9, 2,    15.23, 2,    26.10, 2,     0.00, 2,     1.80, 2, -999.000, 9, -999.000, 9, -999.000, 9,   -999.0, 9,   -999.0, 9, -999.0000, 9,   -999.00, -999.000, 9, -999.000,   -999.0, 9,   -999.0,  -999.00, 9,   -999.0,   5.7979, 27.0844,   5.8833, 2, 802.7, 2, 215.84, 2, 0.15, 0.11, 0.01, 0.01, -999, 9,  -999.00, 9, -999, -999, 9, -999
49NZ20031106, A10, 20, 1, 24, 12036, 2, 20031112, 1810, -30.0000, -35.8282, 2398,    900.3, 2,   4.7406, 2,  34.3092, 2,  34.3092, 2,    217.0, 1,    224.8, 2,    20.96, 2,    28.50, 2,     0.00, 2,     1.95, 2, -999.000, 9, -999.000, 9, -999.000, 9,   -999.0, 9,   -999.0, 9, -999.0000, 9,   -999.00, -999.000, 9, -999.000,   -999.0, 9,   -999.0,  -999.00, 9,   -999.0,   4.6683, 27.1647,   4.7436, 2, 901.6, 2, 225.07, 2, 0.17, 0.11, 0.01, 0.01, -999, 9,  -999.00, 9, -999, -999, 9, -999
49NZ20031106, A10, 20, 1, 12, 12024, 9, 20031112, 1810, -30.0000, -35.8282, 2398,    999.3, 2,   4.0266, 2,  34.2976, 2, -999.0000, 9,    215.0, 1,   -999.0, 9,  -999.00, 9,  -999.00, 9,  -999.00, 9,  -999.00, 9, -999.000, 9, -999.000, 9, -999.000, 9,   -999.0, 9,   -999.0, 9, -999.0000, 9,   -999.00, -999.000, 9, -999.000,   -999.0, 9,   -999.0,  -999.00, 9,   -999.0,   3.9511, 27.2325,   4.0268, 2, 999.3, 2, 221.69, 2, -999, -999, -999, -999, -999, 9,  -999.00, 9, -999, -999, 9, -999
49NZ20031106, A10, 20, 1, 1, 12013, 9, 20031112, 1810, -30.0000, -35.8282, 2398,    999.3, 2,   4.0274, 2,  34.2978, 2, -999.0000, 9,    214.8, 1,   -999.0, 9,  -999.00, 9,  -999.00, 9,  -999.00, 9,  -999.00, 9, -999.000, 9, -999.000, 9, -999.000, 9,   -999.0, 9,   -999.0, 9, -999.0000, 9,   -999.00, -999.000, 9, -999.000,   -999.0, 9,   -999.0,  -999.00, 9,   -999.0,   3.9519, 27.2326,   4.0273, 2, 999.3, 2, 221.69, 2, -999, -999, -999, -999, -999, 9,  -999.00, 9, -999, -999, 9, -999
49NZ20031106, A10, 20, 1, 9, 12015, 9, 20031112, 1810, -30.0000, -35.8282, 2398,    999.7, 2,   4.0270, 2,  34.2977, 2, -999.0000, 9,    215.0, 1,   -999.0, 9,  -999.00, 9,  -999.00, 9,  -999.00, 9,  -999.00, 9, -999.000, 9, -999.000, 9, -999.000, 9,   -999.0, 9,   -999.0, 9, -999.0000, 9,   -999.00, -999.000, 9, -999.000,   -999.0, 9,   -999.0,  -999.00, 9,   -999.0,   3.9515, 27.2324,   4.0272, 2, 999.7, 2, 221.71, 2, -999, -999, -999, -999, -999, 9,  -999.00, 9, -999, -999, 9, -999
49NZ20031106, A10, 20, 1, 3, 12012, 9, 20031112, 1810, -30.0000, -35.8282, 2398,    999.7, 2,   4.0277, 2,  34.2977, 2, -999.0000, 9,    214.7, 1,   -999.0, 9,  -999.00, 9,  -999.00, 9,  -999.00, 9,  -999.00, 9, -999.000, 9, -999.000, 9, -999.000, 9,   -999.0, 9,   -999.0, 9, -999.0000, 9,   -999.00, -999.000, 9, -999.000,   -999.0, 9,   -999.0,  -999.00, 9,   -999.0,   3.9522, 27.2325,   4.0278, 2, 999.7, 2, 221.71, 2, -999, -999, -999, -999, -999, 9,  -999.00, 9, -999, -999, 9, -999
49NZ20031106, A10, 20, 1, 4, 12016, 9, 20031112, 1810, -30.0000, -35.8282, 2398,    999.8, 2,   4.0274, 2,  34.2977, 2, -999.0000, 9,    214.9, 1,   -999.0, 9,  -999.00, 9,  -999.00, 9,  -999.00, 9,  -999.00, 9, -999.000, 9, -999.000, 9, -999.000, 9,   -999.0, 9,   -999.0, 9, -999.0000, 9,   -999.00, -999.000, 9, -999.000,   -999.0, 9,   -999.0,  -999.00, 9,   -999.0,   3.9519, 27.2325,   4.0275, 2, 999.8, 2, 221.71, 2, -999, -999, -999, -999, -999, 9,  -999.00, 9, -999, -999, 9, -999
49NZ20031106, A10, 20, 1, 13, 12025, 9, 20031112, 1810, -30.0000, -35.8282, 2398,   1000.0, 2,   4.0265, 2,  34.2976, 2, -999.0000, 9,    215.1, 1,   -999.0, 9,  -999.00, 9,  -999.00, 9,  -999.00, 9,  -999.00, 9, -999.000, 9, -999.000, 9, -999.000, 9,   -999.0, 9,   -999.0, 9, -999.0000, 9,   -999.00, -999.000, 9, -999.000,   -999.0, 9,   -999.0,  -999.00, 9,   -999.0,   3.9510, 27.2325,   4.0268, 2, 1000, 2, 221.72, 2, -999, -999, -999, -999, -999, 9,  -999.00, 9, -999, -999, 9, -999
49NZ20031106, A10, 20, 1, 5, 12017, 9, 20031112, 1810, -30.0000, -35.8282, 2398,   1000.0, 2,   4.0275, 2,  34.2977, 2, -999.0000, 9,    214.9, 1,   -999.0, 9,  -999.00, 9,  -999.00, 9,  -999.00, 9,  -999.00, 9, -999.000, 9, -999.000, 9, -999.000, 9,   -999.0, 9,   -999.0, 9, -999.0000, 9,   -999.00, -999.000, 9, -999.000,   -999.0, 9,   -999.0,  -999.00, 9,   -999.0,   3.9520, 27.2325,   4.0275, 2, 1000, 2, 221.72, 2, -999, -999, -999, -999, -999, 9,  -999.00, 9, -999, -999, 9, -999
49NZ20031106, A10, 20, 1, 2, 12014, 9, 20031112, 1810, -30.0000, -35.8282, 2398,   1000.0, 2,   4.0273, 2,  34.2977, 2, -999.0000, 9,    214.7, 1,   -999.0, 9,  -999.00, 9,  -999.00, 9,  -999.00, 9,  -999.00, 9, -999.000, 9, -999.000, 9, -999.000, 9,   -999.0, 9,   -999.0, 9, -999.0000, 9,   -999.00, -999.000, 9, -999.000,   -999.0, 9,   -999.0,  -999.00, 9,   -999.0,   3.9518, 27.2325,   4.0273, 2, 1000, 2, 221.72, 2, -999, -999, -999, -999, -999, 9,  -999.00, 9, -999, -999, 9, -999
49NZ20031106, A10, 20, 1, 10, 12022, 9, 20031112, 1810, -30.0000, -35.8282, 2398,   1000.1, 2,   4.0268, 2,  34.2977, 2, -999.0000, 9,    214.8, 1,   -999.0, 9,  -999.00, 9,  -999.00, 9,  -999.00, 9,  -999.00, 9, -999.000, 9, -999.000, 9, -999.000, 9,   -999.0, 9,   -999.0, 9, -999.0000, 9,   -999.00, -999.000, 9, -999.000,   -999.0, 9,   -999.0,  -999.00, 9,   -999.0,   3.9513, 27.2325,   4.0269, 2, 1000.1, 2, 221.72, 2, -999, -999, -999, -999, -999, 9,  -999.00, 9, -999, -999, 9, -999
49NZ20031106, A10, 20, 1, 7, 12019, 9, 20031112, 1810, -30.0000, -35.8282, 2398,   1000.1, 2,   4.0272, 2,  34.2977, 2, -999.0000, 9,    214.8, 1,   -999.0, 9,  -999.00, 9,  -999.00, 9,  -999.00, 9,  -999.00, 9, -999.000, 9, -999.000, 9, -999.000, 9,   -999.0, 9,   -999.0, 9, -999.0000, 9,   -999.00, -999.000, 9, -999.000,   -999.0, 9,   -999.0,  -999.00, 9,   -999.0,   3.9517, 27.2325,   4.0274, 2, 1000.1, 2, 221.72, 2, -999, -999, -999, -999, -999, 9,  -999.00, 9, -999, -999, 9, -999
49NZ20031106, A10, 20, 1, 8, 12020, 9, 20031112, 1810, -30.0000, -35.8282, 2398,   1000.2, 2,   4.0271, 2,  34.2976, 2, -999.0000, 9,    214.9, 1,   -999.0, 9,  -999.00, 9,  -999.00, 9,  -999.00, 9,  -999.00, 9, -999.000, 9, -999.000, 9, -999.000, 9,   -999.0, 9,   -999.0, 9, -999.0000, 9,   -999.00, -999.000, 9, -999.000,   -999.0, 9,   -999.0,  -999.00, 9,   -999.0,   3.9516, 27.2325,   4.0272, 2, 1000.2, 2, 221.73, 2, -999, -999, -999, -999, -999, 9,  -999.00, 9, -999, -999, 9, -999
49NZ20031106, A10, 20, 1, 6, 12018, 9, 20031112, 1810, -30.0000, -35.8282, 2398,   1000.2, 2,   4.0274, 2,  34.2978, 2, -999.0000, 9,    214.7, 1,   -999.0, 9,  -999.00, 9,  -999.00, 9,  -999.00, 9,  -999.00, 9, -999.000, 9, -999.000, 9, -999.000, 9,   -999.0, 9,   -999.0, 9, -999.0000, 9,   -999.00, -999.000, 9, -999.000,   -999.0, 9,   -999.0,  -999.00, 9,   -999.0,   3.9519, 27.2325,   4.0275, 2, 1000.2, 2, 221.73, 2, -999, -999, -999, -999, -999, 9,  -999.00, 9, -999, -999, 9, -999
49NZ20031106, A10, 20, 1, 11, 12023, 9, 20031112, 1810, -30.0000, -35.8282, 2398,   1000.5, 2,   4.0265, 2,  34.2976, 2, -999.0000, 9,    214.9, 1,   -999.0, 9,  -999.00, 9,  -999.00, 9,  -999.00, 9,  -999.00, 9, -999.000, 9, -999.000, 9, -999.000, 9,   -999.0, 9,   -999.0, 9, -999.0000, 9,   -999.00, -999.000, 9, -999.000,   -999.0, 9,   -999.0,  -999.00, 9,   -999.0,   3.9509, 27.2326,   4.0266, 2, 1000.5, 2, 221.74, 2, -999, -999, -999, -999, -999, 9,  -999.00, 9, -999, -999, 9, -999
49NZ20031106, A10, 20, 1, 23, 12035, 2, 20031112, 1810, -30.0000, -35.8282, 2398,   1000.8, 2,   4.0267, 2,  34.2975, 2,  34.2981, 2,    214.9, 1,    222.4, 2,    27.49, 2,    30.08, 2,    -0.01, 2,     2.06, 2, -999.000, 9, -999.000, 9, -999.000, 9,   -999.0, 9,   -999.0, 9, -999.0000, 9,   -999.00, -999.000, 9, -999.000,   -999.0, 9,   -999.0,  -999.00, 9,   -999.0,   3.9511, 27.2325,   4.0268, 2, 1000.7, 2, 221.74, 2, 0.18, 0.12, 0.01, 0.02, -999, 9,  -999.00, 9, -999, -999, 9, -999
49NZ20031106, A10, 20, 1, 22, 12034, 2, 20031112, 1810, -30.0000, -35.8282, 2398,   1200.0, 2,   3.2976, 2,  34.3805, 2,  34.3794, 2,    195.9, 1,    202.9, 2,    42.28, 2,    32.29, 2,     0.00, 2,     2.22, 2, -999.000, 9, -999.000, 9, -999.000, 9,   -999.0, 9,   -999.0, 9, -999.0000, 9,   -999.00, -999.000, 9, -999.000,   -999.0, 9,   -999.0,  -999.00, 9,   -999.0,   3.2117, 27.3713,   3.2978, 2, 1201.2, 2, 202.93, 2, 0.21, 0.12, 0.01, 0.02, -999, 9,  -999.00, 9, -999, -999, 9, -999
49NZ20031106, A10, 20, 1, 21, 12033, 2, 20031112, 1810, -30.0000, -35.8282, 2398,   1399.7, 2,   3.0078, 2,  34.5169, 2,  34.5152, 2,    184.0, 1,    189.9, 2,    52.18, 2,    32.30, 2,     0.00, 2,     2.22, 2, -999.000, 9, -999.000, 9, -999.000, 9,   -999.0, 9,   -999.0, 9, -999.0000, 9,   -999.00, -999.000, 9, -999.000,   -999.0, 9,   -999.0,  -999.00, 9,   -999.0,   2.9083, 27.5087,   3.0076, 2, 1400.4, 2, 190.05, 2, 0.23, 0.12, 0.01, 0.02, -999, 9,  -999.00, 9, -999, -999, 9, -999
49NZ20031106, A10, 20, 1, 20, 12032, 2, 20031112, 1810, -30.0000, -35.8282, 2398,   1599.3, 2,   2.8933, 2,  34.6378, 2,  34.6375, 2,    187.5, 1,    193.2, 2,    54.08, 2,    30.51, 2,    -0.01, 2,     2.10, 2, -999.000, 9, -999.000, 9, -999.000, 9,   -999.0, 9,   -999.0, 9, -999.0000, 9,   -999.00, -999.000, 9, -999.000,   -999.0, 9,   -999.0,  -999.00, 9,   -999.0,   2.7782, 27.6162,   2.8934, 2, 1599.5, 2, 192.91, 2, 0.24, 0.12, 0.01, 0.02, -999, 9,  -999.00, 9, -999, -999, 9, -999
49NZ20031106, A10, 20, 1, 19, 12031, 2, 20031112, 1810, -30.0000, -35.8282, 2398,   1800.9, 2,   2.8596, 2,  34.7473, 2,  34.7473, 2,    200.5, 1,    206.5, 2,    50.47, 2,    27.79, 2,     0.00, 2,     1.91, 2, -999.000, 9, -999.000, 9, -999.000, 9,   -999.0, 9,   -999.0, 9, -999.0000, 9,   -999.00, -999.000, 9, -999.000,   -999.0, 9,   -999.0,  -999.00, 9,   -999.0,   2.7274, 27.7086,   2.8592, 2, 1804.2, 2, 204.05, 2, 0.23, 0.11, 0.01, 0.01, -999, 9,  -999.00, 9, -999, -999, 9, -999
49NZ20031106, A10, 20, 1, 18, 12030, 2, 20031112, 1810, -30.0000, -35.8282, 2398,   2000.3, 2,   2.8480, 2,  34.7970, 2,  34.7966, 2,    210.3, 1,    216.4, 2,    47.13, 2,    26.16, 2,     0.00, 2,     1.79, 2, -999.000, 9, -999.000, 9, -999.000, 9,   -999.0, 9,   -999.0, 9, -999.0000, 9,   -999.00, -999.000, 9, -999.000,   -999.0, 9,   -999.0,  -999.00, 9,   -999.0,   2.6982, 27.7506,   2.8479, 2, 2001.1, 2, 215.61, 2, 0.22, 0.11, 0.01, 0.01, -999, 9,  -999.00, 9, -999, -999, 9, -999
49NZ20031106, A10, 20, 1, 15, 12027, 9, 20031112, 1810, -30.0000, -35.8282, 2398,   2100.7, 2,   2.8269, 2,  34.8162, 2, -999.0000, 9,    215.1, 1,   -999.0, 9,  -999.00, 9,  -999.00, 9,  -999.00, 9,  -999.00, 9, -999.000, 9, -999.000, 9, -999.000, 9,   -999.0, 9,   -999.0, 9, -999.0000, 9,   -999.00, -999.000, 9, -999.000,   -999.0, 9,   -999.0,  -999.00, 9,   -999.0,   2.6682, 27.7686,   2.8271, 2, 2101, 2, 220.87, 2, -999, -999, -999, -999, -999, 9,  -999.00, 9, -999, -999, 9, -999
49NZ20031106, A10, 20, 1, 17, 12029, 2, 20031112, 1810, -30.0000, -35.8282, 2398,   2200.4, 2,   2.8082, 2,  34.8353, 2,  34.8352, 2,    220.1, 1,    226.3, 2,    43.77, 2,    24.61, 2,     0.00, 2,     1.68, 2, -999.000, 9, -999.000, 9, -999.000, 9,   -999.0, 9,   -999.0, 9, -999.0000, 9,   -999.00, -999.000, 9, -999.000,   -999.0, 9,   -999.0,  -999.00, 9,   -999.0,   2.6406, 27.7863,   2.8082, 2, 2200.4, 2, 226.24, 2, 0.22, 0.1, 0.01, 0.01, -999, 9,  -999.00, 9, -999, -999, 9, -999
49NZ20031106, A10, 20, 1, 14, 12026, 9, 20031112, 1810, -30.0000, -35.8282, 2398,   2301.0, 2,   2.8081, 2,  34.8412, 2, -999.0000, 9,    222.2, 1,   -999.0, 9,  -999.00, 9,  -999.00, 9,  -999.00, 9,  -999.00, 9, -999.000, 9, -999.000, 9, -999.000, 9,   -999.0, 9,   -999.0, 9, -999.0000, 9,   -999.00, -999.000, 9, -999.000,   -999.0, 9,   -999.0,  -999.00, 9,   -999.0,   2.6311, 27.7919,   2.8081, 2, 2300.6, 2, 228.69, 2, -999, -999, -999, -999, -999, 9,  -999.00, 9, -999, -999, 9, -999
49NZ20031106, A10, 20, 1, 16, 12028, 2, 20031112, 1810, -30.0000, -35.8282, 2398,   2416.1, 2,   2.8019, 2,  34.8541, 2,  34.8544, 2,    225.8, 1,    231.6, 2,    41.76, 2,    23.83, 2,     0.00, 2,     1.62, 2, -999.000, 9, -999.000, 9, -999.000, 9,   -999.0, 9,   -999.0, 9, -999.0000, 9,   -999.00, -999.000, 9, -999.000,   -999.0, 9,   -999.0,  -999.00, 9,   -999.0,   2.6140, 27.8036,   2.8020, 2, 2416.2, 2, 232.09, 2, 0.21, 0.1, 0.01, 0.01, -999, 9,  -999.00, 9, -999, -999, 9, -999