BOTTLE,20220818CCHSIOAMB
EXPOCODE,SECT_ID,STNNBR,CASTNO,SAMPNO,BTLNBR,BTLNBR_FLAG_W,DATE,TIME,LATITUDE,LONGITUDE,DEPTH,CTDPRS,CTDPRS_FLAG_W,CTDTMP,CTDTMP_FLAG_W,CTDSAL,CTDSAL_FLAG_W,SALNTY,SALNTY_FLAG_W,CTDOXY,CTDOXY_FLAG_W,OXYGEN,OXYGEN_FLAG_W,SILCAT,SILCAT_FLAG_W,NITRAT,NITRAT_FLAG_W,NITRIT,NITRIT_FLAG_W,PHSPHT,PHSPHT_FLAG_W,CFC-11,CFC-11_FLAG_W,CFC-12,CFC-12_FLAG_W,CFC113,CFC113_FLAG_W,TCARBN,TCARBN_FLAG_W,ALKALI,ALKALI_FLAG_W,PH_TOT,PH_TOT_FLAG_W,PH_TMP,TRITUM,TRITUM_FLAG_W,TRITER,DELC14,DELC14_FLAG_W,C14ERR,DELC13,DELC13_FLAG_W,C13ERR,THETA,SIG0,SBE35,SBE35_FLAG_W,DWNPRS,DWNPRS_FLAG_W,DWNOXY,DWNOXY_FLAG_W,SILUNC,NRAUNC,NRIUNC,PHPUNC,TOC,TOC_FLAG_W,CS-137,CS-137_FLAG_W,CS137ER,PLUTO,PLUTO_FLAG_W,PLUTOER
,,,,,,,,,,,METERS,DBAR,,ITS-90,,PSS-78,,PSS-78,,UMOL/KG,,UMOL/KG,,UMOL/KG,,UMOL/KG,,UMOL/KG,,UMOL/KG,,PMOL/KG,,PMOL/KG,,PMOL/KG,,UMOL/KG,,UMOL/KG,,,,DEG C,TU,,TU,/MILLE,,/MILLE,/MILLE,,/MILLE,DEG C,KG/M^3,ITS-90,,DBAR,,UMOL/KG,,UMOL/KG,UMOL/KG,UMOL/KG,UMOL/KG,UMOL/KG,,BQ/M^3,,BQ/M^3,MBQ/M^3,,MBQ/M^3
49NZ20031106, A10, 44, 1, 36, 12036, 2, 20031118, 2023, -29.9948, -21.6237, 4819,      8.8, 2,  20.1486, 2,  35.9096, 2,  35.9091, 2,    217.7, 1,    230.4, 2,     0.86, 2,    -0.01, 2,     0.01, 2,     0.10, 2, -999.000, 9, -999.000, 9, -999.000, 9,   -999.0, 9,   -999.0, 9, -999.0000, 9,   -999.00, -999.000, 9, -999.000,   -999.0, 9,   -999.0,  -999.00, 9,   -999.0,  20.1470, 25.4203,  20.1481, 2, 8.8, 2, 230.55, 2, 0.12, 0.03, 0.01, 0.02, -999, 9,  -999.00, 9, -999, -999, 9, -999
49NZ20031106, A10, 44, 1, 35, 12035, 2, 20031118, 2023, -29.9948, -21.6237, 4819,     50.4, 2,  19.2977, 2,  35.8979, 2,  35.8968, 2,    221.5, 1,    233.9, 2,     0.82, 2,    -0.04, 2,     0.01, 2,     0.09, 2, -999.000, 9, -999.000, 9, -999.000, 9,   -999.0, 9,   -999.0, 9, -999.0000, 9,   -999.00, -999.000, 9, -999.000,   -999.0, 9,   -999.0,  -999.00, 9,   -999.0,  19.2886, 25.6356,  19.2996, 2, 46.4, 2, 233.16, 2, 0.12, 0.03, 0.01, 0.02, -999, 9,  -999.00, 9, -999, -999, 9, -999
49NZ20031106, A10, 44, 1, 34, 12034, 2, 20031118, 2023, -29.9948, -21.6237, 4819,    100.7, 2,  16.9053, 2,  35.6173, 2,  35.6170, 2,    225.5, 1,    237.4, 2,     0.87, 2,    -0.05, 2,     0.01, 2,     0.15, 2, -999.000, 9, -999.000, 9, -999.000, 9,   -999.0, 9,   -999.0, 9, -999.0000, 9,   -999.00, -999.000, 1, -999.000,   -999.0, 9,   -999.0,  -999.00, 9,   -999.0,  16.8887, 26.0165,  16.9056, 2, 101.9, 2, 238.3, 2, 0.12, 0.03, 0.01, 0.02, -999, 9,     1.04, 2, 0.14, -999, 1, -999
49NZ20031106, A10, 44, 1, 33, 12033, 2, 20031118, 2023, -29.9948, -21.6237, 4819,    151.1, 2,  15.8414, 2,  35.5224, 2,  35.5241, 2,    215.5, 1,    226.6, 2,     1.10, 2,     1.64, 2,     0.05, 2,     0.28, 2, -999.000, 9, -999.000, 9, -999.000, 9,   -999.0, 9,   -999.0, 9, -999.0000, 9,   -999.00, -999.000, 9, -999.000,   -999.0, 9,   -999.0,  -999.00, 9,   -999.0,  15.8176, 26.1934,  15.8434, 2, 147.3, 2, 223.2, 2, 0.12, 0.04, 0.01, 0.01, -999, 9,  -999.00, 9, -999, -999, 9, -999
49NZ20031106, A10, 44, 1, 4, 12040, 2, 20031118, 2023, -29.9948, -21.6237, 4819,    200.5, 2,  14.9379, 2,  35.4375, 2, -999.0000, 9,    205.6, 1,   -999.0, 9,  -999.00, 9,  -999.00, 9,  -999.00, 9,  -999.00, 9, -999.000, 9, -999.000, 9, -999.000, 9,   -999.0, 9,   -999.0, 9, -999.0000, 9,   -999.00, -999.000, 1, -999.000,   -999.0, 9,   -999.0,  -999.00, 9,   -999.0,  14.9075, 26.3315,  14.9334, 2, 194.5, 2, 215.86, 2, -999, -999, -999, -999, -999, 9,  -999.00, 9, -999, -999, 9, -999
49NZ20031106, A10, 44, 1, 32, 12032, 2, 20031118, 2023, -29.9948, -21.6237, 4819,    200.7, 2,  14.9339, 2,  35.4372, 2,  35.4378, 2,    205.7, 1,    215.9, 2,     1.84, 2,     4.67, 2,     0.02, 2,     0.48, 2, -999.000, 9, -999.000, 9, -999.000, 9,   -999.0, 9,   -999.0, 9, -999.0000, 9,   -999.00, -999.000, 1, -999.000,   -999.0, 9,   -999.0,  -999.00, 9,   -999.0,  14.9035, 26.3316,  14.9332, 2, 194.7, 2, 215.81, 2, 0.12, 0.05, 0.01, 0.01, -999, 9,  -999.00, 1, -999, -999, 1, -999
49NZ20031106, A10, 44, 1, 31, 12031, 2, 20031118, 2023, -29.9948, -21.6237, 4819,    251.2, 2,  14.0018, 2,  35.3200, 2,  35.3139, 3,    209.3, 1,    219.2, 2,     2.04, 2,     6.37, 2,     0.01, 2,     0.56, 2, -999.000, 9, -999.000, 9, -999.000, 9,   -999.0, 9,   -999.0, 9, -999.0000, 9,   -999.00, -999.000, 9, -999.000,   -999.0, 9,   -999.0,  -999.00, 9,   -999.0,  13.9653, 26.4414,  14.0163, 2, 249.5, 2, 218.66, 2, 0.12, 0.05, 0.01, 0.01, -999, 9,  -999.00, 9, -999, -999, 9, -999
49NZ20031106, A10, 44, 1, 30, 12030, 2, 20031118, 2023, -29.9948, -21.6237, 4819,    301.4, 2,  13.2148, 2,  35.2176, 2,  35.2173, 2,    206.0, 1,    215.8, 2,     2.74, 2,     8.49, 2,     0.01, 2,     0.69, 2, -999.000, 9, -999.000, 9, -999.000, 9,   -999.0, 9,   -999.0, 9, -999.0000, 9,   -999.00, -999.000, 9, -999.000,   -999.0, 9,   -999.0,  -999.00, 9,   -999.0,  13.1726, 26.5275,  13.2150, 2, 300.5, 2, 215.94, 2, 0.13, 0.06, 0.01, 0.01, -999, 9,  -999.00, 9, -999, -999, 9, -999
49NZ20031106, A10, 44, 1, 29, 12029, 2, 20031118, 2023, -29.9948, -21.6237, 4819,    402.1, 2,  11.7491, 2,  35.0241, 2,  35.0233, 2,    202.1, 1,    211.5, 2,     4.18, 2,    12.47, 2,     0.01, 2,     0.93, 2, -999.000, 9, -999.000, 9, -999.000, 9,   -999.0, 9,   -999.0, 9, -999.0000, 9,   -999.00, -999.000, 1, -999.000,   -999.0, 9,   -999.0,  -999.00, 9,   -999.0,  11.6969, 26.6655,  11.7491, 2, 401.1, 2, 210.88, 2, 0.13, 0.07, 0.01, 0.01, -999, 9,     0.92, 2, 0.24, -999, 1, -999
49NZ20031106, A10, 44, 1, 28, 12028, 2, 20031118, 2023, -29.9948, -21.6237, 4819,    499.5, 2,   9.8749, 2,  34.7869, 2,  34.7870, 2,    199.7, 1,    208.6, 2,     6.67, 2,    17.34, 2,     0.01, 2,     1.24, 2, -999.000, 9, -999.000, 9, -999.000, 9,   -999.0, 9,   -999.0, 9, -999.0000, 9,   -999.00, -999.000, 9, -999.000,   -999.0, 9,   -999.0,  -999.00, 9,   -999.0,   9.8167, 26.8175,   9.8698, 2, 499.4, 2, 208.76, 2, 0.13, 0.08, 0.01, 0.01, -999, 9,  -999.00, 9, -999, -999, 9, -999
49NZ20031106, A10, 44, 1, 27, 12027, 2, 20031118, 2023, -29.9948, -21.6237, 4819,    599.3, 2,   7.7432, 2,  34.5476, 2,  34.5478, 2,    201.9, 1,    210.3, 2,    10.53, 2,    22.57, 2,     0.00, 2,     1.56, 2, -999.000, 9, -999.000, 9, -999.000, 9,   -999.0, 9,   -999.0, 9, -999.0000, 9,   -999.00, -999.000, 1, -999.000,   -999.0, 9,   -999.0,  -999.00, 9,   -999.0,   7.6825, 26.9656,   7.7432, 2, 602.6, 2, 210.26, 2, 0.14, 0.1, 0.01, 0.01, -999, 9,  -999.00, 1, -999, -999, 1, -999
49NZ20031106, A10, 44, 1, 2, 12038, 2, 20031118, 2023, -29.9948, -21.6237, 4819,    599.5, 2,   7.7457, 2,  34.5478, 2, -999.0000, 9,    201.8, 1,   -999.0, 9,  -999.00, 9,  -999.00, 9,  -999.00, 9,  -999.00, 9, -999.000, 9, -999.000, 9, -999.000, 9,   -999.0, 9,   -999.0, 9, -999.0000, 9,   -999.00, -999.000, 1, -999.000,   -999.0, 9,   -999.0,  -999.00, 9,   -999.0,   7.6850, 26.9652,   7.7453, 2, 602.7, 2, 210.26, 2, -999, -999, -999, -999, -999, 9,  -999.00, 9, -999, -999, 9, -999
49NZ20031106, A10, 44, 1, 26, 12026, 2, 20031118, 2023, -29.9948, -21.6237, 4819,    701.4, 2,   6.1667, 2,  34.4055, 2,  34.4051, 2,    207.0, 1,    216.0, 2,    14.99, 2,    26.01, 2,     0.00, 2,     1.79, 2, -999.000, 9, -999.000, 9, -999.000, 9,   -999.0, 9,   -999.0, 9, -999.0000, 9,   -999.00, -999.000, 9, -999.000,   -999.0, 9,   -999.0,  -999.00, 9,   -999.0,   6.1037, 27.0696,   6.1672, 2, 703.3, 2, 216.09, 2, 0.15, 0.11, 0.01, 0.01, -999, 9,  -999.00, 9, -999, -999, 9, -999
49NZ20031106, A10, 44, 1, 25, 12025, 2, 20031118, 2023, -29.9948, -21.6237, 4819,    801.2, 2,   4.9804, 2,  34.3276, 2,  34.3277, 2,    211.3, 1,    220.8, 2,    20.57, 2,    28.48, 2,     0.01, 2,     1.96, 2, -999.000, 9, -999.000, 9, -999.000, 9,   -999.0, 9,   -999.0, 9, -999.0000, 9,   -999.00, -999.000, 1, -999.000,   -999.0, 9,   -999.0,  -999.00, 9,   -999.0,   4.9152, 27.1519,   4.9805, 2, 803.8, 2, 220.14, 2, 0.16, 0.11, 0.01, 0.01, -999, 9,     0.33, 2, 0.11, -999, 1, -999
49NZ20031106, A10, 44, 1, 24, 12024, 2, 20031118, 2023, -29.9948, -21.6237, 4819,    900.5, 2,   4.2428, 2,  34.3148, 2,  34.3142, 2,    207.9, 1,    217.5, 2,    27.32, 2,    30.13, 2,     0.01, 2,     2.07, 2, -999.000, 9, -999.000, 9, -999.000, 9,   -999.0, 9,   -999.0, 9, -999.0000, 9,   -999.00, -999.000, 9, -999.000,   -999.0, 9,   -999.0,  -999.00, 9,   -999.0,   4.1739, 27.2233,   4.2430, 2, 902.2, 2, 220.27, 2, 0.18, 0.12, 0.01, 0.02, -999, 9,  -999.00, 9, -999, -999, 9, -999
49NZ20031106, A10, 44, 1, 23, 12023, 2, 20031118, 2023, -29.9948, -21.6237, 4819,   1001.7, 2,   3.7261, 2,  34.3387, 2,  34.3383, 2,    200.5, 1,    209.6, 2,    34.97, 2,    31.50, 2,     0.00, 2,     2.17, 2, -999.000, 9, -999.000, 9, -999.000, 9,   -999.0, 9,   -999.0, 9, -999.0000, 9,   -999.00, -999.000, 1, -999.000,   -999.0, 9,   -999.0,  -999.00, 9,   -999.0,   3.6527, 27.2956,   3.7265, 2, 1002, 2, 210.33, 2, 0.2, 0.12, 0.01, 0.02, -999, 9,  -999.00, 1, -999, -999, 1, -999
49NZ20031106, A10, 44, 1, 3, 12039, 2, 20031118, 2023, -29.9948, -21.6237, 4819,   1001.9, 2,   3.7246, 2,  34.3387, 2, -999.0000, 9,    200.4, 1,   -999.0, 9,  -999.00, 9,  -999.00, 9,  -999.00, 9,  -999.00, 9, -999.000, 9, -999.000, 9, -999.000, 9,   -999.0, 9,   -999.0, 9, -999.0000, 9,   -999.00, -999.000, 1, -999.000,   -999.0, 9,   -999.0,  -999.00, 9,   -999.0,   3.6512, 27.2959,   3.7230, 2, 1002.2, 2, 210.3, 2, -999, -999, -999, -999, -999, 9,  -999.00, 9, -999, -999, 9, -999
49NZ20031106, A10, 44, 1, 22, 12022, 2, 20031118, 2023, -29.9948, -21.6237, 4819,   1200.3, 2,   3.1813, 2,  34.4442, 2,  34.4443, 2,    184.4, 1,    193.0, 2,    48.30, 2,    32.78, 2,     0.00, 2,     2.26, 2, -999.000, 9, -999.000, 9, -999.000, 9,   -999.0, 9,   -999.0, 9, -999.0000, 9,   -999.00, -999.000, 1, -999.000,   -999.0, 9,   -999.0,  -999.00, 9,   -999.0,   3.0964, 27.4331,   3.1815, 2, 1200.1, 2, 193.65, 2, 0.23, 0.12, 0.01, 0.02, -999, 9,  -999.00, 5, -999, -999, 1, -999
49NZ20031106, A10, 44, 1, 21, 12015, 2, 20031118, 2023, -29.9948, -21.6237, 4819,   1400.6, 2,   2.9116, 2,  34.5787, 2,  34.5793, 2,    180.7, 1,    189.0, 2,    55.09, 2,    31.78, 2,     0.01, 2,     2.19, 2, -999.000, 9, -999.000, 9, -999.000, 9,   -999.0, 9,   -999.0, 9, -999.0000, 9,   -999.00, -999.000, 1, -999.000,   -999.0, 9,   -999.0,  -999.00, 9,   -999.0,   2.8129, 27.5663,   2.9116, 2, 1401.8, 2, 189.34, 2, 0.24, 0.12, 0.01, 0.02, -999, 9,     0.04, 2, 0.02, -999, 1, -999
49NZ20031106, A10, 44, 1, 20, 12020, 2, 20031118, 2023, -29.9948, -21.6237, 4819,   1601.5, 2,   2.8294, 2,  34.6819, 2,  34.6820, 2,    187.3, 1,    196.3, 2,    54.86, 2,    29.87, 2,     0.00, 2,     2.05, 2, -999.000, 9, -999.000, 9, -999.000, 9,   -999.0, 9,   -999.0, 9, -999.0000, 9,   -999.00, -999.000, 9, -999.000,   -999.0, 9,   -999.0,  -999.00, 9,   -999.0,   2.7148, 27.6577,   2.8293, 2, 1602.6, 2, 195.55, 2, 0.24, 0.12, 0.01, 0.02, -999, 9,  -999.00, 9, -999, -999, 9, -999
49NZ20031106, A10, 44, 1, 19, 12019, 2, 20031118, 2023, -29.9948, -21.6237, 4819,   1800.1, 2,   2.7651, 2,  34.7537, 2,  34.7537, 2,    197.6, 1,    207.2, 2,    52.43, 2,    27.79, 2,     0.01, 2,     1.90, 2, -999.000, 9, -999.000, 9, -999.000, 9,   -999.0, 9,   -999.0, 9, -999.0000, 9,   -999.00, -999.000, 9, -999.000,   -999.0, 9,   -999.0,  -999.00, 9,   -999.0,   2.6342, 27.7221,   2.7650, 2, 1800.6, 2, 206.36, 2, 0.23, 0.11, 0.01, 0.01, -999, 9,  -999.00, 9, -999, -999, 9, -999
49NZ20031106, A10, 44, 1, 18, 12018, 2, 20031118, 2023, -29.9948, -21.6237, 4819,   1999.7, 2,   2.7084, 2,  34.8059, 2,  34.8058, 2,    209.0, 1,    219.2, 2,    49.10, 2,    25.97, 2,     0.00, 2,     1.77, 2, -999.000, 9, -999.000, 9, -999.000, 9,   -999.0, 9,   -999.0, 9, -999.0000, 9,   -999.00, -999.000, 1, -999.000,   -999.0, 9,   -999.0,  -999.00, 9,   -999.0,   2.5607, 27.7703,   2.7083, 2, 2000.3, 2, 218.25, 2, 0.23, 0.11, 0.01, 0.01, -999, 9,  -999.00, 1, -999, -999, 1, -999
49NZ20031106, A10, 44, 1, 17, 12017, 2, 20031118, 2023, -29.9948, -21.6237, 4819,   2200.7, 2,   2.7158, 2,  34.8436, 2,  34.8436, 2,    218.2, 1,    229.1, 2,    44.92, 2,    24.39, 2,     0.01, 2,     1.66, 2, -999.000, 9, -999.000, 9, -999.000, 9,   -999.0, 9,   -999.0, 9, -999.0000, 9,   -999.00, -999.000, 9, -999.000,   -999.0, 9,   -999.0,  -999.00, 9,   -999.0,   2.5496, 27.8014,   2.7154, 2, 2201.2, 2, 227.89, 2, 0.22, 0.1, 0.01, 0.01, -999, 9,  -999.00, 9, -999, -999, 9, -999
49NZ20031106, A10, 44, 1, 16, 12016, 2, 20031118, 2023, -29.9948, -21.6237, 4819,   2400.9, 2,   2.7055, 2,  34.8674, 2,  34.8672, 2,    224.5, 1,    236.0, 2,    42.22, 2,    23.34, 2,     0.00, 2,     1.59, 2, -999.000, 9, -999.000, 9, -999.000, 9,   -999.0, 9,   -999.0, 9, -999.0000, 9,   -999.00, -999.000, 1, -999.000,   -999.0, 9,   -999.0,  -999.00, 9,   -999.0,   2.5207, 27.8229,   2.7055, 2, 2401.8, 2, 234.65, 2, 0.21, 0.1, 0.01, 0.01, -999, 9,  -999.00, 1, -999, -999, 1, -999
49NZ20031106, A10, 44, 1, 15, 12012, 2, 20031118, 2023, -29.9948, -21.6237, 4819,   2600.9, 2,   2.7266, 2,  34.8857, 2,  34.8861, 2,    229.6, 1,    241.5, 2,    39.24, 2,    22.48, 2,     0.01, 2,     1.53, 2, -999.000, 9, -999.000, 9, -999.000, 9,   -999.0, 9,   -999.0, 9, -999.0000, 9,   -999.00, -999.000, 9, -999.000,   -999.0, 9,   -999.0,  -999.00, 9,   -999.0,   2.5221, 27.8376,   2.7265, 2, 2601.4, 2, 240.66, 2, 0.21, 0.1, 0.01, 0.01, -999, 9,  -999.00, 9, -999, -999, 9, -999
49NZ20031106, A10, 44, 1, 14, 12014, 2, 20031118, 2023, -29.9948, -21.6237, 4819,   2801.6, 2,   2.7175, 2,  34.8971, 2,  34.8975, 2,    233.2, 1,    245.2, 2,    37.51, 2,    21.89, 2,     0.00, 2,     1.49, 2, -999.000, 9, -999.000, 9, -999.000, 9,   -999.0, 9,   -999.0, 9, -999.0000, 9,   -999.00, -999.000, 9, -999.000,   -999.0, 9,   -999.0,  -999.00, 9,   -999.0,   2.4932, 27.8493,   2.7174, 2, 2802, 2, 244.69, 2, 0.2, 0.09, 0.01, 0.01, -999, 9,  -999.00, 9, -999, -999, 9, -999
49NZ20031106, A10, 44, 1, 13, 12013, 2, 20031118, 2023, -29.9948, -21.6237, 4819,   3001.1, 2,   2.6670, 2,  34.9030, 2,  34.9027, 2,    236.1, 1,    248.3, 2,    37.21, 2,    21.49, 2,     0.00, 2,     1.46, 2, -999.000, 9, -999.000, 9, -999.000, 9,   -999.0, 9,   -999.0, 9, -999.0000, 9,   -999.00, -999.000, 1, -999.000,   -999.0, 9,   -999.0,  -999.00, 9,   -999.0,   2.4235, 27.86,   2.6670, 2, 3001.4, 2, 248.19, 2, 0.2, 0.09, 0.01, 0.01, -999, 9,     0.02, 2, 0.03, -999, 1, -999
49NZ20031106, A10, 44, 1, 12, 12048, 2, 20031118, 2023, -29.9948, -21.6237, 4819,   3250.8, 2,   2.5384, 2,  34.8958, 2,  34.8955, 2,    236.5, 1,    248.6, 2,    40.62, 2,    21.77, 2,     0.00, 2,     1.48, 2, -999.000, 9, -999.000, 9, -999.000, 9,   -999.0, 9,   -999.0, 9, -999.0000, 9,   -999.00, -999.000, 9, -999.000,   -999.0, 9,   -999.0,  -999.00, 9,   -999.0,   2.2718, 27.8668,   2.5386, 2, 3250.7, 2, 248.59, 2, 0.21, 0.09, 0.01, 0.01, -999, 9,  -999.00, 9, -999, -999, 9, -999
49NZ20031106, A10, 44, 1, 11, 12047, 2, 20031118, 2023, -29.9948, -21.6237, 4819,   3501.4, 2,   2.2703, 2,  34.8731, 2,  34.8731, 2,    234.6, 1,    246.5, 2,    49.43, 2,    22.80, 2,     0.00, 2,     1.55, 2, -999.000, 9, -999.000, 9, -999.000, 9,   -999.0, 9,   -999.0, 9, -999.0000, 9,   -999.00, -999.000, 1, -999.000,   -999.0, 9,   -999.0,  -999.00, 9,   -999.0,   1.9837, 27.8724,   2.2702, 2, 3501.1, 2, 246.81, 2, 0.23, 0.1, 0.01, 0.01, -999, 9,     0.05, 2, 0.02, -999, 1, -999
49NZ20031106, A10, 44, 1, 10, 12046, 2, 20031118, 2023, -29.9948, -21.6237, 4819,   3752.1, 2,   1.9010, 2,  34.8353, 2,  34.8354, 2,    229.4, 1,    240.6, 2,    63.78, 2,    24.77, 2,     0.00, 2,     1.70, 2, -999.000, 9, -999.000, 9, -999.000, 9,   -999.0, 9,   -999.0, 9, -999.0000, 9,   -999.00, -999.000, 9, -999.000,   -999.0, 9,   -999.0,  -999.00, 9,   -999.0,   1.5971, 27.8721,   1.9009, 2, 3751.8, 2, 240.71, 2, 0.26, 0.1, 0.01, 0.01, -999, 9,  -999.00, 9, -999, -999, 9, -999
49NZ20031106, A10, 44, 1, 9, 12045, 2, 20031118, 2023, -29.9948, -21.6237, 4819,   3998.3, 2,   1.5316, 2,  34.7943, 2,  34.7940, 2,    222.9, 1,    233.2, 2,    79.81, 2,    26.99, 2,     0.00, 2,     1.85, 2, -999.000, 9, -999.000, 9, -999.000, 9,   -999.0, 9,   -999.0, 9, -999.0000, 9,   -999.00, -999.000, 1, -999.000,   -999.0, 9,   -999.0,  -999.00, 9,   -999.0,   1.2113, 27.867,   1.5316, 2, 3998.2, 2, 233.72, 2, 0.29, 0.11, 0.01, 0.01, -999, 9,     0.02, 2, 0.02, -999, 1, -999
49NZ20031106, A10, 44, 1, 8, 12044, 2, 20031118, 2023, -29.9948, -21.6237, 4819,   4249.9, 2,   1.3227, 2,  34.7685, 2,  34.7685, 2,    219.1, 1,    228.2, 2,    89.63, 2,    28.40, 2,     0.00, 2,     1.95, 2, -999.000, 9, -999.000, 9, -999.000, 9,   -999.0, 9,   -999.0, 9, -999.0000, 9,   -999.00, -999.000, 9, -999.000,   -999.0, 9,   -999.0,  -999.00, 9,   -999.0,   0.9809, 27.862,   1.3227, 2, 4249.9, 2, 228.29, 2, 0.32, 0.11, 0.01, 0.01, -999, 9,  -999.00, 9, -999, -999, 9, -999
49NZ20031106, A10, 44, 1, 7, 12043, 2, 20031118, 2023, -29.9948, -21.6237, 4819,   4501.1, 2,   1.2560, 2,  34.7591, 2,  34.7590, 2,    218.8, 1,    226.6, 2,    93.34, 2,    28.89, 2,     0.00, 2,     1.99, 2, -999.000, 9, -999.000, 9, -999.000, 9,   -999.0, 9,   -999.0, 9, -999.0000, 9,   -999.00, -999.000, 9, -999.000,   -999.0, 9,   -999.0,  -999.00, 9,   -999.0,   0.8880, 27.8605,   1.2560, 2, 4501.1, 2, 226.57, 2, 0.32, 0.11, 0.01, 0.02, -999, 9,  -999.00, 9, -999, -999, 9, -999
49NZ20031106, A10, 44, 1, 6, 12042, 2, 20031118, 2023, -29.9948, -21.6237, 4819,   4750.2, 2,   1.2443, 2,  34.7555, 2,  34.7557, 2,    219.9, 1,    226.4, 2,    94.59, 2,    29.07, 2,     0.01, 2,     2.00, 2, -999.000, 9, -999.000, 9, -999.000, 9,   -999.0, 9,   -999.0, 9, -999.0000, 9,   -999.00, -999.000, 9, -999.000,   -999.0, 9,   -999.0,  -999.00, 9,   -999.0,   0.8479, 27.8602,   1.2443, 2, 4750.3, 2, 226.26, 2, 0.33, 0.11, 0.01, 0.02, -999, 9,  -999.00, 9, -999, -999, 9, -999
49NZ20031106, A10, 44, 1, 1, 12037, 2, 20031118, 2023, -29.9948, -21.6237, 4819,   4879.5, 2,   1.2594, 2,  34.7553, 2, -999.0000, 9,    221.1, 1,   -999.0, 9,  -999.00, 9,  -999.00, 9,  -999.00, 9,  -999.00, 9, -999.000, 9, -999.000, 9, -999.000, 9,   -999.0, 9,   -999.0, 9, -999.0000, 9,   -999.00, -999.000, 9, -999.000,   -999.0, 9,   -999.0,  -999.00, 9,   -999.0,   0.8472, 27.8603,   1.2594, 2, 4879.5, 2, 226.15, 2, -999, -999, -999, -999, -999, 9,  -999.00, 9, -999, -999, 9, -999
49NZ20031106, A10, 44, 1, 5, 12041, 2, 20031118, 2023, -29.9948, -21.6237, 4819,   4879.6, 2,   1.2593, 2,  34.7553, 2,  34.7557, 2,    221.0, 1,    226.3, 2,    94.73, 2,    29.07, 2,     0.00, 2,     2.01, 2, -999.000, 9, -999.000, 9, -999.000, 9,   -999.0, 9,   -999.0, 9, -999.0000, 9,   -999.00, -999.000, 1, -999.000,   -999.0, 9,   -999.0,  -999.00, 9,   -999.0,   0.8471, 27.8602,   1.2594, 2, 4879.6, 2, 226.15, 2, 0.33, 0.11, 0.01, 0.02, -999, 9,     0.02, 2, 0.02, -999, 1, -999