BOTTLE,20220818CCHSIOAMB
EXPOCODE,SECT_ID,STNNBR,CASTNO,SAMPNO,BTLNBR,BTLNBR_FLAG_W,DATE,TIME,LATITUDE,LONGITUDE,DEPTH,CTDPRS,CTDPRS_FLAG_W,CTDTMP,CTDTMP_FLAG_W,CTDSAL,CTDSAL_FLAG_W,SALNTY,SALNTY_FLAG_W,CTDOXY,CTDOXY_FLAG_W,OXYGEN,OXYGEN_FLAG_W,SILCAT,SILCAT_FLAG_W,NITRAT,NITRAT_FLAG_W,NITRIT,NITRIT_FLAG_W,PHSPHT,PHSPHT_FLAG_W,CFC-11,CFC-11_FLAG_W,CFC-12,CFC-12_FLAG_W,CFC113,CFC113_FLAG_W,TCARBN,TCARBN_FLAG_W,ALKALI,ALKALI_FLAG_W,PH_TOT,PH_TOT_FLAG_W,PH_TMP,TRITUM,TRITUM_FLAG_W,TRITER,DELC14,DELC14_FLAG_W,C14ERR,DELC13,DELC13_FLAG_W,C13ERR,THETA,SIG0,SBE35,SBE35_FLAG_W,DWNPRS,DWNPRS_FLAG_W,DWNOXY,DWNOXY_FLAG_W,SILUNC,NRAUNC,NRIUNC,PHPUNC,TOC,TOC_FLAG_W,CS-137,CS-137_FLAG_W,CS137ER,PLUTO,PLUTO_FLAG_W,PLUTOER
,,,,,,,,,,,METERS,DBAR,,ITS-90,,PSS-78,,PSS-78,,UMOL/KG,,UMOL/KG,,UMOL/KG,,UMOL/KG,,UMOL/KG,,UMOL/KG,,PMOL/KG,,PMOL/KG,,PMOL/KG,,UMOL/KG,,UMOL/KG,,,,DEG C,TU,,TU,/MILLE,,/MILLE,/MILLE,,/MILLE,DEG C,KG/M^3,ITS-90,,DBAR,,UMOL/KG,,UMOL/KG,UMOL/KG,UMOL/KG,UMOL/KG,UMOL/KG,,BQ/M^3,,BQ/M^3,MBQ/M^3,,MBQ/M^3
49NZ20031106, A10, 625, 1, 36, 12048, 2, 20031107, 1721, -27.8542, -46.8490, 761,     10.7, 2,  22.5213, 2,  36.1867, 2,  36.1855, 2,    205.0, 1,    216.1, 2,     1.14, 2,     0.05, 2,     0.01, 2,     0.13, 3,    2.059, 2,    1.166, 2,    0.341, 4,   2055.8, 2,   2379.9, 2,    8.0335, 2,     25.00, -999.000, 9, -999.000,   -999.0, 9,   -999.0,  -999.00, 9,   -999.0,  22.5191, 24.9748,  22.5210, 2, 8.5, 2, 216.67, 2, 0.12, 0.03, 0.01, 0.02, -999, 9,  -999.00, 9, -999, -999, 9, -999
49NZ20031106, A10, 625, 1, 35, 12047, 2, 20031107, 1721, -27.8542, -46.8490, 761,     50.6, 2,  22.0780, 2,  36.6501, 2,  36.6516, 2,    207.0, 1,    217.8, 2,     0.94, 2,     0.02, 2,     0.01, 2,     0.12, 3,    2.099, 2,    1.181, 2,    0.304, 4,   2076.5, 6,   2400.3, 2,    8.0374, 2,     25.00, -999.000, 9, -999.000,   -999.0, 9,   -999.0,  -999.00, 9,   -999.0,  22.0679, 25.4557,  22.0693, 2, 53.3, 2, 218.57, 2, 0.12, 0.03, 0.01, 0.02, -999, 9,  -999.00, 9, -999, -999, 9, -999
49NZ20031106, A10, 625, 1, 22, 12034, 9, 20031107, 1721, -27.8542, -46.8490, 761,    101.2, 2,  19.4749, 2,  36.2555, 2, -999.0000, 9,    192.4, 1,   -999.0, 9,  -999.00, 9,  -999.00, 9,  -999.00, 9,  -999.00, 9, -999.000, 9, -999.000, 9, -999.000, 9,   -999.0, 9,   -999.0, 9, -999.0000, 9,   -999.00, -999.000, 9, -999.000,   -999.0, 9,   -999.0,  -999.00, 9,   -999.0,  19.4564, 25.8649,  19.4698, 2, 100.1, 2, 198.76, 2, -999, -999, -999, -999, -999, 9,  -999.00, 9, -999, -999, 9, -999
49NZ20031106, A10, 625, 1, 12, 12024, 9, 20031107, 1721, -27.8542, -46.8490, 761,    101.2, 2,  19.4002, 2,  36.2426, 2, -999.0000, 9,    192.0, 1,   -999.0, 9,  -999.00, 9,  -999.00, 9,  -999.00, 9,  -999.00, 9, -999.000, 9, -999.000, 9, -999.000, 9,   -999.0, 9,   -999.0, 9, -999.0000, 9,   -999.00, -999.000, 9, -999.000,   -999.0, 9,   -999.0,  -999.00, 9,   -999.0,  19.3818, 25.8738,  19.3912, 2, 100.7, 2, 198.91, 2, -999, -999, -999, -999, -999, 9,  -999.00, 9, -999, -999, 9, -999
49NZ20031106, A10, 625, 1, 24, 12036, 9, 20031107, 1721, -27.8542, -46.8490, 761,    101.3, 2,  19.4414, 2,  36.2504, 2, -999.0000, 9,    192.1, 1,   -999.0, 9,  -999.00, 9,  -999.00, 9,  -999.00, 9,  -999.00, 9, -999.000, 9, -999.000, 9, -999.000, 9,   -999.0, 9,   -999.0, 9, -999.0000, 9,   -999.00, -999.000, 9, -999.000,   -999.0, 9,   -999.0,  -999.00, 9,   -999.0,  19.4229, 25.869,  19.4278, 2, 100.4, 2, 198.84, 2, -999, -999, -999, -999, -999, 9,  -999.00, 9, -999, -999, 9, -999
49NZ20031106, A10, 625, 1, 6, 12018, 9, 20031107, 1721, -27.8542, -46.8490, 761,    101.3, 2,  19.4150, 2,  36.2451, 2, -999.0000, 9,    191.7, 1,   -999.0, 9,  -999.00, 9,  -999.00, 9,  -999.00, 9,  -999.00, 9, -999.000, 9, -999.000, 9, -999.000, 9,   -999.0, 9,   -999.0, 9, -999.0000, 9,   -999.00, -999.000, 9, -999.000,   -999.0, 9,   -999.0,  -999.00, 9,   -999.0,  19.3966, 25.8753,  19.3851, 2, 100.6, 2, 198.88, 2, -999, -999, -999, -999, -999, 9,  -999.00, 9, -999, -999, 9, -999
49NZ20031106, A10, 625, 1, 9, 12015, 9, 20031107, 1721, -27.8542, -46.8490, 761,    101.5, 2,  19.3726, 2,  36.2388, 2, -999.0000, 9,    191.8, 1,   -999.0, 9,  -999.00, 9,  -999.00, 9,  -999.00, 9,  -999.00, 9, -999.000, 9, -999.000, 9, -999.000, 9,   -999.0, 9,   -999.0, 9, -999.0000, 9,   -999.00, -999.000, 9, -999.000,   -999.0, 9,   -999.0,  -999.00, 9,   -999.0,  19.3541, 25.879,  19.3695, 2, 101.1, 2, 198.99, 2, -999, -999, -999, -999, -999, 9,  -999.00, 9, -999, -999, 9, -999
49NZ20031106, A10, 625, 1, 21, 12033, 9, 20031107, 1721, -27.8542, -46.8490, 761,    101.6, 2,  19.4290, 2,  36.2499, 2, -999.0000, 9,    192.2, 1,   -999.0, 9,  -999.00, 9,  -999.00, 9,  -999.00, 9,  -999.00, 9, -999.000, 9, -999.000, 9, -999.000, 9,   -999.0, 9,   -999.0, 9, -999.0000, 9,   -999.00, -999.000, 9, -999.000,   -999.0, 9,   -999.0,  -999.00, 9,   -999.0,  19.4105, 25.8703,  19.4533, 2, 100.7, 2, 198.9, 2, -999, -999, -999, -999, -999, 9,  -999.00, 9, -999, -999, 9, -999
49NZ20031106, A10, 625, 1, 20, 12032, 9, 20031107, 1721, -27.8542, -46.8490, 761,    101.6, 2,  19.4732, 2,  36.2545, 2, -999.0000, 9,    192.3, 1,   -999.0, 9,  -999.00, 9,  -999.00, 9,  -999.00, 9,  -999.00, 9, -999.000, 9, -999.000, 9, -999.000, 9,   -999.0, 9,   -999.0, 9, -999.0000, 9,   -999.00, -999.000, 9, -999.000,   -999.0, 9,   -999.0,  -999.00, 9,   -999.0,  19.4547, 25.8672,  19.4630, 2, 100.2, 2, 198.79, 2, -999, -999, -999, -999, -999, 9,  -999.00, 9, -999, -999, 9, -999
49NZ20031106, A10, 625, 1, 11, 12023, 9, 20031107, 1721, -27.8542, -46.8490, 761,    101.6, 2,  19.3787, 2,  36.2397, 2, -999.0000, 9,    191.8, 1,   -999.0, 9,  -999.00, 9,  -999.00, 9,  -999.00, 9,  -999.00, 9, -999.000, 9, -999.000, 9, -999.000, 9,   -999.0, 9,   -999.0, 9, -999.0000, 9,   -999.00, -999.000, 9, -999.000,   -999.0, 9,   -999.0,  -999.00, 9,   -999.0,  19.3602, 25.8782,  19.3704, 2, 101, 2, 198.98, 2, -999, -999, -999, -999, -999, 9,  -999.00, 9, -999, -999, 9, -999
49NZ20031106, A10, 625, 1, 8, 12020, 9, 20031107, 1721, -27.8542, -46.8490, 761,    101.6, 2,  19.3761, 2,  36.2395, 2, -999.0000, 9,    191.5, 1,   -999.0, 9,  -999.00, 9,  -999.00, 9,  -999.00, 9,  -999.00, 9, -999.000, 9, -999.000, 9, -999.000, 9,   -999.0, 9,   -999.0, 9, -999.0000, 9,   -999.00, -999.000, 9, -999.000,   -999.0, 9,   -999.0,  -999.00, 9,   -999.0,  19.3576, 25.8781,  19.3750, 2, 101.1, 2, 198.99, 2, -999, -999, -999, -999, -999, 9,  -999.00, 9, -999, -999, 9, -999
49NZ20031106, A10, 625, 1, 19, 12031, 9, 20031107, 1721, -27.8542, -46.8490, 761,    101.7, 2,  19.4648, 2,  36.2533, 2, -999.0000, 9,    192.5, 1,   -999.0, 9,  -999.00, 9,  -999.00, 9,  -999.00, 9,  -999.00, 9, -999.000, 9, -999.000, 9, -999.000, 9,   -999.0, 9,   -999.0, 9, -999.0000, 9,   -999.00, -999.000, 9, -999.000,   -999.0, 9,   -999.0,  -999.00, 9,   -999.0,  19.4462, 25.865,  19.4544, 2, 100.3, 2, 198.81, 2, -999, -999, -999, -999, -999, 9,  -999.00, 9, -999, -999, 9, -999
49NZ20031106, A10, 625, 1, 15, 12027, 9, 20031107, 1721, -27.8542, -46.8490, 761,    101.8, 2,  19.4011, 2,  36.2446, 2, -999.0000, 9,    191.7, 1,   -999.0, 9,  -999.00, 9,  -999.00, 9,  -999.00, 9,  -999.00, 9, -999.000, 9, -999.000, 9, -999.000, 9,   -999.0, 9,   -999.0, 9, -999.0000, 9,   -999.00, -999.000, 9, -999.000,   -999.0, 9,   -999.0,  -999.00, 9,   -999.0,  19.3826, 25.8767,  19.3968, 2, 101, 2, 198.96, 2, -999, -999, -999, -999, -999, 9,  -999.00, 9, -999, -999, 9, -999
49NZ20031106, A10, 625, 1, 14, 12026, 9, 20031107, 1721, -27.8542, -46.8490, 761,    101.8, 2,  19.3783, 2,  36.2406, 2, -999.0000, 9,    191.7, 1,   -999.0, 9,  -999.00, 9,  -999.00, 9,  -999.00, 9,  -999.00, 9, -999.000, 9, -999.000, 9, -999.000, 9,   -999.0, 9,   -999.0, 9, -999.0000, 9,   -999.00, -999.000, 9, -999.000,   -999.0, 9,   -999.0,  -999.00, 9,   -999.0,  19.3598, 25.8769,  19.3784, 2, 101.1, 2, 199, 2, -999, -999, -999, -999, -999, 9,  -999.00, 9, -999, -999, 9, -999
49NZ20031106, A10, 625, 1, 7, 12019, 9, 20031107, 1721, -27.8542, -46.8490, 761,    101.8, 2,  19.3779, 2,  36.2396, 2, -999.0000, 9,    192.1, 1,   -999.0, 9,  -999.00, 9,  -999.00, 9,  -999.00, 9,  -999.00, 9, -999.000, 9, -999.000, 9, -999.000, 9,   -999.0, 9,   -999.0, 9, -999.0000, 9,   -999.00, -999.000, 9, -999.000,   -999.0, 9,   -999.0,  -999.00, 9,   -999.0,  19.3594, 25.8773,  19.3854, 2, 101.1, 2, 198.99, 2, -999, -999, -999, -999, -999, 9,  -999.00, 9, -999, -999, 9, -999
49NZ20031106, A10, 625, 1, 5, 12017, 9, 20031107, 1721, -27.8542, -46.8490, 761,    101.8, 2,  19.3784, 2,  36.2398, 2, -999.0000, 9,    191.6, 1,   -999.0, 9,  -999.00, 9,  -999.00, 9,  -999.00, 9,  -999.00, 9, -999.000, 9, -999.000, 9, -999.000, 9,   -999.0, 9,   -999.0, 9, -999.0000, 9,   -999.00, -999.000, 9, -999.000,   -999.0, 9,   -999.0,  -999.00, 9,   -999.0,  19.3599, 25.8787,  19.3657, 2, 101.1, 2, 199, 2, -999, -999, -999, -999, -999, 9,  -999.00, 9, -999, -999, 9, -999
49NZ20031106, A10, 625, 1, 4, 12016, 9, 20031107, 1721, -27.8542, -46.8490, 761,    101.8, 2,  19.3818, 2,  36.2411, 2, -999.0000, 9,    191.6, 1,   -999.0, 9,  -999.00, 9,  -999.00, 9,  -999.00, 9,  -999.00, 9, -999.000, 9, -999.000, 9, -999.000, 9,   -999.0, 9,   -999.0, 9, -999.0000, 9,   -999.00, -999.000, 9, -999.000,   -999.0, 9,   -999.0,  -999.00, 9,   -999.0,  19.3633, 25.8777,  19.3798, 2, 101.1, 2, 199, 2, -999, -999, -999, -999, -999, 9,  -999.00, 9, -999, -999, 9, -999
49NZ20031106, A10, 625, 1, 17, 12029, 9, 20031107, 1721, -27.8542, -46.8490, 761,    101.9, 2,  19.4621, 2,  36.2527, 2, -999.0000, 9,    192.4, 1,   -999.0, 9,  -999.00, 9,  -999.00, 9,  -999.00, 9,  -999.00, 9, -999.000, 9, -999.000, 9, -999.000, 9,   -999.0, 9,   -999.0, 9, -999.0000, 9,   -999.00, -999.000, 9, -999.000,   -999.0, 9,   -999.0,  -999.00, 9,   -999.0,  19.4435, 25.8677,  19.4584, 2, 100.3, 2, 198.82, 2, -999, -999, -999, -999, -999, 9,  -999.00, 9, -999, -999, 9, -999
49NZ20031106, A10, 625, 1, 16, 12028, 9, 20031107, 1721, -27.8542, -46.8490, 761,    101.9, 2,  19.4239, 2,  36.2477, 2, -999.0000, 9,    192.4, 1,   -999.0, 9,  -999.00, 9,  -999.00, 9,  -999.00, 9,  -999.00, 9, -999.000, 9, -999.000, 9, -999.000, 9,   -999.0, 9,   -999.0, 9, -999.0000, 9,   -999.00, -999.000, 9, -999.000,   -999.0, 9,   -999.0,  -999.00, 9,   -999.0,  19.4053, 25.8723,  19.4242, 2, 100.8, 2, 198.92, 2, -999, -999, -999, -999, -999, 9,  -999.00, 9, -999, -999, 9, -999
49NZ20031106, A10, 625, 1, 13, 12025, 9, 20031107, 1721, -27.8542, -46.8490, 761,    101.9, 2,  19.3802, 2,  36.2400, 2, -999.0000, 9,    191.8, 1,   -999.0, 9,  -999.00, 9,  -999.00, 9,  -999.00, 9,  -999.00, 9, -999.000, 9, -999.000, 9, -999.000, 9,   -999.0, 9,   -999.0, 9, -999.0000, 9,   -999.00, -999.000, 9, -999.000,   -999.0, 9,   -999.0,  -999.00, 9,   -999.0,  19.3617, 25.877,  19.3823, 2, 101.1, 2, 199, 2, -999, -999, -999, -999, -999, 9,  -999.00, 9, -999, -999, 9, -999
49NZ20031106, A10, 625, 1, 2, 12014, 9, 20031107, 1721, -27.8542, -46.8490, 761,    101.9, 2,  19.3999, 2,  36.2440, 2, -999.0000, 9,    191.7, 1,   -999.0, 9,  -999.00, 9,  -999.00, 9,  -999.00, 9,  -999.00, 9, -999.000, 9, -999.000, 9, -999.000, 9,   -999.0, 9,   -999.0, 9, -999.0000, 9,   -999.00, -999.000, 9, -999.000,   -999.0, 9,   -999.0,  -999.00, 9,   -999.0,  19.3814, 25.8763,  19.3920, 2, 101, 2, 198.97, 2, -999, -999, -999, -999, -999, 9,  -999.00, 9, -999, -999, 9, -999
49NZ20031106, A10, 625, 1, 18, 12030, 9, 20031107, 1721, -27.8542, -46.8490, 761,    102.0, 2,  19.4442, 2,  36.2507, 2, -999.0000, 9,    192.8, 1,   -999.0, 9,  -999.00, 9,  -999.00, 9,  -999.00, 9,  -999.00, 9, -999.000, 9, -999.000, 9, -999.000, 9,   -999.0, 9,   -999.0, 9, -999.0000, 9,   -999.00, -999.000, 9, -999.000,   -999.0, 9,   -999.0,  -999.00, 9,   -999.0,  19.4256, 25.8693,  19.4367, 2, 100.6, 2, 198.88, 2, -999, -999, -999, -999, -999, 9,  -999.00, 9, -999, -999, 9, -999
49NZ20031106, A10, 625, 1, 3, 12012, 9, 20031107, 1721, -27.8542, -46.8490, 761,    102.0, 2,  19.3819, 2,  36.2411, 2, -999.0000, 9,    191.8, 1,   -999.0, 9,  -999.00, 9,  -999.00, 9,  -999.00, 9,  -999.00, 9, -999.000, 9, -999.000, 9, -999.000, 9,   -999.0, 9,   -999.0, 9, -999.0000, 9,   -999.00, -999.000, 9, -999.000,   -999.0, 9,   -999.0,  -999.00, 9,   -999.0,  19.3633, 25.8776,  19.3822, 2, 101.1, 2, 199, 2, -999, -999, -999, -999, -999, 9,  -999.00, 9, -999, -999, 9, -999
49NZ20031106, A10, 625, 1, 1, 12013, 9, 20031107, 1721, -27.8542, -46.8490, 761,    102.1, 2,  19.3836, 2,  36.2413, 2, -999.0000, 9,    191.8, 1,   -999.0, 9,  -999.00, 9,  -999.00, 9,  -999.00, 9,  -999.00, 9, -999.000, 9, -999.000, 9, -999.000, 9,   -999.0, 9,   -999.0, 9, -999.0000, 9,   -999.00, -999.000, 9, -999.000,   -999.0, 9,   -999.0,  -999.00, 9,   -999.0,  19.3650, 25.8775,  19.3839, 2, 101.1, 2, 199.01, 2, -999, -999, -999, -999, -999, 9,  -999.00, 9, -999, -999, 9, -999
49NZ20031106, A10, 625, 1, 34, 12046, 2, 20031107, 1721, -27.8542, -46.8490, 761,    102.2, 2,  19.3856, 2,  36.2413, 2,  36.2477, 2,    191.8, 1,    201.9, 2,     1.51, 2,     1.86, 2,     0.11, 2,     0.26, 3,    2.379, 2,    1.346, 2,    0.143, 4,   2093.9, 2,   2374.7, 6,    7.9746, 2,     25.00, -999.000, 9, -999.000,   -999.0, 9,   -999.0,  -999.00, 9,   -999.0,  19.3670, 25.877,  19.3838, 2, 101.1, 2, 199.01, 2, 0.12, 0.04, 0.01, 0.01, -999, 9,  -999.00, 9, -999, -999, 9, -999
49NZ20031106, A10, 625, 1, 10, 12022, 9, 20031107, 1721, -27.8542, -46.8490, 761,    102.3, 2,  19.3471, 2,  36.2334, 2, -999.0000, 9,    191.9, 1,   -999.0, 9,  -999.00, 9,  -999.00, 9,  -999.00, 9,  -999.00, 9, -999.000, 9, -999.000, 9, -999.000, 9,   -999.0, 9,   -999.0, 9, -999.0000, 9,   -999.00, -999.000, 9, -999.000,   -999.0, 9,   -999.0,  -999.00, 9,   -999.0,  19.3285, 25.8803,  19.3592, 2, 101.3, 2, 199.07, 2, -999, -999, -999, -999, -999, 9,  -999.00, 9, -999, -999, 9, -999
49NZ20031106, A10, 625, 1, 33, 12045, 2, 20031107, 1721, -27.8542, -46.8490, 761,    148.8, 2,  16.7293, 2,  35.7789, 2,  35.7878, 3,    186.7, 1,    195.6, 2,     2.60, 2,     4.98, 2,     0.02, 2,     0.48, 3,    2.615, 2,    1.437, 2,    0.070, 4,   2106.5, 2,   2348.4, 2,    7.9142, 6,     25.00, -999.000, 9, -999.000,   -999.0, 9,   -999.0,  -999.00, 9,   -999.0,  16.7049, 26.1841,  16.7196, 2, 146.5, 2, 194.79, 2, 0.12, 0.05, 0.01, 0.01, -999, 9,  -999.00, 9, -999, -999, 9, -999
49NZ20031106, A10, 625, 1, 32, 12044, 2, 20031107, 1721, -27.8542, -46.8490, 761,    200.8, 2,  14.5939, 2,  35.4250, 2,  35.4256, 2,    195.3, 1,    203.4, 2,     2.64, 2,     7.11, 2,     0.01, 2,     0.62, 3,    2.870, 2,    1.533, 2,    0.040, 4,   2105.9, 2,   2325.8, 2,    7.8787, 2,     25.00, -999.000, 9, -999.000,   -999.0, 9,   -999.0,  -999.00, 9,   -999.0,  14.5639, 26.3951,  14.5925, 2, 199.5, 2, 203.4, 2, 0.12, 0.05, 0.01, 0.01, -999, 9,  -999.00, 9, -999, -999, 9, -999
49NZ20031106, A10, 625, 1, 31, 12043, 2, 20031107, 1721, -27.8542, -46.8490, 761,    250.5, 2,  13.6065, 2,  35.2898, 2,  35.2907, 2,    196.2, 1,    204.4, 2,     3.24, 2,     9.19, 2,     0.01, 2,     0.75, 3,    2.737, 2,    1.456, 2,    0.044, 4,   2111.3, 2,   2324.3, 2,    7.8520, 2,     25.00, -999.000, 9, -999.000,   -999.0, 9,   -999.0,  -999.00, 9,   -999.0,  13.5708, 26.5004,  13.6073, 2, 249.3, 2, 204.25, 2, 0.13, 0.06, 0.01, 0.01, -999, 9,  -999.00, 9, -999, -999, 9, -999
49NZ20031106, A10, 625, 1, 30, 12042, 2, 20031107, 1721, -27.8542, -46.8490, 761,    302.3, 2,  12.6884, 2,  35.1717, 2,  35.1714, 2,    198.5, 1,    206.7, 2,     3.74, 2,    10.97, 2,     0.01, 2,     0.86, 3,    2.848, 2,    1.541, 2,    0.052, 4,   2118.2, 2,   2315.8, 2,    7.8306, 2,     25.00, -999.000, 9, -999.000,   -999.0, 9,   -999.0,  -999.00, 9,   -999.0,  12.6473, 26.5956,  12.6880, 2, 303, 2, 207.95, 2, 0.13, 0.06, 0.01, 0.01, -999, 9,  -999.00, 9, -999, -999, 9, -999
49NZ20031106, A10, 625, 1, 29, 12041, 2, 20031107, 1721, -27.8542, -46.8490, 761,    401.4, 2,  10.5564, 2,  34.8832, 2,  34.8822, 2,    194.2, 1,    201.0, 2,     6.44, 2,    16.47, 2,     0.01, 2,     1.23, 3,    2.759, 2,    1.412, 2,    0.072, 4,   2135.3, 2,   2301.4, 2,    7.7662, 2,     25.00, -999.000, 9, -999.000,   -999.0, 9,   -999.0,  -999.00, 9,   -999.0,  10.5078, 26.7712,  10.5565, 2, 401.8, 2, 201.42, 2, 0.13, 0.08, 0.01, 0.01, -999, 9,  -999.00, 9, -999, -999, 9, -999
49NZ20031106, A10, 625, 1, 28, 12040, 2, 20031107, 1721, -27.8542, -46.8490, 761,    501.4, 2,   8.4459, 2,  34.6282, 2,  34.6288, 2,    200.2, 1,    206.5, 2,     9.27, 2,    21.06, 2,     0.00, 2,     1.52, 3,    2.788, 2,    1.367, 2,    0.102, 4,   2147.9, 2,   2288.7, 2,    7.7196, 2,     25.00, -999.000, 9, -999.000,   -999.0, 9,   -999.0,  -999.00, 9,   -999.0,   8.3928, 26.92,   8.4508, 2, 503, 2, 203.86, 2, 0.14, 0.09, 0.01, 0.01, -999, 9,  -999.00, 9, -999, -999, 9, -999
49NZ20031106, A10, 625, 1, 27, 12039, 2, 20031107, 1721, -27.8542, -46.8490, 761,    599.9, 2,   6.6063, 2,  34.4329, 2,  34.4339, 2,    212.4, 1,    218.7, 2,    12.42, 2,    24.57, 2,     0.00, 2,     1.74, 3,    2.813, 2,    1.353, 2,    0.129, 4,   2156.6, 2,   2284.9, 2,    7.6895, 2,     25.00, -999.000, 9, -999.000,   -999.0, 9,   -999.0,  -999.00, 9,   -999.0,   6.5508, 27.0319,   6.6050, 2, 600.4, 2, 218.91, 2, 0.15, 0.1, 0.01, 0.01, -999, 9,  -999.00, 9, -999, -999, 9, -999
49NZ20031106, A10, 625, 1, 26, 12038, 2, 20031107, 1721, -27.8542, -46.8490, 761,    700.5, 2,   5.3773, 2,  34.3404, 2,  34.3413, 2,    218.6, 1,    224.9, 2,    17.14, 2,    27.05, 2,     0.01, 2,     1.91, 3,    2.635, 2,    1.256, 2,    0.129, 4,   2164.4, 6,   2283.9, 2,    7.6673, 2,     25.00, -999.000, 9, -999.000,   -999.0, 9,   -999.0,  -999.00, 9,   -999.0,   5.3186, 27.1145,   5.3764, 2, 700.4, 2, 224.91, 2, 0.16, 0.11, 0.01, 0.01, -999, 9,  -999.00, 9, -999, -999, 9, -999
49NZ20031106, A10, 625, 1, 23, 12035, 2, 20031107, 1721, -27.8542, -46.8490, 761,    700.9, 2,   5.3743, 2,  34.3403, 2,  34.3406, 2,    218.6, 1,    224.9, 2,    17.24, 2,    27.01, 2,     0.01, 2,     1.87, 3,    2.765, 2,    1.336, 2,    0.136, 4,   2165.1, 2,   2284.1, 2,    7.6711, 2,     25.00, -999.000, 9, -999.000,   -999.0, 9,   -999.0,  -999.00, 9,   -999.0,   5.3156, 27.1146,   5.3733, 2, 700.9, 2, 224.91, 2, 0.16, 0.11, 0.01, 0.01, -999, 9,  -999.00, 9, -999, -999, 9, -999
49NZ20031106, A10, 625, 1, 25, 12037, 2, 20031107, 1721, -27.8542, -46.8490, 761,    752.6, 2,   5.3200, 2,  34.3357, 2,  34.3371, 2,    219.0, 1,    225.2, 2,    17.50, 2,    27.18, 2,     0.01, 2,     1.91, 3,    2.697, 2,    1.299, 2,    0.142, 4,   2166.3, 2,   2283.2, 6,    7.6674, 2,     25.00, -999.000, 9, -999.000,   -999.0, 9,   -999.0,  -999.00, 9,   -999.0,   5.2570, 27.1186,   5.3186, 2, 752.7, 2, 225.16, 2, 0.16, 0.11, 0.01, 0.01, -999, 9,  -999.00, 9, -999, -999, 9, -999