BOTTLE,20220818CCHSIOAMB
EXPOCODE,SECT_ID,STNNBR,CASTNO,SAMPNO,BTLNBR,BTLNBR_FLAG_W,DATE,TIME,LATITUDE,LONGITUDE,DEPTH,CTDPRS,CTDPRS_FLAG_W,CTDTMP,CTDTMP_FLAG_W,CTDSAL,CTDSAL_FLAG_W,SALNTY,SALNTY_FLAG_W,CTDOXY,CTDOXY_FLAG_W,OXYGEN,OXYGEN_FLAG_W,SILCAT,SILCAT_FLAG_W,NITRAT,NITRAT_FLAG_W,NITRIT,NITRIT_FLAG_W,PHSPHT,PHSPHT_FLAG_W,CFC-11,CFC-11_FLAG_W,CFC-12,CFC-12_FLAG_W,CFC113,CFC113_FLAG_W,TCARBN,TCARBN_FLAG_W,ALKALI,ALKALI_FLAG_W,PH_TOT,PH_TOT_FLAG_W,PH_TMP,TRITUM,TRITUM_FLAG_W,TRITER,DELC14,DELC14_FLAG_W,C14ERR,DELC13,DELC13_FLAG_W,C13ERR,THETA,SIG0,SBE35,SBE35_FLAG_W,DWNPRS,DWNPRS_FLAG_W,DWNOXY,DWNOXY_FLAG_W,SILUNC,NRAUNC,NRIUNC,PHPUNC,TOC,TOC_FLAG_W,CS-137,CS-137_FLAG_W,CS137ER,PLUTO,PLUTO_FLAG_W,PLUTOER
,,,,,,,,,,,METERS,DBAR,,ITS-90,,PSS-78,,PSS-78,,UMOL/KG,,UMOL/KG,,UMOL/KG,,UMOL/KG,,UMOL/KG,,UMOL/KG,,PMOL/KG,,PMOL/KG,,PMOL/KG,,UMOL/KG,,UMOL/KG,,,,DEG C,TU,,TU,/MILLE,,/MILLE,/MILLE,,/MILLE,DEG C,KG/M^3,ITS-90,,DBAR,,UMOL/KG,,UMOL/KG,UMOL/KG,UMOL/KG,UMOL/KG,UMOL/KG,,BQ/M^3,,BQ/M^3,MBQ/M^3,,MBQ/M^3
49NZ20031106, A10, 83, 1, 36, 12024, 2, 20031129, 29, -29.7405, 5.9503, 5111,      9.5, 2,  18.6913, 2,  35.7498, 2,  35.7511, 2,    223.7, 1,    236.3, 2,     1.98, 2,     0.00, 2,     0.00, 2,     0.21, 2,    2.702, 2,    1.464, 2,    0.318, 4,   2060.0, 2,   2347.9, 2,    8.0011, 2,     25.00, -999.000, 9, -999.000,     71.0, 2,      3.8,     1.40, 2,      0.0,  18.6896, 25.6761,  18.6912, 2, 15.1, 2, 236.25, 2, 0.12, 0.03, 0.01, 0.02, -999, 1,  -999.00, 9, -999, -999, 9, -999
49NZ20031106, A10, 83, 1, 3, 12027, 9, 20031129, 29, -29.7405, 5.9503, 5111,      9.7, 2,  18.6901, 2,  35.7502, 2, -999.0000, 9,    223.8, 1,   -999.0, 9,  -999.00, 9,  -999.00, 9,  -999.00, 9,  -999.00, 9, -999.000, 9, -999.000, 9, -999.000, 9,   -999.0, 9,   -999.0, 9, -999.0000, 9,   -999.00, -999.000, 9, -999.000,   -999.0, 9,   -999.0,  -999.00, 9,   -999.0,  18.6884, 25.6768,  18.6896, 2, 15.4, 2, 236.21, 2, -999, -999, -999, -999, -999, 9,  -999.00, 9, -999, -999, 9, -999
49NZ20031106, A10, 83, 1, 35, 12023, 2, 20031129, 29, -29.7405, 5.9503, 5111,     50.8, 2,  18.2068, 2,  35.7462, 2,  35.7474, 2,    227.4, 1,    239.9, 2,     1.90, 2,    -0.02, 2,     0.00, 2,     0.21, 2,    2.755, 2,    1.520, 2,    0.351, 4,   2060.6, 6,   2339.2, 2,    7.9959, 2,     25.00, -999.000, 9, -999.000,     67.0, 2,      3.9,     1.40, 2,      0.0,  18.1980, 25.7968,  18.2066, 2, 47.7, 2, 239.86, 2, 0.12, 0.03, 0.01, 0.02, -999, 1,  -999.00, 9, -999, -999, 9, -999
49NZ20031106, A10, 83, 1, 34, 12022, 2, 20031129, 29, -29.7405, 5.9503, 5111,     99.5, 2,  16.4747, 2,  35.5926, 2,  35.5908, 2,    226.3, 1,    238.2, 2,     2.53, 2,     1.30, 2,     0.46, 2,     0.32, 2,    2.947, 2,    1.591, 2,    0.241, 4,   2069.5, 2,   2336.4, 6,    7.9727, 2,     25.00, -999.000, 9, -999.000,     62.0, 2,      3.8,     1.20, 2,      0.0,  16.4586, 26.0992,  16.4740, 2, 97.9, 2, 236.41, 2, 0.12, 0.04, 0, 0.01, -999, 1,  -999.00, 9, -999, -999, 9, -999
49NZ20031106, A10, 83, 1, 33, 12015, 2, 20031129, 29, -29.7405, 5.9503, 5111,    151.3, 2,  15.6114, 2,  35.4905, 2,  35.4900, 2,    211.6, 1,    222.6, 2,     2.91, 2,     4.43, 2,     0.02, 2,     0.47, 2,    2.980, 2,    1.602, 2,    0.239, 4,   2084.9, 2,   2329.5, 2,    7.9341, 6,     25.00, -999.000, 9, -999.000,     80.3, 2,      3.9,     1.09, 2,      0.0,  15.5878, 26.2207,  15.6115, 2, 153.1, 2, 219.85, 2, 0.13, 0.05, 0.01, 0.01, -999, 1,  -999.00, 9, -999, -999, 9, -999
49NZ20031106, A10, 83, 1, 32, 12020, 2, 20031129, 29, -29.7405, 5.9503, 5111,    201.5, 2,  14.3944, 2,  35.3432, 2,  35.3406, 2,    204.7, 1,    214.6, 2,     3.41, 2,     6.99, 2,     0.01, 2,     0.63, 2,    3.188, 2,    1.685, 2,    0.140, 4,   2100.4, 2,   2321.0, 2,    7.8920, 2,     25.00, -999.000, 9, -999.000,     79.2, 2,      3.7,     1.03, 6,      0.0,  14.3646, 26.3763,  14.3949, 2, 209, 2, 214.35, 2, 0.13, 0.05, 0.01, 0.01, -999, 1,  -999.00, 9, -999, -999, 9, -999
49NZ20031106, A10, 83, 1, 31, 12019, 2, 20031129, 29, -29.7405, 5.9503, 5111,    251.9, 2,  13.4447, 2,  35.2172, 2,  35.2194, 2,    202.5, 1,    212.3, 2,     3.86, 2,     8.88, 2,     0.00, 2,     0.74, 2,    3.308, 6,    1.719, 6,    0.122, 4,   2108.2, 2,   2313.3, 2,    7.8663, 2,     25.00, -999.000, 9, -999.000,     79.9, 2,      3.9,     1.03, 2,      0.0,  13.4091, 26.4777,  13.4448, 2, 256.2, 2, 213.28, 2, 0.13, 0.06, 0.01, 0.01, -999, 1,  -999.00, 9, -999, -999, 9, -999
49NZ20031106, A10, 83, 1, 30, 12018, 2, 20031129, 29, -29.7405, 5.9503, 5111,    302.5, 2,  12.6071, 2,  35.1158, 2,  35.1147, 2,    203.8, 1,    213.5, 4,     4.28, 2,    10.59, 2,     0.00, 2,     0.85, 2,    3.330, 2,    1.721, 2,    0.116, 4,   2114.9, 2,   2308.8, 2,    7.8461, 2,     25.00, -999.000, 9, -999.000,     86.2, 2,      3.8,     1.05, 2,      0.0,  12.5661, 26.5698,  12.6075, 2, 307.9, 2, 212.1, 2, 0.13, 0.06, 0.01, 0.01, -999, 1,  -999.00, 9, -999, -999, 9, -999
49NZ20031106, A10, 83, 1, 29, 12017, 2, 20031129, 29, -29.7405, 5.9503, 5111,    402.1, 2,  11.2316, 2,  34.9516, 2,  34.9479, 2,    198.4, 1,    208.0, 2,     5.97, 2,    14.44, 2,     0.00, 2,     1.07, 2,    3.304, 2,    1.658, 2,    0.132, 4,   2128.7, 2,   2303.8, 2,    7.8026, 2,     25.00, -999.000, 9, -999.000,     65.7, 2,      3.9,     1.07, 2,      0.0,  11.1809, 26.7053,  11.2314, 2, 409.9, 2, 207.93, 2, 0.13, 0.07, 0.01, 0.01, -999, 1,  -999.00, 9, -999, -999, 9, -999
49NZ20031106, A10, 83, 1, 28, 12016, 2, 20031129, 29, -29.7405, 5.9503, 5111,    500.9, 2,   9.5252, 2,  34.7475, 2,  34.7449, 2,    180.9, 1,    188.9, 2,     9.84, 2,    20.25, 2,     0.00, 2,     1.44, 2,    3.016, 2,    1.474, 2,    0.096, 4,   2152.4, 2,   2295.9, 2,    7.7290, 2,     25.00, -999.000, 9, -999.000,     48.4, 2,      3.8,     0.98, 2,      0.0,   9.4681, 26.8444,   9.5250, 2, 508.2, 2, 194.61, 2, 0.14, 0.09, 0.01, 0.01, -999, 1,  -999.00, 9, -999, -999, 9, -999
49NZ20031106, A10, 83, 1, 27, 12012, 2, 20031129, 29, -29.7405, 5.9503, 5111,    600.7, 2,   8.1323, 2,  34.6031, 2,  34.5977, 2,    177.4, 1,    185.3, 2,    13.67, 2,    24.22, 2,     0.00, 2,     1.68, 2,    2.702, 2,    1.307, 2,    0.121, 4,   2167.9, 2,   2288.7, 2,    7.6867, 2,     25.00, -999.000, 9, -999.000,     22.5, 2,      3.8,     0.98, 2,      0.0,   8.0697, 26.9515,   8.1324, 2, 604.3, 2, 186.97, 2, 0.15, 0.1, 0.01, 0.01, -999, 1,  -999.00, 9, -999, -999, 9, -999
49NZ20031106, A10, 83, 1, 26, 12014, 2, 20031129, 29, -29.7405, 5.9503, 5111,    700.0, 2,   6.3791, 2,  34.4370, 2,  34.4324, 2,    194.4, 1,    203.7, 2,    17.48, 2,    26.87, 2,     0.00, 2,     1.85, 2,    2.750, 2,    1.306, 2,    0.153, 4,   2172.7, 6,   2285.9, 2,    7.6703, 2,     25.00, -999.000, 9, -999.000,      8.9, 2,      3.5,     1.02, 2,      0.0,   6.3150, 27.067,   6.3796, 2, 696.3, 2, 204.46, 2, 0.16, 0.11, 0.01, 0.01, -999, 1,  -999.00, 9, -999, -999, 9, -999
49NZ20031106, A10, 83, 1, 25, 12013, 2, 20031129, 29, -29.7405, 5.9503, 5111,    800.6, 2,   5.1340, 2,  34.3735, 2,  34.3739, 2,    187.7, 1,    194.4, 2,    24.70, 2,    30.65, 2,     0.00, 2,     2.10, 2,    2.074, 2,    0.983, 2,    0.097, 4,   2192.8, 2,   2291.8, 6,    7.6286, 2,     25.00, -999.000, 9, -999.000,    -33.4, 2,      3.5,     0.93, 2,      0.0,   5.0678, 27.1708,   5.1338, 2, 800.7, 2, 194.37, 2, 0.17, 0.12, 0.01, 0.02, -999, 1,  -999.00, 9, -999, -999, 9, -999
49NZ20031106, A10, 83, 1, 24, 12048, 2, 20031129, 29, -29.7405, 5.9503, 5111,    900.9, 2,   4.4277, 2,  34.3910, 2,  34.3894, 2,    171.6, 1,    179.7, 3,    32.20, 2,    33.07, 2,     0.00, 2,     2.24, 2,    1.181, 2,    0.592, 2,    0.064, 4,   2207.7, 2,   2305.5, 2,    7.5982, 6,     25.00, -999.000, 9, -999.000,    -70.4, 2,      3.4,     0.82, 2,      0.0,   4.3574, 27.2641,   4.4276, 2, 903.9, 2, 194.85, 2, 0.19, 0.13, 0.01, 0.02, -999, 1,  -999.00, 9, -999, -999, 9, -999
49NZ20031106, A10, 83, 1, 2, 12026, 9, 20031129, 29, -29.7405, 5.9503, 5111,    999.5, 2,   3.8250, 2,  34.3954, 2, -999.0000, 9,    181.0, 1,   -999.0, 9,  -999.00, 9,  -999.00, 9,  -999.00, 9,  -999.00, 9, -999.000, 9, -999.000, 9, -999.000, 9,   -999.0, 9,   -999.0, 9, -999.0000, 9,   -999.00, -999.000, 9, -999.000,   -999.0, 9,   -999.0,  -999.00, 9,   -999.0,   3.7509, 27.3307,   3.8255, 2, 1004.9, 2, 190.46, 2, -999, -999, -999, -999, -999, 9,  -999.00, 9, -999, -999, 9, -999
49NZ20031106, A10, 83, 1, 1, 12025, 2, 20031129, 29, -29.7405, 5.9503, 5111,    999.8, 2,   3.8239, 2,  34.3956, 2,  34.3934, 2,    180.8, 1,    189.9, 2,    39.65, 2,    32.84, 2,    -0.01, 2,     2.26, 2,    1.123, 6,    0.566, 6,    0.044, 4,   2213.0, 2,   2302.3, 2,    7.6052, 2,     25.00, -999.000, 9, -999.000,    -99.9, 2,      3.4,     0.23, 4,      0.0,   3.7498, 27.3312,   3.8228, 2, 1005.2, 2, 190.38, 2, 0.21, 0.12, 0.01, 0.02, -999, 1,  -999.00, 9, -999, -999, 9, -999
49NZ20031106, A10, 83, 1, 22, 12046, 2, 20031129, 29, -29.7405, 5.9503, 5111,   1201.4, 2,   3.3797, 2,  34.5026, 2,  34.5037, 2,    171.1, 1,    179.0, 2,    49.10, 2,    33.19, 2,     0.00, 2,     2.28, 2,    0.368, 2,    0.201, 2,    0.000, 4,   2227.1, 2,   2313.5, 2,    7.5937, 2,     25.00, -999.000, 9, -999.000,   -109.6, 2,      3.3,     0.70, 2,      0.0,   3.2927, 27.4611,   3.3800, 2, 1204.4, 2, 182.37, 2, 0.23, 0.13, 0.01, 0.02, -999, 1,  -999.00, 9, -999, -999, 9, -999
49NZ20031106, A10, 83, 1, 21, 12045, 2, 20031129, 29, -29.7405, 5.9503, 5111,   1400.6, 2,   3.1707, 2,  34.6265, 2,  34.6280, 2,    175.2, 1,    183.5, 2,    51.42, 2,    31.48, 2,     0.00, 2,     2.17, 2,    0.112, 2,    0.067, 2,    0.000, 4,   2226.7, 2,   2316.0, 2,    7.6125, 2,     25.00, -999.000, 9, -999.000,   -118.8, 2,      3.3,     0.67, 2,      0.0,   3.0691, 27.581,   3.1705, 2, 1397.8, 2, 182.27, 2, 0.23, 0.12, 0.01, 0.02, -999, 1,  -999.00, 9, -999, -999, 9, -999
49NZ20031106, A10, 83, 1, 20, 12044, 2, 20031129, 29, -29.7405, 5.9503, 5111,   1599.2, 2,   2.9598, 2,  34.7022, 2,  34.7026, 2,    181.8, 1,    190.6, 2,    54.59, 2,    30.05, 2,     0.00, 2,     2.06, 2,    0.065, 2,    0.040, 2,    0.000, 4,   2224.7, 2,   2325.4, 2,    7.6268, 2,     25.00, -999.000, 9, -999.000,   -122.1, 2,      3.3,     0.68, 2,      0.0,   2.8438, 27.6622,   2.9595, 2, 1599.5, 2, 190.55, 2, 0.24, 0.12, 0.01, 0.02, -999, 1,  -999.00, 9, -999, -999, 9, -999
49NZ20031106, A10, 83, 1, 19, 12043, 2, 20031129, 29, -29.7405, 5.9503, 5111,   1798.5, 2,   2.9077, 2,  34.7726, 2,  34.7726, 2,    193.1, 1,    202.6, 2,    51.35, 2,    27.97, 2,     0.00, 2,     1.91, 2,    0.021, 2,    0.013, 2,    0.000, 4,   2217.9, 2,   2326.4, 2,    7.6506, 2,     25.00, -999.000, 9, -999.000,   -116.3, 2,      3.4,     0.70, 2,      0.0,   2.7750, 27.7247,   2.9076, 2, 1800.5, 2, 199.83, 2, 0.23, 0.11, 0.01, 0.01, -999, 1,  -999.00, 9, -999, -999, 9, -999
49NZ20031106, A10, 83, 1, 18, 12042, 2, 20031129, 29, -29.7405, 5.9503, 5111,   1999.5, 2,   2.8283, 2,  34.8106, 2,  34.8102, 2,    201.6, 1,    211.8, 2,    49.85, 2,    26.59, 2,     0.00, 2,     1.82, 2,    0.010, 2,    0.004, 2,    0.000, 4,   2210.0, 2,   2328.4, 2,    7.6705, 6,     25.00, -999.000, 9, -999.000,   -112.0, 2,      3.2,     0.78, 2,      0.0,   2.6788, 27.7634,   2.8281, 2, 2000.1, 2, 210.35, 2, 0.23, 0.11, 0.01, 0.01, -999, 1,  -999.00, 9, -999, -999, 9, -999
49NZ20031106, A10, 83, 1, 17, 12041, 2, 20031129, 29, -29.7405, 5.9503, 5111,   2200.2, 2,   2.7290, 2,  34.8310, 2,  34.8305, 2,    207.7, 1,    218.8, 2,    49.78, 2,    25.75, 2,     0.00, 2,     1.76, 2,    0.004, 2,    0.002, 2,    0.000, 4,   2206.4, 2,   2327.5, 2,    7.6811, 2,     25.00, -999.000, 9, -999.000,   -114.5, 2,      3.2,     0.81, 2,      0.0,   2.5627, 27.79,   2.7290, 2, 2200.6, 2, 218.41, 2, 0.23, 0.1, 0.01, 0.01, -999, 1,  -999.00, 9, -999, -999, 9, -999
49NZ20031106, A10, 83, 1, 16, 12040, 2, 20031129, 29, -29.7405, 5.9503, 5111,   2400.4, 2,   2.6349, 2,  34.8410, 2,  34.8406, 2,    211.9, 1,    223.0, 2,    50.48, 2,    25.28, 2,    -0.01, 2,     1.72, 2,    0.007, 2,    0.007, 2,    0.000, 4,   2205.5, 6,   2330.6, 2,    7.6895, 2,     25.00, -999.000, 9, -999.000,   -106.8, 2,      3.3,     0.81, 2,      0.0,   2.4515, 27.8079,   2.6350, 2, 2400.2, 2, 222.86, 2, 0.23, 0.1, 0.01, 0.01, -999, 1,  -999.00, 9, -999, -999, 9, -999
49NZ20031106, A10, 83, 1, 15, 12039, 2, 20031129, 29, -29.7405, 5.9503, 5111,   2600.2, 2,   2.5473, 2,  34.8460, 2,  34.8464, 2,    214.5, 1,    226.3, 2,    51.51, 2,    25.00, 2,    -0.01, 2,     1.70, 2,   -0.001, 2,   -0.001, 2,    0.000, 4,   2205.1, 2,   2336.2, 6,    7.6939, 2,     25.00, -999.000, 9, -999.000,   -112.3, 2,      3.2,     0.83, 2,      0.0,   2.3465, 27.8208,   2.5471, 2, 2599.4, 2, 225.96, 2, 0.23, 0.1, 0.01, 0.01, -999, 1,  -999.00, 9, -999, -999, 9, -999
49NZ20031106, A10, 83, 1, 14, 12038, 2, 20031129, 29, -29.7405, 5.9503, 5111,   2800.4, 2,   2.4385, 2,  34.8490, 2,  34.8489, 2,    216.9, 1,    228.8, 2,    53.49, 2,    24.83, 2,    -0.01, 2,     1.69, 2,   -0.007, 2,   -0.003, 2,    0.000, 4,   2207.2, 2,   2337.1, 2,    7.6978, 6,     25.00, -999.000, 9, -999.000,   -118.7, 2,      3.4,     0.82, 2,      0.0,   2.2203, 27.8338,   2.4384, 2, 2799.5, 2, 228.19, 2, 0.24, 0.1, 0.01, 0.01, -999, 1,  -999.00, 9, -999, -999, 9, -999
49NZ20031106, A10, 83, 1, 13, 12037, 2, 20031129, 29, -29.7405, 5.9503, 5111,   3000.7, 2,   2.3544, 2,  34.8497, 2,  34.8501, 3,    218.2, 1,    230.2, 2,    55.34, 2,    24.83, 2,    -0.01, 2,     1.69, 2,    0.004, 2,    0.003, 2,    0.000, 4,   2208.2, 2,   2329.1, 4,    7.6993, 2,     25.00, -999.000, 9, -999.000,   -114.4, 6,      4.2,     0.85, 6,      0.0,   2.1180, 27.8429,   2.3543, 2, 3000.5, 2, 230.12, 2, 0.24, 0.1, 0.01, 0.01, -999, 1,  -999.00, 9, -999, -999, 9, -999
49NZ20031106, A10, 83, 1, 12, 12036, 2, 20031129, 29, -29.7405, 5.9503, 5111,   3250.7, 2,   2.2893, 2,  34.8513, 2,  34.8513, 2,    219.2, 1,    230.9, 4,    56.85, 2,    24.78, 2,     0.00, 2,     1.69, 2,    0.000, 2,    0.000, 2,    0.000, 4,   2208.6, 2,   2344.8, 2,    7.7029, 2,     25.00, -999.000, 9, -999.000,   -122.7, 2,      3.5,     0.83, 2,      0.0,   2.0288, 27.8516,   2.2891, 2, 3251.2, 2, 230.46, 2, 0.24, 0.1, 0.01, 0.01, -999, 1,  -999.00, 9, -999, -999, 9, -999
49NZ20031106, A10, 83, 1, 11, 12035, 2, 20031129, 29, -29.7405, 5.9503, 5111,   3501.4, 2,   2.2248, 2,  34.8492, 2,  34.8494, 2,    218.9, 1,    230.1, 2,    59.36, 2,    24.98, 2,    -0.01, 2,     1.70, 2,    0.000, 2,    0.000, 2,    0.000, 4,   2212.8, 2,   2346.4, 2,    7.7037, 2,     25.00, -999.000, 9, -999.000,   -118.5, 2,      3.5,     0.81, 2,      0.0,   1.9394, 27.857,   2.2247, 2, 3501.8, 2, 230.62, 2, 0.25, 0.1, 0.01, 0.01, -999, 1,  -999.00, 9, -999, -999, 9, -999
49NZ20031106, A10, 83, 1, 10, 12034, 2, 20031129, 29, -29.7405, 5.9503, 5111,   3751.1, 2,   2.0312, 2,  34.8302, 2,  34.8305, 2,    216.2, 1,    227.2, 2,    67.63, 2,    25.99, 2,    -0.01, 2,     1.77, 2,   -0.001, 2,   -0.001, 2,    0.000, 4,   2219.9, 2,   2349.0, 2,    7.6926, 2,     25.00, -999.000, 9, -999.000,   -117.7, 2,      3.4,     0.79, 2,      0.0,   1.7240, 27.8585,   2.0323, 2, 3750.7, 2, 227.29, 2, 0.27, 0.11, 0.01, 0.01, -999, 1,  -999.00, 9, -999, -999, 9, -999
49NZ20031106, A10, 83, 1, 9, 12033, 2, 20031129, 29, -29.7405, 5.9503, 5111,   4000.8, 2,   1.6379, 2,  34.7882, 2,  34.7880, 2,    211.5, 1,    221.8, 2,    84.33, 2,    28.12, 2,    -0.01, 2,     1.93, 2,    0.004, 2,    0.005, 2,    0.000, 4,   2236.6, 2,   2354.7, 2,    7.6708, 2,     25.00, -999.000, 9, -999.000,   -132.2, 2,      3.5,     0.70, 2,      0.0,   1.3144, 27.855,   1.6378, 2, 4000.5, 2, 221.9, 2, 0.3, 0.11, 0.01, 0.01, -999, 1,  -999.00, 9, -999, -999, 9, -999
49NZ20031106, A10, 83, 1, 8, 12032, 2, 20031129, 29, -29.7405, 5.9503, 5111,   4250.8, 2,   1.3030, 2,  34.7551, 2,  34.7551, 2,    209.1, 1,    218.7, 2,    97.76, 2,    29.71, 2,    -0.01, 2,     2.04, 2,    0.015, 2,    0.009, 2,    0.000, 4,   2246.5, 6,   2359.6, 2,    7.6571, 2,     25.00, -999.000, 9, -999.000,   -133.6, 2,      3.5,     0.63, 2,      0.0,   0.9618, 27.853,   1.3029, 2, 4250.3, 2, 218.62, 2, 0.33, 0.12, 0.01, 0.02, -999, 1,  -999.00, 9, -999, -999, 9, -999
49NZ20031106, A10, 83, 1, 7, 12031, 2, 20031129, 29, -29.7405, 5.9503, 5111,   4499.1, 2,   1.1534, 2,  34.7395, 2,  34.7394, 2,    208.8, 1,    217.5, 2,   104.10, 2,    30.47, 2,    -0.01, 2,     2.10, 2,    0.021, 2,    0.014, 2,    0.000, 4,   2251.6, 2,   2362.9, 6,    7.6490, 2,     25.00, -999.000, 9, -999.000,   -135.4, 2,      3.4,     0.60, 2,      0.0,   0.7890, 27.8516,   1.1532, 2, 4499.2, 2, 217.44, 2, 0.35, 0.12, 0.01, 0.02, -999, 1,  -999.00, 9, -999, -999, 9, -999
49NZ20031106, A10, 83, 1, 6, 12030, 2, 20031129, 29, -29.7405, 5.9503, 5111,   4750.7, 2,   1.1272, 2,  34.7345, 2,  34.7348, 2,    209.4, 1,    217.1, 4,   106.23, 2,    30.71, 2,     0.00, 2,     2.12, 2,    0.022, 2,    0.017, 2,    0.000, 4,   2253.8, 2,   2364.0, 2,    7.6469, 6,     25.00, -999.000, 9, -999.000,   -147.0, 2,      3.5,     0.55, 2,      0.0,   0.7347, 27.8512,   1.1270, 2, 4750.8, 2, 217.01, 2, 0.35, 0.12, 0.01, 0.02, -999, 1,  -999.00, 9, -999, -999, 9, -999
49NZ20031106, A10, 83, 1, 23, 12047, 2, 20031129, 29, -29.7405, 5.9503, 5111,   5000.3, 2,   1.1272, 2,  34.7318, 2,  34.7318, 2,    210.7, 1,    217.0, 2,   107.59, 2,    30.79, 2,     0.00, 2,     2.12, 2,    0.023, 2,    0.019, 2,    0.000, 4,   2255.1, 2,   2363.1, 2,    7.6448, 2,     25.00, -999.000, 9, -999.000,   -135.7, 3,      3.2,     0.55, 2,      0.0,   0.7052, 27.8508,   1.1271, 2, 5000.3, 2, 216.89, 2, 0.36, 0.12, 0.01, 0.02, -999, 9,  -999.00, 9, -999, -999, 9, -999
49NZ20031106, A10, 83, 1, 5, 12029, 2, 20031129, 29, -29.7405, 5.9503, 5111,   5000.6, 2,   1.1272, 2,  34.7317, 2,  34.7314, 2,    210.8, 1,    217.1, 2,   107.29, 2,    30.78, 2,     0.00, 2,     2.12, 2,    0.029, 2,    0.021, 2,    0.000, 4,   2255.2, 2,   2363.0, 2,    7.6445, 2,     25.00, -999.000, 9, -999.000,   -145.7, 2,      3.4,     0.54, 2,      0.0,   0.7052, 27.8509,   1.1271, 2, 5000.6, 2, 216.87, 2, 0.36, 0.12, 0.01, 0.02, -999, 1,  -999.00, 9, -999, -999, 9, -999
49NZ20031106, A10, 83, 1, 4, 12028, 2, 20031129, 29, -29.7405, 5.9503, 5111,   5203.9, 2,   1.1358, 2,  34.7302, 2,  34.7302, 2,    212.4, 1,    217.0, 2,   107.98, 2,    30.85, 2,     0.00, 2,     2.13, 2,    0.032, 2,    0.027, 2,    0.000, 4,   2254.7, 2,   2366.1, 2,    7.6452, 2,     25.00, -999.000, 9, -999.000,   -135.4, 3,      3.4,     0.58, 2,      0.0,   0.6889, 27.8505,   1.1358, 2, 5203.9, 2, 216.52, 2, 0.36, 0.12, 0.01, 0.02, -999, 1,  -999.00, 9, -999, -999, 9, -999