BOTTLE,20220818CCHSIOAMB
EXPOCODE,SECT_ID,STNNBR,CASTNO,SAMPNO,BTLNBR,BTLNBR_FLAG_W,DATE,TIME,LATITUDE,LONGITUDE,DEPTH,CTDPRS,CTDPRS_FLAG_W,CTDTMP,CTDTMP_FLAG_W,CTDSAL,CTDSAL_FLAG_W,SALNTY,SALNTY_FLAG_W,CTDOXY,CTDOXY_FLAG_W,OXYGEN,OXYGEN_FLAG_W,SILCAT,SILCAT_FLAG_W,NITRAT,NITRAT_FLAG_W,NITRIT,NITRIT_FLAG_W,PHSPHT,PHSPHT_FLAG_W,CFC-11,CFC-11_FLAG_W,CFC-12,CFC-12_FLAG_W,CFC113,CFC113_FLAG_W,TCARBN,TCARBN_FLAG_W,ALKALI,ALKALI_FLAG_W,PH_TOT,PH_TOT_FLAG_W,PH_TMP,TRITUM,TRITUM_FLAG_W,TRITER,DELC14,DELC14_FLAG_W,C14ERR,DELC13,DELC13_FLAG_W,C13ERR,THETA,SIG0,SBE35,SBE35_FLAG_W,DWNPRS,DWNPRS_FLAG_W,DWNOXY,DWNOXY_FLAG_W,SILUNC,NRAUNC,NRIUNC,PHPUNC,TOC,TOC_FLAG_W,CS-137,CS-137_FLAG_W,CS137ER,PLUTO,PLUTO_FLAG_W,PLUTOER
,,,,,,,,,,,METERS,DBAR,,ITS-90,,PSS-78,,PSS-78,,UMOL/KG,,UMOL/KG,,UMOL/KG,,UMOL/KG,,UMOL/KG,,UMOL/KG,,PMOL/KG,,PMOL/KG,,PMOL/KG,,UMOL/KG,,UMOL/KG,,,,DEG C,TU,,TU,/MILLE,,/MILLE,/MILLE,,/MILLE,DEG C,KG/M^3,ITS-90,,DBAR,,UMOL/KG,,UMOL/KG,UMOL/KG,UMOL/KG,UMOL/KG,UMOL/KG,,BQ/M^3,,BQ/M^3,MBQ/M^3,,MBQ/M^3
49NZ20031106, A10, 14, 1, 36, 12048, 2, 20031111, 2023, -29.9963, -37.9933, 3843,      9.8, 2,  20.6030, 2,  36.2232, 2,  36.2237, 2,    215.2, 1,    226.4, 2,     0.77, 2,     0.00, 2,     0.00, 2,     0.03, 2, -999.000, 9, -999.000, 9, -999.000, 9,   -999.0, 9,   -999.0, 9, -999.0000, 9,   -999.00, -999.000, 9, -999.000,   -999.0, 9,   -999.0,  -999.00, 9,   -999.0,  20.6011, 25.5356,  20.6027, 2, 10.6, 2, 226.65, 2, 0.12, 0.03, 0.01, 0.05, -999, 9,  -999.00, 9, -999, -999, 9, -999
49NZ20031106, A10, 14, 1, 35, 12047, 2, 20031111, 2023, -29.9963, -37.9933, 3843,     50.6, 2,  20.1424, 2,  36.2150, 2,  36.2145, 2,    216.9, 1,    228.1, 2,     0.73, 2,    -0.02, 2,     0.00, 2,     0.03, 2, -999.000, 9, -999.000, 9, -999.000, 9,   -999.0, 9,   -999.0, 9, -999.0000, 9,   -999.00, -999.000, 9, -999.000,   -999.0, 9,   -999.0,  -999.00, 9,   -999.0,  20.1330, 25.6556,  20.1405, 2, 51.2, 2, 228, 2, 0.12, 0.03, 0.01, 0.05, -999, 9,  -999.00, 9, -999, -999, 9, -999
49NZ20031106, A10, 14, 1, 34, 12046, 2, 20031111, 2023, -29.9963, -37.9933, 3843,    101.8, 2,  18.7484, 2,  35.9521, 2,  35.9538, 2,    217.7, 1,    228.9, 2,     0.78, 2,    -0.02, 2,     0.03, 2,     0.07, 2, -999.000, 9, -999.000, 9, -999.000, 9,   -999.0, 9,   -999.0, 9, -999.0000, 9,   -999.00, -999.000, 9, -999.000,   -999.0, 9,   -999.0,  -999.00, 9,   -999.0,  18.7303, 25.82,  18.7472, 2, 106.6, 2, 227.83, 2, 0.12, 0.03, 0.01, 0.03, -999, 9,  -999.00, 9, -999, -999, 9, -999
49NZ20031106, A10, 14, 1, 33, 12045, 2, 20031111, 2023, -29.9963, -37.9933, 3843,    150.1, 2,  17.6461, 2,  35.8439, 2,  35.8404, 2,    203.2, 1,    213.9, 2,     1.05, 2,     1.41, 2,     0.04, 2,     0.22, 2, -999.000, 9, -999.000, 9, -999.000, 9,   -999.0, 9,   -999.0, 9, -999.0000, 9,   -999.00, -999.000, 9, -999.000,   -999.0, 9,   -999.0,  -999.00, 9,   -999.0,  17.6206, 26.0134,  17.6458, 2, 154.2, 2, 218.11, 2, 0.12, 0.04, 0.01, 0.02, -999, 9,  -999.00, 9, -999, -999, 9, -999
49NZ20031106, A10, 14, 1, 32, 12044, 2, 20031111, 2023, -29.9963, -37.9933, 3843,    199.7, 2,  16.5815, 2,  35.7032, 2,  35.7029, 2,    205.4, 1,    215.1, 2,     1.23, 2,     2.43, 2,     0.02, 2,     0.29, 2, -999.000, 9, -999.000, 9, -999.000, 9,   -999.0, 9,   -999.0, 9, -999.0000, 9,   -999.00, -999.000, 9, -999.000,   -999.0, 9,   -999.0,  -999.00, 9,   -999.0,  16.5489, 26.1627,  16.5804, 2, 200.6, 2, 213.77, 2, 0.12, 0.04, 0.01, 0.01, -999, 9,  -999.00, 9, -999, -999, 9, -999
49NZ20031106, A10, 14, 1, 31, 12043, 2, 20031111, 2023, -29.9963, -37.9933, 3843,    250.5, 2,  15.3948, 2,  35.5450, 2,  35.5459, 2,    203.7, 1,    213.1, 2,     1.59, 2,     4.45, 2,     0.01, 2,     0.41, 2, -999.000, 9, -999.000, 9, -999.000, 9,   -999.0, 9,   -999.0, 9, -999.0000, 9,   -999.00, -999.000, 9, -999.000,   -999.0, 9,   -999.0,  -999.00, 9,   -999.0,  15.3560, 26.3122,  15.4032, 2, 252, 2, 213.03, 2, 0.12, 0.05, 0.01, 0.01, -999, 9,  -999.00, 9, -999, -999, 9, -999
49NZ20031106, A10, 14, 1, 30, 12042, 2, 20031111, 2023, -29.9963, -37.9933, 3843,    300.7, 2,  14.2783, 2,  35.3751, 2,  35.3769, 2,    203.6, 1,    212.7, 2,     2.13, 2,     6.56, 2,     0.00, 2,     0.55, 2, -999.000, 9, -999.000, 9, -999.000, 9,   -999.0, 9,   -999.0, 9, -999.0000, 9,   -999.00, -999.000, 9, -999.000,   -999.0, 9,   -999.0,  -999.00, 9,   -999.0,  14.2340, 26.4281,  14.2801, 2, 303, 2, 212.26, 2, 0.12, 0.05, 0.01, 0.01, -999, 9,  -999.00, 9, -999, -999, 9, -999
49NZ20031106, A10, 14, 1, 29, 12041, 2, 20031111, 2023, -29.9963, -37.9933, 3843,    401.8, 2,  12.6811, 2,  35.1614, 2,  35.1624, 2,    204.5, 1,    213.2, 2,     3.12, 2,    10.15, 2,     0.00, 2,     0.76, 2, -999.000, 9, -999.000, 9, -999.000, 9,   -999.0, 9,   -999.0, 9, -999.0000, 9,   -999.00, -999.000, 9, -999.000,   -999.0, 9,   -999.0,  -999.00, 9,   -999.0,  12.6262, 26.5931,  12.6818, 2, 400.8, 2, 212.11, 2, 0.13, 0.06, 0.01, 0.01, -999, 9,  -999.00, 9, -999, -999, 9, -999
49NZ20031106, A10, 14, 1, 28, 12040, 2, 20031111, 2023, -29.9963, -37.9933, 3843,    502.0, 2,  10.9774, 2,  34.9345, 2,  34.9343, 2,    200.5, 1,    208.9, 2,     5.16, 2,    14.73, 2,     0.00, 2,     1.05, 2, -999.000, 9, -999.000, 9, -999.000, 9,   -999.0, 9,   -999.0, 9, -999.0000, 9,   -999.00, -999.000, 9, -999.000,   -999.0, 9,   -999.0,  -999.00, 9,   -999.0,  10.9148, 26.7403,  10.9773, 2, 501.9, 2, 208.35, 2, 0.13, 0.07, 0.01, 0.01, -999, 9,  -999.00, 9, -999, -999, 9, -999
49NZ20031106, A10, 14, 1, 27, 12039, 2, 20031111, 2023, -29.9963, -37.9933, 3843,    599.7, 2,   8.7571, 2,  34.6611, 2,  34.6614, 2,    200.7, 1,    208.7, 2,     8.61, 2,    20.20, 2,     0.01, 2,     1.40, 2, -999.000, 9, -999.000, 9, -999.000, 9,   -999.0, 9,   -999.0, 9, -999.0000, 9,   -999.00, -999.000, 9, -999.000,   -999.0, 9,   -999.0,  -999.00, 9,   -999.0,   8.6918, 26.9016,   8.7570, 2, 599.6, 2, 208.32, 2, 0.14, 0.09, 0.01, 0.01, -999, 9,  -999.00, 9, -999, -999, 9, -999
49NZ20031106, A10, 14, 1, 26, 12038, 2, 20031111, 2023, -29.9963, -37.9933, 3843,    701.9, 2,   6.7644, 2,  34.4465, 2,  34.4465, 2,    210.1, 1,    218.3, 2,    12.07, 2,    24.31, 2,     0.00, 2,     1.67, 2, -999.000, 9, -999.000, 9, -999.000, 9,   -999.0, 9,   -999.0, 9, -999.0000, 9,   -999.00, -999.000, 9, -999.000,   -999.0, 9,   -999.0,  -999.00, 9,   -999.0,   6.6981, 27.0238,   6.7645, 2, 702.9, 2, 220.38, 2, 0.15, 0.1, 0.01, 0.01, -999, 9,  -999.00, 9, -999, -999, 9, -999
49NZ20031106, A10, 14, 1, 25, 12037, 2, 20031111, 2023, -29.9963, -37.9933, 3843,    800.9, 2,   5.3429, 2,  34.3247, 2,  34.3243, 2,    220.7, 1,    229.6, 2,    16.03, 2,    26.80, 2,     0.00, 2,     1.83, 2, -999.000, 9, -999.000, 9, -999.000, 9,   -999.0, 9,   -999.0, 9, -999.0000, 9,   -999.00, -999.000, 9, -999.000,   -999.0, 9,   -999.0,  -999.00, 9,   -999.0,   5.2755, 27.1073,   5.3450, 2, 802.4, 2, 229.49, 2, 0.15, 0.11, 0.01, 0.01, -999, 9,  -999.00, 9, -999, -999, 9, -999
49NZ20031106, A10, 14, 1, 24, 12036, 2, 20031111, 2023, -29.9963, -37.9933, 3843,    899.9, 2,   4.4831, 2,  34.2911, 2,  34.2911, 2,    219.6, 1,    228.6, 2,    21.85, 2,    28.73, 2,    -0.01, 2,     1.95, 2, -999.000, 9, -999.000, 9, -999.000, 9,   -999.0, 9,   -999.0, 9, -999.0000, 9,   -999.00, -999.000, 9, -999.000,   -999.0, 9,   -999.0,  -999.00, 9,   -999.0,   4.4127, 27.1786,   4.4833, 2, 901.7, 2, 229.14, 2, 0.17, 0.11, 0.01, 0.01, -999, 9,  -999.00, 9, -999, -999, 9, -999
49NZ20031106, A10, 14, 1, 6, 12018, 9, 20031111, 2023, -29.9963, -37.9933, 3843,    998.2, 2,   3.7670, 2,  34.2932, 2, -999.0000, 9,    213.9, 1,   -999.0, 9,  -999.00, 9,  -999.00, 9,  -999.00, 9,  -999.00, 9, -999.000, 9, -999.000, 9, -999.000, 9,   -999.0, 9,   -999.0, 9, -999.0000, 9,   -999.00, -999.000, 9, -999.000,   -999.0, 9,   -999.0,  -999.00, 9,   -999.0,   3.6936, 27.2546,   3.7679, 2, 1000.5, 2, 223.21, 2, -999, -999, -999, -999, -999, 9,  -999.00, 9, -999, -999, 9, -999
49NZ20031106, A10, 14, 1, 5, 12017, 9, 20031111, 2023, -29.9963, -37.9933, 3843,    998.2, 2,   3.7646, 2,  34.2934, 2, -999.0000, 9,    213.9, 1,   -999.0, 9,  -999.00, 9,  -999.00, 9,  -999.00, 9,  -999.00, 9, -999.000, 9, -999.000, 9, -999.000, 9,   -999.0, 9,   -999.0, 9, -999.0000, 9,   -999.00, -999.000, 9, -999.000,   -999.0, 9,   -999.0,  -999.00, 9,   -999.0,   3.6913, 27.255,   3.7647, 2, 1000.5, 2, 223.21, 2, -999, -999, -999, -999, -999, 9,  -999.00, 9, -999, -999, 9, -999
49NZ20031106, A10, 14, 1, 4, 12016, 9, 20031111, 2023, -29.9963, -37.9933, 3843,    998.3, 2,   3.7655, 2,  34.2934, 2, -999.0000, 9,    213.9, 1,   -999.0, 9,  -999.00, 9,  -999.00, 9,  -999.00, 9,  -999.00, 9, -999.000, 9, -999.000, 9, -999.000, 9,   -999.0, 9,   -999.0, 9, -999.0000, 9,   -999.00, -999.000, 9, -999.000,   -999.0, 9,   -999.0,  -999.00, 9,   -999.0,   3.6921, 27.2548,   3.7655, 2, 1000.6, 2, 223.2, 2, -999, -999, -999, -999, -999, 9,  -999.00, 9, -999, -999, 9, -999
49NZ20031106, A10, 14, 1, 23, 12035, 2, 20031111, 2023, -29.9963, -37.9933, 3843,    998.5, 2,   3.7740, 2,  34.2927, 2,  34.3877, 4,    213.8, 1,    222.9, 2,    44.14, 3,    32.51, 3,    -0.01, 3,     2.22, 3, -999.000, 9, -999.000, 9, -999.000, 9,   -999.0, 9,   -999.0, 9, -999.0000, 9,   -999.00, -999.000, 9, -999.000,   -999.0, 9,   -999.0,  -999.00, 9,   -999.0,   3.7006, 27.2536,   3.7743, 2, 1000.5, 2, 223.21, 2, 0.22, 0.12, 0.01, 0.02, -999, 9,  -999.00, 9, -999, -999, 9, -999
49NZ20031106, A10, 14, 1, 1, 12013, 9, 20031111, 2023, -29.9963, -37.9933, 3843,    998.6, 2,   3.7741, 2,  34.2927, 2, -999.0000, 9,    213.9, 1,   -999.0, 9,  -999.00, 9,  -999.00, 9,  -999.00, 9,  -999.00, 9, -999.000, 9, -999.000, 9, -999.000, 9,   -999.0, 9,   -999.0, 9, -999.0000, 9,   -999.00, -999.000, 9, -999.000,   -999.0, 9,   -999.0,  -999.00, 9,   -999.0,   3.7007, 27.2536,   3.7748, 2, 1000.6, 2, 223.2, 2, -999, -999, -999, -999, -999, 9,  -999.00, 9, -999, -999, 9, -999
49NZ20031106, A10, 14, 1, 2, 12014, 9, 20031111, 2023, -29.9963, -37.9933, 3843,    998.7, 2,   3.7675, 2,  34.2932, 2, -999.0000, 9,    213.9, 1,   -999.0, 9,  -999.00, 9,  -999.00, 9,  -999.00, 9,  -999.00, 9, -999.000, 9, -999.000, 9, -999.000, 9,   -999.0, 9,   -999.0, 9, -999.0000, 9,   -999.00, -999.000, 9, -999.000,   -999.0, 9,   -999.0,  -999.00, 9,   -999.0,   3.6941, 27.2542,   3.7701, 2, 1000.9, 2, 223.18, 2, -999, -999, -999, -999, -999, 9,  -999.00, 9, -999, -999, 9, -999
49NZ20031106, A10, 14, 1, 3, 12012, 9, 20031111, 2023, -29.9963, -37.9933, 3843,    998.9, 2,   3.7636, 2,  34.2935, 2, -999.0000, 9,    214.0, 1,   -999.0, 9,  -999.00, 9,  -999.00, 9,  -999.00, 9,  -999.00, 9, -999.000, 9, -999.000, 9, -999.000, 9,   -999.0, 9,   -999.0, 9, -999.0000, 9,   -999.00, -999.000, 9, -999.000,   -999.0, 9,   -999.0,  -999.00, 9,   -999.0,   3.6902, 27.2553,   3.7647, 2, 1001.2, 2, 223.14, 2, -999, -999, -999, -999, -999, 9,  -999.00, 9, -999, -999, 9, -999
49NZ20031106, A10, 14, 1, 22, 12034, 2, 20031111, 2023, -29.9963, -37.9933, 3843,   1199.6, 2,   3.1727, 2,  34.3877, 2,  34.2928, 4,    192.8, 1,    200.6, 2,    29.30, 3,    30.44, 3,    -0.01, 3,     2.08, 3, -999.000, 9, -999.000, 9, -999.000, 9,   -999.0, 9,   -999.0, 9, -999.0000, 9,   -999.00, -999.000, 9, -999.000,   -999.0, 9,   -999.0,  -999.00, 9,   -999.0,   3.0880, 27.3881,   3.1728, 2, 1202.3, 2, 202.13, 2, 0.18, 0.12, 0.01, 0.02, -999, 9,  -999.00, 9, -999, -999, 9, -999
49NZ20031106, A10, 14, 1, 21, 12033, 2, 20031111, 2023, -29.9963, -37.9933, 3843,   1400.4, 2,   2.9377, 2,  34.5218, 2,  34.5219, 2,    182.1, 1,    189.2, 2,    53.39, 2,    32.34, 2,    -0.01, 2,     2.21, 2, -999.000, 9, -999.000, 9, -999.000, 9,   -999.0, 9,   -999.0, 9, -999.0000, 9,   -999.00, -999.000, 9, -999.000,   -999.0, 9,   -999.0,  -999.00, 9,   -999.0,   2.8389, 27.5179,   2.9375, 2, 1400.4, 2, 189.16, 2, 0.24, 0.12, 0.01, 0.02, -999, 9,  -999.00, 9, -999, -999, 9, -999
49NZ20031106, A10, 14, 1, 20, 12032, 2, 20031111, 2023, -29.9963, -37.9933, 3843,   1601.5, 2,   2.8703, 2,  34.6657, 2,  34.6665, 2,    186.5, 1,    193.7, 2,    54.53, 2,    30.19, 2,     0.00, 2,     2.06, 2, -999.000, 9, -999.000, 9, -999.000, 9,   -999.0, 9,   -999.0, 9, -999.0000, 9,   -999.00, -999.000, 9, -999.000,   -999.0, 9,   -999.0,  -999.00, 9,   -999.0,   2.7553, 27.6406,   2.8702, 2, 1601.4, 2, 193.29, 2, 0.24, 0.12, 0.01, 0.02, -999, 9,  -999.00, 9, -999, -999, 9, -999
49NZ20031106, A10, 14, 1, 19, 12031, 2, 20031111, 2023, -29.9963, -37.9933, 3843,   1800.6, 2,   2.9713, 2,  34.7682, 2,  34.7684, 2,    199.1, 1,    206.8, 2,    48.80, 2,    27.39, 2,     0.01, 2,     1.86, 2, -999.000, 9, -999.000, 9, -999.000, 9,   -999.0, 9,   -999.0, 9, -999.0000, 9,   -999.00, -999.000, 9, -999.000,   -999.0, 9,   -999.0,  -999.00, 9,   -999.0,   2.8376, 27.715,   2.9706, 2, 1799.6, 2, 206.57, 2, 0.23, 0.11, 0.01, 0.01, -999, 9,  -999.00, 9, -999, -999, 9, -999
49NZ20031106, A10, 14, 1, 18, 12030, 2, 20031111, 2023, -29.9963, -37.9933, 3843,   1999.9, 2,   3.0161, 2,  34.8415, 2,  34.8422, 2,    215.4, 1,    224.2, 2,    40.88, 2,    24.58, 2,     0.00, 2,     1.66, 2, -999.000, 9, -999.000, 9, -999.000, 9,   -999.0, 9,   -999.0, 9, -999.0000, 9,   -999.00, -999.000, 9, -999.000,   -999.0, 9,   -999.0,  -999.00, 9,   -999.0,   2.8636, 27.7715,   3.0166, 2, 1999.8, 2, 225.25, 2, 0.21, 0.1, 0.01, 0.01, -999, 9,  -999.00, 9, -999, -999, 9, -999
49NZ20031106, A10, 14, 1, 17, 12029, 2, 20031111, 2023, -29.9963, -37.9933, 3843,   2200.7, 2,   3.0337, 2,  34.8868, 2,  34.8868, 2,    227.1, 1,    236.4, 2,    35.13, 2,    22.61, 2,    -0.01, 2,     1.52, 2, -999.000, 9, -999.000, 9, -999.000, 9,   -999.0, 9,   -999.0, 9, -999.0000, 9,   -999.00, -999.000, 9, -999.000,   -999.0, 9,   -999.0,  -999.00, 9,   -999.0,   2.8622, 27.8077,   3.0337, 2, 2200.7, 2, 235.59, 2, 0.2, 0.1, 0.01, 0.01, -999, 9,  -999.00, 9, -999, -999, 9, -999
49NZ20031106, A10, 14, 1, 16, 12028, 2, 20031111, 2023, -29.9963, -37.9933, 3843,   2401.9, 2,   2.9691, 2,  34.9039, 2,  34.7528, 3,    233.2, 1,    242.8, 2,    33.15, 2,    21.70, 2,    -0.01, 2,     1.46, 2, -999.000, 9, -999.000, 9, -999.000, 9,   -999.0, 9,   -999.0, 9, -999.0000, 9,   -999.00, -999.000, 9, -999.000,   -999.0, 9,   -999.0,  -999.00, 9,   -999.0,   2.7794, 27.8291,   2.9691, 2, 2401.5, 2, 243.6, 2, 0.19, 0.09, 0.01, 0.01, -999, 9,  -999.00, 9, -999, -999, 9, -999
49NZ20031106, A10, 14, 1, 15, 12027, 2, 20031111, 2023, -29.9963, -37.9933, 3843,   2602.0, 2,   2.9283, 2,  34.9193, 2,  34.9197, 2,    238.5, 1,    247.8, 2,    31.27, 2,    20.92, 2,    -0.01, 2,     1.40, 2, -999.000, 9, -999.000, 9, -999.000, 9,   -999.0, 9,   -999.0, 9, -999.0000, 9,   -999.00, -999.000, 9, -999.000,   -999.0, 9,   -999.0,  -999.00, 9,   -999.0,   2.7197, 27.8468,   2.9283, 2, 2602.3, 2, 246.48, 2, 0.19, 0.09, 0.01, 0.01, -999, 9,  -999.00, 9, -999, -999, 9, -999
49NZ20031106, A10, 14, 1, 14, 12026, 2, 20031111, 2023, -29.9963, -37.9933, 3843,   2800.6, 2,   2.8234, 2,  34.9177, 2,  34.9181, 2,    240.2, 1,    249.4, 2,    32.42, 2,    20.85, 2,     0.00, 2,     1.39, 2, -999.000, 9, -999.000, 9, -999.000, 9,   -999.0, 9,   -999.0, 9, -999.0000, 9,   -999.00, -999.000, 9, -999.000,   -999.0, 9,   -999.0,  -999.00, 9,   -999.0,   2.5970, 27.8562,   2.8234, 2, 2800.8, 2, 248.68, 2, 0.19, 0.09, 0.01, 0.01, -999, 9,  -999.00, 9, -999, -999, 9, -999
49NZ20031106, A10, 14, 1, 13, 12025, 2, 20031111, 2023, -29.9963, -37.9933, 3843,   3000.4, 2,   2.7311, 2,  34.9158, 2,  34.9162, 2,    242.0, 1,    250.9, 2,    33.43, 2,    20.74, 2,     0.00, 2,     1.38, 2, -999.000, 9, -999.000, 9, -999.000, 9,   -999.0, 9,   -999.0, 9, -999.0000, 9,   -999.00, -999.000, 9, -999.000,   -999.0, 9,   -999.0,  -999.00, 9,   -999.0,   2.4862, 27.8644,   2.7313, 2, 3000.3, 2, 250.7, 2, 0.19, 0.09, 0.01, 0.01, -999, 9,  -999.00, 9, -999, -999, 9, -999
49NZ20031106, A10, 14, 1, 12, 12024, 2, 20031111, 2023, -29.9963, -37.9933, 3843,   3250.4, 2,   2.5600, 2,  34.9038, 2,  34.9038, 2,    242.6, 1,    250.8, 2,    37.45, 2,    21.07, 2,     0.00, 2,     1.41, 2, -999.000, 9, -999.000, 9, -999.000, 9,   -999.0, 9,   -999.0, 9, -999.0000, 9,   -999.00, -999.000, 9, -999.000,   -999.0, 9,   -999.0,  -999.00, 9,   -999.0,   2.2929, 27.8713,   2.5599, 2, 3250.5, 2, 250.77, 2, 0.2, 0.09, 0.01, 0.01, -999, 9,  -999.00, 9, -999, -999, 9, -999
49NZ20031106, A10, 14, 1, 8, 12020, 9, 20031111, 2023, -29.9963, -37.9933, 3843,   3400.2, 2,   2.4246, 2,  34.8921, 2, -999.0000, 9,    242.1, 1,   -999.0, 9,  -999.00, 9,  -999.00, 9,  -999.00, 9,  -999.00, 9, -999.000, 9, -999.000, 9, -999.000, 9,   -999.0, 9,   -999.0, 9, -999.0000, 9,   -999.00, -999.000, 9, -999.000,   -999.0, 9,   -999.0,  -999.00, 9,   -999.0,   2.1449, 27.874,   2.4250, 2, 3400.1, 2, 250.12, 2, -999, -999, -999, -999, -999, 9,  -999.00, 9, -999, -999, 9, -999
49NZ20031106, A10, 14, 1, 11, 12023, 2, 20031111, 2023, -29.9963, -37.9933, 3843,   3500.6, 2,   2.2897, 2,  34.8796, 2,  34.8788, 2,    240.9, 1,    248.6, 2,    46.28, 2,    22.19, 2,    -0.01, 2,     1.49, 2, -999.000, 9, -999.000, 9, -999.000, 9,   -999.0, 9,   -999.0, 9, -999.0000, 9,   -999.00, -999.000, 9, -999.000,   -999.0, 9,   -999.0,  -999.00, 9,   -999.0,   2.0026, 27.8754,   2.2896, 2, 3500.8, 2, 248.88, 2, 0.22, 0.09, 0.01, 0.01, -999, 9,  -999.00, 9, -999, -999, 9, -999
49NZ20031106, A10, 14, 1, 7, 12019, 9, 20031111, 2023, -29.9963, -37.9933, 3843,   3601.0, 2,   2.1391, 2,  34.8647, 2, -999.0000, 9,    239.4, 1,   -999.0, 9,  -999.00, 9,  -999.00, 9,  -999.00, 9,  -999.00, 9, -999.000, 9, -999.000, 9, -999.000, 9,   -999.0, 9,   -999.0, 9, -999.0000, 9,   -999.00, -999.000, 9, -999.000,   -999.0, 9,   -999.0,  -999.00, 9,   -999.0,   1.8451, 27.876,   2.1392, 2, 3600.9, 2, 246.91, 2, -999, -999, -999, -999, -999, 9,  -999.00, 9, -999, -999, 9, -999
49NZ20031106, A10, 14, 1, 10, 12022, 2, 20031111, 2023, -29.9963, -37.9933, 3843,   3751.1, 2,   1.9086, 2,  34.8404, 2,  34.8403, 2,    236.3, 1,    242.6, 2,    61.18, 2,    24.22, 2,     0.00, 2,     1.64, 2, -999.000, 9, -999.000, 9, -999.000, 9,   -999.0, 9,   -999.0, 9, -999.0000, 9,   -999.00, -999.000, 9, -999.000,   -999.0, 9,   -999.0,  -999.00, 9,   -999.0,   1.6046, 27.8749,   1.9085, 2, 3751.2, 2, 242.93, 2, 0.25, 0.1, 0.01, 0.01, -999, 9,  -999.00, 9, -999, -999, 9, -999
49NZ20031106, A10, 14, 1, 9, 12015, 2, 20031111, 2023, -29.9963, -37.9933, 3843,   3871.9, 2,   1.7545, 2,  34.8238, 2,  34.8238, 2,    234.7, 1,    239.7, 2,    67.38, 2,    25.11, 2,     0.00, 2,     1.71, 2, -999.000, 9, -999.000, 9, -999.000, 9,   -999.0, 9,   -999.0, 9, -999.0000, 9,   -999.00, -999.000, 9, -999.000,   -999.0, 9,   -999.0,  -999.00, 9,   -999.0,   1.4416, 27.8736,   1.7543, 2, 3871.9, 2, 239.65, 2, 0.27, 0.1, 0.01, 0.01, -999, 9,  -999.00, 9, -999, -999, 9, -999