BOTTLE,20220818CCHSIOAMB
EXPOCODE,SECT_ID,STNNBR,CASTNO,SAMPNO,BTLNBR,BTLNBR_FLAG_W,DATE,TIME,LATITUDE,LONGITUDE,DEPTH,CTDPRS,CTDPRS_FLAG_W,CTDTMP,CTDTMP_FLAG_W,CTDSAL,CTDSAL_FLAG_W,SALNTY,SALNTY_FLAG_W,CTDOXY,CTDOXY_FLAG_W,OXYGEN,OXYGEN_FLAG_W,SILCAT,SILCAT_FLAG_W,NITRAT,NITRAT_FLAG_W,NITRIT,NITRIT_FLAG_W,PHSPHT,PHSPHT_FLAG_W,CFC-11,CFC-11_FLAG_W,CFC-12,CFC-12_FLAG_W,CFC113,CFC113_FLAG_W,TCARBN,TCARBN_FLAG_W,ALKALI,ALKALI_FLAG_W,PH_TOT,PH_TOT_FLAG_W,PH_TMP,TRITUM,TRITUM_FLAG_W,TRITER,DELC14,DELC14_FLAG_W,C14ERR,DELC13,DELC13_FLAG_W,C13ERR,THETA,SIG0,SBE35,SBE35_FLAG_W,DWNPRS,DWNPRS_FLAG_W,DWNOXY,DWNOXY_FLAG_W,SILUNC,NRAUNC,NRIUNC,PHPUNC,TOC,TOC_FLAG_W,CS-137,CS-137_FLAG_W,CS137ER,PLUTO,PLUTO_FLAG_W,PLUTOER
,,,,,,,,,,,METERS,DBAR,,ITS-90,,PSS-78,,PSS-78,,UMOL/KG,,UMOL/KG,,UMOL/KG,,UMOL/KG,,UMOL/KG,,UMOL/KG,,PMOL/KG,,PMOL/KG,,PMOL/KG,,UMOL/KG,,UMOL/KG,,,,DEG C,TU,,TU,/MILLE,,/MILLE,/MILLE,,/MILLE,DEG C,KG/M^3,ITS-90,,DBAR,,UMOL/KG,,UMOL/KG,UMOL/KG,UMOL/KG,UMOL/KG,UMOL/KG,,BQ/M^3,,BQ/M^3,MBQ/M^3,,MBQ/M^3
49NZ20031106, A10, 64, 1, 4, 12040, 9, 20031123, 1309, -30.0025, -7.3312, 4178,      6.5, 2,  19.1744, 2,  35.7937, 2, -999.0000, 9,    222.2, 1,   -999.0, 9,  -999.00, 9,  -999.00, 9,  -999.00, 9,  -999.00, 9, -999.000, 9, -999.000, 9, -999.000, 9,   -999.0, 9,   -999.0, 9, -999.0000, 9,   -999.00, -999.000, 9, -999.000,   -999.0, 9,   -999.0,  -999.00, 9,   -999.0,  19.1732, 25.5858,  19.1782, 2, 6.5, 2, 235.92, 2, -999, -999, -999, -999, -999, 9,  -999.00, 9, -999, -999, 9, -999
49NZ20031106, A10, 64, 1, 2, 12038, 2, 20031123, 1309, -30.0025, -7.3312, 4178,      6.5, 2,  19.1604, 2,  35.7933, 2, -999.0000, 9,    222.3, 1,   -999.0, 9,  -999.00, 9,  -999.00, 9,  -999.00, 9,  -999.00, 9, -999.000, 9, -999.000, 9, -999.000, 9,   -999.0, 9,   -999.0, 9, -999.0000, 9,   -999.00, -999.000, 9, -999.000,   -999.0, 9,   -999.0,  -999.00, 9,   -999.0,  19.1592, 25.5882,  19.1753, 2, 6.5, 2, 235.92, 2, -999, -999, -999, -999, -999, 9,  -999.00, 9, -999, -999, 9, -999
49NZ20031106, A10, 64, 1, 3, 12039, 2, 20031123, 1309, -30.0025, -7.3312, 4178,      6.6, 2,  19.1591, 2,  35.7936, 2, -999.0000, 9,    222.5, 1,   -999.0, 9,  -999.00, 9,  -999.00, 9,  -999.00, 9,  -999.00, 9, -999.000, 9, -999.000, 9, -999.000, 9,   -999.0, 9,   -999.0, 9, -999.0000, 9,   -999.00, -999.000, 9, -999.000,   -999.0, 9,   -999.0,  -999.00, 9,   -999.0,  19.1579, 25.5893,  19.1588, 2, 6.6, 2, 235.87, 2, -999, -999, -999, -999, -999, 9,  -999.00, 9, -999, -999, 9, -999
49NZ20031106, A10, 64, 1, 36, 12036, 2, 20031123, 1309, -30.0025, -7.3312, 4178,     10.5, 2,  19.0997, 2,  35.7914, 2,  35.7914, 2,    222.0, 1,    235.7, 2,     1.13, 2,     0.01, 2,     0.01, 2,     0.19, 2, -999.000, 9, -999.000, 9, -999.000, 9,   -999.0, 9,   -999.0, 9, -999.0000, 9,   -999.00, -999.000, 9, -999.000,   -999.0, 9,   -999.0,  -999.00, 9,   -999.0,  19.0978, 25.6027,  19.1025, 2, 10.5, 2, 235.58, 2, 0.12, 0.03, 0.01, 0.02, -999, 9,  -999.00, 9, -999, -999, 9, -999
49NZ20031106, A10, 64, 1, 35, 12035, 2, 20031123, 1309, -30.0025, -7.3312, 4178,     50.9, 2,  18.2698, 2,  35.7236, 2,  35.7168, 3,    227.4, 1,    241.2, 2,     1.18, 2,    -0.02, 2,     0.01, 2,     0.19, 2, -999.000, 9, -999.000, 9, -999.000, 9,   -999.0, 9,   -999.0, 9, -999.0000, 9,   -999.00, -999.000, 9, -999.000,   -999.0, 9,   -999.0,  -999.00, 9,   -999.0,  18.2610, 25.7628,  18.2706, 2, 44.5, 2, 239.64, 2, 0.12, 0.03, 0.01, 0.02, -999, 9,  -999.00, 9, -999, -999, 9, -999
49NZ20031106, A10, 64, 1, 1, 12037, 2, 20031123, 1309, -30.0025, -7.3312, 4178,     90.1, 2,  16.1673, 2,  35.5549, 2, -999.0000, 9,    227.2, 1,   -999.0, 9,  -999.00, 9,  -999.00, 9,  -999.00, 9,  -999.00, 9, -999.000, 9, -999.000, 9, -999.000, 9,   -999.0, 9,   -999.0, 9, -999.0000, 9,   -999.00, -999.000, 9, -999.000,   -999.0, 9,   -999.0,  -999.00, 9,   -999.0,  16.1529, 26.1403,  16.1683, 2, 85.4, 2, 240.87, 2, -999, -999, -999, -999, -999, 9,  -999.00, 9, -999, -999, 9, -999
49NZ20031106, A10, 64, 1, 34, 12034, 2, 20031123, 1309, -30.0025, -7.3312, 4178,    100.1, 2,  15.7384, 2,  35.4797, 2,  35.4792, 2,    226.8, 1,    239.2, 2,     1.24, 2,     0.83, 2,     0.13, 2,     0.28, 2, -999.000, 9, -999.000, 9, -999.000, 9,   -999.0, 9,   -999.0, 9, -999.0000, 9,   -999.00, -999.000, 9, -999.000,   -999.0, 9,   -999.0,  -999.00, 9,   -999.0,  15.7227, 26.1813,  15.7373, 2, 97.8, 2, 236.97, 2, 0.12, 0.04, 0.01, 0.01, -999, 9,  -999.00, 9, -999, -999, 9, -999
49NZ20031106, A10, 64, 1, 33, 12033, 2, 20031123, 1309, -30.0025, -7.3312, 4178,    150.6, 2,  14.4595, 2,  35.2828, 2,  35.2851, 2,    222.7, 1,    235.0, 2,     1.35, 2,     3.19, 2,     0.02, 2,     0.42, 2, -999.000, 9, -999.000, 9, -999.000, 9,   -999.0, 9,   -999.0, 9, -999.0000, 9,   -999.00, -999.000, 9, -999.000,   -999.0, 9,   -999.0,  -999.00, 9,   -999.0,  14.4372, 26.3125,  14.4613, 2, 151.1, 2, 234.48, 2, 0.12, 0.04, 0.01, 0.01, -999, 9,  -999.00, 9, -999, -999, 9, -999
49NZ20031106, A10, 64, 1, 32, 12032, 2, 20031123, 1309, -30.0025, -7.3312, 4178,    202.5, 2,  13.7975, 2,  35.2406, 2,  35.2401, 2,    217.3, 1,    228.5, 2,     1.76, 2,     5.45, 2,     0.02, 2,     0.53, 2, -999.000, 9, -999.000, 9, -999.000, 9,   -999.0, 9,   -999.0, 9, -999.0000, 9,   -999.00, -999.000, 9, -999.000,   -999.0, 9,   -999.0,  -999.00, 9,   -999.0,  13.7684, 26.4223,  13.7983, 2, 202.6, 2, 220.94, 2, 0.12, 0.05, 0.01, 0.01, -999, 9,  -999.00, 9, -999, -999, 9, -999
49NZ20031106, A10, 64, 1, 31, 12031, 2, 20031123, 1309, -30.0025, -7.3312, 4178,    252.1, 2,  13.2107, 2,  35.2029, 2,  35.2029, 2,    207.7, 1,    218.0, 2,     2.61, 2,     8.20, 2,     0.01, 2,     0.70, 2, -999.000, 9, -999.000, 9, -999.000, 9,   -999.0, 9,   -999.0, 9, -999.0000, 9,   -999.00, -999.000, 9, -999.000,   -999.0, 9,   -999.0,  -999.00, 9,   -999.0,  13.1755, 26.5155,  13.2067, 2, 255.6, 2, 217.8, 2, 0.12, 0.06, 0.01, 0.01, -999, 9,  -999.00, 9, -999, -999, 9, -999
49NZ20031106, A10, 64, 1, 30, 12030, 2, 20031123, 1309, -30.0025, -7.3312, 4178,    301.4, 2,  12.4140, 2,  35.0988, 2,  35.1008, 2,    205.4, 1,    215.5, 2,     3.30, 2,    10.27, 2,     0.01, 2,     0.83, 2, -999.000, 9, -999.000, 9, -999.000, 9,   -999.0, 9,   -999.0, 9, -999.0000, 9,   -999.00, -999.000, 9, -999.000,   -999.0, 9,   -999.0,  -999.00, 9,   -999.0,  12.3736, 26.5931,  12.4234, 2, 308.4, 2, 215.8, 2, 0.13, 0.06, 0.01, 0.01, -999, 9,  -999.00, 9, -999, -999, 9, -999
49NZ20031106, A10, 64, 1, 29, 12029, 2, 20031123, 1309, -30.0025, -7.3312, 4178,    400.7, 2,  10.8122, 2,  34.8906, 2,  34.8902, 2,    205.0, 1,    215.0, 2,     4.65, 2,    14.13, 2,     0.01, 2,     1.07, 2, -999.000, 9, -999.000, 9, -999.000, 9,   -999.0, 9,   -999.0, 9, -999.0000, 9,   -999.00, -999.000, 9, -999.000,   -999.0, 9,   -999.0,  -999.00, 9,   -999.0,  10.7629, 26.7335,  10.8130, 2, 405.2, 2, 214.97, 2, 0.13, 0.07, 0.01, 0.01, -999, 9,  -999.00, 9, -999, -999, 9, -999
49NZ20031106, A10, 64, 1, 28, 12028, 2, 20031123, 1309, -30.0025, -7.3312, 4178,    501.3, 2,   8.9082, 2,  34.6642, 2,  34.6641, 2,    200.1, 1,    209.3, 2,     7.91, 2,    19.57, 2,     0.00, 2,     1.41, 2, -999.000, 9, -999.000, 9, -999.000, 9,   -999.0, 9,   -999.0, 9, -999.0000, 9,   -999.00, -999.000, 9, -999.000,   -999.0, 9,   -999.0,  -999.00, 9,   -999.0,   8.8534, 26.8786,   8.9096, 2, 505.7, 2, 210.15, 2, 0.14, 0.09, 0.01, 0.01, -999, 9,  -999.00, 9, -999, -999, 9, -999
49NZ20031106, A10, 64, 1, 27, 12027, 2, 20031123, 1309, -30.0025, -7.3312, 4178,    601.2, 2,   7.3484, 2,  34.5098, 2,  34.5117, 2,    198.1, 1,    206.7, 2,    11.91, 2,    23.81, 2,     0.01, 2,     1.68, 2, -999.000, 9, -999.000, 9, -999.000, 9,   -999.0, 9,   -999.0, 9, -999.0000, 9,   -999.00, -999.000, 9, -999.000,   -999.0, 9,   -999.0,  -999.00, 9,   -999.0,   7.2893, 26.9917,   7.3471, 2, 601.3, 2, 207.83, 2, 0.15, 0.1, 0.01, 0.01, -999, 9,  -999.00, 9, -999, -999, 9, -999
49NZ20031106, A10, 64, 1, 26, 12026, 2, 20031123, 1309, -30.0025, -7.3312, 4178,    700.6, 2,   5.6888, 2,  34.3725, 2,  34.3726, 2,    206.0, 1,    215.1, 2,    17.75, 2,    27.23, 2,     0.01, 2,     1.90, 2, -999.000, 9, -999.000, 9, -999.000, 9,   -999.0, 9,   -999.0, 9, -999.0000, 9,   -999.00, -999.000, 9, -999.000,   -999.0, 9,   -999.0,  -999.00, 9,   -999.0,   5.6284, 27.1032,   5.6890, 2, 700.2, 2, 214.96, 2, 0.16, 0.11, 0.01, 0.01, -999, 9,  -999.00, 9, -999, -999, 9, -999
49NZ20031106, A10, 64, 1, 25, 12025, 2, 20031123, 1309, -30.0025, -7.3312, 4178,    801.2, 2,   4.5026, 2,  34.3011, 2,  34.3011, 2,    213.2, 1,    223.2, 2,    23.00, 2,    29.28, 2,     0.01, 2,     2.04, 2, -999.000, 9, -999.000, 9, -999.000, 9,   -999.0, 9,   -999.0, 9, -999.0000, 9,   -999.00, -999.000, 9, -999.000,   -999.0, 9,   -999.0,  -999.00, 9,   -999.0,   4.4403, 27.1839,   4.5027, 2, 801.7, 2, 223.08, 2, 0.17, 0.11, 0.01, 0.02, -999, 9,  -999.00, 9, -999, -999, 9, -999
49NZ20031106, A10, 64, 1, 24, 12024, 2, 20031123, 1309, -30.0025, -7.3312, 4178,    898.9, 2,   4.0229, 2,  34.3106, 2,  34.3111, 2,    207.1, 1,    216.9, 2,    29.19, 2,    30.50, 2,     0.00, 2,     2.12, 2, -999.000, 9, -999.000, 9, -999.000, 9,   -999.0, 9,   -999.0, 9, -999.0000, 9,   -999.00, -999.000, 9, -999.000,   -999.0, 9,   -999.0,  -999.00, 9,   -999.0,   3.9557, 27.2428,   4.0227, 2, 900.8, 2, 218.37, 2, 0.18, 0.12, 0.01, 0.02, -999, 9,  -999.00, 9, -999, -999, 9, -999
49NZ20031106, A10, 64, 1, 7, 12043, 9, 20031123, 1309, -30.0025, -7.3312, 4178,   1000.0, 2,   3.5976, 2,  34.3459, 2, -999.0000, 9,    197.9, 1,   -999.0, 9,  -999.00, 9,  -999.00, 9,  -999.00, 9,  -999.00, 9, -999.000, 9, -999.000, 9, -999.000, 9,   -999.0, 9,   -999.0, 9, -999.0000, 9,   -999.00, -999.000, 9, -999.000,   -999.0, 9,   -999.0,  -999.00, 9,   -999.0,   3.5253, 27.315,   3.6005, 2, 1001.2, 2, 207.65, 2, -999, -999, -999, -999, -999, 9,  -999.00, 9, -999, -999, 9, -999
49NZ20031106, A10, 64, 1, 5, 12041, 9, 20031123, 1309, -30.0025, -7.3312, 4178,   1000.3, 2,   3.5938, 2,  34.3459, 2, -999.0000, 9,    197.5, 1,   -999.0, 9,  -999.00, 9,  -999.00, 9,  -999.00, 9,  -999.00, 9, -999.000, 9, -999.000, 9, -999.000, 9,   -999.0, 9,   -999.0, 9, -999.0000, 9,   -999.00, -999.000, 9, -999.000,   -999.0, 9,   -999.0,  -999.00, 9,   -999.0,   3.5215, 27.316,   3.5900, 2, 1001.5, 2, 207.64, 2, -999, -999, -999, -999, -999, 9,  -999.00, 9, -999, -999, 9, -999
49NZ20031106, A10, 64, 1, 23, 12023, 2, 20031123, 1309, -30.0025, -7.3312, 4178,   1000.5, 2,   3.5783, 2,  34.3481, 2,  34.3464, 3,    197.4, 1,    207.1, 2,    37.08, 2,    31.71, 2,     0.00, 2,     2.21, 2, -999.000, 9, -999.000, 9, -999.000, 9,   -999.0, 9,   -999.0, 9, -999.0000, 9,   -999.00, -999.000, 9, -999.000,   -999.0, 9,   -999.0,  -999.00, 9,   -999.0,   3.5061, 27.3177,   3.5773, 2, 1002.3, 2, 207.56, 2, 0.2, 0.12, 0.01, 0.02, -999, 9,  -999.00, 9, -999, -999, 9, -999
49NZ20031106, A10, 64, 1, 6, 12042, 9, 20031123, 1309, -30.0025, -7.3312, 4178,   1000.5, 2,   3.6022, 2,  34.3452, 2, -999.0000, 9,    197.7, 1,   -999.0, 9,  -999.00, 9,  -999.00, 9,  -999.00, 9,  -999.00, 9, -999.000, 9, -999.000, 9, -999.000, 9,   -999.0, 9,   -999.0, 9, -999.0000, 9,   -999.00, -999.000, 9, -999.000,   -999.0, 9,   -999.0,  -999.00, 9,   -999.0,   3.5298, 27.3138,   3.6018, 2, 1001.4, 2, 207.63, 2, -999, -999, -999, -999, -999, 9,  -999.00, 9, -999, -999, 9, -999
49NZ20031106, A10, 64, 1, 22, 12022, 2, 20031123, 1309, -30.0025, -7.3312, 4178,   1201.3, 2,   3.1146, 2,  34.4736, 2,  34.4731, 2,    180.5, 1,    188.6, 2,    51.17, 2,    32.80, 2,     0.00, 2,     2.29, 2, -999.000, 9, -999.000, 9, -999.000, 9,   -999.0, 9,   -999.0, 9, -999.0000, 9,   -999.00, -999.000, 9, -999.000,   -999.0, 9,   -999.0,  -999.00, 9,   -999.0,   3.0301, 27.4628,   3.1146, 2, 1203.1, 2, 189.04, 2, 0.23, 0.12, 0.01, 0.02, -999, 9,  -999.00, 9, -999, -999, 9, -999
49NZ20031106, A10, 64, 1, 21, 12015, 2, 20031123, 1309, -30.0025, -7.3312, 4178,   1400.0, 2,   3.0536, 2,  34.6132, 2,  34.6132, 2,    177.7, 1,    185.5, 2,    53.35, 2,    31.49, 2,     0.00, 2,     2.19, 2, -999.000, 9, -999.000, 9, -999.000, 9,   -999.0, 9,   -999.0, 9, -999.0000, 9,   -999.00, -999.000, 9, -999.000,   -999.0, 9,   -999.0,  -999.00, 9,   -999.0,   2.9534, 27.5813,   3.0537, 2, 1399.8, 2, 184.77, 2, 0.24, 0.12, 0.01, 0.02, -999, 9,  -999.00, 9, -999, -999, 9, -999
49NZ20031106, A10, 64, 1, 20, 12020, 2, 20031123, 1309, -30.0025, -7.3312, 4178,   1600.2, 2,   2.9593, 2,  34.7072, 2,  34.7076, 2,    186.9, 1,    195.1, 2,    52.05, 2,    29.35, 2,     0.00, 2,     2.04, 2, -999.000, 9, -999.000, 9, -999.000, 9,   -999.0, 9,   -999.0, 9, -999.0000, 9,   -999.00, -999.000, 9, -999.000,   -999.0, 9,   -999.0,  -999.00, 9,   -999.0,   2.8432, 27.6665,   2.9611, 2, 1599.5, 2, 195.03, 2, 0.23, 0.11, 0.01, 0.02, -999, 9,  -999.00, 9, -999, -999, 9, -999
49NZ20031106, A10, 64, 1, 19, 12019, 2, 20031123, 1309, -30.0025, -7.3312, 4178,   1800.2, 2,   2.8547, 2,  34.7742, 2,  34.7738, 2,    198.0, 1,    207.0, 2,    50.41, 2,    27.46, 2,     0.00, 2,     1.91, 2, -999.000, 9, -999.000, 9, -999.000, 9,   -999.0, 9,   -999.0, 9, -999.0000, 9,   -999.00, -999.000, 9, -999.000,   -999.0, 9,   -999.0,  -999.00, 9,   -999.0,   2.7226, 27.7307,   2.8546, 2, 1800.3, 2, 205.93, 2, 0.23, 0.11, 0.01, 0.01, -999, 9,  -999.00, 9, -999, -999, 9, -999
49NZ20031106, A10, 64, 1, 18, 12018, 2, 20031123, 1309, -30.0025, -7.3312, 4178,   1999.0, 2,   2.6777, 2,  34.8012, 2,  34.8015, 2,    205.3, 1,    214.8, 2,    52.07, 2,    26.43, 2,     0.00, 2,     1.83, 2, -999.000, 9, -999.000, 9, -999.000, 9,   -999.0, 9,   -999.0, 9, -999.0000, 9,   -999.00, -999.000, 9, -999.000,   -999.0, 9,   -999.0,  -999.00, 9,   -999.0,   2.5305, 27.7691,   2.6777, 2, 1998.9, 2, 214.09, 2, 0.23, 0.11, 0.01, 0.01, -999, 9,  -999.00, 9, -999, -999, 9, -999
49NZ20031106, A10, 64, 1, 17, 12017, 2, 20031123, 1309, -30.0025, -7.3312, 4178,   2200.1, 2,   2.5847, 2,  34.8247, 2,  34.8247, 2,    212.2, 1,    222.0, 2,    51.47, 2,    25.54, 2,     0.01, 2,     1.77, 2, -999.000, 9, -999.000, 9, -999.000, 9,   -999.0, 9,   -999.0, 9, -999.0000, 9,   -999.00, -999.000, 9, -999.000,   -999.0, 9,   -999.0,  -999.00, 9,   -999.0,   2.4208, 27.7975,   2.5847, 2, 2199.9, 2, 221.3, 2, 0.23, 0.1, 0.01, 0.01, -999, 9,  -999.00, 9, -999, -999, 9, -999
49NZ20031106, A10, 64, 1, 16, 12016, 2, 20031123, 1309, -30.0025, -7.3312, 4178,   2399.1, 2,   2.5150, 2,  34.8397, 2,  34.8392, 2,    217.0, 1,    227.1, 2,    51.09, 2,    24.85, 2,     0.00, 2,     1.73, 2, -999.000, 9, -999.000, 9, -999.000, 9,   -999.0, 9,   -999.0, 9, -999.0000, 9,   -999.00, -999.000, 9, -999.000,   -999.0, 9,   -999.0,  -999.00, 9,   -999.0,   2.3339, 27.8167,   2.5153, 2, 2398.9, 2, 226.93, 2, 0.23, 0.1, 0.01, 0.01, -999, 9,  -999.00, 9, -999, -999, 9, -999
49NZ20031106, A10, 64, 1, 15, 12012, 2, 20031123, 1309, -30.0025, -7.3312, 4178,   2600.1, 2,   2.4455, 2,  34.8526, 2,  34.8528, 2,    221.8, 1,    232.1, 2,    50.63, 2,    24.17, 2,     0.00, 2,     1.68, 2, -999.000, 9, -999.000, 9, -999.000, 9,   -999.0, 9,   -999.0, 9, -999.0000, 9,   -999.00, -999.000, 9, -999.000,   -999.0, 9,   -999.0,  -999.00, 9,   -999.0,   2.2466, 27.8345,   2.4456, 2, 2600.5, 2, 231.31, 2, 0.23, 0.1, 0.01, 0.01, -999, 9,  -999.00, 9, -999, -999, 9, -999
49NZ20031106, A10, 64, 1, 14, 12014, 2, 20031123, 1309, -30.0025, -7.3312, 4178,   2800.5, 2,   2.4074, 2,  34.8613, 2,  34.8607, 2,    224.9, 1,    234.8, 2,    50.20, 2,    23.84, 2,     0.00, 2,     1.65, 2, -999.000, 9, -999.000, 9, -999.000, 9,   -999.0, 9,   -999.0, 9, -999.0000, 9,   -999.00, -999.000, 9, -999.000,   -999.0, 9,   -999.0,  -999.00, 9,   -999.0,   2.1897, 27.8462,   2.4075, 2, 2800.6, 2, 234.74, 2, 0.23, 0.1, 0.01, 0.01, -999, 9,  -999.00, 9, -999, -999, 9, -999
49NZ20031106, A10, 64, 1, 13, 12013, 2, 20031123, 1309, -30.0025, -7.3312, 4178,   3000.9, 2,   2.3820, 2,  34.8675, 2,  34.8679, 2,    226.7, 1,    236.6, 2,    50.11, 2,    23.54, 2,     0.00, 2,     1.63, 2, -999.000, 9, -999.000, 9, -999.000, 9,   -999.0, 9,   -999.0, 9, -999.0000, 9,   -999.00, -999.000, 9, -999.000,   -999.0, 9,   -999.0,  -999.00, 9,   -999.0,   2.1449, 27.8549,   2.3821, 2, 3001, 2, 236.38, 2, 0.23, 0.1, 0.01, 0.01, -999, 9,  -999.00, 9, -999, -999, 9, -999
49NZ20031106, A10, 64, 1, 12, 12048, 2, 20031123, 1309, -30.0025, -7.3312, 4178,   3250.2, 2,   2.3669, 2,  34.8726, 2,  34.8729, 3,    227.7, 1,    237.1, 2,    50.28, 2,    23.39, 2,     0.00, 2,     1.61, 2, -999.000, 9, -999.000, 9, -999.000, 9,   -999.0, 9,   -999.0, 9, -999.0000, 9,   -999.00, -999.000, 9, -999.000,   -999.0, 9,   -999.0,  -999.00, 9,   -999.0,   2.1045, 27.8625,   2.3669, 2, 3250.2, 2, 237.24, 2, 0.23, 0.1, 0.01, 0.01, -999, 9,  -999.00, 9, -999, -999, 9, -999
49NZ20031106, A10, 64, 1, 11, 12047, 2, 20031123, 1309, -30.0025, -7.3312, 4178,   3500.9, 2,   2.3706, 2,  34.8758, 2,  34.8758, 2,    228.0, 1,    236.6, 2,    50.58, 2,    23.32, 2,     0.00, 2,     1.61, 2, -999.000, 9, -999.000, 9, -999.000, 9,   -999.0, 9,   -999.0, 9, -999.0000, 9,   -999.00, -999.000, 9, -999.000,   -999.0, 9,   -999.0,  -999.00, 9,   -999.0,   2.0815, 27.8669,   2.3707, 2, 3500.9, 2, 236.69, 2, 0.23, 0.1, 0.01, 0.01, -999, 9,  -999.00, 9, -999, -999, 9, -999
49NZ20031106, A10, 64, 1, 10, 12046, 2, 20031123, 1309, -30.0025, -7.3312, 4178,   3750.5, 2,   2.3763, 2,  34.8785, 2,  34.8785, 2,    227.8, 1,    235.6, 2,    51.05, 2,    23.33, 2,     0.00, 2,     1.61, 2, -999.000, 9, -999.000, 9, -999.000, 9,   -999.0, 9,   -999.0, 9, -999.0000, 9,   -999.00, -999.000, 9, -999.000,   -999.0, 9,   -999.0,  -999.00, 9,   -999.0,   2.0597, 27.871,   2.3763, 2, 3750.4, 2, 235.49, 2, 0.23, 0.1, 0.01, 0.01, -999, 9,  -999.00, 9, -999, -999, 9, -999
49NZ20031106, A10, 64, 1, 9, 12045, 2, 20031123, 1309, -30.0025, -7.3312, 4178,   4000.9, 2,   2.3895, 2,  34.8793, 2,  34.8794, 2,    228.1, 1,    234.7, 2,    51.53, 2,    23.36, 2,     0.00, 2,     1.62, 2, -999.000, 9, -999.000, 9, -999.000, 9,   -999.0, 9,   -999.0, 9, -999.0000, 9,   -999.00, -999.000, 9, -999.000,   -999.0, 9,   -999.0,  -999.00, 9,   -999.0,   2.0444, 27.8727,   2.3896, 2, 4000.9, 2, 234.63, 2, 0.23, 0.1, 0.01, 0.01, -999, 9,  -999.00, 9, -999, -999, 9, -999
49NZ20031106, A10, 64, 1, 8, 12044, 2, 20031123, 1309, -30.0025, -7.3312, 4178,   4231.9, 2,   2.3983, 2,  34.8785, 2,  34.8786, 2,    228.9, 1,    234.0, 2,    52.24, 2,    23.48, 2,     0.00, 2,     1.63, 2, -999.000, 9, -999.000, 9, -999.000, 9,   -999.0, 9,   -999.0, 9, -999.0000, 9,   -999.00, -999.000, 9, -999.000,   -999.0, 9,   -999.0,  -999.00, 9,   -999.0,   2.0262, 27.8735,   2.3985, 2, 4231.9, 2, 233.6, 2, 0.23, 0.1, 0.01, 0.01, -999, 9,  -999.00, 9, -999, -999, 9, -999