BOTTLE,20220818CCHSIOAMB
# Changed TOC units from empty string to expected UMOL/KG, there is no data, there are flag 1s
# Extracted residual with missing pressures
#BOTTLE,20111028CCHDOSIOCBG
#code : Justin Fields merge_exchange.rb 
#original files copied from HTML directory: 2011-10-28
#original HYD file: /data/co2clivar/atlantic/a10/a10_2003a/original/2011.10.28_jamstec_update_cberys/processing/original_hy1.csv  2011-10-28
#Header from merged file
#BOTTLE,20070629JAMSTECIORGC
#Software_Version: whp_btl_exchange.rb_v1.61 (ogc_group)
#ORIGINAL_SUM_FILE: sum_leg4_050201.csv Fri Apr 08 13:19:10 +0900 2005
#ORIGINAL_HYD_FILE: sea_leg4_070629.csv Fri Jun 29 17:56:52 +0900 2007
#DEPTH_TYPE: COR
#EVENT_CODE: BO
#BOTTLE,20111027CCHDOSIOCBG
#code : Justin Fields merge_exchange.rb
#original files copied from HTML directory: 2011-10-27
#original HYD file: /data/co2clivar/atlantic/a10/a10_2003a/original/2011.10.25_ph_headers_cberys/temp/original_hy1.csv  2011-10-27
#BOTTLE,20051012WHPSIOSA
#code : jjward hyd_to_exchange.pl
#original files copied from HTML directory: Oct. 12, 2005
#original HYD file: a10_2003ahy.txt   Wed Oct 12 10:47:17 2005
#original SUM file: a10_2003asu.txt   Wed Oct 12 10:49:19 2005
EXPOCODE,SECT_ID,STNNBR,CASTNO,SAMPNO,BTLNBR,BTLNBR_FLAG_W,DATE,TIME,LATITUDE,LONGITUDE,DEPTH,CTDPRS,CTDPRS_FLAG_W,CTDTMP,CTDTMP_FLAG_W,CTDSAL,CTDSAL_FLAG_W,SALNTY,SALNTY_FLAG_W,CTDOXY,CTDOXY_FLAG_W,OXYGEN,OXYGEN_FLAG_W,SILCAT,SILCAT_FLAG_W,NITRAT,NITRAT_FLAG_W,NITRIT,NITRIT_FLAG_W,PHSPHT,PHSPHT_FLAG_W,CFC-11,CFC-11_FLAG_W,CFC-12,CFC-12_FLAG_W,CFC113,CFC113_FLAG_W,TCARBN,TCARBN_FLAG_W,ALKALI,ALKALI_FLAG_W,PH_TOT,PH_TOT_FLAG_W,PH_TMP,TRITUM,TRITUM_FLAG_W,TRITER,DELC14,DELC14_FLAG_W,C14ERR,DELC13,DELC13_FLAG_W,C13ERR,THETA,SIG0,SBE35,SBE35_FLAG_W,DWNPRS,DWNPRS_FLAG_W,DWNOXY,DWNOXY_FLAG_W,SILUNC,NRAUNC,NRIUNC,PHPUNC,TOC,TOC_FLAG_W,CS-137,CS-137_FLAG_W,CS137ER,PLUTO,PLUTO_FLAG_W,PLUTOER
,,,,,,,,,,,METERS,DBAR,,ITS-90,,PSS-78,,PSS-78,,UMOL/KG,,UMOL/KG,,UMOL/KG,,UMOL/KG,,UMOL/KG,,UMOL/KG,,PMOL/KG,,PMOL/KG,,PMOL/KG,,UMOL/KG,,UMOL/KG,,,,DEG C,TU,,TU,/MILLE,,/MILLE,/MILLE,,/MILLE,DEG C,KG/M^3,ITS-90,,DBAR,,UMOL/KG,,UMOL/KG,UMOL/KG,UMOL/KG,UMOL/KG,UMOL/KG,,BQ/M^3,,BQ/M^3,MBQ/M^3,,MBQ/M^3
49NZ20031106, A10, 622, 1, 36, 12048, 2, 20031107, 1102, -27.7318, -47.3898, 181,     10.3, 2,  22.2904, 2,  35.5685, 2,  35.5676, 2,    207.1, 1,    218.7, 2,     3.30, 2,     0.03, 2,     0.00, 2,     0.20, 2, -999.000, 9, -999.000, 9, -999.000, 9,   -999.0, 9,   -999.0, 9, -999.0000, 9,   -999.00, -999.000, 9, -999.000,   -999.0, 9,   -999.0,  -999.00, 9,   -999.0,  22.2883, 24.57,  22.2904, 2, 10.8, 2, 218.91, 2, 0.13, 0.03, 0.01, 0.02, -999, 9,  -999.00, 9, -999, -999, 9, -999
49NZ20031106, A10, 622, 1, 35, 12047, 2, 20031107, 1102, -27.7318, -47.3898, 181,     50.9, 2,  22.3822, 2,  36.8064, 2,  36.8065, 2,    204.6, 1,    216.3, 2,     0.83, 2,     0.01, 2,     0.00, 2,     0.11, 2, -999.000, 9, -999.000, 9, -999.000, 9,   -999.0, 9,   -999.0, 9, -999.0000, 9,   -999.00, -999.000, 9, -999.000,   -999.0, 9,   -999.0,  -999.00, 9,   -999.0,  22.3719, 25.488,  22.3811, 2, 52.8, 2, 215.64, 2, 0.12, 0.03, 0.01, 0.02, -999, 9,  -999.00, 9, -999, -999, 9, -999
49NZ20031106, A10, 622, 1, 30, 12042, 9, 20031107, 1102, -27.7318, -47.3898, 181,    101.7, 2,  18.6675, 2,  36.0923, 2, -999.0000, 9,    179.9, 1,   -999.0, 9,  -999.00, 9,  -999.00, 9,  -999.00, 9,  -999.00, 9, -999.000, 9, -999.000, 9, -999.000, 9,   -999.0, 9,   -999.0, 9, -999.0000, 9,   -999.00, -999.000, 9, -999.000,   -999.0, 9,   -999.0,  -999.00, 9,   -999.0,  18.6495, 25.9443,  18.6692, 2, 103.1, 2, 190.73, 2, -999, -999, -999, -999, -999, 9,  -999.00, 9, -999, -999, 9, -999
49NZ20031106, A10, 622, 1, 12, 12024, 9, 20031107, 1102, -27.7318, -47.3898, 181,    101.8, 2,  18.6205, 2,  36.0891, 2, -999.0000, 9,    181.1, 1,   -999.0, 9,  -999.00, 9,  -999.00, 9,  -999.00, 9,  -999.00, 9, -999.000, 9, -999.000, 9, -999.000, 9,   -999.0, 9,   -999.0, 9, -999.0000, 9,   -999.00, -999.000, 9, -999.000,   -999.0, 9,   -999.0,  -999.00, 9,   -999.0,  18.6025, 25.9558,  18.6208, 2, 104.2, 2, 190.77, 2, -999, -999, -999, -999, -999, 9,  -999.00, 9, -999, -999, 9, -999
49NZ20031106, A10, 622, 1, 29, 12041, 9, 20031107, 1102, -27.7318, -47.3898, 181,    101.9, 2,  18.6732, 2,  36.0931, 2, -999.0000, 9,    180.0, 1,   -999.0, 9,  -999.00, 9,  -999.00, 9,  -999.00, 9,  -999.00, 9, -999.000, 9, -999.000, 9, -999.000, 9,   -999.0, 9,   -999.0, 9, -999.0000, 9,   -999.00, -999.000, 9, -999.000,   -999.0, 9,   -999.0,  -999.00, 9,   -999.0,  18.6552, 25.9452,  18.6769, 2, 103.1, 2, 190.73, 2, -999, -999, -999, -999, -999, 9,  -999.00, 9, -999, -999, 9, -999
49NZ20031106, A10, 622, 1, 23, 12035, 9, 20031107, 1102, -27.7318, -47.3898, 181,    101.9, 2,  18.6868, 2,  36.0955, 2, -999.0000, 9,    180.1, 1,   -999.0, 9,  -999.00, 9,  -999.00, 9,  -999.00, 9,  -999.00, 9, -999.000, 9, -999.000, 9, -999.000, 9,   -999.0, 9,   -999.0, 9, -999.0000, 9,   -999.00, -999.000, 9, -999.000,   -999.0, 9,   -999.0,  -999.00, 9,   -999.0,  18.6687, 25.944,  18.6866, 2, 103, 2, 190.72, 2, -999, -999, -999, -999, -999, 9,  -999.00, 9, -999, -999, 9, -999
49NZ20031106, A10, 622, 1, 22, 12034, 9, 20031107, 1102, -27.7318, -47.3898, 181,    101.9, 2,  18.6653, 2,  36.0940, 2, -999.0000, 9,    179.9, 1,   -999.0, 9,  -999.00, 9,  -999.00, 9,  -999.00, 9,  -999.00, 9, -999.000, 9, -999.000, 9, -999.000, 9,   -999.0, 9,   -999.0, 9, -999.0000, 9,   -999.00, -999.000, 9, -999.000,   -999.0, 9,   -999.0,  -999.00, 9,   -999.0,  18.6473, 25.9475,  18.6736, 2, 103.6, 2, 190.72, 2, -999, -999, -999, -999, -999, 9,  -999.00, 9, -999, -999, 9, -999
49NZ20031106, A10, 622, 1, 18, 12030, 9, 20031107, 1102, -27.7318, -47.3898, 181,    101.9, 2,  18.6759, 2,  36.0952, 2, -999.0000, 9,    180.4, 1,   -999.0, 9,  -999.00, 9,  -999.00, 9,  -999.00, 9,  -999.00, 9, -999.000, 9, -999.000, 9, -999.000, 9,   -999.0, 9,   -999.0, 9, -999.0000, 9,   -999.00, -999.000, 9, -999.000,   -999.0, 9,   -999.0,  -999.00, 9,   -999.0,  18.6579, 25.9475,  18.6646, 2, 103.3, 2, 190.73, 2, -999, -999, -999, -999, -999, 9,  -999.00, 9, -999, -999, 9, -999
49NZ20031106, A10, 622, 1, 14, 12026, 9, 20031107, 1102, -27.7318, -47.3898, 181,    101.9, 2,  18.6262, 2,  36.0898, 2, -999.0000, 9,    180.8, 1,   -999.0, 9,  -999.00, 9,  -999.00, 9,  -999.00, 9,  -999.00, 9, -999.000, 9, -999.000, 9, -999.000, 9,   -999.0, 9,   -999.0, 9, -999.0000, 9,   -999.00, -999.000, 9, -999.000,   -999.0, 9,   -999.0,  -999.00, 9,   -999.0,  18.6082, 25.9543,  18.6277, 2, 104.2, 2, 190.76, 2, -999, -999, -999, -999, -999, 9,  -999.00, 9, -999, -999, 9, -999
49NZ20031106, A10, 622, 1, 8, 12020, 9, 20031107, 1102, -27.7318, -47.3898, 181,    101.9, 2,  18.6086, 2,  36.0875, 2, -999.0000, 9,    180.9, 1,   -999.0, 9,  -999.00, 9,  -999.00, 9,  -999.00, 9,  -999.00, 9, -999.000, 9, -999.000, 9, -999.000, 9,   -999.0, 9,   -999.0, 9, -999.0000, 9,   -999.00, -999.000, 9, -999.000,   -999.0, 9,   -999.0,  -999.00, 9,   -999.0,  18.5906, 25.9584,  18.6064, 2, 104.3, 2, 190.8, 2, -999, -999, -999, -999, -999, 9,  -999.00, 9, -999, -999, 9, -999
49NZ20031106, A10, 622, 1, 34, 12046, 2, 20031107, 1102, -27.7318, -47.3898, 181,    102.0, 2,  18.6916, 2,  36.0993, 2,  36.1018, 2,    180.7, 1,    189.4, 2,     2.71, 2,     3.56, 2,     0.07, 2,     0.39, 2, -999.000, 9, -999.000, 9, -999.000, 9,   -999.0, 9,   -999.0, 9, -999.0000, 9,   -999.00, -999.000, 9, -999.000,   -999.0, 9,   -999.0,  -999.00, 9,   -999.0,  18.6735, 25.9444,  18.6952, 2, 103.2, 2, 190.72, 2, 0.12, 0.04, 0.01, 0.01, -999, 9,  -999.00, 9, -999, -999, 9, -999
49NZ20031106, A10, 622, 1, 20, 12032, 9, 20031107, 1102, -27.7318, -47.3898, 181,    102.0, 2,  18.6570, 2,  36.0931, 2, -999.0000, 9,    180.3, 1,   -999.0, 9,  -999.00, 9,  -999.00, 9,  -999.00, 9,  -999.00, 9, -999.000, 9, -999.000, 9, -999.000, 9,   -999.0, 9,   -999.0, 9, -999.0000, 9,   -999.00, -999.000, 9, -999.000,   -999.0, 9,   -999.0,  -999.00, 9,   -999.0,  18.6390, 25.9493,  18.6644, 2, 103.9, 2, 190.71, 2, -999, -999, -999, -999, -999, 9,  -999.00, 9, -999, -999, 9, -999
49NZ20031106, A10, 622, 1, 17, 12029, 9, 20031107, 1102, -27.7318, -47.3898, 181,    102.0, 2,  18.6614, 2,  36.0934, 2, -999.0000, 9,    180.5, 1,   -999.0, 9,  -999.00, 9,  -999.00, 9,  -999.00, 9,  -999.00, 9, -999.000, 9, -999.000, 9, -999.000, 9,   -999.0, 9,   -999.0, 9, -999.0000, 9,   -999.00, -999.000, 9, -999.000,   -999.0, 9,   -999.0,  -999.00, 9,   -999.0,  18.6433, 25.95,  18.6568, 2, 103.7, 2, 190.72, 2, -999, -999, -999, -999, -999, 9,  -999.00, 9, -999, -999, 9, -999
49NZ20031106, A10, 622, 1, 16, 12028, 9, 20031107, 1102, -27.7318, -47.3898, 181,    102.0, 2,  18.6432, 2,  36.0915, 2, -999.0000, 9,    180.7, 1,   -999.0, 9,  -999.00, 9,  -999.00, 9,  -999.00, 9,  -999.00, 9, -999.000, 9, -999.000, 9, -999.000, 9,   -999.0, 9,   -999.0, 9, -999.0000, 9,   -999.00, -999.000, 9, -999.000,   -999.0, 9,   -999.0,  -999.00, 9,   -999.0,  18.6252, 25.9517,  18.6434, 2, 104.1, 2, 190.73, 2, -999, -999, -999, -999, -999, 9,  -999.00, 9, -999, -999, 9, -999
49NZ20031106, A10, 622, 1, 28, 12040, 9, 20031107, 1102, -27.7318, -47.3898, 181,    102.1, 2,  18.6760, 2,  36.0935, 2, -999.0000, 9,    180.1, 1,   -999.0, 9,  -999.00, 9,  -999.00, 9,  -999.00, 9,  -999.00, 9, -999.000, 9, -999.000, 9, -999.000, 9,   -999.0, 9,   -999.0, 9, -999.0000, 9,   -999.00, -999.000, 9, -999.000,   -999.0, 9,   -999.0,  -999.00, 9,   -999.0,  18.6579, 25.9453,  18.6742, 2, 103.2, 2, 190.72, 2, -999, -999, -999, -999, -999, 9,  -999.00, 9, -999, -999, 9, -999
49NZ20031106, A10, 622, 1, 26, 12038, 9, 20031107, 1102, -27.7318, -47.3898, 181,    102.1, 2,  18.6763, 2,  36.0942, 2, -999.0000, 9,    180.1, 1,   -999.0, 9,  -999.00, 9,  -999.00, 9,  -999.00, 9,  -999.00, 9, -999.000, 9, -999.000, 9, -999.000, 9,   -999.0, 9,   -999.0, 9, -999.0000, 9,   -999.00, -999.000, 9, -999.000,   -999.0, 9,   -999.0,  -999.00, 9,   -999.0,  18.6582, 25.9453,  18.6767, 2, 103.3, 2, 190.73, 2, -999, -999, -999, -999, -999, 9,  -999.00, 9, -999, -999, 9, -999
49NZ20031106, A10, 622, 1, 25, 12037, 9, 20031107, 1102, -27.7318, -47.3898, 181,    102.1, 2,  18.6823, 2,  36.0950, 2, -999.0000, 9,    180.0, 1,   -999.0, 9,  -999.00, 9,  -999.00, 9,  -999.00, 9,  -999.00, 9, -999.000, 9, -999.000, 9, -999.000, 9,   -999.0, 9,   -999.0, 9, -999.0000, 9,   -999.00, -999.000, 9, -999.000,   -999.0, 9,   -999.0,  -999.00, 9,   -999.0,  18.6642, 25.9446,  18.6834, 2, 103.1, 2, 190.73, 2, -999, -999, -999, -999, -999, 9,  -999.00, 9, -999, -999, 9, -999
49NZ20031106, A10, 622, 1, 19, 12031, 9, 20031107, 1102, -27.7318, -47.3898, 181,    102.1, 2,  18.6648, 2,  36.0941, 2, -999.0000, 9,    180.3, 1,   -999.0, 9,  -999.00, 9,  -999.00, 9,  -999.00, 9,  -999.00, 9, -999.000, 9, -999.000, 9, -999.000, 9,   -999.0, 9,   -999.0, 9, -999.0000, 9,   -999.00, -999.000, 9, -999.000,   -999.0, 9,   -999.0,  -999.00, 9,   -999.0,  18.6467, 25.9478,  18.6707, 2, 103.7, 2, 190.72, 2, -999, -999, -999, -999, -999, 9,  -999.00, 9, -999, -999, 9, -999
49NZ20031106, A10, 622, 1, 7, 12019, 9, 20031107, 1102, -27.7318, -47.3898, 181,    102.1, 2,  18.6001, 2,  36.0866, 2, -999.0000, 9,    181.6, 1,   -999.0, 9,  -999.00, 9,  -999.00, 9,  -999.00, 9,  -999.00, 9, -999.000, 9, -999.000, 9, -999.000, 9,   -999.0, 9,   -999.0, 9, -999.0000, 9,   -999.00, -999.000, 9, -999.000,   -999.0, 9,   -999.0,  -999.00, 9,   -999.0,  18.5821, 25.9583,  18.5998, 2, 104.5, 2, 190.84, 2, -999, -999, -999, -999, -999, 9,  -999.00, 9, -999, -999, 9, -999
49NZ20031106, A10, 622, 1, 6, 12018, 9, 20031107, 1102, -27.7318, -47.3898, 181,    102.1, 2,  18.6043, 2,  36.0871, 2, -999.0000, 9,    181.3, 1,   -999.0, 9,  -999.00, 9,  -999.00, 9,  -999.00, 9,  -999.00, 9, -999.000, 9, -999.000, 9, -999.000, 9,   -999.0, 9,   -999.0, 9, -999.0000, 9,   -999.00, -999.000, 9, -999.000,   -999.0, 9,   -999.0,  -999.00, 9,   -999.0,  18.5863, 25.9589,  18.5993, 2, 104.4, 2, 190.82, 2, -999, -999, -999, -999, -999, 9,  -999.00, 9, -999, -999, 9, -999
49NZ20031106, A10, 622, 1, 3, 12012, 9, 20031107, 1102, -27.7318, -47.3898, 181,    102.1, 2,  18.6555, 2,  36.0944, 2, -999.0000, 9,    181.4, 1,   -999.0, 9,  -999.00, 9,  -999.00, 9,  -999.00, 9,  -999.00, 9, -999.000, 9, -999.000, 9, -999.000, 9,   -999.0, 9,   -999.0, 9, -999.0000, 9,   -999.00, -999.000, 9, -999.000,   -999.0, 9,   -999.0,  -999.00, 9,   -999.0,  18.6374, 25.9507,  18.6515, 2, 104, 2, 190.72, 2, -999, -999, -999, -999, -999, 9,  -999.00, 9, -999, -999, 9, -999
49NZ20031106, A10, 622, 1, 1, 12013, 9, 20031107, 1102, -27.7318, -47.3898, 181,    102.1, 2,  18.6767, 2,  36.0975, 2, -999.0000, 9,    181.0, 1,   -999.0, 9,  -999.00, 9,  -999.00, 9,  -999.00, 9,  -999.00, 9, -999.000, 9, -999.000, 9, -999.000, 9,   -999.0, 9,   -999.0, 9, -999.0000, 9,   -999.00, -999.000, 9, -999.000,   -999.0, 9,   -999.0,  -999.00, 9,   -999.0,  18.6586, 25.9478,  18.6743, 2, 103.7, 2, 190.71, 2, -999, -999, -999, -999, -999, 9,  -999.00, 9, -999, -999, 9, -999
49NZ20031106, A10, 622, 1, 24, 12036, 9, 20031107, 1102, -27.7318, -47.3898, 181,    102.2, 2,  18.6781, 2,  36.0946, 2, -999.0000, 9,    179.7, 1,   -999.0, 9,  -999.00, 9,  -999.00, 9,  -999.00, 9,  -999.00, 9, -999.000, 9, -999.000, 9, -999.000, 9,   -999.0, 9,   -999.0, 9, -999.0000, 9,   -999.00, -999.000, 9, -999.000,   -999.0, 9,   -999.0,  -999.00, 9,   -999.0,  18.6600, 25.9448,  18.6820, 2, 103.3, 2, 190.73, 2, -999, -999, -999, -999, -999, 9,  -999.00, 9, -999, -999, 9, -999
49NZ20031106, A10, 622, 1, 21, 12033, 9, 20031107, 1102, -27.7318, -47.3898, 181,    102.2, 2,  18.6736, 2,  36.0944, 2, -999.0000, 9,    180.1, 1,   -999.0, 9,  -999.00, 9,  -999.00, 9,  -999.00, 9,  -999.00, 9, -999.000, 9, -999.000, 9, -999.000, 9,   -999.0, 9,   -999.0, 9, -999.0000, 9,   -999.00, -999.000, 9, -999.000,   -999.0, 9,   -999.0,  -999.00, 9,   -999.0,  18.6555, 25.9462,  18.6829, 2, 103.5, 2, 190.73, 2, -999, -999, -999, -999, -999, 9,  -999.00, 9, -999, -999, 9, -999
49NZ20031106, A10, 622, 1, 13, 12025, 9, 20031107, 1102, -27.7318, -47.3898, 181,    102.2, 2,  18.6261, 2,  36.0899, 2, -999.0000, 9,    181.1, 1,   -999.0, 9,  -999.00, 9,  -999.00, 9,  -999.00, 9,  -999.00, 9, -999.000, 9, -999.000, 9, -999.000, 9,   -999.0, 9,   -999.0, 9, -999.0000, 9,   -999.00, -999.000, 9, -999.000,   -999.0, 9,   -999.0,  -999.00, 9,   -999.0,  18.6080, 25.9545,  18.6286, 2, 104.3, 2, 190.78, 2, -999, -999, -999, -999, -999, 9,  -999.00, 9, -999, -999, 9, -999
49NZ20031106, A10, 622, 1, 5, 12017, 9, 20031107, 1102, -27.7318, -47.3898, 181,    102.2, 2,  18.5948, 2,  36.0865, 2, -999.0000, 9,    181.6, 1,   -999.0, 9,  -999.00, 9,  -999.00, 9,  -999.00, 9,  -999.00, 9, -999.000, 9, -999.000, 9, -999.000, 9,   -999.0, 9,   -999.0, 9, -999.0000, 9,   -999.00, -999.000, 9, -999.000,   -999.0, 9,   -999.0,  -999.00, 9,   -999.0,  18.5768, 25.9594,  18.5961, 2, 104.6, 2, 190.87, 2, -999, -999, -999, -999, -999, 9,  -999.00, 9, -999, -999, 9, -999
49NZ20031106, A10, 622, 1, 4, 12016, 9, 20031107, 1102, -27.7318, -47.3898, 181,    102.2, 2,  18.6027, 2,  36.0877, 2, -999.0000, 9,    181.5, 1,   -999.0, 9,  -999.00, 9,  -999.00, 9,  -999.00, 9,  -999.00, 9, -999.000, 9, -999.000, 9, -999.000, 9,   -999.0, 9,   -999.0, 9, -999.0000, 9,   -999.00, -999.000, 9, -999.000,   -999.0, 9,   -999.0,  -999.00, 9,   -999.0,  18.5847, 25.9559,  18.6131, 2, 104.5, 2, 190.85, 2, -999, -999, -999, -999, -999, 9,  -999.00, 9, -999, -999, 9, -999
49NZ20031106, A10, 622, 1, 2, 12014, 9, 20031107, 1102, -27.7318, -47.3898, 181,    102.2, 2,  18.6602, 2,  36.0946, 2, -999.0000, 9,    181.3, 1,   -999.0, 9,  -999.00, 9,  -999.00, 9,  -999.00, 9,  -999.00, 9, -999.000, 9, -999.000, 9, -999.000, 9,   -999.0, 9,   -999.0, 9, -999.0000, 9,   -999.00, -999.000, 9, -999.000,   -999.0, 9,   -999.0,  -999.00, 9,   -999.0,  18.6421, 25.9508,  18.6575, 2, 104, 2, 190.71, 2, -999, -999, -999, -999, -999, 9,  -999.00, 9, -999, -999, 9, -999
49NZ20031106, A10, 622, 1, 27, 12039, 9, 20031107, 1102, -27.7318, -47.3898, 181,    102.3, 2,  18.6671, 2,  36.0926, 2, -999.0000, 9,    180.1, 1,   -999.0, 9,  -999.00, 9,  -999.00, 9,  -999.00, 9,  -999.00, 9, -999.000, 9, -999.000, 9, -999.000, 9,   -999.0, 9,   -999.0, 9, -999.0000, 9,   -999.00, -999.000, 9, -999.000,   -999.0, 9,   -999.0,  -999.00, 9,   -999.0,  18.6490, 25.9462,  18.6716, 2, 103.6, 2, 190.72, 2, -999, -999, -999, -999, -999, 9,  -999.00, 9, -999, -999, 9, -999
49NZ20031106, A10, 622, 1, 9, 12015, 9, 20031107, 1102, -27.7318, -47.3898, 181,    102.3, 2,  18.5958, 2,  36.0858, 2, -999.0000, 9,    181.1, 1,   -999.0, 9,  -999.00, 9,  -999.00, 9,  -999.00, 9,  -999.00, 9, -999.000, 9, -999.000, 9, -999.000, 9,   -999.0, 9,   -999.0, 9, -999.0000, 9,   -999.00, -999.000, 9, -999.000,   -999.0, 9,   -999.0,  -999.00, 9,   -999.0,  18.5777, 25.9584,  18.6052, 2, 104.5, 2, 190.86, 2, -999, -999, -999, -999, -999, 9,  -999.00, 9, -999, -999, 9, -999
49NZ20031106, A10, 622, 1, 15, 12027, 9, 20031107, 1102, -27.7318, -47.3898, 181,    102.4, 2,  18.6206, 2,  36.0885, 2, -999.0000, 9,    181.0, 1,   -999.0, 9,  -999.00, 9,  -999.00, 9,  -999.00, 9,  -999.00, 9, -999.000, 9, -999.000, 9, -999.000, 9,   -999.0, 9,   -999.0, 9, -999.0000, 9,   -999.00, -999.000, 9, -999.000,   -999.0, 9,   -999.0,  -999.00, 9,   -999.0,  18.6025, 25.9551,  18.6240, 2, 104.3, 2, 190.8, 2, -999, -999, -999, -999, -999, 9,  -999.00, 9, -999, -999, 9, -999
49NZ20031106, A10, 622, 1, 10, 12022, 9, 20031107, 1102, -27.7318, -47.3898, 181,    102.4, 2,  18.6134, 2,  36.0879, 2, -999.0000, 9,    180.9, 1,   -999.0, 9,  -999.00, 9,  -999.00, 9,  -999.00, 9,  -999.00, 9, -999.000, 9, -999.000, 9, -999.000, 9,   -999.0, 9,   -999.0, 9, -999.0000, 9,   -999.00, -999.000, 9, -999.000,   -999.0, 9,   -999.0,  -999.00, 9,   -999.0,  18.5953, 25.9566,  18.6118, 2, 104.4, 2, 190.82, 2, -999, -999, -999, -999, -999, 9,  -999.00, 9, -999, -999, 9, -999
49NZ20031106, A10, 622, 1, 31, 12043, 9, 20031107, 1102, -27.7318, -47.3898, 181,    102.5, 2,  18.6596, 2,  36.0909, 2, -999.0000, 9,    179.8, 1,   -999.0, 9,  -999.00, 9,  -999.00, 9,  -999.00, 9,  -999.00, 9, -999.000, 9, -999.000, 9, -999.000, 9,   -999.0, 9,   -999.0, 9, -999.0000, 9,   -999.00, -999.000, 9, -999.000,   -999.0, 9,   -999.0,  -999.00, 9,   -999.0,  18.6415, 25.9471,  18.6672, 2, 103.8, 2, 190.71, 2, -999, -999, -999, -999, -999, 9,  -999.00, 9, -999, -999, 9, -999
49NZ20031106, A10, 622, 1, 11, 12023, 9, 20031107, 1102, -27.7318, -47.3898, 181,    102.5, 2,  18.6088, 2,  36.0873, 2, -999.0000, 9,    181.3, 1,   -999.0, 9,  -999.00, 9,  -999.00, 9,  -999.00, 9,  -999.00, 9, -999.000, 9, -999.000, 9, -999.000, 9,   -999.0, 9,   -999.0, 9, -999.0000, 9,   -999.00, -999.000, 9, -999.000,   -999.0, 9,   -999.0,  -999.00, 9,   -999.0,  18.5907, 25.9565,  18.6156, 2, 104.5, 2, 190.84, 2, -999, -999, -999, -999, -999, 9,  -999.00, 9, -999, -999, 9, -999
49NZ20031106, A10, 622, 1, 33, 12045, 2, 20031107, 1102, -27.7318, -47.3898, 181,    150.8, 2,  14.3180, 2,  35.4210, 2,  35.4242, 2,    186.4, 1,    194.2, 2,     4.29, 2,     8.94, 2,     0.02, 2,     0.74, 2, -999.000, 9, -999.000, 9, -999.000, 9,   -999.0, 9,   -999.0, 9, -999.0000, 9,   -999.00, -999.000, 9, -999.000,   -999.0, 9,   -999.0,  -999.00, 9,   -999.0,  14.2958, 26.4487,  14.3149, 2, 152.2, 2, 194.38, 2, 0.13, 0.06, 0.01, 0.01, -999, 9,  -999.00, 9, -999, -999, 9, -999
49NZ20031106, A10, 622, 1, 32, 12044, 2, 20031107, 1102, -27.7318, -47.3898, 181,    167.4, 2,  13.9276, 2,  35.3666, 2,  35.3645, 2,    192.1, 1,    199.8, 2,     3.77, 2,     9.09, 2,     0.03, 2,     0.74, 2, -999.000, 9, -999.000, 9, -999.000, 9,   -999.0, 9,   -999.0, 9, -999.0000, 9,   -999.00, -999.000, 9, -999.000,   -999.0, 9,   -999.0,  -999.00, 9,   -999.0,  13.9034, 26.4894,  13.9267, 2, 167.3, 2, 200.03, 2, 0.13, 0.06, 0.01, 0.01, -999, 9,  -999.00, 9, -999, -999, 9, -999