BOTTLE,20220818CCHSIOAMB
EXPOCODE,SECT_ID,STNNBR,CASTNO,SAMPNO,BTLNBR,BTLNBR_FLAG_W,DATE,TIME,LATITUDE,LONGITUDE,DEPTH,CTDPRS,CTDPRS_FLAG_W,CTDTMP,CTDTMP_FLAG_W,CTDSAL,CTDSAL_FLAG_W,SALNTY,SALNTY_FLAG_W,CTDOXY,CTDOXY_FLAG_W,OXYGEN,OXYGEN_FLAG_W,SILCAT,SILCAT_FLAG_W,NITRAT,NITRAT_FLAG_W,NITRIT,NITRIT_FLAG_W,PHSPHT,PHSPHT_FLAG_W,CFC-11,CFC-11_FLAG_W,CFC-12,CFC-12_FLAG_W,CFC113,CFC113_FLAG_W,TCARBN,TCARBN_FLAG_W,ALKALI,ALKALI_FLAG_W,PH_TOT,PH_TOT_FLAG_W,PH_TMP,TRITUM,TRITUM_FLAG_W,TRITER,DELC14,DELC14_FLAG_W,C14ERR,DELC13,DELC13_FLAG_W,C13ERR,THETA,SIG0,SBE35,SBE35_FLAG_W,DWNPRS,DWNPRS_FLAG_W,DWNOXY,DWNOXY_FLAG_W,SILUNC,NRAUNC,NRIUNC,PHPUNC,TOC,TOC_FLAG_W,CS-137,CS-137_FLAG_W,CS137ER,PLUTO,PLUTO_FLAG_W,PLUTOER
,,,,,,,,,,,METERS,DBAR,,ITS-90,,PSS-78,,PSS-78,,UMOL/KG,,UMOL/KG,,UMOL/KG,,UMOL/KG,,UMOL/KG,,UMOL/KG,,PMOL/KG,,PMOL/KG,,PMOL/KG,,UMOL/KG,,UMOL/KG,,,,DEG C,TU,,TU,/MILLE,,/MILLE,/MILLE,,/MILLE,DEG C,KG/M^3,ITS-90,,DBAR,,UMOL/KG,,UMOL/KG,UMOL/KG,UMOL/KG,UMOL/KG,UMOL/KG,,BQ/M^3,,BQ/M^3,MBQ/M^3,,MBQ/M^3
49NZ20031106, A10, 41, 1, 36, 12036, 2, 20031118, 49, -30.0012, -24.1643, 4747,     10.3, 2,  20.0936, 2,  36.0171, 2,  36.0220, 2,    216.3, 1,    228.8, 2,     0.95, 2,     0.04, 2,     0.00, 2,     0.08, 2, -999.000, 9, -999.000, 9, -999.000, 9,   -999.0, 9,   -999.0, 9, -999.0000, 9,   -999.00, -999.000, 9, -999.000,   -999.0, 9,   -999.0,  -999.00, 9,   -999.0,  20.0917, 25.5154,  20.0943, 2, 8.4, 2, 228.92, 2, 0.12, 0.03, 0.01, 0.02, -999, 9,  -999.00, 9, -999, -999, 9, -999
49NZ20031106, A10, 41, 1, 35, 12035, 2, 20031118, 49, -30.0012, -24.1643, 4747,     50.2, 2,  19.2807, 2,  35.9364, 2,  35.9367, 2,    220.8, 1,    233.3, 2,     0.91, 2,     0.00, 2,     0.00, 2,     0.08, 2, -999.000, 9, -999.000, 9, -999.000, 9,   -999.0, 9,   -999.0, 9, -999.0000, 9,   -999.00, -999.000, 9, -999.000,   -999.0, 9,   -999.0,  -999.00, 9,   -999.0,  19.2716, 25.6728,  19.2653, 2, 43.8, 2, 232.85, 2, 0.12, 0.03, 0.01, 0.02, -999, 9,  -999.00, 9, -999, -999, 9, -999
49NZ20031106, A10, 41, 1, 34, 12034, 2, 20031118, 49, -30.0012, -24.1643, 4747,     98.8, 2,  18.1031, 2,  35.8142, 2,  35.8135, 2,    221.4, 1,    233.6, 2,     1.02, 2,    -0.01, 2,     0.00, 2,     0.12, 2, -999.000, 9, -999.000, 9, -999.000, 9,   -999.0, 9,   -999.0, 9, -999.0000, 9,   -999.00, -999.000, 9, -999.000,   -999.0, 9,   -999.0,  -999.00, 9,   -999.0,  18.0860, 25.8757,  18.1042, 2, 95.6, 2, 234.77, 2, 0.12, 0.03, 0.01, 0.02, -999, 9,  -999.00, 9, -999, -999, 9, -999
49NZ20031106, A10, 41, 1, 33, 12033, 2, 20031118, 49, -30.0012, -24.1643, 4747,    151.0, 2,  17.1063, 2,  35.6958, 2,  35.6977, 2,    220.2, 1,    232.3, 2,     0.99, 2,     0.08, 2,     0.05, 2,     0.14, 2, -999.000, 9, -999.000, 9, -999.000, 9,   -999.0, 9,   -999.0, 9, -999.0000, 9,   -999.00, -999.000, 9, -999.000,   -999.0, 9,   -999.0,  -999.00, 9,   -999.0,  17.0812, 26.0297,  17.1156, 2, 148.1, 2, 230.57, 2, 0.12, 0.03, 0.01, 0.02, -999, 9,  -999.00, 9, -999, -999, 9, -999
49NZ20031106, A10, 41, 1, 32, 12032, 2, 20031118, 49, -30.0012, -24.1643, 4747,    198.5, 2,  15.5363, 2,  35.5164, 2,  35.5159, 2,    206.7, 1,    217.3, 2,     1.57, 2,     3.37, 2,     0.01, 2,     0.39, 2, -999.000, 9, -999.000, 9, -999.000, 9,   -999.0, 9,   -999.0, 9, -999.0000, 9,   -999.00, -999.000, 9, -999.000,   -999.0, 9,   -999.0,  -999.00, 9,   -999.0,  15.5054, 26.2584,  15.5387, 2, 201.1, 2, 217.2, 2, 0.12, 0.04, 0.01, 0.01, -999, 9,  -999.00, 9, -999, -999, 9, -999
49NZ20031106, A10, 41, 1, 31, 12031, 2, 20031118, 49, -30.0012, -24.1643, 4747,    250.8, 2,  14.4168, 2,  35.3954, 2,  35.3924, 2,    206.1, 1,    216.2, 2,     2.06, 2,     6.04, 2,     0.01, 2,     0.54, 2, -999.000, 9, -999.000, 9, -999.000, 9,   -999.0, 9,   -999.0, 9, -999.0000, 9,   -999.00, -999.000, 9, -999.000,   -999.0, 9,   -999.0,  -999.00, 9,   -999.0,  14.3796, 26.4123,  14.4177, 2, 253.7, 2, 215.58, 2, 0.12, 0.05, 0.01, 0.01, -999, 9,  -999.00, 9, -999, -999, 9, -999
49NZ20031106, A10, 41, 1, 30, 12030, 2, 20031118, 49, -30.0012, -24.1643, 4747,    302.0, 2,  13.8460, 2,  35.3290, 2,  35.3277, 2,    206.0, 1,    216.1, 2,     2.37, 2,     7.27, 2,     0.01, 2,     0.61, 2, -999.000, 9, -999.000, 9, -999.000, 9,   -999.0, 9,   -999.0, 9, -999.0000, 9,   -999.00, -999.000, 9, -999.000,   -999.0, 9,   -999.0,  -999.00, 9,   -999.0,  13.8024, 26.4838,  13.8453, 2, 302.4, 2, 216.21, 2, 0.12, 0.05, 0.01, 0.01, -999, 9,  -999.00, 9, -999, -999, 9, -999
49NZ20031106, A10, 41, 1, 29, 12029, 2, 20031118, 49, -30.0012, -24.1643, 4747,    401.6, 2,  12.4457, 2,  35.1348, 2,  35.1344, 2,    206.9, 1,    216.7, 2,     3.12, 2,    10.36, 2,     0.00, 2,     0.79, 2, -999.000, 9, -999.000, 9, -999.000, 9,   -999.0, 9,   -999.0, 9, -999.0000, 9,   -999.00, -999.000, 9, -999.000,   -999.0, 9,   -999.0,  -999.00, 9,   -999.0,  12.3915, 26.6187,  12.4456, 2, 399.6, 2, 216.59, 2, 0.13, 0.06, 0.01, 0.01, -999, 9,  -999.00, 9, -999, -999, 9, -999
49NZ20031106, A10, 41, 1, 28, 12028, 2, 20031118, 49, -30.0012, -24.1643, 4747,    501.0, 2,  10.6165, 2,  34.8790, 2,  34.8782, 2,    202.4, 1,    211.5, 2,     5.15, 2,    15.32, 2,     0.00, 2,     1.11, 2, -999.000, 9, -999.000, 9, -999.000, 9,   -999.0, 9,   -999.0, 9, -999.0000, 9,   -999.00, -999.000, 9, -999.000,   -999.0, 9,   -999.0,  -999.00, 9,   -999.0,  10.5553, 26.7611,  10.6161, 2, 501.3, 2, 211.67, 2, 0.13, 0.08, 0.01, 0.01, -999, 9,  -999.00, 9, -999, -999, 9, -999
49NZ20031106, A10, 41, 1, 27, 12027, 2, 20031118, 49, -30.0012, -24.1643, 4747,    599.3, 2,   8.4055, 2,  34.6204, 2,  34.6179, 2,    198.3, 1,    207.1, 2,     9.58, 2,    21.37, 2,     0.00, 2,     1.49, 2, -999.000, 9, -999.000, 9, -999.000, 9,   -999.0, 9,   -999.0, 9, -999.0000, 9,   -999.00, -999.000, 9, -999.000,   -999.0, 9,   -999.0,  -999.00, 9,   -999.0,   8.3418, 26.9241,   8.4024, 2, 600.9, 2, 207.4, 2, 0.14, 0.09, 0.01, 0.01, -999, 9,  -999.00, 9, -999, -999, 9, -999
49NZ20031106, A10, 41, 1, 26, 12026, 2, 20031118, 49, -30.0012, -24.1643, 4747,    699.2, 2,   6.7442, 2,  34.4411, 2,  34.4411, 2,    208.7, 1,    218.0, 2,    12.18, 2,    24.55, 2,     0.00, 2,     1.70, 2, -999.000, 9, -999.000, 9, -999.000, 9,   -999.0, 9,   -999.0, 9, -999.0000, 9,   -999.00, -999.000, 9, -999.000,   -999.0, 9,   -999.0,  -999.00, 9,   -999.0,   6.6783, 27.0223,   6.7450, 2, 694.4, 2, 212.85, 2, 0.15, 0.1, 0.01, 0.01, -999, 9,  -999.00, 9, -999, -999, 9, -999
49NZ20031106, A10, 41, 1, 25, 12025, 2, 20031118, 49, -30.0012, -24.1643, 4747,    799.9, 2,   5.3060, 2,  34.3476, 2,  34.3473, 2,    209.7, 1,    219.0, 2,    18.92, 2,    27.88, 2,     0.01, 2,     1.93, 2, -999.000, 9, -999.000, 9, -999.000, 9,   -999.0, 9,   -999.0, 9, -999.0000, 9,   -999.00, -999.000, 9, -999.000,   -999.0, 9,   -999.0,  -999.00, 9,   -999.0,   5.2388, 27.1304,   5.3063, 2, 800.1, 2, 218.73, 2, 0.16, 0.11, 0.01, 0.01, -999, 9,  -999.00, 9, -999, -999, 9, -999
49NZ20031106, A10, 41, 1, 24, 12024, 2, 20031118, 49, -30.0012, -24.1643, 4747,    899.0, 2,   4.3597, 2,  34.3125, 2,  34.3125, 2,    209.5, 1,    219.1, 2,    25.79, 2,    29.87, 2,     0.00, 2,     2.05, 2, -999.000, 9, -999.000, 9, -999.000, 9,   -999.0, 9,   -999.0, 9, -999.0000, 9,   -999.00, -999.000, 9, -999.000,   -999.0, 9,   -999.0,  -999.00, 9,   -999.0,   4.2902, 27.2091,   4.3601, 2, 901.4, 2, 219.23, 2, 0.18, 0.12, 0.01, 0.02, -999, 9,  -999.00, 9, -999, -999, 9, -999
49NZ20031106, A10, 41, 1, 3, 12039, 9, 20031118, 49, -30.0012, -24.1643, 4747,   1003.7, 2,   3.7106, 2,  34.3293, 2, -999.0000, 9,    202.6, 1,   -999.0, 9,  -999.00, 9,  -999.00, 9,  -999.00, 9,  -999.00, 9, -999.000, 9, -999.000, 9, -999.000, 9,   -999.0, 9,   -999.0, 9, -999.0000, 9,   -999.00, -999.000, 9, -999.000,   -999.0, 9,   -999.0,  -999.00, 9,   -999.0,   3.6372, 27.2899,   3.7081, 2, 1006.4, 2, 212.99, 2, -999, -999, -999, -999, -999, 9,  -999.00, 9, -999, -999, 9, -999
49NZ20031106, A10, 41, 1, 1, 12037, 9, 20031118, 49, -30.0012, -24.1643, 4747,   1003.9, 2,   3.7102, 2,  34.3296, 2, -999.0000, 9,    202.7, 1,   -999.0, 9,  -999.00, 9,  -999.00, 9,  -999.00, 9,  -999.00, 9, -999.000, 9, -999.000, 9, -999.000, 9,   -999.0, 9,   -999.0, 9, -999.0000, 9,   -999.00, -999.000, 9, -999.000,   -999.0, 9,   -999.0,  -999.00, 9,   -999.0,   3.6368, 27.29,   3.7112, 2, 1006.6, 2, 212.99, 2, -999, -999, -999, -999, -999, 9,  -999.00, 9, -999, -999, 9, -999
49NZ20031106, A10, 41, 1, 4, 12040, 9, 20031118, 49, -30.0012, -24.1643, 4747,   1004.2, 2,   3.7021, 2,  34.3288, 2, -999.0000, 9,    202.7, 1,   -999.0, 9,  -999.00, 9,  -999.00, 9,  -999.00, 9,  -999.00, 9, -999.000, 9, -999.000, 9, -999.000, 9,   -999.0, 9,   -999.0, 9, -999.0000, 9,   -999.00, -999.000, 9, -999.000,   -999.0, 9,   -999.0,  -999.00, 9,   -999.0,   3.6287, 27.2902,   3.7027, 2, 1006.9, 2, 212.98, 2, -999, -999, -999, -999, -999, 9,  -999.00, 9, -999, -999, 9, -999
49NZ20031106, A10, 41, 1, 2, 12038, 9, 20031118, 49, -30.0012, -24.1643, 4747,   1004.3, 2,   3.7076, 2,  34.3294, 2, -999.0000, 9,    202.6, 1,   -999.0, 9,  -999.00, 9,  -999.00, 9,  -999.00, 9,  -999.00, 9, -999.000, 9, -999.000, 9, -999.000, 9,   -999.0, 9,   -999.0, 9, -999.0000, 9,   -999.00, -999.000, 9, -999.000,   -999.0, 9,   -999.0,  -999.00, 9,   -999.0,   3.6341, 27.2899,   3.7091, 2, 1007, 2, 212.98, 2, -999, -999, -999, -999, -999, 9,  -999.00, 9, -999, -999, 9, -999
49NZ20031106, A10, 41, 1, 5, 12041, 9, 20031118, 49, -30.0012, -24.1643, 4747,   1004.4, 2,   3.7021, 2,  34.3288, 2, -999.0000, 9,    202.8, 1,   -999.0, 9,  -999.00, 9,  -999.00, 9,  -999.00, 9,  -999.00, 9, -999.000, 9, -999.000, 9, -999.000, 9,   -999.0, 9,   -999.0, 9, -999.0000, 9,   -999.00, -999.000, 9, -999.000,   -999.0, 9,   -999.0,  -999.00, 9,   -999.0,   3.6287, 27.2901,   3.7024, 2, 1007.1, 2, 212.99, 2, -999, -999, -999, -999, -999, 9,  -999.00, 9, -999, -999, 9, -999
49NZ20031106, A10, 41, 1, 23, 12023, 2, 20031118, 49, -30.0012, -24.1643, 4747,   1005.0, 2,   3.7000, 2,  34.3288, 2,  34.3290, 2,    203.0, 1,    212.3, 2,    34.15, 2,    31.46, 2,     0.00, 2,     2.17, 2, -999.000, 9, -999.000, 9, -999.000, 9,   -999.0, 9,   -999.0, 9, -999.0000, 9,   -999.00, -999.000, 9, -999.000,   -999.0, 9,   -999.0,  -999.00, 9,   -999.0,   3.6265, 27.2903,   3.6999, 2, 1007.5, 2, 213, 2, 0.19, 0.12, 0.01, 0.02, -999, 9,  -999.00, 9, -999, -999, 9, -999
49NZ20031106, A10, 41, 1, 22, 12022, 2, 20031118, 49, -30.0012, -24.1643, 4747,   1203.2, 2,   3.1687, 2,  34.4283, 2,  34.4286, 2,    186.6, 1,    195.3, 2,    47.30, 2,    32.78, 2,     0.00, 2,     2.26, 2, -999.000, 9, -999.000, 9, -999.000, 9,   -999.0, 9,   -999.0, 9, -999.0000, 9,   -999.00, -999.000, 9, -999.000,   -999.0, 9,   -999.0,  -999.00, 9,   -999.0,   3.0837, 27.4217,   3.1687, 2, 1203.4, 2, 195.75, 2, 0.22, 0.12, 0.01, 0.02, -999, 9,  -999.00, 9, -999, -999, 9, -999
49NZ20031106, A10, 41, 1, 21, 12015, 2, 20031118, 49, -30.0012, -24.1643, 4747,   1400.1, 2,   2.9328, 2,  34.5470, 2,  34.5473, 2,    179.9, 1,    188.3, 2,    54.42, 2,    32.30, 2,     0.00, 2,     2.23, 2, -999.000, 9, -999.000, 9, -999.000, 9,   -999.0, 9,   -999.0, 9, -999.0000, 9,   -999.00, -999.000, 9, -999.000,   -999.0, 9,   -999.0,  -999.00, 9,   -999.0,   2.8340, 27.5392,   2.9324, 2, 1400.1, 2, 188.21, 2, 0.24, 0.12, 0.01, 0.02, -999, 9,  -999.00, 9, -999, -999, 9, -999
49NZ20031106, A10, 41, 1, 20, 12020, 2, 20031118, 49, -30.0012, -24.1643, 4747,   1600.1, 2,   2.8317, 2,  34.6649, 2,  34.6671, 3,    185.4, 1,    193.9, 2,    55.42, 2,    30.33, 2,    -0.01, 2,     2.09, 2, -999.000, 9, -999.000, 9, -999.000, 9,   -999.0, 9,   -999.0, 9, -999.0000, 9,   -999.00, -999.000, 9, -999.000,   -999.0, 9,   -999.0,  -999.00, 9,   -999.0,   2.7173, 27.6437,   2.8317, 2, 1599.8, 2, 193.64, 2, 0.24, 0.12, 0.01, 0.02, -999, 9,  -999.00, 9, -999, -999, 9, -999
49NZ20031106, A10, 41, 1, 19, 12019, 2, 20031118, 49, -30.0012, -24.1643, 4747,   1803.2, 2,   2.7854, 2,  34.7435, 2,  34.7436, 2,    195.4, 1,    204.5, 2,    53.15, 2,    28.32, 2,     0.00, 2,     1.94, 2, -999.000, 9, -999.000, 9, -999.000, 9,   -999.0, 9,   -999.0, 9, -999.0000, 9,   -999.00, -999.000, 9, -999.000,   -999.0, 9,   -999.0,  -999.00, 9,   -999.0,   2.6540, 27.7122,   2.7854, 2, 1802.5, 2, 204.56, 2, 0.24, 0.11, 0.01, 0.01, -999, 9,  -999.00, 9, -999, -999, 9, -999
49NZ20031106, A10, 41, 1, 18, 12018, 2, 20031118, 49, -30.0012, -24.1643, 4747,   2001.8, 2,   2.7340, 2,  34.7984, 2,  34.7984, 2,    206.5, 1,    216.6, 2,    49.80, 2,    26.38, 2,     0.00, 2,     1.81, 2, -999.000, 9, -999.000, 9, -999.000, 9,   -999.0, 9,   -999.0, 9, -999.0000, 9,   -999.00, -999.000, 9, -999.000,   -999.0, 9,   -999.0,  -999.00, 9,   -999.0,   2.5857, 27.762,   2.7343, 2, 2001.6, 2, 216.12, 2, 0.23, 0.11, 0.01, 0.01, -999, 9,  -999.00, 9, -999, -999, 9, -999
49NZ20031106, A10, 41, 1, 17, 12017, 2, 20031118, 49, -30.0012, -24.1643, 4747,   2199.6, 2,   2.7072, 2,  34.8326, 2,  34.8325, 2,    215.1, 1,    225.7, 2,    46.56, 2,    25.02, 2,     0.00, 2,     1.71, 2, -999.000, 9, -999.000, 9, -999.000, 9,   -999.0, 9,   -999.0, 9, -999.0000, 9,   -999.00, -999.000, 9, -999.000,   -999.0, 9,   -999.0,  -999.00, 9,   -999.0,   2.5413, 27.7935,   2.7066, 2, 2199.3, 2, 225.6, 2, 0.22, 0.1, 0.01, 0.01, -999, 9,  -999.00, 9, -999, -999, 9, -999
49NZ20031106, A10, 41, 1, 16, 12016, 2, 20031118, 49, -30.0012, -24.1643, 4747,   2399.1, 2,   2.7038, 2,  34.8580, 2,  34.8582, 2,    222.1, 1,    233.2, 2,    43.45, 2,    23.88, 2,     0.00, 2,     1.62, 2, -999.000, 9, -999.000, 9, -999.000, 9,   -999.0, 9,   -999.0, 9, -999.0000, 9,   -999.00, -999.000, 9, -999.000,   -999.0, 9,   -999.0,  -999.00, 9,   -999.0,   2.5193, 27.8159,   2.7037, 2, 2398.9, 2, 232.96, 2, 0.21, 0.1, 0.01, 0.01, -999, 9,  -999.00, 9, -999, -999, 9, -999
49NZ20031106, A10, 41, 1, 15, 12012, 2, 20031118, 49, -30.0012, -24.1643, 4747,   2600.4, 2,   2.6987, 2,  34.8752, 2,  34.8760, 2,    227.4, 1,    238.7, 2,    41.04, 2,    23.08, 2,     0.00, 2,     1.57, 2, -999.000, 9, -999.000, 9, -999.000, 9,   -999.0, 9,   -999.0, 9, -999.0000, 9,   -999.00, -999.000, 9, -999.000,   -999.0, 9,   -999.0,  -999.00, 9,   -999.0,   2.4948, 27.8316,   2.6988, 2, 2600.2, 2, 238.59, 2, 0.21, 0.1, 0.01, 0.01, -999, 9,  -999.00, 9, -999, -999, 9, -999
49NZ20031106, A10, 41, 1, 14, 12014, 2, 20031118, 49, -30.0012, -24.1643, 4747,   2801.6, 2,   2.6807, 2,  34.8900, 2,  34.8901, 2,    232.1, 1,    243.7, 2,    39.06, 2,    22.31, 2,     0.00, 2,     1.52, 2, -999.000, 9, -999.000, 9, -999.000, 9,   -999.0, 9,   -999.0, 9, -999.0000, 9,   -999.00, -999.000, 9, -999.000,   -999.0, 9,   -999.0,  -999.00, 9,   -999.0,   2.4572, 27.8467,   2.6808, 2, 2801.5, 2, 243.3, 2, 0.2, 0.1, 0.01, 0.01, -999, 9,  -999.00, 9, -999, -999, 9, -999
49NZ20031106, A10, 41, 1, 13, 12013, 2, 20031118, 49, -30.0012, -24.1643, 4747,   3002.5, 2,   2.6127, 2,  34.8954, 2,  34.8957, 2,    235.0, 1,    246.7, 2,    39.28, 2,    21.99, 2,     0.00, 2,     1.49, 2, -999.000, 9, -999.000, 9, -999.000, 9,   -999.0, 9,   -999.0, 9, -999.0000, 9,   -999.00, -999.000, 9, -999.000,   -999.0, 9,   -999.0,  -999.00, 9,   -999.0,   2.3703, 27.8585,   2.6128, 2, 3002.7, 2, 246.5, 2, 0.21, 0.09, 0.01, 0.01, -999, 9,  -999.00, 9, -999, -999, 9, -999
49NZ20031106, A10, 41, 1, 12, 12048, 2, 20031118, 49, -30.0012, -24.1643, 4747,   3250.5, 2,   2.4654, 2,  34.8886, 2,  34.8883, 2,    235.8, 1,    247.5, 2,    43.02, 2,    22.22, 2,     0.00, 2,     1.52, 2, -999.000, 9, -999.000, 9, -999.000, 9,   -999.0, 9,   -999.0, 9, -999.0000, 9,   -999.00, -999.000, 9, -999.000,   -999.0, 9,   -999.0,  -999.00, 9,   -999.0,   2.2006, 27.8671,   2.4655, 2, 3250.5, 2, 247.51, 2, 0.21, 0.1, 0.01, 0.01, -999, 9,  -999.00, 9, -999, -999, 9, -999
49NZ20031106, A10, 41, 1, 11, 12047, 2, 20031118, 49, -30.0012, -24.1643, 4747,   3500.7, 2,   2.1776, 2,  34.8631, 2,  34.8628, 2,    233.2, 1,    244.4, 2,    52.92, 2,    23.44, 2,     0.00, 2,     1.60, 2, -999.000, 9, -999.000, 9, -999.000, 9,   -999.0, 9,   -999.0, 9, -999.0000, 9,   -999.00, -999.000, 9, -999.000,   -999.0, 9,   -999.0,  -999.00, 9,   -999.0,   1.8934, 27.8715,   2.1777, 2, 3500.7, 2, 244.72, 2, 0.24, 0.1, 0.01, 0.01, -999, 9,  -999.00, 9, -999, -999, 9, -999
49NZ20031106, A10, 41, 1, 10, 12046, 2, 20031118, 49, -30.0012, -24.1643, 4747,   3750.1, 2,   1.7914, 2,  34.8226, 2,  34.8219, 2,    227.2, 1,    237.8, 2,    68.39, 2,    25.52, 2,     0.00, 2,     1.76, 2, -999.000, 9, -999.000, 9, -999.000, 9,   -999.0, 9,   -999.0, 9, -999.0000, 9,   -999.00, -999.000, 9, -999.000,   -999.0, 9,   -999.0,  -999.00, 9,   -999.0,   1.4907, 27.8696,   1.7915, 2, 3750.4, 2, 238.03, 2, 0.27, 0.1, 0.01, 0.01, -999, 9,  -999.00, 9, -999, -999, 9, -999
49NZ20031106, A10, 41, 1, 9, 12045, 2, 20031118, 49, -30.0012, -24.1643, 4747,   3998.9, 2,   1.4357, 2,  34.7859, 2,  34.7853, 2,    222.5, 1,    232.3, 2,    82.68, 2,    27.45, 2,     0.00, 2,     1.89, 2, -999.000, 9, -999.000, 9, -999.000, 9,   -999.0, 9,   -999.0, 9, -999.0000, 9,   -999.00, -999.000, 9, -999.000,   -999.0, 9,   -999.0,  -999.00, 9,   -999.0,   1.1181, 27.8666,   1.4362, 2, 3998.9, 2, 232.23, 2, 0.3, 0.11, 0.01, 0.01, -999, 9,  -999.00, 9, -999, -999, 9, -999
49NZ20031106, A10, 41, 1, 8, 12044, 2, 20031118, 49, -30.0012, -24.1643, 4747,   4252.5, 2,   1.2960, 2,  34.7684, 2,  34.7688, 2,    220.4, 1,    229.2, 2,    89.22, 2,    28.36, 2,     0.00, 2,     1.96, 2, -999.000, 9, -999.000, 9, -999.000, 9,   -999.0, 9,   -999.0, 9, -999.0000, 9,   -999.00, -999.000, 9, -999.000,   -999.0, 9,   -999.0,  -999.00, 9,   -999.0,   0.9547, 27.8637,   1.2960, 2, 4252.5, 2, 229.09, 2, 0.32, 0.11, 0.01, 0.01, -999, 9,  -999.00, 9, -999, -999, 9, -999
49NZ20031106, A10, 41, 1, 7, 12043, 2, 20031118, 49, -30.0012, -24.1643, 4747,   4500.8, 2,   1.2481, 2,  34.7610, 2,  34.7612, 2,    220.4, 1,    228.1, 2,    92.03, 2,    28.72, 2,     0.00, 2,     1.99, 2, -999.000, 9, -999.000, 9, -999.000, 9,   -999.0, 9,   -999.0, 9, -999.0000, 9,   -999.00, -999.000, 9, -999.000,   -999.0, 9,   -999.0,  -999.00, 9,   -999.0,   0.8804, 27.8626,   1.2482, 2, 4500.8, 2, 227.86, 2, 0.32, 0.11, 0.01, 0.02, -999, 9,  -999.00, 9, -999, -999, 9, -999
49NZ20031106, A10, 41, 1, 6, 12042, 2, 20031118, 49, -30.0012, -24.1643, 4747,   4809.3, 2,   1.2375, 2,  34.7567, 2,  34.7564, 2,    222.5, 1,    227.4, 2,    93.56, 2,    29.01, 2,    -0.01, 2,     2.00, 2, -999.000, 9, -999.000, 9, -999.000, 9,   -999.0, 9,   -999.0, 9, -999.0000, 9,   -999.00, -999.000, 9, -999.000,   -999.0, 9,   -999.0,  -999.00, 9,   -999.0,   0.8343, 27.8621,   1.2374, 2, 4809.3, 2, 227.33, 2, 0.32, 0.11, 0.01, 0.02, -999, 9,  -999.00, 9, -999, -999, 9, -999