BOTTLE,20220818CCHSIOAMB
EXPOCODE,SECT_ID,STNNBR,CASTNO,SAMPNO,BTLNBR,BTLNBR_FLAG_W,DATE,TIME,LATITUDE,LONGITUDE,DEPTH,CTDPRS,CTDPRS_FLAG_W,CTDTMP,CTDTMP_FLAG_W,CTDSAL,CTDSAL_FLAG_W,SALNTY,SALNTY_FLAG_W,CTDOXY,CTDOXY_FLAG_W,OXYGEN,OXYGEN_FLAG_W,SILCAT,SILCAT_FLAG_W,NITRAT,NITRAT_FLAG_W,NITRIT,NITRIT_FLAG_W,PHSPHT,PHSPHT_FLAG_W,CFC-11,CFC-11_FLAG_W,CFC-12,CFC-12_FLAG_W,CFC113,CFC113_FLAG_W,TCARBN,TCARBN_FLAG_W,ALKALI,ALKALI_FLAG_W,PH_TOT,PH_TOT_FLAG_W,PH_TMP,TRITUM,TRITUM_FLAG_W,TRITER,DELC14,DELC14_FLAG_W,C14ERR,DELC13,DELC13_FLAG_W,C13ERR,THETA,SIG0,SBE35,SBE35_FLAG_W,DWNPRS,DWNPRS_FLAG_W,DWNOXY,DWNOXY_FLAG_W,SILUNC,NRAUNC,NRIUNC,PHPUNC,TOC,TOC_FLAG_W,CS-137,CS-137_FLAG_W,CS137ER,PLUTO,PLUTO_FLAG_W,PLUTOER
,,,,,,,,,,,METERS,DBAR,,ITS-90,,PSS-78,,PSS-78,,UMOL/KG,,UMOL/KG,,UMOL/KG,,UMOL/KG,,UMOL/KG,,UMOL/KG,,PMOL/KG,,PMOL/KG,,PMOL/KG,,UMOL/KG,,UMOL/KG,,,,DEG C,TU,,TU,/MILLE,,/MILLE,/MILLE,,/MILLE,DEG C,KG/M^3,ITS-90,,DBAR,,UMOL/KG,,UMOL/KG,UMOL/KG,UMOL/KG,UMOL/KG,UMOL/KG,,BQ/M^3,,BQ/M^3,MBQ/M^3,,MBQ/M^3
49NZ20031106, A10, 629, 1, 36, 12048, 2, 20031108, 607, -28.0475, -46.1267, 2415,     11.3, 2,  22.7406, 2,  36.3787, 2,  36.3774, 3,    204.2, 1,    215.3, 2,     1.43, 2,     0.01, 2,    -0.01, 2,     0.13, 2,    2.032, 2,    1.128, 2,    0.366, 4,   2064.9, 2,   2391.5, 2,    8.0651, 2,     25.00, -999.000, 9, -999.000,     86.4, 2,      4.1,     1.47, 2,      0.0,  22.7383, 25.0558,  22.7403, 2, 5.1, 2, 215.28, 2, 0.12, 0.03, 0.01, 0.02, -999, 1,  -999.00, 9, -999, -999, 9, -999
49NZ20031106, A10, 629, 1, 35, 12047, 2, 20031108, 607, -28.0475, -46.1267, 2415,     51.0, 2,  23.0658, 2,  36.9208, 2,  36.9213, 3,    202.8, 1,    213.7, 2,     0.97, 2,     0.00, 2,    -0.01, 2,     0.10, 2,    1.996, 2,    1.119, 2,    0.352, 4,   2080.4, 6,   2415.9, 2,    8.0726, 2,     25.00, -999.000, 9, -999.000,     92.1, 2,      4.0,     1.47, 2,      0.0,  23.0553, 25.3768,  23.0649, 2, 49.1, 2, 213.7, 2, 0.12, 0.03, 0.01, 0.02, -999, 1,  -999.00, 9, -999, -999, 9, -999
49NZ20031106, A10, 629, 1, 34, 12046, 2, 20031108, 607, -28.0475, -46.1267, 2415,     99.9, 2,  21.5471, 2,  36.7141, 2,  36.7269, 3,    195.5, 1,    205.7, 2,     1.06, 2,     0.58, 2,     0.12, 2,     0.16, 2,    2.132, 2,    1.193, 2,    0.211, 4,   2089.6, 2,   2401.4, 6,    8.0450, 2,     25.00, -999.000, 9, -999.000,     81.9, 2,      4.0,     1.34, 2,      0.0,  21.5275, 25.6542,  21.5636, 2, 97.2, 2, 206.39, 2, 0.12, 0.03, 0.01, 0.02, -999, 1,  -999.00, 9, -999, -999, 9, -999
49NZ20031106, A10, 629, 1, 33, 12045, 2, 20031108, 607, -28.0475, -46.1267, 2415,    150.0, 2,  17.4287, 2,  35.8941, 2,  35.9069, 3,    188.7, 1,    197.8, 2,     2.05, 2,     3.77, 2,     0.01, 2,     0.40, 2,    2.599, 2,    1.407, 2,    0.071, 4,   2100.9, 2,   2354.2, 2,    7.9537, 6,     25.00, -999.000, 9, -999.000,     82.2, 2,      4.0,     1.14, 2,      0.0,  17.4034, 26.1032,  17.4380, 2, 150.2, 2, 197.62, 2, 0.12, 0.04, 0.01, 0.01, -999, 1,  -999.00, 9, -999, -999, 9, -999
49NZ20031106, A10, 629, 1, 32, 12044, 2, 20031108, 607, -28.0475, -46.1267, 2415,    200.7, 2,  15.3900, 2,  35.5421, 2,  35.5431, 2,    193.0, 1,    202.0, 2,     2.45, 2,     5.88, 2,     0.00, 2,     0.54, 2,    2.775, 2,    1.468, 2,    0.051, 4,   2103.1, 2,   2336.0, 2,    7.9135, 2,     25.00, -999.000, 9, -999.000,     92.6, 2,      4.1,     1.09, 6,      0.0,  15.3589, 26.3092,  15.3988, 2, 199.3, 2, 201.25, 2, 0.12, 0.05, 0.01, 0.01, -999, 1,  -999.00, 9, -999, -999, 9, -999
49NZ20031106, A10, 629, 1, 31, 12043, 2, 20031108, 607, -28.0475, -46.1267, 2415,    250.0, 2,  14.2144, 2,  35.3960, 2,  35.3945, 2,    200.1, 1,    208.4, 2,     2.61, 2,     7.48, 2,    -0.01, 2,     0.62, 2,    2.938, 6,    1.517, 6,    0.057, 4,   2103.9, 2,   2325.9, 2,    7.8946, 2,     25.00, -999.000, 9, -999.000,     92.4, 2,      4.1,     1.13, 2,      0.0,  14.1777, 26.4552,  14.2147, 2, 250.3, 2, 208.01, 2, 0.12, 0.05, 0.01, 0.01, -999, 1,  -999.00, 9, -999, -999, 9, -999
49NZ20031106, A10, 629, 1, 30, 12042, 2, 20031108, 607, -28.0475, -46.1267, 2415,    300.5, 2,  13.3716, 2,  35.2803, 2,  35.2730, 2,    200.2, 1,    208.1, 2,     3.19, 2,     9.38, 2,    -0.01, 2,     0.73, 2,    2.984, 2,    1.527, 2,    0.054, 4,   2113.6, 2,   2318.9, 2,    7.8735, 2,     25.00, -999.000, 9, -999.000,     92.7, 2,      3.9,     1.12, 2,      0.0,  13.3292, 26.5428,  13.3740, 2, 298.9, 2, 209.01, 2, 0.13, 0.06, 0.01, 0.01, -999, 1,  -999.00, 9, -999, -999, 9, -999
49NZ20031106, A10, 629, 1, 29, 12041, 2, 20031108, 607, -28.0475, -46.1267, 2415,    400.5, 2,  11.2528, 2,  34.9732, 2,  34.9726, 2,    195.7, 1,    203.2, 2,     5.36, 2,    14.65, 2,    -0.01, 2,     1.06, 2, -999.000, 5, -999.000, 5, -999.000, 5,   2129.5, 2,   2302.1, 2,    7.8133, 2,     25.00, -999.000, 9, -999.000,     66.7, 2,      3.9,     1.10, 2,      0.0,  11.2023, 26.717,  11.2532, 2, 400.3, 2, 202.76, 2, 0.13, 0.07, 0.01, 0.01, -999, 1,  -999.00, 9, -999, -999, 9, -999
49NZ20031106, A10, 629, 1, 28, 12040, 2, 20031108, 607, -28.0475, -46.1267, 2415,    502.3, 2,   9.1609, 2,  34.7132, 2,  34.7124, 2,    193.7, 1,    200.8, 2,     8.90, 2,    19.91, 2,    -0.01, 2,     1.40, 2,    2.741, 2,    1.289, 2,    0.098, 4,   2146.0, 2,   2294.0, 2,    7.7537, 2,     25.00, -999.000, 9, -999.000,     43.5, 2,      3.8,     1.11, 2,      0.0,   9.1050, 26.8757,   9.1600, 2, 502.9, 2, 200.98, 2, 0.14, 0.09, 0.01, 0.01, -999, 1,  -999.00, 9, -999, -999, 9, -999
49NZ20031106, A10, 629, 1, 27, 12039, 2, 20031108, 607, -28.0475, -46.1267, 2415,    600.8, 2,   7.2789, 2,  34.5025, 2,  34.5026, 2,    205.0, 1,    211.8, 2,    11.52, 2,    23.53, 2,    -0.01, 2,     1.63, 2,    2.798, 2,    1.288, 2,    0.129, 4,   2154.7, 2,   2287.0, 2,    7.7180, 2,     25.00, -999.000, 9, -999.000,     10.4, 2,      3.7,     1.11, 2,      0.0,   7.2202, 26.9951,   7.2811, 2, 600.2, 2, 211.75, 2, 0.14, 0.1, 0.01, 0.01, -999, 1,  -999.00, 9, -999, -999, 9, -999
49NZ20031106, A10, 629, 1, 26, 12038, 2, 20031108, 607, -28.0475, -46.1267, 2415,    702.5, 2,   5.7734, 2,  34.3651, 2,  34.3650, 2,    215.2, 1,    222.7, 2,    15.18, 2,    26.24, 2,    -0.01, 2,     1.81, 2,    2.649, 2,    1.251, 2,    0.143, 4,   2162.0, 6,   2282.1, 2,    7.6932, 2,     25.00, -999.000, 9, -999.000,      0.3, 2,      3.7,     1.12, 2,      0.0,   5.7124, 27.0859,   5.7738, 2, 703.6, 2, 221.97, 2, 0.15, 0.11, 0.01, 0.01, -999, 1,  -999.00, 9, -999, -999, 9, -999
49NZ20031106, A10, 629, 1, 25, 12037, 2, 20031108, 607, -28.0475, -46.1267, 2415,    800.5, 2,   5.0320, 2,  34.3452, 2,  34.3455, 2,    207.4, 1,    214.4, 2,    21.02, 2,    28.68, 2,    -0.01, 2,     1.98, 2,    2.015, 2,    0.956, 2,    0.098, 4,   2176.2, 2,   2285.4, 6,    7.6680, 2,     25.00, -999.000, 9, -999.000,    -24.8, 2,      3.7,     1.06, 2,      0.0,   4.9665, 27.159,   5.0305, 2, 800.6, 2, 215.62, 2, 0.17, 0.11, 0.01, 0.02, -999, 1,  -999.00, 9, -999, -999, 9, -999
49NZ20031106, A10, 629, 1, 24, 12036, 2, 20031108, 607, -28.0475, -46.1267, 2415,    900.2, 2,   4.2485, 2,  34.3296, 2,  34.3300, 2,    205.3, 1,    212.1, 2,    27.88, 2,    30.33, 2,    -0.01, 2,     2.10, 2,    1.585, 2,    0.759, 2,    0.072, 4,   2187.4, 2,   2292.2, 2,    7.6474, 2,     25.00, -999.000, 9, -999.000,    -47.0, 2,      3.6,     0.98, 2,      0.0,   4.1796, 27.2331,   4.2490, 2, 899.8, 2, 212.2, 2, 0.18, 0.12, 0.01, 0.02, -999, 1,  -999.00, 9, -999, -999, 9, -999
49NZ20031106, A10, 629, 1, 6, 12018, 9, 20031108, 607, -28.0475, -46.1267, 2415,   1000.9, 2,   3.7327, 2,  34.3545, 2, -999.0000, 9,    198.4, 1,   -999.0, 9,  -999.00, 9,  -999.00, 9,  -999.00, 9,  -999.00, 9, -999.000, 9, -999.000, 9, -999.000, 9,   -999.0, 9,   -999.0, 9, -999.0000, 9,   -999.00, -999.000, 9, -999.000,   -999.0, 9,   -999.0,  -999.00, 9,   -999.0,   3.6593, 27.3063,   3.7325, 2, 1003.3, 2, 204.28, 2, -999, -999, -999, -999, -999, 9,  -999.00, 9, -999, -999, 9, -999
49NZ20031106, A10, 629, 1, 23, 12035, 2, 20031108, 607, -28.0475, -46.1267, 2415,   1001.0, 2,   3.7269, 2,  34.3543, 2,  34.3543, 2,    198.5, 1,    205.1, 2,    35.37, 2,    31.61, 2,    -0.01, 2,     2.19, 2,    1.095, 6,    0.506, 6,    0.049, 4,   2200.0, 2,   2299.8, 2,    7.6316, 2,     25.00, -999.000, 9, -999.000,    -70.0, 2,      3.6,     0.90, 2,      0.0,   3.6535, 27.3069,   3.7265, 2, 1003.4, 2, 204.27, 2, 0.2, 0.12, 0.01, 0.02, -999, 1,  -999.00, 9, -999, -999, 9, -999
49NZ20031106, A10, 629, 1, 11, 12023, 9, 20031108, 607, -28.0475, -46.1267, 2415,   1001.1, 2,   3.7333, 2,  34.3547, 2, -999.0000, 9,    198.4, 1,   -999.0, 9,  -999.00, 9,  -999.00, 9,  -999.00, 9,  -999.00, 9, -999.000, 9, -999.000, 9, -999.000, 9,   -999.0, 9,   -999.0, 9, -999.0000, 9,   -999.00, -999.000, 9, -999.000,   -999.0, 9,   -999.0,  -999.00, 9,   -999.0,   3.6599, 27.3062,   3.7339, 2, 1003.4, 2, 204.27, 2, -999, -999, -999, -999, -999, 9,  -999.00, 9, -999, -999, 9, -999
49NZ20031106, A10, 629, 1, 7, 12019, 9, 20031108, 607, -28.0475, -46.1267, 2415,   1001.1, 2,   3.7333, 2,  34.3545, 2, -999.0000, 9,    198.5, 1,   -999.0, 9,  -999.00, 9,  -999.00, 9,  -999.00, 9,  -999.00, 9, -999.000, 9, -999.000, 9, -999.000, 9,   -999.0, 9,   -999.0, 9, -999.0000, 9,   -999.00, -999.000, 9, -999.000,   -999.0, 9,   -999.0,  -999.00, 9,   -999.0,   3.6599, 27.3062,   3.7328, 2, 1003.4, 2, 204.27, 2, -999, -999, -999, -999, -999, 9,  -999.00, 9, -999, -999, 9, -999
49NZ20031106, A10, 629, 1, 2, 12014, 9, 20031108, 607, -28.0475, -46.1267, 2415,   1001.1, 2,   3.7305, 2,  34.3543, 2, -999.0000, 9,    198.4, 1,   -999.0, 9,  -999.00, 9,  -999.00, 9,  -999.00, 9,  -999.00, 9, -999.000, 9, -999.000, 9, -999.000, 9,   -999.0, 9,   -999.0, 9, -999.0000, 9,   -999.00, -999.000, 9, -999.000,   -999.0, 9,   -999.0,  -999.00, 9,   -999.0,   3.6571, 27.3064,   3.7299, 2, 1003.4, 2, 204.27, 2, -999, -999, -999, -999, -999, 9,  -999.00, 9, -999, -999, 9, -999
49NZ20031106, A10, 629, 1, 12, 12024, 9, 20031108, 607, -28.0475, -46.1267, 2415,   1001.2, 2,   3.7343, 2,  34.3546, 2, -999.0000, 9,    198.5, 1,   -999.0, 9,  -999.00, 9,  -999.00, 9,  -999.00, 9,  -999.00, 9, -999.000, 9, -999.000, 9, -999.000, 9,   -999.0, 9,   -999.0, 9, -999.0000, 9,   -999.00, -999.000, 9, -999.000,   -999.0, 9,   -999.0,  -999.00, 9,   -999.0,   3.6608, 27.3062,   3.7342, 2, 1003.5, 2, 204.26, 2, -999, -999, -999, -999, -999, 9,  -999.00, 9, -999, -999, 9, -999
49NZ20031106, A10, 629, 1, 9, 12015, 9, 20031108, 607, -28.0475, -46.1267, 2415,   1001.2, 2,   3.7325, 2,  34.3543, 2, -999.0000, 9,    198.5, 1,   -999.0, 9,  -999.00, 9,  -999.00, 9,  -999.00, 9,  -999.00, 9, -999.000, 9, -999.000, 9, -999.000, 9,   -999.0, 9,   -999.0, 9, -999.0000, 9,   -999.00, -999.000, 9, -999.000,   -999.0, 9,   -999.0,  -999.00, 9,   -999.0,   3.6591, 27.3065,   3.7312, 2, 1003.4, 2, 204.25, 2, -999, -999, -999, -999, -999, 9,  -999.00, 9, -999, -999, 9, -999
49NZ20031106, A10, 629, 1, 10, 12022, 9, 20031108, 607, -28.0475, -46.1267, 2415,   1001.3, 2,   3.7334, 2,  34.3545, 2, -999.0000, 9,    198.7, 1,   -999.0, 9,  -999.00, 9,  -999.00, 9,  -999.00, 9,  -999.00, 9, -999.000, 9, -999.000, 9, -999.000, 9,   -999.0, 9,   -999.0, 9, -999.0000, 9,   -999.00, -999.000, 9, -999.000,   -999.0, 9,   -999.0,  -999.00, 9,   -999.0,   3.6599, 27.3063,   3.7333, 2, 1003.5, 2, 204.26, 2, -999, -999, -999, -999, -999, 9,  -999.00, 9, -999, -999, 9, -999
49NZ20031106, A10, 629, 1, 8, 12020, 9, 20031108, 607, -28.0475, -46.1267, 2415,   1001.3, 2,   3.7324, 2,  34.3545, 2, -999.0000, 9,    198.5, 1,   -999.0, 9,  -999.00, 9,  -999.00, 9,  -999.00, 9,  -999.00, 9, -999.000, 9, -999.000, 9, -999.000, 9,   -999.0, 9,   -999.0, 9, -999.0000, 9,   -999.00, -999.000, 9, -999.000,   -999.0, 9,   -999.0,  -999.00, 9,   -999.0,   3.6590, 27.3063,   3.7325, 2, 1003.5, 2, 204.26, 2, -999, -999, -999, -999, -999, 9,  -999.00, 9, -999, -999, 9, -999
49NZ20031106, A10, 629, 1, 5, 12017, 9, 20031108, 607, -28.0475, -46.1267, 2415,   1001.3, 2,   3.7309, 2,  34.3545, 2, -999.0000, 9,    198.5, 1,   -999.0, 9,  -999.00, 9,  -999.00, 9,  -999.00, 9,  -999.00, 9, -999.000, 9, -999.000, 9, -999.000, 9,   -999.0, 9,   -999.0, 9, -999.0000, 9,   -999.00, -999.000, 9, -999.000,   -999.0, 9,   -999.0,  -999.00, 9,   -999.0,   3.6575, 27.3063,   3.7314, 2, 1003.6, 2, 204.26, 2, -999, -999, -999, -999, -999, 9,  -999.00, 9, -999, -999, 9, -999
49NZ20031106, A10, 629, 1, 4, 12016, 9, 20031108, 607, -28.0475, -46.1267, 2415,   1001.4, 2,   3.7312, 2,  34.3544, 2, -999.0000, 9,    198.4, 1,   -999.0, 9,  -999.00, 9,  -999.00, 9,  -999.00, 9,  -999.00, 9, -999.000, 9, -999.000, 9, -999.000, 9,   -999.0, 9,   -999.0, 9, -999.0000, 9,   -999.00, -999.000, 9, -999.000,   -999.0, 9,   -999.0,  -999.00, 9,   -999.0,   3.6578, 27.3063,   3.7309, 2, 1003.6, 2, 204.25, 2, -999, -999, -999, -999, -999, 9,  -999.00, 9, -999, -999, 9, -999
49NZ20031106, A10, 629, 1, 3, 12012, 9, 20031108, 607, -28.0475, -46.1267, 2415,   1001.4, 2,   3.7319, 2,  34.3544, 2, -999.0000, 9,    198.5, 1,   -999.0, 9,  -999.00, 9,  -999.00, 9,  -999.00, 9,  -999.00, 9, -999.000, 9, -999.000, 9, -999.000, 9,   -999.0, 9,   -999.0, 9, -999.0000, 9,   -999.00, -999.000, 9, -999.000,   -999.0, 9,   -999.0,  -999.00, 9,   -999.0,   3.6584, 27.3063,   3.7316, 2, 1003.6, 2, 204.25, 2, -999, -999, -999, -999, -999, 9,  -999.00, 9, -999, -999, 9, -999
49NZ20031106, A10, 629, 1, 13, 12025, 9, 20031108, 607, -28.0475, -46.1267, 2415,   1001.5, 2,   3.7326, 2,  34.3545, 2, -999.0000, 9,    198.5, 1,   -999.0, 9,  -999.00, 9,  -999.00, 9,  -999.00, 9,  -999.00, 9, -999.000, 9, -999.000, 9, -999.000, 9,   -999.0, 9,   -999.0, 9, -999.0000, 9,   -999.00, -999.000, 9, -999.000,   -999.0, 9,   -999.0,  -999.00, 9,   -999.0,   3.6591, 27.3064,   3.7321, 2, 1003.7, 2, 204.25, 2, -999, -999, -999, -999, -999, 9,  -999.00, 9, -999, -999, 9, -999
49NZ20031106, A10, 629, 1, 22, 12034, 2, 20031108, 607, -28.0475, -46.1267, 2415,   1200.9, 2,   3.2624, 2,  34.4535, 2,  34.4535, 2,    186.4, 1,    192.5, 2,    45.93, 2,    32.33, 2,    -0.01, 2,     2.24, 2,    0.471, 2,    0.209, 2,    0.022, 4,   2218.2, 2,   2313.1, 2,    7.6155, 2,     25.00, -999.000, 9, -999.000,   -107.9, 2,      3.5,     0.74, 2,      0.0,   3.1766, 27.4321,   3.2625, 2, 1200.3, 2, 192.4, 2, 0.22, 0.12, 0.01, 0.02, -999, 1,  -999.00, 9, -999, -999, 9, -999
49NZ20031106, A10, 629, 1, 1, 12013, 2, 20031108, 607, -28.0475, -46.1267, 2415,   1401.8, 2,   3.2437, 2,  34.5889, 2,  34.5902, 2,    184.1, 1,    189.6, 2,    47.48, 2,    31.08, 2,    -0.02, 2,     2.14, 2,    0.169, 2,    0.070, 2,    0.000, 4,   2219.9, 2,   2315.7, 2,    7.6229, 2,     25.00, -999.000, 9, -999.000,   -113.7, 6,      2.5,     0.75, 2,      0.0,   3.1413, 27.5435,   3.2394, 2, 1401, 2, 190.28, 2, 0.22, 0.12, 0.01, 0.02, -999, 1,  -999.00, 9, -999, -999, 9, -999
49NZ20031106, A10, 629, 1, 20, 12032, 2, 20031108, 607, -28.0475, -46.1267, 2415,   1601.5, 2,   3.6748, 2,  34.7659, 2,  34.7663, 2,    195.6, 1,    201.4, 2,    36.02, 2,    27.26, 2,    -0.01, 2,     1.87, 2,    0.065, 2,    0.019, 2,    0.000, 4,   2202.2, 2,   2317.6, 2,    7.6647, 2,     25.00, -999.000, 9, -999.000,   -110.8, 2,      3.5,     0.81, 2,      0.0,   3.5497, 27.6455,   3.6737, 2, 1601.6, 2, 200.93, 2, 0.2, 0.11, 0.01, 0.01, -999, 1,  -999.00, 9, -999, -999, 9, -999
49NZ20031106, A10, 629, 1, 19, 12031, 2, 20031108, 607, -28.0475, -46.1267, 2415,   1800.7, 2,   3.9046, 2,  34.8953, 2,  34.8944, 2,    215.7, 1,    221.8, 2,    25.35, 2,    23.30, 2,    -0.01, 2,     1.58, 2,    0.082, 2,    0.029, 2,    0.000, 4,   2182.8, 2,   2313.1, 2,    7.7052, 2,     25.00, -999.000, 9, -999.000,    -84.1, 2,      3.5,     0.91, 2,      0.0,   3.7579, 27.7273,   3.9044, 2, 1801, 2, 221.39, 2, 0.17, 0.1, 0.01, 0.01, -999, 1,  -999.00, 9, -999, -999, 9, -999
49NZ20031106, A10, 629, 1, 18, 12030, 2, 20031108, 607, -28.0475, -46.1267, 2415,   2001.6, 2,   3.6550, 2,  34.9207, 2,  34.9202, 2,    227.6, 1,    234.1, 2,    25.44, 2,    21.92, 2,    -0.01, 2,     1.48, 2,    0.099, 2,    0.040, 2,    0.000, 4,   2180.2, 2,   2317.7, 2,    7.7222, 6,     25.00, -999.000, 9, -999.000,    -78.0, 2,      3.6,     0.96, 2,      0.0,   3.4926, 27.7741,   3.6550, 2, 2001.6, 2, 234.36, 2, 0.17, 0.09, 0.01, 0.01, -999, 1,  -999.00, 9, -999, -999, 9, -999
49NZ20031106, A10, 629, 1, 15, 12027, 9, 20031108, 607, -28.0475, -46.1267, 2415,   2100.3, 2,   3.5750, 2,  34.9371, 2, -999.0000, 9,    234.3, 1,   -999.0, 9,  -999.00, 9,  -999.00, 9,  -999.00, 9,  -999.00, 9, -999.000, 9, -999.000, 9, -999.000, 9,   -999.0, 9,   -999.0, 9, -999.0000, 9,   -999.00, -999.000, 9, -999.000,   -999.0, 9,   -999.0,  -999.00, 9,   -999.0,   3.4043, 27.7959,   3.5749, 2, 2100.3, 2, 240.85, 2, -999, -999, -999, -999, -999, 9,  -999.00, 9, -999, -999, 9, -999
49NZ20031106, A10, 629, 1, 21, 12033, 2, 20031108, 607, -28.0475, -46.1267, 2415,   2201.9, 2,   3.4179, 2,  34.9478, 2,  34.9477, 2,    240.7, 1,    247.3, 2,    23.61, 2,    20.24, 2,    -0.02, 2,     1.36, 2,    0.089, 2,    0.024, 2,    0.000, 4,   2167.5, 2,   2316.7, 2,    7.7408, 2,     25.00, -999.000, 9, -999.000,    -91.9, 3,      3.6,     1.03, 2,      0.0,   3.2398, 27.8203,   3.4179, 2, 2202.1, 2, 247.23, 2, 0.17, 0.09, 0.01, 0.01, -999, 1,  -999.00, 9, -999, -999, 9, -999
49NZ20031106, A10, 629, 1, 17, 12029, 2, 20031108, 607, -28.0475, -46.1267, 2415,   2202.0, 2,   3.4188, 2,  34.9477, 2,  34.9478, 2,    240.7, 1,    247.3, 2,    23.63, 2,    20.26, 2,    -0.02, 2,     1.37, 2,    0.095, 2,    0.033, 2,    0.000, 4,   2170.4, 2,   2314.8, 2,    7.7414, 2,     25.00, -999.000, 9, -999.000,    -79.5, 2,      3.5,     1.01, 2,      0.0,   3.2407, 27.8203,   3.4186, 2, 2202.1, 2, 247.23, 2, 0.17, 0.09, 0.01, 0.01, -999, 1,  -999.00, 9, -999, -999, 9, -999
49NZ20031106, A10, 629, 1, 14, 12026, 9, 20031108, 607, -28.0475, -46.1267, 2415,   2301.3, 2,   3.2301, 2,  34.9437, 2, -999.0000, 9,    243.1, 1,   -999.0, 9,  -999.00, 9,  -999.00, 9,  -999.00, 9,  -999.00, 9, -999.000, 9, -999.000, 9, -999.000, 9,   -999.0, 9,   -999.0, 9, -999.0000, 9,   -999.00, -999.000, 9, -999.000,   -999.0, 9,   -999.0,  -999.00, 9,   -999.0,   3.0455, 27.8355,   3.2296, 2, 2301.4, 2, 249.64, 2, -999, -999, -999, -999, -999, 9,  -999.00, 9, -999, -999, 9, -999
49NZ20031106, A10, 629, 1, 16, 12028, 2, 20031108, 607, -28.0475, -46.1267, 2415,   2428.6, 2,   2.9197, 2,  34.9282, 2,  34.9286, 2,    243.6, 1,    249.7, 2,    30.45, 2,    20.59, 2,    -0.01, 2,     1.39, 2,    0.047, 2,    0.008, 2,    0.000, 4,   2177.3, 2,   2320.5, 2,    7.7435, 2,     25.00, -999.000, 9, -999.000,    -83.7, 2,      3.7,     0.98, 2,      0.0,   2.7282, 27.8522,   2.9190, 2, 2428.6, 2, 249.87, 2, 0.19, 0.09, 0.01, 0.01, -999, 1,  -999.00, 9, -999, -999, 9, -999