BOTTLE,20220818CCHSIOAMB
EXPOCODE,SECT_ID,STNNBR,CASTNO,SAMPNO,BTLNBR,BTLNBR_FLAG_W,DATE,TIME,LATITUDE,LONGITUDE,DEPTH,CTDPRS,CTDPRS_FLAG_W,CTDTMP,CTDTMP_FLAG_W,CTDSAL,CTDSAL_FLAG_W,SALNTY,SALNTY_FLAG_W,CTDOXY,CTDOXY_FLAG_W,OXYGEN,OXYGEN_FLAG_W,SILCAT,SILCAT_FLAG_W,NITRAT,NITRAT_FLAG_W,NITRIT,NITRIT_FLAG_W,PHSPHT,PHSPHT_FLAG_W,CFC-11,CFC-11_FLAG_W,CFC-12,CFC-12_FLAG_W,CFC113,CFC113_FLAG_W,TCARBN,TCARBN_FLAG_W,ALKALI,ALKALI_FLAG_W,PH_TOT,PH_TOT_FLAG_W,PH_TMP,TRITUM,TRITUM_FLAG_W,TRITER,DELC14,DELC14_FLAG_W,C14ERR,DELC13,DELC13_FLAG_W,C13ERR,THETA,SIG0,SBE35,SBE35_FLAG_W,DWNPRS,DWNPRS_FLAG_W,DWNOXY,DWNOXY_FLAG_W,SILUNC,NRAUNC,NRIUNC,PHPUNC,TOC,TOC_FLAG_W,CS-137,CS-137_FLAG_W,CS137ER,PLUTO,PLUTO_FLAG_W,PLUTOER
,,,,,,,,,,,METERS,DBAR,,ITS-90,,PSS-78,,PSS-78,,UMOL/KG,,UMOL/KG,,UMOL/KG,,UMOL/KG,,UMOL/KG,,UMOL/KG,,PMOL/KG,,PMOL/KG,,PMOL/KG,,UMOL/KG,,UMOL/KG,,,,DEG C,TU,,TU,/MILLE,,/MILLE,/MILLE,,/MILLE,DEG C,KG/M^3,ITS-90,,DBAR,,UMOL/KG,,UMOL/KG,UMOL/KG,UMOL/KG,UMOL/KG,UMOL/KG,,BQ/M^3,,BQ/M^3,MBQ/M^3,,MBQ/M^3
49NZ20031106, A10, 42, 1, 3, 12039, 9, 20031118, 724, -30.0055, -23.3115, 4602,      5.1, 2,  19.9425, 2,  35.9592, 2, -999.0000, 9,    217.4, 1,   -999.0, 9,  -999.00, 9,  -999.00, 9,  -999.00, 9,  -999.00, 9, -999.000, 9, -999.000, 9, -999.000, 9,   -999.0, 9,   -999.0, 9, -999.0000, 9,   -999.00, -999.000, 9, -999.000,   -999.0, 9,   -999.0,  -999.00, 9,   -999.0,  19.9416, 25.5109,  19.9441, 2, 5.1, 2, 230.94, 2, -999, -999, -999, -999, -999, 9,  -999.00, 9, -999, -999, 9, -999
49NZ20031106, A10, 42, 1, 2, 12038, 9, 20031118, 724, -30.0055, -23.3115, 4602,      5.4, 2,  19.9521, 2,  35.9587, 2, -999.0000, 9,    217.7, 1,   -999.0, 9,  -999.00, 9,  -999.00, 9,  -999.00, 9,  -999.00, 9, -999.000, 9, -999.000, 9, -999.000, 9,   -999.0, 9,   -999.0, 9, -999.0000, 9,   -999.00, -999.000, 9, -999.000,   -999.0, 9,   -999.0,  -999.00, 9,   -999.0,  19.9511, 25.5091,  19.9477, 2, 5.4, 2, 230.95, 2, -999, -999, -999, -999, -999, 9,  -999.00, 9, -999, -999, 9, -999
49NZ20031106, A10, 42, 1, 36, 12036, 2, 20031118, 724, -30.0055, -23.3115, 4602,     10.3, 2,  19.8898, 2,  35.9575, 2,  35.9586, 2,    217.1, 1,    230.1, 2,     0.40, 2,    -0.01, 2,     0.01, 2,     0.08, 2, -999.000, 9, -999.000, 9, -999.000, 9,   -999.0, 9,   -999.0, 9, -999.0000, 9,   -999.00, -999.000, 9, -999.000,   -999.0, 9,   -999.0,  -999.00, 9,   -999.0,  19.8879, 25.5241,  19.8905, 2, 8.8, 2, 231.2, 2, 0.12, 0.03, 0.01, 0.02, -999, 9,  -999.00, 9, -999, -999, 9, -999
49NZ20031106, A10, 42, 1, 35, 12035, 2, 20031118, 724, -30.0055, -23.3115, 4602,     50.1, 2,  19.1297, 2,  35.9133, 2,  35.9173, 2,    221.1, 1,    233.3, 2,     0.44, 2,    -0.03, 2,     0.00, 2,     0.07, 2, -999.000, 9, -999.000, 9, -999.000, 9,   -999.0, 9,   -999.0, 9, -999.0000, 9,   -999.00, -999.000, 9, -999.000,   -999.0, 9,   -999.0,  -999.00, 9,   -999.0,  19.1207, 25.69,  19.1315, 2, 55.9, 2, 233.22, 2, 0.12, 0.03, 0.01, 0.03, -999, 9,  -999.00, 9, -999, -999, 9, -999
49NZ20031106, A10, 42, 1, 34, 12034, 2, 20031118, 724, -30.0055, -23.3115, 4602,     99.6, 2,  18.3987, 2,  35.8614, 2,  35.8605, 2,    223.6, 1,    235.9, 2,     0.40, 2,    -0.03, 2,     0.00, 2,     0.09, 2, -999.000, 9, -999.000, 9, -999.000, 9,   -999.0, 9,   -999.0, 9, -999.0000, 9,   -999.00, -999.000, 9, -999.000,   -999.0, 9,   -999.0,  -999.00, 9,   -999.0,  18.3813, 25.8408,  18.3877, 2, 99.5, 2, 234.12, 2, 0.12, 0.03, 0.01, 0.02, -999, 9,  -999.00, 9, -999, -999, 9, -999
49NZ20031106, A10, 42, 1, 1, 12037, 9, 20031118, 724, -30.0055, -23.3115, 4602,    131.5, 2,  17.3069, 2,  35.7025, 2, -999.0000, 9,    220.6, 1,   -999.0, 9,  -999.00, 9,  -999.00, 9,  -999.00, 9,  -999.00, 9, -999.000, 9, -999.000, 9, -999.000, 9,   -999.0, 9,   -999.0, 9, -999.0000, 9,   -999.00, -999.000, 9, -999.000,   -999.0, 9,   -999.0,  -999.00, 9,   -999.0,  17.2849, 25.9866,  17.3092, 2, 132.1, 2, 232.46, 2, -999, -999, -999, -999, -999, 9,  -999.00, 9, -999, -999, 9, -999
49NZ20031106, A10, 42, 1, 33, 12033, 2, 20031118, 724, -30.0055, -23.3115, 4602,    150.3, 2,  16.7244, 2,  35.6286, 2,  35.6273, 2,    225.5, 1,    237.7, 2,     0.50, 2,     0.00, 2,     0.02, 2,     0.13, 2, -999.000, 9, -999.000, 9, -999.000, 9,   -999.0, 9,   -999.0, 9, -999.0000, 9,   -999.00, -999.000, 9, -999.000,   -999.0, 9,   -999.0,  -999.00, 9,   -999.0,  16.6998, 26.0698,  16.7259, 2, 150.2, 2, 234.02, 2, 0.12, 0.03, 0.01, 0.02, -999, 9,  -999.00, 9, -999, -999, 9, -999
49NZ20031106, A10, 42, 1, 32, 12032, 2, 20031118, 724, -30.0055, -23.3115, 4602,    198.2, 2,  15.4062, 2,  35.4973, 2,  35.4963, 2,    207.6, 1,    218.3, 2,     1.10, 2,     3.48, 2,     0.02, 2,     0.38, 2, -999.000, 9, -999.000, 9, -999.000, 9,   -999.0, 9,   -999.0, 9, -999.0000, 9,   -999.00, -999.000, 9, -999.000,   -999.0, 9,   -999.0,  -999.00, 9,   -999.0,  15.3755, 26.2732,  15.4068, 2, 198.2, 2, 218.3, 2, 0.12, 0.04, 0.01, 0.01, -999, 9,  -999.00, 9, -999, -999, 9, -999
49NZ20031106, A10, 42, 1, 31, 12031, 2, 20031118, 724, -30.0055, -23.3115, 4602,    249.2, 2,  14.2697, 2,  35.3828, 2,  35.3820, 2,    206.1, 1,    216.1, 2,     1.68, 2,     6.26, 2,     0.01, 2,     0.54, 2, -999.000, 9, -999.000, 9, -999.000, 9,   -999.0, 9,   -999.0, 9, -999.0000, 9,   -999.00, -999.000, 9, -999.000,   -999.0, 9,   -999.0,  -999.00, 9,   -999.0,  14.2330, 26.4343,  14.2733, 2, 252.6, 2, 216.4, 2, 0.12, 0.05, 0.01, 0.01, -999, 9,  -999.00, 9, -999, -999, 9, -999
49NZ20031106, A10, 42, 1, 30, 12030, 2, 20031118, 724, -30.0055, -23.3115, 4602,    299.3, 2,  13.6929, 2,  35.3178, 2,  35.3216, 2,    207.0, 1,    217.3, 2,     1.87, 2,     7.40, 2,     0.01, 2,     0.61, 2, -999.000, 9, -999.000, 9, -999.000, 9,   -999.0, 9,   -999.0, 9, -999.0000, 9,   -999.00, -999.000, 9, -999.000,   -999.0, 9,   -999.0,  -999.00, 9,   -999.0,  13.6500, 26.5072,  13.6850, 2, 299.7, 2, 217.23, 2, 0.12, 0.05, 0.01, 0.01, -999, 9,  -999.00, 9, -999, -999, 9, -999
49NZ20031106, A10, 42, 1, 29, 12029, 2, 20031118, 724, -30.0055, -23.3115, 4602,    400.6, 2,  11.7886, 2,  35.0303, 2,  35.0334, 2,    198.9, 1,    208.1, 2,     4.15, 2,    12.72, 2,     0.01, 2,     0.94, 2, -999.000, 9, -999.000, 9, -999.000, 9,   -999.0, 9,   -999.0, 9, -999.0000, 9,   -999.00, -999.000, 9, -999.000,   -999.0, 9,   -999.0,  -999.00, 9,   -999.0,  11.7365, 26.6632,  11.7899, 2, 401.8, 2, 209.07, 2, 0.13, 0.07, 0.01, 0.01, -999, 9,  -999.00, 9, -999, -999, 9, -999
49NZ20031106, A10, 42, 1, 28, 12028, 2, 20031118, 724, -30.0055, -23.3115, 4602,    500.2, 2,  10.1583, 2,  34.8264, 2,  34.8169, 3,    196.3, 1,    205.3, 3,     6.59, 2,    17.23, 2,     0.01, 2,     1.23, 2, -999.000, 9, -999.000, 9, -999.000, 9,   -999.0, 9,   -999.0, 9, -999.0000, 9,   -999.00, -999.000, 9, -999.000,   -999.0, 9,   -999.0,  -999.00, 9,   -999.0,  10.0989, 26.799,  10.1591, 2, 499.7, 2, 205.58, 2, 0.13, 0.08, 0.01, 0.01, -999, 9,  -999.00, 9, -999, -999, 9, -999
49NZ20031106, A10, 42, 1, 27, 12027, 2, 20031118, 724, -30.0055, -23.3115, 4602,    602.1, 2,   7.7141, 2,  34.5322, 2,  34.5349, 2,    204.8, 1,    213.8, 2,     9.75, 2,    22.46, 2,     0.01, 2,     1.56, 2, -999.000, 9, -999.000, 9, -999.000, 9,   -999.0, 9,   -999.0, 9, -999.0000, 9,   -999.00, -999.000, 9, -999.000,   -999.0, 9,   -999.0,  -999.00, 9,   -999.0,   7.6533, 26.9606,   7.7026, 2, 603.5, 2, 207.04, 2, 0.14, 0.1, 0.01, 0.01, -999, 9,  -999.00, 9, -999, -999, 9, -999
49NZ20031106, A10, 42, 1, 26, 12026, 2, 20031118, 724, -30.0055, -23.3115, 4602,    701.4, 2,   5.6938, 2,  34.3246, 2,  34.3280, 3,    224.8, 1,    233.8, 2,    12.64, 2,    25.67, 2,     0.01, 2,     1.77, 2, -999.000, 9, -999.000, 9, -999.000, 9,   -999.0, 9,   -999.0, 9, -999.0000, 9,   -999.00, -999.000, 9, -999.000,   -999.0, 9,   -999.0,  -999.00, 9,   -999.0,   5.6334, 27.0652,   5.6758, 2, 703.6, 2, 231.03, 2, 0.15, 0.1, 0.01, 0.01, -999, 9,  -999.00, 9, -999, -999, 9, -999
49NZ20031106, A10, 42, 1, 25, 12025, 2, 20031118, 724, -30.0055, -23.3115, 4602,    800.6, 2,   4.9189, 2,  34.2910, 2,  34.2906, 2,    222.6, 1,    233.4, 2,    17.08, 2,    27.55, 2,     0.00, 2,     1.90, 2, -999.000, 9, -999.000, 9, -999.000, 9,   -999.0, 9,   -999.0, 9, -999.0000, 9,   -999.00, -999.000, 9, -999.000,   -999.0, 9,   -999.0,  -999.00, 9,   -999.0,   4.8541, 27.13,   4.9194, 2, 800.7, 2, 233.71, 2, 0.16, 0.11, 0.01, 0.01, -999, 9,  -999.00, 9, -999, -999, 9, -999
49NZ20031106, A10, 42, 1, 24, 12024, 2, 20031118, 724, -30.0055, -23.3115, 4602,    901.4, 2,   4.1554, 2,  34.2806, 2,  34.2808, 2,    217.9, 1,    228.2, 2,    24.22, 2,    29.55, 2,     0.01, 2,     2.04, 2, -999.000, 9, -999.000, 9, -999.000, 9,   -999.0, 9,   -999.0, 9, -999.0000, 9,   -999.00, -999.000, 9, -999.000,   -999.0, 9,   -999.0,  -999.00, 9,   -999.0,   4.0871, 27.2051,   4.1550, 2, 901.6, 2, 228.1, 2, 0.17, 0.12, 0.01, 0.02, -999, 9,  -999.00, 9, -999, -999, 9, -999
49NZ20031106, A10, 42, 1, 23, 12023, 2, 20031118, 724, -30.0055, -23.3115, 4602,   1000.4, 2,   3.6655, 2,  34.2990, 2,  34.2969, 2,    210.5, 1,    221.1, 2,    30.94, 2,    30.85, 2,     0.00, 2,     2.13, 2, -999.000, 9, -999.000, 9, -999.000, 9,   -999.0, 9,   -999.0, 9, -999.0000, 9,   -999.00, -999.000, 9, -999.000,   -999.0, 9,   -999.0,  -999.00, 9,   -999.0,   3.5927, 27.2698,   3.6658, 2, 1000.4, 2, 221.54, 2, 0.19, 0.12, 0.01, 0.02, -999, 9,  -999.00, 9, -999, -999, 9, -999
49NZ20031106, A10, 42, 1, 4, 12040, 9, 20031118, 724, -30.0055, -23.3115, 4602,   1001.1, 2,   3.6744, 2,  34.2972, 2, -999.0000, 9,    210.7, 1,   -999.0, 9,  -999.00, 9,  -999.00, 9,  -999.00, 9,  -999.00, 9, -999.000, 9, -999.000, 9, -999.000, 9,   -999.0, 9,   -999.0, 9, -999.0000, 9,   -999.00, -999.000, 9, -999.000,   -999.0, 9,   -999.0,  -999.00, 9,   -999.0,   3.6015, 27.2678,   3.6749, 2, 1000.5, 2, 221.51, 2, -999, -999, -999, -999, -999, 9,  -999.00, 9, -999, -999, 9, -999
49NZ20031106, A10, 42, 1, 5, 12041, 9, 20031118, 724, -30.0055, -23.3115, 4602,   1001.3, 2,   3.6780, 2,  34.2965, 2, -999.0000, 9,    210.8, 1,   -999.0, 9,  -999.00, 9,  -999.00, 9,  -999.00, 9,  -999.00, 9, -999.000, 9, -999.000, 9, -999.000, 9,   -999.0, 9,   -999.0, 9, -999.0000, 9,   -999.00, -999.000, 9, -999.000,   -999.0, 9,   -999.0,  -999.00, 9,   -999.0,   3.6051, 27.2668,   3.6781, 2, 1000.5, 2, 221.51, 2, -999, -999, -999, -999, -999, 9,  -999.00, 9, -999, -999, 9, -999
49NZ20031106, A10, 42, 1, 22, 12022, 2, 20031118, 724, -30.0055, -23.3115, 4602,   1200.1, 2,   3.0588, 2,  34.3943, 2,  34.3940, 2,    191.2, 1,    200.8, 2,    45.96, 2,    32.75, 2,     0.00, 2,     2.26, 2, -999.000, 9, -999.000, 9, -999.000, 9,   -999.0, 9,   -999.0, 9, -999.0000, 9,   -999.00, -999.000, 9, -999.000,   -999.0, 9,   -999.0,  -999.00, 9,   -999.0,   2.9751, 27.4045,   3.0587, 2, 1199.1, 2, 200.32, 2, 0.22, 0.12, 0.01, 0.02, -999, 9,  -999.00, 9, -999, -999, 9, -999
49NZ20031106, A10, 42, 1, 21, 12015, 2, 20031118, 724, -30.0055, -23.3115, 4602,   1399.6, 2,   2.8531, 2,  34.5310, 2,  34.5290, 2,    180.0, 1,    188.3, 2,    55.51, 2,    32.59, 2,     0.00, 2,     2.25, 2, -999.000, 9, -999.000, 9, -999.000, 9,   -999.0, 9,   -999.0, 9, -999.0000, 9,   -999.00, -999.000, 9, -999.000,   -999.0, 9,   -999.0,  -999.00, 9,   -999.0,   2.7552, 27.5338,   2.8528, 2, 1397.8, 2, 188.41, 2, 0.24, 0.12, 0.01, 0.02, -999, 9,  -999.00, 9, -999, -999, 9, -999
49NZ20031106, A10, 42, 1, 20, 12020, 2, 20031118, 724, -30.0055, -23.3115, 4602,   1599.4, 2,   2.8202, 2,  34.6551, 2,  34.6547, 2,    183.9, 1,    192.4, 2,    56.50, 2,    30.67, 2,     0.00, 2,     2.10, 2, -999.000, 9, -999.000, 9, -999.000, 9,   -999.0, 9,   -999.0, 9, -999.0000, 9,   -999.00, -999.000, 9, -999.000,   -999.0, 9,   -999.0,  -999.00, 9,   -999.0,   2.7060, 27.6366,   2.8203, 2, 1598.2, 2, 193.02, 2, 0.24, 0.12, 0.01, 0.02, -999, 9,  -999.00, 9, -999, -999, 9, -999
49NZ20031106, A10, 42, 1, 19, 12019, 2, 20031118, 724, -30.0055, -23.3115, 4602,   1799.9, 2,   2.7595, 2,  34.7479, 2,  34.7490, 2,    197.3, 1,    206.9, 2,    52.78, 2,    28.00, 2,     0.00, 2,     1.91, 2, -999.000, 9, -999.000, 9, -999.000, 9,   -999.0, 9,   -999.0, 9, -999.0000, 9,   -999.00, -999.000, 9, -999.000,   -999.0, 9,   -999.0,  -999.00, 9,   -999.0,   2.6288, 27.718,   2.7593, 2, 1800.7, 2, 205.44, 2, 0.24, 0.11, 0.01, 0.01, -999, 9,  -999.00, 9, -999, -999, 9, -999
49NZ20031106, A10, 42, 1, 18, 12018, 2, 20031118, 724, -30.0055, -23.3115, 4602,   1998.9, 2,   2.7069, 2,  34.8000, 2,  34.7997, 2,    208.0, 1,    218.2, 2,    49.61, 2,    26.21, 2,     0.00, 2,     1.78, 2, -999.000, 9, -999.000, 9, -999.000, 9,   -999.0, 9,   -999.0, 9, -999.0000, 9,   -999.00, -999.000, 9, -999.000,   -999.0, 9,   -999.0,  -999.00, 9,   -999.0,   2.5593, 27.7656,   2.7068, 2, 1999.4, 2, 216.92, 2, 0.23, 0.11, 0.01, 0.01, -999, 9,  -999.00, 9, -999, -999, 9, -999
49NZ20031106, A10, 42, 1, 17, 12017, 2, 20031118, 724, -30.0055, -23.3115, 4602,   2201.1, 2,   2.6931, 2,  34.8355, 2,  34.8348, 2,    216.7, 1,    227.3, 2,    46.23, 2,    24.82, 2,     0.00, 2,     1.68, 2, -999.000, 9, -999.000, 9, -999.000, 9,   -999.0, 9,   -999.0, 9, -999.0000, 9,   -999.00, -999.000, 9, -999.000,   -999.0, 9,   -999.0,  -999.00, 9,   -999.0,   2.5273, 27.797,   2.6932, 2, 2202, 2, 225.64, 2, 0.22, 0.1, 0.01, 0.01, -999, 9,  -999.00, 9, -999, -999, 9, -999
49NZ20031106, A10, 42, 1, 16, 12016, 2, 20031118, 724, -30.0055, -23.3115, 4602,   2401.1, 2,   2.7046, 2,  34.8606, 2,  34.8603, 2,    223.4, 1,    234.5, 2,    42.84, 2,    23.64, 2,     0.00, 2,     1.61, 2, -999.000, 9, -999.000, 9, -999.000, 9,   -999.0, 9,   -999.0, 9, -999.0000, 9,   -999.00, -999.000, 9, -999.000,   -999.0, 9,   -999.0,  -999.00, 9,   -999.0,   2.5199, 27.8176,   2.7050, 2, 2401.5, 2, 233.26, 2, 0.21, 0.1, 0.01, 0.01, -999, 9,  -999.00, 9, -999, -999, 9, -999
49NZ20031106, A10, 42, 1, 15, 12012, 2, 20031118, 724, -30.0055, -23.3115, 4602,   2600.8, 2,   2.7395, 2,  34.8869, 2,  34.8869, 2,    230.5, 1,    241.8, 2,    38.47, 2,    22.43, 2,     0.00, 2,     1.52, 2, -999.000, 9, -999.000, 9, -999.000, 9,   -999.0, 9,   -999.0, 9, -999.0000, 9,   -999.00, -999.000, 9, -999.000,   -999.0, 9,   -999.0,  -999.00, 9,   -999.0,   2.5348, 27.8374,   2.7395, 2, 2600.8, 2, 241.36, 2, 0.2, 0.1, 0.01, 0.01, -999, 9,  -999.00, 9, -999, -999, 9, -999
49NZ20031106, A10, 42, 1, 14, 12014, 2, 20031118, 724, -30.0055, -23.3115, 4602,   2801.9, 2,   2.7316, 2,  34.8999, 2,  34.8999, 2,    234.7, 1,    246.4, 2,    36.41, 2,    21.74, 2,     0.00, 2,     1.48, 2, -999.000, 9, -999.000, 9, -999.000, 9,   -999.0, 9,   -999.0, 9, -999.0000, 9,   -999.00, -999.000, 9, -999.000,   -999.0, 9,   -999.0,  -999.00, 9,   -999.0,   2.5070, 27.8505,   2.7314, 2, 2802, 2, 245.89, 2, 0.2, 0.09, 0.01, 0.01, -999, 9,  -999.00, 9, -999, -999, 9, -999
49NZ20031106, A10, 42, 1, 13, 12013, 2, 20031118, 724, -30.0055, -23.3115, 4602,   3000.3, 2,   2.6779, 2,  34.9038, 2,  34.9041, 2,    237.1, 1,    248.4, 2,    36.53, 2,    21.49, 2,     0.00, 2,     1.46, 2, -999.000, 9, -999.000, 9, -999.000, 9,   -999.0, 9,   -999.0, 9, -999.0000, 9,   -999.00, -999.000, 9, -999.000,   -999.0, 9,   -999.0,  -999.00, 9,   -999.0,   2.4342, 27.8596,   2.6786, 2, 3000.4, 2, 248.39, 2, 0.2, 0.09, 0.01, 0.01, -999, 9,  -999.00, 9, -999, -999, 9, -999
49NZ20031106, A10, 42, 1, 12, 12048, 2, 20031118, 724, -30.0055, -23.3115, 4602,   3252.3, 2,   2.4761, 2,  34.8909, 2,  34.8912, 2,    237.0, 1,    248.3, 2,    42.20, 2,    21.99, 2,     0.00, 2,     1.50, 2, -999.000, 9, -999.000, 9, -999.000, 9,   -999.0, 9,   -999.0, 9, -999.0000, 9,   -999.00, -999.000, 9, -999.000,   -999.0, 9,   -999.0,  -999.00, 9,   -999.0,   2.2108, 27.8682,   2.4765, 2, 3252.4, 2, 248.49, 2, 0.21, 0.09, 0.01, 0.01, -999, 9,  -999.00, 9, -999, -999, 9, -999
49NZ20031106, A10, 42, 1, 11, 12047, 2, 20031118, 724, -30.0055, -23.3115, 4602,   3503.6, 2,   2.1844, 2,  34.8640, 2,  34.8639, 2,    234.0, 1,    244.7, 2,    52.63, 2,    23.31, 2,     0.00, 2,     1.60, 2, -999.000, 9, -999.000, 9, -999.000, 9,   -999.0, 9,   -999.0, 9, -999.0000, 9,   -999.00, -999.000, 9, -999.000,   -999.0, 9,   -999.0,  -999.00, 9,   -999.0,   1.8997, 27.8718,   2.1843, 2, 3503.9, 2, 245.38, 2, 0.23, 0.1, 0.01, 0.01, -999, 9,  -999.00, 9, -999, -999, 9, -999
49NZ20031106, A10, 42, 1, 10, 12046, 2, 20031118, 724, -30.0055, -23.3115, 4602,   3752.2, 2,   1.8304, 2,  34.8272, 2,  34.8267, 2,    228.9, 1,    238.7, 2,    67.15, 2,    25.25, 2,     0.00, 2,     1.74, 2, -999.000, 9, -999.000, 9, -999.000, 9,   -999.0, 9,   -999.0, 9, -999.0000, 9,   -999.00, -999.000, 9, -999.000,   -999.0, 9,   -999.0,  -999.00, 9,   -999.0,   1.5284, 27.8704,   1.8305, 2, 3751.7, 2, 239.07, 2, 0.27, 0.1, 0.01, 0.01, -999, 9,  -999.00, 9, -999, -999, 9, -999
49NZ20031106, A10, 42, 1, 9, 12045, 2, 20031118, 724, -30.0055, -23.3115, 4602,   4000.3, 2,   1.4233, 2,  34.7823, 2,  34.7824, 2,    221.8, 1,    231.0, 2,    83.90, 2,    27.58, 2,     0.01, 2,     1.90, 2, -999.000, 9, -999.000, 9, -999.000, 9,   -999.0, 9,   -999.0, 9, -999.0000, 9,   -999.00, -999.000, 9, -999.000,   -999.0, 9,   -999.0,  -999.00, 9,   -999.0,   1.1059, 27.8646,   1.4227, 2, 4000.3, 2, 231.2, 2, 0.3, 0.11, 0.01, 0.01, -999, 9,  -999.00, 9, -999, -999, 9, -999
49NZ20031106, A10, 42, 1, 8, 12044, 2, 20031118, 724, -30.0055, -23.3115, 4602,   4251.3, 2,   1.2842, 2,  34.7650, 2,  34.7646, 2,    220.0, 1,    228.0, 2,    91.00, 2,    28.57, 2,     0.00, 2,     1.97, 2, -999.000, 9, -999.000, 9, -999.000, 9,   -999.0, 9,   -999.0, 9, -999.0000, 9,   -999.00, -999.000, 9, -999.000,   -999.0, 9,   -999.0,  -999.00, 9,   -999.0,   0.9434, 27.8615,   1.2842, 2, 4251.4, 2, 227.89, 2, 0.32, 0.11, 0.01, 0.01, -999, 9,  -999.00, 9, -999, -999, 9, -999
49NZ20031106, A10, 42, 1, 7, 12043, 2, 20031118, 724, -30.0055, -23.3115, 4602,   4500.8, 2,   1.2218, 2,  34.7566, 2,  34.7563, 2,    220.3, 1,    226.9, 2,    94.21, 2,    28.98, 2,     0.00, 2,     2.00, 2, -999.000, 9, -999.000, 9, -999.000, 9,   -999.0, 9,   -999.0, 9, -999.0000, 9,   -999.00, -999.000, 9, -999.000,   -999.0, 9,   -999.0,  -999.00, 9,   -999.0,   0.8549, 27.8607,   1.2217, 2, 4500.9, 2, 226.86, 2, 0.33, 0.11, 0.01, 0.02, -999, 9,  -999.00, 9, -999, -999, 9, -999
49NZ20031106, A10, 42, 1, 6, 12042, 2, 20031118, 724, -30.0055, -23.3115, 4602,   4662.5, 2,   1.2244, 2,  34.7553, 2,  34.7554, 2,    221.5, 1,    227.0, 2,    94.52, 2,    29.00, 2,    -0.01, 2,     2.00, 2, -999.000, 9, -999.000, 9, -999.000, 9,   -999.0, 9,   -999.0, 9, -999.0000, 9,   -999.00, -999.000, 9, -999.000,   -999.0, 9,   -999.0,  -999.00, 9,   -999.0,   0.8388, 27.8606,   1.2245, 2, 4662.5, 2, 226.54, 2, 0.33, 0.11, 0.01, 0.02, -999, 9,  -999.00, 9, -999, -999, 9, -999