BOTTLE,20220818CCHSIOAMB
EXPOCODE,SECT_ID,STNNBR,CASTNO,SAMPNO,BTLNBR,BTLNBR_FLAG_W,DATE,TIME,LATITUDE,LONGITUDE,DEPTH,CTDPRS,CTDPRS_FLAG_W,CTDTMP,CTDTMP_FLAG_W,CTDSAL,CTDSAL_FLAG_W,SALNTY,SALNTY_FLAG_W,CTDOXY,CTDOXY_FLAG_W,OXYGEN,OXYGEN_FLAG_W,SILCAT,SILCAT_FLAG_W,NITRAT,NITRAT_FLAG_W,NITRIT,NITRIT_FLAG_W,PHSPHT,PHSPHT_FLAG_W,CFC-11,CFC-11_FLAG_W,CFC-12,CFC-12_FLAG_W,CFC113,CFC113_FLAG_W,TCARBN,TCARBN_FLAG_W,ALKALI,ALKALI_FLAG_W,PH_TOT,PH_TOT_FLAG_W,PH_TMP,TRITUM,TRITUM_FLAG_W,TRITER,DELC14,DELC14_FLAG_W,C14ERR,DELC13,DELC13_FLAG_W,C13ERR,THETA,SIG0,SBE35,SBE35_FLAG_W,DWNPRS,DWNPRS_FLAG_W,DWNOXY,DWNOXY_FLAG_W,SILUNC,NRAUNC,NRIUNC,PHPUNC,TOC,TOC_FLAG_W,CS-137,CS-137_FLAG_W,CS137ER,PLUTO,PLUTO_FLAG_W,PLUTOER
,,,,,,,,,,,METERS,DBAR,,ITS-90,,PSS-78,,PSS-78,,UMOL/KG,,UMOL/KG,,UMOL/KG,,UMOL/KG,,UMOL/KG,,UMOL/KG,,PMOL/KG,,PMOL/KG,,PMOL/KG,,UMOL/KG,,UMOL/KG,,,,DEG C,TU,,TU,/MILLE,,/MILLE,/MILLE,,/MILLE,DEG C,KG/M^3,ITS-90,,DBAR,,UMOL/KG,,UMOL/KG,UMOL/KG,UMOL/KG,UMOL/KG,UMOL/KG,,BQ/M^3,,BQ/M^3,MBQ/M^3,,MBQ/M^3
49NZ20031106, A10, 631, 1, 3, 12012, 9, 20031108, 1332, -28.1598, -45.6817, 2787,      4.7, 2,  23.1720, 2,  37.0519, 2, -999.0000, 9,    200.6, 1,   -999.0, 9,  -999.00, 9,  -999.00, 9,  -999.00, 9,  -999.00, 9, -999.000, 9, -999.000, 9, -999.000, 9,   -999.0, 9,   -999.0, 9, -999.0000, 9,   -999.00, -999.000, 9, -999.000,   -999.0, 9,   -999.0,  -999.00, 9,   -999.0,  23.1710, 25.4422,  23.1746, 2, -999, 9, -999, 9, -999, -999, -999, -999, -999, 9,  -999.00, 9, -999, -999, 9, -999
49NZ20031106, A10, 631, 1, 36, 12048, 2, 20031108, 1332, -28.1598, -45.6817, 2787,      9.7, 2,  23.2072, 2,  37.0327, 2,  37.0336, 2,    201.1, 1,    212.0, 2,     0.83, 2,     0.07, 2,     0.01, 2,     0.09, 2,    1.965, 2,    1.103, 2,    0.290, 4,   2083.0, 2,   2425.2, 2,    8.0756, 2,     25.00, -999.000, 9, -999.000,   -999.0, 9,   -999.0,  -999.00, 9,   -999.0,  23.2052, 25.4144,  23.2086, 2, 9.7, 2, 212.22, 2, 0.12, 0.03, 0.01, 0.02, -999, 9,  -999.00, 9, -999, -999, 9, -999
49NZ20031106, A10, 631, 1, 35, 12047, 2, 20031108, 1332, -28.1598, -45.6817, 2787,     48.8, 2,  23.0580, 2,  37.0845, 2,  37.0832, 2,    201.3, 1,    212.2, 2,     0.89, 2,     0.06, 2,     0.01, 2,     0.09, 2,    1.976, 2,    1.103, 2,    0.289, 4,   2086.3, 6,   2423.1, 2,    8.0751, 2,     25.00, -999.000, 9, -999.000,   -999.0, 9,   -999.0,  -999.00, 9,   -999.0,  23.0479, 25.502,  23.0582, 2, 48.9, 2, 212.16, 2, 0.12, 0.03, 0.01, 0.02, -999, 9,  -999.00, 9, -999, -999, 9, -999
49NZ20031106, A10, 631, 1, 2, 12014, 2, 20031108, 1332, -28.1598, -45.6817, 2787,     71.4, 2,  23.0575, 2,  37.0834, 2, -999.0000, 9,    200.9, 1,   -999.0, 9,  -999.00, 9,  -999.00, 9,  -999.00, 9,  -999.00, 9, -999.000, 9, -999.000, 9, -999.000, 9,   -999.0, 9,   -999.0, 9, -999.0000, 9,   -999.00, -999.000, 9, -999.000,   -999.0, 9,   -999.0,  -999.00, 9,   -999.0,  23.0428, 25.5033,  23.0572, 2, 71.5, 2, 212.03, 2, -999, -999, -999, -999, -999, 9,  -999.00, 9, -999, -999, 9, -999
49NZ20031106, A10, 631, 1, 34, 12046, 2, 20031108, 1332, -28.1598, -45.6817, 2787,    101.2, 2,  23.0195, 2,  37.0736, 2,  37.0738, 2,    199.5, 1,    211.0, 2,     0.90, 2,     0.12, 2,     0.04, 2,     0.09, 2,    2.013, 2,    1.119, 2,    0.274, 4,   2086.2, 2,   2426.4, 6,    8.0735, 2,     25.00, -999.000, 9, -999.000,   -999.0, 9,   -999.0,  -999.00, 9,   -999.0,  22.9986, 25.5095,  23.0187, 2, 102, 2, 211.53, 2, 0.12, 0.03, 0.01, 0.02, -999, 9,  -999.00, 9, -999, -999, 9, -999
49NZ20031106, A10, 631, 1, 33, 12045, 2, 20031108, 1332, -28.1598, -45.6817, 2787,    150.6, 2,  22.4391, 2,  36.9443, 2,  36.9455, 2,    193.1, 1,    203.5, 2,     0.92, 2,     0.63, 2,     0.04, 2,     0.14, 2,    2.033, 2,    1.171, 2,    0.187, 4,   2091.6, 2,   2417.7, 2,    8.0543, 6,     25.00, -999.000, 9, -999.000,   -999.0, 9,   -999.0,  -999.00, 9,   -999.0,  22.4086, 25.5814,  22.4379, 2, 147.5, 2, 201.67, 2, 0.12, 0.03, 0.01, 0.02, -999, 9,  -999.00, 9, -999, -999, 9, -999
49NZ20031106, A10, 631, 1, 32, 12044, 2, 20031108, 1332, -28.1598, -45.6817, 2787,    201.3, 2,  18.3426, 2,  36.0577, 2,  36.0596, 2,    197.6, 1,    203.3, 3,     1.45, 2,     2.32, 2,     0.01, 2,     0.30, 2,    2.421, 2,    1.353, 2,    0.094, 4,   2096.1, 2,   2362.4, 2,    7.9759, 2,     25.00, -999.000, 9, -999.000,   -999.0, 9,   -999.0,  -999.00, 9,   -999.0,  18.3073, 26.0056,  18.3352, 2, 199.3, 2, 208.51, 2, 0.12, 0.04, 0.01, 0.01, -999, 9,  -999.00, 9, -999, -999, 9, -999
49NZ20031106, A10, 631, 1, 31, 12043, 2, 20031108, 1332, -28.1598, -45.6817, 2787,    250.8, 2,  16.4444, 2,  35.7370, 2,  35.7415, 2,    193.9, 1,    202.5, 2,     1.89, 2,     4.43, 2,     0.00, 2,     0.43, 2,    2.742, 6,    1.480, 6,    0.065, 4,   2099.0, 2,   2344.6, 2,    7.9387, 2,     25.00, -999.000, 9, -999.000,   -999.0, 9,   -999.0,  -999.00, 9,   -999.0,  16.4037, 26.2211,  16.4417, 2, 255.1, 2, 201.63, 2, 0.12, 0.05, 0.01, 0.01, -999, 9,  -999.00, 9, -999, -999, 9, -999
49NZ20031106, A10, 631, 1, 30, 12042, 2, 20031108, 1332, -28.1598, -45.6817, 2787,    300.3, 2,  14.5325, 2,  35.4185, 2,  35.4238, 2,    194.3, 1,    202.7, 2,     2.76, 2,     7.45, 2,     0.01, 2,     0.63, 2,    2.893, 2,    1.501, 2,    0.048, 4,   2108.8, 2,   2328.5, 2,    7.8947, 2,     25.00, -999.000, 9, -999.000,   -999.0, 9,   -999.0,  -999.00, 9,   -999.0,  14.4877, 26.4073,  14.5251, 2, 300.4, 2, 202.3, 2, 0.13, 0.05, 0.01, 0.01, -999, 9,  -999.00, 9, -999, -999, 9, -999
49NZ20031106, A10, 631, 1, 29, 12041, 2, 20031108, 1332, -28.1598, -45.6817, 2787,    402.6, 2,  12.6253, 2,  35.1525, 2,  35.1530, 2,    195.1, 1,    202.9, 2,     4.01, 2,    11.62, 2,     0.00, 2,     0.88, 2,    2.924, 2,    1.527, 2,    0.051, 4,   2120.8, 2,   2309.8, 2,    7.8470, 2,     25.00, -999.000, 9, -999.000,   -999.0, 9,   -999.0,  -999.00, 9,   -999.0,  12.5705, 26.5961,  12.6272, 2, 403, 2, 202.3, 2, 0.13, 0.07, 0.01, 0.01, -999, 9,  -999.00, 9, -999, -999, 9, -999
49NZ20031106, A10, 631, 1, 28, 12040, 2, 20031108, 1332, -28.1598, -45.6817, 2787,    501.1, 2,  10.7017, 2,  34.8989, 2,  34.8998, 2,    192.4, 1,    199.6, 2,     6.26, 2,    16.32, 2,     0.00, 2,     1.17, 2,    2.889, 2,    1.452, 2,    0.067, 4,   2135.0, 2,   2297.7, 2,    7.7919, 2,     25.00, -999.000, 9, -999.000,   -999.0, 9,   -999.0,  -999.00, 9,   -999.0,  10.6402, 26.7605,  10.7036, 2, 502.3, 2, 202.76, 2, 0.13, 0.08, 0.01, 0.01, -999, 9,  -999.00, 9, -999, -999, 9, -999
49NZ20031106, A10, 631, 1, 27, 12039, 2, 20031108, 1332, -28.1598, -45.6817, 2787,    601.1, 2,   8.5151, 2,  34.6413, 2,  34.6418, 2,    194.1, 1,    201.1, 2,     9.79, 2,    21.50, 2,     0.01, 2,     1.51, 2,    2.702, 2,    1.309, 2,    0.095, 4,   2151.0, 2,   2287.1, 2,    7.7367, 2,     25.00, -999.000, 9, -999.000,   -999.0, 9,   -999.0,  -999.00, 9,   -999.0,   8.4507, 26.9226,   8.5152, 2, 599.2, 2, 201.6, 2, 0.14, 0.09, 0.01, 0.01, -999, 9,  -999.00, 9, -999, -999, 9, -999
49NZ20031106, A10, 631, 1, 26, 12038, 2, 20031108, 1332, -28.1598, -45.6817, 2787,    702.0, 2,   6.2820, 2,  34.4042, 2,  34.4065, 2,    213.0, 1,    220.4, 2,    13.26, 2,    25.31, 2,     0.00, 2,     1.74, 2,    2.931, 2,    1.399, 2,    0.134, 4,   2158.2, 6,   2281.8, 2,    7.7034, 2,     25.00, -999.000, 9, -999.000,   -999.0, 9,   -999.0,  -999.00, 9,   -999.0,   6.2183, 27.0529,   6.2782, 2, 702.7, 2, 218.71, 2, 0.15, 0.1, 0.01, 0.01, -999, 9,  -999.00, 9, -999, -999, 9, -999
49NZ20031106, A10, 631, 1, 25, 12037, 2, 20031108, 1332, -28.1598, -45.6817, 2787,    800.7, 2,   5.0468, 2,  34.3332, 2,  34.3339, 2,    212.1, 1,    219.8, 2,    19.82, 2,    28.26, 2,     0.01, 2,     1.95, 2,    2.357, 2,    1.104, 2,    0.108, 4,   2173.2, 2,   2287.1, 6,    7.6737, 2,     25.00, -999.000, 9, -999.000,   -999.0, 9,   -999.0,  -999.00, 9,   -999.0,   4.9812, 27.1477,   5.0464, 2, 801.8, 2, 219.81, 2, 0.16, 0.11, 0.01, 0.01, -999, 9,  -999.00, 9, -999, -999, 9, -999
49NZ20031106, A10, 631, 1, 24, 12036, 2, 20031108, 1332, -28.1598, -45.6817, 2787,    901.2, 2,   4.2618, 2,  34.3329, 2,  34.3339, 3,    204.0, 1,    211.1, 2,    28.17, 2,    30.44, 2,     0.01, 2,     2.09, 2,    1.621, 2,    0.750, 2,    0.072, 4,   2189.1, 2,   2292.0, 2,    7.6474, 6,     25.00, -999.000, 9, -999.000,   -999.0, 9,   -999.0,  -999.00, 9,   -999.0,   4.1927, 27.2346,   4.2621, 2, 902, 2, 211.05, 2, 0.18, 0.12, 0.01, 0.02, -999, 9,  -999.00, 9, -999, -999, 9, -999
49NZ20031106, A10, 631, 1, 8, 12020, 9, 20031108, 1332, -28.1598, -45.6817, 2787,   1001.6, 2,   3.7250, 2,  34.3655, 2, -999.0000, 9,    195.5, 1,   -999.0, 9,  -999.00, 9,  -999.00, 9,  -999.00, 9,  -999.00, 9, -999.000, 9, -999.000, 9, -999.000, 9,   -999.0, 9,   -999.0, 9, -999.0000, 9,   -999.00, -999.000, 9, -999.000,   -999.0, 9,   -999.0,  -999.00, 9,   -999.0,   3.6516, 27.3159,   3.7245, 2, 1001.4, 2, 202.47, 2, -999, -999, -999, -999, -999, 9,  -999.00, 9, -999, -999, 9, -999
49NZ20031106, A10, 631, 1, 6, 12018, 9, 20031108, 1332, -28.1598, -45.6817, 2787,   1001.6, 2,   3.7264, 2,  34.3652, 2, -999.0000, 9,    195.7, 1,   -999.0, 9,  -999.00, 9,  -999.00, 9,  -999.00, 9,  -999.00, 9, -999.000, 9, -999.000, 9, -999.000, 9,   -999.0, 9,   -999.0, 9, -999.0000, 9,   -999.00, -999.000, 9, -999.000,   -999.0, 9,   -999.0,  -999.00, 9,   -999.0,   3.6530, 27.3157,   3.7263, 2, 1001.3, 2, 202.49, 2, -999, -999, -999, -999, -999, 9,  -999.00, 9, -999, -999, 9, -999
49NZ20031106, A10, 631, 1, 23, 12035, 2, 20031108, 1332, -28.1598, -45.6817, 2787,   1001.7, 2,   3.7258, 2,  34.3653, 2,  34.3646, 3,    195.4, 1,    202.5, 2,    36.37, 2,    31.79, 2,     0.00, 2,     2.19, 2,    1.039, 6,    0.488, 6,    0.041, 4,   2202.7, 2,   2300.7, 2,    7.6283, 2,     25.00, -999.000, 9, -999.000,   -999.0, 9,   -999.0,  -999.00, 9,   -999.0,   3.6524, 27.3157,   3.7259, 2, 1001.5, 2, 202.48, 2, 0.2, 0.12, 0.01, 0.02, -999, 9,  -999.00, 9, -999, -999, 9, -999
49NZ20031106, A10, 631, 1, 7, 12019, 9, 20031108, 1332, -28.1598, -45.6817, 2787,   1001.7, 2,   3.7256, 2,  34.3654, 2, -999.0000, 9,    195.6, 1,   -999.0, 9,  -999.00, 9,  -999.00, 9,  -999.00, 9,  -999.00, 9, -999.000, 9, -999.000, 9, -999.000, 9,   -999.0, 9,   -999.0, 9, -999.0000, 9,   -999.00, -999.000, 9, -999.000,   -999.0, 9,   -999.0,  -999.00, 9,   -999.0,   3.6522, 27.3156,   3.7256, 2, 1001.5, 2, 202.48, 2, -999, -999, -999, -999, -999, 9,  -999.00, 9, -999, -999, 9, -999
49NZ20031106, A10, 631, 1, 5, 12017, 9, 20031108, 1332, -28.1598, -45.6817, 2787,   1001.8, 2,   3.7249, 2,  34.3655, 2, -999.0000, 9,    195.6, 1,   -999.0, 9,  -999.00, 9,  -999.00, 9,  -999.00, 9,  -999.00, 9, -999.000, 9, -999.000, 9, -999.000, 9,   -999.0, 9,   -999.0, 9, -999.0000, 9,   -999.00, -999.000, 9, -999.000,   -999.0, 9,   -999.0,  -999.00, 9,   -999.0,   3.6515, 27.3156,   3.7263, 2, 1001.6, 2, 202.46, 2, -999, -999, -999, -999, -999, 9,  -999.00, 9, -999, -999, 9, -999
49NZ20031106, A10, 631, 1, 9, 12015, 9, 20031108, 1332, -28.1598, -45.6817, 2787,   1002.1, 2,   3.7212, 2,  34.3658, 2, -999.0000, 9,    195.6, 1,   -999.0, 9,  -999.00, 9,  -999.00, 9,  -999.00, 9,  -999.00, 9, -999.000, 9, -999.000, 9, -999.000, 9,   -999.0, 9,   -999.0, 9, -999.0000, 9,   -999.00, -999.000, 9, -999.000,   -999.0, 9,   -999.0,  -999.00, 9,   -999.0,   3.6478, 27.3164,   3.7217, 2, 1002.1, 2, 202.42, 2, -999, -999, -999, -999, -999, 9,  -999.00, 9, -999, -999, 9, -999
49NZ20031106, A10, 631, 1, 4, 12016, 9, 20031108, 1332, -28.1598, -45.6817, 2787,   1002.2, 2,   3.7209, 2,  34.3659, 2, -999.0000, 9,    195.7, 1,   -999.0, 9,  -999.00, 9,  -999.00, 9,  -999.00, 9,  -999.00, 9, -999.000, 9, -999.000, 9, -999.000, 9,   -999.0, 9,   -999.0, 9, -999.0000, 9,   -999.00, -999.000, 9, -999.000,   -999.0, 9,   -999.0,  -999.00, 9,   -999.0,   3.6474, 27.3165,   3.7223, 2, 1002.1, 2, 202.42, 2, -999, -999, -999, -999, -999, 9,  -999.00, 9, -999, -999, 9, -999
49NZ20031106, A10, 631, 1, 22, 12034, 2, 20031108, 1332, -28.1598, -45.6817, 2787,   1201.4, 2,   3.3080, 2,  34.4494, 2,  34.4494, 2,    186.5, 1,    192.9, 2,    45.38, 2,    32.31, 2,     0.00, 2,     2.24, 2,    0.516, 2,    0.237, 2,    0.017, 4,   2217.6, 2,   2310.5, 2,    7.6159, 2,     25.00, -999.000, 9, -999.000,   -999.0, 9,   -999.0,  -999.00, 9,   -999.0,   3.2218, 27.4243,   3.3079, 2, 1202.2, 2, 193.09, 2, 0.22, 0.12, 0.01, 0.02, -999, 9,  -999.00, 9, -999, -999, 9, -999
49NZ20031106, A10, 631, 1, 21, 12033, 2, 20031108, 1332, -28.1598, -45.6817, 2787,   1400.1, 2,   3.3517, 2,  34.5471, 2,  34.5476, 2,    183.1, 1,    188.9, 2,    45.83, 2,    31.54, 2,     0.01, 2,     2.18, 2,    0.211, 2,    0.097, 2,    0.013, 4,   2218.8, 2,   2313.7, 2,    7.6213, 2,     25.00, -999.000, 9, -999.000,   -999.0, 9,   -999.0,  -999.00, 9,   -999.0,   3.2484, 27.5001,   3.3511, 2, 1400.3, 2, 188.87, 2, 0.22, 0.12, 0.01, 0.02, -999, 9,  -999.00, 9, -999, -999, 9, -999
49NZ20031106, A10, 631, 1, 1, 12013, 2, 20031108, 1332, -28.1598, -45.6817, 2787,   1602.5, 2,   3.4939, 2,  34.6765, 2,  34.6765, 2,    187.7, 1,    193.2, 2,    42.11, 2,    29.43, 2,     0.00, 2,     2.02, 2,    0.076, 2,    0.033, 2,    0.000, 4,   2212.4, 2,   2315.6, 2,    7.6432, 2,     25.00, -999.000, 9, -999.000,   -999.0, 9,   -999.0,  -999.00, 9,   -999.0,   3.3712, 27.5917,   3.4941, 2, 1602.7, 2, 192.96, 2, 0.21, 0.12, 0.01, 0.02, -999, 9,  -999.00, 9, -999, -999, 9, -999
49NZ20031106, A10, 631, 1, 19, 12031, 2, 20031108, 1332, -28.1598, -45.6817, 2787,   1800.9, 2,   3.8853, 2,  34.8485, 2,  34.8486, 2,    205.9, 1,    212.0, 2,    28.87, 2,    24.99, 2,    -0.01, 2,     1.69, 2,    0.066, 2,    0.028, 2,    0.000, 4,   2192.0, 2,   2314.2, 2,    7.6856, 2,     25.00, -999.000, 9, -999.000,   -999.0, 9,   -999.0,  -999.00, 9,   -999.0,   3.7389, 27.6923,   3.8852, 2, 1800.4, 2, 211.68, 2, 0.18, 0.1, 0.01, 0.01, -999, 9,  -999.00, 9, -999, -999, 9, -999
49NZ20031106, A10, 631, 1, 18, 12030, 2, 20031108, 1332, -28.1598, -45.6817, 2787,   2001.8, 2,   3.8513, 2,  34.9238, 2,  34.9235, 2,    223.9, 1,    230.9, 2,    23.54, 2,    22.21, 2,    -0.01, 2,     1.49, 2,    0.102, 2,    0.044, 2,    0.000, 4,   2180.6, 2,   2314.9, 2,    7.7198, 2,     25.00, -999.000, 9, -999.000,   -999.0, 9,   -999.0,  -999.00, 9,   -999.0,   3.6860, 27.7575,   3.8514, 2, 2001.4, 2, 230.71, 2, 0.17, 0.09, 0.01, 0.01, -999, 9,  -999.00, 9, -999, -999, 9, -999
49NZ20031106, A10, 631, 1, 13, 12025, 9, 20031108, 1332, -28.1598, -45.6817, 2787,   2101.0, 2,   3.7432, 2,  34.9395, 2, -999.0000, 9,    230.8, 1,   -999.0, 9,  -999.00, 9,  -999.00, 9,  -999.00, 9,  -999.00, 9, -999.000, 9, -999.000, 9, -999.000, 9,   -999.0, 9,   -999.0, 9, -999.0000, 9,   -999.00, -999.000, 9, -999.000,   -999.0, 9,   -999.0,  -999.00, 9,   -999.0,   3.5698, 27.7817,   3.7432, 2, 2100.3, 2, 238.18, 2, -999, -999, -999, -999, -999, 9,  -999.00, 9, -999, -999, 9, -999
49NZ20031106, A10, 631, 1, 17, 12029, 2, 20031108, 1332, -28.1598, -45.6817, 2787,   2199.1, 2,   3.5467, 2,  34.9448, 2,  34.9440, 2,    236.6, 1,    243.8, 2,    23.30, 2,    20.66, 2,     0.00, 2,     1.39, 2,    0.096, 2,    0.045, 2,    0.000, 4,   2172.3, 2,   2312.7, 2,    7.7368, 4,     25.00, -999.000, 9, -999.000,   -999.0, 9,   -999.0,  -999.00, 9,   -999.0,   3.3668, 27.8058,   3.5468, 2, 2199.3, 2, 243.42, 2, 0.17, 0.09, 0.01, 0.01, -999, 9,  -999.00, 9, -999, -999, 9, -999
49NZ20031106, A10, 631, 1, 12, 12024, 9, 20031108, 1332, -28.1598, -45.6817, 2787,   2300.4, 2,   3.3698, 2,  34.9478, 2, -999.0000, 9,    241.1, 1,   -999.0, 9,  -999.00, 9,  -999.00, 9,  -999.00, 9,  -999.00, 9, -999.000, 9, -999.000, 9, -999.000, 9,   -999.0, 9,   -999.0, 9, -999.0000, 9,   -999.00, -999.000, 9, -999.000,   -999.0, 9,   -999.0,  -999.00, 9,   -999.0,   3.1829, 27.8259,   3.3697, 2, 2300.6, 2, 248.14, 2, -999, -999, -999, -999, -999, 9,  -999.00, 9, -999, -999, 9, -999
49NZ20031106, A10, 631, 1, 16, 12028, 2, 20031108, 1332, -28.1598, -45.6817, 2787,   2401.0, 2,   3.1564, 2,  34.9407, 2,  34.9412, 2,    243.0, 1,    250.1, 2,    26.26, 2,    20.23, 2,     0.00, 2,     1.36, 2,    0.065, 2,    0.029, 2,    0.000, 4,   2173.2, 6,   2319.4, 2,    7.7448, 4,     25.00, -999.000, 9, -999.000,   -999.0, 9,   -999.0,  -999.00, 9,   -999.0,   2.9634, 27.8406,   3.1566, 2, 2401.2, 2, 250.04, 2, 0.18, 0.09, 0.01, 0.01, -999, 9,  -999.00, 9, -999, -999, 9, -999
49NZ20031106, A10, 631, 1, 11, 12023, 9, 20031108, 1332, -28.1598, -45.6817, 2787,   2500.2, 2,   3.0056, 2,  34.9343, 2, -999.0000, 9,    243.8, 1,   -999.0, 9,  -999.00, 9,  -999.00, 9,  -999.00, 9,  -999.00, 9, -999.000, 9, -999.000, 9, -999.000, 9,   -999.0, 9,   -999.0, 9, -999.0000, 9,   -999.00, -999.000, 9, -999.000,   -999.0, 9,   -999.0,  -999.00, 9,   -999.0,   2.8056, 27.8498,   3.0056, 2, 2500.1, 2, 250.67, 2, -999, -999, -999, -999, -999, 9,  -999.00, 9, -999, -999, 9, -999
49NZ20031106, A10, 631, 1, 15, 12027, 2, 20031108, 1332, -28.1598, -45.6817, 2787,   2601.0, 2,   2.8958, 2,  34.9286, 2,  34.9291, 2,    244.3, 1,    250.7, 2,    30.10, 2,    20.45, 2,    -0.01, 2,     1.38, 2,    0.046, 2,    0.018, 2,    0.000, 4,   2173.5, 2,   2320.9, 2,    7.7443, 4,     25.00, -999.000, 9, -999.000,   -999.0, 9,   -999.0,  -999.00, 9,   -999.0,   2.6879, 27.8561,   2.8955, 2, 2601.2, 2, 251, 2, 0.19, 0.09, 0.01, 0.01, -999, 9,  -999.00, 9, -999, -999, 9, -999
49NZ20031106, A10, 631, 1, 20, 12032, 2, 20031108, 1332, -28.1598, -45.6817, 2787,   2601.7, 2,   2.8939, 2,  34.9286, 2,  34.9290, 2,    244.3, 1,    251.1, 2,    30.14, 2,    20.49, 2,     0.00, 2,     1.38, 2,    0.043, 2,    0.019, 2,    0.000, 4,   2174.0, 2,   2320.3, 2,    7.7449, 2,     25.00, -999.000, 9, -999.000,   -999.0, 9,   -999.0,  -999.00, 9,   -999.0,   2.6860, 27.8562,   2.8941, 2, 2601.9, 2, 250.97, 2, 0.19, 0.09, 0.01, 0.01, -999, 9,  -999.00, 9, -999, -999, 9, -999
49NZ20031106, A10, 631, 1, 10, 12022, 9, 20031108, 1332, -28.1598, -45.6817, 2787,   2700.5, 2,   2.7190, 2,  34.9180, 2, -999.0000, 9,    244.5, 1,   -999.0, 9,  -999.00, 9,  -999.00, 9,  -999.00, 9,  -999.00, 9, -999.000, 9, -999.000, 9, -999.000, 9,   -999.0, 9,   -999.0, 9, -999.0000, 9,   -999.00, -999.000, 9, -999.000,   -999.0, 9,   -999.0,  -999.00, 9,   -999.0,   2.5047, 27.8634,   2.7192, 2, 2700.5, 2, 251.04, 2, -999, -999, -999, -999, -999, 9,  -999.00, 9, -999, -999, 9, -999
49NZ20031106, A10, 631, 1, 14, 12026, 2, 20031108, 1332, -28.1598, -45.6817, 2787,   2810.8, 2,   2.4905, 2,  34.9013, 2,  34.9017, 2,    244.7, 1,    250.2, 2,    39.02, 2,    21.29, 2,     0.00, 2,     1.45, 2,    0.031, 2,    0.012, 2,    0.000, 4,   2184.6, 2,   2326.8, 2,    7.7384, 4,     25.00, -999.000, 9, -999.000,   -999.0, 9,   -999.0,  -999.00, 9,   -999.0,   2.2699, 27.8701,   2.4906, 2, 2810.8, 2, 250.5, 2, 0.2, 0.09, 0.01, 0.01, -999, 9,  -999.00, 9, -999, -999, 9, -999