BOTTLE,20220818CCHSIOAMB
EXPOCODE,SECT_ID,STNNBR,CASTNO,SAMPNO,BTLNBR,BTLNBR_FLAG_W,DATE,TIME,LATITUDE,LONGITUDE,DEPTH,CTDPRS,CTDPRS_FLAG_W,CTDTMP,CTDTMP_FLAG_W,CTDSAL,CTDSAL_FLAG_W,SALNTY,SALNTY_FLAG_W,CTDOXY,CTDOXY_FLAG_W,OXYGEN,OXYGEN_FLAG_W,SILCAT,SILCAT_FLAG_W,NITRAT,NITRAT_FLAG_W,NITRIT,NITRIT_FLAG_W,PHSPHT,PHSPHT_FLAG_W,CFC-11,CFC-11_FLAG_W,CFC-12,CFC-12_FLAG_W,CFC113,CFC113_FLAG_W,TCARBN,TCARBN_FLAG_W,ALKALI,ALKALI_FLAG_W,PH_TOT,PH_TOT_FLAG_W,PH_TMP,TRITUM,TRITUM_FLAG_W,TRITER,DELC14,DELC14_FLAG_W,C14ERR,DELC13,DELC13_FLAG_W,C13ERR,THETA,SIG0,SBE35,SBE35_FLAG_W,DWNPRS,DWNPRS_FLAG_W,DWNOXY,DWNOXY_FLAG_W,SILUNC,NRAUNC,NRIUNC,PHPUNC,TOC,TOC_FLAG_W,CS-137,CS-137_FLAG_W,CS137ER,PLUTO,PLUTO_FLAG_W,PLUTOER
,,,,,,,,,,,METERS,DBAR,,ITS-90,,PSS-78,,PSS-78,,UMOL/KG,,UMOL/KG,,UMOL/KG,,UMOL/KG,,UMOL/KG,,UMOL/KG,,PMOL/KG,,PMOL/KG,,PMOL/KG,,UMOL/KG,,UMOL/KG,,,,DEG C,TU,,TU,/MILLE,,/MILLE,/MILLE,,/MILLE,DEG C,KG/M^3,ITS-90,,DBAR,,UMOL/KG,,UMOL/KG,UMOL/KG,UMOL/KG,UMOL/KG,UMOL/KG,,BQ/M^3,,BQ/M^3,MBQ/M^3,,MBQ/M^3
49NZ20031106, A10, 22, 1, 36, 12048, 2, 20031113, 114, -30.0010, -35.1683, 2126,     10.7, 2,  20.1684, 2,  36.0204, 2,  36.0204, 2,    216.8, 1,    228.6, 2,     0.74, 2,    -0.01, 2,     0.00, 2,     0.04, 2, -999.000, 9, -999.000, 9, -999.000, 9,   -999.0, 9,   -999.0, 9, -999.0000, 9,   -999.00, -999.000, 9, -999.000,   -999.0, 9,   -999.0,  -999.00, 9,   -999.0,  20.1664, 25.4974,  20.1691, 2, 14.6, 2, 230.32, 2, 0.12, 0.03, 0.01, 0.04, -999, 9,  -999.00, 9, -999, -999, 9, -999
49NZ20031106, A10, 22, 1, 35, 12047, 2, 20031113, 114, -30.0010, -35.1683, 2126,     50.6, 2,  19.3917, 2,  35.9802, 2,  35.9827, 2,    219.5, 1,    231.2, 2,     0.79, 2,    -0.03, 2,     0.01, 2,     0.05, 2, -999.000, 9, -999.000, 9, -999.000, 9,   -999.0, 9,   -999.0, 9, -999.0000, 9,   -999.00, -999.000, 9, -999.000,   -999.0, 9,   -999.0,  -999.00, 9,   -999.0,  19.3825, 25.6733,  19.3904, 2, 52.9, 2, 231.16, 2, 0.12, 0.03, 0.01, 0.03, -999, 9,  -999.00, 9, -999, -999, 9, -999
49NZ20031106, A10, 22, 1, 34, 12046, 2, 20031113, 114, -30.0010, -35.1683, 2126,     99.0, 2,  18.6952, 2,  35.9644, 2,  35.9641, 2,    217.6, 1,    228.8, 2,     0.83, 2,    -0.03, 2,     0.01, 2,     0.08, 2, -999.000, 9, -999.000, 9, -999.000, 9,   -999.0, 9,   -999.0, 9, -999.0000, 9,   -999.00, -999.000, 1, -999.000,   -999.0, 9,   -999.0,  -999.00, 9,   -999.0,  18.6777, 25.8425,  18.6973, 2, 96.1, 2, 224.11, 2, 0.12, 0.03, 0.01, 0.02, -999, 9,     1.27, 2, 0.16, -999, 1, -999
49NZ20031106, A10, 22, 1, 33, 12045, 2, 20031113, 114, -30.0010, -35.1683, 2126,    152.3, 2,  17.4912, 2,  35.8214, 2,  35.8229, 2,    212.5, 1,    223.1, 2,     1.02, 2,     0.87, 2,     0.07, 2,     0.18, 2, -999.000, 9, -999.000, 9, -999.000, 9,   -999.0, 9,   -999.0, 9, -999.0000, 9,   -999.00, -999.000, 9, -999.000,   -999.0, 9,   -999.0,  -999.00, 9,   -999.0,  17.4654, 26.0335,  17.4878, 2, 137.3, 2, 220.36, 2, 0.12, 0.04, 0.01, 0.02, -999, 9,  -999.00, 9, -999, -999, 9, -999
49NZ20031106, A10, 22, 1, 32, 12044, 2, 20031113, 114, -30.0010, -35.1683, 2126,    203.1, 2,  15.9749, 2,  35.6311, 2,  35.6301, 2,    204.4, 1,    213.4, 2,     1.48, 2,     3.51, 2,     0.01, 2,     0.37, 2, -999.000, 9, -999.000, 9, -999.000, 9,   -999.0, 9,   -999.0, 9, -999.0000, 9,   -999.00, -999.000, 1, -999.000,   -999.0, 9,   -999.0,  -999.00, 9,   -999.0,  15.9426, 26.2465,  15.9753, 2, 197.2, 2, 212.29, 2, 0.12, 0.04, 0.01, 0.01, -999, 9,  -999.00, 1, -999, -999, 1, -999
49NZ20031106, A10, 22, 1, 4, 12016, 2, 20031113, 114, -30.0010, -35.1683, 2126,    203.1, 2,  15.9740, 2,  35.6308, 2, -999.0000, 9,    204.0, 1,   -999.0, 9,  -999.00, 9,  -999.00, 9,  -999.00, 9,  -999.00, 9, -999.000, 9, -999.000, 9, -999.000, 9,   -999.0, 9,   -999.0, 9, -999.0000, 9,   -999.00, -999.000, 1, -999.000,   -999.0, 9,   -999.0,  -999.00, 9,   -999.0,  15.9417, 26.2469,  15.9740, 2, 197.2, 2, 212.29, 2, -999, -999, -999, -999, -999, 9,  -999.00, 9, -999, -999, 9, -999
49NZ20031106, A10, 22, 1, 31, 12043, 2, 20031113, 114, -30.0010, -35.1683, 2126,    249.5, 2,  14.8397, 2,  35.4774, 2,  35.4760, 2,    204.1, 1,    213.1, 2,     1.90, 2,     5.51, 2,     0.01, 2,     0.49, 2, -999.000, 9, -999.000, 9, -999.000, 9,   -999.0, 9,   -999.0, 9, -999.0000, 9,   -999.00, -999.000, 9, -999.000,   -999.0, 9,   -999.0,  -999.00, 9,   -999.0,  14.8020, 26.3841,  14.8386, 2, 252.1, 2, 213.12, 2, 0.12, 0.05, 0.01, 0.01, -999, 9,  -999.00, 9, -999, -999, 9, -999
49NZ20031106, A10, 22, 1, 30, 12042, 2, 20031113, 114, -30.0010, -35.1683, 2126,    302.1, 2,  14.1978, 2,  35.4130, 2,  35.4102, 2,    204.0, 1,    212.0, 4,     2.30, 2,     7.19, 2,     0.01, 2,     0.59, 2, -999.000, 9, -999.000, 9, -999.000, 9,   -999.0, 9,   -999.0, 9, -999.0000, 9,   -999.00, -999.000, 9, -999.000,   -999.0, 9,   -999.0,  -999.00, 9,   -999.0,  14.1534, 26.4736,  14.1997, 2, 307.4, 2, 213.37, 2, 0.12, 0.05, 0.01, 0.01, -999, 9,  -999.00, 9, -999, -999, 9, -999
49NZ20031106, A10, 22, 1, 29, 12041, 2, 20031113, 114, -30.0010, -35.1683, 2126,    401.1, 2,  12.5513, 2,  35.1555, 2,  35.1557, 2,    202.7, 1,    211.1, 2,     3.48, 2,    10.74, 2,     0.01, 2,     0.81, 2, -999.000, 9, -999.000, 9, -999.000, 9,   -999.0, 9,   -999.0, 9, -999.0000, 9,   -999.00, -999.000, 1, -999.000,   -999.0, 9,   -999.0,  -999.00, 9,   -999.0,  12.4969, 26.613,  12.5521, 2, 402.9, 2, 212.3, 2, 0.13, 0.06, 0.01, 0.01, -999, 9,     1.10, 2, 0.17, -999, 1, -999
49NZ20031106, A10, 22, 1, 28, 12040, 2, 20031113, 114, -30.0010, -35.1683, 2126,    500.1, 2,  10.4556, 2,  34.8650, 2,  34.8654, 2,    199.8, 1,    207.4, 2,     6.00, 2,    15.93, 2,     0.01, 2,     1.14, 2, -999.000, 9, -999.000, 9, -999.000, 9,   -999.0, 9,   -999.0, 9, -999.0000, 9,   -999.00, -999.000, 9, -999.000,   -999.0, 9,   -999.0,  -999.00, 9,   -999.0,  10.3951, 26.7776,  10.4529, 2, 506.1, 2, 208.6, 2, 0.13, 0.08, 0.01, 0.01, -999, 9,  -999.00, 9, -999, -999, 9, -999
49NZ20031106, A10, 22, 1, 2, 12014, 2, 20031113, 114, -30.0010, -35.1683, 2126,    599.7, 2,   8.2634, 2,  34.6068, 2, -999.0000, 9,    200.1, 1,   -999.0, 9,  -999.00, 9,  -999.00, 9,  -999.00, 9,  -999.00, 9, -999.000, 9, -999.000, 9, -999.000, 9,   -999.0, 9,   -999.0, 9, -999.0000, 9,   -999.00, -999.000, 1, -999.000,   -999.0, 9,   -999.0,  -999.00, 9,   -999.0,   8.2003, 26.934,   8.2623, 2, 602.8, 2, 207.29, 2, -999, -999, -999, -999, -999, 9,  -999.00, 9, -999, -999, 9, -999
49NZ20031106, A10, 22, 1, 27, 12039, 2, 20031113, 114, -30.0010, -35.1683, 2126,    600.0, 2,   8.2496, 2,  34.6054, 2,  34.6057, 2,    200.2, 1,    207.1, 2,     9.70, 2,    21.50, 2,     0.00, 2,     1.50, 2, -999.000, 9, -999.000, 9, -999.000, 9,   -999.0, 9,   -999.0, 9, -999.0000, 9,   -999.00, -999.000, 1, -999.000,   -999.0, 9,   -999.0,  -999.00, 9,   -999.0,   8.1865, 26.9347,   8.2540, 2, 603.2, 2, 207.33, 2, 0.14, 0.09, 0.01, 0.01, -999, 9,  -999.00, 1, -999, -999, 1, -999
49NZ20031106, A10, 22, 1, 26, 12038, 2, 20031113, 114, -30.0010, -35.1683, 2126,    700.2, 2,   6.4172, 2,  34.4318, 2,  34.4333, 2,    205.5, 1,    212.0, 2,    14.57, 2,    25.60, 2,     0.01, 2,     1.76, 2, -999.000, 9, -999.000, 9, -999.000, 9,   -999.0, 9,   -999.0, 9, -999.0000, 9,   -999.00, -999.000, 9, -999.000,   -999.0, 9,   -999.0,  -999.00, 9,   -999.0,   6.3529, 27.0577,   6.4148, 2, 702.7, 2, 211.63, 2, 0.15, 0.1, 0.01, 0.01, -999, 9,  -999.00, 9, -999, -999, 9, -999
49NZ20031106, A10, 22, 1, 6, 12018, 2, 20031113, 114, -30.0010, -35.1683, 2126,    799.7, 2,   5.2399, 2,  34.3404, 2, -999.0000, 9,    213.3, 1,   -999.0, 9,  -999.00, 9,  -999.00, 9,  -999.00, 9,  -999.00, 9, -999.000, 9, -999.000, 9, -999.000, 9,   -999.0, 9,   -999.0, 9, -999.0000, 9,   -999.00, -999.000, 1, -999.000,   -999.0, 9,   -999.0,  -999.00, 9,   -999.0,   5.1732, 27.1317,   5.2399, 2, 802.8, 2, 219.63, 2, -999, -999, -999, -999, -999, 9,  -999.00, 9, -999, -999, 9, -999
49NZ20031106, A10, 22, 1, 25, 12037, 2, 20031113, 114, -30.0010, -35.1683, 2126,    800.2, 2,   5.2381, 2,  34.3402, 2,  34.3398, 2,    213.1, 1,    220.4, 2,    18.81, 2,    27.72, 2,     0.00, 2,     1.91, 2, -999.000, 9, -999.000, 9, -999.000, 9,   -999.0, 9,   -999.0, 9, -999.0000, 9,   -999.00, -999.000, 1, -999.000,   -999.0, 9,   -999.0,  -999.00, 9,   -999.0,   5.1713, 27.132,   5.2385, 2, 803.2, 2, 219.69, 2, 0.16, 0.11, 0.01, 0.01, -999, 9,  -999.00, 1, -999, -999, 1, -999
49NZ20031106, A10, 22, 1, 24, 12036, 2, 20031113, 114, -30.0010, -35.1683, 2126,    900.2, 2,   4.4687, 2,  34.3091, 2,  34.3094, 2,    213.7, 1,    220.9, 2,    24.10, 2,    29.36, 2,     0.00, 2,     2.01, 2, -999.000, 9, -999.000, 9, -999.000, 9,   -999.0, 9,   -999.0, 9, -999.0000, 9,   -999.00, -999.000, 9, -999.000,   -999.0, 9,   -999.0,  -999.00, 9,   -999.0,   4.3983, 27.1946,   4.4679, 2, 901.5, 2, 220.85, 2, 0.17, 0.11, 0.01, 0.02, -999, 9,  -999.00, 9, -999, -999, 9, -999
49NZ20031106, A10, 22, 1, 10, 12022, 9, 20031113, 114, -30.0010, -35.1683, 2126,    999.8, 2,   3.8412, 2,  34.3159, 2, -999.0000, 9,    208.6, 1,   -999.0, 9,  -999.00, 9,  -999.00, 9,  -999.00, 9,  -999.00, 9, -999.000, 9, -999.000, 9, -999.000, 9,   -999.0, 9,   -999.0, 9, -999.0000, 9,   -999.00, -999.000, 9, -999.000,   -999.0, 9,   -999.0,  -999.00, 9,   -999.0,   3.7671, 27.2658,   3.8412, 2, 999, 2, 215.59, 2, -999, -999, -999, -999, -999, 9,  -999.00, 9, -999, -999, 9, -999
49NZ20031106, A10, 22, 1, 14, 12026, 9, 20031113, 114, -30.0010, -35.1683, 2126,    999.9, 2,   3.8416, 2,  34.3159, 2, -999.0000, 9,    208.6, 1,   -999.0, 9,  -999.00, 9,  -999.00, 9,  -999.00, 9,  -999.00, 9, -999.000, 9, -999.000, 9, -999.000, 9,   -999.0, 9,   -999.0, 9, -999.0000, 9,   -999.00, -999.000, 9, -999.000,   -999.0, 9,   -999.0,  -999.00, 9,   -999.0,   3.7675, 27.2657,   3.8417, 2, 999.1, 2, 215.6, 2, -999, -999, -999, -999, -999, 9,  -999.00, 9, -999, -999, 9, -999
49NZ20031106, A10, 22, 1, 23, 12035, 2, 20031113, 114, -30.0010, -35.1683, 2126,   1000.0, 2,   3.8421, 2,  34.3161, 2,  34.3162, 2,    208.7, 1,    215.7, 2,    31.37, 2,    30.89, 2,     0.00, 2,     2.12, 2, -999.000, 9, -999.000, 9, -999.000, 9,   -999.0, 9,   -999.0, 9, -999.0000, 9,   -999.00, -999.000, 1, -999.000,   -999.0, 9,   -999.0,  -999.00, 9,   -999.0,   3.7680, 27.2657,   3.8422, 2, 999.2, 2, 215.6, 2, 0.19, 0.12, 0.01, 0.02, -999, 9,  -999.00, 1, -999, -999, 1, -999
49NZ20031106, A10, 22, 1, 9, 12015, 9, 20031113, 114, -30.0010, -35.1683, 2126,   1000.0, 2,   3.8407, 2,  34.3160, 2, -999.0000, 9,    208.6, 1,   -999.0, 9,  -999.00, 9,  -999.00, 9,  -999.00, 9,  -999.00, 9, -999.000, 9, -999.000, 9, -999.000, 9,   -999.0, 9,   -999.0, 9, -999.0000, 9,   -999.00, -999.000, 9, -999.000,   -999.0, 9,   -999.0,  -999.00, 9,   -999.0,   3.7666, 27.2658,   3.8408, 2, 999.2, 2, 215.6, 2, -999, -999, -999, -999, -999, 9,  -999.00, 9, -999, -999, 9, -999
49NZ20031106, A10, 22, 1, 15, 12027, 9, 20031113, 114, -30.0010, -35.1683, 2126,   1000.1, 2,   3.8414, 2,  34.3160, 2, -999.0000, 9,    208.6, 1,   -999.0, 9,  -999.00, 9,  -999.00, 9,  -999.00, 9,  -999.00, 9, -999.000, 9, -999.000, 9, -999.000, 9,   -999.0, 9,   -999.0, 9, -999.0000, 9,   -999.00, -999.000, 9, -999.000,   -999.0, 9,   -999.0,  -999.00, 9,   -999.0,   3.7673, 27.2657,   3.8414, 2, 999.3, 2, 215.59, 2, -999, -999, -999, -999, -999, 9,  -999.00, 9, -999, -999, 9, -999
49NZ20031106, A10, 22, 1, 8, 12020, 9, 20031113, 114, -30.0010, -35.1683, 2126,   1000.1, 2,   3.8403, 2,  34.3160, 2, -999.0000, 9,    208.5, 1,   -999.0, 9,  -999.00, 9,  -999.00, 9,  -999.00, 9,  -999.00, 9, -999.000, 9, -999.000, 9, -999.000, 9,   -999.0, 9,   -999.0, 9, -999.0000, 9,   -999.00, -999.000, 9, -999.000,   -999.0, 9,   -999.0,  -999.00, 9,   -999.0,   3.7662, 27.2658,   3.8404, 2, 999.3, 2, 215.59, 2, -999, -999, -999, -999, -999, 9,  -999.00, 9, -999, -999, 9, -999
49NZ20031106, A10, 22, 1, 3, 12012, 2, 20031113, 114, -30.0010, -35.1683, 2126,   1000.1, 2,   3.8406, 2,  34.3159, 2, -999.0000, 9,    208.4, 1,   -999.0, 9,  -999.00, 9,  -999.00, 9,  -999.00, 9,  -999.00, 9, -999.000, 9, -999.000, 9, -999.000, 9,   -999.0, 9,   -999.0, 9, -999.0000, 9,   -999.00, -999.000, 1, -999.000,   -999.0, 9,   -999.0,  -999.00, 9,   -999.0,   3.7665, 27.2656,   3.8405, 2, 999.3, 2, 215.59, 2, -999, -999, -999, -999, -999, 9,  -999.00, 9, -999, -999, 9, -999
49NZ20031106, A10, 22, 1, 11, 12023, 9, 20031113, 114, -30.0010, -35.1683, 2126,   1000.2, 2,   3.8411, 2,  34.3161, 2, -999.0000, 9,    208.6, 1,   -999.0, 9,  -999.00, 9,  -999.00, 9,  -999.00, 9,  -999.00, 9, -999.000, 9, -999.000, 9, -999.000, 9,   -999.0, 9,   -999.0, 9, -999.0000, 9,   -999.00, -999.000, 9, -999.000,   -999.0, 9,   -999.0,  -999.00, 9,   -999.0,   3.7670, 27.2658,   3.8414, 2, 999.4, 2, 215.59, 2, -999, -999, -999, -999, -999, 9,  -999.00, 9, -999, -999, 9, -999
49NZ20031106, A10, 22, 1, 7, 12019, 9, 20031113, 114, -30.0010, -35.1683, 2126,   1000.2, 2,   3.8402, 2,  34.3161, 2, -999.0000, 9,    208.3, 1,   -999.0, 9,  -999.00, 9,  -999.00, 9,  -999.00, 9,  -999.00, 9, -999.000, 9, -999.000, 9, -999.000, 9,   -999.0, 9,   -999.0, 9, -999.0000, 9,   -999.00, -999.000, 9, -999.000,   -999.0, 9,   -999.0,  -999.00, 9,   -999.0,   3.7661, 27.2657,   3.8403, 2, 999.4, 2, 215.59, 2, -999, -999, -999, -999, -999, 9,  -999.00, 9, -999, -999, 9, -999
49NZ20031106, A10, 22, 1, 16, 12028, 9, 20031113, 114, -30.0010, -35.1683, 2126,   1000.5, 2,   3.8417, 2,  34.3160, 2, -999.0000, 9,    208.6, 1,   -999.0, 9,  -999.00, 9,  -999.00, 9,  -999.00, 9,  -999.00, 9, -999.000, 9, -999.000, 9, -999.000, 9,   -999.0, 9,   -999.0, 9, -999.0000, 9,   -999.00, -999.000, 9, -999.000,   -999.0, 9,   -999.0,  -999.00, 9,   -999.0,   3.7675, 27.2658,   3.8416, 2, 999.7, 2, 215.6, 2, -999, -999, -999, -999, -999, 9,  -999.00, 9, -999, -999, 9, -999
49NZ20031106, A10, 22, 1, 13, 12025, 9, 20031113, 114, -30.0010, -35.1683, 2126,   1000.7, 2,   3.8413, 2,  34.3161, 2, -999.0000, 9,    208.6, 1,   -999.0, 9,  -999.00, 9,  -999.00, 9,  -999.00, 9,  -999.00, 9, -999.000, 9, -999.000, 9, -999.000, 9,   -999.0, 9,   -999.0, 9, -999.0000, 9,   -999.00, -999.000, 9, -999.000,   -999.0, 9,   -999.0,  -999.00, 9,   -999.0,   3.7671, 27.2658,   3.8415, 2, 999.9, 2, 215.59, 2, -999, -999, -999, -999, -999, 9,  -999.00, 9, -999, -999, 9, -999
49NZ20031106, A10, 22, 1, 12, 12024, 9, 20031113, 114, -30.0010, -35.1683, 2126,   1000.8, 2,   3.8408, 2,  34.3161, 2, -999.0000, 9,    208.6, 1,   -999.0, 9,  -999.00, 9,  -999.00, 9,  -999.00, 9,  -999.00, 9, -999.000, 9, -999.000, 9, -999.000, 9,   -999.0, 9,   -999.0, 9, -999.0000, 9,   -999.00, -999.000, 9, -999.000,   -999.0, 9,   -999.0,  -999.00, 9,   -999.0,   3.7666, 27.2659,   3.8412, 2, 1000, 2, 215.6, 2, -999, -999, -999, -999, -999, 9,  -999.00, 9, -999, -999, 9, -999
49NZ20031106, A10, 22, 1, 22, 12034, 2, 20031113, 114, -30.0010, -35.1683, 2126,   1199.4, 2,   3.2012, 2,  34.4203, 2,  34.4203, 2,    190.6, 1,    196.8, 2,    46.00, 2,    32.45, 2,     0.00, 2,     2.24, 2, -999.000, 9, -999.000, 9, -999.000, 9,   -999.0, 9,   -999.0, 9, -999.0000, 9,   -999.00, -999.000, 1, -999.000,   -999.0, 9,   -999.0,  -999.00, 9,   -999.0,   3.1162, 27.4118,   3.2013, 2, 1199.9, 2, 196.67, 2, 0.22, 0.12, 0.01, 0.02, -999, 9,  -999.00, 5, -999, -999, 1, -999
49NZ20031106, A10, 22, 1, 21, 12033, 2, 20031113, 114, -30.0010, -35.1683, 2126,   1400.2, 2,   2.9654, 2,  34.5496, 2,  34.5481, 2,    183.7, 1,    189.2, 2,    53.46, 2,    31.97, 2,     0.01, 2,     2.20, 2, -999.000, 9, -999.000, 9, -999.000, 9,   -999.0, 9,   -999.0, 9, -999.0000, 9,   -999.00, -999.000, 1, -999.000,   -999.0, 9,   -999.0,  -999.00, 9,   -999.0,   2.8662, 27.5376,   2.9659, 2, 1400.4, 2, 189.23, 2, 0.24, 0.12, 0.01, 0.02, -999, 9,  -999.00, 1, -999, -999, 1, -999
49NZ20031106, A10, 22, 1, 20, 12032, 2, 20031113, 114, -30.0010, -35.1683, 2126,   1600.6, 2,   2.8571, 2,  34.6716, 2,  34.6713, 2,    190.2, 1,    195.6, 2,    54.16, 2,    29.88, 2,     0.00, 2,     2.06, 2, -999.000, 9, -999.000, 9, -999.000, 9,   -999.0, 9,   -999.0, 9, -999.0000, 9,   -999.00, -999.000, 9, -999.000,   -999.0, 9,   -999.0,  -999.00, 9,   -999.0,   2.7423, 27.6467,   2.8569, 2, 1601, 2, 195.22, 2, 0.24, 0.12, 0.01, 0.02, -999, 9,  -999.00, 9, -999, -999, 9, -999
49NZ20031106, A10, 22, 1, 19, 12031, 2, 20031113, 114, -30.0010, -35.1683, 2126,   1801.0, 2,   2.8160, 2,  34.7583, 2,  34.7583, 2,    202.9, 1,    208.5, 2,    50.53, 2,    27.43, 2,     0.00, 2,     1.88, 2, -999.000, 9, -999.000, 9, -999.000, 9,   -999.0, 9,   -999.0, 9, -999.0000, 9,   -999.00, -999.000, 9, -999.000,   -999.0, 9,   -999.0,  -999.00, 9,   -999.0,   2.6844, 27.7209,   2.8160, 2, 1801.3, 2, 207.88, 2, 0.23, 0.11, 0.01, 0.01, -999, 9,  -999.00, 9, -999, -999, 9, -999
49NZ20031106, A10, 22, 1, 18, 12030, 2, 20031113, 114, -30.0010, -35.1683, 2126,   2000.2, 2,   2.8066, 2,  34.8110, 2,  34.8112, 2,    214.1, 1,    219.8, 2,    46.40, 2,    25.60, 2,     0.00, 2,     1.75, 2, -999.000, 9, -999.000, 9, -999.000, 9,   -999.0, 9,   -999.0, 9, -999.0000, 9,   -999.00, -999.000, 1, -999.000,   -999.0, 9,   -999.0,  -999.00, 9,   -999.0,   2.6574, 27.7654,   2.8065, 2, 2000.3, 2, 219.72, 2, 0.22, 0.1, 0.01, 0.01, -999, 9,  -999.00, 1, -999, -999, 1, -999
49NZ20031106, A10, 22, 1, 5, 12017, 2, 20031113, 114, -30.0010, -35.1683, 2126,   2000.3, 2,   2.8065, 2,  34.8112, 2, -999.0000, 9,    214.0, 1,   -999.0, 9,  -999.00, 9,  -999.00, 9,  -999.00, 9,  -999.00, 9, -999.000, 9, -999.000, 9, -999.000, 9,   -999.0, 9,   -999.0, 9, -999.0000, 9,   -999.00, -999.000, 1, -999.000,   -999.0, 9,   -999.0,  -999.00, 9,   -999.0,   2.6572, 27.7653,   2.8066, 2, 2000.4, 2, 219.72, 2, -999, -999, -999, -999, -999, 9,  -999.00, 9, -999, -999, 9, -999
49NZ20031106, A10, 22, 1, 17, 12029, 2, 20031113, 114, -30.0010, -35.1683, 2126,   2133.3, 2,   2.7966, 2,  34.8381, 2,  34.8380, 2,    221.2, 1,    226.7, 2,    43.70, 2,    24.52, 2,     0.00, 2,     1.67, 2, -999.000, 9, -999.000, 9, -999.000, 9,   -999.0, 9,   -999.0, 9, -999.0000, 9,   -999.00, -999.000, 1, -999.000,   -999.0, 9,   -999.0,  -999.00, 9,   -999.0,   2.6353, 27.7888,   2.7966, 2, 2133.3, 2, 227.52, 2, 0.22, 0.1, 0.01, 0.01, -999, 9,  -999.00, 1, -999, -999, 1, -999
49NZ20031106, A10, 22, 1, 1, 12013, 2, 20031113, 114, -30.0010, -35.1683, 2126,   2133.6, 2,   2.7967, 2,  34.8380, 2, -999.0000, 9,    221.2, 1,   -999.0, 9,  -999.00, 9,  -999.00, 9,  -999.00, 9,  -999.00, 9, -999.000, 9, -999.000, 9, -999.000, 9,   -999.0, 9,   -999.0, 9, -999.0000, 9,   -999.00, -999.000, 9, -999.000,   -999.0, 9,   -999.0,  -999.00, 9,   -999.0,   2.6354, 27.7888,   2.7966, 2, 2133.6, 2, 227.54, 2, -999, -999, -999, -999, -999, 9,  -999.00, 9, -999, -999, 9, -999