BOTTLE,20220818CCHSIOAMB
EXPOCODE,SECT_ID,STNNBR,CASTNO,SAMPNO,BTLNBR,BTLNBR_FLAG_W,DATE,TIME,LATITUDE,LONGITUDE,DEPTH,CTDPRS,CTDPRS_FLAG_W,CTDTMP,CTDTMP_FLAG_W,CTDSAL,CTDSAL_FLAG_W,SALNTY,SALNTY_FLAG_W,CTDOXY,CTDOXY_FLAG_W,OXYGEN,OXYGEN_FLAG_W,SILCAT,SILCAT_FLAG_W,NITRAT,NITRAT_FLAG_W,NITRIT,NITRIT_FLAG_W,PHSPHT,PHSPHT_FLAG_W,CFC-11,CFC-11_FLAG_W,CFC-12,CFC-12_FLAG_W,CFC113,CFC113_FLAG_W,TCARBN,TCARBN_FLAG_W,ALKALI,ALKALI_FLAG_W,PH_TOT,PH_TOT_FLAG_W,PH_TMP,TRITUM,TRITUM_FLAG_W,TRITER,DELC14,DELC14_FLAG_W,C14ERR,DELC13,DELC13_FLAG_W,C13ERR,THETA,SIG0,SBE35,SBE35_FLAG_W,DWNPRS,DWNPRS_FLAG_W,DWNOXY,DWNOXY_FLAG_W,SILUNC,NRAUNC,NRIUNC,PHPUNC,TOC,TOC_FLAG_W,CS-137,CS-137_FLAG_W,CS137ER,PLUTO,PLUTO_FLAG_W,PLUTOER
,,,,,,,,,,,METERS,DBAR,,ITS-90,,PSS-78,,PSS-78,,UMOL/KG,,UMOL/KG,,UMOL/KG,,UMOL/KG,,UMOL/KG,,UMOL/KG,,PMOL/KG,,PMOL/KG,,PMOL/KG,,UMOL/KG,,UMOL/KG,,,,DEG C,TU,,TU,/MILLE,,/MILLE,/MILLE,,/MILLE,DEG C,KG/M^3,ITS-90,,DBAR,,UMOL/KG,,UMOL/KG,UMOL/KG,UMOL/KG,UMOL/KG,UMOL/KG,,BQ/M^3,,BQ/M^3,MBQ/M^3,,MBQ/M^3
49NZ20031106, A10, 87, 1, 36, 12024, 2, 20031130, 411, -29.7347, 9.2952, 4994,      9.7, 2,  18.5783, 2,  35.6266, 2,  35.6279, 2,    224.7, 1,    237.3, 2,     2.02, 2,     0.06, 2,     0.01, 2,     0.16, 2,    2.634, 2,    1.467, 2,    0.316, 4,   2043.9, 2,   2337.0, 2,    8.0187, 2,     25.00, -999.000, 9, -999.000,     68.2, 2,      4.1,     1.27, 2,      0.0,  18.5766, 25.6103,  18.5796, 2, 9.9, 2, 238.52, 2, 0.12, 0.03, 0.01, 0.02, -999, 1,  -999.00, 9, -999, -999, 9, -999
49NZ20031106, A10, 87, 1, 2, 12026, 9, 20031130, 411, -29.7347, 9.2952, 4994,      9.7, 2,  18.5772, 2,  35.6267, 2, -999.0000, 9,    224.5, 1,   -999.0, 9,  -999.00, 9,  -999.00, 9,  -999.00, 9,  -999.00, 9, -999.000, 9, -999.000, 9, -999.000, 9,   -999.0, 9,   -999.0, 9, -999.0000, 9,   -999.00, -999.000, 9, -999.000,   -999.0, 9,   -999.0,  -999.00, 9,   -999.0,  18.5755, 25.6107,  18.5773, 2, 10, 2, 238.51, 2, -999, -999, -999, -999, -999, 9,  -999.00, 9, -999, -999, 9, -999
49NZ20031106, A10, 87, 1, 35, 12023, 2, 20031130, 411, -29.7347, 9.2952, 4994,     48.4, 2,  16.8126, 2,  35.5472, 2,  35.5471, 2,    211.2, 1,    225.3, 2,     4.02, 2,     2.91, 2,     0.11, 2,     0.36, 2,    2.737, 2,    1.492, 2,    0.297, 4,   2065.3, 6,   2330.7, 2,    7.9723, 2,     25.00, -999.000, 9, -999.000,     86.7, 2,      4.0,     1.02, 2,      0.0,  16.8047, 25.9851,  16.8140, 2, 49.2, 2, 225.25, 2, 0.13, 0.04, 0.01, 0.01, -999, 1,  -999.00, 9, -999, -999, 9, -999
49NZ20031106, A10, 87, 1, 34, 12022, 2, 20031130, 411, -29.7347, 9.2952, 4994,    100.9, 2,  16.0692, 2,  35.5425, 2,  35.5438, 2,    222.3, 1,    234.5, 2,     2.55, 2,     2.11, 2,     0.51, 2,     0.35, 2,    2.945, 2,    1.586, 2,    0.242, 4,   2073.3, 2,   2329.8, 6,    7.9626, 2,     25.00, -999.000, 9, -999.000,     78.3, 2,      4.0,     1.19, 3,      0.0,  16.0532, 26.1551,  16.0708, 2, 97, 2, 229.88, 2, 0.12, 0.04, 0, 0.01, -999, 1,  -999.00, 9, -999, -999, 9, -999
49NZ20031106, A10, 87, 1, 33, 12015, 2, 20031130, 411, -29.7347, 9.2952, 4994,    150.2, 2,  14.8239, 2,  35.3625, 2,  35.3624, 2,    209.8, 1,    220.8, 2,     3.82, 2,     6.31, 2,     0.01, 2,     0.56, 2,    3.064, 2,    1.625, 2,    0.215, 4,   2089.6, 2,   2318.4, 2,    7.9153, 6,     25.00, -999.000, 9, -999.000,     80.0, 2,      4.0,     1.02, 2,      0.0,  14.8013, 26.2975,  14.8339, 2, 141.4, 2, 221.36, 2, 0.13, 0.05, 0.01, 0.01, -999, 1,  -999.00, 9, -999, -999, 9, -999
49NZ20031106, A10, 87, 1, 32, 12020, 2, 20031130, 411, -29.7347, 9.2952, 4994,    199.7, 2,  13.7980, 2,  35.2429, 2,  35.2374, 3,    205.1, 1,    215.5, 2,     4.42, 2,     8.56, 2,     0.01, 2,     0.71, 2,    3.205, 2,    1.663, 2,    0.142, 4,   2101.9, 2,   2313.6, 2,    7.8814, 2,     25.00, -999.000, 9, -999.000,     76.8, 2,      4.1,     1.03, 6,      0.0,  13.7694, 26.4248,  13.7995, 2, 194.1, 2, 215.19, 2, 0.13, 0.06, 0.01, 0.01, -999, 1,  -999.00, 9, -999, -999, 9, -999
49NZ20031106, A10, 87, 1, 31, 12019, 2, 20031130, 411, -29.7347, 9.2952, 4994,    250.0, 2,  13.0936, 2,  35.1767, 2,  35.1763, 2,    201.8, 1,    211.9, 2,     4.81, 2,    10.03, 2,     0.01, 2,     0.79, 2,    3.271, 6,    1.669, 6,    0.132, 4,   2111.2, 2,   2314.1, 2,    7.8599, 2,     25.00, -999.000, 9, -999.000,     78.8, 2,      6.8,     1.03, 2,      0.0,  13.0589, 26.5208,  13.0896, 2, 245.3, 2, 212.02, 2, 0.13, 0.06, 0.01, 0.01, -999, 1,  -999.00, 9, -999, -999, 9, -999
49NZ20031106, A10, 87, 1, 30, 12018, 2, 20031130, 411, -29.7347, 9.2952, 4994,    300.7, 2,  12.5215, 2,  35.1268, 2,  35.1240, 2,    202.4, 1,    212.2, 2,     5.04, 2,    11.18, 2,     0.01, 2,     0.86, 2,    3.311, 2,    1.660, 2,    0.106, 4,   2116.8, 2,   2307.4, 2,    7.8462, 2,     25.00, -999.000, 9, -999.000,     78.0, 2,      4.0,     1.02, 2,      0.0,  12.4809, 26.5962,  12.5172, 2, 299.2, 2, 212.76, 2, 0.13, 0.06, 0.01, 0.01, -999, 1,  -999.00, 9, -999, -999, 9, -999
49NZ20031106, A10, 87, 1, 29, 12017, 2, 20031130, 411, -29.7347, 9.2952, 4994,    400.6, 2,  11.0490, 2,  34.9346, 2,  34.9327, 2,    202.7, 1,    212.7, 2,     6.24, 2,    14.34, 2,     0.01, 2,     1.05, 2, -999.000, 5, -999.000, 5, -999.000, 5,   2125.7, 2,   2300.5, 2,    7.8100, 2,     25.00, -999.000, 9, -999.000,     63.6, 2,      4.1,     1.12, 2,      0.0,  10.9990, 26.7253,  11.0511, 2, 400.7, 2, 212.28, 2, 0.13, 0.07, 0.01, 0.01, -999, 1,  -999.00, 9, -999, -999, 9, -999
49NZ20031106, A10, 87, 1, 28, 12016, 2, 20031130, 411, -29.7347, 9.2952, 4994,    500.8, 2,   9.6831, 2,  34.7601, 2,  34.7572, 2,    198.5, 1,    207.3, 2,     8.90, 2,    17.95, 2,     0.01, 2,     1.30, 2,    3.245, 2,    1.567, 2,    0.132, 4,   2141.6, 2,   2293.0, 2,    7.7644, 2,     25.00, -999.000, 9, -999.000,     38.6, 2,      4.0,     1.10, 2,      0.0,   9.6254, 26.8277,   9.6863, 2, 495.3, 2, 166.22, 2, 0.14, 0.08, 0.01, 0.01, -999, 1,  -999.00, 9, -999, -999, 9, -999
49NZ20031106, A10, 87, 1, 27, 12012, 2, 20031130, 411, -29.7347, 9.2952, 4994,    600.2, 2,   7.2342, 2,  34.5030, 2,  34.5002, 2,    194.4, 1,    203.5, 2,    14.21, 2,    24.51, 2,     0.01, 2,     1.71, 2,    3.032, 2,    1.402, 2,    0.154, 4,   2162.2, 2,   2288.0, 2,    7.6943, 2,     25.00, -999.000, 9, -999.000,     17.5, 2,      3.9,     1.06, 2,      0.0,   7.1757, 27.0032,   7.2343, 2, 599.3, 2, 203.03, 2, 0.15, 0.1, 0.01, 0.01, -999, 1,  -999.00, 9, -999, -999, 9, -999
49NZ20031106, A10, 87, 1, 26, 12014, 2, 20031130, 411, -29.7347, 9.2952, 4994,    699.8, 2,   5.4872, 2,  34.3876, 2,  34.3883, 2,    189.3, 1,    196.8, 2,    22.37, 2,    29.51, 2,     0.01, 2,     2.02, 2,    2.447, 2,    1.135, 2,    0.115, 4,   2187.4, 6,   2291.3, 2,    7.6419, 2,     25.00, -999.000, 9, -999.000,    -36.5, 2,      5.2,     0.68, 3,      0.0,   5.4279, 27.1402,   5.4865, 2, 700.5, 2, 198.87, 2, 0.17, 0.12, 0.01, 0.02, -999, 1,  -999.00, 9, -999, -999, 9, -999
49NZ20031106, A10, 87, 1, 25, 12013, 2, 20031130, 411, -29.7347, 9.2952, 4994,    800.1, 2,   4.7756, 2,  34.4130, 2,  34.4129, 2,    155.7, 1,    162.1, 2,    30.16, 2,    33.82, 2,     0.00, 2,     2.30, 2,    1.024, 2,    0.512, 2,    0.039, 4,   2217.0, 2,   2296.1, 6,    7.5760, 2,     25.00, -999.000, 9, -999.000,    -82.7, 2,      3.6,     0.75, 2,      0.0,   4.7116, 27.2431,   4.7751, 2, 800.8, 2, 163.47, 2, 0.19, 0.13, 0.01, 0.02, -999, 1,  -999.00, 9, -999, -999, 9, -999
49NZ20031106, A10, 87, 1, 24, 12048, 2, 20031130, 411, -29.7347, 9.2952, 4994,    901.7, 2,   4.3450, 2,  34.4393, 2,  34.4389, 2,    147.9, 1,    154.3, 2,    35.45, 2,    35.04, 2,    -0.01, 2,     2.39, 2,    0.447, 2,    0.241, 2,    0.009, 4,   2225.3, 2,   2300.2, 2,    7.5625, 6,     25.00, -999.000, 9, -999.000,   -102.0, 2,      3.6,     0.71, 2,      0.0,   4.2751, 27.3114,   4.3473, 2, 904.6, 2, 154.85, 2, 0.2, 0.13, 0.01, 0.02, -999, 1,  -999.00, 9, -999, -999, 9, -999
49NZ20031106, A10, 87, 1, 23, 12047, 2, 20031130, 411, -29.7347, 9.2952, 4994,    999.1, 2,   3.9927, 2,  34.4623, 2,  34.4626, 2,    153.5, 1,    160.2, 2,    39.69, 2,    34.57, 2,    -0.01, 2,     2.37, 2,    0.298, 6,    0.163, 6,    0.000, 4,   2226.6, 2,   2301.7, 2,    7.5691, 2,     25.00, -999.000, 9, -999.000,    -89.7, 2,      3.5,     0.73, 2,      0.0,   3.9172, 27.3674,   3.9928, 2, 1002, 2, 160.17, 2, 0.21, 0.13, 0.01, 0.02, -999, 1,  -999.00, 9, -999, -999, 9, -999
49NZ20031106, A10, 87, 1, 3, 12027, 9, 20031130, 411, -29.7347, 9.2952, 4994,    999.1, 2,   3.9957, 2,  34.4619, 2, -999.0000, 9,    153.4, 1,   -999.0, 9,  -999.00, 9,  -999.00, 9,  -999.00, 9,  -999.00, 9, -999.000, 9, -999.000, 9, -999.000, 9,   -999.0, 9,   -999.0, 9, -999.0000, 9,   -999.00, -999.000, 9, -999.000,   -999.0, 9,   -999.0,  -999.00, 9,   -999.0,   3.9202, 27.3668,   3.9958, 2, 1001.8, 2, 160.16, 2, -999, -999, -999, -999, -999, 9,  -999.00, 9, -999, -999, 9, -999
49NZ20031106, A10, 87, 1, 22, 12046, 2, 20031130, 411, -29.7347, 9.2952, 4994,   1200.3, 2,   3.4894, 2,  34.5201, 2,  34.5213, 2,    165.5, 1,    173.4, 2,    47.29, 2,    33.15, 2,     0.00, 2,     2.29, 2,    0.249, 2,    0.144, 2,    0.000, 4,   2230.1, 2,   2313.6, 2,    7.5890, 2,     25.00, -999.000, 9, -999.000,   -104.6, 2,      3.7,     0.69, 2,      0.0,   3.4015, 27.4657,   3.4897, 2, 1200.9, 2, 173.24, 2, 0.22, 0.13, 0.01, 0.02, -999, 1,  -999.00, 9, -999, -999, 9, -999
49NZ20031106, A10, 87, 1, 1, 12025, 2, 20031130, 411, -29.7347, 9.2952, 4994,   1397.2, 2,   3.2558, 2,  34.6132, 2,  34.6125, 2,    165.3, 1,    172.5, 2,    59.69, 2,    32.53, 2,     0.00, 2,     2.27, 2,    0.156, 2,    0.095, 2,    0.016, 4,   2241.0, 4,   2330.7, 4, -999.0000, 5,   -999.00, -999.000, 9, -999.000,   -123.5, 6,      3.6,     0.59, 6,      0.0,   3.1536, 27.5628,   3.2584, 2, 1393.5, 2, 179.84, 2, 0.25, 0.12, 0.01, 0.02, -999, 1,  -999.00, 9, -999, -999, 9, -999
49NZ20031106, A10, 87, 1, 20, 12044, 2, 20031130, 411, -29.7347, 9.2952, 4994,   1597.6, 2,   3.1625, 2,  34.7357, 2,  34.7369, 2,    184.9, 1,    193.9, 2,    47.21, 2,    28.88, 2,    -0.01, 2,     1.98, 2,    0.043, 2,    0.030, 2,    0.000, 4,   2220.3, 2,   2320.9, 2,    7.6421, 2,     25.00, -999.000, 9, -999.000,   -129.7, 2,      3.8,     0.23, 4,      0.0,   3.0441, 27.6712,   3.1635, 2, 1596.8, 2, 193.39, 2, 0.22, 0.11, 0.01, 0.02, -999, 1,  -999.00, 9, -999, -999, 9, -999
49NZ20031106, A10, 87, 1, 19, 12043, 2, 20031130, 411, -29.7347, 9.2952, 4994,   1800.1, 2,   3.2549, 2,  34.8293, 2,  34.8302, 2,    200.6, 1,    210.5, 2,    38.34, 2,    25.84, 2,    -0.01, 2,     1.77, 2,    0.007, 2,    0.007, 2,    0.000, 4,   2203.6, 2,   2321.5, 2,    7.6739, 2,     25.00, -999.000, 9, -999.000,   -116.2, 2,      3.5,     0.83, 2,      0.0,   3.1172, 27.7386,   3.2549, 2, 1799.8, 2, 210.08, 2, 0.2, 0.11, 0.01, 0.01, -999, 1,  -999.00, 9, -999, -999, 9, -999
49NZ20031106, A10, 87, 1, 18, 12042, 2, 20031130, 411, -29.7347, 9.2952, 4994,   2001.1, 2,   3.1305, 2,  34.8636, 2,  34.8635, 2,    210.3, 1,    221.1, 2,    37.48, 2,    24.46, 2,    -0.01, 2,     1.67, 2,    0.007, 2,    0.005, 2,    0.000, 4,   2195.6, 2,   2323.2, 2,    7.6933, 2,     25.00, -999.000, 9, -999.000,   -104.6, 2,      3.7,     0.85, 2,      0.0,   2.9761, 27.7795,   3.1305, 2, 2001, 2, 220.45, 2, 0.2, 0.1, 0.01, 0.01, -999, 1,  -999.00, 9, -999, -999, 9, -999
49NZ20031106, A10, 87, 1, 17, 12041, 2, 20031130, 411, -29.7347, 9.2952, 4994,   2199.0, 2,   2.9801, 2,  34.8693, 2,  34.8686, 2,    215.2, 1,    226.2, 2,    39.52, 2,    24.02, 2,     0.00, 2,     1.63, 2,    0.004, 2,    0.001, 2,    0.000, 4,   2196.2, 2,   2323.4, 2,    7.7001, 2,     25.00, -999.000, 9, -999.000,   -115.6, 2,      3.7,     0.86, 2,      0.0,   2.8097, 27.799,   2.9800, 2, 2197.6, 2, 226.18, 2, 0.21, 0.1, 0.01, 0.01, -999, 1,  -999.00, 9, -999, -999, 9, -999
49NZ20031106, A10, 87, 1, 16, 12040, 2, 20031130, 411, -29.7347, 9.2952, 4994,   2400.6, 2,   2.8319, 2,  34.8686, 2,  34.8688, 2,    216.8, 1,    228.4, 2,    42.39, 2,    23.95, 2,     0.00, 2,     1.63, 2,    0.001, 2,    0.010, 2,    0.000, 4,   2195.9, 6,   2326.9, 2,    7.7048, 2,     25.00, -999.000, 9, -999.000,   -114.3, 2,      3.7,     0.89, 2,      0.0,   2.6449, 27.8132,   2.8318, 2, 2400.1, 2, 228.42, 2, 0.21, 0.1, 0.01, 0.01, -999, 1,  -999.00, 9, -999, -999, 9, -999
49NZ20031106, A10, 87, 1, 15, 12039, 2, 20031130, 411, -29.7347, 9.2952, 4994,   2600.0, 2,   2.7000, 2,  34.8690, 2,  34.8689, 2,    219.0, 1,    230.9, 2,    44.70, 2,    23.87, 2,     0.00, 2,     1.63, 2,   -0.004, 2,   -0.002, 2,    0.000, 4,   2198.7, 2,   2331.2, 6,    7.7066, 2,     25.00, -999.000, 9, -999.000,   -109.3, 2,      3.4,     0.86, 2,      0.0,   2.4962, 27.8266,   2.7000, 2, 2599.7, 2, 230.68, 2, 0.22, 0.1, 0.01, 0.01, -999, 1,  -999.00, 9, -999, -999, 9, -999
49NZ20031106, A10, 87, 1, 14, 12038, 2, 20031130, 411, -29.7347, 9.2952, 4994,   2798.8, 2,   2.5733, 2,  34.8653, 2,  34.8656, 2,    219.9, 1,    231.6, 2,    47.73, 2,    23.91, 2,     0.00, 2,     1.63, 2,   -0.004, 2,    0.002, 2,    0.000, 4,   2199.8, 2,   2331.3, 2,    7.7080, 6,     25.00, -999.000, 9, -999.000,   -120.7, 2,      3.6,     0.90, 2,      0.0,   2.3524, 27.836,   2.5732, 2, 2798.3, 2, 231.43, 2, 0.22, 0.1, 0.01, 0.01, -999, 1,  -999.00, 9, -999, -999, 9, -999
49NZ20031106, A10, 87, 1, 13, 12037, 2, 20031130, 411, -29.7347, 9.2952, 4994,   3000.4, 2,   2.4333, 2,  34.8598, 2,  34.8598, 2,    220.0, 1,    231.5, 2,    51.84, 2,    24.17, 2,     0.01, 2,     1.66, 2,    0.003, 2,    0.004, 2,    0.000, 4,   2205.6, 2,   2335.2, 2,    7.7069, 2,     25.00, -999.000, 9, -999.000,   -119.3, 2,      3.5,     0.87, 2,      0.0,   2.1951, 27.8447,   2.4331, 2, 3000.3, 2, 231.39, 2, 0.23, 0.1, 0.01, 0.01, -999, 1,  -999.00, 9, -999, -999, 9, -999
49NZ20031106, A10, 87, 1, 12, 12036, 2, 20031130, 411, -29.7347, 9.2952, 4994,   3251.1, 2,   2.3663, 2,  34.8613, 2,  34.8616, 2,    220.3, 1,    231.8, 4,    53.49, 2,    24.19, 2,    -0.01, 2,     1.64, 2,    0.000, 2,   -0.001, 2,    0.000, 4,   2209.5, 2,   2337.2, 2,    7.7087, 2,     25.00, -999.000, 9, -999.000,   -110.3, 2,      3.5,     0.88, 2,      0.0,   2.1039, 27.8536,   2.3663, 2, 3251.1, 2, 231.88, 2, 0.24, 0.1, 0.01, 0.01, -999, 1,  -999.00, 9, -999, -999, 9, -999
49NZ20031106, A10, 87, 1, 11, 12035, 2, 20031130, 411, -29.7347, 9.2952, 4994,   3500.9, 2,   2.2958, 2,  34.8575, 2,  34.8571, 2,    219.8, 1,    231.1, 2,    56.71, 2,    24.55, 2,    -0.01, 2,     1.67, 2,    0.001, 2,    0.000, 2,    0.000, 4,   2211.0, 2,   2345.8, 2,    7.7093, 2,     25.00, -999.000, 9, -999.000,   -125.6, 2,      3.4,     0.84, 2,      0.0,   2.0087, 27.858,   2.2958, 2, 3501, 2, 231.13, 2, 0.24, 0.1, 0.01, 0.01, -999, 1,  -999.00, 9, -999, -999, 9, -999
49NZ20031106, A10, 87, 1, 10, 12034, 2, 20031130, 411, -29.7347, 9.2952, 4994,   3751.2, 2,   2.1788, 2,  34.8455, 2,  34.8454, 2,    218.6, 1,    229.3, 2,    61.82, 2,    25.11, 2,     0.00, 2,     1.72, 2,    0.010, 2,    0.005, 2,    0.000, 4,   2216.5, 2,   2348.0, 2,    7.7016, 2,     25.00, -999.000, 9, -999.000,   -136.9, 2,      3.5,     0.82, 2,      0.0,   1.8676, 27.8599,   2.1788, 2, 3750.6, 2, 229.22, 2, 0.26, 0.1, 0.01, 0.01, -999, 1,  -999.00, 9, -999, -999, 9, -999
49NZ20031106, A10, 87, 1, 9, 12033, 2, 20031130, 411, -29.7347, 9.2952, 4994,   4001.2, 2,   1.8862, 2,  34.8140, 2,  34.8138, 2,    215.0, 1,    225.0, 2,    74.26, 2,    26.68, 2,     0.00, 2,     1.84, 2,    0.006, 2,    0.001, 2,    0.000, 4,   2229.5, 2,   2349.4, 2,    7.6864, 2,     25.00, -999.000, 9, -999.000,   -133.2, 2,      3.5,     0.69, 2,      0.0,   1.5555, 27.8582,   1.8862, 2, 4001, 2, 225.36, 2, 0.28, 0.11, 0.01, 0.01, -999, 1,  -999.00, 9, -999, -999, 9, -999
49NZ20031106, A10, 87, 1, 8, 12032, 2, 20031130, 411, -29.7347, 9.2952, 4994,   4251.7, 2,   1.4636, 2,  34.7704, 2,  34.7697, 2,    210.9, 1,    220.2, 2,    91.59, 2,    28.83, 2,     0.00, 2,     1.98, 2,    0.033, 2,    0.028, 2,    0.000, 4,   2243.3, 6,   2359.7, 2,    7.6659, 2,     25.00, -999.000, 9, -999.000,   -142.9, 2,      3.5,     0.63, 2,      0.0,   1.1174, 27.8544,   1.4635, 2, 4251.5, 2, 220.28, 2, 0.32, 0.11, 0.01, 0.02, -999, 1,  -999.00, 9, -999, -999, 9, -999
49NZ20031106, A10, 87, 1, 7, 12031, 2, 20031130, 411, -29.7347, 9.2952, 4994,   4501.0, 2,   1.2661, 2,  34.7499, 2,  34.7497, 2,    209.9, 1,    218.2, 2,   100.01, 2,    29.81, 2,     0.01, 2,     2.06, 2,    0.006, 2,    0.008, 2,    0.000, 4,   2249.1, 2,   2360.9, 6,    7.6559, 2,     25.00, -999.000, 9, -999.000,   -146.9, 2,      3.5,     0.61, 2,      0.0,   0.8978, 27.8528,   1.2661, 2, 4501.4, 2, 218.38, 2, 0.34, 0.12, 0.01, 0.02, -999, 1,  -999.00, 9, -999, -999, 9, -999
49NZ20031106, A10, 87, 1, 6, 12030, 2, 20031130, 411, -29.7347, 9.2952, 4994,   4750.2, 2,   1.1492, 2,  34.7370, 2,  34.7369, 2,    209.9, 1,    217.1, 2,   105.28, 2,    30.49, 2,     0.01, 2,     2.10, 2,    0.022, 2,    0.017, 2,    0.000, 4,   2254.4, 2,   2367.0, 2,    7.6505, 6,     25.00, -999.000, 9, -999.000,   -155.2, 2,      3.3,     0.58, 2,      0.0,   0.7560, 27.8516,   1.1490, 2, 4750.2, 2, 217.11, 2, 0.35, 0.12, 0.01, 0.02, -999, 1,  -999.00, 9, -999, -999, 9, -999
49NZ20031106, A10, 87, 1, 5, 12029, 2, 20031130, 411, -29.7347, 9.2952, 4994,   4999.1, 2,   1.1470, 2,  34.7339, 2,  34.7339, 2,    211.1, 1,    216.8, 2,   106.69, 2,    30.62, 2,     0.01, 2,     2.12, 2,    0.025, 2,    0.018, 2,    0.000, 4,   2256.7, 2,   2368.2, 2,    7.6483, 2,     25.00, -999.000, 9, -999.000,   -158.7, 3,      3.5,     0.55, 2,      0.0,   0.7245, 27.851,   1.1468, 2, 4999.1, 2, 216.62, 2, 0.35, 0.12, 0.01, 0.02, -999, 1,  -999.00, 9, -999, -999, 9, -999
49NZ20031106, A10, 87, 1, 21, 12045, 2, 20031130, 411, -29.7347, 9.2952, 4994,   4999.7, 2,   1.1470, 2,  34.7339, 2,  34.7340, 2,    211.1, 1,    216.7, 2,   106.64, 2,    30.61, 2,     0.00, 2,     2.12, 2,    0.024, 2,    0.020, 2,    0.000, 4,   2254.7, 2,   2365.7, 2,    7.6495, 2,     25.00, -999.000, 9, -999.000,   -147.0, 2,      3.4,     0.58, 2,      0.0,   0.7244, 27.851,   1.1469, 2, 4999.7, 2, 216.61, 2, 0.35, 0.12, 0.01, 0.02, -999, 9,  -999.00, 9, -999, -999, 9, -999
49NZ20031106, A10, 87, 1, 4, 12028, 2, 20031130, 411, -29.7347, 9.2952, 4994,   5066.6, 2,   1.1549, 2,  34.7337, 2,  34.7335, 2,    212.0, 1,    216.8, 2,   106.60, 2,    30.63, 2,    -0.01, 2,     2.12, 2,    0.026, 2,    0.022, 2,    0.000, 4,   2257.1, 2,   2369.1, 2,    7.6490, 2,     25.00, -999.000, 9, -999.000,   -145.1, 2,      3.4,     0.52, 2,      0.0,   0.7240, 27.8511,   1.1547, 2, 5066.6, 2, 216.49, 2, 0.35, 0.12, 0.01, 0.02, -999, 1,  -999.00, 9, -999, -999, 9, -999