BOTTLE,20220818CCHSIOAMB
EXPOCODE,SECT_ID,STNNBR,CASTNO,SAMPNO,BTLNBR,BTLNBR_FLAG_W,DATE,TIME,LATITUDE,LONGITUDE,DEPTH,CTDPRS,CTDPRS_FLAG_W,CTDTMP,CTDTMP_FLAG_W,CTDSAL,CTDSAL_FLAG_W,SALNTY,SALNTY_FLAG_W,CTDOXY,CTDOXY_FLAG_W,OXYGEN,OXYGEN_FLAG_W,SILCAT,SILCAT_FLAG_W,NITRAT,NITRAT_FLAG_W,NITRIT,NITRIT_FLAG_W,PHSPHT,PHSPHT_FLAG_W,CFC-11,CFC-11_FLAG_W,CFC-12,CFC-12_FLAG_W,CFC113,CFC113_FLAG_W,TCARBN,TCARBN_FLAG_W,ALKALI,ALKALI_FLAG_W,PH_TOT,PH_TOT_FLAG_W,PH_TMP,TRITUM,TRITUM_FLAG_W,TRITER,DELC14,DELC14_FLAG_W,C14ERR,DELC13,DELC13_FLAG_W,C13ERR,THETA,SIG0,SBE35,SBE35_FLAG_W,DWNPRS,DWNPRS_FLAG_W,DWNOXY,DWNOXY_FLAG_W,SILUNC,NRAUNC,NRIUNC,PHPUNC,TOC,TOC_FLAG_W,CS-137,CS-137_FLAG_W,CS137ER,PLUTO,PLUTO_FLAG_W,PLUTOER
,,,,,,,,,,,METERS,DBAR,,ITS-90,,PSS-78,,PSS-78,,UMOL/KG,,UMOL/KG,,UMOL/KG,,UMOL/KG,,UMOL/KG,,UMOL/KG,,PMOL/KG,,PMOL/KG,,PMOL/KG,,UMOL/KG,,UMOL/KG,,,,DEG C,TU,,TU,/MILLE,,/MILLE,/MILLE,,/MILLE,DEG C,KG/M^3,ITS-90,,DBAR,,UMOL/KG,,UMOL/KG,UMOL/KG,UMOL/KG,UMOL/KG,UMOL/KG,,BQ/M^3,,BQ/M^3,MBQ/M^3,,MBQ/M^3
49NZ20031106, A10, 51, 1, 5, 12041, 9, 20031120, 1458, -30.0010, -16.3390, 3701,      5.0, 2,  20.8246, 2,  36.1231, 2, -999.0000, 9,    215.6, 1,   -999.0, 9,  -999.00, 9,  -999.00, 9,  -999.00, 9,  -999.00, 9, -999.000, 9, -999.000, 9, -999.000, 9,   -999.0, 9,   -999.0, 9, -999.0000, 9,   -999.00, -999.000, 9, -999.000,   -999.0, 9,   -999.0,  -999.00, 9,   -999.0,  20.8236, 25.3972,  20.8323, 2, 5, 2, 227.99, 2, -999, -999, -999, -999, -999, 9,  -999.00, 9, -999, -999, 9, -999
49NZ20031106, A10, 51, 1, 4, 12040, 2, 20031120, 1458, -30.0010, -16.3390, 3701,      5.1, 2,  20.8456, 2,  36.1234, 2, -999.0000, 9,    215.5, 1,   -999.0, 9,  -999.00, 9,  -999.00, 9,  -999.00, 9,  -999.00, 9, -999.000, 9, -999.000, 9, -999.000, 9,   -999.0, 9,   -999.0, 9, -999.0000, 9,   -999.00, -999.000, 9, -999.000,   -999.0, 9,   -999.0,  -999.00, 9,   -999.0,  20.8446, 25.3936,  20.8465, 2, 5.1, 2, 228.03, 2, -999, -999, -999, -999, -999, 9,  -999.00, 9, -999, -999, 9, -999
49NZ20031106, A10, 51, 1, 3, 12039, 2, 20031120, 1458, -30.0010, -16.3390, 3701,      5.3, 2,  20.8621, 2,  36.1234, 2, -999.0000, 9,    215.7, 1,   -999.0, 9,  -999.00, 9,  -999.00, 9,  -999.00, 9,  -999.00, 9, -999.000, 9, -999.000, 9, -999.000, 9,   -999.0, 9,   -999.0, 9, -999.0000, 9,   -999.00, -999.000, 9, -999.000,   -999.0, 9,   -999.0,  -999.00, 9,   -999.0,  20.8611, 25.3891,  20.8613, 2, 5.3, 2, 228.08, 2, -999, -999, -999, -999, -999, 9,  -999.00, 9, -999, -999, 9, -999
49NZ20031106, A10, 51, 1, 36, 12036, 2, 20031120, 1458, -30.0010, -16.3390, 3701,     10.4, 2,  20.8173, 2,  36.1231, 2,  36.1232, 2,    215.5, 1,    228.2, 2,     1.03, 2,    -0.03, 2,     0.00, 2,     0.15, 2,    2.392, 2,    1.335, 2,    0.259, 4,   2073.9, 2,   2370.1, 2,    8.0145, 2,     25.00, -999.000, 9, -999.000,     70.6, 2,      4.1,     1.46, 2,      0.0,  20.8153, 25.3995,  20.8177, 2, 3.7, 2, 228.13, 2, 0.12, 0.03, 0.01, 0.02, -999, 1,  -999.00, 9, -999, -999, 9, -999
49NZ20031106, A10, 51, 1, 35, 12035, 2, 20031120, 1458, -30.0010, -16.3390, 3701,     49.9, 2,  19.4347, 2,  36.0859, 2,  36.0829, 2,    221.0, 1,    233.8, 3,     1.11, 2,    -0.04, 2,     0.00, 2,     0.16, 2,    2.422, 2,    1.355, 2,    0.324, 4,   2071.7, 6,   2367.8, 2,    8.0147, 2,     25.00, -999.000, 9, -999.000,     66.3, 2,      4.1,     1.40, 2,      0.0,  19.4256, 25.744,  19.4301, 2, 57.4, 2, 232.08, 2, 0.12, 0.03, 0.01, 0.02, -999, 1,  -999.00, 9, -999, -999, 9, -999
49NZ20031106, A10, 51, 1, 34, 12034, 2, 20031120, 1458, -30.0010, -16.3390, 3701,    101.2, 2,  18.7484, 2,  36.0196, 2,  36.0196, 2,    222.5, 1,    235.0, 2,     1.23, 2,    -0.04, 2,     0.00, 2,     0.16, 2,    2.504, 2,    1.378, 2,    0.327, 4,   2072.6, 2,   2363.6, 6,    8.0094, 2,     25.00, -999.000, 9, -999.000,     75.3, 2,      3.9,     1.43, 2,      0.0,  18.7304, 25.8718,  18.7498, 2, 102.3, 2, 234.71, 2, 0.12, 0.03, 0.01, 0.02, -999, 1,  -999.00, 9, -999, -999, 9, -999
49NZ20031106, A10, 51, 1, 33, 12033, 2, 20031120, 1458, -30.0010, -16.3390, 3701,    150.8, 2,  16.8117, 2,  35.6983, 2,  35.6976, 2,    214.3, 1,    225.7, 2,     1.47, 2,     0.78, 2,     0.07, 2,     0.28, 2,    2.751, 2,    1.530, 2,    0.276, 4,   2083.6, 2,   2343.2, 2,    7.9620, 6,     25.00, -999.000, 9, -999.000,     75.0, 2,      3.8,     1.24, 2,      0.0,  16.7869, 26.103,  16.8129, 2, 155.8, 2, 226.31, 2, 0.12, 0.03, 0.01, 0.01, -999, 1,  -999.00, 9, -999, -999, 9, -999
49NZ20031106, A10, 51, 1, 2, 12038, 2, 20031120, 1458, -30.0010, -16.3390, 3701,    151.3, 2,  16.8123, 2,  35.6987, 2, -999.0000, 9,    214.3, 1,   -999.0, 9,  -999.00, 9,  -999.00, 9,  -999.00, 9,  -999.00, 9, -999.000, 9, -999.000, 9, -999.000, 9,   -999.0, 9,   -999.0, 9, -999.0000, 9,   -999.00, -999.000, 9, -999.000,   -999.0, 9,   -999.0,  -999.00, 9,   -999.0,  16.7874, 26.1028,  16.8134, 2, 156, 2, 226.22, 2, -999, -999, -999, -999, -999, 9,  -999.00, 9, -999, -999, 9, -999
49NZ20031106, A10, 51, 1, 32, 12032, 2, 20031120, 1458, -30.0010, -16.3390, 3701,    200.4, 2,  15.4310, 2,  35.5228, 2,  35.5217, 2,    208.7, 1,    219.4, 2,     2.27, 2,     4.19, 2,     0.01, 2,     0.47, 2,    2.905, 2,    1.614, 2,    0.128, 4,   2092.6, 2,   2326.9, 2,    7.9265, 2,     25.00, -999.000, 9, -999.000,     70.3, 6,      2.8,     1.12, 6,      0.0,  15.3999, 26.2876,  15.4340, 2, 202.3, 2, 218.54, 2, 0.12, 0.04, 0.01, 0.01, -999, 1,  -999.00, 9, -999, -999, 9, -999
49NZ20031106, A10, 51, 1, 31, 12031, 2, 20031120, 1458, -30.0010, -16.3390, 3701,    252.2, 2,  14.3132, 2,  35.3546, 2,  35.3546, 2,    206.2, 1,    216.4, 2,     2.75, 2,     6.55, 2,     0.00, 2,     0.60, 2,    3.001, 6,    1.632, 6,    0.088, 4,   2099.7, 2,   2319.6, 2,    7.8963, 2,     25.00, -999.000, 9, -999.000,     76.5, 2,      3.9,     1.11, 2,      0.0,  14.2760, 26.4039,  14.3143, 2, 254, 2, 216.32, 2, 0.13, 0.05, 0.01, 0.01, -999, 1,  -999.00, 9, -999, -999, 9, -999
49NZ20031106, A10, 51, 1, 30, 12030, 2, 20031120, 1458, -30.0010, -16.3390, 3701,    301.6, 2,  13.2278, 2,  35.2015, 2,  35.2016, 2,    204.9, 1,    214.7, 2,     3.26, 2,     8.86, 2,     0.00, 2,     0.74, 2,    3.066, 2,    1.651, 2,    0.083, 4,   2109.6, 2,   2314.2, 2,    7.8678, 2,     25.00, -999.000, 9, -999.000,     76.1, 2,      4.0,     1.09, 2,      0.0,  13.1856, 26.5126,  13.2269, 2, 309.6, 2, 214.39, 2, 0.13, 0.06, 0.01, 0.01, -999, 1,  -999.00, 9, -999, -999, 9, -999
49NZ20031106, A10, 51, 1, 29, 12029, 2, 20031120, 1458, -30.0010, -16.3390, 3701,    402.9, 2,  11.8990, 2,  35.0295, 2,  35.0283, 2,    201.3, 1,    210.5, 2,     4.48, 2,    12.43, 2,     0.00, 2,     0.95, 2,    3.198, 2,    1.681, 2,    0.091, 4,   2122.0, 2,   2300.2, 2,    7.8274, 2,     25.00, -999.000, 9, -999.000,     73.3, 2,      3.9,     1.10, 2,      0.0,  11.8463, 26.6422,  11.8983, 2, 406.2, 2, 211.32, 2, 0.13, 0.07, 0.01, 0.01, -999, 1,  -999.00, 9, -999, -999, 9, -999
49NZ20031106, A10, 51, 1, 28, 12028, 2, 20031120, 1458, -30.0010, -16.3390, 3701,    501.9, 2,  10.2406, 2,  34.8260, 2,  34.8264, 2,    195.9, 1,    204.6, 2,     7.02, 2,    16.96, 2,     0.00, 2,     1.23, 2,    3.053, 2,    1.560, 2,    0.105, 4,   2137.3, 2,   2294.7, 2,    7.7756, 2,     25.00, -999.000, 9, -999.000,     53.0, 2,      5.4,     1.10, 2,      0.0,  10.1807, 26.786,  10.2390, 2, 503.7, 2, 204.58, 2, 0.13, 0.08, 0.01, 0.01, -999, 1,  -999.00, 9, -999, -999, 9, -999
49NZ20031106, A10, 51, 1, 27, 12027, 2, 20031120, 1458, -30.0010, -16.3390, 3701,    599.8, 2,   8.1591, 2,  34.5988, 2,  34.5986, 2,    189.0, 1,    197.1, 2,    11.94, 2,    22.86, 2,    -0.01, 2,     1.61, 2,    2.832, 2,    1.422, 2,    0.137, 4,   2159.5, 2,   2291.4, 2,    7.7089, 2,     25.00, -999.000, 9, -999.000,     16.1, 2,      3.9,     1.04, 2,      0.0,   8.0965, 26.9448,   8.1585, 2, 600.7, 2, 197.66, 2, 0.15, 0.1, 0.01, 0.01, -999, 1,  -999.00, 9, -999, -999, 9, -999
49NZ20031106, A10, 51, 1, 26, 12026, 2, 20031120, 1458, -30.0010, -16.3390, 3701,    702.9, 2,   6.6117, 2,  34.4563, 2,  34.4584, 2,    194.3, 1,    202.3, 2,    15.76, 2,    26.22, 2,    -0.01, 2,     1.82, 2,    2.702, 2,    1.319, 2,    0.141, 4,   2168.7, 6,   2290.5, 2,    7.6776, 2,     25.00, -999.000, 9, -999.000,    -17.6, 2,      3.7,     1.03, 2,      0.0,   6.5461, 27.0512,   6.6138, 2, 700.9, 2, 203.78, 2, 0.15, 0.11, 0.01, 0.01, -999, 1,  -999.00, 9, -999, -999, 9, -999
49NZ20031106, A10, 51, 1, 25, 12025, 2, 20031120, 1458, -30.0010, -16.3390, 3701,    802.4, 2,   5.3993, 2,  34.3647, 2,  34.3639, 2,    202.0, 1,    211.2, 2,    19.87, 2,    28.39, 2,    -0.01, 2,     1.96, 2,    2.582, 2,    1.256, 2,    0.127, 4,   2177.2, 2,   2286.0, 6,    7.6603, 2,     25.00, -999.000, 9, -999.000,    -36.7, 2,      3.6,     1.04, 2,      0.0,   5.3313, 27.1327,   5.3998, 2, 799.7, 2, 211.08, 2, 0.16, 0.11, 0.01, 0.01, -999, 1,  -999.00, 9, -999, -999, 9, -999
49NZ20031106, A10, 51, 1, 24, 12024, 2, 20031120, 1458, -30.0010, -16.3390, 3701,    900.6, 2,   4.4246, 2,  34.3439, 2,  34.3438, 2,    197.7, 1,    206.1, 2,    28.30, 2,    30.68, 2,    -0.01, 2,     2.12, 2,    1.951, 2,    0.932, 2,    0.089, 4,   2191.6, 2,   2290.9, 2,    7.6350, 6,     25.00, -999.000, 9, -999.000,    -71.8, 2,      3.6,     0.96, 2,      0.0,   4.3544, 27.2269,   4.4255, 2, 903.1, 2, 207.73, 2, 0.18, 0.12, 0.01, 0.02, -999, 1,  -999.00, 9, -999, -999, 9, -999
49NZ20031106, A10, 51, 1, 23, 12023, 2, 20031120, 1458, -30.0010, -16.3390, 3701,    999.3, 2,   3.9479, 2,  34.3638, 2,  34.3640, 2,    190.8, 1,    198.9, 2,    35.06, 2,    31.95, 2,    -0.01, 2,     2.20, 2,    1.473, 6,    0.707, 6,    0.065, 4,   2203.9, 2,   2295.5, 2,    7.6182, 2,     25.00, -999.000, 9, -999.000,    -74.0, 2,      4.8,     0.84, 2,      0.0,   3.8729, 27.2913,   3.9407, 2, 1001.4, 2, 200.52, 2, 0.2, 0.12, 0.01, 0.02, -999, 1,  -999.00, 9, -999, -999, 9, -999
49NZ20031106, A10, 51, 1, 6, 12042, 9, 20031120, 1458, -30.0010, -16.3390, 3701,    999.5, 2,   3.9622, 2,  34.3634, 2, -999.0000, 9,    191.0, 1,   -999.0, 9,  -999.00, 9,  -999.00, 9,  -999.00, 9,  -999.00, 9, -999.000, 9, -999.000, 9, -999.000, 9,   -999.0, 9,   -999.0, 9, -999.0000, 9,   -999.00, -999.000, 9, -999.000,   -999.0, 9,   -999.0,  -999.00, 9,   -999.0,   3.8871, 27.2915,   3.9618, 2, 1001.2, 2, 200.52, 2, -999, -999, -999, -999, -999, 9,  -999.00, 9, -999, -999, 9, -999
49NZ20031106, A10, 51, 1, 7, 12043, 9, 20031120, 1458, -30.0010, -16.3390, 3701,    999.6, 2,   3.9618, 2,  34.3636, 2, -999.0000, 9,    190.9, 1,   -999.0, 9,  -999.00, 9,  -999.00, 9,  -999.00, 9,  -999.00, 9, -999.000, 9, -999.000, 9, -999.000, 9,   -999.0, 9,   -999.0, 9, -999.0000, 9,   -999.00, -999.000, 9, -999.000,   -999.0, 9,   -999.0,  -999.00, 9,   -999.0,   3.8867, 27.2915,   3.9634, 2, 1001.3, 2, 200.51, 2, -999, -999, -999, -999, -999, 9,  -999.00, 9, -999, -999, 9, -999
49NZ20031106, A10, 51, 1, 22, 12022, 2, 20031120, 1458, -30.0010, -16.3390, 3701,   1200.5, 2,   3.2764, 2,  34.4355, 2,  34.4364, 2,    183.7, 1,    191.4, 2,    47.17, 2,    32.86, 2,    -0.01, 2,     2.28, 2,    0.814, 2,    0.393, 2,    0.029, 4,   2220.4, 2,   2311.5, 2,    7.6057, 2,     25.00, -999.000, 9, -999.000,   -101.6, 2,      3.5,     0.76, 2,      0.0,   3.1906, 27.4168,   3.2765, 2, 1199.4, 2, 191.67, 2, 0.22, 0.12, 0.01, 0.02, -999, 1,  -999.00, 9, -999, -999, 9, -999
49NZ20031106, A10, 51, 1, 21, 12015, 2, 20031120, 1458, -30.0010, -16.3390, 3701,   1400.3, 2,   2.9698, 2,  34.5745, 2,  34.5749, 2,    180.1, 1,    187.5, 2,    54.21, 2,    31.93, 2,     0.00, 2,     2.21, 2,    0.274, 2,    0.128, 2,    0.012, 4,   2229.8, 2,   2323.2, 2,    7.6092, 2,     25.00, -999.000, 9, -999.000,   -123.2, 6,      7.0,     0.58, 6,      0.0,   2.8705, 27.5573,   2.9698, 2, 1401.3, 2, 187.48, 2, 0.24, 0.12, 0.01, 0.02, -999, 1,  -999.00, 9, -999, -999, 9, -999
49NZ20031106, A10, 51, 1, 20, 12020, 2, 20031120, 1458, -30.0010, -16.3390, 3701,   1600.6, 2,   2.8219, 2,  34.6719, 2,  34.6712, 2,    187.5, 1,    195.1, 2,    55.03, 2,    30.13, 2,    -0.01, 2,     2.07, 2,    0.118, 2,    0.053, 2,    0.000, 4,   2223.6, 2,   2330.8, 2,    7.6299, 2,     25.00, -999.000, 9, -999.000,   -121.2, 2,      3.5,     0.70, 2,      0.0,   2.7075, 27.6497,   2.8219, 2, 1602.7, 2, 193.77, 2, 0.24, 0.12, 0.01, 0.02, -999, 1,  -999.00, 9, -999, -999, 9, -999
49NZ20031106, A10, 51, 1, 19, 12019, 2, 20031120, 1458, -30.0010, -16.3390, 3701,   1800.2, 2,   2.7257, 2,  34.7471, 2,  34.7467, 2,    198.1, 1,    206.5, 2,    53.54, 2,    28.08, 2,     0.00, 2,     1.93, 2,    0.053, 2,    0.024, 2,    0.000, 4,   2217.0, 2,   2328.6, 2,    7.6546, 2,     25.00, -999.000, 9, -999.000,   -117.9, 2,      3.5,     0.76, 2,      0.0,   2.5954, 27.7199,   2.7255, 2, 1801, 2, 205.22, 2, 0.24, 0.11, 0.01, 0.01, -999, 1,  -999.00, 9, -999, -999, 9, -999
49NZ20031106, A10, 51, 1, 18, 12018, 2, 20031120, 1458, -30.0010, -16.3390, 3701,   2001.7, 2,   2.6684, 2,  34.7912, 2,  34.7911, 2,    207.1, 1,    215.8, 2,    51.48, 2,    26.51, 2,    -0.01, 2,     1.82, 2,    0.030, 2,    0.013, 2,    0.000, 4,   2211.3, 2,   2328.5, 2,    7.6724, 2,     25.00, -999.000, 9, -999.000,   -117.9, 2,      3.4,     0.77, 2,      0.0,   2.5212, 27.7614,   2.6685, 2, 2002.7, 2, 214.73, 2, 0.23, 0.11, 0.01, 0.01, -999, 1,  -999.00, 9, -999, -999, 9, -999
49NZ20031106, A10, 51, 1, 17, 12017, 2, 20031120, 1458, -30.0010, -16.3390, 3701,   2199.5, 2,   2.6086, 2,  34.8213, 2,  34.8212, 2,    214.9, 1,    223.9, 2,    49.96, 2,    25.38, 2,     0.00, 2,     1.74, 2,    0.024, 2,    0.011, 2,    0.000, 4,   2204.8, 2,   2330.2, 2,    7.6896, 2,     25.00, -999.000, 9, -999.000,   -120.0, 2,      3.4,     0.80, 2,      0.0,   2.4444, 27.7923,   2.6085, 2, 2200.3, 2, 222.72, 2, 0.23, 0.1, 0.01, 0.01, -999, 1,  -999.00, 9, -999, -999, 9, -999
49NZ20031106, A10, 51, 1, 1, 12037, 2, 20031120, 1458, -30.0010, -16.3390, 3701,   2400.7, 2,   2.5564, 2,  34.8376, 2,  34.8377, 2,    219.9, 1,    229.3, 2,    49.37, 2,    24.73, 2,     0.00, 2,     1.70, 2,    0.010, 2,    0.004, 2,    0.000, 4,   2202.6, 6,   2331.1, 2,    7.6982, 2,     25.00, -999.000, 9, -999.000,   -114.1, 2,      3.5,     0.86, 2,      0.0,   2.3744, 27.8114,   2.5563, 2, 2401.8, 2, 227.9, 2, 0.23, 0.1, 0.01, 0.01, -999, 1,  -999.00, 9, -999, -999, 9, -999
49NZ20031106, A10, 51, 1, 15, 12012, 2, 20031120, 1458, -30.0010, -16.3390, 3701,   2600.6, 2,   2.5289, 2,  34.8445, 2,  34.8448, 2,    222.5, 1,    231.5, 2,    49.26, 2,    24.40, 2,    -0.01, 2,     1.67, 2,    0.014, 2,    0.004, 2,    0.000, 4,   2200.8, 2,   2329.3, 6,    7.7024, 2,     25.00, -999.000, 9, -999.000,   -110.0, 2,      3.3,     0.75, 3,      0.0,   2.3284, 27.8208,   2.5291, 2, 2601, 2, 231.13, 2, 0.23, 0.1, 0.01, 0.01, -999, 1,  -999.00, 9, -999, -999, 9, -999
49NZ20031106, A10, 51, 1, 14, 12014, 2, 20031120, 1458, -30.0010, -16.3390, 3701,   2801.2, 2,   2.4735, 2,  34.8527, 2,  34.8529, 2,    226.0, 1,    235.0, 2,    49.38, 2,    24.04, 2,    -0.01, 2,     1.65, 2,    0.001, 2,    0.000, 2,    0.000, 4,   2198.7, 2,   2332.4, 2,    7.7077, 6,     25.00, -999.000, 9, -999.000,   -113.3, 2,      3.4,     0.87, 2,      0.0,   2.2545, 27.8337,   2.4739, 2, 2802, 2, 234.29, 2, 0.23, 0.1, 0.01, 0.01, -999, 1,  -999.00, 9, -999, -999, 9, -999
49NZ20031106, A10, 51, 1, 13, 12013, 2, 20031120, 1458, -30.0010, -16.3390, 3701,   3001.9, 2,   2.4405, 2,  34.8618, 2,  34.8617, 2,    230.0, 1,    238.4, 2,    48.85, 2,    23.63, 2,    -0.01, 2,     1.62, 2,   -0.005, 2,   -0.003, 2,    0.000, 4,   2197.2, 2,   2331.3, 2,    7.7124, 2,     25.00, -999.000, 9, -999.000,   -118.5, 2,      3.2,     0.90, 2,      0.0,   2.2020, 27.8454,   2.4406, 2, 3002.1, 2, 238, 2, 0.23, 0.1, 0.01, 0.01, -999, 1,  -999.00, 9, -999, -999, 9, -999
49NZ20031106, A10, 51, 1, 12, 12048, 2, 20031120, 1458, -30.0010, -16.3390, 3701,   3251.8, 2,   2.3253, 2,  34.8637, 2,  34.8641, 2,    233.3, 1,    241.5, 2,    50.79, 2,    23.50, 2,    -0.01, 2,     1.60, 2,    0.003, 2,   -0.001, 2,    0.000, 4,   2197.5, 2,   2332.3, 2,    7.7153, 2,     25.00, -999.000, 9, -999.000,   -121.3, 2,      3.5,     0.85, 2,      0.0,   2.0637, 27.8585,   2.3253, 2, 3251.8, 2, 241.49, 2, 0.23, 0.1, 0.01, 0.01, -999, 1,  -999.00, 9, -999, -999, 9, -999
49NZ20031106, A10, 51, 1, 9, 12045, 9, 20031120, 1458, -30.0010, -16.3390, 3701,   3401.2, 2,   2.2204, 2,  34.8570, 2, -999.0000, 9,    233.5, 1,   -999.0, 9,  -999.00, 9,  -999.00, 9,  -999.00, 9,  -999.00, 9, -999.000, 9, -999.000, 9, -999.000, 9,   -999.0, 9,   -999.0, 9, -999.0000, 9,   -999.00, -999.000, 9, -999.000,   -999.0, 9,   -999.0,  -999.00, 9,   -999.0,   1.9457, 27.8623,   2.2203, 2, 3401.2, 2, 241.01, 2, -999, -999, -999, -999, -999, 9,  -999.00, 9, -999, -999, 9, -999
49NZ20031106, A10, 51, 1, 16, 12016, 2, 20031120, 1458, -30.0010, -16.3390, 3701,   3501.1, 2,   2.1665, 2,  34.8524, 2,  34.8524, 2,    233.4, 1,    240.8, 2,    56.11, 2,    24.06, 2,    -0.01, 2,     1.65, 2,    0.000, 2,    0.000, 2,    0.000, 4,   2202.1, 2,   2339.9, 2,    7.7114, 2,     25.00, -999.000, 9, -999.000,   -117.3, 2,      3.4,     0.88, 2,      0.0,   1.8826, 27.8638,   2.1664, 2, 3501.2, 2, 240.72, 2, 0.24, 0.1, 0.01, 0.01, -999, 9,  -999.00, 9, -999, -999, 9, -999
49NZ20031106, A10, 51, 1, 11, 12047, 2, 20031120, 1458, -30.0010, -16.3390, 3701,   3501.1, 2,   2.1665, 2,  34.8524, 2,  34.8522, 2,    233.5, 1,    240.8, 2,    56.03, 2,    24.01, 2,    -0.01, 2,     1.64, 2,    0.004, 2,    0.002, 2,    0.000, 4,   2202.4, 2,   2335.3, 2,    7.7116, 2,     25.00, -999.000, 9, -999.000,   -114.9, 2,      3.6,     0.86, 2,      0.0,   1.8826, 27.8637,   2.1665, 2, 3501.2, 2, 240.72, 2, 0.24, 0.1, 0.01, 0.01, -999, 1,  -999.00, 9, -999, -999, 9, -999
49NZ20031106, A10, 51, 1, 8, 12044, 9, 20031120, 1458, -30.0010, -16.3390, 3701,   3600.4, 2,   2.1499, 2,  34.8507, 2, -999.0000, 9,    233.8, 1,   -999.0, 9,  -999.00, 9,  -999.00, 9,  -999.00, 9,  -999.00, 9, -999.000, 9, -999.000, 9, -999.000, 9,   -999.0, 9,   -999.0, 9, -999.0000, 9,   -999.00, -999.000, 9, -999.000,   -999.0, 9,   -999.0,  -999.00, 9,   -999.0,   1.8558, 27.8644,   2.1500, 2, 3600.5, 2, 240.56, 2, -999, -999, -999, -999, -999, 9,  -999.00, 9, -999, -999, 9, -999
49NZ20031106, A10, 51, 1, 10, 12046, 2, 20031120, 1458, -30.0010, -16.3390, 3701,   3741.0, 2,   2.1423, 2,  34.8489, 2,  34.8488, 2,    234.8, 1,    240.4, 2,    57.52, 2,    24.24, 2,    -0.01, 2,     1.66, 2,   -0.002, 2,   -0.001, 2,    0.000, 4,   2204.0, 2,   2340.8, 2,    7.7112, 2,     25.00, -999.000, 9, -999.000,   -124.1, 2,      3.5,     0.85, 2,      0.0,   1.8331, 27.8649,   2.1424, 2, 3741, 2, 240.39, 2, 0.25, 0.1, 0.01, 0.01, -999, 1,  -999.00, 9, -999, -999, 9, -999