BOTTLE,20220818CCHSIOAMB
EXPOCODE,SECT_ID,STNNBR,CASTNO,SAMPNO,BTLNBR,BTLNBR_FLAG_W,DATE,TIME,LATITUDE,LONGITUDE,DEPTH,CTDPRS,CTDPRS_FLAG_W,CTDTMP,CTDTMP_FLAG_W,CTDSAL,CTDSAL_FLAG_W,SALNTY,SALNTY_FLAG_W,CTDOXY,CTDOXY_FLAG_W,OXYGEN,OXYGEN_FLAG_W,SILCAT,SILCAT_FLAG_W,NITRAT,NITRAT_FLAG_W,NITRIT,NITRIT_FLAG_W,PHSPHT,PHSPHT_FLAG_W,CFC-11,CFC-11_FLAG_W,CFC-12,CFC-12_FLAG_W,CFC113,CFC113_FLAG_W,TCARBN,TCARBN_FLAG_W,ALKALI,ALKALI_FLAG_W,PH_TOT,PH_TOT_FLAG_W,PH_TMP,TRITUM,TRITUM_FLAG_W,TRITER,DELC14,DELC14_FLAG_W,C14ERR,DELC13,DELC13_FLAG_W,C13ERR,THETA,SIG0,SBE35,SBE35_FLAG_W,DWNPRS,DWNPRS_FLAG_W,DWNOXY,DWNOXY_FLAG_W,SILUNC,NRAUNC,NRIUNC,PHPUNC,TOC,TOC_FLAG_W,CS-137,CS-137_FLAG_W,CS137ER,PLUTO,PLUTO_FLAG_W,PLUTOER
,,,,,,,,,,,METERS,DBAR,,ITS-90,,PSS-78,,PSS-78,,UMOL/KG,,UMOL/KG,,UMOL/KG,,UMOL/KG,,UMOL/KG,,UMOL/KG,,PMOL/KG,,PMOL/KG,,PMOL/KG,,UMOL/KG,,UMOL/KG,,,,DEG C,TU,,TU,/MILLE,,/MILLE,/MILLE,,/MILLE,DEG C,KG/M^3,ITS-90,,DBAR,,UMOL/KG,,UMOL/KG,UMOL/KG,UMOL/KG,UMOL/KG,UMOL/KG,,BQ/M^3,,BQ/M^3,MBQ/M^3,,MBQ/M^3
49NZ20031106, A10, 91, 1, 36, 12024, 2, 20031201, 1046, -29.6185, 12.1593, 3814,      9.8, 2,  18.8416, 2,  35.5885, 2,  35.5886, 2,    224.6, 1,    237.3, 2,     2.12, 2,    -0.03, 2,     0.00, 2,     0.17, 2,    2.724, 2,    1.454, 2, -999.000, 5,   2045.1, 2,   2331.2, 2,    8.0171, 2,     25.00, -999.000, 9, -999.000,   -999.0, 9,   -999.0,  -999.00, 9,   -999.0,  18.8399, 25.514,  18.8418, 2, 5.2, 2, 236.75, 2, 0.12, 0.03, 0.01, 0.02, -999, 1,  -999.00, 9, -999, -999, 9, -999
49NZ20031106, A10, 91, 1, 35, 12023, 2, 20031201, 1046, -29.6185, 12.1593, 3814,     50.4, 2,  17.2037, 2,  35.5937, 2,  35.5932, 2,    219.3, 1,    231.9, 2,     3.31, 2,     1.49, 2,     0.20, 2,     0.27, 2,    2.772, 2,    1.473, 2,    0.207, 4,   2054.8, 6,   2329.7, 2,    7.9898, 2,     25.00, -999.000, 9, -999.000,   -999.0, 9,   -999.0,  -999.00, 9,   -999.0,  17.1953, 25.924,  17.2156, 2, 51.6, 2, 228.55, 2, 0.13, 0.04, 0.01, 0.01, -999, 1,  -999.00, 9, -999, -999, 9, -999
49NZ20031106, A10, 91, 1, 34, 12022, 2, 20031201, 1046, -29.6185, 12.1593, 3814,    100.0, 2,  15.9293, 2,  35.5313, 2,  35.5318, 2,    217.7, 1,    228.3, 2,     3.19, 2,     3.46, 2,     0.04, 2,     0.39, 2,    3.033, 2,    1.582, 2,    0.217, 4,   2076.9, 2,   2331.2, 6,    7.9514, 2,     25.00, -999.000, 1, -999.000,   -999.0, 9,   -999.0,  -999.00, 9,   -999.0,  15.9135, 26.181,  15.9319, 2, 104, 2, 218.95, 2, 0.13, 0.04, 0.01, 0.01, -999, 1,  -999.00, 9, -999, -999, 9, -999
49NZ20031106, A10, 91, 1, 33, 12015, 2, 20031201, 1046, -29.6185, 12.1593, 3814,    150.3, 2,  15.2142, 2,  35.4323, 2,  35.4222, 3,    216.3, 1,    227.1, 2,     3.02, 2,     4.44, 2,     0.02, 2,     0.46, 2,    3.158, 2,    1.659, 2,    0.204, 4,   2084.8, 2,   2327.2, 2,    7.9317, 2,     25.00, -999.000, 9, -999.000,   -999.0, 9,   -999.0,  -999.00, 9,   -999.0,  15.1912, 26.2652,  15.2087, 2, 149.7, 2, 229.04, 2, 0.13, 0.05, 0.01, 0.01, -999, 1,  -999.00, 9, -999, -999, 9, -999
49NZ20031106, A10, 91, 1, 5, 12029, 2, 20031201, 1046, -29.6185, 12.1593, 3814,    199.3, 2,  14.4758, 2,  35.3320, 2, -999.0000, 9,    213.3, 1,   -999.0, 9,  -999.00, 9,  -999.00, 9,  -999.00, 9,  -999.00, 9, -999.000, 9, -999.000, 9, -999.000, 9,   -999.0, 9,   -999.0, 9, -999.0000, 9,   -999.00, -999.000, 1, -999.000,   -999.0, 9,   -999.0,  -999.00, 9,   -999.0,  14.4463, 26.3508,  14.4759, 2, 201, 2, 224.64, 2, -999, -999, -999, -999, -999, 9,  -999.00, 9, -999, -999, 9, -999
49NZ20031106, A10, 91, 1, 32, 12020, 2, 20031201, 1046, -29.6185, 12.1593, 3814,    199.4, 2,  14.4743, 2,  35.3318, 2,  35.3312, 2,    213.2, 1,    223.9, 2,     3.68, 2,     6.27, 2,     0.01, 2,     0.56, 2,    3.186, 2,    1.640, 2,    0.175, 4,   2091.3, 2,   2318.5, 2,    7.9076, 2,     25.00, -999.000, 1, -999.000,   -999.0, 9,   -999.0,  -999.00, 9,   -999.0,  14.4447, 26.3509,  14.4754, 2, 201.1, 2, 224.63, 2, 0.13, 0.05, 0.01, 0.01, -999, 1,  -999.00, 1, -999, -999, 1, -999
49NZ20031106, A10, 91, 1, 31, 12019, 2, 20031201, 1046, -29.6185, 12.1593, 3814,    250.0, 2,  13.4617, 2,  35.1918, 2,  35.1917, 2,    205.3, 1,    215.0, 2,     4.05, 2,     8.65, 2,     0.02, 2,     0.70, 2,    3.344, 6,    1.693, 6,    0.149, 4,   2105.1, 2,   2315.3, 2,    7.8695, 2,     25.00, -999.000, 9, -999.000,   -999.0, 9,   -999.0,  -999.00, 9,   -999.0,  13.4264, 26.4567,  13.4624, 2, 253.6, 2, 217.91, 2, 0.13, 0.06, 0.01, 0.01, -999, 1,  -999.00, 9, -999, -999, 9, -999
49NZ20031106, A10, 91, 1, 30, 12018, 2, 20031201, 1046, -29.6185, 12.1593, 3814,    299.2, 2,  12.7157, 2,  35.1366, 2,  35.1345, 2,    204.0, 1,    213.6, 2,     4.56, 2,    10.54, 2,     0.01, 2,     0.82, 2,    3.436, 2,    1.714, 2,    0.124, 4,   2114.5, 2,   2314.1, 2,    7.8498, 2,     25.00, -999.000, 9, -999.000,   -999.0, 9,   -999.0,  -999.00, 9,   -999.0,  12.6749, 26.5657,  12.7155, 2, 304.4, 2, 213.49, 2, 0.13, 0.06, 0.01, 0.01, -999, 1,  -999.00, 9, -999, -999, 9, -999
49NZ20031106, A10, 91, 1, 29, 12017, 2, 20031201, 1046, -29.6185, 12.1593, 3814,    401.5, 2,  11.0575, 2,  34.9349, 2,  34.9354, 2,    205.0, 1,    214.3, 2,     6.35, 2,    14.22, 2,     0.01, 2,     1.05, 2,    3.397, 2,    1.664, 2,    0.103, 4,   2125.4, 2,   2300.7, 2,    7.8102, 2,     25.00, -999.000, 1, -999.000,   -999.0, 9,   -999.0,  -999.00, 9,   -999.0,  11.0074, 26.7251,  11.0586, 2, 409.2, 2, 215.93, 2, 0.13, 0.07, 0.01, 0.01, -999, 1,  -999.00, 9, -999, -999, 9, -999
49NZ20031106, A10, 91, 1, 28, 12016, 2, 20031201, 1046, -29.6185, 12.1593, 3814,    499.8, 2,   9.1102, 2,  34.6831, 2,  34.6829, 2,    204.0, 1,    213.0, 2,     9.23, 2,    19.00, 2,     0.01, 2,     1.34, 2,    3.317, 2,    1.578, 2,    0.135, 4,   2141.0, 2,   2287.9, 2,    7.7570, 2,     25.00, -999.000, 9, -999.000,   -999.0, 9,   -999.0,  -999.00, 9,   -999.0,   9.0548, 26.8624,   9.1105, 2, 504.2, 2, 217.29, 2, 0.14, 0.09, 0.01, 0.01, -999, 1,  -999.00, 9, -999, -999, 9, -999
49NZ20031106, A10, 91, 1, 27, 12012, 2, 20031201, 1046, -29.6185, 12.1593, 3814,    602.0, 2,   7.2670, 2,  34.5137, 2,  34.5140, 2,    196.9, 1,    205.3, 2,    15.83, 2,    24.26, 2,     0.00, 2,     1.69, 2,    2.928, 2,    1.356, 2,    0.135, 4,   2164.0, 2,   2289.9, 2,    7.7007, 2,     25.00, -999.000, 1, -999.000,   -999.0, 9,   -999.0,  -999.00, 9,   -999.0,   7.2082, 27.0067,   7.2747, 2, 606.2, 2, 205.05, 2, 0.15, 0.1, 0.01, 0.01, -999, 1,  -999.00, 1, -999, -999, 1, -999
49NZ20031106, A10, 91, 1, 3, 12027, 2, 20031201, 1046, -29.6185, 12.1593, 3814,    602.1, 2,   7.2632, 2,  34.5130, 2, -999.0000, 9,    197.1, 1,   -999.0, 9,  -999.00, 9,  -999.00, 9,  -999.00, 9,  -999.00, 9, -999.000, 9, -999.000, 9, -999.000, 9,   -999.0, 9,   -999.0, 9, -999.0000, 9,   -999.00, -999.000, 1, -999.000,   -999.0, 9,   -999.0,  -999.00, 9,   -999.0,   7.2044, 27.0072,   7.2652, 2, 606.3, 2, 205.05, 2, -999, -999, -999, -999, -999, 9,  -999.00, 9, -999, -999, 9, -999
49NZ20031106, A10, 91, 1, 26, 12014, 2, 20031201, 1046, -29.6185, 12.1593, 3814,    699.5, 2,   5.6087, 2,  34.3749, 2,  34.3772, 2,    205.3, 1,    213.9, 2,    20.66, 2,    27.53, 2,     0.00, 2,     1.90, 2,    2.965, 2,    1.344, 2,    0.145, 4,   2175.0, 6,   2292.0, 2,    7.6718, 2,     25.00, -999.000, 9, -999.000,   -999.0, 9,   -999.0,  -999.00, 9,   -999.0,   5.5488, 27.1157,   5.6077, 2, 699.6, 2, 214.75, 2, 0.16, 0.11, 0.01, 0.01, -999, 1,  -999.00, 9, -999, -999, 9, -999
49NZ20031106, A10, 91, 1, 8, 12032, 2, 20031201, 1046, -29.6185, 12.1593, 3814,    801.5, 2,   4.8421, 2,  34.3777, 2, -999.0000, 9,    197.2, 1,   -999.0, 9,  -999.00, 9,  -999.00, 9,  -999.00, 9,  -999.00, 9, -999.000, 9, -999.000, 9, -999.000, 9,   -999.0, 9,   -999.0, 9, -999.0000, 9,   -999.00, -999.000, 1, -999.000,   -999.0, 9,   -999.0,  -999.00, 9,   -999.0,   4.7776, 27.2078,   4.8405, 2, 801.5, 2, 208.87, 2, -999, -999, -999, -999, -999, 9,  -999.00, 9, -999, -999, 9, -999
49NZ20031106, A10, 91, 1, 25, 12013, 2, 20031201, 1046, -29.6185, 12.1593, 3814,    801.6, 2,   4.8451, 2,  34.3778, 2,  34.3767, 2,    197.3, 1,    205.7, 2,    29.84, 2,    29.71, 2,     0.00, 2,     2.05, 2,    2.352, 2,    1.069, 2,    0.106, 4,   2190.9, 2,   2297.5, 6,    7.6464, 2,     25.00, -999.000, 1, -999.000,   -999.0, 9,   -999.0,  -999.00, 9,   -999.0,   4.7806, 27.2069,   4.8461, 2, 801.5, 2, 208.87, 2, 0.18, 0.12, 0.01, 0.02, -999, 1,  -999.00, 1, -999, -999, 1, -999
49NZ20031106, A10, 91, 1, 24, 12048, 2, 20031201, 1046, -29.6185, 12.1593, 3814,    900.2, 2,   4.0468, 2,  34.3948, 2,  34.3944, 2,    186.5, 1,    194.3, 2,    39.84, 2,    31.97, 2,     0.00, 2,     2.20, 2,    1.558, 2,    0.730, 2,    0.077, 4,   2210.1, 2,   2305.1, 2,    7.6174, 6,     25.00, -999.000, 9, -999.000,   -999.0, 9,   -999.0,  -999.00, 9,   -999.0,   3.9792, 27.3073,   4.0476, 2, 902.8, 2, 195.32, 2, 0.21, 0.12, 0.01, 0.02, -999, 1,  -999.00, 9, -999, -999, 9, -999
49NZ20031106, A10, 91, 1, 4, 12028, 2, 20031201, 1046, -29.6185, 12.1593, 3814,    999.8, 2,   3.7516, 2,  34.4648, 2, -999.0000, 9,    172.9, 1,   -999.0, 9,  -999.00, 9,  -999.00, 9,  -999.00, 9,  -999.00, 9, -999.000, 9, -999.000, 9, -999.000, 9,   -999.0, 9,   -999.0, 9, -999.0000, 9,   -999.00, -999.000, 1, -999.000,   -999.0, 9,   -999.0,  -999.00, 9,   -999.0,   3.6779, 27.393,   3.7522, 2, 1001.7, 2, 180.73, 2, -999, -999, -999, -999, -999, 9,  -999.00, 9, -999, -999, 9, -999
49NZ20031106, A10, 91, 1, 23, 12047, 2, 20031201, 1046, -29.6185, 12.1593, 3814,   1000.7, 2,   3.7527, 2,  34.4642, 2,  34.4632, 2,    172.9, 1,    180.1, 2,    50.71, 2,    33.01, 2,     0.01, 2,     2.29, 2,    0.956, 6,    0.469, 6,    0.024, 4,   2227.7, 2,   2314.7, 2,    7.6013, 2,     25.00, -999.000, 1, -999.000,   -999.0, 9,   -999.0,  -999.00, 9,   -999.0,   3.6790, 27.393,   3.7479, 2, 1002.3, 2, 180.64, 2, 0.23, 0.13, 0.01, 0.02, -999, 1,  -999.00, 1, -999, -999, 1, -999
49NZ20031106, A10, 91, 1, 22, 12046, 2, 20031201, 1046, -29.6185, 12.1593, 3814,   1201.2, 2,   3.1277, 2,  34.5695, 2,  34.5708, 2,    171.0, 1,    177.9, 2,    55.22, 2,    32.70, 2,     0.01, 2,     2.26, 2,    0.241, 2,    0.145, 2,    0.000, 4,   2235.1, 2,   1928.3, 4,    7.5972, 2,     25.00, -999.000, 1, -999.000,   -999.0, 9,   -999.0,  -999.00, 9,   -999.0,   3.0429, 27.5374,   3.1284, 2, 1200.4, 2, 177.83, 2, 0.24, 0.12, 0.01, 0.02, -999, 1,  -999.00, 9, -999, -999, 9, -999
49NZ20031106, A10, 91, 1, 21, 12045, 2, 20031201, 1046, -29.6185, 12.1593, 3814,   1400.5, 2,   3.1740, 2,  34.6913, 2,  34.6916, 2,    179.3, 1,    186.5, 2,    49.10, 2,    30.32, 2,     0.01, 2,     2.08, 2,    0.054, 2,    0.034, 2,    0.000, 4,   2225.0, 2,   2326.1, 2,    7.6223, 2,     25.00, -999.000, 1, -999.000,   -999.0, 9,   -999.0,  -999.00, 9,   -999.0,   3.0722, 27.6323,   3.1736, 2, 1399.7, 2, 186.58, 2, 0.23, 0.12, 0.01, 0.02, -999, 1,  -999.00, 9, -999, -999, 9, -999
49NZ20031106, A10, 91, 1, 20, 12044, 2, 20031201, 1046, -29.6185, 12.1593, 3814,   1599.9, 2,   3.1626, 2,  34.7807, 2,  34.7807, 2,    192.7, 1,    200.5, 2,    44.01, 2,    27.65, 2,     0.00, 2,     1.89, 2,    0.015, 2,    0.008, 2,    0.000, 4,   2213.4, 2,   2323.9, 2,    7.6558, 2,     25.00, -999.000, 9, -999.000,   -999.0, 9,   -999.0,  -999.00, 9,   -999.0,   3.0438, 27.7064,   3.1625, 2, 1599.6, 2, 199.95, 2, 0.22, 0.11, 0.01, 0.01, -999, 1,  -999.00, 9, -999, -999, 9, -999
49NZ20031106, A10, 91, 1, 1, 12025, 2, 20031201, 1046, -29.6185, 12.1593, 3814,   1801.0, 2,   3.1187, 2,  34.8331, 2,  34.8333, 2,    204.5, 1,    213.1, 2,    40.54, 2,    25.80, 2,     0.00, 2,     1.76, 2,    0.003, 2,    0.004, 2,    0.000, 4,   2203.7, 2,   2321.0, 2,    7.6801, 2,     25.00, -999.000, 9, -999.000,   -999.0, 9,   -999.0,  -999.00, 9,   -999.0,   2.9827, 27.7542,   3.1184, 2, 1801.6, 2, 211.8, 2, 0.21, 0.11, 0.01, 0.01, -999, 1,  -999.00, 9, -999, -999, 9, -999
49NZ20031106, A10, 91, 1, 18, 12042, 2, 20031201, 1046, -29.6185, 12.1593, 3814,   2000.8, 2,   2.9978, 2,  34.8562, 2,  34.8560, 2,    212.0, 1,    221.3, 2,    40.69, 2,    24.82, 2,     0.00, 2,     1.68, 2,    0.003, 2,    0.005, 2,    0.000, 4,   2199.2, 2,   2321.7, 2,    7.6913, 6,     25.00, -999.000, 1, -999.000,   -999.0, 9,   -999.0,  -999.00, 9,   -999.0,   2.8455, 27.7852,   2.9977, 2, 2001.9, 2, 219.72, 2, 0.21, 0.1, 0.01, 0.01, -999, 1,  -999.00, 1, -999, -999, 1, -999
49NZ20031106, A10, 91, 1, 6, 12030, 2, 20031201, 1046, -29.6185, 12.1593, 3814,   2001.0, 2,   2.9977, 2,  34.8562, 2, -999.0000, 9,    212.2, 1,   -999.0, 9,  -999.00, 9,  -999.00, 9,  -999.00, 9,  -999.00, 9, -999.000, 9, -999.000, 9, -999.000, 9,   -999.0, 9,   -999.0, 9, -999.0000, 9,   -999.00, -999.000, 1, -999.000,   -999.0, 9,   -999.0,  -999.00, 9,   -999.0,   2.8454, 27.7852,   2.9977, 2, 2002.1, 2, 219.73, 2, -999, -999, -999, -999, -999, 9,  -999.00, 9, -999, -999, 9, -999
49NZ20031106, A10, 91, 1, 17, 12041, 2, 20031201, 1046, -29.6185, 12.1593, 3814,   2202.2, 2,   2.8506, 2,  34.8634, 2,  34.8636, 2,    216.9, 1,    226.1, 2,    42.49, 2,    24.38, 2,     0.00, 2,     1.65, 2,   -0.002, 2,    0.000, 2,    0.000, 4,   2200.4, 2,   2327.0, 2,    7.7006, 2,     25.00, -999.000, 9, -999.000,   -999.0, 9,   -999.0,  -999.00, 9,   -999.0,   2.6820, 27.8057,   2.8505, 2, 2203.3, 2, 225.13, 2, 0.21, 0.1, 0.01, 0.01, -999, 1,  -999.00, 9, -999, -999, 9, -999
49NZ20031106, A10, 91, 1, 16, 12040, 2, 20031201, 1046, -29.6185, 12.1593, 3814,   2398.9, 2,   2.7153, 2,  34.8638, 2,  34.8637, 2,    219.1, 1,    228.0, 2,    45.01, 2,    24.31, 2,     0.01, 2,     1.64, 2,    0.001, 2,    0.001, 2,    0.000, 4,   2199.6, 6,   2330.1, 2,    7.7023, 2,     25.00, -999.000, 1, -999.000,   -999.0, 9,   -999.0,  -999.00, 9,   -999.0,   2.5306, 27.8193,   2.7152, 2, 2399.8, 2, 227.93, 2, 0.22, 0.1, 0.01, 0.01, -999, 1,  -999.00, 9, -999, -999, 9, -999
49NZ20031106, A10, 91, 1, 15, 12039, 2, 20031201, 1046, -29.6185, 12.1593, 3814,   2600.9, 2,   2.6003, 2,  34.8622, 2,  34.8622, 2,    220.9, 1,    230.0, 2,    47.32, 2,    24.23, 2,     0.00, 2,     1.64, 2,    0.002, 2,    0.000, 2,    0.000, 4,   2200.8, 2,   2334.4, 6,    7.7034, 2,     25.00, -999.000, 9, -999.000,   -999.0, 9,   -999.0,  -999.00, 9,   -999.0,   2.3983, 27.8293,   2.6002, 2, 2601.5, 2, 229.84, 2, 0.22, 0.1, 0.01, 0.01, -999, 1,  -999.00, 9, -999, -999, 9, -999
49NZ20031106, A10, 91, 1, 14, 12038, 2, 20031201, 1046, -29.6185, 12.1593, 3814,   2802.3, 2,   2.4852, 2,  34.8564, 2,  34.8564, 2,    221.0, 1,    229.7, 2,    50.82, 2,    24.46, 2,     0.00, 2,     1.66, 2,    0.006, 2,    0.004, 2,    0.000, 4,   2204.6, 2,   2337.2, 2,    7.7035, 6,     25.00, -999.000, 9, -999.000,   -999.0, 9,   -999.0,  -999.00, 9,   -999.0,   2.2658, 27.8359,   2.4854, 2, 2802.7, 2, 229.68, 2, 0.23, 0.1, 0.01, 0.01, -999, 1,  -999.00, 9, -999, -999, 9, -999
49NZ20031106, A10, 91, 1, 13, 12037, 2, 20031201, 1046, -29.6185, 12.1593, 3814,   2999.8, 2,   2.4167, 2,  34.8584, 2,  34.8582, 2,    222.5, 1,    230.8, 2,    52.26, 2,    24.41, 2,     0.00, 2,     1.66, 2,    0.001, 2,    0.000, 2,    0.000, 4,   2207.9, 2,   2338.7, 2,    7.7073, 2,     25.00, -999.000, 1, -999.000,   -999.0, 9,   -999.0,  -999.00, 9,   -999.0,   2.1790, 27.8448,   2.4168, 2, 3000.1, 2, 230.88, 2, 0.23, 0.1, 0.01, 0.01, -999, 1,  -999.00, 1, -999, -999, 1, -999
49NZ20031106, A10, 91, 1, 7, 12031, 2, 20031201, 1046, -29.6185, 12.1593, 3814,   3000.0, 2,   2.4166, 2,  34.8584, 2, -999.0000, 9,    222.4, 1,   -999.0, 9,  -999.00, 9,  -999.00, 9,  -999.00, 9,  -999.00, 9, -999.000, 9, -999.000, 9, -999.000, 9,   -999.0, 9,   -999.0, 9, -999.0000, 9,   -999.00, -999.000, 1, -999.000,   -999.0, 9,   -999.0,  -999.00, 9,   -999.0,   2.1789, 27.8447,   2.4166, 2, 3000.2, 2, 230.87, 2, -999, -999, -999, -999, -999, 9,  -999.00, 9, -999, -999, 9, -999
49NZ20031106, A10, 91, 1, 12, 12036, 2, 20031201, 1046, -29.6185, 12.1593, 3814,   3249.5, 2,   2.3424, 2,  34.8581, 2,  34.8581, 2,    223.1, 1,    231.0, 2,    54.27, 2,    24.48, 2,    -0.01, 2,     1.66, 2,   -0.002, 2,   -0.001, 2,    0.000, 4,   2208.6, 2,   2342.6, 2,    7.7068, 2,     25.00, -999.000, 9, -999.000,   -999.0, 9,   -999.0,  -999.00, 9,   -999.0,   2.0807, 27.8527,   2.3423, 2, 3249.8, 2, 230.97, 2, 0.24, 0.1, 0.01, 0.01, -999, 1,  -999.00, 9, -999, -999, 9, -999
49NZ20031106, A10, 91, 1, 11, 12035, 2, 20031201, 1046, -29.6185, 12.1593, 3814,   3500.7, 2,   2.2514, 2,  34.8522, 2,  34.8522, 2,    223.1, 1,    230.4, 2,    58.15, 2,    24.83, 2,    -0.01, 2,     1.68, 2,    0.000, 2,    0.001, 2,    0.000, 4,   2213.7, 2,   2345.1, 2,    7.7060, 2,     25.00, -999.000, 1, -999.000,   -999.0, 9,   -999.0,  -999.00, 9,   -999.0,   1.9654, 27.8574,   2.2513, 2, 3500.8, 2, 230.29, 2, 0.25, 0.1, 0.01, 0.01, -999, 1,  -999.00, 1, -999, -999, 1, -999
49NZ20031106, A10, 91, 1, 10, 12034, 2, 20031201, 1046, -29.6185, 12.1593, 3814,   3749.8, 2,   2.0546, 2,  34.8324, 2,  34.8320, 2,    220.8, 1,    227.0, 2,    66.63, 2,    25.84, 2,    -0.01, 2,     1.76, 2,    0.012, 2,    0.009, 2,    0.000, 4,   2220.8, 2,   2349.5, 2,    7.6969, 4,     25.00, -999.000, 9, -999.000,   -999.0, 9,   -999.0,  -999.00, 9,   -999.0,   1.7469, 27.8581,   2.0545, 2, 3750.1, 2, 226.96, 2, 0.27, 0.11, 0.01, 0.01, -999, 1,  -999.00, 9, -999, -999, 9, -999
49NZ20031106, A10, 91, 1, 19, 12043, 2, 20031201, 1046, -29.6185, 12.1593, 3814,   3750.7, 2,   2.0522, 2,  34.8320, 2,  34.8320, 2,    220.8, 1,    226.9, 2,    66.85, 2,    25.96, 2,     0.00, 2,     1.76, 2,    0.003, 2,    0.004, 2,    0.000, 4,   2221.8, 2,   2350.8, 2,    7.6941, 2,     25.00, -999.000, 9, -999.000,   -999.0, 9,   -999.0,  -999.00, 9,   -999.0,   1.7445, 27.8581,   2.0527, 2, 3750.9, 2, 226.94, 2, 0.27, 0.11, 0.01, 0.01, -999, 9,  -999.00, 9, -999, -999, 9, -999
49NZ20031106, A10, 91, 1, 2, 12026, 2, 20031201, 1046, -29.6185, 12.1593, 3814,   3857.6, 2,   1.7279, 2,  34.8001, 2, -999.0000, 9,    215.6, 1,   -999.0, 9,  -999.00, 9,  -999.00, 9,  -999.00, 9,  -999.00, 9, -999.000, 9, -999.000, 9, -999.000, 9,   -999.0, 9,   -999.0, 9, -999.0000, 9,   -999.00, -999.000, 9, -999.000,   -999.0, 9,   -999.0,  -999.00, 9,   -999.0,   1.4174, 27.8565,   1.7285, 2, 3857.6, 2, 219.73, 2, -999, -999, -999, -999, -999, 9,  -999.00, 9, -999, -999, 9, -999
49NZ20031106, A10, 91, 1, 9, 12033, 2, 20031201, 1046, -29.6185, 12.1593, 3814,   3857.7, 2,   1.7267, 2,  34.8000, 2,  34.7995, 2,    215.5, 1,    220.4, 2,    80.75, 2,    27.67, 2,     0.00, 2,     1.90, 2,    0.001, 2,    0.004, 2,    0.000, 4,   2238.2, 2,   2357.8, 2,    7.6778, 2,     25.00, -999.000, 1, -999.000,   -999.0, 9,   -999.0,  -999.00, 9,   -999.0,   1.4163, 27.8565,   1.7272, 2, 3857.7, 2, 219.69, 2, 0.3, 0.11, 0.01, 0.01, -999, 1,  -999.00, 1, -999, -999, 1, -999