BOTTLE,20220818CCHSIOAMB
EXPOCODE,SECT_ID,STNNBR,CASTNO,SAMPNO,BTLNBR,BTLNBR_FLAG_W,DATE,TIME,LATITUDE,LONGITUDE,DEPTH,CTDPRS,CTDPRS_FLAG_W,CTDTMP,CTDTMP_FLAG_W,CTDSAL,CTDSAL_FLAG_W,SALNTY,SALNTY_FLAG_W,CTDOXY,CTDOXY_FLAG_W,OXYGEN,OXYGEN_FLAG_W,SILCAT,SILCAT_FLAG_W,NITRAT,NITRAT_FLAG_W,NITRIT,NITRIT_FLAG_W,PHSPHT,PHSPHT_FLAG_W,CFC-11,CFC-11_FLAG_W,CFC-12,CFC-12_FLAG_W,CFC113,CFC113_FLAG_W,TCARBN,TCARBN_FLAG_W,ALKALI,ALKALI_FLAG_W,PH_TOT,PH_TOT_FLAG_W,PH_TMP,TRITUM,TRITUM_FLAG_W,TRITER,DELC14,DELC14_FLAG_W,C14ERR,DELC13,DELC13_FLAG_W,C13ERR,THETA,SIG0,SBE35,SBE35_FLAG_W,DWNPRS,DWNPRS_FLAG_W,DWNOXY,DWNOXY_FLAG_W,SILUNC,NRAUNC,NRIUNC,PHPUNC,TOC,TOC_FLAG_W,CS-137,CS-137_FLAG_W,CS137ER,PLUTO,PLUTO_FLAG_W,PLUTOER
,,,,,,,,,,,METERS,DBAR,,ITS-90,,PSS-78,,PSS-78,,UMOL/KG,,UMOL/KG,,UMOL/KG,,UMOL/KG,,UMOL/KG,,UMOL/KG,,PMOL/KG,,PMOL/KG,,PMOL/KG,,UMOL/KG,,UMOL/KG,,,,DEG C,TU,,TU,/MILLE,,/MILLE,/MILLE,,/MILLE,DEG C,KG/M^3,ITS-90,,DBAR,,UMOL/KG,,UMOL/KG,UMOL/KG,UMOL/KG,UMOL/KG,UMOL/KG,,BQ/M^3,,BQ/M^3,MBQ/M^3,,MBQ/M^3
49NZ20031106, A10, 31, 1, 3, 12012, 2, 20031114, 1602, -30.0073, -30.9917, 4042,      9.6, 2,  20.4772, 2,  36.0076, 2, -999.0000, 9,    215.0, 1,   -999.0, 9,  -999.00, 9,  -999.00, 9,  -999.00, 9,  -999.00, 9, -999.000, 9, -999.000, 9, -999.000, 9,   -999.0, 9,   -999.0, 9, -999.0000, 9,   -999.00, -999.000, 9, -999.000,   -999.0, 9,   -999.0,  -999.00, 9,   -999.0,  20.4754, 25.4055,  20.4774, 2, 9.2, 2, 227.21, 2, -999, -999, -999, -999, -999, 9,  -999.00, 9, -999, -999, 9, -999
49NZ20031106, A10, 31, 1, 36, 12048, 2, 20031114, 1602, -30.0073, -30.9917, 4042,     10.0, 2,  20.4813, 2,  36.0081, 2,  36.0084, 2,    214.6, 1,    227.1, 2,     0.75, 2,     0.01, 2,     0.01, 2,     0.06, 2,    2.325, 2,    1.313, 2,    0.272, 4,   2057.6, 2,   2362.8, 2,    8.0334, 2,     25.00, -999.000, 9, -999.000,   -999.0, 9,   -999.0,  -999.00, 9,   -999.0,  20.4794, 25.4046,  20.4816, 2, 9.4, 2, 227.15, 2, 0.12, 0.03, 0.01, 0.03, -999, 9,  -999.00, 9, -999, -999, 9, -999
49NZ20031106, A10, 31, 1, 4, 12016, 2, 20031114, 1602, -30.0073, -30.9917, 4042,     10.8, 2,  20.4817, 2,  36.0080, 2, -999.0000, 9,    215.4, 1,   -999.0, 9,  -999.00, 9,  -999.00, 9,  -999.00, 9,  -999.00, 9, -999.000, 9, -999.000, 9, -999.000, 9,   -999.0, 9,   -999.0, 9, -999.0000, 9,   -999.00, -999.000, 9, -999.000,   -999.0, 9,   -999.0,  -999.00, 9,   -999.0,  20.4797, 25.4045,  20.4832, 2, 10, 2, 226.96, 2, -999, -999, -999, -999, -999, 9,  -999.00, 9, -999, -999, 9, -999
49NZ20031106, A10, 31, 1, 35, 12047, 2, 20031114, 1602, -30.0073, -30.9917, 4042,     51.0, 2,  19.6058, 2,  35.9776, 2,  35.9837, 2,    219.4, 1,    231.0, 2,     0.77, 2,    -0.02, 2,     0.00, 2,     0.07, 2,    2.511, 2,    1.421, 2,    0.287, 4,   2058.8, 6,   2359.8, 2,    8.0279, 2,     25.00, -999.000, 9, -999.000,   -999.0, 9,   -999.0,  -999.00, 9,   -999.0,  19.5965, 25.6128,  19.6406, 2, 48.1, 2, 231.52, 2, 0.12, 0.03, 0.01, 0.03, -999, 9,  -999.00, 9, -999, -999, 9, -999
49NZ20031106, A10, 31, 1, 34, 12046, 2, 20031114, 1602, -30.0073, -30.9917, 4042,     99.8, 2,  18.8202, 2,  35.9409, 2,  35.9439, 2,    219.4, 1,    231.3, 2,     0.80, 2,    -0.03, 2,     0.00, 2,     0.11, 2,    2.555, 2,    1.464, 2,    0.280, 4,   2062.9, 2,   2356.9, 6,    8.0202, 2,     25.00, -999.000, 9, -999.000,   -999.0, 9,   -999.0,  -999.00, 9,   -999.0,  18.8025, 25.7923,  18.8229, 2, 97.3, 2, 231.2, 2, 0.12, 0.03, 0.01, 0.02, -999, 9,  -999.00, 9, -999, -999, 9, -999
49NZ20031106, A10, 31, 1, 1, 12013, 2, 20031114, 1602, -30.0073, -30.9917, 4042,    129.3, 2,  17.8351, 2,  35.7869, 2, -999.0000, 9,    217.2, 1,   -999.0, 9,  -999.00, 9,  -999.00, 9,  -999.00, 9,  -999.00, 9, -999.000, 9, -999.000, 9, -999.000, 9,   -999.0, 9,   -999.0, 9, -999.0000, 9,   -999.00, -999.000, 9, -999.000,   -999.0, 9,   -999.0,  -999.00, 9,   -999.0,  17.8130, 25.9221,  17.8367, 2, 129.5, 2, 227.93, 2, -999, -999, -999, -999, -999, 9,  -999.00, 9, -999, -999, 9, -999
49NZ20031106, A10, 31, 1, 33, 12045, 2, 20031114, 1602, -30.0073, -30.9917, 4042,    151.2, 2,  16.9508, 2,  35.6694, 2,  35.6705, 2,    213.7, 1,    224.6, 2,     1.02, 2,     0.49, 2,     0.07, 2,     0.23, 2,    2.718, 2,    1.522, 2,    0.284, 4,   2081.4, 2,   2338.4, 2,    7.9658, 2,     25.00, -999.000, 9, -999.000,   -999.0, 9,   -999.0,  -999.00, 9,   -999.0,  16.9258, 26.0471,  16.9519, 2, 152.5, 2, 224.2, 2, 0.12, 0.03, 0.01, 0.02, -999, 9,  -999.00, 9, -999, -999, 9, -999
49NZ20031106, A10, 31, 1, 32, 12044, 2, 20031114, 1602, -30.0073, -30.9917, 4042,    198.9, 2,  15.8950, 2,  35.5553, 2,  35.5546, 2,    207.7, 1,    218.3, 2,     1.35, 2,     2.57, 2,     0.02, 2,     0.36, 2,    2.865, 2,    1.604, 2,    0.170, 4,   2091.1, 2,   2331.6, 2,    7.9398, 2,     25.00, -999.000, 9, -999.000,   -999.0, 9,   -999.0,  -999.00, 9,   -999.0,  15.8635, 26.2073,  15.8947, 2, 195.2, 2, 218.09, 2, 0.12, 0.04, 0.01, 0.01, -999, 9,  -999.00, 9, -999, -999, 9, -999
49NZ20031106, A10, 31, 1, 31, 12043, 2, 20031114, 1602, -30.0073, -30.9917, 4042,    250.2, 2,  14.7943, 2,  35.4241, 2,  35.4242, 2,    205.5, 1,    215.0, 2,     1.93, 2,     5.20, 2,     0.01, 2,     0.50, 2,    3.022, 6,    1.668, 6,    0.083, 4,   2099.1, 2,   2328.3, 2,    7.9105, 2,     25.00, -999.000, 9, -999.000,   -999.0, 9,   -999.0,  -999.00, 9,   -999.0,  14.7566, 26.3536,  14.7892, 2, 248.9, 2, 214.27, 2, 0.12, 0.05, 0.01, 0.01, -999, 9,  -999.00, 9, -999, -999, 9, -999
49NZ20031106, A10, 31, 1, 30, 12042, 2, 20031114, 1602, -30.0073, -30.9917, 4042,    301.3, 2,  13.9889, 2,  35.3377, 2,  35.3371, 2,    204.3, 1,    213.8, 2,     2.31, 2,     7.22, 2,     0.00, 2,     0.61, 2,    3.117, 2,    1.710, 2,    0.068, 4,   2106.0, 2,   2319.5, 2,    7.8907, 2,     25.00, -999.000, 9, -999.000,   -999.0, 9,   -999.0,  -999.00, 9,   -999.0,  13.9451, 26.4604,  13.9875, 2, 303.3, 2, 213.73, 2, 0.12, 0.05, 0.01, 0.01, -999, 9,  -999.00, 9, -999, -999, 9, -999
49NZ20031106, A10, 31, 1, 29, 12041, 2, 20031114, 1602, -30.0073, -30.9917, 4042,    401.0, 2,  12.6079, 2,  35.1520, 2,  35.1564, 2,    202.5, 1,    211.2, 2,     3.31, 2,    10.64, 2,     0.00, 2,     0.82, 2,    3.127, 2,    1.669, 2,    0.067, 4,   2117.3, 2,   2311.7, 2,    7.8534, 2,     25.00, -999.000, 9, -999.000,   -999.0, 9,   -999.0,  -999.00, 9,   -999.0,  12.5533, 26.6003,  12.6096, 2, 399.7, 2, 211.64, 2, 0.13, 0.06, 0.01, 0.01, -999, 9,  -999.00, 9, -999, -999, 9, -999
49NZ20031106, A10, 31, 1, 28, 12040, 2, 20031114, 1602, -30.0073, -30.9917, 4042,    500.3, 2,  10.6163, 2,  34.8859, 2,  34.8864, 2,    199.5, 1,    207.6, 2,     5.63, 2,    15.71, 2,     0.00, 2,     1.14, 2,    3.141, 2,    1.611, 2,    0.086, 4,   2132.1, 2,   2294.6, 2,    7.7963, 2,     25.00, -999.000, 9, -999.000,   -999.0, 9,   -999.0,  -999.00, 9,   -999.0,  10.5552, 26.7661,  10.6134, 2, 502.4, 2, 207.73, 2, 0.13, 0.08, 0.01, 0.01, -999, 9,  -999.00, 9, -999, -999, 9, -999
49NZ20031106, A10, 31, 1, 27, 12039, 2, 20031114, 1602, -30.0073, -30.9917, 4042,    601.2, 2,   8.7244, 2,  34.6575, 2,  34.6574, 2,    199.0, 1,    206.8, 2,     8.66, 2,    20.48, 2,     0.01, 2,     1.44, 2,    3.011, 2,    1.497, 2,    0.116, 4,   2147.6, 2,   2285.7, 2,    7.7430, 2,     25.00, -999.000, 9, -999.000,   -999.0, 9,   -999.0,  -999.00, 9,   -999.0,   8.6591, 26.9034,   8.7237, 2, 599.4, 2, 206.62, 2, 0.14, 0.09, 0.01, 0.01, -999, 9,  -999.00, 9, -999, -999, 9, -999
49NZ20031106, A10, 31, 1, 26, 12038, 2, 20031114, 1602, -30.0073, -30.9917, 4042,    701.6, 2,   6.8745, 2,  34.4636, 2,  34.4631, 2,    206.2, 1,    214.4, 2,    12.25, 2,    24.46, 2,     0.00, 2,     1.69, 2,    2.987, 2,    1.476, 2,    0.141, 4,   2158.1, 6,   2290.3, 2,    7.7040, 2,     25.00, -999.000, 9, -999.000,   -999.0, 9,   -999.0,  -999.00, 9,   -999.0,   6.8076, 27.0222,   6.8734, 2, 700.2, 2, 214.21, 2, 0.15, 0.1, 0.01, 0.01, -999, 9,  -999.00, 9, -999, -999, 9, -999
49NZ20031106, A10, 31, 1, 25, 12037, 2, 20031114, 1602, -30.0073, -30.9917, 4042,    801.8, 2,   5.3711, 2,  34.3418, 2,  34.3413, 2,    214.1, 1,    222.8, 2,    17.25, 2,    27.36, 2,     0.00, 2,     1.88, 2,    2.813, 2,    1.336, 2,    0.134, 4,   2168.7, 2,   2287.2, 6,    7.6779, 2,     25.00, -999.000, 9, -999.000,   -999.0, 9,   -999.0,  -999.00, 9,   -999.0,   5.3034, 27.1177,   5.3714, 2, 802, 2, 222, 2, 0.16, 0.11, 0.01, 0.01, -999, 9,  -999.00, 9, -999, -999, 9, -999
49NZ20031106, A10, 31, 1, 24, 12036, 2, 20031114, 1602, -30.0073, -30.9917, 4042,    900.0, 2,   4.4486, 2,  34.3002, 2,  34.2997, 2,    215.2, 1,    223.9, 2,    23.23, 2,    29.31, 2,     0.00, 2,     2.00, 2,    2.439, 2,    1.156, 2,    0.118, 4,   2179.7, 2,   2290.8, 2,    7.6587, 6,     25.00, -999.000, 9, -999.000,   -999.0, 9,   -999.0,  -999.00, 9,   -999.0,   4.3784, 27.1895,   4.4488, 2, 901.4, 2, 224.7, 2, 0.17, 0.11, 0.01, 0.02, -999, 9,  -999.00, 9, -999, -999, 9, -999
49NZ20031106, A10, 31, 1, 6, 12018, 9, 20031114, 1602, -30.0073, -30.9917, 4042,   1000.6, 2,   3.8544, 2,  34.3175, 2, -999.0000, 9,    207.0, 1,   -999.0, 9,  -999.00, 9,  -999.00, 9,  -999.00, 9,  -999.00, 9, -999.000, 9, -999.000, 9, -999.000, 9,   -999.0, 9,   -999.0, 9, -999.0000, 9,   -999.00, -999.000, 9, -999.000,   -999.0, 9,   -999.0,  -999.00, 9,   -999.0,   3.7801, 27.2656,   3.8547, 2, 1000.6, 2, 215.77, 2, -999, -999, -999, -999, -999, 9,  -999.00, 9, -999, -999, 9, -999
49NZ20031106, A10, 31, 1, 7, 12019, 9, 20031114, 1602, -30.0073, -30.9917, 4042,   1000.8, 2,   3.8550, 2,  34.3175, 2, -999.0000, 9,    207.1, 1,   -999.0, 9,  -999.00, 9,  -999.00, 9,  -999.00, 9,  -999.00, 9, -999.000, 9, -999.000, 9, -999.000, 9,   -999.0, 9,   -999.0, 9, -999.0000, 9,   -999.00, -999.000, 9, -999.000,   -999.0, 9,   -999.0,  -999.00, 9,   -999.0,   3.7807, 27.2655,   3.8550, 2, 1000.8, 2, 215.76, 2, -999, -999, -999, -999, -999, 9,  -999.00, 9, -999, -999, 9, -999
49NZ20031106, A10, 31, 1, 5, 12017, 9, 20031114, 1602, -30.0073, -30.9917, 4042,   1002.1, 2,   3.8535, 2,  34.3175, 2, -999.0000, 9,    207.1, 1,   -999.0, 9,  -999.00, 9,  -999.00, 9,  -999.00, 9,  -999.00, 9, -999.000, 9, -999.000, 9, -999.000, 9,   -999.0, 9,   -999.0, 9, -999.0000, 9,   -999.00, -999.000, 9, -999.000,   -999.0, 9,   -999.0,  -999.00, 9,   -999.0,   3.7791, 27.2658,   3.8537, 2, 1002, 2, 215.68, 2, -999, -999, -999, -999, -999, 9,  -999.00, 9, -999, -999, 9, -999
49NZ20031106, A10, 31, 1, 23, 12035, 2, 20031114, 1602, -30.0073, -30.9917, 4042,   1002.5, 2,   3.8525, 2,  34.3175, 2,  34.3179, 2,    207.0, 1,    215.4, 2,    31.32, 2,    30.94, 2,     0.00, 2,     2.12, 2,    1.834, 6,    0.869, 6,    0.082, 4,   2192.6, 2,   2289.6, 2,    7.6378, 2,     25.00, -999.000, 9, -999.000,   -999.0, 9,   -999.0,  -999.00, 9,   -999.0,   3.7781, 27.2661,   3.8526, 2, 1002.4, 2, 215.65, 2, 0.19, 0.12, 0.01, 0.02, -999, 9,  -999.00, 9, -999, -999, 9, -999
49NZ20031106, A10, 31, 1, 22, 12034, 2, 20031114, 1602, -30.0073, -30.9917, 4042,   1201.4, 2,   3.2174, 2,  34.4157, 2,  34.4165, 2,    189.3, 1,    196.1, 2,    45.74, 2,    32.61, 2,     0.00, 2,     2.24, 2,    0.852, 2,    0.407, 2,    0.030, 4,   2217.5, 2,   2305.5, 2,    7.6105, 2,     25.00, -999.000, 9, -999.000,   -999.0, 9,   -999.0,  -999.00, 9,   -999.0,   3.1321, 27.4067,   3.2175, 2, 1204.4, 2, 197.87, 2, 0.22, 0.12, 0.01, 0.02, -999, 9,  -999.00, 9, -999, -999, 9, -999
49NZ20031106, A10, 31, 1, 21, 12033, 2, 20031114, 1602, -30.0073, -30.9917, 4042,   1400.7, 2,   2.9726, 2,  34.5462, 2,  34.5464, 2,    181.3, 1,    188.6, 2,    53.61, 2,    31.98, 2,     0.00, 2,     2.20, 2,    0.320, 2,    0.154, 2,    0.009, 4,   2228.0, 2,   2322.3, 2,    7.6099, 2,     25.00, -999.000, 9, -999.000,   -999.0, 9,   -999.0,  -999.00, 9,   -999.0,   2.8733, 27.5347,   2.9725, 2, 1400.4, 2, 187.86, 2, 0.24, 0.12, 0.01, 0.02, -999, 9,  -999.00, 9, -999, -999, 9, -999
49NZ20031106, A10, 31, 1, 20, 12032, 2, 20031114, 1602, -30.0073, -30.9917, 4042,   1601.8, 2,   2.8627, 2,  34.6644, 2,  34.6645, 2,    186.6, 1,    196.4, 3,    54.43, 2,    30.25, 2,     0.00, 2,     2.07, 2,    0.089, 2,    0.047, 2,    0.000, 4,   2225.0, 2,   2329.8, 2,    7.6287, 2,     25.00, -999.000, 9, -999.000,   -999.0, 9,   -999.0,  -999.00, 9,   -999.0,   2.7477, 27.6402,   2.8627, 2, 1600.5, 2, 193.79, 2, 0.24, 0.12, 0.01, 0.02, -999, 9,  -999.00, 9, -999, -999, 9, -999
49NZ20031106, A10, 31, 1, 19, 12031, 2, 20031114, 1602, -30.0073, -30.9917, 4042,   1801.7, 2,   2.7985, 2,  34.7375, 2,  34.7373, 2,    196.1, 1,    204.1, 2,    52.57, 2,    28.30, 2,     0.00, 2,     1.93, 2,    0.031, 2,    0.019, 2,    0.000, 4,   2219.5, 2,   2328.4, 2,    7.6513, 2,     25.00, -999.000, 9, -999.000,   -999.0, 9,   -999.0,  -999.00, 9,   -999.0,   2.6671, 27.7057,   2.7985, 2, 1800.6, 2, 204.01, 2, 0.23, 0.11, 0.01, 0.01, -999, 9,  -999.00, 9, -999, -999, 9, -999
49NZ20031106, A10, 31, 1, 18, 12030, 2, 20031114, 1602, -30.0073, -30.9917, 4042,   2001.9, 2,   2.7691, 2,  34.7913, 2,  34.7912, 2,    206.5, 1,    215.0, 2,    49.22, 2,    26.53, 2,    -0.01, 2,     1.80, 2,    0.013, 2,    0.008, 2,    0.000, 4,   2209.5, 2,   2326.1, 2,    7.6742, 6,     25.00, -999.000, 9, -999.000,   -999.0, 9,   -999.0,  -999.00, 9,   -999.0,   2.6203, 27.7529,   2.7691, 2, 2001, 2, 215.44, 2, 0.23, 0.11, 0.01, 0.01, -999, 9,  -999.00, 9, -999, -999, 9, -999
49NZ20031106, A10, 31, 1, 17, 12029, 2, 20031114, 1602, -30.0073, -30.9917, 4042,   2202.3, 2,   2.7603, 2,  34.8384, 2,  34.8379, 2,    218.1, 1,    227.0, 2,    44.37, 2,    24.68, 2,     0.00, 2,     1.67, 2,    0.000, 2,    0.004, 2,    0.000, 4,   2199.0, 2,   2330.2, 2,    7.6966, 2,     25.00, -999.000, 9, -999.000,   -999.0, 9,   -999.0,  -999.00, 9,   -999.0,   2.5933, 27.7929,   2.7603, 2, 2202.4, 2, 225.81, 2, 0.22, 0.1, 0.01, 0.01, -999, 9,  -999.00, 9, -999, -999, 9, -999
49NZ20031106, A10, 31, 1, 16, 12028, 2, 20031114, 1602, -30.0073, -30.9917, 4042,   2401.1, 2,   2.7737, 2,  34.8685, 2,  34.8684, 2,    226.1, 1,    235.5, 2,    40.29, 2,    23.30, 2,     0.00, 2,     1.58, 2,    0.005, 2,    0.002, 2,    0.000, 4,   2190.6, 6,   2326.8, 2,    7.7137, 2,     25.00, -999.000, 9, -999.000,   -999.0, 9,   -999.0,  -999.00, 9,   -999.0,   2.5877, 27.8175,   2.7737, 2, 2400.5, 2, 235.53, 2, 0.21, 0.1, 0.01, 0.01, -999, 9,  -999.00, 9, -999, -999, 9, -999
49NZ20031106, A10, 31, 1, 15, 12027, 2, 20031114, 1602, -30.0073, -30.9917, 4042,   2600.5, 2,   2.7670, 2,  34.8858, 2,  34.8859, 2,    231.2, 1,    240.7, 2,    38.16, 2,    22.50, 2,    -0.01, 2,     1.52, 2,    0.000, 2,    0.000, 2,    0.000, 4,   2186.3, 2,   2327.0, 6,    7.7234, 2,     25.00, -999.000, 9, -999.000,   -999.0, 9,   -999.0,  -999.00, 9,   -999.0,   2.5618, 27.8335,   2.7671, 2, 2600.3, 2, 240.57, 2, 0.2, 0.1, 0.01, 0.01, -999, 9,  -999.00, 9, -999, -999, 9, -999
49NZ20031106, A10, 31, 1, 14, 12026, 2, 20031114, 1602, -30.0073, -30.9917, 4042,   2799.6, 2,   2.7224, 2,  34.8953, 2,  34.8953, 2,    234.8, 1,    244.3, 2,    37.59, 2,    21.84, 2,     0.00, 2,     1.50, 2,    0.000, 2,    0.000, 2,    0.000, 4,   2186.2, 2,   2331.1, 2,    7.7281, 6,     25.00, -999.000, 9, -999.000,   -999.0, 9,   -999.0,  -999.00, 9,   -999.0,   2.4983, 27.8467,   2.7225, 2, 2799.4, 2, 244.15, 2, 0.2, 0.09, 0.01, 0.01, -999, 9,  -999.00, 9, -999, -999, 9, -999
49NZ20031106, A10, 31, 1, 13, 12025, 2, 20031114, 1602, -30.0073, -30.9917, 4042,   3000.8, 2,   2.6251, 2,  34.8942, 2,  34.8943, 2,    236.3, 1,    245.7, 2,    39.73, 2,    22.08, 2,     0.00, 2,     1.50, 2,    0.006, 2,    0.003, 2,    0.000, 4,   2187.4, 2,   2333.2, 2,    7.7284, 2,     25.00, -999.000, 9, -999.000,   -999.0, 9,   -999.0,  -999.00, 9,   -999.0,   2.3826, 27.8555,   2.6252, 2, 3000.9, 2, 245.51, 2, 0.21, 0.09, 0.01, 0.01, -999, 9,  -999.00, 9, -999, -999, 9, -999
49NZ20031106, A10, 31, 1, 12, 12024, 2, 20031114, 1602, -30.0073, -30.9917, 4042,   3250.3, 2,   2.4199, 2,  34.8807, 2,  34.8807, 2,    236.0, 1,    244.8, 2,    45.86, 2,    22.63, 2,     0.00, 2,     1.54, 2,    0.002, 2,    0.004, 2,    0.000, 4,   2192.1, 2,   2332.6, 2,    7.7232, 2,     25.00, -999.000, 9, -999.000,   -999.0, 9,   -999.0,  -999.00, 9,   -999.0,   2.1562, 27.8636,   2.4200, 2, 3250.6, 2, 245.09, 2, 0.22, 0.1, 0.01, 0.01, -999, 9,  -999.00, 9, -999, -999, 9, -999
49NZ20031106, A10, 31, 1, 11, 12023, 2, 20031114, 1602, -30.0073, -30.9917, 4042,   3501.1, 2,   2.1002, 2,  34.8504, 2,  34.8500, 2,    232.3, 1,    240.1, 2,    57.76, 2,    24.15, 2,     0.00, 2,     1.64, 2,    0.016, 2,    0.012, 2,    0.000, 4,   2205.0, 2,   2339.1, 2,    7.7093, 2,     25.00, -999.000, 9, -999.000,   -999.0, 9,   -999.0,  -999.00, 9,   -999.0,   1.8179, 27.8664,   2.1002, 2, 3501.2, 2, 240.31, 2, 0.25, 0.1, 0.01, 0.01, -999, 9,  -999.00, 9, -999, -999, 9, -999
49NZ20031106, A10, 31, 1, 2, 12014, 2, 20031114, 1602, -30.0073, -30.9917, 4042,   3751.7, 2,   1.7467, 2,  34.8115, 2,  34.8116, 2,    226.2, 1,    233.1, 2,    72.97, 2,    26.32, 2,     0.01, 2,     1.80, 2,    0.028, 2,    0.015, 2,    0.000, 4,   2220.7, 2,   2346.8, 2,    7.6869, 2,     25.00, -999.000, 9, -999.000,   -999.0, 9,   -999.0,  -999.00, 9,   -999.0,   1.4471, 27.8631,   1.7455, 2, 3751.7, 2, 233.15, 2, 0.28, 0.11, 0.01, 0.01, -999, 9,  -999.00, 9, -999, -999, 9, -999
49NZ20031106, A10, 31, 1, 10, 12022, 2, 20031114, 1602, -30.0073, -30.9917, 4042,   3751.8, 2,   1.7460, 2,  34.8115, 2,  34.8110, 2,    226.3, 1,    233.2, 2,    72.82, 2,    26.22, 2,     0.00, 2,     1.79, 2,    0.027, 2,    0.015, 2,    0.000, 4,   2218.9, 2,   2347.1, 2,    7.6883, 2,     25.00, -999.000, 9, -999.000,   -999.0, 9,   -999.0,  -999.00, 9,   -999.0,   1.4464, 27.8631,   1.7459, 2, 3751.9, 2, 233.16, 2, 0.28, 0.11, 0.01, 0.01, -999, 9,  -999.00, 9, -999, -999, 9, -999
49NZ20031106, A10, 31, 1, 8, 12020, 9, 20031114, 1602, -30.0073, -30.9917, 4042,   3851.4, 2,   1.5980, 2,  34.7950, 2, -999.0000, 9,    223.8, 1,   -999.0, 9,  -999.00, 9,  -999.00, 9,  -999.00, 9,  -999.00, 9, -999.000, 9, -999.000, 9, -999.000, 9,   -999.0, 9,   -999.0, 9, -999.0000, 9,   -999.00, -999.000, 9, -999.000,   -999.0, 9,   -999.0,  -999.00, 9,   -999.0,   1.2918, 27.861,   1.5979, 2, 3851.3, 2, 229.6, 2, -999, -999, -999, -999, -999, 9,  -999.00, 9, -999, -999, 9, -999
49NZ20031106, A10, 31, 1, 9, 12015, 2, 20031114, 1602, -30.0073, -30.9917, 4042,   4082.4, 2,   1.1373, 2,  34.7460, 2,  34.7462, 2,    217.8, 1,    222.3, 2,    97.59, 2,    29.59, 2,     0.00, 2,     2.04, 2,    0.096, 2,    0.045, 2,    0.000, 4,   2244.0, 2,   2352.5, 2,    7.6532, 2,     25.00, -999.000, 9, -999.000,   -999.0, 9,   -999.0,  -999.00, 9,   -999.0,   0.8194, 27.8538,   1.1374, 2, 4082.5, 2, 221.25, 2, 0.33, 0.12, 0.01, 0.02, -999, 9,  -999.00, 9, -999, -999, 9, -999