BOTTLE,20220818CCHSIOAMB
EXPOCODE,SECT_ID,STNNBR,CASTNO,SAMPNO,BTLNBR,BTLNBR_FLAG_W,DATE,TIME,LATITUDE,LONGITUDE,DEPTH,CTDPRS,CTDPRS_FLAG_W,CTDTMP,CTDTMP_FLAG_W,CTDSAL,CTDSAL_FLAG_W,SALNTY,SALNTY_FLAG_W,CTDOXY,CTDOXY_FLAG_W,OXYGEN,OXYGEN_FLAG_W,SILCAT,SILCAT_FLAG_W,NITRAT,NITRAT_FLAG_W,NITRIT,NITRIT_FLAG_W,PHSPHT,PHSPHT_FLAG_W,CFC-11,CFC-11_FLAG_W,CFC-12,CFC-12_FLAG_W,CFC113,CFC113_FLAG_W,TCARBN,TCARBN_FLAG_W,ALKALI,ALKALI_FLAG_W,PH_TOT,PH_TOT_FLAG_W,PH_TMP,TRITUM,TRITUM_FLAG_W,TRITER,DELC14,DELC14_FLAG_W,C14ERR,DELC13,DELC13_FLAG_W,C13ERR,THETA,SIG0,SBE35,SBE35_FLAG_W,DWNPRS,DWNPRS_FLAG_W,DWNOXY,DWNOXY_FLAG_W,SILUNC,NRAUNC,NRIUNC,PHPUNC,TOC,TOC_FLAG_W,CS-137,CS-137_FLAG_W,CS137ER,PLUTO,PLUTO_FLAG_W,PLUTOER
,,,,,,,,,,,METERS,DBAR,,ITS-90,,PSS-78,,PSS-78,,UMOL/KG,,UMOL/KG,,UMOL/KG,,UMOL/KG,,UMOL/KG,,UMOL/KG,,PMOL/KG,,PMOL/KG,,PMOL/KG,,UMOL/KG,,UMOL/KG,,,,DEG C,TU,,TU,/MILLE,,/MILLE,/MILLE,,/MILLE,DEG C,KG/M^3,ITS-90,,DBAR,,UMOL/KG,,UMOL/KG,UMOL/KG,UMOL/KG,UMOL/KG,UMOL/KG,,BQ/M^3,,BQ/M^3,MBQ/M^3,,MBQ/M^3
49NZ20031106, A10, 627, 1, 36, 12048, 2, 20031107, 2329, -27.9503, -46.4887, 1684,     10.6, 2,  22.4861, 2,  36.1824, 2,  36.1890, 2,    205.1, 1,    216.3, 2,     1.16, 2,     0.06, 2,     0.00, 2,     0.12, 2,    2.107, 2,    1.176, 2,    0.365, 4,   2055.5, 2,   2379.9, 2,    8.0559, 2,     25.00, -999.000, 9, -999.000,   -999.0, 9,   -999.0,  -999.00, 9,   -999.0,  22.4840, 24.9827,  22.4874, 2, 8.1, 2, 216.52, 2, 0.12, 0.03, 0.01, 0.02, -999, 9,  -999.00, 9, -999, -999, 9, -999
49NZ20031106, A10, 627, 1, 35, 12047, 2, 20031107, 2329, -27.9503, -46.4887, 1684,     50.4, 2,  22.5704, 2,  36.5863, 2,  36.5614, 3,    204.5, 1,    216.5, 2,     1.12, 2,     0.03, 2,     0.01, 2,     0.11, 2,    2.069, 2,    1.139, 2,    0.321, 4,   2071.5, 6,   2400.8, 2,    8.0583, 2,     25.00, -999.000, 9, -999.000,   -999.0, 9,   -999.0,  -999.00, 9,   -999.0,  22.5602, 25.3025,  22.5558, 2, 52.2, 2, 216.02, 2, 0.12, 0.03, 0.01, 0.02, -999, 9,  -999.00, 9, -999, -999, 9, -999
49NZ20031106, A10, 627, 1, 34, 12046, 2, 20031107, 2329, -27.9503, -46.4887, 1684,     99.8, 2,  19.2856, 2,  36.2227, 2,  36.2180, 2,    190.2, 1,    199.2, 2,     1.60, 2,     2.23, 2,     0.08, 2,     0.27, 2,    2.328, 2,    1.291, 2,    0.115, 4,   2096.8, 2,   2371.8, 6,    7.9810, 2,     25.00, -999.000, 9, -999.000,   -999.0, 9,   -999.0,  -999.00, 9,   -999.0,  19.2675, 25.8887,  19.2857, 2, 99, 2, 201.21, 2, 0.12, 0.04, 0.01, 0.01, -999, 9,  -999.00, 9, -999, -999, 9, -999
49NZ20031106, A10, 627, 1, 33, 12045, 2, 20031107, 2329, -27.9503, -46.4887, 1684,    150.2, 2,  16.3675, 2,  35.7128, 2,  35.7154, 2,    191.6, 1,    200.7, 2,     2.28, 2,     4.86, 2,     0.01, 2,     0.46, 2,    2.688, 2,    1.437, 2,    0.061, 4,   2103.3, 2,   2341.1, 2,    7.9297, 2,     25.00, -999.000, 9, -999.000,   -999.0, 9,   -999.0,  -999.00, 9,   -999.0,  16.3433, 26.2191,  16.3656, 2, 149.2, 2, 200.03, 2, 0.12, 0.05, 0.01, 0.01, -999, 9,  -999.00, 9, -999, -999, 9, -999
49NZ20031106, A10, 627, 1, 32, 12044, 2, 20031107, 2329, -27.9503, -46.4887, 1684,    201.5, 2,  14.6665, 2,  35.4423, 2,  35.4432, 2,    195.1, 1,    203.7, 2,     2.65, 2,     7.09, 2,     0.01, 2,     0.59, 2,    2.906, 2,    1.529, 2,    0.044, 4,   2105.6, 2,   2329.1, 2,    7.8935, 2,     25.00, -999.000, 9, -999.000,   -999.0, 9,   -999.0,  -999.00, 9,   -999.0,  14.6363, 26.3928,  14.6671, 2, 202.6, 2, 202.68, 2, 0.12, 0.05, 0.01, 0.01, -999, 9,  -999.00, 9, -999, -999, 9, -999
49NZ20031106, A10, 627, 1, 31, 12043, 2, 20031107, 2329, -27.9503, -46.4887, 1684,    250.5, 2,  13.7751, 2,  35.3251, 2,  35.3248, 2,    196.7, 1,    205.4, 2,     3.10, 2,     8.86, 2,     0.00, 2,     0.69, 2,    2.942, 6,    1.522, 6,    0.052, 4,   2112.0, 2,   2324.3, 2,    7.8766, 2,     25.00, -999.000, 9, -999.000,   -999.0, 9,   -999.0,  -999.00, 9,   -999.0,  13.7391, 26.4933,  13.7749, 2, 253.7, 2, 204.38, 2, 0.13, 0.06, 0.01, 0.01, -999, 9,  -999.00, 9, -999, -999, 9, -999
49NZ20031106, A10, 627, 1, 30, 12042, 2, 20031107, 2329, -27.9503, -46.4887, 1684,    300.5, 2,  12.7862, 2,  35.1805, 2,  35.1813, 2,    195.6, 1,    203.7, 2,     3.90, 2,    11.08, 2,     0.01, 2,     0.83, 2,    3.002, 2,    1.525, 2,    0.051, 4,   2118.4, 2,   2312.5, 2,    7.8467, 2,     25.00, -999.000, 9, -999.000,   -999.0, 9,   -999.0,  -999.00, 9,   -999.0,  12.7451, 26.5833,  12.7874, 2, 301.9, 2, 204.13, 2, 0.13, 0.06, 0.01, 0.01, -999, 9,  -999.00, 9, -999, -999, 9, -999
49NZ20031106, A10, 627, 1, 29, 12041, 2, 20031107, 2329, -27.9503, -46.4887, 1684,    400.4, 2,  10.8103, 2,  34.9152, 2,  34.9144, 2,    194.9, 1,    202.3, 2,     6.04, 2,    15.83, 2,     0.00, 2,     1.13, 2,    2.892, 2,    1.411, 2,    0.066, 4,   2132.9, 2,   2299.9, 2,    7.7888, 2,     25.00, -999.000, 9, -999.000,   -999.0, 9,   -999.0,  -999.00, 9,   -999.0,  10.7611, 26.7513,  10.8105, 2, 401.6, 2, 202.58, 2, 0.13, 0.08, 0.01, 0.01, -999, 9,  -999.00, 9, -999, -999, 9, -999
49NZ20031106, A10, 627, 1, 28, 12040, 2, 20031107, 2329, -27.9503, -46.4887, 1684,    498.7, 2,   8.9602, 2,  34.6906, 2,  34.6937, 2,    195.5, 1,    202.6, 2,     8.77, 2,    20.18, 2,     0.00, 2,     1.41, 2,    2.679, 2,    1.295, 2,    0.085, 4,   2146.9, 2,   2291.7, 2,    7.7379, 2,     25.00, -999.000, 9, -999.000,   -999.0, 9,   -999.0,  -999.00, 9,   -999.0,   8.9054, 26.8902,   8.9599, 2, 499.6, 2, 202.11, 2, 0.14, 0.09, 0.01, 0.01, -999, 9,  -999.00, 9, -999, -999, 9, -999
49NZ20031106, A10, 627, 1, 27, 12039, 2, 20031107, 2329, -27.9503, -46.4887, 1684,    600.7, 2,   7.0044, 2,  34.4864, 2,  34.4858, 2,    201.9, 1,    208.3, 2,    13.02, 2,    24.62, 2,    -0.01, 2,     1.69, 2,    2.537, 2,    1.186, 2,    0.097, 4,   2160.2, 2,   2284.6, 2,    7.6918, 2,     25.00, -999.000, 9, -999.000,   -999.0, 9,   -999.0,  -999.00, 9,   -999.0,   6.9469, 27.0207,   7.0008, 2, 600.8, 2, 208.4, 2, 0.15, 0.1, 0.01, 0.01, -999, 9,  -999.00, 9, -999, -999, 9, -999
49NZ20031106, A10, 627, 1, 26, 12038, 2, 20031107, 2329, -27.9503, -46.4887, 1684,    701.6, 2,   5.6739, 2,  34.3742, 2,  34.3739, 2,    209.2, 1,    216.4, 2,    17.05, 2,    27.12, 2,    -0.01, 2,     1.85, 2,    2.416, 2,    1.106, 2,    0.101, 4,   2167.6, 6,   2285.3, 2,    7.6742, 2,     25.00, -999.000, 9, -999.000,   -999.0, 9,   -999.0,  -999.00, 9,   -999.0,   5.6135, 27.1049,   5.6775, 2, 703.1, 2, 216.29, 2, 0.16, 0.11, 0.01, 0.01, -999, 9,  -999.00, 9, -999, -999, 9, -999
49NZ20031106, A10, 627, 1, 25, 12037, 2, 20031107, 2329, -27.9503, -46.4887, 1684,    801.4, 2,   4.7157, 2,  34.3288, 2,  34.3288, 2,    209.7, 1,    216.7, 2,    22.93, 2,    29.25, 2,     0.00, 2,     2.00, 2,    2.004, 2,    0.914, 2,    0.088, 4,   2178.7, 2,   2288.3, 6,    7.6508, 2,     25.00, -999.000, 9, -999.000,   -999.0, 9,   -999.0,  -999.00, 9,   -999.0,   4.6521, 27.18,   4.7240, 2, 804.3, 2, 216.62, 2, 0.17, 0.11, 0.01, 0.02, -999, 9,  -999.00, 9, -999, -999, 9, -999
49NZ20031106, A10, 627, 1, 24, 12036, 2, 20031107, 2329, -27.9503, -46.4887, 1684,    903.3, 2,   4.1824, 2,  34.3382, 2,  34.3383, 2,    202.5, 1,    208.9, 2,    29.51, 2,    30.75, 2,     0.00, 2,     2.10, 2,    1.437, 2,    0.661, 2,    0.059, 4,   2190.6, 2,   2297.1, 2,    7.6364, 6,     25.00, -999.000, 9, -999.000,   -999.0, 9,   -999.0,  -999.00, 9,   -999.0,   4.1137, 27.2468,   4.1830, 2, 904, 2, 209.2, 2, 0.18, 0.12, 0.01, 0.02, -999, 9,  -999.00, 9, -999, -999, 9, -999
49NZ20031106, A10, 627, 1, 6, 12018, 9, 20031107, 2329, -27.9503, -46.4887, 1684,   1000.0, 2,   3.7707, 2,  34.3690, 2, -999.0000, 9,    194.9, 1,   -999.0, 9,  -999.00, 9,  -999.00, 9,  -999.00, 9,  -999.00, 9, -999.000, 9, -999.000, 9, -999.000, 9,   -999.0, 9,   -999.0, 9, -999.0000, 9,   -999.00, -999.000, 9, -999.000,   -999.0, 9,   -999.0,  -999.00, 9,   -999.0,   3.6970, 27.3143,   3.7696, 2, 1001.7, 2, 201.84, 2, -999, -999, -999, -999, -999, 9,  -999.00, 9, -999, -999, 9, -999
49NZ20031106, A10, 627, 1, 4, 12016, 9, 20031107, 2329, -27.9503, -46.4887, 1684,   1000.1, 2,   3.7673, 2,  34.3699, 2, -999.0000, 9,    194.9, 1,   -999.0, 9,  -999.00, 9,  -999.00, 9,  -999.00, 9,  -999.00, 9, -999.000, 9, -999.000, 9, -999.000, 9,   -999.0, 9,   -999.0, 9, -999.0000, 9,   -999.00, -999.000, 9, -999.000,   -999.0, 9,   -999.0,  -999.00, 9,   -999.0,   3.6937, 27.3152,   3.7671, 2, 1002, 2, 201.77, 2, -999, -999, -999, -999, -999, 9,  -999.00, 9, -999, -999, 9, -999
49NZ20031106, A10, 627, 1, 5, 12017, 9, 20031107, 2329, -27.9503, -46.4887, 1684,   1000.2, 2,   3.7671, 2,  34.3698, 2, -999.0000, 9,    195.0, 1,   -999.0, 9,  -999.00, 9,  -999.00, 9,  -999.00, 9,  -999.00, 9, -999.000, 9, -999.000, 9, -999.000, 9,   -999.0, 9,   -999.0, 9, -999.0000, 9,   -999.00, -999.000, 9, -999.000,   -999.0, 9,   -999.0,  -999.00, 9,   -999.0,   3.6934, 27.3151,   3.7673, 2, 1002.1, 2, 201.76, 2, -999, -999, -999, -999, -999, 9,  -999.00, 9, -999, -999, 9, -999
49NZ20031106, A10, 627, 1, 2, 12014, 9, 20031107, 2329, -27.9503, -46.4887, 1684,   1000.3, 2,   3.7672, 2,  34.3700, 2, -999.0000, 9,    194.9, 1,   -999.0, 9,  -999.00, 9,  -999.00, 9,  -999.00, 9,  -999.00, 9, -999.000, 9, -999.000, 9, -999.000, 9,   -999.0, 9,   -999.0, 9, -999.0000, 9,   -999.00, -999.000, 9, -999.000,   -999.0, 9,   -999.0,  -999.00, 9,   -999.0,   3.6935, 27.3152,   3.7667, 2, 1002.2, 2, 201.75, 2, -999, -999, -999, -999, -999, 9,  -999.00, 9, -999, -999, 9, -999
49NZ20031106, A10, 627, 1, 15, 12027, 9, 20031107, 2329, -27.9503, -46.4887, 1684,   1000.4, 2,   3.7726, 2,  34.3689, 2, -999.0000, 9,    195.2, 1,   -999.0, 9,  -999.00, 9,  -999.00, 9,  -999.00, 9,  -999.00, 9, -999.000, 9, -999.000, 9, -999.000, 9,   -999.0, 9,   -999.0, 9, -999.0000, 9,   -999.00, -999.000, 9, -999.000,   -999.0, 9,   -999.0,  -999.00, 9,   -999.0,   3.6989, 27.3138,   3.7724, 2, 1002, 2, 201.77, 2, -999, -999, -999, -999, -999, 9,  -999.00, 9, -999, -999, 9, -999
49NZ20031106, A10, 627, 1, 3, 12012, 9, 20031107, 2329, -27.9503, -46.4887, 1684,   1000.4, 2,   3.7673, 2,  34.3700, 2, -999.0000, 9,    195.0, 1,   -999.0, 9,  -999.00, 9,  -999.00, 9,  -999.00, 9,  -999.00, 9, -999.000, 9, -999.000, 9, -999.000, 9,   -999.0, 9,   -999.0, 9, -999.0000, 9,   -999.00, -999.000, 9, -999.000,   -999.0, 9,   -999.0,  -999.00, 9,   -999.0,   3.6936, 27.3152,   3.7670, 2, 1002.3, 2, 201.73, 2, -999, -999, -999, -999, -999, 9,  -999.00, 9, -999, -999, 9, -999
49NZ20031106, A10, 627, 1, 13, 12025, 9, 20031107, 2329, -27.9503, -46.4887, 1684,   1000.5, 2,   3.7709, 2,  34.3693, 2, -999.0000, 9,    195.1, 1,   -999.0, 9,  -999.00, 9,  -999.00, 9,  -999.00, 9,  -999.00, 9, -999.000, 9, -999.000, 9, -999.000, 9,   -999.0, 9,   -999.0, 9, -999.0000, 9,   -999.00, -999.000, 9, -999.000,   -999.0, 9,   -999.0,  -999.00, 9,   -999.0,   3.6972, 27.3143,   3.7702, 2, 1002.2, 2, 201.75, 2, -999, -999, -999, -999, -999, 9,  -999.00, 9, -999, -999, 9, -999
49NZ20031106, A10, 627, 1, 8, 12020, 9, 20031107, 2329, -27.9503, -46.4887, 1684,   1000.5, 2,   3.7690, 2,  34.3697, 2, -999.0000, 9,    195.1, 1,   -999.0, 9,  -999.00, 9,  -999.00, 9,  -999.00, 9,  -999.00, 9, -999.000, 9, -999.000, 9, -999.000, 9,   -999.0, 9,   -999.0, 9, -999.0000, 9,   -999.00, -999.000, 9, -999.000,   -999.0, 9,   -999.0,  -999.00, 9,   -999.0,   3.6953, 27.3145,   3.7688, 2, 1002.3, 2, 201.73, 2, -999, -999, -999, -999, -999, 9,  -999.00, 9, -999, -999, 9, -999
49NZ20031106, A10, 627, 1, 17, 12029, 9, 20031107, 2329, -27.9503, -46.4887, 1684,   1000.6, 2,   3.7756, 2,  34.3682, 2, -999.0000, 9,    195.3, 1,   -999.0, 9,  -999.00, 9,  -999.00, 9,  -999.00, 9,  -999.00, 9, -999.000, 9, -999.000, 9, -999.000, 9,   -999.0, 9,   -999.0, 9, -999.0000, 9,   -999.00, -999.000, 9, -999.000,   -999.0, 9,   -999.0,  -999.00, 9,   -999.0,   3.7019, 27.3131,   3.7751, 2, 1002, 2, 201.77, 2, -999, -999, -999, -999, -999, 9,  -999.00, 9, -999, -999, 9, -999
49NZ20031106, A10, 627, 1, 16, 12028, 9, 20031107, 2329, -27.9503, -46.4887, 1684,   1000.6, 2,   3.7730, 2,  34.3688, 2, -999.0000, 9,    195.4, 1,   -999.0, 9,  -999.00, 9,  -999.00, 9,  -999.00, 9,  -999.00, 9, -999.000, 9, -999.000, 9, -999.000, 9,   -999.0, 9,   -999.0, 9, -999.0000, 9,   -999.00, -999.000, 9, -999.000,   -999.0, 9,   -999.0,  -999.00, 9,   -999.0,   3.6993, 27.3133,   3.7738, 2, 1002.1, 2, 201.76, 2, -999, -999, -999, -999, -999, 9,  -999.00, 9, -999, -999, 9, -999
49NZ20031106, A10, 627, 1, 12, 12024, 9, 20031107, 2329, -27.9503, -46.4887, 1684,   1000.6, 2,   3.7695, 2,  34.3696, 2, -999.0000, 9,    195.2, 1,   -999.0, 9,  -999.00, 9,  -999.00, 9,  -999.00, 9,  -999.00, 9, -999.000, 9, -999.000, 9, -999.000, 9,   -999.0, 9,   -999.0, 9, -999.0000, 9,   -999.00, -999.000, 9, -999.000,   -999.0, 9,   -999.0,  -999.00, 9,   -999.0,   3.6958, 27.3147,   3.7687, 2, 1002.3, 2, 201.72, 2, -999, -999, -999, -999, -999, 9,  -999.00, 9, -999, -999, 9, -999
49NZ20031106, A10, 627, 1, 11, 12023, 9, 20031107, 2329, -27.9503, -46.4887, 1684,   1000.6, 2,   3.7705, 2,  34.3694, 2, -999.0000, 9,    195.2, 1,   -999.0, 9,  -999.00, 9,  -999.00, 9,  -999.00, 9,  -999.00, 9, -999.000, 9, -999.000, 9, -999.000, 9,   -999.0, 9,   -999.0, 9, -999.0000, 9,   -999.00, -999.000, 9, -999.000,   -999.0, 9,   -999.0,  -999.00, 9,   -999.0,   3.6968, 27.3144,   3.7693, 2, 1002.3, 2, 201.73, 2, -999, -999, -999, -999, -999, 9,  -999.00, 9, -999, -999, 9, -999
49NZ20031106, A10, 627, 1, 10, 12022, 9, 20031107, 2329, -27.9503, -46.4887, 1684,   1000.6, 2,   3.7696, 2,  34.3696, 2, -999.0000, 9,    195.0, 1,   -999.0, 9,  -999.00, 9,  -999.00, 9,  -999.00, 9,  -999.00, 9, -999.000, 9, -999.000, 9, -999.000, 9,   -999.0, 9,   -999.0, 9, -999.0000, 9,   -999.00, -999.000, 9, -999.000,   -999.0, 9,   -999.0,  -999.00, 9,   -999.0,   3.6959, 27.3146,   3.7692, 2, 1002.3, 2, 201.72, 2, -999, -999, -999, -999, -999, 9,  -999.00, 9, -999, -999, 9, -999
49NZ20031106, A10, 627, 1, 18, 12030, 9, 20031107, 2329, -27.9503, -46.4887, 1684,   1000.7, 2,   3.7773, 2,  34.3678, 2, -999.0000, 9,    195.4, 1,   -999.0, 9,  -999.00, 9,  -999.00, 9,  -999.00, 9,  -999.00, 9, -999.000, 9, -999.000, 9, -999.000, 9,   -999.0, 9,   -999.0, 9, -999.0000, 9,   -999.00, -999.000, 9, -999.000,   -999.0, 9,   -999.0,  -999.00, 9,   -999.0,   3.7035, 27.3125,   3.7773, 2, 1002, 2, 201.77, 2, -999, -999, -999, -999, -999, 9,  -999.00, 9, -999, -999, 9, -999
49NZ20031106, A10, 627, 1, 14, 12026, 9, 20031107, 2329, -27.9503, -46.4887, 1684,   1000.7, 2,   3.7730, 2,  34.3688, 2, -999.0000, 9,    195.1, 1,   -999.0, 9,  -999.00, 9,  -999.00, 9,  -999.00, 9,  -999.00, 9, -999.000, 9, -999.000, 9, -999.000, 9,   -999.0, 9,   -999.0, 9, -999.0000, 9,   -999.00, -999.000, 9, -999.000,   -999.0, 9,   -999.0,  -999.00, 9,   -999.0,   3.6993, 27.3136,   3.7713, 2, 1002.2, 2, 201.73, 2, -999, -999, -999, -999, -999, 9,  -999.00, 9, -999, -999, 9, -999
49NZ20031106, A10, 627, 1, 7, 12019, 9, 20031107, 2329, -27.9503, -46.4887, 1684,   1000.7, 2,   3.7687, 2,  34.3698, 2, -999.0000, 9,    195.1, 1,   -999.0, 9,  -999.00, 9,  -999.00, 9,  -999.00, 9,  -999.00, 9, -999.000, 9, -999.000, 9, -999.000, 9,   -999.0, 9,   -999.0, 9, -999.0000, 9,   -999.00, -999.000, 9, -999.000,   -999.0, 9,   -999.0,  -999.00, 9,   -999.0,   3.6950, 27.3148,   3.7683, 2, 1002.5, 2, 201.71, 2, -999, -999, -999, -999, -999, 9,  -999.00, 9, -999, -999, 9, -999
49NZ20031106, A10, 627, 1, 23, 12035, 2, 20031107, 2329, -27.9503, -46.4887, 1684,   1000.8, 2,   3.7654, 2,  34.3701, 2,  34.3695, 2,    194.8, 1,    201.0, 2,    36.31, 2,    31.86, 2,    -0.01, 2,     2.18, 2,    0.950, 6,    0.427, 6,    0.033, 4,   2203.0, 2,   2300.9, 2,    7.6218, 2,     25.00, -999.000, 9, -999.000,   -999.0, 9,   -999.0,  -999.00, 9,   -999.0,   3.6917, 27.3155,   3.7647, 2, 1002.7, 2, 201.67, 2, 0.2, 0.12, 0.01, 0.02, -999, 9,  -999.00, 9, -999, -999, 9, -999
49NZ20031106, A10, 627, 1, 9, 12015, 9, 20031107, 2329, -27.9503, -46.4887, 1684,   1000.9, 2,   3.7684, 2,  34.3698, 2, -999.0000, 9,    195.1, 1,   -999.0, 9,  -999.00, 9,  -999.00, 9,  -999.00, 9,  -999.00, 9, -999.000, 9, -999.000, 9, -999.000, 9,   -999.0, 9,   -999.0, 9, -999.0000, 9,   -999.00, -999.000, 9, -999.000,   -999.0, 9,   -999.0,  -999.00, 9,   -999.0,   3.6947, 27.3149,   3.7681, 2, 1002.6, 2, 201.67, 2, -999, -999, -999, -999, -999, 9,  -999.00, 9, -999, -999, 9, -999
49NZ20031106, A10, 627, 1, 1, 12013, 2, 20031107, 2329, -27.9503, -46.4887, 1684,   1200.4, 2,   3.3199, 2,  34.4510, 2,  34.4510, 2,    186.6, 1,    192.0, 2,    45.39, 2,    32.48, 2,     0.00, 2,     2.23, 2,    0.471, 2,    0.203, 2,    0.016, 4,   2216.1, 2,   2310.6, 2,    7.6109, 2,     25.00, -999.000, 9, -999.000,   -999.0, 9,   -999.0,  -999.00, 9,   -999.0,   3.2337, 27.4245,   3.3201, 2, 1201.4, 2, 192.48, 2, 0.22, 0.12, 0.01, 0.02, -999, 9,  -999.00, 9, -999, -999, 9, -999
49NZ20031106, A10, 627, 1, 21, 12033, 2, 20031107, 2329, -27.9503, -46.4887, 1684,   1402.3, 2,   3.1530, 2,  34.5643, 2,  34.5643, 2,    184.3, 1,    189.1, 2,    49.78, 2,    31.59, 2,    -0.01, 2,     2.17, 2, -999.000, 5, -999.000, 5, -999.000, 5,   2222.4, 2,   2320.2, 2,    7.6124, 2,     25.00, -999.000, 9, -999.000,   -999.0, 9,   -999.0,  -999.00, 9,   -999.0,   3.0516, 27.5319,   3.1516, 2, 1402.4, 2, 188.85, 2, 0.23, 0.12, 0.01, 0.02, -999, 9,  -999.00, 9, -999, -999, 9, -999
49NZ20031106, A10, 627, 1, 22, 12034, 2, 20031107, 2329, -27.9503, -46.4887, 1684,   1601.0, 2,   3.4278, 2,  34.7345, 2,  34.7344, 2,    195.0, 1,    200.0, 2,    41.50, 2,    28.15, 2,    -0.01, 2,     1.92, 2,    0.085, 2,    0.025, 2,    0.000, 4,   2209.2, 2,   2320.7, 2,    7.6491, 2,     25.00, -999.000, 9, -999.000,   -999.0, 9,   -999.0,  -999.00, 9,   -999.0,   3.3058, 27.6435,   3.4281, 2, 1601.2, 2, 199.32, 2, 0.21, 0.11, 0.01, 0.01, -999, 9,  -999.00, 9, -999, -999, 9, -999
49NZ20031106, A10, 627, 1, 20, 12032, 2, 20031107, 2329, -27.9503, -46.4887, 1684,   1601.2, 2,   3.4285, 2,  34.7344, 2,  34.7344, 2,    195.0, 1,    199.9, 2,    41.46, 2,    28.18, 2,     0.00, 2,     1.92, 2,    0.073, 2,    0.022, 2,    0.000, 4,   2209.4, 2,   2320.6, 2,    7.6433, 2,     25.00, -999.000, 9, -999.000,   -999.0, 9,   -999.0,  -999.00, 9,   -999.0,   3.3065, 27.6435,   3.4286, 2, 1601.3, 2, 199.31, 2, 0.21, 0.11, 0.01, 0.01, -999, 9,  -999.00, 9, -999, -999, 9, -999
49NZ20031106, A10, 627, 1, 19, 12031, 2, 20031107, 2329, -27.9503, -46.4887, 1684,   1687.9, 2,   3.4845, 2,  34.7754, 2,  34.7737, 2,    200.2, 1,    204.8, 2,    39.08, 2,    27.06, 2,    -0.01, 2,     1.83, 2,    0.072, 2,    0.017, 2,    0.000, 4,   2204.5, 2,   2320.1, 2,    7.6585, 2,     25.00, -999.000, 9, -999.000,   -999.0, 9,   -999.0,  -999.00, 9,   -999.0,   3.3540, 27.6716,   3.4832, 2, 1688, 2, 204.91, 2, 0.2, 0.11, 0.01, 0.01, -999, 9,  -999.00, 9, -999, -999, 9, -999