BOTTLE,20220818CCHSIOAMB
EXPOCODE,SECT_ID,STNNBR,CASTNO,SAMPNO,BTLNBR,BTLNBR_FLAG_W,DATE,TIME,LATITUDE,LONGITUDE,DEPTH,CTDPRS,CTDPRS_FLAG_W,CTDTMP,CTDTMP_FLAG_W,CTDSAL,CTDSAL_FLAG_W,SALNTY,SALNTY_FLAG_W,CTDOXY,CTDOXY_FLAG_W,OXYGEN,OXYGEN_FLAG_W,SILCAT,SILCAT_FLAG_W,NITRAT,NITRAT_FLAG_W,NITRIT,NITRIT_FLAG_W,PHSPHT,PHSPHT_FLAG_W,CFC-11,CFC-11_FLAG_W,CFC-12,CFC-12_FLAG_W,CFC113,CFC113_FLAG_W,TCARBN,TCARBN_FLAG_W,ALKALI,ALKALI_FLAG_W,PH_TOT,PH_TOT_FLAG_W,PH_TMP,TRITUM,TRITUM_FLAG_W,TRITER,DELC14,DELC14_FLAG_W,C14ERR,DELC13,DELC13_FLAG_W,C13ERR,THETA,SIG0,SBE35,SBE35_FLAG_W,DWNPRS,DWNPRS_FLAG_W,DWNOXY,DWNOXY_FLAG_W,SILUNC,NRAUNC,NRIUNC,PHPUNC,TOC,TOC_FLAG_W,CS-137,CS-137_FLAG_W,CS137ER,PLUTO,PLUTO_FLAG_W,PLUTOER
,,,,,,,,,,,METERS,DBAR,,ITS-90,,PSS-78,,PSS-78,,UMOL/KG,,UMOL/KG,,UMOL/KG,,UMOL/KG,,UMOL/KG,,UMOL/KG,,PMOL/KG,,PMOL/KG,,PMOL/KG,,UMOL/KG,,UMOL/KG,,,,DEG C,TU,,TU,/MILLE,,/MILLE,/MILLE,,/MILLE,DEG C,KG/M^3,ITS-90,,DBAR,,UMOL/KG,,UMOL/KG,UMOL/KG,UMOL/KG,UMOL/KG,UMOL/KG,,BQ/M^3,,BQ/M^3,MBQ/M^3,,MBQ/M^3
49NZ20031106, A10, X14, 1, 36, 12036, 2, 20031123, 32, -29.9917, -8.9953, 3917,      9.9, 2,  18.6937, 2,  35.7435, 2,  35.7432, 2,    223.7, 1,    236.5, 2,     1.28, 2,    -0.02, 2,     0.00, 2,     0.18, 2,    2.548, 2,    1.371, 2,    0.263, 4,   2069.9, 2,   2348.9, 2,    7.9879, 2,     25.00, -999.000, 9, -999.000,     80.1, 2,      4.1,     1.41, 2,      0.0,  18.6920, 25.6697,  18.6944, 2, 8.9, 2, 236.46, 2, 0.12, 0.03, 0.01, 0.02, -999, 1,  -999.00, 9, -999, -999, 9, -999
49NZ20031106, A10, X14, 1, 6, 12042, 9, 20031123, 32, -29.9917, -8.9953, 3917,     10.0, 2,  18.6926, 2,  35.7434, 2, -999.0000, 9,    223.5, 1,   -999.0, 9,  -999.00, 9,  -999.00, 9,  -999.00, 9,  -999.00, 9, -999.000, 9, -999.000, 9, -999.000, 9,   -999.0, 9,   -999.0, 9, -999.0000, 9,   -999.00, -999.000, 9, -999.000,   -999.0, 9,   -999.0,  -999.00, 9,   -999.0,  18.6908, 25.6698,  18.6930, 2, 9.2, 2, 236.51, 2, -999, -999, -999, -999, -999, 9,  -999.00, 9, -999, -999, 9, -999
49NZ20031106, A10, X14, 1, 35, 12035, 2, 20031123, 32, -29.9917, -8.9953, 3917,     49.7, 2,  18.5041, 2,  35.8037, 2,  35.8037, 2,    225.1, 1,    238.3, 2,     1.38, 2,    -0.05, 2,     0.00, 2,     0.19, 2,    2.655, 2,    1.408, 2,    0.293, 4,   2070.3, 6,   2354.0, 2,    7.9940, 2,     25.00, -999.000, 9, -999.000,     69.3, 2,      4.0,     1.47, 2,      0.0,  18.4954, 25.7657,  18.5023, 2, 44.5, 2, 237.39, 2, 0.12, 0.03, 0.01, 0.02, -999, 1,  -999.00, 9, -999, -999, 9, -999
49NZ20031106, A10, X14, 1, 34, 12034, 2, 20031123, 32, -29.9917, -8.9953, 3917,    100.5, 2,  16.8983, 2,  35.6472, 2,  35.6558, 3,    231.2, 1,    243.8, 2,     1.30, 2,    -0.06, 2,     0.00, 2,     0.19, 2,    2.780, 2,    1.476, 2,    0.324, 4,   2064.8, 2,   2341.9, 6,    7.9869, 2,     25.00, -999.000, 9, -999.000,     89.1, 2,      4.0,     1.46, 2,      0.0,  16.8817, 26.0414,  16.8951, 2, 99.6, 2, 238.27, 2, 0.12, 0.03, 0.01, 0.02, -999, 1,  -999.00, 9, -999, -999, 9, -999
49NZ20031106, A10, X14, 1, 33, 12033, 2, 20031123, 32, -29.9917, -8.9953, 3917,    148.5, 2,  15.5917, 2,  35.4929, 2,  35.4933, 2,    214.8, 1,    226.7, 2,     1.75, 2,     2.63, 2,     0.06, 2,     0.38, 2,    2.933, 2,    1.566, 2,    0.208, 4,   2085.6, 2,   2329.5, 2,    7.9388, 2,     25.00, -999.000, 9, -999.000,     79.7, 2,      4.0,     1.25, 2,      0.0,  15.5686, 26.2269,  15.5919, 2, 144.4, 2, 224.71, 2, 0.12, 0.04, 0.01, 0.01, -999, 1,  -999.00, 9, -999, -999, 9, -999
49NZ20031106, A10, X14, 1, 32, 12032, 2, 20031123, 32, -29.9917, -8.9953, 3917,    198.9, 2,  14.1378, 2,  35.2896, 2,  35.2905, 2,    212.4, 1,    223.3, 2,     2.21, 2,     5.57, 2,     0.01, 2,     0.54, 2,    3.127, 2,    1.664, 2,    0.121, 4,   2095.5, 2,   2317.4, 2,    7.9040, 2,     25.00, -999.000, 9, -999.000,     81.4, 2,      4.0,     1.22, 6,      0.0,  14.1088, 26.3889,  14.1416, 2, 201.3, 2, 221.86, 2, 0.12, 0.05, 0.01, 0.01, -999, 1,  -999.00, 9, -999, -999, 9, -999
49NZ20031106, A10, X14, 1, 31, 12031, 2, 20031123, 32, -29.9917, -8.9953, 3917,    252.9, 2,  13.4268, 2,  35.2362, 2,  35.2365, 2,    206.5, 1,    216.8, 2,     2.74, 2,     7.95, 2,     0.01, 2,     0.67, 2,    3.253, 6,    1.681, 6,    0.074, 4,   2104.8, 2,   2319.7, 2,    7.8779, 2,     25.00, -999.000, 9, -999.000,     72.9, 2,      3.9,     1.17, 2,      0.0,  13.3911, 26.4979,  13.4260, 2, 257.5, 2, 217.55, 2, 0.13, 0.06, 0.01, 0.01, -999, 1,  -999.00, 9, -999, -999, 9, -999
49NZ20031106, A10, X14, 1, 30, 12030, 2, 20031123, 32, -29.9917, -8.9953, 3917,    300.6, 2,  12.6682, 2,  35.1327, 2,  35.1321, 2,    205.9, 1,    216.3, 2,     3.28, 2,     9.81, 2,     0.00, 2,     0.79, 2,    3.413, 2,    1.729, 2,    0.087, 4,   2110.4, 2,   2314.6, 2,    7.8565, 2,     25.00, -999.000, 9, -999.000,     76.6, 2,      4.1,     1.18, 2,      0.0,  12.6273, 26.571,  12.6689, 2, 304.3, 2, 216.4, 2, 0.13, 0.06, 0.01, 0.01, -999, 1,  -999.00, 9, -999, -999, 9, -999
49NZ20031106, A10, X14, 1, 29, 12029, 2, 20031123, 32, -29.9917, -8.9953, 3917,    400.4, 2,  11.1387, 2,  34.9330, 2,  34.9328, 2,    201.4, 1,    211.2, 2,     4.99, 2,    14.07, 2,     0.00, 2,     1.04, 2,    3.403, 2,    1.651, 2,    0.109, 4,   2125.8, 2,   2302.8, 2,    7.8101, 2,     25.00, -999.000, 9, -999.000,     64.5, 2,      4.1,     1.14, 2,      0.0,  11.0885, 26.7084,  11.1385, 2, 404.4, 2, 212.38, 2, 0.13, 0.07, 0.01, 0.01, -999, 1,  -999.00, 9, -999, -999, 9, -999
49NZ20031106, A10, X14, 1, 28, 12028, 2, 20031123, 32, -29.9917, -8.9953, 3917,    500.7, 2,   9.3771, 2,  34.7223, 2,  34.7233, 2,    196.4, 1,    204.9, 2,     7.98, 2,    19.04, 2,     0.00, 2,     1.35, 2,    3.325, 2,    1.592, 2,    0.129, 4,   2142.1, 2,   2294.3, 2,    7.7557, 2,     25.00, -999.000, 9, -999.000,     41.8, 2,      4.1,     1.11, 2,      0.0,   9.3206, 26.8499,   9.3706, 2, 503.6, 2, 204.79, 2, 0.14, 0.09, 0.01, 0.01, -999, 1,  -999.00, 9, -999, -999, 9, -999
49NZ20031106, A10, X14, 1, 27, 12027, 2, 20031123, 32, -29.9917, -8.9953, 3917,    600.4, 2,   7.6597, 2,  34.5403, 2,  34.5418, 2,    196.6, 1,    205.2, 2,    11.62, 2,    23.43, 2,     0.00, 2,     1.63, 2,    3.148, 2,    1.463, 2,    0.159, 4,   2155.4, 2,   2286.0, 2,    7.7099, 2,     25.00, -999.000, 9, -999.000,     23.5, 2,      4.0,     1.07, 2,      0.0,   7.5993, 26.9721,   7.6658, 2, 600.3, 2, 205.53, 2, 0.14, 0.1, 0.01, 0.01, -999, 1,  -999.00, 9, -999, -999, 9, -999
49NZ20031106, A10, X14, 1, 26, 12026, 2, 20031123, 32, -29.9917, -8.9953, 3917,    702.3, 2,   5.8360, 2,  34.3664, 2,  34.3680, 2,    210.8, 1,    220.1, 2,    15.21, 2,    26.64, 2,     0.00, 2,     1.84, 2,    3.172, 2,    1.439, 2,    0.162, 4,   2163.5, 6,   2281.3, 2,    7.6829, 2,     25.00, -999.000, 9, -999.000,     -3.1, 2,      3.9,     1.10, 2,      0.0,   5.7747, 27.0812,   5.8310, 2, 703.6, 2, 220.1, 2, 0.15, 0.11, 0.01, 0.01, -999, 1,  -999.00, 9, -999, -999, 9, -999
49NZ20031106, A10, X14, 1, 25, 12025, 2, 20031123, 32, -29.9917, -8.9953, 3917,    803.2, 2,   4.8477, 2,  34.3085, 2,  34.3086, 2,    214.0, 1,    223.9, 2,    20.25, 2,    28.76, 2,     0.00, 2,     1.98, 2,    2.921, 2,    1.303, 2,    0.141, 4,   2172.4, 2,   2286.8, 6,    7.6668, 2,     25.00, -999.000, 9, -999.000,    -21.6, 2,      3.6,     1.10, 2,      0.0,   4.7831, 27.1523,   4.8482, 2, 804.6, 2, 225.5, 2, 0.16, 0.11, 0.01, 0.02, -999, 1,  -999.00, 9, -999, -999, 9, -999
49NZ20031106, A10, X14, 1, 24, 12024, 2, 20031123, 32, -29.9917, -8.9953, 3917,    901.6, 2,   4.1558, 2,  34.3040, 2,  34.3037, 2,    209.8, 1,    219.3, 2,    27.26, 2,    30.46, 2,     0.00, 2,     2.09, 2,    2.328, 2,    1.039, 2,    0.118, 4,   2184.2, 2,   2290.1, 2,    7.6473, 6,     25.00, -999.000, 9, -999.000,    -51.3, 2,      3.8,     1.00, 2,      0.0,   4.0875, 27.224,   4.1563, 2, 904, 2, 221.42, 2, 0.18, 0.12, 0.01, 0.02, -999, 1,  -999.00, 9, -999, -999, 9, -999
49NZ20031106, A10, X14, 1, 3, 12039, 9, 20031123, 32, -29.9917, -8.9953, 3917,   1001.9, 2,   3.7392, 2,  34.3355, 2, -999.0000, 9,    200.4, 1,   -999.0, 9,  -999.00, 9,  -999.00, 9,  -999.00, 9,  -999.00, 9, -999.000, 9, -999.000, 9, -999.000, 9,   -999.0, 9,   -999.0, 9, -999.0000, 9,   -999.00, -999.000, 9, -999.000,   -999.0, 9,   -999.0,  -999.00, 9,   -999.0,   3.6657, 27.2922,   3.7385, 2, 1003.3, 2, 210.67, 2, -999, -999, -999, -999, -999, 9,  -999.00, 9, -999, -999, 9, -999
49NZ20031106, A10, X14, 1, 2, 12038, 9, 20031123, 32, -29.9917, -8.9953, 3917,   1002.0, 2,   3.7412, 2,  34.3354, 2, -999.0000, 9,    200.4, 1,   -999.0, 9,  -999.00, 9,  -999.00, 9,  -999.00, 9,  -999.00, 9, -999.000, 9, -999.000, 9, -999.000, 9,   -999.0, 9,   -999.0, 9, -999.0000, 9,   -999.00, -999.000, 9, -999.000,   -999.0, 9,   -999.0,  -999.00, 9,   -999.0,   3.6677, 27.2917,   3.7415, 2, 1003.3, 2, 210.66, 2, -999, -999, -999, -999, -999, 9,  -999.00, 9, -999, -999, 9, -999
49NZ20031106, A10, X14, 1, 5, 12041, 9, 20031123, 32, -29.9917, -8.9953, 3917,   1002.7, 2,   3.7326, 2,  34.3363, 2, -999.0000, 9,    200.2, 1,   -999.0, 9,  -999.00, 9,  -999.00, 9,  -999.00, 9,  -999.00, 9, -999.000, 9, -999.000, 9, -999.000, 9,   -999.0, 9,   -999.0, 9, -999.0000, 9,   -999.00, -999.000, 9, -999.000,   -999.0, 9,   -999.0,  -999.00, 9,   -999.0,   3.6591, 27.2932,   3.7333, 2, 1004.2, 2, 210.57, 2, -999, -999, -999, -999, -999, 9,  -999.00, 9, -999, -999, 9, -999
49NZ20031106, A10, X14, 1, 4, 12040, 9, 20031123, 32, -29.9917, -8.9953, 3917,   1002.9, 2,   3.7331, 2,  34.3363, 2, -999.0000, 9,    200.4, 1,   -999.0, 9,  -999.00, 9,  -999.00, 9,  -999.00, 9,  -999.00, 9, -999.000, 9, -999.000, 9, -999.000, 9,   -999.0, 9,   -999.0, 9, -999.0000, 9,   -999.00, -999.000, 9, -999.000,   -999.0, 9,   -999.0,  -999.00, 9,   -999.0,   3.6595, 27.2932,   3.7343, 2, 1004.4, 2, 210.57, 2, -999, -999, -999, -999, -999, 9,  -999.00, 9, -999, -999, 9, -999
49NZ20031106, A10, X14, 1, 23, 12023, 2, 20031123, 32, -29.9917, -8.9953, 3917,   1003.1, 2,   3.7260, 2,  34.3371, 2,  34.3361, 2,    200.2, 1,    209.4, 2,    34.90, 2,    31.68, 2,     0.00, 2,     2.18, 2,    1.741, 6,    0.777, 6,    0.089, 4,   2198.0, 2,   2295.1, 2,    7.6275, 2,     25.00, -999.000, 9, -999.000,    -56.5, 2,      3.7,     0.90, 2,      0.0,   3.6525, 27.2948,   3.7262, 2, 1004.8, 2, 210.54, 2, 0.2, 0.12, 0.01, 0.02, -999, 1,  -999.00, 9, -999, -999, 9, -999
49NZ20031106, A10, X14, 1, 22, 12022, 2, 20031123, 32, -29.9917, -8.9953, 3917,   1198.9, 2,   3.1999, 2,  34.4400, 2,  34.4400, 2,    183.3, 1,    191.7, 2,    48.74, 2,    33.05, 2,     0.00, 2,     2.28, 2,    0.818, 2,    0.361, 2,    0.031, 4,   2219.5, 2,   2308.6, 2,    7.6032, 2,     25.00, -999.000, 9, -999.000,   -105.4, 2,      3.6,     0.69, 2,      0.0,   3.1149, 27.4284,   3.1992, 2, 1198, 2, 191.77, 2, 0.23, 0.13, 0.01, 0.02, -999, 1,  -999.00, 9, -999, -999, 9, -999
49NZ20031106, A10, X14, 1, 21, 12015, 2, 20031123, 32, -29.9917, -8.9953, 3917,   1400.7, 2,   2.9720, 2,  34.5785, 2,  34.5785, 2,    177.9, 1,    185.6, 2,    55.51, 2,    32.21, 2,     0.00, 2,     2.22, 2,    0.264, 2,    0.113, 2,    0.010, 4,   2228.0, 2,   2323.0, 2,    7.6062, 2,     25.00, -999.000, 9, -999.000,   -116.7, 6,      5.7,     0.58, 6,      0.0,   2.8727, 27.5612,   2.9719, 2, 1401.9, 2, 185.51, 2, 0.24, 0.12, 0.01, 0.02, -999, 1,  -999.00, 9, -999, -999, 9, -999
49NZ20031106, A10, X14, 1, 20, 12020, 2, 20031123, 32, -29.9917, -8.9953, 3917,   1599.1, 2,   2.9072, 2,  34.6854, 2,  34.6849, 2,    184.9, 1,    193.0, 2,    54.48, 2,    30.27, 2,     0.00, 2,     2.08, 2,    0.093, 2,    0.042, 2,    0.000, 4,   2223.2, 2,   2324.9, 2,    7.6311, 2,     25.00, -999.000, 9, -999.000,   -109.9, 3,      3.5,     0.60, 2,      0.0,   2.7919, 27.6537,   2.9073, 2, 1599.2, 2, 192.58, 2, 0.24, 0.12, 0.01, 0.02, -999, 1,  -999.00, 9, -999, -999, 9, -999
49NZ20031106, A10, X14, 1, 19, 12019, 2, 20031123, 32, -29.9917, -8.9953, 3917,   1801.8, 2,   2.8176, 2,  34.7606, 2,  34.7606, 2,    196.1, 1,    204.6, 2,    52.34, 2,    28.14, 2,     0.00, 2,     1.92, 2, -999.000, 5, -999.000, 5, -999.000, 5,   2215.6, 2,   2329.5, 2,    7.6555, 2,     25.00, -999.000, 9, -999.000,   -123.0, 2,      3.3,     0.71, 2,      0.0,   2.6859, 27.7231,   2.8177, 2, 1802.6, 2, 203.58, 2, 0.23, 0.11, 0.01, 0.01, -999, 1,  -999.00, 9, -999, -999, 9, -999
49NZ20031106, A10, X14, 1, 18, 12018, 2, 20031123, 32, -29.9917, -8.9953, 3917,   2002.4, 2,   2.7032, 2,  34.8003, 2,  34.8005, 2,    205.3, 1,    214.5, 2,    51.57, 2,    26.67, 2,     0.00, 2,     1.83, 2,    0.016, 2,    0.008, 2,    0.000, 4,   2208.9, 2,   2329.3, 2,    7.6736, 6,     25.00, -999.000, 9, -999.000,   -124.1, 2,      3.6,     0.71, 2,      0.0,   2.5553, 27.7664,   2.7031, 2, 2003.2, 2, 213.55, 2, 0.23, 0.11, 0.01, 0.01, -999, 1,  -999.00, 9, -999, -999, 9, -999
49NZ20031106, A10, X14, 1, 17, 12017, 2, 20031123, 32, -29.9917, -8.9953, 3917,   2201.0, 2,   2.5939, 2,  34.8243, 2,  34.8247, 2,    212.3, 1,    221.8, 2,    51.40, 2,    25.76, 2,     0.00, 2,     1.75, 2,    0.012, 2,    0.004, 2,    0.000, 4,   2204.6, 2,   2329.5, 2,    7.6883, 2,     25.00, -999.000, 9, -999.000,   -121.0, 2,      3.4,     0.82, 2,      0.0,   2.4298, 27.7967,   2.5938, 2, 2201.8, 2, 220.67, 2, 0.23, 0.1, 0.01, 0.01, -999, 1,  -999.00, 9, -999, -999, 9, -999
49NZ20031106, A10, X14, 1, 16, 12016, 2, 20031123, 32, -29.9917, -8.9953, 3917,   2401.8, 2,   2.5087, 2,  34.8406, 2,  34.8407, 2,    217.7, 1,    227.6, 2,    51.04, 2,    25.03, 2,     0.00, 2,     1.71, 2,    0.001, 2,    0.003, 2,    0.000, 4,   2202.9, 6,   2331.7, 2,    7.6967, 2,     25.00, -999.000, 9, -999.000,   -114.4, 2,      3.5,     0.85, 2,      0.0,   2.3275, 27.8184,   2.5086, 2, 2401.9, 2, 227, 2, 0.23, 0.1, 0.01, 0.01, -999, 1,  -999.00, 9, -999, -999, 9, -999
49NZ20031106, A10, X14, 1, 15, 12012, 2, 20031123, 32, -29.9917, -8.9953, 3917,   2602.2, 2,   2.4570, 2,  34.8511, 2,  34.8513, 2,    221.9, 1,    231.6, 2,    50.68, 2,    24.51, 2,     0.00, 2,     1.68, 2,    0.002, 2,    0.002, 2,    0.000, 4,   2202.6, 2,   2334.6, 6,    7.7053, 2,     25.00, -999.000, 9, -999.000,   -107.8, 2,      3.6,     0.87, 2,      0.0,   2.2577, 27.8327,   2.4568, 2, 2602.2, 2, 231.05, 2, 0.23, 0.1, 0.01, 0.01, -999, 1,  -999.00, 9, -999, -999, 9, -999
49NZ20031106, A10, X14, 1, 14, 12014, 2, 20031123, 32, -29.9917, -8.9953, 3917,   2800.7, 2,   2.4188, 2,  34.8597, 2,  34.8601, 2,    224.9, 1,    234.8, 2,    50.25, 2,    24.18, 2,     0.00, 2,     1.65, 2,   -0.001, 2,    0.001, 2,    0.000, 4,   2200.0, 2,   2338.0, 2,    7.7115, 6,     25.00, -999.000, 9, -999.000,   -104.8, 2,      3.5,     0.87, 2,      0.0,   2.2009, 27.8442,   2.4189, 2, 2800.6, 2, 234.63, 2, 0.23, 0.1, 0.01, 0.01, -999, 1,  -999.00, 9, -999, -999, 9, -999
49NZ20031106, A10, X14, 1, 13, 12013, 2, 20031123, 32, -29.9917, -8.9953, 3917,   3002.3, 2,   2.3911, 2,  34.8659, 2,  34.8658, 2,    227.2, 1,    236.8, 2,    50.32, 2,    23.85, 2,     0.00, 2,     1.63, 2,    0.009, 2,    0.003, 2,    0.000, 4,   2199.9, 2,   2330.5, 2,    7.7156, 2,     25.00, -999.000, 9, -999.000,   -116.0, 2,      3.6,     0.90, 2,      0.0,   2.1536, 27.8529,   2.3913, 2, 3002.5, 2, 236.59, 2, 0.23, 0.1, 0.01, 0.01, -999, 1,  -999.00, 9, -999, -999, 9, -999
49NZ20031106, A10, X14, 1, 12, 12048, 2, 20031123, 32, -29.9917, -8.9953, 3917,   3250.9, 2,   2.3696, 2,  34.8701, 2,  34.8703, 2,    228.8, 1,    237.9, 2,    50.56, 2,    23.68, 2,     0.00, 2,     1.61, 2,   -0.002, 2,    0.000, 2,    0.000, 4,   2200.0, 2,   2339.1, 2,    7.7195, 2,     25.00, -999.000, 9, -999.000,   -108.7, 2,      3.3,     0.91, 2,      0.0,   2.1071, 27.8603,   2.3695, 2, 3250.9, 2, 237.79, 2, 0.23, 0.1, 0.01, 0.01, -999, 1,  -999.00, 9, -999, -999, 9, -999
49NZ20031106, A10, X14, 1, 8, 12044, 9, 20031123, 32, -29.9917, -8.9953, 3917,   3400.7, 2,   2.3702, 2,  34.8728, 2, -999.0000, 9,    228.8, 1,   -999.0, 9,  -999.00, 9,  -999.00, 9,  -999.00, 9,  -999.00, 9, -999.000, 9, -999.000, 9, -999.000, 9,   -999.0, 9,   -999.0, 9, -999.0000, 9,   -999.00, -999.000, 9, -999.000,   -999.0, 9,   -999.0,  -999.00, 9,   -999.0,   2.0918, 27.8638,   2.3702, 2, 3400.7, 2, 237.65, 2, -999, -999, -999, -999, -999, 9,  -999.00, 9, -999, -999, 9, -999
49NZ20031106, A10, X14, 1, 11, 12047, 2, 20031123, 32, -29.9917, -8.9953, 3917,   3499.8, 2,   2.3750, 2,  34.8739, 2,  34.8742, 2,    228.9, 1,    237.3, 2,    50.77, 2,    23.62, 2,     0.00, 2,     1.61, 2,    0.005, 2,    0.004, 2,    0.000, 4,   2202.9, 2,   2342.3, 2,    7.7214, 2,     25.00, -999.000, 9, -999.000,   -111.2, 2,      3.3,     0.85, 2,      0.0,   2.0859, 27.8652,   2.3751, 2, 3499.7, 2, 237.23, 2, 0.23, 0.1, 0.01, 0.01, -999, 1,  -999.00, 9, -999, -999, 9, -999
49NZ20031106, A10, X14, 1, 7, 12043, 9, 20031123, 32, -29.9917, -8.9953, 3917,   3600.3, 2,   2.3748, 2,  34.8759, 2, -999.0000, 9,    228.8, 1,   -999.0, 9,  -999.00, 9,  -999.00, 9,  -999.00, 9,  -999.00, 9, -999.000, 9, -999.000, 9, -999.000, 9,   -999.0, 9,   -999.0, 9, -999.0000, 9,   -999.00, -999.000, 9, -999.000,   -999.0, 9,   -999.0,  -999.00, 9,   -999.0,   2.0748, 27.8676,   2.3748, 2, 3600.4, 2, 236.91, 2, -999, -999, -999, -999, -999, 9,  -999.00, 9, -999, -999, 9, -999
49NZ20031106, A10, X14, 1, 1, 12037, 2, 20031123, 32, -29.9917, -8.9953, 3917,   3750.4, 2,   2.3816, 2,  34.8778, 2,  34.8776, 2,    228.8, 1,    235.8, 2,    51.16, 2,    23.63, 2,     0.00, 2,     1.61, 2,   -0.006, 2,   -0.002, 2,    0.000, 4,   2205.7, 2,   2349.6, 2,    7.7258, 2,     25.00, -999.000, 9, -999.000,   -110.9, 2,      3.5,     0.90, 2,      0.0,   2.0649, 27.8699,   2.3817, 2, 3750.6, 2, 236.26, 2, 0.23, 0.1, 0.01, 0.01, -999, 1,  -999.00, 9, -999, -999, 9, -999
49NZ20031106, A10, X14, 1, 10, 12046, 2, 20031123, 32, -29.9917, -8.9953, 3917,   3750.5, 2,   2.3818, 2,  34.8776, 2,  34.8776, 2,    228.9, 1,    236.1, 2,    51.05, 2,    23.51, 2,     0.00, 2,     1.61, 2,    0.010, 2,    0.004, 2,    0.000, 4,   2203.2, 2,   2346.3, 2,    7.7252, 2,     25.00, -999.000, 9, -999.000,   -105.0, 2,      3.5,     0.84, 2,      0.0,   2.0651, 27.8699,   2.3818, 2, 3750.7, 2, 236.26, 2, 0.23, 0.1, 0.01, 0.01, -999, 9,  -999.00, 9, -999, -999, 9, -999
49NZ20031106, A10, X14, 1, 9, 12045, 2, 20031123, 32, -29.9917, -8.9953, 3917,   3980.8, 2,   2.3993, 2,  34.8791, 2,  34.8791, 2,    229.6, 1,    235.4, 2,    51.30, 2,    23.53, 2,     0.00, 2,     1.60, 2,   -0.002, 2,   -0.004, 2,    0.000, 4,   2207.2, 2,   2348.9, 2,    7.7240, 2,     25.00, -999.000, 9, -999.000,   -106.6, 2,      3.6,     0.88, 2,      0.0,   2.0562, 27.8719,   2.3993, 2, 3980.8, 2, 235.28, 2, 0.23, 0.1, 0.01, 0.01, -999, 1,  -999.00, 9, -999, -999, 9, -999