BOTTLE,20220818CCHSIOAMB
EXPOCODE,SECT_ID,STNNBR,CASTNO,SAMPNO,BTLNBR,BTLNBR_FLAG_W,DATE,TIME,LATITUDE,LONGITUDE,DEPTH,CTDPRS,CTDPRS_FLAG_W,CTDTMP,CTDTMP_FLAG_W,CTDSAL,CTDSAL_FLAG_W,SALNTY,SALNTY_FLAG_W,CTDOXY,CTDOXY_FLAG_W,OXYGEN,OXYGEN_FLAG_W,SILCAT,SILCAT_FLAG_W,NITRAT,NITRAT_FLAG_W,NITRIT,NITRIT_FLAG_W,PHSPHT,PHSPHT_FLAG_W,CFC-11,CFC-11_FLAG_W,CFC-12,CFC-12_FLAG_W,CFC113,CFC113_FLAG_W,TCARBN,TCARBN_FLAG_W,ALKALI,ALKALI_FLAG_W,PH_TOT,PH_TOT_FLAG_W,PH_TMP,TRITUM,TRITUM_FLAG_W,TRITER,DELC14,DELC14_FLAG_W,C14ERR,DELC13,DELC13_FLAG_W,C13ERR,THETA,SIG0,SBE35,SBE35_FLAG_W,DWNPRS,DWNPRS_FLAG_W,DWNOXY,DWNOXY_FLAG_W,SILUNC,NRAUNC,NRIUNC,PHPUNC,TOC,TOC_FLAG_W,CS-137,CS-137_FLAG_W,CS137ER,PLUTO,PLUTO_FLAG_W,PLUTOER
,,,,,,,,,,,METERS,DBAR,,ITS-90,,PSS-78,,PSS-78,,UMOL/KG,,UMOL/KG,,UMOL/KG,,UMOL/KG,,UMOL/KG,,UMOL/KG,,PMOL/KG,,PMOL/KG,,PMOL/KG,,UMOL/KG,,UMOL/KG,,,,DEG C,TU,,TU,/MILLE,,/MILLE,/MILLE,,/MILLE,DEG C,KG/M^3,ITS-90,,DBAR,,UMOL/KG,,UMOL/KG,UMOL/KG,UMOL/KG,UMOL/KG,UMOL/KG,,BQ/M^3,,BQ/M^3,MBQ/M^3,,MBQ/M^3
49NZ20031106, A10, 79, 1, 36, 12024, 2, 20031128, 40, -29.4677, 3.3075, 4749,     10.3, 2,  18.8969, 2,  35.7799, 2,  35.7814, 2,    222.9, 1,    235.4, 2,     2.11, 2,     0.02, 2,     0.00, 2,     0.23, 2,    2.534, 2,    1.379, 2,    0.415, 4,   2063.0, 2,   2348.4, 2,    8.0064, 2,     25.00, -999.000, 9, -999.000,     49.4, 3,      3.7,     1.46, 2,      0.0,  18.8951, 25.6473,  18.8971, 2, 12.4, 2, 234.92, 2, 0.12, 0.03, 0.01, 0.02, -999, 1,  -999.00, 9, -999, -999, 9, -999
49NZ20031106, A10, 79, 1, 1, 12025, 9, 20031128, 40, -29.4677, 3.3075, 4749,     10.4, 2,  18.9002, 2,  35.7801, 2, -999.0000, 9,    222.8, 1,   -999.0, 9,  -999.00, 9,  -999.00, 9,  -999.00, 9,  -999.00, 9, -999.000, 9, -999.000, 9, -999.000, 9,   -999.0, 9,   -999.0, 9, -999.0000, 9,   -999.00, -999.000, 9, -999.000,   -999.0, 9,   -999.0,  -999.00, 9,   -999.0,  18.8984, 25.6471,  18.8992, 2, 12.4, 2, 234.92, 2, -999, -999, -999, -999, -999, 9,  -999.00, 9, -999, -999, 9, -999
49NZ20031106, A10, 79, 1, 35, 12023, 2, 20031128, 40, -29.4677, 3.3075, 4749,     50.3, 2,  18.0540, 2,  35.7278, 2,  35.7362, 2,    229.7, 1,    242.5, 2,     2.15, 2,     0.01, 2,     0.00, 2,     0.21, 2,    2.663, 2,    1.487, 2,    0.374, 4,   2060.1, 6,   2347.9, 2,    8.0052, 2,     25.00, -999.000, 9, -999.000,     77.7, 2,      3.9,     1.40, 2,      0.0,  18.0453, 25.8251,  18.0558, 2, 49.2, 2, 241.54, 2, 0.12, 0.03, 0.01, 0.02, -999, 1,  -999.00, 9, -999, -999, 9, -999
49NZ20031106, A10, 79, 1, 34, 12022, 2, 20031128, 40, -29.4677, 3.3075, 4749,    100.6, 2,  16.4919, 2,  35.6515, 2,  35.6583, 2,    219.9, 1,    231.7, 2,     2.35, 2,     1.84, 2,     0.19, 2,     0.33, 2,    2.799, 2,    1.561, 2,    0.244, 4,   2075.6, 2,   2339.9, 6,    7.9685, 2,     25.00, -999.000, 9, -999.000,     61.6, 2,      3.6,     1.19, 2,      0.0,  16.4756, 26.1436,  16.4740, 2, 98.7, 2, 234.82, 2, 0.12, 0.04, 0.01, 0.01, -999, 1,  -999.00, 9, -999, -999, 9, -999
49NZ20031106, A10, 79, 1, 33, 12015, 2, 20031128, 40, -29.4677, 3.3075, 4749,    149.9, 2,  15.2247, 2,  35.4322, 2,  35.4827, 4,    210.2, 1,    223.0, 2,     2.82, 2,     4.40, 2,     0.01, 2,     0.47, 2,    2.958, 2,    1.609, 2,    0.216, 4,   2087.7, 2,   2329.5, 2,    7.9334, 6,     25.00, -999.000, 9, -999.000,     76.2, 2,      3.6,     1.11, 2,      0.0,  15.2017, 26.2606,  15.2358, 2, 161.9, 2, 225.93, 2, 0.13, 0.05, 0.01, 0.01, -999, 1,  -999.00, 9, -999, -999, 9, -999
49NZ20031106, A10, 79, 1, 32, 12020, 2, 20031128, 40, -29.4677, 3.3075, 4749,    199.8, 2,  14.2166, 2,  35.2806, 2,  35.2688, 4,    203.4, 1,    213.6, 2,     3.55, 2,     7.59, 2,     0.01, 2,     0.65, 2,    3.167, 2,    1.669, 2,    0.167, 4,   2099.8, 2,   2314.3, 2,    7.8850, 2,     25.00, -999.000, 9, -999.000,     80.4, 2,      3.6,     1.07, 2,      0.0,  14.1873, 26.3658,  14.2071, 2, 208.1, 2, 213.52, 2, 0.13, 0.05, 0.01, 0.01, -999, 1,  -999.00, 9, -999, -999, 9, -999
49NZ20031106, A10, 79, 1, 31, 12019, 2, 20031128, 40, -29.4677, 3.3075, 4749,    250.6, 2,  13.1653, 2,  35.1700, 2,  35.1669, 2,    203.5, 1,    213.6, 2,     3.90, 2,     9.35, 2,     0.01, 2,     0.76, 2,    3.281, 6,    1.709, 6,    0.129, 4,   2109.6, 2,   2311.6, 2,    7.8624, 2,     25.00, -999.000, 9, -999.000,     65.8, 2,      3.8,     1.08, 2,      0.0,  13.1304, 26.5003,  13.1660, 2, 257.4, 2, 212.92, 2, 0.13, 0.06, 0.01, 0.01, -999, 1,  -999.00, 9, -999, -999, 9, -999
49NZ20031106, A10, 79, 1, 30, 12018, 2, 20031128, 40, -29.4677, 3.3075, 4749,    301.3, 2,  12.5072, 2,  35.1024, 2,  35.0980, 2,    202.9, 1,    213.0, 2,     4.45, 2,    10.94, 2,     0.01, 2,     0.85, 2,    3.322, 2,    1.717, 2,    0.117, 4,   2113.5, 2,   2310.1, 2,    7.8440, 2,     25.00, -999.000, 9, -999.000,     62.5, 2,      3.7,     1.11, 2,      0.0,  12.4666, 26.5795,  12.5073, 2, 305.1, 2, 214.24, 2, 0.13, 0.06, 0.01, 0.01, -999, 1,  -999.00, 9, -999, -999, 9, -999
49NZ20031106, A10, 79, 1, 29, 12017, 2, 20031128, 40, -29.4677, 3.3075, 4749,    402.6, 2,  10.7294, 2,  34.8889, 2,  34.8896, 2,    193.3, 1,    203.0, 2,     6.66, 2,    15.91, 2,     0.00, 2,     1.16, 2,    3.231, 2,    1.639, 2,    0.129, 4,   2131.7, 2,   2303.0, 2,    7.7845, 2,     25.00, -999.000, 9, -999.000,     40.2, 2,      5.9,     1.04, 2,      0.0,  10.6801, 26.7453,  10.7487, 2, 410.7, 2, 202.52, 2, 0.13, 0.08, 0.01, 0.01, -999, 1,  -999.00, 9, -999, -999, 9, -999
49NZ20031106, A10, 79, 1, 28, 12016, 2, 20031128, 40, -29.4677, 3.3075, 4749,    502.1, 2,   8.9873, 2,  34.6846, 2,  34.6835, 2,    181.8, 1,    189.4, 2,    10.98, 2,    21.43, 2,     0.00, 2,     1.51, 2,    2.956, 2,    1.455, 2,    0.126, 4,   2156.0, 2,   2289.8, 2,    7.7170, 2,     25.00, -999.000, 9, -999.000,     27.5, 2,      3.7,     1.00, 2,      0.0,   8.9321, 26.8826,   8.9841, 2, 507, 2, 186.73, 2, 0.14, 0.09, 0.01, 0.01, -999, 1,  -999.00, 9, -999, -999, 9, -999
49NZ20031106, A10, 79, 1, 27, 12012, 2, 20031128, 40, -29.4677, 3.3075, 4749,    599.3, 2,   7.6528, 2,  34.5552, 2,  34.5517, 2,    181.9, 1,    190.1, 2,    14.89, 2,    24.79, 2,     0.01, 2,     1.74, 2, -999.000, 5, -999.000, 5, -999.000, 5,   2168.2, 2,   2290.2, 2,    7.6843, 2,     25.00, -999.000, 9, -999.000,      0.6, 2,      3.5,     1.00, 2,      0.0,   7.5925, 26.9848,   7.6545, 2, 593.7, 2, 193.56, 2, 0.15, 0.1, 0.01, 0.01, -999, 1,  -999.00, 9, -999, -999, 9, -999
49NZ20031106, A10, 79, 1, 26, 12014, 2, 20031128, 40, -29.4677, 3.3075, 4749,    702.8, 2,   6.0093, 2,  34.4181, 2,  34.4173, 2,    191.6, 1,    199.8, 2,    19.65, 2,    27.89, 2,     0.00, 2,     1.93, 2,    2.639, 2,    1.267, 2,    0.142, 4,   2177.5, 6,   2288.4, 2,    7.6603, 2,     25.00, -999.000, 9, -999.000,    -24.6, 2,      3.5,     0.98, 2,      0.0,   5.9469, 27.0994,   6.0098, 2, 696.6, 2, 203.97, 2, 0.16, 0.11, 0.01, 0.01, -999, 1,  -999.00, 9, -999, -999, 9, -999
49NZ20031106, A10, 79, 1, 25, 12013, 2, 20031128, 40, -29.4677, 3.3075, 4749,    800.0, 2,   4.7245, 2,  34.3509, 2,  34.3503, 2,    197.1, 1,    205.8, 2,    26.55, 2,    30.16, 2,     0.00, 2,     2.08, 2,    2.283, 2,    1.093, 2,    0.118, 4,   2189.0, 2,   2291.6, 6,    7.6395, 2,     25.00, -999.000, 9, -999.000,    -44.9, 2,      5.1,     0.99, 2,      0.0,   4.6609, 27.199,   4.7248, 2, 799.3, 2, 205.05, 2, 0.18, 0.12, 0.01, 0.02, -999, 1,  -999.00, 9, -999, -999, 9, -999
49NZ20031106, A10, 79, 1, 24, 12048, 2, 20031128, 40, -29.4677, 3.3075, 4749,    899.7, 2,   4.2614, 2,  34.3639, 2,  34.3637, 2,    190.3, 1,    198.5, 2,    33.11, 2,    31.47, 2,     0.00, 2,     2.17, 2,    1.773, 2,    0.842, 2,    0.087, 4,   2200.1, 2,   2297.9, 2,    7.6237, 6,     25.00, -999.000, 9, -999.000,    -72.5, 2,      3.4,     0.89, 2,      0.0,   4.1924, 27.2601,   4.2617, 2, 895.1, 2, 200.9, 2, 0.19, 0.12, 0.01, 0.02, -999, 1,  -999.00, 9, -999, -999, 9, -999
49NZ20031106, A10, 79, 1, 23, 12047, 2, 20031128, 40, -29.4677, 3.3075, 4749,    999.1, 2,   3.6784, 2,  34.4013, 2,  34.4009, 2,    181.9, 1,    189.9, 2,    41.91, 2,    32.73, 2,     0.00, 2,     2.27, 2,    1.141, 6,    0.550, 6,    0.044, 4,   2213.3, 2,   2307.7, 2,    7.6212, 2,     25.00, -999.000, 9, -999.000,    -94.3, 2,      3.3,     0.79, 2,      0.0,   3.6055, 27.3499,   3.6784, 2, 998.8, 2, 195.76, 2, 0.21, 0.12, 0.01, 0.02, -999, 1,  -999.00, 9, -999, -999, 9, -999
49NZ20031106, A10, 79, 1, 4, 12028, 9, 20031128, 40, -29.4677, 3.3075, 4749,    999.1, 2,   3.6786, 2,  34.4014, 2, -999.0000, 9,    181.9, 1,   -999.0, 9,  -999.00, 9,  -999.00, 9,  -999.00, 9,  -999.00, 9, -999.000, 9, -999.000, 9, -999.000, 9,   -999.0, 9,   -999.0, 9, -999.0000, 9,   -999.00, -999.000, 9, -999.000,   -999.0, 9,   -999.0,  -999.00, 9,   -999.0,   3.6057, 27.3498,   3.6789, 2, 998.8, 2, 195.76, 2, -999, -999, -999, -999, -999, 9,  -999.00, 9, -999, -999, 9, -999
49NZ20031106, A10, 79, 1, 5, 12029, 9, 20031128, 40, -29.4677, 3.3075, 4749,    999.2, 2,   3.6789, 2,  34.4013, 2, -999.0000, 9,    181.9, 1,   -999.0, 9,  -999.00, 9,  -999.00, 9,  -999.00, 9,  -999.00, 9, -999.000, 9, -999.000, 9, -999.000, 9,   -999.0, 9,   -999.0, 9, -999.0000, 9,   -999.00, -999.000, 9, -999.000,   -999.0, 9,   -999.0,  -999.00, 9,   -999.0,   3.6060, 27.3499,   3.6789, 2, 998.9, 2, 195.76, 2, -999, -999, -999, -999, -999, 9,  -999.00, 9, -999, -999, 9, -999
49NZ20031106, A10, 79, 1, 3, 12027, 9, 20031128, 40, -29.4677, 3.3075, 4749,    999.4, 2,   3.6790, 2,  34.4013, 2, -999.0000, 9,    182.0, 1,   -999.0, 9,  -999.00, 9,  -999.00, 9,  -999.00, 9,  -999.00, 9, -999.000, 9, -999.000, 9, -999.000, 9,   -999.0, 9,   -999.0, 9, -999.0000, 9,   -999.00, -999.000, 9, -999.000,   -999.0, 9,   -999.0,  -999.00, 9,   -999.0,   3.6060, 27.3498,   3.6786, 2, 999.1, 2, 195.77, 2, -999, -999, -999, -999, -999, 9,  -999.00, 9, -999, -999, 9, -999
49NZ20031106, A10, 79, 1, 22, 12046, 2, 20031128, 40, -29.4677, 3.3075, 4749,   1202.1, 2,   3.2474, 2,  34.5182, 2,  34.5173, 2,    171.2, 1,    178.7, 2,    52.19, 2,    33.08, 2,    -0.01, 2,     2.30, 2,    0.414, 2,    0.200, 2,    0.014, 4,   2229.9, 2,   2320.8, 2,    7.5933, 2,     25.00, -999.000, 9, -999.000,   -120.2, 2,      3.2,     0.67, 2,      0.0,   3.1616, 27.4856,   3.2477, 2, 1204.1, 2, 179, 2, 0.23, 0.13, 0.01, 0.02, -999, 1,  -999.00, 9, -999, -999, 9, -999
49NZ20031106, A10, 79, 1, 21, 12045, 2, 20031128, 40, -29.4677, 3.3075, 4749,   1400.0, 2,   3.0771, 2,  34.6495, 2,  34.6503, 2,    176.7, 1,    184.7, 2,    53.07, 2,    31.14, 2,    -0.01, 2,     2.15, 2,    0.115, 2,    0.062, 2,    0.007, 4,   2226.9, 2,   2323.4, 2,    7.6156, 2,     25.00, -999.000, 9, -999.000,   -124.5, 2,      3.3,     0.66, 6,      0.0,   2.9765, 27.6077,   3.0772, 2, 1399.9, 2, 184.02, 2, 0.24, 0.12, 0.01, 0.02, -999, 1,  -999.00, 9, -999, -999, 9, -999
49NZ20031106, A10, 79, 1, 20, 12044, 2, 20031128, 40, -29.4677, 3.3075, 4749,   1599.5, 2,   3.0318, 2,  34.7354, 2,  34.7350, 2,    186.8, 1,    195.4, 2,    50.21, 2,    28.92, 2,     0.00, 2,     1.98, 2,    0.051, 2,    0.026, 2,    0.000, 4,   2218.9, 2,   2325.8, 2,    7.6386, 2,     25.00, -999.000, 9, -999.000,   -127.0, 2,      3.3,     0.72, 2,      0.0,   2.9148, 27.682,   3.0320, 2, 1598.5, 2, 194.9, 2, 0.23, 0.11, 0.01, 0.02, -999, 1,  -999.00, 9, -999, -999, 9, -999
49NZ20031106, A10, 79, 1, 19, 12043, 2, 20031128, 40, -29.4677, 3.3075, 4749,   1799.7, 2,   2.8678, 2,  34.7826, 2,  34.7826, 2,    195.9, 1,    205.3, 2,    50.98, 2,    27.42, 2,     0.00, 2,     1.88, 2,    0.030, 2,    0.018, 2,    0.000, 4,   2213.2, 2,   2326.9, 2,    7.6578, 2,     25.00, -999.000, 9, -999.000,   -117.0, 2,      5.0,     0.74, 2,      0.0,   2.7355, 27.736,   2.8679, 2, 1798.9, 2, 205.28, 2, 0.23, 0.11, 0.01, 0.01, -999, 1,  -999.00, 9, -999, -999, 9, -999
49NZ20031106, A10, 79, 1, 18, 12042, 2, 20031128, 40, -29.4677, 3.3075, 4749,   1999.9, 2,   2.7691, 2,  34.8209, 2,  34.8211, 2,    205.7, 1,    216.0, 2,    49.24, 2,    26.02, 2,     0.00, 2,     1.79, 2,    0.012, 2,   -0.002, 2,    0.000, 4,   2208.6, 2,   2328.4, 2,    7.6769, 6,     25.00, -999.000, 9, -999.000,   -111.4, 2,      3.2,     0.82, 2,      0.0,   2.6204, 27.7769,   2.7692, 2, 2000.6, 2, 214.56, 2, 0.23, 0.11, 0.01, 0.01, -999, 1,  -999.00, 9, -999, -999, 9, -999
49NZ20031106, A10, 79, 1, 17, 12041, 2, 20031128, 40, -29.4677, 3.3075, 4749,   2199.8, 2,   2.6804, 2,  34.8341, 2,  34.8339, 2,    210.2, 1,    220.6, 2,    49.71, 2,    25.46, 2,     0.00, 2,     1.76, 2,    0.013, 2,    0.007, 2,    0.000, 4,   2206.5, 2,   2330.6, 2,    7.6853, 2,     25.00, -999.000, 9, -999.000,   -113.9, 2,      3.3,     0.84, 2,      0.0,   2.5149, 27.7968,   2.6806, 2, 2199.6, 2, 220.27, 2, 0.23, 0.1, 0.01, 0.01, -999, 1,  -999.00, 9, -999, -999, 9, -999
49NZ20031106, A10, 79, 1, 16, 12040, 2, 20031128, 40, -29.4677, 3.3075, 4749,   2399.8, 2,   2.5849, 2,  34.8424, 2,  34.8418, 2,    213.7, 1,    224.6, 2,    50.70, 2,    25.13, 2,     0.00, 2,     1.72, 2,    0.002, 2,    0.005, 2,    0.000, 4,   2204.3, 6,   2330.7, 2,    7.6921, 2,     25.00, -999.000, 9, -999.000,   -114.1, 2,      3.5,     0.84, 2,      0.0,   2.4025, 27.813,   2.5850, 2, 2399.8, 2, 223.68, 2, 0.23, 0.1, 0.01, 0.01, -999, 1,  -999.00, 9, -999, -999, 9, -999
49NZ20031106, A10, 79, 1, 15, 12039, 2, 20031128, 40, -29.4677, 3.3075, 4749,   2599.2, 2,   2.4660, 2,  34.8479, 2,  34.8476, 2,    216.7, 1,    228.0, 2,    52.33, 2,    24.76, 2,     0.00, 2,     1.71, 2,    0.001, 2,    0.000, 2,    0.000, 4,   2206.5, 2,   2334.5, 6,    7.6976, 2,     25.00, -999.000, 9, -999.000,   -127.2, 3,      3.4,     0.85, 2,      0.0,   2.2668, 27.8288,   2.4662, 2, 2599.1, 2, 227.25, 2, 0.23, 0.1, 0.01, 0.01, -999, 1,  -999.00, 9, -999, -999, 9, -999
49NZ20031106, A10, 79, 1, 14, 12038, 2, 20031128, 40, -29.4677, 3.3075, 4749,   2798.7, 2,   2.3858, 2,  34.8496, 2,  34.8499, 2,    218.4, 1,    229.3, 2,    54.01, 2,    24.74, 2,    -0.01, 2,     1.70, 2,   -0.002, 2,    0.000, 2,    0.000, 4,   2207.4, 2,   2336.0, 2,    7.6997, 6,     25.00, -999.000, 9, -999.000,   -110.4, 2,      3.4,     0.84, 2,      0.0,   2.1688, 27.8386,   2.3858, 2, 2798.3, 2, 228.98, 2, 0.24, 0.1, 0.01, 0.01, -999, 1,  -999.00, 9, -999, -999, 9, -999
49NZ20031106, A10, 79, 1, 13, 12037, 2, 20031128, 40, -29.4677, 3.3075, 4749,   2999.4, 2,   2.3236, 2,  34.8510, 2,  34.8510, 2,    219.6, 1,    230.0, 2,    55.46, 2,    24.69, 2,     0.00, 2,     1.69, 2,    0.003, 2,    0.001, 2,    0.000, 4,   2206.4, 2,   2340.2, 2,    7.7003, 2,     25.00, -999.000, 9, -999.000,   -123.8, 6,      6.8,     0.85, 6,      0.0,   2.0880, 27.8462,   2.3237, 2, 2998.6, 2, 230.28, 2, 0.24, 0.1, 0.01, 0.01, -999, 1,  -999.00, 9, -999, -999, 9, -999
49NZ20031106, A10, 79, 1, 12, 12036, 2, 20031128, 40, -29.4677, 3.3075, 4749,   3249.6, 2,   2.2196, 2,  34.8505, 2,  34.8505, 2,    219.9, 1,    230.4, 2,    58.33, 2,    24.78, 2,     0.00, 2,     1.70, 2,    0.009, 2,    0.004, 2,    0.000, 4,   2211.6, 2,   2345.9, 2,    7.7012, 2,     25.00, -999.000, 9, -999.000,   -133.4, 3,      3.4,     0.82, 2,      0.0,   1.9608, 27.8563,   2.2195, 2, 3249.8, 2, 231.14, 2, 0.25, 0.1, 0.01, 0.01, -999, 1,  -999.00, 9, -999, -999, 9, -999
49NZ20031106, A10, 79, 1, 11, 12035, 2, 20031128, 40, -29.4677, 3.3075, 4749,   3499.9, 2,   2.1203, 2,  34.8421, 2,  34.8432, 2,    219.0, 1,    229.1, 2,    62.28, 2,    25.23, 2,     0.00, 2,     1.73, 2,   -0.004, 2,    0.001, 2,    0.000, 4,   2216.8, 2,   2348.6, 2,    7.7000, 2,     25.00, -999.000, 9, -999.000,   -128.7, 2,      3.4,     0.82, 2,      0.0,   1.8377, 27.8593,   2.1218, 2, 3499.8, 2, 230.49, 2, 0.26, 0.1, 0.01, 0.01, -999, 1,  -999.00, 9, -999, -999, 9, -999
49NZ20031106, A10, 79, 1, 10, 12034, 2, 20031128, 40, -29.4677, 3.3075, 4749,   3751.2, 2,   1.7970, 2,  34.8062, 2,  34.8060, 2,    214.6, 1,    224.0, 2,    76.45, 2,    27.09, 2,     0.00, 2,     1.86, 2,    0.015, 2,    0.010, 2,    0.000, 4,   2228.0, 2,   2354.7, 2,    7.6818, 2,     25.00, -999.000, 9, -999.000,   -128.8, 2,      5.0,     0.73, 2,      0.0,   1.4961, 27.8562,   1.7958, 2, 3750.1, 2, 223.95, 2, 0.29, 0.11, 0.01, 0.01, -999, 1,  -999.00, 9, -999, -999, 9, -999
49NZ20031106, A10, 79, 1, 9, 12033, 2, 20031128, 40, -29.4677, 3.3075, 4749,   4001.2, 2,   1.4073, 2,  34.7682, 2,  34.7675, 2,    211.3, 1,    220.1, 2,    92.14, 2,    29.05, 2,     0.00, 2,     2.00, 2,    0.025, 2,    0.012, 2,    0.000, 4,   2243.3, 2,   2356.8, 2,    7.6603, 2,     25.00, -999.000, 9, -999.000,   -139.8, 2,      3.3,     0.64, 2,      0.0,   1.0904, 27.8542,   1.4075, 2, 4001.7, 2, 220.38, 2, 0.32, 0.11, 0.01, 0.02, -999, 1,  -999.00, 9, -999, -999, 9, -999
49NZ20031106, A10, 79, 1, 8, 12032, 2, 20031128, 40, -29.4677, 3.3075, 4749,   4249.1, 2,   1.2216, 2,  34.7485, 2,  34.7478, 2,    210.4, 1,    218.2, 2,   100.17, 2,    29.95, 2,     0.00, 2,     2.06, 2,    0.019, 2,    0.009, 2,    0.000, 4,   2248.2, 6,   2361.9, 2,    7.6550, 2,     25.00, -999.000, 9, -999.000,   -162.3, 3,      3.4,     0.54, 2,      0.0,   0.8830, 27.8523,   1.2223, 2, 4248.6, 2, 218.14, 2, 0.34, 0.12, 0.01, 0.02, -999, 1,  -999.00, 9, -999, -999, 9, -999
49NZ20031106, A10, 79, 1, 7, 12031, 2, 20031128, 40, -29.4677, 3.3075, 4749,   4500.5, 2,   1.1177, 2,  34.7369, 2,  34.7366, 2,    210.5, 1,    217.2, 2,   104.90, 2,    30.51, 2,     0.00, 2,     2.10, 2,    0.047, 2,    0.023, 2,    0.000, 4,   2251.8, 2,   2366.2, 6,    7.6470, 2,     25.00, -999.000, 9, -999.000,   -148.5, 2,      3.4,     0.54, 2,      0.0,   0.7542, 27.8513,   1.1178, 2, 4500.4, 2, 217.14, 2, 0.35, 0.12, 0.01, 0.02, -999, 1,  -999.00, 9, -999, -999, 9, -999
49NZ20031106, A10, 79, 1, 2, 12026, 2, 20031128, 40, -29.4677, 3.3075, 4749,   4500.5, 2,   1.1186, 2,  34.7370, 2,  34.7366, 2,    210.5, 1,    217.3, 2,   104.89, 2,    30.49, 2,     0.00, 2,     2.11, 2,    0.035, 2,    0.018, 2,    0.000, 4,   2253.0, 2,   2362.5, 2,    7.6483, 2,     25.00, -999.000, 9, -999.000,   -153.3, 2,      3.3,     0.59, 3,      0.0,   0.7551, 27.8514,   1.1186, 2, 4500.3, 2, 217.14, 2, 0.35, 0.12, 0.01, 0.02, -999, 9,  -999.00, 9, -999, -999, 9, -999
49NZ20031106, A10, 79, 1, 6, 12030, 2, 20031128, 40, -29.4677, 3.3075, 4749,   4815.9, 2,   1.1032, 2,  34.7321, 2,  34.7321, 2,    212.3, 1,    217.0, 2,   106.80, 2,    30.67, 2,     0.01, 2,     2.13, 2,    0.037, 2,    0.016, 2,    0.000, 4,   2253.3, 2,   2366.9, 2,    7.6464, 2,     25.00, -999.000, 9, -999.000,   -149.2, 2,      3.3,     0.57, 2,      0.0,   0.7039, 27.8507,   1.1033, 2, 4815.9, 2, 216.56, 2, 0.35, 0.12, 0.01, 0.02, -999, 1,  -999.00, 9, -999, -999, 9, -999