BOTTLE,20220818CCHSIOAMB
EXPOCODE,SECT_ID,STNNBR,CASTNO,SAMPNO,BTLNBR,BTLNBR_FLAG_W,DATE,TIME,LATITUDE,LONGITUDE,DEPTH,CTDPRS,CTDPRS_FLAG_W,CTDTMP,CTDTMP_FLAG_W,CTDSAL,CTDSAL_FLAG_W,SALNTY,SALNTY_FLAG_W,CTDOXY,CTDOXY_FLAG_W,OXYGEN,OXYGEN_FLAG_W,SILCAT,SILCAT_FLAG_W,NITRAT,NITRAT_FLAG_W,NITRIT,NITRIT_FLAG_W,PHSPHT,PHSPHT_FLAG_W,CFC-11,CFC-11_FLAG_W,CFC-12,CFC-12_FLAG_W,CFC113,CFC113_FLAG_W,TCARBN,TCARBN_FLAG_W,ALKALI,ALKALI_FLAG_W,PH_TOT,PH_TOT_FLAG_W,PH_TMP,TRITUM,TRITUM_FLAG_W,TRITER,DELC14,DELC14_FLAG_W,C14ERR,DELC13,DELC13_FLAG_W,C13ERR,THETA,SIG0,SBE35,SBE35_FLAG_W,DWNPRS,DWNPRS_FLAG_W,DWNOXY,DWNOXY_FLAG_W,SILUNC,NRAUNC,NRIUNC,PHPUNC,TOC,TOC_FLAG_W,CS-137,CS-137_FLAG_W,CS137ER,PLUTO,PLUTO_FLAG_W,PLUTOER
,,,,,,,,,,,METERS,DBAR,,ITS-90,,PSS-78,,PSS-78,,UMOL/KG,,UMOL/KG,,UMOL/KG,,UMOL/KG,,UMOL/KG,,UMOL/KG,,PMOL/KG,,PMOL/KG,,PMOL/KG,,UMOL/KG,,UMOL/KG,,,,DEG C,TU,,TU,/MILLE,,/MILLE,/MILLE,,/MILLE,DEG C,KG/M^3,ITS-90,,DBAR,,UMOL/KG,,UMOL/KG,UMOL/KG,UMOL/KG,UMOL/KG,UMOL/KG,,BQ/M^3,,BQ/M^3,MBQ/M^3,,MBQ/M^3
49NZ20031106, A10, 56, 1, 4, 12040, 9, 20031121, 1608, -29.9960, -12.9898, 3098,      5.3, 2,  20.0560, 2,  36.0555, 2, -999.0000, 9,    217.9, 1,   -999.0, 9,  -999.00, 9,  -999.00, 9,  -999.00, 9,  -999.00, 9, -999.000, 9, -999.000, 9, -999.000, 9,   -999.0, 9,   -999.0, 9, -999.0000, 9,   -999.00, -999.000, 9, -999.000,   -999.0, 9,   -999.0,  -999.00, 9,   -999.0,  20.0550, 25.5527,  20.0594, 2, 9.3, 2, 231.59, 2, -999, -999, -999, -999, -999, 9,  -999.00, 9, -999, -999, 9, -999
49NZ20031106, A10, 56, 1, 3, 12039, 2, 20031121, 1608, -29.9960, -12.9898, 3098,      5.3, 2,  20.0780, 2,  36.0533, 2, -999.0000, 9,    217.7, 1,   -999.0, 9,  -999.00, 9,  -999.00, 9,  -999.00, 9,  -999.00, 9, -999.000, 9, -999.000, 9, -999.000, 9,   -999.0, 9,   -999.0, 9, -999.0000, 9,   -999.00, -999.000, 9, -999.000,   -999.0, 9,   -999.0,  -999.00, 9,   -999.0,  20.0770, 25.5498,  20.0776, 2, 8.9, 2, 231.46, 2, -999, -999, -999, -999, -999, 9,  -999.00, 9, -999, -999, 9, -999
49NZ20031106, A10, 56, 1, 2, 12038, 2, 20031121, 1608, -29.9960, -12.9898, 3098,      5.4, 2,  20.0458, 2,  36.0573, 2, -999.0000, 9,    218.0, 1,   -999.0, 9,  -999.00, 9,  -999.00, 9,  -999.00, 9,  -999.00, 9, -999.000, 9, -999.000, 9, -999.000, 9,   -999.0, 9,   -999.0, 9, -999.0000, 9,   -999.00, -999.000, 9, -999.000,   -999.0, 9,   -999.0,  -999.00, 9,   -999.0,  20.0448, 25.5569,  20.0471, 2, 9.5, 2, 231.65, 2, -999, -999, -999, -999, -999, 9,  -999.00, 9, -999, -999, 9, -999
49NZ20031106, A10, 56, 1, 36, 12036, 2, 20031121, 1608, -29.9960, -12.9898, 3098,     10.2, 2,  20.0059, 2,  36.0516, 2,  36.0582, 2,    218.1, 1,    230.8, 2,     1.11, 2,     0.03, 2,     0.00, 2,     0.14, 2, -999.000, 9, -999.000, 9, -999.000, 9,   -999.0, 9,   -999.0, 9, -999.0000, 9,   -999.00, -999.000, 9, -999.000,   -999.0, 9,   -999.0,  -999.00, 9,   -999.0,  20.0040, 25.5645,  20.0056, 2, 15.1, 2, 230.91, 2, 0.12, 0.03, 0.01, 0.02, -999, 9,  -999.00, 9, -999, -999, 9, -999
49NZ20031106, A10, 56, 1, 35, 12035, 2, 20031121, 1608, -29.9960, -12.9898, 3098,     49.6, 2,  19.6428, 2,  36.1590, 2,  36.1558, 2,    219.7, 1,    232.3, 2,     1.14, 2,     0.01, 2,     0.00, 2,     0.15, 2, -999.000, 9, -999.000, 9, -999.000, 9,   -999.0, 9,   -999.0, 9, -999.0000, 9,   -999.00, -999.000, 9, -999.000,   -999.0, 9,   -999.0,  -999.00, 9,   -999.0,  19.6337, 25.7447,  19.6418, 2, 53.4, 2, 230.41, 2, 0.12, 0.03, 0.01, 0.02, -999, 9,  -999.00, 9, -999, -999, 9, -999
49NZ20031106, A10, 56, 1, 34, 12034, 2, 20031121, 1608, -29.9960, -12.9898, 3098,    100.6, 2,  18.6285, 2,  35.9912, 2,  35.9928, 2,    222.2, 1,    234.5, 2,     1.17, 2,     0.01, 2,     0.00, 2,     0.16, 2, -999.000, 9, -999.000, 9, -999.000, 9,   -999.0, 9,   -999.0, 9, -999.0000, 9,   -999.00, -999.000, 9, -999.000,   -999.0, 9,   -999.0,  -999.00, 9,   -999.0,  18.6107, 25.88,  18.6299, 2, 101.4, 2, 234.27, 2, 0.12, 0.03, 0.01, 0.02, -999, 9,  -999.00, 9, -999, -999, 9, -999
49NZ20031106, A10, 56, 1, 33, 12033, 2, 20031121, 1608, -29.9960, -12.9898, 3098,    149.1, 2,  17.9687, 2,  35.8849, 2,  35.8824, 2,    219.8, 1,    231.8, 2,     1.26, 2,     0.02, 2,     0.01, 2,     0.18, 2, -999.000, 9, -999.000, 9, -999.000, 9,   -999.0, 9,   -999.0, 9, -999.0000, 9,   -999.00, -999.000, 9, -999.000,   -999.0, 9,   -999.0,  -999.00, 9,   -999.0,  17.9430, 25.9661,  17.9686, 2, 147.7, 2, 231.41, 2, 0.12, 0.03, 0.01, 0.02, -999, 9,  -999.00, 9, -999, -999, 9, -999
49NZ20031106, A10, 56, 1, 1, 12037, 2, 20031121, 1608, -29.9960, -12.9898, 3098,    154.9, 2,  17.7605, 2,  35.8477, 2, -999.0000, 9,    219.2, 1,   -999.0, 9,  -999.00, 9,  -999.00, 9,  -999.00, 9,  -999.00, 9, -999.000, 9, -999.000, 9, -999.000, 9,   -999.0, 9,   -999.0, 9, -999.0000, 9,   -999.00, -999.000, 9, -999.000,   -999.0, 9,   -999.0,  -999.00, 9,   -999.0,  17.7340, 25.9889,  17.7605, 2, 154.7, 2, 230.4, 2, -999, -999, -999, -999, -999, 9,  -999.00, 9, -999, -999, 9, -999
49NZ20031106, A10, 56, 1, 32, 12032, 2, 20031121, 1608, -29.9960, -12.9898, 3098,    200.3, 2,  15.9566, 2,  35.5330, 2,  35.5407, 2,    214.4, 1,    226.5, 2,     1.35, 2,     1.79, 2,     0.05, 2,     0.30, 2, -999.000, 9, -999.000, 9, -999.000, 9,   -999.0, 9,   -999.0, 9, -999.0000, 9,   -999.00, -999.000, 9, -999.000,   -999.0, 9,   -999.0,  -999.00, 9,   -999.0,  15.9248, 26.1752,  15.9755, 2, 201.6, 2, 225.74, 2, 0.12, 0.04, 0.01, 0.01, -999, 9,  -999.00, 9, -999, -999, 9, -999
49NZ20031106, A10, 56, 1, 31, 12031, 2, 20031121, 1608, -29.9960, -12.9898, 3098,    250.4, 2,  14.7239, 2,  35.3993, 2,  35.3990, 2,    209.0, 1,    219.6, 2,     1.89, 2,     4.89, 2,     0.01, 2,     0.47, 2, -999.000, 9, -999.000, 9, -999.000, 9,   -999.0, 9,   -999.0, 9, -999.0000, 9,   -999.00, -999.000, 9, -999.000,   -999.0, 9,   -999.0,  -999.00, 9,   -999.0,  14.6863, 26.3502,  14.7240, 2, 252.1, 2, 219.71, 2, 0.12, 0.05, 0.01, 0.01, -999, 9,  -999.00, 9, -999, -999, 9, -999
49NZ20031106, A10, 56, 1, 30, 12030, 2, 20031121, 1608, -29.9960, -12.9898, 3098,    301.2, 2,  13.8472, 2,  35.2920, 2,  35.2922, 2,    206.8, 1,    217.1, 2,     2.55, 2,     7.18, 2,     0.01, 2,     0.62, 2, -999.000, 9, -999.000, 9, -999.000, 9,   -999.0, 9,   -999.0, 9, -999.0000, 9,   -999.00, -999.000, 9, -999.000,   -999.0, 9,   -999.0,  -999.00, 9,   -999.0,  13.8037, 26.4554,  13.8486, 2, 303.4, 2, 217.89, 2, 0.12, 0.05, 0.01, 0.01, -999, 9,  -999.00, 9, -999, -999, 9, -999
49NZ20031106, A10, 56, 1, 29, 12029, 2, 20031121, 1608, -29.9960, -12.9898, 3098,    400.8, 2,  12.6465, 2,  35.1509, 2,  35.1506, 2,    207.3, 1,    217.4, 2,     2.97, 2,     9.78, 2,     0.00, 2,     0.76, 2, -999.000, 9, -999.000, 9, -999.000, 9,   -999.0, 9,   -999.0, 9, -999.0000, 9,   -999.00, -999.000, 9, -999.000,   -999.0, 9,   -999.0,  -999.00, 9,   -999.0,  12.5919, 26.5922,  12.6458, 2, 401.7, 2, 217.98, 2, 0.13, 0.06, 0.01, 0.01, -999, 9,  -999.00, 9, -999, -999, 9, -999
49NZ20031106, A10, 56, 1, 28, 12028, 2, 20031121, 1608, -29.9960, -12.9898, 3098,    500.3, 2,  10.8105, 2,  34.9004, 2,  34.9018, 2,    203.3, 1,    212.5, 2,     5.03, 2,    14.59, 2,     0.00, 2,     1.06, 2, -999.000, 9, -999.000, 9, -999.000, 9,   -999.0, 9,   -999.0, 9, -999.0000, 9,   -999.00, -999.000, 9, -999.000,   -999.0, 9,   -999.0,  -999.00, 9,   -999.0,  10.7487, 26.7437,  10.8098, 2, 501.4, 2, 212.62, 2, 0.13, 0.07, 0.01, 0.01, -999, 9,  -999.00, 9, -999, -999, 9, -999
49NZ20031106, A10, 56, 1, 27, 12027, 2, 20031121, 1608, -29.9960, -12.9898, 3098,    600.4, 2,   8.7970, 2,  34.6595, 2,  34.6605, 2,    200.8, 1,    209.4, 2,     8.37, 2,    19.97, 2,     0.01, 2,     1.40, 2, -999.000, 9, -999.000, 9, -999.000, 9,   -999.0, 9,   -999.0, 9, -999.0000, 9,   -999.00, -999.000, 9, -999.000,   -999.0, 9,   -999.0,  -999.00, 9,   -999.0,   8.7314, 26.8947,   8.7954, 2, 598.6, 2, 209.39, 2, 0.14, 0.09, 0.01, 0.01, -999, 9,  -999.00, 9, -999, -999, 9, -999
49NZ20031106, A10, 56, 1, 26, 12026, 2, 20031121, 1608, -29.9960, -12.9898, 3098,    700.0, 2,   6.5172, 2,  34.4234, 2,  34.4246, 2,    209.8, 1,    218.7, 2,    12.84, 2,    24.91, 2,     0.00, 2,     1.71, 2, -999.000, 9, -999.000, 9, -999.000, 9,   -999.0, 9,   -999.0, 9, -999.0000, 9,   -999.00, -999.000, 9, -999.000,   -999.0, 9,   -999.0,  -999.00, 9,   -999.0,   6.4524, 27.0396,   6.5147, 2, 700.8, 2, 218.63, 2, 0.15, 0.1, 0.01, 0.01, -999, 9,  -999.00, 9, -999, -999, 9, -999
49NZ20031106, A10, 56, 1, 25, 12025, 2, 20031121, 1608, -29.9960, -12.9898, 3098,    800.6, 2,   5.4181, 2,  34.3406, 2,  34.3412, 2,    214.6, 1,    223.6, 2,    17.04, 2,    27.14, 2,     0.00, 2,     1.86, 2, -999.000, 9, -999.000, 9, -999.000, 9,   -999.0, 9,   -999.0, 9, -999.0000, 9,   -999.00, -999.000, 9, -999.000,   -999.0, 9,   -999.0,  -999.00, 9,   -999.0,   5.3502, 27.1117,   5.4181, 2, 801, 2, 224.66, 2, 0.16, 0.11, 0.01, 0.01, -999, 9,  -999.00, 9, -999, -999, 9, -999
49NZ20031106, A10, 56, 1, 24, 12024, 2, 20031121, 1608, -29.9960, -12.9898, 3098,    899.6, 2,   4.6804, 2,  34.3039, 2,  34.3042, 2,    215.7, 1,    224.9, 2,    21.49, 2,    28.68, 2,     0.00, 2,     1.96, 2, -999.000, 9, -999.000, 9, -999.000, 9,   -999.0, 9,   -999.0, 9, -999.0000, 9,   -999.00, -999.000, 9, -999.000,   -999.0, 9,   -999.0,  -999.00, 9,   -999.0,   4.6086, 27.1678,   4.6802, 2, 894.7, 2, 223.55, 2, 0.17, 0.11, 0.01, 0.01, -999, 9,  -999.00, 9, -999, -999, 9, -999
49NZ20031106, A10, 56, 1, 23, 12023, 2, 20031121, 1608, -29.9960, -12.9898, 3098,   1000.5, 2,   3.9903, 2,  34.3059, 2,  34.3059, 2,    210.0, 1,    219.1, 2,    28.95, 2,    30.42, 2,     0.00, 2,     2.08, 2, -999.000, 9, -999.000, 9, -999.000, 9,   -999.0, 9,   -999.0, 9, -999.0000, 9,   -999.00, -999.000, 9, -999.000,   -999.0, 9,   -999.0,  -999.00, 9,   -999.0,   3.9150, 27.2428,   3.9912, 2, 998, 2, 218.17, 2, 0.18, 0.12, 0.01, 0.02, -999, 9,  -999.00, 9, -999, -999, 9, -999
49NZ20031106, A10, 56, 1, 5, 12041, 9, 20031121, 1608, -29.9960, -12.9898, 3098,   1200.1, 2,   3.4378, 2,  34.4274, 2, -999.0000, 9,    182.5, 1,   -999.0, 9,  -999.00, 9,  -999.00, 9,  -999.00, 9,  -999.00, 9, -999.000, 9, -999.000, 9, -999.000, 9,   -999.0, 9,   -999.0, 9, -999.0000, 9,   -999.00, -999.000, 9, -999.000,   -999.0, 9,   -999.0,  -999.00, 9,   -999.0,   3.3505, 27.3956,   3.4377, 2, 1200.5, 2, 191.04, 2, -999, -999, -999, -999, -999, 9,  -999.00, 9, -999, -999, 9, -999
49NZ20031106, A10, 56, 1, 22, 12022, 2, 20031121, 1608, -29.9960, -12.9898, 3098,   1200.6, 2,   3.4385, 2,  34.4273, 2,  34.4271, 2,    182.5, 1,    189.9, 2,    45.72, 2,    32.82, 2,     0.01, 2,     2.27, 2, -999.000, 9, -999.000, 9, -999.000, 9,   -999.0, 9,   -999.0, 9, -999.0000, 9,   -999.00, -999.000, 9, -999.000,   -999.0, 9,   -999.0,  -999.00, 9,   -999.0,   3.3512, 27.3954,   3.4387, 2, 1200.9, 2, 190.99, 2, 0.22, 0.12, 0.01, 0.02, -999, 9,  -999.00, 9, -999, -999, 9, -999
49NZ20031106, A10, 56, 1, 6, 12042, 9, 20031121, 1608, -29.9960, -12.9898, 3098,   1200.8, 2,   3.4360, 2,  34.4277, 2, -999.0000, 9,    182.4, 1,   -999.0, 9,  -999.00, 9,  -999.00, 9,  -999.00, 9,  -999.00, 9, -999.000, 9, -999.000, 9, -999.000, 9,   -999.0, 9,   -999.0, 9, -999.0000, 9,   -999.00, -999.000, 9, -999.000,   -999.0, 9,   -999.0,  -999.00, 9,   -999.0,   3.3487, 27.3957,   3.4379, 2, 1201.1, 2, 190.98, 2, -999, -999, -999, -999, -999, 9,  -999.00, 9, -999, -999, 9, -999
49NZ20031106, A10, 56, 1, 21, 12015, 2, 20031121, 1608, -29.9960, -12.9898, 3098,   1401.0, 2,   3.0293, 2,  34.5401, 2,  34.5402, 2,    178.6, 1,    185.8, 2,    54.16, 2,    32.42, 2,     0.00, 2,     2.23, 2, -999.000, 9, -999.000, 9, -999.000, 9,   -999.0, 9,   -999.0, 9, -999.0000, 9,   -999.00, -999.000, 9, -999.000,   -999.0, 9,   -999.0,  -999.00, 9,   -999.0,   2.9294, 27.525,   3.0294, 2, 1401.6, 2, 186.21, 2, 0.24, 0.12, 0.01, 0.02, -999, 9,  -999.00, 9, -999, -999, 9, -999
49NZ20031106, A10, 56, 1, 20, 12020, 2, 20031121, 1608, -29.9960, -12.9898, 3098,   1600.7, 2,   2.8642, 2,  34.6655, 2,  34.6655, 2,    185.9, 1,    193.2, 2,    55.27, 2,    30.24, 2,     0.00, 2,     2.08, 2, -999.000, 9, -999.000, 9, -999.000, 9,   -999.0, 9,   -999.0, 9, -999.0000, 9,   -999.00, -999.000, 9, -999.000,   -999.0, 9,   -999.0,  -999.00, 9,   -999.0,   2.7493, 27.6412,   2.8643, 2, 1603.3, 2, 191.55, 2, 0.24, 0.12, 0.01, 0.02, -999, 9,  -999.00, 9, -999, -999, 9, -999
49NZ20031106, A10, 56, 1, 19, 12019, 2, 20031121, 1608, -29.9960, -12.9898, 3098,   1798.4, 2,   2.7980, 2,  34.7382, 2,  34.7385, 2,    195.7, 1,    203.4, 2,    53.44, 2,    28.34, 2,     0.00, 2,     1.94, 2, -999.000, 9, -999.000, 9, -999.000, 9,   -999.0, 9,   -999.0, 9, -999.0000, 9,   -999.00, -999.000, 9, -999.000,   -999.0, 9,   -999.0,  -999.00, 9,   -999.0,   2.6669, 27.7065,   2.7980, 2, 1799.9, 2, 202.28, 2, 0.24, 0.11, 0.01, 0.01, -999, 9,  -999.00, 9, -999, -999, 9, -999
49NZ20031106, A10, 56, 1, 18, 12018, 2, 20031121, 1608, -29.9960, -12.9898, 3098,   2001.4, 2,   2.7232, 2,  34.7874, 2,  34.7877, 2,    205.0, 1,    213.0, 2,    51.64, 2,    26.81, 2,     0.00, 2,     1.83, 2, -999.000, 9, -999.000, 9, -999.000, 9,   -999.0, 9,   -999.0, 9, -999.0000, 9,   -999.00, -999.000, 9, -999.000,   -999.0, 9,   -999.0,  -999.00, 9,   -999.0,   2.5752, 27.754,   2.7234, 2, 2002.1, 2, 212.23, 2, 0.23, 0.11, 0.01, 0.01, -999, 9,  -999.00, 9, -999, -999, 9, -999
49NZ20031106, A10, 56, 1, 11, 12047, 9, 20031121, 1608, -29.9960, -12.9898, 3098,   2103.3, 2,   2.6705, 2,  34.8027, 2, -999.0000, 9,    209.1, 1,   -999.0, 9,  -999.00, 9,  -999.00, 9,  -999.00, 9,  -999.00, 9, -999.000, 9, -999.000, 9, -999.000, 9,   -999.0, 9,   -999.0, 9, -999.0000, 9,   -999.00, -999.000, 9, -999.000,   -999.0, 9,   -999.0,  -999.00, 9,   -999.0,   2.5141, 27.7716,   2.6706, 2, 2103.6, 2, 216.95, 2, -999, -999, -999, -999, -999, 9,  -999.00, 9, -999, -999, 9, -999
49NZ20031106, A10, 56, 1, 17, 12017, 2, 20031121, 1608, -29.9960, -12.9898, 3098,   2201.1, 2,   2.6428, 2,  34.8147, 2,  34.8153, 2,    212.6, 1,    220.9, 2,    50.71, 2,    25.69, 2,     0.00, 2,     1.76, 2, -999.000, 9, -999.000, 9, -999.000, 9,   -999.0, 9,   -999.0, 9, -999.0000, 9,   -999.00, -999.000, 9, -999.000,   -999.0, 9,   -999.0,  -999.00, 9,   -999.0,   2.4779, 27.7844,   2.6429, 2, 2201.3, 2, 220.07, 2, 0.23, 0.1, 0.01, 0.01, -999, 9,  -999.00, 9, -999, -999, 9, -999
49NZ20031106, A10, 56, 1, 10, 12046, 9, 20031121, 1608, -29.9960, -12.9898, 3098,   2301.5, 2,   2.6209, 2,  34.8294, 2, -999.0000, 9,    217.7, 1,   -999.0, 9,  -999.00, 9,  -999.00, 9,  -999.00, 9,  -999.00, 9, -999.000, 9, -999.000, 9, -999.000, 9,   -999.0, 9,   -999.0, 9, -999.0000, 9,   -999.00, -999.000, 9, -999.000,   -999.0, 9,   -999.0,  -999.00, 9,   -999.0,   2.4471, 27.7988,   2.6209, 2, 2302.4, 2, 224.29, 2, -999, -999, -999, -999, -999, 9,  -999.00, 9, -999, -999, 9, -999
49NZ20031106, A10, 56, 1, 16, 12016, 2, 20031121, 1608, -29.9960, -12.9898, 3098,   2400.6, 2,   2.5834, 2,  34.8358, 2,  34.8349, 2,    219.0, 1,    227.1, 2,    49.82, 2,    24.83, 2,     0.00, 2,     1.70, 2, -999.000, 9, -999.000, 9, -999.000, 9,   -999.0, 9,   -999.0, 9, -999.0000, 9,   -999.00, -999.000, 9, -999.000,   -999.0, 9,   -999.0,  -999.00, 9,   -999.0,   2.4010, 27.8077,   2.5836, 2, 2400.8, 2, 227.4, 2, 0.23, 0.1, 0.01, 0.01, -999, 9,  -999.00, 9, -999, -999, 9, -999
49NZ20031106, A10, 56, 1, 9, 12045, 9, 20031121, 1608, -29.9960, -12.9898, 3098,   2501.8, 2,   2.5480, 2,  34.8411, 2, -999.0000, 9,    220.9, 1,   -999.0, 9,  -999.00, 9,  -999.00, 9,  -999.00, 9,  -999.00, 9, -999.000, 9, -999.000, 9, -999.000, 9,   -999.0, 9,   -999.0, 9, -999.0000, 9,   -999.00, -999.000, 9, -999.000,   -999.0, 9,   -999.0,  -999.00, 9,   -999.0,   2.3566, 27.8158,   2.5482, 2, 2501.9, 2, 229.21, 2, -999, -999, -999, -999, -999, 9,  -999.00, 9, -999, -999, 9, -999
49NZ20031106, A10, 56, 1, 15, 12012, 2, 20031121, 1608, -29.9960, -12.9898, 3098,   2601.0, 2,   2.5229, 2,  34.8470, 2,  34.8470, 2,    223.3, 1,    231.4, 2,    49.63, 2,    24.35, 2,     0.00, 2,     1.66, 2, -999.000, 9, -999.000, 9, -999.000, 9,   -999.0, 9,   -999.0, 9, -999.0000, 9,   -999.00, -999.000, 9, -999.000,   -999.0, 9,   -999.0,  -999.00, 9,   -999.0,   2.3225, 27.8236,   2.5228, 2, 2601.3, 2, 230.89, 2, 0.23, 0.1, 0.01, 0.01, -999, 9,  -999.00, 9, -999, -999, 9, -999
49NZ20031106, A10, 56, 1, 8, 12044, 9, 20031121, 1608, -29.9960, -12.9898, 3098,   2702.0, 2,   2.4936, 2,  34.8518, 2, -999.0000, 9,    225.6, 1,   -999.0, 9,  -999.00, 9,  -999.00, 9,  -999.00, 9,  -999.00, 9, -999.000, 9, -999.000, 9, -999.000, 9,   -999.0, 9,   -999.0, 9, -999.0000, 9,   -999.00, -999.000, 9, -999.000,   -999.0, 9,   -999.0,  -999.00, 9,   -999.0,   2.2839, 27.8305,   2.4937, 2, 2702.2, 2, 233.44, 2, -999, -999, -999, -999, -999, 9,  -999.00, 9, -999, -999, 9, -999
49NZ20031106, A10, 56, 1, 14, 12014, 2, 20031121, 1608, -29.9960, -12.9898, 3098,   2800.9, 2,   2.4729, 2,  34.8542, 2,  34.8540, 2,    226.7, 1,    234.3, 2,    49.82, 2,    24.06, 2,     0.00, 2,     1.63, 2, -999.000, 9, -999.000, 9, -999.000, 9,   -999.0, 9,   -999.0, 9, -999.0000, 9,   -999.00, -999.000, 9, -999.000,   -999.0, 9,   -999.0,  -999.00, 9,   -999.0,   2.2539, 27.835,   2.4729, 2, 2801.2, 2, 233.99, 2, 0.23, 0.1, 0.01, 0.01, -999, 9,  -999.00, 9, -999, -999, 9, -999
49NZ20031106, A10, 56, 1, 7, 12043, 9, 20031121, 1608, -29.9960, -12.9898, 3098,   2899.9, 2,   2.4738, 2,  34.8550, 2, -999.0000, 9,    227.6, 1,   -999.0, 9,  -999.00, 9,  -999.00, 9,  -999.00, 9,  -999.00, 9, -999.000, 9, -999.000, 9, -999.000, 9,   -999.0, 9,   -999.0, 9, -999.0000, 9,   -999.00, -999.000, 9, -999.000,   -999.0, 9,   -999.0,  -999.00, 9,   -999.0,   2.2449, 27.8364,   2.4738, 2, 2899.9, 2, 234.87, 2, -999, -999, -999, -999, -999, 9,  -999.00, 9, -999, -999, 9, -999
49NZ20031106, A10, 56, 1, 13, 12013, 2, 20031121, 1608, -29.9960, -12.9898, 3098,   3000.5, 2,   2.4737, 2,  34.8557, 2,  34.8554, 2,    228.2, 1,    235.1, 2,    49.88, 2,    23.94, 2,     0.00, 2,     1.63, 2, -999.000, 9, -999.000, 9, -999.000, 9,   -999.0, 9,   -999.0, 9, -999.0000, 9,   -999.00, -999.000, 9, -999.000,   -999.0, 9,   -999.0,  -999.00, 9,   -999.0,   2.2347, 27.8379,   2.4737, 2, 3000.6, 2, 235.14, 2, 0.23, 0.1, 0.01, 0.01, -999, 9,  -999.00, 9, -999, -999, 9, -999
49NZ20031106, A10, 56, 1, 12, 12048, 2, 20031121, 1608, -29.9960, -12.9898, 3098,   3136.8, 2,   2.4846, 2,  34.8561, 2,  34.8560, 2,    229.2, 1,    235.3, 2,    49.97, 2,    23.90, 2,     0.00, 2,     1.62, 2, -999.000, 9, -999.000, 9, -999.000, 9,   -999.0, 9,   -999.0, 9, -999.0000, 9,   -999.00, -999.000, 9, -999.000,   -999.0, 9,   -999.0,  -999.00, 9,   -999.0,   2.2314, 27.8384,   2.4847, 2, 3136.8, 2, 235.42, 2, 0.23, 0.1, 0.01, 0.01, -999, 9,  -999.00, 9, -999, -999, 9, -999