BOTTLE,20220818CCHSIOAMB
EXPOCODE,SECT_ID,STNNBR,CASTNO,SAMPNO,BTLNBR,BTLNBR_FLAG_W,DATE,TIME,LATITUDE,LONGITUDE,DEPTH,CTDPRS,CTDPRS_FLAG_W,CTDTMP,CTDTMP_FLAG_W,CTDSAL,CTDSAL_FLAG_W,SALNTY,SALNTY_FLAG_W,CTDOXY,CTDOXY_FLAG_W,OXYGEN,OXYGEN_FLAG_W,SILCAT,SILCAT_FLAG_W,NITRAT,NITRAT_FLAG_W,NITRIT,NITRIT_FLAG_W,PHSPHT,PHSPHT_FLAG_W,CFC-11,CFC-11_FLAG_W,CFC-12,CFC-12_FLAG_W,CFC113,CFC113_FLAG_W,TCARBN,TCARBN_FLAG_W,ALKALI,ALKALI_FLAG_W,PH_TOT,PH_TOT_FLAG_W,PH_TMP,TRITUM,TRITUM_FLAG_W,TRITER,DELC14,DELC14_FLAG_W,C14ERR,DELC13,DELC13_FLAG_W,C13ERR,THETA,SIG0,SBE35,SBE35_FLAG_W,DWNPRS,DWNPRS_FLAG_W,DWNOXY,DWNOXY_FLAG_W,SILUNC,NRAUNC,NRIUNC,PHPUNC,TOC,TOC_FLAG_W,CS-137,CS-137_FLAG_W,CS137ER,PLUTO,PLUTO_FLAG_W,PLUTOER
,,,,,,,,,,,METERS,DBAR,,ITS-90,,PSS-78,,PSS-78,,UMOL/KG,,UMOL/KG,,UMOL/KG,,UMOL/KG,,UMOL/KG,,UMOL/KG,,PMOL/KG,,PMOL/KG,,PMOL/KG,,UMOL/KG,,UMOL/KG,,,,DEG C,TU,,TU,/MILLE,,/MILLE,/MILLE,,/MILLE,DEG C,KG/M^3,ITS-90,,DBAR,,UMOL/KG,,UMOL/KG,UMOL/KG,UMOL/KG,UMOL/KG,UMOL/KG,,BQ/M^3,,BQ/M^3,MBQ/M^3,,MBQ/M^3
49NZ20031106, A10, 10, 1, 36, 12048, 2, 20031111, 40, -30.0067, -39.5230, 3986,     10.1, 2,  20.2800, 2,  36.0608, 2,  36.0584, 2,    216.2, 1,    227.9, 2,     0.78, 2,     0.05, 2,     0.00, 2,     0.05, 2, -999.000, 9, -999.000, 9, -999.000, 9,   -999.0, 9,   -999.0, 9, -999.0000, 9,   -999.00, -999.000, 9, -999.000,   -999.0, 9,   -999.0,  -999.00, 9,   -999.0,  20.2781, 25.4997,  20.2778, 2, 9.6, 2, 228.57, 2, 0.12, 0.03, 0.01, 0.03, -999, 9,  -999.00, 9, -999, -999, 9, -999
49NZ20031106, A10, 10, 1, 35, 12047, 2, 20031111, 40, -30.0067, -39.5230, 3986,     50.8, 2,  19.9938, 2,  36.0782, 2,  36.0790, 2,    217.7, 1,    229.2, 2,     0.77, 2,     0.02, 2,     0.00, 2,     0.05, 2, -999.000, 9, -999.000, 9, -999.000, 9,   -999.0, 9,   -999.0, 9, -999.0000, 9,   -999.00, -999.000, 9, -999.000,   -999.0, 9,   -999.0,  -999.00, 9,   -999.0,  19.9844, 25.5908,  19.9924, 2, 47.8, 2, 229.62, 2, 0.12, 0.03, 0.01, 0.03, -999, 9,  -999.00, 9, -999, -999, 9, -999
49NZ20031106, A10, 10, 1, 34, 12046, 2, 20031111, 40, -30.0067, -39.5230, 3986,     99.9, 2,  17.6416, 2,  35.8957, 2,  35.8925, 2,    217.3, 1,    227.9, 2,     0.94, 2,     0.35, 2,     0.05, 2,     0.15, 2, -999.000, 9, -999.000, 9, -999.000, 9,   -999.0, 9,   -999.0, 9, -999.0000, 9,   -999.00, -999.000, 9, -999.000,   -999.0, 9,   -999.0,  -999.00, 9,   -999.0,  17.6246, 26.0523,  17.6420, 2, 94, 2, 231.02, 2, 0.12, 0.03, 0.01, 0.02, -999, 9,  -999.00, 9, -999, -999, 9, -999
49NZ20031106, A10, 10, 1, 33, 12045, 2, 20031111, 40, -30.0067, -39.5230, 3986,    150.2, 2,  17.1008, 2,  35.8849, 2,  35.8854, 2,    210.7, 1,    220.9, 2,     1.11, 2,     1.85, 2,     0.03, 2,     0.24, 2, -999.000, 9, -999.000, 9, -999.000, 9,   -999.0, 9,   -999.0, 9, -999.0000, 9,   -999.00, -999.000, 9, -999.000,   -999.0, 9,   -999.0,  -999.00, 9,   -999.0,  17.0758, 26.1769,  17.1005, 2, 145.9, 2, 218.59, 2, 0.12, 0.04, 0.01, 0.02, -999, 9,  -999.00, 9, -999, -999, 9, -999
49NZ20031106, A10, 10, 1, 32, 12044, 2, 20031111, 40, -30.0067, -39.5230, 3986,    200.2, 2,  15.6261, 2,  35.5826, 2,  35.5825, 2,    203.8, 1,    213.4, 2,     1.63, 2,     4.07, 2,     0.01, 2,     0.41, 2, -999.000, 9, -999.000, 9, -999.000, 9,   -999.0, 9,   -999.0, 9, -999.0000, 9,   -999.00, -999.000, 9, -999.000,   -999.0, 9,   -999.0,  -999.00, 9,   -999.0,  15.5948, 26.2894,  15.6267, 2, 196.1, 2, 213.27, 2, 0.12, 0.04, 0.01, 0.01, -999, 9,  -999.00, 9, -999, -999, 9, -999
49NZ20031106, A10, 10, 1, 31, 12043, 2, 20031111, 40, -30.0067, -39.5230, 3986,    247.9, 2,  14.7546, 2,  35.4654, 2,  35.4646, 2,    203.5, 1,    212.8, 2,     2.00, 2,     5.78, 2,     0.01, 2,     0.52, 2, -999.000, 9, -999.000, 9, -999.000, 9,   -999.0, 9,   -999.0, 9, -999.0000, 9,   -999.00, -999.000, 9, -999.000,   -999.0, 9,   -999.0,  -999.00, 9,   -999.0,  14.7173, 26.3937,  14.7547, 2, 247.7, 2, 213.23, 2, 0.12, 0.05, 0.01, 0.01, -999, 9,  -999.00, 9, -999, -999, 9, -999
49NZ20031106, A10, 10, 1, 30, 12042, 2, 20031111, 40, -30.0067, -39.5230, 3986,    299.0, 2,  14.1949, 2,  35.4112, 2,  35.4107, 2,    203.9, 1,    213.0, 2,     2.30, 2,     7.23, 2,     0.01, 2,     0.60, 2, -999.000, 9, -999.000, 9, -999.000, 9,   -999.0, 9,   -999.0, 9, -999.0000, 9,   -999.00, -999.000, 9, -999.000,   -999.0, 9,   -999.0,  -999.00, 9,   -999.0,  14.1510, 26.4742,  14.1951, 2, 299.4, 2, 212.79, 2, 0.12, 0.05, 0.01, 0.01, -999, 9,  -999.00, 9, -999, -999, 9, -999
49NZ20031106, A10, 10, 1, 29, 12041, 2, 20031111, 40, -30.0067, -39.5230, 3986,    401.8, 2,  12.2137, 2,  35.1034, 2,  35.1045, 2,    201.7, 1,    210.0, 2,     3.81, 2,    11.68, 2,     0.00, 2,     0.88, 2, -999.000, 9, -999.000, 9, -999.000, 9,   -999.0, 9,   -999.0, 9, -999.0000, 9,   -999.00, -999.000, 9, -999.000,   -999.0, 9,   -999.0,  -999.00, 9,   -999.0,  12.1602, 26.6392,  12.2135, 2, 404.6, 2, 210.72, 2, 0.13, 0.07, 0.01, 0.01, -999, 9,  -999.00, 9, -999, -999, 9, -999
49NZ20031106, A10, 10, 1, 28, 12040, 2, 20031111, 40, -30.0067, -39.5230, 3986,    501.0, 2,  10.1102, 2,  34.8210, 2,  34.8224, 2,    201.1, 1,    208.9, 2,     6.06, 2,    16.87, 2,    -0.01, 2,     1.21, 2, -999.000, 9, -999.000, 9, -999.000, 9,   -999.0, 9,   -999.0, 9, -999.0000, 9,   -999.00, -999.000, 9, -999.000,   -999.0, 9,   -999.0,  -999.00, 9,   -999.0,  10.0509, 26.8033,  10.1121, 2, 503.2, 2, 208.99, 2, 0.13, 0.08, 0.01, 0.01, -999, 9,  -999.00, 9, -999, -999, 9, -999
49NZ20031106, A10, 10, 1, 27, 12039, 2, 20031111, 40, -30.0067, -39.5230, 3986,    598.1, 2,   7.9790, 2,  34.5641, 2,  34.5636, 2,    206.7, 1,    214.7, 2,     9.26, 2,    21.73, 2,    -0.01, 2,     1.52, 2, -999.000, 9, -999.000, 9, -999.000, 9,   -999.0, 9,   -999.0, 9, -999.0000, 9,   -999.00, -999.000, 9, -999.000,   -999.0, 9,   -999.0,  -999.00, 9,   -999.0,   7.9174, 26.9437,   7.9795, 2, 599.5, 2, 213.76, 2, 0.14, 0.09, 0.01, 0.01, -999, 9,  -999.00, 9, -999, -999, 9, -999
49NZ20031106, A10, 10, 1, 26, 12038, 2, 20031111, 40, -30.0067, -39.5230, 3986,    699.9, 2,   5.8834, 2,  34.3434, 2,  34.3437, 2,    223.5, 1,    232.5, 2,    12.42, 2,    25.27, 2,     0.00, 2,     1.75, 2, -999.000, 9, -999.000, 9, -999.000, 9,   -999.0, 9,   -999.0, 9, -999.0000, 9,   -999.00, -999.000, 9, -999.000,   -999.0, 9,   -999.0,  -999.00, 9,   -999.0,   5.8221, 27.0561,   5.8835, 2, 702.4, 2, 230.32, 2, 0.15, 0.1, 0.01, 0.01, -999, 9,  -999.00, 9, -999, -999, 9, -999
49NZ20031106, A10, 10, 1, 25, 12037, 2, 20031111, 40, -30.0067, -39.5230, 3986,    799.7, 2,   4.9021, 2,  34.2843, 2,  34.2842, 2,    227.2, 1,    236.6, 2,    16.99, 2,    27.33, 2,    -0.01, 2,     1.89, 2, -999.000, 9, -999.000, 9, -999.000, 9,   -999.0, 9,   -999.0, 9, -999.0000, 9,   -999.00, -999.000, 9, -999.000,   -999.0, 9,   -999.0,  -999.00, 9,   -999.0,   4.8375, 27.1265,   4.9022, 2, 802.1, 2, 236.19, 2, 0.16, 0.11, 0.01, 0.01, -999, 9,  -999.00, 9, -999, -999, 9, -999
49NZ20031106, A10, 10, 1, 24, 12036, 2, 20031111, 40, -30.0067, -39.5230, 3986,    900.4, 2,   4.2312, 2,  34.2731, 2,  34.2731, 2,    222.1, 1,    231.1, 2,    23.10, 2,    29.20, 2,     0.00, 2,     2.00, 2, -999.000, 9, -999.000, 9, -999.000, 9,   -999.0, 9,   -999.0, 9, -999.0000, 9,   -999.00, -999.000, 9, -999.000,   -999.0, 9,   -999.0,  -999.00, 9,   -999.0,   4.1625, 27.1914,   4.2314, 2, 901.1, 2, 231.89, 2, 0.17, 0.11, 0.01, 0.02, -999, 9,  -999.00, 9, -999, -999, 9, -999
49NZ20031106, A10, 10, 1, 4, 12016, 9, 20031111, 40, -30.0067, -39.5230, 3986,   1000.5, 2,   3.5971, 2,  34.2950, 2, -999.0000, 9,    212.6, 1,   -999.0, 9,  -999.00, 9,  -999.00, 9,  -999.00, 9,  -999.00, 9, -999.000, 9, -999.000, 9, -999.000, 9,   -999.0, 9,   -999.0, 9, -999.0000, 9,   -999.00, -999.000, 9, -999.000,   -999.0, 9,   -999.0,  -999.00, 9,   -999.0,   3.5249, 27.2741,   3.5928, 2, 1002.6, 2, 222.89, 2, -999, -999, -999, -999, -999, 9,  -999.00, 9, -999, -999, 9, -999
49NZ20031106, A10, 10, 1, 2, 12014, 9, 20031111, 40, -30.0067, -39.5230, 3986,   1000.6, 2,   3.6142, 2,  34.2927, 2, -999.0000, 9,    212.8, 1,   -999.0, 9,  -999.00, 9,  -999.00, 9,  -999.00, 9,  -999.00, 9, -999.000, 9, -999.000, 9, -999.000, 9,   -999.0, 9,   -999.0, 9, -999.0000, 9,   -999.00, -999.000, 9, -999.000,   -999.0, 9,   -999.0,  -999.00, 9,   -999.0,   3.5418, 27.27,   3.6161, 2, 1001.9, 2, 222.93, 2, -999, -999, -999, -999, -999, 9,  -999.00, 9, -999, -999, 9, -999
49NZ20031106, A10, 10, 1, 1, 12013, 9, 20031111, 40, -30.0067, -39.5230, 3986,   1000.6, 2,   3.6184, 2,  34.2928, 2, -999.0000, 9,    212.4, 1,   -999.0, 9,  -999.00, 9,  -999.00, 9,  -999.00, 9,  -999.00, 9, -999.000, 9, -999.000, 9, -999.000, 9,   -999.0, 9,   -999.0, 9, -999.0000, 9,   -999.00, -999.000, 9, -999.000,   -999.0, 9,   -999.0,  -999.00, 9,   -999.0,   3.5460, 27.2711,   3.6128, 2, 1001.8, 2, 222.92, 2, -999, -999, -999, -999, -999, 9,  -999.00, 9, -999, -999, 9, -999
49NZ20031106, A10, 10, 1, 23, 12035, 2, 20031111, 40, -30.0067, -39.5230, 3986,   1000.7, 2,   3.6052, 2,  34.2933, 2,  34.2929, 2,    212.8, 1,    221.7, 2,    31.39, 2,    30.85, 2,    -0.01, 2,     2.13, 2, -999.000, 9, -999.000, 9, -999.000, 9,   -999.0, 9,   -999.0, 9, -999.0000, 9,   -999.00, -999.000, 9, -999.000,   -999.0, 9,   -999.0,  -999.00, 9,   -999.0,   3.5329, 27.2719,   3.6050, 2, 1002.3, 2, 222.91, 2, 0.19, 0.12, 0.01, 0.02, -999, 9,  -999.00, 9, -999, -999, 9, -999
49NZ20031106, A10, 10, 1, 6, 12018, 9, 20031111, 40, -30.0067, -39.5230, 3986,   1000.8, 2,   3.5990, 2,  34.2940, 2, -999.0000, 9,    212.5, 1,   -999.0, 9,  -999.00, 9,  -999.00, 9,  -999.00, 9,  -999.00, 9, -999.000, 9, -999.000, 9, -999.000, 9,   -999.0, 9,   -999.0, 9, -999.0000, 9,   -999.00, -999.000, 9, -999.000,   -999.0, 9,   -999.0,  -999.00, 9,   -999.0,   3.5267, 27.2727,   3.5970, 2, 1002.7, 2, 222.89, 2, -999, -999, -999, -999, -999, 9,  -999.00, 9, -999, -999, 9, -999
49NZ20031106, A10, 10, 1, 5, 12017, 9, 20031111, 40, -30.0067, -39.5230, 3986,   1000.8, 2,   3.5913, 2,  34.2947, 2, -999.0000, 9,    212.5, 1,   -999.0, 9,  -999.00, 9,  -999.00, 9,  -999.00, 9,  -999.00, 9, -999.000, 9, -999.000, 9, -999.000, 9,   -999.0, 9,   -999.0, 9, -999.0000, 9,   -999.00, -999.000, 9, -999.000,   -999.0, 9,   -999.0,  -999.00, 9,   -999.0,   3.5191, 27.2751,   3.5836, 2, 1003, 2, 222.87, 2, -999, -999, -999, -999, -999, 9,  -999.00, 9, -999, -999, 9, -999
49NZ20031106, A10, 10, 1, 3, 12012, 9, 20031111, 40, -30.0067, -39.5230, 3986,   1000.8, 2,   3.5926, 2,  34.2956, 2, -999.0000, 9,    212.6, 1,   -999.0, 9,  -999.00, 9,  -999.00, 9,  -999.00, 9,  -999.00, 9, -999.000, 9, -999.000, 9, -999.000, 9,   -999.0, 9,   -999.0, 9, -999.0000, 9,   -999.00, -999.000, 9, -999.000,   -999.0, 9,   -999.0,  -999.00, 9,   -999.0,   3.5204, 27.2726,   3.5973, 2, 1003.1, 2, 222.86, 2, -999, -999, -999, -999, -999, 9,  -999.00, 9, -999, -999, 9, -999
49NZ20031106, A10, 10, 1, 22, 12034, 2, 20031111, 40, -30.0067, -39.5230, 3986,   1201.2, 2,   3.1913, 2,  34.4376, 2,  34.4355, 2,    186.8, 1,    194.1, 2,    47.33, 2,    32.64, 2,    -0.01, 2,     2.25, 2, -999.000, 9, -999.000, 9, -999.000, 9,   -999.0, 9,   -999.0, 9, -999.0000, 9,   -999.00, -999.000, 9, -999.000,   -999.0, 9,   -999.0,  -999.00, 9,   -999.0,   3.1062, 27.4263,   3.1914, 2, 1202.8, 2, 195.91, 2, 0.22, 0.12, 0.01, 0.02, -999, 9,  -999.00, 9, -999, -999, 9, -999
49NZ20031106, A10, 10, 1, 21, 12033, 2, 20031111, 40, -30.0067, -39.5230, 3986,   1399.9, 2,   2.9695, 2,  34.5451, 2,  34.5458, 2,    181.7, 1,    188.5, 2,    54.02, 2,    32.19, 2,     0.00, 2,     2.22, 2, -999.000, 9, -999.000, 9, -999.000, 9,   -999.0, 9,   -999.0, 9, -999.0000, 9,   -999.00, -999.000, 9, -999.000,   -999.0, 9,   -999.0,  -999.00, 9,   -999.0,   2.8703, 27.5341,   2.9694, 2, 1399.1, 2, 189.42, 2, 0.24, 0.12, 0.01, 0.02, -999, 9,  -999.00, 9, -999, -999, 9, -999
49NZ20031106, A10, 10, 1, 20, 12032, 2, 20031111, 40, -30.0067, -39.5230, 3986,   1600.9, 2,   2.9254, 2,  34.6727, 2,  34.6723, 2,    187.5, 1,    194.5, 2,    53.83, 2,    30.06, 2,     0.00, 2,     2.07, 2, -999.000, 9, -999.000, 9, -999.000, 9,   -999.0, 9,   -999.0, 9, -999.0000, 9,   -999.00, -999.000, 9, -999.000,   -999.0, 9,   -999.0,  -999.00, 9,   -999.0,   2.8097, 27.6415,   2.9251, 2, 1601.5, 2, 194.39, 2, 0.24, 0.12, 0.01, 0.02, -999, 9,  -999.00, 9, -999, -999, 9, -999
49NZ20031106, A10, 10, 1, 19, 12031, 2, 20031111, 40, -30.0067, -39.5230, 3986,   1800.3, 2,   3.2248, 2,  34.8151, 2,  34.8166, 2,    207.6, 1,    215.6, 2,    40.68, 2,    25.69, 2,    -0.01, 2,     1.76, 2, -999.000, 9, -999.000, 9, -999.000, 9,   -999.0, 9,   -999.0, 9, -999.0000, 9,   -999.00, -999.000, 9, -999.000,   -999.0, 9,   -999.0,  -999.00, 9,   -999.0,   3.0875, 27.7299,   3.2246, 2, 1800.4, 2, 213.92, 2, 0.21, 0.1, 0.01, 0.01, -999, 9,  -999.00, 9, -999, -999, 9, -999
49NZ20031106, A10, 10, 1, 18, 12030, 2, 20031111, 40, -30.0067, -39.5230, 3986,   2000.7, 2,   3.3423, 2,  34.8998, 2,  34.9003, 2,    225.8, 1,    234.9, 2,    30.63, 2,    22.42, 2,    -0.01, 2,     1.52, 2, -999.000, 9, -999.000, 9, -999.000, 9,   -999.0, 9,   -999.0, 9, -999.0000, 9,   -999.00, -999.000, 9, -999.000,   -999.0, 9,   -999.0,  -999.00, 9,   -999.0,   3.1847, 27.7881,   3.3426, 2, 2000.8, 2, 238.55, 2, 0.19, 0.1, 0.01, 0.01, -999, 9,  -999.00, 9, -999, -999, 9, -999
49NZ20031106, A10, 10, 1, 17, 12029, 2, 20031111, 40, -30.0067, -39.5230, 3986,   2200.6, 2,   3.3076, 2,  34.9310, 2,  34.9297, 2,    235.4, 1,    244.7, 2,    27.01, 2,    20.95, 2,    -0.01, 2,     1.42, 2, -999.000, 9, -999.000, 9, -999.000, 9,   -999.0, 9,   -999.0, 9, -999.0000, 9,   -999.00, -999.000, 9, -999.000,   -999.0, 9,   -999.0,  -999.00, 9,   -999.0,   3.1315, 27.8181,   3.3075, 2, 2201.1, 2, 245.56, 2, 0.18, 0.09, 0.01, 0.01, -999, 9,  -999.00, 9, -999, -999, 9, -999
49NZ20031106, A10, 10, 1, 16, 12028, 2, 20031111, 40, -30.0067, -39.5230, 3986,   2400.6, 2,   3.1673, 2,  34.9319, 2,  34.9321, 2,    238.4, 1,    247.9, 2,    27.57, 2,    20.67, 2,     0.00, 2,     1.40, 2, -999.000, 9, -999.000, 9, -999.000, 9,   -999.0, 9,   -999.0, 9, -999.0000, 9,   -999.00, -999.000, 9, -999.000,   -999.0, 9,   -999.0,  -999.00, 9,   -999.0,   2.9741, 27.8337,   3.1670, 2, 2400.8, 2, 243.64, 2, 0.18, 0.09, 0.01, 0.01, -999, 9,  -999.00, 9, -999, -999, 9, -999
49NZ20031106, A10, 10, 1, 15, 12027, 2, 20031111, 40, -30.0067, -39.5230, 3986,   2600.7, 2,   3.0278, 2,  34.9244, 2,  34.9246, 2,    238.7, 1,    248.1, 2,    29.93, 2,    20.86, 2,     0.00, 2,     1.42, 2, -999.000, 9, -999.000, 9, -999.000, 9,   -999.0, 9,   -999.0, 9, -999.0000, 9,   -999.00, -999.000, 9, -999.000,   -999.0, 9,   -999.0,  -999.00, 9,   -999.0,   2.8174, 27.8419,   3.0277, 2, 2600.8, 2, 247.76, 2, 0.18, 0.09, 0.01, 0.01, -999, 9,  -999.00, 9, -999, -999, 9, -999
49NZ20031106, A10, 10, 1, 14, 12026, 2, 20031111, 40, -30.0067, -39.5230, 3986,   2800.4, 2,   2.9356, 2,  34.9257, 2,  34.9257, 2,    240.8, 1,    250.1, 2,    30.44, 2,    20.66, 2,     0.00, 2,     1.40, 2, -999.000, 9, -999.000, 9, -999.000, 9,   -999.0, 9,   -999.0, 9, -999.0000, 9,   -999.00, -999.000, 9, -999.000,   -999.0, 9,   -999.0,  -999.00, 9,   -999.0,   2.7069, 27.8528,   2.9356, 2, 2800.8, 2, 250.02, 2, 0.19, 0.09, 0.01, 0.01, -999, 9,  -999.00, 9, -999, -999, 9, -999
49NZ20031106, A10, 10, 1, 13, 12025, 2, 20031111, 40, -30.0067, -39.5230, 3986,   3001.1, 2,   2.8398, 2,  34.9228, 2,  34.9224, 2,    242.1, 1,    251.1, 2,    31.77, 2,    20.62, 2,    -0.01, 2,     1.40, 2, -999.000, 9, -999.000, 9, -999.000, 9,   -999.0, 9,   -999.0, 9, -999.0000, 9,   -999.00, -999.000, 9, -999.000,   -999.0, 9,   -999.0,  -999.00, 9,   -999.0,   2.5925, 27.8604,   2.8399, 2, 3000.8, 2, 251.03, 2, 0.19, 0.09, 0.01, 0.01, -999, 9,  -999.00, 9, -999, -999, 9, -999
49NZ20031106, A10, 10, 1, 12, 12024, 2, 20031111, 40, -30.0067, -39.5230, 3986,   3251.0, 2,   2.6777, 2,  34.9132, 2,  34.9132, 2,    243.1, 1,    251.8, 2,    35.01, 2,    20.82, 2,     0.00, 2,     1.41, 2, -999.000, 9, -999.000, 9, -999.000, 9,   -999.0, 9,   -999.0, 9, -999.0000, 9,   -999.00, -999.000, 9, -999.000,   -999.0, 9,   -999.0,  -999.00, 9,   -999.0,   2.4078, 27.8687,   2.6778, 2, 3252, 2, 251.72, 2, 0.2, 0.09, 0.01, 0.01, -999, 9,  -999.00, 9, -999, -999, 9, -999
49NZ20031106, A10, 10, 1, 8, 12020, 9, 20031111, 40, -30.0067, -39.5230, 3986,   3401.3, 2,   2.5508, 2,  34.9021, 2, -999.0000, 9,    242.6, 1,   -999.0, 9,  -999.00, 9,  -999.00, 9,  -999.00, 9,  -999.00, 9, -999.000, 9, -999.000, 9, -999.000, 9,   -999.0, 9,   -999.0, 9, -999.0000, 9,   -999.00, -999.000, 9, -999.000,   -999.0, 9,   -999.0,  -999.00, 9,   -999.0,   2.2678, 27.8716,   2.5505, 2, 3402, 2, 251.06, 2, -999, -999, -999, -999, -999, 9,  -999.00, 9, -999, -999, 9, -999
49NZ20031106, A10, 10, 1, 11, 12023, 2, 20031111, 40, -30.0067, -39.5230, 3986,   3500.6, 2,   2.3733, 2,  34.8855, 2,  34.8842, 2,    240.7, 1,    248.5, 2,    45.26, 2,    22.09, 2,     0.00, 2,     1.50, 2, -999.000, 9, -999.000, 9, -999.000, 9,   -999.0, 9,   -999.0, 9, -999.0000, 9,   -999.00, -999.000, 9, -999.000,   -999.0, 9,   -999.0,  -999.00, 9,   -999.0,   2.0841, 27.8733,   2.3742, 2, 3501.3, 2, 249.18, 2, 0.22, 0.09, 0.01, 0.01, -999, 9,  -999.00, 9, -999, -999, 9, -999
49NZ20031106, A10, 10, 1, 7, 12019, 9, 20031111, 40, -30.0067, -39.5230, 3986,   3600.5, 2,   1.9657, 2,  34.8447, 2, -999.0000, 9,    234.6, 1,   -999.0, 9,  -999.00, 9,  -999.00, 9,  -999.00, 9,  -999.00, 9, -999.000, 9, -999.000, 9, -999.000, 9,   -999.0, 9,   -999.0, 9, -999.0000, 9,   -999.00, -999.000, 9, -999.000,   -999.0, 9,   -999.0,  -999.00, 9,   -999.0,   1.6763, 27.8726,   1.9655, 2, 3598.3, 2, 241.86, 2, -999, -999, -999, -999, -999, 9,  -999.00, 9, -999, -999, 9, -999
49NZ20031106, A10, 10, 1, 10, 12022, 2, 20031111, 40, -30.0067, -39.5230, 3986,   3750.6, 2,   1.3803, 2,  34.7853, 2,  34.7849, 2,    226.2, 1,    232.7, 2,    83.25, 2,    27.34, 2,    -0.01, 2,     1.89, 2, -999.000, 9, -999.000, 9, -999.000, 9,   -999.0, 9,   -999.0, 9, -999.0000, 9,   -999.00, -999.000, 9, -999.000,   -999.0, 9,   -999.0,  -999.00, 9,   -999.0,   1.0907, 27.8673,   1.3803, 2, 3750.6, 2, 233.09, 2, 0.3, 0.11, 0.01, 0.01, -999, 9,  -999.00, 9, -999, -999, 9, -999
49NZ20031106, A10, 10, 1, 9, 12015, 2, 20031111, 40, -30.0067, -39.5230, 3986,   4042.1, 2,   0.8576, 2,  34.7245, 2,  34.7244, 2,    217.7, 1,    222.0, 2,   106.33, 2,    30.53, 2,     0.00, 2,     2.12, 2, -999.000, 9, -999.000, 9, -999.000, 9,   -999.0, 9,   -999.0, 9, -999.0000, 9,   -999.00, -999.000, 9, -999.000,   -999.0, 9,   -999.0,  -999.00, 9,   -999.0,   0.5522, 27.8532,   0.8574, 2, 4042.1, 2, 221.88, 2, 0.35, 0.12, 0.01, 0.02, -999, 9,  -999.00, 9, -999, -999, 9, -999