BOTTLE,20220818CCHSIOAMB
EXPOCODE,SECT_ID,STNNBR,CASTNO,SAMPNO,BTLNBR,BTLNBR_FLAG_W,DATE,TIME,LATITUDE,LONGITUDE,DEPTH,CTDPRS,CTDPRS_FLAG_W,CTDTMP,CTDTMP_FLAG_W,CTDSAL,CTDSAL_FLAG_W,SALNTY,SALNTY_FLAG_W,CTDOXY,CTDOXY_FLAG_W,OXYGEN,OXYGEN_FLAG_W,SILCAT,SILCAT_FLAG_W,NITRAT,NITRAT_FLAG_W,NITRIT,NITRIT_FLAG_W,PHSPHT,PHSPHT_FLAG_W,CFC-11,CFC-11_FLAG_W,CFC-12,CFC-12_FLAG_W,CFC113,CFC113_FLAG_W,TCARBN,TCARBN_FLAG_W,ALKALI,ALKALI_FLAG_W,PH_TOT,PH_TOT_FLAG_W,PH_TMP,TRITUM,TRITUM_FLAG_W,TRITER,DELC14,DELC14_FLAG_W,C14ERR,DELC13,DELC13_FLAG_W,C13ERR,THETA,SIG0,SBE35,SBE35_FLAG_W,DWNPRS,DWNPRS_FLAG_W,DWNOXY,DWNOXY_FLAG_W,SILUNC,NRAUNC,NRIUNC,PHPUNC,TOC,TOC_FLAG_W,CS-137,CS-137_FLAG_W,CS137ER,PLUTO,PLUTO_FLAG_W,PLUTOER
,,,,,,,,,,,METERS,DBAR,,ITS-90,,PSS-78,,PSS-78,,UMOL/KG,,UMOL/KG,,UMOL/KG,,UMOL/KG,,UMOL/KG,,UMOL/KG,,PMOL/KG,,PMOL/KG,,PMOL/KG,,UMOL/KG,,UMOL/KG,,,,DEG C,TU,,TU,/MILLE,,/MILLE,/MILLE,,/MILLE,DEG C,KG/M^3,ITS-90,,DBAR,,UMOL/KG,,UMOL/KG,UMOL/KG,UMOL/KG,UMOL/KG,UMOL/KG,,BQ/M^3,,BQ/M^3,MBQ/M^3,,MBQ/M^3
49NZ20031106, A10, 75, 1, 1, 12025, 9, 20031127, 454, -29.7263, 1.1318, 3705,      8.8, 2,  19.3997, 2,  35.9766, 2, -999.0000, 9,    219.5, 1,   -999.0, 9,  -999.00, 9,  -999.00, 9,  -999.00, 9,  -999.00, 9, -999.000, 9, -999.000, 9, -999.000, 9,   -999.0, 9,   -999.0, 9, -999.0000, 9,   -999.00, -999.000, 9, -999.000,   -999.0, 9,   -999.0,  -999.00, 9,   -999.0,  19.3981, 25.6669,  19.4000, 2, 10.7, 2, 231.9, 2, -999, -999, -999, -999, -999, 9,  -999.00, 9, -999, -999, 9, -999
49NZ20031106, A10, 75, 1, 36, 12024, 2, 20031127, 454, -29.7263, 1.1318, 3705,      8.9, 2,  19.4000, 2,  35.9764, 2,  35.9764, 2,    219.7, 1,    232.0, 2,     1.66, 2,     0.01, 2,     0.00, 2,     0.20, 2,    2.528, 2,    1.304, 2,    0.335, 4,   2074.6, 2,   2361.0, 2,    8.0075, 2,     25.00, -999.000, 9, -999.000,     78.7, 2,      3.7,     1.43, 2,      0.0,  19.3984, 25.667,  19.3997, 2, 10.8, 2, 231.91, 2, 0.12, 0.03, 0.01, 0.02, -999, 1,  -999.00, 9, -999, -999, 9, -999
49NZ20031106, A10, 75, 1, 35, 12023, 2, 20031127, 454, -29.7263, 1.1318, 3705,     48.3, 2,  18.9115, 2,  35.9177, 2,  35.9247, 2,    223.7, 1,    236.0, 2,     1.67, 2,    -0.01, 2,     0.00, 2,     0.20, 2,    2.606, 3,    1.451, 3,    0.331, 4,   2071.0, 6,   2352.7, 2,    8.0010, 2,     25.00, -999.000, 9, -999.000,     68.8, 2,      4.0,     1.40, 2,      0.0,  18.9029, 25.7461,  18.9343, 2, 55.9, 2, 234.56, 2, 0.12, 0.03, 0.01, 0.02, -999, 1,  -999.00, 9, -999, -999, 9, -999
49NZ20031106, A10, 75, 1, 34, 12022, 2, 20031127, 454, -29.7263, 1.1318, 3705,     99.9, 2,  16.6878, 2,  35.6880, 2,  35.6828, 2,    219.8, 1,    231.3, 2,     2.14, 2,     1.48, 2,     0.21, 2,     0.30, 2,    2.852, 3,    1.592, 3,    0.246, 4,   2077.0, 2,   2340.8, 6,    7.9611, 2,     25.00, -999.000, 9, -999.000,     62.4, 2,      4.1,     1.20, 2,      0.0,  16.6715, 26.1227,  16.6881, 2, 103.6, 2, 236.14, 2, 0.12, 0.04, 0.01, 0.01, -999, 1,  -999.00, 9, -999, -999, 9, -999
49NZ20031106, A10, 75, 1, 33, 12015, 2, 20031127, 454, -29.7263, 1.1318, 3705,    151.1, 2,  15.4269, 2,  35.4910, 2,  35.4895, 2,    206.6, 1,    216.9, 2,     2.70, 2,     5.02, 2,     0.01, 2,     0.49, 2,    2.994, 2,    1.576, 2,    0.178, 4,   2094.1, 2,   2327.5, 2,    7.9140, 6,     25.00, -999.000, 9, -999.000,     79.8, 2,      3.9,     1.06, 2,      0.0,  15.4035, 26.2629,  15.4269, 2, 158.6, 2, 218.14, 2, 0.12, 0.05, 0.01, 0.01, -999, 1,  -999.00, 9, -999, -999, 9, -999
49NZ20031106, A10, 75, 1, 32, 12020, 2, 20031127, 454, -29.7263, 1.1318, 3705,    201.1, 2,  14.2865, 2,  35.3351, 2,  35.3341, 2,    203.5, 1,    213.4, 2,     3.21, 2,     7.36, 2,     0.01, 2,     0.64, 2,    3.175, 2,    1.649, 2,    0.149, 4,   2103.8, 2,   2317.1, 2,    7.8793, 2,     25.00, -999.000, 9, -999.000,     93.4, 6,      2.7,     1.03, 6,      0.0,  14.2569, 26.3935,  14.2870, 2, 204.4, 2, 213.01, 2, 0.13, 0.05, 0.01, 0.01, -999, 1,  -999.00, 9, -999, -999, 9, -999
49NZ20031106, A10, 75, 1, 31, 12019, 2, 20031127, 454, -29.7263, 1.1318, 3705,    251.1, 2,  13.2309, 2,  35.1865, 2,  35.1866, 2,    202.8, 1,    212.6, 2,     3.71, 2,     9.40, 2,     0.01, 2,     0.77, 2,    3.305, 2,    1.693, 2,    0.132, 4,   2110.7, 2,   2313.4, 2,    7.8520, 2,     25.00, -999.000, 9, -999.000,     81.7, 2,      3.8,     1.06, 2,      0.0,  13.1958, 26.4996,  13.2319, 2, 257, 2, 213.58, 2, 0.13, 0.06, 0.01, 0.01, -999, 1,  -999.00, 9, -999, -999, 9, -999
49NZ20031106, A10, 75, 1, 30, 12018, 2, 20031127, 454, -29.7263, 1.1318, 3705,    300.4, 2,  12.7101, 2,  35.1222, 2,  35.1210, 2,    202.3, 1,    212.1, 2,     4.00, 2,    10.57, 2,     0.01, 2,     0.83, 2,    3.380, 2,    1.722, 2,    0.120, 4,   2114.4, 2,   2310.2, 2,    7.8372, 2,     25.00, -999.000, 9, -999.000,     74.5, 2,      5.8,     1.05, 2,      0.0,  12.6692, 26.5556,  12.7098, 2, 299.6, 2, 212.19, 2, 0.13, 0.06, 0.01, 0.01, -999, 1,  -999.00, 9, -999, -999, 9, -999
49NZ20031106, A10, 75, 1, 29, 12017, 2, 20031127, 454, -29.7263, 1.1318, 3705,    401.1, 2,  11.3698, 2,  34.9652, 2,  34.9630, 2,    197.4, 1,    206.5, 2,     5.58, 2,    14.23, 2,     0.00, 2,     1.06, 2,    3.301, 2,    1.621, 2,    0.108, 4,   2129.2, 2,   2304.5, 2,    7.7967, 2,     25.00, -999.000, 9, -999.000,     63.6, 2,      3.9,     1.05, 2,      0.0,  11.3188, 26.6915,  11.3725, 2, 398.7, 2, 204.88, 2, 0.13, 0.07, 0.01, 0.01, -999, 1,  -999.00, 9, -999, -999, 9, -999
49NZ20031106, A10, 75, 1, 28, 12016, 2, 20031127, 454, -29.7263, 1.1318, 3705,    501.1, 2,   9.7881, 2,  34.7698, 2,  34.7644, 3,    194.4, 1,    202.9, 2,     7.94, 2,    18.32, 2,     0.01, 2,     1.32, 2,    3.191, 2,    1.548, 2,    0.122, 4,   2142.2, 2,   2293.7, 2,    7.7506, 2,     25.00, -999.000, 9, -999.000,     57.6, 2,      3.7,     1.06, 2,      0.0,   9.7300, 26.8195,   9.7884, 2, 495.1, 2, 201.41, 2, 0.14, 0.08, 0.01, 0.01, -999, 1,  -999.00, 9, -999, -999, 9, -999
49NZ20031106, A10, 75, 1, 27, 12012, 2, 20031127, 454, -29.7263, 1.1318, 3705,    600.4, 2,   8.0794, 2,  34.5895, 2,  34.5895, 2,    186.7, 1,    194.7, 2,    12.26, 2,    23.25, 2,     0.00, 2,     1.63, 2,    2.936, 2,    1.412, 2,    0.133, 4,   2161.6, 2,   2287.4, 2,    7.6951, 2,     25.00, -999.000, 9, -999.000,     34.7, 2,      3.7,     1.00, 2,      0.0,   8.0171, 26.9499,   8.0794, 2, 594.2, 2, 193.95, 2, 0.15, 0.1, 0.01, 0.01, -999, 1,  -999.00, 9, -999, -999, 9, -999
49NZ20031106, A10, 75, 1, 26, 12014, 2, 20031127, 454, -29.7263, 1.1318, 3705,    700.4, 2,   6.1300, 2,  34.4154, 2,  34.4136, 2,    197.3, 1,    206.3, 2,    17.58, 2,    27.11, 2,     0.01, 2,     1.87, 2,    2.848, 2,    1.333, 2,    0.138, 4,   2172.3, 6,   2287.2, 2,    7.6628, 2,     25.00, -999.000, 9, -999.000,     -3.4, 2,      3.7,     0.88, 3,      0.0,   6.0672, 27.083,   6.1313, 2, 698.3, 2, 207.8, 2, 0.16, 0.11, 0.01, 0.01, -999, 1,  -999.00, 9, -999, -999, 9, -999
49NZ20031106, A10, 75, 1, 25, 12013, 2, 20031127, 454, -29.7263, 1.1318, 3705,    801.5, 2,   5.0665, 2,  34.3548, 2,  34.3545, 2,    200.4, 1,    209.0, 2,    23.24, 2,    29.20, 2,     0.00, 2,     2.02, 2,    2.555, 2,    1.187, 2,    0.139, 4,   2183.9, 2,   2288.6, 6,    7.6472, 2,     25.00, -999.000, 9, -999.000,    -21.4, 2,      3.5,     1.02, 2,      0.0,   5.0007, 27.1641,   5.0667, 2, 798.2, 2, 212.28, 2, 0.17, 0.11, 0.01, 0.02, -999, 1,  -999.00, 9, -999, -999, 9, -999
49NZ20031106, A10, 75, 1, 24, 12048, 2, 20031127, 454, -29.7263, 1.1318, 3705,    899.2, 2,   4.2076, 2,  34.3524, 2,  34.3526, 2,    194.7, 1,    203.2, 2,    32.38, 2,    31.13, 2,     0.01, 2,     2.17, 2,    1.877, 2,    0.886, 2,    0.095, 4,   2198.2, 2,   2296.8, 2,    7.6267, 2,     25.00, -999.000, 9, -999.000,    -64.0, 2,      4.9,     0.98, 2,      0.0,   4.1390, 27.2571,   4.2076, 2, 901, 2, 205.84, 2, 0.19, 0.12, 0.01, 0.02, -999, 1,  -999.00, 9, -999, -999, 9, -999
49NZ20031106, A10, 75, 1, 7, 12031, 9, 20031127, 454, -29.7263, 1.1318, 3705,    999.8, 2,   3.7912, 2,  34.3848, 2, -999.0000, 9,    186.7, 1,   -999.0, 9,  -999.00, 9,  -999.00, 9,  -999.00, 9,  -999.00, 9, -999.000, 9, -999.000, 9, -999.000, 9,   -999.0, 9,   -999.0, 9, -999.0000, 9,   -999.00, -999.000, 9, -999.000,   -999.0, 9,   -999.0,  -999.00, 9,   -999.0,   3.7174, 27.3259,   3.7911, 2, 999.6, 2, 194.64, 2, -999, -999, -999, -999, -999, 9,  -999.00, 9, -999, -999, 9, -999
49NZ20031106, A10, 75, 1, 3, 12027, 9, 20031127, 454, -29.7263, 1.1318, 3705,    999.8, 2,   3.7899, 2,  34.3848, 2, -999.0000, 9,    186.7, 1,   -999.0, 9,  -999.00, 9,  -999.00, 9,  -999.00, 9,  -999.00, 9, -999.000, 9, -999.000, 9, -999.000, 9,   -999.0, 9,   -999.0, 9, -999.0000, 9,   -999.00, -999.000, 9, -999.000,   -999.0, 9,   -999.0,  -999.00, 9,   -999.0,   3.7161, 27.326,   3.7897, 2, 999.7, 2, 194.65, 2, -999, -999, -999, -999, -999, 9,  -999.00, 9, -999, -999, 9, -999
49NZ20031106, A10, 75, 1, 6, 12030, 9, 20031127, 454, -29.7263, 1.1318, 3705,    999.9, 2,   3.7908, 2,  34.3848, 2, -999.0000, 9,    186.5, 1,   -999.0, 9,  -999.00, 9,  -999.00, 9,  -999.00, 9,  -999.00, 9, -999.000, 9, -999.000, 9, -999.000, 9,   -999.0, 9,   -999.0, 9, -999.0000, 9,   -999.00, -999.000, 9, -999.000,   -999.0, 9,   -999.0,  -999.00, 9,   -999.0,   3.7170, 27.3258,   3.7910, 2, 999.7, 2, 194.65, 2, -999, -999, -999, -999, -999, 9,  -999.00, 9, -999, -999, 9, -999
49NZ20031106, A10, 75, 1, 5, 12029, 9, 20031127, 454, -29.7263, 1.1318, 3705,    999.9, 2,   3.7910, 2,  34.3848, 2, -999.0000, 9,    186.7, 1,   -999.0, 9,  -999.00, 9,  -999.00, 9,  -999.00, 9,  -999.00, 9, -999.000, 9, -999.000, 9, -999.000, 9,   -999.0, 9,   -999.0, 9, -999.0000, 9,   -999.00, -999.000, 9, -999.000,   -999.0, 9,   -999.0,  -999.00, 9,   -999.0,   3.7172, 27.326,   3.7905, 2, 999.7, 2, 194.65, 2, -999, -999, -999, -999, -999, 9,  -999.00, 9, -999, -999, 9, -999
49NZ20031106, A10, 75, 1, 23, 12047, 2, 20031127, 454, -29.7263, 1.1318, 3705,   1000.0, 2,   3.7900, 2,  34.3849, 2,  34.3854, 2,    186.6, 1,    194.4, 2,    39.71, 2,    32.39, 2,     0.01, 2,     2.25, 2,    1.360, 6,    0.644, 6,    0.062, 4,   2211.2, 2,   2302.0, 2,    7.6074, 2,     25.00, -999.000, 9, -999.000,    -84.5, 2,      3.3,     0.81, 2,      0.0,   3.7162, 27.3263,   3.7895, 2, 999.9, 2, 194.64, 2, 0.21, 0.12, 0.01, 0.02, -999, 1,  -999.00, 9, -999, -999, 9, -999
49NZ20031106, A10, 75, 1, 2, 12026, 9, 20031127, 454, -29.7263, 1.1318, 3705,   1000.1, 2,   3.7897, 2,  34.3849, 2, -999.0000, 9,    186.7, 1,   -999.0, 9,  -999.00, 9,  -999.00, 9,  -999.00, 9,  -999.00, 9, -999.000, 9, -999.000, 9, -999.000, 9,   -999.0, 9,   -999.0, 9, -999.0000, 9,   -999.00, -999.000, 9, -999.000,   -999.0, 9,   -999.0,  -999.00, 9,   -999.0,   3.7159, 27.3261,   3.7901, 2, 1000, 2, 194.64, 2, -999, -999, -999, -999, -999, 9,  -999.00, 9, -999, -999, 9, -999
49NZ20031106, A10, 75, 1, 22, 12046, 2, 20031127, 454, -29.7263, 1.1318, 3705,   1200.7, 2,   3.1164, 2,  34.4706, 2,  34.4705, 2,    179.8, 1,    187.4, 2,    51.81, 2,    33.01, 2,     0.00, 2,     2.29, 2,    0.679, 2,    0.327, 2,    0.023, 4,   2226.6, 2,   2316.3, 2,    7.5960, 2,     25.00, -999.000, 9, -999.000,   -115.6, 2,      3.5,     0.67, 2,      0.0,   3.0320, 27.4598,   3.1162, 2, 1198.1, 2, 186.47, 2, 0.23, 0.13, 0.01, 0.02, -999, 1,  -999.00, 9, -999, -999, 9, -999
49NZ20031106, A10, 75, 1, 21, 12045, 2, 20031127, 454, -29.7263, 1.1318, 3705,   1400.3, 2,   3.0483, 2,  34.6201, 2,  34.6229, 3,    177.7, 1,    185.3, 2,    53.81, 2,    31.43, 2,     0.00, 2,     2.17, 2,    0.204, 2,    0.098, 2,    0.009, 4,   2228.5, 2,   2321.7, 2,    7.6094, 2,     25.00, -999.000, 9, -999.000,   -122.1, 6,      2.3,     0.65, 6,      0.0,   2.9481, 27.5872,   3.0486, 2, 1398.4, 2, 185.26, 2, 0.24, 0.12, 0.01, 0.02, -999, 1,  -999.00, 9, -999, -999, 9, -999
49NZ20031106, A10, 75, 1, 20, 12044, 2, 20031127, 454, -29.7263, 1.1318, 3705,   1599.6, 2,   2.9685, 2,  34.7243, 2,  34.7245, 2,    188.5, 1,    196.2, 2,    51.06, 2,    29.04, 2,     0.00, 2,     2.01, 2,    0.060, 2,    0.029, 2,    0.000, 4,   2220.7, 2,   2325.3, 2,    7.6375, 2,     25.00, -999.000, 9, -999.000,   -116.7, 2,      3.4,     0.69, 2,      0.0,   2.8523, 27.6792,   2.9688, 2, 1597.6, 2, 196.9, 2, 0.23, 0.11, 0.01, 0.02, -999, 1,  -999.00, 9, -999, -999, 9, -999
49NZ20031106, A10, 75, 1, 19, 12043, 2, 20031127, 454, -29.7263, 1.1318, 3705,   1800.6, 2,   2.8185, 2,  34.7804, 2,  34.7800, 2,    199.3, 1,    207.6, 2,    50.97, 2,    27.33, 2,     0.00, 2,     1.88, 2,    0.025, 2,    0.009, 2,    0.000, 4,   2214.1, 2,   2329.0, 2,    7.6571, 2,     25.00, -999.000, 9, -999.000,   -118.1, 2,      3.4,     0.76, 2,      0.0,   2.6868, 27.7387,   2.8186, 2, 1800.1, 2, 207.7, 2, 0.23, 0.11, 0.01, 0.01, -999, 1,  -999.00, 9, -999, -999, 9, -999
49NZ20031106, A10, 75, 1, 18, 12042, 2, 20031127, 454, -29.7263, 1.1318, 3705,   2000.8, 2,   2.7506, 2,  34.8224, 2,  34.8242, 3,    208.5, 1,    217.8, 2,    48.65, 2,    25.83, 2,     0.00, 2,     1.77, 2,    0.011, 2,    0.006, 2,    0.000, 4,   2207.2, 2,   2329.5, 2,    7.6785, 6,     25.00, -999.000, 9, -999.000,   -121.0, 2,      3.4,     0.83, 2,      0.0,   2.6021, 27.7795,   2.7507, 2, 2000.9, 2, 216.69, 2, 0.23, 0.11, 0.01, 0.01, -999, 1,  -999.00, 9, -999, -999, 9, -999
49NZ20031106, A10, 75, 1, 17, 12041, 2, 20031127, 454, -29.7263, 1.1318, 3705,   2200.2, 2,   2.5635, 2,  34.8237, 2,  34.8236, 2,    211.7, 1,    220.7, 2,    52.62, 2,    25.71, 2,     0.00, 2,     1.77, 2,    0.017, 2,    0.009, 2,    0.000, 4,   2208.4, 2,   2333.8, 2,    7.6811, 2,     25.00, -999.000, 9, -999.000,   -119.4, 2,      3.3,     0.76, 3,      0.0,   2.4000, 27.798,   2.5642, 2, 2200.2, 2, 220.26, 2, 0.23, 0.1, 0.01, 0.01, -999, 1,  -999.00, 9, -999, -999, 9, -999
49NZ20031106, A10, 75, 1, 16, 12040, 2, 20031127, 454, -29.7263, 1.1318, 3705,   2398.9, 2,   2.4991, 2,  34.8368, 2,  34.8373, 2,    216.3, 1,    225.7, 2,    52.20, 2,    25.13, 2,     0.00, 2,     1.72, 2,    0.002, 2,   -0.001, 2,    0.000, 4,   2206.6, 6,   2332.4, 2,    7.6896, 2,     25.00, -999.000, 9, -999.000,   -111.3, 2,      3.3,     0.82, 2,      0.0,   2.3183, 27.8155,   2.4992, 2, 2398.9, 2, 224.99, 2, 0.23, 0.1, 0.01, 0.01, -999, 1,  -999.00, 9, -999, -999, 9, -999
49NZ20031106, A10, 75, 1, 15, 12039, 2, 20031127, 454, -29.7263, 1.1318, 3705,   2600.7, 2,   2.4255, 2,  34.8479, 2,  34.8484, 2,    220.3, 1,    229.4, 2,    52.21, 2,    24.68, 2,     0.00, 2,     1.69, 2,    0.008, 2,    0.007, 2,    0.000, 4,   2204.9, 2,   2335.7, 6,    7.6986, 2,     25.00, -999.000, 9, -999.000,   -119.9, 2,      3.3,     0.62, 4,      0.0,   2.2269, 27.8321,   2.4255, 2, 2600.3, 2, 229.33, 2, 0.23, 0.1, 0.01, 0.01, -999, 1,  -999.00, 9, -999, -999, 9, -999
49NZ20031106, A10, 75, 1, 14, 12038, 2, 20031127, 454, -29.7263, 1.1318, 3705,   2799.7, 2,   2.3674, 2,  34.8566, 2,  34.8566, 2,    223.3, 1,    232.3, 2,    52.47, 2,    24.32, 2,     0.00, 2,     1.66, 2,    0.010, 2,    0.002, 2,    0.000, 4,   2204.9, 2,   2338.7, 2,    7.7052, 6,     25.00, -999.000, 9, -999.000,   -122.5, 2,      3.4,     0.89, 2,      0.0,   2.1507, 27.8453,   2.3675, 2, 2799.6, 2, 231.93, 2, 0.23, 0.1, 0.01, 0.01, -999, 1,  -999.00, 9, -999, -999, 9, -999
49NZ20031106, A10, 75, 1, 13, 12037, 2, 20031127, 454, -29.7263, 1.1318, 3705,   3000.5, 2,   2.3381, 2,  34.8604, 2,  34.8606, 2,    224.7, 1,    233.4, 2,    52.94, 2,    24.14, 2,     0.00, 2,     1.66, 2,   -0.005, 2,   -0.001, 2,    0.000, 4,   2205.4, 2,   2339.1, 2,    7.7089, 2,     25.00, -999.000, 9, -999.000,   -120.5, 2,      3.4,     0.87, 2,      0.0,   2.1020, 27.8525,   2.3382, 2, 3000.5, 2, 233.21, 2, 0.24, 0.1, 0.01, 0.01, -999, 1,  -999.00, 9, -999, -999, 9, -999
49NZ20031106, A10, 75, 1, 12, 12036, 2, 20031127, 454, -29.7263, 1.1318, 3705,   3249.8, 2,   2.2967, 2,  34.8644, 2,  34.8642, 2,    225.6, 1,    233.5, 2,    53.95, 2,    24.03, 2,     0.01, 2,     1.65, 2,   -0.004, 2,   -0.001, 2,    0.000, 4,   2207.7, 2,   2343.2, 2,    7.7123, 2,     25.00, -999.000, 9, -999.000,   -115.6, 2,      3.2,     0.85, 2,      0.0,   2.0360, 27.8612,   2.2970, 2, 3249.7, 2, 233.5, 2, 0.24, 0.1, 0.01, 0.01, -999, 1,  -999.00, 9, -999, -999, 9, -999
49NZ20031106, A10, 75, 1, 9, 12033, 9, 20031127, 454, -29.7263, 1.1318, 3705,   3400.1, 2,   2.2644, 2,  34.8647, 2, -999.0000, 9,    225.5, 1,   -999.0, 9,  -999.00, 9,  -999.00, 9,  -999.00, 9,  -999.00, 9, -999.000, 9, -999.000, 9, -999.000, 9,   -999.0, 9,   -999.0, 9, -999.0000, 9,   -999.00, -999.000, 9, -999.000,   -999.0, 9,   -999.0,  -999.00, 9,   -999.0,   1.9887, 27.8653,   2.2646, 2, 3400.1, 2, 233, 2, -999, -999, -999, -999, -999, 9,  -999.00, 9, -999, -999, 9, -999
49NZ20031106, A10, 75, 1, 4, 12028, 2, 20031127, 454, -29.7263, 1.1318, 3705,   3499.6, 2,   2.2535, 2,  34.8664, 2,  34.8667, 2,    225.6, 1,    232.7, 2,    55.57, 2,    24.15, 2,     0.00, 2,     1.65, 2,   -0.004, 2,    0.000, 2,    0.000, 4,   2211.7, 2,   2349.5, 2,    7.7143, 2,     25.00, -999.000, 9, -999.000,   -118.0, 2,      3.3,     0.86, 2,      0.0,   1.9675, 27.8683,   2.2539, 2, 3499.6, 2, 232.59, 2, 0.24, 0.1, 0.01, 0.01, -999, 9,  -999.00, 9, -999, -999, 9, -999
49NZ20031106, A10, 75, 1, 11, 12035, 2, 20031127, 454, -29.7263, 1.1318, 3705,   3499.7, 2,   2.2537, 2,  34.8664, 2,  34.8661, 2,    225.6, 1,    232.6, 2,    55.53, 2,    24.09, 2,     0.00, 2,     1.65, 2,    0.002, 2,    0.005, 2,    0.000, 4,   2213.2, 2,   2351.9, 2,    7.7134, 2,     25.00, -999.000, 9, -999.000,   -125.9, 2,      3.5,     0.84, 2,      0.0,   1.9677, 27.8684,   2.2539, 2, 3499.7, 2, 232.57, 2, 0.24, 0.1, 0.01, 0.01, -999, 1,  -999.00, 9, -999, -999, 9, -999
49NZ20031106, A10, 75, 1, 8, 12032, 9, 20031127, 454, -29.7263, 1.1318, 3705,   3599.3, 2,   2.2335, 2,  34.8672, 2, -999.0000, 9,    225.3, 1,   -999.0, 9,  -999.00, 9,  -999.00, 9,  -999.00, 9,  -999.00, 9, -999.000, 9, -999.000, 9, -999.000, 9,   -999.0, 9,   -999.0, 9, -999.0000, 9,   -999.00, -999.000, 9, -999.000,   -999.0, 9,   -999.0,  -999.00, 9,   -999.0,   1.9373, 27.8714,   2.2336, 2, 3599.3, 2, 231.85, 2, -999, -999, -999, -999, -999, 9,  -999.00, 9, -999, -999, 9, -999
49NZ20031106, A10, 75, 1, 10, 12034, 2, 20031127, 454, -29.7263, 1.1318, 3705,   3747.3, 2,   2.1230, 2,  34.8514, 2,  34.8519, 2,    224.8, 1,    230.1, 2,    61.59, 2,    24.92, 2,     0.01, 2,     1.71, 2,    0.009, 2,    0.008, 2,    0.000, 4,   2217.9, 2,   2350.8, 2,    7.7079, 2,     25.00, -999.000, 9, -999.000,   -124.3, 2,      3.4,     0.85, 2,      0.0,   1.8136, 27.8685,   2.1233, 2, 3747.3, 2, 230.12, 2, 0.25, 0.1, 0.01, 0.01, -999, 1,  -999.00, 9, -999, -999, 9, -999