BOTTLE,20220818CCHSIOAMB
EXPOCODE,SECT_ID,STNNBR,CASTNO,SAMPNO,BTLNBR,BTLNBR_FLAG_W,DATE,TIME,LATITUDE,LONGITUDE,DEPTH,CTDPRS,CTDPRS_FLAG_W,CTDTMP,CTDTMP_FLAG_W,CTDSAL,CTDSAL_FLAG_W,SALNTY,SALNTY_FLAG_W,CTDOXY,CTDOXY_FLAG_W,OXYGEN,OXYGEN_FLAG_W,SILCAT,SILCAT_FLAG_W,NITRAT,NITRAT_FLAG_W,NITRIT,NITRIT_FLAG_W,PHSPHT,PHSPHT_FLAG_W,CFC-11,CFC-11_FLAG_W,CFC-12,CFC-12_FLAG_W,CFC113,CFC113_FLAG_W,TCARBN,TCARBN_FLAG_W,ALKALI,ALKALI_FLAG_W,PH_TOT,PH_TOT_FLAG_W,PH_TMP,TRITUM,TRITUM_FLAG_W,TRITER,DELC14,DELC14_FLAG_W,C14ERR,DELC13,DELC13_FLAG_W,C13ERR,THETA,SIG0,SBE35,SBE35_FLAG_W,DWNPRS,DWNPRS_FLAG_W,DWNOXY,DWNOXY_FLAG_W,SILUNC,NRAUNC,NRIUNC,PHPUNC,TOC,TOC_FLAG_W,CS-137,CS-137_FLAG_W,CS137ER,PLUTO,PLUTO_FLAG_W,PLUTOER
,,,,,,,,,,,METERS,DBAR,,ITS-90,,PSS-78,,PSS-78,,UMOL/KG,,UMOL/KG,,UMOL/KG,,UMOL/KG,,UMOL/KG,,UMOL/KG,,PMOL/KG,,PMOL/KG,,PMOL/KG,,UMOL/KG,,UMOL/KG,,,,DEG C,TU,,TU,/MILLE,,/MILLE,/MILLE,,/MILLE,DEG C,KG/M^3,ITS-90,,DBAR,,UMOL/KG,,UMOL/KG,UMOL/KG,UMOL/KG,UMOL/KG,UMOL/KG,,BQ/M^3,,BQ/M^3,MBQ/M^3,,MBQ/M^3
49NZ20031106, A10, 93, 1, 36, 12024, 2, 20031201, 1940, -29.3698, 12.7902, 3344,     10.1, 2,  18.8876, 2,  35.4927, 2,  35.4922, 2,    223.6, 1,    235.6, 2,     1.58, 2,     0.02, 2,     0.00, 2,     0.19, 2,    2.625, 2,    1.409, 2, -999.000, 5,   2045.6, 2,   2335.0, 2,    8.0146, 2,     25.00, -999.000, 9, -999.000,     68.8, 2,      4.0,     1.29, 2,      0.0,  18.8858, 25.4286,  18.8875, 2, 10.7, 2, 235.58, 2, 0.12, 0.03, 0.01, 0.02, -999, 9,  -999.00, 9, -999, -999, 9, -999
49NZ20031106, A10, 93, 1, 2, 12026, 9, 20031201, 1940, -29.3698, 12.7902, 3344,     10.5, 2,  18.8852, 2,  35.4925, 2, -999.0000, 9,    223.3, 1,   -999.0, 9,  -999.00, 9,  -999.00, 9,  -999.00, 9,  -999.00, 9, -999.000, 9, -999.000, 9, -999.000, 9,   -999.0, 9,   -999.0, 9, -999.0000, 9,   -999.00, -999.000, 9, -999.000,   -999.0, 9,   -999.0,  -999.00, 9,   -999.0,  18.8833, 25.4289,  18.8851, 2, 11.2, 2, 235.49, 2, -999, -999, -999, -999, -999, 9,  -999.00, 9, -999, -999, 9, -999
49NZ20031106, A10, 93, 1, 35, 12023, 2, 20031201, 1940, -29.3698, 12.7902, 3344,     50.3, 2,  18.7900, 2,  35.5036, 2,  35.5050, 2,    224.3, 1,    236.2, 2,     1.61, 2,    -0.01, 2,     0.00, 2,     0.19, 2,    2.688, 2,    1.443, 2, -999.000, 5,   2045.3, 6,   2334.1, 2,    8.0139, 2,     25.00, -999.000, 9, -999.000,     71.3, 2,      4.1,     1.30, 2,      0.0,  18.7811, 25.4661,  18.7925, 2, 49.4, 2, 235.64, 2, 0.12, 0.03, 0.01, 0.02, -999, 9,  -999.00, 9, -999, -999, 9, -999
49NZ20031106, A10, 93, 1, 34, 12022, 2, 20031201, 1940, -29.3698, 12.7902, 3344,    101.5, 2,  15.7902, 2,  35.4037, 2,  35.4044, 2,    210.6, 1,    221.3, 2,     3.55, 2,     4.89, 2,     0.08, 2,     0.49, 2,    2.913, 2,    1.560, 2,    0.428, 4,   2077.2, 2,   2322.5, 6,    7.9431, 2,     25.00, -999.000, 9, -999.000,     61.3, 2,      4.1,     1.03, 2,      0.0,  15.7743, 26.1103,  15.7971, 2, 97, 2, 216.37, 2, 0.13, 0.05, 0.01, 0.01, -999, 9,  -999.00, 9, -999, -999, 9, -999
49NZ20031106, A10, 93, 1, 33, 12015, 2, 20031201, 1940, -29.3698, 12.7902, 3344,    151.2, 2,  14.0693, 2,  35.2533, 2,  35.2546, 2,    209.6, 1,    219.3, 2,     4.27, 2,     7.63, 2,     0.03, 2,     0.66, 2,    3.099, 2,    1.604, 2,    0.205, 4,   2098.2, 2,   2313.6, 2,    7.8963, 6,     25.00, -999.000, 9, -999.000,     78.3, 2,      5.9,     1.06, 2,      0.0,  14.0474, 26.3755,  14.0611, 2, 148.5, 2, 217.47, 2, 0.13, 0.05, 0.01, 0.01, -999, 9,  -999.00, 9, -999, -999, 9, -999
49NZ20031106, A10, 93, 1, 32, 12020, 2, 20031201, 1940, -29.3698, 12.7902, 3344,    201.2, 2,  13.1959, 2,  35.1857, 2,  35.1831, 2,    200.4, 1,    210.0, 2,     5.32, 2,    10.10, 2,     0.02, 2,     0.82, 2,    3.190, 2,    1.623, 2,    0.127, 4,   2112.2, 2,   2315.9, 2,    7.8599, 2,     25.00, -999.000, 9, -999.000,     81.1, 6,      9.5,     1.03, 6,      0.0,  13.1679, 26.5043,  13.1957, 2, 200.4, 2, 213.55, 2, 0.13, 0.06, 0.01, 0.01, -999, 9,  -999.00, 9, -999, -999, 9, -999
49NZ20031106, A10, 93, 1, 31, 12019, 2, 20031201, 1940, -29.3698, 12.7902, 3344,    251.2, 2,  11.9269, 2,  35.0401, 2,  35.0412, 2,    196.7, 1,    205.7, 2,     6.60, 2,    13.14, 2,     0.01, 2,     1.02, 2,    3.248, 6,    1.638, 6,    0.129, 4,   2125.5, 2,   2310.3, 2,    7.8220, 2,     25.00, -999.000, 9, -999.000,     80.5, 2,      4.0,     1.02, 2,      0.0,  11.8942, 26.6423,  11.9249, 2, 251.1, 2, 205.02, 2, 0.13, 0.07, 0.01, 0.01, -999, 9,  -999.00, 9, -999, -999, 9, -999
49NZ20031106, A10, 93, 1, 30, 12018, 2, 20031201, 1940, -29.3698, 12.7902, 3344,    300.6, 2,  11.1811, 2,  34.9441, 2,  34.9442, 2,    190.9, 1,    198.9, 2,     8.13, 2,    15.36, 2,     0.01, 2,     1.17, 2,    3.261, 2,    1.629, 2,    0.131, 4,   2137.1, 2,   2302.4, 2,    7.7878, 2,     25.00, -999.000, 9, -999.000,     67.0, 2,      3.9,     0.99, 2,      0.0,  11.1435, 26.7073,  11.1816, 2, 298.3, 2, 199.43, 2, 0.14, 0.08, 0.01, 0.01, -999, 9,  -999.00, 9, -999, -999, 9, -999
49NZ20031106, A10, 93, 1, 29, 12017, 2, 20031201, 1940, -29.3698, 12.7902, 3344,    401.6, 2,   9.3477, 2,  34.7262, 2,  34.7246, 2,    197.2, 1,    205.7, 2,    10.47, 2,    19.03, 2,     0.01, 2,     1.38, 2,    3.066, 2,    1.482, 2,    0.126, 4,   2144.3, 2,   2297.6, 2,    7.7562, 2,     25.00, -999.000, 9, -999.000,     37.4, 2,      3.9,     1.09, 2,      0.0,   9.3027, 26.8559,   9.3481, 2, 401.9, 2, 196.14, 2, 0.14, 0.09, 0.01, 0.01, -999, 9,  -999.00, 9, -999, -999, 9, -999
49NZ20031106, A10, 93, 1, 28, 12016, 2, 20031201, 1940, -29.3698, 12.7902, 3344,    499.7, 2,   7.7647, 2,  34.5617, 2,  34.5617, 2,    194.3, 1,    202.2, 2,    14.62, 2,    23.32, 2,     0.01, 2,     1.65, 2,    2.888, 2,    1.384, 2,    0.139, 4,   2162.3, 2,   2292.3, 2,    7.7101, 2,     25.00, -999.000, 9, -999.000,     27.0, 2,      3.8,     1.04, 2,      0.0,   7.7143, 26.9727,   7.7654, 2, 498.6, 2, 202.34, 2, 0.15, 0.1, 0.01, 0.01, -999, 9,  -999.00, 9, -999, -999, 9, -999
49NZ20031106, A10, 93, 1, 27, 12012, 2, 20031201, 1940, -29.3698, 12.7902, 3344,    599.4, 2,   6.2506, 2,  34.4333, 2,  34.4330, 2,    199.2, 1,    207.3, 2,    19.57, 2,    26.60, 2,     0.00, 2,     1.86, 2,    2.846, 2,    1.342, 2,    0.153, 4,   2173.4, 2,   2292.7, 2,    7.6784, 2,     25.00, -999.000, 9, -999.000,     -6.7, 2,      3.8,     1.02, 2,      0.0,   6.1967, 27.0807,   6.2510, 2, 598.2, 2, 209.08, 2, 0.16, 0.11, 0.01, 0.01, -999, 9,  -999.00, 9, -999, -999, 9, -999
49NZ20031106, A10, 93, 1, 26, 12014, 2, 20031201, 1940, -29.3698, 12.7902, 3344,    699.5, 2,   5.1095, 2,  34.3987, 2,  34.3989, 2,    191.1, 1,    198.9, 2,    28.83, 2,    29.71, 2,     0.00, 2,     2.08, 2,    2.180, 2,    1.001, 2,    0.109, 4,   2191.7, 6,   2300.3, 2,    7.6423, 2,     25.00, -999.000, 9, -999.000,    -34.5, 2,      3.7,     0.93, 2,      0.0,   5.0523, 27.1932,   5.1097, 2, 698.1, 2, 192.55, 2, 0.18, 0.12, 0.01, 0.02, -999, 9,  -999.00, 9, -999, -999, 9, -999
49NZ20031106, A10, 93, 1, 25, 12013, 2, 20031201, 1940, -29.3698, 12.7902, 3344,    799.3, 2,   4.3483, 2,  34.4031, 2,  34.4028, 2,    183.4, 1,    190.6, 2,    37.23, 2,    31.75, 2,     0.00, 2,     2.22, 2,    1.637, 2,    0.741, 2,    0.087, 4,   2208.1, 2,   2302.6, 6,    7.6205, 2,     25.00, -999.000, 9, -999.000,    -76.6, 2,      3.6,     0.84, 2,      0.0,   4.2870, 27.282,   4.3465, 2, 795.1, 2, 186.33, 2, 0.2, 0.12, 0.01, 0.02, -999, 9,  -999.00, 9, -999, -999, 9, -999
49NZ20031106, A10, 93, 1, 24, 12048, 2, 20031201, 1940, -29.3698, 12.7902, 3344,    899.8, 2,   3.8251, 2,  34.4278, 2,  34.4278, 2,    177.5, 1,    184.5, 2,    44.47, 2,    32.72, 2,     0.00, 2,     2.29, 2,    1.172, 2,    0.540, 2,    0.051, 4,   2219.9, 2,   2309.9, 2,    7.6063, 2,     25.00, -999.000, 9, -999.000,    -86.7, 2,      3.6,     0.75, 2,      0.0,   3.7590, 27.3562,   3.8251, 2, 898.7, 2, 184.37, 2, 0.22, 0.12, 0.01, 0.02, -999, 9,  -999.00, 9, -999, -999, 9, -999
49NZ20031106, A10, 93, 1, 23, 12047, 2, 20031201, 1940, -29.3698, 12.7902, 3344,   1000.8, 2,   3.6209, 2,  34.4614, 2,  34.4604, 2,    173.5, 1,    180.6, 2,    50.77, 2,    33.23, 2,    -0.01, 2,     2.31, 2,    0.927, 6,    0.423, 6,    0.033, 4,   2228.2, 2,   2318.9, 2,    7.5982, 2,     25.00, -999.000, 9, -999.000,   -105.0, 2,      3.6,     0.73, 2,      0.0,   3.5482, 27.404,   3.6197, 2, 1000.8, 2, 181.95, 2, 0.23, 0.13, 0.01, 0.02, -999, 9,  -999.00, 9, -999, -999, 9, -999
49NZ20031106, A10, 93, 1, 3, 12027, 9, 20031201, 1940, -29.3698, 12.7902, 3344,   1000.9, 2,   3.6228, 2,  34.4621, 2, -999.0000, 9,    173.6, 1,   -999.0, 9,  -999.00, 9,  -999.00, 9,  -999.00, 9,  -999.00, 9, -999.000, 9, -999.000, 9, -999.000, 9,   -999.0, 9,   -999.0, 9, -999.0000, 9,   -999.00, -999.000, 9, -999.000,   -999.0, 9,   -999.0,  -999.00, 9,   -999.0,   3.5501, 27.4043,   3.6225, 2, 1001, 2, 181.94, 2, -999, -999, -999, -999, -999, 9,  -999.00, 9, -999, -999, 9, -999
49NZ20031106, A10, 93, 1, 6, 12030, 9, 20031201, 1940, -29.3698, 12.7902, 3344,   1001.5, 2,   3.6221, 2,  34.4619, 2, -999.0000, 9,    173.4, 1,   -999.0, 9,  -999.00, 9,  -999.00, 9,  -999.00, 9,  -999.00, 9, -999.000, 9, -999.000, 9, -999.000, 9,   -999.0, 9,   -999.0, 9, -999.0000, 9,   -999.00, -999.000, 9, -999.000,   -999.0, 9,   -999.0,  -999.00, 9,   -999.0,   3.5493, 27.4045,   3.6220, 2, 1001.6, 2, 181.86, 2, -999, -999, -999, -999, -999, 9,  -999.00, 9, -999, -999, 9, -999
49NZ20031106, A10, 93, 1, 4, 12028, 9, 20031201, 1940, -29.3698, 12.7902, 3344,   1001.5, 2,   3.6194, 2,  34.4618, 2, -999.0000, 9,    173.5, 1,   -999.0, 9,  -999.00, 9,  -999.00, 9,  -999.00, 9,  -999.00, 9, -999.000, 9, -999.000, 9, -999.000, 9,   -999.0, 9,   -999.0, 9, -999.0000, 9,   -999.00, -999.000, 9, -999.000,   -999.0, 9,   -999.0,  -999.00, 9,   -999.0,   3.5466, 27.4045,   3.6200, 2, 1001.7, 2, 181.86, 2, -999, -999, -999, -999, -999, 9,  -999.00, 9, -999, -999, 9, -999
49NZ20031106, A10, 93, 1, 5, 12029, 9, 20031201, 1940, -29.3698, 12.7902, 3344,   1001.7, 2,   3.6215, 2,  34.4619, 2, -999.0000, 9,    173.5, 1,   -999.0, 9,  -999.00, 9,  -999.00, 9,  -999.00, 9,  -999.00, 9, -999.000, 9, -999.000, 9, -999.000, 9,   -999.0, 9,   -999.0, 9, -999.0000, 9,   -999.00, -999.000, 9, -999.000,   -999.0, 9,   -999.0,  -999.00, 9,   -999.0,   3.5487, 27.4044,   3.6221, 2, 1001.8, 2, 181.85, 2, -999, -999, -999, -999, -999, 9,  -999.00, 9, -999, -999, 9, -999
49NZ20031106, A10, 93, 1, 22, 12046, 2, 20031201, 1940, -29.3698, 12.7902, 3344,   1200.8, 2,   3.1273, 2,  34.7061, 2,  34.7075, 2,    181.9, 1,    189.2, 2,    48.99, 2,    29.75, 2,     0.00, 2,     2.06, 2,    0.065, 2,    0.029, 2,    0.000, 4,   2216.6, 2,   2326.0, 2,    7.6497, 2,     25.00, -999.000, 9, -999.000,   -123.8, 2,      3.6,     0.74, 2,      0.0,   3.0423, 27.6476,   3.1272, 2, 1199, 2, 189.79, 2, 0.23, 0.12, 0.01, 0.02, -999, 9,  -999.00, 9, -999, -999, 9, -999
49NZ20031106, A10, 93, 1, 21, 12045, 2, 20031201, 1940, -29.3698, 12.7902, 3344,   1401.4, 2,   3.1195, 2,  34.7628, 2,  34.7628, 2,    189.9, 1,    197.5, 2,    46.06, 2,    28.23, 2,     0.00, 2,     1.95, 2,    0.045, 2,    0.018, 2,    0.000, 4,   2216.6, 2,   2326.0, 2,    7.6474, 2,     25.00, -999.000, 9, -999.000,   -119.7, 6,      4.5,     0.73, 2,      0.0,   3.0181, 27.6949,   3.1195, 2, 1401.9, 2, 196.8, 2, 0.22, 0.11, 0.01, 0.01, -999, 9,  -999.00, 9, -999, -999, 9, -999
49NZ20031106, A10, 93, 1, 20, 12044, 2, 20031201, 1940, -29.3698, 12.7902, 3344,   1600.1, 2,   3.1424, 2,  34.8211, 2,  34.8216, 2,    201.3, 1,    209.5, 2,    40.94, 2,    26.25, 2,     0.00, 2,     1.81, 2,    0.009, 2,    0.002, 2,    0.000, 4,   2205.1, 2,   2325.0, 2,    7.6722, 2,     25.00, -999.000, 9, -999.000,   -108.6, 2,      3.6,     0.83, 2,      0.0,   3.0238, 27.7411,   3.1424, 2, 1600.3, 2, 208.6, 2, 0.21, 0.11, 0.01, 0.01, -999, 9,  -999.00, 9, -999, -999, 9, -999
49NZ20031106, A10, 93, 1, 19, 12043, 2, 20031201, 1940, -29.3698, 12.7902, 3344,   1799.7, 2,   3.0994, 2,  34.8478, 2,  34.8474, 2,    207.9, 1,    216.5, 2,    39.52, 2,    25.20, 2,     0.00, 2,     1.73, 2,    0.002, 4,    0.001, 4,    0.000, 4,   2200.6, 2,   2326.0, 2,    7.6874, 2,     25.00, -999.000, 9, -999.000,   -107.5, 2,      3.7,     0.86, 2,      0.0,   2.9638, 27.768,   3.0994, 2, 1799.4, 2, 216.41, 2, 0.21, 0.1, 0.01, 0.01, -999, 9,  -999.00, 9, -999, -999, 9, -999
49NZ20031106, A10, 93, 1, 1, 12025, 2, 20031201, 1940, -29.3698, 12.7902, 3344,   2000.2, 2,   2.9850, 2,  34.8674, 2,  34.8680, 2,    214.4, 1,    223.2, 2,    39.73, 2,    24.33, 2,     0.00, 2,     1.67, 2,    0.004, 2,    0.003, 2,    0.000, 4,   2199.1, 2,   2324.8, 2,    7.6996, 6,     25.00, -999.000, 9, -999.000,   -104.6, 2,      3.6,     0.90, 2,      0.0,   2.8329, 27.7957,   2.9851, 2, 2000.6, 2, 222.38, 2, 0.21, 0.1, 0.01, 0.01, -999, 9,  -999.00, 9, -999, -999, 9, -999
49NZ20031106, A10, 93, 1, 17, 12041, 2, 20031201, 1940, -29.3698, 12.7902, 3344,   2200.7, 2,   2.8822, 2,  34.8755, 2,  34.8759, 2,    218.4, 1,    227.4, 2,    40.73, 2,    23.96, 2,     0.00, 2,     1.65, 2,    0.002, 2,    0.004, 2,    0.000, 4,   2198.2, 2,   2328.5, 2,    7.7034, 2,     25.00, -999.000, 9, -999.000,   -106.4, 2,      3.7,     0.90, 2,      0.0,   2.7132, 27.8126,   2.8823, 2, 2200.5, 2, 227.35, 2, 0.21, 0.1, 0.01, 0.01, -999, 9,  -999.00, 9, -999, -999, 9, -999
49NZ20031106, A10, 93, 1, 16, 12040, 2, 20031201, 1940, -29.3698, 12.7902, 3344,   2400.3, 2,   2.7749, 2,  34.8795, 2,  34.8798, 2,    221.0, 1,    229.9, 2,    42.51, 2,    23.66, 2,     0.00, 2,     1.63, 2,    0.008, 2,    0.003, 2,    0.000, 4,   2198.1, 6,   2332.5, 2,    7.7065, 2,     25.00, -999.000, 9, -999.000,   -109.0, 2,      3.8,     0.88, 2,      0.0,   2.5889, 27.8269,   2.7749, 2, 2400.2, 2, 229.79, 2, 0.21, 0.1, 0.01, 0.01, -999, 9,  -999.00, 9, -999, -999, 9, -999
49NZ20031106, A10, 93, 1, 10, 12034, 9, 20031201, 1940, -29.3698, 12.7902, 3344,   2501.0, 2,   2.7065, 2,  34.8779, 2, -999.0000, 9,    221.8, 1,   -999.0, 9,  -999.00, 9,  -999.00, 9,  -999.00, 9,  -999.00, 9, -999.000, 9, -999.000, 9, -999.000, 9,   -999.0, 9,   -999.0, 9, -999.0000, 9,   -999.00, -999.000, 9, -999.000,   -999.0, 9,   -999.0,  -999.00, 9,   -999.0,   2.5121, 27.8322,   2.7067, 2, 2501, 2, 230.37, 2, -999, -999, -999, -999, -999, 9,  -999.00, 9, -999, -999, 9, -999
49NZ20031106, A10, 93, 1, 15, 12039, 2, 20031201, 1940, -29.3698, 12.7902, 3344,   2600.2, 2,   2.6582, 2,  34.8756, 2,  34.8758, 2,    222.3, 1,    230.8, 2,    45.25, 2,    23.76, 2,     0.00, 2,     1.63, 2,   -0.004, 2,    0.001, 2,    0.000, 4,   2199.4, 2,   2334.3, 6,    7.7075, 2,     25.00, -999.000, 9, -999.000,   -104.2, 2,      3.7,     0.89, 2,      0.0,   2.4551, 27.8355,   2.6581, 2, 2600.1, 2, 230.7, 2, 0.22, 0.1, 0.01, 0.01, -999, 9,  -999.00, 9, -999, -999, 9, -999
49NZ20031106, A10, 93, 1, 9, 12033, 9, 20031201, 1940, -29.3698, 12.7902, 3344,   2701.0, 2,   2.6152, 2,  34.8756, 2, -999.0000, 9,    222.4, 1,   -999.0, 9,  -999.00, 9,  -999.00, 9,  -999.00, 9,  -999.00, 9, -999.000, 9, -999.000, 9, -999.000, 9,   -999.0, 9,   -999.0, 9, -999.0000, 9,   -999.00, -999.000, 9, -999.000,   -999.0, 9,   -999.0,  -999.00, 9,   -999.0,   2.4031, 27.8398,   2.6153, 2, 2701, 2, 230.79, 2, -999, -999, -999, -999, -999, 9,  -999.00, 9, -999, -999, 9, -999
49NZ20031106, A10, 93, 1, 14, 12038, 2, 20031201, 1940, -29.3698, 12.7902, 3344,   2799.7, 2,   2.5683, 2,  34.8748, 2,  34.8745, 2,    222.5, 1,    230.7, 2,    47.67, 2,    23.84, 2,    -0.01, 2,     1.64, 2,   -0.002, 2,    0.000, 2,    0.000, 4,   2203.9, 2,   2337.1, 2,    7.7098, 6,     25.00, -999.000, 9, -999.000,   -100.6, 2,      3.6,     0.89, 2,      0.0,   2.3474, 27.8437,   2.5689, 2, 2799.8, 2, 230.63, 2, 0.22, 0.1, 0.01, 0.01, -999, 9,  -999.00, 9, -999, -999, 9, -999
49NZ20031106, A10, 93, 1, 18, 12042, 9, 20031201, 1940, -29.3698, 12.7902, 3344,   2899.7, 2,   2.5305, 2,  34.8731, 2, -999.0000, 9,    222.9, 1,   -999.0, 9,  -999.00, 9,  -999.00, 9,  -999.00, 9,  -999.00, 9, -999.000, 9, -999.000, 9, -999.000, 9,   -999.0, 9,   -999.0, 9, -999.0000, 9,   -999.00, -999.000, 9, -999.000,   -999.0, 9,   -999.0,  -999.00, 9,   -999.0,   2.3004, 27.8465,   2.5305, 2, 2899.5, 2, 230.55, 2, -999, -999, -999, -999, -999, 9,  -999.00, 9, -999, -999, 9, -999
49NZ20031106, A10, 93, 1, 13, 12037, 2, 20031201, 1940, -29.3698, 12.7902, 3344,   2999.7, 2,   2.4895, 2,  34.8711, 2,  34.8711, 2,    223.2, 1,    230.7, 2,    49.94, 2,    23.98, 2,     0.00, 2,     1.66, 2,    0.006, 2,    0.000, 2,    0.000, 4,   2205.9, 2,   2345.1, 2,    7.7114, 2,     25.00, -999.000, 9, -999.000,   -113.8, 6,      2.5,     0.88, 6,      0.0,   2.2501, 27.8491,   2.4894, 2, 2999.6, 2, 230.6, 2, 0.23, 0.1, 0.01, 0.01, -999, 9,  -999.00, 9, -999, -999, 9, -999
49NZ20031106, A10, 93, 1, 7, 12031, 9, 20031201, 1940, -29.3698, 12.7902, 3344,   3100.2, 2,   2.4530, 2,  34.8692, 2, -999.0000, 9,    223.1, 1,   -999.0, 9,  -999.00, 9,  -999.00, 9,  -999.00, 9,  -999.00, 9, -999.000, 9, -999.000, 9, -999.000, 9,   -999.0, 9,   -999.0, 9, -999.0000, 9,   -999.00, -999.000, 9, -999.000,   -999.0, 9,   -999.0,  -999.00, 9,   -999.0,   2.2042, 27.8512,   2.4530, 2, 3100.1, 2, 229.99, 2, -999, -999, -999, -999, -999, 9,  -999.00, 9, -999, -999, 9, -999
49NZ20031106, A10, 93, 1, 12, 12036, 2, 20031201, 1940, -29.3698, 12.7902, 3344,   3248.9, 2,   2.3999, 2,  34.8658, 2,  34.8656, 2,    222.8, 1,    229.2, 2,    53.50, 2,    24.29, 2,     0.00, 2,     1.67, 2,   -0.005, 2,   -0.001, 2,    0.000, 4,   2211.4, 2,   2346.5, 2,    7.7098, 2,     25.00, -999.000, 9, -999.000,   -102.1, 2,      3.4,     0.86, 2,      0.0,   2.1369, 27.8541,   2.3999, 2, 3249, 2, 229.37, 2, 0.24, 0.1, 0.01, 0.01, -999, 9,  -999.00, 9, -999, -999, 9, -999
49NZ20031106, A10, 93, 1, 8, 12032, 2, 20031201, 1940, -29.3698, 12.7902, 3344,   3249.6, 2,   2.3997, 2,  34.8657, 2,  34.8658, 2,    222.8, 1,    229.3, 2,    53.46, 2,    24.30, 2,     0.00, 2,     1.67, 2,    0.004, 2,    0.003, 2,    0.000, 4,   2211.2, 2,   2345.2, 2,    7.7099, 2,     25.00, -999.000, 9, -999.000,   -116.2, 3,      3.6,     0.83, 2,      0.0,   2.1366, 27.8542,   2.3995, 2, 3249.7, 2, 229.37, 2, 0.24, 0.1, 0.01, 0.01, -999, 9,  -999.00, 9, -999, -999, 9, -999
49NZ20031106, A10, 93, 1, 11, 12035, 2, 20031201, 1940, -29.3698, 12.7902, 3344,   3381.9, 2,   2.2930, 2,  34.8571, 2,  34.8568, 2,    221.9, 1,    227.3, 2,    57.80, 2,    24.73, 2,     0.01, 2,     1.71, 2,    0.005, 2,    0.000, 2,    0.000, 4,   2217.1, 2,   2350.6, 2,    7.7051, 2,     25.00, -999.000, 9, -999.000,   -101.2, 2,      3.5,     0.77, 2,      0.0,   2.0186, 27.8568,   2.2930, 2, 3381.9, 2, 227.28, 2, 0.25, 0.1, 0.01, 0.01, -999, 9,  -999.00, 9, -999, -999, 9, -999