BOTTLE,20220818CCHSIOAMB
EXPOCODE,SECT_ID,STNNBR,CASTNO,SAMPNO,BTLNBR,BTLNBR_FLAG_W,DATE,TIME,LATITUDE,LONGITUDE,DEPTH,CTDPRS,CTDPRS_FLAG_W,CTDTMP,CTDTMP_FLAG_W,CTDSAL,CTDSAL_FLAG_W,SALNTY,SALNTY_FLAG_W,CTDOXY,CTDOXY_FLAG_W,OXYGEN,OXYGEN_FLAG_W,SILCAT,SILCAT_FLAG_W,NITRAT,NITRAT_FLAG_W,NITRIT,NITRIT_FLAG_W,PHSPHT,PHSPHT_FLAG_W,CFC-11,CFC-11_FLAG_W,CFC-12,CFC-12_FLAG_W,CFC113,CFC113_FLAG_W,TCARBN,TCARBN_FLAG_W,ALKALI,ALKALI_FLAG_W,PH_TOT,PH_TOT_FLAG_W,PH_TMP,TRITUM,TRITUM_FLAG_W,TRITER,DELC14,DELC14_FLAG_W,C14ERR,DELC13,DELC13_FLAG_W,C13ERR,THETA,SIG0,SBE35,SBE35_FLAG_W,DWNPRS,DWNPRS_FLAG_W,DWNOXY,DWNOXY_FLAG_W,SILUNC,NRAUNC,NRIUNC,PHPUNC,TOC,TOC_FLAG_W,CS-137,CS-137_FLAG_W,CS137ER,PLUTO,PLUTO_FLAG_W,PLUTOER
,,,,,,,,,,,METERS,DBAR,,ITS-90,,PSS-78,,PSS-78,,UMOL/KG,,UMOL/KG,,UMOL/KG,,UMOL/KG,,UMOL/KG,,UMOL/KG,,PMOL/KG,,PMOL/KG,,PMOL/KG,,UMOL/KG,,UMOL/KG,,,,DEG C,TU,,TU,/MILLE,,/MILLE,/MILLE,,/MILLE,DEG C,KG/M^3,ITS-90,,DBAR,,UMOL/KG,,UMOL/KG,UMOL/KG,UMOL/KG,UMOL/KG,UMOL/KG,,BQ/M^3,,BQ/M^3,MBQ/M^3,,MBQ/M^3
49NZ20031106, A10, 37, 1, 36, 12036, 2, 20031116, 2144, -29.9873, -27.5607, 4893,      9.3, 2,  18.7262, 2,  35.6113, 2,  35.6110, 2,    223.8, 1,    235.7, 2,     0.91, 2,     0.06, 2,     0.00, 2,     0.12, 2, -999.000, 9, -999.000, 9, -999.000, 9,   -999.0, 9,   -999.0, 9, -999.0000, 9,   -999.00, -999.000, 9, -999.000,   -999.0, 9,   -999.0,  -999.00, 9,   -999.0,  18.7246, 25.56,  18.7258, 2, 16.2, 2, 236.48, 2, 0.12, 0.03, 0.01, 0.02, -999, 9,  -999.00, 9, -999, -999, 9, -999
49NZ20031106, A10, 37, 1, 35, 12035, 2, 20031116, 2144, -29.9873, -27.5607, 4893,     49.7, 2,  17.2486, 2,  35.5470, 2,  35.5451, 2,    231.9, 1,    244.6, 2,     0.75, 2,     0.03, 2,     0.01, 2,     0.13, 2, -999.000, 9, -999.000, 9, -999.000, 9,   -999.0, 9,   -999.0, 9, -999.0000, 9,   -999.00, -999.000, 9, -999.000,   -999.0, 9,   -999.0,  -999.00, 9,   -999.0,  17.2403, 25.8775,  17.2488, 2, 47.9, 2, 244.27, 2, 0.12, 0.03, 0.01, 0.02, -999, 9,  -999.00, 9, -999, -999, 9, -999
49NZ20031106, A10, 37, 1, 34, 12034, 2, 20031116, 2144, -29.9873, -27.5607, 4893,    100.5, 2,  16.0666, 2,  35.5656, 2,  35.5674, 2,    227.1, 1,    239.2, 2,     0.91, 2,     0.30, 2,     0.09, 2,     0.18, 2, -999.000, 9, -999.000, 9, -999.000, 9,   -999.0, 9,   -999.0, 9, -999.0000, 9,   -999.00, -999.000, 9, -999.000,   -999.0, 9,   -999.0,  -999.00, 9,   -999.0,  16.0506, 26.1722,  16.0654, 2, 95.8, 2, 238.67, 2, 0.12, 0.03, 0.01, 0.02, -999, 9,  -999.00, 9, -999, -999, 9, -999
49NZ20031106, A10, 37, 1, 33, 12033, 2, 20031116, 2144, -29.9873, -27.5607, 4893,    149.1, 2,  15.2626, 2,  35.5043, 2,  35.5062, 2,    219.1, 1,    230.7, 2,     1.26, 2,     2.65, 2,     0.02, 2,     0.32, 2, -999.000, 9, -999.000, 9, -999.000, 9,   -999.0, 9,   -999.0, 9, -999.0000, 9,   -999.00, -999.000, 9, -999.000,   -999.0, 9,   -999.0,  -999.00, 9,   -999.0,  15.2397, 26.3084,  15.2619, 2, 152, 2, 224.9, 2, 0.12, 0.04, 0.01, 0.01, -999, 9,  -999.00, 9, -999, -999, 9, -999
49NZ20031106, A10, 37, 1, 32, 12032, 2, 20031116, 2144, -29.9873, -27.5607, 4893,    199.7, 2,  14.5875, 2,  35.4367, 2,  35.4357, 2,    211.4, 1,    221.8, 2,     1.69, 2,     5.09, 2,     0.01, 2,     0.47, 2, -999.000, 9, -999.000, 9, -999.000, 9,   -999.0, 9,   -999.0, 9, -999.0000, 9,   -999.00, -999.000, 9, -999.000,   -999.0, 9,   -999.0,  -999.00, 9,   -999.0,  14.5577, 26.4059,  14.5880, 2, 201.2, 2, 226.04, 2, 0.12, 0.05, 0.01, 0.01, -999, 9,  -999.00, 9, -999, -999, 9, -999
49NZ20031106, A10, 37, 1, 31, 12031, 2, 20031116, 2144, -29.9873, -27.5607, 4893,    249.7, 2,  14.0196, 2,  35.3862, 2,  35.3840, 2,    209.7, 1,    220.0, 2,     2.10, 2,     6.73, 2,     0.01, 2,     0.56, 2, -999.000, 9, -999.000, 9, -999.000, 9,   -999.0, 9,   -999.0, 9, -999.0000, 9,   -999.00, -999.000, 9, -999.000,   -999.0, 9,   -999.0,  -999.00, 9,   -999.0,  13.9833, 26.4895,  14.0200, 2, 252.4, 2, 221.21, 2, 0.12, 0.05, 0.01, 0.01, -999, 9,  -999.00, 9, -999, -999, 9, -999
49NZ20031106, A10, 37, 1, 30, 12030, 2, 20031116, 2144, -29.9873, -27.5607, 4893,    300.4, 2,  13.3069, 2,  35.2713, 2,  35.2698, 2,    207.1, 1,    217.1, 2,     2.45, 2,     8.48, 2,     0.01, 2,     0.67, 2, -999.000, 9, -999.000, 9, -999.000, 9,   -999.0, 9,   -999.0, 9, -999.0000, 9,   -999.00, -999.000, 9, -999.000,   -999.0, 9,   -999.0,  -999.00, 9,   -999.0,  13.2647, 26.5496,  13.3079, 2, 303.1, 2, 216.72, 2, 0.12, 0.06, 0.01, 0.01, -999, 9,  -999.00, 9, -999, -999, 9, -999
49NZ20031106, A10, 37, 1, 29, 12029, 2, 20031116, 2144, -29.9873, -27.5607, 4893,    399.1, 2,  11.7663, 2,  35.0406, 2,  35.0398, 2,    204.5, 1,    213.7, 2,     3.79, 2,    12.29, 2,     0.01, 2,     0.91, 2, -999.000, 9, -999.000, 9, -999.000, 9,   -999.0, 9,   -999.0, 9, -999.0000, 9,   -999.00, -999.000, 9, -999.000,   -999.0, 9,   -999.0,  -999.00, 9,   -999.0,  11.7144, 26.6744,  11.7669, 2, 401.2, 2, 215.01, 2, 0.13, 0.07, 0.01, 0.01, -999, 9,  -999.00, 9, -999, -999, 9, -999
49NZ20031106, A10, 37, 1, 28, 12028, 2, 20031116, 2144, -29.9873, -27.5607, 4893,    503.1, 2,   9.3505, 2,  34.7237, 2,  34.7239, 2,    200.0, 1,    208.8, 2,     7.29, 2,    18.72, 2,     0.01, 2,     1.31, 2, -999.000, 9, -999.000, 9, -999.000, 9,   -999.0, 9,   -999.0, 9, -999.0000, 9,   -999.00, -999.000, 9, -999.000,   -999.0, 9,   -999.0,  -999.00, 9,   -999.0,   9.2938, 26.8535,   9.3497, 2, 504.3, 2, 209.24, 2, 0.14, 0.09, 0.01, 0.01, -999, 9,  -999.00, 9, -999, -999, 9, -999
49NZ20031106, A10, 37, 1, 27, 12027, 2, 20031116, 2144, -29.9873, -27.5607, 4893,    600.2, 2,   7.4151, 2,  34.5088, 2,  34.5077, 2,    205.3, 1,    214.4, 2,    10.53, 2,    23.16, 2,     0.01, 2,     1.58, 2, -999.000, 9, -999.000, 9, -999.000, 9,   -999.0, 9,   -999.0, 9, -999.0000, 9,   -999.00, -999.000, 9, -999.000,   -999.0, 9,   -999.0,  -999.00, 9,   -999.0,   7.3558, 26.9813,   7.4157, 2, 600.7, 2, 214.86, 2, 0.14, 0.1, 0.01, 0.01, -999, 9,  -999.00, 9, -999, -999, 9, -999
49NZ20031106, A10, 37, 1, 26, 12026, 2, 20031116, 2144, -29.9873, -27.5607, 4893,    700.6, 2,   5.7255, 2,  34.3566, 2,  34.3558, 2,    214.9, 1,    224.5, 2,    14.90, 2,    26.45, 2,     0.00, 2,     1.80, 2, -999.000, 9, -999.000, 9, -999.000, 9,   -999.0, 9,   -999.0, 9, -999.0000, 9,   -999.00, -999.000, 9, -999.000,   -999.0, 9,   -999.0,  -999.00, 9,   -999.0,   5.6649, 27.086,   5.7249, 2, 700.9, 2, 223.96, 2, 0.15, 0.11, 0.01, 0.01, -999, 9,  -999.00, 9, -999, -999, 9, -999
49NZ20031106, A10, 37, 1, 25, 12025, 2, 20031116, 2144, -29.9873, -27.5607, 4893,    801.0, 2,   4.6992, 2,  34.2879, 2,  34.2879, 2,    221.1, 1,    231.2, 2,    19.16, 2,    28.22, 2,     0.01, 2,     1.92, 2, -999.000, 9, -999.000, 9, -999.000, 9,   -999.0, 9,   -999.0, 9, -999.0000, 9,   -999.00, -999.000, 9, -999.000,   -999.0, 9,   -999.0,  -999.00, 9,   -999.0,   4.6358, 27.152,   4.6999, 2, 802.8, 2, 231, 2, 0.16, 0.11, 0.01, 0.01, -999, 9,  -999.00, 9, -999, -999, 9, -999
49NZ20031106, A10, 37, 1, 24, 12024, 2, 20031116, 2144, -29.9873, -27.5607, 4893,    900.8, 2,   4.0325, 2,  34.2775, 2,  34.2770, 2,    218.1, 1,    228.2, 2,    25.11, 2,    29.78, 2,     0.00, 2,     2.03, 2, -999.000, 9, -999.000, 9, -999.000, 9,   -999.0, 9,   -999.0, 9, -999.0000, 9,   -999.00, -999.000, 9, -999.000,   -999.0, 9,   -999.0,  -999.00, 9,   -999.0,   3.9651, 27.2152,   4.0334, 2, 901.8, 2, 228.17, 2, 0.17, 0.12, 0.01, 0.02, -999, 9,  -999.00, 9, -999, -999, 9, -999
49NZ20031106, A10, 37, 1, 4, 12040, 9, 20031116, 2144, -29.9873, -27.5607, 4893,   1000.4, 2,   3.6001, 2,  34.3210, 2, -999.0000, 9,    204.9, 1,   -999.0, 9,  -999.00, 9,  -999.00, 9,  -999.00, 9,  -999.00, 9, -999.000, 9, -999.000, 9, -999.000, 9,   -999.0, 9,   -999.0, 9, -999.0000, 9,   -999.00, -999.000, 9, -999.000,   -999.0, 9,   -999.0,  -999.00, 9,   -999.0,   3.5278, 27.2937,   3.5999, 2, 1000.2, 2, 214.18, 2, -999, -999, -999, -999, -999, 9,  -999.00, 9, -999, -999, 9, -999
49NZ20031106, A10, 37, 1, 2, 12038, 9, 20031116, 2144, -29.9873, -27.5607, 4893,   1000.7, 2,   3.5993, 2,  34.3212, 2, -999.0000, 9,    204.8, 1,   -999.0, 9,  -999.00, 9,  -999.00, 9,  -999.00, 9,  -999.00, 9, -999.000, 9, -999.000, 9, -999.000, 9,   -999.0, 9,   -999.0, 9, -999.0000, 9,   -999.00, -999.000, 9, -999.000,   -999.0, 9,   -999.0,  -999.00, 9,   -999.0,   3.5270, 27.2938,   3.5993, 2, 1000.4, 2, 214.13, 2, -999, -999, -999, -999, -999, 9,  -999.00, 9, -999, -999, 9, -999
49NZ20031106, A10, 37, 1, 1, 12037, 9, 20031116, 2144, -29.9873, -27.5607, 4893,   1001.2, 2,   3.5974, 2,  34.3215, 2, -999.0000, 9,    204.8, 1,   -999.0, 9,  -999.00, 9,  -999.00, 9,  -999.00, 9,  -999.00, 9, -999.000, 9, -999.000, 9, -999.000, 9,   -999.0, 9,   -999.0, 9, -999.0000, 9,   -999.00, -999.000, 9, -999.000,   -999.0, 9,   -999.0,  -999.00, 9,   -999.0,   3.5251, 27.2944,   3.5976, 2, 1000.9, 2, 214.05, 2, -999, -999, -999, -999, -999, 9,  -999.00, 9, -999, -999, 9, -999
49NZ20031106, A10, 37, 1, 23, 12023, 2, 20031116, 2144, -29.9873, -27.5607, 4893,   1001.5, 2,   3.5969, 2,  34.3213, 2,  34.3209, 2,    205.0, 1,    214.4, 2,    34.01, 2,    31.46, 2,     0.00, 2,     2.15, 2, -999.000, 9, -999.000, 9, -999.000, 9,   -999.0, 9,   -999.0, 9, -999.0000, 9,   -999.00, -999.000, 9, -999.000,   -999.0, 9,   -999.0,  -999.00, 9,   -999.0,   3.5245, 27.2944,   3.5981, 2, 1001.1, 2, 214, 2, 0.19, 0.12, 0.01, 0.02, -999, 9,  -999.00, 9, -999, -999, 9, -999
49NZ20031106, A10, 37, 1, 3, 12039, 9, 20031116, 2144, -29.9873, -27.5607, 4893,   1001.5, 2,   3.5962, 2,  34.3213, 2, -999.0000, 9,    204.9, 1,   -999.0, 9,  -999.00, 9,  -999.00, 9,  -999.00, 9,  -999.00, 9, -999.000, 9, -999.000, 9, -999.000, 9,   -999.0, 9,   -999.0, 9, -999.0000, 9,   -999.00, -999.000, 9, -999.000,   -999.0, 9,   -999.0,  -999.00, 9,   -999.0,   3.5238, 27.2947,   3.5964, 2, 1001.2, 2, 214.01, 2, -999, -999, -999, -999, -999, 9,  -999.00, 9, -999, -999, 9, -999
49NZ20031106, A10, 37, 1, 22, 12022, 2, 20031116, 2144, -29.9873, -27.5607, 4893,   1199.9, 2,   3.0860, 2,  34.4473, 2,  34.4471, 2,    184.8, 1,    193.4, 2,    48.70, 2,    32.87, 2,     0.01, 2,     2.24, 2, -999.000, 9, -999.000, 9, -999.000, 9,   -999.0, 9,   -999.0, 9, -999.0000, 9,   -999.00, -999.000, 9, -999.000,   -999.0, 9,   -999.0,  -999.00, 9,   -999.0,   3.0020, 27.4443,   3.0859, 2, 1201.3, 2, 194.44, 2, 0.23, 0.12, 0.01, 0.02, -999, 9,  -999.00, 9, -999, -999, 9, -999
49NZ20031106, A10, 37, 1, 21, 12015, 2, 20031116, 2144, -29.9873, -27.5607, 4893,   1401.3, 2,   2.9464, 2,  34.5731, 2,  34.5735, 2,    180.2, 1,    188.5, 2,    53.93, 2,    31.94, 2,     0.00, 2,     2.18, 2, -999.000, 9, -999.000, 9, -999.000, 9,   -999.0, 9,   -999.0, 9, -999.0000, 9,   -999.00, -999.000, 9, -999.000,   -999.0, 9,   -999.0,  -999.00, 9,   -999.0,   2.8473, 27.5589,   2.9463, 2, 1401.9, 2, 188.43, 2, 0.24, 0.12, 0.01, 0.02, -999, 9,  -999.00, 9, -999, -999, 9, -999
49NZ20031106, A10, 37, 1, 20, 12020, 2, 20031116, 2144, -29.9873, -27.5607, 4893,   1600.7, 2,   2.8304, 2,  34.6735, 2,  34.6736, 2,    186.6, 1,    195.3, 2,    54.63, 2,    30.11, 2,     0.00, 2,     2.04, 2, -999.000, 9, -999.000, 9, -999.000, 9,   -999.0, 9,   -999.0, 9, -999.0000, 9,   -999.00, -999.000, 9, -999.000,   -999.0, 9,   -999.0,  -999.00, 9,   -999.0,   2.7159, 27.6507,   2.8303, 2, 1601.3, 2, 194.74, 2, 0.24, 0.12, 0.01, 0.02, -999, 9,  -999.00, 9, -999, -999, 9, -999
49NZ20031106, A10, 37, 1, 19, 12019, 2, 20031116, 2144, -29.9873, -27.5607, 4893,   1800.7, 2,   2.7552, 2,  34.7513, 2,  34.7512, 2,    197.7, 1,    207.1, 2,    52.30, 2,    27.93, 2,     0.00, 2,     1.90, 2, -999.000, 9, -999.000, 9, -999.000, 9,   -999.0, 9,   -999.0, 9, -999.0000, 9,   -999.00, -999.000, 9, -999.000,   -999.0, 9,   -999.0,  -999.00, 9,   -999.0,   2.6244, 27.7209,   2.7552, 2, 1799.7, 2, 207.3, 2, 0.23, 0.11, 0.01, 0.01, -999, 9,  -999.00, 9, -999, -999, 9, -999
49NZ20031106, A10, 37, 1, 18, 12018, 2, 20031116, 2144, -29.9873, -27.5607, 4893,   2001.4, 2,   2.7198, 2,  34.8032, 2,  34.8037, 2,    208.3, 1,    218.5, 2,    48.78, 2,    26.14, 2,     0.00, 2,     1.77, 2, -999.000, 9, -999.000, 9, -999.000, 9,   -999.0, 9,   -999.0, 9, -999.0000, 9,   -999.00, -999.000, 9, -999.000,   -999.0, 9,   -999.0,  -999.00, 9,   -999.0,   2.5718, 27.7672,   2.7198, 2, 2000.8, 2, 218.36, 2, 0.23, 0.11, 0.01, 0.01, -999, 9,  -999.00, 9, -999, -999, 9, -999
49NZ20031106, A10, 37, 1, 17, 12017, 2, 20031116, 2144, -29.9873, -27.5607, 4893,   2201.2, 2,   2.7328, 2,  34.8446, 2,  34.8447, 2,    218.5, 1,    229.4, 2,    43.92, 2,    24.44, 2,     0.00, 2,     1.65, 2, -999.000, 9, -999.000, 9, -999.000, 9,   -999.0, 9,   -999.0, 9, -999.0000, 9,   -999.00, -999.000, 9, -999.000,   -999.0, 9,   -999.0,  -999.00, 9,   -999.0,   2.5663, 27.8007,   2.7329, 2, 2200.8, 2, 229.31, 2, 0.22, 0.1, 0.01, 0.01, -999, 9,  -999.00, 9, -999, -999, 9, -999
49NZ20031106, A10, 37, 1, 16, 12016, 2, 20031116, 2144, -29.9873, -27.5607, 4893,   2400.8, 2,   2.7639, 2,  34.8750, 2,  34.8751, 2,    226.4, 1,    237.7, 2,    39.53, 2,    23.08, 2,     0.00, 2,     1.55, 2, -999.000, 9, -999.000, 9, -999.000, 9,   -999.0, 9,   -999.0, 9, -999.0000, 9,   -999.00, -999.000, 9, -999.000,   -999.0, 9,   -999.0,  -999.00, 9,   -999.0,   2.5781, 27.824,   2.7638, 2, 2400.6, 2, 236.84, 2, 0.21, 0.1, 0.01, 0.01, -999, 9,  -999.00, 9, -999, -999, 9, -999
49NZ20031106, A10, 37, 1, 15, 12012, 2, 20031116, 2144, -29.9873, -27.5607, 4893,   2601.6, 2,   2.7829, 2,  34.8945, 2,  34.8945, 2,    231.9, 1,    243.4, 2,    36.44, 2,    22.14, 2,     0.00, 2,     1.49, 2, -999.000, 9, -999.000, 9, -999.000, 9,   -999.0, 9,   -999.0, 9, -999.0000, 9,   -999.00, -999.000, 9, -999.000,   -999.0, 9,   -999.0,  -999.00, 9,   -999.0,   2.5772, 27.8397,   2.7828, 2, 2601.2, 2, 243.66, 2, 0.2, 0.09, 0.01, 0.01, -999, 9,  -999.00, 9, -999, -999, 9, -999
49NZ20031106, A10, 37, 1, 14, 12014, 2, 20031116, 2144, -29.9873, -27.5607, 4893,   2799.4, 2,   2.7585, 2,  34.9062, 2,  34.9059, 2,    235.6, 1,    247.6, 2,    34.85, 2,    21.55, 2,     0.01, 2,     1.45, 2, -999.000, 9, -999.000, 9, -999.000, 9,   -999.0, 9,   -999.0, 9, -999.0000, 9,   -999.00, -999.000, 9, -999.000,   -999.0, 9,   -999.0,  -999.00, 9,   -999.0,   2.5336, 27.8528,   2.7583, 2, 2799.2, 2, 247.35, 2, 0.2, 0.09, 0.01, 0.01, -999, 9,  -999.00, 9, -999, -999, 9, -999
49NZ20031106, A10, 37, 1, 13, 12013, 2, 20031116, 2144, -29.9873, -27.5607, 4893,   3000.8, 2,   2.6804, 2,  34.9066, 2,  34.9067, 2,    237.4, 1,    249.3, 2,    35.87, 2,    21.43, 2,     0.00, 2,     1.44, 2, -999.000, 9, -999.000, 9, -999.000, 9,   -999.0, 9,   -999.0, 9, -999.0000, 9,   -999.00, -999.000, 9, -999.000,   -999.0, 9,   -999.0,  -999.00, 9,   -999.0,   2.4366, 27.8614,   2.6805, 2, 3000.8, 2, 249.14, 2, 0.2, 0.09, 0.01, 0.01, -999, 9,  -999.00, 9, -999, -999, 9, -999
49NZ20031106, A10, 37, 1, 12, 12048, 2, 20031116, 2144, -29.9873, -27.5607, 4893,   3251.5, 2,   2.5267, 2,  34.8963, 2,  34.8963, 2,    237.3, 1,    249.0, 2,    39.93, 2,    21.81, 2,     0.00, 2,     1.45, 2, -999.000, 9, -999.000, 9, -999.000, 9,   -999.0, 9,   -999.0, 9, -999.0000, 9,   -999.00, -999.000, 9, -999.000,   -999.0, 9,   -999.0,  -999.00, 9,   -999.0,   2.2603, 27.8682,   2.5268, 2, 3251.3, 2, 248.97, 2, 0.21, 0.09, 0.01, 0.01, -999, 9,  -999.00, 9, -999, -999, 9, -999
49NZ20031106, A10, 37, 1, 11, 12047, 2, 20031116, 2144, -29.9873, -27.5607, 4893,   3500.5, 2,   2.2776, 2,  34.8742, 2,  34.8741, 2,    235.3, 1,    246.6, 2,    48.24, 2,    22.73, 2,     0.00, 2,     1.54, 2, -999.000, 9, -999.000, 9, -999.000, 9,   -999.0, 9,   -999.0, 9, -999.0000, 9,   -999.00, -999.000, 9, -999.000,   -999.0, 9,   -999.0,  -999.00, 9,   -999.0,   1.9909, 27.8725,   2.2782, 2, 3499.7, 2, 246.59, 2, 0.23, 0.1, 0.01, 0.01, -999, 9,  -999.00, 9, -999, -999, 9, -999
49NZ20031106, A10, 37, 1, 10, 12046, 2, 20031116, 2144, -29.9873, -27.5607, 4893,   3751.6, 2,   1.8632, 2,  34.8312, 2,  34.8314, 2,    229.0, 1,    239.7, 2,    64.38, 2,    24.93, 2,     0.00, 2,     1.70, 2, -999.000, 9, -999.000, 9, -999.000, 9,   -999.0, 9,   -999.0, 9, -999.0000, 9,   -999.00, -999.000, 9, -999.000,   -999.0, 9,   -999.0,  -999.00, 9,   -999.0,   1.5604, 27.8712,   1.8634, 2, 3751, 2, 239.84, 2, 0.26, 0.1, 0.01, 0.01, -999, 9,  -999.00, 9, -999, -999, 9, -999
49NZ20031106, A10, 37, 1, 9, 12045, 2, 20031116, 2144, -29.9873, -27.5607, 4893,   4002.0, 2,   1.4323, 2,  34.7789, 2,  34.7789, 2,    219.2, 1,    228.8, 2,    84.59, 2,    27.87, 2,     0.00, 2,     1.90, 2, -999.000, 9, -999.000, 9, -999.000, 9,   -999.0, 9,   -999.0, 9, -999.0000, 9,   -999.00, -999.000, 9, -999.000,   -999.0, 9,   -999.0,  -999.00, 9,   -999.0,   1.1145, 27.8613,   1.4322, 2, 4001.9, 2, 229.11, 2, 0.31, 0.11, 0.01, 0.01, -999, 9,  -999.00, 9, -999, -999, 9, -999
49NZ20031106, A10, 37, 1, 8, 12044, 2, 20031116, 2144, -29.9873, -27.5607, 4893,   4251.6, 2,   1.2255, 2,  34.7547, 2,  34.7552, 2,    216.0, 1,    224.7, 2,    93.96, 2,    29.25, 2,     0.00, 2,     2.00, 2, -999.000, 9, -999.000, 9, -999.000, 9,   -999.0, 9,   -999.0, 9, -999.0000, 9,   -999.00, -999.000, 9, -999.000,   -999.0, 9,   -999.0,  -999.00, 9,   -999.0,   0.8865, 27.8571,   1.2254, 2, 4251.7, 2, 224.68, 2, 0.33, 0.11, 0.01, 0.02, -999, 9,  -999.00, 9, -999, -999, 9, -999
49NZ20031106, A10, 37, 1, 7, 12043, 2, 20031116, 2144, -29.9873, -27.5607, 4893,   4501.8, 2,   1.1504, 2,  34.7448, 2,  34.7450, 2,    215.7, 1,    223.3, 2,    97.85, 2,    29.79, 2,     0.00, 2,     2.04, 2, -999.000, 9, -999.000, 9, -999.000, 9,   -999.0, 9,   -999.0, 9, -999.0000, 9,   -999.00, -999.000, 9, -999.000,   -999.0, 9,   -999.0,  -999.00, 9,   -999.0,   0.7857, 27.8555,   1.1503, 2, 4501.8, 2, 223.27, 2, 0.33, 0.12, 0.01, 0.02, -999, 9,  -999.00, 9, -999, -999, 9, -999
49NZ20031106, A10, 37, 1, 6, 12042, 2, 20031116, 2144, -29.9873, -27.5607, 4893,   4750.9, 2,   1.1674, 2,  34.7453, 2,  34.7450, 2,    217.7, 1,    223.7, 2,    97.95, 2,    29.67, 2,     0.00, 2,     2.03, 2, -999.000, 9, -999.000, 9, -999.000, 9,   -999.0, 9,   -999.0, 9, -999.0000, 9,   -999.00, -999.000, 9, -999.000,   -999.0, 9,   -999.0,  -999.00, 9,   -999.0,   0.7735, 27.8566,   1.1676, 2, 4750.9, 2, 222.76, 2, 0.33, 0.12, 0.01, 0.02, -999, 9,  -999.00, 9, -999, -999, 9, -999
49NZ20031106, A10, 37, 1, 5, 12041, 2, 20031116, 2144, -29.9873, -27.5607, 4893,   4882.4, 2,   1.1571, 2,  34.7406, 2,  34.7404, 2,    217.8, 1,    222.4, 2,    99.58, 2,    29.97, 2,     0.01, 2,     2.06, 2, -999.000, 9, -999.000, 9, -999.000, 9,   -999.0, 9,   -999.0, 9, -999.0000, 9,   -999.00, -999.000, 9, -999.000,   -999.0, 9,   -999.0,  -999.00, 9,   -999.0,   0.7481, 27.8545,   1.1571, 2, 4882.4, 2, 221.94, 2, 0.34, 0.12, 0.01, 0.02, -999, 9,  -999.00, 9, -999, -999, 9, -999