BOTTLE,20220818CCHSIOAMB
EXPOCODE,SECT_ID,STNNBR,CASTNO,SAMPNO,BTLNBR,BTLNBR_FLAG_W,DATE,TIME,LATITUDE,LONGITUDE,DEPTH,CTDPRS,CTDPRS_FLAG_W,CTDTMP,CTDTMP_FLAG_W,CTDSAL,CTDSAL_FLAG_W,SALNTY,SALNTY_FLAG_W,CTDOXY,CTDOXY_FLAG_W,OXYGEN,OXYGEN_FLAG_W,SILCAT,SILCAT_FLAG_W,NITRAT,NITRAT_FLAG_W,NITRIT,NITRIT_FLAG_W,PHSPHT,PHSPHT_FLAG_W,CFC-11,CFC-11_FLAG_W,CFC-12,CFC-12_FLAG_W,CFC113,CFC113_FLAG_W,TCARBN,TCARBN_FLAG_W,ALKALI,ALKALI_FLAG_W,PH_TOT,PH_TOT_FLAG_W,PH_TMP,TRITUM,TRITUM_FLAG_W,TRITER,DELC14,DELC14_FLAG_W,C14ERR,DELC13,DELC13_FLAG_W,C13ERR,THETA,SIG0,SBE35,SBE35_FLAG_W,DWNPRS,DWNPRS_FLAG_W,DWNOXY,DWNOXY_FLAG_W,SILUNC,NRAUNC,NRIUNC,PHPUNC,TOC,TOC_FLAG_W,CS-137,CS-137_FLAG_W,CS137ER,PLUTO,PLUTO_FLAG_W,PLUTOER
,,,,,,,,,,,METERS,DBAR,,ITS-90,,PSS-78,,PSS-78,,UMOL/KG,,UMOL/KG,,UMOL/KG,,UMOL/KG,,UMOL/KG,,UMOL/KG,,PMOL/KG,,PMOL/KG,,PMOL/KG,,UMOL/KG,,UMOL/KG,,,,DEG C,TU,,TU,/MILLE,,/MILLE,/MILLE,,/MILLE,DEG C,KG/M^3,ITS-90,,DBAR,,UMOL/KG,,UMOL/KG,UMOL/KG,UMOL/KG,UMOL/KG,UMOL/KG,,BQ/M^3,,BQ/M^3,MBQ/M^3,,MBQ/M^3
49NZ20031106, A10, 13, 1, 36, 12048, 2, 20031111, 1530, -29.9985, -38.4905, 4232,     10.1, 2,  21.4705, 2,  36.4527, 2,  36.4508, 2,    211.5, 1,    223.3, 2,     0.87, 2,    -0.01, 2,     0.00, 2,     0.05, 2, -999.000, 9, -999.000, 9, -999.000, 9,   -999.0, 9,   -999.0, 9, -999.0000, 9,   -999.00, -999.000, 9, -999.000,   -999.0, 9,   -999.0,  -999.00, 9,   -999.0,  21.4685, 25.4736,  21.4724, 2, 10.1, 2, 223.4, 2, 0.12, 0.03, 0.01, 0.03, -999, 9,  -999.00, 9, -999, -999, 9, -999
49NZ20031106, A10, 13, 1, 35, 12047, 2, 20031111, 1530, -29.9985, -38.4905, 4232,     50.2, 2,  20.9831, 2,  36.4504, 2,  36.4460, 2,    212.8, 1,    224.3, 2,     0.86, 2,    -0.02, 2,    -0.01, 2,     0.04, 2, -999.000, 9, -999.000, 9, -999.000, 9,   -999.0, 9,   -999.0, 9, -999.0000, 9,   -999.00, -999.000, 9, -999.000,   -999.0, 9,   -999.0,  -999.00, 9,   -999.0,  20.9734, 25.6085,  20.9834, 2, 50.3, 2, 224, 2, 0.12, 0.03, 0.01, 0.04, -999, 9,  -999.00, 9, -999, -999, 9, -999
49NZ20031106, A10, 13, 1, 7, 12019, 2, 20031111, 1530, -29.9985, -38.4905, 4232,    100.6, 2,  19.9586, 2,  36.2426, 2, -999.0000, 9,    211.7, 1,   -999.0, 9,  -999.00, 9,  -999.00, 9,  -999.00, 9,  -999.00, 9, -999.000, 9, -999.000, 9, -999.000, 9,   -999.0, 9,   -999.0, 9, -999.0000, 9,   -999.00, -999.000, 1, -999.000,   -999.0, 9,   -999.0,  -999.00, 9,   -999.0,  19.9399, 25.7281,  19.9580, 2, 98.1, 2, 223.26, 2, -999, -999, -999, -999, -999, 9,  -999.00, 9, -999, -999, 9, -999
49NZ20031106, A10, 13, 1, 34, 12046, 2, 20031111, 1530, -29.9985, -38.4905, 4232,    100.8, 2,  19.9671, 2,  36.2413, 2,  36.2424, 2,    212.0, 1,    223.0, 2,     0.88, 2,    -0.05, 2,     0.01, 2,     0.09, 2, -999.000, 9, -999.000, 9, -999.000, 9,   -999.0, 9,   -999.0, 9, -999.0000, 9,   -999.00, -999.000, 1, -999.000,   -999.0, 9,   -999.0,  -999.00, 9,   -999.0,  19.9484, 25.7257,  19.9637, 2, 98, 2, 223.2, 2, 0.12, 0.03, 0.01, 0.02, -999, 9,     1.23, 2, 0.15, -999, 1, -999
49NZ20031106, A10, 13, 1, 33, 12045, 2, 20031111, 1530, -29.9985, -38.4905, 4232,    151.5, 2,  17.3555, 2,  35.8294, 2,  35.8285, 2,    199.9, 1,    209.6, 2,     1.29, 2,     2.16, 2,     0.02, 2,     0.28, 2, -999.000, 9, -999.000, 9, -999.000, 9,   -999.0, 9,   -999.0, 9, -999.0000, 9,   -999.00, -999.000, 9, -999.000,   -999.0, 9,   -999.0,  -999.00, 9,   -999.0,  17.3300, 26.0733,  17.3556, 2, 148.2, 2, 208.79, 2, 0.12, 0.04, 0.01, 0.01, -999, 9,  -999.00, 9, -999, -999, 9, -999
49NZ20031106, A10, 13, 1, 4, 12016, 2, 20031111, 1530, -29.9985, -38.4905, 4232,    202.7, 2,  15.8919, 2,  35.6118, 2, -999.0000, 9,    198.3, 1,   -999.0, 9,  -999.00, 9,  -999.00, 9,  -999.00, 9,  -999.00, 9, -999.000, 9, -999.000, 9, -999.000, 9,   -999.0, 9,   -999.0, 9, -999.0000, 9,   -999.00, -999.000, 1, -999.000,   -999.0, 9,   -999.0,  -999.00, 9,   -999.0,  15.8598, 26.2524,  15.8832, 2, 200.4, 2, 209.61, 2, -999, -999, -999, -999, -999, 9,  -999.00, 9, -999, -999, 9, -999
49NZ20031106, A10, 13, 1, 32, 12044, 2, 20031111, 1530, -29.9985, -38.4905, 4232,    203.3, 2,  15.8616, 2,  35.6073, 2,  35.6101, 2,    198.2, 1,    207.5, 2,     1.72, 2,     4.22, 2,     0.01, 2,     0.42, 2, -999.000, 9, -999.000, 9, -999.000, 9,   -999.0, 9,   -999.0, 9, -999.0000, 9,   -999.00, -999.000, 1, -999.000,   -999.0, 9,   -999.0,  -999.00, 9,   -999.0,  15.8295, 26.2559,  15.8589, 2, 201.2, 2, 209.78, 2, 0.12, 0.04, 0.01, 0.01, -999, 9,  -999.00, 1, -999, -999, 1, -999
49NZ20031106, A10, 13, 1, 31, 12043, 2, 20031111, 1530, -29.9985, -38.4905, 4232,    250.7, 2,  14.9247, 2,  35.4734, 2,  35.4734, 2,    204.3, 1,    213.3, 2,     1.94, 2,     5.27, 2,     0.01, 2,     0.49, 2, -999.000, 9, -999.000, 9, -999.000, 9,   -999.0, 9,   -999.0, 9, -999.0000, 9,   -999.00, -999.000, 9, -999.000,   -999.0, 9,   -999.0,  -999.00, 9,   -999.0,  14.8867, 26.363,  14.9258, 2, 246.2, 2, 213.23, 2, 0.12, 0.05, 0.01, 0.01, -999, 9,  -999.00, 9, -999, -999, 9, -999
49NZ20031106, A10, 13, 1, 30, 12042, 2, 20031111, 1530, -29.9985, -38.4905, 4232,    301.3, 2,  14.3143, 2,  35.4063, 2,  35.4068, 2,    205.1, 1,    214.2, 2,     2.21, 2,     6.61, 2,     0.00, 2,     0.56, 2, -999.000, 9, -999.000, 9, -999.000, 9,   -999.0, 9,   -999.0, 9, -999.0000, 9,   -999.00, -999.000, 9, -999.000,   -999.0, 9,   -999.0,  -999.00, 9,   -999.0,  14.2698, 26.4447,  14.3149, 2, 295.6, 2, 213.48, 2, 0.12, 0.05, 0.01, 0.01, -999, 9,  -999.00, 9, -999, -999, 9, -999
49NZ20031106, A10, 13, 1, 29, 12041, 2, 20031111, 1530, -29.9985, -38.4905, 4232,    402.6, 2,  12.6307, 2,  35.1551, 2,  35.1551, 2,    204.0, 1,    212.6, 2,     3.35, 2,    10.41, 2,     0.00, 2,     0.79, 2, -999.000, 9, -999.000, 9, -999.000, 9,   -999.0, 9,   -999.0, 9, -999.0000, 9,   -999.00, -999.000, 1, -999.000,   -999.0, 9,   -999.0,  -999.00, 9,   -999.0,  12.5759, 26.5983,  12.6297, 2, 396.8, 2, 210.67, 2, 0.13, 0.06, 0.01, 0.01, -999, 9,     1.93, 2, 0.24, -999, 1, -999
49NZ20031106, A10, 13, 1, 28, 12040, 2, 20031111, 1530, -29.9985, -38.4905, 4232,    503.0, 2,  10.7770, 2,  34.9094, 2,  34.9133, 3,    197.8, 1,    206.1, 2,     5.65, 2,    15.43, 2,    -0.01, 2,     1.11, 2, -999.000, 9, -999.000, 9, -999.000, 9,   -999.0, 9,   -999.0, 9, -999.0000, 9,   -999.00, -999.000, 9, -999.000,   -999.0, 9,   -999.0,  -999.00, 9,   -999.0,  10.7150, 26.7563,  10.7780, 2, 499.6, 2, 205.92, 2, 0.13, 0.08, 0.01, 0.01, -999, 9,  -999.00, 9, -999, -999, 9, -999
49NZ20031106, A10, 13, 1, 2, 12014, 2, 20031111, 1530, -29.9985, -38.4905, 4232,    602.2, 2,   8.7646, 2,  34.6648, 2, -999.0000, 9,    196.2, 1,   -999.0, 9,  -999.00, 9,  -999.00, 9,  -999.00, 9,  -999.00, 9, -999.000, 9, -999.000, 9, -999.000, 9,   -999.0, 9,   -999.0, 9, -999.0000, 9,   -999.00, -999.000, 1, -999.000,   -999.0, 9,   -999.0,  -999.00, 9,   -999.0,   8.6990, 26.9032,   8.7648, 2, 597.9, 2, 206.53, 2, -999, -999, -999, -999, -999, 9,  -999.00, 9, -999, -999, 9, -999
49NZ20031106, A10, 13, 1, 27, 12039, 2, 20031111, 1530, -29.9985, -38.4905, 4232,    602.3, 2,   8.7592, 2,  34.6644, 2,  34.6641, 2,    196.5, 1,    204.0, 2,     9.05, 2,    20.66, 2,     0.00, 2,     1.44, 2, -999.000, 9, -999.000, 9, -999.000, 9,   -999.0, 9,   -999.0, 9, -999.0000, 9,   -999.00, -999.000, 1, -999.000,   -999.0, 9,   -999.0,  -999.00, 9,   -999.0,   8.6936, 26.9034,   8.7601, 2, 598.1, 2, 206.59, 2, 0.14, 0.09, 0.01, 0.01, -999, 9,  -999.00, 1, -999, -999, 1, -999
49NZ20031106, A10, 13, 1, 26, 12038, 2, 20031111, 1530, -29.9985, -38.4905, 4232,    701.6, 2,   6.9455, 2,  34.4704, 2,  34.4703, 2,    206.2, 1,    214.2, 2,    12.27, 2,    24.25, 2,     0.00, 2,     1.67, 2, -999.000, 9, -999.000, 9, -999.000, 9,   -999.0, 9,   -999.0, 9, -999.0000, 9,   -999.00, -999.000, 9, -999.000,   -999.0, 9,   -999.0,  -999.00, 9,   -999.0,   6.8783, 27.0174,   6.9492, 2, 696, 2, 216.75, 2, 0.15, 0.1, 0.01, 0.01, -999, 9,  -999.00, 9, -999, -999, 9, -999
49NZ20031106, A10, 13, 1, 25, 12037, 2, 20031111, 1530, -29.9985, -38.4905, 4232,    799.8, 2,   5.3330, 2,  34.3295, 2,  34.3295, 2,    218.9, 1,    227.2, 2,    16.58, 2,    27.03, 2,    -0.01, 2,     1.85, 2, -999.000, 9, -999.000, 9, -999.000, 9,   -999.0, 9,   -999.0, 9, -999.0000, 9,   -999.00, -999.000, 1, -999.000,   -999.0, 9,   -999.0,  -999.00, 9,   -999.0,   5.2657, 27.1122,   5.3334, 2, 797.8, 2, 227.97, 2, 0.16, 0.11, 0.01, 0.01, -999, 9,     0.64, 2, 0.17, -999, 1, -999
49NZ20031106, A10, 13, 1, 24, 12036, 2, 20031111, 1530, -29.9985, -38.4905, 4232,    898.9, 2,   4.4941, 2,  34.3016, 2,  34.3016, 2,    215.9, 1,    224.6, 2,    22.91, 2,    29.11, 2,     0.00, 2,     1.99, 2, -999.000, 9, -999.000, 9, -999.000, 9,   -999.0, 9,   -999.0, 9, -999.0000, 9,   -999.00, -999.000, 9, -999.000,   -999.0, 9,   -999.0,  -999.00, 9,   -999.0,   4.4236, 27.1854,   4.4943, 2, 896.6, 2, 227.33, 2, 0.17, 0.11, 0.01, 0.02, -999, 9,  -999.00, 9, -999, -999, 9, -999
49NZ20031106, A10, 13, 1, 23, 12035, 2, 20031111, 1530, -29.9985, -38.4905, 4232,   1003.3, 2,   3.7490, 2,  34.2946, 2,  34.2945, 2,    213.1, 1,    222.1, 2,    29.88, 2,    30.62, 2,    -0.01, 2,     2.10, 2, -999.000, 9, -999.000, 9, -999.000, 9,   -999.0, 9,   -999.0, 9, -999.0000, 9,   -999.00, -999.000, 1, -999.000,   -999.0, 9,   -999.0,  -999.00, 9,   -999.0,   3.6754, 27.2575,   3.7492, 2, 1002.8, 2, 221.73, 2, 0.18, 0.12, 0.01, 0.02, -999, 9,  -999.00, 1, -999, -999, 1, -999
49NZ20031106, A10, 13, 1, 3, 12012, 2, 20031111, 1530, -29.9985, -38.4905, 4232,   1003.4, 2,   3.7509, 2,  34.2944, 2, -999.0000, 9,    213.2, 1,   -999.0, 9,  -999.00, 9,  -999.00, 9,  -999.00, 9,  -999.00, 9, -999.000, 9, -999.000, 9, -999.000, 9,   -999.0, 9,   -999.0, 9, -999.0000, 9,   -999.00, -999.000, 1, -999.000,   -999.0, 9,   -999.0,  -999.00, 9,   -999.0,   3.6772, 27.2571,   3.7506, 2, 1002.8, 2, 221.71, 2, -999, -999, -999, -999, -999, 9,  -999.00, 9, -999, -999, 9, -999
49NZ20031106, A10, 13, 1, 22, 12034, 2, 20031111, 1530, -29.9985, -38.4905, 4232,   1200.2, 2,   3.1495, 2,  34.4020, 2,  34.4021, 2,    191.5, 1,    199.8, 2,    45.43, 2,    32.59, 2,     0.00, 2,     2.24, 2, -999.000, 9, -999.000, 9, -999.000, 9,   -999.0, 9,   -999.0, 9, -999.0000, 9,   -999.00, -999.000, 1, -999.000,   -999.0, 9,   -999.0,  -999.00, 9,   -999.0,   3.0650, 27.4015,   3.1496, 2, 1198.6, 2, 199.68, 2, 0.22, 0.12, 0.01, 0.02, -999, 9,  -999.00, 5, -999, -999, 1, -999
49NZ20031106, A10, 13, 1, 21, 12033, 2, 20031111, 1530, -29.9985, -38.4905, 4232,   1400.2, 2,   2.9066, 2,  34.5420, 2,  34.5421, 2,    181.9, 1,    189.0, 2,    54.54, 2,    32.26, 2,    -0.01, 2,     2.22, 2, -999.000, 9, -999.000, 9, -999.000, 9,   -999.0, 9,   -999.0, 9, -999.0000, 9,   -999.00, -999.000, 1, -999.000,   -999.0, 9,   -999.0,  -999.00, 9,   -999.0,   2.8081, 27.5367,   2.9064, 2, 1400.4, 2, 189.61, 2, 0.24, 0.12, 0.01, 0.02, -999, 9,     0.03, 2, 0.03, -999, 1, -999
49NZ20031106, A10, 13, 1, 20, 12032, 2, 20031111, 1530, -29.9985, -38.4905, 4232,   1602.3, 2,   2.8780, 2,  34.6873, 2,  34.6869, 2,    188.2, 1,    195.5, 2,    54.38, 2,    29.84, 2,    -0.01, 2,     2.04, 2, -999.000, 9, -999.000, 9, -999.000, 9,   -999.0, 9,   -999.0, 9, -999.0000, 9,   -999.00, -999.000, 9, -999.000,   -999.0, 9,   -999.0,  -999.00, 9,   -999.0,   2.7627, 27.6569,   2.8778, 2, 1602.3, 2, 195.47, 2, 0.24, 0.12, 0.01, 0.02, -999, 9,  -999.00, 9, -999, -999, 9, -999
49NZ20031106, A10, 13, 1, 19, 12031, 2, 20031111, 1530, -29.9985, -38.4905, 4232,   1800.1, 2,   3.0851, 2,  34.8067, 2,  34.6280, 4,    205.0, 1,    190.8, 4,    55.68, 4,    30.98, 4,    -0.01, 4,     2.13, 4, -999.000, 9, -999.000, 9, -999.000, 9,   -999.0, 9,   -999.0, 9, -999.0000, 9,   -999.00, -999.000, 9, -999.000,   -999.0, 9,   -999.0,  -999.00, 9,   -999.0,   2.9497, 27.7354,   3.0850, 2, 1800.5, 2, 211.58, 2, 0.24, 0.12, 0.01, 0.02, -999, 9,  -999.00, 9, -999, -999, 9, -999
49NZ20031106, A10, 13, 1, 5, 12017, 2, 20031111, 1530, -29.9985, -38.4905, 4232,   1999.3, 2,   2.9779, 2,  34.8438, 2, -999.0000, 9,    216.5, 1,   -999.0, 9,  -999.00, 9,  -999.00, 9,  -999.00, 9,  -999.00, 9, -999.000, 9, -999.000, 9, -999.000, 9,   -999.0, 9,   -999.0, 9, -999.0000, 9,   -999.00, -999.000, 1, -999.000,   -999.0, 9,   -999.0,  -999.00, 9,   -999.0,   2.8261, 27.7764,   2.9777, 2, 1999.2, 2, 224.25, 2, -999, -999, -999, -999, -999, 9,  -999.00, 9, -999, -999, 9, -999
49NZ20031106, A10, 13, 1, 18, 12030, 2, 20031111, 1530, -29.9985, -38.4905, 4232,   1999.7, 2,   2.9766, 2,  34.8438, 2,  34.8441, 2,    216.6, 1,    225.4, 2,    40.92, 2,    24.48, 2,    -0.01, 2,     1.67, 2, -999.000, 9, -999.000, 9, -999.000, 9,   -999.0, 9,   -999.0, 9, -999.0000, 9,   -999.00, -999.000, 1, -999.000,   -999.0, 9,   -999.0,  -999.00, 9,   -999.0,   2.8247, 27.7766,   2.9770, 2, 1999.6, 2, 224.28, 2, 0.21, 0.1, 0.01, 0.01, -999, 9,  -999.00, 1, -999, -999, 1, -999
49NZ20031106, A10, 13, 1, 17, 12029, 2, 20031111, 1530, -29.9985, -38.4905, 4232,   2199.3, 2,   3.1974, 2,  34.9218, 2,  34.9217, 2,    234.2, 1,    244.1, 2,    28.78, 2,    21.25, 2,    -0.01, 2,     1.43, 2, -999.000, 9, -999.000, 9, -999.000, 9,   -999.0, 9,   -999.0, 9, -999.0000, 9,   -999.00, -999.000, 9, -999.000,   -999.0, 9,   -999.0,  -999.00, 9,   -999.0,   3.0232, 27.8207,   3.1977, 2, 2198.9, 2, 244.39, 2, 0.18, 0.09, 0.01, 0.01, -999, 9,  -999.00, 9, -999, -999, 9, -999
49NZ20031106, A10, 13, 1, 16, 12028, 2, 20031111, 1530, -29.9985, -38.4905, 4232,   2401.2, 2,   3.0368, 2,  34.9176, 2,  34.9178, 2,    235.7, 1,    245.5, 2,    30.71, 2,    21.23, 2,    -0.01, 2,     1.43, 2, -999.000, 9, -999.000, 9, -999.000, 9,   -999.0, 9,   -999.0, 9, -999.0000, 9,   -999.00, -999.000, 1, -999.000,   -999.0, 9,   -999.0,  -999.00, 9,   -999.0,   2.8459, 27.8336,   3.0373, 2, 2401.2, 2, 244.3, 2, 0.19, 0.09, 0.01, 0.01, -999, 9,     0.10, 2, 0.03, -999, 1, -999
49NZ20031106, A10, 13, 1, 15, 12027, 2, 20031111, 1530, -29.9985, -38.4905, 4232,   2602.1, 2,   2.9220, 2,  34.9135, 2,  34.9136, 2,    236.6, 1,    246.2, 2,    32.36, 2,    21.26, 2,    -0.01, 2,     1.43, 2, -999.000, 9, -999.000, 9, -999.000, 9,   -999.0, 9,   -999.0, 9, -999.0000, 9,   -999.00, -999.000, 9, -999.000,   -999.0, 9,   -999.0,  -999.00, 9,   -999.0,   2.7136, 27.8425,   2.9219, 2, 2602, 2, 246.13, 2, 0.19, 0.09, 0.01, 0.01, -999, 9,  -999.00, 9, -999, -999, 9, -999
49NZ20031106, A10, 13, 1, 14, 12026, 2, 20031111, 1530, -29.9985, -38.4905, 4232,   2799.8, 2,   2.8512, 2,  34.9196, 2,  34.9198, 2,    239.7, 1,    249.5, 2,    32.01, 2,    20.87, 2,    -0.01, 2,     1.40, 2, -999.000, 9, -999.000, 9, -999.000, 9,   -999.0, 9,   -999.0, 9, -999.0000, 9,   -999.00, -999.000, 9, -999.000,   -999.0, 9,   -999.0,  -999.00, 9,   -999.0,   2.6243, 27.8551,   2.8512, 2, 2799.9, 2, 249.15, 2, 0.19, 0.09, 0.01, 0.01, -999, 9,  -999.00, 9, -999, -999, 9, -999
49NZ20031106, A10, 13, 1, 6, 12018, 2, 20031111, 1530, -29.9985, -38.4905, 4232,   3000.8, 2,   2.7585, 2,  34.9172, 2, -999.0000, 9,    241.1, 1,   -999.0, 9,  -999.00, 9,  -999.00, 9,  -999.00, 9,  -999.00, 9, -999.000, 9, -999.000, 9, -999.000, 9,   -999.0, 9,   -999.0, 9, -999.0000, 9,   -999.00, -999.000, 1, -999.000,   -999.0, 9,   -999.0,  -999.00, 9,   -999.0,   2.5130, 27.8628,   2.7586, 2, 3000.9, 2, 250.12, 2, -999, -999, -999, -999, -999, 9,  -999.00, 9, -999, -999, 9, -999
49NZ20031106, A10, 13, 1, 13, 12025, 2, 20031111, 1530, -29.9985, -38.4905, 4232,   3001.0, 2,   2.7584, 2,  34.9171, 2,  34.9173, 2,    241.2, 1,    250.6, 2,    33.24, 2,    20.83, 2,    -0.01, 2,     1.40, 2, -999.000, 9, -999.000, 9, -999.000, 9,   -999.0, 9,   -999.0, 9, -999.0000, 9,   -999.00, -999.000, 1, -999.000,   -999.0, 9,   -999.0,  -999.00, 9,   -999.0,   2.5129, 27.8628,   2.7583, 2, 3001.1, 2, 250.13, 2, 0.19, 0.09, 0.01, 0.01, -999, 9,  -999.00, 9, -999, -999, 9, -999
49NZ20031106, A10, 13, 1, 12, 12024, 2, 20031111, 1530, -29.9985, -38.4905, 4232,   3251.8, 2,   2.5915, 2,  34.9065, 2,  34.9061, 2,    242.0, 1,    251.3, 2,    36.69, 2,    21.04, 2,     0.00, 2,     1.43, 2, -999.000, 9, -999.000, 9, -999.000, 9,   -999.0, 9,   -999.0, 9, -999.0000, 9,   -999.00, -999.000, 9, -999.000,   -999.0, 9,   -999.0,  -999.00, 9,   -999.0,   2.3235, 27.8706,   2.5914, 2, 3252.1, 2, 251.27, 2, 0.2, 0.09, 0.01, 0.01, -999, 9,  -999.00, 9, -999, -999, 9, -999
49NZ20031106, A10, 13, 1, 11, 12023, 2, 20031111, 1530, -29.9985, -38.4905, 4232,   3502.1, 2,   2.3223, 2,  34.8824, 2,  34.8821, 2,    240.2, 1,    248.9, 2,    45.58, 2,    22.18, 2,    -0.01, 2,     1.51, 2, -999.000, 9, -999.000, 9, -999.000, 9,   -999.0, 9,   -999.0, 9, -999.0000, 9,   -999.00, -999.000, 1, -999.000,   -999.0, 9,   -999.0,  -999.00, 9,   -999.0,   2.0342, 27.8749,   2.3224, 2, 3502.2, 2, 248.82, 2, 0.22, 0.09, 0.01, 0.01, -999, 9,  -999.00, 1, -999, -999, 1, -999
49NZ20031106, A10, 13, 1, 10, 12022, 2, 20031111, 1530, -29.9985, -38.4905, 4232,   3751.2, 2,   1.8007, 2,  34.8303, 2,  34.8298, 2,    233.2, 1,    240.9, 2,    65.53, 2,    24.86, 2,    -0.01, 2,     1.71, 2, -999.000, 9, -999.000, 9, -999.000, 9,   -999.0, 9,   -999.0, 9, -999.0000, 9,   -999.00, -999.000, 9, -999.000,   -999.0, 9,   -999.0,  -999.00, 9,   -999.0,   1.4996, 27.8742,   1.8006, 2, 3751.4, 2, 240.98, 2, 0.26, 0.1, 0.01, 0.01, -999, 9,  -999.00, 9, -999, -999, 9, -999
49NZ20031106, A10, 13, 1, 9, 12015, 2, 20031111, 1530, -29.9985, -38.4905, 4232,   4000.6, 2,   1.5781, 2,  34.8046, 2,  34.8042, 2,    229.8, 1,    236.1, 2,    75.59, 2,    26.30, 2,    -0.01, 2,     1.81, 2, -999.000, 9, -999.000, 9, -999.000, 9,   -999.0, 9,   -999.0, 9, -999.0000, 9,   -999.00, -999.000, 9, -999.000,   -999.0, 9,   -999.0,  -999.00, 9,   -999.0,   1.2562, 27.871,   1.5781, 2, 4000.8, 2, 236.06, 2, 0.29, 0.11, 0.01, 0.01, -999, 9,  -999.00, 9, -999, -999, 9, -999
49NZ20031106, A10, 13, 1, 8, 12020, 2, 20031111, 1530, -29.9985, -38.4905, 4232,   4265.4, 2,   1.2460, 2,  34.7663, 2,  34.7664, 2,    225.0, 1,    229.5, 2,    90.19, 2,    28.29, 2,    -0.01, 2,     1.95, 2, -999.000, 9, -999.000, 9, -999.000, 9,   -999.0, 9,   -999.0, 9, -999.0000, 9,   -999.00, -999.000, 1, -999.000,   -999.0, 9,   -999.0,  -999.00, 9,   -999.0,   0.9048, 27.8642,   1.2476, 2, 4265.6, 2, 229.08, 2, 0.32, 0.11, 0.01, 0.01, -999, 9,  -999.00, 1, -999, -999, 1, -999
49NZ20031106, A10, 13, 1, 1, 12013, 2, 20031111, 1530, -29.9985, -38.4905, 4232,   4265.4, 2,   1.2488, 2,  34.7666, 2, -999.0000, 9,    225.1, 1,   -999.0, 9,  -999.00, 9,  -999.00, 9,  -999.00, 9,  -999.00, 9, -999.000, 9, -999.000, 9, -999.000, 9,   -999.0, 9,   -999.0, 9, -999.0000, 9,   -999.00, -999.000, 9, -999.000,   -999.0, 9,   -999.0,  -999.00, 9,   -999.0,   0.9075, 27.8641,   1.2495, 2, 4265.5, 2, 229.08, 2, -999, -999, -999, -999, -999, 9,  -999.00, 9, -999, -999, 9, -999