BOTTLE,20220818CCHSIOAMB
EXPOCODE,SECT_ID,STNNBR,CASTNO,SAMPNO,BTLNBR,BTLNBR_FLAG_W,DATE,TIME,LATITUDE,LONGITUDE,DEPTH,CTDPRS,CTDPRS_FLAG_W,CTDTMP,CTDTMP_FLAG_W,CTDSAL,CTDSAL_FLAG_W,SALNTY,SALNTY_FLAG_W,CTDOXY,CTDOXY_FLAG_W,OXYGEN,OXYGEN_FLAG_W,SILCAT,SILCAT_FLAG_W,NITRAT,NITRAT_FLAG_W,NITRIT,NITRIT_FLAG_W,PHSPHT,PHSPHT_FLAG_W,CFC-11,CFC-11_FLAG_W,CFC-12,CFC-12_FLAG_W,CFC113,CFC113_FLAG_W,TCARBN,TCARBN_FLAG_W,ALKALI,ALKALI_FLAG_W,PH_TOT,PH_TOT_FLAG_W,PH_TMP,TRITUM,TRITUM_FLAG_W,TRITER,DELC14,DELC14_FLAG_W,C14ERR,DELC13,DELC13_FLAG_W,C13ERR,THETA,SIG0,SBE35,SBE35_FLAG_W,DWNPRS,DWNPRS_FLAG_W,DWNOXY,DWNOXY_FLAG_W,SILUNC,NRAUNC,NRIUNC,PHPUNC,TOC,TOC_FLAG_W,CS-137,CS-137_FLAG_W,CS137ER,PLUTO,PLUTO_FLAG_W,PLUTOER
,,,,,,,,,,,METERS,DBAR,,ITS-90,,PSS-78,,PSS-78,,UMOL/KG,,UMOL/KG,,UMOL/KG,,UMOL/KG,,UMOL/KG,,UMOL/KG,,PMOL/KG,,PMOL/KG,,PMOL/KG,,UMOL/KG,,UMOL/KG,,,,DEG C,TU,,TU,/MILLE,,/MILLE,/MILLE,,/MILLE,DEG C,KG/M^3,ITS-90,,DBAR,,UMOL/KG,,UMOL/KG,UMOL/KG,UMOL/KG,UMOL/KG,UMOL/KG,,BQ/M^3,,BQ/M^3,MBQ/M^3,,MBQ/M^3
49NZ20031106, A10, 85, 1, 36, 12024, 2, 20031129, 1403, -29.7377, 7.6293, 5139,      9.3, 2,  19.0069, 2,  35.6031, 2,  35.6026, 2,    224.7, 1,    237.7, 2,     1.34, 2,     0.01, 2,     0.00, 2,     0.18, 2,    2.672, 2,    1.454, 2,    0.455, 4,   2049.5, 2,   2336.5, 2,    8.0130, 2,     25.00, -999.000, 9, -999.000,   -999.0, 9,   -999.0,  -999.00, 9,   -999.0,  19.0052, 25.4836,  19.0051, 2, 6.5, 2, 238.73, 2, 0.12, 0.03, 0.01, 0.02, -999, 9,  -999.00, 9, -999, -999, 9, -999
49NZ20031106, A10, 85, 1, 3, 12027, 9, 20031129, 1403, -29.7377, 7.6293, 5139,      9.3, 2,  19.0119, 2,  35.6027, 2, -999.0000, 9,    224.7, 1,   -999.0, 9,  -999.00, 9,  -999.00, 9,  -999.00, 9,  -999.00, 9, -999.000, 9, -999.000, 9, -999.000, 9,   -999.0, 9,   -999.0, 9, -999.0000, 9,   -999.00, -999.000, 9, -999.000,   -999.0, 9,   -999.0,  -999.00, 9,   -999.0,  19.0102, 25.4817,  19.0147, 2, 6.1, 2, 238.79, 2, -999, -999, -999, -999, -999, 9,  -999.00, 9, -999, -999, 9, -999
49NZ20031106, A10, 85, 1, 35, 12023, 2, 20031129, 1403, -29.7377, 7.6293, 5139,     48.5, 2,  18.0741, 2,  35.6161, 2,  35.6174, 2,    228.9, 1,    242.2, 2,     1.65, 2,    -0.03, 2,     0.00, 2,     0.17, 2,    2.743, 2,    1.497, 2,    0.329, 4,   2049.7, 6,   2334.8, 2,    8.0113, 2,     25.00, -999.000, 9, -999.000,   -999.0, 9,   -999.0,  -999.00, 9,   -999.0,  18.0657, 25.7303,  18.0739, 2, 47.9, 2, 242.09, 2, 0.12, 0.03, 0.01, 0.02, -999, 9,  -999.00, 9, -999, -999, 9, -999
49NZ20031106, A10, 85, 1, 2, 12026, 2, 20031129, 1403, -29.7377, 7.6293, 5139,     88.5, 2,  16.2040, 2,  35.5148, 2, -999.0000, 9,    224.7, 1,   -999.0, 9,  -999.00, 9,  -999.00, 9,  -999.00, 9,  -999.00, 9, -999.000, 9, -999.000, 9, -999.000, 9,   -999.0, 9,   -999.0, 9, -999.0000, 9,   -999.00, -999.000, 9, -999.000,   -999.0, 9,   -999.0,  -999.00, 9,   -999.0,  16.1899, 26.103,  16.2029, 2, 92.4, 2, 238.43, 2, -999, -999, -999, -999, -999, 9,  -999.00, 9, -999, -999, 9, -999
49NZ20031106, A10, 85, 1, 34, 12022, 2, 20031129, 1403, -29.7377, 7.6293, 5139,    100.1, 2,  15.9078, 2,  35.4801, 2,  35.4796, 2,    220.7, 1,    232.5, 2,     2.89, 2,     3.31, 2,     0.30, 2,     0.40, 2,    2.949, 2,    1.599, 2,    0.302, 4,   2073.9, 2,   2324.9, 6,    7.9555, 2,     25.00, -999.000, 9, -999.000,   -999.0, 9,   -999.0,  -999.00, 9,   -999.0,  15.8920, 26.1443,  15.9056, 2, 106, 2, 233.05, 2, 0.13, 0.04, 0.01, 0.01, -999, 9,  -999.00, 9, -999, -999, 9, -999
49NZ20031106, A10, 85, 1, 33, 12015, 2, 20031129, 1403, -29.7377, 7.6293, 5139,    151.2, 2,  14.5597, 2,  35.2998, 2,  35.2980, 2,    208.6, 1,    219.0, 2,     3.56, 2,     6.77, 2,     0.02, 2,     0.59, 2,    3.090, 2,    1.638, 2,    0.320, 4,   2094.3, 2,   2315.8, 2,    7.9043, 6,     25.00, -999.000, 9, -999.000,   -999.0, 9,   -999.0,  -999.00, 9,   -999.0,  14.5372, 26.305,  14.5650, 2, 156.7, 2, 216.27, 2, 0.13, 0.05, 0.01, 0.01, -999, 9,  -999.00, 9, -999, -999, 9, -999
49NZ20031106, A10, 85, 1, 32, 12020, 2, 20031129, 1403, -29.7377, 7.6293, 5139,    200.5, 2,  13.2806, 2,  35.1619, 2,  35.1609, 2,    201.0, 1,    211.1, 2,     4.34, 2,     9.77, 2,     0.01, 2,     0.77, 2,    3.204, 2,    1.664, 2,    0.200, 4,   2109.9, 2,   2310.4, 2,    7.8595, 2,     25.00, -999.000, 9, -999.000,   -999.0, 9,   -999.0,  -999.00, 9,   -999.0,  13.2526, 26.4685,  13.2758, 2, 203.3, 2, 206.26, 2, 0.13, 0.06, 0.01, 0.01, -999, 9,  -999.00, 9, -999, -999, 9, -999
49NZ20031106, A10, 85, 1, 31, 12019, 2, 20031129, 1403, -29.7377, 7.6293, 5139,    250.8, 2,  12.1795, 2,  35.0538, 2,  35.0535, 2,    206.4, 1,    216.1, 2,     4.21, 2,    11.16, 2,     0.00, 2,     0.85, 2,    3.380, 2,    1.746, 2,    0.124, 4,   2116.1, 2,   2306.3, 2,    7.8408, 2,     25.00, -999.000, 9, -999.000,   -999.0, 9,   -999.0,  -999.00, 9,   -999.0,  12.1464, 26.6038,  12.1796, 2, 254.2, 2, 212.7, 2, 0.13, 0.06, 0.01, 0.01, -999, 9,  -999.00, 9, -999, -999, 9, -999
49NZ20031106, A10, 85, 1, 30, 12018, 2, 20031129, 1403, -29.7377, 7.6293, 5139,    300.2, 2,  11.2699, 2,  34.9473, 2,  34.9461, 2,    206.2, 1,    216.2, 2,     4.97, 2,    13.26, 2,     0.00, 2,     0.98, 2,    3.431, 2,    1.746, 2,    0.130, 4,   2121.0, 2,   2303.1, 2,    7.8182, 2,     25.00, -999.000, 9, -999.000,   -999.0, 9,   -999.0,  -999.00, 9,   -999.0,  11.2322, 26.6926,  11.2692, 2, 304.8, 2, 217.46, 2, 0.13, 0.07, 0.01, 0.01, -999, 9,  -999.00, 9, -999, -999, 9, -999
49NZ20031106, A10, 85, 1, 29, 12017, 2, 20031129, 1403, -29.7377, 7.6293, 5139,    400.1, 2,   9.7056, 2,  34.7620, 2,  34.7605, 2,    202.7, 1,    212.5, 2,     7.51, 2,    17.45, 2,     0.01, 2,     1.24, 2,    3.273, 2,    1.636, 2,    0.139, 4,   2135.3, 2,   2296.9, 2,    7.7736, 2,     25.00, -999.000, 9, -999.000,   -999.0, 9,   -999.0,  -999.00, 9,   -999.0,   9.6597, 26.8236,   9.7096, 2, 401.5, 2, 210.43, 2, 0.14, 0.08, 0.01, 0.01, -999, 9,  -999.00, 9, -999, -999, 9, -999
49NZ20031106, A10, 85, 1, 28, 12016, 2, 20031129, 1403, -29.7377, 7.6293, 5139,    500.6, 2,   8.0721, 2,  34.5900, 2,  34.5878, 2,    186.8, 1,    195.3, 2,    13.65, 2,    23.07, 2,     0.00, 2,     1.62, 2,    2.925, 2,    1.424, 2,    0.128, 4,   2162.4, 2,   2292.3, 2,    7.7015, 2,     25.00, -999.000, 9, -999.000,   -999.0, 9,   -999.0,  -999.00, 9,   -999.0,   8.0205, 26.9488,   8.0724, 2, 501.6, 2, 191.24, 2, 0.15, 0.1, 0.01, 0.01, -999, 9,  -999.00, 9, -999, -999, 9, -999
49NZ20031106, A10, 85, 1, 27, 12012, 2, 20031129, 1403, -29.7377, 7.6293, 5139,    600.4, 2,   6.5036, 2,  34.4499, 2,  34.4490, 2,    193.7, 1,    201.9, 2,    17.63, 2,    26.55, 2,     0.00, 2,     1.82, 2,    2.782, 2,    1.328, 2,    0.132, 4,   2169.1, 2,   2290.1, 2,    7.6732, 4,     25.00, -999.000, 9, -999.000,   -999.0, 9,   -999.0,  -999.00, 9,   -999.0,   6.4485, 27.0598,   6.5043, 2, 598.6, 2, 201.6, 2, 0.16, 0.11, 0.01, 0.01, -999, 9,  -999.00, 9, -999, -999, 9, -999
49NZ20031106, A10, 85, 1, 26, 12014, 2, 20031129, 1403, -29.7377, 7.6293, 5139,    700.8, 2,   5.2041, 2,  34.3643, 2,  34.3644, 2,    200.0, 1,    209.3, 2,    23.07, 2,    28.85, 2,     0.00, 2,     1.98, 2,    2.619, 2,    1.213, 2,    0.133, 4,   2181.3, 6,   2292.7, 2,    7.6540, 4,     25.00, -999.000, 9, -999.000,   -999.0, 9,   -999.0,  -999.00, 9,   -999.0,   5.1463, 27.1541,   5.2058, 2, 700.1, 2, 209.56, 2, 0.17, 0.11, 0.01, 0.02, -999, 9,  -999.00, 9, -999, -999, 9, -999
49NZ20031106, A10, 85, 1, 25, 12013, 2, 20031129, 1403, -29.7377, 7.6293, 5139,    803.0, 2,   4.4212, 2,  34.3539, 2,  34.3533, 2,    195.2, 1,    204.4, 2,    30.26, 2,    30.73, 2,     0.00, 2,     2.12, 2, -999.000, 5, -999.000, 5, -999.000, 5,   2193.6, 2,   2296.5, 6,    7.6333, 4,     25.00, -999.000, 9, -999.000,   -999.0, 9,   -999.0,  -999.00, 9,   -999.0,   4.3592, 27.2344,   4.4236, 2, 804.8, 2, 202.76, 2, 0.19, 0.12, 0.01, 0.02, -999, 9,  -999.00, 9, -999, -999, 9, -999
49NZ20031106, A10, 85, 1, 24, 12048, 2, 20031129, 1403, -29.7377, 7.6293, 5139,    901.5, 2,   3.9643, 2,  34.3843, 2,  34.3848, 2,    182.4, 1,    190.9, 2,    37.70, 2,    32.44, 2,     0.00, 2,     2.23, 2,    1.392, 4,    0.639, 4,    0.058, 4,   2210.3, 2,   2308.1, 2,    7.6064, 2,     25.00, -999.000, 9, -999.000,   -999.0, 9,   -999.0,  -999.00, 9,   -999.0,   3.8972, 27.3072,   3.9643, 2, 901.6, 2, 191.15, 2, 0.2, 0.12, 0.01, 0.02, -999, 9,  -999.00, 9, -999, -999, 9, -999
49NZ20031106, A10, 85, 1, 23, 12047, 2, 20031129, 1403, -29.7377, 7.6293, 5139,   1001.8, 2,   3.5722, 2,  34.4259, 2,  34.4268, 2,    177.1, 1,    184.9, 2,    44.20, 2,    33.14, 2,     0.00, 2,     2.28, 2,    0.902, 6,    0.417, 6,    0.039, 4,   2220.5, 2,   2312.5, 2,    7.5984, 2,     25.00, -999.000, 9, -999.000,   -999.0, 9,   -999.0,  -999.00, 9,   -999.0,   3.4998, 27.3801,   3.5746, 2, 1002.5, 2, 185.22, 2, 0.22, 0.13, 0.01, 0.02, -999, 9,  -999.00, 9, -999, -999, 9, -999
49NZ20031106, A10, 85, 1, 1, 12025, 2, 20031129, 1403, -29.7377, 7.6293, 5139,   1201.5, 2,   3.2190, 2,  34.5406, 2,  34.5405, 2,    170.6, 1,    178.7, 2,    52.66, 2,    32.92, 2,     0.00, 2,     2.26, 2,    0.348, 2,    0.151, 2,    0.011, 4,   2231.6, 2,   2320.8, 2,    7.5932, 2,     25.00, -999.000, 9, -999.000,   -999.0, 9,   -999.0,  -999.00, 9,   -999.0,   3.1334, 27.5068,   3.2186, 2, 1202.5, 2, 179.72, 2, 0.23, 0.12, 0.01, 0.02, -999, 9,  -999.00, 9, -999, -999, 9, -999
49NZ20031106, A10, 85, 1, 21, 12045, 2, 20031129, 1403, -29.7377, 7.6293, 5139,   1402.6, 2,   3.1977, 2,  34.6743, 2,  34.6737, 2,    177.9, 1,    186.6, 2,    48.82, 2,    30.46, 2,     0.00, 2,     2.09, 2,    0.083, 2,    0.039, 2,    0.007, 4,   2224.0, 2,   2321.2, 2,    7.6207, 2,     25.00, -999.000, 9, -999.000,   -999.0, 9,   -999.0,  -999.00, 9,   -999.0,   3.0956, 27.6167,   3.1970, 2, 1403.9, 2, 186.44, 2, 0.23, 0.12, 0.01, 0.02, -999, 9,  -999.00, 9, -999, -999, 9, -999
49NZ20031106, A10, 85, 1, 20, 12044, 2, 20031129, 1403, -29.7377, 7.6293, 5139,   1600.9, 2,   2.8671, 2,  34.7112, 2,  34.7107, 2,    181.6, 1,    190.2, 2,    57.56, 2,    29.97, 2,     0.00, 2,     2.06, 2,    0.089, 2,    0.040, 2,    0.008, 4,   2229.5, 2,   2332.1, 3,    7.6266, 2,     25.00, -999.000, 9, -999.000,   -999.0, 9,   -999.0,  -999.00, 9,   -999.0,   2.7520, 27.6777,   2.8670, 2, 1601.5, 2, 190.5, 2, 0.25, 0.12, 0.01, 0.02, -999, 9,  -999.00, 9, -999, -999, 9, -999
49NZ20031106, A10, 85, 1, 19, 12043, 2, 20031129, 1403, -29.7377, 7.6293, 5139,   1802.0, 2,   2.9260, 2,  34.7843, 2,  34.7856, 3,    195.9, 1,    205.6, 2,    49.01, 2,    27.40, 2,     0.00, 2,     1.86, 2,    0.041, 2,    0.017, 2,    0.000, 4,   2213.0, 2,   2327.2, 2,    7.6592, 2,     25.00, -999.000, 9, -999.000,   -999.0, 9,   -999.0,  -999.00, 9,   -999.0,   2.7927, 27.7326,   2.9267, 2, 1802.8, 2, 205.54, 2, 0.23, 0.11, 0.01, 0.01, -999, 9,  -999.00, 9, -999, -999, 9, -999
49NZ20031106, A10, 85, 1, 18, 12042, 2, 20031129, 1403, -29.7377, 7.6293, 5139,   2002.1, 2,   2.9585, 2,  34.8431, 2,  34.8431, 2,    211.4, 1,    222.4, 2,    41.60, 2,    24.79, 2,     0.00, 2,     1.68, 2,    0.002, 2,    0.003, 2,    0.000, 4,   2198.4, 2,   2326.6, 2,    7.6920, 6,     25.00, -999.000, 9, -999.000,   -999.0, 9,   -999.0,  -999.00, 9,   -999.0,   2.8067, 27.7783,   2.9582, 2, 2002.9, 2, 219.94, 2, 0.21, 0.1, 0.01, 0.01, -999, 9,  -999.00, 9, -999, -999, 9, -999
49NZ20031106, A10, 85, 1, 17, 12041, 2, 20031129, 1403, -29.7377, 7.6293, 5139,   2200.8, 2,   2.7768, 2,  34.8462, 2,  34.8463, 2,    212.1, 1,    223.1, 2,    45.99, 2,    24.88, 2,     0.00, 2,     1.69, 2,    0.013, 2,    0.004, 2,    0.000, 4,   2201.9, 4,   2326.6, 2,    7.6932, 2,     25.00, -999.000, 9, -999.000,   -999.0, 9,   -999.0,  -999.00, 9,   -999.0,   2.6096, 27.7984,   2.7729, 2, 2201.7, 2, 220.52, 2, 0.22, 0.1, 0.01, 0.01, -999, 9,  -999.00, 9, -999, -999, 9, -999
49NZ20031106, A10, 85, 1, 16, 12040, 2, 20031129, 1403, -29.7377, 7.6293, 5139,   2402.0, 2,   2.6817, 2,  34.8571, 2,  34.8573, 2,    217.4, 1,    228.7, 2,    45.76, 2,    24.29, 2,    -0.01, 2,     1.64, 2,   -0.003, 2,   -0.002, 2,    0.000, 4,   2199.3, 6,   2332.5, 2,    7.7016, 2,     25.00, -999.000, 9, -999.000,   -999.0, 9,   -999.0,  -999.00, 9,   -999.0,   2.4973, 27.8169,   2.6815, 2, 2402.5, 2, 229.11, 2, 0.22, 0.1, 0.01, 0.01, -999, 9,  -999.00, 9, -999, -999, 9, -999
49NZ20031106, A10, 85, 1, 15, 12039, 2, 20031129, 1403, -29.7377, 7.6293, 5139,   2601.8, 2,   2.5808, 2,  34.8581, 2,  34.8583, 2,    219.0, 1,    230.7, 2,    47.62, 2,    24.19, 2,     0.00, 2,     1.63, 2,   -0.002, 2,   -0.001, 2,    0.000, 4,   2200.5, 2,   2331.1, 6,    7.7050, 2,     25.00, -999.000, 9, -999.000,   -999.0, 9,   -999.0,  -999.00, 9,   -999.0,   2.3791, 27.8277,   2.5807, 2, 2602.1, 2, 230.43, 2, 0.22, 0.1, 0.01, 0.01, -999, 9,  -999.00, 9, -999, -999, 9, -999
49NZ20031106, A10, 85, 1, 14, 12038, 2, 20031129, 1403, -29.7377, 7.6293, 5139,   2803.1, 2,   2.4655, 2,  34.8548, 2,  34.8552, 2,    218.7, 1,    230.3, 2,    51.12, 2,    24.39, 2,    -0.01, 2,     1.65, 2,    0.001, 2,    0.001, 2,    0.000, 4,   2204.2, 2,   2336.2, 2,    7.7030, 2,     25.00, -999.000, 9, -999.000,   -999.0, 9,   -999.0,  -999.00, 9,   -999.0,   2.2464, 27.8364,   2.4652, 2, 2803.2, 2, 228.6, 2, 0.23, 0.1, 0.01, 0.01, -999, 9,  -999.00, 9, -999, -999, 9, -999
49NZ20031106, A10, 85, 1, 13, 12037, 2, 20031129, 1403, -29.7377, 7.6293, 5139,   3002.4, 2,   2.3655, 2,  34.8524, 2,  34.8526, 2,    218.5, 1,    230.1, 2,    54.31, 2,    24.65, 2,     0.00, 2,     1.67, 2,    0.002, 2,    0.000, 2,    0.000, 4,   2207.5, 2,   2336.4, 2,    7.7038, 2,     25.00, -999.000, 9, -999.000,   -999.0, 9,   -999.0,  -999.00, 9,   -999.0,   2.1286, 27.8442,   2.3654, 2, 3002.8, 2, 229.88, 2, 0.24, 0.1, 0.01, 0.01, -999, 9,  -999.00, 9, -999, -999, 9, -999
49NZ20031106, A10, 85, 1, 12, 12036, 2, 20031129, 1403, -29.7377, 7.6293, 5139,   3251.2, 2,   2.2918, 2,  34.8524, 2,  34.8527, 2,    219.1, 1,    230.6, 2,    56.45, 2,    24.66, 2,    -0.01, 2,     1.67, 2,    0.002, 2,    0.001, 2,    0.000, 4,   2210.7, 2,   2338.3, 2,    7.7034, 4,     25.00, -999.000, 9, -999.000,   -999.0, 9,   -999.0,  -999.00, 9,   -999.0,   2.0311, 27.852,   2.2918, 2, 3251.5, 2, 230.76, 2, 0.24, 0.1, 0.01, 0.01, -999, 9,  -999.00, 9, -999, -999, 9, -999
49NZ20031106, A10, 85, 1, 11, 12035, 2, 20031129, 1403, -29.7377, 7.6293, 5139,   3501.0, 2,   2.2079, 2,  34.8483, 2,  34.8482, 2,    218.7, 1,    229.8, 2,    59.65, 2,    24.98, 2,    -0.01, 2,     1.69, 2,   -0.002, 2,   -0.001, 2,    0.000, 4,   2214.4, 2,   2346.2, 2,    7.7026, 2,     25.00, -999.000, 9, -999.000,   -999.0, 9,   -999.0,  -999.00, 9,   -999.0,   1.9230, 27.8575,   2.2079, 2, 3500.9, 2, 230.18, 2, 0.25, 0.1, 0.01, 0.01, -999, 9,  -999.00, 9, -999, -999, 9, -999
49NZ20031106, A10, 85, 1, 10, 12034, 2, 20031129, 1403, -29.7377, 7.6293, 5139,   3751.7, 2,   2.0109, 2,  34.8284, 2,  34.8284, 2,    216.0, 1,    226.7, 2,    68.17, 2,    25.98, 2,    -0.01, 2,     1.76, 2,    0.002, 2,    0.001, 2,    0.000, 4,   2222.9, 2,   2350.5, 2,    7.6930, 2,     25.00, -999.000, 9, -999.000,   -999.0, 9,   -999.0,  -999.00, 9,   -999.0,   1.7042, 27.8583,   2.0112, 2, 3751.5, 2, 226.87, 2, 0.27, 0.11, 0.01, 0.01, -999, 9,  -999.00, 9, -999, -999, 9, -999
49NZ20031106, A10, 85, 1, 9, 12033, 2, 20031129, 1403, -29.7377, 7.6293, 5139,   4000.2, 2,   1.6540, 2,  34.7901, 2,  34.7897, 2,    211.8, 1,    221.8, 2,    83.10, 2,    27.91, 2,    -0.01, 2,     1.90, 2,    0.012, 2,    0.006, 2,    0.000, 4,   2234.8, 2,   2357.7, 2,    7.6731, 2,     25.00, -999.000, 9, -999.000,   -999.0, 9,   -999.0,  -999.00, 9,   -999.0,   1.3301, 27.8554,   1.6533, 2, 4000.8, 2, 222.5, 2, 0.3, 0.11, 0.01, 0.01, -999, 9,  -999.00, 9, -999, -999, 9, -999
49NZ20031106, A10, 85, 1, 8, 12032, 2, 20031129, 1403, -29.7377, 7.6293, 5139,   4249.8, 2,   1.3310, 2,  34.7578, 2,  34.7576, 2,    209.4, 1,    218.7, 2,    96.01, 2,    29.50, 2,    -0.01, 2,     2.01, 2,    0.019, 2,    0.006, 2,    0.000, 4,   2246.5, 6,   2362.9, 2,    7.6559, 2,     25.00, -999.000, 9, -999.000,   -999.0, 9,   -999.0,  -999.00, 9,   -999.0,   0.9890, 27.8531,   1.3309, 2, 4250.3, 2, 219.18, 2, 0.33, 0.12, 0.01, 0.02, -999, 9,  -999.00, 9, -999, -999, 9, -999
49NZ20031106, A10, 85, 1, 7, 12031, 2, 20031129, 1403, -29.7377, 7.6293, 5139,   4501.6, 2,   1.1850, 2,  34.7424, 2,  34.7427, 2,    209.1, 1,    217.6, 2,   102.47, 2,    30.24, 2,    -0.01, 2,     2.06, 2,    0.026, 2,    0.011, 2,    0.000, 4,   2251.0, 2,   2362.4, 6,    7.6504, 2,     25.00, -999.000, 9, -999.000,   -999.0, 9,   -999.0,  -999.00, 9,   -999.0,   0.8193, 27.852,   1.1847, 2, 4501.7, 2, 217.51, 2, 0.34, 0.12, 0.01, 0.02, -999, 9,  -999.00, 9, -999, -999, 9, -999
49NZ20031106, A10, 85, 1, 6, 12030, 2, 20031129, 1403, -29.7377, 7.6293, 5139,   4750.7, 2,   1.1465, 2,  34.7365, 2,  34.7371, 2,    209.6, 1,    217.0, 2,   104.78, 2,    30.51, 2,     0.00, 2,     2.09, 2,    0.030, 2,    0.015, 2,    0.000, 4,   2253.5, 2,   2366.5, 2,    7.6493, 2,     25.00, -999.000, 9, -999.000,   -999.0, 9,   -999.0,  -999.00, 9,   -999.0,   0.7533, 27.8514,   1.1463, 2, 4750.8, 2, 216.94, 2, 0.35, 0.12, 0.01, 0.02, -999, 9,  -999.00, 9, -999, -999, 9, -999
49NZ20031106, A10, 85, 1, 22, 12046, 2, 20031129, 1403, -29.7377, 7.6293, 5139,   5000.3, 2,   1.1458, 2,  34.7336, 2,  34.7336, 2,    210.7, 1,    216.8, 2,   106.22, 2,    30.65, 2,     0.00, 2,     2.11, 2,    0.037, 2,    0.018, 2,    0.000, 4,   2256.1, 2,   2364.3, 2,    7.6471, 2,     25.00, -999.000, 9, -999.000,   -999.0, 9,   -999.0,  -999.00, 9,   -999.0,   0.7232, 27.851,   1.1457, 2, 5000.3, 2, 216.59, 2, 0.35, 0.12, 0.01, 0.02, -999, 9,  -999.00, 9, -999, -999, 9, -999
49NZ20031106, A10, 85, 1, 5, 12029, 2, 20031129, 1403, -29.7377, 7.6293, 5139,   5000.3, 2,   1.1459, 2,  34.7335, 2,  34.7335, 2,    210.7, 1,    216.6, 2,   105.87, 2,    30.65, 2,     0.00, 2,     2.11, 2,    0.031, 2,    0.014, 2,    0.000, 4,   2257.3, 2,   2367.2, 2,    7.6456, 2,     25.00, -999.000, 9, -999.000,   -999.0, 9,   -999.0,  -999.00, 9,   -999.0,   0.7233, 27.851,   1.1457, 2, 5000.3, 2, 216.59, 2, 0.35, 0.12, 0.01, 0.02, -999, 9,  -999.00, 9, -999, -999, 9, -999
49NZ20031106, A10, 85, 1, 4, 12028, 2, 20031129, 1403, -29.7377, 7.6293, 5139,   5204.4, 2,   1.1341, 2,  34.7303, 2,  34.7304, 2,    212.5, 1,    216.7, 2,   106.94, 2,    30.72, 2,     0.00, 2,     2.13, 2,    0.044, 2,    0.021, 2,    0.000, 4,   2255.6, 2,   2368.1, 2,    7.6454, 2,     25.00, -999.000, 9, -999.000,   -999.0, 9,   -999.0,  -999.00, 9,   -999.0,   0.6872, 27.8505,   1.1341, 2, 5204.4, 2, 216.46, 2, 0.35, 0.12, 0.01, 0.02, -999, 9,  -999.00, 9, -999, -999, 9, -999