BOTTLE,20220818CCHSIOAMB
EXPOCODE,SECT_ID,STNNBR,CASTNO,SAMPNO,BTLNBR,BTLNBR_FLAG_W,DATE,TIME,LATITUDE,LONGITUDE,DEPTH,CTDPRS,CTDPRS_FLAG_W,CTDTMP,CTDTMP_FLAG_W,CTDSAL,CTDSAL_FLAG_W,SALNTY,SALNTY_FLAG_W,CTDOXY,CTDOXY_FLAG_W,OXYGEN,OXYGEN_FLAG_W,SILCAT,SILCAT_FLAG_W,NITRAT,NITRAT_FLAG_W,NITRIT,NITRIT_FLAG_W,PHSPHT,PHSPHT_FLAG_W,CFC-11,CFC-11_FLAG_W,CFC-12,CFC-12_FLAG_W,CFC113,CFC113_FLAG_W,TCARBN,TCARBN_FLAG_W,ALKALI,ALKALI_FLAG_W,PH_TOT,PH_TOT_FLAG_W,PH_TMP,TRITUM,TRITUM_FLAG_W,TRITER,DELC14,DELC14_FLAG_W,C14ERR,DELC13,DELC13_FLAG_W,C13ERR,THETA,SIG0,SBE35,SBE35_FLAG_W,DWNPRS,DWNPRS_FLAG_W,DWNOXY,DWNOXY_FLAG_W,SILUNC,NRAUNC,NRIUNC,PHPUNC,TOC,TOC_FLAG_W,CS-137,CS-137_FLAG_W,CS137ER,PLUTO,PLUTO_FLAG_W,PLUTOER
,,,,,,,,,,,METERS,DBAR,,ITS-90,,PSS-78,,PSS-78,,UMOL/KG,,UMOL/KG,,UMOL/KG,,UMOL/KG,,UMOL/KG,,UMOL/KG,,PMOL/KG,,PMOL/KG,,PMOL/KG,,UMOL/KG,,UMOL/KG,,,,DEG C,TU,,TU,/MILLE,,/MILLE,/MILLE,,/MILLE,DEG C,KG/M^3,ITS-90,,DBAR,,UMOL/KG,,UMOL/KG,UMOL/KG,UMOL/KG,UMOL/KG,UMOL/KG,,BQ/M^3,,BQ/M^3,MBQ/M^3,,MBQ/M^3
49NZ20031106, A10, 24, 1, 36, 12048, 2, 20031113, 722, -30.0015, -34.4987, 1422,     10.6, 2,  19.8350, 2,  36.0195, 2,  36.0188, 2,    217.8, 1,    229.5, 2,     0.80, 2,    -0.01, 2,     0.00, 2,     0.06, 2,    2.348, 2,    1.432, 2,    0.251, 4,   2062.8, 2,   2368.1, 2,    8.0264, 2,     25.00, -999.000, 9, -999.000,   -999.0, 9,   -999.0,  -999.00, 9,   -999.0,  19.8330, 25.5849,  19.8351, 2, 10.9, 2, 229.39, 2, 0.12, 0.03, 0.01, 0.03, -999, 9,  -999.00, 9, -999, -999, 9, -999
49NZ20031106, A10, 24, 1, 35, 12047, 2, 20031113, 722, -30.0015, -34.4987, 1422,     50.6, 2,  18.7877, 2,  35.9200, 2,  35.9196, 2,    221.9, 1,    233.5, 2,     0.77, 2,    -0.04, 2,    -0.01, 2,     0.07, 2,    2.499, 2,    1.476, 2,    0.302, 4,   2062.4, 6,   2358.3, 2,    8.0196, 2,     25.00, -999.000, 9, -999.000,   -999.0, 9,   -999.0,  -999.00, 9,   -999.0,  18.7787, 25.7824,  18.7867, 2, 55.1, 2, 232.46, 2, 0.12, 0.03, 0.01, 0.03, -999, 9,  -999.00, 9, -999, -999, 9, -999
49NZ20031106, A10, 24, 1, 34, 12046, 2, 20031113, 722, -30.0015, -34.4987, 1422,     99.8, 2,  18.1294, 2,  35.8618, 2,  35.8613, 2,    220.7, 1,    231.7, 2,     0.85, 2,    -0.01, 2,     0.01, 2,     0.10, 2,    2.494, 2,    1.501, 2,    0.240, 4,   2068.2, 2,   2353.2, 6,    8.0075, 2,     25.00, -999.000, 9, -999.000,   -999.0, 9,   -999.0,  -999.00, 9,   -999.0,  18.1121, 25.9053,  18.1318, 2, 102.8, 2, 232.16, 2, 0.12, 0.03, 0.01, 0.02, -999, 9,  -999.00, 9, -999, -999, 9, -999
49NZ20031106, A10, 24, 1, 33, 12045, 2, 20031113, 722, -30.0015, -34.4987, 1422,    150.3, 2,  16.8669, 2,  35.7339, 2,  35.7337, 2,    208.3, 1,    218.2, 2,     1.17, 2,     1.92, 2,     0.05, 2,     0.27, 2,    2.631, 2,    1.579, 2,    0.162, 4,   2086.1, 2,   2347.2, 2,    7.9650, 6,     25.00, -999.000, 9, -999.000,   -999.0, 9,   -999.0,  -999.00, 9,   -999.0,  16.8421, 26.1175,  16.8618, 2, 153.9, 2, 218.63, 2, 0.12, 0.04, 0.01, 0.01, -999, 9,  -999.00, 9, -999, -999, 9, -999
49NZ20031106, A10, 24, 1, 32, 12044, 2, 20031113, 722, -30.0015, -34.4987, 1422,    201.1, 2,  15.1482, 2,  35.5037, 2,  35.5064, 2,    201.6, 1,    210.5, 2,     1.89, 2,     5.03, 2,     0.01, 2,     0.48, 2,    2.822, 2,    1.642, 2,    0.064, 4,   2100.4, 2,   2333.6, 2,    7.9157, 2,     25.00, -999.000, 9, -999.000,   -999.0, 9,   -999.0,  -999.00, 9,   -999.0,  15.1174, 26.3349,  15.1504, 2, 205.1, 2, 210.52, 2, 0.12, 0.05, 0.01, 0.01, -999, 9,  -999.00, 9, -999, -999, 9, -999
49NZ20031106, A10, 24, 1, 31, 12043, 2, 20031113, 722, -30.0015, -34.4987, 1422,    250.4, 2,  14.4676, 2,  35.4284, 2,  35.4270, 2,    204.7, 1,    213.2, 2,     2.11, 2,     6.30, 2,     0.01, 2,     0.55, 2,    2.946, 6,    1.722, 6,    0.064, 4,   2103.8, 2,   2330.0, 2,    7.9034, 2,     25.00, -999.000, 9, -999.000,   -999.0, 9,   -999.0,  -999.00, 9,   -999.0,  14.4304, 26.427,  14.4687, 2, 254.5, 2, 213.16, 2, 0.12, 0.05, 0.01, 0.01, -999, 9,  -999.00, 9, -999, -999, 9, -999
49NZ20031106, A10, 24, 1, 30, 12042, 2, 20031113, 722, -30.0015, -34.4987, 1422,    300.4, 2,  13.6423, 2,  35.3112, 2,  35.3107, 2,    204.9, 1,    213.6, 2,     2.55, 2,     8.05, 2,     0.00, 2,     0.65, 2, -999.000, 5, -999.000, 5, -999.000, 5,   2108.6, 2,   2322.4, 2,    7.8834, 2,     25.00, -999.000, 9, -999.000,   -999.0, 9,   -999.0,  -999.00, 9,   -999.0,  13.5994, 26.5119,  13.6425, 2, 305, 2, 213.85, 2, 0.12, 0.06, 0.01, 0.01, -999, 9,  -999.00, 9, -999, -999, 9, -999
49NZ20031106, A10, 24, 1, 29, 12041, 2, 20031113, 722, -30.0015, -34.4987, 1422,    399.9, 2,  12.3374, 2,  35.1256, 2,  35.1279, 2,    203.6, 1,    211.6, 2,     3.65, 2,    11.16, 2,     0.00, 2,     0.84, 2,    3.065, 2,    1.741, 2,    0.067, 4,   2118.6, 2,   2311.5, 2,    7.8476, 2,     25.00, -999.000, 9, -999.000,   -999.0, 9,   -999.0,  -999.00, 9,   -999.0,  12.2838, 26.6328,  12.3321, 2, 402.7, 2, 211.52, 2, 0.13, 0.06, 0.01, 0.01, -999, 9,  -999.00, 9, -999, -999, 9, -999
49NZ20031106, A10, 24, 1, 28, 12040, 2, 20031113, 722, -30.0015, -34.4987, 1422,    499.5, 2,  10.3130, 2,  34.8505, 2,  34.8519, 2,    203.5, 1,    210.8, 2,     5.72, 2,    16.04, 2,    -0.01, 2,     1.15, 2,    3.120, 2,    1.710, 2,    0.091, 4,   2132.9, 2,   2300.2, 2,    7.7947, 2,     25.00, -999.000, 9, -999.000,   -999.0, 9,   -999.0,  -999.00, 9,   -999.0,  10.2531, 26.7911,  10.3124, 2, 502.7, 2, 210.71, 2, 0.13, 0.08, 0.01, 0.01, -999, 9,  -999.00, 9, -999, -999, 9, -999
49NZ20031106, A10, 24, 1, 27, 12039, 2, 20031113, 722, -30.0015, -34.4987, 1422,    599.6, 2,   8.0395, 2,  34.5796, 2,  34.5764, 2,    208.1, 1,    215.3, 2,     9.44, 2,    21.44, 2,     0.00, 2,     1.49, 2,    3.095, 2,    1.636, 2,    0.127, 4,   2147.8, 2,   2290.4, 2,    7.7367, 2,     25.00, -999.000, 9, -999.000,   -999.0, 9,   -999.0,  -999.00, 9,   -999.0,   7.9774, 26.947,   8.0377, 2, 603.3, 2, 213.13, 2, 0.14, 0.09, 0.01, 0.01, -999, 9,  -999.00, 9, -999, -999, 9, -999
49NZ20031106, A10, 24, 1, 26, 12038, 2, 20031113, 722, -30.0015, -34.4987, 1422,    700.6, 2,   6.1300, 2,  34.3889, 2,  34.3888, 2,    218.3, 1,    225.6, 2,    13.47, 2,    25.14, 2,     0.00, 2,     1.74, 2,    3.126, 2,    1.625, 2,    0.142, 4,   2158.1, 6,   2288.5, 2,    7.7005, 2,     25.00, -999.000, 9, -999.000,   -999.0, 9,   -999.0,  -999.00, 9,   -999.0,   6.0672, 27.0609,   6.1297, 2, 700.8, 2, 225.19, 2, 0.15, 0.1, 0.01, 0.01, -999, 9,  -999.00, 9, -999, -999, 9, -999
49NZ20031106, A10, 24, 1, 25, 12037, 2, 20031113, 722, -30.0015, -34.4987, 1422,    799.6, 2,   5.1342, 2,  34.3199, 2,  34.3201, 2,    222.6, 1,    229.5, 2,    17.66, 2,    27.14, 2,    -0.01, 2,     1.88, 2,    2.938, 2,    1.482, 2,    0.155, 4,   2166.5, 2,   2286.9, 6,    7.6829, 2,     25.00, -999.000, 9, -999.000,   -999.0, 9,   -999.0,  -999.00, 9,   -999.0,   5.0682, 27.1275,   5.1318, 2, 798.9, 2, 229.49, 2, 0.16, 0.11, 0.01, 0.01, -999, 9,  -999.00, 9, -999, -999, 9, -999
49NZ20031106, A10, 24, 1, 24, 12036, 2, 20031113, 722, -30.0015, -34.4987, 1422,    899.1, 2,   4.1679, 2,  34.2951, 2,  34.2948, 2,    217.5, 1,    224.5, 2,    25.36, 2,    29.55, 2,    -0.01, 2,     2.04, 2,    2.326, 2,    1.123, 2,    0.102, 4,   2182.3, 2,   2292.0, 2,    7.6551, 6,     25.00, -999.000, 9, -999.000,   -999.0, 9,   -999.0,  -999.00, 9,   -999.0,   4.0997, 27.2153,   4.1675, 2, 900.3, 2, 224.41, 2, 0.17, 0.12, 0.01, 0.02, -999, 9,  -999.00, 9, -999, -999, 9, -999
49NZ20031106, A10, 24, 1, 15, 12027, 9, 20031113, 722, -30.0015, -34.4987, 1422,    999.5, 2,   3.5839, 2,  34.3282, 2, -999.0000, 9,    206.5, 1,   -999.0, 9,  -999.00, 9,  -999.00, 9,  -999.00, 9,  -999.00, 9, -999.000, 9, -999.000, 9, -999.000, 9,   -999.0, 9,   -999.0, 9, -999.0000, 9,   -999.00, -999.000, 9, -999.000,   -999.0, 9,   -999.0,  -999.00, 9,   -999.0,   3.5118, 27.3007,   3.5826, 2, 998.9, 2, 212.5, 2, -999, -999, -999, -999, -999, 9,  -999.00, 9, -999, -999, 9, -999
49NZ20031106, A10, 24, 1, 10, 12022, 9, 20031113, 722, -30.0015, -34.4987, 1422,    999.9, 2,   3.5838, 2,  34.3282, 2, -999.0000, 9,    206.5, 1,   -999.0, 9,  -999.00, 9,  -999.00, 9,  -999.00, 9,  -999.00, 9, -999.000, 9, -999.000, 9, -999.000, 9,   -999.0, 9,   -999.0, 9, -999.0000, 9,   -999.00, -999.000, 9, -999.000,   -999.0, 9,   -999.0,  -999.00, 9,   -999.0,   3.5117, 27.3007,   3.5826, 2, 999.2, 2, 212.45, 2, -999, -999, -999, -999, -999, 9,  -999.00, 9, -999, -999, 9, -999
49NZ20031106, A10, 24, 1, 23, 12035, 2, 20031113, 722, -30.0015, -34.4987, 1422,   1000.0, 2,   3.5735, 2,  34.3300, 2,  34.3290, 2,    206.2, 1,    212.9, 2,    34.93, 2,    31.34, 2,     0.00, 2,     2.16, 2,    1.571, 6,    0.755, 6,    0.061, 4,   2199.4, 2,   2300.7, 2,    7.6307, 2,     25.00, -999.000, 9, -999.000,   -999.0, 9,   -999.0,  -999.00, 9,   -999.0,   3.5014, 27.3033,   3.5732, 2, 999.8, 2, 212.39, 2, 0.2, 0.12, 0.01, 0.02, -999, 9,  -999.00, 9, -999, -999, 9, -999
49NZ20031106, A10, 24, 1, 20, 12032, 9, 20031113, 722, -30.0015, -34.4987, 1422,   1000.2, 2,   3.5809, 2,  34.3286, 2, -999.0000, 9,    206.5, 1,   -999.0, 9,  -999.00, 9,  -999.00, 9,  -999.00, 9,  -999.00, 9, -999.000, 9, -999.000, 9, -999.000, 9,   -999.0, 9,   -999.0, 9, -999.0000, 9,   -999.00, -999.000, 9, -999.000,   -999.0, 9,   -999.0,  -999.00, 9,   -999.0,   3.5088, 27.3015,   3.5784, 2, 999.6, 2, 212.4, 2, -999, -999, -999, -999, -999, 9,  -999.00, 9, -999, -999, 9, -999
49NZ20031106, A10, 24, 1, 5, 12017, 9, 20031113, 722, -30.0015, -34.4987, 1422,   1000.3, 2,   3.5800, 2,  34.3289, 2, -999.0000, 9,    206.4, 1,   -999.0, 9,  -999.00, 9,  -999.00, 9,  -999.00, 9,  -999.00, 9, -999.000, 9, -999.000, 9, -999.000, 9,   -999.0, 9,   -999.0, 9, -999.0000, 9,   -999.00, -999.000, 9, -999.000,   -999.0, 9,   -999.0,  -999.00, 9,   -999.0,   3.5079, 27.3015,   3.5790, 2, 999.8, 2, 212.39, 2, -999, -999, -999, -999, -999, 9,  -999.00, 9, -999, -999, 9, -999
49NZ20031106, A10, 24, 1, 1, 12013, 9, 20031113, 722, -30.0015, -34.4987, 1422,   1000.3, 2,   3.5764, 2,  34.3294, 2, -999.0000, 9,    206.3, 1,   -999.0, 9,  -999.00, 9,  -999.00, 9,  -999.00, 9,  -999.00, 9, -999.000, 9, -999.000, 9, -999.000, 9,   -999.0, 9,   -999.0, 9, -999.0000, 9,   -999.00, -999.000, 9, -999.000,   -999.0, 9,   -999.0,  -999.00, 9,   -999.0,   3.5043, 27.3026,   3.5758, 2, 1000, 2, 212.37, 2, -999, -999, -999, -999, -999, 9,  -999.00, 9, -999, -999, 9, -999
49NZ20031106, A10, 24, 1, 9, 12015, 9, 20031113, 722, -30.0015, -34.4987, 1422,   1000.4, 2,   3.5814, 2,  34.3286, 2, -999.0000, 9,    206.5, 1,   -999.0, 9,  -999.00, 9,  -999.00, 9,  -999.00, 9,  -999.00, 9, -999.000, 9, -999.000, 9, -999.000, 9,   -999.0, 9,   -999.0, 9, -999.0000, 9,   -999.00, -999.000, 9, -999.000,   -999.0, 9,   -999.0,  -999.00, 9,   -999.0,   3.5092, 27.3011,   3.5813, 2, 999.8, 2, 212.39, 2, -999, -999, -999, -999, -999, 9,  -999.00, 9, -999, -999, 9, -999
49NZ20031106, A10, 24, 1, 7, 12019, 9, 20031113, 722, -30.0015, -34.4987, 1422,   1000.4, 2,   3.5813, 2,  34.3285, 2, -999.0000, 9,    206.4, 1,   -999.0, 9,  -999.00, 9,  -999.00, 9,  -999.00, 9,  -999.00, 9, -999.000, 9, -999.000, 9, -999.000, 9,   -999.0, 9,   -999.0, 9, -999.0000, 9,   -999.00, -999.000, 9, -999.000,   -999.0, 9,   -999.0,  -999.00, 9,   -999.0,   3.5091, 27.3013,   3.5797, 2, 999.8, 2, 212.39, 2, -999, -999, -999, -999, -999, 9,  -999.00, 9, -999, -999, 9, -999
49NZ20031106, A10, 24, 1, 18, 12030, 9, 20031113, 722, -30.0015, -34.4987, 1422,   1000.5, 2,   3.5795, 2,  34.3288, 2, -999.0000, 9,    206.4, 1,   -999.0, 9,  -999.00, 9,  -999.00, 9,  -999.00, 9,  -999.00, 9, -999.000, 9, -999.000, 9, -999.000, 9,   -999.0, 9,   -999.0, 9, -999.0000, 9,   -999.00, -999.000, 9, -999.000,   -999.0, 9,   -999.0,  -999.00, 9,   -999.0,   3.5073, 27.3012,   3.5801, 2, 1000, 2, 212.37, 2, -999, -999, -999, -999, -999, 9,  -999.00, 9, -999, -999, 9, -999
49NZ20031106, A10, 24, 1, 4, 12016, 9, 20031113, 722, -30.0015, -34.4987, 1422,   1000.5, 2,   3.5776, 2,  34.3291, 2, -999.0000, 9,    206.3, 1,   -999.0, 9,  -999.00, 9,  -999.00, 9,  -999.00, 9,  -999.00, 9, -999.000, 9, -999.000, 9, -999.000, 9,   -999.0, 9,   -999.0, 9, -999.0000, 9,   -999.00, -999.000, 9, -999.000,   -999.0, 9,   -999.0,  -999.00, 9,   -999.0,   3.5055, 27.3021,   3.5769, 2, 1000.1, 2, 212.36, 2, -999, -999, -999, -999, -999, 9,  -999.00, 9, -999, -999, 9, -999
49NZ20031106, A10, 24, 1, 17, 12029, 9, 20031113, 722, -30.0015, -34.4987, 1422,   1000.6, 2,   3.5787, 2,  34.3289, 2, -999.0000, 9,    206.5, 1,   -999.0, 9,  -999.00, 9,  -999.00, 9,  -999.00, 9,  -999.00, 9, -999.000, 9, -999.000, 9, -999.000, 9,   -999.0, 9,   -999.0, 9, -999.0000, 9,   -999.00, -999.000, 9, -999.000,   -999.0, 9,   -999.0,  -999.00, 9,   -999.0,   3.5065, 27.3017,   3.5787, 2, 1000.1, 2, 212.36, 2, -999, -999, -999, -999, -999, 9,  -999.00, 9, -999, -999, 9, -999
49NZ20031106, A10, 24, 1, 8, 12020, 9, 20031113, 722, -30.0015, -34.4987, 1422,   1000.6, 2,   3.5805, 2,  34.3287, 2, -999.0000, 9,    206.6, 1,   -999.0, 9,  -999.00, 9,  -999.00, 9,  -999.00, 9,  -999.00, 9, -999.000, 9, -999.000, 9, -999.000, 9,   -999.0, 9,   -999.0, 9, -999.0000, 9,   -999.00, -999.000, 9, -999.000,   -999.0, 9,   -999.0,  -999.00, 9,   -999.0,   3.5083, 27.3013,   3.5797, 2, 1000, 2, 212.37, 2, -999, -999, -999, -999, -999, 9,  -999.00, 9, -999, -999, 9, -999
49NZ20031106, A10, 24, 1, 13, 12025, 9, 20031113, 722, -30.0015, -34.4987, 1422,   1000.7, 2,   3.5791, 2,  34.3289, 2, -999.0000, 9,    206.4, 1,   -999.0, 9,  -999.00, 9,  -999.00, 9,  -999.00, 9,  -999.00, 9, -999.000, 9, -999.000, 9, -999.000, 9,   -999.0, 9,   -999.0, 9, -999.0000, 9,   -999.00, -999.000, 9, -999.000,   -999.0, 9,   -999.0,  -999.00, 9,   -999.0,   3.5069, 27.3015,   3.5788, 2, 1000.2, 2, 212.36, 2, -999, -999, -999, -999, -999, 9,  -999.00, 9, -999, -999, 9, -999
49NZ20031106, A10, 24, 1, 3, 12012, 9, 20031113, 722, -30.0015, -34.4987, 1422,   1000.7, 2,   3.5764, 2,  34.3293, 2, -999.0000, 9,    206.3, 1,   -999.0, 9,  -999.00, 9,  -999.00, 9,  -999.00, 9,  -999.00, 9, -999.000, 9, -999.000, 9, -999.000, 9,   -999.0, 9,   -999.0, 9, -999.0000, 9,   -999.00, -999.000, 9, -999.000,   -999.0, 9,   -999.0,  -999.00, 9,   -999.0,   3.5043, 27.3023,   3.5761, 2, 1000.3, 2, 212.35, 2, -999, -999, -999, -999, -999, 9,  -999.00, 9, -999, -999, 9, -999
49NZ20031106, A10, 24, 1, 2, 12014, 9, 20031113, 722, -30.0015, -34.4987, 1422,   1000.7, 2,   3.5768, 2,  34.3293, 2, -999.0000, 9,    206.3, 1,   -999.0, 9,  -999.00, 9,  -999.00, 9,  -999.00, 9,  -999.00, 9, -999.000, 9, -999.000, 9, -999.000, 9,   -999.0, 9,   -999.0, 9, -999.0000, 9,   -999.00, -999.000, 9, -999.000,   -999.0, 9,   -999.0,  -999.00, 9,   -999.0,   3.5046, 27.3022,   3.5767, 2, 1000.3, 2, 212.35, 2, -999, -999, -999, -999, -999, 9,  -999.00, 9, -999, -999, 9, -999
49NZ20031106, A10, 24, 1, 12, 12024, 9, 20031113, 722, -30.0015, -34.4987, 1422,   1000.9, 2,   3.5785, 2,  34.3290, 2, -999.0000, 9,    206.6, 1,   -999.0, 9,  -999.00, 9,  -999.00, 9,  -999.00, 9,  -999.00, 9, -999.000, 9, -999.000, 9, -999.000, 9,   -999.0, 9,   -999.0, 9, -999.0000, 9,   -999.00, -999.000, 9, -999.000,   -999.0, 9,   -999.0,  -999.00, 9,   -999.0,   3.5063, 27.3017,   3.5782, 2, 1000.4, 2, 212.34, 2, -999, -999, -999, -999, -999, 9,  -999.00, 9, -999, -999, 9, -999
49NZ20031106, A10, 24, 1, 14, 12026, 9, 20031113, 722, -30.0015, -34.4987, 1422,   1001.0, 2,   3.5778, 2,  34.3290, 2, -999.0000, 9,    206.6, 1,   -999.0, 9,  -999.00, 9,  -999.00, 9,  -999.00, 9,  -999.00, 9, -999.000, 9, -999.000, 9, -999.000, 9,   -999.0, 9,   -999.0, 9, -999.0000, 9,   -999.00, -999.000, 9, -999.000,   -999.0, 9,   -999.0,  -999.00, 9,   -999.0,   3.5056, 27.3019,   3.5772, 2, 1000.5, 2, 212.33, 2, -999, -999, -999, -999, -999, 9,  -999.00, 9, -999, -999, 9, -999
49NZ20031106, A10, 24, 1, 11, 12023, 9, 20031113, 722, -30.0015, -34.4987, 1422,   1001.1, 2,   3.5786, 2,  34.3288, 2, -999.0000, 9,    206.4, 1,   -999.0, 9,  -999.00, 9,  -999.00, 9,  -999.00, 9,  -999.00, 9, -999.000, 9, -999.000, 9, -999.000, 9,   -999.0, 9,   -999.0, 9, -999.0000, 9,   -999.00, -999.000, 9, -999.000,   -999.0, 9,   -999.0,  -999.00, 9,   -999.0,   3.5064, 27.3017,   3.5793, 2, 1000.5, 2, 212.33, 2, -999, -999, -999, -999, -999, 9,  -999.00, 9, -999, -999, 9, -999
49NZ20031106, A10, 24, 1, 19, 12031, 9, 20031113, 722, -30.0015, -34.4987, 1422,   1001.3, 2,   3.5757, 2,  34.3294, 2, -999.0000, 9,    206.4, 1,   -999.0, 9,  -999.00, 9,  -999.00, 9,  -999.00, 9,  -999.00, 9, -999.000, 9, -999.000, 9, -999.000, 9,   -999.0, 9,   -999.0, 9, -999.0000, 9,   -999.00, -999.000, 9, -999.000,   -999.0, 9,   -999.0,  -999.00, 9,   -999.0,   3.5035, 27.3025,   3.5756, 2, 1000.8, 2, 212.31, 2, -999, -999, -999, -999, -999, 9,  -999.00, 9, -999, -999, 9, -999
49NZ20031106, A10, 24, 1, 16, 12028, 9, 20031113, 722, -30.0015, -34.4987, 1422,   1001.3, 2,   3.5755, 2,  34.3294, 2, -999.0000, 9,    206.4, 1,   -999.0, 9,  -999.00, 9,  -999.00, 9,  -999.00, 9,  -999.00, 9, -999.000, 9, -999.000, 9, -999.000, 9,   -999.0, 9,   -999.0, 9, -999.0000, 9,   -999.00, -999.000, 9, -999.000,   -999.0, 9,   -999.0,  -999.00, 9,   -999.0,   3.5033, 27.3022,   3.5775, 2, 1000.8, 2, 212.31, 2, -999, -999, -999, -999, -999, 9,  -999.00, 9, -999, -999, 9, -999
49NZ20031106, A10, 24, 1, 22, 12034, 2, 20031113, 722, -30.0015, -34.4987, 1422,   1199.5, 2,   3.1190, 2,  34.4497, 2,  34.4502, 2,    188.0, 1,    193.5, 2,    48.49, 2,    32.61, 2,     0.00, 2,     2.24, 2,    0.605, 2,    0.315, 2,    0.019, 4,   2222.3, 2,   2317.8, 2,    7.6072, 2,     25.00, -999.000, 9, -999.000,   -999.0, 9,   -999.0,  -999.00, 9,   -999.0,   3.0347, 27.4431,   3.1187, 2, 1199.5, 2, 193.39, 2, 0.23, 0.12, 0.01, 0.02, -999, 9,  -999.00, 9, -999, -999, 9, -999
49NZ20031106, A10, 24, 1, 6, 12018, 2, 20031113, 722, -30.0015, -34.4987, 1422,   1200.6, 2,   3.1192, 2,  34.4495, 2,  34.4508, 2,    188.0, 1,    193.1, 2,    48.48, 2,    32.57, 2,    -0.01, 2,     2.24, 2,    0.614, 2,    0.319, 2,    0.014, 4,   2222.6, 2,   2314.4, 2,    7.6061, 2,     25.00, -999.000, 9, -999.000,   -999.0, 9,   -999.0,  -999.00, 9,   -999.0,   3.0348, 27.4429,   3.1188, 2, 1200.5, 2, 193.37, 2, 0.23, 0.12, 0.01, 0.02, -999, 9,  -999.00, 9, -999, -999, 9, -999
49NZ20031106, A10, 24, 1, 21, 12033, 2, 20031113, 722, -30.0015, -34.4987, 1422,   1419.3, 2,   2.9369, 2,  34.5606, 2,  34.5614, 2,    184.8, 1,    189.4, 2,    53.96, 2,    31.77, 2,    -0.01, 2,     2.19, 2,    0.234, 2,    0.132, 2,    0.011, 4,   2228.7, 2,   2322.3, 2,    7.6112, 2,     25.00, -999.000, 9, -999.000,   -999.0, 9,   -999.0,  -999.00, 9,   -999.0,   2.8365, 27.5498,   2.9367, 2, 1419.5, 2, 189.16, 2, 0.24, 0.12, 0.01, 0.02, -999, 9,  -999.00, 9, -999, -999, 9, -999