BOTTLE,20220818CCHSIOAMB
EXPOCODE,SECT_ID,STNNBR,CASTNO,SAMPNO,BTLNBR,BTLNBR_FLAG_W,DATE,TIME,LATITUDE,LONGITUDE,DEPTH,CTDPRS,CTDPRS_FLAG_W,CTDTMP,CTDTMP_FLAG_W,CTDSAL,CTDSAL_FLAG_W,SALNTY,SALNTY_FLAG_W,CTDOXY,CTDOXY_FLAG_W,OXYGEN,OXYGEN_FLAG_W,SILCAT,SILCAT_FLAG_W,NITRAT,NITRAT_FLAG_W,NITRIT,NITRIT_FLAG_W,PHSPHT,PHSPHT_FLAG_W,CFC-11,CFC-11_FLAG_W,CFC-12,CFC-12_FLAG_W,CFC113,CFC113_FLAG_W,TCARBN,TCARBN_FLAG_W,ALKALI,ALKALI_FLAG_W,PH_TOT,PH_TOT_FLAG_W,PH_TMP,TRITUM,TRITUM_FLAG_W,TRITER,DELC14,DELC14_FLAG_W,C14ERR,DELC13,DELC13_FLAG_W,C13ERR,THETA,SIG0,SBE35,SBE35_FLAG_W,DWNPRS,DWNPRS_FLAG_W,DWNOXY,DWNOXY_FLAG_W,SILUNC,NRAUNC,NRIUNC,PHPUNC,TOC,TOC_FLAG_W,CS-137,CS-137_FLAG_W,CS137ER,PLUTO,PLUTO_FLAG_W,PLUTOER
,,,,,,,,,,,METERS,DBAR,,ITS-90,,PSS-78,,PSS-78,,UMOL/KG,,UMOL/KG,,UMOL/KG,,UMOL/KG,,UMOL/KG,,UMOL/KG,,PMOL/KG,,PMOL/KG,,PMOL/KG,,UMOL/KG,,UMOL/KG,,,,DEG C,TU,,TU,/MILLE,,/MILLE,/MILLE,,/MILLE,DEG C,KG/M^3,ITS-90,,DBAR,,UMOL/KG,,UMOL/KG,UMOL/KG,UMOL/KG,UMOL/KG,UMOL/KG,,BQ/M^3,,BQ/M^3,MBQ/M^3,,MBQ/M^3
49NZ20031106, A10, 78, 1, 36, 12024, 2, 20031127, 1931, -29.3300, 2.8367, 4254,     10.8, 2,  18.8342, 2,  35.7205, 2,  35.7214, 2,    224.5, 1,    237.3, 2,     2.07, 2,     0.02, 2,     0.01, 2,     0.23, 2, -999.000, 9, -999.000, 9, -999.000, 9,   -999.0, 9,   -999.0, 9, -999.0000, 9,   -999.00, -999.000, 9, -999.000,   -999.0, 9,   -999.0,  -999.00, 9,   -999.0,  18.8323, 25.6185,  18.8329, 2, 10.6, 2, 237.21, 2, 0.12, 0.03, 0.01, 0.02, -999, 9,  -999.00, 9, -999, -999, 9, -999
49NZ20031106, A10, 78, 1, 1, 12025, 9, 20031127, 1931, -29.3300, 2.8367, 4254,     10.9, 2,  18.8276, 2,  35.7204, 2, -999.0000, 9,    225.1, 1,   -999.0, 9,  -999.00, 9,  -999.00, 9,  -999.00, 9,  -999.00, 9, -999.000, 9, -999.000, 9, -999.000, 9,   -999.0, 9,   -999.0, 9, -999.0000, 9,   -999.00, -999.000, 9, -999.000,   -999.0, 9,   -999.0,  -999.00, 9,   -999.0,  18.8257, 25.6193,  18.8283, 2, 10.7, 2, 237.24, 2, -999, -999, -999, -999, -999, 9,  -999.00, 9, -999, -999, 9, -999
49NZ20031106, A10, 78, 1, 35, 12023, 2, 20031127, 1931, -29.3300, 2.8367, 4254,     50.2, 2,  18.0040, 2,  35.6312, 2,  35.6346, 2,    230.6, 1,    243.3, 2,     2.11, 2,    -0.01, 2,     0.01, 2,     0.21, 2, -999.000, 9, -999.000, 9, -999.000, 9,   -999.0, 9,   -999.0, 9, -999.0000, 9,   -999.00, -999.000, 9, -999.000,   -999.0, 9,   -999.0,  -999.00, 9,   -999.0,  17.9954, 25.7613,  18.0027, 2, 45.1, 2, 242.05, 2, 0.12, 0.03, 0.01, 0.02, -999, 9,  -999.00, 9, -999, -999, 9, -999
49NZ20031106, A10, 78, 1, 34, 12022, 2, 20031127, 1931, -29.3300, 2.8367, 4254,    100.7, 2,  16.4479, 2,  35.5791, 2,  35.5780, 2,    234.5, 1,    245.8, 2,     2.38, 2,     0.88, 2,     0.29, 2,     0.29, 2, -999.000, 9, -999.000, 9, -999.000, 9,   -999.0, 9,   -999.0, 9, -999.0000, 9,   -999.00, -999.000, 9, -999.000,   -999.0, 9,   -999.0,  -999.00, 9,   -999.0,  16.4316, 26.0947,  16.4487, 2, 92.3, 2, 245.73, 2, 0.12, 0.04, 0.01, 0.01, -999, 9,  -999.00, 9, -999, -999, 9, -999
49NZ20031106, A10, 78, 1, 33, 12015, 2, 20031127, 1931, -29.3300, 2.8367, 4254,    148.6, 2,  16.0382, 2,  35.5551, 2,  35.5561, 2,    223.0, 1,    234.5, 2,     2.67, 2,     2.86, 2,     0.09, 2,     0.39, 2, -999.000, 9, -999.000, 9, -999.000, 9,   -999.0, 9,   -999.0, 9, -999.0000, 9,   -999.00, -999.000, 9, -999.000,   -999.0, 9,   -999.0,  -999.00, 9,   -999.0,  16.0146, 26.1737,  16.0380, 2, 147.6, 2, 233.84, 2, 0.12, 0.04, 0.01, 0.01, -999, 9,  -999.00, 9, -999, -999, 9, -999
49NZ20031106, A10, 78, 1, 32, 12020, 2, 20031127, 1931, -29.3300, 2.8367, 4254,    202.8, 2,  15.8743, 2,  35.5512, 2,  35.5509, 2,    219.3, 1,    230.4, 2,     2.55, 2,     3.22, 2,     0.02, 2,     0.42, 2, -999.000, 9, -999.000, 9, -999.000, 9,   -999.0, 9,   -999.0, 9, -999.0000, 9,   -999.00, -999.000, 9, -999.000,   -999.0, 9,   -999.0,  -999.00, 9,   -999.0,  15.8422, 26.2104,  15.8758, 2, 196.9, 2, 226.12, 2, 0.12, 0.04, 0.01, 0.01, -999, 9,  -999.00, 9, -999, -999, 9, -999
49NZ20031106, A10, 78, 1, 31, 12019, 2, 20031127, 1931, -29.3300, 2.8367, 4254,    251.3, 2,  14.1896, 2,  35.2591, 2,  35.2594, 2,    205.7, 1,    215.4, 2,     3.37, 2,     7.30, 2,     0.02, 2,     0.66, 2, -999.000, 9, -999.000, 9, -999.000, 9,   -999.0, 9,   -999.0, 9, -999.0000, 9,   -999.00, -999.000, 9, -999.000,   -999.0, 9,   -999.0,  -999.00, 9,   -999.0,  14.1528, 26.3567,  14.1897, 2, 249.3, 2, 216.74, 2, 0.13, 0.05, 0.01, 0.01, -999, 9,  -999.00, 9, -999, -999, 9, -999
49NZ20031106, A10, 78, 1, 30, 12018, 2, 20031127, 1931, -29.3300, 2.8367, 4254,    300.4, 2,  13.4363, 2,  35.2160, 2,  35.2133, 2,    204.3, 1,    214.3, 2,     3.68, 2,     8.75, 2,     0.01, 2,     0.75, 2, -999.000, 9, -999.000, 9, -999.000, 9,   -999.0, 9,   -999.0, 9, -999.0000, 9,   -999.00, -999.000, 9, -999.000,   -999.0, 9,   -999.0,  -999.00, 9,   -999.0,  13.3938, 26.4815,  13.4352, 2, 297, 2, 214.57, 2, 0.13, 0.06, 0.01, 0.01, -999, 9,  -999.00, 9, -999, -999, 9, -999
49NZ20031106, A10, 78, 1, 29, 12017, 2, 20031127, 1931, -29.3300, 2.8367, 4254,    401.4, 2,  11.7088, 2,  35.0071, 2,  35.0061, 2,    204.9, 1,    214.5, 2,     4.92, 2,    12.52, 2,     0.01, 2,     0.97, 2, -999.000, 9, -999.000, 9, -999.000, 9,   -999.0, 9,   -999.0, 9, -999.0000, 9,   -999.00, -999.000, 9, -999.000,   -999.0, 9,   -999.0,  -999.00, 9,   -999.0,  11.6568, 26.6608,  11.7099, 2, 398.4, 2, 214.89, 2, 0.13, 0.07, 0.01, 0.01, -999, 9,  -999.00, 9, -999, -999, 9, -999
49NZ20031106, A10, 78, 1, 28, 12016, 2, 20031127, 1931, -29.3300, 2.8367, 4254,    499.5, 2,   9.6964, 2,  34.7603, 2,  34.7539, 3,    191.4, 1,    199.5, 2,     8.85, 2,    18.85, 2,     0.01, 2,     1.36, 2, -999.000, 9, -999.000, 9, -999.000, 9,   -999.0, 9,   -999.0, 9, -999.0000, 9,   -999.00, -999.000, 9, -999.000,   -999.0, 9,   -999.0,  -999.00, 9,   -999.0,   9.6388, 26.8263,   9.6941, 2, 494.2, 2, 198.36, 2, 0.14, 0.09, 0.01, 0.01, -999, 9,  -999.00, 9, -999, -999, 9, -999
49NZ20031106, A10, 78, 1, 27, 12012, 2, 20031127, 1931, -29.3300, 2.8367, 4254,    600.3, 2,   7.7468, 2,  34.5694, 2,  34.5661, 2,    175.7, 1,    182.8, 3,    15.28, 2,    25.24, 2,     0.01, 2,     1.78, 2, -999.000, 9, -999.000, 9, -999.000, 9,   -999.0, 9,   -999.0, 9, -999.0000, 9,   -999.00, -999.000, 9, -999.000,   -999.0, 9,   -999.0,  -999.00, 9,   -999.0,   7.6860, 26.9821,   7.7476, 2, 601.1, 2, 187.45, 2, 0.15, 0.1, 0.01, 0.01, -999, 9,  -999.00, 9, -999, -999, 9, -999
49NZ20031106, A10, 78, 1, 26, 12014, 2, 20031127, 1931, -29.3300, 2.8367, 4254,    702.1, 2,   6.0840, 2,  34.4281, 2,  34.4256, 2,    188.4, 1,    196.3, 2,    19.96, 2,    28.17, 2,     0.00, 2,     1.96, 2, -999.000, 9, -999.000, 9, -999.000, 9,   -999.0, 9,   -999.0, 9, -999.0000, 9,   -999.00, -999.000, 9, -999.000,   -999.0, 9,   -999.0,  -999.00, 9,   -999.0,   6.0213, 27.098,   6.0840, 2, 698.3, 2, 197.53, 2, 0.16, 0.11, 0.01, 0.01, -999, 9,  -999.00, 9, -999, -999, 9, -999
49NZ20031106, A10, 78, 1, 25, 12013, 2, 20031127, 1931, -29.3300, 2.8367, 4254,    799.8, 2,   4.9963, 2,  34.3729, 2,  34.3717, 2,    188.0, 1,    195.6, 2,    25.86, 2,    30.57, 2,     0.01, 2,     2.13, 2, -999.000, 9, -999.000, 9, -999.000, 9,   -999.0, 9,   -999.0, 9, -999.0000, 9,   -999.00, -999.000, 9, -999.000,   -999.0, 9,   -999.0,  -999.00, 9,   -999.0,   4.9310, 27.1859,   4.9967, 2, 802.1, 2, 197.42, 2, 0.18, 0.12, 0.01, 0.02, -999, 9,  -999.00, 9, -999, -999, 9, -999
49NZ20031106, A10, 78, 1, 24, 12048, 2, 20031127, 1931, -29.3300, 2.8367, 4254,    900.1, 2,   4.1523, 2,  34.3645, 2,  34.3642, 2,    188.8, 1,    197.2, 2,    34.18, 2,    31.81, 2,     0.01, 2,     2.21, 2, -999.000, 9, -999.000, 9, -999.000, 9,   -999.0, 9,   -999.0, 9, -999.0000, 9,   -999.00, -999.000, 9, -999.000,   -999.0, 9,   -999.0,  -999.00, 9,   -999.0,   4.0840, 27.272,   4.1522, 2, 903.4, 2, 198.96, 2, 0.19, 0.12, 0.01, 0.02, -999, 9,  -999.00, 9, -999, -999, 9, -999
49NZ20031106, A10, 78, 1, 2, 12026, 9, 20031127, 1931, -29.3300, 2.8367, 4254,   1000.5, 2,   3.6438, 2,  34.3959, 2, -999.0000, 9,    184.1, 1,   -999.0, 9,  -999.00, 9,  -999.00, 9,  -999.00, 9,  -999.00, 9, -999.000, 9, -999.000, 9, -999.000, 9,   -999.0, 9,   -999.0, 9, -999.0000, 9,   -999.00, -999.000, 9, -999.000,   -999.0, 9,   -999.0,  -999.00, 9,   -999.0,   3.5710, 27.3488,   3.6442, 2, 1003.3, 2, 194.24, 2, -999, -999, -999, -999, -999, 9,  -999.00, 9, -999, -999, 9, -999
49NZ20031106, A10, 78, 1, 23, 12047, 2, 20031127, 1931, -29.3300, 2.8367, 4254,   1000.7, 2,   3.6436, 2,  34.3960, 2,  34.3969, 2,    184.0, 1,    191.7, 2,    42.05, 2,    32.70, 2,     0.01, 2,     2.27, 2, -999.000, 9, -999.000, 9, -999.000, 9,   -999.0, 9,   -999.0, 9, -999.0000, 9,   -999.00, -999.000, 9, -999.000,   -999.0, 9,   -999.0,  -999.00, 9,   -999.0,   3.5708, 27.3491,   3.6437, 2, 1003.5, 2, 194.25, 2, 0.21, 0.12, 0.01, 0.02, -999, 9,  -999.00, 9, -999, -999, 9, -999
49NZ20031106, A10, 78, 1, 6, 12030, 9, 20031127, 1931, -29.3300, 2.8367, 4254,   1000.7, 2,   3.6443, 2,  34.3956, 2, -999.0000, 9,    184.3, 1,   -999.0, 9,  -999.00, 9,  -999.00, 9,  -999.00, 9,  -999.00, 9, -999.000, 9, -999.000, 9, -999.000, 9,   -999.0, 9,   -999.0, 9, -999.0000, 9,   -999.00, -999.000, 9, -999.000,   -999.0, 9,   -999.0,  -999.00, 9,   -999.0,   3.5715, 27.3487,   3.6443, 2, 1003.4, 2, 194.25, 2, -999, -999, -999, -999, -999, 9,  -999.00, 9, -999, -999, 9, -999
49NZ20031106, A10, 78, 1, 3, 12027, 9, 20031127, 1931, -29.3300, 2.8367, 4254,   1000.8, 2,   3.6454, 2,  34.3955, 2, -999.0000, 9,    184.3, 1,   -999.0, 9,  -999.00, 9,  -999.00, 9,  -999.00, 9,  -999.00, 9, -999.000, 9, -999.000, 9, -999.000, 9,   -999.0, 9,   -999.0, 9, -999.0000, 9,   -999.00, -999.000, 9, -999.000,   -999.0, 9,   -999.0,  -999.00, 9,   -999.0,   3.5726, 27.3485,   3.6453, 2, 1003.5, 2, 194.25, 2, -999, -999, -999, -999, -999, 9,  -999.00, 9, -999, -999, 9, -999
49NZ20031106, A10, 78, 1, 5, 12029, 9, 20031127, 1931, -29.3300, 2.8367, 4254,   1000.9, 2,   3.6455, 2,  34.3956, 2, -999.0000, 9,    184.2, 1,   -999.0, 9,  -999.00, 9,  -999.00, 9,  -999.00, 9,  -999.00, 9, -999.000, 9, -999.000, 9, -999.000, 9,   -999.0, 9,   -999.0, 9, -999.0000, 9,   -999.00, -999.000, 9, -999.000,   -999.0, 9,   -999.0,  -999.00, 9,   -999.0,   3.5727, 27.3485,   3.6454, 2, 1003.6, 2, 194.25, 2, -999, -999, -999, -999, -999, 9,  -999.00, 9, -999, -999, 9, -999
49NZ20031106, A10, 78, 1, 4, 12028, 9, 20031127, 1931, -29.3300, 2.8367, 4254,   1000.9, 2,   3.6450, 2,  34.3956, 2, -999.0000, 9,    184.4, 1,   -999.0, 9,  -999.00, 9,  -999.00, 9,  -999.00, 9,  -999.00, 9, -999.000, 9, -999.000, 9, -999.000, 9,   -999.0, 9,   -999.0, 9, -999.0000, 9,   -999.00, -999.000, 9, -999.000,   -999.0, 9,   -999.0,  -999.00, 9,   -999.0,   3.5722, 27.3485,   3.6454, 2, 1003.6, 2, 194.25, 2, -999, -999, -999, -999, -999, 9,  -999.00, 9, -999, -999, 9, -999
49NZ20031106, A10, 78, 1, 7, 12031, 9, 20031127, 1931, -29.3300, 2.8367, 4254,   1001.4, 2,   3.6435, 2,  34.3955, 2, -999.0000, 9,    184.2, 1,   -999.0, 9,  -999.00, 9,  -999.00, 9,  -999.00, 9,  -999.00, 9, -999.000, 9, -999.000, 9, -999.000, 9,   -999.0, 9,   -999.0, 9, -999.0000, 9,   -999.00, -999.000, 9, -999.000,   -999.0, 9,   -999.0,  -999.00, 9,   -999.0,   3.5707, 27.3487,   3.6436, 2, 1004.1, 2, 194.24, 2, -999, -999, -999, -999, -999, 9,  -999.00, 9, -999, -999, 9, -999
49NZ20031106, A10, 78, 1, 22, 12046, 2, 20031127, 1931, -29.3300, 2.8367, 4254,   1201.1, 2,   3.2298, 2,  34.5018, 2,  34.5023, 2,    173.6, 1,    180.6, 2,    52.13, 2,    33.19, 2,     0.00, 2,     2.31, 2, -999.000, 9, -999.000, 9, -999.000, 9,   -999.0, 9,   -999.0, 9, -999.0000, 9,   -999.00, -999.000, 9, -999.000,   -999.0, 9,   -999.0,  -999.00, 9,   -999.0,   3.1442, 27.4743,   3.2298, 2, 1201.6, 2, 181.85, 2, 0.23, 0.13, 0.01, 0.02, -999, 9,  -999.00, 9, -999, -999, 9, -999
49NZ20031106, A10, 78, 1, 21, 12045, 2, 20031127, 1931, -29.3300, 2.8367, 4254,   1401.0, 2,   3.0594, 2,  34.6336, 2,  34.6364, 2,    175.9, 1,    183.4, 2,    54.15, 2,    31.38, 2,     0.00, 2,     2.18, 2, -999.000, 9, -999.000, 9, -999.000, 9,   -999.0, 9,   -999.0, 9, -999.0000, 9,   -999.00, -999.000, 9, -999.000,   -999.0, 9,   -999.0,  -999.00, 9,   -999.0,   2.9590, 27.5968,   3.0595, 2, 1401.3, 2, 183.29, 2, 0.24, 0.12, 0.01, 0.02, -999, 9,  -999.00, 9, -999, -999, 9, -999
49NZ20031106, A10, 78, 1, 20, 12044, 2, 20031127, 1931, -29.3300, 2.8367, 4254,   1599.6, 2,   2.9917, 2,  34.7231, 2,  34.7241, 2,    186.2, 1,    194.1, 2,    51.80, 2,    29.23, 2,     0.00, 2,     2.03, 2, -999.000, 9, -999.000, 9, -999.000, 9,   -999.0, 9,   -999.0, 9, -999.0000, 9,   -999.00, -999.000, 9, -999.000,   -999.0, 9,   -999.0,  -999.00, 9,   -999.0,   2.8752, 27.6758,   2.9921, 2, 1600.5, 2, 192.38, 2, 0.23, 0.11, 0.01, 0.02, -999, 9,  -999.00, 9, -999, -999, 9, -999
49NZ20031106, A10, 78, 1, 19, 12043, 2, 20031127, 1931, -29.3300, 2.8367, 4254,   1800.1, 2,   2.9901, 2,  34.7879, 2,  34.7881, 2,    196.8, 1,    205.7, 2,    47.51, 2,    27.19, 2,     0.00, 2,     1.88, 2, -999.000, 9, -999.000, 9, -999.000, 9,   -999.0, 9,   -999.0, 9, -999.0000, 9,   -999.00, -999.000, 9, -999.000,   -999.0, 9,   -999.0,  -999.00, 9,   -999.0,   2.8561, 27.7294,   2.9902, 2, 1799.9, 2, 205.41, 2, 0.22, 0.11, 0.01, 0.01, -999, 9,  -999.00, 9, -999, -999, 9, -999
49NZ20031106, A10, 78, 1, 18, 12042, 2, 20031127, 1931, -29.3300, 2.8367, 4254,   1999.9, 2,   2.8234, 2,  34.8220, 2,  34.8218, 2,    206.1, 1,    215.4, 2,    48.13, 2,    25.95, 2,     0.00, 2,     1.80, 2, -999.000, 9, -999.000, 9, -999.000, 9,   -999.0, 9,   -999.0, 9, -999.0000, 9,   -999.00, -999.000, 9, -999.000,   -999.0, 9,   -999.0,  -999.00, 9,   -999.0,   2.6739, 27.7729,   2.8235, 2, 2000.9, 2, 213.45, 2, 0.22, 0.11, 0.01, 0.01, -999, 9,  -999.00, 9, -999, -999, 9, -999
49NZ20031106, A10, 78, 1, 17, 12041, 2, 20031127, 1931, -29.3300, 2.8367, 4254,   2200.9, 2,   2.6737, 2,  34.8367, 2,  34.8367, 2,    211.6, 1,    221.4, 2,    49.62, 2,    25.32, 2,     0.00, 2,     1.75, 2, -999.000, 9, -999.000, 9, -999.000, 9,   -999.0, 9,   -999.0, 9, -999.0000, 9,   -999.00, -999.000, 9, -999.000,   -999.0, 9,   -999.0,  -999.00, 9,   -999.0,   2.5082, 27.7994,   2.6736, 2, 2201.9, 2, 220.17, 2, 0.23, 0.1, 0.01, 0.01, -999, 9,  -999.00, 9, -999, -999, 9, -999
49NZ20031106, A10, 78, 1, 16, 12040, 2, 20031127, 1931, -29.3300, 2.8367, 4254,   2400.6, 2,   2.5430, 2,  34.8438, 2,  34.8436, 2,    215.4, 1,    225.3, 2,    51.28, 2,    24.97, 2,     0.00, 2,     1.72, 2, -999.000, 9, -999.000, 9, -999.000, 9,   -999.0, 9,   -999.0, 9, -999.0000, 9,   -999.00, -999.000, 9, -999.000,   -999.0, 9,   -999.0,  -999.00, 9,   -999.0,   2.3612, 27.8175,   2.5431, 2, 2401.2, 2, 225.12, 2, 0.23, 0.1, 0.01, 0.01, -999, 9,  -999.00, 9, -999, -999, 9, -999
49NZ20031106, A10, 78, 1, 15, 12039, 2, 20031127, 1931, -29.3300, 2.8367, 4254,   2600.7, 2,   2.4379, 2,  34.8510, 2,  34.8508, 2,    218.9, 1,    228.8, 2,    52.35, 2,    24.64, 2,     0.00, 2,     1.69, 2, -999.000, 9, -999.000, 9, -999.000, 9,   -999.0, 9,   -999.0, 9, -999.0000, 9,   -999.00, -999.000, 9, -999.000,   -999.0, 9,   -999.0,  -999.00, 9,   -999.0,   2.2391, 27.8335,   2.4380, 2, 2602.1, 2, 228.21, 2, 0.23, 0.1, 0.01, 0.01, -999, 9,  -999.00, 9, -999, -999, 9, -999
49NZ20031106, A10, 78, 1, 14, 12038, 2, 20031127, 1931, -29.3300, 2.8367, 4254,   2801.0, 2,   2.3595, 2,  34.8544, 2,  34.8542, 2,    220.4, 1,    230.2, 2,    53.75, 2,    24.49, 2,     0.00, 2,     1.69, 2, -999.000, 9, -999.000, 9, -999.000, 9,   -999.0, 9,   -999.0, 9, -999.0000, 9,   -999.00, -999.000, 9, -999.000,   -999.0, 9,   -999.0,  -999.00, 9,   -999.0,   2.1428, 27.8443,   2.3597, 2, 2801.4, 2, 229.96, 2, 0.24, 0.1, 0.01, 0.01, -999, 9,  -999.00, 9, -999, -999, 9, -999
49NZ20031106, A10, 78, 1, 13, 12037, 2, 20031127, 1931, -29.3300, 2.8367, 4254,   3000.4, 2,   2.3320, 2,  34.8606, 2,  34.8609, 2,    221.8, 1,    231.6, 2,    53.69, 2,    24.24, 2,     0.00, 2,     1.67, 2, -999.000, 9, -999.000, 9, -999.000, 9,   -999.0, 9,   -999.0, 9, -999.0000, 9,   -999.00, -999.000, 9, -999.000,   -999.0, 9,   -999.0,  -999.00, 9,   -999.0,   2.0960, 27.8533,   2.3320, 2, 3000.3, 2, 231.63, 2, 0.24, 0.1, 0.01, 0.01, -999, 9,  -999.00, 9, -999, -999, 9, -999
49NZ20031106, A10, 78, 1, 12, 12036, 2, 20031127, 1931, -29.3300, 2.8367, 4254,   3251.3, 2,   2.3104, 2,  34.8631, 2,  34.8634, 2,    222.5, 1,    231.7, 2,    54.38, 2,    24.19, 2,     0.01, 2,     1.66, 2, -999.000, 9, -999.000, 9, -999.000, 9,   -999.0, 9,   -999.0, 9, -999.0000, 9,   -999.00, -999.000, 9, -999.000,   -999.0, 9,   -999.0,  -999.00, 9,   -999.0,   2.0492, 27.8591,   2.3105, 2, 3251.4, 2, 231.87, 2, 0.24, 0.1, 0.01, 0.01, -999, 9,  -999.00, 9, -999, -999, 9, -999
49NZ20031106, A10, 78, 1, 11, 12035, 2, 20031127, 1931, -29.3300, 2.8367, 4254,   3501.3, 2,   2.2991, 2,  34.8713, 2,  34.8711, 2,    223.3, 1,    231.8, 2,    54.15, 2,    23.86, 2,     0.00, 2,     1.66, 2, -999.000, 9, -999.000, 9, -999.000, 9,   -999.0, 9,   -999.0, 9, -999.0000, 9,   -999.00, -999.000, 9, -999.000,   -999.0, 9,   -999.0,  -999.00, 9,   -999.0,   2.0118, 27.8685,   2.2993, 2, 3501.3, 2, 232.35, 2, 0.24, 0.1, 0.01, 0.01, -999, 9,  -999.00, 9, -999, -999, 9, -999
49NZ20031106, A10, 78, 1, 10, 12034, 2, 20031127, 1931, -29.3300, 2.8367, 4254,   3751.7, 2,   1.9022, 2,  34.8201, 2,  34.8212, 2,    218.0, 1,    226.0, 2,    71.74, 2,    26.31, 2,     0.00, 2,     1.82, 2, -999.000, 9, -999.000, 9, -999.000, 9,   -999.0, 9,   -999.0, 9, -999.0000, 9,   -999.00, -999.000, 9, -999.000,   -999.0, 9,   -999.0,  -999.00, 9,   -999.0,   1.5984, 27.8595,   1.9027, 2, 3751.5, 2, 225.92, 2, 0.28, 0.11, 0.01, 0.01, -999, 9,  -999.00, 9, -999, -999, 9, -999
49NZ20031106, A10, 78, 1, 9, 12033, 2, 20031127, 1931, -29.3300, 2.8367, 4254,   4001.2, 2,   1.4095, 2,  34.7682, 2,  34.7678, 2,    213.2, 1,    220.0, 2,    92.54, 2,    28.94, 2,     0.00, 2,     2.01, 2, -999.000, 9, -999.000, 9, -999.000, 9,   -999.0, 9,   -999.0, 9, -999.0000, 9,   -999.00, -999.000, 9, -999.000,   -999.0, 9,   -999.0,  -999.00, 9,   -999.0,   1.0925, 27.8539,   1.4096, 2, 4001, 2, 220.17, 2, 0.32, 0.11, 0.01, 0.02, -999, 9,  -999.00, 9, -999, -999, 9, -999
49NZ20031106, A10, 78, 1, 8, 12032, 2, 20031127, 1931, -29.3300, 2.8367, 4254,   4306.2, 2,   1.1699, 2,  34.7432, 2,  34.7433, 2,    212.9, 1,    217.6, 2,   102.48, 2,    30.13, 2,     0.00, 2,     2.10, 2, -999.000, 9, -999.000, 9, -999.000, 9,   -999.0, 9,   -999.0, 9, -999.0000, 9,   -999.00, -999.000, 9, -999.000,   -999.0, 9,   -999.0,  -999.00, 9,   -999.0,   0.8266, 27.8517,   1.1699, 2, 4306.2, 2, 217.26, 2, 0.34, 0.12, 0.01, 0.02, -999, 9,  -999.00, 9, -999, -999, 9, -999