BOTTLE,20220818CCHSIOAMB
EXPOCODE,SECT_ID,STNNBR,CASTNO,SAMPNO,BTLNBR,BTLNBR_FLAG_W,DATE,TIME,LATITUDE,LONGITUDE,DEPTH,CTDPRS,CTDPRS_FLAG_W,CTDTMP,CTDTMP_FLAG_W,CTDSAL,CTDSAL_FLAG_W,SALNTY,SALNTY_FLAG_W,CTDOXY,CTDOXY_FLAG_W,OXYGEN,OXYGEN_FLAG_W,SILCAT,SILCAT_FLAG_W,NITRAT,NITRAT_FLAG_W,NITRIT,NITRIT_FLAG_W,PHSPHT,PHSPHT_FLAG_W,CFC-11,CFC-11_FLAG_W,CFC-12,CFC-12_FLAG_W,CFC113,CFC113_FLAG_W,TCARBN,TCARBN_FLAG_W,ALKALI,ALKALI_FLAG_W,PH_TOT,PH_TOT_FLAG_W,PH_TMP,TRITUM,TRITUM_FLAG_W,TRITER,DELC14,DELC14_FLAG_W,C14ERR,DELC13,DELC13_FLAG_W,C13ERR,THETA,SIG0,SBE35,SBE35_FLAG_W,DWNPRS,DWNPRS_FLAG_W,DWNOXY,DWNOXY_FLAG_W,SILUNC,NRAUNC,NRIUNC,PHPUNC,TOC,TOC_FLAG_W,CS-137,CS-137_FLAG_W,CS137ER,PLUTO,PLUTO_FLAG_W,PLUTOER
,,,,,,,,,,,METERS,DBAR,,ITS-90,,PSS-78,,PSS-78,,UMOL/KG,,UMOL/KG,,UMOL/KG,,UMOL/KG,,UMOL/KG,,UMOL/KG,,PMOL/KG,,PMOL/KG,,PMOL/KG,,UMOL/KG,,UMOL/KG,,,,DEG C,TU,,TU,/MILLE,,/MILLE,/MILLE,,/MILLE,DEG C,KG/M^3,ITS-90,,DBAR,,UMOL/KG,,UMOL/KG,UMOL/KG,UMOL/KG,UMOL/KG,UMOL/KG,,BQ/M^3,,BQ/M^3,MBQ/M^3,,MBQ/M^3
49NZ20031106, A10, 48, 1, 1, 12037, 9, 20031119, 2209, -29.9910, -18.3835, 4148,      9.9, 2,  19.8380, 2,  35.9958, 2, -999.0000, 9,    218.8, 1,   -999.0, 9,  -999.00, 9,  -999.00, 9,  -999.00, 9,  -999.00, 9, -999.000, 9, -999.000, 9, -999.000, 9,   -999.0, 9,   -999.0, 9, -999.0000, 9,   -999.00, -999.000, 9, -999.000,   -999.0, 9,   -999.0,  -999.00, 9,   -999.0,  19.8362, 25.5682,  19.8300, 2, 4.2, 2, 232.04, 2, -999, -999, -999, -999, -999, 9,  -999.00, 9, -999, -999, 9, -999
49NZ20031106, A10, 48, 1, 36, 12036, 2, 20031119, 2209, -29.9910, -18.3835, 4148,     10.3, 2,  19.8355, 2,  35.9954, 2,  35.9870, 3,    218.7, 1,    231.8, 2,     1.24, 2,     0.01, 2,     0.01, 2,     0.15, 2, -999.000, 9, -999.000, 9, -999.000, 9,   -999.0, 9,   -999.0, 9, -999.0000, 9,   -999.00, -999.000, 9, -999.000,   -999.0, 9,   -999.0,  -999.00, 9,   -999.0,  19.8336, 25.5714,  19.8175, 2, 10.5, 2, 231.36, 2, 0.12, 0.03, 0.01, 0.02, -999, 9,  -999.00, 9, -999, -999, 9, -999
49NZ20031106, A10, 48, 1, 35, 12035, 2, 20031119, 2209, -29.9910, -18.3835, 4148,     50.5, 2,  19.1282, 2,  36.0062, 2,  36.0030, 2,    221.6, 1,    234.5, 2,     1.36, 2,    -0.03, 2,     0.00, 2,     0.16, 2, -999.000, 9, -999.000, 9, -999.000, 9,   -999.0, 9,   -999.0, 9, -999.0000, 9,   -999.00, -999.000, 9, -999.000,   -999.0, 9,   -999.0,  -999.00, 9,   -999.0,  19.1191, 25.763,  19.1256, 2, 51.8, 2, 234.34, 2, 0.12, 0.03, 0.01, 0.02, -999, 9,  -999.00, 9, -999, -999, 9, -999
49NZ20031106, A10, 48, 1, 34, 12034, 2, 20031119, 2209, -29.9910, -18.3835, 4148,    100.5, 2,  18.3914, 2,  35.9386, 2,  35.9390, 2,    223.1, 1,    235.5, 2,     1.35, 2,    -0.04, 2,     0.00, 2,     0.15, 2, -999.000, 9, -999.000, 9, -999.000, 9,   -999.0, 9,   -999.0, 9, -999.0000, 9,   -999.00, -999.000, 9, -999.000,   -999.0, 9,   -999.0,  -999.00, 9,   -999.0,  18.3738, 25.9001,  18.3905, 2, 99.5, 2, 235.38, 2, 0.12, 0.03, 0.01, 0.02, -999, 9,  -999.00, 9, -999, -999, 9, -999
49NZ20031106, A10, 48, 1, 33, 12033, 2, 20031119, 2209, -29.9910, -18.3835, 4148,    151.3, 2,  16.7765, 2,  35.7186, 2,  35.7240, 2,    213.1, 1,    224.5, 2,     1.97, 2,     1.18, 2,     0.10, 2,     0.30, 2, -999.000, 9, -999.000, 9, -999.000, 9,   -999.0, 9,   -999.0, 9, -999.0000, 9,   -999.00, -999.000, 9, -999.000,   -999.0, 9,   -999.0,  -999.00, 9,   -999.0,  16.7517, 26.1256,  16.7835, 2, 161, 2, 225.04, 2, 0.12, 0.04, 0.01, 0.01, -999, 9,  -999.00, 9, -999, -999, 9, -999
49NZ20031106, A10, 48, 1, 32, 12032, 2, 20031119, 2209, -29.9910, -18.3835, 4148,    200.9, 2,  15.3361, 2,  35.5055, 2,  35.5055, 2,    208.5, 1,    218.9, 2,     2.55, 2,     4.25, 2,     0.02, 2,     0.47, 2, -999.000, 9, -999.000, 9, -999.000, 9,   -999.0, 9,   -999.0, 9, -999.0000, 9,   -999.00, -999.000, 9, -999.000,   -999.0, 9,   -999.0,  -999.00, 9,   -999.0,  15.3051, 26.2954,  15.3357, 2, 205.3, 2, 218.8, 2, 0.12, 0.04, 0.01, 0.01, -999, 9,  -999.00, 9, -999, -999, 9, -999
49NZ20031106, A10, 48, 1, 31, 12031, 2, 20031119, 2209, -29.9910, -18.3835, 4148,    249.3, 2,  14.3518, 2,  35.3605, 2,  35.3603, 2,    206.8, 1,    217.0, 2,     2.94, 2,     6.21, 2,     0.01, 2,     0.58, 2, -999.000, 9, -999.000, 9, -999.000, 9,   -999.0, 9,   -999.0, 9, -999.0000, 9,   -999.00, -999.000, 9, -999.000,   -999.0, 9,   -999.0,  -999.00, 9,   -999.0,  14.3150, 26.4031,  14.3337, 2, 255.2, 2, 217.59, 2, 0.13, 0.05, 0.01, 0.01, -999, 9,  -999.00, 9, -999, -999, 9, -999
49NZ20031106, A10, 48, 1, 30, 12030, 2, 20031119, 2209, -29.9910, -18.3835, 4148,    300.2, 2,  13.4056, 2,  35.2254, 2,  35.2259, 2,    205.1, 1,    215.1, 2,     3.26, 2,     8.17, 2,     0.00, 2,     0.69, 2, -999.000, 9, -999.000, 9, -999.000, 9,   -999.0, 9,   -999.0, 9, -999.0000, 9,   -999.00, -999.000, 9, -999.000,   -999.0, 9,   -999.0,  -999.00, 9,   -999.0,  13.3632, 26.4946,  13.4064, 2, 304.4, 2, 215.31, 2, 0.13, 0.06, 0.01, 0.01, -999, 9,  -999.00, 9, -999, -999, 9, -999
49NZ20031106, A10, 48, 1, 29, 12029, 2, 20031119, 2209, -29.9910, -18.3835, 4148,    401.3, 2,  11.7995, 2,  35.0199, 2,  35.0190, 2,    201.7, 1,    211.1, 2,     4.60, 2,    12.27, 2,     0.01, 2,     0.94, 2, -999.000, 9, -999.000, 9, -999.000, 9,   -999.0, 9,   -999.0, 9, -999.0000, 9,   -999.00, -999.000, 9, -999.000,   -999.0, 9,   -999.0,  -999.00, 9,   -999.0,  11.7473, 26.6529,  11.8002, 2, 401.3, 2, 211.85, 2, 0.13, 0.07, 0.01, 0.01, -999, 9,  -999.00, 9, -999, -999, 9, -999
49NZ20031106, A10, 48, 1, 28, 12028, 2, 20031119, 2209, -29.9910, -18.3835, 4148,    500.6, 2,  10.2571, 2,  34.8305, 2,  34.8310, 2,    197.5, 1,    206.5, 2,     6.87, 2,    16.40, 2,     0.00, 2,     1.21, 2, -999.000, 9, -999.000, 9, -999.000, 9,   -999.0, 9,   -999.0, 9, -999.0000, 9,   -999.00, -999.000, 9, -999.000,   -999.0, 9,   -999.0,  -999.00, 9,   -999.0,  10.1973, 26.7861,  10.2538, 2, 498, 2, 208.33, 2, 0.13, 0.08, 0.01, 0.01, -999, 9,  -999.00, 9, -999, -999, 9, -999
49NZ20031106, A10, 48, 1, 27, 12027, 2, 20031119, 2209, -29.9910, -18.3835, 4148,    600.4, 2,   8.5540, 2,  34.6381, 2,  34.6383, 2,    192.1, 1,    200.5, 2,    10.50, 2,    21.19, 2,     0.00, 2,     1.51, 2, -999.000, 9, -999.000, 9, -999.000, 9,   -999.0, 9,   -999.0, 9, -999.0000, 9,   -999.00, -999.000, 9, -999.000,   -999.0, 9,   -999.0,  -999.00, 9,   -999.0,   8.4895, 26.9147,   8.5564, 2, 597.7, 2, 198.3, 2, 0.14, 0.09, 0.01, 0.01, -999, 9,  -999.00, 9, -999, -999, 9, -999
49NZ20031106, A10, 48, 1, 26, 12026, 2, 20031119, 2209, -29.9910, -18.3835, 4148,    700.7, 2,   6.7653, 2,  34.4569, 2,  34.4563, 2,    203.0, 1,    211.8, 2,    13.50, 2,    24.70, 2,     0.00, 2,     1.73, 2, -999.000, 9, -999.000, 9, -999.000, 9,   -999.0, 9,   -999.0, 9, -999.0000, 9,   -999.00, -999.000, 9, -999.000,   -999.0, 9,   -999.0,  -999.00, 9,   -999.0,   6.6991, 27.0319,   6.7656, 2, 697.1, 2, 213.44, 2, 0.15, 0.1, 0.01, 0.01, -999, 9,  -999.00, 9, -999, -999, 9, -999
49NZ20031106, A10, 48, 1, 25, 12025, 2, 20031119, 2209, -29.9910, -18.3835, 4148,    800.7, 2,   5.3752, 2,  34.3414, 2,  34.3411, 2,    212.5, 1,    222.1, 2,    17.63, 2,    27.08, 2,     0.00, 2,     1.89, 2, -999.000, 9, -999.000, 9, -999.000, 9,   -999.0, 9,   -999.0, 9, -999.0000, 9,   -999.00, -999.000, 9, -999.000,   -999.0, 9,   -999.0,  -999.00, 9,   -999.0,   5.3076, 27.1171,   5.3760, 2, 799.2, 2, 222.06, 2, 0.16, 0.11, 0.01, 0.01, -999, 9,  -999.00, 9, -999, -999, 9, -999
49NZ20031106, A10, 48, 1, 24, 12024, 2, 20031119, 2209, -29.9910, -18.3835, 4148,    900.5, 2,   4.5641, 2,  34.3246, 2,  34.3254, 2,    206.9, 1,    216.0, 2,    25.00, 2,    29.34, 2,     0.00, 2,     2.04, 2, -999.000, 9, -999.000, 9, -999.000, 9,   -999.0, 9,   -999.0, 9, -999.0000, 9,   -999.00, -999.000, 9, -999.000,   -999.0, 9,   -999.0,  -999.00, 9,   -999.0,   4.4930, 27.1966,   4.5660, 2, 898.3, 2, 215.47, 2, 0.17, 0.11, 0.01, 0.02, -999, 9,  -999.00, 9, -999, -999, 9, -999
49NZ20031106, A10, 48, 1, 2, 12038, 9, 20031119, 2209, -29.9910, -18.3835, 4148,    999.9, 2,   3.8913, 2,  34.3395, 2, -999.0000, 9,    199.7, 1,   -999.0, 9,  -999.00, 9,  -999.00, 9,  -999.00, 9,  -999.00, 9, -999.000, 9, -999.000, 9, -999.000, 9,   -999.0, 9,   -999.0, 9, -999.0000, 9,   -999.00, -999.000, 9, -999.000,   -999.0, 9,   -999.0,  -999.00, 9,   -999.0,   3.8168, 27.2797,   3.8911, 2, 999.5, 2, 209.72, 2, -999, -999, -999, -999, -999, 9,  -999.00, 9, -999, -999, 9, -999
49NZ20031106, A10, 48, 1, 7, 12043, 9, 20031119, 2209, -29.9910, -18.3835, 4148,   1000.0, 2,   3.8914, 2,  34.3394, 2, -999.0000, 9,    199.7, 1,   -999.0, 9,  -999.00, 9,  -999.00, 9,  -999.00, 9,  -999.00, 9, -999.000, 9, -999.000, 9, -999.000, 9,   -999.0, 9,   -999.0, 9, -999.0000, 9,   -999.00, -999.000, 9, -999.000,   -999.0, 9,   -999.0,  -999.00, 9,   -999.0,   3.8169, 27.2797,   3.8913, 2, 999.5, 2, 209.72, 2, -999, -999, -999, -999, -999, 9,  -999.00, 9, -999, -999, 9, -999
49NZ20031106, A10, 48, 1, 6, 12042, 9, 20031119, 2209, -29.9910, -18.3835, 4148,   1000.5, 2,   3.8907, 2,  34.3398, 2, -999.0000, 9,    199.8, 1,   -999.0, 9,  -999.00, 9,  -999.00, 9,  -999.00, 9,  -999.00, 9, -999.000, 9, -999.000, 9, -999.000, 9,   -999.0, 9,   -999.0, 9, -999.0000, 9,   -999.00, -999.000, 9, -999.000,   -999.0, 9,   -999.0,  -999.00, 9,   -999.0,   3.8161, 27.2799,   3.8908, 2, 1000, 2, 209.71, 2, -999, -999, -999, -999, -999, 9,  -999.00, 9, -999, -999, 9, -999
49NZ20031106, A10, 48, 1, 3, 12039, 9, 20031119, 2209, -29.9910, -18.3835, 4148,   1000.5, 2,   3.8908, 2,  34.3396, 2, -999.0000, 9,    199.8, 1,   -999.0, 9,  -999.00, 9,  -999.00, 9,  -999.00, 9,  -999.00, 9, -999.000, 9, -999.000, 9, -999.000, 9,   -999.0, 9,   -999.0, 9, -999.0000, 9,   -999.00, -999.000, 9, -999.000,   -999.0, 9,   -999.0,  -999.00, 9,   -999.0,   3.8162, 27.2798,   3.8909, 2, 1000, 2, 209.71, 2, -999, -999, -999, -999, -999, 9,  -999.00, 9, -999, -999, 9, -999
49NZ20031106, A10, 48, 1, 23, 12023, 2, 20031119, 2209, -29.9910, -18.3835, 4148,   1000.6, 2,   3.8915, 2,  34.3395, 2,  34.3394, 2,    199.6, 1,    208.9, 2,    33.43, 2,    31.01, 2,     0.00, 2,     2.17, 2, -999.000, 9, -999.000, 9, -999.000, 9,   -999.0, 9,   -999.0, 9, -999.0000, 9,   -999.00, -999.000, 9, -999.000,   -999.0, 9,   -999.0,  -999.00, 9,   -999.0,   3.8169, 27.2797,   3.8914, 2, 1000, 2, 209.71, 2, 0.19, 0.12, 0.01, 0.02, -999, 9,  -999.00, 9, -999, -999, 9, -999
49NZ20031106, A10, 48, 1, 4, 12040, 9, 20031119, 2209, -29.9910, -18.3835, 4148,   1000.8, 2,   3.8902, 2,  34.3399, 2, -999.0000, 9,    199.7, 1,   -999.0, 9,  -999.00, 9,  -999.00, 9,  -999.00, 9,  -999.00, 9, -999.000, 9, -999.000, 9, -999.000, 9,   -999.0, 9,   -999.0, 9, -999.0000, 9,   -999.00, -999.000, 9, -999.000,   -999.0, 9,   -999.0,  -999.00, 9,   -999.0,   3.8156, 27.2802,   3.8903, 2, 1000.3, 2, 209.71, 2, -999, -999, -999, -999, -999, 9,  -999.00, 9, -999, -999, 9, -999
49NZ20031106, A10, 48, 1, 5, 12041, 9, 20031119, 2209, -29.9910, -18.3835, 4148,   1001.0, 2,   3.8901, 2,  34.3398, 2, -999.0000, 9,    199.7, 1,   -999.0, 9,  -999.00, 9,  -999.00, 9,  -999.00, 9,  -999.00, 9, -999.000, 9, -999.000, 9, -999.000, 9,   -999.0, 9,   -999.0, 9, -999.0000, 9,   -999.00, -999.000, 9, -999.000,   -999.0, 9,   -999.0,  -999.00, 9,   -999.0,   3.8155, 27.28,   3.8904, 2, 1000.5, 2, 209.7, 2, -999, -999, -999, -999, -999, 9,  -999.00, 9, -999, -999, 9, -999
49NZ20031106, A10, 48, 1, 22, 12022, 2, 20031119, 2209, -29.9910, -18.3835, 4148,   1199.9, 2,   3.2194, 2,  34.4337, 2,  34.4339, 2,    185.9, 1,    194.3, 2,    47.24, 2,    32.39, 2,     0.02, 2,     2.27, 2, -999.000, 9, -999.000, 9, -999.000, 9,   -999.0, 9,   -999.0, 9, -999.0000, 9,   -999.00, -999.000, 9, -999.000,   -999.0, 9,   -999.0,  -999.00, 9,   -999.0,   3.1342, 27.4212,   3.2196, 2, 1200.2, 2, 194.96, 2, 0.22, 0.12, 0.01, 0.02, -999, 9,  -999.00, 9, -999, -999, 9, -999
49NZ20031106, A10, 48, 1, 21, 12015, 2, 20031119, 2209, -29.9910, -18.3835, 4148,   1400.2, 2,   2.9211, 2,  34.5653, 2,  34.5651, 2,    181.0, 1,    188.9, 2,    54.85, 2,    31.69, 2,     0.00, 2,     2.21, 2, -999.000, 9, -999.000, 9, -999.000, 9,   -999.0, 9,   -999.0, 9, -999.0000, 9,   -999.00, -999.000, 9, -999.000,   -999.0, 9,   -999.0,  -999.00, 9,   -999.0,   2.8224, 27.5548,   2.9210, 2, 1401.8, 2, 189.05, 2, 0.24, 0.12, 0.01, 0.02, -999, 9,  -999.00, 9, -999, -999, 9, -999
49NZ20031106, A10, 48, 1, 20, 12020, 2, 20031119, 2209, -29.9910, -18.3835, 4148,   1601.2, 2,   2.8364, 2,  34.6631, 2,  34.6631, 2,    186.1, 1,    194.2, 2,    55.25, 2,    30.01, 2,     0.00, 2,     2.09, 2, -999.000, 9, -999.000, 9, -999.000, 9,   -999.0, 9,   -999.0, 9, -999.0000, 9,   -999.00, -999.000, 9, -999.000,   -999.0, 9,   -999.0,  -999.00, 9,   -999.0,   2.7218, 27.6418,   2.8364, 2, 1602.1, 2, 193.78, 2, 0.24, 0.12, 0.01, 0.02, -999, 9,  -999.00, 9, -999, -999, 9, -999
49NZ20031106, A10, 48, 1, 19, 12019, 2, 20031119, 2209, -29.9910, -18.3835, 4148,   1800.5, 2,   2.7412, 2,  34.7441, 2,  34.7435, 2,    196.8, 1,    205.8, 2,    53.74, 2,    27.92, 2,     0.00, 2,     1.95, 2, -999.000, 9, -999.000, 9, -999.000, 9,   -999.0, 9,   -999.0, 9, -999.0000, 9,   -999.00, -999.000, 9, -999.000,   -999.0, 9,   -999.0,  -999.00, 9,   -999.0,   2.6107, 27.7164,   2.7412, 2, 1801.9, 2, 204.47, 2, 0.24, 0.11, 0.01, 0.01, -999, 9,  -999.00, 9, -999, -999, 9, -999
49NZ20031106, A10, 48, 1, 18, 12018, 2, 20031119, 2209, -29.9910, -18.3835, 4148,   2001.1, 2,   2.6841, 2,  34.7920, 2,  34.7915, 2,    206.7, 1,    215.9, 2,    51.16, 2,    26.24, 2,     0.00, 2,     1.82, 2, -999.000, 9, -999.000, 9, -999.000, 9,   -999.0, 9,   -999.0, 9, -999.0000, 9,   -999.00, -999.000, 9, -999.000,   -999.0, 9,   -999.0,  -999.00, 9,   -999.0,   2.5367, 27.7612,   2.6841, 2, 2001.3, 2, 215.46, 2, 0.23, 0.11, 0.01, 0.01, -999, 9,  -999.00, 9, -999, -999, 9, -999
49NZ20031106, A10, 48, 1, 17, 12017, 2, 20031119, 2209, -29.9910, -18.3835, 4148,   2200.0, 2,   2.6442, 2,  34.8251, 2,  34.8243, 2,    214.9, 1,    224.8, 2,    48.78, 2,    24.94, 2,     0.00, 2,     1.74, 2, -999.000, 9, -999.000, 9, -999.000, 9,   -999.0, 9,   -999.0, 9, -999.0000, 9,   -999.00, -999.000, 9, -999.000,   -999.0, 9,   -999.0,  -999.00, 9,   -999.0,   2.4794, 27.7926,   2.6442, 2, 2200.1, 2, 224.47, 2, 0.23, 0.1, 0.01, 0.01, -999, 9,  -999.00, 9, -999, -999, 9, -999
49NZ20031106, A10, 48, 1, 16, 12016, 2, 20031119, 2209, -29.9910, -18.3835, 4148,   2400.9, 2,   2.6229, 2,  34.8450, 2,  34.8451, 2,    220.4, 1,    230.8, 2,    46.94, 2,    24.05, 2,    -0.01, 2,     1.67, 2, -999.000, 9, -999.000, 9, -999.000, 9,   -999.0, 9,   -999.0, 9, -999.0000, 9,   -999.00, -999.000, 9, -999.000,   -999.0, 9,   -999.0,  -999.00, 9,   -999.0,   2.4397, 27.8119,   2.6230, 2, 2401, 2, 230.55, 2, 0.22, 0.1, 0.01, 0.01, -999, 9,  -999.00, 9, -999, -999, 9, -999
49NZ20031106, A10, 48, 1, 15, 12012, 2, 20031119, 2209, -29.9910, -18.3835, 4148,   2600.1, 2,   2.6095, 2,  34.8600, 2,  34.8603, 2,    225.2, 1,    235.6, 2,    45.29, 2,    23.43, 2,    -0.01, 2,     1.62, 2, -999.000, 9, -999.000, 9, -999.000, 9,   -999.0, 9,   -999.0, 9, -999.0000, 9,   -999.00, -999.000, 9, -999.000,   -999.0, 9,   -999.0,  -999.00, 9,   -999.0,   2.4074, 27.827,   2.6095, 2, 2599.9, 2, 235.53, 2, 0.22, 0.1, 0.01, 0.01, -999, 9,  -999.00, 9, -999, -999, 9, -999
49NZ20031106, A10, 48, 1, 14, 12014, 2, 20031119, 2209, -29.9910, -18.3835, 4148,   2801.2, 2,   2.5884, 2,  34.8703, 2,  34.8707, 2,    228.7, 1,    239.1, 2,    44.37, 2,    22.92, 2,     0.00, 2,     1.59, 2, -999.000, 9, -999.000, 9, -999.000, 9,   -999.0, 9,   -999.0, 9, -999.0000, 9,   -999.00, -999.000, 9, -999.000,   -999.0, 9,   -999.0,  -999.00, 9,   -999.0,   2.3669, 27.8386,   2.5884, 2, 2801, 2, 238.93, 2, 0.22, 0.1, 0.01, 0.01, -999, 9,  -999.00, 9, -999, -999, 9, -999
49NZ20031106, A10, 48, 1, 13, 12013, 2, 20031119, 2209, -29.9910, -18.3835, 4148,   2999.6, 2,   2.5065, 2,  34.8761, 2,  34.8759, 2,    231.9, 1,    242.3, 2,    44.82, 2,    22.63, 2,     0.00, 2,     1.56, 2, -999.000, 9, -999.000, 9, -999.000, 9,   -999.0, 9,   -999.0, 9, -999.0000, 9,   -999.00, -999.000, 9, -999.000,   -999.0, 9,   -999.0,  -999.00, 9,   -999.0,   2.2668, 27.8516,   2.5064, 2, 2999.6, 2, 242.43, 2, 0.22, 0.1, 0.01, 0.01, -999, 9,  -999.00, 9, -999, -999, 9, -999
49NZ20031106, A10, 48, 1, 12, 12048, 2, 20031119, 2209, -29.9910, -18.3835, 4148,   3251.6, 2,   2.3827, 2,  34.8753, 2,  34.8753, 2,    234.4, 1,    244.4, 2,    47.38, 2,    22.51, 2,     0.00, 2,     1.56, 2, -999.000, 9, -999.000, 9, -999.000, 9,   -999.0, 9,   -999.0, 9, -999.0000, 9,   -999.00, -999.000, 9, -999.000,   -999.0, 9,   -999.0,  -999.00, 9,   -999.0,   2.1198, 27.863,   2.3809, 2, 3251.3, 2, 244, 2, 0.22, 0.1, 0.01, 0.01, -999, 9,  -999.00, 9, -999, -999, 9, -999
49NZ20031106, A10, 48, 1, 11, 12047, 2, 20031119, 2209, -29.9910, -18.3835, 4148,   3500.8, 2,   2.1075, 2,  34.8529, 2,  34.8528, 2,    232.7, 1,    242.1, 2,    56.78, 2,    23.66, 2,     0.00, 2,     1.64, 2, -999.000, 9, -999.000, 9, -999.000, 9,   -999.0, 9,   -999.0, 9, -999.0000, 9,   -999.00, -999.000, 9, -999.000,   -999.0, 9,   -999.0,  -999.00, 9,   -999.0,   1.8251, 27.8686,   2.1075, 2, 3500.9, 2, 242.43, 2, 0.24, 0.1, 0.01, 0.01, -999, 9,  -999.00, 9, -999, -999, 9, -999
49NZ20031106, A10, 48, 1, 10, 12046, 2, 20031119, 2209, -29.9910, -18.3835, 4148,   3750.5, 2,   1.8830, 2,  34.8295, 2,  34.8295, 2,    230.0, 1,    238.6, 2,    65.77, 2,    24.81, 2,     0.00, 2,     1.73, 2, -999.000, 9, -999.000, 9, -999.000, 9,   -999.0, 9,   -999.0, 9, -999.0000, 9,   -999.00, -999.000, 9, -999.000,   -999.0, 9,   -999.0,  -999.00, 9,   -999.0,   1.5798, 27.8686,   1.8831, 2, 3750.7, 2, 238.65, 2, 0.26, 0.1, 0.01, 0.01, -999, 9,  -999.00, 9, -999, -999, 9, -999
49NZ20031106, A10, 48, 1, 9, 12045, 2, 20031119, 2209, -29.9910, -18.3835, 4148,   3999.7, 2,   1.7747, 2,  34.8171, 2,  34.8168, 2,    229.3, 1,    236.8, 2,    70.93, 2,    25.50, 2,     0.00, 2,     1.78, 2, -999.000, 9, -999.000, 9, -999.000, 9,   -999.0, 9,   -999.0, 9, -999.0000, 9,   -999.00, -999.000, 9, -999.000,   -999.0, 9,   -999.0,  -999.00, 9,   -999.0,   1.4473, 27.8685,   1.7751, 2, 3999.9, 2, 236.95, 2, 0.28, 0.1, 0.01, 0.01, -999, 9,  -999.00, 9, -999, -999, 9, -999
49NZ20031106, A10, 48, 1, 8, 12044, 2, 20031119, 2209, -29.9910, -18.3835, 4148,   4204.4, 2,   1.5626, 2,  34.7943, 2,  34.7944, 2,    227.1, 1,    233.0, 2,    79.47, 2,    26.66, 2,     0.01, 2,     1.86, 2, -999.000, 9, -999.000, 9, -999.000, 9,   -999.0, 9,   -999.0, 9, -999.0000, 9,   -999.00, -999.000, 9, -999.000,   -999.0, 9,   -999.0,  -999.00, 9,   -999.0,   1.2186, 27.8665,   1.5626, 2, 4204.4, 2, 232.83, 2, 0.29, 0.11, 0.01, 0.01, -999, 9,  -999.00, 9, -999, -999, 9, -999