BOTTLE,20220818CCHSIOAMB
EXPOCODE,SECT_ID,STNNBR,CASTNO,SAMPNO,BTLNBR,BTLNBR_FLAG_W,DATE,TIME,LATITUDE,LONGITUDE,DEPTH,CTDPRS,CTDPRS_FLAG_W,CTDTMP,CTDTMP_FLAG_W,CTDSAL,CTDSAL_FLAG_W,SALNTY,SALNTY_FLAG_W,CTDOXY,CTDOXY_FLAG_W,OXYGEN,OXYGEN_FLAG_W,SILCAT,SILCAT_FLAG_W,NITRAT,NITRAT_FLAG_W,NITRIT,NITRIT_FLAG_W,PHSPHT,PHSPHT_FLAG_W,CFC-11,CFC-11_FLAG_W,CFC-12,CFC-12_FLAG_W,CFC113,CFC113_FLAG_W,TCARBN,TCARBN_FLAG_W,ALKALI,ALKALI_FLAG_W,PH_TOT,PH_TOT_FLAG_W,PH_TMP,TRITUM,TRITUM_FLAG_W,TRITER,DELC14,DELC14_FLAG_W,C14ERR,DELC13,DELC13_FLAG_W,C13ERR,THETA,SIG0,SBE35,SBE35_FLAG_W,DWNPRS,DWNPRS_FLAG_W,DWNOXY,DWNOXY_FLAG_W,SILUNC,NRAUNC,NRIUNC,PHPUNC,TOC,TOC_FLAG_W,CS-137,CS-137_FLAG_W,CS137ER,PLUTO,PLUTO_FLAG_W,PLUTOER
,,,,,,,,,,,METERS,DBAR,,ITS-90,,PSS-78,,PSS-78,,UMOL/KG,,UMOL/KG,,UMOL/KG,,UMOL/KG,,UMOL/KG,,UMOL/KG,,PMOL/KG,,PMOL/KG,,PMOL/KG,,UMOL/KG,,UMOL/KG,,,,DEG C,TU,,TU,/MILLE,,/MILLE,/MILLE,,/MILLE,DEG C,KG/M^3,ITS-90,,DBAR,,UMOL/KG,,UMOL/KG,UMOL/KG,UMOL/KG,UMOL/KG,UMOL/KG,,BQ/M^3,,BQ/M^3,MBQ/M^3,,MBQ/M^3
49NZ20031106, A10, 36, 1, 36, 12036, 2, 20031116, 1532, -29.9882, -28.4150, 3768,     10.9, 2,  19.9628, 2,  36.0155, 2,  36.0175, 2,    217.3, 1,    229.2, 2,     0.88, 2,    -0.01, 2,     0.00, 2,     0.08, 2, -999.000, 9, -999.000, 9, -999.000, 9,   -999.0, 9,   -999.0, 9, -999.0000, 9,   -999.00, -999.000, 9, -999.000,   -999.0, 9,   -999.0,  -999.00, 9,   -999.0,  19.9608, 25.5456,  19.9860, 2, 15.8, 2, 227.36, 2, 0.12, 0.03, 0.01, 0.02, -999, 9,  -999.00, 9, -999, -999, 9, -999
49NZ20031106, A10, 36, 1, 35, 12035, 2, 20031116, 1532, -29.9882, -28.4150, 3768,     51.1, 2,  19.6600, 2,  35.9724, 2,  35.9760, 2,    218.6, 1,    230.3, 2,     0.85, 2,    -0.09, 2,     0.00, 2,     0.08, 2, -999.000, 9, -999.000, 9, -999.000, 9,   -999.0, 9,   -999.0, 9, -999.0000, 9,   -999.00, -999.000, 9, -999.000,   -999.0, 9,   -999.0,  -999.00, 9,   -999.0,  19.6506, 25.597,  19.6620, 2, 52.3, 2, 229.33, 2, 0.12, 0.03, 0.01, 0.02, -999, 9,  -999.00, 9, -999, -999, 9, -999
49NZ20031106, A10, 36, 1, 34, 12034, 2, 20031116, 1532, -29.9882, -28.4150, 3768,    100.7, 2,  18.5777, 2,  35.9152, 2,  35.9147, 2,    221.7, 1,    233.9, 2,     0.86, 2,    -0.05, 2,     0.00, 2,     0.10, 2, -999.000, 9, -999.000, 9, -999.000, 9,   -999.0, 9,   -999.0, 9, -999.0000, 9,   -999.00, -999.000, 1, -999.000,   -999.0, 9,   -999.0,  -999.00, 9,   -999.0,  18.5600, 25.8342,  18.5775, 2, 100.2, 2, 233.93, 2, 0.12, 0.03, 0.01, 0.02, -999, 9,     1.27, 2, 0.13, -999, 1, -999
49NZ20031106, A10, 36, 1, 33, 12033, 2, 20031116, 1532, -29.9882, -28.4150, 3768,    151.9, 2,  17.7472, 2,  35.8010, 2,  35.8084, 2,    219.4, 1,    231.3, 2,     0.90, 2,    -0.01, 2,     0.05, 2,     0.13, 2, -999.000, 9, -999.000, 9, -999.000, 9,   -999.0, 9,   -999.0, 9, -999.0000, 9,   -999.00, -999.000, 9, -999.000,   -999.0, 9,   -999.0,  -999.00, 9,   -999.0,  17.7213, 25.955,  17.7502, 2, 153.3, 2, 229.6, 2, 0.12, 0.03, 0.01, 0.02, -999, 9,  -999.00, 9, -999, -999, 9, -999
49NZ20031106, A10, 36, 1, 8, 12044, 2, 20031116, 1532, -29.9882, -28.4150, 3768,    152.2, 2,  17.7464, 2,  35.8010, 2, -999.0000, 9,    219.5, 1,   -999.0, 9,  -999.00, 9,  -999.00, 9,  -999.00, 9,  -999.00, 9, -999.000, 9, -999.000, 9, -999.000, 9,   -999.0, 9,   -999.0, 9, -999.0000, 9,   -999.00, -999.000, 9, -999.000,   -999.0, 9,   -999.0,  -999.00, 9,   -999.0,  17.7204, 25.9549,  17.7527, 2, 153.5, 2, 229.55, 2, -999, -999, -999, -999, -999, 9,  -999.00, 9, -999, -999, 9, -999
49NZ20031106, A10, 36, 1, 32, 12032, 2, 20031116, 1532, -29.9882, -28.4150, 3768,    201.1, 2,  16.1407, 2,  35.5826, 2,  35.5845, 2,    209.5, 1,    220.2, 2,     1.27, 2,     1.96, 2,     0.02, 2,     0.31, 2, -999.000, 9, -999.000, 9, -999.000, 9,   -999.0, 9,   -999.0, 9, -999.0000, 9,   -999.00, -999.000, 1, -999.000,   -999.0, 9,   -999.0,  -999.00, 9,   -999.0,  16.1085, 26.1713,  16.1398, 2, 201.1, 2, 220.37, 2, 0.12, 0.04, 0.01, 0.01, -999, 9,  -999.00, 1, -999, -999, 1, -999
49NZ20031106, A10, 36, 1, 4, 12040, 2, 20031116, 1532, -29.9882, -28.4150, 3768,    201.2, 2,  16.1320, 2,  35.5817, 2, -999.0000, 9,    209.6, 1,   -999.0, 9,  -999.00, 9,  -999.00, 9,  -999.00, 9,  -999.00, 9, -999.000, 9, -999.000, 9, -999.000, 9,   -999.0, 9,   -999.0, 9, -999.0000, 9,   -999.00, -999.000, 1, -999.000,   -999.0, 9,   -999.0,  -999.00, 9,   -999.0,  16.0998, 26.1723,  16.1330, 2, 201.4, 2, 220.34, 2, -999, -999, -999, -999, -999, 9,  -999.00, 9, -999, -999, 9, -999
49NZ20031106, A10, 36, 1, 31, 12031, 2, 20031116, 1532, -29.9882, -28.4150, 3768,    251.5, 2,  14.9919, 2,  35.4497, 2,  35.4499, 2,    206.0, 1,    215.8, 2,     1.78, 2,     4.65, 2,     0.01, 2,     0.46, 2, -999.000, 9, -999.000, 9, -999.000, 9,   -999.0, 9,   -999.0, 9, -999.0000, 9,   -999.00, -999.000, 9, -999.000,   -999.0, 9,   -999.0,  -999.00, 9,   -999.0,  14.9536, 26.3295,  14.9887, 2, 248.6, 2, 216.07, 2, 0.12, 0.05, 0.01, 0.01, -999, 9,  -999.00, 9, -999, -999, 9, -999
49NZ20031106, A10, 36, 1, 30, 12030, 2, 20031116, 1532, -29.9882, -28.4150, 3768,    301.3, 2,  14.0833, 2,  35.3341, 2,  35.3342, 2,    204.6, 1,    214.2, 2,     2.32, 2,     6.86, 2,    -0.01, 2,     0.59, 2, -999.000, 9, -999.000, 9, -999.000, 9,   -999.0, 9,   -999.0, 9, -999.0000, 9,   -999.00, -999.000, 9, -999.000,   -999.0, 9,   -999.0,  -999.00, 9,   -999.0,  14.0393, 26.4378,  14.0800, 2, 295.2, 2, 216.03, 2, 0.12, 0.05, 0.01, 0.01, -999, 9,  -999.00, 9, -999, -999, 9, -999
49NZ20031106, A10, 36, 1, 29, 12029, 2, 20031116, 1532, -29.9882, -28.4150, 3768,    402.9, 2,  12.4395, 2,  35.1285, 2,  35.1298, 2,    205.7, 1,    214.8, 2,     3.18, 2,    10.55, 2,    -0.01, 2,     0.81, 2, -999.000, 9, -999.000, 9, -999.000, 9,   -999.0, 9,   -999.0, 9, -999.0000, 9,   -999.00, -999.000, 1, -999.000,   -999.0, 9,   -999.0,  -999.00, 9,   -999.0,  12.3852, 26.6138,  12.4433, 2, 401.8, 2, 214.18, 2, 0.13, 0.06, 0.01, 0.01, -999, 9,     1.00, 2, 0.08, -999, 1, -999
49NZ20031106, A10, 36, 1, 28, 12028, 2, 20031116, 1532, -29.9882, -28.4150, 3768,    501.6, 2,  10.6175, 2,  34.8808, 2,  34.8794, 2,    201.1, 1,    209.8, 2,     5.47, 2,    15.53, 2,     0.00, 2,     1.11, 2, -999.000, 9, -999.000, 9, -999.000, 9,   -999.0, 9,   -999.0, 9, -999.0000, 9,   -999.00, -999.000, 9, -999.000,   -999.0, 9,   -999.0,  -999.00, 9,   -999.0,  10.5562, 26.7613,  10.6199, 2, 502, 2, 209.75, 2, 0.13, 0.08, 0.01, 0.01, -999, 9,  -999.00, 9, -999, -999, 9, -999
49NZ20031106, A10, 36, 1, 2, 12038, 2, 20031116, 1532, -29.9882, -28.4150, 3768,    599.8, 2,   8.4980, 2,  34.6227, 2, -999.0000, 9,    202.3, 1,   -999.0, 9,  -999.00, 9,  -999.00, 9,  -999.00, 9,  -999.00, 9, -999.000, 9, -999.000, 9, -999.000, 9,   -999.0, 9,   -999.0, 9, -999.0000, 9,   -999.00, -999.000, 1, -999.000,   -999.0, 9,   -999.0,  -999.00, 9,   -999.0,   8.4339, 26.9112,   8.4955, 2, 602, 2, 210.74, 2, -999, -999, -999, -999, -999, 9,  -999.00, 9, -999, -999, 9, -999
49NZ20031106, A10, 36, 1, 27, 12027, 2, 20031116, 1532, -29.9882, -28.4150, 3768,    601.4, 2,   8.4619, 2,  34.6189, 2,  34.6226, 2,    202.3, 1,    210.3, 2,     8.57, 2,    20.88, 2,    -0.01, 2,     1.45, 2, -999.000, 9, -999.000, 9, -999.000, 9,   -999.0, 9,   -999.0, 9, -999.0000, 9,   -999.00, -999.000, 1, -999.000,   -999.0, 9,   -999.0,  -999.00, 9,   -999.0,   8.3977, 26.9136,   8.4649, 2, 604.2, 2, 210.49, 2, 0.14, 0.09, 0.01, 0.01, -999, 9,  -999.00, 1, -999, -999, 1, -999
49NZ20031106, A10, 36, 1, 26, 12026, 2, 20031116, 1532, -29.9882, -28.4150, 3768,    700.3, 2,   6.2395, 2,  34.3948, 2,  34.3957, 2,    213.4, 1,    221.7, 2,    13.09, 2,    25.48, 2,     0.00, 2,     1.75, 2, -999.000, 9, -999.000, 9, -999.000, 9,   -999.0, 9,   -999.0, 9, -999.0000, 9,   -999.00, -999.000, 9, -999.000,   -999.0, 9,   -999.0,  -999.00, 9,   -999.0,   6.1762, 27.0514,   6.2406, 2, 702.6, 2, 224.4, 2, 0.15, 0.1, 0.01, 0.01, -999, 9,  -999.00, 9, -999, -999, 9, -999
49NZ20031106, A10, 36, 1, 25, 12025, 2, 20031116, 1532, -29.9882, -28.4150, 3768,    800.3, 2,   5.0000, 2,  34.3009, 2,  34.3009, 2,    221.7, 1,    230.9, 2,    17.36, 2,    27.72, 2,    -0.01, 2,     1.90, 2, -999.000, 9, -999.000, 9, -999.000, 9,   -999.0, 9,   -999.0, 9, -999.0000, 9,   -999.00, -999.000, 1, -999.000,   -999.0, 9,   -999.0,  -999.00, 9,   -999.0,   4.9347, 27.1282,   4.9990, 2, 803.8, 2, 229.24, 2, 0.16, 0.11, 0.01, 0.01, -999, 9,     0.33, 2, 0.17, -999, 1, -999
49NZ20031106, A10, 36, 1, 7, 12043, 9, 20031116, 1532, -29.9882, -28.4150, 3768,    801.4, 2,   4.9916, 2,  34.3005, 2, -999.0000, 9,    221.7, 1,   -999.0, 9,  -999.00, 9,  -999.00, 9,  -999.00, 9,  -999.00, 9, -999.000, 9, -999.000, 9, -999.000, 9,   -999.0, 9,   -999.0, 9, -999.0000, 9,   -999.00, -999.000, 9, -999.000,   -999.0, 9,   -999.0,  -999.00, 9,   -999.0,   4.9263, 27.1289,   4.9946, 2, 804.7, 2, 229.43, 2, -999, -999, -999, -999, -999, 9,  -999.00, 9, -999, -999, 9, -999
49NZ20031106, A10, 36, 1, 24, 12024, 2, 20031116, 1532, -29.9882, -28.4150, 3768,    900.7, 2,   4.3172, 2,  34.2817, 2,  34.2816, 2,    219.8, 1,    229.1, 2,    22.72, 2,    29.27, 2,     0.00, 2,     2.00, 2, -999.000, 9, -999.000, 9, -999.000, 9,   -999.0, 9,   -999.0, 9, -999.0000, 9,   -999.00, -999.000, 9, -999.000,   -999.0, 9,   -999.0,  -999.00, 9,   -999.0,   4.2479, 27.1887,   4.3196, 2, 902.3, 2, 233, 2, 0.17, 0.11, 0.01, 0.02, -999, 9,  -999.00, 9, -999, -999, 9, -999
49NZ20031106, A10, 36, 1, 23, 12023, 2, 20031116, 1532, -29.9882, -28.4150, 3768,   1002.3, 2,   3.8293, 2,  34.2889, 2,  34.2895, 2,    214.0, 1,    223.5, 2,    28.68, 2,    30.58, 2,    -0.01, 2,     2.10, 2, -999.000, 9, -999.000, 9, -999.000, 9,   -999.0, 9,   -999.0, 9, -999.0000, 9,   -999.00, -999.000, 1, -999.000,   -999.0, 9,   -999.0,  -999.00, 9,   -999.0,   3.7551, 27.2453,   3.8328, 2, 1001.8, 2, 223.4, 2, 0.18, 0.12, 0.01, 0.02, -999, 9,  -999.00, 1, -999, -999, 1, -999
49NZ20031106, A10, 36, 1, 3, 12039, 2, 20031116, 1532, -29.9882, -28.4150, 3768,   1002.5, 2,   3.8247, 2,  34.2889, 2, -999.0000, 9,    213.9, 1,   -999.0, 9,  -999.00, 9,  -999.00, 9,  -999.00, 9,  -999.00, 9, -999.000, 9, -999.000, 9, -999.000, 9,   -999.0, 9,   -999.0, 9, -999.0000, 9,   -999.00, -999.000, 1, -999.000,   -999.0, 9,   -999.0,  -999.00, 9,   -999.0,   3.7505, 27.2456,   3.8282, 2, 1002.1, 2, 223.42, 2, -999, -999, -999, -999, -999, 9,  -999.00, 9, -999, -999, 9, -999
49NZ20031106, A10, 36, 1, 22, 12022, 2, 20031116, 1532, -29.9882, -28.4150, 3768,   1201.2, 2,   3.1531, 2,  34.4051, 2,  34.4053, 2,    190.3, 1,    198.6, 2,    45.88, 2,    32.80, 2,    -0.01, 2,     2.25, 2, -999.000, 9, -999.000, 9, -999.000, 9,   -999.0, 9,   -999.0, 9, -999.0000, 9,   -999.00, -999.000, 1, -999.000,   -999.0, 9,   -999.0,  -999.00, 9,   -999.0,   3.0684, 27.4044,   3.1530, 2, 1201.8, 2, 199.07, 2, 0.22, 0.12, 0.01, 0.02, -999, 9,  -999.00, 5, -999, -999, 1, -999
49NZ20031106, A10, 36, 1, 21, 12015, 2, 20031116, 1532, -29.9882, -28.4150, 3768,   1400.1, 2,   2.9714, 2,  34.5374, 2,  34.5378, 2,    181.1, 1,    188.5, 2,    53.79, 2,    32.46, 2,     0.00, 2,     2.23, 2, -999.000, 9, -999.000, 9, -999.000, 9,   -999.0, 9,   -999.0, 9, -999.0000, 9,   -999.00, -999.000, 1, -999.000,   -999.0, 9,   -999.0,  -999.00, 9,   -999.0,   2.8722, 27.5279,   2.9714, 2, 1400.8, 2, 188.76, 2, 0.24, 0.12, 0.01, 0.02, -999, 9,     0.06, 2, 0.03, -999, 1, -999
49NZ20031106, A10, 36, 1, 20, 12020, 2, 20031116, 1532, -29.9882, -28.4150, 3768,   1601.0, 2,   2.8362, 2,  34.6542, 2,  34.6546, 2,    185.8, 1,    193.4, 2,    55.67, 2,    30.62, 2,    -0.01, 2,     2.10, 2, -999.000, 9, -999.000, 9, -999.000, 9,   -999.0, 9,   -999.0, 9, -999.0000, 9,   -999.00, -999.000, 9, -999.000,   -999.0, 9,   -999.0,  -999.00, 9,   -999.0,   2.7217, 27.6346,   2.8362, 2, 1601.4, 2, 192.9, 2, 0.24, 0.12, 0.01, 0.02, -999, 9,  -999.00, 9, -999, -999, 9, -999
49NZ20031106, A10, 36, 1, 19, 12019, 2, 20031116, 1532, -29.9882, -28.4150, 3768,   1800.4, 2,   2.7702, 2,  34.7432, 2,  34.7432, 2,    197.2, 1,    205.4, 2,    53.06, 2,    28.37, 2,     0.00, 2,     1.93, 2, -999.000, 9, -999.000, 9, -999.000, 9,   -999.0, 9,   -999.0, 9, -999.0000, 9,   -999.00, -999.000, 9, -999.000,   -999.0, 9,   -999.0,  -999.00, 9,   -999.0,   2.6393, 27.7131,   2.7702, 2, 1801.4, 2, 204.08, 2, 0.24, 0.11, 0.01, 0.01, -999, 9,  -999.00, 9, -999, -999, 9, -999
49NZ20031106, A10, 36, 1, 18, 12018, 2, 20031116, 1532, -29.9882, -28.4150, 3768,   2002.1, 2,   2.7400, 2,  34.8030, 2,  34.8033, 2,    209.8, 1,    218.3, 2,    48.77, 2,    26.16, 2,    -0.01, 2,     1.78, 2, -999.000, 9, -999.000, 9, -999.000, 9,   -999.0, 9,   -999.0, 9, -999.0000, 9,   -999.00, -999.000, 1, -999.000,   -999.0, 9,   -999.0,  -999.00, 9,   -999.0,   2.5916, 27.765,   2.7400, 2, 2003.3, 2, 216.17, 2, 0.23, 0.11, 0.01, 0.01, -999, 9,  -999.00, 1, -999, -999, 1, -999
49NZ20031106, A10, 36, 1, 5, 12041, 2, 20031116, 1532, -29.9882, -28.4150, 3768,   2002.2, 2,   2.7400, 2,  34.8030, 2, -999.0000, 9,    209.6, 1,   -999.0, 9,  -999.00, 9,  -999.00, 9,  -999.00, 9,  -999.00, 9, -999.000, 9, -999.000, 9, -999.000, 9,   -999.0, 9,   -999.0, 9, -999.0000, 9,   -999.00, -999.000, 1, -999.000,   -999.0, 9,   -999.0,  -999.00, 9,   -999.0,   2.5916, 27.765,   2.7400, 2, 2003.4, 2, 216.18, 2, -999, -999, -999, -999, -999, 9,  -999.00, 9, -999, -999, 9, -999
49NZ20031106, A10, 36, 1, 17, 12017, 2, 20031116, 1532, -29.9882, -28.4150, 3768,   2199.5, 2,   2.7375, 2,  34.8420, 2,  34.8418, 2,    219.3, 1,    228.5, 2,    44.67, 2,    24.69, 2,     0.00, 2,     1.67, 2, -999.000, 9, -999.000, 9, -999.000, 9,   -999.0, 9,   -999.0, 9, -999.0000, 9,   -999.00, -999.000, 9, -999.000,   -999.0, 9,   -999.0,  -999.00, 9,   -999.0,   2.5711, 27.7978,   2.7374, 2, 2200.3, 2, 226.75, 2, 0.22, 0.1, 0.01, 0.01, -999, 9,  -999.00, 9, -999, -999, 9, -999
49NZ20031106, A10, 36, 1, 16, 12016, 2, 20031116, 1532, -29.9882, -28.4150, 3768,   2401.0, 2,   2.7572, 2,  34.8705, 2,  34.8703, 2,    227.0, 1,    236.4, 2,    40.68, 2,    23.31, 2,    -0.01, 2,     1.58, 2, -999.000, 9, -999.000, 9, -999.000, 9,   -999.0, 9,   -999.0, 9, -999.0000, 9,   -999.00, -999.000, 1, -999.000,   -999.0, 9,   -999.0,  -999.00, 9,   -999.0,   2.5715, 27.8207,   2.7573, 2, 2401.2, 2, 235.55, 2, 0.21, 0.1, 0.01, 0.01, -999, 9,     0.04, 2, 0.03, -999, 1, -999
49NZ20031106, A10, 36, 1, 15, 12012, 2, 20031116, 1532, -29.9882, -28.4150, 3768,   2601.5, 2,   2.7999, 2,  34.8983, 2,  34.8979, 2,    234.7, 1,    244.3, 2,    35.79, 2,    22.07, 2,    -0.01, 2,     1.48, 2, -999.000, 9, -999.000, 9, -999.000, 9,   -999.0, 9,   -999.0, 9, -999.0000, 9,   -999.00, -999.000, 9, -999.000,   -999.0, 9,   -999.0,  -999.00, 9,   -999.0,   2.5939, 27.8408,   2.8001, 2, 2601.7, 2, 242.78, 2, 0.2, 0.09, 0.01, 0.01, -999, 9,  -999.00, 9, -999, -999, 9, -999
49NZ20031106, A10, 36, 1, 14, 12014, 2, 20031116, 1532, -29.9882, -28.4150, 3768,   2800.8, 2,   2.7224, 2,  34.8980, 2,  34.8980, 2,    236.0, 1,    245.3, 2,    37.35, 2,    22.06, 2,    -0.01, 2,     1.48, 2, -999.000, 9, -999.000, 9, -999.000, 9,   -999.0, 9,   -999.0, 9, -999.0000, 9,   -999.00, -999.000, 9, -999.000,   -999.0, 9,   -999.0,  -999.00, 9,   -999.0,   2.4981, 27.8489,   2.7227, 2, 2801, 2, 245.26, 2, 0.2, 0.09, 0.01, 0.01, -999, 9,  -999.00, 9, -999, -999, 9, -999
49NZ20031106, A10, 36, 1, 6, 12042, 2, 20031116, 1532, -29.9882, -28.4150, 3768,   2999.7, 2,   2.6522, 2,  34.8980, 2, -999.0000, 9,    237.5, 1,   -999.0, 9,  -999.00, 9,  -999.00, 9,  -999.00, 9,  -999.00, 9, -999.000, 9, -999.000, 9, -999.000, 9,   -999.0, 9,   -999.0, 9, -999.0000, 9,   -999.00, -999.000, 1, -999.000,   -999.0, 9,   -999.0,  -999.00, 9,   -999.0,   2.4092, 27.8566,   2.6522, 2, 2999.6, 2, 246.94, 2, -999, -999, -999, -999, -999, 9,  -999.00, 9, -999, -999, 9, -999
49NZ20031106, A10, 36, 1, 13, 12013, 2, 20031116, 1532, -29.9882, -28.4150, 3768,   3000.2, 2,   2.6525, 2,  34.8981, 2,  34.8981, 2,    237.6, 1,    246.6, 2,    38.65, 2,    22.00, 2,    -0.01, 2,     1.49, 2, -999.000, 9, -999.000, 9, -999.000, 9,   -999.0, 9,   -999.0, 9, -999.0000, 9,   -999.00, -999.000, 1, -999.000,   -999.0, 9,   -999.0,  -999.00, 9,   -999.0,   2.4094, 27.8567,   2.6525, 2, 3000.1, 2, 246.94, 2, 0.2, 0.09, 0.01, 0.01, -999, 9,  -999.00, 1, -999, -999, 1, -999
49NZ20031106, A10, 36, 1, 12, 12048, 2, 20031116, 1532, -29.9882, -28.4150, 3768,   3251.7, 2,   2.4487, 2,  34.8841, 2,  34.8839, 2,    237.2, 1,    245.4, 2,    44.69, 2,    22.56, 2,    -0.01, 2,     1.53, 2, -999.000, 9, -999.000, 9, -999.000, 9,   -999.0, 9,   -999.0, 9, -999.0000, 9,   -999.00, -999.000, 9, -999.000,   -999.0, 9,   -999.0,  -999.00, 9,   -999.0,   2.1842, 27.8642,   2.4488, 2, 3252, 2, 245.86, 2, 0.22, 0.1, 0.01, 0.01, -999, 9,  -999.00, 9, -999, -999, 9, -999
49NZ20031106, A10, 36, 1, 11, 12047, 2, 20031116, 1532, -29.9882, -28.4150, 3768,   3499.5, 2,   2.1078, 2,  34.8508, 2,  34.8512, 2,    233.1, 1,    240.5, 2,    57.42, 2,    24.18, 2,    -0.01, 2,     1.65, 2, -999.000, 9, -999.000, 9, -999.000, 9,   -999.0, 9,   -999.0, 9, -999.0000, 9,   -999.00, -999.000, 1, -999.000,   -999.0, 9,   -999.0,  -999.00, 9,   -999.0,   1.8255, 27.8664,   2.1089, 2, 3500, 2, 241.72, 2, 0.25, 0.1, 0.01, 0.01, -999, 9,     0.00, 2, 0.02, -999, 1, -999
49NZ20031106, A10, 36, 1, 9, 12045, 9, 20031116, 1532, -29.9882, -28.4150, 3768,   3599.5, 2,   1.9876, 2,  34.8359, 2, -999.0000, 9,    230.5, 1,   -999.0, 9,  -999.00, 9,  -999.00, 9,  -999.00, 9,  -999.00, 9, -999.000, 9, -999.000, 9, -999.000, 9,   -999.0, 9,   -999.0, 9, -999.0000, 9,   -999.00, -999.000, 9, -999.000,   -999.0, 9,   -999.0,  -999.00, 9,   -999.0,   1.6978, 27.8643,   1.9873, 2, 3599.5, 2, 237.85, 2, -999, -999, -999, -999, -999, 9,  -999.00, 9, -999, -999, 9, -999
49NZ20031106, A10, 36, 1, 1, 12037, 2, 20031116, 1532, -29.9882, -28.4150, 3768,   3797.8, 2,   1.6950, 2,  34.8041, 2, -999.0000, 9,    226.7, 1,   -999.0, 9,  -999.00, 9,  -999.00, 9,  -999.00, 9,  -999.00, 9, -999.000, 9, -999.000, 9, -999.000, 9,   -999.0, 9,   -999.0, 9, -999.0000, 9,   -999.00, -999.000, 9, -999.000,   -999.0, 9,   -999.0,  -999.00, 9,   -999.0,   1.3919, 27.8619,   1.6966, 2, 3797.6, 2, 232.14, 2, -999, -999, -999, -999, -999, 9,  -999.00, 9, -999, -999, 9, -999
49NZ20031106, A10, 36, 1, 10, 12046, 2, 20031116, 1532, -29.9882, -28.4150, 3768,   3799.3, 2,   1.6976, 2,  34.8047, 2,  34.8041, 2,    226.6, 1,    232.1, 2,    75.39, 2,    26.79, 2,    -0.01, 2,     1.82, 2, -999.000, 9, -999.000, 9, -999.000, 9,   -999.0, 9,   -999.0, 9, -999.0000, 9,   -999.00, -999.000, 1, -999.000,   -999.0, 9,   -999.0,  -999.00, 9,   -999.0,   1.3942, 27.8621,   1.6984, 2, 3799.1, 2, 231.99, 2, 0.28, 0.11, 0.01, 0.01, -999, 9,  -999.00, 1, -999, -999, 1, -999