BOTTLE,20220818CCHSIOAMB
EXPOCODE,SECT_ID,STNNBR,CASTNO,SAMPNO,BTLNBR,BTLNBR_FLAG_W,DATE,TIME,LATITUDE,LONGITUDE,DEPTH,CTDPRS,CTDPRS_FLAG_W,CTDTMP,CTDTMP_FLAG_W,CTDSAL,CTDSAL_FLAG_W,SALNTY,SALNTY_FLAG_W,CTDOXY,CTDOXY_FLAG_W,OXYGEN,OXYGEN_FLAG_W,SILCAT,SILCAT_FLAG_W,NITRAT,NITRAT_FLAG_W,NITRIT,NITRIT_FLAG_W,PHSPHT,PHSPHT_FLAG_W,CFC-11,CFC-11_FLAG_W,CFC-12,CFC-12_FLAG_W,CFC113,CFC113_FLAG_W,TCARBN,TCARBN_FLAG_W,ALKALI,ALKALI_FLAG_W,PH_TOT,PH_TOT_FLAG_W,PH_TMP,TRITUM,TRITUM_FLAG_W,TRITER,DELC14,DELC14_FLAG_W,C14ERR,DELC13,DELC13_FLAG_W,C13ERR,THETA,SIG0,SBE35,SBE35_FLAG_W,DWNPRS,DWNPRS_FLAG_W,DWNOXY,DWNOXY_FLAG_W,SILUNC,NRAUNC,NRIUNC,PHPUNC,TOC,TOC_FLAG_W,CS-137,CS-137_FLAG_W,CS137ER,PLUTO,PLUTO_FLAG_W,PLUTOER
,,,,,,,,,,,METERS,DBAR,,ITS-90,,PSS-78,,PSS-78,,UMOL/KG,,UMOL/KG,,UMOL/KG,,UMOL/KG,,UMOL/KG,,UMOL/KG,,PMOL/KG,,PMOL/KG,,PMOL/KG,,UMOL/KG,,UMOL/KG,,,,DEG C,TU,,TU,/MILLE,,/MILLE,/MILLE,,/MILLE,DEG C,KG/M^3,ITS-90,,DBAR,,UMOL/KG,,UMOL/KG,UMOL/KG,UMOL/KG,UMOL/KG,UMOL/KG,,BQ/M^3,,BQ/M^3,MBQ/M^3,,MBQ/M^3
49NZ20031106, A10, 77, 1, 7, 12031, 9, 20031127, 1441, -29.4717, 2.2657, 2712,      4.9, 2,  19.1894, 2,  35.7970, 2, -999.0000, 9,    223.6, 1,   -999.0, 9,  -999.00, 9,  -999.00, 9,  -999.00, 9,  -999.00, 9, -999.000, 9, -999.000, 9, -999.000, 9,   -999.0, 9,   -999.0, 9, -999.0000, 9,   -999.00, -999.000, 9, -999.000,   -999.0, 9,   -999.0,  -999.00, 9,   -999.0,  19.1885, 25.5825,  19.1905, 2, 4.9, 2, 233.97, 2, -999, -999, -999, -999, -999, 9,  -999.00, 9, -999, -999, 9, -999
49NZ20031106, A10, 77, 1, 6, 12030, 2, 20031127, 1441, -29.4717, 2.2657, 2712,      4.9, 2,  19.2185, 2,  35.7964, 2, -999.0000, 9,    223.4, 1,   -999.0, 9,  -999.00, 9,  -999.00, 9,  -999.00, 9,  -999.00, 9, -999.000, 9, -999.000, 9, -999.000, 9,   -999.0, 9,   -999.0, 9, -999.0000, 9,   -999.00, -999.000, 9, -999.000,   -999.0, 9,   -999.0,  -999.00, 9,   -999.0,  19.2176, 25.5733,  19.2197, 2, 4.9, 2, 233.97, 2, -999, -999, -999, -999, -999, 9,  -999.00, 9, -999, -999, 9, -999
49NZ20031106, A10, 77, 1, 5, 12029, 2, 20031127, 1441, -29.4717, 2.2657, 2712,      4.9, 2,  19.2166, 2,  35.7957, 2, -999.0000, 9,    223.5, 1,   -999.0, 9,  -999.00, 9,  -999.00, 9,  -999.00, 9,  -999.00, 9, -999.000, 9, -999.000, 9, -999.000, 9,   -999.0, 9,   -999.0, 9, -999.0000, 9,   -999.00, -999.000, 9, -999.000,   -999.0, 9,   -999.0,  -999.00, 9,   -999.0,  19.2157, 25.5748,  19.2141, 2, 4.9, 2, 233.97, 2, -999, -999, -999, -999, -999, 9,  -999.00, 9, -999, -999, 9, -999
49NZ20031106, A10, 77, 1, 36, 12024, 2, 20031127, 1441, -29.4717, 2.2657, 2712,     10.0, 2,  18.9671, 2,  35.8109, 2,  35.8067, 2,    223.5, 1,    235.5, 2,     1.88, 2,     0.03, 2,     0.00, 2,     0.21, 2,    2.803, 2,    1.481, 2,    0.280, 4,   2063.6, 2,   2348.9, 2,    8.0026, 2,     25.00, -999.000, 9, -999.000,   -999.0, 9,   -999.0,  -999.00, 9,   -999.0,  18.9653, 25.6507,  18.9651, 2, 20.2, 2, 233.55, 2, 0.12, 0.03, 0.01, 0.02, -999, 9,  -999.00, 9, -999, -999, 9, -999
49NZ20031106, A10, 77, 1, 35, 12023, 2, 20031127, 1441, -29.4717, 2.2657, 2712,     49.8, 2,  18.5993, 2,  35.8273, 2,  35.8287, 2,    224.9, 1,    237.2, 2,     1.85, 2,     0.00, 2,     0.00, 2,     0.19, 2,    2.836, 2,    1.504, 2,    0.287, 4,   2063.5, 6,   2350.9, 2,    8.0051, 2,     25.00, -999.000, 9, -999.000,   -999.0, 9,   -999.0,  -999.00, 9,   -999.0,  18.5905, 25.7604,  18.5987, 2, 51.2, 2, 233.92, 2, 0.12, 0.03, 0.01, 0.02, -999, 9,  -999.00, 9, -999, -999, 9, -999
49NZ20031106, A10, 77, 1, 34, 12022, 2, 20031127, 1441, -29.4717, 2.2657, 2712,    100.1, 2,  16.7749, 2,  35.6536, 2,  35.6534, 2,    231.4, 1,    243.0, 2,     2.21, 2,     0.33, 2,     0.16, 2,     0.25, 2,    2.977, 2,    1.612, 2,    0.246, 4,   2063.8, 2,   2338.2, 6,    7.9874, 2,     25.00, -999.000, 9, -999.000,   -999.0, 9,   -999.0,  -999.00, 9,   -999.0,  16.7585, 26.0757,  16.7748, 2, 108.2, 2, 243.62, 2, 0.12, 0.03, 0.01, 0.01, -999, 9,  -999.00, 9, -999, -999, 9, -999
49NZ20031106, A10, 77, 1, 4, 12028, 2, 20031127, 1441, -29.4717, 2.2657, 2712,    115.9, 2,  16.5761, 2,  35.6290, 2, -999.0000, 9,    227.0, 1,   -999.0, 9,  -999.00, 9,  -999.00, 9,  -999.00, 9,  -999.00, 9, -999.000, 9, -999.000, 9, -999.000, 9,   -999.0, 9,   -999.0, 9, -999.0000, 9,   -999.00, -999.000, 9, -999.000,   -999.0, 9,   -999.0,  -999.00, 9,   -999.0,  16.5573, 26.1043,  16.5763, 2, 123.9, 2, 240.51, 2, -999, -999, -999, -999, -999, 9,  -999.00, 9, -999, -999, 9, -999
49NZ20031106, A10, 77, 1, 33, 12015, 2, 20031127, 1441, -29.4717, 2.2657, 2712,    150.4, 2,  16.2213, 2,  35.5871, 2,  35.5850, 2,    219.4, 1,    230.4, 2,     2.48, 2,     2.74, 2,     0.02, 2,     0.36, 2,    3.003, 2,    1.595, 2,    0.212, 4,   2075.6, 2,   2336.8, 2,    7.9598, 6,     25.00, -999.000, 9, -999.000,   -999.0, 9,   -999.0,  -999.00, 9,   -999.0,  16.1972, 26.1564,  16.2205, 2, 157.5, 2, 231.03, 2, 0.12, 0.04, 0.01, 0.01, -999, 9,  -999.00, 9, -999, -999, 9, -999
49NZ20031106, A10, 77, 1, 32, 12020, 2, 20031127, 1441, -29.4717, 2.2657, 2712,    200.3, 2,  15.3396, 2,  35.4535, 2,  35.4440, 3,    208.9, 1,    218.0, 2,     2.89, 2,     5.23, 2,     0.01, 2,     0.52, 2,    3.175, 2,    1.669, 2,    0.196, 4,   2091.3, 2,   2327.4, 2,    7.9198, 2,     25.00, -999.000, 9, -999.000,   -999.0, 9,   -999.0,  -999.00, 9,   -999.0,  15.3087, 26.2557,  15.3387, 2, 210.7, 2, 223.03, 2, 0.13, 0.05, 0.01, 0.01, -999, 9,  -999.00, 9, -999, -999, 9, -999
49NZ20031106, A10, 77, 1, 31, 12019, 3, 20031127, 1441, -29.4717, 2.2657, 2712,    248.6, 2,  14.0118, 2,  35.2741, 2,  35.2734, 2,    202.4, 1,    211.9, 2,     3.49, 2,     7.93, 2,     0.01, 2,     0.68, 2,    3.261, 6,    1.715, 6,    0.142, 4,   2105.2, 2,   2316.6, 2,    7.8786, 2,     25.00, -999.000, 9, -999.000,   -999.0, 9,   -999.0,  -999.00, 9,   -999.0,  13.9757, 26.4065,  14.0126, 2, 257.1, 2, 210.53, 2, 0.13, 0.05, 0.01, 0.01, -999, 9,  -999.00, 9, -999, -999, 9, -999
49NZ20031106, A10, 77, 1, 30, 12018, 2, 20031127, 1441, -29.4717, 2.2657, 2712,    301.1, 2,  12.8699, 2,  35.1389, 2,  35.1383, 2,    202.9, 1,    212.5, 2,     4.01, 2,    10.03, 2,     0.01, 2,     0.81, 2,    3.386, 2,    1.753, 2,    0.117, 4,   2112.4, 2,   2309.4, 2,    7.8505, 2,     25.00, -999.000, 9, -999.000,   -999.0, 9,   -999.0,  -999.00, 9,   -999.0,  12.8285, 26.5365,  12.8709, 2, 309.6, 2, 208.44, 2, 0.13, 0.06, 0.01, 0.01, -999, 9,  -999.00, 9, -999, -999, 9, -999
49NZ20031106, A10, 77, 1, 29, 12017, 2, 20031127, 1441, -29.4717, 2.2657, 2712,    401.1, 2,  11.2365, 2,  34.9487, 2,  34.9494, 2,    203.2, 1,    211.9, 2,     5.52, 2,    13.80, 2,     0.01, 2,     1.05, 2,    3.446, 2,    1.715, 2,    0.130, 4,   2124.3, 2,   2302.7, 2,    7.8105, 2,     25.00, -999.000, 9, -999.000,   -999.0, 9,   -999.0,  -999.00, 9,   -999.0,  11.1859, 26.7025,  11.2413, 2, 409.9, 2, 211.88, 2, 0.13, 0.07, 0.01, 0.01, -999, 9,  -999.00, 9, -999, -999, 9, -999
49NZ20031106, A10, 77, 1, 28, 12016, 2, 20031127, 1441, -29.4717, 2.2657, 2712,    499.8, 2,   9.7501, 2,  34.7676, 2,  34.7550, 3,    190.7, 1,    197.7, 2,     8.78, 2,    18.95, 2,     0.01, 2,     1.38, 2,    3.216, 2,    1.562, 2,    0.136, 4,   2145.4, 2,   2295.2, 2,    7.7472, 2,     25.00, -999.000, 9, -999.000,   -999.0, 9,   -999.0,  -999.00, 9,   -999.0,   9.6923, 26.8236,   9.7507, 2, 502.4, 2, 199.18, 2, 0.14, 0.09, 0.01, 0.01, -999, 9,  -999.00, 9, -999, -999, 9, -999
49NZ20031106, A10, 77, 1, 27, 12012, 2, 20031127, 1441, -29.4717, 2.2657, 2712,    601.2, 2,   8.0278, 2,  34.5855, 2,  34.5826, 2,    187.5, 1,    195.0, 2,    12.91, 2,    23.32, 2,     0.01, 2,     1.66, 2,    2.979, 2,    1.404, 2,    0.144, 4,   2160.3, 2,   2287.6, 2,    7.6996, 2,     25.00, -999.000, 9, -999.000,   -999.0, 9,   -999.0,  -999.00, 9,   -999.0,   7.9656, 26.9544,   8.0278, 2, 600.6, 2, 194.92, 2, 0.15, 0.1, 0.01, 0.01, -999, 9,  -999.00, 9, -999, -999, 9, -999
49NZ20031106, A10, 77, 1, 26, 12014, 2, 20031127, 1441, -29.4717, 2.2657, 2712,    701.0, 2,   6.0973, 2,  34.4157, 2,  34.4145, 2,    197.0, 1,    204.7, 2,    18.22, 2,    27.14, 2,     0.00, 2,     1.90, 2,    2.908, 2,    1.337, 2,    0.127, 4,   2173.1, 6,   2284.2, 2,    7.6673, 2,     25.00, -999.000, 9, -999.000,   -999.0, 9,   -999.0,  -999.00, 9,   -999.0,   6.0346, 27.0871,   6.0977, 2, 701.8, 2, 203.94, 2, 0.16, 0.11, 0.01, 0.01, -999, 9,  -999.00, 9, -999, -999, 9, -999
49NZ20031106, A10, 77, 1, 25, 12013, 2, 20031127, 1441, -29.4717, 2.2657, 2712,    801.4, 2,   5.0216, 2,  34.3559, 2,  34.3552, 2,    199.2, 1,    207.2, 2,    23.85, 2,    29.43, 2,     0.00, 2,     2.04, 2,    2.558, 2,    1.171, 2,    0.112, 4,   2184.0, 2,   2286.9, 6,    7.6467, 2,     25.00, -999.000, 9, -999.000,   -999.0, 9,   -999.0,  -999.00, 9,   -999.0,   4.9560, 27.1699,   5.0221, 2, 801.3, 2, 207.13, 2, 0.17, 0.12, 0.01, 0.02, -999, 9,  -999.00, 9, -999, -999, 9, -999
49NZ20031106, A10, 77, 1, 24, 12048, 2, 20031127, 1441, -29.4717, 2.2657, 2712,    901.2, 2,   4.3861, 2,  34.3566, 2,  34.3569, 2,    192.0, 1,    199.2, 2,    30.74, 2,    31.16, 2,     0.00, 2,     2.17, 2,    1.907, 2,    0.885, 2,    0.112, 4,   2196.3, 2,   2294.1, 2,    7.6228, 6,     25.00, -999.000, 9, -999.000,   -999.0, 9,   -999.0,  -999.00, 9,   -999.0,   4.3161, 27.2413,   4.3863, 2, 901.7, 2, 200.09, 2, 0.19, 0.12, 0.01, 0.02, -999, 9,  -999.00, 9, -999, -999, 9, -999
49NZ20031106, A10, 77, 1, 9, 12033, 9, 20031127, 1441, -29.4717, 2.2657, 2712,   1000.9, 2,   3.7335, 2,  34.3797, 2, -999.0000, 9,    188.1, 1,   -999.0, 9,  -999.00, 9,  -999.00, 9,  -999.00, 9,  -999.00, 9, -999.000, 9, -999.000, 9, -999.000, 9,   -999.0, 9,   -999.0, 9, -999.0000, 9,   -999.00, -999.000, 9, -999.000,   -999.0, 9,   -999.0,  -999.00, 9,   -999.0,   3.6600, 27.3274,   3.7336, 2, 1001.5, 2, 195.01, 2, -999, -999, -999, -999, -999, 9,  -999.00, 9, -999, -999, 9, -999
49NZ20031106, A10, 77, 1, 2, 12026, 9, 20031127, 1441, -29.4717, 2.2657, 2712,   1001.0, 2,   3.7311, 2,  34.3803, 2, -999.0000, 9,    188.1, 1,   -999.0, 9,  -999.00, 9,  -999.00, 9,  -999.00, 9,  -999.00, 9, -999.000, 9, -999.000, 9, -999.000, 9,   -999.0, 9,   -999.0, 9, -999.0000, 9,   -999.00, -999.000, 9, -999.000,   -999.0, 9,   -999.0,  -999.00, 9,   -999.0,   3.6576, 27.328,   3.7312, 2, 1001.8, 2, 195.02, 2, -999, -999, -999, -999, -999, 9,  -999.00, 9, -999, -999, 9, -999
49NZ20031106, A10, 77, 1, 1, 12025, 9, 20031127, 1441, -29.4717, 2.2657, 2712,   1001.0, 2,   3.7313, 2,  34.3802, 2, -999.0000, 9,    188.1, 1,   -999.0, 9,  -999.00, 9,  -999.00, 9,  -999.00, 9,  -999.00, 9, -999.000, 9, -999.000, 9, -999.000, 9,   -999.0, 9,   -999.0, 9, -999.0000, 9,   -999.00, -999.000, 9, -999.000,   -999.0, 9,   -999.0,  -999.00, 9,   -999.0,   3.6578, 27.3281,   3.7314, 2, 1001.8, 2, 195.02, 2, -999, -999, -999, -999, -999, 9,  -999.00, 9, -999, -999, 9, -999
49NZ20031106, A10, 77, 1, 23, 12047, 2, 20031127, 1441, -29.4717, 2.2657, 2712,   1001.1, 2,   3.7309, 2,  34.3804, 2,  34.3822, 2,    188.1, 1,    195.0, 2,    39.61, 2,    32.41, 2,    -0.01, 2,     2.25, 2,    1.347, 6,    0.644, 6,    0.046, 4,   2208.6, 2,   2303.2, 2,    7.6099, 2,     25.00, -999.000, 9, -999.000,   -999.0, 9,   -999.0,  -999.00, 9,   -999.0,   3.6574, 27.3283,   3.7310, 2, 1001.9, 2, 195.03, 2, 0.21, 0.12, 0.01, 0.02, -999, 9,  -999.00, 9, -999, -999, 9, -999
49NZ20031106, A10, 77, 1, 10, 12034, 9, 20031127, 1441, -29.4717, 2.2657, 2712,   1001.2, 2,   3.7327, 2,  34.3798, 2, -999.0000, 9,    188.2, 1,   -999.0, 9,  -999.00, 9,  -999.00, 9,  -999.00, 9,  -999.00, 9, -999.000, 9, -999.000, 9, -999.000, 9,   -999.0, 9,   -999.0, 9, -999.0000, 9,   -999.00, -999.000, 9, -999.000,   -999.0, 9,   -999.0,  -999.00, 9,   -999.0,   3.6592, 27.3277,   3.7328, 2, 1001.9, 2, 195.03, 2, -999, -999, -999, -999, -999, 9,  -999.00, 9, -999, -999, 9, -999
49NZ20031106, A10, 77, 1, 8, 12032, 9, 20031127, 1441, -29.4717, 2.2657, 2712,   1001.2, 2,   3.7323, 2,  34.3800, 2, -999.0000, 9,    188.1, 1,   -999.0, 9,  -999.00, 9,  -999.00, 9,  -999.00, 9,  -999.00, 9, -999.000, 9, -999.000, 9, -999.000, 9,   -999.0, 9,   -999.0, 9, -999.0000, 9,   -999.00, -999.000, 9, -999.000,   -999.0, 9,   -999.0,  -999.00, 9,   -999.0,   3.6588, 27.3279,   3.7324, 2, 1001.9, 2, 195.03, 2, -999, -999, -999, -999, -999, 9,  -999.00, 9, -999, -999, 9, -999
49NZ20031106, A10, 77, 1, 22, 12046, 2, 20031127, 1441, -29.4717, 2.2657, 2712,   1202.3, 2,   3.2851, 2,  34.4789, 2,  34.4791, 2,    176.3, 1,    183.0, 2,    50.57, 2,    33.12, 2,    -0.01, 2,     2.30, 2,    0.578, 2,    0.298, 2,    0.036, 4,   2227.8, 2,   2314.1, 2,    7.5954, 2,     25.00, -999.000, 9, -999.000,   -999.0, 9,   -999.0,  -999.00, 9,   -999.0,   3.1990, 27.4508,   3.2849, 2, 1201.1, 2, 182.33, 2, 0.23, 0.13, 0.01, 0.02, -999, 9,  -999.00, 9, -999, -999, 9, -999
49NZ20031106, A10, 77, 1, 21, 12045, 2, 20031127, 1441, -29.4717, 2.2657, 2712,   1401.1, 2,   3.0443, 2,  34.6175, 2,  34.6189, 2,    176.8, 1,    183.2, 2,    54.49, 2,    31.62, 2,    -0.01, 2,     2.20, 2,    0.163, 2,    0.091, 2,    0.000, 4,   2228.6, 2,   2322.6, 2,    7.6072, 2,     25.00, -999.000, 9, -999.000,   -999.0, 9,   -999.0,  -999.00, 9,   -999.0,   2.9441, 27.5851,   3.0444, 2, 1401, 2, 183.34, 2, 0.24, 0.12, 0.01, 0.02, -999, 9,  -999.00, 9, -999, -999, 9, -999
49NZ20031106, A10, 77, 1, 20, 12044, 2, 20031127, 1441, -29.4717, 2.2657, 2712,   1600.4, 2,   3.0099, 2,  34.7200, 2,  34.7195, 2,    186.9, 1,    193.6, 2,    51.16, 2,    29.36, 2,     0.00, 2,     2.03, 2,    0.052, 2,    0.032, 2,    0.000, 4,   2220.8, 2,   2326.9, 2,    7.6339, 2,     25.00, -999.000, 9, -999.000,   -999.0, 9,   -999.0,  -999.00, 9,   -999.0,   2.8931, 27.6717,   3.0100, 2, 1600.3, 2, 193.54, 2, 0.23, 0.11, 0.01, 0.02, -999, 9,  -999.00, 9, -999, -999, 9, -999
49NZ20031106, A10, 77, 1, 19, 12043, 2, 20031127, 1441, -29.4717, 2.2657, 2712,   1801.2, 2,   2.9426, 2,  34.7917, 2,  34.7917, 2,    200.1, 1,    207.5, 2,    47.59, 2,    27.05, 2,    -0.01, 2,     1.86, 2,    0.012, 2,    0.010, 2,    0.000, 4,   2211.7, 2,   2328.4, 2,    7.6617, 2,     25.00, -999.000, 9, -999.000,   -999.0, 9,   -999.0,  -999.00, 9,   -999.0,   2.8091, 27.7366,   2.9427, 2, 1801.3, 2, 207.04, 2, 0.22, 0.11, 0.01, 0.01, -999, 9,  -999.00, 9, -999, -999, 9, -999
49NZ20031106, A10, 77, 1, 18, 12042, 2, 20031127, 1441, -29.4717, 2.2657, 2712,   2002.0, 2,   2.8580, 2,  34.8306, 2,  34.8299, 2,    210.7, 1,    218.1, 2,    45.47, 2,    25.54, 2,     0.00, 2,     1.76, 2,    0.000, 2,    0.003, 2,    0.000, 4,   2204.6, 2,   2329.4, 2,    7.6819, 6,     25.00, -999.000, 9, -999.000,   -999.0, 9,   -999.0,  -999.00, 9,   -999.0,   2.7078, 27.7767,   2.8582, 2, 2001.7, 2, 218.01, 2, 0.22, 0.1, 0.01, 0.01, -999, 9,  -999.00, 9, -999, -999, 9, -999
49NZ20031106, A10, 77, 1, 13, 12037, 9, 20031127, 1441, -29.4717, 2.2657, 2712,   2099.3, 2,   2.7774, 2,  34.8330, 2, -999.0000, 9,    212.8, 1,   -999.0, 9,  -999.00, 9,  -999.00, 9,  -999.00, 9,  -999.00, 9, -999.000, 9, -999.000, 9, -999.000, 9,   -999.0, 9,   -999.0, 9, -999.0000, 9,   -999.00, -999.000, 9, -999.000,   -999.0, 9,   -999.0,  -999.00, 9,   -999.0,   2.6196, 27.7865,   2.7776, 2, 2099.1, 2, 219.96, 2, -999, -999, -999, -999, -999, 9,  -999.00, 9, -999, -999, 9, -999
49NZ20031106, A10, 77, 1, 17, 12041, 2, 20031127, 1441, -29.4717, 2.2657, 2712,   2200.5, 2,   2.6396, 2,  34.8314, 2,  34.8310, 2,    214.4, 1,    221.6, 2,    49.93, 2,    25.34, 2,     0.00, 2,     1.76, 2,    0.007, 2,    0.005, 2,    0.000, 4,   2205.2, 2,   2332.1, 2,    7.6867, 2,     25.00, -999.000, 9, -999.000,   -999.0, 9,   -999.0,  -999.00, 9,   -999.0,   2.4748, 27.7976,   2.6401, 2, 2200.5, 2, 221.42, 2, 0.23, 0.1, 0.01, 0.01, -999, 9,  -999.00, 9, -999, -999, 9, -999
49NZ20031106, A10, 77, 1, 12, 12036, 9, 20031127, 1441, -29.4717, 2.2657, 2712,   2298.9, 2,   2.5775, 2,  34.8367, 2, -999.0000, 9,    216.6, 1,   -999.0, 9,  -999.00, 9,  -999.00, 9,  -999.00, 9,  -999.00, 9, -999.000, 9, -999.000, 9, -999.000, 9,   -999.0, 9,   -999.0, 9, -999.0000, 9,   -999.00, -999.000, 9, -999.000,   -999.0, 9,   -999.0,  -999.00, 9,   -999.0,   2.4046, 27.8078,   2.5776, 2, 2299.1, 2, 223.32, 2, -999, -999, -999, -999, -999, 9,  -999.00, 9, -999, -999, 9, -999
49NZ20031106, A10, 77, 1, 16, 12040, 2, 20031127, 1441, -29.4717, 2.2657, 2712,   2401.0, 2,   2.5351, 2,  34.8418, 2,  34.8412, 2,    218.8, 1,    225.6, 2,    50.89, 2,    24.93, 2,     0.00, 2,     1.73, 2, -999.000, 5, -999.000, 5, -999.000, 5,   2204.8, 6,   2332.8, 2,    7.6935, 2,     25.00, -999.000, 9, -999.000,   -999.0, 9,   -999.0,  -999.00, 9,   -999.0,   2.3535, 27.8163,   2.5353, 2, 2401.1, 2, 225.42, 2, 0.23, 0.1, 0.01, 0.01, -999, 9,  -999.00, 9, -999, -999, 9, -999
49NZ20031106, A10, 77, 1, 11, 12035, 9, 20031127, 1441, -29.4717, 2.2657, 2712,   2500.8, 2,   2.4892, 2,  34.8457, 2, -999.0000, 9,    220.6, 1,   -999.0, 9,  -999.00, 9,  -999.00, 9,  -999.00, 9,  -999.00, 9, -999.000, 9, -999.000, 9, -999.000, 9,   -999.0, 9,   -999.0, 9, -999.0000, 9,   -999.00, -999.000, 9, -999.000,   -999.0, 9,   -999.0,  -999.00, 9,   -999.0,   2.2990, 27.824,   2.4893, 2, 2501, 2, 227.06, 2, -999, -999, -999, -999, -999, 9,  -999.00, 9, -999, -999, 9, -999
49NZ20031106, A10, 77, 1, 15, 12039, 2, 20031127, 1441, -29.4717, 2.2657, 2712,   2601.1, 2,   2.4103, 2,  34.8514, 2,  34.8512, 2,    223.1, 1,    229.4, 2,    52.25, 2,    24.55, 2,     0.00, 2,     1.69, 2,    0.005, 2,   -0.001, 2,    0.000, 4,   2205.2, 2,   2340.2, 6,    7.7013, 4,     25.00, -999.000, 9, -999.000,   -999.0, 9,   -999.0,  -999.00, 9,   -999.0,   2.2120, 27.8357,   2.4104, 2, 2601.2, 2, 229.55, 2, 0.23, 0.1, 0.01, 0.01, -999, 9,  -999.00, 9, -999, -999, 9, -999
49NZ20031106, A10, 77, 1, 3, 12027, 2, 20031127, 1441, -29.4717, 2.2657, 2712,   2601.2, 2,   2.4103, 2,  34.8513, 2,  34.8510, 2,    223.0, 1,    229.6, 2,    52.32, 2,    24.56, 2,     0.00, 2,     1.70, 2,    0.004, 2,    0.003, 2,    0.000, 4,   2206.9, 2,   2338.8, 2,    7.7011, 2,     25.00, -999.000, 9, -999.000,   -999.0, 9,   -999.0,  -999.00, 9,   -999.0,   2.2120, 27.8358,   2.4102, 2, 2601.3, 2, 229.53, 2, 0.23, 0.1, 0.01, 0.01, -999, 9,  -999.00, 9, -999, -999, 9, -999
49NZ20031106, A10, 77, 1, 14, 12038, 2, 20031127, 1441, -29.4717, 2.2657, 2712,   2736.8, 2,   2.2985, 2,  34.8624, 2,  34.8621, 2,    225.9, 1,    231.7, 2,    53.26, 2,    24.16, 2,     0.00, 2,     1.66, 2,   -0.005, 2,   -0.002, 2,    0.000, 4,   2208.2, 2,   2343.1, 2,    7.7099, 2,     25.00, -999.000, 9, -999.000,   -999.0, 9,   -999.0,  -999.00, 9,   -999.0,   2.0893, 27.8547,   2.2986, 2, 2736.8, 2, 232.16, 2, 0.24, 0.1, 0.01, 0.01, -999, 9,  -999.00, 9, -999, -999, 9, -999