BOTTLE,20220818CCHSIOAMB
EXPOCODE,SECT_ID,STNNBR,CASTNO,SAMPNO,BTLNBR,BTLNBR_FLAG_W,DATE,TIME,LATITUDE,LONGITUDE,DEPTH,CTDPRS,CTDPRS_FLAG_W,CTDTMP,CTDTMP_FLAG_W,CTDSAL,CTDSAL_FLAG_W,SALNTY,SALNTY_FLAG_W,CTDOXY,CTDOXY_FLAG_W,OXYGEN,OXYGEN_FLAG_W,SILCAT,SILCAT_FLAG_W,NITRAT,NITRAT_FLAG_W,NITRIT,NITRIT_FLAG_W,PHSPHT,PHSPHT_FLAG_W,CFC-11,CFC-11_FLAG_W,CFC-12,CFC-12_FLAG_W,CFC113,CFC113_FLAG_W,TCARBN,TCARBN_FLAG_W,ALKALI,ALKALI_FLAG_W,PH_TOT,PH_TOT_FLAG_W,PH_TMP,TRITUM,TRITUM_FLAG_W,TRITER,DELC14,DELC14_FLAG_W,C14ERR,DELC13,DELC13_FLAG_W,C13ERR,THETA,SIG0,SBE35,SBE35_FLAG_W,DWNPRS,DWNPRS_FLAG_W,DWNOXY,DWNOXY_FLAG_W,SILUNC,NRAUNC,NRIUNC,PHPUNC,TOC,TOC_FLAG_W,CS-137,CS-137_FLAG_W,CS137ER,PLUTO,PLUTO_FLAG_W,PLUTOER
,,,,,,,,,,,METERS,DBAR,,ITS-90,,PSS-78,,PSS-78,,UMOL/KG,,UMOL/KG,,UMOL/KG,,UMOL/KG,,UMOL/KG,,UMOL/KG,,PMOL/KG,,PMOL/KG,,PMOL/KG,,UMOL/KG,,UMOL/KG,,,,DEG C,TU,,TU,/MILLE,,/MILLE,/MILLE,,/MILLE,DEG C,KG/M^3,ITS-90,,DBAR,,UMOL/KG,,UMOL/KG,UMOL/KG,UMOL/KG,UMOL/KG,UMOL/KG,,BQ/M^3,,BQ/M^3,MBQ/M^3,,MBQ/M^3
49NZ20031106, A10, 38, 1, 36, 12036, 2, 20031117, 441, -30.0023, -26.7182, 5278,     10.1, 2,  18.7698, 2,  35.6168, 2,  35.6171, 2,    223.0, 1,    235.6, 2,     0.84, 2,     0.03, 2,     0.00, 2,     0.11, 2,    2.794, 2,    1.484, 2,    0.321, 4,   2062.9, 2,   2339.8, 2,    7.9954, 2,     25.00, -999.000, 9, -999.000,    102.1, 2,      3.9,     1.49, 2,      0.0,  18.7680, 25.5534,  18.7679, 2, 11.3, 2, 235.52, 2, 0.12, 0.03, 0.01, 0.02, -999, 1,  -999.00, 9, -999, -999, 9, -999
49NZ20031106, A10, 38, 1, 35, 12035, 2, 20031117, 441, -30.0023, -26.7182, 5278,     50.8, 2,  17.7133, 2,  35.6179, 2,  35.6263, 2,    228.7, 1,    241.1, 2,     0.85, 2,     0.01, 2,     0.01, 2,     0.11, 2,    2.949, 2,    1.566, 2,    0.297, 4,   2059.7, 6,   2341.5, 2,    7.9987, 2,     25.00, -999.000, 9, -999.000,     85.6, 2,      3.8,     1.47, 2,      0.0,  17.7047, 25.8197,  17.7119, 2, 51, 2, 240.87, 2, 0.12, 0.03, 0.01, 0.02, -999, 1,  -999.00, 9, -999, -999, 9, -999
49NZ20031106, A10, 38, 1, 34, 12034, 2, 20031117, 441, -30.0023, -26.7182, 5278,    100.0, 2,  16.3675, 2,  35.5694, 2,  35.5691, 2,    230.2, 1,    242.4, 2,     0.89, 2,     0.02, 2,     0.00, 2,     0.15, 2,    3.047, 2,    1.616, 2,    0.314, 4,   2065.6, 2,   2334.9, 6,    7.9858, 2,     25.00, -999.000, 9, -999.000,     94.6, 2,      3.8,     1.45, 2,      0.0,  16.3514, 26.1054,  16.3676, 2, 105.2, 2, 242.32, 2, 0.12, 0.03, 0.01, 0.02, -999, 1,  -999.00, 9, -999, -999, 9, -999
49NZ20031106, A10, 38, 1, 33, 12033, 2, 20031117, 441, -30.0023, -26.7182, 5278,    149.8, 2,  15.5328, 2,  35.5227, 2,  35.5201, 2,    210.6, 1,    222.0, 2,     1.42, 2,     3.00, 2,     0.03, 2,     0.36, 2,    3.118, 2,    1.633, 2,    0.138, 4,   2088.2, 2,   2335.9, 2,    7.9390, 6,     25.00, -999.000, 9, -999.000,     89.7, 2,      3.8,     1.25, 2,      0.0,  15.5095, 26.2621,  15.5315, 2, 151.6, 2, 225.29, 2, 0.12, 0.04, 0.01, 0.01, -999, 1,  -999.00, 9, -999, -999, 9, -999
49NZ20031106, A10, 38, 1, 32, 12032, 2, 20031117, 441, -30.0023, -26.7182, 5278,    200.2, 2,  14.4822, 2,  35.3901, 2,  35.3893, 2,    204.7, 1,    214.7, 2,     2.06, 2,     5.92, 2,     0.01, 2,     0.53, 2,    3.278, 2,    1.685, 2,    0.075, 4,   2099.3, 2,   2328.5, 2,    7.9052, 2,     25.00, -999.000, 9, -999.000,     86.0, 2,      3.8,     1.17, 6,      0.0,  14.4525, 26.3925,  14.4834, 2, 205.3, 2, 214.99, 2, 0.12, 0.05, 0.01, 0.01, -999, 1,  -999.00, 9, -999, -999, 9, -999
49NZ20031106, A10, 38, 1, 31, 12031, 2, 20031117, 441, -30.0023, -26.7182, 5278,    248.4, 2,  13.8735, 2,  35.3262, 2,  35.3242, 2,    206.2, 1,    216.3, 2,     2.29, 2,     7.21, 2,     0.00, 2,     0.60, 2,    3.243, 6,    1.695, 6,    0.081, 4,   2103.9, 2,   2323.7, 2,    7.8922, 2,     25.00, -999.000, 9, -999.000,     83.8, 2,      3.8,     1.22, 2,      0.0,  13.8376, 26.4736,  13.8744, 2, 251.5, 2, 216.01, 2, 0.12, 0.05, 0.01, 0.01, -999, 1,  -999.00, 9, -999, -999, 9, -999
49NZ20031106, A10, 38, 1, 30, 12030, 2, 20031117, 441, -30.0023, -26.7182, 5278,    300.9, 2,  13.0112, 2,  35.2047, 2,  35.2052, 2,    205.0, 1,    215.1, 2,     2.89, 2,     9.33, 2,     0.01, 2,     0.73, 2,    3.336, 2,    1.719, 2,    0.076, 4,   2110.0, 2,   2315.6, 2,    7.8671, 2,     25.00, -999.000, 9, -999.000,     74.5, 2,      3.8,     0.97, 3,      0.0,  12.9695, 26.558,  13.0117, 2, 304.6, 2, 215.03, 2, 0.13, 0.06, 0.01, 0.01, -999, 1,  -999.00, 9, -999, -999, 9, -999
49NZ20031106, A10, 38, 1, 29, 12029, 2, 20031117, 441, -30.0023, -26.7182, 5278,    399.6, 2,  11.2405, 2,  34.9599, 2,  34.9600, 2,    201.0, 1,    210.5, 2,     4.81, 2,    13.98, 2,     0.00, 2,     1.02, 2,    3.336, 2,    1.675, 2,    0.076, 4,   2123.9, 2,   2301.7, 2,    7.8151, 2,     25.00, -999.000, 9, -999.000,     63.0, 2,      3.9,     1.15, 2,      0.0,  11.1901, 26.7093,  11.2442, 2, 404.1, 2, 211.4, 2, 0.13, 0.07, 0.01, 0.01, -999, 1,  -999.00, 9, -999, -999, 9, -999
49NZ20031106, A10, 38, 1, 28, 12028, 2, 20031117, 441, -30.0023, -26.7182, 5278,    498.7, 2,   9.4670, 2,  34.7448, 2,  34.7444, 2,    196.5, 1,    205.4, 2,     7.71, 2,    18.91, 2,     0.00, 2,     1.33, 2,    3.149, 2,    1.544, 2,    0.087, 4,   2140.1, 2,   2295.1, 2,    7.7621, 2,     25.00, -999.000, 9, -999.000,     45.9, 2,      3.7,     1.07, 2,      0.0,   9.4104, 26.8512,   9.4670, 2, 505.2, 2, 205.92, 2, 0.14, 0.09, 0.01, 0.01, -999, 1,  -999.00, 9, -999, -999, 9, -999
49NZ20031106, A10, 38, 1, 27, 12027, 2, 20031117, 441, -30.0023, -26.7182, 5278,    600.7, 2,   7.3902, 2,  34.5101, 2,  34.5087, 2,    203.7, 1,    212.6, 2,    11.00, 2,    23.53, 2,     0.00, 2,     1.62, 2,    3.183, 2,    1.517, 2,    0.139, 4,   2152.9, 2,   2284.7, 2,    7.7149, 2,     25.00, -999.000, 9, -999.000,     19.1, 2,      3.7,     1.14, 2,      0.0,   7.3310, 26.9861,   7.3901, 2, 601.3, 2, 212.52, 2, 0.14, 0.1, 0.01, 0.01, -999, 1,  -999.00, 9, -999, -999, 9, -999
49NZ20031106, A10, 38, 1, 26, 12026, 2, 20031117, 441, -30.0023, -26.7182, 5278,    699.9, 2,   5.6649, 2,  34.3505, 2,  34.3507, 2,    215.2, 1,    225.0, 2,    15.09, 2,    26.75, 2,     0.00, 2,     1.83, 2,    3.055, 2,    1.459, 2,    0.138, 4,   2161.2, 6,   2282.4, 2,    7.6886, 2,     25.00, -999.000, 9, -999.000,    -13.8, 2,      3.6,     1.18, 2,      0.0,   5.6047, 27.0884,   5.6659, 2, 701.8, 2, 224.34, 2, 0.15, 0.11, 0.01, 0.01, -999, 1,  -999.00, 9, -999, -999, 9, -999
49NZ20031106, A10, 38, 1, 25, 12025, 2, 20031117, 441, -30.0023, -26.7182, 5278,    800.4, 2,   4.7677, 2,  34.2985, 2,  34.2987, 2,    217.7, 1,    228.2, 2,    19.80, 2,    28.56, 2,     0.00, 2,     1.95, 2,    2.849, 2,    1.334, 2,    0.121, 4,   2170.4, 2,   2286.7, 6,    7.6707, 2,     25.00, -999.000, 9, -999.000,    -27.4, 2,      3.6,     1.12, 2,      0.0,   4.7039, 27.1531,   4.7651, 2, 802.1, 2, 227.08, 2, 0.16, 0.11, 0.01, 0.01, -999, 1,  -999.00, 9, -999, -999, 9, -999
49NZ20031106, A10, 38, 1, 24, 12024, 2, 20031117, 441, -30.0023, -26.7182, 5278,    900.6, 2,   4.0624, 2,  34.2853, 2,  34.2852, 2,    215.4, 1,    225.7, 2,    25.78, 2,    30.19, 2,     0.00, 2,     2.06, 2,    2.362, 2,    1.090, 2,    0.104, 4,   2180.7, 2,   2291.1, 2,    7.6541, 6,     25.00, -999.000, 9, -999.000,    -53.8, 2,      5.9,     1.06, 2,      0.0,   3.9948, 27.2186,   4.0619, 2, 900.2, 2, 225.3, 2, 0.18, 0.12, 0.01, 0.02, -999, 1,  -999.00, 9, -999, -999, 9, -999
49NZ20031106, A10, 38, 1, 23, 12023, 2, 20031117, 441, -30.0023, -26.7182, 5278,   1000.2, 2,   3.6219, 2,  34.3078, 2,  34.3075, 2,    207.5, 1,    217.7, 2,    32.73, 2,    31.43, 2,     0.00, 2,     2.15, 2,    1.799, 6,    0.845, 6,    0.085, 4,   2192.3, 2,   2298.0, 2,    7.6360, 2,     25.00, -999.000, 9, -999.000,    -65.0, 2,      3.5,     0.96, 2,      0.0,   3.5495, 27.2813,   3.6215, 2, 998.4, 2, 215.95, 2, 0.19, 0.12, 0.01, 0.02, -999, 1,  -999.00, 9, -999, -999, 9, -999
49NZ20031106, A10, 38, 1, 1, 12037, 2, 20031117, 441, -30.0023, -26.7182, 5278,   1200.5, 2,   3.0801, 2,  34.4307, 2,  34.4316, 2,    186.2, 1,    195.1, 2,    48.42, 2,    32.99, 2,    -0.01, 2,     2.27, 2,    0.686, 2,    0.349, 2,    0.022, 4,   2218.8, 2,   2309.5, 2,    7.6072, 2,     25.00, -999.000, 9, -999.000,   -103.5, 2,      3.4,     0.75, 2,      0.0,   2.9961, 27.4317,   3.0801, 2, 1200.7, 2, 195.38, 2, 0.23, 0.13, 0.01, 0.02, -999, 1,  -999.00, 9, -999, -999, 9, -999
49NZ20031106, A10, 38, 1, 21, 12015, 2, 20031117, 441, -30.0023, -26.7182, 5278,   1400.0, 2,   2.9033, 2,  34.5624, 2,  34.5627, 2,    179.8, 1,    188.6, 2,    55.10, 2,    32.30, 2,     0.00, 2,     2.21, 2,    0.228, 2,    0.129, 2,    0.005, 4,   2227.1, 2,   2324.2, 2,    7.6091, 2,     25.00, -999.000, 9, -999.000,   -120.7, 6,      4.2,     0.66, 6,      0.0,   2.8048, 27.554,   2.9033, 2, 1399.8, 2, 188.52, 2, 0.24, 0.12, 0.01, 0.02, -999, 1,  -999.00, 9, -999, -999, 9, -999
49NZ20031106, A10, 38, 1, 20, 12020, 2, 20031117, 441, -30.0023, -26.7182, 5278,   1601.4, 2,   2.8380, 2,  34.6657, 2,  34.6671, 2,    185.2, 1,    194.5, 2,    55.24, 2,    30.43, 2,     0.00, 2,     2.08, 2,    0.081, 2,    0.050, 2,    0.000, 4,   2224.8, 2,   2327.5, 2,    7.6283, 2,     25.00, -999.000, 9, -999.000,   -132.9, 2,      3.4,     0.62, 2,      0.0,   2.7234, 27.644,   2.8378, 2, 1600, 2, 194.49, 2, 0.24, 0.12, 0.01, 0.02, -999, 1,  -999.00, 9, -999, -999, 9, -999
49NZ20031106, A10, 38, 1, 19, 12019, 2, 20031117, 441, -30.0023, -26.7182, 5278,   1800.3, 2,   2.7571, 2,  34.7483, 2,  34.7494, 2,    196.5, 1,    206.5, 2,    52.89, 2,    28.16, 2,     0.00, 2,     1.91, 2,    0.029, 2,    0.017, 2,    0.000, 4,   2216.4, 2,   2326.7, 2,    7.6555, 2,     25.00, -999.000, 9, -999.000,   -127.5, 2,      3.5,     0.73, 2,      0.0,   2.6264, 27.7185,   2.7570, 2, 1798.5, 2, 207.24, 2, 0.24, 0.11, 0.01, 0.01, -999, 1,  -999.00, 9, -999, -999, 9, -999
49NZ20031106, A10, 38, 1, 18, 12018, 2, 20031117, 441, -30.0023, -26.7182, 5278,   2000.6, 2,   2.7263, 2,  34.8021, 2,  34.8023, 2,    207.0, 1,    217.7, 2,    49.36, 2,    26.44, 2,     0.00, 2,     1.78, 2,    0.008, 2,    0.005, 2,    0.000, 4,   2206.3, 2,   2332.1, 2,    7.6793, 6,     25.00, -999.000, 9, -999.000,   -116.9, 2,      3.4,     0.81, 2,      0.0,   2.5783, 27.7656,   2.7263, 2, 1999.8, 2, 217.95, 2, 0.23, 0.11, 0.01, 0.01, -999, 1,  -999.00, 9, -999, -999, 9, -999
49NZ20031106, A10, 38, 1, 17, 12017, 2, 20031117, 441, -30.0023, -26.7182, 5278,   2200.9, 2,   2.7000, 2,  34.8359, 2,  34.8371, 2,    215.7, 1,    227.2, 2,    45.98, 2,    24.93, 2,     0.00, 2,     1.68, 2,    0.013, 2,    0.004, 2,    0.000, 4,   2199.7, 2,   2329.2, 2,    7.6968, 2,     25.00, -999.000, 9, -999.000,   -119.3, 2,      3.2,     0.88, 2,      0.0,   2.5341, 27.7966,   2.7000, 2, 2200.4, 2, 227.17, 2, 0.22, 0.1, 0.01, 0.01, -999, 1,  -999.00, 9, -999, -999, 9, -999
49NZ20031106, A10, 38, 1, 16, 12016, 2, 20031117, 441, -30.0023, -26.7182, 5278,   2401.5, 2,   2.7110, 2,  34.8634, 2,  34.8643, 2,    222.9, 1,    235.0, 2,    42.42, 2,    23.72, 2,     0.00, 2,     1.60, 2,    0.003, 2,    0.002, 2,    0.000, 4,   2191.4, 6,   2325.6, 2,    7.7110, 2,     25.00, -999.000, 9, -999.000,   -105.0, 2,      3.5,     0.92, 2,      0.0,   2.5261, 27.8194,   2.7109, 2, 2401.5, 2, 234.22, 2, 0.21, 0.1, 0.01, 0.01, -999, 1,  -999.00, 9, -999, -999, 9, -999
49NZ20031106, A10, 38, 1, 15, 12012, 2, 20031117, 441, -30.0023, -26.7182, 5278,   2601.2, 2,   2.7267, 2,  34.8859, 2,  34.8856, 2,    229.0, 1,    241.5, 2,    38.93, 2,    22.67, 2,     0.00, 2,     1.52, 2,    0.002, 2,    0.000, 2,    0.000, 4,   2186.6, 2,   2332.0, 3,    7.7237, 2,     25.00, -999.000, 9, -999.000,   -117.3, 3,      3.4,     0.94, 2,      0.0,   2.5222, 27.8376,   2.7267, 2, 2601.4, 2, 240.57, 2, 0.2, 0.1, 0.01, 0.01, -999, 1,  -999.00, 9, -999, -999, 9, -999
49NZ20031106, A10, 38, 1, 14, 12014, 2, 20031117, 441, -30.0023, -26.7182, 5278,   2801.6, 2,   2.7040, 2,  34.8971, 2,  34.8975, 2,    232.6, 1,    245.6, 2,    37.51, 2,    22.06, 2,    -0.01, 2,     1.49, 2,    0.000, 2,   -0.001, 2,    0.000, 4,   2180.3, 2,   2324.4, 2,    7.7307, 6,     25.00, -999.000, 9, -999.000,   -106.6, 2,      3.4,     1.01, 2,      0.0,   2.4800, 27.8502,   2.7039, 2, 2802, 2, 244.92, 2, 0.2, 0.09, 0.01, 0.01, -999, 1,  -999.00, 9, -999, -999, 9, -999
49NZ20031106, A10, 38, 1, 13, 12013, 2, 20031117, 441, -30.0023, -26.7182, 5278,   3001.2, 2,   2.6357, 2,  34.9002, 2,  34.9005, 2,    234.9, 1,    247.8, 2,    38.07, 2,    21.88, 2,     0.00, 2,     1.47, 2,   -0.008, 2,   -0.003, 2,    0.000, 4,   2181.7, 2,   2323.4, 2,    7.7340, 2,     25.00, -999.000, 9, -999.000,   -102.1, 2,      3.4,     0.98, 2,      0.0,   2.3929, 27.8602,   2.6355, 2, 3001.6, 2, 247.74, 2, 0.2, 0.09, 0.01, 0.01, -999, 1,  -999.00, 9, -999, -999, 9, -999
49NZ20031106, A10, 38, 1, 12, 12048, 2, 20031117, 441, -30.0023, -26.7182, 5278,   3250.6, 2,   2.4451, 2,  34.8874, 2,  34.8879, 2,    234.3, 1,    247.3, 2,    43.58, 2,    22.42, 2,     0.00, 2,     1.51, 2, -999.000, 5, -999.000, 5, -999.000, 9,   2186.6, 2,   2331.0, 2,    7.7303, 2,     25.00, -999.000, 9, -999.000,   -108.8, 2,      3.4,     0.98, 2,      0.0,   2.1807, 27.8677,   2.4453, 2, 3251.3, 2, 247.71, 2, 0.21, 0.1, 0.01, 0.01, -999, 1,  -999.00, 9, -999, -999, 9, -999
49NZ20031106, A10, 38, 1, 11, 12047, 2, 20031117, 441, -30.0023, -26.7182, 5278,   3501.1, 2,   2.1544, 2,  34.8602, 2,  34.8597, 2,    230.8, 1,    243.4, 2,    54.15, 2,    23.73, 2,     0.00, 2,     1.60, 2,    0.003, 2,    0.002, 2,    0.000, 4,   2197.1, 2,   2335.3, 2,    7.7159, 2,     25.00, -999.000, 9, -999.000,   -111.4, 2,      3.3,     0.88, 2,      0.0,   1.8707, 27.8707,   2.1545, 2, 3501.1, 2, 244.04, 2, 0.24, 0.1, 0.01, 0.01, -999, 1,  -999.00, 9, -999, -999, 9, -999
49NZ20031106, A10, 38, 1, 10, 12046, 2, 20031117, 441, -30.0023, -26.7182, 5278,   3751.1, 2,   1.7714, 2,  34.8198, 2,  34.8196, 2,    224.8, 1,    237.0, 2,    69.57, 2,    25.83, 2,    -0.01, 2,     1.76, 2,    0.011, 2,    0.009, 2,    0.000, 4,   2211.6, 2,   2346.8, 2,    7.6955, 2,     25.00, -999.000, 9, -999.000,   -131.4, 2,      3.4,     0.78, 2,      0.0,   1.4711, 27.869,   1.7713, 2, 3751.3, 2, 237.58, 2, 0.27, 0.11, 0.01, 0.01, -999, 1,  -999.00, 9, -999, -999, 9, -999
49NZ20031106, A10, 38, 1, 2, 12038, 9, 20031117, 441, -30.0023, -26.7182, 5278,   3849.2, 2,   1.6392, 2,  34.8061, 2, -999.0000, 9,    223.0, 1,   -999.0, 9,  -999.00, 9,  -999.00, 9,  -999.00, 9,  -999.00, 9, -999.000, 9, -999.000, 9, -999.000, 9,   -999.0, 9,   -999.0, 9, -999.0000, 9,   -999.00, -999.000, 9, -999.000,   -999.0, 9,   -999.0,  -999.00, 9,   -999.0,   1.3320, 27.8678,   1.6393, 2, 3849.1, 2, 235.03, 2, -999, -999, -999, -999, -999, 9,  -999.00, 9, -999, -999, 9, -999
49NZ20031106, A10, 38, 1, 9, 12045, 2, 20031117, 441, -30.0023, -26.7182, 5278,   4002.0, 2,   1.4425, 2,  34.7843, 2,  34.7839, 2,    219.7, 1,    231.0, 2,    83.44, 2,    27.68, 2,     0.00, 2,     1.89, 2,    0.016, 2,    0.011, 2,    0.000, 4,   2227.5, 2,   2351.3, 2,    7.6765, 2,     25.00, -999.000, 9, -999.000,   -137.1, 2,      3.3,     0.62, 3,      0.0,   1.1244, 27.8649,   1.4424, 2, 4002, 2, 231.33, 2, 0.3, 0.11, 0.01, 0.01, -999, 1,  -999.00, 9, -999, -999, 9, -999
49NZ20031106, A10, 38, 1, 8, 12044, 2, 20031117, 441, -30.0023, -26.7182, 5278,   4250.9, 2,   1.2414, 2,  34.7594, 2,  34.7598, 2,    215.8, 1,    226.5, 2,    92.84, 2,    29.09, 2,     0.00, 2,     1.98, 2,    0.036, 2,    0.023, 2,    0.000, 4,   2238.5, 6,   2351.9, 2,    7.6637, 2,     25.00, -999.000, 9, -999.000,   -147.4, 3,      3.3,     0.65, 2,      0.0,   0.9020, 27.8601,   1.2413, 2, 4251, 2, 226.5, 2, 0.32, 0.11, 0.01, 0.02, -999, 1,  -999.00, 9, -999, -999, 9, -999
49NZ20031106, A10, 38, 1, 7, 12043, 2, 20031117, 441, -30.0023, -26.7182, 5278,   4500.1, 2,   1.1954, 2,  34.7522, 2,  34.7520, 2,    215.5, 1,    225.5, 2,    95.90, 2,    29.42, 2,     0.00, 2,     2.02, 2,    0.040, 2,    0.022, 2,    0.000, 4,   2240.4, 2,   2356.7, 6,    7.6597, 2,     25.00, -999.000, 9, -999.000,   -134.0, 2,      3.3,     0.65, 2,      0.0,   0.8294, 27.8589,   1.1954, 2, 4500.1, 2, 225.4, 2, 0.33, 0.12, 0.01, 0.02, -999, 1,  -999.00, 9, -999, -999, 9, -999
49NZ20031106, A10, 38, 1, 6, 12042, 2, 20031117, 441, -30.0023, -26.7182, 5278,   4749.4, 2,   1.1855, 2,  34.7474, 2,  34.7471, 2,    215.4, 1,    224.5, 2,    97.67, 2,    29.69, 2,    -0.01, 2,     2.03, 2,    0.050, 2,    0.030, 2,    0.000, 4,   2241.3, 2,   2356.0, 2,    7.6564, 2,     25.00, -999.000, 9, -999.000,   -133.9, 2,      3.3,     0.63, 2,      0.0,   0.7911, 27.8575,   1.1855, 2, 4749.4, 2, 224.37, 2, 0.33, 0.12, 0.01, 0.02, -999, 1,  -999.00, 9, -999, -999, 9, -999
49NZ20031106, A10, 38, 1, 5, 12041, 2, 20031117, 441, -30.0023, -26.7182, 5278,   5000.6, 2,   1.1942, 2,  34.7444, 2,  34.7447, 2,    216.0, 1,    223.8, 2,    98.77, 2,    29.85, 2,    -0.01, 2,     2.04, 2,    0.056, 2,    0.033, 2,    0.000, 4,   2243.5, 2,   2358.3, 2,    7.6549, 2,     25.00, -999.000, 9, -999.000,   -135.8, 2,      3.3,     0.62, 2,      0.0,   0.7698, 27.8564,   1.1943, 2, 5000.6, 2, 223.59, 2, 0.34, 0.12, 0.01, 0.02, -999, 1,  -999.00, 9, -999, -999, 9, -999
49NZ20031106, A10, 38, 1, 4, 12040, 2, 20031117, 441, -30.0023, -26.7182, 5278,   5249.4, 2,   1.2147, 2,  34.7424, 2,  34.7424, 2,    217.0, 1,    223.1, 2,    99.54, 2,    30.00, 2,     0.00, 2,     2.05, 2,    0.053, 2,    0.034, 2,    0.000, 4,   2245.0, 2,   2359.0, 2,    7.6518, 2,     25.00, -999.000, 9, -999.000,   -131.3, 3,      3.3,     0.62, 2,      0.0,   0.7594, 27.8553,   1.2147, 2, 5249.4, 2, 223.06, 2, 0.34, 0.12, 0.01, 0.02, -999, 1,  -999.00, 9, -999, -999, 9, -999
49NZ20031106, A10, 38, 1, 22, 12022, 2, 20031117, 441, -30.0023, -26.7182, 5278,   5250.1, 2,   1.2146, 2,  34.7423, 2,  34.7427, 2,    216.9, 1,    223.0, 2,    99.61, 2,    29.99, 2,     0.00, 2,     2.05, 2,    0.061, 2,    0.039, 2,    0.000, 4,   2243.3, 2,   2362.8, 3,    7.6520, 2,     25.00, -999.000, 9, -999.000,   -143.1, 2,      3.4,     0.64, 2,      0.0,   0.7592, 27.8553,   1.2146, 2, 5250.1, 2, 223.11, 2, 0.34, 0.12, 0.01, 0.02, -999, 9,  -999.00, 9, -999, -999, 9, -999
49NZ20031106, A10, 38, 1, 3, 12039, 2, 20031117, 441, -30.0023, -26.7182, 5278,   5367.8, 2,   1.2272, 2,  34.7418, 2,  34.7419, 2,    218.3, 1,    222.9, 2,    99.76, 2,    30.05, 2,     0.00, 2,     2.06, 2,    0.057, 2,    0.039, 2,    0.000, 4,   2242.6, 2,   2354.7, 4,    7.6532, 2,     25.00, -999.000, 9, -999.000,   -141.2, 2,      3.3,     0.62, 2,      0.0,   0.7568, 27.8551,   1.2271, 2, 5367.8, 2, 222.57, 2, 0.34, 0.12, 0.01, 0.02, -999, 1,  -999.00, 9, -999, -999, 9, -999