BOTTLE,20220818CCHSIOAMB
EXPOCODE,SECT_ID,STNNBR,CASTNO,SAMPNO,BTLNBR,BTLNBR_FLAG_W,DATE,TIME,LATITUDE,LONGITUDE,DEPTH,CTDPRS,CTDPRS_FLAG_W,CTDTMP,CTDTMP_FLAG_W,CTDSAL,CTDSAL_FLAG_W,SALNTY,SALNTY_FLAG_W,CTDOXY,CTDOXY_FLAG_W,OXYGEN,OXYGEN_FLAG_W,SILCAT,SILCAT_FLAG_W,NITRAT,NITRAT_FLAG_W,NITRIT,NITRIT_FLAG_W,PHSPHT,PHSPHT_FLAG_W,CFC-11,CFC-11_FLAG_W,CFC-12,CFC-12_FLAG_W,CFC113,CFC113_FLAG_W,TCARBN,TCARBN_FLAG_W,ALKALI,ALKALI_FLAG_W,PH_TOT,PH_TOT_FLAG_W,PH_TMP,TRITUM,TRITUM_FLAG_W,TRITER,DELC14,DELC14_FLAG_W,C14ERR,DELC13,DELC13_FLAG_W,C13ERR,THETA,SIG0,SBE35,SBE35_FLAG_W,DWNPRS,DWNPRS_FLAG_W,DWNOXY,DWNOXY_FLAG_W,SILUNC,NRAUNC,NRIUNC,PHPUNC,TOC,TOC_FLAG_W,CS-137,CS-137_FLAG_W,CS137ER,PLUTO,PLUTO_FLAG_W,PLUTOER
,,,,,,,,,,,METERS,DBAR,,ITS-90,,PSS-78,,PSS-78,,UMOL/KG,,UMOL/KG,,UMOL/KG,,UMOL/KG,,UMOL/KG,,UMOL/KG,,PMOL/KG,,PMOL/KG,,PMOL/KG,,UMOL/KG,,UMOL/KG,,,,DEG C,TU,,TU,/MILLE,,/MILLE,/MILLE,,/MILLE,DEG C,KG/M^3,ITS-90,,DBAR,,UMOL/KG,,UMOL/KG,UMOL/KG,UMOL/KG,UMOL/KG,UMOL/KG,,BQ/M^3,,BQ/M^3,MBQ/M^3,,MBQ/M^3
49NZ20031106, A10, 28, 1, 36, 12048, 2, 20031114, 34, -30.0013, -32.5045, 3712,     10.5, 2,  20.1246, 2,  35.9399, 2,  35.9397, 2,    217.3, 1,    229.1, 2,     0.74, 2,     0.02, 2,     0.00, 2,     0.05, 2, -999.000, 9, -999.000, 9, -999.000, 9,   -999.0, 9,   -999.0, 9, -999.0000, 9,   -999.00, -999.000, 9, -999.000,   -999.0, 9,   -999.0,  -999.00, 9,   -999.0,  20.1226, 25.448,  20.1243, 2, 11.7, 2, 229.39, 2, 0.12, 0.03, 0.01, 0.03, -999, 9,  -999.00, 9, -999, -999, 9, -999
49NZ20031106, A10, 28, 1, 35, 12047, 2, 20031114, 34, -30.0013, -32.5045, 3712,     50.4, 2,  19.6650, 2,  35.9303, 2,  35.9303, 2,    219.9, 1,    231.8, 2,     0.69, 2,    -0.01, 2,    -0.01, 2,     0.05, 2, -999.000, 9, -999.000, 9, -999.000, 9,   -999.0, 9,   -999.0, 9, -999.0000, 9,   -999.00, -999.000, 9, -999.000,   -999.0, 9,   -999.0,  -999.00, 9,   -999.0,  19.6558, 25.5642,  19.6651, 2, 50.1, 2, 231.49, 2, 0.12, 0.03, 0.01, 0.03, -999, 9,  -999.00, 9, -999, -999, 9, -999
49NZ20031106, A10, 28, 1, 34, 12046, 2, 20031114, 34, -30.0013, -32.5045, 3712,     50.5, 2,  19.6681, 2,  35.9303, 2,  35.9305, 2,    219.9, 1,    231.7, 2,     0.72, 2,    -0.03, 2,     0.01, 2,     0.04, 2, -999.000, 9, -999.000, 9, -999.000, 9,   -999.0, 9,   -999.0, 9, -999.0000, 9,   -999.00, -999.000, 9, -999.000,   -999.0, 9,   -999.0,  -999.00, 9,   -999.0,  19.6588, 25.5635,  19.6676, 2, 50, 2, 231.52, 2, 0.12, 0.03, 0.01, 0.04, -999, 9,  -999.00, 9, -999, -999, 9, -999
49NZ20031106, A10, 28, 1, 33, 12045, 2, 20031114, 34, -30.0013, -32.5045, 3712,    100.9, 2,  17.9227, 2,  35.7905, 2,  35.7944, 2,    221.1, 1,    232.3, 2,     0.77, 2,    -0.03, 2,     0.00, 2,     0.10, 2, -999.000, 9, -999.000, 9, -999.000, 9,   -999.0, 9,   -999.0, 9, -999.0000, 9,   -999.00, -999.000, 9, -999.000,   -999.0, 9,   -999.0,  -999.00, 9,   -999.0,  17.9054, 25.9017,  17.9314, 2, 98.2, 2, 233.39, 2, 0.12, 0.03, 0.01, 0.02, -999, 9,  -999.00, 9, -999, -999, 9, -999
49NZ20031106, A10, 28, 1, 32, 12044, 2, 20031114, 34, -30.0013, -32.5045, 3712,    199.2, 2,  15.2262, 2,  35.5176, 2,  35.5167, 2,    204.0, 1,    213.3, 2,     1.71, 2,     4.59, 2,     0.02, 2,     0.44, 2, -999.000, 9, -999.000, 9, -999.000, 9,   -999.0, 9,   -999.0, 9, -999.0000, 9,   -999.00, -999.000, 9, -999.000,   -999.0, 9,   -999.0,  -999.00, 9,   -999.0,  15.1956, 26.3288,  15.2247, 2, 194.7, 2, 213.03, 2, 0.12, 0.05, 0.01, 0.01, -999, 9,  -999.00, 9, -999, -999, 9, -999
49NZ20031106, A10, 28, 1, 31, 12043, 2, 20031114, 34, -30.0013, -32.5045, 3712,    249.6, 2,  14.3415, 2,  35.4100, 2,  35.4085, 2,    204.6, 1,    214.0, 2,     2.13, 2,     6.47, 2,     0.01, 2,     0.55, 2, -999.000, 9, -999.000, 9, -999.000, 9,   -999.0, 9,   -999.0, 9, -999.0000, 9,   -999.00, -999.000, 9, -999.000,   -999.0, 9,   -999.0,  -999.00, 9,   -999.0,  14.3046, 26.44,  14.3409, 2, 247.7, 2, 213.98, 2, 0.12, 0.05, 0.01, 0.01, -999, 9,  -999.00, 9, -999, -999, 9, -999
49NZ20031106, A10, 28, 1, 30, 12042, 2, 20031114, 34, -30.0013, -32.5045, 3712,    300.1, 2,  13.6036, 2,  35.3131, 2,  35.3122, 2,    205.4, 1,    214.5, 2,     2.47, 2,     8.01, 2,     0.01, 2,     0.64, 2, -999.000, 9, -999.000, 9, -999.000, 9,   -999.0, 9,   -999.0, 9, -999.0000, 9,   -999.00, -999.000, 9, -999.000,   -999.0, 9,   -999.0,  -999.00, 9,   -999.0,  13.5608, 26.5214,  13.6045, 2, 299.2, 2, 214.33, 2, 0.12, 0.06, 0.01, 0.01, -999, 9,  -999.00, 9, -999, -999, 9, -999
49NZ20031106, A10, 28, 1, 29, 12041, 2, 20031114, 34, -30.0013, -32.5045, 3712,    398.6, 2,  11.9126, 2,  35.0607, 2,  35.0608, 2,    202.1, 1,    210.5, 2,     3.99, 2,    12.20, 2,     0.01, 2,     0.91, 2, -999.000, 9, -999.000, 9, -999.000, 9,   -999.0, 9,   -999.0, 9, -999.0000, 9,   -999.00, -999.000, 9, -999.000,   -999.0, 9,   -999.0,  -999.00, 9,   -999.0,  11.8604, 26.6629,  11.9135, 2, 397.5, 2, 210.71, 2, 0.13, 0.07, 0.01, 0.01, -999, 9,  -999.00, 9, -999, -999, 9, -999
49NZ20031106, A10, 28, 1, 28, 12040, 2, 20031114, 34, -30.0013, -32.5045, 3712,    499.5, 2,   9.7758, 2,  34.7781, 2,  34.7774, 2,    200.4, 1,    208.2, 2,     6.62, 2,    17.56, 2,     0.00, 2,     1.24, 2, -999.000, 9, -999.000, 9, -999.000, 9,   -999.0, 9,   -999.0, 9, -999.0000, 9,   -999.00, -999.000, 9, -999.000,   -999.0, 9,   -999.0,  -999.00, 9,   -999.0,   9.7179, 26.8266,   9.7670, 2, 497.3, 2, 208.29, 2, 0.13, 0.08, 0.01, 0.01, -999, 9,  -999.00, 9, -999, -999, 9, -999
49NZ20031106, A10, 28, 1, 27, 12039, 2, 20031114, 34, -30.0013, -32.5045, 3712,    600.7, 2,   7.7833, 2,  34.5465, 2,  34.5463, 2,    204.9, 1,    212.6, 2,     9.84, 2,    22.18, 2,     0.00, 2,     1.54, 2, -999.000, 9, -999.000, 9, -999.000, 9,   -999.0, 9,   -999.0, 9, -999.0000, 9,   -999.00, -999.000, 9, -999.000,   -999.0, 9,   -999.0,  -999.00, 9,   -999.0,   7.7223, 26.9584,   7.7842, 2, 598, 2, 213.34, 2, 0.14, 0.09, 0.01, 0.01, -999, 9,  -999.00, 9, -999, -999, 9, -999
49NZ20031106, A10, 28, 1, 26, 12038, 2, 20031114, 34, -30.0013, -32.5045, 3712,    698.7, 2,   6.0472, 2,  34.3765, 2,  34.3771, 2,    216.1, 1,    224.0, 2,    13.51, 2,    25.47, 2,     0.01, 2,     1.76, 2, -999.000, 9, -999.000, 9, -999.000, 9,   -999.0, 9,   -999.0, 9, -999.0000, 9,   -999.00, -999.000, 9, -999.000,   -999.0, 9,   -999.0,  -999.00, 9,   -999.0,   5.9851, 27.0616,   6.0471, 2, 698.8, 2, 224.59, 2, 0.15, 0.1, 0.01, 0.01, -999, 9,  -999.00, 9, -999, -999, 9, -999
49NZ20031106, A10, 28, 1, 25, 12037, 2, 20031114, 34, -30.0013, -32.5045, 3712,    801.1, 2,   4.7827, 2,  34.2861, 2,  34.2861, 2,    224.4, 1,    233.0, 2,    18.24, 2,    27.76, 2,     0.00, 2,     1.91, 2, -999.000, 9, -999.000, 9, -999.000, 9,   -999.0, 9,   -999.0, 9, -999.0000, 9,   -999.00, -999.000, 9, -999.000,   -999.0, 9,   -999.0,  -999.00, 9,   -999.0,   4.7187, 27.1411,   4.7828, 2, 801, 2, 232.94, 2, 0.16, 0.11, 0.01, 0.01, -999, 9,  -999.00, 9, -999, -999, 9, -999
49NZ20031106, A10, 28, 1, 24, 12036, 2, 20031114, 34, -30.0013, -32.5045, 3712,    900.2, 2,   4.1639, 2,  34.2815, 2,  34.2817, 2,    219.0, 1,    227.4, 2,    24.37, 2,    29.39, 2,     0.00, 2,     2.01, 2, -999.000, 9, -999.000, 9, -999.000, 9,   -999.0, 9,   -999.0, 9, -999.0000, 9,   -999.00, -999.000, 9, -999.000,   -999.0, 9,   -999.0,  -999.00, 9,   -999.0,   4.0957, 27.2045,   4.1658, 2, 898.4, 2, 226.04, 2, 0.17, 0.12, 0.01, 0.02, -999, 9,  -999.00, 9, -999, -999, 9, -999
49NZ20031106, A10, 28, 1, 7, 12019, 9, 20031114, 34, -30.0013, -32.5045, 3712,    999.0, 2,   3.7039, 2,  34.3028, 2, -999.0000, 9,    210.3, 1,   -999.0, 9,  -999.00, 9,  -999.00, 9,  -999.00, 9,  -999.00, 9, -999.000, 9, -999.000, 9, -999.000, 9,   -999.0, 9,   -999.0, 9, -999.0000, 9,   -999.00, -999.000, 9, -999.000,   -999.0, 9,   -999.0,  -999.00, 9,   -999.0,   3.6309, 27.269,   3.7027, 2, 997.4, 2, 218.43, 2, -999, -999, -999, -999, -999, 9,  -999.00, 9, -999, -999, 9, -999
49NZ20031106, A10, 28, 1, 23, 12035, 2, 20031114, 34, -30.0013, -32.5045, 3712,    999.4, 2,   3.7024, 2,  34.3029, 2,  34.3032, 2,    210.5, 1,    218.7, 2,    31.42, 2,    30.92, 2,     0.00, 2,     2.12, 2, -999.000, 9, -999.000, 9, -999.000, 9,   -999.0, 9,   -999.0, 9, -999.0000, 9,   -999.00, -999.000, 9, -999.000,   -999.0, 9,   -999.0,  -999.00, 9,   -999.0,   3.6294, 27.269,   3.7028, 2, 997.7, 2, 218.42, 2, 0.19, 0.12, 0.01, 0.02, -999, 9,  -999.00, 9, -999, -999, 9, -999
49NZ20031106, A10, 28, 1, 6, 12018, 9, 20031114, 34, -30.0013, -32.5045, 3712,    999.8, 2,   3.6994, 2,  34.3029, 2, -999.0000, 9,    210.5, 1,   -999.0, 9,  -999.00, 9,  -999.00, 9,  -999.00, 9,  -999.00, 9, -999.000, 9, -999.000, 9, -999.000, 9,   -999.0, 9,   -999.0, 9, -999.0000, 9,   -999.00, -999.000, 9, -999.000,   -999.0, 9,   -999.0,  -999.00, 9,   -999.0,   3.6264, 27.2697,   3.6973, 2, 998, 2, 218.41, 2, -999, -999, -999, -999, -999, 9,  -999.00, 9, -999, -999, 9, -999
49NZ20031106, A10, 28, 1, 3, 12012, 9, 20031114, 34, -30.0013, -32.5045, 3712,   1000.2, 2,   3.6970, 2,  34.3030, 2, -999.0000, 9,    210.3, 1,   -999.0, 9,  -999.00, 9,  -999.00, 9,  -999.00, 9,  -999.00, 9, -999.000, 9, -999.000, 9, -999.000, 9,   -999.0, 9,   -999.0, 9, -999.0000, 9,   -999.00, -999.000, 9, -999.000,   -999.0, 9,   -999.0,  -999.00, 9,   -999.0,   3.6240, 27.2696,   3.6965, 2, 998.4, 2, 218.39, 2, -999, -999, -999, -999, -999, 9,  -999.00, 9, -999, -999, 9, -999
49NZ20031106, A10, 28, 1, 2, 12014, 9, 20031114, 34, -30.0013, -32.5045, 3712,   1000.2, 2,   3.6965, 2,  34.3029, 2, -999.0000, 9,    210.4, 1,   -999.0, 9,  -999.00, 9,  -999.00, 9,  -999.00, 9,  -999.00, 9, -999.000, 9, -999.000, 9, -999.000, 9,   -999.0, 9,   -999.0, 9, -999.0000, 9,   -999.00, -999.000, 9, -999.000,   -999.0, 9,   -999.0,  -999.00, 9,   -999.0,   3.6235, 27.2697,   3.6961, 2, 998.4, 2, 218.39, 2, -999, -999, -999, -999, -999, 9,  -999.00, 9, -999, -999, 9, -999
49NZ20031106, A10, 28, 1, 4, 12016, 9, 20031114, 34, -30.0013, -32.5045, 3712,   1000.3, 2,   3.6963, 2,  34.3029, 2, -999.0000, 9,    210.4, 1,   -999.0, 9,  -999.00, 9,  -999.00, 9,  -999.00, 9,  -999.00, 9, -999.000, 9, -999.000, 9, -999.000, 9,   -999.0, 9,   -999.0, 9, -999.0000, 9,   -999.00, -999.000, 9, -999.000,   -999.0, 9,   -999.0,  -999.00, 9,   -999.0,   3.6233, 27.2697,   3.6965, 2, 998.4, 2, 218.37, 2, -999, -999, -999, -999, -999, 9,  -999.00, 9, -999, -999, 9, -999
49NZ20031106, A10, 28, 1, 5, 12017, 9, 20031114, 34, -30.0013, -32.5045, 3712,   1000.5, 2,   3.6957, 2,  34.3031, 2, -999.0000, 9,    210.5, 1,   -999.0, 9,  -999.00, 9,  -999.00, 9,  -999.00, 9,  -999.00, 9, -999.000, 9, -999.000, 9, -999.000, 9,   -999.0, 9,   -999.0, 9, -999.0000, 9,   -999.00, -999.000, 9, -999.000,   -999.0, 9,   -999.0,  -999.00, 9,   -999.0,   3.6227, 27.2698,   3.6965, 2, 998.6, 2, 218.37, 2, -999, -999, -999, -999, -999, 9,  -999.00, 9, -999, -999, 9, -999
49NZ20031106, A10, 28, 1, 1, 12013, 9, 20031114, 34, -30.0013, -32.5045, 3712,   1000.5, 2,   3.6959, 2,  34.3031, 2, -999.0000, 9,    210.4, 1,   -999.0, 9,  -999.00, 9,  -999.00, 9,  -999.00, 9,  -999.00, 9, -999.000, 9, -999.000, 9, -999.000, 9,   -999.0, 9,   -999.0, 9, -999.0000, 9,   -999.00, -999.000, 9, -999.000,   -999.0, 9,   -999.0,  -999.00, 9,   -999.0,   3.6229, 27.2696,   3.6965, 2, 998.6, 2, 218.37, 2, -999, -999, -999, -999, -999, 9,  -999.00, 9, -999, -999, 9, -999
49NZ20031106, A10, 28, 1, 22, 12034, 2, 20031114, 34, -30.0013, -32.5045, 3712,   1200.9, 2,   3.1128, 2,  34.4255, 2,  34.4244, 2,    188.3, 1,    195.8, 2,    47.45, 2,    32.67, 2,     0.00, 2,     2.25, 2, -999.000, 9, -999.000, 9, -999.000, 9,   -999.0, 9,   -999.0, 9, -999.0000, 9,   -999.00, -999.000, 9, -999.000,   -999.0, 9,   -999.0,  -999.00, 9,   -999.0,   3.0285, 27.4238,   3.1130, 2, 1201.3, 2, 196.38, 2, 0.22, 0.12, 0.01, 0.02, -999, 9,  -999.00, 9, -999, -999, 9, -999
49NZ20031106, A10, 28, 1, 21, 12033, 2, 20031114, 34, -30.0013, -32.5045, 3712,   1401.2, 2,   2.9200, 2,  34.5592, 2,  34.5589, 2,    181.3, 1,    188.4, 2,    54.54, 2,    31.95, 2,    -0.01, 2,     2.20, 2, -999.000, 9, -999.000, 9, -999.000, 9,   -999.0, 9,   -999.0, 9, -999.0000, 9,   -999.00, -999.000, 9, -999.000,   -999.0, 9,   -999.0,  -999.00, 9,   -999.0,   2.8212, 27.5495,   2.9206, 2, 1401.3, 2, 188.31, 2, 0.24, 0.12, 0.01, 0.02, -999, 9,  -999.00, 9, -999, -999, 9, -999
49NZ20031106, A10, 28, 1, 20, 12032, 2, 20031114, 34, -30.0013, -32.5045, 3712,   1600.5, 2,   2.8410, 2,  34.6634, 2,  34.6634, 2,    187.1, 1,    194.1, 2,    55.04, 2,    30.22, 2,     0.00, 2,     2.07, 2, -999.000, 9, -999.000, 9, -999.000, 9,   -999.0, 9,   -999.0, 9, -999.0000, 9,   -999.00, -999.000, 9, -999.000,   -999.0, 9,   -999.0,  -999.00, 9,   -999.0,   2.7264, 27.6414,   2.8410, 2, 1599.9, 2, 194.13, 2, 0.24, 0.12, 0.01, 0.02, -999, 9,  -999.00, 9, -999, -999, 9, -999
49NZ20031106, A10, 28, 1, 19, 12031, 2, 20031114, 34, -30.0013, -32.5045, 3712,   1801.9, 2,   2.7992, 2,  34.7479, 2,  34.7482, 2,    198.5, 1,    205.9, 2,    51.90, 2,    27.91, 2,    -0.01, 2,     1.91, 2, -999.000, 9, -999.000, 9, -999.000, 9,   -999.0, 9,   -999.0, 9, -999.0000, 9,   -999.00, -999.000, 9, -999.000,   -999.0, 9,   -999.0,  -999.00, 9,   -999.0,   2.6677, 27.7142,   2.7991, 2, 1802, 2, 205.06, 2, 0.23, 0.11, 0.01, 0.01, -999, 9,  -999.00, 9, -999, -999, 9, -999
49NZ20031106, A10, 28, 1, 18, 12030, 2, 20031114, 34, -30.0013, -32.5045, 3712,   2001.5, 2,   2.7677, 2,  34.8028, 2,  34.8027, 2,    209.5, 1,    217.5, 2,    48.20, 2,    26.01, 2,     0.01, 2,     1.78, 2, -999.000, 9, -999.000, 9, -999.000, 9,   -999.0, 9,   -999.0, 9, -999.0000, 9,   -999.00, -999.000, 9, -999.000,   -999.0, 9,   -999.0,  -999.00, 9,   -999.0,   2.6189, 27.7626,   2.7675, 2, 2001.5, 2, 217.11, 2, 0.23, 0.11, 0.01, 0.01, -999, 9,  -999.00, 9, -999, -999, 9, -999
49NZ20031106, A10, 28, 1, 17, 12029, 2, 20031114, 34, -30.0013, -32.5045, 3712,   2199.5, 2,   2.7715, 2,  34.8427, 2,  34.8432, 2,    219.4, 1,    227.9, 2,    43.77, 2,    24.31, 2,    -0.01, 2,     1.66, 2, -999.000, 9, -999.000, 9, -999.000, 9,   -999.0, 9,   -999.0, 9, -999.0000, 9,   -999.00, -999.000, 9, -999.000,   -999.0, 9,   -999.0,  -999.00, 9,   -999.0,   2.6045, 27.7956,   2.7714, 2, 2199.6, 2, 227.57, 2, 0.22, 0.1, 0.01, 0.01, -999, 9,  -999.00, 9, -999, -999, 9, -999
49NZ20031106, A10, 28, 1, 16, 12028, 2, 20031114, 34, -30.0013, -32.5045, 3712,   2401.1, 2,   2.7960, 2,  34.8735, 2,  34.8734, 2,    227.5, 1,    236.1, 2,    39.59, 2,    23.03, 2,     0.00, 2,     1.56, 2, -999.000, 9, -999.000, 9, -999.000, 9,   -999.0, 9,   -999.0, 9, -999.0000, 9,   -999.00, -999.000, 9, -999.000,   -999.0, 9,   -999.0,  -999.00, 9,   -999.0,   2.6096, 27.8197,   2.7960, 2, 2401, 2, 235.96, 2, 0.21, 0.1, 0.01, 0.01, -999, 9,  -999.00, 9, -999, -999, 9, -999
49NZ20031106, A10, 28, 1, 15, 12027, 2, 20031114, 34, -30.0013, -32.5045, 3712,   2601.6, 2,   2.7607, 2,  34.8893, 2,  34.8896, 2,    233.0, 1,    241.7, 2,    37.73, 2,    22.13, 2,     0.00, 2,     1.51, 2, -999.000, 9, -999.000, 9, -999.000, 9,   -999.0, 9,   -999.0, 9, -999.0000, 9,   -999.00, -999.000, 9, -999.000,   -999.0, 9,   -999.0,  -999.00, 9,   -999.0,   2.5555, 27.8371,   2.7607, 2, 2601.6, 2, 241.59, 2, 0.2, 0.09, 0.01, 0.01, -999, 9,  -999.00, 9, -999, -999, 9, -999
49NZ20031106, A10, 28, 1, 14, 12026, 2, 20031114, 34, -30.0013, -32.5045, 3712,   2801.1, 2,   2.7120, 2,  34.8966, 2,  34.8971, 2,    236.1, 1,    244.7, 2,    37.54, 2,    21.80, 2,     0.00, 2,     1.48, 2, -999.000, 9, -999.000, 9, -999.000, 9,   -999.0, 9,   -999.0, 9, -999.0000, 9,   -999.00, -999.000, 9, -999.000,   -999.0, 9,   -999.0,  -999.00, 9,   -999.0,   2.4879, 27.8489,   2.7119, 2, 2801, 2, 244.54, 2, 0.2, 0.09, 0.01, 0.01, -999, 9,  -999.00, 9, -999, -999, 9, -999
49NZ20031106, A10, 28, 1, 13, 12025, 2, 20031114, 34, -30.0013, -32.5045, 3712,   3001.4, 2,   2.6185, 2,  34.8944, 2,  34.8944, 2,    237.5, 1,    245.5, 2,    39.67, 2,    21.86, 2,     0.00, 2,     1.49, 2, -999.000, 9, -999.000, 9, -999.000, 9,   -999.0, 9,   -999.0, 9, -999.0000, 9,   -999.00, -999.000, 9, -999.000,   -999.0, 9,   -999.0,  -999.00, 9,   -999.0,   2.3761, 27.8566,   2.6186, 2, 3001.4, 2, 245.68, 2, 0.21, 0.09, 0.01, 0.01, -999, 9,  -999.00, 9, -999, -999, 9, -999
49NZ20031106, A10, 28, 1, 12, 12024, 2, 20031114, 34, -30.0013, -32.5045, 3712,   3248.9, 2,   2.4769, 2,  34.8899, 2,  34.8892, 2,    239.4, 1,    247.2, 2,    42.47, 2,    21.90, 2,    -0.01, 2,     1.49, 2, -999.000, 9, -999.000, 9, -999.000, 9,   -999.0, 9,   -999.0, 9, -999.0000, 9,   -999.00, -999.000, 9, -999.000,   -999.0, 9,   -999.0,  -999.00, 9,   -999.0,   2.2120, 27.8667,   2.4765, 2, 3249.2, 2, 247.14, 2, 0.21, 0.09, 0.01, 0.01, -999, 9,  -999.00, 9, -999, -999, 9, -999
49NZ20031106, A10, 28, 1, 9, 12015, 9, 20031114, 34, -30.0013, -32.5045, 3712,   3400.7, 2,   2.2432, 2,  34.8682, 2, -999.0000, 9,    236.9, 1,   -999.0, 9,  -999.00, 9,  -999.00, 9,  -999.00, 9,  -999.00, 9, -999.000, 9, -999.000, 9, -999.000, 9,   -999.0, 9,   -999.0, 9, -999.0000, 9,   -999.00, -999.000, 9, -999.000,   -999.0, 9,   -999.0,  -999.00, 9,   -999.0,   1.9680, 27.8692,   2.2432, 2, 3400.8, 2, 244.24, 2, -999, -999, -999, -999, -999, 9,  -999.00, 9, -999, -999, 9, -999
49NZ20031106, A10, 28, 1, 11, 12023, 2, 20031114, 34, -30.0013, -32.5045, 3712,   3499.9, 2,   2.0358, 2,  34.8440, 2,  34.8435, 2,    232.6, 1,    239.3, 2,    60.16, 2,    24.27, 2,     0.00, 2,     1.67, 2, -999.000, 9, -999.000, 9, -999.000, 9,   -999.0, 9,   -999.0, 9, -999.0000, 9,   -999.00, -999.000, 9, -999.000,   -999.0, 9,   -999.0,  -999.00, 9,   -999.0,   1.7553, 27.8664,   2.0358, 2, 3500.2, 2, 239.34, 2, 0.25, 0.1, 0.01, 0.01, -999, 9,  -999.00, 9, -999, -999, 9, -999
49NZ20031106, A10, 28, 1, 8, 12020, 9, 20031114, 34, -30.0013, -32.5045, 3712,   3600.3, 2,   1.8807, 2,  34.8272, 2, -999.0000, 9,    230.1, 1,   -999.0, 9,  -999.00, 9,  -999.00, 9,  -999.00, 9,  -999.00, 9, -999.000, 9, -999.000, 9, -999.000, 9,   -999.0, 9,   -999.0, 9, -999.0000, 9,   -999.00, -999.000, 9, -999.000,   -999.0, 9,   -999.0,  -999.00, 9,   -999.0,   1.5936, 27.8652,   1.8807, 2, 3600.2, 2, 235.9, 2, -999, -999, -999, -999, -999, 9,  -999.00, 9, -999, -999, 9, -999
49NZ20031106, A10, 28, 1, 10, 12022, 2, 20031114, 34, -30.0013, -32.5045, 3712,   3754.9, 2,   1.6111, 2,  34.7970, 2,  34.7978, 2,    225.9, 1,    230.7, 2,    78.04, 2,    26.76, 2,    -0.01, 2,     1.84, 2, -999.000, 9, -999.000, 9, -999.000, 9,   -999.0, 9,   -999.0, 9, -999.0000, 9,   -999.00, -999.000, 9, -999.000,   -999.0, 9,   -999.0,  -999.00, 9,   -999.0,   1.3148, 27.8616,   1.6105, 2, 3754.9, 2, 230.09, 2, 0.29, 0.11, 0.01, 0.01, -999, 9,  -999.00, 9, -999, -999, 9, -999