BOTTLE,20220818CCHSIOAMB
EXPOCODE,SECT_ID,STNNBR,CASTNO,SAMPNO,BTLNBR,BTLNBR_FLAG_W,DATE,TIME,LATITUDE,LONGITUDE,DEPTH,CTDPRS,CTDPRS_FLAG_W,CTDTMP,CTDTMP_FLAG_W,CTDSAL,CTDSAL_FLAG_W,SALNTY,SALNTY_FLAG_W,CTDOXY,CTDOXY_FLAG_W,OXYGEN,OXYGEN_FLAG_W,SILCAT,SILCAT_FLAG_W,NITRAT,NITRAT_FLAG_W,NITRIT,NITRIT_FLAG_W,PHSPHT,PHSPHT_FLAG_W,CFC-11,CFC-11_FLAG_W,CFC-12,CFC-12_FLAG_W,CFC113,CFC113_FLAG_W,TCARBN,TCARBN_FLAG_W,ALKALI,ALKALI_FLAG_W,PH_TOT,PH_TOT_FLAG_W,PH_TMP,TRITUM,TRITUM_FLAG_W,TRITER,DELC14,DELC14_FLAG_W,C14ERR,DELC13,DELC13_FLAG_W,C13ERR,THETA,SIG0,SBE35,SBE35_FLAG_W,DWNPRS,DWNPRS_FLAG_W,DWNOXY,DWNOXY_FLAG_W,SILUNC,NRAUNC,NRIUNC,PHPUNC,TOC,TOC_FLAG_W,CS-137,CS-137_FLAG_W,CS137ER,PLUTO,PLUTO_FLAG_W,PLUTOER
,,,,,,,,,,,METERS,DBAR,,ITS-90,,PSS-78,,PSS-78,,UMOL/KG,,UMOL/KG,,UMOL/KG,,UMOL/KG,,UMOL/KG,,UMOL/KG,,PMOL/KG,,PMOL/KG,,PMOL/KG,,UMOL/KG,,UMOL/KG,,,,DEG C,TU,,TU,/MILLE,,/MILLE,/MILLE,,/MILLE,DEG C,KG/M^3,ITS-90,,DBAR,,UMOL/KG,,UMOL/KG,UMOL/KG,UMOL/KG,UMOL/KG,UMOL/KG,,BQ/M^3,,BQ/M^3,MBQ/M^3,,MBQ/M^3
49NZ20031106, A10, 72, 1, 36, 12024, 2, 20031126, 1254, -30.0023, -0.7300, 4823,     10.1, 2,  18.9057, 2,  35.8531, 2,  35.8538, 2,    224.6, 1,    238.0, 2,     1.06, 2,     0.03, 2,     0.00, 2,     0.15, 2, -999.000, 9, -999.000, 9, -999.000, 9,   -999.0, 9,   -999.0, 9, -999.0000, 9,   -999.00, -999.000, 9, -999.000,   -999.0, 9,   -999.0,  -999.00, 9,   -999.0,  18.9039, 25.7005,  18.9103, 2, 7.8, 2, 237.97, 2, 0.12, 0.03, 0.01, 0.02, -999, 9,  -999.00, 9, -999, -999, 9, -999
49NZ20031106, A10, 72, 1, 35, 12023, 2, 20031126, 1254, -30.0023, -0.7300, 4823,     50.4, 2,  18.3577, 2,  35.8427, 2,  35.8401, 2,    228.0, 1,    241.4, 2,     0.97, 2,     0.00, 2,     0.01, 2,     0.15, 2, -999.000, 9, -999.000, 9, -999.000, 9,   -999.0, 9,   -999.0, 9, -999.0000, 9,   -999.00, -999.000, 9, -999.000,   -999.0, 9,   -999.0,  -999.00, 9,   -999.0,  18.3489, 25.8325,  18.3568, 2, 50.3, 2, 239.77, 2, 0.12, 0.03, 0.01, 0.02, -999, 9,  -999.00, 9, -999, -999, 9, -999
49NZ20031106, A10, 72, 1, 34, 12022, 2, 20031126, 1254, -30.0023, -0.7300, 4823,    100.9, 2,  17.2096, 2,  35.7824, 2,  35.7825, 2,    220.1, 1,    232.3, 2,     2.38, 2,     0.63, 2,     0.98, 2,     0.26, 2, -999.000, 9, -999.000, 9, -999.000, 9,   -999.0, 9,   -999.0, 9, -999.0000, 9,   -999.00, -999.000, 1, -999.000,   -999.0, 9,   -999.0,  -999.00, 9,   -999.0,  17.1928, 26.0704,  17.2099, 2, 100.9, 2, 232.66, 2, 0.12, 0.03, 0, 0.01, -999, 9,     1.39, 2, 0.13, -999, 1, -999
49NZ20031106, A10, 72, 1, 33, 12015, 2, 20031126, 1254, -30.0023, -0.7300, 4823,    153.0, 2,  17.1834, 2,  35.7817, 2,  35.7811, 2,    220.4, 1,    232.8, 2,     2.25, 2,     0.78, 2,     0.84, 2,     0.26, 2, -999.000, 9, -999.000, 9, -999.000, 9,   -999.0, 9,   -999.0, 9, -999.0000, 9,   -999.00, -999.000, 9, -999.000,   -999.0, 9,   -999.0,  -999.00, 9,   -999.0,  17.1578, 26.0786,  17.1826, 2, 153.3, 2, 231.9, 2, 0.12, 0.03, 0, 0.01, -999, 9,  -999.00, 9, -999, -999, 9, -999
49NZ20031106, A10, 72, 1, 4, 12028, 2, 20031126, 1254, -30.0023, -0.7300, 4823,    200.4, 2,  17.0572, 2,  35.7635, 2, -999.0000, 9,    216.0, 1,   -999.0, 9,  -999.00, 9,  -999.00, 9,  -999.00, 9,  -999.00, 9, -999.000, 9, -999.000, 9, -999.000, 9,   -999.0, 9,   -999.0, 9, -999.0000, 9,   -999.00, -999.000, 1, -999.000,   -999.0, 9,   -999.0,  -999.00, 9,   -999.0,  17.0239, 26.0969,  17.0571, 2, 202, 2, 228.23, 2, -999, -999, -999, -999, -999, 9,  -999.00, 9, -999, -999, 9, -999
49NZ20031106, A10, 72, 1, 32, 12020, 2, 20031126, 1254, -30.0023, -0.7300, 4823,    200.9, 2,  17.0593, 2,  35.7631, 2,  35.7589, 2,    215.8, 1,    227.3, 2,     2.59, 2,     2.42, 2,     0.02, 2,     0.30, 2, -999.000, 9, -999.000, 9, -999.000, 9,   -999.0, 9,   -999.0, 9, -999.0000, 9,   -999.00, -999.000, 1, -999.000,   -999.0, 9,   -999.0,  -999.00, 9,   -999.0,  17.0259, 26.0966,  17.0578, 2, 202.3, 2, 228.18, 2, 0.12, 0.04, 0.01, 0.01, -999, 9,  -999.00, 1, -999, -999, 1, -999
49NZ20031106, A10, 72, 1, 31, 12019, 2, 20031126, 1254, -30.0023, -0.7300, 4823,    252.1, 2,  15.7049, 2,  35.5768, 2,  35.5766, 2,    206.4, 1,    217.0, 2,     2.96, 2,     4.90, 2,     0.01, 2,     0.47, 2, -999.000, 9, -999.000, 9, -999.000, 9,   -999.0, 9,   -999.0, 9, -999.0000, 9,   -999.00, -999.000, 9, -999.000,   -999.0, 9,   -999.0,  -999.00, 9,   -999.0,  15.6653, 26.2702,  15.7041, 2, 255.9, 2, 215.59, 2, 0.13, 0.05, 0.01, 0.01, -999, 9,  -999.00, 9, -999, -999, 9, -999
49NZ20031106, A10, 72, 1, 30, 12018, 2, 20031126, 1254, -30.0023, -0.7300, 4823,    299.4, 2,  15.4191, 2,  35.5791, 2,  35.5795, 2,    214.4, 1,    225.7, 2,     3.06, 2,     4.85, 2,     0.01, 2,     0.46, 2, -999.000, 9, -999.000, 9, -999.000, 9,   -999.0, 9,   -999.0, 9, -999.0000, 9,   -999.00, -999.000, 9, -999.000,   -999.0, 9,   -999.0,  -999.00, 9,   -999.0,  15.3725, 26.3382,  15.4191, 2, 299.7, 2, 224.54, 2, 0.13, 0.05, 0.01, 0.01, -999, 9,  -999.00, 9, -999, -999, 9, -999
49NZ20031106, A10, 72, 1, 29, 12017, 2, 20031126, 1254, -30.0023, -0.7300, 4823,    401.5, 2,  14.3040, 2,  35.3789, 2,  35.3722, 4,    208.6, 1,    219.1, 2,     3.36, 2,     6.81, 2,     0.01, 2,     0.60, 2, -999.000, 9, -999.000, 9, -999.000, 9,   -999.0, 9,   -999.0, 9, -999.0000, 9,   -999.00, -999.000, 1, -999.000,   -999.0, 9,   -999.0,  -999.00, 9,   -999.0,  14.2445, 26.4303,  14.3013, 2, 403, 2, 219.09, 2, 0.13, 0.05, 0.01, 0.01, -999, 9,     1.49, 2, 0.2, -999, 1, -999
49NZ20031106, A10, 72, 1, 28, 12016, 2, 20031126, 1254, -30.0023, -0.7300, 4823,    501.4, 2,  12.5374, 2,  35.1327, 2,  35.1288, 3,    205.4, 1,    215.4, 2,     4.46, 2,    10.79, 2,     0.01, 2,     0.83, 2, -999.000, 9, -999.000, 9, -999.000, 9,   -999.0, 9,   -999.0, 9, -999.0000, 9,   -999.00, -999.000, 9, -999.000,   -999.0, 9,   -999.0,  -999.00, 9,   -999.0,  12.4692, 26.6034,  12.5390, 2, 504.6, 2, 214.96, 2, 0.13, 0.06, 0.01, 0.01, -999, 9,  -999.00, 9, -999, -999, 9, -999
49NZ20031106, A10, 72, 1, 2, 12026, 2, 20031126, 1254, -30.0023, -0.7300, 4823,    600.1, 2,  10.7476, 2,  34.8994, 2, -999.0000, 9,    204.3, 1,   -999.0, 9,  -999.00, 9,  -999.00, 9,  -999.00, 9,  -999.00, 9, -999.000, 9, -999.000, 9, -999.000, 9,   -999.0, 9,   -999.0, 9, -999.0000, 9,   -999.00, -999.000, 1, -999.000,   -999.0, 9,   -999.0,  -999.00, 9,   -999.0,  10.6734, 26.7577,  10.7481, 2, 608.3, 2, 214.56, 2, -999, -999, -999, -999, -999, 9,  -999.00, 9, -999, -999, 9, -999
49NZ20031106, A10, 72, 1, 27, 12012, 2, 20031126, 1254, -30.0023, -0.7300, 4823,    600.4, 2,  10.7482, 2,  34.8991, 2,  34.8997, 2,    204.1, 1,    213.8, 2,     6.38, 2,    14.91, 2,     0.01, 2,     1.09, 2, -999.000, 9, -999.000, 9, -999.000, 9,   -999.0, 9,   -999.0, 9, -999.0000, 9,   -999.00, -999.000, 1, -999.000,   -999.0, 9,   -999.0,  -999.00, 9,   -999.0,  10.6740, 26.7577,  10.7484, 2, 608.5, 2, 214.55, 2, 0.13, 0.07, 0.01, 0.01, -999, 9,  -999.00, 1, -999, -999, 1, -999
49NZ20031106, A10, 72, 1, 26, 12014, 2, 20031126, 1254, -30.0023, -0.7300, 4823,    700.9, 2,   9.1378, 2,  34.7012, 2,  34.6999, 2,    194.5, 1,    203.2, 2,    10.27, 2,    19.79, 2,     0.01, 2,     1.41, 2, -999.000, 9, -999.000, 9, -999.000, 9,   -999.0, 9,   -999.0, 9, -999.0000, 9,   -999.00, -999.000, 9, -999.000,   -999.0, 9,   -999.0,  -999.00, 9,   -999.0,   9.0591, 26.8763,   9.1371, 2, 708.2, 2, 207.54, 2, 0.14, 0.09, 0.01, 0.01, -999, 9,  -999.00, 9, -999, -999, 9, -999
49NZ20031106, A10, 72, 1, 25, 12013, 2, 20031126, 1254, -30.0023, -0.7300, 4823,    800.2, 2,   7.6553, 2,  34.5481, 2,  34.5475, 2,    187.6, 1,    195.9, 2,    13.79, 2,    24.22, 2,     0.00, 2,     1.68, 2, -999.000, 9, -999.000, 9, -999.000, 9,   -999.0, 9,   -999.0, 9, -999.0000, 9,   -999.00, -999.000, 1, -999.000,   -999.0, 9,   -999.0,  -999.00, 9,   -999.0,   7.5738, 26.9831,   7.6540, 2, 805.3, 2, 199.15, 2, 0.15, 0.1, 0.01, 0.01, -999, 9,     0.75, 2, 0.17, -999, 1, -999
49NZ20031106, A10, 72, 1, 24, 12048, 2, 20031126, 1254, -30.0023, -0.7300, 4823,    901.2, 2,   5.8378, 2,  34.3976, 2,  34.3921, 4,    199.9, 1,    209.5, 2,    19.70, 2,    27.53, 2,     0.01, 2,     1.88, 2, -999.000, 9, -999.000, 9, -999.000, 9,   -999.0, 9,   -999.0, 9, -999.0000, 9,   -999.00, -999.000, 9, -999.000,   -999.0, 9,   -999.0,  -999.00, 9,   -999.0,   5.7578, 27.1098,   5.8149, 2, 906.9, 2, 208.05, 2, 0.16, 0.11, 0.01, 0.01, -999, 9,  -999.00, 9, -999, -999, 9, -999
49NZ20031106, A10, 72, 1, 3, 12027, 2, 20031126, 1254, -30.0023, -0.7300, 4823,   1000.9, 2,   4.8468, 2,  34.3461, 2, -999.0000, 9,    200.0, 1,   -999.0, 9,  -999.00, 9,  -999.00, 9,  -999.00, 9,  -999.00, 9, -999.000, 9, -999.000, 9, -999.000, 9,   -999.0, 9,   -999.0, 9, -999.0000, 9,   -999.00, -999.000, 1, -999.000,   -999.0, 9,   -999.0,  -999.00, 9,   -999.0,   4.7648, 27.1846,   4.8457, 2, 1001.5, 2, 210.32, 2, -999, -999, -999, -999, -999, 9,  -999.00, 9, -999, -999, 9, -999
49NZ20031106, A10, 72, 1, 23, 12047, 2, 20031126, 1254, -30.0023, -0.7300, 4823,   1001.0, 2,   4.8507, 2,  34.3465, 2,  34.3466, 2,    200.1, 1,    209.3, 2,    24.91, 2,    29.55, 2,     0.00, 2,     2.03, 2, -999.000, 9, -999.000, 9, -999.000, 9,   -999.0, 9,   -999.0, 9, -999.0000, 9,   -999.00, -999.000, 1, -999.000,   -999.0, 9,   -999.0,  -999.00, 9,   -999.0,   4.7687, 27.1855,   4.8476, 2, 1001.5, 2, 210.31, 2, 0.17, 0.12, 0.01, 0.02, -999, 9,  -999.00, 1, -999, -999, 1, -999
49NZ20031106, A10, 72, 1, 22, 12046, 2, 20031126, 1254, -30.0023, -0.7300, 4823,   1200.5, 2,   3.7432, 2,  34.3948, 2,  34.3975, 4,    183.9, 1,    192.6, 2,    41.13, 2,    32.46, 2,     0.00, 2,     2.23, 2, -999.000, 9, -999.000, 9, -999.000, 9,   -999.0, 9,   -999.0, 9, -999.0000, 9,   -999.00, -999.000, 1, -999.000,   -999.0, 9,   -999.0,  -999.00, 9,   -999.0,   3.6531, 27.341,   3.7424, 2, 1202.4, 2, 194.9, 2, 0.21, 0.12, 0.01, 0.02, -999, 9,  -999.00, 5, -999, -999, 1, -999
49NZ20031106, A10, 72, 1, 21, 12045, 2, 20031126, 1254, -30.0023, -0.7300, 4823,   1400.0, 2,   3.2026, 2,  34.5267, 2,  34.5294, 4,    173.0, 1,    181.4, 2,    52.78, 2,    32.83, 2,     0.01, 2,     2.26, 2, -999.000, 9, -999.000, 9, -999.000, 9,   -999.0, 9,   -999.0, 9, -999.0000, 9,   -999.00, -999.000, 1, -999.000,   -999.0, 9,   -999.0,  -999.00, 9,   -999.0,   3.1010, 27.4989,   3.2026, 2, 1399.5, 2, 182.32, 2, 0.24, 0.12, 0.01, 0.02, -999, 9,     0.03, 2, 0.02, -999, 1, -999
49NZ20031106, A10, 72, 1, 20, 12044, 2, 20031126, 1254, -30.0023, -0.7300, 4823,   1599.3, 2,   3.0796, 2,  34.6573, 2,  34.6593, 2,    178.7, 1,    187.2, 2,    52.27, 2,    30.69, 2,     0.00, 2,     2.11, 2, -999.000, 9, -999.000, 9, -999.000, 9,   -999.0, 9,   -999.0, 9, -999.0000, 9,   -999.00, -999.000, 9, -999.000,   -999.0, 9,   -999.0,  -999.00, 9,   -999.0,   2.9622, 27.6162,   3.0795, 2, 1602.5, 2, 186.48, 2, 0.23, 0.12, 0.01, 0.02, -999, 9,  -999.00, 9, -999, -999, 9, -999
49NZ20031106, A10, 72, 1, 19, 12043, 2, 20031126, 1254, -30.0023, -0.7300, 4823,   1800.5, 2,   3.0372, 2,  34.7333, 2,  34.7343, 2,    188.2, 1,    197.2, 2,    49.39, 2,    28.71, 2,     0.01, 2,     1.96, 2, -999.000, 9, -999.000, 9, -999.000, 9,   -999.0, 9,   -999.0, 9, -999.0000, 9,   -999.00, -999.000, 9, -999.000,   -999.0, 9,   -999.0,  -999.00, 9,   -999.0,   2.9027, 27.6822,   3.0372, 2, 1801.3, 2, 197.14, 2, 0.23, 0.11, 0.01, 0.01, -999, 9,  -999.00, 9, -999, -999, 9, -999
49NZ20031106, A10, 72, 1, 18, 12042, 2, 20031126, 1254, -30.0023, -0.7300, 4823,   2001.4, 2,   2.9353, 2,  34.7815, 2,  34.7815, 2,    197.4, 1,    207.1, 2,    48.35, 2,    27.16, 2,     0.00, 2,     1.86, 2, -999.000, 9, -999.000, 9, -999.000, 9,   -999.0, 9,   -999.0, 9, -999.0000, 9,   -999.00, -999.000, 1, -999.000,   -999.0, 9,   -999.0,  -999.00, 9,   -999.0,   2.7841, 27.7314,   2.9353, 2, 2003, 2, 205.84, 2, 0.23, 0.11, 0.01, 0.01, -999, 9,  -999.00, 1, -999, -999, 1, -999
49NZ20031106, A10, 72, 1, 17, 12041, 2, 20031126, 1254, -30.0023, -0.7300, 4823,   2200.5, 2,   2.7344, 2,  34.8094, 2,  34.8098, 2,    205.2, 1,    215.5, 2,    50.22, 2,    26.23, 2,     0.00, 2,     1.78, 2, -999.000, 9, -999.000, 9, -999.000, 9,   -999.0, 9,   -999.0, 9, -999.0000, 9,   -999.00, -999.000, 9, -999.000,   -999.0, 9,   -999.0,  -999.00, 9,   -999.0,   2.5681, 27.7727,   2.7342, 2, 2201.2, 2, 215.26, 2, 0.23, 0.11, 0.01, 0.01, -999, 9,  -999.00, 9, -999, -999, 9, -999
49NZ20031106, A10, 72, 1, 16, 12040, 2, 20031126, 1254, -30.0023, -0.7300, 4823,   2400.5, 2,   2.6391, 2,  34.8210, 2,  34.8212, 2,    209.2, 1,    219.9, 2,    51.20, 2,    25.71, 2,     0.01, 2,     1.75, 2, -999.000, 9, -999.000, 9, -999.000, 9,   -999.0, 9,   -999.0, 9, -999.0000, 9,   -999.00, -999.000, 1, -999.000,   -999.0, 9,   -999.0,  -999.00, 9,   -999.0,   2.4557, 27.7914,   2.6394, 2, 2400.6, 2, 219.97, 2, 0.23, 0.1, 0.01, 0.01, -999, 9,  -999.00, 1, -999, -999, 1, -999
49NZ20031106, A10, 72, 1, 15, 12039, 2, 20031126, 1254, -30.0023, -0.7300, 4823,   2600.5, 2,   2.5154, 2,  34.8393, 2,  34.8392, 2,    215.0, 1,    226.1, 2,    51.59, 2,    24.97, 2,     0.01, 2,     1.69, 2, -999.000, 9, -999.000, 9, -999.000, 9,   -999.0, 9,   -999.0, 9, -999.0000, 9,   -999.00, -999.000, 9, -999.000,   -999.0, 9,   -999.0,  -999.00, 9,   -999.0,   2.3152, 27.8179,   2.5154, 2, 2600.8, 2, 225.94, 2, 0.23, 0.1, 0.01, 0.01, -999, 9,  -999.00, 9, -999, -999, 9, -999
49NZ20031106, A10, 72, 1, 14, 12038, 2, 20031126, 1254, -30.0023, -0.7300, 4823,   2799.2, 2,   2.4333, 2,  34.8525, 2,  34.8528, 2,    219.9, 1,    231.1, 2,    51.26, 2,    24.33, 2,     0.00, 2,     1.65, 2, -999.000, 9, -999.000, 9, -999.000, 9,   -999.0, 9,   -999.0, 9, -999.0000, 9,   -999.00, -999.000, 9, -999.000,   -999.0, 9,   -999.0,  -999.00, 9,   -999.0,   2.2153, 27.8371,   2.4331, 2, 2799.6, 2, 230.44, 2, 0.23, 0.1, 0.01, 0.01, -999, 9,  -999.00, 9, -999, -999, 9, -999
49NZ20031106, A10, 72, 1, 13, 12037, 2, 20031126, 1254, -30.0023, -0.7300, 4823,   2998.3, 2,   2.3984, 2,  34.8609, 2,  34.8605, 2,    222.3, 1,    233.7, 2,    51.02, 2,    23.92, 2,     0.01, 2,     1.63, 2, -999.000, 9, -999.000, 9, -999.000, 9,   -999.0, 9,   -999.0, 9, -999.0000, 9,   -999.00, -999.000, 1, -999.000,   -999.0, 9,   -999.0,  -999.00, 9,   -999.0,   2.1612, 27.8481,   2.3984, 2, 2999, 2, 233.23, 2, 0.23, 0.1, 0.01, 0.01, -999, 9,  -999.00, 1, -999, -999, 1, -999
49NZ20031106, A10, 72, 1, 12, 12036, 2, 20031126, 1254, -30.0023, -0.7300, 4823,   3249.0, 2,   2.3776, 2,  34.8661, 2,  34.8657, 2,    223.2, 1,    234.3, 2,    51.36, 2,    23.83, 2,     0.01, 2,     1.61, 2, -999.000, 9, -999.000, 9, -999.000, 9,   -999.0, 9,   -999.0, 9, -999.0000, 9,   -999.00, -999.000, 9, -999.000,   -999.0, 9,   -999.0,  -999.00, 9,   -999.0,   2.1151, 27.8561,   2.3776, 2, 3248.6, 2, 234.41, 2, 0.23, 0.1, 0.01, 0.01, -999, 9,  -999.00, 9, -999, -999, 9, -999
49NZ20031106, A10, 72, 1, 11, 12035, 2, 20031126, 1254, -30.0023, -0.7300, 4823,   3500.2, 2,   2.3376, 2,  34.8698, 2,  34.8697, 2,    223.1, 1,    233.8, 2,    52.59, 2,    23.75, 2,     0.00, 2,     1.61, 2, -999.000, 9, -999.000, 9, -999.000, 9,   -999.0, 9,   -999.0, 9, -999.0000, 9,   -999.00, -999.000, 1, -999.000,   -999.0, 9,   -999.0,  -999.00, 9,   -999.0,   2.0494, 27.8645,   2.3375, 2, 3500.3, 2, 233.97, 2, 0.23, 0.1, 0.01, 0.01, -999, 9,  -999.00, 1, -999, -999, 1, -999
49NZ20031106, A10, 72, 1, 10, 12034, 2, 20031126, 1254, -30.0023, -0.7300, 4823,   3751.3, 2,   2.3243, 2,  34.8736, 2,  34.8738, 2,    223.3, 1,    233.4, 2,    53.23, 2,    23.68, 2,     0.01, 2,     1.60, 2, -999.000, 9, -999.000, 9, -999.000, 9,   -999.0, 9,   -999.0, 9, -999.0000, 9,   -999.00, -999.000, 9, -999.000,   -999.0, 9,   -999.0,  -999.00, 9,   -999.0,   2.0090, 27.8709,   2.3242, 2, 3751.3, 2, 233.33, 2, 0.24, 0.1, 0.01, 0.01, -999, 9,  -999.00, 9, -999, -999, 9, -999
49NZ20031106, A10, 72, 1, 9, 12033, 2, 20031126, 1254, -30.0023, -0.7300, 4823,   4000.8, 2,   2.3121, 2,  34.8721, 2,  34.8717, 2,    222.8, 1,    232.1, 2,    54.68, 2,    23.87, 2,     0.01, 2,     1.62, 2, -999.000, 9, -999.000, 9, -999.000, 9,   -999.0, 9,   -999.0, 9, -999.0000, 9,   -999.00, -999.000, 1, -999.000,   -999.0, 9,   -999.0,  -999.00, 9,   -999.0,   1.9692, 27.8728,   2.3121, 2, 4000.6, 2, 232.16, 2, 0.24, 0.1, 0.01, 0.01, -999, 9,  -999.00, 1, -999, -999, 1, -999
49NZ20031106, A10, 72, 1, 8, 12032, 2, 20031126, 1254, -30.0023, -0.7300, 4823,   4250.2, 2,   2.3019, 2,  34.8682, 2,  34.8681, 2,    223.0, 1,    231.6, 2,    56.33, 2,    24.09, 2,     0.00, 2,     1.63, 2, -999.000, 9, -999.000, 9, -999.000, 9,   -999.0, 9,   -999.0, 9, -999.0000, 9,   -999.00, -999.000, 9, -999.000,   -999.0, 9,   -999.0,  -999.00, 9,   -999.0,   1.9305, 27.873,   2.3020, 2, 4250.2, 2, 231.89, 2, 0.24, 0.1, 0.01, 0.01, -999, 9,  -999.00, 9, -999, -999, 9, -999
49NZ20031106, A10, 72, 1, 7, 12031, 2, 20031126, 1254, -30.0023, -0.7300, 4823,   4500.0, 2,   2.2978, 2,  34.8647, 2,  34.8645, 2,    223.6, 1,    231.1, 2,    57.75, 2,    24.23, 2,     0.01, 2,     1.64, 2, -999.000, 9, -999.000, 9, -999.000, 9,   -999.0, 9,   -999.0, 9, -999.0000, 9,   -999.00, -999.000, 1, -999.000,   -999.0, 9,   -999.0,  -999.00, 9,   -999.0,   1.8969, 27.8727,   2.2977, 2, 4500, 2, 231.34, 2, 0.25, 0.1, 0.01, 0.01, -999, 9,  -999.00, 1, -999, -999, 1, -999
49NZ20031106, A10, 72, 1, 6, 12030, 2, 20031126, 1254, -30.0023, -0.7300, 4823,   4750.9, 2,   2.3100, 2,  34.8623, 2,  34.8625, 2,    224.9, 1,    231.0, 2,    58.54, 2,    24.38, 2,     0.01, 2,     1.65, 2, -999.000, 9, -999.000, 9, -999.000, 9,   -999.0, 9,   -999.0, 9, -999.0000, 9,   -999.00, -999.000, 9, -999.000,   -999.0, 9,   -999.0,  -999.00, 9,   -999.0,   1.8783, 27.8724,   2.3101, 2, 4750.9, 2, 230.93, 2, 0.25, 0.1, 0.01, 0.01, -999, 9,  -999.00, 9, -999, -999, 9, -999
49NZ20031106, A10, 72, 1, 5, 12029, 2, 20031126, 1254, -30.0023, -0.7300, 4823,   4885.0, 2,   2.3017, 2,  34.8595, 2,  34.8596, 2,    225.8, 1,    230.5, 2,    59.54, 2,    24.48, 2,     0.00, 2,     1.66, 2, -999.000, 9, -999.000, 9, -999.000, 9,   -999.0, 9,   -999.0, 9, -999.0000, 9,   -999.00, -999.000, 1, -999.000,   -999.0, 9,   -999.0,  -999.00, 9,   -999.0,   1.8536, 27.872,   2.3018, 2, 4885, 2, 230.25, 2, 0.25, 0.1, 0.01, 0.01, -999, 9,  -999.00, 1, -999, -999, 1, -999
49NZ20031106, A10, 72, 1, 1, 12025, 2, 20031126, 1254, -30.0023, -0.7300, 4823,   4885.0, 2,   2.3017, 2,  34.8593, 2, -999.0000, 9,    225.9, 1,   -999.0, 9,  -999.00, 9,  -999.00, 9,  -999.00, 9,  -999.00, 9, -999.000, 9, -999.000, 9, -999.000, 9,   -999.0, 9,   -999.0, 9, -999.0000, 9,   -999.00, -999.000, 9, -999.000,   -999.0, 9,   -999.0,  -999.00, 9,   -999.0,   1.8536, 27.872,   2.3017, 2, 4885, 2, 230.25, 2, -999, -999, -999, -999, -999, 9,  -999.00, 9, -999, -999, 9, -999