BOTTLE,20220818CCHSIOAMB
EXPOCODE,SECT_ID,STNNBR,CASTNO,SAMPNO,BTLNBR,BTLNBR_FLAG_W,DATE,TIME,LATITUDE,LONGITUDE,DEPTH,CTDPRS,CTDPRS_FLAG_W,CTDTMP,CTDTMP_FLAG_W,CTDSAL,CTDSAL_FLAG_W,SALNTY,SALNTY_FLAG_W,CTDOXY,CTDOXY_FLAG_W,OXYGEN,OXYGEN_FLAG_W,SILCAT,SILCAT_FLAG_W,NITRAT,NITRAT_FLAG_W,NITRIT,NITRIT_FLAG_W,PHSPHT,PHSPHT_FLAG_W,CFC-11,CFC-11_FLAG_W,CFC-12,CFC-12_FLAG_W,CFC113,CFC113_FLAG_W,TCARBN,TCARBN_FLAG_W,ALKALI,ALKALI_FLAG_W,PH_TOT,PH_TOT_FLAG_W,PH_TMP,TRITUM,TRITUM_FLAG_W,TRITER,DELC14,DELC14_FLAG_W,C14ERR,DELC13,DELC13_FLAG_W,C13ERR,THETA,SIG0,SBE35,SBE35_FLAG_W,DWNPRS,DWNPRS_FLAG_W,DWNOXY,DWNOXY_FLAG_W,SILUNC,NRAUNC,NRIUNC,PHPUNC,TOC,TOC_FLAG_W,CS-137,CS-137_FLAG_W,CS137ER,PLUTO,PLUTO_FLAG_W,PLUTOER
,,,,,,,,,,,METERS,DBAR,,ITS-90,,PSS-78,,PSS-78,,UMOL/KG,,UMOL/KG,,UMOL/KG,,UMOL/KG,,UMOL/KG,,UMOL/KG,,PMOL/KG,,PMOL/KG,,PMOL/KG,,UMOL/KG,,UMOL/KG,,,,DEG C,TU,,TU,/MILLE,,/MILLE,/MILLE,,/MILLE,DEG C,KG/M^3,ITS-90,,DBAR,,UMOL/KG,,UMOL/KG,UMOL/KG,UMOL/KG,UMOL/KG,UMOL/KG,,BQ/M^3,,BQ/M^3,MBQ/M^3,,MBQ/M^3
49NZ20031106, A10, 59, 1, 3, 12039, 2, 20031122, 750, -30.0010, -11.0028, 3718,      5.4, 2,  19.8886, 2,  35.9854, 2, -999.0000, 9,    218.4, 1,   -999.0, 9,  -999.00, 9,  -999.00, 9,  -999.00, 9,  -999.00, 9, -999.000, 9, -999.000, 9, -999.000, 9,   -999.0, 9,   -999.0, 9, -999.0000, 9,   -999.00, -999.000, 9, -999.000,   -999.0, 9,   -999.0,  -999.00, 9,   -999.0,  19.8876, 25.5439,  19.8897, 2, 5.4, 2, 231.37, 2, -999, -999, -999, -999, -999, 9,  -999.00, 9, -999, -999, 9, -999
49NZ20031106, A10, 59, 1, 5, 12041, 9, 20031122, 750, -30.0010, -11.0028, 3718,      5.5, 2,  19.8924, 2,  35.9855, 2, -999.0000, 9,    218.0, 1,   -999.0, 9,  -999.00, 9,  -999.00, 9,  -999.00, 9,  -999.00, 9, -999.000, 9, -999.000, 9, -999.000, 9,   -999.0, 9,   -999.0, 9, -999.0000, 9,   -999.00, -999.000, 9, -999.000,   -999.0, 9,   -999.0,  -999.00, 9,   -999.0,  19.8914, 25.5428,  19.8939, 2, 5.5, 2, 231.34, 2, -999, -999, -999, -999, -999, 9,  -999.00, 9, -999, -999, 9, -999
49NZ20031106, A10, 59, 1, 4, 12040, 2, 20031122, 750, -30.0010, -11.0028, 3718,      5.5, 2,  19.8934, 2,  35.9855, 2, -999.0000, 9,    218.2, 1,   -999.0, 9,  -999.00, 9,  -999.00, 9,  -999.00, 9,  -999.00, 9, -999.000, 9, -999.000, 9, -999.000, 9,   -999.0, 9,   -999.0, 9, -999.0000, 9,   -999.00, -999.000, 9, -999.000,   -999.0, 9,   -999.0,  -999.00, 9,   -999.0,  19.8924, 25.5421,  19.8958, 2, 5.5, 2, 231.34, 2, -999, -999, -999, -999, -999, 9,  -999.00, 9, -999, -999, 9, -999
49NZ20031106, A10, 59, 1, 36, 12036, 2, 20031122, 750, -30.0010, -11.0028, 3718,     10.1, 2,  19.8856, 2,  35.9854, 2,  35.9846, 2,    218.3, 1,    231.3, 2,     1.18, 2,     0.03, 2,     0.00, 2,     0.18, 2,    2.456, 2,    1.376, 2,    0.308, 4,   2074.2, 2,   2358.9, 2,    8.0059, 2,     25.00, -999.000, 9, -999.000,     88.6, 2,      5.6,     1.39, 2,      0.0,  19.8837, 25.5457,  19.8867, 2, 8.5, 2, 230.94, 2, 0.12, 0.03, 0.01, 0.02, -999, 1,  -999.00, 9, -999, -999, 9, -999
49NZ20031106, A10, 59, 1, 35, 12035, 2, 20031122, 750, -30.0010, -11.0028, 3718,     50.7, 2,  18.2735, 2,  35.7544, 2,  35.7544, 2,    228.0, 1,    241.2, 2,     1.04, 2,     0.03, 2,     0.00, 2,     0.16, 2,    2.742, 2,    1.527, 2,    0.398, 4,   2065.9, 6,   2346.9, 2,    7.9972, 2,     25.00, -999.000, 9, -999.000,     70.2, 2,      4.2,     1.42, 2,      0.0,  18.2647, 25.7879,  18.2663, 2, 51.5, 2, 240.64, 2, 0.12, 0.03, 0.01, 0.02, -999, 1,  -999.00, 9, -999, -999, 9, -999
49NZ20031106, A10, 59, 1, 34, 12034, 2, 20031122, 750, -30.0010, -11.0028, 3718,    100.0, 2,  17.2844, 2,  35.6908, 2,  35.6911, 2,    227.3, 1,    240.3, 2,     1.05, 2,     0.02, 2,     0.00, 2,     0.18, 2,    2.709, 2,    1.502, 2,    0.349, 4,   2067.3, 2,   2340.9, 6,    7.9885, 2,     25.00, -999.000, 9, -999.000,     76.3, 2,      4.1,     1.40, 2,      0.0,  17.2677, 25.9797,  17.2889, 2, 106.5, 2, 240.1, 2, 0.12, 0.03, 0.01, 0.02, -999, 1,  -999.00, 9, -999, -999, 9, -999
49NZ20031106, A10, 59, 1, 2, 12038, 2, 20031122, 750, -30.0010, -11.0028, 3718,    148.7, 2,  16.0117, 2,  35.5031, 2, -999.0000, 9,    220.7, 1,   -999.0, 9,  -999.00, 9,  -999.00, 9,  -999.00, 9,  -999.00, 9, -999.000, 9, -999.000, 9, -999.000, 9,   -999.0, 9,   -999.0, 9, -999.0000, 9,   -999.00, -999.000, 9, -999.000,   -999.0, 9,   -999.0,  -999.00, 9,   -999.0,  15.9881, 26.1381,  16.0114, 2, 158, 2, 235.35, 2, -999, -999, -999, -999, -999, 9,  -999.00, 9, -999, -999, 9, -999
49NZ20031106, A10, 59, 1, 33, 12033, 2, 20031122, 750, -30.0010, -11.0028, 3718,    148.8, 2,  16.0086, 2,  35.5141, 2,  35.5050, 3,    219.5, 1,    232.4, 2,     1.24, 2,     0.96, 2,     0.11, 2,     0.30, 2,    2.897, 2,    1.593, 2,    0.280, 4,   2078.8, 2,   2331.8, 2,    7.9526, 6,     25.00, -999.000, 9, -999.000,     84.9, 2,      4.1,     1.39, 2,      0.0,  15.9850, 26.1539,  16.0121, 2, 158.8, 2, 235.34, 2, 0.12, 0.04, 0.01, 0.01, -999, 1,  -999.00, 9, -999, -999, 9, -999
49NZ20031106, A10, 59, 1, 32, 12032, 2, 20031122, 750, -30.0010, -11.0028, 3718,    201.3, 2,  14.7628, 2,  35.4052, 2,  35.4087, 2,    209.4, 1,    220.2, 2,     1.99, 2,     4.77, 2,     0.01, 2,     0.49, 2,    2.994, 2,    1.649, 2,    0.120, 4,   2095.5, 2,   2322.3, 2,    7.9106, 2,     25.00, -999.000, 9, -999.000,     74.4, 6,      6.6,     1.19, 6,      0.0,  14.7325, 26.3418,  14.7664, 2, 214.5, 2, 220.27, 2, 0.12, 0.05, 0.01, 0.01, -999, 1,  -999.00, 9, -999, -999, 9, -999
49NZ20031106, A10, 59, 1, 31, 12031, 2, 20031122, 750, -30.0010, -11.0028, 3718,    251.2, 2,  13.7827, 2,  35.2802, 2,  35.2781, 2,    206.9, 1,    217.4, 2,     2.54, 2,     7.22, 2,     0.00, 2,     0.63, 2,    3.142, 6,    1.712, 6,    0.088, 4,   2103.3, 2,   2317.8, 2,    7.8838, 2,     25.00, -999.000, 9, -999.000,     62.5, 3,      3.8,     1.19, 2,      0.0,  13.7466, 26.4574,  13.7822, 2, 262.1, 2, 218.75, 2, 0.12, 0.05, 0.01, 0.01, -999, 1,  -999.00, 9, -999, -999, 9, -999
49NZ20031106, A10, 59, 1, 30, 12030, 2, 20031122, 750, -30.0010, -11.0028, 3718,    299.6, 2,  13.2524, 2,  35.2255, 2,  35.2258, 2,    207.3, 1,    217.9, 2,     2.62, 2,     8.34, 2,     0.00, 2,     0.69, 2,    3.096, 4,    1.679, 4,    0.081, 4,   2107.6, 2,   2314.5, 2,    7.8717, 2,     25.00, -999.000, 9, -999.000,     82.7, 2,      3.9,     1.20, 2,      0.0,  13.2104, 26.5253,  13.2515, 2, 303, 2, 217.79, 2, 0.12, 0.06, 0.01, 0.01, -999, 1,  -999.00, 9, -999, -999, 9, -999
49NZ20031106, A10, 59, 1, 29, 12029, 2, 20031122, 750, -30.0010, -11.0028, 3718,    400.0, 2,  11.5482, 2,  34.9920, 2,  34.9914, 2,    201.9, 1,    211.5, 2,     4.76, 2,    13.14, 2,     0.00, 2,     0.99, 2,    3.195, 2,    1.670, 2,    0.097, 4,   2123.2, 2,   2300.0, 2,    7.8175, 2,     25.00, -999.000, 9, -999.000,     58.8, 2,      5.5,     1.12, 2,      0.0,  11.4969, 26.6787,  11.5472, 2, 400.5, 2, 211.74, 2, 0.13, 0.07, 0.01, 0.01, -999, 1,  -999.00, 9, -999, -999, 9, -999
49NZ20031106, A10, 59, 1, 28, 12028, 2, 20031122, 750, -30.0010, -11.0028, 3718,    500.2, 2,   9.8324, 2,  34.7802, 2,  34.7781, 2,    199.2, 1,    208.4, 2,     6.87, 2,    17.61, 2,     0.00, 2,     1.27, 2,    3.143, 2,    1.592, 2,    0.117, 4,   2138.5, 2,   2295.5, 2,    7.7683, 2,     25.00, -999.000, 9, -999.000,     48.8, 2,      4.0,     1.12, 2,      0.0,   9.7742, 26.8184,   9.8320, 2, 499.8, 2, 208.55, 2, 0.13, 0.08, 0.01, 0.01, -999, 1,  -999.00, 9, -999, -999, 9, -999
49NZ20031106, A10, 59, 1, 27, 12027, 2, 20031122, 750, -30.0010, -11.0028, 3718,    598.8, 2,   8.0162, 2,  34.5774, 2,  34.5753, 2,    198.8, 1,    207.7, 2,    10.36, 2,    22.23, 2,     0.00, 2,     1.56, 2,    3.098, 2,    1.511, 2,    0.125, 4,   2152.7, 2,   2289.7, 2,    7.7213, 2,     25.00, -999.000, 9, -999.000,     31.5, 2,      4.0,     1.05, 2,      0.0,   7.9543, 26.9486,   8.0156, 2, 597.4, 2, 208.67, 2, 0.14, 0.1, 0.01, 0.01, -999, 1,  -999.00, 9, -999, -999, 9, -999
49NZ20031106, A10, 59, 1, 26, 12026, 2, 20031122, 750, -30.0010, -11.0028, 3718,    700.8, 2,   6.4013, 2,  34.4271, 2,  34.4248, 2,    202.2, 1,    211.3, 2,    15.01, 2,    26.09, 2,    -0.01, 2,     1.82, 2,    2.916, 2,    1.381, 2,    0.140, 4,   2165.8, 6,   2286.2, 2,    7.6822, 2,     25.00, -999.000, 9, -999.000,     19.2, 2,      4.0,     1.08, 2,      0.0,   6.3370, 27.0567,   6.4000, 2, 695.8, 2, 211.64, 2, 0.15, 0.11, 0.01, 0.01, -999, 1,  -999.00, 9, -999, -999, 9, -999
49NZ20031106, A10, 59, 1, 25, 12025, 2, 20031122, 750, -30.0010, -11.0028, 3718,    799.9, 2,   5.1172, 2,  34.3429, 2,  34.3429, 2,    206.3, 1,    215.5, 2,    20.67, 2,    28.69, 2,    -0.01, 2,     1.99, 2,    2.602, 2,    1.205, 2,    0.128, 4,   2176.8, 2,   2287.6, 6,    7.6595, 2,     25.00, -999.000, 9, -999.000,    -55.3, 4,      3.7,     1.06, 2,      0.0,   5.0512, 27.1497,   5.1080, 2, 796.8, 2, 215.79, 2, 0.16, 0.11, 0.01, 0.02, -999, 1,  -999.00, 9, -999, -999, 9, -999
49NZ20031106, A10, 59, 1, 24, 12024, 2, 20031122, 750, -30.0010, -11.0028, 3718,    902.4, 2,   4.3649, 2,  34.3117, 2,  34.3148, 2,    209.1, 1,    217.6, 2,    25.85, 2,    29.89, 2,     0.00, 2,     2.09, 2,    2.332, 2,    1.057, 2,    0.118, 4,   2184.4, 2,   2290.6, 2,    7.6487, 6,     25.00, -999.000, 9, -999.000,    -38.1, 2,      3.6,     0.92, 2,      0.0,   4.2950, 27.2087,   4.3650, 2, 896.9, 2, 217.65, 2, 0.18, 0.12, 0.01, 0.02, -999, 1,  -999.00, 9, -999, -999, 9, -999
49NZ20031106, A10, 59, 1, 7, 12043, 9, 20031122, 750, -30.0010, -11.0028, 3718,   1000.8, 2,   3.8369, 2,  34.3398, 2, -999.0000, 9,    199.0, 1,   -999.0, 9,  -999.00, 9,  -999.00, 9,  -999.00, 9,  -999.00, 9, -999.000, 9, -999.000, 9, -999.000, 9,   -999.0, 9,   -999.0, 9, -999.0000, 9,   -999.00, -999.000, 9, -999.000,   -999.0, 9,   -999.0,  -999.00, 9,   -999.0,   3.7627, 27.2857,   3.8367, 2, 997.2, 2, 205.98, 2, -999, -999, -999, -999, -999, 9,  -999.00, 9, -999, -999, 9, -999
49NZ20031106, A10, 59, 1, 8, 12044, 9, 20031122, 750, -30.0010, -11.0028, 3718,   1001.1, 2,   3.8385, 2,  34.3396, 2, -999.0000, 9,    199.1, 1,   -999.0, 9,  -999.00, 9,  -999.00, 9,  -999.00, 9,  -999.00, 9, -999.000, 9, -999.000, 9, -999.000, 9,   -999.0, 9,   -999.0, 9, -999.0000, 9,   -999.00, -999.000, 9, -999.000,   -999.0, 9,   -999.0,  -999.00, 9,   -999.0,   3.7643, 27.2853,   3.8385, 2, 997.4, 2, 205.98, 2, -999, -999, -999, -999, -999, 9,  -999.00, 9, -999, -999, 9, -999
49NZ20031106, A10, 59, 1, 23, 12023, 2, 20031122, 750, -30.0010, -11.0028, 3718,   1001.2, 2,   3.8322, 2,  34.3402, 2,  34.3402, 2,    199.0, 1,    208.2, 2,    34.15, 2,    31.48, 2,    -0.01, 2,     2.19, 2,    1.701, 6,    0.770, 6,    0.078, 4,   2199.9, 2,   2294.1, 2,    7.6267, 2,     25.00, -999.000, 9, -999.000,    -67.6, 2,      5.4,     0.89, 2,      0.0,   3.7580, 27.286,   3.8319, 2, 997.7, 2, 205.98, 2, 0.19, 0.12, 0.01, 0.02, -999, 1,  -999.00, 9, -999, -999, 9, -999
49NZ20031106, A10, 59, 1, 9, 12045, 9, 20031122, 750, -30.0010, -11.0028, 3718,   1001.5, 2,   3.8402, 2,  34.3396, 2, -999.0000, 9,    199.2, 1,   -999.0, 9,  -999.00, 9,  -999.00, 9,  -999.00, 9,  -999.00, 9, -999.000, 9, -999.000, 9, -999.000, 9,   -999.0, 9,   -999.0, 9, -999.0000, 9,   -999.00, -999.000, 9, -999.000,   -999.0, 9,   -999.0,  -999.00, 9,   -999.0,   3.7659, 27.2852,   3.8401, 2, 997.7, 2, 205.98, 2, -999, -999, -999, -999, -999, 9,  -999.00, 9, -999, -999, 9, -999
49NZ20031106, A10, 59, 1, 6, 12042, 9, 20031122, 750, -30.0010, -11.0028, 3718,   1001.5, 2,   3.8334, 2,  34.3399, 2, -999.0000, 9,    198.9, 1,   -999.0, 9,  -999.00, 9,  -999.00, 9,  -999.00, 9,  -999.00, 9, -999.000, 9, -999.000, 9, -999.000, 9,   -999.0, 9,   -999.0, 9, -999.0000, 9,   -999.00, -999.000, 9, -999.000,   -999.0, 9,   -999.0,  -999.00, 9,   -999.0,   3.7592, 27.2861,   3.8337, 2, 998, 2, 205.97, 2, -999, -999, -999, -999, -999, 9,  -999.00, 9, -999, -999, 9, -999
49NZ20031106, A10, 59, 1, 22, 12022, 2, 20031122, 750, -30.0010, -11.0028, 3718,   1200.6, 2,   3.2009, 2,  34.4509, 2,  34.4510, 2,    182.4, 1,    190.4, 2,    49.05, 2,    32.88, 2,    -0.01, 2,     2.30, 2,    0.717, 2,    0.322, 2,    0.036, 4,   2223.5, 2,   2317.5, 2,    7.6035, 2,     25.00, -999.000, 9, -999.000,    -98.8, 2,      3.5,     0.69, 2,      0.0,   3.1157, 27.4367,   3.2008, 2, 1199, 2, 189.81, 2, 0.23, 0.12, 0.01, 0.02, -999, 1,  -999.00, 9, -999, -999, 9, -999
49NZ20031106, A10, 59, 1, 21, 12015, 2, 20031122, 750, -30.0010, -11.0028, 3718,   1401.0, 2,   2.9565, 2,  34.5806, 2,  34.5814, 2,    178.9, 1,    186.3, 2,    55.32, 2,    32.01, 2,    -0.01, 2,     2.22, 2,    0.225, 4,    0.105, 4,    0.007, 4,   2230.4, 2,   2325.3, 2,    7.6092, 2,     25.00, -999.000, 9, -999.000,   -134.1, 2,      3.3,     0.63, 2,      0.0,   2.8573, 27.564,   2.9570, 2, 1398.6, 2, 186.73, 2, 0.24, 0.12, 0.01, 0.02, -999, 1,  -999.00, 9, -999, -999, 9, -999
49NZ20031106, A10, 59, 1, 20, 12020, 2, 20031122, 750, -30.0010, -11.0028, 3718,   1599.9, 2,   2.8632, 2,  34.6843, 2,  34.6864, 2,    186.7, 1,    194.7, 2,    54.54, 2,    29.93, 2,    -0.01, 2,     2.07, 2,    0.088, 2,    0.043, 2,    0.000, 4,   2222.5, 2,   2327.4, 2,    7.6313, 2,     25.00, -999.000, 9, -999.000,   -131.7, 2,      3.4,     0.70, 2,      0.0,   2.7483, 27.6563,   2.8630, 2, 1599, 2, 194.48, 2, 0.24, 0.12, 0.01, 0.02, -999, 1,  -999.00, 9, -999, -999, 9, -999
49NZ20031106, A10, 59, 1, 19, 12019, 2, 20031122, 750, -30.0010, -11.0028, 3718,   1799.9, 2,   2.7824, 2,  34.7544, 2,  34.7548, 2,    196.8, 1,    205.1, 2,    52.90, 2,    28.04, 2,    -0.01, 2,     1.92, 2,    0.033, 2,    0.016, 2,    0.000, 4,   2216.8, 2,   2327.8, 2,    7.6551, 2,     25.00, -999.000, 9, -999.000,   -119.9, 2,      3.5,     0.69, 2,      0.0,   2.6513, 27.7211,   2.7828, 2, 1799.7, 2, 204.71, 2, 0.24, 0.11, 0.01, 0.01, -999, 1,  -999.00, 9, -999, -999, 9, -999
49NZ20031106, A10, 59, 1, 18, 12018, 2, 20031122, 750, -30.0010, -11.0028, 3718,   2001.1, 2,   2.7030, 2,  34.7979, 2,  34.7978, 2,    205.7, 1,    214.4, 2,    51.38, 2,    26.60, 2,    -0.01, 2,     1.84, 2,    0.009, 2,    0.003, 2,    0.000, 4,   2212.1, 2,   2329.5, 2,    7.6729, 2,     25.00, -999.000, 9, -999.000,   -122.9, 2,      5.0,     0.80, 2,      0.0,   2.5553, 27.7643,   2.7031, 2, 2001.2, 2, 213.84, 2, 0.23, 0.11, 0.01, 0.01, -999, 1,  -999.00, 9, -999, -999, 9, -999
49NZ20031106, A10, 59, 1, 17, 12017, 2, 20031122, 750, -30.0010, -11.0028, 3718,   2200.9, 2,   2.5996, 2,  34.8236, 2,  34.8233, 2,    212.8, 1,    221.8, 2,    51.11, 2,    25.66, 2,    -0.01, 2,     1.77, 2,    0.004, 2,    0.003, 2,    0.000, 4,   2208.4, 2,   2332.0, 2,    7.6864, 2,     25.00, -999.000, 9, -999.000,   -124.1, 2,      3.3,     0.84, 2,      0.0,   2.4354, 27.7954,   2.5997, 2, 2201.6, 2, 220.89, 2, 0.23, 0.1, 0.01, 0.01, -999, 1,  -999.00, 9, -999, -999, 9, -999
49NZ20031106, A10, 59, 1, 16, 12016, 2, 20031122, 750, -30.0010, -11.0028, 3718,   2399.6, 2,   2.5031, 2,  34.8425, 2,  34.8431, 2,    219.3, 1,    228.7, 2,    50.60, 2,    24.81, 2,    -0.01, 2,     1.71, 2,   -0.002, 2,   -0.001, 2,    0.000, 4,   2203.0, 6,   2335.5, 2,    7.6987, 2,     25.00, -999.000, 9, -999.000,   -117.4, 2,      3.5,     0.86, 2,      0.0,   2.3222, 27.8199,   2.5033, 2, 2399.9, 2, 227.88, 2, 0.23, 0.1, 0.01, 0.01, -999, 1,  -999.00, 9, -999, -999, 9, -999
49NZ20031106, A10, 59, 1, 15, 12012, 2, 20031122, 750, -30.0010, -11.0028, 3718,   2602.3, 2,   2.4590, 2,  34.8530, 2,  34.8531, 2,    223.8, 1,    233.1, 2,    49.97, 2,    24.24, 2,    -0.01, 2,     1.68, 2,    0.002, 2,   -0.001, 2,    0.000, 4,   2199.9, 2,   2334.3, 6,    7.7067, 2,     25.00, -999.000, 9, -999.000,   -109.8, 2,      3.5,     0.89, 2,      0.0,   2.2596, 27.8338,   2.4590, 2, 2602.5, 2, 232.96, 2, 0.23, 0.1, 0.01, 0.01, -999, 1,  -999.00, 9, -999, -999, 9, -999
49NZ20031106, A10, 59, 1, 14, 12014, 2, 20031122, 750, -30.0010, -11.0028, 3718,   2801.1, 2,   2.4334, 2,  34.8598, 2,  34.8597, 2,    227.2, 1,    236.3, 2,    49.50, 2,    23.83, 2,    -0.01, 2,     1.64, 2,    0.010, 2,    0.002, 2,    0.000, 4,   2199.0, 2,   2332.3, 2,    7.7108, 6,     25.00, -999.000, 9, -999.000,   -109.4, 2,      3.5,     0.91, 2,      0.0,   2.2152, 27.8427,   2.4336, 2, 2801.1, 2, 236.35, 2, 0.23, 0.1, 0.01, 0.01, -999, 1,  -999.00, 9, -999, -999, 9, -999
49NZ20031106, A10, 59, 1, 13, 12013, 2, 20031122, 750, -30.0010, -11.0028, 3718,   3001.8, 2,   2.3987, 2,  34.8643, 2,  34.8638, 2,    229.4, 1,    238.1, 2,    49.82, 2,    23.65, 2,    -0.01, 2,     1.64, 2,   -0.002, 2,    0.001, 2,    0.000, 4,   2199.8, 2,   2331.5, 2,    7.7156, 2,     25.00, -999.000, 9, -999.000,   -112.2, 6,      2.9,     0.87, 6,      0.0,   2.1611, 27.8508,   2.3989, 2, 3001.8, 2, 238.09, 2, 0.23, 0.1, 0.01, 0.01, -999, 1,  -999.00, 9, -999, -999, 9, -999
49NZ20031106, A10, 59, 1, 1, 12037, 2, 20031122, 750, -30.0010, -11.0028, 3718,   3250.6, 2,   2.3748, 2,  34.8664, 2,  34.8661, 2,    231.0, 1,    239.3, 2,    50.43, 2,    23.58, 2,    -0.01, 2,     1.63, 2,   -0.005, 2,   -0.002, 2,    0.000, 4,   2198.8, 2,   2337.0, 2,    7.7175, 2,     25.00, -999.000, 9, -999.000,   -105.8, 2,      3.4,     0.90, 2,      0.0,   2.1122, 27.8566,   2.3748, 2, 3250.7, 2, 238.85, 2, 0.23, 0.1, 0.01, 0.01, -999, 1,  -999.00, 9, -999, -999, 9, -999
49NZ20031106, A10, 59, 1, 11, 12047, 2, 20031122, 750, -30.0010, -11.0028, 3718,   3499.5, 2,   2.3743, 2,  34.8690, 2,  34.8690, 2,    231.5, 1,    238.5, 2,    50.89, 2,    23.50, 2,    -0.01, 2,     1.63, 2,   -0.002, 4,    0.002, 4,    0.000, 4,   2202.3, 2,   2335.9, 2,    7.7173, 2,     25.00, -999.000, 9, -999.000,   -107.3, 2,      3.6,     0.92, 3,      0.0,   2.0853, 27.8608,   2.3743, 2, 3499.5, 2, 238.46, 2, 0.23, 0.1, 0.01, 0.01, -999, 1,  -999.00, 9, -999, -999, 9, -999
49NZ20031106, A10, 59, 1, 12, 12048, 2, 20031122, 750, -30.0010, -11.0028, 3718,   3500.1, 2,   2.3742, 2,  34.8691, 2,  34.8691, 2,    231.6, 1,    238.8, 2,    50.89, 2,    23.47, 2,    -0.01, 2,     1.62, 2,   -0.002, 2,   -0.001, 2,    0.000, 4,   2202.7, 2,   2334.8, 2,    7.7183, 2,     25.00, -999.000, 9, -999.000,   -105.9, 2,      3.5,     0.85, 2,      0.0,   2.0851, 27.8609,   2.3744, 2, 3500.1, 2, 238.46, 2, 0.23, 0.1, 0.01, 0.01, -999, 9,  -999.00, 9, -999, -999, 9, -999
49NZ20031106, A10, 59, 1, 10, 12046, 2, 20031122, 750, -30.0010, -11.0028, 3718,   3766.8, 2,   2.4013, 2,  34.8730, 2,  34.8733, 2,    232.2, 1,    237.7, 2,    50.61, 2,    23.51, 2,    -0.01, 2,     1.62, 2,    0.026, 2,    0.009, 2,    0.000, 4,   2204.8, 2,   2344.9, 2,    7.7200, 2,     25.00, -999.000, 9, -999.000,   -101.7, 2,      3.5,     0.89, 2,      0.0,   2.0823, 27.8643,   2.4013, 2, 3766.8, 2, 237.63, 2, 0.23, 0.1, 0.01, 0.01, -999, 1,  -999.00, 9, -999, -999, 9, -999