BOTTLE,20220818CCHSIOAMB
EXPOCODE,SECT_ID,STNNBR,CASTNO,SAMPNO,BTLNBR,BTLNBR_FLAG_W,DATE,TIME,LATITUDE,LONGITUDE,DEPTH,CTDPRS,CTDPRS_FLAG_W,CTDTMP,CTDTMP_FLAG_W,CTDSAL,CTDSAL_FLAG_W,SALNTY,SALNTY_FLAG_W,CTDOXY,CTDOXY_FLAG_W,OXYGEN,OXYGEN_FLAG_W,SILCAT,SILCAT_FLAG_W,NITRAT,NITRAT_FLAG_W,NITRIT,NITRIT_FLAG_W,PHSPHT,PHSPHT_FLAG_W,CFC-11,CFC-11_FLAG_W,CFC-12,CFC-12_FLAG_W,CFC113,CFC113_FLAG_W,TCARBN,TCARBN_FLAG_W,ALKALI,ALKALI_FLAG_W,PH_TOT,PH_TOT_FLAG_W,PH_TMP,TRITUM,TRITUM_FLAG_W,TRITER,DELC14,DELC14_FLAG_W,C14ERR,DELC13,DELC13_FLAG_W,C13ERR,THETA,SIG0,SBE35,SBE35_FLAG_W,DWNPRS,DWNPRS_FLAG_W,DWNOXY,DWNOXY_FLAG_W,SILUNC,NRAUNC,NRIUNC,PHPUNC,TOC,TOC_FLAG_W,CS-137,CS-137_FLAG_W,CS137ER,PLUTO,PLUTO_FLAG_W,PLUTOER
,,,,,,,,,,,METERS,DBAR,,ITS-90,,PSS-78,,PSS-78,,UMOL/KG,,UMOL/KG,,UMOL/KG,,UMOL/KG,,UMOL/KG,,UMOL/KG,,PMOL/KG,,PMOL/KG,,PMOL/KG,,UMOL/KG,,UMOL/KG,,,,DEG C,TU,,TU,/MILLE,,/MILLE,/MILLE,,/MILLE,DEG C,KG/M^3,ITS-90,,DBAR,,UMOL/KG,,UMOL/KG,UMOL/KG,UMOL/KG,UMOL/KG,UMOL/KG,,BQ/M^3,,BQ/M^3,MBQ/M^3,,MBQ/M^3
49NZ20031106, A10, 1, 1, 36, 12048, 2, 20031108, 2324, -28.4202, -44.7878, 3505,     10.8, 2,  22.5455, 2,  36.8936, 2,  36.8925, 2,    203.3, 1,    214.6, 2,     1.05, 2,     0.04, 2,     0.00, 2,     0.09, 2,    2.110, 2,    1.193, 2,    0.300, 4,   2077.1, 2,   2417.0, 2,    8.0691, 2,     25.00, -999.000, 9, -999.000,   -999.0, 9,   -999.0,  -999.00, 9,   -999.0,  22.5433, 25.5038,  22.5458, 2, 13, 2, 214.83, 2, 0.12, 0.03, 0.01, 0.02, -999, 1,  -999.00, 9, -999, -999, 9, -999
49NZ20031106, A10, 1, 1, 35, 12047, 2, 20031108, 2324, -28.4202, -44.7878, 3505,     50.3, 2,  22.5620, 2,  36.9156, 2,  36.9152, 2,    203.4, 1,    214.2, 2,     1.04, 2,     0.03, 2,     0.00, 2,     0.09, 2,    2.118, 2,    1.194, 2,    0.290, 4,   2081.9, 6,   2416.9, 2,    8.0710, 2,     25.00, -999.000, 9, -999.000,   -999.0, 9,   -999.0,  -999.00, 9,   -999.0,  22.5518, 25.5188,  22.5611, 2, 49.6, 2, 214.22, 2, 0.12, 0.03, 0.01, 0.02, -999, 1,  -999.00, 9, -999, -999, 9, -999
49NZ20031106, A10, 1, 1, 34, 12046, 2, 20031108, 2324, -28.4202, -44.7878, 3505,    100.8, 2,  22.1652, 2,  36.8728, 2,  36.8794, 2,    195.5, 1,    204.1, 2,     1.05, 2,     0.50, 2,     0.05, 2,     0.13, 2,    2.108, 2,    1.203, 2,    0.214, 4,   2089.1, 2,   2413.8, 6,    8.0560, 2,     25.00, -999.000, 9, -999.000,   -999.0, 9,   -999.0,  -999.00, 9,   -999.0,  22.1450, 25.6025,  22.1645, 2, 100, 2, 205.22, 2, 0.12, 0.03, 0.01, 0.02, -999, 1,  -999.00, 9, -999, -999, 9, -999
49NZ20031106, A10, 1, 1, 33, 12045, 2, 20031108, 2324, -28.4202, -44.7878, 3505,    150.6, 2,  19.4770, 2,  36.2711, 2,  36.2976, 3,    190.7, 1,    200.0, 2,     1.37, 2,     1.81, 2,     0.02, 2,     0.24, 2,    2.418, 2,    1.338, 2,    0.132, 4,   2095.3, 2,   2376.2, 2,    7.9980, 6,     25.00, -999.000, 9, -999.000,   -999.0, 9,   -999.0,  -999.00, 9,   -999.0,  19.4495, 25.8806,  19.4489, 2, 153.8, 2, 198.96, 2, 0.12, 0.04, 0.01, 0.02, -999, 1,  -999.00, 9, -999, -999, 9, -999
49NZ20031106, A10, 1, 1, 32, 12044, 2, 20031108, 2324, -28.4202, -44.7878, 3505,    199.4, 2,  17.9665, 2,  36.0516, 2,  36.0555, 2,    209.4, 1,    219.7, 2,     1.14, 2,     1.35, 2,     0.01, 2,     0.18, 2,    2.552, 2,    1.421, 2,    0.180, 4,   2082.0, 2,   -999.0, 5,    8.0031, 2,     25.00, -999.000, 9, -999.000,   -999.0, 9,   -999.0,  -999.00, 9,   -999.0,  17.9321, 26.0954,  17.9688, 2, 200.6, 2, 218.96, 2, 0.12, 0.04, 0.01, 0.02, -999, 1,  -999.00, 9, -999, -999, 9, -999
49NZ20031106, A10, 1, 1, 31, 12043, 2, 20031108, 2324, -28.4202, -44.7878, 3505,    250.3, 2,  17.1528, 2,  35.9433, 2,  35.9432, 2,    209.4, 1,    218.9, 2,     1.46, 2,     2.37, 2,     0.00, 2,     0.27, 2,    2.651, 6,    1.461, 6,    0.152, 4,   2084.0, 2,   2356.2, 2,    7.9849, 2,     25.00, -999.000, 9, -999.000,   -999.0, 9,   -999.0,  -999.00, 9,   -999.0,  17.1109, 26.2128,  17.1549, 2, 252.5, 2, 218.83, 2, 0.12, 0.04, 0.01, 0.01, -999, 1,  -999.00, 9, -999, -999, 9, -999
49NZ20031106, A10, 1, 1, 30, 12042, 2, 20031108, 2324, -28.4202, -44.7878, 3505,    298.8, 2,  16.3437, 2,  35.8033, 2,  35.8035, 2,    208.2, 1,    217.8, 2,     1.72, 2,     3.53, 2,     0.00, 2,     0.35, 2,    2.746, 2,    1.459, 2,    0.136, 4,   2092.8, 2,   2348.8, 2,    7.9650, 2,     25.00, -999.000, 9, -999.000,   -999.0, 9,   -999.0,  -999.00, 9,   -999.0,  16.2953, 26.2982,  16.3430, 2, 298.7, 2, 217.06, 2, 0.12, 0.04, 0.01, 0.01, -999, 1,  -999.00, 9, -999, -999, 9, -999
49NZ20031106, A10, 1, 1, 29, 12041, 2, 20031108, 2324, -28.4202, -44.7878, 3505,    400.1, 2,  14.2341, 2,  35.4340, 2,  35.4345, 2,    203.5, 1,    212.1, 2,     2.54, 2,     7.46, 2,    -0.01, 2,     0.60, 2,    2.959, 2,    1.569, 2,    0.079, 4,   2106.7, 2,   2331.3, 2,    7.9018, 2,     25.00, -999.000, 9, -999.000,   -999.0, 9,   -999.0,  -999.00, 9,   -999.0,  14.1750, 26.4854,  14.2343, 2, 400.9, 2, 211.72, 2, 0.12, 0.05, 0.01, 0.01, -999, 1,  -999.00, 9, -999, -999, 9, -999
49NZ20031106, A10, 1, 1, 28, 12040, 2, 20031108, 2324, -28.4202, -44.7878, 3505,    501.0, 2,  11.8634, 2,  35.0579, 2,  35.0630, 2,    199.6, 1,    207.5, 2,     4.28, 2,    12.90, 2,    -0.01, 2,     0.94, 2,    3.029, 2,    1.567, 2,    0.071, 4,   2122.2, 2,   2306.6, 2,    7.8352, 2,     25.00, -999.000, 9, -999.000,   -999.0, 9,   -999.0,  -999.00, 9,   -999.0,  11.7977, 26.6714,  11.8680, 2, 504.7, 2, 207.44, 2, 0.13, 0.07, 0.01, 0.01, -999, 1,  -999.00, 9, -999, -999, 9, -999
49NZ20031106, A10, 1, 1, 27, 12039, 2, 20031108, 2324, -28.4202, -44.7878, 3505,    598.8, 2,   8.9063, 2,  34.6675, 2,  34.6675, 2,    206.1, 1,    213.8, 2,     7.62, 2,    19.56, 2,     0.00, 2,     1.37, 2,    3.105, 2,    1.540, 2,    0.138, 4,   2139.9, 2,   2285.8, 2,    7.7621, 2,     25.00, -999.000, 9, -999.000,   -999.0, 9,   -999.0,  -999.00, 9,   -999.0,   8.8404, 26.8824,   8.9054, 2, 602, 2, 213.39, 2, 0.14, 0.09, 0.01, 0.01, -999, 1,  -999.00, 9, -999, -999, 9, -999
49NZ20031106, A10, 1, 1, 26, 12038, 2, 20031108, 2324, -28.4202, -44.7878, 3505,    700.1, 2,   6.4488, 2,  34.3847, 2,  34.3857, 2,    222.2, 1,    230.6, 2,    10.93, 2,    24.15, 2,    -0.01, 2,     1.67, 2,    3.478, 2,    1.695, 2,    0.209, 4,   2151.3, 6,   2281.2, 2,    7.7182, 2,     25.00, -999.000, 9, -999.000,   -999.0, 9,   -999.0,  -999.00, 9,   -999.0,   6.3844, 27.0159,   6.4510, 2, 701, 2, 229.73, 2, 0.14, 0.1, 0.01, 0.01, -999, 1,  -999.00, 9, -999, -999, 9, -999
49NZ20031106, A10, 1, 1, 25, 12037, 2, 20031108, 2324, -28.4202, -44.7878, 3505,    800.2, 2,   5.1464, 2,  34.2865, 2,  34.2856, 2,    231.2, 1,    240.2, 2,    14.91, 2,    26.50, 2,    -0.01, 2,     1.83, 2,    3.418, 2,    1.638, 2,    0.214, 4,   2158.7, 2,   2278.2, 6,    7.6979, 2,     25.00, -999.000, 9, -999.000,   -999.0, 9,   -999.0,  -999.00, 9,   -999.0,   5.0803, 27.0995,   5.1478, 2, 799.7, 2, 240.57, 2, 0.15, 0.11, 0.01, 0.01, -999, 1,  -999.00, 9, -999, -999, 9, -999
49NZ20031106, A10, 1, 1, 24, 12036, 2, 20031108, 2324, -28.4202, -44.7878, 3505,    899.4, 2,   4.5631, 2,  34.2971, 2,  34.2976, 2,    218.3, 1,    226.7, 2,    21.76, 2,    28.85, 2,    -0.01, 2,     1.98, 2,    2.567, 2,    1.198, 2,    0.134, 4,   2173.8, 2,   2282.2, 2,    7.6693, 6,     25.00, -999.000, 9, -999.000,   -999.0, 9,   -999.0,  -999.00, 9,   -999.0,   4.4921, 27.1743,   4.5633, 2, 897.6, 2, 227.65, 2, 0.17, 0.11, 0.01, 0.02, -999, 1,  -999.00, 9, -999, -999, 9, -999
49NZ20031106, A10, 1, 1, 6, 12018, 9, 20031108, 2324, -28.4202, -44.7878, 3505,   1001.2, 2,   3.9784, 2,  34.3282, 2, -999.0000, 9,    204.4, 1,   -999.0, 9,  -999.00, 9,  -999.00, 9,  -999.00, 9,  -999.00, 9, -999.000, 9, -999.000, 9, -999.000, 9,   -999.0, 9,   -999.0, 9, -999.0000, 9,   -999.00, -999.000, 9, -999.000,   -999.0, 9,   -999.0,  -999.00, 9,   -999.0,   3.9031, 27.2612,   3.9783, 2, 1001.1, 2, 212.85, 2, -999, -999, -999, -999, -999, 9,  -999.00, 9, -999, -999, 9, -999
49NZ20031106, A10, 1, 1, 10, 12022, 9, 20031108, 2324, -28.4202, -44.7878, 3505,   1001.4, 2,   3.9798, 2,  34.3281, 2, -999.0000, 9,    204.6, 1,   -999.0, 9,  -999.00, 9,  -999.00, 9,  -999.00, 9,  -999.00, 9, -999.000, 9, -999.000, 9, -999.000, 9,   -999.0, 9,   -999.0, 9, -999.0000, 9,   -999.00, -999.000, 9, -999.000,   -999.0, 9,   -999.0,  -999.00, 9,   -999.0,   3.9045, 27.261,   3.9800, 2, 1001.3, 2, 212.84, 2, -999, -999, -999, -999, -999, 9,  -999.00, 9, -999, -999, 9, -999
49NZ20031106, A10, 1, 1, 4, 12016, 9, 20031108, 2324, -28.4202, -44.7878, 3505,   1001.4, 2,   3.9766, 2,  34.3282, 2, -999.0000, 9,    204.4, 1,   -999.0, 9,  -999.00, 9,  -999.00, 9,  -999.00, 9,  -999.00, 9, -999.000, 9, -999.000, 9, -999.000, 9,   -999.0, 9,   -999.0, 9, -999.0000, 9,   -999.00, -999.000, 9, -999.000,   -999.0, 9,   -999.0,  -999.00, 9,   -999.0,   3.9013, 27.2616,   3.9766, 2, 1001.4, 2, 212.83, 2, -999, -999, -999, -999, -999, 9,  -999.00, 9, -999, -999, 9, -999
49NZ20031106, A10, 1, 1, 23, 12035, 2, 20031108, 2324, -28.4202, -44.7878, 3505,   1001.5, 2,   3.9808, 2,  34.3280, 2,  34.3280, 2,    204.6, 1,    212.2, 2,    30.78, 2,    30.91, 2,    -0.01, 2,     2.13, 2,    1.600, 6,    0.740, 6,    0.070, 4,   2191.4, 2,   2293.1, 2,    7.6418, 2,     25.00, -999.000, 9, -999.000,   -999.0, 9,   -999.0,  -999.00, 9,   -999.0,   3.9055, 27.2608,   3.9808, 2, 1001.3, 2, 212.84, 2, 0.19, 0.12, 0.01, 0.02, -999, 1,  -999.00, 9, -999, -999, 9, -999
49NZ20031106, A10, 1, 1, 5, 12017, 9, 20031108, 2324, -28.4202, -44.7878, 3505,   1001.7, 2,   3.9765, 2,  34.3283, 2, -999.0000, 9,    204.4, 1,   -999.0, 9,  -999.00, 9,  -999.00, 9,  -999.00, 9,  -999.00, 9, -999.000, 9, -999.000, 9, -999.000, 9,   -999.0, 9,   -999.0, 9, -999.0000, 9,   -999.00, -999.000, 9, -999.000,   -999.0, 9,   -999.0,  -999.00, 9,   -999.0,   3.9012, 27.2614,   3.9765, 2, 1001.6, 2, 212.81, 2, -999, -999, -999, -999, -999, 9,  -999.00, 9, -999, -999, 9, -999
49NZ20031106, A10, 1, 1, 2, 12014, 9, 20031108, 2324, -28.4202, -44.7878, 3505,   1001.7, 2,   3.9737, 2,  34.3285, 2, -999.0000, 9,    204.4, 1,   -999.0, 9,  -999.00, 9,  -999.00, 9,  -999.00, 9,  -999.00, 9, -999.000, 9, -999.000, 9, -999.000, 9,   -999.0, 9,   -999.0, 9, -999.0000, 9,   -999.00, -999.000, 9, -999.000,   -999.0, 9,   -999.0,  -999.00, 9,   -999.0,   3.8984, 27.2618,   3.9739, 2, 1001.7, 2, 212.8, 2, -999, -999, -999, -999, -999, 9,  -999.00, 9, -999, -999, 9, -999
49NZ20031106, A10, 1, 1, 3, 12012, 9, 20031108, 2324, -28.4202, -44.7878, 3505,   1001.9, 2,   3.9742, 2,  34.3284, 2, -999.0000, 9,    204.5, 1,   -999.0, 9,  -999.00, 9,  -999.00, 9,  -999.00, 9,  -999.00, 9, -999.000, 9, -999.000, 9, -999.000, 9,   -999.0, 9,   -999.0, 9, -999.0000, 9,   -999.00, -999.000, 9, -999.000,   -999.0, 9,   -999.0,  -999.00, 9,   -999.0,   3.8989, 27.2617,   3.9741, 2, 1001.9, 2, 212.79, 2, -999, -999, -999, -999, -999, 9,  -999.00, 9, -999, -999, 9, -999
49NZ20031106, A10, 1, 1, 22, 12034, 2, 20031108, 2324, -28.4202, -44.7878, 3505,   1199.4, 2,   3.3546, 2,  34.4188, 2,  34.4186, 2,    188.1, 1,    195.2, 2,    43.87, 2,    32.48, 2,    -0.01, 2,     2.24, 2,    0.709, 2,    0.335, 2,    0.029, 4,   2213.9, 2,   2309.6, 2,    7.6170, 2,     25.00, -999.000, 9, -999.000,   -999.0, 9,   -999.0,  -999.00, 9,   -999.0,   3.2682, 27.3961,   3.3536, 2, 1198.7, 2, 194.77, 2, 0.22, 0.12, 0.01, 0.02, -999, 1,  -999.00, 9, -999, -999, 9, -999
49NZ20031106, A10, 1, 1, 21, 12033, 2, 20031108, 2324, -28.4202, -44.7878, 3505,   1399.9, 2,   3.4067, 2,  34.5880, 2,  34.5884, 2,    182.3, 1,    188.6, 2,    44.61, 2,    31.15, 2,    -0.01, 2,     2.13, 2,    0.153, 2,    0.075, 2,    0.000, 4,   2213.7, 2,   2313.2, 2,    7.6234, 2,     25.00, -999.000, 9, -999.000,   -999.0, 9,   -999.0,  -999.00, 9,   -999.0,   3.3027, 27.5278,   3.4064, 2, 1399.7, 2, 188.55, 2, 0.22, 0.12, 0.01, 0.02, -999, 1,  -999.00, 9, -999, -999, 9, -999
49NZ20031106, A10, 1, 1, 20, 12032, 2, 20031108, 2324, -28.4202, -44.7878, 3505,   1600.4, 2,   3.7363, 2,  34.7450, 2,  34.7447, 2,    191.2, 1,    197.7, 2,    35.71, 2,    28.00, 2,    -0.01, 2,     1.90, 2,    0.069, 2,    0.033, 2,    0.000, 4,   2203.7, 2,   2313.7, 2,    7.6554, 2,     25.00, -999.000, 9, -999.000,   -999.0, 9,   -999.0,  -999.00, 9,   -999.0,   3.6106, 27.6228,   3.7362, 2, 1600.2, 2, 197.64, 2, 0.2, 0.11, 0.01, 0.01, -999, 1,  -999.00, 9, -999, -999, 9, -999
49NZ20031106, A10, 1, 1, 1, 12013, 2, 20031108, 2324, -28.4202, -44.7878, 3505,   1800.7, 2,   3.7794, 2,  34.8433, 2,  34.8426, 2,    205.7, 1,    212.8, 2,    30.80, 2,    25.20, 2,    -0.01, 2,     1.70, 2,    0.076, 2,    0.035, 2,    0.000, 4,   2192.3, 2,   2316.0, 2,    7.6781, 2,     25.00, -999.000, 9, -999.000,   -999.0, 9,   -999.0,  -999.00, 9,   -999.0,   3.6345, 27.6988,   3.7813, 2, 1801.3, 2, 211.6, 2, 0.19, 0.1, 0.01, 0.01, -999, 1,  -999.00, 9, -999, -999, 9, -999
49NZ20031106, A10, 1, 1, 18, 12030, 2, 20031108, 2324, -28.4202, -44.7878, 3505,   1999.2, 2,   3.8211, 2,  34.9208, 2,  34.9193, 2,    222.7, 1,    230.0, 2,    24.44, 2,    22.27, 2,    -0.01, 2,     1.50, 2,    0.105, 2,    0.054, 2,    0.000, 4,   2178.4, 2,   2312.8, 2,    7.7153, 6,     25.00, -999.000, 9, -999.000,   -999.0, 9,   -999.0,  -999.00, 9,   -999.0,   3.6565, 27.7582,   3.8234, 2, 2000.1, 2, 226.54, 2, 0.17, 0.1, 0.01, 0.01, -999, 1,  -999.00, 9, -999, -999, 9, -999
49NZ20031106, A10, 1, 1, 17, 12029, 2, 20031108, 2324, -28.4202, -44.7878, 3505,   2200.7, 2,   3.7090, 2,  34.9559, 2,  34.9559, 2,    235.3, 1,    243.9, 2,    20.98, 2,    20.42, 2,    -0.01, 2,     1.37, 2,    0.128, 2,    0.067, 2,    0.000, 4,   2170.5, 2,   2311.6, 2,    7.7356, 2,     25.00, -999.000, 9, -999.000,   -999.0, 9,   -999.0,  -999.00, 9,   -999.0,   3.5263, 27.7991,   3.7092, 2, 2201.1, 2, 243.18, 2, 0.17, 0.09, 0.01, 0.01, -999, 1,  -999.00, 9, -999, -999, 9, -999
49NZ20031106, A10, 1, 1, 16, 12028, 2, 20031108, 2324, -28.4202, -44.7878, 3505,   2400.7, 2,   3.4383, 2,  34.9531, 2,  34.9531, 2,    240.5, 1,    249.1, 2,    22.83, 2,    20.00, 2,    -0.01, 2,     1.34, 2,    0.111, 2,    0.057, 2,    0.000, 4,   2169.3, 6,   2316.2, 2,    7.7422, 2,     25.00, -999.000, 9, -999.000,   -999.0, 9,   -999.0,  -999.00, 9,   -999.0,   3.2403, 27.8248,   3.4389, 2, 2400.8, 2, 248.95, 2, 0.17, 0.09, 0.01, 0.01, -999, 1,  -999.00, 9, -999, -999, 9, -999
49NZ20031106, A10, 1, 1, 15, 12027, 2, 20031108, 2324, -28.4202, -44.7878, 3505,   2600.7, 2,   3.1017, 2,  34.9393, 2,  34.9392, 2,    242.4, 1,    250.9, 2,    27.10, 2,    20.23, 2,    -0.01, 2,     1.36, 2,    0.067, 2,    0.033, 2,    0.000, 4,   2173.4, 2,   2318.8, 6,    7.7435, 2,     25.00, -999.000, 9, -999.000,   -999.0, 9,   -999.0,  -999.00, 9,   -999.0,   2.8899, 27.8465,   3.1018, 2, 2600.6, 2, 250.77, 2, 0.18, 0.09, 0.01, 0.01, -999, 1,  -999.00, 9, -999, -999, 9, -999
49NZ20031106, A10, 1, 1, 14, 12026, 2, 20031108, 2324, -28.4202, -44.7878, 3505,   2799.9, 2,   2.8473, 2,  34.9256, 2,  34.9261, 2,    243.1, 1,    251.3, 2,    31.10, 2,    20.51, 2,    -0.01, 2,     1.38, 2,    0.049, 2,    0.023, 2,    0.000, 4,   2175.6, 2,   2323.2, 2,    7.7318, 2,     25.00, -999.000, 9, -999.000,   -999.0, 9,   -999.0,  -999.00, 9,   -999.0,   2.6204, 27.8598,   2.8474, 2, 2800.2, 2, 251.22, 2, 0.19, 0.09, 0.01, 0.01, -999, 1,  -999.00, 9, -999, -999, 9, -999
49NZ20031106, A10, 1, 1, 9, 12015, 9, 20031108, 2324, -28.4202, -44.7878, 3505,   2899.9, 2,   2.7056, 2,  34.9166, 2, -999.0000, 9,    243.0, 1,   -999.0, 9,  -999.00, 9,  -999.00, 9,  -999.00, 9,  -999.00, 9, -999.000, 9, -999.000, 9, -999.000, 9,   -999.0, 9,   -999.0, 9, -999.0000, 9,   -999.00, -999.000, 9, -999.000,   -999.0, 9,   -999.0,  -999.00, 9,   -999.0,   2.4716, 27.8654,   2.7059, 2, 2900.4, 2, 251.15, 2, -999, -999, -999, -999, -999, 9,  -999.00, 9, -999, -999, 9, -999
49NZ20031106, A10, 1, 1, 13, 12025, 2, 20031108, 2324, -28.4202, -44.7878, 3505,   3000.5, 2,   2.5745, 2,  34.9067, 2,  34.9058, 2,    242.7, 1,    250.4, 2,    37.53, 2,    21.18, 2,    -0.01, 2,     1.43, 2,    0.033, 2,    0.015, 2,    0.000, 4,   2177.5, 2,   2325.5, 2,    7.7356, 2,     25.00, -999.000, 9, -999.000,   -999.0, 9,   -999.0,  -999.00, 9,   -999.0,   2.3330, 27.8692,   2.5738, 2, 3000.7, 2, 250.67, 2, 0.2, 0.09, 0.01, 0.01, -999, 1,  -999.00, 9, -999, -999, 9, -999
49NZ20031106, A10, 1, 1, 8, 12020, 9, 20031108, 2324, -28.4202, -44.7878, 3505,   3100.6, 2,   2.3470, 2,  34.8867, 2, -999.0000, 9,    240.6, 1,   -999.0, 9,  -999.00, 9,  -999.00, 9,  -999.00, 9,  -999.00, 9, -999.000, 9, -999.000, 9, -999.000, 9,   -999.0, 9,   -999.0, 9, -999.0000, 9,   -999.00, -999.000, 9, -999.000,   -999.0, 9,   -999.0,  -999.00, 9,   -999.0,   2.1004, 27.8721,   2.3466, 2, 3100.9, 2, 248.55, 2, -999, -999, -999, -999, -999, 9,  -999.00, 9, -999, -999, 9, -999
49NZ20031106, A10, 1, 1, 12, 12024, 2, 20031108, 2324, -28.4202, -44.7878, 3505,   3250.8, 2,   1.7950, 2,  34.8313, 2,  34.8302, 2,    232.4, 1,    239.4, 2,    65.69, 2,    25.03, 2,    -0.01, 2,     1.71, 2,    0.050, 2,    0.024, 2,    0.000, 4,   2209.3, 2,   2340.2, 2,    7.7002, 2,     25.00, -999.000, 9, -999.000,   -999.0, 9,   -999.0,  -999.00, 9,   -999.0,   1.5461, 27.8708,   1.7939, 2, 3250.7, 2, 239.47, 2, 0.26, 0.1, 0.01, 0.01, -999, 1,  -999.00, 9, -999, -999, 9, -999
49NZ20031106, A10, 1, 1, 19, 12031, 2, 20031108, 2324, -28.4202, -44.7878, 3505,   3250.9, 2,   1.7911, 2,  34.8308, 2,  34.8310, 2,    232.5, 1,    239.5, 2,    65.33, 2,    24.90, 2,    -0.01, 2,     1.71, 2,    0.041, 2,    0.017, 2,    0.000, 4,   2209.1, 2,   2338.0, 2,    7.7035, 2,     25.00, -999.000, 9, -999.000,   -999.0, 9,   -999.0,  -999.00, 9,   -999.0,   1.5423, 27.8711,   1.7887, 2, 3250.8, 2, 239.43, 2, 0.26, 0.1, 0.01, 0.01, -999, 1,  -999.00, 9, -999, -999, 9, -999
49NZ20031106, A10, 1, 1, 7, 12019, 9, 20031108, 2324, -28.4202, -44.7878, 3505,   3350.4, 2,   1.4127, 2,  34.7901, 2, -999.0000, 9,    225.3, 1,   -999.0, 9,  -999.00, 9,  -999.00, 9,  -999.00, 9,  -999.00, 9, -999.000, 9, -999.000, 9, -999.000, 9,   -999.0, 9,   -999.0, 9, -999.0000, 9,   -999.00, -999.000, 9, -999.000,   -999.0, 9,   -999.0,  -999.00, 9,   -999.0,   1.1632, 27.8652,   1.4120, 2, 3350.7, 2, 231.95, 2, -999, -999, -999, -999, -999, 9,  -999.00, 9, -999, -999, 9, -999
49NZ20031106, A10, 1, 1, 11, 12023, 2, 20031108, 2324, -28.4202, -44.7878, 3505,   3539.0, 2,   0.3277, 2,  34.6840, 2,  34.6839, 2,    213.8, 1,    218.3, 2,   122.34, 2,    32.50, 2,    -0.01, 2,     2.27, 2,    0.228, 2,    0.100, 2,    0.000, 4,   2263.3, 2,   2358.7, 2,    7.6167, 2,     25.00, -999.000, 9, -999.000,   -999.0, 9,   -999.0,  -999.00, 9,   -999.0,   0.0876, 27.8466,   0.3274, 2, 3539, 2, 216.99, 2, 0.39, 0.12, 0.01, 0.02, -999, 1,  -999.00, 9, -999, -999, 9, -999