BOTTLE,20220818CCHSIOAMB
EXPOCODE,SECT_ID,STNNBR,CASTNO,SAMPNO,BTLNBR,BTLNBR_FLAG_W,DATE,TIME,LATITUDE,LONGITUDE,DEPTH,CTDPRS,CTDPRS_FLAG_W,CTDTMP,CTDTMP_FLAG_W,CTDSAL,CTDSAL_FLAG_W,SALNTY,SALNTY_FLAG_W,CTDOXY,CTDOXY_FLAG_W,OXYGEN,OXYGEN_FLAG_W,SILCAT,SILCAT_FLAG_W,NITRAT,NITRAT_FLAG_W,NITRIT,NITRIT_FLAG_W,PHSPHT,PHSPHT_FLAG_W,CFC-11,CFC-11_FLAG_W,CFC-12,CFC-12_FLAG_W,CFC113,CFC113_FLAG_W,TCARBN,TCARBN_FLAG_W,ALKALI,ALKALI_FLAG_W,PH_TOT,PH_TOT_FLAG_W,PH_TMP,TRITUM,TRITUM_FLAG_W,TRITER,DELC14,DELC14_FLAG_W,C14ERR,DELC13,DELC13_FLAG_W,C13ERR,THETA,SIG0,SBE35,SBE35_FLAG_W,DWNPRS,DWNPRS_FLAG_W,DWNOXY,DWNOXY_FLAG_W,SILUNC,NRAUNC,NRIUNC,PHPUNC,TOC,TOC_FLAG_W,CS-137,CS-137_FLAG_W,CS137ER,PLUTO,PLUTO_FLAG_W,PLUTOER
,,,,,,,,,,,METERS,DBAR,,ITS-90,,PSS-78,,PSS-78,,UMOL/KG,,UMOL/KG,,UMOL/KG,,UMOL/KG,,UMOL/KG,,UMOL/KG,,PMOL/KG,,PMOL/KG,,PMOL/KG,,UMOL/KG,,UMOL/KG,,,,DEG C,TU,,TU,/MILLE,,/MILLE,/MILLE,,/MILLE,DEG C,KG/M^3,ITS-90,,DBAR,,UMOL/KG,,UMOL/KG,UMOL/KG,UMOL/KG,UMOL/KG,UMOL/KG,,BQ/M^3,,BQ/M^3,MBQ/M^3,,MBQ/M^3
49NZ20031106, A10, 53, 1, 2, 12038, 9, 20031121, 128, -29.9928, -14.9992, 3836,     10.6, 2,  20.4246, 2,  36.1656, 2, -999.0000, 9,    215.6, 1,   -999.0, 9,  -999.00, 9,  -999.00, 9,  -999.00, 9,  -999.00, 9, -999.000, 9, -999.000, 9, -999.000, 9,   -999.0, 9,   -999.0, 9, -999.0000, 9,   -999.00, -999.000, 9, -999.000,   -999.0, 9,   -999.0,  -999.00, 9,   -999.0,  20.4226, 25.5391,  20.4257, 2, 15.9, 2, 228.72, 2, -999, -999, -999, -999, -999, 9,  -999.00, 9, -999, -999, 9, -999
49NZ20031106, A10, 53, 1, 36, 12036, 2, 20031121, 128, -29.9928, -14.9992, 3836,     11.2, 2,  20.4332, 2,  36.1639, 2,  36.1638, 2,    215.6, 1,    228.8, 2,     1.28, 2,    -0.02, 2,     0.00, 2,     0.16, 2,    2.342, 2,    1.359, 2,    0.295, 4,   2078.7, 2,   2372.5, 2,    8.0147, 2,     25.00, -999.000, 9, -999.000,   -999.0, 9,   -999.0,  -999.00, 9,   -999.0,  20.4311, 25.5364,  20.4329, 2, 15.7, 2, 228.72, 2, 0.12, 0.03, 0.01, 0.02, -999, 9,  -999.00, 9, -999, -999, 9, -999
49NZ20031106, A10, 53, 1, 35, 12035, 2, 20031121, 128, -29.9928, -14.9992, 3836,     49.9, 2,  19.9488, 2,  36.2145, 2,  36.2138, 2,    217.8, 1,    230.6, 2,     1.24, 2,    -0.02, 2,     0.00, 2,     0.16, 2,    2.370, 2,    1.363, 2,    0.347, 4,   2078.5, 6,   2375.1, 2,    8.0179, 2,     25.00, -999.000, 9, -999.000,   -999.0, 9,   -999.0,  -999.00, 9,   -999.0,  19.9396, 25.7063,  19.9483, 2, 50.9, 2, 231.38, 2, 0.12, 0.03, 0.01, 0.02, -999, 9,  -999.00, 9, -999, -999, 9, -999
49NZ20031106, A10, 53, 1, 34, 12034, 2, 20031121, 128, -29.9928, -14.9992, 3836,     99.6, 2,  19.1115, 2,  36.0796, 2,  36.0803, 2,    221.6, 1,    234.6, 2,     1.29, 2,    -0.02, 2,     0.00, 2,     0.15, 2,    2.449, 2,    1.413, 2,    0.366, 4,   2074.7, 2,   2365.6, 6,    8.0131, 2,     25.00, -999.000, 9, -999.000,   -999.0, 9,   -999.0,  -999.00, 9,   -999.0,  19.0936, 25.8246,  19.1110, 2, 101.5, 2, 234.75, 2, 0.12, 0.03, 0.01, 0.02, -999, 9,  -999.00, 9, -999, -999, 9, -999
49NZ20031106, A10, 53, 1, 33, 12033, 2, 20031121, 128, -29.9928, -14.9992, 3836,    150.5, 2,  18.1853, 2,  35.9447, 2,  35.9471, 2,    218.8, 1,    231.2, 2,     1.35, 2,    -0.02, 2,     0.00, 2,     0.20, 2,    2.590, 2,    1.462, 2,    0.369, 4,   2078.7, 2,   2358.6, 2,    7.9962, 6,     25.00, -999.000, 9, -999.000,   -999.0, 9,   -999.0,  -999.00, 9,   -999.0,  18.1591, 25.958,  18.1878, 2, 150, 2, 227.3, 2, 0.12, 0.03, 0.01, 0.02, -999, 9,  -999.00, 9, -999, -999, 9, -999
49NZ20031106, A10, 53, 1, 32, 12032, 2, 20031121, 128, -29.9928, -14.9992, 3836,    200.7, 2,  15.8681, 2,  35.5839, 2,  35.5850, 2,    209.1, 1,    220.4, 2,     2.01, 2,     3.23, 2,     0.03, 2,     0.40, 2,    2.845, 2,    1.578, 2,    0.189, 4,   2091.7, 2,   2336.7, 2,    7.9369, 2,     25.00, -999.000, 9, -999.000,   -999.0, 9,   -999.0,  -999.00, 9,   -999.0,  15.8364, 26.2355,  15.8686, 2, 201.6, 2, 219.37, 2, 0.12, 0.04, 0.01, 0.01, -999, 9,  -999.00, 9, -999, -999, 9, -999
49NZ20031106, A10, 53, 1, 31, 12031, 2, 20031121, 128, -29.9928, -14.9992, 3836,    247.6, 2,  14.8063, 2,  35.4270, 2,  35.4253, 2,    205.7, 1,    216.4, 2,     2.54, 2,     5.70, 2,     0.01, 2,     0.54, 2,    2.972, 6,    1.637, 6,    0.094, 4,   2098.7, 2,   2323.5, 2,    7.9081, 2,     25.00, -999.000, 9, -999.000,   -999.0, 9,   -999.0,  -999.00, 9,   -999.0,  14.7689, 26.3526,  14.8061, 2, 246.9, 2, 216.29, 2, 0.12, 0.05, 0.01, 0.01, -999, 9,  -999.00, 9, -999, -999, 9, -999
49NZ20031106, A10, 53, 1, 30, 12030, 2, 20031121, 128, -29.9928, -14.9992, 3836,    300.7, 2,  13.6509, 2,  35.2597, 2,  35.2596, 2,    205.0, 1,    215.7, 2,     3.05, 2,     7.94, 2,     0.01, 2,     0.67, 2,    3.091, 2,    1.661, 2,    0.077, 4,   2106.0, 2,   2316.4, 2,    7.8795, 2,     25.00, -999.000, 9, -999.000,   -999.0, 9,   -999.0,  -999.00, 9,   -999.0,  13.6079, 26.4704,  13.6507, 2, 299.1, 2, 215.3, 2, 0.13, 0.06, 0.01, 0.01, -999, 9,  -999.00, 9, -999, -999, 9, -999
49NZ20031106, A10, 53, 1, 29, 12029, 2, 20031121, 128, -29.9928, -14.9992, 3836,    398.9, 2,  12.1340, 2,  35.0593, 2,  35.0582, 2,    202.4, 1,    212.6, 2,     4.14, 2,    11.64, 2,     0.00, 2,     0.89, 2,    3.239, 2,    1.694, 2,    0.098, 4,   2118.9, 2,   2302.2, 2,    7.8362, 2,     25.00, -999.000, 9, -999.000,   -999.0, 9,   -999.0,  -999.00, 9,   -999.0,  12.0811, 26.6199,  12.1345, 2, 392.3, 2, 210.82, 2, 0.13, 0.07, 0.01, 0.01, -999, 9,  -999.00, 9, -999, -999, 9, -999
49NZ20031106, A10, 53, 1, 28, 12028, 2, 20031121, 128, -29.9928, -14.9992, 3836,    498.6, 2,  10.1681, 2,  34.8183, 2,  34.8188, 2,    196.2, 1,    205.8, 2,     6.93, 2,    17.05, 2,     0.00, 2,     1.23, 2,    3.045, 2,    1.554, 2,    0.118, 4,   2139.2, 2,   2293.8, 2,    7.7646, 2,     25.00, -999.000, 9, -999.000,   -999.0, 9,   -999.0,  -999.00, 9,   -999.0,  10.1089, 26.7915,  10.1677, 2, 497.1, 2, 206.09, 2, 0.13, 0.08, 0.01, 0.01, -999, 9,  -999.00, 9, -999, -999, 9, -999
49NZ20031106, A10, 53, 1, 27, 12027, 2, 20031121, 128, -29.9928, -14.9992, 3836,    598.8, 2,   8.5542, 2,  34.6398, 2,  34.6390, 2,    189.6, 1,    198.1, 2,    11.00, 2,    21.78, 2,     0.00, 2,     1.53, 2,    2.809, 2,    1.402, 2,    0.134, 4,   2156.1, 2,   2290.0, 2,    7.7210, 2,     25.00, -999.000, 9, -999.000,   -999.0, 9,   -999.0,  -999.00, 9,   -999.0,   8.4899, 26.9165,   8.5545, 2, 594.4, 2, 198.58, 2, 0.14, 0.09, 0.01, 0.01, -999, 9,  -999.00, 9, -999, -999, 9, -999
49NZ20031106, A10, 53, 1, 26, 12026, 2, 20031121, 128, -29.9928, -14.9992, 3836,    700.7, 2,   6.6770, 2,  34.4628, 2,  34.4636, 2,    193.9, 1,    202.3, 2,    15.85, 2,    26.15, 2,     0.00, 2,     1.81, 2,    2.650, 2,    1.307, 2,    0.127, 4,   2169.8, 6,   2291.1, 2,    7.6786, 2,     25.00, -999.000, 9, -999.000,   -999.0, 9,   -999.0,  -999.00, 9,   -999.0,   6.6113, 27.0485,   6.6779, 2, 699.8, 2, 203.82, 2, 0.15, 0.11, 0.01, 0.01, -999, 9,  -999.00, 9, -999, -999, 9, -999
49NZ20031106, A10, 53, 1, 25, 12025, 2, 20031121, 128, -29.9928, -14.9992, 3836,    800.5, 2,   5.2782, 2,  34.3577, 2,  34.3577, 2,    203.1, 1,    212.4, 2,    20.76, 2,    28.58, 2,     0.00, 2,     1.96, 2,    2.473, 2,    1.189, 2,    0.114, 4,   2178.9, 2,   2289.9, 6,    7.6586, 2,     25.00, -999.000, 9, -999.000,   -999.0, 9,   -999.0,  -999.00, 9,   -999.0,   5.2112, 27.1415,   5.2787, 2, 801.5, 2, 212.88, 2, 0.16, 0.11, 0.01, 0.01, -999, 9,  -999.00, 9, -999, -999, 9, -999
49NZ20031106, A10, 53, 1, 24, 12024, 2, 20031121, 128, -29.9928, -14.9992, 3836,    903.4, 2,   4.4267, 2,  34.3390, 2,  34.3391, 2,    199.7, 1,    208.7, 2,    28.17, 2,    30.55, 2,     0.00, 2,     2.11, 2,    1.952, 2,    0.963, 2,    0.099, 4,   2191.2, 2,   2290.5, 2,    7.6380, 6,     25.00, -999.000, 9, -999.000,   -999.0, 9,   -999.0,  -999.00, 9,   -999.0,   4.3563, 27.2233,   4.4268, 2, 904, 2, 210.28, 2, 0.18, 0.12, 0.01, 0.02, -999, 9,  -999.00, 9, -999, -999, 9, -999
49NZ20031106, A10, 53, 1, 6, 12042, 9, 20031121, 128, -29.9928, -14.9992, 3836,    998.3, 2,   3.9092, 2,  34.3614, 2, -999.0000, 9,    192.5, 1,   -999.0, 9,  -999.00, 9,  -999.00, 9,  -999.00, 9,  -999.00, 9, -999.000, 9, -999.000, 9, -999.000, 9,   -999.0, 9,   -999.0, 9, -999.0000, 9,   -999.00, -999.000, 9, -999.000,   -999.0, 9,   -999.0,  -999.00, 9,   -999.0,   3.8346, 27.2953,   3.9110, 2, 997, 2, 201.33, 2, -999, -999, -999, -999, -999, 9,  -999.00, 9, -999, -999, 9, -999
49NZ20031106, A10, 53, 1, 5, 12041, 9, 20031121, 128, -29.9928, -14.9992, 3836,    998.7, 2,   3.9123, 2,  34.3609, 2, -999.0000, 9,    192.4, 1,   -999.0, 9,  -999.00, 9,  -999.00, 9,  -999.00, 9,  -999.00, 9, -999.000, 9, -999.000, 9, -999.000, 9,   -999.0, 9,   -999.0, 9, -999.0000, 9,   -999.00, -999.000, 9, -999.000,   -999.0, 9,   -999.0,  -999.00, 9,   -999.0,   3.8377, 27.2947,   3.9129, 2, 997.1, 2, 201.31, 2, -999, -999, -999, -999, -999, 9,  -999.00, 9, -999, -999, 9, -999
49NZ20031106, A10, 53, 1, 3, 12039, 9, 20031121, 128, -29.9928, -14.9992, 3836,    998.8, 2,   3.8992, 2,  34.3621, 2, -999.0000, 9,    192.2, 1,   -999.0, 9,  -999.00, 9,  -999.00, 9,  -999.00, 9,  -999.00, 9, -999.000, 9, -999.000, 9, -999.000, 9,   -999.0, 9,   -999.0, 9, -999.0000, 9,   -999.00, -999.000, 9, -999.000,   -999.0, 9,   -999.0,  -999.00, 9,   -999.0,   3.8247, 27.2967,   3.9015, 2, 997.6, 2, 201.28, 2, -999, -999, -999, -999, -999, 9,  -999.00, 9, -999, -999, 9, -999
49NZ20031106, A10, 53, 1, 4, 12040, 9, 20031121, 128, -29.9928, -14.9992, 3836,    998.9, 2,   3.9176, 2,  34.3605, 2, -999.0000, 9,    192.3, 1,   -999.0, 9,  -999.00, 9,  -999.00, 9,  -999.00, 9,  -999.00, 9, -999.000, 9, -999.000, 9, -999.000, 9,   -999.0, 9,   -999.0, 9, -999.0000, 9,   -999.00, -999.000, 9, -999.000,   -999.0, 9,   -999.0,  -999.00, 9,   -999.0,   3.8429, 27.2946,   3.9115, 2, 997.1, 2, 201.31, 2, -999, -999, -999, -999, -999, 9,  -999.00, 9, -999, -999, 9, -999
49NZ20031106, A10, 53, 1, 23, 12023, 2, 20031121, 128, -29.9928, -14.9992, 3836,    999.0, 2,   3.9064, 2,  34.3616, 2,  34.3612, 2,    192.4, 1,    201.3, 2,    35.70, 2,    31.90, 2,     0.00, 2,     2.20, 2,    1.374, 6,    0.692, 6,    0.068, 4,   2203.9, 2,   2299.7, 2,    7.6209, 2,     25.00, -999.000, 9, -999.000,   -999.0, 9,   -999.0,  -999.00, 9,   -999.0,   3.8318, 27.2956,   3.9091, 2, 997.5, 2, 201.27, 2, 0.2, 0.12, 0.01, 0.02, -999, 9,  -999.00, 9, -999, -999, 9, -999
49NZ20031106, A10, 53, 1, 22, 12022, 2, 20031121, 128, -29.9928, -14.9992, 3836,   1200.7, 2,   3.2725, 2,  34.4389, 2,  34.4392, 2,    183.3, 1,    191.6, 2,    47.85, 2,    32.88, 2,     0.00, 2,     2.27, 2,    0.701, 2,    0.377, 2,    0.037, 4,   2220.6, 2,   2312.5, 2,    7.6052, 2,     25.00, -999.000, 9, -999.000,   -999.0, 9,   -999.0,  -999.00, 9,   -999.0,   3.1867, 27.4204,   3.2726, 2, 1198.1, 2, 191.33, 2, 0.22, 0.12, 0.01, 0.02, -999, 9,  -999.00, 9, -999, -999, 9, -999
49NZ20031106, A10, 53, 1, 21, 12015, 2, 20031121, 128, -29.9928, -14.9992, 3836,   1401.9, 2,   2.9863, 2,  34.5838, 2,  34.5842, 2,    179.1, 1,    187.2, 2,    54.83, 2,    31.98, 2,    -0.01, 2,     2.20, 2,    0.209, 2,    0.122, 2,    0.012, 4,   2229.7, 2,   2321.7, 2,    7.6096, 2,     25.00, -999.000, 9, -999.000,   -999.0, 9,   -999.0,  -999.00, 9,   -999.0,   2.8867, 27.5637,   2.9862, 2, 1402.9, 2, 187.14, 2, 0.24, 0.12, 0.01, 0.02, -999, 9,  -999.00, 9, -999, -999, 9, -999
49NZ20031106, A10, 53, 1, 20, 12020, 2, 20031121, 128, -29.9928, -14.9992, 3836,   1598.8, 2,   2.8872, 2,  34.6651, 2,  34.6651, 2,    185.3, 1,    193.9, 2,    54.81, 2,    30.30, 2,    -0.01, 2,     2.08, 2, -999.000, 5, -999.000, 5, -999.000, 5,   2226.4, 2,   2325.2, 2,    7.6283, 2,     25.00, -999.000, 9, -999.000,   -999.0, 9,   -999.0,  -999.00, 9,   -999.0,   2.7722, 27.6391,   2.8871, 2, 1597.7, 2, 194.33, 2, 0.24, 0.12, 0.01, 0.02, -999, 9,  -999.00, 9, -999, -999, 9, -999
49NZ20031106, A10, 53, 1, 19, 12019, 2, 20031121, 128, -29.9928, -14.9992, 3836,   1801.4, 2,   2.7675, 2,  34.7377, 2,  34.7366, 2,    195.6, 1,    204.4, 2,    53.95, 2,    28.45, 2,     0.00, 2,     1.95, 2,    0.049, 2,    0.025, 2,    0.000, 4,   2219.6, 2,   2324.7, 2,    7.6496, 2,     25.00, -999.000, 9, -999.000,   -999.0, 9,   -999.0,  -999.00, 9,   -999.0,   2.6366, 27.7088,   2.7675, 2, 1801.5, 2, 204.26, 2, 0.24, 0.11, 0.01, 0.01, -999, 9,  -999.00, 9, -999, -999, 9, -999
49NZ20031106, A10, 53, 1, 18, 12018, 2, 20031121, 128, -29.9928, -14.9992, 3836,   2002.0, 2,   2.6604, 2,  34.7968, 2,  34.7966, 2,    207.6, 1,    217.2, 2,    51.82, 2,    26.46, 2,    -0.01, 2,     1.81, 2,    0.017, 2,    0.011, 2,    0.000, 4,   2210.8, 2,   2328.2, 2,    7.6756, 6,     25.00, -999.000, 9, -999.000,   -999.0, 9,   -999.0,  -999.00, 9,   -999.0,   2.5132, 27.7669,   2.6605, 2, 2002.3, 2, 216.6, 2, 0.23, 0.11, 0.01, 0.01, -999, 9,  -999.00, 9, -999, -999, 9, -999
49NZ20031106, A10, 53, 1, 17, 12017, 2, 20031121, 128, -29.9928, -14.9992, 3836,   2201.5, 2,   2.5906, 2,  34.8264, 2,  34.8266, 2,    215.6, 1,    225.8, 2,    50.37, 2,    25.29, 2,     0.00, 2,     1.73, 2,    0.006, 2,    0.003, 2,    0.000, 4,   2206.9, 2,   2329.2, 2,    7.6910, 2,     25.00, -999.000, 9, -999.000,   -999.0, 9,   -999.0,  -999.00, 9,   -999.0,   2.4265, 27.7982,   2.5904, 2, 2201.4, 2, 225.56, 2, 0.23, 0.1, 0.01, 0.01, -999, 9,  -999.00, 9, -999, -999, 9, -999
49NZ20031106, A10, 53, 1, 16, 12016, 2, 20031121, 128, -29.9928, -14.9992, 3836,   2401.6, 2,   2.5552, 2,  34.8399, 2,  34.8397, 2,    219.8, 1,    230.0, 2,    49.59, 2,    24.71, 2,    -0.01, 2,     1.68, 2,    0.021, 2,    0.010, 2,    0.000, 4,   2202.7, 6,   2331.8, 2,    7.6970, 2,     25.00, -999.000, 9, -999.000,   -999.0, 9,   -999.0,  -999.00, 9,   -999.0,   2.3731, 27.8134,   2.5553, 2, 2401.5, 2, 229.74, 2, 0.23, 0.1, 0.01, 0.01, -999, 9,  -999.00, 9, -999, -999, 9, -999
49NZ20031106, A10, 53, 1, 1, 12037, 2, 20031121, 128, -29.9928, -14.9992, 3836,   2601.4, 2,   2.5204, 2,  34.8484, 2,  34.8480, 2,    222.9, 1,    233.2, 2,    49.40, 2,    24.32, 2,    -0.01, 2,     1.67, 2,    0.003, 2,    0.001, 2,    0.000, 4,   2201.2, 2,   2329.9, 6,    7.7050, 2,     25.00, -999.000, 9, -999.000,   -999.0, 9,   -999.0,  -999.00, 9,   -999.0,   2.3200, 27.8248,   2.5204, 2, 2601.4, 2, 233.07, 2, 0.23, 0.1, 0.01, 0.01, -999, 9,  -999.00, 9, -999, -999, 9, -999
49NZ20031106, A10, 53, 1, 14, 12014, 2, 20031121, 128, -29.9928, -14.9992, 3836,   2800.5, 2,   2.4867, 2,  34.8547, 2,  34.8542, 2,    225.7, 1,    235.8, 2,    49.30, 2,    24.00, 2,    -0.01, 2,     1.64, 2,   -0.005, 2,   -0.002, 2,    0.000, 4,   2201.7, 2,   2331.1, 2,    7.7086, 2,     25.00, -999.000, 9, -999.000,   -999.0, 9,   -999.0,  -999.00, 9,   -999.0,   2.2675, 27.8342,   2.4866, 2, 2801, 2, 235.49, 2, 0.23, 0.1, 0.01, 0.01, -999, 9,  -999.00, 9, -999, -999, 9, -999
49NZ20031106, A10, 53, 1, 13, 12013, 2, 20031121, 128, -29.9928, -14.9992, 3836,   3001.3, 2,   2.4741, 2,  34.8583, 2,  34.8583, 2,    227.6, 1,    237.5, 2,    49.26, 2,    23.80, 2,     0.00, 2,     1.63, 2,    0.004, 2,    0.002, 2,    0.000, 4,   2200.2, 2,   2329.7, 2,    7.7102, 2,     25.00, -999.000, 9, -999.000,   -999.0, 9,   -999.0,  -999.00, 9,   -999.0,   2.2350, 27.8399,   2.4741, 2, 3000.9, 2, 237.76, 2, 0.23, 0.1, 0.01, 0.01, -999, 9,  -999.00, 9, -999, -999, 9, -999
49NZ20031106, A10, 53, 1, 12, 12048, 2, 20031121, 128, -29.9928, -14.9992, 3836,   3251.2, 2,   2.4177, 2,  34.8604, 2,  34.8610, 2,    230.1, 1,    239.6, 2,    50.09, 2,    23.65, 2,    -0.01, 2,     1.61, 2,   -0.002, 2,   -0.001, 2,    0.000, 4,   2199.6, 2,   2331.2, 2,    7.7144, 2,     25.00, -999.000, 9, -999.000,   -999.0, 9,   -999.0,  -999.00, 9,   -999.0,   2.1541, 27.8484,   2.4176, 2, 3251.1, 2, 239.82, 2, 0.23, 0.1, 0.01, 0.01, -999, 9,  -999.00, 9, -999, -999, 9, -999
49NZ20031106, A10, 53, 1, 8, 12044, 9, 20031121, 128, -29.9928, -14.9992, 3836,   3401.9, 2,   2.3913, 2,  34.8622, 2, -999.0000, 9,    231.6, 1,   -999.0, 9,  -999.00, 9,  -999.00, 9,  -999.00, 9,  -999.00, 9, -999.000, 9, -999.000, 9, -999.000, 9,   -999.0, 9,   -999.0, 9, -999.0000, 9,   -999.00, -999.000, 9, -999.000,   -999.0, 9,   -999.0,  -999.00, 9,   -999.0,   2.1124, 27.8531,   2.3913, 2, 3401.8, 2, 240.71, 2, -999, -999, -999, -999, -999, 9,  -999.00, 9, -999, -999, 9, -999
49NZ20031106, A10, 53, 1, 11, 12047, 2, 20031121, 128, -29.9928, -14.9992, 3836,   3500.3, 2,   2.3531, 2,  34.8586, 2,  34.8586, 2,    231.8, 1,    240.5, 2,    52.10, 2,    23.77, 2,     0.00, 2,     1.62, 2,    0.001, 2,   -0.001, 2,    0.000, 4,   2200.8, 2,   2332.6, 2,    7.7127, 2,     25.00, -999.000, 9, -999.000,   -999.0, 9,   -999.0,  -999.00, 9,   -999.0,   2.0646, 27.8542,   2.3529, 2, 3500.2, 2, 240.43, 2, 0.23, 0.1, 0.01, 0.01, -999, 9,  -999.00, 9, -999, -999, 9, -999
49NZ20031106, A10, 53, 1, 7, 12043, 9, 20031121, 128, -29.9928, -14.9992, 3836,   3601.9, 2,   2.3093, 2,  34.8557, 2, -999.0000, 9,    232.2, 1,   -999.0, 9,  -999.00, 9,  -999.00, 9,  -999.00, 9,  -999.00, 9, -999.000, 9, -999.000, 9, -999.000, 9,   -999.0, 9,   -999.0, 9, -999.0000, 9,   -999.00, -999.000, 9, -999.000,   -999.0, 9,   -999.0,  -999.00, 9,   -999.0,   2.0109, 27.8564,   2.3093, 2, 3601.9, 2, 240.58, 2, -999, -999, -999, -999, -999, 9,  -999.00, 9, -999, -999, 9, -999
49NZ20031106, A10, 53, 1, 15, 12012, 2, 20031121, 128, -29.9928, -14.9992, 3836,   3749.3, 2,   2.2804, 2,  34.8559, 2,  34.8554, 2,    233.5, 1,    241.2, 2,    54.37, 2,    23.94, 2,    -0.01, 2,     1.64, 2,   -0.002, 2,   -0.001, 2,    0.000, 4,   2202.3, 2,   2340.2, 2,    7.7122, 2,     25.00, -999.000, 9, -999.000,   -999.0, 9,   -999.0,  -999.00, 9,   -999.0,   1.9666, 27.8599,   2.2807, 2, 3749.3, 2, 241.21, 2, 0.24, 0.1, 0.01, 0.01, -999, 9,  -999.00, 9, -999, -999, 9, -999
49NZ20031106, A10, 53, 1, 10, 12046, 2, 20031121, 128, -29.9928, -14.9992, 3836,   3749.3, 2,   2.2808, 2,  34.8559, 2,  34.8560, 2,    233.5, 1,    241.1, 2,    54.35, 2,    23.94, 2,     0.00, 2,     1.63, 2,    0.004, 2,    0.002, 2,    0.000, 4,   2201.0, 2,   2338.0, 2,    7.7121, 2,     25.00, -999.000, 9, -999.000,   -999.0, 9,   -999.0,  -999.00, 9,   -999.0,   1.9670, 27.8598,   2.2809, 2, 3749.3, 2, 241.21, 2, 0.24, 0.1, 0.01, 0.01, -999, 9,  -999.00, 9, -999, -999, 9, -999
49NZ20031106, A10, 53, 1, 9, 12045, 2, 20031121, 128, -29.9928, -14.9992, 3836,   3881.8, 2,   2.2743, 2,  34.8554, 2,  34.8554, 2,    234.8, 1,    241.3, 2,    54.86, 2,    24.01, 2,    -0.01, 2,     1.63, 2,    0.000, 2,    0.001, 2,    0.000, 4,   2202.7, 2,   2338.0, 2,    7.7127, 2,     25.00, -999.000, 9, -999.000,   -999.0, 9,   -999.0,  -999.00, 9,   -999.0,   1.9460, 27.861,   2.2744, 2, 3881.8, 2, 241.1, 2, 0.24, 0.1, 0.01, 0.01, -999, 9,  -999.00, 9, -999, -999, 9, -999