BOTTLE,20220818CCHSIOAMB
EXPOCODE,SECT_ID,STNNBR,CASTNO,SAMPNO,BTLNBR,BTLNBR_FLAG_W,DATE,TIME,LATITUDE,LONGITUDE,DEPTH,CTDPRS,CTDPRS_FLAG_W,CTDTMP,CTDTMP_FLAG_W,CTDSAL,CTDSAL_FLAG_W,SALNTY,SALNTY_FLAG_W,CTDOXY,CTDOXY_FLAG_W,OXYGEN,OXYGEN_FLAG_W,SILCAT,SILCAT_FLAG_W,NITRAT,NITRAT_FLAG_W,NITRIT,NITRIT_FLAG_W,PHSPHT,PHSPHT_FLAG_W,CFC-11,CFC-11_FLAG_W,CFC-12,CFC-12_FLAG_W,CFC113,CFC113_FLAG_W,TCARBN,TCARBN_FLAG_W,ALKALI,ALKALI_FLAG_W,PH_TOT,PH_TOT_FLAG_W,PH_TMP,TRITUM,TRITUM_FLAG_W,TRITER,DELC14,DELC14_FLAG_W,C14ERR,DELC13,DELC13_FLAG_W,C13ERR,THETA,SIG0,SBE35,SBE35_FLAG_W,DWNPRS,DWNPRS_FLAG_W,DWNOXY,DWNOXY_FLAG_W,SILUNC,NRAUNC,NRIUNC,PHPUNC,TOC,TOC_FLAG_W,CS-137,CS-137_FLAG_W,CS137ER,PLUTO,PLUTO_FLAG_W,PLUTOER
,,,,,,,,,,,METERS,DBAR,,ITS-90,,PSS-78,,PSS-78,,UMOL/KG,,UMOL/KG,,UMOL/KG,,UMOL/KG,,UMOL/KG,,UMOL/KG,,PMOL/KG,,PMOL/KG,,PMOL/KG,,UMOL/KG,,UMOL/KG,,,,DEG C,TU,,TU,/MILLE,,/MILLE,/MILLE,,/MILLE,DEG C,KG/M^3,ITS-90,,DBAR,,UMOL/KG,,UMOL/KG,UMOL/KG,UMOL/KG,UMOL/KG,UMOL/KG,,BQ/M^3,,BQ/M^3,MBQ/M^3,,MBQ/M^3
49NZ20031106, A10, 57, 1, 2, 12038, 9, 20031121, 2121, -29.9892, -12.3288, 3049,     10.4, 2,  19.4173, 2,  35.8675, 2, -999.0000, 9,    220.2, 1,   -999.0, 9,  -999.00, 9,  -999.00, 9,  -999.00, 9,  -999.00, 9, -999.000, 9, -999.000, 9, -999.000, 9,   -999.0, 9,   -999.0, 9, -999.0000, 9,   -999.00, -999.000, 9, -999.000,   -999.0, 9,   -999.0,  -999.00, 9,   -999.0,  19.4154, 25.5785,  19.4172, 2, 11.4, 2, 233.67, 2, -999, -999, -999, -999, -999, 9,  -999.00, 9, -999, -999, 9, -999
49NZ20031106, A10, 57, 1, 36, 12036, 2, 20031121, 2121, -29.9892, -12.3288, 3049,     10.7, 2,  19.4149, 2,  35.8673, 2,  35.8666, 2,    220.3, 1,    233.3, 2,     0.93, 2,     0.03, 2,     0.01, 2,     0.13, 2,    2.498, 2,    1.432, 2,    0.269, 4,   2069.5, 2,   2352.0, 2,    8.0047, 2,     25.00, -999.000, 9, -999.000,   -999.0, 9,   -999.0,  -999.00, 9,   -999.0,  19.4130, 25.5792,  19.4152, 2, 11.8, 2, 233.66, 2, 0.12, 0.03, 0.01, 0.02, -999, 9,  -999.00, 9, -999, -999, 9, -999
49NZ20031106, A10, 57, 1, 35, 12035, 2, 20031121, 2121, -29.9892, -12.3288, 3049,     51.0, 2,  18.7731, 2,  35.8785, 2,  35.8788, 2,    222.7, 1,    236.0, 2,     0.93, 2,     0.01, 2,     0.00, 2,     0.13, 2,    2.506, 2,    1.430, 2,    0.326, 4,   2066.9, 6,   2354.6, 2,    8.0079, 2,     25.00, -999.000, 9, -999.000,   -999.0, 9,   -999.0,  -999.00, 9,   -999.0,  18.7641, 25.7558,  18.7709, 2, 48, 2, 235.73, 2, 0.12, 0.03, 0.01, 0.02, -999, 9,  -999.00, 9, -999, -999, 9, -999
49NZ20031106, A10, 57, 1, 34, 12034, 2, 20031121, 2121, -29.9892, -12.3288, 3049,    100.9, 2,  17.7936, 2,  35.7255, 2,  35.7269, 2,    226.4, 1,    239.4, 2,     0.87, 2,     0.01, 2,     0.01, 2,     0.14, 2,    2.635, 2,    1.517, 2,    0.345, 4,   2063.4, 2,   2345.4, 6,    8.0014, 2,     25.00, -999.000, 9, -999.000,   -999.0, 9,   -999.0,  -999.00, 9,   -999.0,  17.7764, 25.8851,  17.7930, 2, 100.7, 2, 239.35, 2, 0.12, 0.03, 0.01, 0.02, -999, 9,  -999.00, 9, -999, -999, 9, -999
49NZ20031106, A10, 57, 1, 33, 12033, 2, 20031121, 2121, -29.9892, -12.3288, 3049,    149.6, 2,  16.7215, 2,  35.6052, 2,  35.6034, 2,    222.6, 1,    235.0, 2,     1.07, 2,     0.19, 2,     0.04, 2,     0.21, 2,    2.794, 2,    1.577, 2,    0.313, 4,   2073.8, 2,   2338.9, 2,    7.9744, 6,     25.00, -999.000, 9, -999.000,   -999.0, 9,   -999.0,  -999.00, 9,   -999.0,  16.6970, 26.0529,  16.7195, 2, 145.6, 2, 235.37, 2, 0.12, 0.03, 0.01, 0.02, -999, 9,  -999.00, 9, -999, -999, 9, -999
49NZ20031106, A10, 57, 1, 32, 12032, 2, 20031121, 2121, -29.9892, -12.3288, 3049,    199.4, 2,  15.1487, 2,  35.4323, 2,  35.4375, 2,    212.5, 1,    223.0, 2,     1.48, 2,     3.42, 2,     0.02, 2,     0.41, 2,    2.989, 2,    1.666, 2,    0.164, 4,   2090.2, 2,   2325.8, 2,    7.9275, 2,     25.00, -999.000, 9, -999.000,   -999.0, 9,   -999.0,  -999.00, 9,   -999.0,  15.1182, 26.2794,  15.1517, 2, 196.9, 2, 221.45, 2, 0.12, 0.04, 0.01, 0.01, -999, 9,  -999.00, 9, -999, -999, 9, -999
49NZ20031106, A10, 57, 1, 31, 12031, 2, 20031121, 2121, -29.9892, -12.3288, 3049,    248.5, 2,  14.3297, 2,  35.3505, 2,  35.3500, 2,    209.0, 1,    219.8, 2,     1.89, 2,     5.60, 2,     0.01, 2,     0.53, 2,    3.122, 6,    1.709, 6,    0.094, 4,   2098.8, 2,   2322.7, 2,    7.8869, 2,     25.00, -999.000, 9, -999.000,   -999.0, 9,   -999.0,  -999.00, 9,   -999.0,  14.2930, 26.3969,  14.3301, 2, 245.8, 2, 219.23, 2, 0.12, 0.05, 0.01, 0.01, -999, 9,  -999.00, 9, -999, -999, 9, -999
49NZ20031106, A10, 57, 1, 30, 12030, 2, 20031121, 2121, -29.9892, -12.3288, 3049,    300.4, 2,  13.6280, 2,  35.2930, 2,  35.2933, 2,    208.5, 1,    219.0, 2,     2.26, 2,     7.43, 2,     0.00, 2,     0.63, 2, -999.000, 5, -999.000, 5, -999.000, 5,   2105.5, 2,   2324.1, 2,    7.9055, 2,     25.00, -999.000, 9, -999.000,   -999.0, 9,   -999.0,  -999.00, 9,   -999.0,  13.5851, 26.5016,  13.6265, 2, 298.2, 2, 218.69, 2, 0.12, 0.05, 0.01, 0.01, -999, 9,  -999.00, 9, -999, -999, 9, -999
49NZ20031106, A10, 57, 1, 29, 12029, 2, 20031121, 2121, -29.9892, -12.3288, 3049,    401.0, 2,  11.8954, 2,  35.0434, 2,  35.0434, 2,    205.9, 1,    215.8, 2,     3.57, 2,    11.66, 2,     0.00, 2,     0.90, 2,    3.263, 2,    1.709, 2,    0.091, 4,   2118.7, 2,   2304.4, 2,    7.8376, 2,     25.00, -999.000, 9, -999.000,   -999.0, 9,   -999.0,  -999.00, 9,   -999.0,  11.8429, 26.6537,  11.8957, 2, 400.9, 2, 215.44, 2, 0.13, 0.07, 0.01, 0.01, -999, 9,  -999.00, 9, -999, -999, 9, -999
49NZ20031106, A10, 57, 1, 28, 12028, 2, 20031121, 2121, -29.9892, -12.3288, 3049,    499.8, 2,  10.1007, 2,  34.8099, 2,  34.8094, 2,    202.5, 1,    211.6, 2,     5.92, 2,    16.46, 2,     0.01, 2,     1.19, 2,    3.275, 2,    1.674, 2,    0.096, 4,   2132.7, 2,   2294.6, 2,    7.7853, 2,     25.00, -999.000, 9, -999.000,   -999.0, 9,   -999.0,  -999.00, 9,   -999.0,  10.0416, 26.7969,  10.1004, 2, 500.9, 2, 212.06, 2, 0.13, 0.08, 0.01, 0.01, -999, 9,  -999.00, 9, -999, -999, 9, -999
49NZ20031106, A10, 57, 1, 27, 12027, 2, 20031121, 2121, -29.9892, -12.3288, 3049,    598.8, 2,   7.9851, 2,  34.5700, 2,  34.5705, 2,    202.2, 1,    210.8, 2,     9.80, 2,    21.93, 2,     0.00, 2,     1.54, 2,    3.130, 2,    1.544, 2,    0.135, 4,   2150.0, 2,   2284.9, 2,    7.7264, 2,     25.00, -999.000, 9, -999.000,   -999.0, 9,   -999.0,  -999.00, 9,   -999.0,   7.9234, 26.9477,   7.9863, 2, 601.1, 2, 209.56, 2, 0.14, 0.09, 0.01, 0.01, -999, 9,  -999.00, 9, -999, -999, 9, -999
49NZ20031106, A10, 57, 1, 26, 12026, 2, 20031121, 2121, -29.9892, -12.3288, 3049,    700.5, 2,   6.4315, 2,  34.4173, 2,  34.4172, 2,    209.6, 1,    218.8, 2,    13.17, 2,    25.15, 2,     0.00, 2,     1.75, 2,    3.120, 2,    1.514, 2,    0.138, 4,   2160.3, 6,   2281.5, 2,    7.6943, 2,     25.00, -999.000, 9, -999.000,   -999.0, 9,   -999.0,  -999.00, 9,   -999.0,   6.3671, 27.0449,   6.4346, 2, 699.2, 2, 219.16, 2, 0.15, 0.1, 0.01, 0.01, -999, 9,  -999.00, 9, -999, -999, 9, -999
49NZ20031106, A10, 57, 1, 25, 12025, 2, 20031121, 2121, -29.9892, -12.3288, 3049,    801.6, 2,   5.2031, 2,  34.3334, 2,  34.3331, 2,    211.8, 1,    221.2, 2,    18.66, 2,    27.89, 2,     0.00, 2,     1.93, 2,    2.835, 2,    1.350, 2,    0.129, 4,   2172.0, 2,   2284.9, 6,    7.6706, 2,     25.00, -999.000, 9, -999.000,   -999.0, 9,   -999.0,  -999.00, 9,   -999.0,   5.1364, 27.1316,   5.2030, 2, 800.9, 2, 221.66, 2, 0.16, 0.11, 0.01, 0.01, -999, 9,  -999.00, 9, -999, -999, 9, -999
49NZ20031106, A10, 57, 1, 24, 12024, 2, 20031121, 2121, -29.9892, -12.3288, 3049,    900.6, 2,   4.3680, 2,  34.3064, 2,  34.3070, 2,    211.0, 1,    220.3, 2,    25.15, 2,    29.78, 2,     0.00, 2,     2.06, 2,    2.348, 2,    1.116, 2,    0.122, 4,   2183.4, 2,   2290.1, 2,    7.6538, 2,     25.00, -999.000, 9, -999.000,   -999.0, 9,   -999.0,  -999.00, 9,   -999.0,   4.2983, 27.2035,   4.3664, 2, 900.1, 2, 220.24, 2, 0.17, 0.12, 0.01, 0.02, -999, 9,  -999.00, 9, -999, -999, 9, -999
49NZ20031106, A10, 57, 1, 6, 12042, 9, 20031121, 2121, -29.9892, -12.3288, 3049,    999.9, 2,   3.7812, 2,  34.3265, 2, -999.0000, 9,    203.5, 1,   -999.0, 9,  -999.00, 9,  -999.00, 9,  -999.00, 9,  -999.00, 9, -999.000, 9, -999.000, 9, -999.000, 9,   -999.0, 9,   -999.0, 9, -999.0000, 9,   -999.00, -999.000, 9, -999.000,   -999.0, 9,   -999.0,  -999.00, 9,   -999.0,   3.7075, 27.2806,   3.7808, 2, 1000.2, 2, 212.58, 2, -999, -999, -999, -999, -999, 9,  -999.00, 9, -999, -999, 9, -999
49NZ20031106, A10, 57, 1, 4, 12040, 9, 20031121, 2121, -29.9892, -12.3288, 3049,   1000.0, 2,   3.7802, 2,  34.3266, 2, -999.0000, 9,    203.4, 1,   -999.0, 9,  -999.00, 9,  -999.00, 9,  -999.00, 9,  -999.00, 9, -999.000, 9, -999.000, 9, -999.000, 9,   -999.0, 9,   -999.0, 9, -999.0000, 9,   -999.00, -999.000, 9, -999.000,   -999.0, 9,   -999.0,  -999.00, 9,   -999.0,   3.7065, 27.2811,   3.7797, 2, 1000.4, 2, 212.57, 2, -999, -999, -999, -999, -999, 9,  -999.00, 9, -999, -999, 9, -999
49NZ20031106, A10, 57, 1, 3, 12039, 9, 20031121, 2121, -29.9892, -12.3288, 3049,   1000.0, 2,   3.7781, 2,  34.3268, 2, -999.0000, 9,    203.3, 1,   -999.0, 9,  -999.00, 9,  -999.00, 9,  -999.00, 9,  -999.00, 9, -999.000, 9, -999.000, 9, -999.000, 9,   -999.0, 9,   -999.0, 9, -999.0000, 9,   -999.00, -999.000, 9, -999.000,   -999.0, 9,   -999.0,  -999.00, 9,   -999.0,   3.7044, 27.2818,   3.7769, 2, 1000.4, 2, 212.55, 2, -999, -999, -999, -999, -999, 9,  -999.00, 9, -999, -999, 9, -999
49NZ20031106, A10, 57, 1, 23, 12023, 2, 20031121, 2121, -29.9892, -12.3288, 3049,   1000.2, 2,   3.7814, 2,  34.3266, 2,  34.3264, 2,    203.7, 1,    212.3, 2,    33.11, 2,    31.24, 2,     0.00, 2,     2.15, 2,    1.729, 6,    0.846, 6,    0.060, 4,   2195.9, 2,   2297.1, 2,    7.6325, 2,     25.00, -999.000, 9, -999.000,   -999.0, 9,   -999.0,  -999.00, 9,   -999.0,   3.7077, 27.2807,   3.7800, 2, 1000.5, 2, 212.54, 2, 0.19, 0.12, 0.01, 0.02, -999, 9,  -999.00, 9, -999, -999, 9, -999
49NZ20031106, A10, 57, 1, 5, 12041, 9, 20031121, 2121, -29.9892, -12.3288, 3049,   1000.3, 2,   3.7795, 2,  34.3267, 2, -999.0000, 9,    203.7, 1,   -999.0, 9,  -999.00, 9,  -999.00, 9,  -999.00, 9,  -999.00, 9, -999.000, 9, -999.000, 9, -999.000, 9,   -999.0, 9,   -999.0, 9, -999.0000, 9,   -999.00, -999.000, 9, -999.000,   -999.0, 9,   -999.0,  -999.00, 9,   -999.0,   3.7058, 27.2808,   3.7790, 2, 1000.7, 2, 212.53, 2, -999, -999, -999, -999, -999, 9,  -999.00, 9, -999, -999, 9, -999
49NZ20031106, A10, 57, 1, 22, 12022, 2, 20031121, 2121, -29.9892, -12.3288, 3049,   1200.3, 2,   3.1148, 2,  34.4412, 2,  34.4412, 2,    186.0, 1,    193.7, 2,    48.66, 2,    32.76, 2,    -0.01, 2,     2.26, 2,    0.645, 2,    0.365, 2,    0.021, 4,   2219.1, 2,   2312.5, 2,    7.6061, 2,     25.00, -999.000, 9, -999.000,   -999.0, 9,   -999.0,  -999.00, 9,   -999.0,   3.0305, 27.4366,   3.1150, 2, 1201.4, 2, 194.87, 2, 0.23, 0.12, 0.01, 0.02, -999, 9,  -999.00, 9, -999, -999, 9, -999
49NZ20031106, A10, 57, 1, 21, 12015, 2, 20031121, 2121, -29.9892, -12.3288, 3049,   1401.3, 2,   2.9504, 2,  34.5659, 2,  34.5641, 2,    180.2, 1,    187.5, 2,    54.75, 2,    32.03, 2,    -0.01, 2,     2.21, 2,    0.233, 2,    0.158, 2,    0.000, 4,   2228.9, 2,   2319.0, 2,    7.6051, 2,     25.00, -999.000, 9, -999.000,   -999.0, 9,   -999.0,  -999.00, 9,   -999.0,   2.8513, 27.5522,   2.9497, 2, 1403.3, 2, 188.01, 2, 0.24, 0.12, 0.01, 0.02, -999, 9,  -999.00, 9, -999, -999, 9, -999
49NZ20031106, A10, 57, 1, 20, 12020, 2, 20031121, 2121, -29.9892, -12.3288, 3049,   1600.5, 2,   2.8230, 2,  34.6649, 2,  34.6649, 2,    186.8, 1,    194.2, 2,    55.62, 2,    30.30, 2,    -0.01, 2,     2.08, 2,    0.092, 2,    0.073, 2,    0.000, 4,   2226.8, 2,   2323.7, 2,    7.6294, 2,     25.00, -999.000, 9, -999.000,   -999.0, 9,   -999.0,  -999.00, 9,   -999.0,   2.7086, 27.6444,   2.8230, 2, 1601.7, 2, 193.44, 2, 0.24, 0.12, 0.01, 0.02, -999, 9,  -999.00, 9, -999, -999, 9, -999
49NZ20031106, A10, 57, 1, 19, 12019, 2, 20031121, 2121, -29.9892, -12.3288, 3049,   1802.7, 2,   2.8152, 2,  34.7587, 2,  34.7585, 2,    197.5, 1,    205.4, 2,    51.92, 2,    27.90, 2,    -0.01, 2,     1.91, 2,    0.011, 2,    0.012, 2,    0.000, 4,   2216.5, 2,   2330.2, 2,    7.6558, 2,     25.00, -999.000, 9, -999.000,   -999.0, 9,   -999.0,  -999.00, 9,   -999.0,   2.6834, 27.7216,   2.8154, 2, 1802.8, 2, 204.94, 2, 0.23, 0.11, 0.01, 0.01, -999, 9,  -999.00, 9, -999, -999, 9, -999
49NZ20031106, A10, 57, 1, 18, 12018, 2, 20031121, 2121, -29.9892, -12.3288, 3049,   2002.9, 2,   2.6957, 2,  34.7978, 2,  34.7973, 2,    207.2, 1,    215.2, 2,    51.12, 2,    26.48, 2,    -0.01, 2,     1.82, 2,    0.007, 2,    0.008, 2,    0.000, 4,   2210.2, 2,   2331.2, 2,    7.6743, 6,     25.00, -999.000, 9, -999.000,   -999.0, 9,   -999.0,  -999.00, 9,   -999.0,   2.5479, 27.7647,   2.6957, 2, 2003, 2, 214.85, 2, 0.23, 0.11, 0.01, 0.01, -999, 9,  -999.00, 9, -999, -999, 9, -999
49NZ20031106, A10, 57, 1, 11, 12047, 9, 20031121, 2121, -29.9892, -12.3288, 3049,   2102.3, 2,   2.6482, 2,  34.8102, 2, -999.0000, 9,    210.9, 1,   -999.0, 9,  -999.00, 9,  -999.00, 9,  -999.00, 9,  -999.00, 9, -999.000, 9, -999.000, 9, -999.000, 9,   -999.0, 9,   -999.0, 9, -999.0000, 9,   -999.00, -999.000, 9, -999.000,   -999.0, 9,   -999.0,  -999.00, 9,   -999.0,   2.4922, 27.7794,   2.6482, 2, 2102.4, 2, 218.73, 2, -999, -999, -999, -999, -999, 9,  -999.00, 9, -999, -999, 9, -999
49NZ20031106, A10, 57, 1, 17, 12017, 2, 20031121, 2121, -29.9892, -12.3288, 3049,   2202.4, 2,   2.6033, 2,  34.8237, 2,  34.8234, 2,    214.8, 1,    223.1, 2,    50.39, 2,    25.44, 2,    -0.01, 2,     1.74, 2,    0.013, 2,    0.009, 2,    0.000, 4,   2203.0, 2,   2327.7, 2,    7.6910, 2,     25.00, -999.000, 9, -999.000,   -999.0, 9,   -999.0,  -999.00, 9,   -999.0,   2.4389, 27.795,   2.6033, 2, 2202.8, 2, 222.48, 2, 0.23, 0.1, 0.01, 0.01, -999, 9,  -999.00, 9, -999, -999, 9, -999
49NZ20031106, A10, 57, 1, 10, 12046, 9, 20031121, 2121, -29.9892, -12.3288, 3049,   2301.0, 2,   2.5585, 2,  34.8356, 2, -999.0000, 9,    218.4, 1,   -999.0, 9,  -999.00, 9,  -999.00, 9,  -999.00, 9,  -999.00, 9, -999.000, 9, -999.000, 9, -999.000, 9,   -999.0, 9,   -999.0, 9, -999.0000, 9,   -999.00, -999.000, 9, -999.000,   -999.0, 9,   -999.0,  -999.00, 9,   -999.0,   2.3858, 27.8088,   2.5587, 2, 2301.4, 2, 226.13, 2, -999, -999, -999, -999, -999, 9,  -999.00, 9, -999, -999, 9, -999
49NZ20031106, A10, 57, 1, 16, 12016, 2, 20031121, 2121, -29.9892, -12.3288, 3049,   2398.8, 2,   2.5307, 2,  34.8424, 2,  34.8426, 2,    220.9, 1,    229.3, 2,    49.81, 2,    24.60, 2,     0.00, 2,     1.69, 2,    0.000, 2,    0.003, 2,    0.000, 4,   2201.0, 6,   2330.8, 2,    7.6992, 2,     25.00, -999.000, 9, -999.000,   -999.0, 9,   -999.0,  -999.00, 9,   -999.0,   2.3493, 27.8176,   2.5307, 2, 2398.8, 2, 228.93, 2, 0.23, 0.1, 0.01, 0.01, -999, 9,  -999.00, 9, -999, -999, 9, -999
49NZ20031106, A10, 57, 1, 9, 12045, 9, 20031121, 2121, -29.9892, -12.3288, 3049,   2499.9, 2,   2.5108, 2,  34.8471, 2, -999.0000, 9,    222.9, 1,   -999.0, 9,  -999.00, 9,  -999.00, 9,  -999.00, 9,  -999.00, 9, -999.000, 9, -999.000, 9, -999.000, 9,   -999.0, 9,   -999.0, 9, -999.0000, 9,   -999.00, -999.000, 9, -999.000,   -999.0, 9,   -999.0,  -999.00, 9,   -999.0,   2.3203, 27.8238,   2.5108, 2, 2499.7, 2, 231.09, 2, -999, -999, -999, -999, -999, 9,  -999.00, 9, -999, -999, 9, -999
49NZ20031106, A10, 57, 1, 15, 12012, 2, 20031121, 2121, -29.9892, -12.3288, 3049,   2600.6, 2,   2.4965, 2,  34.8501, 2,  34.8503, 2,    224.2, 1,    232.4, 2,    49.58, 2,    24.24, 2,    -0.01, 2,     1.66, 2,    0.000, 2,    0.003, 2,    0.000, 4,   2198.7, 2,   2332.3, 6,    7.7048, 2,     25.00, -999.000, 9, -999.000,   -999.0, 9,   -999.0,  -999.00, 9,   -999.0,   2.2966, 27.8281,   2.4966, 2, 2600.2, 2, 232.59, 2, 0.23, 0.1, 0.01, 0.01, -999, 9,  -999.00, 9, -999, -999, 9, -999
49NZ20031106, A10, 57, 1, 8, 12044, 9, 20031121, 2121, -29.9892, -12.3288, 3049,   2700.2, 2,   2.4671, 2,  34.8538, 2, -999.0000, 9,    226.1, 1,   -999.0, 9,  -999.00, 9,  -999.00, 9,  -999.00, 9,  -999.00, 9, -999.000, 9, -999.000, 9, -999.000, 9,   -999.0, 9,   -999.0, 9, -999.0000, 9,   -999.00, -999.000, 9, -999.000,   -999.0, 9,   -999.0,  -999.00, 9,   -999.0,   2.2581, 27.8342,   2.4672, 2, 2700.2, 2, 233.85, 2, -999, -999, -999, -999, -999, 9,  -999.00, 9, -999, -999, 9, -999
49NZ20031106, A10, 57, 1, 14, 12014, 2, 20031121, 2121, -29.9892, -12.3288, 3049,   2801.1, 2,   2.4484, 2,  34.8555, 2,  34.8555, 2,    227.1, 1,    234.9, 2,    50.10, 2,    23.98, 2,    -0.01, 2,     1.65, 2,   -0.004, 2,    0.000, 2,    0.000, 4,   2200.0, 2,   2332.8, 2,    7.7093, 6,     25.00, -999.000, 9, -999.000,   -999.0, 9,   -999.0,  -999.00, 9,   -999.0,   2.2299, 27.8382,   2.4485, 2, 2801.1, 2, 234.88, 2, 0.23, 0.1, 0.01, 0.01, -999, 9,  -999.00, 9, -999, -999, 9, -999
49NZ20031106, A10, 57, 1, 7, 12043, 9, 20031121, 2121, -29.9892, -12.3288, 3049,   2900.4, 2,   2.4451, 2,  34.8563, 2, -999.0000, 9,    227.9, 1,   -999.0, 9,  -999.00, 9,  -999.00, 9,  -999.00, 9,  -999.00, 9, -999.000, 9, -999.000, 9, -999.000, 9,   -999.0, 9,   -999.0, 9, -999.0000, 9,   -999.00, -999.000, 9, -999.000,   -999.0, 9,   -999.0,  -999.00, 9,   -999.0,   2.2168, 27.8397,   2.4452, 2, 2900.4, 2, 235.27, 2, -999, -999, -999, -999, -999, 9,  -999.00, 9, -999, -999, 9, -999
49NZ20031106, A10, 57, 1, 1, 12037, 2, 20031121, 2121, -29.9892, -12.3288, 3049,   2999.7, 2,   2.4483, 2,  34.8563, 2,  34.8567, 2,    228.4, 1,    235.6, 2,    50.35, 2,    23.93, 2,    -0.01, 2,     1.65, 2,    0.000, 2,    0.001, 2,    0.000, 4,   2199.0, 2,   2331.7, 2,    7.7108, 2,     25.00, -999.000, 9, -999.000,   -999.0, 9,   -999.0,  -999.00, 9,   -999.0,   2.2099, 27.8406,   2.4481, 2, 2999.6, 2, 235.56, 2, 0.23, 0.1, 0.01, 0.01, -999, 9,  -999.00, 9, -999, -999, 9, -999
49NZ20031106, A10, 57, 1, 13, 12013, 2, 20031121, 2121, -29.9892, -12.3288, 3049,   2999.9, 2,   2.4480, 2,  34.8564, 2,  34.8567, 2,    228.5, 1,    235.4, 2,    50.26, 2,    23.95, 2,     0.00, 2,     1.65, 2,    0.002, 2,    0.004, 2,    0.000, 4,   2199.5, 2,   2331.1, 2,    7.7101, 2,     25.00, -999.000, 9, -999.000,   -999.0, 9,   -999.0,  -999.00, 9,   -999.0,   2.2096, 27.8406,   2.4479, 2, 2999.9, 2, 235.57, 2, 0.23, 0.1, 0.01, 0.01, -999, 9,  -999.00, 9, -999, -999, 9, -999
49NZ20031106, A10, 57, 1, 12, 12048, 2, 20031121, 2121, -29.9892, -12.3288, 3049,   3131.4, 2,   2.4539, 2,  34.8570, 2,  34.8564, 2,    229.3, 1,    235.5, 2,    50.30, 2,    23.86, 2,     0.00, 2,     1.63, 2,    0.002, 2,    0.000, 2,    0.000, 4,   2200.5, 2,   2334.6, 2,    7.7109, 2,     25.00, -999.000, 9, -999.000,   -999.0, 9,   -999.0,  -999.00, 9,   -999.0,   2.2019, 27.8416,   2.4540, 2, 3131.4, 2, 235.63, 2, 0.23, 0.1, 0.01, 0.01, -999, 9,  -999.00, 9, -999, -999, 9, -999