BOTTLE,20220818CCHSIOAMB
EXPOCODE,SECT_ID,STNNBR,CASTNO,SAMPNO,BTLNBR,BTLNBR_FLAG_W,DATE,TIME,LATITUDE,LONGITUDE,DEPTH,CTDPRS,CTDPRS_FLAG_W,CTDTMP,CTDTMP_FLAG_W,CTDSAL,CTDSAL_FLAG_W,SALNTY,SALNTY_FLAG_W,CTDOXY,CTDOXY_FLAG_W,OXYGEN,OXYGEN_FLAG_W,SILCAT,SILCAT_FLAG_W,NITRAT,NITRAT_FLAG_W,NITRIT,NITRIT_FLAG_W,PHSPHT,PHSPHT_FLAG_W,CFC-11,CFC-11_FLAG_W,CFC-12,CFC-12_FLAG_W,CFC113,CFC113_FLAG_W,TCARBN,TCARBN_FLAG_W,ALKALI,ALKALI_FLAG_W,PH_TOT,PH_TOT_FLAG_W,PH_TMP,TRITUM,TRITUM_FLAG_W,TRITER,DELC14,DELC14_FLAG_W,C14ERR,DELC13,DELC13_FLAG_W,C13ERR,THETA,SIG0,SBE35,SBE35_FLAG_W,DWNPRS,DWNPRS_FLAG_W,DWNOXY,DWNOXY_FLAG_W,SILUNC,NRAUNC,NRIUNC,PHPUNC,TOC,TOC_FLAG_W,CS-137,CS-137_FLAG_W,CS137ER,PLUTO,PLUTO_FLAG_W,PLUTOER
,,,,,,,,,,,METERS,DBAR,,ITS-90,,PSS-78,,PSS-78,,UMOL/KG,,UMOL/KG,,UMOL/KG,,UMOL/KG,,UMOL/KG,,UMOL/KG,,PMOL/KG,,PMOL/KG,,PMOL/KG,,UMOL/KG,,UMOL/KG,,,,DEG C,TU,,TU,/MILLE,,/MILLE,/MILLE,,/MILLE,DEG C,KG/M^3,ITS-90,,DBAR,,UMOL/KG,,UMOL/KG,UMOL/KG,UMOL/KG,UMOL/KG,UMOL/KG,,BQ/M^3,,BQ/M^3,MBQ/M^3,,MBQ/M^3
49NZ20031106, A10, 4, 1, 3, 12012, 2, 20031109, 1637, -29.0347, -42.9098, 4014,      4.7, 2,  20.9905, 2,  35.9953, 2, -999.0000, 9,    216.0, 1,   -999.0, 9,  -999.00, 9,  -999.00, 9,  -999.00, 9,  -999.00, 9, -999.000, 9, -999.000, 9, -999.000, 9,   -999.0, 9,   -999.0, 9, -999.0000, 9,   -999.00, -999.000, 9, -999.000,   -999.0, 9,   -999.0,  -999.00, 9,   -999.0,  20.9896, 25.2589,  20.9928, 2, 4.7, 2, 228.37, 2, -999, -999, -999, -999, -999, 9,  -999.00, 9, -999, -999, 9, -999
49NZ20031106, A10, 4, 1, 2, 12014, 2, 20031109, 1637, -29.0347, -42.9098, 4014,      4.8, 2,  20.8891, 2,  35.9994, 2, -999.0000, 9,    216.0, 1,   -999.0, 9,  -999.00, 9,  -999.00, 9,  -999.00, 9,  -999.00, 9, -999.000, 9, -999.000, 9, -999.000, 9,   -999.0, 9,   -999.0, 9, -999.0000, 9,   -999.00, -999.000, 9, -999.000,   -999.0, 9,   -999.0,  -999.00, 9,   -999.0,  20.8882, 25.2912,  20.8913, 2, 4.8, 2, 228.31, 2, -999, -999, -999, -999, -999, 9,  -999.00, 9, -999, -999, 9, -999
49NZ20031106, A10, 4, 1, 36, 12048, 2, 20031109, 1637, -29.0347, -42.9098, 4014,      9.6, 2,  20.4031, 2,  35.9972, 2,  35.9975, 2,    217.0, 1,    227.9, 2,     0.76, 2,     0.02, 2,     0.00, 2,     0.04, 2, -999.000, 9, -999.000, 9, -999.000, 9,   -999.0, 9,   -999.0, 9, -999.0000, 9,   -999.00, -999.000, 9, -999.000,   -999.0, 9,   -999.0,  -999.00, 9,   -999.0,  20.4013, 25.421,  20.3964, 2, 17.3, 2, 226.95, 2, 0.12, 0.03, 0.01, 0.04, -999, 9,  -999.00, 9, -999, -999, 9, -999
49NZ20031106, A10, 4, 1, 35, 12047, 2, 20031109, 1637, -29.0347, -42.9098, 4014,     49.8, 2,  20.1743, 2,  35.9985, 2,  35.9983, 2,    217.4, 1,    228.5, 2,     0.71, 2,    -0.01, 2,     0.01, 2,     0.04, 2, -999.000, 9, -999.000, 9, -999.000, 9,   -999.0, 9,   -999.0, 9, -999.0000, 9,   -999.00, -999.000, 9, -999.000,   -999.0, 9,   -999.0,  -999.00, 9,   -999.0,  20.1650, 25.4817,  20.1740, 2, 49.9, 2, 228.42, 2, 0.12, 0.03, 0.01, 0.04, -999, 9,  -999.00, 9, -999, -999, 9, -999
49NZ20031106, A10, 4, 1, 34, 12046, 2, 20031109, 1637, -29.0347, -42.9098, 4014,     98.9, 2,  19.2059, 2,  35.9787, 2,  35.9785, 2,    218.8, 1,    229.5, 2,     0.79, 2,    -0.02, 2,     0.00, 2,     0.07, 2, -999.000, 9, -999.000, 9, -999.000, 9,   -999.0, 9,   -999.0, 9, -999.0000, 9,   -999.00, -999.000, 9, -999.000,   -999.0, 9,   -999.0,  -999.00, 9,   -999.0,  19.1881, 25.722,  19.2070, 2, 98.1, 2, 229.23, 2, 0.12, 0.03, 0.01, 0.03, -999, 9,  -999.00, 9, -999, -999, 9, -999
49NZ20031106, A10, 4, 1, 1, 12013, 2, 20031109, 1637, -29.0347, -42.9098, 4014,    130.9, 2,  18.6110, 2,  35.9322, 2, -999.0000, 9,    213.3, 1,   -999.0, 9,  -999.00, 9,  -999.00, 9,  -999.00, 9,  -999.00, 9, -999.000, 9, -999.000, 9, -999.000, 9,   -999.0, 9,   -999.0, 9, -999.0000, 9,   -999.00, -999.000, 9, -999.000,   -999.0, 9,   -999.0,  -999.00, 9,   -999.0,  18.5879, 25.8398,  18.6111, 2, 133.9, 2, 222.76, 2, -999, -999, -999, -999, -999, 9,  -999.00, 9, -999, -999, 9, -999
49NZ20031106, A10, 4, 1, 33, 12045, 2, 20031109, 1637, -29.0347, -42.9098, 4014,    151.0, 2,  18.3229, 2,  35.9006, 2,  35.8993, 2,    211.0, 1,    221.3, 2,     0.89, 2,     0.50, 2,     0.07, 2,     0.14, 2, -999.000, 9, -999.000, 9, -999.000, 9,   -999.0, 9,   -999.0, 9, -999.0000, 9,   -999.00, -999.000, 9, -999.000,   -999.0, 9,   -999.0,  -999.00, 9,   -999.0,  18.2965, 25.887,  18.3328, 2, 151.8, 2, 221.24, 2, 0.12, 0.03, 0.01, 0.02, -999, 9,  -999.00, 9, -999, -999, 9, -999
49NZ20031106, A10, 4, 1, 32, 12044, 2, 20031109, 1637, -29.0347, -42.9098, 4014,    201.9, 2,  17.1584, 2,  35.7936, 2,  35.8062, 3,    206.7, 1,    216.5, 2,     1.05, 2,     1.64, 2,     0.02, 2,     0.25, 2, -999.000, 9, -999.000, 9, -999.000, 9,   -999.0, 9,   -999.0, 9, -999.0000, 9,   -999.00, -999.000, 9, -999.000,   -999.0, 9,   -999.0,  -999.00, 9,   -999.0,  17.1247, 26.0948,  17.1588, 2, 202.2, 2, 216.25, 2, 0.12, 0.04, 0.01, 0.01, -999, 9,  -999.00, 9, -999, -999, 9, -999
49NZ20031106, A10, 4, 1, 31, 12043, 2, 20031109, 1637, -29.0347, -42.9098, 4014,    251.2, 2,  16.1520, 2,  35.6552, 2,  35.6547, 2,    204.6, 1,    214.1, 2,     1.40, 2,     3.04, 2,     0.02, 2,     0.36, 2, -999.000, 9, -999.000, 9, -999.000, 9,   -999.0, 9,   -999.0, 9, -999.0000, 9,   -999.00, -999.000, 9, -999.000,   -999.0, 9,   -999.0,  -999.00, 9,   -999.0,  16.1117, 26.2268,  16.1526, 2, 251.2, 2, 214.55, 2, 0.12, 0.04, 0.01, 0.01, -999, 9,  -999.00, 9, -999, -999, 9, -999
49NZ20031106, A10, 4, 1, 30, 12042, 2, 20031109, 1637, -29.0347, -42.9098, 4014,    300.1, 2,  14.9917, 2,  35.4730, 2,  35.4722, 2,    207.8, 1,    217.0, 2,     1.79, 2,     4.56, 2,     0.01, 2,     0.45, 2, -999.000, 9, -999.000, 9, -999.000, 9,   -999.0, 9,   -999.0, 9, -999.0000, 9,   -999.00, -999.000, 9, -999.000,   -999.0, 9,   -999.0,  -999.00, 9,   -999.0,  14.9459, 26.3491,  14.9917, 2, 300.2, 2, 217.01, 2, 0.12, 0.05, 0.01, 0.01, -999, 9,  -999.00, 9, -999, -999, 9, -999
49NZ20031106, A10, 4, 1, 29, 12041, 2, 20031109, 1637, -29.0347, -42.9098, 4014,    400.4, 2,  13.3077, 2,  35.2424, 2,  35.2433, 2,    206.5, 1,    215.0, 2,     2.73, 2,     8.45, 2,     0.01, 2,     0.68, 2, -999.000, 9, -999.000, 9, -999.000, 9,   -999.0, 9,   -999.0, 9, -999.0000, 9,   -999.00, -999.000, 9, -999.000,   -999.0, 9,   -999.0,  -999.00, 9,   -999.0,  13.2512, 26.5309,  13.3120, 2, 403, 2, 214.9, 2, 0.13, 0.06, 0.01, 0.01, -999, 9,  -999.00, 9, -999, -999, 9, -999
49NZ20031106, A10, 4, 1, 28, 12040, 2, 20031109, 1637, -29.0347, -42.9098, 4014,    498.8, 2,  11.8349, 2,  35.0431, 2,  35.0428, 2,    202.7, 1,    210.9, 2,     4.24, 2,    12.36, 2,     0.01, 2,     0.92, 2, -999.000, 9, -999.000, 9, -999.000, 9,   -999.0, 9,   -999.0, 9, -999.0000, 9,   -999.00, -999.000, 9, -999.000,   -999.0, 9,   -999.0,  -999.00, 9,   -999.0,  11.7696, 26.6664,  11.8339, 2, 498.5, 2, 211.4, 2, 0.13, 0.07, 0.01, 0.01, -999, 9,  -999.00, 9, -999, -999, 9, -999
49NZ20031106, A10, 4, 1, 27, 12039, 2, 20031109, 1637, -29.0347, -42.9098, 4014,    601.9, 2,   9.7262, 2,  34.7754, 2,  34.7750, 2,    200.5, 1,    208.2, 2,     7.00, 2,    17.84, 2,     0.01, 2,     1.26, 2, -999.000, 9, -999.000, 9, -999.000, 9,   -999.0, 9,   -999.0, 9, -999.0000, 9,   -999.00, -999.000, 9, -999.000,   -999.0, 9,   -999.0,  -999.00, 9,   -999.0,   9.6563, 26.8338,   9.7256, 2, 599.5, 2, 208.98, 2, 0.13, 0.08, 0.01, 0.01, -999, 9,  -999.00, 9, -999, -999, 9, -999
49NZ20031106, A10, 4, 1, 26, 12038, 2, 20031109, 1637, -29.0347, -42.9098, 4014,    701.5, 2,   7.3386, 2,  34.4982, 2,  34.4972, 2,    209.1, 1,    216.7, 2,    10.67, 2,    23.00, 2,     0.01, 2,     1.60, 2, -999.000, 9, -999.000, 9, -999.000, 9,   -999.0, 9,   -999.0, 9, -999.0000, 9,   -999.00, -999.000, 9, -999.000,   -999.0, 9,   -999.0,  -999.00, 9,   -999.0,   7.2693, 26.985,   7.3386, 2, 702.2, 2, 216.99, 2, 0.14, 0.1, 0.01, 0.01, -999, 9,  -999.00, 9, -999, -999, 9, -999
49NZ20031106, A10, 4, 1, 25, 12037, 2, 20031109, 1637, -29.0347, -42.9098, 4014,    799.9, 2,   5.7254, 2,  34.3642, 2,  34.3642, 2,    214.1, 1,    222.2, 2,    15.78, 2,    26.46, 2,     0.01, 2,     1.82, 2, -999.000, 9, -999.000, 9, -999.000, 9,   -999.0, 9,   -999.0, 9, -999.0000, 9,   -999.00, -999.000, 9, -999.000,   -999.0, 9,   -999.0,  -999.00, 9,   -999.0,   5.6557, 27.0924,   5.7263, 2, 800.4, 2, 222.65, 2, 0.15, 0.11, 0.01, 0.01, -999, 9,  -999.00, 9, -999, -999, 9, -999
49NZ20031106, A10, 4, 1, 24, 12036, 2, 20031109, 1637, -29.0347, -42.9098, 4014,    901.3, 2,   4.7811, 2,  34.3120, 2,  34.3108, 2,    215.6, 1,    224.6, 2,    20.94, 2,    28.47, 2,     0.00, 2,     1.96, 2, -999.000, 9, -999.000, 9, -999.000, 9,   -999.0, 9,   -999.0, 9, -999.0000, 9,   -999.00, -999.000, 9, -999.000,   -999.0, 9,   -999.0,  -999.00, 9,   -999.0,   4.7084, 27.1623,   4.7810, 2, 901.1, 2, 224.49, 2, 0.17, 0.11, 0.01, 0.01, -999, 9,  -999.00, 9, -999, -999, 9, -999
49NZ20031106, A10, 4, 1, 4, 12016, 9, 20031109, 1637, -29.0347, -42.9098, 4014,   1001.2, 2,   4.0957, 2,  34.3089, 2, -999.0000, 9,    210.5, 1,   -999.0, 9,  -999.00, 9,  -999.00, 9,  -999.00, 9,  -999.00, 9, -999.000, 9, -999.000, 9, -999.000, 9,   -999.0, 9,   -999.0, 9, -999.0000, 9,   -999.00, -999.000, 9, -999.000,   -999.0, 9,   -999.0,  -999.00, 9,   -999.0,   4.0195, 27.234,   4.0956, 2, 1000.1, 2, 218.41, 2, -999, -999, -999, -999, -999, 9,  -999.00, 9, -999, -999, 9, -999
49NZ20031106, A10, 4, 1, 5, 12017, 9, 20031109, 1637, -29.0347, -42.9098, 4014,   1001.3, 2,   4.0963, 2,  34.3089, 2, -999.0000, 9,    210.4, 1,   -999.0, 9,  -999.00, 9,  -999.00, 9,  -999.00, 9,  -999.00, 9, -999.000, 9, -999.000, 9, -999.000, 9,   -999.0, 9,   -999.0, 9, -999.0000, 9,   -999.00, -999.000, 9, -999.000,   -999.0, 9,   -999.0,  -999.00, 9,   -999.0,   4.0201, 27.2337,   4.0966, 2, 1000.1, 2, 218.39, 2, -999, -999, -999, -999, -999, 9,  -999.00, 9, -999, -999, 9, -999
49NZ20031106, A10, 4, 1, 23, 12035, 2, 20031109, 1637, -29.0347, -42.9098, 4014,   1001.7, 2,   4.0997, 2,  34.3085, 2,  34.3089, 2,    210.4, 1,    218.8, 2,    28.06, 2,    30.28, 2,     0.00, 2,     2.08, 2, -999.000, 9, -999.000, 9, -999.000, 9,   -999.0, 9,   -999.0, 9, -999.0000, 9,   -999.00, -999.000, 9, -999.000,   -999.0, 9,   -999.0,  -999.00, 9,   -999.0,   4.0235, 27.2331,   4.0999, 2, 1000.3, 2, 218.36, 2, 0.18, 0.12, 0.01, 0.02, -999, 9,  -999.00, 9, -999, -999, 9, -999
49NZ20031106, A10, 4, 1, 6, 12018, 9, 20031109, 1637, -29.0347, -42.9098, 4014,   1001.7, 2,   4.0970, 2,  34.3088, 2, -999.0000, 9,    210.5, 1,   -999.0, 9,  -999.00, 9,  -999.00, 9,  -999.00, 9,  -999.00, 9, -999.000, 9, -999.000, 9, -999.000, 9,   -999.0, 9,   -999.0, 9, -999.0000, 9,   -999.00, -999.000, 9, -999.000,   -999.0, 9,   -999.0,  -999.00, 9,   -999.0,   4.0208, 27.2337,   4.0970, 2, 1000.4, 2, 218.34, 2, -999, -999, -999, -999, -999, 9,  -999.00, 9, -999, -999, 9, -999
49NZ20031106, A10, 4, 1, 22, 12034, 2, 20031109, 1637, -29.0347, -42.9098, 4014,   1203.1, 2,   3.3585, 2,  34.4030, 2,  34.4028, 2,    190.6, 1,    197.9, 2,    43.49, 2,    32.36, 2,     0.00, 2,     2.23, 2, -999.000, 9, -999.000, 9, -999.000, 9,   -999.0, 9,   -999.0, 9, -999.0000, 9,   -999.00, -999.000, 9, -999.000,   -999.0, 9,   -999.0,  -999.00, 9,   -999.0,   3.2718, 27.3831,   3.3590, 2, 1202.7, 2, 197.87, 2, 0.21, 0.12, 0.01, 0.02, -999, 9,  -999.00, 9, -999, -999, 9, -999
49NZ20031106, A10, 4, 1, 21, 12033, 2, 20031109, 1637, -29.0347, -42.9098, 4014,   1402.4, 2,   3.0240, 2,  34.5504, 2,  34.5506, 2,    181.8, 1,    188.5, 2,    52.77, 2,    31.98, 2,     0.00, 2,     2.20, 2, -999.000, 9, -999.000, 9, -999.000, 9,   -999.0, 9,   -999.0, 9, -999.0000, 9,   -999.00, -999.000, 9, -999.000,   -999.0, 9,   -999.0,  -999.00, 9,   -999.0,   2.9240, 27.5333,   3.0240, 2, 1402.5, 2, 188.67, 2, 0.24, 0.12, 0.01, 0.02, -999, 9,  -999.00, 9, -999, -999, 9, -999
49NZ20031106, A10, 4, 1, 20, 12032, 2, 20031109, 1637, -29.0347, -42.9098, 4014,   1598.0, 2,   3.3529, 2,  34.7309, 2,  34.7356, 3,    193.2, 1,    200.1, 2,    42.85, 2,    28.13, 2,     0.00, 2,     1.92, 2, -999.000, 9, -999.000, 9, -999.000, 9,   -999.0, 9,   -999.0, 9, -999.0000, 9,   -999.00, -999.000, 9, -999.000,   -999.0, 9,   -999.0,  -999.00, 9,   -999.0,   3.2321, 27.6488,   3.3539, 2, 1598.1, 2, 199.58, 2, 0.21, 0.11, 0.01, 0.01, -999, 9,  -999.00, 9, -999, -999, 9, -999
49NZ20031106, A10, 4, 1, 19, 12031, 2, 20031109, 1637, -29.0347, -42.9098, 4014,   1799.9, 2,   3.8620, 2,  34.9150, 2,  34.9152, 2,    219.3, 1,    227.8, 2,    24.26, 2,    22.48, 2,     0.00, 2,     1.51, 2, -999.000, 9, -999.000, 9, -999.000, 9,   -999.0, 9,   -999.0, 9, -999.0000, 9,   -999.00, -999.000, 9, -999.000,   -999.0, 9,   -999.0,  -999.00, 9,   -999.0,   3.7158, 27.7474,   3.8617, 2, 1800.2, 2, 227.24, 2, 0.17, 0.1, 0.01, 0.01, -999, 9,  -999.00, 9, -999, -999, 9, -999
49NZ20031106, A10, 4, 1, 18, 12030, 2, 20031109, 1637, -29.0347, -42.9098, 4014,   2000.6, 2,   3.5785, 2,  34.9186, 2,  34.9179, 2,    226.7, 1,    235.4, 2,    26.63, 2,    21.90, 2,     0.00, 2,     1.47, 2, -999.000, 9, -999.000, 9, -999.000, 9,   -999.0, 9,   -999.0, 9, -999.0000, 9,   -999.00, -999.000, 9, -999.000,   -999.0, 9,   -999.0,  -999.00, 9,   -999.0,   3.4173, 27.7804,   3.5787, 2, 2000.1, 2, 236.39, 2, 0.18, 0.09, 0.01, 0.01, -999, 9,  -999.00, 9, -999, -999, 9, -999
49NZ20031106, A10, 4, 1, 17, 12029, 2, 20031109, 1637, -29.0347, -42.9098, 4014,   2200.6, 2,   3.4655, 2,  34.9452, 2,  34.9451, 2,    236.6, 1,    246.2, 2,    23.75, 2,    20.41, 2,     0.01, 2,     1.37, 2, -999.000, 9, -999.000, 9, -999.000, 9,   -999.0, 9,   -999.0, 9, -999.0000, 9,   -999.00, -999.000, 9, -999.000,   -999.0, 9,   -999.0,  -999.00, 9,   -999.0,   3.2868, 27.8143,   3.4656, 2, 2200.1, 2, 245.63, 2, 0.17, 0.09, 0.01, 0.01, -999, 9,  -999.00, 9, -999, -999, 9, -999
49NZ20031106, A10, 4, 1, 16, 12028, 2, 20031109, 1637, -29.0347, -42.9098, 4014,   2401.0, 2,   3.2746, 2,  34.9448, 2,  34.9451, 2,    240.1, 1,    249.9, 2,    24.96, 2,    20.10, 2,     0.01, 2,     1.35, 2, -999.000, 9, -999.000, 9, -999.000, 9,   -999.0, 9,   -999.0, 9, -999.0000, 9,   -999.00, -999.000, 9, -999.000,   -999.0, 9,   -999.0,  -999.00, 9,   -999.0,   3.0795, 27.8336,   3.2748, 2, 2401, 2, 249.34, 2, 0.17, 0.09, 0.01, 0.01, -999, 9,  -999.00, 9, -999, -999, 9, -999
49NZ20031106, A10, 4, 1, 15, 12027, 2, 20031109, 1637, -29.0347, -42.9098, 4014,   2600.7, 2,   3.0900, 2,  34.9370, 2,  34.9371, 2,    241.3, 1,    250.7, 2,    27.41, 2,    20.19, 2,     0.00, 2,     1.36, 2, -999.000, 9, -999.000, 9, -999.000, 9,   -999.0, 9,   -999.0, 9, -999.0000, 9,   -999.00, -999.000, 9, -999.000,   -999.0, 9,   -999.0,  -999.00, 9,   -999.0,   2.8784, 27.8461,   3.0899, 2, 2600.6, 2, 250.38, 2, 0.18, 0.09, 0.01, 0.01, -999, 9,  -999.00, 9, -999, -999, 9, -999
49NZ20031106, A10, 4, 1, 14, 12026, 2, 20031109, 1637, -29.0347, -42.9098, 4014,   2800.9, 2,   2.9350, 2,  34.9292, 2,  34.9295, 2,    241.7, 1,    251.0, 2,    29.81, 2,    20.39, 2,     0.01, 2,     1.37, 2, -999.000, 9, -999.000, 9, -999.000, 9,   -999.0, 9,   -999.0, 9, -999.0000, 9,   -999.00, -999.000, 9, -999.000,   -999.0, 9,   -999.0,  -999.00, 9,   -999.0,   2.7062, 27.8554,   2.9349, 2, 2801, 2, 250.7, 2, 0.18, 0.09, 0.01, 0.01, -999, 9,  -999.00, 9, -999, -999, 9, -999
49NZ20031106, A10, 4, 1, 13, 12025, 2, 20031109, 1637, -29.0347, -42.9098, 4014,   3002.0, 2,   2.8033, 2,  34.9220, 2,  34.9222, 2,    242.3, 1,    251.2, 2,    32.02, 2,    20.50, 2,     0.00, 2,     1.38, 2, -999.000, 9, -999.000, 9, -999.000, 9,   -999.0, 9,   -999.0, 9, -999.0000, 9,   -999.00, -999.000, 9, -999.000,   -999.0, 9,   -999.0,  -999.00, 9,   -999.0,   2.5567, 27.8629,   2.8034, 2, 3002.3, 2, 251.16, 2, 0.19, 0.09, 0.01, 0.01, -999, 9,  -999.00, 9, -999, -999, 9, -999
49NZ20031106, A10, 4, 1, 12, 12024, 2, 20031109, 1637, -29.0347, -42.9098, 4014,   3249.7, 2,   2.6094, 2,  34.9088, 2,  34.9086, 2,    243.0, 1,    251.4, 2,    36.30, 2,    20.87, 2,     0.00, 2,     1.41, 2, -999.000, 9, -999.000, 9, -999.000, 9,   -999.0, 9,   -999.0, 9, -999.0000, 9,   -999.00, -999.000, 9, -999.000,   -999.0, 9,   -999.0,  -999.00, 9,   -999.0,   2.3412, 27.8707,   2.6101, 2, 3250.3, 2, 251.45, 2, 0.2, 0.09, 0.01, 0.01, -999, 9,  -999.00, 9, -999, -999, 9, -999
49NZ20031106, A10, 4, 1, 8, 12020, 9, 20031109, 1637, -29.0347, -42.9098, 4014,   3401.8, 2,   2.4336, 2,  34.8938, 2, -999.0000, 9,    242.1, 1,   -999.0, 9,  -999.00, 9,  -999.00, 9,  -999.00, 9,  -999.00, 9, -999.000, 9, -999.000, 9, -999.000, 9,   -999.0, 9,   -999.0, 9, -999.0000, 9,   -999.00, -999.000, 9, -999.000,   -999.0, 9,   -999.0,  -999.00, 9,   -999.0,   2.1535, 27.8744,   2.4336, 2, 3401.9, 2, 250.01, 2, -999, -999, -999, -999, -999, 9,  -999.00, 9, -999, -999, 9, -999
49NZ20031106, A10, 4, 1, 11, 12023, 2, 20031109, 1637, -29.0347, -42.9098, 4014,   3500.7, 2,   2.2225, 2,  34.8728, 2,  34.8717, 2,    239.1, 1,    246.9, 2,    49.89, 2,    22.63, 2,     0.00, 2,     1.54, 2, -999.000, 9, -999.000, 9, -999.000, 9,   -999.0, 9,   -999.0, 9, -999.0000, 9,   -999.00, -999.000, 9, -999.000,   -999.0, 9,   -999.0,  -999.00, 9,   -999.0,   1.9371, 27.8747,   2.2225, 2, 3501.1, 2, 247.19, 2, 0.23, 0.1, 0.01, 0.01, -999, 9,  -999.00, 9, -999, -999, 9, -999
49NZ20031106, A10, 4, 1, 7, 12019, 9, 20031109, 1637, -29.0347, -42.9098, 4014,   3600.5, 2,   1.7406, 2,  34.8235, 2, -999.0000, 9,    231.5, 1,   -999.0, 9,  -999.00, 9,  -999.00, 9,  -999.00, 9,  -999.00, 9, -999.000, 9, -999.000, 9, -999.000, 9,   -999.0, 9,   -999.0, 9, -999.0000, 9,   -999.00, -999.000, 9, -999.000,   -999.0, 9,   -999.0,  -999.00, 9,   -999.0,   1.4571, 27.8718,   1.7404, 2, 3600.9, 2, 239.27, 2, -999, -999, -999, -999, -999, 9,  -999.00, 9, -999, -999, 9, -999
49NZ20031106, A10, 4, 1, 10, 12022, 2, 20031109, 1637, -29.0347, -42.9098, 4014,   3751.3, 2,   1.1491, 2,  34.7602, 2,  34.7592, 2,    221.4, 1,    227.9, 2,    93.25, 2,    28.60, 2,     0.01, 2,     1.97, 2, -999.000, 9, -999.000, 9, -999.000, 9,   -999.0, 9,   -999.0, 9, -999.0000, 9,   -999.00, -999.000, 9, -999.000,   -999.0, 9,   -999.0,  -999.00, 9,   -999.0,   0.8658, 27.8618,   1.1490, 2, 3751.6, 2, 227.9, 2, 0.32, 0.11, 0.01, 0.01, -999, 9,  -999.00, 9, -999, -999, 9, -999
49NZ20031106, A10, 4, 1, 9, 12015, 2, 20031109, 1637, -29.0347, -42.9098, 4014,   4059.6, 2,   0.5121, 2,  34.6946, 2,  34.6946, 2,    215.2, 1,    219.6, 2,   118.22, 2,    31.84, 2,     0.01, 2,     2.21, 2, -999.000, 9, -999.000, 9, -999.000, 9,   -999.0, 9,   -999.0, 9, -999.0000, 9,   -999.00, -999.000, 9, -999.000,   -999.0, 9,   -999.0,  -999.00, 9,   -999.0,   0.2150, 27.8493,   0.5117, 2, 4059.5, 2, 217.88, 2, 0.38, 0.12, 0.01, 0.02, -999, 9,  -999.00, 9, -999, -999, 9, -999