BOTTLE,20220818CCHSIOAMB
EXPOCODE,SECT_ID,STNNBR,CASTNO,SAMPNO,BTLNBR,BTLNBR_FLAG_W,DATE,TIME,LATITUDE,LONGITUDE,DEPTH,CTDPRS,CTDPRS_FLAG_W,CTDTMP,CTDTMP_FLAG_W,CTDSAL,CTDSAL_FLAG_W,SALNTY,SALNTY_FLAG_W,CTDOXY,CTDOXY_FLAG_W,OXYGEN,OXYGEN_FLAG_W,SILCAT,SILCAT_FLAG_W,NITRAT,NITRAT_FLAG_W,NITRIT,NITRIT_FLAG_W,PHSPHT,PHSPHT_FLAG_W,CFC-11,CFC-11_FLAG_W,CFC-12,CFC-12_FLAG_W,CFC113,CFC113_FLAG_W,TCARBN,TCARBN_FLAG_W,ALKALI,ALKALI_FLAG_W,PH_TOT,PH_TOT_FLAG_W,PH_TMP,TRITUM,TRITUM_FLAG_W,TRITER,DELC14,DELC14_FLAG_W,C14ERR,DELC13,DELC13_FLAG_W,C13ERR,THETA,SIG0,SBE35,SBE35_FLAG_W,DWNPRS,DWNPRS_FLAG_W,DWNOXY,DWNOXY_FLAG_W,SILUNC,NRAUNC,NRIUNC,PHPUNC,TOC,TOC_FLAG_W,CS-137,CS-137_FLAG_W,CS137ER,PLUTO,PLUTO_FLAG_W,PLUTOER
,,,,,,,,,,,METERS,DBAR,,ITS-90,,PSS-78,,PSS-78,,UMOL/KG,,UMOL/KG,,UMOL/KG,,UMOL/KG,,UMOL/KG,,UMOL/KG,,PMOL/KG,,PMOL/KG,,PMOL/KG,,UMOL/KG,,UMOL/KG,,,,DEG C,TU,,TU,/MILLE,,/MILLE,/MILLE,,/MILLE,DEG C,KG/M^3,ITS-90,,DBAR,,UMOL/KG,,UMOL/KG,UMOL/KG,UMOL/KG,UMOL/KG,UMOL/KG,,BQ/M^3,,BQ/M^3,MBQ/M^3,,MBQ/M^3
49NZ20031106, A10, 97, 1, 1, 12025, 9, 20031202, 1016, -28.8762, 14.0408, 1536,     10.0, 2,  18.6347, 2,  35.3666, 2, -999.0000, 9,    225.9, 1,   -999.0, 9,  -999.00, 9,  -999.00, 9,  -999.00, 9,  -999.00, 9, -999.000, 9, -999.000, 9, -999.000, 9,   -999.0, 9,   -999.0, 9, -999.0000, 9,   -999.00, -999.000, 9, -999.000,   -999.0, 9,   -999.0,  -999.00, 9,   -999.0,  18.6329, 25.3974,  18.6336, 2, 9, 2, 237.98, 2, -999, -999, -999, -999, -999, 9,  -999.00, 9, -999, -999, 9, -999
49NZ20031106, A10, 97, 1, 36, 12024, 2, 20031202, 1016, -28.8762, 14.0408, 1536,     10.2, 2,  18.6461, 2,  35.3660, 2,  35.3674, 2,    226.4, 1,    238.3, 2,     1.08, 2,    -0.01, 2,     0.00, 2,     0.20, 2,    2.699, 2,    1.471, 2, -999.000, 5,   2045.4, 2,   2330.5, 2,    8.0092, 2,     25.00, -999.000, 9, -999.000,   -999.0, 9,   -999.0,  -999.00, 9,   -999.0,  18.6443, 25.3921,  18.6504, 2, 8.4, 2, 237.98, 2, 0.12, 0.03, 0.01, 0.02, -999, 9,  -999.00, 9, -999, -999, 9, -999
49NZ20031106, A10, 97, 1, 35, 12023, 2, 20031202, 1016, -28.8762, 14.0408, 1536,     50.4, 2,  16.6708, 2,  35.2707, 2,  35.2720, 2,    217.9, 1,    229.6, 2,     2.36, 2,     2.45, 2,     0.22, 2,     0.39, 2,    2.876, 2,    1.571, 2, -999.000, 5,   2060.2, 6,   2323.3, 2,    7.9673, 2,     25.00, -999.000, 9, -999.000,   -999.0, 9,   -999.0,  -999.00, 9,   -999.0,  16.6626, 25.8037,  16.6696, 2, 47.9, 2, 228.62, 2, 0.12, 0.04, 0.01, 0.01, -999, 9,  -999.00, 9, -999, -999, 9, -999
49NZ20031106, A10, 97, 1, 34, 12022, 2, 20031202, 1016, -28.8762, 14.0408, 1536,    101.7, 2,  13.4869, 2,  35.1397, 2,  35.1401, 2,    194.2, 1,    203.3, 2,     5.49, 2,    10.77, 2,     0.08, 2,     0.84, 2,    3.124, 2,    1.631, 2,    0.455, 4,   2107.4, 2,   2309.5, 6,    7.8557, 2,     25.00, -999.000, 9, -999.000,   -999.0, 9,   -999.0,  -999.00, 9,   -999.0,  13.4726, 26.4067,  13.4908, 2, 106.3, 2, 201.45, 2, 0.13, 0.06, 0.01, 0.01, -999, 9,  -999.00, 9, -999, -999, 9, -999
49NZ20031106, A10, 97, 1, 33, 12015, 2, 20031202, 1016, -28.8762, 14.0408, 1536,    150.7, 2,  10.8193, 2,  34.8933, 2,  34.8893, 2,    180.3, 1,    188.1, 2,     8.82, 2,    17.18, 2,     0.02, 2,     1.26, 2,    3.146, 2,    1.583, 2,    0.159, 4,   2145.5, 2,   2296.6, 2,    7.7588, 6,     25.00, -999.000, 9, -999.000,   -999.0, 9,   -999.0,  -999.00, 9,   -999.0,  10.8010, 26.73,  10.8167, 2, 154.2, 2, 190.72, 2, 0.14, 0.08, 0.01, 0.01, -999, 9,  -999.00, 9, -999, -999, 9, -999
49NZ20031106, A10, 97, 1, 32, 12020, 2, 20031202, 1016, -28.8762, 14.0408, 1536,    202.0, 2,   9.7720, 2,  34.7883, 2,  34.7889, 2,    145.1, 1,    149.8, 2,    13.94, 2,    22.55, 2,     0.02, 2,     1.66, 2,    2.823, 2,    1.391, 2,    0.113, 4,   2179.8, 2,   2297.1, 2,    7.6645, 2,     25.00, -999.000, 9, -999.000,   -999.0, 9,   -999.0,  -999.00, 9,   -999.0,   9.7490, 26.8309,   9.7705, 2, 202, 2, 148.98, 2, 0.15, 0.1, 0.01, 0.01, -999, 9,  -999.00, 9, -999, -999, 9, -999
49NZ20031106, A10, 97, 1, 31, 12019, 2, 20031202, 1016, -28.8762, 14.0408, 1536,    250.4, 2,   9.5059, 2,  34.7750, 2,  34.7750, 2,    114.0, 1,    118.9, 2,    18.21, 2,    25.78, 2,     0.02, 2,     1.90, 2,    2.440, 6,    1.210, 6,    0.097, 4,   2204.4, 2,   2295.6, 2,    7.6021, 2,     25.00, -999.000, 9, -999.000,   -999.0, 9,   -999.0,  -999.00, 9,   -999.0,   9.4778, 26.8655,   9.5086, 2, 251.2, 2, 121.47, 2, 0.16, 0.1, 0.01, 0.01, -999, 9,  -999.00, 9, -999, -999, 9, -999
49NZ20031106, A10, 97, 1, 30, 12018, 2, 20031202, 1016, -28.8762, 14.0408, 1536,    300.9, 2,   9.3019, 2,  34.7598, 2,  34.7581, 2,    101.8, 1,    104.4, 2,    20.74, 2,    27.61, 2,     0.01, 2,     2.04, 2,    2.228, 2,    1.097, 2,    0.087, 4,   2216.3, 2,   2296.1, 2,    7.5684, 2,     25.00, -999.000, 9, -999.000,   -999.0, 9,   -999.0,  -999.00, 9,   -999.0,   9.2684, 26.8884,   9.3023, 2, 300.8, 2, 105.47, 2, 0.16, 0.11, 0.01, 0.02, -999, 9,  -999.00, 9, -999, -999, 9, -999
49NZ20031106, A10, 97, 1, 29, 12017, 2, 20031202, 1016, -28.8762, 14.0408, 1536,    399.5, 2,   8.4785, 2,  34.6719, 2,  34.6734, 2,    121.3, 1,    120.2, 2,    18.55, 2,    29.02, 2,     0.01, 2,     2.05, 2,    2.142, 2,    1.032, 2,    0.087, 4,   2210.6, 2,   2294.4, 2,    7.5806, 2,     25.00, -999.000, 9, -999.000,   -999.0, 9,   -999.0,  -999.00, 9,   -999.0,   8.4363, 26.951,   8.4798, 2, 398.2, 2, 113.47, 2, 0.16, 0.11, 0.01, 0.02, -999, 9,  -999.00, 9, -999, -999, 9, -999
49NZ20031106, A10, 97, 1, 28, 12016, 2, 20031202, 1016, -28.8762, 14.0408, 1536,    498.6, 2,   6.4861, 2,  34.4996, 2,  34.4911, 3,    148.0, 1,    156.0, 2,    21.60, 2,    30.87, 2,     0.01, 2,     2.13, 2,    1.964, 2,    0.919, 2,    0.088, 4,   2203.4, 2,   2290.7, 2,    7.5977, 2,     25.00, -999.000, 9, -999.000,   -999.0, 9,   -999.0,  -999.00, 9,   -999.0,   6.4407, 27.101,   6.4844, 2, 501.3, 2, 145.52, 2, 0.17, 0.12, 0.01, 0.02, -999, 9,  -999.00, 9, -999, -999, 9, -999
49NZ20031106, A10, 97, 1, 27, 12012, 2, 20031202, 1016, -28.8762, 14.0408, 1536,    600.3, 2,   4.6397, 2,  34.3615, 2,  34.3609, 2,    189.5, 1,    197.0, 2,    27.85, 2,    30.95, 2,     0.01, 2,     2.14, 2,    2.019, 2,    0.922, 2,    0.094, 4,   2194.6, 2,   2295.5, 2,    7.6280, 2,     25.00, -999.000, 9, -999.000,   -999.0, 9,   -999.0,  -999.00, 9,   -999.0,   4.5932, 27.2154,   4.6407, 2, 600.5, 2, 195.84, 2, 0.18, 0.12, 0.01, 0.02, -999, 9,  -999.00, 9, -999, -999, 9, -999
49NZ20031106, A10, 97, 1, 26, 12014, 2, 20031202, 1016, -28.8762, 14.0408, 1536,    699.7, 2,   4.4990, 2,  34.4224, 2,  34.4228, 2,    155.1, 1,    160.2, 2,    33.27, 2,    34.17, 2,     0.01, 2,     2.34, 2,    0.853, 2,    0.389, 2,    0.034, 4,   2219.8, 6,   2299.2, 2,    7.5753, 2,     25.00, -999.000, 9, -999.000,   -999.0, 9,   -999.0,  -999.00, 9,   -999.0,   4.4450, 27.2803,   4.4993, 2, 701, 2, 159.69, 2, 0.19, 0.13, 0.01, 0.02, -999, 9,  -999.00, 9, -999, -999, 9, -999
49NZ20031106, A10, 97, 1, 25, 12013, 2, 20031202, 1016, -28.8762, 14.0408, 1536,    800.3, 2,   4.2245, 2,  34.4226, 2,  34.4225, 2,    160.4, 1,    165.5, 2,    35.96, 2,    34.12, 2,     0.01, 2,     2.35, 2,    0.764, 2,    0.345, 2,    0.026, 4,   2221.6, 2,   2301.9, 6,    7.5788, 2,     25.00, -999.000, 9, -999.000,   -999.0, 9,   -999.0,  -999.00, 9,   -999.0,   4.1639, 27.3104,   4.2245, 2, 801.7, 2, 165, 2, 0.2, 0.13, 0.01, 0.02, -999, 9,  -999.00, 9, -999, -999, 9, -999
49NZ20031106, A10, 97, 1, 24, 12048, 2, 20031202, 1016, -28.8762, 14.0408, 1536,    900.0, 2,   3.9253, 2,  34.4451, 2,  34.4451, 2,    162.6, 1,    167.7, 2,    39.92, 2,    33.98, 2,     0.02, 2,     2.35, 2,    0.567, 2,    0.254, 2,    0.023, 4,   2225.1, 2,   2306.8, 2,    7.5806, 6,     25.00, -999.000, 9, -999.000,   -999.0, 9,   -999.0,  -999.00, 9,   -999.0,   3.8585, 27.3597,   3.9254, 2, 903.1, 2, 167.13, 2, 0.21, 0.13, 0.01, 0.02, -999, 9,  -999.00, 9, -999, -999, 9, -999
49NZ20031106, A10, 97, 1, 2, 12026, 9, 20031202, 1016, -28.8762, 14.0408, 1536,   1001.3, 2,   3.5959, 2,  34.4966, 2, -999.0000, 9,    166.4, 1,   -999.0, 9,  -999.00, 9,  -999.00, 9,  -999.00, 9,  -999.00, 9, -999.000, 9, -999.000, 9, -999.000, 9,   -999.0, 9,   -999.0, 9, -999.0000, 9,   -999.00, -999.000, 9, -999.000,   -999.0, 9,   -999.0,  -999.00, 9,   -999.0,   3.5233, 27.4338,   3.5968, 2, 1003.3, 2, 171.86, 2, -999, -999, -999, -999, -999, 9,  -999.00, 9, -999, -999, 9, -999
49NZ20031106, A10, 97, 1, 23, 12047, 2, 20031202, 1016, -28.8762, 14.0408, 1536,   1001.6, 2,   3.5976, 2,  34.4958, 2,  34.4966, 2,    166.2, 1,    171.6, 2,    44.70, 2,    33.42, 2,     0.01, 2,     2.32, 2,    0.352, 6,    0.150, 6,    0.012, 4,   2226.8, 2,   2312.5, 2,    7.5863, 2,     25.00, -999.000, 9, -999.000,   -999.0, 9,   -999.0,  -999.00, 9,   -999.0,   3.5249, 27.4335,   3.5975, 2, 1003.4, 2, 171.87, 2, 0.22, 0.13, 0.01, 0.02, -999, 9,  -999.00, 9, -999, -999, 9, -999
49NZ20031106, A10, 97, 1, 4, 12028, 9, 20031202, 1016, -28.8762, 14.0408, 1536,   1001.7, 2,   3.5954, 2,  34.4969, 2, -999.0000, 9,    166.4, 1,   -999.0, 9,  -999.00, 9,  -999.00, 9,  -999.00, 9,  -999.00, 9, -999.000, 9, -999.000, 9, -999.000, 9,   -999.0, 9,   -999.0, 9, -999.0000, 9,   -999.00, -999.000, 9, -999.000,   -999.0, 9,   -999.0,  -999.00, 9,   -999.0,   3.5227, 27.4344,   3.5954, 2, 1003.7, 2, 171.88, 2, -999, -999, -999, -999, -999, 9,  -999.00, 9, -999, -999, 9, -999
49NZ20031106, A10, 97, 1, 5, 12029, 9, 20031202, 1016, -28.8762, 14.0408, 1536,   1002.0, 2,   3.5949, 2,  34.4970, 2, -999.0000, 9,    166.3, 1,   -999.0, 9,  -999.00, 9,  -999.00, 9,  -999.00, 9,  -999.00, 9, -999.000, 9, -999.000, 9, -999.000, 9,   -999.0, 9,   -999.0, 9, -999.0000, 9,   -999.00, -999.000, 9, -999.000,   -999.0, 9,   -999.0,  -999.00, 9,   -999.0,   3.5222, 27.4347,   3.5950, 2, 1003.9, 2, 171.87, 2, -999, -999, -999, -999, -999, 9,  -999.00, 9, -999, -999, 9, -999
49NZ20031106, A10, 97, 1, 6, 12030, 9, 20031202, 1016, -28.8762, 14.0408, 1536,   1002.2, 2,   3.5946, 2,  34.4971, 2, -999.0000, 9,    166.4, 1,   -999.0, 9,  -999.00, 9,  -999.00, 9,  -999.00, 9,  -999.00, 9, -999.000, 9, -999.000, 9, -999.000, 9,   -999.0, 9,   -999.0, 9, -999.0000, 9,   -999.00, -999.000, 9, -999.000,   -999.0, 9,   -999.0,  -999.00, 9,   -999.0,   3.5219, 27.4347,   3.5947, 2, 1004.1, 2, 171.88, 2, -999, -999, -999, -999, -999, 9,  -999.00, 9, -999, -999, 9, -999
49NZ20031106, A10, 97, 1, 3, 12027, 9, 20031202, 1016, -28.8762, 14.0408, 1536,   1002.3, 2,   3.5944, 2,  34.4971, 2, -999.0000, 9,    166.4, 1,   -999.0, 9,  -999.00, 9,  -999.00, 9,  -999.00, 9,  -999.00, 9, -999.000, 9, -999.000, 9, -999.000, 9,   -999.0, 9,   -999.0, 9, -999.0000, 9,   -999.00, -999.000, 9, -999.000,   -999.0, 9,   -999.0,  -999.00, 9,   -999.0,   3.5217, 27.4347,   3.5950, 2, 1004.2, 2, 171.86, 2, -999, -999, -999, -999, -999, 9,  -999.00, 9, -999, -999, 9, -999
49NZ20031106, A10, 97, 1, 9, 12033, 9, 20031202, 1016, -28.8762, 14.0408, 1536,   1002.6, 2,   3.5918, 2,  34.4981, 2, -999.0000, 9,    166.4, 1,   -999.0, 9,  -999.00, 9,  -999.00, 9,  -999.00, 9,  -999.00, 9, -999.000, 9, -999.000, 9, -999.000, 9,   -999.0, 9,   -999.0, 9, -999.0000, 9,   -999.00, -999.000, 9, -999.000,   -999.0, 9,   -999.0,  -999.00, 9,   -999.0,   3.5191, 27.4357,   3.5919, 2, 1004.7, 2, 171.85, 2, -999, -999, -999, -999, -999, 9,  -999.00, 9, -999, -999, 9, -999
49NZ20031106, A10, 97, 1, 7, 12031, 9, 20031202, 1016, -28.8762, 14.0408, 1536,   1002.9, 2,   3.5919, 2,  34.4979, 2, -999.0000, 9,    166.4, 1,   -999.0, 9,  -999.00, 9,  -999.00, 9,  -999.00, 9,  -999.00, 9, -999.000, 9, -999.000, 9, -999.000, 9,   -999.0, 9,   -999.0, 9, -999.0000, 9,   -999.00, -999.000, 9, -999.000,   -999.0, 9,   -999.0,  -999.00, 9,   -999.0,   3.5192, 27.4358,   3.5924, 2, 1005, 2, 171.82, 2, -999, -999, -999, -999, -999, 9,  -999.00, 9, -999, -999, 9, -999
49NZ20031106, A10, 97, 1, 8, 12032, 9, 20031202, 1016, -28.8762, 14.0408, 1536,   1003.0, 2,   3.5913, 2,  34.4983, 2, -999.0000, 9,    166.4, 1,   -999.0, 9,  -999.00, 9,  -999.00, 9,  -999.00, 9,  -999.00, 9, -999.000, 9, -999.000, 9, -999.000, 9,   -999.0, 9,   -999.0, 9, -999.0000, 9,   -999.00, -999.000, 9, -999.000,   -999.0, 9,   -999.0,  -999.00, 9,   -999.0,   3.5186, 27.4359,   3.5913, 2, 1005.1, 2, 171.83, 2, -999, -999, -999, -999, -999, 9,  -999.00, 9, -999, -999, 9, -999
49NZ20031106, A10, 97, 1, 12, 12036, 9, 20031202, 1016, -28.8762, 14.0408, 1536,   1003.1, 2,   3.5915, 2,  34.4981, 2, -999.0000, 9,    166.4, 1,   -999.0, 9,  -999.00, 9,  -999.00, 9,  -999.00, 9,  -999.00, 9, -999.000, 9, -999.000, 9, -999.000, 9,   -999.0, 9,   -999.0, 9, -999.0000, 9,   -999.00, -999.000, 9, -999.000,   -999.0, 9,   -999.0,  -999.00, 9,   -999.0,   3.5188, 27.4358,   3.5916, 2, 1005.1, 2, 171.81, 2, -999, -999, -999, -999, -999, 9,  -999.00, 9, -999, -999, 9, -999
49NZ20031106, A10, 97, 1, 11, 12035, 9, 20031202, 1016, -28.8762, 14.0408, 1536,   1003.1, 2,   3.5913, 2,  34.4982, 2, -999.0000, 9,    166.3, 1,   -999.0, 9,  -999.00, 9,  -999.00, 9,  -999.00, 9,  -999.00, 9, -999.000, 9, -999.000, 9, -999.000, 9,   -999.0, 9,   -999.0, 9, -999.0000, 9,   -999.00, -999.000, 9, -999.000,   -999.0, 9,   -999.0,  -999.00, 9,   -999.0,   3.5186, 27.436,   3.5913, 2, 1005.2, 2, 171.81, 2, -999, -999, -999, -999, -999, 9,  -999.00, 9, -999, -999, 9, -999
49NZ20031106, A10, 97, 1, 10, 12034, 9, 20031202, 1016, -28.8762, 14.0408, 1536,   1003.2, 2,   3.5910, 2,  34.4982, 2, -999.0000, 9,    166.4, 1,   -999.0, 9,  -999.00, 9,  -999.00, 9,  -999.00, 9,  -999.00, 9, -999.000, 9, -999.000, 9, -999.000, 9,   -999.0, 9,   -999.0, 9, -999.0000, 9,   -999.00, -999.000, 9, -999.000,   -999.0, 9,   -999.0,  -999.00, 9,   -999.0,   3.5183, 27.436,   3.5912, 2, 1005.3, 2, 171.8, 2, -999, -999, -999, -999, -999, 9,  -999.00, 9, -999, -999, 9, -999
49NZ20031106, A10, 97, 1, 14, 12038, 9, 20031202, 1016, -28.8762, 14.0408, 1536,   1003.3, 2,   3.5901, 2,  34.4984, 2, -999.0000, 9,    166.5, 1,   -999.0, 9,  -999.00, 9,  -999.00, 9,  -999.00, 9,  -999.00, 9, -999.000, 9, -999.000, 9, -999.000, 9,   -999.0, 9,   -999.0, 9, -999.0000, 9,   -999.00, -999.000, 9, -999.000,   -999.0, 9,   -999.0,  -999.00, 9,   -999.0,   3.5174, 27.4364,   3.5896, 2, 1005.4, 2, 171.8, 2, -999, -999, -999, -999, -999, 9,  -999.00, 9, -999, -999, 9, -999
49NZ20031106, A10, 97, 1, 13, 12037, 9, 20031202, 1016, -28.8762, 14.0408, 1536,   1003.4, 2,   3.5907, 2,  34.4983, 2, -999.0000, 9,    166.3, 1,   -999.0, 9,  -999.00, 9,  -999.00, 9,  -999.00, 9,  -999.00, 9, -999.000, 9, -999.000, 9, -999.000, 9,   -999.0, 9,   -999.0, 9, -999.0000, 9,   -999.00, -999.000, 9, -999.000,   -999.0, 9,   -999.0,  -999.00, 9,   -999.0,   3.5179, 27.436,   3.5912, 2, 1005.5, 2, 171.79, 2, -999, -999, -999, -999, -999, 9,  -999.00, 9, -999, -999, 9, -999
49NZ20031106, A10, 97, 1, 18, 12042, 9, 20031202, 1016, -28.8762, 14.0408, 1536,   1003.7, 2,   3.5881, 2,  34.4990, 2, -999.0000, 9,    166.4, 1,   -999.0, 9,  -999.00, 9,  -999.00, 9,  -999.00, 9,  -999.00, 9, -999.000, 9, -999.000, 9, -999.000, 9,   -999.0, 9,   -999.0, 9, -999.0000, 9,   -999.00, -999.000, 9, -999.000,   -999.0, 9,   -999.0,  -999.00, 9,   -999.0,   3.5153, 27.4369,   3.5881, 2, 1005.9, 2, 171.77, 2, -999, -999, -999, -999, -999, 9,  -999.00, 9, -999, -999, 9, -999
49NZ20031106, A10, 97, 1, 15, 12039, 9, 20031202, 1016, -28.8762, 14.0408, 1536,   1003.9, 2,   3.5880, 2,  34.4990, 2, -999.0000, 9,    166.5, 1,   -999.0, 9,  -999.00, 9,  -999.00, 9,  -999.00, 9,  -999.00, 9, -999.000, 9, -999.000, 9, -999.000, 9,   -999.0, 9,   -999.0, 9, -999.0000, 9,   -999.00, -999.000, 9, -999.000,   -999.0, 9,   -999.0,  -999.00, 9,   -999.0,   3.5152, 27.4369,   3.5883, 2, 1006.1, 2, 171.76, 2, -999, -999, -999, -999, -999, 9,  -999.00, 9, -999, -999, 9, -999
49NZ20031106, A10, 97, 1, 19, 12043, 9, 20031202, 1016, -28.8762, 14.0408, 1536,   1004.0, 2,   3.5878, 2,  34.4990, 2, -999.0000, 9,    166.4, 1,   -999.0, 9,  -999.00, 9,  -999.00, 9,  -999.00, 9,  -999.00, 9, -999.000, 9, -999.000, 9, -999.000, 9,   -999.0, 9,   -999.0, 9, -999.0000, 9,   -999.00, -999.000, 9, -999.000,   -999.0, 9,   -999.0,  -999.00, 9,   -999.0,   3.5150, 27.4369,   3.5881, 2, 1006.2, 2, 171.75, 2, -999, -999, -999, -999, -999, 9,  -999.00, 9, -999, -999, 9, -999
49NZ20031106, A10, 97, 1, 17, 12041, 9, 20031202, 1016, -28.8762, 14.0408, 1536,   1004.1, 2,   3.5876, 2,  34.4991, 2, -999.0000, 9,    166.5, 1,   -999.0, 9,  -999.00, 9,  -999.00, 9,  -999.00, 9,  -999.00, 9, -999.000, 9, -999.000, 9, -999.000, 9,   -999.0, 9,   -999.0, 9, -999.0000, 9,   -999.00, -999.000, 9, -999.000,   -999.0, 9,   -999.0,  -999.00, 9,   -999.0,   3.5148, 27.437,   3.5878, 2, 1006.3, 2, 171.75, 2, -999, -999, -999, -999, -999, 9,  -999.00, 9, -999, -999, 9, -999
49NZ20031106, A10, 97, 1, 22, 12046, 2, 20031202, 1016, -28.8762, 14.0408, 1536,   1198.4, 2,   3.2800, 2,  34.6516, 2,  34.6519, 2,    176.3, 1,    181.8, 2,    47.73, 2,    30.86, 2,     0.00, 2,     2.14, 2,    0.093, 2,    0.038, 2,    0.000, 4,   2223.9, 2,   2321.8, 2,    7.6163, 2,     25.00, -999.000, 9, -999.000,   -999.0, 9,   -999.0,  -999.00, 9,   -999.0,   3.1939, 27.5894,   3.2801, 2, 1200.3, 2, 181.1, 2, 0.22, 0.12, 0.01, 0.02, -999, 9,  -999.00, 9, -999, -999, 9, -999
49NZ20031106, A10, 97, 1, 16, 12040, 2, 20031202, 1016, -28.8762, 14.0408, 1536,   1402.2, 2,   3.2437, 2,  34.7334, 2,  34.7336, 2,    185.8, 1,    191.5, 2,    44.89, 2,    28.81, 2,     0.00, 2,     2.00, 2,    0.039, 2,    0.013, 2,    0.000, 4,   2217.9, 2,   2322.3, 2,    7.6392, 2,     25.00, -999.000, 9, -999.000,   -999.0, 9,   -999.0,  -999.00, 9,   -999.0,   3.1410, 27.6598,   3.2439, 2, 1402.1, 2, 191.49, 2, 0.22, 0.11, 0.01, 0.02, -999, 9,  -999.00, 9, -999, -999, 9, -999
49NZ20031106, A10, 97, 1, 21, 12045, 2, 20031202, 1016, -28.8762, 14.0408, 1536,   1402.6, 2,   3.2435, 2,  34.7336, 2,  34.7336, 2,    185.9, 1,    191.6, 2,    44.94, 2,    28.84, 2,     0.00, 2,     2.00, 2,    0.041, 2,    0.015, 2,    0.000, 4,   2216.8, 2,   2321.3, 2,    7.6368, 2,     25.00, -999.000, 9, -999.000,   -999.0, 9,   -999.0,  -999.00, 9,   -999.0,   3.1407, 27.6603,   3.2435, 2, 1402.4, 2, 191.53, 2, 0.22, 0.11, 0.01, 0.02, -999, 9,  -999.00, 9, -999, -999, 9, -999
49NZ20031106, A10, 97, 1, 20, 12044, 2, 20031202, 1016, -28.8762, 14.0408, 1536,   1531.7, 2,   3.2245, 2,  34.7694, 2,  34.7688, 2,    191.5, 1,    197.2, 2,    43.43, 2,    27.76, 2,     0.01, 2,     1.93, 2,    0.021, 2,    0.006, 2,    0.000, 4,   2212.6, 2,   2325.1, 2,    7.6502, 2,     25.00, -999.000, 9, -999.000,   -999.0, 9,   -999.0,  -999.00, 9,   -999.0,   3.1109, 27.6919,   3.2242, 2, 1532, 2, 197.18, 2, 0.21, 0.11, 0.01, 0.01, -999, 9,  -999.00, 9, -999, -999, 9, -999