BOTTLE,20220818CCHSIOAMB
EXPOCODE,SECT_ID,STNNBR,CASTNO,SAMPNO,BTLNBR,BTLNBR_FLAG_W,DATE,TIME,LATITUDE,LONGITUDE,DEPTH,CTDPRS,CTDPRS_FLAG_W,CTDTMP,CTDTMP_FLAG_W,CTDSAL,CTDSAL_FLAG_W,SALNTY,SALNTY_FLAG_W,CTDOXY,CTDOXY_FLAG_W,OXYGEN,OXYGEN_FLAG_W,SILCAT,SILCAT_FLAG_W,NITRAT,NITRAT_FLAG_W,NITRIT,NITRIT_FLAG_W,PHSPHT,PHSPHT_FLAG_W,CFC-11,CFC-11_FLAG_W,CFC-12,CFC-12_FLAG_W,CFC113,CFC113_FLAG_W,TCARBN,TCARBN_FLAG_W,ALKALI,ALKALI_FLAG_W,PH_TOT,PH_TOT_FLAG_W,PH_TMP,TRITUM,TRITUM_FLAG_W,TRITER,DELC14,DELC14_FLAG_W,C14ERR,DELC13,DELC13_FLAG_W,C13ERR,THETA,SIG0,SBE35,SBE35_FLAG_W,DWNPRS,DWNPRS_FLAG_W,DWNOXY,DWNOXY_FLAG_W,SILUNC,NRAUNC,NRIUNC,PHPUNC,TOC,TOC_FLAG_W,CS-137,CS-137_FLAG_W,CS137ER,PLUTO,PLUTO_FLAG_W,PLUTOER
,,,,,,,,,,,METERS,DBAR,,ITS-90,,PSS-78,,PSS-78,,UMOL/KG,,UMOL/KG,,UMOL/KG,,UMOL/KG,,UMOL/KG,,UMOL/KG,,PMOL/KG,,PMOL/KG,,PMOL/KG,,UMOL/KG,,UMOL/KG,,,,DEG C,TU,,TU,/MILLE,,/MILLE,/MILLE,,/MILLE,DEG C,KG/M^3,ITS-90,,DBAR,,UMOL/KG,,UMOL/KG,UMOL/KG,UMOL/KG,UMOL/KG,UMOL/KG,,BQ/M^3,,BQ/M^3,MBQ/M^3,,MBQ/M^3
49NZ20031106, A10, X17, 1, 4, 12016, 2, 20031111, 1029, -30.0997, -39.0252, 4232,      4.7, 2,  20.3762, 2,  36.0901, 2, -999.0000, 9,    216.0, 1,   -999.0, 9,  -999.00, 9,  -999.00, 9,  -999.00, 9,  -999.00, 9, -999.000, 9, -999.000, 9, -999.000, 9,   -999.0, 9,   -999.0, 9, -999.0000, 9,   -999.00, -999.000, 9, -999.000,   -999.0, 9,   -999.0,  -999.00, 9,   -999.0,  20.3753, 25.4947,  20.3760, 2, 4.7, 2, 227.83, 2, -999, -999, -999, -999, -999, 9,  -999.00, 9, -999, -999, 9, -999
49NZ20031106, A10, X17, 1, 3, 12012, 2, 20031111, 1029, -30.0997, -39.0252, 4232,      4.7, 2,  20.3793, 2,  36.0897, 2, -999.0000, 9,    216.0, 1,   -999.0, 9,  -999.00, 9,  -999.00, 9,  -999.00, 9,  -999.00, 9, -999.000, 9, -999.000, 9, -999.000, 9,   -999.0, 9,   -999.0, 9, -999.0000, 9,   -999.00, -999.000, 9, -999.000,   -999.0, 9,   -999.0,  -999.00, 9,   -999.0,  20.3784, 25.4932,  20.3743, 2, 4.7, 2, 227.83, 2, -999, -999, -999, -999, -999, 9,  -999.00, 9, -999, -999, 9, -999
49NZ20031106, A10, X17, 1, 36, 12048, 2, 20031111, 1029, -30.0997, -39.0252, 4232,     10.3, 2,  20.2630, 2,  36.0894, 2,  36.0894, 2,    216.3, 1,    227.8, 2,     0.95, 2,     0.04, 2,     0.00, 2,     0.06, 2,    2.339, 2,    1.339, 2,    0.276, 4,   2062.6, 2,   2370.7, 2,    8.0434, 2,     25.00, -999.000, 9, -999.000,     92.2, 2,      3.8,     1.50, 2,      0.0,  20.2611, 25.5251,  20.2626, 2, 11.5, 2, 227.71, 2, 0.12, 0.03, 0.01, 0.03, -999, 9,  -999.00, 9, -999, -999, 9, -999
49NZ20031106, A10, X17, 1, 35, 12047, 2, 20031111, 1029, -30.0997, -39.0252, 4232,     49.0, 2,  19.6650, 2,  36.0591, 2,  36.0493, 3,    218.5, 1,    230.4, 2,     0.85, 2,     0.01, 2,     0.00, 2,     0.06, 2,    2.370, 2,    1.355, 2,    0.283, 4,   2060.5, 6,   2370.9, 2,    8.0396, 2,     25.00, -999.000, 9, -999.000,     92.6, 2,      3.8,     1.48, 2,      0.0,  19.6560, 25.6646,  19.6583, 2, 45, 2, 229, 2, 0.12, 0.03, 0.01, 0.03, -999, 9,  -999.00, 9, -999, -999, 9, -999
49NZ20031106, A10, X17, 1, 34, 12046, 2, 20031111, 1029, -30.0997, -39.0252, 4232,     98.8, 2,  17.7047, 2,  35.9306, 2,  35.9238, 3,    219.1, 1,    229.5, 2,     0.96, 2,     0.17, 2,     0.05, 2,     0.13, 2,    2.561, 2,    1.459, 2,    0.212, 4,   2075.0, 2,   2364.1, 6,    8.0090, 2,     25.00, -999.000, 9, -999.000,     97.6, 2,      4.1,     1.38, 2,      0.0,  17.6879, 26.0649,  17.7056, 2, 97, 2, 233.16, 2, 0.12, 0.03, 0.01, 0.02, -999, 9,  -999.00, 9, -999, -999, 9, -999
49NZ20031106, A10, X17, 1, 2, 12014, 2, 20031111, 1029, -30.0997, -39.0252, 4232,     99.1, 2,  17.6992, 2,  35.9240, 2, -999.0000, 9,    218.5, 1,   -999.0, 9,  -999.00, 9,  -999.00, 9,  -999.00, 9,  -999.00, 9, -999.000, 9, -999.000, 9, -999.000, 9,   -999.0, 9,   -999.0, 9, -999.0000, 9,   -999.00, -999.000, 9, -999.000,   -999.0, 9,   -999.0,  -999.00, 9,   -999.0,  17.6823, 26.0606,  17.6988, 2, 96.6, 2, 233.13, 2, -999, -999, -999, -999, -999, 9,  -999.00, 9, -999, -999, 9, -999
49NZ20031106, A10, X17, 1, 33, 12045, 2, 20031111, 1029, -30.0997, -39.0252, 4232,    150.1, 2,  17.1828, 2,  35.9042, 2,  35.9018, 2,    211.0, 1,    220.9, 2,     1.25, 2,     1.79, 2,     0.03, 2,     0.24, 2,    2.599, 2,    1.491, 2,    0.153, 4,   2083.6, 2,   2363.4, 2,    7.9858, 2,     25.00, -999.000, 9, -999.000,     81.8, 2,      4.0,     1.27, 2,      0.0,  17.1577, 26.1718,  17.1818, 2, 145.7, 2, 221.05, 2, 0.12, 0.04, 0.01, 0.02, -999, 9,  -999.00, 9, -999, -999, 9, -999
49NZ20031106, A10, X17, 1, 32, 12044, 2, 20031111, 1029, -30.0997, -39.0252, 4232,    200.5, 2,  15.9987, 2,  35.6976, 2,  35.6985, 2,    206.3, 1,    216.2, 2,     1.59, 2,     3.72, 2,     0.02, 2,     0.38, 2,    2.752, 2,    1.543, 2,    0.097, 4,   2094.7, 2,   2350.2, 2,    7.9532, 2,     25.00, -999.000, 9, -999.000,     80.0, 2,      3.9,     1.24, 2,      0.0,  15.9668, 26.2927,  16.0034, 2, 198.2, 2, 215.03, 2, 0.12, 0.04, 0.01, 0.01, -999, 9,  -999.00, 9, -999, -999, 9, -999
49NZ20031106, A10, X17, 1, 31, 12043, 2, 20031111, 1029, -30.0997, -39.0252, 4232,    250.8, 2,  14.8910, 2,  35.5018, 2,  35.4926, 3,    202.9, 1,    212.2, 2,     2.02, 2,     5.76, 2,     0.01, 2,     0.51, 2,    2.888, 6,    1.635, 6,    0.076, 4,   2101.0, 2,   2331.2, 2,    7.9187, 2,     25.00, -999.000, 9, -999.000,     83.5, 2,      3.9,     1.17, 2,      0.0,  14.8530, 26.3908,  14.8889, 2, 249.9, 2, 212.53, 2, 0.12, 0.05, 0.01, 0.01, -999, 9,  -999.00, 9, -999, -999, 9, -999
49NZ20031106, A10, X17, 1, 30, 12042, 2, 20031111, 1029, -30.0997, -39.0252, 4232,    301.7, 2,  14.1293, 2,  35.4004, 2,  35.4030, 3,    204.1, 1,    213.5, 2,     2.41, 2,     7.13, 2,     0.01, 2,     0.60, 2,    2.914, 2,    1.632, 2,    0.077, 4,   2107.5, 2,   2332.1, 2,    7.9028, 2,     25.00, -999.000, 9, -999.000,     86.6, 2,      3.9,     1.19, 2,      0.0,  14.0851, 26.4784,  14.1341, 2, 303, 2, 211.88, 2, 0.12, 0.05, 0.01, 0.01, -999, 9,  -999.00, 9, -999, -999, 9, -999
49NZ20031106, A10, X17, 1, 29, 12041, 2, 20031111, 1029, -30.0997, -39.0252, 4232,    401.6, 2,  12.5272, 2,  35.1549, 2,  35.1576, 2,    203.6, 1,    212.2, 2,     3.31, 2,    10.69, 2,     0.01, 2,     0.83, 2,    3.072, 2,    1.681, 2,    0.063, 4,   2116.3, 2,   2320.4, 2,    7.8601, 2,     25.00, -999.000, 9, -999.000,     74.7, 2,      3.8,     1.21, 2,      0.0,  12.4728, 26.6172,  12.5229, 2, 400.9, 2, 212.04, 2, 0.13, 0.06, 0.01, 0.01, -999, 9,  -999.00, 9, -999, -999, 9, -999
49NZ20031106, A10, X17, 1, 28, 12040, 2, 20031111, 1029, -30.0997, -39.0252, 4232,    501.5, 2,  10.2831, 2,  34.8434, 2,  34.8462, 2,    200.2, 1,    207.9, 2,     6.13, 2,    16.41, 2,     0.01, 2,     1.18, 2,    3.032, 2,    1.575, 2,    0.081, 4,   2135.3, 2,   2301.3, 2,    7.7941, 2,     25.00, -999.000, 9, -999.000,     61.8, 2,      3.8,     1.22, 3,      0.0,  10.2231, 26.791,  10.2744, 2, 500.2, 2, 207.76, 2, 0.13, 0.08, 0.01, 0.01, -999, 9,  -999.00, 9, -999, -999, 9, -999
49NZ20031106, A10, X17, 1, 27, 12039, 2, 20031111, 1029, -30.0997, -39.0252, 4232,    600.6, 2,   8.3110, 2,  34.6144, 2,  34.6143, 2,    201.9, 1,    209.7, 2,     9.54, 2,    21.21, 2,     0.00, 2,     1.50, 2,    2.952, 2,    1.487, 2,    0.092, 4,   2146.8, 2,   2293.5, 2,    7.7425, 2,     25.00, -999.000, 9, -999.000,     27.3, 2,      3.8,     1.13, 2,      0.0,   8.2476, 26.9322,   8.3147, 2, 598.6, 2, 210.28, 2, 0.14, 0.09, 0.01, 0.01, -999, 9,  -999.00, 9, -999, -999, 9, -999
49NZ20031106, A10, X17, 1, 26, 12038, 2, 20031111, 1029, -30.0997, -39.0252, 4232,    701.8, 2,   6.3886, 2,  34.4116, 2,  34.4118, 2,    213.7, 1,    222.0, 2,    13.06, 2,    24.96, 2,     0.00, 2,     1.73, 2,    3.028, 2,    1.505, 2,    0.138, 4,   2158.9, 6,   2287.6, 2,    7.7066, 2,     25.00, -999.000, 9, -999.000,      6.9, 2,      3.6,     1.11, 2,      0.0,   6.3243, 27.0453,   6.3889, 2, 699.7, 2, 222.97, 2, 0.15, 0.1, 0.01, 0.01, -999, 9,  -999.00, 9, -999, -999, 9, -999
49NZ20031106, A10, X17, 1, 25, 12037, 2, 20031111, 1029, -30.0997, -39.0252, 4232,    800.5, 2,   5.2296, 2,  34.3313, 2,  34.3309, 2,    215.7, 1,    224.4, 2,    17.87, 2,    27.55, 2,     0.00, 2,     1.90, 2,    2.693, 2,    1.278, 2,    0.106, 4,   2171.4, 2,   2289.4, 6,    7.6815, 2,     25.00, -999.000, 9, -999.000,    -21.1, 2,      3.5,     1.10, 2,      0.0,   5.1629, 27.1252,   5.2331, 2, 799.3, 2, 225.23, 2, 0.16, 0.11, 0.01, 0.01, -999, 9,  -999.00, 9, -999, -999, 9, -999
49NZ20031106, A10, X17, 1, 24, 12036, 2, 20031111, 1029, -30.0997, -39.0252, 4232,    901.8, 2,   4.2933, 2,  34.2871, 2,  34.2864, 2,    219.1, 1,    227.9, 2,    23.59, 2,    29.26, 2,     0.00, 2,     2.01, 2,    2.445, 2,    1.144, 2,    0.091, 4,   2180.2, 2,   2294.6, 2,    7.6635, 6,     25.00, -999.000, 9, -999.000,    -40.2, 2,      3.6,     1.03, 2,      0.0,   4.2240, 27.1953,   4.2931, 2, 901.8, 2, 226.76, 2, 0.17, 0.11, 0.01, 0.02, -999, 9,  -999.00, 9, -999, -999, 9, -999
49NZ20031106, A10, X17, 1, 23, 12035, 2, 20031111, 1029, -30.0997, -39.0252, 4232,   1001.4, 2,   3.7708, 2,  34.2981, 2,  34.2981, 2,    212.2, 1,    221.1, 2,    30.16, 2,    30.63, 2,     0.00, 2,     2.11, 2,    1.964, 6,    0.922, 6,    0.076, 4,   2190.9, 2,   2297.4, 2,    7.6447, 2,     25.00, -999.000, 9, -999.000,    -59.7, 2,      3.5,     1.02, 2,      0.0,   3.6971, 27.2582,   3.7709, 2, 1000, 2, 217.93, 2, 0.19, 0.12, 0.01, 0.02, -999, 9,  -999.00, 9, -999, -999, 9, -999
49NZ20031106, A10, X17, 1, 5, 12017, 9, 20031111, 1029, -30.0997, -39.0252, 4232,   1001.6, 2,   3.7713, 2,  34.2982, 2, -999.0000, 9,    212.2, 1,   -999.0, 9,  -999.00, 9,  -999.00, 9,  -999.00, 9,  -999.00, 9, -999.000, 9, -999.000, 9, -999.000, 9,   -999.0, 9,   -999.0, 9, -999.0000, 9,   -999.00, -999.000, 9, -999.000,   -999.0, 9,   -999.0,  -999.00, 9,   -999.0,   3.6976, 27.2581,   3.7712, 2, 1000.2, 2, 217.92, 2, -999, -999, -999, -999, -999, 9,  -999.00, 9, -999, -999, 9, -999
49NZ20031106, A10, X17, 1, 6, 12018, 9, 20031111, 1029, -30.0997, -39.0252, 4232,   1001.8, 2,   3.7714, 2,  34.2982, 2, -999.0000, 9,    212.2, 1,   -999.0, 9,  -999.00, 9,  -999.00, 9,  -999.00, 9,  -999.00, 9, -999.000, 9, -999.000, 9, -999.000, 9,   -999.0, 9,   -999.0, 9, -999.0000, 9,   -999.00, -999.000, 9, -999.000,   -999.0, 9,   -999.0,  -999.00, 9,   -999.0,   3.6977, 27.2581,   3.7714, 2, 1000.3, 2, 217.88, 2, -999, -999, -999, -999, -999, 9,  -999.00, 9, -999, -999, 9, -999
49NZ20031106, A10, X17, 1, 22, 12034, 2, 20031111, 1029, -30.0997, -39.0252, 4232,   1200.4, 2,   3.1364, 2,  34.4059, 2,  34.4064, 2,    191.1, 1,    198.8, 2,    45.79, 2,    32.64, 2,     0.00, 2,     2.26, 2,    0.798, 2,    0.405, 2,    0.026, 4,   2191.4, 4,   2314.8, 2,    7.6078, 2,     25.00, -999.000, 9, -999.000,   -102.6, 2,      3.4,     0.77, 2,      0.0,   3.0520, 27.4061,   3.1366, 2, 1200.5, 2, 198.75, 2, 0.22, 0.12, 0.01, 0.02, -999, 9,  -999.00, 9, -999, -999, 9, -999
49NZ20031106, A10, X17, 1, 21, 12033, 2, 20031111, 1029, -30.0997, -39.0252, 4232,   1400.7, 2,   2.9374, 2,  34.5512, 2,  34.5514, 2,    180.8, 1,    187.7, 2,    54.35, 2,    32.20, 2,     0.00, 2,     2.23, 2,    0.198, 2,    0.127, 2,    0.011, 4,   2228.0, 2,   2327.3, 2,    7.5995, 2,     25.00, -999.000, 9, -999.000,   -121.7, 6,      3.5,     0.69, 6,      0.0,   2.8385, 27.5415,   2.9374, 2, 1401.5, 2, 187.93, 2, 0.24, 0.12, 0.01, 0.02, -999, 9,  -999.00, 9, -999, -999, 9, -999
49NZ20031106, A10, X17, 1, 20, 12032, 2, 20031111, 1029, -30.0997, -39.0252, 4232,   1600.2, 2,   2.9252, 2,  34.6708, 2,  34.6710, 2,    186.5, 1,    194.0, 2,    53.68, 2,    30.11, 2,     0.00, 2,     2.09, 2,    0.062, 3,    0.059, 3,    0.000, 4,   2227.5, 2,   2320.8, 2,    7.6216, 2,     25.00, -999.000, 9, -999.000,   -133.5, 2,      3.4,     0.67, 2,      0.0,   2.8096, 27.6397,   2.9251, 2, 1600.6, 2, 194.14, 2, 0.24, 0.12, 0.01, 0.02, -999, 9,  -999.00, 9, -999, -999, 9, -999
49NZ20031106, A10, X17, 1, 19, 12031, 2, 20031111, 1029, -30.0997, -39.0252, 4232,   1800.8, 2,   3.0148, 2,  34.7816, 2,  34.7818, 2,    202.9, 1,    211.1, 2,    46.00, 2,    26.81, 2,     0.00, 2,     1.84, 2,    0.020, 2,    0.019, 2,    0.000, 4,   2209.3, 2,   2323.6, 2,    7.6551, 2,     25.00, -999.000, 9, -999.000,   -112.8, 2,      3.4,     0.80, 2,      0.0,   2.8804, 27.7219,   3.0146, 2, 1800.6, 2, 210.38, 2, 0.22, 0.11, 0.01, 0.01, -999, 9,  -999.00, 9, -999, -999, 9, -999
49NZ20031106, A10, X17, 1, 18, 12030, 2, 20031111, 1029, -30.0997, -39.0252, 4232,   2002.8, 2,   2.9921, 2,  34.8368, 2,  34.8364, 2,    214.4, 1,    223.4, 2,    41.87, 2,    24.81, 2,     0.00, 2,     1.70, 2,    0.010, 2,    0.009, 2,    0.000, 4,   2197.6, 2,   2321.0, 2,    7.6723, 6,     25.00, -999.000, 9, -999.000,   -110.5, 2,      3.3,     0.86, 2,      0.0,   2.8397, 27.7697,   2.9919, 2, 2002.6, 2, 222.43, 2, 0.21, 0.1, 0.01, 0.01, -999, 9,  -999.00, 9, -999, -999, 9, -999
49NZ20031106, A10, X17, 1, 17, 12029, 2, 20031111, 1029, -30.0997, -39.0252, 4232,   2200.2, 2,   3.0079, 2,  34.8790, 2,  34.8791, 2,    225.2, 1,    235.0, 2,    36.48, 2,    23.01, 2,     0.00, 2,     1.57, 2,    0.024, 2,    0.019, 2,    0.000, 4,   2190.6, 2,   2321.1, 2,    7.6878, 2,     25.00, -999.000, 9, -999.000,   -103.9, 2,      3.5,     0.94, 2,      0.0,   2.8369, 27.8038,   3.0078, 2, 2199.8, 2, 234.64, 2, 0.2, 0.1, 0.01, 0.01, -999, 9,  -999.00, 9, -999, -999, 9, -999
49NZ20031106, A10, X17, 1, 16, 12028, 2, 20031111, 1029, -30.0997, -39.0252, 4232,   2399.5, 2,   2.9769, 2,  34.9015, 2,  34.9014, 2,    232.1, 1,    241.9, 2,    33.71, 2,    21.95, 2,    -0.01, 2,     1.49, 2,    0.010, 2,    0.014, 2,    0.000, 4,   2182.6, 6,   2316.5, 2,    7.6993, 2,     25.00, -999.000, 9, -999.000,    -98.3, 2,      3.6,     0.99, 2,      0.0,   2.7873, 27.8261,   2.9768, 2, 2399.5, 2, 240.97, 2, 0.19, 0.09, 0.01, 0.01, -999, 9,  -999.00, 9, -999, -999, 9, -999
49NZ20031106, A10, X17, 1, 15, 12027, 2, 20031111, 1029, -30.0997, -39.0252, 4232,   2603.6, 2,   2.9528, 2,  34.9178, 2,  34.9178, 2,    237.0, 1,    247.1, 2,    31.48, 2,    21.12, 2,     0.00, 2,     1.43, 2,    0.008, 2,    0.010, 2,    0.000, 4,   2179.6, 2,   2319.0, 6,    7.7125, 2,     25.00, -999.000, 9, -999.000,    -95.8, 2,      3.4,     1.03, 2,      0.0,   2.7436, 27.8431,   2.9527, 2, 2603.2, 2, 247.05, 2, 0.19, 0.09, 0.01, 0.01, -999, 9,  -999.00, 9, -999, -999, 9, -999
49NZ20031106, A10, X17, 1, 14, 12026, 2, 20031111, 1029, -30.0997, -39.0252, 4232,   2802.3, 2,   2.8691, 2,  34.9190, 2,  34.9190, 2,    239.1, 1,    249.0, 2,    32.07, 2,    20.93, 2,    -0.01, 2,     1.43, 2,    0.003, 2,    0.009, 2,    0.000, 4,   2179.2, 2,   2318.5, 2,    7.7199, 6,     25.00, -999.000, 9, -999.000,   -101.6, 2,      3.5,     1.03, 2,      0.0,   2.6416, 27.8532,   2.8691, 2, 2802.5, 2, 249.04, 2, 0.19, 0.09, 0.01, 0.01, -999, 9,  -999.00, 9, -999, -999, 9, -999
49NZ20031106, A10, X17, 1, 1, 12013, 2, 20031111, 1029, -30.0997, -39.0252, 4232,   3000.5, 2,   2.7738, 2,  34.9135, 2,  34.9136, 2,    239.7, 1,    249.7, 2,    34.01, 2,    21.07, 2,     0.00, 2,     1.45, 2,    0.001, 2,    0.008, 2,    0.000, 4,   2182.8, 2,   2320.9, 4,    7.7498, 4,     25.00, -999.000, 9, -999.000,   -104.9, 2,      3.4,     1.05, 6,      0.0,   2.5280, 27.8587,   2.7739, 2, 3000.6, 2, 249.15, 2, 0.19, 0.09, 0.01, 0.01, -999, 9,  -999.00, 9, -999, -999, 9, -999
49NZ20031106, A10, X17, 1, 12, 12024, 2, 20031111, 1029, -30.0997, -39.0252, 4232,   3252.0, 2,   2.6289, 2,  34.9107, 2,  34.9105, 2,    242.5, 1,    251.9, 2,    35.43, 2,    20.83, 2,     0.00, 2,     1.42, 2,    0.006, 2,    0.009, 2,    0.000, 4,   2182.3, 2,   2326.3, 2,    7.7228, 2,     25.00, -999.000, 9, -999.000,    -97.0, 2,      3.4,     1.03, 2,      0.0,   2.3600, 27.8707,   2.6290, 2, 3252.7, 2, 251.83, 2, 0.2, 0.09, 0.01, 0.01, -999, 9,  -999.00, 9, -999, -999, 9, -999
49NZ20031106, A10, X17, 1, 11, 12023, 2, 20031111, 1029, -30.0997, -39.0252, 4232,   3502.3, 2,   2.3549, 2,  34.8849, 2,  34.8848, 2,    240.2, 1,    249.0, 2,    44.81, 2,    22.00, 2,     0.01, 2,     1.51, 2,    0.010, 2,    0.014, 2,    0.000, 4,   2189.8, 2,   2331.0, 2,    7.7127, 2,     25.00, -999.000, 9, -999.000,   -102.4, 2,      3.6,     0.96, 2,      0.0,   2.0660, 27.8745,   2.3549, 2, 3502.8, 2, 249.62, 2, 0.22, 0.09, 0.01, 0.01, -999, 9,  -999.00, 9, -999, -999, 9, -999
49NZ20031106, A10, X17, 1, 10, 12022, 2, 20031111, 1029, -30.0997, -39.0252, 4232,   3809.9, 2,   1.7654, 2,  34.8254, 2,  34.8248, 2,    232.4, 1,    240.1, 2,    67.30, 2,    25.09, 2,     0.00, 2,     1.73, 2,   -0.010, 2,   -0.002, 2,    0.000, 4,   2212.3, 2,   2340.8, 2,    7.6941, 2,     25.00, -999.000, 9, -999.000,   -127.8, 2,      3.3,     0.79, 2,      0.0,   1.4589, 27.8738,   1.7654, 2, 3810.1, 2, 240.51, 2, 0.27, 0.1, 0.01, 0.01, -999, 9,  -999.00, 9, -999, -999, 9, -999
49NZ20031106, A10, X17, 1, 7, 12019, 9, 20031111, 1029, -30.0997, -39.0252, 4232,   3913.2, 2,   1.5990, 2,  34.8070, 2, -999.0000, 9,    229.8, 1,   -999.0, 9,  -999.00, 9,  -999.00, 9,  -999.00, 9,  -999.00, 9, -999.000, 9, -999.000, 9, -999.000, 9,   -999.0, 9,   -999.0, 9, -999.0000, 9,   -999.00, -999.000, 9, -999.000,   -999.0, 9,   -999.0,  -999.00, 9,   -999.0,   1.2860, 27.8715,   1.5989, 2, 3913.2, 2, 237.01, 2, -999, -999, -999, -999, -999, 9,  -999.00, 9, -999, -999, 9, -999
49NZ20031106, A10, X17, 1, 9, 12015, 2, 20031111, 1029, -30.0997, -39.0252, 4232,   4067.0, 2,   1.3725, 2,  34.7818, 2,  34.7824, 2,    226.5, 1,    232.7, 2,    83.88, 2,    27.43, 2,     0.00, 2,     1.90, 2,    0.004, 2,    0.010, 2,    0.000, 4,   2230.3, 2,   2355.8, 2,    7.6746, 2,     25.00, -999.000, 9, -999.000,   -136.6, 2,      3.3,     0.73, 2,      0.0,   1.0493, 27.8678,   1.3722, 2, 4067, 2, 232.54, 2, 0.3, 0.11, 0.01, 0.01, -999, 9,  -999.00, 9, -999, -999, 9, -999
49NZ20031106, A10, X17, 1, 13, 12025, 2, 20031111, 1029, -30.0997, -39.0252, 4232,   4067.1, 2,   1.3725, 2,  34.7820, 2,  34.7820, 2,    226.5, 1,    232.6, 2,    83.93, 2,    27.48, 2,     0.00, 2,     1.90, 2,    0.006, 2,    0.007, 2,    0.000, 4,   2229.7, 2,   2347.0, 4,    7.6607, 2,     25.00, -999.000, 9, -999.000,   -136.5, 2,      3.3,     0.73, 2,      0.0,   1.0493, 27.8679,   1.3725, 2, 4067.2, 2, 232.55, 2, 0.3, 0.11, 0.01, 0.01, -999, 9,  -999.00, 9, -999, -999, 9, -999
49NZ20031106, A10, X17, 1, 8, 12020, 2, 20031111, 1029, -30.0997, -39.0252, 4232,   4248.5, 2,   0.9657, 2,  34.7358, 2,  34.7384, 3,    220.5, 1,    225.0, 2,   100.64, 2,    29.75, 2,     0.00, 2,     2.07, 2,    0.081, 2,    0.040, 2,    0.000, 4,   2246.1, 6,   2347.9, 4,    7.6525, 2,     25.00, -999.000, 9, -999.000,   -146.5, 2,      3.2,     0.63, 2,      0.0,   0.6349, 27.858,   0.9665, 2, 4248.6, 2, 224.61, 2, 0.34, 0.12, 0.01, 0.02, -999, 9,  -999.00, 9, -999, -999, 9, -999