BOTTLE,20220818CCHSIOAMB
EXPOCODE,SECT_ID,STNNBR,CASTNO,SAMPNO,BTLNBR,BTLNBR_FLAG_W,DATE,TIME,LATITUDE,LONGITUDE,DEPTH,CTDPRS,CTDPRS_FLAG_W,CTDTMP,CTDTMP_FLAG_W,CTDSAL,CTDSAL_FLAG_W,SALNTY,SALNTY_FLAG_W,CTDOXY,CTDOXY_FLAG_W,OXYGEN,OXYGEN_FLAG_W,SILCAT,SILCAT_FLAG_W,NITRAT,NITRAT_FLAG_W,NITRIT,NITRIT_FLAG_W,PHSPHT,PHSPHT_FLAG_W,CFC-11,CFC-11_FLAG_W,CFC-12,CFC-12_FLAG_W,CFC113,CFC113_FLAG_W,TCARBN,TCARBN_FLAG_W,ALKALI,ALKALI_FLAG_W,PH_TOT,PH_TOT_FLAG_W,PH_TMP,TRITUM,TRITUM_FLAG_W,TRITER,DELC14,DELC14_FLAG_W,C14ERR,DELC13,DELC13_FLAG_W,C13ERR,THETA,SIG0,SBE35,SBE35_FLAG_W,DWNPRS,DWNPRS_FLAG_W,DWNOXY,DWNOXY_FLAG_W,SILUNC,NRAUNC,NRIUNC,PHPUNC,TOC,TOC_FLAG_W,CS-137,CS-137_FLAG_W,CS137ER,PLUTO,PLUTO_FLAG_W,PLUTOER
,,,,,,,,,,,METERS,DBAR,,ITS-90,,PSS-78,,PSS-78,,UMOL/KG,,UMOL/KG,,UMOL/KG,,UMOL/KG,,UMOL/KG,,UMOL/KG,,PMOL/KG,,PMOL/KG,,PMOL/KG,,UMOL/KG,,UMOL/KG,,,,DEG C,TU,,TU,/MILLE,,/MILLE,/MILLE,,/MILLE,DEG C,KG/M^3,ITS-90,,DBAR,,UMOL/KG,,UMOL/KG,UMOL/KG,UMOL/KG,UMOL/KG,UMOL/KG,,BQ/M^3,,BQ/M^3,MBQ/M^3,,MBQ/M^3
49NZ20031106, A10, 52, 1, 36, 12036, 2, 20031120, 2015, -29.9955, -15.6660, 3265,     10.4, 2,  20.6687, 2,  36.1380, 2,  36.1378, 2,    215.9, 1,    228.8, 2,     1.01, 2,    -0.01, 2,     0.00, 2,     0.15, 2, -999.000, 9, -999.000, 9, -999.000, 9,   -999.0, 9,   -999.0, 9, -999.0000, 9,   -999.00, -999.000, 9, -999.000,   -999.0, 9,   -999.0,  -999.00, 9,   -999.0,  20.6667, 25.4543,  20.6636, 2, 13, 2, 228.72, 2, 0.12, 0.03, 0.01, 0.02, -999, 9,  -999.00, 9, -999, -999, 9, -999
49NZ20031106, A10, 52, 1, 35, 12035, 2, 20031120, 2015, -29.9955, -15.6660, 3265,     49.4, 2,  19.4319, 2,  36.0754, 2,  36.0763, 2,    220.8, 1,    233.7, 2,     1.04, 2,    -0.04, 2,     0.01, 2,     0.16, 2, -999.000, 9, -999.000, 9, -999.000, 9,   -999.0, 9,   -999.0, 9, -999.0000, 9,   -999.00, -999.000, 9, -999.000,   -999.0, 9,   -999.0,  -999.00, 9,   -999.0,  19.4229, 25.736,  19.4315, 2, 50.2, 2, 234.06, 2, 0.12, 0.03, 0.01, 0.02, -999, 9,  -999.00, 9, -999, -999, 9, -999
49NZ20031106, A10, 52, 1, 34, 12034, 2, 20031120, 2015, -29.9955, -15.6660, 3265,    100.7, 2,  18.8758, 2,  36.0430, 2,  36.0421, 2,    222.8, 1,    235.5, 2,     1.09, 2,    -0.04, 2,     0.00, 2,     0.17, 2, -999.000, 9, -999.000, 9, -999.000, 9,   -999.0, 9,   -999.0, 9, -999.0000, 9,   -999.00, -999.000, 1, -999.000,   -999.0, 9,   -999.0,  -999.00, 9,   -999.0,  18.8578, 25.8571,  18.8755, 2, 97.8, 2, 236.32, 2, 0.12, 0.03, 0.01, 0.02, -999, 9,     1.27, 2, 0.12, -999, 1, -999
49NZ20031106, A10, 52, 1, 33, 12033, 2, 20031120, 2015, -29.9955, -15.6660, 3265,    151.1, 2,  18.1034, 2,  35.9270, 2,  35.9264, 2,    218.7, 1,    231.3, 2,     1.41, 2,    -0.03, 2,     0.01, 2,     0.21, 2, -999.000, 9, -999.000, 9, -999.000, 9,   -999.0, 9,   -999.0, 9, -999.0000, 9,   -999.00, -999.000, 9, -999.000,   -999.0, 9,   -999.0,  -999.00, 9,   -999.0,  18.0772, 25.9657,  18.0985, 2, 146.1, 2, 228.87, 2, 0.12, 0.03, 0.01, 0.02, -999, 9,  -999.00, 9, -999, -999, 9, -999
49NZ20031106, A10, 52, 1, 4, 12040, 2, 20031120, 2015, -29.9955, -15.6660, 3265,    200.5, 2,  15.9086, 2,  35.5869, 2, -999.0000, 9,    210.2, 1,   -999.0, 9,  -999.00, 9,  -999.00, 9,  -999.00, 9,  -999.00, 9, -999.000, 9, -999.000, 9, -999.000, 9,   -999.0, 9,   -999.0, 9, -999.0000, 9,   -999.00, -999.000, 1, -999.000,   -999.0, 9,   -999.0,  -999.00, 9,   -999.0,  15.8768, 26.2284,  15.9134, 2, 196.8, 2, 221.49, 2, -999, -999, -999, -999, -999, 9,  -999.00, 9, -999, -999, 9, -999
49NZ20031106, A10, 52, 1, 32, 12032, 2, 20031120, 2015, -29.9955, -15.6660, 3265,    200.7, 2,  15.8864, 2,  35.5842, 2,  35.5897, 2,    210.3, 1,    221.6, 2,     2.12, 2,     2.99, 2,     0.03, 2,     0.41, 2, -999.000, 9, -999.000, 9, -999.000, 9,   -999.0, 9,   -999.0, 9, -999.0000, 9,   -999.00, -999.000, 1, -999.000,   -999.0, 9,   -999.0,  -999.00, 9,   -999.0,  15.8546, 26.2304,  15.8945, 2, 197.5, 2, 221.56, 2, 0.12, 0.04, 0.01, 0.01, -999, 9,  -999.00, 1, -999, -999, 1, -999
49NZ20031106, A10, 52, 1, 31, 12031, 2, 20031120, 2015, -29.9955, -15.6660, 3265,    249.7, 2,  14.8220, 2,  35.4295, 2,  35.4291, 2,    207.4, 1,    218.2, 2,     2.58, 2,     5.37, 2,     0.02, 2,     0.54, 2, -999.000, 9, -999.000, 9, -999.000, 9,   -999.0, 9,   -999.0, 9, -999.0000, 9,   -999.00, -999.000, 9, -999.000,   -999.0, 9,   -999.0,  -999.00, 9,   -999.0,  14.7843, 26.351,  14.8252, 2, 245.4, 2, 218.13, 2, 0.12, 0.05, 0.01, 0.01, -999, 9,  -999.00, 9, -999, -999, 9, -999
49NZ20031106, A10, 52, 1, 30, 12030, 2, 20031120, 2015, -29.9955, -15.6660, 3265,    301.1, 2,  13.6498, 2,  35.2603, 2,  35.2595, 2,    205.0, 1,    215.6, 2,     3.10, 2,     7.84, 2,     0.01, 2,     0.68, 2, -999.000, 9, -999.000, 9, -999.000, 9,   -999.0, 9,   -999.0, 9, -999.0000, 9,   -999.00, -999.000, 9, -999.000,   -999.0, 9,   -999.0,  -999.00, 9,   -999.0,  13.6068, 26.4712,  13.6490, 2, 298.9, 2, 215.68, 2, 0.13, 0.05, 0.01, 0.01, -999, 9,  -999.00, 9, -999, -999, 9, -999
49NZ20031106, A10, 52, 1, 29, 12029, 2, 20031120, 2015, -29.9955, -15.6660, 3265,    402.4, 2,  11.7624, 2,  35.0136, 2,  35.0136, 2,    200.9, 1,    210.6, 2,     4.75, 2,    12.63, 2,     0.00, 2,     0.97, 2, -999.000, 9, -999.000, 9, -999.000, 9,   -999.0, 9,   -999.0, 9, -999.0000, 9,   -999.00, -999.000, 1, -999.000,   -999.0, 9,   -999.0,  -999.00, 9,   -999.0,  11.7101, 26.6552,  11.7611, 2, 402.5, 2, 211.37, 2, 0.13, 0.07, 0.01, 0.01, -999, 9,  -999.00, 9, -999, -999, 9, -999
49NZ20031106, A10, 52, 1, 28, 12028, 2, 20031120, 2015, -29.9955, -15.6660, 3265,    500.2, 2,  10.3778, 2,  34.8432, 2,  34.8426, 2,    196.0, 1,    205.0, 2,     6.87, 2,    16.46, 2,     0.01, 2,     1.20, 2, -999.000, 9, -999.000, 9, -999.000, 9,   -999.0, 9,   -999.0, 9, -999.0000, 9,   -999.00, -999.000, 9, -999.000,   -999.0, 9,   -999.0,  -999.00, 9,   -999.0,  10.3176, 26.7748,  10.3769, 2, 498.7, 2, 204.8, 2, 0.13, 0.08, 0.01, 0.01, -999, 9,  -999.00, 9, -999, -999, 9, -999
49NZ20031106, A10, 52, 1, 27, 12027, 2, 20031120, 2015, -29.9955, -15.6660, 3265,    599.2, 2,   8.5286, 2,  34.6376, 2,  34.6359, 2,    189.0, 1,    197.3, 2,    11.19, 2,    21.77, 2,     0.00, 2,     1.54, 2, -999.000, 9, -999.000, 9, -999.000, 9,   -999.0, 9,   -999.0, 9, -999.0000, 9,   -999.00, -999.000, 1, -999.000,   -999.0, 9,   -999.0,  -999.00, 9,   -999.0,   8.4644, 26.9184,   8.5284, 2, 595.1, 2, 197.92, 2, 0.14, 0.09, 0.01, 0.01, -999, 9,  -999.00, 1, -999, -999, 1, -999
49NZ20031106, A10, 52, 1, 2, 12038, 2, 20031120, 2015, -29.9955, -15.6660, 3265,    599.6, 2,   8.5243, 2,  34.6369, 2, -999.0000, 9,    188.9, 1,   -999.0, 9,  -999.00, 9,  -999.00, 9,  -999.00, 9,  -999.00, 9, -999.000, 9, -999.000, 9, -999.000, 9,   -999.0, 9,   -999.0, 9, -999.0000, 9,   -999.00, -999.000, 1, -999.000,   -999.0, 9,   -999.0,  -999.00, 9,   -999.0,   8.4601, 26.9189,   8.5247, 2, 595.4, 2, 197.91, 2, -999, -999, -999, -999, -999, 9,  -999.00, 9, -999, -999, 9, -999
49NZ20031106, A10, 52, 1, 26, 12026, 2, 20031120, 2015, -29.9955, -15.6660, 3265,    700.8, 2,   6.6385, 2,  34.4589, 2,  34.4591, 2,    194.2, 1,    202.5, 2,    15.89, 2,    26.13, 2,     0.00, 2,     1.82, 2, -999.000, 9, -999.000, 9, -999.000, 9,   -999.0, 9,   -999.0, 9, -999.0000, 9,   -999.00, -999.000, 9, -999.000,   -999.0, 9,   -999.0,  -999.00, 9,   -999.0,   6.5730, 27.0504,   6.6418, 2, 702.4, 2, 202.7, 2, 0.15, 0.11, 0.01, 0.01, -999, 9,  -999.00, 9, -999, -999, 9, -999
49NZ20031106, A10, 52, 1, 7, 12043, 2, 20031120, 2015, -29.9955, -15.6660, 3265,    801.3, 2,   5.2295, 2,  34.3585, 2, -999.0000, 9,    201.6, 1,   -999.0, 9,  -999.00, 9,  -999.00, 9,  -999.00, 9,  -999.00, 9, -999.000, 9, -999.000, 9, -999.000, 9,   -999.0, 9,   -999.0, 9, -999.0000, 9,   -999.00, -999.000, 1, -999.000,   -999.0, 9,   -999.0,  -999.00, 9,   -999.0,   5.1627, 27.1479,   5.2290, 2, 806.9, 2, 210.25, 2, -999, -999, -999, -999, -999, 9,  -999.00, 9, -999, -999, 9, -999
49NZ20031106, A10, 52, 1, 25, 12025, 2, 20031120, 2015, -29.9955, -15.6660, 3265,    801.4, 2,   5.2294, 2,  34.3585, 2,  34.3588, 2,    201.6, 1,    210.5, 2,    21.34, 2,    28.68, 2,     0.00, 2,     1.98, 2, -999.000, 9, -999.000, 9, -999.000, 9,   -999.0, 9,   -999.0, 9, -999.0000, 9,   -999.00, -999.000, 1, -999.000,   -999.0, 9,   -999.0,  -999.00, 9,   -999.0,   5.1626, 27.148,   5.2354, 2, 807, 2, 210.26, 2, 0.17, 0.11, 0.01, 0.02, -999, 9,  -999.00, 1, -999, -999, 1, -999
49NZ20031106, A10, 52, 1, 24, 12024, 2, 20031120, 2015, -29.9955, -15.6660, 3265,    900.6, 2,   4.5435, 2,  34.3390, 2,  34.3392, 2,    200.5, 1,    209.3, 2,    26.99, 2,    30.18, 2,     0.01, 2,     2.08, 2, -999.000, 9, -999.000, 9, -999.000, 9,   -999.0, 9,   -999.0, 9, -999.0000, 9,   -999.00, -999.000, 9, -999.000,   -999.0, 9,   -999.0,  -999.00, 9,   -999.0,   4.4725, 27.2108,   4.5429, 2, 900.8, 2, 209.73, 2, 0.18, 0.12, 0.01, 0.02, -999, 9,  -999.00, 9, -999, -999, 9, -999
49NZ20031106, A10, 52, 1, 3, 12039, 2, 20031120, 2015, -29.9955, -15.6660, 3265,   1000.1, 2,   3.9058, 2,  34.3501, 2, -999.0000, 9,    196.0, 1,   -999.0, 9,  -999.00, 9,  -999.00, 9,  -999.00, 9,  -999.00, 9, -999.000, 9, -999.000, 9, -999.000, 9,   -999.0, 9,   -999.0, 9, -999.0000, 9,   -999.00, -999.000, 1, -999.000,   -999.0, 9,   -999.0,  -999.00, 9,   -999.0,   3.8311, 27.2872,   3.9052, 2, 1000, 2, 201.41, 2, -999, -999, -999, -999, -999, 9,  -999.00, 9, -999, -999, 9, -999
49NZ20031106, A10, 52, 1, 23, 12023, 2, 20031120, 2015, -29.9955, -15.6660, 3265,   1000.2, 2,   3.9029, 2,  34.3505, 2,  34.3505, 2,    195.9, 1,    204.8, 2,    34.72, 2,    31.54, 2,     0.01, 2,     2.18, 2, -999.000, 9, -999.000, 9, -999.000, 9,   -999.0, 9,   -999.0, 9, -999.0000, 9,   -999.00, -999.000, 1, -999.000,   -999.0, 9,   -999.0,  -999.00, 9,   -999.0,   3.8282, 27.2875,   3.9037, 2, 1000.2, 2, 201.42, 2, 0.2, 0.12, 0.01, 0.02, -999, 9,  -999.00, 1, -999, -999, 1, -999
49NZ20031106, A10, 52, 1, 22, 12022, 2, 20031120, 2015, -29.9955, -15.6660, 3265,   1200.4, 2,   3.1659, 2,  34.4594, 2,  34.4592, 2,    182.4, 1,    190.2, 2,    49.93, 2,    32.78, 2,     0.01, 2,     2.27, 2, -999.000, 9, -999.000, 9, -999.000, 9,   -999.0, 9,   -999.0, 9, -999.0000, 9,   -999.00, -999.000, 1, -999.000,   -999.0, 9,   -999.0,  -999.00, 9,   -999.0,   3.0811, 27.4466,   3.1664, 2, 1203.6, 2, 191.25, 2, 0.23, 0.12, 0.01, 0.02, -999, 9,  -999.00, 5, -999, -999, 1, -999
49NZ20031106, A10, 52, 1, 21, 12015, 2, 20031120, 2015, -29.9955, -15.6660, 3265,   1401.3, 2,   3.0040, 2,  34.5701, 2,  34.5682, 2,    178.4, 1,    185.8, 2,    54.77, 2,    32.10, 2,     0.00, 2,     2.22, 2, -999.000, 9, -999.000, 9, -999.000, 9,   -999.0, 9,   -999.0, 9, -999.0000, 9,   -999.00, -999.000, 1, -999.000,   -999.0, 9,   -999.0,  -999.00, 9,   -999.0,   2.9043, 27.5509,   3.0046, 2, 1400.9, 2, 185.7, 2, 0.24, 0.12, 0.01, 0.02, -999, 9,     0.04, 2, 0.03, -999, 1, -999
49NZ20031106, A10, 52, 1, 20, 12020, 2, 20031120, 2015, -29.9955, -15.6660, 3265,   1601.2, 2,   2.8969, 2,  34.6787, 2,  34.6791, 2,    186.8, 1,    194.7, 2,    53.97, 2,    29.86, 2,     0.00, 2,     2.07, 2, -999.000, 9, -999.000, 9, -999.000, 9,   -999.0, 9,   -999.0, 9, -999.0000, 9,   -999.00, -999.000, 9, -999.000,   -999.0, 9,   -999.0,  -999.00, 9,   -999.0,   2.7815, 27.6493,   2.8968, 2, 1601.4, 2, 194, 2, 0.24, 0.12, 0.01, 0.02, -999, 9,  -999.00, 9, -999, -999, 9, -999
49NZ20031106, A10, 52, 1, 19, 12019, 2, 20031120, 2015, -29.9955, -15.6660, 3265,   1801.2, 2,   2.7540, 2,  34.7466, 2,  34.7462, 2,    197.7, 1,    206.2, 2,    53.49, 2,    27.98, 2,     0.00, 2,     1.93, 2, -999.000, 9, -999.000, 9, -999.000, 9,   -999.0, 9,   -999.0, 9, -999.0000, 9,   -999.00, -999.000, 9, -999.000,   -999.0, 9,   -999.0,  -999.00, 9,   -999.0,   2.6232, 27.7175,   2.7540, 2, 1800.1, 2, 206.47, 2, 0.24, 0.11, 0.01, 0.01, -999, 9,  -999.00, 9, -999, -999, 9, -999
49NZ20031106, A10, 52, 1, 5, 12041, 2, 20031120, 2015, -29.9955, -15.6660, 3265,   2000.5, 2,   2.6600, 2,  34.7956, 2, -999.0000, 9,    208.6, 1,   -999.0, 9,  -999.00, 9,  -999.00, 9,  -999.00, 9,  -999.00, 9, -999.000, 9, -999.000, 9, -999.000, 9,   -999.0, 9,   -999.0, 9, -999.0000, 9,   -999.00, -999.000, 1, -999.000,   -999.0, 9,   -999.0,  -999.00, 9,   -999.0,   2.5130, 27.7664,   2.6600, 2, 2000.2, 2, 217.3, 2, -999, -999, -999, -999, -999, 9,  -999.00, 9, -999, -999, 9, -999
49NZ20031106, A10, 52, 1, 18, 12018, 2, 20031120, 2015, -29.9955, -15.6660, 3265,   2000.9, 2,   2.6603, 2,  34.7955, 2,  34.7961, 2,    208.6, 1,    217.4, 2,    51.64, 2,    26.28, 2,     0.00, 2,     1.81, 2, -999.000, 9, -999.000, 9, -999.000, 9,   -999.0, 9,   -999.0, 9, -999.0000, 9,   -999.00, -999.000, 1, -999.000,   -999.0, 9,   -999.0,  -999.00, 9,   -999.0,   2.5132, 27.7663,   2.6602, 2, 2000.6, 2, 217.3, 2, 0.23, 0.11, 0.01, 0.01, -999, 9,  -999.00, 1, -999, -999, 1, -999
49NZ20031106, A10, 52, 1, 17, 12017, 2, 20031120, 2015, -29.9955, -15.6660, 3265,   2200.3, 2,   2.6097, 2,  34.8220, 2,  34.8219, 2,    215.4, 1,    224.5, 2,    50.12, 2,    25.22, 2,     0.00, 2,     1.74, 2, -999.000, 9, -999.000, 9, -999.000, 9,   -999.0, 9,   -999.0, 9, -999.0000, 9,   -999.00, -999.000, 9, -999.000,   -999.0, 9,   -999.0,  -999.00, 9,   -999.0,   2.4454, 27.7931,   2.6098, 2, 2200.4, 2, 224.22, 2, 0.23, 0.1, 0.01, 0.01, -999, 9,  -999.00, 9, -999, -999, 9, -999
49NZ20031106, A10, 52, 1, 16, 12016, 2, 20031120, 2015, -29.9955, -15.6660, 3265,   2400.6, 2,   2.5707, 2,  34.8366, 2,  34.8370, 2,    219.9, 1,    229.0, 2,    49.41, 2,    24.62, 2,     0.00, 2,     1.69, 2, -999.000, 9, -999.000, 9, -999.000, 9,   -999.0, 9,   -999.0, 9, -999.0000, 9,   -999.00, -999.000, 1, -999.000,   -999.0, 9,   -999.0,  -999.00, 9,   -999.0,   2.3885, 27.8097,   2.5708, 2, 2400.6, 2, 228.66, 2, 0.23, 0.1, 0.01, 0.01, -999, 9,     0.01, 2, 0.02, -999, 1, -999
49NZ20031106, A10, 52, 1, 11, 12047, 9, 20031120, 2015, -29.9955, -15.6660, 3265,   2501.4, 2,   2.5380, 2,  34.8401, 2, -999.0000, 9,    221.7, 1,   -999.0, 9,  -999.00, 9,  -999.00, 9,  -999.00, 9,  -999.00, 9, -999.000, 9, -999.000, 9, -999.000, 9,   -999.0, 9,   -999.0, 9, -999.0000, 9,   -999.00, -999.000, 9, -999.000,   -999.0, 9,   -999.0,  -999.00, 9,   -999.0,   2.3468, 27.8161,   2.5382, 2, 2501.6, 2, 230.32, 2, -999, -999, -999, -999, -999, 9,  -999.00, 9, -999, -999, 9, -999
49NZ20031106, A10, 52, 1, 15, 12012, 2, 20031120, 2015, -29.9955, -15.6660, 3265,   2601.1, 2,   2.5236, 2,  34.8438, 2,  34.8438, 2,    223.2, 1,    231.9, 2,    49.61, 2,    24.28, 2,     0.00, 2,     1.67, 2, -999.000, 9, -999.000, 9, -999.000, 9,   -999.0, 9,   -999.0, 9, -999.0000, 9,   -999.00, -999.000, 9, -999.000,   -999.0, 9,   -999.0,  -999.00, 9,   -999.0,   2.3231, 27.8211,   2.5236, 2, 2601.2, 2, 231.9, 2, 0.23, 0.1, 0.01, 0.01, -999, 9,  -999.00, 9, -999, -999, 9, -999
49NZ20031106, A10, 52, 1, 10, 12046, 9, 20031120, 2015, -29.9955, -15.6660, 3265,   2701.3, 2,   2.5048, 2,  34.8476, 2, -999.0000, 9,    224.7, 1,   -999.0, 9,  -999.00, 9,  -999.00, 9,  -999.00, 9,  -999.00, 9, -999.000, 9, -999.000, 9, -999.000, 9,   -999.0, 9,   -999.0, 9, -999.0000, 9,   -999.00, -999.000, 9, -999.000,   -999.0, 9,   -999.0,  -999.00, 9,   -999.0,   2.2950, 27.8265,   2.5049, 2, 2701, 2, 233.71, 2, -999, -999, -999, -999, -999, 9,  -999.00, 9, -999, -999, 9, -999
49NZ20031106, A10, 52, 1, 14, 12014, 2, 20031120, 2015, -29.9955, -15.6660, 3265,   2801.5, 2,   2.4654, 2,  34.8499, 2,  34.8499, 2,    226.4, 1,    234.8, 2,    50.14, 2,    24.08, 2,     0.00, 2,     1.65, 2, -999.000, 9, -999.000, 9, -999.000, 9,   -999.0, 9,   -999.0, 9, -999.0000, 9,   -999.00, -999.000, 9, -999.000,   -999.0, 9,   -999.0,  -999.00, 9,   -999.0,   2.2465, 27.8324,   2.4654, 2, 2801.7, 2, 234.71, 2, 0.23, 0.1, 0.01, 0.01, -999, 9,  -999.00, 9, -999, -999, 9, -999
49NZ20031106, A10, 52, 1, 9, 12045, 9, 20031120, 2015, -29.9955, -15.6660, 3265,   2900.5, 2,   2.4416, 2,  34.8526, 2, -999.0000, 9,    228.1, 1,   -999.0, 9,  -999.00, 9,  -999.00, 9,  -999.00, 9,  -999.00, 9, -999.000, 9, -999.000, 9, -999.000, 9,   -999.0, 9,   -999.0, 9, -999.0000, 9,   -999.00, -999.000, 9, -999.000,   -999.0, 9,   -999.0,  -999.00, 9,   -999.0,   2.2134, 27.8372,   2.4416, 2, 2900.6, 2, 236.04, 2, -999, -999, -999, -999, -999, 9,  -999.00, 9, -999, -999, 9, -999
49NZ20031106, A10, 52, 1, 6, 12042, 2, 20031120, 2015, -29.9955, -15.6660, 3265,   2999.6, 2,   2.4014, 2,  34.8549, 2, -999.0000, 9,    229.5, 1,   -999.0, 9,  -999.00, 9,  -999.00, 9,  -999.00, 9,  -999.00, 9, -999.000, 9, -999.000, 9, -999.000, 9,   -999.0, 9,   -999.0, 9, -999.0000, 9,   -999.00, -999.000, 1, -999.000,   -999.0, 9,   -999.0,  -999.00, 9,   -999.0,   2.1640, 27.8431,   2.4020, 2, 2999.7, 2, 237.76, 2, -999, -999, -999, -999, -999, 9,  -999.00, 9, -999, -999, 9, -999
49NZ20031106, A10, 52, 1, 13, 12013, 2, 20031120, 2015, -29.9955, -15.6660, 3265,   3000.6, 2,   2.4029, 2,  34.8549, 2,  34.8543, 2,    229.6, 1,    237.5, 2,    50.79, 2,    23.83, 2,     0.01, 2,     1.63, 2, -999.000, 9, -999.000, 9, -999.000, 9,   -999.0, 9,   -999.0, 9, -999.0000, 9,   -999.00, -999.000, 1, -999.000,   -999.0, 9,   -999.0,  -999.00, 9,   -999.0,   2.1654, 27.843,   2.4029, 2, 3000.6, 2, 237.77, 2, 0.23, 0.1, 0.01, 0.01, -999, 9,  -999.00, 1, -999, -999, 1, -999
49NZ20031106, A10, 52, 1, 8, 12044, 9, 20031120, 2015, -29.9955, -15.6660, 3265,   3099.5, 2,   2.3713, 2,  34.8548, 2, -999.0000, 9,    230.7, 1,   -999.0, 9,  -999.00, 9,  -999.00, 9,  -999.00, 9,  -999.00, 9, -999.000, 9, -999.000, 9, -999.000, 9,   -999.0, 9,   -999.0, 9, -999.0000, 9,   -999.00, -999.000, 9, -999.000,   -999.0, 9,   -999.0,  -999.00, 9,   -999.0,   2.1244, 27.8464,   2.3712, 2, 3099.4, 2, 238.39, 2, -999, -999, -999, -999, -999, 9,  -999.00, 9, -999, -999, 9, -999
49NZ20031106, A10, 52, 1, 1, 12037, 2, 20031120, 2015, -29.9955, -15.6660, 3265,   3265.5, 2,   2.2975, 2,  34.8588, 2, -999.0000, 9,    234.1, 1,   -999.0, 9,  -999.00, 9,  -999.00, 9,  -999.00, 9,  -999.00, 9, -999.000, 9, -999.000, 9, -999.000, 9,   -999.0, 9,   -999.0, 9, -999.0000, 9,   -999.00, -999.000, 9, -999.000,   -999.0, 9,   -999.0,  -999.00, 9,   -999.0,   2.0352, 27.8567,   2.2974, 2, 3265.5, 2, 240.87, 2, -999, -999, -999, -999, -999, 9,  -999.00, 9, -999, -999, 9, -999
49NZ20031106, A10, 52, 1, 12, 12048, 2, 20031120, 2015, -29.9955, -15.6660, 3265,   3265.8, 2,   2.2972, 2,  34.8587, 2,  34.8587, 2,    234.1, 1,    240.9, 2,    52.33, 2,    23.50, 2,     0.01, 2,     1.62, 2, -999.000, 9, -999.000, 9, -999.000, 9,   -999.0, 9,   -999.0, 9, -999.0000, 9,   -999.00, -999.000, 1, -999.000,   -999.0, 9,   -999.0,  -999.00, 9,   -999.0,   2.0349, 27.8567,   2.2972, 2, 3265.8, 2, 240.88, 2, 0.23, 0.1, 0.01, 0.01, -999, 9,  -999.00, 1, -999, -999, 1, -999