BOTTLE,20220818CCHSIOAMB
EXPOCODE,SECT_ID,STNNBR,CASTNO,SAMPNO,BTLNBR,BTLNBR_FLAG_W,DATE,TIME,LATITUDE,LONGITUDE,DEPTH,CTDPRS,CTDPRS_FLAG_W,CTDTMP,CTDTMP_FLAG_W,CTDSAL,CTDSAL_FLAG_W,SALNTY,SALNTY_FLAG_W,CTDOXY,CTDOXY_FLAG_W,OXYGEN,OXYGEN_FLAG_W,SILCAT,SILCAT_FLAG_W,NITRAT,NITRAT_FLAG_W,NITRIT,NITRIT_FLAG_W,PHSPHT,PHSPHT_FLAG_W,CFC-11,CFC-11_FLAG_W,CFC-12,CFC-12_FLAG_W,CFC113,CFC113_FLAG_W,TCARBN,TCARBN_FLAG_W,ALKALI,ALKALI_FLAG_W,PH_TOT,PH_TOT_FLAG_W,PH_TMP,TRITUM,TRITUM_FLAG_W,TRITER,DELC14,DELC14_FLAG_W,C14ERR,DELC13,DELC13_FLAG_W,C13ERR,THETA,SIG0,SBE35,SBE35_FLAG_W,DWNPRS,DWNPRS_FLAG_W,DWNOXY,DWNOXY_FLAG_W,SILUNC,NRAUNC,NRIUNC,PHPUNC,TOC,TOC_FLAG_W,CS-137,CS-137_FLAG_W,CS137ER,PLUTO,PLUTO_FLAG_W,PLUTOER
,,,,,,,,,,,METERS,DBAR,,ITS-90,,PSS-78,,PSS-78,,UMOL/KG,,UMOL/KG,,UMOL/KG,,UMOL/KG,,UMOL/KG,,UMOL/KG,,PMOL/KG,,PMOL/KG,,PMOL/KG,,UMOL/KG,,UMOL/KG,,,,DEG C,TU,,TU,/MILLE,,/MILLE,/MILLE,,/MILLE,DEG C,KG/M^3,ITS-90,,DBAR,,UMOL/KG,,UMOL/KG,UMOL/KG,UMOL/KG,UMOL/KG,UMOL/KG,,BQ/M^3,,BQ/M^3,MBQ/M^3,,MBQ/M^3
49NZ20031106, A10, 74, 1, 1, 12025, 9, 20031127, 1, -29.8607, 0.5745, 3261,     10.3, 2,  18.3742, 2,  35.7804, 2, -999.0000, 9,    226.2, 1,   -999.0, 9,  -999.00, 9,  -999.00, 9,  -999.00, 9,  -999.00, 9, -999.000, 9, -999.000, 9, -999.000, 9,   -999.0, 9,   -999.0, 9, -999.0000, 9,   -999.00, -999.000, 9, -999.000,   -999.0, 9,   -999.0,  -999.00, 9,   -999.0,  18.3724, 25.778,  18.3708, 2, 7.7, 2, 239.85, 2, -999, -999, -999, -999, -999, 9,  -999.00, 9, -999, -999, 9, -999
49NZ20031106, A10, 74, 1, 36, 12024, 2, 20031127, 1, -29.8607, 0.5745, 3261,     10.4, 2,  18.3669, 2,  35.7786, 2,  35.7801, 2,    226.4, 1,    239.0, 2,     1.98, 2,     0.00, 2,     0.01, 2,     0.18, 2, -999.000, 9, -999.000, 9, -999.000, 9,   -999.0, 9,   -999.0, 9, -999.0000, 9,   -999.00, -999.000, 9, -999.000,   -999.0, 9,   -999.0,  -999.00, 9,   -999.0,  18.3651, 25.7785,  18.3662, 2, 7.7, 2, 239.86, 2, 0.12, 0.03, 0.01, 0.02, -999, 9,  -999.00, 9, -999, -999, 9, -999
49NZ20031106, A10, 74, 1, 35, 12023, 2, 20031127, 1, -29.8607, 0.5745, 3261,     49.9, 2,  18.1483, 2,  35.8021, 2,  35.8017, 2,    227.6, 1,    239.8, 2,     1.91, 2,    -0.02, 2,     0.01, 2,     0.18, 2, -999.000, 9, -999.000, 9, -999.000, 9,   -999.0, 9,   -999.0, 9, -999.0000, 9,   -999.00, -999.000, 9, -999.000,   -999.0, 9,   -999.0,  -999.00, 9,   -999.0,  18.1397, 25.8534,  18.1484, 2, 48.2, 2, 239.74, 2, 0.12, 0.03, 0.01, 0.02, -999, 9,  -999.00, 9, -999, -999, 9, -999
49NZ20031106, A10, 74, 1, 34, 12022, 2, 20031127, 1, -29.8607, 0.5745, 3261,     98.4, 2,  16.7153, 2,  35.6534, 2,  35.6520, 2,    234.7, 1,    247.5, 2,     2.07, 2,     0.33, 2,     0.14, 2,     0.21, 2, -999.000, 9, -999.000, 9, -999.000, 9,   -999.0, 9,   -999.0, 9, -999.0000, 9,   -999.00, -999.000, 9, -999.000,   -999.0, 9,   -999.0,  -999.00, 9,   -999.0,  16.6992, 26.0884,  16.7171, 2, 94.2, 2, 249.57, 2, 0.12, 0.03, 0.01, 0.02, -999, 9,  -999.00, 9, -999, -999, 9, -999
49NZ20031106, A10, 74, 1, 33, 12015, 2, 20031127, 1, -29.8607, 0.5745, 3261,    147.5, 2,  16.1643, 2,  35.5797, 2,  35.5806, 2,    225.5, 1,    237.7, 2,     2.51, 2,     1.94, 2,     0.42, 2,     0.32, 2, -999.000, 9, -999.000, 9, -999.000, 9,   -999.0, 9,   -999.0, 9, -999.0000, 9,   -999.00, -999.000, 9, -999.000,   -999.0, 9,   -999.0,  -999.00, 9,   -999.0,  16.1407, 26.1632,  16.1643, 2, 145.4, 2, 235.43, 2, 0.12, 0.04, 0, 0.01, -999, 9,  -999.00, 9, -999, -999, 9, -999
49NZ20031106, A10, 74, 1, 32, 12020, 2, 20031127, 1, -29.8607, 0.5745, 3261,    200.9, 2,  15.7019, 2,  35.5293, 2,  35.5289, 2,    216.7, 1,    227.9, 2,     2.58, 2,     3.58, 2,     0.02, 2,     0.39, 2, -999.000, 9, -999.000, 9, -999.000, 9,   -999.0, 9,   -999.0, 9, -999.0000, 9,   -999.00, -999.000, 9, -999.000,   -999.0, 9,   -999.0,  -999.00, 9,   -999.0,  15.6704, 26.2325,  15.7025, 2, 200.9, 2, 227.65, 2, 0.12, 0.04, 0.01, 0.01, -999, 9,  -999.00, 9, -999, -999, 9, -999
49NZ20031106, A10, 74, 1, 31, 12019, 2, 20031127, 1, -29.8607, 0.5745, 3261,    250.5, 2,  14.8602, 2,  35.4007, 2,  35.4004, 2,    209.0, 1,    218.9, 2,     3.02, 2,     5.67, 2,     0.02, 2,     0.52, 2, -999.000, 9, -999.000, 9, -999.000, 9,   -999.0, 9,   -999.0, 9, -999.0000, 9,   -999.00, -999.000, 9, -999.000,   -999.0, 9,   -999.0,  -999.00, 9,   -999.0,  14.8223, 26.3227,  14.8596, 2, 247.9, 2, 218.3, 2, 0.13, 0.05, 0.01, 0.01, -999, 9,  -999.00, 9, -999, -999, 9, -999
49NZ20031106, A10, 74, 1, 30, 12018, 2, 20031127, 1, -29.8607, 0.5745, 3261,    301.3, 2,  13.3786, 2,  35.2049, 2,  35.2066, 2,    204.7, 1,    214.3, 2,     3.69, 2,     8.75, 2,     0.02, 2,     0.71, 2, -999.000, 9, -999.000, 9, -999.000, 9,   -999.0, 9,   -999.0, 9, -999.0000, 9,   -999.00, -999.000, 9, -999.000,   -999.0, 9,   -999.0,  -999.00, 9,   -999.0,  13.3361, 26.4858,  13.3767, 2, 300, 2, 214.86, 2, 0.13, 0.06, 0.01, 0.01, -999, 9,  -999.00, 9, -999, -999, 9, -999
49NZ20031106, A10, 74, 1, 29, 12017, 2, 20031127, 1, -29.8607, 0.5745, 3261,    400.6, 2,  11.6680, 2,  34.9990, 2,  34.9990, 2,    205.6, 1,    214.9, 2,     4.60, 2,    12.51, 2,     0.01, 2,     0.94, 2, -999.000, 9, -999.000, 9, -999.000, 9,   -999.0, 9,   -999.0, 9, -999.0000, 9,   -999.00, -999.000, 9, -999.000,   -999.0, 9,   -999.0,  -999.00, 9,   -999.0,  11.6162, 26.6627,  11.6685, 2, 399.3, 2, 214.65, 2, 0.13, 0.07, 0.01, 0.01, -999, 9,  -999.00, 9, -999, -999, 9, -999
49NZ20031106, A10, 74, 1, 28, 12016, 2, 20031127, 1, -29.8607, 0.5745, 3261,    502.6, 2,   9.8029, 2,  34.7695, 2,  34.7692, 2,    196.7, 1,    205.2, 2,     7.84, 2,    17.85, 2,     0.01, 2,     1.27, 2, -999.000, 9, -999.000, 9, -999.000, 9,   -999.0, 9,   -999.0, 9, -999.0000, 9,   -999.00, -999.000, 9, -999.000,   -999.0, 9,   -999.0,  -999.00, 9,   -999.0,   9.7446, 26.8167,   9.8028, 2, 500.3, 2, 204.19, 2, 0.14, 0.08, 0.01, 0.01, -999, 9,  -999.00, 9, -999, -999, 9, -999
49NZ20031106, A10, 74, 1, 27, 12012, 2, 20031127, 1, -29.8607, 0.5745, 3261,    598.7, 2,   7.9880, 2,  34.5730, 2,  34.5695, 2,    193.6, 1,    201.9, 2,    11.85, 2,    22.84, 2,     0.01, 2,     1.59, 2, -999.000, 9, -999.000, 9, -999.000, 9,   -999.0, 9,   -999.0, 9, -999.0000, 9,   -999.00, -999.000, 9, -999.000,   -999.0, 9,   -999.0,  -999.00, 9,   -999.0,   7.9263, 26.9505,   7.9868, 2, 597.8, 2, 201.54, 2, 0.15, 0.1, 0.01, 0.01, -999, 9,  -999.00, 9, -999, -999, 9, -999
49NZ20031106, A10, 74, 1, 26, 12014, 2, 20031127, 1, -29.8607, 0.5745, 3261,    702.6, 2,   6.2281, 2,  34.4238, 2,  34.4246, 2,    195.9, 1,    203.7, 2,    17.39, 2,    27.00, 2,     0.01, 2,     1.85, 2, -999.000, 9, -999.000, 9, -999.000, 9,   -999.0, 9,   -999.0, 9, -999.0000, 9,   -999.00, -999.000, 9, -999.000,   -999.0, 9,   -999.0,  -999.00, 9,   -999.0,   6.1646, 27.0771,   6.2303, 2, 703.9, 2, 203.23, 2, 0.16, 0.11, 0.01, 0.01, -999, 9,  -999.00, 9, -999, -999, 9, -999
49NZ20031106, A10, 74, 1, 25, 12013, 2, 20031127, 1, -29.8607, 0.5745, 3261,    801.7, 2,   4.8949, 2,  34.3453, 2,  34.3452, 2,    201.6, 1,    209.4, 2,    24.05, 2,    29.50, 2,     0.01, 2,     2.03, 2, -999.000, 9, -999.000, 9, -999.000, 9,   -999.0, 9,   -999.0, 9, -999.0000, 9,   -999.00, -999.000, 9, -999.000,   -999.0, 9,   -999.0,  -999.00, 9,   -999.0,   4.8301, 27.1758,   4.8948, 2, 804.5, 2, 209.35, 2, 0.17, 0.12, 0.01, 0.02, -999, 9,  -999.00, 9, -999, -999, 9, -999
49NZ20031106, A10, 74, 1, 24, 12048, 2, 20031127, 1, -29.8607, 0.5745, 3261,    900.9, 2,   4.3720, 2,  34.3476, 2,  34.3477, 2,    196.4, 1,    204.5, 2,    29.92, 2,    30.95, 2,     0.00, 2,     2.12, 2, -999.000, 9, -999.000, 9, -999.000, 9,   -999.0, 9,   -999.0, 9, -999.0000, 9,   -999.00, -999.000, 9, -999.000,   -999.0, 9,   -999.0,  -999.00, 9,   -999.0,   4.3022, 27.2356,   4.3722, 2, 903.6, 2, 205.22, 2, 0.18, 0.12, 0.01, 0.02, -999, 9,  -999.00, 9, -999, -999, 9, -999
49NZ20031106, A10, 74, 1, 2, 12026, 9, 20031127, 1, -29.8607, 0.5745, 3261,   1001.9, 2,   3.9024, 2,  34.3747, 2, -999.0000, 9,    188.6, 1,   -999.0, 9,  -999.00, 9,  -999.00, 9,  -999.00, 9,  -999.00, 9, -999.000, 9, -999.000, 9, -999.000, 9,   -999.0, 9,   -999.0, 9, -999.0000, 9,   -999.00, -999.000, 9, -999.000,   -999.0, 9,   -999.0,  -999.00, 9,   -999.0,   3.8276, 27.3063,   3.9024, 2, 1003, 2, 196.62, 2, -999, -999, -999, -999, -999, 9,  -999.00, 9, -999, -999, 9, -999
49NZ20031106, A10, 74, 1, 5, 12029, 9, 20031127, 1, -29.8607, 0.5745, 3261,   1002.0, 2,   3.9040, 2,  34.3746, 2, -999.0000, 9,    188.9, 1,   -999.0, 9,  -999.00, 9,  -999.00, 9,  -999.00, 9,  -999.00, 9, -999.000, 9, -999.000, 9, -999.000, 9,   -999.0, 9,   -999.0, 9, -999.0000, 9,   -999.00, -999.000, 9, -999.000,   -999.0, 9,   -999.0,  -999.00, 9,   -999.0,   3.8291, 27.3061,   3.9041, 2, 1003, 2, 196.62, 2, -999, -999, -999, -999, -999, 9,  -999.00, 9, -999, -999, 9, -999
49NZ20031106, A10, 74, 1, 23, 12047, 2, 20031127, 1, -29.8607, 0.5745, 3261,   1002.1, 2,   3.9016, 2,  34.3746, 2,  34.3758, 2,    188.6, 1,    196.0, 2,    37.78, 2,    32.14, 2,     0.00, 2,     2.21, 2, -999.000, 9, -999.000, 9, -999.000, 9,   -999.0, 9,   -999.0, 9, -999.0000, 9,   -999.00, -999.000, 9, -999.000,   -999.0, 9,   -999.0,  -999.00, 9,   -999.0,   3.8267, 27.3065,   3.9017, 2, 1003.2, 2, 196.61, 2, 0.2, 0.12, 0.01, 0.02, -999, 9,  -999.00, 9, -999, -999, 9, -999
49NZ20031106, A10, 74, 1, 7, 12031, 9, 20031127, 1, -29.8607, 0.5745, 3261,   1002.2, 2,   3.9034, 2,  34.3745, 2, -999.0000, 9,    188.7, 1,   -999.0, 9,  -999.00, 9,  -999.00, 9,  -999.00, 9,  -999.00, 9, -999.000, 9, -999.000, 9, -999.000, 9,   -999.0, 9,   -999.0, 9, -999.0000, 9,   -999.00, -999.000, 9, -999.000,   -999.0, 9,   -999.0,  -999.00, 9,   -999.0,   3.8285, 27.3062,   3.9033, 2, 1003.2, 2, 196.62, 2, -999, -999, -999, -999, -999, 9,  -999.00, 9, -999, -999, 9, -999
49NZ20031106, A10, 74, 1, 6, 12030, 9, 20031127, 1, -29.8607, 0.5745, 3261,   1002.2, 2,   3.9030, 2,  34.3747, 2, -999.0000, 9,    188.8, 1,   -999.0, 9,  -999.00, 9,  -999.00, 9,  -999.00, 9,  -999.00, 9, -999.000, 9, -999.000, 9, -999.000, 9,   -999.0, 9,   -999.0, 9, -999.0000, 9,   -999.00, -999.000, 9, -999.000,   -999.0, 9,   -999.0,  -999.00, 9,   -999.0,   3.8281, 27.3062,   3.9033, 2, 1003.2, 2, 196.62, 2, -999, -999, -999, -999, -999, 9,  -999.00, 9, -999, -999, 9, -999
49NZ20031106, A10, 74, 1, 4, 12028, 9, 20031127, 1, -29.8607, 0.5745, 3261,   1002.2, 2,   3.9038, 2,  34.3745, 2, -999.0000, 9,    188.7, 1,   -999.0, 9,  -999.00, 9,  -999.00, 9,  -999.00, 9,  -999.00, 9, -999.000, 9, -999.000, 9, -999.000, 9,   -999.0, 9,   -999.0, 9, -999.0000, 9,   -999.00, -999.000, 9, -999.000,   -999.0, 9,   -999.0,  -999.00, 9,   -999.0,   3.8289, 27.3062,   3.9036, 2, 1003.2, 2, 196.61, 2, -999, -999, -999, -999, -999, 9,  -999.00, 9, -999, -999, 9, -999
49NZ20031106, A10, 74, 1, 3, 12027, 9, 20031127, 1, -29.8607, 0.5745, 3261,   1002.2, 2,   3.9016, 2,  34.3747, 2, -999.0000, 9,    188.8, 1,   -999.0, 9,  -999.00, 9,  -999.00, 9,  -999.00, 9,  -999.00, 9, -999.000, 9, -999.000, 9, -999.000, 9,   -999.0, 9,   -999.0, 9, -999.0000, 9,   -999.00, -999.000, 9, -999.000,   -999.0, 9,   -999.0,  -999.00, 9,   -999.0,   3.8267, 27.3064,   3.9021, 2, 1003.3, 2, 196.6, 2, -999, -999, -999, -999, -999, 9,  -999.00, 9, -999, -999, 9, -999
49NZ20031106, A10, 74, 1, 8, 12032, 9, 20031127, 1, -29.8607, 0.5745, 3261,   1002.5, 2,   3.9038, 2,  34.3745, 2, -999.0000, 9,    188.8, 1,   -999.0, 9,  -999.00, 9,  -999.00, 9,  -999.00, 9,  -999.00, 9, -999.000, 9, -999.000, 9, -999.000, 9,   -999.0, 9,   -999.0, 9, -999.0000, 9,   -999.00, -999.000, 9, -999.000,   -999.0, 9,   -999.0,  -999.00, 9,   -999.0,   3.8289, 27.306,   3.9039, 2, 1003.4, 2, 196.59, 2, -999, -999, -999, -999, -999, 9,  -999.00, 9, -999, -999, 9, -999
49NZ20031106, A10, 74, 1, 22, 12046, 2, 20031127, 1, -29.8607, 0.5745, 3261,   1201.1, 2,   3.3159, 2,  34.4797, 2,  34.4813, 2,    175.1, 1,    182.2, 2,    50.14, 2,    33.11, 2,     0.00, 2,     2.28, 2, -999.000, 9, -999.000, 9, -999.000, 9,   -999.0, 9,   -999.0, 9, -999.0000, 9,   -999.00, -999.000, 9, -999.000,   -999.0, 9,   -999.0,  -999.00, 9,   -999.0,   3.2296, 27.4485,   3.3161, 2, 1201.8, 2, 182.12, 2, 0.23, 0.13, 0.01, 0.02, -999, 9,  -999.00, 9, -999, -999, 9, -999
49NZ20031106, A10, 74, 1, 21, 12045, 2, 20031127, 1, -29.8607, 0.5745, 3261,   1401.5, 2,   3.0583, 2,  34.6058, 2,  34.6061, 2,    177.1, 1,    184.2, 2,    54.22, 2,    31.69, 2,     0.00, 2,     2.18, 2, -999.000, 9, -999.000, 9, -999.000, 9,   -999.0, 9,   -999.0, 9, -999.0000, 9,   -999.00, -999.000, 9, -999.000,   -999.0, 9,   -999.0,  -999.00, 9,   -999.0,   2.9579, 27.5742,   3.0584, 2, 1402.5, 2, 182.64, 2, 0.24, 0.12, 0.01, 0.02, -999, 9,  -999.00, 9, -999, -999, 9, -999
49NZ20031106, A10, 74, 1, 20, 12044, 2, 20031127, 1, -29.8607, 0.5745, 3261,   1600.5, 2,   2.9495, 2,  34.6945, 2,  34.7004, 3,    185.4, 1,    193.2, 2,    52.78, 2,    29.76, 2,     0.00, 2,     2.03, 2, -999.000, 9, -999.000, 9, -999.000, 9,   -999.0, 9,   -999.0, 9, -999.0000, 9,   -999.00, -999.000, 9, -999.000,   -999.0, 9,   -999.0,  -999.00, 9,   -999.0,   2.8335, 27.6571,   2.9515, 2, 1598.6, 2, 193.82, 2, 0.24, 0.12, 0.01, 0.02, -999, 9,  -999.00, 9, -999, -999, 9, -999
49NZ20031106, A10, 74, 1, 19, 12043, 2, 20031127, 1, -29.8607, 0.5745, 3261,   1802.4, 2,   2.9321, 2,  34.7711, 2,  34.7701, 2,    196.8, 1,    204.7, 2,    49.07, 2,    27.69, 2,     0.01, 2,     1.89, 2, -999.000, 9, -999.000, 9, -999.000, 9,   -999.0, 9,   -999.0, 9, -999.0000, 9,   -999.00, -999.000, 9, -999.000,   -999.0, 9,   -999.0,  -999.00, 9,   -999.0,   2.7987, 27.7205,   2.9340, 2, 1800.6, 2, 205.31, 2, 0.23, 0.11, 0.01, 0.01, -999, 9,  -999.00, 9, -999, -999, 9, -999
49NZ20031106, A10, 74, 1, 18, 12042, 2, 20031127, 1, -29.8607, 0.5745, 3261,   2001.9, 2,   2.7264, 2,  34.8021, 2,  34.8019, 2,    205.4, 1,    213.8, 2,    51.23, 2,    26.59, 2,     0.00, 2,     1.81, 2, -999.000, 9, -999.000, 9, -999.000, 9,   -999.0, 9,   -999.0, 9, -999.0000, 9,   -999.00, -999.000, 9, -999.000,   -999.0, 9,   -999.0,  -999.00, 9,   -999.0,   2.5782, 27.7655,   2.7264, 2, 2002.4, 2, 212.33, 2, 0.23, 0.11, 0.01, 0.01, -999, 9,  -999.00, 9, -999, -999, 9, -999
49NZ20031106, A10, 74, 1, 17, 12041, 2, 20031127, 1, -29.8607, 0.5745, 3261,   2202.2, 2,   2.6278, 2,  34.8268, 2,  34.8268, 2,    212.4, 1,    220.9, 2,    50.81, 2,    25.60, 2,     0.00, 2,     1.74, 2, -999.000, 9, -999.000, 9, -999.000, 9,   -999.0, 9,   -999.0, 9, -999.0000, 9,   -999.00, -999.000, 9, -999.000,   -999.0, 9,   -999.0,  -999.00, 9,   -999.0,   2.4630, 27.7952,   2.6278, 2, 2202.6, 2, 219.69, 2, 0.23, 0.1, 0.01, 0.01, -999, 9,  -999.00, 9, -999, -999, 9, -999
49NZ20031106, A10, 74, 1, 16, 12040, 2, 20031127, 1, -29.8607, 0.5745, 3261,   2401.7, 2,   2.4860, 2,  34.8409, 2,  34.8405, 2,    217.9, 1,    226.4, 2,    52.02, 2,    25.03, 2,     0.00, 2,     1.70, 2, -999.000, 9, -999.000, 9, -999.000, 9,   -999.0, 9,   -999.0, 9, -999.0000, 9,   -999.00, -999.000, 9, -999.000,   -999.0, 9,   -999.0,  -999.00, 9,   -999.0,   2.3052, 27.8199,   2.4854, 2, 2402, 2, 225.79, 2, 0.23, 0.1, 0.01, 0.01, -999, 9,  -999.00, 9, -999, -999, 9, -999
49NZ20031106, A10, 74, 1, 11, 12035, 9, 20031127, 1, -29.8607, 0.5745, 3261,   2499.6, 2,   2.4524, 2,  34.8448, 2, -999.0000, 9,    219.6, 1,   -999.0, 9,  -999.00, 9,  -999.00, 9,  -999.00, 9,  -999.00, 9, -999.000, 9, -999.000, 9, -999.000, 9,   -999.0, 9,   -999.0, 9, -999.0000, 9,   -999.00, -999.000, 9, -999.000,   -999.0, 9,   -999.0,  -999.00, 9,   -999.0,   2.2630, 27.8269,   2.4523, 2, 2499.5, 2, 227.73, 2, -999, -999, -999, -999, -999, 9,  -999.00, 9, -999, -999, 9, -999
49NZ20031106, A10, 74, 1, 15, 12039, 2, 20031127, 1, -29.8607, 0.5745, 3261,   2601.1, 2,   2.4169, 2,  34.8488, 2,  34.8487, 2,    221.4, 1,    229.7, 2,    52.53, 2,    24.61, 2,     0.00, 2,     1.67, 2, -999.000, 9, -999.000, 9, -999.000, 9,   -999.0, 9,   -999.0, 9, -999.0000, 9,   -999.00, -999.000, 9, -999.000,   -999.0, 9,   -999.0,  -999.00, 9,   -999.0,   2.2185, 27.8336,   2.4169, 2, 2601.4, 2, 229.11, 2, 0.23, 0.1, 0.01, 0.01, -999, 9,  -999.00, 9, -999, -999, 9, -999
49NZ20031106, A10, 74, 1, 10, 12034, 9, 20031127, 1, -29.8607, 0.5745, 3261,   2701.6, 2,   2.3985, 2,  34.8511, 2, -999.0000, 9,    222.4, 1,   -999.0, 9,  -999.00, 9,  -999.00, 9,  -999.00, 9,  -999.00, 9, -999.000, 9, -999.000, 9, -999.000, 9,   -999.0, 9,   -999.0, 9, -999.0000, 9,   -999.00, -999.000, 9, -999.000,   -999.0, 9,   -999.0,  -999.00, 9,   -999.0,   2.1907, 27.8379,   2.3985, 2, 2701.4, 2, 230.44, 2, -999, -999, -999, -999, -999, 9,  -999.00, 9, -999, -999, 9, -999
49NZ20031106, A10, 74, 1, 14, 12038, 2, 20031127, 1, -29.8607, 0.5745, 3261,   2801.7, 2,   2.3826, 2,  34.8545, 2,  34.8545, 2,    223.4, 1,    231.5, 2,    52.62, 2,    24.33, 2,     0.00, 2,     1.65, 2, -999.000, 9, -999.000, 9, -999.000, 9,   -999.0, 9,   -999.0, 9, -999.0000, 9,   -999.00, -999.000, 9, -999.000,   -999.0, 9,   -999.0,  -999.00, 9,   -999.0,   2.1654, 27.8428,   2.3826, 2, 2801.5, 2, 231.54, 2, 0.23, 0.1, 0.01, 0.01, -999, 9,  -999.00, 9, -999, -999, 9, -999
49NZ20031106, A10, 74, 1, 9, 12033, 9, 20031127, 1, -29.8607, 0.5745, 3261,   2901.0, 2,   2.3666, 2,  34.8566, 2, -999.0000, 9,    224.5, 1,   -999.0, 9,  -999.00, 9,  -999.00, 9,  -999.00, 9,  -999.00, 9, -999.000, 9, -999.000, 9, -999.000, 9,   -999.0, 9,   -999.0, 9, -999.0000, 9,   -999.00, -999.000, 9, -999.000,   -999.0, 9,   -999.0,  -999.00, 9,   -999.0,   2.1399, 27.8467,   2.3666, 2, 2900.9, 2, 232.04, 2, -999, -999, -999, -999, -999, 9,  -999.00, 9, -999, -999, 9, -999
49NZ20031106, A10, 74, 1, 13, 12037, 2, 20031127, 1, -29.8607, 0.5745, 3261,   3001.9, 2,   2.3314, 2,  34.8605, 2,  34.8611, 2,    225.5, 1,    233.0, 2,    53.24, 2,    24.10, 2,     0.00, 2,     1.64, 2, -999.000, 9, -999.000, 9, -999.000, 9,   -999.0, 9,   -999.0, 9, -999.0000, 9,   -999.00, -999.000, 9, -999.000,   -999.0, 9,   -999.0,  -999.00, 9,   -999.0,   2.0953, 27.8535,   2.3313, 2, 3001.9, 2, 232.9, 2, 0.24, 0.1, 0.01, 0.01, -999, 9,  -999.00, 9, -999, -999, 9, -999
49NZ20031106, A10, 74, 1, 12, 12036, 2, 20031127, 1, -29.8607, 0.5745, 3261,   3306.1, 2,   2.2259, 2,  34.8682, 2,  34.8684, 2,    226.0, 1,    232.1, 2,    55.62, 2,    24.10, 2,     0.00, 2,     1.62, 2, -999.000, 9, -999.000, 9, -999.000, 9,   -999.0, 9,   -999.0, 9, -999.0000, 9,   -999.00, -999.000, 9, -999.000,   -999.0, 9,   -999.0,  -999.00, 9,   -999.0,   1.9610, 27.8705,   2.2260, 2, 3306.2, 2, 232.23, 2, 0.24, 0.1, 0.01, 0.01, -999, 9,  -999.00, 9, -999, -999, 9, -999