BOTTLE,20220818CCHSIOAMB
EXPOCODE,SECT_ID,STNNBR,CASTNO,SAMPNO,BTLNBR,BTLNBR_FLAG_W,DATE,TIME,LATITUDE,LONGITUDE,DEPTH,CTDPRS,CTDPRS_FLAG_W,CTDTMP,CTDTMP_FLAG_W,CTDSAL,CTDSAL_FLAG_W,SALNTY,SALNTY_FLAG_W,CTDOXY,CTDOXY_FLAG_W,OXYGEN,OXYGEN_FLAG_W,SILCAT,SILCAT_FLAG_W,NITRAT,NITRAT_FLAG_W,NITRIT,NITRIT_FLAG_W,PHSPHT,PHSPHT_FLAG_W,CFC-11,CFC-11_FLAG_W,CFC-12,CFC-12_FLAG_W,CFC113,CFC113_FLAG_W,TCARBN,TCARBN_FLAG_W,ALKALI,ALKALI_FLAG_W,PH_TOT,PH_TOT_FLAG_W,PH_TMP,TRITUM,TRITUM_FLAG_W,TRITER,DELC14,DELC14_FLAG_W,C14ERR,DELC13,DELC13_FLAG_W,C13ERR,THETA,SIG0,SBE35,SBE35_FLAG_W,DWNPRS,DWNPRS_FLAG_W,DWNOXY,DWNOXY_FLAG_W,SILUNC,NRAUNC,NRIUNC,PHPUNC,TOC,TOC_FLAG_W,CS-137,CS-137_FLAG_W,CS137ER,PLUTO,PLUTO_FLAG_W,PLUTOER
,,,,,,,,,,,METERS,DBAR,,ITS-90,,PSS-78,,PSS-78,,UMOL/KG,,UMOL/KG,,UMOL/KG,,UMOL/KG,,UMOL/KG,,UMOL/KG,,PMOL/KG,,PMOL/KG,,PMOL/KG,,UMOL/KG,,UMOL/KG,,,,DEG C,TU,,TU,/MILLE,,/MILLE,/MILLE,,/MILLE,DEG C,KG/M^3,ITS-90,,DBAR,,UMOL/KG,,UMOL/KG,UMOL/KG,UMOL/KG,UMOL/KG,UMOL/KG,,BQ/M^3,,BQ/M^3,MBQ/M^3,,MBQ/M^3
49NZ20031106, A10, 43, 1, 3, 12039, 2, 20031118, 1347, -30.0007, -22.4827, 4611,      5.0, 2,  19.8168, 2,  35.6845, 2, -999.0000, 9,    220.5, 1,   -999.0, 9,  -999.00, 9,  -999.00, 9,  -999.00, 9,  -999.00, 9, -999.000, 9, -999.000, 9, -999.000, 9,   -999.0, 9,   -999.0, 9, -999.0000, 9,   -999.00, -999.000, 9, -999.000,   -999.0, 9,   -999.0,  -999.00, 9,   -999.0,  19.8159, 25.3365,  19.8181, 2, 5, 2, 232.96, 2, -999, -999, -999, -999, -999, 9,  -999.00, 9, -999, -999, 9, -999
49NZ20031106, A10, 43, 1, 4, 12040, 2, 20031118, 1347, -30.0007, -22.4827, 4611,      5.1, 2,  19.7968, 2,  35.6860, 2, -999.0000, 9,    220.7, 1,   -999.0, 9,  -999.00, 9,  -999.00, 9,  -999.00, 9,  -999.00, 9, -999.000, 9, -999.000, 9, -999.000, 9,   -999.0, 9,   -999.0, 9, -999.0000, 9,   -999.00, -999.000, 9, -999.000,   -999.0, 9,   -999.0,  -999.00, 9,   -999.0,  19.7959, 25.3409,  19.7999, 2, 5.1, 2, 232.96, 2, -999, -999, -999, -999, -999, 9,  -999.00, 9, -999, -999, 9, -999
49NZ20031106, A10, 43, 1, 36, 12036, 2, 20031118, 1347, -30.0007, -22.4827, 4611,     10.4, 2,  19.5041, 2,  35.7547, 2,  35.7760, 3,    220.1, 1,    232.6, 2,     0.83, 2,     0.04, 2,     0.01, 2,     0.10, 2,    2.539, 2,    1.430, 2,    0.264, 4,   2062.1, 2,   2350.2, 2,    8.0084, 2,     25.00, -999.000, 9, -999.000,     75.8, 2,      4.0,     1.46, 2,      0.0,  19.5022, 25.4747,  19.5039, 2, 14, 2, 232.25, 2, 0.12, 0.03, 0.01, 0.02, -999, 1,  -999.00, 9, -999, -999, 9, -999
49NZ20031106, A10, 43, 1, 35, 12035, 2, 20031118, 1347, -30.0007, -22.4827, 4611,     50.8, 2,  18.8014, 2,  35.8287, 2,  35.8287, 2,    223.3, 1,    235.6, 2,     0.92, 2,     0.05, 2,     0.00, 2,     0.12, 2,    2.544, 2,    1.433, 2,    0.303, 4,   2064.3, 6,   2353.9, 2,    8.0103, 2,     25.00, -999.000, 9, -999.000,     89.4, 2,      3.8,     1.51, 2,      0.0,  18.7924, 25.7099,  18.8007, 2, 49.2, 2, 235.52, 2, 0.12, 0.03, 0.01, 0.02, -999, 1,  -999.00, 9, -999, -999, 9, -999
49NZ20031106, A10, 43, 1, 34, 12034, 2, 20031118, 1347, -30.0007, -22.4827, 4611,     99.8, 2,  17.6704, 2,  35.7172, 2,  35.7197, 2,    226.0, 1,    238.1, 2,     0.90, 2,     0.03, 2,     0.00, 2,     0.13, 2,    2.683, 2,    1.480, 2,    0.329, 4,   2064.7, 2,   2347.1, 6,    8.0017, 2,     25.00, -999.000, 9, -999.000,     85.5, 2,      3.8,     1.48, 2,      0.0,  17.6534, 25.9089,  17.6691, 2, 101.1, 2, 237.54, 2, 0.12, 0.03, 0.01, 0.02, -999, 1,  -999.00, 9, -999, -999, 9, -999
49NZ20031106, A10, 43, 1, 2, 12038, 2, 20031118, 1347, -30.0007, -22.4827, 4611,    134.3, 2,  16.4941, 2,  35.5946, 2, -999.0000, 9,    221.7, 1,   -999.0, 9,  -999.00, 9,  -999.00, 9,  -999.00, 9,  -999.00, 9, -999.000, 9, -999.000, 9, -999.000, 9,   -999.0, 9,   -999.0, 9, -999.0000, 9,   -999.00, -999.000, 9, -999.000,   -999.0, 9,   -999.0,  -999.00, 9,   -999.0,  16.4723, 26.0979,  16.4818, 2, 132.6, 2, 226.51, 2, -999, -999, -999, -999, -999, 9,  -999.00, 9, -999, -999, 9, -999
49NZ20031106, A10, 43, 1, 33, 12033, 2, 20031118, 1347, -30.0007, -22.4827, 4611,    150.7, 2,  15.9320, 2,  35.5372, 2,  35.5436, 3,    212.9, 1,    223.9, 2,     1.31, 2,     1.67, 2,     0.06, 2,     0.32, 2,    2.871, 2,    1.628, 2,    0.225, 4,   2086.7, 2,   2337.3, 2,    7.9479, 6,     25.00, -999.000, 9, -999.000,     89.1, 2,      7.0,     1.28, 2,      0.0,  15.9081, 26.1844,  15.9244, 2, 151.8, 2, 221.98, 2, 0.12, 0.04, 0.01, 0.01, -999, 1,  -999.00, 9, -999, -999, 9, -999
49NZ20031106, A10, 43, 1, 32, 12032, 2, 20031118, 1347, -30.0007, -22.4827, 4611,    200.5, 2,  14.5340, 2,  35.3818, 2,  35.3821, 2,    208.4, 1,    218.6, 2,     1.94, 2,     5.22, 2,     0.02, 2,     0.51, 2,    3.010, 2,    1.665, 2,    0.079, 4,   2098.1, 2,   2324.5, 2,    7.9094, 2,     25.00, -999.000, 9, -999.000,     86.9, 2,      3.8,     1.11, 2,      0.0,  14.5042, 26.3758,  14.5339, 2, 202, 2, 219.69, 2, 0.12, 0.05, 0.01, 0.01, -999, 1,  -999.00, 9, -999, -999, 9, -999
49NZ20031106, A10, 43, 1, 31, 12031, 2, 20031118, 1347, -30.0007, -22.4827, 4611,    249.4, 2,  13.9556, 2,  35.3205, 2,  35.3211, 2,    207.8, 1,    218.1, 2,     2.34, 2,     6.67, 2,     0.02, 2,     0.59, 2,    3.067, 2,    1.704, 2,    0.065, 4,   2102.6, 2,   2320.2, 2,    7.8948, 2,     25.00, -999.000, 9, -999.000,     79.9, 2,      3.9,     1.05, 2,      0.0,  13.9195, 26.4528,  13.9562, 2, 249.1, 2, 218.05, 2, 0.12, 0.05, 0.01, 0.01, -999, 1,  -999.00, 9, -999, -999, 9, -999
49NZ20031106, A10, 43, 1, 30, 12030, 2, 20031118, 1347, -30.0007, -22.4827, 4611,    300.2, 2,  13.3121, 2,  35.2594, 2,  35.2632, 2,    207.6, 1,    217.3, 2,     2.53, 2,     8.28, 2,     0.01, 2,     0.67, 2,    3.122, 2,    1.724, 2,    0.071, 4,   2107.4, 2,   2320.9, 2,    7.8801, 2,     25.00, -999.000, 9, -999.000,     75.7, 2,      3.8,     0.89, 3,      0.0,  13.2699, 26.5387,  13.3192, 2, 301.6, 2, 217.61, 2, 0.12, 0.06, 0.01, 0.01, -999, 1,  -999.00, 9, -999, -999, 9, -999
49NZ20031106, A10, 43, 1, 29, 12029, 2, 20031118, 1347, -30.0007, -22.4827, 4611,    401.0, 2,  11.7043, 2,  35.0206, 2,  35.0199, 2,    203.8, 1,    213.5, 2,     4.01, 2,    12.47, 2,     0.00, 2,     0.93, 2,    3.165, 2,    1.691, 2,    0.080, 4,   2121.3, 2,   2306.0, 2,    7.8327, 2,     25.00, -999.000, 9, -999.000,     68.4, 2,      3.8,     1.16, 2,      0.0,  11.6524, 26.6713,  11.7039, 2, 402.3, 2, 212.95, 2, 0.13, 0.07, 0.01, 0.01, -999, 1,  -999.00, 9, -999, -999, 9, -999
49NZ20031106, A10, 43, 1, 28, 12028, 2, 20031118, 1347, -30.0007, -22.4827, 4611,    501.4, 2,   9.5653, 2,  34.7535, 2,  34.7533, 2,    195.6, 1,    204.0, 2,     7.90, 2,    18.65, 2,     0.00, 2,     1.32, 2,    2.987, 2,    1.530, 2,    0.081, 4,   2141.3, 2,   2293.5, 2,    7.7617, 2,     25.00, -999.000, 9, -999.000,     48.4, 2,      3.8,     1.09, 2,      0.0,   9.5080, 26.8423,   9.5650, 2, 507.3, 2, 205.09, 2, 0.14, 0.09, 0.01, 0.01, -999, 1,  -999.00, 9, -999, -999, 9, -999
49NZ20031106, A10, 43, 1, 27, 12027, 2, 20031118, 1347, -30.0007, -22.4827, 4611,    600.0, 2,   7.3626, 2,  34.5016, 2,  34.5022, 2,    206.9, 1,    215.9, 2,    10.46, 2,    23.09, 2,     0.01, 2,     1.59, 2,    3.144, 2,    1.479, 2,    0.144, 4,   2151.9, 2,   2284.8, 2,    7.7198, 2,     25.00, -999.000, 9, -999.000,     16.7, 2,      3.7,     1.12, 2,      0.0,   7.3036, 26.9837,   7.3640, 2, 605.9, 2, 210.54, 2, 0.14, 0.1, 0.01, 0.01, -999, 1,  -999.00, 9, -999, -999, 9, -999
49NZ20031106, A10, 43, 1, 26, 12026, 2, 20031118, 1347, -30.0007, -22.4827, 4611,    701.7, 2,   5.7777, 2,  34.3486, 2,  34.3470, 2,    218.3, 1,    228.6, 2,    13.73, 2,    25.96, 2,     0.01, 2,     1.78, 2,    3.405, 2,    1.578, 2,    0.184, 4,   2159.5, 6,   2281.3, 2,    7.6936, 2,     25.00, -999.000, 9, -999.000,     -3.9, 2,      3.7,     1.15, 2,      0.0,   5.7168, 27.0726,   5.7786, 2, 703.7, 2, 228.64, 2, 0.15, 0.11, 0.01, 0.01, -999, 1,  -999.00, 9, -999, -999, 9, -999
49NZ20031106, A10, 43, 1, 25, 12025, 2, 20031118, 1347, -30.0007, -22.4827, 4611,    800.6, 2,   4.9503, 2,  34.3086, 2,  34.3084, 2,    217.5, 1,    227.3, 2,    18.81, 2,    28.02, 2,     0.01, 2,     1.93, 2,    2.981, 2,    1.361, 2,    0.155, 4,   2170.9, 2,   2286.2, 6,    7.6733, 2,     25.00, -999.000, 9, -999.000,    -27.8, 2,      3.6,     1.10, 2,      0.0,   4.8853, 27.14,   4.9512, 2, 802.1, 2, 229.02, 2, 0.16, 0.11, 0.01, 0.01, -999, 1,  -999.00, 9, -999, -999, 9, -999
49NZ20031106, A10, 43, 1, 24, 12024, 2, 20031118, 1347, -30.0007, -22.4827, 4611,    901.6, 2,   4.2467, 2,  34.3039, 2,  34.3034, 2,    211.7, 1,    221.3, 2,    26.01, 2,    29.89, 2,     0.01, 2,     2.04, 2,    2.358, 2,    1.063, 2,    0.106, 4,   2184.8, 2,   2291.0, 2,    7.6525, 6,     25.00, -999.000, 9, -999.000,    -54.9, 2,      4.9,     0.96, 2,      0.0,   4.1777, 27.214,   4.2482, 2, 902.4, 2, 221.92, 2, 0.18, 0.12, 0.01, 0.02, -999, 1,  -999.00, 9, -999, -999, 9, -999
49NZ20031106, A10, 43, 1, 23, 12023, 2, 20031118, 1347, -30.0007, -22.4827, 4611,   1001.7, 2,   3.7397, 2,  34.3252, 2,  34.3252, 2,    203.9, 1,    213.3, 2,    33.51, 2,    31.27, 2,     0.01, 2,     2.15, 2,    1.786, 6,    0.799, 6,    0.077, 4,   2196.8, 2,   2297.0, 2,    7.6346, 2,     25.00, -999.000, 9, -999.000,    -73.3, 2,      3.5,     0.86, 2,      0.0,   3.6662, 27.2834,   3.7406, 2, 999.3, 2, 213.19, 2, 0.19, 0.12, 0.01, 0.02, -999, 1,  -999.00, 9, -999, -999, 9, -999
49NZ20031106, A10, 43, 1, 5, 12041, 9, 20031118, 1347, -30.0007, -22.4827, 4611,   1001.9, 2,   3.7352, 2,  34.3255, 2, -999.0000, 9,    203.9, 1,   -999.0, 9,  -999.00, 9,  -999.00, 9,  -999.00, 9,  -999.00, 9, -999.000, 9, -999.000, 9, -999.000, 9,   -999.0, 9,   -999.0, 9, -999.0000, 9,   -999.00, -999.000, 9, -999.000,   -999.0, 9,   -999.0,  -999.00, 9,   -999.0,   3.6617, 27.2844,   3.7354, 2, 999.7, 2, 213.13, 2, -999, -999, -999, -999, -999, 9,  -999.00, 9, -999, -999, 9, -999
49NZ20031106, A10, 43, 1, 22, 12022, 2, 20031118, 1347, -30.0007, -22.4827, 4611,   1199.7, 2,   3.1592, 2,  34.4365, 2,  34.4361, 2,    185.7, 1,    194.3, 2,    48.01, 2,    32.70, 2,     0.00, 2,     2.25, 2,    0.769, 2,    0.349, 2,    0.030, 4,   2219.9, 2,   2312.7, 2,    7.6097, 2,     25.00, -999.000, 9, -999.000,   -100.1, 2,      3.3,     0.74, 2,      0.0,   3.0745, 27.4287,   3.1592, 2, 1199.4, 2, 194.81, 2, 0.22, 0.12, 0.01, 0.02, -999, 1,  -999.00, 9, -999, -999, 9, -999
49NZ20031106, A10, 43, 1, 21, 12015, 2, 20031118, 1347, -30.0007, -22.4827, 4611,   1400.5, 2,   2.9447, 2,  34.5612, 2,  34.5620, 2,    180.6, 1,    188.6, 2,    54.59, 2,    32.00, 2,     0.00, 2,     2.20, 2,    0.291, 2,    0.127, 2,    0.006, 4,   2228.0, 2,   2321.0, 2,    7.6092, 2,     25.00, -999.000, 9, -999.000,   -126.9, 6,      4.5,     0.65, 6,      0.0,   2.8457, 27.5495,   2.9445, 2, 1400.1, 2, 189.05, 2, 0.24, 0.12, 0.01, 0.02, -999, 1,  -999.00, 9, -999, -999, 9, -999
49NZ20031106, A10, 43, 1, 1, 12037, 2, 20031118, 1347, -30.0007, -22.4827, 4611,   1599.9, 2,   2.8552, 2,  34.6772, 2,  34.6772, 2,    186.7, 1,    195.2, 2,    54.70, 2,    30.01, 2,     0.00, 2,     2.06, 2,    0.095, 2,    0.045, 2,    0.000, 4,   2226.5, 2,   2327.3, 2,    7.6356, 2,     25.00, -999.000, 9, -999.000,   -126.7, 2,      3.3,     0.69, 2,      0.0,   2.7405, 27.6513,   2.8556, 2, 1601, 2, 194.75, 2, 0.24, 0.12, 0.01, 0.02, -999, 1,  -999.00, 9, -999, -999, 9, -999
49NZ20031106, A10, 43, 1, 19, 12019, 2, 20031118, 1347, -30.0007, -22.4827, 4611,   1800.5, 2,   2.7659, 2,  34.7519, 2,  34.7525, 2,    197.7, 1,    206.9, 2,    52.65, 2,    27.91, 2,     0.00, 2,     1.91, 2,    0.037, 2,    0.019, 2,    0.000, 4,   2215.9, 2,   2327.5, 2,    7.6580, 2,     25.00, -999.000, 9, -999.000,   -128.0, 2,      3.4,     0.67, 2,      0.0,   2.6350, 27.7206,   2.7658, 2, 1801, 2, 206.02, 2, 0.23, 0.11, 0.01, 0.01, -999, 1,  -999.00, 9, -999, -999, 9, -999
49NZ20031106, A10, 43, 1, 18, 12018, 2, 20031118, 1347, -30.0007, -22.4827, 4611,   2003.3, 2,   2.7092, 2,  34.8026, 2,  34.8017, 2,    208.7, 1,    218.5, 2,    49.51, 2,    26.19, 2,     0.01, 2,     1.78, 2,    0.012, 2,    0.003, 2,    0.000, 4,   2208.3, 2,   2326.6, 2,    7.6815, 2,     25.00, -999.000, 9, -999.000,   -119.8, 2,      3.4,     0.73, 2,      0.0,   2.5612, 27.7677,   2.7092, 2, 2003.7, 2, 217.57, 2, 0.23, 0.11, 0.01, 0.01, -999, 1,  -999.00, 9, -999, -999, 9, -999
49NZ20031106, A10, 43, 1, 17, 12017, 2, 20031118, 1347, -30.0007, -22.4827, 4611,   2200.4, 2,   2.7025, 2,  34.8403, 2,  34.8410, 2,    218.0, 1,    228.2, 2,    45.65, 2,    24.58, 2,     0.01, 2,     1.68, 2,    0.017, 2,    0.009, 2,    0.000, 4,   2199.8, 2,   2327.2, 2,    7.7001, 2,     25.00, -999.000, 9, -999.000,   -108.8, 2,      3.2,     0.79, 2,      0.0,   2.5366, 27.7999,   2.7025, 2, 2200.6, 2, 227.69, 2, 0.22, 0.1, 0.01, 0.01, -999, 1,  -999.00, 9, -999, -999, 9, -999
49NZ20031106, A10, 43, 1, 16, 12016, 2, 20031118, 1347, -30.0007, -22.4827, 4611,   2399.9, 2,   2.7074, 2,  34.8634, 2,  34.8640, 2,    224.2, 1,    234.9, 2,    42.71, 2,    23.56, 2,     0.01, 2,     1.60, 2,   -0.002, 2,    0.002, 2,    0.000, 4,   2196.5, 6,   2325.4, 2,    7.7124, 2,     25.00, -999.000, 9, -999.000,   -119.9, 2,      3.3,     0.84, 2,      0.0,   2.5227, 27.8195,   2.7075, 2, 2400.1, 2, 234.42, 2, 0.21, 0.1, 0.01, 0.01, -999, 1,  -999.00, 9, -999, -999, 9, -999
49NZ20031106, A10, 43, 1, 15, 12012, 2, 20031118, 1347, -30.0007, -22.4827, 4611,   2600.8, 2,   2.7384, 2,  34.8867, 2,  34.8869, 4,    230.4, 1,    241.5, 2,    38.85, 2,    22.48, 2,     0.00, 2,     1.53, 2,    0.002, 2,    0.000, 2,    0.000, 4,   2191.1, 2,   2342.7, 4,    7.7248, 2,     25.00, -999.000, 9, -999.000,   -105.0, 2,      3.5,     0.94, 2,      0.0,   2.5337, 27.8374,   2.7383, 2, 2600.6, 2, 241.24, 2, 0.2, 0.1, 0.01, 0.01, -999, 1,  -999.00, 9, -999, -999, 9, -999
49NZ20031106, A10, 43, 1, 14, 12014, 2, 20031118, 1347, -30.0007, -22.4827, 4611,   2799.6, 2,   2.7331, 2,  34.9017, 2,  34.9021, 2,    235.1, 1,    246.4, 2,    36.48, 2,    21.73, 2,     0.01, 2,     1.47, 2,   -0.006, 2,    0.000, 2,    0.000, 4,   2187.3, 2,   2328.0, 2,    7.7338, 6,     25.00, -999.000, 9, -999.000,   -101.5, 2,      3.4,     0.97, 2,      0.0,   2.5087, 27.8514,   2.7331, 2, 2799.4, 2, 246.34, 2, 0.2, 0.09, 0.01, 0.01, -999, 1,  -999.00, 9, -999, -999, 9, -999
49NZ20031106, A10, 43, 1, 13, 12013, 2, 20031118, 1347, -30.0007, -22.4827, 4611,   3000.3, 2,   2.6766, 2,  34.9053, 2,  34.9056, 2,    237.5, 1,    249.0, 2,    36.60, 2,    21.47, 2,     0.01, 2,     1.45, 2,    0.002, 2,   -0.001, 2,    0.000, 4,   2186.4, 2,   2327.2, 2,    7.7375, 2,     25.00, -999.000, 9, -999.000,   -103.9, 6,      8.6,     0.94, 6,      0.0,   2.4330, 27.8608,   2.6771, 2, 3000.2, 2, 248.77, 2, 0.2, 0.09, 0.01, 0.01, -999, 1,  -999.00, 9, -999, -999, 9, -999
49NZ20031106, A10, 43, 1, 12, 12048, 2, 20031118, 1347, -30.0007, -22.4827, 4611,   3250.4, 2,   2.5120, 2,  34.8950, 2,  34.8947, 2,    237.5, 1,    248.9, 2,    40.98, 2,    21.82, 2,     0.01, 2,     1.48, 2,   -0.002, 2,    0.000, 2,    0.000, 4,   2187.6, 2,   2328.9, 2,    7.7344, 2,     25.00, -999.000, 9, -999.000,   -112.9, 2,      3.4,     0.55, 4,      0.0,   2.2461, 27.8682,   2.5128, 2, 3250.6, 2, 249, 2, 0.21, 0.09, 0.01, 0.01, -999, 1,  -999.00, 9, -999, -999, 9, -999
49NZ20031106, A10, 43, 1, 11, 12047, 2, 20031118, 1347, -30.0007, -22.4827, 4611,   3499.8, 2,   2.2320, 2,  34.8694, 2,  34.8691, 2,    235.0, 1,    245.6, 2,    50.91, 2,    23.12, 2,     0.01, 2,     1.57, 2,    0.000, 2,   -0.002, 2,    0.000, 4,   2197.9, 2,   2334.6, 2,    7.7228, 2,     25.00, -999.000, 9, -999.000,   -116.3, 2,      3.2,     0.95, 2,      0.0,   1.9465, 27.8722,   2.2321, 2, 3499.8, 2, 245.85, 2, 0.23, 0.1, 0.01, 0.01, -999, 1,  -999.00, 9, -999, -999, 9, -999
49NZ20031106, A10, 43, 1, 10, 12046, 2, 20031118, 1347, -30.0007, -22.4827, 4611,   3752.4, 2,   1.8064, 2,  34.8255, 2,  34.8258, 2,    228.8, 1,    238.5, 2,    67.57, 2,    25.31, 2,     0.00, 2,     1.73, 2,    0.007, 2,    0.002, 2,    0.000, 4,   2216.2, 2,   2345.6, 2,    7.7042, 2,     25.00, -999.000, 9, -999.000,   -128.3, 2,      3.1,     0.86, 2,      0.0,   1.5050, 27.8709,   1.8061, 2, 3752.1, 2, 238.52, 2, 0.27, 0.1, 0.01, 0.01, -999, 1,  -999.00, 9, -999, -999, 9, -999
49NZ20031106, A10, 43, 1, 9, 12045, 2, 20031118, 1347, -30.0007, -22.4827, 4611,   3999.6, 2,   1.4957, 2,  34.7913, 2,  34.7912, 2,    223.8, 1,    232.7, 2,    80.77, 2,    27.20, 2,     0.00, 2,     1.86, 2,    0.013, 4,    0.007, 4,    0.000, 4,   2228.0, 2,   2348.5, 2,    7.6824, 2,     25.00, -999.000, 9, -999.000,   -134.4, 2,      3.4,     0.75, 2,      0.0,   1.1763, 27.8668,   1.4959, 2, 3999.6, 2, 232.54, 2, 0.3, 0.11, 0.01, 0.01, -999, 1,  -999.00, 9, -999, -999, 9, -999
49NZ20031106, A10, 43, 1, 8, 12044, 2, 20031118, 1347, -30.0007, -22.4827, 4611,   4249.5, 2,   1.2987, 2,  34.7674, 2,  34.7676, 2,    220.5, 1,    228.0, 2,    90.04, 2,    28.45, 2,     0.01, 2,     1.95, 2,    0.029, 2,    0.010, 2,    0.000, 4,   2239.2, 6,   2354.3, 2,    7.6702, 2,     25.00, -999.000, 9, -999.000,   -134.5, 2,      3.3,     0.68, 2,      0.0,   0.9577, 27.8625,   1.2987, 2, 4249.5, 2, 227.98, 2, 0.32, 0.11, 0.01, 0.01, -999, 1,  -999.00, 9, -999, -999, 9, -999
49NZ20031106, A10, 43, 1, 20, 12020, 2, 20031118, 1347, -30.0007, -22.4827, 4611,   4500.2, 2,   1.2366, 2,  34.7573, 2,  34.7575, 2,    220.0, 1,    226.3, 2,    94.28, 2,    29.02, 2,     0.00, 2,     1.99, 2,    0.044, 2,    0.021, 2,    0.000, 4,   2238.7, 2,   2359.0, 2,    7.6635, 2,     25.00, -999.000, 9, -999.000,   -145.2, 2,      3.5,     0.65, 2,      0.0,   0.8693, 27.8602,   1.2367, 2, 4500.3, 2, 226.27, 2, 0.33, 0.11, 0.01, 0.02, -999, 9,  -999.00, 9, -999, -999, 9, -999
49NZ20031106, A10, 43, 1, 7, 12043, 2, 20031118, 1347, -30.0007, -22.4827, 4611,   4500.9, 2,   1.2367, 2,  34.7573, 2,  34.7573, 2,    220.0, 1,    226.4, 2,    94.05, 2,    28.99, 2,     0.00, 2,     2.00, 2,    0.040, 2,    0.021, 2,    0.000, 4,   2240.6, 2,   2357.4, 6,    7.6648, 2,     25.00, -999.000, 9, -999.000,   -147.9, 2,      3.4,     0.68, 2,      0.0,   0.8693, 27.8602,   1.2368, 2, 4501, 2, 226.26, 2, 0.33, 0.11, 0.01, 0.02, -999, 1,  -999.00, 9, -999, -999, 9, -999
49NZ20031106, A10, 43, 1, 6, 12042, 2, 20031118, 1347, -30.0007, -22.4827, 4611,   4660.0, 2,   1.2173, 2,  34.7544, 2,  34.7544, 2,    221.4, 1,    225.7, 2,    95.00, 2,    29.09, 2,     0.00, 2,     2.00, 2,    0.041, 2,    0.019, 2,    0.000, 4,   2242.8, 2,   2358.2, 2,    7.6647, 6,     25.00, -999.000, 9, -999.000,   -157.1, 2,      3.2,    -0.06, 4,      0.0,   0.8323, 27.8603,   1.2173, 2, 4660, 2, 225.78, 2, 0.33, 0.11, 0.01, 0.02, -999, 1,  -999.00, 9, -999, -999, 9, -999