BOTTLE,20220818CCHSIOAMB
EXPOCODE,SECT_ID,STNNBR,CASTNO,SAMPNO,BTLNBR,BTLNBR_FLAG_W,DATE,TIME,LATITUDE,LONGITUDE,DEPTH,CTDPRS,CTDPRS_FLAG_W,CTDTMP,CTDTMP_FLAG_W,CTDSAL,CTDSAL_FLAG_W,SALNTY,SALNTY_FLAG_W,CTDOXY,CTDOXY_FLAG_W,OXYGEN,OXYGEN_FLAG_W,SILCAT,SILCAT_FLAG_W,NITRAT,NITRAT_FLAG_W,NITRIT,NITRIT_FLAG_W,PHSPHT,PHSPHT_FLAG_W,CFC-11,CFC-11_FLAG_W,CFC-12,CFC-12_FLAG_W,CFC113,CFC113_FLAG_W,TCARBN,TCARBN_FLAG_W,ALKALI,ALKALI_FLAG_W,PH_TOT,PH_TOT_FLAG_W,PH_TMP,TRITUM,TRITUM_FLAG_W,TRITER,DELC14,DELC14_FLAG_W,C14ERR,DELC13,DELC13_FLAG_W,C13ERR,THETA,SIG0,SBE35,SBE35_FLAG_W,DWNPRS,DWNPRS_FLAG_W,DWNOXY,DWNOXY_FLAG_W,SILUNC,NRAUNC,NRIUNC,PHPUNC,TOC,TOC_FLAG_W,CS-137,CS-137_FLAG_W,CS137ER,PLUTO,PLUTO_FLAG_W,PLUTOER
,,,,,,,,,,,METERS,DBAR,,ITS-90,,PSS-78,,PSS-78,,UMOL/KG,,UMOL/KG,,UMOL/KG,,UMOL/KG,,UMOL/KG,,UMOL/KG,,PMOL/KG,,PMOL/KG,,PMOL/KG,,UMOL/KG,,UMOL/KG,,,,DEG C,TU,,TU,/MILLE,,/MILLE,/MILLE,,/MILLE,DEG C,KG/M^3,ITS-90,,DBAR,,UMOL/KG,,UMOL/KG,UMOL/KG,UMOL/KG,UMOL/KG,UMOL/KG,,BQ/M^3,,BQ/M^3,MBQ/M^3,,MBQ/M^3
49NZ20031106, A10, 45, 1, 36, 12036, 2, 20031119, 313, -30.0068, -20.7733, 4823,     10.4, 2,  20.5675, 2,  36.0466, 2,  36.0483, 2,    214.9, 1,    227.2, 2,     1.19, 2,     0.06, 2,    -0.02, 2,     0.10, 2,    2.374, 2,    1.395, 2,    0.310, 4,   2066.3, 2,   2366.8, 2,    8.0245, 2,     25.00, -999.000, 9, -999.000,   -999.0, 9,   -999.0,  -999.00, 9,   -999.0,  20.5655, 25.411,  20.5675, 2, 11.5, 2, 227.48, 2, 0.12, 0.03, 0.01, 0.02, -999, 9,  -999.00, 9, -999, -999, 9, -999
49NZ20031106, A10, 45, 1, 5, 12041, 9, 20031119, 313, -30.0068, -20.7733, 4823,     10.7, 2,  20.5668, 2,  36.0464, 2, -999.0000, 9,    214.8, 1,   -999.0, 9,  -999.00, 9,  -999.00, 9,  -999.00, 9,  -999.00, 9, -999.000, 9, -999.000, 9, -999.000, 9,   -999.0, 9,   -999.0, 9, -999.0000, 9,   -999.00, -999.000, 9, -999.000,   -999.0, 9,   -999.0,  -999.00, 9,   -999.0,  20.5648, 25.4108,  20.5669, 2, 11.8, 2, 227.32, 2, -999, -999, -999, -999, -999, 9,  -999.00, 9, -999, -999, 9, -999
49NZ20031106, A10, 45, 1, 35, 12035, 2, 20031119, 313, -30.0068, -20.7733, 4823,     50.4, 2,  20.3400, 2,  36.1464, 2,  36.1507, 2,    216.4, 1,    228.8, 2,     1.23, 2,     0.03, 2,    -0.02, 2,     0.11, 2,    2.369, 2,    1.380, 2,    0.323, 4,   2069.0, 6,   2371.6, 2,    8.0301, 2,     25.00, -999.000, 9, -999.000,   -999.0, 9,   -999.0,  -999.00, 9,   -999.0,  20.3305, 25.5503,  20.3390, 2, 49.6, 2, 228.72, 2, 0.12, 0.03, 0.01, 0.02, -999, 9,  -999.00, 9, -999, -999, 9, -999
49NZ20031106, A10, 45, 1, 34, 12034, 2, 20031119, 313, -30.0068, -20.7733, 4823,     99.7, 2,  18.9730, 2,  35.9396, 2,  35.9394, 2,    221.6, 1,    234.0, 2,     1.17, 2,     0.03, 2,    -0.02, 2,     0.11, 2,    2.524, 2,    1.431, 2,    0.384, 4,   2063.8, 2,   2360.1, 6,    8.0204, 2,     25.00, -999.000, 9, -999.000,   -999.0, 9,   -999.0,  -999.00, 9,   -999.0,  18.9552, 25.7528,  18.9710, 2, 97.5, 2, 234.23, 2, 0.12, 0.03, 0.01, 0.02, -999, 9,  -999.00, 9, -999, -999, 9, -999
49NZ20031106, A10, 45, 1, 33, 12033, 2, 20031119, 313, -30.0068, -20.7733, 4823,    150.9, 2,  16.9195, 2,  35.7032, 2,  35.7095, 2,    211.7, 1,    222.9, 2,     1.52, 2,     0.44, 2,     0.04, 2,     0.25, 2,    2.784, 2,    1.554, 2,    0.335, 4,   2086.9, 2,   2355.0, 2,    7.9628, 6,     25.00, -999.000, 9, -999.000,   -999.0, 9,   -999.0,  -999.00, 9,   -999.0,  16.8946, 26.0815,  16.9139, 2, 150.6, 2, 220.47, 2, 0.12, 0.03, 0.01, 0.01, -999, 9,  -999.00, 9, -999, -999, 9, -999
49NZ20031106, A10, 45, 1, 32, 12032, 2, 20031119, 313, -30.0068, -20.7733, 4823,    200.9, 2,  15.4541, 2,  35.4926, 2,  35.4921, 2,    208.2, 1,    218.8, 2,     1.85, 2,     3.32, 2,     0.00, 2,     0.40, 2,    2.962, 2,    1.639, 2,    0.138, 4,   2092.4, 2,   2330.1, 2,    7.9304, 2,     25.00, -999.000, 9, -999.000,   -999.0, 9,   -999.0,  -999.00, 9,   -999.0,  15.4229, 26.2585,  15.4537, 2, 197.7, 2, 218.31, 2, 0.12, 0.04, 0.01, 0.01, -999, 9,  -999.00, 9, -999, -999, 9, -999
49NZ20031106, A10, 45, 1, 31, 12031, 2, 20031119, 313, -30.0068, -20.7733, 4823,    249.4, 2,  14.3174, 2,  35.3575, 2,  35.3562, 2,    208.3, 1,    218.5, 2,     2.27, 2,     5.81, 2,    -0.01, 2,     0.52, 2,    3.136, 6,    1.697, 6,    0.097, 4,   2098.6, 2,   2321.0, 2,    7.9055, 2,     25.00, -999.000, 9, -999.000,   -999.0, 9,   -999.0,  -999.00, 9,   -999.0,  14.2806, 26.4046,  14.3167, 2, 247.7, 2, 218.5, 2, 0.12, 0.05, 0.01, 0.01, -999, 9,  -999.00, 9, -999, -999, 9, -999
49NZ20031106, A10, 45, 1, 30, 12030, 2, 20031119, 313, -30.0068, -20.7733, 4823,    302.0, 2,  13.3649, 2,  35.2364, 2,  35.2354, 2,    206.3, 1,    216.5, 2,     2.89, 2,     8.25, 2,    -0.02, 2,     0.67, 2,    3.236, 2,    1.699, 2,    0.075, 4,   2109.3, 2,   2314.3, 2,    7.8786, 2,     25.00, -999.000, 9, -999.000,   -999.0, 9,   -999.0,  -999.00, 9,   -999.0,  13.3223, 26.5106,  13.3661, 2, 301.6, 2, 216.15, 2, 0.13, 0.06, 0.01, 0.01, -999, 9,  -999.00, 9, -999, -999, 9, -999
49NZ20031106, A10, 45, 1, 29, 12029, 2, 20031119, 313, -30.0068, -20.7733, 4823,    399.7, 2,  11.8343, 2,  35.0357, 2,  35.0343, 2,    202.1, 1,    211.5, 2,     4.39, 2,    12.46, 2,    -0.02, 2,     0.92, 2,    3.247, 2,    1.649, 2,    0.077, 4,   2121.9, 2,   2306.9, 2,    7.8323, 2,     25.00, -999.000, 9, -999.000,   -999.0, 9,   -999.0,  -999.00, 9,   -999.0,  11.7822, 26.6581,  11.8343, 2, 400, 2, 211.25, 2, 0.13, 0.07, 0.01, 0.01, -999, 9,  -999.00, 9, -999, -999, 9, -999
49NZ20031106, A10, 45, 1, 28, 12028, 2, 20031119, 313, -30.0068, -20.7733, 4823,    500.4, 2,  10.0129, 2,  34.8067, 2,  34.8060, 2,    196.7, 1,    205.6, 2,     7.22, 2,    17.48, 2,    -0.02, 2,     1.24, 2,    3.165, 2,    1.559, 2,    0.093, 4,   2137.3, 2,   2299.8, 2,    7.7764, 2,     25.00, -999.000, 9, -999.000,   -999.0, 9,   -999.0,  -999.00, 9,   -999.0,   9.9540, 26.8084,  10.0084, 2, 501.1, 2, 205.99, 2, 0.13, 0.08, 0.01, 0.01, -999, 9,  -999.00, 9, -999, -999, 9, -999
49NZ20031106, A10, 45, 1, 27, 12027, 2, 20031119, 313, -30.0068, -20.7733, 4823,    598.7, 2,   7.9534, 2,  34.5772, 2,  34.5759, 2,    196.6, 1,    205.0, 2,    11.29, 2,    22.76, 2,    -0.02, 2,     1.57, 2,    3.015, 2,    1.427, 2,    0.135, 4,   2155.1, 2,   2288.6, 2,    7.7199, 2,     25.00, -999.000, 9, -999.000,   -999.0, 9,   -999.0,  -999.00, 9,   -999.0,   7.8918, 26.9573,   7.9540, 2, 601.1, 2, 204.95, 2, 0.14, 0.1, 0.01, 0.01, -999, 9,  -999.00, 9, -999, -999, 9, -999
49NZ20031106, A10, 45, 1, 26, 12026, 2, 20031119, 313, -30.0068, -20.7733, 4823,    699.2, 2,   6.3218, 2,  34.4177, 2,  34.4173, 2,    205.8, 1,    214.9, 2,    14.81, 2,    25.95, 2,    -0.02, 2,     1.78, 2,    3.038, 2,    1.405, 2,    0.137, 4,   2163.1, 6,   2285.4, 2,    7.6886, 2,     25.00, -999.000, 9, -999.000,   -999.0, 9,   -999.0,  -999.00, 9,   -999.0,   6.2581, 27.059,   6.3223, 2, 701.2, 2, 213.1, 2, 0.15, 0.11, 0.01, 0.01, -999, 9,  -999.00, 9, -999, -999, 9, -999
49NZ20031106, A10, 45, 1, 25, 12025, 2, 20031119, 313, -30.0068, -20.7733, 4823,    800.9, 2,   5.0990, 2,  34.3395, 2,  34.3397, 2,    208.4, 1,    217.5, 2,    20.82, 2,    28.63, 2,    -0.02, 2,     1.95, 2,    2.657, 2,    1.208, 2,    0.133, 4,   2175.5, 2,   2285.6, 6,    7.6658, 2,     25.00, -999.000, 9, -999.000,   -999.0, 9,   -999.0,  -999.00, 9,   -999.0,   5.0330, 27.1477,   5.0974, 2, 802.5, 2, 217.63, 2, 0.16, 0.11, 0.01, 0.01, -999, 9,  -999.00, 9, -999, -999, 9, -999
49NZ20031106, A10, 45, 1, 24, 12024, 2, 20031119, 313, -30.0068, -20.7733, 4823,    900.8, 2,   4.3735, 2,  34.3216, 2,  34.3219, 2,    206.1, 1,    215.7, 2,    26.98, 2,    30.25, 2,    -0.02, 2,     2.06, 2,    2.200, 2,    1.002, 2,    0.103, 4,   2189.2, 2,   2290.3, 2,    7.6498, 6,     25.00, -999.000, 9, -999.000,   -999.0, 9,   -999.0,  -999.00, 9,   -999.0,   4.3037, 27.2147,   4.3738, 2, 901.5, 2, 215.68, 2, 0.18, 0.12, 0.01, 0.02, -999, 9,  -999.00, 9, -999, -999, 9, -999
49NZ20031106, A10, 45, 1, 23, 12023, 2, 20031119, 313, -30.0068, -20.7733, 4823,    999.1, 2,   3.8548, 2,  34.3349, 2,  34.3339, 2,    200.7, 1,    210.5, 2,    33.57, 2,    31.45, 2,    -0.02, 2,     2.16, 2,    1.732, 6,    0.807, 6,    0.066, 4,   2196.9, 2,   2297.3, 2,    7.6334, 2,     25.00, -999.000, 9, -999.000,   -999.0, 9,   -999.0,  -999.00, 9,   -999.0,   3.7806, 27.28,   3.8533, 2, 1001.1, 2, 210.7, 2, 0.19, 0.12, 0.01, 0.02, -999, 9,  -999.00, 9, -999, -999, 9, -999
49NZ20031106, A10, 45, 1, 2, 12038, 9, 20031119, 313, -30.0068, -20.7733, 4823,    999.3, 2,   3.8630, 2,  34.3344, 2, -999.0000, 9,    200.8, 1,   -999.0, 9,  -999.00, 9,  -999.00, 9,  -999.00, 9,  -999.00, 9, -999.000, 9, -999.000, 9, -999.000, 9,   -999.0, 9,   -999.0, 9, -999.0000, 9,   -999.00, -999.000, 9, -999.000,   -999.0, 9,   -999.0,  -999.00, 9,   -999.0,   3.7887, 27.2787,   3.8620, 2, 1001, 2, 210.69, 2, -999, -999, -999, -999, -999, 9,  -999.00, 9, -999, -999, 9, -999
49NZ20031106, A10, 45, 1, 3, 12039, 9, 20031119, 313, -30.0068, -20.7733, 4823,    999.7, 2,   3.8665, 2,  34.3341, 2, -999.0000, 9,    200.9, 1,   -999.0, 9,  -999.00, 9,  -999.00, 9,  -999.00, 9,  -999.00, 9, -999.000, 9, -999.000, 9, -999.000, 9,   -999.0, 9,   -999.0, 9, -999.0000, 9,   -999.00, -999.000, 9, -999.000,   -999.0, 9,   -999.0,  -999.00, 9,   -999.0,   3.7922, 27.2776,   3.8666, 2, 1001.2, 2, 210.69, 2, -999, -999, -999, -999, -999, 9,  -999.00, 9, -999, -999, 9, -999
49NZ20031106, A10, 45, 1, 4, 12040, 9, 20031119, 313, -30.0068, -20.7733, 4823,    999.8, 2,   3.8671, 2,  34.3340, 2, -999.0000, 9,    200.9, 1,   -999.0, 9,  -999.00, 9,  -999.00, 9,  -999.00, 9,  -999.00, 9, -999.000, 9, -999.000, 9, -999.000, 9,   -999.0, 9,   -999.0, 9, -999.0000, 9,   -999.00, -999.000, 9, -999.000,   -999.0, 9,   -999.0,  -999.00, 9,   -999.0,   3.7928, 27.2776,   3.8669, 2, 1001.2, 2, 210.69, 2, -999, -999, -999, -999, -999, 9,  -999.00, 9, -999, -999, 9, -999
49NZ20031106, A10, 45, 1, 22, 12022, 2, 20031119, 313, -30.0068, -20.7733, 4823,   1199.5, 2,   3.1791, 2,  34.4395, 2,  34.4395, 2,    185.1, 1,    193.8, 2,    48.47, 2,    32.85, 2,    -0.02, 2,     2.26, 2,    0.750, 2,    0.373, 2,    0.024, 4,   2221.1, 2,   2313.7, 2,    7.6089, 2,     25.00, -999.000, 9, -999.000,   -999.0, 9,   -999.0,  -999.00, 9,   -999.0,   3.0943, 27.4293,   3.1792, 2, 1200, 2, 194.36, 2, 0.23, 0.12, 0.01, 0.02, -999, 9,  -999.00, 9, -999, -999, 9, -999
49NZ20031106, A10, 45, 1, 21, 12015, 2, 20031119, 313, -30.0068, -20.7733, 4823,   1399.9, 2,   2.9300, 2,  34.5593, 2,  34.5593, 2,    180.5, 1,    188.7, 2,    55.09, 2,    32.22, 2,    -0.02, 2,     2.20, 2,    0.281, 2,    0.148, 2,    0.000, 4,   2229.1, 2,   2322.4, 2,    7.6106, 2,     25.00, -999.000, 9, -999.000,   -999.0, 9,   -999.0,  -999.00, 9,   -999.0,   2.8312, 27.5489,   2.9301, 2, 1399.4, 2, 188.95, 2, 0.24, 0.12, 0.01, 0.02, -999, 9,  -999.00, 9, -999, -999, 9, -999
49NZ20031106, A10, 45, 1, 20, 12020, 2, 20031119, 313, -30.0068, -20.7733, 4823,   1600.2, 2,   2.8466, 2,  34.6677, 2,  34.6680, 2,    186.0, 1,    194.7, 2,    55.42, 2,    30.31, 2,    -0.03, 2,     2.07, 2,    0.086, 2,    0.052, 2,    0.000, 4,   2224.3, 2,   2326.4, 2,    7.6323, 2,     25.00, -999.000, 9, -999.000,   -999.0, 9,   -999.0,  -999.00, 9,   -999.0,   2.7320, 27.6446,   2.8464, 2, 1599.7, 2, 194.66, 2, 0.24, 0.12, 0.01, 0.02, -999, 9,  -999.00, 9, -999, -999, 9, -999
49NZ20031106, A10, 45, 1, 1, 12037, 2, 20031119, 313, -30.0068, -20.7733, 4823,   1802.6, 2,   2.7623, 2,  34.7467, 2,  34.7470, 2,    196.7, 1,    206.0, 2,    53.32, 2,    28.25, 2,    -0.02, 2,     1.92, 2,    0.041, 2,    0.023, 2,    0.000, 4,   2215.9, 2,   2331.3, 2,    7.6579, 2,     25.00, -999.000, 9, -999.000,   -999.0, 9,   -999.0,  -999.00, 9,   -999.0,   2.6313, 27.7166,   2.7623, 2, 1803.1, 2, 205.1, 2, 0.24, 0.11, 0.01, 0.01, -999, 9,  -999.00, 9, -999, -999, 9, -999
49NZ20031106, A10, 45, 1, 18, 12018, 2, 20031119, 313, -30.0068, -20.7733, 4823,   2000.3, 2,   2.6944, 2,  34.7996, 2,  34.7999, 2,    207.6, 1,    217.9, 2,    50.34, 2,    26.37, 2,    -0.03, 2,     1.79, 2,    0.011, 2,    0.011, 2,    0.000, 4,   2209.4, 2,   2328.0, 2,    7.6794, 6,     25.00, -999.000, 9, -999.000,   -999.0, 9,   -999.0,  -999.00, 9,   -999.0,   2.5469, 27.7663,   2.6944, 2, 2001.2, 2, 216.11, 2, 0.23, 0.11, 0.01, 0.01, -999, 9,  -999.00, 9, -999, -999, 9, -999
49NZ20031106, A10, 45, 1, 17, 12017, 2, 20031119, 313, -30.0068, -20.7733, 4823,   2200.2, 2,   2.6820, 2,  34.8348, 2,  34.8351, 2,    216.4, 1,    227.4, 2,    46.90, 2,    25.01, 2,    -0.02, 2,     1.69, 2,    0.006, 2,    0.006, 2,    0.000, 4,   2201.7, 2,   2329.4, 2,    7.6981, 2,     25.00, -999.000, 9, -999.000,   -999.0, 9,   -999.0,  -999.00, 9,   -999.0,   2.5165, 27.7972,   2.6819, 2, 2200.4, 2, 226.3, 2, 0.22, 0.1, 0.01, 0.01, -999, 9,  -999.00, 9, -999, -999, 9, -999
49NZ20031106, A10, 45, 1, 16, 12016, 2, 20031119, 313, -30.0068, -20.7733, 4823,   2400.4, 2,   2.6941, 2,  34.8620, 2,  34.8616, 2,    223.4, 1,    234.8, 2,    43.41, 2,    23.76, 2,    -0.02, 2,     1.60, 2,    0.004, 2,    0.001, 2,    0.000, 4,   2193.1, 6,   2328.3, 2,    7.7117, 2,     25.00, -999.000, 9, -999.000,   -999.0, 9,   -999.0,  -999.00, 9,   -999.0,   2.5096, 27.8196,   2.6941, 2, 2400.3, 2, 234.39, 2, 0.21, 0.1, 0.01, 0.01, -999, 9,  -999.00, 9, -999, -999, 9, -999
49NZ20031106, A10, 45, 1, 15, 12012, 2, 20031119, 313, -30.0068, -20.7733, 4823,   2601.2, 2,   2.7100, 2,  34.8812, 2,  34.8815, 2,    228.9, 1,    240.8, 2,    40.47, 2,    22.86, 2,    -0.03, 2,     1.54, 2,   -0.002, 2,   -0.001, 2,    0.000, 4,   2186.7, 2,   2328.6, 6,    7.7255, 2,     25.00, -999.000, 9, -999.000,   -999.0, 9,   -999.0,  -999.00, 9,   -999.0,   2.5058, 27.8353,   2.7099, 2, 2601.1, 2, 240, 2, 0.21, 0.1, 0.01, 0.01, -999, 9,  -999.00, 9, -999, -999, 9, -999
49NZ20031106, A10, 45, 1, 14, 12014, 2, 20031119, 313, -30.0068, -20.7733, 4823,   2800.1, 2,   2.7444, 2,  34.9016, 2,  34.9016, 2,    234.5, 1,    246.4, 3,    36.67, 2,    21.90, 2,    -0.02, 2,     1.47, 2,    0.004, 2,    0.005, 2,    0.000, 4,   2181.3, 2,   2325.1, 2,    7.7339, 2,     25.00, -999.000, 9, -999.000,   -999.0, 9,   -999.0,  -999.00, 9,   -999.0,   2.5197, 27.8504,   2.7445, 2, 2799.9, 2, 246.3, 2, 0.2, 0.09, 0.01, 0.01, -999, 9,  -999.00, 9, -999, -999, 9, -999
49NZ20031106, A10, 45, 1, 13, 12013, 2, 20031119, 313, -30.0068, -20.7733, 4823,   3002.5, 2,   2.6863, 2,  34.9051, 2,  34.9054, 2,    236.6, 1,    248.7, 2,    36.89, 2,    21.63, 2,    -0.02, 2,     1.45, 2,   -0.002, 2,    0.000, 2,    0.000, 4,   2181.8, 2,   2324.9, 2,    7.7370, 2,     25.00, -999.000, 9, -999.000,   -999.0, 9,   -999.0,  -999.00, 9,   -999.0,   2.4422, 27.86,   2.6863, 2, 3002.1, 2, 248.58, 2, 0.2, 0.09, 0.01, 0.01, -999, 9,  -999.00, 9, -999, -999, 9, -999
49NZ20031106, A10, 45, 1, 12, 12048, 2, 20031119, 313, -30.0068, -20.7733, 4823,   3251.0, 2,   2.5468, 2,  34.8979, 2,  34.8980, 2,    237.3, 1,    249.2, 2,    40.33, 2,    21.85, 2,    -0.02, 2,     1.47, 2,    0.003, 2,    0.005, 2,    0.000, 4,   2183.7, 2,   2326.9, 2,    7.7354, 2,     25.00, -999.000, 9, -999.000,   -999.0, 9,   -999.0,  -999.00, 9,   -999.0,   2.2800, 27.8678,   2.5469, 2, 3250.9, 2, 249.07, 2, 0.21, 0.09, 0.01, 0.01, -999, 9,  -999.00, 9, -999, -999, 9, -999
49NZ20031106, A10, 45, 1, 11, 12047, 2, 20031119, 313, -30.0068, -20.7733, 4823,   3501.2, 2,   2.2696, 2,  34.8725, 2,  34.8719, 2,    234.7, 1,    246.0, 2,    50.09, 2,    23.05, 2,    -0.02, 2,     1.56, 2,    0.001, 2,    0.006, 2,    0.000, 4,   2193.4, 2,   2332.5, 2,    7.7250, 2,     25.00, -999.000, 9, -999.000,   -999.0, 9,   -999.0,  -999.00, 9,   -999.0,   1.9830, 27.8717,   2.2697, 2, 3501.2, 2, 246.5, 2, 0.23, 0.1, 0.01, 0.01, -999, 9,  -999.00, 9, -999, -999, 9, -999
49NZ20031106, A10, 45, 1, 10, 12046, 2, 20031119, 313, -30.0068, -20.7733, 4823,   3750.4, 2,   1.9214, 2,  34.8376, 2,  34.8376, 2,    230.2, 1,    241.1, 2,    63.56, 2,    24.83, 2,    -0.02, 2,     1.68, 2,    0.000, 2,    0.000, 2,    0.000, 4,   2207.7, 2,   2340.2, 2,    7.7076, 2,     25.00, -999.000, 9, -999.000,   -999.0, 9,   -999.0,  -999.00, 9,   -999.0,   1.6171, 27.8724,   1.9215, 2, 3750.3, 2, 241.36, 2, 0.26, 0.1, 0.01, 0.01, -999, 9,  -999.00, 9, -999, -999, 9, -999
49NZ20031106, A10, 45, 1, 9, 12045, 2, 20031119, 313, -30.0068, -20.7733, 4823,   4001.2, 2,   1.5436, 2,  34.7957, 2,  34.7946, 2,    223.7, 1,    233.6, 2,    79.70, 2,    27.07, 2,    -0.03, 2,     1.84, 2,    0.008, 2,    0.004, 2,    0.000, 4,   2222.7, 2,   2351.8, 2,    7.6854, 2,     25.00, -999.000, 9, -999.000,   -999.0, 9,   -999.0,  -999.00, 9,   -999.0,   1.2226, 27.8674,   1.5434, 2, 4001.3, 2, 234.11, 2, 0.29, 0.11, 0.01, 0.01, -999, 9,  -999.00, 9, -999, -999, 9, -999
49NZ20031106, A10, 45, 1, 8, 12044, 2, 20031119, 313, -30.0068, -20.7733, 4823,   4250.7, 2,   1.3495, 2,  34.7718, 2,  34.7716, 2,    220.3, 1,    228.9, 2,    88.88, 2,    28.33, 2,    -0.03, 2,     1.94, 2,    0.019, 2,    0.011, 2,    0.000, 4,   2233.5, 6,   2354.7, 2,    7.6737, 2,     25.00, -999.000, 9, -999.000,   -999.0, 9,   -999.0,  -999.00, 9,   -999.0,   1.0068, 27.8631,   1.3495, 2, 4250.7, 2, 229.25, 2, 0.31, 0.11, 0.01, 0.01, -999, 9,  -999.00, 9, -999, -999, 9, -999
49NZ20031106, A10, 45, 1, 19, 12019, 2, 20031119, 313, -30.0068, -20.7733, 4823,   4501.4, 2,   1.3097, 2,  34.7641, 2,  34.7641, 2,    219.9, 1,    227.7, 2,    91.68, 2,    28.75, 2,    -0.02, 2,     1.97, 2,    0.023, 2,    0.016, 2,    0.000, 4,   2237.8, 2,   2351.9, 2,    7.6683, 2,     25.00, -999.000, 9, -999.000,   -999.0, 9,   -999.0,  -999.00, 9,   -999.0,   0.9399, 27.8614,   1.3095, 2, 4501.3, 2, 227.48, 2, 0.32, 0.11, 0.01, 0.01, -999, 9,  -999.00, 9, -999, -999, 9, -999
49NZ20031106, A10, 45, 1, 7, 12043, 2, 20031119, 313, -30.0068, -20.7733, 4823,   4501.5, 2,   1.3096, 2,  34.7641, 2,  34.7642, 2,    219.9, 1,    227.5, 2,    91.73, 2,    28.79, 2,    -0.03, 2,     1.97, 2,    0.022, 2,    0.014, 2,    0.000, 4,   2237.5, 2,   2354.6, 6,    7.6696, 2,     25.00, -999.000, 9, -999.000,   -999.0, 9,   -999.0,  -999.00, 9,   -999.0,   0.9398, 27.8614,   1.3095, 2, 4501.4, 2, 227.48, 2, 0.32, 0.11, 0.01, 0.01, -999, 9,  -999.00, 9, -999, -999, 9, -999
49NZ20031106, A10, 45, 1, 6, 12042, 2, 20031119, 313, -30.0068, -20.7733, 4823,   4825.8, 2,   1.3055, 2,  34.7598, 2,  34.7597, 2,    221.6, 1,    227.0, 2,    93.34, 2,    28.96, 2,    -0.02, 2,     1.98, 2,    0.026, 2,    0.016, 2,    0.000, 4,   2240.3, 2,   2354.7, 2,    7.6672, 6,     25.00, -999.000, 9, -999.000,   -999.0, 9,   -999.0,  -999.00, 9,   -999.0,   0.8981, 27.8606,   1.3056, 2, 4825.8, 2, 226.52, 2, 0.32, 0.11, 0.01, 0.02, -999, 9,  -999.00, 9, -999, -999, 9, -999