BOTTLE,20220818CCHSIOAMB
EXPOCODE,SECT_ID,STNNBR,CASTNO,SAMPNO,BTLNBR,BTLNBR_FLAG_W,DATE,TIME,LATITUDE,LONGITUDE,DEPTH,CTDPRS,CTDPRS_FLAG_W,CTDTMP,CTDTMP_FLAG_W,CTDSAL,CTDSAL_FLAG_W,SALNTY,SALNTY_FLAG_W,CTDOXY,CTDOXY_FLAG_W,OXYGEN,OXYGEN_FLAG_W,SILCAT,SILCAT_FLAG_W,NITRAT,NITRAT_FLAG_W,NITRIT,NITRIT_FLAG_W,PHSPHT,PHSPHT_FLAG_W,CFC-11,CFC-11_FLAG_W,CFC-12,CFC-12_FLAG_W,CFC113,CFC113_FLAG_W,TCARBN,TCARBN_FLAG_W,ALKALI,ALKALI_FLAG_W,PH_TOT,PH_TOT_FLAG_W,PH_TMP,TRITUM,TRITUM_FLAG_W,TRITER,DELC14,DELC14_FLAG_W,C14ERR,DELC13,DELC13_FLAG_W,C13ERR,THETA,SIG0,SBE35,SBE35_FLAG_W,DWNPRS,DWNPRS_FLAG_W,DWNOXY,DWNOXY_FLAG_W,SILUNC,NRAUNC,NRIUNC,PHPUNC,TOC,TOC_FLAG_W,CS-137,CS-137_FLAG_W,CS137ER,PLUTO,PLUTO_FLAG_W,PLUTOER
,,,,,,,,,,,METERS,DBAR,,ITS-90,,PSS-78,,PSS-78,,UMOL/KG,,UMOL/KG,,UMOL/KG,,UMOL/KG,,UMOL/KG,,UMOL/KG,,PMOL/KG,,PMOL/KG,,PMOL/KG,,UMOL/KG,,UMOL/KG,,,,DEG C,TU,,TU,/MILLE,,/MILLE,/MILLE,,/MILLE,DEG C,KG/M^3,ITS-90,,DBAR,,UMOL/KG,,UMOL/KG,UMOL/KG,UMOL/KG,UMOL/KG,UMOL/KG,,BQ/M^3,,BQ/M^3,MBQ/M^3,,MBQ/M^3
49NZ20031106, A10, 23, 1, 36, 12048, 2, 20031113, 422, -30.0002, -34.8305, 1659,     10.2, 2,  20.2613, 2,  36.1126, 2,  36.1122, 2,    216.0, 1,    227.3, 2,     0.84, 2,     0.04, 2,     0.00, 2,     0.07, 2,    2.342, 2,    1.333, 2,    0.236, 4,   2060.1, 2,   2366.0, 2,    8.0341, 2,     25.00, -999.000, 9, -999.000,   -999.0, 9,   -999.0,  -999.00, 9,   -999.0,  20.2594, 25.543,  20.2611, 2, 9.1, 2, 227.55, 2, 0.12, 0.03, 0.01, 0.03, -999, 9,  -999.00, 9, -999, -999, 9, -999
49NZ20031106, A10, 23, 1, 35, 12047, 2, 20031113, 422, -30.0002, -34.8305, 1659,     50.0, 2,  19.7827, 2,  36.1314, 2,  36.1269, 2,    217.3, 1,    228.3, 2,     0.83, 2,     0.02, 2,     0.00, 2,     0.06, 2,    2.448, 2,    1.385, 2,    0.256, 4,   2060.3, 6,   2367.6, 2,    8.0361, 2,     25.00, -999.000, 9, -999.000,   -999.0, 9,   -999.0,  -999.00, 9,   -999.0,  19.7735, 25.6864,  19.7842, 2, 48.1, 2, 227.47, 2, 0.12, 0.03, 0.01, 0.03, -999, 9,  -999.00, 9, -999, -999, 9, -999
49NZ20031106, A10, 23, 1, 34, 12046, 2, 20031113, 422, -30.0002, -34.8305, 1659,     99.0, 2,  18.5887, 2,  35.9516, 2,  35.9523, 2,    218.5, 1,    229.7, 2,     0.87, 2,     0.02, 2,     0.01, 2,     0.10, 2,    2.518, 2,    1.412, 2,    0.235, 4,   2064.6, 2,   2355.7, 6,    8.0155, 2,     25.00, -999.000, 9, -999.000,   -999.0, 9,   -999.0,  -999.00, 9,   -999.0,  18.5712, 25.8593,  18.5892, 2, 100.8, 2, 230.02, 2, 0.12, 0.03, 0.01, 0.02, -999, 9,  -999.00, 9, -999, -999, 9, -999
49NZ20031106, A10, 23, 1, 33, 12045, 2, 20031113, 422, -30.0002, -34.8305, 1659,    152.7, 2,  17.0579, 2,  35.7586, 2,  35.7586, 2,    206.8, 1,    216.9, 2,     1.17, 2,     1.83, 2,     0.04, 2,     0.25, 2,    2.689, 2,    1.511, 2,    0.170, 4,   2083.3, 2,   2347.3, 2,    7.9668, 6,     25.00, -999.000, 9, -999.000,   -999.0, 9,   -999.0,  -999.00, 9,   -999.0,  17.0325, 26.0897,  17.0581, 2, 152.9, 2, 216.64, 2, 0.12, 0.04, 0.01, 0.01, -999, 9,  -999.00, 9, -999, -999, 9, -999
49NZ20031106, A10, 23, 1, 32, 12044, 2, 20031113, 422, -30.0002, -34.8305, 1659,    200.0, 2,  15.8921, 2,  35.6076, 2,  35.6081, 2,    201.7, 1,    210.9, 2,     1.63, 2,     3.85, 2,     0.01, 2,     0.40, 2,    2.850, 2,    1.580, 2,    0.094, 4,   2094.3, 2,   2336.8, 2,    7.9322, 2,     25.00, -999.000, 9, -999.000,   -999.0, 9,   -999.0,  -999.00, 9,   -999.0,  15.8604, 26.248,  15.8945, 2, 202.1, 2, 210.55, 2, 0.12, 0.04, 0.01, 0.01, -999, 9,  -999.00, 9, -999, -999, 9, -999
49NZ20031106, A10, 23, 1, 31, 12043, 2, 20031113, 422, -30.0002, -34.8305, 1659,    251.3, 2,  14.7712, 2,  35.4484, 2,  35.4484, 2,    202.6, 1,    211.5, 2,     2.04, 2,     5.78, 2,     0.01, 2,     0.52, 2,    2.892, 6,    1.605, 6,    0.057, 4,   2100.8, 2,   2327.5, 2,    7.9085, 2,     25.00, -999.000, 9, -999.000,   -999.0, 9,   -999.0,  -999.00, 9,   -999.0,  14.7333, 26.377,  14.7719, 2, 254.6, 2, 211.01, 2, 0.12, 0.05, 0.01, 0.01, -999, 9,  -999.00, 9, -999, -999, 9, -999
49NZ20031106, A10, 23, 1, 30, 12042, 2, 20031113, 422, -30.0002, -34.8305, 1659,    300.8, 2,  14.1354, 2,  35.3618, 2,  35.3618, 2,    204.4, 1,    212.7, 2,     2.31, 2,     6.95, 2,     0.00, 2,     0.59, 2,    3.010, 2,    1.630, 2,    0.060, 4,   2103.8, 2,   2326.9, 2,    7.8937, 2,     25.00, -999.000, 9, -999.000,   -999.0, 9,   -999.0,  -999.00, 9,   -999.0,  14.0914, 26.4482,  14.1358, 2, 301.6, 2, 212.92, 2, 0.12, 0.05, 0.01, 0.01, -999, 9,  -999.00, 9, -999, -999, 9, -999
49NZ20031106, A10, 23, 1, 29, 12041, 2, 20031113, 422, -30.0002, -34.8305, 1659,    400.4, 2,  12.5376, 2,  35.1422, 2,  35.1441, 2,    203.5, 1,    211.7, 2,     3.46, 2,    10.66, 2,     0.00, 2,     0.81, 2,    3.053, 2,    1.622, 2,    0.060, 4,   2114.7, 2,   2308.6, 2,    7.8513, 2,     25.00, -999.000, 9, -999.000,   -999.0, 9,   -999.0,  -999.00, 9,   -999.0,  12.4833, 26.6058,  12.5388, 2, 399.2, 2, 211.61, 2, 0.13, 0.06, 0.01, 0.01, -999, 9,  -999.00, 9, -999, -999, 9, -999
49NZ20031106, A10, 23, 1, 28, 12040, 2, 20031113, 422, -30.0002, -34.8305, 1659,    502.1, 2,  10.3975, 2,  34.8557, 2,  34.8561, 2,    200.0, 1,    207.5, 2,     6.08, 2,    16.21, 2,     0.00, 2,     1.17, 2,    3.131, 2,    1.584, 2,    0.110, 4,   2131.8, 2,   2298.6, 2,    7.7890, 2,     25.00, -999.000, 9, -999.000,   -999.0, 9,   -999.0,  -999.00, 9,   -999.0,  10.3370, 26.7811,  10.3969, 2, 501.8, 2, 207.58, 2, 0.13, 0.08, 0.01, 0.01, -999, 9,  -999.00, 9, -999, -999, 9, -999
49NZ20031106, A10, 23, 1, 27, 12039, 2, 20031113, 422, -30.0002, -34.8305, 1659,    600.6, 2,   8.6343, 2,  34.6555, 2,  34.6552, 2,    205.1, 1,    212.3, 2,     8.88, 2,    20.18, 2,    -0.01, 2,     1.42, 2,    2.994, 2,    1.489, 2,    0.107, 4,   2143.4, 2,   2295.7, 2,    7.7514, 2,     25.00, -999.000, 9, -999.000,   -999.0, 9,   -999.0,  -999.00, 9,   -999.0,   8.5694, 26.9163,   8.6350, 2, 599, 2, 211.68, 2, 0.14, 0.09, 0.01, 0.01, -999, 9,  -999.00, 9, -999, -999, 9, -999
49NZ20031106, A10, 23, 1, 26, 12038, 2, 20031113, 422, -30.0002, -34.8305, 1659,    702.1, 2,   6.8466, 2,  34.4622, 2,  34.4616, 2,    213.7, 1,    221.1, 2,    12.18, 2,    23.84, 2,    -0.01, 2,     1.66, 2,    3.163, 2,    1.524, 2,    0.192, 4,   2153.2, 6,   2290.2, 2,    7.7146, 2,     25.00, -999.000, 9, -999.000,   -999.0, 9,   -999.0,  -999.00, 9,   -999.0,   6.7798, 27.0247,   6.8473, 2, 699.5, 2, 222.09, 2, 0.15, 0.1, 0.01, 0.01, -999, 9,  -999.00, 9, -999, -999, 9, -999
49NZ20031106, A10, 23, 1, 25, 12037, 2, 20031113, 422, -30.0002, -34.8305, 1659,    802.7, 2,   5.2823, 2,  34.3339, 2,  34.3339, 2,    217.7, 1,    224.7, 2,    17.58, 2,    27.25, 2,    -0.01, 2,     1.89, 2,    2.731, 2,    1.195, 2,    0.137, 4,   2166.0, 2,   2288.6, 6,    7.6798, 2,     25.00, -999.000, 9, -999.000,   -999.0, 9,   -999.0,  -999.00, 9,   -999.0,   5.2151, 27.1217,   5.2832, 2, 802.7, 2, 224.6, 2, 0.16, 0.11, 0.01, 0.01, -999, 9,  -999.00, 9, -999, -999, 9, -999
49NZ20031106, A10, 23, 1, 24, 12036, 2, 20031113, 422, -30.0002, -34.8305, 1659,    902.2, 2,   4.2882, 2,  34.3006, 2,  34.3003, 2,    216.3, 1,    223.6, 2,    24.87, 2,    29.52, 2,    -0.01, 2,     2.04, 2,    2.195, 2,    0.975, 2,    0.114, 4,   2179.7, 2,   2292.8, 2,    7.6562, 6,     25.00, -999.000, 9, -999.000,   -999.0, 9,   -999.0,  -999.00, 9,   -999.0,   4.2189, 27.2062,   4.2899, 2, 904, 2, 223.1, 2, 0.17, 0.12, 0.01, 0.02, -999, 9,  -999.00, 9, -999, -999, 9, -999
49NZ20031106, A10, 23, 1, 14, 12026, 9, 20031113, 422, -30.0002, -34.8305, 1659,    997.3, 2,   3.8166, 2,  34.3132, 2, -999.0000, 9,    211.2, 1,   -999.0, 9,  -999.00, 9,  -999.00, 9,  -999.00, 9,  -999.00, 9, -999.000, 9, -999.000, 9, -999.000, 9,   -999.0, 9,   -999.0, 9, -999.0000, 9,   -999.00, -999.000, 9, -999.000,   -999.0, 9,   -999.0,  -999.00, 9,   -999.0,   3.7429, 27.266,   3.8152, 2, 996.8, 2, 217.73, 2, -999, -999, -999, -999, -999, 9,  -999.00, 9, -999, -999, 9, -999
49NZ20031106, A10, 23, 1, 12, 12024, 9, 20031113, 422, -30.0002, -34.8305, 1659,    997.3, 2,   3.8136, 2,  34.3133, 2, -999.0000, 9,    211.1, 1,   -999.0, 9,  -999.00, 9,  -999.00, 9,  -999.00, 9,  -999.00, 9, -999.000, 9, -999.000, 9, -999.000, 9,   -999.0, 9,   -999.0, 9, -999.0000, 9,   -999.00, -999.000, 9, -999.000,   -999.0, 9,   -999.0,  -999.00, 9,   -999.0,   3.7399, 27.2661,   3.8139, 2, 996.9, 2, 217.72, 2, -999, -999, -999, -999, -999, 9,  -999.00, 9, -999, -999, 9, -999
49NZ20031106, A10, 23, 1, 9, 12015, 9, 20031113, 422, -30.0002, -34.8305, 1659,    997.3, 2,   3.8116, 2,  34.3131, 2, -999.0000, 9,    211.1, 1,   -999.0, 9,  -999.00, 9,  -999.00, 9,  -999.00, 9,  -999.00, 9, -999.000, 9, -999.000, 9, -999.000, 9,   -999.0, 9,   -999.0, 9, -999.0000, 9,   -999.00, -999.000, 9, -999.000,   -999.0, 9,   -999.0,  -999.00, 9,   -999.0,   3.7379, 27.2664,   3.8090, 2, 996.9, 2, 217.72, 2, -999, -999, -999, -999, -999, 9,  -999.00, 9, -999, -999, 9, -999
49NZ20031106, A10, 23, 1, 5, 12017, 9, 20031113, 422, -30.0002, -34.8305, 1659,    997.6, 2,   3.7935, 2,  34.3128, 2, -999.0000, 9,    211.1, 1,   -999.0, 9,  -999.00, 9,  -999.00, 9,  -999.00, 9,  -999.00, 9, -999.000, 9, -999.000, 9, -999.000, 9,   -999.0, 9,   -999.0, 9, -999.0000, 9,   -999.00, -999.000, 9, -999.000,   -999.0, 9,   -999.0,  -999.00, 9,   -999.0,   3.7199, 27.2682,   3.7904, 2, 997.5, 2, 217.6, 2, -999, -999, -999, -999, -999, 9,  -999.00, 9, -999, -999, 9, -999
49NZ20031106, A10, 23, 1, 10, 12022, 9, 20031113, 422, -30.0002, -34.8305, 1659,    997.7, 2,   3.8097, 2,  34.3132, 2, -999.0000, 9,    211.1, 1,   -999.0, 9,  -999.00, 9,  -999.00, 9,  -999.00, 9,  -999.00, 9, -999.000, 9, -999.000, 9, -999.000, 9,   -999.0, 9,   -999.0, 9, -999.0000, 9,   -999.00, -999.000, 9, -999.000,   -999.0, 9,   -999.0,  -999.00, 9,   -999.0,   3.7360, 27.2664,   3.8093, 2, 997.3, 2, 217.66, 2, -999, -999, -999, -999, -999, 9,  -999.00, 9, -999, -999, 9, -999
49NZ20031106, A10, 23, 1, 8, 12020, 9, 20031113, 422, -30.0002, -34.8305, 1659,    997.7, 2,   3.8020, 2,  34.3132, 2, -999.0000, 9,    211.1, 1,   -999.0, 9,  -999.00, 9,  -999.00, 9,  -999.00, 9,  -999.00, 9, -999.000, 9, -999.000, 9, -999.000, 9,   -999.0, 9,   -999.0, 9, -999.0000, 9,   -999.00, -999.000, 9, -999.000,   -999.0, 9,   -999.0,  -999.00, 9,   -999.0,   3.7284, 27.2669,   3.8027, 2, 997.4, 2, 217.62, 2, -999, -999, -999, -999, -999, 9,  -999.00, 9, -999, -999, 9, -999
49NZ20031106, A10, 23, 1, 23, 12035, 2, 20031113, 422, -30.0002, -34.8305, 1659,    997.8, 2,   3.8163, 2,  34.3132, 2,  34.3136, 2,    211.2, 1,    217.7, 2,    31.08, 2,    30.63, 2,     0.00, 2,     2.12, 2,    1.758, 6,    0.722, 6,    0.080, 4,   2190.4, 2,   2299.0, 2,    7.6416, 2,     25.00, -999.000, 9, -999.000,   -999.0, 9,   -999.0,  -999.00, 9,   -999.0,   3.7426, 27.2657,   3.8172, 2, 997.2, 2, 217.67, 2, 0.19, 0.12, 0.01, 0.02, -999, 9,  -999.00, 9, -999, -999, 9, -999
49NZ20031106, A10, 23, 1, 2, 12014, 9, 20031113, 422, -30.0002, -34.8305, 1659,    997.8, 2,   3.7841, 2,  34.3128, 2, -999.0000, 9,    211.0, 1,   -999.0, 9,  -999.00, 9,  -999.00, 9,  -999.00, 9,  -999.00, 9, -999.000, 9, -999.000, 9, -999.000, 9,   -999.0, 9,   -999.0, 9, -999.0000, 9,   -999.00, -999.000, 9, -999.000,   -999.0, 9,   -999.0,  -999.00, 9,   -999.0,   3.7106, 27.2688,   3.7844, 2, 997.9, 2, 217.53, 2, -999, -999, -999, -999, -999, 9,  -999.00, 9, -999, -999, 9, -999
49NZ20031106, A10, 23, 1, 18, 12030, 9, 20031113, 422, -30.0002, -34.8305, 1659,    997.9, 2,   3.8157, 2,  34.3134, 2, -999.0000, 9,    211.2, 1,   -999.0, 9,  -999.00, 9,  -999.00, 9,  -999.00, 9,  -999.00, 9, -999.000, 9, -999.000, 9, -999.000, 9,   -999.0, 9,   -999.0, 9, -999.0000, 9,   -999.00, -999.000, 9, -999.000,   -999.0, 9,   -999.0,  -999.00, 9,   -999.0,   3.7420, 27.2658,   3.8164, 2, 997.3, 2, 217.64, 2, -999, -999, -999, -999, -999, 9,  -999.00, 9, -999, -999, 9, -999
49NZ20031106, A10, 23, 1, 15, 12027, 9, 20031113, 422, -30.0002, -34.8305, 1659,    997.9, 2,   3.8150, 2,  34.3134, 2, -999.0000, 9,    211.1, 1,   -999.0, 9,  -999.00, 9,  -999.00, 9,  -999.00, 9,  -999.00, 9, -999.000, 9, -999.000, 9, -999.000, 9,   -999.0, 9,   -999.0, 9, -999.0000, 9,   -999.00, -999.000, 9, -999.000,   -999.0, 9,   -999.0,  -999.00, 9,   -999.0,   3.7413, 27.266,   3.8153, 2, 997.3, 2, 217.64, 2, -999, -999, -999, -999, -999, 9,  -999.00, 9, -999, -999, 9, -999
49NZ20031106, A10, 23, 1, 13, 12025, 9, 20031113, 422, -30.0002, -34.8305, 1659,    997.9, 2,   3.8124, 2,  34.3133, 2, -999.0000, 9,    211.2, 1,   -999.0, 9,  -999.00, 9,  -999.00, 9,  -999.00, 9,  -999.00, 9, -999.000, 9, -999.000, 9, -999.000, 9,   -999.0, 9,   -999.0, 9, -999.0000, 9,   -999.00, -999.000, 9, -999.000,   -999.0, 9,   -999.0,  -999.00, 9,   -999.0,   3.7387, 27.2662,   3.8123, 2, 997.4, 2, 217.63, 2, -999, -999, -999, -999, -999, 9,  -999.00, 9, -999, -999, 9, -999
49NZ20031106, A10, 23, 1, 4, 12016, 9, 20031113, 422, -30.0002, -34.8305, 1659,    997.9, 2,   3.7877, 2,  34.3126, 2, -999.0000, 9,    211.1, 1,   -999.0, 9,  -999.00, 9,  -999.00, 9,  -999.00, 9,  -999.00, 9, -999.000, 9, -999.000, 9, -999.000, 9,   -999.0, 9,   -999.0, 9, -999.0000, 9,   -999.00, -999.000, 9, -999.000,   -999.0, 9,   -999.0,  -999.00, 9,   -999.0,   3.7142, 27.2684,   3.7868, 2, 997.9, 2, 217.53, 2, -999, -999, -999, -999, -999, 9,  -999.00, 9, -999, -999, 9, -999
49NZ20031106, A10, 23, 1, 1, 12013, 9, 20031113, 422, -30.0002, -34.8305, 1659,    997.9, 2,   3.7855, 2,  34.3123, 2, -999.0000, 9,    210.9, 1,   -999.0, 9,  -999.00, 9,  -999.00, 9,  -999.00, 9,  -999.00, 9, -999.000, 9, -999.000, 9, -999.000, 9,   -999.0, 9,   -999.0, 9, -999.0000, 9,   -999.00, -999.000, 9, -999.000,   -999.0, 9,   -999.0,  -999.00, 9,   -999.0,   3.7120, 27.2686,   3.7843, 2, 997.9, 2, 217.53, 2, -999, -999, -999, -999, -999, 9,  -999.00, 9, -999, -999, 9, -999
49NZ20031106, A10, 23, 1, 19, 12031, 9, 20031113, 422, -30.0002, -34.8305, 1659,    998.0, 2,   3.8161, 2,  34.3133, 2, -999.0000, 9,    211.2, 1,   -999.0, 9,  -999.00, 9,  -999.00, 9,  -999.00, 9,  -999.00, 9, -999.000, 9, -999.000, 9, -999.000, 9,   -999.0, 9,   -999.0, 9, -999.0000, 9,   -999.00, -999.000, 9, -999.000,   -999.0, 9,   -999.0,  -999.00, 9,   -999.0,   3.7423, 27.2658,   3.8175, 2, 997.4, 2, 217.63, 2, -999, -999, -999, -999, -999, 9,  -999.00, 9, -999, -999, 9, -999
49NZ20031106, A10, 23, 1, 11, 12023, 9, 20031113, 422, -30.0002, -34.8305, 1659,    998.1, 2,   3.8093, 2,  34.3132, 2, -999.0000, 9,    211.1, 1,   -999.0, 9,  -999.00, 9,  -999.00, 9,  -999.00, 9,  -999.00, 9, -999.000, 9, -999.000, 9, -999.000, 9,   -999.0, 9,   -999.0, 9, -999.0000, 9,   -999.00, -999.000, 9, -999.000,   -999.0, 9,   -999.0,  -999.00, 9,   -999.0,   3.7356, 27.2665,   3.8086, 2, 997.6, 2, 217.58, 2, -999, -999, -999, -999, -999, 9,  -999.00, 9, -999, -999, 9, -999
49NZ20031106, A10, 23, 1, 6, 12018, 9, 20031113, 422, -30.0002, -34.8305, 1659,    998.2, 2,   3.7920, 2,  34.3126, 2, -999.0000, 9,    211.1, 1,   -999.0, 9,  -999.00, 9,  -999.00, 9,  -999.00, 9,  -999.00, 9, -999.000, 9, -999.000, 9, -999.000, 9,   -999.0, 9,   -999.0, 9, -999.0000, 9,   -999.00, -999.000, 9, -999.000,   -999.0, 9,   -999.0,  -999.00, 9,   -999.0,   3.7184, 27.2681,   3.7897, 2, 998, 2, 217.5, 2, -999, -999, -999, -999, -999, 9,  -999.00, 9, -999, -999, 9, -999
49NZ20031106, A10, 23, 1, 3, 12012, 9, 20031113, 422, -30.0002, -34.8305, 1659,    998.2, 2,   3.7882, 2,  34.3125, 2, -999.0000, 9,    211.1, 1,   -999.0, 9,  -999.00, 9,  -999.00, 9,  -999.00, 9,  -999.00, 9, -999.000, 9, -999.000, 9, -999.000, 9,   -999.0, 9,   -999.0, 9, -999.0000, 9,   -999.00, -999.000, 9, -999.000,   -999.0, 9,   -999.0,  -999.00, 9,   -999.0,   3.7146, 27.2683,   3.7865, 2, 998.1, 2, 217.49, 2, -999, -999, -999, -999, -999, 9,  -999.00, 9, -999, -999, 9, -999
49NZ20031106, A10, 23, 1, 17, 12029, 9, 20031113, 422, -30.0002, -34.8305, 1659,    998.3, 2,   3.8156, 2,  34.3132, 2, -999.0000, 9,    211.1, 1,   -999.0, 9,  -999.00, 9,  -999.00, 9,  -999.00, 9,  -999.00, 9, -999.000, 9, -999.000, 9, -999.000, 9,   -999.0, 9,   -999.0, 9, -999.0000, 9,   -999.00, -999.000, 9, -999.000,   -999.0, 9,   -999.0,  -999.00, 9,   -999.0,   3.7418, 27.2659,   3.8161, 2, 997.7, 2, 217.58, 2, -999, -999, -999, -999, -999, 9,  -999.00, 9, -999, -999, 9, -999
49NZ20031106, A10, 23, 1, 16, 12028, 9, 20031113, 422, -30.0002, -34.8305, 1659,    998.5, 2,   3.8146, 2,  34.3133, 2, -999.0000, 9,    211.0, 1,   -999.0, 9,  -999.00, 9,  -999.00, 9,  -999.00, 9,  -999.00, 9, -999.000, 9, -999.000, 9, -999.000, 9,   -999.0, 9,   -999.0, 9, -999.0000, 9,   -999.00, -999.000, 9, -999.000,   -999.0, 9,   -999.0,  -999.00, 9,   -999.0,   3.7408, 27.266,   3.8152, 2, 997.9, 2, 217.53, 2, -999, -999, -999, -999, -999, 9,  -999.00, 9, -999, -999, 9, -999
49NZ20031106, A10, 23, 1, 22, 12034, 2, 20031113, 422, -30.0002, -34.8305, 1659,   1200.8, 2,   3.1738, 2,  34.4210, 2,  34.4217, 2,    191.8, 1,    197.6, 2,    46.15, 2,    32.47, 2,    -0.01, 2,     2.24, 2,    0.785, 2,    0.308, 2,    0.029, 4,   2215.4, 2,   2310.5, 2,    7.6121, 2,     25.00, -999.000, 9, -999.000,   -999.0, 9,   -999.0,  -999.00, 9,   -999.0,   3.0889, 27.4148,   3.1739, 2, 1201.1, 2, 197.7, 2, 0.22, 0.12, 0.01, 0.02, -999, 9,  -999.00, 9, -999, -999, 9, -999
49NZ20031106, A10, 23, 1, 21, 12033, 2, 20031113, 422, -30.0002, -34.8305, 1659,   1401.3, 2,   2.9525, 2,  34.5771, 2,  34.5767, 2,    184.1, 1,    189.2, 2,    53.88, 2,    31.62, 2,    -0.01, 2,     2.18, 2,    0.205, 2,    0.057, 2,    0.007, 4,   2224.9, 2,   2324.4, 2,    7.6145, 2,     25.00, -999.000, 9, -999.000,   -999.0, 9,   -999.0,  -999.00, 9,   -999.0,   2.8533, 27.561,   2.9524, 2, 1401.9, 2, 188.99, 2, 0.24, 0.12, 0.01, 0.02, -999, 9,  -999.00, 9, -999, -999, 9, -999
49NZ20031106, A10, 23, 1, 7, 12019, 2, 20031113, 422, -30.0002, -34.8305, 1659,   1401.4, 2,   2.9525, 2,  34.5770, 2,  34.5779, 2,    184.3, 1,    189.1, 2,    53.90, 2,    31.51, 2,    -0.01, 2,     2.17, 2,    0.201, 2,    0.057, 2,    0.008, 4,   2225.6, 2,   2323.1, 2,    7.6151, 2,     25.00, -999.000, 9, -999.000,   -999.0, 9,   -999.0,  -999.00, 9,   -999.0,   2.8533, 27.561,   2.9524, 2, 1401.9, 2, 188.99, 2, 0.24, 0.12, 0.01, 0.02, -999, 9,  -999.00, 9, -999, -999, 9, -999
49NZ20031106, A10, 23, 1, 20, 12032, 2, 20031113, 422, -30.0002, -34.8305, 1659,   1659.1, 2,   2.8542, 2,  34.6807, 2,  34.6806, 2,    192.0, 1,    196.6, 2,    53.81, 2,    29.67, 2,    -0.01, 2,     2.03, 2,    0.069, 2,    0.010, 2,    0.000, 4,   2221.7, 2,   2331.2, 2,    7.6352, 2,     25.00, -999.000, 9, -999.000,   -999.0, 9,   -999.0,  -999.00, 9,   -999.0,   2.7345, 27.6549,   2.8540, 2, 1659, 2, 196.58, 2, 0.24, 0.12, 0.01, 0.02, -999, 9,  -999.00, 9, -999, -999, 9, -999