BOTTLE,20220818CCHSIOAMB
EXPOCODE,SECT_ID,STNNBR,CASTNO,SAMPNO,BTLNBR,BTLNBR_FLAG_W,DATE,TIME,LATITUDE,LONGITUDE,DEPTH,CTDPRS,CTDPRS_FLAG_W,CTDTMP,CTDTMP_FLAG_W,CTDSAL,CTDSAL_FLAG_W,SALNTY,SALNTY_FLAG_W,CTDOXY,CTDOXY_FLAG_W,OXYGEN,OXYGEN_FLAG_W,SILCAT,SILCAT_FLAG_W,NITRAT,NITRAT_FLAG_W,NITRIT,NITRIT_FLAG_W,PHSPHT,PHSPHT_FLAG_W,CFC-11,CFC-11_FLAG_W,CFC-12,CFC-12_FLAG_W,CFC113,CFC113_FLAG_W,TCARBN,TCARBN_FLAG_W,ALKALI,ALKALI_FLAG_W,PH_TOT,PH_TOT_FLAG_W,PH_TMP,TRITUM,TRITUM_FLAG_W,TRITER,DELC14,DELC14_FLAG_W,C14ERR,DELC13,DELC13_FLAG_W,C13ERR,THETA,SIG0,SBE35,SBE35_FLAG_W,DWNPRS,DWNPRS_FLAG_W,DWNOXY,DWNOXY_FLAG_W,SILUNC,NRAUNC,NRIUNC,PHPUNC,TOC,TOC_FLAG_W,CS-137,CS-137_FLAG_W,CS137ER,PLUTO,PLUTO_FLAG_W,PLUTOER
,,,,,,,,,,,METERS,DBAR,,ITS-90,,PSS-78,,PSS-78,,UMOL/KG,,UMOL/KG,,UMOL/KG,,UMOL/KG,,UMOL/KG,,UMOL/KG,,PMOL/KG,,PMOL/KG,,PMOL/KG,,UMOL/KG,,UMOL/KG,,,,DEG C,TU,,TU,/MILLE,,/MILLE,/MILLE,,/MILLE,DEG C,KG/M^3,ITS-90,,DBAR,,UMOL/KG,,UMOL/KG,UMOL/KG,UMOL/KG,UMOL/KG,UMOL/KG,,BQ/M^3,,BQ/M^3,MBQ/M^3,,MBQ/M^3
49NZ20031106, A10, 626, 1, 36, 12048, 2, 20031107, 2026, -27.9058, -46.6660, 1257,     12.5, 2,  22.4343, 2,  36.2972, 2,  36.2967, 2,    205.3, 1,    216.7, 2,     1.17, 2,     0.06, 2,     0.01, 2,     0.12, 2, -999.000, 9, -999.000, 9, -999.000, 9,   -999.0, 9,   -999.0, 9, -999.0000, 9,   -999.00, -999.000, 9, -999.000,   -999.0, 9,   -999.0,  -999.00, 9,   -999.0,  22.4318, 25.0841,  22.4331, 2, 12.8, 2, 217.46, 2, 0.12, 0.03, 0.01, 0.02, -999, 9,  -999.00, 9, -999, -999, 9, -999
49NZ20031106, A10, 626, 1, 35, 12047, 2, 20031107, 2026, -27.9058, -46.6660, 1257,     51.7, 2,  22.5395, 2,  36.7222, 2,  36.7172, 2,    204.2, 1,    216.1, 2,     0.91, 2,     0.05, 2,     0.00, 2,     0.12, 2, -999.000, 9, -999.000, 9, -999.000, 9,   -999.0, 9,   -999.0, 9, -999.0000, 9,   -999.00, -999.000, 9, -999.000,   -999.0, 9,   -999.0,  -999.00, 9,   -999.0,  22.5290, 25.3786,  22.5366, 2, 45.9, 2, 216.06, 2, 0.12, 0.03, 0.01, 0.02, -999, 9,  -999.00, 9, -999, -999, 9, -999
49NZ20031106, A10, 626, 1, 2, 12014, 2, 20031107, 2026, -27.9058, -46.6660, 1257,     76.2, 2,  20.9901, 2,  36.5427, 2, -999.0000, 9,    196.4, 1,   -999.0, 9,  -999.00, 9,  -999.00, 9,  -999.00, 9,  -999.00, 9, -999.000, 9, -999.000, 9, -999.000, 9,   -999.0, 9,   -999.0, 9, -999.0000, 9,   -999.00, -999.000, 9, -999.000,   -999.0, 9,   -999.0,  -999.00, 9,   -999.0,  20.9754, 25.6784,  20.9860, 2, 74.9, 2, 205.25, 2, -999, -999, -999, -999, -999, 9,  -999.00, 9, -999, -999, 9, -999
49NZ20031106, A10, 626, 1, 34, 12046, 2, 20031107, 2026, -27.9058, -46.6660, 1257,    100.5, 2,  18.9011, 2,  36.1513, 2,  36.1551, 2,    188.7, 1,    198.1, 2,     1.71, 2,     2.63, 2,     0.06, 2,     0.31, 2, -999.000, 9, -999.000, 9, -999.000, 9,   -999.0, 9,   -999.0, 9, -999.0000, 9,   -999.00, -999.000, 9, -999.000,   -999.0, 9,   -999.0,  -999.00, 9,   -999.0,  18.8831, 25.9328,  18.9022, 2, 97.7, 2, 199.26, 2, 0.12, 0.04, 0.01, 0.01, -999, 9,  -999.00, 9, -999, -999, 9, -999
49NZ20031106, A10, 626, 1, 33, 12045, 2, 20031107, 2026, -27.9058, -46.6660, 1257,    149.8, 2,  16.7786, 2,  35.8129, 2,  35.8112, 2,    198.4, 1,    207.8, 2,     1.70, 2,     3.48, 2,     0.02, 2,     0.35, 2, -999.000, 9, -999.000, 9, -999.000, 9,   -999.0, 9,   -999.0, 9, -999.0000, 9,   -999.00, -999.000, 9, -999.000,   -999.0, 9,   -999.0,  -999.00, 9,   -999.0,  16.7540, 26.1978,  16.7784, 2, 148.9, 2, 205.68, 2, 0.12, 0.04, 0.01, 0.01, -999, 9,  -999.00, 9, -999, -999, 9, -999
49NZ20031106, A10, 626, 1, 32, 12044, 2, 20031107, 2026, -27.9058, -46.6660, 1257,    200.8, 2,  15.1529, 2,  35.5263, 2,  35.5280, 2,    195.9, 1,    204.5, 2,     2.37, 2,     6.11, 2,     0.01, 2,     0.53, 2, -999.000, 9, -999.000, 9, -999.000, 9,   -999.0, 9,   -999.0, 9, -999.0000, 9,   -999.00, -999.000, 9, -999.000,   -999.0, 9,   -999.0,  -999.00, 9,   -999.0,  15.1221, 26.3509,  15.1548, 2, 202.9, 2, 203.46, 2, 0.12, 0.05, 0.01, 0.01, -999, 9,  -999.00, 9, -999, -999, 9, -999
49NZ20031106, A10, 626, 1, 31, 12043, 2, 20031107, 2026, -27.9058, -46.6660, 1257,    249.3, 2,  13.8242, 2,  35.3127, 2,  35.3127, 2,    195.2, 1,    203.4, 2,     3.17, 2,     8.81, 2,     0.01, 2,     0.70, 2, -999.000, 9, -999.000, 9, -999.000, 9,   -999.0, 9,   -999.0, 9, -999.0000, 9,   -999.00, -999.000, 9, -999.000,   -999.0, 9,   -999.0,  -999.00, 9,   -999.0,  13.7883, 26.4729,  13.8277, 2, 250.3, 2, 203.14, 2, 0.13, 0.06, 0.01, 0.01, -999, 9,  -999.00, 9, -999, -999, 9, -999
49NZ20031106, A10, 626, 1, 30, 12042, 2, 20031107, 2026, -27.9058, -46.6660, 1257,    301.8, 2,  12.7330, 2,  35.1621, 2,  35.1622, 2,    194.2, 1,    202.1, 2,     4.05, 2,    11.37, 2,     0.01, 2,     0.85, 2, -999.000, 9, -999.000, 9, -999.000, 9,   -999.0, 9,   -999.0, 9, -999.0000, 9,   -999.00, -999.000, 9, -999.000,   -999.0, 9,   -999.0,  -999.00, 9,   -999.0,  12.6918, 26.5793,  12.7329, 2, 304.9, 2, 202.64, 2, 0.13, 0.06, 0.01, 0.01, -999, 9,  -999.00, 9, -999, -999, 9, -999
49NZ20031106, A10, 626, 1, 29, 12041, 2, 20031107, 2026, -27.9058, -46.6660, 1257,    401.7, 2,  10.9034, 2,  34.9264, 2,  34.9288, 2,    192.8, 1,    199.9, 2,     6.06, 2,    15.75, 2,     0.00, 2,     1.12, 2, -999.000, 9, -999.000, 9, -999.000, 9,   -999.0, 9,   -999.0, 9, -999.0000, 9,   -999.00, -999.000, 9, -999.000,   -999.0, 9,   -999.0,  -999.00, 9,   -999.0,  10.8537, 26.7433,  10.9054, 2, 401.4, 2, 199.49, 2, 0.13, 0.08, 0.01, 0.01, -999, 9,  -999.00, 9, -999, -999, 9, -999
49NZ20031106, A10, 626, 1, 28, 12040, 2, 20031107, 2026, -27.9058, -46.6660, 1257,    500.8, 2,   8.7952, 2,  34.6708, 2,  34.6702, 2,    196.1, 1,    202.9, 2,     9.13, 2,    20.66, 2,     0.00, 2,     1.43, 2, -999.000, 9, -999.000, 9, -999.000, 9,   -999.0, 9,   -999.0, 9, -999.0000, 9,   -999.00, -999.000, 9, -999.000,   -999.0, 9,   -999.0,  -999.00, 9,   -999.0,   8.7408, 26.9003,   8.7924, 2, 500.2, 2, 203.57, 2, 0.14, 0.09, 0.01, 0.01, -999, 9,  -999.00, 9, -999, -999, 9, -999
49NZ20031106, A10, 626, 1, 27, 12039, 2, 20031107, 2026, -27.9058, -46.6660, 1257,    601.0, 2,   6.9011, 2,  34.4769, 2,  34.4772, 2,    202.9, 1,    209.3, 2,    13.18, 2,    24.77, 2,     0.00, 2,     1.70, 2, -999.000, 9, -999.000, 9, -999.000, 9,   -999.0, 9,   -999.0, 9, -999.0000, 9,   -999.00, -999.000, 9, -999.000,   -999.0, 9,   -999.0,  -999.00, 9,   -999.0,   6.8441, 27.0272,   6.8978, 2, 600.6, 2, 209.49, 2, 0.15, 0.1, 0.01, 0.01, -999, 9,  -999.00, 9, -999, -999, 9, -999
49NZ20031106, A10, 626, 1, 26, 12038, 2, 20031107, 2026, -27.9058, -46.6660, 1257,    701.2, 2,   5.6521, 2,  34.3734, 2,  34.3731, 2,    209.6, 1,    216.1, 2,    17.19, 2,    27.09, 2,     0.01, 2,     1.86, 2, -999.000, 9, -999.000, 9, -999.000, 9,   -999.0, 9,   -999.0, 9, -999.0000, 9,   -999.00, -999.000, 9, -999.000,   -999.0, 9,   -999.0,  -999.00, 9,   -999.0,   5.5918, 27.1072,   5.6508, 2, 701.2, 2, 216.07, 2, 0.16, 0.11, 0.01, 0.01, -999, 9,  -999.00, 9, -999, -999, 9, -999
49NZ20031106, A10, 626, 1, 25, 12037, 2, 20031107, 2026, -27.9058, -46.6660, 1257,    800.4, 2,   4.6166, 2,  34.3022, 2,  34.3015, 2,    218.8, 1,    225.9, 2,    21.56, 2,    28.74, 2,     0.01, 2,     1.97, 2, -999.000, 9, -999.000, 9, -999.000, 9,   -999.0, 9,   -999.0, 9, -999.0000, 9,   -999.00, -999.000, 9, -999.000,   -999.0, 9,   -999.0,  -999.00, 9,   -999.0,   4.5537, 27.171,   4.6170, 2, 800.6, 2, 225.17, 2, 0.17, 0.11, 0.01, 0.01, -999, 9,  -999.00, 9, -999, -999, 9, -999
49NZ20031106, A10, 626, 1, 18, 12030, 9, 20031107, 2026, -27.9058, -46.6660, 1257,   1000.0, 2,   3.6252, 2,  34.3275, 2, -999.0000, 9,    206.7, 1,   -999.0, 9,  -999.00, 9,  -999.00, 9,  -999.00, 9,  -999.00, 9, -999.000, 9, -999.000, 9, -999.000, 9,   -999.0, 9,   -999.0, 9, -999.0000, 9,   -999.00, -999.000, 9, -999.000,   -999.0, 9,   -999.0,  -999.00, 9,   -999.0,   3.5527, 27.2953,   3.6240, 2, 1001.2, 2, 213.7, 2, -999, -999, -999, -999, -999, 9,  -999.00, 9, -999, -999, 9, -999
49NZ20031106, A10, 626, 1, 15, 12027, 9, 20031107, 2026, -27.9058, -46.6660, 1257,   1000.0, 2,   3.6249, 2,  34.3277, 2, -999.0000, 9,    206.7, 1,   -999.0, 9,  -999.00, 9,  -999.00, 9,  -999.00, 9,  -999.00, 9, -999.000, 9, -999.000, 9, -999.000, 9,   -999.0, 9,   -999.0, 9, -999.0000, 9,   -999.00, -999.000, 9, -999.000,   -999.0, 9,   -999.0,  -999.00, 9,   -999.0,   3.5524, 27.2953,   3.6242, 2, 1001.3, 2, 213.69, 2, -999, -999, -999, -999, -999, 9,  -999.00, 9, -999, -999, 9, -999
49NZ20031106, A10, 626, 1, 3, 12012, 9, 20031107, 2026, -27.9058, -46.6660, 1257,   1000.0, 2,   3.6236, 2,  34.3277, 2, -999.0000, 9,    206.6, 1,   -999.0, 9,  -999.00, 9,  -999.00, 9,  -999.00, 9,  -999.00, 9, -999.000, 9, -999.000, 9, -999.000, 9,   -999.0, 9,   -999.0, 9, -999.0000, 9,   -999.00, -999.000, 9, -999.000,   -999.0, 9,   -999.0,  -999.00, 9,   -999.0,   3.5511, 27.2956,   3.6227, 2, 1001.3, 2, 213.69, 2, -999, -999, -999, -999, -999, 9,  -999.00, 9, -999, -999, 9, -999
49NZ20031106, A10, 626, 1, 23, 12035, 2, 20031107, 2026, -27.9058, -46.6660, 1257,   1000.1, 2,   3.6225, 2,  34.3278, 2,  34.3273, 2,    206.6, 1,    212.7, 2,    34.52, 2,    31.37, 2,    -0.01, 2,     2.15, 2, -999.000, 9, -999.000, 9, -999.000, 9,   -999.0, 9,   -999.0, 9, -999.0000, 9,   -999.00, -999.000, 9, -999.000,   -999.0, 9,   -999.0,  -999.00, 9,   -999.0,   3.5500, 27.2957,   3.6221, 2, 1001.4, 2, 213.68, 2, 0.19, 0.12, 0.01, 0.02, -999, 9,  -999.00, 9, -999, -999, 9, -999
49NZ20031106, A10, 626, 1, 16, 12028, 9, 20031107, 2026, -27.9058, -46.6660, 1257,   1000.1, 2,   3.6245, 2,  34.3276, 2, -999.0000, 9,    206.7, 1,   -999.0, 9,  -999.00, 9,  -999.00, 9,  -999.00, 9,  -999.00, 9, -999.000, 9, -999.000, 9, -999.000, 9,   -999.0, 9,   -999.0, 9, -999.0000, 9,   -999.00, -999.000, 9, -999.000,   -999.0, 9,   -999.0,  -999.00, 9,   -999.0,   3.5520, 27.2953,   3.6239, 2, 1001.4, 2, 213.68, 2, -999, -999, -999, -999, -999, 9,  -999.00, 9, -999, -999, 9, -999
49NZ20031106, A10, 626, 1, 1, 12013, 9, 20031107, 2026, -27.9058, -46.6660, 1257,   1000.2, 2,   3.6224, 2,  34.3280, 2, -999.0000, 9,    206.5, 1,   -999.0, 9,  -999.00, 9,  -999.00, 9,  -999.00, 9,  -999.00, 9, -999.000, 9, -999.000, 9, -999.000, 9,   -999.0, 9,   -999.0, 9, -999.0000, 9,   -999.00, -999.000, 9, -999.000,   -999.0, 9,   -999.0,  -999.00, 9,   -999.0,   3.5499, 27.2957,   3.6222, 2, 1001.5, 2, 213.67, 2, -999, -999, -999, -999, -999, 9,  -999.00, 9, -999, -999, 9, -999
49NZ20031106, A10, 626, 1, 17, 12029, 9, 20031107, 2026, -27.9058, -46.6660, 1257,   1000.3, 2,   3.6243, 2,  34.3276, 2, -999.0000, 9,    206.7, 1,   -999.0, 9,  -999.00, 9,  -999.00, 9,  -999.00, 9,  -999.00, 9, -999.000, 9, -999.000, 9, -999.000, 9,   -999.0, 9,   -999.0, 9, -999.0000, 9,   -999.00, -999.000, 9, -999.000,   -999.0, 9,   -999.0,  -999.00, 9,   -999.0,   3.5518, 27.2954,   3.6233, 2, 1001.5, 2, 213.67, 2, -999, -999, -999, -999, -999, 9,  -999.00, 9, -999, -999, 9, -999
49NZ20031106, A10, 626, 1, 10, 12022, 9, 20031107, 2026, -27.9058, -46.6660, 1257,   1000.3, 2,   3.6248, 2,  34.3277, 2, -999.0000, 9,    206.9, 1,   -999.0, 9,  -999.00, 9,  -999.00, 9,  -999.00, 9,  -999.00, 9, -999.000, 9, -999.000, 9, -999.000, 9,   -999.0, 9,   -999.0, 9, -999.0000, 9,   -999.00, -999.000, 9, -999.000,   -999.0, 9,   -999.0,  -999.00, 9,   -999.0,   3.5523, 27.2955,   3.6235, 2, 1001.5, 2, 213.67, 2, -999, -999, -999, -999, -999, 9,  -999.00, 9, -999, -999, 9, -999
49NZ20031106, A10, 626, 1, 9, 12015, 9, 20031107, 2026, -27.9058, -46.6660, 1257,   1000.3, 2,   3.6244, 2,  34.3276, 2, -999.0000, 9,    206.8, 1,   -999.0, 9,  -999.00, 9,  -999.00, 9,  -999.00, 9,  -999.00, 9, -999.000, 9, -999.000, 9, -999.000, 9,   -999.0, 9,   -999.0, 9, -999.0000, 9,   -999.00, -999.000, 9, -999.000,   -999.0, 9,   -999.0,  -999.00, 9,   -999.0,   3.5519, 27.2954,   3.6232, 2, 1001.5, 2, 213.67, 2, -999, -999, -999, -999, -999, 9,  -999.00, 9, -999, -999, 9, -999
49NZ20031106, A10, 626, 1, 5, 12017, 9, 20031107, 2026, -27.9058, -46.6660, 1257,   1000.3, 2,   3.6233, 2,  34.3278, 2, -999.0000, 9,    206.8, 1,   -999.0, 9,  -999.00, 9,  -999.00, 9,  -999.00, 9,  -999.00, 9, -999.000, 9, -999.000, 9, -999.000, 9,   -999.0, 9,   -999.0, 9, -999.0000, 9,   -999.00, -999.000, 9, -999.000,   -999.0, 9,   -999.0,  -999.00, 9,   -999.0,   3.5508, 27.2956,   3.6229, 2, 1001.6, 2, 213.66, 2, -999, -999, -999, -999, -999, 9,  -999.00, 9, -999, -999, 9, -999
49NZ20031106, A10, 626, 1, 20, 12032, 9, 20031107, 2026, -27.9058, -46.6660, 1257,   1000.4, 2,   3.6236, 2,  34.3274, 2, -999.0000, 9,    206.9, 1,   -999.0, 9,  -999.00, 9,  -999.00, 9,  -999.00, 9,  -999.00, 9, -999.000, 9, -999.000, 9, -999.000, 9,   -999.0, 9,   -999.0, 9, -999.0000, 9,   -999.00, -999.000, 9, -999.000,   -999.0, 9,   -999.0,  -999.00, 9,   -999.0,   3.5511, 27.2954,   3.6233, 2, 1001.6, 2, 213.66, 2, -999, -999, -999, -999, -999, 9,  -999.00, 9, -999, -999, 9, -999
49NZ20031106, A10, 626, 1, 19, 12031, 9, 20031107, 2026, -27.9058, -46.6660, 1257,   1000.4, 2,   3.6237, 2,  34.3276, 2, -999.0000, 9,    206.7, 1,   -999.0, 9,  -999.00, 9,  -999.00, 9,  -999.00, 9,  -999.00, 9, -999.000, 9, -999.000, 9, -999.000, 9,   -999.0, 9,   -999.0, 9, -999.0000, 9,   -999.00, -999.000, 9, -999.000,   -999.0, 9,   -999.0,  -999.00, 9,   -999.0,   3.5512, 27.2953,   3.6233, 2, 1001.6, 2, 213.66, 2, -999, -999, -999, -999, -999, 9,  -999.00, 9, -999, -999, 9, -999
49NZ20031106, A10, 626, 1, 6, 12018, 9, 20031107, 2026, -27.9058, -46.6660, 1257,   1000.4, 2,   3.6231, 2,  34.3276, 2, -999.0000, 9,    206.7, 1,   -999.0, 9,  -999.00, 9,  -999.00, 9,  -999.00, 9,  -999.00, 9, -999.000, 9, -999.000, 9, -999.000, 9,   -999.0, 9,   -999.0, 9, -999.0000, 9,   -999.00, -999.000, 9, -999.000,   -999.0, 9,   -999.0,  -999.00, 9,   -999.0,   3.5506, 27.2954,   3.6225, 2, 1001.6, 2, 213.66, 2, -999, -999, -999, -999, -999, 9,  -999.00, 9, -999, -999, 9, -999
49NZ20031106, A10, 626, 1, 12, 12024, 9, 20031107, 2026, -27.9058, -46.6660, 1257,   1000.5, 2,   3.6238, 2,  34.3280, 2, -999.0000, 9,    206.8, 1,   -999.0, 9,  -999.00, 9,  -999.00, 9,  -999.00, 9,  -999.00, 9, -999.000, 9, -999.000, 9, -999.000, 9,   -999.0, 9,   -999.0, 9, -999.0000, 9,   -999.00, -999.000, 9, -999.000,   -999.0, 9,   -999.0,  -999.00, 9,   -999.0,   3.5513, 27.2955,   3.6236, 2, 1001.7, 2, 213.65, 2, -999, -999, -999, -999, -999, 9,  -999.00, 9, -999, -999, 9, -999
49NZ20031106, A10, 626, 1, 11, 12023, 9, 20031107, 2026, -27.9058, -46.6660, 1257,   1000.5, 2,   3.6239, 2,  34.3279, 2, -999.0000, 9,    206.7, 1,   -999.0, 9,  -999.00, 9,  -999.00, 9,  -999.00, 9,  -999.00, 9, -999.000, 9, -999.000, 9, -999.000, 9,   -999.0, 9,   -999.0, 9, -999.0000, 9,   -999.00, -999.000, 9, -999.000,   -999.0, 9,   -999.0,  -999.00, 9,   -999.0,   3.5514, 27.2956,   3.6233, 2, 1001.7, 2, 213.65, 2, -999, -999, -999, -999, -999, 9,  -999.00, 9, -999, -999, 9, -999
49NZ20031106, A10, 626, 1, 8, 12020, 9, 20031107, 2026, -27.9058, -46.6660, 1257,   1000.5, 2,   3.6234, 2,  34.3276, 2, -999.0000, 9,    206.6, 1,   -999.0, 9,  -999.00, 9,  -999.00, 9,  -999.00, 9,  -999.00, 9, -999.000, 9, -999.000, 9, -999.000, 9,   -999.0, 9,   -999.0, 9, -999.0000, 9,   -999.00, -999.000, 9, -999.000,   -999.0, 9,   -999.0,  -999.00, 9,   -999.0,   3.5509, 27.2954,   3.6230, 2, 1001.7, 2, 213.64, 2, -999, -999, -999, -999, -999, 9,  -999.00, 9, -999, -999, 9, -999
49NZ20031106, A10, 626, 1, 4, 12016, 9, 20031107, 2026, -27.9058, -46.6660, 1257,   1000.6, 2,   3.6232, 2,  34.3280, 2, -999.0000, 9,    206.7, 1,   -999.0, 9,  -999.00, 9,  -999.00, 9,  -999.00, 9,  -999.00, 9, -999.000, 9, -999.000, 9, -999.000, 9,   -999.0, 9,   -999.0, 9, -999.0000, 9,   -999.00, -999.000, 9, -999.000,   -999.0, 9,   -999.0,  -999.00, 9,   -999.0,   3.5507, 27.2955,   3.6232, 2, 1001.8, 2, 213.63, 2, -999, -999, -999, -999, -999, 9,  -999.00, 9, -999, -999, 9, -999
49NZ20031106, A10, 626, 1, 14, 12026, 9, 20031107, 2026, -27.9058, -46.6660, 1257,   1000.7, 2,   3.6235, 2,  34.3278, 2, -999.0000, 9,    206.9, 1,   -999.0, 9,  -999.00, 9,  -999.00, 9,  -999.00, 9,  -999.00, 9, -999.000, 9, -999.000, 9, -999.000, 9,   -999.0, 9,   -999.0, 9, -999.0000, 9,   -999.00, -999.000, 9, -999.000,   -999.0, 9,   -999.0,  -999.00, 9,   -999.0,   3.5510, 27.2957,   3.6235, 2, 1001.9, 2, 213.62, 2, -999, -999, -999, -999, -999, 9,  -999.00, 9, -999, -999, 9, -999
49NZ20031106, A10, 626, 1, 13, 12025, 9, 20031107, 2026, -27.9058, -46.6660, 1257,   1000.7, 2,   3.6236, 2,  34.3280, 2, -999.0000, 9,    206.8, 1,   -999.0, 9,  -999.00, 9,  -999.00, 9,  -999.00, 9,  -999.00, 9, -999.000, 9, -999.000, 9, -999.000, 9,   -999.0, 9,   -999.0, 9, -999.0000, 9,   -999.00, -999.000, 9, -999.000,   -999.0, 9,   -999.0,  -999.00, 9,   -999.0,   3.5511, 27.2956,   3.6235, 2, 1001.9, 2, 213.62, 2, -999, -999, -999, -999, -999, 9,  -999.00, 9, -999, -999, 9, -999
49NZ20031106, A10, 626, 1, 7, 12019, 9, 20031107, 2026, -27.9058, -46.6660, 1257,   1000.9, 2,   3.6227, 2,  34.3280, 2, -999.0000, 9,    206.8, 1,   -999.0, 9,  -999.00, 9,  -999.00, 9,  -999.00, 9,  -999.00, 9, -999.000, 9, -999.000, 9, -999.000, 9,   -999.0, 9,   -999.0, 9, -999.0000, 9,   -999.00, -999.000, 9, -999.000,   -999.0, 9,   -999.0,  -999.00, 9,   -999.0,   3.5502, 27.2956,   3.6228, 2, 1002.1, 2, 213.6, 2, -999, -999, -999, -999, -999, 9,  -999.00, 9, -999, -999, 9, -999
49NZ20031106, A10, 626, 1, 22, 12034, 2, 20031107, 2026, -27.9058, -46.6660, 1257,   1200.6, 2,   3.2242, 2,  34.4240, 2,  34.4251, 2,    190.9, 1,    195.6, 2,    46.02, 2,    32.51, 2,     0.00, 2,     2.23, 2, -999.000, 9, -999.000, 9, -999.000, 9,   -999.0, 9,   -999.0, 9, -999.0000, 9,   -999.00, -999.000, 9, -999.000,   -999.0, 9,   -999.0,  -999.00, 9,   -999.0,   3.1389, 27.412,   3.2236, 2, 1201.4, 2, 196.16, 2, 0.22, 0.12, 0.01, 0.02, -999, 9,  -999.00, 9, -999, -999, 9, -999
49NZ20031106, A10, 626, 1, 21, 12033, 2, 20031107, 2026, -27.9058, -46.6660, 1257,   1251.8, 2,   3.1733, 2,  34.4443, 2,  34.4449, 2,    189.3, 1,    193.6, 2,    47.45, 2,    32.51, 2,    -0.01, 2,     2.23, 2, -999.000, 9, -999.000, 9, -999.000, 9,   -999.0, 9,   -999.0, 9, -999.0000, 9,   -999.00, -999.000, 9, -999.000,   -999.0, 9,   -999.0,  -999.00, 9,   -999.0,   3.0843, 27.4335,   3.1725, 2, 1251.8, 2, 193.64, 2, 0.22, 0.12, 0.01, 0.02, -999, 9,  -999.00, 9, -999, -999, 9, -999