BOTTLE,20220818CCHSIOAMB
EXPOCODE,SECT_ID,STNNBR,CASTNO,SAMPNO,BTLNBR,BTLNBR_FLAG_W,DATE,TIME,LATITUDE,LONGITUDE,DEPTH,CTDPRS,CTDPRS_FLAG_W,CTDTMP,CTDTMP_FLAG_W,CTDSAL,CTDSAL_FLAG_W,SALNTY,SALNTY_FLAG_W,CTDOXY,CTDOXY_FLAG_W,OXYGEN,OXYGEN_FLAG_W,SILCAT,SILCAT_FLAG_W,NITRAT,NITRAT_FLAG_W,NITRIT,NITRIT_FLAG_W,PHSPHT,PHSPHT_FLAG_W,CFC-11,CFC-11_FLAG_W,CFC-12,CFC-12_FLAG_W,CFC113,CFC113_FLAG_W,TCARBN,TCARBN_FLAG_W,ALKALI,ALKALI_FLAG_W,PH_TOT,PH_TOT_FLAG_W,PH_TMP,TRITUM,TRITUM_FLAG_W,TRITER,DELC14,DELC14_FLAG_W,C14ERR,DELC13,DELC13_FLAG_W,C13ERR,THETA,SIG0,SBE35,SBE35_FLAG_W,DWNPRS,DWNPRS_FLAG_W,DWNOXY,DWNOXY_FLAG_W,SILUNC,NRAUNC,NRIUNC,PHPUNC,TOC,TOC_FLAG_W,CS-137,CS-137_FLAG_W,CS137ER,PLUTO,PLUTO_FLAG_W,PLUTOER
,,,,,,,,,,,METERS,DBAR,,ITS-90,,PSS-78,,PSS-78,,UMOL/KG,,UMOL/KG,,UMOL/KG,,UMOL/KG,,UMOL/KG,,UMOL/KG,,PMOL/KG,,PMOL/KG,,PMOL/KG,,UMOL/KG,,UMOL/KG,,,,DEG C,TU,,TU,/MILLE,,/MILLE,/MILLE,,/MILLE,DEG C,KG/M^3,ITS-90,,DBAR,,UMOL/KG,,UMOL/KG,UMOL/KG,UMOL/KG,UMOL/KG,UMOL/KG,,BQ/M^3,,BQ/M^3,MBQ/M^3,,MBQ/M^3
49NZ20031106, A10, 70, 1, 36, 12024, 2, 20031126, 14, -30.0130, -2.3212, 4407,     10.0, 2,  18.9120, 2,  35.8934, 2,  35.8921, 2,    222.6, 1,    235.6, 2,     1.65, 2,     0.01, 2,     0.00, 2,     0.17, 2, -999.000, 9, -999.000, 9, -999.000, 9,   -999.0, 9,   -999.0, 9, -999.0000, 9,   -999.00, -999.000, 9, -999.000,   -999.0, 9,   -999.0,  -999.00, 9,   -999.0,  18.9102, 25.7283,  18.9118, 2, 10, 2, 236.38, 2, 0.12, 0.03, 0.01, 0.02, -999, 9,  -999.00, 9, -999, -999, 9, -999
49NZ20031106, A10, 70, 1, 1, 12025, 9, 20031126, 14, -30.0130, -2.3212, 4407,     10.2, 2,  18.9464, 2,  35.8932, 2, -999.0000, 9,    222.7, 1,   -999.0, 9,  -999.00, 9,  -999.00, 9,  -999.00, 9,  -999.00, 9, -999.000, 9, -999.000, 9, -999.000, 9,   -999.0, 9,   -999.0, 9, -999.0000, 9,   -999.00, -999.000, 9, -999.000,   -999.0, 9,   -999.0,  -999.00, 9,   -999.0,  18.9446, 25.7248,  18.9342, 2, 10.2, 2, 236.4, 2, -999, -999, -999, -999, -999, 9,  -999.00, 9, -999, -999, 9, -999
49NZ20031106, A10, 70, 1, 35, 12023, 2, 20031126, 14, -30.0130, -2.3212, 4407,     50.7, 2,  18.5192, 2,  35.8873, 2,  35.8874, 2,    225.8, 1,    238.3, 2,     1.62, 2,    -0.02, 2,     0.00, 2,     0.17, 2, -999.000, 9, -999.000, 9, -999.000, 9,   -999.0, 9,   -999.0, 9, -999.0000, 9,   -999.00, -999.000, 9, -999.000,   -999.0, 9,   -999.0,  -999.00, 9,   -999.0,  18.5103, 25.8246,  18.5246, 2, 49.5, 2, 238.29, 2, 0.12, 0.03, 0.01, 0.02, -999, 9,  -999.00, 9, -999, -999, 9, -999
49NZ20031106, A10, 70, 1, 34, 12022, 2, 20031126, 14, -30.0130, -2.3212, 4407,    101.4, 2,  17.2518, 2,  35.7852, 2,  35.7844, 2,    223.8, 1,    236.3, 2,     2.11, 2,     0.38, 2,     0.50, 2,     0.23, 2, -999.000, 9, -999.000, 9, -999.000, 9,   -999.0, 9,   -999.0, 9, -999.0000, 9,   -999.00, -999.000, 9, -999.000,   -999.0, 9,   -999.0,  -999.00, 9,   -999.0,  17.2348, 26.0621,  17.2523, 2, 99.6, 2, 232.8, 2, 0.12, 0.03, 0, 0.02, -999, 9,  -999.00, 9, -999, -999, 9, -999
49NZ20031106, A10, 70, 1, 33, 12015, 2, 20031126, 14, -30.0130, -2.3212, 4407,    148.9, 2,  17.1765, 2,  35.7802, 2,  35.7798, 2,    220.7, 1,    232.7, 2,     2.29, 2,     0.72, 2,     0.84, 2,     0.26, 2, -999.000, 9, -999.000, 9, -999.000, 9,   -999.0, 9,   -999.0, 9, -999.0000, 9,   -999.00, -999.000, 9, -999.000,   -999.0, 9,   -999.0,  -999.00, 9,   -999.0,  17.1516, 26.0786,  17.1769, 2, 148.4, 2, 232.28, 2, 0.12, 0.03, 0, 0.01, -999, 9,  -999.00, 9, -999, -999, 9, -999
49NZ20031106, A10, 70, 1, 32, 12020, 2, 20031126, 14, -30.0130, -2.3212, 4407,    200.8, 2,  17.1226, 2,  35.7691, 2,  35.7691, 2,    218.7, 1,    230.5, 2,     2.27, 2,     1.56, 2,     0.16, 2,     0.27, 2, -999.000, 9, -999.000, 9, -999.000, 9,   -999.0, 9,   -999.0, 9, -999.0000, 9,   -999.00, -999.000, 9, -999.000,   -999.0, 9,   -999.0,  -999.00, 9,   -999.0,  17.0891, 26.0854,  17.1235, 2, 199.5, 2, 228.05, 2, 0.12, 0.04, 0.01, 0.01, -999, 9,  -999.00, 9, -999, -999, 9, -999
49NZ20031106, A10, 70, 1, 31, 12019, 2, 20031126, 14, -30.0130, -2.3212, 4407,    252.1, 2,  16.2216, 2,  35.6301, 2,  35.6301, 2,    213.8, 1,    224.6, 2,     2.30, 2,     2.91, 2,     0.01, 2,     0.36, 2, -999.000, 9, -999.000, 9, -999.000, 9,   -999.0, 9,   -999.0, 9, -999.0000, 9,   -999.00, -999.000, 9, -999.000,   -999.0, 9,   -999.0,  -999.00, 9,   -999.0,  16.1811, 26.1928,  16.2212, 2, 249.7, 2, 221.46, 2, 0.12, 0.04, 0.01, 0.01, -999, 9,  -999.00, 9, -999, -999, 9, -999
49NZ20031106, A10, 70, 1, 30, 12018, 2, 20031126, 14, -30.0130, -2.3212, 4407,    299.7, 2,  15.3292, 2,  35.5167, 2,  35.5169, 2,    208.0, 1,    218.7, 2,     3.00, 2,     5.19, 2,     0.01, 2,     0.49, 2, -999.000, 9, -999.000, 9, -999.000, 9,   -999.0, 9,   -999.0, 9, -999.0000, 9,   -999.00, -999.000, 9, -999.000,   -999.0, 9,   -999.0,  -999.00, 9,   -999.0,  15.2828, 26.3097,  15.3300, 2, 296.1, 2, 220.72, 2, 0.13, 0.05, 0.01, 0.01, -999, 9,  -999.00, 9, -999, -999, 9, -999
49NZ20031106, A10, 70, 1, 29, 12017, 2, 20031126, 14, -30.0130, -2.3212, 4407,    399.0, 2,  13.9767, 2,  35.3043, 2,  35.3039, 2,    206.5, 1,    216.6, 2,     3.35, 2,     7.45, 2,     0.00, 2,     0.63, 2, -999.000, 9, -999.000, 9, -999.000, 9,   -999.0, 9,   -999.0, 9, -999.0000, 9,   -999.00, -999.000, 9, -999.000,   -999.0, 9,   -999.0,  -999.00, 9,   -999.0,  13.9185, 26.4414,  13.9770, 2, 397.2, 2, 216.38, 2, 0.13, 0.05, 0.01, 0.01, -999, 9,  -999.00, 9, -999, -999, 9, -999
49NZ20031106, A10, 70, 1, 28, 12016, 2, 20031126, 14, -30.0130, -2.3212, 4407,    498.7, 2,  12.2292, 2,  35.0721, 2,  35.0723, 2,    206.4, 1,    216.1, 2,     4.30, 2,    11.17, 2,     0.00, 2,     0.86, 2, -999.000, 9, -999.000, 9, -999.000, 9,   -999.0, 9,   -999.0, 9, -999.0000, 9,   -999.00, -999.000, 9, -999.000,   -999.0, 9,   -999.0,  -999.00, 9,   -999.0,  12.1625, 26.6156,  12.2297, 2, 495.8, 2, 215.23, 2, 0.13, 0.06, 0.01, 0.01, -999, 9,  -999.00, 9, -999, -999, 9, -999
49NZ20031106, A10, 70, 1, 27, 12012, 2, 20031126, 14, -30.0130, -2.3212, 4407,    600.5, 2,  10.5993, 2,  34.8691, 2,  34.8676, 2,    200.5, 1,    209.4, 2,     6.45, 2,    15.69, 2,     0.00, 2,     1.14, 2, -999.000, 9, -999.000, 9, -999.000, 9,   -999.0, 9,   -999.0, 9, -999.0000, 9,   -999.00, -999.000, 9, -999.000,   -999.0, 9,   -999.0,  -999.00, 9,   -999.0,  10.5257, 26.7603,  10.5977, 2, 597.3, 2, 209.86, 2, 0.13, 0.08, 0.01, 0.01, -999, 9,  -999.00, 9, -999, -999, 9, -999
49NZ20031106, A10, 70, 1, 26, 12014, 2, 20031126, 14, -30.0130, -2.3212, 4407,    699.9, 2,   8.6505, 2,  34.6467, 2,  34.6468, 2,    186.3, 1,    194.4, 2,    11.40, 2,    21.76, 2,     0.00, 2,     1.53, 2, -999.000, 9, -999.000, 9, -999.000, 9,   -999.0, 9,   -999.0, 9, -999.0000, 9,   -999.00, -999.000, 9, -999.000,   -999.0, 9,   -999.0,  -999.00, 9,   -999.0,   8.5744, 26.9096,   8.6509, 2, 697.3, 2, 195.4, 2, 0.14, 0.09, 0.01, 0.01, -999, 9,  -999.00, 9, -999, -999, 9, -999
49NZ20031106, A10, 70, 1, 25, 12013, 2, 20031126, 14, -30.0130, -2.3212, 4407,    802.7, 2,   6.7962, 2,  34.4717, 2,  34.4717, 2,    193.2, 1,    201.6, 2,    16.12, 2,    25.81, 2,     0.00, 2,     1.79, 2, -999.000, 9, -999.000, 9, -999.000, 9,   -999.0, 9,   -999.0, 9, -999.0000, 9,   -999.00, -999.000, 9, -999.000,   -999.0, 9,   -999.0,  -999.00, 9,   -999.0,   6.7196, 27.042,   6.7955, 2, 802.9, 2, 202.29, 2, 0.15, 0.11, 0.01, 0.01, -999, 9,  -999.00, 9, -999, -999, 9, -999
49NZ20031106, A10, 70, 1, 24, 12048, 2, 20031126, 14, -30.0130, -2.3212, 4407,    897.9, 2,   5.2320, 2,  34.3620, 2,  34.3615, 2,    200.7, 1,    209.7, 2,    22.48, 2,    28.83, 2,     0.00, 2,     1.98, 2, -999.000, 9, -999.000, 9, -999.000, 9,   -999.0, 9,   -999.0, 9, -999.0000, 9,   -999.00, -999.000, 9, -999.000,   -999.0, 9,   -999.0,  -999.00, 9,   -999.0,   5.1565, 27.152,   5.2328, 2, 899.3, 2, 210.06, 2, 0.17, 0.11, 0.01, 0.02, -999, 9,  -999.00, 9, -999, -999, 9, -999
49NZ20031106, A10, 70, 1, 4, 12028, 9, 20031126, 14, -30.0130, -2.3212, 4407,   1000.1, 2,   4.4189, 2,  34.3462, 2, -999.0000, 9,    196.2, 1,   -999.0, 9,  -999.00, 9,  -999.00, 9,  -999.00, 9,  -999.00, 9, -999.000, 9, -999.000, 9, -999.000, 9,   -999.0, 9,   -999.0, 9, -999.0000, 9,   -999.00, -999.000, 9, -999.000,   -999.0, 9,   -999.0,  -999.00, 9,   -999.0,   4.3403, 27.2313,   4.4189, 2, 1002.6, 2, 207.27, 2, -999, -999, -999, -999, -999, 9,  -999.00, 9, -999, -999, 9, -999
49NZ20031106, A10, 70, 1, 23, 12047, 2, 20031126, 14, -30.0130, -2.3212, 4407,   1000.3, 2,   4.4173, 2,  34.3465, 2,  34.3471, 2,    196.2, 1,    204.8, 2,    29.38, 2,    30.79, 2,     0.00, 2,     2.12, 2, -999.000, 9, -999.000, 9, -999.000, 9,   -999.0, 9,   -999.0, 9, -999.0000, 9,   -999.00, -999.000, 9, -999.000,   -999.0, 9,   -999.0,  -999.00, 9,   -999.0,   4.3387, 27.2314,   4.4173, 2, 1002.8, 2, 207.25, 2, 0.18, 0.12, 0.01, 0.02, -999, 9,  -999.00, 9, -999, -999, 9, -999
49NZ20031106, A10, 70, 1, 2, 12026, 9, 20031126, 14, -30.0130, -2.3212, 4407,   1000.6, 2,   4.4192, 2,  34.3462, 2, -999.0000, 9,    196.0, 1,   -999.0, 9,  -999.00, 9,  -999.00, 9,  -999.00, 9,  -999.00, 9, -999.000, 9, -999.000, 9, -999.000, 9,   -999.0, 9,   -999.0, 9, -999.0000, 9,   -999.00, -999.000, 9, -999.000,   -999.0, 9,   -999.0,  -999.00, 9,   -999.0,   4.3405, 27.2312,   4.4186, 2, 1003, 2, 207.24, 2, -999, -999, -999, -999, -999, 9,  -999.00, 9, -999, -999, 9, -999
49NZ20031106, A10, 70, 1, 6, 12030, 9, 20031126, 14, -30.0130, -2.3212, 4407,   1000.7, 2,   4.4153, 2,  34.3464, 2, -999.0000, 9,    196.0, 1,   -999.0, 9,  -999.00, 9,  -999.00, 9,  -999.00, 9,  -999.00, 9, -999.000, 9, -999.000, 9, -999.000, 9,   -999.0, 9,   -999.0, 9, -999.0000, 9,   -999.00, -999.000, 9, -999.000,   -999.0, 9,   -999.0,  -999.00, 9,   -999.0,   4.3366, 27.2315,   4.4161, 2, 1003.2, 2, 207.22, 2, -999, -999, -999, -999, -999, 9,  -999.00, 9, -999, -999, 9, -999
49NZ20031106, A10, 70, 1, 3, 12027, 9, 20031126, 14, -30.0130, -2.3212, 4407,   1000.7, 2,   4.4186, 2,  34.3463, 2, -999.0000, 9,    196.0, 1,   -999.0, 9,  -999.00, 9,  -999.00, 9,  -999.00, 9,  -999.00, 9, -999.000, 9, -999.000, 9, -999.000, 9,   -999.0, 9,   -999.0, 9, -999.0000, 9,   -999.00, -999.000, 9, -999.000,   -999.0, 9,   -999.0,  -999.00, 9,   -999.0,   4.3399, 27.2312,   4.4188, 2, 1003.1, 2, 207.23, 2, -999, -999, -999, -999, -999, 9,  -999.00, 9, -999, -999, 9, -999
49NZ20031106, A10, 70, 1, 5, 12029, 9, 20031126, 14, -30.0130, -2.3212, 4407,   1000.8, 2,   4.4174, 2,  34.3463, 2, -999.0000, 9,    196.1, 1,   -999.0, 9,  -999.00, 9,  -999.00, 9,  -999.00, 9,  -999.00, 9, -999.000, 9, -999.000, 9, -999.000, 9,   -999.0, 9,   -999.0, 9, -999.0000, 9,   -999.00, -999.000, 9, -999.000,   -999.0, 9,   -999.0,  -999.00, 9,   -999.0,   4.3387, 27.2314,   4.4175, 2, 1003.2, 2, 207.2, 2, -999, -999, -999, -999, -999, 9,  -999.00, 9, -999, -999, 9, -999
49NZ20031106, A10, 70, 1, 22, 12046, 2, 20031126, 14, -30.0130, -2.3212, 4407,   1199.9, 2,   3.5418, 2,  34.4294, 2,  34.4289, 2,    178.7, 1,    187.0, 2,    45.06, 2,    32.99, 2,     0.00, 2,     2.28, 2, -999.000, 9, -999.000, 9, -999.000, 9,   -999.0, 9,   -999.0, 9, -999.0000, 9,   -999.00, -999.000, 9, -999.000,   -999.0, 9,   -999.0,  -999.00, 9,   -999.0,   3.4536, 27.3879,   3.5415, 2, 1203.9, 2, 190.17, 2, 0.22, 0.13, 0.01, 0.02, -999, 9,  -999.00, 9, -999, -999, 9, -999
49NZ20031106, A10, 70, 1, 21, 12045, 2, 20031126, 14, -30.0130, -2.3212, 4407,   1401.3, 2,   3.1322, 2,  34.5504, 2,  34.5505, 2,    172.8, 1,    180.6, 2,    54.05, 2,    32.68, 2,     0.00, 2,     2.26, 2, -999.000, 9, -999.000, 9, -999.000, 9,   -999.0, 9,   -999.0, 9, -999.0000, 9,   -999.00, -999.000, 9, -999.000,   -999.0, 9,   -999.0,  -999.00, 9,   -999.0,   3.0312, 27.5241,   3.1326, 2, 1407.4, 2, 180.53, 2, 0.24, 0.12, 0.01, 0.02, -999, 9,  -999.00, 9, -999, -999, 9, -999
49NZ20031106, A10, 70, 1, 20, 12044, 2, 20031126, 14, -30.0130, -2.3212, 4407,   1599.7, 2,   3.0937, 2,  34.6781, 2,  34.6783, 3,    181.1, 1,    189.3, 2,    50.84, 2,    30.21, 2,     0.00, 2,     2.08, 2, -999.000, 9, -999.000, 9, -999.000, 9,   -999.0, 9,   -999.0, 9, -999.0000, 9,   -999.00, -999.000, 9, -999.000,   -999.0, 9,   -999.0,  -999.00, 9,   -999.0,   2.9761, 27.6312,   3.0937, 2, 1604.4, 2, 186.76, 2, 0.23, 0.12, 0.01, 0.02, -999, 9,  -999.00, 9, -999, -999, 9, -999
49NZ20031106, A10, 70, 1, 19, 12043, 2, 20031126, 14, -30.0130, -2.3212, 4407,   1799.2, 2,   2.9326, 2,  34.7470, 2,  34.7472, 2,    191.8, 1,    201.1, 2,    50.77, 2,    28.39, 2,     0.00, 2,     1.95, 2, -999.000, 9, -999.000, 9, -999.000, 9,   -999.0, 9,   -999.0, 9, -999.0000, 9,   -999.00, -999.000, 9, -999.000,   -999.0, 9,   -999.0,  -999.00, 9,   -999.0,   2.7996, 27.7021,   2.9326, 2, 1803.1, 2, 198.11, 2, 0.23, 0.11, 0.01, 0.01, -999, 9,  -999.00, 9, -999, -999, 9, -999
49NZ20031106, A10, 70, 1, 18, 12042, 2, 20031126, 14, -30.0130, -2.3212, 4407,   2000.9, 2,   2.7907, 2,  34.7830, 2,  34.7829, 2,    199.8, 1,    209.5, 2,    51.37, 2,    27.20, 2,     0.00, 2,     1.86, 2, -999.000, 9, -999.000, 9, -999.000, 9,   -999.0, 9,   -999.0, 9, -999.0000, 9,   -999.00, -999.000, 9, -999.000,   -999.0, 9,   -999.0,  -999.00, 9,   -999.0,   2.6417, 27.7449,   2.7908, 2, 2002.6, 2, 208.18, 2, 0.23, 0.11, 0.01, 0.01, -999, 9,  -999.00, 9, -999, -999, 9, -999
49NZ20031106, A10, 70, 1, 17, 12041, 2, 20031126, 14, -30.0130, -2.3212, 4407,   2199.0, 2,   2.6689, 2,  34.8160, 2,  34.8158, 2,    208.2, 1,    218.2, 2,    50.82, 2,    25.97, 2,     0.00, 2,     1.77, 2, -999.000, 9, -999.000, 9, -999.000, 9,   -999.0, 9,   -999.0, 9, -999.0000, 9,   -999.00, -999.000, 9, -999.000,   -999.0, 9,   -999.0,  -999.00, 9,   -999.0,   2.5038, 27.7833,   2.6687, 2, 2200.7, 2, 216.99, 2, 0.23, 0.11, 0.01, 0.01, -999, 9,  -999.00, 9, -999, -999, 9, -999
49NZ20031106, A10, 70, 1, 16, 12040, 2, 20031126, 14, -30.0130, -2.3212, 4407,   2400.7, 2,   2.5314, 2,  34.8336, 2,  34.8334, 2,    214.4, 1,    224.7, 2,    51.60, 2,    25.22, 2,    -0.01, 2,     1.72, 2, -999.000, 9, -999.000, 9, -999.000, 9,   -999.0, 9,   -999.0, 9, -999.0000, 9,   -999.00, -999.000, 9, -999.000,   -999.0, 9,   -999.0,  -999.00, 9,   -999.0,   2.3499, 27.8104,   2.5313, 2, 2402.3, 2, 223.23, 2, 0.23, 0.1, 0.01, 0.01, -999, 9,  -999.00, 9, -999, -999, 9, -999
49NZ20031106, A10, 70, 1, 15, 12039, 2, 20031126, 14, -30.0130, -2.3212, 4407,   2600.6, 2,   2.4708, 2,  34.8455, 2,  34.8456, 2,    218.7, 1,    229.3, 2,    51.35, 2,    24.68, 2,     0.00, 2,     1.68, 2, -999.000, 9, -999.000, 9, -999.000, 9,   -999.0, 9,   -999.0, 9, -999.0000, 9,   -999.00, -999.000, 9, -999.000,   -999.0, 9,   -999.0,  -999.00, 9,   -999.0,   2.2714, 27.8267,   2.4707, 2, 2601.6, 2, 228.35, 2, 0.23, 0.1, 0.01, 0.01, -999, 9,  -999.00, 9, -999, -999, 9, -999
49NZ20031106, A10, 70, 1, 14, 12038, 2, 20031126, 14, -30.0130, -2.3212, 4407,   2801.5, 2,   2.4270, 2,  34.8557, 2,  34.8558, 2,    222.1, 1,    232.6, 2,    50.87, 2,    24.21, 2,     0.00, 2,     1.65, 2, -999.000, 9, -999.000, 9, -999.000, 9,   -999.0, 9,   -999.0, 9, -999.0000, 9,   -999.00, -999.000, 9, -999.000,   -999.0, 9,   -999.0,  -999.00, 9,   -999.0,   2.2089, 27.8399,   2.4271, 2, 2801.4, 2, 232.51, 2, 0.23, 0.1, 0.01, 0.01, -999, 9,  -999.00, 9, -999, -999, 9, -999
49NZ20031106, A10, 70, 1, 13, 12037, 2, 20031126, 14, -30.0130, -2.3212, 4407,   3001.5, 2,   2.3919, 2,  34.8626, 2,  34.8625, 2,    224.2, 1,    234.6, 2,    50.93, 2,    23.91, 2,     0.00, 2,     1.63, 2, -999.000, 9, -999.000, 9, -999.000, 9,   -999.0, 9,   -999.0, 9, -999.0000, 9,   -999.00, -999.000, 9, -999.000,   -999.0, 9,   -999.0,  -999.00, 9,   -999.0,   2.1545, 27.85,   2.3919, 2, 3001.6, 2, 234.64, 2, 0.23, 0.1, 0.01, 0.01, -999, 9,  -999.00, 9, -999, -999, 9, -999
49NZ20031106, A10, 70, 1, 12, 12036, 2, 20031126, 14, -30.0130, -2.3212, 4407,   3252.6, 2,   2.3694, 2,  34.8697, 2,  34.8700, 2,    225.4, 1,    235.7, 2,    50.94, 2,    23.65, 2,     0.00, 2,     1.61, 2, -999.000, 9, -999.000, 9, -999.000, 9,   -999.0, 9,   -999.0, 9, -999.0000, 9,   -999.00, -999.000, 9, -999.000,   -999.0, 9,   -999.0,  -999.00, 9,   -999.0,   2.1067, 27.8598,   2.3693, 2, 3252.7, 2, 235.64, 2, 0.23, 0.1, 0.01, 0.01, -999, 9,  -999.00, 9, -999, -999, 9, -999
49NZ20031106, A10, 70, 1, 11, 12035, 2, 20031126, 14, -30.0130, -2.3212, 4407,   3500.3, 2,   2.3495, 2,  34.8752, 2,  34.8749, 2,    225.6, 1,    235.2, 2,    51.33, 2,    23.55, 2,     0.00, 2,     1.59, 2, -999.000, 9, -999.000, 9, -999.000, 9,   -999.0, 9,   -999.0, 9, -999.0000, 9,   -999.00, -999.000, 9, -999.000,   -999.0, 9,   -999.0,  -999.00, 9,   -999.0,   2.0610, 27.8677,   2.3496, 2, 3500.5, 2, 235.36, 2, 0.23, 0.1, 0.01, 0.01, -999, 9,  -999.00, 9, -999, -999, 9, -999
49NZ20031106, A10, 70, 1, 10, 12034, 2, 20031126, 14, -30.0130, -2.3212, 4407,   3751.1, 2,   2.3465, 2,  34.8763, 2,  34.8762, 2,    225.4, 1,    234.3, 2,    52.32, 2,    23.59, 2,     0.00, 2,     1.59, 2, -999.000, 9, -999.000, 9, -999.000, 9,   -999.0, 9,   -999.0, 9, -999.0000, 9,   -999.00, -999.000, 9, -999.000,   -999.0, 9,   -999.0,  -999.00, 9,   -999.0,   2.0307, 27.8713,   2.3464, 2, 3751.1, 2, 234.4, 2, 0.23, 0.1, 0.01, 0.01, -999, 9,  -999.00, 9, -999, -999, 9, -999
49NZ20031106, A10, 70, 1, 9, 12033, 2, 20031126, 14, -30.0130, -2.3212, 4407,   4000.4, 2,   2.3311, 2,  34.8748, 2,  34.8747, 2,    225.0, 1,    233.1, 2,    53.97, 2,    23.78, 2,     0.00, 2,     1.61, 2, -999.000, 9, -999.000, 9, -999.000, 9,   -999.0, 9,   -999.0, 9, -999.0000, 9,   -999.00, -999.000, 9, -999.000,   -999.0, 9,   -999.0,  -999.00, 9,   -999.0,   1.9877, 27.8735,   2.3311, 2, 4000.2, 2, 232.98, 2, 0.24, 0.1, 0.01, 0.01, -999, 9,  -999.00, 9, -999, -999, 9, -999
49NZ20031106, A10, 70, 1, 8, 12032, 2, 20031126, 14, -30.0130, -2.3212, 4407,   4251.5, 2,   2.2991, 2,  34.8687, 2,  34.8690, 2,    225.0, 1,    231.8, 2,    56.57, 2,    24.15, 2,     0.00, 2,     1.64, 2, -999.000, 9, -999.000, 9, -999.000, 9,   -999.0, 9,   -999.0, 9, -999.0000, 9,   -999.00, -999.000, 9, -999.000,   -999.0, 9,   -999.0,  -999.00, 9,   -999.0,   1.9276, 27.8735,   2.2979, 2, 4251.4, 2, 231.83, 2, 0.24, 0.1, 0.01, 0.01, -999, 9,  -999.00, 9, -999, -999, 9, -999
49NZ20031106, A10, 70, 1, 7, 12031, 2, 20031126, 14, -30.0130, -2.3212, 4407,   4447.7, 2,   2.2987, 2,  34.8657, 2,  34.8657, 2,    226.0, 1,    231.1, 2,    57.49, 2,    24.27, 2,     0.00, 2,     1.65, 2, -999.000, 9, -999.000, 9, -999.000, 9,   -999.0, 9,   -999.0, 9, -999.0000, 9,   -999.00, -999.000, 9, -999.000,   -999.0, 9,   -999.0,  -999.00, 9,   -999.0,   1.9041, 27.8731,   2.2987, 2, 4447.7, 2, 230.96, 2, 0.25, 0.1, 0.01, 0.01, -999, 9,  -999.00, 9, -999, -999, 9, -999