BOTTLE,20220818CCHSIOAMB
EXPOCODE,SECT_ID,STNNBR,CASTNO,SAMPNO,BTLNBR,BTLNBR_FLAG_W,DATE,TIME,LATITUDE,LONGITUDE,DEPTH,CTDPRS,CTDPRS_FLAG_W,CTDTMP,CTDTMP_FLAG_W,CTDSAL,CTDSAL_FLAG_W,SALNTY,SALNTY_FLAG_W,CTDOXY,CTDOXY_FLAG_W,OXYGEN,OXYGEN_FLAG_W,SILCAT,SILCAT_FLAG_W,NITRAT,NITRAT_FLAG_W,NITRIT,NITRIT_FLAG_W,PHSPHT,PHSPHT_FLAG_W,CFC-11,CFC-11_FLAG_W,CFC-12,CFC-12_FLAG_W,CFC113,CFC113_FLAG_W,TCARBN,TCARBN_FLAG_W,ALKALI,ALKALI_FLAG_W,PH_TOT,PH_TOT_FLAG_W,PH_TMP,TRITUM,TRITUM_FLAG_W,TRITER,DELC14,DELC14_FLAG_W,C14ERR,DELC13,DELC13_FLAG_W,C13ERR,THETA,SIG0,SBE35,SBE35_FLAG_W,DWNPRS,DWNPRS_FLAG_W,DWNOXY,DWNOXY_FLAG_W,SILUNC,NRAUNC,NRIUNC,PHPUNC,TOC,TOC_FLAG_W,CS-137,CS-137_FLAG_W,CS137ER,PLUTO,PLUTO_FLAG_W,PLUTOER
,,,,,,,,,,,METERS,DBAR,,ITS-90,,PSS-78,,PSS-78,,UMOL/KG,,UMOL/KG,,UMOL/KG,,UMOL/KG,,UMOL/KG,,UMOL/KG,,PMOL/KG,,PMOL/KG,,PMOL/KG,,UMOL/KG,,UMOL/KG,,,,DEG C,TU,,TU,/MILLE,,/MILLE,/MILLE,,/MILLE,DEG C,KG/M^3,ITS-90,,DBAR,,UMOL/KG,,UMOL/KG,UMOL/KG,UMOL/KG,UMOL/KG,UMOL/KG,,BQ/M^3,,BQ/M^3,MBQ/M^3,,MBQ/M^3
49NZ20031106, A10, 27, 1, 36, 12048, 2, 20031113, 1910, -29.9938, -33.0033, 3509,     10.7, 2,  19.9016, 2,  35.8632, 2,  35.8632, 2,    219.1, 1,    230.2, 2,     0.97, 2,     0.03, 2,     0.00, 2,     0.06, 2,    2.483, 2,    1.396, 2,    0.277, 4,   2057.4, 2,   2355.7, 2,    8.0246, 2,     25.00, -999.000, 9, -999.000,   -999.0, 9,   -999.0,  -999.00, 9,   -999.0,  19.8996, 25.4489,  19.9010, 2, 9.4, 2, 231.27, 2, 0.12, 0.03, 0.01, 0.03, -999, 9,  -999.00, 9, -999, -999, 9, -999
49NZ20031106, A10, 27, 1, 35, 12047, 2, 20031113, 1910, -29.9938, -33.0033, 3509,     50.8, 2,  19.3064, 2,  35.9096, 2,  35.9093, 2,    221.9, 1,    232.9, 2,     0.97, 2,     0.03, 2,     0.01, 2,     0.06, 2,    2.528, 2,    1.402, 2,    0.291, 4,   2058.5, 6,   2357.0, 2,    8.0276, 2,     25.00, -999.000, 9, -999.000,   -999.0, 9,   -999.0,  -999.00, 9,   -999.0,  19.2972, 25.6415,  19.3060, 2, 52.6, 2, 233.02, 2, 0.12, 0.03, 0.01, 0.03, -999, 9,  -999.00, 9, -999, -999, 9, -999
49NZ20031106, A10, 27, 1, 34, 12046, 2, 20031113, 1910, -29.9938, -33.0033, 3509,     99.9, 2,  17.7343, 2,  35.7632, 2,  35.7635, 2,    221.0, 1,    232.2, 2,     1.06, 2,     0.02, 2,     0.00, 2,     0.11, 2,    2.628, 2,    1.448, 2,    0.266, 4,   2069.1, 2,   2349.2, 6,    8.0004, 2,     25.00, -999.000, 9, -999.000,   -999.0, 9,   -999.0,  -999.00, 9,   -999.0,  17.7173, 25.9279,  17.7342, 2, 98.9, 2, 231, 2, 0.12, 0.03, 0.01, 0.02, -999, 9,  -999.00, 9, -999, -999, 9, -999
49NZ20031106, A10, 27, 1, 33, 12045, 2, 20031113, 1910, -29.9938, -33.0033, 3509,    151.7, 2,  15.9892, 2,  35.5956, 2,  35.5958, 2,    205.7, 1,    215.1, 2,     1.53, 2,     2.89, 2,     0.03, 2,     0.35, 2,    2.831, 2,    1.529, 2,    0.153, 4,   2093.8, 2,   2339.0, 2,    7.9399, 6,     25.00, -999.000, 9, -999.000,   -999.0, 9,   -999.0,  -999.00, 9,   -999.0,  15.9651, 26.2152,  15.9850, 2, 151.4, 2, 215.08, 2, 0.12, 0.04, 0.01, 0.01, -999, 9,  -999.00, 9, -999, -999, 9, -999
49NZ20031106, A10, 27, 1, 32, 12044, 2, 20031113, 1910, -29.9938, -33.0033, 3509,    198.9, 2,  14.9770, 2,  35.4829, 2,  35.4829, 2,    204.2, 1,    213.2, 2,     2.00, 2,     5.15, 2,     0.01, 2,     0.47, 2,    2.932, 2,    1.589, 2,    0.083, 4,   2123.0, 3,   2334.0, 2,    7.9155, 2,     25.00, -999.000, 9, -999.000,   -999.0, 9,   -999.0,  -999.00, 9,   -999.0,  14.9468, 26.3568,  14.9764, 2, 196.8, 2, 213.06, 2, 0.12, 0.05, 0.01, 0.01, -999, 9,  -999.00, 9, -999, -999, 9, -999
49NZ20031106, A10, 27, 1, 31, 12043, 2, 20031113, 1910, -29.9938, -33.0033, 3509,    250.9, 2,  14.2455, 2,  35.4016, 2,  35.4010, 2,    204.9, 1,    213.7, 2,     2.34, 2,     6.76, 2,     0.01, 2,     0.56, 2,    3.042, 6,    1.624, 6,    0.068, 4,   2099.8, 2,   2328.7, 2,    7.8997, 2,     25.00, -999.000, 9, -999.000,   -999.0, 9,   -999.0,  -999.00, 9,   -999.0,  14.2086, 26.4541,  14.2442, 2, 248.7, 2, 214.69, 2, 0.12, 0.05, 0.01, 0.01, -999, 9,  -999.00, 9, -999, -999, 9, -999
49NZ20031106, A10, 27, 1, 30, 12042, 2, 20031113, 1910, -29.9938, -33.0033, 3509,    299.6, 2,  13.4958, 2,  35.2914, 2,  35.2914, 2,    205.8, 1,    214.5, 2,     2.70, 2,     8.28, 2,     0.00, 2,     0.66, 2,    3.123, 2,    1.662, 2,    0.067, 4,   2105.6, 2,   2327.1, 2,    7.8808, 2,     25.00, -999.000, 9, -999.000,   -999.0, 9,   -999.0,  -999.00, 9,   -999.0,  13.4533, 26.5265,  13.4979, 2, 296.9, 2, 213.04, 2, 0.12, 0.06, 0.01, 0.01, -999, 9,  -999.00, 9, -999, -999, 9, -999
49NZ20031106, A10, 27, 1, 29, 12041, 2, 20031113, 1910, -29.9938, -33.0033, 3509,    400.1, 2,  11.8066, 2,  35.0475, 2,  35.0494, 2,    202.7, 1,    210.6, 2,     4.12, 2,    12.49, 2,     0.00, 2,     0.92, 2,    3.192, 2,    1.650, 2,    0.075, 4,   2110.3, 2,   2309.8, 2,    7.8333, 2,     25.00, -999.000, 9, -999.000,   -999.0, 9,   -999.0,  -999.00, 9,   -999.0,  11.7545, 26.6723,  11.8106, 2, 402.5, 2, 209.66, 2, 0.13, 0.07, 0.01, 0.01, -999, 9,  -999.00, 9, -999, -999, 9, -999
49NZ20031106, A10, 27, 1, 28, 12040, 2, 20031113, 1910, -29.9938, -33.0033, 3509,    501.1, 2,   9.6563, 2,  34.7630, 2,  34.7631, 2,    200.1, 1,    207.5, 2,     7.01, 2,    18.01, 2,     0.00, 2,     1.26, 2,    3.141, 2,    1.575, 2,    0.105, 4,   2139.8, 2,   2296.4, 2,    7.7708, 2,     25.00, -999.000, 9, -999.000,   -999.0, 9,   -999.0,  -999.00, 9,   -999.0,   9.5987, 26.8342,   9.6563, 2, 502.9, 2, 208.29, 2, 0.13, 0.08, 0.01, 0.01, -999, 9,  -999.00, 9, -999, -999, 9, -999
49NZ20031106, A10, 27, 1, 27, 12039, 2, 20031113, 1910, -29.9938, -33.0033, 3509,    599.4, 2,   7.4995, 2,  34.5166, 2,  34.5156, 2,    206.7, 1,    214.1, 2,    10.40, 2,    22.82, 2,     0.00, 2,     1.58, 2,    3.153, 2,    1.538, 2,    0.132, 4,   2154.0, 2,   2282.1, 2,    7.7215, 2,     25.00, -999.000, 9, -999.000,   -999.0, 9,   -999.0,  -999.00, 9,   -999.0,   7.4399, 26.9753,   7.4997, 2, 602.5, 2, 212.81, 2, 0.14, 0.1, 0.01, 0.01, -999, 9,  -999.00, 9, -999, -999, 9, -999
49NZ20031106, A10, 27, 1, 26, 12038, 2, 20031113, 1910, -29.9938, -33.0033, 3509,    700.8, 2,   5.7052, 2,  34.3468, 2,  34.3465, 2,    219.3, 1,    227.4, 2,    14.40, 2,    26.09, 2,     0.00, 2,     1.79, 2,    3.183, 2,    1.524, 2,    0.163, 4,   2162.2, 6,   2285.2, 2,    7.6922, 4,     25.00, -999.000, 9, -999.000,   -999.0, 9,   -999.0,  -999.00, 9,   -999.0,   5.6447, 27.08,   5.7055, 2, 703.3, 2, 224.88, 2, 0.15, 0.11, 0.01, 0.01, -999, 9,  -999.00, 9, -999, -999, 9, -999
49NZ20031106, A10, 27, 1, 25, 12037, 2, 20031113, 1910, -29.9938, -33.0033, 3509,    801.7, 2,   4.7080, 2,  34.2820, 2,  34.2814, 2,    224.9, 1,    233.6, 2,    18.59, 2,    27.94, 2,     0.00, 2,     1.92, 2,    2.983, 2,    1.412, 2,    0.154, 4,   2168.6, 2,   2285.9, 6,    7.6761, 2,     25.00, -999.000, 9, -999.000,   -999.0, 9,   -999.0,  -999.00, 9,   -999.0,   4.6444, 27.1456,   4.7086, 2, 804.8, 2, 233.9, 2, 0.16, 0.11, 0.01, 0.01, -999, 9,  -999.00, 9, -999, -999, 9, -999
49NZ20031106, A10, 27, 1, 24, 12036, 2, 20031113, 1910, -29.9938, -33.0033, 3509,    902.2, 2,   4.0460, 2,  34.2899, 2,  34.2895, 2,    215.6, 1,    224.1, 2,    26.57, 2,    29.97, 2,     0.00, 2,     2.05, 2,    2.246, 2,    1.055, 2,    0.108, 4,   2185.1, 2,   2291.4, 2,    7.6526, 6,     25.00, -999.000, 9, -999.000,   -999.0, 9,   -999.0,  -999.00, 9,   -999.0,   3.9784, 27.2229,   4.0461, 2, 905.5, 2, 226.34, 2, 0.18, 0.12, 0.01, 0.02, -999, 9,  -999.00, 9, -999, -999, 9, -999
49NZ20031106, A10, 27, 1, 6, 12018, 9, 20031113, 1910, -29.9938, -33.0033, 3509,   1000.9, 2,   3.6137, 2,  34.3122, 2, -999.0000, 9,    207.9, 1,   -999.0, 9,  -999.00, 9,  -999.00, 9,  -999.00, 9,  -999.00, 9, -999.000, 9, -999.000, 9, -999.000, 9,   -999.0, 9,   -999.0, 9, -999.0000, 9,   -999.00, -999.000, 9, -999.000,   -999.0, 9,   -999.0,  -999.00, 9,   -999.0,   3.5413, 27.2847,   3.6137, 2, 1003.5, 2, 217.35, 2, -999, -999, -999, -999, -999, 9,  -999.00, 9, -999, -999, 9, -999
49NZ20031106, A10, 27, 1, 1, 12013, 9, 20031113, 1910, -29.9938, -33.0033, 3509,   1000.9, 2,   3.6098, 2,  34.3123, 2, -999.0000, 9,    207.9, 1,   -999.0, 9,  -999.00, 9,  -999.00, 9,  -999.00, 9,  -999.00, 9, -999.000, 9, -999.000, 9, -999.000, 9,   -999.0, 9,   -999.0, 9, -999.0000, 9,   -999.00, -999.000, 9, -999.000,   -999.0, 9,   -999.0,  -999.00, 9,   -999.0,   3.5374, 27.285,   3.6098, 2, 1003.5, 2, 217.32, 2, -999, -999, -999, -999, -999, 9,  -999.00, 9, -999, -999, 9, -999
49NZ20031106, A10, 27, 1, 5, 12017, 9, 20031113, 1910, -29.9938, -33.0033, 3509,   1001.1, 2,   3.6123, 2,  34.3124, 2, -999.0000, 9,    207.9, 1,   -999.0, 9,  -999.00, 9,  -999.00, 9,  -999.00, 9,  -999.00, 9, -999.000, 9, -999.000, 9, -999.000, 9,   -999.0, 9,   -999.0, 9, -999.0000, 9,   -999.00, -999.000, 9, -999.000,   -999.0, 9,   -999.0,  -999.00, 9,   -999.0,   3.5399, 27.2848,   3.6126, 2, 1003.6, 2, 217.31, 2, -999, -999, -999, -999, -999, 9,  -999.00, 9, -999, -999, 9, -999
49NZ20031106, A10, 27, 1, 23, 12035, 2, 20031113, 1910, -29.9938, -33.0033, 3509,   1001.3, 2,   3.6079, 2,  34.3123, 2,  34.3121, 2,    207.8, 1,    216.0, 2,    33.29, 2,    31.21, 2,     0.00, 2,     2.15, 2,    1.750, 6,    0.819, 6,    0.082, 4,   2196.5, 2,   2294.7, 2,    7.6346, 2,     25.00, -999.000, 9, -999.000,   -999.0, 9,   -999.0,  -999.00, 9,   -999.0,   3.5355, 27.2852,   3.6080, 2, 1003.9, 2, 217.29, 2, 0.19, 0.12, 0.01, 0.02, -999, 9,  -999.00, 9, -999, -999, 9, -999
49NZ20031106, A10, 27, 1, 2, 12014, 9, 20031113, 1910, -29.9938, -33.0033, 3509,   1001.3, 2,   3.6103, 2,  34.3124, 2, -999.0000, 9,    207.9, 1,   -999.0, 9,  -999.00, 9,  -999.00, 9,  -999.00, 9,  -999.00, 9, -999.000, 9, -999.000, 9, -999.000, 9,   -999.0, 9,   -999.0, 9, -999.0000, 9,   -999.00, -999.000, 9, -999.000,   -999.0, 9,   -999.0,  -999.00, 9,   -999.0,   3.5379, 27.2848,   3.6114, 2, 1003.8, 2, 217.29, 2, -999, -999, -999, -999, -999, 9,  -999.00, 9, -999, -999, 9, -999
49NZ20031106, A10, 27, 1, 3, 12012, 9, 20031113, 1910, -29.9938, -33.0033, 3509,   1002.1, 2,   3.6073, 2,  34.3124, 2, -999.0000, 9,    207.8, 1,   -999.0, 9,  -999.00, 9,  -999.00, 9,  -999.00, 9,  -999.00, 9, -999.000, 9, -999.000, 9, -999.000, 9,   -999.0, 9,   -999.0, 9, -999.0000, 9,   -999.00, -999.000, 9, -999.000,   -999.0, 9,   -999.0,  -999.00, 9,   -999.0,   3.5348, 27.2855,   3.6080, 2, 1004.6, 2, 217.18, 2, -999, -999, -999, -999, -999, 9,  -999.00, 9, -999, -999, 9, -999
49NZ20031106, A10, 27, 1, 22, 12034, 2, 20031113, 1910, -29.9938, -33.0033, 3509,   1201.3, 2,   3.1317, 2,  34.4329, 2,  34.4328, 2,    187.3, 1,    194.2, 2,    47.69, 2,    32.66, 2,     0.00, 2,     2.24, 2,    0.734, 2,    0.355, 2,    0.028, 4,   2219.8, 2,   2310.7, 2,    7.6084, 2,     25.00, -999.000, 9, -999.000,   -999.0, 9,   -999.0,  -999.00, 9,   -999.0,   3.0472, 27.4277,   3.1315, 2, 1203.7, 2, 195.79, 2, 0.22, 0.12, 0.01, 0.02, -999, 9,  -999.00, 9, -999, -999, 9, -999
49NZ20031106, A10, 27, 1, 21, 12033, 2, 20031113, 1910, -29.9938, -33.0033, 3509,   1400.3, 2,   2.9393, 2,  34.5689, 2,  34.5692, 2,    181.6, 1,    188.3, 2,    54.30, 2,    31.85, 2,     0.00, 2,     2.19, 2,    0.233, 2,    0.115, 2,    0.008, 4,   2230.7, 2,   2322.9, 2,    7.6116, 2,     25.00, -999.000, 9, -999.000,   -999.0, 9,   -999.0,  -999.00, 9,   -999.0,   2.8404, 27.5551,   2.9392, 2, 1400.9, 2, 188.09, 2, 0.24, 0.12, 0.01, 0.02, -999, 9,  -999.00, 9, -999, -999, 9, -999
49NZ20031106, A10, 27, 1, 20, 12032, 2, 20031113, 1910, -29.9938, -33.0033, 3509,   1599.8, 2,   2.8474, 2,  34.6711, 2,  34.6714, 2,    187.6, 1,    194.7, 2,    54.55, 2,    29.98, 2,     0.00, 2,     2.05, 2,    0.076, 2,    0.034, 2,    0.000, 4,   2224.8, 2,   2327.6, 2,    7.6312, 2,     25.00, -999.000, 9, -999.000,   -999.0, 9,   -999.0,  -999.00, 9,   -999.0,   2.7328, 27.6466,   2.8473, 2, 1599.5, 2, 194.07, 2, 0.24, 0.12, 0.01, 0.02, -999, 9,  -999.00, 9, -999, -999, 9, -999
49NZ20031106, A10, 27, 1, 19, 12031, 2, 20031113, 1910, -29.9938, -33.0033, 3509,   1800.3, 2,   2.8079, 2,  34.7429, 2,  34.7432, 2,    197.1, 1,    204.5, 2,    52.16, 2,    28.15, 2,     0.00, 2,     1.93, 2,    0.024, 2,    0.018, 2,    0.000, 4,   2220.3, 2,   2331.6, 2,    7.6533, 2,     25.00, -999.000, 9, -999.000,   -999.0, 9,   -999.0,  -999.00, 9,   -999.0,   2.6765, 27.7088,   2.8079, 2, 1799.2, 2, 204.99, 2, 0.23, 0.11, 0.01, 0.01, -999, 9,  -999.00, 9, -999, -999, 9, -999
49NZ20031106, A10, 27, 1, 18, 12030, 2, 20031113, 1910, -29.9938, -33.0033, 3509,   2000.4, 2,   2.8173, 2,  34.8086, 2,  34.8088, 2,    210.3, 1,    218.1, 2,    46.92, 2,    25.79, 2,     0.00, 2,     1.75, 2,    0.010, 2,    0.012, 2,    0.000, 4,   2207.6, 2,   2328.6, 2,    7.6814, 2,     25.00, -999.000, 9, -999.000,   -999.0, 9,   -999.0,  -999.00, 9,   -999.0,   2.6679, 27.7624,   2.8172, 2, 1999.7, 2, 218, 2, 0.22, 0.11, 0.01, 0.01, -999, 9,  -999.00, 9, -999, -999, 9, -999
49NZ20031106, A10, 27, 1, 17, 12029, 2, 20031113, 1910, -29.9938, -33.0033, 3509,   2200.9, 2,   2.7979, 2,  34.8477, 2,  34.8472, 2,    220.8, 1,    229.0, 2,    42.47, 2,    24.19, 2,     0.00, 2,     1.63, 2,    0.002, 2,    0.007, 2,    0.000, 4,   2197.6, 2,   2330.9, 2,    7.7033, 2,     25.00, -999.000, 9, -999.000,   -999.0, 9,   -999.0,  -999.00, 9,   -999.0,   2.6304, 27.797,   2.7979, 2, 2200.8, 2, 228.23, 2, 0.21, 0.1, 0.01, 0.01, -999, 9,  -999.00, 9, -999, -999, 9, -999
49NZ20031106, A10, 27, 1, 16, 12028, 2, 20031113, 1910, -29.9938, -33.0033, 3509,   2400.2, 2,   2.7885, 2,  34.8753, 2,  34.8759, 2,    228.6, 1,    237.0, 2,    39.14, 2,    22.93, 2,     0.00, 2,     1.55, 2,   -0.006, 2,    0.003, 2,    0.000, 4,   2191.0, 6,   2326.4, 2,    7.7177, 2,     25.00, -999.000, 9, -999.000,   -999.0, 9,   -999.0,  -999.00, 9,   -999.0,   2.6023, 27.8217,   2.7884, 2, 2400.2, 2, 236.3, 2, 0.21, 0.1, 0.01, 0.01, -999, 9,  -999.00, 9, -999, -999, 9, -999
49NZ20031106, A10, 27, 1, 7, 12019, 9, 20031113, 1910, -29.9938, -33.0033, 3509,   2500.6, 2,   2.7828, 2,  34.8833, 2, -999.0000, 9,    231.1, 1,   -999.0, 9,  -999.00, 9,  -999.00, 9,  -999.00, 9,  -999.00, 9, -999.000, 9, -999.000, 9, -999.000, 9,   -999.0, 9,   -999.0, 9, -999.0000, 9,   -999.00, -999.000, 9, -999.000,   -999.0, 9,   -999.0,  -999.00, 9,   -999.0,   2.5870, 27.8294,   2.7828, 2, 2500.7, 2, 238.9, 2, -999, -999, -999, -999, -999, 9,  -999.00, 9, -999, -999, 9, -999
49NZ20031106, A10, 27, 1, 15, 12027, 2, 20031113, 1910, -29.9938, -33.0033, 3509,   2601.7, 2,   2.7684, 2,  34.8906, 2,  34.8906, 2,    233.5, 1,    241.7, 2,    37.43, 2,    22.22, 2,     0.00, 2,     1.51, 2,    0.002, 2,    0.006, 2,    0.000, 4,   2188.0, 2,   2330.6, 6,    7.7258, 2,     25.00, -999.000, 9, -999.000,   -999.0, 9,   -999.0,  -999.00, 9,   -999.0,   2.5630, 27.8373,   2.7685, 2, 2601.7, 2, 241.32, 2, 0.2, 0.1, 0.01, 0.01, -999, 9,  -999.00, 9, -999, -999, 9, -999
49NZ20031106, A10, 27, 1, 8, 12020, 9, 20031113, 1910, -29.9938, -33.0033, 3509,   2701.0, 2,   2.7437, 2,  34.8947, 2, -999.0000, 9,    235.3, 1,   -999.0, 9,  -999.00, 9,  -999.00, 9,  -999.00, 9,  -999.00, 9, -999.000, 9, -999.000, 9, -999.000, 9,   -999.0, 9,   -999.0, 9, -999.0000, 9,   -999.00, -999.000, 9, -999.000,   -999.0, 9,   -999.0,  -999.00, 9,   -999.0,   2.5290, 27.8435,   2.7438, 2, 2700.9, 2, 243, 2, -999, -999, -999, -999, -999, 9,  -999.00, 9, -999, -999, 9, -999
49NZ20031106, A10, 27, 1, 14, 12026, 2, 20031113, 1910, -29.9938, -33.0033, 3509,   2799.9, 2,   2.7123, 2,  34.8979, 2,  34.8983, 2,    236.9, 1,    244.9, 2,    37.45, 2,    21.83, 2,     0.00, 2,     1.48, 2,    0.004, 2,    0.007, 2,    0.000, 4,   2185.7, 2,   2328.4, 2,    7.7307, 6,     25.00, -999.000, 9, -999.000,   -999.0, 9,   -999.0,  -999.00, 9,   -999.0,   2.4883, 27.8496,   2.7124, 2, 2800, 2, 244.74, 2, 0.2, 0.09, 0.01, 0.01, -999, 9,  -999.00, 9, -999, -999, 9, -999
49NZ20031106, A10, 27, 1, 9, 12015, 9, 20031113, 1910, -29.9938, -33.0033, 3509,   2901.3, 2,   2.6634, 2,  34.8978, 2, -999.0000, 9,    238.0, 1,   -999.0, 9,  -999.00, 9,  -999.00, 9,  -999.00, 9,  -999.00, 9, -999.000, 9, -999.000, 9, -999.000, 9,   -999.0, 9,   -999.0, 9, -999.0000, 9,   -999.00, -999.000, 9, -999.000,   -999.0, 9,   -999.0,  -999.00, 9,   -999.0,   2.4302, 27.8546,   2.6635, 2, 2901.5, 2, 245.57, 2, -999, -999, -999, -999, -999, 9,  -999.00, 9, -999, -999, 9, -999
49NZ20031106, A10, 27, 1, 13, 12025, 2, 20031113, 1910, -29.9938, -33.0033, 3509,   2999.7, 2,   2.5984, 2,  34.8960, 2,  34.8960, 2,    238.9, 1,    246.5, 2,    39.44, 2,    21.83, 2,     0.00, 2,     1.48, 2,    0.004, 2,    0.004, 2,    0.000, 4,   2186.6, 2,   2327.7, 2,    7.7310, 2,     25.00, -999.000, 9, -999.000,   -999.0, 9,   -999.0,  -999.00, 9,   -999.0,   2.3566, 27.8594,   2.5985, 2, 2999.9, 2, 246.44, 2, 0.21, 0.09, 0.01, 0.01, -999, 9,  -999.00, 9, -999, -999, 9, -999
49NZ20031106, A10, 27, 1, 10, 12022, 9, 20031113, 1910, -29.9938, -33.0033, 3509,   3100.2, 2,   2.5132, 2,  34.8896, 2, -999.0000, 9,    238.6, 1,   -999.0, 9,  -999.00, 9,  -999.00, 9,  -999.00, 9,  -999.00, 9, -999.000, 9, -999.000, 9, -999.000, 9,   -999.0, 9,   -999.0, 9, -999.0000, 9,   -999.00, -999.000, 9, -999.000,   -999.0, 9,   -999.0,  -999.00, 9,   -999.0,   2.2629, 27.8622,   2.5132, 2, 3100.4, 2, 245.98, 2, -999, -999, -999, -999, -999, 9,  -999.00, 9, -999, -999, 9, -999
49NZ20031106, A10, 27, 1, 4, 12016, 2, 20031113, 1910, -29.9938, -33.0033, 3509,   3250.3, 2,   2.3557, 2,  34.8757, 2,  34.8759, 2,    237.4, 1,    243.5, 4,    47.89, 2,    22.75, 2,     0.00, 2,     1.55, 2,    0.013, 2,    0.009, 2,    0.000, 4,   2194.8, 2,   2336.3, 2,    7.7226, 2,     25.00, -999.000, 9, -999.000,   -999.0, 9,   -999.0,  -999.00, 9,   -999.0,   2.0935, 27.8649,   2.3557, 2, 3250.3, 2, 244.47, 2, 0.22, 0.1, 0.01, 0.01, -999, 9,  -999.00, 9, -999, -999, 9, -999
49NZ20031106, A10, 27, 1, 12, 12024, 2, 20031113, 1910, -29.9938, -33.0033, 3509,   3250.6, 2,   2.3549, 2,  34.8756, 2,  34.8753, 2,    237.4, 1,    244.2, 2,    47.81, 2,    22.72, 2,     0.00, 2,     1.55, 2,    0.007, 2,    0.003, 2,    0.000, 4,   2194.6, 2,   2343.8, 3,    7.7224, 2,     25.00, -999.000, 9, -999.000,   -999.0, 9,   -999.0,  -999.00, 9,   -999.0,   2.0927, 27.865,   2.3547, 2, 3250.6, 2, 244.46, 2, 0.22, 0.1, 0.01, 0.01, -999, 9,  -999.00, 9, -999, -999, 9, -999
49NZ20031106, A10, 27, 1, 11, 12023, 2, 20031113, 1910, -29.9938, -33.0033, 3509,   3548.3, 2,   1.9841, 2,  34.8373, 2,  34.8373, 2,    232.6, 1,    237.9, 2,    62.59, 2,    24.67, 2,     0.00, 2,     1.69, 2,    0.011, 2,    0.006, 2,    0.000, 4,   2211.5, 2,   2341.1, 2,    7.7036, 2,     25.00, -999.000, 9, -999.000,   -999.0, 9,   -999.0,  -999.00, 9,   -999.0,   1.6998, 27.8654,   1.9840, 2, 3548.3, 2, 237.8, 2, 0.26, 0.1, 0.01, 0.01, -999, 9,  -999.00, 9, -999, -999, 9, -999