BOTTLE,20220818CCHSIOAMB
EXPOCODE,SECT_ID,STNNBR,CASTNO,SAMPNO,BTLNBR,BTLNBR_FLAG_W,DATE,TIME,LATITUDE,LONGITUDE,DEPTH,CTDPRS,CTDPRS_FLAG_W,CTDTMP,CTDTMP_FLAG_W,CTDSAL,CTDSAL_FLAG_W,SALNTY,SALNTY_FLAG_W,CTDOXY,CTDOXY_FLAG_W,OXYGEN,OXYGEN_FLAG_W,SILCAT,SILCAT_FLAG_W,NITRAT,NITRAT_FLAG_W,NITRIT,NITRIT_FLAG_W,PHSPHT,PHSPHT_FLAG_W,CFC-11,CFC-11_FLAG_W,CFC-12,CFC-12_FLAG_W,CFC113,CFC113_FLAG_W,TCARBN,TCARBN_FLAG_W,ALKALI,ALKALI_FLAG_W,PH_TOT,PH_TOT_FLAG_W,PH_TMP,TRITUM,TRITUM_FLAG_W,TRITER,DELC14,DELC14_FLAG_W,C14ERR,DELC13,DELC13_FLAG_W,C13ERR,THETA,SIG0,SBE35,SBE35_FLAG_W,DWNPRS,DWNPRS_FLAG_W,DWNOXY,DWNOXY_FLAG_W,SILUNC,NRAUNC,NRIUNC,PHPUNC,TOC,TOC_FLAG_W,CS-137,CS-137_FLAG_W,CS137ER,PLUTO,PLUTO_FLAG_W,PLUTOER
,,,,,,,,,,,METERS,DBAR,,ITS-90,,PSS-78,,PSS-78,,UMOL/KG,,UMOL/KG,,UMOL/KG,,UMOL/KG,,UMOL/KG,,UMOL/KG,,PMOL/KG,,PMOL/KG,,PMOL/KG,,UMOL/KG,,UMOL/KG,,,,DEG C,TU,,TU,/MILLE,,/MILLE,/MILLE,,/MILLE,DEG C,KG/M^3,ITS-90,,DBAR,,UMOL/KG,,UMOL/KG,UMOL/KG,UMOL/KG,UMOL/KG,UMOL/KG,,BQ/M^3,,BQ/M^3,MBQ/M^3,,MBQ/M^3
49NZ20031106, A10, 92, 1, 1, 12025, 9, 20031201, 1509, -29.4917, 12.4613, 3641,      9.9, 2,  18.7122, 2,  35.4455, 2, -999.0000, 9,    225.0, 1,   -999.0, 9,  -999.00, 9,  -999.00, 9,  -999.00, 9,  -999.00, 9, -999.000, 9, -999.000, 9, -999.000, 9,   -999.0, 9,   -999.0, 9, -999.0000, 9,   -999.00, -999.000, 9, -999.000,   -999.0, 9,   -999.0,  -999.00, 9,   -999.0,  18.7105, 25.4374,  18.7120, 2, 9.9, 2, 236.94, 2, -999, -999, -999, -999, -999, 9,  -999.00, 9, -999, -999, 9, -999
49NZ20031106, A10, 92, 1, 36, 12024, 2, 20031201, 1509, -29.4917, 12.4613, 3641,     10.0, 2,  18.7127, 2,  35.4456, 2,  35.4453, 2,    225.2, 1,    237.0, 2,     1.47, 2,    -0.02, 2,     0.01, 2,     0.17, 2, -999.000, 9, -999.000, 9, -999.000, 9,   -999.0, 9,   -999.0, 9, -999.0000, 9,   -999.00, -999.000, 9, -999.000,   -999.0, 9,   -999.0,  -999.00, 9,   -999.0,  18.7109, 25.4375,  18.7127, 2, 10, 2, 236.92, 2, 0.12, 0.03, 0.01, 0.02, -999, 9,  -999.00, 9, -999, -999, 9, -999
49NZ20031106, A10, 92, 1, 35, 12023, 2, 20031201, 1509, -29.4917, 12.4613, 3641,     51.7, 2,  17.9655, 2,  35.5431, 2,  35.5446, 2,    228.3, 1,    240.3, 2,     1.92, 2,     0.13, 2,     0.04, 2,     0.20, 2, -999.000, 9, -999.000, 9, -999.000, 9,   -999.0, 9,   -999.0, 9, -999.0000, 9,   -999.00, -999.000, 9, -999.000,   -999.0, 9,   -999.0,  -999.00, 9,   -999.0,  17.9566, 25.7007,  17.9599, 2, 49.2, 2, 239.09, 2, 0.12, 0.03, 0.01, 0.02, -999, 9,  -999.00, 9, -999, -999, 9, -999
49NZ20031106, A10, 92, 1, 34, 12022, 2, 20031201, 1509, -29.4917, 12.4613, 3641,    101.9, 2,  15.6779, 2,  35.4840, 2,  35.4839, 2,    216.1, 1,    226.9, 2,     3.30, 2,     3.94, 2,     0.08, 2,     0.43, 2, -999.000, 9, -999.000, 9, -999.000, 9,   -999.0, 9,   -999.0, 9, -999.0000, 9,   -999.00, -999.000, 9, -999.000,   -999.0, 9,   -999.0,  -999.00, 9,   -999.0,  15.6620, 26.1993,  15.6777, 2, 97.8, 2, 232.58, 2, 0.13, 0.04, 0.01, 0.01, -999, 9,  -999.00, 9, -999, -999, 9, -999
49NZ20031106, A10, 92, 1, 33, 12015, 2, 20031201, 1509, -29.4917, 12.4613, 3641,    153.3, 2,  14.6322, 2,  35.3297, 2,  35.3308, 2,    214.4, 1,    225.2, 2,     3.38, 2,     5.59, 2,     0.04, 2,     0.53, 2, -999.000, 9, -999.000, 9, -999.000, 9,   -999.0, 9,   -999.0, 9, -999.0000, 9,   -999.00, -999.000, 9, -999.000,   -999.0, 9,   -999.0,  -999.00, 9,   -999.0,  14.6093, 26.3136,  14.6391, 2, 152, 2, 228.66, 2, 0.13, 0.05, 0.01, 0.01, -999, 9,  -999.00, 9, -999, -999, 9, -999
49NZ20031106, A10, 92, 1, 32, 12020, 2, 20031201, 1509, -29.4917, 12.4613, 3641,    201.6, 2,  13.4259, 2,  35.1520, 2,  35.1463, 3,    213.5, 1,    223.8, 2,     3.59, 2,     7.76, 2,     0.03, 2,     0.67, 2, -999.000, 9, -999.000, 9, -999.000, 9,   -999.0, 9,   -999.0, 9, -999.0000, 9,   -999.00, -999.000, 9, -999.000,   -999.0, 9,   -999.0,  -999.00, 9,   -999.0,  13.3975, 26.432,  13.4248, 2, 197.2, 2, 220.91, 2, 0.13, 0.05, 0.01, 0.01, -999, 9,  -999.00, 9, -999, -999, 9, -999
49NZ20031106, A10, 92, 1, 31, 12019, 2, 20031201, 1509, -29.4917, 12.4613, 3641,    252.1, 2,  13.0363, 2,  35.1574, 2,  35.1565, 2,    203.6, 1,    213.4, 2,     4.67, 2,     9.99, 2,     0.02, 2,     0.80, 2, -999.000, 9, -999.000, 9, -999.000, 9,   -999.0, 9,   -999.0, 9, -999.0000, 9,   -999.00, -999.000, 9, -999.000,   -999.0, 9,   -999.0,  -999.00, 9,   -999.0,  13.0014, 26.517,  13.0353, 2, 244.8, 2, 213.21, 2, 0.13, 0.06, 0.01, 0.01, -999, 9,  -999.00, 9, -999, -999, 9, -999
49NZ20031106, A10, 92, 1, 30, 12018, 2, 20031201, 1509, -29.4917, 12.4613, 3641,    300.5, 2,  12.0730, 2,  35.0655, 2,  35.0657, 2,    203.6, 1,    212.9, 2,     5.63, 2,    12.12, 2,     0.01, 2,     0.94, 2, -999.000, 9, -999.000, 9, -999.000, 9,   -999.0, 9,   -999.0, 9, -999.0000, 9,   -999.00, -999.000, 9, -999.000,   -999.0, 9,   -999.0,  -999.00, 9,   -999.0,  12.0334, 26.6361,  12.0732, 2, 294.4, 2, 213.52, 2, 0.13, 0.07, 0.01, 0.01, -999, 9,  -999.00, 9, -999, -999, 9, -999
49NZ20031106, A10, 92, 1, 29, 12017, 2, 20031201, 1509, -29.4917, 12.4613, 3641,    401.8, 2,  10.1824, 2,  34.8284, 2,  34.8294, 2,    203.7, 1,    212.7, 2,     7.71, 2,    16.32, 2,     0.01, 2,     1.19, 2, -999.000, 9, -999.000, 9, -999.000, 9,   -999.0, 9,   -999.0, 9, -999.0000, 9,   -999.00, -999.000, 9, -999.000,   -999.0, 9,   -999.0,  -999.00, 9,   -999.0,  10.1349, 26.7964,  10.1885, 2, 399.6, 2, 213.83, 2, 0.14, 0.08, 0.01, 0.01, -999, 9,  -999.00, 9, -999, -999, 9, -999
49NZ20031106, A10, 92, 1, 28, 12016, 2, 20031201, 1509, -29.4917, 12.4613, 3641,    501.3, 2,   8.4573, 2,  34.6277, 2,  34.6263, 2,    195.4, 1,    203.8, 2,    12.27, 2,    21.39, 2,     0.01, 2,     1.51, 2, -999.000, 9, -999.000, 9, -999.000, 9,   -999.0, 9,   -999.0, 9, -999.0000, 9,   -999.00, -999.000, 9, -999.000,   -999.0, 9,   -999.0,  -999.00, 9,   -999.0,   8.4041, 26.922,   8.4570, 2, 501.4, 2, 191.17, 2, 0.15, 0.09, 0.01, 0.01, -999, 9,  -999.00, 9, -999, -999, 9, -999
49NZ20031106, A10, 92, 1, 27, 12012, 2, 20031201, 1509, -29.4917, 12.4613, 3641,    601.1, 2,   6.4779, 2,  34.4499, 2,  34.4475, 2,    198.5, 1,    206.9, 2,    18.60, 2,    25.98, 2,     0.01, 2,     1.80, 2, -999.000, 9, -999.000, 9, -999.000, 9,   -999.0, 9,   -999.0, 9, -999.0000, 9,   -999.00, -999.000, 9, -999.000,   -999.0, 9,   -999.0,  -999.00, 9,   -999.0,   6.4228, 27.0649,   6.4772, 2, 603.6, 2, 207.42, 2, 0.16, 0.11, 0.01, 0.01, -999, 9,  -999.00, 9, -999, -999, 9, -999
49NZ20031106, A10, 92, 1, 26, 12014, 2, 20031201, 1509, -29.4917, 12.4613, 3641,    701.1, 2,   5.3908, 2,  34.4118, 2,  34.4116, 2,    193.9, 1,    201.9, 2,    27.57, 2,    28.70, 2,     0.01, 2,     1.99, 2, -999.000, 9, -999.000, 9, -999.000, 9,   -999.0, 9,   -999.0, 9, -999.0000, 9,   -999.00, -999.000, 9, -999.000,   -999.0, 9,   -999.0,  -999.00, 9,   -999.0,   5.3319, 27.1715,   5.3913, 2, 702.5, 2, 205.79, 2, 0.18, 0.11, 0.01, 0.02, -999, 9,  -999.00, 9, -999, -999, 9, -999
49NZ20031106, A10, 92, 1, 25, 12013, 2, 20031201, 1509, -29.4917, 12.4613, 3641,    800.7, 2,   4.3284, 2,  34.3896, 2,  34.3897, 2,    183.3, 1,    190.8, 2,    35.04, 2,    31.81, 2,     0.00, 2,     2.19, 2, -999.000, 9, -999.000, 9, -999.000, 9,   -999.0, 9,   -999.0, 9, -999.0000, 9,   -999.00, -999.000, 9, -999.000,   -999.0, 9,   -999.0,  -999.00, 9,   -999.0,   4.2671, 27.274,   4.3286, 2, 802.5, 2, 195.15, 2, 0.2, 0.12, 0.01, 0.02, -999, 9,  -999.00, 9, -999, -999, 9, -999
49NZ20031106, A10, 92, 1, 24, 12048, 3, 20031201, 1509, -29.4917, 12.4613, 3641,    900.6, 2,   3.8603, 2,  34.4179, 2,  34.4187, 2,    176.7, 1,    183.9, 2,    42.19, 2,    32.82, 2,     0.01, 2,     2.26, 2, -999.000, 9, -999.000, 9, -999.000, 9,   -999.0, 9,   -999.0, 9, -999.0000, 9,   -999.00, -999.000, 9, -999.000,   -999.0, 9,   -999.0,  -999.00, 9,   -999.0,   3.7939, 27.3458,   3.8599, 2, 900.9, 2, 185.04, 2, 0.21, 0.12, 0.01, 0.02, -999, 9,  -999.00, 9, -999, -999, 9, -999
49NZ20031106, A10, 92, 1, 23, 12047, 2, 20031201, 1509, -29.4917, 12.4613, 3641,   1000.2, 2,   3.5585, 2,  34.4954, 2,  34.4954, 2,    168.4, 1,    175.1, 2,    55.36, 2,    33.29, 2,     0.01, 2,     2.31, 2, -999.000, 9, -999.000, 9, -999.000, 9,   -999.0, 9,   -999.0, 9, -999.0000, 9,   -999.00, -999.000, 9, -999.000,   -999.0, 9,   -999.0,  -999.00, 9,   -999.0,   3.4863, 27.438,   3.5584, 2, 1001.2, 2, 177.98, 2, 0.24, 0.13, 0.01, 0.02, -999, 9,  -999.00, 9, -999, -999, 9, -999
49NZ20031106, A10, 92, 1, 5, 12029, 9, 20031201, 1509, -29.4917, 12.4613, 3641,   1000.6, 2,   3.5605, 2,  34.4957, 2, -999.0000, 9,    168.4, 1,   -999.0, 9,  -999.00, 9,  -999.00, 9,  -999.00, 9,  -999.00, 9, -999.000, 9, -999.000, 9, -999.000, 9,   -999.0, 9,   -999.0, 9, -999.0000, 9,   -999.00, -999.000, 9, -999.000,   -999.0, 9,   -999.0,  -999.00, 9,   -999.0,   3.4882, 27.4379,   3.5604, 2, 1001.6, 2, 177.82, 2, -999, -999, -999, -999, -999, 9,  -999.00, 9, -999, -999, 9, -999
49NZ20031106, A10, 92, 1, 3, 12027, 9, 20031201, 1509, -29.4917, 12.4613, 3641,   1000.7, 2,   3.5606, 2,  34.4956, 2, -999.0000, 9,    168.4, 1,   -999.0, 9,  -999.00, 9,  -999.00, 9,  -999.00, 9,  -999.00, 9, -999.000, 9, -999.000, 9, -999.000, 9,   -999.0, 9,   -999.0, 9, -999.0000, 9,   -999.00, -999.000, 9, -999.000,   -999.0, 9,   -999.0,  -999.00, 9,   -999.0,   3.4883, 27.4379,   3.5608, 2, 1001.7, 2, 177.79, 2, -999, -999, -999, -999, -999, 9,  -999.00, 9, -999, -999, 9, -999
49NZ20031106, A10, 92, 1, 2, 12026, 9, 20031201, 1509, -29.4917, 12.4613, 3641,   1000.8, 2,   3.5596, 2,  34.4955, 2, -999.0000, 9,    168.4, 1,   -999.0, 9,  -999.00, 9,  -999.00, 9,  -999.00, 9,  -999.00, 9, -999.000, 9, -999.000, 9, -999.000, 9,   -999.0, 9,   -999.0, 9, -999.0000, 9,   -999.00, -999.000, 9, -999.000,   -999.0, 9,   -999.0,  -999.00, 9,   -999.0,   3.4873, 27.4379,   3.5597, 2, 1001.8, 2, 177.76, 2, -999, -999, -999, -999, -999, 9,  -999.00, 9, -999, -999, 9, -999
49NZ20031106, A10, 92, 1, 4, 12028, 9, 20031201, 1509, -29.4917, 12.4613, 3641,   1000.9, 2,   3.5605, 2,  34.4956, 2, -999.0000, 9,    168.4, 1,   -999.0, 9,  -999.00, 9,  -999.00, 9,  -999.00, 9,  -999.00, 9, -999.000, 9, -999.000, 9, -999.000, 9,   -999.0, 9,   -999.0, 9, -999.0000, 9,   -999.00, -999.000, 9, -999.000,   -999.0, 9,   -999.0,  -999.00, 9,   -999.0,   3.4882, 27.4379,   3.5606, 2, 1001.9, 2, 177.73, 2, -999, -999, -999, -999, -999, 9,  -999.00, 9, -999, -999, 9, -999
49NZ20031106, A10, 92, 1, 6, 12030, 9, 20031201, 1509, -29.4917, 12.4613, 3641,   1001.2, 2,   3.5600, 2,  34.4956, 2, -999.0000, 9,    168.4, 1,   -999.0, 9,  -999.00, 9,  -999.00, 9,  -999.00, 9,  -999.00, 9, -999.000, 9, -999.000, 9, -999.000, 9,   -999.0, 9,   -999.0, 9, -999.0000, 9,   -999.00, -999.000, 9, -999.000,   -999.0, 9,   -999.0,  -999.00, 9,   -999.0,   3.4877, 27.4381,   3.5603, 2, 1002.1, 2, 177.6, 2, -999, -999, -999, -999, -999, 9,  -999.00, 9, -999, -999, 9, -999
49NZ20031106, A10, 92, 1, 22, 12046, 2, 20031201, 1509, -29.4917, 12.4613, 3641,   1200.7, 2,   2.9721, 2,  34.5946, 2,  34.5946, 2,    171.6, 1,    178.4, 2,    59.49, 2,    32.47, 2,     0.01, 2,     2.24, 2, -999.000, 9, -999.000, 9, -999.000, 9,   -999.0, 9,   -999.0, 9, -999.0000, 9,   -999.00, -999.000, 9, -999.000,   -999.0, 9,   -999.0,  -999.00, 9,   -999.0,   2.8888, 27.5731,   2.9721, 2, 1204.6, 2, 178.51, 2, 0.25, 0.12, 0.01, 0.02, -999, 9,  -999.00, 9, -999, -999, 9, -999
49NZ20031106, A10, 92, 1, 21, 12045, 2, 20031201, 1509, -29.4917, 12.4613, 3641,   1401.7, 2,   2.9699, 2,  34.7088, 2,  34.7097, 2,    182.4, 1,    189.9, 2,    53.97, 2,    29.91, 2,     0.01, 2,     2.05, 2, -999.000, 9, -999.000, 9, -999.000, 9,   -999.0, 9,   -999.0, 9, -999.0000, 9,   -999.00, -999.000, 9, -999.000,   -999.0, 9,   -999.0,  -999.00, 9,   -999.0,   2.8702, 27.6662,   2.9699, 2, 1402.5, 2, 188.18, 2, 0.24, 0.12, 0.01, 0.02, -999, 9,  -999.00, 9, -999, -999, 9, -999
49NZ20031106, A10, 92, 1, 20, 12044, 2, 20031201, 1509, -29.4917, 12.4613, 3641,   1601.3, 2,   3.1630, 2,  34.8117, 2,  34.8125, 2,    197.9, 1,    206.3, 2,    41.41, 2,    26.58, 2,     0.01, 2,     1.82, 2, -999.000, 9, -999.000, 9, -999.000, 9,   -999.0, 9,   -999.0, 9, -999.0000, 9,   -999.00, -999.000, 9, -999.000,   -999.0, 9,   -999.0,  -999.00, 9,   -999.0,   3.0440, 27.7327,   3.1630, 2, 1601.4, 2, 205.83, 2, 0.21, 0.11, 0.01, 0.01, -999, 9,  -999.00, 9, -999, -999, 9, -999
49NZ20031106, A10, 92, 1, 19, 12043, 2, 20031201, 1509, -29.4917, 12.4613, 3641,   1799.2, 2,   3.0682, 2,  34.8413, 2,  34.8424, 2,    207.0, 1,    215.9, 2,    40.50, 2,    25.33, 2,     0.01, 2,     1.73, 2, -999.000, 9, -999.000, 9, -999.000, 9,   -999.0, 9,   -999.0, 9, -999.0000, 9,   -999.00, -999.000, 9, -999.000,   -999.0, 9,   -999.0,  -999.00, 9,   -999.0,   2.9330, 27.7654,   3.0681, 2, 1799.7, 2, 214.23, 2, 0.21, 0.1, 0.01, 0.01, -999, 9,  -999.00, 9, -999, -999, 9, -999
49NZ20031106, A10, 92, 1, 18, 12042, 2, 20031201, 1509, -29.4917, 12.4613, 3641,   2000.0, 2,   2.9476, 2,  34.8573, 2,  34.8576, 2,    213.3, 1,    222.5, 2,    41.21, 2,    24.63, 2,     0.01, 2,     1.67, 2, -999.000, 9, -999.000, 9, -999.000, 9,   -999.0, 9,   -999.0, 9, -999.0000, 9,   -999.00, -999.000, 9, -999.000,   -999.0, 9,   -999.0,  -999.00, 9,   -999.0,   2.7961, 27.7908,   2.9475, 2, 2000.3, 2, 222.33, 2, 0.21, 0.1, 0.01, 0.01, -999, 9,  -999.00, 9, -999, -999, 9, -999
49NZ20031106, A10, 92, 1, 17, 12041, 2, 20031201, 1509, -29.4917, 12.4613, 3641,   2198.3, 2,   2.8532, 2,  34.8723, 2,  34.8726, 2,    217.9, 1,    227.4, 2,    41.29, 2,    23.87, 2,     0.00, 2,     1.63, 2, -999.000, 9, -999.000, 9, -999.000, 9,   -999.0, 9,   -999.0, 9, -999.0000, 9,   -999.00, -999.000, 9, -999.000,   -999.0, 9,   -999.0,  -999.00, 9,   -999.0,   2.6849, 27.8126,   2.8531, 2, 2198.8, 2, 227.05, 2, 0.21, 0.1, 0.01, 0.01, -999, 9,  -999.00, 9, -999, -999, 9, -999
49NZ20031106, A10, 92, 1, 16, 12040, 2, 20031201, 1509, -29.4917, 12.4613, 3641,   2400.2, 2,   2.7506, 2,  34.8766, 2,  34.8759, 2,    220.5, 1,    229.7, 2,    42.80, 2,    23.72, 2,     0.01, 2,     1.62, 2, -999.000, 9, -999.000, 9, -999.000, 9,   -999.0, 9,   -999.0, 9, -999.0000, 9,   -999.00, -999.000, 9, -999.000,   -999.0, 9,   -999.0,  -999.00, 9,   -999.0,   2.5651, 27.8266,   2.7506, 2, 2400.5, 2, 229.78, 2, 0.21, 0.1, 0.01, 0.01, -999, 9,  -999.00, 9, -999, -999, 9, -999
49NZ20031106, A10, 92, 1, 15, 12039, 2, 20031201, 1509, -29.4917, 12.4613, 3641,   2598.6, 2,   2.6356, 2,  34.8717, 2,  34.8721, 2,    221.6, 1,    230.7, 2,    45.74, 2,    23.84, 2,     0.01, 2,     1.61, 2, -999.000, 9, -999.000, 9, -999.000, 9,   -999.0, 9,   -999.0, 9, -999.0000, 9,   -999.00, -999.000, 9, -999.000,   -999.0, 9,   -999.0,  -999.00, 9,   -999.0,   2.4331, 27.8341,   2.6355, 2, 2598.8, 2, 230.67, 2, 0.22, 0.1, 0.01, 0.01, -999, 9,  -999.00, 9, -999, -999, 9, -999
49NZ20031106, A10, 92, 1, 14, 12038, 2, 20031201, 1509, -29.4917, 12.4613, 3641,   2800.3, 2,   2.5212, 2,  34.8656, 2,  34.8653, 2,    222.1, 1,    230.9, 2,    49.00, 2,    24.04, 2,     0.00, 2,     1.64, 2, -999.000, 9, -999.000, 9, -999.000, 9,   -999.0, 9,   -999.0, 9, -999.0000, 9,   -999.00, -999.000, 9, -999.000,   -999.0, 9,   -999.0,  -999.00, 9,   -999.0,   2.3012, 27.8403,   2.5212, 2, 2800.5, 2, 230.91, 2, 0.23, 0.1, 0.01, 0.01, -999, 9,  -999.00, 9, -999, -999, 9, -999
49NZ20031106, A10, 92, 1, 9, 12033, 9, 20031201, 1509, -29.4917, 12.4613, 3641,   2900.6, 2,   2.4785, 2,  34.8635, 2, -999.0000, 9,    222.5, 1,   -999.0, 9,  -999.00, 9,  -999.00, 9,  -999.00, 9,  -999.00, 9, -999.000, 9, -999.000, 9, -999.000, 9,   -999.0, 9,   -999.0, 9, -999.0000, 9,   -999.00, -999.000, 9, -999.000,   -999.0, 9,   -999.0,  -999.00, 9,   -999.0,   2.2494, 27.843,   2.4784, 2, 2900.8, 2, 231.09, 2, -999, -999, -999, -999, -999, 9,  -999.00, 9, -999, -999, 9, -999
49NZ20031106, A10, 92, 1, 13, 12037, 2, 20031201, 1509, -29.4917, 12.4613, 3641,   3000.4, 2,   2.4450, 2,  34.8622, 2,  34.8622, 2,    222.9, 1,    231.2, 2,    51.21, 2,    24.19, 2,     0.00, 2,     1.65, 2, -999.000, 9, -999.000, 9, -999.000, 9,   -999.0, 9,   -999.0, 9, -999.0000, 9,   -999.00, -999.000, 9, -999.000,   -999.0, 9,   -999.0,  -999.00, 9,   -999.0,   2.2066, 27.8458,   2.4449, 2, 3000.2, 2, 231.13, 2, 0.23, 0.1, 0.01, 0.01, -999, 9,  -999.00, 9, -999, -999, 9, -999
49NZ20031106, A10, 92, 1, 8, 12032, 9, 20031201, 1509, -29.4917, 12.4613, 3641,   3100.5, 2,   2.4310, 2,  34.8658, 2, -999.0000, 9,    222.4, 1,   -999.0, 9,  -999.00, 9,  -999.00, 9,  -999.00, 9,  -999.00, 9, -999.000, 9, -999.000, 9, -999.000, 9,   -999.0, 9,   -999.0, 9, -999.0000, 9,   -999.00, -999.000, 9, -999.000,   -999.0, 9,   -999.0,  -999.00, 9,   -999.0,   2.1826, 27.8506,   2.4310, 2, 3100.4, 2, 230.65, 2, -999, -999, -999, -999, -999, 9,  -999.00, 9, -999, -999, 9, -999
49NZ20031106, A10, 92, 1, 12, 12036, 2, 20031201, 1509, -29.4917, 12.4613, 3641,   3248.9, 2,   2.3790, 2,  34.8632, 2,  34.8635, 2,    222.2, 1,    229.8, 2,    53.76, 2,    24.24, 2,     0.00, 2,     1.65, 2, -999.000, 9, -999.000, 9, -999.000, 9,   -999.0, 9,   -999.0, 9, -999.0000, 9,   -999.00, -999.000, 9, -999.000,   -999.0, 9,   -999.0,  -999.00, 9,   -999.0,   2.1165, 27.8538,   2.3789, 2, 3248.9, 2, 229.95, 2, 0.24, 0.1, 0.01, 0.01, -999, 9,  -999.00, 9, -999, -999, 9, -999
49NZ20031106, A10, 92, 1, 7, 12031, 9, 20031201, 1509, -29.4917, 12.4613, 3641,   3351.4, 2,   2.3362, 2,  34.8591, 2, -999.0000, 9,    223.1, 1,   -999.0, 9,  -999.00, 9,  -999.00, 9,  -999.00, 9,  -999.00, 9, -999.000, 9, -999.000, 9, -999.000, 9,   -999.0, 9,   -999.0, 9, -999.0000, 9,   -999.00, -999.000, 9, -999.000,   -999.0, 9,   -999.0,  -999.00, 9,   -999.0,   2.0640, 27.8548,   2.3362, 2, 3351.3, 2, 230.38, 2, -999, -999, -999, -999, -999, 9,  -999.00, 9, -999, -999, 9, -999
49NZ20031106, A10, 92, 1, 11, 12035, 2, 20031201, 1509, -29.4917, 12.4613, 3641,   3502.1, 2,   2.2759, 2,  34.8541, 2,  34.8538, 2,    223.8, 1,    230.4, 2,    57.31, 2,    24.64, 2,     0.01, 2,     1.69, 2, -999.000, 9, -999.000, 9, -999.000, 9,   -999.0, 9,   -999.0, 9, -999.0000, 9,   -999.00, -999.000, 9, -999.000,   -999.0, 9,   -999.0,  -999.00, 9,   -999.0,   1.9891, 27.8568,   2.2759, 2, 3502.2, 2, 230.35, 2, 0.25, 0.1, 0.01, 0.01, -999, 9,  -999.00, 9, -999, -999, 9, -999
49NZ20031106, A10, 92, 1, 10, 12034, 2, 20031201, 1509, -29.4917, 12.4613, 3641,   3684.3, 2,   2.0494, 2,  34.8328, 2,  34.8324, 2,    219.7, 1,    224.8, 2,    67.60, 2,    25.96, 2,     0.01, 2,     1.79, 2, -999.000, 9, -999.000, 9, -999.000, 9,   -999.0, 9,   -999.0, 9, -999.0000, 9,   -999.00, -999.000, 9, -999.000,   -999.0, 9,   -999.0,  -999.00, 9,   -999.0,   1.7489, 27.8584,   2.0492, 2, 3684.3, 2, 224.51, 2, 0.27, 0.11, 0.01, 0.01, -999, 9,  -999.00, 9, -999, -999, 9, -999