BOTTLE,20220818CCHSIOAMB
EXPOCODE,SECT_ID,STNNBR,CASTNO,SAMPNO,BTLNBR,BTLNBR_FLAG_W,DATE,TIME,LATITUDE,LONGITUDE,DEPTH,CTDPRS,CTDPRS_FLAG_W,CTDTMP,CTDTMP_FLAG_W,CTDSAL,CTDSAL_FLAG_W,SALNTY,SALNTY_FLAG_W,CTDOXY,CTDOXY_FLAG_W,OXYGEN,OXYGEN_FLAG_W,SILCAT,SILCAT_FLAG_W,NITRAT,NITRAT_FLAG_W,NITRIT,NITRIT_FLAG_W,PHSPHT,PHSPHT_FLAG_W,CFC-11,CFC-11_FLAG_W,CFC-12,CFC-12_FLAG_W,CFC113,CFC113_FLAG_W,TCARBN,TCARBN_FLAG_W,ALKALI,ALKALI_FLAG_W,PH_TOT,PH_TOT_FLAG_W,PH_TMP,TRITUM,TRITUM_FLAG_W,TRITER,DELC14,DELC14_FLAG_W,C14ERR,DELC13,DELC13_FLAG_W,C13ERR,THETA,SIG0,SBE35,SBE35_FLAG_W,DWNPRS,DWNPRS_FLAG_W,DWNOXY,DWNOXY_FLAG_W,SILUNC,NRAUNC,NRIUNC,PHPUNC,TOC,TOC_FLAG_W,CS-137,CS-137_FLAG_W,CS137ER,PLUTO,PLUTO_FLAG_W,PLUTOER
,,,,,,,,,,,METERS,DBAR,,ITS-90,,PSS-78,,PSS-78,,UMOL/KG,,UMOL/KG,,UMOL/KG,,UMOL/KG,,UMOL/KG,,UMOL/KG,,PMOL/KG,,PMOL/KG,,PMOL/KG,,UMOL/KG,,UMOL/KG,,,,DEG C,TU,,TU,/MILLE,,/MILLE,/MILLE,,/MILLE,DEG C,KG/M^3,ITS-90,,DBAR,,UMOL/KG,,UMOL/KG,UMOL/KG,UMOL/KG,UMOL/KG,UMOL/KG,,BQ/M^3,,BQ/M^3,MBQ/M^3,,MBQ/M^3
49NZ20031106, A10, 628, 1, 36, 12048, 2, 20031108, 251, -27.9977, -46.3100, 2218,     10.5, 2,  22.5129, 2,  36.2428, 2,  36.2407, 2,    204.9, 1,    216.0, 2,     1.15, 2,    -0.01, 2,     0.01, 2,     0.13, 2, -999.000, 9, -999.000, 9, -999.000, 9,   -999.0, 9,   -999.0, 9, -999.0000, 9,   -999.00, -999.000, 9, -999.000,   -999.0, 9,   -999.0,  -999.00, 9,   -999.0,  22.5108, 25.0176,  22.5138, 2, 13.9, 2, 217, 2, 0.12, 0.03, 0.01, 0.02, -999, 9,  -999.00, 9, -999, -999, 9, -999
49NZ20031106, A10, 628, 1, 35, 12047, 2, 20031108, 251, -27.9977, -46.3100, 2218,     50.6, 2,  22.5516, 2,  36.5636, 2,  36.5022, 3,    205.8, 1,    216.9, 2,     1.06, 2,    -0.03, 2,     0.01, 2,     0.12, 2, -999.000, 9, -999.000, 9, -999.000, 9,   -999.0, 9,   -999.0, 9, -999.0000, 9,   -999.00, -999.000, 9, -999.000,   -999.0, 9,   -999.0,  -999.00, 9,   -999.0,  22.5414, 25.2521,  22.5546, 2, 52.5, 2, 217.42, 2, 0.12, 0.03, 0.01, 0.02, -999, 9,  -999.00, 9, -999, -999, 9, -999
49NZ20031106, A10, 628, 1, 34, 12046, 2, 20031108, 251, -27.9977, -46.3100, 2218,    101.5, 2,  20.1023, 2,  36.3822, 2,  36.3863, 2,    189.1, 1,    199.2, 2,     1.44, 2,     1.79, 2,     0.09, 2,     0.28, 2, -999.000, 9, -999.000, 9, -999.000, 9,   -999.0, 9,   -999.0, 9, -999.0000, 9,   -999.00, -999.000, 9, -999.000,   -999.0, 9,   -999.0,  -999.00, 9,   -999.0,  20.0833, 25.7948,  20.1021, 2, 101.7, 2, 199.29, 2, 0.12, 0.04, 0.01, 0.01, -999, 9,  -999.00, 9, -999, -999, 9, -999
49NZ20031106, A10, 628, 1, 33, 12045, 2, 20031108, 251, -27.9977, -46.3100, 2218,    153.7, 2,  16.2128, 2,  35.7040, 2,  35.7084, 2,    194.6, 1,    203.6, 2,     1.87, 2,     4.39, 2,     0.02, 2,     0.43, 2, -999.000, 9, -999.000, 9, -999.000, 9,   -999.0, 9,   -999.0, 9, -999.0000, 9,   -999.00, -999.000, 9, -999.000,   -999.0, 9,   -999.0,  -999.00, 9,   -999.0,  16.1881, 26.2473,  16.2160, 2, 155.9, 2, 202.91, 2, 0.12, 0.05, 0.01, 0.01, -999, 9,  -999.00, 9, -999, -999, 9, -999
49NZ20031106, A10, 628, 1, 32, 12044, 2, 20031108, 251, -27.9977, -46.3100, 2218,    200.6, 2,  14.7639, 2,  35.4582, 2,  35.4589, 2,    194.6, 1,    203.4, 2,     2.51, 2,     6.79, 2,     0.01, 2,     0.59, 2, -999.000, 9, -999.000, 9, -999.000, 9,   -999.0, 9,   -999.0, 9, -999.0000, 9,   -999.00, -999.000, 9, -999.000,   -999.0, 9,   -999.0,  -999.00, 9,   -999.0,  14.7337, 26.3826,  14.7697, 2, 204.6, 2, 202.6, 2, 0.12, 0.05, 0.01, 0.01, -999, 9,  -999.00, 9, -999, -999, 9, -999
49NZ20031106, A10, 628, 1, 31, 12043, 2, 20031108, 251, -27.9977, -46.3100, 2218,    251.0, 2,  13.6909, 2,  35.3160, 2,  35.3248, 2,    197.6, 1,    206.3, 2,     2.92, 2,     8.64, 2,     0.01, 2,     0.70, 2, -999.000, 9, -999.000, 9, -999.000, 9,   -999.0, 9,   -999.0, 9, -999.0000, 9,   -999.00, -999.000, 9, -999.000,   -999.0, 9,   -999.0,  -999.00, 9,   -999.0,  13.6550, 26.5081,  13.6860, 2, 254.8, 2, 205.14, 2, 0.13, 0.06, 0.01, 0.01, -999, 9,  -999.00, 9, -999, -999, 9, -999
49NZ20031106, A10, 628, 1, 30, 12042, 2, 20031108, 251, -27.9977, -46.3100, 2218,    299.9, 2,  12.7633, 2,  35.1717, 2,  35.1707, 2,    194.5, 1,    202.4, 2,     3.79, 2,    11.12, 2,     0.01, 2,     0.86, 2, -999.000, 9, -999.000, 9, -999.000, 9,   -999.0, 9,   -999.0, 9, -999.0000, 9,   -999.00, -999.000, 9, -999.000,   -999.0, 9,   -999.0,  -999.00, 9,   -999.0,  12.7223, 26.5815,  12.7608, 2, 303.1, 2, 202.44, 2, 0.13, 0.06, 0.01, 0.01, -999, 9,  -999.00, 9, -999, -999, 9, -999
49NZ20031106, A10, 628, 1, 29, 12041, 2, 20031108, 251, -27.9977, -46.3100, 2218,    402.1, 2,  10.7957, 2,  34.9123, 2,  34.9123, 2,    192.9, 1,    200.0, 2,     6.06, 2,    15.92, 2,     0.01, 2,     1.15, 2, -999.000, 9, -999.000, 9, -999.000, 9,   -999.0, 9,   -999.0, 9, -999.0000, 9,   -999.00, -999.000, 9, -999.000,   -999.0, 9,   -999.0,  -999.00, 9,   -999.0,  10.7463, 26.7523,  10.7947, 2, 402.8, 2, 199.96, 2, 0.13, 0.08, 0.01, 0.01, -999, 9,  -999.00, 9, -999, -999, 9, -999
49NZ20031106, A10, 628, 1, 28, 12040, 2, 20031108, 251, -27.9977, -46.3100, 2218,    500.9, 2,   8.9332, 2,  34.6889, 2,  34.6894, 2,    194.0, 1,    200.9, 2,     8.94, 2,    20.33, 2,     0.00, 2,     1.44, 2, -999.000, 9, -999.000, 9, -999.000, 9,   -999.0, 9,   -999.0, 9, -999.0000, 9,   -999.00, -999.000, 9, -999.000,   -999.0, 9,   -999.0,  -999.00, 9,   -999.0,   8.8783, 26.8929,   8.9430, 2, 499.9, 2, 201.07, 2, 0.14, 0.09, 0.01, 0.01, -999, 9,  -999.00, 9, -999, -999, 9, -999
49NZ20031106, A10, 628, 1, 27, 12039, 2, 20031108, 251, -27.9977, -46.3100, 2218,    598.1, 2,   7.0910, 2,  34.4873, 2,  34.4878, 2,    204.6, 1,    211.2, 2,    12.04, 2,    23.97, 2,     0.01, 2,     1.68, 2, -999.000, 9, -999.000, 9, -999.000, 9,   -999.0, 9,   -999.0, 9, -999.0000, 9,   -999.00, -999.000, 9, -999.000,   -999.0, 9,   -999.0,  -999.00, 9,   -999.0,   7.0334, 27.0093,   7.0791, 2, 598.2, 2, 210.4, 2, 0.15, 0.1, 0.01, 0.01, -999, 9,  -999.00, 9, -999, -999, 9, -999
49NZ20031106, A10, 628, 1, 26, 12038, 2, 20031108, 251, -27.9977, -46.3100, 2218,    702.0, 2,   5.4344, 2,  34.3391, 2,  34.3382, 2,    218.2, 1,    225.9, 2,    16.04, 2,    26.71, 2,     0.00, 2,     1.85, 2, -999.000, 9, -999.000, 9, -999.000, 9,   -999.0, 9,   -999.0, 9, -999.0000, 9,   -999.00, -999.000, 9, -999.000,   -999.0, 9,   -999.0,  -999.00, 9,   -999.0,   5.3753, 27.1061,   5.4303, 2, 702, 2, 225.08, 2, 0.15, 0.11, 0.01, 0.01, -999, 9,  -999.00, 9, -999, -999, 9, -999
49NZ20031106, A10, 628, 1, 25, 12037, 2, 20031108, 251, -27.9977, -46.3100, 2218,    801.7, 2,   4.6708, 2,  34.3161, 2,  34.3159, 2,    213.7, 1,    221.0, 2,    22.04, 2,    28.90, 2,     0.01, 2,     2.00, 2, -999.000, 9, -999.000, 9, -999.000, 9,   -999.0, 9,   -999.0, 9, -999.0000, 9,   -999.00, -999.000, 9, -999.000,   -999.0, 9,   -999.0,  -999.00, 9,   -999.0,   4.6074, 27.1763,   4.6705, 2, 802.3, 2, 221.05, 2, 0.17, 0.11, 0.01, 0.02, -999, 9,  -999.00, 9, -999, -999, 9, -999
49NZ20031106, A10, 628, 1, 24, 12036, 2, 20031108, 251, -27.9977, -46.3100, 2218,    901.4, 2,   4.0523, 2,  34.3181, 2,  34.3180, 2,    208.4, 1,    215.6, 2,    28.83, 2,    30.42, 2,     0.01, 2,     2.10, 2, -999.000, 9, -999.000, 9, -999.000, 9,   -999.0, 9,   -999.0, 9, -999.0000, 9,   -999.00, -999.000, 9, -999.000,   -999.0, 9,   -999.0,  -999.00, 9,   -999.0,   3.9847, 27.2443,   4.0536, 2, 901.7, 2, 215.52, 2, 0.18, 0.12, 0.01, 0.02, -999, 9,  -999.00, 9, -999, -999, 9, -999
49NZ20031106, A10, 628, 1, 8, 12020, 9, 20031108, 251, -27.9977, -46.3100, 2218,   1002.5, 2,   3.7612, 2,  34.3669, 2, -999.0000, 9,    195.4, 1,   -999.0, 9,  -999.00, 9,  -999.00, 9,  -999.00, 9,  -999.00, 9, -999.000, 9, -999.000, 9, -999.000, 9,   -999.0, 9,   -999.0, 9, -999.0000, 9,   -999.00, -999.000, 9, -999.000,   -999.0, 9,   -999.0,  -999.00, 9,   -999.0,   3.6874, 27.3133,   3.7612, 2, 1002.5, 2, 201.71, 2, -999, -999, -999, -999, -999, 9,  -999.00, 9, -999, -999, 9, -999
49NZ20031106, A10, 628, 1, 5, 12017, 9, 20031108, 251, -27.9977, -46.3100, 2218,   1002.5, 2,   3.7599, 2,  34.3672, 2, -999.0000, 9,    195.3, 1,   -999.0, 9,  -999.00, 9,  -999.00, 9,  -999.00, 9,  -999.00, 9, -999.000, 9, -999.000, 9, -999.000, 9,   -999.0, 9,   -999.0, 9, -999.0000, 9,   -999.00, -999.000, 9, -999.000,   -999.0, 9,   -999.0,  -999.00, 9,   -999.0,   3.6861, 27.3136,   3.7598, 2, 1002.6, 2, 201.7, 2, -999, -999, -999, -999, -999, 9,  -999.00, 9, -999, -999, 9, -999
49NZ20031106, A10, 628, 1, 1, 12013, 9, 20031108, 251, -27.9977, -46.3100, 2218,   1002.6, 2,   3.7603, 2,  34.3671, 2, -999.0000, 9,    195.2, 1,   -999.0, 9,  -999.00, 9,  -999.00, 9,  -999.00, 9,  -999.00, 9, -999.000, 9, -999.000, 9, -999.000, 9,   -999.0, 9,   -999.0, 9, -999.0000, 9,   -999.00, -999.000, 9, -999.000,   -999.0, 9,   -999.0,  -999.00, 9,   -999.0,   3.6865, 27.3136,   3.7600, 2, 1002.7, 2, 201.69, 2, -999, -999, -999, -999, -999, 9,  -999.00, 9, -999, -999, 9, -999
49NZ20031106, A10, 628, 1, 3, 12012, 9, 20031108, 251, -27.9977, -46.3100, 2218,   1002.7, 2,   3.7599, 2,  34.3671, 2, -999.0000, 9,    195.2, 1,   -999.0, 9,  -999.00, 9,  -999.00, 9,  -999.00, 9,  -999.00, 9, -999.000, 9, -999.000, 9, -999.000, 9,   -999.0, 9,   -999.0, 9, -999.0000, 9,   -999.00, -999.000, 9, -999.000,   -999.0, 9,   -999.0,  -999.00, 9,   -999.0,   3.6861, 27.3136,   3.7597, 2, 1002.8, 2, 201.66, 2, -999, -999, -999, -999, -999, 9,  -999.00, 9, -999, -999, 9, -999
49NZ20031106, A10, 628, 1, 12, 12024, 9, 20031108, 251, -27.9977, -46.3100, 2218,   1002.8, 2,   3.7602, 2,  34.3671, 2, -999.0000, 9,    195.3, 1,   -999.0, 9,  -999.00, 9,  -999.00, 9,  -999.00, 9,  -999.00, 9, -999.000, 9, -999.000, 9, -999.000, 9,   -999.0, 9,   -999.0, 9, -999.0000, 9,   -999.00, -999.000, 9, -999.000,   -999.0, 9,   -999.0,  -999.00, 9,   -999.0,   3.6864, 27.3135,   3.7601, 2, 1002.9, 2, 201.65, 2, -999, -999, -999, -999, -999, 9,  -999.00, 9, -999, -999, 9, -999
49NZ20031106, A10, 628, 1, 11, 12023, 9, 20031108, 251, -27.9977, -46.3100, 2218,   1002.8, 2,   3.7607, 2,  34.3670, 2, -999.0000, 9,    195.5, 1,   -999.0, 9,  -999.00, 9,  -999.00, 9,  -999.00, 9,  -999.00, 9, -999.000, 9, -999.000, 9, -999.000, 9,   -999.0, 9,   -999.0, 9, -999.0000, 9,   -999.00, -999.000, 9, -999.000,   -999.0, 9,   -999.0,  -999.00, 9,   -999.0,   3.6869, 27.3134,   3.7607, 2, 1002.8, 2, 201.65, 2, -999, -999, -999, -999, -999, 9,  -999.00, 9, -999, -999, 9, -999
49NZ20031106, A10, 628, 1, 7, 12019, 9, 20031108, 251, -27.9977, -46.3100, 2218,   1002.9, 2,   3.7604, 2,  34.3670, 2, -999.0000, 9,    195.4, 1,   -999.0, 9,  -999.00, 9,  -999.00, 9,  -999.00, 9,  -999.00, 9, -999.000, 9, -999.000, 9, -999.000, 9,   -999.0, 9,   -999.0, 9, -999.0000, 9,   -999.00, -999.000, 9, -999.000,   -999.0, 9,   -999.0,  -999.00, 9,   -999.0,   3.6866, 27.3135,   3.7604, 2, 1003, 2, 201.64, 2, -999, -999, -999, -999, -999, 9,  -999.00, 9, -999, -999, 9, -999
49NZ20031106, A10, 628, 1, 15, 12027, 9, 20031108, 251, -27.9977, -46.3100, 2218,   1003.0, 2,   3.7605, 2,  34.3670, 2, -999.0000, 9,    195.5, 1,   -999.0, 9,  -999.00, 9,  -999.00, 9,  -999.00, 9,  -999.00, 9, -999.000, 9, -999.000, 9, -999.000, 9,   -999.0, 9,   -999.0, 9, -999.0000, 9,   -999.00, -999.000, 9, -999.000,   -999.0, 9,   -999.0,  -999.00, 9,   -999.0,   3.6867, 27.3134,   3.7606, 2, 1003, 2, 201.62, 2, -999, -999, -999, -999, -999, 9,  -999.00, 9, -999, -999, 9, -999
49NZ20031106, A10, 628, 1, 9, 12015, 9, 20031108, 251, -27.9977, -46.3100, 2218,   1003.0, 2,   3.7612, 2,  34.3669, 2, -999.0000, 9,    195.5, 1,   -999.0, 9,  -999.00, 9,  -999.00, 9,  -999.00, 9,  -999.00, 9, -999.000, 9, -999.000, 9, -999.000, 9,   -999.0, 9,   -999.0, 9, -999.0000, 9,   -999.00, -999.000, 9, -999.000,   -999.0, 9,   -999.0,  -999.00, 9,   -999.0,   3.6874, 27.3134,   3.7612, 2, 1003, 2, 201.62, 2, -999, -999, -999, -999, -999, 9,  -999.00, 9, -999, -999, 9, -999
49NZ20031106, A10, 628, 1, 6, 12018, 9, 20031108, 251, -27.9977, -46.3100, 2218,   1003.0, 2,   3.7601, 2,  34.3669, 2, -999.0000, 9,    195.2, 1,   -999.0, 9,  -999.00, 9,  -999.00, 9,  -999.00, 9,  -999.00, 9, -999.000, 9, -999.000, 9, -999.000, 9,   -999.0, 9,   -999.0, 9, -999.0000, 9,   -999.00, -999.000, 9, -999.000,   -999.0, 9,   -999.0,  -999.00, 9,   -999.0,   3.6863, 27.3136,   3.7599, 2, 1003, 2, 201.62, 2, -999, -999, -999, -999, -999, 9,  -999.00, 9, -999, -999, 9, -999
49NZ20031106, A10, 628, 1, 2, 12014, 9, 20031108, 251, -27.9977, -46.3100, 2218,   1003.0, 2,   3.7599, 2,  34.3672, 2, -999.0000, 9,    195.3, 1,   -999.0, 9,  -999.00, 9,  -999.00, 9,  -999.00, 9,  -999.00, 9, -999.000, 9, -999.000, 9, -999.000, 9,   -999.0, 9,   -999.0, 9, -999.0000, 9,   -999.00, -999.000, 9, -999.000,   -999.0, 9,   -999.0,  -999.00, 9,   -999.0,   3.6861, 27.3135,   3.7600, 2, 1003.1, 2, 201.63, 2, -999, -999, -999, -999, -999, 9,  -999.00, 9, -999, -999, 9, -999
49NZ20031106, A10, 628, 1, 14, 12026, 9, 20031108, 251, -27.9977, -46.3100, 2218,   1003.1, 2,   3.7613, 2,  34.3668, 2, -999.0000, 9,    195.3, 1,   -999.0, 9,  -999.00, 9,  -999.00, 9,  -999.00, 9,  -999.00, 9, -999.000, 9, -999.000, 9, -999.000, 9,   -999.0, 9,   -999.0, 9, -999.0000, 9,   -999.00, -999.000, 9, -999.000,   -999.0, 9,   -999.0,  -999.00, 9,   -999.0,   3.6875, 27.3133,   3.7616, 2, 1003.1, 2, 201.61, 2, -999, -999, -999, -999, -999, 9,  -999.00, 9, -999, -999, 9, -999
49NZ20031106, A10, 628, 1, 10, 12022, 9, 20031108, 251, -27.9977, -46.3100, 2218,   1003.1, 2,   3.7610, 2,  34.3669, 2, -999.0000, 9,    195.5, 1,   -999.0, 9,  -999.00, 9,  -999.00, 9,  -999.00, 9,  -999.00, 9, -999.000, 9, -999.000, 9, -999.000, 9,   -999.0, 9,   -999.0, 9, -999.0000, 9,   -999.00, -999.000, 9, -999.000,   -999.0, 9,   -999.0,  -999.00, 9,   -999.0,   3.6872, 27.3135,   3.7609, 2, 1003.1, 2, 201.61, 2, -999, -999, -999, -999, -999, 9,  -999.00, 9, -999, -999, 9, -999
49NZ20031106, A10, 628, 1, 4, 12016, 9, 20031108, 251, -27.9977, -46.3100, 2218,   1003.1, 2,   3.7597, 2,  34.3671, 2, -999.0000, 9,    195.3, 1,   -999.0, 9,  -999.00, 9,  -999.00, 9,  -999.00, 9,  -999.00, 9, -999.000, 9, -999.000, 9, -999.000, 9,   -999.0, 9,   -999.0, 9, -999.0000, 9,   -999.00, -999.000, 9, -999.000,   -999.0, 9,   -999.0,  -999.00, 9,   -999.0,   3.6859, 27.3136,   3.7595, 2, 1003.1, 2, 201.61, 2, -999, -999, -999, -999, -999, 9,  -999.00, 9, -999, -999, 9, -999
49NZ20031106, A10, 628, 1, 13, 12025, 9, 20031108, 251, -27.9977, -46.3100, 2218,   1003.3, 2,   3.7602, 2,  34.3670, 2, -999.0000, 9,    195.4, 1,   -999.0, 9,  -999.00, 9,  -999.00, 9,  -999.00, 9,  -999.00, 9, -999.000, 9, -999.000, 9, -999.000, 9,   -999.0, 9,   -999.0, 9, -999.0000, 9,   -999.00, -999.000, 9, -999.000,   -999.0, 9,   -999.0,  -999.00, 9,   -999.0,   3.6864, 27.3135,   3.7602, 2, 1003.3, 2, 201.6, 2, -999, -999, -999, -999, -999, 9,  -999.00, 9, -999, -999, 9, -999
49NZ20031106, A10, 628, 1, 23, 12035, 2, 20031108, 251, -27.9977, -46.3100, 2218,   1003.5, 2,   3.7594, 2,  34.3672, 2,  34.3668, 2,    195.2, 1,    201.7, 2,    35.81, 2,    31.67, 2,     0.01, 2,     2.19, 2, -999.000, 9, -999.000, 9, -999.000, 9,   -999.0, 9,   -999.0, 9, -999.0000, 9,   -999.00, -999.000, 9, -999.000,   -999.0, 9,   -999.0,  -999.00, 9,   -999.0,   3.6855, 27.3137,   3.7594, 2, 1003.5, 2, 201.6, 2, 0.2, 0.12, 0.01, 0.02, -999, 9,  -999.00, 9, -999, -999, 9, -999
49NZ20031106, A10, 628, 1, 22, 12034, 2, 20031108, 251, -27.9977, -46.3100, 2218,   1201.0, 2,   3.3399, 2,  34.4787, 2,  34.4780, 2,    184.2, 1,    189.9, 2,    45.27, 2,    32.21, 2,     0.01, 2,     2.23, 2, -999.000, 9, -999.000, 9, -999.000, 9,   -999.0, 9,   -999.0, 9, -999.0000, 9,   -999.00, -999.000, 9, -999.000,   -999.0, 9,   -999.0,  -999.00, 9,   -999.0,   3.2534, 27.4445,   3.3403, 2, 1202.1, 2, 189.83, 2, 0.22, 0.12, 0.01, 0.02, -999, 9,  -999.00, 9, -999, -999, 9, -999
49NZ20031106, A10, 628, 1, 21, 12033, 2, 20031108, 251, -27.9977, -46.3100, 2218,   1400.8, 2,   3.2333, 2,  34.5895, 2,  34.5888, 2,    184.0, 1,    189.4, 2,    47.79, 2,    31.17, 2,     0.01, 2,     2.15, 2, -999.000, 9, -999.000, 9, -999.000, 9,   -999.0, 9,   -999.0, 9, -999.0000, 9,   -999.00, -999.000, 9, -999.000,   -999.0, 9,   -999.0,  -999.00, 9,   -999.0,   3.1311, 27.5445,   3.2329, 2, 1401.8, 2, 189.37, 2, 0.22, 0.12, 0.01, 0.02, -999, 9,  -999.00, 9, -999, -999, 9, -999
49NZ20031106, A10, 628, 1, 20, 12032, 2, 20031108, 251, -27.9977, -46.3100, 2218,   1601.3, 2,   3.2800, 2,  34.7213, 2,  34.7200, 2,    193.9, 1,    199.1, 2,    44.71, 2,    28.47, 2,     0.00, 2,     1.96, 2, -999.000, 9, -999.000, 9, -999.000, 9,   -999.0, 9,   -999.0, 9, -999.0000, 9,   -999.00, -999.000, 9, -999.000,   -999.0, 9,   -999.0,  -999.00, 9,   -999.0,   3.1598, 27.6472,   3.2786, 2, 1602, 2, 198.23, 2, 0.22, 0.11, 0.01, 0.01, -999, 9,  -999.00, 9, -999, -999, 9, -999
49NZ20031106, A10, 628, 1, 19, 12031, 2, 20031108, 251, -27.9977, -46.3100, 2218,   1799.9, 2,   3.7327, 2,  34.8882, 2,  34.8871, 2,    217.8, 1,    223.8, 2,    27.74, 2,    23.32, 2,     0.01, 2,     1.59, 2, -999.000, 9, -999.000, 9, -999.000, 9,   -999.0, 9,   -999.0, 9, -999.0000, 9,   -999.00, -999.000, 9, -999.000,   -999.0, 9,   -999.0,  -999.00, 9,   -999.0,   3.5884, 27.7393,   3.7314, 2, 1800.3, 2, 222.64, 2, 0.18, 0.1, 0.01, 0.01, -999, 9,  -999.00, 9, -999, -999, 9, -999
49NZ20031106, A10, 628, 1, 18, 12030, 2, 20031108, 251, -27.9977, -46.3100, 2218,   2000.8, 2,   3.6338, 2,  34.9399, 2,  34.9391, 2,    233.7, 1,    240.2, 2,    23.16, 2,    20.95, 2,     0.01, 2,     1.42, 2, -999.000, 9, -999.000, 9, -999.000, 9,   -999.0, 9,   -999.0, 9, -999.0000, 9,   -999.00, -999.000, 9, -999.000,   -999.0, 9,   -999.0,  -999.00, 9,   -999.0,   3.4717, 27.7913,   3.6337, 2, 2000.6, 2, 240.11, 2, 0.17, 0.09, 0.01, 0.01, -999, 9,  -999.00, 9, -999, -999, 9, -999
49NZ20031106, A10, 628, 1, 16, 12028, 9, 20031108, 251, -27.9977, -46.3100, 2218,   2100.9, 2,   3.4688, 2,  34.9485, 2, -999.0000, 9,    239.8, 1,   -999.0, 9,  -999.00, 9,  -999.00, 9,  -999.00, 9,  -999.00, 9, -999.000, 9, -999.000, 9, -999.000, 9,   -999.0, 9,   -999.0, 9, -999.0000, 9,   -999.00, -999.000, 9, -999.000,   -999.0, 9,   -999.0,  -999.00, 9,   -999.0,   3.2996, 27.8151,   3.4686, 2, 2101, 2, 246.3, 2, -999, -999, -999, -999, -999, 9,  -999.00, 9, -999, -999, 9, -999
49NZ20031106, A10, 628, 1, 17, 12029, 2, 20031108, 251, -27.9977, -46.3100, 2218,   2230.2, 2,   3.0483, 2,  34.9350, 2,  34.9350, 2,    243.3, 1,    249.4, 2,    28.12, 2,    20.32, 2,     0.01, 2,     1.39, 2, -999.000, 9, -999.000, 9, -999.000, 9,   -999.0, 9,   -999.0, 9, -999.0000, 9,   -999.00, -999.000, 9, -999.000,   -999.0, 9,   -999.0,  -999.00, 9,   -999.0,   2.8736, 27.8445,   3.0474, 2, 2230.1, 2, 249.97, 2, 0.18, 0.09, 0.01, 0.01, -999, 9,  -999.00, 9, -999, -999, 9, -999