BOTTLE,20220818CCHSIOAMB
EXPOCODE,SECT_ID,STNNBR,CASTNO,SAMPNO,BTLNBR,BTLNBR_FLAG_W,DATE,TIME,LATITUDE,LONGITUDE,DEPTH,CTDPRS,CTDPRS_FLAG_W,CTDTMP,CTDTMP_FLAG_W,CTDSAL,CTDSAL_FLAG_W,SALNTY,SALNTY_FLAG_W,CTDOXY,CTDOXY_FLAG_W,OXYGEN,OXYGEN_FLAG_W,SILCAT,SILCAT_FLAG_W,NITRAT,NITRAT_FLAG_W,NITRIT,NITRIT_FLAG_W,PHSPHT,PHSPHT_FLAG_W,CFC-11,CFC-11_FLAG_W,CFC-12,CFC-12_FLAG_W,CFC113,CFC113_FLAG_W,TCARBN,TCARBN_FLAG_W,ALKALI,ALKALI_FLAG_W,PH_TOT,PH_TOT_FLAG_W,PH_TMP,TRITUM,TRITUM_FLAG_W,TRITER,DELC14,DELC14_FLAG_W,C14ERR,DELC13,DELC13_FLAG_W,C13ERR,THETA,SIG0,SBE35,SBE35_FLAG_W,DWNPRS,DWNPRS_FLAG_W,DWNOXY,DWNOXY_FLAG_W,SILUNC,NRAUNC,NRIUNC,PHPUNC,TOC,TOC_FLAG_W,CS-137,CS-137_FLAG_W,CS137ER,PLUTO,PLUTO_FLAG_W,PLUTOER
,,,,,,,,,,,METERS,DBAR,,ITS-90,,PSS-78,,PSS-78,,UMOL/KG,,UMOL/KG,,UMOL/KG,,UMOL/KG,,UMOL/KG,,UMOL/KG,,PMOL/KG,,PMOL/KG,,PMOL/KG,,UMOL/KG,,UMOL/KG,,,,DEG C,TU,,TU,/MILLE,,/MILLE,/MILLE,,/MILLE,DEG C,KG/M^3,ITS-90,,DBAR,,UMOL/KG,,UMOL/KG,UMOL/KG,UMOL/KG,UMOL/KG,UMOL/KG,,BQ/M^3,,BQ/M^3,MBQ/M^3,,MBQ/M^3
49NZ20031106, A10, X23, 1, 3, 12012, 2, 20031112, 927, -30.0055, -36.8785, 2036,      4.9, 2,  20.2185, 2,  35.9892, 2, -999.0000, 9,    217.2, 1,   -999.0, 9,  -999.00, 9,  -999.00, 9,  -999.00, 9,  -999.00, 9, -999.000, 9, -999.000, 9, -999.000, 9,   -999.0, 9,   -999.0, 9, -999.0000, 9,   -999.00, -999.000, 9, -999.000,   -999.0, 9,   -999.0,  -999.00, 9,   -999.0,  20.2176, 25.4618,  20.2094, 2, -999, 9, -999, 9, -999, -999, -999, -999, -999, 9,  -999.00, 9, -999, -999, 9, -999
49NZ20031106, A10, X23, 1, 2, 12014, 2, 20031112, 927, -30.0055, -36.8785, 2036,      4.9, 2,  20.2196, 2,  35.9906, 2, -999.0000, 9,    217.1, 1,   -999.0, 9,  -999.00, 9,  -999.00, 9,  -999.00, 9,  -999.00, 9, -999.000, 9, -999.000, 9, -999.000, 9,   -999.0, 9,   -999.0, 9, -999.0000, 9,   -999.00, -999.000, 9, -999.000,   -999.0, 9,   -999.0,  -999.00, 9,   -999.0,  20.2187, 25.4588,  20.2258, 2, -999, 9, -999, 9, -999, -999, -999, -999, -999, 9,  -999.00, 9, -999, -999, 9, -999
49NZ20031106, A10, X23, 1, 36, 12048, 2, 20031112, 927, -30.0055, -36.8785, 2036,     10.5, 2,  20.1875, 2,  35.9889, 2,  35.9883, 2,    216.9, 1,    228.5, 2,     0.93, 2,     0.05, 2,     0.00, 2,     0.06, 2,    2.547, 2,    1.368, 2,    0.299, 4,   2056.5, 2,   2363.1, 2,    8.0335, 2,     25.00, -999.000, 9, -999.000,   -999.0, 9,   -999.0,  -999.00, 9,   -999.0,  20.1855, 25.4676,  20.1882, 2, 7.6, 2, 229.78, 2, 0.12, 0.03, 0.01, 0.03, -999, 1,  -999.00, 9, -999, -999, 9, -999
49NZ20031106, A10, X23, 1, 35, 12047, 2, 20031112, 927, -30.0055, -36.8785, 2036,     49.9, 2,  19.8663, 2,  35.9638, 2,  35.9638, 2,    218.8, 1,    230.2, 2,     0.87, 2,     0.03, 2,     0.00, 2,     0.06, 2,    2.574, 2,    1.378, 2,    0.328, 4,   2055.2, 6,   2361.3, 2,    8.0337, 2,     25.00, -999.000, 9, -999.000,   -999.0, 9,   -999.0,  -999.00, 9,   -999.0,  19.8571, 25.5367,  19.8632, 2, 47.3, 2, 231.25, 2, 0.12, 0.03, 0.01, 0.03, -999, 1,  -999.00, 9, -999, -999, 9, -999
49NZ20031106, A10, X23, 1, 34, 12046, 2, 20031112, 927, -30.0055, -36.8785, 2036,     99.6, 2,  18.7489, 2,  35.9206, 2,  35.9215, 2,    219.8, 1,    231.2, 2,     1.01, 2,     0.03, 2,     0.00, 2,     0.09, 2,    2.565, 2,    1.378, 2,    0.281, 4,   2061.7, 2,   2359.1, 6,    8.0212, 2,     25.00, -999.000, 9, -999.000,   -999.0, 9,   -999.0,  -999.00, 9,   -999.0,  18.7312, 25.7945,  18.7470, 2, 96.4, 2, 230.82, 2, 0.12, 0.03, 0.01, 0.02, -999, 1,  -999.00, 9, -999, -999, 9, -999
49NZ20031106, A10, X23, 1, 1, 12013, 2, 20031112, 927, -30.0055, -36.8785, 2036,    112.5, 2,  18.3335, 2,  35.8652, 2, -999.0000, 9,    217.8, 1,   -999.0, 9,  -999.00, 9,  -999.00, 9,  -999.00, 9,  -999.00, 9, -999.000, 9, -999.000, 9, -999.000, 9,   -999.0, 9,   -999.0, 9, -999.0000, 9,   -999.00, -999.000, 9, -999.000,   -999.0, 9,   -999.0,  -999.00, 9,   -999.0,  18.3139, 25.857,  18.3349, 2, 113.1, 2, 231.08, 2, -999, -999, -999, -999, -999, 9,  -999.00, 9, -999, -999, 9, -999
49NZ20031106, A10, X23, 1, 33, 12045, 2, 20031112, 927, -30.0055, -36.8785, 2036,    151.8, 2,  17.4016, 2,  35.7528, 2,  35.7567, 2,    211.5, 1,    221.6, 2,     1.23, 2,     0.89, 2,     0.05, 2,     0.20, 2,    2.779, 2,    1.509, 2,    0.277, 4,   2078.6, 2,   2351.9, 2,    7.9784, 6,     25.00, -999.000, 9, -999.000,   -999.0, 9,   -999.0,  -999.00, 9,   -999.0,  17.3760, 26.0016,  17.4002, 2, 150, 2, 221.37, 2, 0.12, 0.04, 0.01, 0.02, -999, 1,  -999.00, 9, -999, -999, 9, -999
49NZ20031106, A10, X23, 1, 32, 12044, 2, 20031112, 927, -30.0055, -36.8785, 2036,    199.5, 2,  16.0726, 2,  35.6096, 2,  35.6089, 2,    207.1, 1,    216.8, 2,     1.67, 2,     2.66, 2,     0.02, 2,     0.36, 2,    2.931, 2,    1.569, 2,    0.140, 4,   2090.8, 2,   2341.4, 2,    7.9401, 2,     25.00, -999.000, 9, -999.000,   -999.0, 9,   -999.0,  -999.00, 9,   -999.0,  16.0408, 26.2075,  16.0703, 2, 195.6, 2, 217.37, 2, 0.12, 0.04, 0.01, 0.01, -999, 1,  -999.00, 9, -999, -999, 9, -999
49NZ20031106, A10, X23, 1, 31, 12043, 2, 20031112, 927, -30.0055, -36.8785, 2036,    250.4, 2,  15.2295, 2,  35.5069, 2,  35.4981, 2,    207.0, 1,    216.4, 2,     1.83, 2,     4.43, 2,     0.00, 2,     0.45, 2,    3.063, 6,    1.641, 6,    0.079, 4,   2095.4, 2,   2335.9, 2,    7.9206, 2,     25.00, -999.000, 9, -999.000,   -999.0, 9,   -999.0,  -999.00, 9,   -999.0,  15.1910, 26.3204,  15.2288, 2, 248.5, 2, 216.44, 2, 0.12, 0.05, 0.01, 0.01, -999, 1,  -999.00, 9, -999, -999, 9, -999
49NZ20031106, A10, X23, 1, 30, 12042, 2, 20031112, 927, -30.0055, -36.8785, 2036,    300.1, 2,  14.3841, 2,  35.3898, 2,  35.3900, 2,    207.6, 1,    217.2, 2,     2.18, 2,     5.88, 2,     0.01, 2,     0.54, 2,    3.165, 2,    1.687, 2,    0.071, 4,   2099.7, 2,   2326.3, 2,    7.9038, 2,     25.00, -999.000, 9, -999.000,   -999.0, 9,   -999.0,  -999.00, 9,   -999.0,  14.3396, 26.4165,  14.3863, 2, 298.2, 2, 217.12, 2, 0.12, 0.05, 0.01, 0.01, -999, 1,  -999.00, 9, -999, -999, 9, -999
49NZ20031106, A10, X23, 1, 29, 12041, 2, 20031112, 927, -30.0055, -36.8785, 2036,    400.6, 2,  12.6781, 2,  35.1468, 2,  35.1477, 2,    205.8, 1,    214.4, 2,     3.25, 2,     9.98, 2,     0.00, 2,     0.79, 2,    3.162, 2,    1.617, 2,    0.074, 4,   2112.9, 2,   2319.2, 2,    7.8585, 2,     25.00, -999.000, 9, -999.000,   -999.0, 9,   -999.0,  -999.00, 9,   -999.0,  12.6234, 26.5798,  12.6849, 2, 401.3, 2, 214.15, 2, 0.13, 0.06, 0.01, 0.01, -999, 1,  -999.00, 9, -999, -999, 9, -999
49NZ20031106, A10, X23, 1, 28, 12040, 2, 20031112, 927, -30.0055, -36.8785, 2036,    500.1, 2,  11.0411, 2,  34.9369, 2,  34.9358, 2,    201.5, 1,    209.0, 2,     5.13, 2,    14.47, 2,     0.00, 2,     1.07, 2,    3.191, 2,    1.591, 2,    0.087, 4,   2128.2, 2,   2304.1, 2,    7.8086, 2,     25.00, -999.000, 9, -999.000,   -999.0, 9,   -999.0,  -999.00, 9,   -999.0,  10.9785, 26.7298,  11.0406, 2, 499.9, 2, 208.86, 2, 0.13, 0.07, 0.01, 0.01, -999, 1,  -999.00, 9, -999, -999, 9, -999
49NZ20031106, A10, X23, 1, 27, 12039, 2, 20031112, 927, -30.0055, -36.8785, 2036,    599.4, 2,   8.9630, 2,  34.6879, 2,  34.6866, 2,    196.2, 1,    203.1, 2,     8.60, 2,    20.19, 2,     0.00, 2,     1.42, 2,    2.944, 2,    1.400, 2,    0.099, 4,   2147.5, 2,   2297.1, 2,    7.7469, 2,     25.00, -999.000, 9, -999.000,   -999.0, 9,   -999.0,  -999.00, 9,   -999.0,   8.8968, 26.889,   8.9632, 2, 602, 2, 203.76, 2, 0.14, 0.09, 0.01, 0.01, -999, 1,  -999.00, 9, -999, -999, 9, -999
49NZ20031106, A10, X23, 1, 26, 12038, 2, 20031112, 927, -30.0055, -36.8785, 2036,    700.0, 2,   7.3490, 2,  34.5109, 2,  34.5109, 2,    209.1, 1,    215.9, 2,    11.06, 2,    23.08, 2,     0.00, 2,     1.61, 2,    3.145, 2,    1.480, 2,    0.143, 4,   2153.1, 6,   2289.5, 2,    7.7208, 2,     25.00, -999.000, 9, -999.000,   -999.0, 9,   -999.0,  -999.00, 9,   -999.0,   7.2798, 26.9934,   7.3519, 2, 701.2, 2, 215.1, 2, 0.14, 0.1, 0.01, 0.01, -999, 1,  -999.00, 9, -999, -999, 9, -999
49NZ20031106, A10, X23, 1, 25, 12037, 2, 20031112, 927, -30.0055, -36.8785, 2036,    801.7, 2,   5.7458, 2,  34.3597, 2,  34.3609, 2,    219.1, 1,    226.6, 2,    15.03, 2,    25.95, 2,     0.00, 2,     1.81, 2,    3.090, 2,    1.451, 2,    0.154, 4,   2162.1, 2,   2282.5, 6,    7.6925, 2,     25.00, -999.000, 9, -999.000,   -999.0, 9,   -999.0,  -999.00, 9,   -999.0,   5.6758, 27.0868,   5.7474, 2, 802.9, 2, 226.36, 2, 0.15, 0.11, 0.01, 0.01, -999, 1,  -999.00, 9, -999, -999, 9, -999
49NZ20031106, A10, X23, 1, 24, 12036, 2, 20031112, 927, -30.0055, -36.8785, 2036,    899.1, 2,   4.8234, 2,  34.3038, 2,  34.3042, 2,    223.2, 1,    231.0, 2,    19.47, 2,    27.71, 2,     0.00, 2,     1.92, 2,    2.838, 2,    1.330, 2,    0.158, 4,   2169.1, 2,   2287.5, 2,    7.6772, 2,     25.00, -999.000, 9, -999.000,   -999.0, 9,   -999.0,  -999.00, 9,   -999.0,   4.7507, 27.1512,   4.8244, 2, 899.5, 2, 230.95, 2, 0.16, 0.11, 0.01, 0.01, -999, 1,  -999.00, 9, -999, -999, 9, -999
49NZ20031106, A10, X23, 1, 23, 12035, 2, 20031112, 927, -30.0055, -36.8785, 2036,    999.2, 2,   4.0197, 2,  34.3087, 2,  34.3087, 2,    215.3, 1,    222.7, 2,    27.92, 2,    29.89, 2,    -0.01, 2,     2.06, 2,    2.178, 6,    1.013, 6,    0.114, 4,   2186.9, 2,   2294.3, 2,    7.6513, 2,     25.00, -999.000, 9, -999.000,   -999.0, 9,   -999.0,  -999.00, 9,   -999.0,   3.9443, 27.2418,   4.0198, 2, 1000.2, 2, 222.68, 2, 0.18, 0.12, 0.01, 0.02, -999, 1,  -999.00, 9, -999, -999, 9, -999
49NZ20031106, A10, X23, 1, 7, 12019, 9, 20031112, 927, -30.0055, -36.8785, 2036,    999.2, 2,   4.0216, 2,  34.3086, 2, -999.0000, 9,    215.4, 1,   -999.0, 9,  -999.00, 9,  -999.00, 9,  -999.00, 9,  -999.00, 9, -999.000, 9, -999.000, 9, -999.000, 9,   -999.0, 9,   -999.0, 9, -999.0000, 9,   -999.00, -999.000, 9, -999.000,   -999.0, 9,   -999.0,  -999.00, 9,   -999.0,   3.9462, 27.2416,   4.0215, 2, 1000.2, 2, 222.69, 2, -999, -999, -999, -999, -999, 9,  -999.00, 9, -999, -999, 9, -999
49NZ20031106, A10, X23, 1, 15, 12027, 9, 20031112, 927, -30.0055, -36.8785, 2036,    999.4, 2,   4.0236, 2,  34.3082, 2, -999.0000, 9,    215.4, 1,   -999.0, 9,  -999.00, 9,  -999.00, 9,  -999.00, 9,  -999.00, 9, -999.000, 9, -999.000, 9, -999.000, 9,   -999.0, 9,   -999.0, 9, -999.0000, 9,   -999.00, -999.000, 9, -999.000,   -999.0, 9,   -999.0,  -999.00, 9,   -999.0,   3.9481, 27.2414,   4.0236, 2, 1000.2, 2, 222.68, 2, -999, -999, -999, -999, -999, 9,  -999.00, 9, -999, -999, 9, -999
49NZ20031106, A10, X23, 1, 6, 12018, 9, 20031112, 927, -30.0055, -36.8785, 2036,    999.5, 2,   4.0215, 2,  34.3086, 2, -999.0000, 9,    215.4, 1,   -999.0, 9,  -999.00, 9,  -999.00, 9,  -999.00, 9,  -999.00, 9, -999.000, 9, -999.000, 9, -999.000, 9,   -999.0, 9,   -999.0, 9, -999.0000, 9,   -999.00, -999.000, 9, -999.000,   -999.0, 9,   -999.0,  -999.00, 9,   -999.0,   3.9460, 27.2416,   4.0213, 2, 1000.4, 2, 222.69, 2, -999, -999, -999, -999, -999, 9,  -999.00, 9, -999, -999, 9, -999
49NZ20031106, A10, X23, 1, 16, 12028, 9, 20031112, 927, -30.0055, -36.8785, 2036,    999.6, 2,   4.0239, 2,  34.3084, 2, -999.0000, 9,    215.6, 1,   -999.0, 9,  -999.00, 9,  -999.00, 9,  -999.00, 9,  -999.00, 9, -999.000, 9, -999.000, 9, -999.000, 9,   -999.0, 9,   -999.0, 9, -999.0000, 9,   -999.00, -999.000, 9, -999.000,   -999.0, 9,   -999.0,  -999.00, 9,   -999.0,   3.9484, 27.2412,   4.0239, 2, 1000.4, 2, 222.69, 2, -999, -999, -999, -999, -999, 9,  -999.00, 9, -999, -999, 9, -999
49NZ20031106, A10, X23, 1, 9, 12015, 9, 20031112, 927, -30.0055, -36.8785, 2036,    999.6, 2,   4.0217, 2,  34.3085, 2, -999.0000, 9,    215.4, 1,   -999.0, 9,  -999.00, 9,  -999.00, 9,  -999.00, 9,  -999.00, 9, -999.000, 9, -999.000, 9, -999.000, 9,   -999.0, 9,   -999.0, 9, -999.0000, 9,   -999.00, -999.000, 9, -999.000,   -999.0, 9,   -999.0,  -999.00, 9,   -999.0,   3.9462, 27.2416,   4.0220, 2, 1000.5, 2, 222.68, 2, -999, -999, -999, -999, -999, 9,  -999.00, 9, -999, -999, 9, -999
49NZ20031106, A10, X23, 1, 13, 12025, 9, 20031112, 927, -30.0055, -36.8785, 2036,    999.9, 2,   4.0233, 2,  34.3084, 2, -999.0000, 9,    215.4, 1,   -999.0, 9,  -999.00, 9,  -999.00, 9,  -999.00, 9,  -999.00, 9, -999.000, 9, -999.000, 9, -999.000, 9,   -999.0, 9,   -999.0, 9, -999.0000, 9,   -999.00, -999.000, 9, -999.000,   -999.0, 9,   -999.0,  -999.00, 9,   -999.0,   3.9478, 27.2412,   4.0234, 2, 1000.7, 2, 222.68, 2, -999, -999, -999, -999, -999, 9,  -999.00, 9, -999, -999, 9, -999
49NZ20031106, A10, X23, 1, 4, 12016, 9, 20031112, 927, -30.0055, -36.8785, 2036,    999.9, 2,   4.0201, 2,  34.3088, 2, -999.0000, 9,    215.3, 1,   -999.0, 9,  -999.00, 9,  -999.00, 9,  -999.00, 9,  -999.00, 9, -999.000, 9, -999.000, 9, -999.000, 9,   -999.0, 9,   -999.0, 9, -999.0000, 9,   -999.00, -999.000, 9, -999.000,   -999.0, 9,   -999.0,  -999.00, 9,   -999.0,   3.9446, 27.2417,   4.0199, 2, 1000.9, 2, 222.68, 2, -999, -999, -999, -999, -999, 9,  -999.00, 9, -999, -999, 9, -999
49NZ20031106, A10, X23, 1, 10, 12022, 9, 20031112, 927, -30.0055, -36.8785, 2036,   1000.0, 2,   4.0225, 2,  34.3085, 2, -999.0000, 9,    215.4, 1,   -999.0, 9,  -999.00, 9,  -999.00, 9,  -999.00, 9,  -999.00, 9, -999.000, 9, -999.000, 9, -999.000, 9,   -999.0, 9,   -999.0, 9, -999.0000, 9,   -999.00, -999.000, 9, -999.000,   -999.0, 9,   -999.0,  -999.00, 9,   -999.0,   3.9470, 27.2414,   4.0226, 2, 1000.8, 2, 222.67, 2, -999, -999, -999, -999, -999, 9,  -999.00, 9, -999, -999, 9, -999
49NZ20031106, A10, X23, 1, 5, 12017, 9, 20031112, 927, -30.0055, -36.8785, 2036,   1000.2, 2,   4.0209, 2,  34.3084, 2, -999.0000, 9,    215.4, 1,   -999.0, 9,  -999.00, 9,  -999.00, 9,  -999.00, 9,  -999.00, 9, -999.000, 9, -999.000, 9, -999.000, 9,   -999.0, 9,   -999.0, 9, -999.0000, 9,   -999.00, -999.000, 9, -999.000,   -999.0, 9,   -999.0,  -999.00, 9,   -999.0,   3.9454, 27.2417,   4.0207, 2, 1001.1, 2, 222.67, 2, -999, -999, -999, -999, -999, 9,  -999.00, 9, -999, -999, 9, -999
49NZ20031106, A10, X23, 1, 8, 12020, 9, 20031112, 927, -30.0055, -36.8785, 2036,   1000.3, 2,   4.0213, 2,  34.3086, 2, -999.0000, 9,    215.5, 1,   -999.0, 9,  -999.00, 9,  -999.00, 9,  -999.00, 9,  -999.00, 9, -999.000, 9, -999.000, 9, -999.000, 9,   -999.0, 9,   -999.0, 9, -999.0000, 9,   -999.00, -999.000, 9, -999.000,   -999.0, 9,   -999.0,  -999.00, 9,   -999.0,   3.9458, 27.2416,   4.0215, 2, 1001.2, 2, 222.66, 2, -999, -999, -999, -999, -999, 9,  -999.00, 9, -999, -999, 9, -999
49NZ20031106, A10, X23, 1, 12, 12024, 9, 20031112, 927, -30.0055, -36.8785, 2036,   1000.6, 2,   4.0226, 2,  34.3085, 2, -999.0000, 9,    215.4, 1,   -999.0, 9,  -999.00, 9,  -999.00, 9,  -999.00, 9,  -999.00, 9, -999.000, 9, -999.000, 9, -999.000, 9,   -999.0, 9,   -999.0, 9, -999.0000, 9,   -999.00, -999.000, 9, -999.000,   -999.0, 9,   -999.0,  -999.00, 9,   -999.0,   3.9470, 27.2413,   4.0228, 2, 1001.4, 2, 222.64, 2, -999, -999, -999, -999, -999, 9,  -999.00, 9, -999, -999, 9, -999
49NZ20031106, A10, X23, 1, 14, 12026, 9, 20031112, 927, -30.0055, -36.8785, 2036,   1001.1, 2,   4.0225, 2,  34.3085, 2, -999.0000, 9,    215.5, 1,   -999.0, 9,  -999.00, 9,  -999.00, 9,  -999.00, 9,  -999.00, 9, -999.000, 9, -999.000, 9, -999.000, 9,   -999.0, 9,   -999.0, 9, -999.0000, 9,   -999.00, -999.000, 9, -999.000,   -999.0, 9,   -999.0,  -999.00, 9,   -999.0,   3.9469, 27.2415,   4.0228, 2, 1001.8, 2, 222.59, 2, -999, -999, -999, -999, -999, 9,  -999.00, 9, -999, -999, 9, -999
49NZ20031106, A10, X23, 1, 17, 12029, 9, 20031112, 927, -30.0055, -36.8785, 2036,   1001.5, 2,   4.0203, 2,  34.3087, 2, -999.0000, 9,    215.5, 1,   -999.0, 9,  -999.00, 9,  -999.00, 9,  -999.00, 9,  -999.00, 9, -999.000, 9, -999.000, 9, -999.000, 9,   -999.0, 9,   -999.0, 9, -999.0000, 9,   -999.00, -999.000, 9, -999.000,   -999.0, 9,   -999.0,  -999.00, 9,   -999.0,   3.9447, 27.2418,   4.0214, 2, 1002.2, 2, 222.57, 2, -999, -999, -999, -999, -999, 9,  -999.00, 9, -999, -999, 9, -999
49NZ20031106, A10, X23, 1, 22, 12034, 2, 20031112, 927, -30.0055, -36.8785, 2036,   1198.7, 2,   3.2962, 2,  34.3911, 2,  34.3911, 2,    197.1, 1,    203.7, 2,    42.08, 2,    32.04, 2,     0.00, 2,     2.22, 2,    1.075, 2,    0.485, 2,    0.044, 4,   2209.8, 2,   2303.2, 2,    7.6212, 2,     25.00, -999.000, 9, -999.000,   -999.0, 9,   -999.0,  -999.00, 9,   -999.0,   3.2104, 27.3798,   3.2950, 2, 1200.6, 2, 205.13, 2, 0.21, 0.12, 0.01, 0.02, -999, 1,  -999.00, 9, -999, -999, 9, -999
49NZ20031106, A10, X23, 1, 21, 12033, 2, 20031112, 927, -30.0055, -36.8785, 2036,   1401.4, 2,   3.0206, 2,  34.5211, 2,  34.5205, 2,    188.7, 1,    194.5, 2,    50.28, 2,    31.68, 2,    -0.01, 2,     2.19, 2, -999.000, 5, -999.000, 5, -999.000, 5,   2222.0, 2,   2317.3, 2,    7.6174, 2,     25.00, -999.000, 9, -999.000,   -999.0, 9,   -999.0,  -999.00, 9,   -999.0,   2.9208, 27.5103,   3.0204, 2, 1400.9, 2, 194.46, 2, 0.23, 0.12, 0.01, 0.02, -999, 1,  -999.00, 9, -999, -999, 9, -999
49NZ20031106, A10, X23, 1, 20, 12032, 2, 20031112, 927, -30.0055, -36.8785, 2036,   1599.6, 2,   2.8742, 2,  34.6719, 2,  34.6720, 2,    191.5, 1,    196.9, 2,    53.10, 2,    29.75, 2,     0.00, 2,     2.05, 2,    0.105, 2,    0.048, 2,    0.000, 4,   2222.5, 2,   2329.0, 2,    7.6359, 2,     25.00, -999.000, 9, -999.000,   -999.0, 9,   -999.0,  -999.00, 9,   -999.0,   2.7593, 27.6453,   2.8741, 2, 1600.2, 2, 196.63, 2, 0.24, 0.12, 0.01, 0.02, -999, 1,  -999.00, 9, -999, -999, 9, -999
49NZ20031106, A10, X23, 1, 11, 12023, 2, 20031112, 927, -30.0055, -36.8785, 2036,   1798.9, 2,   2.8720, 2,  34.7476, 2,  34.7480, 2,    202.0, 1,    207.3, 2,    49.57, 2,    27.51, 2,    -0.01, 2,     1.90, 2,    0.045, 2,    0.016, 2,    0.000, 4,   2213.2, 2,   2327.9, 2,    7.6598, 2,     25.00, -999.000, 9, -999.000,   -999.0, 9,   -999.0,  -999.00, 9,   -999.0,   2.7398, 27.7072,   2.8719, 2, 1799.1, 2, 207.22, 2, 0.23, 0.11, 0.01, 0.01, -999, 9,  -999.00, 9, -999, -999, 9, -999
49NZ20031106, A10, X23, 1, 19, 12031, 2, 20031112, 927, -30.0055, -36.8785, 2036,   1799.4, 2,   2.8720, 2,  34.7476, 2,  34.7476, 2,    202.1, 1,    207.4, 2,    49.59, 2,    27.71, 2,     0.00, 2,     1.89, 2,    0.041, 2,    0.018, 2,    0.000, 4,   2214.0, 2,   2330.6, 2,    7.6584, 2,     25.00, -999.000, 9, -999.000,   -999.0, 9,   -999.0,  -999.00, 9,   -999.0,   2.7398, 27.7073,   2.8720, 2, 1799.5, 2, 207.26, 2, 0.23, 0.11, 0.01, 0.01, -999, 1,  -999.00, 9, -999, -999, 9, -999
49NZ20031106, A10, X23, 1, 18, 12030, 2, 20031112, 927, -30.0055, -36.8785, 2036,   2040.3, 2,   2.8788, 2,  34.8245, 2,  34.8246, 2,    217.0, 1,    222.7, 2,    43.60, 2,    24.99, 2,     0.00, 2,     1.72, 2,    0.012, 2,    0.001, 2,    0.000, 4,   2200.5, 2,   2327.3, 2,    7.6904, 6,     25.00, -999.000, 9, -999.000,   -999.0, 9,   -999.0,  -999.00, 9,   -999.0,   2.7248, 27.7701,   2.8789, 2, 2040.2, 2, 222.66, 2, 0.21, 0.1, 0.01, 0.01, -999, 1,  -999.00, 9, -999, -999, 9, -999