BOTTLE,20220818CCHSIOAMB
EXPOCODE,SECT_ID,STNNBR,CASTNO,SAMPNO,BTLNBR,BTLNBR_FLAG_W,DATE,TIME,LATITUDE,LONGITUDE,DEPTH,CTDPRS,CTDPRS_FLAG_W,CTDTMP,CTDTMP_FLAG_W,CTDSAL,CTDSAL_FLAG_W,SALNTY,SALNTY_FLAG_W,CTDOXY,CTDOXY_FLAG_W,OXYGEN,OXYGEN_FLAG_W,SILCAT,SILCAT_FLAG_W,NITRAT,NITRAT_FLAG_W,NITRIT,NITRIT_FLAG_W,PHSPHT,PHSPHT_FLAG_W,CFC-11,CFC-11_FLAG_W,CFC-12,CFC-12_FLAG_W,CFC113,CFC113_FLAG_W,TCARBN,TCARBN_FLAG_W,ALKALI,ALKALI_FLAG_W,PH_TOT,PH_TOT_FLAG_W,PH_TMP,TRITUM,TRITUM_FLAG_W,TRITER,DELC14,DELC14_FLAG_W,C14ERR,DELC13,DELC13_FLAG_W,C13ERR,THETA,SIG0,SBE35,SBE35_FLAG_W,DWNPRS,DWNPRS_FLAG_W,DWNOXY,DWNOXY_FLAG_W,SILUNC,NRAUNC,NRIUNC,PHPUNC,TOC,TOC_FLAG_W,CS-137,CS-137_FLAG_W,CS137ER,PLUTO,PLUTO_FLAG_W,PLUTOER
,,,,,,,,,,,METERS,DBAR,,ITS-90,,PSS-78,,PSS-78,,UMOL/KG,,UMOL/KG,,UMOL/KG,,UMOL/KG,,UMOL/KG,,UMOL/KG,,PMOL/KG,,PMOL/KG,,PMOL/KG,,UMOL/KG,,UMOL/KG,,,,DEG C,TU,,TU,/MILLE,,/MILLE,/MILLE,,/MILLE,DEG C,KG/M^3,ITS-90,,DBAR,,UMOL/KG,,UMOL/KG,UMOL/KG,UMOL/KG,UMOL/KG,UMOL/KG,,BQ/M^3,,BQ/M^3,MBQ/M^3,,MBQ/M^3
49NZ20031106, A10, 630, 1, 36, 12048, 2, 20031108, 950, -28.0937, -45.9488, 2596,     10.2, 2,  22.6213, 2,  36.4328, 2,  36.4316, 2,    203.8, 1,    214.6, 2,     0.76, 2,     0.02, 2,     0.01, 2,     0.09, 2, -999.000, 9, -999.000, 9, -999.000, 9,   -999.0, 9,   -999.0, 9, -999.0000, 9,   -999.00, -999.000, 9, -999.000,   -999.0, 9,   -999.0,  -999.00, 9,   -999.0,  22.6192, 25.131,  22.6218, 2, 10.2, 2, 215.12, 2, 0.12, 0.03, 0.01, 0.02, -999, 9,  -999.00, 9, -999, -999, 9, -999
49NZ20031106, A10, 630, 1, 35, 12047, 2, 20031108, 950, -28.0937, -45.9488, 2596,     49.4, 2,  23.2002, 2,  37.1032, 2,  37.1032, 2,    201.3, 1,    212.2, 2,     0.73, 2,     0.01, 2,     0.01, 2,     0.06, 2, -999.000, 9, -999.000, 9, -999.000, 9,   -999.0, 9,   -999.0, 9, -999.0000, 9,   -999.00, -999.000, 9, -999.000,   -999.0, 9,   -999.0,  -999.00, 9,   -999.0,  23.1900, 25.476,  23.1984, 2, 53.9, 2, 212.11, 2, 0.12, 0.03, 0.01, 0.03, -999, 9,  -999.00, 9, -999, -999, 9, -999
49NZ20031106, A10, 630, 1, 34, 12046, 2, 20031108, 950, -28.0937, -45.9488, 2596,    100.9, 2,  22.1173, 2,  36.8409, 2,  36.8409, 2,    195.4, 1,    206.0, 2,     0.80, 2,     0.40, 2,     0.10, 2,     0.11, 2, -999.000, 9, -999.000, 9, -999.000, 9,   -999.0, 9,   -999.0, 9, -999.0000, 9,   -999.00, -999.000, 9, -999.000,   -999.0, 9,   -999.0,  -999.00, 9,   -999.0,  22.0971, 25.5909,  22.1197, 2, 103.4, 2, 205.77, 2, 0.12, 0.03, 0.01, 0.02, -999, 9,  -999.00, 9, -999, -999, 9, -999
49NZ20031106, A10, 630, 1, 33, 12045, 2, 20031108, 950, -28.0937, -45.9488, 2596,    150.9, 2,  19.2673, 2,  36.2054, 2,  36.2090, 2,    197.0, 1,    209.7, 3,     1.02, 2,     1.08, 2,     0.06, 2,     0.17, 2, -999.000, 9, -999.000, 9, -999.000, 9,   -999.0, 9,   -999.0, 9, -999.0000, 9,   -999.00, -999.000, 9, -999.000,   -999.0, 9,   -999.0,  -999.00, 9,   -999.0,  19.2399, 25.8815,  19.2669, 2, 157.4, 2, 207.69, 2, 0.12, 0.04, 0.01, 0.02, -999, 9,  -999.00, 9, -999, -999, 9, -999
49NZ20031106, A10, 630, 1, 32, 12044, 2, 20031108, 950, -28.0937, -45.9488, 2596,    201.2, 2,  17.3840, 2,  35.8961, 2,  35.8862, 3,    200.2, 1,    207.9, 2,     1.32, 2,     2.33, 2,     0.02, 2,     0.30, 2, -999.000, 9, -999.000, 9, -999.000, 9,   -999.0, 9,   -999.0, 9, -999.0000, 9,   -999.00, -999.000, 9, -999.000,   -999.0, 9,   -999.0,  -999.00, 9,   -999.0,  17.3501, 26.1176,  17.3823, 2, 201.7, 2, 208.83, 2, 0.12, 0.04, 0.01, 0.01, -999, 9,  -999.00, 9, -999, -999, 9, -999
49NZ20031106, A10, 630, 1, 31, 12043, 2, 20031108, 950, -28.0937, -45.9488, 2596,    251.0, 2,  14.3858, 2,  35.3991, 2,  35.4000, 2,    194.3, 1,    202.5, 2,     2.74, 2,     7.72, 2,     0.01, 2,     0.62, 2, -999.000, 9, -999.000, 9, -999.000, 9,   -999.0, 9,   -999.0, 9, -999.0000, 9,   -999.00, -999.000, 9, -999.000,   -999.0, 9,   -999.0,  -999.00, 9,   -999.0,  14.3487, 26.4214,  14.3843, 2, 250.2, 2, 202.43, 2, 0.13, 0.05, 0.01, 0.01, -999, 9,  -999.00, 9, -999, -999, 9, -999
49NZ20031106, A10, 630, 1, 30, 12042, 2, 20031108, 950, -28.0937, -45.9488, 2596,    300.5, 2,  13.6906, 2,  35.3016, 2,  35.3005, 2,    195.7, 1,    203.6, 2,     3.11, 2,     9.09, 2,     0.02, 2,     0.71, 2, -999.000, 9, -999.000, 9, -999.000, 9,   -999.0, 9,   -999.0, 9, -999.0000, 9,   -999.00, -999.000, 9, -999.000,   -999.0, 9,   -999.0,  -999.00, 9,   -999.0,  13.6475, 26.4937,  13.6904, 2, 299.9, 2, 202.76, 2, 0.13, 0.06, 0.01, 0.01, -999, 9,  -999.00, 9, -999, -999, 9, -999
49NZ20031106, A10, 630, 1, 29, 12041, 2, 20031108, 950, -28.0937, -45.9488, 2596,    400.3, 2,  11.8220, 2,  35.0476, 2,  35.0479, 2,    195.1, 1,    202.4, 2,     4.57, 2,    13.28, 2,     0.01, 2,     0.97, 2, -999.000, 9, -999.000, 9, -999.000, 9,   -999.0, 9,   -999.0, 9, -999.0000, 9,   -999.00, -999.000, 9, -999.000,   -999.0, 9,   -999.0,  -999.00, 9,   -999.0,  11.7698, 26.6694,  11.8231, 2, 399.4, 2, 202.61, 2, 0.13, 0.07, 0.01, 0.01, -999, 9,  -999.00, 9, -999, -999, 9, -999
49NZ20031106, A10, 630, 1, 28, 12040, 2, 20031108, 950, -28.0937, -45.9488, 2596,    500.4, 2,   9.6768, 2,  34.7748, 2,  34.7775, 2,    192.4, 1,    199.2, 2,     7.67, 2,    18.67, 2,     0.01, 2,     1.31, 2, -999.000, 9, -999.000, 9, -999.000, 9,   -999.0, 9,   -999.0, 9, -999.0000, 9,   -999.00, -999.000, 9, -999.000,   -999.0, 9,   -999.0,  -999.00, 9,   -999.0,   9.6192, 26.8406,   9.6747, 2, 500.6, 2, 199.31, 2, 0.14, 0.09, 0.01, 0.01, -999, 9,  -999.00, 9, -999, -999, 9, -999
49NZ20031106, A10, 630, 1, 27, 12039, 2, 20031108, 950, -28.0937, -45.9488, 2596,    599.8, 2,   7.7391, 2,  34.5490, 2,  34.5495, 2,    202.6, 1,    209.4, 2,    10.37, 2,    22.58, 2,     0.01, 2,     1.56, 2, -999.000, 9, -999.000, 9, -999.000, 9,   -999.0, 9,   -999.0, 9, -999.0000, 9,   -999.00, -999.000, 9, -999.000,   -999.0, 9,   -999.0,  -999.00, 9,   -999.0,   7.6784, 26.9658,   7.7415, 2, 599.3, 2, 206.22, 2, 0.14, 0.1, 0.01, 0.01, -999, 9,  -999.00, 9, -999, -999, 9, -999
49NZ20031106, A10, 630, 1, 26, 12038, 2, 20031108, 950, -28.0937, -45.9488, 2596,    699.9, 2,   6.3054, 2,  34.4226, 2,  34.4230, 2,    205.9, 1,    212.8, 2,    14.53, 2,    25.75, 2,     0.01, 2,     1.77, 2, -999.000, 9, -999.000, 9, -999.000, 9,   -999.0, 9,   -999.0, 9, -999.0000, 9,   -999.00, -999.000, 9, -999.000,   -999.0, 9,   -999.0,  -999.00, 9,   -999.0,   6.2417, 27.0643,   6.3077, 2, 700.2, 2, 212.51, 2, 0.15, 0.1, 0.01, 0.01, -999, 9,  -999.00, 9, -999, -999, 9, -999
49NZ20031106, A10, 630, 1, 25, 12037, 2, 20031108, 950, -28.0937, -45.9488, 2596,    800.9, 2,   5.1690, 2,  34.3490, 2,  34.3493, 2,    208.0, 1,    215.1, 2,    19.90, 2,    28.24, 2,     0.01, 2,     1.95, 2, -999.000, 9, -999.000, 9, -999.000, 9,   -999.0, 9,   -999.0, 9, -999.0000, 9,   -999.00, -999.000, 9, -999.000,   -999.0, 9,   -999.0,  -999.00, 9,   -999.0,   5.1026, 27.1466,   5.1727, 2, 801.2, 2, 214.87, 2, 0.16, 0.11, 0.01, 0.01, -999, 9,  -999.00, 9, -999, -999, 9, -999
49NZ20031106, A10, 630, 1, 24, 12036, 2, 20031108, 950, -28.0937, -45.9488, 2596,    901.4, 2,   4.3978, 2,  34.3352, 2,  34.3353, 2,    203.9, 1,    210.8, 2,    26.93, 2,    30.19, 2,     0.01, 2,     2.07, 2, -999.000, 9, -999.000, 9, -999.000, 9,   -999.0, 9,   -999.0, 9, -999.0000, 9,   -999.00, -999.000, 9, -999.000,   -999.0, 9,   -999.0,  -999.00, 9,   -999.0,   4.3278, 27.2221,   4.3955, 2, 902.3, 2, 212.79, 2, 0.18, 0.12, 0.01, 0.02, -999, 9,  -999.00, 9, -999, -999, 9, -999
49NZ20031106, A10, 630, 1, 10, 12022, 9, 20031108, 950, -28.0937, -45.9488, 2596,    998.9, 2,   3.8875, 2,  34.3501, 2, -999.0000, 9,    199.1, 1,   -999.0, 9,  -999.00, 9,  -999.00, 9,  -999.00, 9,  -999.00, 9, -999.000, 9, -999.000, 9, -999.000, 9,   -999.0, 9,   -999.0, 9, -999.0000, 9,   -999.00, -999.000, 9, -999.000,   -999.0, 9,   -999.0,  -999.00, 9,   -999.0,   3.8131, 27.2875,   3.8875, 2, 999.1, 2, 205.33, 2, -999, -999, -999, -999, -999, 9,  -999.00, 9, -999, -999, 9, -999
49NZ20031106, A10, 630, 1, 12, 12024, 9, 20031108, 950, -28.0937, -45.9488, 2596,    999.1, 2,   3.8879, 2,  34.3501, 2, -999.0000, 9,    199.0, 1,   -999.0, 9,  -999.00, 9,  -999.00, 9,  -999.00, 9,  -999.00, 9, -999.000, 9, -999.000, 9, -999.000, 9,   -999.0, 9,   -999.0, 9, -999.0000, 9,   -999.00, -999.000, 9, -999.000,   -999.0, 9,   -999.0,  -999.00, 9,   -999.0,   3.8134, 27.2874,   3.8878, 2, 999.3, 2, 205.32, 2, -999, -999, -999, -999, -999, 9,  -999.00, 9, -999, -999, 9, -999
49NZ20031106, A10, 630, 1, 11, 12023, 9, 20031108, 950, -28.0937, -45.9488, 2596,    999.1, 2,   3.8877, 2,  34.3502, 2, -999.0000, 9,    198.9, 1,   -999.0, 9,  -999.00, 9,  -999.00, 9,  -999.00, 9,  -999.00, 9, -999.000, 9, -999.000, 9, -999.000, 9,   -999.0, 9,   -999.0, 9, -999.0000, 9,   -999.00, -999.000, 9, -999.000,   -999.0, 9,   -999.0,  -999.00, 9,   -999.0,   3.8132, 27.2874,   3.8877, 2, 999.3, 2, 205.32, 2, -999, -999, -999, -999, -999, 9,  -999.00, 9, -999, -999, 9, -999
49NZ20031106, A10, 630, 1, 5, 12017, 9, 20031108, 950, -28.0937, -45.9488, 2596,    999.1, 2,   3.8861, 2,  34.3506, 2, -999.0000, 9,    198.9, 1,   -999.0, 9,  -999.00, 9,  -999.00, 9,  -999.00, 9,  -999.00, 9, -999.000, 9, -999.000, 9, -999.000, 9,   -999.0, 9,   -999.0, 9, -999.0000, 9,   -999.00, -999.000, 9, -999.000,   -999.0, 9,   -999.0,  -999.00, 9,   -999.0,   3.8116, 27.2878,   3.8864, 2, 999.4, 2, 205.31, 2, -999, -999, -999, -999, -999, 9,  -999.00, 9, -999, -999, 9, -999
49NZ20031106, A10, 630, 1, 7, 12019, 9, 20031108, 950, -28.0937, -45.9488, 2596,    999.2, 2,   3.8869, 2,  34.3504, 2, -999.0000, 9,    198.9, 1,   -999.0, 9,  -999.00, 9,  -999.00, 9,  -999.00, 9,  -999.00, 9, -999.000, 9, -999.000, 9, -999.000, 9,   -999.0, 9,   -999.0, 9, -999.0000, 9,   -999.00, -999.000, 9, -999.000,   -999.0, 9,   -999.0,  -999.00, 9,   -999.0,   3.8124, 27.2876,   3.8869, 2, 999.4, 2, 205.31, 2, -999, -999, -999, -999, -999, 9,  -999.00, 9, -999, -999, 9, -999
49NZ20031106, A10, 630, 1, 9, 12015, 9, 20031108, 950, -28.0937, -45.9488, 2596,    999.3, 2,   3.8873, 2,  34.3503, 2, -999.0000, 9,    198.9, 1,   -999.0, 9,  -999.00, 9,  -999.00, 9,  -999.00, 9,  -999.00, 9, -999.000, 9, -999.000, 9, -999.000, 9,   -999.0, 9,   -999.0, 9, -999.0000, 9,   -999.00, -999.000, 9, -999.000,   -999.0, 9,   -999.0,  -999.00, 9,   -999.0,   3.8128, 27.2876,   3.8872, 2, 999.5, 2, 205.31, 2, -999, -999, -999, -999, -999, 9,  -999.00, 9, -999, -999, 9, -999
49NZ20031106, A10, 630, 1, 2, 12014, 9, 20031108, 950, -28.0937, -45.9488, 2596,    999.3, 2,   3.8852, 2,  34.3507, 2, -999.0000, 9,    198.7, 1,   -999.0, 9,  -999.00, 9,  -999.00, 9,  -999.00, 9,  -999.00, 9, -999.000, 9, -999.000, 9, -999.000, 9,   -999.0, 9,   -999.0, 9, -999.0000, 9,   -999.00, -999.000, 9, -999.000,   -999.0, 9,   -999.0,  -999.00, 9,   -999.0,   3.8107, 27.288,   3.8847, 2, 999.6, 2, 205.3, 2, -999, -999, -999, -999, -999, 9,  -999.00, 9, -999, -999, 9, -999
49NZ20031106, A10, 630, 1, 8, 12020, 9, 20031108, 950, -28.0937, -45.9488, 2596,    999.4, 2,   3.8872, 2,  34.3503, 2, -999.0000, 9,    198.8, 1,   -999.0, 9,  -999.00, 9,  -999.00, 9,  -999.00, 9,  -999.00, 9, -999.000, 9, -999.000, 9, -999.000, 9,   -999.0, 9,   -999.0, 9, -999.0000, 9,   -999.00, -999.000, 9, -999.000,   -999.0, 9,   -999.0,  -999.00, 9,   -999.0,   3.8127, 27.2876,   3.8870, 2, 999.6, 2, 205.3, 2, -999, -999, -999, -999, -999, 9,  -999.00, 9, -999, -999, 9, -999
49NZ20031106, A10, 630, 1, 6, 12018, 9, 20031108, 950, -28.0937, -45.9488, 2596,    999.6, 2,   3.8872, 2,  34.3503, 2, -999.0000, 9,    198.9, 1,   -999.0, 9,  -999.00, 9,  -999.00, 9,  -999.00, 9,  -999.00, 9, -999.000, 9, -999.000, 9, -999.000, 9,   -999.0, 9,   -999.0, 9, -999.0000, 9,   -999.00, -999.000, 9, -999.000,   -999.0, 9,   -999.0,  -999.00, 9,   -999.0,   3.8127, 27.2876,   3.8870, 2, 999.7, 2, 205.28, 2, -999, -999, -999, -999, -999, 9,  -999.00, 9, -999, -999, 9, -999
49NZ20031106, A10, 630, 1, 3, 12012, 9, 20031108, 950, -28.0937, -45.9488, 2596,    999.6, 2,   3.8862, 2,  34.3506, 2, -999.0000, 9,    198.9, 1,   -999.0, 9,  -999.00, 9,  -999.00, 9,  -999.00, 9,  -999.00, 9, -999.000, 9, -999.000, 9, -999.000, 9,   -999.0, 9,   -999.0, 9, -999.0000, 9,   -999.00, -999.000, 9, -999.000,   -999.0, 9,   -999.0,  -999.00, 9,   -999.0,   3.8117, 27.2878,   3.8859, 2, 999.8, 2, 205.27, 2, -999, -999, -999, -999, -999, 9,  -999.00, 9, -999, -999, 9, -999
49NZ20031106, A10, 630, 1, 23, 12035, 2, 20031108, 950, -28.0937, -45.9488, 2596,    999.7, 2,   3.8869, 2,  34.3504, 2,  34.3509, 2,    198.6, 1,    205.2, 2,    33.57, 2,    31.24, 2,     0.00, 2,     2.16, 2, -999.000, 9, -999.000, 9, -999.000, 9,   -999.0, 9,   -999.0, 9, -999.0000, 9,   -999.00, -999.000, 9, -999.000,   -999.0, 9,   -999.0,  -999.00, 9,   -999.0,   3.8124, 27.2875,   3.8867, 2, 999.9, 2, 205.28, 2, 0.19, 0.12, 0.01, 0.02, -999, 9,  -999.00, 9, -999, -999, 9, -999
49NZ20031106, A10, 630, 1, 4, 12016, 9, 20031108, 950, -28.0937, -45.9488, 2596,    999.7, 2,   3.8863, 2,  34.3504, 2, -999.0000, 9,    199.0, 1,   -999.0, 9,  -999.00, 9,  -999.00, 9,  -999.00, 9,  -999.00, 9, -999.000, 9, -999.000, 9, -999.000, 9,   -999.0, 9,   -999.0, 9, -999.0000, 9,   -999.00, -999.000, 9, -999.000,   -999.0, 9,   -999.0,  -999.00, 9,   -999.0,   3.8118, 27.2877,   3.8861, 2, 999.9, 2, 205.28, 2, -999, -999, -999, -999, -999, 9,  -999.00, 9, -999, -999, 9, -999
49NZ20031106, A10, 630, 1, 1, 12013, 9, 20031108, 950, -28.0937, -45.9488, 2596,    999.7, 2,   3.8864, 2,  34.3504, 2, -999.0000, 9,    198.7, 1,   -999.0, 9,  -999.00, 9,  -999.00, 9,  -999.00, 9,  -999.00, 9, -999.000, 9, -999.000, 9, -999.000, 9,   -999.0, 9,   -999.0, 9, -999.0000, 9,   -999.00, -999.000, 9, -999.000,   -999.0, 9,   -999.0,  -999.00, 9,   -999.0,   3.8119, 27.2878,   3.8856, 2, 999.9, 2, 205.28, 2, -999, -999, -999, -999, -999, 9,  -999.00, 9, -999, -999, 9, -999
49NZ20031106, A10, 630, 1, 22, 12034, 2, 20031108, 950, -28.0937, -45.9488, 2596,   1200.0, 2,   3.2686, 2,  34.4473, 2,  34.4447, 2,    186.9, 1,    193.0, 2,    45.65, 2,    32.46, 2,     0.00, 2,     2.23, 2, -999.000, 9, -999.000, 9, -999.000, 9,   -999.0, 9,   -999.0, 9, -999.0000, 9,   -999.00, -999.000, 9, -999.000,   -999.0, 9,   -999.0,  -999.00, 9,   -999.0,   3.1829, 27.4253,   3.2684, 2, 1201.5, 2, 193.36, 2, 0.22, 0.12, 0.01, 0.02, -999, 9,  -999.00, 9, -999, -999, 9, -999
49NZ20031106, A10, 630, 1, 21, 12033, 2, 20031108, 950, -28.0937, -45.9488, 2596,   1401.6, 2,   3.2679, 2,  34.5875, 2,  34.5872, 2,    183.9, 1,    189.3, 2,    47.12, 2,    31.14, 2,     0.00, 2,     2.13, 2, -999.000, 9, -999.000, 9, -999.000, 9,   -999.0, 9,   -999.0, 9, -999.0000, 9,   -999.00, -999.000, 9, -999.000,   -999.0, 9,   -999.0,  -999.00, 9,   -999.0,   3.1653, 27.5397,   3.2677, 2, 1401.9, 2, 189.05, 2, 0.22, 0.12, 0.01, 0.02, -999, 9,  -999.00, 9, -999, -999, 9, -999
49NZ20031106, A10, 630, 1, 20, 12032, 2, 20031108, 950, -28.0937, -45.9488, 2596,   1600.9, 2,   3.7138, 2,  34.7596, 2,  34.7573, 2,    194.2, 1,    199.7, 2,    35.60, 2,    27.52, 2,     0.01, 2,     1.87, 2, -999.000, 9, -999.000, 9, -999.000, 9,   -999.0, 9,   -999.0, 9, -999.0000, 9,   -999.00, -999.000, 9, -999.000,   -999.0, 9,   -999.0,  -999.00, 9,   -999.0,   3.5883, 27.636,   3.7185, 2, 1601.2, 2, 198.9, 2, 0.2, 0.11, 0.01, 0.01, -999, 9,  -999.00, 9, -999, -999, 9, -999
49NZ20031106, A10, 630, 1, 19, 12031, 2, 20031108, 950, -28.0937, -45.9488, 2596,   1801.2, 2,   3.7078, 2,  34.8350, 2,  34.8350, 2,    206.4, 1,    212.4, 2,    32.05, 2,    25.20, 2,     0.01, 2,     1.70, 2, -999.000, 9, -999.000, 9, -999.000, 9,   -999.0, 9,   -999.0, 9, -999.0000, 9,   -999.00, -999.000, 9, -999.000,   -999.0, 9,   -999.0,  -999.00, 9,   -999.0,   3.5638, 27.6989,   3.7076, 2, 1801.2, 2, 212.7, 2, 0.19, 0.1, 0.01, 0.01, -999, 9,  -999.00, 9, -999, -999, 9, -999
49NZ20031106, A10, 630, 1, 18, 12030, 2, 20031108, 950, -28.0937, -45.9488, 2596,   2000.9, 2,   3.7670, 2,  34.9193, 2,  34.9188, 2,    224.7, 1,    231.1, 2,    24.37, 2,    22.07, 2,     0.01, 2,     1.48, 2, -999.000, 9, -999.000, 9, -999.000, 9,   -999.0, 9,   -999.0, 9, -999.0000, 9,   -999.00, -999.000, 9, -999.000,   -999.0, 9,   -999.0,  -999.00, 9,   -999.0,   3.6030, 27.7621,   3.7672, 2, 2001.6, 2, 229.08, 2, 0.17, 0.09, 0.01, 0.01, -999, 9,  -999.00, 9, -999, -999, 9, -999
49NZ20031106, A10, 630, 1, 15, 12027, 9, 20031108, 950, -28.0937, -45.9488, 2596,   2101.6, 2,   3.6753, 2,  34.9393, 2, -999.0000, 9,    232.6, 1,   -999.0, 9,  -999.00, 9,  -999.00, 9,  -999.00, 9,  -999.00, 9, -999.000, 9, -999.000, 9, -999.000, 9,   -999.0, 9,   -999.0, 9, -999.0000, 9,   -999.00, -999.000, 9, -999.000,   -999.0, 9,   -999.0,  -999.00, 9,   -999.0,   3.5029, 27.7879,   3.6758, 2, 2101.9, 2, 238.16, 2, -999, -999, -999, -999, -999, 9,  -999.00, 9, -999, -999, 9, -999
49NZ20031106, A10, 630, 1, 17, 12029, 2, 20031108, 950, -28.0937, -45.9488, 2596,   2200.2, 2,   3.5288, 2,  34.9500, 2,  34.9504, 2,    239.0, 1,    245.8, 2,    22.56, 2,    20.28, 2,     0.00, 2,     1.36, 2, -999.000, 9, -999.000, 9, -999.000, 9,   -999.0, 9,   -999.0, 9, -999.0000, 9,   -999.00, -999.000, 9, -999.000,   -999.0, 9,   -999.0,  -999.00, 9,   -999.0,   3.3491, 27.8116,   3.5288, 2, 2200.4, 2, 245.21, 2, 0.17, 0.09, 0.01, 0.01, -999, 9,  -999.00, 9, -999, -999, 9, -999
49NZ20031106, A10, 630, 1, 14, 12026, 9, 20031108, 950, -28.0937, -45.9488, 2596,   2299.9, 2,   3.3310, 2,  34.9434, 2, -999.0000, 9,    241.2, 1,   -999.0, 9,  -999.00, 9,  -999.00, 9,  -999.00, 9,  -999.00, 9, -999.000, 9, -999.000, 9, -999.000, 9,   -999.0, 9,   -999.0, 9, -999.0000, 9,   -999.00, -999.000, 9, -999.000,   -999.0, 9,   -999.0,  -999.00, 9,   -999.0,   3.1448, 27.8259,   3.3306, 2, 2300.2, 2, 247.7, 2, -999, -999, -999, -999, -999, 9,  -999.00, 9, -999, -999, 9, -999
49NZ20031106, A10, 630, 1, 13, 12025, 2, 20031108, 950, -28.0937, -45.9488, 2596,   2400.8, 2,   3.1520, 2,  34.9415, 2,  34.9415, 2,    243.7, 1,    250.3, 2,    26.33, 2,    20.12, 2,     0.01, 2,     1.35, 2, -999.000, 9, -999.000, 9, -999.000, 9,   -999.0, 9,   -999.0, 9, -999.0000, 9,   -999.00, -999.000, 9, -999.000,   -999.0, 9,   -999.0,  -999.00, 9,   -999.0,   2.9591, 27.8416,   3.1520, 2, 2400.9, 2, 250.17, 2, 0.18, 0.09, 0.01, 0.01, -999, 9,  -999.00, 9, -999, -999, 9, -999
49NZ20031106, A10, 630, 1, 16, 12028, 2, 20031108, 950, -28.0937, -45.9488, 2596,   2613.2, 2,   2.7929, 2,  34.9216, 2,  34.9217, 2,    244.5, 1,    249.7, 2,    32.30, 2,    20.60, 2,     0.01, 2,     1.39, 2, -999.000, 9, -999.000, 9, -999.000, 9,   -999.0, 9,   -999.0, 9, -999.0000, 9,   -999.00, -999.000, 9, -999.000,   -999.0, 9,   -999.0,  -999.00, 9,   -999.0,   2.5858, 27.8592,   2.7931, 2, 2613.3, 2, 250.44, 2, 0.19, 0.09, 0.01, 0.01, -999, 9,  -999.00, 9, -999, -999, 9, -999