BOTTLE,20220818CCHSIOAMB
EXPOCODE,SECT_ID,STNNBR,CASTNO,SAMPNO,BTLNBR,BTLNBR_FLAG_W,DATE,TIME,LATITUDE,LONGITUDE,DEPTH,CTDPRS,CTDPRS_FLAG_W,CTDTMP,CTDTMP_FLAG_W,CTDSAL,CTDSAL_FLAG_W,SALNTY,SALNTY_FLAG_W,CTDOXY,CTDOXY_FLAG_W,OXYGEN,OXYGEN_FLAG_W,SILCAT,SILCAT_FLAG_W,NITRAT,NITRAT_FLAG_W,NITRIT,NITRIT_FLAG_W,PHSPHT,PHSPHT_FLAG_W,CFC-11,CFC-11_FLAG_W,CFC-12,CFC-12_FLAG_W,CFC113,CFC113_FLAG_W,TCARBN,TCARBN_FLAG_W,ALKALI,ALKALI_FLAG_W,PH_TOT,PH_TOT_FLAG_W,PH_TMP,TRITUM,TRITUM_FLAG_W,TRITER,DELC14,DELC14_FLAG_W,C14ERR,DELC13,DELC13_FLAG_W,C13ERR,THETA,SIG0,SBE35,SBE35_FLAG_W,DWNPRS,DWNPRS_FLAG_W,DWNOXY,DWNOXY_FLAG_W,SILUNC,NRAUNC,NRIUNC,PHPUNC,TOC,TOC_FLAG_W,CS-137,CS-137_FLAG_W,CS137ER,PLUTO,PLUTO_FLAG_W,PLUTOER
,,,,,,,,,,,METERS,DBAR,,ITS-90,,PSS-78,,PSS-78,,UMOL/KG,,UMOL/KG,,UMOL/KG,,UMOL/KG,,UMOL/KG,,UMOL/KG,,PMOL/KG,,PMOL/KG,,PMOL/KG,,UMOL/KG,,UMOL/KG,,,,DEG C,TU,,TU,/MILLE,,/MILLE,/MILLE,,/MILLE,DEG C,KG/M^3,ITS-90,,DBAR,,UMOL/KG,,UMOL/KG,UMOL/KG,UMOL/KG,UMOL/KG,UMOL/KG,,BQ/M^3,,BQ/M^3,MBQ/M^3,,MBQ/M^3
49NZ20031106, A10, 6, 1, 36, 12048, 2, 20031110, 401, -29.4142, -41.7430, 3885,     10.8, 2,  19.7654, 2,  36.1802, 2,  36.1800, 2,    218.0, 1,    229.1, 2,     0.85, 2,     0.04, 2,     0.01, 2,     0.07, 2, -999.000, 9, -999.000, 9, -999.000, 9,   -999.0, 9,   -999.0, 9, -999.0000, 9,   -999.00, -999.000, 9, -999.000,   -999.0, 9,   -999.0,  -999.00, 9,   -999.0,  19.7634, 25.7263,  19.7579, 2, 6.3, 2, 228.94, 2, 0.12, 0.03, 0.01, 0.03, -999, 9,  -999.00, 9, -999, -999, 9, -999
49NZ20031106, A10, 6, 1, 35, 12047, 2, 20031110, 401, -29.4142, -41.7430, 3885,     50.8, 2,  19.5054, 2,  36.1728, 2,  36.1718, 2,    218.6, 1,    229.8, 2,     0.83, 2,     0.02, 2,     0.01, 2,     0.07, 2, -999.000, 9, -999.000, 9, -999.000, 9,   -999.0, 9,   -999.0, 9, -999.0000, 9,   -999.00, -999.000, 9, -999.000,   -999.0, 9,   -999.0,  -999.00, 9,   -999.0,  19.4961, 25.7896,  19.5032, 2, 51.6, 2, 229.75, 2, 0.12, 0.03, 0.01, 0.03, -999, 9,  -999.00, 9, -999, -999, 9, -999
49NZ20031106, A10, 6, 1, 34, 12046, 2, 20031110, 401, -29.4142, -41.7430, 3885,    101.1, 2,  17.8986, 2,  36.0403, 2,  36.0407, 2,    216.9, 1,    227.4, 2,     0.90, 2,     0.31, 2,     0.20, 2,     0.15, 2, -999.000, 9, -999.000, 9, -999.000, 9,   -999.0, 9,   -999.0, 9, -999.0000, 9,   -999.00, -999.000, 9, -999.000,   -999.0, 9,   -999.0,  -999.00, 9,   -999.0,  17.8812, 26.0992,  17.8990, 2, 105.4, 2, 225.43, 2, 0.12, 0.03, 0.01, 0.02, -999, 9,  -999.00, 9, -999, -999, 9, -999
49NZ20031106, A10, 6, 1, 33, 12045, 2, 20031110, 401, -29.4142, -41.7430, 3885,    149.7, 2,  17.5228, 2,  35.9955, 2,  35.9958, 2,    211.6, 1,    222.0, 2,     1.09, 2,     1.50, 2,     0.02, 2,     0.20, 2, -999.000, 9, -999.000, 9, -999.000, 9,   -999.0, 9,   -999.0, 9, -999.0000, 9,   -999.00, -999.000, 9, -999.000,   -999.0, 9,   -999.0,  -999.00, 9,   -999.0,  17.4974, 26.1591,  17.5248, 2, 151.6, 2, 222.24, 2, 0.12, 0.04, 0.01, 0.02, -999, 9,  -999.00, 9, -999, -999, 9, -999
49NZ20031106, A10, 6, 1, 32, 12044, 2, 20031110, 401, -29.4142, -41.7430, 3885,    200.3, 2,  16.8344, 2,  35.8714, 2,  35.8714, 2,    208.5, 1,    218.4, 2,     1.31, 2,     2.60, 2,     0.02, 2,     0.29, 2, -999.000, 9, -999.000, 9, -999.000, 9,   -999.0, 9,   -999.0, 9, -999.0000, 9,   -999.00, -999.000, 9, -999.000,   -999.0, 9,   -999.0,  -999.00, 9,   -999.0,  16.8014, 26.2317,  16.8327, 2, 201.7, 2, 217.64, 2, 0.12, 0.04, 0.01, 0.01, -999, 9,  -999.00, 9, -999, -999, 9, -999
49NZ20031106, A10, 6, 1, 31, 12043, 2, 20031110, 401, -29.4142, -41.7430, 3885,    251.6, 2,  16.0900, 2,  35.7607, 2,  35.7591, 2,    207.3, 1,    216.6, 2,     1.62, 2,     3.85, 2,     0.01, 2,     0.37, 2, -999.000, 9, -999.000, 9, -999.000, 9,   -999.0, 9,   -999.0, 9, -999.0000, 9,   -999.00, -999.000, 9, -999.000,   -999.0, 9,   -999.0,  -999.00, 9,   -999.0,  16.0497, 26.3216,  16.0897, 2, 252.5, 2, 216.35, 2, 0.12, 0.04, 0.01, 0.01, -999, 9,  -999.00, 9, -999, -999, 9, -999
49NZ20031106, A10, 6, 1, 30, 12042, 2, 20031110, 401, -29.4142, -41.7430, 3885,    300.6, 2,  14.8792, 2,  35.5150, 2,  35.5127, 2,    201.3, 1,    210.4, 2,     2.01, 2,     6.09, 2,     0.01, 2,     0.53, 2, -999.000, 9, -999.000, 9, -999.000, 9,   -999.0, 9,   -999.0, 9, -999.0000, 9,   -999.00, -999.000, 9, -999.000,   -999.0, 9,   -999.0,  -999.00, 9,   -999.0,  14.8336, 26.4057,  14.8783, 2, 301.9, 2, 210.46, 2, 0.12, 0.05, 0.01, 0.01, -999, 9,  -999.00, 9, -999, -999, 9, -999
49NZ20031106, A10, 6, 1, 29, 12041, 2, 20031110, 401, -29.4142, -41.7430, 3885,    401.0, 2,  13.0470, 2,  35.2308, 2,  35.2293, 2,    205.2, 1,    213.9, 2,     2.79, 2,     9.35, 2,     0.01, 2,     0.72, 2, -999.000, 9, -999.000, 9, -999.000, 9,   -999.0, 9,   -999.0, 9, -999.0000, 9,   -999.00, -999.000, 9, -999.000,   -999.0, 9,   -999.0,  -999.00, 9,   -999.0,  12.9912, 26.573,  13.0471, 2, 403.5, 2, 214.1, 2, 0.13, 0.06, 0.01, 0.01, -999, 9,  -999.00, 9, -999, -999, 9, -999
49NZ20031106, A10, 6, 1, 28, 12040, 2, 20031110, 401, -29.4142, -41.7430, 3885,    501.5, 2,  11.0009, 2,  34.9362, 2,  34.9408, 2,    200.4, 1,    208.0, 2,     4.95, 2,    14.72, 2,     0.00, 2,     1.06, 2, -999.000, 9, -999.000, 9, -999.000, 9,   -999.0, 9,   -999.0, 9, -999.0000, 9,   -999.00, -999.000, 9, -999.000,   -999.0, 9,   -999.0,  -999.00, 9,   -999.0,  10.9382, 26.7356,  11.0039, 2, 504.5, 2, 208.05, 2, 0.13, 0.07, 0.01, 0.01, -999, 9,  -999.00, 9, -999, -999, 9, -999
49NZ20031106, A10, 6, 1, 27, 12039, 2, 20031110, 401, -29.4142, -41.7430, 3885,    599.7, 2,   8.4576, 2,  34.6023, 2,  34.6012, 2,    207.0, 1,    214.7, 2,     8.02, 2,    20.47, 2,     0.01, 2,     1.43, 2, -999.000, 9, -999.000, 9, -999.000, 9,   -999.0, 9,   -999.0, 9, -999.0000, 9,   -999.00, -999.000, 9, -999.000,   -999.0, 9,   -999.0,  -999.00, 9,   -999.0,   8.3937, 26.9012,   8.4569, 2, 597.3, 2, 215.61, 2, 0.14, 0.09, 0.01, 0.01, -999, 9,  -999.00, 9, -999, -999, 9, -999
49NZ20031106, A10, 6, 1, 26, 12038, 2, 20031110, 401, -29.4142, -41.7430, 3885,    702.3, 2,   6.1158, 2,  34.3516, 2,  34.3533, 2,    225.9, 1,    234.3, 2,    11.34, 2,    24.52, 2,     0.01, 2,     1.70, 2, -999.000, 9, -999.000, 9, -999.000, 9,   -999.0, 9,   -999.0, 9, -999.0000, 9,   -999.00, -999.000, 9, -999.000,   -999.0, 9,   -999.0,  -999.00, 9,   -999.0,   6.0530, 27.0326,   6.1146, 2, 703.4, 2, 234.22, 2, 0.14, 0.1, 0.01, 0.01, -999, 9,  -999.00, 9, -999, -999, 9, -999
49NZ20031106, A10, 6, 1, 25, 12037, 2, 20031110, 401, -29.4142, -41.7430, 3885,    802.5, 2,   4.8078, 2,  34.2517, 2,  34.2527, 2,    237.8, 1,    247.3, 2,    15.04, 2,    26.61, 2,     0.00, 2,     1.83, 2, -999.000, 9, -999.000, 9, -999.000, 9,   -999.0, 9,   -999.0, 9, -999.0000, 9,   -999.00, -999.000, 9, -999.000,   -999.0, 9,   -999.0,  -999.00, 9,   -999.0,   4.7436, 27.1103,   4.8139, 2, 803, 2, 247.12, 2, 0.15, 0.11, 0.01, 0.01, -999, 9,  -999.00, 9, -999, -999, 9, -999
49NZ20031106, A10, 6, 1, 24, 12036, 2, 20031110, 401, -29.4142, -41.7430, 3885,    901.2, 2,   4.2571, 2,  34.2415, 2,  34.2419, 2,    233.8, 1,    243.2, 2,    19.70, 2,    28.21, 2,     0.00, 2,     1.94, 2, -999.000, 9, -999.000, 9, -999.000, 9,   -999.0, 9,   -999.0, 9, -999.0000, 9,   -999.00, -999.000, 9, -999.000,   -999.0, 9,   -999.0,  -999.00, 9,   -999.0,   4.1882, 27.1631,   4.2556, 2, 899.4, 2, 243.27, 2, 0.16, 0.11, 0.01, 0.01, -999, 9,  -999.00, 9, -999, -999, 9, -999
49NZ20031106, A10, 6, 1, 6, 12018, 9, 20031110, 401, -29.4142, -41.7430, 3885,    999.9, 2,   3.9305, 2,  34.2871, 2, -999.0000, 9,    216.1, 1,   -999.0, 9,  -999.00, 9,  -999.00, 9,  -999.00, 9,  -999.00, 9, -999.000, 9, -999.000, 9, -999.000, 9,   -999.0, 9,   -999.0, 9, -999.0000, 9,   -999.00, -999.000, 9, -999.000,   -999.0, 9,   -999.0,  -999.00, 9,   -999.0,   3.8557, 27.2336,   3.9276, 2, 997.2, 2, 223.4, 2, -999, -999, -999, -999, -999, 9,  -999.00, 9, -999, -999, 9, -999
49NZ20031106, A10, 6, 1, 1, 12013, 9, 20031110, 401, -29.4142, -41.7430, 3885,   1000.2, 2,   3.9316, 2,  34.2872, 2, -999.0000, 9,    216.0, 1,   -999.0, 9,  -999.00, 9,  -999.00, 9,  -999.00, 9,  -999.00, 9, -999.000, 9, -999.000, 9, -999.000, 9,   -999.0, 9,   -999.0, 9, -999.0000, 9,   -999.00, -999.000, 9, -999.000,   -999.0, 9,   -999.0,  -999.00, 9,   -999.0,   3.8568, 27.2335,   3.9322, 2, 997.5, 2, 223.35, 2, -999, -999, -999, -999, -999, 9,  -999.00, 9, -999, -999, 9, -999
49NZ20031106, A10, 6, 1, 23, 12035, 2, 20031110, 401, -29.4142, -41.7430, 3885,   1000.5, 2,   3.9306, 2,  34.2874, 2,  34.2870, 2,    216.0, 1,    224.7, 2,    27.42, 2,    30.10, 2,     0.00, 2,     2.07, 2, -999.000, 9, -999.000, 9, -999.000, 9,   -999.0, 9,   -999.0, 9, -999.0000, 9,   -999.00, -999.000, 9, -999.000,   -999.0, 9,   -999.0,  -999.00, 9,   -999.0,   3.8558, 27.2341,   3.9296, 2, 997.8, 2, 223.3, 2, 0.18, 0.12, 0.01, 0.02, -999, 9,  -999.00, 9, -999, -999, 9, -999
49NZ20031106, A10, 6, 1, 5, 12017, 9, 20031110, 401, -29.4142, -41.7430, 3885,   1000.6, 2,   3.9268, 2,  34.2877, 2, -999.0000, 9,    216.2, 1,   -999.0, 9,  -999.00, 9,  -999.00, 9,  -999.00, 9,  -999.00, 9, -999.000, 9, -999.000, 9, -999.000, 9,   -999.0, 9,   -999.0, 9, -999.0000, 9,   -999.00, -999.000, 9, -999.000,   -999.0, 9,   -999.0,  -999.00, 9,   -999.0,   3.8520, 27.2345,   3.9192, 2, 998.1, 2, 223.26, 2, -999, -999, -999, -999, -999, 9,  -999.00, 9, -999, -999, 9, -999
49NZ20031106, A10, 6, 1, 4, 12016, 9, 20031110, 401, -29.4142, -41.7430, 3885,   1000.6, 2,   3.9292, 2,  34.2882, 2, -999.0000, 9,    216.2, 1,   -999.0, 9,  -999.00, 9,  -999.00, 9,  -999.00, 9,  -999.00, 9, -999.000, 9, -999.000, 9, -999.000, 9,   -999.0, 9,   -999.0, 9, -999.0000, 9,   -999.00, -999.000, 9, -999.000,   -999.0, 9,   -999.0,  -999.00, 9,   -999.0,   3.8544, 27.2342,   3.9307, 2, 998.1, 2, 223.26, 2, -999, -999, -999, -999, -999, 9,  -999.00, 9, -999, -999, 9, -999
49NZ20031106, A10, 6, 1, 3, 12012, 9, 20031110, 401, -29.4142, -41.7430, 3885,   1000.6, 2,   3.9305, 2,  34.2880, 2, -999.0000, 9,    216.2, 1,   -999.0, 9,  -999.00, 9,  -999.00, 9,  -999.00, 9,  -999.00, 9, -999.000, 9, -999.000, 9, -999.000, 9,   -999.0, 9,   -999.0, 9, -999.0000, 9,   -999.00, -999.000, 9, -999.000,   -999.0, 9,   -999.0,  -999.00, 9,   -999.0,   3.8557, 27.234,   3.9343, 2, 998.1, 2, 223.26, 2, -999, -999, -999, -999, -999, 9,  -999.00, 9, -999, -999, 9, -999
49NZ20031106, A10, 6, 1, 2, 12014, 9, 20031110, 401, -29.4142, -41.7430, 3885,   1000.6, 2,   3.9345, 2,  34.2870, 2, -999.0000, 9,    216.0, 1,   -999.0, 9,  -999.00, 9,  -999.00, 9,  -999.00, 9,  -999.00, 9, -999.000, 9, -999.000, 9, -999.000, 9,   -999.0, 9,   -999.0, 9, -999.0000, 9,   -999.00, -999.000, 9, -999.000,   -999.0, 9,   -999.0,  -999.00, 9,   -999.0,   3.8597, 27.2332,   3.9346, 2, 997.8, 2, 223.31, 2, -999, -999, -999, -999, -999, 9,  -999.00, 9, -999, -999, 9, -999
49NZ20031106, A10, 6, 1, 22, 12034, 2, 20031110, 401, -29.4142, -41.7430, 3885,   1201.0, 2,   3.2279, 2,  34.3850, 2,  34.3850, 2,    194.2, 1,    201.8, 2,    43.53, 2,    32.40, 2,     0.00, 2,     2.23, 2, -999.000, 9, -999.000, 9, -999.000, 9,   -999.0, 9,   -999.0, 9, -999.0000, 9,   -999.00, -999.000, 9, -999.000,   -999.0, 9,   -999.0,  -999.00, 9,   -999.0,   3.1426, 27.3809,   3.2285, 2, 1200.4, 2, 202.17, 2, 0.21, 0.12, 0.01, 0.02, -999, 9,  -999.00, 9, -999, -999, 9, -999
49NZ20031106, A10, 6, 1, 21, 12033, 2, 20031110, 401, -29.4142, -41.7430, 3885,   1400.7, 2,   2.9569, 2,  34.5046, 2,  34.5046, 2,    180.9, 1,    187.7, 2,    53.70, 2,    32.72, 2,    -0.01, 2,     2.25, 2, -999.000, 9, -999.000, 9, -999.000, 9,   -999.0, 9,   -999.0, 9, -999.0000, 9,   -999.00, -999.000, 9, -999.000,   -999.0, 9,   -999.0,  -999.00, 9,   -999.0,   2.8579, 27.5026,   2.9568, 2, 1398, 2, 187.63, 2, 0.24, 0.12, 0.01, 0.02, -999, 9,  -999.00, 9, -999, -999, 9, -999
49NZ20031106, A10, 6, 1, 20, 12032, 2, 20031110, 401, -29.4142, -41.7430, 3885,   1603.8, 2,   3.0999, 2,  34.6724, 2,  34.6708, 2,    186.0, 1,    192.9, 2,    50.82, 3,    29.95, 3,     0.00, 3,     2.06, 3, -999.000, 9, -999.000, 9, -999.000, 9,   -999.0, 9,   -999.0, 9, -999.0000, 9,   -999.00, -999.000, 9, -999.000,   -999.0, 9,   -999.0,  -999.00, 9,   -999.0,   2.9819, 27.6253,   3.1003, 2, 1603.4, 2, 192.27, 2, 0.23, 0.12, 0.01, 0.02, -999, 9,  -999.00, 9, -999, -999, 9, -999
49NZ20031106, A10, 6, 1, 19, 12031, 2, 20031110, 401, -29.4142, -41.7430, 3885,   1801.6, 2,   2.9218, 2,  34.7254, 2,  34.7254, 2,    193.6, 1,    200.9, 2,    51.94, 2,    28.63, 2,    -0.01, 2,     1.96, 2, -999.000, 9, -999.000, 9, -999.000, 9,   -999.0, 9,   -999.0, 9, -999.0000, 9,   -999.00, -999.000, 9, -999.000,   -999.0, 9,   -999.0,  -999.00, 9,   -999.0,   2.7888, 27.6851,   2.9204, 2, 1800.7, 2, 203.53, 2, 0.23, 0.11, 0.01, 0.01, -999, 9,  -999.00, 9, -999, -999, 9, -999
49NZ20031106, A10, 6, 1, 18, 12030, 2, 20031110, 401, -29.4142, -41.7430, 3885,   2001.4, 2,   3.2719, 2,  34.8614, 2,  34.8615, 2,    217.5, 1,    225.8, 2,    36.04, 2,    23.92, 2,     0.00, 2,     1.63, 2, -999.000, 9, -999.000, 9, -999.000, 9,   -999.0, 9,   -999.0, 9, -999.0000, 9,   -999.00, -999.000, 9, -999.000,   -999.0, 9,   -999.0,  -999.00, 9,   -999.0,   3.1154, 27.7639,   3.2719, 2, 2001.5, 2, 226.72, 2, 0.2, 0.1, 0.01, 0.01, -999, 9,  -999.00, 9, -999, -999, 9, -999
49NZ20031106, A10, 6, 1, 17, 12029, 2, 20031110, 401, -29.4142, -41.7430, 3885,   2200.4, 2,   3.4067, 2,  34.9335, 2,  34.9328, 2,    234.3, 1,    243.4, 2,    25.86, 2,    20.93, 2,    -0.01, 2,     1.41, 2, -999.000, 9, -999.000, 9, -999.000, 9,   -999.0, 9,   -999.0, 9, -999.0000, 9,   -999.00, -999.000, 9, -999.000,   -999.0, 9,   -999.0,  -999.00, 9,   -999.0,   3.2290, 27.8105,   3.4075, 2, 2200.1, 2, 243.13, 2, 0.18, 0.09, 0.01, 0.01, -999, 9,  -999.00, 9, -999, -999, 9, -999
49NZ20031106, A10, 6, 1, 16, 12028, 2, 20031110, 401, -29.4142, -41.7430, 3885,   2401.4, 2,   3.2460, 2,  34.9314, 2,  34.9316, 2,    236.5, 1,    246.2, 2,    27.25, 2,    20.71, 2,    -0.01, 2,     1.40, 2, -999.000, 9, -999.000, 9, -999.000, 9,   -999.0, 9,   -999.0, 9, -999.0000, 9,   -999.00, -999.000, 9, -999.000,   -999.0, 9,   -999.0,  -999.00, 9,   -999.0,   3.0514, 27.8256,   3.2461, 2, 2401.4, 2, 245.99, 2, 0.18, 0.09, 0.01, 0.01, -999, 9,  -999.00, 9, -999, -999, 9, -999
49NZ20031106, A10, 6, 1, 15, 12027, 2, 20031110, 401, -29.4142, -41.7430, 3885,   2600.9, 2,   3.1035, 2,  34.9339, 2,  34.9339, 2,    240.0, 1,    249.7, 2,    27.83, 2,    20.41, 2,     0.00, 2,     1.38, 2, -999.000, 9, -999.000, 9, -999.000, 9,   -999.0, 9,   -999.0, 9, -999.0000, 9,   -999.00, -999.000, 9, -999.000,   -999.0, 9,   -999.0,  -999.00, 9,   -999.0,   2.8916, 27.8425,   3.1035, 2, 2601, 2, 249.25, 2, 0.18, 0.09, 0.01, 0.01, -999, 9,  -999.00, 9, -999, -999, 9, -999
49NZ20031106, A10, 6, 1, 14, 12026, 2, 20031110, 401, -29.4142, -41.7430, 3885,   2797.3, 2,   2.9735, 2,  34.9291, 2,  34.9293, 2,    241.1, 1,    250.4, 2,    29.61, 2,    20.51, 2,     0.00, 2,     1.39, 2, -999.000, 9, -999.000, 9, -999.000, 9,   -999.0, 9,   -999.0, 9, -999.0000, 9,   -999.00, -999.000, 9, -999.000,   -999.0, 9,   -999.0,  -999.00, 9,   -999.0,   2.7443, 27.8519,   2.9737, 2, 2797.4, 2, 250.31, 2, 0.18, 0.09, 0.01, 0.01, -999, 9,  -999.00, 9, -999, -999, 9, -999
49NZ20031106, A10, 6, 1, 13, 12025, 2, 20031110, 401, -29.4142, -41.7430, 3885,   3002.8, 2,   2.8314, 2,  34.9231, 2,  34.9233, 2,    242.3, 1,    251.3, 2,    31.64, 2,    20.53, 2,     0.00, 2,     1.39, 2, -999.000, 9, -999.000, 9, -999.000, 9,   -999.0, 9,   -999.0, 9, -999.0000, 9,   -999.00, -999.000, 9, -999.000,   -999.0, 9,   -999.0,  -999.00, 9,   -999.0,   2.5841, 27.8613,   2.8314, 2, 3003.2, 2, 251.2, 2, 0.19, 0.09, 0.01, 0.01, -999, 9,  -999.00, 9, -999, -999, 9, -999
49NZ20031106, A10, 6, 1, 12, 12024, 2, 20031110, 401, -29.4142, -41.7430, 3885,   3248.6, 2,   2.6019, 2,  34.9070, 2,  34.9065, 2,    242.5, 1,    251.0, 2,    37.21, 2,    21.06, 2,    -0.01, 2,     1.43, 2, -999.000, 9, -999.000, 9, -999.000, 9,   -999.0, 9,   -999.0, 9, -999.0000, 9,   -999.00, -999.000, 9, -999.000,   -999.0, 9,   -999.0,  -999.00, 9,   -999.0,   2.3340, 27.8698,   2.6017, 2, 3248.9, 2, 251.3, 2, 0.2, 0.09, 0.01, 0.01, -999, 9,  -999.00, 9, -999, -999, 9, -999
49NZ20031106, A10, 6, 1, 8, 12020, 9, 20031110, 401, -29.4142, -41.7430, 3885,   3399.8, 2,   2.2956, 2,  34.8789, 2, -999.0000, 9,    239.4, 1,   -999.0, 9,  -999.00, 9,  -999.00, 9,  -999.00, 9,  -999.00, 9, -999.000, 9, -999.000, 9, -999.000, 9,   -999.0, 9,   -999.0, 9, -999.0000, 9,   -999.00, -999.000, 9, -999.000,   -999.0, 9,   -999.0,  -999.00, 9,   -999.0,   2.0191, 27.8731,   2.2952, 2, 3400, 2, 247.75, 2, -999, -999, -999, -999, -999, 9,  -999.00, 9, -999, -999, 9, -999
49NZ20031106, A10, 6, 1, 11, 12023, 2, 20031110, 401, -29.4142, -41.7430, 3885,   3500.1, 2,   1.8781, 2,  34.8363, 2,  34.8355, 2,    232.8, 1,    240.3, 2,    63.73, 2,    24.64, 2,     0.00, 2,     1.69, 2, -999.000, 9, -999.000, 9, -999.000, 9,   -999.0, 9,   -999.0, 9, -999.0000, 9,   -999.00, -999.000, 9, -999.000,   -999.0, 9,   -999.0,  -999.00, 9,   -999.0,   1.6016, 27.8713,   1.8786, 2, 3500.3, 2, 240.79, 2, 0.26, 0.1, 0.01, 0.01, -999, 9,  -999.00, 9, -999, -999, 9, -999
49NZ20031106, A10, 6, 1, 7, 12019, 9, 20031110, 401, -29.4142, -41.7430, 3885,   3601.5, 2,   1.4245, 2,  34.7876, 2, -999.0000, 9,    224.7, 1,   -999.0, 9,  -999.00, 9,  -999.00, 9,  -999.00, 9,  -999.00, 9, -999.000, 9, -999.000, 9, -999.000, 9,   -999.0, 9,   -999.0, 9, -999.0000, 9,   -999.00, -999.000, 9, -999.000,   -999.0, 9,   -999.0,  -999.00, 9,   -999.0,   1.1493, 27.8646,   1.4244, 2, 3601.8, 2, 233.74, 2, -999, -999, -999, -999, -999, 9,  -999.00, 9, -999, -999, 9, -999
49NZ20031106, A10, 6, 1, 10, 12022, 2, 20031110, 401, -29.4142, -41.7430, 3885,   3751.1, 2,   0.9185, 2,  34.7346, 2,  34.7348, 2,    217.4, 1,    223.2, 2,   102.67, 2,    29.90, 2,     0.01, 2,     2.07, 2, -999.000, 9, -999.000, 9, -999.000, 9,   -999.0, 9,   -999.0, 9, -999.0000, 9,   -999.00, -999.000, 9, -999.000,   -999.0, 9,   -999.0,  -999.00, 9,   -999.0,   0.6416, 27.8556,   0.9183, 2, 3751.3, 2, 223.1, 2, 0.34, 0.12, 0.01, 0.02, -999, 9,  -999.00, 9, -999, -999, 9, -999
49NZ20031106, A10, 6, 1, 9, 12015, 2, 20031110, 401, -29.4142, -41.7430, 3885,   3922.4, 2,   0.7146, 2,  34.7147, 2,  34.7147, 2,    217.0, 1,    221.6, 2,   110.25, 2,    30.90, 2,     0.01, 2,     2.14, 2, -999.000, 9, -999.000, 9, -999.000, 9,   -999.0, 9,   -999.0, 9, -999.0000, 9,   -999.00, -999.000, 9, -999.000,   -999.0, 9,   -999.0,  -999.00, 9,   -999.0,   0.4258, 27.8528,   0.7142, 2, 3922.4, 2, 220.43, 2, 0.36, 0.12, 0.01, 0.02, -999, 9,  -999.00, 9, -999, -999, 9, -999