BOTTLE,20220818CCHSIOAMB
EXPOCODE,SECT_ID,STNNBR,CASTNO,SAMPNO,BTLNBR,BTLNBR_FLAG_W,DATE,TIME,LATITUDE,LONGITUDE,DEPTH,CTDPRS,CTDPRS_FLAG_W,CTDTMP,CTDTMP_FLAG_W,CTDSAL,CTDSAL_FLAG_W,SALNTY,SALNTY_FLAG_W,CTDOXY,CTDOXY_FLAG_W,OXYGEN,OXYGEN_FLAG_W,SILCAT,SILCAT_FLAG_W,NITRAT,NITRAT_FLAG_W,NITRIT,NITRIT_FLAG_W,PHSPHT,PHSPHT_FLAG_W,CFC-11,CFC-11_FLAG_W,CFC-12,CFC-12_FLAG_W,CFC113,CFC113_FLAG_W,TCARBN,TCARBN_FLAG_W,ALKALI,ALKALI_FLAG_W,PH_TOT,PH_TOT_FLAG_W,PH_TMP,TRITUM,TRITUM_FLAG_W,TRITER,DELC14,DELC14_FLAG_W,C14ERR,DELC13,DELC13_FLAG_W,C13ERR,THETA,SIG0,SBE35,SBE35_FLAG_W,DWNPRS,DWNPRS_FLAG_W,DWNOXY,DWNOXY_FLAG_W,SILUNC,NRAUNC,NRIUNC,PHPUNC,TOC,TOC_FLAG_W,CS-137,CS-137_FLAG_W,CS137ER,PLUTO,PLUTO_FLAG_W,PLUTOER
,,,,,,,,,,,METERS,DBAR,,ITS-90,,PSS-78,,PSS-78,,UMOL/KG,,UMOL/KG,,UMOL/KG,,UMOL/KG,,UMOL/KG,,UMOL/KG,,PMOL/KG,,PMOL/KG,,PMOL/KG,,UMOL/KG,,UMOL/KG,,,,DEG C,TU,,TU,/MILLE,,/MILLE,/MILLE,,/MILLE,DEG C,KG/M^3,ITS-90,,DBAR,,UMOL/KG,,UMOL/KG,UMOL/KG,UMOL/KG,UMOL/KG,UMOL/KG,,BQ/M^3,,BQ/M^3,MBQ/M^3,,MBQ/M^3
49NZ20031106, A10, 90, 1, 36, 12024, 2, 20031201, 554, -29.7462, 11.8115, 4003,     10.9, 2,  18.7185, 2,  35.6249, 2,  35.6250, 2,    224.6, 1,    236.7, 2,     1.61, 2,     0.01, 2,     0.01, 2,     0.16, 2, -999.000, 9, -999.000, 9, -999.000, 9,   -999.0, 9,   -999.0, 9, -999.0000, 9,   -999.00, -999.000, 9, -999.000,   -999.0, 9,   -999.0,  -999.00, 9,   -999.0,  18.7166, 25.5731,  18.7179, 2, 11.6, 2, 236.62, 2, 0.12, 0.03, 0.01, 0.02, -999, 9,  -999.00, 9, -999, -999, 9, -999
49NZ20031106, A10, 90, 1, 4, 12028, 9, 20031201, 554, -29.7462, 11.8115, 4003,     10.9, 2,  18.7137, 2,  35.6254, 2, -999.0000, 9,    224.6, 1,   -999.0, 9,  -999.00, 9,  -999.00, 9,  -999.00, 9,  -999.00, 9, -999.000, 9, -999.000, 9, -999.000, 9,   -999.0, 9,   -999.0, 9, -999.0000, 9,   -999.00, -999.000, 9, -999.000,   -999.0, 9,   -999.0,  -999.00, 9,   -999.0,  18.7118, 25.574,  18.7150, 2, 12, 2, 236.64, 2, -999, -999, -999, -999, -999, 9,  -999.00, 9, -999, -999, 9, -999
49NZ20031106, A10, 90, 1, 3, 12027, 9, 20031201, 554, -29.7462, 11.8115, 4003,     11.1, 2,  18.7271, 2,  35.6254, 2, -999.0000, 9,    224.8, 1,   -999.0, 9,  -999.00, 9,  -999.00, 9,  -999.00, 9,  -999.00, 9, -999.000, 9, -999.000, 9, -999.000, 9,   -999.0, 9,   -999.0, 9, -999.0000, 9,   -999.00, -999.000, 9, -999.000,   -999.0, 9,   -999.0,  -999.00, 9,   -999.0,  18.7251, 25.5711,  18.7275, 2, 11.4, 2, 236.59, 2, -999, -999, -999, -999, -999, 9,  -999.00, 9, -999, -999, 9, -999
49NZ20031106, A10, 90, 1, 1, 12025, 9, 20031201, 554, -29.7462, 11.8115, 4003,     11.3, 2,  18.7091, 2,  35.6249, 2, -999.0000, 9,    224.8, 1,   -999.0, 9,  -999.00, 9,  -999.00, 9,  -999.00, 9,  -999.00, 9, -999.000, 9, -999.000, 9, -999.000, 9,   -999.0, 9,   -999.0, 9, -999.0000, 9,   -999.00, -999.000, 9, -999.000,   -999.0, 9,   -999.0,  -999.00, 9,   -999.0,  18.7071, 25.5755,  18.7089, 2, 12.6, 2, 236.62, 2, -999, -999, -999, -999, -999, 9,  -999.00, 9, -999, -999, 9, -999
49NZ20031106, A10, 90, 1, 2, 12026, 9, 20031201, 554, -29.7462, 11.8115, 4003,     50.3, 2,  17.4164, 2,  35.6083, 2, -999.0000, 9,    226.1, 1,   -999.0, 9,  -999.00, 9,  -999.00, 9,  -999.00, 9,  -999.00, 9, -999.000, 9, -999.000, 9, -999.000, 9,   -999.0, 9,   -999.0, 9, -999.0000, 9,   -999.00, -999.000, 9, -999.000,   -999.0, 9,   -999.0,  -999.00, 9,   -999.0,  17.4080, 25.8849,  17.4166, 2, 50.7, 2, 238.5, 2, -999, -999, -999, -999, -999, 9,  -999.00, 9, -999, -999, 9, -999
49NZ20031106, A10, 90, 1, 35, 12023, 2, 20031201, 554, -29.7462, 11.8115, 4003,     50.8, 2,  17.4103, 2,  35.6079, 2,  35.6079, 2,    226.0, 1,    238.2, 2,     2.46, 2,     0.74, 2,     0.16, 2,     0.24, 2, -999.000, 9, -999.000, 9, -999.000, 9,   -999.0, 9,   -999.0, 9, -999.0000, 9,   -999.00, -999.000, 9, -999.000,   -999.0, 9,   -999.0,  -999.00, 9,   -999.0,  17.4018, 25.8861,  17.4106, 2, 50.8, 2, 238.43, 2, 0.12, 0.03, 0.01, 0.02, -999, 9,  -999.00, 9, -999, -999, 9, -999
49NZ20031106, A10, 90, 1, 34, 12022, 2, 20031201, 554, -29.7462, 11.8115, 4003,     99.7, 2,  16.2415, 2,  35.5341, 2,  35.5345, 2,    210.4, 1,    221.0, 2,     3.61, 2,     4.35, 2,     0.03, 2,     0.44, 2, -999.000, 9, -999.000, 9, -999.000, 9,   -999.0, 9,   -999.0, 9, -999.0000, 9,   -999.00, -999.000, 9, -999.000,   -999.0, 9,   -999.0,  -999.00, 9,   -999.0,  16.2255, 26.1073,  16.2483, 2, 100.3, 2, 221.51, 2, 0.13, 0.04, 0.01, 0.01, -999, 9,  -999.00, 9, -999, -999, 9, -999
49NZ20031106, A10, 90, 1, 33, 12015, 2, 20031201, 554, -29.7462, 11.8115, 4003,    148.3, 2,  15.7401, 2,  35.5329, 2,  35.5308, 2,    222.9, 1,    233.9, 2,     2.50, 2,     2.96, 2,     0.01, 2,     0.37, 2, -999.000, 9, -999.000, 9, -999.000, 9,   -999.0, 9,   -999.0, 9, -999.0000, 9,   -999.00, -999.000, 9, -999.000,   -999.0, 9,   -999.0,  -999.00, 9,   -999.0,  15.7168, 26.2247,  15.7306, 2, 151, 2, 232.85, 2, 0.12, 0.04, 0.01, 0.01, -999, 9,  -999.00, 9, -999, -999, 9, -999
49NZ20031106, A10, 90, 1, 32, 12020, 2, 20031201, 554, -29.7462, 11.8115, 4003,    198.9, 2,  14.6681, 2,  35.3433, 2,  35.3443, 2,    216.2, 1,    227.1, 2,     3.00, 2,     5.27, 2,     0.02, 2,     0.51, 2, -999.000, 9, -999.000, 9, -999.000, 9,   -999.0, 9,   -999.0, 9, -999.0000, 9,   -999.00, -999.000, 9, -999.000,   -999.0, 9,   -999.0,  -999.00, 9,   -999.0,  14.6383, 26.318,  14.6612, 2, 203.8, 2, 226.01, 2, 0.13, 0.05, 0.01, 0.01, -999, 9,  -999.00, 9, -999, -999, 9, -999
49NZ20031106, A10, 90, 1, 31, 12019, 2, 20031201, 554, -29.7462, 11.8115, 4003,    248.4, 2,  13.5422, 2,  35.1602, 2,  35.1602, 2,    215.5, 1,    226.0, 2,     3.08, 2,     7.23, 2,     0.01, 2,     0.63, 2, -999.000, 9, -999.000, 9, -999.000, 9,   -999.0, 9,   -999.0, 9, -999.0000, 9,   -999.00, -999.000, 9, -999.000,   -999.0, 9,   -999.0,  -999.00, 9,   -999.0,  13.5070, 26.4164,  13.5365, 2, 255.1, 2, 223.3, 2, 0.13, 0.05, 0.01, 0.01, -999, 9,  -999.00, 9, -999, -999, 9, -999
49NZ20031106, A10, 90, 1, 30, 12018, 2, 20031201, 554, -29.7462, 11.8115, 4003,    300.4, 2,  12.8785, 2,  35.1466, 2,  35.1435, 2,    205.3, 1,    214.8, 2,     3.87, 2,     9.75, 2,     0.01, 2,     0.78, 2, -999.000, 9, -999.000, 9, -999.000, 9,   -999.0, 9,   -999.0, 9, -999.0000, 9,   -999.00, -999.000, 9, -999.000,   -999.0, 9,   -999.0,  -999.00, 9,   -999.0,  12.8372, 26.5397,  12.8827, 2, 305.3, 2, 214.81, 2, 0.13, 0.06, 0.01, 0.01, -999, 9,  -999.00, 9, -999, -999, 9, -999
49NZ20031106, A10, 90, 1, 29, 12017, 2, 20031201, 554, -29.7462, 11.8115, 4003,    401.1, 2,  11.3304, 2,  34.9736, 2,  34.9675, 2,    207.6, 1,    217.1, 2,     5.69, 2,    13.49, 2,     0.01, 2,     1.00, 2, -999.000, 9, -999.000, 9, -999.000, 9,   -999.0, 9,   -999.0, 9, -999.0000, 9,   -999.00, -999.000, 9, -999.000,   -999.0, 9,   -999.0,  -999.00, 9,   -999.0,  11.2796, 26.7047,  11.3319, 2, 407.9, 2, 216.52, 2, 0.13, 0.07, 0.01, 0.01, -999, 9,  -999.00, 9, -999, -999, 9, -999
49NZ20031106, A10, 90, 1, 28, 12016, 2, 20031201, 554, -29.7462, 11.8115, 4003,    501.0, 2,   9.6701, 2,  34.7611, 2,  34.7557, 2,    203.9, 1,    212.8, 2,     8.67, 2,    17.62, 2,     0.01, 2,     1.27, 2, -999.000, 9, -999.000, 9, -999.000, 9,   -999.0, 9,   -999.0, 9, -999.0000, 9,   -999.00, -999.000, 9, -999.000,   -999.0, 9,   -999.0,  -999.00, 9,   -999.0,   9.6124, 26.8312,   9.6730, 2, 505.8, 2, 213.51, 2, 0.14, 0.08, 0.01, 0.01, -999, 9,  -999.00, 9, -999, -999, 9, -999
49NZ20031106, A10, 90, 1, 27, 12012, 2, 20031201, 554, -29.7462, 11.8115, 4003,    596.2, 2,   7.9070, 2,  34.5961, 2,  34.5964, 2,    191.5, 1,    199.4, 2,    16.10, 2,    23.04, 2,     0.00, 2,     1.62, 2, -999.000, 9, -999.000, 9, -999.000, 9,   -999.0, 9,   -999.0, 9, -999.0000, 9,   -999.00, -999.000, 9, -999.000,   -999.0, 9,   -999.0,  -999.00, 9,   -999.0,   7.8459, 26.9801,   7.8842, 2, 602.6, 2, 199.12, 2, 0.15, 0.1, 0.01, 0.01, -999, 9,  -999.00, 9, -999, -999, 9, -999
49NZ20031106, A10, 90, 1, 26, 12014, 2, 20031201, 554, -29.7462, 11.8115, 4003,    702.7, 2,   5.9694, 2,  34.4078, 2,  34.4075, 2,    201.0, 1,    209.7, 2,    19.77, 2,    26.92, 2,     0.00, 2,     1.87, 2, -999.000, 9, -999.000, 9, -999.000, 9,   -999.0, 9,   -999.0, 9, -999.0000, 9,   -999.00, -999.000, 9, -999.000,   -999.0, 9,   -999.0,  -999.00, 9,   -999.0,   5.9073, 27.0966,   5.9697, 2, 706.4, 2, 211.7, 2, 0.16, 0.11, 0.01, 0.01, -999, 9,  -999.00, 9, -999, -999, 9, -999
49NZ20031106, A10, 90, 1, 25, 12013, 2, 20031201, 554, -29.7462, 11.8115, 4003,    798.7, 2,   4.8182, 2,  34.3694, 2,  34.3701, 2,    198.7, 1,    207.4, 2,    29.22, 2,    29.63, 2,     0.00, 2,     2.05, 2, -999.000, 9, -999.000, 9, -999.000, 9,   -999.0, 9,   -999.0, 9, -999.0000, 9,   -999.00, -999.000, 9, -999.000,   -999.0, 9,   -999.0,  -999.00, 9,   -999.0,   4.7541, 27.2046,   4.8155, 2, 800.6, 2, 206.94, 2, 0.18, 0.12, 0.01, 0.02, -999, 9,  -999.00, 9, -999, -999, 9, -999
49NZ20031106, A10, 90, 1, 24, 12048, 2, 20031201, 554, -29.7462, 11.8115, 4003,    900.9, 2,   4.2188, 2,  34.3926, 2,  34.3924, 2,    188.4, 1,    196.6, 2,    38.17, 2,    31.37, 2,     0.00, 2,     2.17, 2, -999.000, 9, -999.000, 9, -999.000, 9,   -999.0, 9,   -999.0, 9, -999.0000, 9,   -999.00, -999.000, 9, -999.000,   -999.0, 9,   -999.0,  -999.00, 9,   -999.0,   4.1500, 27.2876,   4.2194, 2, 902.1, 2, 197.59, 2, 0.2, 0.12, 0.01, 0.02, -999, 9,  -999.00, 9, -999, -999, 9, -999
49NZ20031106, A10, 90, 1, 6, 12030, 9, 20031201, 554, -29.7462, 11.8115, 4003,    998.8, 2,   3.8625, 2,  34.4421, 2, -999.0000, 9,    176.9, 1,   -999.0, 9,  -999.00, 9,  -999.00, 9,  -999.00, 9,  -999.00, 9, -999.000, 9, -999.000, 9, -999.000, 9,   -999.0, 9,   -999.0, 9, -999.0000, 9,   -999.00, -999.000, 9, -999.000,   -999.0, 9,   -999.0,  -999.00, 9,   -999.0,   3.7881, 27.3646,   3.8627, 2, 1000.8, 2, 188.81, 2, -999, -999, -999, -999, -999, 9,  -999.00, 9, -999, -999, 9, -999
49NZ20031106, A10, 90, 1, 5, 12029, 9, 20031201, 554, -29.7462, 11.8115, 4003,    999.2, 2,   3.8631, 2,  34.4422, 2, -999.0000, 9,    176.8, 1,   -999.0, 9,  -999.00, 9,  -999.00, 9,  -999.00, 9,  -999.00, 9, -999.000, 9, -999.000, 9, -999.000, 9,   -999.0, 9,   -999.0, 9, -999.0000, 9,   -999.00, -999.000, 9, -999.000,   -999.0, 9,   -999.0,  -999.00, 9,   -999.0,   3.7887, 27.3648,   3.8631, 2, 1001.1, 2, 188.74, 2, -999, -999, -999, -999, -999, 9,  -999.00, 9, -999, -999, 9, -999
49NZ20031106, A10, 90, 1, 7, 12031, 9, 20031201, 554, -29.7462, 11.8115, 4003,    999.3, 2,   3.8627, 2,  34.4421, 2, -999.0000, 9,    176.9, 1,   -999.0, 9,  -999.00, 9,  -999.00, 9,  -999.00, 9,  -999.00, 9, -999.000, 9, -999.000, 9, -999.000, 9,   -999.0, 9,   -999.0, 9, -999.0000, 9,   -999.00, -999.000, 9, -999.000,   -999.0, 9,   -999.0,  -999.00, 9,   -999.0,   3.7883, 27.3646,   3.8624, 2, 1001.2, 2, 188.73, 2, -999, -999, -999, -999, -999, 9,  -999.00, 9, -999, -999, 9, -999
49NZ20031106, A10, 90, 1, 23, 12047, 2, 20031201, 554, -29.7462, 11.8115, 4003,    999.4, 2,   3.8636, 2,  34.4427, 2,  34.4456, 2,    176.7, 1,    183.5, 2,    47.89, 2,    32.56, 2,     0.00, 2,     2.27, 2, -999.000, 9, -999.000, 9, -999.000, 9,   -999.0, 9,   -999.0, 9, -999.0000, 9,   -999.00, -999.000, 9, -999.000,   -999.0, 9,   -999.0,  -999.00, 9,   -999.0,   3.7891, 27.3649,   3.8636, 2, 1001.4, 2, 188.69, 2, 0.22, 0.12, 0.01, 0.02, -999, 9,  -999.00, 9, -999, -999, 9, -999
49NZ20031106, A10, 90, 1, 8, 12032, 9, 20031201, 554, -29.7462, 11.8115, 4003,    999.4, 2,   3.8626, 2,  34.4419, 2, -999.0000, 9,    177.0, 1,   -999.0, 9,  -999.00, 9,  -999.00, 9,  -999.00, 9,  -999.00, 9, -999.000, 9, -999.000, 9, -999.000, 9,   -999.0, 9,   -999.0, 9, -999.0000, 9,   -999.00, -999.000, 9, -999.000,   -999.0, 9,   -999.0,  -999.00, 9,   -999.0,   3.7882, 27.3644,   3.8622, 2, 1001.3, 2, 188.71, 2, -999, -999, -999, -999, -999, 9,  -999.00, 9, -999, -999, 9, -999
49NZ20031106, A10, 90, 1, 22, 12046, 2, 20031201, 554, -29.7462, 11.8115, 4003,   1197.9, 2,   3.2757, 2,  34.5295, 2,  34.5300, 2,    170.2, 1,    177.3, 2,    52.35, 2,    33.09, 2,     0.00, 2,     2.28, 2, -999.000, 9, -999.000, 9, -999.000, 9,   -999.0, 9,   -999.0, 9, -999.0000, 9,   -999.00, -999.000, 9, -999.000,   -999.0, 9,   -999.0,  -999.00, 9,   -999.0,   3.1899, 27.493,   3.2759, 2, 1200.2, 2, 178.54, 2, 0.23, 0.13, 0.01, 0.02, -999, 9,  -999.00, 9, -999, -999, 9, -999
49NZ20031106, A10, 90, 1, 21, 12045, 2, 20031201, 554, -29.7462, 11.8115, 4003,   1399.7, 2,   3.1967, 2,  34.6570, 2,  34.6579, 2,    175.8, 1,    183.1, 2,    50.04, 2,    30.84, 2,     0.00, 2,     2.12, 2, -999.000, 9, -999.000, 9, -999.000, 9,   -999.0, 9,   -999.0, 9, -999.0000, 9,   -999.00, -999.000, 9, -999.000,   -999.0, 9,   -999.0,  -999.00, 9,   -999.0,   3.0948, 27.6033,   3.1966, 2, 1399.9, 2, 183.09, 2, 0.23, 0.12, 0.01, 0.02, -999, 9,  -999.00, 9, -999, -999, 9, -999
49NZ20031106, A10, 90, 1, 20, 12044, 2, 20031201, 554, -29.7462, 11.8115, 4003,   1601.0, 2,   3.1403, 2,  34.7566, 2,  34.7565, 2,    189.2, 1,    197.0, 2,    46.18, 2,    28.26, 2,     0.01, 2,     1.94, 2, -999.000, 9, -999.000, 9, -999.000, 9,   -999.0, 9,   -999.0, 9, -999.0000, 9,   -999.00, -999.000, 9, -999.000,   -999.0, 9,   -999.0,  -999.00, 9,   -999.0,   3.0218, 27.6895,   3.1403, 2, 1601.2, 2, 196.75, 2, 0.22, 0.11, 0.01, 0.01, -999, 9,  -999.00, 9, -999, -999, 9, -999
49NZ20031106, A10, 90, 1, 19, 12043, 2, 20031201, 554, -29.7462, 11.8115, 4003,   1800.2, 2,   3.1532, 2,  34.8202, 2,  34.8203, 2,    200.9, 1,    209.5, 2,    41.13, 2,    26.13, 2,     0.00, 2,     1.78, 2, -999.000, 9, -999.000, 9, -999.000, 9,   -999.0, 9,   -999.0, 9, -999.0000, 9,   -999.00, -999.000, 9, -999.000,   -999.0, 9,   -999.0,  -999.00, 9,   -999.0,   3.0169, 27.7409,   3.1533, 2, 1800.7, 2, 208.44, 2, 0.21, 0.11, 0.01, 0.01, -999, 9,  -999.00, 9, -999, -999, 9, -999
49NZ20031106, A10, 90, 1, 18, 12042, 2, 20031201, 554, -29.7462, 11.8115, 4003,   1997.6, 2,   3.0614, 2,  34.8524, 2,  34.8523, 2,    210.1, 1,    219.1, 2,    39.77, 2,    24.81, 2,    -0.01, 2,     1.69, 2, -999.000, 9, -999.000, 9, -999.000, 9,   -999.0, 9,   -999.0, 9, -999.0000, 9,   -999.00, -999.000, 9, -999.000,   -999.0, 9,   -999.0,  -999.00, 9,   -999.0,   2.9084, 27.7766,   3.0615, 2, 1998.2, 2, 218.49, 2, 0.21, 0.1, 0.01, 0.01, -999, 9,  -999.00, 9, -999, -999, 9, -999
49NZ20031106, A10, 90, 1, 17, 12041, 2, 20031201, 554, -29.7462, 11.8115, 4003,   2200.2, 2,   2.8981, 2,  34.8601, 2,  34.8600, 2,    215.1, 1,    224.5, 2,    41.99, 2,    24.37, 2,     0.00, 2,     1.66, 2, -999.000, 9, -999.000, 9, -999.000, 9,   -999.0, 9,   -999.0, 9, -999.0000, 9,   -999.00, -999.000, 9, -999.000,   -999.0, 9,   -999.0,  -999.00, 9,   -999.0,   2.7289, 27.799,   2.8981, 2, 2201, 2, 223.78, 2, 0.21, 0.1, 0.01, 0.01, -999, 9,  -999.00, 9, -999, -999, 9, -999
49NZ20031106, A10, 90, 1, 16, 12040, 2, 20031201, 554, -29.7462, 11.8115, 4003,   2400.7, 2,   2.7384, 2,  34.8546, 2,  34.8546, 2,    216.5, 1,    225.8, 2,    45.95, 2,    24.56, 2,     0.00, 2,     1.67, 2, -999.000, 9, -999.000, 9, -999.000, 9,   -999.0, 9,   -999.0, 9, -999.0000, 9,   -999.00, -999.000, 9, -999.000,   -999.0, 9,   -999.0,  -999.00, 9,   -999.0,   2.5531, 27.8103,   2.7383, 2, 2399.9, 2, 226.11, 2, 0.22, 0.1, 0.01, 0.01, -999, 9,  -999.00, 9, -999, -999, 9, -999
49NZ20031106, A10, 90, 1, 15, 12039, 2, 20031201, 554, -29.7462, 11.8115, 4003,   2600.0, 2,   2.6524, 2,  34.8617, 2,  34.8619, 2,    220.4, 1,    229.6, 2,    46.34, 2,    24.10, 2,     0.00, 2,     1.64, 2, -999.000, 9, -999.000, 9, -999.000, 9,   -999.0, 9,   -999.0, 9, -999.0000, 9,   -999.00, -999.000, 9, -999.000,   -999.0, 9,   -999.0,  -999.00, 9,   -999.0,   2.4495, 27.8249,   2.6524, 2, 2599.7, 2, 229.63, 2, 0.22, 0.1, 0.01, 0.01, -999, 9,  -999.00, 9, -999, -999, 9, -999
49NZ20031106, A10, 90, 1, 14, 12038, 2, 20031201, 554, -29.7462, 11.8115, 4003,   2799.8, 2,   2.5241, 2,  34.8562, 2,  34.8566, 2,    220.6, 1,    229.8, 2,    50.01, 2,    24.32, 2,    -0.01, 2,     1.66, 2, -999.000, 9, -999.000, 9, -999.000, 9,   -999.0, 9,   -999.0, 9, -999.0000, 9,   -999.00, -999.000, 9, -999.000,   -999.0, 9,   -999.0,  -999.00, 9,   -999.0,   2.3042, 27.8329,   2.5242, 2, 2799.7, 2, 229.78, 2, 0.23, 0.1, 0.01, 0.01, -999, 9,  -999.00, 9, -999, -999, 9, -999
49NZ20031106, A10, 90, 1, 13, 12037, 2, 20031201, 554, -29.7462, 11.8115, 4003,   3000.3, 2,   2.4509, 2,  34.8598, 2,  34.8599, 2,    222.2, 1,    231.2, 2,    51.24, 2,    24.24, 2,     0.00, 2,     1.65, 2, -999.000, 9, -999.000, 9, -999.000, 9,   -999.0, 9,   -999.0, 9, -999.0000, 9,   -999.00, -999.000, 9, -999.000,   -999.0, 9,   -999.0,  -999.00, 9,   -999.0,   2.2124, 27.8436,   2.4508, 2, 3000.2, 2, 231.14, 2, 0.23, 0.1, 0.01, 0.01, -999, 9,  -999.00, 9, -999, -999, 9, -999
49NZ20031106, A10, 90, 1, 12, 12036, 2, 20031201, 554, -29.7462, 11.8115, 4003,   3248.8, 2,   2.3474, 2,  34.8568, 2,  34.8573, 2,    222.5, 1,    231.1, 2,    54.49, 2,    24.31, 2,     0.00, 2,     1.66, 2, -999.000, 9, -999.000, 9, -999.000, 9,   -999.0, 9,   -999.0, 9, -999.0000, 9,   -999.00, -999.000, 9, -999.000,   -999.0, 9,   -999.0,  -999.00, 9,   -999.0,   2.0857, 27.8516,   2.3474, 2, 3249.1, 2, 231.03, 2, 0.24, 0.1, 0.01, 0.01, -999, 9,  -999.00, 9, -999, -999, 9, -999
49NZ20031106, A10, 90, 1, 11, 12035, 2, 20031201, 554, -29.7462, 11.8115, 4003,   3500.0, 2,   2.2753, 2,  34.8534, 2,  34.8534, 2,    222.8, 1,    230.6, 2,    57.32, 2,    24.62, 2,     0.00, 2,     1.67, 2, -999.000, 9, -999.000, 9, -999.000, 9,   -999.0, 9,   -999.0, 9, -999.0000, 9,   -999.00, -999.000, 9, -999.000,   -999.0, 9,   -999.0,  -999.00, 9,   -999.0,   1.9888, 27.8567,   2.2754, 2, 3500.3, 2, 230.8, 2, 0.25, 0.1, 0.01, 0.01, -999, 9,  -999.00, 9, -999, -999, 9, -999
49NZ20031106, A10, 90, 1, 10, 12034, 2, 20031201, 554, -29.7462, 11.8115, 4003,   3750.7, 2,   2.0705, 2,  34.8336, 2,  34.8334, 2,    220.4, 1,    227.4, 2,    65.97, 2,    25.63, 2,     0.00, 2,     1.75, 2, -999.000, 9, -999.000, 9, -999.000, 9,   -999.0, 9,   -999.0, 9, -999.0000, 9,   -999.00, -999.000, 9, -999.000,   -999.0, 9,   -999.0,  -999.00, 9,   -999.0,   1.7623, 27.8584,   2.0705, 2, 3751, 2, 227.59, 2, 0.26, 0.1, 0.01, 0.01, -999, 9,  -999.00, 9, -999, -999, 9, -999
49NZ20031106, A10, 90, 1, 9, 12033, 2, 20031201, 554, -29.7462, 11.8115, 4003,   4052.7, 2,   1.2276, 2,  34.7512, 2,  34.7509, 2,    209.2, 1,    214.1, 2,   100.72, 2,    30.16, 2,     0.01, 2,     2.07, 2, -999.000, 9, -999.000, 9, -999.000, 9,   -999.0, 9,   -999.0, 9, -999.0000, 9,   -999.00, -999.000, 9, -999.000,   -999.0, 9,   -999.0,  -999.00, 9,   -999.0,   0.9103, 27.8523,   1.2294, 2, 4052.7, 2, 213.72, 2, 0.34, 0.12, 0.01, 0.02, -999, 9,  -999.00, 9, -999, -999, 9, -999