BOTTLE,20220818CCHSIOAMB
EXPOCODE,SECT_ID,STNNBR,CASTNO,SAMPNO,BTLNBR,BTLNBR_FLAG_W,DATE,TIME,LATITUDE,LONGITUDE,DEPTH,CTDPRS,CTDPRS_FLAG_W,CTDTMP,CTDTMP_FLAG_W,CTDSAL,CTDSAL_FLAG_W,SALNTY,SALNTY_FLAG_W,CTDOXY,CTDOXY_FLAG_W,OXYGEN,OXYGEN_FLAG_W,SILCAT,SILCAT_FLAG_W,NITRAT,NITRAT_FLAG_W,NITRIT,NITRIT_FLAG_W,PHSPHT,PHSPHT_FLAG_W,CFC-11,CFC-11_FLAG_W,CFC-12,CFC-12_FLAG_W,CFC113,CFC113_FLAG_W,TCARBN,TCARBN_FLAG_W,ALKALI,ALKALI_FLAG_W,PH_TOT,PH_TOT_FLAG_W,PH_TMP,TRITUM,TRITUM_FLAG_W,TRITER,DELC14,DELC14_FLAG_W,C14ERR,DELC13,DELC13_FLAG_W,C13ERR,THETA,SIG0,SBE35,SBE35_FLAG_W,DWNPRS,DWNPRS_FLAG_W,DWNOXY,DWNOXY_FLAG_W,SILUNC,NRAUNC,NRIUNC,PHPUNC,TOC,TOC_FLAG_W,CS-137,CS-137_FLAG_W,CS137ER,PLUTO,PLUTO_FLAG_W,PLUTOER
,,,,,,,,,,,METERS,DBAR,,ITS-90,,PSS-78,,PSS-78,,UMOL/KG,,UMOL/KG,,UMOL/KG,,UMOL/KG,,UMOL/KG,,UMOL/KG,,PMOL/KG,,PMOL/KG,,PMOL/KG,,UMOL/KG,,UMOL/KG,,,,DEG C,TU,,TU,/MILLE,,/MILLE,/MILLE,,/MILLE,DEG C,KG/M^3,ITS-90,,DBAR,,UMOL/KG,,UMOL/KG,UMOL/KG,UMOL/KG,UMOL/KG,UMOL/KG,,BQ/M^3,,BQ/M^3,MBQ/M^3,,MBQ/M^3
49NZ20031106, A10, 32, 1, 36, 12048, 2, 20031114, 2109, -30.0033, -30.4952, 3901,      9.3, 2,  19.7465, 2,  35.9229, 2,  35.9228, 2,    218.3, 1,    230.1, 2,     0.78, 2,     0.04, 2,     0.01, 2,     0.07, 2, -999.000, 9, -999.000, 9, -999.000, 9,   -999.0, 9,   -999.0, 9, -999.0000, 9,   -999.00, -999.000, 9, -999.000,   -999.0, 9,   -999.0,  -999.00, 9,   -999.0,  19.7448, 25.5344,  19.7467, 2, 10.1, 2, 230.2, 2, 0.12, 0.03, 0.01, 0.03, -999, 9,  -999.00, 9, -999, -999, 9, -999
49NZ20031106, A10, 32, 1, 35, 12047, 2, 20031114, 2109, -30.0033, -30.4952, 3901,     48.8, 2,  19.6239, 2,  35.9240, 2,  35.9250, 2,    219.1, 1,    230.7, 2,     0.80, 2,     0.02, 2,     0.00, 2,     0.07, 2, -999.000, 9, -999.000, 9, -999.000, 9,   -999.0, 9,   -999.0, 9, -999.0000, 9,   -999.00, -999.000, 9, -999.000,   -999.0, 9,   -999.0,  -999.00, 9,   -999.0,  19.6150, 25.5733,  19.6206, 2, 41.6, 2, 231.31, 2, 0.12, 0.03, 0.01, 0.03, -999, 9,  -999.00, 9, -999, -999, 9, -999
49NZ20031106, A10, 32, 1, 34, 12046, 2, 20031114, 2109, -30.0033, -30.4952, 3901,    100.2, 2,  18.0623, 2,  35.8348, 2,  35.8343, 2,    222.7, 1,    234.4, 2,     0.78, 2,     0.00, 2,     0.01, 2,     0.10, 2, -999.000, 9, -999.000, 9, -999.000, 9,   -999.0, 9,   -999.0, 9, -999.0000, 9,   -999.00, -999.000, 9, -999.000,   -999.0, 9,   -999.0,  -999.00, 9,   -999.0,  18.0450, 25.9022,  18.0581, 2, 103.5, 2, 234.05, 2, 0.12, 0.03, 0.01, 0.02, -999, 9,  -999.00, 9, -999, -999, 9, -999
49NZ20031106, A10, 32, 1, 33, 12045, 2, 20031114, 2109, -30.0033, -30.4952, 3901,    151.0, 2,  17.1283, 2,  35.7095, 2,  35.7139, 2,    214.1, 1,    226.0, 2,     0.95, 2,     0.53, 2,     0.07, 2,     0.18, 2, -999.000, 9, -999.000, 9, -999.000, 9,   -999.0, 9,   -999.0, 9, -999.0000, 9,   -999.00, -999.000, 9, -999.000,   -999.0, 9,   -999.0,  -999.00, 9,   -999.0,  17.1032, 26.0333,  17.1338, 2, 154, 2, 225.42, 2, 0.12, 0.03, 0.01, 0.02, -999, 9,  -999.00, 9, -999, -999, 9, -999
49NZ20031106, A10, 32, 1, 32, 12044, 2, 20031114, 2109, -30.0033, -30.4952, 3901,    199.7, 2,  15.7055, 2,  35.5293, 2,  35.5330, 2,    208.1, 1,    218.6, 2,     1.32, 2,     2.76, 2,     0.02, 2,     0.35, 2, -999.000, 9, -999.000, 9, -999.000, 9,   -999.0, 9,   -999.0, 9, -999.0000, 9,   -999.00, -999.000, 9, -999.000,   -999.0, 9,   -999.0,  -999.00, 9,   -999.0,  15.6742, 26.2322,  15.6861, 2, 203.4, 2, 217.36, 2, 0.12, 0.04, 0.01, 0.01, -999, 9,  -999.00, 9, -999, -999, 9, -999
49NZ20031106, A10, 32, 1, 31, 12043, 2, 20031114, 2109, -30.0033, -30.4952, 3901,    249.9, 2,  14.6147, 2,  35.4114, 2,  35.4192, 3,    205.2, 1,    214.7, 2,     1.81, 2,     5.39, 2,     0.01, 2,     0.49, 2, -999.000, 9, -999.000, 9, -999.000, 9,   -999.0, 9,   -999.0, 9, -999.0000, 9,   -999.00, -999.000, 9, -999.000,   -999.0, 9,   -999.0,  -999.00, 9,   -999.0,  14.5773, 26.3826,  14.6203, 2, 253.5, 2, 213.54, 2, 0.12, 0.05, 0.01, 0.01, -999, 9,  -999.00, 9, -999, -999, 9, -999
49NZ20031106, A10, 32, 1, 30, 12042, 2, 20031114, 2109, -30.0033, -30.4952, 3901,    299.9, 2,  13.8781, 2,  35.3095, 2,  35.3084, 2,    205.0, 1,    214.5, 2,     2.34, 2,     7.15, 2,     0.01, 2,     0.60, 2, -999.000, 9, -999.000, 9, -999.000, 9,   -999.0, 9,   -999.0, 9, -999.0000, 9,   -999.00, -999.000, 9, -999.000,   -999.0, 9,   -999.0,  -999.00, 9,   -999.0,  13.8347, 26.4615,  13.8772, 2, 303.4, 2, 214.59, 2, 0.12, 0.05, 0.01, 0.01, -999, 9,  -999.00, 9, -999, -999, 9, -999
49NZ20031106, A10, 32, 1, 29, 12041, 2, 20031114, 2109, -30.0033, -30.4952, 3901,    400.5, 2,  12.3008, 2,  35.0982, 2,  35.0978, 2,    202.0, 1,    210.7, 2,     3.69, 2,    11.24, 2,     0.01, 2,     0.85, 2, -999.000, 9, -999.000, 9, -999.000, 9,   -999.0, 9,   -999.0, 9, -999.0000, 9,   -999.00, -999.000, 9, -999.000,   -999.0, 9,   -999.0,  -999.00, 9,   -999.0,  12.2472, 26.6175,  12.3029, 2, 403.1, 2, 210.63, 2, 0.13, 0.06, 0.01, 0.01, -999, 9,  -999.00, 9, -999, -999, 9, -999
49NZ20031106, A10, 32, 1, 28, 12040, 2, 20031114, 2109, -30.0033, -30.4952, 3901,    500.6, 2,  10.6453, 2,  34.8886, 2,  34.8887, 2,    200.3, 1,    208.4, 2,     5.48, 2,    15.44, 2,     0.00, 2,     1.10, 2, -999.000, 9, -999.000, 9, -999.000, 9,   -999.0, 9,   -999.0, 9, -999.0000, 9,   -999.00, -999.000, 9, -999.000,   -999.0, 9,   -999.0,  -999.00, 9,   -999.0,  10.5841, 26.7627,  10.6462, 2, 499.7, 2, 208.13, 2, 0.13, 0.08, 0.01, 0.01, -999, 9,  -999.00, 9, -999, -999, 9, -999
49NZ20031106, A10, 32, 1, 27, 12039, 2, 20031114, 2109, -30.0033, -30.4952, 3901,    601.5, 2,   8.5037, 2,  34.6271, 2,  34.6305, 3,    201.7, 1,    209.0, 2,     8.69, 2,    20.63, 2,     0.01, 2,     1.43, 2, -999.000, 9, -999.000, 9, -999.000, 9,   -999.0, 9,   -999.0, 9, -999.0000, 9,   -999.00, -999.000, 9, -999.000,   -999.0, 9,   -999.0,  -999.00, 9,   -999.0,   8.4393, 26.9147,   8.5023, 2, 598.5, 2, 211.21, 2, 0.14, 0.09, 0.01, 0.01, -999, 9,  -999.00, 9, -999, -999, 9, -999
49NZ20031106, A10, 32, 1, 26, 12038, 2, 20031114, 2109, -30.0033, -30.4952, 3901,    701.7, 2,   6.8945, 2,  34.4622, 2,  34.4622, 2,    206.4, 1,    214.4, 2,    12.14, 2,    24.32, 2,     0.00, 2,     1.67, 2, -999.000, 9, -999.000, 9, -999.000, 9,   -999.0, 9,   -999.0, 9, -999.0000, 9,   -999.00, -999.000, 9, -999.000,   -999.0, 9,   -999.0,  -999.00, 9,   -999.0,   6.8275, 27.0181,   6.8920, 2, 698.1, 2, 216.36, 2, 0.15, 0.1, 0.01, 0.01, -999, 9,  -999.00, 9, -999, -999, 9, -999
49NZ20031106, A10, 32, 1, 25, 12037, 2, 20031114, 2109, -30.0033, -30.4952, 3901,    800.7, 2,   5.3139, 2,  34.3325, 2,  34.3331, 2,    215.8, 1,    224.3, 2,    17.21, 2,    27.25, 2,     0.00, 2,     1.87, 2, -999.000, 9, -999.000, 9, -999.000, 9,   -999.0, 9,   -999.0, 9, -999.0000, 9,   -999.00, -999.000, 9, -999.000,   -999.0, 9,   -999.0,  -999.00, 9,   -999.0,   5.2466, 27.1169,   5.3112, 2, 797.6, 2, 225.65, 2, 0.16, 0.11, 0.01, 0.01, -999, 9,  -999.00, 9, -999, -999, 9, -999
49NZ20031106, A10, 32, 1, 24, 12036, 2, 20031114, 2109, -30.0033, -30.4952, 3901,    899.7, 2,   4.4236, 2,  34.3051, 2,  34.3050, 2,    213.4, 1,    222.1, 2,    24.08, 2,    29.43, 2,     0.00, 2,     2.01, 2, -999.000, 9, -999.000, 9, -999.000, 9,   -999.0, 9,   -999.0, 9, -999.0000, 9,   -999.00, -999.000, 9, -999.000,   -999.0, 9,   -999.0,  -999.00, 9,   -999.0,   4.3536, 27.1959,   4.4236, 2, 900.6, 2, 222.99, 2, 0.17, 0.12, 0.01, 0.02, -999, 9,  -999.00, 9, -999, -999, 9, -999
49NZ20031106, A10, 32, 1, 5, 12017, 9, 20031114, 2109, -30.0033, -30.4952, 3901,    999.4, 2,   3.9102, 2,  34.3181, 2, -999.0000, 9,    206.9, 1,   -999.0, 9,  -999.00, 9,  -999.00, 9,  -999.00, 9,  -999.00, 9, -999.000, 9, -999.000, 9, -999.000, 9,   -999.0, 9,   -999.0, 9, -999.0000, 9,   -999.00, -999.000, 9, -999.000,   -999.0, 9,   -999.0,  -999.00, 9,   -999.0,   3.8356, 27.2603,   3.9101, 2, 998.5, 2, 215.41, 2, -999, -999, -999, -999, -999, 9,  -999.00, 9, -999, -999, 9, -999
49NZ20031106, A10, 32, 1, 6, 12018, 9, 20031114, 2109, -30.0033, -30.4952, 3901,    999.6, 2,   3.9127, 2,  34.3180, 2, -999.0000, 9,    207.0, 1,   -999.0, 9,  -999.00, 9,  -999.00, 9,  -999.00, 9,  -999.00, 9, -999.000, 9, -999.000, 9, -999.000, 9,   -999.0, 9,   -999.0, 9, -999.0000, 9,   -999.00, -999.000, 9, -999.000,   -999.0, 9,   -999.0,  -999.00, 9,   -999.0,   3.8381, 27.2598,   3.9130, 2, 998.6, 2, 215.41, 2, -999, -999, -999, -999, -999, 9,  -999.00, 9, -999, -999, 9, -999
49NZ20031106, A10, 32, 1, 4, 12016, 9, 20031114, 2109, -30.0033, -30.4952, 3901,    999.7, 2,   3.9098, 2,  34.3181, 2, -999.0000, 9,    206.9, 1,   -999.0, 9,  -999.00, 9,  -999.00, 9,  -999.00, 9,  -999.00, 9, -999.000, 9, -999.000, 9, -999.000, 9,   -999.0, 9,   -999.0, 9, -999.0000, 9,   -999.00, -999.000, 9, -999.000,   -999.0, 9,   -999.0,  -999.00, 9,   -999.0,   3.8352, 27.2602,   3.9094, 2, 998.7, 2, 215.42, 2, -999, -999, -999, -999, -999, 9,  -999.00, 9, -999, -999, 9, -999
49NZ20031106, A10, 32, 1, 3, 12012, 9, 20031114, 2109, -30.0033, -30.4952, 3901,    999.7, 2,   3.9098, 2,  34.3181, 2, -999.0000, 9,    206.9, 1,   -999.0, 9,  -999.00, 9,  -999.00, 9,  -999.00, 9,  -999.00, 9, -999.000, 9, -999.000, 9, -999.000, 9,   -999.0, 9,   -999.0, 9, -999.0000, 9,   -999.00, -999.000, 9, -999.000,   -999.0, 9,   -999.0,  -999.00, 9,   -999.0,   3.8352, 27.2601,   3.9093, 2, 998.7, 2, 215.42, 2, -999, -999, -999, -999, -999, 9,  -999.00, 9, -999, -999, 9, -999
49NZ20031106, A10, 32, 1, 2, 12014, 9, 20031114, 2109, -30.0033, -30.4952, 3901,   1000.1, 2,   3.9041, 2,  34.3184, 2, -999.0000, 9,    206.8, 1,   -999.0, 9,  -999.00, 9,  -999.00, 9,  -999.00, 9,  -999.00, 9, -999.000, 9, -999.000, 9, -999.000, 9,   -999.0, 9,   -999.0, 9, -999.0000, 9,   -999.00, -999.000, 9, -999.000,   -999.0, 9,   -999.0,  -999.00, 9,   -999.0,   3.8295, 27.2611,   3.9048, 2, 999.3, 2, 215.38, 2, -999, -999, -999, -999, -999, 9,  -999.00, 9, -999, -999, 9, -999
49NZ20031106, A10, 32, 1, 1, 12013, 9, 20031114, 2109, -30.0033, -30.4952, 3901,   1000.1, 2,   3.9049, 2,  34.3183, 2, -999.0000, 9,    206.9, 1,   -999.0, 9,  -999.00, 9,  -999.00, 9,  -999.00, 9,  -999.00, 9, -999.000, 9, -999.000, 9, -999.000, 9,   -999.0, 9,   -999.0, 9, -999.0000, 9,   -999.00, -999.000, 9, -999.000,   -999.0, 9,   -999.0,  -999.00, 9,   -999.0,   3.8303, 27.2608,   3.9050, 2, 999.2, 2, 215.39, 2, -999, -999, -999, -999, -999, 9,  -999.00, 9, -999, -999, 9, -999
49NZ20031106, A10, 32, 1, 23, 12035, 2, 20031114, 2109, -30.0033, -30.4952, 3901,   1000.7, 2,   3.9012, 2,  34.3184, 2,  34.3186, 2,    206.7, 1,    215.4, 2,    31.02, 2,    30.76, 2,     0.01, 2,     2.12, 2, -999.000, 9, -999.000, 9, -999.000, 9,   -999.0, 9,   -999.0, 9, -999.0000, 9,   -999.00, -999.000, 9, -999.000,   -999.0, 9,   -999.0,  -999.00, 9,   -999.0,   3.8266, 27.2614,   3.9005, 2, 999.8, 2, 215.32, 2, 0.19, 0.12, 0.01, 0.02, -999, 9,  -999.00, 9, -999, -999, 9, -999
49NZ20031106, A10, 32, 1, 22, 12034, 2, 20031114, 2109, -30.0033, -30.4952, 3901,   1200.7, 2,   3.1553, 2,  34.4210, 2,  34.4210, 2,    188.7, 1,    196.5, 2,    46.82, 2,    32.58, 2,    -0.01, 2,     2.24, 2, -999.000, 9, -999.000, 9, -999.000, 9,   -999.0, 9,   -999.0, 9, -999.0000, 9,   -999.00, -999.000, 9, -999.000,   -999.0, 9,   -999.0,  -999.00, 9,   -999.0,   3.0706, 27.4162,   3.1553, 2, 1202.1, 2, 197.43, 2, 0.22, 0.12, 0.01, 0.02, -999, 9,  -999.00, 9, -999, -999, 9, -999
49NZ20031106, A10, 32, 1, 21, 12033, 2, 20031114, 2109, -30.0033, -30.4952, 3901,   1402.0, 2,   2.9716, 2,  34.5564, 2,  34.5558, 2,    181.1, 1,    188.1, 2,    53.91, 2,    32.00, 2,     0.00, 2,     2.20, 2, -999.000, 9, -999.000, 9, -999.000, 9,   -999.0, 9,   -999.0, 9, -999.0000, 9,   -999.00, -999.000, 9, -999.000,   -999.0, 9,   -999.0,  -999.00, 9,   -999.0,   2.8722, 27.5425,   2.9716, 2, 1402.5, 2, 188.57, 2, 0.24, 0.12, 0.01, 0.02, -999, 9,  -999.00, 9, -999, -999, 9, -999
49NZ20031106, A10, 32, 1, 20, 12032, 2, 20031114, 2109, -30.0033, -30.4952, 3901,   1599.7, 2,   2.8761, 2,  34.6669, 2,  34.6671, 2,    186.7, 1,    193.9, 2,    54.21, 2,    30.07, 2,     0.00, 2,     2.07, 2, -999.000, 9, -999.000, 9, -999.000, 9,   -999.0, 9,   -999.0, 9, -999.0000, 9,   -999.00, -999.000, 9, -999.000,   -999.0, 9,   -999.0,  -999.00, 9,   -999.0,   2.7611, 27.6407,   2.8760, 2, 1600.4, 2, 193.72, 2, 0.24, 0.12, 0.01, 0.02, -999, 9,  -999.00, 9, -999, -999, 9, -999
49NZ20031106, A10, 32, 1, 19, 12031, 2, 20031114, 2109, -30.0033, -30.4952, 3901,   1799.0, 2,   2.7883, 2,  34.7387, 2,  34.7383, 2,    196.7, 1,    204.3, 2,    52.71, 2,    28.19, 2,     0.00, 2,     1.93, 2, -999.000, 9, -999.000, 9, -999.000, 9,   -999.0, 9,   -999.0, 9, -999.0000, 9,   -999.00, -999.000, 9, -999.000,   -999.0, 9,   -999.0,  -999.00, 9,   -999.0,   2.6573, 27.7072,   2.7885, 2, 1799.4, 2, 203.87, 2, 0.23, 0.11, 0.01, 0.01, -999, 9,  -999.00, 9, -999, -999, 9, -999
49NZ20031106, A10, 32, 1, 18, 12030, 2, 20031114, 2109, -30.0033, -30.4952, 3901,   2000.5, 2,   2.7585, 2,  34.8010, 2,  34.8014, 2,    208.9, 1,    217.4, 2,    48.50, 2,    26.14, 2,     0.00, 2,     1.78, 2, -999.000, 9, -999.000, 9, -999.000, 9,   -999.0, 9,   -999.0, 9, -999.0000, 9,   -999.00, -999.000, 9, -999.000,   -999.0, 9,   -999.0,  -999.00, 9,   -999.0,   2.6100, 27.7612,   2.7584, 2, 2000.6, 2, 216.71, 2, 0.23, 0.11, 0.01, 0.01, -999, 9,  -999.00, 9, -999, -999, 9, -999
49NZ20031106, A10, 32, 1, 17, 12029, 2, 20031114, 2109, -30.0033, -30.4952, 3901,   2200.7, 2,   2.7560, 2,  34.8400, 2,  34.8398, 2,    218.6, 1,    227.5, 2,    44.34, 2,    24.50, 2,     0.01, 2,     1.66, 2, -999.000, 9, -999.000, 9, -999.000, 9,   -999.0, 9,   -999.0, 9, -999.0000, 9,   -999.00, -999.000, 9, -999.000,   -999.0, 9,   -999.0,  -999.00, 9,   -999.0,   2.5892, 27.7943,   2.7560, 2, 2201, 2, 226.27, 2, 0.22, 0.1, 0.01, 0.01, -999, 9,  -999.00, 9, -999, -999, 9, -999
49NZ20031106, A10, 32, 1, 16, 12028, 2, 20031114, 2109, -30.0033, -30.4952, 3901,   2399.8, 2,   2.7676, 2,  34.8692, 2,  34.8699, 2,    226.5, 1,    235.6, 2,    40.37, 2,    23.21, 2,     0.00, 2,     1.58, 2, -999.000, 9, -999.000, 9, -999.000, 9,   -999.0, 9,   -999.0, 9, -999.0000, 9,   -999.00, -999.000, 9, -999.000,   -999.0, 9,   -999.0,  -999.00, 9,   -999.0,   2.5818, 27.8185,   2.7674, 2, 2400.5, 2, 234.13, 2, 0.21, 0.1, 0.01, 0.01, -999, 9,  -999.00, 9, -999, -999, 9, -999
49NZ20031106, A10, 32, 1, 15, 12027, 2, 20031114, 2109, -30.0033, -30.4952, 3901,   2602.1, 2,   2.7636, 2,  34.8894, 2,  34.8893, 2,    232.4, 1,    241.1, 2,    37.74, 2,    22.28, 2,     0.00, 2,     1.51, 2, -999.000, 9, -999.000, 9, -999.000, 9,   -999.0, 9,   -999.0, 9, -999.0000, 9,   -999.00, -999.000, 9, -999.000,   -999.0, 9,   -999.0,  -999.00, 9,   -999.0,   2.5583, 27.8364,   2.7636, 2, 2602.5, 2, 240.8, 2, 0.2, 0.1, 0.01, 0.01, -999, 9,  -999.00, 9, -999, -999, 9, -999
49NZ20031106, A10, 32, 1, 14, 12026, 2, 20031114, 2109, -30.0033, -30.4952, 3901,   2798.9, 2,   2.7143, 2,  34.8955, 2,  34.8957, 2,    235.2, 1,    244.4, 2,    37.80, 2,    21.93, 2,     0.01, 2,     1.48, 2, -999.000, 9, -999.000, 9, -999.000, 9,   -999.0, 9,   -999.0, 9, -999.0000, 9,   -999.00, -999.000, 9, -999.000,   -999.0, 9,   -999.0,  -999.00, 9,   -999.0,   2.4904, 27.8473,   2.7144, 2, 2799.6, 2, 243.98, 2, 0.2, 0.09, 0.01, 0.01, -999, 9,  -999.00, 9, -999, -999, 9, -999
49NZ20031106, A10, 32, 1, 13, 12025, 2, 20031114, 2109, -30.0033, -30.4952, 3901,   3000.0, 2,   2.6371, 2,  34.8954, 2,  34.8957, 2,    236.8, 1,    245.7, 2,    39.39, 2,    21.91, 2,     0.00, 2,     1.49, 2, -999.000, 9, -999.000, 9, -999.000, 9,   -999.0, 9,   -999.0, 9, -999.0000, 9,   -999.00, -999.000, 9, -999.000,   -999.0, 9,   -999.0,  -999.00, 9,   -999.0,   2.3944, 27.8555,   2.6371, 2, 3000.5, 2, 245.63, 2, 0.21, 0.09, 0.01, 0.01, -999, 9,  -999.00, 9, -999, -999, 9, -999
49NZ20031106, A10, 32, 1, 12, 12024, 2, 20031114, 2109, -30.0033, -30.4952, 3901,   3250.3, 2,   2.4385, 2,  34.8827, 2,  34.8824, 2,    236.6, 1,    245.0, 2,    45.25, 2,    22.49, 2,     0.00, 2,     1.52, 2, -999.000, 9, -999.000, 9, -999.000, 9,   -999.0, 9,   -999.0, 9, -999.0000, 9,   -999.00, -999.000, 9, -999.000,   -999.0, 9,   -999.0,  -999.00, 9,   -999.0,   2.1743, 27.8635,   2.4385, 2, 3251.1, 2, 245.55, 2, 0.22, 0.1, 0.01, 0.01, -999, 9,  -999.00, 9, -999, -999, 9, -999
49NZ20031106, A10, 32, 1, 8, 12020, 9, 20031114, 2109, -30.0033, -30.4952, 3901,   3401.7, 2,   2.2461, 2,  34.8644, 2, -999.0000, 9,    234.5, 1,   -999.0, 9,  -999.00, 9,  -999.00, 9,  -999.00, 9,  -999.00, 9, -999.000, 9, -999.000, 9, -999.000, 9,   -999.0, 9,   -999.0, 9, -999.0000, 9,   -999.00, -999.000, 9, -999.000,   -999.0, 9,   -999.0,  -999.00, 9,   -999.0,   1.9707, 27.8654,   2.2459, 2, 3402.8, 2, 243.32, 2, -999, -999, -999, -999, -999, 9,  -999.00, 9, -999, -999, 9, -999
49NZ20031106, A10, 32, 1, 11, 12023, 2, 20031114, 2109, -30.0033, -30.4952, 3901,   3500.6, 2,   2.1150, 2,  34.8507, 2,  34.8507, 2,    232.4, 1,    239.9, 2,    57.87, 2,    24.06, 2,     0.00, 2,     1.64, 2, -999.000, 9, -999.000, 9, -999.000, 9,   -999.0, 9,   -999.0, 9, -999.0000, 9,   -999.00, -999.000, 9, -999.000,   -999.0, 9,   -999.0,  -999.00, 9,   -999.0,   1.8324, 27.8653,   2.1150, 2, 3501.1, 2, 240.79, 2, 0.25, 0.1, 0.01, 0.01, -999, 9,  -999.00, 9, -999, -999, 9, -999
49NZ20031106, A10, 32, 1, 7, 12019, 9, 20031114, 2109, -30.0033, -30.4952, 3901,   3601.8, 2,   1.9788, 2,  34.8370, 2, -999.0000, 9,    230.7, 1,   -999.0, 9,  -999.00, 9,  -999.00, 9,  -999.00, 9,  -999.00, 9, -999.000, 9, -999.000, 9, -999.000, 9,   -999.0, 9,   -999.0, 9, -999.0000, 9,   -999.00, -999.000, 9, -999.000,   -999.0, 9,   -999.0,  -999.00, 9,   -999.0,   1.6890, 27.8652,   1.9787, 2, 3602.2, 2, 238.12, 2, -999, -999, -999, -999, -999, 9,  -999.00, 9, -999, -999, 9, -999
49NZ20031106, A10, 32, 1, 10, 12022, 2, 20031114, 2109, -30.0033, -30.4952, 3901,   3748.5, 2,   1.8045, 2,  34.8176, 2,  34.8168, 2,    227.6, 1,    234.0, 2,    70.75, 2,    25.88, 2,     0.01, 2,     1.77, 2, -999.000, 9, -999.000, 9, -999.000, 9,   -999.0, 9,   -999.0, 9, -999.0000, 9,   -999.00, -999.000, 9, -999.000,   -999.0, 9,   -999.0,  -999.00, 9,   -999.0,   1.5036, 27.8636,   1.8040, 2, 3748.8, 2, 234.44, 2, 0.27, 0.11, 0.01, 0.01, -999, 9,  -999.00, 9, -999, -999, 9, -999
49NZ20031106, A10, 32, 1, 9, 12015, 2, 20031114, 2109, -30.0033, -30.4952, 3901,   3951.4, 2,   1.3468, 2,  34.7686, 2,  34.7689, 2,    221.0, 1,    225.6, 2,    89.29, 2,    28.36, 2,     0.00, 2,     1.95, 2, -999.000, 9, -999.000, 9, -999.000, 9,   -999.0, 9,   -999.0, 9, -999.0000, 9,   -999.00, -999.000, 9, -999.000,   -999.0, 9,   -999.0,  -999.00, 9,   -999.0,   1.0369, 27.857,   1.3502, 2, 3951.5, 2, 225.58, 2, 0.32, 0.11, 0.01, 0.01, -999, 9,  -999.00, 9, -999, -999, 9, -999