BOTTLE,20220818CCHSIOAMB
EXPOCODE,SECT_ID,STNNBR,CASTNO,SAMPNO,BTLNBR,BTLNBR_FLAG_W,DATE,TIME,LATITUDE,LONGITUDE,DEPTH,CTDPRS,CTDPRS_FLAG_W,CTDTMP,CTDTMP_FLAG_W,CTDSAL,CTDSAL_FLAG_W,SALNTY,SALNTY_FLAG_W,CTDOXY,CTDOXY_FLAG_W,OXYGEN,OXYGEN_FLAG_W,SILCAT,SILCAT_FLAG_W,NITRAT,NITRAT_FLAG_W,NITRIT,NITRIT_FLAG_W,PHSPHT,PHSPHT_FLAG_W,CFC-11,CFC-11_FLAG_W,CFC-12,CFC-12_FLAG_W,CFC113,CFC113_FLAG_W,TCARBN,TCARBN_FLAG_W,ALKALI,ALKALI_FLAG_W,PH_TOT,PH_TOT_FLAG_W,PH_TMP,TRITUM,TRITUM_FLAG_W,TRITER,DELC14,DELC14_FLAG_W,C14ERR,DELC13,DELC13_FLAG_W,C13ERR,THETA,SIG0,SBE35,SBE35_FLAG_W,DWNPRS,DWNPRS_FLAG_W,DWNOXY,DWNOXY_FLAG_W,SILUNC,NRAUNC,NRIUNC,PHPUNC,TOC,TOC_FLAG_W,CS-137,CS-137_FLAG_W,CS137ER,PLUTO,PLUTO_FLAG_W,PLUTOER
,,,,,,,,,,,METERS,DBAR,,ITS-90,,PSS-78,,PSS-78,,UMOL/KG,,UMOL/KG,,UMOL/KG,,UMOL/KG,,UMOL/KG,,UMOL/KG,,PMOL/KG,,PMOL/KG,,PMOL/KG,,UMOL/KG,,UMOL/KG,,,,DEG C,TU,,TU,/MILLE,,/MILLE,/MILLE,,/MILLE,DEG C,KG/M^3,ITS-90,,DBAR,,UMOL/KG,,UMOL/KG,UMOL/KG,UMOL/KG,UMOL/KG,UMOL/KG,,BQ/M^3,,BQ/M^3,MBQ/M^3,,MBQ/M^3
49NZ20031106, A10, 84, 1, 36, 12024, 2, 20031129, 714, -29.7432, 6.7827, 5141,      9.9, 2,  19.0244, 2,  35.8019, 2,  35.8038, 2,    222.0, 1,    234.4, 2,     1.84, 2,     0.00, 2,     0.00, 2,     0.21, 2, -999.000, 9, -999.000, 9, -999.000, 9,   -999.0, 9,   -999.0, 9, -999.0000, 9,   -999.00, -999.000, 9, -999.000,   -999.0, 9,   -999.0,  -999.00, 9,   -999.0,  19.0226, 25.6317,  19.0251, 2, 7.3, 2, 235.66, 2, 0.12, 0.03, 0.01, 0.02, -999, 9,  -999.00, 9, -999, -999, 9, -999
49NZ20031106, A10, 84, 1, 35, 12023, 2, 20031129, 714, -29.7432, 6.7827, 5141,     50.1, 2,  18.5342, 2,  35.7901, 2,  35.7920, 2,    225.3, 1,    238.1, 2,     1.84, 2,    -0.03, 2,     0.00, 2,     0.19, 2, -999.000, 9, -999.000, 9, -999.000, 9,   -999.0, 9,   -999.0, 9, -999.0000, 9,   -999.00, -999.000, 9, -999.000,   -999.0, 9,   -999.0,  -999.00, 9,   -999.0,  18.5254, 25.7487,  18.5349, 2, 49, 2, 238.01, 2, 0.12, 0.03, 0.01, 0.02, -999, 9,  -999.00, 9, -999, -999, 9, -999
49NZ20031106, A10, 84, 1, 34, 12022, 2, 20031129, 714, -29.7432, 6.7827, 5141,    100.5, 2,  16.9991, 2,  35.7034, 2,  35.7035, 2,    222.9, 1,    234.8, 2,     2.12, 2,     0.72, 2,     0.23, 2,     0.27, 2, -999.000, 9, -999.000, 9, -999.000, 9,   -999.0, 9,   -999.0, 9, -999.0000, 9,   -999.00, -999.000, 1, -999.000,   -999.0, 9,   -999.0,  -999.00, 9,   -999.0,  16.9825, 26.0608,  16.9989, 2, 99.2, 2, 234.34, 2, 0.12, 0.03, 0.01, 0.01, -999, 9,     1.54, 2, 0.12, -999, 1, -999
49NZ20031106, A10, 84, 1, 33, 12015, 2, 20031129, 714, -29.7432, 6.7827, 5141,    149.1, 2,  16.0047, 2,  35.5432, 2,  35.5440, 2,    220.7, 1,    232.6, 2,     2.98, 2,     3.44, 2,     0.02, 2,     0.39, 2, -999.000, 9, -999.000, 9, -999.000, 9,   -999.0, 9,   -999.0, 9, -999.0000, 9,   -999.00, -999.000, 9, -999.000,   -999.0, 9,   -999.0,  -999.00, 9,   -999.0,  15.9810, 26.1719,  16.0050, 2, 150.6, 2, 230.99, 2, 0.13, 0.04, 0.01, 0.01, -999, 9,  -999.00, 9, -999, -999, 9, -999
49NZ20031106, A10, 84, 1, 32, 12020, 2, 20031129, 714, -29.7432, 6.7827, 5141,    199.0, 2,  15.3252, 2,  35.4495, 2,  35.4429, 3,    209.5, 1,    219.7, 2,     2.98, 2,     5.21, 2,     0.01, 2,     0.51, 2, -999.000, 9, -999.000, 9, -999.000, 9,   -999.0, 9,   -999.0, 9, -999.0000, 9,   -999.00, -999.000, 1, -999.000,   -999.0, 9,   -999.0,  -999.00, 9,   -999.0,  15.2945, 26.2551,  15.3265, 2, 201.5, 2, 222.39, 2, 0.13, 0.05, 0.01, 0.01, -999, 9,     1.82, 2, 0.19, -999, 1, -999
49NZ20031106, A10, 84, 1, 31, 12019, 3, 20031129, 714, -29.7432, 6.7827, 5141,    249.1, 2,  14.1695, 2,  35.3064, 2,  35.3043, 2,    197.7, 1,    207.5, 2,     3.52, 2,     8.34, 2,     0.02, 2,     0.70, 2, -999.000, 9, -999.000, 9, -999.000, 9,   -999.0, 9,   -999.0, 9, -999.0000, 9,   -999.00, -999.000, 9, -999.000,   -999.0, 9,   -999.0,  -999.00, 9,   -999.0,  14.1330, 26.3969,  14.1726, 2, 248.4, 2, 203.01, 2, 0.13, 0.06, 0.01, 0.01, -999, 9,  -999.00, 9, -999, -999, 9, -999
49NZ20031106, A10, 84, 1, 30, 12018, 2, 20031129, 714, -29.7432, 6.7827, 5141,    298.7, 2,  13.1391, 2,  35.1738, 2,  35.1710, 2,    195.4, 1,    204.9, 2,     4.09, 2,    10.49, 2,     0.01, 2,     0.84, 2, -999.000, 9, -999.000, 9, -999.000, 9,   -999.0, 9,   -999.0, 9, -999.0000, 9,   -999.00, -999.000, 9, -999.000,   -999.0, 9,   -999.0,  -999.00, 9,   -999.0,  13.0975, 26.509,  13.1389, 2, 296.7, 2, 204.86, 2, 0.13, 0.06, 0.01, 0.01, -999, 9,  -999.00, 9, -999, -999, 9, -999
49NZ20031106, A10, 84, 1, 29, 12017, 2, 20031129, 714, -29.7432, 6.7827, 5141,    401.0, 2,  11.5519, 2,  34.9883, 2,  34.9861, 2,    194.8, 1,    203.9, 2,     5.57, 2,    14.08, 2,     0.01, 2,     1.05, 2, -999.000, 9, -999.000, 9, -999.000, 9,   -999.0, 9,   -999.0, 9, -999.0000, 9,   -999.00, -999.000, 1, -999.000,   -999.0, 9,   -999.0,  -999.00, 9,   -999.0,  11.5004, 26.6746,  11.5534, 2, 398.2, 2, 202.75, 2, 0.13, 0.07, 0.01, 0.01, -999, 9,     0.90, 2, 0.13, -999, 1, -999
49NZ20031106, A10, 84, 1, 28, 12016, 2, 20031129, 714, -29.7432, 6.7827, 5141,    500.3, 2,   9.5860, 2,  34.7511, 2,  34.7437, 3,    184.3, 1,    192.2, 2,     9.47, 2,    19.80, 2,     0.01, 2,     1.41, 2, -999.000, 9, -999.000, 9, -999.000, 9,   -999.0, 9,   -999.0, 9, -999.0000, 9,   -999.00, -999.000, 9, -999.000,   -999.0, 9,   -999.0,  -999.00, 9,   -999.0,   9.5287, 26.8388,   9.5755, 2, 501, 2, 193.2, 2, 0.14, 0.09, 0.01, 0.01, -999, 9,  -999.00, 9, -999, -999, 9, -999
49NZ20031106, A10, 84, 1, 27, 12012, 2, 20031129, 714, -29.7432, 6.7827, 5141,    600.2, 2,   7.6823, 2,  34.5565, 2,  34.5546, 2,    183.0, 1,    191.3, 2,    14.05, 2,    24.59, 2,     0.00, 2,     1.71, 2, -999.000, 9, -999.000, 9, -999.000, 9,   -999.0, 9,   -999.0, 9, -999.0000, 9,   -999.00, -999.000, 1, -999.000,   -999.0, 9,   -999.0,  -999.00, 9,   -999.0,   7.6218, 26.9811,   7.6782, 2, 602.5, 2, 190.53, 2, 0.15, 0.1, 0.01, 0.01, -999, 9,  -999.00, 1, -999, -999, 1, -999
49NZ20031106, A10, 84, 1, 2, 12026, 2, 20031129, 714, -29.7432, 6.7827, 5141,    601.0, 2,   7.6937, 2,  34.5573, 2, -999.0000, 9,    183.2, 1,   -999.0, 9,  -999.00, 9,  -999.00, 9,  -999.00, 9,  -999.00, 9, -999.000, 9, -999.000, 9, -999.000, 9,   -999.0, 9,   -999.0, 9, -999.0000, 9,   -999.00, -999.000, 1, -999.000,   -999.0, 9,   -999.0,  -999.00, 9,   -999.0,   7.6331, 26.9806,   7.6877, 2, 602.9, 2, 190.59, 2, -999, -999, -999, -999, -999, 9,  -999.00, 9, -999, -999, 9, -999
49NZ20031106, A10, 84, 1, 26, 12014, 2, 20031129, 714, -29.7432, 6.7827, 5141,    701.7, 2,   6.1801, 2,  34.4324, 2,  34.4294, 2,    184.5, 1,    193.5, 2,    18.58, 2,    28.25, 2,     0.00, 2,     1.94, 2, -999.000, 9, -999.000, 9, -999.000, 9,   -999.0, 9,   -999.0, 9, -999.0000, 9,   -999.00, -999.000, 9, -999.000,   -999.0, 9,   -999.0,  -999.00, 9,   -999.0,   6.1169, 27.0894,   6.1801, 2, 702.3, 2, 197.65, 2, 0.16, 0.11, 0.01, 0.01, -999, 9,  -999.00, 9, -999, -999, 9, -999
49NZ20031106, A10, 84, 1, 25, 12013, 2, 20031129, 714, -29.7432, 6.7827, 5141,    800.6, 2,   4.8921, 2,  34.3490, 2,  34.3489, 2,    200.3, 1,    209.7, 2,    24.71, 2,    29.52, 2,     0.00, 2,     2.03, 2, -999.000, 9, -999.000, 9, -999.000, 9,   -999.0, 9,   -999.0, 9, -999.0000, 9,   -999.00, -999.000, 1, -999.000,   -999.0, 9,   -999.0,  -999.00, 9,   -999.0,   4.8274, 27.1789,   4.8923, 2, 803.8, 2, 205.18, 2, 0.17, 0.12, 0.01, 0.02, -999, 9,     0.54, 2, 0.22, -999, 1, -999
49NZ20031106, A10, 84, 1, 24, 12048, 2, 20031129, 714, -29.7432, 6.7827, 5141,    901.0, 2,   4.2168, 2,  34.3643, 2,  34.3635, 2,    189.8, 1,    198.8, 2,    33.23, 2,    31.55, 2,     0.01, 2,     2.16, 2, -999.000, 9, -999.000, 9, -999.000, 9,   -999.0, 9,   -999.0, 9, -999.0000, 9,   -999.00, -999.000, 9, -999.000,   -999.0, 9,   -999.0,  -999.00, 9,   -999.0,   4.1480, 27.2653,   4.2173, 2, 908.5, 2, 205.1, 2, 0.19, 0.12, 0.01, 0.02, -999, 9,  -999.00, 9, -999, -999, 9, -999
49NZ20031106, A10, 84, 1, 23, 12047, 2, 20031129, 714, -29.7432, 6.7827, 5141,    998.8, 2,   3.7684, 2,  34.3912, 2,  34.3922, 2,    183.5, 1,    192.1, 2,    40.44, 2,    32.65, 2,     0.00, 2,     2.24, 2, -999.000, 9, -999.000, 9, -999.000, 9,   -999.0, 9,   -999.0, 9, -999.0000, 9,   -999.00, -999.000, 1, -999.000,   -999.0, 9,   -999.0,  -999.00, 9,   -999.0,   3.6948, 27.3336,   3.7682, 2, 1002.8, 2, 193.51, 2, 0.21, 0.12, 0.01, 0.02, -999, 9,  -999.00, 1, -999, -999, 1, -999
49NZ20031106, A10, 84, 1, 3, 12027, 2, 20031129, 714, -29.7432, 6.7827, 5141,   1000.3, 2,   3.7701, 2,  34.3911, 2, -999.0000, 9,    183.6, 1,   -999.0, 9,  -999.00, 9,  -999.00, 9,  -999.00, 9,  -999.00, 9, -999.000, 9, -999.000, 9, -999.000, 9,   -999.0, 9,   -999.0, 9, -999.0000, 9,   -999.00, -999.000, 1, -999.000,   -999.0, 9,   -999.0,  -999.00, 9,   -999.0,   3.6964, 27.333,   3.7698, 2, 1004.1, 2, 193.43, 2, -999, -999, -999, -999, -999, 9,  -999.00, 9, -999, -999, 9, -999
49NZ20031106, A10, 84, 1, 22, 12046, 2, 20031129, 714, -29.7432, 6.7827, 5141,   1200.7, 2,   3.3429, 2,  34.5053, 2,  34.5048, 2,    171.3, 1,    179.5, 2,    50.00, 2,    33.11, 2,     0.00, 2,     2.28, 2, -999.000, 9, -999.000, 9, -999.000, 9,   -999.0, 9,   -999.0, 9, -999.0000, 9,   -999.00, -999.000, 1, -999.000,   -999.0, 9,   -999.0,  -999.00, 9,   -999.0,   3.2563, 27.4671,   3.3416, 2, 1203.9, 2, 180.92, 2, 0.23, 0.13, 0.01, 0.02, -999, 9,  -999.00, 5, -999, -999, 1, -999
49NZ20031106, A10, 84, 1, 21, 12045, 2, 20031129, 714, -29.7432, 6.7827, 5141,   1401.7, 2,   3.2573, 2,  34.6249, 2,  34.6276, 3,    174.7, 1,    183.0, 2,    49.17, 2,    31.34, 2,     0.00, 2,     2.15, 2, -999.000, 9, -999.000, 9, -999.000, 9,   -999.0, 9,   -999.0, 9, -999.0000, 9,   -999.00, -999.000, 1, -999.000,   -999.0, 9,   -999.0,  -999.00, 9,   -999.0,   3.1547, 27.5717,   3.2571, 2, 1399.4, 2, 182.34, 2, 0.23, 0.12, 0.01, 0.02, -999, 9,     0.00, 2, 0.03, -999, 1, -999
49NZ20031106, A10, 84, 1, 20, 12044, 2, 20031129, 714, -29.7432, 6.7827, 5141,   1599.9, 2,   2.9561, 2,  34.6780, 2,  34.6793, 2,    178.9, 1,    187.4, 2,    55.75, 2,    30.57, 2,     0.00, 2,     2.10, 2, -999.000, 9, -999.000, 9, -999.000, 9,   -999.0, 9,   -999.0, 9, -999.0000, 9,   -999.00, -999.000, 9, -999.000,   -999.0, 9,   -999.0,  -999.00, 9,   -999.0,   2.8401, 27.6435,   2.9560, 2, 1597.5, 2, 187.66, 2, 0.24, 0.12, 0.01, 0.02, -999, 9,  -999.00, 9, -999, -999, 9, -999
49NZ20031106, A10, 84, 1, 19, 12043, 2, 20031129, 714, -29.7432, 6.7827, 5141,   1800.4, 2,   2.9337, 2,  34.7640, 2,  34.7664, 2,    191.6, 1,    201.5, 2,    50.84, 2,    28.11, 2,     0.00, 2,     1.92, 2, -999.000, 9, -999.000, 9, -999.000, 9,   -999.0, 9,   -999.0, 9, -999.0000, 9,   -999.00, -999.000, 9, -999.000,   -999.0, 9,   -999.0,  -999.00, 9,   -999.0,   2.8005, 27.7156,   2.9335, 2, 1799.5, 2, 200.08, 2, 0.23, 0.11, 0.01, 0.01, -999, 9,  -999.00, 9, -999, -999, 9, -999
49NZ20031106, A10, 84, 1, 18, 12042, 2, 20031129, 714, -29.7432, 6.7827, 5141,   2000.2, 2,   2.7935, 2,  34.7953, 2,  34.7951, 2,    199.1, 1,    209.2, 2,    51.75, 2,    27.06, 2,     0.01, 2,     1.85, 2, -999.000, 9, -999.000, 9, -999.000, 9,   -999.0, 9,   -999.0, 9, -999.0000, 9,   -999.00, -999.000, 1, -999.000,   -999.0, 9,   -999.0,  -999.00, 9,   -999.0,   2.6445, 27.7545,   2.7932, 2, 2000.4, 2, 208.89, 2, 0.23, 0.11, 0.01, 0.01, -999, 9,  -999.00, 1, -999, -999, 1, -999
49NZ20031106, A10, 84, 1, 17, 12041, 2, 20031129, 714, -29.7432, 6.7827, 5141,   2199.0, 2,   2.6927, 2,  34.8271, 2,  34.8274, 2,    207.8, 1,    218.7, 2,    50.38, 2,    25.78, 2,     0.00, 2,     1.76, 2, -999.000, 9, -999.000, 9, -999.000, 9,   -999.0, 9,   -999.0, 9, -999.0000, 9,   -999.00, -999.000, 9, -999.000,   -999.0, 9,   -999.0,  -999.00, 9,   -999.0,   2.5271, 27.7902,   2.6928, 2, 2199, 2, 218.19, 2, 0.23, 0.1, 0.01, 0.01, -999, 9,  -999.00, 9, -999, -999, 9, -999
49NZ20031106, A10, 84, 1, 16, 12040, 2, 20031129, 714, -29.7432, 6.7827, 5141,   2401.7, 2,   2.6337, 2,  34.8396, 2,  34.8398, 2,    211.5, 1,    222.9, 2,    50.33, 2,    25.24, 2,     0.00, 2,     1.73, 2, -999.000, 9, -999.000, 9, -999.000, 9,   -999.0, 9,   -999.0, 9, -999.0000, 9,   -999.00, -999.000, 1, -999.000,   -999.0, 9,   -999.0,  -999.00, 9,   -999.0,   2.4502, 27.8069,   2.6334, 2, 2401.9, 2, 222.35, 2, 0.23, 0.1, 0.01, 0.01, -999, 9,  -999.00, 1, -999, -999, 1, -999
49NZ20031106, A10, 84, 1, 15, 12039, 2, 20031129, 714, -29.7432, 6.7827, 5141,   2600.4, 2,   2.5168, 2,  34.8440, 2,  34.8438, 2,    214.4, 1,    226.0, 2,    52.15, 2,    25.02, 2,     0.00, 2,     1.71, 2, -999.000, 9, -999.000, 9, -999.000, 9,   -999.0, 9,   -999.0, 9, -999.0000, 9,   -999.00, -999.000, 9, -999.000,   -999.0, 9,   -999.0,  -999.00, 9,   -999.0,   2.3165, 27.8217,   2.5166, 2, 2600.4, 2, 226.34, 2, 0.23, 0.1, 0.01, 0.01, -999, 9,  -999.00, 9, -999, -999, 9, -999
49NZ20031106, A10, 84, 1, 14, 12038, 2, 20031129, 714, -29.7432, 6.7827, 5141,   2801.1, 2,   2.4254, 2,  34.8478, 2,  34.8478, 2,    217.0, 1,    228.8, 2,    53.66, 2,    24.81, 2,     0.00, 2,     1.70, 2, -999.000, 9, -999.000, 9, -999.000, 9,   -999.0, 9,   -999.0, 9, -999.0000, 9,   -999.00, -999.000, 9, -999.000,   -999.0, 9,   -999.0,  -999.00, 9,   -999.0,   2.2074, 27.8339,   2.4253, 2, 2800.9, 2, 228.41, 2, 0.24, 0.1, 0.01, 0.01, -999, 9,  -999.00, 9, -999, -999, 9, -999
49NZ20031106, A10, 84, 1, 13, 12037, 2, 20031129, 714, -29.7432, 6.7827, 5141,   2999.5, 2,   2.3555, 2,  34.8512, 2,  34.8515, 2,    218.5, 1,    230.5, 2,    54.79, 2,    24.70, 2,     0.00, 2,     1.69, 2, -999.000, 9, -999.000, 9, -999.000, 9,   -999.0, 9,   -999.0, 9, -999.0000, 9,   -999.00, -999.000, 1, -999.000,   -999.0, 9,   -999.0,  -999.00, 9,   -999.0,   2.1192, 27.844,   2.3554, 2, 2999.2, 2, 230.14, 2, 0.24, 0.1, 0.01, 0.01, -999, 9,     0.03, 2, 0.02, -999, 1, -999
49NZ20031106, A10, 84, 1, 12, 12036, 2, 20031129, 714, -29.7432, 6.7827, 5141,   3249.7, 2,   2.2778, 2,  34.8508, 2,  34.8510, 2,    219.2, 1,    230.7, 2,    57.00, 2,    24.76, 2,     0.00, 2,     1.69, 2, -999.000, 9, -999.000, 9, -999.000, 9,   -999.0, 9,   -999.0, 9, -999.0000, 9,   -999.00, -999.000, 9, -999.000,   -999.0, 9,   -999.0,  -999.00, 9,   -999.0,   2.0176, 27.8518,   2.2777, 2, 3250, 2, 231.02, 2, 0.24, 0.1, 0.01, 0.01, -999, 9,  -999.00, 9, -999, -999, 9, -999
49NZ20031106, A10, 84, 1, 11, 12035, 2, 20031129, 714, -29.7432, 6.7827, 5141,   3502.5, 2,   2.2226, 2,  34.8505, 2,  34.8507, 2,    219.0, 1,    230.8, 2,    58.95, 2,    24.81, 2,     0.01, 2,     1.70, 2, -999.000, 9, -999.000, 9, -999.000, 9,   -999.0, 9,   -999.0, 9, -999.0000, 9,   -999.00, -999.000, 1, -999.000,   -999.0, 9,   -999.0,  -999.00, 9,   -999.0,   1.9371, 27.8581,   2.2225, 2, 3502.9, 2, 231.07, 2, 0.25, 0.1, 0.01, 0.01, -999, 9,  -999.00, 1, -999, -999, 1, -999
49NZ20031106, A10, 84, 1, 10, 12034, 2, 20031129, 714, -29.7432, 6.7827, 5141,   3750.5, 2,   1.9680, 2,  34.8234, 2,  34.8231, 2,    215.3, 1,    226.4, 2,    70.06, 2,    26.28, 2,     0.00, 2,     1.80, 2, -999.000, 9, -999.000, 9, -999.000, 9,   -999.0, 9,   -999.0, 9, -999.0000, 9,   -999.00, -999.000, 9, -999.000,   -999.0, 9,   -999.0,  -999.00, 9,   -999.0,   1.6626, 27.8575,   1.9680, 2, 3751.6, 2, 227.58, 2, 0.27, 0.11, 0.01, 0.01, -999, 9,  -999.00, 9, -999, -999, 9, -999
49NZ20031106, A10, 84, 1, 9, 12033, 2, 20031129, 714, -29.7432, 6.7827, 5141,   4000.3, 2,   1.6581, 2,  34.7910, 2,  34.7907, 2,    211.9, 1,    222.4, 2,    82.95, 2,    27.87, 2,     0.00, 2,     1.90, 2, -999.000, 9, -999.000, 9, -999.000, 9,   -999.0, 9,   -999.0, 9, -999.0000, 9,   -999.00, -999.000, 1, -999.000,   -999.0, 9,   -999.0,  -999.00, 9,   -999.0,   1.3340, 27.8557,   1.6577, 2, 4000.4, 2, 222.57, 2, 0.3, 0.11, 0.01, 0.01, -999, 9,     0.04, 2, 0.02, -999, 1, -999
49NZ20031106, A10, 84, 1, 8, 12032, 2, 20031129, 714, -29.7432, 6.7827, 5141,   4251.8, 2,   1.3059, 2,  34.7556, 2,  34.7556, 2,    209.3, 1,    219.0, 2,    97.11, 2,    29.63, 2,     0.01, 2,     2.03, 2, -999.000, 9, -999.000, 9, -999.000, 9,   -999.0, 9,   -999.0, 9, -999.0000, 9,   -999.00, -999.000, 9, -999.000,   -999.0, 9,   -999.0,  -999.00, 9,   -999.0,   0.9645, 27.8529,   1.3059, 2, 4251.5, 2, 218.93, 2, 0.33, 0.12, 0.01, 0.02, -999, 9,  -999.00, 9, -999, -999, 9, -999
49NZ20031106, A10, 84, 1, 7, 12031, 2, 20031129, 714, -29.7432, 6.7827, 5141,   4501.2, 2,   1.1641, 2,  34.7405, 2,  34.7408, 2,    208.9, 1,    217.8, 2,   103.25, 2,    30.33, 2,     0.01, 2,     2.08, 2, -999.000, 9, -999.000, 9, -999.000, 9,   -999.0, 9,   -999.0, 9, -999.0000, 9,   -999.00, -999.000, 1, -999.000,   -999.0, 9,   -999.0,  -999.00, 9,   -999.0,   0.7991, 27.8517,   1.1639, 2, 4501.3, 2, 217.75, 2, 0.35, 0.12, 0.01, 0.02, -999, 9,  -999.00, 1, -999, -999, 1, -999
49NZ20031106, A10, 84, 1, 6, 12030, 2, 20031129, 714, -29.7432, 6.7827, 5141,   4750.2, 2,   1.1180, 2,  34.7338, 2,  34.7340, 2,    209.5, 1,    217.3, 2,   106.04, 2,    30.61, 2,     0.01, 2,     2.11, 2, -999.000, 9, -999.000, 9, -999.000, 9,   -999.0, 9,   -999.0, 9, -999.0000, 9,   -999.00, -999.000, 1, -999.000,   -999.0, 9,   -999.0,  -999.00, 9,   -999.0,   0.7259, 27.8511,   1.1177, 2, 4750.2, 2, 217.23, 2, 0.35, 0.12, 0.01, 0.02, -999, 9,  -999.00, 1, -999, -999, 1, -999
49NZ20031106, A10, 84, 1, 5, 12029, 2, 20031129, 714, -29.7432, 6.7827, 5141,   5001.1, 2,   1.1216, 2,  34.7316, 2,  34.7316, 2,    210.8, 1,    217.3, 2,   106.89, 2,    30.78, 2,     0.00, 2,     2.12, 2, -999.000, 9, -999.000, 9, -999.000, 9,   -999.0, 9,   -999.0, 9, -999.0000, 9,   -999.00, -999.000, 1, -999.000,   -999.0, 9,   -999.0,  -999.00, 9,   -999.0,   0.6997, 27.8507,   1.1216, 2, 5001.1, 2, 217.24, 2, 0.35, 0.12, 0.01, 0.02, -999, 9,  -999.00, 1, -999, -999, 1, -999
49NZ20031106, A10, 84, 1, 4, 12028, 2, 20031129, 714, -29.7432, 6.7827, 5141,   5213.7, 2,   1.1326, 2,  34.7299, 2,  34.7304, 2,    212.5, 1,    217.3, 2,   107.47, 2,    30.80, 2,     0.01, 2,     2.13, 2, -999.000, 9, -999.000, 9, -999.000, 9,   -999.0, 9,   -999.0, 9, -999.0000, 9,   -999.00, -999.000, 1, -999.000,   -999.0, 9,   -999.0,  -999.00, 9,   -999.0,   0.6846, 27.8505,   1.1326, 2, 5213.7, 2, 217.1, 2, 0.36, 0.12, 0.01, 0.02, -999, 9,  -999.00, 1, -999, -999, 1, -999
49NZ20031106, A10, 84, 1, 1, 12025, 2, 20031129, 714, -29.7432, 6.7827, 5141,   5214.1, 2,   1.1327, 2,  34.7299, 2, -999.0000, 9,    212.6, 1,   -999.0, 9,  -999.00, 9,  -999.00, 9,  -999.00, 9,  -999.00, 9, -999.000, 9, -999.000, 9, -999.000, 9,   -999.0, 9,   -999.0, 9, -999.0000, 9,   -999.00, -999.000, 9, -999.000,   -999.0, 9,   -999.0,  -999.00, 9,   -999.0,   0.6847, 27.8505,   1.1326, 2, 5214.1, 2, 217.08, 2, -999, -999, -999, -999, -999, 9,  -999.00, 9, -999, -999, 9, -999