BOTTLE,20220818CCHSIOAMB
EXPOCODE,SECT_ID,STNNBR,CASTNO,SAMPNO,BTLNBR,BTLNBR_FLAG_W,DATE,TIME,LATITUDE,LONGITUDE,DEPTH,CTDPRS,CTDPRS_FLAG_W,CTDTMP,CTDTMP_FLAG_W,CTDSAL,CTDSAL_FLAG_W,SALNTY,SALNTY_FLAG_W,CTDOXY,CTDOXY_FLAG_W,OXYGEN,OXYGEN_FLAG_W,SILCAT,SILCAT_FLAG_W,NITRAT,NITRAT_FLAG_W,NITRIT,NITRIT_FLAG_W,PHSPHT,PHSPHT_FLAG_W,CFC-11,CFC-11_FLAG_W,CFC-12,CFC-12_FLAG_W,CFC113,CFC113_FLAG_W,TCARBN,TCARBN_FLAG_W,ALKALI,ALKALI_FLAG_W,PH_TOT,PH_TOT_FLAG_W,PH_TMP,TRITUM,TRITUM_FLAG_W,TRITER,DELC14,DELC14_FLAG_W,C14ERR,DELC13,DELC13_FLAG_W,C13ERR,THETA,SIG0,SBE35,SBE35_FLAG_W,DWNPRS,DWNPRS_FLAG_W,DWNOXY,DWNOXY_FLAG_W,SILUNC,NRAUNC,NRIUNC,PHPUNC,TOC,TOC_FLAG_W,CS-137,CS-137_FLAG_W,CS137ER,PLUTO,PLUTO_FLAG_W,PLUTOER
,,,,,,,,,,,METERS,DBAR,,ITS-90,,PSS-78,,PSS-78,,UMOL/KG,,UMOL/KG,,UMOL/KG,,UMOL/KG,,UMOL/KG,,UMOL/KG,,PMOL/KG,,PMOL/KG,,PMOL/KG,,UMOL/KG,,UMOL/KG,,,,DEG C,TU,,TU,/MILLE,,/MILLE,/MILLE,,/MILLE,DEG C,KG/M^3,ITS-90,,DBAR,,UMOL/KG,,UMOL/KG,UMOL/KG,UMOL/KG,UMOL/KG,UMOL/KG,,BQ/M^3,,BQ/M^3,MBQ/M^3,,MBQ/M^3
49NZ20031106, A10, 69, 1, 36, 12024, 2, 20031125, 1756, -30.0113, -3.1623, 4307,     10.7, 2,  19.1826, 2,  35.9038, 2,  35.9048, 2,    221.3, 1,    234.0, 2,     1.82, 2,     0.04, 2,    -0.01, 2,     0.17, 2,    2.726, 2,    1.461, 2,    0.332, 4,   2070.6, 2,   2355.2, 2,    8.0032, 2,     25.00, -999.000, 9, -999.000,   -999.0, 9,   -999.0,  -999.00, 9,   -999.0,  19.1807, 25.6656,  19.2051, 2, 16.1, 2, 234.14, 2, 0.12, 0.03, 0.01, 0.02, -999, 1,  -999.00, 9, -999, -999, 9, -999
49NZ20031106, A10, 69, 1, 2, 12026, 9, 20031125, 1756, -30.0113, -3.1623, 4307,     10.7, 2,  19.1675, 2,  35.9019, 2, -999.0000, 9,    221.8, 1,   -999.0, 9,  -999.00, 9,  -999.00, 9,  -999.00, 9,  -999.00, 9, -999.000, 9, -999.000, 9, -999.000, 9,   -999.0, 9,   -999.0, 9, -999.0000, 9,   -999.00, -999.000, 9, -999.000,   -999.0, 9,   -999.0,  -999.00, 9,   -999.0,  19.1656, 25.6678,  19.1710, 2, 16.2, 2, 234.17, 2, -999, -999, -999, -999, -999, 9,  -999.00, 9, -999, -999, 9, -999
49NZ20031106, A10, 69, 1, 35, 12023, 2, 20031125, 1756, -30.0113, -3.1623, 4307,     50.3, 2,  18.9776, 2,  35.9153, 2,  35.9150, 2,    222.2, 1,    235.1, 2,     1.75, 2,     0.02, 2,    -0.01, 2,     0.16, 2,    2.719, 2,    1.455, 2,    0.316, 4,   2069.9, 6,   2356.1, 2,    8.0036, 2,     25.00, -999.000, 9, -999.000,   -999.0, 9,   -999.0,  -999.00, 9,   -999.0,  18.9686, 25.7309,  18.9765, 2, 47.8, 2, 236.32, 2, 0.12, 0.03, 0.01, 0.02, -999, 1,  -999.00, 9, -999, -999, 9, -999
49NZ20031106, A10, 69, 1, 34, 12022, 2, 20031125, 1756, -30.0113, -3.1623, 4307,    100.6, 2,  17.2943, 2,  35.7663, 2,  35.7649, 2,    231.9, 1,    244.7, 2,     1.88, 2,     0.03, 2,    -0.01, 2,     0.18, 2,    2.909, 2,    1.547, 2,    0.300, 4,   2065.4, 2,   2348.0, 6,    7.9996, 2,     25.00, -999.000, 9, -999.000,   -999.0, 9,   -999.0,  -999.00, 9,   -999.0,  17.2774, 26.0375,  17.2942, 2, 95.7, 2, 240.23, 2, 0.12, 0.03, 0.01, 0.02, -999, 1,  -999.00, 9, -999, -999, 9, -999
49NZ20031106, A10, 69, 1, 33, 12015, 2, 20031125, 1756, -30.0113, -3.1623, 4307,    151.2, 2,  17.1462, 2,  35.7984, 2,  35.7918, 3,    220.5, 1,    232.5, 2,     1.78, 2,     0.57, 2,     0.40, 2,     0.23, 2,    2.870, 2,    1.529, 2,    0.248, 4,   2078.5, 2,   2349.2, 2,    7.9808, 6,     25.00, -999.000, 9, -999.000,   -999.0, 9,   -999.0,  -999.00, 9,   -999.0,  17.1210, 26.1002,  17.1458, 2, 147, 2, 231.76, 2, 0.12, 0.03, 0, 0.02, -999, 1,  -999.00, 9, -999, -999, 9, -999
49NZ20031106, A10, 69, 1, 32, 12020, 2, 20031125, 1756, -30.0113, -3.1623, 4307,    201.1, 2,  15.9270, 2,  35.5871, 2,  35.5872, 2,    209.8, 1,    220.9, 2,     2.27, 2,     3.64, 2,     0.01, 2,     0.40, 2,    3.020, 2,    1.625, 2,    0.197, 4,   2089.2, 2,   2335.7, 2,    7.9394, 2,     25.00, -999.000, 9, -999.000,   -999.0, 9,   -999.0,  -999.00, 9,   -999.0,  15.8951, 26.225,  15.9282, 2, 193.8, 2, 219.68, 2, 0.12, 0.04, 0.01, 0.01, -999, 1,  -999.00, 9, -999, -999, 9, -999
49NZ20031106, A10, 69, 1, 31, 12019, 2, 20031125, 1756, -30.0113, -3.1623, 4307,    250.5, 2,  14.8713, 2,  35.4304, 2,  35.4259, 3,    206.0, 1,    216.5, 2,     2.91, 2,     6.05, 2,     0.01, 2,     0.54, 2,    3.137, 6,    1.684, 6,    0.140, 4,   2097.7, 2,   2327.2, 2,    7.9083, 2,     25.00, -999.000, 9, -999.000,   -999.0, 9,   -999.0,  -999.00, 9,   -999.0,  14.8334, 26.3416,  14.8799, 2, 243.3, 2, 217.15, 2, 0.13, 0.05, 0.01, 0.01, -999, 1,  -999.00, 9, -999, -999, 9, -999
49NZ20031106, A10, 69, 1, 30, 12018, 2, 20031125, 1756, -30.0113, -3.1623, 4307,    301.6, 2,  13.6645, 2,  35.2573, 2,  35.2588, 2,    204.5, 1,    214.7, 2,     3.40, 2,     8.29, 2,     0.00, 2,     0.67, 2,    3.253, 2,    1.720, 2,    0.122, 4,   2105.9, 2,   2317.4, 2,    7.8764, 2,     25.00, -999.000, 9, -999.000,   -999.0, 9,   -999.0,  -999.00, 9,   -999.0,  13.6214, 26.467,  13.6656, 2, 299, 2, 214.56, 2, 0.13, 0.06, 0.01, 0.01, -999, 1,  -999.00, 9, -999, -999, 9, -999
49NZ20031106, A10, 69, 1, 29, 12017, 2, 20031125, 1756, -30.0113, -3.1623, 4307,    401.0, 2,  12.0279, 2,  35.0450, 2,  35.0445, 2,    201.1, 1,    210.6, 2,     4.65, 2,    12.29, 2,     0.01, 2,     0.91, 2,    3.332, 2,    1.714, 2,    0.108, 4,   2121.3, 2,   2306.9, 2,    7.8282, 2,     25.00, -999.000, 9, -999.000,   -999.0, 9,   -999.0,  -999.00, 9,   -999.0,  11.9750, 26.6303,  12.0286, 2, 398.6, 2, 208.99, 2, 0.13, 0.07, 0.01, 0.01, -999, 1,  -999.00, 9, -999, -999, 9, -999
49NZ20031106, A10, 69, 1, 28, 12016, 2, 20031125, 1756, -30.0113, -3.1623, 4307,    500.2, 2,  10.3937, 2,  34.8465, 2,  34.8451, 2,    189.3, 1,    197.8, 2,     7.52, 2,    17.36, 2,    -0.01, 2,     1.24, 2,    3.158, 2,    1.577, 2,    0.110, 4,   2141.6, 2,   2296.8, 2,    7.7676, 2,     25.00, -999.000, 9, -999.000,   -999.0, 9,   -999.0,  -999.00, 9,   -999.0,  10.3335, 26.7758,  10.3943, 2, 501.1, 2, 199.95, 2, 0.14, 0.08, 0.01, 0.01, -999, 1,  -999.00, 9, -999, -999, 9, -999
49NZ20031106, A10, 69, 1, 27, 12012, 2, 20031125, 1756, -30.0113, -3.1623, 4307,    600.1, 2,   8.7453, 2,  34.6621, 2,  34.6613, 2,    181.1, 1,    189.0, 2,    11.61, 2,    22.16, 2,    -0.01, 2,     1.55, 2,    2.829, 2,    1.393, 2,    0.110, 4,   2162.3, 2,   2293.6, 2,    7.7108, 2,     25.00, -999.000, 9, -999.000,   -999.0, 9,   -999.0,  -999.00, 9,   -999.0,   8.6800, 26.9051,   8.7456, 2, 602.8, 2, 192.88, 2, 0.14, 0.09, 0.01, 0.01, -999, 1,  -999.00, 9, -999, -999, 9, -999
49NZ20031106, A10, 69, 1, 26, 12014, 2, 20031125, 1756, -30.0113, -3.1623, 4307,    700.9, 2,   6.6028, 2,  34.4505, 2,  34.4510, 2,    197.1, 1,    205.7, 2,    15.49, 2,    25.97, 2,    -0.01, 2,     1.79, 2,    2.865, 2,    1.393, 2,    0.142, 4,   2169.5, 6,   2290.3, 2,    7.6804, 2,     25.00, -999.000, 9, -999.000,   -999.0, 9,   -999.0,  -999.00, 9,   -999.0,   6.5374, 27.0495,   6.6138, 2, 703, 2, 205.15, 2, 0.15, 0.11, 0.01, 0.01, -999, 1,  -999.00, 9, -999, -999, 9, -999
49NZ20031106, A10, 69, 1, 25, 12013, 2, 20031125, 1756, -30.0113, -3.1623, 4307,    800.6, 2,   5.2231, 2,  34.3494, 2,  34.3501, 2,    204.6, 1,    213.8, 2,    20.74, 2,    28.57, 2,    -0.01, 2,     1.96, 2,    2.722, 2,    1.280, 2,    0.131, 4,   2178.7, 2,   2287.6, 6,    7.6597, 2,     25.00, -999.000, 9, -999.000,   -999.0, 9,   -999.0,  -999.00, 9,   -999.0,   5.1564, 27.1423,   5.2230, 2, 802.5, 2, 214.41, 2, 0.16, 0.11, 0.01, 0.01, -999, 1,  -999.00, 9, -999, -999, 9, -999
49NZ20031106, A10, 69, 1, 24, 12048, 2, 20031125, 1756, -30.0113, -3.1623, 4307,    900.5, 2,   4.3386, 2,  34.3286, 2,  34.3284, 2,    202.3, 1,    211.6, 2,    28.21, 2,    30.47, 2,    -0.01, 2,     2.10, 2,    2.193, 2,    1.016, 2,    0.110, 4,   2191.2, 2,   2292.9, 2,    7.6396, 6,     25.00, -999.000, 9, -999.000,   -999.0, 9,   -999.0,  -999.00, 9,   -999.0,   4.2691, 27.2247,   4.3387, 2, 902.6, 2, 212.38, 2, 0.18, 0.12, 0.01, 0.02, -999, 1,  -999.00, 9, -999, -999, 9, -999
49NZ20031106, A10, 69, 1, 6, 12030, 9, 20031125, 1756, -30.0113, -3.1623, 4307,   1000.6, 2,   3.9073, 2,  34.3563, 2, -999.0000, 9,    193.0, 1,   -999.0, 9,  -999.00, 9,  -999.00, 9,  -999.00, 9,  -999.00, 9, -999.000, 9, -999.000, 9, -999.000, 9,   -999.0, 9,   -999.0, 9, -999.0000, 9,   -999.00, -999.000, 9, -999.000,   -999.0, 9,   -999.0,  -999.00, 9,   -999.0,   3.8326, 27.2921,   3.9072, 2, 1000.8, 2, 202.44, 2, -999, -999, -999, -999, -999, 9,  -999.00, 9, -999, -999, 9, -999
49NZ20031106, A10, 69, 1, 5, 12029, 9, 20031125, 1756, -30.0113, -3.1623, 4307,   1001.1, 2,   3.9069, 2,  34.3564, 2, -999.0000, 9,    193.1, 1,   -999.0, 9,  -999.00, 9,  -999.00, 9,  -999.00, 9,  -999.00, 9, -999.000, 9, -999.000, 9, -999.000, 9,   -999.0, 9,   -999.0, 9, -999.0000, 9,   -999.00, -999.000, 9, -999.000,   -999.0, 9,   -999.0,  -999.00, 9,   -999.0,   3.8321, 27.2922,   3.9071, 2, 1001.2, 2, 202.4, 2, -999, -999, -999, -999, -999, 9,  -999.00, 9, -999, -999, 9, -999
49NZ20031106, A10, 69, 1, 23, 12047, 2, 20031125, 1756, -30.0113, -3.1623, 4307,   1001.3, 2,   3.9066, 2,  34.3564, 2,  34.3562, 2,    193.0, 1,    201.8, 2,    35.41, 2,    31.86, 2,    -0.01, 2,     2.19, 2,    1.636, 6,    0.752, 6,    0.070, 4,   2203.9, 2,   2298.9, 2,    7.6194, 2,     25.00, -999.000, 9, -999.000,   -999.0, 9,   -999.0,  -999.00, 9,   -999.0,   3.8318, 27.2921,   3.9075, 2, 1001.4, 2, 202.38, 2, 0.2, 0.12, 0.01, 0.02, -999, 1,  -999.00, 9, -999, -999, 9, -999
49NZ20031106, A10, 69, 1, 3, 12027, 9, 20031125, 1756, -30.0113, -3.1623, 4307,   1001.5, 2,   3.9065, 2,  34.3565, 2, -999.0000, 9,    192.9, 1,   -999.0, 9,  -999.00, 9,  -999.00, 9,  -999.00, 9,  -999.00, 9, -999.000, 9, -999.000, 9, -999.000, 9,   -999.0, 9,   -999.0, 9, -999.0000, 9,   -999.00, -999.000, 9, -999.000,   -999.0, 9,   -999.0,  -999.00, 9,   -999.0,   3.8317, 27.2922,   3.9070, 2, 1001.6, 2, 202.35, 2, -999, -999, -999, -999, -999, 9,  -999.00, 9, -999, -999, 9, -999
49NZ20031106, A10, 69, 1, 4, 12028, 9, 20031125, 1756, -30.0113, -3.1623, 4307,   1001.8, 2,   3.9060, 2,  34.3566, 2, -999.0000, 9,    193.0, 1,   -999.0, 9,  -999.00, 9,  -999.00, 9,  -999.00, 9,  -999.00, 9, -999.000, 9, -999.000, 9, -999.000, 9,   -999.0, 9,   -999.0, 9, -999.0000, 9,   -999.00, -999.000, 9, -999.000,   -999.0, 9,   -999.0,  -999.00, 9,   -999.0,   3.8312, 27.2924,   3.9059, 2, 1001.9, 2, 202.32, 2, -999, -999, -999, -999, -999, 9,  -999.00, 9, -999, -999, 9, -999
49NZ20031106, A10, 69, 1, 22, 12046, 2, 20031125, 1756, -30.0113, -3.1623, 4307,   1201.0, 2,   3.3050, 2,  34.4567, 2,  34.4567, 2,    178.6, 1,    186.6, 2,    48.89, 2,    33.13, 2,    -0.01, 2,     2.29, 2,    0.726, 2,    0.335, 2,    0.024, 4,   2225.0, 2,   2315.1, 2,    7.6004, 2,     25.00, -999.000, 9, -999.000,   -999.0, 9,   -999.0,  -999.00, 9,   -999.0,   3.2188, 27.4318,   3.3045, 2, 1200.8, 2, 186.99, 2, 0.23, 0.13, 0.01, 0.02, -999, 1,  -999.00, 9, -999, -999, 9, -999
49NZ20031106, A10, 69, 1, 21, 12045, 2, 20031125, 1756, -30.0113, -3.1623, 4307,   1401.5, 2,   3.0400, 2,  34.5773, 2,  34.5790, 3,    175.9, 1,    183.9, 2,    54.74, 2,    32.19, 2,    -0.01, 2,     2.22, 2,    0.270, 2,    0.123, 2,    0.010, 4,   2231.8, 2,   2320.6, 2,    7.6062, 2,     25.00, -999.000, 9, -999.000,   -999.0, 9,   -999.0,  -999.00, 9,   -999.0,   2.9399, 27.5538,   3.0407, 2, 1399.9, 2, 183.83, 2, 0.24, 0.12, 0.01, 0.02, -999, 1,  -999.00, 9, -999, -999, 9, -999
49NZ20031106, A10, 69, 1, 20, 12044, 2, 20031125, 1756, -30.0113, -3.1623, 4307,   1601.1, 2,   2.9249, 2,  34.6920, 2,  34.6921, 2,    184.5, 1,    192.9, 2,    53.95, 2,    29.97, 2,    -0.01, 2,     2.06, 2,    0.092, 2,    0.042, 2,    0.006, 4,   2225.9, 2,   2327.1, 2,    7.6286, 2,     25.00, -999.000, 9, -999.000,   -999.0, 9,   -999.0,  -999.00, 9,   -999.0,   2.8092, 27.6572,   2.9249, 2, 1602, 2, 191.93, 2, 0.24, 0.12, 0.01, 0.02, -999, 1,  -999.00, 9, -999, -999, 9, -999
49NZ20031106, A10, 69, 1, 19, 12043, 2, 20031125, 1756, -30.0113, -3.1623, 4307,   1800.7, 2,   2.7801, 2,  34.7596, 2,  34.7592, 2,    195.4, 1,    204.5, 2,    53.45, 2,    28.13, 2,    -0.01, 2,     1.92, 2,    0.041, 4,    0.016, 4,    0.000, 4,   2219.4, 2,   2333.9, 2,    7.6534, 2,     25.00, -999.000, 9, -999.000,   -999.0, 9,   -999.0,  -999.00, 9,   -999.0,   2.6490, 27.7254,   2.7802, 2, 1801.9, 2, 202.98, 2, 0.24, 0.11, 0.01, 0.01, -999, 1,  -999.00, 9, -999, -999, 9, -999
49NZ20031106, A10, 69, 1, 18, 12042, 2, 20031125, 1756, -30.0113, -3.1623, 4307,   2000.8, 2,   2.6637, 2,  34.7954, 2,  34.7950, 2,    203.7, 1,    213.2, 2,    53.21, 2,    26.83, 2,    -0.01, 2,     1.84, 2,    0.020, 2,    0.009, 2,    0.000, 4,   2215.7, 2,   2330.8, 2,    7.6691, 6,     25.00, -999.000, 9, -999.000,   -999.0, 9,   -999.0,  -999.00, 9,   -999.0,   2.5166, 27.7657,   2.6644, 2, 2001.4, 2, 212.05, 2, 0.24, 0.11, 0.01, 0.01, -999, 1,  -999.00, 9, -999, -999, 9, -999
49NZ20031106, A10, 69, 1, 17, 12041, 2, 20031125, 1756, -30.0113, -3.1623, 4307,   2200.2, 2,   2.5542, 2,  34.8212, 2,  34.8214, 2,    211.1, 1,    221.3, 2,    52.78, 2,    25.81, 2,    -0.01, 2,     1.76, 2,    0.015, 2,    0.003, 2,    0.000, 4,   2210.8, 2,   2333.8, 2,    7.6830, 2,     25.00, -999.000, 9, -999.000,   -999.0, 9,   -999.0,  -999.00, 9,   -999.0,   2.3908, 27.7971,   2.5542, 2, 2200.1, 2, 221, 2, 0.24, 0.11, 0.01, 0.01, -999, 1,  -999.00, 9, -999, -999, 9, -999
49NZ20031106, A10, 69, 1, 16, 12040, 2, 20031125, 1756, -30.0113, -3.1623, 4307,   2400.9, 2,   2.4915, 2,  34.8385, 2,  34.8382, 2,    216.5, 1,    226.9, 2,    51.98, 2,    25.12, 2,    -0.01, 2,     1.70, 2,    0.006, 2,    0.002, 2,    0.000, 4,   2207.4, 6,   2337.2, 2,    7.6948, 2,     25.00, -999.000, 9, -999.000,   -999.0, 9,   -999.0,  -999.00, 9,   -999.0,   2.3107, 27.8176,   2.4916, 2, 2401, 2, 226.45, 2, 0.23, 0.1, 0.01, 0.01, -999, 1,  -999.00, 9, -999, -999, 9, -999
49NZ20031106, A10, 69, 1, 15, 12039, 2, 20031125, 1756, -30.0113, -3.1623, 4307,   2600.2, 2,   2.4361, 2,  34.8509, 2,  34.8509, 2,    220.7, 1,    231.3, 2,    51.41, 2,    24.50, 2,    -0.01, 2,     1.67, 2,    0.001, 2,   -0.001, 2,    0.000, 4,   2203.7, 2,   2335.1, 6,    7.7033, 2,     25.00, -999.000, 9, -999.000,   -999.0, 9,   -999.0,  -999.00, 9,   -999.0,   2.2374, 27.8339,   2.4361, 2, 2599.8, 2, 231.25, 2, 0.23, 0.1, 0.01, 0.01, -999, 1,  -999.00, 9, -999, -999, 9, -999
49NZ20031106, A10, 69, 1, 14, 12038, 2, 20031125, 1756, -30.0113, -3.1623, 4307,   2801.2, 2,   2.4018, 2,  34.8586, 2,  34.8587, 2,    223.2, 1,    233.7, 2,    51.22, 2,    24.17, 2,    -0.01, 2,     1.63, 2,    0.003, 2,    0.000, 2,    0.000, 4,   2203.4, 2,   2338.7, 2,    7.7086, 2,     25.00, -999.000, 9, -999.000,   -999.0, 9,   -999.0,  -999.00, 9,   -999.0,   2.1842, 27.8444,   2.4017, 2, 2800.3, 2, 234.19, 2, 0.23, 0.1, 0.01, 0.01, -999, 1,  -999.00, 9, -999, -999, 9, -999
49NZ20031106, A10, 69, 1, 13, 12037, 2, 20031125, 1756, -30.0113, -3.1623, 4307,   2999.7, 2,   2.3701, 2,  34.8658, 2,  34.8649, 2,    225.0, 1,    235.5, 2,    51.05, 2,    23.88, 2,    -0.01, 2,     1.62, 2,    0.000, 2,   -0.003, 2,    0.000, 4,   2204.1, 2,   2339.3, 2,    7.7124, 2,     25.00, -999.000, 9, -999.000,   -999.0, 9,   -999.0,  -999.00, 9,   -999.0,   2.1334, 27.8543,   2.3703, 2, 2999.2, 2, 235.34, 2, 0.23, 0.1, 0.01, 0.01, -999, 1,  -999.00, 9, -999, -999, 9, -999
49NZ20031106, A10, 69, 1, 12, 12036, 2, 20031125, 1756, -30.0113, -3.1623, 4307,   3251.2, 2,   2.3467, 2,  34.8724, 2,  34.8726, 2,    225.7, 1,    235.8, 2,    51.22, 2,    23.64, 2,    -0.01, 2,     1.61, 2,    0.010, 2,    0.002, 2,    0.000, 4,   2206.0, 2,   2343.6, 2,    7.7177, 2,     25.00, -999.000, 9, -999.000,   -999.0, 9,   -999.0,  -999.00, 9,   -999.0,   2.0846, 27.8637,   2.3468, 2, 3251, 2, 235.75, 2, 0.23, 0.1, 0.01, 0.01, -999, 1,  -999.00, 9, -999, -999, 9, -999
49NZ20031106, A10, 69, 1, 11, 12035, 2, 20031125, 1756, -30.0113, -3.1623, 4307,   3498.6, 2,   2.3467, 2,  34.8774, 2,  34.8771, 2,    225.9, 1,    235.2, 2,    51.47, 2,    23.54, 2,    -0.01, 2,     1.60, 2,   -0.003, 2,   -0.002, 2,    0.000, 4,   2208.9, 2,   2348.0, 2,    7.7189, 2,     25.00, -999.000, 9, -999.000,   -999.0, 9,   -999.0,  -999.00, 9,   -999.0,   2.0584, 27.8698,   2.3467, 2, 3498.6, 2, 235.13, 2, 0.23, 0.1, 0.01, 0.01, -999, 1,  -999.00, 9, -999, -999, 9, -999
49NZ20031106, A10, 69, 1, 10, 12034, 2, 20031125, 1756, -30.0113, -3.1623, 4307,   3750.8, 2,   2.3517, 2,  34.8792, 2,  34.8794, 2,    225.5, 1,    234.1, 2,    51.96, 2,    23.60, 2,    -0.01, 2,     1.60, 2,   -0.007, 2,   -0.004, 2,    0.000, 4,   2209.2, 2,   2348.8, 2,    7.7228, 2,     25.00, -999.000, 9, -999.000,   -999.0, 9,   -999.0,  -999.00, 9,   -999.0,   2.0357, 27.8732,   2.3518, 2, 3750.7, 2, 234, 2, 0.23, 0.1, 0.01, 0.01, -999, 1,  -999.00, 9, -999, -999, 9, -999
49NZ20031106, A10, 69, 1, 9, 12033, 2, 20031125, 1756, -30.0113, -3.1623, 4307,   4001.0, 2,   2.3399, 2,  34.8763, 2,  34.8763, 2,    225.3, 1,    232.9, 2,    53.67, 2,    23.83, 2,    -0.01, 2,     1.60, 2,   -0.001, 2,    0.001, 2,    0.000, 4,   2214.2, 2,   2353.3, 2,    7.7204, 2,     25.00, -999.000, 9, -999.000,   -999.0, 9,   -999.0,  -999.00, 9,   -999.0,   1.9961, 27.874,   2.3400, 2, 4001, 2, 232.87, 2, 0.24, 0.1, 0.01, 0.01, -999, 1,  -999.00, 9, -999, -999, 9, -999
49NZ20031106, A10, 69, 1, 8, 12032, 2, 20031125, 1756, -30.0113, -3.1623, 4307,   4247.0, 2,   2.3005, 2,  34.8687, 2,  34.8687, 2,    225.3, 1,    231.6, 2,    56.59, 2,    24.25, 2,    -0.01, 2,     1.64, 2,    0.002, 2,    0.001, 2,    0.000, 4,   2216.7, 6,   2356.4, 2,    7.7179, 2,     25.00, -999.000, 9, -999.000,   -999.0, 9,   -999.0,  -999.00, 9,   -999.0,   1.9295, 27.8734,   2.3005, 2, 4247.1, 2, 231.65, 2, 0.24, 0.1, 0.01, 0.01, -999, 1,  -999.00, 9, -999, -999, 9, -999
49NZ20031106, A10, 69, 1, 7, 12031, 2, 20031125, 1756, -30.0113, -3.1623, 4307,   4247.6, 2,   2.2998, 2,  34.8685, 2,  34.8688, 2,    225.3, 1,    231.5, 2,    56.64, 2,    24.23, 2,    -0.01, 2,     1.63, 2,    0.015, 2,    0.003, 2,    0.000, 4,   2217.5, 2,   2354.5, 2,    7.7168, 2,     25.00, -999.000, 9, -999.000,   -999.0, 9,   -999.0,  -999.00, 9,   -999.0,   1.9288, 27.8733,   2.2992, 2, 4247.7, 2, 231.62, 2, 0.24, 0.1, 0.01, 0.01, -999, 9,  -999.00, 9, -999, -999, 9, -999
49NZ20031106, A10, 69, 1, 1, 12025, 2, 20031125, 1756, -30.0113, -3.1623, 4307,   4388.6, 2,   2.2733, 2,  34.8635, 2,  34.8640, 2,    225.8, 1,    231.0, 2,    58.61, 2,    24.53, 2,    -0.01, 2,     1.66, 2,    0.002, 2,    0.001, 2,    0.000, 4,   2219.8, 2,   2355.3, 6,    7.7149, 2,     25.00, -999.000, 9, -999.000,   -999.0, 9,   -999.0,  -999.00, 9,   -999.0,   1.8865, 27.8725,   2.2734, 2, 4388.6, 2, 230.4, 2, 0.25, 0.1, 0.01, 0.01, -999, 1,  -999.00, 9, -999, -999, 9, -999