BOTTLE,20220818CCHSIOAMB
EXPOCODE,SECT_ID,STNNBR,CASTNO,SAMPNO,BTLNBR,BTLNBR_FLAG_W,DATE,TIME,LATITUDE,LONGITUDE,DEPTH,CTDPRS,CTDPRS_FLAG_W,CTDTMP,CTDTMP_FLAG_W,CTDSAL,CTDSAL_FLAG_W,SALNTY,SALNTY_FLAG_W,CTDOXY,CTDOXY_FLAG_W,OXYGEN,OXYGEN_FLAG_W,SILCAT,SILCAT_FLAG_W,NITRAT,NITRAT_FLAG_W,NITRIT,NITRIT_FLAG_W,PHSPHT,PHSPHT_FLAG_W,CFC-11,CFC-11_FLAG_W,CFC-12,CFC-12_FLAG_W,CFC113,CFC113_FLAG_W,TCARBN,TCARBN_FLAG_W,ALKALI,ALKALI_FLAG_W,PH_TOT,PH_TOT_FLAG_W,PH_TMP,TRITUM,TRITUM_FLAG_W,TRITER,DELC14,DELC14_FLAG_W,C14ERR,DELC13,DELC13_FLAG_W,C13ERR,THETA,SIG0,SBE35,SBE35_FLAG_W,DWNPRS,DWNPRS_FLAG_W,DWNOXY,DWNOXY_FLAG_W,SILUNC,NRAUNC,NRIUNC,PHPUNC,TOC,TOC_FLAG_W,CS-137,CS-137_FLAG_W,CS137ER,PLUTO,PLUTO_FLAG_W,PLUTOER
,,,,,,,,,,,METERS,DBAR,,ITS-90,,PSS-78,,PSS-78,,UMOL/KG,,UMOL/KG,,UMOL/KG,,UMOL/KG,,UMOL/KG,,UMOL/KG,,PMOL/KG,,PMOL/KG,,PMOL/KG,,UMOL/KG,,UMOL/KG,,,,DEG C,TU,,TU,/MILLE,,/MILLE,/MILLE,,/MILLE,DEG C,KG/M^3,ITS-90,,DBAR,,UMOL/KG,,UMOL/KG,UMOL/KG,UMOL/KG,UMOL/KG,UMOL/KG,,BQ/M^3,,BQ/M^3,MBQ/M^3,,MBQ/M^3
49NZ20031106, A10, 76, 1, 3, 12027, 2, 20031127, 958, -29.6017, 1.7027, 3646,      4.9, 2,  19.3624, 2,  35.9805, 2, -999.0000, 9,    219.9, 1,   -999.0, 9,  -999.00, 9,  -999.00, 9,  -999.00, 9,  -999.00, 9, -999.000, 9, -999.000, 9, -999.000, 9,   -999.0, 9,   -999.0, 9, -999.0000, 9,   -999.00, -999.000, 9, -999.000,   -999.0, 9,   -999.0,  -999.00, 9,   -999.0,  19.3615, 25.6791,  19.3633, 2, 4.9, 2, 233.25, 2, -999, -999, -999, -999, -999, 9,  -999.00, 9, -999, -999, 9, -999
49NZ20031106, A10, 76, 1, 2, 12026, 2, 20031127, 958, -29.6017, 1.7027, 3646,      5.0, 2,  19.3649, 2,  35.9803, 2, -999.0000, 9,    220.0, 1,   -999.0, 9,  -999.00, 9,  -999.00, 9,  -999.00, 9,  -999.00, 9, -999.000, 9, -999.000, 9, -999.000, 9,   -999.0, 9,   -999.0, 9, -999.0000, 9,   -999.00, -999.000, 9, -999.000,   -999.0, 9,   -999.0,  -999.00, 9,   -999.0,  19.3640, 25.6785,  19.3644, 2, 5, 2, 233.24, 2, -999, -999, -999, -999, -999, 9,  -999.00, 9, -999, -999, 9, -999
49NZ20031106, A10, 76, 1, 4, 12028, 9, 20031127, 958, -29.6017, 1.7027, 3646,      5.1, 2,  19.3628, 2,  35.9809, 2, -999.0000, 9,    219.8, 1,   -999.0, 9,  -999.00, 9,  -999.00, 9,  -999.00, 9,  -999.00, 9, -999.000, 9, -999.000, 9, -999.000, 9,   -999.0, 9,   -999.0, 9, -999.0000, 9,   -999.00, -999.000, 9, -999.000,   -999.0, 9,   -999.0,  -999.00, 9,   -999.0,  19.3619, 25.6797,  19.3623, 2, 5.1, 2, 233.24, 2, -999, -999, -999, -999, -999, 9,  -999.00, 9, -999, -999, 9, -999
49NZ20031106, A10, 76, 1, 36, 12024, 2, 20031127, 958, -29.6017, 1.7027, 3646,     10.9, 2,  19.2392, 2,  35.9797, 2,  35.9802, 2,    220.1, 1,    232.7, 2,     1.45, 2,     0.03, 2,    -0.01, 2,     0.22, 2, -999.000, 9, -999.000, 9, -999.000, 9,   -999.0, 9,   -999.0, 9, -999.0000, 9,   -999.00, -999.000, 9, -999.000,   -999.0, 9,   -999.0,  -999.00, 9,   -999.0,  19.2372, 25.7109,  19.2405, 2, 11, 2, 232.63, 2, 0.12, 0.03, 0.01, 0.02, -999, 9,  -999.00, 9, -999, -999, 9, -999
49NZ20031106, A10, 76, 1, 35, 12023, 2, 20031127, 958, -29.6017, 1.7027, 3646,     51.1, 2,  18.9011, 2,  35.9509, 2,  35.9500, 2,    221.7, 1,    234.4, 2,     1.48, 2,     0.01, 2,    -0.01, 2,     0.21, 2, -999.000, 9, -999.000, 9, -999.000, 9,   -999.0, 9,   -999.0, 9, -999.0000, 9,   -999.00, -999.000, 9, -999.000,   -999.0, 9,   -999.0,  -999.00, 9,   -999.0,  18.8920, 25.7783,  18.9012, 2, 50.6, 2, 233.85, 2, 0.12, 0.03, 0.01, 0.02, -999, 9,  -999.00, 9, -999, -999, 9, -999
49NZ20031106, A10, 76, 1, 34, 12022, 2, 20031127, 958, -29.6017, 1.7027, 3646,     99.2, 2,  17.3247, 2,  35.7939, 2,  35.7945, 2,    227.5, 1,    239.1, 2,     1.81, 2,     0.06, 2,     0.09, 2,     0.21, 2, -999.000, 9, -999.000, 9, -999.000, 9,   -999.0, 9,   -999.0, 9, -999.0000, 9,   -999.00, -999.000, 9, -999.000,   -999.0, 9,   -999.0,  -999.00, 9,   -999.0,  17.3081, 26.0521,  17.3248, 2, 101.5, 2, 240.12, 2, 0.12, 0.03, 0.01, 0.02, -999, 9,  -999.00, 9, -999, -999, 9, -999
49NZ20031106, A10, 76, 1, 1, 12025, 2, 20031127, 958, -29.6017, 1.7027, 3646,     99.3, 2,  17.3248, 2,  35.7941, 2, -999.0000, 9,    227.2, 1,   -999.0, 9,  -999.00, 9,  -999.00, 9,  -999.00, 9,  -999.00, 9, -999.000, 9, -999.000, 9, -999.000, 9,   -999.0, 9,   -999.0, 9, -999.0000, 9,   -999.00, -999.000, 9, -999.000,   -999.0, 9,   -999.0,  -999.00, 9,   -999.0,  17.3081, 26.0522,  17.3250, 2, 101.6, 2, 240.11, 2, -999, -999, -999, -999, -999, 9,  -999.00, 9, -999, -999, 9, -999
49NZ20031106, A10, 76, 1, 33, 12015, 2, 20031127, 958, -29.6017, 1.7027, 3646,    149.1, 2,  17.1535, 2,  35.7906, 2,  35.7914, 2,    222.4, 1,    234.3, 2,     1.77, 2,     0.22, 2,     0.58, 2,     0.24, 2, -999.000, 9, -999.000, 9, -999.000, 9,   -999.0, 9,   -999.0, 9, -999.0000, 9,   -999.00, -999.000, 9, -999.000,   -999.0, 9,   -999.0,  -999.00, 9,   -999.0,  17.1286, 26.0932,  17.1539, 2, 150.2, 2, 234.38, 2, 0.12, 0.03, 0, 0.02, -999, 9,  -999.00, 9, -999, -999, 9, -999
49NZ20031106, A10, 76, 1, 32, 12020, 2, 20031127, 958, -29.6017, 1.7027, 3646,    202.9, 2,  16.1659, 2,  35.5866, 2,  35.5875, 2,    221.4, 1,    233.3, 2,     2.31, 2,     2.60, 2,     0.05, 2,     0.35, 2, -999.000, 9, -999.000, 9, -999.000, 9,   -999.0, 9,   -999.0, 9, -999.0000, 9,   -999.00, -999.000, 9, -999.000,   -999.0, 9,   -999.0,  -999.00, 9,   -999.0,  16.1334, 26.1704,  16.1730, 2, 206.9, 2, 232.04, 2, 0.12, 0.04, 0.01, 0.01, -999, 9,  -999.00, 9, -999, -999, 9, -999
49NZ20031106, A10, 76, 1, 31, 12019, 2, 20031127, 958, -29.6017, 1.7027, 3646,    249.1, 2,  15.2304, 2,  35.4708, 2,  35.4668, 2,    207.2, 1,    217.8, 2,     2.68, 2,     5.32, 2,     0.00, 2,     0.52, 2, -999.000, 9, -999.000, 9, -999.000, 9,   -999.0, 9,   -999.0, 9, -999.0000, 9,   -999.00, -999.000, 9, -999.000,   -999.0, 9,   -999.0,  -999.00, 9,   -999.0,  15.1921, 26.2944,  15.2302, 2, 253, 2, 218.38, 2, 0.12, 0.05, 0.01, 0.01, -999, 9,  -999.00, 9, -999, -999, 9, -999
49NZ20031106, A10, 76, 1, 30, 12018, 2, 20031127, 958, -29.6017, 1.7027, 3646,    300.0, 2,  13.6311, 2,  35.2476, 2,  35.2387, 3,    203.9, 1,    214.2, 2,     3.42, 2,     8.50, 2,    -0.01, 2,     0.71, 2, -999.000, 9, -999.000, 9, -999.000, 9,   -999.0, 9,   -999.0, 9, -999.0000, 9,   -999.00, -999.000, 9, -999.000,   -999.0, 9,   -999.0,  -999.00, 9,   -999.0,  13.5883, 26.4676,  13.6279, 2, 301.5, 2, 214.06, 2, 0.13, 0.06, 0.01, 0.01, -999, 9,  -999.00, 9, -999, -999, 9, -999
49NZ20031106, A10, 76, 1, 29, 12017, 2, 20031127, 958, -29.6017, 1.7027, 3646,    401.0, 2,  11.8927, 2,  35.0293, 2,  35.0281, 2,    198.0, 1,    207.1, 2,     4.86, 2,    12.94, 2,    -0.01, 2,     0.98, 2, -999.000, 9, -999.000, 9, -999.000, 9,   -999.0, 9,   -999.0, 9, -999.0000, 9,   -999.00, -999.000, 9, -999.000,   -999.0, 9,   -999.0,  -999.00, 9,   -999.0,  11.8402, 26.6441,  11.8924, 2, 400.1, 2, 210.81, 2, 0.13, 0.07, 0.01, 0.01, -999, 9,  -999.00, 9, -999, -999, 9, -999
49NZ20031106, A10, 76, 1, 28, 12016, 2, 20031127, 958, -29.6017, 1.7027, 3646,    499.2, 2,  10.4001, 2,  34.8458, 2,  34.8398, 3,    191.7, 1,    199.5, 2,     7.28, 2,    17.18, 2,    -0.01, 2,     1.25, 2, -999.000, 9, -999.000, 9, -999.000, 9,   -999.0, 9,   -999.0, 9, -999.0000, 9,   -999.00, -999.000, 9, -999.000,   -999.0, 9,   -999.0,  -999.00, 9,   -999.0,  10.3400, 26.7746,  10.4013, 2, 497.8, 2, 198.97, 2, 0.14, 0.08, 0.01, 0.01, -999, 9,  -999.00, 9, -999, -999, 9, -999
49NZ20031106, A10, 76, 1, 27, 12012, 2, 20031127, 958, -29.6017, 1.7027, 3646,    600.0, 2,   8.5080, 2,  34.6324, 2,  34.6287, 2,    186.6, 1,    194.3, 2,    11.47, 2,    22.29, 2,    -0.01, 2,     1.57, 2, -999.000, 9, -999.000, 9, -999.000, 9,   -999.0, 9,   -999.0, 9, -999.0000, 9,   -999.00, -999.000, 9, -999.000,   -999.0, 9,   -999.0,  -999.00, 9,   -999.0,   8.4438, 26.9194,   8.5067, 2, 598.6, 2, 194.65, 2, 0.14, 0.1, 0.01, 0.01, -999, 9,  -999.00, 9, -999, -999, 9, -999
49NZ20031106, A10, 76, 1, 26, 12014, 2, 20031127, 958, -29.6017, 1.7027, 3646,    701.8, 2,   7.0362, 2,  34.4960, 2,  34.4960, 2,    187.3, 1,    195.0, 2,    15.60, 2,    25.87, 2,    -0.01, 2,     1.80, 2, -999.000, 9, -999.000, 9, -999.000, 9,   -999.0, 9,   -999.0, 9, -999.0000, 9,   -999.00, -999.000, 9, -999.000,   -999.0, 9,   -999.0,  -999.00, 9,   -999.0,   6.9684, 27.027,   7.0367, 2, 699.2, 2, 195.89, 2, 0.15, 0.11, 0.01, 0.01, -999, 9,  -999.00, 9, -999, -999, 9, -999
49NZ20031106, A10, 76, 1, 25, 12013, 2, 20031127, 958, -29.6017, 1.7027, 3646,    800.8, 2,   5.5018, 2,  34.3687, 2,  34.3693, 2,    201.9, 1,    209.9, 2,    19.90, 2,    28.26, 2,    -0.01, 2,     1.95, 2, -999.000, 9, -999.000, 9, -999.000, 9,   -999.0, 9,   -999.0, 9, -999.0000, 9,   -999.00, -999.000, 9, -999.000,   -999.0, 9,   -999.0,  -999.00, 9,   -999.0,   5.4333, 27.1244,   5.5022, 2, 800.2, 2, 207.15, 2, 0.16, 0.11, 0.01, 0.01, -999, 9,  -999.00, 9, -999, -999, 9, -999
49NZ20031106, A10, 76, 1, 24, 12048, 2, 20031127, 958, -29.6017, 1.7027, 3646,    900.4, 2,   4.5977, 2,  34.3406, 2,  34.3414, 2,    200.4, 1,    208.8, 2,    26.86, 2,    30.16, 2,    -0.01, 2,     2.08, 2, -999.000, 9, -999.000, 9, -999.000, 9,   -999.0, 9,   -999.0, 9, -999.0000, 9,   -999.00, -999.000, 9, -999.000,   -999.0, 9,   -999.0,  -999.00, 9,   -999.0,   4.5263, 27.2062,   4.5980, 2, 899.9, 2, 209.33, 2, 0.18, 0.12, 0.01, 0.02, -999, 9,  -999.00, 9, -999, -999, 9, -999
49NZ20031106, A10, 76, 1, 9, 12033, 9, 20031127, 958, -29.6017, 1.7027, 3646,   1000.9, 2,   3.9619, 2,  34.3640, 2, -999.0000, 9,    191.5, 1,   -999.0, 9,  -999.00, 9,  -999.00, 9,  -999.00, 9,  -999.00, 9, -999.000, 9, -999.000, 9, -999.000, 9,   -999.0, 9,   -999.0, 9, -999.0000, 9,   -999.00, -999.000, 9, -999.000,   -999.0, 9,   -999.0,  -999.00, 9,   -999.0,   3.8867, 27.2923,   3.9621, 2, 1000.2, 2, 200.59, 2, -999, -999, -999, -999, -999, 9,  -999.00, 9, -999, -999, 9, -999
49NZ20031106, A10, 76, 1, 8, 12032, 9, 20031127, 958, -29.6017, 1.7027, 3646,   1000.9, 2,   3.9617, 2,  34.3641, 2, -999.0000, 9,    191.5, 1,   -999.0, 9,  -999.00, 9,  -999.00, 9,  -999.00, 9,  -999.00, 9, -999.000, 9, -999.000, 9, -999.000, 9,   -999.0, 9,   -999.0, 9, -999.0000, 9,   -999.00, -999.000, 9, -999.000,   -999.0, 9,   -999.0,  -999.00, 9,   -999.0,   3.8865, 27.2924,   3.9617, 2, 1000.2, 2, 200.6, 2, -999, -999, -999, -999, -999, 9,  -999.00, 9, -999, -999, 9, -999
49NZ20031106, A10, 76, 1, 23, 12047, 2, 20031127, 958, -29.6017, 1.7027, 3646,   1001.2, 2,   3.9607, 2,  34.3641, 2,  34.3657, 2,    191.3, 1,    199.3, 2,    35.96, 2,    31.89, 2,    -0.02, 2,     2.21, 2, -999.000, 9, -999.000, 9, -999.000, 9,   -999.0, 9,   -999.0, 9, -999.0000, 9,   -999.00, -999.000, 9, -999.000,   -999.0, 9,   -999.0,  -999.00, 9,   -999.0,   3.8855, 27.2924,   3.9611, 2, 1000.5, 2, 200.58, 2, 0.2, 0.12, 0.01, 0.02, -999, 9,  -999.00, 9, -999, -999, 9, -999
49NZ20031106, A10, 76, 1, 22, 12046, 2, 20031127, 958, -29.6017, 1.7027, 3646,   1201.1, 2,   3.3232, 2,  34.4793, 2,  34.4815, 2,    175.6, 1,    182.7, 2,    50.10, 2,    33.11, 2,    -0.02, 2,     2.30, 2, -999.000, 9, -999.000, 9, -999.000, 9,   -999.0, 9,   -999.0, 9, -999.0000, 9,   -999.00, -999.000, 9, -999.000,   -999.0, 9,   -999.0,  -999.00, 9,   -999.0,   3.2368, 27.4479,   3.3233, 2, 1200.2, 2, 182.69, 2, 0.23, 0.13, 0.01, 0.02, -999, 9,  -999.00, 9, -999, -999, 9, -999
49NZ20031106, A10, 76, 1, 21, 12045, 2, 20031127, 958, -29.6017, 1.7027, 3646,   1401.6, 2,   3.0283, 2,  34.6478, 2,  34.6495, 2,    178.9, 1,    186.3, 2,    53.69, 2,    30.96, 2,    -0.02, 2,     2.14, 2, -999.000, 9, -999.000, 9, -999.000, 9,   -999.0, 9,   -999.0, 9, -999.0000, 9,   -999.00, -999.000, 9, -999.000,   -999.0, 9,   -999.0,  -999.00, 9,   -999.0,   2.9281, 27.6109,   3.0283, 2, 1399.7, 2, 186.5, 2, 0.24, 0.12, 0.01, 0.02, -999, 9,  -999.00, 9, -999, -999, 9, -999
49NZ20031106, A10, 76, 1, 20, 12044, 2, 20031127, 958, -29.6017, 1.7027, 3646,   1600.3, 2,   2.9400, 2,  34.7634, 2,  34.7640, 2,    194.5, 1,    202.8, 2,    49.36, 2,    27.95, 2,    -0.01, 2,     1.92, 2, -999.000, 9, -999.000, 9, -999.000, 9,   -999.0, 9,   -999.0, 9, -999.0000, 9,   -999.00, -999.000, 9, -999.000,   -999.0, 9,   -999.0,  -999.00, 9,   -999.0,   2.8240, 27.7128,   2.9402, 2, 1600.4, 2, 201.92, 2, 0.23, 0.11, 0.01, 0.01, -999, 9,  -999.00, 9, -999, -999, 9, -999
49NZ20031106, A10, 76, 1, 19, 12043, 2, 20031127, 958, -29.6017, 1.7027, 3646,   1801.3, 2,   2.7760, 2,  34.8081, 2,  34.8079, 2,    204.9, 1,    213.8, 2,    49.35, 2,    26.44, 2,    -0.01, 2,     1.81, 2, -999.000, 9, -999.000, 9, -999.000, 9,   -999.0, 9,   -999.0, 9, -999.0000, 9,   -999.00, -999.000, 9, -999.000,   -999.0, 9,   -999.0,  -999.00, 9,   -999.0,   2.6447, 27.7645,   2.7761, 2, 1801.4, 2, 213.37, 2, 0.23, 0.11, 0.01, 0.01, -999, 9,  -999.00, 9, -999, -999, 9, -999
49NZ20031106, A10, 76, 1, 18, 12042, 2, 20031127, 958, -29.6017, 1.7027, 3646,   2001.2, 2,   2.6329, 2,  34.8312, 2,  34.8315, 2,    212.1, 1,    221.2, 2,    49.88, 2,    25.48, 2,    -0.01, 2,     1.74, 2, -999.000, 9, -999.000, 9, -999.000, 9,   -999.0, 9,   -999.0, 9, -999.0000, 9,   -999.00, -999.000, 9, -999.000,   -999.0, 9,   -999.0,  -999.00, 9,   -999.0,   2.4861, 27.7968,   2.6330, 2, 2002.4, 2, 220.18, 2, 0.23, 0.1, 0.01, 0.01, -999, 9,  -999.00, 9, -999, -999, 9, -999
49NZ20031106, A10, 76, 1, 17, 12041, 2, 20031127, 958, -29.6017, 1.7027, 3646,   2201.0, 2,   2.5145, 2,  34.8413, 2,  34.8410, 2,    216.3, 1,    225.7, 2,    51.07, 2,    25.00, 2,    -0.01, 2,     1.71, 2, -999.000, 9, -999.000, 9, -999.000, 9,   -999.0, 9,   -999.0, 9, -999.0000, 9,   -999.00, -999.000, 9, -999.000,   -999.0, 9,   -999.0,  -999.00, 9,   -999.0,   2.3516, 27.8164,   2.5147, 2, 2201.1, 2, 225.6, 2, 0.23, 0.1, 0.01, 0.01, -999, 9,  -999.00, 9, -999, -999, 9, -999
49NZ20031106, A10, 76, 1, 16, 12040, 2, 20031127, 958, -29.6017, 1.7027, 3646,   2400.8, 2,   2.3941, 2,  34.8474, 2,  34.8467, 2,    220.0, 1,    229.4, 2,    52.83, 2,    24.74, 2,    -0.01, 2,     1.69, 2, -999.000, 9, -999.000, 9, -999.000, 9,   -999.0, 9,   -999.0, 9, -999.0000, 9,   -999.00, -999.000, 9, -999.000,   -999.0, 9,   -999.0,  -999.00, 9,   -999.0,   2.2150, 27.8325,   2.3941, 2, 2401, 2, 229.21, 2, 0.24, 0.1, 0.01, 0.01, -999, 9,  -999.00, 9, -999, -999, 9, -999
49NZ20031106, A10, 76, 1, 15, 12039, 2, 20031127, 958, -29.6017, 1.7027, 3646,   2601.2, 2,   2.3355, 2,  34.8548, 2,  34.8547, 2,    222.7, 1,    232.3, 2,    53.00, 2,    24.37, 2,    -0.02, 2,     1.67, 2, -999.000, 9, -999.000, 9, -999.000, 9,   -999.0, 9,   -999.0, 9, -999.0000, 9,   -999.00, -999.000, 9, -999.000,   -999.0, 9,   -999.0,  -999.00, 9,   -999.0,   2.1386, 27.845,   2.3354, 2, 2601.1, 2, 232.32, 2, 0.24, 0.1, 0.01, 0.01, -999, 9,  -999.00, 9, -999, -999, 9, -999
49NZ20031106, A10, 76, 1, 14, 12038, 2, 20031127, 958, -29.6017, 1.7027, 3646,   2800.3, 2,   2.2830, 2,  34.8614, 2,  34.8613, 2,    224.8, 1,    233.9, 2,    53.47, 2,    24.15, 2,    -0.02, 2,     1.65, 2, -999.000, 9, -999.000, 9, -999.000, 9,   -999.0, 9,   -999.0, 9, -999.0000, 9,   -999.00, -999.000, 9, -999.000,   -999.0, 9,   -999.0,  -999.00, 9,   -999.0,   2.0679, 27.856,   2.2831, 2, 2800.5, 2, 233.78, 2, 0.24, 0.1, 0.01, 0.01, -999, 9,  -999.00, 9, -999, -999, 9, -999
49NZ20031106, A10, 76, 1, 7, 12031, 9, 20031127, 958, -29.6017, 1.7027, 3646,   2901.3, 2,   2.2827, 2,  34.8623, 2, -999.0000, 9,    225.1, 1,   -999.0, 9,  -999.00, 9,  -999.00, 9,  -999.00, 9,  -999.00, 9, -999.000, 9, -999.000, 9, -999.000, 9,   -999.0, 9,   -999.0, 9, -999.0000, 9,   -999.00, -999.000, 9, -999.000,   -999.0, 9,   -999.0,  -999.00, 9,   -999.0,   2.0577, 27.8575,   2.2828, 2, 2901.2, 2, 233.76, 2, -999, -999, -999, -999, -999, 9,  -999.00, 9, -999, -999, 9, -999
49NZ20031106, A10, 76, 1, 13, 12037, 2, 20031127, 958, -29.6017, 1.7027, 3646,   3000.8, 2,   2.2724, 2,  34.8638, 2,  34.8642, 2,    225.3, 1,    234.0, 2,    53.83, 2,    24.06, 2,    -0.01, 2,     1.65, 2, -999.000, 9, -999.000, 9, -999.000, 9,   -999.0, 9,   -999.0, 9, -999.0000, 9,   -999.00, -999.000, 9, -999.000,   -999.0, 9,   -999.0,  -999.00, 9,   -999.0,   2.0377, 27.8605,   2.2726, 2, 3000.7, 2, 234.03, 2, 0.24, 0.1, 0.01, 0.01, -999, 9,  -999.00, 9, -999, -999, 9, -999
49NZ20031106, A10, 76, 1, 6, 12030, 9, 20031127, 958, -29.6017, 1.7027, 3646,   3100.4, 2,   2.2646, 2,  34.8655, 2, -999.0000, 9,    225.5, 1,   -999.0, 9,  -999.00, 9,  -999.00, 9,  -999.00, 9,  -999.00, 9, -999.000, 9, -999.000, 9, -999.000, 9,   -999.0, 9,   -999.0, 9, -999.0000, 9,   -999.00, -999.000, 9, -999.000,   -999.0, 9,   -999.0,  -999.00, 9,   -999.0,   2.0200, 27.8633,   2.2646, 2, 3100.1, 2, 233.82, 2, -999, -999, -999, -999, -999, 9,  -999.00, 9, -999, -999, 9, -999
49NZ20031106, A10, 76, 1, 12, 12036, 2, 20031127, 958, -29.6017, 1.7027, 3646,   3249.8, 2,   2.2596, 2,  34.8695, 2,  34.8695, 2,    225.3, 1,    232.9, 2,    54.14, 2,    23.94, 2,    -0.01, 2,     1.64, 2, -999.000, 9, -999.000, 9, -999.000, 9,   -999.0, 9,   -999.0, 9, -999.0000, 9,   -999.00, -999.000, 9, -999.000,   -999.0, 9,   -999.0,  -999.00, 9,   -999.0,   1.9997, 27.8681,   2.2598, 2, 3249.7, 2, 232.86, 2, 0.24, 0.1, 0.01, 0.01, -999, 9,  -999.00, 9, -999, -999, 9, -999
49NZ20031106, A10, 76, 1, 5, 12029, 9, 20031127, 958, -29.6017, 1.7027, 3646,   3352.0, 2,   2.2459, 2,  34.8709, 2, -999.0000, 9,    225.2, 1,   -999.0, 9,  -999.00, 9,  -999.00, 9,  -999.00, 9,  -999.00, 9, -999.000, 9, -999.000, 9, -999.000, 9,   -999.0, 9,   -999.0, 9, -999.0000, 9,   -999.00, -999.000, 9, -999.000,   -999.0, 9,   -999.0,  -999.00, 9,   -999.0,   1.9757, 27.8713,   2.2461, 2, 3352, 2, 232.52, 2, -999, -999, -999, -999, -999, 9,  -999.00, 9, -999, -999, 9, -999
49NZ20031106, A10, 76, 1, 11, 12035, 2, 20031127, 958, -29.6017, 1.7027, 3646,   3500.5, 2,   2.2709, 2,  34.8766, 2,  34.8772, 2,    225.6, 1,    232.2, 2,    53.66, 2,    23.74, 2,    -0.01, 2,     1.62, 2, -999.000, 9, -999.000, 9, -999.000, 9,   -999.0, 9,   -999.0, 9, -999.0000, 9,   -999.00, -999.000, 9, -999.000,   -999.0, 9,   -999.0,  -999.00, 9,   -999.0,   1.9843, 27.8754,   2.2709, 2, 3500.5, 2, 232.31, 2, 0.24, 0.1, 0.01, 0.01, -999, 9,  -999.00, 9, -999, -999, 9, -999
49NZ20031106, A10, 76, 1, 10, 12034, 2, 20031127, 958, -29.6017, 1.7027, 3646,   3688.9, 2,   2.2631, 2,  34.8734, 2,  34.8733, 2,    226.3, 1,    231.9, 2,    54.88, 2,    23.92, 2,    -0.01, 2,     1.63, 2, -999.000, 9, -999.000, 9, -999.000, 9,   -999.0, 9,   -999.0, 9, -999.0000, 9,   -999.00, -999.000, 9, -999.000,   -999.0, 9,   -999.0,  -999.00, 9,   -999.0,   1.9563, 27.8751,   2.2630, 2, 3688.9, 2, 231.72, 2, 0.24, 0.1, 0.01, 0.01, -999, 9,  -999.00, 9, -999, -999, 9, -999