BOTTLE,20220818CCHSIOAMB
EXPOCODE,SECT_ID,STNNBR,CASTNO,SAMPNO,BTLNBR,BTLNBR_FLAG_W,DATE,TIME,LATITUDE,LONGITUDE,DEPTH,CTDPRS,CTDPRS_FLAG_W,CTDTMP,CTDTMP_FLAG_W,CTDSAL,CTDSAL_FLAG_W,SALNTY,SALNTY_FLAG_W,CTDOXY,CTDOXY_FLAG_W,OXYGEN,OXYGEN_FLAG_W,SILCAT,SILCAT_FLAG_W,NITRAT,NITRAT_FLAG_W,NITRIT,NITRIT_FLAG_W,PHSPHT,PHSPHT_FLAG_W,CFC-11,CFC-11_FLAG_W,CFC-12,CFC-12_FLAG_W,CFC113,CFC113_FLAG_W,TCARBN,TCARBN_FLAG_W,ALKALI,ALKALI_FLAG_W,PH_TOT,PH_TOT_FLAG_W,PH_TMP,TRITUM,TRITUM_FLAG_W,TRITER,DELC14,DELC14_FLAG_W,C14ERR,DELC13,DELC13_FLAG_W,C13ERR,THETA,SIG0,SBE35,SBE35_FLAG_W,DWNPRS,DWNPRS_FLAG_W,DWNOXY,DWNOXY_FLAG_W,SILUNC,NRAUNC,NRIUNC,PHPUNC,TOC,TOC_FLAG_W,CS-137,CS-137_FLAG_W,CS137ER,PLUTO,PLUTO_FLAG_W,PLUTOER
,,,,,,,,,,,METERS,DBAR,,ITS-90,,PSS-78,,PSS-78,,UMOL/KG,,UMOL/KG,,UMOL/KG,,UMOL/KG,,UMOL/KG,,UMOL/KG,,PMOL/KG,,PMOL/KG,,PMOL/KG,,UMOL/KG,,UMOL/KG,,,,DEG C,TU,,TU,/MILLE,,/MILLE,/MILLE,,/MILLE,DEG C,KG/M^3,ITS-90,,DBAR,,UMOL/KG,,UMOL/KG,UMOL/KG,UMOL/KG,UMOL/KG,UMOL/KG,,BQ/M^3,,BQ/M^3,MBQ/M^3,,MBQ/M^3
49NZ20031106, A10, X15, 1, 5, 12041, 9, 20031119, 1622, -30.1078, -19.0010, 4612,      4.6, 2,  20.8582, 2,  36.0488, 2, -999.0000, 9,    215.9, 1,   -999.0, 9,  -999.00, 9,  -999.00, 9,  -999.00, 9,  -999.00, 9, -999.000, 9, -999.000, 9, -999.000, 9,   -999.0, 9,   -999.0, 9, -999.0000, 9,   -999.00, -999.000, 9, -999.000,   -999.0, 9,   -999.0,  -999.00, 9,   -999.0,  20.8573, 25.334,  20.8432, 2, 4.6, 2, 229.07, 2, -999, -999, -999, -999, -999, 9,  -999.00, 9, -999, -999, 9, -999
49NZ20031106, A10, X15, 1, 4, 12040, 2, 20031119, 1622, -30.1078, -19.0010, 4612,      4.6, 2,  20.8631, 2,  36.0490, 2, -999.0000, 9,    215.6, 1,   -999.0, 9,  -999.00, 9,  -999.00, 9,  -999.00, 9,  -999.00, 9, -999.000, 9, -999.000, 9, -999.000, 9,   -999.0, 9,   -999.0, 9, -999.0000, 9,   -999.00, -999.000, 9, -999.000,   -999.0, 9,   -999.0,  -999.00, 9,   -999.0,  20.8622, 25.3337,  20.8547, 2, 4.6, 2, 229.07, 2, -999, -999, -999, -999, -999, 9,  -999.00, 9, -999, -999, 9, -999
49NZ20031106, A10, X15, 1, 3, 12039, 2, 20031119, 1622, -30.1078, -19.0010, 4612,      4.6, 2,  20.8706, 2,  36.0471, 2, -999.0000, 9,    215.8, 1,   -999.0, 9,  -999.00, 9,  -999.00, 9,  -999.00, 9,  -999.00, 9, -999.000, 9, -999.000, 9, -999.000, 9,   -999.0, 9,   -999.0, 9, -999.0000, 9,   -999.00, -999.000, 9, -999.000,   -999.0, 9,   -999.0,  -999.00, 9,   -999.0,  20.8697, 25.3292,  20.8682, 2, 4.6, 2, 229.07, 2, -999, -999, -999, -999, -999, 9,  -999.00, 9, -999, -999, 9, -999
49NZ20031106, A10, X15, 1, 36, 12036, 2, 20031119, 1622, -30.1078, -19.0010, 4612,     10.5, 2,  20.3855, 2,  36.0556, 2,  36.0551, 2,    216.6, 1,    229.0, 2,     1.05, 2,     0.05, 2,     0.00, 2,     0.11, 2,    2.435, 2,    1.416, 2,    0.278, 4,   2070.5, 2,   2364.2, 2,    8.0166, 2,     25.00, -999.000, 9, -999.000,     97.4, 2,      4.0,     1.48, 2,      0.0,  20.3835, 25.4665,  20.3855, 2, 12, 2, 228.97, 2, 0.12, 0.03, 0.01, 0.02, -999, 9,  -999.00, 9, -999, -999, 9, -999
49NZ20031106, A10, X15, 1, 35, 12035, 2, 20031119, 1622, -30.1078, -19.0010, 4612,     51.2, 2,  19.2139, 2,  36.0324, 2,  36.0339, 2,    221.2, 1,    233.5, 2,     1.17, 2,     0.01, 2,    -0.01, 2,     0.14, 2,    2.552, 2,    1.461, 2,    0.311, 4,   2070.2, 6,   2364.3, 2,    8.0122, 2,     25.00, -999.000, 9, -999.000,     80.9, 2,      4.0,     1.49, 2,      0.0,  19.2047, 25.7589,  19.2167, 2, 57.7, 2, 232.85, 2, 0.12, 0.03, 0.01, 0.02, -999, 9,  -999.00, 9, -999, -999, 9, -999
49NZ20031106, A10, X15, 1, 34, 12034, 2, 20031119, 1622, -30.1078, -19.0010, 4612,     99.3, 2,  18.4689, 2,  35.9418, 2,  35.9395, 2,    223.4, 1,    235.7, 2,     1.17, 2,     0.01, 2,     0.01, 2,     0.14, 2,    2.591, 2,    1.511, 2,    0.304, 4,   2068.9, 2,   2360.2, 6,    8.0082, 2,     25.00, -999.000, 9, -999.000,     91.2, 2,      4.0,     1.49, 2,      0.0,  18.4515, 25.8821,  18.4703, 2, 102.1, 2, 236.45, 2, 0.12, 0.03, 0.01, 0.02, -999, 9,  -999.00, 9, -999, -999, 9, -999
49NZ20031106, A10, X15, 1, 33, 12033, 2, 20031119, 1622, -30.1078, -19.0010, 4612,    148.8, 2,  17.8149, 2,  35.8327, 2,  35.8335, 2,    221.0, 1,    232.8, 2,     1.20, 2,     0.03, 2,     0.00, 2,     0.16, 2, -999.000, 9, -999.000, 9, -999.000, 9,   2072.3, 2,   2351.7, 2,    7.9928, 2,     25.00, -999.000, 9, -999.000,     88.7, 2,      4.0,     1.44, 2,      0.0,  17.7894, 25.9637,  17.8128, 2, 148.5, 2, 231.49, 2, 0.12, 0.03, 0.01, 0.02, -999, 9,  -999.00, 9, -999, -999, 9, -999
49NZ20031106, A10, X15, 1, 2, 12038, 2, 20031119, 1622, -30.1078, -19.0010, 4612,    161.1, 2,  17.1823, 2,  35.7414, 2, -999.0000, 9,    218.0, 1,   -999.0, 9,  -999.00, 9,  -999.00, 9,  -999.00, 9,  -999.00, 9, -999.000, 9, -999.000, 9, -999.000, 9,   -999.0, 9,   -999.0, 9, -999.0000, 9,   -999.00, -999.000, 9, -999.000,   -999.0, 9,   -999.0,  -999.00, 9,   -999.0,  17.1554, 26.048,  17.1800, 2, 160.3, 2, 227.9, 2, -999, -999, -999, -999, -999, 9,  -999.00, 9, -999, -999, 9, -999
49NZ20031106, A10, X15, 1, 32, 12032, 2, 20031119, 1622, -30.1078, -19.0010, 4612,    199.9, 2,  15.5043, 2,  35.5040, 2,  35.5057, 2,    207.5, 1,    218.4, 2,     1.66, 2,     3.32, 2,     0.01, 2,     0.39, 2,    3.003, 2,    1.655, 2,    0.157, 4,   2090.2, 2,   2330.0, 2,    7.9280, 2,     25.00, -999.000, 9, -999.000,     83.9, 6,      6.4,     1.21, 6,      0.0,  15.4732, 26.2554,  15.5094, 2, 199.7, 2, 218.59, 2, 0.12, 0.04, 0.01, 0.01, -999, 9,  -999.00, 9, -999, -999, 9, -999
49NZ20031106, A10, X15, 1, 31, 12031, 2, 20031119, 1622, -30.1078, -19.0010, 4612,    249.7, 2,  14.5349, 2,  35.3800, 2,  35.3788, 2,    206.0, 1,    216.1, 2,     2.15, 2,     5.66, 2,     0.01, 2,     0.51, 2,    3.046, 6,    1.662, 6,    0.079, 4,   2099.2, 2,   2325.2, 2,    7.9028, 2,     25.00, -999.000, 9, -999.000,    100.6, 2,      4.0,     1.16, 2,      0.0,  14.4977, 26.3752,  14.5349, 2, 247.9, 2, 216.22, 2, 0.12, 0.05, 0.01, 0.01, -999, 9,  -999.00, 9, -999, -999, 9, -999
49NZ20031106, A10, X15, 1, 30, 12030, 2, 20031119, 1622, -30.1078, -19.0010, 4612,    301.0, 2,  13.7238, 2,  35.2723, 2,  35.2709, 2,    205.8, 1,    215.9, 2,     2.62, 2,     7.52, 2,     0.00, 2,     0.62, 2,    3.197, 2,    1.726, 2,    0.074, 4,   2104.1, 2,   2318.2, 2,    7.8831, 2,     25.00, -999.000, 9, -999.000,     90.2, 2,      3.8,     1.17, 2,      0.0,  13.6806, 26.4647,  13.7233, 2, 299.2, 2, 216.01, 2, 0.12, 0.05, 0.01, 0.01, -999, 9,  -999.00, 9, -999, -999, 9, -999
49NZ20031106, A10, X15, 1, 29, 12029, 2, 20031119, 1622, -30.1078, -19.0010, 4612,    400.5, 2,  12.1230, 2,  35.0660, 2,  35.0707, 2,    202.4, 1,    211.9, 2,     3.84, 2,    11.51, 2,     0.00, 2,     0.86, 2,    3.235, 2,    1.696, 2,    0.078, 4,   2118.4, 2,   2307.4, 2,    7.8383, 2,     25.00, -999.000, 9, -999.000,     78.8, 2,      3.9,     1.15, 2,      0.0,  12.0699, 26.6262,  12.1145, 2, 397.7, 2, 211.74, 2, 0.13, 0.07, 0.01, 0.01, -999, 9,  -999.00, 9, -999, -999, 9, -999
49NZ20031106, A10, X15, 1, 28, 12028, 2, 20031119, 1622, -30.1078, -19.0010, 4612,    500.7, 2,  10.2671, 2,  34.8341, 2,  34.8334, 2,    197.5, 1,    206.1, 2,     6.49, 2,    16.66, 2,     0.00, 2,     1.19, 2,    3.054, 2,    1.557, 2,    0.094, 4,   2134.7, 2,   2297.9, 2,    7.7796, 2,     25.00, -999.000, 9, -999.000,     68.2, 2,      3.8,     1.11, 2,      0.0,  10.2073, 26.7863,  10.2670, 2, 500.2, 2, 205.79, 2, 0.13, 0.08, 0.01, 0.01, -999, 9,  -999.00, 9, -999, -999, 9, -999
49NZ20031106, A10, X15, 1, 27, 12027, 2, 20031119, 1622, -30.1078, -19.0010, 4612,    600.8, 2,   8.1916, 2,  34.6007, 2,  34.6036, 2,    195.3, 1,    203.7, 2,    10.55, 2,    22.05, 2,     0.00, 2,     1.54, 2,    2.949, 2,    1.455, 2,    0.118, 4,   2152.2, 2,   2289.7, 2,    7.7217, 2,     25.00, -999.000, 9, -999.000,     30.9, 2,      3.7,     1.07, 2,      0.0,   8.1287, 26.94,   8.2030, 2, 602.8, 2, 205.63, 2, 0.14, 0.09, 0.01, 0.01, -999, 9,  -999.00, 9, -999, -999, 9, -999
49NZ20031106, A10, X15, 1, 26, 12026, 2, 20031119, 1622, -30.1078, -19.0010, 4612,    699.7, 2,   6.5216, 2,  34.4339, 2,  34.4343, 2,    205.3, 1,    214.3, 2,    13.81, 2,    25.36, 2,     0.00, 2,     1.75, 2,    2.969, 2,    1.442, 2,    0.138, 4,   2161.2, 6,   2287.2, 2,    7.6927, 2,     25.00, -999.000, 9, -999.000,      0.1, 2,      3.8,     1.08, 2,      0.0,   6.4568, 27.0459,   6.5201, 2, 699.4, 2, 214.72, 2, 0.15, 0.1, 0.01, 0.01, -999, 9,  -999.00, 9, -999, -999, 9, -999
49NZ20031106, A10, X15, 1, 25, 12025, 2, 20031119, 1622, -30.1078, -19.0010, 4612,    800.1, 2,   5.2416, 2,  34.3351, 2,  34.3345, 2,    212.5, 1,    222.2, 2,    18.47, 2,    27.77, 2,     0.00, 2,     1.91, 2,    2.880, 2,    1.373, 2,    0.132, 4,   2174.0, 2,   2286.4, 6,    7.6712, 2,     25.00, -999.000, 9, -999.000,    -18.1, 2,      3.7,     1.08, 2,      0.0,   5.1748, 27.1277,   5.2403, 2, 800.2, 2, 221.79, 2, 0.16, 0.11, 0.01, 0.01, -999, 9,  -999.00, 9, -999, -999, 9, -999
49NZ20031106, A10, X15, 1, 24, 12024, 2, 20031119, 1622, -30.1078, -19.0010, 4612,    901.4, 2,   4.3878, 2,  34.3113, 2,  34.3107, 2,    209.8, 1,    219.6, 2,    25.55, 2,    29.79, 2,     0.00, 2,     2.05, 2,    2.301, 2,    1.082, 2,    0.099, 4,   2180.7, 2,   2287.4, 2,    7.6506, 6,     25.00, -999.000, 9, -999.000,    -35.6, 2,      3.5,     1.00, 2,      0.0,   4.3179, 27.2048,   4.3878, 2, 902.5, 2, 219.98, 2, 0.18, 0.12, 0.01, 0.02, -999, 9,  -999.00, 9, -999, -999, 9, -999
49NZ20031106, A10, X15, 1, 23, 12023, 2, 20031119, 1622, -30.1078, -19.0010, 4612,   1001.5, 2,   3.8033, 2,  34.3323, 2,  34.3303, 2,    202.2, 1,    211.7, 2,    33.59, 2,    31.21, 2,     0.00, 2,     2.15, 2,    1.684, 6,    0.806, 6,    0.064, 4,   2197.3, 2,   2296.2, 2,    7.6312, 2,     25.00, -999.000, 9, -999.000,    -61.3, 2,      3.4,     0.92, 2,      0.0,   3.7293, 27.2818,   3.8060, 2, 1002.7, 2, 212.09, 2, 0.19, 0.12, 0.01, 0.02, -999, 9,  -999.00, 9, -999, -999, 9, -999
49NZ20031106, A10, X15, 1, 22, 12022, 2, 20031119, 1622, -30.1078, -19.0010, 4612,   1200.3, 2,   3.1790, 2,  34.4340, 2,  34.4336, 2,    185.7, 1,    194.4, 2,    48.02, 2,    32.76, 2,     0.00, 2,     2.26, 2,    0.707, 2,    0.380, 2,    0.011, 4,   2218.8, 2,   2311.7, 2,    7.6068, 2,     25.00, -999.000, 9, -999.000,   -101.7, 2,      3.5,     0.72, 2,      0.0,   3.0941, 27.4248,   3.1792, 2, 1202.4, 2, 195.66, 2, 0.22, 0.12, 0.01, 0.02, -999, 9,  -999.00, 9, -999, -999, 9, -999
49NZ20031106, A10, X15, 1, 21, 12015, 2, 20031119, 1622, -30.1078, -19.0010, 4612,   1399.8, 2,   2.9584, 2,  34.5544, 2,  34.5544, 2,    180.4, 1,    188.8, 2,    54.74, 2,    32.10, 2,    -0.01, 2,     2.21, 2,    0.289, 2,    0.160, 2,    0.000, 4,   2227.7, 2,   2324.0, 2,    7.6092, 2,     25.00, -999.000, 9, -999.000,   -120.7, 2,      3.4,     0.66, 2,      0.0,   2.8593, 27.5425,   2.9583, 2, 1400.6, 2, 188.69, 2, 0.24, 0.12, 0.01, 0.02, -999, 9,  -999.00, 9, -999, -999, 9, -999
49NZ20031106, A10, X15, 1, 20, 12020, 2, 20031119, 1622, -30.1078, -19.0010, 4612,   1603.3, 2,   2.8219, 2,  34.6569, 2,  34.6569, 2,    185.4, 1,    194.1, 2,    56.31, 2,    30.44, 2,     0.00, 2,     2.09, 2,    0.104, 2,    0.057, 2,    0.000, 4,   2226.2, 2,   2327.7, 2,    7.6265, 2,     25.00, -999.000, 9, -999.000,   -121.0, 2,      3.3,     0.68, 2,      0.0,   2.7073, 27.6381,   2.8219, 2, 1603.3, 2, 193.82, 2, 0.24, 0.12, 0.01, 0.02, -999, 9,  -999.00, 9, -999, -999, 9, -999
49NZ20031106, A10, X15, 1, 19, 12019, 2, 20031119, 1622, -30.1078, -19.0010, 4612,   1800.7, 2,   2.7468, 2,  34.7396, 2,  34.7397, 2,    195.7, 1,    205.0, 2,    54.45, 2,    28.29, 2,    -0.01, 2,     1.94, 2,    0.056, 2,    0.026, 2,    0.000, 4,   2219.4, 2,   2331.4, 2,    7.6508, 2,     25.00, -999.000, 9, -999.000,   -120.1, 2,      3.3,     0.73, 2,      0.0,   2.6162, 27.7121,   2.7468, 2, 1800.7, 2, 204.41, 2, 0.24, 0.11, 0.01, 0.01, -999, 9,  -999.00, 9, -999, -999, 9, -999
49NZ20031106, A10, X15, 1, 1, 12037, 2, 20031119, 1622, -30.1078, -19.0010, 4612,   1998.2, 2,   2.6881, 2,  34.7908, 2,  34.7916, 2,    205.8, 1,    215.8, 2,    51.71, 2,    26.56, 2,     0.00, 2,     1.82, 2,    0.007, 2,    0.003, 2,    0.000, 4,   2211.3, 2,   2333.9, 2,    7.6733, 6,     25.00, -999.000, 9, -999.000,   -113.0, 2,      3.6,     0.79, 2,      0.0,   2.5409, 27.7598,   2.6882, 2, 1997.8, 2, 215.47, 2, 0.23, 0.11, 0.01, 0.01, -999, 9,  -999.00, 9, -999, -999, 9, -999
49NZ20031106, A10, X15, 1, 17, 12017, 2, 20031119, 1622, -30.1078, -19.0010, 4612,   2200.5, 2,   2.6505, 2,  34.8233, 2,  34.8233, 2,    213.7, 1,    224.3, 2,    49.15, 2,    25.34, 2,     0.00, 2,     1.72, 2,   -0.005, 2,    0.000, 2,    0.000, 4,   2203.9, 2,   2329.4, 2,    7.6888, 2,     25.00, -999.000, 9, -999.000,   -120.2, 2,      3.6,     0.85, 2,      0.0,   2.4855, 27.7904,   2.6505, 2, 2200.1, 2, 223.95, 2, 0.23, 0.1, 0.01, 0.01, -999, 9,  -999.00, 9, -999, -999, 9, -999
49NZ20031106, A10, X15, 1, 16, 12016, 2, 20031119, 1622, -30.1078, -19.0010, 4612,   2400.9, 2,   2.6371, 2,  34.8475, 2,  34.8474, 2,    220.2, 1,    231.1, 2,    46.62, 2,    24.28, 2,     0.00, 2,     1.65, 2,   -0.005, 2,    0.005, 2,    0.000, 4,   2198.0, 6,   2332.9, 2,    7.7032, 2,     25.00, -999.000, 9, -999.000,   -117.2, 2,      4.3,     0.86, 2,      0.0,   2.4536, 27.8126,   2.6371, 2, 2401.3, 2, 230.03, 2, 0.22, 0.1, 0.01, 0.01, -999, 9,  -999.00, 9, -999, -999, 9, -999
49NZ20031106, A10, X15, 1, 15, 12012, 2, 20031119, 1622, -30.1078, -19.0010, 4612,   2600.0, 2,   2.6372, 2,  34.8632, 2,  34.8634, 2,    224.8, 1,    236.0, 2,    44.59, 2,    23.54, 2,    -0.01, 2,     1.59, 2,   -0.006, 2,    0.000, 2,    0.000, 4,   2194.8, 2,   2330.3, 6,    7.7110, 2,     25.00, -999.000, 9, -999.000,   -104.2, 2,      3.4,     0.92, 2,      0.0,   2.4346, 27.8269,   2.6373, 2, 2600.4, 2, 235.01, 2, 0.22, 0.1, 0.01, 0.01, -999, 9,  -999.00, 9, -999, -999, 9, -999
49NZ20031106, A10, X15, 1, 14, 12014, 2, 20031119, 1622, -30.1078, -19.0010, 4612,   2801.4, 2,   2.6319, 2,  34.8756, 2,  34.8756, 2,    228.7, 1,    240.1, 2,    42.89, 2,    22.95, 2,     0.00, 2,     1.55, 2,    0.008, 2,   -0.002, 2,    0.000, 4,   2191.2, 2,   2326.5, 2,    7.7188, 6,     25.00, -999.000, 9, -999.000,   -112.0, 2,      4.7,     0.92, 2,      0.0,   2.4095, 27.8389,   2.6319, 2, 2800.6, 2, 240.02, 2, 0.21, 0.1, 0.01, 0.01, -999, 9,  -999.00, 9, -999, -999, 9, -999
49NZ20031106, A10, X15, 1, 13, 12013, 2, 20031119, 1622, -30.1078, -19.0010, 4612,   3000.3, 2,   2.5938, 2,  34.8831, 2,  34.8832, 2,    231.8, 1,    243.1, 2,    42.41, 2,    22.59, 2,    -0.01, 2,     1.53, 2,    0.010, 2,    0.003, 2,    0.000, 4,   2188.5, 2,   2331.1, 2,    7.7239, 2,     25.00, -999.000, 9, -999.000,   -113.7, 6,      2.5,     0.95, 6,      0.0,   2.3521, 27.8499,   2.5938, 2, 3000.4, 2, 242.03, 2, 0.21, 0.1, 0.01, 0.01, -999, 9,  -999.00, 9, -999, -999, 9, -999
49NZ20031106, A10, X15, 1, 12, 12048, 2, 20031119, 1622, -30.1078, -19.0010, 4612,   3251.0, 2,   2.4345, 2,  34.8802, 2,  34.8801, 2,    233.9, 1,    245.1, 2,    46.00, 2,    22.55, 2,     0.00, 2,     1.54, 2,   -0.001, 2,   -0.003, 2,    0.000, 4,   2191.2, 2,   2329.7, 2,    7.7241, 2,     25.00, -999.000, 9, -999.000,   -102.7, 2,      3.3,     0.97, 2,      0.0,   2.1704, 27.8628,   2.4341, 2, 3250.9, 2, 245.12, 2, 0.22, 0.1, 0.01, 0.01, -999, 9,  -999.00, 9, -999, -999, 9, -999
49NZ20031106, A10, X15, 1, 11, 12047, 2, 20031119, 1622, -30.1078, -19.0010, 4612,   3502.0, 2,   2.1736, 2,  34.8572, 2,  34.8570, 2,    231.8, 1,    242.4, 2,    55.51, 2,    23.75, 2,     0.00, 2,     1.62, 2,   -0.001, 2,   -0.003, 2,    0.000, 4,   2199.5, 2,   2337.0, 2,    7.7143, 2,     25.00, -999.000, 9, -999.000,   -117.8, 2,      3.4,     0.91, 2,      0.0,   1.8894, 27.867,   2.1737, 2, 3501.6, 2, 242.19, 2, 0.24, 0.1, 0.01, 0.01, -999, 9,  -999.00, 9, -999, -999, 9, -999
49NZ20031106, A10, X15, 1, 10, 12046, 2, 20031119, 1622, -30.1078, -19.0010, 4612,   3750.5, 2,   1.9451, 2,  34.8360, 2,  34.8360, 2,    229.7, 1,    239.7, 2,    64.16, 2,    24.81, 2,     0.00, 2,     1.69, 2,    0.000, 2,    0.000, 2,    0.000, 4,   2207.8, 2,   2341.6, 2,    7.7045, 2,     25.00, -999.000, 9, -999.000,   -122.6, 2,      3.3,     0.86, 2,      0.0,   1.6402, 27.8693,   1.9453, 2, 3750.5, 2, 239.75, 2, 0.26, 0.1, 0.01, 0.01, -999, 9,  -999.00, 9, -999, -999, 9, -999
49NZ20031106, A10, X15, 1, 9, 12045, 2, 20031119, 1622, -30.1078, -19.0010, 4612,   4000.1, 2,   1.7519, 2,  34.8155, 2,  34.8156, 2,    227.5, 1,    236.5, 2,    72.39, 2,    25.88, 2,     0.00, 2,     1.78, 2,    0.005, 2,    0.004, 2,    0.000, 4,   2217.7, 2,   2344.8, 2,    7.6947, 2,     25.00, -999.000, 9, -999.000,   -121.3, 2,      3.3,     0.82, 2,      0.0,   1.4251, 27.8689,   1.7516, 2, 4000.4, 2, 236.62, 2, 0.28, 0.11, 0.01, 0.01, -999, 9,  -999.00, 9, -999, -999, 9, -999
49NZ20031106, A10, X15, 1, 18, 12018, 2, 20031119, 1622, -30.1078, -19.0010, 4612,   4000.5, 2,   1.7531, 2,  34.8156, 2,  34.8155, 2,    227.5, 1,    236.6, 2,    71.82, 2,    25.90, 2,    -0.01, 2,     1.77, 2,    0.007, 2,    0.000, 2,    0.013, 4,   2216.0, 2,   2344.3, 2,    7.6940, 2,     25.00, -999.000, 9, -999.000,   -124.5, 2,      3.4,     0.79, 2,      0.0,   1.4262, 27.8689,   1.7533, 2, 4000.8, 2, 236.66, 2, 0.28, 0.11, 0.01, 0.01, -999, 9,  -999.00, 9, -999, -999, 9, -999
49NZ20031106, A10, X15, 1, 8, 12044, 2, 20031119, 1622, -30.1078, -19.0010, 4612,   4250.1, 2,   1.5802, 2,  34.7957, 2,  34.7957, 2,    225.3, 1,    233.3, 2,    79.99, 2,    26.95, 2,     0.00, 2,     1.85, 2,    0.005, 2,    0.004, 2,    0.000, 4,   2225.4, 6,   2346.5, 2,    7.6835, 2,     25.00, -999.000, 9, -999.000,   -124.4, 2,      3.3,     0.77, 2,      0.0,   1.2305, 27.8669,   1.5803, 2, 4250.1, 2, 233.21, 2, 0.29, 0.11, 0.01, 0.01, -999, 9,  -999.00, 9, -999, -999, 9, -999
49NZ20031106, A10, X15, 1, 7, 12043, 2, 20031119, 1622, -30.1078, -19.0010, 4612,   4501.6, 2,   1.4982, 2,  34.7841, 2,  34.7841, 2,    224.6, 1,    231.3, 2,    84.26, 2,    27.49, 2,     0.00, 2,     1.89, 2,    0.007, 2,    0.006, 2,    0.000, 4,   2229.2, 2,   2351.1, 6,    7.6796, 2,     25.00, -999.000, 9, -999.000,   -130.3, 2,      3.5,     0.71, 2,      0.0,   1.1224, 27.8651,   1.4982, 2, 4501.7, 2, 231.18, 2, 0.3, 0.11, 0.01, 0.01, -999, 9,  -999.00, 9, -999, -999, 9, -999
49NZ20031106, A10, X15, 1, 6, 12042, 2, 20031119, 1622, -30.1078, -19.0010, 4612,   4671.1, 2,   1.4935, 2,  34.7815, 2,  34.7818, 2,    225.5, 1,    230.9, 2,    85.06, 2,    27.67, 2,     0.00, 2,     1.90, 2,    0.015, 2,    0.010, 2,    0.000, 4,   2229.5, 2,   2350.4, 2,    7.6751, 2,     25.00, -999.000, 9, -999.000,   -131.3, 2,      3.5,     0.68, 2,      0.0,   1.0981, 27.8646,   1.4935, 2, 4671.1, 2, 230.42, 2, 0.31, 0.11, 0.01, 0.01, -999, 9,  -999.00, 9, -999, -999, 9, -999