BOTTLE,20220818CCHSIOAMB
EXPOCODE,SECT_ID,STNNBR,CASTNO,SAMPNO,BTLNBR,BTLNBR_FLAG_W,DATE,TIME,LATITUDE,LONGITUDE,DEPTH,CTDPRS,CTDPRS_FLAG_W,CTDTMP,CTDTMP_FLAG_W,CTDSAL,CTDSAL_FLAG_W,SALNTY,SALNTY_FLAG_W,CTDOXY,CTDOXY_FLAG_W,OXYGEN,OXYGEN_FLAG_W,SILCAT,SILCAT_FLAG_W,NITRAT,NITRAT_FLAG_W,NITRIT,NITRIT_FLAG_W,PHSPHT,PHSPHT_FLAG_W,CFC-11,CFC-11_FLAG_W,CFC-12,CFC-12_FLAG_W,CFC113,CFC113_FLAG_W,TCARBN,TCARBN_FLAG_W,ALKALI,ALKALI_FLAG_W,PH_TOT,PH_TOT_FLAG_W,PH_TMP,TRITUM,TRITUM_FLAG_W,TRITER,DELC14,DELC14_FLAG_W,C14ERR,DELC13,DELC13_FLAG_W,C13ERR,THETA,SIG0,SBE35,SBE35_FLAG_W,DWNPRS,DWNPRS_FLAG_W,DWNOXY,DWNOXY_FLAG_W,SILUNC,NRAUNC,NRIUNC,PHPUNC,TOC,TOC_FLAG_W,CS-137,CS-137_FLAG_W,CS137ER,PLUTO,PLUTO_FLAG_W,PLUTOER
,,,,,,,,,,,METERS,DBAR,,ITS-90,,PSS-78,,PSS-78,,UMOL/KG,,UMOL/KG,,UMOL/KG,,UMOL/KG,,UMOL/KG,,UMOL/KG,,PMOL/KG,,PMOL/KG,,PMOL/KG,,UMOL/KG,,UMOL/KG,,,,DEG C,TU,,TU,/MILLE,,/MILLE,/MILLE,,/MILLE,DEG C,KG/M^3,ITS-90,,DBAR,,UMOL/KG,,UMOL/KG,UMOL/KG,UMOL/KG,UMOL/KG,UMOL/KG,,BQ/M^3,,BQ/M^3,MBQ/M^3,,MBQ/M^3
49NZ20031106, A10, 11, 1, 36, 12048, 2, 20031111, 517, -29.9982, -39.3757, 4857,      9.7, 2,  20.1999, 2,  36.0400, 2,  36.0351, 2,    216.4, 1,    228.1, 2,     0.87, 2,     0.04, 2,    -0.01, 2,     0.07, 2,    2.421, 4,    1.291, 4,    0.315, 4,   2060.4, 2,   2374.3, 2,    8.0467, 2,     25.00, -999.000, 9, -999.000,   -999.0, 9,   -999.0,  -999.00, 9,   -999.0,  20.1981, 25.5035,  20.2004, 2, 6.8, 2, 228.02, 2, 0.12, 0.03, 0.01, 0.03, -999, 1,  -999.00, 9, -999, -999, 9, -999
49NZ20031106, A10, 11, 1, 35, 12047, 2, 20031111, 517, -29.9982, -39.3757, 4857,     50.6, 2,  19.8240, 2,  36.0169, 2,  36.0169, 2,    218.3, 1,    229.3, 2,     0.86, 2,     0.05, 2,     0.00, 2,     0.07, 2,    2.466, 2,    1.317, 2,    0.285, 4,   2058.1, 6,   2370.8, 2,    8.0473, 2,     25.00, -999.000, 9, -999.000,   -999.0, 9,   -999.0,  -999.00, 9,   -999.0,  19.8147, 25.5895,  19.8236, 2, 44.3, 2, 229.27, 2, 0.12, 0.03, 0.01, 0.03, -999, 1,  -999.00, 9, -999, -999, 9, -999
49NZ20031106, A10, 11, 1, 34, 12046, 2, 20031111, 517, -29.9982, -39.3757, 4857,     98.7, 2,  17.7864, 2,  35.9300, 2,  35.9309, 2,    211.8, 1,    223.4, 2,     1.09, 2,     0.68, 2,     0.07, 2,     0.18, 2,    2.621, 2,    1.364, 2,    0.211, 4,   2075.4, 2,   2369.0, 6,    8.0075, 2,     25.00, -999.000, 9, -999.000,   -999.0, 9,   -999.0,  -999.00, 9,   -999.0,  17.7695, 26.0413,  17.7895, 2, 91.8, 2, 225.16, 2, 0.12, 0.03, 0.01, 0.02, -999, 1,  -999.00, 9, -999, -999, 9, -999
49NZ20031106, A10, 11, 1, 33, 12045, 2, 20031111, 517, -29.9982, -39.3757, 4857,    151.6, 2,  17.2393, 2,  35.9156, 2,  35.9236, 2,    210.5, 1,    221.3, 2,     1.22, 2,     1.71, 2,     0.02, 2,     0.24, 2,    2.687, 2,    1.422, 2,    0.182, 4,   2088.1, 2,   2364.3, 2,    7.9979, 6,     25.00, -999.000, 9, -999.000,   -999.0, 9,   -999.0,  -999.00, 9,   -999.0,  17.2139, 26.1653,  17.2432, 2, 146.3, 2, 219.89, 2, 0.12, 0.04, 0.01, 0.02, -999, 1,  -999.00, 9, -999, -999, 9, -999
49NZ20031106, A10, 11, 1, 32, 12044, 2, 20031111, 517, -29.9982, -39.3757, 4857,    204.8, 2,  15.8395, 2,  35.6606, 2,  35.6513, 3,    205.1, 1,    213.6, 2,     1.74, 2,     4.02, 2,     0.01, 2,     0.41, 2,    2.872, 2,    1.495, 2,    0.109, 4,   2095.7, 2,   2346.1, 2,    7.9527, 2,     25.00, -999.000, 9, -999.000,   -999.0, 9,   -999.0,  -999.00, 9,   -999.0,  15.8071, 26.3022,  15.8387, 2, 206.4, 2, 215.56, 2, 0.12, 0.04, 0.01, 0.01, -999, 1,  -999.00, 9, -999, -999, 9, -999
49NZ20031106, A10, 11, 1, 31, 12043, 2, 20031111, 517, -29.9982, -39.3757, 4857,    254.5, 2,  14.7371, 2,  35.4935, 2,  35.5058, 3,    204.3, 1,    213.9, 2,     2.17, 2,     5.83, 2,     0.00, 2,     0.52, 2,    2.999, 6,    1.514, 6,    0.093, 4,   2104.0, 2,   2338.2, 2,    7.9290, 2,     25.00, -999.000, 9, -999.000,   -999.0, 9,   -999.0,  -999.00, 9,   -999.0,  14.6988, 26.4186,  14.7346, 2, 254.2, 2, 212.87, 2, 0.12, 0.05, 0.01, 0.01, -999, 1,  -999.00, 9, -999, -999, 9, -999
49NZ20031106, A10, 11, 1, 30, 12042, 2, 20031111, 517, -29.9982, -39.3757, 4857,    300.5, 2,  14.1762, 2,  35.4121, 2,  35.4087, 2,    203.5, 1,    212.2, 2,     2.51, 2,     7.35, 2,     0.00, 2,     0.61, 2,    3.069, 2,    1.568, 2,    0.061, 4,   2107.8, 2,   2337.3, 2,    7.9088, 2,     25.00, -999.000, 9, -999.000,   -999.0, 9,   -999.0,  -999.00, 9,   -999.0,  14.1321, 26.4771,  14.1769, 2, 296.8, 2, 211.54, 2, 0.12, 0.05, 0.01, 0.01, -999, 1,  -999.00, 9, -999, -999, 9, -999
49NZ20031106, A10, 11, 1, 29, 12041, 2, 20031111, 517, -29.9982, -39.3757, 4857,    400.6, 2,  12.3872, 2,  35.1320, 2,  35.1313, 2,    201.4, 1,    210.0, 2,     3.80, 2,    11.26, 2,     0.00, 2,     0.86, 2,    3.176, 2,    1.563, 2,    0.070, 4,   2117.1, 2,   2323.2, 2,    7.8544, 2,     25.00, -999.000, 9, -999.000,   -999.0, 9,   -999.0,  -999.00, 9,   -999.0,  12.3333, 26.6273,  12.3900, 2, 398.8, 2, 209.6, 2, 0.13, 0.06, 0.01, 0.01, -999, 1,  -999.00, 9, -999, -999, 9, -999
49NZ20031106, A10, 11, 1, 28, 12040, 2, 20031111, 517, -29.9982, -39.3757, 4857,    501.9, 2,  10.2753, 2,  34.8392, 2,  34.8375, 2,    201.4, 1,    209.9, 2,     5.85, 2,    16.27, 2,     0.00, 2,     1.18, 2,    3.215, 2,    1.557, 2,    0.100, 4,   2132.4, 2,   2302.9, 2,    7.7963, 2,     25.00, -999.000, 9, -999.000,   -999.0, 9,   -999.0,  -999.00, 9,   -999.0,  10.2153, 26.7883,  10.2729, 2, 497.6, 2, 209.82, 2, 0.13, 0.08, 0.01, 0.01, -999, 1,  -999.00, 9, -999, -999, 9, -999
49NZ20031106, A10, 11, 1, 27, 12039, 2, 20031111, 517, -29.9982, -39.3757, 4857,    600.4, 2,   8.0532, 2,  34.5729, 2,  34.5713, 2,    205.9, 1,    213.9, 2,     9.20, 2,    21.51, 2,    -0.01, 2,     1.51, 2,    3.210, 2,    1.519, 2,    0.138, 4,   2149.5, 2,   2292.0, 2,    7.7429, 2,     25.00, -999.000, 9, -999.000,   -999.0, 9,   -999.0,  -999.00, 9,   -999.0,   7.9910, 26.9392,   8.0481, 2, 597.7, 2, 214.58, 2, 0.14, 0.09, 0.01, 0.01, -999, 1,  -999.00, 9, -999, -999, 9, -999
49NZ20031106, A10, 11, 1, 26, 12038, 2, 20031111, 517, -29.9982, -39.3757, 4857,    700.0, 2,   5.9378, 2,  34.3498, 2,  34.3485, 2,    223.4, 1,    232.7, 2,    12.52, 2,    25.11, 2,     0.00, 2,     1.74, 2,    3.431, 4,    1.478, 4,    0.173, 4,   2155.1, 6,   2286.8, 2,    7.7094, 2,     25.00, -999.000, 9, -999.000,   -999.0, 9,   -999.0,  -999.00, 9,   -999.0,   5.8762, 27.0533,   5.9373, 2, 699, 2, 231.88, 2, 0.15, 0.1, 0.01, 0.01, -999, 1,  -999.00, 9, -999, -999, 9, -999
49NZ20031106, A10, 11, 1, 25, 12037, 2, 20031111, 517, -29.9982, -39.3757, 4857,    802.1, 2,   4.8805, 2,  34.2957, 2,  34.2955, 2,    223.0, 1,    232.6, 2,    18.22, 2,    27.56, 2,    -0.01, 2,     1.91, 2,    3.015, 2,    1.371, 2,    0.158, 4,   2167.1, 2,   2291.6, 6,    7.6859, 2,     25.00, -999.000, 9, -999.000,   -999.0, 9,   -999.0,  -999.00, 9,   -999.0,   4.8158, 27.1371,   4.8808, 2, 804.1, 2, 235.51, 2, 0.16, 0.11, 0.01, 0.01, -999, 1,  -999.00, 9, -999, -999, 9, -999
49NZ20031106, A10, 11, 1, 24, 12036, 2, 20031111, 517, -29.9982, -39.3757, 4857,    900.6, 2,   4.2362, 2,  34.2886, 2,  34.2873, 2,    217.7, 1,    227.1, 2,    24.29, 2,    29.31, 2,    -0.01, 2,     2.03, 2,    2.448, 2,    1.091, 2,    0.123, 4,   2178.9, 2,   2292.0, 2,    7.6638, 6,     25.00, -999.000, 9, -999.000,   -999.0, 9,   -999.0,  -999.00, 9,   -999.0,   4.1674, 27.2021,   4.2354, 2, 903.4, 2, 230.67, 2, 0.17, 0.11, 0.01, 0.02, -999, 1,  -999.00, 9, -999, -999, 9, -999
49NZ20031106, A10, 11, 1, 3, 12012, 9, 20031111, 517, -29.9982, -39.3757, 4857,   1000.8, 2,   3.6948, 2,  34.2982, 2, -999.0000, 9,    211.7, 1,   -999.0, 9,  -999.00, 9,  -999.00, 9,  -999.00, 9,  -999.00, 9, -999.000, 9, -999.000, 9, -999.000, 9,   -999.0, 9,   -999.0, 9, -999.0000, 9,   -999.00, -999.000, 9, -999.000,   -999.0, 9,   -999.0,  -999.00, 9,   -999.0,   3.6218, 27.2655,   3.6954, 2, 1001.4, 2, 220.39, 2, -999, -999, -999, -999, -999, 9,  -999.00, 9, -999, -999, 9, -999
49NZ20031106, A10, 11, 1, 23, 12035, 2, 20031111, 517, -29.9982, -39.3757, 4857,   1001.2, 2,   3.6948, 2,  34.2982, 2,  34.2985, 2,    211.5, 1,    220.9, 2,    31.01, 2,    30.68, 2,    -0.01, 2,     2.12, 2,    1.973, 2,    0.877, 2,    0.102, 4,   2189.7, 2,   2299.5, 2,    7.6501, 2,     25.00, -999.000, 9, -999.000,   -999.0, 9,   -999.0,  -999.00, 9,   -999.0,   3.6217, 27.2655,   3.6953, 2, 1001.8, 2, 220.32, 2, 0.19, 0.12, 0.01, 0.02, -999, 1,  -999.00, 9, -999, -999, 9, -999
49NZ20031106, A10, 11, 1, 2, 12014, 9, 20031111, 517, -29.9982, -39.3757, 4857,   1001.2, 2,   3.6955, 2,  34.2981, 2, -999.0000, 9,    211.6, 1,   -999.0, 9,  -999.00, 9,  -999.00, 9,  -999.00, 9,  -999.00, 9, -999.000, 9, -999.000, 9, -999.000, 9,   -999.0, 9,   -999.0, 9, -999.0000, 9,   -999.00, -999.000, 9, -999.000,   -999.0, 9,   -999.0,  -999.00, 9,   -999.0,   3.6224, 27.2654,   3.6957, 2, 1001.8, 2, 220.32, 2, -999, -999, -999, -999, -999, 9,  -999.00, 9, -999, -999, 9, -999
49NZ20031106, A10, 11, 1, 22, 12034, 2, 20031111, 517, -29.9982, -39.3757, 4857,   1199.9, 2,   3.2101, 2,  34.4349, 2,  34.4332, 2,    186.4, 1,    194.7, 2,    46.72, 2,    32.50, 2,    -0.01, 2,     2.26, 2,    0.704, 2,    0.300, 2,    0.023, 4,   2217.1, 2,   2315.7, 2,    7.6215, 2,     25.00, -999.000, 9, -999.000,   -999.0, 9,   -999.0,  -999.00, 9,   -999.0,   3.1249, 27.4227,   3.2101, 2, 1199.9, 2, 195.23, 2, 0.22, 0.12, 0.01, 0.02, -999, 1,  -999.00, 9, -999, -999, 9, -999
49NZ20031106, A10, 11, 1, 21, 12033, 2, 20031111, 517, -29.9982, -39.3757, 4857,   1399.5, 2,   2.9860, 2,  34.5674, 2,  34.5679, 2,    181.2, 1,    188.8, 2,    53.39, 2,    31.79, 2,    -0.01, 2,     2.20, 2,    0.231, 2,    0.079, 2,    0.006, 4,   2226.8, 2,   2324.9, 2,    7.6247, 2,     25.00, -999.000, 9, -999.000,   -999.0, 9,   -999.0,  -999.00, 9,   -999.0,   2.8866, 27.55,   2.9860, 2, 1400, 2, 189.12, 2, 0.24, 0.12, 0.01, 0.02, -999, 1,  -999.00, 9, -999, -999, 9, -999
49NZ20031106, A10, 11, 1, 20, 12032, 2, 20031111, 517, -29.9982, -39.3757, 4857,   1601.2, 2,   2.8772, 2,  34.6779, 2,  34.6789, 2,    187.9, 1,    195.7, 2,    53.95, 2,    29.74, 2,    -0.01, 2,     2.06, 2,    0.074, 2,    0.019, 2,    0.000, 4,   2226.3, 2,   2325.7, 2,    7.6458, 2,     25.00, -999.000, 9, -999.000,   -999.0, 9,   -999.0,  -999.00, 9,   -999.0,   2.7621, 27.6494,   2.8771, 2, 1601.4, 2, 195.59, 2, 0.24, 0.12, 0.01, 0.02, -999, 1,  -999.00, 9, -999, -999, 9, -999
49NZ20031106, A10, 11, 1, 19, 12031, 2, 20031111, 517, -29.9982, -39.3757, 4857,   1799.4, 2,   3.0522, 2,  34.7903, 2,  34.7899, 2,    203.7, 1,    212.2, 2,    45.14, 2,    26.43, 2,    -0.01, 2,     1.82, 2,    0.049, 2,    0.008, 2,    0.000, 4,   2207.5, 2,   2332.5, 3,    7.6841, 2,     25.00, -999.000, 9, -999.000,   -999.0, 9,   -999.0,  -999.00, 9,   -999.0,   2.9174, 27.7254,   3.0520, 2, 1799.6, 2, 210.95, 2, 0.22, 0.11, 0.01, 0.01, -999, 1,  -999.00, 9, -999, -999, 9, -999
49NZ20031106, A10, 11, 1, 18, 12030, 2, 20031111, 517, -29.9982, -39.3757, 4857,   2001.7, 2,   3.4510, 2,  34.9257, 2,  34.9244, 2,    229.4, 1,    240.1, 2,    26.65, 3,    21.35, 3,    -0.01, 3,     1.45, 3,    0.097, 2,    0.033, 2,    0.000, 4,   2179.7, 2,   2321.6, 2,    7.7380, 3,     25.00, -999.000, 9, -999.000,   -999.0, 9,   -999.0,  -999.00, 9,   -999.0,   3.2916, 27.798,   3.4509, 2, 2002, 2, 238.66, 2, 0.18, 0.09, 0.01, 0.01, -999, 1,  -999.00, 9, -999, -999, 9, -999
49NZ20031106, A10, 11, 1, 17, 12029, 2, 20031111, 517, -29.9982, -39.3757, 4857,   2200.2, 2,   3.3502, 2,  34.9419, 2,  34.9418, 2,    236.2, 1,    247.4, 2,    24.91, 3,    20.38, 3,    -0.01, 3,     1.38, 3,    0.088, 2,    0.030, 2,    0.000, 4,   2172.3, 2,   2324.1, 2,    7.7492, 3,     25.00, -999.000, 9, -999.000,   -999.0, 9,   -999.0,  -999.00, 9,   -999.0,   3.1734, 27.8223,   3.3499, 2, 2200.2, 2, 246.82, 2, 0.17, 0.09, 0.01, 0.01, -999, 1,  -999.00, 9, -999, -999, 9, -999
49NZ20031106, A10, 11, 1, 16, 12028, 2, 20031111, 517, -29.9982, -39.3757, 4857,   2399.8, 2,   2.9854, 2,  34.8981, 2,  34.8979, 2,    229.7, 1,    240.3, 2,    34.29, 2,    22.02, 2,    -0.01, 2,     1.51, 2,    0.028, 2,    0.008, 2,    0.000, 4,   2183.4, 6,   2324.4, 2,    7.7352, 2,     25.00, -999.000, 9, -999.000,   -999.0, 9,   -999.0,  -999.00, 9,   -999.0,   2.7957, 27.8225,   2.9850, 2, 2399.7, 2, 240.01, 2, 0.19, 0.09, 0.01, 0.01, -999, 1,  -999.00, 9, -999, -999, 9, -999
49NZ20031106, A10, 11, 1, 15, 12027, 2, 20031111, 517, -29.9982, -39.3757, 4857,   2601.0, 2,   2.8694, 2,  34.8992, 2,  34.9000, 2,    232.1, 1,    242.9, 2,    35.07, 2,    21.78, 2,    -0.01, 2,     1.49, 2,    0.011, 2,   -0.003, 2,    0.000, 4,   2186.2, 2,   2332.1, 3,    7.7410, 2,     25.00, -999.000, 9, -999.000,   -999.0, 9,   -999.0,  -999.00, 9,   -999.0,   2.6621, 27.8354,   2.8694, 2, 2601.2, 2, 241.67, 2, 0.2, 0.09, 0.01, 0.01, -999, 1,  -999.00, 9, -999, -999, 9, -999
49NZ20031106, A10, 11, 1, 1, 12013, 2, 20031111, 517, -29.9982, -39.3757, 4857,   2800.8, 2,   2.8499, 2,  34.9136, 2,  34.9138, 2,    236.5, 1,    247.4, 2,    33.19, 2,    21.08, 2,    -0.01, 2,     1.44, 2,    0.015, 2,    0.002, 2,    0.000, 4,   2179.5, 2,   2329.1, 2,    7.7432, 6,     25.00, -999.000, 9, -999.000,   -999.0, 9,   -999.0,  -999.00, 9,   -999.0,   2.6230, 27.8505,   2.8498, 2, 2800.9, 2, 246.99, 2, 0.19, 0.09, 0.01, 0.01, -999, 1,  -999.00, 9, -999, -999, 9, -999
49NZ20031106, A10, 11, 1, 13, 12025, 2, 20031111, 517, -29.9982, -39.3757, 4857,   3000.2, 2,   2.8073, 2,  34.9199, 2,  34.9199, 2,    239.3, 1,    250.4, 2,    32.40, 2,    20.70, 2,    -0.01, 2,     1.41, 2,    0.027, 2,    0.009, 2,    0.000, 4,   2177.1, 2,   2327.5, 2,    7.7413, 2,     25.00, -999.000, 9, -999.000,   -999.0, 9,   -999.0,  -999.00, 9,   -999.0,   2.5608, 27.8609,   2.8072, 2, 3000.1, 2, 250.42, 2, 0.19, 0.09, 0.01, 0.01, -999, 1,  -999.00, 9, -999, -999, 9, -999
49NZ20031106, A10, 11, 1, 12, 12024, 2, 20031111, 517, -29.9982, -39.3757, 4857,   3250.6, 2,   2.6779, 2,  34.9139, 2,  34.9139, 2,    240.6, 1,    251.9, 2,    34.49, 2,    20.66, 2,    -0.01, 2,     1.41, 2,    0.028, 2,    0.009, 2,    0.000, 4,   2179.6, 2,   2332.8, 2,    7.7393, 2,     25.00, -999.000, 9, -999.000,   -999.0, 9,   -999.0,  -999.00, 9,   -999.0,   2.4080, 27.8692,   2.6778, 2, 3250.5, 2, 251.8, 2, 0.19, 0.09, 0.01, 0.01, -999, 1,  -999.00, 9, -999, -999, 9, -999
49NZ20031106, A10, 11, 1, 11, 12023, 2, 20031111, 517, -29.9982, -39.3757, 4857,   3500.8, 2,   2.4649, 2,  34.8962, 2,  34.8956, 2,    240.0, 1,    250.9, 2,    40.49, 2,    21.35, 2,    -0.01, 2,     1.46, 2,    0.019, 2,    0.002, 2,    0.000, 4,   2184.6, 2,   2337.3, 2,    7.7331, 2,     25.00, -999.000, 9, -999.000,   -999.0, 9,   -999.0,  -999.00, 9,   -999.0,   2.1733, 27.8747,   2.4647, 2, 3500.7, 2, 250.96, 2, 0.21, 0.09, 0.01, 0.01, -999, 1,  -999.00, 9, -999, -999, 9, -999
49NZ20031106, A10, 11, 1, 4, 12016, 2, 20031111, 517, -29.9982, -39.3757, 4857,   3751.9, 2,   1.9646, 2,  34.8459, 2,  34.8459, 2,    233.1, 1,    243.4, 2,    59.37, 2,    24.00, 2,    -0.01, 2,     1.66, 2,    0.014, 2,    0.002, 2,    0.000, 4,   2207.7, 2,   2343.4, 2,    7.7183, 2,     25.00, -999.000, 9, -999.000,   -999.0, 9,   -999.0,  -999.00, 9,   -999.0,   1.6590, 27.8751,   1.9646, 2, 3752.7, 2, 244.33, 2, 0.25, 0.1, 0.01, 0.01, -999, 1,  -999.00, 9, -999, -999, 9, -999
49NZ20031106, A10, 11, 1, 10, 12022, 9, 20031111, 517, -29.9982, -39.3757, 4857,   3851.7, 2,   1.7551, 2,  34.8244, 2, -999.0000, 9,    229.7, 1,   -999.0, 9,  -999.00, 9,  -999.00, 9,  -999.00, 9,  -999.00, 9, -999.000, 9, -999.000, 9, -999.000, 9,   -999.0, 5,   -999.0, 9, -999.0000, 9,   -999.00, -999.000, 9, -999.000,   -999.0, 9,   -999.0,  -999.00, 9,   -999.0,   1.4444, 27.8737,   1.7580, 2, 3851.4, 2, 239.89, 2, -999, -999, -999, -999, -999, 9,  -999.00, 9, -999, -999, 9, -999
49NZ20031106, A10, 11, 1, 9, 12015, 2, 20031111, 517, -29.9982, -39.3757, 4857,   4003.0, 2,   1.4851, 2,  34.7940, 2,  34.7933, 2,    224.7, 1,    234.2, 2,    79.79, 2,    26.81, 2,    -0.01, 2,     1.85, 2,    0.022, 2,    0.003, 2,    0.000, 4,   2226.0, 2,   2359.0, 2,    7.6824, 2,     25.00, -999.000, 9, -999.000,   -999.0, 9,   -999.0,  -999.00, 9,   -999.0,   1.1656, 27.8692,   1.4848, 2, 4002.8, 2, 234.86, 2, 0.29, 0.11, 0.01, 0.01, -999, 1,  -999.00, 9, -999, -999, 9, -999
49NZ20031106, A10, 11, 1, 8, 12020, 2, 20031111, 517, -29.9982, -39.3757, 4857,   4253.7, 2,   0.7247, 2,  34.7126, 2,  34.7123, 2,    213.3, 1,    221.4, 2,   111.15, 2,    31.02, 2,    -0.01, 2,     2.16, 2,    0.160, 2,    0.095, 2,    0.006, 4,   2255.2, 6,   2366.3, 2,    7.6321, 2,     25.00, -999.000, 9, -999.000,   -999.0, 9,   -999.0,  -999.00, 9,   -999.0,   0.4007, 27.8528,   0.7242, 2, 4253.6, 2, 221.89, 2, 0.36, 0.12, 0.01, 0.02, -999, 1,  -999.00, 9, -999, -999, 9, -999
49NZ20031106, A10, 11, 1, 7, 12019, 2, 20031111, 517, -29.9982, -39.3757, 4857,   4501.3, 2,   0.3106, 2,  34.6782, 2,  34.6783, 2,    213.2, 1,    220.6, 2,   124.13, 2,    32.61, 2,    -0.01, 2,     2.27, 2,    0.230, 2,    0.092, 2,    0.007, 4,   2264.9, 2,   2368.6, 6,    7.6216, 2,     25.00, -999.000, 9, -999.000,   -999.0, 9,   -999.0,  -999.00, 9,   -999.0,  -0.0272, 27.8492,   0.3118, 2, 4499.9, 2, 220.54, 2, 0.39, 0.12, 0.01, 0.02, -999, 1,  -999.00, 9, -999, -999, 9, -999
49NZ20031106, A10, 11, 1, 14, 12026, 2, 20031111, 517, -29.9982, -39.3757, 4857,   4749.1, 2,   0.2779, 2,  34.6731, 2,  34.6731, 2,    214.4, 1,    220.4, 2,   126.21, 2,    32.76, 2,    -0.01, 2,     2.28, 2,    0.249, 2,    0.098, 2,    0.008, 4,   2267.1, 2,   2370.6, 2,    7.6206, 2,     25.00, -999.000, 9, -999.000,   -999.0, 9,   -999.0,  -999.00, 9,   -999.0,  -0.0861, 27.8482,   0.2777, 2, 4749.2, 2, 220.23, 2, 0.4, 0.12, 0.01, 0.02, -999, 9,  -999.00, 9, -999, -999, 9, -999
49NZ20031106, A10, 11, 1, 6, 12018, 2, 20031111, 517, -29.9982, -39.3757, 4857,   4749.4, 2,   0.2777, 2,  34.6732, 2,  34.6731, 2,    214.4, 1,    220.6, 2,   126.11, 2,    32.79, 2,    -0.01, 2,     2.29, 2,    0.249, 2,    0.104, 2,    0.008, 4,   2262.9, 2,   2370.0, 2,    7.6248, 2,     25.00, -999.000, 9, -999.000,   -999.0, 9,   -999.0,  -999.00, 9,   -999.0,  -0.0863, 27.8482,   0.2776, 2, 4749.5, 2, 220.22, 2, 0.4, 0.12, 0.01, 0.02, -999, 1,  -999.00, 9, -999, -999, 9, -999
49NZ20031106, A10, 11, 1, 5, 12017, 2, 20031111, 517, -29.9982, -39.3757, 4857,   4927.5, 2,   0.2980, 2,  34.6730, 2,  34.6733, 2,    216.0, 1,    220.5, 2,   126.08, 2,    32.80, 2,    -0.01, 2,     2.29, 2,    0.250, 2,    0.099, 2,    0.005, 4,   2265.4, 2,   2365.1, 2,    7.6222, 2,     25.00, -999.000, 9, -999.000,   -999.0, 9,   -999.0,  -999.00, 9,   -999.0,  -0.0868, 27.8481,   0.2980, 2, 4927.6, 2, 219.89, 2, 0.4, 0.12, 0.01, 0.02, -999, 1,  -999.00, 9, -999, -999, 9, -999