BOTTLE,20220818CCHSIOAMB
EXPOCODE,SECT_ID,STNNBR,CASTNO,SAMPNO,BTLNBR,BTLNBR_FLAG_W,DATE,TIME,LATITUDE,LONGITUDE,DEPTH,CTDPRS,CTDPRS_FLAG_W,CTDTMP,CTDTMP_FLAG_W,CTDSAL,CTDSAL_FLAG_W,SALNTY,SALNTY_FLAG_W,CTDOXY,CTDOXY_FLAG_W,OXYGEN,OXYGEN_FLAG_W,SILCAT,SILCAT_FLAG_W,NITRAT,NITRAT_FLAG_W,NITRIT,NITRIT_FLAG_W,PHSPHT,PHSPHT_FLAG_W,CFC-11,CFC-11_FLAG_W,CFC-12,CFC-12_FLAG_W,CFC113,CFC113_FLAG_W,TCARBN,TCARBN_FLAG_W,ALKALI,ALKALI_FLAG_W,PH_TOT,PH_TOT_FLAG_W,PH_TMP,TRITUM,TRITUM_FLAG_W,TRITER,DELC14,DELC14_FLAG_W,C14ERR,DELC13,DELC13_FLAG_W,C13ERR,THETA,SIG0,SBE35,SBE35_FLAG_W,DWNPRS,DWNPRS_FLAG_W,DWNOXY,DWNOXY_FLAG_W,SILUNC,NRAUNC,NRIUNC,PHPUNC,TOC,TOC_FLAG_W,CS-137,CS-137_FLAG_W,CS137ER,PLUTO,PLUTO_FLAG_W,PLUTOER
,,,,,,,,,,,METERS,DBAR,,ITS-90,,PSS-78,,PSS-78,,UMOL/KG,,UMOL/KG,,UMOL/KG,,UMOL/KG,,UMOL/KG,,UMOL/KG,,PMOL/KG,,PMOL/KG,,PMOL/KG,,UMOL/KG,,UMOL/KG,,,,DEG C,TU,,TU,/MILLE,,/MILLE,/MILLE,,/MILLE,DEG C,KG/M^3,ITS-90,,DBAR,,UMOL/KG,,UMOL/KG,UMOL/KG,UMOL/KG,UMOL/KG,UMOL/KG,,BQ/M^3,,BQ/M^3,MBQ/M^3,,MBQ/M^3
49NZ20031106, A10, 3, 1, 3, 12012, 2, 20031109, 1043, -28.8338, -43.5873, 3891,      4.3, 2,  20.8826, 2,  36.1290, 2, -999.0000, 9,    213.4, 1,   -999.0, 9,  -999.00, 9,  -999.00, 9,  -999.00, 9,  -999.00, 9, -999.000, 9, -999.000, 9, -999.000, 9,   -999.0, 9,   -999.0, 9, -999.0000, 9,   -999.00, -999.000, 9, -999.000,   -999.0, 9,   -999.0,  -999.00, 9,   -999.0,  20.8818, 25.3861,  20.8811, 2, 4.3, 2, 225.66, 2, -999, -999, -999, -999, -999, 9,  -999.00, 9, -999, -999, 9, -999
49NZ20031106, A10, 3, 1, 4, 12016, 2, 20031109, 1043, -28.8338, -43.5873, 3891,      4.4, 2,  20.8756, 2,  36.1292, 2, -999.0000, 9,    213.1, 1,   -999.0, 9,  -999.00, 9,  -999.00, 9,  -999.00, 9,  -999.00, 9, -999.000, 9, -999.000, 9, -999.000, 9,   -999.0, 9,   -999.0, 9, -999.0000, 9,   -999.00, -999.000, 9, -999.000,   -999.0, 9,   -999.0,  -999.00, 9,   -999.0,  20.8748, 25.3885,  20.8786, 2, 4.4, 2, 225.65, 2, -999, -999, -999, -999, -999, 9,  -999.00, 9, -999, -999, 9, -999
49NZ20031106, A10, 3, 1, 36, 12048, 2, 20031109, 1043, -28.8338, -43.5873, 3891,      9.2, 2,  20.8351, 2,  36.1308, 2,  36.1315, 2,    213.3, 1,    225.3, 2,     0.78, 2,    -0.01, 2,    -0.01, 2,     0.05, 2,    2.391, 2,    1.355, 2,    0.272, 4,   2059.0, 2,   2367.4, 2,    8.0251, 2,     25.00, -999.000, 9, -999.000,     92.6, 2,      4.2,     1.47, 2,      0.0,  20.8333, 25.3996,  20.8384, 2, 9.2, 2, 225.49, 2, 0.12, 0.03, 0.01, 0.03, -999, 9,  -999.00, 9, -999, -999, 9, -999
49NZ20031106, A10, 3, 1, 35, 12047, 2, 20031109, 1043, -28.8338, -43.5873, 3891,     50.7, 2,  20.0246, 2,  36.1041, 2,  36.1014, 2,    219.5, 1,    231.8, 2,     0.81, 2,    -0.01, 2,    -0.01, 2,     0.05, 2,    2.424, 2,    1.349, 2,    0.307, 4,   2057.6, 6,   2362.4, 2,    8.0224, 2,     25.00, -999.000, 9, -999.000,     86.3, 2,      4.1,     1.49, 2,      0.0,  20.0152, 25.6022,  20.0251, 2, 43.9, 2, 231.4, 2, 0.12, 0.03, 0.01, 0.03, -999, 9,  -999.00, 9, -999, -999, 9, -999
49NZ20031106, A10, 3, 1, 34, 12046, 2, 20031109, 1043, -28.8338, -43.5873, 3891,     99.8, 2,  18.7778, 2,  35.9822, 2,  35.9783, 2,    216.8, 1,    228.3, 2,     0.86, 2,    -0.02, 2,     0.01, 2,     0.09, 2,    2.547, 2,    1.434, 2,    0.261, 4,   2067.6, 2,   2356.8, 6,    7.9984, 2,     25.00, -999.000, 9, -999.000,     97.8, 2,      4.1,     1.41, 2,      0.0,  18.7601, 25.834,  18.7820, 2, 98.9, 2, 224.79, 2, 0.12, 0.03, 0.01, 0.02, -999, 9,  -999.00, 9, -999, -999, 9, -999
49NZ20031106, A10, 3, 1, 2, 12014, 2, 20031109, 1043, -28.8338, -43.5873, 3891,    106.7, 2,  18.7256, 2,  35.9903, 2, -999.0000, 9,    215.8, 1,   -999.0, 9,  -999.00, 9,  -999.00, 9,  -999.00, 9,  -999.00, 9, -999.000, 9, -999.000, 9, -999.000, 9,   -999.0, 9,   -999.0, 9, -999.0000, 9,   -999.00, -999.000, 9, -999.000,   -999.0, 9,   -999.0,  -999.00, 9,   -999.0,  18.7067, 25.8543,  18.7266, 2, 104.4, 2, 222.39, 2, -999, -999, -999, -999, -999, 9,  -999.00, 9, -999, -999, 9, -999
49NZ20031106, A10, 3, 1, 33, 12045, 2, 20031109, 1043, -28.8338, -43.5873, 3891,    151.4, 2,  17.6890, 2,  35.8470, 2,  35.8467, 2,    208.6, 1,    219.5, 2,     1.04, 2,     1.00, 2,     0.04, 2,     0.19, 2,    2.571, 2,    1.445, 2,    0.216, 4,   2078.5, 2,   2349.8, 2,    7.9662, 2,     25.00, -999.000, 9, -999.000,     88.7, 2,      4.0,     1.32, 2,      0.0,  17.6632, 26.0045,  17.6891, 2, 148.2, 2, 217.95, 2, 0.12, 0.04, 0.01, 0.02, -999, 9,  -999.00, 9, -999, -999, 9, -999
49NZ20031106, A10, 3, 1, 32, 12044, 2, 20031109, 1043, -28.8338, -43.5873, 3891,    199.9, 2,  16.7892, 2,  35.8079, 2,  35.8129, 2,    207.7, 1,    218.9, 2,     1.33, 2,     2.28, 2,     0.01, 2,     0.28, 2,    2.715, 2,    1.518, 2,    0.145, 4,   2086.2, 2,   2346.3, 2,    7.9382, 2,     25.00, -999.000, 9, -999.000,    102.3, 6,      3.0,     1.25, 6,      0.0,  16.7563, 26.1924,  16.8034, 2, 199.3, 2, 216.16, 2, 0.12, 0.04, 0.01, 0.01, -999, 9,  -999.00, 9, -999, -999, 9, -999
49NZ20031106, A10, 3, 1, 31, 12043, 2, 20031109, 1043, -28.8338, -43.5873, 3891,    250.4, 2,  15.3755, 2,  35.5370, 2,  35.5368, 2,    205.2, 1,    215.2, 2,     1.71, 2,     4.24, 2,     0.00, 2,     0.43, 2,    2.939, 6,    1.619, 6,    0.084, 4,   2096.0, 2,   2335.6, 2,    7.9075, 2,     25.00, -999.000, 9, -999.000,     96.3, 2,      4.0,     1.21, 2,      0.0,  15.3367, 26.3116,  15.3744, 2, 251.1, 2, 216.21, 2, 0.12, 0.04, 0.01, 0.01, -999, 9,  -999.00, 9, -999, -999, 9, -999
49NZ20031106, A10, 3, 1, 30, 12042, 2, 20031109, 1043, -28.8338, -43.5873, 3891,    300.1, 2,  14.4677, 2,  35.4148, 2,  35.4172, 2,    205.5, 1,    215.3, 2,     2.09, 2,     6.06, 2,     0.00, 2,     0.53, 2,    3.105, 2,    1.668, 2,    0.065, 4,   2101.3, 2,   2325.5, 2,    7.8874, 2,     25.00, -999.000, 9, -999.000,     98.4, 2,      4.3,     1.20, 2,      0.0,  14.4230, 26.418,  14.4668, 2, 303, 2, 215.58, 2, 0.12, 0.05, 0.01, 0.01, -999, 9,  -999.00, 9, -999, -999, 9, -999
49NZ20031106, A10, 3, 1, 29, 12041, 2, 20031109, 1043, -28.8338, -43.5873, 3891,    400.6, 2,  12.8596, 2,  35.1854, 2,  35.1850, 2,    204.1, 1,    213.4, 2,     3.25, 2,     9.77, 2,     0.00, 2,     0.76, 2,    3.168, 2,    1.669, 2,    0.061, 4,   -999.0, 5,   -999.0, 5, -999.0000, 5,   -999.00, -999.000, 9, -999.000,   -999.0, 9,   -999.0,  -999.00, 9,   -999.0,  12.8044, 26.575,  12.8621, 2, 400.2, 2, 213.37, 2, 0.13, 0.06, 0.01, 0.01, -999, 9,  -999.00, 9, -999, -999, 9, -999
49NZ20031106, A10, 3, 1, 28, 12040, 2, 20031109, 1043, -28.8338, -43.5873, 3891,    500.1, 2,  10.9719, 2,  34.9318, 2,  34.9319, 2,    199.7, 1,    208.1, 2,     5.29, 2,    14.80, 2,    -0.01, 2,     1.07, 2,    3.075, 2,    1.564, 2,    0.081, 4,   2129.9, 2,   2298.5, 2,    7.7866, 2,     25.00, -999.000, 9, -999.000,     82.7, 2,      4.0,     1.11, 2,      0.0,  10.9095, 26.7377,  10.9731, 2, 499.8, 2, 208.26, 2, 0.13, 0.07, 0.01, 0.01, -999, 9,  -999.00, 9, -999, -999, 9, -999
49NZ20031106, A10, 3, 1, 27, 12039, 2, 20031109, 1043, -28.8338, -43.5873, 3891,    600.7, 2,   8.8036, 2,  34.6650, 2,  34.6669, 2,    202.0, 1,    209.8, 2,     8.25, 2,    20.08, 2,    -0.01, 2,     1.40, 2,    3.052, 2,    1.502, 2,    0.110, 4,   2144.9, 2,   2286.8, 2,    7.7339, 2,     25.00, -999.000, 9, -999.000,     58.2, 2,      4.0,     1.15, 2,      0.0,   8.7380, 26.8963,   8.8046, 2, 600.2, 2, 210.34, 2, 0.14, 0.09, 0.01, 0.01, -999, 9,  -999.00, 9, -999, -999, 9, -999
49NZ20031106, A10, 3, 1, 26, 12038, 2, 20031109, 1043, -28.8338, -43.5873, 3891,    700.7, 2,   6.9724, 2,  34.4698, 2,  34.4699, 2,    206.7, 1,    214.8, 2,    12.03, 2,    24.23, 2,    -0.01, 2,     1.67, 2,    3.001, 2,    1.445, 2,    0.132, 4,   2155.9, 6,   2288.6, 2,    7.6886, 2,     25.00, -999.000, 9, -999.000,     25.7, 2,      3.8,     1.15, 2,      0.0,   6.9051, 27.0127,   6.9756, 2, 698.7, 2, 214.88, 2, 0.15, 0.1, 0.01, 0.01, -999, 9,  -999.00, 9, -999, -999, 9, -999
49NZ20031106, A10, 3, 1, 25, 12037, 2, 20031109, 1043, -28.8338, -43.5873, 3891,    800.3, 2,   5.4345, 2,  34.3411, 2,  34.3400, 2,    215.3, 1,    224.2, 2,    16.62, 2,    27.09, 2,    -0.01, 2,     1.86, 2,    2.863, 2,    1.347, 2,    0.138, 4,   2163.8, 2,   2282.5, 6,    7.6620, 2,     25.00, -999.000, 9, -999.000,     -4.6, 2,      3.7,     1.10, 2,      0.0,   5.3665, 27.1089,   5.4347, 2, 798.9, 2, 223.84, 2, 0.16, 0.11, 0.01, 0.01, -999, 9,  -999.00, 9, -999, -999, 9, -999
49NZ20031106, A10, 3, 1, 24, 12036, 2, 20031109, 1043, -28.8338, -43.5873, 3891,    900.1, 2,   4.3852, 2,  34.2920, 2,  34.2926, 2,    217.9, 1,    226.9, 2,    22.96, 2,    29.13, 2,    -0.01, 2,     2.01, 2,    2.441, 2,    1.130, 2,    0.117, 4,   2177.7, 2,   2279.4, 2,    7.6447, 6,     25.00, -999.000, 9, -999.000,    -24.0, 2,      4.7,     1.12, 2,      0.0,   4.3154, 27.189,   4.3850, 2, 901.4, 2, 225.85, 2, 0.17, 0.11, 0.01, 0.02, -999, 9,  -999.00, 9, -999, -999, 9, -999
49NZ20031106, A10, 3, 1, 7, 12019, 9, 20031109, 1043, -28.8338, -43.5873, 3891,   1000.0, 2,   3.8277, 2,  34.3084, 2, -999.0000, 9,    209.7, 1,   -999.0, 9,  -999.00, 9,  -999.00, 9,  -999.00, 9,  -999.00, 9, -999.000, 9, -999.000, 9, -999.000, 9,   -999.0, 9,   -999.0, 9, -999.0000, 9,   -999.00, -999.000, 9, -999.000,   -999.0, 9,   -999.0,  -999.00, 9,   -999.0,   3.7537, 27.2607,   3.8271, 2, 1001, 2, 219.19, 2, -999, -999, -999, -999, -999, 9,  -999.00, 9, -999, -999, 9, -999
49NZ20031106, A10, 3, 1, 5, 12017, 9, 20031109, 1043, -28.8338, -43.5873, 3891,   1000.3, 2,   3.8270, 2,  34.3086, 2, -999.0000, 9,    209.7, 1,   -999.0, 9,  -999.00, 9,  -999.00, 9,  -999.00, 9,  -999.00, 9, -999.000, 9, -999.000, 9, -999.000, 9,   -999.0, 9,   -999.0, 9, -999.0000, 9,   -999.00, -999.000, 9, -999.000,   -999.0, 9,   -999.0,  -999.00, 9,   -999.0,   3.7530, 27.2607,   3.8271, 2, 1001.3, 2, 219.17, 2, -999, -999, -999, -999, -999, 9,  -999.00, 9, -999, -999, 9, -999
49NZ20031106, A10, 3, 1, 23, 12035, 2, 20031109, 1043, -28.8338, -43.5873, 3891,   1000.7, 2,   3.8272, 2,  34.3086, 2,  34.3085, 2,    209.6, 1,    218.2, 2,    30.46, 2,    30.80, 2,     0.00, 2,     2.11, 2,    1.870, 2,    0.846, 2,    0.077, 4,   2189.8, 2,   2292.2, 2,    7.6242, 2,     25.00, -999.000, 9, -999.000,    -48.2, 2,      3.6,     0.99, 2,      0.0,   3.7531, 27.2607,   3.8269, 2, 1001.6, 2, 219.16, 2, 0.19, 0.12, 0.01, 0.02, -999, 9,  -999.00, 9, -999, -999, 9, -999
49NZ20031106, A10, 3, 1, 6, 12018, 9, 20031109, 1043, -28.8338, -43.5873, 3891,   1000.8, 2,   3.8270, 2,  34.3086, 2, -999.0000, 9,    209.7, 1,   -999.0, 9,  -999.00, 9,  -999.00, 9,  -999.00, 9,  -999.00, 9, -999.000, 9, -999.000, 9, -999.000, 9,   -999.0, 9,   -999.0, 9, -999.0000, 9,   -999.00, -999.000, 9, -999.000,   -999.0, 9,   -999.0,  -999.00, 9,   -999.0,   3.7529, 27.2607,   3.8268, 2, 1001.7, 2, 219.14, 2, -999, -999, -999, -999, -999, 9,  -999.00, 9, -999, -999, 9, -999
49NZ20031106, A10, 3, 1, 22, 12034, 2, 20031109, 1043, -28.8338, -43.5873, 3891,   1200.0, 2,   3.2944, 2,  34.4265, 2,  34.4269, 2,    187.2, 1,    194.5, 2,    45.03, 2,    32.62, 2,    -0.01, 2,     2.25, 2,    0.659, 2,    0.311, 2,    0.023, 4,   2214.7, 2,   2305.1, 2,    7.5931, 2,     25.00, -999.000, 9, -999.000,   -108.4, 2,      4.9,     0.77, 2,      0.0,   3.2085, 27.4076,   3.2951, 2, 1200.5, 2, 194.43, 2, 0.22, 0.12, 0.01, 0.02, -999, 9,  -999.00, 9, -999, -999, 9, -999
49NZ20031106, A10, 3, 1, 21, 12033, 2, 20031109, 1043, -28.8338, -43.5873, 3891,   1400.8, 2,   3.0184, 2,  34.5443, 2,  34.5446, 2,    181.6, 1,    188.3, 2,    52.54, 2,    32.15, 2,    -0.01, 2,     2.21, 2,    0.258, 2,    0.121, 2,    0.009, 4,   2224.3, 2,   2315.2, 2,    7.5924, 2,     25.00, -999.000, 9, -999.000,   -117.3, 6,      3.7,     0.67, 6,      0.0,   2.9186, 27.5287,   3.0182, 2, 1400.4, 2, 187.7, 2, 0.23, 0.12, 0.01, 0.02, -999, 9,  -999.00, 9, -999, -999, 9, -999
49NZ20031106, A10, 3, 1, 20, 12032, 2, 20031109, 1043, -28.8338, -43.5873, 3891,   1600.5, 2,   3.4570, 2,  34.7317, 2,  34.7313, 2,    191.4, 1,    198.6, 2,    41.03, 2,    28.38, 2,    -0.01, 2,     1.93, 2,    0.070, 2,    0.031, 2,    0.000, 4,   2210.0, 2,   2320.2, 2,    7.6297, 2,     25.00, -999.000, 9, -999.000,   -115.5, 2,      3.4,     0.75, 2,      0.0,   3.3347, 27.6394,   3.4560, 2, 1599.3, 2, 199.77, 2, 0.21, 0.11, 0.01, 0.01, -999, 9,  -999.00, 9, -999, -999, 9, -999
49NZ20031106, A10, 3, 1, 19, 12031, 2, 20031109, 1043, -28.8338, -43.5873, 3891,   1801.5, 2,   3.8270, 2,  34.8872, 2,  34.8875, 2,    213.3, 1,    221.7, 2,    26.90, 2,    23.67, 2,    -0.01, 2,     1.59, 2, -999.000, 5, -999.000, 5, -999.000, 5,   2184.2, 2,   2315.6, 2,    7.6794, 2,     25.00, -999.000, 9, -999.000,   -102.7, 2,      3.3,     0.92, 2,      0.0,   3.6812, 27.7291,   3.8269, 2, 1800.6, 2, 221.92, 2, 0.18, 0.1, 0.01, 0.01, -999, 9,  -999.00, 9, -999, -999, 9, -999
49NZ20031106, A10, 3, 1, 1, 12013, 2, 20031109, 1043, -28.8338, -43.5873, 3891,   2000.6, 2,   3.7191, 2,  34.9381, 2,  34.9382, 2,    228.7, 1,    238.4, 2,    23.01, 2,    21.40, 2,    -0.01, 2,     1.43, 2,    0.124, 2,    0.063, 2,    0.009, 4,   2176.3, 2,   2317.1, 2,    7.7122, 6,     25.00, -999.000, 9, -999.000,    -78.7, 3,      3.7,     0.95, 2,      0.0,   3.5558, 27.7821,   3.7192, 2, 2000.5, 2, 237.5, 2, 0.17, 0.09, 0.01, 0.01, -999, 9,  -999.00, 9, -999, -999, 9, -999
49NZ20031106, A10, 3, 1, 17, 12029, 2, 20031109, 1043, -28.8338, -43.5873, 3891,   2201.8, 2,   3.5153, 2,  34.9448, 2,  34.9453, 2,    235.2, 1,    244.9, 2,    23.54, 2,    20.72, 2,    -0.01, 2,     1.39, 2, -999.000, 5, -999.000, 5, -999.000, 5,   2172.5, 2,   2316.2, 2,    7.7149, 2,     25.00, -999.000, 9, -999.000,    -89.7, 2,      3.4,     1.00, 2,      0.0,   3.3356, 27.8092,   3.5152, 2, 2202.3, 2, 244.57, 2, 0.17, 0.09, 0.01, 0.01, -999, 9,  -999.00, 9, -999, -999, 9, -999
49NZ20031106, A10, 3, 1, 16, 12028, 2, 20031109, 1043, -28.8338, -43.5873, 3891,   2400.4, 2,   3.3202, 2,  34.9446, 2,  34.9443, 2,    239.0, 1,    248.9, 2,    24.68, 2,    20.38, 2,    -0.01, 2,     1.36, 2,    0.096, 2,    0.039, 2,    0.000, 4,   2170.1, 6,   2315.5, 2,    7.7251, 2,     25.00, -999.000, 9, -999.000,    -87.4, 2,      3.7,     1.00, 2,      0.0,   3.1243, 27.8292,   3.3197, 2, 2400.9, 2, 248.66, 2, 0.17, 0.09, 0.01, 0.01, -999, 9,  -999.00, 9, -999, -999, 9, -999
49NZ20031106, A10, 3, 1, 15, 12027, 2, 20031109, 1043, -28.8338, -43.5873, 3891,   2600.5, 2,   3.1450, 2,  34.9388, 2,  34.9388, 2,    240.7, 1,    250.4, 2,    26.63, 2,    20.36, 2,    -0.01, 2,     1.37, 2,    0.069, 2,    0.033, 2,    0.000, 4,   2172.7, 2,   2317.9, 6,    7.7287, 2,     25.00, -999.000, 9, -999.000,    -93.3, 2,      3.6,     1.01, 2,      0.0,   2.9324, 27.8425,   3.1448, 2, 2600.6, 2, 249.92, 2, 0.18, 0.09, 0.01, 0.01, -999, 9,  -999.00, 9, -999, -999, 9, -999
49NZ20031106, A10, 3, 1, 14, 12026, 2, 20031109, 1043, -28.8338, -43.5873, 3891,   2800.2, 2,   2.9611, 2,  34.9301, 2,  34.9300, 2,    241.2, 1,    250.6, 2,    29.42, 2,    20.55, 2,    -0.01, 2,     1.38, 2,    0.046, 2,    0.021, 2,    0.000, 4,   2176.2, 2,   2324.1, 2,    7.7307, 6,     25.00, -999.000, 9, -999.000,    -98.8, 2,      3.5,     1.01, 2,      0.0,   2.7319, 27.8537,   2.9610, 2, 2800.4, 2, 250.81, 2, 0.18, 0.09, 0.01, 0.01, -999, 9,  -999.00, 9, -999, -999, 9, -999
49NZ20031106, A10, 3, 1, 13, 12025, 2, 20031109, 1043, -28.8338, -43.5873, 3891,   3000.8, 2,   2.7870, 2,  34.9211, 2,  34.9211, 2,    242.0, 1,    251.3, 2,    32.21, 2,    20.69, 2,    -0.01, 2,     1.39, 2,    0.034, 2,    0.015, 2,    0.000, 4,   2177.2, 2,   2316.3, 3,    7.7320, 2,     25.00, -999.000, 9, -999.000,   -100.0, 6,      2.8,     1.01, 6,      0.0,   2.5408, 27.8634,   2.7872, 2, 3001.3, 2, 251.21, 2, 0.19, 0.09, 0.01, 0.01, -999, 9,  -999.00, 9, -999, -999, 9, -999
49NZ20031106, A10, 3, 1, 12, 12024, 2, 20031109, 1043, -28.8338, -43.5873, 3891,   3249.2, 2,   2.4944, 2,  34.8983, 2,  34.8984, 2,    241.0, 1,    249.6, 2,    40.05, 2,    21.56, 2,    -0.01, 2,     1.46, 2,    0.024, 2,    0.009, 2,    0.000, 4,   2182.9, 2,   2330.1, 2,    7.7250, 2,     25.00, -999.000, 9, -999.000,   -109.3, 2,      3.5,     0.95, 2,      0.0,   2.2290, 27.8715,   2.4945, 2, 3249.7, 2, 250.66, 2, 0.21, 0.09, 0.01, 0.01, -999, 9,  -999.00, 9, -999, -999, 9, -999
49NZ20031106, A10, 3, 1, 11, 12023, 2, 20031109, 1043, -28.8338, -43.5873, 3891,   3501.0, 2,   1.7135, 2,  34.8201, 2,  34.8191, 2,    229.8, 1,    237.7, 2,    69.78, 2,    25.59, 2,    -0.01, 2,     1.75, 2,    0.035, 2,    0.015, 2,    0.000, 4,   2214.8, 2,   2345.0, 2,    7.6863, 2,     25.00, -999.000, 9, -999.000,   -121.2, 2,      3.6,     0.80, 2,      0.0,   1.4411, 27.8703,   1.7127, 2, 3500.7, 2, 238.31, 2, 0.27, 0.1, 0.01, 0.01, -999, 9,  -999.00, 9, -999, -999, 9, -999
49NZ20031106, A10, 3, 1, 10, 12022, 2, 20031109, 1043, -28.8338, -43.5873, 3891,   3750.1, 2,   0.9135, 2,  34.7352, 2,  34.7348, 2,    217.2, 1,    223.4, 2,   102.21, 2,    30.04, 2,    -0.01, 2,     2.08, 2,    0.108, 2,    0.046, 2,    0.000, 4,   2245.2, 2,   2353.3, 2,    7.6374, 2,     25.00, -999.000, 9, -999.000,   -148.1, 2,      3.2,     0.64, 2,      0.0,   0.6368, 27.8565,   0.9132, 2, 3750.1, 2, 223.37, 2, 0.34, 0.12, 0.01, 0.02, -999, 9,  -999.00, 9, -999, -999, 9, -999
49NZ20031106, A10, 3, 1, 18, 12030, 2, 20031109, 1043, -28.8338, -43.5873, 3891,   3751.1, 2,   0.9142, 2,  34.7354, 2,  34.7350, 2,    217.2, 1,    223.5, 2,   102.09, 2,    30.04, 2,    -0.01, 2,     2.07, 2,    0.106, 2,    0.047, 2,    0.000, 4,   2244.6, 2,   2350.9, 2,    7.6280, 2,     25.00, -999.000, 9, -999.000,   -999.0, 9,   -999.0,  -999.00, 9,   -999.0,   0.6374, 27.8565,   0.9140, 2, 3751, 2, 223.35, 2, 0.34, 0.12, 0.01, 0.02, -999, 9,  -999.00, 9, -999, -999, 9, -999
49NZ20031106, A10, 3, 1, 8, 12020, 9, 20031109, 1043, -28.8338, -43.5873, 3891,   3850.2, 2,   0.6460, 2,  34.7086, 2, -999.0000, 9,    214.7, 1,   -999.0, 9,  -999.00, 9,  -999.00, 9,  -999.00, 9,  -999.00, 9, -999.000, 9, -999.000, 9, -999.000, 9,   -999.0, 9,   -999.0, 9, -999.0000, 9,   -999.00, -999.000, 9, -999.000,   -999.0, 9,   -999.0,  -999.00, 9,   -999.0,   0.3666, 27.8514,   0.6466, 2, 3850.9, 2, 220.05, 2, -999, -999, -999, -999, -999, 9,  -999.00, 9, -999, -999, 9, -999
49NZ20031106, A10, 3, 1, 9, 12015, 2, 20031109, 1043, -28.8338, -43.5873, 3891,   3935.2, 2,   0.5301, 2,  34.6974, 2,  34.6976, 2,    214.8, 1,    219.1, 2,   116.61, 2,    31.89, 2,    -0.01, 2,     2.21, 2, -999.000, 5, -999.000, 5, -999.000, 5,   2256.9, 2,   2358.9, 2,    7.6174, 2,     25.00, -999.000, 9, -999.000,   -150.5, 2,      3.3,     0.54, 2,      0.0,   0.2453, 27.8494,   0.5298, 2, 3935.2, 2, 218.41, 2, 0.38, 0.12, 0.01, 0.02, -999, 9,  -999.00, 9, -999, -999, 9, -999