BOTTLE,20220818CCHSIOAMB
EXPOCODE,SECT_ID,STNNBR,CASTNO,SAMPNO,BTLNBR,BTLNBR_FLAG_W,DATE,TIME,LATITUDE,LONGITUDE,DEPTH,CTDPRS,CTDPRS_FLAG_W,CTDTMP,CTDTMP_FLAG_W,CTDSAL,CTDSAL_FLAG_W,SALNTY,SALNTY_FLAG_W,CTDOXY,CTDOXY_FLAG_W,OXYGEN,OXYGEN_FLAG_W,SILCAT,SILCAT_FLAG_W,NITRAT,NITRAT_FLAG_W,NITRIT,NITRIT_FLAG_W,PHSPHT,PHSPHT_FLAG_W,CFC-11,CFC-11_FLAG_W,CFC-12,CFC-12_FLAG_W,CFC113,CFC113_FLAG_W,TCARBN,TCARBN_FLAG_W,ALKALI,ALKALI_FLAG_W,PH_TOT,PH_TOT_FLAG_W,PH_TMP,TRITUM,TRITUM_FLAG_W,TRITER,DELC14,DELC14_FLAG_W,C14ERR,DELC13,DELC13_FLAG_W,C13ERR,THETA,SIG0,SBE35,SBE35_FLAG_W,DWNPRS,DWNPRS_FLAG_W,DWNOXY,DWNOXY_FLAG_W,SILUNC,NRAUNC,NRIUNC,PHPUNC,TOC,TOC_FLAG_W,CS-137,CS-137_FLAG_W,CS137ER,PLUTO,PLUTO_FLAG_W,PLUTOER
,,,,,,,,,,,METERS,DBAR,,ITS-90,,PSS-78,,PSS-78,,UMOL/KG,,UMOL/KG,,UMOL/KG,,UMOL/KG,,UMOL/KG,,UMOL/KG,,PMOL/KG,,PMOL/KG,,PMOL/KG,,UMOL/KG,,UMOL/KG,,,,DEG C,TU,,TU,/MILLE,,/MILLE,/MILLE,,/MILLE,DEG C,KG/M^3,ITS-90,,DBAR,,UMOL/KG,,UMOL/KG,UMOL/KG,UMOL/KG,UMOL/KG,UMOL/KG,,BQ/M^3,,BQ/M^3,MBQ/M^3,,MBQ/M^3
49NZ20031106, A10, 15, 1, 36, 12048, 2, 20031112, 124, -29.9965, -37.4958, 3188,      9.5, 2,  20.5313, 2,  36.1807, 2,  36.1793, 2,    215.3, 1,    226.4, 2,     0.83, 2,     0.05, 2,    -0.01, 2,     0.05, 2,    2.167, 2,    1.301, 2,    0.302, 4,   2060.2, 2,   2375.2, 2,    8.0298, 2,     25.00, -999.000, 9, -999.000,   -999.0, 9,   -999.0,  -999.00, 9,   -999.0,  20.5295, 25.5222,  20.5306, 2, 17.6, 2, 226.68, 2, 0.12, 0.03, 0.01, 0.03, -999, 9,  -999.00, 9, -999, -999, 9, -999
49NZ20031106, A10, 15, 1, 35, 12047, 2, 20031112, 124, -29.9965, -37.4958, 3188,     49.8, 2,  20.4259, 2,  36.2354, 2,  36.2354, 2,    215.3, 1,    226.5, 2,     0.80, 2,     0.03, 2,     0.00, 2,     0.05, 2,    2.207, 2,    1.301, 2,    0.269, 4,   2063.0, 6,   2382.7, 2,    8.0296, 2,     25.00, -999.000, 9, -999.000,   -999.0, 9,   -999.0,  -999.00, 9,   -999.0,  20.4165, 25.5952,  20.4257, 2, 52.1, 2, 226.42, 2, 0.12, 0.03, 0.01, 0.03, -999, 9,  -999.00, 9, -999, -999, 9, -999
49NZ20031106, A10, 15, 1, 34, 12046, 2, 20031112, 124, -29.9965, -37.4958, 3188,    100.5, 2,  18.5579, 2,  35.9057, 2,  35.9063, 2,    220.7, 1,    231.9, 2,     0.80, 2,     0.03, 2,    -0.01, 2,     0.08, 2,    2.457, 2,    1.464, 2,    0.289, 4,   2062.2, 2,   2361.6, 6,    8.0152, 2,     25.00, -999.000, 9, -999.000,   -999.0, 9,   -999.0,  -999.00, 9,   -999.0,  18.5402, 25.8324,  18.5585, 2, 106.4, 2, 230.24, 2, 0.12, 0.03, 0.01, 0.02, -999, 9,  -999.00, 9, -999, -999, 9, -999
49NZ20031106, A10, 15, 1, 33, 12045, 2, 20031112, 124, -29.9965, -37.4958, 3188,    151.1, 2,  17.1099, 2,  35.7282, 2,  35.7277, 2,    208.1, 1,    217.9, 2,     1.10, 2,     1.28, 2,     0.05, 2,     0.24, 2,    2.606, 2,    1.525, 2,    0.289, 4,   2083.6, 2,   2352.2, 2,    7.9619, 6,     25.00, -999.000, 9, -999.000,   -999.0, 9,   -999.0,  -999.00, 9,   -999.0,  17.0848, 26.0544,  17.1093, 2, 149.4, 2, 217.6, 2, 0.12, 0.04, 0.01, 0.02, -999, 9,  -999.00, 9, -999, -999, 9, -999
49NZ20031106, A10, 15, 1, 32, 12044, 2, 20031112, 124, -29.9965, -37.4958, 3188,    201.7, 2,  16.0353, 2,  35.6393, 2,  35.6389, 2,    197.7, 1,    206.7, 2,     1.67, 2,     4.17, 2,     0.01, 2,     0.41, 2,    2.732, 2,    1.562, 2,    0.069, 4,   2098.2, 2,   2345.6, 2,    7.9278, 2,     25.00, -999.000, 9, -999.000,   -999.0, 9,   -999.0,  -999.00, 9,   -999.0,  16.0032, 26.2401,  16.0344, 2, 198.2, 2, 206.08, 2, 0.12, 0.04, 0.01, 0.01, -999, 9,  -999.00, 9, -999, -999, 9, -999
49NZ20031106, A10, 15, 1, 31, 12043, 2, 20031112, 124, -29.9965, -37.4958, 3188,    249.9, 2,  14.8728, 2,  35.4485, 2,  35.4486, 2,    203.8, 1,    212.8, 2,     1.91, 2,     5.32, 2,     0.00, 2,     0.49, 2,    2.861, 6,    1.635, 6,    0.063, 4,   2097.3, 2,   2330.3, 2,    7.9097, 2,     25.00, -999.000, 9, -999.000,   -999.0, 9,   -999.0,  -999.00, 9,   -999.0,  14.8350, 26.3551,  14.8729, 2, 250.4, 2, 212.27, 2, 0.12, 0.05, 0.01, 0.01, -999, 9,  -999.00, 9, -999, -999, 9, -999
49NZ20031106, A10, 15, 1, 30, 12042, 2, 20031112, 124, -29.9965, -37.4958, 3188,    300.7, 2,  13.9689, 2,  35.3380, 2,  35.3431, 3,    203.4, 1,    212.1, 2,     2.40, 2,     7.38, 2,     0.00, 2,     0.61, 2,    2.914, 2,    1.619, 2,    0.059, 4,   2106.5, 2,   2325.1, 2,    7.8892, 2,     25.00, -999.000, 9, -999.000,   -999.0, 9,   -999.0,  -999.00, 9,   -999.0,  13.9252, 26.4652,  13.9679, 2, 303.4, 2, 212.8, 2, 0.12, 0.05, 0.01, 0.01, -999, 9,  -999.00, 9, -999, -999, 9, -999
49NZ20031106, A10, 15, 1, 29, 12041, 2, 20031112, 124, -29.9965, -37.4958, 3188,    401.6, 2,  12.7273, 2,  35.1782, 2,  35.1782, 2,    202.3, 1,    210.7, 2,     3.33, 2,    10.49, 2,     0.01, 2,     0.80, 2,    2.970, 2,    1.632, 2,    0.060, 4,   2116.0, 2,   -999.0, 5,    7.8543, 2,     25.00, -999.000, 9, -999.000,   -999.0, 9,   -999.0,  -999.00, 9,   -999.0,  12.6723, 26.597,  12.7271, 2, 401.8, 2, 211.08, 2, 0.13, 0.06, 0.01, 0.01, -999, 9,  -999.00, 9, -999, -999, 9, -999
49NZ20031106, A10, 15, 1, 28, 12040, 2, 20031112, 124, -29.9965, -37.4958, 3188,    500.6, 2,  10.9504, 2,  34.9276, 2,  34.9267, 2,    200.5, 1,    208.3, 2,     5.24, 2,    14.87, 2,    -0.01, 2,     1.08, 2,    2.958, 2,    1.568, 2,    0.061, 4,   2130.4, 2,   2307.0, 2,    7.8045, 2,     25.00, -999.000, 9, -999.000,   -999.0, 9,   -999.0,  -999.00, 9,   -999.0,  10.8881, 26.7395,  10.9507, 2, 499.9, 2, 209.07, 2, 0.13, 0.07, 0.01, 0.01, -999, 9,  -999.00, 9, -999, -999, 9, -999
49NZ20031106, A10, 15, 1, 27, 12039, 2, 20031112, 124, -29.9965, -37.4958, 3188,    599.4, 2,   9.0428, 2,  34.6946, 2,  34.6943, 2,    202.5, 1,    210.1, 2,     7.97, 2,    19.46, 2,     0.00, 2,     1.37, 2, -999.000, 5, -999.000, 5, -999.000, 5,   2141.6, 2,   2300.0, 2,    7.7566, 2,     25.00, -999.000, 9, -999.000,   -999.0, 9,   -999.0,  -999.00, 9,   -999.0,   8.9762, 26.8825,   9.0444, 2, 600.5, 2, 210.22, 2, 0.14, 0.09, 0.01, 0.01, -999, 9,  -999.00, 9, -999, -999, 9, -999
49NZ20031106, A10, 15, 1, 26, 12038, 2, 20031112, 124, -29.9965, -37.4958, 3188,    700.7, 2,   6.8812, 2,  34.4514, 2,  34.4508, 2,    213.5, 1,    221.4, 2,    11.23, 2,    23.82, 2,     0.00, 2,     1.65, 2,    3.014, 2,    1.533, 2,    0.119, 4,   2152.6, 6,   2286.7, 2,    7.7130, 2,     25.00, -999.000, 9, -999.000,   -999.0, 9,   -999.0,  -999.00, 9,   -999.0,   6.8144, 27.0116,   6.8815, 2, 701.2, 2, 222.1, 2, 0.14, 0.1, 0.01, 0.01, -999, 9,  -999.00, 9, -999, -999, 9, -999
49NZ20031106, A10, 15, 1, 25, 12037, 2, 20031112, 124, -29.9965, -37.4958, 3188,    800.7, 2,   5.4098, 2,  34.3283, 2,  34.3281, 2,    221.4, 1,    229.7, 2,    15.69, 2,    26.65, 2,    -0.01, 2,     1.84, 2,    2.921, 2,    1.438, 2,    0.178, 4,   2163.6, 2,   2288.8, 6,    7.6872, 2,     25.00, -999.000, 9, -999.000,   -999.0, 9,   -999.0,  -999.00, 9,   -999.0,   5.3420, 27.1022,   5.4099, 2, 802, 2, 228.92, 2, 0.15, 0.11, 0.01, 0.01, -999, 9,  -999.00, 9, -999, -999, 9, -999
49NZ20031106, A10, 15, 1, 24, 12036, 2, 20031112, 124, -29.9965, -37.4958, 3188,    900.6, 2,   4.5824, 2,  34.2885, 2,  34.2885, 2,    221.9, 1,    230.4, 2,    20.68, 2,    28.54, 2,    -0.01, 2,     1.96, 2,    2.619, 2,    1.267, 2,    0.122, 4,   2173.6, 2,   2293.6, 2,    7.6694, 6,     25.00, -999.000, 9, -999.000,   -999.0, 9,   -999.0,  -999.00, 9,   -999.0,   4.5112, 27.1659,   4.5803, 2, 900.5, 2, 231.41, 2, 0.16, 0.11, 0.01, 0.01, -999, 9,  -999.00, 9, -999, -999, 9, -999
49NZ20031106, A10, 15, 1, 4, 12016, 9, 20031112, 124, -29.9965, -37.4958, 3188,   1000.3, 2,   3.9274, 2,  34.2969, 2, -999.0000, 9,    214.0, 1,   -999.0, 9,  -999.00, 9,  -999.00, 9,  -999.00, 9,  -999.00, 9, -999.000, 9, -999.000, 9, -999.000, 9,   -999.0, 9,   -999.0, 9, -999.0000, 9,   -999.00, -999.000, 9, -999.000,   -999.0, 9,   -999.0,  -999.00, 9,   -999.0,   3.8526, 27.2416,   3.9273, 2, 999.3, 2, 221.84, 2, -999, -999, -999, -999, -999, 9,  -999.00, 9, -999, -999, 9, -999
49NZ20031106, A10, 15, 1, 3, 12012, 9, 20031112, 124, -29.9965, -37.4958, 3188,   1000.3, 2,   3.9273, 2,  34.2969, 2, -999.0000, 9,    213.9, 1,   -999.0, 9,  -999.00, 9,  -999.00, 9,  -999.00, 9,  -999.00, 9, -999.000, 9, -999.000, 9, -999.000, 9,   -999.0, 9,   -999.0, 9, -999.0000, 9,   -999.00, -999.000, 9, -999.000,   -999.0, 9,   -999.0,  -999.00, 9,   -999.0,   3.8525, 27.2417,   3.9268, 2, 999.3, 2, 221.84, 2, -999, -999, -999, -999, -999, 9,  -999.00, 9, -999, -999, 9, -999
49NZ20031106, A10, 15, 1, 5, 12017, 9, 20031112, 124, -29.9965, -37.4958, 3188,   1000.4, 2,   3.9278, 2,  34.2970, 2, -999.0000, 9,    214.1, 1,   -999.0, 9,  -999.00, 9,  -999.00, 9,  -999.00, 9,  -999.00, 9, -999.000, 9, -999.000, 9, -999.000, 9,   -999.0, 9,   -999.0, 9, -999.0000, 9,   -999.00, -999.000, 9, -999.000,   -999.0, 9,   -999.0,  -999.00, 9,   -999.0,   3.8530, 27.2416,   3.9275, 2, 999.4, 2, 221.85, 2, -999, -999, -999, -999, -999, 9,  -999.00, 9, -999, -999, 9, -999
49NZ20031106, A10, 15, 1, 23, 12035, 2, 20031112, 124, -29.9965, -37.4958, 3188,   1000.5, 2,   3.9257, 2,  34.2969, 2,  34.2968, 2,    214.2, 1,    222.2, 2,    28.37, 2,    30.30, 2,    -0.01, 2,     2.08, 2,    2.002, 6,    0.959, 6,    0.093, 4,   2186.9, 2,   2298.4, 2,    7.6474, 2,     25.00, -999.000, 9, -999.000,   -999.0, 9,   -999.0,  -999.00, 9,   -999.0,   3.8509, 27.2418,   3.9259, 2, 999.5, 2, 221.88, 2, 0.18, 0.12, 0.01, 0.02, -999, 9,  -999.00, 9, -999, -999, 9, -999
49NZ20031106, A10, 15, 1, 2, 12014, 9, 20031112, 124, -29.9965, -37.4958, 3188,   1000.8, 2,   3.9269, 2,  34.2970, 2, -999.0000, 9,    213.8, 1,   -999.0, 9,  -999.00, 9,  -999.00, 9,  -999.00, 9,  -999.00, 9, -999.000, 9, -999.000, 9, -999.000, 9,   -999.0, 9,   -999.0, 9, -999.0000, 9,   -999.00, -999.000, 9, -999.000,   -999.0, 9,   -999.0,  -999.00, 9,   -999.0,   3.8521, 27.2416,   3.9272, 2, 999.7, 2, 221.9, 2, -999, -999, -999, -999, -999, 9,  -999.00, 9, -999, -999, 9, -999
49NZ20031106, A10, 15, 1, 22, 12034, 2, 20031112, 124, -29.9965, -37.4958, 3188,   1201.3, 2,   3.1886, 2,  34.3807, 2,  34.3805, 2,    195.0, 1,    202.1, 2,    43.62, 2,    32.50, 2,    -0.01, 2,     2.24, 2,    0.934, 2,    0.472, 2,    0.021, 4,   2212.8, 2,   2309.1, 2,    7.6135, 2,     25.00, -999.000, 9, -999.000,   -999.0, 9,   -999.0,  -999.00, 9,   -999.0,   3.1036, 27.381,   3.1883, 2, 1200.4, 2, 202.05, 2, 0.21, 0.12, 0.01, 0.02, -999, 9,  -999.00, 9, -999, -999, 9, -999
49NZ20031106, A10, 15, 1, 21, 12033, 2, 20031112, 124, -29.9965, -37.4958, 3188,   1398.9, 2,   2.9301, 2,  34.5277, 2,  34.5277, 2,    182.8, 1,    189.3, 2,    53.84, 2,    32.39, 2,    -0.01, 2,     2.22, 2, -999.000, 5, -999.000, 5, -999.000, 5,   2228.8, 2,   2324.8, 2,    7.6066, 2,     25.00, -999.000, 9, -999.000,   -999.0, 9,   -999.0,  -999.00, 9,   -999.0,   2.8315, 27.523,   2.9301, 2, 1399.4, 2, 189.12, 2, 0.24, 0.12, 0.01, 0.02, -999, 9,  -999.00, 9, -999, -999, 9, -999
49NZ20031106, A10, 15, 1, 20, 12032, 2, 20031112, 124, -29.9965, -37.4958, 3188,   1600.5, 2,   2.8670, 2,  34.6558, 2,  34.6557, 2,    186.5, 1,    193.0, 2,    55.09, 2,    30.41, 2,    -0.01, 2,     2.08, 2,    0.070, 2,    0.055, 2,    0.000, 4,   2225.7, 2,   2330.9, 2,    7.6253, 2,     25.00, -999.000, 9, -999.000,   -999.0, 9,   -999.0,  -999.00, 9,   -999.0,   2.7521, 27.6326,   2.8668, 2, 1599.1, 2, 193.06, 2, 0.24, 0.12, 0.01, 0.02, -999, 9,  -999.00, 9, -999, -999, 9, -999
49NZ20031106, A10, 15, 1, 19, 12031, 2, 20031112, 124, -29.9965, -37.4958, 3188,   1801.0, 2,   3.0010, 2,  34.7820, 2,  34.7829, 2,    202.5, 1,    209.6, 2,    47.41, 2,    26.94, 2,    -0.01, 2,     1.83, 2, -999.000, 5, -999.000, 5, -999.000, 5,   2211.1, 2,   2334.9, 2,    7.6647, 2,     25.00, -999.000, 9, -999.000,   -999.0, 9,   -999.0,  -999.00, 9,   -999.0,   2.8668, 27.7234,   3.0010, 2, 1801.1, 2, 208.19, 2, 0.22, 0.11, 0.01, 0.01, -999, 9,  -999.00, 9, -999, -999, 9, -999
49NZ20031106, A10, 15, 1, 18, 12030, 2, 20031112, 124, -29.9965, -37.4958, 3188,   2000.9, 2,   3.1560, 2,  34.8665, 2,  34.8654, 2,    220.0, 1,    227.8, 2,    37.34, 2,    23.83, 2,    -0.01, 2,     1.62, 2,    0.019, 2,    0.019, 2,    0.000, 4,   2193.9, 2,   2331.3, 2,    7.6999, 2,     25.00, -999.000, 9, -999.000,   -999.0, 9,   -999.0,  -999.00, 9,   -999.0,   3.0013, 27.7786,   3.1555, 2, 2000.5, 2, 226.82, 2, 0.2, 0.1, 0.01, 0.01, -999, 9,  -999.00, 9, -999, -999, 9, -999
49NZ20031106, A10, 15, 1, 11, 12023, 9, 20031112, 124, -29.9965, -37.4958, 3188,   2102.0, 2,   3.1705, 2,  34.8892, 2, -999.0000, 9,    226.2, 1,   -999.0, 9,  -999.00, 9,  -999.00, 9,  -999.00, 9,  -999.00, 9, -999.000, 9, -999.000, 9, -999.000, 9,   -999.0, 9,   -999.0, 9, -999.0000, 9,   -999.00, -999.000, 9, -999.000,   -999.0, 9,   -999.0,  -999.00, 9,   -999.0,   3.0061, 27.7963,   3.1704, 2, 2101.7, 2, 234.76, 2, -999, -999, -999, -999, -999, 9,  -999.00, 9, -999, -999, 9, -999
49NZ20031106, A10, 15, 1, 17, 12029, 2, 20031112, 124, -29.9965, -37.4958, 3188,   2200.3, 2,   3.1651, 2,  34.9065, 2,  34.9052, 2,    231.2, 1,    239.3, 2,    31.93, 2,    22.06, 2,    -0.01, 2,     1.49, 2,    0.021, 2,    0.024, 2,    0.000, 4,   2183.0, 2,   2328.9, 2,    7.7222, 2,     25.00, -999.000, 9, -999.000,   -999.0, 9,   -999.0,  -999.00, 9,   -999.0,   2.9914, 27.8112,   3.1650, 2, 2200.2, 2, 238.96, 2, 0.19, 0.09, 0.01, 0.01, -999, 9,  -999.00, 9, -999, -999, 9, -999
49NZ20031106, A10, 15, 1, 10, 12022, 9, 20031112, 124, -29.9965, -37.4958, 3188,   2300.6, 2,   3.0097, 2,  34.8952, 2, -999.0000, 9,    231.0, 1,   -999.0, 9,  -999.00, 9,  -999.00, 9,  -999.00, 9,  -999.00, 9, -999.000, 9, -999.000, 9, -999.000, 9,   -999.0, 9,   -999.0, 9, -999.0000, 9,   -999.00, -999.000, 9, -999.000,   -999.0, 9,   -999.0,  -999.00, 9,   -999.0,   2.8291, 27.8172,   3.0097, 2, 2301.1, 2, 238.86, 2, -999, -999, -999, -999, -999, 9,  -999.00, 9, -999, -999, 9, -999
49NZ20031106, A10, 15, 1, 16, 12028, 2, 20031112, 124, -29.9965, -37.4958, 3188,   2400.2, 2,   3.0363, 2,  34.9134, 2,  34.9135, 2,    235.9, 1,    244.0, 2,    31.65, 2,    21.50, 2,    -0.01, 2,     1.45, 2,    0.014, 2,    0.020, 2,    0.000, 4,   2181.1, 6,   2327.9, 2,    7.7296, 2,     25.00, -999.000, 9, -999.000,   -999.0, 9,   -999.0,  -999.00, 9,   -999.0,   2.8456, 27.8303,   3.0363, 2, 2399.9, 2, 243.42, 2, 0.19, 0.09, 0.01, 0.01, -999, 9,  -999.00, 9, -999, -999, 9, -999
49NZ20031106, A10, 15, 1, 9, 12015, 9, 20031112, 124, -29.9965, -37.4958, 3188,   2499.2, 2,   2.9575, 2,  34.9097, 2, -999.0000, 9,    236.4, 1,   -999.0, 9,  -999.00, 9,  -999.00, 9,  -999.00, 9,  -999.00, 9, -999.000, 9, -999.000, 9, -999.000, 9,   -999.0, 9,   -999.0, 9, -999.0000, 9,   -999.00, -999.000, 9, -999.000,   -999.0, 9,   -999.0,  -999.00, 9,   -999.0,   2.7585, 27.8352,   2.9576, 2, 2499.1, 2, 244.55, 2, -999, -999, -999, -999, -999, 9,  -999.00, 9, -999, -999, 9, -999
49NZ20031106, A10, 15, 1, 15, 12027, 2, 20031112, 124, -29.9965, -37.4958, 3188,   2600.0, 2,   2.9344, 2,  34.9141, 2,  34.9136, 2,    238.3, 1,    246.1, 2,    32.45, 2,    21.31, 2,    -0.01, 2,     1.44, 2,    0.006, 2,    0.013, 2,    0.000, 4,   2180.2, 2,   2326.2, 6,    7.7323, 2,     25.00, -999.000, 9, -999.000,   -999.0, 9,   -999.0,  -999.00, 9,   -999.0,   2.7259, 27.8416,   2.9343, 2, 2600, 2, 246.08, 2, 0.19, 0.09, 0.01, 0.01, -999, 9,  -999.00, 9, -999, -999, 9, -999
49NZ20031106, A10, 15, 1, 8, 12020, 9, 20031112, 124, -29.9965, -37.4958, 3188,   2699.8, 2,   2.8942, 2,  34.9170, 2, -999.0000, 9,    240.2, 1,   -999.0, 9,  -999.00, 9,  -999.00, 9,  -999.00, 9,  -999.00, 9, -999.000, 9, -999.000, 9, -999.000, 9,   -999.0, 9,   -999.0, 9, -999.0000, 9,   -999.00, -999.000, 9, -999.000,   -999.0, 9,   -999.0,  -999.00, 9,   -999.0,   2.6765, 27.8484,   2.8943, 2, 2699.9, 2, 247.53, 2, -999, -999, -999, -999, -999, 9,  -999.00, 9, -999, -999, 9, -999
49NZ20031106, A10, 15, 1, 14, 12026, 2, 20031112, 124, -29.9965, -37.4958, 3188,   2799.9, 2,   2.8508, 2,  34.9187, 2,  34.9189, 2,    241.8, 1,    249.3, 2,    32.30, 2,    20.91, 2,    -0.01, 2,     1.42, 2,    0.005, 2,    0.009, 2,    0.000, 4,   2179.2, 2,   2330.5, 2,    7.7371, 6,     25.00, -999.000, 9, -999.000,   -999.0, 9,   -999.0,  -999.00, 9,   -999.0,   2.6239, 27.8545,   2.8508, 2, 2800, 2, 249.23, 2, 0.19, 0.09, 0.01, 0.01, -999, 9,  -999.00, 9, -999, -999, 9, -999
49NZ20031106, A10, 15, 1, 7, 12019, 9, 20031112, 124, -29.9965, -37.4958, 3188,   2898.9, 2,   2.7829, 2,  34.9159, 2, -999.0000, 9,    242.4, 1,   -999.0, 9,  -999.00, 9,  -999.00, 9,  -999.00, 9,  -999.00, 9, -999.000, 9, -999.000, 9, -999.000, 9,   -999.0, 9,   -999.0, 9, -999.0000, 9,   -999.00, -999.000, 9, -999.000,   -999.0, 9,   -999.0,  -999.00, 9,   -999.0,   2.5473, 27.8588,   2.7829, 2, 2899, 2, 249.71, 2, -999, -999, -999, -999, -999, 9,  -999.00, 9, -999, -999, 9, -999
49NZ20031106, A10, 15, 1, 13, 12025, 2, 20031112, 124, -29.9965, -37.4958, 3188,   2999.4, 2,   2.6845, 2,  34.9101, 2,  34.9099, 2,    243.1, 1,    249.9, 2,    35.50, 2,    21.13, 2,    -0.01, 2,     1.43, 2,    0.010, 2,    0.012, 2,    0.000, 4,   2180.5, 2,   2332.2, 2,    7.7384, 2,     25.00, -999.000, 9, -999.000,   -999.0, 9,   -999.0,  -999.00, 9,   -999.0,   2.4408, 27.8633,   2.6849, 2, 2999.3, 2, 249.83, 2, 0.2, 0.09, 0.01, 0.01, -999, 9,  -999.00, 9, -999, -999, 9, -999
49NZ20031106, A10, 15, 1, 12, 12024, 2, 20031112, 124, -29.9965, -37.4958, 3188,   3000.1, 2,   2.6849, 2,  34.9100, 2,  34.9098, 2,    243.1, 1,    249.8, 2,    35.50, 2,    21.08, 2,    -0.01, 2,     1.43, 2,    0.007, 2,    0.011, 2,    0.000, 4,   2182.0, 2,   2330.5, 2,    7.7366, 2,     25.00, -999.000, 9, -999.000,   -999.0, 9,   -999.0,  -999.00, 9,   -999.0,   2.4411, 27.8632,   2.6851, 2, 3000, 2, 249.85, 2, 0.2, 0.09, 0.01, 0.01, -999, 9,  -999.00, 9, -999, -999, 9, -999
49NZ20031106, A10, 15, 1, 6, 12018, 9, 20031112, 124, -29.9965, -37.4958, 3188,   3100.1, 2,   2.6071, 2,  34.9062, 2, -999.0000, 9,    243.9, 1,   -999.0, 9,  -999.00, 9,  -999.00, 9,  -999.00, 9,  -999.00, 9, -999.000, 9, -999.000, 9, -999.000, 9,   -999.0, 9,   -999.0, 9, -999.0000, 9,   -999.00, -999.000, 9, -999.000,   -999.0, 9,   -999.0,  -999.00, 9,   -999.0,   2.3547, 27.8678,   2.6071, 2, 3100, 2, 250.42, 2, -999, -999, -999, -999, -999, 9,  -999.00, 9, -999, -999, 9, -999
49NZ20031106, A10, 15, 1, 1, 12013, 2, 20031112, 124, -29.9965, -37.4958, 3188,   3243.6, 2,   2.5437, 2,  34.9014, 2,  34.9013, 2,    245.0, 1,    250.4, 2,    38.68, 2,    21.36, 2,    -0.01, 2,     1.45, 2,    0.004, 2,    0.012, 2,    0.000, 4,   2183.8, 2,   2334.4, 2,    7.7344, 2,     25.00, -999.000, 9, -999.000,   -999.0, 9,   -999.0,  -999.00, 9,   -999.0,   2.2777, 27.8704,   2.5437, 2, 3243.6, 2, 250.3, 2, 0.2, 0.09, 0.01, 0.01, -999, 9,  -999.00, 9, -999, -999, 9, -999