BOTTLE,20220818CCHSIOAMB
EXPOCODE,SECT_ID,STNNBR,CASTNO,SAMPNO,BTLNBR,BTLNBR_FLAG_W,DATE,TIME,LATITUDE,LONGITUDE,DEPTH,CTDPRS,CTDPRS_FLAG_W,CTDTMP,CTDTMP_FLAG_W,CTDSAL,CTDSAL_FLAG_W,SALNTY,SALNTY_FLAG_W,CTDOXY,CTDOXY_FLAG_W,OXYGEN,OXYGEN_FLAG_W,SILCAT,SILCAT_FLAG_W,NITRAT,NITRAT_FLAG_W,NITRIT,NITRIT_FLAG_W,PHSPHT,PHSPHT_FLAG_W,CFC-11,CFC-11_FLAG_W,CFC-12,CFC-12_FLAG_W,CFC113,CFC113_FLAG_W,TCARBN,TCARBN_FLAG_W,ALKALI,ALKALI_FLAG_W,PH_TOT,PH_TOT_FLAG_W,PH_TMP,TRITUM,TRITUM_FLAG_W,TRITER,DELC14,DELC14_FLAG_W,C14ERR,DELC13,DELC13_FLAG_W,C13ERR,THETA,SIG0,SBE35,SBE35_FLAG_W,DWNPRS,DWNPRS_FLAG_W,DWNOXY,DWNOXY_FLAG_W,SILUNC,NRAUNC,NRIUNC,PHPUNC,TOC,TOC_FLAG_W,CS-137,CS-137_FLAG_W,CS137ER,PLUTO,PLUTO_FLAG_W,PLUTOER
,,,,,,,,,,,METERS,DBAR,,ITS-90,,PSS-78,,PSS-78,,UMOL/KG,,UMOL/KG,,UMOL/KG,,UMOL/KG,,UMOL/KG,,UMOL/KG,,PMOL/KG,,PMOL/KG,,PMOL/KG,,UMOL/KG,,UMOL/KG,,,,DEG C,TU,,TU,/MILLE,,/MILLE,/MILLE,,/MILLE,DEG C,KG/M^3,ITS-90,,DBAR,,UMOL/KG,,UMOL/KG,UMOL/KG,UMOL/KG,UMOL/KG,UMOL/KG,,BQ/M^3,,BQ/M^3,MBQ/M^3,,MBQ/M^3
49NZ20031106, A10, 82, 1, 36, 12024, 2, 20031128, 1750, -29.7512, 5.1077, 5211,     10.1, 2,  19.0780, 2,  35.7330, 2,  35.7351, 2,    223.1, 1,    236.0, 2,     1.66, 2,     0.02, 2,     0.01, 2,     0.20, 2, -999.000, 9, -999.000, 9, -999.000, 9,   -999.0, 9,   -999.0, 9, -999.0000, 9,   -999.00, -999.000, 9, -999.000,   -999.0, 9,   -999.0,  -999.00, 9,   -999.0,  19.0762, 25.5657,  19.0772, 2, 4.5, 2, 235.86, 2, 0.12, 0.03, 0.01, 0.02, -999, 9,  -999.00, 9, -999, -999, 9, -999
49NZ20031106, A10, 82, 1, 1, 12025, 9, 20031128, 1750, -29.7512, 5.1077, 5211,     10.3, 2,  19.0780, 2,  35.7331, 2, -999.0000, 9,    223.4, 1,   -999.0, 9,  -999.00, 9,  -999.00, 9,  -999.00, 9,  -999.00, 9, -999.000, 9, -999.000, 9, -999.000, 9,   -999.0, 9,   -999.0, 9, -999.0000, 9,   -999.00, -999.000, 9, -999.000,   -999.0, 9,   -999.0,  -999.00, 9,   -999.0,  19.0762, 25.5646,  19.0819, 2, 4.6, 2, 235.85, 2, -999, -999, -999, -999, -999, 9,  -999.00, 9, -999, -999, 9, -999
49NZ20031106, A10, 82, 1, 35, 12023, 2, 20031128, 1750, -29.7512, 5.1077, 5211,     50.6, 2,  18.2563, 2,  35.7056, 2,  35.7077, 2,    229.8, 1,    242.4, 2,     1.71, 2,     0.00, 2,     0.01, 2,     0.20, 2, -999.000, 9, -999.000, 9, -999.000, 9,   -999.0, 9,   -999.0, 9, -999.0000, 9,   -999.00, -999.000, 9, -999.000,   -999.0, 9,   -999.0,  -999.00, 9,   -999.0,  18.2475, 25.7576,  18.2497, 2, 42.4, 2, 244.01, 2, 0.12, 0.03, 0.01, 0.02, -999, 9,  -999.00, 9, -999, -999, 9, -999
49NZ20031106, A10, 82, 1, 34, 12022, 2, 20031128, 1750, -29.7512, 5.1077, 5211,    101.1, 2,  16.0395, 2,  35.5416, 2,  35.5435, 2,    221.8, 1,    233.8, 2,     2.90, 2,     3.25, 2,     0.03, 2,     0.39, 2, -999.000, 9, -999.000, 9, -999.000, 9,   -999.0, 9,   -999.0, 9, -999.0000, 9,   -999.00, -999.000, 9, -999.000,   -999.0, 9,   -999.0,  -999.00, 9,   -999.0,  16.0234, 26.1616,  16.0398, 2, 101.5, 2, 233.14, 2, 0.13, 0.04, 0.01, 0.01, -999, 9,  -999.00, 9, -999, -999, 9, -999
49NZ20031106, A10, 82, 1, 33, 12015, 2, 20031128, 1750, -29.7512, 5.1077, 5211,    149.4, 2,  15.5437, 2,  35.4692, 2,  35.4696, 2,    218.1, 1,    229.2, 2,     2.85, 2,     4.11, 2,     0.02, 2,     0.45, 2, -999.000, 9, -999.000, 9, -999.000, 9,   -999.0, 9,   -999.0, 9, -999.0000, 9,   -999.00, -999.000, 9, -999.000,   -999.0, 9,   -999.0,  -999.00, 9,   -999.0,  15.5205, 26.2206,  15.5420, 2, 150.3, 2, 227.96, 2, 0.13, 0.04, 0.01, 0.01, -999, 9,  -999.00, 9, -999, -999, 9, -999
49NZ20031106, A10, 82, 1, 32, 12020, 2, 20031128, 1750, -29.7512, 5.1077, 5211,    200.6, 2,  13.8075, 2,  35.1892, 2,  35.1902, 2,    211.6, 1,    222.1, 2,     2.97, 2,     6.93, 2,     0.02, 2,     0.63, 2, -999.000, 9, -999.000, 9, -999.000, 9,   -999.0, 9,   -999.0, 9, -999.0000, 9,   -999.00, -999.000, 9, -999.000,   -999.0, 9,   -999.0,  -999.00, 9,   -999.0,  13.7787, 26.3814,  13.8127, 2, 206.4, 2, 221.33, 2, 0.13, 0.05, 0.01, 0.01, -999, 9,  -999.00, 9, -999, -999, 9, -999
49NZ20031106, A10, 82, 1, 31, 12019, 2, 20031128, 1750, -29.7512, 5.1077, 5211,    250.2, 2,  13.4898, 2,  35.1963, 2,  35.1963, 2,    204.1, 1,    214.1, 2,     3.79, 2,     8.64, 2,     0.01, 2,     0.73, 2, -999.000, 9, -999.000, 9, -999.000, 9,   -999.0, 9,   -999.0, 9, -999.0000, 9,   -999.00, -999.000, 9, -999.000,   -999.0, 9,   -999.0,  -999.00, 9,   -999.0,  13.4544, 26.4549,  13.4894, 2, 249.5, 2, 214.02, 2, 0.13, 0.06, 0.01, 0.01, -999, 9,  -999.00, 9, -999, -999, 9, -999
49NZ20031106, A10, 82, 1, 30, 12018, 2, 20031128, 1750, -29.7512, 5.1077, 5211,    300.7, 2,  12.6370, 2,  35.1045, 2,  35.1040, 2,    205.5, 1,    215.5, 2,     3.99, 2,    10.21, 2,     0.01, 2,     0.82, 2, -999.000, 9, -999.000, 9, -999.000, 9,   -999.0, 9,   -999.0, 9, -999.0000, 9,   -999.00, -999.000, 9, -999.000,   -999.0, 9,   -999.0,  -999.00, 9,   -999.0,  12.5962, 26.556,  12.6362, 2, 297.3, 2, 214.58, 2, 0.13, 0.06, 0.01, 0.01, -999, 9,  -999.00, 9, -999, -999, 9, -999
49NZ20031106, A10, 82, 1, 29, 12017, 2, 20031128, 1750, -29.7512, 5.1077, 5211,    401.1, 2,  10.7516, 2,  34.8892, 2,  34.8888, 2,    197.1, 1,    206.4, 2,     6.41, 2,    15.52, 2,     0.01, 2,     1.14, 2, -999.000, 9, -999.000, 9, -999.000, 9,   -999.0, 9,   -999.0, 9, -999.0000, 9,   -999.00, -999.000, 9, -999.000,   -999.0, 9,   -999.0,  -999.00, 9,   -999.0,  10.7025, 26.7436,  10.7522, 2, 401.9, 2, 210.92, 2, 0.13, 0.08, 0.01, 0.01, -999, 9,  -999.00, 9, -999, -999, 9, -999
49NZ20031106, A10, 82, 1, 28, 12016, 2, 20031128, 1750, -29.7512, 5.1077, 5211,    499.5, 2,   9.0471, 2,  34.6860, 2,  34.6842, 2,    189.7, 1,    198.5, 2,    10.02, 2,    20.36, 2,     0.01, 2,     1.45, 2, -999.000, 9, -999.000, 9, -999.000, 9,   -999.0, 9,   -999.0, 9, -999.0000, 9,   -999.00, -999.000, 9, -999.000,   -999.0, 9,   -999.0,  -999.00, 9,   -999.0,   8.9919, 26.8746,   9.0471, 2, 501.8, 2, 198.82, 2, 0.14, 0.09, 0.01, 0.01, -999, 9,  -999.00, 9, -999, -999, 9, -999
49NZ20031106, A10, 82, 1, 27, 12012, 2, 20031128, 1750, -29.7512, 5.1077, 5211,    600.8, 2,   7.6970, 2,  34.5644, 2,  34.5635, 2,    175.5, 1,    183.3, 2,    14.61, 2,    25.27, 2,     0.01, 2,     1.76, 2, -999.000, 9, -999.000, 9, -999.000, 9,   -999.0, 9,   -999.0, 9, -999.0000, 9,   -999.00, -999.000, 9, -999.000,   -999.0, 9,   -999.0,  -999.00, 9,   -999.0,   7.6364, 26.9858,   7.6950, 2, 596.4, 2, 185.55, 2, 0.15, 0.1, 0.01, 0.01, -999, 9,  -999.00, 9, -999, -999, 9, -999
49NZ20031106, A10, 82, 1, 26, 12014, 2, 20031128, 1750, -29.7512, 5.1077, 5211,    700.9, 2,   6.2258, 2,  34.4305, 2,  34.4295, 2,    190.4, 1,    199.0, 2,    18.11, 2,    27.51, 2,     0.01, 2,     1.89, 2, -999.000, 9, -999.000, 9, -999.000, 9,   -999.0, 9,   -999.0, 9, -999.0000, 9,   -999.00, -999.000, 9, -999.000,   -999.0, 9,   -999.0,  -999.00, 9,   -999.0,   6.1625, 27.082,   6.2265, 2, 693.5, 2, 200.68, 2, 0.16, 0.11, 0.01, 0.01, -999, 9,  -999.00, 9, -999, -999, 9, -999
49NZ20031106, A10, 82, 1, 25, 12013, 2, 20031128, 1750, -29.7512, 5.1077, 5211,    800.6, 2,   5.0173, 2,  34.3811, 2,  34.3806, 2,    180.3, 1,    188.5, 2,    25.27, 2,    31.20, 2,     0.01, 2,     2.13, 2, -999.000, 9, -999.000, 9, -999.000, 9,   -999.0, 9,   -999.0, 9, -999.0000, 9,   -999.00, -999.000, 9, -999.000,   -999.0, 9,   -999.0,  -999.00, 9,   -999.0,   4.9518, 27.1895,   5.0256, 2, 797.8, 2, 194.09, 2, 0.17, 0.12, 0.01, 0.02, -999, 9,  -999.00, 9, -999, -999, 9, -999
49NZ20031106, A10, 82, 1, 24, 12048, 2, 20031128, 1750, -29.7512, 5.1077, 5211,    900.5, 2,   4.2134, 2,  34.3671, 2,  34.3671, 2,    186.8, 1,    195.4, 2,    33.28, 2,    31.85, 2,     0.01, 2,     2.19, 2, -999.000, 9, -999.000, 9, -999.000, 9,   -999.0, 9,   -999.0, 9, -999.0000, 9,   -999.00, -999.000, 9, -999.000,   -999.0, 9,   -999.0,  -999.00, 9,   -999.0,   4.1447, 27.2679,   4.2139, 2, 898, 2, 194.16, 2, 0.19, 0.12, 0.01, 0.02, -999, 9,  -999.00, 9, -999, -999, 9, -999
49NZ20031106, A10, 82, 1, 2, 12026, 9, 20031128, 1750, -29.7512, 5.1077, 5211,   1000.0, 2,   3.7790, 2,  34.4049, 2, -999.0000, 9,    178.8, 1,   -999.0, 9,  -999.00, 9,  -999.00, 9,  -999.00, 9,  -999.00, 9, -999.000, 9, -999.000, 9, -999.000, 9,   -999.0, 9,   -999.0, 9, -999.0000, 9,   -999.00, -999.000, 9, -999.000,   -999.0, 9,   -999.0,  -999.00, 9,   -999.0,   3.7052, 27.3431,   3.7794, 2, 997.6, 2, 187.8, 2, -999, -999, -999, -999, -999, 9,  -999.00, 9, -999, -999, 9, -999
49NZ20031106, A10, 82, 1, 3, 12027, 9, 20031128, 1750, -29.7512, 5.1077, 5211,   1000.1, 2,   3.7730, 2,  34.4057, 2, -999.0000, 9,    178.8, 1,   -999.0, 9,  -999.00, 9,  -999.00, 9,  -999.00, 9,  -999.00, 9, -999.000, 9, -999.000, 9, -999.000, 9,   -999.0, 9,   -999.0, 9, -999.0000, 9,   -999.00, -999.000, 9, -999.000,   -999.0, 9,   -999.0,  -999.00, 9,   -999.0,   3.6992, 27.3439,   3.7745, 2, 997.9, 2, 187.82, 2, -999, -999, -999, -999, -999, 9,  -999.00, 9, -999, -999, 9, -999
49NZ20031106, A10, 82, 1, 23, 12047, 2, 20031128, 1750, -29.7512, 5.1077, 5211,   1000.2, 2,   3.7726, 2,  34.4056, 2,  34.4048, 2,    178.8, 1,    187.3, 2,    41.18, 2,    32.82, 2,     0.01, 2,     2.27, 2, -999.000, 9, -999.000, 9, -999.000, 9,   -999.0, 9,   -999.0, 9, -999.0000, 9,   -999.00, -999.000, 9, -999.000,   -999.0, 9,   -999.0,  -999.00, 9,   -999.0,   3.6988, 27.3442,   3.7736, 2, 998, 2, 187.82, 2, 0.21, 0.12, 0.01, 0.02, -999, 9,  -999.00, 9, -999, -999, 9, -999
49NZ20031106, A10, 82, 1, 22, 12046, 2, 20031128, 1750, -29.7512, 5.1077, 5211,   1198.5, 2,   3.3836, 2,  34.5317, 2,  34.5338, 2,    169.5, 1,    177.5, 2,    48.32, 2,    32.80, 2,     0.00, 2,     2.27, 2, -999.000, 9, -999.000, 9, -999.000, 9,   -999.0, 9,   -999.0, 9, -999.0000, 9,   -999.00, -999.000, 9, -999.000,   -999.0, 9,   -999.0,  -999.00, 9,   -999.0,   3.2968, 27.4841,   3.3836, 2, 1199.1, 2, 178.42, 2, 0.23, 0.12, 0.01, 0.02, -999, 9,  -999.00, 9, -999, -999, 9, -999
49NZ20031106, A10, 82, 1, 21, 12045, 2, 20031128, 1750, -29.7512, 5.1077, 5211,   1399.9, 2,   3.2076, 2,  34.6578, 2,  34.6597, 2,    177.8, 1,    186.4, 2,    49.07, 2,    30.58, 2,     0.00, 2,     2.11, 2, -999.000, 9, -999.000, 9, -999.000, 9,   -999.0, 9,   -999.0, 9, -999.0000, 9,   -999.00, -999.000, 9, -999.000,   -999.0, 9,   -999.0,  -999.00, 9,   -999.0,   3.1056, 27.6027,   3.2072, 2, 1401, 2, 185.32, 2, 0.23, 0.12, 0.01, 0.02, -999, 9,  -999.00, 9, -999, -999, 9, -999
49NZ20031106, A10, 82, 1, 20, 12044, 2, 20031128, 1750, -29.7512, 5.1077, 5211,   1599.3, 2,   3.1435, 2,  34.7511, 2,  34.7507, 2,    189.3, 1,    198.8, 2,    46.01, 2,    28.24, 2,     0.01, 2,     1.94, 2, -999.000, 9, -999.000, 9, -999.000, 9,   -999.0, 9,   -999.0, 9, -999.0000, 9,   -999.00, -999.000, 9, -999.000,   -999.0, 9,   -999.0,  -999.00, 9,   -999.0,   3.0251, 27.6847,   3.1436, 2, 1600.1, 2, 196.75, 2, 0.22, 0.11, 0.01, 0.01, -999, 9,  -999.00, 9, -999, -999, 9, -999
49NZ20031106, A10, 82, 1, 19, 12043, 2, 20031128, 1750, -29.7512, 5.1077, 5211,   1800.0, 2,   3.0897, 2,  34.8120, 2,  34.8121, 2,    201.0, 1,    211.2, 2,    42.74, 2,    26.22, 2,     0.01, 2,     1.80, 2, -999.000, 9, -999.000, 9, -999.000, 9,   -999.0, 9,   -999.0, 9, -999.0000, 9,   -999.00, -999.000, 9, -999.000,   -999.0, 9,   -999.0,  -999.00, 9,   -999.0,   2.9543, 27.7398,   3.0897, 2, 1799.9, 2, 210.58, 2, 0.21, 0.11, 0.01, 0.01, -999, 9,  -999.00, 9, -999, -999, 9, -999
49NZ20031106, A10, 82, 1, 18, 12042, 2, 20031128, 1750, -29.7512, 5.1077, 5211,   1999.3, 2,   2.9781, 2,  34.8448, 2,  34.8442, 2,    210.3, 1,    221.4, 2,    41.74, 2,    24.90, 2,     0.01, 2,     1.71, 2, -999.000, 9, -999.000, 9, -999.000, 9,   -999.0, 9,   -999.0, 9, -999.0000, 9,   -999.00, -999.000, 9, -999.000,   -999.0, 9,   -999.0,  -999.00, 9,   -999.0,   2.8262, 27.7779,   2.9782, 2, 1999, 2, 220.88, 2, 0.21, 0.1, 0.01, 0.01, -999, 9,  -999.00, 9, -999, -999, 9, -999
49NZ20031106, A10, 82, 1, 17, 12041, 2, 20031128, 1750, -29.7512, 5.1077, 5211,   2200.7, 2,   2.8216, 2,  34.8589, 2,  34.8590, 2,    216.1, 1,    227.7, 2,    42.80, 2,    24.18, 2,     0.00, 2,     1.66, 2, -999.000, 9, -999.000, 9, -999.000, 9,   -999.0, 9,   -999.0, 9, -999.0000, 9,   -999.00, -999.000, 9, -999.000,   -999.0, 9,   -999.0,  -999.00, 9,   -999.0,   2.6537, 27.8047,   2.8216, 2, 2200.5, 2, 227.39, 2, 0.21, 0.1, 0.01, 0.01, -999, 9,  -999.00, 9, -999, -999, 9, -999
49NZ20031106, A10, 82, 1, 16, 12040, 2, 20031128, 1750, -29.7512, 5.1077, 5211,   2400.5, 2,   2.6693, 2,  34.8604, 2,  34.8605, 2,    218.6, 1,    230.8, 2,    45.41, 2,    23.98, 2,     0.01, 2,     1.65, 2, -999.000, 9, -999.000, 9, -999.000, 9,   -999.0, 9,   -999.0, 9, -999.0000, 9,   -999.00, -999.000, 9, -999.000,   -999.0, 9,   -999.0,  -999.00, 9,   -999.0,   2.4852, 27.8205,   2.6695, 2, 2400.3, 2, 230.55, 2, 0.22, 0.1, 0.01, 0.01, -999, 9,  -999.00, 9, -999, -999, 9, -999
49NZ20031106, A10, 82, 1, 15, 12039, 2, 20031128, 1750, -29.7512, 5.1077, 5211,   2599.1, 2,   2.5603, 2,  34.8608, 2,  34.8610, 2,    218.8, 1,    230.8, 2,    48.35, 2,    24.15, 2,     0.01, 2,     1.66, 2, -999.000, 9, -999.000, 9, -999.000, 9,   -999.0, 9,   -999.0, 9, -999.0000, 9,   -999.00, -999.000, 9, -999.000,   -999.0, 9,   -999.0,  -999.00, 9,   -999.0,   2.3593, 27.8317,   2.5602, 2, 2598.7, 2, 230.79, 2, 0.23, 0.1, 0.01, 0.01, -999, 9,  -999.00, 9, -999, -999, 9, -999
49NZ20031106, A10, 82, 1, 14, 12038, 2, 20031128, 1750, -29.7512, 5.1077, 5211,   2799.0, 2,   2.4523, 2,  34.8592, 2,  34.8593, 2,    219.3, 1,    231.4, 2,    51.09, 2,    24.25, 2,     0.01, 2,     1.66, 2, -999.000, 9, -999.000, 9, -999.000, 9,   -999.0, 9,   -999.0, 9, -999.0000, 9,   -999.00, -999.000, 9, -999.000,   -999.0, 9,   -999.0,  -999.00, 9,   -999.0,   2.2339, 27.841,   2.4524, 2, 2798.8, 2, 231.5, 2, 0.23, 0.1, 0.01, 0.01, -999, 9,  -999.00, 9, -999, -999, 9, -999
49NZ20031106, A10, 82, 1, 13, 12037, 2, 20031128, 1750, -29.7512, 5.1077, 5211,   3000.6, 2,   2.3982, 2,  34.8611, 2,  34.8614, 2,    220.4, 1,    232.4, 2,    52.05, 2,    24.12, 2,     0.01, 2,     1.66, 2, -999.000, 9, -999.000, 9, -999.000, 9,   -999.0, 9,   -999.0, 9, -999.0000, 9,   -999.00, -999.000, 9, -999.000,   -999.0, 9,   -999.0,  -999.00, 9,   -999.0,   2.1608, 27.8487,   2.3981, 2, 3000.6, 2, 232.45, 2, 0.23, 0.1, 0.01, 0.01, -999, 9,  -999.00, 9, -999, -999, 9, -999
49NZ20031106, A10, 82, 1, 12, 12036, 2, 20031128, 1750, -29.7512, 5.1077, 5211,   3250.4, 2,   2.3157, 2,  34.8585, 2,  34.8589, 2,    219.9, 1,    231.7, 2,    55.08, 2,    24.35, 2,     0.01, 2,     1.67, 2, -999.000, 9, -999.000, 9, -999.000, 9,   -999.0, 9,   -999.0, 9, -999.0000, 9,   -999.00, -999.000, 9, -999.000,   -999.0, 9,   -999.0,  -999.00, 9,   -999.0,   2.0545, 27.8553,   2.3157, 2, 3250.5, 2, 231.96, 2, 0.24, 0.1, 0.01, 0.01, -999, 9,  -999.00, 9, -999, -999, 9, -999
49NZ20031106, A10, 82, 1, 11, 12035, 2, 20031128, 1750, -29.7512, 5.1077, 5211,   3500.7, 2,   2.2174, 2,  34.8513, 2,  34.8511, 2,    218.8, 1,    230.1, 2,    59.22, 2,    24.77, 2,     0.01, 2,     1.70, 2, -999.000, 9, -999.000, 9, -999.000, 9,   -999.0, 9,   -999.0, 9, -999.0000, 9,   -999.00, -999.000, 9, -999.000,   -999.0, 9,   -999.0,  -999.00, 9,   -999.0,   1.9323, 27.8592,   2.2175, 2, 3500.7, 2, 230.78, 2, 0.25, 0.1, 0.01, 0.01, -999, 9,  -999.00, 9, -999, -999, 9, -999
49NZ20031106, A10, 82, 1, 10, 12034, 2, 20031128, 1750, -29.7512, 5.1077, 5211,   3750.7, 2,   1.9713, 2,  34.8249, 2,  34.8244, 2,    215.4, 1,    226.3, 2,    69.92, 2,    26.16, 2,     0.00, 2,     1.80, 2, -999.000, 9, -999.000, 9, -999.000, 9,   -999.0, 9,   -999.0, 9, -999.0000, 9,   -999.00, -999.000, 9, -999.000,   -999.0, 9,   -999.0,  -999.00, 9,   -999.0,   1.6657, 27.8586,   1.9715, 2, 3751.2, 2, 227.34, 2, 0.27, 0.11, 0.01, 0.01, -999, 9,  -999.00, 9, -999, -999, 9, -999
49NZ20031106, A10, 82, 1, 9, 12033, 2, 20031128, 1750, -29.7512, 5.1077, 5211,   4001.3, 2,   1.5932, 2,  34.7841, 2,  34.7842, 2,    211.0, 1,    221.6, 2,    85.78, 2,    28.14, 2,     0.01, 2,     1.93, 2, -999.000, 9, -999.000, 9, -999.000, 9,   -999.0, 9,   -999.0, 9, -999.0000, 9,   -999.00, -999.000, 9, -999.000,   -999.0, 9,   -999.0,  -999.00, 9,   -999.0,   1.2709, 27.8548,   1.5932, 2, 4001.6, 2, 222.09, 2, 0.31, 0.11, 0.01, 0.01, -999, 9,  -999.00, 9, -999, -999, 9, -999
49NZ20031106, A10, 82, 1, 8, 12032, 2, 20031128, 1750, -29.7512, 5.1077, 5211,   4251.1, 2,   1.2723, 2,  34.7525, 2,  34.7530, 2,    208.9, 1,    218.4, 2,    98.56, 2,    29.67, 2,     0.00, 2,     2.05, 2, -999.000, 9, -999.000, 9, -999.000, 9,   -999.0, 9,   -999.0, 9, -999.0000, 9,   -999.00, -999.000, 9, -999.000,   -999.0, 9,   -999.0,  -999.00, 9,   -999.0,   0.9320, 27.8527,   1.2722, 2, 4251, 2, 218.74, 2, 0.34, 0.12, 0.01, 0.02, -999, 9,  -999.00, 9, -999, -999, 9, -999
49NZ20031106, A10, 82, 1, 7, 12031, 2, 20031128, 1750, -29.7512, 5.1077, 5211,   4501.3, 2,   1.1371, 2,  34.7384, 2,  34.7385, 2,    208.5, 1,    217.5, 2,   104.43, 2,    30.35, 2,     0.00, 2,     2.10, 2, -999.000, 9, -999.000, 9, -999.000, 9,   -999.0, 9,   -999.0, 9, -999.0000, 9,   -999.00, -999.000, 9, -999.000,   -999.0, 9,   -999.0,  -999.00, 9,   -999.0,   0.7729, 27.8515,   1.1371, 2, 4501.3, 2, 217.43, 2, 0.35, 0.12, 0.01, 0.02, -999, 9,  -999.00, 9, -999, -999, 9, -999
49NZ20031106, A10, 82, 1, 6, 12030, 2, 20031128, 1750, -29.7512, 5.1077, 5211,   4750.2, 2,   1.1208, 2,  34.7342, 2,  34.7344, 2,    209.3, 1,    217.1, 2,   106.16, 2,    30.56, 2,     0.00, 2,     2.12, 2, -999.000, 9, -999.000, 9, -999.000, 9,   -999.0, 9,   -999.0, 9, -999.0000, 9,   -999.00, -999.000, 9, -999.000,   -999.0, 9,   -999.0,  -999.00, 9,   -999.0,   0.7286, 27.8511,   1.1208, 2, 4750.2, 2, 217.01, 2, 0.35, 0.12, 0.01, 0.02, -999, 9,  -999.00, 9, -999, -999, 9, -999
49NZ20031106, A10, 82, 1, 5, 12029, 2, 20031128, 1750, -29.7512, 5.1077, 5211,   4999.3, 2,   1.1338, 2,  34.7323, 2,  34.7327, 2,    210.5, 1,    217.1, 2,   106.72, 2,    30.63, 2,     0.02, 2,     2.13, 2, -999.000, 9, -999.000, 9, -999.000, 9,   -999.0, 9,   -999.0, 9, -999.0000, 9,   -999.00, -999.000, 9, -999.000,   -999.0, 9,   -999.0,  -999.00, 9,   -999.0,   0.7117, 27.8509,   1.1338, 2, 4999.3, 2, 217.1, 2, 0.35, 0.12, 0.01, 0.02, -999, 9,  -999.00, 9, -999, -999, 9, -999
49NZ20031106, A10, 82, 1, 4, 12028, 2, 20031128, 1750, -29.7512, 5.1077, 5211,   5286.9, 2,   1.1608, 2,  34.7316, 2,  34.7320, 2,    212.6, 1,    216.8, 2,   107.08, 2,    30.59, 2,     0.01, 2,     2.13, 2, -999.000, 9, -999.000, 9, -999.000, 9,   -999.0, 9,   -999.0, 9, -999.0000, 9,   -999.00, -999.000, 9, -999.000,   -999.0, 9,   -999.0,  -999.00, 9,   -999.0,   0.7028, 27.8507,   1.1609, 2, 5286.9, 2, 216.76, 2, 0.35, 0.12, 0.01, 0.02, -999, 9,  -999.00, 9, -999, -999, 9, -999