BOTTLE,20220818CCHSIOAMB
EXPOCODE,SECT_ID,STNNBR,CASTNO,SAMPNO,BTLNBR,BTLNBR_FLAG_W,DATE,TIME,LATITUDE,LONGITUDE,DEPTH,CTDPRS,CTDPRS_FLAG_W,CTDTMP,CTDTMP_FLAG_W,CTDSAL,CTDSAL_FLAG_W,SALNTY,SALNTY_FLAG_W,CTDOXY,CTDOXY_FLAG_W,OXYGEN,OXYGEN_FLAG_W,SILCAT,SILCAT_FLAG_W,NITRAT,NITRAT_FLAG_W,NITRIT,NITRIT_FLAG_W,PHSPHT,PHSPHT_FLAG_W,CFC-11,CFC-11_FLAG_W,CFC-12,CFC-12_FLAG_W,CFC113,CFC113_FLAG_W,TCARBN,TCARBN_FLAG_W,ALKALI,ALKALI_FLAG_W,PH_TOT,PH_TOT_FLAG_W,PH_TMP,TRITUM,TRITUM_FLAG_W,TRITER,DELC14,DELC14_FLAG_W,C14ERR,DELC13,DELC13_FLAG_W,C13ERR,THETA,SIG0,SBE35,SBE35_FLAG_W,DWNPRS,DWNPRS_FLAG_W,DWNOXY,DWNOXY_FLAG_W,SILUNC,NRAUNC,NRIUNC,PHPUNC,TOC,TOC_FLAG_W,CS-137,CS-137_FLAG_W,CS137ER,PLUTO,PLUTO_FLAG_W,PLUTOER
,,,,,,,,,,,METERS,DBAR,,ITS-90,,PSS-78,,PSS-78,,UMOL/KG,,UMOL/KG,,UMOL/KG,,UMOL/KG,,UMOL/KG,,UMOL/KG,,PMOL/KG,,PMOL/KG,,PMOL/KG,,UMOL/KG,,UMOL/KG,,,,DEG C,TU,,TU,/MILLE,,/MILLE,/MILLE,,/MILLE,DEG C,KG/M^3,ITS-90,,DBAR,,UMOL/KG,,UMOL/KG,UMOL/KG,UMOL/KG,UMOL/KG,UMOL/KG,,BQ/M^3,,BQ/M^3,MBQ/M^3,,MBQ/M^3
49NZ20031106, A10, 80, 1, 36, 12024, 2, 20031128, 601, -29.6085, 3.7815, 4898,     10.8, 2,  18.8487, 2,  35.7700, 2,  35.7720, 2,    222.8, 1,    235.8, 2,     2.04, 2,     0.03, 2,     0.01, 2,     0.21, 2, -999.000, 9, -999.000, 9, -999.000, 9,   -999.0, 9,   -999.0, 9, -999.0000, 9,   -999.00, -999.000, 9, -999.000,   -999.0, 9,   -999.0,  -999.00, 9,   -999.0,  18.8468, 25.6523,  18.8495, 2, 10.6, 2, 236.68, 2, 0.12, 0.03, 0.01, 0.02, -999, 9,  -999.00, 9, -999, -999, 9, -999
49NZ20031106, A10, 80, 1, 35, 12023, 2, 20031128, 601, -29.6085, 3.7815, 4898,     50.5, 2,  18.2200, 2,  35.7179, 2,  35.7224, 2,    228.3, 1,    240.9, 2,     2.02, 2,     0.00, 2,     0.01, 2,     0.21, 2, -999.000, 9, -999.000, 9, -999.000, 9,   -999.0, 9,   -999.0, 9, -999.0000, 9,   -999.00, -999.000, 9, -999.000,   -999.0, 9,   -999.0,  -999.00, 9,   -999.0,  18.2112, 25.7751,  18.2169, 2, 55.2, 2, 240.53, 2, 0.12, 0.03, 0.01, 0.02, -999, 9,  -999.00, 9, -999, -999, 9, -999
49NZ20031106, A10, 80, 1, 34, 12022, 2, 20031128, 601, -29.6085, 3.7815, 4898,     99.9, 2,  16.4448, 2,  35.5627, 2,  35.5609, 2,    224.1, 1,    235.7, 2,     2.43, 2,     1.85, 2,     0.43, 2,     0.35, 2, -999.000, 9, -999.000, 9, -999.000, 9,   -999.0, 9,   -999.0, 9, -999.0000, 9,   -999.00, -999.000, 1, -999.000,   -999.0, 9,   -999.0,  -999.00, 9,   -999.0,  16.4287, 26.084,  16.4455, 2, 99.5, 2, 235.62, 2, 0.12, 0.04, 0, 0.01, -999, 9,     1.30, 2, 0.14, -999, 1, -999
49NZ20031106, A10, 80, 1, 33, 12015, 2, 20031128, 601, -29.6085, 3.7815, 4898,    150.2, 2,  15.8395, 2,  35.5200, 2,  35.5171, 2,    212.3, 1,    223.2, 2,     2.69, 2,     4.14, 2,     0.02, 2,     0.44, 2, -999.000, 9, -999.000, 9, -999.000, 9,   -999.0, 9,   -999.0, 9, -999.0000, 9,   -999.00, -999.000, 9, -999.000,   -999.0, 9,   -999.0,  -999.00, 9,   -999.0,  15.8158, 26.1917,  15.8431, 2, 149.3, 2, 221.23, 2, 0.12, 0.04, 0.01, 0.01, -999, 9,  -999.00, 9, -999, -999, 9, -999
49NZ20031106, A10, 80, 1, 32, 12020, 2, 20031128, 601, -29.6085, 3.7815, 4898,    200.5, 2,  14.0499, 2,  35.2651, 2,  35.2635, 2,    192.4, 1,    201.8, 2,     3.97, 2,     9.62, 2,     0.02, 2,     0.79, 2, -999.000, 9, -999.000, 9, -999.000, 9,   -999.0, 9,   -999.0, 9, -999.0000, 9,   -999.00, -999.000, 1, -999.000,   -999.0, 9,   -999.0,  -999.00, 9,   -999.0,  14.0208, 26.3897,  14.0474, 2, 201.2, 2, 202.35, 2, 0.13, 0.06, 0.01, 0.01, -999, 9,  -999.00, 1, -999, -999, 1, -999
49NZ20031106, A10, 80, 1, 4, 12028, 2, 20031128, 601, -29.6085, 3.7815, 4898,    200.8, 2,  14.0478, 2,  35.2654, 2, -999.0000, 9,    192.4, 1,   -999.0, 9,  -999.00, 9,  -999.00, 9,  -999.00, 9,  -999.00, 9, -999.000, 9, -999.000, 9, -999.000, 9,   -999.0, 9,   -999.0, 9, -999.0000, 9,   -999.00, -999.000, 1, -999.000,   -999.0, 9,   -999.0,  -999.00, 9,   -999.0,  14.0186, 26.3901,  14.0450, 2, 201.5, 2, 202.32, 2, -999, -999, -999, -999, -999, 9,  -999.00, 9, -999, -999, 9, -999
49NZ20031106, A10, 80, 1, 31, 12019, 2, 20031128, 601, -29.6085, 3.7815, 4898,    251.2, 2,  12.9600, 2,  35.1496, 2,  35.1488, 2,    179.5, 1,    188.5, 2,     4.94, 2,    12.77, 2,     0.01, 2,     0.97, 2, -999.000, 9, -999.000, 9, -999.000, 9,   -999.0, 9,   -999.0, 9, -999.0000, 9,   -999.00, -999.000, 9, -999.000,   -999.0, 9,   -999.0,  -999.00, 9,   -999.0,  12.9254, 26.5254,  12.9605, 2, 251.1, 2, 187.38, 2, 0.13, 0.07, 0.01, 0.01, -999, 9,  -999.00, 9, -999, -999, 9, -999
49NZ20031106, A10, 80, 1, 30, 12018, 2, 20031128, 601, -29.6085, 3.7815, 4898,    300.8, 2,  12.3840, 2,  35.0828, 2,  35.0820, 2,    189.7, 1,    198.5, 2,     4.90, 2,    12.80, 2,     0.01, 2,     0.97, 2, -999.000, 9, -999.000, 9, -999.000, 9,   -999.0, 9,   -999.0, 9, -999.0000, 9,   -999.00, -999.000, 9, -999.000,   -999.0, 9,   -999.0,  -999.00, 9,   -999.0,  12.3437, 26.5885,  12.3819, 2, 299, 2, 200.91, 2, 0.13, 0.07, 0.01, 0.01, -999, 9,  -999.00, 9, -999, -999, 9, -999
49NZ20031106, A10, 80, 1, 29, 12017, 2, 20031128, 601, -29.6085, 3.7815, 4898,    400.4, 2,  10.8196, 2,  34.9001, 2,  34.8976, 2,    189.2, 1,    197.7, 2,     6.86, 2,    16.38, 2,     0.01, 2,     1.18, 2, -999.000, 9, -999.000, 9, -999.000, 9,   -999.0, 9,   -999.0, 9, -999.0000, 9,   -999.00, -999.000, 1, -999.000,   -999.0, 9,   -999.0,  -999.00, 9,   -999.0,  10.7703, 26.74,  10.8206, 2, 401.2, 2, 196.78, 2, 0.13, 0.08, 0.01, 0.01, -999, 9,     1.13, 2, 0.13, -999, 1, -999
49NZ20031106, A10, 80, 1, 28, 12016, 2, 20031128, 601, -29.6085, 3.7815, 4898,    499.6, 2,   9.2176, 2,  34.7150, 2,  34.7128, 2,    172.1, 1,    179.7, 2,    11.27, 2,    21.78, 2,     0.01, 2,     1.54, 2, -999.000, 9, -999.000, 9, -999.000, 9,   -999.0, 9,   -999.0, 9, -999.0000, 9,   -999.00, -999.000, 9, -999.000,   -999.0, 9,   -999.0,  -999.00, 9,   -999.0,   9.1618, 26.8692,   9.2178, 2, 505.1, 2, 184.72, 2, 0.14, 0.09, 0.01, 0.01, -999, 9,  -999.00, 9, -999, -999, 9, -999
49NZ20031106, A10, 80, 1, 27, 12012, 2, 20031128, 601, -29.6085, 3.7815, 4898,    601.0, 2,   7.5293, 2,  34.5580, 2,  34.5558, 2,    163.4, 1,    170.2, 2,    16.19, 2,    27.12, 2,     0.01, 2,     1.87, 2, -999.000, 9, -999.000, 9, -999.000, 9,   -999.0, 9,   -999.0, 9, -999.0000, 9,   -999.00, -999.000, 1, -999.000,   -999.0, 9,   -999.0,  -999.00, 9,   -999.0,   7.4694, 27.0043,   7.5300, 2, 601.8, 2, 169.9, 2, 0.15, 0.11, 0.01, 0.01, -999, 9,  -999.00, 1, -999, -999, 1, -999
49NZ20031106, A10, 80, 1, 2, 12026, 2, 20031128, 601, -29.6085, 3.7815, 4898,    601.1, 2,   7.5296, 2,  34.5579, 2, -999.0000, 9,    163.5, 1,   -999.0, 9,  -999.00, 9,  -999.00, 9,  -999.00, 9,  -999.00, 9, -999.000, 9, -999.000, 9, -999.000, 9,   -999.0, 9,   -999.0, 9, -999.0000, 9,   -999.00, -999.000, 1, -999.000,   -999.0, 9,   -999.0,  -999.00, 9,   -999.0,   7.4697, 27.0043,   7.5300, 2, 601.9, 2, 169.93, 2, -999, -999, -999, -999, -999, 9,  -999.00, 9, -999, -999, 9, -999
49NZ20031106, A10, 80, 1, 26, 12014, 2, 20031128, 601, -29.6085, 3.7815, 4898,    699.9, 2,   5.9397, 2,  34.4118, 2,  34.4103, 2,    190.5, 1,    199.0, 2,    19.25, 2,    28.33, 2,     0.01, 2,     1.94, 2, -999.000, 9, -999.000, 9, -999.000, 9,   -999.0, 9,   -999.0, 9, -999.0000, 9,   -999.00, -999.000, 9, -999.000,   -999.0, 9,   -999.0,  -999.00, 9,   -999.0,   5.8780, 27.1035,   5.9370, 2, 702.5, 2, 197.45, 2, 0.16, 0.11, 0.01, 0.01, -999, 9,  -999.00, 9, -999, -999, 9, -999
49NZ20031106, A10, 80, 1, 25, 12013, 2, 20031128, 601, -29.6085, 3.7815, 4898,    800.5, 2,   4.8001, 2,  34.3512, 2,  34.3515, 2,    197.3, 1,    205.9, 2,    25.83, 2,    30.19, 2,     0.00, 2,     2.06, 2, -999.000, 9, -999.000, 9, -999.000, 9,   -999.0, 9,   -999.0, 9, -999.0000, 9,   -999.00, -999.000, 1, -999.000,   -999.0, 9,   -999.0,  -999.00, 9,   -999.0,   4.7360, 27.1908,   4.8019, 2, 804.4, 2, 206.18, 2, 0.18, 0.12, 0.01, 0.02, -999, 9,     0.22, 2, 0.11, -999, 1, -999
49NZ20031106, A10, 80, 1, 24, 12048, 2, 20031128, 601, -29.6085, 3.7815, 4898,    900.1, 2,   4.1872, 2,  34.3569, 2,  34.3569, 2,    192.7, 1,    201.1, 2,    33.07, 2,    31.53, 2,     0.01, 2,     2.16, 2, -999.000, 9, -999.000, 9, -999.000, 9,   -999.0, 9,   -999.0, 9, -999.0000, 9,   -999.00, -999.000, 9, -999.000,   -999.0, 9,   -999.0,  -999.00, 9,   -999.0,   4.1187, 27.2624,   4.1874, 2, 903, 2, 201.72, 2, 0.19, 0.12, 0.01, 0.02, -999, 9,  -999.00, 9, -999, -999, 9, -999
49NZ20031106, A10, 80, 1, 23, 12047, 2, 20031128, 601, -29.6085, 3.7815, 4898,   1000.5, 2,   3.8022, 2,  34.3956, 2,  34.3975, 2,    185.4, 1,    193.5, 2,    42.27, 2,    32.40, 2,     0.01, 2,     2.23, 2, -999.000, 9, -999.000, 9, -999.000, 9,   -999.0, 9,   -999.0, 9, -999.0000, 9,   -999.00, -999.000, 1, -999.000,   -999.0, 9,   -999.0,  -999.00, 9,   -999.0,   3.7282, 27.333,   3.8025, 2, 1000.4, 2, 192.46, 2, 0.21, 0.12, 0.01, 0.02, -999, 9,  -999.00, 1, -999, -999, 1, -999
49NZ20031106, A10, 80, 1, 3, 12027, 2, 20031128, 601, -29.6085, 3.7815, 4898,   1000.5, 2,   3.8022, 2,  34.3957, 2, -999.0000, 9,    185.3, 1,   -999.0, 9,  -999.00, 9,  -999.00, 9,  -999.00, 9,  -999.00, 9, -999.000, 9, -999.000, 9, -999.000, 9,   -999.0, 9,   -999.0, 9, -999.0000, 9,   -999.00, -999.000, 1, -999.000,   -999.0, 9,   -999.0,  -999.00, 9,   -999.0,   3.7282, 27.3333,   3.8020, 2, 1000.4, 2, 192.46, 2, -999, -999, -999, -999, -999, 9,  -999.00, 9, -999, -999, 9, -999
49NZ20031106, A10, 80, 1, 22, 12046, 2, 20031128, 601, -29.6085, 3.7815, 4898,   1201.7, 2,   3.2176, 2,  34.4783, 2,  34.4799, 2,    175.2, 1,    183.2, 2,    52.13, 2,    33.27, 2,     0.01, 2,     2.29, 2, -999.000, 9, -999.000, 9, -999.000, 9,   -999.0, 9,   -999.0, 9, -999.0000, 9,   -999.00, -999.000, 1, -999.000,   -999.0, 9,   -999.0,  -999.00, 9,   -999.0,   3.1321, 27.4567,   3.2174, 2, 1197.3, 2, 181.22, 2, 0.23, 0.13, 0.01, 0.02, -999, 9,  -999.00, 5, -999, -999, 1, -999
49NZ20031106, A10, 80, 1, 21, 12045, 2, 20031128, 601, -29.6085, 3.7815, 4898,   1400.1, 2,   3.0473, 2,  34.6172, 2,  34.6182, 2,    174.4, 1,    182.2, 2,    55.18, 2,    31.81, 2,     0.01, 2,     2.18, 2, -999.000, 9, -999.000, 9, -999.000, 9,   -999.0, 9,   -999.0, 9, -999.0000, 9,   -999.00, -999.000, 1, -999.000,   -999.0, 9,   -999.0,  -999.00, 9,   -999.0,   2.9471, 27.5847,   3.0474, 2, 1399.4, 2, 182.12, 2, 0.24, 0.12, 0.01, 0.02, -999, 9,     0.04, 2, 0.02, -999, 1, -999
49NZ20031106, A10, 80, 1, 20, 12044, 2, 20031128, 601, -29.6085, 3.7815, 4898,   1599.9, 2,   3.0727, 2,  34.7239, 2,  34.7252, 2,    185.0, 1,    193.6, 2,    49.77, 2,    29.28, 2,     0.01, 2,     2.00, 2, -999.000, 9, -999.000, 9, -999.000, 9,   -999.0, 9,   -999.0, 9, -999.0000, 9,   -999.00, -999.000, 9, -999.000,   -999.0, 9,   -999.0,  -999.00, 9,   -999.0,   2.9552, 27.6692,   3.0730, 2, 1595.8, 2, 194.12, 2, 0.23, 0.11, 0.01, 0.02, -999, 9,  -999.00, 9, -999, -999, 9, -999
49NZ20031106, A10, 80, 1, 19, 12043, 2, 20031128, 601, -29.6085, 3.7815, 4898,   1801.0, 2,   2.9352, 2,  34.7846, 2,  34.7847, 2,    195.6, 1,    204.9, 2,    49.33, 2,    27.51, 2,     0.01, 2,     1.88, 2, -999.000, 9, -999.000, 9, -999.000, 9,   -999.0, 9,   -999.0, 9, -999.0000, 9,   -999.00, -999.000, 9, -999.000,   -999.0, 9,   -999.0,  -999.00, 9,   -999.0,   2.8019, 27.7318,   2.9353, 2, 1799.2, 2, 205.31, 2, 0.23, 0.11, 0.01, 0.01, -999, 9,  -999.00, 9, -999, -999, 9, -999
49NZ20031106, A10, 80, 1, 18, 12042, 2, 20031128, 601, -29.6085, 3.7815, 4898,   2000.8, 2,   2.8327, 2,  34.8202, 2,  34.8225, 2,    204.7, 1,    214.5, 2,    48.09, 2,    26.11, 2,     0.01, 2,     1.79, 2, -999.000, 9, -999.000, 9, -999.000, 9,   -999.0, 9,   -999.0, 9, -999.0000, 9,   -999.00, -999.000, 1, -999.000,   -999.0, 9,   -999.0,  -999.00, 9,   -999.0,   2.6830, 27.7708,   2.8329, 2, 2000.1, 2, 214.93, 2, 0.22, 0.11, 0.01, 0.01, -999, 9,  -999.00, 1, -999, -999, 1, -999
49NZ20031106, A10, 80, 1, 17, 12041, 2, 20031128, 601, -29.6085, 3.7815, 4898,   2200.1, 2,   2.7475, 2,  34.8433, 2,  34.8425, 2,    211.4, 1,    222.0, 2,    47.64, 2,    25.22, 2,     0.01, 2,     1.71, 2, -999.000, 9, -999.000, 9, -999.000, 9,   -999.0, 9,   -999.0, 9, -999.0000, 9,   -999.00, -999.000, 9, -999.000,   -999.0, 9,   -999.0,  -999.00, 9,   -999.0,   2.5809, 27.7983,   2.7488, 2, 2199.1, 2, 220.59, 2, 0.22, 0.1, 0.01, 0.01, -999, 9,  -999.00, 9, -999, -999, 9, -999
49NZ20031106, A10, 80, 1, 16, 12040, 2, 20031128, 601, -29.6085, 3.7815, 4898,   2401.2, 2,   2.6100, 2,  34.8490, 2,  34.8491, 2,    215.0, 1,    225.6, 2,    49.25, 2,    24.85, 2,     0.01, 2,     1.70, 2, -999.000, 9, -999.000, 9, -999.000, 9,   -999.0, 9,   -999.0, 9, -999.0000, 9,   -999.00, -999.000, 1, -999.000,   -999.0, 9,   -999.0,  -999.00, 9,   -999.0,   2.4270, 27.8162,   2.6102, 2, 2401, 2, 225.54, 2, 0.23, 0.1, 0.01, 0.01, -999, 9,     0.03, 2, 0.06, -999, 1, -999
49NZ20031106, A10, 80, 1, 15, 12039, 2, 20031128, 601, -29.6085, 3.7815, 4898,   2601.9, 2,   2.5117, 2,  34.8510, 2,  34.8511, 2,    217.0, 1,    228.1, 4,    50.97, 2,    24.76, 2,     0.01, 2,     1.69, 2, -999.000, 9, -999.000, 9, -999.000, 9,   -999.0, 9,   -999.0, 9, -999.0000, 9,   -999.00, -999.000, 9, -999.000,   -999.0, 9,   -999.0,  -999.00, 9,   -999.0,   2.3114, 27.8278,   2.5115, 2, 2601.8, 2, 227.43, 2, 0.23, 0.1, 0.01, 0.01, -999, 9,  -999.00, 9, -999, -999, 9, -999
49NZ20031106, A10, 80, 1, 14, 12038, 2, 20031128, 601, -29.6085, 3.7815, 4898,   2800.9, 2,   2.3997, 2,  34.8515, 2,  34.8513, 2,    218.5, 1,    229.4, 2,    53.59, 2,    24.75, 2,     0.01, 2,     1.68, 2, -999.000, 9, -999.000, 9, -999.000, 9,   -999.0, 9,   -999.0, 9, -999.0000, 9,   -999.00, -999.000, 9, -999.000,   -999.0, 9,   -999.0,  -999.00, 9,   -999.0,   2.1822, 27.8389,   2.4000, 2, 2800.8, 2, 229.33, 2, 0.24, 0.1, 0.01, 0.01, -999, 9,  -999.00, 9, -999, -999, 9, -999
49NZ20031106, A10, 80, 1, 13, 12037, 2, 20031128, 601, -29.6085, 3.7815, 4898,   2999.5, 2,   2.3477, 2,  34.8545, 2,  34.8544, 2,    219.9, 1,    230.5, 4,    54.45, 2,    24.65, 2,     0.01, 2,     1.68, 2, -999.000, 9, -999.000, 9, -999.000, 9,   -999.0, 9,   -999.0, 9, -999.0000, 9,   -999.00, -999.000, 1, -999.000,   -999.0, 9,   -999.0,  -999.00, 9,   -999.0,   2.1115, 27.8471,   2.3475, 2, 2999, 2, 230.61, 2, 0.24, 0.1, 0.01, 0.01, -999, 9,  -999.00, 1, -999, -999, 1, -999
49NZ20031106, A10, 80, 1, 12, 12036, 2, 20031128, 601, -29.6085, 3.7815, 4898,   3249.1, 2,   2.2517, 2,  34.8526, 2,  34.8526, 2,    219.9, 1,    230.7, 4,    57.37, 2,    24.72, 2,     0.01, 2,     1.68, 2, -999.000, 9, -999.000, 9, -999.000, 9,   -999.0, 9,   -999.0, 9, -999.0000, 9,   -999.00, -999.000, 9, -999.000,   -999.0, 9,   -999.0,  -999.00, 9,   -999.0,   1.9922, 27.8554,   2.2516, 2, 3248.9, 2, 230.89, 2, 0.25, 0.1, 0.01, 0.01, -999, 9,  -999.00, 9, -999, -999, 9, -999
49NZ20031106, A10, 80, 1, 11, 12035, 2, 20031128, 601, -29.6085, 3.7815, 4898,   3500.5, 2,   2.0789, 2,  34.8372, 2,  34.8389, 2,    217.8, 1,    228.5, 2,    63.93, 2,    25.49, 2,     0.01, 2,     1.74, 2, -999.000, 9, -999.000, 9, -999.000, 9,   -999.0, 9,   -999.0, 9, -999.0000, 9,   -999.00, -999.000, 1, -999.000,   -999.0, 9,   -999.0,  -999.00, 9,   -999.0,   1.7973, 27.8584,   2.0799, 2, 3500.3, 2, 228.4, 2, 0.26, 0.1, 0.01, 0.01, -999, 9,  -999.00, 1, -999, -999, 1, -999
49NZ20031106, A10, 80, 1, 10, 12034, 2, 20031128, 601, -29.6085, 3.7815, 4898,   3750.4, 2,   1.7240, 2,  34.7992, 2,  34.7989, 2,    213.3, 1,    223.1, 2,    79.79, 2,    27.54, 2,     0.01, 2,     1.89, 2, -999.000, 9, -999.000, 9, -999.000, 9,   -999.0, 9,   -999.0, 9, -999.0000, 9,   -999.00, -999.000, 9, -999.000,   -999.0, 9,   -999.0,  -999.00, 9,   -999.0,   1.4252, 27.8556,   1.7243, 2, 3749.5, 2, 223.12, 2, 0.29, 0.11, 0.01, 0.01, -999, 9,  -999.00, 9, -999, -999, 9, -999
49NZ20031106, A10, 80, 1, 9, 12033, 2, 20031128, 601, -29.6085, 3.7815, 4898,   3999.5, 2,   1.3919, 2,  34.7658, 2,  34.7647, 2,    210.4, 1,    219.4, 2,    93.28, 2,    29.15, 2,     0.01, 2,     1.99, 2, -999.000, 9, -999.000, 9, -999.000, 9,   -999.0, 9,   -999.0, 9, -999.0000, 9,   -999.00, -999.000, 1, -999.000,   -999.0, 9,   -999.0,  -999.00, 9,   -999.0,   1.0756, 27.8533,   1.3916, 2, 3998.9, 2, 219.56, 2, 0.32, 0.11, 0.01, 0.02, -999, 9,  -999.00, 1, -999, -999, 1, -999
49NZ20031106, A10, 80, 1, 8, 12032, 2, 20031128, 601, -29.6085, 3.7815, 4898,   4250.6, 2,   1.2013, 2,  34.7465, 2,  34.7461, 2,    209.6, 1,    218.0, 2,   100.85, 2,    30.10, 2,     0.01, 2,     2.06, 2, -999.000, 9, -999.000, 9, -999.000, 9,   -999.0, 9,   -999.0, 9, -999.0000, 9,   -999.00, -999.000, 9, -999.000,   -999.0, 9,   -999.0,  -999.00, 9,   -999.0,   0.8632, 27.8522,   1.2013, 2, 4250.1, 2, 217.93, 2, 0.34, 0.12, 0.01, 0.02, -999, 9,  -999.00, 9, -999, -999, 9, -999
49NZ20031106, A10, 80, 1, 7, 12031, 2, 20031128, 601, -29.6085, 3.7815, 4898,   4499.7, 2,   1.1196, 2,  34.7371, 2,  34.7369, 2,    209.7, 1,    217.4, 2,   104.97, 2,    30.56, 2,     0.01, 2,     2.10, 2, -999.000, 9, -999.000, 9, -999.000, 9,   -999.0, 9,   -999.0, 9, -999.0000, 9,   -999.00, -999.000, 1, -999.000,   -999.0, 9,   -999.0,  -999.00, 9,   -999.0,   0.7562, 27.8514,   1.1198, 2, 4499.7, 2, 217.33, 2, 0.35, 0.12, 0.01, 0.02, -999, 9,  -999.00, 1, -999, -999, 1, -999
49NZ20031106, A10, 80, 1, 6, 12030, 2, 20031128, 601, -29.6085, 3.7815, 4898,   4751.1, 2,   1.0979, 2,  34.7326, 2,  34.7326, 2,    210.9, 1,    217.0, 2,   106.70, 2,    30.75, 2,     0.01, 2,     2.11, 2, -999.000, 9, -999.000, 9, -999.000, 9,   -999.0, 9,   -999.0, 9, -999.0000, 9,   -999.00, -999.000, 9, -999.000,   -999.0, 9,   -999.0,  -999.00, 9,   -999.0,   0.7063, 27.8509,   1.0980, 2, 4751.2, 2, 217.15, 2, 0.35, 0.12, 0.01, 0.02, -999, 9,  -999.00, 9, -999, -999, 9, -999
49NZ20031106, A10, 80, 1, 5, 12029, 2, 20031128, 601, -29.6085, 3.7815, 4898,   4970.7, 2,   1.1214, 2,  34.7321, 2,  34.7318, 2,    212.5, 1,    217.2, 2,   106.72, 2,    30.76, 2,     0.01, 2,     2.11, 2, -999.000, 9, -999.000, 9, -999.000, 9,   -999.0, 9,   -999.0, 9, -999.0000, 9,   -999.00, -999.000, 1, -999.000,   -999.0, 9,   -999.0,  -999.00, 9,   -999.0,   0.7032, 27.8507,   1.1215, 2, 4970.7, 2, 217.17, 2, 0.35, 0.12, 0.01, 0.02, -999, 9,  -999.00, 1, -999, -999, 1, -999
49NZ20031106, A10, 80, 1, 1, 12025, 2, 20031128, 601, -29.6085, 3.7815, 4898,   4970.9, 2,   1.1214, 2,  34.7320, 2, -999.0000, 9,    212.6, 1,   -999.0, 9,  -999.00, 9,  -999.00, 9,  -999.00, 9,  -999.00, 9, -999.000, 9, -999.000, 9, -999.000, 9,   -999.0, 9,   -999.0, 9, -999.0000, 9,   -999.00, -999.000, 9, -999.000,   -999.0, 9,   -999.0,  -999.00, 9,   -999.0,   0.7031, 27.8507,   1.1215, 2, 4970.9, 2, 217.17, 2, -999, -999, -999, -999, -999, 9,  -999.00, 9, -999, -999, 9, -999