BOTTLE,20220818CCHSIOAMB
EXPOCODE,SECT_ID,STNNBR,CASTNO,SAMPNO,BTLNBR,BTLNBR_FLAG_W,DATE,TIME,LATITUDE,LONGITUDE,DEPTH,CTDPRS,CTDPRS_FLAG_W,CTDTMP,CTDTMP_FLAG_W,CTDSAL,CTDSAL_FLAG_W,SALNTY,SALNTY_FLAG_W,CTDOXY,CTDOXY_FLAG_W,OXYGEN,OXYGEN_FLAG_W,SILCAT,SILCAT_FLAG_W,NITRAT,NITRAT_FLAG_W,NITRIT,NITRIT_FLAG_W,PHSPHT,PHSPHT_FLAG_W,CFC-11,CFC-11_FLAG_W,CFC-12,CFC-12_FLAG_W,CFC113,CFC113_FLAG_W,TCARBN,TCARBN_FLAG_W,ALKALI,ALKALI_FLAG_W,PH_TOT,PH_TOT_FLAG_W,PH_TMP,TRITUM,TRITUM_FLAG_W,TRITER,DELC14,DELC14_FLAG_W,C14ERR,DELC13,DELC13_FLAG_W,C13ERR,THETA,SIG0,SBE35,SBE35_FLAG_W,DWNPRS,DWNPRS_FLAG_W,DWNOXY,DWNOXY_FLAG_W,SILUNC,NRAUNC,NRIUNC,PHPUNC,TOC,TOC_FLAG_W,CS-137,CS-137_FLAG_W,CS137ER,PLUTO,PLUTO_FLAG_W,PLUTOER
,,,,,,,,,,,METERS,DBAR,,ITS-90,,PSS-78,,PSS-78,,UMOL/KG,,UMOL/KG,,UMOL/KG,,UMOL/KG,,UMOL/KG,,UMOL/KG,,PMOL/KG,,PMOL/KG,,PMOL/KG,,UMOL/KG,,UMOL/KG,,,,DEG C,TU,,TU,/MILLE,,/MILLE,/MILLE,,/MILLE,DEG C,KG/M^3,ITS-90,,DBAR,,UMOL/KG,,UMOL/KG,UMOL/KG,UMOL/KG,UMOL/KG,UMOL/KG,,BQ/M^3,,BQ/M^3,MBQ/M^3,,MBQ/M^3
49NZ20031106, A10, 50, 1, 4, 12040, 9, 20031120, 934, -29.9927, -17.0138, 3690,      3.2, 2,  20.2695, 2,  35.9947, 2, -999.0000, 9,    217.5, 1,   -999.0, 9,  -999.00, 9,  -999.00, 9,  -999.00, 9,  -999.00, 9, -999.000, 9, -999.000, 9, -999.000, 9,   -999.0, 9,   -999.0, 9, -999.0000, 9,   -999.00, -999.000, 9, -999.000,   -999.0, 9,   -999.0,  -999.00, 9,   -999.0,  20.2689, 25.4511,  20.2696, 2, 3.2, 2, 230.53, 2, -999, -999, -999, -999, -999, 9,  -999.00, 9, -999, -999, 9, -999
49NZ20031106, A10, 50, 1, 3, 12039, 2, 20031120, 934, -29.9927, -17.0138, 3690,      3.2, 2,  20.2705, 2,  35.9947, 2, -999.0000, 9,    217.6, 1,   -999.0, 9,  -999.00, 9,  -999.00, 9,  -999.00, 9,  -999.00, 9, -999.000, 9, -999.000, 9, -999.000, 9,   -999.0, 9,   -999.0, 9, -999.0000, 9,   -999.00, -999.000, 9, -999.000,   -999.0, 9,   -999.0,  -999.00, 9,   -999.0,  20.2699, 25.451,  20.2704, 2, 3.2, 2, 230.53, 2, -999, -999, -999, -999, -999, 9,  -999.00, 9, -999, -999, 9, -999
49NZ20031106, A10, 50, 1, 2, 12038, 2, 20031120, 934, -29.9927, -17.0138, 3690,      3.2, 2,  20.2688, 2,  35.9948, 2, -999.0000, 9,    217.2, 1,   -999.0, 9,  -999.00, 9,  -999.00, 9,  -999.00, 9,  -999.00, 9, -999.000, 9, -999.000, 9, -999.000, 9,   -999.0, 9,   -999.0, 9, -999.0000, 9,   -999.00, -999.000, 9, -999.000,   -999.0, 9,   -999.0,  -999.00, 9,   -999.0,  20.2682, 25.4508,  20.2711, 2, 3.2, 2, 230.53, 2, -999, -999, -999, -999, -999, 9,  -999.00, 9, -999, -999, 9, -999
49NZ20031106, A10, 50, 1, 36, 12036, 2, 20031120, 934, -29.9927, -17.0138, 3690,      9.1, 2,  20.2490, 2,  35.9938, 2,  35.9945, 2,    217.5, 1,    230.1, 2,     1.03, 2,     0.01, 2,     0.01, 2,     0.16, 2, -999.000, 9, -999.000, 9, -999.000, 9,   -999.0, 9,   -999.0, 9, -999.0000, 9,   -999.00, -999.000, 9, -999.000,   -999.0, 9,   -999.0,  -999.00, 9,   -999.0,  20.2473, 25.4548,  20.2569, 2, 9.1, 2, 230.48, 2, 0.12, 0.03, 0.01, 0.02, -999, 9,  -999.00, 9, -999, -999, 9, -999
49NZ20031106, A10, 50, 1, 35, 12035, 2, 20031120, 934, -29.9927, -17.0138, 3690,     49.5, 2,  19.0802, 2,  35.9740, 2,  35.9739, 2,    221.8, 1,    233.9, 2,     1.08, 2,    -0.02, 2,     0.01, 2,     0.16, 2, -999.000, 9, -999.000, 9, -999.000, 9,   -999.0, 9,   -999.0, 9, -999.0000, 9,   -999.00, -999.000, 9, -999.000,   -999.0, 9,   -999.0,  -999.00, 9,   -999.0,  19.0713, 25.7498,  19.0738, 2, 52.7, 2, 234.46, 2, 0.12, 0.03, 0.01, 0.02, -999, 9,  -999.00, 9, -999, -999, 9, -999
49NZ20031106, A10, 50, 1, 34, 12034, 2, 20031120, 934, -29.9927, -17.0138, 3690,    102.1, 2,  18.5323, 2,  35.9721, 2,  35.9724, 2,    222.9, 1,    235.3, 2,     1.15, 2,    -0.04, 2,     0.01, 2,     0.17, 2, -999.000, 9, -999.000, 9, -999.000, 9,   -999.0, 9,   -999.0, 9, -999.0000, 9,   -999.00, -999.000, 9, -999.000,   -999.0, 9,   -999.0,  -999.00, 9,   -999.0,  18.5143, 25.8901,  18.5325, 2, 105.6, 2, 235.79, 2, 0.12, 0.03, 0.01, 0.02, -999, 9,  -999.00, 9, -999, -999, 9, -999
49NZ20031106, A10, 50, 1, 33, 12033, 2, 20031120, 934, -29.9927, -17.0138, 3690,    150.4, 2,  18.3181, 2,  35.9541, 2,  35.9533, 2,    220.0, 1,    232.3, 2,     1.15, 2,    -0.03, 2,     0.01, 2,     0.18, 2, -999.000, 9, -999.000, 9, -999.000, 9,   -999.0, 9,   -999.0, 9, -999.0000, 9,   -999.00, -999.000, 9, -999.000,   -999.0, 9,   -999.0,  -999.00, 9,   -999.0,  18.2918, 25.9321,  18.3199, 2, 151.5, 2, 231.28, 2, 0.12, 0.03, 0.01, 0.02, -999, 9,  -999.00, 9, -999, -999, 9, -999
49NZ20031106, A10, 50, 1, 1, 12037, 2, 20031120, 934, -29.9927, -17.0138, 3690,    160.4, 2,  17.5124, 2,  35.8032, 2, -999.0000, 9,    218.4, 1,   -999.0, 9,  -999.00, 9,  -999.00, 9,  -999.00, 9,  -999.00, 9, -999.000, 9, -999.000, 9, -999.000, 9,   -999.0, 9,   -999.0, 9, -999.0000, 9,   -999.00, -999.000, 9, -999.000,   -999.0, 9,   -999.0,  -999.00, 9,   -999.0,  17.4853, 26.0222,  17.5807, 2, 168, 2, 228.66, 2, -999, -999, -999, -999, -999, 9,  -999.00, 9, -999, -999, 9, -999
49NZ20031106, A10, 50, 1, 32, 12032, 2, 20031120, 934, -29.9927, -17.0138, 3690,    198.1, 2,  15.9479, 2,  35.6211, 2,  35.6317, 3,    211.9, 1,    223.0, 2,     1.76, 2,     2.55, 2,     0.02, 2,     0.37, 2, -999.000, 9, -999.000, 9, -999.000, 9,   -999.0, 9,   -999.0, 9, -999.0000, 9,   -999.00, -999.000, 9, -999.000,   -999.0, 9,   -999.0,  -999.00, 9,   -999.0,  15.9165, 26.2462,  15.9441, 2, 205.4, 2, 223.04, 2, 0.12, 0.04, 0.01, 0.01, -999, 9,  -999.00, 9, -999, -999, 9, -999
49NZ20031106, A10, 50, 1, 31, 12031, 2, 20031120, 934, -29.9927, -17.0138, 3690,    249.5, 2,  14.6935, 2,  35.4098, 2,  35.4210, 3,    208.6, 1,    219.1, 2,     2.27, 2,     5.23, 2,     0.02, 2,     0.51, 2, -999.000, 9, -999.000, 9, -999.000, 9,   -999.0, 9,   -999.0, 9, -999.0000, 9,   -999.00, -999.000, 9, -999.000,   -999.0, 9,   -999.0,  -999.00, 9,   -999.0,  14.6561, 26.3712,  14.6456, 2, 253.9, 2, 219.33, 2, 0.12, 0.05, 0.01, 0.01, -999, 9,  -999.00, 9, -999, -999, 9, -999
49NZ20031106, A10, 50, 1, 30, 12030, 2, 20031120, 934, -29.9927, -17.0138, 3690,    301.1, 2,  13.7509, 2,  35.2758, 2,  35.2741, 2,    207.9, 1,    217.9, 2,     2.49, 2,     7.25, 2,     0.01, 2,     0.63, 2, -999.000, 9, -999.000, 9, -999.000, 9,   -999.0, 9,   -999.0, 9, -999.0000, 9,   -999.00, -999.000, 9, -999.000,   -999.0, 9,   -999.0,  -999.00, 9,   -999.0,  13.7076, 26.4623,  13.7481, 2, 306, 2, 218.83, 2, 0.12, 0.05, 0.01, 0.01, -999, 9,  -999.00, 9, -999, -999, 9, -999
49NZ20031106, A10, 50, 1, 29, 12029, 2, 20031120, 934, -29.9927, -17.0138, 3690,    400.8, 2,  12.1222, 2,  35.0654, 2,  35.0724, 2,    210.9, 1,    220.9, 2,     3.60, 2,    10.51, 2,     0.00, 2,     0.82, 2, -999.000, 9, -999.000, 9, -999.000, 9,   -999.0, 9,   -999.0, 9, -999.0000, 9,   -999.00, -999.000, 9, -999.000,   -999.0, 9,   -999.0,  -999.00, 9,   -999.0,  12.0691, 26.6266,  12.1276, 2, 406.4, 2, 222.36, 2, 0.13, 0.06, 0.01, 0.01, -999, 9,  -999.00, 9, -999, -999, 9, -999
49NZ20031106, A10, 50, 1, 28, 12028, 2, 20031120, 934, -29.9927, -17.0138, 3690,    500.9, 2,  10.7284, 2,  34.8909, 2,  34.8880, 2,    201.6, 1,    210.6, 2,     5.85, 2,    15.11, 2,     0.01, 2,     1.10, 2, -999.000, 9, -999.000, 9, -999.000, 9,   -999.0, 9,   -999.0, 9, -999.0000, 9,   -999.00, -999.000, 9, -999.000,   -999.0, 9,   -999.0,  -999.00, 9,   -999.0,  10.6668, 26.7509,  10.7236, 2, 500.7, 2, 210.93, 2, 0.13, 0.08, 0.01, 0.01, -999, 9,  -999.00, 9, -999, -999, 9, -999
49NZ20031106, A10, 50, 1, 27, 12027, 2, 20031120, 934, -29.9927, -17.0138, 3690,    601.3, 2,   8.6306, 2,  34.6461, 2,  34.6498, 3,    197.9, 1,    206.3, 2,     9.41, 2,    20.63, 2,     0.01, 2,     1.44, 2, -999.000, 9, -999.000, 9, -999.000, 9,   -999.0, 9,   -999.0, 9, -999.0000, 9,   -999.00, -999.000, 9, -999.000,   -999.0, 9,   -999.0,  -999.00, 9,   -999.0,   8.5657, 26.9111,   8.6264, 2, 601.5, 2, 206.81, 2, 0.14, 0.09, 0.01, 0.01, -999, 9,  -999.00, 9, -999, -999, 9, -999
49NZ20031106, A10, 50, 1, 26, 12026, 2, 20031120, 934, -29.9927, -17.0138, 3690,    699.1, 2,   6.7763, 2,  34.4598, 2,  34.4609, 2,    201.2, 1,    209.3, 2,    13.68, 2,    25.11, 2,     0.00, 2,     1.73, 2, -999.000, 9, -999.000, 9, -999.000, 9,   -999.0, 9,   -999.0, 9, -999.0000, 9,   -999.00, -999.000, 9, -999.000,   -999.0, 9,   -999.0,  -999.00, 9,   -999.0,   6.7102, 27.0332,   6.7728, 2, 698.1, 2, 208.92, 2, 0.15, 0.1, 0.01, 0.01, -999, 9,  -999.00, 9, -999, -999, 9, -999
49NZ20031106, A10, 50, 1, 25, 12025, 2, 20031120, 934, -29.9927, -17.0138, 3690,    798.6, 2,   5.3219, 2,  34.3468, 2,  34.3468, 2,    209.0, 1,    218.1, 2,    18.82, 2,    27.89, 2,     0.00, 2,     1.91, 2, -999.000, 9, -999.000, 9, -999.000, 9,   -999.0, 9,   -999.0, 9, -999.0000, 9,   -999.00, -999.000, 9, -999.000,   -999.0, 9,   -999.0,  -999.00, 9,   -999.0,   5.2548, 27.1282,   5.3221, 2, 798.9, 2, 218.74, 2, 0.16, 0.11, 0.01, 0.01, -999, 9,  -999.00, 9, -999, -999, 9, -999
49NZ20031106, A10, 50, 1, 24, 12024, 2, 20031120, 934, -29.9927, -17.0138, 3690,    901.3, 2,   4.3552, 2,  34.3181, 2,  34.3182, 2,    207.2, 1,    216.0, 2,    26.55, 2,    29.99, 2,     0.01, 2,     2.06, 2, -999.000, 9, -999.000, 9, -999.000, 9,   -999.0, 9,   -999.0, 9, -999.0000, 9,   -999.00, -999.000, 9, -999.000,   -999.0, 9,   -999.0,  -999.00, 9,   -999.0,   4.2855, 27.2145,   4.3514, 2, 905, 2, 219.67, 2, 0.18, 0.12, 0.01, 0.02, -999, 9,  -999.00, 9, -999, -999, 9, -999
49NZ20031106, A10, 50, 1, 23, 12023, 2, 20031120, 934, -29.9927, -17.0138, 3690,   1002.2, 2,   3.9043, 2,  34.3292, 2,  34.3292, 2,    202.6, 1,    211.7, 2,    32.24, 2,    31.10, 2,     0.01, 2,     2.14, 2, -999.000, 9, -999.000, 9, -999.000, 9,   -999.0, 9,   -999.0, 9, -999.0000, 9,   -999.00, -999.000, 9, -999.000,   -999.0, 9,   -999.0,  -999.00, 9,   -999.0,   3.8295, 27.2701,   3.9044, 2, 1003.2, 2, 212.39, 2, 0.19, 0.12, 0.01, 0.02, -999, 9,  -999.00, 9, -999, -999, 9, -999
49NZ20031106, A10, 50, 1, 6, 12042, 9, 20031120, 934, -29.9927, -17.0138, 3690,   1002.2, 2,   3.9047, 2,  34.3290, 2, -999.0000, 9,    202.7, 1,   -999.0, 9,  -999.00, 9,  -999.00, 9,  -999.00, 9,  -999.00, 9, -999.000, 9, -999.000, 9, -999.000, 9,   -999.0, 9,   -999.0, 9, -999.0000, 9,   -999.00, -999.000, 9, -999.000,   -999.0, 9,   -999.0,  -999.00, 9,   -999.0,   3.8299, 27.2701,   3.9048, 2, 1003.2, 2, 212.41, 2, -999, -999, -999, -999, -999, 9,  -999.00, 9, -999, -999, 9, -999
49NZ20031106, A10, 50, 1, 5, 12041, 9, 20031120, 934, -29.9927, -17.0138, 3690,   1002.6, 2,   3.9047, 2,  34.3290, 2, -999.0000, 9,    202.6, 1,   -999.0, 9,  -999.00, 9,  -999.00, 9,  -999.00, 9,  -999.00, 9, -999.000, 9, -999.000, 9, -999.000, 9,   -999.0, 9,   -999.0, 9, -999.0000, 9,   -999.00, -999.000, 9, -999.000,   -999.0, 9,   -999.0,  -999.00, 9,   -999.0,   3.8299, 27.2701,   3.9045, 2, 1003.5, 2, 212.33, 2, -999, -999, -999, -999, -999, 9,  -999.00, 9, -999, -999, 9, -999
49NZ20031106, A10, 50, 1, 22, 12022, 2, 20031120, 934, -29.9927, -17.0138, 3690,   1201.1, 2,   3.2849, 2,  34.4294, 2,  34.4305, 2,    184.7, 1,    192.7, 2,    46.81, 2,    32.80, 2,     0.00, 2,     2.26, 2, -999.000, 9, -999.000, 9, -999.000, 9,   -999.0, 9,   -999.0, 9, -999.0000, 9,   -999.00, -999.000, 9, -999.000,   -999.0, 9,   -999.0,  -999.00, 9,   -999.0,   3.1990, 27.4117,   3.2847, 2, 1200.2, 2, 193.41, 2, 0.22, 0.12, 0.01, 0.02, -999, 9,  -999.00, 9, -999, -999, 9, -999
49NZ20031106, A10, 50, 1, 21, 12015, 2, 20031120, 934, -29.9927, -17.0138, 3690,   1401.5, 2,   2.9446, 2,  34.5739, 2,  34.5740, 2,    181.4, 1,    188.9, 2,    54.48, 2,    31.83, 2,     0.01, 2,     2.18, 2, -999.000, 9, -999.000, 9, -999.000, 9,   -999.0, 9,   -999.0, 9, -999.0000, 9,   -999.00, -999.000, 9, -999.000,   -999.0, 9,   -999.0,  -999.00, 9,   -999.0,   2.8455, 27.5597,   2.9446, 2, 1403.4, 2, 188.91, 2, 0.24, 0.12, 0.01, 0.02, -999, 9,  -999.00, 9, -999, -999, 9, -999
49NZ20031106, A10, 50, 1, 20, 12020, 2, 20031120, 934, -29.9927, -17.0138, 3690,   1600.1, 2,   2.8300, 2,  34.6668, 2,  34.6667, 2,    187.1, 1,    195.1, 2,    55.28, 2,    30.13, 2,     0.01, 2,     2.07, 2, -999.000, 9, -999.000, 9, -999.000, 9,   -999.0, 9,   -999.0, 9, -999.0000, 9,   -999.00, -999.000, 9, -999.000,   -999.0, 9,   -999.0,  -999.00, 9,   -999.0,   2.7156, 27.6454,   2.8299, 2, 1600.5, 2, 194.9, 2, 0.24, 0.12, 0.01, 0.02, -999, 9,  -999.00, 9, -999, -999, 9, -999
49NZ20031106, A10, 50, 1, 19, 12019, 2, 20031120, 934, -29.9927, -17.0138, 3690,   1801.7, 2,   2.7297, 2,  34.7448, 2,  34.7448, 2,    197.8, 1,    206.2, 2,    53.88, 2,    28.01, 2,     0.01, 2,     1.92, 2, -999.000, 9, -999.000, 9, -999.000, 9,   -999.0, 9,   -999.0, 9, -999.0000, 9,   -999.00, -999.000, 9, -999.000,   -999.0, 9,   -999.0,  -999.00, 9,   -999.0,   2.5992, 27.718,   2.7296, 2, 1802.8, 2, 205.23, 2, 0.24, 0.11, 0.01, 0.01, -999, 9,  -999.00, 9, -999, -999, 9, -999
49NZ20031106, A10, 50, 1, 18, 12018, 2, 20031120, 934, -29.9927, -17.0138, 3690,   2003.2, 2,   2.6601, 2,  34.7964, 2,  34.7964, 2,    208.6, 1,    217.5, 2,    51.40, 2,    26.31, 2,     0.00, 2,     1.79, 2, -999.000, 9, -999.000, 9, -999.000, 9,   -999.0, 9,   -999.0, 9, -999.0000, 9,   -999.00, -999.000, 9, -999.000,   -999.0, 9,   -999.0,  -999.00, 9,   -999.0,   2.5128, 27.7668,   2.6600, 2, 2002.7, 2, 217.52, 2, 0.23, 0.11, 0.01, 0.01, -999, 9,  -999.00, 9, -999, -999, 9, -999
49NZ20031106, A10, 50, 1, 17, 12017, 2, 20031120, 934, -29.9927, -17.0138, 3690,   2200.9, 2,   2.6165, 2,  34.8268, 2,  34.8270, 2,    216.1, 1,    225.3, 2,    49.17, 2,    25.11, 2,     0.00, 2,     1.71, 2, -999.000, 9, -999.000, 9, -999.000, 9,   -999.0, 9,   -999.0, 9, -999.0000, 9,   -999.00, -999.000, 9, -999.000,   -999.0, 9,   -999.0,  -999.00, 9,   -999.0,   2.4520, 27.7966,   2.6164, 2, 2200.4, 2, 225.52, 2, 0.23, 0.1, 0.01, 0.01, -999, 9,  -999.00, 9, -999, -999, 9, -999
49NZ20031106, A10, 50, 1, 16, 12016, 2, 20031120, 934, -29.9927, -17.0138, 3690,   2400.6, 2,   2.5629, 2,  34.8383, 2,  34.8383, 2,    220.0, 1,    229.3, 2,    49.20, 2,    24.61, 2,     0.01, 2,     1.68, 2, -999.000, 9, -999.000, 9, -999.000, 9,   -999.0, 9,   -999.0, 9, -999.0000, 9,   -999.00, -999.000, 9, -999.000,   -999.0, 9,   -999.0,  -999.00, 9,   -999.0,   2.3808, 27.8118,   2.5629, 2, 2400.6, 2, 229.28, 2, 0.23, 0.1, 0.01, 0.01, -999, 9,  -999.00, 9, -999, -999, 9, -999
49NZ20031106, A10, 50, 1, 15, 12012, 2, 20031120, 934, -29.9927, -17.0138, 3690,   2600.7, 2,   2.5439, 2,  34.8477, 2,  34.8480, 2,    223.3, 1,    232.6, 2,    48.66, 2,    24.25, 2,     0.01, 2,     1.65, 2, -999.000, 9, -999.000, 9, -999.000, 9,   -999.0, 9,   -999.0, 9, -999.0000, 9,   -999.00, -999.000, 9, -999.000,   -999.0, 9,   -999.0,  -999.00, 9,   -999.0,   2.3431, 27.8224,   2.5440, 2, 2600.6, 2, 232.36, 2, 0.23, 0.1, 0.01, 0.01, -999, 9,  -999.00, 9, -999, -999, 9, -999
49NZ20031106, A10, 50, 1, 14, 12014, 2, 20031120, 934, -29.9927, -17.0138, 3690,   2801.1, 2,   2.5100, 2,  34.8559, 2,  34.8564, 2,    226.7, 1,    235.9, 2,    48.23, 2,    23.82, 2,     0.01, 2,     1.62, 2, -999.000, 9, -999.000, 9, -999.000, 9,   -999.0, 9,   -999.0, 9, -999.0000, 9,   -999.00, -999.000, 9, -999.000,   -999.0, 9,   -999.0,  -999.00, 9,   -999.0,   2.2902, 27.8336,   2.5099, 2, 2801, 2, 235.74, 2, 0.23, 0.1, 0.01, 0.01, -999, 9,  -999.00, 9, -999, -999, 9, -999
49NZ20031106, A10, 50, 1, 9, 12045, 9, 20031120, 934, -29.9927, -17.0138, 3690,   2900.7, 2,   2.4970, 2,  34.8613, 2, -999.0000, 9,    228.8, 1,   -999.0, 9,  -999.00, 9,  -999.00, 9,  -999.00, 9,  -999.00, 9, -999.000, 9, -999.000, 9, -999.000, 9,   -999.0, 9,   -999.0, 9, -999.0000, 9,   -999.00, -999.000, 9, -999.000,   -999.0, 9,   -999.0,  -999.00, 9,   -999.0,   2.2675, 27.8398,   2.4973, 2, 2900.9, 2, 237.65, 2, -999, -999, -999, -999, -999, 9,  -999.00, 9, -999, -999, 9, -999
49NZ20031106, A10, 50, 1, 13, 12013, 2, 20031120, 934, -29.9927, -17.0138, 3690,   3001.8, 2,   2.4606, 2,  34.8656, 2,  34.8654, 2,    231.0, 1,    239.5, 2,    47.84, 2,    23.39, 2,     0.00, 2,     1.58, 2, -999.000, 9, -999.000, 9, -999.000, 9,   -999.0, 9,   -999.0, 9, -999.0000, 9,   -999.00, -999.000, 9, -999.000,   -999.0, 9,   -999.0,  -999.00, 9,   -999.0,   2.2217, 27.8471,   2.4607, 2, 3002.4, 2, 238.98, 2, 0.22, 0.1, 0.01, 0.01, -999, 9,  -999.00, 9, -999, -999, 9, -999
49NZ20031106, A10, 50, 1, 8, 12044, 9, 20031120, 934, -29.9927, -17.0138, 3690,   3102.8, 2,   2.4567, 2,  34.8743, 2, -999.0000, 9,    234.0, 1,   -999.0, 9,  -999.00, 9,  -999.00, 9,  -999.00, 9,  -999.00, 9, -999.000, 9, -999.000, 9, -999.000, 9,   -999.0, 9,   -999.0, 9, -999.0000, 9,   -999.00, -999.000, 9, -999.000,   -999.0, 9,   -999.0,  -999.00, 9,   -999.0,   2.2075, 27.8553,   2.4558, 2, 3102.8, 2, 242.11, 2, -999, -999, -999, -999, -999, 9,  -999.00, 9, -999, -999, 9, -999
49NZ20031106, A10, 50, 1, 12, 12048, 2, 20031120, 934, -29.9927, -17.0138, 3690,   3253.9, 2,   2.3476, 2,  34.8659, 2,  34.8656, 2,    233.7, 1,    241.8, 2,    49.98, 2,    23.25, 2,     0.00, 2,     1.59, 2, -999.000, 9, -999.000, 9, -999.000, 9,   -999.0, 9,   -999.0, 9, -999.0000, 9,   -999.00, -999.000, 9, -999.000,   -999.0, 9,   -999.0,  -999.00, 9,   -999.0,   2.0853, 27.8585,   2.3476, 2, 3254.4, 2, 242.13, 2, 0.23, 0.1, 0.01, 0.01, -999, 9,  -999.00, 9, -999, -999, 9, -999
49NZ20031106, A10, 50, 1, 7, 12043, 9, 20031120, 934, -29.9927, -17.0138, 3690,   3351.9, 2,   2.2414, 2,  34.8583, 2, -999.0000, 9,    233.5, 1,   -999.0, 9,  -999.00, 9,  -999.00, 9,  -999.00, 9,  -999.00, 9, -999.000, 9, -999.000, 9, -999.000, 9,   -999.0, 9,   -999.0, 9, -999.0000, 9,   -999.00, -999.000, 9, -999.000,   -999.0, 9,   -999.0,  -999.00, 9,   -999.0,   1.9714, 27.8615,   2.2415, 2, 3352.4, 2, 241.45, 2, -999, -999, -999, -999, -999, 9,  -999.00, 9, -999, -999, 9, -999
49NZ20031106, A10, 50, 1, 11, 12047, 2, 20031120, 934, -29.9927, -17.0138, 3690,   3500.7, 2,   2.1737, 2,  34.8526, 2,  34.8531, 2,    233.7, 1,    261.4, 4,    55.88, 2,    23.85, 2,     0.00, 2,     1.63, 2, -999.000, 9, -999.000, 9, -999.000, 9,   -999.0, 9,   -999.0, 9, -999.0000, 9,   -999.00, -999.000, 9, -999.000,   -999.0, 9,   -999.0,  -999.00, 9,   -999.0,   1.8896, 27.8636,   2.1737, 2, 3500.6, 2, 240.92, 2, 0.24, 0.1, 0.01, 0.01, -999, 9,  -999.00, 9, -999, -999, 9, -999
49NZ20031106, A10, 50, 1, 10, 12046, 2, 20031120, 934, -29.9927, -17.0138, 3690,   3744.0, 2,   2.1267, 2,  34.8478, 2,  34.8479, 2,    234.8, 1,    240.4, 2,    58.11, 2,    24.18, 2,     0.00, 2,     1.65, 2, -999.000, 9, -999.000, 9, -999.000, 9,   -999.0, 9,   -999.0, 9, -999.0000, 9,   -999.00, -999.000, 9, -999.000,   -999.0, 9,   -999.0,  -999.00, 9,   -999.0,   1.8176, 27.8652,   2.1267, 2, 3744, 2, 240.76, 2, 0.25, 0.1, 0.01, 0.01, -999, 9,  -999.00, 9, -999, -999, 9, -999