BOTTLE,20220818CCHSIOAMB
EXPOCODE,SECT_ID,STNNBR,CASTNO,SAMPNO,BTLNBR,BTLNBR_FLAG_W,DATE,TIME,LATITUDE,LONGITUDE,DEPTH,CTDPRS,CTDPRS_FLAG_W,CTDTMP,CTDTMP_FLAG_W,CTDSAL,CTDSAL_FLAG_W,SALNTY,SALNTY_FLAG_W,CTDOXY,CTDOXY_FLAG_W,OXYGEN,OXYGEN_FLAG_W,SILCAT,SILCAT_FLAG_W,NITRAT,NITRAT_FLAG_W,NITRIT,NITRIT_FLAG_W,PHSPHT,PHSPHT_FLAG_W,CFC-11,CFC-11_FLAG_W,CFC-12,CFC-12_FLAG_W,CFC113,CFC113_FLAG_W,TCARBN,TCARBN_FLAG_W,ALKALI,ALKALI_FLAG_W,PH_TOT,PH_TOT_FLAG_W,PH_TMP,TRITUM,TRITUM_FLAG_W,TRITER,DELC14,DELC14_FLAG_W,C14ERR,DELC13,DELC13_FLAG_W,C13ERR,THETA,SIG0,SBE35,SBE35_FLAG_W,DWNPRS,DWNPRS_FLAG_W,DWNOXY,DWNOXY_FLAG_W,SILUNC,NRAUNC,NRIUNC,PHPUNC,TOC,TOC_FLAG_W,CS-137,CS-137_FLAG_W,CS137ER,PLUTO,PLUTO_FLAG_W,PLUTOER
,,,,,,,,,,,METERS,DBAR,,ITS-90,,PSS-78,,PSS-78,,UMOL/KG,,UMOL/KG,,UMOL/KG,,UMOL/KG,,UMOL/KG,,UMOL/KG,,PMOL/KG,,PMOL/KG,,PMOL/KG,,UMOL/KG,,UMOL/KG,,,,DEG C,TU,,TU,/MILLE,,/MILLE,/MILLE,,/MILLE,DEG C,KG/M^3,ITS-90,,DBAR,,UMOL/KG,,UMOL/KG,UMOL/KG,UMOL/KG,UMOL/KG,UMOL/KG,,BQ/M^3,,BQ/M^3,MBQ/M^3,,MBQ/M^3
49NZ20031106, A10, 49, 1, 36, 12036, 2, 20031120, 351, -29.9980, -17.7062, 3944,      9.4, 2,  19.6501, 2,  35.9831, 2,  35.9803, 2,    219.3, 1,    232.0, 2,     1.00, 2,     0.01, 2,     0.00, 2,     0.14, 2,    2.495, 2,    1.412, 2,    0.307, 4,   2073.9, 2,   2360.6, 2,    8.0092, 2,     25.00, -999.000, 9, -999.000,   -999.0, 9,   -999.0,  -999.00, 9,   -999.0,  19.6484, 25.6009,  19.6720, 2, 11.3, 2, 231.45, 2, 0.12, 0.03, 0.01, 0.02, -999, 9,  -999.00, 9, -999, -999, 9, -999
49NZ20031106, A10, 49, 1, 2, 12038, 9, 20031120, 351, -29.9980, -17.7062, 3944,      9.8, 2,  19.7025, 2,  35.9818, 2, -999.0000, 9,    219.1, 1,   -999.0, 9,  -999.00, 9,  -999.00, 9,  -999.00, 9,  -999.00, 9, -999.000, 9, -999.000, 9, -999.000, 9,   -999.0, 9,   -999.0, 9, -999.0000, 9,   -999.00, -999.000, 9, -999.000,   -999.0, 9,   -999.0,  -999.00, 9,   -999.0,  19.7007, 25.6007,  19.6987, 2, 9.8, 2, 231.39, 2, -999, -999, -999, -999, -999, 9,  -999.00, 9, -999, -999, 9, -999
49NZ20031106, A10, 49, 1, 35, 12035, 2, 20031120, 351, -29.9980, -17.7062, 3944,     50.1, 2,  18.9284, 2,  35.9544, 2,  35.9542, 2,    222.0, 1,    234.5, 2,     1.08, 2,     0.00, 2,     0.00, 2,     0.15, 2,    2.563, 2,    1.414, 2,    0.332, 4,   2069.9, 6,   2358.5, 2,    8.0092, 2,     25.00, -999.000, 9, -999.000,   -999.0, 9,   -999.0,  -999.00, 9,   -999.0,  18.9195, 25.7747,  18.9260, 2, 51.3, 2, 233.64, 2, 0.12, 0.03, 0.01, 0.02, -999, 9,  -999.00, 9, -999, -999, 9, -999
49NZ20031106, A10, 49, 1, 34, 12034, 2, 20031120, 351, -29.9980, -17.7062, 3944,    102.2, 2,  18.5549, 2,  35.9841, 2,  35.9819, 2,    222.3, 1,    234.8, 2,     1.21, 2,    -0.01, 2,     0.00, 2,     0.15, 2,    2.590, 2,    1.426, 2,    0.370, 4,   2070.1, 2,   2359.1, 6,    8.0081, 2,     25.00, -999.000, 9, -999.000,   -999.0, 9,   -999.0,  -999.00, 9,   -999.0,  18.5369, 25.894,  18.5546, 2, 104.4, 2, 234.36, 2, 0.12, 0.03, 0.01, 0.02, -999, 9,  -999.00, 9, -999, -999, 9, -999
49NZ20031106, A10, 49, 1, 33, 12033, 2, 20031120, 351, -29.9980, -17.7062, 3944,    150.9, 2,  17.3327, 2,  35.7695, 2,  35.7711, 2,    217.0, 1,    228.6, 2,     1.32, 2,     0.28, 2,     0.04, 2,     0.22, 2,    2.704, 2,    1.480, 2,    0.340, 4,   2078.3, 2,   2348.3, 2,    7.9792, 6,     25.00, -999.000, 9, -999.000,   -999.0, 9,   -999.0,  -999.00, 9,   -999.0,  17.3074, 26.0336,  17.3340, 2, 156.4, 2, 227.9, 2, 0.12, 0.03, 0.01, 0.02, -999, 9,  -999.00, 9, -999, -999, 9, -999
49NZ20031106, A10, 49, 1, 32, 12032, 2, 20031120, 351, -29.9980, -17.7062, 3944,    199.2, 2,  15.8218, 2,  35.5679, 2,  35.5688, 2,    210.8, 1,    221.8, 2,     1.87, 2,     3.01, 2,     0.01, 2,     0.37, 2,    2.892, 2,    1.587, 2,    0.190, 4,   2089.1, 2,   2334.6, 2,    7.9396, 2,     25.00, -999.000, 9, -999.000,   -999.0, 9,   -999.0,  -999.00, 9,   -999.0,  15.7904, 26.2347,  15.8222, 2, 200.6, 2, 220.86, 2, 0.12, 0.04, 0.01, 0.01, -999, 9,  -999.00, 9, -999, -999, 9, -999
49NZ20031106, A10, 49, 1, 31, 12031, 2, 20031120, 351, -29.9980, -17.7062, 3944,    249.5, 2,  14.8557, 2,  35.4344, 2,  35.4337, 2,    208.5, 1,    218.8, 2,     2.32, 2,     5.25, 2,     0.01, 2,     0.49, 2,    3.004, 6,    1.663, 6,    0.111, 4,   2095.2, 2,   2327.3, 2,    7.9145, 2,     25.00, -999.000, 9, -999.000,   -999.0, 9,   -999.0,  -999.00, 9,   -999.0,  14.8180, 26.3487,  14.8559, 2, 252, 2, 217.86, 2, 0.12, 0.05, 0.01, 0.01, -999, 9,  -999.00, 9, -999, -999, 9, -999
49NZ20031106, A10, 49, 1, 30, 12030, 2, 20031120, 351, -29.9980, -17.7062, 3944,    299.5, 2,  13.9759, 2,  35.3072, 2,  35.3053, 2,    206.3, 1,    216.3, 2,     2.86, 2,     7.29, 2,     0.00, 2,     0.62, 2,    3.108, 2,    1.685, 2,    0.093, 4,   2103.6, 2,   2317.9, 2,    7.8894, 2,     25.00, -999.000, 9, -999.000,   -999.0, 9,   -999.0,  -999.00, 9,   -999.0,  13.9324, 26.4405,  13.9767, 2, 298.1, 2, 215.95, 2, 0.13, 0.05, 0.01, 0.01, -999, 9,  -999.00, 9, -999, -999, 9, -999
49NZ20031106, A10, 49, 1, 29, 12029, 2, 20031120, 351, -29.9980, -17.7062, 3944,    401.0, 2,  12.2426, 2,  35.0773, 2,  35.0784, 2,    203.8, 1,    213.5, 2,     3.96, 2,    11.40, 2,    -0.01, 2,     0.86, 2,    3.182, 2,    1.671, 2,    0.097, 4,   2116.2, 2,   2302.3, 2,    7.8430, 2,     25.00, -999.000, 9, -999.000,   -999.0, 9,   -999.0,  -999.00, 9,   -999.0,  12.1891, 26.6138,  12.2425, 2, 405.1, 2, 213.39, 2, 0.13, 0.06, 0.01, 0.01, -999, 9,  -999.00, 9, -999, -999, 9, -999
49NZ20031106, A10, 49, 1, 28, 12028, 2, 20031120, 351, -29.9980, -17.7062, 3944,    500.2, 2,  10.5940, 2,  34.8703, 2,  34.8703, 2,    198.6, 1,    207.2, 2,     6.06, 2,    15.94, 2,     0.00, 2,     1.14, 2,    3.187, 2,    1.632, 2,    0.110, 4,   2132.9, 2,   2299.4, 2,    7.7911, 2,     25.00, -999.000, 9, -999.000,   -999.0, 9,   -999.0,  -999.00, 9,   -999.0,  10.5330, 26.7586,  10.5945, 2, 502.4, 2, 208.92, 2, 0.13, 0.08, 0.01, 0.01, -999, 9,  -999.00, 9, -999, -999, 9, -999
49NZ20031106, A10, 49, 1, 27, 12027, 2, 20031120, 351, -29.9980, -17.7062, 3944,    600.0, 2,   8.4313, 2,  34.6229, 2,  34.6278, 2,    194.6, 1,    203.1, 2,    10.18, 2,    21.64, 2,    -0.01, 2,     1.51, 2,    2.977, 2,    1.469, 2,    0.137, 4,   2151.9, 2,   2291.2, 2,    7.7271, 2,     25.00, -999.000, 9, -999.000,   -999.0, 9,   -999.0,  -999.00, 9,   -999.0,   8.3674, 26.9229,   8.4231, 2, 602.8, 2, 204.62, 2, 0.14, 0.09, 0.01, 0.01, -999, 9,  -999.00, 9, -999, -999, 9, -999
49NZ20031106, A10, 49, 1, 26, 12026, 2, 20031120, 351, -29.9980, -17.7062, 3944,    700.7, 2,   6.6549, 2,  34.4523, 2,  34.4523, 2,    198.7, 1,    207.0, 2,    14.82, 2,    25.95, 2,    -0.01, 2,     1.78, 2,    2.849, 2,    1.358, 2,    0.153, 4,   2166.4, 6,   2284.8, 2,    7.6859, 2,     25.00, -999.000, 9, -999.000,   -999.0, 9,   -999.0,  -999.00, 9,   -999.0,   6.5893, 27.0432,   6.6548, 2, 704.6, 2, 206.4, 2, 0.15, 0.11, 0.01, 0.01, -999, 9,  -999.00, 9, -999, -999, 9, -999
49NZ20031106, A10, 49, 1, 25, 12025, 2, 20031120, 351, -29.9980, -17.7062, 3944,    801.3, 2,   5.1968, 2,  34.3385, 2,  34.3384, 2,    210.3, 1,    219.2, 2,    19.34, 2,    28.31, 2,    -0.01, 2,     1.93, 2,    2.765, 2,    1.307, 2,    0.155, 4,   2173.0, 2,   2286.7, 6,    7.6670, 2,     25.00, -999.000, 9, -999.000,   -999.0, 9,   -999.0,  -999.00, 9,   -999.0,   5.1302, 27.1357,   5.2017, 2, 802.8, 2, 219.18, 2, 0.16, 0.11, 0.01, 0.01, -999, 9,  -999.00, 9, -999, -999, 9, -999
49NZ20031106, A10, 49, 1, 24, 12024, 2, 20031120, 351, -29.9980, -17.7062, 3944,    901.7, 2,   4.4191, 2,  34.3210, 2,  34.3204, 2,    206.6, 1,    215.7, 2,    26.09, 2,    30.14, 2,    -0.01, 2,     2.06, 2,    2.255, 2,    1.064, 2,    0.122, 4,   2184.8, 2,   2292.3, 2,    7.6471, 2,     25.00, -999.000, 9, -999.000,   -999.0, 9,   -999.0,  -999.00, 9,   -999.0,   4.3489, 27.2093,   4.4200, 2, 902.9, 2, 214.12, 2, 0.18, 0.12, 0.01, 0.02, -999, 9,  -999.00, 9, -999, -999, 9, -999
49NZ20031106, A10, 49, 1, 23, 12023, 2, 20031120, 351, -29.9980, -17.7062, 3944,   1000.1, 2,   3.8671, 2,  34.3388, 2,  34.3388, 2,    199.3, 1,    208.2, 2,    33.71, 2,    31.60, 2,    -0.01, 2,     2.16, 2,    1.708, 6,    0.804, 6,    0.082, 4,   2199.0, 2,   2307.6, 3,    7.6297, 2,     25.00, -999.000, 9, -999.000,   -999.0, 9,   -999.0,  -999.00, 9,   -999.0,   3.7927, 27.2818,   3.8669, 2, 1001.1, 2, 208.63, 2, 0.19, 0.12, 0.01, 0.02, -999, 9,  -999.00, 9, -999, -999, 9, -999
49NZ20031106, A10, 49, 1, 4, 12040, 9, 20031120, 351, -29.9980, -17.7062, 3944,   1000.5, 2,   3.8663, 2,  34.3390, 2, -999.0000, 9,    199.3, 1,   -999.0, 9,  -999.00, 9,  -999.00, 9,  -999.00, 9,  -999.00, 9, -999.000, 9, -999.000, 9, -999.000, 9,   -999.0, 9,   -999.0, 9, -999.0000, 9,   -999.00, -999.000, 9, -999.000,   -999.0, 9,   -999.0,  -999.00, 9,   -999.0,   3.7919, 27.2819,   3.8663, 2, 1001.5, 2, 208.6, 2, -999, -999, -999, -999, -999, 9,  -999.00, 9, -999, -999, 9, -999
49NZ20031106, A10, 49, 1, 8, 12044, 9, 20031120, 351, -29.9980, -17.7062, 3944,   1000.8, 2,   3.8659, 2,  34.3393, 2, -999.0000, 9,    199.3, 1,   -999.0, 9,  -999.00, 9,  -999.00, 9,  -999.00, 9,  -999.00, 9, -999.000, 9, -999.000, 9, -999.000, 9,   -999.0, 9,   -999.0, 9, -999.0000, 9,   -999.00, -999.000, 9, -999.000,   -999.0, 9,   -999.0,  -999.00, 9,   -999.0,   3.7915, 27.2822,   3.8658, 2, 1001.8, 2, 208.58, 2, -999, -999, -999, -999, -999, 9,  -999.00, 9, -999, -999, 9, -999
49NZ20031106, A10, 49, 1, 7, 12043, 9, 20031120, 351, -29.9980, -17.7062, 3944,   1001.0, 2,   3.8664, 2,  34.3391, 2, -999.0000, 9,    199.3, 1,   -999.0, 9,  -999.00, 9,  -999.00, 9,  -999.00, 9,  -999.00, 9, -999.000, 9, -999.000, 9, -999.000, 9,   -999.0, 9,   -999.0, 9, -999.0000, 9,   -999.00, -999.000, 9, -999.000,   -999.0, 9,   -999.0,  -999.00, 9,   -999.0,   3.7920, 27.2821,   3.8662, 2, 1002, 2, 208.57, 2, -999, -999, -999, -999, -999, 9,  -999.00, 9, -999, -999, 9, -999
49NZ20031106, A10, 49, 1, 6, 12042, 9, 20031120, 351, -29.9980, -17.7062, 3944,   1001.1, 2,   3.8658, 2,  34.3392, 2, -999.0000, 9,    199.2, 1,   -999.0, 9,  -999.00, 9,  -999.00, 9,  -999.00, 9,  -999.00, 9, -999.000, 9, -999.000, 9, -999.000, 9,   -999.0, 9,   -999.0, 9, -999.0000, 9,   -999.00, -999.000, 9, -999.000,   -999.0, 9,   -999.0,  -999.00, 9,   -999.0,   3.7914, 27.2821,   3.8659, 2, 1002.1, 2, 208.57, 2, -999, -999, -999, -999, -999, 9,  -999.00, 9, -999, -999, 9, -999
49NZ20031106, A10, 49, 1, 5, 12041, 9, 20031120, 351, -29.9980, -17.7062, 3944,   1001.1, 2,   3.8660, 2,  34.3392, 2, -999.0000, 9,    199.3, 1,   -999.0, 9,  -999.00, 9,  -999.00, 9,  -999.00, 9,  -999.00, 9, -999.000, 9, -999.000, 9, -999.000, 9,   -999.0, 9,   -999.0, 9, -999.0000, 9,   -999.00, -999.000, 9, -999.000,   -999.0, 9,   -999.0,  -999.00, 9,   -999.0,   3.7916, 27.282,   3.8662, 2, 1002.1, 2, 208.57, 2, -999, -999, -999, -999, -999, 9,  -999.00, 9, -999, -999, 9, -999
49NZ20031106, A10, 49, 1, 22, 12022, 2, 20031120, 351, -29.9980, -17.7062, 3944,   1200.8, 2,   3.2408, 2,  34.4288, 2,  34.4279, 2,    186.5, 1,    194.8, 2,    46.46, 2,    32.86, 2,    -0.01, 2,     2.25, 2,    0.863, 2,    0.407, 2,    0.031, 4,   2218.3, 2,   2311.7, 2,    7.6087, 2,     25.00, -999.000, 9, -999.000,   -999.0, 9,   -999.0,  -999.00, 9,   -999.0,   3.1553, 27.4148,   3.2413, 2, 1203.5, 2, 196.04, 2, 0.22, 0.12, 0.01, 0.02, -999, 9,  -999.00, 9, -999, -999, 9, -999
49NZ20031106, A10, 49, 1, 21, 12015, 2, 20031120, 351, -29.9980, -17.7062, 3944,   1400.0, 2,   2.9662, 2,  34.5556, 2,  34.5555, 2,    181.0, 1,    188.7, 2,    53.93, 2,    32.18, 2,    -0.01, 2,     2.20, 2,    0.335, 2,    0.158, 2,    0.010, 4,   2227.1, 2,   2320.4, 2,    7.6093, 2,     25.00, -999.000, 9, -999.000,   -999.0, 9,   -999.0,  -999.00, 9,   -999.0,   2.8670, 27.5429,   2.9661, 2, 1401.9, 2, 188.61, 2, 0.24, 0.12, 0.01, 0.02, -999, 9,  -999.00, 9, -999, -999, 9, -999
49NZ20031106, A10, 49, 1, 20, 12020, 2, 20031120, 351, -29.9980, -17.7062, 3944,   1600.6, 2,   2.8179, 2,  34.6701, 2,  34.6702, 2,    187.2, 1,    195.1, 2,    55.34, 2,    30.30, 2,     0.00, 2,     2.07, 2,    0.115, 2,    0.051, 2,    0.000, 4,   2225.5, 2,   2327.6, 2,    7.6296, 2,     25.00, -999.000, 9, -999.000,   -999.0, 9,   -999.0,  -999.00, 9,   -999.0,   2.7036, 27.6489,   2.8180, 2, 1602.6, 2, 194.16, 2, 0.24, 0.12, 0.01, 0.02, -999, 9,  -999.00, 9, -999, -999, 9, -999
49NZ20031106, A10, 49, 1, 19, 12019, 2, 20031120, 351, -29.9980, -17.7062, 3944,   1800.8, 2,   2.7649, 2,  34.7493, 2,  34.7496, 2,    197.7, 1,    206.5, 2,    52.60, 2,    28.16, 2,    -0.01, 2,     1.91, 2,    0.038, 2,    0.016, 2,    0.000, 4,   2217.0, 2,   2328.3, 2,    7.6560, 2,     25.00, -999.000, 9, -999.000,   -999.0, 9,   -999.0,  -999.00, 9,   -999.0,   2.6340, 27.7186,   2.7647, 2, 1801.8, 2, 205.11, 2, 0.23, 0.11, 0.01, 0.01, -999, 9,  -999.00, 9, -999, -999, 9, -999
49NZ20031106, A10, 49, 1, 18, 12018, 2, 20031120, 351, -29.9980, -17.7062, 3944,   2002.0, 2,   2.6955, 2,  34.7944, 2,  34.7944, 2,    207.3, 1,    216.5, 2,    50.56, 2,    26.64, 2,    -0.01, 2,     1.81, 2,    0.015, 2,    0.007, 2,    0.000, 4,   2208.4, 2,   2328.0, 2,    7.6745, 6,     25.00, -999.000, 9, -999.000,   -999.0, 9,   -999.0,  -999.00, 9,   -999.0,   2.5478, 27.7622,   2.6955, 2, 2001.6, 2, 216.37, 2, 0.23, 0.11, 0.01, 0.01, -999, 9,  -999.00, 9, -999, -999, 9, -999
49NZ20031106, A10, 49, 1, 1, 12037, 2, 20031120, 351, -29.9980, -17.7062, 3944,   2200.5, 2,   2.6618, 2,  34.8254, 2,  34.8252, 2,    215.2, 1,    224.7, 2,    48.31, 2,    25.36, 2,    -0.01, 2,     1.72, 2,    0.009, 2,    0.002, 2,    0.000, 4,   2204.6, 2,   2332.7, 2,    7.6919, 2,     25.00, -999.000, 9, -999.000,   -999.0, 9,   -999.0,  -999.00, 9,   -999.0,   2.4966, 27.7916,   2.6619, 2, 2200.7, 2, 224, 2, 0.23, 0.1, 0.01, 0.01, -999, 9,  -999.00, 9, -999, -999, 9, -999
49NZ20031106, A10, 49, 1, 16, 12016, 2, 20031120, 351, -29.9980, -17.7062, 3944,   2401.1, 2,   2.6579, 2,  34.8503, 2,  34.8503, 2,    221.9, 1,    231.9, 2,    45.54, 2,    24.35, 2,     0.00, 2,     1.65, 2,   -0.003, 2,   -0.001, 2,    0.000, 4,   2197.7, 6,   2327.5, 2,    7.7050, 2,     25.00, -999.000, 9, -999.000,   -999.0, 9,   -999.0,  -999.00, 9,   -999.0,   2.4740, 27.8134,   2.6579, 2, 2401.1, 2, 231.41, 2, 0.22, 0.1, 0.01, 0.01, -999, 9,  -999.00, 9, -999, -999, 9, -999
49NZ20031106, A10, 49, 1, 15, 12012, 2, 20031120, 351, -29.9980, -17.7062, 3944,   2600.3, 2,   2.6280, 2,  34.8619, 2,  34.8625, 2,    225.8, 1,    235.9, 2,    44.67, 2,    23.77, 2,    -0.01, 2,     1.61, 2,   -0.001, 2,    0.002, 2,    0.000, 4,   2193.7, 2,   2329.0, 6,    7.7113, 2,     25.00, -999.000, 9, -999.000,   -999.0, 9,   -999.0,  -999.00, 9,   -999.0,   2.4256, 27.827,   2.6281, 2, 2600.2, 2, 235.31, 2, 0.22, 0.1, 0.01, 0.01, -999, 9,  -999.00, 9, -999, -999, 9, -999
49NZ20031106, A10, 49, 1, 14, 12014, 2, 20031120, 351, -29.9980, -17.7062, 3944,   2801.5, 2,   2.6135, 2,  34.8743, 2,  34.8743, 2,    230.0, 1,    239.6, 2,    43.23, 2,    23.21, 2,    -0.01, 2,     1.57, 2,    0.004, 2,    0.002, 2,    0.000, 4,   2191.6, 2,   2325.4, 2,    7.7176, 6,     25.00, -999.000, 9, -999.000,   -999.0, 9,   -999.0,  -999.00, 9,   -999.0,   2.3915, 27.8399,   2.6135, 2, 2801.4, 2, 239.21, 2, 0.21, 0.1, 0.01, 0.01, -999, 9,  -999.00, 9, -999, -999, 9, -999
49NZ20031106, A10, 49, 1, 13, 12013, 2, 20031120, 351, -29.9980, -17.7062, 3944,   3001.3, 2,   2.5664, 2,  34.8836, 2,  34.8836, 2,    233.7, 1,    243.8, 2,    42.75, 2,    22.77, 2,     0.00, 2,     1.54, 2,    0.000, 2,    0.001, 2,    0.000, 4,   2187.7, 2,   2333.3, 2,    7.7242, 2,     25.00, -999.000, 9, -999.000,   -999.0, 9,   -999.0,  -999.00, 9,   -999.0,   2.3251, 27.8529,   2.5664, 2, 3000.8, 2, 243.21, 2, 0.21, 0.1, 0.01, 0.01, -999, 9,  -999.00, 9, -999, -999, 9, -999
49NZ20031106, A10, 49, 1, 12, 12048, 2, 20031120, 351, -29.9980, -17.7062, 3944,   3250.7, 2,   2.3455, 2,  34.8719, 2,  34.8718, 2,    234.5, 1,    243.9, 2,    48.79, 2,    23.20, 2,    -0.01, 2,     1.57, 2,    0.001, 2,   -0.001, 2,    0.000, 4,   2192.6, 2,   2332.4, 2,    7.7206, 2,     25.00, -999.000, 9, -999.000,   -999.0, 9,   -999.0,  -999.00, 9,   -999.0,   2.0835, 27.8635,   2.3455, 2, 3251.3, 2, 243.94, 2, 0.23, 0.1, 0.01, 0.01, -999, 9,  -999.00, 9, -999, -999, 9, -999
49NZ20031106, A10, 49, 1, 11, 12047, 2, 20031120, 351, -29.9980, -17.7062, 3944,   3500.6, 2,   2.1206, 2,  34.8506, 2,  34.8503, 2,    232.5, 1,    241.0, 2,    57.35, 2,    24.29, 2,    -0.01, 2,     1.65, 2,    0.003, 2,    0.000, 2,    0.000, 4,   2201.7, 2,   2343.0, 2,    7.7104, 2,     25.00, -999.000, 9, -999.000,   -999.0, 9,   -999.0,  -999.00, 9,   -999.0,   1.8379, 27.8659,   2.1212, 2, 3500.4, 2, 241.08, 2, 0.25, 0.1, 0.01, 0.01, -999, 9,  -999.00, 9, -999, -999, 9, -999
49NZ20031106, A10, 49, 1, 10, 12046, 2, 20031120, 351, -29.9980, -17.7062, 3944,   3749.7, 2,   1.9803, 2,  34.8379, 2,  34.8374, 2,    232.2, 1,    239.6, 2,    62.72, 2,    24.89, 2,    -0.01, 2,     1.69, 2, -999.000, 5, -999.000, 5, -999.000, 5,   2210.0, 2,   2342.8, 2,    7.7060, 2,     25.00, -999.000, 9, -999.000,   -999.0, 9,   -999.0,  -999.00, 9,   -999.0,   1.6745, 27.8683,   1.9804, 2, 3749.8, 2, 239.63, 2, 0.26, 0.1, 0.01, 0.01, -999, 9,  -999.00, 9, -999, -999, 9, -999
49NZ20031106, A10, 49, 1, 17, 12017, 2, 20031120, 351, -29.9980, -17.7062, 3944,   3750.8, 2,   1.9798, 2,  34.8376, 2,  34.8382, 2,    232.2, 1,    239.8, 2,    62.56, 2,    24.93, 2,    -0.01, 2,     1.69, 2,   -0.008, 2,   -0.001, 2,    0.000, 4,   2207.0, 2,   2340.2, 2,    7.7048, 2,     25.00, -999.000, 9, -999.000,   -999.0, 9,   -999.0,  -999.00, 9,   -999.0,   1.6739, 27.8682,   1.9802, 2, 3750.9, 2, 239.69, 2, 0.26, 0.1, 0.01, 0.01, -999, 9,  -999.00, 9, -999, -999, 9, -999
49NZ20031106, A10, 49, 1, 3, 12039, 9, 20031120, 351, -29.9980, -17.7062, 3944,   3850.5, 2,   1.9290, 2,  34.8320, 2, -999.0000, 9,    232.1, 1,   -999.0, 9,  -999.00, 9,  -999.00, 9,  -999.00, 9,  -999.00, 9, -999.000, 9, -999.000, 9, -999.000, 9,   -999.0, 9,   -999.0, 9, -999.0000, 9,   -999.00, -999.000, 9, -999.000,   -999.0, 9,   -999.0,  -999.00, 9,   -999.0,   1.6136, 27.8683,   1.9291, 2, 3849.9, 2, 238.42, 2, -999, -999, -999, -999, -999, 9,  -999.00, 9, -999, -999, 9, -999
49NZ20031106, A10, 49, 1, 9, 12045, 2, 20031120, 351, -29.9980, -17.7062, 3944,   3935.9, 2,   1.8567, 2,  34.8245, 2,  34.8245, 2,    231.8, 1,    237.4, 2,    67.91, 2,    25.61, 2,     0.00, 2,     1.74, 2,    0.003, 2,   -0.003, 2,    0.000, 4,   2213.7, 2,   2347.0, 2,    7.6987, 2,     25.00, -999.000, 9, -999.000,   -999.0, 9,   -999.0,  -999.00, 9,   -999.0,   1.5340, 27.8682,   1.8560, 2, 3935.9, 2, 237.38, 2, 0.27, 0.1, 0.01, 0.01, -999, 9,  -999.00, 9, -999, -999, 9, -999