BOTTLE,20220818CCHSIOAMB
EXPOCODE,SECT_ID,STNNBR,CASTNO,SAMPNO,BTLNBR,BTLNBR_FLAG_W,DATE,TIME,LATITUDE,LONGITUDE,DEPTH,CTDPRS,CTDPRS_FLAG_W,CTDTMP,CTDTMP_FLAG_W,CTDSAL,CTDSAL_FLAG_W,SALNTY,SALNTY_FLAG_W,CTDOXY,CTDOXY_FLAG_W,OXYGEN,OXYGEN_FLAG_W,SILCAT,SILCAT_FLAG_W,NITRAT,NITRAT_FLAG_W,NITRIT,NITRIT_FLAG_W,PHSPHT,PHSPHT_FLAG_W,CFC-11,CFC-11_FLAG_W,CFC-12,CFC-12_FLAG_W,CFC113,CFC113_FLAG_W,TCARBN,TCARBN_FLAG_W,ALKALI,ALKALI_FLAG_W,PH_TOT,PH_TOT_FLAG_W,PH_TMP,TRITUM,TRITUM_FLAG_W,TRITER,DELC14,DELC14_FLAG_W,C14ERR,DELC13,DELC13_FLAG_W,C13ERR,THETA,SIG0,SBE35,SBE35_FLAG_W,DWNPRS,DWNPRS_FLAG_W,DWNOXY,DWNOXY_FLAG_W,SILUNC,NRAUNC,NRIUNC,PHPUNC,TOC,TOC_FLAG_W,CS-137,CS-137_FLAG_W,CS137ER,PLUTO,PLUTO_FLAG_W,PLUTOER
,,,,,,,,,,,METERS,DBAR,,ITS-90,,PSS-78,,PSS-78,,UMOL/KG,,UMOL/KG,,UMOL/KG,,UMOL/KG,,UMOL/KG,,UMOL/KG,,PMOL/KG,,PMOL/KG,,PMOL/KG,,UMOL/KG,,UMOL/KG,,,,DEG C,TU,,TU,/MILLE,,/MILLE,/MILLE,,/MILLE,DEG C,KG/M^3,ITS-90,,DBAR,,UMOL/KG,,UMOL/KG,UMOL/KG,UMOL/KG,UMOL/KG,UMOL/KG,,BQ/M^3,,BQ/M^3,MBQ/M^3,,MBQ/M^3
49NZ20031106, A10, 68, 1, 4, 12028, 2, 20031125, 1156, -29.9948, -3.9920, 3951,      6.6, 2,  19.1935, 2,  35.9518, 2, -999.0000, 9,    221.4, 1,   -999.0, 9,  -999.00, 9,  -999.00, 9,  -999.00, 9,  -999.00, 9, -999.000, 9, -999.000, 9, -999.000, 9,   -999.0, 9,   -999.0, 9, -999.0000, 9,   -999.00, -999.000, 9, -999.000,   -999.0, 9,   -999.0,  -999.00, 9,   -999.0,  19.1923, 25.6866,  19.2310, 2, 6.6, 2, 234.19, 2, -999, -999, -999, -999, -999, 9,  -999.00, 9, -999, -999, 9, -999
49NZ20031106, A10, 68, 1, 3, 12027, 2, 20031125, 1156, -29.9948, -3.9920, 3951,      7.2, 2,  19.2428, 2,  35.9512, 2, -999.0000, 9,    221.2, 1,   -999.0, 9,  -999.00, 9,  -999.00, 9,  -999.00, 9,  -999.00, 9, -999.000, 9, -999.000, 9, -999.000, 9,   -999.0, 9,   -999.0, 9, -999.0000, 9,   -999.00, -999.000, 9, -999.000,   -999.0, 9,   -999.0,  -999.00, 9,   -999.0,  19.2415, 25.6814,  19.2318, 2, 7.2, 2, 234.17, 2, -999, -999, -999, -999, -999, 9,  -999.00, 9, -999, -999, 9, -999
49NZ20031106, A10, 68, 1, 5, 12029, 9, 20031125, 1156, -29.9948, -3.9920, 3951,      7.3, 2,  18.9953, 2,  35.9478, 2, -999.0000, 9,    221.9, 1,   -999.0, 9,  -999.00, 9,  -999.00, 9,  -999.00, 9,  -999.00, 9, -999.000, 9, -999.000, 9, -999.000, 9,   -999.0, 9,   -999.0, 9, -999.0000, 9,   -999.00, -999.000, 9, -999.000,   -999.0, 9,   -999.0,  -999.00, 9,   -999.0,  18.9940, 25.7424,  19.0307, 2, 2.4, 2, 234.55, 2, -999, -999, -999, -999, -999, 9,  -999.00, 9, -999, -999, 9, -999
49NZ20031106, A10, 68, 1, 36, 12024, 2, 20031125, 1156, -29.9948, -3.9920, 3951,     10.2, 2,  18.9678, 2,  35.9425, 2,  35.9436, 2,    221.7, 1,    234.7, 2,     1.66, 2,    -0.01, 2,     0.00, 2,     0.18, 2, -999.000, 9, -999.000, 9, -999.000, 9,   -999.0, 9,   -999.0, 9, -999.0000, 9,   -999.00, -999.000, 9, -999.000,   -999.0, 9,   -999.0,  -999.00, 9,   -999.0,  18.9660, 25.7498,  18.9818, 2, 4, 2, 234.68, 2, 0.12, 0.03, 0.01, 0.02, -999, 9,  -999.00, 9, -999, -999, 9, -999
49NZ20031106, A10, 68, 1, 35, 12023, 2, 20031125, 1156, -29.9948, -3.9920, 3951,     50.8, 2,  18.0221, 2,  35.8873, 2,  35.8886, 2,    228.9, 1,    241.9, 2,     1.99, 2,    -0.03, 2,     0.00, 2,     0.18, 2, -999.000, 9, -999.000, 9, -999.000, 9,   -999.0, 9,   -999.0, 9, -999.0000, 9,   -999.00, -999.000, 9, -999.000,   -999.0, 9,   -999.0,  -999.00, 9,   -999.0,  18.0133, 25.9495,  18.0298, 2, 55.6, 2, 240.18, 2, 0.12, 0.03, 0.01, 0.02, -999, 9,  -999.00, 9, -999, -999, 9, -999
49NZ20031106, A10, 68, 1, 34, 12022, 2, 20031125, 1156, -29.9948, -3.9920, 3951,    100.6, 2,  17.2611, 2,  35.8196, 2,  35.8205, 2,    223.0, 1,    236.3, 2,     1.94, 2,     0.19, 2,     0.11, 2,     0.22, 2, -999.000, 9, -999.000, 9, -999.000, 9,   -999.0, 9,   -999.0, 9, -999.0000, 9,   -999.00, -999.000, 9, -999.000,   -999.0, 9,   -999.0,  -999.00, 9,   -999.0,  17.2443, 26.087,  17.2558, 2, 101.8, 2, 235.1, 2, 0.12, 0.03, 0.01, 0.02, -999, 9,  -999.00, 9, -999, -999, 9, -999
49NZ20031106, A10, 68, 1, 2, 12026, 2, 20031125, 1156, -29.9948, -3.9920, 3951,    101.0, 2,  17.2622, 2,  35.8201, 2, -999.0000, 9,    222.9, 1,   -999.0, 9,  -999.00, 9,  -999.00, 9,  -999.00, 9,  -999.00, 9, -999.000, 9, -999.000, 9, -999.000, 9,   -999.0, 9,   -999.0, 9, -999.0000, 9,   -999.00, -999.000, 9, -999.000,   -999.0, 9,   -999.0,  -999.00, 9,   -999.0,  17.2453, 26.0866,  17.2639, 2, 102.2, 2, 234.97, 2, -999, -999, -999, -999, -999, 9,  -999.00, 9, -999, -999, 9, -999
49NZ20031106, A10, 68, 1, 33, 12015, 2, 20031125, 1156, -29.9948, -3.9920, 3951,    151.8, 2,  15.2987, 2,  35.4917, 2,  35.4946, 2,    202.7, 1,    213.5, 2,     3.16, 2,     5.59, 2,     0.02, 2,     0.52, 2, -999.000, 9, -999.000, 9, -999.000, 9,   -999.0, 9,   -999.0, 9, -999.0000, 9,   -999.00, -999.000, 9, -999.000,   -999.0, 9,   -999.0,  -999.00, 9,   -999.0,  15.2753, 26.2914,  15.2997, 2, 157.4, 2, 211.94, 2, 0.13, 0.05, 0.01, 0.01, -999, 9,  -999.00, 9, -999, -999, 9, -999
49NZ20031106, A10, 68, 1, 32, 12020, 2, 20031125, 1156, -29.9948, -3.9920, 3951,    198.9, 2,  14.1954, 2,  35.3253, 2,  35.3257, 2,    205.9, 1,    216.7, 2,     3.42, 2,     6.94, 2,     0.01, 2,     0.60, 2, -999.000, 9, -999.000, 9, -999.000, 9,   -999.0, 9,   -999.0, 9, -999.0000, 9,   -999.00, -999.000, 9, -999.000,   -999.0, 9,   -999.0,  -999.00, 9,   -999.0,  14.1663, 26.4053,  14.1965, 2, 205.9, 2, 217.24, 2, 0.13, 0.05, 0.01, 0.01, -999, 9,  -999.00, 9, -999, -999, 9, -999
49NZ20031106, A10, 68, 1, 31, 12019, 2, 20031125, 1156, -29.9948, -3.9920, 3951,    251.7, 2,  13.1149, 2,  35.1836, 2,  35.1844, 2,    203.2, 1,    213.5, 2,     3.97, 2,     9.33, 2,     0.01, 2,     0.75, 2, -999.000, 9, -999.000, 9, -999.000, 9,   -999.0, 9,   -999.0, 9, -999.0000, 9,   -999.00, -999.000, 9, -999.000,   -999.0, 9,   -999.0,  -999.00, 9,   -999.0,  13.0799, 26.5201,  13.1181, 2, 259.2, 2, 213.88, 2, 0.13, 0.06, 0.01, 0.01, -999, 9,  -999.00, 9, -999, -999, 9, -999
49NZ20031106, A10, 68, 1, 30, 12018, 2, 20031125, 1156, -29.9948, -3.9920, 3951,    300.8, 2,  12.2915, 2,  35.0781, 2,  35.0767, 2,    198.8, 1,    208.5, 2,     4.86, 2,    11.81, 2,     0.01, 2,     0.89, 2, -999.000, 9, -999.000, 9, -999.000, 9,   -999.0, 9,   -999.0, 9, -999.0000, 9,   -999.00, -999.000, 9, -999.000,   -999.0, 9,   -999.0,  -999.00, 9,   -999.0,  12.2514, 26.6028,  12.2917, 2, 304.8, 2, 209.9, 2, 0.13, 0.07, 0.01, 0.01, -999, 9,  -999.00, 9, -999, -999, 9, -999
49NZ20031106, A10, 68, 1, 29, 12017, 2, 20031125, 1156, -29.9948, -3.9920, 3951,    399.6, 2,  11.1275, 2,  34.9370, 2,  34.9337, 2,    194.8, 1,    204.3, 2,     6.30, 2,    14.95, 2,     0.00, 2,     1.08, 2, -999.000, 9, -999.000, 9, -999.000, 9,   -999.0, 9,   -999.0, 9, -999.0000, 9,   -999.00, -999.000, 9, -999.000,   -999.0, 9,   -999.0,  -999.00, 9,   -999.0,  11.0774, 26.7138,  11.1271, 2, 401.3, 2, 206.1, 2, 0.13, 0.07, 0.01, 0.01, -999, 9,  -999.00, 9, -999, -999, 9, -999
49NZ20031106, A10, 68, 1, 28, 12016, 2, 20031125, 1156, -29.9948, -3.9920, 3951,    500.3, 2,   9.2895, 2,  34.7193, 2,  34.7178, 2,    184.1, 1,    192.2, 2,    10.11, 2,    20.39, 2,     0.00, 2,     1.44, 2, -999.000, 9, -999.000, 9, -999.000, 9,   -999.0, 9,   -999.0, 9, -999.0000, 9,   -999.00, -999.000, 9, -999.000,   -999.0, 9,   -999.0,  -999.00, 9,   -999.0,   9.2333, 26.862,   9.2884, 2, 503.1, 2, 192.06, 2, 0.14, 0.09, 0.01, 0.01, -999, 9,  -999.00, 9, -999, -999, 9, -999
49NZ20031106, A10, 68, 1, 27, 12012, 2, 20031125, 1156, -29.9948, -3.9920, 3951,    600.5, 2,   7.4371, 2,  34.5322, 2,  34.5314, 2,    187.5, 1,    195.5, 2,    14.59, 2,    24.78, 2,     0.01, 2,     1.72, 2, -999.000, 9, -999.000, 9, -999.000, 9,   -999.0, 9,   -999.0, 9, -999.0000, 9,   -999.00, -999.000, 9, -999.000,   -999.0, 9,   -999.0,  -999.00, 9,   -999.0,   7.3777, 26.9983,   7.4363, 2, 603.1, 2, 195.37, 2, 0.15, 0.1, 0.01, 0.01, -999, 9,  -999.00, 9, -999, -999, 9, -999
49NZ20031106, A10, 68, 1, 26, 12014, 2, 20031125, 1156, -29.9948, -3.9920, 3951,    700.4, 2,   6.0031, 2,  34.4114, 2,  34.4115, 2,    196.1, 1,    204.9, 2,    18.88, 2,    27.52, 2,     0.00, 2,     1.89, 2, -999.000, 9, -999.000, 9, -999.000, 9,   -999.0, 9,   -999.0, 9, -999.0000, 9,   -999.00, -999.000, 9, -999.000,   -999.0, 9,   -999.0,  -999.00, 9,   -999.0,   5.9410, 27.0957,   6.0027, 2, 702.4, 2, 203.12, 2, 0.16, 0.11, 0.01, 0.01, -999, 9,  -999.00, 9, -999, -999, 9, -999
49NZ20031106, A10, 68, 1, 25, 12013, 2, 20031125, 1156, -29.9948, -3.9920, 3951,    801.9, 2,   4.7568, 2,  34.3364, 2,  34.3368, 2,    203.8, 1,    213.4, 2,    24.67, 2,    29.48, 2,     0.00, 2,     2.03, 2, -999.000, 9, -999.000, 9, -999.000, 9,   -999.0, 9,   -999.0, 9, -999.0000, 9,   -999.00, -999.000, 9, -999.000,   -999.0, 9,   -999.0,  -999.00, 9,   -999.0,   4.6929, 27.1844,   4.7580, 2, 804.1, 2, 213.33, 2, 0.17, 0.12, 0.01, 0.02, -999, 9,  -999.00, 9, -999, -999, 9, -999
49NZ20031106, A10, 68, 1, 24, 12048, 2, 20031125, 1156, -29.9948, -3.9920, 3951,    902.6, 2,   4.0211, 2,  34.3419, 2,  34.3419, 2,    197.8, 1,    207.2, 2,    32.86, 2,    31.18, 2,     0.00, 2,     2.14, 2, -999.000, 9, -999.000, 9, -999.000, 9,   -999.0, 9,   -999.0, 9, -999.0000, 9,   -999.00, -999.000, 9, -999.000,   -999.0, 9,   -999.0,  -999.00, 9,   -999.0,   3.9536, 27.2678,   4.0218, 2, 905.5, 2, 207.65, 2, 0.19, 0.12, 0.01, 0.02, -999, 9,  -999.00, 9, -999, -999, 9, -999
49NZ20031106, A10, 68, 1, 1, 12025, 9, 20031125, 1156, -29.9948, -3.9920, 3951,    999.2, 2,   3.5994, 2,  34.3841, 2, -999.0000, 9,    187.9, 1,   -999.0, 9,  -999.00, 9,  -999.00, 9,  -999.00, 9,  -999.00, 9, -999.000, 9, -999.000, 9, -999.000, 9,   -999.0, 9,   -999.0, 9, -999.0000, 9,   -999.00, -999.000, 9, -999.000,   -999.0, 9,   -999.0,  -999.00, 9,   -999.0,   3.5271, 27.3444,   3.5994, 2, 1001.5, 2, 198.18, 2, -999, -999, -999, -999, -999, 9,  -999.00, 9, -999, -999, 9, -999
49NZ20031106, A10, 68, 1, 6, 12030, 9, 20031125, 1156, -29.9948, -3.9920, 3951,    999.9, 2,   3.5987, 2,  34.3841, 2, -999.0000, 9,    188.0, 1,   -999.0, 9,  -999.00, 9,  -999.00, 9,  -999.00, 9,  -999.00, 9, -999.000, 9, -999.000, 9, -999.000, 9,   -999.0, 9,   -999.0, 9, -999.0000, 9,   -999.00, -999.000, 9, -999.000,   -999.0, 9,   -999.0,  -999.00, 9,   -999.0,   3.5264, 27.3446,   3.5994, 2, 1002.2, 2, 198.11, 2, -999, -999, -999, -999, -999, 9,  -999.00, 9, -999, -999, 9, -999
49NZ20031106, A10, 68, 1, 23, 12047, 2, 20031125, 1156, -29.9948, -3.9920, 3951,   1000.1, 2,   3.6009, 2,  34.3836, 2,  34.3864, 2,    187.8, 1,    196.6, 2,    41.44, 2,    32.43, 2,     0.00, 2,     2.24, 2, -999.000, 9, -999.000, 9, -999.000, 9,   -999.0, 9,   -999.0, 9, -999.0000, 9,   -999.00, -999.000, 9, -999.000,   -999.0, 9,   -999.0,  -999.00, 9,   -999.0,   3.5285, 27.3442,   3.6005, 2, 1002.2, 2, 198.09, 2, 0.21, 0.12, 0.01, 0.02, -999, 9,  -999.00, 9, -999, -999, 9, -999
49NZ20031106, A10, 68, 1, 22, 12046, 2, 20031125, 1156, -29.9948, -3.9920, 3951,   1199.9, 2,   3.1705, 2,  34.4897, 2,  34.4912, 2,    176.8, 1,    184.6, 2,    51.87, 2,    32.95, 2,     0.00, 2,     2.27, 2, -999.000, 9, -999.000, 9, -999.000, 9,   -999.0, 9,   -999.0, 9, -999.0000, 9,   -999.00, -999.000, 9, -999.000,   -999.0, 9,   -999.0,  -999.00, 9,   -999.0,   3.0856, 27.4703,   3.1709, 2, 1199.8, 2, 185.48, 2, 0.23, 0.13, 0.01, 0.02, -999, 9,  -999.00, 9, -999, -999, 9, -999
49NZ20031106, A10, 68, 1, 21, 12045, 2, 20031125, 1156, -29.9948, -3.9920, 3951,   1398.2, 2,   2.9476, 2,  34.6147, 2,  34.6158, 2,    178.2, 1,    186.1, 2,    55.74, 2,    31.46, 2,     0.00, 2,     2.17, 2, -999.000, 9, -999.000, 9, -999.000, 9,   -999.0, 9,   -999.0, 9, -999.0000, 9,   -999.00, -999.000, 9, -999.000,   -999.0, 9,   -999.0,  -999.00, 9,   -999.0,   2.8486, 27.592,   2.9476, 2, 1400, 2, 186.05, 2, 0.24, 0.12, 0.01, 0.02, -999, 9,  -999.00, 9, -999, -999, 9, -999
49NZ20031106, A10, 68, 1, 20, 12044, 2, 20031125, 1156, -29.9948, -3.9920, 3951,   1599.6, 2,   2.8353, 2,  34.7088, 2,  34.7091, 2,    187.7, 1,    196.0, 2,    54.81, 2,    29.45, 2,     0.00, 2,     2.02, 2, -999.000, 9, -999.000, 9, -999.000, 9,   -999.0, 9,   -999.0, 9, -999.0000, 9,   -999.00, -999.000, 9, -999.000,   -999.0, 9,   -999.0,  -999.00, 9,   -999.0,   2.7207, 27.6785,   2.8356, 2, 1603.7, 2, 193.54, 2, 0.24, 0.12, 0.01, 0.02, -999, 9,  -999.00, 9, -999, -999, 9, -999
49NZ20031106, A10, 68, 1, 19, 12043, 2, 20031125, 1156, -29.9948, -3.9920, 3951,   1801.8, 2,   2.7080, 2,  34.7627, 2,  34.7637, 2,    197.4, 1,    206.5, 2,    54.45, 2,    27.70, 2,     0.00, 2,     1.90, 2, -999.000, 9, -999.000, 9, -999.000, 9,   -999.0, 9,   -999.0, 9, -999.0000, 9,   -999.00, -999.000, 9, -999.000,   -999.0, 9,   -999.0,  -999.00, 9,   -999.0,   2.5778, 27.7341,   2.7081, 2, 1802.2, 2, 205.98, 2, 0.24, 0.11, 0.01, 0.01, -999, 9,  -999.00, 9, -999, -999, 9, -999
49NZ20031106, A10, 68, 1, 18, 12042, 2, 20031125, 1156, -29.9948, -3.9920, 3951,   1999.9, 2,   2.6240, 2,  34.7985, 2,  34.7983, 2,    205.3, 1,    214.8, 2,    53.35, 2,    26.58, 2,     0.00, 2,     1.81, 2, -999.000, 9, -999.000, 9, -999.000, 9,   -999.0, 9,   -999.0, 9, -999.0000, 9,   -999.00, -999.000, 9, -999.000,   -999.0, 9,   -999.0,  -999.00, 9,   -999.0,   2.4776, 27.7714,   2.6240, 2, 1999.5, 2, 214.86, 2, 0.24, 0.11, 0.01, 0.01, -999, 9,  -999.00, 9, -999, -999, 9, -999
49NZ20031106, A10, 68, 1, 17, 12041, 2, 20031125, 1156, -29.9948, -3.9920, 3951,   2199.9, 2,   2.5455, 2,  34.8243, 2,  34.8239, 2,    212.2, 1,    222.2, 2,    52.51, 2,    25.50, 2,     0.00, 2,     1.74, 2, -999.000, 9, -999.000, 9, -999.000, 9,   -999.0, 9,   -999.0, 9, -999.0000, 9,   -999.00, -999.000, 9, -999.000,   -999.0, 9,   -999.0,  -999.00, 9,   -999.0,   2.3823, 27.8001,   2.5455, 2, 2200.2, 2, 221.68, 2, 0.23, 0.1, 0.01, 0.01, -999, 9,  -999.00, 9, -999, -999, 9, -999
49NZ20031106, A10, 68, 1, 16, 12040, 2, 20031125, 1156, -29.9948, -3.9920, 3951,   2400.4, 2,   2.4793, 2,  34.8420, 2,  34.8418, 2,    218.0, 1,    228.1, 2,    51.50, 2,    24.73, 2,     0.00, 2,     1.69, 2, -999.000, 9, -999.000, 9, -999.000, 9,   -999.0, 9,   -999.0, 9, -999.0000, 9,   -999.00, -999.000, 9, -999.000,   -999.0, 9,   -999.0,  -999.00, 9,   -999.0,   2.2987, 27.8214,   2.4797, 2, 2401.6, 2, 226.51, 2, 0.23, 0.1, 0.01, 0.01, -999, 9,  -999.00, 9, -999, -999, 9, -999
49NZ20031106, A10, 68, 1, 15, 12039, 2, 20031125, 1156, -29.9948, -3.9920, 3951,   2601.0, 2,   2.4298, 2,  34.8535, 2,  34.8539, 2,    221.9, 1,    232.0, 2,    50.95, 2,    24.28, 2,     0.00, 2,     1.65, 2, -999.000, 9, -999.000, 9, -999.000, 9,   -999.0, 9,   -999.0, 9, -999.0000, 9,   -999.00, -999.000, 9, -999.000,   -999.0, 9,   -999.0,  -999.00, 9,   -999.0,   2.2311, 27.8364,   2.4296, 2, 2601.2, 2, 231.69, 2, 0.23, 0.1, 0.01, 0.01, -999, 9,  -999.00, 9, -999, -999, 9, -999
49NZ20031106, A10, 68, 1, 14, 12038, 2, 20031125, 1156, -29.9948, -3.9920, 3951,   2801.6, 2,   2.3809, 2,  34.8636, 2,  34.8637, 2,    225.2, 1,    235.0, 2,    50.57, 2,    23.80, 2,     0.00, 2,     1.61, 2, -999.000, 9, -999.000, 9, -999.000, 9,   -999.0, 9,   -999.0, 9, -999.0000, 9,   -999.00, -999.000, 9, -999.000,   -999.0, 9,   -999.0,  -999.00, 9,   -999.0,   2.1637, 27.8499,   2.3810, 2, 2801.4, 2, 234.9, 2, 0.23, 0.1, 0.01, 0.01, -999, 9,  -999.00, 9, -999, -999, 9, -999
49NZ20031106, A10, 68, 1, 13, 12037, 2, 20031125, 1156, -29.9948, -3.9920, 3951,   3000.8, 2,   2.3668, 2,  34.8691, 2,  34.8691, 2,    226.5, 1,    236.1, 2,    50.38, 2,    23.61, 2,     0.00, 2,     1.60, 2, -999.000, 9, -999.000, 9, -999.000, 9,   -999.0, 9,   -999.0, 9, -999.0000, 9,   -999.00, -999.000, 9, -999.000,   -999.0, 9,   -999.0,  -999.00, 9,   -999.0,   2.1300, 27.8572,   2.3669, 2, 3000.8, 2, 236.08, 2, 0.23, 0.1, 0.01, 0.01, -999, 9,  -999.00, 9, -999, -999, 9, -999
49NZ20031106, A10, 68, 1, 12, 12036, 2, 20031125, 1156, -29.9948, -3.9920, 3951,   3249.5, 2,   2.3575, 2,  34.8739, 2,  34.8737, 2,    227.1, 1,    236.2, 2,    50.64, 2,    23.47, 2,     0.00, 2,     1.59, 2, -999.000, 9, -999.000, 9, -999.000, 9,   -999.0, 9,   -999.0, 9, -999.0000, 9,   -999.00, -999.000, 9, -999.000,   -999.0, 9,   -999.0,  -999.00, 9,   -999.0,   2.0954, 27.8638,   2.3574, 2, 3249.4, 2, 236.32, 2, 0.23, 0.1, 0.01, 0.01, -999, 9,  -999.00, 9, -999, -999, 9, -999
49NZ20031106, A10, 68, 1, 8, 12032, 9, 20031125, 1156, -29.9948, -3.9920, 3951,   3399.0, 2,   2.3509, 2,  34.8768, 2, -999.0000, 9,    227.1, 1,   -999.0, 9,  -999.00, 9,  -999.00, 9,  -999.00, 9,  -999.00, 9, -999.000, 9, -999.000, 9, -999.000, 9,   -999.0, 9,   -999.0, 9, -999.0000, 9,   -999.00, -999.000, 9, -999.000,   -999.0, 9,   -999.0,  -999.00, 9,   -999.0,   2.0732, 27.868,   2.3509, 2, 3399.4, 2, 235.88, 2, -999, -999, -999, -999, -999, 9,  -999.00, 9, -999, -999, 9, -999
49NZ20031106, A10, 68, 1, 11, 12035, 2, 20031125, 1156, -29.9948, -3.9920, 3951,   3502.1, 2,   2.3532, 2,  34.8779, 2,  34.8776, 2,    227.0, 1,    235.3, 2,    51.09, 2,    23.39, 2,     0.00, 2,     1.59, 2, -999.000, 9, -999.000, 9, -999.000, 9,   -999.0, 9,   -999.0, 9, -999.0000, 9,   -999.00, -999.000, 9, -999.000,   -999.0, 9,   -999.0,  -999.00, 9,   -999.0,   2.0644, 27.8696,   2.3531, 2, 3501.9, 2, 235.43, 2, 0.23, 0.1, 0.01, 0.01, -999, 9,  -999.00, 9, -999, -999, 9, -999
49NZ20031106, A10, 68, 1, 7, 12031, 9, 20031125, 1156, -29.9948, -3.9920, 3951,   3599.4, 2,   2.3556, 2,  34.8786, 2, -999.0000, 9,    227.1, 1,   -999.0, 9,  -999.00, 9,  -999.00, 9,  -999.00, 9,  -999.00, 9, -999.000, 9, -999.000, 9, -999.000, 9,   -999.0, 9,   -999.0, 9, -999.0000, 9,   -999.00, -999.000, 9, -999.000,   -999.0, 9,   -999.0,  -999.00, 9,   -999.0,   2.0562, 27.871,   2.3556, 2, 3599.3, 2, 234.97, 2, -999, -999, -999, -999, -999, 9,  -999.00, 9, -999, -999, 9, -999
49NZ20031106, A10, 68, 1, 10, 12034, 2, 20031125, 1156, -29.9948, -3.9920, 3951,   3751.2, 2,   2.3548, 2,  34.8800, 2,  34.8800, 2,    226.9, 1,    234.3, 2,    51.73, 2,    23.50, 2,     0.00, 2,     1.59, 2, -999.000, 9, -999.000, 9, -999.000, 9,   -999.0, 9,   -999.0, 9, -999.0000, 9,   -999.00, -999.000, 9, -999.000,   -999.0, 9,   -999.0,  -999.00, 9,   -999.0,   2.0387, 27.8733,   2.3550, 2, 3751.2, 2, 234.26, 2, 0.23, 0.1, 0.01, 0.01, -999, 9,  -999.00, 9, -999, -999, 9, -999
49NZ20031106, A10, 68, 1, 9, 12033, 2, 20031125, 1156, -29.9948, -3.9920, 3951,   4017.1, 2,   2.3578, 2,  34.8796, 2,  34.8797, 2,    227.4, 1,    233.0, 2,    52.82, 2,    23.58, 2,     0.00, 2,     1.60, 2, -999.000, 9, -999.000, 9, -999.000, 9,   -999.0, 9,   -999.0, 9, -999.0000, 9,   -999.00, -999.000, 9, -999.000,   -999.0, 9,   -999.0,  -999.00, 9,   -999.0,   2.0117, 27.8752,   2.3579, 2, 4017.1, 2, 232.8, 2, 0.24, 0.1, 0.01, 0.01, -999, 9,  -999.00, 9, -999, -999, 9, -999