BOTTLE,20220817CCHSIOAMB
EXPOCODE,SECT_ID,STNNBR,CASTNO,SAMPNO,BTLNBR,BTLNBR_FLAG_W,DATE,TIME,LATITUDE,LONGITUDE,DEPTH,CTDPRS,CTDTMP,CTDSAL,CTDSAL_FLAG_W,SALNTY,SALNTY_FLAG_W,OXYGEN,OXYGEN_FLAG_W,SILCAT,SILCAT_FLAG_W,NO2+NO3,NO2+NO3_FLAG_W,CFC-11,CFC-11_FLAG_W,CFC-12,CFC-12_FLAG_W,CFC113,CFC113_FLAG_W,CCL4,CCL4_FLAG_W,TRITUM,TRITUM_FLAG_W,HELIUM,HELIUM_FLAG_W,DELHE3,DELHE3_FLAG_W,NEON,TCARBN,TCARBN_FLAG_W,PCO2,PCO2_FLAG_W,CTDRAW,HELIER,DELHER,NEONER,NEON_FLAG_W,THETA,TRITER
,,,,,,,,,,,,DBAR,ITS-90,PSS-78,,PSS-78,,UMOL/KG,,UMOL/KG,,UMOL/KG,,PMOL/KG,,PMOL/KG,,PMOL/KG,,PMOL/KG,,TU,,NMOL/KG,,PERCNT,,NMOL/KG,UMOL/KG,,UATM,,,NMOL/KG,PERCNT,NMOL/KG,,ITS-90,TU
      06MT28_1,   A08,   254,  2,   1316,    324,2,19940429,0140,-11.3333,   4.0010, 5558,     14.1,  25.7008,  36.4860,2,  36.4865,2,    201.0,2,     0.19,2,     0.00,2, -999.000,9, -999.000,9, -999.000,9, -999.000,9, -999.000,9,-999.0000,9,  -999.00,9,-999.000,   2043.0,2,   -999.0,9,     11,-999.0000,-999.000,-999.000,9, 25.6977,-999.000
      06MT28_1,   A08,   254,  2,   1353,    323,2,19940429,0140,-11.3333,   4.0010, 5558,   1095.4,   4.0668,  34.6332,2,  34.6359,2,    142.1,2,    32.97,2,    32.30,2, -999.000,9, -999.000,9, -999.000,9, -999.000,9, -999.000,9,-999.0000,9,  -999.00,9,-999.000,   2225.5,2,   1162.9,2,   1099,-999.0000,-999.000,-999.000,9,  3.9824,-999.000
      06MT28_1,   A08,   254,  2,   1350,    322,2,19940429,0140,-11.3333,   4.0010, 5558,   1296.1,   3.9033,  34.7666,2,-999.0000,9,    163.6,2,    30.56,2,    28.56,2,    0.004,2,    0.000,2,    0.001,4,    0.013,2, -999.000,9,-999.0000,9,  -999.00,9,-999.000,   2213.4,2,   1089.1,2,   1300,-999.0000,-999.000,-999.000,9,  3.8028,-999.000
      06MT28_1,   A08,   254,  2,   1349,    321,2,19940429,0140,-11.3333,   4.0010, 5558,   1496.1,   3.8222,  34.8687,2,  34.8693,2,    186.1,2,    26.63,2,    24.92,2,    0.004,2,    0.002,2,    0.002,4,    0.015,2, -999.000,9,-999.0000,9,  -999.00,9,-999.000,   2197.3,2,   1036.3,2,   1499,-999.0000,-999.000,-999.000,9,  3.7046,-999.000
      06MT28_1,   A08,   254,  2,   1348,    320,2,19940429,0140,-11.3333,   4.0010, 5558,   1694.9,   3.6560,  34.9157,2,-999.0000,9,    202.7,2,    25.56,2,    22.71,2,    0.003,2,    0.001,2,   -0.002,4,    0.015,2, -999.000,9,-999.0000,9,  -999.00,9,-999.000,   2186.9,2,    894.6,2,   1697,-999.0000,-999.000,-999.000,9,  3.5223,-999.000
      06MT28_1,   A08,   254,  2,   1346,    319,2,19940429,0140,-11.3333,   4.0010, 5558,   1894.4,   3.4475,  34.9289,2,-999.0000,9,    209.1,2,    26.96,2,    22.02,2,    0.010,4,    0.004,4,    0.000,4,    0.021,2, -999.000,9,-999.0000,9,  -999.00,9,-999.000,   2184.6,2,    857.2,2,   1896,-999.0000,-999.000,-999.000,9,  3.2982,-999.000
      06MT28_1,   A08,   254,  2,   1394,    318,2,19940429,0140,-11.3333,   4.0010, 5558,   2096.8,   3.2583,  34.9313,2,  34.9315,2,    212.7,2,    29.02,2,    21.53,2,    0.043,4,    0.024,4,    0.011,2,    0.036,4, -999.000,9,-999.0000,9,  -999.00,9,-999.000,   2185.9,2,    842.2,2,   2098,-999.0000,-999.000,-999.000,9,  3.0929,-999.000
      06MT28_1,   A08,   254,  2,   1393,    317,2,19940429,0140,-11.3333,   4.0010, 5558,   2346.9,   3.0425,  34.9244,2,-999.0000,9,    213.8,2,    32.87,2,    21.60,2,   -0.001,2,    0.000,2,    0.013,2,    0.002,2, -999.000,9,-999.0000,9,  -999.00,9,-999.000,   2188.0,2,    863.3,2,   2347,-999.0000,-999.000,-999.000,9,  2.8568,-999.000
      06MT28_1,   A08,   254,  2,   1392,    316,2,19940429,0140,-11.3333,   4.0010, 5558,   2598.9,   2.8731,  34.9181,2,-999.0000,9,    214.9,2,    36.05,2,    21.48,2,    0.000,2,    0.001,2,   -0.002,4,    0.003,2, -999.000,9,-999.0000,9,  -999.00,9,-999.000,   2191.9,2,    837.9,2,   2598,-999.0000,-999.000,-999.000,9,  2.6659,-999.000
      06MT28_1,   A08,   254,  2,   1391,    315,2,19940429,0140,-11.3333,   4.0010, 5558,   2851.7,   2.7379,  34.9121,2,-999.0000,9,    215.8,2,    38.85,2,    21.65,2, -999.000,9, -999.000,9, -999.000,9, -999.000,9, -999.000,9,-999.0000,9,  -999.00,9,-999.000,   2195.0,2,    845.2,2,   2850,-999.0000,-999.000,-999.000,9,  2.5081,-999.000
      06MT28_1,   A08,   254,  2,   1390,    314,2,19940429,0140,-11.3333,   4.0010, 5558,   3102.8,   2.5948,  34.9013,2,  34.9018,2,    216.5,2,    42.21,2,    21.91,2,    0.000,2,    0.000,2,    0.006,2,    0.003,2, -999.000,9,-999.0000,9,  -999.00,9,-999.000,   2197.1,2,    830.9,2,   3100,-999.0000,-999.000,-999.000,9,  2.3423,-999.000
      06MT28_1,   A08,   254,  2,   1389,    313,2,19940429,0140,-11.3333,   4.0010, 5558,   3353.4,   2.4701,  34.8960,2,-999.0000,9,    214.7,2,    46.69,2,    22.26,2,    0.004,4,    0.001,2,    0.007,2,    0.005,2, -999.000,9,-999.0000,9,  -999.00,9,-999.000,   2207.2,2,    840.9,2,   3350,-999.0000,-999.000,-999.000,9,  2.1942,-999.000
      06MT28_1,   A08,   254,  2,   1388,    312,2,19940429,0140,-11.3333,   4.0010, 5558,   3604.8,   2.3807,  34.8911,2,-999.0000,9,    209.8,2,    49.66,2,    22.43,2,    0.000,2,    0.001,2,    0.004,2,    0.004,2, -999.000,9,-999.0000,9,  -999.00,9,-999.000,   2214.9,2,    871.4,3,   3601,-999.0000,-999.000,-999.000,9,  2.0800,-999.000
      06MT28_1,   A08,   254,  2,   1387,    311,2,19940429,0140,-11.3333,   4.0010, 5558,   3803.5,   2.3498,  34.8896,2,-999.0000,9,    212.6,2,    49.52,2,    22.22,2,    0.000,2,    0.001,2,    0.026,4,    0.003,2, -999.000,9,-999.0000,9,  -999.00,9,-999.000,   2212.5,2,    834.7,6,   3799,-999.0000,-999.000,-999.000,9,  2.0280,-999.000
      06MT28_1,   A08,   254,  2,   1386,    310,2,19940429,0140,-11.3333,   4.0010, 5558,   4104.6,   2.3493,  34.8883,2,  34.8880,2,    214.9,2,    48.80,2,    22.00,2,    0.002,2,    0.001,2,    0.019,4,    0.005,2, -999.000,9,-999.0000,9,  -999.00,9,-999.000,   2210.0,2,    823.6,2,   4099,-999.0000,-999.000,-999.000,9,  1.9934,-999.000
      06MT28_1,   A08,   254,  2,   1385,    309,2,19940429,0140,-11.3333,   4.0010, 5558,   4352.7,   2.3586,  34.8867,2,-999.0000,9,    215.2,2,    49.13,2,    22.07,2,    0.001,2,    0.004,2,    0.019,4,    0.007,2, -999.000,9,-999.0000,9,  -999.00,9,-999.000,   2210.8,2,    822.5,2,   4347,-999.0000,-999.000,-999.000,9,  1.9734,-999.000
      06MT28_1,   A08,   254,  2,   1384,    308,2,19940429,0140,-11.3333,   4.0010, 5558,   4607.0,   2.3703,  34.8840,2,-999.0000,9,    214.5,2,    49.08,2,    21.96,2,    0.004,2,    0.002,2,   -0.006,4,    0.011,2, -999.000,9,-999.0000,9,  -999.00,9,-999.000,   2207.3,2,    854.7,2,   4601,-999.0000,-999.000,-999.000,9,  1.9542,-999.000
      06MT28_1,   A08,   254,  2,   1382,    307,2,19940429,0140,-11.3333,   4.0010, 5558,   4865.3,   2.3857,  34.8821,2,-999.0000,9,    216.8,2,    49.50,2,    21.84,2,    0.005,2,    0.001,2,    0.043,4,    0.013,2, -999.000,9,-999.0000,9,  -999.00,9,-999.000,   2208.2,2,    834.5,2,   4859,-999.0000,-999.000,-999.000,9,  1.9372,-999.000
      06MT28_1,   A08,   254,  2,   1429,    306,2,19940429,0140,-11.3333,   4.0010, 5558,   5104.8,   2.4029,  34.8792,2,  34.8806,2,    217.2,2,    49.35,2,    21.82,2,    0.005,2,    0.001,2,    0.038,4,    0.016,2, -999.000,9,-999.0000,9,  -999.00,9,-999.000,   2207.1,2,    818.1,2,   5098,-999.0000,-999.000,-999.000,9,  1.9235,-999.000
      06MT28_1,   A08,   254,  2,   1428,    305,2,19940429,0140,-11.3333,   4.0010, 5558,   5355.9,   2.4248,  34.8784,2,-999.0000,9,    216.9,2,    49.59,2,    21.80,2,    0.006,2,    0.001,2,    0.033,4,    0.025,2, -999.000,9,-999.0000,9,  -999.00,9,-999.000,   2206.5,2,    822.9,2,   5349,-999.0000,-999.000,-999.000,9,  1.9121,-999.000
      06MT28_1,   A08,   254,  2,   1427,    304,2,19940429,0140,-11.3333,   4.0010, 5558,   5556.1,   2.4517,  34.8785,2,-999.0000,9,    217.4,2,    49.17,2,    21.78,2,    0.008,2,    0.002,2,    0.039,4,    0.048,2, -999.000,9,-999.0000,9,  -999.00,9,-999.000,   2207.4,2,    823.6,2,   5549,-999.0000,-999.000,-999.000,9,  1.9116,-999.000
      06MT28_1,   A08,   254,  2,   1426,    303,2,19940429,0140,-11.3333,   4.0010, 5558,   5625.9,   2.4599,  34.8781,2,-999.0000,9,    217.4,2,    48.97,2,    21.78,2,    0.008,2,    0.002,2,    0.049,4,    0.031,2, -999.000,9,-999.0000,9,  -999.00,9,-999.000,   2206.9,2,    827.2,2,   5619,-999.0000,-999.000,-999.000,9,  1.9102,-999.000
      06MT28_1,   A08,   254,  2,   1425,    301,2,19940429,0140,-11.3333,   4.0010, 5558,   5658.7,   2.4639,  34.8777,2,  34.8759,2,    217.3,2,    49.15,2,    21.77,2,    0.006,2,    0.003,2,    0.020,4,    0.030,2, -999.000,9,-999.0000,9,  -999.00,9,-999.000,   -999.0,9,    824.7,2,   5652,-999.0000,-999.000,-999.000,9,  1.9096,-999.000
      06MT28_1,   A08,   254,  2,   1424,    302,2,19940429,0140,-11.3333,   4.0010, 5558,   5658.9,   2.4639,  34.8776,2,  34.8773,2,    217.0,2,    49.11,2,    21.63,2, -999.000,9, -999.000,9, -999.000,9, -999.000,9, -999.000,9,-999.0000,9,  -999.00,9,-999.000,   2207.2,2,    830.7,2,   5652,-999.0000,-999.000,-999.000,9,  1.9096,-999.000
      06MT28_1,   A08,   255,  1,   1423,    221,2,19940429,0820,-11.3338,   4.6670, 5593,     12.3,  25.4467,  36.6595,2,  36.6553,2,    198.9,2,     0.00,2,     0.00,2, -999.000,9, -999.000,9, -999.000,9, -999.000,9, -999.000,9,-999.0000,9,  -999.00,9,-999.000,   -999.0,9,   -999.0,9,     11,-999.0000,-999.000,-999.000,9, 25.4440,-999.000
      06MT28_1,   A08,   255,  1,   1421,    220,2,19940429,0820,-11.3338,   4.6670, 5593,     30.9,  25.4405,  36.6591,2,-999.0000,9,    199.3,2,     0.00,2,     0.00,2, -999.000,9, -999.000,9, -999.000,9, -999.000,9, -999.000,9,-999.0000,9,  -999.00,9,-999.000,   -999.0,9,   -999.0,9,     30,-999.0000,-999.000,-999.000,9, 25.4337,-999.000
      06MT28_1,   A08,   255,  1,   1420,    219,2,19940429,0820,-11.3338,   4.6670, 5593,     51.1,  19.9403,  36.0732,2,-999.0000,9,    208.0,2,     2.11,2,     2.11,2, -999.000,9, -999.000,9, -999.000,9, -999.000,9, -999.000,9,-999.0000,9,  -999.00,9,-999.000,   -999.0,9,   -999.0,9,     50,-999.0000,-999.000,-999.000,9, 19.9308,-999.000
      06MT28_1,   A08,   255,  1,   1418,    218,2,19940429,0820,-11.3338,   4.6670, 5593,     69.6,  16.5231,  35.6960,2,-999.0000,9,     94.0,2,     4.79,2,    18.21,2, -999.000,9, -999.000,9, -999.000,9, -999.000,9, -999.000,9,-999.0000,9,  -999.00,9,-999.000,   -999.0,9,   -999.0,9,     69,-999.0000,-999.000,-999.000,9, 16.5118,-999.000
      06MT28_1,   A08,   255,  1,   1460,    217,2,19940429,0820,-11.3338,   4.6670, 5593,    101.7,  14.2474,  35.4338,2,-999.0000,9,     46.0,2,     7.76,2,    26.06,2, -999.000,9, -999.000,9, -999.000,9, -999.000,9, -999.000,9,-999.0000,9,  -999.00,9,-999.000,   -999.0,9,   -999.0,9,    101,-999.0000,-999.000,-999.000,9, 14.2325,-999.000
      06MT28_1,   A08,   255,  1,   1459,    216,2,19940429,0820,-11.3338,   4.6670, 5593,    149.8,  13.2151,  35.3120,2,-999.0000,9,     53.3,2,     8.72,2,    26.82,2, -999.000,9, -999.000,9, -999.000,9, -999.000,9, -999.000,9,-999.0000,9,  -999.00,9,-999.000,   -999.0,9,   -999.0,9,    149,-999.0000,-999.000,-999.000,9, 13.1942,-999.000
      06MT28_1,   A08,   255,  1,   1458,    215,2,19940429,0820,-11.3338,   4.6670, 5593,    200.4,  12.1456,  35.1864,2,-999.0000,9,     58.5,2,     9.86,2,    27.77,2, -999.000,9, -999.000,9, -999.000,9, -999.000,9, -999.000,9,-999.0000,9,  -999.00,9,-999.000,   -999.0,9,   -999.0,9,    199,-999.0000,-999.000,-999.000,9, 12.1192,-999.000
      06MT28_1,   A08,   255,  1,   1457,    214,2,19940429,0820,-11.3338,   4.6670, 5593,    300.7,  10.4995,  34.9908,2,  34.9856,2,     51.0,2,    12.73,2,    31.48,2, -999.000,9, -999.000,9, -999.000,9, -999.000,9, -999.000,9,-999.0000,9,  -999.00,9,-999.000,   -999.0,9,   -999.0,9,    300,-999.0000,-999.000,-999.000,9, 10.4633,-999.000
      06MT28_1,   A08,   255,  1,   1456,    213,2,19940429,0820,-11.3338,   4.6670, 5593,    399.1,   9.2601,  34.8547,2,-999.0000,9,     27.9,2,    16.07,2,    36.44,2, -999.000,9, -999.000,9, -999.000,9, -999.000,9, -999.000,9,-999.0000,9,  -999.00,9,-999.000,   -999.0,9,   -999.0,9,    398,-999.0000,-999.000,-999.000,9,  9.2155,-999.000
      06MT28_1,   A08,   255,  1,   1455,    212,2,19940429,0820,-11.3338,   4.6670, 5593,    501.2,   7.5914,  34.6948,2,-999.0000,9,     32.7,2,    20.17,2,    39.47,2, -999.000,9, -999.000,9, -999.000,9, -999.000,9, -999.000,9,-999.0000,9,  -999.00,9,-999.000,   -999.0,9,   -999.0,9,    500,-999.0000,-999.000,-999.000,9,  7.5414,-999.000
      06MT28_1,   A08,   255,  1,   1453,    211,2,19940429,0820,-11.3338,   4.6670, 5593,    602.4,   6.2616,  34.5811,2,  34.5813,2,     55.9,2,    23.98,2,    39.93,2, -999.000,9, -999.000,9, -999.000,9, -999.000,9, -999.000,9,-999.0000,9,  -999.00,9,-999.000,   -999.0,9,   -999.0,9,    602,-999.0000,-999.000,-999.000,9,  6.2072,-999.000
      06MT28_1,   A08,   255,  1,   1498,    210,2,19940429,0820,-11.3338,   4.6670, 5593,    695.7,   5.4143,  34.5288,2,-999.0000,9,     78.7,2,    27.50,2,    38.86,2, -999.000,9, -999.000,9, -999.000,9, -999.000,9, -999.000,9,-999.0000,9,  -999.00,9,-999.000,   -999.0,9,   -999.0,9,    696,-999.0000,-999.000,-999.000,9,  5.3557,-999.000
      06MT28_1,   A08,   255,  1,   1496,    209,2,19940429,0820,-11.3338,   4.6670, 5593,    850.9,   4.5710,  34.5135,2,-999.0000,9,    112.8,2,    31.77,2,    36.25,2, -999.000,9, -999.000,9, -999.000,9, -999.000,9, -999.000,9,-999.0000,9,  -999.00,9,-999.000,   -999.0,9,   -999.0,9,    851,-999.0000,-999.000,-999.000,9,  4.5038,-999.000
      06MT28_1,   A08,   255,  1,   1493,    208,2,19940429,0820,-11.3338,   4.6670, 5593,   1002.0,   4.1411,  34.5791,2,  35.4397,4,     45.8,2,     7.77,2,    26.03,2, -999.000,9, -999.000,9, -999.000,9, -999.000,9, -999.000,9,-999.0000,9,  -999.00,9,-999.000,   -999.0,9,   -999.0,9,   1003,-999.0000,-999.000,-999.000,9,  4.0641,-999.000
      06MT28_1,   A08,   255,  1,   1492,    207,2,19940429,0820,-11.3338,   4.6670, 5593,   1002.1,   4.1416,  34.5797,2,-999.0000,9,   -999.0,9,  -999.00,9,  -999.00,9, -999.000,9, -999.000,9, -999.000,9, -999.000,9, -999.000,9,-999.0000,9,  -999.00,9,-999.000,   -999.0,9,   -999.0,9,   1003,-999.0000,-999.000,-999.000,9,  4.0646,-999.000