BOTTLE,20220817CCHSIOAMB
EXPOCODE,SECT_ID,STNNBR,CASTNO,SAMPNO,BTLNBR,BTLNBR_FLAG_W,DATE,TIME,LATITUDE,LONGITUDE,DEPTH,CTDPRS,CTDTMP,CTDSAL,CTDSAL_FLAG_W,SALNTY,SALNTY_FLAG_W,OXYGEN,OXYGEN_FLAG_W,SILCAT,SILCAT_FLAG_W,NO2+NO3,NO2+NO3_FLAG_W,CFC-11,CFC-11_FLAG_W,CFC-12,CFC-12_FLAG_W,CFC113,CFC113_FLAG_W,CCL4,CCL4_FLAG_W,TRITUM,TRITUM_FLAG_W,HELIUM,HELIUM_FLAG_W,DELHE3,DELHE3_FLAG_W,NEON,TCARBN,TCARBN_FLAG_W,PCO2,PCO2_FLAG_W,CTDRAW,HELIER,DELHER,NEONER,NEON_FLAG_W,THETA,TRITER
,,,,,,,,,,,,DBAR,ITS-90,PSS-78,,PSS-78,,UMOL/KG,,UMOL/KG,,UMOL/KG,,PMOL/KG,,PMOL/KG,,PMOL/KG,,PMOL/KG,,TU,,NMOL/KG,,PERCNT,,NMOL/KG,UMOL/KG,,UATM,,,NMOL/KG,PERCNT,NMOL/KG,,ITS-90,TU
      06MT28_1,   A08,   240,  2,   3790,    324,2,19940424,1008,-11.3325,  -3.0002, 4647,     15.9,  26.4706,  36.4601,2,  36.4607,2,    193.5,2,     1.06,2,     0.00,2, -999.000,9, -999.000,9, -999.000,9, -999.000,9, -999.000,9,-999.0000,9,  -999.00,9,-999.000,   2037.8,2,   -999.0,9,     13,-999.0000,-999.000,-999.000,9, 26.4670,-999.000
      06MT28_1,   A08,   240,  2,   3817,    323,2,19940424,1008,-11.3325,  -3.0002, 4647,    597.6,   5.9863,  34.5520,2,  34.5538,2,     83.7,2,    24.17,2,    37.54,2,    0.020,2,    0.015,2,    0.005,2,    0.100,2, -999.000,9,   1.7880,2,     1.42,2,   7.709,   2238.7,2,   1544.9,2,    601,  0.0070,   0.250,   0.025,2,  5.9337,-999.000
      06MT28_1,   A08,   240,  2,   3816,    322,2,19940424,1008,-11.3325,  -3.0002, 4647,    696.0,   5.1795,  34.5106,2,-999.0000,9,    102.0,2,    27.97,2,    37.14,2,    0.010,2,    0.012,2,    0.004,2,    0.065,2, -999.000,9,   1.8060,2,     1.69,2,   7.791,   2236.6,2,   1476.4,2,    699,  0.0070,   0.250,   0.026,2,  5.1221,-999.000
      06MT28_1,   A08,   240,  2,   3815,    321,2,19940424,1008,-11.3325,  -3.0002, 4647,    844.8,   4.4745,  34.5124,2,-999.0000,9,    126.6,2,    31.87,2,    35.20,2,    0.004,2,    0.003,2,    0.009,2,    0.037,2, -999.000,9,   1.8070,2,     2.33,2,   7.836,   2228.4,2,   1421.6,2,    849,  0.0070,   0.250,   0.026,2,  4.4085,-999.000
      06MT28_1,   A08,   240,  2,   3814,    320,2,19940424,1008,-11.3325,  -3.0002, 4647,    995.0,   4.1177,  34.5850,2,  34.5879,2,    143.3,2,    33.18,2,    32.99,2,    0.002,2,    0.004,2,    0.007,2,    0.017,2, -999.000,9,-999.0000,9,  -999.00,9,-999.000,   2223.9,2,   1244.0,2,    999,-999.0000,-999.000,-999.000,9,  4.0415,-999.000
      06MT28_1,   A08,   240,  2,   3813,    319,2,19940424,1008,-11.3325,  -3.0002, 4647,   1196.0,   3.9365,  34.7202,2,-999.0000,9,    163.2,2,    30.95,2,    29.33,2,    0.005,2,    0.005,2,    0.006,2,    0.011,2, -999.000,9,   1.8130,2,     2.73,2,   7.890,   2211.8,2,   1069.9,2,   1200,  0.0070,   0.250,   0.026,2,  3.8444,-999.000
      06MT28_1,   A08,   240,  2,   3812,    318,2,19940424,1008,-11.3325,  -3.0002, 4647,   1396.8,   3.8196,  34.8327,2,-999.0000,9,    185.3,2,    27.59,2,    25.88,2,    0.002,2,    0.004,2,    0.002,2,    0.010,2, -999.000,9,-999.0000,9,  -999.00,9,-999.000,   2197.5,2,    972.1,2,   1400,-999.0000,-999.000,-999.000,9,  3.7110,-999.000
      06MT28_1,   A08,   240,  2,   3811,    317,2,19940424,1008,-11.3325,  -3.0002, 4647,   1596.1,   3.7053,  34.8975,2,-999.0000,9,    201.4,2,    25.28,2,    23.29,2,    0.006,2,    0.007,3,   -0.004,2,    0.018,2, -999.000,9,-999.0000,9,  -999.00,9,-999.000,   2188.4,2,    910.5,2,   1599,-999.0000,-999.000,-999.000,9,  3.5800,-999.000
      06MT28_1,   A08,   240,  2,   3810,    316,2,19940424,1008,-11.3325,  -3.0002, 4647,   1798.1,   3.5142,  34.9190,2,-999.0000,9,    210.1,2,    26.12,2,    22.32,2, -999.000,9, -999.000,9, -999.000,9, -999.000,9, -999.000,9,-999.0000,9,  -999.00,9,-999.000,   2184.6,2,    849.6,2,   1800,-999.0000,-999.000,-999.000,9,  3.3729,-999.000
      06MT28_1,   A08,   240,  2,   3809,    315,2,19940424,1008,-11.3325,  -3.0002, 4647,   1998.2,   3.2784,  34.9211,2,  34.9241,2,    216.0,2,    28.75,2,    21.73,2,    0.005,2,    0.001,2,    0.008,2,    0.014,2, -999.000,9,-999.0000,9,  -999.00,9,-999.000,   -999.0,9,   -999.0,9,   2000,-999.0000,-999.000,-999.000,9,  3.1219,-999.000
      06MT28_1,   A08,   240,  2,   3808,    314,2,19940424,1008,-11.3325,  -3.0002, 4647,   2248.6,   3.0325,  34.9176,2,-999.0000,9,    215.0,2,    32.22,2,    21.42,2,    0.002,2,    0.002,2,    0.002,2,    0.012,2, -999.000,9,-999.0000,9,  -999.00,9,-999.000,   2183.3,2,    820.2,2,   2249,-999.0000,-999.000,-999.000,9,  2.8564,-999.000
      06MT28_1,   A08,   240,  2,   3807,    313,2,19940424,1008,-11.3325,  -3.0002, 4647,   2500.3,   2.8473,  34.9130,2,-999.0000,9,    227.4,2,    35.79,2,    21.59,2,    0.004,2,    0.001,2,    0.003,2,    0.008,2, -999.000,9,-999.0000,9,  -999.00,9,-999.000,   2187.5,2,    816.4,2,   2500,-999.0000,-999.000,-999.000,9,  2.6502,-999.000
      06MT28_1,   A08,   240,  2,   3806,    312,2,19940424,1008,-11.3325,  -3.0002, 4647,   2749.8,   2.6908,  34.9048,2,-999.0000,9,    221.2,2,    39.06,2,    21.66,2,    0.001,2,    0.002,2,    0.007,2,    0.006,2, -999.000,9,-999.0000,9,  -999.00,9,-999.000,   2191.2,2,    826.1,2,   2749,-999.0000,-999.000,-999.000,9,  2.4722,-999.000
      06MT28_1,   A08,   240,  2,   3805,    311,2,19940424,1008,-11.3325,  -3.0002, 4647,   3000.7,   2.5709,  34.8998,2,  34.9007,2,    220.5,2,    41.94,2,    21.82,2,    0.003,2,    0.001,2,    0.005,2,    0.005,2, -999.000,9,-999.0000,9,  -999.00,9,-999.000,   2195.8,2,    841.3,2,   2999,-999.0000,-999.000,-999.000,9,  2.3295,-999.000
      06MT28_1,   A08,   240,  2,   3804,    310,2,19940424,1008,-11.3325,  -3.0002, 4647,   3252.0,   2.4963,  34.8970,2,-999.0000,9,    219.6,2,    43.69,2,    21.89,2,    0.006,2,    0.002,2,    0.005,2,    0.007,2, -999.000,9,-999.0000,9,  -999.00,9,-999.000,   2197.4,2,    829.3,2,   3249,-999.0000,-999.000,-999.000,9,  2.2305,-999.000
      06MT28_1,   A08,   240,  2,   3834,    309,2,19940424,1008,-11.3325,  -3.0002, 4647,   3503.6,   2.4269,  34.8929,2,-999.0000,9,    219.6,2,    45.53,2,    21.87,2, -999.000,9, -999.000,9, -999.000,9, -999.000,9, -999.000,9,-999.0000,9,  -999.00,9,-999.000,   2201.1,2,    815.0,2,   3500,-999.0000,-999.000,-999.000,9,  2.1360,-999.000
      06MT28_1,   A08,   240,  2,   3835,    308,2,19940424,1008,-11.3325,  -3.0002, 4647,   3754.3,   2.3802,  34.8901,2,-999.0000,9,    218.0,2,    47.27,2,    21.94,2,    0.006,2,    0.001,2,    0.002,2,    0.012,2, -999.000,9,-999.0000,9,  -999.00,9,-999.000,   2206.2,2,    821.7,2,   3750,-999.0000,-999.000,-999.000,9,  2.0631,-999.000
      06MT28_1,   A08,   240,  2,   3833,    307,2,19940424,1008,-11.3325,  -3.0002, 4647,   4003.6,   2.3553,  34.8864,2,-999.0000,9,    220.0,2,    47.32,2,    21.92,2, -999.000,9, -999.000,9, -999.000,9, -999.000,9, -999.000,9,-999.0000,9,  -999.00,9,-999.000,   2203.5,2,    841.4,2,   3999,-999.0000,-999.000,-999.000,9,  2.0108,-999.000
      06MT28_1,   A08,   240,  2,   3832,    306,2,19940424,1008,-11.3325,  -3.0002, 4647,   4255.3,   2.3562,  34.8840,2,  34.8844,2,    219.9,2,    47.83,2,    21.90,2,    0.010,2,    0.005,2,    0.002,2,    0.022,2, -999.000,9,   0.0000,4,  -999.00,5,   0.000,   2202.9,2,   -999.0,9,   4250,  0.0000,   0.250,   0.000,4,  1.9826,-999.000
      06MT28_1,   A08,   240,  2,   3831,    305,2,19940424,1008,-11.3325,  -3.0002, 4647,   4505.4,   2.3622,  34.8821,2,-999.0000,9,    220.0,2,    48.25,2,    21.87,2, -999.000,9, -999.000,9, -999.000,9, -999.000,9, -999.000,9,-999.0000,9,  -999.00,9,-999.000,   2204.4,2,    817.2,6,   4500,-999.0000,-999.000,-999.000,9,  1.9586,-999.000
      06MT28_1,   A08,   240,  2,   3830,    304,2,19940424,1008,-11.3325,  -3.0002, 4647,   4605.4,   2.3625,  34.8818,2,-999.0000,9,    220.1,2,    48.19,2,    21.86,2,    0.009,2,    0.003,2,    0.009,2,    0.027,2, -999.000,9,   1.8500,2,     3.53,2,   8.010,   2203.6,2,    826.2,2,   4600,  0.0070,   0.250,   0.026,2,  1.9468,-999.000
      06MT28_1,   A08,   240,  2,   3829,    303,2,19940424,1008,-11.3325,  -3.0002, 4647,   4674.8,   2.3638,  34.8806,2,-999.0000,9,    219.9,2,    48.41,2,    21.86,2, -999.000,9, -999.000,9, -999.000,9, -999.000,9, -999.000,9,-999.0000,9,  -999.00,9,-999.000,   2204.6,2,    817.6,2,   4669,-999.0000,-999.000,-999.000,9,  1.9396,-999.000
      06MT28_1,   A08,   240,  2,   3828,    301,2,19940424,1008,-11.3325,  -3.0002, 4647,   4702.9,   2.3645,  34.8808,2,  34.8805,2,    219.6,2,    48.40,2,    21.86,2,    0.010,2,    0.002,2,    0.008,2,    0.028,2, -999.000,9,   1.8300,2,     3.12,2,   8.019,   2205.9,2,    831.2,2,   4697,  0.0070,   0.250,   0.026,2,  1.9368,-999.000
      06MT28_1,   A08,   240,  2,   3827,    302,2,19940424,1008,-11.3325,  -3.0002, 4647,   4703.4,   2.3645,  34.8807,2,  34.8828,2,    219.8,2,    48.68,2,    21.86,2,    0.011,2,    0.004,2,    0.001,2,    0.028,2, -999.000,9,   1.8420,2,     2.80,2,   8.023,   2205.6,2,    823.0,2,   4698,  0.0070,   0.250,   0.026,2,  1.9368,-999.000
      06MT28_1,   A08,   241,  1,   3826,    221,2,19940424,1540,-11.3328,  -2.4985, 5203,     10.8,  26.5534,  36.5214,2,  36.5182,2,   -999.0,9,     0.86,2,     0.00,2, -999.000,9, -999.000,9, -999.000,9, -999.000,9, -999.000,9,-999.0000,9,  -999.00,9,-999.000,   -999.0,9,   -999.0,9,     10,-999.0000,-999.000,-999.000,9, 26.5510,-999.000
      06MT28_1,   A08,   241,  1,   3824,    220,2,19940424,1540,-11.3328,  -2.4985, 5203,     39.3,  26.4494,  36.5214,2,-999.0000,9,   -999.0,9,     0.86,2,     0.00,2, -999.000,9, -999.000,9, -999.000,9, -999.000,9, -999.000,9,-999.0000,9,  -999.00,9,-999.000,   -999.0,9,   -999.0,9,     39,-999.0000,-999.000,-999.000,9, 26.4405,-999.000
      06MT28_1,   A08,   241,  1,   3823,    219,2,19940424,1540,-11.3328,  -2.4985, 5203,     59.3,  22.5694,  36.4651,2,-999.0000,9,   -999.0,9,     0.86,2,     0.00,2, -999.000,9, -999.000,9, -999.000,9, -999.000,9, -999.000,9,-999.0000,9,  -999.00,9,-999.000,   -999.0,9,   -999.0,9,     59,-999.0000,-999.000,-999.000,9, 22.5573,-999.000
      06MT28_1,   A08,   241,  1,   3841,    218,2,19940424,1540,-11.3328,  -2.4985, 5203,     79.4,  18.9341,  36.1053,2,-999.0000,9,   -999.0,9,     2.01,2,     6.23,2, -999.000,9, -999.000,9, -999.000,9, -999.000,9, -999.000,9,-999.0000,9,  -999.00,9,-999.000,   -999.0,9,   -999.0,9,     79,-999.0000,-999.000,-999.000,9, 18.9199,-999.000
      06MT28_1,   A08,   241,  1,   3842,    217,2,19940424,1540,-11.3328,  -2.4985, 5203,    119.2,  14.9779,  35.5515,2,-999.0000,9,    102.6,2,     5.27,2,    19.16,2, -999.000,9, -999.000,9, -999.000,9, -999.000,9, -999.000,9,-999.0000,9,  -999.00,9,-999.000,   -999.0,9,   -999.0,9,    119,-999.0000,-999.000,-999.000,9, 14.9599,-999.000
      06MT28_1,   A08,   241,  1,   3840,    216,2,19940424,1540,-11.3328,  -2.4985, 5203,    179.6,  12.0481,  35.1763,2,-999.0000,9,     57.6,2,     9.67,2,    27.96,2, -999.000,9, -999.000,9, -999.000,9, -999.000,9, -999.000,9,-999.0000,9,  -999.00,9,-999.000,   -999.0,9,   -999.0,9,    180,-999.0000,-999.000,-999.000,9, 12.0245,-999.000
      06MT28_1,   A08,   241,  1,   3839,    215,2,19940424,1540,-11.3328,  -2.4985, 5203,    250.4,  10.8313,  35.0294,2,  35.0303,2,     51.4,2,    11.96,2,    30.63,2, -999.000,9, -999.000,9, -999.000,9, -999.000,9, -999.000,9,-999.0000,9,  -999.00,9,-999.000,   -999.0,9,   -999.0,9,    251,-999.0000,-999.000,-999.000,9, 10.8006,-999.000
      06MT28_1,   A08,   241,  1,   3838,    214,2,19940424,1540,-11.3328,  -2.4985, 5203,    350.3,   9.2704,  34.8525,2,-999.0000,9,     53.1,2,    14.92,2,    33.58,2, -999.000,9, -999.000,9, -999.000,9, -999.000,9, -999.000,9,-999.0000,9,  -999.00,9,-999.000,   -999.0,9,   -999.0,9,    351,-999.0000,-999.000,-999.000,9,  9.2313,-999.000
      06MT28_1,   A08,   241,  1,   3837,    213,2,19940424,1540,-11.3328,  -2.4985, 5203,    451.1,   7.9221,  34.7088,2,-999.0000,9,     76.7,2,    17.40,2,    33.94,2, -999.000,9, -999.000,9, -999.000,9, -999.000,9, -999.000,9,-999.0000,9,  -999.00,9,-999.000,   -999.0,9,   -999.0,9,    450,-999.0000,-999.000,-999.000,9,  7.8761,-999.000
      06MT28_1,   A08,   241,  1,   3836,    212,2,19940424,1540,-11.3328,  -2.4985, 5203,    551.6,   6.5626,  34.5874,2,  34.5888,2,     88.2,2,    21.40,2,    35.64,2, -999.000,9, -999.000,9, -999.000,9, -999.000,9, -999.000,9,-999.0000,9,  -999.00,9,-999.000,   -999.0,9,   -999.0,9,    551,-999.0000,-999.000,-999.000,9,  6.5118,-999.000
      06MT28_1,   A08,   241,  1,      3,    211,2,19940424,1540,-11.3328,  -2.4985, 5203,    629.9,   5.9613,  34.5520,2,-999.0000,9,   -999.0,9,    24.36,2,    37.92,2, -999.000,9, -999.000,9, -999.000,9, -999.000,9, -999.000,9,-999.0000,9,  -999.00,9,-999.000,   -999.0,9,   -999.0,9,    629,-999.0000,-999.000,-999.000,9,  5.9058,-999.000
      06MT28_1,   A08,   241,  1,      4,    210,2,19940424,1540,-11.3328,  -2.4985, 5203,    750.1,   4.9783,  34.5053,2,-999.0000,9,    104.2,2,    29.21,2,    37.04,2, -999.000,9, -999.000,9, -999.000,9, -999.000,9, -999.000,9,-999.0000,9,  -999.00,9,-999.000,   -999.0,9,   -999.0,9,    750,-999.0000,-999.000,-999.000,9,  4.9173,-999.000
      06MT28_1,   A08,   241,  1,      5,    209,2,19940424,1540,-11.3328,  -2.4985, 5203,    824.6,   4.6096,  34.5053,2,-999.0000,9,   -999.0,9,    31.15,2,    35.50,2, -999.000,9, -999.000,9, -999.000,9, -999.000,9, -999.000,9,-999.0000,9,  -999.00,9,-999.000,   -999.0,9,   -999.0,9,    824,-999.0000,-999.000,-999.000,9,  4.5444,-999.000
      06MT28_1,   A08,   241,  1,      7,    208,2,19940424,1540,-11.3328,  -2.4985, 5203,    925.3,   4.2862,  34.5362,2,-999.0000,9,    133.8,2,    32.81,2,    34.19,2, -999.000,9, -999.000,9, -999.000,9, -999.000,9, -999.000,9,-999.0000,9,  -999.00,9,-999.000,   -999.0,9,   -999.0,9,    925,-999.0000,-999.000,-999.000,9,  4.2146,-999.000
      06MT28_1,   A08,   241,  1,      8,    207,2,19940424,1540,-11.3328,  -2.4985, 5203,    999.9,   4.1251,  34.5757,2,-999.0000,9,   -999.0,9,  -999.00,9,  -999.00,9, -999.000,9, -999.000,9, -999.000,9, -999.000,9, -999.000,9,-999.0000,9,  -999.00,9,-999.000,   -999.0,9,   -999.0,9,   1000,-999.0000,-999.000,-999.000,9,  4.0484,-999.000