BOTTLE,20220817CCHSIOAMB
EXPOCODE,SECT_ID,STNNBR,CASTNO,SAMPNO,BTLNBR,BTLNBR_FLAG_W,DATE,TIME,LATITUDE,LONGITUDE,DEPTH,CTDPRS,CTDTMP,CTDSAL,CTDSAL_FLAG_W,SALNTY,SALNTY_FLAG_W,OXYGEN,OXYGEN_FLAG_W,SILCAT,SILCAT_FLAG_W,NO2+NO3,NO2+NO3_FLAG_W,CFC-11,CFC-11_FLAG_W,CFC-12,CFC-12_FLAG_W,CFC113,CFC113_FLAG_W,CCL4,CCL4_FLAG_W,TRITUM,TRITUM_FLAG_W,HELIUM,HELIUM_FLAG_W,DELHE3,DELHE3_FLAG_W,NEON,TCARBN,TCARBN_FLAG_W,PCO2,PCO2_FLAG_W,CTDRAW,HELIER,DELHER,NEONER,NEON_FLAG_W,THETA,TRITER
,,,,,,,,,,,,DBAR,ITS-90,PSS-78,,PSS-78,,UMOL/KG,,UMOL/KG,,UMOL/KG,,PMOL/KG,,PMOL/KG,,PMOL/KG,,PMOL/KG,,TU,,NMOL/KG,,PERCNT,,NMOL/KG,UMOL/KG,,UATM,,,NMOL/KG,PERCNT,NMOL/KG,,ITS-90,TU
      06MT28_1,   A08,   209,  2,   2204,    324,2,19940415,0630,-11.3338, -17.4988, 3760,     13.3,  27.4164,  36.7355,2,  36.7352,2,   -999.0,9,     0.86,2,     0.00,2, -999.000,9, -999.000,9, -999.000,9, -999.000,9, -999.000,9,-999.0000,9,  -999.00,9,-999.000,   -999.0,9,   -999.0,9,     10,-999.0000,-999.000,-999.000,9, 27.4133,-999.000
      06MT28_1,   A08,   209,  2,   2197,    323,2,19940415,0630,-11.3338, -17.4988, 3760,    198.5,  13.2781,  35.3272,2,-999.0000,9,   -999.0,9,     7.37,2,    21.35,2, -999.000,9, -999.000,9, -999.000,9, -999.000,9, -999.000,9,-999.0000,9,  -999.00,9,-999.000,   -999.0,9,   -999.0,9,    199,-999.0000,-999.000,-999.000,9, 13.2503,-999.000
      06MT28_1,   A08,   209,  2,   2191,    322,2,19940415,0630,-11.3338, -17.4988, 3760,    297.5,   9.8038,  34.9074,2,-999.0000,9,   -999.0,9,    12.73,2,    29.18,2, -999.000,9, -999.000,9, -999.000,9, -999.000,9, -999.000,9,-999.0000,9,  -999.00,9,-999.000,   -999.0,9,   -999.0,9,    299,-999.0000,-999.000,-999.000,9,  9.7696,-999.000
      06MT28_1,   A08,   209,  2,   2252,    320,2,19940415,0630,-11.3338, -17.4988, 3760,    496.3,   6.8149,  34.5919,2,-999.0000,9,   -999.0,9,    19.12,2,    32.21,2, -999.000,9, -999.000,9, -999.000,9, -999.000,9, -999.000,9,-999.0000,9,  -999.00,9,-999.000,   -999.0,9,   -999.0,9,    500,-999.0000,-999.000,-999.000,9,  6.7684,-999.000
      06MT28_1,   A08,   209,  2,   2180,    321,2,19940415,0630,-11.3338, -17.4988, 3760,    496.4,   6.8149,  34.5919,2,-999.0000,9,   -999.0,9,    19.13,2,    32.13,2, -999.000,9, -999.000,9, -999.000,9, -999.000,9, -999.000,9,-999.0000,9,  -999.00,9,-999.000,   -999.0,9,   -999.0,9,    500,-999.0000,-999.000,-999.000,9,  6.7684,-999.000
      06MT28_1,   A08,   209,  2,   2253,    318,2,19940415,0630,-11.3338, -17.4988, 3760,    696.5,   5.1907,  34.4714,2,-999.0000,9,   -999.0,9,    25.49,2,    32.75,2, -999.000,9, -999.000,9, -999.000,9, -999.000,9, -999.000,9,-999.0000,9,  -999.00,9,-999.000,   -999.0,9,   -999.0,9,    700,-999.0000,-999.000,-999.000,9,  5.1332,-999.000
      06MT28_1,   A08,   209,  2,   2251,    319,2,19940415,0630,-11.3338, -17.4988, 3760,    696.5,   5.1907,  34.4714,2,-999.0000,9,   -999.0,9,    25.60,2,    32.67,2, -999.000,9, -999.000,9, -999.000,9, -999.000,9, -999.000,9,-999.0000,9,  -999.00,9,-999.000,   -999.0,9,   -999.0,9,    700,-999.0000,-999.000,-999.000,9,  5.1332,-999.000
      06MT28_1,   A08,   209,  2,   2250,    317,2,19940415,0630,-11.3338, -17.4988, 3760,    845.5,   4.4003,  34.4631,2,-999.0000,9,   -999.0,9,    30.72,2,    32.73,2, -999.000,9, -999.000,9, -999.000,9, -999.000,9, -999.000,9,-999.0000,9,  -999.00,9,-999.000,   -999.0,9,   -999.0,9,    850,-999.0000,-999.000,-999.000,9,  4.3348,-999.000
      06MT28_1,   A08,   209,  2,   2249,    316,2,19940415,0630,-11.3338, -17.4988, 3760,    994.9,   3.9991,  34.5192,2,  34.5197,2,   -999.0,9,    33.94,2,    31.65,2, -999.000,9, -999.000,9, -999.000,9, -999.000,9, -999.000,9,-999.0000,9,  -999.00,9,-999.000,   -999.0,9,   -999.0,9,    999,-999.0000,-999.000,-999.000,9,  3.9239,-999.000
      06MT28_1,   A08,   209,  2,   2248,    315,2,19940415,0630,-11.3338, -17.4988, 3760,   1195.3,   3.9863,  34.6766,2,-999.0000,9,   -999.0,9,    30.86,2,    28.86,2, -999.000,9, -999.000,9, -999.000,9, -999.000,9, -999.000,9,-999.0000,9,  -999.00,9,-999.000,   -999.0,9,   -999.0,9,   1199,-999.0000,-999.000,-999.000,9,  3.8939,-999.000
      06MT28_1,   A08,   209,  2,   2247,    314,2,19940415,0630,-11.3338, -17.4988, 3760,   1396.4,   4.0226,  34.8577,2,-999.0000,9,   -999.0,9,    23.79,2,    24.07,2, -999.000,9, -999.000,9, -999.000,9, -999.000,9, -999.000,9,-999.0000,9,  -999.00,9,-999.000,   -999.0,9,   -999.0,9,   1400,-999.0000,-999.000,-999.000,9,  3.9118,-999.000
      06MT28_1,   A08,   209,  2,   2246,    312,2,19940415,0630,-11.3338, -17.4988, 3760,   1797.1,   3.5507,  34.9521,2,-999.0000,9,   -999.0,9,    20.61,2,    19.37,2, -999.000,9, -999.000,9, -999.000,9, -999.000,9, -999.000,9,-999.0000,9,  -999.00,9,-999.000,   -999.0,9,   -999.0,9,   1800,-999.0000,-999.000,-999.000,9,  3.4089,-999.000
      06MT28_1,   A08,   209,  2,   2245,    313,2,19940415,0630,-11.3338, -17.4988, 3760,   1797.2,   3.5507,  34.9521,2,-999.0000,9,   -999.0,9,    20.44,2,    20.72,2, -999.000,9, -999.000,9, -999.000,9, -999.000,9, -999.000,9,-999.0000,9,  -999.00,9,-999.000,   -999.0,9,   -999.0,9,   1800,-999.0000,-999.000,-999.000,9,  3.4089,-999.000
      06MT28_1,   A08,   209,  2,   2244,    311,2,19940415,0630,-11.3338, -17.4988, 3760,   1996.5,   3.3479,  34.9492,2,  34.9500,2,   -999.0,9,    22.58,2,    19.26,2, -999.000,9, -999.000,9, -999.000,9, -999.000,9, -999.000,9,-999.0000,9,  -999.00,9,-999.000,   -999.0,9,   -999.0,9,   1999,-999.0000,-999.000,-999.000,9,  3.1905,-999.000
      06MT28_1,   A08,   209,  2,   2243,    310,2,19940415,0630,-11.3338, -17.4988, 3760,   2248.1,   3.0696,  34.9313,2,-999.0000,9,   -999.0,9,    32.41,2,    20.28,2, -999.000,9, -999.000,9, -999.000,9, -999.000,9, -999.000,9,-999.0000,9,  -999.00,9,-999.000,   -999.0,9,   -999.0,9,   2249,-999.0000,-999.000,-999.000,9,  2.8929,-999.000
      06MT28_1,   A08,   209,  2,   2242,    309,2,19940415,0630,-11.3338, -17.4988, 3760,   2499.2,   2.8771,  34.9156,2,-999.0000,9,   -999.0,9,    32.38,2,    20.17,2, -999.000,9, -999.000,9, -999.000,9, -999.000,9, -999.000,9,-999.0000,9,  -999.00,9,-999.000,   -999.0,9,   -999.0,9,   2499,-999.0000,-999.000,-999.000,9,  2.6796,-999.000
      06MT28_1,   A08,   209,  2,   2241,    308,2,19940415,0630,-11.3338, -17.4988, 3760,   2750.3,   2.7556,  34.9044,2,-999.0000,9,   -999.0,9,    36.32,2,    20.81,2, -999.000,9, -999.000,9, -999.000,9, -999.000,9, -999.000,9,-999.0000,9,  -999.00,9,-999.000,   -999.0,9,   -999.0,9,   2750,-999.0000,-999.000,-999.000,9,  2.5357,-999.000
      06MT28_1,   A08,   209,  2,   2240,    307,2,19940415,0630,-11.3338, -17.4988, 3760,   3001.0,   2.6335,  34.8972,2,  34.8967,2,   -999.0,9,    39.49,2,    21.07,2, -999.000,9, -999.000,9, -999.000,9, -999.000,9, -999.000,9,-999.0000,9,  -999.00,9,-999.000,   -999.0,9,   -999.0,9,   2999,-999.0000,-999.000,-999.000,9,  2.3907,-999.000
      06MT28_1,   A08,   209,  2,   2239,    306,2,19940415,0630,-11.3338, -17.4988, 3760,   3253.2,   2.5084,  34.8910,2,-999.0000,9,   -999.0,9,    41.52,2,    21.04,2, -999.000,9, -999.000,9, -999.000,9, -999.000,9, -999.000,9,-999.0000,9,  -999.00,9,-999.000,   -999.0,9,   -999.0,9,   3251,-999.0000,-999.000,-999.000,9,  2.2422,-999.000
      06MT28_1,   A08,   209,  2,   2238,    305,2,19940415,0630,-11.3338, -17.4988, 3760,   3503.4,   2.3433,  34.8801,2,-999.0000,9,   -999.0,9,    44.78,2,    21.12,2, -999.000,9, -999.000,9, -999.000,9, -999.000,9, -999.000,9,-999.0000,9,  -999.00,9,-999.000,   -999.0,9,   -999.0,9,   3500,-999.0000,-999.000,-999.000,9,  2.0546,-999.000
      06MT28_1,   A08,   209,  2,   2237,    304,2,19940415,0630,-11.3338, -17.4988, 3760,   3631.4,   2.1685,  34.8648,2,-999.0000,9,   -999.0,9,    49.56,2,    21.72,2, -999.000,9, -999.000,9, -999.000,9, -999.000,9, -999.000,9,-999.0000,9,  -999.00,9,-999.000,   -999.0,9,   -999.0,9,   3628,-999.0000,-999.000,-999.000,9,  1.8705,-999.000
      06MT28_1,   A08,   209,  2,   2236,    303,2,19940415,0630,-11.3338, -17.4988, 3760,   3731.2,   1.9378,  34.8445,2,-999.0000,9,   -999.0,9,  -999.00,9,  -999.00,9, -999.000,9, -999.000,9, -999.000,9, -999.000,9, -999.000,9,-999.0000,9,  -999.00,9,-999.000,   -999.0,9,   -999.0,9,   3728,-999.0000,-999.000,-999.000,9,  1.6351,-999.000
      06MT28_1,   A08,   209,  2,   2233,    301,2,19940415,0630,-11.3338, -17.4988, 3760,   3762.5,   1.9124,  34.8410,2,  35.1667,4,   -999.0,9,    17.70,2,    21.42,2, -999.000,9, -999.000,9, -999.000,9, -999.000,9, -999.000,9,-999.0000,9,  -999.00,9,-999.000,   -999.0,9,   -999.0,9,   3759,-999.0000,-999.000,-999.000,9,  1.6070,-999.000
      06MT28_1,   A08,   209,  2,   2235,    302,2,19940415,0630,-11.3338, -17.4988, 3760,   3762.5,   1.9119,  34.8415,2,  34.8406,2,   -999.0,9,    58.14,2,    22.79,2, -999.000,9, -999.000,9, -999.000,9, -999.000,9, -999.000,9,-999.0000,9,  -999.00,9,-999.000,   -999.0,9,   -999.0,9,   3759,-999.0000,-999.000,-999.000,9,  1.6065,-999.000
      06MT28_1,   A08,   210,  1,   2232,    216,2,19940415,1124,-11.3325, -16.9990, 4271,      9.9,  27.1450,  36.7083,2,  36.7076,2,    191.3,2,  -999.00,9,  -999.00,9,    1.563,2,    0.917,2,    0.012,4,    1.760,2,    0.806,2,   1.7580,2,    -1.62,2,   6.896,   2048.5,2,    470.0,2,     10,  0.0060,   0.240,   0.022,3, 27.1427,   0.019
      06MT28_1,   A08,   210,  1,   2229,    215,2,19940415,1124,-11.3325, -16.9990, 4271,     30.4,  27.0605,  36.8298,2,-999.0000,9,    193.2,2,     0.77,2,     0.00,4, -999.000,9, -999.000,9, -999.000,9, -999.000,9, -999.000,9,   1.7440,2,    -2.26,2,   6.858,   2056.8,2,    473.0,6,     30,  0.0060,   0.240,   0.022,3, 27.0535,-999.000
      06MT28_1,   A08,   210,  1,   2217,    214,2,19940415,1124,-11.3325, -16.9990, 4271,     50.6,  26.5004,  36.8191,2,-999.0000,9,    197.6,2,     0.67,2,     0.00,4,    1.609,2,    0.935,2,    0.016,4,    1.606,2,    0.805,2,   1.7130,2,    -1.55,2,   6.759,   2056.4,2,    476.0,2,     50,  0.0060,   0.240,   0.021,3, 26.4889,   0.020
      06MT28_1,   A08,   210,  1,   2290,    213,2,19940415,1124,-11.3325, -16.9990, 4271,     70.1,  25.1100,  36.8249,2,-999.0000,9,    207.9,2,     0.67,2,     0.00,4,    1.730,2,    0.995,2,    0.024,4,    1.404,2,    0.793,2,   1.7200,3,    -1.40,3,   6.860,   2059.8,2,    484.3,2,     70,  0.0150,   0.240,   0.056,3, 25.0946,   0.020
      06MT28_1,   A08,   210,  1,   2291,    212,2,19940415,1124,-11.3325, -16.9990, 4271,    100.1,  22.2959,  36.5696,2,-999.0000,9,    202.3,2,     0.96,2,     0.10,2,    1.929,2,    1.097,2,    0.101,2,    1.120,2,    0.735,2,   1.7690,2,    -1.22,2,   7.095,   2080.7,2,    552.0,2,    100,  0.0060,   0.240,   0.023,2, 22.2757,   0.018
      06MT28_1,   A08,   210,  1,   2289,    211,2,19940415,1124,-11.3325, -16.9990, 4271,    149.4,  17.3207,  35.8951,2,-999.0000,9,    147.6,2,     3.26,2,    10.73,2,    1.738,2,    0.958,2,    0.092,2,    0.677,2,    0.695,2,   1.6640,4,     0.07,2,   7.015,   2136.3,2,    867.4,2,    149,  0.0060,   0.250,   0.023,2, 17.2956,   0.018
      06MT28_1,   A08,   210,  1,   2288,    210,2,19940415,1124,-11.3325, -16.9990, 4271,    200.1,  13.2582,  35.3093,2,-999.0000,9,    108.2,2,     6.89,2,    20.20,2,    1.263,2,    0.683,2,    0.030,2,    0.346,2,    0.539,2,-999.0000,9,  -999.00,9,-999.000,   2173.3,2,    792.2,2,    200,-999.0000,-999.000,-999.000,9, 13.2302,   0.071
      06MT28_1,   A08,   210,  1,   2287,    209,2,19940415,1124,-11.3325, -16.9990, 4271,    300.2,  10.3979,  34.9828,2,-999.0000,9,     76.7,2,    11.91,2,    28.80,2,    0.420,2,    0.235,2,    0.012,2,    0.182,2, -999.000,9,   1.7550,2,     1.06,2,   7.391,   2211.6,2,   1126.6,2,    300,  0.0070,   0.250,   0.024,2, 10.3620,-999.000
      06MT28_1,   A08,   210,  1,   2285,    207,2,19940415,1124,-11.3325, -16.9990, 4271,    400.5,   8.3312,  34.7481,2,-999.0000,9,   -999.0,9,  -999.00,9,  -999.00,9, -999.000,9, -999.000,9, -999.000,9, -999.000,9, -999.000,9,-999.0000,9,  -999.00,9,-999.000,   -999.0,9,   -999.0,9,    400,-999.0000,-999.000,-999.000,9,  8.2893,-999.000
      06MT28_1,   A08,   210,  1,   2284,    208,2,19940415,1124,-11.3325, -16.9990, 4271,    401.0,   8.3341,  34.7471,2,  34.7492,2,     90.9,2,    15.64,2,    31.37,2,    0.185,2,    0.108,2,    0.005,2,    0.228,2,    0.101,2,-999.0000,9,  -999.00,9,-999.000,   2215.3,2,   1218.3,6,    401,-999.0000,-999.000,-999.000,9,  8.2922,   0.012