BOTTLE,20220817CCHSIOAMB
EXPOCODE,SECT_ID,STNNBR,CASTNO,SAMPNO,BTLNBR,BTLNBR_FLAG_W,DATE,TIME,LATITUDE,LONGITUDE,DEPTH,CTDPRS,CTDTMP,CTDSAL,CTDSAL_FLAG_W,SALNTY,SALNTY_FLAG_W,OXYGEN,OXYGEN_FLAG_W,SILCAT,SILCAT_FLAG_W,NO2+NO3,NO2+NO3_FLAG_W,CFC-11,CFC-11_FLAG_W,CFC-12,CFC-12_FLAG_W,CFC113,CFC113_FLAG_W,CCL4,CCL4_FLAG_W,TRITUM,TRITUM_FLAG_W,HELIUM,HELIUM_FLAG_W,DELHE3,DELHE3_FLAG_W,NEON,TCARBN,TCARBN_FLAG_W,PCO2,PCO2_FLAG_W,CTDRAW,HELIER,DELHER,NEONER,NEON_FLAG_W,THETA,TRITER
,,,,,,,,,,,,DBAR,ITS-90,PSS-78,,PSS-78,,UMOL/KG,,UMOL/KG,,UMOL/KG,,PMOL/KG,,PMOL/KG,,PMOL/KG,,PMOL/KG,,TU,,NMOL/KG,,PERCNT,,NMOL/KG,UMOL/KG,,UATM,,,NMOL/KG,PERCNT,NMOL/KG,,ITS-90,TU
      06MT28_1,   A08,   241,  2,   3825,    323,2,19940424,1806,-11.3330,  -2.5008, 5230,     17.4,  26.4941,  36.5151,2,  36.5180,2,    194.5,2,     0.86,2,     0.00,2, -999.000,9, -999.000,9, -999.000,9, -999.000,9, -999.000,9,-999.0000,9,  -999.00,9,-999.000,   -999.0,9,   -999.0,9,     13,-999.0000,-999.000,-999.000,9, 26.4901,-999.000
      06MT28_1,   A08,   241,  2,      6,    322,2,19940424,1806,-11.3330,  -2.5008, 5230,    920.5,   4.3078,  34.5318,2,  34.5324,2,    133.7,2,    32.59,2,    34.11,2, -999.000,9, -999.000,9, -999.000,9, -999.000,9, -999.000,9,-999.0000,9,  -999.00,9,-999.000,   -999.0,9,   -999.0,9,    924,-999.0000,-999.000,-999.000,9,  4.2365,-999.000
      06MT28_1,   A08,   241,  2,      9,    321,2,19940424,1806,-11.3330,  -2.5008, 5230,   1096.2,   4.0230,  34.6471,2,-999.0000,9,    151.8,2,    32.36,2,    31.13,2, -999.000,9, -999.000,9, -999.000,9, -999.000,9, -999.000,9,-999.0000,9,  -999.00,9,-999.000,   -999.0,9,   -999.0,9,   1100,-999.0000,-999.000,-999.000,9,  3.9389,-999.000
      06MT28_1,   A08,   241,  2,     10,    320,2,19940424,1806,-11.3330,  -2.5008, 5230,   1296.0,   3.8744,  34.7742,2,  34.7757,2,    173.9,2,    29.39,2,    27.39,2, -999.000,9, -999.000,9, -999.000,9, -999.000,9, -999.000,9,-999.0000,9,  -999.00,9,-999.000,   -999.0,9,   -999.0,9,   1299,-999.0000,-999.000,-999.000,9,  3.7742,-999.000
      06MT28_1,   A08,   241,  2,     11,    319,2,19940424,1806,-11.3330,  -2.5008, 5230,   1496.8,   3.7479,  34.8694,2,-999.0000,9,    192.0,2,    26.51,2,    24.23,2, -999.000,9, -999.000,9, -999.000,9, -999.000,9, -999.000,9,-999.0000,9,  -999.00,9,-999.000,   -999.0,9,   -999.0,9,   1500,-999.0000,-999.000,-999.000,9,  3.6311,-999.000
      06MT28_1,   A08,   241,  2,     12,    318,2,19940424,1806,-11.3330,  -2.5008, 5230,   1697.8,   3.5906,  34.9095,2,-999.0000,9,    206.9,2,    25.72,2,    22.50,2, -999.000,9, -999.000,9, -999.000,9, -999.000,9, -999.000,9,-999.0000,9,  -999.00,9,-999.000,   -999.0,9,   -999.0,9,   1700,-999.0000,-999.000,-999.000,9,  3.4575,-999.000
      06MT28_1,   A08,   241,  2,     13,    317,2,19940424,1806,-11.3330,  -2.5008, 5230,   1898.7,   3.3975,  34.9205,2,  34.9212,2,    212.9,2,    27.22,2,    21.81,2, -999.000,9, -999.000,9, -999.000,9, -999.000,9, -999.000,9,-999.0000,9,  -999.00,9,-999.000,   -999.0,9,   -999.0,9,   1900,-999.0000,-999.000,-999.000,9,  3.2485,-999.000
      06MT28_1,   A08,   241,  2,    102,    316,2,19940424,1806,-11.3330,  -2.5008, 5230,   2098.0,   3.2231,  34.9224,2,-999.0000,9,    217.7,2,    29.18,2,    21.41,2, -999.000,9, -999.000,9, -999.000,9, -999.000,9, -999.000,9,-999.0000,9,  -999.00,9,-999.000,   -999.0,9,   -999.0,9,   2099,-999.0000,-999.000,-999.000,9,  3.0581,-999.000
      06MT28_1,   A08,   241,  2,    103,    315,2,19940424,1806,-11.3330,  -2.5008, 5230,   2349.7,   2.9672,  34.9163,2,-999.0000,9,    220.0,2,    33.31,2,    21.29,2, -999.000,9, -999.000,9, -999.000,9, -999.000,9, -999.000,9,-999.0000,9,  -999.00,9,-999.000,   -999.0,9,   -999.0,9,   2350,-999.0000,-999.000,-999.000,9,  2.7825,-999.000
      06MT28_1,   A08,   241,  2,    104,    314,2,19940424,1806,-11.3330,  -2.5008, 5230,   2601.4,   2.7959,  34.9097,2,-999.0000,9,    220.9,2,    36.68,2,    21.36,2, -999.000,9, -999.000,9, -999.000,9, -999.000,9, -999.000,9,-999.0000,9,  -999.00,9,-999.000,   -999.0,9,   -999.0,9,   2600,-999.0000,-999.000,-999.000,9,  2.5899,-999.000
      06MT28_1,   A08,   241,  2,    105,    313,2,19940424,1806,-11.3330,  -2.5008, 5230,   2852.2,   2.6557,  34.9035,2,  34.9057,2,    219.9,2,    39.94,2,    21.62,2, -999.000,9, -999.000,9, -999.000,9, -999.000,9, -999.000,9,-999.0000,9,  -999.00,9,-999.000,   -999.0,9,   -999.0,9,   2850,-999.0000,-999.000,-999.000,9,  2.4276,-999.000
      06MT28_1,   A08,   241,  2,    106,    312,2,19940424,1806,-11.3330,  -2.5008, 5230,   3102.6,   2.5576,  34.9007,2,-999.0000,9,    218.3,2,    42.35,2,    21.70,2, -999.000,9, -999.000,9, -999.000,9, -999.000,9, -999.000,9,-999.0000,9,  -999.00,9,-999.000,   -999.0,9,   -999.0,9,   3100,-999.0000,-999.000,-999.000,9,  2.3060,-999.000
      06MT28_1,   A08,   241,  2,    107,    311,2,19940424,1806,-11.3330,  -2.5008, 5230,   3353.5,   2.4696,  34.8961,2,-999.0000,9,    216.6,2,    45.04,2,    21.86,2, -999.000,9, -999.000,9, -999.000,9, -999.000,9, -999.000,9,-999.0000,9,  -999.00,9,-999.000,   -999.0,9,   -999.0,9,   3350,-999.0000,-999.000,-999.000,9,  2.1937,-999.000
      06MT28_1,   A08,   241,  2,    108,    310,2,19940424,1806,-11.3330,  -2.5008, 5230,   3604.5,   2.4005,  34.8917,2,-999.0000,9,    218.9,2,    45.84,2,    21.84,2, -999.000,9, -999.000,9, -999.000,9, -999.000,9, -999.000,9,-999.0000,9,  -999.00,9,-999.000,   -999.0,9,   -999.0,9,   3600,-999.0000,-999.000,-999.000,9,  2.0993,-999.000
      06MT28_1,   A08,   241,  2,    109,    309,2,19940424,1806,-11.3330,  -2.5008, 5230,   3854.5,   2.3688,  34.8875,2,  34.8882,2,    219.5,2,    46.64,2,    21.72,2,    0.006,2,    0.002,2,    0.004,2,    0.016,2, -999.000,9,-999.0000,9,  -999.00,9,-999.000,   -999.0,9,   -999.0,9,   3849,-999.0000,-999.000,-999.000,9,  2.0408,-999.000
      06MT28_1,   A08,   241,  2,    110,    308,2,19940424,1806,-11.3330,  -2.5008, 5230,   4105.4,   2.3618,  34.8854,2,-999.0000,9,    219.4,2,    47.16,2,    21.70,2,    0.007,2,    0.002,2,    0.005,2,    0.019,2, -999.000,9,-999.0000,9,  -999.00,9,-999.000,   -999.0,9,   -999.0,9,   4100,-999.0000,-999.000,-999.000,9,  2.0054,-999.000
      06MT28_1,   A08,   241,  2,    111,    307,2,19940424,1806,-11.3330,  -2.5008, 5230,   4355.2,   2.3594,  34.8834,2,-999.0000,9,    212.4,2,    47.39,2,    21.68,2,    0.009,2,    0.002,2,    0.011,2,    0.024,2, -999.000,9,-999.0000,9,  -999.00,9,-999.000,   -999.0,9,   -999.0,9,   4349,-999.0000,-999.000,-999.000,9,  1.9739,-999.000
      06MT28_1,   A08,   241,  2,      2,    306,2,19940424,1806,-11.3330,  -2.5008, 5230,   4605.3,   2.3686,  34.8814,2,-999.0000,9,    219.5,2,    47.90,2,    21.66,2,    0.009,2,    0.003,2,    0.007,2,    0.028,2, -999.000,9,-999.0000,9,  -999.00,9,-999.000,   -999.0,9,   -999.0,9,   4599,-999.0000,-999.000,-999.000,9,  1.9528,-999.000
      06MT28_1,   A08,   241,  2,    100,    305,2,19940424,1806,-11.3330,  -2.5008, 5230,   4856.1,   2.3708,  34.8794,2,  34.8789,2,    218.7,2,    48.61,2,    21.73,2,    0.012,2,    0.003,2,    0.006,2,    0.033,2, -999.000,9,-999.0000,9,  -999.00,9,-999.000,   -999.0,9,   -999.0,9,   4850,-999.0000,-999.000,-999.000,9,  1.9240,-999.000
      06MT28_1,   A08,   241,  2,    101,    304,2,19940424,1806,-11.3330,  -2.5008, 5230,   5106.3,   2.3984,  34.8794,2,-999.0000,9,    218.9,2,    48.59,2,    21.63,2,    0.010,2,    0.003,2,    0.004,2,    0.034,2, -999.000,9,-999.0000,9,  -999.00,9,-999.000,   -999.0,9,   -999.0,9,   5099,-999.0000,-999.000,-999.000,9,  1.9189,-999.000
      06MT28_1,   A08,   241,  2,     39,    303,2,19940424,1806,-11.3330,  -2.5008, 5230,   5261.0,   2.4160,  34.8784,2,-999.0000,9,    218.7,2,    48.67,2,    21.71,2, -999.000,9, -999.000,9, -999.000,9, -999.000,9, -999.000,9,-999.0000,9,  -999.00,9,-999.000,   -999.0,9,   -999.0,9,   5254,-999.0000,-999.000,-999.000,9,  1.9160,-999.000
      06MT28_1,   A08,   241,  2,     40,    302,2,19940424,1806,-11.3330,  -2.5008, 5230,   5292.4,   2.4190,  34.8791,2,  34.8777,2,    218.5,2,    48.62,2,    21.66,2,    0.012,2,    0.003,2,    0.004,2,    0.035,2, -999.000,9,-999.0000,9,  -999.00,9,-999.000,   -999.0,9,   -999.0,9,   5286,-999.0000,-999.000,-999.000,9,  1.9148,-999.000
      06MT28_1,   A08,   241,  2,     41,    301,2,19940424,1806,-11.3330,  -2.5008, 5230,   5293.2,   2.4190,  34.8788,2,  34.8801,2,    218.2,2,    48.66,2,    21.66,2,    0.010,2,    0.002,2,    0.001,2,    0.036,2, -999.000,9,-999.0000,9,  -999.00,9,-999.000,   -999.0,9,   -999.0,9,   5286,-999.0000,-999.000,-999.000,9,  1.9147,-999.000
      06MT28_1,   A08,   242,  1,     42,    221,2,19940424,2314,-11.3313,  -1.9962, 5381,     10.9,  26.2632,  36.5622,2,  36.5629,2,    195.3,2,     0.86,2,     0.00,2,    1.561,2,    0.916,2,    0.101,4,    1.705,2,    0.336,2,   1.6640,2,    -2.18,2,   6.566,   -999.0,9,   -999.0,9,     10,  0.0060,   0.240,   0.021,2, 26.2608,   0.250
      06MT28_1,   A08,   242,  1,     44,    220,2,19940424,2314,-11.3313,  -1.9962, 5381,     40.5,  26.2121,  36.5927,2,-999.0000,9,    194.1,2,     0.96,2,     0.00,2, -999.000,9, -999.000,9, -999.000,9, -999.000,9, -999.000,9,-999.0000,9,  -999.00,9,-999.000,   -999.0,9,   -999.0,9,     39,-999.0000,-999.000,-999.000,9, 26.2030,-999.000
      06MT28_1,   A08,   242,  1,     45,    219,2,19940424,2314,-11.3313,  -1.9962, 5381,     61.5,  23.2573,  36.4823,2,-999.0000,9,    224.2,2,     0.77,2,     0.00,2,    1.889,2,    1.069,2,    0.111,2,    1.168,2, -999.000,9,   1.6810,2,    -1.41,2,   6.777,   -999.0,9,   -999.0,9,     61,  0.0060,   0.240,   0.022,2, 23.2446,-999.000
      06MT28_1,   A08,   242,  1,     46,    218,2,19940424,2314,-11.3313,  -1.9962, 5381,     81.0,  21.1447,  36.3365,2,-999.0000,9,    215.3,2,     1.25,2,     0.19,2,    1.883,2,    1.046,2,    0.114,2,    0.929,2,    0.756,2,   1.6420,3,    -0.78,2,   6.639,   -999.0,9,   -999.0,9,     80,  0.0060,   0.250,   0.022,3, 21.1290,   0.023
      06MT28_1,   A08,   242,  1,     47,    217,2,19940424,2314,-11.3313,  -1.9962, 5381,    120.7,  15.3648,  35.6153,2,-999.0000,9,    106.4,2,     4.79,2,    18.30,2,    1.561,2,    0.839,2,    0.073,2,    0.512,2, -999.000,9,   1.7380,2,     0.25,2,   7.181,   -999.0,9,   -999.0,9,    120,  0.0070,   0.250,   0.024,2, 15.3462,-999.000
      06MT28_1,   A08,   242,  1,     48,    216,2,19940424,2314,-11.3313,  -1.9962, 5381,    180.8,  12.2333,  35.1963,2,-999.0000,9,     55.8,2,     9.48,2,    27.96,2,    0.626,2,    0.349,2,    0.017,2,    0.140,2, -999.000,9,   1.7480,3,     2.25,3,   7.332,   -999.0,9,   -999.0,9,    180,  0.0150,   0.240,   0.060,3, 12.2093,-999.000
      06MT28_1,   A08,   242,  1,     49,    215,2,19940424,2314,-11.3313,  -1.9962, 5381,    250.3,  10.7095,  35.0129,2,  35.0167,2,     57.4,2,    11.87,2,    30.34,2,    0.353,2,    0.204,2,    0.007,2,    0.130,2, -999.000,9,-999.0000,9,  -999.00,9,-999.000,   -999.0,9,   -999.0,9,    250,-999.0000,-999.000,-999.000,9, 10.6791,-999.000
      06MT28_1,   A08,   242,  1,     37,    214,2,19940424,2314,-11.3313,  -1.9962, 5381,    350.1,   9.3068,  34.8549,2,-999.0000,9,     50.2,2,    14.83,2,    33.86,2,    0.142,2,    0.090,2,    0.007,2,    0.098,2, -999.000,9,   1.7540,2,     0.40,2,   7.538,   -999.0,9,   -999.0,9,    349,  0.0060,   0.240,   0.024,2,  9.2677,-999.000
      06MT28_1,   A08,   242,  1,     73,    213,2,19940424,2314,-11.3313,  -1.9962, 5381,    451.0,   8.0646,  34.7277,2,-999.0000,9,     55.2,2,    17.78,2,    36.33,2,    0.056,2,    0.038,2,    0.007,2,    0.088,2, -999.000,9,-999.0000,9,  -999.00,9,-999.000,   -999.0,9,   -999.0,9,    450,-999.0000,-999.000,-999.000,9,  8.0181,-999.000
      06MT28_1,   A08,   242,  1,     74,    212,2,19940424,2314,-11.3313,  -1.9962, 5381,    550.7,   6.6799,  34.6073,2,  34.6114,2,     59.0,2,    21.98,2,    38.70,2,    0.016,2,    0.010,2,    0.004,2,    0.068,2,    0.110,2,   1.7740,2,     1.29,2,   7.647,   -999.0,9,   -999.0,9,    550,  0.0070,   0.240,   0.024,2,  6.6287,   0.007
      06MT28_1,   A08,   242,  1,     75,    211,2,19940424,2314,-11.3313,  -1.9962, 5381,    649.8,   5.6372,  34.5308,2,-999.0000,9,     82.8,2,    25.69,2,    38.20,2, -999.000,9, -999.000,9, -999.000,9, -999.000,9, -999.000,9,-999.0000,9,  -999.00,9,-999.000,   -999.0,9,   -999.0,9,    650,-999.0000,-999.000,-999.000,9,  5.5815,-999.000
      06MT28_1,   A08,   242,  1,    225,    210,2,19940424,2314,-11.3313,  -1.9962, 5381,    749.8,   4.9728,  34.5023,2,-999.0000,9,    105.4,2,    29.02,2,    36.85,2,    0.004,2,    0.003,2,    0.002,2,    0.041,2,    0.133,2,   1.7860,2,     1.17,2,   7.764,   -999.0,9,   -999.0,9,    750,  0.0070,   0.240,   0.025,2,  4.9118,   0.007
      06MT28_1,   A08,   242,  1,    214,    209,2,19940424,2314,-11.3313,  -1.9962, 5381,    824.5,   4.6528,  34.5029,2,-999.0000,9,    118.4,2,    30.68,2,    35.78,2, -999.000,9, -999.000,9, -999.000,9, -999.000,9, -999.000,9,-999.0000,9,  -999.00,9,-999.000,   -999.0,9,   -999.0,9,    825,-999.0000,-999.000,-999.000,9,  4.5874,-999.000
      06MT28_1,   A08,   242,  1,    211,    208,2,19940424,2314,-11.3313,  -1.9962, 5381,    924.1,   4.3224,  34.5289,2,-999.0000,9,    131.5,2,    32.52,2,    34.48,2,    0.002,2,    0.001,2,    0.008,2,    0.026,2,    0.140,2,   1.7970,2,     1.98,2,   7.842,   -999.0,9,   -999.0,9,    925,  0.0070,   0.240,   0.025,2,  4.2507,   0.020
      06MT28_1,   A08,   242,  1,    210,    207,2,19940424,2314,-11.3313,  -1.9962, 5381,    924.1,   4.3233,  34.5291,2,-999.0000,9,   -999.0,9,  -999.00,9,  -999.00,9, -999.000,9, -999.000,9, -999.000,9, -999.000,9, -999.000,9,-999.0000,9,  -999.00,9,-999.000,   -999.0,9,   -999.0,9,    925,-999.0000,-999.000,-999.000,9,  4.2516,-999.000