BOTTLE,20220817CCHSIOAMB
EXPOCODE,SECT_ID,STNNBR,CASTNO,SAMPNO,BTLNBR,BTLNBR_FLAG_W,DATE,TIME,LATITUDE,LONGITUDE,DEPTH,CTDPRS,CTDTMP,CTDSAL,CTDSAL_FLAG_W,SALNTY,SALNTY_FLAG_W,OXYGEN,OXYGEN_FLAG_W,SILCAT,SILCAT_FLAG_W,NO2+NO3,NO2+NO3_FLAG_W,CFC-11,CFC-11_FLAG_W,CFC-12,CFC-12_FLAG_W,CFC113,CFC113_FLAG_W,CCL4,CCL4_FLAG_W,TRITUM,TRITUM_FLAG_W,HELIUM,HELIUM_FLAG_W,DELHE3,DELHE3_FLAG_W,NEON,TCARBN,TCARBN_FLAG_W,PCO2,PCO2_FLAG_W,CTDRAW,HELIER,DELHER,NEONER,NEON_FLAG_W,THETA,TRITER
,,,,,,,,,,,,DBAR,ITS-90,PSS-78,,PSS-78,,UMOL/KG,,UMOL/KG,,UMOL/KG,,PMOL/KG,,PMOL/KG,,PMOL/KG,,PMOL/KG,,TU,,NMOL/KG,,PERCNT,,NMOL/KG,UMOL/KG,,UATM,,,NMOL/KG,PERCNT,NMOL/KG,,ITS-90,TU
      06MT28_1,   A08,   290,  2,   3780,    307,2,19940507,0512,-11.3333,  13.5397,  159,     10.5,  24.6193,  35.7173,2,  35.7136,2,   -999.0,9,  -999.00,9,  -999.00,9,    1.549,2,    0.977,2,    0.131,2,    0.847,2, -999.000,9,-999.0000,9,  -999.00,9,-999.000,   2052.9,2,    550.2,6,     10,-999.0000,-999.000,-999.000,9, 24.6170,-999.000
      06MT28_1,   A08,   290,  2,   3779,    306,2,19940507,0512,-11.3333,  13.5397,  159,     39.5,  19.1034,  35.8028,2,-999.0000,9,   -999.0,9,  -999.00,9,  -999.00,9,    1.434,2,    0.804,2,    0.101,2,    0.345,2, -999.000,9,-999.0000,9,  -999.00,9,-999.000,   2164.8,2,    999.7,2,     40,-999.0000,-999.000,-999.000,9, 19.0963,-999.000
      06MT28_1,   A08,   290,  2,   3778,    305,2,19940507,0512,-11.3333,  13.5397,  159,     58.5,  17.2110,  35.7164,2,-999.0000,9,   -999.0,9,  -999.00,9,  -999.00,9,    1.317,2,    0.732,2,    0.065,2,    0.226,2, -999.000,9,-999.0000,9,  -999.00,9,-999.000,   2190.3,2,   1232.8,2,     60,-999.0000,-999.000,-999.000,9, 17.2012,-999.000
      06MT28_1,   A08,   290,  2,   3777,    304,2,19940507,0512,-11.3333,  13.5397,  159,     77.9,  14.9758,  35.5109,2,-999.0000,9,   -999.0,9,  -999.00,9,  -999.00,9,    1.000,2,    0.561,2,    0.019,2,    0.111,2, -999.000,9,-999.0000,9,  -999.00,9,-999.000,   2216.9,2,   1596.1,2,     79,-999.0000,-999.000,-999.000,9, 14.9640,-999.000
      06MT28_1,   A08,   290,  2,   3776,    303,2,19940507,0512,-11.3333,  13.5397,  159,    110.5,  14.6188,  35.4715,2,-999.0000,9,   -999.0,9,  -999.00,9,  -999.00,9,    0.935,2,    0.519,2,    0.030,2,    0.100,2, -999.000,9,-999.0000,9,  -999.00,9,-999.000,   2218.8,2,   1608.9,2,    112,-999.0000,-999.000,-999.000,9, 14.6023,-999.000
      06MT28_1,   A08,   290,  2,   3785,    302,2,19940507,0512,-11.3333,  13.5397,  159,    140.3,  14.2833,  35.4325,2,  35.4323,2,   -999.0,9,  -999.00,9,  -999.00,9,    0.877,2,    0.492,2,    0.013,2,    0.097,2, -999.000,9,-999.0000,9,  -999.00,9,-999.000,   2221.6,2,   1645.0,2,    142,-999.0000,-999.000,-999.000,9, 14.2627,-999.000
      06MT28_1,   A08,   290,  2,   3800,    301,2,19940507,0512,-11.3333,  13.5397,  159,    140.5,  14.2734,  35.4304,2,  35.4307,2,   -999.0,9,  -999.00,9,  -999.00,9,    0.877,2,    0.491,2,    0.016,2,    0.099,2, -999.000,9,-999.0000,9,  -999.00,9,-999.000,   2221.4,2,   1639.9,6,    142,-999.0000,-999.000,-999.000,9, 14.2528,-999.000