BOTTLE,20220817CCHSIOAMB
EXPOCODE,SECT_ID,STNNBR,CASTNO,SAMPNO,BTLNBR,BTLNBR_FLAG_W,DATE,TIME,LATITUDE,LONGITUDE,DEPTH,CTDPRS,CTDTMP,CTDSAL,CTDSAL_FLAG_W,SALNTY,SALNTY_FLAG_W,OXYGEN,OXYGEN_FLAG_W,SILCAT,SILCAT_FLAG_W,NO2+NO3,NO2+NO3_FLAG_W,CFC-11,CFC-11_FLAG_W,CFC-12,CFC-12_FLAG_W,CFC113,CFC113_FLAG_W,CCL4,CCL4_FLAG_W,TRITUM,TRITUM_FLAG_W,HELIUM,HELIUM_FLAG_W,DELHE3,DELHE3_FLAG_W,NEON,TCARBN,TCARBN_FLAG_W,PCO2,PCO2_FLAG_W,CTDRAW,HELIER,DELHER,NEONER,NEON_FLAG_W,THETA,TRITER
,,,,,,,,,,,,DBAR,ITS-90,PSS-78,,PSS-78,,UMOL/KG,,UMOL/KG,,UMOL/KG,,PMOL/KG,,PMOL/KG,,PMOL/KG,,PMOL/KG,,TU,,NMOL/KG,,PERCNT,,NMOL/KG,UMOL/KG,,UATM,,,NMOL/KG,PERCNT,NMOL/KG,,ITS-90,TU
      06MT28_1,   A08,   200,  2,   1787,    324,2,19940412,0530,-11.3342, -22.0007, 4881,     13.4,  27.7800,  36.8118,2,  36.8111,2,    194.7,2,     0.96,2,     0.00,2, -999.000,9, -999.000,9, -999.000,9, -999.000,9, -999.000,9,-999.0000,9,  -999.00,9,-999.000,   2052.7,2,   -999.0,9,      9,-999.0000,-999.000,-999.000,9, 27.7769,-999.000
      06MT28_1,   A08,   200,  2,   1776,    323,2,19940412,0530,-11.3342, -22.0007, 4881,    747.0,   4.7675,  34.4487,2,-999.0000,9,    152.1,2,    28.16,2,    32.55,2,    0.086,2,    0.052,2,    0.006,2,    0.359,2, -999.000,9,-999.0000,9,  -999.00,9,-999.000,   2213.0,2,   1145.8,2,    750,-999.0000,-999.000,-999.000,9,  4.7081,-999.000
      06MT28_1,   A08,   200,  2,   1775,    322,2,19940412,0530,-11.3342, -22.0007, 4881,    823.3,   4.4037,  34.4492,2,-999.0000,9,    157.1,2,    30.72,2,    32.44,2,    0.056,2,    0.032,2,    0.004,2,    0.294,2, -999.000,9,-999.0000,9,  -999.00,9,-999.000,   2214.9,2,   1140.1,2,    826,-999.0000,-999.000,-999.000,9,  4.3400,-999.000
      06MT28_1,   A08,   200,  2,   1772,    321,2,19940412,0530,-11.3342, -22.0007, 4881,    922.2,   4.0620,  34.4794,2,-999.0000,9,    162.3,2,    33.86,2,    32.04,2,    0.098,4,    0.057,4,    0.079,4,    0.253,2, -999.000,9,   1.8070,2,     2.65,2,   7.829,   2220.6,2,   1099.7,2,    925,  0.0070,   0.250,   0.026,2,  3.9924,-999.000
      06MT28_1,   A08,   200,  2,   1766,    320,2,19940412,0530,-11.3342, -22.0007, 4881,   1097.0,   3.9181,  34.6003,2,  34.6000,2,    167.8,2,    33.64,2,    30.30,2,    0.017,2,    0.005,2,    0.013,4,    0.084,2, -999.000,9,   1.8050,2,     3.00,2,   7.859,   2214.6,2,   1054.8,2,   1100,  0.0070,   0.250,   0.026,2,  3.8349,-999.000
      06MT28_1,   A08,   200,  2,   1765,    319,2,19940412,0530,-11.3342, -22.0007, 4881,   1297.1,   4.0620,  34.7933,2,-999.0000,9,    184.4,2,    26.65,2,    26.18,2,    0.007,2,    0.005,2,    0.001,2,    0.046,2, -999.000,9,   1.8130,2,     1.78,2,   7.856,   2200.1,2,    967.1,2,   1300,  0.0070,   0.250,   0.026,2,  3.9598,-999.000
      06MT28_1,   A08,   200,  2,   1764,    318,2,19940412,0530,-11.3342, -22.0007, 4881,   1499.8,   3.9868,  34.9016,2,-999.0000,9,    208.1,2,    22.25,2,    22.54,2,    0.010,2,    0.005,2,    0.002,2,    0.099,2, -999.000,9,   1.8140,2,     2.23,2,   7.873,   2183.2,2,    853.5,2,   1502,  0.0070,   0.250,   0.026,2,  3.8670,-999.000
      06MT28_1,   A08,   200,  2,   1763,    317,2,19940412,0530,-11.3342, -22.0007, 4881,   1700.1,   3.7549,  34.9477,2,-999.0000,9,    227.7,2,    20.24,2,    20.14,2,    0.020,2,    0.012,2,    0.005,2,    0.171,2, -999.000,9,   1.8330,2,     2.38,2,   7.956,   2175.9,2,    786.4,2,   1702,  0.0070,   0.250,   0.026,2,  3.6194,-999.000
      06MT28_1,   A08,   200,  2,   1762,    316,2,19940412,0530,-11.3342, -22.0007, 4881,   1899.1,   3.5151,  34.9613,2,-999.0000,9,    238.4,2,    20.03,2,    18.89,2,    0.024,2,    0.015,2,    0.005,2,    0.212,2, -999.000,9,   1.8110,2,     2.11,2,   7.885,   2166.8,2,    753.8,2,   1900,  0.0070,   0.250,   0.026,2,  3.3643,-999.000
      06MT28_1,   A08,   200,  2,   1761,    315,2,19940412,0530,-11.3342, -22.0007, 4881,   2099.3,   3.3217,  34.9546,2,  34.9544,2,    239.8,2,    22.00,2,    18.78,2,    0.025,2,    0.015,2,    0.006,2,    0.184,2, -999.000,9,   1.8060,2,     1.85,2,   7.879,   2166.2,2,    753.4,2,   2100,  0.0070,   0.250,   0.026,2,  3.1550,-999.000
      06MT28_1,   A08,   200,  2,   1817,    314,2,19940412,0530,-11.3342, -22.0007, 4881,   2351.1,   3.0366,  34.9303,2,-999.0000,9,    235.3,2,    28.23,2,    19.70,2,    0.007,2,    0.004,2,    0.002,2,    0.072,2, -999.000,9,   1.7580,3,     3.27,2,   7.655,   2175.4,2,    746.3,2,   2351,  0.0070,   0.250,   0.025,3,  2.8505,-999.000
      06MT28_1,   A08,   200,  2,   1816,    313,2,19940412,0530,-11.3342, -22.0007, 4881,   2601.4,   2.8923,  34.9223,2,-999.0000,9,    235.1,2,    30.76,2,    19.97,2, -999.000,9, -999.000,9, -999.000,9, -999.000,9, -999.000,9,-999.0000,9,  -999.00,9,-999.000,   2177.0,2,    763.6,2,   2600,-999.0000,-999.000,-999.000,9,  2.6845,-999.000
      06MT28_1,   A08,   200,  2,   1818,    312,2,19940412,0530,-11.3342, -22.0007, 4881,   2853.4,   2.7797,  34.9155,2,-999.0000,9,    234.0,2,    33.46,2,    20.13,2,    0.015,4,    0.005,2,    0.013,2,    0.037,2, -999.000,9,-999.0000,9,  -999.00,9,-999.000,   2180.4,2,    777.8,2,   2851,-999.0000,-999.000,-999.000,9,  2.5488,-999.000
      06MT28_1,   A08,   200,  2,   1815,    311,2,19940412,0530,-11.3342, -22.0007, 4881,   3102.7,   2.6736,  34.9085,2,  34.9061,2,    233.0,2,    35.98,2,    20.30,2, -999.000,9, -999.000,9, -999.000,9, -999.000,9, -999.000,9,-999.0000,9,  -999.00,9,-999.000,   2184.1,2,    774.7,6,   3100,-999.0000,-999.000,-999.000,9,  2.4194,-999.000
      06MT28_1,   A08,   200,  2,   1814,    310,2,19940412,0530,-11.3342, -22.0007, 4881,   3354.9,   2.5708,  34.9048,2,-999.0000,9,    234.9,2,    36.60,2,    20.09,2,    0.004,2,    0.003,2,    0.003,2,    0.043,2, -999.000,9,-999.0000,9,  -999.00,9,-999.000,   2183.1,2,    770.2,2,   3351,-999.0000,-999.000,-999.000,9,  2.2923,-999.000
      06MT28_1,   A08,   200,  2,   1813,    309,2,19940412,0530,-11.3342, -22.0007, 4881,   3607.1,   2.4386,  34.8992,2,-999.0000,9,    238.0,2,    37.41,2,    19.69,2, -999.000,9, -999.000,9, -999.000,9, -999.000,9, -999.000,9,-999.0000,9,  -999.00,9,-999.000,   2183.4,2,    769.5,2,   3603,-999.0000,-999.000,-999.000,9,  2.1361,-999.000
      06MT28_1,   A08,   200,  2,   1812,    308,2,19940412,0530,-11.3342, -22.0007, 4881,   3855.7,   2.1233,  34.8673,2,-999.0000,9,    233.6,2,    48.85,2,    21.27,2,    0.004,2,    0.001,2,    0.000,2,    0.047,2, -999.000,9,-999.0000,9,  -999.00,9,-999.000,   2194.0,2,    809.8,2,   3851,-999.0000,-999.000,-999.000,9,  1.8019,-999.000
      06MT28_1,   A08,   200,  2,   1811,    307,2,19940412,0530,-11.3342, -22.0007, 4881,   4107.6,   1.5868,  34.8079,2,  34.8059,2,    223.0,2,    71.55,2,    24.45,2, -999.000,9, -999.000,9, -999.000,9, -999.000,9, -999.000,9,-999.0000,9,  -999.00,9,-999.000,   2218.1,2,    879.8,2,   4102,-999.0000,-999.000,-999.000,9,  1.2528,-999.000
      06MT28_1,   A08,   200,  2,   1810,    306,2,19940412,0530,-11.3342, -22.0007, 4881,   4356.3,   1.1495,  34.7640,2,-999.0000,9,    215.9,2,    88.10,2,    26.58,2,    0.004,2,    0.001,2,    0.005,2,    0.040,2, -999.000,9,-999.0000,9,  -999.00,9,-999.000,   2234.2,2,    941.0,2,   4351,-999.0000,-999.000,-999.000,9,  0.8011,-999.000
      06MT28_1,   A08,   200,  2,   1809,    305,2,19940412,0530,-11.3342, -22.0007, 4881,   4606.6,   0.8990,  34.7366,2,-999.0000,9,    215.9,2,    97.77,2,    27.87,2, -999.000,9, -999.000,9, -999.000,9, -999.000,9, -999.000,9,-999.0000,9,  -999.00,9,-999.000,   2244.5,2,    984.1,2,   4601,-999.0000,-999.000,-999.000,9,  0.5304,-999.000
      06MT28_1,   A08,   200,  2,   1808,    304,2,19940412,0530,-11.3342, -22.0007, 4881,   4820.6,   0.8137,  34.7262,2,-999.0000,9,    210.5,2,   101.80,3,    28.40,2,    0.017,4,    0.008,4,    0.007,2,    0.050,2, -999.000,9,-999.0000,9,  -999.00,9,-999.000,   2249.3,2,    948.2,3,   4814,-999.0000,-999.000,-999.000,9,  0.4234,-999.000
      06MT28_1,   A08,   200,  2,   1807,    303,2,19940412,0530,-11.3342, -22.0007, 4881,   4890.1,   0.8055,  34.7245,2,-999.0000,9,    210.3,2,   101.63,2,    28.40,2,    0.004,2,    0.003,2,    0.004,2,    0.047,2, -999.000,9,-999.0000,9,  -999.00,9,-999.000,   2249.0,2,   1005.0,2,   4884,-999.0000,-999.000,-999.000,9,  0.4074,-999.000
      06MT28_1,   A08,   200,  2,   1806,    301,2,19940412,0530,-11.3342, -22.0007, 4881,   4920.6,   0.8030,  34.7238,2,  34.7233,2,    209.7,2,   102.00,3,    28.44,2,    0.005,2,    0.002,2,    0.003,2,    0.044,2, -999.000,9,-999.0000,9,  -999.00,9,-999.000,   2250.6,2,    951.6,3,   4914,-999.0000,-999.000,-999.000,9,  0.4015,-999.000
      06MT28_1,   A08,   200,  2,   1805,    302,2,19940412,0530,-11.3342, -22.0007, 4881,   4920.7,   0.8031,  34.7237,2,  34.7189,2,    209.4,2,   102.28,2,    28.49,2,    0.004,2,    0.002,2,    0.002,2,    0.043,2, -999.000,9,-999.0000,9,  -999.00,9,-999.000,   2250.3,2,    988.5,2,   4914,-999.0000,-999.000,-999.000,9,  0.4015,-999.000
      06MT28_1,   A08,   201,  1,   1804,    220,2,19940412,1112,-11.3360, -21.5012, 4982,     10.9,  27.8060,  36.7336,2,  36.7373,2,    193.4,2,     0.77,2,     0.00,4, -999.000,9, -999.000,9, -999.000,9, -999.000,9, -999.000,9,-999.0000,9,  -999.00,9,-999.000,   -999.0,9,   -999.0,9,     10,-999.0000,-999.000,-999.000,9, 27.8035,-999.000
      06MT28_1,   A08,   201,  1,   1802,    219,2,19940412,1112,-11.3360, -21.5012, 4982,     29.2,  27.7976,  36.7331,2,-999.0000,9,    193.5,2,     0.77,2,     0.00,4, -999.000,9, -999.000,9, -999.000,9, -999.000,9, -999.000,9,-999.0000,9,  -999.00,9,-999.000,   -999.0,9,   -999.0,9,     28,-999.0000,-999.000,-999.000,9, 27.7907,-999.000
      06MT28_1,   A08,   201,  1,   1801,    218,2,19940412,1112,-11.3360, -21.5012, 4982,     50.6,  27.7897,  36.7348,2,-999.0000,9,    194.0,2,     0.77,2,     0.00,4, -999.000,9, -999.000,9, -999.000,9, -999.000,9, -999.000,9,-999.0000,9,  -999.00,9,-999.000,   -999.0,9,   -999.0,9,     50,-999.0000,-999.000,-999.000,9, 27.7778,-999.000
      06MT28_1,   A08,   201,  1,   1800,    217,2,19940412,1112,-11.3360, -21.5012, 4982,     71.8,  25.1138,  36.8853,2,-999.0000,9,    211.6,2,     0.77,2,     0.00,4, -999.000,9, -999.000,9, -999.000,9, -999.000,9, -999.000,9,-999.0000,9,  -999.00,9,-999.000,   -999.0,9,   -999.0,9,     71,-999.0000,-999.000,-999.000,9, 25.0981,-999.000
      06MT28_1,   A08,   201,  1,   1799,    216,2,19940412,1112,-11.3360, -21.5012, 4982,     71.9,  25.0985,  36.8843,2,-999.0000,9,    215.1,2,     0.77,2,     0.00,4, -999.000,9, -999.000,9, -999.000,9, -999.000,9, -999.000,9,-999.0000,9,  -999.00,9,-999.000,   -999.0,9,   -999.0,9,     71,-999.0000,-999.000,-999.000,9, 25.0828,-999.000
      06MT28_1,   A08,   201,  1,   1798,    215,2,19940412,1112,-11.3360, -21.5012, 4982,    150.7,  17.5858,  35.9143,2,-999.0000,9,    167.7,2,     2.49,2,     7.95,2, -999.000,9, -999.000,9, -999.000,9, -999.000,9, -999.000,9,-999.0000,9,  -999.00,9,-999.000,   -999.0,9,   -999.0,9,    150,-999.0000,-999.000,-999.000,9, 17.5603,-999.000
      06MT28_1,   A08,   201,  1,   1797,    214,2,19940412,1112,-11.3360, -21.5012, 4982,    199.8,  13.8444,  35.3831,2,-999.0000,9,    119.6,2,     6.03,2,    17.91,2, -999.000,9, -999.000,9, -999.000,9, -999.000,9, -999.000,9,-999.0000,9,  -999.00,9,-999.000,   -999.0,9,   -999.0,9,    199,-999.0000,-999.000,-999.000,9, 13.8156,-999.000
      06MT28_1,   A08,   201,  1,   1796,    213,2,19940412,1112,-11.3360, -21.5012, 4982,    301.4,  10.1845,  34.9470,2,-999.0000,9,     86.0,2,    11.96,2,    27.75,2, -999.000,9, -999.000,9, -999.000,9, -999.000,9, -999.000,9,-999.0000,9,  -999.00,9,-999.000,   -999.0,9,   -999.0,9,    301,-999.0000,-999.000,-999.000,9, 10.1490,-999.000
      06MT28_1,   A08,   201,  1,   1793,    212,2,19940412,1112,-11.3360, -21.5012, 4982,    400.1,   7.9106,  34.6833,2,-999.0000,9,    118.1,2,    15.68,2,    29.17,2, -999.000,9, -999.000,9, -999.000,9, -999.000,9, -999.000,9,-999.0000,9,  -999.00,9,-999.000,   -999.0,9,   -999.0,9,    400,-999.0000,-999.000,-999.000,9,  7.8700,-999.000
      06MT28_1,   A08,   201,  1,   1858,    211,2,19940412,1112,-11.3360, -21.5012, 4982,    499.9,   6.7845,  34.5808,2,-999.0000,9,    119.6,2,    19.12,2,    31.64,2, -999.000,9, -999.000,9, -999.000,9, -999.000,9, -999.000,9,-999.0000,9,  -999.00,9,-999.000,   -999.0,9,   -999.0,9,    500,-999.0000,-999.000,-999.000,9,  6.7378,-999.000
      06MT28_1,   A08,   201,  1,   1857,    210,2,19940412,1112,-11.3360, -21.5012, 4982,    600.5,   5.7354,  34.4952,2,-999.0000,9,    138.0,2,    22.64,2,    31.91,2, -999.000,9, -999.000,9, -999.000,9, -999.000,9, -999.000,9,-999.0000,9,  -999.00,9,-999.000,   -999.0,9,   -999.0,9,    601,-999.0000,-999.000,-999.000,9,  5.6837,-999.000
      06MT28_1,   A08,   201,  1,   1855,    209,2,19940412,1112,-11.3360, -21.5012, 4982,    699.7,   5.1104,  34.4744,2,-999.0000,9,    135.4,2,    26.54,2,    33.18,2, -999.000,9, -999.000,9, -999.000,9, -999.000,9, -999.000,9,-999.0000,9,  -999.00,9,-999.000,   -999.0,9,   -999.0,9,    700,-999.0000,-999.000,-999.000,9,  5.0530,-999.000
      06MT28_1,   A08,   201,  1,   1852,    208,2,19940412,1112,-11.3360, -21.5012, 4982,    999.4,   3.9849,  34.5315,2,  34.5324,2,    161.3,2,    33.99,2,    31.32,2, -999.000,9, -999.000,9, -999.000,9, -999.000,9, -999.000,9,-999.0000,9,  -999.00,9,-999.000,   -999.0,9,   -999.0,9,   1001,-999.0000,-999.000,-999.000,9,  3.9094,-999.000
      06MT28_1,   A08,   201,  1,   1851,    207,2,19940412,1112,-11.3360, -21.5012, 4982,   1000.1,   3.9852,  34.5320,2,  34.5330,2,   -999.0,9,  -999.00,9,  -999.00,9, -999.000,9, -999.000,9, -999.000,9, -999.000,9, -999.000,9,-999.0000,9,  -999.00,9,-999.000,   -999.0,9,   -999.0,9,   1002,-999.0000,-999.000,-999.000,9,  3.9096,-999.000