BOTTLE,20220817CCHSIOAMB
EXPOCODE,SECT_ID,STNNBR,CASTNO,SAMPNO,BTLNBR,BTLNBR_FLAG_W,DATE,TIME,LATITUDE,LONGITUDE,DEPTH,CTDPRS,CTDTMP,CTDSAL,CTDSAL_FLAG_W,SALNTY,SALNTY_FLAG_W,OXYGEN,OXYGEN_FLAG_W,SILCAT,SILCAT_FLAG_W,NO2+NO3,NO2+NO3_FLAG_W,CFC-11,CFC-11_FLAG_W,CFC-12,CFC-12_FLAG_W,CFC113,CFC113_FLAG_W,CCL4,CCL4_FLAG_W,TRITUM,TRITUM_FLAG_W,HELIUM,HELIUM_FLAG_W,DELHE3,DELHE3_FLAG_W,NEON,TCARBN,TCARBN_FLAG_W,PCO2,PCO2_FLAG_W,CTDRAW,HELIER,DELHER,NEONER,NEON_FLAG_W,THETA,TRITER
,,,,,,,,,,,,DBAR,ITS-90,PSS-78,,PSS-78,,UMOL/KG,,UMOL/KG,,UMOL/KG,,PMOL/KG,,PMOL/KG,,PMOL/KG,,PMOL/KG,,TU,,NMOL/KG,,PERCNT,,NMOL/KG,UMOL/KG,,UATM,,,NMOL/KG,PERCNT,NMOL/KG,,ITS-90,TU
      06MT28_1,   A08,   257,  2,   1693,    324,2,19940430,0338,-11.3330,   6.0003, 5187,     13.1,  25.1774,  36.7123,2,  36.7123,2,    201.3,2,     0.10,3,     0.00,3, -999.000,9, -999.000,9, -999.000,9, -999.000,9, -999.000,9,-999.0000,9,  -999.00,9,-999.000,   -999.0,9,   -999.0,9,     10,-999.0000,-999.000,-999.000,9, 25.1745,-999.000
      06MT28_1,   A08,   257,  2,   1768,    323,2,19940430,0338,-11.3330,   6.0003, 5187,    921.5,   4.2850,  34.5371,2,-999.0000,9,    124.4,2,    33.47,2,    35.00,2, -999.000,9, -999.000,9, -999.000,9, -999.000,9, -999.000,9,-999.0000,9,  -999.00,9,-999.000,   -999.0,9,   -999.0,9,    926,-999.0000,-999.000,-999.000,9,  4.2138,-999.000
      06MT28_1,   A08,   257,  2,   1760,    322,2,19940430,0338,-11.3330,   6.0003, 5187,   1094.8,   3.9781,  34.6603,2,  34.6579,2,    147.9,2,    32.97,2,    31.44,2, -999.000,9, -999.000,9, -999.000,9, -999.000,9, -999.000,9,-999.0000,9,  -999.00,9,-999.000,   -999.0,9,   -999.0,9,   1099,-999.0000,-999.000,-999.000,9,  3.8944,-999.000
      06MT28_1,   A08,   257,  2,   1759,    321,2,19940430,0338,-11.3330,   6.0003, 5187,   1296.9,   3.8788,  34.8114,2,-999.0000,9,    173.4,2,    28.65,2,    27.03,2, -999.000,9, -999.000,9, -999.000,9, -999.000,9, -999.000,9,-999.0000,9,  -999.00,9,-999.000,   -999.0,9,   -999.0,9,   1300,-999.0000,-999.000,-999.000,9,  3.7784,-999.000
      06MT28_1,   A08,   257,  2,   1758,    320,2,19940430,0338,-11.3330,   6.0003, 5187,   1496.1,   3.7765,  34.8947,2,  34.8955,2,    195.8,2,    25.30,2,    23.68,2, -999.000,9, -999.000,9, -999.000,9, -999.000,9, -999.000,9,-999.0000,9,  -999.00,9,-999.000,   -999.0,9,   -999.0,9,   1499,-999.0000,-999.000,-999.000,9,  3.6594,-999.000
      06MT28_1,   A08,   257,  2,   1757,    319,2,19940430,0338,-11.3330,   6.0003, 5187,   1697.0,   3.6163,  34.9203,2,-999.0000,9,    204.7,2,    25.37,2,    22.42,2, -999.000,9, -999.000,9, -999.000,9, -999.000,9, -999.000,9,-999.0000,9,  -999.00,9,-999.000,   -999.0,9,   -999.0,9,   1700,-999.0000,-999.000,-999.000,9,  3.4829,-999.000
      06MT28_1,   A08,   257,  2,   1756,    318,2,19940430,0338,-11.3330,   6.0003, 5187,   1897.7,   3.4215,  34.9303,2,-999.0000,9,    211.2,2,    27.05,2,    21.83,2, -999.000,9, -999.000,9, -999.000,9, -999.000,9, -999.000,9,-999.0000,9,  -999.00,9,-999.000,   -999.0,9,   -999.0,9,   1900,-999.0000,-999.000,-999.000,9,  3.2723,-999.000
      06MT28_1,   A08,   257,  2,   1794,    317,2,19940430,0338,-11.3330,   6.0003, 5187,   2098.6,   3.2051,  34.9278,2,  34.9292,2,    212.0,2,    30.16,2,    21.72,2, -999.000,9, -999.000,9, -999.000,9, -999.000,9, -999.000,9,-999.0000,9,  -999.00,9,-999.000,   -999.0,9,   -999.0,9,   2100,-999.0000,-999.000,-999.000,9,  3.0403,-999.000
      06MT28_1,   A08,   257,  2,   1792,    316,2,19940430,0338,-11.3330,   6.0003, 5187,   2348.9,   2.9895,  34.9229,2,-999.0000,9,    215.0,2,    33.63,2,    21.60,2, -999.000,9, -999.000,9, -999.000,9, -999.000,9, -999.000,9,-999.0000,9,  -999.00,9,-999.000,   -999.0,9,   -999.0,9,   2349,-999.0000,-999.000,-999.000,9,  2.8045,-999.000
      06MT28_1,   A08,   257,  2,   1791,    315,2,19940430,0338,-11.3330,   6.0003, 5187,   2599.9,   2.8314,  34.9171,2,-999.0000,9,    215.2,2,    36.81,2,    21.48,2, -999.000,9, -999.000,9, -999.000,9, -999.000,9, -999.000,9,-999.0000,9,  -999.00,9,-999.000,   -999.0,9,   -999.0,9,   2599,-999.0000,-999.000,-999.000,9,  2.6249,-999.000
      06MT28_1,   A08,   257,  2,   1790,    314,2,19940430,0338,-11.3330,   6.0003, 5187,   2850.9,   2.7073,  34.9120,2,-999.0000,9,    215.3,2,    39.61,2,    21.65,2, -999.000,9, -999.000,9, -999.000,9, -999.000,9, -999.000,9,-999.0000,9,  -999.00,9,-999.000,   -999.0,9,   -999.0,9,   2849,-999.0000,-999.000,-999.000,9,  2.4782,-999.000
      06MT28_1,   A08,   257,  2,   1795,    313,2,19940430,0338,-11.3330,   6.0003, 5187,   3102.7,   2.5978,  34.9062,2,  34.9054,2,    214.9,2,    42.30,2,    21.81,2, -999.000,9, -999.000,9, -999.000,9, -999.000,9, -999.000,9,-999.0000,9,  -999.00,9,-999.000,   -999.0,9,   -999.0,9,   3100,-999.0000,-999.000,-999.000,9,  2.3453,-999.000
      06MT28_1,   A08,   257,  2,   1821,    312,2,19940430,0338,-11.3330,   6.0003, 5187,   3351.5,   2.5015,  34.8981,2,-999.0000,9,    213.6,2,    45.65,2,    22.17,2, -999.000,9, -999.000,9, -999.000,9, -999.000,9, -999.000,9,-999.0000,9,  -999.00,9,-999.000,   -999.0,9,   -999.0,9,   3348,-999.0000,-999.000,-999.000,9,  2.2250,-999.000
      06MT28_1,   A08,   257,  2,   1822,    311,2,19940430,0338,-11.3330,   6.0003, 5187,   3605.5,   2.4092,  34.8929,2,-999.0000,9,    208.7,2,    49.66,2,    22.43,2, -999.000,9, -999.000,9, -999.000,9, -999.000,9, -999.000,9,-999.0000,9,  -999.00,9,-999.000,   -999.0,9,   -999.0,9,   3602,-999.0000,-999.000,-999.000,9,  2.1076,-999.000
      06MT28_1,   A08,   257,  2,   1823,    310,2,19940430,0338,-11.3330,   6.0003, 5187,   3851.9,   2.3549,  34.8887,2,-999.0000,9,    212.9,2,    49.32,2,    22.21,2, -999.000,9, -999.000,9, -999.000,9, -999.000,9, -999.000,9,-999.0000,9,  -999.00,9,-999.000,   -999.0,9,   -999.0,9,   3847,-999.0000,-999.000,-999.000,9,  2.0276,-999.000
      06MT28_1,   A08,   257,  2,   1824,    309,2,19940430,0338,-11.3330,   6.0003, 5187,   4104.7,   2.3530,  34.8875,2,  34.8859,2,    214.0,2,    49.55,2,    22.19,2, -999.000,9, -999.000,9, -999.000,9, -999.000,9, -999.000,9,-999.0000,9,  -999.00,9,-999.000,   -999.0,9,   -999.0,9,   4100,-999.0000,-999.000,-999.000,9,  1.9970,-999.000
      06MT28_1,   A08,   257,  2,   1825,    308,2,19940430,0338,-11.3330,   6.0003, 5187,   4356.0,   2.3580,  34.8855,2,-999.0000,9,    215.8,2,    49.03,2,    22.07,2,    0.002,2,    0.000,2,    0.021,4,    0.006,2, -999.000,9,-999.0000,9,  -999.00,9,-999.000,   -999.0,9,   -999.0,9,   4351,-999.0000,-999.000,-999.000,9,  1.9724,-999.000
      06MT28_1,   A08,   257,  2,   1826,    307,2,19940430,0338,-11.3330,   6.0003, 5187,   4605.6,   2.3716,  34.8837,2,-999.0000,9,    218.5,2,    49.17,2,    21.96,2,    0.210,4,    0.159,4,    0.036,4,    0.125,4, -999.000,9,-999.0000,9,  -999.00,9,-999.000,   -999.0,9,   -999.0,9,   4600,-999.0000,-999.000,-999.000,9,  1.9556,-999.000
      06MT28_1,   A08,   257,  2,   1827,    306,2,19940430,0338,-11.3330,   6.0003, 5187,   4856.1,   2.3892,  34.8812,2,-999.0000,9,    216.3,2,    49.50,2,    21.94,2,    0.004,2,    0.000,2,    0.002,4,    0.012,2, -999.000,9,-999.0000,9,  -999.00,9,-999.000,   -999.0,9,   -999.0,9,   4850,-999.0000,-999.000,-999.000,9,  1.9418,-999.000
      06MT28_1,   A08,   257,  2,   1828,    304,2,19940430,0338,-11.3330,   6.0003, 5187,   5105.0,   2.4147,  34.8802,2,-999.0000,9,    215.4,2,    49.64,2,    21.91,2,    0.005,2,    0.001,2,    0.022,4,    0.017,2, -999.000,9,-999.0000,9,  -999.00,9,-999.000,   -999.0,9,   -999.0,9,   5099,-999.0000,-999.000,-999.000,9,  1.9348,-999.000
      06MT28_1,   A08,   257,  2,   1829,    305,2,19940430,0338,-11.3330,   6.0003, 5187,   5105.1,   2.4150,  34.8810,2,  34.8793,2,    216.1,2,    49.54,2,    21.91,2, -999.000,9, -999.000,9, -999.000,9, -999.000,9, -999.000,9,-999.0000,9,  -999.00,9,-999.000,   -999.0,9,   -999.0,9,   5099,-999.0000,-999.000,-999.000,9,  1.9351,-999.000
      06MT28_1,   A08,   257,  2,   1830,    303,2,19940430,0338,-11.3330,   6.0003, 5187,   5176.6,   2.4212,  34.8799,2,-999.0000,9,    215.8,2,    49.43,2,    21.86,2,    0.006,2,    0.001,2,    0.032,4,    0.018,2, -999.000,9,-999.0000,9,  -999.00,9,-999.000,   -999.0,9,   -999.0,9,   5170,-999.0000,-999.000,-999.000,9,  1.9319,-999.000
      06MT28_1,   A08,   257,  2,   1845,    302,2,19940430,0338,-11.3330,   6.0003, 5187,   5207.5,   2.4240,  34.8797,2,  34.8787,2,    216.2,2,    49.43,2,    21.86,2,    0.007,2,    0.000,2,    0.009,2,    0.016,2, -999.000,9,-999.0000,9,  -999.00,9,-999.000,   -999.0,9,   -999.0,9,   5201,-999.0000,-999.000,-999.000,9,  1.9306,-999.000
      06MT28_1,   A08,   257,  2,   1833,    301,2,19940430,0338,-11.3330,   6.0003, 5187,   5207.7,   2.4241,  34.8795,2,  34.8789,2,    215.8,2,    49.38,2,    21.86,2,    0.005,2,    0.000,2,    0.010,2,    0.017,2, -999.000,9,-999.0000,9,  -999.00,9,-999.000,   -999.0,9,   -999.0,9,   5201,-999.0000,-999.000,-999.000,9,  1.9307,-999.000
      06MT28_1,   A08,   258,  1,   1832,    221,2,19940430,1335,-11.3347,   6.6667, 5256,     10.7,  25.1783,  36.7097,2,  36.6984,4,    201.5,2,     0.29,2,     0.00,2,    1.633,2,    0.968,2,    0.133,2,    1.807,2, -999.000,9,-999.0000,9,  -999.00,9,-999.000,   2056.3,2,    450.8,6,      9,-999.0000,-999.000,-999.000,9, 25.1759,-999.000
      06MT28_1,   A08,   258,  1,   1819,    220,2,19940430,1335,-11.3347,   6.6667, 5256,     41.2,  25.0670,  36.6841,2,-999.0000,9,    204.5,2,     0.38,2,     0.00,2,    1.645,2,    0.973,2,    0.131,2,    1.731,2, -999.000,9,-999.0000,9,  -999.00,9,-999.000,   2058.3,2,    463.5,2,     40,-999.0000,-999.000,-999.000,9, 25.0580,-999.000
      06MT28_1,   A08,   258,  1,   1820,    219,2,19940430,1335,-11.3347,   6.6667, 5256,     61.0,  19.1964,  36.0146,2,-999.0000,9,    181.4,2,     2.40,2,     6.04,2,    1.712,2,    0.981,2,    0.110,2,    0.687,2, -999.000,9,   1.7120,2,    -0.13,2,   7.021,   2111.8,2,    691.8,2,     60,  0.0060,   0.250,   0.023,2, 19.1854,-999.000
      06MT28_1,   A08,   258,  1,   1863,    218,2,19940430,1335,-11.3347,   6.6667, 5256,     80.7,  15.7181,  35.6423,2,-999.0000,9,     85.1,2,     5.27,2,    20.80,2,    1.362,2,    0.755,2,    0.079,2,    0.450,2, -999.000,9,   1.7300,6,     0.26,6,   7.160,   2186.3,2,   1224.7,2,     80,  0.0070,   0.250,   0.024,6, 15.7054,-999.000
      06MT28_1,   A08,   258,  1,   1861,    217,2,19940430,1335,-11.3347,   6.6667, 5256,    120.0,  13.2242,  35.3281,2,-999.0000,9,   -999.0,9,  -999.00,9,  -999.00,9, -999.000,9, -999.000,9, -999.000,9, -999.000,9, -999.000,9,-999.0000,9,  -999.00,9,-999.000,   -999.0,9,   -999.0,9,    119,-999.0000,-999.000,-999.000,9, 13.2075,-999.000
      06MT28_1,   A08,   258,  1,   1860,    216,2,19940430,1335,-11.3347,   6.6667, 5256,    181.3,  11.9066,  35.1632,2,-999.0000,9,     55.2,2,    10.15,2,    28.72,2,    0.563,2,    0.321,2,    0.010,2,    0.141,2, -999.000,9,   1.7560,2,     1.67,2,   7.393,   2217.6,2,   1700.0,2,    180,  0.0070,   0.250,   0.024,2, 11.8830,-999.000
      06MT28_1,   A08,   258,  1,   1859,    215,2,19940430,1335,-11.3347,   6.6667, 5256,    251.3,  11.0196,  35.0547,2,  35.0469,2,     56.4,2,    11.58,2,    30.05,2,    0.392,2,    0.227,2,    0.009,2,    0.126,2, -999.000,9,   1.7570,2,     1.09,2,   7.424,   2220.9,2,   1811.4,2,    250,  0.0070,   0.250,   0.024,2, 10.9885,-999.000
      06MT28_1,   A08,   258,  1,   1903,    214,2,19940430,1335,-11.3347,   6.6667, 5256,    351.1,   9.7270,  34.9132,2,-999.0000,9,     24.3,2,    15.40,2,    35.97,2,    0.113,2,    0.077,2,    0.009,2,    0.059,2, -999.000,9,   1.7730,2,     1.00,2,   7.498,   2253.5,2,   1646.4,2,    350,  0.0070,   0.250,   0.025,2,  9.6867,-999.000
      06MT28_1,   A08,   258,  1,   1902,    213,2,19940430,1335,-11.3347,   6.6667, 5256,    452.6,   8.2114,  34.7613,2,-999.0000,9,     24.0,2,    18.83,2,    38.91,2,    0.036,2,    0.021,2,    0.022,4,    0.045,2, -999.000,9,   1.7740,2,     0.65,2,   7.604,   2262.6,2,   1848.4,2,    452,  0.0070,   0.250,   0.025,2,  8.1642,-999.000
      06MT28_1,   A08,   258,  1,   1891,    212,2,19940430,1335,-11.3347,   6.6667, 5256,    549.1,   6.8832,  34.6352,2,  34.6297,2,     45.5,2,    21.88,2,    39.75,2,    0.014,2,    0.006,2,    0.031,4,    0.056,2, -999.000,9,   1.7850,2,     0.58,2,   7.686,   2257.9,2,   1755.7,2,    548,  0.0070,   0.250,   0.025,2,  6.8312,-999.000
      06MT28_1,   A08,   258,  1,   1889,    211,2,19940430,1335,-11.3347,   6.6667, 5256,    648.9,   5.7112,  34.5477,2,-999.0000,9,     71.7,2,    26.17,2,    39.54,2,    0.007,2,    0.002,2,    0.022,4,    0.040,2, -999.000,9,-999.0000,9,  -999.00,9,-999.000,   2251.8,2,   1705.3,2,    648,-999.0000,-999.000,-999.000,9,  5.6552,-999.000
      06MT28_1,   A08,   258,  1,   1888,    210,2,19940430,1335,-11.3347,   6.6667, 5256,    749.8,   4.9929,  34.5164,2,-999.0000,9,     96.3,2,    29.69,2,    37.99,2,    0.001,2,    0.000,2,    0.024,4,    0.024,2, -999.000,9,-999.0000,9,  -999.00,9,-999.000,   2243.3,2,   1548.8,2,    750,-999.0000,-999.000,-999.000,9,  4.9318,-999.000
      06MT28_1,   A08,   258,  1,   1887,    209,2,19940430,1335,-11.3347,   6.6667, 5256,    824.2,   4.5833,  34.5195,2,-999.0000,9,    113.2,2,    31.82,2,    36.45,2,    0.000,2,    0.000,2,    0.019,4,    0.021,2, -999.000,9,-999.0000,9,  -999.00,9,-999.000,   2237.3,2,   1435.2,2,    824,-999.0000,-999.000,-999.000,9,  4.5183,-999.000
      06MT28_1,   A08,   258,  1,   1923,    208,2,19940430,1335,-11.3347,   6.6667, 5256,    923.2,   4.2937,  34.5512,2,-999.0000,9,    123.1,2,    33.76,2,    35.19,2,    0.000,2,    0.000,2,    0.015,4,    0.009,2, -999.000,9,-999.0000,9,  -999.00,9,-999.000,   2237.0,2,   1383.6,6,    924,-999.0000,-999.000,-999.000,9,  4.2223,-999.000
      06MT28_1,   A08,   258,  1,   1920,    207,2,19940430,1335,-11.3347,   6.6667, 5256,    998.9,   4.1267,  34.5963,2,-999.0000,9,   -999.0,9,  -999.00,9,  -999.00,9,    0.032,4,    0.001,2,    0.164,4,    0.013,4, -999.000,9,-999.0000,9,  -999.00,9,-999.000,   -999.0,9,   -999.0,9,   1000,-999.0000,-999.000,-999.000,9,  4.0500,-999.000