BOTTLE,20220817CCHSIOAMB
EXPOCODE,SECT_ID,STNNBR,CASTNO,SAMPNO,BTLNBR,BTLNBR_FLAG_W,DATE,TIME,LATITUDE,LONGITUDE,DEPTH,CTDPRS,CTDTMP,CTDSAL,CTDSAL_FLAG_W,SALNTY,SALNTY_FLAG_W,OXYGEN,OXYGEN_FLAG_W,SILCAT,SILCAT_FLAG_W,NO2+NO3,NO2+NO3_FLAG_W,CFC-11,CFC-11_FLAG_W,CFC-12,CFC-12_FLAG_W,CFC113,CFC113_FLAG_W,CCL4,CCL4_FLAG_W,TRITUM,TRITUM_FLAG_W,HELIUM,HELIUM_FLAG_W,DELHE3,DELHE3_FLAG_W,NEON,TCARBN,TCARBN_FLAG_W,PCO2,PCO2_FLAG_W,CTDRAW,HELIER,DELHER,NEONER,NEON_FLAG_W,THETA,TRITER
,,,,,,,,,,,,DBAR,ITS-90,PSS-78,,PSS-78,,UMOL/KG,,UMOL/KG,,UMOL/KG,,PMOL/KG,,PMOL/KG,,PMOL/KG,,PMOL/KG,,TU,,NMOL/KG,,PERCNT,,NMOL/KG,UMOL/KG,,UATM,,,NMOL/KG,PERCNT,NMOL/KG,,ITS-90,TU
      06MT28_1,   A08,   192,  2,   1343,    324,2,19940409,0047,-11.3333, -27.3323, 5506,     18.1,  27.8338,  36.9808,2,  36.9804,2,    195.4,2,     0.77,2,     0.00,4,    1.513,2,    0.889,2,    0.093,4,    1.713,2, -999.000,9,-999.0000,9,  -999.00,9,-999.000,   -999.0,9,   -999.0,9,     11,-999.0000,-999.000,-999.000,9, 27.8295,-999.000
      06MT28_1,   A08,   192,  2,   1327,    323,2,19940409,0047,-11.3333, -27.3323, 5506,   1098.4,   3.8998,  34.5969,2,  34.5981,2,    169.9,2,    33.83,2,    30.40,2,    0.010,2,    0.004,2,    0.003,2,    0.096,2, -999.000,9,   1.8080,2,     2.86,2,   7.860,   2214.4,2,   1095.7,2,   1099,  0.0070,   0.250,   0.026,2,  3.8166,-999.000
      06MT28_1,   A08,   192,  2,   1326,    322,2,19940409,0047,-11.3333, -27.3323, 5506,   1301.2,   4.0790,  34.7917,2,-999.0000,9,    186.7,2,    26.56,2,    26.27,2,    0.003,2,    0.001,2,    0.002,2,    0.047,2,    0.025,2,   1.8180,2,     2.56,2,   7.899,   2200.1,2,    937.3,2,   1302,  0.0070,   0.250,   0.026,2,  3.9763,   0.005
      06MT28_1,   A08,   192,  2,   1324,    321,2,19940409,0047,-11.3333, -27.3323, 5506,   1503.0,   3.9511,  34.8935,2,-999.0000,9,    208.2,2,    22.44,2,    22.73,2,    0.007,2,    0.004,2,   -0.005,2,    0.079,2,    0.144,2,   1.7510,2,     2.51,2,   7.563,   2184.9,2,    867.8,2,   1503,  0.0070,   0.250,   0.025,2,  3.8314,   0.138
      06MT28_1,   A08,   192,  2,   1322,    320,2,19940409,0047,-11.3333, -27.3323, 5506,   1702.5,   3.7119,  34.9358,2,-999.0000,9,    227.1,2,    21.09,2,    20.52,2,    0.018,2,    0.010,2,    0.015,2,    0.118,2, -999.000,9,   1.8150,2,     2.17,2,   7.896,   2174.2,2,    802.3,2,   1702,  0.0070,   0.250,   0.026,2,  3.5767,-999.000
      06MT28_1,   A08,   192,  2,   1321,    319,2,19940409,0047,-11.3333, -27.3323, 5506,   1851.8,   3.4415,  34.9378,2,-999.0000,9,    233.5,2,    22.88,2,    19.94,2,    0.009,2,    0.005,2,    0.002,2,    0.105,2,    0.027,2,   1.8110,2,     2.48,2,   7.828,   2173.1,2,    783.3,2,   1851,  0.0070,   0.250,   0.026,2,  3.2962,   0.004
      06MT28_1,   A08,   192,  2,   1309,    318,2,19940409,0047,-11.3333, -27.3323, 5506,   2102.6,   3.1560,  34.9293,2,  34.9299,2,    236.2,2,    26.55,2,    19.82,2,    0.011,2,    0.010,2,    0.001,2,    0.083,2, -999.000,9,   1.8290,2,     3.58,2,   7.954,   2175.0,2,    776.0,2,   2101,  0.0070,   0.250,   0.026,2,  2.9916,-999.000
      06MT28_1,   A08,   192,  2,   1381,    317,2,19940409,0047,-11.3333, -27.3323, 5506,   2352.1,   2.9604,  34.9201,2,-999.0000,9,    234.6,2,    29.94,2,    20.08,2,    0.008,2,    0.004,2,    0.001,2,    0.057,2,    0.024,2,   1.8160,2,     4.11,2,   7.893,   2177.8,2,    787.1,2,   2349,  0.0070,   0.250,   0.026,2,  2.7756,   0.003
      06MT28_1,   A08,   192,  2,   1380,    316,2,19940409,0047,-11.3333, -27.3323, 5506,   2604.5,   2.8375,  34.9159,2,-999.0000,9,    234.4,2,    31.89,2,    20.06,2,    0.004,2,    0.002,2,    0.002,2,    0.052,2,    0.020,2,   1.6720,4,     3.84,2,   7.355,   2181.2,2,    726.9,3,   2601,  0.0060,   0.250,   0.024,4,  2.6304,   0.004
      06MT28_1,   A08,   192,  2,   1379,    315,2,19940409,0047,-11.3333, -27.3323, 5506,   2854.8,   2.7488,  34.9145,2,-999.0000,9,    235.9,2,    32.52,2,    19.95,2,    0.005,2,    0.002,2,    0.001,2,    0.049,2, -999.000,9,-999.0000,9,  -999.00,9,-999.000,   2180.4,2,    776.3,2,   2850,-999.0000,-999.000,-999.000,9,  2.5184,-999.000
      06MT28_1,   A08,   192,  2,   1378,    314,2,19940409,0047,-11.3333, -27.3323, 5506,   3105.6,   2.6741,  34.9132,2,  34.9158,2,    239.0,2,    32.48,2,    19.64,2,    0.006,2,    0.002,2,    0.001,2,    0.063,2,    0.032,2,   1.8270,2,     3.14,2,   7.931,   2180.2,2,    771.2,2,   3100,  0.0070,   0.250,   0.026,2,  2.4195,   0.100
      06MT28_1,   A08,   192,  2,   1377,    313,2,19940409,0047,-11.3333, -27.3323, 5506,   3357.2,   2.5698,  34.9091,2,-999.0000,9,    241.1,2,    33.30,2,    19.53,2,    0.006,2,    0.003,2,    0.001,2,    0.071,2, -999.000,9,-999.0000,9,  -999.00,9,-999.000,   2179.5,2,    764.8,2,   3351,-999.0000,-999.000,-999.000,9,  2.2911,-999.000
      06MT28_1,   A08,   192,  2,   1376,    312,2,19940409,0047,-11.3333, -27.3323, 5506,   3608.1,   2.4106,  34.8953,2,-999.0000,9,    238.3,2,    37.69,2,    19.98,2,    0.004,2,    0.003,2,    0.006,2,    0.068,2, -999.000,9,   1.8270,2,     2.71,2,   7.944,   2184.5,2,    789.2,2,   3601,  0.0070,   0.250,   0.026,2,  2.1087,-999.000
      06MT28_1,   A08,   192,  2,   1375,    311,2,19940409,0047,-11.3333, -27.3323, 5506,   3858.2,   2.0557,  34.8583,2,-999.0000,9,    233.4,2,    70.03,2,    24.47,2,    0.006,6,    0.004,6,    0.005,6,    0.040,6,    0.019,2,   1.8420,2,     3.45,2,   7.990,   2200.6,2,    829.8,6,   3850,  0.0070,   0.250,   0.026,2,  1.7359,   0.002
      06MT28_1,   A08,   192,  2,   1374,    310,2,19940409,0047,-11.3333, -27.3323, 5506,   4107.8,   1.5987,  34.8079,2,  34.8058,2,    223.9,2,    51.53,2,    21.81,2,    0.004,2,    0.002,2,    0.004,2,    0.024,2,    0.022,2,   1.8450,2,     4.67,2,   8.024,   2217.9,2,    879.6,2,   4100,  0.0070,   0.250,   0.026,2,  1.2644,   0.003
      06MT28_1,   A08,   192,  2,   1373,    309,2,19940409,0047,-11.3333, -27.3323, 5506,   4358.2,   1.1292,  34.7606,2,-999.0000,9,    216.4,2,    87.91,2,    26.86,2,    0.004,2,   -0.001,2,    0.002,2,    0.029,2, -999.000,9,-999.0000,9,  -999.00,9,-999.000,   2235.9,2,    947.9,2,   4350,-999.0000,-999.000,-999.000,9,  0.7812,-999.000
      06MT28_1,   A08,   192,  2,   1372,    308,2,19940409,0047,-11.3333, -27.3323, 5506,   4608.0,   0.9227,  34.7384,2,-999.0000,9,    213.3,2,    95.98,2,    27.87,2,    0.003,2,    0.002,2,    0.005,2,    0.028,2, -999.000,9,-999.0000,9,  -999.00,9,-999.000,   2245.4,2,    987.4,2,   4599,-999.0000,-999.000,-999.000,9,  0.5532,-999.000
      06MT28_1,   A08,   192,  2,   1371,    307,2,19940409,0047,-11.3333, -27.3323, 5506,   4859.7,   0.8135,  34.7236,2,-999.0000,9,    210.7,2,   101.13,2,    28.68,2,    0.012,2,    0.002,2,    0.002,2,    0.035,2, -999.000,9,-999.0000,9,  -999.00,9,-999.000,   2251.4,2,    973.2,2,   4850,-999.0000,-999.000,-999.000,9,  0.4187,-999.000
      06MT28_1,   A08,   192,  2,   1370,    306,2,19940409,0047,-11.3333, -27.3323, 5506,   5107.5,   0.7694,  34.7161,2,  34.7157,2,    209.3,2,   103.65,2,    28.93,2,    0.012,2,    0.003,2,    0.013,2,    0.049,2, -999.000,9,-999.0000,9,  -999.00,9,-999.000,   2253.2,2,    995.5,2,   5098,-999.0000,-999.000,-999.000,9,  0.3470,-999.000
      06MT28_1,   A08,   192,  2,   1369,    305,2,19940409,0047,-11.3333, -27.3323, 5506,   5359.3,   0.6973,  34.7065,2,-999.0000,9,    207.9,2,   107.19,2,    29.37,2,    0.013,2,    0.009,2,    0.003,2,    0.086,2, -999.000,9,-999.0000,9,  -999.00,9,-999.000,   2256.6,2,   1028.9,2,   5350,-999.0000,-999.000,-999.000,9,  0.2473,-999.000
      06MT28_1,   A08,   192,  2,   1368,    304,2,19940409,0047,-11.3333, -27.3323, 5506,   5518.8,   0.6501,  34.6998,2,-999.0000,9,    206.7,2,   109.79,2,    29.59,2,    0.025,2,    0.012,2,    0.005,2,    0.135,2, -999.000,9,-999.0000,9,  -999.00,9,-999.000,   2258.6,2,   1014.7,2,   5509,-999.0000,-999.000,-999.000,9,  0.1823,-999.000
      06MT28_1,   A08,   192,  2,   1367,    303,2,19940409,0047,-11.3333, -27.3323, 5506,   5588.4,   0.6421,  34.6981,2,-999.0000,9,    206.5,2,   110.13,2,    29.67,2,    0.029,2,    0.018,2,    0.003,2,    0.147,2, -999.000,9,-999.0000,9,  -999.00,9,-999.000,   2259.8,2,   1054.1,2,   5579,-999.0000,-999.000,-999.000,9,  0.1660,-999.000
      06MT28_1,   A08,   192,  2,   1366,    301,2,19940409,0047,-11.3333, -27.3323, 5506,   5622.6,   0.6322,  34.6960,2,  34.6929,2,    206.0,2,   110.54,2,    29.71,2,    0.032,2,    0.016,2,    0.005,2,    0.154,2, -999.000,9,-999.0000,9,  -999.00,9,-999.000,   2258.9,2,   1059.9,6,   5613,-999.0000,-999.000,-999.000,9,  0.1522,-999.000
      06MT28_1,   A08,   192,  2,   1365,    302,2,19940409,0047,-11.3333, -27.3323, 5506,   5622.6,   0.6322,  34.6960,2,  34.6912,2,    206.1,2,   110.87,2,    29.76,2,    0.034,2,    0.019,2,    0.010,2,    0.154,2, -999.000,9,-999.0000,9,  -999.00,9,-999.000,   2258.6,2,   1059.0,2,   5613,-999.0000,-999.000,-999.000,9,  0.1522,-999.000
      06MT28_1,   A08,   193,  1,   1364,    324,2,19940409,0920,-11.3338, -26.6663, 5541,     12.6,  27.9059,  36.9933,2,  36.9925,2,    194.3,2,     0.86,2,     0.00,4, -999.000,9, -999.000,9, -999.000,9, -999.000,9, -999.000,9,-999.0000,9,  -999.00,9,-999.000,   -999.0,9,   -999.0,9,      9,-999.0000,-999.000,-999.000,9, 27.9029,-999.000
      06MT28_1,   A08,   193,  1,   1409,    323,2,19940409,0920,-11.3338, -26.6663, 5541,    995.7,   3.8916,  34.5428,2,-999.0000,9,   -999.0,9,  -999.00,9,  -999.00,9, -999.000,9, -999.000,9, -999.000,9, -999.000,9, -999.000,9,-999.0000,9,  -999.00,9,-999.000,   -999.0,9,   -999.0,9,   1000,-999.0000,-999.000,-999.000,9,  3.8171,-999.000
      06MT28_1,   A08,   193,  1,   1406,    322,2,19940409,0920,-11.3338, -26.6663, 5541,   1196.3,   4.0342,  34.7156,2,-999.0000,9,    176.7,2,    29.52,2,    28.19,2, -999.000,9, -999.000,9, -999.000,9, -999.000,9, -999.000,9,-999.0000,9,  -999.00,9,-999.000,   -999.0,9,   -999.0,9,   1200,-999.0000,-999.000,-999.000,9,  3.9412,-999.000
      06MT28_1,   A08,   193,  1,   1405,    321,2,19940409,0920,-11.3338, -26.6663, 5541,   1396.5,   4.0460,  34.8463,2,-999.0000,9,    195.6,2,    24.17,2,    24.55,2, -999.000,9, -999.000,9, -999.000,9, -999.000,9, -999.000,9,-999.0000,9,  -999.00,9,-999.000,   -999.0,9,   -999.0,9,   1400,-999.0000,-999.000,-999.000,9,  3.9350,-999.000
      06MT28_1,   A08,   193,  1,   1404,    320,2,19940409,0920,-11.3338, -26.6663, 5541,   1597.1,   3.8472,  34.9179,2,-999.0000,9,    216.4,2,    21.67,2,    21.67,2, -999.000,9, -999.000,9, -999.000,9, -999.000,9, -999.000,9,-999.0000,9,  -999.00,9,-999.000,   -999.0,9,   -999.0,9,   1600,-999.0000,-999.000,-999.000,9,  3.7201,-999.000
      06MT28_1,   A08,   193,  1,   1403,    319,2,19940409,0920,-11.3338, -26.6663, 5541,   1797.4,   3.5627,  34.9419,2,-999.0000,9,    231.9,2,    21.37,2,    19.94,2, -999.000,9, -999.000,9, -999.000,9, -999.000,9, -999.000,9,-999.0000,9,  -999.00,9,-999.000,   -999.0,9,   -999.0,9,   1800,-999.0000,-999.000,-999.000,9,  3.4207,-999.000
      06MT28_1,   A08,   193,  1,   1402,    318,2,19940409,0920,-11.3338, -26.6663, 5541,   1998.6,   3.3486,  34.9500,2,  34.9504,2,    239.6,2,    22.11,2,    19.07,2, -999.000,9, -999.000,9, -999.000,9, -999.000,9, -999.000,9,-999.0000,9,  -999.00,9,-999.000,   -999.0,9,   -999.0,9,   2000,-999.0000,-999.000,-999.000,9,  3.1909,-999.000
      06MT28_1,   A08,   193,  1,   1401,    317,2,19940409,0920,-11.3338, -26.6663, 5541,   2249.9,   3.0941,  34.9405,2,-999.0000,9,    239.6,2,    25.21,2,    19.14,2, -999.000,9, -999.000,9, -999.000,9, -999.000,9, -999.000,9,-999.0000,9,  -999.00,9,-999.000,   -999.0,9,   -999.0,9,   2251,-999.0000,-999.000,-999.000,9,  2.9167,-999.000
      06MT28_1,   A08,   193,  1,   1400,    316,2,19940409,0920,-11.3338, -26.6663, 5541,   2501.3,   2.9050,  34.9236,2,-999.0000,9,    236.7,2,    29.82,2,    19.88,2, -999.000,9, -999.000,9, -999.000,9, -999.000,9, -999.000,9,-999.0000,9,  -999.00,9,-999.000,   -999.0,9,   -999.0,9,   2501,-999.0000,-999.000,-999.000,9,  2.7067,-999.000
      06MT28_1,   A08,   193,  1,   1399,    315,2,19940409,0920,-11.3338, -26.6663, 5541,   2750.5,   2.7946,  34.9184,2,-999.0000,9,    236.4,2,    31.59,2,    19.95,2, -999.000,9, -999.000,9, -999.000,9, -999.000,9, -999.000,9,-999.0000,9,  -999.00,9,-999.000,   -999.0,9,   -999.0,9,   2749,-999.0000,-999.000,-999.000,9,  2.5738,-999.000
      06MT28_1,   A08,   193,  1,   1398,    314,2,19940409,0920,-11.3338, -26.6663, 5541,   3000.9,   2.6955,  34.9148,2,  34.9129,2,    236.3,2,    32.88,2,    19.84,2, -999.000,9, -999.000,9, -999.000,9, -999.000,9, -999.000,9,-999.0000,9,  -999.00,9,-999.000,   -999.0,9,   -999.0,9,   2999,-999.0000,-999.000,-999.000,9,  2.4513,-999.000
      06MT28_1,   A08,   193,  1,   1397,    313,2,19940409,0920,-11.3338, -26.6663, 5541,   3251.7,   2.6123,  34.9117,2,-999.0000,9,    239.2,2,    32.84,2,    19.63,2, -999.000,9, -999.000,9, -999.000,9, -999.000,9, -999.000,9,-999.0000,9,  -999.00,9,-999.000,   -999.0,9,   -999.0,9,   3249,-999.0000,-999.000,-999.000,9,  2.3438,-999.000
      06MT28_1,   A08,   193,  1,   1396,    312,2,19940409,0920,-11.3338, -26.6663, 5541,   3501.7,   2.4787,  34.9030,2,-999.0000,9,    239.8,2,    35.07,2,    19.70,2, -999.000,9, -999.000,9, -999.000,9, -999.000,9, -999.000,9,-999.0000,9,  -999.00,9,-999.000,   -999.0,9,   -999.0,9,   3498,-999.0000,-999.000,-999.000,9,  2.1866,-999.000
      06MT28_1,   A08,   193,  1,   1395,    311,2,19940409,0920,-11.3338, -26.6663, 5541,   3751.5,   2.1683,  34.8694,2,-999.0000,9,    234.2,2,    47.46,2,    21.38,2, -999.000,9, -999.000,9, -999.000,9, -999.000,9, -999.000,9,-999.0000,9,  -999.00,9,-999.000,   -999.0,9,   -999.0,9,   3747,-999.0000,-999.000,-999.000,9,  1.8572,-999.000
      06MT28_1,   A08,   193,  1,   1383,    310,2,19940409,0920,-11.3338, -26.6663, 5541,   4004.0,   1.7401,  34.8250,2,  34.8241,2,    226.6,2,    63.49,2,    23.61,2, -999.000,9, -999.000,9, -999.000,9, -999.000,9, -999.000,9,-999.0000,9,  -999.00,9,-999.000,   -999.0,9,   -999.0,9,   3999,-999.0000,-999.000,-999.000,9,  1.4131,-999.000
      06MT28_1,   A08,   193,  1,   1451,    309,2,19940409,0920,-11.3338, -26.6663, 5541,   4255.1,   1.2647,  34.7753,2,-999.0000,9,    219.0,2,    81.65,2,    26.03,2, -999.000,9, -999.000,9, -999.000,9, -999.000,9, -999.000,9,-999.0000,9,  -999.00,9,-999.000,   -999.0,9,   -999.0,9,   4250,-999.0000,-999.000,-999.000,9,  0.9240,-999.000
      06MT28_1,   A08,   193,  1,   1452,    308,2,19940409,0920,-11.3338, -26.6663, 5541,   4503.5,   0.9590,  34.7439,2,-999.0000,9,    213.9,2,    93.58,2,    27.60,2, -999.000,9, -999.000,9, -999.000,9, -999.000,9, -999.000,9,-999.0000,9,  -999.00,9,-999.000,   -999.0,9,   -999.0,9,   4498,-999.0000,-999.000,-999.000,9,  0.6001,-999.000
      06MT28_1,   A08,   193,  1,   1450,    307,2,19940409,0920,-11.3338, -26.6663, 5541,   4756.1,   0.8328,  34.7274,2,-999.0000,9,    211.2,2,    98.92,2,    28.22,2, -999.000,9, -999.000,9, -999.000,9, -999.000,9, -999.000,9,-999.0000,9,  -999.00,9,-999.000,   -999.0,9,   -999.0,9,   4750,-999.0000,-999.000,-999.000,9,  0.4493,-999.000
      06MT28_1,   A08,   193,  1,   1449,    306,2,19940409,0920,-11.3338, -26.6663, 5541,   5006.1,   0.7746,  34.7195,2,  34.7181,2,    209.0,2,   102.01,2,    28.76,2, -999.000,9, -999.000,9, -999.000,9, -999.000,9, -999.000,9,-999.0000,9,  -999.00,9,-999.000,   -999.0,9,   -999.0,9,   5000,-999.0000,-999.000,-999.000,9,  0.3640,-999.000
      06MT28_1,   A08,   193,  1,   1448,    305,2,19940409,0920,-11.3338, -26.6663, 5541,   5257.2,   0.7357,  34.7112,2,-999.0000,9,    209.1,2,   104.43,2,    29.01,2, -999.000,9, -999.000,9, -999.000,9, -999.000,9, -999.000,9,-999.0000,9,  -999.00,9,-999.000,   -999.0,9,   -999.0,9,   5251,-999.0000,-999.000,-999.000,9,  0.2967,-999.000
      06MT28_1,   A08,   193,  1,   1447,    304,2,19940409,0920,-11.3338, -26.6663, 5541,   5552.3,   0.7251,  34.7068,2,-999.0000,9,    207.0,2,   106.60,2,    29.25,2, -999.000,9, -999.000,9, -999.000,9, -999.000,9, -999.000,9,-999.0000,9,  -999.00,9,-999.000,   -999.0,9,   -999.0,9,   5546,-999.0000,-999.000,-999.000,9,  0.2503,-999.000
      06MT28_1,   A08,   193,  1,   1446,    303,2,19940409,0920,-11.3338, -26.6663, 5541,   5621.7,   0.7320,  34.7068,2,-999.0000,9,    206.8,2,   106.15,2,    29.25,2, -999.000,9, -999.000,9, -999.000,9, -999.000,9, -999.000,9,-999.0000,9,  -999.00,9,-999.000,   -999.0,9,   -999.0,9,   5616,-999.0000,-999.000,-999.000,9,  0.2483,-999.000
      06MT28_1,   A08,   193,  1,   1445,    301,2,19940409,0920,-11.3338, -26.6663, 5541,   5652.1,   0.7340,  34.7057,2,  34.7052,2,    206.8,2,   106.18,2,    29.20,2, -999.000,9, -999.000,9, -999.000,9, -999.000,9, -999.000,9,-999.0000,9,  -999.00,9,-999.000,   -999.0,9,   -999.0,9,   5646,-999.0000,-999.000,-999.000,9,  0.2465,-999.000
      06MT28_1,   A08,   193,  1,   1444,    302,2,19940409,0920,-11.3338, -26.6663, 5541,   5652.4,   0.7340,  34.7056,2,  34.7059,2,    206.6,2,   106.18,2,    29.15,2, -999.000,9, -999.000,9, -999.000,9, -999.000,9, -999.000,9,-999.0000,9,  -999.00,9,-999.000,   -999.0,9,   -999.0,9,   5646,-999.0000,-999.000,-999.000,9,  0.2464,-999.000