BOTTLE,20220817CCHSIOAMB
EXPOCODE,SECT_ID,STNNBR,CASTNO,SAMPNO,BTLNBR,BTLNBR_FLAG_W,DATE,TIME,LATITUDE,LONGITUDE,DEPTH,CTDPRS,CTDTMP,CTDSAL,CTDSAL_FLAG_W,SALNTY,SALNTY_FLAG_W,OXYGEN,OXYGEN_FLAG_W,SILCAT,SILCAT_FLAG_W,NO2+NO3,NO2+NO3_FLAG_W,CFC-11,CFC-11_FLAG_W,CFC-12,CFC-12_FLAG_W,CFC113,CFC113_FLAG_W,CCL4,CCL4_FLAG_W,TRITUM,TRITUM_FLAG_W,HELIUM,HELIUM_FLAG_W,DELHE3,DELHE3_FLAG_W,NEON,TCARBN,TCARBN_FLAG_W,PCO2,PCO2_FLAG_W,CTDRAW,HELIER,DELHER,NEONER,NEON_FLAG_W,THETA,TRITER
,,,,,,,,,,,,DBAR,ITS-90,PSS-78,,PSS-78,,UMOL/KG,,UMOL/KG,,UMOL/KG,,PMOL/KG,,PMOL/KG,,PMOL/KG,,PMOL/KG,,TU,,NMOL/KG,,PERCNT,,NMOL/KG,UMOL/KG,,UATM,,,NMOL/KG,PERCNT,NMOL/KG,,ITS-90,TU
      06MT28_1,   A08,   260,  2,   2152,    324,2,19940501,0832,-11.3338,   8.0003, 4859,     16.3,  26.7856,  35.6221,2,  35.7716,4,    197.7,2,     0.96,2,     0.00,2,    1.541,2,    0.931,2,    0.130,2,    1.769,2, -999.000,9,-999.0000,9,  -999.00,9,-999.000,   2011.6,2,   -999.0,9,     13,-999.0000,-999.000,-999.000,9, 26.7819,-999.000
      06MT28_1,   A08,   260,  2,   2190,    323,2,19940501,0832,-11.3338,   8.0003, 4859,    596.3,   6.5495,  34.6060,2,  34.6072,2,     46.1,2,    23.60,2,    40.50,2,    0.017,2,    0.010,2,   -0.007,4,    0.043,2, -999.000,9,-999.0000,9,  -999.00,9,-999.000,   2262.8,2,   1845.7,2,    599,-999.0000,-999.000,-999.000,9,  6.4944,-999.000
      06MT28_1,   A08,   260,  2,   2187,    322,2,19940501,0832,-11.3338,   8.0003, 4859,    695.9,   5.5843,  34.5387,2,-999.0000,9,     72.7,2,    26.83,2,    39.62,2,    0.004,2,    0.000,2,   -0.007,4,    0.027,2,    0.007,2,   1.7880,2,     0.67,2,   7.723,   2250.4,2,   1688.7,2,    699,  0.0070,   0.240,   0.025,2,  5.5247,   0.003
      06MT28_1,   A08,   260,  2,   2186,    321,2,19940501,0832,-11.3338,   8.0003, 4859,    846.7,   4.6602,  34.5117,2,-999.0000,9,    111.0,2,    31.68,2,    36.73,2,    0.002,2,    0.000,2,   -0.007,4,    0.019,2, -999.000,9,   1.7870,2,     1.86,2,   7.738,   2239.0,2,   1451.0,2,    850,  0.0070,   0.250,   0.026,2,  4.5928,-999.000
      06MT28_1,   A08,   260,  2,   2185,    320,2,19940501,0832,-11.3338,   8.0003, 4859,    996.1,   4.2117,  34.5758,2,  34.5784,2,    131.4,2,    33.75,2,    34.13,2,    0.001,2,    0.000,2,   -0.007,4,    0.009,2, -999.000,9,-999.0000,9,  -999.00,9,-999.000,   2234.2,2,   1334.8,2,   1000,-999.0000,-999.000,-999.000,9,  4.1347,-999.000
      06MT28_1,   A08,   260,  2,   2184,    319,2,19940501,0832,-11.3338,   8.0003, 4859,   1197.2,   3.9848,  34.7145,2,-999.0000,9,    153.6,2,    32.09,2,    30.29,2,    0.002,2,    0.000,2,   -0.007,4,    0.005,3,    0.042,2,   1.8020,2,     2.27,2,   7.802,   2221.8,2,   1156.0,2,   1201,  0.0070,   0.240,   0.025,2,  3.8922,   0.056
      06MT28_1,   A08,   260,  2,   2183,    318,2,19940501,0832,-11.3338,   8.0003, 4859,   1395.8,   3.8504,  34.8428,2,-999.0000,9,    182.6,2,    27.78,2,    26.07,2,    0.001,2,    0.000,2,   -0.007,4,    0.006,2, -999.000,9,-999.0000,9,  -999.00,9,-999.000,   2201.8,2,    992.9,2,   1399,-999.0000,-999.000,-999.000,9,  3.7415,-999.000
      06MT28_1,   A08,   260,  2,   2182,    317,2,19940501,0832,-11.3338,   8.0003, 4859,   1597.0,   3.7239,  34.9042,2,  34.9079,2,    200.9,2,    25.66,2,    23.38,2,    0.002,2,    0.000,2,   -0.007,4,    0.008,2, -999.000,9,   1.8130,2,     1.64,2,   7.871,   2189.9,2,    903.7,2,   1600,  0.0070,   0.250,   0.026,2,  3.5983,-999.000
      06MT28_1,   A08,   260,  2,   2181,    316,2,19940501,0832,-11.3338,   8.0003, 4859,   1797.2,   3.5252,  34.9216,2,-999.0000,9,    209.2,2,    26.59,2,    22.41,2,    0.001,2,    0.000,2,   -0.007,4,    0.006,2, -999.000,9,-999.0000,9,  -999.00,9,-999.000,   2186.6,2,    876.0,2,   1799,-999.0000,-999.000,-999.000,9,  3.3838,-999.000
      06MT28_1,   A08,   260,  2,   2179,    315,2,19940501,0832,-11.3338,   8.0003, 4859,   1997.6,   3.3187,  34.9274,2,  34.9274,2,    213.5,2,    29.03,2,    22.01,2,    0.002,2,    0.000,2,   -0.007,4,    0.004,2, -999.000,9,-999.0000,9,  -999.00,9,-999.000,   2187.4,2,    857.0,2,   1999,-999.0000,-999.000,-999.000,9,  3.1617,-999.000
      06MT28_1,   A08,   260,  2,   2223,    314,2,19940501,0832,-11.3338,   8.0003, 4859,   2248.4,   3.0664,  34.9223,2,-999.0000,9,    217.3,2,    32.51,2,    21.70,2,    0.004,2,    0.000,2,    0.047,4,    0.006,2,    0.000,2,   1.8190,6,     3.02,6,   7.907,   2189.5,2,    839.6,2,   2249,  0.0070,   0.250,   0.026,6,  2.8897,   0.003
      06MT28_1,   A08,   260,  2,   2222,    313,2,19940501,0832,-11.3338,   8.0003, 4859,   2498.8,   2.8933,  34.9176,2,-999.0000,9,    219.2,2,    35.50,2,    21.68,2, -999.000,9, -999.000,9, -999.000,9, -999.000,9, -999.000,9,-999.0000,9,  -999.00,9,-999.000,   2190.2,2,    828.4,2,   2499,-999.0000,-999.000,-999.000,9,  2.6955,-999.000
      06MT28_1,   A08,   260,  2,   2221,    312,2,19940501,0832,-11.3338,   8.0003, 4859,   2750.1,   2.7424,  34.9123,2,-999.0000,9,    219.0,2,    38.87,2,    21.85,2,   -0.001,2,    0.000,2,   -0.007,4,    0.003,2, -999.000,9,-999.0000,9,  -999.00,9,-999.000,   2195.5,2,    841.0,2,   2749,-999.0000,-999.000,-999.000,9,  2.5227,-999.000
      06MT28_1,   A08,   260,  2,   2220,    311,2,19940501,0832,-11.3338,   8.0003, 4859,   3001.6,   2.6315,  34.9073,2,  34.9081,2,    219.8,2,    41.66,2,    22.01,2,    0.000,2,    0.000,2,   -0.007,4,    0.003,2, -999.000,9,   1.8380,2,     3.76,2,   7.997,   2200.3,2,    848.3,2,   3000,  0.0070,   0.250,   0.026,2,  2.3887,-999.000
      06MT28_1,   A08,   260,  2,   2219,    310,2,19940501,0832,-11.3338,   8.0003, 4859,   3252.1,   2.5293,  34.9017,2,-999.0000,9,    221.3,2,    45.11,2,    22.27,2, -999.000,9, -999.000,9, -999.000,9, -999.000,9, -999.000,9,-999.0000,9,  -999.00,9,-999.000,   2205.6,2,    897.8,3,   3249,-999.0000,-999.000,-999.000,9,  2.2627,-999.000
      06MT28_1,   A08,   260,  2,   2218,    309,2,19940501,0832,-11.3338,   8.0003, 4859,   3502.6,   2.4408,  34.8966,2,-999.0000,9,    211.5,2,    49.30,2,    22.53,2,    0.000,2,    0.000,2,   -0.007,4,    0.004,2,    0.004,2,   1.9620,4,     3.42,2,   8.361,   2215.4,2,    853.0,2,   3499,  0.0070,   0.240,   0.027,4,  2.1496,   0.002
      06MT28_1,   A08,   260,  2,   2234,    308,2,19940501,0832,-11.3338,   8.0003, 4859,   3754.7,   2.3677,  34.8898,2,-999.0000,9,    210.5,2,    51.42,2,    22.60,2,    0.000,2,    0.000,2,   -0.007,4,    0.004,2, -999.000,9,   1.8420,2,     3.19,2,   8.013,   2219.8,2,    842.9,2,   3751,  0.0070,   0.250,   0.026,2,  2.0509,-999.000
      06MT28_1,   A08,   260,  2,   2230,    307,2,19940501,0832,-11.3338,   8.0003, 4859,   4004.9,   2.3489,  34.8876,2,  34.8887,2,    210.6,2,    52.40,2,    22.76,2, -999.000,9, -999.000,9, -999.000,9, -999.000,9, -999.000,9,-999.0000,9,  -999.00,9,-999.000,   2221.9,2,    846.1,2,   4000,-999.0000,-999.000,-999.000,9,  2.0044,-999.000
      06MT28_1,   A08,   260,  2,   2228,    306,2,19940501,0832,-11.3338,   8.0003, 4859,   4255.1,   2.3554,  34.8858,2,-999.0000,9,    214.2,2,    50.75,2,    22.37,2,    0.002,2,    0.000,2,   -0.007,4,    0.006,2, -999.000,9,-999.0000,9,  -999.00,9,-999.000,   2217.0,2,    837.6,2,   4250,-999.0000,-999.000,-999.000,9,  1.9818,-999.000
      06MT28_1,   A08,   260,  2,   2227,    305,2,19940501,0832,-11.3338,   8.0003, 4859,   4504.2,   2.3670,  34.8843,2,-999.0000,9,    217.6,2,    50.04,2,    22.16,2,    0.001,2,    0.000,2,   -0.007,4,    0.009,2,    0.007,2,   1.8360,6,     3.22,6,   7.998,   2214.6,2,    840.8,2,   4499,  0.0070,   0.250,   0.026,6,  1.9634,   0.002
      06MT28_1,   A08,   260,  2,   2225,    304,2,19940501,0832,-11.3338,   8.0003, 4859,   4755.3,   2.3874,  34.8827,2,-999.0000,9,    216.4,2,    50.22,2,    22.23,2,    0.002,2,    0.000,2,   -0.007,4,    0.011,2, -999.000,9,-999.0000,9,  -999.00,9,-999.000,   2214.2,2,    825.6,2,   4749,-999.0000,-999.000,-999.000,9,  1.9525,-999.000
      06MT28_1,   A08,   260,  2,   2226,    303,2,19940501,0832,-11.3338,   8.0003, 4859,   4866.2,   2.3978,  34.8815,2,-999.0000,9,    216.6,2,    50.57,2,    22.17,2,    0.002,2,    0.000,2,   -0.007,4,    0.012,2, -999.000,9,-999.0000,9,  -999.00,9,-999.000,   2216.6,2,    819.8,2,   4860,-999.0000,-999.000,-999.000,9,  1.9487,-999.000
      06MT28_1,   A08,   260,  2,   2224,    302,2,19940501,0832,-11.3338,   8.0003, 4859,   4898.2,   2.4020,  34.8815,2,  34.8846,2,    216.3,2,    50.66,2,    22.17,2, -999.000,9, -999.000,9, -999.000,9, -999.000,9, -999.000,9,-999.0000,9,  -999.00,9,-999.000,   2215.6,2,    830.1,2,   4892,-999.0000,-999.000,-999.000,9,  1.9488,-999.000
      06MT28_1,   A08,   260,  2,   2269,    301,2,19940501,0832,-11.3338,   8.0003, 4859,   4898.3,   2.4020,  34.8815,2,  34.8850,2,    216.2,2,    50.52,2,    22.21,2,    0.002,2,    0.000,2,   -0.007,4,    0.012,2,    0.012,2,   1.8290,2,     3.15,2,   7.959,   2215.3,2,    820.7,6,   4892,  0.0070,   0.240,   0.025,2,  1.9488,   0.003
      06MT28_1,   A08,   261,  1,   2267,    219,2,19940501,1352,-11.3335,   8.4993, 4789,     11.4,  26.8478,  35.7352,2,  35.7391,2,    198.5,2,     0.77,2,     0.00,2, -999.000,9, -999.000,9, -999.000,9, -999.000,9, -999.000,9,-999.0000,9,  -999.00,9,-999.000,   -999.0,9,   -999.0,9,     10,-999.0000,-999.000,-999.000,9, 26.8452,-999.000
      06MT28_1,   A08,   261,  1,   2265,    218,2,19940501,1352,-11.3335,   8.4993, 4789,     41.6,  18.6067,  35.7243,2,-999.0000,9,    133.6,2,     3.74,2,    12.76,2, -999.000,9, -999.000,9, -999.000,9, -999.000,9, -999.000,9,-999.0000,9,  -999.00,9,-999.000,   -999.0,9,   -999.0,9,     41,-999.0000,-999.000,-999.000,9, 18.5994,-999.000
      06MT28_1,   A08,   261,  1,   2266,    217,2,19940501,1352,-11.3335,   8.4993, 4789,     60.6,  16.3701,  35.6531,2,-999.0000,9,     46.5,2,     6.90,2,    23.00,2, -999.000,9, -999.000,9, -999.000,9, -999.000,9, -999.000,9,-999.0000,9,  -999.00,9,-999.000,   -999.0,9,   -999.0,9,     60,-999.0000,-999.000,-999.000,9, 16.3603,-999.000
      06MT28_1,   A08,   261,  1,   2263,    216,2,19940501,1352,-11.3335,   8.4993, 4789,     77.8,  15.7386,  35.5922,2,-999.0000,9,     41.5,2,     7.38,2,    24.53,2, -999.000,9, -999.000,9, -999.000,9, -999.000,9, -999.000,9,-999.0000,9,  -999.00,9,-999.000,   -999.0,9,   -999.0,9,     77,-999.0000,-999.000,-999.000,9, 15.7264,-999.000
      06MT28_1,   A08,   261,  1,   2262,    215,2,19940501,1352,-11.3335,   8.4993, 4789,    119.6,  14.6650,  35.4783,2,-999.0000,9,     42.8,2,     8.34,2,    25.87,2, -999.000,9, -999.000,9, -999.000,9, -999.000,9, -999.000,9,-999.0000,9,  -999.00,9,-999.000,   -999.0,9,   -999.0,9,    119,-999.0000,-999.000,-999.000,9, 14.6471,-999.000
      06MT28_1,   A08,   261,  1,   2261,    214,2,19940501,1352,-11.3335,   8.4993, 4789,    177.9,  13.4942,  35.3346,2,-999.0000,9,     47.8,2,     9.10,2,    27.01,2, -999.000,9, -999.000,9, -999.000,9, -999.000,9, -999.000,9,-999.0000,9,  -999.00,9,-999.000,   -999.0,9,   -999.0,9,    177,-999.0000,-999.000,-999.000,9, 13.4690,-999.000
      06MT28_1,   A08,   261,  1,   2260,    213,2,19940501,1352,-11.3335,   8.4993, 4789,    250.4,  11.9514,  35.1528,2,  35.1543,2,     45.7,2,    10.82,2,    29.67,2, -999.000,9, -999.000,9, -999.000,9, -999.000,9, -999.000,9,-999.0000,9,  -999.00,9,-999.000,   -999.0,9,   -999.0,9,    250,-999.0000,-999.000,-999.000,9, 11.9186,-999.000
      06MT28_1,   A08,   261,  1,   2259,    212,2,19940501,1352,-11.3335,   8.4993, 4789,    350.7,   9.9731,  34.9308,2,-999.0000,9,     19.1,2,    15.11,2,    35.87,2, -999.000,9, -999.000,9, -999.000,9, -999.000,9, -999.000,9,-999.0000,9,  -999.00,9,-999.000,   -999.0,9,   -999.0,9,    350,-999.0000,-999.000,-999.000,9,  9.9322,-999.000
      06MT28_1,   A08,   261,  1,   2258,    211,2,19940501,1352,-11.3335,   8.4993, 4789,    450.7,   7.9991,  34.7324,2,-999.0000,9,     27.7,2,    19.79,2,    39.10,2, -999.000,9, -999.000,9, -999.000,9, -999.000,9, -999.000,9,-999.0000,9,  -999.00,9,-999.000,   -999.0,9,   -999.0,9,    450,-999.0000,-999.000,-999.000,9,  7.9529,-999.000
      06MT28_1,   A08,   261,  1,   2257,    210,2,19940501,1352,-11.3335,   8.4993, 4789,    550.0,   6.6916,  34.6187,2,  34.6161,2,     47.5,2,    23.22,2,    39.94,2, -999.000,9, -999.000,9, -999.000,9, -999.000,9, -999.000,9,-999.0000,9,  -999.00,9,-999.000,   -999.0,9,   -999.0,9,    550,-999.0000,-999.000,-999.000,9,  6.6404,-999.000
      06MT28_1,   A08,   261,  1,   2256,    209,2,19940501,1352,-11.3335,   8.4993, 4789,    642.4,   5.9007,  34.5580,2,-999.0000,9,     57.6,2,    25.60,2,    39.87,2, -999.000,9, -999.000,9, -999.000,9, -999.000,9, -999.000,9,-999.0000,9,  -999.00,9,-999.000,   -999.0,9,   -999.0,9,    642,-999.0000,-999.000,-999.000,9,  5.8444,-999.000
      06MT28_1,   A08,   261,  1,   2254,    208,2,19940501,1352,-11.3335,   8.4993, 4789,    749.6,   5.0944,  34.5137,2,-999.0000,9,     91.3,2,    29.54,2,    38.23,2, -999.000,9, -999.000,9, -999.000,9, -999.000,9, -999.000,9,-999.0000,9,  -999.00,9,-999.000,   -999.0,9,   -999.0,9,    750,-999.0000,-999.000,-999.000,9,  5.0327,-999.000
      06MT28_1,   A08,   261,  1,   2299,    207,2,19940501,1352,-11.3335,   8.4993, 4789,    999.0,   4.1881,  34.5885,2,  34.5893,2,   -999.0,9,  -999.00,9,  -999.00,9, -999.000,9, -999.000,9, -999.000,9, -999.000,9, -999.000,9,-999.0000,9,  -999.00,9,-999.000,   -999.0,9,   -999.0,9,   1000,-999.0000,-999.000,-999.000,9,  4.1110,-999.000