BOTTLE,20220817CCHSIOAMB
EXPOCODE,SECT_ID,STNNBR,CASTNO,SAMPNO,BTLNBR,BTLNBR_FLAG_W,DATE,TIME,LATITUDE,LONGITUDE,DEPTH,CTDPRS,CTDTMP,CTDSAL,CTDSAL_FLAG_W,SALNTY,SALNTY_FLAG_W,OXYGEN,OXYGEN_FLAG_W,SILCAT,SILCAT_FLAG_W,NO2+NO3,NO2+NO3_FLAG_W,CFC-11,CFC-11_FLAG_W,CFC-12,CFC-12_FLAG_W,CFC113,CFC113_FLAG_W,CCL4,CCL4_FLAG_W,TRITUM,TRITUM_FLAG_W,HELIUM,HELIUM_FLAG_W,DELHE3,DELHE3_FLAG_W,NEON,TCARBN,TCARBN_FLAG_W,PCO2,PCO2_FLAG_W,CTDRAW,HELIER,DELHER,NEONER,NEON_FLAG_W,THETA,TRITER
,,,,,,,,,,,,DBAR,ITS-90,PSS-78,,PSS-78,,UMOL/KG,,UMOL/KG,,UMOL/KG,,PMOL/KG,,PMOL/KG,,PMOL/KG,,PMOL/KG,,TU,,NMOL/KG,,PERCNT,,NMOL/KG,UMOL/KG,,UATM,,,NMOL/KG,PERCNT,NMOL/KG,,ITS-90,TU
      06MT28_1,   A08,   234,  2,   3463,    324,2,19940422,1250,-11.3333,  -6.0002, 4505,     15.0,  26.3530,  36.7391,2,  36.7386,2,    194.0,2,     0.96,2,     0.00,2,    1.583,2,    0.928,2,    0.032,4,    1.706,2, -999.000,9,-999.0000,9,  -999.00,9,-999.000,   2058.8,2,   -999.0,9,     12,-999.0000,-999.000,-999.000,9, 26.3496,-999.000
      06MT28_1,   A08,   234,  2,   3523,    323,2,19940422,1250,-11.3333,  -6.0002, 4505,    646.1,   5.7172,  34.5212,2,-999.0000,9,    111.4,2,    24.16,2,    34.76,2, -999.000,9, -999.000,9, -999.000,9, -999.000,9, -999.000,9,-999.0000,9,  -999.00,9,-999.000,   2225.9,2,   1369.5,2,    650,-999.0000,-999.000,-999.000,9,  5.6615,-999.000
      06MT28_1,   A08,   234,  2,   3520,    322,2,19940422,1250,-11.3333,  -6.0002, 4505,    746.7,   5.1074,  34.5092,2,-999.0000,9,    109.0,2,    28.25,2,    36.65,2,    0.006,2,    0.005,2,    0.001,2,    0.050,2, -999.000,9,   1.7270,3,     1.52,2,   7.365,   2238.6,2,   1430.8,2,    751,  0.0070,   0.250,   0.024,3,  5.0460,-999.000
      06MT28_1,   A08,   234,  2,   3519,    321,2,19940422,1250,-11.3333,  -6.0002, 4505,    820.6,   4.6791,  34.5027,2,-999.0000,9,    121.6,2,    30.44,2,    35.40,2,    0.008,2,    0.004,2,    0.007,2,    0.053,2,    0.007,2,   1.7390,3,     1.45,3,   7.582,   2230.4,2,   1395.4,2,    825,  0.0150,   0.240,   0.062,3,  4.6139,   0.065
      06MT28_1,   A08,   234,  2,   3518,    320,2,19940422,1250,-11.3333,  -6.0002, 4505,    920.5,   4.3404,  34.5239,2,-999.0000,9,    137.3,2,    32.04,2,    33.86,2,    0.004,2,    0.002,2,    0.007,2,    0.043,2, -999.000,9,   1.7400,3,     2.99,2,   7.729,   2225.6,2,   1269.4,2,    925,  0.0070,   0.250,   0.026,3,  4.2689,-999.000
      06MT28_1,   A08,   234,  2,   3517,    319,2,19940422,1250,-11.3333,  -6.0002, 4505,   1095.5,   4.0283,  34.6187,2,  34.6212,2,    153.5,2,    32.59,2,    31.25,2,    0.005,2,    0.002,2,    0.003,2,    0.022,2,    0.007,2,   1.7980,2,     2.47,2,   7.818,   2219.6,2,   1151.1,2,   1100,  0.0070,   0.240,   0.025,2,  3.9442,   0.003
      06MT28_1,   A08,   234,  2,   3515,    318,2,19940422,1250,-11.3333,  -6.0002, 4505,   1294.3,   3.9081,  34.7589,2,-999.0000,9,    175.1,2,    29.13,2,    27.51,2,    0.004,2,    0.002,2,    0.008,2,    0.014,2, -999.000,9,-999.0000,9,  -999.00,9,-999.000,   2204.8,2,   1017.2,2,   1298,-999.0000,-999.000,-999.000,9,  3.8077,-999.000
      06MT28_1,   A08,   234,  2,   3514,    317,2,19940422,1250,-11.3333,  -6.0002, 4505,   1496.3,   3.7851,  34.8710,2,  34.8690,2,    197.5,2,    25.39,2,    23.87,2,    0.004,2,    0.003,2,    0.008,2,    0.030,2,    0.011,2,   1.8130,2,     2.72,2,   7.885,   2191.2,2,    931.2,2,   1500,  0.0070,   0.240,   0.025,2,  3.6679,   0.005
      06MT28_1,   A08,   234,  2,   3513,    316,2,19940422,1250,-11.3333,  -6.0002, 4505,   1687.9,   3.6079,  34.9094,2,-999.0000,9,    209.1,2,    25.18,2,    22.42,2,    0.003,2,    0.002,2,    0.004,2,    0.028,2, -999.000,9,   1.8190,2,     2.66,2,   7.867,   -999.0,9,   -999.0,9,   1691,  0.0070,   0.250,   0.026,2,  3.4755,-999.000
      06MT28_1,   A08,   234,  2,   3512,    315,2,19940422,1250,-11.3333,  -6.0002, 4505,   1895.5,   3.4200,  34.9265,2,-999.0000,9,    219.3,2,    25.72,2,    21.17,2,    0.006,2,    0.004,2,    0.001,2,    0.042,2,    0.013,2,   1.8240,2,     3.39,2,   7.927,   2182.3,2,    816.5,2,   1898,  0.0070,   0.250,   0.026,2,  3.2710,   0.004
      06MT28_1,   A08,   234,  2,   3511,    314,2,19940422,1250,-11.3333,  -6.0002, 4505,   2099.4,   3.2236,  34.9250,2,  34.9250,2,    221.8,2,    28.26,2,    21.05,2,    0.003,2,    0.003,2,    0.007,2,    0.030,2, -999.000,9,   1.8320,2,     4.08,2,   7.961,   2181.1,2,    814.9,2,   2101,  0.0070,   0.250,   0.026,2,  3.0585,-999.000
      06MT28_1,   A08,   234,  2,   3510,    313,2,19940422,1250,-11.3333,  -6.0002, 4505,   2347.2,   2.9804,  34.9170,2,-999.0000,9,    221.6,2,    32.78,2,    21.13,2,    0.004,2,    0.003,2,    0.007,2,    0.017,2, -999.000,9,   1.8280,2,     4.52,2,   7.931,   2187.4,2,    804.2,2,   2348,  0.0070,   0.250,   0.026,2,  2.7957,-999.000
      06MT28_1,   A08,   234,  2,   3508,    312,2,19940422,1250,-11.3333,  -6.0002, 4505,   2600.2,   2.7723,  34.9091,2,-999.0000,9,    221.1,2,    37.00,2,    21.39,2,    0.002,2,    0.001,2,    0.029,4,    0.008,2,    0.021,2,   1.8320,2,     3.91,2,   7.977,   2191.6,2,    810.3,2,   2600,  0.0070,   0.240,   0.025,2,  2.5669,   0.021
      06MT28_1,   A08,   234,  2,   3497,    311,2,19940422,1250,-11.3333,  -6.0002, 4505,   2850.6,   2.5985,  34.9002,2,  34.8995,2,    221.4,2,    40.74,2,    21.65,2,    0.002,2,    0.001,2,    0.010,2,    0.007,4, -999.000,9,   1.8300,2,     3.86,2,   7.920,   2194.6,2,    812.7,2,   2850,  0.0070,   0.250,   0.026,2,  2.3717,-999.000
      06MT28_1,   A08,   234,  2,   3563,    310,2,19940422,1250,-11.3333,  -6.0002, 4505,   3102.5,   2.4979,  34.8945,2,-999.0000,9,    220.7,2,    43.15,2,    21.62,2,    0.003,2,    0.001,2,    0.014,2,    0.008,2, -999.000,9,-999.0000,9,  -999.00,9,-999.000,   2199.4,2,    819.4,2,   3101,-999.0000,-999.000,-999.000,9,  2.2477,-999.000
      06MT28_1,   A08,   234,  2,   3564,    309,2,19940422,1250,-11.3333,  -6.0002, 4505,   3351.7,   2.4393,  34.8920,2,-999.0000,9,    220.3,2,    44.71,2,    21.88,2,    0.004,2,    0.002,2,    0.004,2,    0.010,2,    0.173,2,   1.8370,2,     3.54,2,   8.024,   2202.0,2,    811.8,2,   3349,  0.0070,   0.240,   0.026,2,  2.1643,   0.278
      06MT28_1,   A08,   234,  2,   3562,    308,2,19940422,1250,-11.3333,  -6.0002, 4505,   3604.3,   2.3841,  34.8877,2,-999.0000,9,    220.8,2,    46.17,2,    21.77,2,    0.006,2,    0.002,2,    0.005,2,    0.012,2, -999.000,9,   1.8780,2,     3.87,2,   8.080,   2204.5,2,    817.4,2,   3601,  0.0070,   0.250,   0.027,2,  2.0834,-999.000
      06MT28_1,   A08,   234,  2,   3561,    307,2,19940422,1250,-11.3333,  -6.0002, 4505,   3851.3,   2.3599,  34.8853,2,-999.0000,9,    221.3,2,    46.69,2,    21.74,2,    0.008,2,    0.001,2,    0.009,2,    0.017,2, -999.000,9,   1.8350,2,     3.62,2,   7.974,   2204.2,2,    809.1,2,   3848,  0.0070,   0.250,   0.026,2,  2.0325,-999.000
      06MT28_1,   A08,   234,  2,   3560,    306,2,19940422,1250,-11.3333,  -6.0002, 4505,   4103.6,   2.3655,  34.8849,2,  34.8855,2,    219.9,2,    47.02,2,    21.72,2,    0.010,2,    0.003,2,    0.008,2,    0.023,2,    0.036,2,   1.8210,2,     3.14,2,   8.000,   2204.9,2,    819.3,2,   4099,  0.0070,   0.240,   0.025,2,  2.0092,   0.016
      06MT28_1,   A08,   234,  2,   3559,    305,2,19940422,1250,-11.3333,  -6.0002, 4505,   4354.9,   2.3825,  34.8835,2,-999.0000,9,    220.3,2,    47.25,2,    21.70,2,    0.006,2,    0.002,2,    0.011,2,    0.021,2, -999.000,9,   1.8370,2,     3.46,2,   7.968,   2204.7,2,    834.1,6,   4350,  0.0070,   0.250,   0.026,2,  1.9963,-999.000
      06MT28_1,   A08,   234,  2,   3558,    304,2,19940422,1250,-11.3333,  -6.0002, 4505,   4455.1,   2.3937,  34.8837,2,-999.0000,9,    220.3,2,    46.95,2,    21.69,2,    0.007,2,    0.002,2,    0.011,2,    0.021,2,    0.015,2,   1.8330,2,     2.67,2,   8.000,   2205.3,2,    806.8,2,   4450,  0.0070,   0.240,   0.025,2,  1.9952,   0.005
      06MT28_1,   A08,   234,  2,   3557,    303,2,19940422,1250,-11.3333,  -6.0002, 4505,   4532.4,   2.4039,  34.8842,2,-999.0000,9,    219.8,2,    47.07,2,    21.68,2,    0.007,2,    0.001,2,    0.007,2,    0.022,2, -999.000,9,-999.0000,9,  -999.00,9,-999.000,   2204.6,2,   -999.0,9,   4528,-999.0000,-999.000,-999.000,9,  1.9957,-999.000
      06MT28_1,   A08,   234,  2,   3556,    302,2,19940422,1250,-11.3333,  -6.0002, 4505,   4561.4,   2.4071,  34.8838,2,  34.8830,2,    219.9,2,    47.07,2,    21.68,2,    0.008,2,    0.004,2,    0.011,2,    0.022,2,    0.016,2,   1.8400,6,     3.71,6,   8.016,   2202.9,2,   -999.0,9,   4557,  0.0070,   0.250,   0.026,6,  1.9953,   0.006
      06MT28_1,   A08,   234,  2,   3555,    301,2,19940422,1250,-11.3333,  -6.0002, 4505,   4561.4,   2.4070,  34.8839,2,  34.8827,2,    219.9,2,    46.83,2,    21.59,2,    0.006,2,    0.002,2,    0.006,2,    0.020,2, -999.000,9,-999.0000,9,  -999.00,9,-999.000,   2204.7,2,   -999.0,9,   4557,-999.0000,-999.000,-999.000,9,  1.9952,-999.000
      06MT28_1,   A08,   235,  1,   3554,    219,2,19940422,1758,-11.3330,  -5.4998, 5003,     10.2,  26.4195,  36.7145,2,  36.7060,3,    195.0,2,     0.86,2,     0.00,2, -999.000,9, -999.000,9, -999.000,9, -999.000,9, -999.000,9,-999.0000,9,  -999.00,9,-999.000,   -999.0,9,   -999.0,9,     10,-999.0000,-999.000,-999.000,9, 26.4172,-999.000
      06MT28_1,   A08,   235,  1,   3552,    218,2,19940422,1758,-11.3330,  -5.4998, 5003,     29.9,  26.3818,  36.7157,2,-999.0000,9,    192.6,2,     0.86,2,     0.00,2, -999.000,9, -999.000,9, -999.000,9, -999.000,9, -999.000,9,-999.0000,9,  -999.00,9,-999.000,   -999.0,9,   -999.0,9,     30,-999.0000,-999.000,-999.000,9, 26.3750,-999.000
      06MT28_1,   A08,   235,  1,   3551,    217,2,19940422,1758,-11.3330,  -5.4998, 5003,     49.4,  25.8926,  36.6996,2,-999.0000,9,    209.5,2,     0.86,2,     0.00,2, -999.000,9, -999.000,9, -999.000,9, -999.000,9, -999.000,9,-999.0000,9,  -999.00,9,-999.000,   -999.0,9,   -999.0,9,     49,-999.0000,-999.000,-999.000,9, 25.8815,-999.000
      06MT28_1,   A08,   235,  1,   3550,    216,2,19940422,1758,-11.3330,  -5.4998, 5003,     69.6,  20.7961,  36.2537,2,-999.0000,9,    220.7,2,     0.86,2,     0.00,2, -999.000,9, -999.000,9, -999.000,9, -999.000,9, -999.000,9,-999.0000,9,  -999.00,9,-999.000,   -999.0,9,   -999.0,9,     70,-999.0000,-999.000,-999.000,9, 20.7828,-999.000
      06MT28_1,   A08,   235,  1,   3549,    215,2,19940422,1758,-11.3330,  -5.4998, 5003,     99.6,  16.8328,  35.7512,2,-999.0000,9,    169.5,2,     2.59,2,     8.82,2, -999.000,9, -999.000,9, -999.000,9, -999.000,9, -999.000,9,-999.0000,9,  -999.00,9,-999.000,   -999.0,9,   -999.0,9,    100,-999.0000,-999.000,-999.000,9, 16.8164,-999.000
      06MT28_1,   A08,   235,  1,   3548,    214,2,19940422,1758,-11.3330,  -5.4998, 5003,    150.3,  13.7845,  35.3822,2,-999.0000,9,     96.6,2,     6.61,2,    20.98,2, -999.000,9, -999.000,9, -999.000,9, -999.000,9, -999.000,9,-999.0000,9,  -999.00,9,-999.000,   -999.0,9,   -999.0,9,    150,-999.0000,-999.000,-999.000,9, 13.7629,-999.000
      06MT28_1,   A08,   235,  1,   3547,    213,2,19940422,1758,-11.3330,  -5.4998, 5003,    199.2,  11.9775,  35.1779,2,-999.0000,9,     69.9,2,     9.57,2,    26.71,2, -999.000,9, -999.000,9, -999.000,9, -999.000,9, -999.000,9,-999.0000,9,  -999.00,9,-999.000,   -999.0,9,   -999.0,9,    199,-999.0000,-999.000,-999.000,9, 11.9515,-999.000
      06MT28_1,   A08,   235,  1,   3546,    212,2,19940422,1758,-11.3330,  -5.4998, 5003,    300.6,   9.7599,  34.9136,2,-999.0000,9,     72.6,2,    13.30,2,    30.33,2, -999.000,9, -999.000,9, -999.000,9, -999.000,9, -999.000,9,-999.0000,9,  -999.00,9,-999.000,   -999.0,9,   -999.0,9,    301,-999.0000,-999.000,-999.000,9,  9.7254,-999.000
      06MT28_1,   A08,   235,  1,   3545,    211,2,19940422,1758,-11.3330,  -5.4998, 5003,    399.7,   8.5308,  34.7792,2,-999.0000,9,     80.5,2,    15.97,2,    32.90,2, -999.000,9, -999.000,9, -999.000,9, -999.000,9, -999.000,9,-999.0000,9,  -999.00,9,-999.000,   -999.0,9,   -999.0,9,    400,-999.0000,-999.000,-999.000,9,  8.4884,-999.000
      06MT28_1,   A08,   235,  1,   3544,    210,2,19940422,1758,-11.3330,  -5.4998, 5003,    499.9,   7.3654,  34.6661,2,-999.0000,9,   -999.0,9,  -999.00,9,  -999.00,9, -999.000,9, -999.000,9, -999.000,9, -999.000,9, -999.000,9,-999.0000,9,  -999.00,9,-999.000,   -999.0,9,   -999.0,9,    500,-999.0000,-999.000,-999.000,9,  7.3165,-999.000
      06MT28_1,   A08,   235,  1,   3543,    209,2,19940422,1758,-11.3330,  -5.4998, 5003,    599.6,   6.1423,  34.5607,2,  34.5541,2,     98.4,2,    22.88,2,    35.35,2, -999.000,9, -999.000,9, -999.000,9, -999.000,9, -999.000,9,-999.0000,9,  -999.00,9,-999.000,   -999.0,9,   -999.0,9,    600,-999.0000,-999.000,-999.000,9,  6.0888,-999.000
      06MT28_1,   A08,   235,  1,   3534,    207,2,19940422,1758,-11.3330,  -5.4998, 5003,    698.7,   5.3008,  34.5176,2,-999.0000,9,   -999.0,9,  -999.00,9,  -999.00,9, -999.000,9, -999.000,9, -999.000,9, -999.000,9, -999.000,9,-999.0000,9,  -999.00,9,-999.000,   -999.0,9,   -999.0,9,    699,-999.0000,-999.000,-999.000,9,  5.2424,-999.000
      06MT28_1,   A08,   235,  1,   3540,    208,2,19940422,1758,-11.3330,  -5.4998, 5003,    698.7,   5.3408,  34.5211,2,-999.0000,9,    105.0,2,    26.83,2,    36.19,2, -999.000,9, -999.000,9, -999.000,9, -999.000,9, -999.000,9,-999.0000,9,  -999.00,9,-999.000,   -999.0,9,   -999.0,9,    699,-999.0000,-999.000,-999.000,9,  5.2822,-999.000