BOTTLE,20220817CCHSIOAMB
EXPOCODE,SECT_ID,STNNBR,CASTNO,SAMPNO,BTLNBR,BTLNBR_FLAG_W,DATE,TIME,LATITUDE,LONGITUDE,DEPTH,CTDPRS,CTDTMP,CTDSAL,CTDSAL_FLAG_W,SALNTY,SALNTY_FLAG_W,OXYGEN,OXYGEN_FLAG_W,SILCAT,SILCAT_FLAG_W,NO2+NO3,NO2+NO3_FLAG_W,CFC-11,CFC-11_FLAG_W,CFC-12,CFC-12_FLAG_W,CFC113,CFC113_FLAG_W,CCL4,CCL4_FLAG_W,TRITUM,TRITUM_FLAG_W,HELIUM,HELIUM_FLAG_W,DELHE3,DELHE3_FLAG_W,NEON,TCARBN,TCARBN_FLAG_W,PCO2,PCO2_FLAG_W,CTDRAW,HELIER,DELHER,NEONER,NEON_FLAG_W,THETA,TRITER
,,,,,,,,,,,,DBAR,ITS-90,PSS-78,,PSS-78,,UMOL/KG,,UMOL/KG,,UMOL/KG,,PMOL/KG,,PMOL/KG,,PMOL/KG,,PMOL/KG,,TU,,NMOL/KG,,PERCNT,,NMOL/KG,UMOL/KG,,UATM,,,NMOL/KG,PERCNT,NMOL/KG,,ITS-90,TU
      06MT28_1,   A08,   266,  2,   2768,    324,2,19940503,0205,-11.3335,  10.8338, 3860,     12.6,  25.8658,  36.3398,2,  36.3310,4,    199.2,2,     0.19,2,     0.48,2, -999.000,9, -999.000,9, -999.000,9, -999.000,9, -999.000,9,-999.0000,9,  -999.00,9,-999.000,   2045.0,2,   -999.0,9,      9,-999.0000,-999.000,-999.000,9, 25.8630,-999.000
      06MT28_1,   A08,   266,  2,   2784,    323,2,19940503,0205,-11.3335,  10.8338, 3860,    347.7,  10.2902,  34.9636,2,-999.0000,9,     29.5,2,    13.87,2,    34.34,2,    0.189,6,    0.113,6,    0.041,6,    0.080,6, -999.000,9,-999.0000,9,  -999.00,9,-999.000,   2243.7,2,   1536.3,6,    350,-999.0000,-999.000,-999.000,9, 10.2488,-999.000
      06MT28_1,   A08,   266,  2,   2782,    322,2,19940503,0205,-11.3335,  10.8338, 3860,    447.1,   8.5917,  34.7840,2,-999.0000,9,     21.2,2,    18.07,2,    38.63,2,    0.064,2,    0.041,2,   -0.011,4,    0.062,2, -999.000,9,   1.7570,6,     0.86,6,   7.500,   2262.1,2,   1808.8,2,    450,  0.0070,   0.250,   0.025,6,  8.5439,-999.000
      06MT28_1,   A08,   266,  2,   2781,    321,2,19940503,0205,-11.3335,  10.8338, 3860,    546.3,   7.1558,  34.6506,2,  34.6496,2,     38.8,2,    21.69,2,    40.04,2,    0.028,2,    0.020,2,    0.021,4,    0.063,2, -999.000,9,   1.7650,2,     0.30,2,   7.604,   2261.9,2,   1780.1,2,    550,  0.0070,   0.250,   0.025,2,  7.1030,-999.000
      06MT28_1,   A08,   266,  2,   2780,    320,2,19940503,0205,-11.3335,  10.8338, 3860,    646.2,   5.9746,  34.5598,2,-999.0000,9,     63.2,2,    25.40,2,    39.73,2,    0.009,2,    0.003,2,   -0.001,4,    0.043,2, -999.000,9,   1.7850,2,     1.32,2,   7.721,   2254.9,2,   1740.6,2,    650,  0.0070,   0.250,   0.025,2,  5.9175,-999.000
      06MT28_1,   A08,   266,  2,   2779,    319,2,19940503,0205,-11.3335,  10.8338, 3860,    746.0,   5.0957,  34.5160,2,-999.0000,9,     90.3,2,    29.50,2,    38.37,2, -999.000,9, -999.000,9, -999.000,9, -999.000,9, -999.000,9,-999.0000,9,  -999.00,9,-999.000,   2245.2,2,   1597.9,2,    750,-999.0000,-999.000,-999.000,9,  5.0344,-999.000
      06MT28_1,   A08,   266,  2,   2777,    318,2,19940503,0205,-11.3335,  10.8338, 3860,    820.4,   4.6365,  34.5113,2,-999.0000,9,    108.2,2,    31.96,2,    37.12,2,    0.001,2,    0.000,2,    0.006,4,    0.020,2, -999.000,9,-999.0000,9,  -999.00,9,-999.000,   2241.6,2,   1428.3,2,    825,-999.0000,-999.000,-999.000,9,  4.5715,-999.000
      06MT28_1,   A08,   266,  2,   2820,    317,2,19940503,0205,-11.3335,  10.8338, 3860,    919.1,   4.2935,  34.5553,2,-999.0000,9,    120.3,2,    33.57,2,    35.10,2, -999.000,9, -999.000,9, -999.000,9, -999.000,9, -999.000,9,-999.0000,9,  -999.00,9,-999.000,   2237.3,2,   1385.7,2,    923,-999.0000,-999.000,-999.000,9,  4.2224,-999.000
      06MT28_1,   A08,   266,  2,   2821,    316,2,19940503,0205,-11.3335,  10.8338, 3860,   1095.6,   4.0604,  34.6793,2,  34.6796,2,    145.3,2,    32.49,2,    31.44,2,    0.002,2,    0.000,2,    0.015,4,    0.006,2, -999.000,9,-999.0000,9,  -999.00,9,-999.000,   2226.0,2,   1205.5,2,   1100,-999.0000,-999.000,-999.000,9,  3.9759,-999.000
      06MT28_1,   A08,   266,  2,   2819,    315,2,19940503,0205,-11.3335,  10.8338, 3860,   1295.0,   3.9471,  34.8103,2,-999.0000,9,    169.3,2,    28.37,2,    27.32,2,    0.001,2,    0.000,2,    0.007,4,    0.008,2, -999.000,9,-999.0000,9,  -999.00,9,-999.000,   2208.1,2,   1020.8,2,   1299,-999.0000,-999.000,-999.000,9,  3.8462,-999.000
      06MT28_1,   A08,   266,  2,   2818,    314,2,19940503,0205,-11.3335,  10.8338, 3860,   1496.2,   3.8041,  34.8953,2,-999.0000,9,    192.9,2,    25.49,2,    24.06,2,    0.001,2,    0.000,2,    0.000,4,    0.009,2, -999.000,9,-999.0000,9,  -999.00,9,-999.000,   2192.8,2,    929.2,2,   1500,-999.0000,-999.000,-999.000,9,  3.6867,-999.000
      06MT28_1,   A08,   266,  2,   2817,    313,2,19940503,0205,-11.3335,  10.8338, 3860,   1696.2,   3.6148,  34.9224,2,-999.0000,9,    205.2,2,    25.46,2,    22.52,2,    0.003,2,    0.001,2,    0.016,4,    0.010,2, -999.000,9,-999.0000,9,  -999.00,9,-999.000,   2188.1,2,    889.3,2,   1699,-999.0000,-999.000,-999.000,9,  3.4815,-999.000
      06MT28_1,   A08,   266,  2,   2815,    312,2,19940503,0205,-11.3335,  10.8338, 3860,   1897.8,   3.3813,  34.9308,2,-999.0000,9,    210.9,2,    27.81,2,    21.93,2,    0.001,2,    0.000,2,    0.011,4,    0.005,2, -999.000,9,-999.0000,9,  -999.00,9,-999.000,   2186.0,2,    858.2,2,   1900,-999.0000,-999.000,-999.000,9,  3.2326,-999.000
      06MT28_1,   A08,   266,  2,   2846,    311,2,19940503,0205,-11.3335,  10.8338, 3860,   2095.2,   3.1986,  34.9281,2,  34.9293,2,    211.5,2,    30.63,2,    21.91,2,    0.004,2,    0.001,2,    0.026,4,    0.004,2, -999.000,9,-999.0000,9,  -999.00,9,-999.000,   2188.1,2,    859.9,2,   2097,-999.0000,-999.000,-999.000,9,  3.0342,-999.000
      06MT28_1,   A08,   266,  2,   2845,    310,2,19940503,0205,-11.3335,  10.8338, 3860,   2347.8,   2.9951,  34.9237,2,-999.0000,9,    214.1,2,    33.73,2,    21.69,2,    0.003,2,    0.000,2,   -0.011,4,    0.007,2, -999.000,9,-999.0000,9,  -999.00,9,-999.000,   2190.2,2,    854.7,2,   2348,-999.0000,-999.000,-999.000,9,  2.8101,-999.000
      06MT28_1,   A08,   266,  2,   2844,    309,2,19940503,0205,-11.3335,  10.8338, 3860,   2599.6,   2.8159,  34.9159,2,-999.0000,9,    215.1,2,    37.19,2,    21.86,2,    0.000,2,    0.000,2,    0.059,4,    0.001,2, -999.000,9,-999.0000,9,  -999.00,9,-999.000,   2193.9,2,    844.6,2,   2599,-999.0000,-999.000,-999.000,9,  2.6097,-999.000
      06MT28_1,   A08,   266,  2,   2843,    308,2,19940503,0205,-11.3335,  10.8338, 3860,   2850.9,   2.6799,  34.9100,2,-999.0000,9,    214.7,2,    40.36,2,    22.03,2,    0.001,2,    0.000,2,    0.043,4,    0.000,2, -999.000,9,-999.0000,9,  -999.00,9,-999.000,   2196.7,2,    881.6,2,   2850,-999.0000,-999.000,-999.000,9,  2.4514,-999.000
      06MT28_1,   A08,   266,  2,   2842,    307,2,19940503,0205,-11.3335,  10.8338, 3860,   3101.6,   2.5788,  34.9042,2,  34.9045,2,    213.9,2,    42.96,2,    22.10,2, -999.000,9, -999.000,9, -999.000,9, -999.000,9, -999.000,9,-999.0000,9,  -999.00,9,-999.000,   2201.8,2,    870.4,2,   3100,-999.0000,-999.000,-999.000,9,  2.3268,-999.000
      06MT28_1,   A08,   266,  2,   2841,    306,2,19940503,0205,-11.3335,  10.8338, 3860,   3351.9,   2.4969,  34.8996,2,-999.0000,9,    211.7,2,    46.03,2,    22.36,2,    0.002,2,    0.000,2,    0.219,4,    0.002,2, -999.000,9,-999.0000,9,  -999.00,9,-999.000,   2208.2,2,    855.0,2,   3349,-999.0000,-999.000,-999.000,9,  2.2205,-999.000
      06MT28_1,   A08,   266,  2,   2840,    305,2,19940503,0205,-11.3335,  10.8338, 3860,   3602.7,   2.4227,  34.8945,2,-999.0000,9,    208.4,2,    49.94,2,    22.52,2, -999.000,9, -999.000,9, -999.000,9, -999.000,9, -999.000,9,-999.0000,9,  -999.00,9,-999.000,   2216.9,2,    868.7,2,   3599,-999.0000,-999.000,-999.000,9,  2.1211,-999.000
      06MT28_1,   A08,   266,  2,   2839,    304,2,19940503,0205,-11.3335,  10.8338, 3860,   3783.5,   2.3705,  34.8905,2,-999.0000,9,    201.5,2,    52.96,2,    22.93,2,    0.002,2,    0.000,2,    0.024,4,    0.003,2, -999.000,9,-999.0000,9,  -999.00,9,-999.000,   2227.3,2,    887.0,2,   3779,-999.0000,-999.000,-999.000,9,  2.0504,-999.000
      06MT28_1,   A08,   266,  2,   2838,    303,2,19940503,0205,-11.3335,  10.8338, 3860,   3853.3,   2.3417,  34.8877,2,-999.0000,9,    193.4,2,    55.11,2,    23.49,2, -999.000,9, -999.000,9, -999.000,9, -999.000,9, -999.000,9,-999.0000,9,  -999.00,9,-999.000,   2240.6,2,    909.1,2,   3849,-999.0000,-999.000,-999.000,9,  2.0146,-999.000
      06MT28_1,   A08,   266,  2,   2837,    301,2,19940503,0205,-11.3335,  10.8338, 3860,   3887.1,   2.3335,  34.8847,2,  34.8858,2,    196.5,2,    55.10,2,    23.58,2,    0.001,2,    0.001,2,    0.021,4,    0.004,2, -999.000,9,-999.0000,9,  -999.00,9,-999.000,   2241.6,2,    900.8,6,   3883,-999.0000,-999.000,-999.000,9,  2.0028,-999.000
      06MT28_1,   A08,   266,  2,   2836,    302,2,19940503,0205,-11.3335,  10.8338, 3860,   3887.2,   2.3335,  34.8859,2,  34.8855,2,    193.8,2,    55.29,2,    23.48,2, -999.000,9, -999.000,9, -999.000,9, -999.000,9, -999.000,9,-999.0000,9,  -999.00,9,-999.000,   2240.4,2,    899.9,2,   3883,-999.0000,-999.000,-999.000,9,  2.0028,-999.000
      06MT28_1,   A08,   267,  1,   2835,    214,2,19940503,0612,-11.3328,  11.2498, 3667,      9.5,  27.1307,  36.1656,2,  36.1610,2,    196.9,2,     0.10,2,     0.00,2, -999.000,9, -999.000,9, -999.000,9, -999.000,9, -999.000,9,-999.0000,9,  -999.00,9,-999.000,   -999.0,9,   -999.0,9,     10,-999.0000,-999.000,-999.000,9, 27.1285,-999.000
      06MT28_1,   A08,   267,  1,   2833,    213,2,19940503,0612,-11.3328,  11.2498, 3667,     29.3,  20.0314,  35.9197,2,-999.0000,9,    218.2,2,     1.73,2,     0.29,2, -999.000,9, -999.000,9, -999.000,9, -999.000,9, -999.000,9,-999.0000,9,  -999.00,9,-999.000,   -999.0,9,   -999.0,9,     30,-999.0000,-999.000,-999.000,9, 20.0260,-999.000
      06MT28_1,   A08,   267,  1,   2831,    212,2,19940503,0612,-11.3328,  11.2498, 3667,     49.5,  16.2262,  35.6244,2,-999.0000,9,     68.9,2,     5.94,2,    21.38,2, -999.000,9, -999.000,9, -999.000,9, -999.000,9, -999.000,9,-999.0000,9,  -999.00,9,-999.000,   -999.0,9,   -999.0,9,     50,-999.0000,-999.000,-999.000,9, 16.2183,-999.000
      06MT28_1,   A08,   267,  1,   2910,    211,2,19940503,0612,-11.3328,  11.2498, 3667,     69.4,  15.3470,  35.5428,2,-999.0000,9,     50.6,2,     7.00,2,    24.34,2, -999.000,9, -999.000,9, -999.000,9, -999.000,9, -999.000,9,-999.0000,9,  -999.00,9,-999.000,   -999.0,9,   -999.0,9,     70,-999.0000,-999.000,-999.000,9, 15.3364,-999.000
      06MT28_1,   A08,   267,  1,   2909,    210,2,19940503,0612,-11.3328,  11.2498, 3667,     99.4,  14.6915,  35.4805,2,-999.0000,9,     48.1,2,     7.76,2,    25.49,2, -999.000,9, -999.000,9, -999.000,9, -999.000,9, -999.000,9,-999.0000,9,  -999.00,9,-999.000,   -999.0,9,   -999.0,9,    100,-999.0000,-999.000,-999.000,9, 14.6767,-999.000
      06MT28_1,   A08,   267,  1,   2908,    209,2,19940503,0612,-11.3328,  11.2498, 3667,    150.0,  13.7266,  35.3674,2,-999.0000,9,     48.8,2,     8.86,2,    26.48,2, -999.000,9, -999.000,9, -999.000,9, -999.000,9, -999.000,9,-999.0000,9,  -999.00,9,-999.000,   -999.0,9,   -999.0,9,    150,-999.0000,-999.000,-999.000,9, 13.7052,-999.000
      06MT28_1,   A08,   267,  1,   2906,    207,2,19940503,0612,-11.3328,  11.2498, 3667,    199.7,  12.8797,  35.2681,2,-999.0000,9,   -999.0,9,  -999.00,9,  -999.00,9, -999.000,9, -999.000,9, -999.000,9, -999.000,9, -999.000,9,-999.0000,9,  -999.00,9,-999.000,   -999.0,9,   -999.0,9,    200,-999.0000,-999.000,-999.000,9, 12.8523,-999.000
      06MT28_1,   A08,   267,  1,   2905,    208,2,19940503,0612,-11.3328,  11.2498, 3667,    199.7,  12.8844,  35.2685,2,  35.2670,2,     45.9,2,     9.62,2,    28.06,2, -999.000,9, -999.000,9, -999.000,9, -999.000,9, -999.000,9,-999.0000,9,  -999.00,9,-999.000,   -999.0,9,   -999.0,9,    200,-999.0000,-999.000,-999.000,9, 12.8570,-999.000
      06MT28_1,   A08,   267,  2,   2834,    324,2,19940503,0756,-11.3338,  11.2497, 3667,     14.4,  27.1199,  36.1615,2,  36.1708,3,    197.9,2,     0.19,2,     0.10,2, -999.000,9, -999.000,9, -999.000,9, -999.000,9, -999.000,9,-999.0000,9,  -999.00,9,-999.000,   -999.0,9,   -999.0,9,     12,-999.0000,-999.000,-999.000,9, 27.1166,-999.000
      06MT28_1,   A08,   267,  2,   2907,    323,2,19940503,0756,-11.3338,  11.2497, 3667,    198.2,  12.8288,  35.2603,2,-999.0000,9,     43.2,2,     9.77,2,    28.53,2, -999.000,9, -999.000,9, -999.000,9, -999.000,9, -999.000,9,-999.0000,9,  -999.00,9,-999.000,   -999.0,9,   -999.0,9,    199,-999.0000,-999.000,-999.000,9, 12.8017,-999.000
      06MT28_1,   A08,   267,  2,   2904,    322,2,19940503,0756,-11.3338,  11.2497, 3667,    296.9,  10.9552,  35.0382,2,-999.0000,9,     22.2,2,    13.11,2,    33.78,2, -999.000,9, -999.000,9, -999.000,9, -999.000,9, -999.000,9,-999.0000,9,  -999.00,9,-999.000,   -999.0,9,   -999.0,9,    299,-999.0000,-999.000,-999.000,9, 10.9185,-999.000
      06MT28_1,   A08,   267,  2,   2903,    321,2,19940503,0756,-11.3338,  11.2497, 3667,    396.7,   8.9075,  34.8302,2,-999.0000,9,     19.2,2,    17.50,2,    38.16,2, -999.000,9, -999.000,9, -999.000,9, -999.000,9, -999.000,9,-999.0000,9,  -999.00,9,-999.000,   -999.0,9,   -999.0,9,    400,-999.0000,-999.000,-999.000,9,  8.8642,-999.000
      06MT28_1,   A08,   267,  2,   2902,    320,2,19940503,0756,-11.3338,  11.2497, 3667,    496.0,   7.3371,  34.6692,2,  34.6677,2,     34.7,2,    21.41,2,    39.57,2, -999.000,9, -999.000,9, -999.000,9, -999.000,9, -999.000,9,-999.0000,9,  -999.00,9,-999.000,   -999.0,9,   -999.0,9,    500,-999.0000,-999.000,-999.000,9,  7.2887,-999.000
      06MT28_1,   A08,   267,  2,   2901,    319,2,19940503,0756,-11.3338,  11.2497, 3667,    595.5,   6.1061,  34.5726,2,-999.0000,9,     58.9,2,    24.93,2,    39.83,2, -999.000,9, -999.000,9, -999.000,9, -999.000,9, -999.000,9,-999.0000,9,  -999.00,9,-999.000,   -999.0,9,   -999.0,9,    600,-999.0000,-999.000,-999.000,9,  6.0531,-999.000
      06MT28_1,   A08,   267,  2,   2900,    318,2,19940503,0756,-11.3338,  11.2497, 3667,    694.9,   5.2074,  34.5196,2,-999.0000,9,     87.3,2,    29.03,2,    38.57,2, -999.000,9, -999.000,9, -999.000,9, -999.000,9, -999.000,9,-999.0000,9,  -999.00,9,-999.000,   -999.0,9,   -999.0,9,    700,-999.0000,-999.000,-999.000,9,  5.1499,-999.000
      06MT28_1,   A08,   267,  2,   2899,    317,2,19940503,0756,-11.3338,  11.2497, 3667,    845.0,   4.5051,  34.5270,2,-999.0000,9,    115.1,2,    32.63,2,    36.25,2, -999.000,9, -999.000,9, -999.000,9, -999.000,9, -999.000,9,-999.0000,9,  -999.00,9,-999.000,   -999.0,9,   -999.0,9,    850,-999.0000,-999.000,-999.000,9,  4.4389,-999.000
      06MT28_1,   A08,   267,  2,   2898,    316,2,19940503,0756,-11.3338,  11.2497, 3667,    995.1,   4.1748,  34.5986,2,  34.5974,2,    131.6,2,    33.56,2,    33.75,2, -999.000,9, -999.000,9, -999.000,9, -999.000,9, -999.000,9,-999.0000,9,  -999.00,9,-999.000,   -999.0,9,   -999.0,9,   1000,-999.0000,-999.000,-999.000,9,  4.0981,-999.000
      06MT28_1,   A08,   267,  2,   2897,    315,2,19940503,0756,-11.3338,  11.2497, 3667,   1194.7,   4.0550,  34.7494,2,-999.0000,9,    156.7,2,    30.28,2,    29.24,2, -999.000,9, -999.000,9, -999.000,9, -999.000,9, -999.000,9,-999.0000,9,  -999.00,9,-999.000,   -999.0,9,   -999.0,9,   1200,-999.0000,-999.000,-999.000,9,  3.9619,-999.000
      06MT28_1,   A08,   267,  2,   2896,    314,2,19940503,0756,-11.3338,  11.2497, 3667,   1395.9,   3.8952,  34.8620,2,-999.0000,9,    184.2,2,    26.64,2,    25.40,2, -999.000,9, -999.000,9, -999.000,9, -999.000,9, -999.000,9,-999.0000,9,  -999.00,9,-999.000,   -999.0,9,   -999.0,9,   1400,-999.0000,-999.000,-999.000,9,  3.7858,-999.000
      06MT28_1,   A08,   267,  2,   2894,    313,2,19940503,0756,-11.3338,  11.2497, 3667,   1596.0,   3.7325,  34.9124,2,-999.0000,9,    201.6,2,    25.09,2,    23.10,2, -999.000,9, -999.000,9, -999.000,9, -999.000,9, -999.000,9,-999.0000,9,  -999.00,9,-999.000,   -999.0,9,   -999.0,9,   1600,-999.0000,-999.000,-999.000,9,  3.6069,-999.000
      06MT28_1,   A08,   267,  2,   2950,    312,2,19940503,0756,-11.3338,  11.2497, 3667,   1796.8,   3.5068,  34.9296,2,-999.0000,9,    210.0,2,    26.59,2,    22.13,2, -999.000,9, -999.000,9, -999.000,9, -999.000,9, -999.000,9,-999.0000,9,  -999.00,9,-999.000,   -999.0,9,   -999.0,9,   1800,-999.0000,-999.000,-999.000,9,  3.3657,-999.000
      06MT28_1,   A08,   267,  2,   2949,    311,2,19940503,0756,-11.3338,  11.2497, 3667,   1997.7,   3.3036,  34.9317,2,  34.9313,2,    213.7,2,    28.94,2,    21.82,2, -999.000,9, -999.000,9, -999.000,9, -999.000,9, -999.000,9,-999.0000,9,  -999.00,9,-999.000,   -999.0,9,   -999.0,9,   2000,-999.0000,-999.000,-999.000,9,  3.1468,-999.000
      06MT28_1,   A08,   267,  2,   2947,    310,2,19940503,0756,-11.3338,  11.2497, 3667,   2247.0,   3.0285,  34.9250,2,-999.0000,9,    214.1,2,    33.65,2,    21.80,2, -999.000,9, -999.000,9, -999.000,9, -999.000,9, -999.000,9,-999.0000,9,  -999.00,9,-999.000,   -999.0,9,   -999.0,9,   2249,-999.0000,-999.000,-999.000,9,  2.8526,-999.000
      06MT28_1,   A08,   267,  2,   2946,    309,2,19940503,0756,-11.3338,  11.2497, 3667,   2498.3,   2.9570,  34.9213,2,-999.0000,9,    215.5,2,    35.12,2,    21.77,2, -999.000,9, -999.000,9, -999.000,9, -999.000,9, -999.000,9,-999.0000,9,  -999.00,9,-999.000,   -999.0,9,   -999.0,9,   2499,-999.0000,-999.000,-999.000,9,  2.7581,-999.000
      06MT28_1,   A08,   267,  2,   2945,    308,2,19940503,0756,-11.3338,  11.2497, 3667,   2749.0,   2.7456,  34.9133,2,-999.0000,9,    217.0,2,    38.77,2,    21.85,2, -999.000,9, -999.000,9, -999.000,9, -999.000,9, -999.000,9,-999.0000,9,  -999.00,9,-999.000,   -999.0,9,   -999.0,9,   2749,-999.0000,-999.000,-999.000,9,  2.5260,-999.000
      06MT28_1,   A08,   267,  2,   2944,    307,2,19940503,0756,-11.3338,  11.2497, 3667,   3000.8,   2.6197,  34.9072,2,  34.9043,2,    219.4,2,    41.94,2,    22.11,2, -999.000,9, -999.000,9, -999.000,9, -999.000,9, -999.000,9,-999.0000,9,  -999.00,9,-999.000,   -999.0,9,   -999.0,9,   3000,-999.0000,-999.000,-999.000,9,  2.3772,-999.000
      06MT28_1,   A08,   267,  2,   2943,    306,2,19940503,0756,-11.3338,  11.2497, 3667,   3251.6,   2.5250,  34.9031,2,-999.0000,9,    215.8,2,    44.82,2,    22.18,2, -999.000,9, -999.000,9, -999.000,9, -999.000,9, -999.000,9,-999.0000,9,  -999.00,9,-999.000,   -999.0,9,   -999.0,9,   3250,-999.0000,-999.000,-999.000,9,  2.2586,-999.000
      06MT28_1,   A08,   267,  2,   2942,    305,2,19940503,0756,-11.3338,  11.2497, 3667,   3501.8,   2.4448,  34.8966,2,-999.0000,9,    212.7,2,    48.36,2,    22.34,2, -999.000,9, -999.000,9, -999.000,9, -999.000,9, -999.000,9,-999.0000,9,  -999.00,9,-999.000,   -999.0,9,   -999.0,9,   3499,-999.0000,-999.000,-999.000,9,  2.1536,-999.000
      06MT28_1,   A08,   267,  2,   2941,    304,2,19940503,0756,-11.3338,  11.2497, 3667,   3612.4,   2.4264,  34.8949,2,-999.0000,9,    211.0,2,    49.66,2,    22.47,2, -999.000,9, -999.000,9, -999.000,9, -999.000,9, -999.000,9,-999.0000,9,  -999.00,9,-999.000,   -999.0,9,   -999.0,9,   3610,-999.0000,-999.000,-999.000,9,  2.1236,-999.000
      06MT28_1,   A08,   267,  2,   2940,    303,2,19940503,0756,-11.3338,  11.2497, 3667,   3683.2,   2.3939,  34.8929,2,-999.0000,9,    208.1,2,    51.62,2,    22.70,2, -999.000,9, -999.000,9, -999.000,9, -999.000,9, -999.000,9,-999.0000,9,  -999.00,9,-999.000,   -999.0,9,   -999.0,9,   3680,-999.0000,-999.000,-999.000,9,  2.0843,-999.000
      06MT28_1,   A08,   267,  2,   2939,    301,2,19940503,0756,-11.3338,  11.2497, 3667,   3716.1,   2.3835,  34.8910,2,  34.8900,2,    203.3,2,    52.55,2,    22.84,2, -999.000,9, -999.000,9, -999.000,9, -999.000,9, -999.000,9,-999.0000,9,  -999.00,9,-999.000,   -999.0,9,   -999.0,9,   3713,-999.0000,-999.000,-999.000,9,  2.0705,-999.000
      06MT28_1,   A08,   267,  2,   2938,    302,2,19940503,0756,-11.3338,  11.2497, 3667,   3716.3,   2.3836,  34.8920,2,  34.8901,2,    203.4,2,    52.84,2,    22.89,2, -999.000,9, -999.000,9, -999.000,9, -999.000,9, -999.000,9,-999.0000,9,  -999.00,9,-999.000,   -999.0,9,   -999.0,9,   3713,-999.0000,-999.000,-999.000,9,  2.0706,-999.000