BOTTLE,20220817CCHSIOAMB
EXPOCODE,SECT_ID,STNNBR,CASTNO,SAMPNO,BTLNBR,BTLNBR_FLAG_W,DATE,TIME,LATITUDE,LONGITUDE,DEPTH,CTDPRS,CTDTMP,CTDSAL,CTDSAL_FLAG_W,SALNTY,SALNTY_FLAG_W,OXYGEN,OXYGEN_FLAG_W,SILCAT,SILCAT_FLAG_W,NO2+NO3,NO2+NO3_FLAG_W,CFC-11,CFC-11_FLAG_W,CFC-12,CFC-12_FLAG_W,CFC113,CFC113_FLAG_W,CCL4,CCL4_FLAG_W,TRITUM,TRITUM_FLAG_W,HELIUM,HELIUM_FLAG_W,DELHE3,DELHE3_FLAG_W,NEON,TCARBN,TCARBN_FLAG_W,PCO2,PCO2_FLAG_W,CTDRAW,HELIER,DELHER,NEONER,NEON_FLAG_W,THETA,TRITER
,,,,,,,,,,,,DBAR,ITS-90,PSS-78,,PSS-78,,UMOL/KG,,UMOL/KG,,UMOL/KG,,PMOL/KG,,PMOL/KG,,PMOL/KG,,PMOL/KG,,TU,,NMOL/KG,,PERCNT,,NMOL/KG,UMOL/KG,,UATM,,,NMOL/KG,PERCNT,NMOL/KG,,ITS-90,TU
      06MT28_1,   A08,   238,  2,   3685,    324,2,19940423,1911,-11.3332,  -3.9995, 4557,     16.1,  25.9156,  36.7488,2,  36.7515,2,    197.5,2,     0.96,2,     0.00,2, -999.000,9, -999.000,9, -999.000,9, -999.000,9, -999.000,9,-999.0000,9,  -999.00,9,-999.000,   2058.6,2,   -999.0,9,     12,-999.0000,-999.000,-999.000,9, 25.9120,-999.000
      06MT28_1,   A08,   238,  2,   3675,    323,2,19940423,1911,-11.3332,  -3.9995, 4557,    646.9,   5.7023,  34.5246,2,-999.0000,9,    106.9,2,    25.02,2,    35.53,2, -999.000,9, -999.000,9, -999.000,9, -999.000,9, -999.000,9,-999.0000,9,  -999.00,9,-999.000,   2229.3,2,   1406.7,2,    650,-999.0000,-999.000,-999.000,9,  5.6466,-999.000
      06MT28_1,   A08,   238,  2,   3672,    322,2,19940423,1911,-11.3332,  -3.9995, 4557,    747.3,   4.9963,  34.4999,2,-999.0000,9,    115.4,2,    28.64,2,    35.99,2,    0.010,2,    0.006,2,    0.004,2,    0.079,2, -999.000,9,   1.7980,2,     1.59,2,   7.738,   2231.7,2,   1367.2,2,    750,  0.0070,   0.250,   0.026,2,  4.9355,-999.000
      06MT28_1,   A08,   238,  2,   3671,    321,2,19940423,1911,-11.3332,  -3.9995, 4557,    821.5,   4.6104,  34.5011,2,-999.0000,9,    125.6,2,    30.82,2,    35.11,2,    0.005,2,    0.003,2,   -0.002,2,    0.057,2,    0.031,2,   1.7940,2,     1.39,2,   7.815,   2228.5,2,   1320.5,2,    825,  0.0070,   0.240,   0.025,2,  4.5455,   0.028
      06MT28_1,   A08,   238,  2,   3670,    320,2,19940423,1911,-11.3332,  -3.9995, 4557,    921.8,   4.2630,  34.5380,2,-999.0000,9,    137.5,2,    32.81,2,    33.95,2,    0.003,2,    0.001,2,    0.006,2,    0.030,2, -999.000,9,   1.8200,2,     2.39,2,   7.837,   2225.9,2,   1226.4,2,    925,  0.0070,   0.250,   0.026,2,  4.1919,-999.000
      06MT28_1,   A08,   238,  2,   3669,    319,2,19940423,1911,-11.3332,  -3.9995, 4557,   1097.4,   4.0002,  34.6552,2,  34.6567,2,    162.5,2,    32.40,2,    30.78,2,    0.005,2,    0.003,2,    0.004,2,    0.012,2,    0.017,2,   1.8030,6,     1.82,6,   7.834,   2218.3,2,   1174.2,2,   1101,  0.0070,   0.250,   0.026,6,  3.9161,   0.007
      06MT28_1,   A08,   238,  2,   3668,    318,2,19940423,1911,-11.3332,  -3.9995, 4557,   1297.9,   3.8928,  34.7707,2,-999.0000,9,    174.8,2,    29.51,2,    27.61,2,    0.004,2,    0.001,2,    0.007,2,    0.011,2, -999.000,9,-999.0000,9,  -999.00,9,-999.000,   2206.6,2,   1031.2,2,   1301,-999.0000,-999.000,-999.000,9,  3.7922,-999.000
      06MT28_1,   A08,   238,  2,   3711,    317,2,19940423,1911,-11.3332,  -3.9995, 4557,   1496.4,   3.7292,  34.8681,2,  34.8685,2,    196.3,2,    26.53,2,    24.15,2,    0.006,2,    0.002,2,    0.007,2,    0.016,2, -999.000,9,-999.0000,9,  -999.00,9,-999.000,   2192.4,2,    901.5,2,   1499,-999.0000,-999.000,-999.000,9,  3.6127,-999.000
      06MT28_1,   A08,   238,  2,   3710,    316,2,19940423,1911,-11.3332,  -3.9995, 4557,   1697.8,   3.5646,  34.9062,2,-999.0000,9,    208.1,2,    26.13,2,    22.52,2,    0.003,2,    0.001,2,    0.001,2,    0.018,2, -999.000,9,-999.0000,9,  -999.00,9,-999.000,   2186.0,2,    862.6,2,   1700,-999.0000,-999.000,-999.000,9,  3.4318,-999.000
      06MT28_1,   A08,   238,  2,   3709,    315,2,19940423,1911,-11.3332,  -3.9995, 4557,   1898.8,   3.3988,  34.9239,2,-999.0000,9,    216.4,2,    26.96,2,    21.64,2,    0.004,2,    0.002,2,    0.004,2,    0.017,2, -999.000,9,-999.0000,9,  -999.00,9,-999.000,   -999.0,9,   -999.0,9,   1900,-999.0000,-999.000,-999.000,9,  3.2498,-999.000
      06MT28_1,   A08,   238,  2,   3708,    314,2,19940423,1911,-11.3332,  -3.9995, 4557,   2099.4,   3.2020,  34.9239,2,  34.9241,2,    213.3,2,    29.40,2,    21.24,2,    0.003,2,    0.000,2,    0.009,2,    0.014,2,    0.021,2,   1.8140,2,     2.65,2,   7.911,   2183.1,2,    829.4,2,   2100,  0.0070,   0.240,   0.025,2,  3.0372,   0.002
      06MT28_1,   A08,   238,  2,   3707,    313,2,19940423,1911,-11.3332,  -3.9995, 4557,   2349.3,   2.9866,  34.9201,2,-999.0000,9,    227.1,2,    32.97,2,    21.32,2,    0.005,2,    0.002,2,    0.007,2,    0.008,2, -999.000,9,-999.0000,9,  -999.00,9,-999.000,   2185.3,2,    822.8,2,   2349,-999.0000,-999.000,-999.000,9,  2.8016,-999.000
      06MT28_1,   A08,   238,  2,   3706,    312,2,19940423,1911,-11.3332,  -3.9995, 4557,   2599.8,   2.8397,  34.9122,2,-999.0000,9,    222.3,2,    35.87,2,    21.29,2,    0.003,2,    0.001,2,    0.004,2,    0.022,4, -999.000,9,   1.8370,2,     3.51,2,   7.971,   2188.0,2,    816.5,2,   2599,  0.0070,   0.250,   0.026,2,  2.6330,-999.000
      06MT28_1,   A08,   238,  2,   3705,    311,2,19940423,1911,-11.3332,  -3.9995, 4557,   2849.7,   2.6861,  34.9039,2,-999.0000,9,    223.2,2,    39.14,2,    21.46,2,    0.002,2,    0.001,2,    0.006,2,    0.006,2, -999.000,9,-999.0000,9,  -999.00,9,-999.000,   2192.3,2,    796.6,2,   2848,-999.0000,-999.000,-999.000,9,  2.4576,-999.000
      06MT28_1,   A08,   238,  2,   3704,    310,2,19940423,1911,-11.3332,  -3.9995, 4557,   3101.3,   2.5645,  34.8990,2,  34.8983,2,    221.3,2,    41.93,2,    21.62,2,    0.005,2,    0.002,2,    0.005,2,    0.009,2,    0.008,2,   1.8170,2,     3.92,2,   7.950,   2196.8,2,    809.3,2,   3099,  0.0070,   0.240,   0.025,2,  2.3129,   0.008
      06MT28_1,   A08,   238,  2,   3703,    309,2,19940423,1911,-11.3332,  -3.9995, 4557,   3352.8,   2.4668,  34.8947,2,-999.0000,9,    222.1,2,    44.24,2,    21.70,2,    0.003,2,    0.002,2,    0.001,2,    0.008,2, -999.000,9,-999.0000,9,  -999.00,9,-999.000,   2198.6,2,    848.3,2,   3350,-999.0000,-999.000,-999.000,9,  2.1910,-999.000
      06MT28_1,   A08,   238,  2,   3702,    308,2,19940423,1911,-11.3332,  -3.9995, 4557,   3604.3,   2.4132,  34.8918,2,-999.0000,9,    219.3,2,    45.98,2,    21.77,2,    0.003,2,    0.002,2,    0.007,2,    0.009,2, -999.000,9,   1.8340,2,     3.58,2,   8.003,   2203.2,2,    825.4,2,   3600,  0.0070,   0.250,   0.026,2,  2.1117,-999.000
      06MT28_1,   A08,   238,  2,   3701,    307,2,19940423,1911,-11.3332,  -3.9995, 4557,   3854.6,   2.3882,  34.8888,2,-999.0000,9,    220.9,2,    46.78,2,    21.74,2,    0.004,2,    0.002,2,    0.006,2,    0.014,2, -999.000,9,-999.0000,9,  -999.00,9,-999.000,   2207.9,2,   -999.0,9,   3850,-999.0000,-999.000,-999.000,9,  2.0597,-999.000
      06MT28_1,   A08,   238,  2,   3700,    306,2,19940423,1911,-11.3332,  -3.9995, 4557,   4104.9,   2.3477,  34.8849,2,  34.8834,2,    222.3,2,    47.49,2,    21.72,2,    0.005,2,    0.002,2,    0.004,2,    0.020,2, -999.000,9,-999.0000,9,  -999.00,9,-999.000,   2203.1,2,   -999.0,9,   4100,-999.0000,-999.000,-999.000,9,  1.9918,-999.000
      06MT28_1,   A08,   238,  2,   3699,    305,2,19940423,1911,-11.3332,  -3.9995, 4557,   4354.2,   2.3541,  34.8823,2,-999.0000,9,    220.9,2,    47.81,2,    21.70,2,    0.006,2,    0.002,2,   -0.001,2,    0.024,2,    0.008,2,   1.8220,2,     3.41,2,   7.948,   2203.2,2,    823.9,6,   4349,  0.0070,   0.240,   0.025,2,  1.9689,   0.002
      06MT28_1,   A08,   238,  2,   3698,    304,2,19940423,1911,-11.3332,  -3.9995, 4557,   4485.8,   2.3665,  34.8813,2,-999.0000,9,    220.9,2,    47.79,2,    21.73,2,    0.010,2,    0.005,2,   -0.004,2,    0.024,2, -999.000,9,-999.0000,9,  -999.00,9,-999.000,   2205.2,2,    839.0,2,   4480,-999.0000,-999.000,-999.000,9,  1.9652,-999.000
      06MT28_1,   A08,   238,  2,   3697,    303,2,19940423,1911,-11.3332,  -3.9995, 4557,   4555.5,   2.3705,  34.8823,2,-999.0000,9,    220.6,2,    48.01,2,    21.73,2,    0.008,2,    0.004,2,    0.002,2,    0.023,2, -999.000,9,-999.0000,9,  -999.00,9,-999.000,   2204.5,2,    825.7,2,   4550,-999.0000,-999.000,-999.000,9,  1.9606,-999.000
      06MT28_1,   A08,   238,  2,   3696,    301,2,19940423,1911,-11.3332,  -3.9995, 4557,   4586.3,   2.3689,  34.8827,2,  34.8810,2,    219.6,2,    48.00,2,    21.77,2,    0.011,2,    0.003,2,   -0.001,2,    0.023,2, -999.000,9,   1.8210,2,     3.32,2,   8.009,   2206.3,2,    827.1,2,   4581,  0.0070,   0.240,   0.025,2,  1.9553,-999.000
      06MT28_1,   A08,   238,  2,   3695,    302,2,19940423,1911,-11.3332,  -3.9995, 4557,   4586.6,   2.3689,  34.8826,2,  34.8800,2,    219.8,2,    48.14,2,    21.68,2,    0.011,2,    0.003,2,    0.003,2,    0.025,2, -999.000,9,-999.0000,9,  -999.00,9,-999.000,   2204.7,2,    816.8,2,   4581,-999.0000,-999.000,-999.000,9,  1.9553,-999.000
      06MT28_1,   A08,   239,  1,   3694,    217,2,19940424,0107,-11.3337,  -3.4998, 4761,      8.0,  26.1814,  36.4988,2,  36.4952,2,    194.4,2,     0.96,2,     0.00,2, -999.000,9, -999.000,9, -999.000,9, -999.000,9, -999.000,9,-999.0000,9,  -999.00,9,-999.000,   -999.0,9,   -999.0,9,      7,-999.0000,-999.000,-999.000,9, 26.1796,-999.000
      06MT28_1,   A08,   239,  1,   3692,    216,2,19940424,0107,-11.3337,  -3.4998, 4761,     29.2,  26.1874,  36.5216,2,-999.0000,9,    195.6,2,     0.86,2,     0.00,2, -999.000,9, -999.000,9, -999.000,9, -999.000,9, -999.000,9,-999.0000,9,  -999.00,9,-999.000,   -999.0,9,   -999.0,9,     28,-999.0000,-999.000,-999.000,9, 26.1808,-999.000
      06MT28_1,   A08,   239,  1,   3691,    215,2,19940424,0107,-11.3337,  -3.4998, 4761,     50.9,  25.0211,  36.6514,2,-999.0000,9,    208.6,2,     0.67,2,     0.00,2, -999.000,9, -999.000,9, -999.000,9, -999.000,9, -999.000,9,-999.0000,9,  -999.00,9,-999.000,   -999.0,9,   -999.0,9,     50,-999.0000,-999.000,-999.000,9, 25.0100,-999.000
      06MT28_1,   A08,   239,  1,   3690,    214,2,19940424,0107,-11.3337,  -3.4998, 4761,     70.9,  20.4776,  36.2196,2,-999.0000,9,    219.1,2,     0.86,2,     0.38,2, -999.000,9, -999.000,9, -999.000,9, -999.000,9, -999.000,9,-999.0000,9,  -999.00,9,-999.000,   -999.0,9,   -999.0,9,     70,-999.0000,-999.000,-999.000,9, 20.4642,-999.000
      06MT28_1,   A08,   239,  1,   3729,    213,2,19940424,0107,-11.3337,  -3.4998, 4761,    100.4,  17.3389,  35.8231,2,-999.0000,9,    172.1,2,     2.20,2,     8.53,2, -999.000,9, -999.000,9, -999.000,9, -999.000,9, -999.000,9,-999.0000,9,  -999.00,9,-999.000,   -999.0,9,   -999.0,9,    100,-999.0000,-999.000,-999.000,9, 17.3221,-999.000
      06MT28_1,   A08,   239,  1,   3730,    212,2,19940424,0107,-11.3337,  -3.4998, 4761,    150.3,  13.0360,  35.2749,2,-999.0000,9,     76.8,2,     7.47,2,    24.33,2, -999.000,9, -999.000,9, -999.000,9, -999.000,9, -999.000,9,-999.0000,9,  -999.00,9,-999.000,   -999.0,9,   -999.0,9,    150,-999.0000,-999.000,-999.000,9, 13.0152,-999.000
      06MT28_1,   A08,   239,  1,   3728,    211,2,19940424,0107,-11.3337,  -3.4998, 4761,    201.3,  11.7916,  35.1325,2,-999.0000,9,     58.9,2,     9.86,2,    28.15,2, -999.000,9, -999.000,9, -999.000,9, -999.000,9, -999.000,9,-999.0000,9,  -999.00,9,-999.000,   -999.0,9,   -999.0,9,    201,-999.0000,-999.000,-999.000,9, 11.7656,-999.000
      06MT28_1,   A08,   239,  1,   3727,    210,2,19940424,0107,-11.3337,  -3.4998, 4761,    278.5,  10.2353,  34.9583,2,  34.9590,2,     65.9,2,    12.54,2,    30.43,2, -999.000,9, -999.000,9, -999.000,9, -999.000,9, -999.000,9,-999.0000,9,  -999.00,9,-999.000,   -999.0,9,   -999.0,9,    277,-999.0000,-999.000,-999.000,9, 10.2024,-999.000
      06MT28_1,   A08,   239,  1,   3726,    209,2,19940424,0107,-11.3337,  -3.4998, 4761,    400.3,   8.3577,  34.7558,2,-999.0000,9,     57.8,2,    16.93,2,    35.00,2, -999.000,9, -999.000,9, -999.000,9, -999.000,9, -999.000,9,-999.0000,9,  -999.00,9,-999.000,   -999.0,9,   -999.0,9,    400,-999.0000,-999.000,-999.000,9,  8.3158,-999.000
      06MT28_1,   A08,   239,  1,   3724,    208,2,19940424,0107,-11.3337,  -3.4998, 4761,    605.2,   6.1293,  34.5643,2,  34.5655,2,     74.0,2,    23.88,2,    38.11,2, -999.000,9, -999.000,9, -999.000,9, -999.000,9, -999.000,9,-999.0000,9,  -999.00,9,-999.000,   -999.0,9,   -999.0,9,    605,-999.0000,-999.000,-999.000,9,  6.0753,-999.000
      06MT28_1,   A08,   239,  1,   3720,    207,2,19940424,0107,-11.3337,  -3.4998, 4761,    999.6,   4.1332,  34.5735,2,-999.0000,9,   -999.0,9,  -999.00,9,  -999.00,9, -999.000,9, -999.000,9, -999.000,9, -999.000,9, -999.000,9,-999.0000,9,  -999.00,9,-999.000,   -999.0,9,   -999.0,9,   1000,-999.0000,-999.000,-999.000,9,  4.0565,-999.000