BOTTLE,20220817CCHSIOAMB
EXPOCODE,SECT_ID,STNNBR,CASTNO,SAMPNO,BTLNBR,BTLNBR_FLAG_W,DATE,TIME,LATITUDE,LONGITUDE,DEPTH,CTDPRS,CTDTMP,CTDSAL,CTDSAL_FLAG_W,SALNTY,SALNTY_FLAG_W,OXYGEN,OXYGEN_FLAG_W,SILCAT,SILCAT_FLAG_W,NO2+NO3,NO2+NO3_FLAG_W,CFC-11,CFC-11_FLAG_W,CFC-12,CFC-12_FLAG_W,CFC113,CFC113_FLAG_W,CCL4,CCL4_FLAG_W,TRITUM,TRITUM_FLAG_W,HELIUM,HELIUM_FLAG_W,DELHE3,DELHE3_FLAG_W,NEON,TCARBN,TCARBN_FLAG_W,PCO2,PCO2_FLAG_W,CTDRAW,HELIER,DELHER,NEONER,NEON_FLAG_W,THETA,TRITER
,,,,,,,,,,,,DBAR,ITS-90,PSS-78,,PSS-78,,UMOL/KG,,UMOL/KG,,UMOL/KG,,PMOL/KG,,PMOL/KG,,PMOL/KG,,PMOL/KG,,TU,,NMOL/KG,,PERCNT,,NMOL/KG,UMOL/KG,,UATM,,,NMOL/KG,PERCNT,NMOL/KG,,ITS-90,TU
      06MT28_1,   A08,   262,  2,   2371,    324,2,19940501,2315,-11.3333,   8.9995, 4587,     16.8,  26.8902,  35.6970,2,  35.6980,2,    195.4,2,     0.87,2,     0.29,2,    1.518,2,    0.923,2,    0.127,2,    1.644,2, -999.000,9,-999.0000,9,  -999.00,9,-999.000,   2013.2,2,   -999.0,9,     13,-999.0000,-999.000,-999.000,9, 26.8863,-999.000
      06MT28_1,   A08,   262,  2,   2408,    323,2,19940501,2315,-11.3333,   8.9995, 4587,    647.5,   5.7099,  34.5432,2,-999.0000,9,     68.0,2,    25.98,2,    40.02,2,    0.005,2,    0.002,2,   -0.001,4,    0.032,2, -999.000,9,-999.0000,9,  -999.00,9,-999.000,   2254.0,2,   1732.0,2,    651,-999.0000,-999.000,-999.000,9,  5.6541,-999.000
      06MT28_1,   A08,   262,  2,   2407,    322,2,19940501,2315,-11.3333,   8.9995, 4587,    724.8,   5.1304,  34.5147,2,-999.0000,9,     89.7,2,    28.93,2,    38.38,2,    0.005,2,    0.001,2,    0.004,2,    0.026,2, -999.000,9,-999.0000,9,  -999.00,9,-999.000,   2245.2,2,   1590.4,2,    728,-999.0000,-999.000,-999.000,9,  5.0707,-999.000
      06MT28_1,   A08,   262,  2,   2406,    321,2,19940501,2315,-11.3333,   8.9995, 4587,    821.1,   4.6647,  34.5164,2,-999.0000,9,    120.2,2,    31.68,2,    36.93,2,    0.004,2,    0.000,2,   -0.003,4,    0.018,2, -999.000,9,-999.0000,9,  -999.00,9,-999.000,   2239.8,2,   1486.4,2,    825,-999.0000,-999.000,-999.000,9,  4.5995,-999.000
      06MT28_1,   A08,   262,  2,   2405,    320,2,19940501,2315,-11.3333,   8.9995, 4587,    921.0,   4.3504,  34.5383,2,-999.0000,9,    114.0,2,    33.09,2,    35.38,2,    0.000,2,    0.000,2,    0.020,4,    0.011,2, -999.000,9,-999.0000,9,  -999.00,9,-999.000,   2235.6,2,   1408.3,2,    925,-999.0000,-999.000,-999.000,9,  4.2788,-999.000
      06MT28_1,   A08,   262,  2,   2404,    319,2,19940501,2315,-11.3333,   8.9995, 4587,   1095.6,   4.0980,  34.6481,2,  34.6448,2,    117.1,2,    32.78,2,    32.40,2,    0.005,2,    0.001,2,    0.018,4,    0.009,2, -999.000,9,-999.0000,9,  -999.00,9,-999.000,   2227.6,2,   1260.9,2,   1099,-999.0000,-999.000,-999.000,9,  4.0133,-999.000
      06MT28_1,   A08,   262,  2,   2403,    318,2,19940501,2315,-11.3333,   8.9995, 4587,   1296.1,   3.9668,  34.7877,2,-999.0000,9,    139.0,2,    29.22,2,    27.99,2,    0.003,2,    0.001,2,    0.020,4,    0.006,2, -999.000,9,-999.0000,9,  -999.00,9,-999.000,   2211.4,2,   1131.2,2,   1300,-999.0000,-999.000,-999.000,9,  3.8656,-999.000
      06MT28_1,   A08,   262,  2,   2402,    317,2,19940501,2315,-11.3333,   8.9995, 4587,   1496.2,   3.8230,  34.8741,2,-999.0000,9,    165.8,2,    26.25,2,    24.82,2,    0.006,2,    0.001,2,    0.001,2,    0.012,2, -999.000,9,-999.0000,9,  -999.00,9,-999.000,   2195.4,2,    957.8,2,   1499,-999.0000,-999.000,-999.000,9,  3.7054,-999.000
      06MT28_1,   A08,   262,  2,   2401,    316,2,19940501,2315,-11.3333,   8.9995, 4587,   1697.8,   3.6577,  34.9142,2,-999.0000,9,    188.3,2,    25.56,2,    22.90,2,    0.001,2,    0.000,2,    0.021,4,    0.006,2, -999.000,9,-999.0000,9,  -999.00,9,-999.000,   2187.4,2,    904.0,2,   1700,-999.0000,-999.000,-999.000,9,  3.5237,-999.000
      06MT28_1,   A08,   262,  2,   2400,    315,2,19940501,2315,-11.3333,   8.9995, 4587,   1899.1,   3.4575,  34.9273,2,-999.0000,9,    204.3,2,    27.05,2,    22.12,2,    0.002,2,    0.000,2,    0.016,4,    0.006,2, -999.000,9,-999.0000,9,  -999.00,9,-999.000,   2186.0,2,    859.4,2,   1901,-999.0000,-999.000,-999.000,9,  3.3076,-999.000
      06MT28_1,   A08,   262,  2,   2398,    314,2,19940501,2315,-11.3333,   8.9995, 4587,   2098.3,   3.2381,  34.9288,2,  34.9297,2,    207.2,2,    29.78,2,    21.72,2,    0.001,2,    0.000,2,    0.029,4,    0.007,2, -999.000,9,-999.0000,9,  -999.00,9,-999.000,   2186.4,2,    854.1,2,   2100,-999.0000,-999.000,-999.000,9,  3.0728,-999.000
      06MT28_1,   A08,   262,  2,   2451,    313,2,19940501,2315,-11.3333,   8.9995, 4587,   2346.7,   3.0157,  34.9237,2,-999.0000,9,    218.3,2,    33.44,2,    21.79,2,    0.002,2,    0.000,2,    0.055,4,    0.002,2, -999.000,9,-999.0000,9,  -999.00,9,-999.000,   2189.8,2,    850.1,2,   2347,-999.0000,-999.000,-999.000,9,  2.8305,-999.000
      06MT28_1,   A08,   262,  2,   2444,    312,2,19940501,2315,-11.3333,   8.9995, 4587,   2599.0,   2.8285,  34.9170,2,-999.0000,9,    216.2,2,    36.91,2,    21.77,2,    0.001,2,    0.000,2,    0.023,4,    0.001,2, -999.000,9,-999.0000,9,  -999.00,9,-999.000,   2192.9,2,    838.5,2,   2599,-999.0000,-999.000,-999.000,9,  2.6221,-999.000
      06MT28_1,   A08,   262,  2,   2442,    311,2,19940501,2315,-11.3333,   8.9995, 4587,   2850.2,   2.6752,  34.9092,2,-999.0000,9,    216.0,2,    40.17,2,    21.84,2,    0.002,2,    0.000,2,    0.015,4,    0.002,2, -999.000,9,-999.0000,9,  -999.00,9,-999.000,   2196.9,2,    885.6,3,   2849,-999.0000,-999.000,-999.000,9,  2.4468,-999.000
      06MT28_1,   A08,   262,  2,   2441,    310,2,19940501,2315,-11.3333,   8.9995, 4587,   3101.7,   2.5768,  34.9037,2,  34.9045,2,    215.4,2,    42.96,2,    21.91,2,    0.002,2,    0.000,2,    0.036,4,    0.001,2, -999.000,9,-999.0000,9,  -999.00,9,-999.000,   2201.6,2,    838.4,2,   3100,-999.0000,-999.000,-999.000,9,  2.3248,-999.000
      06MT28_1,   A08,   262,  2,   2440,    309,2,19940501,2315,-11.3333,   8.9995, 4587,   3353.0,   2.4926,  34.8998,2,-999.0000,9,    211.7,2,    46.50,2,    22.31,2,    0.000,2,    0.000,2,    0.037,4,    0.002,2, -999.000,9,-999.0000,9,  -999.00,9,-999.000,   2208.6,2,    855.0,2,   3350,-999.0000,-999.000,-999.000,9,  2.2162,-999.000
      06MT28_1,   A08,   262,  2,   2439,    308,2,19940501,2315,-11.3333,   8.9995, 4587,   3603.0,   2.4153,  34.8935,2,-999.0000,9,    208.0,2,    49.94,2,    22.52,2,    0.001,2,    0.000,2,    0.019,4,    0.002,2, -999.000,9,-999.0000,9,  -999.00,9,-999.000,   2216.3,2,    876.7,2,   3599,-999.0000,-999.000,-999.000,9,  2.1138,-999.000
      06MT28_1,   A08,   262,  2,   2438,    307,2,19940501,2315,-11.3333,   8.9995, 4587,   3850.2,   2.3633,  34.8891,2,-999.0000,9,    202.8,2,    53.09,2,    22.83,2,    0.003,2,    0.000,2,    0.033,4,    0.004,2, -999.000,9,-999.0000,9,  -999.00,9,-999.000,   2225.1,2,    850.2,2,   3846,-999.0000,-999.000,-999.000,9,  2.0359,-999.000
      06MT28_1,   A08,   262,  2,   2437,    306,2,19940501,2315,-11.3333,   8.9995, 4587,   4104.3,   2.3567,  34.8874,2,  34.8868,2,    203.0,2,  -999.00,9,  -999.00,9,    0.001,2,    0.000,2,    0.028,4,    0.003,2, -999.000,9,-999.0000,9,  -999.00,9,-999.000,   2228.2,2,    862.0,2,   4100,-999.0000,-999.000,-999.000,9,  2.0006,-999.000
      06MT28_1,   A08,   262,  2,   2435,    305,2,19940501,2315,-11.3333,   8.9995, 4587,   4353.8,   2.3698,  34.8848,2,-999.0000,9,    203.2,2,  -999.00,9,  -999.00,9,    0.001,2,    0.001,2,    0.031,4,    0.005,2, -999.000,9,-999.0000,9,  -999.00,9,-999.000,   2228.5,2,    850.2,2,   4349,-999.0000,-999.000,-999.000,9,  1.9841,-999.000
      06MT28_1,   A08,   262,  2,   2483,    304,2,19940501,2315,-11.3333,   8.9995, 4587,   4533.2,   2.3809,  34.8846,2,-999.0000,9,    206.2,2,  -999.00,9,  -999.00,9,    0.002,2,    0.001,2,    0.022,4,    0.006,2, -999.000,9,-999.0000,9,  -999.00,9,-999.000,   2223.7,2,    845.3,2,   4528,-999.0000,-999.000,-999.000,9,  1.9734,-999.000
      06MT28_1,   A08,   262,  2,   2482,    303,2,19940501,2315,-11.3333,   8.9995, 4587,   4604.5,   2.3844,  34.8827,2,-999.0000,9,    205.6,2,  -999.00,9,  -999.00,9,    0.002,2,    0.000,2,    0.016,4,    0.007,2, -999.000,9,-999.0000,9,  -999.00,9,-999.000,   2225.0,2,    851.0,2,   4599,-999.0000,-999.000,-999.000,9,  1.9681,-999.000
      06MT28_1,   A08,   262,  2,   2480,    302,2,19940501,2315,-11.3333,   8.9995, 4587,   4635.8,   2.3883,  34.8830,2,  34.8829,2,    206.1,2,  -999.00,9,  -999.00,9,    0.004,2,    0.001,2,    0.029,4,    0.008,2, -999.000,9,-999.0000,9,  -999.00,9,-999.000,   2225.3,2,    845.0,2,   4630,-999.0000,-999.000,-999.000,9,  1.9681,-999.000
      06MT28_1,   A08,   262,  2,   2479,    301,2,19940501,2315,-11.3333,   8.9995, 4587,   4635.9,   2.3883,  34.8830,2,  34.8831,2,    206.2,2,  -999.00,9,  -999.00,9,    0.002,2,    0.000,2,    0.017,4,    0.009,2, -999.000,9,-999.0000,9,  -999.00,9,-999.000,   2226.4,2,    873.5,6,   4630,-999.0000,-999.000,-999.000,9,  1.9681,-999.000
      06MT28_1,   A08,   263,  1,   2478,    216,2,19940502,0402,-11.3335,   9.5003, 4409,      9.9,  26.9998,  35.6834,2,  35.6824,2,    197.2,2,     0.77,2,     0.00,2, -999.000,9, -999.000,9, -999.000,9, -999.000,9, -999.000,9,-999.0000,9,  -999.00,9,-999.000,   -999.0,9,   -999.0,9,     10,-999.0000,-999.000,-999.000,9, 26.9975,-999.000
      06MT28_1,   A08,   263,  1,   2476,    215,2,19940502,0402,-11.3335,   9.5003, 4409,     29.7,  19.9022,  35.7397,2,-999.0000,9,    266.7,4,     1.63,2,     0.77,2, -999.000,9, -999.000,9, -999.000,9, -999.000,9, -999.000,9,-999.0000,9,  -999.00,9,-999.000,   -999.0,9,   -999.0,9,     30,-999.0000,-999.000,-999.000,9, 19.8967,-999.000
      06MT28_1,   A08,   263,  1,   2475,    214,2,19940502,0402,-11.3335,   9.5003, 4409,     50.3,  16.0967,  35.6090,2,-999.0000,9,     45.3,2,     6.52,2,    23.48,2, -999.000,9, -999.000,9, -999.000,9, -999.000,9, -999.000,9,-999.0000,9,  -999.00,9,-999.000,   -999.0,9,   -999.0,9,     50,-999.0000,-999.000,-999.000,9, 16.0887,-999.000
      06MT28_1,   A08,   263,  1,   2474,    213,2,19940502,0402,-11.3335,   9.5003, 4409,     69.7,  15.5286,  35.5681,2,-999.0000,9,     46.9,2,     7.09,2,    24.15,2, -999.000,9, -999.000,9, -999.000,9, -999.000,9, -999.000,9,-999.0000,9,  -999.00,9,-999.000,   -999.0,9,   -999.0,9,     70,-999.0000,-999.000,-999.000,9, 15.5177,-999.000
      06MT28_1,   A08,   263,  1,   2473,    212,2,19940502,0402,-11.3335,   9.5003, 4409,    100.4,  14.8959,  35.5052,2,-999.0000,9,     46.9,2,     7.76,2,    25.01,2, -999.000,9, -999.000,9, -999.000,9, -999.000,9, -999.000,9,-999.0000,9,  -999.00,9,-999.000,   -999.0,9,   -999.0,9,    100,-999.0000,-999.000,-999.000,9, 14.8808,-999.000
      06MT28_1,   A08,   263,  1,   2472,    211,2,19940502,0402,-11.3335,   9.5003, 4409,    150.2,  14.1820,  35.4211,2,-999.0000,9,     46.5,2,     8.53,2,    26.05,2, -999.000,9, -999.000,9, -999.000,9, -999.000,9, -999.000,9,-999.0000,9,  -999.00,9,-999.000,   -999.0,9,   -999.0,9,    150,-999.0000,-999.000,-999.000,9, 14.1600,-999.000
      06MT28_1,   A08,   263,  1,   2471,    210,2,19940502,0402,-11.3335,   9.5003, 4409,    200.7,  13.1749,  35.2976,2,-999.0000,9,     45.1,2,     9.48,2,    27.58,2, -999.000,9, -999.000,9, -999.000,9, -999.000,9, -999.000,9,-999.0000,9,  -999.00,9,-999.000,   -999.0,9,   -999.0,9,    200,-999.0000,-999.000,-999.000,9, 13.1469,-999.000
      06MT28_1,   A08,   263,  1,   2470,    209,2,19940502,0402,-11.3335,   9.5003, 4409,    301.0,  11.0585,  35.0501,2,  35.0517,2,     28.8,2,    12.54,2,    32.77,2, -999.000,9, -999.000,9, -999.000,9, -999.000,9, -999.000,9,-999.0000,9,  -999.00,9,-999.000,   -999.0,9,   -999.0,9,    300,-999.0000,-999.000,-999.000,9, 11.0210,-999.000
      06MT28_1,   A08,   263,  1,   2518,    207,2,19940502,0402,-11.3335,   9.5003, 4409,    401.5,   9.2092,  34.8463,2,-999.0000,9,   -999.0,9,  -999.00,9,  -999.00,9, -999.000,9, -999.000,9, -999.000,9, -999.000,9, -999.000,9,-999.0000,9,  -999.00,9,-999.000,   -999.0,9,   -999.0,9,    401,-999.0000,-999.000,-999.000,9,  9.1645,-999.000
      06MT28_1,   A08,   263,  1,   2519,    208,2,19940502,0402,-11.3335,   9.5003, 4409,    401.9,   9.2139,  34.8457,2,-999.0000,9,     17.9,2,    16.88,2,    37.49,2, -999.000,9, -999.000,9, -999.000,9, -999.000,9, -999.000,9,-999.0000,9,  -999.00,9,-999.000,   -999.0,9,   -999.0,9,    401,-999.0000,-999.000,-999.000,9,  9.1691,-999.000