BOTTLE,20220817CCHSIOAMB
EXPOCODE,SECT_ID,STNNBR,CASTNO,SAMPNO,BTLNBR,BTLNBR_FLAG_W,DATE,TIME,LATITUDE,LONGITUDE,DEPTH,CTDPRS,CTDTMP,CTDSAL,CTDSAL_FLAG_W,SALNTY,SALNTY_FLAG_W,OXYGEN,OXYGEN_FLAG_W,SILCAT,SILCAT_FLAG_W,NO2+NO3,NO2+NO3_FLAG_W,CFC-11,CFC-11_FLAG_W,CFC-12,CFC-12_FLAG_W,CFC113,CFC113_FLAG_W,CCL4,CCL4_FLAG_W,TRITUM,TRITUM_FLAG_W,HELIUM,HELIUM_FLAG_W,DELHE3,DELHE3_FLAG_W,NEON,TCARBN,TCARBN_FLAG_W,PCO2,PCO2_FLAG_W,CTDRAW,HELIER,DELHER,NEONER,NEON_FLAG_W,THETA,TRITER
,,,,,,,,,,,,DBAR,ITS-90,PSS-78,,PSS-78,,UMOL/KG,,UMOL/KG,,UMOL/KG,,PMOL/KG,,PMOL/KG,,PMOL/KG,,PMOL/KG,,TU,,NMOL/KG,,PERCNT,,NMOL/KG,UMOL/KG,,UATM,,,NMOL/KG,PERCNT,NMOL/KG,,ITS-90,TU
      06MT28_1,   A08,   246,  2,    597,    324,2,19940426,0439,-11.3330,  -0.5003, 4925,     13.3,  25.8115,  36.7524,2,-999.0000,9,    196.5,2,     0.96,2,     0.00,2, -999.000,9, -999.000,9, -999.000,9, -999.000,9, -999.000,9,-999.0000,9,  -999.00,9,-999.000,   -999.0,9,   -999.0,9,     10,-999.0000,-999.000,-999.000,9, 25.8086,-999.000
      06MT28_1,   A08,   246,  2,    636,    323,2,19940426,0439,-11.3330,  -0.5003, 4925,    821.7,   4.6960,  34.5038,2,-999.0000,9,    113.8,2,    30.53,2,    36.16,2, -999.000,9, -999.000,9, -999.000,9, -999.000,9, -999.000,9,-999.0000,9,  -999.00,9,-999.000,   -999.0,9,   -999.0,9,    825,-999.0000,-999.000,-999.000,9,  4.6306,-999.000
      06MT28_1,   A08,   246,  2,    631,    322,2,19940426,0439,-11.3330,  -0.5003, 4925,    920.2,   4.3514,  34.5273,2,-999.0000,9,    129.0,2,    32.62,2,    34.81,2, -999.000,9, -999.000,9, -999.000,9, -999.000,9, -999.000,9,-999.0000,9,  -999.00,9,-999.000,   -999.0,9,   -999.0,9,    924,-999.0000,-999.000,-999.000,9,  4.2798,-999.000
      06MT28_1,   A08,   246,  2,    629,    321,2,19940426,0439,-11.3330,  -0.5003, 4925,   1096.1,   4.0553,  34.6308,2,-999.0000,9,    146.3,2,    32.78,2,    31.92,2, -999.000,9, -999.000,9, -999.000,9, -999.000,9, -999.000,9,-999.0000,9,  -999.00,9,-999.000,   -999.0,9,   -999.0,9,   1100,-999.0000,-999.000,-999.000,9,  3.9709,-999.000
      06MT28_1,   A08,   246,  2,    628,    320,2,19940426,0439,-11.3330,  -0.5003, 4925,   1295.8,   3.8579,  34.7595,2,-999.0000,9,    171.2,2,    30.27,2,    27.99,2, -999.000,9, -999.000,9, -999.000,9, -999.000,9, -999.000,9,-999.0000,9,  -999.00,9,-999.000,   -999.0,9,   -999.0,9,   1299,-999.0000,-999.000,-999.000,9,  3.7579,-999.000
      06MT28_1,   A08,   246,  2,    627,    319,2,19940426,0439,-11.3330,  -0.5003, 4925,   1496.7,   3.7490,  34.8751,2,-999.0000,9,    192.6,2,    26.44,2,    24.35,2, -999.000,9, -999.000,9, -999.000,9, -999.000,9, -999.000,9,-999.0000,9,  -999.00,9,-999.000,   -999.0,9,   -999.0,9,   1500,-999.0000,-999.000,-999.000,9,  3.6322,-999.000
      06MT28_1,   A08,   246,  2,    626,    318,2,19940426,0439,-11.3330,  -0.5003, 4925,   1697.6,   3.5763,  34.9137,2,-999.0000,9,    205.2,2,    25.94,2,    22.71,2, -999.000,9, -999.000,9, -999.000,9, -999.000,9, -999.000,9,-999.0000,9,  -999.00,9,-999.000,   -999.0,9,   -999.0,9,   1700,-999.0000,-999.000,-999.000,9,  3.4434,-999.000
      06MT28_1,   A08,   246,  2,    625,    317,2,19940426,0439,-11.3330,  -0.5003, 4925,   1897.8,   3.3738,  34.9242,2,-999.0000,9,    209.6,2,    28.00,2,    22.02,2, -999.000,9, -999.000,9, -999.000,9, -999.000,9, -999.000,9,-999.0000,9,  -999.00,9,-999.000,   -999.0,9,   -999.0,9,   1900,-999.0000,-999.000,-999.000,9,  3.2252,-999.000
      06MT28_1,   A08,   246,  2,    624,    316,2,19940426,0439,-11.3330,  -0.5003, 4925,   2098.3,   3.1721,  34.9246,2,  34.9244,2,    215.3,2,    30.35,2,    21.62,2, -999.000,9, -999.000,9, -999.000,9, -999.000,9, -999.000,9,-999.0000,9,  -999.00,9,-999.000,   -999.0,9,   -999.0,9,   2100,-999.0000,-999.000,-999.000,9,  3.0079,-999.000
      06MT28_1,   A08,   246,  2,    623,    315,2,19940426,0439,-11.3330,  -0.5003, 4925,   2350.5,   2.9664,  34.9189,2,-999.0000,9,    218.8,2,    34.01,2,    21.50,2, -999.000,9, -999.000,9, -999.000,9, -999.000,9, -999.000,9,-999.0000,9,  -999.00,9,-999.000,   -999.0,9,   -999.0,9,   2351,-999.0000,-999.000,-999.000,9,  2.7817,-999.000
      06MT28_1,   A08,   246,  2,    622,    314,2,19940426,0439,-11.3330,  -0.5003, 4925,   2598.9,   2.7998,  34.9112,2,-999.0000,9,    221.8,2,    36.81,2,    21.48,2, -999.000,9, -999.000,9, -999.000,9, -999.000,9, -999.000,9,-999.0000,9,  -999.00,9,-999.000,   -999.0,9,   -999.0,9,   2598,-999.0000,-999.000,-999.000,9,  2.5940,-999.000
      06MT28_1,   A08,   246,  2,    621,    313,2,19940426,0439,-11.3330,  -0.5003, 4925,   2850.8,   2.6740,  34.9062,2,-999.0000,9,    219.6,2,    39.61,2,    21.65,2, -999.000,9, -999.000,9, -999.000,9, -999.000,9, -999.000,9,-999.0000,9,  -999.00,9,-999.000,   -999.0,9,   -999.0,9,   2849,-999.0000,-999.000,-999.000,9,  2.4456,-999.000
      06MT28_1,   A08,   246,  2,    673,    312,2,19940426,0439,-11.3330,  -0.5003, 4925,   3101.6,   2.5447,  34.9001,2,  34.8983,2,    218.9,2,    43.06,2,    21.81,2, -999.000,9, -999.000,9, -999.000,9, -999.000,9, -999.000,9,-999.0000,9,  -999.00,9,-999.000,   -999.0,9,   -999.0,9,   3099,-999.0000,-999.000,-999.000,9,  2.2935,-999.000
      06MT28_1,   A08,   246,  2,    671,    311,2,19940426,0439,-11.3330,  -0.5003, 4925,   3352.9,   2.4638,  34.8962,2,-999.0000,9,    216.1,2,    45.37,2,    22.07,2, -999.000,9, -999.000,9, -999.000,9, -999.000,9, -999.000,9,-999.0000,9,  -999.00,9,-999.000,   -999.0,9,   -999.0,9,   3350,-999.0000,-999.000,-999.000,9,  2.1881,-999.000
      06MT28_1,   A08,   246,  2,    669,    310,2,19940426,0439,-11.3330,  -0.5003, 4925,   3602.4,   2.4109,  34.8934,2,-999.0000,9,    214.9,2,    47.11,2,    22.05,2, -999.000,9, -999.000,9, -999.000,9, -999.000,9, -999.000,9,-999.0000,9,  -999.00,9,-999.000,   -999.0,9,   -999.0,9,   3599,-999.0000,-999.000,-999.000,9,  2.1096,-999.000
      06MT28_1,   A08,   246,  2,    668,    309,2,19940426,0439,-11.3330,  -0.5003, 4925,   3853.9,   2.3757,  34.8898,2,-999.0000,9,    215.4,2,    48.29,2,    21.93,2, -999.000,9, -999.000,9, -999.000,9, -999.000,9, -999.000,9,-999.0000,9,  -999.00,9,-999.000,   -999.0,9,   -999.0,9,   3849,-999.0000,-999.000,-999.000,9,  2.0476,-999.000
      06MT28_1,   A08,   246,  2,    667,    308,2,19940426,0439,-11.3330,  -0.5003, 4925,   4104.7,   2.3691,  34.8884,2,  34.8887,2,    215.1,2,    48.61,2,    22.10,2, -999.000,9, -999.000,9, -999.000,9, -999.000,9, -999.000,9,-999.0000,9,  -999.00,9,-999.000,   -999.0,9,   -999.0,9,   4100,-999.0000,-999.000,-999.000,9,  2.0126,-999.000
      06MT28_1,   A08,   246,  2,    666,    307,2,19940426,0439,-11.3330,  -0.5003, 4925,   4355.3,   2.3650,  34.8867,2,-999.0000,9,    215.9,2,    48.85,2,    21.98,2,    0.006,2,    0.001,2,   -0.008,2,    0.016,2, -999.000,9,-999.0000,9,  -999.00,9,-999.000,   -999.0,9,   -999.0,9,   4350,-999.0000,-999.000,-999.000,9,  1.9793,-999.000
      06MT28_1,   A08,   246,  2,    665,    306,2,19940426,0439,-11.3330,  -0.5003, 4925,   4606.4,   2.3770,  34.8838,2,-999.0000,9,    215.9,2,    49.08,2,    21.96,2,    0.006,2,    0.001,2,    0.007,2,    0.017,2, -999.000,9,-999.0000,9,  -999.00,9,-999.000,   -999.0,9,   -999.0,9,   4601,-999.0000,-999.000,-999.000,9,  1.9607,-999.000
      06MT28_1,   A08,   246,  2,    664,    305,2,19940426,0439,-11.3330,  -0.5003, 4925,   4868.4,   2.3919,  34.8833,2,-999.0000,9,    216.1,2,    49.21,2,    21.84,2,    0.006,2,    0.002,2,    0.005,2,    0.018,2, -999.000,9,-999.0000,9,  -999.00,9,-999.000,   -999.0,9,   -999.0,9,   4862,-999.0000,-999.000,-999.000,9,  1.9428,-999.000
      06MT28_1,   A08,   246,  2,    663,    304,2,19940426,0439,-11.3330,  -0.5003, 4925,   4880.4,   2.3928,  34.8825,2,-999.0000,9,    216.5,2,    49.31,2,    21.89,2,    0.006,2,    0.001,2,    0.006,2,    0.020,2, -999.000,9,-999.0000,9,  -999.00,9,-999.000,   -999.0,9,   -999.0,9,   4874,-999.0000,-999.000,-999.000,9,  1.9422,-999.000
      06MT28_1,   A08,   246,  2,    662,    303,2,19940426,0439,-11.3330,  -0.5003, 4925,   4947.6,   2.3962,  34.8819,2,-999.0000,9,    216.7,2,    49.20,2,    21.88,2,    0.005,2,    0.001,2,    0.007,2,    0.021,2, -999.000,9,-999.0000,9,  -999.00,9,-999.000,   -999.0,9,   -999.0,9,   4941,-999.0000,-999.000,-999.000,9,  1.9370,-999.000
      06MT28_1,   A08,   246,  2,    661,    302,2,19940426,0439,-11.3330,  -0.5003, 4925,   4979.2,   2.3961,  34.8819,2,  34.8797,2,    216.7,2,    49.29,2,    21.88,2,    0.006,2,    0.002,2,    0.007,2,    0.022,2, -999.000,9,-999.0000,9,  -999.00,9,-999.000,   -999.0,9,   -999.0,9,   4973,-999.0000,-999.000,-999.000,9,  1.9330,-999.000
      06MT28_1,   A08,   246,  2,    660,    301,2,19940426,0439,-11.3330,  -0.5003, 4925,   4979.5,   2.3961,  34.8818,2,  34.8803,2,    217.1,2,    49.14,2,    21.93,2,    0.006,2,    0.002,2,    0.001,2,    0.024,2, -999.000,9,-999.0000,9,  -999.00,9,-999.000,   -999.0,9,   -999.0,9,   4973,-999.0000,-999.000,-999.000,9,  1.9329,-999.000
      06MT28_1,   A08,   247,  1,    659,    213,2,19940426,0919,-11.3357,  -0.2502, 5470,     10.1,  25.8841,  36.7449,2,-999.0000,9,   -999.0,9,  -999.00,9,  -999.00,9, -999.000,9, -999.000,9, -999.000,9, -999.000,9, -999.000,9,-999.0000,9,  -999.00,9,-999.000,   -999.0,9,   -999.0,9,      9,-999.0000,-999.000,-999.000,9, 25.8818,-999.000
      06MT28_1,   A08,   247,  1,    709,    212,2,19940426,0919,-11.3357,  -0.2502, 5470,    250.5,  10.4693,  34.9839,2,-999.0000,9,   -999.0,9,  -999.00,9,  -999.00,9, -999.000,9, -999.000,9, -999.000,9, -999.000,9, -999.000,9,-999.0000,9,  -999.00,9,-999.000,   -999.0,9,   -999.0,9,    250,-999.0000,-999.000,-999.000,9, 10.4393,-999.000
      06MT28_1,   A08,   247,  1,    708,    211,2,19940426,0919,-11.3357,  -0.2502, 5470,    550.8,   6.8988,  34.6280,2,  36.7436,4,   -999.0,9,  -999.00,9,  -999.00,9, -999.000,9, -999.000,9, -999.000,9, -999.000,9, -999.000,9,-999.0000,9,  -999.00,9,-999.000,   -999.0,9,   -999.0,9,    550,-999.0000,-999.000,-999.000,9,  6.8466,-999.000
      06MT28_1,   A08,   247,  1,    707,    210,2,19940426,0919,-11.3357,  -0.2502, 5470,    970.5,   4.2551,  34.5459,2,  34.9851,4,   -999.0,9,  -999.00,9,  -999.00,9, -999.000,9, -999.000,9, -999.000,9, -999.000,9, -999.000,9,-999.0000,9,  -999.00,9,-999.000,   -999.0,9,   -999.0,9,    971,-999.0000,-999.000,-999.000,9,  4.1800,-999.000
      06MT28_1,   A08,   247,  1,    706,    207,2,19940426,0919,-11.3357,  -0.2502, 5470,   1000.2,   4.2205,  34.5553,2,-999.0000,9,   -999.0,9,  -999.00,9,  -999.00,9, -999.000,9, -999.000,9, -999.000,9, -999.000,9, -999.000,9,-999.0000,9,  -999.00,9,-999.000,   -999.0,9,   -999.0,9,   1001,-999.0000,-999.000,-999.000,9,  4.1431,-999.000
      06MT28_1,   A08,   247,  1,    705,    209,2,19940426,0919,-11.3357,  -0.2502, 5470,   1000.4,   4.2095,  34.5585,2,  34.6295,4,   -999.0,9,  -999.00,9,  -999.00,9, -999.000,9, -999.000,9, -999.000,9, -999.000,9, -999.000,9,-999.0000,9,  -999.00,9,-999.000,   -999.0,9,   -999.0,9,   1001,-999.0000,-999.000,-999.000,9,  4.1321,-999.000
      06MT28_1,   A08,   247,  1,    704,    208,2,19940426,0919,-11.3357,  -0.2502, 5470,   1000.5,   4.2172,  34.5551,2,  34.6299,4,   -999.0,9,  -999.00,9,  -999.00,9, -999.000,9, -999.000,9, -999.000,9, -999.000,9, -999.000,9,-999.0000,9,  -999.00,9,-999.000,   -999.0,9,   -999.0,9,   1001,-999.0000,-999.000,-999.000,9,  4.1398,-999.000
      06MT28_1,   A08,   247,  2,    657,    309,2,19940426,1121,-11.3330,  -0.2487, 5473,     17.4,  25.9209,  36.7416,2,  36.7429,2,   -999.0,9,  -999.00,9,  -999.00,9, -999.000,9, -999.000,9, -999.000,9, -999.000,9, -999.000,9,-999.0000,9,  -999.00,9,-999.000,   -999.0,9,   -999.0,9,     14,-999.0000,-999.000,-999.000,9, 25.9170,-999.000
      06MT28_1,   A08,   247,  2,    703,    308,2,19940426,1121,-11.3330,  -0.2487, 5473,   1089.0,   4.0440,  34.6437,2,  34.6436,2,   -999.0,9,  -999.00,9,  -999.00,9, -999.000,9, -999.000,9, -999.000,9, -999.000,9, -999.000,9,-999.0000,9,  -999.00,9,-999.000,   -999.0,9,   -999.0,9,   1093,-999.0000,-999.000,-999.000,9,  3.9603,-999.000
      06MT28_1,   A08,   247,  2,    702,    307,2,19940426,1121,-11.3330,  -0.2487, 5473,   1496.5,   3.7581,  34.8703,2,  34.8698,2,   -999.0,9,  -999.00,9,  -999.00,9, -999.000,9, -999.000,9, -999.000,9, -999.000,9, -999.000,9,-999.0000,9,  -999.00,9,-999.000,   -999.0,9,   -999.0,9,   1500,-999.0000,-999.000,-999.000,9,  3.6412,-999.000
      06MT28_1,   A08,   247,  2,    701,    306,2,19940426,1121,-11.3330,  -0.2487, 5473,   2098.3,   3.1887,  34.9260,2,  34.9266,2,   -999.0,9,  -999.00,9,  -999.00,9, -999.000,9, -999.000,9, -999.000,9, -999.000,9, -999.000,9,-999.0000,9,  -999.00,9,-999.000,   -999.0,9,   -999.0,9,   2100,-999.0000,-999.000,-999.000,9,  3.0242,-999.000
      06MT28_1,   A08,   247,  2,    700,    305,2,19940426,1121,-11.3330,  -0.2487, 5473,   3022.8,   2.5981,  34.9028,2,  34.9011,2,   -999.0,9,  -999.00,9,  -999.00,9, -999.000,9, -999.000,9, -999.000,9, -999.000,9, -999.000,9,-999.0000,9,  -999.00,9,-999.000,   -999.0,9,   -999.0,9,   3021,-999.0000,-999.000,-999.000,9,  2.3538,-999.000
      06MT28_1,   A08,   247,  2,    699,    304,2,19940426,1121,-11.3330,  -0.2487, 5473,   4105.9,   2.3722,  34.8894,2,  34.8872,2,   -999.0,9,  -999.00,9,  -999.00,9, -999.000,9, -999.000,9, -999.000,9, -999.000,9, -999.000,9,-999.0000,9,  -999.00,9,-999.000,   -999.0,9,   -999.0,9,   4101,-999.0000,-999.000,-999.000,9,  2.0155,-999.000
      06MT28_1,   A08,   247,  2,    698,    303,2,19940426,1121,-11.3330,  -0.2487, 5473,   5106.1,   2.4135,  34.8824,2,  34.8809,2,   -999.0,9,  -999.00,9,  -999.00,9, -999.000,9, -999.000,9, -999.000,9, -999.000,9, -999.000,9,-999.0000,9,  -999.00,9,-999.000,   -999.0,9,   -999.0,9,   5100,-999.0000,-999.000,-999.000,9,  1.9335,-999.000
      06MT28_1,   A08,   247,  2,    697,    301,2,19940426,1121,-11.3330,  -0.2487, 5473,   5548.8,   2.4482,  34.8794,2,  34.8785,2,   -999.0,9,  -999.00,9,  -999.00,9, -999.000,9, -999.000,9, -999.000,9, -999.000,9, -999.000,9,-999.0000,9,  -999.00,9,-999.000,   -999.0,9,   -999.0,9,   5542,-999.0000,-999.000,-999.000,9,  1.9092,-999.000
      06MT28_1,   A08,   247,  2,    695,    302,2,19940426,1121,-11.3330,  -0.2487, 5473,   5549.1,   2.4484,  34.8791,2,  34.8783,2,   -999.0,9,  -999.00,9,  -999.00,9, -999.000,9, -999.000,9, -999.000,9, -999.000,9, -999.000,9,-999.0000,9,  -999.00,9,-999.000,   -999.0,9,   -999.0,9,   5542,-999.0000,-999.000,-999.000,9,  1.9094,-999.000
      06MT28_1,   A08,   248,  1,    749,    221,2,19940426,1559,-11.3330,  -0.0005, 5697,     10.5,  25.9067,  36.7246,2,  36.7283,2,    197.8,2,     0.86,2,     0.00,2,    1.611,2,    0.931,2,    0.104,2,    1.756,2,    0.869,2,   1.6490,2,    -2.06,2,   6.549,   2058.5,2,    485.1,6,     10,  0.0060,   0.240,   0.021,2, 25.9043,   0.054
      06MT28_1,   A08,   248,  1,    746,    220,2,19940426,1559,-11.3330,  -0.0005, 5697,     31.0,  25.8279,  36.7247,2,-999.0000,9,    199.0,2,     0.77,2,     0.00,2,    1.618,2,    0.948,2,    0.092,2,    1.725,2, -999.000,9,   1.6510,2,    -1.26,2,   6.538,   2056.9,2,    485.5,2,     30,  0.0060,   0.240,   0.021,2, 25.8209,-999.000
      06MT28_1,   A08,   248,  1,    745,    219,2,19940426,1559,-11.3330,  -0.0005, 5697,     50.5,  21.8534,  36.3345,2,-999.0000,9,    227.0,2,     0.86,2,     0.00,2,    1.940,2,    1.078,2,    0.084,2,    1.043,2, -999.000,9,   1.7230,2,    -0.66,2,   7.020,   2067.8,2,    557.2,2,     50,  0.0060,   0.240,   0.022,3, 21.8434,-999.000
      06MT28_1,   A08,   248,  1,    744,    218,2,19940426,1559,-11.3330,  -0.0005, 5697,     69.7,  19.4995,  36.0849,2,-999.0000,9,    203.2,2,     1.34,2,     2.68,2,    2.038,2,    1.104,2,    0.090,2,    0.914,2, -999.000,9,-999.0000,9,  -999.00,9,-999.000,   2092.4,2,    660.6,2,     69,-999.0000,-999.000,-999.000,9, 19.4868,-999.000
      06MT28_1,   A08,   248,  1,    743,    217,2,19940426,1559,-11.3330,  -0.0005, 5697,     99.2,  16.1334,  35.6716,2,-999.0000,9,    138.1,2,     3.45,2,    14.37,2,    1.895,2,    1.020,2,    0.083,2,    0.635,2, -999.000,9,   1.7250,6,    -0.34,6,   7.132,   2148.1,2,   1018.5,6,     99,  0.0070,   0.250,   0.024,6, 16.1176,-999.000
      06MT28_1,   A08,   248,  1,    742,    216,2,19940426,1559,-11.3330,  -0.0005, 5697,    150.3,  13.1099,  35.3053,2,-999.0000,9,     59.7,2,     7.95,2,    26.05,2,    0.990,2,    0.542,2,    0.032,2,    0.228,2, -999.000,9,   1.7410,2,     0.92,2,   7.281,   2209.9,2,   1685.4,2,    150,  0.0060,   0.240,   0.023,2, 13.0891,-999.000
      06MT28_1,   A08,   248,  1,    741,    215,2,19940426,1559,-11.3330,  -0.0005, 5697,    199.2,  11.4971,  35.1025,2,-999.0000,9,     59.4,2,     7.95,2,    26.04,2,    0.991,2,    0.538,2,    0.035,4,    0.229,2, -999.000,9,-999.0000,9,  -999.00,9,-999.000,   2208.8,2,   1661.2,2,    199,-999.0000,-999.000,-999.000,9, 11.4718,-999.000
      06MT28_1,   A08,   248,  1,    740,    214,2,19940426,1559,-11.3330,  -0.0005, 5697,    301.4,   9.7893,  34.9081,2,  34.9099,2,     45.8,2,    14.07,2,    33.20,2,    0.177,2,    0.109,2,    0.012,2,    0.096,2,    0.141,2,   1.7430,2,     1.30,2,   7.415,   2233.3,2,   2178.7,6,    301,  0.0060,   0.240,   0.024,2,  9.7547,   0.011
      06MT28_1,   A08,   248,  1,    739,    213,2,19940426,1559,-11.3330,  -0.0005, 5697,    400.5,   8.5526,  34.7758,2,-999.0000,9,     48.9,2,    16.74,2,    35.57,2,    0.077,2,    0.055,2,    0.011,2,    0.090,2, -999.000,9,-999.0000,9,  -999.00,9,-999.000,   2240.1,2,   1546.8,2,    400,-999.0000,-999.000,-999.000,9,  8.5100,-999.000
      06MT28_1,   A08,   248,  1,    738,    212,2,19940426,1559,-11.3330,  -0.0005, 5697,    501.2,   7.1553,  34.6460,2,-999.0000,9,     56.3,2,    20.55,2,    37.85,2,    0.026,2,    0.013,2,    0.008,2,    0.080,2, -999.000,9,-999.0000,9,  -999.00,9,-999.000,   2247.8,2,   1646.7,2,    501,-999.0000,-999.000,-999.000,9,  7.1070,-999.000
      06MT28_1,   A08,   248,  1,    737,    211,2,19940426,1559,-11.3330,  -0.0005, 5697,    599.7,   6.2214,  34.5744,2,  34.5781,2,     60.6,2,    23.88,2,    39.45,2,    0.010,2,    0.004,2,    0.004,2,    0.048,2,    0.044,2,-999.0000,9,  -999.00,9,-999.000,   2252.2,2,   1701.5,6,    600,-999.0000,-999.000,-999.000,9,  6.1675,   0.009
      06MT28_1,   A08,   248,  1,    736,    210,2,19940426,1559,-11.3330,  -0.0005, 5697,    700.8,   5.3043,  34.5186,2,-999.0000,9,     84.9,2,    27.88,2,    38.57,2,    0.003,2,    0.001,2,    0.008,4,    0.029,2, -999.000,9,   1.7860,2,     1.46,2,   7.702,   2246.2,2,   1605.8,2,    701,  0.0070,   0.240,   0.024,2,  5.2457,-999.000
      06MT28_1,   A08,   248,  1,    735,    209,2,19940426,1559,-11.3330,  -0.0005, 5697,    849.3,   4.4929,  34.5142,2,-999.0000,9,    122.7,2,    31.87,2,    35.30,2,    0.002,2,    0.002,2,    0.003,4,    0.029,2, -999.000,9,-999.0000,9,  -999.00,9,-999.000,   2230.8,2,   1365.4,2,    850,-999.0000,-999.000,-999.000,9,  4.4264,-999.000
      06MT28_1,   A08,   248,  1,    734,    208,2,19940426,1559,-11.3330,  -0.0005, 5697,    998.6,   4.1536,  34.5770,2,  34.5755,2,    138.0,2,    33.37,3,    33.32,3,    0.000,2,    0.003,2,    0.002,4,    0.013,2, -999.000,9,   1.7990,2,     2.41,2,   7.838,   2227.1,2,   1260.3,6,   1000,  0.0070,   0.240,   0.025,2,  4.0768,-999.000
      06MT28_1,   A08,   248,  1,    788,    207,2,19940426,1559,-11.3330,  -0.0005, 5697,    998.7,   4.1558,  34.5758,2,-999.0000,9,   -999.0,9,  -999.00,9,  -999.00,9, -999.000,9, -999.000,9, -999.000,9, -999.000,9, -999.000,9,-999.0000,9,  -999.00,9,-999.000,   -999.0,9,   -999.0,9,   1000,-999.0000,-999.000,-999.000,9,  4.0790,-999.000