BOTTLE,20220817CCHSIOAMB
EXPOCODE,SECT_ID,STNNBR,CASTNO,SAMPNO,BTLNBR,BTLNBR_FLAG_W,DATE,TIME,LATITUDE,LONGITUDE,DEPTH,CTDPRS,CTDTMP,CTDSAL,CTDSAL_FLAG_W,SALNTY,SALNTY_FLAG_W,OXYGEN,OXYGEN_FLAG_W,SILCAT,SILCAT_FLAG_W,NO2+NO3,NO2+NO3_FLAG_W,CFC-11,CFC-11_FLAG_W,CFC-12,CFC-12_FLAG_W,CFC113,CFC113_FLAG_W,CCL4,CCL4_FLAG_W,TRITUM,TRITUM_FLAG_W,HELIUM,HELIUM_FLAG_W,DELHE3,DELHE3_FLAG_W,NEON,TCARBN,TCARBN_FLAG_W,PCO2,PCO2_FLAG_W,CTDRAW,HELIER,DELHER,NEONER,NEON_FLAG_W,THETA,TRITER
,,,,,,,,,,,,DBAR,ITS-90,PSS-78,,PSS-78,,UMOL/KG,,UMOL/KG,,UMOL/KG,,PMOL/KG,,PMOL/KG,,PMOL/KG,,PMOL/KG,,TU,,NMOL/KG,,PERCNT,,NMOL/KG,UMOL/KG,,UATM,,,NMOL/KG,PERCNT,NMOL/KG,,ITS-90,TU
      06MT28_1,   A08,   256,  2,   1552,    324,2,19940429,1935,-11.3337,   5.3335, 5452,     17.2,  25.3021,  36.6933,2,  36.6923,2,    205.4,2,     0.58,2,     0.00,2, -999.000,9, -999.000,9, -999.000,9, -999.000,9, -999.000,9,-999.0000,9,  -999.00,9,-999.000,   2056.6,2,   -999.0,9,     14,-999.0000,-999.000,-999.000,9, 25.2983,-999.000
      06MT28_1,   A08,   256,  2,   1636,    323,2,19940429,1935,-11.3337,   5.3335, 5452,    997.3,   4.0990,  34.5889,2,  34.5901,2,    140.3,2,    34.03,2,    33.46,2, -999.000,9, -999.000,9, -999.000,9, -999.000,9, -999.000,9,-999.0000,9,  -999.00,9,-999.000,   2229.4,2,   1313.3,2,   1002,-999.0000,-999.000,-999.000,9,  4.0227,-999.000
      06MT28_1,   A08,   256,  2,   1626,    322,2,19940429,1935,-11.3337,   5.3335, 5452,   1196.5,   3.9073,  34.7419,2,-999.0000,9,    165.2,2,    31.24,2,    29.33,2,    0.002,2,    0.001,2,    0.031,4,    0.005,2, -999.000,9,   1.8080,2,     2.32,2,   7.883,   2213.8,2,   1108.7,2,   1201,  0.0070,   0.250,   0.026,2,  3.8154,-999.000
      06MT28_1,   A08,   256,  2,   1625,    321,2,19940429,1935,-11.3337,   5.3335, 5452,   1396.0,   3.8594,  34.8615,2,-999.0000,9,    186.9,2,    26.54,2,    25.31,2,    0.002,2,    0.001,2,    0.044,4,    0.008,2,    1.090,4,   1.8050,2,     1.84,2,   7.830,   2198.5,2,    972.1,2,   1400,  0.0070,   0.240,   0.025,2,  3.7504,   1.283
      06MT28_1,   A08,   256,  2,   1624,    320,2,19940429,1935,-11.3337,   5.3335, 5452,   1598.0,   3.6946,  34.9110,2,  34.9131,2,     -0.7,4,    25.38,2,    23.00,2,    0.000,2,    0.000,2,    0.014,4,    0.007,2, -999.000,9,   1.8100,2,     2.07,2,   7.861,   2189.1,2,    901.3,2,   1601,  0.0070,   0.250,   0.026,2,  3.5692,-999.000
      06MT28_1,   A08,   256,  2,   1623,    319,2,19940429,1935,-11.3337,   5.3335, 5452,   1796.7,   3.4928,  34.9264,2,-999.0000,9,    209.9,2,    26.69,2,    22.22,2,    0.003,2,    0.002,2,    0.055,4,    0.009,2, -999.000,9,   1.8180,2,     1.95,2,   7.897,   2185.6,2,    867.2,2,   1799,  0.0070,   0.250,   0.026,2,  3.3519,-999.000
      06MT28_1,   A08,   256,  2,   1621,    318,2,19940429,1935,-11.3337,   5.3335, 5452,   1998.1,   3.2801,  34.9286,2,  34.9297,2,    212.9,2,    29.51,2,    21.92,2,    0.006,2,    0.000,2,    0.016,4,    0.008,2,    0.024,2,   1.8300,2,     2.81,2,   7.944,   2186.8,2,    854.1,2,   2000,  0.0070,   0.240,   0.025,2,  3.1236,   0.005
      06MT28_1,   A08,   256,  2,   1661,    317,2,19940429,1935,-11.3337,   5.3335, 5452,   2248.5,   3.0645,  34.9243,2,-999.0000,9,    217.7,2,    32.60,2,    21.61,2,    0.004,2,    0.001,2,    0.036,4,    0.006,2, -999.000,9,   1.7940,4,     2.20,2,   7.942,   2189.1,2,    836.3,2,   2250,  0.0070,   0.250,   0.026,2,  2.8878,-999.000
      06MT28_1,   A08,   256,  2,   1660,    316,2,19940429,1935,-11.3337,   5.3335, 5452,   2500.0,   2.8832,  34.9182,2,-999.0000,9,    222.1,2,    35.60,2,    21.68,2,    0.001,2,    0.000,2,    0.029,4,    0.003,2, -999.000,9,   1.8180,2,     3.36,2,   7.951,   2190.6,2,    865.0,2,   2500,  0.0070,   0.250,   0.026,2,  2.6855,-999.000
      06MT28_1,   A08,   256,  2,   1659,    315,2,19940429,1935,-11.3337,   5.3335, 5452,   2749.8,   2.7499,  34.9141,2,-999.0000,9,    217.0,2,    38.77,2,    21.75,2,    0.001,2,    0.000,2,    0.043,4,    0.003,2, -999.000,9,-999.0000,9,  -999.00,9,-999.000,   2195.8,2,    841.0,2,   2749,-999.0000,-999.000,-999.000,9,  2.5301,-999.000
      06MT28_1,   A08,   256,  2,   1658,    314,2,19940429,1935,-11.3337,   5.3335, 5452,   3001.1,   2.6470,  34.9093,2,  34.9094,2,    217.1,2,    41.38,2,    21.82,2,    0.001,2,    0.000,2,    0.016,4,    0.002,2,    0.011,2,-999.0000,9,  -999.00,9,-999.000,   2199.0,2,    839.8,2,   2999,-999.0000,-999.000,-999.000,9,  2.4039,   0.002
      06MT28_1,   A08,   256,  2,   1657,    313,2,19940429,1935,-11.3337,   5.3335, 5452,   3253.2,   2.5249,  34.8999,2,-999.0000,9,    215.5,2,    44.35,2,    22.08,2, -999.000,9, -999.000,9, -999.000,9, -999.000,9, -999.000,9,-999.0000,9,  -999.00,9,-999.000,   2202.7,2,    831.2,2,   3251,-999.0000,-999.000,-999.000,9,  2.2583,-999.000
      06MT28_1,   A08,   256,  2,   1656,    312,2,19940429,1935,-11.3337,   5.3335, 5452,   3503.4,   2.4201,  34.8941,2,-999.0000,9,    210.8,2,    49.11,2,    22.44,2,    0.003,2,    0.001,2,    0.013,4,    0.006,2, -999.000,9,   1.8270,2,     3.27,2,   8.009,   2212.2,2,    849.3,2,   3500,  0.0070,   0.250,   0.026,2,  2.1293,-999.000
      06MT28_1,   A08,   256,  2,   1655,    311,2,19940429,1935,-11.3337,   5.3335, 5452,   3752.9,   2.3586,  34.8906,2,-999.0000,9,    213.8,2,    49.16,2,    22.32,2, -999.000,9, -999.000,9, -999.000,9, -999.000,9, -999.000,9,-999.0000,9,  -999.00,9,-999.000,   2211.6,2,    835.6,2,   3749,-999.0000,-999.000,-999.000,9,  2.0422,-999.000
      06MT28_1,   A08,   256,  2,   1708,    310,2,19940429,1935,-11.3337,   5.3335, 5452,   4004.8,   2.3515,  34.8885,2,  34.8885,2,    216.1,2,    49.20,2,    22.29,2, -999.000,9, -999.000,9, -999.000,9, -999.000,9, -999.000,9,-999.0000,9,  -999.00,9,-999.000,   2211.4,2,    829.3,2,   4000,-999.0000,-999.000,-999.000,9,  2.0070,-999.000
      06MT28_1,   A08,   256,  2,   1711,    309,2,19940429,1935,-11.3337,   5.3335, 5452,   4254.8,   2.3556,  34.8870,2,-999.0000,9,    216.4,2,    49.15,2,    22.08,2,    0.000,2,    0.000,2,    0.003,2,    0.006,2,    0.012,2,   1.8280,2,     2.47,2,   8.029,   2208.4,2,    826.7,2,   4250,  0.0070,   0.250,   0.026,2,  1.9820,   0.004
      06MT28_1,   A08,   256,  2,   1705,    308,2,19940429,1935,-11.3337,   5.3335, 5452,   4503.8,   2.3668,  34.8848,2,-999.0000,9,    216.8,2,    49.10,2,    22.06,2, -999.000,9, -999.000,9, -999.000,9, -999.000,9, -999.000,9,-999.0000,9,  -999.00,9,-999.000,   2209.2,2,    833.4,2,   4498,-999.0000,-999.000,-999.000,9,  1.9633,-999.000
      06MT28_1,   A08,   256,  2,   1712,    307,2,19940429,1935,-11.3337,   5.3335, 5452,   4755.6,   2.3799,  34.8821,2,-999.0000,9,    217.0,2,    49.52,2,    21.95,2,    0.002,2,    0.001,2,    0.026,4,    0.011,2, -999.000,9,   1.8360,2,     2.39,2,   8.046,   2209.2,2,    819.5,2,   4750,  0.0070,   0.250,   0.027,2,  1.9452,-999.000
      06MT28_1,   A08,   256,  2,   1710,    306,2,19940429,1935,-11.3337,   5.3335, 5452,   5006.3,   2.3973,  34.8809,2,  34.8782,2,    218.2,2,    49.37,2,    21.92,2,    0.004,2,    0.001,2,    0.034,4,    0.015,2, -999.000,9,-999.0000,9,  -999.00,9,-999.000,   2208.4,2,    832.3,2,   5000,-999.0000,-999.000,-999.000,9,  1.9307,-999.000
      06MT28_1,   A08,   256,  2,   1706,    305,2,19940429,1935,-11.3337,   5.3335, 5452,   5256.2,   2.4200,  34.8790,2,-999.0000,9,    217.7,2,    49.42,2,    21.81,2,    0.006,2,    0.001,2,    0.037,4,    0.021,2,    0.038,2,   1.8360,2,     3.93,2,   8.010,   2208.4,2,    824.6,2,   5250,  0.0070,   0.240,   0.025,2,  1.9205,   0.058
      06MT28_1,   A08,   256,  2,   1707,    304,2,19940429,1935,-11.3337,   5.3335, 5452,   5375.3,   2.4319,  34.8784,2,-999.0000,9,    217.7,2,    49.30,2,    21.84,2,    0.006,2,    0.000,2,    0.045,4,    0.024,2, -999.000,9,-999.0000,9,  -999.00,9,-999.000,   2207.4,2,    823.3,2,   5369,-999.0000,-999.000,-999.000,9,  1.9164,-999.000
      06MT28_1,   A08,   256,  2,   1709,    303,2,19940429,1935,-11.3337,   5.3335, 5452,   5445.2,   2.4397,  34.8780,2,-999.0000,9,    217.9,2,    49.38,2,    21.88,2,    0.006,2,    0.001,2,    0.041,4,    0.026,2, -999.000,9,-999.0000,9,  -999.00,9,-999.000,   2207.8,2,    829.3,2,   5439,-999.0000,-999.000,-999.000,9,  1.9148,-999.000
      06MT28_1,   A08,   256,  2,   1704,    301,2,19940429,1935,-11.3337,   5.3335, 5452,   5480.0,   2.4439,  34.8776,2,  34.8777,2,    218.0,2,    49.28,2,    21.79,2,    0.007,2,    0.002,2,   -0.005,2,    0.025,2, -999.000,9,   1.8410,2,     2.91,2,   7.998,   2209.2,2,    821.5,6,   5474,  0.0070,   0.240,   0.025,2,  1.9142,-999.000
      06MT28_1,   A08,   256,  2,   1703,    302,2,19940429,1935,-11.3337,   5.3335, 5452,   5480.0,   2.4440,  34.8786,2,  34.8771,2,    217.8,2,    49.37,2,    21.84,2,    0.009,2,    0.002,2,    0.033,4,    0.025,2, -999.000,9,-999.0000,9,  -999.00,9,-999.000,   2207.9,2,    824.8,2,   5474,-999.0000,-999.000,-999.000,9,  1.9143,-999.000
      06MT28_1,   A08,   257,  1,   1691,    223,2,19940430,0137,-11.3335,   5.9995, 5184,     10.5,  25.2102,  36.7158,2,  36.7102,2,   -999.0,9,  -999.00,9,  -999.00,9, -999.000,9, -999.000,9, -999.000,9, -999.000,9, -999.000,9,-999.0000,9,  -999.00,9,-999.000,   -999.0,9,   -999.0,9,      9,-999.0000,-999.000,-999.000,9, 25.2079,-999.000
      06MT28_1,   A08,   257,  1,   1689,    221,2,19940430,0137,-11.3335,   5.9995, 5184,     58.9,  20.7307,  36.1820,2,-999.0000,9,    227.2,2,     1.25,2,     0.38,2, -999.000,9, -999.000,9, -999.000,9, -999.000,9, -999.000,9,-999.0000,9,  -999.00,9,-999.000,   -999.0,9,   -999.0,9,     58,-999.0000,-999.000,-999.000,9, 20.7195,-999.000
      06MT28_1,   A08,   257,  1,   1688,    220,2,19940430,0137,-11.3335,   5.9995, 5184,     80.0,  16.6007,  35.7404,2,-999.0000,9,    111.3,2,     4.03,2,    16.50,2, -999.000,9, -999.000,9, -999.000,9, -999.000,9, -999.000,9,-999.0000,9,  -999.00,9,-999.000,   -999.0,9,   -999.0,9,     79,-999.0000,-999.000,-999.000,9, 16.5877,-999.000
      06MT28_1,   A08,   257,  1,   1686,    219,2,19940430,0137,-11.3335,   5.9995, 5184,    121.0,  13.4774,  35.3519,2,-999.0000,9,     53.8,2,     8.34,2,    26.26,2, -999.000,9, -999.000,9, -999.000,9, -999.000,9, -999.000,9,-999.0000,9,  -999.00,9,-999.000,   -999.0,9,   -999.0,9,    120,-999.0000,-999.000,-999.000,9, 13.4603,-999.000
      06MT28_1,   A08,   257,  1,   1685,    218,2,19940430,0137,-11.3335,   5.9995, 5184,    179.7,  12.0345,  35.1748,2,-999.0000,9,     59.1,2,     9.87,2,    27.78,2, -999.000,9, -999.000,9, -999.000,9, -999.000,9, -999.000,9,-999.0000,9,  -999.00,9,-999.000,   -999.0,9,   -999.0,9,    179,-999.0000,-999.000,-999.000,9, 12.0109,-999.000
      06MT28_1,   A08,   257,  1,   1732,    217,2,19940430,0137,-11.3335,   5.9995, 5184,    250.9,  11.0465,  35.0539,2,-999.0000,9,     48.4,2,    11.97,2,    30.64,2, -999.000,9, -999.000,9, -999.000,9, -999.000,9, -999.000,9,-999.0000,9,  -999.00,9,-999.000,   -999.0,9,   -999.0,9,    250,-999.0000,-999.000,-999.000,9, 11.0154,-999.000
      06MT28_1,   A08,   257,  1,   1731,    216,2,19940430,0137,-11.3335,   5.9995, 5184,    350.8,   9.6451,  34.8989,2,  35.0438,4,     39.5,2,    14.64,2,    34.27,2, -999.000,9, -999.000,9, -999.000,9, -999.000,9, -999.000,9,-999.0000,9,  -999.00,9,-999.000,   -999.0,9,   -999.0,9,    350,-999.0000,-999.000,-999.000,9,  9.6051,-999.000
      06MT28_1,   A08,   257,  1,   1729,    215,2,19940430,0137,-11.3335,   5.9995, 5184,    450.6,   8.3177,  34.7570,2,-999.0000,9,     38.3,2,    17.60,2,    36.83,2, -999.000,9, -999.000,9, -999.000,9, -999.000,9, -999.000,9,-999.0000,9,  -999.00,9,-999.000,   -999.0,9,   -999.0,9,    450,-999.0000,-999.000,-999.000,9,  8.2705,-999.000
      06MT28_1,   A08,   257,  1,   1728,    214,2,19940430,0137,-11.3335,   5.9995, 5184,    550.3,   6.8406,  34.6267,2,-999.0000,9,     55.2,2,    21.61,2,    38.43,2, -999.000,9, -999.000,9, -999.000,9, -999.000,9, -999.000,9,-999.0000,9,  -999.00,9,-999.000,   -999.0,9,   -999.0,9,    550,-999.0000,-999.000,-999.000,9,  6.7887,-999.000
      06MT28_1,   A08,   257,  1,   1727,    213,2,19940430,0137,-11.3335,   5.9995, 5184,    650.0,   5.7191,  34.5456,2,  34.6185,4,     68.2,2,    26.09,2,    39.46,2, -999.000,9, -999.000,9, -999.000,9, -999.000,9, -999.000,9,-999.0000,9,  -999.00,9,-999.000,   -999.0,9,   -999.0,9,    650,-999.0000,-999.000,-999.000,9,  5.6630,-999.000
      06MT28_1,   A08,   257,  1,   1726,    212,2,19940430,0137,-11.3335,   5.9995, 5184,    749.5,   4.9248,  34.5071,2,-999.0000,9,     99.6,2,    29.89,2,    37.34,2, -999.000,9, -999.000,9, -999.000,9, -999.000,9, -999.000,9,-999.0000,9,  -999.00,9,-999.000,   -999.0,9,   -999.0,9,    749,-999.0000,-999.000,-999.000,9,  4.8641,-999.000
      06MT28_1,   A08,   257,  1,   1725,    211,2,19940430,0137,-11.3335,   5.9995, 5184,    824.5,   4.5597,  34.5110,2,-999.0000,9,    114.0,2,    31.98,2,    36.18,2, -999.000,9, -999.000,9, -999.000,9, -999.000,9, -999.000,9,-999.0000,9,  -999.00,9,-999.000,   -999.0,9,   -999.0,9,    825,-999.0000,-999.000,-999.000,9,  4.4948,-999.000
      06MT28_1,   A08,   257,  1,   1774,    210,2,19940430,0137,-11.3335,   5.9995, 5184,    922.4,   4.2573,  34.5495,2,-999.0000,9,    127.0,2,    33.49,2,    34.54,2, -999.000,9, -999.000,9, -999.000,9, -999.000,9, -999.000,9,-999.0000,9,  -999.00,9,-999.000,   -999.0,9,   -999.0,9,    923,-999.0000,-999.000,-999.000,9,  4.1862,-999.000
      06MT28_1,   A08,   257,  1,   1771,    207,2,19940430,0137,-11.3335,   5.9995, 5184,    999.1,   4.1117,  34.5917,2,-999.0000,9,   -999.0,9,  -999.00,9,  -999.00,9, -999.000,9, -999.000,9, -999.000,9, -999.000,9, -999.000,9,-999.0000,9,  -999.00,9,-999.000,   -999.0,9,   -999.0,9,   1000,-999.0000,-999.000,-999.000,9,  4.0352,-999.000
      06MT28_1,   A08,   257,  1,   1769,    208,2,19940430,0137,-11.3335,   5.9995, 5184,    999.6,   4.1086,  34.5935,2,-999.0000,9,    140.5,2,    33.60,2,    33.18,2, -999.000,9, -999.000,9, -999.000,9, -999.000,9, -999.000,9,-999.0000,9,  -999.00,9,-999.000,   -999.0,9,   -999.0,9,   1000,-999.0000,-999.000,-999.000,9,  4.0320,-999.000
      06MT28_1,   A08,   257,  1,   1770,    209,2,19940430,0137,-11.3335,   5.9995, 5184,    999.7,   4.1086,  34.5935,2,-999.0000,9,    138.1,2,    33.57,2,    33.19,2, -999.000,9, -999.000,9, -999.000,9, -999.000,9, -999.000,9,-999.0000,9,  -999.00,9,-999.000,   -999.0,9,   -999.0,9,   1000,-999.0000,-999.000,-999.000,9,  4.0320,-999.000