BOTTLE,20220817CCHSIOAMB
EXPOCODE,SECT_ID,STNNBR,CASTNO,SAMPNO,BTLNBR,BTLNBR_FLAG_W,DATE,TIME,LATITUDE,LONGITUDE,DEPTH,CTDPRS,CTDTMP,CTDSAL,CTDSAL_FLAG_W,SALNTY,SALNTY_FLAG_W,OXYGEN,OXYGEN_FLAG_W,SILCAT,SILCAT_FLAG_W,NO2+NO3,NO2+NO3_FLAG_W,CFC-11,CFC-11_FLAG_W,CFC-12,CFC-12_FLAG_W,CFC113,CFC113_FLAG_W,CCL4,CCL4_FLAG_W,TRITUM,TRITUM_FLAG_W,HELIUM,HELIUM_FLAG_W,DELHE3,DELHE3_FLAG_W,NEON,TCARBN,TCARBN_FLAG_W,PCO2,PCO2_FLAG_W,CTDRAW,HELIER,DELHER,NEONER,NEON_FLAG_W,THETA,TRITER
,,,,,,,,,,,,DBAR,ITS-90,PSS-78,,PSS-78,,UMOL/KG,,UMOL/KG,,UMOL/KG,,PMOL/KG,,PMOL/KG,,PMOL/KG,,PMOL/KG,,TU,,NMOL/KG,,PERCNT,,NMOL/KG,UMOL/KG,,UATM,,,NMOL/KG,PERCNT,NMOL/KG,,ITS-90,TU
      06MT28_1,   A08,   189,  2,   1150,    324,2,19940407,1907,-11.3332, -29.3323, 5430,     13.8,  28.2550,  36.9535,2,  36.9535,2,    195.6,2,     0.96,3,     0.00,3, -999.000,9, -999.000,9, -999.000,9, -999.000,9, -999.000,9,-999.0000,9,  -999.00,9,-999.000,   -999.0,9,   -999.0,9,     10,-999.0000,-999.000,-999.000,9, 28.2517,-999.000
      06MT28_1,   A08,   189,  2,   1136,    323,2,19940407,1907,-11.3332, -29.3323, 5430,    846.3,   4.1407,  34.4523,2,-999.0000,9,    164.0,2,    33.30,2,    32.44,2, -999.000,9, -999.000,9, -999.000,9, -999.000,9, -999.000,9,-999.0000,9,  -999.00,9,-999.000,   -999.0,9,   -999.0,9,    850,-999.0000,-999.000,-999.000,9,  4.0768,-999.000
      06MT28_1,   A08,   189,  2,   1132,    322,2,19940407,1907,-11.3332, -29.3323, 5430,    995.8,   3.8902,  34.5471,2,  34.5457,2,    166.6,2,    35.08,2,    31.46,2, -999.000,9, -999.000,9, -999.000,9, -999.000,9, -999.000,9,-999.0000,9,  -999.00,9,-999.000,   -999.0,9,   -999.0,9,   1000,-999.0000,-999.000,-999.000,9,  3.8157,-999.000
      06MT28_1,   A08,   189,  2,   1195,    321,2,19940407,1907,-11.3332, -29.3323, 5430,   1196.4,   4.0122,  34.7238,2,-999.0000,9,    177.1,2,    29.71,2,    28.19,2, -999.000,9, -999.000,9, -999.000,9, -999.000,9, -999.000,9,-999.0000,9,  -999.00,9,-999.000,   -999.0,9,   -999.0,9,   1200,-999.0000,-999.000,-999.000,9,  3.9194,-999.000
      06MT28_1,   A08,   189,  2,   1194,    320,2,19940407,1907,-11.3332, -29.3323, 5430,   1397.3,   4.1051,  34.8736,2,-999.0000,9,    200.9,2,    23.02,2,    24.07,2, -999.000,9, -999.000,9, -999.000,9, -999.000,9, -999.000,9,-999.0000,9,  -999.00,9,-999.000,   -999.0,9,   -999.0,9,   1400,-999.0000,-999.000,-999.000,9,  3.9933,-999.000
      06MT28_1,   A08,   189,  2,   1193,    319,2,19940407,1907,-11.3332, -29.3323, 5430,   1597.2,   3.8772,  34.9375,2,-999.0000,9,    222.6,2,    20.25,2,    21.01,2, -999.000,9, -999.000,9, -999.000,9, -999.000,9, -999.000,9,-999.0000,9,  -999.00,9,-999.000,   -999.0,9,   -999.0,9,   1600,-999.0000,-999.000,-999.000,9,  3.7497,-999.000
      06MT28_1,   A08,   189,  2,   1192,    318,2,19940407,1907,-11.3332, -29.3323, 5430,   1798.0,   3.6171,  34.9570,2,-999.0000,9,    236.4,2,    19.85,2,    19.47,2, -999.000,9, -999.000,9, -999.000,9, -999.000,9, -999.000,9,-999.0000,9,  -999.00,9,-999.000,   -999.0,9,   -999.0,9,   1800,-999.0000,-999.000,-999.000,9,  3.4743,-999.000
      06MT28_1,   A08,   189,  2,   1191,    317,2,19940407,1907,-11.3332, -29.3323, 5430,   1999.3,   3.3715,  34.9569,2,  34.9574,2,    241.2,2,    21.16,2,    18.88,2, -999.000,9, -999.000,9, -999.000,9, -999.000,9, -999.000,9,-999.0000,9,  -999.00,9,-999.000,   -999.0,9,   -999.0,9,   2000,-999.0000,-999.000,-999.000,9,  3.2134,-999.000
      06MT28_1,   A08,   189,  2,   1190,    316,2,19940407,1907,-11.3332, -29.3323, 5430,   2250.3,   3.1135,  34.9406,2,-999.0000,9,    240.2,2,    25.21,2,    19.33,2, -999.000,9, -999.000,9, -999.000,9, -999.000,9, -999.000,9,-999.0000,9,  -999.00,9,-999.000,   -999.0,9,   -999.0,9,   2250,-999.0000,-999.000,-999.000,9,  2.9358,-999.000
      06MT28_1,   A08,   189,  2,   1189,    315,2,19940407,1907,-11.3332, -29.3323, 5430,   2500.7,   2.9177,  34.9265,2,-999.0000,9,    237.5,2,    29.44,2,    19.88,2, -999.000,9, -999.000,9, -999.000,9, -999.000,9, -999.000,9,-999.0000,9,  -999.00,9,-999.000,   -999.0,9,   -999.0,9,   2500,-999.0000,-999.000,-999.000,9,  2.7193,-999.000
      06MT28_1,   A08,   189,  2,   1188,    314,2,19940407,1907,-11.3332, -29.3323, 5430,   2752.3,   2.8243,  34.9250,2,-999.0000,9,    238.9,2,    29.79,2,    19.67,2, -999.000,9, -999.000,9, -999.000,9, -999.000,9, -999.000,9,-999.0000,9,  -999.00,9,-999.000,   -999.0,9,   -999.0,9,   2751,-999.0000,-999.000,-999.000,9,  2.6027,-999.000
      06MT28_1,   A08,   189,  2,   1187,    313,2,19940407,1907,-11.3332, -29.3323, 5430,   3001.3,   2.7267,  34.9205,2,  34.9211,2,    240.1,2,    30.70,2,    19.55,2, -999.000,9, -999.000,9, -999.000,9, -999.000,9, -999.000,9,-999.0000,9,  -999.00,9,-999.000,   -999.0,9,   -999.0,9,   2999,-999.0000,-999.000,-999.000,9,  2.4818,-999.000
      06MT28_1,   A08,   189,  2,   1186,    312,2,19940407,1907,-11.3332, -29.3323, 5430,   3252.9,   2.6259,  34.9153,2,-999.0000,9,    240.5,2,    31.52,2,    19.44,2, -999.000,9, -999.000,9, -999.000,9, -999.000,9, -999.000,9,-999.0000,9,  -999.00,9,-999.000,   -999.0,9,   -999.0,9,   3249,-999.0000,-999.000,-999.000,9,  2.3569,-999.000
      06MT28_1,   A08,   189,  2,   1185,    311,2,19940407,1907,-11.3332, -29.3323, 5430,   3504.1,   2.5090,  34.9077,2,-999.0000,9,    242.4,2,    33.09,2,    19.42,2, -999.000,9, -999.000,9, -999.000,9, -999.000,9, -999.000,9,-999.0000,9,  -999.00,9,-999.000,   -999.0,9,   -999.0,9,   3500,-999.0000,-999.000,-999.000,9,  2.2159,-999.000
      06MT28_1,   A08,   189,  2,   1184,    310,2,19940407,1907,-11.3332, -29.3323, 5430,   3755.5,   2.2166,  34.8787,2,-999.0000,9,    237.9,2,    43.22,2,    20.72,2, -999.000,9, -999.000,9, -999.000,9, -999.000,9, -999.000,9,-999.0000,9,  -999.00,9,-999.000,   -999.0,9,   -999.0,9,   3751,-999.0000,-999.000,-999.000,9,  1.9037,-999.000
      06MT28_1,   A08,   189,  2,   1183,    309,2,19940407,1907,-11.3332, -29.3323, 5430,   4005.3,   1.7335,  34.8247,2,  34.8256,2,    227.5,2,    64.15,2,    23.70,2, -999.000,9, -999.000,9, -999.000,9, -999.000,9, -999.000,9,-999.0000,9,  -999.00,9,-999.000,   -999.0,9,   -999.0,9,   4000,-999.0000,-999.000,-999.000,9,  1.4065,-999.000
      06MT28_1,   A08,   189,  2,   1182,    308,2,19940407,1907,-11.3332, -29.3323, 5430,   4255.2,   1.2875,  34.7761,2,-999.0000,9,    219.5,2,    82.69,2,    26.22,2, -999.000,9, -999.000,9, -999.000,9, -999.000,9, -999.000,9,-999.0000,9,  -999.00,9,-999.000,   -999.0,9,   -999.0,9,   4249,-999.0000,-999.000,-999.000,9,  0.9461,-999.000
      06MT28_1,   A08,   189,  2,   1181,    307,2,19940407,1907,-11.3332, -29.3323, 5430,   4506.4,   0.9814,  34.7428,2,-999.0000,9,    214.2,2,    94.80,2,    27.88,2, -999.000,9, -999.000,9, -999.000,9, -999.000,9, -999.000,9,-999.0000,9,  -999.00,9,-999.000,   -999.0,9,   -999.0,9,   4500,-999.0000,-999.000,-999.000,9,  0.6215,-999.000
      06MT28_1,   A08,   189,  2,   1180,    306,2,19940407,1907,-11.3332, -29.3323, 5430,   4755.2,   0.8114,  34.7238,2,-999.0000,9,    210.7,2,   101.83,2,    28.88,2, -999.000,9, -999.000,9, -999.000,9, -999.000,9, -999.000,9,-999.0000,9,  -999.00,9,-999.000,   -999.0,9,   -999.0,9,   4749,-999.0000,-999.000,-999.000,9,  0.4287,-999.000
      06MT28_1,   A08,   189,  2,   1179,    305,2,19940407,1907,-11.3332, -29.3323, 5430,   5005.4,   0.7004,  34.7099,2,  34.7087,2,    209.3,2,   106.60,2,    29.41,2, -999.000,9, -999.000,9, -999.000,9, -999.000,9, -999.000,9,-999.0000,9,  -999.00,9,-999.000,   -999.0,9,   -999.0,9,   4999,-999.0000,-999.000,-999.000,9,  0.2926,-999.000
      06MT28_1,   A08,   189,  2,   1178,    304,2,19940407,1907,-11.3332, -29.3323, 5430,   5407.1,   0.5722,  34.6917,2,-999.0000,9,    206.6,2,   113.06,2,    30.11,2, -999.000,9, -999.000,9, -999.000,9, -999.000,9, -999.000,9,-999.0000,9,  -999.00,9,-999.000,   -999.0,9,   -999.0,9,   5400,-999.0000,-999.000,-999.000,9,  0.1210,-999.000
      06MT28_1,   A08,   189,  2,   1177,    303,2,19940407,1907,-11.3332, -29.3323, 5430,   5508.5,   0.5574,  34.6900,2,-999.0000,9,    205.9,2,   113.58,2,    30.24,2, -999.000,9, -999.000,9, -999.000,9, -999.000,9, -999.000,9,-999.0000,9,  -999.00,9,-999.000,   -999.0,9,   -999.0,9,   5502,-999.0000,-999.000,-999.000,9,  0.0944,-999.000
      06MT28_1,   A08,   189,  2,   1176,    301,2,19940407,1907,-11.3332, -29.3323, 5430,   5538.8,   0.5601,  34.6893,2,  34.6932,2,    205.1,2,   114.12,2,    30.24,2, -999.000,9, -999.000,9, -999.000,9, -999.000,9, -999.000,9,-999.0000,9,  -999.00,9,-999.000,   -999.0,9,   -999.0,9,   5532,-999.0000,-999.000,-999.000,9,  0.0932,-999.000
      06MT28_1,   A08,   189,  2,   1175,    302,2,19940407,1907,-11.3332, -29.3323, 5430,   5539.3,   0.5602,  34.6890,2,  34.6905,2,    205.7,2,   113.84,2,    30.24,2, -999.000,9, -999.000,9, -999.000,9, -999.000,9, -999.000,9,-999.0000,9,  -999.00,9,-999.000,   -999.0,9,   -999.0,9,   5533,-999.0000,-999.000,-999.000,9,  0.0933,-999.000
      06MT28_1,   A08,   190,  1,   1172,    222,2,19940408,0234,-11.3320, -28.6660, 5467,     30.8,  27.9283,  37.0399,2,-999.0000,9,   -999.0,9,  -999.00,9,  -999.00,9, -999.000,9, -999.000,9, -999.000,9, -999.000,9, -999.000,9,-999.0000,9,  -999.00,9,-999.000,   -999.0,9,   -999.0,9,     30,-999.0000,-999.000,-999.000,9, 27.9210,-999.000
      06MT28_1,   A08,   190,  1,   1159,    221,2,19940408,0234,-11.3320, -28.6660, 5467,     50.5,  27.9053,  37.0667,2,-999.0000,9,   -999.0,9,     0.86,2,     0.00,4,    1.522,2,    0.877,2,    0.074,4,    1.734,2,    0.822,2,   1.6690,2,    -1.37,2,   6.517,   -999.0,9,   -999.0,9,     50,  0.0060,   0.240,   0.021,2, 27.8934,   0.021
      06MT28_1,   A08,   190,  1,   1232,    220,2,19940408,0234,-11.3320, -28.6660, 5467,     70.7,  25.9725,  36.8678,2,-999.0000,9,   -999.0,9,     0.67,2,     0.00,4,    1.699,2,    0.965,2,    0.132,2,    1.211,2,    0.770,2,   1.6580,2,    -1.79,2,   6.605,   -999.0,9,   -999.0,9,     70,  0.0060,   0.240,   0.021,2, 25.9567,   0.021
      06MT28_1,   A08,   190,  1,   1233,    219,2,19940408,0234,-11.3320, -28.6660, 5467,    100.5,  24.7502,  36.9613,2,-999.0000,9,   -999.0,9,     0.77,2,     0.00,4,    1.771,2,    0.990,2,    0.146,2,    1.314,2,    0.812,2,   1.6740,2,    -1.98,2,   6.682,   -999.0,9,   -999.0,9,    100,  0.0060,   0.240,   0.021,2, 24.7284,   0.024
      06MT28_1,   A08,   190,  1,   1231,    218,2,19940408,0234,-11.3320, -28.6660, 5467,    149.9,  20.1827,  36.3088,2,-999.0000,9,   -999.0,9,     1.25,2,     0.96,2,    2.021,2,    1.092,2,    0.130,2,    0.911,2,    0.816,2,   1.7010,2,    -1.04,2,   6.901,   -999.0,9,   -999.0,9,    150,  0.0060,   0.240,   0.022,2, 20.1546,   0.057
      06MT28_1,   A08,   190,  1,   1230,    217,2,19940408,0234,-11.3320, -28.6660, 5467,    200.6,  15.7898,  35.6323,2,-999.0000,9,   -999.0,9,     3.64,2,    11.02,2,    1.858,2,    0.978,2,    0.054,2,    0.526,2,    0.768,2,   1.7090,2,     0.06,2,   7.083,   -999.0,9,   -999.0,9,    201,  0.0060,   0.240,   0.023,2, 15.7581,   0.020
      06MT28_1,   A08,   190,  1,   1229,    216,2,19940408,0234,-11.3320, -28.6660, 5467,    301.5,  11.0081,  35.0215,2,-999.0000,9,   -999.0,9,    10.14,2,    25.36,2,    0.641,2,    0.346,2,    0.017,2,    0.231,2,    0.322,2,   1.7430,2,     1.14,2,   7.363,   -999.0,9,   -999.0,9,    302,  0.0060,   0.240,   0.023,2, 10.9707,   0.011
      06MT28_1,   A08,   190,  1,   1228,    215,2,19940408,0234,-11.3320, -28.6660, 5467,    400.9,   7.9959,  34.6836,2,-999.0000,9,   -999.0,9,    15.59,2,    29.17,2,    0.335,2,    0.186,2,    0.010,2,    0.400,2,    0.146,2,   1.7770,6,     1.08,6,   7.576,   -999.0,9,   -999.0,9,    401,  0.0070,   0.250,   0.025,6,  7.9550,   0.034
      06MT28_1,   A08,   190,  1,   1227,    213,2,19940408,0234,-11.3320, -28.6660, 5467,    500.7,   6.4016,  34.5367,2,-999.0000,9,   -999.0,9,    20.54,2,    28.47,2, -999.000,9, -999.000,9, -999.000,9, -999.000,9, -999.000,9,-999.0000,9,  -999.00,9,-999.000,   -999.0,9,   -999.0,9,    501,-999.0000,-999.000,-999.000,9,  6.3563,-999.000
      06MT28_1,   A08,   190,  1,   1226,    214,2,19940408,0234,-11.3320, -28.6660, 5467,    500.8,   6.4016,  34.5366,2,-999.0000,9,   -999.0,9,    19.98,2,    31.35,2,    0.219,6,    0.125,6,    0.026,6,    0.475,6,    0.080,2,   1.7150,3,     1.45,2,   7.363,   -999.0,9,   -999.0,9,    501,  0.0060,   0.250,   0.024,3,  6.3563,   0.006
      06MT28_1,   A08,   190,  1,   1225,    212,2,19940408,0234,-11.3320, -28.6660, 5467,    699.0,   4.9457,  34.4512,2,-999.0000,9,    191.9,2,    26.83,2,    32.37,2,    0.135,2,    0.074,2,    0.014,2,    0.465,2,    0.053,2,   1.7840,2,     2.12,2,   7.704,   -999.0,9,   -999.0,9,    700,  0.0070,   0.250,   0.025,2,  4.8893,   0.008
      06MT28_1,   A08,   190,  1,   1224,    211,2,19940408,0234,-11.3320, -28.6660, 5467,    847.7,   4.2413,  34.4497,2,-999.0000,9,    208.7,2,    32.06,2,    32.20,2, -999.000,9, -999.000,9, -999.000,9, -999.000,9,   -0.002,2,-999.0000,9,  -999.00,9,-999.000,   -999.0,9,   -999.0,9,    849,-999.0000,-999.000,-999.000,9,  4.1767,   0.790
      06MT28_1,   A08,   190,  1,   1222,    210,2,19940408,0234,-11.3320, -28.6660, 5467,   1003.8,   3.9822,  34.5196,2,  34.5188,2,    209.6,2,    34.51,2,    31.98,2,    0.014,2,    0.009,2,    0.001,2,    0.125,2,    0.008,2,   1.8050,6,     2.54,6,   7.823,   -999.0,9,   -999.0,9,   1006,  0.0070,   0.250,   0.026,6,  3.9064,   0.039