BOTTLE,20220817CCHSIOAMB
EXPOCODE,SECT_ID,STNNBR,CASTNO,SAMPNO,BTLNBR,BTLNBR_FLAG_W,DATE,TIME,LATITUDE,LONGITUDE,DEPTH,CTDPRS,CTDTMP,CTDSAL,CTDSAL_FLAG_W,SALNTY,SALNTY_FLAG_W,OXYGEN,OXYGEN_FLAG_W,SILCAT,SILCAT_FLAG_W,NO2+NO3,NO2+NO3_FLAG_W,CFC-11,CFC-11_FLAG_W,CFC-12,CFC-12_FLAG_W,CFC113,CFC113_FLAG_W,CCL4,CCL4_FLAG_W,TRITUM,TRITUM_FLAG_W,HELIUM,HELIUM_FLAG_W,DELHE3,DELHE3_FLAG_W,NEON,TCARBN,TCARBN_FLAG_W,PCO2,PCO2_FLAG_W,CTDRAW,HELIER,DELHER,NEONER,NEON_FLAG_W,THETA,TRITER
,,,,,,,,,,,,DBAR,ITS-90,PSS-78,,PSS-78,,UMOL/KG,,UMOL/KG,,UMOL/KG,,PMOL/KG,,PMOL/KG,,PMOL/KG,,PMOL/KG,,TU,,NMOL/KG,,PERCNT,,NMOL/KG,UMOL/KG,,UATM,,,NMOL/KG,PERCNT,NMOL/KG,,ITS-90,TU
      06MT28_1,   A08,   218,  1,   2686,    213,2,19940417,1452,-11.3342, -13.6670, 2914,      8.0,  26.8101,  36.8619,2,-999.0000,9,    192.8,2,  -999.00,9,  -999.00,9,    1.574,2,    0.901,2,    0.087,4,    1.779,2, -999.000,9,-999.0000,9,  -999.00,9,-999.000,   -999.0,9,   -999.0,9,      8,-999.0000,-999.000,-999.000,9, 26.8083,-999.000
      06MT28_1,   A08,   218,  1,   2685,    214,2,19940417,1452,-11.3342, -13.6670, 2914,      8.0,  26.8103,  36.8618,2,-999.0000,9,    193.9,2,  -999.00,9,  -999.00,9,    1.575,2,    0.904,2,    0.083,4,    1.787,2, -999.000,9,-999.0000,9,  -999.00,9,-999.000,   -999.0,9,   -999.0,9,      8,-999.0000,-999.000,-999.000,9, 26.8085,-999.000
      06MT28_1,   A08,   218,  1,   2684,    215,2,19940417,1452,-11.3342, -13.6670, 2914,      8.0,  26.8103,  36.8618,2,-999.0000,9,    193.2,2,  -999.00,9,  -999.00,9, -999.000,9, -999.000,9, -999.000,9, -999.000,9, -999.000,9,-999.0000,9,  -999.00,9,-999.000,   -999.0,9,   -999.0,9,      8,-999.0000,-999.000,-999.000,9, 26.8085,-999.000
      06MT28_1,   A08,   218,  1,   2683,    216,2,19940417,1452,-11.3342, -13.6670, 2914,      8.0,  26.7995,  36.8609,2,-999.0000,9,    192.8,2,  -999.00,9,  -999.00,9, -999.000,9, -999.000,9, -999.000,9, -999.000,9, -999.000,9,-999.0000,9,  -999.00,9,-999.000,   -999.0,9,   -999.0,9,      8,-999.0000,-999.000,-999.000,9, 26.7977,-999.000
      06MT28_1,   A08,   218,  1,   2682,    217,2,19940417,1452,-11.3342, -13.6670, 2914,      8.2,  26.7941,  36.8601,2,-999.0000,9,    192.8,2,  -999.00,9,  -999.00,9, -999.000,9, -999.000,9, -999.000,9, -999.000,9, -999.000,9,-999.0000,9,  -999.00,9,-999.000,   -999.0,9,   -999.0,9,      8,-999.0000,-999.000,-999.000,9, 26.7922,-999.000
      06MT28_1,   A08,   218,  1,   2681,    218,2,19940417,1452,-11.3342, -13.6670, 2914,      8.3,  26.7981,  36.8598,2,-999.0000,9,    192.7,2,  -999.00,9,  -999.00,9, -999.000,9, -999.000,9, -999.000,9, -999.000,9, -999.000,9,-999.0000,9,  -999.00,9,-999.000,   -999.0,9,   -999.0,9,      8,-999.0000,-999.000,-999.000,9, 26.7962,-999.000
      06MT28_1,   A08,   218,  1,   2680,    219,2,19940417,1452,-11.3342, -13.6670, 2914,      8.3,  26.8056,  36.8603,2,-999.0000,9,    192.5,2,  -999.00,9,  -999.00,9, -999.000,9, -999.000,9, -999.000,9, -999.000,9, -999.000,9,-999.0000,9,  -999.00,9,-999.000,   -999.0,9,   -999.0,9,      8,-999.0000,-999.000,-999.000,9, 26.8037,-999.000
      06MT28_1,   A08,   218,  1,   2679,    220,2,19940417,1452,-11.3342, -13.6670, 2914,      8.4,  26.8039,  36.8602,2,-999.0000,9,    192.8,2,  -999.00,9,  -999.00,9, -999.000,9, -999.000,9, -999.000,9, -999.000,9, -999.000,9,-999.0000,9,  -999.00,9,-999.000,   -999.0,9,   -999.0,9,      8,-999.0000,-999.000,-999.000,9, 26.8020,-999.000
      06MT28_1,   A08,   218,  1,   2678,    221,2,19940417,1452,-11.3342, -13.6670, 2914,      8.4,  26.8030,  36.8602,2,-999.0000,9,    192.3,2,  -999.00,9,  -999.00,9, -999.000,9, -999.000,9, -999.000,9, -999.000,9, -999.000,9,-999.0000,9,  -999.00,9,-999.000,   2061.1,2,   -999.0,9,      8,-999.0000,-999.000,-999.000,9, 26.8011,-999.000
      06MT28_1,   A08,   218,  1,   2677,    223,2,19940417,1452,-11.3342, -13.6670, 2914,      8.4,  26.8030,  36.8602,2,-999.0000,9,   -999.0,9,  -999.00,9,  -999.00,9, -999.000,9, -999.000,9, -999.000,9, -999.000,9, -999.000,9,-999.0000,9,  -999.00,9,-999.000,   -999.0,9,   -999.0,9,      8,-999.0000,-999.000,-999.000,9, 26.8011,-999.000
      06MT28_1,   A08,   218,  1,   2687,    211,2,19940417,1452,-11.3342, -13.6670, 2914,      9.0,  26.8089,  36.8633,2,  36.8609,2,    192.9,2,     0.86,3,     0.00,3,    1.590,2,    0.904,2,    0.092,4,    1.754,2,    0.827,2,   1.6760,2,    -1.02,2,   6.591,   2061.0,2,    482.6,6,      8,  0.0060,   0.240,   0.021,2, 26.8068,   0.022
      06MT28_1,   A08,   218,  1,   2688,    212,2,19940417,1452,-11.3342, -13.6670, 2914,      9.1,  26.8155,  36.8623,2,-999.0000,9,    192.8,2,     0.77,3,     0.00,3,    1.575,2,    0.900,2,    0.111,4,    1.757,2, -999.000,9,-999.0000,9,  -999.00,9,-999.000,   -999.0,9,   -999.0,9,      8,-999.0000,-999.000,-999.000,9, 26.8134,-999.000
      06MT28_1,   A08,   218,  1,   2676,    210,2,19940417,1452,-11.3342, -13.6670, 2914,     28.7,  26.7507,  36.8607,2,-999.0000,9,    193.3,2,     0.77,2,     0.00,2,    1.591,2,    0.932,2,    0.087,4,    1.808,2, -999.000,9,   1.7140,2,    -2.35,2,   6.715,   2059.7,2,    476.9,2,     28,  0.0060,   0.240,   0.021,3, 26.7441,-999.000
      06MT28_1,   A08,   218,  1,   2675,    209,2,19940417,1452,-11.3342, -13.6670, 2914,     49.0,  26.6918,  36.8585,2,-999.0000,9,      2.0,4,     0.77,2,     0.00,2,    1.638,2,    0.930,2,    0.106,4,    1.695,2,    0.863,2,-999.0000,9,  -999.00,9,-999.000,   2061.9,2,    483.5,2,     48,-999.0000,-999.000,-999.000,9, 26.6806,   0.024
      06MT28_1,   A08,   218,  1,   2674,    208,2,19940417,1452,-11.3342, -13.6670, 2914,     69.6,  22.7870,  36.6122,2,-999.0000,9,    211.1,2,     0.82,2,     0.00,2,    1.927,2,    1.056,2,    0.129,2,    1.212,2, -999.000,9,   1.6900,2,    -1.64,2,   6.813,   2076.0,2,    544.8,6,     69,  0.0060,   0.240,   0.022,2, 22.7728,-999.000
      06MT28_1,   A08,   218,  1,   2724,    207,2,19940417,1452,-11.3342, -13.6670, 2914,   1001.9,   4.0692,  34.5578,2,-999.0000,9,   -999.0,9,  -999.00,9,  -999.00,9, -999.000,9, -999.000,9, -999.000,9, -999.000,9, -999.000,9,-999.0000,9,  -999.00,9,-999.000,   -999.0,9,   -999.0,9,   1002,-999.0000,-999.000,-999.000,9,  3.9928,-999.000
      06MT28_1,   A08,   218,  2,   2673,    324,2,19940417,1620,-11.3342, -13.6653, 2958,     72.1,  22.8276,  36.6149,2,  36.6112,2,    213.2,2,     0.86,2,     0.00,2, -999.000,9, -999.000,9, -999.000,9, -999.000,9, -999.000,9,-999.0000,9,  -999.00,9,-999.000,   2072.9,2,   -999.0,9,     70,-999.0000,-999.000,-999.000,9, 22.8128,-999.000
      06MT28_1,   A08,   218,  2,   2672,    323,2,19940417,1620,-11.3342, -13.6653, 2958,    101.1,  20.0812,  36.2786,2,-999.0000,9,    172.2,2,     1.63,2,     2.49,2, -999.000,9, -999.000,9, -999.000,9, -999.000,9, -999.000,9,-999.0000,9,  -999.00,9,-999.000,   2099.3,2,    640.5,2,    100,-999.0000,-999.000,-999.000,9, 20.0624,-999.000
      06MT28_1,   A08,   218,  2,   2671,    322,2,19940417,1620,-11.3342, -13.6653, 2958,    149.0,  15.8059,  35.6835,2,-999.0000,9,    129.2,2,     4.51,2,    14.77,2,    1.644,2,    0.880,2,    0.076,2,    0.536,2,    0.660,2,-999.0000,9,  -999.00,9,-999.000,   2152.3,2,   1008.2,2,    149,-999.0000,-999.000,-999.000,9, 15.7825,   0.021
      06MT28_1,   A08,   218,  2,   2670,    321,2,19940417,1620,-11.3342, -13.6653, 2958,    199.6,  13.5366,  35.3692,2,-999.0000,9,     95.0,2,     7.28,2,    21.56,2,    1.166,2,    0.628,2,    0.036,2,    0.315,2, -999.000,9,   1.7730,2,     1.17,2,   7.532,   2183.7,2,   1445.6,2,    200,  0.0070,   0.250,   0.025,2, 13.5083,-999.000
      06MT28_1,   A08,   218,  2,   2669,    320,2,19940417,1620,-11.3342, -13.6653, 2958,    298.3,   9.6666,  34.8961,2,-999.0000,9,     76.4,2,    13.41,2,    30.16,2,    0.310,2,    0.177,2,    0.013,2,    0.173,2,    0.174,2,   1.6520,4,     1.15,2,   7.024,   2215.9,2,   1861.5,2,    300,  0.0060,   0.250,   0.023,4,  9.6326,   0.009
      06MT28_1,   A08,   218,  2,   2668,    319,2,19940417,1620,-11.3342, -13.6653, 2958,    397.8,   8.7084,  34.7887,2,-999.0000,9,     77.5,2,    15.50,2,    32.05,2,    0.185,2,    0.111,2,    0.005,2,    0.176,2, -999.000,9,-999.0000,9,  -999.00,9,-999.000,   2222.6,2,   -999.0,9,    400,-999.0000,-999.000,-999.000,9,  8.6656,-999.000
      06MT28_1,   A08,   218,  2,   2667,    318,2,19940417,1620,-11.3342, -13.6653, 2958,    497.5,   7.5029,  34.6709,2,-999.0000,9,     80.8,2,    18.84,2,    34.33,2,    0.075,2,    0.049,2,    0.003,2,    0.149,2,    0.051,2,-999.0000,9,  -999.00,9,-999.000,   2230.6,2,   -999.0,9,    500,-999.0000,-999.000,-999.000,9,  7.4537,   0.006
      06MT28_1,   A08,   218,  2,   2664,    317,2,19940417,1620,-11.3342, -13.6653, 2958,    597.0,   6.6950,  34.6010,2,-999.0000,9,     90.5,2,    21.22,2,    35.08,2,    0.047,2,    0.029,2,    0.007,2,    0.148,2, -999.000,9,   1.7860,2,     1.17,2,   7.688,   2229.8,2,   -999.0,9,    600,  0.0070,   0.250,   0.025,2,  6.6392,-999.000
      06MT28_1,   A08,   218,  2,   2651,    316,2,19940417,1620,-11.3342, -13.6653, 2958,    696.1,   5.4937,  34.5009,2,-999.0000,9,    121.4,2,    25.13,2,    34.11,2,    0.041,2,    0.030,2,    0.011,2,    0.211,2,   -0.863,4,-999.0000,9,  -999.00,9,-999.000,   2220.5,2,   -999.0,9,    700,-999.0000,-999.000,-999.000,9,  5.4346,   1.142
      06MT28_1,   A08,   218,  2,   2726,    315,2,19940417,1620,-11.3342, -13.6653, 2958,    844.6,   4.5912,  34.4794,2,-999.0000,9,    139.0,2,    31.22,2,    33.71,2,    0.019,2,    0.011,2,    0.008,2,    0.139,2, -999.000,9,   1.8000,2,     2.47,2,   7.746,   2219.9,2,   1218.9,2,    848,  0.0070,   0.250,   0.026,2,  4.5245,-999.000
      06MT28_1,   A08,   218,  2,   2725,    314,2,19940417,1620,-11.3342, -13.6653, 2958,    995.1,   4.0772,  34.5488,2,-999.0000,9,    152.8,2,    33.49,2,    31.96,2,    0.006,2,    0.005,2,    0.008,2,    0.069,2,    0.014,2,   1.7900,2,     2.60,2,   7.779,   2218.4,2,   1181.3,2,    999,  0.0070,   0.240,   0.025,2,  4.0013,   0.003
      06MT28_1,   A08,   218,  2,   2723,    313,2,19940417,1620,-11.3342, -13.6653, 2958,   1196.0,   3.9817,  34.6897,2,  34.6917,2,    165.1,2,    31.08,2,    29.27,2,    0.004,2,    0.004,2,    0.005,2,    0.021,2, -999.000,9,   1.8060,2,     3.24,2,   7.808,   2211.8,2,   1064.9,2,   1200,  0.0070,   0.250,   0.026,2,  3.8893,-999.000
      06MT28_1,   A08,   218,  2,   2722,    312,2,19940417,1620,-11.3342, -13.6653, 2958,   1396.6,   3.9948,  34.8295,2,-999.0000,9,    186.7,2,    25.71,2,    25.33,2,    0.004,2,    0.002,2,    0.007,2,    0.043,2,    0.011,2,   1.8000,2,     2.06,2,   7.822,   2195.2,2,    929.3,2,   1400,  0.0070,   0.240,   0.025,2,  3.8844,   0.003
      06MT28_1,   A08,   218,  2,   2721,    311,2,19940417,1620,-11.3342, -13.6653, 2958,   1593.4,   3.8362,  34.9090,2,-999.0000,9,    209.1,2,    22.84,2,    22.17,2,    0.005,2,    0.004,2,    0.003,2,    0.081,2, -999.000,9,   1.8100,2,     2.87,2,   7.871,   2180.9,2,    845.0,6,   1597,  0.0070,   0.250,   0.026,2,  3.7096,-999.000
      06MT28_1,   A08,   218,  2,   2720,    310,2,19940417,1620,-11.3342, -13.6653, 2958,   1797.5,   3.5489,  34.9411,2,-999.0000,9,    224.5,2,    22.91,2,    20.25,2,    0.009,2,    0.007,2,    0.009,2,    0.120,2,    0.056,2,   1.8060,2,     3.07,2,   7.867,   2173.2,2,    788.0,2,   1800,  0.0070,   0.240,   0.025,2,  3.4071,   0.017
      06MT28_1,   A08,   218,  2,   2719,    309,2,19940417,1620,-11.3342, -13.6653, 2958,   1998.1,   3.3413,  34.9385,2,-999.0000,9,    227.7,2,    24.98,2,    20.04,2,    0.010,2,    0.006,2,    0.009,2,    0.095,2, -999.000,9,   1.8240,2,     3.40,2,   7.899,   2173.4,2,    790.1,2,   2000,  0.0070,   0.250,   0.026,2,  3.1838,-999.000
      06MT28_1,   A08,   218,  2,   2718,    308,2,19940417,1620,-11.3342, -13.6653, 2958,   2249.0,   3.0012,  34.9197,2,  34.9216,2,    227.0,2,    31.12,2,    20.49,2,    0.003,2,    0.003,2,   -0.001,2,    0.050,2, -999.000,9,   1.8080,2,     3.82,2,   7.874,   2180.4,2,    782.2,2,   2250,  0.0070,   0.240,   0.025,2,  2.8255,-999.000
      06MT28_1,   A08,   218,  2,   2717,    307,2,19940417,1620,-11.3342, -13.6653, 2958,   2499.3,   2.8435,  34.9094,2,-999.0000,9,    225.2,2,    35.26,2,    20.95,2,    0.004,2,    0.005,2,    0.003,2,    0.034,2, -999.000,9,   1.8170,2,     4.11,2,   7.892,   2185.3,2,    802.9,2,   2500,  0.0070,   0.250,   0.026,2,  2.6466,-999.000
      06MT28_1,   A08,   218,  2,   2716,    306,2,19940417,1620,-11.3342, -13.6653, 2958,   2750.2,   2.6964,  34.9002,2,-999.0000,9,    222.9,2,    38.91,2,    21.30,2,    0.001,3,    0.003,2,    0.003,2,    0.021,2,    0.058,2,   1.8150,2,     4.52,2,   8.068,   2189.5,2,    794.7,2,   2750,  0.0070,   0.240,   0.026,3,  2.4777,   0.022
      06MT28_1,   A08,   218,  2,   2715,    305,2,19940417,1620,-11.3342, -13.6653, 2958,   2877.4,   2.6539,  34.8981,2,-999.0000,9,    222.8,2,    39.91,2,    21.28,2,    0.003,2,    0.005,2,    0.004,2,    0.020,2, -999.000,9,   1.8340,2,     4.42,2,   7.987,   2191.1,2,    800.1,2,   2877,  0.0070,   0.250,   0.026,2,  2.4233,-999.000
      06MT28_1,   A08,   218,  2,   2714,    304,2,19940417,1620,-11.3342, -13.6653, 2958,   2951.0,   2.6377,  34.8963,2,-999.0000,9,      2.2,4,    40.50,2,    21.41,2,    0.002,2,    0.002,2,    0.004,2,    0.017,2, -999.000,9,   1.8350,2,     4.39,2,   7.968,   2194.4,2,    798.7,2,   2950,  0.0070,   0.240,   0.025,2,  2.4000,-999.000
      06MT28_1,   A08,   218,  2,   2713,    303,2,19940417,1620,-11.3342, -13.6653, 2958,   2978.0,   2.6229,  34.8963,2,-999.0000,9,    222.1,2,    40.72,2,    21.31,2, -999.000,9, -999.000,9, -999.000,9, -999.000,9, -999.000,9,   1.7650,3,     4.81,2,   7.664,   2192.4,2,    802.0,2,   2977,  0.0070,   0.250,   0.025,3,  2.3827,-999.000
      06MT28_1,   A08,   218,  2,   2711,    301,2,19940417,1620,-11.3342, -13.6653, 2958,   2978.5,   2.6229,  34.8960,2,  34.8945,2,    221.9,2,    40.72,2,    21.35,2,    0.009,2,    0.007,2,    0.002,2,    0.017,2,    0.007,2,   1.8350,2,     4.05,2,   7.988,   2192.0,2,    808.4,6,   2978,  0.0070,   0.250,   0.026,2,  2.3827,   0.002
      06MT28_1,   A08,   218,  2,   2712,    302,2,19940417,1620,-11.3342, -13.6653, 2958,   2978.5,   2.6229,  34.8960,2,  34.8972,2,    221.8,2,    40.77,2,    21.73,2, -999.000,9, -999.000,9, -999.000,9, -999.000,9, -999.000,9,-999.0000,9,  -999.00,9,-999.000,   2193.0,2,    803.9,2,   2978,-999.0000,-999.000,-999.000,9,  2.3827,-999.000
      06MT28_1,   A08,   219,  1,   2710,    210,2,19940417,2125,-11.3335, -13.2507, 2573,     10.0,  26.8073,  36.7553,2,-999.0000,9,   -999.0,9,  -999.00,9,  -999.00,9, -999.000,9, -999.000,9, -999.000,9, -999.000,9, -999.000,9,-999.0000,9,  -999.00,9,-999.000,   -999.0,9,   -999.0,9,     10,-999.0000,-999.000,-999.000,9, 26.8050,-999.000
      06MT28_1,   A08,   219,  1,   2709,    209,2,19940417,2125,-11.3335, -13.2507, 2573,     39.1,  26.5760,  36.7570,2,-999.0000,9,   -999.0,9,  -999.00,9,  -999.00,9, -999.000,9, -999.000,9, -999.000,9, -999.000,9, -999.000,9,-999.0000,9,  -999.00,9,-999.000,   -999.0,9,   -999.0,9,     39,-999.0000,-999.000,-999.000,9, 26.5671,-999.000
      06MT28_1,   A08,   219,  1,   2708,    208,2,19940417,2125,-11.3335, -13.2507, 2573,     58.8,  23.2153,  36.6362,2,-999.0000,9,   -999.0,9,  -999.00,9,  -999.00,9, -999.000,9, -999.000,9, -999.000,9, -999.000,9, -999.000,9,-999.0000,9,  -999.00,9,-999.000,   -999.0,9,   -999.0,9,     59,-999.0000,-999.000,-999.000,9, 23.2032,-999.000
      06MT28_1,   A08,   219,  1,   2706,    207,2,19940417,2125,-11.3335, -13.2507, 2573,     59.3,  23.1982,  36.6394,2,-999.0000,9,   -999.0,9,  -999.00,9,  -999.00,9, -999.000,9, -999.000,9, -999.000,9, -999.000,9, -999.000,9,-999.0000,9,  -999.00,9,-999.000,   -999.0,9,   -999.0,9,     59,-999.0000,-999.000,-999.000,9, 23.1860,-999.000