BOTTLE,20220817CCHSIOAMB
EXPOCODE,SECT_ID,STNNBR,CASTNO,SAMPNO,BTLNBR,BTLNBR_FLAG_W,DATE,TIME,LATITUDE,LONGITUDE,DEPTH,CTDPRS,CTDTMP,CTDSAL,CTDSAL_FLAG_W,SALNTY,SALNTY_FLAG_W,OXYGEN,OXYGEN_FLAG_W,SILCAT,SILCAT_FLAG_W,NO2+NO3,NO2+NO3_FLAG_W,CFC-11,CFC-11_FLAG_W,CFC-12,CFC-12_FLAG_W,CFC113,CFC113_FLAG_W,CCL4,CCL4_FLAG_W,TRITUM,TRITUM_FLAG_W,HELIUM,HELIUM_FLAG_W,DELHE3,DELHE3_FLAG_W,NEON,TCARBN,TCARBN_FLAG_W,PCO2,PCO2_FLAG_W,CTDRAW,HELIER,DELHER,NEONER,NEON_FLAG_W,THETA,TRITER
,,,,,,,,,,,,DBAR,ITS-90,PSS-78,,PSS-78,,UMOL/KG,,UMOL/KG,,UMOL/KG,,PMOL/KG,,PMOL/KG,,PMOL/KG,,PMOL/KG,,TU,,NMOL/KG,,PERCNT,,NMOL/KG,UMOL/KG,,UATM,,,NMOL/KG,PERCNT,NMOL/KG,,ITS-90,TU
      06MT28_1,   A08,   228,  2,   3144,    324,2,19940420,1157,-11.3333,  -9.0002, 4226,     17.1,  26.6119,  36.6746,2,  36.6743,2,    273.5,4,     0.86,2,     0.00,2, -999.000,9, -999.000,9, -999.000,9, -999.000,9, -999.000,9,-999.0000,9,  -999.00,9,-999.000,   2050.6,2,   -999.0,9,     13,-999.0000,-999.000,-999.000,9, 26.6080,-999.000
      06MT28_1,   A08,   228,  2,   3202,    323,2,19940420,1157,-11.3333,  -9.0002, 4226,    399.3,   8.1714,  34.7333,2,-999.0000,9,     76.3,2,    16.64,3,    33.37,3, -999.000,9, -999.000,9, -999.000,9, -999.000,9, -999.000,9,-999.0000,9,  -999.00,9,-999.000,   2227.9,2,   1347.3,6,    401,-999.0000,-999.000,-999.000,9,  8.1301,-999.000
      06MT28_1,   A08,   228,  2,   3200,    322,2,19940420,1157,-11.3333,  -9.0002, 4226,    497.6,   7.2188,  34.6431,2,-999.0000,9,     85.1,2,    19.12,2,    34.41,2,    0.065,2,    0.041,2,    0.012,2,    0.157,2, -999.000,9,-999.0000,9,  -999.00,9,-999.000,   2228.8,2,   1352.1,2,    500,-999.0000,-999.000,-999.000,9,  7.1707,-999.000
      06MT28_1,   A08,   228,  2,   3199,    321,2,19940420,1157,-11.3333,  -9.0002, 4226,    598.2,   6.2292,  34.5626,2,  34.5626,2,     92.0,2,    22.83,2,    35.73,2,    0.030,2,    0.018,2,    0.006,2,    0.133,2, -999.000,9,-999.0000,9,  -999.00,9,-999.000,   2233.7,2,   1427.6,2,    600,-999.0000,-999.000,-999.000,9,  6.1754,-999.000
      06MT28_1,   A08,   228,  2,   3198,    320,2,19940420,1157,-11.3333,  -9.0002, 4226,    697.7,   5.3010,  34.4955,2,-999.0000,9,    120.8,2,    26.26,2,    34.56,2,    0.026,2,    0.020,2,    0.008,2,    0.165,2, -999.000,9,-999.0000,9,  -999.00,9,-999.000,   2223.3,2,   1278.5,2,    700,-999.0000,-999.000,-999.000,9,  5.2428,-999.000
      06MT28_1,   A08,   228,  2,   3197,    319,2,19940420,1157,-11.3333,  -9.0002, 4226,    846.2,   4.5351,  34.4867,2,-999.0000,9,    138.1,2,    30.82,2,    33.77,2,    0.012,2,    0.010,2,    0.008,2,    0.105,2, -999.000,9,-999.0000,9,  -999.00,9,-999.000,   2225.3,2,   1238.3,2,    849,-999.0000,-999.000,-999.000,9,  4.4686,-999.000
      06MT28_1,   A08,   228,  2,   3196,    318,2,19940420,1157,-11.3333,  -9.0002, 4226,    998.0,   4.1139,  34.5537,2,-999.0000,9,    148.1,2,    33.08,2,    32.41,2,    0.003,2,    0.002,2,    0.007,2,    0.040,2, -999.000,9,-999.0000,9,  -999.00,9,-999.000,   2222.1,2,   1167.6,2,   1001,-999.0000,-999.000,-999.000,9,  4.0375,-999.000
      06MT28_1,   A08,   228,  2,   3195,    317,2,19940420,1157,-11.3333,  -9.0002, 4226,   1196.9,   3.9461,  34.6964,2,-999.0000,9,    165.6,2,    31.05,2,    29.05,2,    0.005,2,    0.005,2,    0.013,2,    0.020,2, -999.000,9,   1.8140,2,     2.56,2,   7.861,   2210.7,2,   1050.1,2,   1200,  0.0070,   0.250,   0.026,2,  3.8539,-999.000
      06MT28_1,   A08,   228,  2,   3194,    316,2,19940420,1157,-11.3333,  -9.0002, 4226,   1397.6,   3.8565,  34.8245,2,-999.0000,9,    187.1,2,    27.12,2,    25.40,2,    0.004,2,    0.001,2,    0.011,2,    0.022,2, -999.000,9,-999.0000,9,  -999.00,9,-999.000,   2196.7,2,    934.2,2,   1400,-999.0000,-999.000,-999.000,9,  3.7474,-999.000
      06MT28_1,   A08,   228,  2,   3193,    315,2,19940420,1157,-11.3333,  -9.0002, 4226,   1598.1,   3.7101,  34.8990,2,  34.9005,2,    202.8,2,    25.00,2,    22.91,2,    0.014,4,    0.006,2,    0.008,2,    0.024,2, -999.000,9,   1.8140,2,     2.37,2,   7.881,   2186.4,2,    876.2,2,   1600,  0.0070,   0.250,   0.026,2,  3.5846,-999.000
      06MT28_1,   A08,   228,  2,   3192,    314,2,19940420,1157,-11.3333,  -9.0002, 4226,   1799.9,   3.5075,  34.9196,2,-999.0000,9,    213.6,2,    25.55,2,    21.65,2,    0.000,2,    0.001,2,    0.013,2,    0.026,2, -999.000,9,-999.0000,9,  -999.00,9,-999.000,   2181.9,2,    841.9,2,   1801,-999.0000,-999.000,-999.000,9,  3.3661,-999.000
      06MT28_1,   A08,   228,  2,   3191,    313,2,19940420,1157,-11.3333,  -9.0002, 4226,   1998.8,   3.2904,  34.9252,2,  34.9258,2,    218.6,2,    27.80,2,    21.16,2,    0.005,2,    0.006,2,    0.014,2,    0.023,2, -999.000,9,   1.8190,2,     3.17,2,   7.896,   2182.6,2,    822.9,2,   2000,  0.0070,   0.250,   0.026,2,  3.1337,-999.000
      06MT28_1,   A08,   228,  2,   3190,    312,2,19940420,1157,-11.3333,  -9.0002, 4226,   2250.1,   3.0819,  34.9213,2,-999.0000,9,    221.4,2,    30.99,2,    20.95,2,    0.002,2,    0.001,2,    0.001,2,    0.017,2, -999.000,9,-999.0000,9,  -999.00,9,-999.000,   2182.4,2,    808.1,2,   2250,-999.0000,-999.000,-999.000,9,  2.9048,-999.000
      06MT28_1,   A08,   228,  2,   3189,    311,2,19940420,1157,-11.3333,  -9.0002, 4226,   2500.0,   2.8561,  34.9114,2,-999.0000,9,    221.7,2,    35.41,2,    21.21,2,    0.004,2,    0.006,2,    0.000,2,    0.009,2, -999.000,9,   1.7580,3,     4.23,2,   7.646,   2187.3,2,    791.6,2,   2499,  0.0070,   0.250,   0.025,3,  2.6589,-999.000
      06MT28_1,   A08,   228,  2,   3188,    310,2,19940420,1157,-11.3333,  -9.0002, 4226,   2750.3,   2.6875,  34.9036,2,-999.0000,9,    221.2,2,    38.77,2,    21.28,2,    0.005,2,    0.004,2,    0.005,2,    0.007,2, -999.000,9,-999.0000,9,  -999.00,9,-999.000,   2191.1,2,    804.7,2,   2749,-999.0000,-999.000,-999.000,9,  2.4689,-999.000
      06MT28_1,   A08,   228,  2,   3184,    309,2,19940420,1157,-11.3333,  -9.0002, 4226,   3002.6,   2.5590,  34.8963,2,  34.8962,2,    221.1,2,    41.85,2,    21.44,2,    0.004,2,    0.002,2,    0.003,2,    0.007,2, -999.000,9,   1.8310,2,     4.02,2,   7.983,   2195.1,2,    807.5,2,   3000,  0.0070,   0.250,   0.026,2,  2.3177,-999.000
      06MT28_1,   A08,   228,  2,   3170,    308,2,19940420,1157,-11.3333,  -9.0002, 4226,   3253.4,   2.4630,  34.8910,2,-999.0000,9,    220.4,2,    43.97,2,    21.61,2,    0.005,2,    0.005,2,    0.010,2,    0.008,2, -999.000,9,-999.0000,9,  -999.00,9,-999.000,   2198.4,2,    802.2,2,   3250,-999.0000,-999.000,-999.000,9,  2.1979,-999.000
      06MT28_1,   A08,   228,  2,   3247,    307,2,19940420,1157,-11.3333,  -9.0002, 4226,   3503.4,   2.4202,  34.8884,2,-999.0000,9,    220.1,2,    45.25,2,    21.68,2,    0.010,2,    0.005,2,    0.000,2,    0.014,2, -999.000,9,   1.8300,2,     4.13,2,   8.008,   2200.4,2,    816.5,2,   3499,  0.0070,   0.250,   0.026,2,  2.1295,-999.000
      06MT28_1,   A08,   228,  2,   3248,    306,2,19940420,1157,-11.3333,  -9.0002, 4226,   3753.9,   2.4129,  34.8875,2,-999.0000,9,    219.5,2,    45.77,2,    21.66,2,    0.006,4,    0.002,2,    0.018,2,    0.012,2, -999.000,9,-999.0000,9,  -999.00,9,-999.000,   2200.5,2,    808.6,2,   3749,-999.0000,-999.000,-999.000,9,  2.0949,-999.000
      06MT28_1,   A08,   228,  2,   3246,    305,2,19940420,1157,-11.3333,  -9.0002, 4226,   4005.4,   2.4288,  34.8867,2,  34.8859,2,    219.9,2,    46.00,2,    21.54,2,    0.009,2,    0.003,2,    0.016,2,    0.016,2, -999.000,9,   1.8520,2,     3.73,2,   8.009,   2200.6,2,    819.0,2,   4000,  0.0070,   0.250,   0.026,2,  2.0820,-999.000
      06MT28_1,   A08,   228,  2,   3245,    304,2,19940420,1157,-11.3333,  -9.0002, 4226,   4174.5,   2.4424,  34.8867,2,-999.0000,9,    219.6,2,    45.83,2,    21.57,2,    0.007,2,    0.005,2,    0.002,2,    0.013,2, -999.000,9,-999.0000,9,  -999.00,9,-999.000,   2201.2,2,    806.9,2,   4169,-999.0000,-999.000,-999.000,9,  2.0756,-999.000
      06MT28_1,   A08,   228,  2,   3244,    303,2,19940420,1157,-11.3333,  -9.0002, 4226,   4245.6,   2.4447,  34.8866,2,-999.0000,9,    219.5,2,    46.00,2,    21.62,2,    0.008,2,    0.004,2,    0.013,2,    0.014,2, -999.000,9,-999.0000,9,  -999.00,9,-999.000,   2201.6,2,    821.6,2,   4240,-999.0000,-999.000,-999.000,9,  2.0695,-999.000
      06MT28_1,   A08,   228,  2,   3243,    302,2,19940420,1157,-11.3333,  -9.0002, 4226,   4276.9,   2.4483,  34.8862,2,  34.8859,2,    219.0,2,    46.00,2,    21.57,2,    0.013,2,    0.006,2,    0.007,2,    0.013,2, -999.000,9,   1.8250,2,     3.55,2,   7.972,   2201.2,2,    815.7,2,   4272,  0.0070,   0.250,   0.026,2,  2.0693,-999.000
      06MT28_1,   A08,   228,  2,   3242,    301,2,19940420,1157,-11.3333,  -9.0002, 4226,   4277.0,   2.4483,  34.8862,2,  34.8871,2,    219.4,2,    45.90,2,    21.52,2, -999.000,9, -999.000,9, -999.000,9, -999.000,9, -999.000,9,-999.0000,9,  -999.00,9,-999.000,   2201.0,2,    822.8,2,   4272,-999.0000,-999.000,-999.000,9,  2.0693,-999.000
      06MT28_1,   A08,   229,  1,   3241,    220,2,19940420,1706,-11.3335,  -8.4987, 4669,     10.6,  26.4771,  36.7199,2,  36.7209,2,    194.4,2,     0.86,2,     0.00,2, -999.000,9, -999.000,9, -999.000,9, -999.000,9, -999.000,9,-999.0000,9,  -999.00,9,-999.000,   -999.0,9,   -999.0,9,     10,-999.0000,-999.000,-999.000,9, 26.4747,-999.000
      06MT28_1,   A08,   229,  1,   3239,    219,2,19940420,1706,-11.3335,  -8.4987, 4669,     41.4,  26.2087,  36.7605,2,-999.0000,9,    194.3,2,     0.86,2,     0.00,2, -999.000,9, -999.000,9, -999.000,9, -999.000,9, -999.000,9,-999.0000,9,  -999.00,9,-999.000,   -999.0,9,   -999.0,9,     41,-999.0000,-999.000,-999.000,9, 26.1994,-999.000
      06MT28_1,   A08,   229,  1,   3238,    218,2,19940420,1706,-11.3335,  -8.4987, 4669,     60.7,  24.1218,  36.7191,2,-999.0000,9,    214.3,2,     0.67,2,     0.00,2, -999.000,9, -999.000,9, -999.000,9, -999.000,9, -999.000,9,-999.0000,9,  -999.00,9,-999.000,   -999.0,9,   -999.0,9,     60,-999.0000,-999.000,-999.000,9, 24.1089,-999.000
      06MT28_1,   A08,   229,  1,   3237,    217,2,19940420,1706,-11.3335,  -8.4987, 4669,     79.4,  21.3722,  36.4011,2,-999.0000,9,    212.2,2,     1.15,2,     0.00,2, -999.000,9, -999.000,9, -999.000,9, -999.000,9, -999.000,9,-999.0000,9,  -999.00,9,-999.000,   -999.0,9,   -999.0,9,     79,-999.0000,-999.000,-999.000,9, 21.3567,-999.000
      06MT28_1,   A08,   229,  1,   3236,    216,2,19940420,1706,-11.3335,  -8.4987, 4669,    120.2,  16.4343,  35.7613,2,-999.0000,9,    120.2,2,     4.22,2,    15.43,2, -999.000,9, -999.000,9, -999.000,9, -999.000,9, -999.000,9,-999.0000,9,  -999.00,9,-999.000,   -999.0,9,   -999.0,9,    120,-999.0000,-999.000,-999.000,9, 16.4148,-999.000
      06MT28_1,   A08,   229,  1,   3235,    215,2,19940420,1706,-11.3335,  -8.4987, 4669,    181.5,  12.4704,  35.2351,2,-999.0000,9,     68.1,2,     8.71,2,    25.76,2, -999.000,9, -999.000,9, -999.000,9, -999.000,9, -999.000,9,-999.0000,9,  -999.00,9,-999.000,   -999.0,9,   -999.0,9,    181,-999.0000,-999.000,-999.000,9, 12.4460,-999.000
      06MT28_1,   A08,   229,  1,   3234,    214,2,19940420,1706,-11.3335,  -8.4987, 4669,    250.1,  10.1919,  34.9542,2,  34.9543,2,     68.4,2,    12.35,2,    30.05,2, -999.000,9, -999.000,9, -999.000,9, -999.000,9, -999.000,9,-999.0000,9,  -999.00,9,-999.000,   -999.0,9,   -999.0,9,    250,-999.0000,-999.000,-999.000,9, 10.1625,-999.000
      06MT28_1,   A08,   229,  1,   3233,    213,2,19940420,1706,-11.3335,  -8.4987, 4669,    350.9,   9.0389,  34.8245,2,-999.0000,9,     68.9,2,    14.73,2,    32.43,2, -999.000,9, -999.000,9, -999.000,9, -999.000,9, -999.000,9,-999.0000,9,  -999.00,9,-999.000,   -999.0,9,   -999.0,9,    351,-999.0000,-999.000,-999.000,9,  9.0004,-999.000
      06MT28_1,   A08,   229,  1,   3232,    212,2,19940420,1706,-11.3335,  -8.4987, 4669,    450.4,   8.1433,  34.7327,2,-999.0000,9,     72.1,2,    16.83,2,    34.04,2, -999.000,9, -999.000,9, -999.000,9, -999.000,9, -999.000,9,-999.0000,9,  -999.00,9,-999.000,   -999.0,9,   -999.0,9,    450,-999.0000,-999.000,-999.000,9,  8.0966,-999.000
      06MT28_1,   A08,   229,  1,   3231,    211,2,19940420,1706,-11.3335,  -8.4987, 4669,    550.5,   7.1285,  34.6355,2,  34.6348,2,     82.8,2,    19.59,2,    34.97,2, -999.000,9, -999.000,9, -999.000,9, -999.000,9, -999.000,9,-999.0000,9,  -999.00,9,-999.000,   -999.0,9,   -999.0,9,    550,-999.0000,-999.000,-999.000,9,  7.0754,-999.000
      06MT28_1,   A08,   229,  1,   3230,    210,2,19940420,1706,-11.3335,  -8.4987, 4669,    649.6,   6.2190,  34.5644,2,-999.0000,9,     87.3,2,    22.92,2,    36.39,2, -999.000,9, -999.000,9, -999.000,9, -999.000,9, -999.000,9,-999.0000,9,  -999.00,9,-999.000,   -999.0,9,   -999.0,9,    650,-999.0000,-999.000,-999.000,9,  6.1604,-999.000
      06MT28_1,   A08,   229,  1,   3228,    209,2,19940420,1706,-11.3335,  -8.4987, 4669,    747.4,   5.2131,  34.4996,2,-999.0000,9,    115.2,2,    27.06,2,    35.41,2, -999.000,9, -999.000,9, -999.000,9, -999.000,9, -999.000,9,-999.0000,9,  -999.00,9,-999.000,   -999.0,9,   -999.0,9,    748,-999.0000,-999.000,-999.000,9,  5.1509,-999.000
      06MT28_1,   A08,   229,  1,   3225,    208,2,19940420,1706,-11.3335,  -8.4987, 4669,    824.0,   4.7763,  34.4843,2,-999.0000,9,    131.3,2,    29.29,3,    34.40,3, -999.000,9, -999.000,9, -999.000,9, -999.000,9, -999.000,9,-999.0000,9,  -999.00,9,-999.000,   -999.0,9,   -999.0,9,    825,-999.0000,-999.000,-999.000,9,  4.7101,-999.000
      06MT28_1,   A08,   229,  1,   3211,    207,2,19940420,1706,-11.3335,  -8.4987, 4669,    824.0,   4.7720,  34.4841,2,-999.0000,9,   -999.0,9,  -999.00,9,  -999.00,9, -999.000,9, -999.000,9, -999.000,9, -999.000,9, -999.000,9,-999.0000,9,  -999.00,9,-999.000,   -999.0,9,   -999.0,9,    825,-999.0000,-999.000,-999.000,9,  4.7059,-999.000