BOTTLE,20220817CCHSIOAMB
EXPOCODE,SECT_ID,STNNBR,CASTNO,SAMPNO,BTLNBR,BTLNBR_FLAG_W,DATE,TIME,LATITUDE,LONGITUDE,DEPTH,CTDPRS,CTDTMP,CTDSAL,CTDSAL_FLAG_W,SALNTY,SALNTY_FLAG_W,OXYGEN,OXYGEN_FLAG_W,SILCAT,SILCAT_FLAG_W,NO2+NO3,NO2+NO3_FLAG_W,CFC-11,CFC-11_FLAG_W,CFC-12,CFC-12_FLAG_W,CFC113,CFC113_FLAG_W,CCL4,CCL4_FLAG_W,TRITUM,TRITUM_FLAG_W,HELIUM,HELIUM_FLAG_W,DELHE3,DELHE3_FLAG_W,NEON,TCARBN,TCARBN_FLAG_W,PCO2,PCO2_FLAG_W,CTDRAW,HELIER,DELHER,NEONER,NEON_FLAG_W,THETA,TRITER
,,,,,,,,,,,,DBAR,ITS-90,PSS-78,,PSS-78,,UMOL/KG,,UMOL/KG,,UMOL/KG,,PMOL/KG,,PMOL/KG,,PMOL/KG,,PMOL/KG,,TU,,NMOL/KG,,PERCNT,,NMOL/KG,UMOL/KG,,UATM,,,NMOL/KG,PERCNT,NMOL/KG,,ITS-90,TU
      06MT28_1,   A08,   193,  2,   1363,    223,2,19940409,1149,-11.3345, -26.6672, 5538,     11.1,  27.9284,  37.0076,2,-999.0000,9,    193.9,2,     0.67,2,     0.00,4, -999.000,9, -999.000,9, -999.000,9, -999.000,9, -999.000,9,-999.0000,9,  -999.00,9,-999.000,   -999.0,9,   -999.0,9,     10,-999.0000,-999.000,-999.000,9, 27.9258,-999.000
      06MT28_1,   A08,   193,  2,   1362,    222,2,19940409,1149,-11.3345, -26.6672, 5538,     28.7,  27.9123,  37.0077,2,-999.0000,9,   -999.0,9,  -999.00,9,  -999.00,9, -999.000,9, -999.000,9, -999.000,9, -999.000,9, -999.000,9,-999.0000,9,  -999.00,9,-999.000,   -999.0,9,   -999.0,9,     28,-999.0000,-999.000,-999.000,9, 27.9055,-999.000
      06MT28_1,   A08,   193,  2,   1361,    221,2,19940409,1149,-11.3345, -26.6672, 5538,     51.5,  27.8664,  37.0055,2,-999.0000,9,   -999.0,9,  -999.00,9,  -999.00,9, -999.000,9, -999.000,9, -999.000,9, -999.000,9, -999.000,9,-999.0000,9,  -999.00,9,-999.000,   -999.0,9,   -999.0,9,     51,-999.0000,-999.000,-999.000,9, 27.8543,-999.000
      06MT28_1,   A08,   193,  2,   1358,    220,2,19940409,1149,-11.3345, -26.6672, 5538,     70.5,  25.8654,  36.9116,2,-999.0000,9,    212.3,2,     0.77,2,     0.00,4, -999.000,9, -999.000,9, -999.000,9, -999.000,9, -999.000,9,-999.0000,9,  -999.00,9,-999.000,   -999.0,9,   -999.0,9,     70,-999.0000,-999.000,-999.000,9, 25.8496,-999.000
      06MT28_1,   A08,   193,  2,   1347,    219,2,19940409,1149,-11.3345, -26.6672, 5538,    100.3,  24.2903,  36.8668,2,-999.0000,9,    214.3,2,     0.67,2,     0.00,4, -999.000,9, -999.000,9, -999.000,9, -999.000,9, -999.000,9,-999.0000,9,  -999.00,9,-999.000,   -999.0,9,   -999.0,9,    100,-999.0000,-999.000,-999.000,9, 24.2689,-999.000
      06MT28_1,   A08,   193,  2,   1416,    218,2,19940409,1149,-11.3345, -26.6672, 5538,    151.1,  19.2462,  36.1735,2,-999.0000,9,    181.8,2,     1.63,2,     3.93,2, -999.000,9, -999.000,9, -999.000,9, -999.000,9, -999.000,9,-999.0000,9,  -999.00,9,-999.000,   -999.0,9,   -999.0,9,    150,-999.0000,-999.000,-999.000,9, 19.2188,-999.000
      06MT28_1,   A08,   193,  2,   1417,    217,2,19940409,1149,-11.3345, -26.6672, 5538,    200.2,  15.8019,  35.6680,2,-999.0000,9,    146.0,2,     3.83,2,    12.45,2, -999.000,9, -999.000,9, -999.000,9, -999.000,9, -999.000,9,-999.0000,9,  -999.00,9,-999.000,   -999.0,9,   -999.0,9,    200,-999.0000,-999.000,-999.000,9, 15.7703,-999.000
      06MT28_1,   A08,   193,  2,   1415,    216,2,19940409,1149,-11.3345, -26.6672, 5538,    301.2,  10.6848,  35.0108,2,-999.0000,9,     90.4,2,    11.00,2,    26.79,2, -999.000,9, -999.000,9, -999.000,9, -999.000,9, -999.000,9,-999.0000,9,  -999.00,9,-999.000,   -999.0,9,   -999.0,9,    301,-999.0000,-999.000,-999.000,9, 10.6482,-999.000
      06MT28_1,   A08,   193,  2,   1414,    215,2,19940409,1149,-11.3345, -26.6672, 5538,    400.4,   8.1975,  34.7302,2,-999.0000,9,    113.4,2,    15.01,2,    29.36,2, -999.000,9, -999.000,9, -999.000,9, -999.000,9, -999.000,9,-999.0000,9,  -999.00,9,-999.000,   -999.0,9,   -999.0,9,    400,-999.0000,-999.000,-999.000,9,  8.1560,-999.000
      06MT28_1,   A08,   193,  2,   1413,    214,2,19940409,1149,-11.3345, -26.6672, 5538,    499.6,   6.4532,  34.5539,2,-999.0000,9,    139.3,2,    19.40,2,    30.68,2, -999.000,9, -999.000,9, -999.000,9, -999.000,9, -999.000,9,-999.0000,9,  -999.00,9,-999.000,   -999.0,9,   -999.0,9,    499,-999.0000,-999.000,-999.000,9,  6.4078,-999.000
      06MT28_1,   A08,   193,  2,   1412,    213,2,19940409,1149,-11.3345, -26.6672, 5538,    599.8,   5.7505,  34.5120,2,-999.0000,9,    136.9,2,    22.74,2,    32.29,2, -999.000,9, -999.000,9, -999.000,9, -999.000,9, -999.000,9,-999.0000,9,  -999.00,9,-999.000,   -999.0,9,   -999.0,9,    600,-999.0000,-999.000,-999.000,9,  5.6988,-999.000
      06MT28_1,   A08,   193,  2,   1411,    212,2,19940409,1149,-11.3345, -26.6672, 5538,    699.8,   5.0029,  34.4678,2,-999.0000,9,    151.0,2,    26.45,2,    32.46,2, -999.000,9, -999.000,9, -999.000,9, -999.000,9, -999.000,9,-999.0000,9,  -999.00,9,-999.000,   -999.0,9,   -999.0,9,    700,-999.0000,-999.000,-999.000,9,  4.9461,-999.000
      06MT28_1,   A08,   193,  2,   1410,    211,2,19940409,1149,-11.3345, -26.6672, 5538,    848.6,   4.1603,  34.4617,2,-999.0000,9,    165.6,2,    32.53,2,    31.96,2, -999.000,9, -999.000,9, -999.000,9, -999.000,9, -999.000,9,-999.0000,9,  -999.00,9,-999.000,   -999.0,9,   -999.0,9,    850,-999.0000,-999.000,-999.000,9,  4.0961,-999.000
      06MT28_1,   A08,   193,  2,   1408,    209,2,19940409,1149,-11.3345, -26.6672, 5538,    999.1,   3.8872,  34.5586,2,-999.0000,9,   -999.0,9,  -999.00,9,  -999.00,9, -999.000,9, -999.000,9, -999.000,9, -999.000,9, -999.000,9,-999.0000,9,  -999.00,9,-999.000,   -999.0,9,   -999.0,9,   1000,-999.0000,-999.000,-999.000,9,  3.8123,-999.000
      06MT28_1,   A08,   193,  2,   1407,    210,2,19940409,1149,-11.3345, -26.6672, 5538,    999.1,   3.8872,  34.5586,2,-999.0000,9,    168.8,2,    34.56,2,    30.89,2, -999.000,9, -999.000,9, -999.000,9, -999.000,9, -999.000,9,-999.0000,9,  -999.00,9,-999.000,   -999.0,9,   -999.0,9,   1000,-999.0000,-999.000,-999.000,9,  3.8123,-999.000
      06MT28_1,   A08,   194,  1,   1443,    220,2,19940409,1740,-11.3347, -26.0003, 5604,     10.6,  28.0428,  36.9291,2,-999.0000,9,    194.2,2,  -999.00,9,  -999.00,9,    1.488,2,    0.879,2,    0.104,4,    1.671,2,    0.808,2,   1.6610,2,    -1.35,2,   6.485,   2051.0,2,    457.1,6,     10,  0.0060,   0.240,   0.021,2, 28.0403,   0.127
      06MT28_1,   A08,   194,  1,   1441,    219,2,19940409,1740,-11.3347, -26.0003, 5604,     30.0,  27.9841,  36.9261,2,-999.0000,9,    183.9,2,  -999.00,9,  -999.00,9,    1.506,2,    0.882,2,    0.096,4,    1.679,2,    0.749,2,-999.0000,9,  -999.00,9,-999.000,   2050.6,2,    457.0,2,     29,-999.0000,-999.000,-999.000,9, 27.9770,   0.019
      06MT28_1,   A08,   194,  1,   1440,    218,2,19940409,1740,-11.3347, -26.0003, 5604,     50.2,  27.7898,  36.9068,2,-999.0000,9,    196.4,2,  -999.00,9,  -999.00,9,    1.509,2,    0.890,4,    0.075,4,    1.110,4,    0.844,2,   4.7920,4,  -999.00,5,  14.304,   2051.0,2,    456.1,2,     50,  0.0180,   0.240,   0.045,4, 27.7780,   0.027
      06MT28_1,   A08,   194,  1,   1439,    217,2,19940409,1740,-11.3347, -26.0003, 5604,     69.7,  25.5242,  36.8977,2,-999.0000,9,    212.3,2,  -999.00,9,  -999.00,9,    1.724,2,    0.989,2,    0.156,2,    1.368,2,    0.851,2,-999.0000,9,  -999.00,9,-999.000,   2058.3,2,    474.4,2,     69,-999.0000,-999.000,-999.000,9, 25.5087,   0.029
      06MT28_1,   A08,   194,  1,   1438,    216,2,19940409,1740,-11.3347, -26.0003, 5604,     98.8,  23.6646,  36.7780,2,-999.0000,9,    212.8,2,  -999.00,9,  -999.00,9,    1.813,2,    1.022,2,    0.120,2,    1.091,2,    0.596,2,   1.6900,2,    -1.09,2,   6.763,   2070.2,2,    507.6,2,     99,  0.0060,   0.240,   0.022,2, 23.6439,   0.017
      06MT28_1,   A08,   194,  1,   1437,    215,2,19940409,1740,-11.3347, -26.0003, 5604,    150.0,  18.4189,  36.0380,2,-999.0000,9,    177.5,2,  -999.00,9,  -999.00,9,    1.998,2,    1.086,2,    0.122,2,    0.789,2,    0.720,2,   1.7310,2,    -0.19,2,   7.050,   2111.2,2,    733.6,2,    150,  0.0060,   0.240,   0.022,2, 18.3926,   0.020
      06MT28_1,   A08,   194,  1,   1436,    214,2,19940409,1740,-11.3347, -26.0003, 5604,    201.2,  14.4457,  35.4665,2,-999.0000,9,    126.2,2,  -999.00,9,  -999.00,9, -999.000,9, -999.000,9, -999.000,9, -999.000,9, -999.000,9,   1.7310,6,     0.91,6,   7.179,   2156.6,2,    695.3,2,    199,  0.0070,   0.250,   0.024,6, 14.4159,-999.000
      06MT28_1,   A08,   194,  1,   1435,    213,2,19940409,1740,-11.3347, -26.0003, 5604,    301.6,  10.0803,  34.9295,2,-999.0000,9,   -999.0,9,  -999.00,9,  -999.00,9, -999.000,9, -999.000,9, -999.000,9, -999.000,9, -999.000,9,-999.0000,9,  -999.00,9,-999.000,   -999.0,9,   -999.0,9,    300,-999.0000,-999.000,-999.000,9, 10.0450,-999.000
      06MT28_1,   A08,   194,  1,   1434,    212,2,19940409,1740,-11.3347, -26.0003, 5604,    402.0,   7.9282,  34.6975,2,-999.0000,9,    113.7,2,  -999.00,9,  -999.00,9,    0.243,2,    0.138,2,    0.011,2,    0.338,2,    0.119,2,   1.7720,6,     1.14,6,   7.572,   2203.2,2,   1126.5,2,    400,  0.0070,   0.250,   0.025,6,  7.8873,   0.015
      06MT28_1,   A08,   194,  1,   1433,    211,2,19940409,1740,-11.3347, -26.0003, 5604,    502.7,   6.5189,  34.5640,2,-999.0000,9,    126.5,2,  -999.00,9,  -999.00,9,    0.171,2,    0.092,2,    0.021,2,    0.370,2, -999.000,9,   1.7850,2,     0.63,2,   7.727,   2209.8,2,   1205.6,2,    501,  0.0070,   0.240,   0.025,2,  6.4730,-999.000
      06MT28_1,   A08,   194,  1,   1432,    210,2,19940409,1740,-11.3347, -26.0003, 5604,    602.2,   5.7038,  34.4975,2,-999.0000,9,    142.5,2,  -999.00,9,  -999.00,9,    0.167,2,    0.095,2,    0.009,2,    0.458,2, -999.000,9,   1.7830,2,     1.68,2,   7.681,   2206.6,2,   1166.2,2,    601,  0.0070,   0.250,   0.025,2,  5.6521,-999.000
      06MT28_1,   A08,   194,  1,   1431,    209,2,19940409,1740,-11.3347, -26.0003, 5604,    703.3,   4.8753,  34.4511,2,-999.0000,9,    151.7,2,  -999.00,9,  -999.00,9,    0.137,2,    0.078,2,    0.008,2,    0.450,2,    0.040,2,   1.7920,6,     2.10,6,   7.748,   2207.8,2,   1154.1,2,    702,  0.0070,   0.250,   0.026,6,  4.8189,   0.007
      06MT28_1,   A08,   194,  1,   1430,    208,2,19940409,1740,-11.3347, -26.0003, 5604,    853.6,   4.2728,  34.4760,2,-999.0000,9,    154.3,2,  -999.00,9,  -999.00,9,    0.041,2,    0.023,2,    0.015,2,    0.198,2,    0.015,2,   1.7910,2,     2.32,2,   7.780,   2215.9,2,   1188.4,6,    853,  0.0070,   0.240,   0.025,2,  4.2074,   0.002
      06MT28_1,   A08,   194,  1,   1482,    207,2,19940409,1740,-11.3347, -26.0003, 5604,   1001.6,   3.9284,  34.5428,2,-999.0000,9,   -999.0,9,  -999.00,9,  -999.00,9, -999.000,9, -999.000,9, -999.000,9, -999.000,9, -999.000,9,-999.0000,9,  -999.00,9,-999.000,   -999.0,9,   -999.0,9,   1001,-999.0000,-999.000,-999.000,9,  3.8530,-999.000
      06MT28_1,   A08,   194,  2,   1442,    324,2,19940409,1959,-11.3333, -26.0002, 5598,     14.9,  28.0034,  36.9266,2,  36.9263,2,    193.6,2,  -999.00,9,  -999.00,9,    1.513,2,    0.866,2,    0.093,4,    1.550,2, -999.000,9,-999.0000,9,  -999.00,9,-999.000,   2053.0,2,   -999.0,9,     11,-999.0000,-999.000,-999.000,9, 27.9999,-999.000
      06MT28_1,   A08,   194,  2,   1419,    323,2,19940409,1959,-11.3333, -26.0002, 5598,    995.6,   3.9758,  34.5332,2,-999.0000,9,   -999.0,9,  -999.00,9,  -999.00,9, -999.000,9, -999.000,9, -999.000,9, -999.000,9, -999.000,9,-999.0000,9,  -999.00,9,-999.000,   2207.9,2,   1112.9,2,   1000,-999.0000,-999.000,-999.000,9,  3.9007,-999.000
      06MT28_1,   A08,   194,  2,   1483,    322,2,19940409,1959,-11.3333, -26.0002, 5598,   1195.7,   4.0100,  34.6993,2,-999.0000,9,    175.6,2,  -999.00,9,  -999.00,9,    0.005,2,    0.001,2,   -0.003,2,    0.039,2,    0.022,2,   1.7930,2,     2.44,2,   7.788,   2205.6,2,   1036.6,2,   1199,  0.0070,   0.240,   0.025,2,  3.9173,   0.003
      06MT28_1,   A08,   194,  2,   1481,    321,2,19940409,1959,-11.3333, -26.0002, 5598,   1397.3,   4.1079,  34.8624,2,-999.0000,9,    198.0,2,  -999.00,9,  -999.00,9,    0.009,2,    0.005,2,   -0.003,2,    0.084,2,    0.052,2,   1.8260,2,     1.59,2,   7.907,   2189.0,2,    911.7,2,   1401,  0.0070,   0.240,   0.025,2,  3.9961,   0.003
      06MT28_1,   A08,   194,  2,   1480,    320,2,19940409,1959,-11.3333, -26.0002, 5598,   1597.4,   3.7928,  34.9224,2,-999.0000,9,    218.9,2,  -999.00,9,  -999.00,9,    0.007,2,    0.005,2,    0.005,2,    0.090,2,    0.038,2,   1.8410,2,     2.41,2,   7.972,   2177.2,2,    805.6,2,   1600,  0.0070,   0.240,   0.025,2,  3.6663,   0.004
      06MT28_1,   A08,   194,  2,   1479,    319,2,19940409,1959,-11.3333, -26.0002, 5598,   1797.4,   3.5914,  34.9558,2,-999.0000,9,    236.3,2,  -999.00,9,  -999.00,9,    0.018,2,    0.013,2,    0.008,2,    0.187,2,    0.048,2,   1.8150,2,     1.72,2,   7.884,   2166.4,2,    771.3,2,   1799,  0.0070,   0.240,   0.025,2,  3.4490,   0.005
      06MT28_1,   A08,   194,  2,   1478,    318,2,19940409,1959,-11.3333, -26.0002, 5598,   1998.4,   3.3383,  34.9519,2,  34.9512,2,    240.4,2,  -999.00,9,  -999.00,9,    0.015,2,    0.010,2,    0.007,2,    0.165,2,    0.054,2,   1.8550,2,     2.56,2,   8.034,   2166.7,2,    757.6,2,   2000,  0.0070,   0.240,   0.026,2,  3.1808,   0.005
      06MT28_1,   A08,   194,  2,   1477,    317,2,19940409,1959,-11.3333, -26.0002, 5598,   2249.3,   3.0754,  34.9347,2,-999.0000,9,    238.6,2,  -999.00,9,  -999.00,9,    0.017,2,    0.012,2,    0.014,2,    0.106,2,    0.038,2,   1.8460,2,     2.96,2,   8.019,   2170.9,2,    675.8,3,   2250,  0.0070,   0.240,   0.026,2,  2.8984,   0.009
      06MT28_1,   A08,   194,  2,   1476,    316,2,19940409,1959,-11.3333, -26.0002, 5598,   2500.6,   2.9286,  34.9305,2,-999.0000,9,    238.8,2,  -999.00,9,  -999.00,9,    0.007,2,    0.004,2,    0.003,2,    0.041,2,    0.022,2,   1.8340,2,     2.95,2,   7.940,   2173.7,2,    765.0,2,   2500,  0.0070,   0.250,   0.026,2,  2.7300,   0.004
      06MT28_1,   A08,   194,  2,   1475,    315,2,19940409,1959,-11.3333, -26.0002, 5598,   2751.7,   2.8152,  34.9228,2,-999.0000,9,    238.5,2,  -999.00,9,  -999.00,9,    0.010,6,    0.004,6,    0.000,6,    0.052,6, -999.000,9,   1.8250,3,     3.90,3,   7.982,   2176.1,2,    775.3,2,   2750,  0.0160,   0.240,   0.065,3,  2.5939,-999.000
      06MT28_1,   A08,   194,  2,   1474,    314,2,19940409,1959,-11.3333, -26.0002, 5598,   3002.6,   2.7120,  34.9186,2,  34.9179,2,    238.6,2,  -999.00,9,  -999.00,9,    0.007,2,    0.005,2,    0.004,2,    0.071,2, -999.000,9,   1.8450,2,     3.23,2,   7.997,   2176.0,2,    765.5,2,   3000,  0.0070,   0.250,   0.026,2,  2.4673,-999.000
      06MT28_1,   A08,   194,  2,   1473,    313,2,19940409,1959,-11.3333, -26.0002, 5598,   3252.4,   2.6231,  34.9159,2,-999.0000,9,    241.5,2,  -999.00,9,  -999.00,9,    0.010,2,    0.009,2,    0.006,2,    0.095,2, -999.000,9,   1.8320,3,     2.61,3,   7.987,   2175.5,2,    741.8,2,   3249,  0.0160,   0.240,   0.065,3,  2.3542,-999.000
      06MT28_1,   A08,   194,  2,   1472,    312,2,19940409,1959,-11.3333, -26.0002, 5598,   3504.6,   2.4842,  34.9036,2,-999.0000,9,    240.4,2,  -999.00,9,  -999.00,9,    0.006,2,    0.005,2,    0.002,2,    0.081,2,    0.030,2,   1.8280,2,     2.62,2,   7.989,   2178.8,2,    766.8,2,   3501,  0.0070,   0.250,   0.026,2,  2.1917,   0.014
      06MT28_1,   A08,   194,  2,   1471,    311,2,19940409,1959,-11.3333, -26.0002, 5598,   3754.4,   2.2063,  34.8767,2,-999.0000,9,    236.9,2,  -999.00,9,  -999.00,9,    0.008,2,    0.003,2,    0.017,2,    0.063,2,    0.024,2,   1.8310,2,     3.19,2,   8.015,   2188.9,2,    791.5,6,   3750,  0.0070,   0.240,   0.025,2,  1.8938,   0.004
      06MT28_1,   A08,   194,  2,   1470,    310,2,19940409,1959,-11.3333, -26.0002, 5598,   4004.8,   1.7788,  34.8304,2,-999.0000,9,    227.9,2,  -999.00,9,  -999.00,9,    0.002,2,    0.001,2,   -0.002,2,    0.031,2,    0.019,2,   1.8670,2,     4.11,2,   8.102,   2206.2,2,    854.6,2,   4000,  0.0070,   0.250,   0.027,2,  1.4506,   0.004
      06MT28_1,   A08,   194,  2,   1469,    309,2,19940409,1959,-11.3333, -26.0002, 5598,   4255.4,   1.3082,  34.7797,2,-999.0000,9,    219.7,2,  -999.00,9,  -999.00,9,    0.001,2,    0.002,2,   -0.002,2,    0.025,2, -999.000,9,   1.8670,2,     4.88,2,   8.115,   2226.7,2,    918.0,2,   4250,  0.0070,   0.240,   0.026,2,  0.9661,-999.000
      06MT28_1,   A08,   194,  2,   1468,    308,2,19940409,1959,-11.3333, -26.0002, 5598,   4505.6,   0.9750,  34.7449,2,-999.0000,9,    214.5,2,  -999.00,9,  -999.00,9,    0.002,2,   -0.001,2,    0.000,2,    0.026,2,    0.017,2,   1.8710,2,     5.94,2,   8.124,   2241.1,2,    970.1,2,   4500,  0.0070,   0.250,   0.027,2,  0.6154,   0.010
      06MT28_1,   A08,   194,  2,   1467,    307,2,19940409,1959,-11.3333, -26.0002, 5598,   4756.3,   0.8418,  34.7293,2,-999.0000,9,    211.9,2,  -999.00,9,  -999.00,9,    0.002,2,    0.001,2,    0.000,2,    0.029,2, -999.000,9,   1.8870,2,     6.29,2,   8.217,   2246.7,2,    991.5,2,   4750,  0.0070,   0.240,   0.026,2,  0.4580,-999.000
      06MT28_1,   A08,   194,  2,   1466,    306,2,19940409,1959,-11.3333, -26.0002, 5598,   5006.7,   0.7757,  34.7197,2,  34.7199,2,    209.8,2,  -999.00,9,  -999.00,9,    0.003,2,    0.001,2,    0.005,2,    0.037,2, -999.000,9,   1.8800,2,     6.61,2,   8.160,   2251.1,2,   1011.5,2,   5000,  0.0070,   0.250,   0.027,2,  0.3650,-999.000
      06MT28_1,   A08,   194,  2,   1465,    305,2,19940409,1959,-11.3333, -26.0002, 5598,   5253.7,   0.7547,  34.7138,2,-999.0000,9,    208.7,2,  -999.00,9,  -999.00,9,    0.003,2,    0.004,2,   -0.002,2,    0.017,2,    0.261,3,   1.8760,3,     6.15,3,   8.178,   2253.2,2,   1022.2,2,   5247,  0.0160,   0.240,   0.067,3,  0.3154,   0.215
      06MT28_1,   A08,   194,  2,   1464,    304,2,19940409,1959,-11.3333, -26.0002, 5598,   5617.1,   0.7333,  34.7076,2,-999.0000,9,    207.1,2,  -999.00,9,  -999.00,9,    0.016,4,    0.006,2,    0.002,2,    0.071,2, -999.000,9,   1.8630,2,     6.94,2,   8.144,   2254.9,2,   1032.7,2,   5611,  0.0070,   0.250,   0.027,2,  0.2502,-999.000
      06MT28_1,   A08,   194,  2,   1463,    303,2,19940409,1959,-11.3333, -26.0002, 5598,   5688.0,   0.7362,  34.7066,2,-999.0000,9,    206.6,2,  -999.00,9,  -999.00,9,    0.008,2,    0.005,2,    0.000,2,    0.076,2,    0.016,2,   1.8800,2,     6.75,2,   8.168,   2255.1,2,   1034.2,2,   5682,  0.0070,   0.240,   0.026,2,  0.2441,   0.005
      06MT28_1,   A08,   194,  2,   1462,    301,2,19940409,1959,-11.3333, -26.0002, 5598,   5718.5,   0.7378,  34.7059,2,  34.7053,2,    206.5,2,  -999.00,9,  -999.00,9,    0.008,2,    0.004,2,    0.010,2,    0.078,2,    0.014,2,   1.8710,6,     6.63,6,   8.147,   2255.9,2,   1037.8,6,   5712,  0.0070,   0.250,   0.027,6,  0.2417,   0.002
      06MT28_1,   A08,   194,  2,   1461,    302,2,19940409,1959,-11.3333, -26.0002, 5598,   5718.8,   0.7377,  34.7059,2,  34.7037,2,    206.6,2,  -999.00,9,  -999.00,9,    0.008,2,    0.005,2,    0.002,2,    0.032,4, -999.000,9,-999.0000,9,  -999.00,9,-999.000,   2254.8,2,   1033.3,2,   5712,-999.0000,-999.000,-999.000,9,  0.2416,-999.000