BOTTLE,20220817CCHSIOAMB
EXPOCODE,SECT_ID,STNNBR,CASTNO,SAMPNO,BTLNBR,BTLNBR_FLAG_W,DATE,TIME,LATITUDE,LONGITUDE,DEPTH,CTDPRS,CTDTMP,CTDSAL,CTDSAL_FLAG_W,SALNTY,SALNTY_FLAG_W,OXYGEN,OXYGEN_FLAG_W,SILCAT,SILCAT_FLAG_W,NO2+NO3,NO2+NO3_FLAG_W,CFC-11,CFC-11_FLAG_W,CFC-12,CFC-12_FLAG_W,CFC113,CFC113_FLAG_W,CCL4,CCL4_FLAG_W,TRITUM,TRITUM_FLAG_W,HELIUM,HELIUM_FLAG_W,DELHE3,DELHE3_FLAG_W,NEON,TCARBN,TCARBN_FLAG_W,PCO2,PCO2_FLAG_W,CTDRAW,HELIER,DELHER,NEONER,NEON_FLAG_W,THETA,TRITER
,,,,,,,,,,,,DBAR,ITS-90,PSS-78,,PSS-78,,UMOL/KG,,UMOL/KG,,UMOL/KG,,PMOL/KG,,PMOL/KG,,PMOL/KG,,PMOL/KG,,TU,,NMOL/KG,,PERCNT,,NMOL/KG,UMOL/KG,,UATM,,,NMOL/KG,PERCNT,NMOL/KG,,ITS-90,TU
      06MT28_1,   A08,   184,  2,    810,    323,2,19940405,2219,-11.3217, -32.5045, 4865,    746.7,   4.5705,  34.4257,2,-999.0000,9,    166.3,2,    29.30,2,    31.79,2,    0.183,2,    0.102,2,    0.012,2,    0.581,2, -999.000,9,-999.0000,9,  -999.00,9,-999.000,   2207.3,2,   -999.0,9,    750,-999.0000,-999.000,-999.000,9,  4.5123,-999.000
      06MT28_1,   A08,   184,  2,    885,    322,2,19940405,2219,-11.3217, -32.5045, 4865,    821.5,   4.2869,  34.4311,2,-999.0000,9,    168.0,2,    31.87,2,    31.97,2,    0.131,2,    0.077,2,    0.000,2,    0.493,2, -999.000,9,-999.0000,9,  -999.00,9,-999.000,   2210.0,2,   1130.4,2,    825,-999.0000,-999.000,-999.000,9,  4.2242,-999.000
      06MT28_1,   A08,   184,  2,    883,    321,2,19940405,2219,-11.3217, -32.5045, 4865,    921.2,   4.1136,  34.4811,2,-999.0000,9,    159.8,2,    34.05,2,    32.24,2,    0.052,2,    0.028,2,    0.004,2,    0.244,2, -999.000,9,-999.0000,9,  -999.00,9,-999.000,   2217.1,2,   1135.1,2,    925,-999.0000,-999.000,-999.000,9,  4.0437,-999.000
      06MT28_1,   A08,   184,  2,    882,    320,2,19940405,2219,-11.3217, -32.5045, 4865,   1096.7,   3.9220,  34.5807,2,  34.5805,2,    169.5,2,    34.30,2,    30.49,2,    0.021,2,    0.015,2,    0.000,2,    0.152,2, -999.000,9,-999.0000,9,  -999.00,9,-999.000,   2215.3,2,   1077.8,2,   1100,-999.0000,-999.000,-999.000,9,  3.8388,-999.000
      06MT28_1,   A08,   184,  2,    881,    319,2,19940405,2219,-11.3217, -32.5045, 4865,   1295.7,   4.2142,  34.7810,2,-999.0000,9,    180.8,2,    26.75,2,    26.84,2,    0.010,2,    0.007,2,   -0.001,2,    0.085,2, -999.000,9,-999.0000,9,  -999.00,9,-999.000,   2201.7,2,   -999.0,9,   1299,-999.0000,-999.000,-999.000,9,  4.1106,-999.000
      06MT28_1,   A08,   184,  2,    880,    318,2,19940405,2219,-11.3217, -32.5045, 4865,   1498.0,   4.2019,  34.8855,2,-999.0000,9,    202.0,2,    22.06,2,    23.40,2,    0.019,2,    0.013,2,    0.003,2,    0.148,2,    0.096,2,   1.8200,2,     2.52,2,   7.934,   2188.2,2,    891.3,2,   1501,  0.0070,   0.250,   0.026,2,  4.0798,   0.173
      06MT28_1,   A08,   184,  2,    879,    317,2,19940405,2219,-11.3217, -32.5045, 4865,   1697.1,   4.0949,  34.9563,2,-999.0000,9,    223.7,2,    18.34,2,    20.33,2,    0.051,2,    0.034,2,    0.013,2,    0.306,2,    0.272,2,   1.8090,4,     2.03,2,   7.888,   2173.8,2,    807.9,2,   1699,  0.0070,   0.250,   0.026,4,  3.9553,   0.011
      06MT28_1,   A08,   184,  2,    878,    316,2,19940405,2219,-11.3217, -32.5045, 4865,   1898.8,   3.6492,  34.9701,2,-999.0000,9,    240.6,2,    18.13,2,    18.61,2,    0.059,2,    0.038,2,    0.012,2,    0.357,2,    0.157,2,   1.8130,3,     1.83,3,   7.900,   2165.4,2,    764.8,2,   1900,  0.0160,   0.250,   0.066,3,  3.4965,   0.007
      06MT28_1,   A08,   184,  2,    877,    315,2,19940405,2219,-11.3217, -32.5045, 4865,   2099.4,   3.1839,  34.9517,2,-999.0000,9,    243.8,2,    22.67,2,    18.68,2,    0.033,2,    0.020,2,   -0.001,2,    0.236,2,    0.172,2,   1.8150,2,     2.27,2,   7.886,   2168.0,2,   -999.0,9,   2100,  0.0070,   0.250,   0.026,2,  3.0193,   0.085
      06MT28_1,   A08,   184,  2,    876,    314,2,19940405,2219,-11.3217, -32.5045, 4865,   2351.0,   2.9130,  34.9352,2,-999.0000,9,    241.8,2,    27.19,2,    19.14,2,    0.028,2,    0.015,2,    0.012,2,    0.152,2, -999.000,9,-999.0000,9,  -999.00,9,-999.000,   2173.8,2,    768.3,2,   2351,-999.0000,-999.000,-999.000,9,  2.7291,-999.000
      06MT28_1,   A08,   184,  2,    875,    313,2,19940405,2219,-11.3217, -32.5045, 4865,   2600.7,   2.7951,  34.9280,2,-999.0000,9,    236.4,2,    28.48,2,    19.12,2,    0.024,2,    0.015,2,    0.000,2,    0.157,2, -999.000,9,-999.0000,9,  -999.00,9,-999.000,   2175.7,2,    766.3,2,   2600,-999.0000,-999.000,-999.000,9,  2.5891,-999.000
      06MT28_1,   A08,   184,  2,    874,    312,2,19940405,2219,-11.3217, -32.5045, 4865,   2853.0,   2.7004,  34.9224,2,-999.0000,9,    242.0,2,    29.97,2,    19.09,2,    0.017,2,    0.014,2,    0.010,2,    0.145,2, -999.000,9,-999.0000,9,  -999.00,9,-999.000,   2176.8,2,    767.3,2,   2851,-999.0000,-999.000,-999.000,9,  2.4712,-999.000
      06MT28_1,   A08,   184,  2,    873,    311,2,19940405,2219,-11.3217, -32.5045, 4865,   3103.0,   2.6177,  34.9167,2,  34.9152,2,    242.6,2,    30.97,2,    19.07,2,    0.016,2,    0.015,2,   -0.001,2,    0.148,2, -999.000,9,   1.8170,2,     2.91,2,   7.972,   2177.4,2,    768.3,6,   3100,  0.0070,   0.250,   0.026,2,  2.3646,-999.000
      06MT28_1,   A08,   184,  2,    872,    310,2,19940405,2219,-11.3217, -32.5045, 4865,   3352.1,   2.5252,  34.9095,2,-999.0000,9,    243.0,2,    32.45,2,    19.15,2,    0.017,2,    0.011,2,    0.016,2,    0.166,2,    0.173,2,   1.8240,2,     2.39,2,   8.005,   2177.4,2,    768.4,2,   3349,  0.0070,   0.250,   0.026,2,  2.2481,   0.252
      06MT28_1,   A08,   184,  2,    871,    309,2,19940405,2219,-11.3217, -32.5045, 4865,   3601.9,   2.3503,  34.8944,2,-999.0000,9,    243.1,2,    36.94,2,    19.69,2,    0.021,2,    0.013,2,    0.010,2,    0.182,2,    0.094,2,   1.8250,2,     3.09,2,   7.988,   2182.1,2,    778.3,2,   3598,  0.0070,   0.250,   0.026,2,  2.0507,   0.004
      06MT28_1,   A08,   184,  2,    870,    308,2,19940405,2219,-11.3217, -32.5045, 4865,   3855.0,   2.0025,  34.8557,2,-999.0000,9,    235.2,2,    51.96,2,    21.74,2,    0.009,2,    0.005,2,    0.011,2,    0.110,2, -999.000,9,   1.8420,2,     3.72,2,   8.072,   2197.8,2,    825.6,2,   3850,  0.0070,   0.250,   0.027,2,  1.6845,-999.000
      06MT28_1,   A08,   184,  2,    869,    307,2,19940405,2219,-11.3217, -32.5045, 4865,   4104.6,   1.4365,  34.7934,2,  34.7909,2,    223.1,2,    76.44,2,    25.10,2,    0.010,2,    0.004,2,    0.017,2,    0.051,2, -999.000,9,-999.0000,9,  -999.00,9,-999.000,   2224.8,2,    910.1,2,   4099,-999.0000,-999.000,-999.000,9,  1.1073,-999.000
      06MT28_1,   A08,   184,  2,    868,    306,2,19940405,2219,-11.3217, -32.5045, 4865,   4354.6,   1.1158,  34.7570,2,-999.0000,9,    216.2,2,    89.51,2,    26.96,2,    0.019,2,    0.007,2,    0.013,2,    0.066,2, -999.000,9,-999.0000,9,  -999.00,9,-999.000,   2237.3,2,    962.1,2,   4349,-999.0000,-999.000,-999.000,9,  0.7687,-999.000
      06MT28_1,   A08,   184,  2,    867,    305,2,19940405,2219,-11.3217, -32.5045, 4865,   4606.0,   0.9288,  34.7355,2,-999.0000,9,    209.8,2,    97.39,2,    27.96,2,    0.012,2,    0.007,2,    0.014,2,    0.081,2, -999.000,9,-999.0000,9,  -999.00,9,-999.000,   2245.4,2,    995.1,2,   4600,-999.0000,-999.000,-999.000,9,  0.5593,-999.000
      06MT28_1,   A08,   184,  2,    866,    304,2,19940405,2219,-11.3217, -32.5045, 4865,   4840.2,   0.7008,  34.7102,2,-999.0000,9,    209.4,2,   106.01,2,    29.29,2,    0.038,2,    0.016,2,    0.015,2,    0.144,2, -999.000,9,-999.0000,9,  -999.00,9,-999.000,   -999.0,9,   -999.0,9,   4834,-999.0000,-999.000,-999.000,9,  0.3122,-999.000
      06MT28_1,   A08,   184,  2,    865,    303,2,19940405,2219,-11.3217, -32.5045, 4865,   4911.9,   0.6519,  34.7051,2,-999.0000,9,    208.7,2,   108.79,2,    29.42,2,    0.035,2,    0.018,2,    0.014,2,    0.156,2, -999.000,9,-999.0000,9,  -999.00,9,-999.000,   2256.3,2,   1058.8,2,   4906,-999.0000,-999.000,-999.000,9,  0.2567,-999.000
      06MT28_1,   A08,   184,  2,    864,    301,2,19940405,2219,-11.3217, -32.5045, 4865,   4940.0,   0.6174,  34.7008,2,-999.0000,9,    208.2,2,   109.01,2,    29.44,2, -999.000,9, -999.000,9, -999.000,9, -999.000,9, -999.000,9,-999.0000,9,  -999.00,9,-999.000,   2258.4,2,   1063.8,6,   4934,-999.0000,-999.000,-999.000,9,  0.2201,-999.000
      06MT28_1,   A08,   184,  2,    862,    302,2,19940405,2219,-11.3217, -32.5045, 4865,   4941.3,   0.6137,  34.7005,2,-999.0000,9,    207.9,2,   109.62,2,    29.51,2,    0.038,2,    0.018,2,    0.016,2,    0.165,2, -999.000,9,-999.0000,9,  -999.00,9,-999.000,   2257.0,2,   1059.7,2,   4935,-999.0000,-999.000,-999.000,9,  0.2164,-999.000
      06MT28_1,   A08,   185,  1,    924,    221,2,19940406,0408,-11.3327, -32.0012, 5060,     11.3,  28.8023,  37.1615,2,  37.1630,2,    191.3,2,     0.67,2,     0.00,2, -999.000,9, -999.000,9, -999.000,9, -999.000,9, -999.000,9,-999.0000,9,  -999.00,9,-999.000,   -999.0,9,   -999.0,9,     10,-999.0000,-999.000,-999.000,9, 28.7996,-999.000
      06MT28_1,   A08,   185,  1,    925,    220,2,19940406,0408,-11.3327, -32.0012, 5060,     31.6,  28.7298,  37.1590,2,-999.0000,9,    191.3,2,     0.67,2,     0.00,2, -999.000,9, -999.000,9, -999.000,9, -999.000,9, -999.000,9,-999.0000,9,  -999.00,9,-999.000,   -999.0,9,   -999.0,9,     31,-999.0000,-999.000,-999.000,9, 28.7221,-999.000
      06MT28_1,   A08,   185,  1,    923,    219,2,19940406,0408,-11.3327, -32.0012, 5060,     52.1,  28.1478,  37.2247,2,-999.0000,9,    196.5,2,     0.77,2,     0.00,4, -999.000,9, -999.000,9, -999.000,9, -999.000,9, -999.000,9,-999.0000,9,  -999.00,9,-999.000,   -999.0,9,   -999.0,9,     51,-999.0000,-999.000,-999.000,9, 28.1354,-999.000
      06MT28_1,   A08,   185,  1,    922,    218,2,19940406,0408,-11.3327, -32.0012, 5060,     71.4,  27.7895,  37.2320,2,-999.0000,9,    198.4,2,     0.77,2,     0.00,2, -999.000,9, -999.000,9, -999.000,9, -999.000,9, -999.000,9,-999.0000,9,  -999.00,9,-999.000,   -999.0,9,   -999.0,9,     70,-999.0000,-999.000,-999.000,9, 27.7727,-999.000
      06MT28_1,   A08,   185,  1,    921,    217,2,19940406,0408,-11.3327, -32.0012, 5060,    102.7,  24.6142,  36.9602,2,-999.0000,9,    210.0,2,     0.77,2,     0.00,2, -999.000,9, -999.000,9, -999.000,9, -999.000,9, -999.000,9,-999.0000,9,  -999.00,9,-999.000,   -999.0,9,   -999.0,9,    102,-999.0000,-999.000,-999.000,9, 24.5920,-999.000
      06MT28_1,   A08,   185,  1,    920,    216,2,19940406,0408,-11.3327, -32.0012, 5060,    151.9,  20.6196,  36.3986,2,-999.0000,9,    192.2,2,     1.25,2,     0.67,2, -999.000,9, -999.000,9, -999.000,9, -999.000,9, -999.000,9,-999.0000,9,  -999.00,9,-999.000,   -999.0,9,   -999.0,9,    151,-999.0000,-999.000,-999.000,9, 20.5907,-999.000
      06MT28_1,   A08,   185,  1,    919,    215,2,19940406,0408,-11.3327, -32.0012, 5060,    201.6,  16.2330,  35.7145,2,-999.0000,9,    159.9,2,     3.64,2,     9.77,2, -999.000,9, -999.000,9, -999.000,9, -999.000,9, -999.000,9,-999.0000,9,  -999.00,9,-999.000,   -999.0,9,   -999.0,9,    201,-999.0000,-999.000,-999.000,9, 16.2006,-999.000
      06MT28_1,   A08,   185,  1,    918,    214,2,19940406,0408,-11.3327, -32.0012, 5060,    300.2,  10.8456,  34.9960,2,-999.0000,9,    101.7,2,    10.62,2,    24.98,2, -999.000,9, -999.000,9, -999.000,9, -999.000,9, -999.000,9,-999.0000,9,  -999.00,9,-999.000,   -999.0,9,   -999.0,9,    300,-999.0000,-999.000,-999.000,9, 10.8087,-999.000
      06MT28_1,   A08,   185,  1,    917,    213,2,19940406,0408,-11.3327, -32.0012, 5060,    396.4,   8.4125,  34.7284,2,-999.0000,9,    117.8,2,    14.73,2,    28.31,2, -999.000,9, -999.000,9, -999.000,9, -999.000,9, -999.000,9,-999.0000,9,  -999.00,9,-999.000,   -999.0,9,   -999.0,9,    396,-999.0000,-999.000,-999.000,9,  8.3708,-999.000
      06MT28_1,   A08,   185,  1,    916,    212,2,19940406,0408,-11.3327, -32.0012, 5060,    500.8,   6.5057,  34.5337,2,-999.0000,9,    147.3,2,    19.21,2,    29.53,2, -999.000,9, -999.000,9, -999.000,9, -999.000,9, -999.000,9,-999.0000,9,  -999.00,9,-999.000,   -999.0,9,   -999.0,9,    500,-999.0000,-999.000,-999.000,9,  6.4600,-999.000
      06MT28_1,   A08,   185,  1,    915,    211,2,19940406,0408,-11.3327, -32.0012, 5060,    600.5,   5.5794,  34.4651,2,-999.0000,9,    157.2,2,    22.78,2,    30.47,2, -999.000,9, -999.000,9, -999.000,9, -999.000,9, -999.000,9,-999.0000,9,  -999.00,9,-999.000,   -999.0,9,   -999.0,9,    601,-999.0000,-999.000,-999.000,9,  5.5285,-999.000
      06MT28_1,   A08,   185,  1,    914,    210,2,19940406,0408,-11.3327, -32.0012, 5060,    698.9,   4.8192,  34.4231,2,-999.0000,9,    165.7,2,    26.78,2,    30.74,2, -999.000,9, -999.000,9, -999.000,9, -999.000,9, -999.000,9,-999.0000,9,  -999.00,9,-999.000,   -999.0,9,   -999.0,9,    699,-999.0000,-999.000,-999.000,9,  4.7636,-999.000
      06MT28_1,   A08,   185,  1,    910,    209,2,19940406,0408,-11.3327, -32.0012, 5060,   1000.1,   4.0297,  34.5082,2,-999.0000,9,   -999.0,9,  -999.00,9,  -999.00,9, -999.000,9, -999.000,9, -999.000,9, -999.000,9, -999.000,9,-999.0000,9,  -999.00,9,-999.000,   -999.0,9,   -999.0,9,   1001,-999.0000,-999.000,-999.000,9,  3.9538,-999.000