BOTTLE,20220817CCHSIOAMB
EXPOCODE,SECT_ID,STNNBR,CASTNO,SAMPNO,BTLNBR,BTLNBR_FLAG_W,DATE,TIME,LATITUDE,LONGITUDE,DEPTH,CTDPRS,CTDTMP,CTDSAL,CTDSAL_FLAG_W,SALNTY,SALNTY_FLAG_W,OXYGEN,OXYGEN_FLAG_W,SILCAT,SILCAT_FLAG_W,NO2+NO3,NO2+NO3_FLAG_W,CFC-11,CFC-11_FLAG_W,CFC-12,CFC-12_FLAG_W,CFC113,CFC113_FLAG_W,CCL4,CCL4_FLAG_W,TRITUM,TRITUM_FLAG_W,HELIUM,HELIUM_FLAG_W,DELHE3,DELHE3_FLAG_W,NEON,TCARBN,TCARBN_FLAG_W,PCO2,PCO2_FLAG_W,CTDRAW,HELIER,DELHER,NEONER,NEON_FLAG_W,THETA,TRITER
,,,,,,,,,,,,DBAR,ITS-90,PSS-78,,PSS-78,,UMOL/KG,,UMOL/KG,,UMOL/KG,,PMOL/KG,,PMOL/KG,,PMOL/KG,,PMOL/KG,,TU,,NMOL/KG,,PERCNT,,NMOL/KG,UMOL/KG,,UATM,,,NMOL/KG,PERCNT,NMOL/KG,,ITS-90,TU
      06MT28_1,   A08,   201,  2,   1803,    324,2,19940412,1332,-11.3382, -21.5012, 4987,     15.5,  27.8090,  36.7353,2,  36.7346,2,    195.4,2,     0.86,2,     0.00,4, -999.000,9, -999.000,9, -999.000,9, -999.000,9, -999.000,9,-999.0000,9,  -999.00,9,-999.000,   -999.0,9,   -999.0,9,     11,-999.0000,-999.000,-999.000,9, 27.8053,-999.000
      06MT28_1,   A08,   201,  2,   1856,    323,2,19940412,1332,-11.3382, -21.5012, 4987,    695.3,   5.2897,  34.4813,2,-999.0000,9,    135.0,2,    25.59,2,    33.23,2, -999.000,9, -999.000,9, -999.000,9, -999.000,9, -999.000,9,-999.0000,9,  -999.00,9,-999.000,   -999.0,9,   -999.0,9,    698,-999.0000,-999.000,-999.000,9,  5.2318,-999.000
      06MT28_1,   A08,   201,  2,   1854,    322,2,19940412,1332,-11.3382, -21.5012, 4987,    845.0,   4.4748,  34.4627,2,-999.0000,9,    150.4,2,    30.53,2,    32.82,2, -999.000,9, -999.000,9, -999.000,9, -999.000,9, -999.000,9,-999.0000,9,  -999.00,9,-999.000,   -999.0,9,   -999.0,9,    848,-999.0000,-999.000,-999.000,9,  4.4088,-999.000
      06MT28_1,   A08,   201,  2,   1853,    321,2,19940412,1332,-11.3382, -21.5012, 4987,    994.6,   3.9977,  34.5204,2,  34.5235,2,    161.5,2,    34.04,2,    31.56,2, -999.000,9, -999.000,9, -999.000,9, -999.000,9, -999.000,9,-999.0000,9,  -999.00,9,-999.000,   -999.0,9,   -999.0,9,    998,-999.0000,-999.000,-999.000,9,  3.9225,-999.000
      06MT28_1,   A08,   201,  2,   1850,    320,2,19940412,1332,-11.3382, -21.5012, 4987,   1196.6,   3.9969,  34.6822,2,-999.0000,9,    172.1,2,    30.86,2,    28.67,2, -999.000,9, -999.000,9, -999.000,9, -999.000,9, -999.000,9,-999.0000,9,  -999.00,9,-999.000,   -999.0,9,   -999.0,9,   1200,-999.0000,-999.000,-999.000,9,  3.9043,-999.000
      06MT28_1,   A08,   201,  2,   1849,    319,2,19940412,1332,-11.3382, -21.5012, 4987,   1397.0,   4.0517,  34.8570,2,-999.0000,9,    206.3,2,    23.79,2,    24.07,2, -999.000,9, -999.000,9, -999.000,9, -999.000,9, -999.000,9,-999.0000,9,  -999.00,9,-999.000,   -999.0,9,   -999.0,9,   1400,-999.0000,-999.000,-999.000,9,  3.9405,-999.000
      06MT28_1,   A08,   201,  2,   1848,    318,2,19940412,1332,-11.3382, -21.5012, 4987,   1597.1,   3.9174,  34.9376,2,-999.0000,9,    221.2,2,    20.06,2,    20.82,2, -999.000,9, -999.000,9, -999.000,9, -999.000,9, -999.000,9,-999.0000,9,  -999.00,9,-999.000,   -999.0,9,   -999.0,9,   1599,-999.0000,-999.000,-999.000,9,  3.7894,-999.000
      06MT28_1,   A08,   201,  2,   1847,    317,2,19940412,1332,-11.3382, -21.5012, 4987,   1798.6,   3.6184,  34.9624,2,-999.0000,9,    236.8,2,    19.28,2,    18.99,2, -999.000,9, -999.000,9, -999.000,9, -999.000,9, -999.000,9,-999.0000,9,  -999.00,9,-999.000,   -999.0,9,   -999.0,9,   1800,-999.0000,-999.000,-999.000,9,  3.4755,-999.000
      06MT28_1,   A08,   201,  2,   1846,    316,2,19940412,1332,-11.3382, -21.5012, 4987,   1999.5,   3.3680,  34.9511,2,  34.9491,2,    237.8,2,    22.30,2,    19.07,2, -999.000,9, -999.000,9, -999.000,9, -999.000,9, -999.000,9,-999.0000,9,  -999.00,9,-999.000,   -999.0,9,   -999.0,9,   2000,-999.0000,-999.000,-999.000,9,  3.2100,-999.000
      06MT28_1,   A08,   201,  2,   1844,    315,2,19940412,1332,-11.3382, -21.5012, 4987,   2248.2,   3.1197,  34.9351,2,-999.0000,9,    236.1,2,    26.73,2,    19.52,2, -999.000,9, -999.000,9, -999.000,9, -999.000,9, -999.000,9,-999.0000,9,  -999.00,9,-999.000,   -999.0,9,   -999.0,9,   2248,-999.0000,-999.000,-999.000,9,  2.9421,-999.000
      06MT28_1,   A08,   201,  2,   1843,    314,2,19940412,1332,-11.3382, -21.5012, 4987,   2502.0,   2.9330,  34.9241,2,-999.0000,9,    235.0,2,    30.11,2,    19.79,2, -999.000,9, -999.000,9, -999.000,9, -999.000,9, -999.000,9,-999.0000,9,  -999.00,9,-999.000,   -999.0,9,   -999.0,9,   2501,-999.0000,-999.000,-999.000,9,  2.7342,-999.000
      06MT28_1,   A08,   201,  2,   1842,    313,2,19940412,1332,-11.3382, -21.5012, 4987,   2751.4,   2.8155,  34.9192,2,-999.0000,9,    236.1,2,    31.96,2,    19.77,2, -999.000,9, -999.000,9, -999.000,9, -999.000,9, -999.000,9,-999.0000,9,  -999.00,9,-999.000,   -999.0,9,   -999.0,9,   2750,-999.0000,-999.000,-999.000,9,  2.5942,-999.000
      06MT28_1,   A08,   201,  2,   1841,    312,2,19940412,1332,-11.3382, -21.5012, 4987,   3000.4,   2.6883,  34.9100,2,  34.9087,2,    234.3,2,    34.76,2,    20.12,2, -999.000,9, -999.000,9, -999.000,9, -999.000,9, -999.000,9,-999.0000,9,  -999.00,9,-999.000,   -999.0,9,   -999.0,9,   2998,-999.0000,-999.000,-999.000,9,  2.4443,-999.000
      06MT28_1,   A08,   201,  2,   1840,    311,2,19940412,1332,-11.3382, -21.5012, 4987,   3254.4,   2.6145,  34.9076,2,-999.0000,9,    236.0,2,    35.39,2,    19.91,2, -999.000,9, -999.000,9, -999.000,9, -999.000,9, -999.000,9,-999.0000,9,  -999.00,9,-999.000,   -999.0,9,   -999.0,9,   3251,-999.0000,-999.000,-999.000,9,  2.3457,-999.000
      06MT28_1,   A08,   201,  2,   1839,    310,2,19940412,1332,-11.3382, -21.5012, 4987,   3503.4,   2.5009,  34.9022,2,-999.0000,9,    237.1,2,    36.58,2,    19.80,2, -999.000,9, -999.000,9, -999.000,9, -999.000,9, -999.000,9,-999.0000,9,  -999.00,9,-999.000,   -999.0,9,   -999.0,9,   3499,-999.0000,-999.000,-999.000,9,  2.2081,-999.000
      06MT28_1,   A08,   201,  2,   1838,    309,2,19940412,1332,-11.3382, -21.5012, 4987,   3755.0,   2.2416,  34.8791,2,-999.0000,9,    235.4,2,    44.07,2,    20.62,2, -999.000,9, -999.000,9, -999.000,9, -999.000,9, -999.000,9,-999.0000,9,  -999.00,9,-999.000,   -999.0,9,   -999.0,9,   3750,-999.0000,-999.000,-999.000,9,  1.9281,-999.000
      06MT28_1,   A08,   201,  2,   1837,    308,2,19940412,1332,-11.3382, -21.5012, 4987,   4008.3,   1.8637,  34.8390,2,  34.8373,2,    229.2,2,    58.79,2,    22.67,2, -999.000,9, -999.000,9, -999.000,9, -999.000,9, -999.000,9,-999.0000,9,  -999.00,9,-999.000,   -999.0,9,   -999.0,9,   4003,-999.0000,-999.000,-999.000,9,  1.5327,-999.000
      06MT28_1,   A08,   201,  2,   1836,    307,2,19940412,1332,-11.3382, -21.5012, 4987,   4254.6,   1.2935,  34.7788,2,-999.0000,9,    219.3,2,    81.47,2,    25.84,2, -999.000,9, -999.000,9, -999.000,9, -999.000,9, -999.000,9,-999.0000,9,  -999.00,9,-999.000,   -999.0,9,   -999.0,9,   4249,-999.0000,-999.000,-999.000,9,  0.9519,-999.000
      06MT28_1,   A08,   201,  2,   1835,    306,2,19940412,1332,-11.3382, -21.5012, 4987,   4506.8,   0.9562,  34.7426,2,-999.0000,9,    213.9,2,    93.86,2,    27.41,2, -999.000,9, -999.000,9, -999.000,9, -999.000,9, -999.000,9,-999.0000,9,  -999.00,9,-999.000,   -999.0,9,   -999.0,9,   4501,-999.0000,-999.000,-999.000,9,  0.5970,-999.000
      06MT28_1,   A08,   201,  2,   1834,    305,2,19940412,1332,-11.3382, -21.5012, 4987,   4756.3,   0.8401,  34.7290,2,-999.0000,9,    211.8,2,    99.21,2,    28.13,2, -999.000,9, -999.000,9, -999.000,9, -999.000,9, -999.000,9,-999.0000,9,  -999.00,9,-999.000,   -999.0,9,   -999.0,9,   4750,-999.0000,-999.000,-999.000,9,  0.4564,-999.000
      06MT28_1,   A08,   201,  2,   1885,    304,2,19940412,1332,-11.3382, -21.5012, 4987,   4895.6,   0.8334,  34.7275,2,-999.0000,9,    211.4,2,   100.04,2,    28.21,2, -999.000,9, -999.000,9, -999.000,9, -999.000,9, -999.000,9,-999.0000,9,  -999.00,9,-999.000,   -999.0,9,   -999.0,9,   4889,-999.0000,-999.000,-999.000,9,  0.4337,-999.000
      06MT28_1,   A08,   201,  2,   1884,    303,2,19940412,1332,-11.3382, -21.5012, 4987,   4967.5,   0.8301,  34.7259,2,-999.0000,9,    211.2,2,   100.10,2,    28.25,2, -999.000,9, -999.000,9, -999.000,9, -999.000,9, -999.000,9,-999.0000,9,  -999.00,9,-999.000,   -999.0,9,   -999.0,9,   4961,-999.0000,-999.000,-999.000,9,  0.4221,-999.000
      06MT28_1,   A08,   201,  2,   1886,    302,2,19940412,1332,-11.3382, -21.5012, 4987,   4995.4,   0.8322,  34.7250,2,  34.7253,2,    210.1,2,   100.42,2,    28.24,2, -999.000,9, -999.000,9, -999.000,9, -999.000,9, -999.000,9,-999.0000,9,  -999.00,9,-999.000,   -999.0,9,   -999.0,9,   4989,-999.0000,-999.000,-999.000,9,  0.4209,-999.000
      06MT28_1,   A08,   201,  2,   1883,    301,2,19940412,1332,-11.3382, -21.5012, 4987,   4995.6,   0.8331,  34.7253,2,  34.7233,2,    210.9,2,   100.14,2,    28.20,2, -999.000,9, -999.000,9, -999.000,9, -999.000,9, -999.000,9,-999.0000,9,  -999.00,9,-999.000,   -999.0,9,   -999.0,9,   4989,-999.0000,-999.000,-999.000,9,  0.4217,-999.000
      06MT28_1,   A08,   202,  1,   1882,    218,2,19940412,1955,-11.3328, -20.9988, 4925,     10.4,  27.6879,  36.8146,2,-999.0000,9,    194.9,2,     0.77,2,     0.00,2,    1.497,2,    0.880,2,    0.090,4,    1.719,2,    0.853,2,   1.6870,2,    -1.62,2,   6.579,   2051.7,2,    462.2,6,     10,  0.0060,   0.240,   0.021,2, 27.6855,   0.042
      06MT28_1,   A08,   202,  1,   1880,    217,2,19940412,1955,-11.3328, -20.9988, 4925,     30.2,  27.6790,  36.8126,2,-999.0000,9,    193.9,2,     0.86,2,     0.00,2,    1.498,2,    0.876,2,    0.091,4,    1.707,2,    0.824,2,   1.6940,2,    -0.77,2,   6.630,   2051.6,2,    461.3,2,     29,  0.0060,   0.240,   0.021,2, 27.6719,   0.022
      06MT28_1,   A08,   202,  1,   1879,    216,2,19940412,1955,-11.3328, -20.9988, 4925,     51.1,  27.6360,  36.8157,2,-999.0000,9,    194.5,2,     0.86,2,     0.00,2,    1.510,2,    0.893,2,    0.093,4,    1.712,2,    0.808,2,   1.6740,2,    -0.81,2,   6.534,   2050.4,2,    464.5,2,     50,  0.0060,   0.240,   0.021,2, 27.6240,   0.021
      06MT28_1,   A08,   202,  1,   1878,    215,2,19940412,1955,-11.3328, -20.9988, 4925,     69.6,  24.9723,  36.8546,2,-999.0000,9,    214.3,2,     0.67,2,     0.00,2,    1.756,3,    1.000,3,    0.157,2,    1.405,2,    0.797,2,   1.6910,2,    -0.86,2,   6.711,   2063.5,2,    481.4,2,     69,  0.0060,   0.240,   0.021,2, 24.9571,   0.025
      06MT28_1,   A08,   202,  1,   1877,    214,2,19940412,1955,-11.3328, -20.9988, 4925,    101.8,  22.9461,  36.6779,2,-999.0000,9,    211.2,2,     0.77,2,     0.00,2,    1.842,2,    1.048,2,    0.149,2,    1.195,2,    0.782,2,   1.6970,2,    -1.30,2,   6.787,   2076.2,2,    566.4,2,    101,  0.0060,   0.240,   0.022,2, 22.9252,   0.020
      06MT28_1,   A08,   202,  1,   1876,    213,2,19940412,1955,-11.3328, -20.9988, 4925,    149.9,  18.8187,  36.0968,2,-999.0000,9,    171.7,2,     2.11,2,     5.94,2,    1.904,2,    1.049,2,    0.123,2,    0.779,2, -999.000,9,   1.6460,3,    -0.39,2,   6.716,   2117.2,2,    749.8,2,    149,  0.0060,   0.250,   0.022,3, 18.7920,-999.000
      06MT28_1,   A08,   202,  1,   1875,    212,2,19940412,1955,-11.3328, -20.9988, 4925,    198.7,  14.4746,  35.4696,2,-999.0000,9,    125.8,2,     5.36,2,    16.46,2,    1.529,2,    0.821,2,    0.046,2,    0.414,2,    0.639,2,   1.7280,2,    -0.02,2,   7.159,   2158.0,2,   1101.9,2,    198,  0.0060,   0.240,   0.023,2, 14.4451,   0.032
      06MT28_1,   A08,   202,  1,   1874,    211,2,19940412,1955,-11.3328, -20.9988, 4925,    300.0,  10.1866,  34.9488,2,-999.0000,9,     79.9,2,    12.14,2,    28.69,2,    0.391,2,    0.212,2,    0.012,2,    0.170,2,    0.218,2,   1.7530,2,     0.93,2,   7.406,   2212.4,2,   1131.8,2,    300,  0.0070,   0.250,   0.024,2, 10.1512,   0.037
      06MT28_1,   A08,   202,  1,   1873,    210,2,19940412,1955,-11.3328, -20.9988, 4925,    400.3,   7.9217,  34.6907,2,-999.0000,9,    113.5,2,    15.87,2,    30.01,2,    0.284,2,    0.155,2,    0.012,2,    0.363,2,    0.125,2,-999.0000,9,  -999.00,9,-999.000,   2205.0,2,   1125.6,2,    400,-999.0000,-999.000,-999.000,9,  7.8811,   0.012
      06MT28_1,   A08,   202,  1,   1872,    209,2,19940412,1955,-11.3328, -20.9988, 4925,    500.6,   6.8394,  34.5873,2,-999.0000,9,    120.9,2,    18.87,2,    31.62,2,    0.184,2,    0.104,2,    0.007,2,    0.372,2,    0.077,2,   1.7850,2,     1.47,2,   7.680,   2210.6,2,   1177.8,2,    500,  0.0070,   0.250,   0.025,2,  6.7924,   0.027
      06MT28_1,   A08,   202,  1,   1871,    208,2,19940412,1955,-11.3328, -20.9988, 4925,    600.0,   5.9909,  34.5267,2,-999.0000,9,    149.7,2,    26.11,2,    32.99,2,    0.080,6,    0.049,6,    0.008,6,    0.319,6,   -0.024,2,   1.7920,6,     1.88,6,   7.743,   2211.9,2,   1203.9,6,    600,  0.0070,   0.250,   0.026,6,  5.9381,   0.003
      06MT28_1,   A08,   202,  1,   1869,    207,2,19940412,1955,-11.3328, -20.9988, 4925,    700.2,   5.1350,  34.4686,2,  34.4681,2,   -999.0,9,  -999.00,9,  -999.00,9, -999.000,9, -999.000,9, -999.000,9, -999.000,9, -999.000,9,-999.0000,9,  -999.00,9,-999.000,   -999.0,9,   -999.0,9,    701,-999.0000,-999.000,-999.000,9,  5.0775,-999.000