BOTTLE,20220817CCHSIOAMB
EXPOCODE,SECT_ID,STNNBR,CASTNO,SAMPNO,BTLNBR,BTLNBR_FLAG_W,DATE,TIME,LATITUDE,LONGITUDE,DEPTH,CTDPRS,CTDTMP,CTDSAL,CTDSAL_FLAG_W,SALNTY,SALNTY_FLAG_W,OXYGEN,OXYGEN_FLAG_W,SILCAT,SILCAT_FLAG_W,NO2+NO3,NO2+NO3_FLAG_W,CFC-11,CFC-11_FLAG_W,CFC-12,CFC-12_FLAG_W,CFC113,CFC113_FLAG_W,CCL4,CCL4_FLAG_W,TRITUM,TRITUM_FLAG_W,HELIUM,HELIUM_FLAG_W,DELHE3,DELHE3_FLAG_W,NEON,TCARBN,TCARBN_FLAG_W,PCO2,PCO2_FLAG_W,CTDRAW,HELIER,DELHER,NEONER,NEON_FLAG_W,THETA,TRITER
,,,,,,,,,,,,DBAR,ITS-90,PSS-78,,PSS-78,,UMOL/KG,,UMOL/KG,,UMOL/KG,,PMOL/KG,,PMOL/KG,,PMOL/KG,,PMOL/KG,,TU,,NMOL/KG,,PERCNT,,NMOL/KG,UMOL/KG,,UATM,,,NMOL/KG,PERCNT,NMOL/KG,,ITS-90,TU
      06MT28_1,   A08,   178,  1,    498,    220,2,19940403,1850,-10.7997, -34.7390, 4344,     10.7,  28.8395,  37.0360,2,  37.0428,2,    194.0,2,  -999.00,9,  -999.00,9,    1.462,2,    0.849,2,    0.160,2,    1.625,2,    0.831,2,-999.0000,9,    -1.88,2,-999.000,   2043.6,2,   -999.0,9,     10,-999.0000,   0.240,-999.000,9, 28.8369,   0.021
      06MT28_1,   A08,   178,  1,    497,    219,2,19940403,1850,-10.7997, -34.7390, 4344,     29.9,  28.7497,  37.0331,2,-999.0000,9,    196.5,2,  -999.00,9,  -999.00,9,    1.455,2,    0.854,2,    0.145,2,    1.585,2,    0.834,2,   1.6810,2,    -1.01,2,   6.544,   2044.3,2,    436.9,2,     29,  0.0060,   0.240,   0.021,2, 28.7425,   0.021
      06MT28_1,   A08,   178,  1,    496,    218,2,19940403,1850,-10.7997, -34.7390, 4344,     50.8,  28.7300,  37.1434,2,-999.0000,9,    197.9,2,  -999.00,9,  -999.00,9,    1.395,2,    0.833,2,    0.164,2,    1.460,2,    0.853,2,   1.6610,2,    -1.44,2,   6.471,   2045.4,2,    430.0,2,     50,  0.0060,   0.240,   0.021,2, 28.7177,   0.021
      06MT28_1,   A08,   178,  1,    495,    217,2,19940403,1850,-10.7997, -34.7390, 4344,     70.3,  27.3971,  37.1682,2,-999.0000,9,    202.7,2,  -999.00,9,  -999.00,9,    0.895,4,    0.898,2,   -0.006,4,   -0.008,4,    0.820,2,   1.6730,3,    -0.71,3,   6.567,   2059.2,2,    451.1,2,     70,  0.0150,   0.240,   0.054,3, 27.3807,   0.021
      06MT28_1,   A08,   178,  1,    494,    216,2,19940403,1850,-10.7997, -34.7390, 4344,    100.1,  25.8204,  37.0793,2,-999.0000,9,    207.0,2,  -999.00,9,  -999.00,9,    1.673,2,    0.966,2,    0.246,2,    1.202,2,    0.824,2,   1.6800,2,    -0.96,2,   6.652,   2069.1,2,    477.8,2,    100,  0.0060,   0.240,   0.021,2, 25.7980,   0.022
      06MT28_1,   A08,   178,  1,    493,    215,2,19940403,1850,-10.7997, -34.7390, 4344,    150.5,  21.4261,  36.5298,2,-999.0000,9,    192.2,2,  -999.00,9,  -999.00,9, -999.000,9, -999.000,9, -999.000,9, -999.000,9,    0.844,2,   1.7050,2,    -0.88,2,   6.858,   2099.5,2,    604.5,2,    150,  0.0060,   0.240,   0.022,2, 21.3967,   0.021
      06MT28_1,   A08,   178,  1,    492,    214,2,19940403,1850,-10.7997, -34.7390, 4344,    199.8,  17.0815,  35.8524,2,-999.0000,9,    153.4,2,  -999.00,9,  -999.00,9, -999.000,9, -999.000,9, -999.000,9, -999.000,9,    0.746,2,   1.7230,3,    -0.04,3,   7.075,   2131.9,2,    847.1,2,    199,  0.0150,   0.240,   0.058,3, 17.0482,   0.021
      06MT28_1,   A08,   178,  1,    491,    213,2,19940403,1850,-10.7997, -34.7390, 4344,    299.6,  11.7411,  35.1066,2,-999.0000,9,    105.8,2,  -999.00,9,  -999.00,9, -999.000,9, -999.000,9, -999.000,9, -999.000,9,    0.386,2,-999.0000,9,  -999.00,9,-999.000,   2181.7,2,   1386.2,2,    299,-999.0000,-999.000,-999.000,9, 11.7023,   0.012
      06MT28_1,   A08,   178,  1,    489,    212,2,19940403,1850,-10.7997, -34.7390, 4344,    402.2,   7.7387,  34.6446,2,-999.0000,9,    137.9,2,  -999.00,9,  -999.00,9,    0.493,2,    0.262,2,    0.027,2,    0.587,2,    0.196,2,   1.7880,3,     2.20,3,   7.634,   2190.5,2,   1621.6,2,    402,  0.0160,   0.240,   0.062,3,  7.6985,   0.010
      06MT28_1,   A08,   178,  2,    499,    324,2,19940403,2101,-10.7873, -34.7468, 4250,     14.1,  28.7839,  37.0397,2,  37.0388,2,    193.7,2,     0.87,3,     0.10,3,    1.435,2,    0.851,2,    0.158,2,    1.609,2, -999.000,9,-999.0000,9,  -999.00,9,-999.000,   2045.5,2,   -999.0,9,     10,-999.0000,-999.000,-999.000,9, 28.7805,-999.000
      06MT28_1,   A08,   178,  2,    490,    323,2,19940403,2101,-10.7873, -34.7468, 4250,    397.6,   7.9175,  34.6488,2,-999.0000,9,    149.1,2,    14.34,2,    26.49,2,    0.613,2,    0.326,2,    0.013,2,    0.666,2, -999.000,9,-999.0000,9,  -999.00,9,-999.000,   2181.5,2,    973.8,2,    399,-999.0000,-999.000,-999.000,9,  7.8772,-999.000
      06MT28_1,   A08,   178,  2,    488,    322,2,19940403,2101,-10.7873, -34.7468, 4250,    497.9,   6.3650,  34.5320,2,-999.0000,9,    139.6,2,    20.07,2,    31.16,2,    0.313,2,    0.169,2,   -0.001,2,   -0.002,4, -999.000,9,   1.7890,2,     0.83,2,   7.714,   2203.6,2,   1146.1,2,    500,  0.0070,   0.240,   0.025,2,  6.3201,-999.000
      06MT28_1,   A08,   178,  2,    487,    321,2,19940403,2101,-10.7873, -34.7468, 4250,    598.4,   5.4212,  34.4695,2,-999.0000,9,    147.8,2,    24.17,2,    32.10,2,    0.208,2,    0.112,2,    0.018,2,    0.517,2,    0.055,2,   1.7690,2,     1.71,2,   7.640,   2205.7,2,   1020.9,4,    601,  0.0070,   0.250,   0.025,2,  5.3712,   0.008
      06MT28_1,   A08,   178,  2,    483,    320,2,19940403,2101,-10.7873, -34.7468, 4250,    697.8,   4.7712,  34.4422,2,-999.0000,9,    155.6,2,    27.97,2,    32.46,2,    0.141,2,    0.083,2,    0.023,2,    0.450,2,    0.041,2,   1.7900,3,     1.69,3,   7.788,   2209.7,2,   1165.1,2,    700,  0.0160,   0.240,   0.064,3,  4.7159,   0.004
      06MT28_1,   A08,   178,  2,    472,    319,2,19940403,2101,-10.7873, -34.7468, 4250,    845.6,   4.0097,  34.4539,2,-999.0000,9,    169.2,2,    34.06,2,    31.77,2,    0.088,2,    0.052,2,    0.014,2,    0.373,2,    0.021,2,   1.8150,2,     3.11,2,   7.824,   2211.3,2,   1122.9,2,    849,  0.0070,   0.250,   0.026,2,  3.9467,   0.028
      06MT28_1,   A08,   178,  2,    544,    318,2,19940403,2101,-10.7873, -34.7468, 4250,    997.9,   3.9374,  34.5665,2,-999.0000,9,    168.0,2,    34.22,2,    30.89,2,    0.024,2,    0.014,2,    0.011,2,    0.156,2,    0.017,2,   1.7940,2,     2.95,2,   7.830,   2212.7,2,    980.5,4,   1001,  0.0070,   0.240,   0.025,2,  3.8623,   0.004
      06MT28_1,   A08,   178,  2,    545,    317,2,19940403,2101,-10.7873, -34.7468, 4250,   1197.4,   4.0833,  34.7232,2,-999.0000,9,    175.3,2,    29.24,2,    28.00,2,    0.012,2,    0.001,2,    0.027,2,    0.065,2,    0.029,2,   1.8000,2,     2.10,2,   7.850,   2205.8,2,   1037.8,2,   1200,  0.0070,   0.250,   0.026,2,  3.9898,   0.013
      06MT28_1,   A08,   178,  2,    543,    316,2,19940403,2101,-10.7873, -34.7468, 4250,   1396.9,   4.1192,  34.8605,2,-999.0000,9,   -999.0,9,  -999.00,9,  -999.00,9,    0.012,2,    0.007,2,    0.025,2,    0.097,2, -999.000,9,   1.7870,3,     1.76,3,   7.827,   -999.0,9,   -999.0,9,   1399,  0.0160,   0.240,   0.064,3,  4.0073,-999.000
      06MT28_1,   A08,   178,  2,    542,    315,2,19940403,2101,-10.7873, -34.7468, 4250,   1598.1,   4.0285,  34.9418,2,-999.0000,9,    220.2,2,    19.30,2,    20.82,2,    0.035,2,    0.021,2,    0.006,2,    0.230,2, -999.000,9,   1.8150,2,     1.98,2,   7.803,   2174.0,2,    828.0,2,   1600,  0.0070,   0.250,   0.026,2,  3.8991,-999.000
      06MT28_1,   A08,   178,  2,    541,    314,2,19940403,2101,-10.7873, -34.7468, 4250,   1797.9,   3.6899,  34.9620,2,-999.0000,9,    235.2,2,    18.90,2,    19.09,2,    0.055,2,    0.032,2,    0.028,2,    0.271,2, -999.000,9,   1.8200,2,     1.76,2,   7.888,   2165.8,2,    780.0,2,   1800,  0.0070,   0.240,   0.025,2,  3.5461,-999.000
      06MT28_1,   A08,   178,  2,    540,    313,2,19940403,2101,-10.7873, -34.7468, 4250,   1999.3,   3.4299,  34.9584,2,  34.9578,2,    240.0,2,    20.59,2,    18.79,2,    0.034,2,    0.022,2,    0.005,2,    0.239,2,    0.078,2,   1.8260,2,     2.29,2,   7.933,   2166.2,2,    770.0,2,   2000,  0.0070,   0.250,   0.026,2,  3.2710,   0.087
      06MT28_1,   A08,   178,  2,    539,    312,2,19940403,2101,-10.7873, -34.7468, 4250,   2250.5,   3.1888,  34.9482,2,-999.0000,9,    240.7,2,    23.13,2,    18.77,2,    0.029,2,    0.017,2,    0.016,2,    0.210,2,    0.060,2,-999.0000,9,  -999.00,9,-999.000,   2169.2,2,    772.8,2,   2251,-999.0000,-999.000,-999.000,9,  3.0098,   0.003
      06MT28_1,   A08,   178,  2,    538,    311,2,19940403,2101,-10.7873, -34.7468, 4250,   2500.3,   2.9892,  34.9362,2,-999.0000,9,    239.2,2,    26.79,2,    19.22,2,    0.017,2,    0.010,2,    0.006,2,    0.144,2,    0.050,2,   1.7820,4,     2.32,2,   7.923,   2172.1,2,   -999.0,9,   2500,  0.0070,   0.250,   0.026,2,  2.7895,   0.003
      06MT28_1,   A08,   178,  2,    537,    310,2,19940403,2101,-10.7873, -34.7468, 4250,   2751.6,   2.8562,  34.9291,2,-999.0000,9,    239.0,2,    28.28,2,    19.20,2,    0.020,2,    0.012,2,    0.003,2,    0.134,2,    0.062,2,   1.8290,2,     3.66,2,   8.023,   2173.8,2,    779.2,6,   2750,  0.0070,   0.240,   0.026,2,  2.6340,   0.012
      06MT28_1,   A08,   178,  2,    536,    309,2,19940403,2101,-10.7873, -34.7468, 4250,   3002.5,   2.7373,  34.9222,2,  34.9232,2,    239.5,2,    29.85,2,    19.18,2,    0.017,2,    0.011,2,    0.001,2,    0.129,2, -999.000,9,-999.0000,9,  -999.00,9,-999.000,   2176.8,2,    681.2,4,   3000,-999.0000,-999.000,-999.000,9,  2.4920,-999.000
      06MT28_1,   A08,   178,  2,    535,    308,2,19940403,2101,-10.7873, -34.7468, 4250,   3253.7,   2.6648,  34.9196,2,-999.0000,9,    241.6,2,    29.73,2,    18.87,2,    0.024,2,    0.016,2,    0.000,2,    0.170,2,    0.097,2,-999.0000,9,  -999.00,9,-999.000,   2174.2,2,    767.3,2,   3251,-999.0000,-999.000,-999.000,9,  2.3948,   0.422
      06MT28_1,   A08,   178,  2,    534,    307,2,19940403,2101,-10.7873, -34.7468, 4250,   3502.8,   2.4842,  34.9059,2,-999.0000,9,    241.7,2,    33.56,2,    19.23,2,    0.029,2,    0.013,2,    0.010,2,    0.163,2, -999.000,9,   1.7890,2,     2.65,2,   7.889,   2177.8,2,   -999.0,9,   3499,  0.0070,   0.250,   0.026,2,  2.1919,-999.000
      06MT28_1,   A08,   178,  2,    533,    306,2,19940403,2101,-10.7873, -34.7468, 4250,   3754.4,   2.1401,  34.8709,2,-999.0000,9,    236.0,2,    45.25,2,    20.72,2,    0.014,2,    0.009,2,    0.004,2,    0.146,2,   -7.634,4,   1.8240,2,     3.23,2,   8.055,   2188.4,2,    808.8,2,   3750,  0.0070,   0.240,   0.026,2,  1.8294,   1.088
      06MT28_1,   A08,   178,  2,    532,    305,2,19940403,2101,-10.7873, -34.7468, 4250,   4004.4,   1.5503,  34.8046,2,  34.8044,2,    222.7,2,  -999.00,9,  -999.00,9,    0.005,2,    0.005,2,    0.001,2,    0.061,2,    0.036,2,   1.8300,2,     4.08,2,   8.103,   2218.3,2,    900.4,2,   4000,  0.0070,   0.250,   0.027,2,  1.2288,   0.021
      06MT28_1,   A08,   178,  2,    531,    304,2,19940403,2101,-10.7873, -34.7468, 4250,   4212.8,   1.1431,  34.7604,2,-999.0000,9,    215.6,2,    87.92,2,    26.83,2,    0.021,2,    0.011,2,    0.003,2,    0.084,2, -999.000,9,   1.8620,2,     6.43,2,   8.216,   2234.6,2,    975.2,2,   4208,  0.0070,   0.240,   0.026,2,  0.8108,-999.000
      06MT28_1,   A08,   178,  2,    530,    303,2,19940403,2101,-10.7873, -34.7468, 4250,   4283.7,   1.0799,  34.7524,2,-999.0000,9,    214.7,2,    90.43,2,    27.15,2,    0.013,2,    0.011,2,    0.000,2,    0.083,2,    0.012,2,   1.8060,4,     6.04,2,   7.937,   2238.2,2,    981.1,2,   4279,  0.0070,   0.250,   0.026,4,  0.7417,   0.007
      06MT28_1,   A08,   178,  2,    529,    301,2,19940403,2101,-10.7873, -34.7468, 4250,   4313.9,   1.0768,  34.7518,2,  34.7541,2,    214.4,2,    90.28,2,    27.05,2,    0.028,2,    0.018,2,    0.012,2,    0.088,2, -999.000,9,-999.0000,9,  -999.00,9,-999.000,   2237.6,2,    983.8,6,   4309,-999.0000,-999.000,-999.000,9,  0.7354,-999.000
      06MT28_1,   A08,   178,  2,    528,    302,2,19940403,2101,-10.7873, -34.7468, 4250,   4314.1,   1.0767,  34.7519,2,  34.7501,2,    214.7,2,    91.26,3,    27.34,2, -999.000,9, -999.000,9, -999.000,9, -999.000,9,    0.041,2,   1.8440,6,     5.40,6,   8.125,   2237.6,2,    866.2,4,   4309,  0.0070,   0.250,   0.027,6,  0.7353,   0.005
      06MT28_1,   A08,   179,  1,    527,    221,2,19940404,0203,-10.9487, -34.5143, 4450,     12.0,  28.7674,  37.0271,2,-999.0000,9,    197.3,2,  -999.00,9,  -999.00,9, -999.000,9, -999.000,9, -999.000,9, -999.000,9, -999.000,9,-999.0000,9,  -999.00,9,-999.000,   -999.0,9,   -999.0,9,     10,-999.0000,-999.000,-999.000,9, 28.7645,-999.000
      06MT28_1,   A08,   179,  1,    526,    220,2,19940404,0203,-10.9487, -34.5143, 4450,     12.0,  28.7674,  37.0271,2,  37.0352,2,    192.4,2,  -999.00,9,  -999.00,5, -999.000,9, -999.000,9, -999.000,9, -999.000,9, -999.000,9,-999.0000,9,  -999.00,9,-999.000,   -999.0,9,   -999.0,9,     10,-999.0000,-999.000,-999.000,9, 28.7645,-999.000
      06MT28_1,   A08,   179,  1,    523,    219,2,19940404,0203,-10.9487, -34.5143, 4450,     41.1,  28.6904,  37.0147,2,-999.0000,9,    192.6,2,     0.77,2,     0.29,2, -999.000,9, -999.000,9, -999.000,9, -999.000,9, -999.000,9,-999.0000,9,  -999.00,9,-999.000,   -999.0,9,   -999.0,9,     39,-999.0000,-999.000,-999.000,9, 28.6805,-999.000
      06MT28_1,   A08,   179,  1,    522,    218,2,19940404,0203,-10.9487, -34.5143, 4450,     61.4,  28.7041,  37.0425,2,-999.0000,9,    195.1,2,     0.86,2,     0.00,4, -999.000,9, -999.000,9, -999.000,9, -999.000,9, -999.000,9,-999.0000,9,  -999.00,9,-999.000,   -999.0,9,   -999.0,9,     60,-999.0000,-999.000,-999.000,9, 28.6893,-999.000
      06MT28_1,   A08,   179,  1,    510,    217,2,19940404,0203,-10.9487, -34.5143, 4450,     82.3,  27.6912,  37.1733,2,-999.0000,9,    201.0,2,     0.67,2,     0.00,4, -999.000,9, -999.000,9, -999.000,9, -999.000,9, -999.000,9,-999.0000,9,  -999.00,9,-999.000,   -999.0,9,   -999.0,9,     81,-999.0000,-999.000,-999.000,9, 27.6718,-999.000
      06MT28_1,   A08,   179,  1,    582,    216,2,19940404,0203,-10.9487, -34.5143, 4450,    121.7,  24.5720,  37.0260,2,-999.0000,9,    202.7,2,     0.86,2,     0.00,4, -999.000,9, -999.000,9, -999.000,9, -999.000,9, -999.000,9,-999.0000,9,  -999.00,9,-999.000,   -999.0,9,   -999.0,9,    120,-999.0000,-999.000,-999.000,9, 24.5458,-999.000
      06MT28_1,   A08,   179,  1,    583,    215,2,19940404,0203,-10.9487, -34.5143, 4450,    181.6,  19.4026,  36.2102,2,-999.0000,9,    173.0,2,     1.92,2,     4.31,2, -999.000,9, -999.000,9, -999.000,9, -999.000,9, -999.000,9,-999.0000,9,  -999.00,9,-999.000,   -999.0,9,   -999.0,9,    180,-999.0000,-999.000,-999.000,9, 19.3695,-999.000
      06MT28_1,   A08,   179,  1,    581,    214,2,19940404,0203,-10.9487, -34.5143, 4450,    250.4,  13.4706,  35.2933,2,-999.0000,9,    139.3,2,     5.65,2,    15.99,2, -999.000,9, -999.000,9, -999.000,9, -999.000,9, -999.000,9,-999.0000,9,  -999.00,9,-999.000,   -999.0,9,   -999.0,9,    249,-999.0000,-999.000,-999.000,9, 13.4351,-999.000
      06MT28_1,   A08,   179,  1,    579,    212,2,19940404,0203,-10.9487, -34.5143, 4450,    451.4,   6.9150,  34.5612,2,-999.0000,9,    147.9,2,    17.40,2,    28.97,2, -999.000,9, -999.000,9, -999.000,9, -999.000,9, -999.000,9,-999.0000,9,  -999.00,9,-999.000,   -999.0,9,   -999.0,9,    450,-999.0000,-999.000,-999.000,9,  6.8725,-999.000
      06MT28_1,   A08,   179,  1,    580,    213,2,19940404,0203,-10.9487, -34.5143, 4450,    451.5,   6.9150,  34.5611,2,-999.0000,9,    143.5,2,    17.31,2,    28.89,2, -999.000,9, -999.000,9, -999.000,9, -999.000,9, -999.000,9,-999.0000,9,  -999.00,9,-999.000,   -999.0,9,   -999.0,9,    450,-999.0000,-999.000,-999.000,9,  6.8725,-999.000
      06MT28_1,   A08,   179,  1,    575,    210,2,19940404,0203,-10.9487, -34.5143, 4450,    650.8,   5.2015,  34.4613,2,-999.0000,9,    144.5,2,    25.50,2,    32.61,2, -999.000,9, -999.000,9, -999.000,9, -999.000,9, -999.000,9,-999.0000,9,  -999.00,9,-999.000,   -999.0,9,   -999.0,9,    650,-999.0000,-999.000,-999.000,9,  5.1479,-999.000
      06MT28_1,   A08,   179,  1,    576,    211,2,19940404,0203,-10.9487, -34.5143, 4450,    650.8,   5.2015,  34.4612,2,-999.0000,9,    152.8,2,    25.51,2,    32.63,2, -999.000,9, -999.000,9, -999.000,9, -999.000,9, -999.000,9,-999.0000,9,  -999.00,9,-999.000,   -999.0,9,   -999.0,9,    650,-999.0000,-999.000,-999.000,9,  5.1479,-999.000
      06MT28_1,   A08,   179,  1,    571,    209,2,19940404,0203,-10.9487, -34.5143, 4450,   1008.3,   3.9577,  34.5411,2,-999.0000,9,   -999.0,9,  -999.00,9,  -999.00,9, -999.000,9, -999.000,9, -999.000,9, -999.000,9, -999.000,9,-999.0000,9,  -999.00,9,-999.000,   -999.0,9,   -999.0,9,   1009,-999.0000,-999.000,-999.000,9,  3.8816,-999.000