BOTTLE,20220817CCHSIOAMB
EXPOCODE,SECT_ID,STNNBR,CASTNO,SAMPNO,BTLNBR,BTLNBR_FLAG_W,DATE,TIME,LATITUDE,LONGITUDE,DEPTH,CTDPRS,CTDTMP,CTDSAL,CTDSAL_FLAG_W,SALNTY,SALNTY_FLAG_W,OXYGEN,OXYGEN_FLAG_W,SILCAT,SILCAT_FLAG_W,NO2+NO3,NO2+NO3_FLAG_W,CFC-11,CFC-11_FLAG_W,CFC-12,CFC-12_FLAG_W,CFC113,CFC113_FLAG_W,CCL4,CCL4_FLAG_W,TRITUM,TRITUM_FLAG_W,HELIUM,HELIUM_FLAG_W,DELHE3,DELHE3_FLAG_W,NEON,TCARBN,TCARBN_FLAG_W,PCO2,PCO2_FLAG_W,CTDRAW,HELIER,DELHER,NEONER,NEON_FLAG_W,THETA,TRITER
,,,,,,,,,,,,DBAR,ITS-90,PSS-78,,PSS-78,,UMOL/KG,,UMOL/KG,,UMOL/KG,,PMOL/KG,,PMOL/KG,,PMOL/KG,,PMOL/KG,,TU,,NMOL/KG,,PERCNT,,NMOL/KG,UMOL/KG,,UATM,,,NMOL/KG,PERCNT,NMOL/KG,,ITS-90,TU
      06MT28_1,   A08,   258,  2,   1831,    324,2,19940430,1542,-11.3332,   6.6673, 5255,     12.8,  25.2094,  36.6999,2,  36.7013,2,    202.6,2,     0.29,2,     0.10,2,    1.645,2,    0.959,2,    0.159,2,    1.812,2, -999.000,9,-999.0000,9,  -999.00,9,-999.000,   2056.3,2,   -999.0,9,     10,-999.0000,-999.000,-999.000,9, 25.2066,-999.000
      06MT28_1,   A08,   258,  2,   1922,    323,2,19940430,1542,-11.3332,   6.6673, 5255,    919.8,   4.3021,  34.5412,2,-999.0000,9,    122.5,2,    33.38,2,    35.10,2, -999.000,9, -999.000,9, -999.000,9, -999.000,9, -999.000,9,-999.0000,9,  -999.00,9,-999.000,   2237.4,2,   1359.6,2,    924,-999.0000,-999.000,-999.000,9,  4.2309,-999.000
      06MT28_1,   A08,   258,  2,   1919,    322,2,19940430,1542,-11.3332,   6.6673, 5255,   1096.1,   3.9791,  34.6610,2,  34.6633,2,    147.1,2,    33.54,2,    31.35,2,    0.002,2,    0.000,2,    0.013,4,    0.006,2, -999.000,9,-999.0000,9,  -999.00,9,-999.000,   2226.1,2,   1188.6,2,   1100,-999.0000,-999.000,-999.000,9,  3.8953,-999.000
      06MT28_1,   A08,   258,  2,   1917,    321,2,19940430,1542,-11.3332,   6.6673, 5255,   1296.5,   3.9028,  34.8134,2,-999.0000,9,    173.2,2,    28.56,2,    26.94,2,    0.000,2,    0.000,2,    0.031,4,    0.007,2, -999.000,9,-999.0000,9,  -999.00,9,-999.000,   2207.5,2,   1044.7,2,   1300,-999.0000,-999.000,-999.000,9,  3.8022,-999.000
      06MT28_1,   A08,   258,  2,   1918,    320,2,19940430,1542,-11.3332,   6.6673, 5255,   1497.3,   3.7629,  34.8966,2,  34.8970,2,    194.5,2,    26.25,2,    23.68,2, -999.000,9, -999.000,9, -999.000,9, -999.000,9, -999.000,9,-999.0000,9,  -999.00,9,-999.000,   2194.2,2,    927.9,2,   1501,-999.0000,-999.000,-999.000,9,  3.6458,-999.000
      06MT28_1,   A08,   258,  2,   1962,    319,2,19940430,1542,-11.3332,   6.6673, 5255,   1697.9,   3.6363,  34.9153,2,-999.0000,9,    201.9,2,    26.51,2,    22.90,2,    0.004,3,    0.001,2,    0.015,4,    0.011,2, -999.000,9,-999.0000,9,  -999.00,9,-999.000,   2191.1,2,    892.5,2,   1701,-999.0000,-999.000,-999.000,9,  3.5026,-999.000
      06MT28_1,   A08,   258,  2,   1954,    318,2,19940430,1542,-11.3332,   6.6673, 5255,   1898.3,   3.4104,  34.9275,2,-999.0000,9,    210.4,2,    27.62,2,    21.93,2,    0.002,2,    0.001,2,    0.027,4,    0.004,2, -999.000,9,-999.0000,9,  -999.00,9,-999.000,   2186.3,2,    849.7,2,   1900,-999.0000,-999.000,-999.000,9,  3.2613,-999.000
      06MT28_1,   A08,   258,  2,   1952,    317,2,19940430,1542,-11.3332,   6.6673, 5255,   2098.7,   3.2053,  34.9311,2,  34.9318,2,    215.3,2,    30.16,2,    21.43,2,    0.006,3,    0.001,2,    0.020,4,    0.007,2, -999.000,9,-999.0000,9,  -999.00,9,-999.000,   2187.0,2,    845.4,2,   2100,-999.0000,-999.000,-999.000,9,  3.0405,-999.000
      06MT28_1,   A08,   258,  2,   1951,    316,2,19940430,1542,-11.3332,   6.6673, 5255,   2348.7,   2.9702,  34.9207,2,-999.0000,9,    217.0,2,    33.91,2,    21.50,2,    0.000,2,    0.000,2,   -0.007,4,    0.006,2, -999.000,9,-999.0000,9,  -999.00,9,-999.000,   2189.5,2,    839.3,2,   2349,-999.0000,-999.000,-999.000,9,  2.7856,-999.000
      06MT28_1,   A08,   258,  2,   1950,    315,2,19940430,1542,-11.3332,   6.6673, 5255,   2600.7,   2.8151,  34.9160,2,-999.0000,9,    218.1,2,    37.10,2,    21.58,2,    0.001,2,    0.000,2,   -0.006,4,    0.003,2, -999.000,9,-999.0000,9,  -999.00,9,-999.000,   2192.9,2,    830.4,2,   2600,-999.0000,-999.000,-999.000,9,  2.6088,-999.000
      06MT28_1,   A08,   258,  2,   1949,    314,2,19940430,1542,-11.3332,   6.6673, 5255,   2851.8,   2.6827,  34.9100,2,-999.0000,9,    218.2,2,    39.89,2,    21.74,2,    0.004,2,    0.000,2,   -0.006,4,    0.005,2, -999.000,9,-999.0000,9,  -999.00,9,-999.000,   2196.4,2,    828.0,2,   2850,-999.0000,-999.000,-999.000,9,  2.4540,-999.000
      06MT28_1,   A08,   258,  2,   1948,    313,2,19940430,1542,-11.3332,   6.6673, 5255,   3101.2,   2.5586,  34.9027,2,  34.9029,2,    216.0,2,    43.63,2,    22.10,2,    0.001,2,    0.000,2,   -0.006,4,    0.003,2, -999.000,9,-999.0000,9,  -999.00,9,-999.000,   2202.3,2,    834.9,2,   3099,-999.0000,-999.000,-999.000,9,  2.3071,-999.000
      06MT28_1,   A08,   258,  2,   1947,    312,2,19940430,1542,-11.3332,   6.6673, 5255,   3353.2,   2.4597,  34.8983,2,-999.0000,9,    211.9,2,    47.54,2,    22.36,2,    0.000,2,    0.000,2,   -0.006,4,    0.003,2, -999.000,9,-999.0000,9,  -999.00,9,-999.000,   2211.3,2,    845.8,2,   3350,-999.0000,-999.000,-999.000,9,  2.1841,-999.000
      06MT28_1,   A08,   258,  2,   1987,    311,2,19940430,1542,-11.3332,   6.6673, 5255,   3603.7,   2.3873,  34.8926,2,-999.0000,9,    210.6,2,    50.32,2,    22.43,2,    0.000,2,    0.000,2,   -0.006,4,    0.004,2, -999.000,9,-999.0000,9,  -999.00,9,-999.000,   2216.4,2,    843.2,2,   3600,-999.0000,-999.000,-999.000,9,  2.0866,-999.000
      06MT28_1,   A08,   258,  2,   1986,    310,2,19940430,1542,-11.3332,   6.6673, 5255,   3854.4,   2.3495,  34.8898,2,-999.0000,9,    213.7,2,    50.08,2,    22.31,2,    0.002,2,    0.000,2,   -0.006,4,    0.004,2, -999.000,9,-999.0000,9,  -999.00,9,-999.000,   2214.2,2,    828.4,2,   3850,-999.0000,-999.000,-999.000,9,  2.0220,-999.000
      06MT28_1,   A08,   258,  2,   1984,    309,2,19940430,1542,-11.3332,   6.6673, 5255,   4104.1,   2.3468,  34.8883,2,  34.8890,2,    215.2,2,    49.74,2,    22.10,2,    0.001,2,    0.001,2,   -0.013,4,    0.006,2, -999.000,9,-999.0000,9,  -999.00,9,-999.000,   2213.8,2,    829.7,2,   4099,-999.0000,-999.000,-999.000,9,  1.9910,-999.000
      06MT28_1,   A08,   258,  2,   1982,    308,2,19940430,1542,-11.3332,   6.6673, 5255,   4355.0,   2.3568,  34.8859,2,-999.0000,9,    217.0,2,    49.41,2,    22.07,2,    0.002,2,    0.000,2,   -0.013,4,    0.007,2, -999.000,9,-999.0000,9,  -999.00,9,-999.000,   2211.6,2,    821.7,2,   4350,-999.0000,-999.000,-999.000,9,  1.9714,-999.000
      06MT28_1,   A08,   258,  2,   1981,    307,2,19940430,1542,-11.3332,   6.6673, 5255,   4605.5,   2.3695,  34.8836,2,-999.0000,9,    220.4,2,    49.45,2,    22.05,2,    0.002,2,    0.000,2,   -0.008,4,    0.010,2, -999.000,9,-999.0000,9,  -999.00,9,-999.000,   2211.6,2,    818.0,2,   4600,-999.0000,-999.000,-999.000,9,  1.9536,-999.000
      06MT28_1,   A08,   258,  2,   1980,    306,2,19940430,1542,-11.3332,   6.6673, 5255,   4856.3,   2.3923,  34.8826,2,-999.0000,9,    216.8,2,    49.59,2,    21.94,2,    0.003,2,    0.000,2,    0.001,2,    0.012,2, -999.000,9,-999.0000,9,  -999.00,9,-999.000,   2212.1,2,    815.2,2,   4850,-999.0000,-999.000,-999.000,9,  1.9447,-999.000
      06MT28_1,   A08,   258,  2,   1979,    305,2,19940430,1542,-11.3332,   6.6673, 5255,   5057.2,   2.4116,  34.8812,2,  34.8812,2,    217.8,2,    49.74,2,    21.92,2,    0.004,2,    0.000,2,    0.010,4,    0.015,2, -999.000,9,-999.0000,9,  -999.00,9,-999.000,   2211.5,2,    815.0,2,   5051,-999.0000,-999.000,-999.000,9,  1.9379,-999.000
      06MT28_1,   A08,   258,  2,   2025,    304,2,19940430,1542,-11.3332,   6.6673, 5255,   5187.8,   2.4255,  34.8808,2,-999.0000,9,    217.0,2,    49.90,2,    21.91,2,    0.003,2,    0.000,2,    0.023,4,    0.015,2, -999.000,9,-999.0000,9,  -999.00,9,-999.000,   2211.5,2,    817.3,2,   5181,-999.0000,-999.000,-999.000,9,  1.9346,-999.000
      06MT28_1,   A08,   258,  2,   2026,    303,2,19940430,1542,-11.3332,   6.6673, 5255,   5258.7,   2.4333,  34.8808,2,-999.0000,9,    216.4,2,    49.84,2,    21.90,2,    0.004,2,    0.000,2,    0.013,4,    0.017,2, -999.000,9,-999.0000,9,  -999.00,9,-999.000,   2208.8,2,    817.4,2,   5252,-999.0000,-999.000,-999.000,9,  1.9330,-999.000
      06MT28_1,   A08,   258,  2,   2017,    301,2,19940430,1542,-11.3332,   6.6673, 5255,   5288.9,   2.4372,  34.8809,2,  34.8793,2,    216.9,2,    49.93,2,    21.90,2,    0.004,2,    0.000,2,    0.008,2,    0.016,2, -999.000,9,-999.0000,9,  -999.00,9,-999.000,   2212.4,2,    822.9,6,   5283,-999.0000,-999.000,-999.000,9,  1.9328,-999.000
      06MT28_1,   A08,   258,  2,   2015,    302,2,19940430,1542,-11.3332,   6.6673, 5255,   5289.0,   2.4375,  34.8806,2,  34.8811,2,    215.9,2,    50.02,2,    21.90,2,    0.005,2,    0.001,2,    0.029,2,    0.020,2, -999.000,9,-999.0000,9,  -999.00,9,-999.000,   2212.5,2,    817.9,2,   5283,-999.0000,-999.000,-999.000,9,  1.9331,-999.000
      06MT28_1,   A08,   259,  1,   2014,    219,2,19940430,2156,-11.3337,   7.3327, 5057,     11.8,  26.1457,  36.0857,2,  36.3734,4,    199.2,2,     0.48,2,     0.00,2, -999.000,9, -999.000,9, -999.000,9, -999.000,9, -999.000,9,-999.0000,9,  -999.00,9,-999.000,   -999.0,9,   -999.0,9,     10,-999.0000,-999.000,-999.000,9, 26.1431,-999.000
      06MT28_1,   A08,   259,  1,   2012,    218,2,19940430,2156,-11.3337,   7.3327, 5057,     31.1,  24.1364,  36.5362,2,-999.0000,9,    212.4,2,     1.06,2,     0.77,2, -999.000,9, -999.000,9, -999.000,9, -999.000,9, -999.000,9,-999.0000,9,  -999.00,9,-999.000,   -999.0,9,   -999.0,9,     30,-999.0000,-999.000,-999.000,9, 24.1298,-999.000
      06MT28_1,   A08,   259,  1,   2011,    217,2,19940430,2156,-11.3337,   7.3327, 5057,     51.1,  17.1460,  35.7046,2,-999.0000,9,     91.3,2,     5.18,2,    18.02,2, -999.000,9, -999.000,9, -999.000,9, -999.000,9, -999.000,9,-999.0000,9,  -999.00,9,-999.000,   -999.0,9,   -999.0,9,     50,-999.0000,-999.000,-999.000,9, 17.1375,-999.000
      06MT28_1,   A08,   259,  1,   2010,    216,2,19940430,2156,-11.3337,   7.3327, 5057,     71.8,  15.5404,  35.5733,2,-999.0000,9,     45.0,2,     7.67,2,    24.34,2, -999.000,9, -999.000,9, -999.000,9, -999.000,9, -999.000,9,-999.0000,9,  -999.00,9,-999.000,   -999.0,9,   -999.0,9,     70,-999.0000,-999.000,-999.000,9, 15.5292,-999.000
      06MT28_1,   A08,   259,  1,   2055,    215,2,19940430,2156,-11.3337,   7.3327, 5057,    101.8,  14.7252,  35.4874,2,-999.0000,9,     47.4,2,     8.05,2,    25.39,2, -999.000,9, -999.000,9, -999.000,9, -999.000,9, -999.000,9,-999.0000,9,  -999.00,9,-999.000,   -999.0,9,   -999.0,9,    101,-999.0000,-999.000,-999.000,9, 14.7100,-999.000
      06MT28_1,   A08,   259,  1,   2054,    214,2,19940430,2156,-11.3337,   7.3327, 5057,    150.6,  13.7255,  35.3654,2,-999.0000,9,     53.7,2,     8.62,2,    26.15,2, -999.000,9, -999.000,9, -999.000,9, -999.000,9, -999.000,9,-999.0000,9,  -999.00,9,-999.000,   -999.0,9,   -999.0,9,    149,-999.0000,-999.000,-999.000,9, 13.7040,-999.000
      06MT28_1,   A08,   259,  1,   2052,    213,2,19940430,2156,-11.3337,   7.3327, 5057,    201.5,  12.6336,  35.2413,2,-999.0000,9,     59.4,2,     9.38,2,    27.38,2, -999.000,9, -999.000,9, -999.000,9, -999.000,9, -999.000,9,   1.7130,6,     1.36,6,   7.262,   -999.0,9,   -999.0,9,    200,  0.0060,   0.250,   0.024,6, 12.6063,-999.000
      06MT28_1,   A08,   259,  1,   2051,    212,2,19940430,2156,-11.3337,   7.3327, 5057,    301.5,  10.8929,  35.0326,2,  35.0393,2,     29.6,2,    13.11,2,    33.40,2, -999.000,9, -999.000,9, -999.000,9, -999.000,9, -999.000,9,-999.0000,9,  -999.00,9,-999.000,   -999.0,9,   -999.0,9,    300,-999.0000,-999.000,-999.000,9, 10.8557,-999.000
      06MT28_1,   A08,   259,  1,   2050,    211,2,19940430,2156,-11.3337,   7.3327, 5057,    402.9,   9.2687,  34.8557,2,-999.0000,9,     31.8,2,    15.88,2,    36.15,2, -999.000,9, -999.000,9, -999.000,9, -999.000,9, -999.000,9,-999.0000,9,  -999.00,9,-999.000,   -999.0,9,   -999.0,9,    401,-999.0000,-999.000,-999.000,9,  9.2237,-999.000
      06MT28_1,   A08,   259,  1,   2049,    210,2,19940430,2156,-11.3337,   7.3327, 5057,    500.6,   7.6894,  34.6999,2,-999.0000,9,     31.2,2,    20.17,2,    39.86,2, -999.000,9, -999.000,9, -999.000,9, -999.000,9, -999.000,9,-999.0000,9,  -999.00,9,-999.000,   -999.0,9,   -999.0,9,    499,-999.0000,-999.000,-999.000,9,  7.6391,-999.000
      06MT28_1,   A08,   259,  1,   2048,    209,2,19940430,2156,-11.3337,   7.3327, 5057,    601.3,   6.3394,  34.5873,2,  34.5883,2,     51.1,2,    23.93,2,    40.65,2, -999.000,9, -999.000,9, -999.000,9, -999.000,9, -999.000,9,-999.0000,9,  -999.00,9,-999.000,   -999.0,9,   -999.0,9,    600,-999.0000,-999.000,-999.000,9,  6.2849,-999.000
      06MT28_1,   A08,   259,  1,   2045,    207,2,19940430,2156,-11.3337,   7.3327, 5057,    700.7,   5.4723,  34.5315,2,-999.0000,9,   -999.0,9,  -999.00,9,  -999.00,9, -999.000,9, -999.000,9, -999.000,9, -999.000,9, -999.000,9,-999.0000,9,  -999.00,9,-999.000,   -999.0,9,   -999.0,9,    700,-999.0000,-999.000,-999.000,9,  5.4129,-999.000
      06MT28_1,   A08,   259,  1,   2046,    208,2,19940430,2156,-11.3337,   7.3327, 5057,    700.7,   5.4776,  34.5295,2,-999.0000,9,     76.9,2,    27.26,3,    39.43,3, -999.000,9, -999.000,9, -999.000,9, -999.000,9, -999.000,9,-999.0000,9,  -999.00,9,-999.000,   -999.0,9,   -999.0,9,    700,-999.0000,-999.000,-999.000,9,  5.4182,-999.000