BOTTLE,20220817CCHSIOAMB
EXPOCODE,SECT_ID,STNNBR,CASTNO,SAMPNO,BTLNBR,BTLNBR_FLAG_W,DATE,TIME,LATITUDE,LONGITUDE,DEPTH,CTDPRS,CTDTMP,CTDSAL,CTDSAL_FLAG_W,SALNTY,SALNTY_FLAG_W,OXYGEN,OXYGEN_FLAG_W,SILCAT,SILCAT_FLAG_W,NO2+NO3,NO2+NO3_FLAG_W,CFC-11,CFC-11_FLAG_W,CFC-12,CFC-12_FLAG_W,CFC113,CFC113_FLAG_W,CCL4,CCL4_FLAG_W,TRITUM,TRITUM_FLAG_W,HELIUM,HELIUM_FLAG_W,DELHE3,DELHE3_FLAG_W,NEON,TCARBN,TCARBN_FLAG_W,PCO2,PCO2_FLAG_W,CTDRAW,HELIER,DELHER,NEONER,NEON_FLAG_W,THETA,TRITER
,,,,,,,,,,,,DBAR,ITS-90,PSS-78,,PSS-78,,UMOL/KG,,UMOL/KG,,UMOL/KG,,PMOL/KG,,PMOL/KG,,PMOL/KG,,PMOL/KG,,TU,,NMOL/KG,,PERCNT,,NMOL/KG,UMOL/KG,,UATM,,,NMOL/KG,PERCNT,NMOL/KG,,ITS-90,TU
      06MT28_1,   A08,   259,  2,   2013,    324,2,19940501,0000,-11.3333,   7.3333, 5058,     19.4,  26.1692,  36.0425,2,-999.0000,9,   -999.0,9,  -999.00,9,  -999.00,9, -999.000,5, -999.000,5, -999.000,5, -999.000,5, -999.000,9,-999.0000,9,  -999.00,9,-999.000,   -999.0,9,   -999.0,9,     16,-999.0000,-999.000,-999.000,9, 26.1648,-999.000
      06MT28_1,   A08,   259,  2,   2047,    323,2,19940501,0000,-11.3333,   7.3333, 5058,    696.0,   5.3888,  34.5247,2,-999.0000,9,     78.2,2,    27.78,2,    39.62,2, -999.000,9, -999.000,9, -999.000,9, -999.000,9, -999.000,9,-999.0000,9,  -999.00,9,-999.000,   -999.0,9,   -999.0,9,    700,-999.0000,-999.000,-999.000,9,  5.3303,-999.000
      06MT28_1,   A08,   259,  2,   2043,    322,2,19940501,0000,-11.3333,   7.3333, 5058,    843.8,   4.5287,  34.5134,2,-999.0000,9,    112.4,2,    32.44,2,    36.73,2, -999.000,9, -999.000,9, -999.000,9, -999.000,9, -999.000,9,-999.0000,9,  -999.00,9,-999.000,   -999.0,9,   -999.0,9,    848,-999.0000,-999.000,-999.000,9,  4.4624,-999.000
      06MT28_1,   A08,   259,  2,   2088,    321,2,19940501,0000,-11.3333,   7.3333, 5058,    995.6,   4.1388,  34.5823,2,-999.0000,9,    132.0,2,    34.13,2,    34.13,2, -999.000,9, -999.000,9, -999.000,9, -999.000,9, -999.000,9,-999.0000,9,  -999.00,9,-999.000,   -999.0,9,   -999.0,9,   1000,-999.0000,-999.000,-999.000,9,  4.0624,-999.000
      06MT28_1,   A08,   259,  2,   2087,    320,2,19940501,0000,-11.3333,   7.3333, 5058,   1192.3,   3.9337,  34.7387,2,-999.0000,9,    158.2,2,    31.43,2,    29.81,2, -999.000,9, -999.000,9, -999.000,9, -999.000,9, -999.000,9,-999.0000,9,  -999.00,9,-999.000,   -999.0,9,   -999.0,9,   1196,-999.0000,-999.000,-999.000,9,  3.8420,-999.000
      06MT28_1,   A08,   259,  2,   2086,    319,2,19940501,0000,-11.3333,   7.3333, 5058,   1395.0,   3.8504,  34.8538,2,-999.0000,9,    183.7,2,    27.02,2,    25.59,2, -999.000,9, -999.000,9, -999.000,9, -999.000,9, -999.000,9,-999.0000,9,  -999.00,9,-999.000,   -999.0,9,   -999.0,9,   1399,-999.0000,-999.000,-999.000,9,  3.7416,-999.000
      06MT28_1,   A08,   259,  2,   2085,    318,2,19940501,0000,-11.3333,   7.3333, 5058,   1596.9,   3.7023,  34.9104,2,  34.9100,2,    206.8,2,    25.28,2,    23.19,2, -999.000,9, -999.000,9, -999.000,9, -999.000,9, -999.000,9,-999.0000,9,  -999.00,9,-999.000,   -999.0,9,   -999.0,9,   1600,-999.0000,-999.000,-999.000,9,  3.5770,-999.000
      06MT28_1,   A08,   259,  2,   2084,    317,2,19940501,0000,-11.3333,   7.3333, 5058,   1797.0,   3.5118,  34.9252,2,-999.0000,9,    208.4,2,    26.50,2,    22.41,2, -999.000,9, -999.000,9, -999.000,9, -999.000,9, -999.000,9,-999.0000,9,  -999.00,9,-999.000,   -999.0,9,   -999.0,9,   1800,-999.0000,-999.000,-999.000,9,  3.3706,-999.000
      06MT28_1,   A08,   259,  2,   2083,    316,2,19940501,0000,-11.3333,   7.3333, 5058,   1998.0,   3.2952,  34.9306,2,  34.9293,2,    213.1,2,    29.13,2,    21.92,2, -999.000,9, -999.000,9, -999.000,9, -999.000,9, -999.000,9,-999.0000,9,  -999.00,9,-999.000,   -999.0,9,   -999.0,9,   2000,-999.0000,-999.000,-999.000,9,  3.1385,-999.000
      06MT28_1,   A08,   259,  2,   2082,    315,2,19940501,0000,-11.3333,   7.3333, 5058,   2250.2,   3.0383,  34.9236,2,-999.0000,9,    215.9,2,    32.98,2,    21.89,2, -999.000,9, -999.000,9, -999.000,9, -999.000,9, -999.000,9,-999.0000,9,  -999.00,9,-999.000,   -999.0,9,   -999.0,9,   2251,-999.0000,-999.000,-999.000,9,  2.8619,-999.000
      06MT28_1,   A08,   259,  2,   2081,    314,2,19940501,0000,-11.3333,   7.3333, 5058,   2548.7,   2.8487,  34.9177,2,-999.0000,9,    216.7,2,    36.44,2,    21.77,2, -999.000,9, -999.000,9, -999.000,9, -999.000,9, -999.000,9,-999.0000,9,  -999.00,9,-999.000,   -999.0,9,   -999.0,9,   2549,-999.0000,-999.000,-999.000,9,  2.6469,-999.000
      06MT28_1,   A08,   259,  2,   2080,    313,2,19940501,0000,-11.3333,   7.3333, 5058,   2745.3,   2.7278,  34.9108,2,-999.0000,9,    218.3,2,    38.87,2,    21.85,2, -999.000,9, -999.000,9, -999.000,9, -999.000,9, -999.000,9,-999.0000,9,  -999.00,9,-999.000,   -999.0,9,   -999.0,9,   2745,-999.0000,-999.000,-999.000,9,  2.5089,-999.000
      06MT28_1,   A08,   259,  2,   2078,    312,2,19940501,0000,-11.3333,   7.3333, 5058,   3001.0,   2.6211,  34.9078,2,  34.9060,2,    216.5,2,    41.94,2,    21.92,2, -999.000,9, -999.000,9, -999.000,9, -999.000,9, -999.000,9,-999.0000,9,  -999.00,9,-999.000,   -999.0,9,   -999.0,9,   2999,-999.0000,-999.000,-999.000,9,  2.3785,-999.000
      06MT28_1,   A08,   259,  2,   2128,    311,2,19940501,0000,-11.3333,   7.3333, 5058,   3252.6,   2.5165,  34.9005,2,-999.0000,9,    219.2,2,    44.92,2,    22.18,2, -999.000,9, -999.000,9, -999.000,9, -999.000,9, -999.000,9,-999.0000,9,  -999.00,9,-999.000,   -999.0,9,   -999.0,9,   3250,-999.0000,-999.000,-999.000,9,  2.2502,-999.000
      06MT28_1,   A08,   259,  2,   2121,    310,2,19940501,0000,-11.3333,   7.3333, 5058,   3501.3,   2.4208,  34.8954,2,-999.0000,9,    211.1,2,    49.49,2,    22.62,2, -999.000,9, -999.000,9, -999.000,9, -999.000,9, -999.000,9,-999.0000,9,  -999.00,9,-999.000,   -999.0,9,   -999.0,9,   3498,-999.0000,-999.000,-999.000,9,  2.1303,-999.000
      06MT28_1,   A08,   259,  2,   2119,    309,2,19940501,0000,-11.3333,   7.3333, 5058,   3752.9,   2.3591,  34.8900,2,-999.0000,9,    209.4,2,    51.42,2,    22.69,2, -999.000,9, -999.000,9, -999.000,9, -999.000,9, -999.000,9,-999.0000,9,  -999.00,9,-999.000,   -999.0,9,   -999.0,9,   3749,-999.0000,-999.000,-999.000,9,  2.0427,-999.000
      06MT28_1,   A08,   259,  2,   2118,    308,2,19940501,0000,-11.3333,   7.3333, 5058,   4003.6,   2.3452,  34.8884,2,  34.8858,2,    210.7,2,    51.55,2,    22.67,2, -999.000,9, -999.000,9, -999.000,9, -999.000,9, -999.000,9,-999.0000,9,  -999.00,9,-999.000,   -999.0,9,   -999.0,9,   3999,-999.0000,-999.000,-999.000,9,  2.0010,-999.000
      06MT28_1,   A08,   259,  2,   2117,    307,2,19940501,0000,-11.3333,   7.3333, 5058,   4253.7,   2.3550,  34.8868,2,-999.0000,9,    211.7,2,    51.31,2,    22.65,2, -999.000,9, -999.000,9, -999.000,9, -999.000,9, -999.000,9,-999.0000,9,  -999.00,9,-999.000,   -999.0,9,   -999.0,9,   4249,-999.0000,-999.000,-999.000,9,  1.9816,-999.000
      06MT28_1,   A08,   259,  2,   2116,    306,2,19940501,0000,-11.3333,   7.3333, 5058,   4503.8,   2.3703,  34.8846,2,-999.0000,9,    213.3,2,    50.32,2,    22.34,2, -999.000,9, -999.000,9, -999.000,9, -999.000,9, -999.000,9,-999.0000,9,  -999.00,9,-999.000,   -999.0,9,   -999.0,9,   4498,-999.0000,-999.000,-999.000,9,  1.9667,-999.000
      06MT28_1,   A08,   259,  2,   2115,    305,2,19940501,0000,-11.3333,   7.3333, 5058,   4746.7,   2.3900,  34.8833,2,-999.0000,9,    215.3,2,    50.08,2,    22.13,2, -999.000,9, -999.000,9, -999.000,9, -999.000,9, -999.000,9,-999.0000,9,  -999.00,9,-999.000,   -999.0,9,   -999.0,9,   4741,-999.0000,-999.000,-999.000,9,  1.9561,-999.000
      06MT28_1,   A08,   259,  2,   2114,    304,2,19940501,0000,-11.3333,   7.3333, 5058,   4998.8,   2.4140,  34.8818,2,-999.0000,9,    214.9,2,    50.22,2,    22.25,2, -999.000,9, -999.000,9, -999.000,9, -999.000,9, -999.000,9,-999.0000,9,  -999.00,9,-999.000,   -999.0,9,   -999.0,9,   4993,-999.0000,-999.000,-999.000,9,  1.9477,-999.000
      06MT28_1,   A08,   259,  2,   2113,    303,2,19940501,0000,-11.3333,   7.3333, 5058,   5065.6,   2.4201,  34.8811,2,-999.0000,9,    214.3,2,    50.58,2,    22.29,2, -999.000,9, -999.000,9, -999.000,9, -999.000,9, -999.000,9,-999.0000,9,  -999.00,9,-999.000,   -999.0,9,   -999.0,9,   5060,-999.0000,-999.000,-999.000,9,  1.9451,-999.000
      06MT28_1,   A08,   259,  2,   2154,    302,2,19940501,0000,-11.3333,   7.3333, 5058,   5100.4,   2.4241,  34.8817,2,  34.8814,2,    214.1,2,    50.57,2,    22.20,2, -999.000,9, -999.000,9, -999.000,9, -999.000,9, -999.000,9,-999.0000,9,  -999.00,9,-999.000,   -999.0,9,   -999.0,9,   5094,-999.0000,-999.000,-999.000,9,  1.9445,-999.000
      06MT28_1,   A08,   259,  2,   2156,    301,2,19940501,0000,-11.3333,   7.3333, 5058,   5100.4,   2.4241,  34.8817,2,  34.8816,2,    214.4,2,    50.48,2,    22.29,2, -999.000,9, -999.000,9, -999.000,9, -999.000,9, -999.000,9,-999.0000,9,  -999.00,9,-999.000,   -999.0,9,   -999.0,9,   5094,-999.0000,-999.000,-999.000,9,  1.9445,-999.000
      06MT28_1,   A08,   260,  1,   2153,    218,2,19940501,0637,-11.3330,   8.0002, 4860,     11.6,  26.7866,  35.6361,2,  35.6407,2,    197.8,2,  -999.00,9,  -999.00,9, -999.000,9, -999.000,9, -999.000,9, -999.000,9,    0.875,2,   1.6750,2,    -1.82,2,   6.576,   2004.6,2,    437.0,6,     10,  0.0060,   0.240,   0.021,2, 26.7840,   0.024
      06MT28_1,   A08,   260,  1,   2151,    217,2,19940501,0637,-11.3330,   8.0002, 4860,     31.0,  23.5570,  36.3566,2,-999.0000,9,    217.0,2,     0.86,2,     0.77,2,    1.666,2,    0.984,2,    0.131,2,    1.256,2,    0.717,2,-999.0000,9,  -999.00,9,-999.000,   2061.9,2,    494.0,2,     30,-999.0000,-999.000,-999.000,9, 23.5505,   0.022
      06MT28_1,   A08,   260,  1,   2150,    216,2,19940501,0637,-11.3330,   8.0002, 4860,     50.5,  16.4210,  35.6496,2,-999.0000,9,     70.0,2,     5.94,2,    21.18,2,    1.212,2,    0.684,2,    0.020,2,    0.233,2,    0.613,2,   1.7310,2,     1.30,2,   7.134,   2194.0,2,   1263.4,2,     49,  0.0060,   0.240,   0.023,2, 16.4129,   0.019
      06MT28_1,   A08,   260,  1,   2149,    215,2,19940501,0637,-11.3330,   8.0002, 4860,     71.3,  15.2561,  35.5385,2,-999.0000,9,     43.7,2,     7.48,2,    25.20,2,    1.045,2,    0.592,2,    0.035,2,    0.117,2, -999.000,9,   1.7400,2,     2.27,2,   7.204,   2213.0,2,   1509.7,2,     70,  0.0060,   0.240,   0.023,2, 15.2452,-999.000
      06MT28_1,   A08,   260,  1,   2148,    214,2,19940501,0637,-11.3330,   8.0002, 4860,    100.9,  14.4814,  35.4584,2,-999.0000,9,     50.7,2,     8.14,2,    25.58,2,    0.925,2,    0.527,2,    0.025,2,    0.263,2, -999.000,9,   1.0490,4,     1.21,2,   4.368,   2210.4,2,   1519.1,2,    100,  0.0040,   0.240,   0.014,4, 14.4665,-999.000
      06MT28_1,   A08,   260,  1,   2147,    213,2,19940501,0637,-11.3330,   8.0002, 4860,    151.1,  13.3546,  35.3249,2,-999.0000,9,     51.3,2,     9.19,2,    26.82,2,    0.753,2,    0.431,2,    0.028,2,    0.119,2, -999.000,9,   1.7390,2,     1.58,2,   7.257,   2214.9,2,   1624.5,2,    150,  0.0070,   0.250,   0.024,2, 13.3334,-999.000
      06MT28_1,   A08,   260,  1,   2145,    212,2,19940501,0637,-11.3330,   8.0002, 4860,    200.5,  12.4543,  35.2132,2,-999.0000,9,     52.2,2,    10.15,2,    28.25,2,    0.599,2,    0.349,2,    0.015,2,    0.123,2,    0.384,2,   1.7420,6,     1.48,6,   7.290,   2218.2,2,   1162.8,2,    199,  0.0070,   0.250,   0.024,6, 12.4274,   0.016
      06MT28_1,   A08,   260,  1,   2195,    211,2,19940501,0637,-11.3330,   8.0002, 4860,    300.9,  10.7807,  35.0251,2,  35.0271,2,     28.4,2,    13.49,2,    33.49,2,    0.257,2,    0.157,2,    0.348,4,    0.075,2, -999.000,9,-999.0000,9,  -999.00,9,-999.000,   2243.9,2,   1488.7,2,    299,-999.0000,-999.000,-999.000,9, 10.7439,-999.000
      06MT28_1,   A08,   260,  1,   2194,    210,2,19940501,0637,-11.3330,   8.0002, 4860,    399.9,   9.2980,  34.8557,2,-999.0000,9,     29.7,2,    16.07,2,    36.15,2,    0.092,2,    0.060,2,    0.005,2,    0.067,2,    0.089,2,   1.7630,6,     1.13,6,   7.494,   2251.4,2,   1643.8,2,    398,  0.0070,   0.250,   0.025,6,  9.2532,   0.012
      06MT28_1,   A08,   260,  1,   2192,    209,2,19940501,0637,-11.3330,   8.0002, 4860,    501.7,   7.7200,  34.7047,2,-999.0000,9,     30.0,2,    20.26,2,    39.67,2,    0.026,2,    0.018,2,   -0.005,4,    0.046,2, -999.000,9,   1.7690,2,     0.58,2,   7.571,   2263.3,2,   1865.3,2,    500,  0.0070,   0.250,   0.025,2,  7.6695,-999.000
      06MT28_1,   A08,   260,  1,   2189,    207,2,19940501,0637,-11.3330,   8.0002, 4860,    600.7,   6.4504,  34.5979,2,-999.0000,9,   -999.0,9,  -999.00,9,  -999.00,9, -999.000,9, -999.000,9, -999.000,9, -999.000,9, -999.000,9,-999.0000,9,  -999.00,9,-999.000,   -999.0,9,   -999.0,9,    599,-999.0000,-999.000,-999.000,9,  6.3954,-999.000
      06MT28_1,   A08,   260,  1,   2188,    208,2,19940501,0637,-11.3330,   8.0002, 4860,    600.8,   6.4635,  34.5991,2,-999.0000,9,     48.3,2,    23.98,2,    40.46,2,    0.010,2,    0.007,2,    0.008,2,    0.039,2,    0.021,2,   1.7760,6,     1.21,6,   7.654,   2259.9,2,   1832.6,6,    599,  0.0070,   0.250,   0.025,6,  6.4084,   0.033