BOTTLE,20220817CCHSIOAMB
EXPOCODE,SECT_ID,STNNBR,CASTNO,SAMPNO,BTLNBR,BTLNBR_FLAG_W,DATE,TIME,LATITUDE,LONGITUDE,DEPTH,CTDPRS,CTDTMP,CTDSAL,CTDSAL_FLAG_W,SALNTY,SALNTY_FLAG_W,OXYGEN,OXYGEN_FLAG_W,SILCAT,SILCAT_FLAG_W,NO2+NO3,NO2+NO3_FLAG_W,CFC-11,CFC-11_FLAG_W,CFC-12,CFC-12_FLAG_W,CFC113,CFC113_FLAG_W,CCL4,CCL4_FLAG_W,TRITUM,TRITUM_FLAG_W,HELIUM,HELIUM_FLAG_W,DELHE3,DELHE3_FLAG_W,NEON,TCARBN,TCARBN_FLAG_W,PCO2,PCO2_FLAG_W,CTDRAW,HELIER,DELHER,NEONER,NEON_FLAG_W,THETA,TRITER
,,,,,,,,,,,,DBAR,ITS-90,PSS-78,,PSS-78,,UMOL/KG,,UMOL/KG,,UMOL/KG,,PMOL/KG,,PMOL/KG,,PMOL/KG,,PMOL/KG,,TU,,NMOL/KG,,PERCNT,,NMOL/KG,UMOL/KG,,UATM,,,NMOL/KG,PERCNT,NMOL/KG,,ITS-90,TU
      06MT28_1,   A08,   287,  2,   3601,    318,2,19940506,1754,-11.3337,  13.0832, 1031,     11.5,  27.7035,  35.7232,2,-999.0000,9,   -999.0,9,  -999.00,9,  -999.00,9,    1.505,2,    0.933,2,    0.101,2,    1.411,2, -999.000,9,-999.0000,9,  -999.00,9,-999.000,   -999.0,9,   -999.0,9,     10,-999.0000,-999.000,-999.000,9, 27.7008,-999.000
      06MT28_1,   A08,   287,  2,   3598,    317,2,19940506,1754,-11.3337,  13.0832, 1031,     20.5,  23.8828,  35.8371,2,-999.0000,9,   -999.0,9,  -999.00,9,  -999.00,9,    1.472,2,    0.875,2,    0.072,2,    0.382,2, -999.000,9,-999.0000,9,  -999.00,9,-999.000,   -999.0,9,   -999.0,9,     19,-999.0000,-999.000,-999.000,9, 23.8785,-999.000
      06MT28_1,   A08,   287,  2,   3596,    316,2,19940506,1754,-11.3337,  13.0832, 1031,     30.4,  19.8154,  35.7324,2,-999.0000,9,   -999.0,9,  -999.00,9,  -999.00,9,    1.339,2,    0.772,2,    0.049,2,    0.132,2, -999.000,9,-999.0000,9,  -999.00,9,-999.000,   -999.0,9,   -999.0,9,     30,-999.0000,-999.000,-999.000,9, 19.8098,-999.000
      06MT28_1,   A08,   287,  2,   3736,    315,2,19940506,1754,-11.3337,  13.0832, 1031,     40.1,  17.5382,  35.6758,2,-999.0000,9,   -999.0,9,  -999.00,9,  -999.00,9,    1.261,2,    0.721,2,    0.051,2,    0.161,2, -999.000,9,-999.0000,9,  -999.00,9,-999.000,   -999.0,9,   -999.0,9,     40,-999.0000,-999.000,-999.000,9, 17.5314,-999.000
      06MT28_1,   A08,   287,  2,   3735,    314,2,19940506,1754,-11.3337,  13.0832, 1031,     49.4,  16.9753,  35.6679,2,-999.0000,9,   -999.0,9,  -999.00,9,  -999.00,9,    1.238,2,    0.699,2,    0.052,2,    0.172,2, -999.000,9,-999.0000,9,  -999.00,9,-999.000,   -999.0,9,   -999.0,9,     50,-999.0000,-999.000,-999.000,9, 16.9671,-999.000
      06MT28_1,   A08,   287,  2,   3734,    313,2,19940506,1754,-11.3337,  13.0832, 1031,     69.4,  15.8942,  35.6079,2,-999.0000,9,   -999.0,9,  -999.00,9,  -999.00,9,    1.208,2,    0.677,2,    0.042,2,    0.185,2, -999.000,9,-999.0000,9,  -999.00,9,-999.000,   -999.0,9,   -999.0,9,     70,-999.0000,-999.000,-999.000,9, 15.8833,-999.000
      06MT28_1,   A08,   287,  2,   3733,    312,2,19940506,1754,-11.3337,  13.0832, 1031,     98.0,  15.1693,  35.5370,2,-999.0000,9,   -999.0,9,  -999.00,9,  -999.00,9,    1.122,2,    0.632,2,    0.035,2,    0.175,2, -999.000,9,-999.0000,9,  -999.00,9,-999.000,   -999.0,9,   -999.0,9,     99,-999.0000,-999.000,-999.000,9, 15.1543,-999.000
      06MT28_1,   A08,   287,  2,   3732,    311,2,19940506,1754,-11.3337,  13.0832, 1031,    148.8,  14.5348,  35.4656,2,-999.0000,9,   -999.0,9,  -999.00,9,  -999.00,9, -999.000,9, -999.000,9, -999.000,9, -999.000,9, -999.000,9,-999.0000,9,  -999.00,9,-999.000,   -999.0,9,   -999.0,9,    150,-999.0000,-999.000,-999.000,9, 14.5127,-999.000
      06MT28_1,   A08,   287,  2,   3731,    310,2,19940506,1754,-11.3337,  13.0832, 1031,    198.9,  13.6776,  35.3608,2,-999.0000,9,   -999.0,9,  -999.00,9,  -999.00,9, -999.000,9, -999.000,9, -999.000,9, -999.000,9, -999.000,9,-999.0000,9,  -999.00,9,-999.000,   -999.0,9,   -999.0,9,    200,-999.0000,-999.000,-999.000,9, 13.6492,-999.000
      06MT28_1,   A08,   287,  2,   3740,    309,2,19940506,1754,-11.3337,  13.0832, 1031,    297.9,  11.7489,  35.1312,2,-999.0000,9,   -999.0,9,  -999.00,9,  -999.00,9, -999.000,9, -999.000,9, -999.000,9, -999.000,9, -999.000,9,-999.0000,9,  -999.00,9,-999.000,   -999.0,9,   -999.0,9,    300,-999.0000,-999.000,-999.000,9, 11.7104,-999.000
      06MT28_1,   A08,   287,  2,   3741,    308,2,19940506,1754,-11.3337,  13.0832, 1031,    397.5,   9.6524,  34.8942,2,-999.0000,9,   -999.0,9,  -999.00,9,  -999.00,9, -999.000,9, -999.000,9, -999.000,9, -999.000,9, -999.000,9,-999.0000,9,  -999.00,9,-999.000,   -999.0,9,   -999.0,9,    400,-999.0000,-999.000,-999.000,9,  9.6069,-999.000
      06MT28_1,   A08,   287,  2,   3739,    307,2,19940506,1754,-11.3337,  13.0832, 1031,    497.2,   7.8460,  34.7206,2,-999.0000,9,   -999.0,9,  -999.00,9,  -999.00,9, -999.000,9, -999.000,9, -999.000,9, -999.000,9, -999.000,9,-999.0000,9,  -999.00,9,-999.000,   -999.0,9,   -999.0,9,    500,-999.0000,-999.000,-999.000,9,  7.7955,-999.000
      06MT28_1,   A08,   287,  2,   3738,    306,2,19940506,1754,-11.3337,  13.0832, 1031,    596.8,   6.3397,  34.5883,2,-999.0000,9,   -999.0,9,  -999.00,9,  -999.00,9, -999.000,9, -999.000,9, -999.000,9, -999.000,9, -999.000,9,-999.0000,9,  -999.00,9,-999.000,   -999.0,9,   -999.0,9,    600,-999.0000,-999.000,-999.000,9,  6.2855,-999.000
      06MT28_1,   A08,   287,  2,   3737,    305,2,19940506,1754,-11.3337,  13.0832, 1031,    696.5,   5.5017,  34.5361,2,-999.0000,9,   -999.0,9,  -999.00,9,  -999.00,9, -999.000,9, -999.000,9, -999.000,9, -999.000,9, -999.000,9,-999.0000,9,  -999.00,9,-999.000,   -999.0,9,   -999.0,9,    700,-999.0000,-999.000,-999.000,9,  5.4425,-999.000
      06MT28_1,   A08,   287,  2,   3744,    304,2,19940506,1754,-11.3337,  13.0832, 1031,    846.1,   4.6125,  34.5181,2,-999.0000,9,   -999.0,9,  -999.00,9,  -999.00,9, -999.000,9, -999.000,9, -999.000,9, -999.000,9, -999.000,9,-999.0000,9,  -999.00,9,-999.000,   -999.0,9,   -999.0,9,    850,-999.0000,-999.000,-999.000,9,  4.5455,-999.000
      06MT28_1,   A08,   287,  2,   3742,    303,2,19940506,1754,-11.3337,  13.0832, 1031,    982.2,   4.3767,  34.5628,2,-999.0000,9,   -999.0,9,  -999.00,9,  -999.00,9, -999.000,9, -999.000,9, -999.000,9, -999.000,9, -999.000,9,-999.0000,9,  -999.00,9,-999.000,   -999.0,9,   -999.0,9,    986,-999.0000,-999.000,-999.000,9,  4.2996,-999.000
      06MT28_1,   A08,   287,  2,   3745,    301,2,19940506,1754,-11.3337,  13.0832, 1031,   1011.8,   4.2750,  34.5849,2,-999.0000,9,   -999.0,9,  -999.00,9,  -999.00,9, -999.000,9, -999.000,9, -999.000,9, -999.000,9, -999.000,9,-999.0000,9,  -999.00,9,-999.000,   -999.0,9,   -999.0,9,   1016,-999.0000,-999.000,-999.000,9,  4.1961,-999.000
      06MT28_1,   A08,   287,  2,   3747,    302,2,19940506,1754,-11.3337,  13.0832, 1031,   1011.9,   4.2755,  34.5867,2,-999.0000,9,   -999.0,9,  -999.00,9,  -999.00,9, -999.000,9, -999.000,9, -999.000,9, -999.000,9, -999.000,9,-999.0000,9,  -999.00,9,-999.000,   -999.0,9,   -999.0,9,   1016,-999.0000,-999.000,-999.000,9,  4.1966,-999.000
      06MT28_1,   A08,   288,  2,   3746,    319,2,19940506,2150,-11.3333,  13.2500,  880,     11.0,  27.2130,  35.7701,2,-999.0000,9,   -999.0,9,  -999.00,9,  -999.00,9,    1.326,2,    0.746,2,    0.100,2,    0.129,2,    0.828,2,-999.0000,9,  -999.00,9,-999.000,   2030.7,2,    479.8,6,     10,-999.0000,-999.000,-999.000,9, 27.2105,   0.023
      06MT28_1,   A08,   288,  2,   3755,    318,2,19940506,2150,-11.3333,  13.2500,  880,     15.3,  23.2571,  35.8100,2,-999.0000,9,   -999.0,9,  -999.00,9,  -999.00,9,    1.335,2,    0.754,2,    0.058,2,    0.137,2, -999.000,9,-999.0000,9,  -999.00,9,-999.000,   2033.0,2,    495.6,2,     15,-999.0000,-999.000,-999.000,9, 23.2540,-999.000
      06MT28_1,   A08,   288,  2,   3754,    317,2,19940506,2150,-11.3333,  13.2500,  880,     20.0,  20.7808,  35.7640,2,-999.0000,9,   -999.0,9,  -999.00,9,  -999.00,9,    1.421,2,    0.816,2,    0.101,2,    0.194,2, -999.000,9,-999.0000,9,  -999.00,9,-999.000,   2034.8,2,    490.9,2,     20,-999.0000,-999.000,-999.000,9, 20.7770,-999.000
      06MT28_1,   A08,   288,  2,   3750,    316,2,19940506,2150,-11.3333,  13.2500,  880,     25.2,  19.3016,  35.7083,2,-999.0000,9,   -999.0,9,  -999.00,9,  -999.00,9,    1.485,2,    0.882,2,    0.095,2,    0.937,4, -999.000,9,-999.0000,9,  -999.00,9,-999.000,   2105.8,2,    722.5,2,     25,-999.0000,-999.000,-999.000,9, 19.2970,-999.000
      06MT28_1,   A08,   288,  2,   3751,    315,2,19940506,2150,-11.3333,  13.2500,  880,     29.0,  17.8301,  35.7275,2,-999.0000,9,   -999.0,9,  -999.00,9,  -999.00,9,    1.328,2,    0.735,2,    0.070,2,    0.177,2,    0.745,2,   1.7270,2,     0.40,2,   7.083,   2182.4,2,   1170.0,2,     30,  0.0060,   0.240,   0.023,2, 17.8251,   0.020
      06MT28_1,   A08,   288,  2,   3752,    314,2,19940506,2150,-11.3333,  13.2500,  880,     49.0,  16.4293,  35.6603,2,-999.0000,9,   -999.0,9,  -999.00,9,  -999.00,9,    1.263,2,    0.710,2,    0.034,2,    0.168,2,    0.712,2,   1.7200,2,     0.93,2,   7.131,   2201.5,2,   1330.8,2,     50,  0.0060,   0.250,   0.024,2, 16.4214,   0.019
      06MT28_1,   A08,   288,  2,   3753,    313,2,19940506,2150,-11.3333,  13.2500,  880,     68.8,  15.9826,  35.6183,2,-999.0000,9,   -999.0,9,  -999.00,9,  -999.00,9,    1.192,2,    0.665,2,    0.041,2,    0.142,2, -999.000,9,-999.0000,9,  -999.00,9,-999.000,   2208.3,2,   1415.7,2,     70,-999.0000,-999.000,-999.000,9, 15.9717,-999.000
      06MT28_1,   A08,   288,  2,   3749,    312,2,19940506,2150,-11.3333,  13.2500,  880,     98.6,  15.3380,  35.5576,2,-999.0000,9,   -999.0,9,  -999.00,9,  -999.00,9,    1.091,2,    0.612,2,    0.013,2,    0.120,2, -999.000,9,   1.7420,2,     1.33,2,   7.244,   2207.8,2,   1479.1,2,    100,  0.0070,   0.250,   0.024,2, 15.3228,-999.000
      06MT28_1,   A08,   288,  2,   3748,    311,2,19940506,2150,-11.3333,  13.2500,  880,    148.8,  14.4810,  35.4614,2,-999.0000,9,   -999.0,9,  -999.00,9,  -999.00,9,    0.927,2,    0.526,2,    0.023,2,    0.108,2,    0.602,2,   1.7290,2,     1.35,2,   7.226,   2209.3,2,   1581.3,2,    150,  0.0060,   0.240,   0.023,2, 14.4589,   0.017
      06MT28_1,   A08,   288,  2,   3758,    310,2,19940506,2150,-11.3333,  13.2500,  880,    198.5,  13.6915,  35.3652,2,-999.0000,9,   -999.0,9,  -999.00,9,  -999.00,9,    0.775,2,    0.438,2,    0.031,2,    0.099,2, -999.000,9,-999.0000,9,  -999.00,9,-999.000,   2215.5,2,   1585.3,2,    200,-999.0000,-999.000,-999.000,9, 13.6631,-999.000
      06MT28_1,   A08,   288,  2,   3757,    309,2,19940506,2150,-11.3333,  13.2500,  880,    298.3,  11.6449,  35.1205,2,  35.1103,3,   -999.0,9,  -999.00,9,  -999.00,9,    0.387,2,    0.222,2,    0.017,2,    0.081,2, -999.000,9,   1.8030,4,     1.54,2,   7.785,   2237.5,2,   1992.2,2,    301,  0.0070,   0.250,   0.026,4, 11.6066,-999.000
      06MT28_1,   A08,   288,  2,   3756,    308,2,19940506,2150,-11.3333,  13.2500,  880,    397.1,   9.2040,  34.8490,2,-999.0000,9,   -999.0,9,  -999.00,9,  -999.00,9, -999.000,9, -999.000,9, -999.000,9, -999.000,9, -999.000,9,-999.0000,9,  -999.00,9,-999.000,   2260.6,2,   2562.9,2,    400,-999.0000,-999.000,-999.000,9,  9.1599,-999.000
      06MT28_1,   A08,   288,  2,   3759,    307,2,19940506,2150,-11.3333,  13.2500,  880,    496.6,   7.5367,  34.6995,2,-999.0000,9,   -999.0,9,  -999.00,9,  -999.00,9,    0.042,2,    0.024,2,    0.015,2,    0.050,2, -999.000,9,-999.0000,9,  -999.00,9,-999.000,   2261.3,2,   2617.9,2,    500,-999.0000,-999.000,-999.000,9,  7.4874,-999.000
      06MT28_1,   A08,   288,  2,   3763,    306,2,19940506,2150,-11.3333,  13.2500,  880,    597.2,   6.2723,  34.5863,2,  34.5825,2,   -999.0,9,  -999.00,9,  -999.00,9,    0.015,2,    0.007,2,    0.010,2,    0.037,2, -999.000,9,   1.7640,2,     0.58,2,   7.628,   2257.9,2,   1780.0,2,    601,  0.0070,   0.250,   0.025,2,  6.2184,-999.000
      06MT28_1,   A08,   288,  2,   3762,    305,2,19940506,2150,-11.3333,  13.2500,  880,    696.5,   5.4565,  34.5371,2,-999.0000,9,   -999.0,9,  -999.00,9,  -999.00,9,    0.008,2,    0.002,2,    0.007,2,    0.028,2,    0.012,2,   1.7720,2,     1.49,2,   7.664,   2250.3,2,   1664.7,2,    700,  0.0070,   0.240,   0.024,2,  5.3976,   0.003
      06MT28_1,   A08,   288,  2,   3761,    304,2,19940506,2150,-11.3333,  13.2500,  880,    764.4,   4.9055,  34.5158,2,-999.0000,9,   -999.0,9,  -999.00,9,  -999.00,9,    0.005,2,    0.001,2,    0.009,4,    0.020,2, -999.000,9,-999.0000,9,  -999.00,9,-999.000,   2244.2,2,   1545.2,2,    768,-999.0000,-999.000,-999.000,9,  4.8437,-999.000
      06MT28_1,   A08,   288,  2,   3760,    303,2,19940506,2150,-11.3333,  13.2500,  880,    834.7,   4.6666,  34.5225,2,-999.0000,9,   -999.0,9,  -999.00,9,  -999.00,9,    0.003,2,    0.000,2,   -0.011,4,    0.019,2, -999.000,9,   1.7900,2,     1.61,2,   7.783,   2239.1,2,   1462.8,2,    839,  0.0070,   0.250,   0.026,2,  4.6002,-999.000
      06MT28_1,   A08,   288,  2,   3766,    302,2,19940506,2150,-11.3333,  13.2500,  880,    864.7,   4.5494,  34.5266,2,  34.5241,2,   -999.0,9,  -999.00,9,  -999.00,9,    0.017,4,    0.001,2,    0.009,4,    0.015,2, -999.000,9,-999.0000,9,  -999.00,9,-999.000,   2237.9,2,   1423.8,2,    869,-999.0000,-999.000,-999.000,9,  4.4812,-999.000
      06MT28_1,   A08,   288,  2,   3765,    301,2,19940506,2150,-11.3333,  13.2500,  880,    864.8,   4.5546,  34.5259,2,  34.5264,2,   -999.0,9,  -999.00,9,  -999.00,9,    0.005,2,    0.001,2,    0.004,2,    0.017,2,    0.008,2,   1.7900,6,     1.76,6,   7.767,   2237.8,2,   1422.9,6,    869,  0.0070,   0.250,   0.026,6,  4.4864,   0.004
      06MT28_1,   A08,   289,  2,   3764,    313,2,19940507,0240,-11.3330,  13.4167,  600,     13.6,  22.2777,  35.7591,2,  35.7759,4,   -999.0,9,  -999.00,9,  -999.00,9,    1.425,2,    0.812,2,    0.099,2,    0.205,2, -999.000,9,-999.0000,9,  -999.00,9,-999.000,   -999.0,9,   -999.0,9,     13,-999.0000,-999.000,-999.000,9, 22.2750,-999.000
      06MT28_1,   A08,   289,  2,   3768,    312,2,19940507,0240,-11.3330,  13.4167,  600,     39.6,  17.6698,  35.7403,2,-999.0000,9,   -999.0,9,  -999.00,9,  -999.00,9,    1.349,2,    0.746,2,    0.067,2,    0.184,2, -999.000,9,-999.0000,9,  -999.00,9,-999.000,   -999.0,9,   -999.0,9,     40,-999.0000,-999.000,-999.000,9, 17.6631,-999.000
      06MT28_1,   A08,   289,  2,   3767,    311,2,19940507,0240,-11.3330,  13.4167,  600,     59.4,  16.4536,  35.6647,2,-999.0000,9,   -999.0,9,  -999.00,9,  -999.00,9,    1.268,2,    0.698,2,    0.054,2,    0.169,2, -999.000,9,-999.0000,9,  -999.00,9,-999.000,   -999.0,9,   -999.0,9,     60,-999.0000,-999.000,-999.000,9, 16.4440,-999.000
      06MT28_1,   A08,   289,  2,   3772,    310,2,19940507,0240,-11.3330,  13.4167,  600,     79.7,  16.1627,  35.6568,2,-999.0000,9,   -999.0,9,  -999.00,9,  -999.00,9,    1.260,2,    0.693,2,    0.041,2,    0.140,2, -999.000,9,-999.0000,9,  -999.00,9,-999.000,   -999.0,9,   -999.0,9,     80,-999.0000,-999.000,-999.000,9, 16.1500,-999.000
      06MT28_1,   A08,   289,  2,   3771,    309,2,19940507,0240,-11.3330,  13.4167,  600,    119.2,  15.0916,  35.5282,2,-999.0000,9,   -999.0,9,  -999.00,9,  -999.00,9,    1.000,2,    0.560,2,    0.021,2,    0.106,2, -999.000,9,-999.0000,9,  -999.00,9,-999.000,   -999.0,9,   -999.0,9,    120,-999.0000,-999.000,-999.000,9, 15.0734,-999.000
      06MT28_1,   A08,   289,  2,   3770,    308,2,19940507,0240,-11.3330,  13.4167,  600,    177.8,  13.8562,  35.3834,2,-999.0000,9,   -999.0,9,  -999.00,9,  -999.00,9,    0.788,2,    0.442,2,    0.019,2,    0.095,2, -999.000,9,-999.0000,9,  -999.00,9,-999.000,   -999.0,9,   -999.0,9,    179,-999.0000,-999.000,-999.000,9, 13.8306,-999.000
      06MT28_1,   A08,   289,  2,   3769,    307,2,19940507,0240,-11.3330,  13.4167,  600,    248.0,  12.3648,  35.2059,2,  35.2002,2,   -999.0,9,  -999.00,9,  -999.00,9,    0.552,2,    0.315,2,    0.015,2,    0.101,2, -999.000,9,-999.0000,9,  -999.00,9,-999.000,   -999.0,9,   -999.0,9,    250,-999.0000,-999.000,-999.000,9, 12.3317,-999.000
      06MT28_1,   A08,   289,  2,   3774,    306,2,19940507,0240,-11.3330,  13.4167,  600,    347.8,   9.5151,  34.8761,2,-999.0000,9,   -999.0,9,  -999.00,9,  -999.00,9, -999.000,9, -999.000,9, -999.000,9, -999.000,9, -999.000,9,-999.0000,9,  -999.00,9,-999.000,   -999.0,9,   -999.0,9,    350,-999.0000,-999.000,-999.000,9,  9.4757,-999.000
      06MT28_1,   A08,   289,  2,   3775,    305,2,19940507,0240,-11.3330,  13.4167,  600,    447.6,   8.2085,  34.7611,2,-999.0000,9,   -999.0,9,  -999.00,9,  -999.00,9, -999.000,9, -999.000,9, -999.000,9, -999.000,9, -999.000,9,-999.0000,9,  -999.00,9,-999.000,   -999.0,9,   -999.0,9,    450,-999.0000,-999.000,-999.000,9,  8.1619,-999.000
      06MT28_1,   A08,   289,  2,   3773,    304,2,19940507,0240,-11.3330,  13.4167,  600,    477.2,   7.9069,  34.7302,2,-999.0000,9,   -999.0,9,  -999.00,9,  -999.00,9, -999.000,9, -999.000,9, -999.000,9, -999.000,9, -999.000,9,-999.0000,9,  -999.00,9,-999.000,   -999.0,9,   -999.0,9,    480,-999.0000,-999.000,-999.000,9,  7.8583,-999.000
      06MT28_1,   A08,   289,  2,   3783,    303,2,19940507,0240,-11.3330,  13.4167,  600,    547.8,   7.1724,  34.6605,2,-999.0000,9,   -999.0,9,  -999.00,9,  -999.00,9, -999.000,9, -999.000,9, -999.000,9, -999.000,9, -999.000,9,-999.0000,9,  -999.00,9,-999.000,   -999.0,9,   -999.0,9,    550,-999.0000,-999.000,-999.000,9,  7.1194,-999.000
      06MT28_1,   A08,   289,  2,   3782,    301,2,19940507,0240,-11.3330,  13.4167,  600,    575.9,   7.1171,  34.6543,2,  34.6561,2,   -999.0,9,  -999.00,9,  -999.00,9, -999.000,9, -999.000,9, -999.000,9, -999.000,9, -999.000,9,-999.0000,9,  -999.00,9,-999.000,   -999.0,9,   -999.0,9,    579,-999.0000,-999.000,-999.000,9,  7.0615,-999.000
      06MT28_1,   A08,   289,  2,   3781,    302,2,19940507,0240,-11.3330,  13.4167,  600,    576.0,   7.1154,  34.6549,2,  34.6598,2,   -999.0,9,  -999.00,9,  -999.00,9, -999.000,9, -999.000,9, -999.000,9, -999.000,9, -999.000,9,-999.0000,9,  -999.00,9,-999.000,   -999.0,9,   -999.0,9,    579,-999.0000,-999.000,-999.000,9,  7.0598,-999.000