BOTTLE,20220817CCHSIOAMB
EXPOCODE,SECT_ID,STNNBR,CASTNO,SAMPNO,BTLNBR,BTLNBR_FLAG_W,DATE,TIME,LATITUDE,LONGITUDE,DEPTH,CTDPRS,CTDTMP,CTDSAL,CTDSAL_FLAG_W,SALNTY,SALNTY_FLAG_W,OXYGEN,OXYGEN_FLAG_W,SILCAT,SILCAT_FLAG_W,NO2+NO3,NO2+NO3_FLAG_W,CFC-11,CFC-11_FLAG_W,CFC-12,CFC-12_FLAG_W,CFC113,CFC113_FLAG_W,CCL4,CCL4_FLAG_W,TRITUM,TRITUM_FLAG_W,HELIUM,HELIUM_FLAG_W,DELHE3,DELHE3_FLAG_W,NEON,TCARBN,TCARBN_FLAG_W,PCO2,PCO2_FLAG_W,CTDRAW,HELIER,DELHER,NEONER,NEON_FLAG_W,THETA,TRITER
,,,,,,,,,,,,DBAR,ITS-90,PSS-78,,PSS-78,,UMOL/KG,,UMOL/KG,,UMOL/KG,,PMOL/KG,,PMOL/KG,,PMOL/KG,,PMOL/KG,,TU,,NMOL/KG,,PERCNT,,NMOL/KG,UMOL/KG,,UATM,,,NMOL/KG,PERCNT,NMOL/KG,,ITS-90,TU
      06MT28_1,   A08,   211,  2,   2317,    323,2,19940415,1951,-11.3333, -16.5830, 4148,     16.3,  26.9478,  36.7285,2,-999.0000,9,    192.5,2,     0.96,3,     0.00,3, -999.000,9, -999.000,9, -999.000,9, -999.000,9, -999.000,9,-999.0000,9,  -999.00,9,-999.000,   -999.0,9,   -999.0,9,     12,-999.0000,-999.000,-999.000,9, 26.9440,-999.000
      06MT28_1,   A08,   211,  2,   2318,    324,2,19940415,1951,-11.3333, -16.5830, 4148,     16.3,  26.9478,  36.7285,2,  36.7309,2,   -999.0,9,  -999.00,9,  -999.00,9, -999.000,9, -999.000,9, -999.000,9, -999.000,9, -999.000,9,-999.0000,9,  -999.00,9,-999.000,   -999.0,9,   -999.0,9,     12,-999.0000,-999.000,-999.000,9, 26.9440,-999.000
      06MT28_1,   A08,   211,  2,   2308,    322,2,19940415,1951,-11.3333, -16.5830, 4148,    548.1,   6.4968,  34.5593,2,-999.0000,9,    121.4,2,    20.44,2,    32.38,2, -999.000,9, -999.000,9, -999.000,9, -999.000,9, -999.000,9,-999.0000,9,  -999.00,9,-999.000,   -999.0,9,   -999.0,9,    550,-999.0000,-999.000,-999.000,9,  6.4466,-999.000
      06MT28_1,   A08,   211,  2,   2305,    321,2,19940415,1951,-11.3333, -16.5830, 4148,    749.1,   4.9960,  34.4683,2,-999.0000,9,    137.7,2,    27.21,2,    33.31,2, -999.000,9, -999.000,9, -999.000,9, -999.000,9, -999.000,9,-999.0000,9,  -999.00,9,-999.000,   -999.0,9,   -999.0,9,    751,-999.0000,-999.000,-999.000,9,  4.9350,-999.000
      06MT28_1,   A08,   211,  2,   2304,    320,2,19940415,1951,-11.3333, -16.5830, 4148,    823.2,   4.6630,  34.4657,2,-999.0000,9,    142.6,2,    29.58,2,    33.40,2, -999.000,9, -999.000,9, -999.000,9, -999.000,9, -999.000,9,-999.0000,9,  -999.00,9,-999.000,   -999.0,9,   -999.0,9,    826,-999.0000,-999.000,-999.000,9,  4.5977,-999.000
      06MT28_1,   A08,   211,  2,   2301,    319,2,19940415,1951,-11.3333, -16.5830, 4148,    922.6,   4.1967,  34.4864,2,-999.0000,9,   -999.0,9,    33.00,2,    32.62,2, -999.000,9, -999.000,9, -999.000,9, -999.000,9, -999.000,9,-999.0000,9,  -999.00,9,-999.000,   -999.0,9,   -999.0,9,    925,-999.0000,-999.000,-999.000,9,  4.1261,-999.000
      06MT28_1,   A08,   211,  2,   2360,    317,2,19940415,1951,-11.3333, -16.5830, 4148,   1297.8,   4.0397,  34.7934,2,-999.0000,9,    181.8,2,    26.65,2,    26.18,2, -999.000,9, -999.000,9, -999.000,9, -999.000,9, -999.000,9,-999.0000,9,  -999.00,9,-999.000,   -999.0,9,   -999.0,9,   1300,-999.0000,-999.000,-999.000,9,  3.9376,-999.000
      06MT28_1,   A08,   211,  2,   2293,    318,2,19940415,1951,-11.3333, -16.5830, 4148,   1297.9,   4.0397,  34.7933,2,  34.7990,2,    182.0,2,    26.78,2,    26.30,2, -999.000,9, -999.000,9, -999.000,9, -999.000,9, -999.000,9,-999.0000,9,  -999.00,9,-999.000,   -999.0,9,   -999.0,9,   1300,-999.0000,-999.000,-999.000,9,  3.9376,-999.000
      06MT28_1,   A08,   211,  2,   2359,    315,2,19940415,1951,-11.3333, -16.5830, 4148,   1698.3,   3.6848,  34.9345,2,-999.0000,9,    229.8,2,    23.09,2,    19.86,2, -999.000,9, -999.000,9, -999.000,9, -999.000,9, -999.000,9,-999.0000,9,  -999.00,9,-999.000,   -999.0,9,   -999.0,9,   1700,-999.0000,-999.000,-999.000,9,  3.5504,-999.000
      06MT28_1,   A08,   211,  2,   2361,    316,2,19940415,1951,-11.3333, -16.5830, 4148,   1698.4,   3.6848,  34.9345,2,-999.0000,9,    203.8,2,    22.35,2,    22.63,2, -999.000,9, -999.000,9, -999.000,9, -999.000,9, -999.000,9,-999.0000,9,  -999.00,9,-999.000,   -999.0,9,   -999.0,9,   1700,-999.0000,-999.000,-999.000,9,  3.5504,-999.000
      06MT28_1,   A08,   211,  2,   2358,    314,2,19940415,1951,-11.3333, -16.5830, 4148,   1898.0,   3.4204,  34.9437,2,-999.0000,9,    228.8,2,    31.23,2,    20.31,2, -999.000,9, -999.000,9, -999.000,9, -999.000,9, -999.000,9,-999.0000,9,  -999.00,9,-999.000,   -999.0,9,   -999.0,9,   1899,-999.0000,-999.000,-999.000,9,  3.2711,-999.000
      06MT28_1,   A08,   211,  2,   2357,    313,2,19940415,1951,-11.3333, -16.5830, 4148,   2098.4,   3.1951,  34.9353,2,  34.9222,4,    229.6,2,    31.20,2,    20.30,2, -999.000,9, -999.000,9, -999.000,9, -999.000,9, -999.000,9,-999.0000,9,  -999.00,9,-999.000,   -999.0,9,   -999.0,9,   2099,-999.0000,-999.000,-999.000,9,  3.0305,-999.000
      06MT28_1,   A08,   211,  2,   2356,    312,2,19940415,1951,-11.3333, -16.5830, 4148,   2350.7,   2.9466,  34.9199,2,-999.0000,9,    224.0,2,    31.17,2,    20.27,2, -999.000,9, -999.000,9, -999.000,9, -999.000,9, -999.000,9,-999.0000,9,  -999.00,9,-999.000,   -999.0,9,   -999.0,9,   2350,-999.0000,-999.000,-999.000,9,  2.7622,-999.000
      06MT28_1,   A08,   211,  2,   2355,    311,2,19940415,1951,-11.3333, -16.5830, 4148,   2601.4,   2.7774,  34.9078,2,-999.0000,9,    224.2,2,    39.46,2,    21.20,2, -999.000,9, -999.000,9, -999.000,9, -999.000,9, -999.000,9,-999.0000,9,  -999.00,9,-999.000,   -999.0,9,   -999.0,9,   2600,-999.0000,-999.000,-999.000,9,  2.5718,-999.000
      06MT28_1,   A08,   211,  2,   2354,    309,2,19940415,1951,-11.3333, -16.5830, 4148,   3103.2,   2.5709,  34.8962,2,  34.8936,2,    227.2,2,    41.08,2,    20.96,2, -999.000,9, -999.000,9, -999.000,9, -999.000,9, -999.000,9,-999.0000,9,  -999.00,9,-999.000,   -999.0,9,   -999.0,9,   3100,-999.0000,-999.000,-999.000,9,  2.3190,-999.000
      06MT28_1,   A08,   211,  2,   2353,    309,2,19940415,1951,-11.3333, -16.5830, 4148,   3103.2,   2.5709,  34.8962,2,  34.8936,2,    227.2,2,    41.08,2,    20.96,2, -999.000,9, -999.000,9, -999.000,9, -999.000,9, -999.000,9,-999.0000,9,  -999.00,9,-999.000,   -999.0,9,   -999.0,9,   3100,-999.0000,-999.000,-999.000,9,  2.3190,-999.000
      06MT28_1,   A08,   211,  2,   2352,    308,2,19940415,1951,-11.3333, -16.5830, 4148,   3353.8,   2.4836,  34.8923,2,-999.0000,9,    225.9,2,    46.88,2,    21.51,2, -999.000,9, -999.000,9, -999.000,9, -999.000,9, -999.000,9,-999.0000,9,  -999.00,9,-999.000,   -999.0,9,   -999.0,9,   3350,-999.0000,-999.000,-999.000,9,  2.2074,-999.000
      06MT28_1,   A08,   211,  2,   2351,    307,2,19940415,1951,-11.3333, -16.5830, 4148,   3604.4,   2.2980,  34.8761,2,-999.0000,9,    224.1,2,    53.90,2,    22.43,2, -999.000,9, -999.000,9, -999.000,9, -999.000,9, -999.000,9,-999.0000,9,  -999.00,9,-999.000,   -999.0,9,   -999.0,9,   3600,-999.0000,-999.000,-999.000,9,  1.9996,-999.000
      06MT28_1,   A08,   211,  2,   2350,    306,2,19940415,1951,-11.3333, -16.5830, 4148,   3855.2,   2.0896,  34.8553,2,-999.0000,9,    221.7,2,    59.02,2,    22.97,2, -999.000,9, -999.000,9, -999.000,9, -999.000,9, -999.000,9,-999.0000,9,  -999.00,9,-999.000,   -999.0,9,   -999.0,9,   3850,-999.0000,-999.000,-999.000,9,  1.7692,-999.000
      06MT28_1,   A08,   211,  2,   2349,    305,2,19940415,1951,-11.3333, -16.5830, 4148,   4069.6,   1.9498,  34.8405,2,  34.8423,2,    221.7,2,    58.96,2,    23.04,2, -999.000,9, -999.000,9, -999.000,9, -999.000,9, -999.000,9,-999.0000,9,  -999.00,9,-999.000,   -999.0,9,   -999.0,9,   4064,-999.0000,-999.000,-999.000,9,  1.6095,-999.000
      06MT28_1,   A08,   211,  2,   2348,    304,2,19940415,1951,-11.3333, -16.5830, 4148,   4069.7,   1.9528,  34.8409,2,-999.0000,9,    221.8,2,    59.15,2,    23.09,2, -999.000,9, -999.000,9, -999.000,9, -999.000,9, -999.000,9,-999.0000,9,  -999.00,9,-999.000,   -999.0,9,   -999.0,9,   4064,-999.0000,-999.000,-999.000,9,  1.6124,-999.000
      06MT28_1,   A08,   211,  2,   2347,    303,2,19940415,1951,-11.3333, -16.5830, 4148,   4138.9,   1.9325,  34.8385,2,-999.0000,9,   -999.0,9,  -999.00,9,  -999.00,9, -999.000,9, -999.000,9, -999.000,9, -999.000,9, -999.000,9,-999.0000,9,  -999.00,9,-999.000,   -999.0,9,   -999.0,9,   4134,-999.0000,-999.000,-999.000,9,  1.5848,-999.000
      06MT28_1,   A08,   211,  2,   2346,    302,2,19940415,1951,-11.3333, -16.5830, 4148,   4169.7,   1.9352,  34.8386,2,  34.8399,2,    220.8,2,    59.88,2,    23.12,2, -999.000,9, -999.000,9, -999.000,9, -999.000,9, -999.000,9,-999.0000,9,  -999.00,9,-999.000,   -999.0,9,   -999.0,9,   4164,-999.0000,-999.000,-999.000,9,  1.5840,-999.000
      06MT28_1,   A08,   211,  2,   2345,    301,2,19940415,1951,-11.3333, -16.5830, 4148,   4169.7,   1.9352,  34.8386,2,  34.8406,2,    221.0,2,    59.97,2,    23.27,2, -999.000,9, -999.000,9, -999.000,9, -999.000,9, -999.000,9,-999.0000,9,  -999.00,9,-999.000,   -999.0,9,   -999.0,9,   4164,-999.0000,-999.000,-999.000,9,  1.5840,-999.000
      06MT28_1,   A08,   212,  1,   2344,    215,2,19940416,0140,-11.3333, -16.1645, 3810,      9.6,  26.9244,  36.8044,2,  36.8076,2,    191.9,2,     0.77,2,     0.00,2,    1.557,2,    0.898,2,    0.094,4,    1.743,2, -999.000,9,-999.0000,9,  -999.00,9,-999.000,   2056.5,2,    476.5,6,      9,-999.0000,-999.000,-999.000,9, 26.9222,-999.000
      06MT28_1,   A08,   212,  1,   2341,    214,2,19940416,0140,-11.3333, -16.1645, 3810,     40.9,  26.9325,  36.8068,2,-999.0000,9,    192.4,2,     0.96,2,     0.00,2,    1.563,2,    0.901,2,    0.100,4,    1.739,2, -999.000,9,-999.0000,9,  -999.00,9,-999.000,   2056.3,2,    472.5,2,     40,-999.0000,-999.000,-999.000,9, 26.9231,-999.000
      06MT28_1,   A08,   212,  1,   2340,    213,2,19940416,0140,-11.3333, -16.1645, 3810,     61.5,  26.8380,  36.8090,2,-999.0000,9,    192.5,2,     0.77,2,     0.00,2,    1.566,2,    0.906,2,    0.097,4,    1.731,2, -999.000,9,-999.0000,9,  -999.00,9,-999.000,   2057.0,2,    475.9,2,     60,-999.0000,-999.000,-999.000,9, 26.8239,-999.000
      06MT28_1,   A08,   212,  1,   2339,    212,2,19940416,0140,-11.3333, -16.1645, 3810,     80.9,  24.6087,  36.7418,2,-999.0000,9,    209.6,2,     0.77,2,     0.00,2,    1.779,2,    1.002,2,    0.136,2,    1.297,2, -999.000,9,-999.0000,9,  -999.00,9,-999.000,   2060.2,2,    491.7,2,     80,-999.0000,-999.000,-999.000,9, 24.5913,-999.000
      06MT28_1,   A08,   212,  1,   2337,    211,2,19940416,0140,-11.3333, -16.1645, 3810,    120.4,  21.4116,  36.4728,2,-999.0000,9,    193.1,2,     1.25,2,     0.77,2,    1.893,2,    1.042,2,    0.084,2,    0.922,2, -999.000,9,-999.0000,9,  -999.00,9,-999.000,   2093.7,2,    603.8,2,    120,-999.0000,-999.000,-999.000,9, 21.3881,-999.000
      06MT28_1,   A08,   212,  1,   2327,    210,2,19940416,0140,-11.3333, -16.1645, 3810,    181.4,  14.6925,  35.5210,2,-999.0000,9,    116.2,2,     5.75,2,    17.34,2,    1.427,2,    0.766,2,    0.041,2,    0.423,2, -999.000,9,-999.0000,9,  -999.00,9,-999.000,   2164.7,2,   1174.0,2,    181,-999.0000,-999.000,-999.000,9, 14.6653,-999.000
      06MT28_1,   A08,   212,  1,   2397,    209,2,19940416,0140,-11.3333, -16.1645, 3810,    249.3,  10.9828,  35.0451,2,-999.0000,9,     79.3,2,    10.72,2,    26.99,2,    0.562,2,    0.308,2,    0.016,2,    0.193,2, -999.000,9,-999.0000,9,  -999.00,9,-999.000,   2206.3,2,   1066.7,2,    249,-999.0000,-999.000,-999.000,9, 10.9520,-999.000
      06MT28_1,   A08,   212,  1,   2396,    208,2,19940416,0140,-11.3333, -16.1645, 3810,    350.3,   8.9153,  34.8114,2,-999.0000,9,     86.5,2,    14.54,2,    30.37,2,    0.226,2,    0.130,2,    0.008,2,    0.207,2, -999.000,9,-999.0000,9,  -999.00,9,-999.000,   2215.2,2,   1214.6,6,    350,-999.0000,-999.000,-999.000,9,  8.8772,-999.000
      06MT28_1,   A08,   212,  1,   2389,    207,2,19940416,0140,-11.3333, -16.1645, 3810,   1000.8,   4.0395,  34.5476,2,-999.0000,9,   -999.0,9,  -999.00,9,  -999.00,9, -999.000,9, -999.000,9, -999.000,9, -999.000,9, -999.000,9,-999.0000,9,  -999.00,9,-999.000,   -999.0,9,   -999.0,9,   1002,-999.0000,-999.000,-999.000,9,  3.9634,-999.000