BOTTLE,20220817CCHSIOAMB
EXPOCODE,SECT_ID,STNNBR,CASTNO,SAMPNO,BTLNBR,BTLNBR_FLAG_W,DATE,TIME,LATITUDE,LONGITUDE,DEPTH,CTDPRS,CTDTMP,CTDSAL,CTDSAL_FLAG_W,SALNTY,SALNTY_FLAG_W,OXYGEN,OXYGEN_FLAG_W,SILCAT,SILCAT_FLAG_W,NO2+NO3,NO2+NO3_FLAG_W,CFC-11,CFC-11_FLAG_W,CFC-12,CFC-12_FLAG_W,CFC113,CFC113_FLAG_W,CCL4,CCL4_FLAG_W,TRITUM,TRITUM_FLAG_W,HELIUM,HELIUM_FLAG_W,DELHE3,DELHE3_FLAG_W,NEON,TCARBN,TCARBN_FLAG_W,PCO2,PCO2_FLAG_W,CTDRAW,HELIER,DELHER,NEONER,NEON_FLAG_W,THETA,TRITER
,,,,,,,,,,,,DBAR,ITS-90,PSS-78,,PSS-78,,UMOL/KG,,UMOL/KG,,UMOL/KG,,PMOL/KG,,PMOL/KG,,PMOL/KG,,PMOL/KG,,TU,,NMOL/KG,,PERCNT,,NMOL/KG,UMOL/KG,,UATM,,,NMOL/KG,PERCNT,NMOL/KG,,ITS-90,TU
      06MT28_1,   A08,   263,  2,   2477,    324,2,19940502,0558,-11.3335,   9.4998, 4404,     16.7,  26.9713,  35.6878,2,  35.6872,2,    196.7,2,     0.87,2,     0.00,2, -999.000,9, -999.000,9, -999.000,9, -999.000,9, -999.000,9,-999.0000,9,  -999.00,9,-999.000,   -999.0,9,   -999.0,9,     13,-999.0000,-999.000,-999.000,9, 26.9674,-999.000
      06MT28_1,   A08,   263,  2,   2468,    323,2,19940502,0558,-11.3335,   9.4998, 4404,    397.5,   9.2975,  34.8556,2,-999.0000,9,    189.2,2,    16.64,2,    37.49,2, -999.000,9, -999.000,9, -999.000,9, -999.000,9, -999.000,9,-999.0000,9,  -999.00,9,-999.000,   -999.0,9,   -999.0,9,    400,-999.0000,-999.000,-999.000,9,  9.2531,-999.000
      06MT28_1,   A08,   263,  2,   2516,    322,2,19940502,0558,-11.3335,   9.4998, 4404,    496.8,   7.4481,  34.6806,2,-999.0000,9,     19.2,2,    20.84,2,    39.67,2, -999.000,9, -999.000,9, -999.000,9, -999.000,9, -999.000,9,-999.0000,9,  -999.00,9,-999.000,   -999.0,9,   -999.0,9,    500,-999.0000,-999.000,-999.000,9,  7.3991,-999.000
      06MT28_1,   A08,   263,  2,   2515,    321,2,19940502,0558,-11.3335,   9.4998, 4404,    597.2,   6.3269,  34.5903,2,  34.5887,2,     34.5,2,    24.17,2,    39.93,2, -999.000,9, -999.000,9, -999.000,9, -999.000,9, -999.000,9,-999.0000,9,  -999.00,9,-999.000,   -999.0,9,   -999.0,9,    600,-999.0000,-999.000,-999.000,9,  6.2727,-999.000
      06MT28_1,   A08,   263,  2,   2514,    320,2,19940502,0558,-11.3335,   9.4998, 4404,    696.5,   5.3955,  34.5268,2,-999.0000,9,     55.2,2,    27.98,2,    39.15,2, -999.000,9, -999.000,9, -999.000,9, -999.000,9, -999.000,9,-999.0000,9,  -999.00,9,-999.000,   -999.0,9,   -999.0,9,    700,-999.0000,-999.000,-999.000,9,  5.3369,-999.000
      06MT28_1,   A08,   263,  2,   2513,    319,2,19940502,0558,-11.3335,   9.4998, 4404,    846.1,   4.4989,  34.5187,2,-999.0000,9,     78.0,2,    32.34,2,    36.44,2, -999.000,9, -999.000,9, -999.000,9, -999.000,9, -999.000,9,-999.0000,9,  -999.00,9,-999.000,   -999.0,9,   -999.0,9,    850,-999.0000,-999.000,-999.000,9,  4.4326,-999.000
      06MT28_1,   A08,   263,  2,   2512,    318,2,19940502,0558,-11.3335,   9.4998, 4404,    996.0,   4.1641,  34.5927,2,  34.5909,2,    114.1,2,    33.46,2,    33.75,2, -999.000,9, -999.000,9, -999.000,9, -999.000,9, -999.000,9,-999.0000,9,  -999.00,9,-999.000,   -999.0,9,   -999.0,9,   1000,-999.0000,-999.000,-999.000,9,  4.0874,-999.000
      06MT28_1,   A08,   263,  2,   2511,    317,2,19940502,0558,-11.3335,   9.4998, 4404,   1195.6,   4.0360,  34.7194,2,-999.0000,9,    153.5,2,    31.24,2,    30.19,2, -999.000,9, -999.000,9, -999.000,9, -999.000,9, -999.000,9,-999.0000,9,  -999.00,9,-999.000,   -999.0,9,   -999.0,9,   1199,-999.0000,-999.000,-999.000,9,  3.9431,-999.000
      06MT28_1,   A08,   263,  2,   2510,    316,2,19940502,0558,-11.3335,   9.4998, 4404,   1397.1,   3.9173,  34.8344,2,-999.0000,9,    181.4,2,    27.02,2,    26.26,2, -999.000,9, -999.000,9, -999.000,9, -999.000,9, -999.000,9,-999.0000,9,  -999.00,9,-999.000,   -999.0,9,   -999.0,9,   1401,-999.0000,-999.000,-999.000,9,  3.8076,-999.000
      06MT28_1,   A08,   263,  2,   2509,    315,2,19940502,0558,-11.3335,   9.4998, 4404,   1597.0,   3.7653,  34.9067,2,  34.9072,2,    199.2,2,    25.28,2,    23.38,2, -999.000,9, -999.000,9, -999.000,9, -999.000,9, -999.000,9,-999.0000,9,  -999.00,9,-999.000,   -999.0,9,   -999.0,9,   1600,-999.0000,-999.000,-999.000,9,  3.6392,-999.000
      06MT28_1,   A08,   263,  2,   2508,    314,2,19940502,0558,-11.3335,   9.4998, 4404,   1797.4,   3.6445,  34.9248,2,-999.0000,9,    204.7,2,    25.45,2,    22.32,2, -999.000,9, -999.000,9, -999.000,9, -999.000,9, -999.000,9,-999.0000,9,  -999.00,9,-999.000,   -999.0,9,   -999.0,9,   1800,-999.0000,-999.000,-999.000,9,  3.5015,-999.000
      06MT28_1,   A08,   263,  2,   2506,    313,2,19940502,0558,-11.3335,   9.4998, 4404,   1997.8,   3.4089,  34.9325,2,  34.9277,2,    218.3,2,    27.23,2,    21.73,2, -999.000,9, -999.000,9, -999.000,9, -999.000,9, -999.000,9,-999.0000,9,  -999.00,9,-999.000,   -999.0,9,   -999.0,9,   2000,-999.0000,-999.000,-999.000,9,  3.2505,-999.000
      06MT28_1,   A08,   263,  2,   2557,    312,2,19940502,0558,-11.3335,   9.4998, 4404,   2248.7,   3.1636,  34.9304,2,-999.0000,9,    207.7,2,    30.90,2,    21.51,2, -999.000,9, -999.000,9, -999.000,9, -999.000,9, -999.000,9,-999.0000,9,  -999.00,9,-999.000,   -999.0,9,   -999.0,9,   2250,-999.0000,-999.000,-999.000,9,  2.9852,-999.000
      06MT28_1,   A08,   263,  2,   2553,    311,2,19940502,0558,-11.3335,   9.4998, 4404,   2499.5,   2.9299,  34.9217,2,-999.0000,9,    212.2,2,    35.12,2,    21.68,2, -999.000,9, -999.000,9, -999.000,9, -999.000,9, -999.000,9,-999.0000,9,  -999.00,9,-999.000,   -999.0,9,   -999.0,9,   2500,-999.0000,-999.000,-999.000,9,  2.7314,-999.000
      06MT28_1,   A08,   263,  2,   2551,    310,2,19940502,0558,-11.3335,   9.4998, 4404,   2750.3,   2.7470,  34.9122,2,-999.0000,9,    219.0,2,    38.49,2,    21.75,2, -999.000,9, -999.000,9, -999.000,9, -999.000,9, -999.000,9,-999.0000,9,  -999.00,9,-999.000,   -999.0,9,   -999.0,9,   2750,-999.0000,-999.000,-999.000,9,  2.5272,-999.000
      06MT28_1,   A08,   263,  2,   2544,    309,2,19940502,0558,-11.3335,   9.4998, 4404,   3001.8,   2.6336,  34.9088,2,  34.9072,2,    213.4,2,    41.47,2,    21.92,2, -999.000,9, -999.000,9, -999.000,9, -999.000,9, -999.000,9,-999.0000,9,  -999.00,9,-999.000,   -999.0,9,   -999.0,9,   3000,-999.0000,-999.000,-999.000,9,  2.3907,-999.000
      06MT28_1,   A08,   263,  2,   2542,    308,2,19940502,0558,-11.3335,   9.4998, 4404,   3252.6,   2.5190,  34.9016,2,-999.0000,9,    226.3,2,    44.92,2,    22.18,2, -999.000,9, -999.000,9, -999.000,9, -999.000,9, -999.000,9,-999.0000,9,  -999.00,9,-999.000,   -999.0,9,   -999.0,9,   3250,-999.0000,-999.000,-999.000,9,  2.2526,-999.000
      06MT28_1,   A08,   263,  2,   2550,    307,2,19940502,0558,-11.3335,   9.4998, 4404,   3502.2,   2.4360,  34.8971,2,-999.0000,9,    209.7,2,    48.92,2,    22.53,2, -999.000,9, -999.000,9, -999.000,9, -999.000,9, -999.000,9,-999.0000,9,  -999.00,9,-999.000,   -999.0,9,   -999.0,9,   3499,-999.0000,-999.000,-999.000,9,  2.1450,-999.000
      06MT28_1,   A08,   263,  2,   2549,    306,2,19940502,0558,-11.3335,   9.4998, 4404,   3753.0,   2.3719,  34.8910,2,-999.0000,9,    218.1,2,    52.26,2,    22.69,2, -999.000,9, -999.000,9, -999.000,9, -999.000,9, -999.000,9,-999.0000,9,  -999.00,9,-999.000,   -999.0,9,   -999.0,9,   3749,-999.0000,-999.000,-999.000,9,  2.0551,-999.000
      06MT28_1,   A08,   263,  2,   2548,    305,2,19940502,0558,-11.3335,   9.4998, 4404,   4003.5,   2.3517,  34.8877,2,-999.0000,9,    204.0,2,    53.53,2,    22.95,2, -999.000,9, -999.000,9, -999.000,9, -999.000,9, -999.000,9,-999.0000,9,  -999.00,9,-999.000,   -999.0,9,   -999.0,9,   3999,-999.0000,-999.000,-999.000,9,  2.0073,-999.000
      06MT28_1,   A08,   263,  2,   2547,    304,2,19940502,0558,-11.3335,   9.4998, 4404,   4332.2,   2.3621,  34.8848,2,-999.0000,9,    205.2,2,    52.75,2,    22.88,2, -999.000,9, -999.000,9, -999.000,9, -999.000,9, -999.000,9,-999.0000,9,  -999.00,9,-999.000,   -999.0,9,   -999.0,9,   4327,-999.0000,-999.000,-999.000,9,  1.9792,-999.000
      06MT28_1,   A08,   263,  2,   2546,    303,2,19940502,0558,-11.3335,   9.4998, 4404,   4402.4,   2.3659,  34.8837,2,-999.0000,9,    205.6,2,    52.55,2,    22.92,2, -999.000,9, -999.000,9, -999.000,9, -999.000,9, -999.000,9,-999.0000,9,  -999.00,9,-999.000,   -999.0,9,   -999.0,9,   4398,-999.0000,-999.000,-999.000,9,  1.9746,-999.000
      06MT28_1,   A08,   263,  2,   2545,    301,2,19940502,0558,-11.3335,   9.4998, 4404,   4433.3,   2.3679,  34.8837,2,  34.8836,2,    205.0,2,    52.45,2,    22.87,2, -999.000,9, -999.000,9, -999.000,9, -999.000,9, -999.000,9,-999.0000,9,  -999.00,9,-999.000,   -999.0,9,   -999.0,9,   4428,-999.0000,-999.000,-999.000,9,  1.9728,-999.000
      06MT28_1,   A08,   263,  2,   2587,    302,2,19940502,0558,-11.3335,   9.4998, 4404,   4433.3,   2.3679,  34.8837,2,  34.8835,2,    205.2,2,    52.49,2,    22.91,2, -999.000,9, -999.000,9, -999.000,9, -999.000,9, -999.000,9,-999.0000,9,  -999.00,9,-999.000,   -999.0,9,   -999.0,9,   4428,-999.0000,-999.000,-999.000,9,  1.9728,-999.000
      06MT28_1,   A08,   264,  1,   2588,    215,2,19940502,1130,-11.3328,  10.0007, 4152,     11.4,  26.6900,  35.8085,2,-999.0000,9,   -999.0,9,  -999.00,9,  -999.00,9, -999.000,9, -999.000,9, -999.000,9, -999.000,9, -999.000,9,-999.0000,9,  -999.00,9,-999.000,   -999.0,9,   -999.0,9,     11,-999.0000,-999.000,-999.000,9, 26.6874,-999.000
      06MT28_1,   A08,   264,  1,   2585,    214,2,19940502,1130,-11.3328,  10.0007, 4152,     29.7,  21.7432,  35.8170,2,-999.0000,9,   -999.0,9,  -999.00,9,  -999.00,9, -999.000,9, -999.000,9, -999.000,9, -999.000,9, -999.000,9,-999.0000,9,  -999.00,9,-999.000,   -999.0,9,   -999.0,9,     29,-999.0000,-999.000,-999.000,9, 21.7373,-999.000
      06MT28_1,   A08,   264,  1,   2582,    213,2,19940502,1130,-11.3328,  10.0007, 4152,     49.7,  16.6780,  35.6436,2,-999.0000,9,   -999.0,9,  -999.00,9,  -999.00,9, -999.000,9, -999.000,9, -999.000,9, -999.000,9, -999.000,9,-999.0000,9,  -999.00,9,-999.000,   -999.0,9,   -999.0,9,     50,-999.0000,-999.000,-999.000,9, 16.6699,-999.000
      06MT28_1,   A08,   264,  1,   2581,    212,2,19940502,1130,-11.3328,  10.0007, 4152,     68.2,  15.8150,  35.5921,2,-999.0000,9,   -999.0,9,  -999.00,9,  -999.00,9, -999.000,9, -999.000,9, -999.000,9, -999.000,9, -999.000,9,-999.0000,9,  -999.00,9,-999.000,   2205.3,2,   1422.9,2,     68,-999.0000,-999.000,-999.000,9, 15.8042,-999.000
      06MT28_1,   A08,   264,  1,   2577,    211,2,19940502,1130,-11.3328,  10.0007, 4152,     99.8,  15.0722,  35.5260,2,-999.0000,9,   -999.0,9,  -999.00,9,  -999.00,9, -999.000,9, -999.000,9, -999.000,9, -999.000,9, -999.000,9,-999.0000,9,  -999.00,9,-999.000,   -999.0,9,   -999.0,9,    100,-999.0000,-999.000,-999.000,9, 15.0570,-999.000
      06MT28_1,   A08,   264,  1,   2620,    210,2,19940502,1130,-11.3328,  10.0007, 4152,    149.9,  14.2806,  35.4329,2,-999.0000,9,   -999.0,9,  -999.00,9,  -999.00,9, -999.000,9, -999.000,9, -999.000,9, -999.000,9, -999.000,9,-999.0000,9,  -999.00,9,-999.000,   -999.0,9,   -999.0,9,    150,-999.0000,-999.000,-999.000,9, 14.2586,-999.000
      06MT28_1,   A08,   264,  1,   2618,    209,2,19940502,1130,-11.3328,  10.0007, 4152,    200.2,  13.3253,  35.3167,2,-999.0000,9,   -999.0,9,  -999.00,9,  -999.00,9, -999.000,9, -999.000,9, -999.000,9, -999.000,9, -999.000,9,-999.0000,9,  -999.00,9,-999.000,   -999.0,9,   -999.0,9,    200,-999.0000,-999.000,-999.000,9, 13.2972,-999.000
      06MT28_1,   A08,   264,  1,   2615,    208,2,19940502,1130,-11.3328,  10.0007, 4152,    300.1,  11.6579,  35.1197,2,-999.0000,9,   -999.0,9,  -999.00,9,  -999.00,9, -999.000,9, -999.000,9, -999.000,9, -999.000,9, -999.000,9,-999.0000,9,  -999.00,9,-999.000,   -999.0,9,   -999.0,9,    300,-999.0000,-999.000,-999.000,9, 11.6192,-999.000
      06MT28_1,   A08,   264,  1,   2623,    207,2,19940502,1130,-11.3328,  10.0007, 4152,   1011.1,   4.1426,  34.6010,2,-999.0000,9,   -999.0,9,  -999.00,9,  -999.00,9, -999.000,9, -999.000,9, -999.000,9, -999.000,9, -999.000,9,-999.0000,9,  -999.00,9,-999.000,   -999.0,9,   -999.0,9,   1013,-999.0000,-999.000,-999.000,9,  4.0648,-999.000