BOTTLE,20220817CCHSIOAMB
EXPOCODE,SECT_ID,STNNBR,CASTNO,SAMPNO,BTLNBR,BTLNBR_FLAG_W,DATE,TIME,LATITUDE,LONGITUDE,DEPTH,CTDPRS,CTDTMP,CTDSAL,CTDSAL_FLAG_W,SALNTY,SALNTY_FLAG_W,OXYGEN,OXYGEN_FLAG_W,SILCAT,SILCAT_FLAG_W,NO2+NO3,NO2+NO3_FLAG_W,CFC-11,CFC-11_FLAG_W,CFC-12,CFC-12_FLAG_W,CFC113,CFC113_FLAG_W,CCL4,CCL4_FLAG_W,TRITUM,TRITUM_FLAG_W,HELIUM,HELIUM_FLAG_W,DELHE3,DELHE3_FLAG_W,NEON,TCARBN,TCARBN_FLAG_W,PCO2,PCO2_FLAG_W,CTDRAW,HELIER,DELHER,NEONER,NEON_FLAG_W,THETA,TRITER
,,,,,,,,,,,,DBAR,ITS-90,PSS-78,,PSS-78,,UMOL/KG,,UMOL/KG,,UMOL/KG,,PMOL/KG,,PMOL/KG,,PMOL/KG,,PMOL/KG,,TU,,NMOL/KG,,PERCNT,,NMOL/KG,UMOL/KG,,UATM,,,NMOL/KG,PERCNT,NMOL/KG,,ITS-90,TU
      06MT28_1,   A08,   227,  2,   3117,    324,2,19940420,0416,-11.3330,  -9.4998, 4045,     12.3,  26.5267,  36.6764,2,  36.6751,2,   -999.0,9,     0.96,2,     0.00,2, -999.000,9, -999.000,9, -999.000,9, -999.000,9, -999.000,9,-999.0000,9,  -999.00,9,-999.000,   -999.0,9,   -999.0,9,      9,-999.0000,-999.000,-999.000,9, 26.5239,-999.000
      06MT28_1,   A08,   227,  2,   3109,    323,2,19940420,0416,-11.3330,  -9.4998, 4045,    297.4,   9.6279,  34.8918,2,  34.8901,2,     73.1,2,    13.40,2,    30.52,2, -999.000,9, -999.000,9, -999.000,9, -999.000,9, -999.000,9,-999.0000,9,  -999.00,9,-999.000,   -999.0,9,   -999.0,9,    298,-999.0000,-999.000,-999.000,9,  9.5941,-999.000
      06MT28_1,   A08,   227,  2,   3105,    322,2,19940420,0416,-11.3330,  -9.4998, 4045,    398.7,   8.4043,  34.7593,2,-999.0000,9,     68.7,2,    16.26,2,    33.47,2, -999.000,9, -999.000,9, -999.000,9, -999.000,9, -999.000,9,-999.0000,9,  -999.00,9,-999.000,   -999.0,9,   -999.0,9,    400,-999.0000,-999.000,-999.000,9,  8.3623,-999.000
      06MT28_1,   A08,   227,  2,   3092,    321,2,19940420,0416,-11.3330,  -9.4998, 4045,    497.6,   7.2617,  34.6505,2,-999.0000,9,     74.7,2,    19.50,2,    35.17,2, -999.000,9, -999.000,9, -999.000,9, -999.000,9, -999.000,9,-999.0000,9,  -999.00,9,-999.000,   -999.0,9,   -999.0,9,    500,-999.0000,-999.000,-999.000,9,  7.2134,-999.000
      06MT28_1,   A08,   227,  2,   3168,    320,2,19940420,0416,-11.3330,  -9.4998, 4045,    597.5,   6.4233,  34.5763,2,  34.5734,2,     92.3,2,    21.69,2,    35.06,2, -999.000,9, -999.000,9, -999.000,9, -999.000,9, -999.000,9,-999.0000,9,  -999.00,9,-999.000,   -999.0,9,   -999.0,9,    600,-999.0000,-999.000,-999.000,9,  6.3687,-999.000
      06MT28_1,   A08,   227,  2,   3169,    319,2,19940420,0416,-11.3330,  -9.4998, 4045,    696.6,   5.5301,  34.5170,2,-999.0000,9,    103.9,2,    25.49,2,    35.52,2, -999.000,9, -999.000,9, -999.000,9, -999.000,9, -999.000,9,-999.0000,9,  -999.00,9,-999.000,   -999.0,9,   -999.0,9,    699,-999.0000,-999.000,-999.000,9,  5.4708,-999.000
      06MT28_1,   A08,   227,  2,   3167,    318,2,19940420,0416,-11.3330,  -9.4998, 4045,    846.4,   4.5067,  34.5009,2,-999.0000,9,    132.0,2,    31.10,2,    33.96,2, -999.000,9, -999.000,9, -999.000,9, -999.000,9, -999.000,9,-999.0000,9,  -999.00,9,-999.000,   -999.0,9,   -999.0,9,    850,-999.0000,-999.000,-999.000,9,  4.4404,-999.000
      06MT28_1,   A08,   227,  2,   3166,    317,2,19940420,0416,-11.3330,  -9.4998, 4045,    996.8,   4.0825,  34.5800,2,  34.5800,2,    148.4,2,    32.70,2,    31.84,2, -999.000,9, -999.000,9, -999.000,9, -999.000,9, -999.000,9,-999.0000,9,  -999.00,9,-999.000,   -999.0,9,   -999.0,9,   1000,-999.0000,-999.000,-999.000,9,  4.0064,-999.000
      06MT28_1,   A08,   227,  2,   3164,    316,2,19940420,0416,-11.3330,  -9.4998, 4045,   1196.2,   3.9624,  34.7204,2,-999.0000,9,    167.7,2,    29.81,2,    28.38,2, -999.000,9, -999.000,9, -999.000,9, -999.000,9, -999.000,9,-999.0000,9,  -999.00,9,-999.000,   -999.0,9,   -999.0,9,   1199,-999.0000,-999.000,-999.000,9,  3.8701,-999.000
      06MT28_1,   A08,   227,  2,   3163,    315,2,19940420,0416,-11.3330,  -9.4998, 4045,   1396.6,   3.8481,  34.8433,2,-999.0000,9,    187.8,2,    26.07,2,    24.83,2, -999.000,9, -999.000,9, -999.000,9, -999.000,9, -999.000,9,-999.0000,9,  -999.00,9,-999.000,   -999.0,9,   -999.0,9,   1400,-999.0000,-999.000,-999.000,9,  3.7392,-999.000
      06MT28_1,   A08,   227,  2,   3162,    314,2,19940420,0416,-11.3330,  -9.4998, 4045,   1597.7,   3.6975,  34.8947,2,-999.0000,9,    203.0,2,    24.71,2,    22.72,2, -999.000,9, -999.000,9, -999.000,9, -999.000,9, -999.000,9,-999.0000,9,  -999.00,9,-999.000,   -999.0,9,   -999.0,9,   1600,-999.0000,-999.000,-999.000,9,  3.5722,-999.000
      06MT28_1,   A08,   227,  2,   3161,    313,2,19940420,0416,-11.3330,  -9.4998, 4045,   1796.8,   3.5187,  34.9164,2,-999.0000,9,    211.8,2,    25.36,2,    21.65,2, -999.000,9, -999.000,9, -999.000,9, -999.000,9, -999.000,9,-999.0000,9,  -999.00,9,-999.000,   -999.0,9,   -999.0,9,   1799,-999.0000,-999.000,-999.000,9,  3.3775,-999.000
      06MT28_1,   A08,   227,  2,   3160,    312,2,19940420,0416,-11.3330,  -9.4998, 4045,   1997.6,   3.3460,  34.9243,2,  34.9228,2,    217.6,2,    26.95,2,    21.06,2, -999.000,9, -999.000,9, -999.000,9, -999.000,9, -999.000,9,-999.0000,9,  -999.00,9,-999.000,   -999.0,9,   -999.0,9,   1999,-999.0000,-999.000,-999.000,9,  3.1886,-999.000
      06MT28_1,   A08,   227,  2,   3159,    311,2,19940420,0416,-11.3330,  -9.4998, 4045,   2246.7,   3.1032,  34.9218,2,-999.0000,9,    220.2,2,    30.52,2,    20.85,2, -999.000,9, -999.000,9, -999.000,9, -999.000,9, -999.000,9,-999.0000,9,  -999.00,9,-999.000,   -999.0,9,   -999.0,9,   2247,-999.0000,-999.000,-999.000,9,  2.9261,-999.000
      06MT28_1,   A08,   227,  2,   3158,    310,2,19940420,0416,-11.3330,  -9.4998, 4045,   2499.6,   2.8810,  34.9080,2,-999.0000,9,    222.9,2,    34.56,2,    20.92,2, -999.000,9, -999.000,9, -999.000,9, -999.000,9, -999.000,9,-999.0000,9,  -999.00,9,-999.000,   -999.0,9,   -999.0,9,   2500,-999.0000,-999.000,-999.000,9,  2.6834,-999.000
      06MT28_1,   A08,   227,  2,   3157,    309,2,19940420,0416,-11.3330,  -9.4998, 4045,   2749.7,   2.7200,  34.9019,2,-999.0000,9,    222.0,2,    37.92,2,    21.09,2, -999.000,9, -999.000,9, -999.000,9, -999.000,9, -999.000,9,-999.0000,9,  -999.00,9,-999.000,   -999.0,9,   -999.0,9,   2749,-999.0000,-999.000,-999.000,9,  2.5008,-999.000
      06MT28_1,   A08,   227,  2,   3156,    308,2,19940420,0416,-11.3330,  -9.4998, 4045,   3001.2,   2.5907,  34.8995,2,-999.0000,9,    220.2,2,    40.90,2,    21.35,2, -999.000,9, -999.000,9, -999.000,9, -999.000,9, -999.000,9,-999.0000,9,  -999.00,9,-999.000,   -999.0,9,   -999.0,9,   3000,-999.0000,-999.000,-999.000,9,  2.3488,-999.000
      06MT28_1,   A08,   227,  2,   3155,    307,2,19940420,0416,-11.3330,  -9.4998, 4045,   3241.6,   2.4808,  34.8919,2,  34.8984,2,    220.1,2,    43.41,2,    21.52,2, -999.000,9, -999.000,9, -999.000,9, -999.000,9, -999.000,9,-999.0000,9,  -999.00,9,-999.000,   -999.0,9,   -999.0,9,   3239,-999.0000,-999.000,-999.000,9,  2.2165,-999.000
      06MT28_1,   A08,   227,  2,   3154,    306,2,19940420,0416,-11.3330,  -9.4998, 4045,   3489.4,   2.4244,  34.8888,2,-999.0000,9,    219.6,2,    44.69,2,    21.49,2, -999.000,9, -999.000,9, -999.000,9, -999.000,9, -999.000,9,-999.0000,9,  -999.00,9,-999.000,   -999.0,9,   -999.0,9,   3486,-999.0000,-999.000,-999.000,9,  2.1351,-999.000
      06MT28_1,   A08,   227,  2,   3153,    305,2,19940420,0416,-11.3330,  -9.4998, 4045,   3752.7,   2.4219,  34.8882,2,-999.0000,9,    219.3,2,    45.30,2,    21.56,2, -999.000,9, -999.000,9, -999.000,9, -999.000,9, -999.000,9,-999.0000,9,  -999.00,9,-999.000,   -999.0,9,   -999.0,9,   3749,-999.0000,-999.000,-999.000,9,  2.1038,-999.000
      06MT28_1,   A08,   227,  2,   3152,    304,2,19940420,0416,-11.3330,  -9.4998, 4045,   3973.6,   2.4339,  34.8874,2,-999.0000,9,    219.2,2,    45.40,2,    21.50,2, -999.000,9, -999.000,9, -999.000,9, -999.000,9, -999.000,9,-999.0000,9,  -999.00,9,-999.000,   -999.0,9,   -999.0,9,   3969,-999.0000,-999.000,-999.000,9,  2.0906,-999.000
      06MT28_1,   A08,   227,  2,   3151,    303,2,19940420,0416,-11.3330,  -9.4998, 4045,   4038.3,   2.4395,  34.8870,2,-999.0000,9,    219.0,2,    45.34,2,    21.45,2, -999.000,9, -999.000,9, -999.000,9, -999.000,9, -999.000,9,-999.0000,9,  -999.00,9,-999.000,   -999.0,9,   -999.0,9,   4034,-999.0000,-999.000,-999.000,9,  2.0886,-999.000
      06MT28_1,   A08,   227,  2,   3150,    301,2,19940420,0416,-11.3330,  -9.4998, 4045,   4072.7,   2.4395,  34.8871,2,  34.8846,2,    218.7,2,    45.56,2,    21.49,2, -999.000,9, -999.000,9, -999.000,9, -999.000,9, -999.000,9,-999.0000,9,  -999.00,9,-999.000,   -999.0,9,   -999.0,9,   4068,-999.0000,-999.000,-999.000,9,  2.0846,-999.000
      06MT28_1,   A08,   227,  2,   3149,    302,2,19940420,0416,-11.3330,  -9.4998, 4045,   4073.0,   2.4397,  34.8868,2,  34.8859,2,    218.8,2,    45.56,2,    21.49,2, -999.000,9, -999.000,9, -999.000,9, -999.000,9, -999.000,9,-999.0000,9,  -999.00,9,-999.000,   -999.0,9,   -999.0,9,   4069,-999.0000,-999.000,-999.000,9,  2.0848,-999.000
      06MT28_1,   A08,   228,  1,   3148,    216,2,19940420,1013,-11.3333,  -8.9993, 4208,      9.5,  26.5666,  36.6717,2,  36.6728,2,   -999.0,9,     0.86,2,     0.00,2,    1.594,2,    0.929,2,    0.065,4,    1.788,2, -999.000,9,-999.0000,9,  -999.00,9,-999.000,   2051.2,2,    480.9,6,      9,-999.0000,-999.000,-999.000,9, 26.5645,-999.000
      06MT28_1,   A08,   228,  1,   3132,    215,2,19940420,1013,-11.3333,  -8.9993, 4208,     29.1,  26.5704,  36.6718,2,-999.0000,9,   -999.0,9,     0.86,2,     0.00,2,    1.584,2,    0.925,2,    0.030,4,    1.766,2, -999.000,9,-999.0000,9,  -999.00,9,-999.000,   2051.6,2,    480.4,2,     29,-999.0000,-999.000,-999.000,9, 26.5638,-999.000
      06MT28_1,   A08,   228,  1,   3209,    214,2,19940420,1013,-11.3333,  -8.9993, 4208,     50.4,  26.4999,  36.6717,2,-999.0000,9,   -999.0,9,     0.86,2,     0.00,2,    1.610,2,    0.930,2,    0.095,2,    1.777,2, -999.000,9,-999.0000,9,  -999.00,9,-999.000,   2051.9,2,    479.3,2,     50,-999.0000,-999.000,-999.000,9, 26.4885,-999.000
      06MT28_1,   A08,   228,  1,   3208,    213,2,19940420,1013,-11.3333,  -8.9993, 4208,     69.4,  24.0652,  36.6731,2,-999.0000,9,   -999.0,9,     0.77,2,     0.00,2,    1.879,2,    1.072,2,    0.056,4,    1.445,2, -999.000,9,-999.0000,9,  -999.00,9,-999.000,   2070.1,2,    517.0,2,     69,-999.0000,-999.000,-999.000,9, 24.0504,-999.000
      06MT28_1,   A08,   228,  1,   3207,    212,2,19940420,1013,-11.3333,  -8.9993, 4208,     99.8,  20.1638,  36.2314,2,-999.0000,9,   -999.0,9,     1.73,2,     3.16,2,    1.898,3,    1.043,2,    0.065,2,    0.900,2, -999.000,9,-999.0000,9,  -999.00,9,-999.000,   2099.6,2,    664.5,2,    100,-999.0000,-999.000,-999.000,9, 20.1451,-999.000
      06MT28_1,   A08,   228,  1,   3205,    211,2,19940420,1013,-11.3333,  -8.9993, 4208,    148.9,  14.3536,  35.4729,2,-999.0000,9,   -999.0,9,     6.13,2,    20.31,2,    1.383,2,    0.738,2,    0.035,2,    0.384,2, -999.000,9,   1.7380,2,     1.25,2,   7.231,   2180.5,2,   1280.1,2,    149,  0.0070,   0.250,   0.024,2, 14.3317,-999.000
      06MT28_1,   A08,   228,  1,   3206,    210,2,19940420,1013,-11.3333,  -8.9993, 4208,    200.7,  12.1695,  35.1823,2,-999.0000,9,   -999.0,9,     9.29,2,    26.23,2,    0.798,2,    0.437,2,    0.029,2,    0.209,2, -999.000,9,   1.7420,2,     1.49,2,   7.310,   2203.9,2,   1649.4,2,    201,  0.0070,   0.250,   0.024,2, 12.1430,-999.000
      06MT28_1,   A08,   228,  1,   3204,    209,2,19940420,1013,-11.3333,  -8.9993, 4208,    300.7,   9.3807,  34.8590,2,  34.8602,2,   -999.0,9,    13.87,2,    31.29,2,    0.237,2,    0.134,2,    0.006,2,    0.155,2, -999.000,9,   1.7610,2,     1.06,2,   7.505,   2219.9,2,   1255.2,2,    301,  0.0070,   0.250,   0.025,2,  9.3470,-999.000
      06MT28_1,   A08,   228,  1,   3203,    207,2,19940420,1013,-11.3333,  -8.9993, 4208,    400.4,   8.0357,  34.7178,2,-999.0000,9,   -999.0,9,  -999.00,9,  -999.00,9, -999.000,9, -999.000,9, -999.000,9, -999.000,9, -999.000,9,-999.0000,9,  -999.00,9,-999.000,   -999.0,9,   -999.0,9,    400,-999.0000,-999.000,-999.000,9,  7.9947,-999.000
      06MT28_1,   A08,   228,  1,   3201,    208,2,19940420,1013,-11.3333,  -8.9993, 4208,    401.0,   8.0344,  34.7177,2,-999.0000,9,   -999.0,9,    17.07,2,    33.76,2,    0.099,2,    0.060,2,    0.001,2,    0.149,2, -999.000,9,   1.7100,3,     0.85,2,   7.451,   2227.4,2,   1335.3,2,    401,  0.0060,   0.250,   0.025,3,  7.9933,-999.000