BOTTLE,20220817CCHSIOAMB
EXPOCODE,SECT_ID,STNNBR,CASTNO,SAMPNO,BTLNBR,BTLNBR_FLAG_W,DATE,TIME,LATITUDE,LONGITUDE,DEPTH,CTDPRS,CTDTMP,CTDSAL,CTDSAL_FLAG_W,SALNTY,SALNTY_FLAG_W,OXYGEN,OXYGEN_FLAG_W,SILCAT,SILCAT_FLAG_W,NO2+NO3,NO2+NO3_FLAG_W,CFC-11,CFC-11_FLAG_W,CFC-12,CFC-12_FLAG_W,CFC113,CFC113_FLAG_W,CCL4,CCL4_FLAG_W,TRITUM,TRITUM_FLAG_W,HELIUM,HELIUM_FLAG_W,DELHE3,DELHE3_FLAG_W,NEON,TCARBN,TCARBN_FLAG_W,PCO2,PCO2_FLAG_W,CTDRAW,HELIER,DELHER,NEONER,NEON_FLAG_W,THETA,TRITER
,,,,,,,,,,,,DBAR,ITS-90,PSS-78,,PSS-78,,UMOL/KG,,UMOL/KG,,UMOL/KG,,PMOL/KG,,PMOL/KG,,PMOL/KG,,PMOL/KG,,TU,,NMOL/KG,,PERCNT,,NMOL/KG,UMOL/KG,,UATM,,,NMOL/KG,PERCNT,NMOL/KG,,ITS-90,TU
      06MT28_1,   A08,   268,  1,   2936,    213,2,19940503,1206,-11.3333,  11.6665, 3338,      2.7,  27.3777,  35.8352,2,  35.8405,2,    197.3,2,     0.48,2,     0.00,2,    1.516,2,    0.907,2,    0.109,2,    1.652,2, -999.000,9,-999.0000,9,  -999.00,9,-999.000,   2020.2,2,    456.8,6,      2,-999.0000,-999.000,-999.000,9, 27.3771,-999.000
      06MT28_1,   A08,   268,  1,   2934,    212,2,19940503,1206,-11.3333,  11.6665, 3338,      8.9,  27.3241,  35.8403,2,  35.8446,2,    197.4,2,     0.58,2,     0.00,2,    1.526,2,    0.919,2,    0.110,2,    1.723,2,    0.798,2,   1.6600,2,    -1.40,2,   6.534,   2021.5,2,    459.4,2,      9,  0.0060,   0.240,   0.021,2, 27.3221,   0.020
      06MT28_1,   A08,   268,  1,   2989,    211,2,19940503,1206,-11.3333,  11.6665, 3338,     30.2,  19.9162,  35.7831,2,-999.0000,9,    185.0,2,     2.97,2,     7.20,2,    1.386,2,    0.793,2,    0.066,2,    0.207,2,    0.611,2,   1.7060,2,     0.57,2,   7.021,   2103.2,2,    705.4,2,     30,  0.0060,   0.240,   0.022,3, 19.9106,   0.018
      06MT28_1,   A08,   268,  1,   2988,    210,2,19940503,1206,-11.3333,  11.6665, 3338,     50.0,  16.4924,  35.6504,2,-999.0000,9,     48.0,2,     6.23,2,    23.20,2,    1.199,2,    0.676,2,    0.058,2,    0.209,2, -999.000,9,   1.7150,2,     0.99,2,   7.091,   2205.9,2,   1431.0,2,     50,  0.0060,   0.240,   0.023,2, 16.4843,-999.000
      06MT28_1,   A08,   268,  1,   2986,    209,2,19940503,1206,-11.3333,  11.6665, 3338,     69.3,  15.7113,  35.5839,2,-999.0000,9,   -999.0,9,  -999.00,9,  -999.00,9,    1.119,2,    0.642,2,    0.050,2,    0.135,2,    0.661,2,   1.7220,6,  -999.00,9,   7.155,   -999.0,9,   -999.0,9,     70,  0.0060,-999.000,   0.023,6, 15.7004,   0.020
      06MT28_1,   A08,   268,  1,   2984,    208,2,19940503,1206,-11.3333,  11.6665, 3338,     99.7,  14.9036,  35.5035,2,-999.0000,9,     36.9,2,     8.24,2,    26.11,2,    0.965,6,    0.557,6,    0.014,6,    0.104,6, -999.000,9,-999.0000,9,     1.73,6,-999.000,   2219.5,2,   1681.1,6,    100,-999.0000,   0.240,-999.000,9, 14.8886,-999.000
      06MT28_1,   A08,   268,  1,   2973,    207,2,19940503,1206,-11.3333,  11.6665, 3338,    999.5,   4.2426,  34.5838,2,-999.0000,9,   -999.0,9,  -999.00,9,  -999.00,9, -999.000,9, -999.000,9, -999.000,9, -999.000,9, -999.000,9,-999.0000,9,  -999.00,9,-999.000,   -999.0,9,   -999.0,9,    999,-999.0000,-999.000,-999.000,9,  4.1650,-999.000
      06MT28_1,   A08,   268,  2,   2937,    324,2,19940503,1339,-11.3350,  11.6658, 3335,      5.4,  27.7854,  35.8506,2,-999.0000,9,    198.3,2,     0.48,2,     0.10,2,    1.523,2,    0.923,2,    0.114,2,    1.708,2, -999.000,9,-999.0000,9,  -999.00,9,-999.000,   2021.1,2,   -999.0,9,      2,-999.0000,-999.000,-999.000,9, 27.7842,-999.000
      06MT28_1,   A08,   268,  2,   2985,    323,2,19940503,1339,-11.3350,  11.6658, 3335,     70.7,  15.4887,  35.5659,2,-999.0000,9,     34.0,2,     7.67,2,    25.68,2, -999.000,9, -999.000,9, -999.000,9, -999.000,9, -999.000,9,-999.0000,9,  -999.00,9,-999.000,   2218.2,2,   1560.5,6,     70,-999.0000,-999.000,-999.000,9, 15.4777,-999.000
      06MT28_1,   A08,   268,  2,   2983,    322,2,19940503,1339,-11.3350,  11.6658, 3335,    100.2,  14.8120,  35.4961,2,-999.0000,9,     37.0,2,     8.24,2,    26.35,2,    0.945,2,    0.538,2,    0.038,2,    0.103,2, -999.000,9,-999.0000,9,  -999.00,9,-999.000,   2218.5,2,   1569.4,2,    100,-999.0000,-999.000,-999.000,9, 14.7969,-999.000
      06MT28_1,   A08,   268,  2,   2982,    321,2,19940503,1339,-11.3350,  11.6658, 3335,    149.7,  14.2093,  35.4260,2,-999.0000,9,     36.6,2,     9.10,2,    26.82,2,    0.857,2,    0.493,2,    0.048,4,    0.112,2,    0.554,2,   1.7270,2,     1.55,2,   7.216,   2217.1,2,   1585.7,2,    150,  0.0060,   0.240,   0.023,2, 14.1874,   0.017
      06MT28_1,   A08,   268,  2,   2981,    320,2,19940503,1339,-11.3350,  11.6658, 3335,    199.1,  13.4478,  35.3353,2,-999.0000,9,     39.2,2,     9.58,2,    27.96,2,    0.751,2,    0.425,2,   -0.010,4,    0.117,2,    0.446,2,   1.7280,6,     1.74,6,   7.254,   2223.1,2,   1745.4,2,    200,  0.0070,   0.250,   0.024,6, 13.4197,   0.014
      06MT28_1,   A08,   268,  2,   2980,    319,2,19940503,1339,-11.3350,  11.6658, 3335,    298.1,  10.4332,  34.9794,2,  34.9710,2,     15.2,2,    14.93,2,    35.40,2,    0.285,2,    0.167,2,   -0.010,4,    0.107,2, -999.000,9,   1.7600,2,     0.78,2,   7.412,   2254.4,2,   1692.1,2,    300,  0.0070,   0.250,   0.024,2, 10.3975,-999.000
      06MT28_1,   A08,   268,  2,   2979,    318,2,19940503,1339,-11.3350,  11.6658, 3335,    396.5,   8.1906,  34.7423,2,-999.0000,9,     24.0,2,    19.41,2,    39.21,2,    0.063,2,    0.039,2,   -0.010,4,    0.073,2,    0.057,2,   1.7570,2,     0.59,2,   7.630,   2264.2,2,   1892.0,2,    399,  0.0060,   0.240,   0.024,2,  8.1495,   0.007
      06MT28_1,   A08,   268,  2,   2978,    317,2,19940503,1339,-11.3350,  11.6658, 3335,    497.0,   6.8919,  34.6278,2,-999.0000,9,     38.4,2,    21.31,2,    39.85,2,    0.027,2,    0.019,2,   -0.010,4,    0.059,2, -999.000,9,-999.0000,9,  -999.00,9,-999.000,   2262.2,2,   1863.5,2,    500,-999.0000,-999.000,-999.000,9,  6.8450,-999.000
      06MT28_1,   A08,   268,  2,   2977,    316,2,19940503,1339,-11.3350,  11.6658, 3335,    595.4,   5.9898,  34.5661,2,  34.5666,2,     61.6,2,    25.60,2,    39.64,2,    0.010,2,    0.004,2,   -0.010,4,    0.040,2,    0.020,2,   1.7680,6,     0.52,6,   7.624,   2255.2,2,   1741.1,2,    599,  0.0070,   0.250,   0.025,6,  5.9374,   0.006
      06MT28_1,   A08,   268,  2,   2976,    315,2,19940503,1339,-11.3350,  11.6658, 3335,    695.5,   5.1795,  34.5193,2,-999.0000,9,     87.6,2,    28.83,2,    38.57,2,    0.004,2,    0.000,2,   -0.010,4,    0.023,2, -999.000,9,-999.0000,9,  -999.00,9,-999.000,   2246.3,2,   1605.8,2,    700,-999.0000,-999.000,-999.000,9,  5.1221,-999.000
      06MT28_1,   A08,   268,  2,   2975,    314,2,19940503,1339,-11.3350,  11.6658, 3335,    845.3,   4.5486,  34.5249,2,-999.0000,9,    111.8,2,    32.53,2,    36.44,2,    0.002,2,    0.000,2,   -0.010,4,    0.015,2,    0.013,2,   1.7790,2,     2.64,2,   7.738,   2240.0,2,   1454.9,2,    850,  0.0070,   0.240,   0.025,2,  4.4821,   0.004
      06MT28_1,   A08,   268,  2,   3027,    313,2,19940503,1339,-11.3350,  11.6658, 3335,   1193.6,   4.0328,  34.7369,2,-999.0000,9,    153.8,2,    31.33,2,    29.62,2,    0.001,2,    0.000,2,   -0.010,4,    0.007,2, -999.000,9,   1.7990,2,     1.83,2,   7.853,   2220.0,2,   1173.4,2,   1198,  0.0070,   0.250,   0.026,2,  3.9400,-999.000
      06MT28_1,   A08,   268,  2,   3026,    312,2,19940503,1339,-11.3350,  11.6658, 3335,   1395.4,   3.8928,  34.8601,2,-999.0000,9,    183.3,2,    26.54,2,    25.40,2,    0.002,2,    0.000,2,   -0.010,4,    0.009,2,    0.013,2,   1.7940,2,     2.25,2,   7.796,   2199.4,2,   1024.4,2,   1399,  0.0070,   0.240,   0.025,2,  3.7835,   0.007
      06MT28_1,   A08,   268,  2,   3025,    311,2,19940503,1339,-11.3350,  11.6658, 3335,   1596.2,   3.7374,  34.9072,2,-999.0000,9,    198.5,2,    25.57,2,    23.29,2,    0.002,2,    0.000,2,   -0.011,4,    0.009,2, -999.000,9,   1.8070,2,     1.81,2,   7.864,   2190.8,2,    924.9,2,   1600,  0.0070,   0.250,   0.026,2,  3.6117,-999.000
      06MT28_1,   A08,   268,  2,   3024,    310,2,19940503,1339,-11.3350,  11.6658, 3335,   1795.9,   3.5631,  34.9300,2,-999.0000,9,    208.4,2,    25.83,2,    22.03,2,    0.003,2,    0.000,2,   -0.011,4,    0.012,2,    0.005,2,-999.0000,9,  -999.00,9,-999.000,   2184.4,2,    881.4,2,   1799,-999.0000,-999.000,-999.000,9,  3.4213,   0.008
      06MT28_1,   A08,   268,  2,   3023,    309,2,19940503,1339,-11.3350,  11.6658, 3335,   1996.6,   3.3518,  34.9319,2,  34.9048,4,    210.5,2,    28.46,2,    21.82,2, -999.000,9, -999.000,9, -999.000,9, -999.000,9, -999.000,9,-999.0000,9,  -999.00,9,-999.000,   2186.6,2,    857.0,2,   1999,-999.0000,-999.000,-999.000,9,  3.1944,-999.000
      06MT28_1,   A08,   268,  2,   3022,    308,2,19940503,1339,-11.3350,  11.6658, 3335,   2248.2,   3.0945,  34.9265,2,-999.0000,9,    213.9,2,    32.51,2,    21.80,2,    0.005,2,    0.000,2,   -0.011,4,    0.008,2, -999.000,9,   1.7550,3,     3.14,2,   7.648,   2189.4,2,    863.6,2,   2250,  0.0070,   0.250,   0.025,3,  2.9174,-999.000
      06MT28_1,   A08,   268,  2,   3021,    307,2,19940503,1339,-11.3350,  11.6658, 3335,   2498.6,   2.9033,  34.9195,2,-999.0000,9,    214.4,2,    35.79,2,    21.77,2,    0.002,2,    0.000,2,   -0.011,4,    0.003,2,    0.000,2,   1.8050,2,     3.45,2,   7.873,   2192.6,2,    841.4,2,   2499,  0.0070,   0.240,   0.025,2,  2.7054,   0.007
      06MT28_1,   A08,   268,  2,   3020,    306,2,19940503,1339,-11.3350,  11.6658, 3335,   2749.5,   2.7226,  34.9124,2,-999.0000,9,    216.0,2,    39.44,2,    21.94,2, -999.000,9, -999.000,9, -999.000,9, -999.000,9, -999.000,9,-999.0000,9,  -999.00,9,-999.000,   2196.8,2,    846.6,2,   2749,-999.0000,-999.000,-999.000,9,  2.5034,-999.000
      06MT28_1,   A08,   268,  2,   3019,    305,2,19940503,1339,-11.3350,  11.6658, 3335,   3000.5,   2.5921,  34.9054,2,  34.8980,2,    216.0,2,    42.89,2,    22.01,2,    0.001,2,    0.000,2,   -0.011,4,    0.003,2,   -0.003,2,   1.8100,2,     2.34,2,   7.900,   2200.2,2,    854.6,2,   3000,  0.0070,   0.240,   0.025,2,  2.3502,   0.036
      06MT28_1,   A08,   268,  2,   3018,    304,2,19940503,1339,-11.3350,  11.6658, 3335,   3250.8,   2.5100,  34.9014,2,-999.0000,9,    213.1,2,    45.67,2,    22.08,2,    0.001,2,    0.000,2,   -0.011,4,    0.003,2, -999.000,9,   1.8330,2,     3.46,2,   7.986,   2206.4,2,    851.5,2,   3249,  0.0070,   0.250,   0.026,2,  2.2440,-999.000
      06MT28_1,   A08,   268,  2,   3017,    303,2,19940503,1339,-11.3350,  11.6658, 3335,   3322.6,   2.4824,  34.8989,2,-999.0000,9,    210.8,2,    47.45,2,    22.17,2,    0.001,2,    0.000,2,   -0.011,4,    0.002,2, -999.000,9,-999.0000,9,  -999.00,9,-999.000,   2209.6,2,    881.9,2,   3321,-999.0000,-999.000,-999.000,9,  2.2095,-999.000
      06MT28_1,   A08,   268,  2,   3016,    301,2,19940503,1339,-11.3350,  11.6658, 3335,   3354.0,   2.4664,  34.8973,2,-999.0000,9,    210.5,2,    47.78,2,    22.31,2,    0.000,2,    0.000,2,   -0.011,4,    0.003,2,    0.008,2,   1.8340,6,     2.77,6,   8.022,   2211.2,2,    865.5,6,   3352,  0.0070,   0.250,   0.026,6,  2.1905,   0.006
      06MT28_1,   A08,   268,  2,   3015,    302,2,19940503,1339,-11.3350,  11.6658, 3335,   3354.3,   2.4660,  34.8975,2,  34.8903,2,    208.9,2,    47.35,2,    22.31,2, -999.000,9, -999.000,9, -999.000,9, -999.000,9, -999.000,9,-999.0000,9,  -999.00,9,-999.000,   2213.1,2,    871.5,2,   3352,-999.0000,-999.000,-999.000,9,  2.1901,-999.000
      06MT28_1,   A08,   269,  1,   3014,    211,2,19940503,1719,-11.3338,  11.9997, 2654,      1.2,  27.8078,  35.8080,2,  35.7942,4,    197.2,2,     0.58,2,     0.00,2, -999.000,9, -999.000,9, -999.000,9, -999.000,9, -999.000,9,-999.0000,9,  -999.00,9,-999.000,   -999.0,9,   -999.0,9,      1,-999.0000,-999.000,-999.000,9, 27.8075,-999.000
      06MT28_1,   A08,   269,  1,   3068,    210,2,19940503,1719,-11.3338,  11.9997, 2654,     39.5,  17.1747,  35.6968,2,-999.0000,9,     62.3,2,     5.56,2,    20.52,2, -999.000,9, -999.000,9, -999.000,9, -999.000,9, -999.000,9,-999.0000,9,  -999.00,9,-999.000,   -999.0,9,   -999.0,9,     40,-999.0000,-999.000,-999.000,9, 17.1682,-999.000
      06MT28_1,   A08,   269,  1,   3067,    209,2,19940503,1719,-11.3338,  11.9997, 2654,     59.7,  16.0260,  35.6236,2,-999.0000,9,     51.0,2,     6.90,2,    23.05,2, -999.000,9, -999.000,9, -999.000,9, -999.000,9, -999.000,9,-999.0000,9,  -999.00,9,-999.000,   -999.0,9,   -999.0,9,     60,-999.0000,-999.000,-999.000,9, 16.0165,-999.000
      06MT28_1,   A08,   269,  1,   3064,    208,2,19940503,1719,-11.3338,  11.9997, 2654,     79.9,  15.4625,  35.5645,2,  35.5658,2,     37.5,2,     7.62,2,    25.25,2, -999.000,9, -999.000,9, -999.000,9, -999.000,9, -999.000,9,-999.0000,9,  -999.00,9,-999.000,   -999.0,9,   -999.0,9,     80,-999.0000,-999.000,-999.000,9, 15.4502,-999.000
      06MT28_1,   A08,   269,  1,   3063,    207,2,19940503,1719,-11.3338,  11.9997, 2654,     80.1,  15.4583,  35.5637,2,  35.5620,2,   -999.0,9,  -999.00,9,  -999.00,9, -999.000,9, -999.000,9, -999.000,9, -999.000,9, -999.000,9,-999.0000,9,  -999.00,9,-999.000,   -999.0,9,   -999.0,9,     80,-999.0000,-999.000,-999.000,9, 15.4460,-999.000