BOTTLE,20220817CCHSIOAMB
EXPOCODE,SECT_ID,STNNBR,CASTNO,SAMPNO,BTLNBR,BTLNBR_FLAG_W,DATE,TIME,LATITUDE,LONGITUDE,DEPTH,CTDPRS,CTDTMP,CTDSAL,CTDSAL_FLAG_W,SALNTY,SALNTY_FLAG_W,OXYGEN,OXYGEN_FLAG_W,SILCAT,SILCAT_FLAG_W,NO2+NO3,NO2+NO3_FLAG_W,CFC-11,CFC-11_FLAG_W,CFC-12,CFC-12_FLAG_W,CFC113,CFC113_FLAG_W,CCL4,CCL4_FLAG_W,TRITUM,TRITUM_FLAG_W,HELIUM,HELIUM_FLAG_W,DELHE3,DELHE3_FLAG_W,NEON,TCARBN,TCARBN_FLAG_W,PCO2,PCO2_FLAG_W,CTDRAW,HELIER,DELHER,NEONER,NEON_FLAG_W,THETA,TRITER
,,,,,,,,,,,,DBAR,ITS-90,PSS-78,,PSS-78,,UMOL/KG,,UMOL/KG,,UMOL/KG,,PMOL/KG,,PMOL/KG,,PMOL/KG,,PMOL/KG,,TU,,NMOL/KG,,PERCNT,,NMOL/KG,UMOL/KG,,UATM,,,NMOL/KG,PERCNT,NMOL/KG,,ITS-90,TU
      06MT28_1,   A08,   176,  2,    383,    321,2,19940403,0809,-10.5673, -35.0617, 4000,     13.8,  28.7391,  37.0072,2,  37.0066,2,    192.0,2,     0.96,2,     0.00,2,    1.437,2,    0.845,2,    0.118,4,    1.546,2,    0.903,2,-999.0000,9,    -0.77,2,-999.000,   2038.5,2,    430.1,6,     10,-999.0000,   0.240,-999.000,9, 28.7357,   0.024
      06MT28_1,   A08,   176,  2,    432,    320,2,19940403,0809,-10.5673, -35.0617, 4000,    746.5,   4.6631,  34.4404,2,-999.0000,9,    157.2,2,    28.16,2,    31.88,2, -999.000,9, -999.000,9, -999.000,9, -999.000,9, -999.000,9,-999.0000,9,  -999.00,9,-999.000,   2212.9,2,   1152.6,2,    750,-999.0000,-999.000,-999.000,9,  4.6043,-999.000
      06MT28_1,   A08,   176,  2,    430,    319,2,19940403,0809,-10.5673, -35.0617, 4000,    821.7,   4.2454,  34.4399,2,-999.0000,9,    164.2,2,    31.20,2,    31.58,2,    0.113,2,    0.061,2,    0.002,2,    0.436,2,    0.043,2,   1.7960,2,     2.89,2,   7.789,   2210.9,2,   1126.6,2,    826,  0.0070,   0.240,   0.025,2,  4.1829,   0.005
      06MT28_1,   A08,   176,  2,    429,    318,2,19940403,0809,-10.5673, -35.0617, 4000,    920.6,   3.9519,  34.4800,2,-999.0000,9,    167.9,2,    33.95,2,    31.28,2,    0.065,2,    0.037,2,    0.001,2,    0.311,2, -999.000,9,   1.8200,2,     3.42,2,   7.890,   2213.7,2,   1116.7,2,    925,  0.0070,   0.240,   0.025,2,  3.8832,-999.000
      06MT28_1,   A08,   176,  2,    428,    317,2,19940403,0809,-10.5673, -35.0617, 4000,   1095.9,   4.0213,  34.6234,2,  34.6253,2,    167.4,2,    31.64,2,    29.63,2,    0.015,2,    0.009,2,    0.002,2,    0.105,2, -999.000,9,   1.8100,2,     2.41,2,   7.850,   2213.4,2,   1084.4,2,   1100,  0.0070,   0.240,   0.025,2,  3.9372,-999.000
      06MT28_1,   A08,   176,  2,    427,    316,2,19940403,0809,-10.5673, -35.0617, 4000,   1295.7,   4.2069,  34.7885,2,-999.0000,9,    181.8,2,    25.51,2,    26.27,2,    0.012,2,    0.007,2,    0.005,2,    0.079,2,    0.073,2,   1.8040,2,     2.24,2,   7.819,   2202.5,2,    978.4,2,   1299,  0.0070,   0.240,   0.025,2,  4.1034,   0.027
      06MT28_1,   A08,   176,  2,    426,    315,2,19940403,0809,-10.5673, -35.0617, 4000,   1496.9,   4.2657,  34.9302,2,-999.0000,9,    210.0,2,    18.64,2,    21.59,2,    0.045,2,    0.027,2,    0.008,2,    0.248,2,    0.121,2,   1.7930,2,     2.00,2,   7.769,   2181.1,2,    840.6,2,   1500,  0.0070,   0.240,   0.025,2,  4.1429,   0.005
      06MT28_1,   A08,   176,  2,    425,    314,2,19940403,0809,-10.5673, -35.0617, 4000,   1697.2,   3.8951,  34.9579,2,-999.0000,9,    228.4,2,    18.05,2,    19.57,2,    0.053,2,    0.029,2,    0.007,2,    0.277,2,    0.105,2,   1.8100,2,     1.66,2,   7.897,   2170.1,2,    783.5,2,   1700,  0.0070,   0.250,   0.026,2,  3.7580,   0.005
      06MT28_1,   A08,   176,  2,    424,    313,2,19940403,0809,-10.5673, -35.0617, 4000,   1897.0,   3.6235,  34.9695,2,-999.0000,9,    239.2,2,    17.94,2,    18.42,2,    0.056,2,    0.035,2,    0.014,2,    0.325,2,    0.122,2,   1.8020,2,     2.51,2,   7.827,   2166.3,2,    755.5,2,   1899,  0.0070,   0.240,   0.025,2,  3.4714,   0.006
      06MT28_1,   A08,   176,  2,    423,    312,2,19940403,0809,-10.5673, -35.0617, 4000,   2098.5,   3.3500,  34.9580,2,  34.9581,2,    241.5,2,    20.30,2,    18.49,2,    0.043,2,    0.027,2,    0.013,2,    0.272,2,    0.088,2,   1.8050,2,     2.95,2,   7.863,   2170.4,2,    755.6,2,   2100,  0.0070,   0.240,   0.025,2,  3.1829,   0.005
      06MT28_1,   A08,   176,  2,    422,    311,2,19940403,0809,-10.5673, -35.0617, 4000,   2349.3,   3.0933,  34.9435,2,-999.0000,9,    240.1,2,    24.16,2,    18.76,2,    0.033,2,    0.018,2,    0.025,2,    0.173,2,    0.050,2,   1.8200,2,     2.28,2,   7.903,   2172.6,2,    757.6,2,   2350,  0.0070,   0.240,   0.025,2,  2.9064,   0.045
      06MT28_1,   A08,   176,  2,    421,    310,2,19940403,0809,-10.5673, -35.0617, 4000,   2600.7,   2.9124,  34.9332,2,-999.0000,9,    239.5,2,    26.78,2,    18.93,2,    0.028,2,    0.018,2,    0.011,2,    0.153,2,    0.042,2,   3.7140,4,     2.38,2,  14.273,   2177.4,2,    769.3,6,   2600,  0.0140,   0.240,   0.045,4,  2.7042,   0.008
      06MT28_1,   A08,   176,  2,    420,    309,2,19940403,0809,-10.5673, -35.0617, 4000,   2852.6,   2.7761,  34.9239,2,-999.0000,9,    238.6,2,    29.11,2,    19.09,2,    0.047,3,    0.028,3,    0.011,2,    0.144,2, -999.000,9,   1.8210,2,     3.10,2,   7.957,   2178.1,2,    768.7,2,   2851,  0.0070,   0.240,   0.025,2,  2.5454,-999.000
      06MT28_1,   A08,   176,  2,    419,    308,2,19940403,0809,-10.5673, -35.0617, 4000,   3102.5,   2.6897,  34.9198,2,  34.9201,2,    240.5,2,    29.18,2,    18.89,2,    0.057,3,    0.064,3,    0.010,2,    0.149,2,    0.096,2,   1.8190,6,     3.00,6,   7.949,   2174.9,2,   -999.0,9,   3100,  0.0070,   0.250,   0.026,6,  2.4351,   0.176
      06MT28_1,   A08,   176,  2,    418,    307,2,19940403,0809,-10.5673, -35.0617, 4000,   3353.8,   2.5712,  34.9128,2,-999.0000,9,    242.3,2,    30.28,2,    18.77,2,    0.030,2,    0.017,2,    0.027,2,    0.179,2,    0.071,2,   1.8250,2,     2.99,2,   7.969,   2175.7,2,    761.9,2,   3351,  0.0070,   0.240,   0.025,2,  2.2928,   0.004
      06MT28_1,   A08,   176,  2,    416,    306,2,19940403,0809,-10.5673, -35.0617, 4000,   3605.0,   2.3525,  34.8930,2,-999.0000,9,    239.8,2,    36.37,2,    19.41,2,    0.035,2,    0.020,2,    0.010,2,    0.192,2,    0.067,2,   1.8290,2,     3.38,2,   8.003,   2182.8,2,    775.2,2,   3601,  0.0070,   0.240,   0.025,2,  2.0525,   0.006
      06MT28_1,   A08,   176,  2,    415,    305,2,19940403,0809,-10.5673, -35.0617, 4000,   3855.0,   1.6911,  34.8218,2,-999.0000,9,    226.6,2,    62.97,2,    23.34,2,    0.050,2,    0.033,2,    0.015,2,    0.089,2,    0.021,2,   1.8380,2,     4.93,2,   8.023,   2212.5,2,    863.5,2,   3851,  0.0070,   0.240,   0.026,2,  1.3817,   0.002
      06MT28_1,   A08,   176,  2,    414,    304,2,19940403,0809,-10.5673, -35.0617, 4000,   3866.0,   1.6646,  34.8183,2,-999.0000,9,    226.0,2,    64.38,2,    23.53,2,    0.010,2,    0.001,2,    0.009,2,    0.067,2,    0.015,2,   1.8410,2,     4.65,2,   8.028,   2211.9,2,    870.2,2,   3862,  0.0070,   0.240,   0.026,2,  1.3549,   0.002
      06MT28_1,   A08,   176,  2,    411,    303,2,19940403,0809,-10.5673, -35.0617, 4000,   3966.8,   1.4569,  34.7953,2,-999.0000,9,    221.5,2,    73.05,2,    24.74,2,    0.005,2,    0.004,2,    0.006,2,    0.063,2,    0.013,2,   1.8400,2,     5.09,2,   8.062,   2222.8,2,    899.3,2,   3962,  0.0070,   0.240,   0.026,2,  1.1421,   0.002
      06MT28_1,   A08,   176,  2,    410,    301,2,19940403,0809,-10.5673, -35.0617, 4000,   3997.3,   1.4421,  34.7920,2,  34.7899,2,    216.9,2,    73.89,2,    24.79,2,    0.007,2,    0.003,2,    0.007,2,    0.066,2,    0.018,2,   1.8530,6,     5.06,6,   8.084,   2223.2,2,    907.4,6,   3993,  0.0070,   0.250,   0.027,6,  1.1244,   0.002
      06MT28_1,   A08,   176,  2,    401,    302,2,19940403,0809,-10.5673, -35.0617, 4000,   3997.5,   1.4419,  34.7921,2,  34.7922,2,    216.7,2,    73.84,2,    24.88,2,    0.005,2,    0.004,2,    0.004,2,    0.062,2,    0.024,2,   1.8470,2,     5.48,2,   8.072,   2223.1,2,    908.2,2,   3993,  0.0070,   0.240,   0.026,2,  1.1242,   0.012
      06MT28_1,   A08,   177,  1,    470,    217,2,19940403,1214,-10.6638, -34.9332, 4000,     10.3,  28.7922,  37.1084,2,  37.1100,2,    191.5,2,     0.77,2,     0.00,4, -999.000,9, -999.000,9, -999.000,9, -999.000,9, -999.000,9,-999.0000,9,  -999.00,9,-999.000,   -999.0,9,   -999.0,9,     10,-999.0000,-999.000,-999.000,9, 28.7897,-999.000
      06MT28_1,   A08,   177,  1,    471,    218,2,19940403,1214,-10.6638, -34.9332, 4000,     10.3,  28.7922,  37.1084,2,-999.0000,9,   -999.0,9,  -999.00,9,  -999.00,9, -999.000,9, -999.000,9, -999.000,9, -999.000,9, -999.000,9,-999.0000,9,  -999.00,9,-999.000,   -999.0,9,   -999.0,9,     10,-999.0000,-999.000,-999.000,9, 28.7897,-999.000
      06MT28_1,   A08,   177,  1,    468,    216,2,19940403,1214,-10.6638, -34.9332, 4000,     30.6,  28.8068,  37.1256,2,-999.0000,9,    191.4,2,     0.86,2,     0.00,4, -999.000,9, -999.000,9, -999.000,9, -999.000,9, -999.000,9,-999.0000,9,  -999.00,9,-999.000,   -999.0,9,   -999.0,9,     30,-999.0000,-999.000,-999.000,9, 28.7994,-999.000
      06MT28_1,   A08,   177,  1,    467,    215,2,19940403,1214,-10.6638, -34.9332, 4000,     50.5,  28.8744,  37.1887,2,-999.0000,9,    191.0,2,     0.86,2,     0.00,4, -999.000,9, -999.000,9, -999.000,9, -999.000,9, -999.000,9,-999.0000,9,  -999.00,9,-999.000,   -999.0,9,   -999.0,9,     50,-999.0000,-999.000,-999.000,9, 28.8622,-999.000
      06MT28_1,   A08,   177,  1,    466,    214,2,19940403,1214,-10.6638, -34.9332, 4000,     69.7,  27.7160,  37.1494,2,-999.0000,9,    202.6,2,     0.77,2,     0.00,4, -999.000,9, -999.000,9, -999.000,9, -999.000,9, -999.000,9,-999.0000,9,  -999.00,9,-999.000,   -999.0,9,   -999.0,9,     69,-999.0000,-999.000,-999.000,9, 27.6996,-999.000
      06MT28_1,   A08,   177,  1,    465,    213,2,19940403,1214,-10.6638, -34.9332, 4000,    100.5,  25.8133,  37.1069,2,-999.0000,9,    204.1,2,     0.77,2,     0.00,4, -999.000,9, -999.000,9, -999.000,9, -999.000,9, -999.000,9,-999.0000,9,  -999.00,9,-999.000,   -999.0,9,   -999.0,9,    100,-999.0000,-999.000,-999.000,9, 25.7908,-999.000
      06MT28_1,   A08,   177,  1,    464,    212,2,19940403,1214,-10.6638, -34.9332, 4000,    150.2,  22.6912,  36.7363,2,-999.0000,9,    196.9,2,     0.96,2,     0.29,2, -999.000,9, -999.000,9, -999.000,9, -999.000,9, -999.000,9,-999.0000,9,  -999.00,9,-999.000,   -999.0,9,   -999.0,9,    150,-999.0000,-999.000,-999.000,9, 22.6606,-999.000
      06MT28_1,   A08,   177,  1,    463,    211,2,19940403,1214,-10.6638, -34.9332, 4000,    200.5,  18.2729,  36.0364,2,-999.0000,9,    159.3,2,     2.49,2,     7.33,2, -999.000,9, -999.000,9, -999.000,9, -999.000,9, -999.000,9,-999.0000,9,  -999.00,9,-999.000,   -999.0,9,   -999.0,9,    200,-999.0000,-999.000,-999.000,9, 18.2378,-999.000
      06MT28_1,   A08,   177,  1,    461,    210,2,19940403,1214,-10.6638, -34.9332, 4000,    299.5,  11.7074,  35.0568,2,-999.0000,9,    141.5,2,     7.32,2,    18.90,2, -999.000,9, -999.000,9, -999.000,9, -999.000,9, -999.000,9,-999.0000,9,  -999.00,9,-999.000,   -999.0,9,   -999.0,9,    299,-999.0000,-999.000,-999.000,9, 11.6687,-999.000
      06MT28_1,   A08,   177,  2,    469,    324,2,19940403,1414,-10.6585, -34.9322, -999,     18.6,  28.8102,  37.1114,2,-999.0000,9,    194.5,2,     0.96,2,     0.00,4, -999.000,9, -999.000,9, -999.000,9, -999.000,9, -999.000,9,-999.0000,9,  -999.00,9,-999.000,   -999.0,9,   -999.0,9,     14,-999.0000,-999.000,-999.000,9, 28.8057,-999.000
      06MT28_1,   A08,   177,  2,    462,    323,2,19940403,1414,-10.6585, -34.9322, -999,    298.5,  12.0129,  35.1010,2,-999.0000,9,    141.9,2,     7.27,2,    18.76,2, -999.000,9, -999.000,9, -999.000,9, -999.000,9, -999.000,9,-999.0000,9,  -999.00,9,-999.000,   -999.0,9,   -999.0,9,    299,-999.0000,-999.000,-999.000,9, 11.9738,-999.000
      06MT28_1,   A08,   177,  2,    460,    322,2,19940403,1414,-10.6585, -34.9322, -999,    397.4,   8.6396,  34.7395,2,-999.0000,9,    130.4,2,    13.48,2,    26.87,2, -999.000,9, -999.000,9, -999.000,9, -999.000,9, -999.000,9,-999.0000,9,  -999.00,9,-999.000,   -999.0,9,   -999.0,9,    399,-999.0000,-999.000,-999.000,9,  8.5971,-999.000
      06MT28_1,   A08,   177,  2,    459,    321,2,19940403,1414,-10.6585, -34.9322, -999,    497.7,   6.6660,  34.5533,2,-999.0000,9,    140.2,2,    18.73,2,    30.39,2, -999.000,9, -999.000,9, -999.000,9, -999.000,9, -999.000,9,-999.0000,9,  -999.00,9,-999.000,   -999.0,9,   -999.0,9,    500,-999.0000,-999.000,-999.000,9,  6.6199,-999.000
      06MT28_1,   A08,   177,  2,    458,    320,2,19940403,1414,-10.6585, -34.9322, -999,    597.7,   5.7802,  34.4944,2,-999.0000,9,    143.4,2,    22.45,2,    31.91,2, -999.000,9, -999.000,9, -999.000,9, -999.000,9, -999.000,9,-999.0000,9,  -999.00,9,-999.000,   -999.0,9,   -999.0,9,    600,-999.0000,-999.000,-999.000,9,  5.7286,-999.000
      06MT28_1,   A08,   177,  2,    457,    319,2,19940403,1414,-10.6585, -34.9322, -999,    696.3,   5.0391,  34.4527,2,-999.0000,9,    150.4,2,    26.45,2,    32.56,2, -999.000,9, -999.000,9, -999.000,9, -999.000,9, -999.000,9,-999.0000,9,  -999.00,9,-999.000,   -999.0,9,   -999.0,9,    699,-999.0000,-999.000,-999.000,9,  4.9825,-999.000
      06MT28_1,   A08,   177,  2,    456,    318,2,19940403,1414,-10.6585, -34.9322, -999,    846.9,   4.1705,  34.4343,2,-999.0000,9,    170.1,2,    32.44,2,    31.96,2, -999.000,9, -999.000,9, -999.000,9, -999.000,9, -999.000,9,-999.0000,9,  -999.00,9,-999.000,   -999.0,9,   -999.0,9,    850,-999.0000,-999.000,-999.000,9,  4.1064,-999.000
      06MT28_1,   A08,   177,  2,    455,    317,2,19940403,1414,-10.6585, -34.9322, -999,    998.2,   3.9544,  34.5229,2,  34.5259,2,    165.9,2,    34.42,2,    31.46,2, -999.000,9, -999.000,9, -999.000,9, -999.000,9, -999.000,9,-999.0000,9,  -999.00,9,-999.000,   -999.0,9,   -999.0,9,   1001,-999.0000,-999.000,-999.000,9,  3.8792,-999.000
      06MT28_1,   A08,   177,  2,    454,    316,2,19940403,1414,-10.6585, -34.9322, -999,   1197.5,   4.1265,  34.7052,2,-999.0000,9,    172.5,2,    29.62,2,    28.76,2, -999.000,9, -999.000,9, -999.000,9, -999.000,9, -999.000,9,-999.0000,9,  -999.00,9,-999.000,   -999.0,9,   -999.0,9,   1200,-999.0000,-999.000,-999.000,9,  4.0326,-999.000
      06MT28_1,   A08,   177,  2,    453,    315,2,19940403,1414,-10.6585, -34.9322, -999,   1397.7,   4.0433,  34.8342,2,-999.0000,9,    192.5,2,    25.02,2,    25.12,2, -999.000,9, -999.000,9, -999.000,9, -999.000,9, -999.000,9,-999.0000,9,  -999.00,9,-999.000,   -999.0,9,   -999.0,9,   1400,-999.0000,-999.000,-999.000,9,  3.9322,-999.000
      06MT28_1,   A08,   177,  2,    452,    314,2,19940403,1414,-10.6585, -34.9322, -999,   1596.2,   4.1333,  34.9549,2,-999.0000,9,    221.9,2,    17.97,2,    20.72,2, -999.000,9, -999.000,9, -999.000,9, -999.000,9, -999.000,9,-999.0000,9,  -999.00,9,-999.000,   -999.0,9,   -999.0,9,   1598,-999.0000,-999.000,-999.000,9,  4.0027,-999.000
      06MT28_1,   A08,   177,  2,    451,    313,2,19940403,1414,-10.6585, -34.9322, -999,   1797.2,   3.7637,  34.9688,2,-999.0000,9,    236.1,2,    17.95,2,    19.09,2, -999.000,9, -999.000,9, -999.000,9, -999.000,9, -999.000,9,-999.0000,9,  -999.00,9,-999.000,   -999.0,9,   -999.0,9,   1799,-999.0000,-999.000,-999.000,9,  3.6190,-999.000
      06MT28_1,   A08,   177,  2,    450,    312,2,19940403,1414,-10.6585, -34.9322, -999,   1999.8,   3.5274,  34.9634,2,  34.9620,2,    239.6,2,    19.45,2,    18.88,2, -999.000,9, -999.000,9, -999.000,9, -999.000,9, -999.000,9,-999.0000,9,  -999.00,9,-999.000,   -999.0,9,   -999.0,9,   2001,-999.0000,-999.000,-999.000,9,  3.3669,-999.000
      06MT28_1,   A08,   177,  2,    449,    311,2,19940403,1414,-10.6585, -34.9322, -999,   2250.0,   3.2312,  34.9509,2,-999.0000,9,    241.4,2,    22.65,2,    18.96,2, -999.000,9, -999.000,9, -999.000,9, -999.000,9, -999.000,9,-999.0000,9,  -999.00,9,-999.000,   -999.0,9,   -999.0,9,   2250,-999.0000,-999.000,-999.000,9,  3.0515,-999.000
      06MT28_1,   A08,   177,  2,    436,    310,2,19940403,1414,-10.6585, -34.9322, -999,   2502.2,   2.9993,  34.9368,2,-999.0000,9,    239.3,2,    26.22,2,    19.22,2, -999.000,9, -999.000,9, -999.000,9, -999.000,9, -999.000,9,-999.0000,9,  -999.00,9,-999.000,   -999.0,9,   -999.0,9,   2502,-999.0000,-999.000,-999.000,9,  2.7992,-999.000
      06MT28_1,   A08,   177,  2,    507,    309,2,19940403,1414,-10.6585, -34.9322, -999,   2751.2,   2.8465,  34.9289,2,-999.0000,9,    239.0,2,    28.47,2,    19.39,2, -999.000,9, -999.000,9, -999.000,9, -999.000,9, -999.000,9,-999.0000,9,  -999.00,9,-999.000,   -999.0,9,   -999.0,9,   2750,-999.0000,-999.000,-999.000,9,  2.6246,-999.000
      06MT28_1,   A08,   177,  2,    508,    308,2,19940403,1414,-10.6585, -34.9322, -999,   3001.7,   2.7436,  34.9232,2,  34.9225,2,    240.4,2,    29.29,2,    19.27,2, -999.000,9, -999.000,9, -999.000,9, -999.000,9, -999.000,9,-999.0000,9,  -999.00,9,-999.000,   -999.0,9,   -999.0,9,   2999,-999.0000,-999.000,-999.000,9,  2.4983,-999.000
      06MT28_1,   A08,   177,  2,    506,    307,2,19940403,1414,-10.6585, -34.9322, -999,   3254.0,   2.6594,  34.9182,2,-999.0000,9,    240.6,2,    30.58,2,    19.25,2, -999.000,9, -999.000,9, -999.000,9, -999.000,9, -999.000,9,-999.0000,9,  -999.00,9,-999.000,   -999.0,9,   -999.0,9,   3251,-999.0000,-999.000,-999.000,9,  2.3895,-999.000
      06MT28_1,   A08,   177,  2,    505,    306,2,19940403,1414,-10.6585, -34.9322, -999,   3502.2,   2.5429,  34.9104,2,-999.0000,9,    241.4,2,    31.49,2,    19.14,2, -999.000,9, -999.000,9, -999.000,9, -999.000,9, -999.000,9,-999.0000,9,  -999.00,9,-999.000,   -999.0,9,   -999.0,9,   3498,-999.0000,-999.000,-999.000,9,  2.2491,-999.000
      06MT28_1,   A08,   177,  2,    504,    305,2,19940403,1414,-10.6585, -34.9322, -999,   3755.8,   2.2060,  34.8757,2,-999.0000,9,    236.7,2,    43.88,2,    20.81,2, -999.000,9, -999.000,9, -999.000,9, -999.000,9, -999.000,9,-999.0000,9,  -999.00,9,-999.000,   -999.0,9,   -999.0,9,   3751,-999.0000,-999.000,-999.000,9,  1.8934,-999.000
      06MT28_1,   A08,   177,  2,    503,    304,2,19940403,1414,-10.6585, -34.9322, -999,   4004.6,   1.4211,  34.7913,2,  34.7893,2,    221.2,2,    75.96,2,    25.35,2, -999.000,9, -999.000,9, -999.000,9, -999.000,9, -999.000,9,-999.0000,9,  -999.00,9,-999.000,   -999.0,9,   -999.0,9,   4000,-999.0000,-999.000,-999.000,9,  1.1032,-999.000
      06MT28_1,   A08,   177,  2,    502,    303,2,19940403,1414,-10.6585, -34.9322, -999,   4025.7,   1.3980,  34.7886,2,-999.0000,9,    220.3,2,    76.98,2,    25.58,2, -999.000,9, -999.000,9, -999.000,9, -999.000,9, -999.000,9,-999.0000,9,  -999.00,9,-999.000,   -999.0,9,   -999.0,9,   4021,-999.0000,-999.000,-999.000,9,  1.0785,-999.000
      06MT28_1,   A08,   177,  2,    501,    301,2,19940403,1414,-10.6585, -34.9322, -999,   4053.7,   1.2848,  34.7755,2,  34.7775,2,    218.4,2,    81.49,2,    26.19,2, -999.000,9, -999.000,9, -999.000,9, -999.000,9, -999.000,9,-999.0000,9,  -999.00,9,-999.000,   -999.0,9,   -999.0,9,   4049,-999.0000,-999.000,-999.000,9,  0.9656,-999.000
      06MT28_1,   A08,   177,  2,    500,    302,2,19940403,1414,-10.6585, -34.9322, -999,   4053.7,   1.2848,  34.7755,2,  34.7782,2,    218.3,2,    81.39,2,    26.14,2, -999.000,9, -999.000,9, -999.000,9, -999.000,9, -999.000,9,-999.0000,9,  -999.00,9,-999.000,   -999.0,9,   -999.0,9,   4049,-999.0000,-999.000,-999.000,9,  0.9656,-999.000