BOTTLE,20220817CCHSIOAMB
EXPOCODE,SECT_ID,STNNBR,CASTNO,SAMPNO,BTLNBR,BTLNBR_FLAG_W,DATE,TIME,LATITUDE,LONGITUDE,DEPTH,CTDPRS,CTDTMP,CTDSAL,CTDSAL_FLAG_W,SALNTY,SALNTY_FLAG_W,OXYGEN,OXYGEN_FLAG_W,SILCAT,SILCAT_FLAG_W,NO2+NO3,NO2+NO3_FLAG_W,CFC-11,CFC-11_FLAG_W,CFC-12,CFC-12_FLAG_W,CFC113,CFC113_FLAG_W,CCL4,CCL4_FLAG_W,TRITUM,TRITUM_FLAG_W,HELIUM,HELIUM_FLAG_W,DELHE3,DELHE3_FLAG_W,NEON,TCARBN,TCARBN_FLAG_W,PCO2,PCO2_FLAG_W,CTDRAW,HELIER,DELHER,NEONER,NEON_FLAG_W,THETA,TRITER
,,,,,,,,,,,,DBAR,ITS-90,PSS-78,,PSS-78,,UMOL/KG,,UMOL/KG,,UMOL/KG,,PMOL/KG,,PMOL/KG,,PMOL/KG,,PMOL/KG,,TU,,NMOL/KG,,PERCNT,,NMOL/KG,UMOL/KG,,UATM,,,NMOL/KG,PERCNT,NMOL/KG,,ITS-90,TU
      06MT28_1,   A08,   229,  2,   3240,    324,2,19940420,2318,-11.3325,  -8.5003, 4644,     15.5,  26.3631,  36.7367,2,  36.7372,2,    193.8,2,     1.06,2,     0.00,2, -999.000,9, -999.000,9, -999.000,9, -999.000,9, -999.000,9,-999.0000,9,  -999.00,9,-999.000,   -999.0,9,   -999.0,9,     12,-999.0000,-999.000,-999.000,9, 26.3596,-999.000
      06MT28_1,   A08,   229,  2,   3229,    323,2,19940420,2318,-11.3325,  -8.5003, 4644,    647.0,   5.9394,  34.5475,2,-999.0000,9,     88.6,2,    24.26,2,    37.06,2, -999.000,9, -999.000,9, -999.000,9, -999.000,9, -999.000,9,-999.0000,9,  -999.00,9,-999.000,   -999.0,9,   -999.0,9,    650,-999.0000,-999.000,-999.000,9,  5.8824,-999.000
      06MT28_1,   A08,   229,  2,   3227,    322,2,19940420,2318,-11.3325,  -8.5003, 4644,    746.4,   5.0868,  34.4927,2,-999.0000,9,    119.9,2,    27.49,2,    35.13,2, -999.000,9, -999.000,9, -999.000,9, -999.000,9, -999.000,9,-999.0000,9,  -999.00,9,-999.000,   -999.0,9,   -999.0,9,    750,-999.0000,-999.000,-999.000,9,  5.0255,-999.000
      06MT28_1,   A08,   229,  2,   3285,    321,2,19940420,2318,-11.3325,  -8.5003, 4644,    821.5,   4.5970,  34.4862,2,-999.0000,9,    135.5,2,    30.34,2,    34.16,2, -999.000,9, -999.000,9, -999.000,9, -999.000,9, -999.000,9,-999.0000,9,  -999.00,9,-999.000,   -999.0,9,   -999.0,9,    825,-999.0000,-999.000,-999.000,9,  4.5322,-999.000
      06MT28_1,   A08,   229,  2,   3284,    320,2,19940420,2318,-11.3325,  -8.5003, 4644,    922.4,   4.2590,  34.5186,2,-999.0000,9,    143.0,2,    32.71,2,    33.47,2, -999.000,9, -999.000,9, -999.000,9, -999.000,9, -999.000,9,-999.0000,9,  -999.00,9,-999.000,   -999.0,9,   -999.0,9,    926,-999.0000,-999.000,-999.000,9,  4.1879,-999.000
      06MT28_1,   A08,   229,  2,   3283,    319,2,19940420,2318,-11.3325,  -8.5003, 4644,   1096.8,   3.9628,  34.6513,2,  34.6505,2,    160.1,2,    32.30,2,    30.49,2, -999.000,9, -999.000,9, -999.000,9, -999.000,9, -999.000,9,-999.0000,9,  -999.00,9,-999.000,   -999.0,9,   -999.0,9,   1101,-999.0000,-999.000,-999.000,9,  3.8791,-999.000
      06MT28_1,   A08,   229,  2,   3282,    318,2,19940420,2318,-11.3325,  -8.5003, 4644,   1295.8,   3.8935,  34.8032,2,-999.0000,9,    182.2,2,    27.70,2,    26.37,2, -999.000,9, -999.000,9, -999.000,9, -999.000,9, -999.000,9,-999.0000,9,  -999.00,9,-999.000,   -999.0,9,   -999.0,9,   1299,-999.0000,-999.000,-999.000,9,  3.7930,-999.000
      06MT28_1,   A08,   229,  2,   3281,    317,2,19940420,2318,-11.3325,  -8.5003, 4644,   1496.9,   3.7833,  34.8762,2,  34.8753,2,    196.7,2,    25.58,2,    23.96,2, -999.000,9, -999.000,9, -999.000,9, -999.000,9, -999.000,9,-999.0000,9,  -999.00,9,-999.000,   -999.0,9,   -999.0,9,   1500,-999.0000,-999.000,-999.000,9,  3.6661,-999.000
      06MT28_1,   A08,   229,  2,   3280,    316,2,19940420,2318,-11.3325,  -8.5003, 4644,   1697.6,   3.5992,  34.9092,2,-999.0000,9,    209.3,2,    25.37,2,    22.33,2, -999.000,9, -999.000,9, -999.000,9, -999.000,9, -999.000,9,-999.0000,9,  -999.00,9,-999.000,   -999.0,9,   -999.0,9,   1700,-999.0000,-999.000,-999.000,9,  3.4660,-999.000
      06MT28_1,   A08,   229,  2,   3279,    315,2,19940420,2318,-11.3325,  -8.5003, 4644,   1897.3,   3.3991,  34.9222,2,-999.0000,9,    216.2,2,    26.86,2,    21.55,2, -999.000,9, -999.000,9, -999.000,9, -999.000,9, -999.000,9,-999.0000,9,  -999.00,9,-999.000,   -999.0,9,   -999.0,9,   1899,-999.0000,-999.000,-999.000,9,  3.2502,-999.000
      06MT28_1,   A08,   229,  2,   3278,    314,2,19940420,2318,-11.3325,  -8.5003, 4644,   2098.3,   3.1951,  34.9236,2,  34.9246,2,    220.0,2,    29.31,2,    21.15,2, -999.000,9, -999.000,9, -999.000,9, -999.000,9, -999.000,9,-999.0000,9,  -999.00,9,-999.000,   -999.0,9,   -999.0,9,   2100,-999.0000,-999.000,-999.000,9,  3.0305,-999.000
      06MT28_1,   A08,   229,  2,   3277,    313,2,19940420,2318,-11.3325,  -8.5003, 4644,   2349.7,   2.9966,  34.9179,2,-999.0000,9,    221.6,2,    32.68,2,    21.22,2, -999.000,9, -999.000,9, -999.000,9, -999.000,9, -999.000,9,-999.0000,9,  -999.00,9,-999.000,   -999.0,9,   -999.0,9,   2350,-999.0000,-999.000,-999.000,9,  2.8114,-999.000
      06MT28_1,   A08,   229,  2,   3276,    312,2,19940420,2318,-11.3325,  -8.5003, 4644,   2599.2,   2.8171,  34.9114,2,-999.0000,9,    221.3,2,    36.24,2,    21.39,2, -999.000,9, -999.000,9, -999.000,9, -999.000,9, -999.000,9,-999.0000,9,  -999.00,9,-999.000,   -999.0,9,   -999.0,9,   2599,-999.0000,-999.000,-999.000,9,  2.6109,-999.000
      06MT28_1,   A08,   229,  2,   3275,    311,2,19940420,2318,-11.3325,  -8.5003, 4644,   2850.5,   2.6568,  34.9024,2,-999.0000,9,    221.8,2,    39.70,2,    21.55,2, -999.000,9, -999.000,9, -999.000,9, -999.000,9, -999.000,9,-999.0000,9,  -999.00,9,-999.000,   -999.0,9,   -999.0,9,   2849,-999.0000,-999.000,-999.000,9,  2.4288,-999.000
      06MT28_1,   A08,   229,  2,   3274,    310,2,19940420,2318,-11.3325,  -8.5003, 4644,   3101.4,   2.5223,  34.8945,2,  34.8930,2,    220.9,2,    42.87,2,    21.72,2, -999.000,9, -999.000,9, -999.000,9, -999.000,9, -999.000,9,-999.0000,9,  -999.00,9,-999.000,   -999.0,9,   -999.0,9,   3100,-999.0000,-999.000,-999.000,9,  2.2716,-999.000
      06MT28_1,   A08,   229,  2,   3273,    309,2,19940420,2318,-11.3325,  -8.5003, 4644,   3354.2,   2.4518,  34.8910,2,-999.0000,9,    218.5,2,    44.62,2,    21.79,2, -999.000,9, -999.000,9, -999.000,9, -999.000,9, -999.000,9,-999.0000,9,  -999.00,9,-999.000,   -999.0,9,   -999.0,9,   3351,-999.0000,-999.000,-999.000,9,  2.1763,-999.000
      06MT28_1,   A08,   229,  2,   3272,    308,2,19940420,2318,-11.3325,  -8.5003, 4644,   3603.0,   2.4101,  34.8887,2,-999.0000,9,    220.3,2,    45.79,2,    21.77,2, -999.000,9, -999.000,9, -999.000,9, -999.000,9, -999.000,9,-999.0000,9,  -999.00,9,-999.000,   -999.0,9,   -999.0,9,   3600,-999.0000,-999.000,-999.000,9,  2.1088,-999.000
      06MT28_1,   A08,   229,  2,   3271,    307,2,19940420,2318,-11.3325,  -8.5003, 4644,   3853.4,   2.4021,  34.8882,2,-999.0000,9,    220.0,2,    46.22,2,    21.84,2, -999.000,9, -999.000,9, -999.000,9, -999.000,9, -999.000,9,-999.0000,9,  -999.00,9,-999.000,   -999.0,9,   -999.0,9,   3849,-999.0000,-999.000,-999.000,9,  2.0732,-999.000
      06MT28_1,   A08,   229,  2,   3270,    306,2,19940420,2318,-11.3325,  -8.5003, 4644,   4105.4,   2.4234,  34.8871,2,  34.8864,2,    219.3,2,    46.17,2,    21.72,2, -999.000,9, -999.000,9, -999.000,9, -999.000,9, -999.000,9,-999.0000,9,  -999.00,9,-999.000,   -999.0,9,   -999.0,9,   4101,-999.0000,-999.000,-999.000,9,  2.0652,-999.000
      06MT28_1,   A08,   229,  2,   3269,    305,2,19940420,2318,-11.3325,  -8.5003, 4644,   4354.7,   2.4508,  34.8881,2,-999.0000,9,    219.0,2,    46.40,2,    21.79,2, -999.000,9, -999.000,9, -999.000,9, -999.000,9, -999.000,9,-999.0000,9,  -999.00,9,-999.000,   -999.0,9,   -999.0,9,   4350,-999.0000,-999.000,-999.000,9,  2.0625,-999.000
      06MT28_1,   A08,   229,  2,   3268,    304,2,19940420,2318,-11.3325,  -8.5003, 4644,   4490.5,   2.4658,  34.8874,2,-999.0000,9,    219.1,2,    46.14,2,    21.73,2, -999.000,9, -999.000,9, -999.000,9, -999.000,9, -999.000,9,-999.0000,9,  -999.00,9,-999.000,   -999.0,9,   -999.0,9,   4486,-999.0000,-999.000,-999.000,9,  2.0607,-999.000
      06MT28_1,   A08,   229,  2,   3267,    303,2,19940420,2318,-11.3325,  -8.5003, 4644,   4556.0,   2.4712,  34.8870,2,-999.0000,9,    218.7,2,    46.18,2,    21.73,2, -999.000,9, -999.000,9, -999.000,9, -999.000,9, -999.000,9,-999.0000,9,  -999.00,9,-999.000,   -999.0,9,   -999.0,9,   4551,-999.0000,-999.000,-999.000,9,  2.0580,-999.000
      06MT28_1,   A08,   229,  2,   3266,    302,2,19940420,2318,-11.3325,  -8.5003, 4644,   4589.4,   2.4755,  34.8872,2,  34.8882,2,    218.0,2,    46.31,2,    21.73,2, -999.000,9, -999.000,9, -999.000,9, -999.000,9, -999.000,9,-999.0000,9,  -999.00,9,-999.000,   -999.0,9,   -999.0,9,   4584,-999.0000,-999.000,-999.000,9,  2.0581,-999.000
      06MT28_1,   A08,   229,  2,   3265,    301,2,19940420,2318,-11.3325,  -8.5003, 4644,   4589.9,   2.4754,  34.8871,2,  34.8874,2,    219.0,2,    46.13,2,    21.77,2, -999.000,9, -999.000,9, -999.000,9, -999.000,9, -999.000,9,-999.0000,9,  -999.00,9,-999.000,   -999.0,9,   -999.0,9,   4585,-999.0000,-999.000,-999.000,9,  2.0580,-999.000
      06MT28_1,   A08,   230,  1,   3261,    219,2,19940421,0439,-11.3325,  -7.9997, 4547,     10.4,  25.9849,  36.7302,2,  36.7291,2,    194.6,2,  -999.00,9,  -999.00,9, -999.000,9, -999.000,9, -999.000,9, -999.000,9, -999.000,9,-999.0000,9,    -1.30,2,-999.000,   -999.0,9,   -999.0,9,     10,-999.0000,   0.240,-999.000,9, 25.9826,-999.000
      06MT28_1,   A08,   230,  1,   3250,    218,2,19940421,0439,-11.3325,  -7.9997, 4547,     39.8,  25.9870,  36.7307,2,-999.0000,9,    195.0,2,     0.77,2,     0.00,2,    1.627,2,    0.949,2,    0.098,2,    1.822,2,    0.808,2,   1.6770,2,    -1.14,2,   6.601,   -999.0,9,   -999.0,9,     40,  0.0060,   0.240,   0.021,2, 25.9781,   0.030
      06MT28_1,   A08,   230,  1,   3321,    217,2,19940421,0439,-11.3325,  -7.9997, 4547,     59.7,  23.9060,  36.6404,2,-999.0000,9,    212.9,2,     0.48,2,     0.00,2,    1.876,2,    1.058,2,    0.107,2,    1.542,2,    1.330,2,   1.6880,2,    -1.66,2,   6.745,   -999.0,9,   -999.0,9,     60,  0.0060,   0.240,   0.021,2, 23.8934,   0.868
      06MT28_1,   A08,   230,  1,   3320,    216,2,19940421,0439,-11.3325,  -7.9997, 4547,     79.0,  21.5454,  36.4517,2,-999.0000,9,    214.3,2,     0.58,2,     0.00,2, -999.000,9, -999.000,9, -999.000,9, -999.000,9, -999.000,9,-999.0000,9,  -999.00,9,-999.000,   -999.0,9,   -999.0,9,     79,-999.0000,-999.000,-999.000,9, 21.5299,-999.000
      06MT28_1,   A08,   230,  1,   3319,    215,2,19940421,0439,-11.3325,  -7.9997, 4547,    119.4,  15.9580,  35.6875,2,-999.0000,9,    124.4,2,     4.22,2,    15.23,2,    1.693,2,    0.918,2,    0.086,2,    0.585,2,    0.651,2,-999.0000,9,  -999.00,9,-999.000,   -999.0,9,   -999.0,9,    120,-999.0000,-999.000,-999.000,9, 15.9390,   0.019
      06MT28_1,   A08,   230,  1,   3318,    214,2,19940421,0439,-11.3325,  -7.9997, 4547,    178.4,  12.3953,  35.2226,2,-999.0000,9,     62.5,2,     9.00,2,    26.72,2,    0.785,2,    0.432,2,    0.028,2,    0.194,2, -999.000,9,   1.7500,2,     1.39,2,   7.343,   -999.0,9,   -999.0,9,    179,  0.0070,   0.250,   0.024,2, 12.3715,-999.000
      06MT28_1,   A08,   230,  1,   3317,    213,2,19940421,0439,-11.3325,  -7.9997, 4547,    251.0,  10.6963,  35.0127,2,  35.0118,2,     65.2,2,    11.77,2,    30.15,2,    0.349,2,    0.200,2,    0.010,2,    0.122,2, -999.000,9,   1.7550,2,     1.36,2,   7.408,   -999.0,9,   -999.0,9,    251,  0.0060,   0.240,   0.024,2, 10.6658,-999.000
      06MT28_1,   A08,   230,  1,   3316,    211,2,19940421,0439,-11.3325,  -7.9997, 4547,    350.1,   9.3826,  34.8629,2,  34.8593,2,     65.6,2,    13.97,2,    31.66,2,    0.204,2,    0.120,2,    0.009,2,    0.140,2,    0.133,2,   1.7590,2,     1.34,2,   7.463,   -999.0,9,   -999.0,9,    350,  0.0060,   0.240,   0.024,2,  9.3433,   0.014
      06MT28_1,   A08,   230,  1,   3315,    212,2,19940421,0439,-11.3325,  -7.9997, 4547,    350.1,   9.3826,  34.8629,2,-999.0000,9,     64.8,2,    14.06,2,    31.76,2,    0.201,2,    0.118,2,    0.009,2,    0.139,2,    0.132,2,   1.7580,2,     1.33,2,   7.435,   -999.0,9,   -999.0,9,    350,  0.0070,   0.250,   0.025,2,  9.3433,   0.008
      06MT28_1,   A08,   230,  1,   3314,    210,2,19940421,0439,-11.3325,  -7.9997, 4547,    444.7,   8.1315,  34.7309,2,  34.7269,2,     76.8,2,    16.73,2,    33.27,2,    0.105,2,    0.068,2,    0.004,2,    0.152,2,    0.073,2,   1.7700,2,     0.98,2,   7.591,   -999.0,9,   -999.0,9,    444,  0.0070,   0.250,   0.025,2,  8.0855,   0.007
      06MT28_1,   A08,   230,  1,   3313,    209,2,19940421,0439,-11.3325,  -7.9997, 4547,    549.7,   7.0324,  34.6258,2,-999.0000,9,     88.3,2,    19.35,2,    34.16,2,    0.062,2,    0.040,2,    0.003,2,    0.168,2,    0.132,2,   1.7780,2,     1.17,2,   7.626,   -999.0,9,   -999.0,9,    550,  0.0070,   0.240,   0.024,2,  6.9797,   0.383
      06MT28_1,   A08,   230,  1,   3311,    208,2,19940421,0439,-11.3325,  -7.9997, 4547,    650.4,   5.9767,  34.5385,2,-999.0000,9,    109.2,2,    22.83,2,    34.19,2,    0.043,2,    0.026,2,    0.003,2,    0.193,2,    0.049,2,   1.8030,2,     0.83,2,   7.753,   -999.0,9,   -999.0,9,    651,  0.0070,   0.250,   0.026,2,  5.9193,   0.106
      06MT28_1,   A08,   230,  1,   3307,    207,2,19940421,0439,-11.3325,  -7.9997, 4547,    999.1,   4.0808,  34.5684,2,  34.5643,2,   -999.0,9,  -999.00,9,  -999.00,9, -999.000,9, -999.000,9, -999.000,9, -999.000,9, -999.000,9,-999.0000,9,  -999.00,9,-999.000,   -999.0,9,   -999.0,9,   1000,-999.0000,-999.000,-999.000,9,  4.0045,-999.000