BOTTLE,20220817CCHSIOAMB
EXPOCODE,SECT_ID,STNNBR,CASTNO,SAMPNO,BTLNBR,BTLNBR_FLAG_W,DATE,TIME,LATITUDE,LONGITUDE,DEPTH,CTDPRS,CTDTMP,CTDSAL,CTDSAL_FLAG_W,SALNTY,SALNTY_FLAG_W,OXYGEN,OXYGEN_FLAG_W,SILCAT,SILCAT_FLAG_W,NO2+NO3,NO2+NO3_FLAG_W,CFC-11,CFC-11_FLAG_W,CFC-12,CFC-12_FLAG_W,CFC113,CFC113_FLAG_W,CCL4,CCL4_FLAG_W,TRITUM,TRITUM_FLAG_W,HELIUM,HELIUM_FLAG_W,DELHE3,DELHE3_FLAG_W,NEON,TCARBN,TCARBN_FLAG_W,PCO2,PCO2_FLAG_W,CTDRAW,HELIER,DELHER,NEONER,NEON_FLAG_W,THETA,TRITER
,,,,,,,,,,,,DBAR,ITS-90,PSS-78,,PSS-78,,UMOL/KG,,UMOL/KG,,UMOL/KG,,PMOL/KG,,PMOL/KG,,PMOL/KG,,PMOL/KG,,TU,,NMOL/KG,,PERCNT,,NMOL/KG,UMOL/KG,,UATM,,,NMOL/KG,PERCNT,NMOL/KG,,ITS-90,TU
      06MT28_1,   A08,   185,  2,    848,    324,2,19940406,0618,-11.3298, -32.0013, 5053,     14.0,  28.7501,  37.1601,2,  37.1596,2,    193.0,2,     0.86,2,     0.10,2, -999.000,9, -999.000,9, -999.000,9, -999.000,9, -999.000,9,-999.0000,9,  -999.00,9,-999.000,   -999.0,9,   -999.0,9,     10,-999.0000,-999.000,-999.000,9, 28.7467,-999.000
      06MT28_1,   A08,   185,  2,    913,    323,2,19940406,0618,-11.3298, -32.0013, 5053,    696.4,   4.8328,  34.4229,2,-999.0000,9,    167.6,2,    26.83,2,    30.94,2, -999.000,9, -999.000,9, -999.000,9, -999.000,9, -999.000,9,-999.0000,9,  -999.00,9,-999.000,   -999.0,9,   -999.0,9,    699,-999.0000,-999.000,-999.000,9,  4.7773,-999.000
      06MT28_1,   A08,   185,  2,    912,    322,2,19940406,0618,-11.3298, -32.0013, 5053,    846.8,   4.1847,  34.4470,2,-999.0000,9,    165.8,2,    32.63,2,    31.77,2, -999.000,9, -999.000,9, -999.000,9, -999.000,9, -999.000,9,-999.0000,9,  -999.00,9,-999.000,   -999.0,9,   -999.0,9,    850,-999.0000,-999.000,-999.000,9,  4.1205,-999.000
      06MT28_1,   A08,   185,  2,    911,    321,2,19940406,0618,-11.3298, -32.0013, 5053,    996.5,   4.0266,  34.5078,2,  34.5087,2,    162.8,2,    34.13,2,    31.56,2, -999.000,9, -999.000,9, -999.000,9, -999.000,9, -999.000,9,-999.0000,9,  -999.00,9,-999.000,   -999.0,9,   -999.0,9,   1000,-999.0000,-999.000,-999.000,9,  3.9511,-999.000
      06MT28_1,   A08,   185,  2,    909,    320,2,19940406,0618,-11.3298, -32.0013, 5053,   1197.5,   4.0844,  34.6804,2,-999.0000,9,    171.9,2,    30.57,2,    28.67,2, -999.000,9, -999.000,9, -999.000,9, -999.000,9, -999.000,9,-999.0000,9,  -999.00,9,-999.000,   -999.0,9,   -999.0,9,   1201,-999.0000,-999.000,-999.000,9,  3.9909,-999.000
      06MT28_1,   A08,   185,  2,    908,    319,2,19940406,0618,-11.3298, -32.0013, 5053,   1398.7,   4.1845,  34.8177,2,-999.0000,9,    187.6,2,    25.12,2,    25.40,2, -999.000,9, -999.000,9, -999.000,9, -999.000,9, -999.000,9,-999.0000,9,  -999.00,9,-999.000,   -999.0,9,   -999.0,9,   1401,-999.0000,-999.000,-999.000,9,  4.0719,-999.000
      06MT28_1,   A08,   185,  2,    907,    318,2,19940406,0618,-11.3298, -32.0013, 5053,   1599.0,   4.1685,  34.9311,2,-999.0000,9,    214.4,2,    19.49,2,    21.39,2, -999.000,9, -999.000,9, -999.000,9, -999.000,9, -999.000,9,-999.0000,9,  -999.00,9,-999.000,   -999.0,9,   -999.0,9,   1601,-999.0000,-999.000,-999.000,9,  4.0373,-999.000
      06MT28_1,   A08,   185,  2,    906,    317,2,19940406,0618,-11.3298, -32.0013, 5053,   1798.5,   3.8402,  34.9718,2,-999.0000,9,    236.4,2,    17.47,2,    18.80,2, -999.000,9, -999.000,9, -999.000,9, -999.000,9, -999.000,9,-999.0000,9,  -999.00,9,-999.000,   -999.0,9,   -999.0,9,   1800,-999.0000,-999.000,-999.000,9,  3.6943,-999.000
      06MT28_1,   A08,   185,  2,    905,    316,2,19940406,0618,-11.3298, -32.0013, 5053,   1997.7,   3.3341,  34.9600,2,  34.9612,2,    220.9,2,    20.59,2,    18.31,2, -999.000,9, -999.000,9, -999.000,9, -999.000,9, -999.000,9,-999.0000,9,  -999.00,9,-999.000,   -999.0,9,   -999.0,9,   1999,-999.0000,-999.000,-999.000,9,  3.1767,-999.000
      06MT28_1,   A08,   185,  2,    904,    315,2,19940406,0618,-11.3298, -32.0013, 5053,   2248.2,   3.0039,  34.9400,2,-999.0000,9,    242.3,2,    25.40,2,    18.77,2, -999.000,9, -999.000,9, -999.000,9, -999.000,9, -999.000,9,-999.0000,9,  -999.00,9,-999.000,   -999.0,9,   -999.0,9,   2248,-999.0000,-999.000,-999.000,9,  2.8282,-999.000
      06MT28_1,   A08,   185,  2,    903,    314,2,19940406,0618,-11.3298, -32.0013, 5053,   2498.2,   2.8462,  34.9323,2,-999.0000,9,    241.7,2,    27.45,2,    18.93,2, -999.000,9, -999.000,9, -999.000,9, -999.000,9, -999.000,9,-999.0000,9,  -999.00,9,-999.000,   -999.0,9,   -999.0,9,   2498,-999.0000,-999.000,-999.000,9,  2.6493,-999.000
      06MT28_1,   A08,   185,  2,    887,    313,2,19940406,0618,-11.3298, -32.0013, 5053,   2749.7,   2.7270,  34.9245,2,-999.0000,9,    241.7,2,    29.22,2,    18.91,2, -999.000,9, -999.000,9, -999.000,9, -999.000,9, -999.000,9,-999.0000,9,  -999.00,9,-999.000,   -999.0,9,   -999.0,9,   2748,-999.0000,-999.000,-999.000,9,  2.5076,-999.000
      06MT28_1,   A08,   185,  2,    963,    312,2,19940406,0618,-11.3298, -32.0013, 5053,   3002.2,   2.6261,  34.9181,2,  34.9150,2,    242.1,2,    30.32,2,    18.89,2, -999.000,9, -999.000,9, -999.000,9, -999.000,9, -999.000,9,-999.0000,9,  -999.00,9,-999.000,   -999.0,9,   -999.0,9,   3000,-999.0000,-999.000,-999.000,9,  2.3833,-999.000
      06MT28_1,   A08,   185,  2,    964,    311,2,19940406,0618,-11.3298, -32.0013, 5053,   3252.4,   2.5448,  34.9120,2,-999.0000,9,    243.3,2,    31.33,2,    18.87,2, -999.000,9, -999.000,9, -999.000,9, -999.000,9, -999.000,9,-999.0000,9,  -999.00,9,-999.000,   -999.0,9,   -999.0,9,   3249,-999.0000,-999.000,-999.000,9,  2.2778,-999.000
      06MT28_1,   A08,   185,  2,    962,    310,2,19940406,0618,-11.3298, -32.0013, 5053,   3506.7,   2.4038,  34.9006,2,-999.0000,9,    242.2,2,    34.69,2,    19.14,2, -999.000,9, -999.000,9, -999.000,9, -999.000,9, -999.000,9,-999.0000,9,  -999.00,9,-999.000,   -999.0,9,   -999.0,9,   3503,-999.0000,-999.000,-999.000,9,  2.1131,-999.000
      06MT28_1,   A08,   185,  2,    961,    309,2,19940406,0618,-11.3298, -32.0013, 5053,   3754.2,   2.1579,  34.8745,2,-999.0000,9,    238.9,2,    44.35,2,    20.43,2, -999.000,9, -999.000,9, -999.000,9, -999.000,9, -999.000,9,-999.0000,9,  -999.00,9,-999.000,   -999.0,9,   -999.0,9,   3749,-999.0000,-999.000,-999.000,9,  1.8467,-999.000
      06MT28_1,   A08,   185,  2,    960,    308,2,19940406,0618,-11.3298, -32.0013, 5053,   4006.6,   1.7206,  34.8241,2,  34.8223,2,    227.9,2,    63.96,2,    23.33,2, -999.000,9, -999.000,9, -999.000,9, -999.000,9, -999.000,9,-999.0000,9,  -999.00,9,-999.000,   -999.0,9,   -999.0,9,   4001,-999.0000,-999.000,-999.000,9,  1.3938,-999.000
      06MT28_1,   A08,   185,  2,    959,    307,2,19940406,0618,-11.3298, -32.0013, 5053,   4257.2,   1.1724,  34.7632,2,-999.0000,9,    217.3,2,    86.16,2,    26.40,2, -999.000,9, -999.000,9, -999.000,9, -999.000,9, -999.000,9,-999.0000,9,  -999.00,9,-999.000,   -999.0,9,   -999.0,9,   4252,-999.0000,-999.000,-999.000,9,  0.8342,-999.000
      06MT28_1,   A08,   185,  2,    958,    306,2,19940406,0618,-11.3298, -32.0013, 5053,   4506.2,   0.9390,  34.7381,2,-999.0000,9,    212.6,2,    95.37,2,    27.60,2, -999.000,9, -999.000,9, -999.000,9, -999.000,9, -999.000,9,-999.0000,9,  -999.00,9,-999.000,   -999.0,9,   -999.0,9,   4500,-999.0000,-999.000,-999.000,9,  0.5805,-999.000
      06MT28_1,   A08,   185,  2,    957,    305,2,19940406,0618,-11.3298, -32.0013, 5053,   4755.7,   0.7857,  34.7209,2,-999.0000,9,    210.4,2,   101.74,2,    28.41,2, -999.000,9, -999.000,9, -999.000,9, -999.000,9, -999.000,9,-999.0000,9,  -999.00,9,-999.000,   -999.0,9,   -999.0,9,   4750,-999.0000,-999.000,-999.000,9,  0.4038,-999.000
      06MT28_1,   A08,   185,  2,    956,    304,2,19940406,0618,-11.3298, -32.0013, 5053,   5013.3,   0.5942,  34.6990,2,-999.0000,9,    208.1,2,   109.36,2,    29.46,2, -999.000,9, -999.000,9, -999.000,9, -999.000,9, -999.000,9,-999.0000,9,  -999.00,9,-999.000,   -999.0,9,   -999.0,9,   5007,-999.0000,-999.000,-999.000,9,  0.1892,-999.000
      06MT28_1,   A08,   185,  2,    955,    303,2,19940406,0618,-11.3298, -32.0013, 5053,   5086.3,   0.5494,  34.6944,2,-999.0000,9,    206.3,2,   110.26,2,    29.50,2, -999.000,9, -999.000,9, -999.000,9, -999.000,9, -999.000,9,-999.0000,9,  -999.00,9,-999.000,   -999.0,9,   -999.0,9,   5080,-999.0000,-999.000,-999.000,9,  0.1374,-999.000
      06MT28_1,   A08,   185,  2,    954,    301,2,19940406,0618,-11.3298, -32.0013, 5053,   5117.7,   0.5256,  34.6912,2,-999.0000,9,   -999.0,9,  -999.00,9,  -999.00,9, -999.000,9, -999.000,9, -999.000,9, -999.000,9, -999.000,9,-999.0000,9,  -999.00,9,-999.000,   -999.0,9,   -999.0,9,   5111,-999.0000,-999.000,-999.000,9,  0.1107,-999.000
      06MT28_1,   A08,   185,  2,    953,    302,2,19940406,0618,-11.3298, -32.0013, 5053,   5117.7,   0.5256,  34.6912,2,  34.6882,2,    203.5,2,   112.02,3,    29.82,2, -999.000,9, -999.000,9, -999.000,9, -999.000,9, -999.000,9,-999.0000,9,  -999.00,9,-999.000,   -999.0,9,   -999.0,9,   5111,-999.0000,-999.000,-999.000,9,  0.1107,-999.000
      06MT28_1,   A08,   186,  1,    952,    222,2,19940406,1309,-11.3318, -31.3328, 5224,     10.3,  28.5115,  36.9291,2,-999.0000,9,   -999.0,9,  -999.00,9,  -999.00,9,    1.889,4,    1.048,4,    0.144,2,    1.005,4, -999.000,9,-999.0000,9,  -999.00,9,-999.000,   -999.0,9,   -999.0,9,      9,-999.0000,-999.000,-999.000,9, 28.5090,-999.000
      06MT28_1,   A08,   186,  1,    950,    221,2,19940406,1309,-11.3318, -31.3328, 5224,     30.6,  28.5890,  37.0185,2,-999.0000,9,    192.4,2,     0.67,2,     0.00,4, -999.000,9, -999.000,9, -999.000,9, -999.000,9,    0.887,2,   1.7130,2,    -1.85,2,   6.701,   2046.1,2,    444.7,2,     30,  0.0060,   0.240,   0.021,3, 28.5816,   0.026
      06MT28_1,   A08,   186,  1,    949,    220,2,19940406,1309,-11.3318, -31.3328, 5224,     50.4,  28.3706,  37.0725,2,-999.0000,9,    194.7,2,     0.67,2,     0.00,4,    1.483,2,    0.878,2,    0.162,2,    1.597,2,    0.867,2,   1.7170,3,    -0.92,3,   6.687,   2052.8,2,    445.8,2,     49,  0.0150,   0.240,   0.055,3, 28.3586,   0.023
      06MT28_1,   A08,   186,  1,    948,    219,2,19940406,1309,-11.3318, -31.3328, 5224,     72.6,  26.2058,  37.0914,2,-999.0000,9,    209.9,2,     0.67,2,     0.00,4,    1.705,2,    0.983,2,    0.242,4,    1.279,2,    0.817,2,   1.7120,2,    -1.42,2,   6.762,   2066.8,2,    474.8,2,     72,  0.0060,   0.240,   0.022,3, 26.1894,   0.027
      06MT28_1,   A08,   186,  1,    947,    218,2,19940406,1309,-11.3318, -31.3328, 5224,    100.4,  24.7539,  37.0162,2,-999.0000,9,    210.7,2,     0.77,2,     0.00,4,    1.760,2,    1.004,2,    0.296,4,    1.279,2,    0.879,2,   1.7120,2,    -1.37,2,   6.813,   2074.6,2,    501.5,2,    100,  0.0060,   0.240,   0.022,3, 24.7321,   0.024
      06MT28_1,   A08,   186,  1,    946,    217,2,19940406,1309,-11.3318, -31.3328, 5224,    149.5,  22.6940,  36.7086,2,-999.0000,9,    202.1,2,     0.86,2,     0.00,4, -999.000,9, -999.000,9, -999.000,9, -999.000,9,    0.849,2,   1.7280,3,    -1.10,3,   6.905,   2088.6,2,    559.9,2,    149,  0.0150,   0.240,   0.056,3, 22.6636,   0.023
      06MT28_1,   A08,   186,  1,    945,    216,2,19940406,1309,-11.3318, -31.3328, 5224,    200.5,  17.9910,  35.9744,2,-999.0000,9,    175.0,2,     2.20,2,     5.84,2,    1.995,2,    1.078,2,    0.100,2,    0.727,2,    0.859,2,   1.7430,2,    -0.60,2,   7.111,   2114.1,2,    749.0,2,    200,  0.0060,   0.240,   0.023,3, 17.9563,   0.026
      06MT28_1,   A08,   186,  1,    944,    215,2,19940406,1309,-11.3318, -31.3328, 5224,    300.6,  11.1675,  35.0404,2,-999.0000,9,    102.6,2,     9.76,2,    24.50,2,    0.722,2,    0.393,2,    0.014,2,    0.249,2,    0.381,2,   1.7480,2,     1.29,2,   7.377,   2188.9,2,   1510.4,2,    300,  0.0070,   0.250,   0.024,2, 11.1298,   0.098
      06MT28_1,   A08,   186,  1,    943,    214,2,19940406,1309,-11.3318, -31.3328, 5224,    399.6,   8.2904,  34.7093,2,-999.0000,9,    126.4,2,    14.44,2,    27.92,2,    0.424,2,    0.234,2,    0.006,2,    0.446,2,    0.187,2,   1.7810,2,     1.25,2,   7.601,   2194.9,2,   1652.1,2,    399,  0.0070,   0.250,   0.025,2,  8.2488,   0.035
      06MT28_1,   A08,   186,  1,    940,    213,2,19940406,1309,-11.3318, -31.3328, 5224,    500.3,   6.5744,  34.5503,2,-999.0000,9,    141.0,2,    19.02,2,    30.30,2,    0.308,2,    0.172,2,    0.011,2,    0.572,2, -999.000,9,   1.7760,2,     0.85,2,   7.707,   2200.4,2,   1759.2,2,    500,  0.0070,   0.240,   0.025,2,  6.5285,-999.000
      06MT28_1,   A08,   186,  1,    926,    212,2,19940406,1309,-11.3318, -31.3328, 5224,    599.8,   5.6542,  34.4802,2,-999.0000,9,    148.6,2,    22.74,2,    31.52,2,    0.225,2,    0.125,2,    0.008,2,    0.561,2, -999.000,9,   1.7860,2,     1.20,2,   7.705,   2204.4,2,   1799.7,2,    600,  0.0070,   0.250,   0.025,2,  5.6030,-999.000
      06MT28_1,   A08,   186,  1,   1001,    211,2,19940406,1309,-11.3318, -31.3328, 5224,    699.3,   4.9690,  34.4479,2,-999.0000,9,    153.2,2,    26.69,2,    32.32,2,    0.113,2,    0.064,2,    0.004,2,    0.419,2,    0.045,2,   1.7820,2,     1.77,2,   7.745,   2209.0,2,   1830.5,2,    700,  0.0070,   0.240,   0.025,2,  4.9125,   0.005
      06MT28_1,   A08,   186,  1,   1000,    210,2,19940406,1309,-11.3318, -31.3328, 5224,    848.6,   4.1625,  34.4397,2,-999.0000,9,    166.5,2,    32.82,2,    31.72,2,    0.117,2,    0.065,2,    0.026,2,    0.427,2,    0.031,2,   1.7990,6,     2.85,6,   7.840,   2209.0,2,   1790.3,6,    849,  0.0070,   0.250,   0.026,6,  4.0983,   0.005
      06MT28_1,   A08,   186,  1,    998,    209,2,19940406,1309,-11.3318, -31.3328, 5224,    999.7,   3.8539,  34.5059,2,-999.0000,9,   -999.0,9,  -999.00,9,  -999.00,9, -999.000,9, -999.000,9, -999.000,9, -999.000,9, -999.000,9,-999.0000,9,  -999.00,9,-999.000,   -999.0,9,   -999.0,9,   1001,-999.0000,-999.000,-999.000,9,  3.7793,-999.000