BOTTLE,20220817CCHSIOAMB
EXPOCODE,SECT_ID,STNNBR,CASTNO,SAMPNO,BTLNBR,BTLNBR_FLAG_W,DATE,TIME,LATITUDE,LONGITUDE,DEPTH,CTDPRS,CTDTMP,CTDSAL,CTDSAL_FLAG_W,SALNTY,SALNTY_FLAG_W,OXYGEN,OXYGEN_FLAG_W,SILCAT,SILCAT_FLAG_W,NO2+NO3,NO2+NO3_FLAG_W,CFC-11,CFC-11_FLAG_W,CFC-12,CFC-12_FLAG_W,CFC113,CFC113_FLAG_W,CCL4,CCL4_FLAG_W,TRITUM,TRITUM_FLAG_W,HELIUM,HELIUM_FLAG_W,DELHE3,DELHE3_FLAG_W,NEON,TCARBN,TCARBN_FLAG_W,PCO2,PCO2_FLAG_W,CTDRAW,HELIER,DELHER,NEONER,NEON_FLAG_W,THETA,TRITER
,,,,,,,,,,,,DBAR,ITS-90,PSS-78,,PSS-78,,UMOL/KG,,UMOL/KG,,UMOL/KG,,PMOL/KG,,PMOL/KG,,PMOL/KG,,PMOL/KG,,TU,,NMOL/KG,,PERCNT,,NMOL/KG,UMOL/KG,,UATM,,,NMOL/KG,PERCNT,NMOL/KG,,ITS-90,TU
      06MT28_1,   A08,   278,  1,   3471,    209,2,19940505,0240,-11.0005,  11.5000, 3400,     10.2,  27.1134,  36.2004,2,  36.2940,4,   -999.0,9,  -999.00,9,  -999.00,9, -999.000,9, -999.000,9, -999.000,9, -999.000,9, -999.000,9,-999.0000,9,  -999.00,9,-999.000,   -999.0,9,   -999.0,9,     10,-999.0000,-999.000,-999.000,9, 27.1111,-999.000
      06MT28_1,   A08,   278,  1,   3470,    207,2,19940505,0240,-11.0005,  11.5000, 3400,   1000.2,   4.1718,  34.5963,2,  34.5937,2,   -999.0,9,  -999.00,9,  -999.00,9, -999.000,9, -999.000,9, -999.000,9, -999.000,9, -999.000,9,-999.0000,9,  -999.00,9,-999.000,   -999.0,9,   -999.0,9,   1002,-999.0000,-999.000,-999.000,9,  4.0947,-999.000
      06MT28_1,   A08,   279,  1,   3469,    218,2,19940505,0618,-11.0003,  11.0005, 3855,      8.7,  25.7879,  36.1995,2,-999.0000,9,   -999.0,9,  -999.00,9,  -999.00,9, -999.000,9, -999.000,9, -999.000,9, -999.000,9, -999.000,9,-999.0000,9,  -999.00,9,-999.000,   -999.0,9,   -999.0,9,      8,-999.0000,-999.000,-999.000,9, 25.7859,-999.000
      06MT28_1,   A08,   279,  1,   3468,    217,2,19940505,0618,-11.0003,  11.0005, 3855,      9.2,  25.7725,  36.2013,2,-999.0000,9,   -999.0,9,  -999.00,9,  -999.00,9, -999.000,9, -999.000,9, -999.000,9, -999.000,9, -999.000,9,-999.0000,9,  -999.00,9,-999.000,   -999.0,9,   -999.0,9,      9,-999.0000,-999.000,-999.000,9, 25.7704,-999.000
      06MT28_1,   A08,   279,  1,   3467,    213,2,19940505,0618,-11.0003,  11.0005, 3855,    150.5,  14.1666,  35.4178,2,-999.0000,9,   -999.0,9,  -999.00,9,  -999.00,9, -999.000,9, -999.000,9, -999.000,9, -999.000,9, -999.000,9,-999.0000,9,  -999.00,9,-999.000,   -999.0,9,   -999.0,9,    150,-999.0000,-999.000,-999.000,9, 14.1446,-999.000
      06MT28_1,   A08,   279,  1,   3465,    215,2,19940505,0618,-11.0003,  11.0005, 3855,    150.6,  14.1670,  35.4165,2,-999.0000,9,   -999.0,9,  -999.00,9,  -999.00,9, -999.000,9, -999.000,9, -999.000,9, -999.000,9, -999.000,9,-999.0000,9,  -999.00,9,-999.000,   -999.0,9,   -999.0,9,    150,-999.0000,-999.000,-999.000,9, 14.1450,-999.000
      06MT28_1,   A08,   279,  1,   3466,    214,2,19940505,0618,-11.0003,  11.0005, 3855,    150.6,  14.1678,  35.4166,2,-999.0000,9,   -999.0,9,  -999.00,9,  -999.00,9, -999.000,9, -999.000,9, -999.000,9, -999.000,9, -999.000,9,-999.0000,9,  -999.00,9,-999.000,   -999.0,9,   -999.0,9,    150,-999.0000,-999.000,-999.000,9, 14.1458,-999.000
      06MT28_1,   A08,   279,  1,   3464,    216,2,19940505,0618,-11.0003,  11.0005, 3855,    150.7,  14.1636,  35.4158,2,-999.0000,9,   -999.0,9,  -999.00,9,  -999.00,9, -999.000,9, -999.000,9, -999.000,9, -999.000,9, -999.000,9,-999.0000,9,  -999.00,9,-999.000,   -999.0,9,   -999.0,9,    151,-999.0000,-999.000,-999.000,9, 14.1416,-999.000
      06MT28_1,   A08,   279,  1,   3462,    212,2,19940505,0618,-11.0003,  11.0005, 3855,    999.5,   4.1678,  34.5949,2,-999.0000,9,   -999.0,9,  -999.00,9,  -999.00,9, -999.000,9, -999.000,9, -999.000,9, -999.000,9, -999.000,9,-999.0000,9,  -999.00,9,-999.000,   -999.0,9,   -999.0,9,   1001,-999.0000,-999.000,-999.000,9,  4.0908,-999.000
      06MT28_1,   A08,   279,  1,   3516,    211,2,19940505,0618,-11.0003,  11.0005, 3855,    999.6,   4.1684,  34.5942,2,  34.5950,2,   -999.0,9,  -999.00,9,  -999.00,9, -999.000,9, -999.000,9, -999.000,9, -999.000,9, -999.000,9,-999.0000,9,  -999.00,9,-999.000,   -999.0,9,   -999.0,9,   1001,-999.0000,-999.000,-999.000,9,  4.0914,-999.000
      06MT28_1,   A08,   280,  1,   3509,    221,2,19940505,1010,-11.0000,  10.5020, 4046,      8.5,  26.3903,  35.9458,2,  35.9424,2,   -999.0,9,  -999.00,9,  -999.00,9, -999.000,9, -999.000,9, -999.000,9, -999.000,9, -999.000,9,-999.0000,9,  -999.00,9,-999.000,   -999.0,9,   -999.0,9,      8,-999.0000,-999.000,-999.000,9, 26.3884,-999.000
      06MT28_1,   A08,   280,  1,   3507,    220,2,19940505,1010,-11.0000,  10.5020, 4046,      8.8,  26.3441,  35.9702,2,-999.0000,9,   -999.0,9,  -999.00,9,  -999.00,9, -999.000,9, -999.000,9, -999.000,9, -999.000,9, -999.000,9,-999.0000,9,  -999.00,9,-999.000,   -999.0,9,   -999.0,9,      8,-999.0000,-999.000,-999.000,9, 26.3422,-999.000
      06MT28_1,   A08,   280,  1,   3506,    219,2,19940505,1010,-11.0000,  10.5020, 4046,    999.6,   4.1907,  34.5932,2,-999.0000,9,   -999.0,9,  -999.00,9,  -999.00,9, -999.000,9, -999.000,9, -999.000,9, -999.000,9, -999.000,9,-999.0000,9,  -999.00,9,-999.000,   -999.0,9,   -999.0,9,   1001,-999.0000,-999.000,-999.000,9,  4.1135,-999.000
      06MT28_1,   A08,   280,  1,   3505,    218,2,19940505,1010,-11.0000,  10.5020, 4046,   1001.3,   4.1910,  34.5932,2,  34.5940,2,   -999.0,9,  -999.00,9,  -999.00,9, -999.000,9, -999.000,9, -999.000,9, -999.000,9, -999.000,9,-999.0000,9,  -999.00,9,-999.000,   -999.0,9,   -999.0,9,   1001,-999.0000,-999.000,-999.000,9,  4.1136,-999.000
      06MT28_1,   A08,   281,  1,   3504,    210,2,19940505,1501,-11.6670,  10.5000, 3859,      8.6,  25.1458,  36.5585,2,  36.5619,2,   -999.0,9,  -999.00,9,  -999.00,9, -999.000,9, -999.000,9, -999.000,9, -999.000,9, -999.000,9,-999.0000,9,  -999.00,9,-999.000,   -999.0,9,   -999.0,9,      8,-999.0000,-999.000,-999.000,9, 25.1439,-999.000
      06MT28_1,   A08,   281,  1,   3503,    209,2,19940505,1501,-11.6670,  10.5000, 3859,      9.5,  25.0577,  36.5579,2,-999.0000,9,   -999.0,9,  -999.00,9,  -999.00,9, -999.000,9, -999.000,9, -999.000,9, -999.000,9, -999.000,9,-999.0000,9,  -999.00,9,-999.000,   -999.0,9,   -999.0,9,      9,-999.0000,-999.000,-999.000,9, 25.0556,-999.000
      06MT28_1,   A08,   281,  1,   3502,    208,2,19940505,1501,-11.6670,  10.5000, 3859,    998.2,   4.1688,  34.5944,2,  34.5944,2,   -999.0,9,  -999.00,9,  -999.00,9, -999.000,9, -999.000,9, -999.000,9, -999.000,9, -999.000,9,-999.0000,9,  -999.00,9,-999.000,   -999.0,9,   -999.0,9,   1000,-999.0000,-999.000,-999.000,9,  4.0919,-999.000
      06MT28_1,   A08,   281,  1,   3501,    207,2,19940505,1501,-11.6670,  10.5000, 3859,    998.8,   4.1675,  34.5943,2,-999.0000,9,   -999.0,9,  -999.00,9,  -999.00,9, -999.000,9, -999.000,9, -999.000,9, -999.000,9, -999.000,9,-999.0000,9,  -999.00,9,-999.000,   -999.0,9,   -999.0,9,   1000,-999.0000,-999.000,-999.000,9,  4.0905,-999.000
      06MT28_1,   A08,   282,  1,   3500,    213,2,19940505,1913,-11.6678,  10.9983, 3691,     10.6,  25.1997,  36.3080,2,  36.3464,4,   -999.0,9,  -999.00,9,  -999.00,9, -999.000,9, -999.000,9, -999.000,9, -999.000,9, -999.000,9,-999.0000,9,  -999.00,9,-999.000,   -999.0,9,   -999.0,9,     10,-999.0000,-999.000,-999.000,9, 25.1974,-999.000
      06MT28_1,   A08,   282,  1,   3498,    211,2,19940505,1913,-11.6678,  10.9983, 3691,    999.7,   4.1895,  34.5943,2,-999.0000,9,   -999.0,9,  -999.00,9,  -999.00,9, -999.000,9, -999.000,9, -999.000,9, -999.000,9, -999.000,9,-999.0000,9,  -999.00,9,-999.000,   -999.0,9,   -999.0,9,   1001,-999.0000,-999.000,-999.000,9,  4.1123,-999.000
      06MT28_1,   A08,   282,  1,   3499,    212,2,19940505,1913,-11.6678,  10.9983, 3691,    999.7,   4.1895,  34.5943,2,  34.5935,2,   -999.0,9,  -999.00,9,  -999.00,9, -999.000,9, -999.000,9, -999.000,9, -999.000,9, -999.000,9,-999.0000,9,  -999.00,9,-999.000,   -999.0,9,   -999.0,9,   1001,-999.0000,-999.000,-999.000,9,  4.1123,-999.000
      06MT28_1,   A08,   283,  1,   3496,    216,2,19940505,2347,-11.6678,  11.5005, 3519,     10.1,  27.4187,  35.9652,2,-999.0000,9,   -999.0,9,  -999.00,9,  -999.00,9, -999.000,9, -999.000,9, -999.000,9, -999.000,9, -999.000,9,-999.0000,9,  -999.00,9,-999.000,   -999.0,9,   -999.0,9,     10,-999.0000,-999.000,-999.000,9, 27.4164,-999.000
      06MT28_1,   A08,   283,  1,   3541,    214,2,19940505,2347,-11.6678,  11.5005, 3519,   1001.0,   4.2613,  34.5797,2,  34.5795,2,   -999.0,9,  -999.00,9,  -999.00,9, -999.000,9, -999.000,9, -999.000,9, -999.000,9, -999.000,9,-999.0000,9,  -999.00,9,-999.000,   -999.0,9,   -999.0,9,   1002,-999.0000,-999.000,-999.000,9,  4.1835,-999.000
      06MT28_1,   A08,   284,  1,   3542,    221,2,19940506,0417,-11.6685,  12.0015, 2173,      8.9,  26.9281,  35.6845,2,-999.0000,9,   -999.0,9,  -999.00,9,  -999.00,9, -999.000,9, -999.000,9, -999.000,9, -999.000,9, -999.000,9,-999.0000,9,  -999.00,9,-999.000,   -999.0,9,   -999.0,9,      8,-999.0000,-999.000,-999.000,9, 26.9261,-999.000
      06MT28_1,   A08,   284,  1,   3539,    220,2,19940506,0417,-11.6685,  12.0015, 2173,      9.6,  26.9287,  35.6838,2,  35.6822,2,   -999.0,9,  -999.00,9,  -999.00,9, -999.000,9, -999.000,9, -999.000,9, -999.000,9, -999.000,9,-999.0000,9,  -999.00,9,-999.000,   -999.0,9,   -999.0,9,      9,-999.0000,-999.000,-999.000,9, 26.9265,-999.000
      06MT28_1,   A08,   284,  1,   3538,    219,2,19940506,0417,-11.6685,  12.0015, 2173,   1000.2,   4.2710,  34.5875,2,-999.0000,9,   -999.0,9,  -999.00,9,  -999.00,9, -999.000,9, -999.000,9, -999.000,9, -999.000,9, -999.000,9,-999.0000,9,  -999.00,9,-999.000,   -999.0,9,   -999.0,9,   1001,-999.0000,-999.000,-999.000,9,  4.1931,-999.000
      06MT28_1,   A08,   284,  1,   3537,    218,2,19940506,0417,-11.6685,  12.0015, 2173,   1000.4,   4.2721,  34.5862,2,  34.5869,2,   -999.0,9,  -999.00,9,  -999.00,9, -999.000,9, -999.000,9, -999.000,9, -999.000,9, -999.000,9,-999.0000,9,  -999.00,9,-999.000,   -999.0,9,   -999.0,9,   1001,-999.0000,-999.000,-999.000,9,  4.1942,-999.000
      06MT28_1,   A08,   285,  1,   3536,    209,2,19940506,0834,-11.6690,  12.5005, 1991,      9.5,  27.4244,  36.1042,2,  36.0854,4,   -999.0,9,  -999.00,9,  -999.00,9, -999.000,9, -999.000,9, -999.000,9, -999.000,9, -999.000,9,-999.0000,9,  -999.00,9,-999.000,   -999.0,9,   -999.0,9,      9,-999.0000,-999.000,-999.000,9, 27.4222,-999.000
      06MT28_1,   A08,   285,  1,   3535,    207,2,19940506,0834,-11.6690,  12.5005, 1991,    999.9,   4.3127,  34.5711,2,-999.0000,9,   -999.0,9,  -999.00,9,  -999.00,9, -999.000,9, -999.000,9, -999.000,9, -999.000,9, -999.000,9,-999.0000,9,  -999.00,9,-999.000,   -999.0,9,   -999.0,9,   1001,-999.0000,-999.000,-999.000,9,  4.2346,-999.000
      06MT28_1,   A08,   285,  1,   3533,    208,2,19940506,0834,-11.6690,  12.5005, 1991,    999.9,   4.3060,  34.5722,2,  34.5714,2,   -999.0,9,  -999.00,9,  -999.00,9, -999.000,9, -999.000,9, -999.000,9, -999.000,9, -999.000,9,-999.0000,9,  -999.00,9,-999.000,   -999.0,9,   -999.0,9,   1001,-999.0000,-999.000,-999.000,9,  4.2279,-999.000
      06MT28_1,   A08,   286,  1,   3572,    217,2,19940506,1219,-11.6668,  12.8337, 1734,      9.6,  27.1349,  36.0453,2,  35.9874,4,   -999.0,9,  -999.00,9,  -999.00,9,    1.519,2,    0.893,2,    0.140,2,    1.388,2, -999.000,9,-999.0000,9,  -999.00,9,-999.000,   -999.0,9,   -999.0,9,      9,-999.0000,-999.000,-999.000,9, 27.1327,-999.000
      06MT28_1,   A08,   286,  1,   3570,    216,2,19940506,1219,-11.6668,  12.8337, 1734,     40.0,  17.9029,  35.7511,2,-999.0000,9,   -999.0,9,  -999.00,9,  -999.00,9,    1.383,2,    0.782,2,    0.054,2,    0.230,2, -999.000,9,-999.0000,9,  -999.00,9,-999.000,   -999.0,9,   -999.0,9,     40,-999.0000,-999.000,-999.000,9, 17.8960,-999.000
      06MT28_1,   A08,   286,  1,   3569,    215,2,19940506,1219,-11.6668,  12.8337, 1734,     79.6,  16.4714,  35.6634,2,-999.0000,9,   -999.0,9,  -999.00,9,  -999.00,9, -999.000,9, -999.000,9, -999.000,9, -999.000,9, -999.000,9,-999.0000,9,  -999.00,9,-999.000,   -999.0,9,   -999.0,9,     79,-999.0000,-999.000,-999.000,9, 16.4585,-999.000
      06MT28_1,   A08,   286,  1,   3568,    214,2,19940506,1219,-11.6668,  12.8337, 1734,    119.3,  15.1748,  35.5314,2,-999.0000,9,   -999.0,9,  -999.00,9,  -999.00,9,    1.034,6,    0.580,6,    0.031,6,    0.107,6, -999.000,9,-999.0000,9,  -999.00,9,-999.000,   -999.0,9,   -999.0,9,    119,-999.0000,-999.000,-999.000,9, 15.1566,-999.000
      06MT28_1,   A08,   286,  1,   3567,    213,2,19940506,1219,-11.6668,  12.8337, 1734,    149.1,  14.6347,  35.4795,2,-999.0000,9,   -999.0,9,  -999.00,9,  -999.00,9,    0.954,2,    0.525,2,    0.024,2,    0.113,2, -999.000,9,-999.0000,9,  -999.00,9,-999.000,   -999.0,9,   -999.0,9,    149,-999.0000,-999.000,-999.000,9, 14.6125,-999.000
      06MT28_1,   A08,   286,  1,   3566,    212,2,19940506,1219,-11.6668,  12.8337, 1734,    202.5,  13.7939,  35.3721,2,-999.0000,9,   -999.0,9,  -999.00,9,  -999.00,9,    0.798,2,    0.444,2,    0.021,4,    0.111,2, -999.000,9,-999.0000,9,  -999.00,9,-999.000,   -999.0,9,   -999.0,9,    202,-999.0000,-999.000,-999.000,9, 13.7648,-999.000
      06MT28_1,   A08,   286,  1,   3582,    211,2,19940506,1219,-11.6668,  12.8337, 1734,    202.5,  13.7889,  35.3720,2,-999.0000,9,   -999.0,9,  -999.00,9,  -999.00,9,    0.007,4,    0.001,4,    0.003,2,    0.009,4, -999.000,9,-999.0000,9,  -999.00,9,-999.000,   -999.0,9,   -999.0,9,    202,-999.0000,-999.000,-999.000,9, 13.7598,-999.000
      06MT28_1,   A08,   286,  1,   3602,    210,2,19940506,1219,-11.6668,  12.8337, 1734,    998.8,   4.2582,  34.5722,2,  34.5742,2,   -999.0,9,  -999.00,9,  -999.00,9, -999.000,9, -999.000,9, -999.000,9, -999.000,9, -999.000,9,-999.0000,9,  -999.00,9,-999.000,   -999.0,9,   -999.0,9,   1000,-999.0000,-999.000,-999.000,9,  4.1806,-999.000
      06MT28_1,   A08,   287,  1,   3599,    221,2,19940506,1706,-11.3340,  13.0832, 1032,     10.5,  27.6800,  35.7184,2,  35.7279,3,   -999.0,9,  -999.00,9,  -999.00,9, -999.000,9, -999.000,9, -999.000,9, -999.000,9, -999.000,9,-999.0000,9,  -999.00,9,-999.000,   -999.0,9,   -999.0,9,     10,-999.0000,-999.000,-999.000,9, 27.6776,-999.000
      06MT28_1,   A08,   287,  1,   3743,    219,2,19940506,1706,-11.3340,  13.0832, 1032,    929.6,   4.5070,  34.5501,2,  34.5514,2,   -999.0,9,  -999.00,9,  -999.00,9, -999.000,9, -999.000,9, -999.000,9, -999.000,9, -999.000,9,-999.0000,9,  -999.00,9,-999.000,   -999.0,9,   -999.0,9,    931,-999.0000,-999.000,-999.000,9,  4.4335,-999.000