BOTTLE,20220817CCHSIOAMB
EXPOCODE,SECT_ID,STNNBR,CASTNO,SAMPNO,BTLNBR,BTLNBR_FLAG_W,DATE,TIME,LATITUDE,LONGITUDE,DEPTH,CTDPRS,CTDTMP,CTDSAL,CTDSAL_FLAG_W,SALNTY,SALNTY_FLAG_W,OXYGEN,OXYGEN_FLAG_W,SILCAT,SILCAT_FLAG_W,NO2+NO3,NO2+NO3_FLAG_W,CFC-11,CFC-11_FLAG_W,CFC-12,CFC-12_FLAG_W,CFC113,CFC113_FLAG_W,CCL4,CCL4_FLAG_W,TRITUM,TRITUM_FLAG_W,HELIUM,HELIUM_FLAG_W,DELHE3,DELHE3_FLAG_W,NEON,TCARBN,TCARBN_FLAG_W,PCO2,PCO2_FLAG_W,CTDRAW,HELIER,DELHER,NEONER,NEON_FLAG_W,THETA,TRITER
,,,,,,,,,,,,DBAR,ITS-90,PSS-78,,PSS-78,,UMOL/KG,,UMOL/KG,,UMOL/KG,,PMOL/KG,,PMOL/KG,,PMOL/KG,,PMOL/KG,,TU,,NMOL/KG,,PERCNT,,NMOL/KG,UMOL/KG,,UATM,,,NMOL/KG,PERCNT,NMOL/KG,,ITS-90,TU
      06MT28_1,   A08,   215,  2,   2535,    324,2,19940416,2217,-11.3338, -14.9165, 3268,    179.5,  14.6662,  35.4822,2,  35.4650,4,    137.9,2,     4.90,2,    15.08,2, -999.000,9, -999.000,9, -999.000,9, -999.000,9, -999.000,9,-999.0000,9,  -999.00,9,-999.000,   -999.0,9,   -999.0,9,    180,-999.0000,-999.000,-999.000,9, 14.6393,-999.000
      06MT28_1,   A08,   215,  2,   2532,    323,2,19940416,2217,-11.3338, -14.9165, 3268,    250.0,  11.7037,  35.1361,2,-999.0000,9,     80.5,2,     9.77,2,    25.96,2, -999.000,9, -999.000,9, -999.000,9, -999.000,9, -999.000,9,-999.0000,9,  -999.00,9,-999.000,   -999.0,9,   -999.0,9,    251,-999.0000,-999.000,-999.000,9, 11.6715,-999.000
      06MT28_1,   A08,   215,  2,   2531,    322,2,19940416,2217,-11.3338, -14.9165, 3268,    348.5,   9.3214,  34.8504,2,-999.0000,9,     86.0,2,    13.59,2,    29.86,2, -999.000,9, -999.000,9, -999.000,9, -999.000,9, -999.000,9,-999.0000,9,  -999.00,9,-999.000,   -999.0,9,   -999.0,9,    351,-999.0000,-999.000,-999.000,9,  9.2825,-999.000
      06MT28_1,   A08,   215,  2,   2530,    321,2,19940416,2217,-11.3338, -14.9165, 3268,    447.3,   7.5412,  34.6611,2,-999.0000,9,    102.0,2,    17.70,2,    32.05,2, -999.000,9, -999.000,9, -999.000,9, -999.000,9, -999.000,9,-999.0000,9,  -999.00,9,-999.000,   -999.0,9,   -999.0,9,    450,-999.0000,-999.000,-999.000,9,  7.4970,-999.000
      06MT28_1,   A08,   215,  2,   2529,    320,2,19940416,2217,-11.3338, -14.9165, 3268,    547.2,   6.4560,  34.5611,2,-999.0000,9,    116.9,2,    20.55,2,    32.79,2, -999.000,9, -999.000,9, -999.000,9, -999.000,9, -999.000,9,-999.0000,9,  -999.00,9,-999.000,   -999.0,9,   -999.0,9,    551,-999.0000,-999.000,-999.000,9,  6.4060,-999.000
      06MT28_1,   A08,   215,  2,   2528,    319,2,19940416,2217,-11.3338, -14.9165, 3268,    646.8,   5.5950,  34.4958,2,-999.0000,9,    130.2,2,    23.98,2,    33.16,2, -999.000,9, -999.000,9, -999.000,9, -999.000,9, -999.000,9,-999.0000,9,  -999.00,9,-999.000,   -999.0,9,   -999.0,9,    650,-999.0000,-999.000,-999.000,9,  5.5398,-999.000
      06MT28_1,   A08,   215,  2,   2527,    318,2,19940416,2217,-11.3338, -14.9165, 3268,    745.9,   4.8545,  34.4669,2,-999.0000,9,    139.2,2,    28.36,2,    33.52,2, -999.000,9, -999.000,9, -999.000,9, -999.000,9, -999.000,9,-999.0000,9,  -999.00,9,-999.000,   -999.0,9,   -999.0,9,    750,-999.0000,-999.000,-999.000,9,  4.7946,-999.000
      06MT28_1,   A08,   215,  2,   2526,    317,2,19940416,2217,-11.3338, -14.9165, 3268,    820.1,   4.4703,  34.4782,2,-999.0000,9,    144.3,2,    31.12,2,    33.41,2, -999.000,9, -999.000,9, -999.000,9, -999.000,9, -999.000,9,-999.0000,9,  -999.00,9,-999.000,   -999.0,9,   -999.0,9,    824,-999.0000,-999.000,-999.000,9,  4.4065,-999.000
      06MT28_1,   A08,   215,  2,   2525,    316,2,19940416,2217,-11.3338, -14.9165, 3268,    921.3,   4.1729,  34.5084,2,-999.0000,9,    151.0,2,    33.11,2,    32.73,2, -999.000,9, -999.000,9, -999.000,9, -999.000,9, -999.000,9,-999.0000,9,  -999.00,9,-999.000,   -999.0,9,   -999.0,9,    925,-999.0000,-999.000,-999.000,9,  4.1025,-999.000
      06MT28_1,   A08,   215,  2,   2524,    315,2,19940416,2217,-11.3338, -14.9165, 3268,   1095.6,   3.9715,  34.6449,2,-999.0000,9,    165.4,2,    32.14,2,    29.95,2, -999.000,9, -999.000,9, -999.000,9, -999.000,9, -999.000,9,-999.0000,9,  -999.00,9,-999.000,   -999.0,9,   -999.0,9,   1100,-999.0000,-999.000,-999.000,9,  3.8878,-999.000
      06MT28_1,   A08,   215,  2,   2523,    314,2,19940416,2217,-11.3338, -14.9165, 3268,   1297.7,   4.0706,  34.7941,2,  34.7945,2,    180.6,2,    26.49,2,    26.49,2, -999.000,9, -999.000,9, -999.000,9, -999.000,9, -999.000,9,-999.0000,9,  -999.00,9,-999.000,   -999.0,9,   -999.0,9,   1301,-999.0000,-999.000,-999.000,9,  3.9683,-999.000
      06MT28_1,   A08,   215,  2,   2522,    313,2,19940416,2217,-11.3338, -14.9165, 3268,   1496.3,   4.0471,  34.8913,2,-999.0000,9,    200.9,2,    22.27,2,    23.13,2, -999.000,9, -999.000,9, -999.000,9, -999.000,9, -999.000,9,-999.0000,9,  -999.00,9,-999.000,   -999.0,9,   -999.0,9,   1500,-999.0000,-999.000,-999.000,9,  3.9269,-999.000
      06MT28_1,   A08,   215,  2,   2521,    312,2,19940416,2217,-11.3338, -14.9165, 3268,   1696.6,   3.8928,  34.9406,2,-999.0000,9,    218.1,2,    20.07,2,    20.83,2, -999.000,9, -999.000,9, -999.000,9, -999.000,9, -999.000,9,-999.0000,9,  -999.00,9,-999.000,   -999.0,9,   -999.0,9,   1700,-999.0000,-999.000,-999.000,9,  3.7559,-999.000
      06MT28_1,   A08,   215,  2,   2520,    311,2,19940416,2217,-11.3338, -14.9165, 3268,   1898.0,   3.5364,  34.9390,2,-999.0000,9,    224.9,2,    22.99,2,    20.33,2, -999.000,9, -999.000,9, -999.000,9, -999.000,9, -999.000,9,-999.0000,9,  -999.00,9,-999.000,   -999.0,9,   -999.0,9,   1900,-999.0000,-999.000,-999.000,9,  3.3855,-999.000
      06MT28_1,   A08,   215,  2,   2517,    310,2,19940416,2217,-11.3338, -14.9165, 3268,   2098.9,   3.0482,  34.9089,2,-999.0000,9,    223.7,2,    31.89,2,    21.07,2, -999.000,9, -999.000,9, -999.000,9, -999.000,9, -999.000,9,-999.0000,9,  -999.00,9,-999.000,   -999.0,9,   -999.0,9,   2101,-999.0000,-999.000,-999.000,9,  2.8859,-999.000
      06MT28_1,   A08,   215,  2,   2507,    309,2,19940416,2217,-11.3338, -14.9165, 3268,   2347.6,   2.8019,  34.9019,2,  34.9026,2,    224.3,2,    36.04,2,    21.24,2, -999.000,9, -999.000,9, -999.000,9, -999.000,9, -999.000,9,-999.0000,9,  -999.00,9,-999.000,   -999.0,9,   -999.0,9,   2349,-999.0000,-999.000,-999.000,9,  2.6203,-999.000
      06MT28_1,   A08,   215,  2,   2576,    308,2,19940416,2217,-11.3338, -14.9165, 3268,   2599.1,   2.6431,  34.8963,2,-999.0000,9,    224.4,2,    39.69,2,    21.41,2, -999.000,9, -999.000,9, -999.000,9, -999.000,9, -999.000,9,-999.0000,9,  -999.00,9,-999.000,   -999.0,9,   -999.0,9,   2599,-999.0000,-999.000,-999.000,9,  2.4403,-999.000
      06MT28_1,   A08,   215,  2,   2575,    307,2,19940416,2217,-11.3338, -14.9165, 3268,   2851.5,   2.5841,  34.8922,2,-999.0000,9,    223.2,2,    41.35,2,    21.58,2, -999.000,9, -999.000,9, -999.000,9, -999.000,9, -999.000,9,-999.0000,9,  -999.00,9,-999.000,   -999.0,9,   -999.0,9,   2851,-999.0000,-999.000,-999.000,9,  2.3576,-999.000
      06MT28_1,   A08,   215,  2,   2574,    306,2,19940416,2217,-11.3338, -14.9165, 3268,   3101.1,   2.5283,  34.8895,2,-999.0000,9,    223.1,2,    43.01,2,    21.55,2, -999.000,9, -999.000,9, -999.000,9, -999.000,9, -999.000,9,-999.0000,9,  -999.00,9,-999.000,   -999.0,9,   -999.0,9,   3099,-999.0000,-999.000,-999.000,9,  2.2776,-999.000
      06MT28_1,   A08,   215,  2,   2573,    305,2,19940416,2217,-11.3338, -14.9165, 3268,   3182.4,   2.5162,  34.8889,2,  34.8863,2,    222.2,2,    42.96,2,    21.62,2, -999.000,9, -999.000,9, -999.000,9, -999.000,9, -999.000,9,-999.0000,9,  -999.00,9,-999.000,   -999.0,9,   -999.0,9,   3180,-999.0000,-999.000,-999.000,9,  2.2573,-999.000
      06MT28_1,   A08,   215,  2,   2572,    304,2,19940416,2217,-11.3338, -14.9165, 3268,   3252.3,   2.5140,  34.8880,2,-999.0000,9,    222.6,2,    43.23,2,    21.62,2, -999.000,9, -999.000,9, -999.000,9, -999.000,9, -999.000,9,-999.0000,9,  -999.00,9,-999.000,   -999.0,9,   -999.0,9,   3250,-999.0000,-999.000,-999.000,9,  2.2478,-999.000
      06MT28_1,   A08,   215,  2,   2570,    301,2,19940416,2217,-11.3338, -14.9165, 3268,   3284.1,   2.5000,  34.8876,2,  34.8863,2,    222.0,2,    43.78,2,    21.51,2, -999.000,9, -999.000,9, -999.000,9, -999.000,9, -999.000,9,-999.0000,9,  -999.00,9,-999.000,   -999.0,9,   -999.0,9,   3282,-999.0000,-999.000,-999.000,9,  2.2308,-999.000
      06MT28_1,   A08,   215,  2,   2571,    302,2,19940416,2217,-11.3338, -14.9165, 3268,   3284.2,   2.5000,  34.8876,2,  34.8866,2,    222.2,2,    43.97,2,    21.61,2, -999.000,9, -999.000,9, -999.000,9, -999.000,9, -999.000,9,-999.0000,9,  -999.00,9,-999.000,   -999.0,9,   -999.0,9,   3282,-999.0000,-999.000,-999.000,9,  2.2308,-999.000
      06MT28_1,   A08,   215,  2,   2569,    303,2,19940416,2217,-11.3338, -14.9165, 3268,   3284.4,   2.4983,  34.8869,2,-999.0000,9,    222.3,2,    43.83,2,    21.66,2, -999.000,9, -999.000,9, -999.000,9, -999.000,9, -999.000,9,-999.0000,9,  -999.00,9,-999.000,   -999.0,9,   -999.0,9,   3282,-999.0000,-999.000,-999.000,9,  2.2291,-999.000
      06MT28_1,   A08,   216,  1,   2568,    221,2,19940417,0325,-11.3347, -14.4992, 3047,     10.2,  26.7836,  36.8102,2,  36.8120,2,   -999.0,9,  -999.00,9,  -999.00,9, -999.000,9, -999.000,9, -999.000,9, -999.000,9, -999.000,9,-999.0000,9,  -999.00,9,-999.000,   2056.2,2,    477.6,6,      9,-999.0000,-999.000,-999.000,9, 26.7813,-999.000
      06MT28_1,   A08,   216,  1,   2567,    220,2,19940417,0325,-11.3347, -14.4992, 3047,     41.0,  26.7829,  36.8104,2,-999.0000,9,   -999.0,9,  -999.00,9,  -999.00,9,    1.558,2,    0.903,2,    0.105,4,    1.737,2, -999.000,9,-999.0000,9,  -999.00,9,-999.000,   2056.8,2,    474.6,2,     40,-999.0000,-999.000,-999.000,9, 26.7735,-999.000
      06MT28_1,   A08,   216,  1,   2566,    219,2,19940417,0325,-11.3347, -14.4992, 3047,     61.0,  24.8536,  36.7642,2,-999.0000,9,   -999.0,9,  -999.00,9,  -999.00,9, -999.000,9, -999.000,9, -999.000,9, -999.000,9, -999.000,9,-999.0000,9,  -999.00,9,-999.000,   2065.5,2,    502.5,2,     60,-999.0000,-999.000,-999.000,9, 24.8404,-999.000
      06MT28_1,   A08,   216,  1,   2565,    218,2,19940417,0325,-11.3347, -14.4992, 3047,     77.6,  23.5160,  36.6728,2,-999.0000,9,   -999.0,9,  -999.00,9,  -999.00,9,    1.834,2,    1.032,2,    0.140,2,    1.232,2, -999.000,9,-999.0000,9,  -999.00,9,-999.000,   2068.4,2,    509.6,2,     77,-999.0000,-999.000,-999.000,9, 23.4998,-999.000
      06MT28_1,   A08,   216,  1,   2564,    217,2,19940417,0325,-11.3347, -14.4992, 3047,    118.5,  20.0914,  36.2554,2,-999.0000,9,    192.1,2,     0.77,2,     0.00,2,    1.953,2,    1.078,2,    0.142,2,    0.978,2, -999.000,9,-999.0000,9,  -999.00,9,-999.000,   2097.6,2,    640.4,2,    118,-999.0000,-999.000,-999.000,9, 20.0693,-999.000
      06MT28_1,   A08,   216,  1,   2555,    208,2,19940417,0325,-11.3347, -14.4992, 3047,    749.1,   4.9155,  34.4786,2,-999.0000,9,    134.0,2,    27.92,2,    33.22,2,    0.036,2,    0.021,2,    0.006,2,    0.191,2, -999.000,9,-999.0000,9,  -999.00,9,-999.000,   -999.0,9,   -999.0,9,    749,-999.0000,-999.000,-999.000,9,  4.8550,-999.000
      06MT28_1,   A08,   216,  1,   2554,    210,2,19940417,0325,-11.3347, -14.4992, 3047,    749.3,   4.9190,  34.4784,2,-999.0000,9,    136.9,2,    27.68,2,    33.31,2,    0.030,2,    0.017,2,    0.011,2,    0.188,2, -999.000,9,-999.0000,9,  -999.00,9,-999.000,   -999.0,9,   -999.0,9,    749,-999.0000,-999.000,-999.000,9,  4.8584,-999.000
      06MT28_1,   A08,   216,  1,   2552,    211,2,19940417,0325,-11.3347, -14.4992, 3047,    749.3,   4.9190,  34.4784,2,-999.0000,9,    131.5,2,    27.87,2,    33.31,2,    0.030,2,    0.017,2,    0.008,2,    0.187,2, -999.000,9,-999.0000,9,  -999.00,9,-999.000,   -999.0,9,   -999.0,9,    749,-999.0000,-999.000,-999.000,9,  4.8584,-999.000
      06MT28_1,   A08,   216,  1,   2543,    209,2,19940417,0325,-11.3347, -14.4992, 3047,    749.3,   4.9182,  34.4780,2,-999.0000,9,    133.2,2,    27.83,2,    33.36,2,    0.026,2,    0.015,2,    0.008,2,    0.189,2, -999.000,9,-999.0000,9,  -999.00,9,-999.000,   2218.2,2,   -999.0,9,    749,-999.0000,-999.000,-999.000,9,  4.8576,-999.000
      06MT28_1,   A08,   216,  1,   2609,    207,2,19940417,0325,-11.3347, -14.4992, 3047,   1001.1,   3.9905,  34.5620,2,-999.0000,9,   -999.0,9,  -999.00,9,  -999.00,9, -999.000,9, -999.000,9, -999.000,9, -999.000,9, -999.000,9,-999.0000,9,  -999.00,9,-999.000,   -999.0,9,   -999.0,9,   1002,-999.0000,-999.000,-999.000,9,  3.9148,-999.000