BOTTLE,20220817CCHSIOAMB
EXPOCODE,SECT_ID,STNNBR,CASTNO,SAMPNO,BTLNBR,BTLNBR_FLAG_W,DATE,TIME,LATITUDE,LONGITUDE,DEPTH,CTDPRS,CTDTMP,CTDSAL,CTDSAL_FLAG_W,SALNTY,SALNTY_FLAG_W,OXYGEN,OXYGEN_FLAG_W,SILCAT,SILCAT_FLAG_W,NO2+NO3,NO2+NO3_FLAG_W,CFC-11,CFC-11_FLAG_W,CFC-12,CFC-12_FLAG_W,CFC113,CFC113_FLAG_W,CCL4,CCL4_FLAG_W,TRITUM,TRITUM_FLAG_W,HELIUM,HELIUM_FLAG_W,DELHE3,DELHE3_FLAG_W,NEON,TCARBN,TCARBN_FLAG_W,PCO2,PCO2_FLAG_W,CTDRAW,HELIER,DELHER,NEONER,NEON_FLAG_W,THETA,TRITER
,,,,,,,,,,,,DBAR,ITS-90,PSS-78,,PSS-78,,UMOL/KG,,UMOL/KG,,UMOL/KG,,PMOL/KG,,PMOL/KG,,PMOL/KG,,PMOL/KG,,TU,,NMOL/KG,,PERCNT,,NMOL/KG,UMOL/KG,,UATM,,,NMOL/KG,PERCNT,NMOL/KG,,ITS-90,TU
      06MT28_1,   A08,   239,  2,   3693,    324,2,19940424,0310,-11.3338,  -3.5010, 4762,     12.8,  26.1812,  36.4955,2,  36.4966,2,    196.0,2,     0.96,2,     0.00,2, -999.000,9, -999.000,9, -999.000,9, -999.000,9, -999.000,9,-999.0000,9,  -999.00,9,-999.000,   -999.0,9,   -999.0,9,      9,-999.0000,-999.000,-999.000,9, 26.1783,-999.000
      06MT28_1,   A08,   239,  2,   3725,    323,2,19940424,0310,-11.3338,  -3.5010, 4762,    596.6,   6.2695,  34.5725,2,  34.5739,2,     76.8,2,    23.02,2,    37.54,2, -999.000,9, -999.000,9, -999.000,9, -999.000,9, -999.000,9,-999.0000,9,  -999.00,9,-999.000,   -999.0,9,   -999.0,9,    599,-999.0000,-999.000,-999.000,9,  6.2157,-999.000
      06MT28_1,   A08,   239,  2,   3723,    322,2,19940424,0310,-11.3338,  -3.5010, 4762,    698.2,   5.3925,  34.5166,2,-999.0000,9,     97.4,2,    26.64,2,    37.05,2, -999.000,9, -999.000,9, -999.000,9, -999.000,9, -999.000,9,-999.0000,9,  -999.00,9,-999.000,   -999.0,9,   -999.0,9,    701,-999.0000,-999.000,-999.000,9,  5.3338,-999.000
      06MT28_1,   A08,   239,  2,   3722,    321,2,19940424,0310,-11.3338,  -3.5010, 4762,    845.7,   4.5691,  34.5026,2,-999.0000,9,    126.8,2,    31.10,2,    35.01,2, -999.000,9, -999.000,9, -999.000,9, -999.000,9, -999.000,9,-999.0000,9,  -999.00,9,-999.000,   -999.0,9,   -999.0,9,    849,-999.0000,-999.000,-999.000,9,  4.5024,-999.000
      06MT28_1,   A08,   239,  2,   3721,    320,2,19940424,0310,-11.3338,  -3.5010, 4762,    996.4,   4.1347,  34.5736,2,  34.5743,2,    141.2,2,    32.99,2,    32.99,2, -999.000,9, -999.000,9, -999.000,9, -999.000,9, -999.000,9,-999.0000,9,  -999.00,9,-999.000,   -999.0,9,   -999.0,9,   1000,-999.0000,-999.000,-999.000,9,  4.0582,-999.000
      06MT28_1,   A08,   239,  2,   3719,    319,2,19940424,0310,-11.3338,  -3.5010, 4762,   1196.3,   3.9487,  34.7097,2,-999.0000,9,    162.0,2,    30.95,2,    29.43,2, -999.000,9, -999.000,9, -999.000,9, -999.000,9, -999.000,9,-999.0000,9,  -999.00,9,-999.000,   -999.0,9,   -999.0,9,   1200,-999.0000,-999.000,-999.000,9,  3.8565,-999.000
      06MT28_1,   A08,   239,  2,   3718,    318,2,19940424,0310,-11.3338,  -3.5010, 4762,   1396.0,   3.8019,  34.8270,2,-999.0000,9,    184.9,2,    27.88,2,    25.78,2, -999.000,9, -999.000,9, -999.000,9, -999.000,9, -999.000,9,-999.0000,9,  -999.00,9,-999.000,   -999.0,9,   -999.0,9,   1399,-999.0000,-999.000,-999.000,9,  3.6936,-999.000
      06MT28_1,   A08,   239,  2,   3717,    317,2,19940424,0310,-11.3338,  -3.5010, 4762,   1598.8,   3.6346,  34.8926,2,-999.0000,9,    201.0,2,    26.14,2,    23.38,2, -999.000,9, -999.000,9, -999.000,9, -999.000,9, -999.000,9,-999.0000,9,  -999.00,9,-999.000,   -999.0,9,   -999.0,9,   1601,-999.0000,-999.000,-999.000,9,  3.5099,-999.000
      06MT28_1,   A08,   239,  2,   3716,    316,2,19940424,0310,-11.3338,  -3.5010, 4762,   1798.3,   3.4682,  34.9164,2,-999.0000,9,    210.3,2,    26.59,2,    22.22,2, -999.000,9, -999.000,9, -999.000,9, -999.000,9, -999.000,9,-999.0000,9,  -999.00,9,-999.000,   -999.0,9,   -999.0,9,   1800,-999.0000,-999.000,-999.000,9,  3.3275,-999.000
      06MT28_1,   A08,   239,  2,   3715,    315,2,19940424,0310,-11.3338,  -3.5010, 4762,   1999.8,   3.2628,  34.9226,2,  34.9241,2,    216.0,2,    28.65,2,    21.63,2, -999.000,9, -999.000,9, -999.000,9, -999.000,9, -999.000,9,-999.0000,9,  -999.00,9,-999.000,   -999.0,9,   -999.0,9,   2001,-999.0000,-999.000,-999.000,9,  3.1064,-999.000
      06MT28_1,   A08,   239,  2,   3714,    314,2,19940424,0310,-11.3338,  -3.5010, 4762,   2248.2,   3.0353,  34.9196,2,-999.0000,9,    214.2,2,    32.03,2,    21.42,2, -999.000,9, -999.000,9, -999.000,9, -999.000,9, -999.000,9,-999.0000,9,  -999.00,9,-999.000,   -999.0,9,   -999.0,9,   2249,-999.0000,-999.000,-999.000,9,  2.8592,-999.000
      06MT28_1,   A08,   239,  2,   3713,    313,2,19940424,0310,-11.3338,  -3.5010, 4762,   2500.9,   2.8457,  34.9133,2,-999.0000,9,    226.6,2,    35.60,2,    21.49,2, -999.000,9, -999.000,9, -999.000,9, -999.000,9, -999.000,9,-999.0000,9,  -999.00,9,-999.000,   -999.0,9,   -999.0,9,   2500,-999.0000,-999.000,-999.000,9,  2.6486,-999.000
      06MT28_1,   A08,   239,  2,   3712,    312,2,19940424,0310,-11.3338,  -3.5010, 4762,   2748.5,   2.6843,  34.9075,2,-999.0000,9,    220.2,2,    38.96,2,    21.56,2, -999.000,9, -999.000,9, -999.000,9, -999.000,9, -999.000,9,-999.0000,9,  -999.00,9,-999.000,   -999.0,9,   -999.0,9,   2747,-999.0000,-999.000,-999.000,9,  2.4660,-999.000
      06MT28_1,   A08,   239,  2,   3802,    311,2,19940424,0310,-11.3338,  -3.5010, 4762,   3000.5,   2.5894,  34.9020,2,  34.9018,2,    219.1,2,    41.28,2,    21.92,2, -999.000,9, -999.000,9, -999.000,9, -999.000,9, -999.000,9,-999.0000,9,  -999.00,9,-999.000,   -999.0,9,   -999.0,9,   2998,-999.0000,-999.000,-999.000,9,  2.3476,-999.000
      06MT28_1,   A08,   239,  2,   3803,    310,2,19940424,0310,-11.3338,  -3.5010, 4762,   3252.6,   2.5024,  34.8976,2,-999.0000,9,    219.2,2,    43.31,2,    21.89,2, -999.000,9, -999.000,9, -999.000,9, -999.000,9, -999.000,9,-999.0000,9,  -999.00,9,-999.000,   -999.0,9,   -999.0,9,   3250,-999.0000,-999.000,-999.000,9,  2.2364,-999.000
      06MT28_1,   A08,   239,  2,   3801,    309,2,19940424,0310,-11.3338,  -3.5010, 4762,   3502.7,   2.4438,  34.8935,2,-999.0000,9,    219.4,2,    44.68,2,    21.87,2, -999.000,9, -999.000,9, -999.000,9, -999.000,9, -999.000,9,-999.0000,9,  -999.00,9,-999.000,   -999.0,9,   -999.0,9,   3499,-999.0000,-999.000,-999.000,9,  2.1525,-999.000
      06MT28_1,   A08,   239,  2,   3799,    308,2,19940424,0310,-11.3338,  -3.5010, 4762,   3754.4,   2.4012,  34.8909,2,-999.0000,9,    219.0,2,    46.05,2,    21.94,2, -999.000,9, -999.000,9, -999.000,9, -999.000,9, -999.000,9,-999.0000,9,  -999.00,9,-999.000,   -999.0,9,   -999.0,9,   3750,-999.0000,-999.000,-999.000,9,  2.0834,-999.000
      06MT28_1,   A08,   239,  2,   3798,    307,2,19940424,0310,-11.3338,  -3.5010, 4762,   4005.1,   2.3765,  34.8875,2,  34.8878,2,    218.7,2,    46.85,2,    21.92,2,    0.008,2,    0.001,2,    0.001,2,    0.016,2, -999.000,9,-999.0000,9,  -999.00,9,-999.000,   -999.0,9,   -999.0,9,   4000,-999.0000,-999.000,-999.000,9,  2.0312,-999.000
      06MT28_1,   A08,   239,  2,   3797,    306,2,19940424,0310,-11.3338,  -3.5010, 4762,   4254.8,   2.3642,  34.8854,2,-999.0000,9,    219.9,2,    47.36,2,    21.80,2,    0.009,2,    0.003,2,    0.008,2,    0.020,2, -999.000,9,-999.0000,9,  -999.00,9,-999.000,   -999.0,9,   -999.0,9,   4249,-999.0000,-999.000,-999.000,9,  1.9904,-999.000
      06MT28_1,   A08,   239,  2,   3796,    305,2,19940424,0310,-11.3338,  -3.5010, 4762,   4551.1,   2.3678,  34.8833,2,-999.0000,9,    219.7,2,    47.87,2,    21.87,2,    0.009,2,    0.003,2,    0.008,2,    0.026,2, -999.000,9,-999.0000,9,  -999.00,9,-999.000,   -999.0,9,   -999.0,9,   4545,-999.0000,-999.000,-999.000,9,  1.9585,-999.000
      06MT28_1,   A08,   239,  2,   3795,    304,2,19940424,0310,-11.3338,  -3.5010, 4762,   4735.7,   2.3746,  34.8815,2,-999.0000,9,    219.4,2,    48.16,2,    21.81,2,    0.009,2,    0.002,2,    0.006,2,    0.027,2, -999.000,9,-999.0000,9,  -999.00,9,-999.000,   -999.0,9,   -999.0,9,   4730,-999.0000,-999.000,-999.000,9,  1.9426,-999.000
      06MT28_1,   A08,   239,  2,   3794,    303,2,19940424,0310,-11.3338,  -3.5010, 4762,   4799.2,   2.3815,  34.8818,2,-999.0000,9,    219.5,2,    48.10,2,    21.80,2,    0.011,2,    0.002,2,    0.002,2,    0.029,2, -999.000,9,-999.0000,9,  -999.00,9,-999.000,   -999.0,9,   -999.0,9,   4793,-999.0000,-999.000,-999.000,9,  1.9414,-999.000
      06MT28_1,   A08,   239,  2,   3793,    302,2,19940424,0310,-11.3338,  -3.5010, 4762,   4833.5,   2.3849,  34.8806,2,  34.8805,2,    221.4,2,    48.28,2,    21.80,2,    0.011,2,    0.003,2,    0.008,2,    0.028,2, -999.000,9,-999.0000,9,  -999.00,9,-999.000,   -999.0,9,   -999.0,9,   4827,-999.0000,-999.000,-999.000,9,  1.9404,-999.000
      06MT28_1,   A08,   239,  2,   3792,    301,2,19940424,0310,-11.3338,  -3.5010, 4762,   4833.6,   2.3849,  34.8817,2,  34.8809,2,    220.6,2,    48.14,2,    21.80,2,    0.010,2,    0.003,2,    0.011,2,    0.028,2, -999.000,9,-999.0000,9,  -999.00,9,-999.000,   -999.0,9,   -999.0,9,   4827,-999.0000,-999.000,-999.000,9,  1.9404,-999.000
      06MT28_1,   A08,   240,  1,   3791,    217,2,19940424,0816,-11.3340,  -2.9998, 4650,     10.6,  26.4333,  36.4630,2,  36.4593,2,    193.6,2,     0.96,2,     0.00,2,    1.539,2,    0.898,2,    0.090,4,    1.703,2, -999.000,9,-999.0000,9,  -999.00,9,-999.000,   2040.9,2,    483.3,2,     10,-999.0000,-999.000,-999.000,9, 26.4309,-999.000
      06MT28_1,   A08,   240,  1,   3789,    216,2,19940424,0816,-11.3340,  -2.9998, 4650,     30.5,  26.4283,  36.4635,2,-999.0000,9,    193.8,2,     0.96,2,     0.00,2, -999.000,9, -999.000,9, -999.000,9, -999.000,9, -999.000,9,-999.0000,9,  -999.00,9,-999.000,   2041.9,2,    474.2,2,     30,-999.0000,-999.000,-999.000,9, 26.4214,-999.000
      06MT28_1,   A08,   240,  1,   3788,    215,2,19940424,0816,-11.3340,  -2.9998, 4650,     45.6,  23.9237,  36.5436,2,-999.0000,9,    216.3,2,     0.86,2,     0.00,2,    1.818,2,    1.038,2,    0.105,2,    1.254,2, -999.000,9,-999.0000,9,  -999.00,9,-999.000,   2063.9,2,    533.1,2,     45,-999.0000,-999.000,-999.000,9, 23.9140,-999.000
      06MT28_1,   A08,   240,  1,   3787,    214,2,19940424,0816,-11.3340,  -2.9998, 4650,     70.7,  20.0620,  36.2303,2,-999.0000,9,    189.9,2,     1.73,2,     3.36,2,    1.820,2,    1.015,2,    0.107,2,    0.868,2, -999.000,9,   1.7120,2,    -0.77,2,   6.938,   2104.8,2,    671.7,2,     70,  0.0060,   0.250,   0.023,2, 20.0488,-999.000
      06MT28_1,   A08,   240,  1,   3786,    213,2,19940424,0816,-11.3340,  -2.9998, 4650,     99.8,  17.4666,  35.8868,2,-999.0000,9,    139.0,2,     3.26,2,    12.27,2,    1.696,2,    0.930,2,    0.091,2,    0.716,2, -999.000,9,   1.7140,2,     0.10,2,   7.027,   2146.2,2,    920.3,2,     99,  0.0060,   0.250,   0.023,2, 17.4498,-999.000
      06MT28_1,   A08,   240,  1,   3784,    212,2,19940424,0816,-11.3340,  -2.9998, 4650,    150.0,  12.9623,  35.2677,2,-999.0000,9,     70.9,2,     7.66,2,    25.19,2,    1.139,2,    0.618,2,    0.030,2,    0.262,2, -999.000,9,   1.7430,2,     1.06,2,   7.296,   2203.9,2,   1638.6,2,    149,  0.0070,   0.250,   0.024,2, 12.9417,-999.000
      06MT28_1,   A08,   240,  1,   3822,    211,2,19940424,0816,-11.3340,  -2.9998, 4650,    199.5,  11.4555,  35.1056,2,-999.0000,9,     73.6,2,    10.24,2,    27.48,2,    0.583,2,    0.324,2,    0.014,2,    0.176,2, -999.000,9,-999.0000,9,  -999.00,9,-999.000,   2209.4,2,   -999.0,9,    199,-999.0000,-999.000,-999.000,9, 11.4302,-999.000
      06MT28_1,   A08,   240,  1,   3821,    210,2,19940424,0816,-11.3340,  -2.9998, 4650,    299.8,   9.9182,  34.9227,2,  34.9251,2,     63.4,2,    13.20,2,    31.19,2,    0.269,2,    0.154,2,    0.008,2,    0.137,2, -999.000,9,   1.7560,2,     1.19,2,   7.438,   2236.1,2,   1266.0,6,    299,  0.0070,   0.250,   0.025,2,  9.8835,-999.000
      06MT28_1,   A08,   240,  1,   3820,    209,2,19940424,0816,-11.3340,  -2.9998, 4650,    400.5,   8.7160,  34.7970,2,-999.0000,9,     46.7,2,    16.50,2,    35.53,2,    0.083,2,    0.052,2,    0.006,2,    0.087,2, -999.000,9,   1.7600,2,     1.25,2,   7.524,   2246.0,2,   1548.6,2,    400,  0.0070,   0.250,   0.025,2,  8.6729,-999.000
      06MT28_1,   A08,   240,  1,   3819,    207,2,19940424,0816,-11.3340,  -2.9998, 4650,    500.2,   7.6165,  34.6807,2,-999.0000,9,   -999.0,9,  -999.00,9,  -999.00,9, -999.000,9, -999.000,9, -999.000,9, -999.000,9, -999.000,9,-999.0000,9,  -999.00,9,-999.000,   -999.0,9,   -999.0,9,    499,-999.0000,-999.000,-999.000,9,  7.5666,-999.000
      06MT28_1,   A08,   240,  1,   3818,    208,2,19940424,0816,-11.3340,  -2.9998, 4650,    500.9,   7.6149,  34.6798,2,-999.0000,9,     73.1,2,    18.40,2,    34.98,2,    0.063,2,    0.043,2,    0.008,2,    0.132,2, -999.000,9,   1.7720,2,     1.08,2,   7.590,   2235.5,2,   1469.3,2,    500,  0.0070,   0.250,   0.025,2,  7.5649,-999.000