BOTTLE,20220817CCHSIOAMB
EXPOCODE,SECT_ID,STNNBR,CASTNO,SAMPNO,BTLNBR,BTLNBR_FLAG_W,DATE,TIME,LATITUDE,LONGITUDE,DEPTH,CTDPRS,CTDTMP,CTDSAL,CTDSAL_FLAG_W,SALNTY,SALNTY_FLAG_W,OXYGEN,OXYGEN_FLAG_W,SILCAT,SILCAT_FLAG_W,NO2+NO3,NO2+NO3_FLAG_W,CFC-11,CFC-11_FLAG_W,CFC-12,CFC-12_FLAG_W,CFC113,CFC113_FLAG_W,CCL4,CCL4_FLAG_W,TRITUM,TRITUM_FLAG_W,HELIUM,HELIUM_FLAG_W,DELHE3,DELHE3_FLAG_W,NEON,TCARBN,TCARBN_FLAG_W,PCO2,PCO2_FLAG_W,CTDRAW,HELIER,DELHER,NEONER,NEON_FLAG_W,THETA,TRITER
,,,,,,,,,,,,DBAR,ITS-90,PSS-78,,PSS-78,,UMOL/KG,,UMOL/KG,,UMOL/KG,,PMOL/KG,,PMOL/KG,,PMOL/KG,,PMOL/KG,,TU,,NMOL/KG,,PERCNT,,NMOL/KG,UMOL/KG,,UATM,,,NMOL/KG,PERCNT,NMOL/KG,,ITS-90,TU
      06MT28_1,   A08,   208,  1,   2178,    218,2,19940414,2156,-11.3333, -17.9987, 4389,     10.2,  27.4743,  36.7487,2,  36.7517,2,    189.4,2,     0.86,2,     0.00,4,    1.523,2,    0.893,2,    0.040,4,    1.727,2, -999.000,9,-999.0000,9,  -999.00,9,-999.000,   2047.8,2,    465.4,6,      9,-999.0000,-999.000,-999.000,9, 27.4719,-999.000
      06MT28_1,   A08,   208,  1,   2176,    217,2,19940414,2156,-11.3333, -17.9987, 4389,     40.2,  27.4210,  36.7499,2,-999.0000,9,    189.4,2,     0.86,2,     0.00,4, -999.000,9, -999.000,9, -999.000,9, -999.000,9, -999.000,9,-999.0000,9,  -999.00,9,-999.000,   2047.5,2,    466.9,2,     39,-999.0000,-999.000,-999.000,9, 27.4116,-999.000
      06MT28_1,   A08,   208,  1,   2175,    216,2,19940414,2156,-11.3333, -17.9987, 4389,     59.4,  25.7520,  36.9544,2,-999.0000,9,    203.6,2,     0.77,2,     0.00,4, -999.000,9, -999.000,9, -999.000,9, -999.000,9, -999.000,9,-999.0000,9,  -999.00,9,-999.000,   2067.5,2,    491.9,2,     59,-999.0000,-999.000,-999.000,9, 25.7387,-999.000
      06MT28_1,   A08,   208,  1,   2174,    215,2,19940414,2156,-11.3333, -17.9987, 4389,     80.6,  24.6269,  36.8498,2,-999.0000,9,    209.5,2,     0.67,2,     0.00,4,    1.738,2,    0.999,2,    0.098,2,    1.396,2, -999.000,9,-999.0000,9,  -999.00,9,-999.000,   2068.9,2,    495.0,2,     80,-999.0000,-999.000,-999.000,9, 24.6095,-999.000
      06MT28_1,   A08,   208,  1,   2173,    214,2,19940414,2156,-11.3333, -17.9987, 4389,    121.1,  21.5931,  36.4871,2,-999.0000,9,    200.5,2,     0.96,2,     0.00,4,    1.689,6,    0.975,6,    0.094,6,    1.073,6, -999.000,9,-999.0000,9,  -999.00,9,-999.000,   2085.7,2,    593.6,2,    120,-999.0000,-999.000,-999.000,9, 21.5693,-999.000
      06MT28_1,   A08,   208,  1,   2172,    213,2,19940414,2156,-11.3333, -17.9987, 4389,    179.8,  16.1921,  35.7282,2,-999.0000,9,    132.5,2,     4.21,2,    13.51,2,    1.667,2,    0.901,2,    0.064,2,    0.561,2, -999.000,9,-999.0000,9,  -999.00,9,-999.000,   2146.9,2,    967.3,2,    179,-999.0000,-999.000,-999.000,9, 16.1632,-999.000
      06MT28_1,   A08,   208,  1,   2171,    212,2,19940414,2156,-11.3333, -17.9987, 4389,    249.9,  11.3030,  35.0722,2,-999.0000,9,     75.3,2,    10.15,2,    26.51,2,    0.685,2,    0.377,2,    0.013,2,    0.205,2, -999.000,9,-999.0000,9,  -999.00,9,-999.000,   2205.2,2,   1026.8,2,    249,-999.0000,-999.000,-999.000,9, 11.2715,-999.000
      06MT28_1,   A08,   208,  1,   2170,    211,2,19940414,2156,-11.3333, -17.9987, 4389,    351.3,   8.6087,  34.7719,2,-999.0000,9,     89.0,2,    15.11,2,    30.70,2,    0.199,2,    0.115,2,    0.574,4,    0.205,2, -999.000,9,   1.7650,2,     0.93,2,   7.497,   2213.6,2,   1171.8,2,    351,  0.0070,   0.250,   0.025,2,  8.5713,-999.000
      06MT28_1,   A08,   208,  1,   2169,    210,2,19940414,2156,-11.3333, -17.9987, 4389,    450.5,   7.2386,  34.6340,2,-999.0000,9,    104.9,2,    18.07,2,    32.03,2,    0.125,2,    0.075,2,    0.007,2,    0.270,2, -999.000,9,   1.7850,2,     1.12,2,   7.636,   2213.6,2,   1226.1,2,    450,  0.0070,   0.250,   0.025,2,  7.1950,-999.000
      06MT28_1,   A08,   208,  1,   2168,    209,2,19940414,2156,-11.3333, -17.9987, 4389,    549.5,   6.2654,  34.5449,2,-999.0000,9,    119.9,2,    21.02,2,    32.54,2,    0.115,2,    0.066,2,    0.004,2,    0.333,2, -999.000,9,-999.0000,9,     1.06,2,-999.000,   2212.6,2,   1221.2,2,    549,-999.0000,   0.250,-999.000,9,  6.2160,-999.000
      06MT28_1,   A08,   208,  1,   2166,    208,2,19940414,2156,-11.3333, -17.9987, 4389,    650.6,   5.4314,  34.4862,2,  34.4860,2,    131.7,2,    24.54,2,    32.95,2,    0.079,2,    0.047,2,    0.002,2,    0.314,2, -999.000,9,-999.0000,9,     1.81,2,-999.000,   2217.8,2,   1225.8,6,    650,-999.0000,   0.250,-999.000,9,  5.3768,-999.000
      06MT28_1,   A08,   208,  1,   2164,    207,2,19940414,2156,-11.3333, -17.9987, 4389,    650.7,   5.4247,  34.4862,2,-999.0000,9,   -999.0,9,  -999.00,9,  -999.00,9, -999.000,9, -999.000,9, -999.000,9, -999.000,9, -999.000,9,-999.0000,9,  -999.00,9,-999.000,   -999.0,9,   -999.0,9,    651,-999.0000,-999.000,-999.000,9,  5.3701,-999.000
      06MT28_1,   A08,   208,  2,   2177,    324,2,19940414,2345,-11.3317, -17.9995, 4408,     15.1,  27.4427,  36.7492,2,  36.7488,2,    190.3,2,     0.96,2,     0.00,4, -999.000,9, -999.000,9, -999.000,9, -999.000,9, -999.000,9,-999.0000,9,  -999.00,9,-999.000,   -999.0,9,   -999.0,9,     11,-999.0000,-999.000,-999.000,9, 27.4391,-999.000
      06MT28_1,   A08,   208,  2,   2167,    323,2,19940414,2345,-11.3317, -17.9995, 4408,    547.8,   5.9858,  34.5209,2,-999.0000,9,    126.2,2,    22.07,2,    32.68,2, -999.000,9, -999.000,9, -999.000,9, -999.000,9, -999.000,9,-999.0000,9,  -999.00,9,-999.000,   -999.0,9,   -999.0,9,    550,-999.0000,-999.000,-999.000,9,  5.9378,-999.000
      06MT28_1,   A08,   208,  2,   2165,    322,2,19940414,2345,-11.3317, -17.9995, 4408,    647.6,   5.3354,  34.4802,2,-999.0000,9,    135.4,2,    24.83,2,    33.04,2, -999.000,9, -999.000,9, -999.000,9, -999.000,9, -999.000,9,-999.0000,9,  -999.00,9,-999.000,   -999.0,9,   -999.0,9,    650,-999.0000,-999.000,-999.000,9,  5.2815,-999.000
      06MT28_1,   A08,   208,  2,   2163,    321,2,19940414,2345,-11.3317, -17.9995, 4408,    748.2,   4.8283,  34.4590,2,-999.0000,9,    141.4,2,    27.87,2,    33.22,2,    0.061,2,    0.034,2,    0.004,2,    0.279,2, -999.000,9,   1.7950,2,     2.03,2,   7.759,   -999.0,9,   -999.0,9,    751,  0.0070,   0.250,   0.026,2,  4.7684,-999.000
      06MT28_1,   A08,   208,  2,   2162,    320,2,19940414,2345,-11.3317, -17.9995, 4408,    821.7,   4.5367,  34.4782,2,-999.0000,9,    141.2,2,    30.44,2,    33.59,2,    0.019,2,    0.012,2,    0.006,2,    0.153,2, -999.000,9,   1.7380,3,     2.17,2,   7.494,   -999.0,9,   -999.0,9,    825,  0.0070,   0.250,   0.025,3,  4.4723,-999.000
      06MT28_1,   A08,   208,  2,   2161,    319,2,19940414,2345,-11.3317, -17.9995, 4408,    921.5,   4.2608,  34.5046,2,-999.0000,9,    147.7,2,    32.24,2,    32.90,2,    0.014,2,    0.005,2,    0.006,2,    0.109,2, -999.000,9,   1.7710,2,     2.12,2,   7.756,   -999.0,9,   -999.0,9,    925,  0.0070,   0.250,   0.026,2,  4.1898,-999.000
      06MT28_1,   A08,   208,  2,   2160,    318,2,19940414,2345,-11.3317, -17.9995, 4408,   1096.2,   4.0007,  34.6103,2,  34.6101,2,    160.9,2,    32.68,2,    30.68,2,    0.004,2,    0.001,2,    0.004,2,    0.055,2, -999.000,9,   1.7910,2,     2.45,2,   7.794,   -999.0,9,   -999.0,9,   1100,  0.0070,   0.250,   0.026,2,  3.9168,-999.000
      06MT28_1,   A08,   208,  2,   2159,    317,2,19940414,2345,-11.3317, -17.9995, 4408,   1297.5,   4.1221,  34.7846,2,-999.0000,9,    178.6,2,    26.56,2,    26.65,2,    0.005,2,    0.001,2,    0.005,2,    0.048,2, -999.000,9,   1.8000,2,     1.77,2,   7.844,   -999.0,9,   -999.0,9,   1301,  0.0070,   0.250,   0.026,2,  4.0193,-999.000
      06MT28_1,   A08,   208,  2,   2158,    316,2,19940414,2345,-11.3317, -17.9995, 4408,   1497.0,   3.9973,  34.9019,2,-999.0000,9,    204.0,2,    21.97,2,    22.63,2,    0.009,2,    0.004,2,    0.004,2,    0.100,2, -999.000,9,   1.8010,2,     1.22,2,   7.844,   -999.0,9,   -999.0,9,   1500,  0.0070,   0.250,   0.026,2,  3.8776,-999.000
      06MT28_1,   A08,   208,  2,   2157,    315,2,19940414,2345,-11.3317, -17.9995, 4408,   1698.4,   3.7850,  34.9422,2,-999.0000,9,    220.5,2,    20.52,2,    20.43,2,    0.015,2,    0.009,2,    0.004,2,    0.146,2, -999.000,9,   1.8050,2,     1.77,2,   7.872,   -999.0,9,   -999.0,9,   1701,  0.0070,   0.250,   0.026,2,  3.6493,-999.000
      06MT28_1,   A08,   208,  2,   2155,    314,2,19940414,2345,-11.3317, -17.9995, 4408,   1898.8,   3.5139,  34.9536,2,-999.0000,9,    231.0,2,    21.07,2,    19.36,2,    0.013,2,    0.011,2,    0.005,2,    0.161,2, -999.000,9,   1.8060,2,     2.45,2,   7.870,   -999.0,9,   -999.0,9,   1900,  0.0070,   0.250,   0.026,2,  3.3632,-999.000
      06MT28_1,   A08,   208,  2,   2146,    313,2,19940414,2345,-11.3317, -17.9995, 4408,   2098.8,   3.1693,  34.9300,2,  34.9332,2,    229.0,2,    26.93,2,    19.92,2,    0.006,2,    0.001,2,    0.010,2,    0.069,2, -999.000,9,-999.0000,9,  -999.00,9,-999.000,   -999.0,9,   -999.0,9,   2100,-999.0000,-999.000,-999.000,9,  3.0051,-999.000
      06MT28_1,   A08,   208,  2,   2216,    312,2,19940414,2345,-11.3317, -17.9995, 4408,   2349.5,   2.8893,  34.9127,2,-999.0000,9,    226.9,2,    32.87,2,    20.56,2,    0.002,2,    0.000,2,    0.002,2,    0.034,2, -999.000,9,-999.0000,9,  -999.00,9,-999.000,   -999.0,9,   -999.0,9,   2350,-999.0000,-999.000,-999.000,9,  2.7060,-999.000
      06MT28_1,   A08,   208,  2,   2215,    311,2,19940414,2345,-11.3317, -17.9995, 4408,   2600.1,   2.7595,  34.9057,2,-999.0000,9,    226.5,2,    35.77,2,    20.72,2,    0.001,2,    0.001,2,    0.000,2,    0.022,2, -999.000,9,-999.0000,9,  -999.00,9,-999.000,   -999.0,9,   -999.0,9,   2599,-999.0000,-999.000,-999.000,9,  2.5544,-999.000
      06MT28_1,   A08,   208,  2,   2214,    310,2,19940414,2345,-11.3317, -17.9995, 4408,   2850.4,   2.6715,  34.9022,2,-999.0000,9,    225.7,2,    37.72,2,    20.89,2, -999.000,9, -999.000,9, -999.000,9, -999.000,9, -999.000,9,-999.0000,9,  -999.00,9,-999.000,   -999.0,9,   -999.0,9,   2849,-999.0000,-999.000,-999.000,9,  2.4432,-999.000
      06MT28_1,   A08,   208,  2,   2213,    309,2,19940414,2345,-11.3317, -17.9995, 4408,   3101.8,   2.6294,  34.9057,2,  34.9048,2,    227.8,2,    37.02,2,    20.49,2,    0.003,2,   -0.001,2,    0.004,2,    0.029,2, -999.000,9,-999.0000,9,  -999.00,9,-999.000,   -999.0,9,   -999.0,9,   3099,-999.0000,-999.000,-999.000,9,  2.3763,-999.000
      06MT28_1,   A08,   208,  2,   2212,    308,2,19940414,2345,-11.3317, -17.9995, 4408,   3353.7,   2.5281,  34.8969,2,-999.0000,9,    228.5,2,    39.24,2,    20.66,2,    0.007,2,    0.002,2,    0.004,2,    0.031,2, -999.000,9,-999.0000,9,  -999.00,9,-999.000,   -999.0,9,   -999.0,9,   3351,-999.0000,-999.000,-999.000,9,  2.2508,-999.000
      06MT28_1,   A08,   208,  2,   2211,    307,2,19940414,2345,-11.3317, -17.9995, 4408,   3602.9,   2.3510,  34.8845,2,-999.0000,9,    228.4,2,    43.72,2,    21.01,2,    0.007,2,    0.001,2,    0.001,2,    0.038,2, -999.000,9,-999.0000,9,  -999.00,9,-999.000,   -999.0,9,   -999.0,9,   3599,-999.0000,-999.000,-999.000,9,  2.0513,-999.000
      06MT28_1,   A08,   208,  2,   2210,    306,2,19940414,2345,-11.3317, -17.9995, 4408,   3854.9,   1.9571,  34.8465,2,-999.0000,9,    223.6,2,    56.57,2,    22.59,2,    0.003,2,    0.000,2,    0.002,2,    0.041,2, -999.000,9,-999.0000,9,  -999.00,9,-999.000,   -999.0,9,   -999.0,9,   3850,-999.0000,-999.000,-999.000,9,  1.6404,-999.000
      06MT28_1,   A08,   208,  2,   2209,    305,2,19940414,2345,-11.3317, -17.9995, 4408,   4104.0,   1.7455,  34.8236,2,  34.8236,2,    220.6,2,    65.35,2,    23.69,2,    0.003,2,    0.001,2,   -0.001,2,    0.039,2, -999.000,9,-999.0000,9,  -999.00,9,-999.000,   -999.0,9,   -999.0,9,   4099,-999.0000,-999.000,-999.000,9,  1.4072,-999.000
      06MT28_1,   A08,   208,  2,   2208,    304,2,19940414,2345,-11.3317, -17.9995, 4408,   4275.9,   1.6810,  34.8146,2,-999.0000,9,    219.4,2,    68.17,2,    24.15,2, -999.000,9, -999.000,9, -999.000,9, -999.000,9, -999.000,9,-999.0000,9,  -999.00,9,-999.000,   -999.0,9,   -999.0,9,   4271,-999.0000,-999.000,-999.000,9,  1.3253,-999.000
      06MT28_1,   A08,   208,  2,   2207,    303,2,19940414,2345,-11.3317, -17.9995, 4408,   4345.4,   1.6776,  34.8140,2,-999.0000,9,    219.0,2,    68.52,2,    24.19,2,    0.001,2,    0.000,2,    0.004,2,    0.040,2, -999.000,9,-999.0000,9,  -999.00,9,-999.000,   -999.0,9,   -999.0,9,   4340,-999.0000,-999.000,-999.000,9,  1.3140,-999.000
      06MT28_1,   A08,   208,  2,   2206,    301,2,19940414,2345,-11.3317, -17.9995, 4408,   4374.8,   1.6655,  34.8122,2,  34.8140,2,    219.2,2,    68.89,2,    24.23,2,    0.009,2,    0.003,2,    0.007,2,    0.042,2, -999.000,9,-999.0000,9,  -999.00,9,-999.000,   -999.0,9,   -999.0,9,   4370,-999.0000,-999.000,-999.000,9,  1.2990,-999.000
      06MT28_1,   A08,   208,  2,   2205,    302,2,19940414,2345,-11.3317, -17.9995, 4408,   4375.6,   1.6651,  34.8123,2,  34.8144,2,    219.1,2,    68.98,2,    24.23,2, -999.000,9, -999.000,9, -999.000,9, -999.000,9, -999.000,9,-999.0000,9,  -999.00,9,-999.000,   -999.0,9,   -999.0,9,   4371,-999.0000,-999.000,-999.000,9,  1.2986,-999.000
      06MT28_1,   A08,   209,  1,   2203,    214,2,19940415,0510,-11.3333, -17.5000, 3744,     10.5,  27.4279,  36.7218,2,  36.7287,2,    191.0,2,     0.77,2,     0.00,2, -999.000,9, -999.000,9, -999.000,9, -999.000,9, -999.000,9,-999.0000,9,  -999.00,9,-999.000,   -999.0,9,   -999.0,9,     11,-999.0000,-999.000,-999.000,9, 27.4255,-999.000
      06MT28_1,   A08,   209,  1,   2202,    213,2,19940415,0510,-11.3333, -17.5000, 3744,     30.6,  27.4284,  36.7222,2,-999.0000,9,    190.6,2,     0.77,2,     0.00,2, -999.000,9, -999.000,9, -999.000,9, -999.000,9, -999.000,9,-999.0000,9,  -999.00,9,-999.000,   -999.0,9,   -999.0,9,     31,-999.0000,-999.000,-999.000,9, 27.4213,-999.000
      06MT28_1,   A08,   209,  1,   2201,    212,2,19940415,0510,-11.3333, -17.5000, 3744,     50.9,  27.4185,  36.7351,2,-999.0000,9,    191.1,2,     1.15,2,     0.00,2, -999.000,9, -999.000,9, -999.000,9, -999.000,9, -999.000,9,-999.0000,9,  -999.00,9,-999.000,   -999.0,9,   -999.0,9,     51,-999.0000,-999.000,-999.000,9, 27.4067,-999.000
      06MT28_1,   A08,   209,  1,   2200,    211,2,19940415,0510,-11.3333, -17.5000, 3744,     69.9,  24.9944,  36.7913,2,-999.0000,9,    209.4,2,     0.77,2,     0.00,2, -999.000,9, -999.000,9, -999.000,9, -999.000,9, -999.000,9,-999.0000,9,  -999.00,9,-999.000,   -999.0,9,   -999.0,9,     70,-999.0000,-999.000,-999.000,9, 24.9791,-999.000
      06MT28_1,   A08,   209,  1,   2199,    210,2,19940415,0510,-11.3333, -17.5000, 3744,    100.0,  22.0665,  36.5554,2,-999.0000,9,    198.1,2,     1.06,2,     0.58,2, -999.000,9, -999.000,9, -999.000,9, -999.000,9, -999.000,9,-999.0000,9,  -999.00,9,-999.000,   -999.0,9,   -999.0,9,    100,-999.0000,-999.000,-999.000,9, 22.0465,-999.000
      06MT28_1,   A08,   209,  1,   2198,    209,2,19940415,0510,-11.3333, -17.5000, 3744,    149.7,  17.6662,  35.9309,2,-999.0000,9,    154.2,2,     3.02,2,     9.68,2, -999.000,9, -999.000,9, -999.000,9, -999.000,9, -999.000,9,-999.0000,9,  -999.00,9,-999.000,   -999.0,9,   -999.0,9,    150,-999.0000,-999.000,-999.000,9, 17.6406,-999.000
      06MT28_1,   A08,   209,  1,   2196,    208,2,19940415,0510,-11.3333, -17.5000, 3744,    200.8,  13.1237,  35.2998,2,-999.0000,9,     98.9,2,     7.23,2,    21.07,2, -999.000,9, -999.000,9, -999.000,9, -999.000,9, -999.000,9,-999.0000,9,  -999.00,9,-999.000,   -999.0,9,   -999.0,9,    201,-999.0000,-999.000,-999.000,9, 13.0958,-999.000
      06MT28_1,   A08,   209,  1,   2193,    207,2,19940415,0510,-11.3333, -17.5000, 3744,    201.0,  13.3057,  35.3290,2,-999.0000,9,   -999.0,9,  -999.00,9,  -999.00,9, -999.000,9, -999.000,9, -999.000,9, -999.000,9, -999.000,9,-999.0000,9,  -999.00,9,-999.000,   -999.0,9,   -999.0,9,    201,-999.0000,-999.000,-999.000,9, 13.2775,-999.000