BOTTLE,20220817CCHSIOAMB
EXPOCODE,SECT_ID,STNNBR,CASTNO,SAMPNO,BTLNBR,BTLNBR_FLAG_W,DATE,TIME,LATITUDE,LONGITUDE,DEPTH,CTDPRS,CTDTMP,CTDSAL,CTDSAL_FLAG_W,SALNTY,SALNTY_FLAG_W,OXYGEN,OXYGEN_FLAG_W,SILCAT,SILCAT_FLAG_W,NO2+NO3,NO2+NO3_FLAG_W,CFC-11,CFC-11_FLAG_W,CFC-12,CFC-12_FLAG_W,CFC113,CFC113_FLAG_W,CCL4,CCL4_FLAG_W,TRITUM,TRITUM_FLAG_W,HELIUM,HELIUM_FLAG_W,DELHE3,DELHE3_FLAG_W,NEON,TCARBN,TCARBN_FLAG_W,PCO2,PCO2_FLAG_W,CTDRAW,HELIER,DELHER,NEONER,NEON_FLAG_W,THETA,TRITER
,,,,,,,,,,,,DBAR,ITS-90,PSS-78,,PSS-78,,UMOL/KG,,UMOL/KG,,UMOL/KG,,PMOL/KG,,PMOL/KG,,PMOL/KG,,PMOL/KG,,TU,,NMOL/KG,,PERCNT,,NMOL/KG,UMOL/KG,,UATM,,,NMOL/KG,PERCNT,NMOL/KG,,ITS-90,TU
      06MT28_1,   A08,   255,  2,   1422,    324,2,19940429,1024,-11.3345,   4.6665, 5589,     18.6,  25.4906,  36.6263,2,-999.0000,9,   -999.0,9,  -999.00,9,  -999.00,9, -999.000,5, -999.000,5, -999.000,5, -999.000,5, -999.000,9,-999.0000,9,  -999.00,9,-999.000,   -999.0,9,   -999.0,9,     16,-999.0000,-999.000,-999.000,9, 25.4865,-999.000
      06MT28_1,   A08,   255,  2,   1494,    323,2,19940429,1024,-11.3345,   4.6665, 5589,    996.9,   4.1443,  34.5759,2,  34.5799,2,    138.5,2,    33.27,2,    33.46,2, -999.000,9, -999.000,9, -999.000,9, -999.000,9, -999.000,9,-999.0000,9,  -999.00,9,-999.000,   -999.0,9,   -999.0,9,   1001,-999.0000,-999.000,-999.000,9,  4.0677,-999.000
      06MT28_1,   A08,   255,  2,   1491,    322,2,19940429,1024,-11.3345,   4.6665, 5589,   1196.0,   3.9652,  34.7227,2,-999.0000,9,    156.2,2,    31.33,2,    29.90,2, -999.000,9, -999.000,9, -999.000,9, -999.000,9, -999.000,9,-999.0000,9,  -999.00,9,-999.000,   -999.0,9,   -999.0,9,   1200,-999.0000,-999.000,-999.000,9,  3.8729,-999.000
      06MT28_1,   A08,   255,  2,   1490,    321,2,19940429,1024,-11.3345,   4.6665, 5589,   1395.8,   3.8883,  34.8491,2,-999.0000,9,    182.9,2,    26.64,2,    25.59,2, -999.000,9, -999.000,9, -999.000,9, -999.000,9, -999.000,9,-999.0000,9,  -999.00,9,-999.000,   -999.0,9,   -999.0,9,   1399,-999.0000,-999.000,-999.000,9,  3.7790,-999.000
      06MT28_1,   A08,   255,  2,   1489,    320,2,19940429,1024,-11.3345,   4.6665, 5589,   1596.7,   3.7086,  34.9087,2,  34.9086,2,    200.7,2,    25.28,2,    23.19,2, -999.000,9, -999.000,9, -999.000,9, -999.000,9, -999.000,9,-999.0000,9,  -999.00,9,-999.000,   -999.0,9,   -999.0,9,   1600,-999.0000,-999.000,-999.000,9,  3.5832,-999.000
      06MT28_1,   A08,   255,  2,   1488,    319,2,19940429,1024,-11.3345,   4.6665, 5589,   1799.2,   3.5124,  34.9259,2,-999.0000,9,    212.4,2,    26.31,2,    22.22,2, -999.000,9, -999.000,9, -999.000,9, -999.000,9, -999.000,9,-999.0000,9,  -999.00,9,-999.000,   -999.0,9,   -999.0,9,   1802,-999.0000,-999.000,-999.000,9,  3.3710,-999.000
      06MT28_1,   A08,   255,  2,   1487,    318,2,19940429,1024,-11.3345,   4.6665, 5589,   1995.9,   3.3212,  34.9304,2,  34.9301,2,    212.1,2,    28.56,2,    21.82,2, -999.000,9, -999.000,9, -999.000,9, -999.000,9, -999.000,9,-999.0000,9,  -999.00,9,-999.000,   -999.0,9,   -999.0,9,   1998,-999.0000,-999.000,-999.000,9,  3.1643,-999.000
      06MT28_1,   A08,   255,  2,   1486,    317,2,19940429,1024,-11.3345,   4.6665, 5589,   2248.5,   3.0671,  34.9240,2,-999.0000,9,    215.3,2,    32.13,2,    21.61,2, -999.000,9, -999.000,9, -999.000,9, -999.000,9, -999.000,9,-999.0000,9,  -999.00,9,-999.000,   -999.0,9,   -999.0,9,   2249,-999.0000,-999.000,-999.000,9,  2.8904,-999.000
      06MT28_1,   A08,   255,  2,   1484,    316,2,19940429,1024,-11.3345,   4.6665, 5589,   2497.8,   2.9065,  34.9198,2,-999.0000,9,    214.9,2,    35.12,2,    21.68,2, -999.000,9, -999.000,9, -999.000,9, -999.000,9, -999.000,9,-999.0000,9,  -999.00,9,-999.000,   -999.0,9,   -999.0,9,   2498,-999.0000,-999.000,-999.000,9,  2.7086,-999.000
      06MT28_1,   A08,   255,  2,   1529,    315,2,19940429,1024,-11.3345,   4.6665, 5589,   2751.2,   2.7614,  34.9134,2,-999.0000,9,    216.6,2,    38.11,2,    21.66,2, -999.000,9, -999.000,9, -999.000,9, -999.000,9, -999.000,9,-999.0000,9,  -999.00,9,-999.000,   -999.0,9,   -999.0,9,   2750,-999.0000,-999.000,-999.000,9,  2.5412,-999.000
      06MT28_1,   A08,   255,  2,   1528,    314,2,19940429,1024,-11.3345,   4.6665, 5589,   3002.1,   2.6253,  34.9055,2,  34.9043,2,    216.1,2,    41.19,2,    21.92,2, -999.000,9, -999.000,9, -999.000,9, -999.000,9, -999.000,9,-999.0000,9,  -999.00,9,-999.000,   -999.0,9,   -999.0,9,   3000,-999.0000,-999.000,-999.000,9,  2.3826,-999.000
      06MT28_1,   A08,   255,  2,   1526,    313,2,19940429,1024,-11.3345,   4.6665, 5589,   3228.2,   2.5285,  34.8987,2,-999.0000,9,    209.2,2,    46.81,2,    22.46,2, -999.000,9, -999.000,9, -999.000,9, -999.000,9, -999.000,9,-999.0000,9,  -999.00,9,-999.000,   -999.0,9,   -999.0,9,   3225,-999.0000,-999.000,-999.000,9,  2.2645,-999.000
      06MT28_1,   A08,   255,  2,   1525,    312,2,19940429,1024,-11.3345,   4.6665, 5589,   3503.4,   2.4208,  34.8934,2,-999.0000,9,    210.4,2,    48.64,2,    22.44,2,    0.005,2,    0.000,2,    0.007,2,    0.013,2, -999.000,9,-999.0000,9,  -999.00,9,-999.000,   -999.0,9,   -999.0,9,   3500,-999.0000,-999.000,-999.000,9,  2.1300,-999.000
      06MT28_1,   A08,   255,  2,   1524,    311,2,19940429,1024,-11.3345,   4.6665, 5589,   3753.3,   2.3611,  34.8902,2,-999.0000,9,    213.3,2,    48.68,2,    22.22,2, -999.000,9, -999.000,9, -999.000,9, -999.000,9, -999.000,9,-999.0000,9,  -999.00,9,-999.000,   -999.0,9,   -999.0,9,   3749,-999.0000,-999.000,-999.000,9,  2.0446,-999.000
      06MT28_1,   A08,   255,  2,   1523,    310,2,19940429,1024,-11.3345,   4.6665, 5589,   4005.9,   2.3526,  34.8881,2,  34.8880,2,    215.7,2,    48.73,2,    22.20,2, -999.000,9, -999.000,9, -999.000,9, -999.000,9, -999.000,9,-999.0000,9,  -999.00,9,-999.000,   -999.0,9,   -999.0,9,   4001,-999.0000,-999.000,-999.000,9,  2.0079,-999.000
      06MT28_1,   A08,   255,  2,   1522,    309,2,19940429,1024,-11.3345,   4.6665, 5589,   4255.9,   2.3541,  34.8869,2,-999.0000,9,    215.2,2,    48.96,2,    22.18,2, -999.000,9, -999.000,9, -999.000,9, -999.000,9, -999.000,9,-999.0000,9,  -999.00,9,-999.000,   -999.0,9,   -999.0,9,   4251,-999.0000,-999.000,-999.000,9,  1.9804,-999.000
      06MT28_1,   A08,   255,  2,   1521,    308,2,19940429,1024,-11.3345,   4.6665, 5589,   4505.5,   2.3657,  34.8840,2,-999.0000,9,    216.1,2,    49.00,2,    22.16,2,    0.001,2,    0.000,2,    0.004,2,    0.007,2, -999.000,9,-999.0000,9,  -999.00,9,-999.000,   -999.0,9,   -999.0,9,   4500,-999.0000,-999.000,-999.000,9,  1.9620,-999.000
      06MT28_1,   A08,   255,  2,   1562,    307,2,19940429,1024,-11.3345,   4.6665, 5589,   4754.9,   2.3780,  34.8820,2,-999.0000,9,    216.8,2,    48.86,2,    21.95,2, -999.000,9, -999.000,9, -999.000,9, -999.000,9, -999.000,9,-999.0000,9,  -999.00,9,-999.000,   -999.0,9,   -999.0,9,   4749,-999.0000,-999.000,-999.000,9,  1.9435,-999.000
      06MT28_1,   A08,   255,  2,   1563,    306,2,19940429,1024,-11.3345,   4.6665, 5589,   5006.0,   2.3968,  34.8803,2,  34.8797,2,    217.2,2,    49.28,2,    21.92,2,    0.007,2,    0.001,2,    0.005,2,    0.018,2, -999.000,9,-999.0000,9,  -999.00,9,-999.000,   -999.0,9,   -999.0,9,   5000,-999.0000,-999.000,-999.000,9,  1.9302,-999.000
      06MT28_1,   A08,   255,  2,   1560,    305,2,19940429,1024,-11.3345,   4.6665, 5589,   5257.3,   2.4209,  34.8788,2,-999.0000,9,    218.1,2,    49.32,2,    21.99,2,    0.007,2,    0.000,2,    0.002,2,    0.021,2, -999.000,9,-999.0000,9,  -999.00,9,-999.000,   -999.0,9,   -999.0,9,   5251,-999.0000,-999.000,-999.000,9,  1.9212,-999.000
      06MT28_1,   A08,   255,  2,   1559,    304,2,19940429,1024,-11.3345,   4.6665, 5589,   5537.9,   2.4508,  34.8780,2,-999.0000,9,    217.9,2,    49.08,2,    21.83,2,    0.007,2,    0.001,2,    0.007,2,    0.027,2, -999.000,9,-999.0000,9,  -999.00,9,-999.000,   -999.0,9,   -999.0,9,   5531,-999.0000,-999.000,-999.000,9,  1.9132,-999.000
      06MT28_1,   A08,   255,  2,   1558,    303,2,19940429,1024,-11.3345,   4.6665, 5589,   5605.1,   2.4577,  34.8773,2,-999.0000,9,    217.8,2,    49.07,2,    21.82,2,    0.006,2,    0.001,2,    0.013,2,    0.029,2, -999.000,9,-999.0000,9,  -999.00,9,-999.000,   -999.0,9,   -999.0,9,   5599,-999.0000,-999.000,-999.000,9,  1.9108,-999.000
      06MT28_1,   A08,   255,  2,   1557,    301,2,19940429,1024,-11.3345,   4.6665, 5589,   5641.5,   2.4628,  34.8767,2,  34.8767,2,    217.5,2,    49.11,2,    21.77,2,    0.007,2,    0.000,2,    0.008,2,    0.029,2, -999.000,9,-999.0000,9,  -999.00,9,-999.000,   -999.0,9,   -999.0,9,   5635,-999.0000,-999.000,-999.000,9,  1.9109,-999.000
      06MT28_1,   A08,   255,  2,   1556,    302,2,19940429,1024,-11.3345,   4.6665, 5589,   5642.0,   2.4630,  34.8775,2,  34.8774,2,    217.5,2,    49.06,2,    21.68,2, -999.000,9, -999.000,9, -999.000,9, -999.000,9, -999.000,9,-999.0000,9,  -999.00,9,-999.000,   -999.0,9,   -999.0,9,   5635,-999.0000,-999.000,-999.000,9,  1.9110,-999.000
      06MT28_1,   A08,   256,  1,   1555,    221,2,19940429,1723,-11.3335,   5.3332, 5450,     11.7,  25.3182,  36.7073,2,  36.6899,4,    200.3,2,     0.38,2,     0.00,2,    1.653,2,    0.956,2,    0.128,2,    1.893,2,    0.793,2,   1.6630,2,    -1.81,2,   6.610,   2056.2,2,    448.3,2,     11,  0.0060,   0.240,   0.021,2, 25.3156,   0.101
      06MT28_1,   A08,   256,  1,   1554,    223,2,19940429,1723,-11.3335,   5.3332, 5450,     11.9,  25.3356,  36.7095,2,-999.0000,9,   -999.0,9,     0.48,2,     0.00,2,    1.641,2,    0.962,2,    0.123,2,    1.783,2, -999.000,9,   1.6650,2,    -2.27,2,   6.598,   2055.4,2,    446.4,2,     11,  0.0060,   0.240,   0.021,2, 25.3330,-999.000
      06MT28_1,   A08,   256,  1,   1599,    220,2,19940429,1723,-11.3335,   5.3332, 5450,     50.0,  21.7177,  36.2795,2,-999.0000,9,    233.1,2,     0.96,2,     0.00,2,    1.984,2,    1.120,2,    0.146,2,    1.010,2,    0.837,2,   1.6900,2,    -1.68,2,   6.869,   2063.1,2,    507.8,2,     49,  0.0060,   0.240,   0.022,2, 21.7078,   0.027
      06MT28_1,   A08,   256,  1,   1598,    219,2,19940429,1723,-11.3335,   5.3332, 5450,     70.0,  17.5097,  35.8209,2,-999.0000,9,    127.6,2,     3.74,2,    13.34,2,    1.485,2,    0.815,2,    0.050,2,    0.556,2, -999.000,9,   1.7240,2,     0.35,2,   7.102,   2151.3,2,    902.0,2,     69,  0.0060,   0.250,   0.023,2, 17.4979,-999.000
      06MT28_1,   A08,   256,  1,   1596,    218,2,19940429,1723,-11.3335,   5.3332, 5450,    100.6,  14.4148,  35.4662,2,-999.0000,9,     56.5,2,     7.57,2,    24.73,2,    0.988,2,    0.536,2,    0.012,2,    0.200,2, -999.000,9,   1.7300,6,     1.08,6,   7.206,   2207.0,2,   1481.6,2,    100,  0.0070,   0.250,   0.024,6, 14.4000,-999.000
      06MT28_1,   A08,   256,  1,   1595,    217,2,19940429,1723,-11.3335,   5.3332, 5450,    150.3,  12.7132,  35.2700,2,-999.0000,9,     56.9,2,     9.10,2,    27.21,2,    0.735,2,    0.406,2,    0.013,2,    0.162,2, -999.000,9,   1.7440,2,     1.58,2,   7.326,   2213.3,2,   1624.3,2,    150,  0.0070,   0.250,   0.024,2, 12.6928,-999.000
      06MT28_1,   A08,   256,  1,   1594,    216,2,19940429,1723,-11.3335,   5.3332, 5450,    200.1,  11.6434,  35.1318,2,-999.0000,9,     56.9,2,    10.63,2,    28.83,2,    0.502,2,    0.280,2,    0.019,2,    0.133,2,    0.362,2,   1.7400,2,     1.30,2,   7.354,   2218.2,2,   1708.6,2,    200,  0.0060,   0.240,   0.023,2, 11.6177,   0.025
      06MT28_1,   A08,   256,  1,   1593,    215,2,19940429,1723,-11.3335,   5.3332, 5450,    301.2,  10.3405,  34.9838,2,-999.0000,9,     41.6,2,    13.40,2,    32.74,2,    0.229,2,    0.136,2,    0.011,2,    0.094,2, -999.000,9,   1.7560,2,     1.10,2,   7.409,   2234.7,2,   2046.0,2,    301,  0.0070,   0.250,   0.024,2, 10.3046,-999.000
      06MT28_1,   A08,   256,  1,   1592,    214,2,19940429,1723,-11.3335,   5.3332, 5450,    400.5,   8.9048,  34.8309,2,  34.8176,4,     27.3,2,    16.84,2,    37.13,2,    0.074,2,    0.047,2,    0.015,2,    0.060,2, -999.000,9,   1.7530,3,     0.36,3,   7.514,   2254.4,2,   1728.7,2,    400,  0.0150,   0.240,   0.061,3,  8.8611,-999.000
      06MT28_1,   A08,   256,  1,   1591,    213,2,19940429,1723,-11.3335,   5.3332, 5450,    500.7,   7.3787,  34.6852,2,-999.0000,9,     36.6,2,    20.56,2,    39.50,2,    0.023,2,    0.014,2,   -0.005,4,    0.060,2, -999.000,9,   1.7720,2,     0.98,2,   7.612,   2260.8,2,   1818.7,2,    500,  0.0070,   0.250,   0.025,2,  7.3296,-999.000
      06MT28_1,   A08,   256,  1,   1590,    212,2,19940429,1723,-11.3335,   5.3332, 5450,    601.1,   6.1659,  34.5818,2,-999.0000,9,     65.3,2,    23.99,2,    39.09,2,    0.009,2,    0.003,2,   -0.005,4,    0.062,2,    0.030,2,   1.8600,4,     1.02,2,   7.694,   2250.7,2,   1692.0,2,    601,  0.0070,   0.240,   0.024,2,  6.1121,   0.010
      06MT28_1,   A08,   256,  1,   1589,    211,2,19940429,1723,-11.3335,   5.3332, 5450,    698.5,   5.3413,  34.5296,2,  34.5159,4,     89.4,2,    27.42,2,    38.02,2,    0.007,2,    0.000,2,   -0.005,4,    0.181,4, -999.000,9,   1.7820,2,     1.14,2,   7.703,   2242.4,2,   1559.2,2,    699,  0.0070,   0.250,   0.025,2,  5.2827,-999.000
      06MT28_1,   A08,   256,  1,   1586,    210,2,19940429,1723,-11.3335,   5.3332, 5450,    850.3,   4.4947,  34.5222,2,-999.0000,9,    120.3,2,    31.99,2,    35.71,2,    0.001,2,    0.000,2,   -0.005,4,    0.026,2,    0.012,2,   1.7760,2,     2.07,2,   7.742,   2233.0,2,   1396.7,2,    851,  0.0070,   0.240,   0.025,2,  4.4281,   0.002
      06MT28_1,   A08,   256,  1,   1629,    208,2,19940429,1723,-11.3335,   5.3332, 5450,   1000.5,   4.1174,  34.5966,2,  34.5848,4,    136.0,2,    33.75,2,    33.51,2,    0.001,2,    0.000,2,   -0.005,4,    0.009,2,    0.014,2,   1.8010,2,     2.48,2,   7.835,   2228.3,2,   1279.3,6,   1002,  0.0070,   0.250,   0.026,2,  4.0407,   0.034
      06MT28_1,   A08,   256,  1,   1627,    207,2,19940429,1723,-11.3335,   5.3332, 5450,   1000.5,   4.1193,  34.5946,2,-999.0000,9,   -999.0,9,  -999.00,9,  -999.00,9, -999.000,9, -999.000,9, -999.000,9, -999.000,9, -999.000,9,-999.0000,9,  -999.00,9,-999.000,   -999.0,9,   -999.0,9,   1002,-999.0000,-999.000,-999.000,9,  4.0426,-999.000
      06MT28_1,   A08,   256,  1,   1628,    209,2,19940429,1723,-11.3335,   5.3332, 5450,   1000.7,   4.1174,  34.5965,2,-999.0000,9,    120.2,2,    32.10,3,    35.78,3,    0.002,2,    0.000,2,   -0.005,4,    0.027,2, -999.000,9,   1.8000,2,     2.34,2,   7.868,   2232.7,2,   -999.0,9,   1002,  0.0070,   0.250,   0.026,2,  4.0407,-999.000