BOTTLE,20220817CCHSIOAMB
EXPOCODE,SECT_ID,STNNBR,CASTNO,SAMPNO,BTLNBR,BTLNBR_FLAG_W,DATE,TIME,LATITUDE,LONGITUDE,DEPTH,CTDPRS,CTDTMP,CTDSAL,CTDSAL_FLAG_W,SALNTY,SALNTY_FLAG_W,OXYGEN,OXYGEN_FLAG_W,SILCAT,SILCAT_FLAG_W,NO2+NO3,NO2+NO3_FLAG_W,CFC-11,CFC-11_FLAG_W,CFC-12,CFC-12_FLAG_W,CFC113,CFC113_FLAG_W,CCL4,CCL4_FLAG_W,TRITUM,TRITUM_FLAG_W,HELIUM,HELIUM_FLAG_W,DELHE3,DELHE3_FLAG_W,NEON,TCARBN,TCARBN_FLAG_W,PCO2,PCO2_FLAG_W,CTDRAW,HELIER,DELHER,NEONER,NEON_FLAG_W,THETA,TRITER
,,,,,,,,,,,,DBAR,ITS-90,PSS-78,,PSS-78,,UMOL/KG,,UMOL/KG,,UMOL/KG,,PMOL/KG,,PMOL/KG,,PMOL/KG,,PMOL/KG,,TU,,NMOL/KG,,PERCNT,,NMOL/KG,UMOL/KG,,UATM,,,NMOL/KG,PERCNT,NMOL/KG,,ITS-90,TU
      06MT28_1,   A08,   187,  2,   1038,    324,2,19940407,0026,-11.3340, -30.6667, 5297,     15.0,  28.3109,  37.0346,2,  37.0370,2,    193.7,2,     0.96,2,     0.00,2, -999.000,9, -999.000,9, -999.000,9, -999.000,9, -999.000,9,-999.0000,9,  -999.00,9,-999.000,   -999.0,9,   -999.0,9,     11,-999.0000,-999.000,-999.000,9, 28.3073,-999.000
      06MT28_1,   A08,   187,  2,   1024,    323,2,19940407,0026,-11.3340, -30.6667, 5297,    922.2,   3.9962,  34.4580,2,-999.0000,9,    171.1,2,    34.52,3,    31.85,3, -999.000,9, -999.000,9, -999.000,9, -999.000,9, -999.000,9,-999.0000,9,  -999.00,9,-999.000,   -999.0,9,   -999.0,9,    926,-999.0000,-999.000,-999.000,9,  3.9271,-999.000
      06MT28_1,   A08,   187,  2,   1023,    322,2,19940407,0026,-11.3340, -30.6667, 5297,   1095.9,   3.8827,  34.5975,2,  34.5966,2,    170.9,2,    34.40,2,    30.49,2, -999.000,9, -999.000,9, -999.000,9, -999.000,9, -999.000,9,-999.0000,9,  -999.00,9,-999.000,   -999.0,9,   -999.0,9,   1099,-999.0000,-999.000,-999.000,9,  3.7998,-999.000
      06MT28_1,   A08,   187,  2,   1022,    321,2,19940407,0026,-11.3340, -30.6667, 5297,   1298.8,   4.0544,  34.8096,2,-999.0000,9,    188.8,2,    26.18,2,    25.89,2, -999.000,9, -999.000,9, -999.000,9, -999.000,9, -999.000,9,-999.0000,9,  -999.00,9,-999.000,   -999.0,9,   -999.0,9,   1302,-999.0000,-999.000,-999.000,9,  3.9521,-999.000
      06MT28_1,   A08,   187,  2,   1021,    320,2,19940407,0026,-11.3340, -30.6667, 5297,   1498.7,   4.1365,  34.9408,2,-999.0000,9,    218.0,2,    19.02,2,    21.21,2, -999.000,9, -999.000,9, -999.000,9, -999.000,9, -999.000,9,-999.0000,9,  -999.00,9,-999.000,   -999.0,9,   -999.0,9,   1501,-999.0000,-999.000,-999.000,9,  4.0150,-999.000
      06MT28_1,   A08,   187,  2,   1020,    319,2,19940407,0026,-11.3340, -30.6667, 5297,   1698.9,   3.6543,  34.9418,2,-999.0000,9,    229.8,2,    21.19,2,    20.24,2, -999.000,9, -999.000,9, -999.000,9, -999.000,9, -999.000,9,-999.0000,9,  -999.00,9,-999.000,   -999.0,9,   -999.0,9,   1701,-999.0000,-999.000,-999.000,9,  3.5202,-999.000
      06MT28_1,   A08,   187,  2,   1019,    318,2,19940407,0026,-11.3340, -30.6667, 5297,   1898.4,   3.4542,  34.9533,2,-999.0000,9,    240.2,2,    21.07,2,    19.17,2, -999.000,9, -999.000,9, -999.000,9, -999.000,9, -999.000,9,-999.0000,9,  -999.00,9,-999.000,   -999.0,9,   -999.0,9,   1900,-999.0000,-999.000,-999.000,9,  3.3044,-999.000
      06MT28_1,   A08,   187,  2,   1004,    317,2,19940407,0026,-11.3340, -30.6667, 5297,   2099.3,   3.2273,  34.9465,2,  34.9486,2,    240.2,2,    23.52,2,    19.06,2, -999.000,9, -999.000,9, -999.000,9, -999.000,9, -999.000,9,-999.0000,9,  -999.00,9,-999.000,   -999.0,9,   -999.0,9,   2100,-999.0000,-999.000,-999.000,9,  3.0621,-999.000
      06MT28_1,   A08,   187,  2,   1080,    316,2,19940407,0026,-11.3340, -30.6667, 5297,   2350.7,   2.9675,  34.9268,2,-999.0000,9,    238.1,2,    28.61,2,    19.80,2, -999.000,9, -999.000,9, -999.000,9, -999.000,9, -999.000,9,-999.0000,9,  -999.00,9,-999.000,   -999.0,9,   -999.0,9,   2350,-999.0000,-999.000,-999.000,9,  2.7827,-999.000
      06MT28_1,   A08,   187,  2,   1079,    315,2,19940407,0026,-11.3340, -30.6667, 5297,   2603.2,   2.8175,  34.9165,2,-999.0000,9,    236.0,2,    32.17,2,    20.16,2, -999.000,9, -999.000,9, -999.000,9, -999.000,9, -999.000,9,-999.0000,9,  -999.00,9,-999.000,   -999.0,9,   -999.0,9,   2602,-999.0000,-999.000,-999.000,9,  2.6109,-999.000
      06MT28_1,   A08,   187,  2,   1078,    314,2,19940407,0026,-11.3340, -30.6667, 5297,   2852.4,   2.7754,  34.9215,2,-999.0000,9,    239.1,2,    30.44,2,    19.57,2, -999.000,9, -999.000,9, -999.000,9, -999.000,9, -999.000,9,-999.0000,9,  -999.00,9,-999.000,   -999.0,9,   -999.0,9,   2850,-999.0000,-999.000,-999.000,9,  2.5447,-999.000
      06MT28_1,   A08,   187,  2,   1077,    313,2,19940407,0026,-11.3340, -30.6667, 5297,   3103.2,   2.7080,  34.9198,2,  34.9199,2,    240.7,2,    30.78,2,    19.36,2, -999.000,9, -999.000,9, -999.000,9, -999.000,9, -999.000,9,-999.0000,9,  -999.00,9,-999.000,   -999.0,9,   -999.0,9,   3100,-999.0000,-999.000,-999.000,9,  2.4529,-999.000
      06MT28_1,   A08,   187,  2,   1076,    312,2,19940407,0026,-11.3340, -30.6667, 5297,   3353.5,   2.5762,  34.9115,2,-999.0000,9,    242.4,2,    31.88,2,    19.24,2, -999.000,9, -999.000,9, -999.000,9, -999.000,9, -999.000,9,-999.0000,9,  -999.00,9,-999.000,   -999.0,9,   -999.0,9,   3349,-999.0000,-999.000,-999.000,9,  2.2977,-999.000
      06MT28_1,   A08,   187,  2,   1075,    311,2,19940407,0026,-11.3340, -30.6667, 5297,   3604.9,   2.3492,  34.8944,2,-999.0000,9,    242.6,2,    36.94,2,    19.69,2, -999.000,9, -999.000,9, -999.000,9, -999.000,9, -999.000,9,-999.0000,9,  -999.00,9,-999.000,   -999.0,9,   -999.0,9,   3600,-999.0000,-999.000,-999.000,9,  2.0493,-999.000
      06MT28_1,   A08,   187,  2,   1074,    310,2,19940407,0026,-11.3340, -30.6667, 5297,   3855.5,   2.0504,  34.8606,2,-999.0000,9,    236.0,2,    49.04,2,    21.27,4, -999.000,9, -999.000,9, -999.000,9, -999.000,9, -999.000,9,-999.0000,9,  -999.00,9,-999.000,   -999.0,9,   -999.0,9,   3850,-999.0000,-999.000,-999.000,9,  1.7310,-999.000
      06MT28_1,   A08,   187,  2,   1073,    309,2,19940407,0026,-11.3340, -30.6667, 5297,   4104.5,   1.6573,  34.8160,2,  34.8168,2,    227.1,2,    67.23,2,    23.88,2, -999.000,9, -999.000,9, -999.000,9, -999.000,9, -999.000,9,-999.0000,9,  -999.00,9,-999.000,   -999.0,9,   -999.0,9,   4099,-999.0000,-999.000,-999.000,9,  1.3216,-999.000
      06MT28_1,   A08,   187,  2,   1072,    308,2,19940407,0026,-11.3340, -30.6667, 5297,   4354.8,   1.2779,  34.7731,2,-999.0000,9,    219.3,2,    83.12,2,    26.21,2, -999.000,9, -999.000,9, -999.000,9, -999.000,9, -999.000,9,-999.0000,9,  -999.00,9,-999.000,   -999.0,9,   -999.0,9,   4349,-999.0000,-999.000,-999.000,9,  0.9257,-999.000
      06MT28_1,   A08,   187,  2,   1071,    307,2,19940407,0026,-11.3340, -30.6667, 5297,   4605.8,   1.0184,  34.7441,2,-999.0000,9,    215.7,2,    94.11,2,    27.58,2, -999.000,9, -999.000,9, -999.000,9, -999.000,9, -999.000,9,-999.0000,9,  -999.00,9,-999.000,   -999.0,9,   -999.0,9,   4599,-999.0000,-999.000,-999.000,9,  0.6461,-999.000
      06MT28_1,   A08,   187,  2,   1070,    306,2,19940407,0026,-11.3340, -30.6667, 5297,   4856.8,   0.7525,  34.7144,2,-999.0000,9,    209.7,2,   104.69,2,    28.96,2, -999.000,9, -999.000,9, -999.000,9, -999.000,9, -999.000,9,-999.0000,9,  -999.00,9,-999.000,   -999.0,9,   -999.0,9,   4850,-999.0000,-999.000,-999.000,9,  0.3602,-999.000
      06MT28_1,   A08,   187,  2,   1069,    305,2,19940407,0026,-11.3340, -30.6667, 5297,   5107.1,   0.6044,  34.6973,2,  34.6983,2,    208.3,2,   110.95,2,    29.68,2, -999.000,9, -999.000,9, -999.000,9, -999.000,9, -999.000,9,-999.0000,9,  -999.00,9,-999.000,   -999.0,9,   -999.0,9,   5100,-999.0000,-999.000,-999.000,9,  0.1880,-999.000
      06MT28_1,   A08,   187,  2,   1068,    304,2,19940407,0026,-11.3340, -30.6667, 5297,   5296.5,   0.5752,  34.6933,2,-999.0000,9,    207.0,2,   112.22,2,    29.94,2, -999.000,9, -999.000,9, -999.000,9, -999.000,9, -999.000,9,-999.0000,9,  -999.00,9,-999.000,   -999.0,9,   -999.0,9,   5290,-999.0000,-999.000,-999.000,9,  0.1373,-999.000
      06MT28_1,   A08,   187,  2,   1067,    303,2,19940407,0026,-11.3340, -30.6667, 5297,   5366.2,   0.5613,  34.6901,2,-999.0000,9,    207.0,2,   113.27,2,    30.16,2, -999.000,9, -999.000,9, -999.000,9, -999.000,9, -999.000,9,-999.0000,9,  -999.00,9,-999.000,   -999.0,9,   -999.0,9,   5359,-999.0000,-999.000,-999.000,9,  0.1155,-999.000
      06MT28_1,   A08,   187,  2,   1066,    301,2,19940407,0026,-11.3340, -30.6667, 5297,   5400.3,   0.5562,  34.6899,2,  34.6909,2,    206.4,2,   113.63,2,    30.11,2, -999.000,9, -999.000,9, -999.000,9, -999.000,9, -999.000,9,-999.0000,9,  -999.00,9,-999.000,   -999.0,9,   -999.0,9,   5394,-999.0000,-999.000,-999.000,9,  0.1064,-999.000
      06MT28_1,   A08,   187,  2,   1065,    302,2,19940407,0026,-11.3340, -30.6667, 5297,   5400.3,   0.5562,  34.6899,2,  34.6900,2,    206.3,2,   113.72,2,    30.11,2, -999.000,9, -999.000,9, -999.000,9, -999.000,9, -999.000,9,-999.0000,9,  -999.00,9,-999.000,   -999.0,9,   -999.0,9,   5394,-999.0000,-999.000,-999.000,9,  0.1064,-999.000
      06MT28_1,   A08,   188,  1,   1063,    223,2,19940407,0735,-11.3345, -29.9998, 5386,     11.1,  28.3398,  36.9102,2,-999.0000,9,   -999.0,9,  -999.00,9,  -999.00,5, -999.000,9, -999.000,9, -999.000,9, -999.000,9, -999.000,9,-999.0000,9,  -999.00,9,-999.000,   -999.0,9,   -999.0,9,     10,-999.0000,-999.000,-999.000,9, 28.3372,-999.000
      06MT28_1,   A08,   188,  1,   1062,    222,2,19940407,0735,-11.3345, -29.9998, 5386,     40.2,  28.2122,  36.9180,2,-999.0000,9,   -999.0,9,  -999.00,9,  -999.00,9, -999.000,9, -999.000,9, -999.000,9, -999.000,9, -999.000,9,-999.0000,9,  -999.00,9,-999.000,   -999.0,9,   -999.0,9,     39,-999.0000,-999.000,-999.000,9, 28.2027,-999.000
      06MT28_1,   A08,   188,  1,   1061,    221,2,19940407,0735,-11.3345, -29.9998, 5386,     60.4,  27.4080,  36.9541,2,-999.0000,9,    203.5,2,     0.67,2,     0.00,4,    1.585,2,    0.934,2,    0.085,4,    1.528,2, -999.000,9,-999.0000,9,  -999.00,9,-999.000,   2053.8,2,    461.8,6,     59,-999.0000,-999.000,-999.000,9, 27.3939,-999.000
      06MT28_1,   A08,   188,  1,   1060,    220,2,19940407,0735,-11.3345, -29.9998, 5386,     81.1,  25.3452,  37.0157,2,-999.0000,9,    212.5,2,     0.67,2,     0.00,4,    1.741,2,    0.996,2,    0.130,2,    1.275,2, -999.000,9,-999.0000,9,  -999.00,9,-999.000,   2069.2,2,    480.2,2,     80,-999.0000,-999.000,-999.000,9, 25.3273,-999.000
      06MT28_1,   A08,   188,  1,   1059,    219,2,19940407,0735,-11.3345, -29.9998, 5386,    119.5,  23.6466,  36.8515,2,-999.0000,9,    208.9,2,     0.67,2,     0.00,4,    1.825,2,    1.031,2,    0.126,2,    1.202,2, -999.000,9,-999.0000,9,  -999.00,9,-999.000,   2079.6,2,    517.5,2,    119,-999.0000,-999.000,-999.000,9, 23.6215,-999.000
      06MT28_1,   A08,   188,  1,   1056,    218,2,19940407,0735,-11.3345, -29.9998, 5386,    180.5,  18.0221,  35.9918,2,-999.0000,9,    168.6,2,     2.30,2,     6.61,2,    1.942,2,    1.066,2,    0.089,2,    0.732,2, -999.000,9,-999.0000,9,  -999.00,9,-999.000,   2123.4,2,    767.6,2,    180,-999.0000,-999.000,-999.000,9, 17.9908,-999.000
      06MT28_1,   A08,   188,  1,   1043,    217,2,19940407,0735,-11.3345, -29.9998, 5386,    250.0,  13.5423,  35.3452,2,-999.0000,9,    114.4,2,     6.41,2,    18.76,2,    1.292,2,    0.701,2,    0.037,2,    0.313,2, -999.000,9,-999.0000,9,  -999.00,9,-999.000,   2169.4,2,   1221.5,2,    249,-999.0000,-999.000,-999.000,9, 13.5068,-999.000
      06MT28_1,   A08,   188,  1,   1116,    216,2,19940407,0735,-11.3345, -29.9998, 5386,    350.5,   9.4875,  34.8594,2,-999.0000,9,    102.0,2,    12.44,2,    27.45,2,    0.372,2,    0.206,2,    0.007,2,    0.251,2, -999.000,9,-999.0000,9,  -999.00,9,-999.000,   2203.5,2,   1703.4,2,    350,-999.0000,-999.000,-999.000,9,  9.4479,-999.000
      06MT28_1,   A08,   188,  1,   1117,    215,2,19940407,0735,-11.3345, -29.9998, 5386,    449.8,   7.3920,  34.6349,2,-999.0000,9,    123.9,2,    16.73,2,    29.54,2,    0.255,2,    0.142,2,    0.003,2,    0.377,2, -999.000,9,-999.0000,9,  -999.00,9,-999.000,   2203.9,2,   1757.3,2,    449,-999.0000,-999.000,-999.000,9,  7.3481,-999.000
      06MT28_1,   A08,   188,  1,   1115,    214,2,19940407,0735,-11.3345, -29.9998, 5386,    551.0,   5.9815,  34.5083,2,-999.0000,9,    151.2,2,    21.21,2,    30.96,2,    0.235,2,    0.131,2,    0.002,2,    0.536,2, -999.000,9,-999.0000,9,  -999.00,9,-999.000,   2205.1,2,   1814.3,2,    551,-999.0000,-999.000,-999.000,9,  5.9332,-999.000
      06MT28_1,   A08,   188,  1,   1114,    213,2,19940407,0735,-11.3345, -29.9998, 5386,    649.6,   5.1651,  34.4581,2,-999.0000,9,    151.3,2,    25.02,2,    31.61,2,    0.142,2,    0.082,2,    0.002,2,    0.474,2, -999.000,9,-999.0000,9,  -999.00,9,-999.000,   2207.7,2,   1832.5,2,    650,-999.0000,-999.000,-999.000,9,  5.1118,-999.000
      06MT28_1,   A08,   188,  1,   1113,    212,2,19940407,0735,-11.3345, -29.9998, 5386,    748.4,   4.6503,  34.4401,2,-999.0000,9,    159.0,2,    28.25,2,    31.69,2,    0.116,2,    0.067,2,    0.000,2,    0.439,2, -999.000,9,-999.0000,9,  -999.00,9,-999.000,   2210.8,2,   1800.5,2,    749,-999.0000,-999.000,-999.000,9,  4.5914,-999.000
      06MT28_1,   A08,   188,  1,   1112,    211,2,19940407,0735,-11.3345, -29.9998, 5386,    824.3,   4.2509,  34.4416,2,-999.0000,9,    164.9,2,    31.68,2,    31.77,2,    0.095,2,    0.052,2,    0.001,2,    0.398,2, -999.000,9,-999.0000,9,  -999.00,9,-999.000,   2214.7,2,   1785.5,2,    825,-999.0000,-999.000,-999.000,9,  4.1881,-999.000
      06MT28_1,   A08,   188,  1,   1110,    210,2,19940407,0735,-11.3345, -29.9998, 5386,    924.1,   4.0147,  34.4889,2,  34.4890,2,    161.5,2,    34.14,2,    31.71,2,    0.033,2,    0.019,2,    0.011,2,    0.195,2, -999.000,9,-999.0000,9,  -999.00,9,-999.000,   2214.8,2,   1773.2,6,    925,-999.0000,-999.000,-999.000,9,  3.9453,-999.000
      06MT28_1,   A08,   188,  1,   1109,    209,2,19940407,0735,-11.3345, -29.9998, 5386,    924.1,   4.0168,  34.4890,2,  34.4889,2,   -999.0,9,  -999.00,9,  -999.00,9, -999.000,9, -999.000,9, -999.000,9, -999.000,9, -999.000,9,-999.0000,9,  -999.00,9,-999.000,   -999.0,9,   -999.0,9,    925,-999.0000,-999.000,-999.000,9,  3.9474,-999.000