BOTTLE,20220817CCHSIOAMB
EXPOCODE,SECT_ID,STNNBR,CASTNO,SAMPNO,BTLNBR,BTLNBR_FLAG_W,DATE,TIME,LATITUDE,LONGITUDE,DEPTH,CTDPRS,CTDTMP,CTDSAL,CTDSAL_FLAG_W,SALNTY,SALNTY_FLAG_W,OXYGEN,OXYGEN_FLAG_W,SILCAT,SILCAT_FLAG_W,NO2+NO3,NO2+NO3_FLAG_W,CFC-11,CFC-11_FLAG_W,CFC-12,CFC-12_FLAG_W,CFC113,CFC113_FLAG_W,CCL4,CCL4_FLAG_W,TRITUM,TRITUM_FLAG_W,HELIUM,HELIUM_FLAG_W,DELHE3,DELHE3_FLAG_W,NEON,TCARBN,TCARBN_FLAG_W,PCO2,PCO2_FLAG_W,CTDRAW,HELIER,DELHER,NEONER,NEON_FLAG_W,THETA,TRITER
,,,,,,,,,,,,DBAR,ITS-90,PSS-78,,PSS-78,,UMOL/KG,,UMOL/KG,,UMOL/KG,,PMOL/KG,,PMOL/KG,,PMOL/KG,,PMOL/KG,,TU,,NMOL/KG,,PERCNT,,NMOL/KG,UMOL/KG,,UATM,,,NMOL/KG,PERCNT,NMOL/KG,,ITS-90,TU
      06MT28_1,   A08,   237,  2,   3637,    324,2,19940423,1103,-11.3333,  -4.4998, 5061,     16.2,  25.8998,  36.7630,2,  36.7631,2,    197.7,2,     0.96,2,     0.00,2, -999.000,9, -999.000,9, -999.000,9, -999.000,9, -999.000,9,-999.0000,9,  -999.00,9,-999.000,   -999.0,9,   -999.0,9,     13,-999.0000,-999.000,-999.000,9, 25.8962,-999.000
      06MT28_1,   A08,   237,  2,   3625,    323,2,19940423,1103,-11.3333,  -4.4998, 5061,    819.3,   4.6382,  34.5014,2,-999.0000,9,    122.6,2,    30.82,2,    35.40,2, -999.000,9, -999.000,9, -999.000,9, -999.000,9, -999.000,9,-999.0000,9,  -999.00,9,-999.000,   -999.0,9,   -999.0,9,    823,-999.0000,-999.000,-999.000,9,  4.5733,-999.000
      06MT28_1,   A08,   237,  2,   3665,    322,2,19940423,1103,-11.3333,  -4.4998, 5061,    918.7,   4.2956,  34.5292,2,-999.0000,9,    136.9,2,    32.81,2,    33.95,2, -999.000,9, -999.000,9, -999.000,9, -999.000,9, -999.000,9,-999.0000,9,  -999.00,9,-999.000,   -999.0,9,   -999.0,9,    923,-999.0000,-999.000,-999.000,9,  4.2246,-999.000
      06MT28_1,   A08,   237,  2,   3664,    321,2,19940423,1103,-11.3333,  -4.4998, 5061,   1096.1,   3.9922,  34.6501,2,  34.6480,2,    155.1,2,    32.49,2,    30.97,2, -999.000,9, -999.000,9, -999.000,9, -999.000,9, -999.000,9,-999.0000,9,  -999.00,9,-999.000,   -999.0,9,   -999.0,9,   1100,-999.0000,-999.000,-999.000,9,  3.9083,-999.000
      06MT28_1,   A08,   237,  2,   3663,    320,2,19940423,1103,-11.3333,  -4.4998, 5061,   1295.8,   3.8669,  34.7789,2,-999.0000,9,    177.3,2,    29.22,2,    27.13,2, -999.000,9, -999.000,9, -999.000,9, -999.000,9, -999.000,9,-999.0000,9,  -999.00,9,-999.000,   -999.0,9,   -999.0,9,   1300,-999.0000,-999.000,-999.000,9,  3.7668,-999.000
      06MT28_1,   A08,   237,  2,   3662,    319,2,19940423,1103,-11.3333,  -4.4998, 5061,   1501.8,   3.7682,  34.8706,2,  34.8745,2,    195.7,2,    25.77,2,    24.06,2, -999.000,9, -999.000,9, -999.000,9, -999.000,9, -999.000,9,-999.0000,9,  -999.00,9,-999.000,   -999.0,9,   -999.0,9,   1505,-999.0000,-999.000,-999.000,9,  3.6507,-999.000
      06MT28_1,   A08,   237,  2,   3661,    318,2,19940423,1103,-11.3333,  -4.4998, 5061,   1697.6,   3.5962,  34.9134,2,-999.0000,9,    209.1,2,    25.37,2,    22.33,2, -999.000,9, -999.000,9, -999.000,9, -999.000,9, -999.000,9,-999.0000,9,  -999.00,9,-999.000,   -999.0,9,   -999.0,9,   1700,-999.0000,-999.000,-999.000,9,  3.4630,-999.000
      06MT28_1,   A08,   237,  2,   3660,    317,2,19940423,1103,-11.3333,  -4.4998, 5061,   1897.2,   3.4287,  34.9235,2,-999.0000,9,    213.7,2,    26.58,2,    21.74,2, -999.000,9, -999.000,9, -999.000,9, -999.000,9, -999.000,9,-999.0000,9,  -999.00,9,-999.000,   -999.0,9,   -999.0,9,   1899,-999.0000,-999.000,-999.000,9,  3.2794,-999.000
      06MT28_1,   A08,   237,  2,   3659,    316,2,19940423,1103,-11.3333,  -4.4998, 5061,   2097.8,   3.2015,  34.9217,2,  34.9221,2,    218.6,2,    29.59,2,    21.43,2, -999.000,9, -999.000,9, -999.000,9, -999.000,9, -999.000,9,-999.0000,9,  -999.00,9,-999.000,   -999.0,9,   -999.0,9,   2099,-999.0000,-999.000,-999.000,9,  3.0369,-999.000
      06MT28_1,   A08,   237,  2,   3658,    315,2,19940423,1103,-11.3333,  -4.4998, 5061,   2348.8,   2.9833,  34.9167,2,-999.0000,9,    220.4,2,    32.97,2,    21.32,2, -999.000,9, -999.000,9, -999.000,9, -999.000,9, -999.000,9,-999.0000,9,  -999.00,9,-999.000,   -999.0,9,   -999.0,9,   2349,-999.0000,-999.000,-999.000,9,  2.7984,-999.000
      06MT28_1,   A08,   237,  2,   3657,    314,2,19940423,1103,-11.3333,  -4.4998, 5061,   2599.6,   2.8149,  34.9098,2,-999.0000,9,    215.8,2,    36.34,2,    21.48,2, -999.000,9, -999.000,9, -999.000,9, -999.000,9, -999.000,9,-999.0000,9,  -999.00,9,-999.000,   -999.0,9,   -999.0,9,   2599,-999.0000,-999.000,-999.000,9,  2.6087,-999.000
      06MT28_1,   A08,   237,  2,   3656,    313,2,19940423,1103,-11.3333,  -4.4998, 5061,   2850.5,   2.6755,  34.9041,2,-999.0000,9,    226.7,2,    39.23,2,    21.55,2, -999.000,9, -999.000,9, -999.000,9, -999.000,9, -999.000,9,-999.0000,9,  -999.00,9,-999.000,   -999.0,9,   -999.0,9,   2849,-999.0000,-999.000,-999.000,9,  2.4471,-999.000
      06MT28_1,   A08,   237,  2,   3655,    312,2,19940423,1103,-11.3333,  -4.4998, 5061,   3102.0,   2.5548,  34.8982,2,  34.8975,2,    219.9,2,    42.30,2,    21.72,2, -999.000,9, -999.000,9, -999.000,9, -999.000,9, -999.000,9,-999.0000,9,  -999.00,9,-999.000,   -999.0,9,   -999.0,9,   3100,-999.0000,-999.000,-999.000,9,  2.3033,-999.000
      06MT28_1,   A08,   237,  2,   3654,    311,2,19940423,1103,-11.3333,  -4.4998, 5061,   3351.9,   2.4544,  34.8939,2,-999.0000,9,    219.5,2,    44.81,2,    21.88,2, -999.000,9, -999.000,9, -999.000,9, -999.000,9, -999.000,9,-999.0000,9,  -999.00,9,-999.000,   -999.0,9,   -999.0,9,   3349,-999.0000,-999.000,-999.000,9,  2.1790,-999.000
      06MT28_1,   A08,   237,  2,   3653,    310,2,19940423,1103,-11.3333,  -4.4998, 5061,   3603.2,   2.3965,  34.8906,2,-999.0000,9,    219.6,2,    45.79,2,    21.86,2, -999.000,9, -999.000,9, -999.000,9, -999.000,9, -999.000,9,-999.0000,9,  -999.00,9,-999.000,   -999.0,9,   -999.0,9,   3600,-999.0000,-999.000,-999.000,9,  2.0956,-999.000
      06MT28_1,   A08,   237,  2,   3652,    309,2,19940423,1103,-11.3333,  -4.4998, 5061,   3853.9,   2.3636,  34.8874,2,-999.0000,9,   -999.0,9,    46.88,2,    21.84,2, -999.000,9, -999.000,9, -999.000,9, -999.000,9, -999.000,9,-999.0000,9,  -999.00,9,-999.000,   -999.0,9,   -999.0,9,   3850,-999.0000,-999.000,-999.000,9,  2.0358,-999.000
      06MT28_1,   A08,   237,  2,   3651,    308,2,19940423,1103,-11.3333,  -4.4998, 5061,   4102.9,   2.3493,  34.8841,2,  34.8831,2,    220.5,2,    47.39,2,    21.82,2, -999.000,9, -999.000,9, -999.000,9, -999.000,9, -999.000,9,-999.0000,9,  -999.00,9,-999.000,   -999.0,9,   -999.0,9,   4098,-999.0000,-999.000,-999.000,9,  1.9936,-999.000
      06MT28_1,   A08,   237,  2,   3650,    307,2,19940423,1103,-11.3333,  -4.4998, 5061,   4353.5,   2.3664,  34.8841,2,-999.0000,9,    220.1,2,    47.63,2,    21.89,2,    0.009,2,    0.005,2,   -0.005,2,    0.017,2, -999.000,9,-999.0000,9,  -999.00,9,-999.000,   -999.0,9,   -999.0,9,   4348,-999.0000,-999.000,-999.000,9,  1.9809,-999.000
      06MT28_1,   A08,   237,  2,   3649,    306,2,19940423,1103,-11.3333,  -4.4998, 5061,   4605.7,   2.3905,  34.8835,2,-999.0000,9,    219.5,2,    47.67,2,    21.86,2,    0.007,2,    0.001,2,    0.000,2,    0.019,2, -999.000,9,-999.0000,9,  -999.00,9,-999.000,   -999.0,9,   -999.0,9,   4600,-999.0000,-999.000,-999.000,9,  1.9739,-999.000
      06MT28_1,   A08,   237,  2,   3648,    305,2,19940423,1103,-11.3333,  -4.4998, 5061,   4855.7,   2.4060,  34.8824,2,-999.0000,9,    219.4,2,    48.09,2,    21.84,2,    0.005,2,    0.000,2,    0.002,2,    0.023,2, -999.000,9,-999.0000,9,  -999.00,9,-999.000,   -999.0,9,   -999.0,9,   4850,-999.0000,-999.000,-999.000,9,  1.9580,-999.000
      06MT28_1,   A08,   237,  2,   3647,    304,2,19940423,1103,-11.3333,  -4.4998, 5061,   5030.8,   2.4235,  34.8819,2,-999.0000,9,    219.1,2,    48.15,2,    21.78,3,    0.011,2,    0.006,2,   -0.004,2,    0.023,2, -999.000,9,-999.0000,9,  -999.00,9,-999.000,   -999.0,9,   -999.0,9,   5025,-999.0000,-999.000,-999.000,9,  1.9528,-999.000
      06MT28_1,   A08,   237,  2,   3689,    303,2,19940423,1103,-11.3333,  -4.4998, 5061,   5106.3,   2.4334,  34.8813,2,-999.0000,9,    219.0,2,    48.14,2,    21.77,2,    0.007,2,    0.001,2,    0.002,2,    0.023,2, -999.000,9,-999.0000,9,  -999.00,9,-999.000,   -999.0,9,   -999.0,9,   5100,-999.0000,-999.000,-999.000,9,  1.9527,-999.000
      06MT28_1,   A08,   237,  2,   3688,    302,2,19940423,1103,-11.3333,  -4.4998, 5061,   5131.7,   2.4370,  34.8822,2,  34.8814,2,    219.1,2,    48.23,2,    21.72,2,    0.010,2,    0.004,2,    0.005,2,    0.024,2, -999.000,9,-999.0000,9,  -999.00,9,-999.000,   -999.0,9,   -999.0,9,   5126,-999.0000,-999.000,-999.000,9,  1.9530,-999.000
      06MT28_1,   A08,   237,  2,   3687,    301,2,19940423,1103,-11.3333,  -4.4998, 5061,   5131.8,   2.4369,  34.8823,2,  34.8827,2,    218.4,2,    47.99,2,    21.72,2,    0.008,2,    0.002,2,    0.001,2,    0.026,2, -999.000,9,-999.0000,9,  -999.00,9,-999.000,   -999.0,9,   -999.0,9,   5126,-999.0000,-999.000,-999.000,9,  1.9528,-999.000
      06MT28_1,   A08,   238,  1,   3686,    218,2,19940423,1713,-11.3337,  -4.0000, 4552,     11.1,  25.9729,  36.7663,2,  36.7575,3,    198.4,2,     0.96,2,     0.00,2,    1.617,2,    0.960,2,    0.034,4,    1.788,2,    0.939,2,   1.6830,3,    -1.50,3,   6.659,   2059.7,2,    495.6,2,     10,  0.0150,   0.240,   0.054,3, 25.9705,   0.026
      06MT28_1,   A08,   238,  1,   3684,    217,2,19940423,1713,-11.3337,  -4.0000, 4552,     40.4,  25.8881,  36.7626,2,-999.0000,9,    195.8,2,     0.96,2,     0.00,2,    1.612,2,    0.949,2,    0.034,4,    1.761,2, -999.000,9,-999.0000,9,  -999.00,9,-999.000,   2059.8,2,    490.9,2,     39,-999.0000,-999.000,-999.000,9, 25.8790,-999.000
      06MT28_1,   A08,   238,  1,   3683,    216,2,19940423,1713,-11.3337,  -4.0000, 4552,     59.7,  22.1198,  36.3800,2,-999.0000,9,    224.8,2,     0.86,2,     0.00,2,    2.005,2,    1.144,2,   -0.007,4,    1.222,2,    0.969,2,   1.6880,2,    -1.37,2,   6.825,   2066.3,2,    554.1,2,     59,  0.0060,   0.240,   0.022,2, 22.1078,   0.028
      06MT28_1,   A08,   238,  1,   3682,    215,2,19940423,1713,-11.3337,  -4.0000, 4552,     79.6,  18.6443,  36.0189,2,-999.0000,9,    192.2,2,     1.63,2,     4.51,2,    2.106,2,    1.168,2,    0.056,4,    0.955,2, -999.000,9,   1.7040,2,    -1.41,2,   6.968,   2100.4,2,    712.7,2,     79,  0.0060,   0.240,   0.022,2, 18.6302,-999.000
      06MT28_1,   A08,   238,  1,   3681,    214,2,19940423,1713,-11.3337,  -4.0000, 4552,    120.5,  15.0426,  35.5256,2,-999.0000,9,    130.8,2,     4.31,2,    15.62,2,    1.871,2,    1.014,2,    0.055,2,    0.539,2,    0.827,2,   1.7690,2,     0.05,2,   7.386,   2152.1,2,   1091.6,2,    120,  0.0060,   0.240,   0.023,2, 15.0243,   0.024
      06MT28_1,   A08,   238,  1,   3680,    213,2,19940423,1713,-11.3337,  -4.0000, 4552,    179.0,  12.3726,  35.2081,2,-999.0000,9,     63.7,2,     8.91,2,    26.62,2,    0.880,2,    0.477,2,    0.020,2,    0.211,2, -999.000,9,   1.7480,2,     0.70,2,   7.311,   2208.6,2,   1722.7,2,    178,  0.0070,   0.250,   0.024,2, 12.3487,-999.000
      06MT28_1,   A08,   238,  1,   3679,    212,2,19940423,1713,-11.3337,  -4.0000, 4552,    251.1,  10.7757,  35.0269,2,  35.0092,4,     62.1,2,    11.87,2,    29.77,2,    0.404,2,    0.224,2,    0.016,2,    0.145,2,    0.265,2,   1.7310,2,     1.05,2,   7.336,   2219.2,2,   1215.0,2,    250,  0.0060,   0.240,   0.023,2, 10.7450,   0.012
      06MT28_1,   A08,   238,  1,   3678,    211,2,19940423,1713,-11.3337,  -4.0000, 4552,    349.5,   8.8476,  34.8096,2,  34.8018,2,     92.0,2,    15.30,2,    32.24,2,    0.167,2,    0.094,2,    0.002,2,    0.145,2, -999.000,9,   1.7630,2,     0.58,2,   7.489,   2224.5,2,   1321.8,2,    349,  0.0070,   0.250,   0.025,2,  8.8098,-999.000
      06MT28_1,   A08,   238,  1,   3677,    210,2,19940423,1713,-11.3337,  -4.0000, 4552,    450.0,   7.5486,  34.6751,2,-999.0000,9,     85.4,2,    18.16,2,    33.65,2,    0.085,2,    0.055,2,    0.007,2,    0.170,2, -999.000,9,   1.7750,2,     0.72,2,   7.618,   2225.6,2,   1386.1,2,    449,  0.0070,   0.240,   0.024,2,  7.5041,-999.000
      06MT28_1,   A08,   238,  1,   3676,    209,2,19940423,1713,-11.3337,  -4.0000, 4552,    550.1,   6.2967,  34.5687,2,  34.5642,2,     97.6,2,    22.22,2,    34.97,2,    0.044,2,    0.030,2,    0.006,2,    0.171,2, -999.000,9,   1.7740,2,     1.11,2,   7.606,   2225.8,2,   1447.0,2,    550,  0.0070,   0.250,   0.025,2,  6.2471,-999.000
      06MT28_1,   A08,   238,  1,   3674,    207,2,19940423,1713,-11.3337,  -4.0000, 4552,    650.8,   5.4735,  34.5142,2,-999.0000,9,   -999.0,9,  -999.00,9,  -999.00,9, -999.000,9, -999.000,9, -999.000,9, -999.000,9, -999.000,9,-999.0000,9,  -999.00,9,-999.000,   -999.0,9,   -999.0,9,    651,-999.0000,-999.000,-999.000,9,  5.4186,-999.000
      06MT28_1,   A08,   238,  1,   3673,    208,2,19940423,1713,-11.3337,  -4.0000, 4552,    650.9,   5.4713,  34.5152,2,-999.0000,9,    109.3,2,    22.20,2,    35.05,2,    0.021,2,    0.015,2,    0.002,2,    0.139,2,    0.134,2,   1.7880,2,     1.51,2,   7.726,   2232.7,2,   1406.6,2,    651,  0.0070,   0.250,   0.025,2,  5.4164,   0.163