BOTTLE,20220817CCHSIOAMB
EXPOCODE,SECT_ID,STNNBR,CASTNO,SAMPNO,BTLNBR,BTLNBR_FLAG_W,DATE,TIME,LATITUDE,LONGITUDE,DEPTH,CTDPRS,CTDTMP,CTDSAL,CTDSAL_FLAG_W,SALNTY,SALNTY_FLAG_W,OXYGEN,OXYGEN_FLAG_W,SILCAT,SILCAT_FLAG_W,NO2+NO3,NO2+NO3_FLAG_W,CFC-11,CFC-11_FLAG_W,CFC-12,CFC-12_FLAG_W,CFC113,CFC113_FLAG_W,CCL4,CCL4_FLAG_W,TRITUM,TRITUM_FLAG_W,HELIUM,HELIUM_FLAG_W,DELHE3,DELHE3_FLAG_W,NEON,TCARBN,TCARBN_FLAG_W,PCO2,PCO2_FLAG_W,CTDRAW,HELIER,DELHER,NEONER,NEON_FLAG_W,THETA,TRITER
,,,,,,,,,,,,DBAR,ITS-90,PSS-78,,PSS-78,,UMOL/KG,,UMOL/KG,,UMOL/KG,,PMOL/KG,,PMOL/KG,,PMOL/KG,,PMOL/KG,,TU,,NMOL/KG,,PERCNT,,NMOL/KG,UMOL/KG,,UATM,,,NMOL/KG,PERCNT,NMOL/KG,,ITS-90,TU
      06MT28_1,   A08,   264,  2,   2586,    324,2,19940502,1310,-11.3338,  10.0012, 4150,     16.4,  26.4004,  35.8046,2,  35.9055,4,    237.7,2,     0.96,2,     0.38,2,    1.480,2,    0.881,2,    0.119,2,    0.626,2,    0.803,2,   1.6960,2,    -0.43,2,   6.860,   2039.7,2,    478.2,2,     14,  0.0060,   0.240,   0.022,4, 26.3967,   0.022
      06MT28_1,   A08,   264,  2,   2584,    323,2,19940502,1310,-11.3338,  10.0012, 4150,     31.8,  18.6536,  35.7248,2,-999.0000,9,    221.2,2,     2.69,2,     6.43,2,    1.307,2,    0.759,2,    0.056,2,    0.154,2, -999.000,9,-999.0000,9,  -999.00,9,-999.000,   2072.5,2,    596.0,6,     30,-999.0000,-999.000,-999.000,9, 18.6480,-999.000
      06MT28_1,   A08,   264,  2,   2583,    322,2,19940502,1310,-11.3338,  10.0012, 4150,     50.1,  16.2440,  35.6268,2,-999.0000,9,     50.7,2,     6.52,3,    23.29,3,    1.181,2,    0.678,2,    0.051,2,    0.162,2, -999.000,9,-999.0000,9,  -999.00,9,-999.000,   -999.0,9,   -999.0,9,     49,-999.0000,-999.000,-999.000,9, 16.2360,-999.000
      06MT28_1,   A08,   264,  2,   2580,    321,2,19940502,1310,-11.3338,  10.0012, 4150,     72.0,  15.5084,  35.5415,2,-999.0000,9,   -999.0,9,  -999.00,9,  -999.00,9,    1.118,2,    0.640,2,    0.043,2,    0.129,2, -999.000,9,-999.0000,9,  -999.00,9,-999.000,   -999.0,9,   -999.0,9,     71,-999.0000,-999.000,-999.000,9, 15.4972,-999.000
      06MT28_1,   A08,   264,  2,   2579,    320,2,19940502,1310,-11.3338,  10.0012, 4150,     99.7,  14.8898,  35.5097,2,-999.0000,9,     40.7,2,     8.05,2,    26.06,2,    0.958,2,    0.545,2,    0.025,2,    0.090,2, -999.000,9,   1.7170,2,     1.79,2,   7.154,   2217.0,2,   1569.1,2,     99,  0.0060,   0.250,   0.024,2, 14.8747,-999.000
      06MT28_1,   A08,   264,  2,   2619,    319,2,19940502,1310,-11.3338,  10.0012, 4150,    150.9,  14.0617,  35.4054,2,-999.0000,9,     43.5,2,     8.91,2,    26.82,2,    0.813,2,    0.470,2,    0.033,2,    0.098,2, -999.000,9,   1.7220,2,     1.22,2,   7.213,   2218.3,2,   1613.4,2,    151,  0.0060,   0.240,   0.023,2, 14.0398,-999.000
      06MT28_1,   A08,   264,  2,   2617,    318,2,19940502,1310,-11.3338,  10.0012, 4150,    200.1,  13.0387,  35.2826,2,-999.0000,9,     42.0,2,     9.86,3,    28.34,3,    0.653,2,    0.373,2,    0.015,2,    0.100,2, -999.000,9,-999.0000,9,     1.68,2,-999.000,   2221.7,2,   1791.2,2,    200,-999.0000,   0.250,-999.000,9, 13.0111,-999.000
      06MT28_1,   A08,   264,  2,   2616,    317,2,19940502,1310,-11.3338,  10.0012, 4150,    297.7,  11.3278,  35.0840,2,  35.0823,2,     35.5,2,    12.06,2,    31.87,2,    0.343,2,    0.207,2,    0.021,2,    0.089,2, -999.000,9,   1.7370,2,     1.20,2,   7.388,   2235.5,2,   2093.6,2,    299,  0.0060,   0.240,   0.023,2, 11.2901,-999.000
      06MT28_1,   A08,   264,  2,   2614,    316,2,19940502,1310,-11.3338,  10.0012, 4150,    395.7,   9.5819,  34.8854,2,-999.0000,9,     17.5,2,    16.07,2,    37.01,2,    0.111,6,    0.072,6,    0.011,2,    0.056,6, -999.000,9,   1.7590,2,     0.82,2,   7.448,   2259.6,2,   2510.9,2,    397,  0.0070,   0.250,   0.025,2,  9.5368,-999.000
      06MT28_1,   A08,   264,  2,   2612,    315,2,19940502,1310,-11.3338,  10.0012, 4150,    496.6,   7.7774,  34.7097,2,-999.0000,9,     29.2,2,    20.26,2,    39.67,2,    0.041,2,    0.025,2,   -0.009,4,    0.054,2, -999.000,9,   1.7740,2,     0.60,2,   7.592,   2264.4,2,   1873.2,2,    499,  0.0070,   0.250,   0.025,2,  7.7272,-999.000
      06MT28_1,   A08,   264,  2,   2628,    314,2,19940502,1310,-11.3338,  10.0012, 4150,    596.8,   6.4568,  34.5995,2,  34.5910,3,     52.5,2,    24.26,2,    40.12,2,    0.011,2,    0.009,2,   -0.009,4,    0.042,2, -999.000,9,   1.7860,2,     1.53,2,   7.684,   2259.2,2,   1820.4,2,    600,  0.0070,   0.250,   0.025,2,  6.4021,-999.000
      06MT28_1,   A08,   264,  2,   2627,    313,2,19940502,1310,-11.3338,  10.0012, 4150,    696.9,   5.4878,  34.5335,2,-999.0000,9,     76.5,2,    27.59,2,    39.15,2,    0.007,2,    0.004,2,   -0.009,4,    0.030,2,    0.005,2,   1.7660,2,     1.67,2,   7.674,   2251.1,2,   1667.2,2,    700,  0.0060,   0.240,   0.024,2,  5.4286,   0.007
      06MT28_1,   A08,   264,  2,   2625,    312,2,19940502,1310,-11.3338,  10.0012, 4150,    846.2,   4.6269,  34.5163,2,-999.0000,9,    107.8,2,    32.06,2,    36.83,2,    0.004,2,    0.000,2,   -0.009,4,    0.017,2, -999.000,9,   1.7930,2,     1.95,2,   7.707,   2241.1,2,   1483.8,2,    850,  0.0070,   0.250,   0.025,2,  4.5598,-999.000
      06MT28_1,   A08,   264,  2,   2624,    311,2,19940502,1310,-11.3338,  10.0012, 4150,    995.6,   4.1763,  34.5825,2,-999.0000,9,    127.9,2,    34.13,2,    34.13,2,    0.002,2,    0.000,2,   -0.009,4,    0.008,2,    0.000,2,   1.7900,2,     2.51,2,   7.806,   2236.4,2,   1340.5,2,   1000,  0.0070,   0.240,   0.025,2,  4.0996,   0.008
      06MT28_1,   A08,   264,  2,   2622,    310,2,19940502,1310,-11.3338,  10.0012, 4150,   1246.1,   3.9626,  34.7687,2,-999.0000,9,    163.4,2,    29.80,2,    28.47,2,    0.006,2,    0.002,2,   -0.009,4,    0.010,2, -999.000,9,-999.0000,9,  -999.00,9,-999.000,   2213.5,2,   1092.7,2,   1250,-999.0000,-999.000,-999.000,9,  3.8659,-999.000
      06MT28_1,   A08,   264,  2,   2621,    309,2,19940502,1310,-11.3338,  10.0012, 4150,   1496.3,   3.8116,  34.8943,2,-999.0000,9,    193.1,2,    25.39,2,    23.87,2,    0.023,4,    0.009,4,   -0.009,4,    0.029,2, -999.000,9,   1.8130,2,     2.19,2,   7.834,   2194.4,2,    923.0,2,   1500,  0.0070,   0.250,   0.026,2,  3.6941,-999.000
      06MT28_1,   A08,   264,  2,   2666,    308,2,19940502,1310,-11.3338,  10.0012, 4150,   1797.7,   3.5391,  34.9282,2,-999.0000,9,    211.1,2,    25.64,2,    21.94,2,    0.002,2,    0.000,2,   -0.009,4,    0.009,2,    0.005,2,   1.7930,2,     1.75,2,   7.843,   2184.5,2,    850.2,2,   1800,  0.0070,   0.240,   0.025,2,  3.3975,   0.005
      06MT28_1,   A08,   264,  2,   2665,    307,2,19940502,1310,-11.3338,  10.0012, 4150,   2199.0,   3.1433,  34.9288,2,-999.0000,9,    213.7,2,    31.28,2,    21.71,2,    0.001,2,    0.000,2,   -0.009,4,    0.003,2, -999.000,9,   1.8240,2,     2.56,2,   7.900,   2189.2,2,    841.3,2,   2200,  0.0070,   0.250,   0.026,2,  2.9700,-999.000
      06MT28_1,   A08,   264,  2,   2663,    306,2,19940502,1310,-11.3338,  10.0012, 4150,   2597.4,   2.8631,  34.9183,2,-999.0000,9,    215.9,2,    36.43,2,    21.67,2,    0.000,2,    0.000,2,    0.026,4,    0.002,2,    0.007,2,   1.8200,2,     3.42,2,   7.909,   2195.6,2,    836.3,2,   2597,  0.0070,   0.240,   0.025,2,  2.6562,   0.004
      06MT28_1,   A08,   264,  2,   2662,    305,2,19940502,1310,-11.3338,  10.0012, 4150,   3000.8,   2.6556,  34.9088,2,  34.9089,2,    216.2,2,    41.09,2,    21.82,2,    0.000,2,    0.000,2,   -0.009,4,    0.002,2, -999.000,9,   1.8320,2,     3.57,2,   7.938,   2199.6,2,    839.0,2,   2999,  0.0070,   0.250,   0.026,2,  2.4123,-999.000
      06MT28_1,   A08,   264,  2,   2661,    304,2,19940502,1310,-11.3338,  10.0012, 4150,   3402.1,   2.5147,  34.9019,2,-999.0000,9,    213.1,2,    45.55,2,    22.12,2,    0.001,2,    0.000,2,   -0.009,4,    0.001,2,    0.002,2,   1.8370,6,     2.93,6,   8.003,   2207.1,2,    870.0,2,   3399,  0.0070,   0.250,   0.026,6,  2.2325,   0.004
      06MT28_1,   A08,   264,  2,   2660,    303,2,19940502,1310,-11.3338,  10.0012, 4150,   3703.5,   2.4171,  34.8945,2,-999.0000,9,   -999.0,9,  -999.00,9,  -999.00,9, -999.000,9, -999.000,9, -999.000,9, -999.000,9, -999.000,9,-999.0000,9,  -999.00,9,-999.000,   -999.0,9,   -999.0,9,   3700,-999.0000,-999.000,-999.000,9,  2.1045,-999.000
      06MT28_1,   A08,   264,  2,   2659,    302,2,19940502,1310,-11.3338,  10.0012, 4150,   4083.7,   2.3538,  34.8871,2,  34.8855,2,    199.5,2,    54.50,2,    23.32,2,    0.007,2,    0.004,2,   -0.009,4,    0.011,2, -999.000,9,   1.8420,2,     3.24,2,   8.011,   2235.8,2,    866.5,2,   4079,  0.0070,   0.250,   0.026,2,  2.0002,-999.000
      06MT28_1,   A08,   264,  2,   2658,    301,2,19940502,1310,-11.3338,  10.0012, 4150,   4189.1,   2.3601,  34.8852,2,  34.8837,2,    195.4,2,    55.18,2,    23.50,2,    0.002,6,    0.000,6, -999.000,5,    0.005,6,    0.003,2,   1.8360,2,     2.23,2,   7.988,   2244.3,2,    878.4,6,   4185,  0.0070,   0.240,   0.025,2,  1.9941,   0.004
      06MT28_1,   A08,   265,  1,   2657,    216,2,19940502,1812,-11.3337,  10.4173, 4068,      7.2,  26.3186,  36.0604,2,  36.0599,2,    205.8,2,     0.29,2,     0.00,2, -999.000,9, -999.000,9, -999.000,9, -999.000,9, -999.000,9,-999.0000,9,  -999.00,9,-999.000,   -999.0,9,   -999.0,9,      7,-999.0000,-999.000,-999.000,9, 26.3170,-999.000
      06MT28_1,   A08,   265,  1,   2655,    215,2,19940502,1812,-11.3337,  10.4173, 4068,     40.1,  17.8400,  35.6877,2,-999.0000,9,    117.7,2,     4.32,2,    16.01,2, -999.000,9, -999.000,9, -999.000,9, -999.000,9, -999.000,9,-999.0000,9,  -999.00,9,-999.000,   -999.0,9,   -999.0,9,     40,-999.0000,-999.000,-999.000,9, 17.8331,-999.000
      06MT28_1,   A08,   265,  1,   2654,    214,2,19940502,1812,-11.3337,  10.4173, 4068,     59.9,  16.2529,  35.6202,2,-999.0000,9,    100.6,2,     6.52,2,    23.68,2, -999.000,9, -999.000,9, -999.000,9, -999.000,9, -999.000,9,-999.0000,9,  -999.00,9,-999.000,   -999.0,9,   -999.0,9,     60,-999.0000,-999.000,-999.000,9, 16.2433,-999.000
      06MT28_1,   A08,   265,  1,   2653,    213,2,19940502,1812,-11.3337,  10.4173, 4068,     80.0,  15.4724,  35.5599,2,-999.0000,9,     44.6,2,     7.28,2,    24.72,2, -999.000,9, -999.000,9, -999.000,9, -999.000,9, -999.000,9,-999.0000,9,  -999.00,9,-999.000,   -999.0,9,   -999.0,9,     80,-999.0000,-999.000,-999.000,9, 15.4600,-999.000
      06MT28_1,   A08,   265,  1,   2652,    212,2,19940502,1812,-11.3337,  10.4173, 4068,    119.8,  14.7348,  35.4830,2,-999.0000,9,     47.3,2,     7.86,2,    25.58,2, -999.000,9, -999.000,9, -999.000,9, -999.000,9, -999.000,9,-999.0000,9,  -999.00,9,-999.000,   -999.0,9,   -999.0,9,    120,-999.0000,-999.000,-999.000,9, 14.7169,-999.000
      06MT28_1,   A08,   265,  1,   2650,    211,2,19940502,1812,-11.3337,  10.4173, 4068,    180.0,  13.7884,  35.3707,2,-999.0000,9,     47.3,2,     8.81,2,    26.72,2, -999.000,9, -999.000,9, -999.000,9, -999.000,9, -999.000,9,-999.0000,9,  -999.00,9,-999.000,   -999.0,9,   -999.0,9,    180,-999.0000,-999.000,-999.000,9, 13.7626,-999.000
      06MT28_1,   A08,   265,  1,   2703,    210,2,19940502,1812,-11.3337,  10.4173, 4068,    251.4,  12.4276,  35.2072,2,  35.2127,2,     54.5,2,     9.86,2,    28.05,2, -999.000,9, -999.000,9, -999.000,9, -999.000,9, -999.000,9,-999.0000,9,  -999.00,9,-999.000,   -999.0,9,   -999.0,9,    251,-999.0000,-999.000,-999.000,9, 12.3939,-999.000
      06MT28_1,   A08,   265,  1,   2702,    209,2,19940502,1812,-11.3337,  10.4173, 4068,    348.0,  10.7139,  35.0084,2,-999.0000,9,     26.9,2,    13.30,2,    34.01,2, -999.000,9, -999.000,9, -999.000,9, -999.000,9, -999.000,9,-999.0000,9,  -999.00,9,-999.000,   -999.0,9,   -999.0,9,    348,-999.0000,-999.000,-999.000,9, 10.6714,-999.000
      06MT28_1,   A08,   265,  1,   2701,    208,2,19940502,1812,-11.3337,  10.4173, 4068,    449.8,   8.7127,  34.7961,2,-999.0000,9,     21.1,2,    17.97,2,    38.72,2, -999.000,9, -999.000,9, -999.000,9, -999.000,9, -999.000,9,-999.0000,9,  -999.00,9,-999.000,   -999.0,9,   -999.0,9,    450,-999.0000,-999.000,-999.000,9,  8.6642,-999.000
      06MT28_1,   A08,   265,  1,   2694,    207,2,19940502,1812,-11.3337,  10.4173, 4068,   1002.9,   4.1460,  34.5911,2,-999.0000,9,   -999.0,9,  -999.00,9,  -999.00,9, -999.000,9, -999.000,9, -999.000,9, -999.000,9, -999.000,9,-999.0000,9,  -999.00,9,-999.000,   -999.0,9,   -999.0,9,   1004,-999.0000,-999.000,-999.000,9,  4.0689,-999.000