BOTTLE,20220817CCHSIOAMB
EXPOCODE,SECT_ID,STNNBR,CASTNO,SAMPNO,BTLNBR,BTLNBR_FLAG_W,DATE,TIME,LATITUDE,LONGITUDE,DEPTH,CTDPRS,CTDTMP,CTDSAL,CTDSAL_FLAG_W,SALNTY,SALNTY_FLAG_W,OXYGEN,OXYGEN_FLAG_W,SILCAT,SILCAT_FLAG_W,NO2+NO3,NO2+NO3_FLAG_W,CFC-11,CFC-11_FLAG_W,CFC-12,CFC-12_FLAG_W,CFC113,CFC113_FLAG_W,CCL4,CCL4_FLAG_W,TRITUM,TRITUM_FLAG_W,HELIUM,HELIUM_FLAG_W,DELHE3,DELHE3_FLAG_W,NEON,TCARBN,TCARBN_FLAG_W,PCO2,PCO2_FLAG_W,CTDRAW,HELIER,DELHER,NEONER,NEON_FLAG_W,THETA,TRITER
,,,,,,,,,,,,DBAR,ITS-90,PSS-78,,PSS-78,,UMOL/KG,,UMOL/KG,,UMOL/KG,,PMOL/KG,,PMOL/KG,,PMOL/KG,,PMOL/KG,,TU,,NMOL/KG,,PERCNT,,NMOL/KG,UMOL/KG,,UATM,,,NMOL/KG,PERCNT,NMOL/KG,,ITS-90,TU
      06MT28_1,   A08,   261,  2,   2270,    324,2,19940501,1548,-11.3332,   8.5000, 4788,     13.4,  26.8581,  35.7508,2,  35.7526,2,    198.9,2,     0.77,2,     0.19,2, -999.000,9, -999.000,9, -999.000,9, -999.000,9, -999.000,9,-999.0000,9,  -999.00,9,-999.000,   -999.0,9,   -999.0,9,     10,-999.0000,-999.000,-999.000,9, 26.8550,-999.000
      06MT28_1,   A08,   261,  2,   2302,    323,2,19940501,1548,-11.3332,   8.5000, 4788,    747.5,   5.1772,  34.5184,2,  34.5195,2,     87.7,2,    29.02,2,    38.56,2, -999.000,9, -999.000,9, -999.000,9, -999.000,9, -999.000,9,-999.0000,9,  -999.00,9,-999.000,   -999.0,9,   -999.0,9,    751,-999.0000,-999.000,-999.000,9,  5.1153,-999.000
      06MT28_1,   A08,   261,  2,   2303,    322,2,19940501,1548,-11.3332,   8.5000, 4788,    820.7,   4.7444,  34.5118,2,-999.0000,9,    104.4,2,    31.49,2,    37.31,2, -999.000,9, -999.000,9, -999.000,9, -999.000,9, -999.000,9,-999.0000,9,  -999.00,9,-999.000,   -999.0,9,   -999.0,9,    824,-999.0000,-999.000,-999.000,9,  4.6787,-999.000
      06MT28_1,   A08,   261,  2,   2300,    321,2,19940501,1548,-11.3332,   8.5000, 4788,    922.1,   4.3745,  34.5349,2,-999.0000,9,    118.6,2,    33.19,2,    35.76,2, -999.000,9, -999.000,9, -999.000,9, -999.000,9, -999.000,9,-999.0000,9,  -999.00,9,-999.000,   -999.0,9,   -999.0,9,    926,-999.0000,-999.000,-999.000,9,  4.3026,-999.000
      06MT28_1,   A08,   261,  2,   2298,    320,2,19940501,1548,-11.3332,   8.5000, 4788,   1096.7,   4.1123,  34.6502,2,  34.6514,2,    137.7,2,    32.97,2,    32.40,2, -999.000,9, -999.000,9, -999.000,9, -999.000,9, -999.000,9,-999.0000,9,  -999.00,9,-999.000,   -999.0,9,   -999.0,9,   1100,-999.0000,-999.000,-999.000,9,  4.0274,-999.000
      06MT28_1,   A08,   261,  2,   2297,    319,2,19940501,1548,-11.3332,   8.5000, 4788,   1296.2,   3.9582,  34.7826,2,-999.0000,9,    165.3,2,    29.32,2,    28.27,2, -999.000,9, -999.000,9, -999.000,9, -999.000,9, -999.000,9,-999.0000,9,  -999.00,9,-999.000,   -999.0,9,   -999.0,9,   1299,-999.0000,-999.000,-999.000,9,  3.8571,-999.000
      06MT28_1,   A08,   261,  2,   2296,    318,2,19940501,1548,-11.3332,   8.5000, 4788,   1496.8,   3.8545,  34.8818,2,  34.8829,2,    191.0,2,    25.77,2,    24.54,2, -999.000,9, -999.000,9, -999.000,9, -999.000,9, -999.000,9,-999.0000,9,  -999.00,9,-999.000,   -999.0,9,   -999.0,9,   1500,-999.0000,-999.000,-999.000,9,  3.7365,-999.000
      06MT28_1,   A08,   261,  2,   2295,    317,2,19940501,1548,-11.3332,   8.5000, 4788,   1698.0,   3.6554,  34.9141,2,-999.0000,9,    201.7,2,    25.84,2,    23.09,2, -999.000,9, -999.000,9, -999.000,9, -999.000,9, -999.000,9,-999.0000,9,  -999.00,9,-999.000,   -999.0,9,   -999.0,9,   1700,-999.0000,-999.000,-999.000,9,  3.5214,-999.000
      06MT28_1,   A08,   261,  2,   2294,    316,2,19940501,1548,-11.3332,   8.5000, 4788,   1898.3,   3.4640,  34.9279,2,-999.0000,9,    208.6,2,    26.96,2,    22.12,2, -999.000,9, -999.000,9, -999.000,9, -999.000,9, -999.000,9,-999.0000,9,  -999.00,9,-999.000,   -999.0,9,   -999.0,9,   1900,-999.0000,-999.000,-999.000,9,  3.3141,-999.000
      06MT28_1,   A08,   261,  2,   2292,    315,2,19940501,1548,-11.3332,   8.5000, 4788,   2098.2,   3.2369,  34.9253,2,  34.9279,2,    211.8,2,    30.16,2,    22.10,2, -999.000,9, -999.000,9, -999.000,9, -999.000,9, -999.000,9,-999.0000,9,  -999.00,9,-999.000,   -999.0,9,   -999.0,9,   2099,-999.0000,-999.000,-999.000,9,  3.0717,-999.000
      06MT28_1,   A08,   261,  2,   2330,    314,2,19940501,1548,-11.3332,   8.5000, 4788,   2349.6,   3.0247,  34.9224,2,-999.0000,9,    216.2,2,    33.35,2,    21.79,2, -999.000,9, -999.000,9, -999.000,9, -999.000,9, -999.000,9,-999.0000,9,  -999.00,9,-999.000,   -999.0,9,   -999.0,9,   2350,-999.0000,-999.000,-999.000,9,  2.8390,-999.000
      06MT28_1,   A08,   261,  2,   2329,    313,2,19940501,1548,-11.3332,   8.5000, 4788,   2599.9,   2.8400,  34.9164,2,-999.0000,9,    216.7,2,    36.81,2,    21.77,2, -999.000,9, -999.000,9, -999.000,9, -999.000,9, -999.000,9,-999.0000,9,  -999.00,9,-999.000,   -999.0,9,   -999.0,9,   2599,-999.0000,-999.000,-999.000,9,  2.6333,-999.000
      06MT28_1,   A08,   261,  2,   2328,    312,2,19940501,1548,-11.3332,   8.5000, 4788,   2851.3,   2.7000,  34.9112,2,-999.0000,9,    216.6,2,    40.08,2,    21.84,2, -999.000,9, -999.000,9, -999.000,9, -999.000,9, -999.000,9,-999.0000,9,  -999.00,9,-999.000,   -999.0,9,   -999.0,9,   2850,-999.0000,-999.000,-999.000,9,  2.4710,-999.000
      06MT28_1,   A08,   261,  2,   2326,    311,2,19940501,1548,-11.3332,   8.5000, 4788,   3102.1,   2.5893,  34.9059,2,  34.8993,2,    213.1,2,    45.70,2,    22.19,2, -999.000,9, -999.000,9, -999.000,9, -999.000,9, -999.000,9,-999.0000,9,  -999.00,9,-999.000,   -999.0,9,   -999.0,9,   3100,-999.0000,-999.000,-999.000,9,  2.3370,-999.000
      06MT28_1,   A08,   261,  2,   2342,    310,2,19940501,1548,-11.3332,   8.5000, 4788,   3353.3,   2.4990,  34.9001,2,-999.0000,9,    212.2,2,    46.22,2,    22.26,2, -999.000,9, -999.000,9, -999.000,9, -999.000,9, -999.000,9,-999.0000,9,  -999.00,9,-999.000,   -999.0,9,   -999.0,9,   3350,-999.0000,-999.000,-999.000,9,  2.2224,-999.000
      06MT28_1,   A08,   261,  2,   2338,    309,2,19940501,1548,-11.3332,   8.5000, 4788,   3603.1,   2.4219,  34.8949,2,-999.0000,9,    207.8,2,    50.13,2,    22.52,2, -999.000,9, -999.000,9, -999.000,9, -999.000,9, -999.000,9,-999.0000,9,  -999.00,9,-999.000,   -999.0,9,   -999.0,9,   3599,-999.0000,-999.000,-999.000,9,  2.1203,-999.000
      06MT28_1,   A08,   261,  2,   2336,    308,2,19940501,1548,-11.3332,   8.5000, 4788,   3854.1,   2.3702,  34.8897,2,-999.0000,9,    205.0,2,    52.99,2,    22.78,2, -999.000,9, -999.000,9, -999.000,9, -999.000,9, -999.000,9,-999.0000,9,  -999.00,9,-999.000,   -999.0,9,   -999.0,9,   3850,-999.0000,-999.000,-999.000,9,  2.0422,-999.000
      06MT28_1,   A08,   261,  2,   2335,    307,2,19940501,1548,-11.3332,   8.5000, 4788,   4105.6,   2.3579,  34.8880,2,  34.8873,2,    207.8,2,    52.09,2,    22.66,2, -999.000,9, -999.000,9, -999.000,9, -999.000,9, -999.000,9,-999.0000,9,  -999.00,9,-999.000,   -999.0,9,   -999.0,9,   4101,-999.0000,-999.000,-999.000,9,  2.0016,-999.000
      06MT28_1,   A08,   261,  2,   2334,    306,2,19940501,1548,-11.3332,   8.5000, 4788,   4255.8,   2.3629,  34.8861,2,-999.0000,9,    207.7,2,    52.16,2,    22.55,2, -999.000,9, -999.000,9, -999.000,9, -999.000,9, -999.000,9,-999.0000,9,  -999.00,9,-999.000,   -999.0,9,   -999.0,9,   4251,-999.0000,-999.000,-999.000,9,  1.9890,-999.000
      06MT28_1,   A08,   261,  2,   2333,    305,2,19940501,1548,-11.3332,   8.5000, 4788,   4505.4,   2.3762,  34.8850,2,-999.0000,9,    209.5,2,    51.63,2,    22.53,2, -999.000,9, -999.000,9, -999.000,9, -999.000,9, -999.000,9,-999.0000,9,  -999.00,9,-999.000,   -999.0,9,   -999.0,9,   4500,-999.0000,-999.000,-999.000,9,  1.9722,-999.000
      06MT28_1,   A08,   261,  2,   2332,    304,2,19940501,1548,-11.3332,   8.5000, 4788,   4738.1,   2.3944,  34.8832,2,-999.0000,9,    208.8,2,    51.54,2,    22.51,2, -999.000,9, -999.000,9, -999.000,9, -999.000,9, -999.000,9,-999.0000,9,  -999.00,9,-999.000,   -999.0,9,   -999.0,9,   4732,-999.0000,-999.000,-999.000,9,  1.9614,-999.000
      06MT28_1,   A08,   261,  2,   2331,    303,2,19940501,1548,-11.3332,   8.5000, 4788,   4808.6,   2.4038,  34.8819,2,-999.0000,9,    209.9,2,    51.48,2,    22.55,2, -999.000,9, -999.000,9, -999.000,9, -999.000,9, -999.000,9,-999.0000,9,  -999.00,9,-999.000,   -999.0,9,   -999.0,9,   4803,-999.0000,-999.000,-999.000,9,  1.9617,-999.000
      06MT28_1,   A08,   261,  2,   2374,    301,2,19940501,1548,-11.3332,   8.5000, 4788,   4838.6,   2.4079,  34.8828,2,  34.8817,2,    208.1,2,    51.38,2,    22.64,2, -999.000,9, -999.000,9, -999.000,9, -999.000,9, -999.000,9,-999.0000,9,  -999.00,9,-999.000,   -999.0,9,   -999.0,9,   4833,-999.0000,-999.000,-999.000,9,  1.9619,-999.000
      06MT28_1,   A08,   261,  2,   2375,    302,2,19940501,1548,-11.3332,   8.5000, 4788,   4838.8,   2.4080,  34.8826,2,  34.8827,2,    208.4,2,    51.52,2,    22.55,2, -999.000,9, -999.000,9, -999.000,9, -999.000,9, -999.000,9,-999.0000,9,  -999.00,9,-999.000,   -999.0,9,   -999.0,9,   4833,-999.0000,-999.000,-999.000,9,  1.9620,-999.000
      06MT28_1,   A08,   262,  1,   2372,    218,2,19940501,2128,-11.3338,   8.9992, 4591,      9.5,  26.9315,  35.7131,2,  35.7063,2,    198.8,2,     0.77,2,     0.00,2,    1.517,2,    0.910,2,    0.115,2,    1.689,2, -999.000,9,-999.0000,9,  -999.00,9,-999.000,   2008.6,2,    445.9,6,      9,-999.0000,-999.000,-999.000,9, 26.9293,-999.000
      06MT28_1,   A08,   262,  1,   2370,    217,2,19940501,2128,-11.3338,   8.9992, 4591,     40.1,  16.7944,  35.6615,2,-999.0000,9,     50.1,2,     6.23,2,    22.53,2,    1.215,2,    0.686,2,    0.046,2,    0.162,2, -999.000,9,-999.0000,9,  -999.00,9,-999.000,   2204.8,2,   1397.1,2,     40,-999.0000,-999.000,-999.000,9, 16.7878,-999.000
      06MT28_1,   A08,   262,  1,   2369,    216,2,19940501,2128,-11.3338,   8.9992, 4591,     59.8,  15.6543,  35.5847,2,-999.0000,9,     41.3,2,     7.28,2,    24.82,2,    1.100,2,    0.621,2,    0.042,2,    0.118,2, -999.000,9,-999.0000,9,  -999.00,9,-999.000,   2213.5,2,   1522.2,2,     60,-999.0000,-999.000,-999.000,9, 15.6449,-999.000
      06MT28_1,   A08,   262,  1,   2368,    215,2,19940501,2128,-11.3338,   8.9992, 4591,     80.0,  15.2463,  35.5505,2,-999.0000,9,     36.2,2,     7.76,2,    25.68,2,    1.034,2,    0.582,2,    0.040,2,    0.092,2, -999.000,9,   1.7370,2,     1.09,2,   7.161,   2217.7,2,   1581.5,2,     80,  0.0070,   0.250,   0.024,2, 15.2341,-999.000
      06MT28_1,   A08,   262,  1,   2367,    214,2,19940501,2128,-11.3338,   8.9992, 4591,    120.0,  14.5439,  35.4702,2,-999.0000,9,     39.9,2,     8.33,2,    25.87,2,    0.904,2,    0.514,2,    0.048,2,    0.092,2, -999.000,9,   1.7360,6,     1.52,6,   7.208,   2214.8,2,   1569.8,2,    120,  0.0070,   0.250,   0.024,6, 14.5261,-999.000
      06MT28_1,   A08,   262,  1,   2366,    213,2,19940501,2128,-11.3338,   8.9992, 4591,    179.9,  13.4524,  35.3368,2,-999.0000,9,     44.6,2,     9.29,2,    27.10,2,    0.730,2,    0.418,2,    0.056,2,    0.104,2, -999.000,9,   1.7390,2,     2.15,2,   7.262,   2218.1,2,   1651.3,2,    180,  0.0070,   0.250,   0.024,2, 13.4270,-999.000
      06MT28_1,   A08,   262,  1,   2365,    212,2,19940501,2128,-11.3338,   8.9992, 4591,    250.0,  12.1505,  35.1838,2,  35.1772,2,     43.6,2,    10.91,2,    30.06,2,    0.486,2,    0.284,2,    0.048,2,    0.096,2, -999.000,9,   1.7460,6,     1.76,6,   7.299,   2230.3,2,   1264.5,4,    250,  0.0070,   0.250,   0.024,6, 12.1174,-999.000
      06MT28_1,   A08,   262,  1,   2364,    211,2,19940501,2128,-11.3338,   8.9992, 4591,    350.0,  10.3095,  34.9704,2,-999.0000,9,     38.3,2,    14.35,2,    35.11,2,    0.173,2,    0.107,2,    0.034,2,    0.062,2, -999.000,9,-999.0000,9,  -999.00,9,-999.000,   2251.0,2,   1615.7,2,    350,-999.0000,-999.000,-999.000,9, 10.2678,-999.000
      06MT28_1,   A08,   262,  1,   2362,    210,2,19940501,2128,-11.3338,   8.9992, 4591,    450.2,   8.5007,  34.7824,2,-999.0000,9,     22.7,2,    18.55,2,    38.72,2,    0.065,2,    0.045,2,    0.036,4,    0.057,2, -999.000,9,   1.7650,2,     0.88,2,   7.484,   2262.7,2,   1845.2,2,    450,  0.0070,   0.250,   0.025,2,  8.4529,-999.000
      06MT28_1,   A08,   262,  1,   2411,    209,2,19940501,2128,-11.3338,   8.9992, 4591,    549.8,   6.8381,  34.6324,2,-999.0000,9,     41.7,2,    22.55,2,    40.32,2,    0.016,2,    0.010,2,    0.036,4,    0.046,2, -999.000,9,-999.0000,9,  -999.00,9,-999.000,   2261.7,2,   -999.0,9,    550,-999.0000,-999.000,-999.000,9,  6.7863,-999.000
      06MT28_1,   A08,   262,  1,   2410,    208,2,19940501,2128,-11.3338,   8.9992, 4591,    650.2,   5.7547,  34.5508,2,  34.5478,2,     65.7,2,    26.17,3,    40.11,3,    0.004,2,    0.001,2,    0.036,4,    0.027,2, -999.000,9,-999.0000,9,  -999.00,9,-999.000,   2257.2,2,   1747.4,6,    651,-999.0000,-999.000,-999.000,9,  5.6984,-999.000
      06MT28_1,   A08,   262,  1,   2409,    207,2,19940501,2128,-11.3338,   8.9992, 4591,    650.3,   5.7285,  34.5492,2,-999.0000,9,   -999.0,9,  -999.00,9,  -999.00,9, -999.000,9, -999.000,9, -999.000,9, -999.000,9, -999.000,9,-999.0000,9,  -999.00,9,-999.000,   -999.0,9,   -999.0,9,    651,-999.0000,-999.000,-999.000,9,  5.6723,-999.000