BOTTLE,20220817CCHSIOAMB
EXPOCODE,SECT_ID,STNNBR,CASTNO,SAMPNO,BTLNBR,BTLNBR_FLAG_W,DATE,TIME,LATITUDE,LONGITUDE,DEPTH,CTDPRS,CTDTMP,CTDSAL,CTDSAL_FLAG_W,SALNTY,SALNTY_FLAG_W,OXYGEN,OXYGEN_FLAG_W,SILCAT,SILCAT_FLAG_W,NO2+NO3,NO2+NO3_FLAG_W,CFC-11,CFC-11_FLAG_W,CFC-12,CFC-12_FLAG_W,CFC113,CFC113_FLAG_W,CCL4,CCL4_FLAG_W,TRITUM,TRITUM_FLAG_W,HELIUM,HELIUM_FLAG_W,DELHE3,DELHE3_FLAG_W,NEON,TCARBN,TCARBN_FLAG_W,PCO2,PCO2_FLAG_W,CTDRAW,HELIER,DELHER,NEONER,NEON_FLAG_W,THETA,TRITER
,,,,,,,,,,,,DBAR,ITS-90,PSS-78,,PSS-78,,UMOL/KG,,UMOL/KG,,UMOL/KG,,PMOL/KG,,PMOL/KG,,PMOL/KG,,PMOL/KG,,TU,,NMOL/KG,,PERCNT,,NMOL/KG,UMOL/KG,,UATM,,,NMOL/KG,PERCNT,NMOL/KG,,ITS-90,TU
      06MT28_1,   A08,   199,  2,   1713,    324,2,19940411,2017,-11.3328, -22.6665, 5241,     15.4,  27.6799,  36.9376,2,  36.9368,2,    195.8,2,     0.86,2,     0.00,4, -999.000,9, -999.000,9, -999.000,9, -999.000,9, -999.000,9,-999.0000,9,  -999.00,9,-999.000,   -999.0,9,   -999.0,9,     11,-999.0000,-999.000,-999.000,9, 27.6763,-999.000
      06MT28_1,   A08,   199,  2,   1754,    323,2,19940411,2017,-11.3328, -22.6665, 5241,    922.0,   4.0678,  34.4827,2,-999.0000,9,    161.4,2,    33.76,2,    32.04,2, -999.000,9, -999.000,9, -999.000,9, -999.000,9, -999.000,9,-999.0000,9,  -999.00,9,-999.000,   -999.0,9,   -999.0,9,    925,-999.0000,-999.000,-999.000,9,  3.9982,-999.000
      06MT28_1,   A08,   199,  2,   1755,    322,2,19940411,2017,-11.3328, -22.6665, 5241,   1097.1,   3.9379,  34.6207,2,  34.6228,2,    167.1,2,    32.97,2,    30.11,2, -999.000,9, -999.000,9, -999.000,9, -999.000,9, -999.000,9,-999.0000,9,  -999.00,9,-999.000,   -999.0,9,   -999.0,9,   1100,-999.0000,-999.000,-999.000,9,  3.8544,-999.000
      06MT28_1,   A08,   199,  2,   1752,    321,2,19940411,2017,-11.3328, -22.6665, 5241,   1296.3,   3.9875,  34.7647,2,-999.0000,9,    181.5,2,    28.18,2,    26.94,2, -999.000,9, -999.000,9, -999.000,9, -999.000,9, -999.000,9,-999.0000,9,  -999.00,9,-999.000,   -999.0,9,   -999.0,9,   1299,-999.0000,-999.000,-999.000,9,  3.8862,-999.000
      06MT28_1,   A08,   199,  2,   1751,    320,2,19940411,2017,-11.3328, -22.6665, 5241,   1498.5,   3.8929,  34.8831,2,-999.0000,9,    205.6,2,    23.49,2,    23.01,2, -999.000,9, -999.000,9, -999.000,9, -999.000,9, -999.000,9,-999.0000,9,  -999.00,9,-999.000,   -999.0,9,   -999.0,9,   1501,-999.0000,-999.000,-999.000,9,  3.7743,-999.000
      06MT28_1,   A08,   199,  2,   1750,    319,2,19940411,2017,-11.3328, -22.6665, 5241,   1698.4,   3.6088,  34.9250,2,-999.0000,9,    223.0,2,    23.18,2,    20.90,2, -999.000,9, -999.000,9, -999.000,9, -999.000,9, -999.000,9,-999.0000,9,  -999.00,9,-999.000,   -999.0,9,   -999.0,9,   1700,-999.0000,-999.000,-999.000,9,  3.4754,-999.000
      06MT28_1,   A08,   199,  2,   1749,    318,2,19940411,2017,-11.3328, -22.6665, 5241,   1900.2,   3.4540,  34.9540,2,-999.0000,9,    238.1,2,    21.07,2,    19.17,2, -999.000,9, -999.000,9, -999.000,9, -999.000,9, -999.000,9,-999.0000,9,  -999.00,9,-999.000,   -999.0,9,   -999.0,9,   1901,-999.0000,-999.000,-999.000,9,  3.3040,-999.000
      06MT28_1,   A08,   199,  2,   1748,    317,2,19940411,2017,-11.3328, -22.6665, 5241,   2100.1,   3.2911,  34.9532,2,  34.9545,2,    240.8,2,    22.10,2,    18.78,2, -999.000,9, -999.000,9, -999.000,9, -999.000,9, -999.000,9,-999.0000,9,  -999.00,9,-999.000,   -999.0,9,   -999.0,9,   2100,-999.0000,-999.000,-999.000,9,  3.1248,-999.000
      06MT28_1,   A08,   199,  2,   1747,    316,2,19940411,2017,-11.3328, -22.6665, 5241,   2350.8,   3.0634,  34.9402,2,-999.0000,9,    242.1,2,    25.86,2,    19.23,2, -999.000,9, -999.000,9, -999.000,9, -999.000,9, -999.000,9,-999.0000,9,  -999.00,9,-999.000,   -999.0,9,   -999.0,9,   2350,-999.0000,-999.000,-999.000,9,  2.8769,-999.000
      06MT28_1,   A08,   199,  2,   1746,    315,2,19940411,2017,-11.3328, -22.6665, 5241,   2601.8,   2.9038,  34.9279,2,-999.0000,9,    237.3,2,    29.24,2,    19.59,2, -999.000,9, -999.000,9, -999.000,9, -999.000,9, -999.000,9,-999.0000,9,  -999.00,9,-999.000,   -999.0,9,   -999.0,9,   2600,-999.0000,-999.000,-999.000,9,  2.6957,-999.000
      06MT28_1,   A08,   199,  2,   1745,    314,2,19940411,2017,-11.3328, -22.6665, 5241,   2852.4,   2.7669,  34.9174,2,-999.0000,9,    236.2,2,    32.23,2,    19.85,2, -999.000,9, -999.000,9, -999.000,9, -999.000,9, -999.000,9,-999.0000,9,  -999.00,9,-999.000,   -999.0,9,   -999.0,9,   2850,-999.0000,-999.000,-999.000,9,  2.5364,-999.000
      06MT28_1,   A08,   199,  2,   1744,    313,2,19940411,2017,-11.3328, -22.6665, 5241,   3103.0,   2.6601,  34.9094,2,  34.9092,2,    235.2,2,    35.32,2,    20.21,2, -999.000,9, -999.000,9, -999.000,9, -999.000,9, -999.000,9,-999.0000,9,  -999.00,9,-999.000,   -999.0,9,   -999.0,9,   3100,-999.0000,-999.000,-999.000,9,  2.4061,-999.000
      06MT28_1,   A08,   199,  2,   1743,    312,2,19940411,2017,-11.3328, -22.6665, 5241,   3354.3,   2.5773,  34.9054,2,-999.0000,9,    235.5,2,    36.13,2,    20.09,2, -999.000,9, -999.000,9, -999.000,9, -999.000,9, -999.000,9,-999.0000,9,  -999.00,9,-999.000,   -999.0,9,   -999.0,9,   3350,-999.0000,-999.000,-999.000,9,  2.2987,-999.000
      06MT28_1,   A08,   199,  2,   1742,    311,2,19940411,2017,-11.3328, -22.6665, 5241,   3603.5,   2.3819,  34.8859,2,-999.0000,9,    233.3,2,    42.69,2,    20.92,2, -999.000,9, -999.000,9, -999.000,9, -999.000,9, -999.000,9,-999.0000,9,  -999.00,9,-999.000,   -999.0,9,   -999.0,9,   3599,-999.0000,-999.000,-999.000,9,  2.0814,-999.000
      06MT28_1,   A08,   199,  2,   1741,    310,2,19940411,2017,-11.3328, -22.6665, 5241,   3854.8,   2.0350,  34.8544,2,-999.0000,9,    230.3,2,    53.56,2,    22.21,2, -999.000,9, -999.000,9, -999.000,9, -999.000,9, -999.000,9,-999.0000,9,  -999.00,9,-999.000,   -999.0,9,   -999.0,9,   3849,-999.0000,-999.000,-999.000,9,  1.7162,-999.000
      06MT28_1,   A08,   199,  2,   1740,    309,2,19940411,2017,-11.3328, -22.6665, 5241,   4106.2,   1.4605,  34.7958,2,  34.7952,2,    221.6,2,    75.59,2,    25.10,2, -999.000,9, -999.000,9, -999.000,9, -999.000,9, -999.000,9,-999.0000,9,  -999.00,9,-999.000,   -999.0,9,   -999.0,9,   4100,-999.0000,-999.000,-999.000,9,  1.1304,-999.000
      06MT28_1,   A08,   199,  2,   1739,    308,2,19940411,2017,-11.3328, -22.6665, 5241,   4356.5,   1.1293,  34.7608,2,-999.0000,9,    217.0,2,    88.10,2,    26.86,2, -999.000,9, -999.000,9, -999.000,9, -999.000,9, -999.000,9,-999.0000,9,  -999.00,9,-999.000,   -999.0,9,   -999.0,9,   4350,-999.0000,-999.000,-999.000,9,  0.7815,-999.000
      06MT28_1,   A08,   199,  2,   1738,    307,2,19940411,2017,-11.3328, -22.6665, 5241,   4606.2,   0.9360,  34.7406,2,-999.0000,9,    213.6,2,    96.08,2,    27.87,2, -999.000,9, -999.000,9, -999.000,9, -999.000,9, -999.000,9,-999.0000,9,  -999.00,9,-999.000,   -999.0,9,   -999.0,9,   4600,-999.0000,-999.000,-999.000,9,  0.5662,-999.000
      06MT28_1,   A08,   199,  2,   1737,    306,2,19940411,2017,-11.3328, -22.6665, 5241,   4857.2,   0.8227,  34.7267,2,-999.0000,9,    210.9,2,   100.66,2,    28.49,2, -999.000,9, -999.000,9, -999.000,9, -999.000,9, -999.000,9,-999.0000,9,  -999.00,9,-999.000,   -999.0,9,   -999.0,9,   4851,-999.0000,-999.000,-999.000,9,  0.4279,-999.000
      06MT28_1,   A08,   199,  2,   1736,    305,2,19940411,2017,-11.3328, -22.6665, 5241,   5105.0,   0.8119,  34.7221,2,  34.7205,2,    210.0,2,   101.97,2,    28.65,2, -999.000,9, -999.000,9, -999.000,9, -999.000,9, -999.000,9,-999.0000,9,  -999.00,9,-999.000,   -999.0,9,   -999.0,9,   5098,-999.0000,-999.000,-999.000,9,  0.3883,-999.000
      06MT28_1,   A08,   199,  2,   1735,    304,2,19940411,2017,-11.3328, -22.6665, 5241,   5141.4,   0.8089,  34.7210,2,-999.0000,9,    210.0,2,   102.09,2,    28.65,2, -999.000,9, -999.000,9, -999.000,9, -999.000,9, -999.000,9,-999.0000,9,  -999.00,9,-999.000,   -999.0,9,   -999.0,9,   5135,-999.0000,-999.000,-999.000,9,  0.3811,-999.000
      06MT28_1,   A08,   199,  2,   1734,    303,2,19940411,2017,-11.3328, -22.6665, 5241,   5210.3,   0.7984,  34.7191,2,-999.0000,9,    209.8,2,   102.81,2,    28.73,2, -999.000,9, -999.000,9, -999.000,9, -999.000,9, -999.000,9,-999.0000,9,  -999.00,9,-999.000,   -999.0,9,   -999.0,9,   5203,-999.0000,-999.000,-999.000,9,  0.3627,-999.000
      06MT28_1,   A08,   199,  2,   1730,    301,2,19940411,2017,-11.3328, -22.6665, 5241,   5241.3,   0.7973,  34.7182,2,  34.7194,2,    209.6,2,   102.85,2,    28.78,2, -999.000,9, -999.000,9, -999.000,9, -999.000,9, -999.000,9,-999.0000,9,  -999.00,9,-999.000,   -999.0,9,   -999.0,9,   5235,-999.0000,-999.000,-999.000,9,  0.3579,-999.000
      06MT28_1,   A08,   199,  2,   1733,    302,2,19940411,2017,-11.3328, -22.6665, 5241,   5241.3,   0.7973,  34.7194,2,  34.7179,2,    209.2,2,   102.99,2,    28.78,2, -999.000,9, -999.000,9, -999.000,9, -999.000,9, -999.000,9,-999.0000,9,  -999.00,9,-999.000,   -999.0,9,   -999.0,9,   5235,-999.0000,-999.000,-999.000,9,  0.3579,-999.000
      06MT28_1,   A08,   200,  1,   1788,    220,2,19940412,0311,-11.3347, -21.9998, 4880,      8.2,  27.7984,  36.8155,2,  36.8176,2,    192.8,2,     0.00,4,     0.00,4, -999.000,9, -999.000,9, -999.000,9, -999.000,9, -999.000,9,-999.0000,9,  -999.00,9,-999.000,   2048.4,2,    460.6,6,      7,-999.0000,-999.000,-999.000,9, 27.7965,-999.000
      06MT28_1,   A08,   200,  1,   1789,    219,2,19940412,0311,-11.3347, -21.9998, 4880,     40.9,  27.8082,  36.8210,2,-999.0000,9,    192.6,2,     0.00,4,     0.00,4,    1.503,2,    0.883,2,    0.095,4,    1.746,2, -999.000,9,-999.0000,9,  -999.00,9,-999.000,   2048.4,2,    462.9,2,     40,-999.0000,-999.000,-999.000,9, 27.7986,-999.000
      06MT28_1,   A08,   200,  1,   1786,    218,2,19940412,0311,-11.3347, -21.9998, 4880,     58.8,  26.7718,  36.9061,2,-999.0000,9,    204.8,2,     0.00,2,     0.00,4,    1.624,2,    0.939,2,    0.123,4,    1.535,2, -999.000,9,-999.0000,9,  -999.00,9,-999.000,   2057.7,2,    473.3,2,     58,-999.0000,-999.000,-999.000,9, 26.7583,-999.000
      06MT28_1,   A08,   200,  1,   1784,    217,2,19940412,0311,-11.3347, -21.9998, 4880,     80.6,  25.0796,  36.8907,2,-999.0000,9,    214.5,2,     0.00,4,     0.00,4,    1.752,2,    0.992,2,    0.151,2,    1.435,2, -999.000,9,-999.0000,9,  -999.00,9,-999.000,   2063.2,2,    480.4,2,     80,-999.0000,-999.000,-999.000,9, 25.0620,-999.000
      06MT28_1,   A08,   200,  1,   1785,    216,2,19940412,0311,-11.3347, -21.9998, 4880,    120.3,  20.4652,  36.3379,2,-999.0000,9,    194.3,2,     0.58,2,     1.05,2,    1.934,6,    1.063,6,    0.137,6,    0.960,6, -999.000,9,-999.0000,9,  -999.00,9,-999.000,   2096.3,2,    627.9,2,    119,-999.0000,-999.000,-999.000,9, 20.4425,-999.000
      06MT28_1,   A08,   200,  1,   1783,    215,2,19940412,0311,-11.3347, -21.9998, 4880,    180.2,  15.1259,  35.5665,2,-999.0000,9,    134.6,2,     4.12,2,    14.85,2,    1.648,2,    0.897,2,    0.057,2,    0.464,2, -999.000,9,   1.7370,2,     0.73,2,   7.211,   2150.3,2,   1039.1,2,    180,  0.0070,   0.250,   0.024,2, 15.0984,-999.000
      06MT28_1,   A08,   200,  1,   1782,    214,2,19940412,0311,-11.3347, -21.9998, 4880,    251.3,  11.5028,  35.0918,2,-999.0000,9,     85.9,2,     9.28,2,    25.56,2,    0.619,2,    0.333,2,    0.016,2,    0.184,2, -999.000,9,   1.7560,2,     1.22,2,   7.406,   2198.1,2,   1551.4,2,    251,  0.0070,   0.250,   0.024,2, 11.4708,-999.000
      06MT28_1,   A08,   200,  1,   1781,    213,2,19940412,0311,-11.3347, -21.9998, 4880,    350.0,   8.7725,  34.7773,2,-999.0000,9,    109.0,2,    13.49,2,    28.41,2,    0.323,2,    0.181,2,    0.012,2,    0.305,2, -999.000,9,-999.0000,9,  -999.00,9,-999.000,   2201.2,2,   1092.8,2,    350,-999.0000,-999.000,-999.000,9,  8.7348,-999.000
      06MT28_1,   A08,   200,  1,   1780,    212,2,19940412,0311,-11.3347, -21.9998, 4880,    452.2,   7.1396,  34.6056,2,-999.0000,9,    126.9,2,    17.30,2,    30.31,2,    0.284,2,    0.152,2,    0.009,2,    0.461,2, -999.000,9,   1.7780,2,     1.33,2,   7.619,   2203.2,2,   1147.0,2,    452,  0.0070,   0.250,   0.025,2,  7.0962,-999.000
      06MT28_1,   A08,   200,  1,   1779,    211,2,19940412,0311,-11.3347, -21.9998, 4880,    551.1,   6.2776,  34.5330,2,-999.0000,9,    132.7,2,    20.26,2,    31.63,2,    0.189,2,    0.100,2,    0.025,4,    0.134,4, -999.000,9,   1.7830,2,     0.88,2,   7.661,   2206.5,2,   1174.7,2,    551,  0.0070,   0.250,   0.025,2,  6.2280,-999.000
      06MT28_1,   A08,   200,  1,   1777,    209,2,19940412,0311,-11.3347, -21.9998, 4880,    649.1,   5.5523,  34.4830,2,-999.0000,9,    140.9,2,    23.43,2,    32.17,2,    0.126,2,    0.071,2,    0.002,2,    0.405,2, -999.000,9,   1.7920,2,     0.87,2,   7.731,   2208.6,2,   1183.4,2,    649,  0.0070,   0.250,   0.026,2,  5.4972,-999.000
      06MT28_1,   A08,   200,  1,   1778,    210,2,19940412,0311,-11.3347, -21.9998, 4880,    649.2,   5.5523,  34.4829,2,-999.0000,9,    140.8,2,    23.30,2,    32.28,2,    0.131,2,    0.076,2,    0.003,2,    0.373,2, -999.000,9,   1.7980,2,     1.33,2,   7.738,   2207.9,2,   1199.1,2,    649,  0.0070,   0.250,   0.026,2,  5.4972,-999.000
      06MT28_1,   A08,   200,  1,   1773,    208,2,19940412,0311,-11.3347, -21.9998, 4880,    850.0,   4.2642,  34.4580,2,-999.0000,9,    158.9,2,    31.91,2,    32.30,2,    0.053,2,    0.027,2,    0.004,2,    0.237,2, -999.000,9,   1.8060,3,     2.53,3,   7.826,   2213.4,2,   1174.8,6,    851,  0.0160,   0.250,   0.065,3,  4.1992,-999.000
      06MT28_1,   A08,   200,  1,   1767,    207,2,19940412,0311,-11.3347, -21.9998, 4880,    998.7,   3.9236,  34.5309,2,-999.0000,9,   -999.0,9,  -999.00,9,  -999.00,9, -999.000,9, -999.000,9, -999.000,9, -999.000,9, -999.000,9,-999.0000,9,  -999.00,9,-999.000,   -999.0,9,   -999.0,9,   1000,-999.0000,-999.000,-999.000,9,  3.8485,-999.000