BOTTLE,20220817CCHSIOAMB
EXPOCODE,SECT_ID,STNNBR,CASTNO,SAMPNO,BTLNBR,BTLNBR_FLAG_W,DATE,TIME,LATITUDE,LONGITUDE,DEPTH,CTDPRS,CTDTMP,CTDSAL,CTDSAL_FLAG_W,SALNTY,SALNTY_FLAG_W,OXYGEN,OXYGEN_FLAG_W,SILCAT,SILCAT_FLAG_W,NO2+NO3,NO2+NO3_FLAG_W,CFC-11,CFC-11_FLAG_W,CFC-12,CFC-12_FLAG_W,CFC113,CFC113_FLAG_W,CCL4,CCL4_FLAG_W,TRITUM,TRITUM_FLAG_W,HELIUM,HELIUM_FLAG_W,DELHE3,DELHE3_FLAG_W,NEON,TCARBN,TCARBN_FLAG_W,PCO2,PCO2_FLAG_W,CTDRAW,HELIER,DELHER,NEONER,NEON_FLAG_W,THETA,TRITER
,,,,,,,,,,,,DBAR,ITS-90,PSS-78,,PSS-78,,UMOL/KG,,UMOL/KG,,UMOL/KG,,PMOL/KG,,PMOL/KG,,PMOL/KG,,PMOL/KG,,TU,,NMOL/KG,,PERCNT,,NMOL/KG,UMOL/KG,,UATM,,,NMOL/KG,PERCNT,NMOL/KG,,ITS-90,TU
      06MT28_1,   A08,   235,  2,   3553,    324,2,19940422,2002,-11.3330,  -5.5000, 4999,     15.9,  26.3971,  36.7057,2,  36.7055,2,    195.3,2,     0.96,2,     0.00,2, -999.000,9, -999.000,9, -999.000,9, -999.000,9, -999.000,9,-999.0000,9,  -999.00,9,-999.000,   -999.0,9,   -999.0,9,     13,-999.0000,-999.000,-999.000,9, 26.3935,-999.000
      06MT28_1,   A08,   235,  2,   3594,    323,2,19940422,2002,-11.3330,  -5.5000, 4999,    696.0,   5.2015,  34.4974,2,-999.0000,9,    119.1,2,    27.21,2,    35.52,2, -999.000,9, -999.000,9, -999.000,9, -999.000,9, -999.000,9,-999.0000,9,  -999.00,9,-999.000,   -999.0,9,   -999.0,9,    700,-999.0000,-999.000,-999.000,9,  5.1440,-999.000
      06MT28_1,   A08,   235,  2,   3595,    322,2,19940422,2002,-11.3330,  -5.5000, 4999,    846.7,   4.4558,  34.5124,2,-999.0000,9,    131.0,2,    31.58,2,    34.54,2, -999.000,9, -999.000,9, -999.000,9, -999.000,9, -999.000,9,-999.0000,9,  -999.00,9,-999.000,   -999.0,9,   -999.0,9,    851,-999.0000,-999.000,-999.000,9,  4.3898,-999.000
      06MT28_1,   A08,   235,  2,   3593,    321,2,19940422,2002,-11.3330,  -5.5000, 4999,    995.2,   4.0925,  34.5902,2,-999.0000,9,    148.1,2,    32.60,2,    32.13,2, -999.000,9, -999.000,9, -999.000,9, -999.000,9, -999.000,9,-999.0000,9,  -999.00,9,-999.000,   -999.0,9,   -999.0,9,   1000,-999.0000,-999.000,-999.000,9,  4.0164,-999.000
      06MT28_1,   A08,   235,  2,   3592,    320,2,19940422,2002,-11.3330,  -5.5000, 4999,   1195.4,   3.9406,  34.7127,2,-999.0000,9,    165.0,2,    30.76,2,    29.05,2, -999.000,9, -999.000,9, -999.000,9, -999.000,9, -999.000,9,-999.0000,9,  -999.00,9,-999.000,   -999.0,9,   -999.0,9,   1200,-999.0000,-999.000,-999.000,9,  3.8486,-999.000
      06MT28_1,   A08,   235,  2,   3591,    319,2,19940422,2002,-11.3330,  -5.5000, 4999,   1395.9,   3.8605,  34.8328,2,  34.8330,2,    186.4,2,    26.64,2,    25.40,2, -999.000,9, -999.000,9, -999.000,9, -999.000,9, -999.000,9,-999.0000,9,  -999.00,9,-999.000,   -999.0,9,   -999.0,9,   1400,-999.0000,-999.000,-999.000,9,  3.7515,-999.000
      06MT28_1,   A08,   235,  2,   3590,    318,2,19940422,2002,-11.3330,  -5.5000, 4999,   1597.0,   3.6663,  34.8992,2,-999.0000,9,    204.8,2,    25.19,2,    22.81,2, -999.000,9, -999.000,9, -999.000,9, -999.000,9, -999.000,9,-999.0000,9,  -999.00,9,-999.000,   -999.0,9,   -999.0,9,   1600,-999.0000,-999.000,-999.000,9,  3.5414,-999.000
      06MT28_1,   A08,   235,  2,   3589,    317,2,19940422,2002,-11.3330,  -5.5000, 4999,   1796.9,   3.4982,  34.9165,2,-999.0000,9,    211.5,2,    25.93,2,    21.94,2, -999.000,9, -999.000,9, -999.000,9, -999.000,9, -999.000,9,-999.0000,9,  -999.00,9,-999.000,   -999.0,9,   -999.0,9,   1800,-999.0000,-999.000,-999.000,9,  3.3572,-999.000
      06MT28_1,   A08,   235,  2,   3588,    316,2,19940422,2002,-11.3330,  -5.5000, 4999,   1998.5,   3.3156,  34.9237,2,  34.9217,2,    215.5,2,    27.80,2,    21.54,2, -999.000,9, -999.000,9, -999.000,9, -999.000,9, -999.000,9,-999.0000,9,  -999.00,9,-999.000,   -999.0,9,   -999.0,9,   2001,-999.0000,-999.000,-999.000,9,  3.1585,-999.000
      06MT28_1,   A08,   235,  2,   3587,    315,2,19940422,2002,-11.3330,  -5.5000, 4999,   2249.4,   3.1114,  34.9201,2,-999.0000,9,    221.4,2,    30.61,2,    21.04,2, -999.000,9, -999.000,9, -999.000,9, -999.000,9, -999.000,9,-999.0000,9,  -999.00,9,-999.000,   -999.0,9,   -999.0,9,   2251,-999.0000,-999.000,-999.000,9,  2.9339,-999.000
      06MT28_1,   A08,   235,  2,   3586,    314,2,19940422,2002,-11.3330,  -5.5000, 4999,   2498.8,   2.8793,  34.9124,2,-999.0000,9,    221.4,2,    34.84,2,    21.21,2, -999.000,9, -999.000,9, -999.000,9, -999.000,9, -999.000,9,-999.0000,9,  -999.00,9,-999.000,   -999.0,9,   -999.0,9,   2499,-999.0000,-999.000,-999.000,9,  2.6818,-999.000
      06MT28_1,   A08,   235,  2,   3585,    313,2,19940422,2002,-11.3330,  -5.5000, 4999,   2749.4,   2.7080,  34.9050,2,-999.0000,9,    221.1,2,    38.30,2,    21.47,2, -999.000,9, -999.000,9, -999.000,9, -999.000,9, -999.000,9,-999.0000,9,  -999.00,9,-999.000,   -999.0,9,   -999.0,9,   2749,-999.0000,-999.000,-999.000,9,  2.4891,-999.000
      06MT28_1,   A08,   235,  2,   3584,    312,2,19940422,2002,-11.3330,  -5.5000, 4999,   3001.2,   2.6005,  34.8997,2,  34.9001,2,    220.1,2,    41.00,2,    21.54,2, -999.000,9, -999.000,9, -999.000,9, -999.000,9, -999.000,9,-999.0000,9,  -999.00,9,-999.000,   -999.0,9,   -999.0,9,   3000,-999.0000,-999.000,-999.000,9,  2.3584,-999.000
      06MT28_1,   A08,   235,  2,   3583,    311,2,19940422,2002,-11.3330,  -5.5000, 4999,   3252.2,   2.4900,  34.8954,2,-999.0000,9,    220.2,2,    43.31,2,    21.61,2, -999.000,9, -999.000,9, -999.000,9, -999.000,9, -999.000,9,-999.0000,9,  -999.00,9,-999.000,   -999.0,9,   -999.0,9,   3250,-999.0000,-999.000,-999.000,9,  2.2243,-999.000
      06MT28_1,   A08,   235,  2,   3581,    310,2,19940422,2002,-11.3330,  -5.5000, 4999,   3502.5,   2.4183,  34.8918,2,-999.0000,9,    219.7,2,    45.34,2,    21.68,2, -999.000,9, -999.000,9, -999.000,9, -999.000,9, -999.000,9,-999.0000,9,  -999.00,9,-999.000,   -999.0,9,   -999.0,9,   3499,-999.0000,-999.000,-999.000,9,  2.1277,-999.000
      06MT28_1,   A08,   235,  2,   3580,    309,2,19940422,2002,-11.3330,  -5.5000, 4999,   3753.3,   2.3607,  34.8873,2,-999.0000,9,    220.5,2,    46.71,2,    21.66,2, -999.000,9, -999.000,9, -999.000,9, -999.000,9, -999.000,9,-999.0000,9,  -999.00,9,-999.000,   -999.0,9,   -999.0,9,   3750,-999.0000,-999.000,-999.000,9,  2.0442,-999.000
      06MT28_1,   A08,   235,  2,   3579,    308,2,19940422,2002,-11.3330,  -5.5000, 4999,   4003.6,   2.3530,  34.8854,2,  34.8788,2,    220.2,2,    46.94,2,    21.64,2, -999.000,9, -999.000,9, -999.000,9, -999.000,9, -999.000,9,-999.0000,9,  -999.00,9,-999.000,   -999.0,9,   -999.0,9,   3999,-999.0000,-999.000,-999.000,9,  2.0086,-999.000
      06MT28_1,   A08,   235,  2,   3578,    307,2,19940422,2002,-11.3330,  -5.5000, 4999,   4254.6,   2.3625,  34.8839,2,-999.0000,9,    220.2,2,    47.08,2,    21.61,2, -999.000,9, -999.000,9, -999.000,9, -999.000,9, -999.000,9,-999.0000,9,  -999.00,9,-999.000,   -999.0,9,   -999.0,9,   4250,-999.0000,-999.000,-999.000,9,  1.9888,-999.000
      06MT28_1,   A08,   235,  2,   3577,    306,2,19940422,2002,-11.3330,  -5.5000, 4999,   4505.6,   2.3833,  34.8828,2,-999.0000,9,    220.1,2,    47.31,2,    21.69,2, -999.000,9, -999.000,9, -999.000,9, -999.000,9, -999.000,9,-999.0000,9,  -999.00,9,-999.000,   -999.0,9,   -999.0,9,   4501,-999.0000,-999.000,-999.000,9,  1.9791,-999.000
      06MT28_1,   A08,   235,  2,   3576,    305,2,19940422,2002,-11.3330,  -5.5000, 4999,   4754.9,   2.4076,  34.8827,2,-999.0000,9,    219.7,2,    47.27,2,    21.66,2, -999.000,9, -999.000,9, -999.000,9, -999.000,9, -999.000,9,-999.0000,9,  -999.00,9,-999.000,   -999.0,9,   -999.0,9,   4749,-999.0000,-999.000,-999.000,9,  1.9720,-999.000
      06MT28_1,   A08,   235,  2,   3575,    304,2,19940422,2002,-11.3330,  -5.5000, 4999,   4975.8,   2.4340,  34.8824,2,-999.0000,9,    219.6,2,    47.23,2,    21.55,2,    0.011,2,    0.004,2,    0.007,2,    0.029,2, -999.000,9,-999.0000,9,  -999.00,9,-999.000,   -999.0,9,   -999.0,9,   4970,-999.0000,-999.000,-999.000,9,  1.9699,-999.000
      06MT28_1,   A08,   235,  2,   3574,    303,2,19940422,2002,-11.3330,  -5.5000, 4999,   5046.0,   2.4435,  34.8827,2,-999.0000,9,    219.5,2,    47.31,2,    21.55,2,    0.008,2,    0.002,2,    0.005,2,    0.026,2, -999.000,9,-999.0000,9,  -999.00,9,-999.000,   -999.0,9,   -999.0,9,   5040,-999.0000,-999.000,-999.000,9,  1.9702,-999.000
      06MT28_1,   A08,   235,  2,   3573,    302,2,19940422,2002,-11.3330,  -5.5000, 4999,   5075.8,   2.4476,  34.8815,2,  34.8801,2,    218.9,2,    47.30,2,    21.59,2,    0.011,2,    0.008,2,    0.002,4,    0.025,2, -999.000,9,-999.0000,9,  -999.00,9,-999.000,   -999.0,9,   -999.0,9,   5070,-999.0000,-999.000,-999.000,9,  1.9704,-999.000
      06MT28_1,   A08,   235,  2,   3571,    301,2,19940422,2002,-11.3330,  -5.5000, 4999,   5075.9,   2.4473,  34.8818,2,  34.8802,2,    219.7,2,    47.30,2,    21.59,2,    0.009,2,    0.002,2,    0.001,4,    0.027,2, -999.000,9,-999.0000,9,  -999.00,9,-999.000,   -999.0,9,   -999.0,9,   5070,-999.0000,-999.000,-999.000,9,  1.9701,-999.000
      06MT28_1,   A08,   236,  1,   3565,    215,2,19940423,0203,-11.3335,  -5.0000, 4161,      9.3,  26.2743,  36.7215,2,  36.7234,2,    194.3,2,  -999.00,9,  -999.00,9,    1.579,2,    0.925,2,    0.040,4,    1.779,2, -999.000,9,-999.0000,9,  -999.00,9,-999.000,   2059.2,2,    479.6,2,      8,-999.0000,-999.000,-999.000,9, 26.2722,-999.000
      06MT28_1,   A08,   236,  1,   3624,    214,2,19940423,0203,-11.3335,  -5.0000, 4161,     32.3,  26.2758,  36.7231,2,-999.0000,9,    194.2,2,     0.77,2,     0.00,2,    1.583,2,    0.932,2,    0.049,4,    1.765,2, -999.000,9,-999.0000,9,  -999.00,9,-999.000,   2061.3,2,    482.4,2,     31,-999.0000,-999.000,-999.000,9, 26.2685,-999.000
      06MT28_1,   A08,   236,  1,   3622,    213,2,19940423,0203,-11.3335,  -5.0000, 4161,     49.7,  26.2631,  36.7233,2,-999.0000,9,    197.8,2,     0.86,2,     0.00,2,    1.632,2,    0.958,2,    0.027,4,    1.632,2, -999.000,9,   1.6770,2,    -1.57,2,   6.615,   2061.1,2,    493.4,2,     49,  0.0060,   0.250,   0.022,2, 26.2519,-999.000
      06MT28_1,   A08,   236,  1,   3621,    212,2,19940423,0203,-11.3335,  -5.0000, 4161,     61.1,  22.6830,  36.5208,2,-999.0000,9,    221.5,2,     0.86,2,     0.00,2,    1.898,2,    1.085,2,    0.031,4,    1.145,2, -999.000,9,   1.6950,2,    -1.38,2,   6.843,   2075.1,2,    536.2,2,     60,  0.0060,   0.250,   0.023,2, 22.6706,-999.000
      06MT28_1,   A08,   236,  1,   3620,    211,2,19940423,0203,-11.3335,  -5.0000, 4161,     99.3,  17.0294,  35.8216,2,-999.0000,9,    154.9,2,     3.07,2,    10.93,2,    1.955,2,    1.058,2,    0.077,2,    0.767,2, -999.000,9,   1.7140,2,    -0.26,2,   7.035,   2135.5,2,    965.0,2,     99,  0.0060,   0.250,   0.023,2, 17.0130,-999.000
      06MT28_1,   A08,   236,  1,   3619,    210,2,19940423,0203,-11.3335,  -5.0000, 4161,    150.1,  13.3938,  35.3437,2,-999.0000,9,     62.9,2,     8.05,2,    25.57,2,    0.945,2,    0.512,3,    0.032,2,    0.225,2, -999.000,9,   1.7380,2,     1.43,2,   7.219,   2211.6,2,   1626.5,2,    150,  0.0070,   0.250,   0.024,2, 13.3727,-999.000
      06MT28_1,   A08,   236,  1,   3618,    209,2,19940423,0203,-11.3335,  -5.0000, 4161,    198.8,  11.8634,  35.1529,2,-999.0000,9,     57.9,2,    10.29,2,    28.34,2,    0.558,2,    0.308,2,    0.019,2,    0.137,2, -999.000,9,   1.7380,2,     1.48,2,   7.311,   2227.9,2,   1157.7,6,    198,  0.0070,   0.250,   0.024,2, 11.8376,-999.000
      06MT28_1,   A08,   236,  1,   3616,    208,2,19940423,0203,-11.3335,  -5.0000, 4161,    304.3,  10.0862,  34.9412,2,  34.9360,2,     52.3,2,    13.54,2,    32.20,2,    0.231,2,    0.134,2,    0.013,2,    0.109,2, -999.000,9,   1.7570,2,     0.98,2,   7.422,   2234.2,2,   -999.0,9,    304,  0.0070,   0.250,   0.024,2, 10.0505,-999.000
      06MT28_1,   A08,   236,  1,   3609,    207,2,19940423,0203,-11.3335,  -5.0000, 4161,   1011.8,   4.1222,  34.5734,2,-999.0000,9,   -999.0,9,  -999.00,9,  -999.00,9, -999.000,9, -999.000,9, -999.000,9, -999.000,9, -999.000,9,-999.0000,9,  -999.00,9,-999.000,   -999.0,9,   -999.0,9,   1013,-999.0000,-999.000,-999.000,9,  4.0445,-999.000