BOTTLE,20220817CCHSIOAMB
EXPOCODE,SECT_ID,STNNBR,CASTNO,SAMPNO,BTLNBR,BTLNBR_FLAG_W,DATE,TIME,LATITUDE,LONGITUDE,DEPTH,CTDPRS,CTDTMP,CTDSAL,CTDSAL_FLAG_W,SALNTY,SALNTY_FLAG_W,OXYGEN,OXYGEN_FLAG_W,SILCAT,SILCAT_FLAG_W,NO2+NO3,NO2+NO3_FLAG_W,CFC-11,CFC-11_FLAG_W,CFC-12,CFC-12_FLAG_W,CFC113,CFC113_FLAG_W,CCL4,CCL4_FLAG_W,TRITUM,TRITUM_FLAG_W,HELIUM,HELIUM_FLAG_W,DELHE3,DELHE3_FLAG_W,NEON,TCARBN,TCARBN_FLAG_W,PCO2,PCO2_FLAG_W,CTDRAW,HELIER,DELHER,NEONER,NEON_FLAG_W,THETA,TRITER
,,,,,,,,,,,,DBAR,ITS-90,PSS-78,,PSS-78,,UMOL/KG,,UMOL/KG,,UMOL/KG,,PMOL/KG,,PMOL/KG,,PMOL/KG,,PMOL/KG,,TU,,NMOL/KG,,PERCNT,,NMOL/KG,UMOL/KG,,UATM,,,NMOL/KG,PERCNT,NMOL/KG,,ITS-90,TU
      06MT28_1,   A08,   216,  2,   2563,    324,2,19940417,0457,-11.3328, -14.4982, 3045,    180.0,  13.3093,  35.3110,2,  35.3116,2,    108.6,2,     6.72,2,    19.79,2,    1.335,2,    0.701,2,    0.033,2,    0.334,2, -999.000,9,-999.0000,9,  -999.00,9,-999.000,   2171.1,2,   -999.0,9,    180,-999.0000,-999.000,-999.000,9, 13.2841,-999.000
      06MT28_1,   A08,   216,  2,   2562,    323,2,19940417,0457,-11.3328, -14.4982, 3045,    248.5,  11.0890,  35.0383,2,-999.0000,9,     77.3,2,    10.63,2,    27.01,2,    0.646,2,    0.353,2,    0.018,2,    0.211,2, -999.000,9,-999.0000,9,  -999.00,9,-999.000,   2206.4,2,   1084.3,2,    250,-999.0000,-999.000,-999.000,9, 11.0581,-999.000
      06MT28_1,   A08,   216,  2,   2561,    322,2,19940417,0457,-11.3328, -14.4982, 3045,    348.0,   9.1552,  34.8368,2,-999.0000,9,     79.7,2,    14.17,2,    30.44,2, -999.000,9, -999.000,9, -999.000,9, -999.000,9, -999.000,9,-999.0000,9,  -999.00,9,-999.000,   2216.8,2,   1209.0,2,    350,-999.0000,-999.000,-999.000,9,  9.1168,-999.000
      06MT28_1,   A08,   216,  2,   2560,    321,2,19940417,0457,-11.3328, -14.4982, 3045,    446.8,   7.7444,  34.6852,2,-999.0000,9,     93.7,2,    17.12,2,    31.85,2,    0.142,2,    0.086,2,    0.007,2,    0.225,2, -999.000,9,-999.0000,9,  -999.00,9,-999.000,   2218.2,2,   1197.9,2,    449,-999.0000,-999.000,-999.000,9,  7.6995,-999.000
      06MT28_1,   A08,   216,  2,   2559,    320,2,19940417,0457,-11.3328, -14.4982, 3045,    546.7,   6.6686,  34.5911,2,-999.0000,9,     99.0,2,    20.46,2,    33.75,2, -999.000,9, -999.000,9, -999.000,9, -999.000,9, -999.000,9,-999.0000,9,  -999.00,9,-999.000,   2223.2,2,   1317.6,3,    550,-999.0000,-999.000,-999.000,9,  6.6178,-999.000
      06MT28_1,   A08,   216,  2,   2558,    319,2,19940417,0457,-11.3328, -14.4982, 3045,    646.0,   5.6375,  34.5050,2,-999.0000,9,    123.6,2,    23.79,2,    33.25,2,    0.054,2,    0.034,2,    0.004,2,    0.244,2, -999.000,9,-999.0000,9,  -999.00,9,-999.000,   2216.9,2,   1212.5,2,    649,-999.0000,-999.000,-999.000,9,  5.5822,-999.000
      06MT28_1,   A08,   216,  2,   2556,    318,2,19940417,0457,-11.3328, -14.4982, 3045,    746.4,   5.0969,  34.4811,2,-999.0000,9,    129.8,2,    26.84,2,    33.43,2, -999.000,9, -999.000,9, -999.000,9, -999.000,9, -999.000,9,-999.0000,9,  -999.00,9,-999.000,   2219.7,2,   1243.6,2,    750,-999.0000,-999.000,-999.000,9,  5.0356,-999.000
      06MT28_1,   A08,   216,  2,   2610,    317,2,19940417,0457,-11.3328, -14.4982, 3045,    820.8,   4.7030,  34.4768,2,-999.0000,9,    135.8,2,    29.40,2,    33.41,2,    0.018,2,    0.013,2,    0.003,2,    0.151,2, -999.000,9,-999.0000,9,  -999.00,9,-999.000,   2220.2,2,   1267.0,2,    825,-999.0000,-999.000,-999.000,9,  4.6376,-999.000
      06MT28_1,   A08,   216,  2,   2611,    316,2,19940417,0457,-11.3328, -14.4982, 3045,    920.5,   4.1774,  34.4995,2,-999.0000,9,    163.9,2,    32.54,2,    32.25,2, -999.000,9, -999.000,9, -999.000,9, -999.000,9, -999.000,9,-999.0000,9,  -999.00,9,-999.000,   2217.8,2,   1130.5,2,    924,-999.0000,-999.000,-999.000,9,  4.1071,-999.000
      06MT28_1,   A08,   216,  2,   2608,    315,2,19940417,0457,-11.3328, -14.4982, 3045,   1095.8,   3.9801,  34.6241,2,-999.0000,9,    162.4,2,    32.14,2,    29.85,2,    0.003,2,    0.002,2,    0.001,2,    0.047,2, -999.000,9,-999.0000,9,  -999.00,9,-999.000,   2212.6,2,   1071.9,2,   1100,-999.0000,-999.000,-999.000,9,  3.8964,-999.000
      06MT28_1,   A08,   216,  2,   2607,    314,2,19940417,0457,-11.3328, -14.4982, 3045,   1296.1,   4.0592,  34.8033,2,  34.8058,2,    182.0,2,    25.92,2,    25.73,2, -999.000,9, -999.000,9, -999.000,9, -999.000,9, -999.000,9,-999.0000,9,  -999.00,9,-999.000,   2197.8,2,    954.0,2,   1300,-999.0000,-999.000,-999.000,9,  3.9571,-999.000
      06MT28_1,   A08,   216,  2,   2606,    313,2,19940417,0457,-11.3328, -14.4982, 3045,   1496.1,   3.9617,  34.8871,2,-999.0000,9,    201.1,2,    22.66,2,    22.94,2,    0.006,2,    0.003,2,    0.006,2,    0.075,2, -999.000,9,-999.0000,9,  -999.00,9,-999.000,   2184.8,2,    862.4,2,   1500,-999.0000,-999.000,-999.000,9,  3.8425,-999.000
      06MT28_1,   A08,   216,  2,   2605,    312,2,19940417,0457,-11.3328, -14.4982, 3045,   1696.5,   3.7679,  34.9378,2,-999.0000,9,    219.3,2,    20.73,2,    20.45,2,    0.011,2,    0.007,2,    0.006,2,    0.130,2, -999.000,9,-999.0000,9,  -999.00,9,-999.000,   2173.2,2,    800.7,2,   1699,-999.0000,-999.000,-999.000,9,  3.6326,-999.000
      06MT28_1,   A08,   216,  2,   2604,    311,2,19940417,0457,-11.3328, -14.4982, 3045,   1897.3,   3.3442,  34.9255,2,-999.0000,9,    224.1,2,    25.75,2,    20.33,2, -999.000,9, -999.000,9, -999.000,9, -999.000,9, -999.000,9,-999.0000,9,  -999.00,9,-999.000,   2176.5,2,    778.3,6,   1900,-999.0000,-999.000,-999.000,9,  3.1961,-999.000
      06MT28_1,   A08,   216,  2,   2603,    310,2,19940417,0457,-11.3328, -14.4982, 3045,   2098.0,   3.0660,  34.9168,2,-999.0000,9,    225.4,2,    30.00,2,    20.41,2,    0.004,2,    0.002,2,    0.008,2,    0.049,2, -999.000,9,-999.0000,9,  -999.00,9,-999.000,   2179.6,2,    771.1,2,   2100,-999.0000,-999.000,-999.000,9,  2.9035,-999.000
      06MT28_1,   A08,   216,  2,   2602,    309,2,19940417,0457,-11.3328, -14.4982, 3045,   2348.3,   2.8749,  34.9096,2,  34.9115,2,    225.8,2,    33.29,2,    20.58,2, -999.000,9, -999.000,9, -999.000,9, -999.000,9, -999.000,9,-999.0000,9,  -999.00,9,-999.000,   2181.4,2,    779.3,2,   2349,-999.0000,-999.000,-999.000,9,  2.6920,-999.000
      06MT28_1,   A08,   216,  2,   2601,    308,2,19940417,0457,-11.3328, -14.4982, 3045,   2599.1,   2.7206,  34.8983,2,-999.0000,9,    224.1,2,    37.51,2,    20.94,2,    0.002,2,    0.001,2,    0.005,2,    0.020,2, -999.000,9,-999.0000,9,  -999.00,9,-999.000,   2187.2,2,    792.4,2,   2599,-999.0000,-999.000,-999.000,9,  2.5163,-999.000
      06MT28_1,   A08,   216,  2,   2600,    307,2,19940417,0457,-11.3328, -14.4982, 3045,   2850.2,   2.6189,  34.8957,2,-999.0000,9,    223.2,2,    39.84,2,    21.10,2, -999.000,9, -999.000,9, -999.000,9, -999.000,9, -999.000,9,-999.0000,9,  -999.00,9,-999.000,   2191.6,2,    808.1,2,   2849,-999.0000,-999.000,-999.000,9,  2.3918,-999.000
      06MT28_1,   A08,   216,  2,   2599,    305,2,19940417,0457,-11.3328, -14.4982, 3045,   2923.9,   2.5633,  34.8923,2,-999.0000,9,    222.1,2,    41.30,2,    21.17,2, -999.000,9, -999.000,9, -999.000,9, -999.000,9, -999.000,9,-999.0000,9,  -999.00,9,-999.000,   2193.9,2,    794.4,2,   2923,-999.0000,-999.000,-999.000,9,  2.3299,-999.000
      06MT28_1,   A08,   216,  2,   2598,    306,2,19940417,0457,-11.3328, -14.4982, 3045,   2924.7,   2.5640,  34.8924,2,-999.0000,9,    222.6,2,    41.21,2,    21.17,2,    0.000,2,   -0.001,2,    0.005,2,    0.013,2, -999.000,9,-999.0000,9,  -999.00,9,-999.000,   2193.5,2,    801.8,2,   2924,-999.0000,-999.000,-999.000,9,  2.3305,-999.000
      06MT28_1,   A08,   216,  2,   2597,    304,2,19940417,0457,-11.3328, -14.4982, 3045,   3001.5,   2.5435,  34.8914,2,-999.0000,9,    221.8,2,    41.82,2,    21.26,2,    0.003,2,    0.002,2,    0.002,2,    0.012,2, -999.000,9,-999.0000,9,  -999.00,9,-999.000,   2194.0,2,    796.7,2,   3001,-999.0000,-999.000,-999.000,9,  2.3026,-999.000
      06MT28_1,   A08,   216,  2,   2595,    301,2,19940417,0457,-11.3328, -14.4982, 3045,   3026.2,   2.5229,  34.8901,2,  34.8908,2,    221.0,2,    42.32,2,    21.25,2,    0.003,2,    0.001,2,   -0.001,2,    0.013,2, -999.000,9,-999.0000,9,  -999.00,9,-999.000,   2194.8,2,    798.0,6,   3025,-999.0000,-999.000,-999.000,9,  2.2800,-999.000
      06MT28_1,   A08,   216,  2,   2596,    302,2,19940417,0457,-11.3328, -14.4982, 3045,   3026.2,   2.5229,  34.8901,2,  34.8912,2,    220.9,2,    42.41,2,    21.30,2, -999.000,9, -999.000,9, -999.000,9, -999.000,9, -999.000,9,-999.0000,9,  -999.00,9,-999.000,   2194.5,2,    794.9,2,   3025,-999.0000,-999.000,-999.000,9,  2.2800,-999.000
      06MT28_1,   A08,   216,  2,   2594,    303,2,19940417,0457,-11.3328, -14.4982, 3045,   3027.4,   2.5221,  34.8904,2,-999.0000,9,    221.7,2,    42.37,2,    21.30,2, -999.000,9, -999.000,9, -999.000,9, -999.000,9, -999.000,9,-999.0000,9,  -999.00,9,-999.000,   2195.2,2,    793.3,2,   3026,-999.0000,-999.000,-999.000,9,  2.2791,-999.000
      06MT28_1,   A08,   217,  1,   2593,    211,2,19940417,0914,-11.3328, -14.0832, 2930,      9.7,  26.9180,  36.7781,2,  36.7770,2,    191.9,2,     0.86,2,     0.00,2, -999.000,9, -999.000,9, -999.000,9, -999.000,9, -999.000,9,-999.0000,9,  -999.00,9,-999.000,   -999.0,9,   -999.0,9,     10,-999.0000,-999.000,-999.000,9, 26.9158,-999.000
      06MT28_1,   A08,   217,  1,   2592,    210,2,19940417,0914,-11.3328, -14.0832, 2930,     29.7,  26.9180,  36.7812,2,-999.0000,9,    191.6,2,     0.86,2,     0.00,2, -999.000,9, -999.000,9, -999.000,9, -999.000,9, -999.000,9,-999.0000,9,  -999.00,9,-999.000,   -999.0,9,   -999.0,9,     30,-999.0000,-999.000,-999.000,9, 26.9112,-999.000
      06MT28_1,   A08,   217,  1,   2591,    209,2,19940417,0914,-11.3328, -14.0832, 2930,     49.9,  26.3332,  36.8452,2,-999.0000,9,    201.6,2,     0.77,2,     0.00,2, -999.000,9, -999.000,9, -999.000,9, -999.000,9, -999.000,9,-999.0000,9,  -999.00,9,-999.000,   -999.0,9,   -999.0,9,     50,-999.0000,-999.000,-999.000,9, 26.3219,-999.000
      06MT28_1,   A08,   217,  1,   2589,    208,2,19940417,0914,-11.3328, -14.0832, 2930,     68.7,  23.9479,  36.7077,2,-999.0000,9,    212.7,2,     0.86,2,     0.00,2, -999.000,9, -999.000,9, -999.000,9, -999.000,9, -999.000,9,-999.0000,9,  -999.00,9,-999.000,   -999.0,9,   -999.0,9,     69,-999.0000,-999.000,-999.000,9, 23.9333,-999.000
      06MT28_1,   A08,   217,  1,   2578,    207,2,19940417,0914,-11.3328, -14.0832, 2930,     69.3,  23.9929,  36.7138,2,-999.0000,9,   -999.0,9,  -999.00,9,  -999.00,9, -999.000,9, -999.000,9, -999.000,9, -999.000,9, -999.000,9,-999.0000,9,  -999.00,9,-999.000,   -999.0,9,   -999.0,9,     69,-999.0000,-999.000,-999.000,9, 23.9782,-999.000
      06MT28_1,   A08,   217,  2,   2590,    324,2,19940417,1034,-11.3317, -14.0823, 2957,     71.8,  24.5570,  36.7594,2,  36.7486,4,    211.8,2,     0.77,3,     0.00,3, -999.000,9, -999.000,9, -999.000,9, -999.000,9, -999.000,9,-999.0000,9,  -999.00,9,-999.000,   -999.0,9,   -999.0,9,     70,-999.0000,-999.000,-999.000,9, 24.5415,-999.000
      06MT28_1,   A08,   217,  2,   2649,    323,2,19940417,1034,-11.3317, -14.0823, 2957,    101.4,  21.0284,  36.4098,2,-999.0000,9,    196.9,2,     1.34,2,     1.34,2, -999.000,9, -999.000,9, -999.000,9, -999.000,9, -999.000,9,-999.0000,9,  -999.00,9,-999.000,   -999.0,9,   -999.0,9,    100,-999.0000,-999.000,-999.000,9, 21.0088,-999.000
      06MT28_1,   A08,   217,  2,   2648,    322,2,19940417,1034,-11.3317, -14.0823, 2957,    149.8,  15.7294,  35.6902,2,-999.0000,9,    128.4,2,     4.60,2,    14.77,2, -999.000,9, -999.000,9, -999.000,9, -999.000,9, -999.000,9,-999.0000,9,  -999.00,9,-999.000,   -999.0,9,   -999.0,9,    150,-999.0000,-999.000,-999.000,9, 15.7059,-999.000
      06MT28_1,   A08,   217,  2,   2647,    321,2,19940417,1034,-11.3317, -14.0823, 2957,    198.0,  12.6038,  35.2189,2,-999.0000,9,     97.9,2,     7.95,2,    22.32,2, -999.000,9, -999.000,9, -999.000,9, -999.000,9, -999.000,9,-999.0000,9,  -999.00,9,-999.000,   -999.0,9,   -999.0,9,    199,-999.0000,-999.000,-999.000,9, 12.5771,-999.000
      06MT28_1,   A08,   217,  2,   2646,    320,2,19940417,1034,-11.3317, -14.0823, 2957,    298.2,  10.1396,  34.9409,2,-999.0000,9,     68.6,2,    12.83,2,    30.07,2, -999.000,9, -999.000,9, -999.000,9, -999.000,9, -999.000,9,-999.0000,9,  -999.00,9,-999.000,   -999.0,9,   -999.0,9,    300,-999.0000,-999.000,-999.000,9, 10.1045,-999.000
      06MT28_1,   A08,   217,  2,   2645,    319,2,19940417,1034,-11.3317, -14.0823, 2957,    397.8,   8.1908,  34.7329,2,-999.0000,9,     87.5,2,    16.46,2,    32.15,2, -999.000,9, -999.000,9, -999.000,9, -999.000,9, -999.000,9,-999.0000,9,  -999.00,9,-999.000,   -999.0,9,   -999.0,9,    400,-999.0000,-999.000,-999.000,9,  8.1496,-999.000
      06MT28_1,   A08,   217,  2,   2644,    318,2,19940417,1034,-11.3317, -14.0823, 2957,    497.0,   6.9608,  34.6116,2,-999.0000,9,    103.6,2,    19.51,2,    33.09,2, -999.000,9, -999.000,9, -999.000,9, -999.000,9, -999.000,9,-999.0000,9,  -999.00,9,-999.000,   -999.0,9,   -999.0,9,    500,-999.0000,-999.000,-999.000,9,  6.9136,-999.000
      06MT28_1,   A08,   217,  2,   2643,    317,2,19940417,1034,-11.3317, -14.0823, 2957,    596.6,   5.9968,  34.5309,2,-999.0000,9,    115.8,2,    22.84,2,    33.74,2, -999.000,9, -999.000,9, -999.000,9, -999.000,9, -999.000,9,-999.0000,9,  -999.00,9,-999.000,   -999.0,9,   -999.0,9,    600,-999.0000,-999.000,-999.000,9,  5.9443,-999.000
      06MT28_1,   A08,   217,  2,   2642,    316,2,19940417,1034,-11.3317, -14.0823, 2957,    695.9,   5.2468,  34.4878,2,-999.0000,9,    125.5,2,    26.46,2,    34.20,2, -999.000,9, -999.000,9, -999.000,9, -999.000,9, -999.000,9,-999.0000,9,  -999.00,9,-999.000,   -999.0,9,   -999.0,9,    699,-999.0000,-999.000,-999.000,9,  5.1891,-999.000
      06MT28_1,   A08,   217,  2,   2641,    315,2,19940417,1034,-11.3317, -14.0823, 2957,    847.0,   4.4510,  34.4929,2,-999.0000,9,    140.3,2,    31.51,2,    33.61,2, -999.000,9, -999.000,9, -999.000,9, -999.000,9, -999.000,9,-999.0000,9,  -999.00,9,-999.000,   -999.0,9,   -999.0,9,    851,-999.0000,-999.000,-999.000,9,  4.3850,-999.000
      06MT28_1,   A08,   217,  2,   2640,    314,2,19940417,1034,-11.3317, -14.0823, 2957,    997.5,   4.1873,  34.5291,2,-999.0000,9,    148.8,2,    33.01,2,    32.63,2, -999.000,9, -999.000,9, -999.000,9, -999.000,9, -999.000,9,-999.0000,9,  -999.00,9,-999.000,   -999.0,9,   -999.0,9,   1002,-999.0000,-999.000,-999.000,9,  4.1104,-999.000
      06MT28_1,   A08,   217,  2,   2639,    313,2,19940417,1034,-11.3317, -14.0823, 2957,   1195.0,   4.0194,  34.6802,2,  34.6815,2,    165.5,2,    30.89,2,    29.36,2, -999.000,9, -999.000,9, -999.000,9, -999.000,9, -999.000,9,-999.0000,9,  -999.00,9,-999.000,   -999.0,9,   -999.0,9,   1199,-999.0000,-999.000,-999.000,9,  3.9268,-999.000
      06MT28_1,   A08,   217,  2,   2638,    312,2,19940417,1034,-11.3317, -14.0823, 2957,   1395.8,   3.9892,  34.8252,2,-999.0000,9,    186.5,2,    25.91,2,    25.43,2, -999.000,9, -999.000,9, -999.000,9, -999.000,9, -999.000,9,-999.0000,9,  -999.00,9,-999.000,   -999.0,9,   -999.0,9,   1399,-999.0000,-999.000,-999.000,9,  3.8789,-999.000
      06MT28_1,   A08,   217,  2,   2637,    311,2,19940417,1034,-11.3317, -14.0823, 2957,   1597.6,   3.8923,  34.9033,2,-999.0000,9,    207.4,2,    22.74,2,    22.45,2, -999.000,9, -999.000,9, -999.000,9, -999.000,9, -999.000,9,-999.0000,9,  -999.00,9,-999.000,   -999.0,9,   -999.0,9,   1601,-999.0000,-999.000,-999.000,9,  3.7646,-999.000
      06MT28_1,   A08,   217,  2,   2636,    310,2,19940417,1034,-11.3317, -14.0823, 2957,   1797.8,   3.6187,  34.9407,2,-999.0000,9,    224.5,2,    22.15,2,    20.34,2, -999.000,9, -999.000,9, -999.000,9, -999.000,9, -999.000,9,-999.0000,9,  -999.00,9,-999.000,   -999.0,9,   -999.0,9,   1800,-999.0000,-999.000,-999.000,9,  3.4760,-999.000
      06MT28_1,   A08,   217,  2,   2635,    309,2,19940417,1034,-11.3317, -14.0823, 2957,   1998.2,   3.3132,  34.9395,2,-999.0000,9,    231.3,2,    24.50,2,    19.94,2, -999.000,9, -999.000,9, -999.000,9, -999.000,9, -999.000,9,-999.0000,9,  -999.00,9,-999.000,   -999.0,9,   -999.0,9,   2000,-999.0000,-999.000,-999.000,9,  3.1562,-999.000
      06MT28_1,   A08,   217,  2,   2634,    308,2,19940417,1034,-11.3317, -14.0823, 2957,   2247.5,   3.0404,  34.9232,2,  34.9229,2,    228.7,2,    30.27,2,    20.40,2, -999.000,9, -999.000,9, -999.000,9, -999.000,9, -999.000,9,-999.0000,9,  -999.00,9,-999.000,   -999.0,9,   -999.0,9,   2249,-999.0000,-999.000,-999.000,9,  2.8642,-999.000
      06MT28_1,   A08,   217,  2,   2633,    307,2,19940417,1034,-11.3317, -14.0823, 2957,   2499.2,   2.8316,  34.9089,2,-999.0000,9,    225.9,2,    35.35,2,    20.95,2, -999.000,9, -999.000,9, -999.000,9, -999.000,9, -999.000,9,-999.0000,9,  -999.00,9,-999.000,   -999.0,9,   -999.0,9,   2500,-999.0000,-999.000,-999.000,9,  2.6349,-999.000
      06MT28_1,   A08,   217,  2,   2632,    306,2,19940417,1034,-11.3317, -14.0823, 2957,   2751.1,   2.7033,  34.8997,2,-999.0000,9,    224.0,2,    38.63,2,    21.21,2, -999.000,9, -999.000,9, -999.000,9, -999.000,9, -999.000,9,-999.0000,9,  -999.00,9,-999.000,   -999.0,9,   -999.0,9,   2751,-999.0000,-999.000,-999.000,9,  2.4844,-999.000
      06MT28_1,   A08,   217,  2,   2631,    305,2,19940417,1034,-11.3317, -14.0823, 2957,   2840.5,   2.6489,  34.8960,2,-999.0000,9,    223.5,2,    40.00,2,    21.37,2, -999.000,9, -999.000,9, -999.000,9, -999.000,9, -999.000,9,-999.0000,9,  -999.00,9,-999.000,   -999.0,9,   -999.0,9,   2840,-999.0000,-999.000,-999.000,9,  2.4221,-999.000
      06MT28_1,   A08,   217,  2,   2630,    304,2,19940417,1034,-11.3317, -14.0823, 2957,   2911.4,   2.6326,  34.8956,2,-999.0000,9,    223.9,2,    40.46,2,    21.36,2, -999.000,9, -999.000,9, -999.000,9, -999.000,9, -999.000,9,-999.0000,9,  -999.00,9,-999.000,   -999.0,9,   -999.0,9,   2911,-999.0000,-999.000,-999.000,9,  2.3990,-999.000
      06MT28_1,   A08,   217,  2,   2626,    301,2,19940417,1034,-11.3317, -14.0823, 2957,   2941.4,   2.6346,  34.8956,2,  34.8969,2,    222.8,2,    40.44,2,    21.36,2, -999.000,9, -999.000,9, -999.000,9, -999.000,9, -999.000,9,-999.0000,9,  -999.00,9,-999.000,   -999.0,9,   -999.0,9,   2941,-999.0000,-999.000,-999.000,9,  2.3979,-999.000
      06MT28_1,   A08,   217,  2,   2629,    302,2,19940417,1034,-11.3317, -14.0823, 2957,   2941.4,   2.6346,  34.8955,2,  34.8960,2,    222.7,2,    40.49,2,    21.36,2, -999.000,9, -999.000,9, -999.000,9, -999.000,9, -999.000,9,-999.0000,9,  -999.00,9,-999.000,   -999.0,9,   -999.0,9,   2941,-999.0000,-999.000,-999.000,9,  2.3979,-999.000
      06MT28_1,   A08,   217,  2,   2613,    303,2,19940417,1034,-11.3317, -14.0823, 2957,   2942.8,   2.6247,  34.8946,2,-999.0000,9,    223.8,2,    40.68,2,    21.36,2, -999.000,9, -999.000,9, -999.000,9, -999.000,9, -999.000,9,-999.0000,9,  -999.00,9,-999.000,   -999.0,9,   -999.0,9,   2942,-999.0000,-999.000,-999.000,9,  2.3881,-999.000