BOTTLE,20220817CCHSIOAMB
EXPOCODE,SECT_ID,STNNBR,CASTNO,SAMPNO,BTLNBR,BTLNBR_FLAG_W,DATE,TIME,LATITUDE,LONGITUDE,DEPTH,CTDPRS,CTDTMP,CTDSAL,CTDSAL_FLAG_W,SALNTY,SALNTY_FLAG_W,OXYGEN,OXYGEN_FLAG_W,SILCAT,SILCAT_FLAG_W,NO2+NO3,NO2+NO3_FLAG_W,CFC-11,CFC-11_FLAG_W,CFC-12,CFC-12_FLAG_W,CFC113,CFC113_FLAG_W,CCL4,CCL4_FLAG_W,TRITUM,TRITUM_FLAG_W,HELIUM,HELIUM_FLAG_W,DELHE3,DELHE3_FLAG_W,NEON,TCARBN,TCARBN_FLAG_W,PCO2,PCO2_FLAG_W,CTDRAW,HELIER,DELHER,NEONER,NEON_FLAG_W,THETA,TRITER
,,,,,,,,,,,,DBAR,ITS-90,PSS-78,,PSS-78,,UMOL/KG,,UMOL/KG,,UMOL/KG,,PMOL/KG,,PMOL/KG,,PMOL/KG,,PMOL/KG,,TU,,NMOL/KG,,PERCNT,,NMOL/KG,UMOL/KG,,UATM,,,NMOL/KG,PERCNT,NMOL/KG,,ITS-90,TU
      06MT28_1,   A08,   210,  2,   2231,    324,2,19940415,1303,-11.3303, -16.9988, 4264,     14.5,  27.1784,  36.7114,2,-999.0000,9,    192.5,2,     0.86,2,     0.00,2,    1.542,2,    0.907,2,    0.045,4,    1.730,2, -999.000,9,-999.0000,9,  -999.00,9,-999.000,   2048.2,2,   -999.0,9,     11,-999.0000,-999.000,-999.000,9, 27.1751,-999.000
      06MT28_1,   A08,   210,  2,   2286,    323,2,19940415,1303,-11.3303, -16.9988, 4264,    397.7,   8.3610,  34.7470,2,-999.0000,9,     92.6,2,    15.59,2,    31.27,2, -999.000,9, -999.000,9, -999.000,9, -999.000,9, -999.000,9,-999.0000,9,  -999.00,9,-999.000,   2213.3,2,   1211.4,2,    400,-999.0000,-999.000,-999.000,9,  8.3193,-999.000
      06MT28_1,   A08,   210,  2,   2283,    322,2,19940415,1303,-11.3303, -16.9988, 4264,    496.9,   7.1674,  34.6269,2,-999.0000,9,    102.9,2,    18.45,2,    32.78,2,    0.140,2,    0.085,2,    0.004,2,    0.266,2,    0.061,2,   1.7970,2,     1.07,2,   7.705,   2216.9,2,   1242.6,2,    499,  0.0070,   0.240,   0.025,2,  7.1195,   0.005
      06MT28_1,   A08,   210,  2,   2281,    320,2,19940415,1303,-11.3303, -16.9988, 4264,    746.6,   4.9295,  34.4630,2,-999.0000,9,    143.0,2,    27.59,2,    33.22,2,    0.093,2,    0.056,2,    0.012,2,    0.298,2,    0.022,2,   1.7930,2,     2.08,2,   7.761,   2212.9,2,   1198.0,2,    750,  0.0070,   0.240,   0.025,2,  4.8692,   0.004
      06MT28_1,   A08,   210,  2,   2282,    321,2,19940415,1303,-11.3303, -16.9988, 4264,    746.6,   4.9295,  34.4630,2,-999.0000,9,    142.6,2,    27.51,2,    33.24,2,    0.077,2,    0.042,2,    0.010,2,    0.303,2,    0.024,2,   1.7900,3,     1.30,3,   7.784,   2213.6,2,   1169.1,2,    750,  0.0160,   0.240,   0.064,3,  4.8691,   0.005
      06MT28_1,   A08,   210,  2,   2280,    319,2,19940415,1303,-11.3303, -16.9988, 4264,    844.8,   4.4193,  34.4613,2,-999.0000,9,    150.3,2,    31.20,2,    32.92,2,    0.037,2,    0.024,2,    0.002,2,    0.228,2,    0.008,2,   1.8000,2,     2.52,2,   7.767,   2214.6,2,   1213.1,2,    848,  0.0070,   0.250,   0.026,2,  4.3537,   0.003
      06MT28_1,   A08,   210,  2,   2279,    317,2,19940415,1303,-11.3303, -16.9988, 4264,   1189.1,   3.9998,  34.6891,2,-999.0000,9,    170.1,2,    30.48,2,    28.76,2,    0.004,2,    0.004,2,    0.004,2,    0.039,2,    0.376,2,   1.8110,2,     2.26,2,   7.901,   2206.5,2,   1053.1,2,   1192,  0.0070,   0.240,   0.025,2,  3.9078,   0.702
      06MT28_1,   A08,   210,  2,   2278,    318,2,19940415,1303,-11.3303, -16.9988, 4264,   1189.1,   3.9998,  34.6891,2,  34.7005,4,    171.1,2,    30.51,2,    28.89,2,    0.009,2,    0.005,2,    0.004,2,    0.040,2,   -0.013,2,   1.8220,3,     2.27,3,   7.922,   2206.6,2,   1039.9,2,   1192,  0.0160,   0.240,   0.065,3,  3.9078,   0.143
      06MT28_1,   A08,   210,  2,   2277,    316,2,19940415,1303,-11.3303, -16.9988, 4264,   1397.7,   4.0294,  34.8582,2,-999.0000,9,    193.8,2,    23.98,2,    24.26,2,    0.004,2,    0.005,2,    0.005,2,    0.065,2,   -0.726,4,   1.8100,2,     1.48,2,   7.840,   2189.2,2,    893.9,2,   1401,  0.0070,   0.250,   0.026,2,  3.9184,   1.155
      06MT28_1,   A08,   210,  2,   2276,    315,2,19940415,1303,-11.3303, -16.9988, 4264,   1597.5,   3.7918,  34.9322,2,-999.0000,9,    217.5,2,    21.20,2,    21.10,2,    0.018,2,    0.011,2,    0.001,2,    0.121,2,    0.024,2,   1.8490,2,     1.74,2,   8.008,   2174.3,2,    809.7,2,   1600,  0.0070,   0.240,   0.025,2,  3.6653,   0.004
      06MT28_1,   A08,   210,  2,   2275,    314,2,19940415,1303,-11.3303, -16.9988, 4264,   1798.3,   3.5752,  34.9494,2,-999.0000,9,    228.4,2,    21.18,2,    19.85,2,    0.015,2,    0.009,2,   -0.003,2,    0.148,2,    0.032,2,   1.8260,2,     1.23,2,   7.950,   2169.0,2,    806.0,2,   1800,  0.0070,   0.240,   0.025,2,  3.4330,   0.004
      06MT28_1,   A08,   210,  2,   2274,    313,2,19940415,1303,-11.3303, -16.9988, 4264,   1999.0,   3.3298,  34.9452,2,  34.9295,4,    231.6,2,    28.65,2,    20.11,2,    0.004,2,    0.004,2,    0.002,2,    0.062,2,    1.251,4,   1.8490,2,     3.05,2,   8.068,   2176.2,2,    773.6,2,   2001,  0.0070,   0.240,   0.026,2,  3.1724,   1.250
      06MT28_1,   A08,   210,  2,   2273,    312,2,19940415,1303,-11.3303, -16.9988, 4264,   2249.2,   3.0316,  34.9291,2,-999.0000,9,    230.3,2,    28.72,2,    20.09,2,    0.004,2,    0.002,2,    0.004,2,    0.062,2,    0.036,2,   1.8220,2,     3.92,2,   7.909,   2174.5,2,    772.0,2,   2250,  0.0070,   0.250,   0.026,2,  2.8554,   0.068
      06MT28_1,   A08,   210,  2,   2272,    311,2,19940415,1303,-11.3303, -16.9988, 4264,   2500.7,   2.8863,  34.9160,2,-999.0000,9,    228.5,2,    32.66,2,    20.64,2,    0.003,2,    0.003,2,    0.005,2,    0.036,2,    0.009,2,   1.8230,2,     4.15,2,   7.951,   2180.0,2,    789.2,6,   2501,  0.0070,   0.240,   0.025,2,  2.6885,   0.003
      06MT28_1,   A08,   210,  2,   2271,    310,2,19940415,1303,-11.3303, -16.9988, 4264,   2749.4,   2.7346,  34.9055,2,-999.0000,9,    226.1,2,    36.60,2,    20.99,2,    0.002,2,    0.000,2,    0.002,2,    0.025,2, -999.000,9,   1.8350,2,     4.76,2,   7.940,   2184.9,2,    790.6,2,   2749,  0.0070,   0.250,   0.026,2,  2.5152,-999.000
      06MT28_1,   A08,   210,  2,   2268,    309,2,19940415,1303,-11.3303, -16.9988, 4264,   3001.2,   2.6410,  34.9013,2,  34.9019,2,    225.3,2,    38.54,2,    21.07,2,    0.002,2,    0.000,2,    0.007,2,    0.022,2,    0.012,2,   1.8360,2,     3.62,2,   7.990,   2187.2,2,    790.9,2,   2999,  0.0070,   0.240,   0.025,2,  2.3980,   0.043
      06MT28_1,   A08,   210,  2,   2264,    308,2,19940415,1303,-11.3303, -16.9988, 4264,   3252.6,   2.5364,  34.8977,2,-999.0000,9,    227.6,2,    39.54,2,    20.95,2,    0.011,4,    0.001,2,    0.006,2,    0.030,2, -999.000,9,   1.7700,4,     4.04,2,   7.692,   2188.1,2,    787.8,2,   3250,  0.0070,   0.250,   0.025,4,  2.2696,-999.000
      06MT28_1,   A08,   210,  2,   2255,    307,2,19940415,1303,-11.3303, -16.9988, 4264,   3552.9,   2.3667,  34.8834,2,-999.0000,9,    227.4,2,    44.39,2,    21.39,2,    0.037,4,    0.021,4,    0.013,2,    0.045,2,    0.160,2,   1.8270,2,     3.28,2,   8.011,   2191.7,2,    803.7,2,   3549,  0.0070,   0.240,   0.025,2,  2.0721,   0.253
      06MT28_1,   A08,   210,  2,   2325,    306,2,19940415,1303,-11.3303, -16.9988, 4264,   3753.6,   2.2351,  34.8726,2,-999.0000,9,    226.5,2,    48.40,2,    21.75,2,    0.002,2,    0.002,2,    0.007,2,    0.043,2, -999.000,9,   1.8430,2,     3.97,2,   8.011,   2194.9,2,    811.2,2,   3750,  0.0070,   0.250,   0.026,2,  1.9220,-999.000
      06MT28_1,   A08,   210,  2,   2324,    305,2,19940415,1303,-11.3303, -16.9988, 4264,   4004.4,   1.9589,  34.8435,2,  34.8424,2,    223.3,2,    58.32,2,    22.95,2,    0.006,2,    0.003,2,    0.010,2,    0.043,2,    0.087,2,   2.2930,4,     4.36,2,  10.012,   2205.6,2,    840.3,2,   4000,  0.0080,   0.240,   0.032,4,  1.6256,   0.136
      06MT28_1,   A08,   210,  2,   2323,    304,2,19940415,1303,-11.3303, -16.9988, 4264,   4183.6,   1.8737,  34.8336,2,-999.0000,9,    221.2,2,    61.61,2,    23.45,2,    0.002,2,    0.001,2,    0.001,2,    0.038,2,   -0.001,2,   1.8340,2,     4.02,2,   8.038,   2208.1,2,    850.8,2,   4179,  0.0070,   0.240,   0.026,2,  1.5227,   0.062
      06MT28_1,   A08,   210,  2,   2322,    303,2,19940415,1303,-11.3303, -16.9988, 4264,   4252.8,   1.8392,  34.8294,2,-999.0000,9,    220.7,2,    63.19,2,    23.68,2,    0.002,2,    0.002,2,    0.003,2,    0.039,2, -999.000,9,   1.8430,2,     4.44,2,   8.044,   2209.9,2,    864.8,2,   4248,  0.0070,   0.250,   0.027,2,  1.4813,-999.000
      06MT28_1,   A08,   210,  2,   2321,    302,2,19940415,1303,-11.3303, -16.9988, 4264,   4285.2,   1.8317,  34.8289,2,  34.8300,2,    220.0,2,    63.42,2,    23.68,2,    0.005,2,    0.001,2,    0.002,2,    0.039,2, -999.000,9,   1.7910,4,     4.23,2,   7.870,   2210.0,2,    860.4,2,   4280,  0.0070,   0.240,   0.025,4,  1.4704,-999.000
      06MT28_1,   A08,   210,  2,   2320,    301,2,19940415,1303,-11.3303, -16.9988, 4264,   4285.5,   1.8321,  34.8283,2,  34.8334,2,    220.3,2,    63.23,2,    23.68,2,    0.009,2,    0.005,2,    0.005,2,    0.039,2, -999.000,9,-999.0000,9,  -999.00,9,-999.000,   2212.6,2,    874.6,6,   4281,-999.0000,-999.000,-999.000,9,  1.4707,-999.000
      06MT28_1,   A08,   211,  1,   2319,    217,2,19940415,1804,-11.3330, -16.5833, 4139,     10.7,  26.9482,  36.7288,2,-999.0000,9,    193.1,2,     0.67,2,     0.00,2, -999.000,9, -999.000,9, -999.000,9, -999.000,9, -999.000,9,-999.0000,9,  -999.00,9,-999.000,   -999.0,9,   -999.0,9,     10,-999.0000,-999.000,-999.000,9, 26.9458,-999.000
      06MT28_1,   A08,   211,  1,   2316,    216,2,19940415,1804,-11.3330, -16.5833, 4139,     40.7,  26.8928,  36.7293,2,-999.0000,9,    193.4,2,     0.67,2,     0.00,2, -999.000,9, -999.000,9, -999.000,9, -999.000,9, -999.000,9,-999.0000,9,  -999.00,9,-999.000,   -999.0,9,   -999.0,9,     40,-999.0000,-999.000,-999.000,9, 26.8835,-999.000
      06MT28_1,   A08,   211,  1,   2315,    215,2,19940415,1804,-11.3330, -16.5833, 4139,     60.4,  26.2945,  36.7581,2,-999.0000,9,    199.3,2,     0.67,2,     0.00,2, -999.000,9, -999.000,9, -999.000,9, -999.000,9, -999.000,9,-999.0000,9,  -999.00,9,-999.000,   -999.0,9,   -999.0,9,     60,-999.0000,-999.000,-999.000,9, 26.2809,-999.000
      06MT28_1,   A08,   211,  1,   2314,    214,2,19940415,1804,-11.3330, -16.5833, 4139,     79.8,  25.2214,  36.7566,2,-999.0000,9,    205.7,2,     0.77,2,     0.00,2, -999.000,9, -999.000,9, -999.000,9, -999.000,9, -999.000,9,-999.0000,9,  -999.00,9,-999.000,   -999.0,9,   -999.0,9,     80,-999.0000,-999.000,-999.000,9, 25.2039,-999.000
      06MT28_1,   A08,   211,  1,   2313,    213,2,19940415,1804,-11.3330, -16.5833, 4139,    119.2,  20.5401,  36.3397,2,-999.0000,9,    179.8,2,     1.73,2,     3.16,2, -999.000,9, -999.000,9, -999.000,9, -999.000,9, -999.000,9,-999.0000,9,  -999.00,9,-999.000,   -999.0,9,   -999.0,9,    119,-999.0000,-999.000,-999.000,9, 20.5175,-999.000
      06MT28_1,   A08,   211,  1,   2312,    212,2,19940415,1804,-11.3330, -16.5833, 4139,    179.3,  14.7834,  35.5267,2,-999.0000,9,    126.0,2,     5.08,2,    15.90,2, -999.000,9, -999.000,9, -999.000,9, -999.000,9, -999.000,9,-999.0000,9,  -999.00,9,-999.000,   -999.0,9,   -999.0,9,    179,-999.0000,-999.000,-999.000,9, 14.7564,-999.000
      06MT28_1,   A08,   211,  1,   2311,    211,2,19940415,1804,-11.3330, -16.5833, 4139,    249.8,  11.4261,  35.0927,2,-999.0000,9,     80.1,2,    10.15,2,    26.23,2, -999.000,9, -999.000,9, -999.000,9, -999.000,9, -999.000,9,-999.0000,9,  -999.00,9,-999.000,   -999.0,9,   -999.0,9,    250,-999.0000,-999.000,-999.000,9, 11.3944,-999.000
      06MT28_1,   A08,   211,  1,   2310,    210,2,19940415,1804,-11.3330, -16.5833, 4139,    350.7,   8.9829,  34.8203,2,-999.0000,9,     86.8,2,    14.16,2,    30.13,2, -999.000,9, -999.000,9, -999.000,9, -999.000,9, -999.000,9,-999.0000,9,  -999.00,9,-999.000,   -999.0,9,   -999.0,9,    350,-999.0000,-999.000,-999.000,9,  8.9446,-999.000
      06MT28_1,   A08,   211,  1,   2309,    209,2,19940415,1804,-11.3330, -16.5833, 4139,    449.3,   7.4781,  34.6541,2,-999.0000,9,    110.2,2,    17.11,2,    30.98,2, -999.000,9, -999.000,9, -999.000,9, -999.000,9, -999.000,9,-999.0000,9,  -999.00,9,-999.000,   -999.0,9,   -999.0,9,    449,-999.0000,-999.000,-999.000,9,  7.4339,-999.000
      06MT28_1,   A08,   211,  1,   2306,    207,2,19940415,1804,-11.3330, -16.5833, 4139,    550.7,   6.4114,  34.5591,2,-999.0000,9,   -999.0,9,  -999.00,9,  -999.00,9, -999.000,9, -999.000,9, -999.000,9, -999.000,9, -999.000,9,-999.0000,9,  -999.00,9,-999.000,   -999.0,9,   -999.0,9,    551,-999.0000,-999.000,-999.000,9,  6.3614,-999.000
      06MT28_1,   A08,   211,  1,   2307,    208,2,19940415,1804,-11.3330, -16.5833, 4139,    550.8,   6.4201,  34.5592,2,-999.0000,9,    120.1,2,    20.45,3,    32.34,3, -999.000,9, -999.000,9, -999.000,9, -999.000,9, -999.000,9,-999.0000,9,  -999.00,9,-999.000,   -999.0,9,   -999.0,9,    551,-999.0000,-999.000,-999.000,9,  6.3700,-999.000