BOTTLE,20220817CCHSIOAMB
EXPOCODE,SECT_ID,STNNBR,CASTNO,SAMPNO,BTLNBR,BTLNBR_FLAG_W,DATE,TIME,LATITUDE,LONGITUDE,DEPTH,CTDPRS,CTDTMP,CTDSAL,CTDSAL_FLAG_W,SALNTY,SALNTY_FLAG_W,OXYGEN,OXYGEN_FLAG_W,SILCAT,SILCAT_FLAG_W,NO2+NO3,NO2+NO3_FLAG_W,CFC-11,CFC-11_FLAG_W,CFC-12,CFC-12_FLAG_W,CFC113,CFC113_FLAG_W,CCL4,CCL4_FLAG_W,TRITUM,TRITUM_FLAG_W,HELIUM,HELIUM_FLAG_W,DELHE3,DELHE3_FLAG_W,NEON,TCARBN,TCARBN_FLAG_W,PCO2,PCO2_FLAG_W,CTDRAW,HELIER,DELHER,NEONER,NEON_FLAG_W,THETA,TRITER
,,,,,,,,,,,,DBAR,ITS-90,PSS-78,,PSS-78,,UMOL/KG,,UMOL/KG,,UMOL/KG,,PMOL/KG,,PMOL/KG,,PMOL/KG,,PMOL/KG,,TU,,NMOL/KG,,PERCNT,,NMOL/KG,UMOL/KG,,UATM,,,NMOL/KG,PERCNT,NMOL/KG,,ITS-90,TU
      06MT28_1,   A08,   186,  2,    951,    324,2,19940406,1507,-11.3260, -31.3343, 5220,     18.5,  28.5194,  36.9231,2,  36.9251,2,    192.4,2,     0.96,2,     0.00,4,    1.466,2,    0.869,2,    0.071,4,    1.641,2,    0.769,2,   1.7030,2,    -1.14,2,   6.634,   2045.3,2,   -999.0,9,     14,  0.0060,   0.240,   0.021,3, 28.5149,   0.018
      06MT28_1,   A08,   186,  2,   1002,    323,2,19940406,1507,-11.3260, -31.3343, 5220,    845.5,   4.1690,  34.4406,2,-999.0000,9,    168.5,2,    32.92,2,    31.96,2,    0.105,2,    0.063,2,    0.005,2,    0.434,2, -999.000,9,-999.0000,9,  -999.00,9,-999.000,   2210.9,2,   1128.4,2,    849,-999.0000,-999.000,-999.000,9,  4.1050,-999.000
      06MT28_1,   A08,   186,  2,    999,    322,2,19940406,1507,-11.3260, -31.3343, 5220,    997.1,   3.8353,  34.5208,2,  34.5192,2,    169.8,2,    35.94,2,    31.27,2,    0.055,2,    0.037,2,    0.005,2,    0.203,2,    0.017,2,   1.8020,6,     2.68,6,   7.846,   2214.2,2,   1109.0,2,   1001,  0.0070,   0.250,   0.026,6,  3.7612,   0.004
      06MT28_1,   A08,   186,  2,    997,    321,2,19940406,1507,-11.3260, -31.3343, 5220,   1195.9,   4.1056,  34.7377,2,-999.0000,9,    177.5,2,    28.95,2,    27.81,2,    0.023,2,    0.013,2,    0.010,2,    0.071,2,    0.019,2,   1.7320,3,     2.21,2,   7.499,   2205.9,2,   1015.3,2,   1199,  0.0070,   0.250,   0.025,3,  4.0120,   0.004
      06MT28_1,   A08,   186,  2,    996,    320,2,19940406,1507,-11.3260, -31.3343, 5220,   1394.9,   4.1827,  34.8811,2,-999.0000,9,    200.3,2,    22.36,2,    23.69,2,    0.020,2,    0.014,2,    0.002,2,    0.139,2, -999.000,9,   1.7860,3,     1.62,3,   7.751,   2190.2,2,    892.6,2,   1398,  0.0160,   0.240,   0.063,3,  4.0703,-999.000
      06MT28_1,   A08,   186,  2,    995,    319,2,19940406,1507,-11.3260, -31.3343, 5220,   1598.0,   4.0202,  34.9571,2,-999.0000,9,    200.2,2,    22.24,2,    23.57,2,    0.023,2,    0.015,2,    0.001,2,    0.143,2,    0.060,2,   1.5940,4,  -999.00,5,   7.321,   2187.6,3,    891.3,3,   1600,  0.0060,   0.250,   0.024,4,  3.8908,   0.005
      06MT28_1,   A08,   186,  2,    994,    318,2,19940406,1507,-11.3260, -31.3343, 5220,   1796.2,   3.6782,  34.9664,2,-999.0000,9,    238.3,2,    18.71,2,    18.99,2,    0.041,2,    0.026,2,    0.005,2,    0.291,2,    0.017,2,   1.7880,3,     1.85,3,   7.818,   2165.6,2,    770.3,2,   1798,  0.0160,   0.240,   0.064,3,  3.5347,   0.002
      06MT28_1,   A08,   186,  2,    993,    317,2,19940406,1507,-11.3260, -31.3343, 5220,   1999.6,   3.4093,  34.9617,2,  34.9619,2,    242.3,2,    20.21,2,    18.69,2,    0.058,2,    0.035,2,    0.004,2,    0.282,2,    0.118,2,   1.8080,2,     2.19,2,   7.852,   2166.6,2,    755.9,2,   2000,  0.0070,   0.250,   0.026,2,  3.2506,   0.022
      06MT28_1,   A08,   186,  2,    992,    316,2,19940406,1507,-11.3260, -31.3343, 5220,   2248.9,   3.0841,  34.9446,2,-999.0000,9,    241.9,2,    24.45,2,    18.96,2,    0.025,2,    0.017,2,    0.000,2,    0.189,2,    0.064,2,   1.8150,2,     2.67,2,   7.908,   2171.1,2,    760.1,2,   2249,  0.0070,   0.240,   0.025,2,  2.9070,   0.005
      06MT28_1,   A08,   186,  2,    991,    315,2,19940406,1507,-11.3260, -31.3343, 5220,   2499.1,   2.8321,  34.9193,2,-999.0000,9,    236.2,2,    31.62,2,    20.07,2,    0.008,2,    0.005,2,   -0.001,2,    0.064,2,    0.026,2,   1.8330,2,     4.20,2,   7.953,   2179.3,3,    778.6,2,   2498,  0.0070,   0.250,   0.026,2,  2.6354,   0.005
      06MT28_1,   A08,   186,  2,    990,    314,2,19940406,1507,-11.3260, -31.3343, 5220,   2748.8,   2.7906,  34.9272,2,-999.0000,9,    241.4,2,    28.65,2,    19.10,2,    0.031,2,    0.016,2,    0.010,2,    0.155,2, -999.000,9,   1.8250,2,     2.60,2,   8.022,   2173.4,2,    765.5,2,   2747,  0.0070,   0.240,   0.026,2,  2.5700,-999.000
      06MT28_1,   A08,   186,  2,    989,    313,2,19940406,1507,-11.3260, -31.3343, 5220,   3001.6,   2.6847,  34.9225,2,-999.0000,9,    241.4,2,    29.47,2,    18.99,2,    0.028,2,    0.020,2,    0.008,2,    0.169,2,    0.053,2,   1.8250,2,     3.26,2,   7.952,   2175.5,2,    761.1,2,   2999,  0.0070,   0.250,   0.026,2,  2.4406,   0.006
      06MT28_1,   A08,   186,  2,    988,    312,2,19940406,1507,-11.3260, -31.3343, 5220,   3242.6,   2.6567,  34.9206,2,-999.0000,9,    242.4,2,    29.44,2,    18.97,2,    0.029,2,    0.019,2,    0.009,2,    0.186,2,    0.060,2,   1.8320,2,     2.49,2,   8.011,   2175.9,2,    761.3,2,   3239,  0.0070,   0.240,   0.025,2,  2.3881,   0.009
      06MT28_1,   A08,   186,  2,    987,    311,2,19940406,1507,-11.3260, -31.3343, 5220,   3504.5,   2.5462,  34.9124,2,-999.0000,9,    244.0,2,    31.01,2,    18.95,2,    0.030,2,    0.021,2,    0.006,2,    0.202,2,    0.026,2,   1.8220,2,     3.07,2,   7.938,   2175.3,2,    761.1,6,   3500,  0.0070,   0.250,   0.026,2,  2.2521,   0.081
      06MT28_1,   A08,   186,  2,    986,    310,2,19940406,1507,-11.3260, -31.3343, 5220,   3756.7,   2.2610,  34.8841,2,-999.0000,9,    240.0,2,    40.40,2,    20.06,2,    0.019,2,    0.014,2,    0.006,2,    0.165,2, -999.000,9,   1.8340,2,     2.45,2,   8.056,   2185.1,2,    782.8,2,   3752,  0.0070,   0.240,   0.026,2,  1.9468,-999.000
      06MT28_1,   A08,   186,  2,    985,    309,2,19940406,1507,-11.3260, -31.3343, 5220,   4004.9,   1.8416,  34.8367,2,  34.8380,2,    230.6,2,    58.98,2,    22.76,2,    0.007,2,    0.008,2,    0.010,2,    0.083,2,    0.059,2,   1.8690,2,     3.76,2,   8.112,   2205.4,2,    843.8,2,   3999,  0.0070,   0.250,   0.027,2,  1.5116,   0.049
      06MT28_1,   A08,   186,  2,    984,    308,2,19940406,1507,-11.3260, -31.3343, 5220,   4255.7,   1.4471,  34.7926,2,-999.0000,9,    221.9,2,    76.21,2,    25.18,2,    0.006,2,    0.004,2,    0.004,2,    0.054,2,    0.016,2,   1.8690,2,     5.29,2,   8.212,   2223.2,2,    908.9,2,   4250,  0.0070,   0.240,   0.026,2,  1.1008,   0.007
      06MT28_1,   A08,   186,  2,    983,    307,2,19940406,1507,-11.3260, -31.3343, 5220,   4507.0,   1.0671,  34.7511,2,-999.0000,9,    215.4,2,    91.71,2,    27.22,2,    0.013,2,    0.009,2,    0.008,2,    0.072,2,    0.010,2,   1.8580,2,     6.18,2,   8.066,   2238.3,2,    966.0,2,   4501,  0.0070,   0.250,   0.027,2,  0.7044,   0.007
      06MT28_1,   A08,   186,  2,    982,    306,2,19940406,1507,-11.3260, -31.3343, 5220,   4739.6,   0.7937,  34.7212,2,-999.0000,9,    211.8,2,    94.90,2,    27.85,2,    0.060,4,    0.036,4,    0.005,2,    0.141,2,    0.016,2,   1.8870,2,     5.74,2,   8.233,   2242.4,2,    982.6,2,   4733,  0.0070,   0.240,   0.026,2,  0.4134,   0.004
      06MT28_1,   A08,   186,  2,    981,    305,2,19940406,1507,-11.3260, -31.3343, 5220,   5005.2,   0.6142,  34.7008,2,  34.7009,2,    207.4,2,   109.69,2,    29.60,2,    0.041,2,    0.024,2,    0.003,2,    0.171,2,    0.020,2,   1.8770,2,     6.14,2,   8.205,   2255.2,2,   1058.4,2,   4998,  0.0070,   0.250,   0.027,2,  0.2094,   0.004
      06MT28_1,   A08,   186,  2,    979,    304,2,19940406,1507,-11.3260, -31.3343, 5220,   5204.5,   0.5581,  34.6937,2,-999.0000,9,    207.1,2,   112.22,2,    29.90,2,    0.051,2,    0.026,2,    0.049,2,    0.183,2,    0.018,2,   3.5790,4,     3.74,2,  13.617,   2257.6,2,   1067.9,2,   5198,  0.0130,   0.240,   0.043,4,  0.1318,   0.003
      06MT28_1,   A08,   186,  2,    966,    303,2,19940406,1507,-11.3260, -31.3343, 5220,   5274.9,   0.5363,  34.6908,2,-999.0000,9,    206.6,2,   113.40,2,    30.03,2,    0.050,2,    0.029,2,    0.003,2,    0.197,2,    0.020,2,   1.8780,2,     7.55,2,   8.148,   2260.2,2,   1077.4,2,   5268,  0.0070,   0.250,   0.027,2,  0.1024,   0.005
      06MT28_1,   A08,   186,  2,   1041,    301,2,19940406,1507,-11.3260, -31.3343, 5220,   5312.7,   0.5328,  34.6886,2,  34.6783,3,    205.7,2,   113.15,2,    30.08,2,    0.060,2,    0.032,2,    0.003,2,    0.212,2, -999.000,9,-999.0000,9,  -999.00,9,-999.000,   2261.6,2,   1079.2,6,   5306,-999.0000,-999.000,-999.000,9,  0.0945,-999.000
      06MT28_1,   A08,   186,  2,   1040,    302,2,19940406,1507,-11.3260, -31.3343, 5220,   5313.2,   0.5327,  34.6886,2,  34.6890,2,    206.1,2,   113.48,2,    30.12,2,    0.052,2,    0.028,2,    0.005,2,    0.200,2,    0.017,2,   1.8880,6,     7.07,6,   8.251,   2260.3,2,   1080.7,2,   5307,  0.0070,   0.250,   0.027,6,  0.0943,   0.004
      06MT28_1,   A08,   187,  1,   1039,    222,2,19940406,2222,-11.3330, -30.6667, 5296,     10.4,  28.3333,  37.0468,2,  37.0366,3,   -999.0,9,  -999.00,9,  -999.00,9, -999.000,9, -999.000,9, -999.000,9, -999.000,9, -999.000,9,-999.0000,9,  -999.00,9,-999.000,   -999.0,9,   -999.0,9,      9,-999.0000,-999.000,-999.000,9, 28.3309,-999.000
      06MT28_1,   A08,   187,  1,   1037,    221,2,19940406,2222,-11.3330, -30.6667, 5296,     41.2,  28.2253,  37.0439,2,-999.0000,9,    193.6,2,     0.77,2,     0.00,2, -999.000,9, -999.000,9, -999.000,9, -999.000,9, -999.000,9,-999.0000,9,  -999.00,9,-999.000,   -999.0,9,   -999.0,9,     40,-999.0000,-999.000,-999.000,9, 28.2155,-999.000
      06MT28_1,   A08,   187,  1,   1036,    220,2,19940406,2222,-11.3330, -30.6667, 5296,     60.5,  27.9511,  37.0673,2,-999.0000,9,    199.1,2,     0.77,2,     0.00,2, -999.000,9, -999.000,9, -999.000,9, -999.000,9, -999.000,9,-999.0000,9,  -999.00,9,-999.000,   -999.0,9,   -999.0,9,     59,-999.0000,-999.000,-999.000,9, 27.9368,-999.000
      06MT28_1,   A08,   187,  1,   1035,    219,2,19940406,2222,-11.3330, -30.6667, 5296,     80.8,  25.9250,  36.9868,2,-999.0000,9,    211.4,2,     0.77,2,     0.00,2, -999.000,9, -999.000,9, -999.000,9, -999.000,9, -999.000,9,-999.0000,9,  -999.00,9,-999.000,   -999.0,9,   -999.0,9,     80,-999.0000,-999.000,-999.000,9, 25.9069,-999.000
      06MT28_1,   A08,   187,  1,   1034,    218,2,19940406,2222,-11.3330, -30.6667, 5296,    119.9,  23.8633,  36.9030,2,-999.0000,9,    208.4,2,     0.77,2,     0.00,2, -999.000,9, -999.000,9, -999.000,9, -999.000,9, -999.000,9,-999.0000,9,  -999.00,9,-999.000,   -999.0,9,   -999.0,9,    119,-999.0000,-999.000,-999.000,9, 23.8379,-999.000
      06MT28_1,   A08,   187,  1,   1033,    217,2,19940406,2222,-11.3330, -30.6667, 5296,    179.3,  17.5556,  35.9255,2,-999.0000,9,    170.2,2,     2.49,2,     6.99,2, -999.000,9, -999.000,9, -999.000,9, -999.000,9, -999.000,9,-999.0000,9,  -999.00,9,-999.000,   -999.0,9,   -999.0,9,    178,-999.0000,-999.000,-999.000,9, 17.5252,-999.000
      06MT28_1,   A08,   187,  1,   1032,    216,2,19940406,2222,-11.3330, -30.6667, 5296,    251.4,  12.9633,  35.2491,2,-999.0000,9,    131.5,2,     6.51,2,    18.19,2, -999.000,9, -999.000,9, -999.000,9, -999.000,9, -999.000,9,-999.0000,9,  -999.00,9,-999.000,   -999.0,9,   -999.0,9,    251,-999.0000,-999.000,-999.000,9, 12.9286,-999.000
      06MT28_1,   A08,   187,  1,   1031,    215,2,19940406,2222,-11.3330, -30.6667, 5296,    350.4,   9.6275,  34.8894,2,-999.0000,9,    100.0,2,    12.63,2,    27.93,2, -999.000,9, -999.000,9, -999.000,9, -999.000,9, -999.000,9,-999.0000,9,  -999.00,9,-999.000,   -999.0,9,   -999.0,9,    350,-999.0000,-999.000,-999.000,9,  9.5876,-999.000
      06MT28_1,   A08,   187,  1,   1030,    214,2,19940406,2222,-11.3330, -30.6667, 5296,    448.9,   7.4332,  34.6407,2,-999.0000,9,    130.2,2,    16.73,2,    29.73,2, -999.000,9, -999.000,9, -999.000,9, -999.000,9, -999.000,9,-999.0000,9,  -999.00,9,-999.000,   -999.0,9,   -999.0,9,    448,-999.0000,-999.000,-999.000,9,  7.3892,-999.000
      06MT28_1,   A08,   187,  1,   1029,    213,2,19940406,2222,-11.3330, -30.6667, 5296,    549.7,   6.1193,  34.5306,2,-999.0000,9,    138.1,2,    21.21,2,    31.72,2, -999.000,9, -999.000,9, -999.000,9, -999.000,9, -999.000,9,-999.0000,9,  -999.00,9,-999.000,   -999.0,9,   -999.0,9,    549,-999.0000,-999.000,-999.000,9,  6.0705,-999.000
      06MT28_1,   A08,   187,  1,   1028,    212,2,19940406,2222,-11.3330, -30.6667, 5296,    649.9,   5.2501,  34.4713,2,-999.0000,9,    153.1,2,    24.83,2,    31.80,2, -999.000,9, -999.000,9, -999.000,9, -999.000,9, -999.000,9,-999.0000,9,  -999.00,9,-999.000,   -999.0,9,   -999.0,9,    650,-999.0000,-999.000,-999.000,9,  5.1964,-999.000
      06MT28_1,   A08,   187,  1,   1027,    211,2,19940406,2222,-11.3330, -30.6667, 5296,    750.3,   4.5840,  34.4388,2,-999.0000,9,    165.0,2,    28.87,2,    31.83,2, -999.000,9, -999.000,9, -999.000,9, -999.000,9, -999.000,9,-999.0000,9,  -999.00,9,-999.000,   -999.0,9,   -999.0,9,    751,-999.0000,-999.000,-999.000,9,  4.5253,-999.000
      06MT28_1,   A08,   187,  1,   1026,    210,2,19940406,2222,-11.3330, -30.6667, 5296,    823.5,   4.2847,  34.4441,2,-999.0000,9,    168.0,2,    31.54,2,    31.92,2, -999.000,9, -999.000,9, -999.000,9, -999.000,9, -999.000,9,-999.0000,9,  -999.00,9,-999.000,   -999.0,9,   -999.0,9,    824,-999.0000,-999.000,-999.000,9,  4.2218,-999.000
      06MT28_1,   A08,   187,  1,   1025,    209,2,19940406,2222,-11.3330, -30.6667, 5296,    923.8,   3.9563,  34.4791,2,-999.0000,9,   -999.0,9,  -999.00,9,  -999.00,9, -999.000,9, -999.000,9, -999.000,9, -999.000,9, -999.000,9,-999.0000,9,  -999.00,9,-999.000,   -999.0,9,   -999.0,9,    925,-999.0000,-999.000,-999.000,9,  3.8872,-999.000