BOTTLE,20220817CCHSIOAMB
EXPOCODE,SECT_ID,STNNBR,CASTNO,SAMPNO,BTLNBR,BTLNBR_FLAG_W,DATE,TIME,LATITUDE,LONGITUDE,DEPTH,CTDPRS,CTDTMP,CTDSAL,CTDSAL_FLAG_W,SALNTY,SALNTY_FLAG_W,OXYGEN,OXYGEN_FLAG_W,SILCAT,SILCAT_FLAG_W,NO2+NO3,NO2+NO3_FLAG_W,CFC-11,CFC-11_FLAG_W,CFC-12,CFC-12_FLAG_W,CFC113,CFC113_FLAG_W,CCL4,CCL4_FLAG_W,TRITUM,TRITUM_FLAG_W,HELIUM,HELIUM_FLAG_W,DELHE3,DELHE3_FLAG_W,NEON,TCARBN,TCARBN_FLAG_W,PCO2,PCO2_FLAG_W,CTDRAW,HELIER,DELHER,NEONER,NEON_FLAG_W,THETA,TRITER
,,,,,,,,,,,,DBAR,ITS-90,PSS-78,,PSS-78,,UMOL/KG,,UMOL/KG,,UMOL/KG,,PMOL/KG,,PMOL/KG,,PMOL/KG,,PMOL/KG,,TU,,NMOL/KG,,PERCNT,,NMOL/KG,UMOL/KG,,UATM,,,NMOL/KG,PERCNT,NMOL/KG,,ITS-90,TU
      06MT28_1,   A08,   195,  1,   1454,    221,2,19940410,0350,-11.3347, -25.3332, 5641,      9.1,  27.8247,  36.9065,2,-999.0000,9,    193.6,2,     0.77,2,     0.00,4, -999.000,9, -999.000,9, -999.000,9, -999.000,9, -999.000,9,-999.0000,9,  -999.00,9,-999.000,   -999.0,9,   -999.0,9,      8,-999.0000,-999.000,-999.000,9, 27.8226,-999.000
      06MT28_1,   A08,   195,  1,   1519,    220,2,19940410,0350,-11.3347, -25.3332, 5641,     41.3,  27.6103,  36.9147,2,-999.0000,9,    196.2,2,     0.67,2,     0.00,4, -999.000,9, -999.000,9, -999.000,9, -999.000,9, -999.000,9,-999.0000,9,  -999.00,9,-999.000,   -999.0,9,   -999.0,9,     40,-999.0000,-999.000,-999.000,9, 27.6006,-999.000
      06MT28_1,   A08,   195,  1,   1517,    219,2,19940410,0350,-11.3347, -25.3332, 5641,     61.0,  25.9347,  36.8362,2,-999.0000,9,    211.4,2,     0.67,2,     0.00,4, -999.000,9, -999.000,9, -999.000,9, -999.000,9, -999.000,9,-999.0000,9,  -999.00,9,-999.000,   -999.0,9,   -999.0,9,     60,-999.0000,-999.000,-999.000,9, 25.9211,-999.000
      06MT28_1,   A08,   195,  1,   1516,    218,2,19940410,0350,-11.3347, -25.3332, 5641,     81.1,  24.5633,  36.8332,2,-999.0000,9,    213.8,2,     0.67,2,     0.00,4, -999.000,9, -999.000,9, -999.000,9, -999.000,9, -999.000,9,-999.0000,9,  -999.00,9,-999.000,   -999.0,9,   -999.0,9,     80,-999.0000,-999.000,-999.000,9, 24.5459,-999.000
      06MT28_1,   A08,   195,  1,   1515,    217,2,19940410,0350,-11.3347, -25.3332, 5641,    115.3,  22.2346,  36.5761,2,-999.0000,9,    208.4,2,     0.86,2,     0.00,4, -999.000,9, -999.000,9, -999.000,9, -999.000,9, -999.000,9,-999.0000,9,  -999.00,9,-999.000,   -999.0,9,   -999.0,9,    114,-999.0000,-999.000,-999.000,9, 22.2114,-999.000
      06MT28_1,   A08,   195,  1,   1514,    216,2,19940410,0350,-11.3347, -25.3332, 5641,    181.8,  16.9076,  35.8104,2,-999.0000,9,    163.6,2,     2.97,2,     9.29,2, -999.000,9, -999.000,9, -999.000,9, -999.000,9, -999.000,9,-999.0000,9,  -999.00,9,-999.000,   -999.0,9,   -999.0,9,    181,-999.0000,-999.000,-999.000,9, 16.8776,-999.000
      06MT28_1,   A08,   195,  1,   1513,    215,2,19940410,0350,-11.3347, -25.3332, 5641,    250.2,  12.6187,  35.2328,2,-999.0000,9,     93.5,2,     7.85,2,    22.78,2, -999.000,9, -999.000,9, -999.000,9, -999.000,9, -999.000,9,-999.0000,9,  -999.00,9,-999.000,   -999.0,9,   -999.0,9,    249,-999.0000,-999.000,-999.000,9, 12.5848,-999.000
      06MT28_1,   A08,   195,  1,   1511,    213,2,19940410,0350,-11.3347, -25.3332, 5641,    351.2,   9.1317,  34.8273,2,-999.0000,9,     98.3,2,    13.48,2,    28.68,2, -999.000,9, -999.000,9, -999.000,9, -999.000,9, -999.000,9,-999.0000,9,  -999.00,9,-999.000,   -999.0,9,   -999.0,9,    351,-999.0000,-999.000,-999.000,9,  9.0929,-999.000
      06MT28_1,   A08,   195,  1,   1512,    214,2,19940410,0350,-11.3347, -25.3332, 5641,    351.2,   9.1317,  34.8273,2,-999.0000,9,     97.2,2,    13.49,2,    28.98,2, -999.000,9, -999.000,9, -999.000,9, -999.000,9, -999.000,9,-999.0000,9,  -999.00,9,-999.000,   -999.0,9,   -999.0,9,    351,-999.0000,-999.000,-999.000,9,  9.0929,-999.000
      06MT28_1,   A08,   195,  1,   1510,    212,2,19940410,0350,-11.3347, -25.3332, 5641,    550.9,   5.9410,  34.5177,2,-999.0000,9,    134.9,2,    21.69,2,    32.01,2, -999.000,9, -999.000,9, -999.000,9, -999.000,9, -999.000,9,-999.0000,9,  -999.00,9,-999.000,   -999.0,9,   -999.0,9,    550,-999.0000,-999.000,-999.000,9,  5.8929,-999.000
      06MT28_1,   A08,   195,  1,   1509,    211,2,19940410,0350,-11.3347, -25.3332, 5641,    653.3,   5.1885,  34.4697,2,-999.0000,9,    146.0,2,    25.31,2,    32.47,2, -999.000,9, -999.000,9, -999.000,9, -999.000,9, -999.000,9,-999.0000,9,  -999.00,9,-999.000,   -999.0,9,   -999.0,9,    653,-999.0000,-999.000,-999.000,9,  5.1348,-999.000
      06MT28_1,   A08,   195,  1,   1508,    210,2,19940410,0350,-11.3347, -25.3332, 5641,    737.5,   4.7305,  34.4528,2,-999.0000,9,    153.8,2,    27.97,2,    32.36,2, -999.000,9, -999.000,9, -999.000,9, -999.000,9, -999.000,9,-999.0000,9,  -999.00,9,-999.000,   -999.0,9,   -999.0,9,    738,-999.0000,-999.000,-999.000,9,  4.6721,-999.000
      06MT28_1,   A08,   195,  1,   1507,    209,2,19940410,0350,-11.3347, -25.3332, 5641,    822.1,   4.3125,  34.4533,2,-999.0000,9,    161.5,2,    31.15,2,    32.11,2, -999.000,9, -999.000,9, -999.000,9, -999.000,9, -999.000,9,-999.0000,9,  -999.00,9,-999.000,   -999.0,9,   -999.0,9,    823,-999.0000,-999.000,-999.000,9,  4.2495,-999.000
      06MT28_1,   A08,   195,  1,   1506,    208,2,19940410,0350,-11.3347, -25.3332, 5641,    922.6,   4.0395,  34.4928,2,-999.0000,9,    163.1,2,    33.67,2,    31.71,2, -999.000,9, -999.000,9, -999.000,9, -999.000,9, -999.000,9,-999.0000,9,  -999.00,9,-999.000,   -999.0,9,   -999.0,9,    923,-999.0000,-999.000,-999.000,9,  3.9700,-999.000
      06MT28_1,   A08,   195,  1,   1505,    207,2,19940410,0350,-11.3347, -25.3332, 5641,   1000.7,   3.9370,  34.5310,2,  34.5214,3,    164.5,2,  -999.00,9,  -999.00,9, -999.000,9, -999.000,9, -999.000,9, -999.000,9, -999.000,9,-999.0000,9,  -999.00,9,-999.000,   -999.0,9,   -999.0,9,   1002,-999.0000,-999.000,-999.000,9,  3.8617,-999.000
      06MT28_1,   A08,   195,  2,   1518,    324,2,19940410,0618,-11.3333, -25.3345, 5586,     14.9,  27.7926,  36.8990,2,  36.9015,2,    196.3,2,     0.96,2,     0.00,4, -999.000,9, -999.000,9, -999.000,9, -999.000,9, -999.000,9,-999.0000,9,  -999.00,9,-999.000,   -999.0,9,   -999.0,9,     11,-999.0000,-999.000,-999.000,9, 27.7891,-999.000
      06MT28_1,   A08,   195,  2,   1504,    323,2,19940410,0618,-11.3333, -25.3345, 5586,   1096.1,   3.9080,  34.6021,2,  34.6064,2,    168.7,2,    33.25,2,    30.02,2, -999.000,9, -999.000,9, -999.000,9, -999.000,9, -999.000,9,-999.0000,9,  -999.00,9,-999.000,   -999.0,9,   -999.0,9,   1100,-999.0000,-999.000,-999.000,9,  3.8249,-999.000
      06MT28_1,   A08,   195,  2,   1503,    322,2,19940410,0618,-11.3333, -25.3345, 5586,   1296.8,   4.0763,  34.7987,2,-999.0000,9,    186.1,2,    25.99,2,    25.89,2, -999.000,9, -999.000,9, -999.000,9, -999.000,9, -999.000,9,-999.0000,9,  -999.00,9,-999.000,   -999.0,9,   -999.0,9,   1300,-999.0000,-999.000,-999.000,9,  3.9740,-999.000
      06MT28_1,   A08,   195,  2,   1502,    321,2,19940410,0618,-11.3333, -25.3345, 5586,   1497.0,   3.9841,  34.9061,2,-999.0000,9,    210.2,2,    21.40,2,    22.16,2, -999.000,9, -999.000,9, -999.000,9, -999.000,9, -999.000,9,-999.0000,9,  -999.00,9,-999.000,   -999.0,9,   -999.0,9,   1500,-999.0000,-999.000,-999.000,9,  3.8645,-999.000
      06MT28_1,   A08,   195,  2,   1501,    320,2,19940410,0618,-11.3333, -25.3345, 5586,   1696.7,   3.6990,  34.9353,2,-999.0000,9,    225.0,2,    21.09,2,    20.43,2, -999.000,9, -999.000,9, -999.000,9, -999.000,9, -999.000,9,-999.0000,9,  -999.00,9,-999.000,   -999.0,9,   -999.0,9,   1699,-999.0000,-999.000,-999.000,9,  3.5645,-999.000
      06MT28_1,   A08,   195,  2,   1500,    319,2,19940410,0618,-11.3333, -25.3345, 5586,   1899.1,   3.4218,  34.9485,2,-999.0000,9,    236.7,2,    21.55,2,    19.27,2, -999.000,9, -999.000,9, -999.000,9, -999.000,9, -999.000,9,-999.0000,9,  -999.00,9,-999.000,   -999.0,9,   -999.0,9,   1901,-999.0000,-999.000,-999.000,9,  3.2724,-999.000
      06MT28_1,   A08,   195,  2,   1499,    318,2,19940410,0618,-11.3333, -25.3345, 5586,   2098.9,   3.2554,  34.9472,2,  34.9479,2,    239.4,2,    22.95,2,    18.97,2, -999.000,9, -999.000,9, -999.000,9, -999.000,9, -999.000,9,-999.0000,9,  -999.00,9,-999.000,   -999.0,9,   -999.0,9,   2100,-999.0000,-999.000,-999.000,9,  3.0898,-999.000
      06MT28_1,   A08,   195,  2,   1497,    317,2,19940410,0618,-11.3333, -25.3345, 5586,   2349.6,   3.0197,  34.9311,2,-999.0000,9,    237.1,2,    27.19,2,    19.42,2, -999.000,9, -999.000,9, -999.000,9, -999.000,9, -999.000,9,-999.0000,9,  -999.00,9,-999.000,   -999.0,9,   -999.0,9,   2349,-999.0000,-999.000,-999.000,9,  2.8341,-999.000
      06MT28_1,   A08,   195,  2,   1495,    316,2,19940410,0618,-11.3333, -25.3345, 5586,   2600.7,   2.8407,  34.9175,2,-999.0000,9,    234.4,2,    31.42,2,    19.87,2, -999.000,9, -999.000,9, -999.000,9, -999.000,9, -999.000,9,-999.0000,9,  -999.00,9,-999.000,   -999.0,9,   -999.0,9,   2600,-999.0000,-999.000,-999.000,9,  2.6339,-999.000
      06MT28_1,   A08,   195,  2,   1485,    315,2,19940410,0618,-11.3333, -25.3345, 5586,   2852.0,   2.7588,  34.9145,2,-999.0000,9,    234.5,2,    32.90,2,    19.95,2, -999.000,9, -999.000,9, -999.000,9, -999.000,9, -999.000,9,-999.0000,9,  -999.00,9,-999.000,   -999.0,9,   -999.0,9,   2850,-999.0000,-999.000,-999.000,9,  2.5285,-999.000
      06MT28_1,   A08,   195,  2,   1551,    314,2,19940410,0618,-11.3333, -25.3345, 5586,   3102.3,   2.6788,  34.9142,2,  34.9148,2,    236.5,2,    32.58,2,    19.64,2, -999.000,9, -999.000,9, -999.000,9, -999.000,9, -999.000,9,-999.0000,9,  -999.00,9,-999.000,   -999.0,9,   -999.0,9,   3099,-999.0000,-999.000,-999.000,9,  2.4245,-999.000
      06MT28_1,   A08,   195,  2,   1550,    313,2,19940410,0618,-11.3333, -25.3345, 5586,   3354.4,   2.5954,  34.9117,2,-999.0000,9,    239.6,2,    32.45,2,    19.24,2, -999.000,9, -999.000,9, -999.000,9, -999.000,9, -999.000,9,-999.0000,9,  -999.00,9,-999.000,   -999.0,9,   -999.0,9,   3351,-999.0000,-999.000,-999.000,9,  2.3163,-999.000
      06MT28_1,   A08,   195,  2,   1549,    312,2,19940410,0618,-11.3333, -25.3345, 5586,   3604.8,   2.4499,  34.9005,2,-999.0000,9,    239.0,2,    35.71,2,    19.51,2, -999.000,9, -999.000,9, -999.000,9, -999.000,9, -999.000,9,-999.0000,9,  -999.00,9,-999.000,   -999.0,9,   -999.0,9,   3600,-999.0000,-999.000,-999.000,9,  2.1473,-999.000
      06MT28_1,   A08,   195,  2,   1548,    311,2,19940410,0618,-11.3333, -25.3345, 5586,   3855.5,   2.1745,  34.8726,2,-999.0000,9,    235.7,2,    45.37,2,    20.80,2, -999.000,9, -999.000,9, -999.000,9, -999.000,9, -999.000,9,-999.0000,9,  -999.00,9,-999.000,   -999.0,9,   -999.0,9,   3850,-999.0000,-999.000,-999.000,9,  1.8517,-999.000
      06MT28_1,   A08,   195,  2,   1547,    310,2,19940410,0618,-11.3333, -25.3345, 5586,   4104.8,   1.6580,  34.8168,2,-999.0000,9,    224.5,2,    66.19,2,    23.79,2, -999.000,9, -999.000,9, -999.000,9, -999.000,9, -999.000,9,-999.0000,9,  -999.00,9,-999.000,   -999.0,9,   -999.0,9,   4099,-999.0000,-999.000,-999.000,9,  1.3223,-999.000
      06MT28_1,   A08,   195,  2,   1546,    309,2,19940410,0618,-11.3333, -25.3345, 5586,   4355.8,   1.2301,  34.7724,2,-999.0000,9,    217.8,2,    82.75,2,    26.02,2, -999.000,9, -999.000,9, -999.000,9, -999.000,9, -999.000,9,-999.0000,9,  -999.00,9,-999.000,   -999.0,9,   -999.0,9,   4350,-999.0000,-999.000,-999.000,9,  0.8792,-999.000
      06MT28_1,   A08,   195,  2,   1545,    308,2,19940410,0618,-11.3333, -25.3345, 5586,   4606.6,   0.9108,  34.7377,2,-999.0000,9,    197.4,2,    94.86,2,    27.58,2, -999.000,9, -999.000,9, -999.000,9, -999.000,9, -999.000,9,-999.0000,9,  -999.00,9,-999.000,   -999.0,9,   -999.0,9,   4600,-999.0000,-999.000,-999.000,9,  0.5418,-999.000
      06MT28_1,   A08,   195,  2,   1544,    307,2,19940410,0618,-11.3333, -25.3345, 5586,   4856.6,   0.8095,  34.7249,2,-999.0000,9,    211.1,2,    99.16,2,    28.21,2, -999.000,9, -999.000,9, -999.000,9, -999.000,9, -999.000,9,-999.0000,9,  -999.00,9,-999.000,   -999.0,9,   -999.0,9,   4850,-999.0000,-999.000,-999.000,9,  0.4152,-999.000
      06MT28_1,   A08,   195,  2,   1543,    306,2,19940410,0618,-11.3333, -25.3345, 5586,   5106.9,   0.7496,  34.7159,2,-999.0000,9,    208.8,2,   102.53,2,    28.56,2, -999.000,9, -999.000,9, -999.000,9, -999.000,9, -999.000,9,-999.0000,9,  -999.00,9,-999.000,   -999.0,9,   -999.0,9,   5100,-999.0000,-999.000,-999.000,9,  0.3281,-999.000
      06MT28_1,   A08,   195,  2,   1542,    305,2,19940410,0618,-11.3333, -25.3345, 5586,   5357.0,   0.7317,  34.7113,2,-999.0000,9,    207.7,2,   104.20,2,    28.72,2, -999.000,9, -999.000,9, -999.000,9, -999.000,9, -999.000,9,-999.0000,9,  -999.00,9,-999.000,   -999.0,9,   -999.0,9,   5350,-999.0000,-999.000,-999.000,9,  0.2807,-999.000
      06MT28_1,   A08,   195,  2,   1541,    304,2,19940410,0618,-11.3333, -25.3345, 5586,   5650.4,   0.7311,  34.7064,2,-999.0000,9,    206.8,2,   106.18,2,    29.01,2, -999.000,9, -999.000,9, -999.000,9, -999.000,9, -999.000,9,-999.0000,9,  -999.00,9,-999.000,   -999.0,9,   -999.0,9,   5644,-999.0000,-999.000,-999.000,9,  0.2439,-999.000
      06MT28_1,   A08,   195,  2,   1539,    303,2,19940410,0618,-11.3333, -25.3345, 5586,   5719.4,   0.7395,  34.7066,2,-999.0000,9,    206.8,2,   105.78,2,    29.00,2, -999.000,9, -999.000,9, -999.000,9, -999.000,9, -999.000,9,-999.0000,9,  -999.00,9,-999.000,   -999.0,9,   -999.0,9,   5713,-999.0000,-999.000,-999.000,9,  0.2433,-999.000
      06MT28_1,   A08,   195,  2,   1540,    302,2,19940410,0618,-11.3333, -25.3345, 5586,   5750.4,   0.7438,  34.7066,2,-999.0000,9,    206.7,2,   105.63,2,    28.95,2, -999.000,9, -999.000,9, -999.000,9, -999.000,9, -999.000,9,-999.0000,9,  -999.00,9,-999.000,   -999.0,9,   -999.0,9,   5744,-999.0000,-999.000,-999.000,9,  0.2435,-999.000
      06MT28_1,   A08,   195,  2,   1538,    301,2,19940410,0618,-11.3333, -25.3345, 5586,   5750.5,   0.7440,  34.7064,2,-999.0000,9,    206.4,2,   105.30,2,    28.86,2, -999.000,9, -999.000,9, -999.000,9, -999.000,9, -999.000,9,-999.0000,9,  -999.00,9,-999.000,   -999.0,9,   -999.0,9,   5744,-999.0000,-999.000,-999.000,9,  0.2437,-999.000
      06MT28_1,   A08,   196,  1,   1537,    221,2,19940410,1307,-11.3330, -24.6670, 5399,     11.7,  27.7347,  36.9064,2,  36.9126,2,    193.0,2,     0.77,2,     0.00,4,    1.518,2,    0.889,2,    0.106,4,    1.746,2, -999.000,9,-999.0000,9,  -999.00,9,-999.000,   2053.9,2,    463.0,6,     10,-999.0000,-999.000,-999.000,9, 27.7320,-999.000
      06MT28_1,   A08,   196,  1,   1535,    220,2,19940410,1307,-11.3330, -24.6670, 5399,     40.8,  27.5677,  36.9565,2,-999.0000,9,    195.7,2,     0.67,2,     0.00,4,    1.561,2,    0.911,2,    0.111,4,    1.702,2, -999.000,9,-999.0000,9,  -999.00,9,-999.000,   2059.0,2,    470.7,2,     40,-999.0000,-999.000,-999.000,9, 27.5581,-999.000
      06MT28_1,   A08,   196,  1,   1533,    219,2,19940410,1307,-11.3330, -24.6670, 5399,     61.2,  25.7057,  36.8941,2,-999.0000,9,    209.8,2,     0.67,2,     0.00,4,    1.729,2,    0.997,2,    0.166,2,    1.422,2, -999.000,9,-999.0000,9,  -999.00,9,-999.000,   2058.0,2,    474.4,2,     60,-999.0000,-999.000,-999.000,9, 25.6920,-999.000
      06MT28_1,   A08,   196,  1,   1534,    218,2,19940410,1307,-11.3330, -24.6670, 5399,     81.2,  24.4111,  36.8430,2,-999.0000,9,    214.6,2,     0.67,2,     0.00,4,    1.822,2,    1.036,2,    0.173,2,    1.319,2, -999.000,9,-999.0000,9,  -999.00,9,-999.000,   2066.6,2,    495.4,2,     80,-999.0000,-999.000,-999.000,9, 24.3937,-999.000
      06MT28_1,   A08,   196,  1,   1532,    217,2,19940410,1307,-11.3330, -24.6670, 5399,    120.1,  20.8982,  36.3998,2,-999.0000,9,    190.3,2,     1.34,2,     0.86,2,    1.931,2,    1.080,2,    0.158,2,    0.870,2, -999.000,9,-999.0000,9,  -999.00,9,-999.000,   2100.3,2,    631.5,2,    119,-999.0000,-999.000,-999.000,9, 20.8751,-999.000
      06MT28_1,   A08,   196,  1,   1531,    216,2,19940410,1307,-11.3330, -24.6670, 5399,    180.8,  16.6191,  35.7696,2,-999.0000,9,    154.3,2,     3.35,2,    10.44,2,    1.872,2,    1.015,2,    0.086,2,    0.600,2, -999.000,9,   1.7340,2,    -0.28,2,   7.090,   2132.9,2,    543.3,2,    180,  0.0070,   0.250,   0.023,2, 16.5896,-999.000
      06MT28_1,   A08,   196,  1,   1530,    215,2,19940410,1307,-11.3330, -24.6670, 5399,    250.6,  12.1998,  35.1694,2,-999.0000,9,   -999.0,9,  -999.00,9,  -999.00,9, -999.000,9, -999.000,9, -999.000,9, -999.000,9, -999.000,9,-999.0000,9,  -999.00,9,-999.000,   -999.0,9,   -999.0,9,    250,-999.0000,-999.000,-999.000,9, 12.1666,-999.000
      06MT28_1,   A08,   196,  1,   1527,    214,2,19940410,1307,-11.3330, -24.6670, 5399,    351.0,   9.1876,  34.8221,2,-999.0000,9,    103.8,2,    13.39,2,    28.60,2,    0.342,2,    0.200,2,    0.015,2,    0.269,2,    0.212,2,   1.7740,3,     1.46,3,   7.519,   2202.0,2,   1077.8,2,    350,  0.0160,   0.250,   0.062,3,  9.1487,   0.061
      06MT28_1,   A08,   196,  1,   1520,    213,2,19940410,1307,-11.3330, -24.6670, 5399,    451.1,   7.3422,  34.6316,2,-999.0000,9,    124.1,2,    17.21,2,    30.59,2,    2.147,4,    1.500,4,    3.734,4,    1.537,4, -999.000,9,-999.0000,9,  -999.00,9,-999.000,   -999.0,9,   -999.0,9,    451,-999.0000,-999.000,-999.000,9,  7.2983,-999.000
      06MT28_1,   A08,   196,  1,   1585,    212,2,19940410,1307,-11.3330, -24.6670, 5399,    550.2,   6.2484,  34.5340,2,-999.0000,9,    130.5,2,    20.83,2,    32.20,2,    0.165,2,    0.094,2,    0.015,2,    0.407,2,    0.070,2,-999.0000,9,  -999.00,9,-999.000,   2208.3,2,   1181.9,2,    550,-999.0000,-999.000,-999.000,9,  6.1990,   0.559
      06MT28_1,   A08,   196,  1,   1584,    211,2,19940410,1307,-11.3330, -24.6670, 5399,    649.8,   5.4010,  34.4791,2,-999.0000,9,    140.1,2,    24.74,2,    33.04,2,    0.104,2,    0.060,2,    0.010,2,    0.361,2,    0.034,2,   1.8030,2,     1.93,2,   7.765,   2211.1,2,   1192.6,2,    650,  0.0070,   0.250,   0.026,2,  5.3466,   0.004
      06MT28_1,   A08,   196,  1,   1583,    210,2,19940410,1307,-11.3330, -24.6670, 5399,    749.0,   4.7572,  34.4418,2,-999.0000,9,    154.3,2,    28.21,2,    32.55,2,    0.091,2,    0.056,2,    0.009,2,    0.374,2,    0.038,2,   1.7920,2,     2.22,2,   7.771,   2209.9,2,   1168.0,2,    749,  0.0070,   0.250,   0.026,2,  4.6976,   0.139
      06MT28_1,   A08,   196,  1,   1582,    209,2,19940410,1307,-11.3330, -24.6670, 5399,    824.3,   4.2973,  34.4495,2,-999.0000,9,   -999.0,9,  -999.00,9,  -999.00,9, -999.000,9, -999.000,9, -999.000,9, -999.000,9, -999.000,9,-999.0000,9,  -999.00,9,-999.000,   -999.0,9,   -999.0,9,    825,-999.0000,-999.000,-999.000,9,  4.2342,-999.000
      06MT28_1,   A08,   196,  1,   1580,    208,2,19940410,1307,-11.3330, -24.6670, 5399,    923.8,   4.0412,  34.4884,2,-999.0000,9,    161.0,2,    33.95,2,    32.14,2,    0.022,2,    0.016,2,    0.005,2,    0.170,2, -999.000,9,   1.8050,2,     2.70,2,   7.806,   2215.5,2,   1151.3,6,    925,  0.0070,   0.250,   0.026,2,  3.9716,-999.000
      06MT28_1,   A08,   196,  1,   1579,    207,2,19940410,1307,-11.3330, -24.6670, 5399,    999.8,   3.9231,  34.5333,2,  34.5373,2,   -999.0,9,  -999.00,9,  -999.00,9,    0.992,4,    0.561,4,    2.258,4,    0.751,4, -999.000,9,-999.0000,9,  -999.00,9,-999.000,   -999.0,9,   -999.0,9,   1001,-999.0000,-999.000,-999.000,9,  3.8480,-999.000