BOTTLE,20220817CCHSIOAMB
EXPOCODE,SECT_ID,STNNBR,CASTNO,SAMPNO,BTLNBR,BTLNBR_FLAG_W,DATE,TIME,LATITUDE,LONGITUDE,DEPTH,CTDPRS,CTDTMP,CTDSAL,CTDSAL_FLAG_W,SALNTY,SALNTY_FLAG_W,OXYGEN,OXYGEN_FLAG_W,SILCAT,SILCAT_FLAG_W,NO2+NO3,NO2+NO3_FLAG_W,CFC-11,CFC-11_FLAG_W,CFC-12,CFC-12_FLAG_W,CFC113,CFC113_FLAG_W,CCL4,CCL4_FLAG_W,TRITUM,TRITUM_FLAG_W,HELIUM,HELIUM_FLAG_W,DELHE3,DELHE3_FLAG_W,NEON,TCARBN,TCARBN_FLAG_W,PCO2,PCO2_FLAG_W,CTDRAW,HELIER,DELHER,NEONER,NEON_FLAG_W,THETA,TRITER
,,,,,,,,,,,,DBAR,ITS-90,PSS-78,,PSS-78,,UMOL/KG,,UMOL/KG,,UMOL/KG,,PMOL/KG,,PMOL/KG,,PMOL/KG,,PMOL/KG,,TU,,NMOL/KG,,PERCNT,,NMOL/KG,UMOL/KG,,UATM,,,NMOL/KG,PERCNT,NMOL/KG,,ITS-90,TU
      06MT28_1,   A08,   273,  2,   3299,    322,2,19940504,0954,-11.3338,  12.8332, 1520,      9.5,  27.9934,  35.9283,2,-999.0000,9,   -999.0,9,  -999.00,9,  -999.00,9, -999.000,9, -999.000,9, -999.000,9, -999.000,9, -999.000,9,-999.0000,9,  -999.00,9,-999.000,   -999.0,9,   -999.0,9,      7,-999.0000,-999.000,-999.000,9, 27.9912,-999.000
      06MT28_1,   A08,   273,  2,   3296,    321,2,19940504,0954,-11.3338,  12.8332, 1520,      9.7,  27.9889,  35.9281,2,-999.0000,9,   -999.0,9,  -999.00,9,  -999.00,9, -999.000,9, -999.000,9, -999.000,9, -999.000,9, -999.000,9,-999.0000,9,  -999.00,9,-999.000,   -999.0,9,   -999.0,9,      8,-999.0000,-999.000,-999.000,9, 27.9866,-999.000
      06MT28_1,   A08,   273,  2,   3295,    320,2,19940504,0954,-11.3338,  12.8332, 1520,     11.0,  27.8811,  35.9197,2,-999.0000,9,   -999.0,9,  -999.00,9,  -999.00,9, -999.000,9, -999.000,9, -999.000,9, -999.000,9, -999.000,9,-999.0000,9,  -999.00,9,-999.000,   -999.0,9,   -999.0,9,      9,-999.0000,-999.000,-999.000,9, 27.8785,-999.000
      06MT28_1,   A08,   273,  2,   3294,    319,2,19940504,0954,-11.3338,  12.8332, 1520,     40.4,  18.1815,  35.7514,2,-999.0000,9,   -999.0,9,  -999.00,9,  -999.00,9, -999.000,9, -999.000,9, -999.000,9, -999.000,9, -999.000,9,-999.0000,9,  -999.00,9,-999.000,   -999.0,9,   -999.0,9,     40,-999.0000,-999.000,-999.000,9, 18.1745,-999.000
      06MT28_1,   A08,   273,  2,   3293,    318,2,19940504,0954,-11.3338,  12.8332, 1520,     60.1,  17.1523,  35.7368,2,-999.0000,9,   -999.0,9,  -999.00,9,  -999.00,9, -999.000,9, -999.000,9, -999.000,9, -999.000,9, -999.000,9,-999.0000,9,  -999.00,9,-999.000,   -999.0,9,   -999.0,9,     60,-999.0000,-999.000,-999.000,9, 17.1423,-999.000
      06MT28_1,   A08,   273,  2,   3292,    317,2,19940504,0954,-11.3338,  12.8332, 1520,     79.5,  16.4571,  35.6781,2,-999.0000,9,   -999.0,9,  -999.00,9,  -999.00,9, -999.000,9, -999.000,9, -999.000,9, -999.000,9, -999.000,9,-999.0000,9,  -999.00,9,-999.000,   -999.0,9,   -999.0,9,     80,-999.0000,-999.000,-999.000,9, 16.4443,-999.000
      06MT28_1,   A08,   273,  2,   3291,    316,2,19940504,0954,-11.3338,  12.8332, 1520,    118.9,  15.0135,  35.5196,2,-999.0000,9,   -999.0,9,  -999.00,9,  -999.00,9, -999.000,9, -999.000,9, -999.000,9, -999.000,9, -999.000,9,-999.0000,9,  -999.00,9,-999.000,   -999.0,9,   -999.0,9,    120,-999.0000,-999.000,-999.000,9, 14.9954,-999.000
      06MT28_1,   A08,   273,  2,   3290,    315,2,19940504,0954,-11.3338,  12.8332, 1520,    178.9,  14.2933,  35.4347,2,-999.0000,9,   -999.0,9,  -999.00,9,  -999.00,9, -999.000,9, -999.000,9, -999.000,9, -999.000,9, -999.000,9,-999.0000,9,  -999.00,9,-999.000,   -999.0,9,   -999.0,9,    180,-999.0000,-999.000,-999.000,9, 14.2670,-999.000
      06MT28_1,   A08,   273,  2,   3289,    314,2,19940504,0954,-11.3338,  12.8332, 1520,    247.7,  13.1598,  35.2961,2,-999.0000,9,   -999.0,9,  -999.00,9,  -999.00,9, -999.000,9, -999.000,9, -999.000,9, -999.000,9, -999.000,9,-999.0000,9,  -999.00,9,-999.000,   -999.0,9,   -999.0,9,    249,-999.0000,-999.000,-999.000,9, 13.1253,-999.000
      06MT28_1,   A08,   273,  2,   3288,    313,2,19940504,0954,-11.3338,  12.8332, 1520,    347.6,  10.7620,  35.0214,2,-999.0000,9,   -999.0,9,  -999.00,9,  -999.00,9, -999.000,9, -999.000,9, -999.000,9, -999.000,9, -999.000,9,-999.0000,9,  -999.00,9,-999.000,   -999.0,9,   -999.0,9,    350,-999.0000,-999.000,-999.000,9, 10.7194,-999.000
      06MT28_1,   A08,   273,  2,   3286,    312,2,19940504,0954,-11.3338,  12.8332, 1520,    446.8,   8.4781,  34.7790,2,-999.0000,9,   -999.0,9,  -999.00,9,  -999.00,9, -999.000,9, -999.000,9, -999.000,9, -999.000,9, -999.000,9,-999.0000,9,  -999.00,9,-999.000,   -999.0,9,   -999.0,9,    450,-999.0000,-999.000,-999.000,9,  8.4307,-999.000
      06MT28_1,   A08,   273,  2,   3338,    311,2,19940504,0954,-11.3338,  12.8332, 1520,    545.9,   6.8988,  34.6307,2,-999.0000,9,   -999.0,9,  -999.00,9,  -999.00,9, -999.000,9, -999.000,9, -999.000,9, -999.000,9, -999.000,9,-999.0000,9,  -999.00,9,-999.000,   -999.0,9,   -999.0,9,    549,-999.0000,-999.000,-999.000,9,  6.8471,-999.000
      06MT28_1,   A08,   273,  2,   3334,    310,2,19940504,0954,-11.3338,  12.8332, 1520,    646.1,   5.8175,  34.5502,2,-999.0000,9,   -999.0,9,  -999.00,9,  -999.00,9, -999.000,9, -999.000,9, -999.000,9, -999.000,9, -999.000,9,-999.0000,9,  -999.00,9,-999.000,   -999.0,9,   -999.0,9,    650,-999.0000,-999.000,-999.000,9,  5.7612,-999.000
      06MT28_1,   A08,   273,  2,   3333,    309,2,19940504,0954,-11.3338,  12.8332, 1520,    746.0,   5.1153,  34.5193,2,-999.0000,9,   -999.0,9,  -999.00,9,  -999.00,9, -999.000,9, -999.000,9, -999.000,9, -999.000,9, -999.000,9,-999.0000,9,  -999.00,9,-999.000,   -999.0,9,   -999.0,9,    750,-999.0000,-999.000,-999.000,9,  5.0539,-999.000
      06MT28_1,   A08,   273,  2,   3332,    308,2,19940504,0954,-11.3338,  12.8332, 1520,    820.6,   4.7593,  34.5170,2,-999.0000,9,   -999.0,9,  -999.00,9,  -999.00,9, -999.000,9, -999.000,9, -999.000,9, -999.000,9, -999.000,9,-999.0000,9,  -999.00,9,-999.000,   -999.0,9,   -999.0,9,    825,-999.0000,-999.000,-999.000,9,  4.6935,-999.000
      06MT28_1,   A08,   273,  2,   3331,    307,2,19940504,0954,-11.3338,  12.8332, 1520,    920.6,   4.4282,  34.5390,2,-999.0000,9,   -999.0,9,  -999.00,9,  -999.00,9, -999.000,9, -999.000,9, -999.000,9, -999.000,9, -999.000,9,-999.0000,9,  -999.00,9,-999.000,   -999.0,9,   -999.0,9,    925,-999.0000,-999.000,-999.000,9,  4.3560,-999.000
      06MT28_1,   A08,   273,  2,   3330,    306,2,19940504,0954,-11.3338,  12.8332, 1520,   1095.7,   4.1169,  34.6338,2,-999.0000,9,   -999.0,9,  -999.00,9,  -999.00,9, -999.000,9, -999.000,9, -999.000,9, -999.000,9, -999.000,9,-999.0000,9,  -999.00,9,-999.000,   -999.0,9,   -999.0,9,   1100,-999.0000,-999.000,-999.000,9,  4.0320,-999.000
      06MT28_1,   A08,   273,  2,   3329,    305,2,19940504,0954,-11.3338,  12.8332, 1520,   1295.6,   3.9798,  34.8139,2,-999.0000,9,   -999.0,9,  -999.00,9,  -999.00,9, -999.000,9, -999.000,9, -999.000,9, -999.000,9, -999.000,9,-999.0000,9,  -999.00,9,-999.000,   -999.0,9,   -999.0,9,   1300,-999.0000,-999.000,-999.000,9,  3.8785,-999.000
      06MT28_1,   A08,   273,  2,   3328,    304,2,19940504,0954,-11.3338,  12.8332, 1520,   1396.0,   3.9544,  34.8533,2,-999.0000,9,   -999.0,9,  -999.00,9,  -999.00,9, -999.000,9, -999.000,9, -999.000,9, -999.000,9, -999.000,9,-999.0000,9,  -999.00,9,-999.000,   -999.0,9,   -999.0,9,   1400,-999.0000,-999.000,-999.000,9,  3.8444,-999.000
      06MT28_1,   A08,   273,  2,   3327,    303,2,19940504,0954,-11.3338,  12.8332, 1520,   1465.7,   3.9053,  34.8681,2,-999.0000,9,   -999.0,9,  -999.00,9,  -999.00,9, -999.000,9, -999.000,9, -999.000,9, -999.000,9, -999.000,9,-999.0000,9,  -999.00,9,-999.000,   -999.0,9,   -999.0,9,   1470,-999.0000,-999.000,-999.000,9,  3.7895,-999.000
      06MT28_1,   A08,   273,  2,   3325,    301,2,19940504,0954,-11.3338,  12.8332, 1520,   1499.5,   3.8182,  34.8877,2,-999.0000,9,   -999.0,9,  -999.00,9,  -999.00,9, -999.000,9, -999.000,9, -999.000,9, -999.000,9, -999.000,9,-999.0000,9,  -999.00,9,-999.000,   -999.0,9,   -999.0,9,   1504,-999.0000,-999.000,-999.000,9,  3.7003,-999.000
      06MT28_1,   A08,   273,  2,   3326,    302,2,19940504,0954,-11.3338,  12.8332, 1520,   1499.5,   3.8179,  34.8880,2,-999.0000,9,   -999.0,9,  -999.00,9,  -999.00,9, -999.000,9, -999.000,9, -999.000,9, -999.000,9, -999.000,9,-999.0000,9,  -999.00,9,-999.000,   -999.0,9,   -999.0,9,   1503,-999.0000,-999.000,-999.000,9,  3.7000,-999.000
      06MT28_1,   A08,   274,  2,   3324,    320,2,19940504,1245,-11.3325,  12.9497, 1274,     14.6,  27.3954,  35.7089,2,-999.0000,9,   -999.0,9,  -999.00,9,  -999.00,9,    1.488,2,    0.865,2,    0.059,2,    0.554,2, -999.000,9,-999.0000,9,  -999.00,9,-999.000,   -999.0,9,   -999.0,9,     12,-999.0000,-999.000,-999.000,9, 27.3920,-999.000
      06MT28_1,   A08,   274,  2,   3323,    319,2,19940504,1245,-11.3325,  12.9497, 1274,     40.3,  17.6634,  35.7342,2,-999.0000,9,   -999.0,9,  -999.00,9,  -999.00,9,    1.299,2,    0.724,2,    0.040,2,    0.179,2, -999.000,9,-999.0000,9,  -999.00,9,-999.000,   -999.0,9,   -999.0,9,     40,-999.0000,-999.000,-999.000,9, 17.6565,-999.000
      06MT28_1,   A08,   274,  2,   3371,    318,2,19940504,1245,-11.3325,  12.9497, 1274,     60.3,  16.4518,  35.6488,2,-999.0000,9,   -999.0,9,  -999.00,9,  -999.00,9,    1.224,2,    0.687,2,    0.042,2,    0.162,2, -999.000,9,-999.0000,9,  -999.00,9,-999.000,   -999.0,9,   -999.0,9,     60,-999.0000,-999.000,-999.000,9, 16.4421,-999.000
      06MT28_1,   A08,   274,  2,   3370,    317,2,19940504,1245,-11.3325,  12.9497, 1274,     80.2,  15.7485,  35.5947,2,-999.0000,9,   -999.0,9,  -999.00,9,  -999.00,9,    1.141,2,    0.632,2,    0.039,2,    0.142,2, -999.000,9,-999.0000,9,  -999.00,9,-999.000,   -999.0,9,   -999.0,9,     80,-999.0000,-999.000,-999.000,9, 15.7360,-999.000
      06MT28_1,   A08,   274,  2,   3369,    316,2,19940504,1245,-11.3325,  12.9497, 1274,    118.7,  15.0784,  35.5283,2,-999.0000,9,   -999.0,9,  -999.00,9,  -999.00,9,    1.080,2,    0.600,2,    0.050,2,    0.146,2, -999.000,9,-999.0000,9,  -999.00,9,-999.000,   -999.0,9,   -999.0,9,    119,-999.0000,-999.000,-999.000,9, 15.0603,-999.000
      06MT28_1,   A08,   274,  2,   3368,    315,2,19940504,1245,-11.3325,  12.9497, 1274,    178.4,  14.3825,  35.4450,2,-999.0000,9,   -999.0,9,  -999.00,9,  -999.00,9,    0.894,2,    0.496,2,    0.032,2,    0.105,2, -999.000,9,-999.0000,9,  -999.00,9,-999.000,   -999.0,9,   -999.0,9,    179,-999.0000,-999.000,-999.000,9, 14.3561,-999.000
      06MT28_1,   A08,   274,  2,   3367,    314,2,19940504,1245,-11.3325,  12.9497, 1274,    248.0,  13.1520,  35.2957,2,-999.0000,9,   -999.0,9,  -999.00,9,  -999.00,9,    0.695,2,    0.397,2,    0.038,2,    0.132,2, -999.000,9,-999.0000,9,  -999.00,9,-999.000,   -999.0,9,   -999.0,9,    249,-999.0000,-999.000,-999.000,9, 13.1175,-999.000
      06MT28_1,   A08,   274,  2,   3366,    313,2,19940504,1245,-11.3325,  12.9497, 1274,    347.8,  11.3387,  35.0880,2,  35.0786,3,   -999.0,9,  -999.00,9,  -999.00,9,    0.342,2,    0.199,2,   -0.014,4,    0.087,2, -999.000,9,-999.0000,9,  -999.00,9,-999.000,   -999.0,9,   -999.0,9,    350,-999.0000,-999.000,-999.000,9, 11.2946,-999.000
      06MT28_1,   A08,   274,  2,   3365,    312,2,19940504,1245,-11.3325,  12.9497, 1274,    447.2,   8.5582,  34.7869,2,-999.0000,9,   -999.0,9,  -999.00,9,  -999.00,9,    0.078,2,    0.046,2,   -0.014,4,    0.063,2, -999.000,9,-999.0000,9,  -999.00,9,-999.000,   -999.0,9,   -999.0,9,    450,-999.0000,-999.000,-999.000,9,  8.5105,-999.000
      06MT28_1,   A08,   274,  2,   3364,    311,2,19940504,1245,-11.3325,  12.9497, 1274,    546.9,   7.0144,  34.6372,2,-999.0000,9,   -999.0,9,  -999.00,9,  -999.00,9,    0.022,2,    0.016,2,   -0.015,4,    0.056,2, -999.000,9,-999.0000,9,  -999.00,9,-999.000,   -999.0,9,   -999.0,9,    550,-999.0000,-999.000,-999.000,9,  6.9622,-999.000
      06MT28_1,   A08,   274,  2,   3363,    310,2,19940504,1245,-11.3325,  12.9497, 1274,    646.3,   5.8463,  34.5537,2,-999.0000,9,   -999.0,9,  -999.00,9,  -999.00,9,    0.013,2,    0.005,2,   -0.014,4,    0.043,2, -999.000,9,-999.0000,9,  -999.00,9,-999.000,   -999.0,9,   -999.0,9,    649,-999.0000,-999.000,-999.000,9,  5.7899,-999.000
      06MT28_1,   A08,   274,  2,   3362,    309,2,19940504,1245,-11.3325,  12.9497, 1274,    746.0,   5.1846,  34.5205,2,-999.0000,9,   -999.0,9,  -999.00,9,  -999.00,9,    0.005,2,    0.001,2,   -0.015,4,    0.027,2, -999.000,9,-999.0000,9,  -999.00,9,-999.000,   -999.0,9,   -999.0,9,    749,-999.0000,-999.000,-999.000,9,  5.1228,-999.000
      06MT28_1,   A08,   274,  2,   3361,    308,2,19940504,1245,-11.3325,  12.9497, 1274,    820.9,   4.8162,  34.5148,2,-999.0000,9,   -999.0,9,  -999.00,9,  -999.00,9,    0.004,2,    0.000,2,   -0.015,4,    0.021,2, -999.000,9,-999.0000,9,  -999.00,9,-999.000,   -999.0,9,   -999.0,9,    824,-999.0000,-999.000,-999.000,9,  4.7500,-999.000
      06MT28_1,   A08,   274,  2,   3359,    307,2,19940504,1245,-11.3325,  12.9497, 1274,    922.0,   4.4094,  34.5393,2,  34.5423,2,   -999.0,9,  -999.00,9,  -999.00,9,    0.003,2,    0.000,2,   -0.014,4,    0.012,2, -999.000,9,-999.0000,9,  -999.00,9,-999.000,   -999.0,9,   -999.0,9,    926,-999.0000,-999.000,-999.000,9,  4.3373,-999.000
      06MT28_1,   A08,   274,  2,   3405,    306,2,19940504,1245,-11.3325,  12.9497, 1274,   1095.6,   4.1278,  34.6425,2,-999.0000,9,   -999.0,9,  -999.00,9,  -999.00,9,    0.002,2,    0.000,2,   -0.014,4,    0.006,2, -999.000,9,-999.0000,9,  -999.00,9,-999.000,   -999.0,9,   -999.0,9,   1099,-999.0000,-999.000,-999.000,9,  4.0428,-999.000
      06MT28_1,   A08,   274,  2,   3406,    304,2,19940504,1245,-11.3325,  12.9497, 1274,   1154.2,   4.0582,  34.6929,2,-999.0000,9,   -999.0,9,  -999.00,9,  -999.00,9,    0.002,2,    0.000,2,   -0.014,4,    0.005,2, -999.000,9,-999.0000,9,  -999.00,9,-999.000,   -999.0,9,   -999.0,9,   1158,-999.0000,-999.000,-999.000,9,  3.9687,-999.000
      06MT28_1,   A08,   274,  2,   3403,    303,2,19940504,1245,-11.3325,  12.9497, 1274,   1227.3,   4.0241,  34.7897,2,-999.0000,9,   -999.0,9,  -999.00,9,  -999.00,9, -999.000,9, -999.000,9, -999.000,9, -999.000,9, -999.000,9,-999.0000,9,  -999.00,9,-999.000,   -999.0,9,   -999.0,9,   1231,-999.0000,-999.000,-999.000,9,  3.9284,-999.000
      06MT28_1,   A08,   274,  2,   3402,    301,2,19940504,1245,-11.3325,  12.9497, 1274,   1254.7,   4.0229,  34.8068,2,  34.8807,4,   -999.0,9,  -999.00,9,  -999.00,9,    0.002,2,    0.000,2,   -0.014,4,    0.013,2, -999.000,9,-999.0000,9,  -999.00,9,-999.000,   -999.0,9,   -999.0,9,   1258,-999.0000,-999.000,-999.000,9,  3.9248,-999.000
      06MT28_1,   A08,   274,  2,   3401,    302,2,19940504,1245,-11.3325,  12.9497, 1274,   1254.8,   4.0207,  34.8079,2,  34.8100,2,   -999.0,9,  -999.00,9,  -999.00,9, -999.000,9, -999.000,9, -999.000,9, -999.000,9, -999.000,9,-999.0000,9,  -999.00,9,-999.000,   -999.0,9,   -999.0,9,   1259,-999.0000,-999.000,-999.000,9,  3.9226,-999.000
      06MT28_1,   A08,   275,  1,   3400,    212,2,19940504,1603,-11.0000,  12.8330, 1375,      7.2,  27.8861,  35.9450,2,  35.9373,2,   -999.0,9,  -999.00,9,  -999.00,9, -999.000,9, -999.000,9, -999.000,9, -999.000,9, -999.000,9,-999.0000,9,  -999.00,9,-999.000,   -999.0,9,   -999.0,9,      6,-999.0000,-999.000,-999.000,9, 27.8844,-999.000
      06MT28_1,   A08,   275,  1,   3399,    211,2,19940504,1603,-11.0000,  12.8330, 1375,    300.3,  11.8293,  35.1385,2,-999.0000,9,   -999.0,9,  -999.00,9,  -999.00,9, -999.000,9, -999.000,9, -999.000,9, -999.000,9, -999.000,9,-999.0000,9,  -999.00,9,-999.000,   -999.0,9,   -999.0,9,    300,-999.0000,-999.000,-999.000,9, 11.7902,-999.000
      06MT28_1,   A08,   275,  1,   3398,    210,2,19940504,1603,-11.0000,  12.8330, 1375,    599.5,   6.2132,  34.5822,2,-999.0000,9,   -999.0,9,  -999.00,9,  -999.00,9, -999.000,9, -999.000,9, -999.000,9, -999.000,9, -999.000,9,-999.0000,9,  -999.00,9,-999.000,   -999.0,9,   -999.0,9,    599,-999.0000,-999.000,-999.000,9,  6.1593,-999.000
      06MT28_1,   A08,   275,  1,   3397,    209,2,19940504,1603,-11.0000,  12.8330, 1375,    849.1,   4.6678,  34.5161,2,-999.0000,9,   -999.0,9,  -999.00,9,  -999.00,9, -999.000,9, -999.000,9, -999.000,9, -999.000,9, -999.000,9,-999.0000,9,  -999.00,9,-999.000,   -999.0,9,   -999.0,9,    850,-999.0000,-999.000,-999.000,9,  4.6001,-999.000
      06MT28_1,   A08,   275,  1,   3395,    208,2,19940504,1603,-11.0000,  12.8330, 1375,    999.7,   4.3138,  34.5728,2,  35.9384,4,   -999.0,9,  -999.00,9,  -999.00,9, -999.000,9, -999.000,9, -999.000,9, -999.000,9, -999.000,9,-999.0000,9,  -999.00,9,-999.000,   -999.0,9,   -999.0,9,   1001,-999.0000,-999.000,-999.000,9,  4.2357,-999.000
      06MT28_1,   A08,   275,  1,   3451,    207,2,19940504,1603,-11.0000,  12.8330, 1375,    999.9,   4.3129,  34.5736,2,-999.0000,9,   -999.0,9,  -999.00,9,  -999.00,9, -999.000,9, -999.000,9, -999.000,9, -999.000,9, -999.000,9,-999.0000,9,  -999.00,9,-999.000,   -999.0,9,   -999.0,9,   1001,-999.0000,-999.000,-999.000,9,  4.2348,-999.000
      06MT28_1,   A08,   276,  1,   3444,    211,2,19940504,1902,-11.0000,  12.4990, 1545,      9.6,  24.3663,  35.7861,2,  35.7864,2,   -999.0,9,  -999.00,9,  -999.00,9, -999.000,9, -999.000,9, -999.000,9, -999.000,9, -999.000,9,-999.0000,9,  -999.00,9,-999.000,   -999.0,9,   -999.0,9,      9,-999.0000,-999.000,-999.000,9, 24.3643,-999.000
      06MT28_1,   A08,   276,  1,   3441,    210,2,19940504,1902,-11.0000,  12.4990, 1545,    299.5,  11.6182,  35.1156,2,-999.0000,9,   -999.0,9,  -999.00,9,  -999.00,9, -999.000,9, -999.000,9, -999.000,9, -999.000,9, -999.000,9,-999.0000,9,  -999.00,9,-999.000,   -999.0,9,   -999.0,9,    300,-999.0000,-999.000,-999.000,9, 11.5797,-999.000
      06MT28_1,   A08,   276,  1,   3439,    209,2,19940504,1902,-11.0000,  12.4990, 1545,    599.5,   6.2154,  34.5822,2,-999.0000,9,   -999.0,9,  -999.00,9,  -999.00,9, -999.000,9, -999.000,9, -999.000,9, -999.000,9, -999.000,9,-999.0000,9,  -999.00,9,-999.000,   -999.0,9,   -999.0,9,    600,-999.0000,-999.000,-999.000,9,  6.1615,-999.000
      06MT28_1,   A08,   276,  1,   3438,    207,2,19940504,1902,-11.0000,  12.4990, 1545,   1002.6,   4.2746,  34.5630,2,  34.5616,2,   -999.0,9,  -999.00,9,  -999.00,9, -999.000,9, -999.000,9, -999.000,9, -999.000,9, -999.000,9,-999.0000,9,  -999.00,9,-999.000,   -999.0,9,   -999.0,9,   1004,-999.0000,-999.000,-999.000,9,  4.1965,-999.000
      06MT28_1,   A08,   276,  1,   3435,    208,2,19940504,1902,-11.0000,  12.4990, 1545,   1003.2,   4.2710,  34.5641,2,-999.0000,9,   -999.0,9,  -999.00,9,  -999.00,9, -999.000,9, -999.000,9, -999.000,9, -999.000,9, -999.000,9,-999.0000,9,  -999.00,9,-999.000,   -999.0,9,   -999.0,9,   1005,-999.0000,-999.000,-999.000,9,  4.1929,-999.000
      06MT28_1,   A08,   277,  1,   3434,    211,2,19940504,2249,-11.0017,  11.9995, 2483,      8.1,  27.2436,  35.7360,2,  35.7376,2,   -999.0,9,  -999.00,9,  -999.00,9, -999.000,9, -999.000,9, -999.000,9, -999.000,9, -999.000,9,-999.0000,9,  -999.00,9,-999.000,   -999.0,9,   -999.0,9,      8,-999.0000,-999.000,-999.000,9, 27.2417,-999.000
      06MT28_1,   A08,   277,  1,   3431,    210,2,19940504,2249,-11.0017,  11.9995, 2483,      9.7,  27.2322,  35.7393,2,-999.0000,9,   -999.0,9,  -999.00,9,  -999.00,9, -999.000,9, -999.000,9, -999.000,9, -999.000,9, -999.000,9,-999.0000,9,  -999.00,9,-999.000,   -999.0,9,   -999.0,9,      9,-999.0000,-999.000,-999.000,9, 27.2300,-999.000
      06MT28_1,   A08,   277,  1,   3429,    209,2,19940504,2249,-11.0017,  11.9995, 2483,   1001.0,   4.2540,  34.5828,2,-999.0000,9,   -999.0,9,  -999.00,9,  -999.00,9, -999.000,9, -999.000,9, -999.000,9, -999.000,9, -999.000,9,-999.0000,9,  -999.00,9,-999.000,   -999.0,9,   -999.0,9,   1002,-999.0000,-999.000,-999.000,9,  4.1762,-999.000
      06MT28_1,   A08,   277,  1,   3478,    208,2,19940504,2249,-11.0017,  11.9995, 2483,   1002.3,   4.2548,  34.5826,2,  34.5826,2,   -999.0,9,  -999.00,9,  -999.00,9, -999.000,9, -999.000,9, -999.000,9, -999.000,9, -999.000,9,-999.0000,9,  -999.00,9,-999.000,   -999.0,9,   -999.0,9,   1002,-999.0000,-999.000,-999.000,9,  4.1769,-999.000