BOTTLE,20220817CCHSIOAMB
EXPOCODE,SECT_ID,STNNBR,CASTNO,SAMPNO,BTLNBR,BTLNBR_FLAG_W,DATE,TIME,LATITUDE,LONGITUDE,DEPTH,CTDPRS,CTDTMP,CTDSAL,CTDSAL_FLAG_W,SALNTY,SALNTY_FLAG_W,OXYGEN,OXYGEN_FLAG_W,SILCAT,SILCAT_FLAG_W,NO2+NO3,NO2+NO3_FLAG_W,CFC-11,CFC-11_FLAG_W,CFC-12,CFC-12_FLAG_W,CFC113,CFC113_FLAG_W,CCL4,CCL4_FLAG_W,TRITUM,TRITUM_FLAG_W,HELIUM,HELIUM_FLAG_W,DELHE3,DELHE3_FLAG_W,NEON,TCARBN,TCARBN_FLAG_W,PCO2,PCO2_FLAG_W,CTDRAW,HELIER,DELHER,NEONER,NEON_FLAG_W,THETA,TRITER
,,,,,,,,,,,,DBAR,ITS-90,PSS-78,,PSS-78,,UMOL/KG,,UMOL/KG,,UMOL/KG,,PMOL/KG,,PMOL/KG,,PMOL/KG,,PMOL/KG,,TU,,NMOL/KG,,PERCNT,,NMOL/KG,UMOL/KG,,UATM,,,NMOL/KG,PERCNT,NMOL/KG,,ITS-90,TU
      06MT28_1,   A08,   190,  2,   1174,    324,2,19940408,0430,-11.3333, -28.6658, 5468,     17.6,  27.9538,  36.9799,2,  36.9844,2,    194.9,2,     0.96,2,     0.00,4, -999.000,9, -999.000,9, -999.000,9, -999.000,9,    0.828,2,-999.0000,9,  -999.00,9,-999.000,   -999.0,9,   -999.0,9,     13,-999.0000,-999.000,-999.000,9, 27.9496,   0.038
      06MT28_1,   A08,   190,  2,   1223,    323,2,19940408,0430,-11.3333, -28.6658, 5468,    996.1,   3.9409,  34.5460,2,  34.5472,2,    162.9,2,    34.51,2,    31.65,2,    0.008,2,    0.006,2,    0.006,2,    0.093,2, -999.000,9,-999.0000,9,  -999.00,9,-999.000,   -999.0,9,   -999.0,9,   1000,-999.0000,-999.000,-999.000,9,  3.8660,-999.000
      06MT28_1,   A08,   190,  2,   1221,    322,2,19940408,0430,-11.3333, -28.6658, 5468,   1197.8,   3.9742,  34.7019,2,-999.0000,9,    175.0,2,    30.48,2,    28.57,2,    0.054,4,    0.039,4,    0.020,2,    0.060,2,    0.015,2,   1.8020,6,     2.42,6,   7.819,   -999.0,9,   -999.0,9,   1201,  0.0070,   0.250,   0.026,6,  3.8817,   0.004
      06MT28_1,   A08,   190,  2,   1220,    321,2,19940408,0430,-11.3333, -28.6658, 5468,   1398.2,   4.0526,  34.8627,2,-999.0000,9,    198.9,2,    23.60,2,    24.17,2,    0.006,2,    0.004,2,    0.005,2,    0.073,2, -999.000,9,   1.7780,2,     2.11,2,   7.711,   -999.0,9,   -999.0,9,   1401,  0.0070,   0.250,   0.025,2,  3.9413,-999.000
      06MT28_1,   A08,   190,  2,   1219,    320,2,19940408,0430,-11.3333, -28.6658, 5468,   1598.2,   4.0098,  34.9590,2,-999.0000,9,    226.2,2,    17.97,2,    20.06,2,    0.044,2,    0.030,2,    0.006,2,    0.301,2,    0.111,2,   1.7940,2,     1.82,2,   7.813,   -999.0,9,   -999.0,9,   1601,  0.0070,   0.240,   0.025,2,  3.8805,   0.006
      06MT28_1,   A08,   190,  2,   1218,    319,2,19940408,0430,-11.3333, -28.6658, 5468,   1799.8,   3.6666,  34.9679,2,-999.0000,9,    238.4,2,    18.23,2,    18.90,2,    0.045,2,    0.026,2,    0.028,2,    0.290,2, -999.000,9,   1.8230,2,     2.37,2,   7.870,   -999.0,9,   -999.0,9,   1802,  0.0070,   0.250,   0.026,2,  3.5229,-999.000
      06MT28_1,   A08,   190,  2,   1217,    318,2,19940408,0430,-11.3333, -28.6658, 5468,   1999.8,   3.3884,  34.9568,2,  34.9573,2,    240.6,2,    20.97,2,    18.88,2,    0.028,2,    0.018,2,    0.009,2,    0.220,2, -999.000,9,   1.7980,2,     2.62,2,   7.840,   -999.0,9,   -999.0,9,   2001,  0.0070,   0.240,   0.025,2,  3.2300,-999.000
      06MT28_1,   A08,   190,  2,   1216,    317,2,19940408,0430,-11.3333, -28.6658, 5468,   2250.0,   3.1537,  34.9449,2,-999.0000,9,    240.3,2,    23.79,2,    19.05,2,    0.019,2,    0.008,2,    0.006,2,    0.163,2, -999.000,9,   1.8240,2,     2.72,2,   7.921,   -999.0,9,   -999.0,9,   2250,  0.0070,   0.250,   0.026,2,  2.9753,-999.000
      06MT28_1,   A08,   190,  2,   1215,    316,2,19940408,0430,-11.3333, -28.6658, 5468,   2500.7,   2.9689,  34.9335,2,-999.0000,9,    238.8,2,    27.08,2,    19.41,2,    0.013,2,    0.009,2,    0.004,2,    0.121,2,    0.039,2,   1.8140,2,     3.40,2,   7.915,   -999.0,9,   -999.0,9,   2500,  0.0070,   0.240,   0.025,2,  2.7695,   0.003
      06MT28_1,   A08,   190,  2,   1214,    315,2,19940408,0430,-11.3333, -28.6658, 5468,   2748.4,   2.8175,  34.9222,2,-999.0000,9,    238.3,2,    27.14,2,    19.29,2,    0.011,2,    0.007,2,    0.007,2,    0.119,2,    0.035,2,   1.8220,2,     2.80,2,   7.899,   -999.0,9,   -999.0,9,   2747,  0.0070,   0.250,   0.026,2,  2.5964,   0.002
      06MT28_1,   A08,   190,  2,   1212,    314,2,19940408,0430,-11.3333, -28.6658, 5468,   3002.4,   2.7194,  34.9171,2,  34.9183,2,    237.5,2,    31.74,2,    19.74,2,    0.009,2,    0.003,2,    0.009,2,    0.079,2,   -0.010,2,   1.8200,2,     2.77,2,   7.963,   -999.0,9,   -999.0,9,   3000,  0.0070,   0.240,   0.025,2,  2.4745,   0.212
      06MT28_1,   A08,   190,  2,   1210,    313,2,19940408,0430,-11.3333, -28.6658, 5468,   3247.4,   2.6384,  34.9142,2,-999.0000,9,    239.8,2,    31.90,2,    19.53,2,    0.009,2,    0.004,2,    0.006,2,    0.091,2,    0.025,2,   1.8120,2,     3.29,2,   7.894,   -999.0,9,   -999.0,9,   3244,  0.0070,   0.250,   0.026,2,  2.3697,   0.003
      06MT28_1,   A08,   190,  2,   1209,    312,2,19940408,0430,-11.3333, -28.6658, 5468,   3506.4,   2.5165,  34.9062,2,-999.0000,9,    240.6,2,    33.75,2,    19.61,2,    0.008,2,    0.005,2,    0.009,2,    0.104,2,    0.036,2,-999.0000,9,  -999.00,9,-999.000,   -999.0,9,   -999.0,9,   3502,-999.0000,-999.000,-999.000,9,  2.2230,   0.004
      06MT28_1,   A08,   190,  2,   1197,    311,2,19940408,0430,-11.3333, -28.6658, 5468,   3754.0,   2.2580,  34.8791,2,-999.0000,9,    236.1,2,    43.51,2,    20.91,2,    0.002,4,    0.008,4,    0.005,2,    0.056,2,    0.018,2,   1.8310,2,     3.22,2,   7.987,   -999.0,9,   -999.0,9,   3749,  0.0070,   0.250,   0.026,2,  1.9442,   0.004
      06MT28_1,   A08,   190,  2,   1271,    310,2,19940408,0430,-11.3333, -28.6658, 5468,   4005.4,   1.7795,  34.8284,2,  34.8266,2,    226.6,2,    63.02,2,    23.61,2,    0.004,2,    0.001,2,    0.010,2,    0.029,2,    0.045,2,   1.8580,2,     5.68,2,   8.121,   -999.0,9,   -999.0,9,   4000,  0.0070,   0.240,   0.026,2,  1.4512,   0.027
      06MT28_1,   A08,   190,  2,   1270,    309,2,19940408,0430,-11.3333, -28.6658, 5468,   4258.3,   1.2930,  34.7777,2,-999.0000,9,    218.8,2,    81.65,2,    26.22,2,    0.005,2,    0.003,2,    0.007,2,    0.039,2,    0.015,2,   1.8600,2,     5.05,2,   8.065,   -999.0,9,   -999.0,9,   4253,  0.0070,   0.250,   0.027,2,  0.9511,   0.002
      06MT28_1,   A08,   190,  2,   1269,    308,2,19940408,0430,-11.3333, -28.6658, 5468,   4508.1,   1.0225,  34.7480,2,-999.0000,9,    214.3,2,    92.46,2,    27.50,2,    0.016,2,    0.006,2,    0.019,2,    0.047,2,    0.029,2,   1.8200,4,     3.78,2,   7.973,   -999.0,9,   -999.0,9,   4502,  0.0070,   0.240,   0.025,4,  0.6611,   0.014
      06MT28_1,   A08,   190,  2,   1268,    307,2,19940408,0430,-11.3333, -28.6658, 5468,   4756.9,   0.8563,  34.7287,2,-999.0000,9,    211.2,2,    99.58,2,    28.41,2,    0.024,2,    0.011,2,    0.012,2,    0.075,2,    0.027,2,   1.8660,2,     6.37,2,   8.129,   -999.0,9,   -999.0,9,   4750,  0.0070,   0.250,   0.027,2,  0.4720,   0.003
      06MT28_1,   A08,   190,  2,   1267,    306,2,19940408,0430,-11.3333, -28.6658, 5468,   5006.8,   0.7313,  34.7126,2,  34.7127,2,    208.6,2,   104.91,2,    29.13,2,    0.085,4,    0.064,4,    0.019,2,    0.124,2,    3.831,4,-999.0000,9,  -999.00,9,-999.000,   -999.0,9,   -999.0,9,   5000,-999.0000,-999.000,-999.000,9,  0.3223,   0.154
      06MT28_1,   A08,   190,  2,   1266,    305,2,19940408,0430,-11.3333, -28.6658, 5468,   5254.1,   0.6394,  34.7014,2,-999.0000,9,    207.2,2,   108.92,2,    29.76,2,    0.021,2,    0.012,2,    0.005,2,    0.121,2,    0.031,2,   1.8720,2,     6.72,2,   8.198,   -999.0,9,   -999.0,9,   5247,  0.0070,   0.250,   0.027,2,  0.2042,   0.003
      06MT28_1,   A08,   190,  2,   1265,    304,2,19940408,0430,-11.3333, -28.6658, 5468,   5480.5,   0.5671,  34.6916,2,-999.0000,9,    205.9,2,   112.61,2,    30.10,2,    0.047,2,    0.025,2,    0.004,2,    0.190,2, -999.000,9,   1.8570,2,     6.52,2,   8.143,   -999.0,9,   -999.0,9,   5474,  0.0070,   0.240,   0.026,2,  0.1071,-999.000
      06MT28_1,   A08,   190,  2,   1264,    303,2,19940408,0430,-11.3333, -28.6658, 5468,   5550.1,   0.5636,  34.6889,2,-999.0000,9,    205.6,2,   112.95,2,    30.05,2,    0.045,2,    0.024,2,    0.004,2,    0.193,2,    0.035,2,   1.8730,2,     7.05,2,   8.145,   -999.0,9,   -999.0,9,   5543,  0.0070,   0.250,   0.027,2,  0.0952,   0.006
      06MT28_1,   A08,   190,  2,   1263,    301,2,19940408,0430,-11.3333, -28.6658, 5468,   5582.6,   0.5653,  34.6885,2,  34.6908,2,    205.5,2,   112.80,2,    30.14,2,    0.054,2,    0.025,2,    0.010,2,    0.197,2, -999.000,9,-999.0000,9,  -999.00,9,-999.000,   -999.0,9,   -999.0,9,   5576,-999.0000,-999.000,-999.000,9,  0.0928,-999.000
      06MT28_1,   A08,   190,  2,   1262,    302,2,19940408,0430,-11.3333, -28.6658, 5468,   5582.7,   0.5653,  34.6885,2,  34.6887,2,    205.2,2,   113.36,2,    30.09,2,    0.049,2,    0.026,2,    0.002,2,    0.201,2,    0.090,2,   1.8710,6,     6.99,6,   8.176,   -999.0,9,   -999.0,9,   5576,  0.0070,   0.250,   0.027,6,  0.0928,   0.176
      06MT28_1,   A08,   191,  1,   1261,    223,2,19940408,1142,-11.3332, -28.0003, 5488,     10.8,  28.0094,  36.9958,2,  36.9941,2,    194.5,2,     0.77,2,     0.00,2, -999.000,9, -999.000,9, -999.000,9, -999.000,9, -999.000,9,-999.0000,9,  -999.00,9,-999.000,   -999.0,9,   -999.0,9,     10,-999.0000,-999.000,-999.000,9, 28.0069,-999.000
      06MT28_1,   A08,   191,  1,   1259,    222,2,19940408,1142,-11.3332, -28.0003, 5488,     40.8,  27.8904,  37.0016,2,-999.0000,9,    195.9,2,     0.77,2,     0.00,2, -999.000,9, -999.000,9, -999.000,9, -999.000,9, -999.000,9,-999.0000,9,  -999.00,9,-999.000,   -999.0,9,   -999.0,9,     40,-999.0000,-999.000,-999.000,9, 27.8808,-999.000
      06MT28_1,   A08,   191,  1,   1258,    221,2,19940408,1142,-11.3332, -28.0003, 5488,     60.3,  27.5728,  36.9605,2,-999.0000,9,    197.7,2,     0.77,2,     0.00,2, -999.000,9, -999.000,9, -999.000,9, -999.000,9, -999.000,9,-999.0000,9,  -999.00,9,-999.000,   -999.0,9,   -999.0,9,     59,-999.0000,-999.000,-999.000,9, 27.5587,-999.000
      06MT28_1,   A08,   191,  1,   1257,    220,2,19940408,1142,-11.3332, -28.0003, 5488,     81.0,  25.1861,  36.8863,2,-999.0000,9,    216.0,2,     0.77,2,     0.00,2, -999.000,9, -999.000,9, -999.000,9, -999.000,9, -999.000,9,-999.0000,9,  -999.00,9,-999.000,   -999.0,9,   -999.0,9,     80,-999.0000,-999.000,-999.000,9, 25.1683,-999.000
      06MT28_1,   A08,   191,  1,   1256,    219,2,19940408,1142,-11.3332, -28.0003, 5488,    119.5,  22.2276,  36.6161,2,-999.0000,9,    205.5,2,     0.96,2,     0.00,2, -999.000,9, -999.000,9, -999.000,9, -999.000,9, -999.000,9,-999.0000,9,  -999.00,9,-999.000,   -999.0,9,   -999.0,9,    119,-999.0000,-999.000,-999.000,9, 22.2036,-999.000
      06MT28_1,   A08,   191,  1,   1255,    218,2,19940408,1142,-11.3332, -28.0003, 5488,    180.1,  17.1830,  35.8711,2,-999.0000,9,    155.3,2,     3.16,2,     9.58,2, -999.000,9, -999.000,9, -999.000,9, -999.000,9, -999.000,9,-999.0000,9,  -999.00,9,-999.000,   -999.0,9,   -999.0,9,    180,-999.0000,-999.000,-999.000,9, 17.1529,-999.000
      06MT28_1,   A08,   191,  1,   1254,    217,2,19940408,1142,-11.3332, -28.0003, 5488,    249.7,  12.7518,  35.2374,2,-999.0000,9,    112.5,2,     7.28,2,    20.39,2, -999.000,9, -999.000,9, -999.000,9, -999.000,9, -999.000,9,-999.0000,9,  -999.00,9,-999.000,   -999.0,9,   -999.0,9,    249,-999.0000,-999.000,-999.000,9, 12.7177,-999.000
      06MT28_1,   A08,   191,  1,   1253,    216,2,19940408,1142,-11.3332, -28.0003, 5488,    350.7,   9.2476,  34.8250,2,-999.0000,9,    108.2,2,    13.20,2,    28.03,2, -999.000,9, -999.000,9, -999.000,9, -999.000,9, -999.000,9,-999.0000,9,  -999.00,9,-999.000,   -999.0,9,   -999.0,9,    350,-999.0000,-999.000,-999.000,9,  9.2086,-999.000
      06MT28_1,   A08,   191,  1,   1252,    215,2,19940408,1142,-11.3332, -28.0003, 5488,    450.6,   7.2382,  34.6147,2,-999.0000,9,    129.6,2,    17.30,2,    30.02,2, -999.000,9, -999.000,9, -999.000,9, -999.000,9, -999.000,9,-999.0000,9,  -999.00,9,-999.000,   -999.0,9,   -999.0,9,    450,-999.0000,-999.000,-999.000,9,  7.1946,-999.000
      06MT28_1,   A08,   191,  1,   1249,    214,2,19940408,1142,-11.3332, -28.0003, 5488,    548.9,   6.1065,  34.5226,2,-999.0000,9,    137.5,2,    21.12,2,    31.63,2, -999.000,9, -999.000,9, -999.000,9, -999.000,9, -999.000,9,-999.0000,9,  -999.00,9,-999.000,   -999.0,9,   -999.0,9,    549,-999.0000,-999.000,-999.000,9,  6.0579,-999.000
      06MT28_1,   A08,   191,  1,   1248,    213,2,19940408,1142,-11.3332, -28.0003, 5488,    650.8,   5.2390,  34.4662,2,-999.0000,9,    147.7,2,    25.12,2,    32.38,2, -999.000,9, -999.000,9, -999.000,9, -999.000,9, -999.000,9,-999.0000,9,  -999.00,9,-999.000,   -999.0,9,   -999.0,9,    651,-999.0000,-999.000,-999.000,9,  5.1852,-999.000
      06MT28_1,   A08,   191,  1,   1246,    212,2,19940408,1142,-11.3332, -28.0003, 5488,    749.6,   4.7405,  34.4504,2,-999.0000,9,    152.7,2,    28.54,2,    32.74,2, -999.000,9, -999.000,9, -999.000,9, -999.000,9, -999.000,9,-999.0000,9,  -999.00,9,-999.000,   -999.0,9,   -999.0,9,    750,-999.0000,-999.000,-999.000,9,  4.6810,-999.000
      06MT28_1,   A08,   191,  1,   1235,    211,2,19940408,1142,-11.3332, -28.0003, 5488,    823.4,   4.3997,  34.4564,2,-999.0000,9,    154.5,2,    31.25,2,    32.82,2, -999.000,9, -999.000,9, -999.000,9, -999.000,9, -999.000,9,-999.0000,9,  -999.00,9,-999.000,   -999.0,9,   -999.0,9,    824,-999.0000,-999.000,-999.000,9,  4.3360,-999.000
      06MT28_1,   A08,   191,  1,   1307,    210,2,19940408,1142,-11.3332, -28.0003, 5488,    923.5,   4.1118,  34.4935,2,-999.0000,9,    159.1,2,    33.67,2,    32.47,2, -999.000,9, -999.000,9, -999.000,9, -999.000,9, -999.000,9,-999.0000,9,  -999.00,9,-999.000,   -999.0,9,   -999.0,9,    925,-999.0000,-999.000,-999.000,9,  4.0417,-999.000
      06MT28_1,   A08,   191,  1,   1305,    209,2,19940408,1142,-11.3332, -28.0003, 5488,    998.8,   3.9648,  34.5488,2,  34.5447,2,   -999.0,9,  -999.00,9,  -999.00,9, -999.000,9, -999.000,9, -999.000,9, -999.000,9, -999.000,9,-999.0000,9,  -999.00,9,-999.000,   -999.0,9,   -999.0,9,   1000,-999.0000,-999.000,-999.000,9,  3.8895,-999.000