BOTTLE,20220817CCHSIOAMB
EXPOCODE,SECT_ID,STNNBR,CASTNO,SAMPNO,BTLNBR,BTLNBR_FLAG_W,DATE,TIME,LATITUDE,LONGITUDE,DEPTH,CTDPRS,CTDTMP,CTDSAL,CTDSAL_FLAG_W,SALNTY,SALNTY_FLAG_W,OXYGEN,OXYGEN_FLAG_W,SILCAT,SILCAT_FLAG_W,NO2+NO3,NO2+NO3_FLAG_W,CFC-11,CFC-11_FLAG_W,CFC-12,CFC-12_FLAG_W,CFC113,CFC113_FLAG_W,CCL4,CCL4_FLAG_W,TRITUM,TRITUM_FLAG_W,HELIUM,HELIUM_FLAG_W,DELHE3,DELHE3_FLAG_W,NEON,TCARBN,TCARBN_FLAG_W,PCO2,PCO2_FLAG_W,CTDRAW,HELIER,DELHER,NEONER,NEON_FLAG_W,THETA,TRITER
,,,,,,,,,,,,DBAR,ITS-90,PSS-78,,PSS-78,,UMOL/KG,,UMOL/KG,,UMOL/KG,,PMOL/KG,,PMOL/KG,,PMOL/KG,,PMOL/KG,,TU,,NMOL/KG,,PERCNT,,NMOL/KG,UMOL/KG,,UATM,,,NMOL/KG,PERCNT,NMOL/KG,,ITS-90,TU
      06MT28_1,   A08,   236,  2,   3623,    324,2,19940423,0356,-11.3332,  -5.0000, 4158,     12.5,  26.2447,  36.7191,2,  36.7198,2,    194.2,2,     1.06,2,     0.00,2, -999.000,9, -999.000,9, -999.000,9, -999.000,9, -999.000,9,-999.0000,9,  -999.00,9,-999.000,   2054.5,2,   -999.0,9,      9,-999.0000,-999.000,-999.000,9, 26.2418,-999.000
      06MT28_1,   A08,   236,  2,   3617,    323,2,19940423,0356,-11.3332,  -5.0000, 4158,    298.3,  10.1244,  34.9463,2,  34.9466,2,     52.8,2,    13.30,2,    32.05,2, -999.000,9, -999.000,9, -999.000,9, -999.000,9, -999.000,9,-999.0000,9,  -999.00,9,-999.000,   2229.8,2,   1369.2,2,    300,-999.0000,-999.000,-999.000,9, 10.0894,-999.000
      06MT28_1,   A08,   236,  2,   3615,    322,2,19940423,0356,-11.3332,  -5.0000, 4158,    397.1,   8.8017,  34.8016,2,-999.0000,9,     65.7,2,    15.59,2,    33.28,2,    0.144,2,    0.083,2,    0.008,2,    0.132,2, -999.000,9,   1.7680,2,     0.93,2,   7.509,   2229.6,2,   1372.8,2,    399,  0.0070,   0.250,   0.025,2,  8.7587,-999.000
      06MT28_1,   A08,   236,  2,   3614,    321,2,19940423,0356,-11.3332,  -5.0000, 4158,    497.2,   7.4772,  34.6715,2,-999.0000,9,     68.6,2,    19.12,2,    35.94,2,    0.090,2,    0.051,2,   -0.006,4,    0.150,2, -999.000,9,   1.7680,2,     0.50,2,   7.569,   2237.9,2,   1458.5,2,    500,  0.0070,   0.250,   0.025,2,  7.4281,-999.000
      06MT28_1,   A08,   236,  2,   3613,    320,2,19940423,0356,-11.3332,  -5.0000, 4158,    596.9,   6.5498,  34.5932,2,  34.5894,2,     75.2,2,    22.16,2,    37.26,2,    0.029,2,    0.019,2,    0.008,2,    0.108,2, -999.000,9,   1.7710,2,     0.83,2,   7.626,   2241.5,2,   1554.3,2,    600,  0.0070,   0.250,   0.025,2,  6.4946,-999.000
      06MT28_1,   A08,   236,  2,   3612,    319,2,19940423,0356,-11.3332,  -5.0000, 4158,    696.2,   5.5404,  34.5248,2,-999.0000,9,     90.0,2,    26.16,2,    37.62,2,    0.010,2,    0.008,2,    0.011,2,    0.074,2, -999.000,9,   1.7760,2,     1.57,2,   7.669,   2241.5,2,   1529.1,2,    700,  0.0070,   0.250,   0.025,2,  5.4810,-999.000
      06MT28_1,   A08,   236,  2,   3611,    318,2,19940423,0356,-11.3332,  -5.0000, 4158,    846.6,   4.6116,  34.4967,2,-999.0000,9,    127.1,2,    30.82,2,    35.01,2,    0.007,2,    0.005,2,    0.004,2,    0.066,2, -999.000,9,   1.7830,2,     2.07,2,   7.726,   2228.3,2,   1350.6,2,    850,  0.0070,   0.250,   0.025,2,  4.5446,-999.000
      06MT28_1,   A08,   236,  2,   3610,    317,2,19940423,0356,-11.3332,  -5.0000, 4158,    995.5,   4.1474,  34.5633,2,  34.5644,2,    142.0,2,    33.18,2,    33.08,2,    0.004,2,    0.001,2,    0.004,2,    0.026,2, -999.000,9,   1.7970,2,     2.50,2,   7.795,   2224.4,2,   1241.2,2,   1000,  0.0070,   0.250,   0.026,2,  4.0709,-999.000
      06MT28_1,   A08,   236,  2,   3608,    316,2,19940423,0356,-11.3332,  -5.0000, 4158,   1195.6,   3.9545,  34.7099,2,-999.0000,9,    163.2,2,    30.76,2,    29.33,2,    0.002,2,    0.000,2,    0.005,2,    0.012,2, -999.000,9,-999.0000,9,  -999.00,9,-999.000,   2212.7,2,   1092.6,2,   1200,-999.0000,-999.000,-999.000,9,  3.8623,-999.000
      06MT28_1,   A08,   236,  2,   3607,    315,2,19940423,0356,-11.3332,  -5.0000, 4158,   1396.9,   3.8065,  34.8324,2,-999.0000,9,    187.8,2,    27.31,2,    25.31,2,    0.003,2,    0.001,2,   -0.003,4,    0.018,2, -999.000,9,-999.0000,9,  -999.00,9,-999.000,   2197.0,2,    950.8,2,   1401,-999.0000,-999.000,-999.000,9,  3.6980,-999.000
      06MT28_1,   A08,   236,  2,   3606,    314,2,19940423,0356,-11.3332,  -5.0000, 4158,   1596.2,   3.6940,  34.8870,2,-999.0000,9,    200.6,2,    25.66,2,    23.48,2,    0.003,2,    0.000,2,    0.004,2,    0.018,2, -999.000,9,-999.0000,9,  -999.00,9,-999.000,   2188.1,2,    897.9,2,   1599,-999.0000,-999.000,-999.000,9,  3.5689,-999.000
      06MT28_1,   A08,   236,  2,   3605,    313,2,19940423,0356,-11.3332,  -5.0000, 4158,   1796.5,   3.5181,  34.9206,2,-999.0000,9,    211.4,2,    25.64,2,    22.03,2,    0.002,2,    0.001,2,    0.004,2,    0.018,2, -999.000,9,-999.0000,9,  -999.00,9,-999.000,   2183.1,2,    889.3,2,   1799,-999.0000,-999.000,-999.000,9,  3.3769,-999.000
      06MT28_1,   A08,   236,  2,   3604,    312,2,19940423,0356,-11.3332,  -5.0000, 4158,   1997.8,   3.3177,  34.9252,2,  34.9242,2,    219.8,2,    27.23,2,    21.16,2,    0.002,2,    0.000,2,    0.003,2,    0.033,2, -999.000,9,-999.0000,9,  -999.00,9,-999.000,   -999.0,9,   -999.0,9,   2000,-999.0000,-999.000,-999.000,9,  3.1607,-999.000
      06MT28_1,   A08,   236,  2,   3603,    311,2,19940423,0356,-11.3332,  -5.0000, 4158,   2249.2,   3.0612,  34.9195,2,-999.0000,9,    221.8,2,    31.28,2,    21.14,2,    0.001,2,    0.002,2,    0.003,2,    0.019,2, -999.000,9,-999.0000,9,  -999.00,9,-999.000,   2184.1,2,    818.8,2,   2251,-999.0000,-999.000,-999.000,9,  2.8845,-999.000
      06MT28_1,   A08,   236,  2,   3600,    310,2,19940423,0356,-11.3332,  -5.0000, 4158,   2499.7,   2.8904,  34.9134,2,-999.0000,9,    221.0,2,    34.74,2,    21.30,2,    0.000,2,    0.000,2,    0.003,2,    0.010,2, -999.000,9,-999.0000,9,  -999.00,9,-999.000,   2188.1,2,    827.4,2,   2500,-999.0000,-999.000,-999.000,9,  2.6926,-999.000
      06MT28_1,   A08,   236,  2,   3597,    309,2,19940423,0356,-11.3332,  -5.0000, 4158,   2749.1,   2.7481,  34.9070,2,-999.0000,9,    220.6,2,    37.54,2,    21.56,2,    0.001,2,    0.000,2,    0.003,2,    0.007,2, -999.000,9,-999.0000,9,  -999.00,9,-999.000,   2190.5,2,    835.7,2,   2749,-999.0000,-999.000,-999.000,9,  2.5284,-999.000
      06MT28_1,   A08,   236,  2,   3645,    308,2,19940423,0356,-11.3332,  -5.0000, 4158,   3000.5,   2.5768,  34.8987,2,  34.8997,2,    220.2,2,    41.47,2,    21.63,2,    0.003,2,    0.001,2,    0.006,2,    0.006,2, -999.000,9,-999.0000,9,  -999.00,9,-999.000,   2195.4,2,    751.2,4,   2999,-999.0000,-999.000,-999.000,9,  2.3353,-999.000
      06MT28_1,   A08,   236,  2,   3646,    307,2,19940423,0356,-11.3332,  -5.0000, 4158,   3253.3,   2.4967,  34.8950,2,-999.0000,9,    219.7,2,    43.22,2,    21.80,2,    0.003,2,    0.000,2,    0.004,2,    0.006,2, -999.000,9,-999.0000,9,  -999.00,9,-999.000,   2199.7,2,    818.3,2,   3251,-999.0000,-999.000,-999.000,9,  2.2308,-999.000
      06MT28_1,   A08,   236,  2,   3644,    306,2,19940423,0356,-11.3332,  -5.0000, 4158,   3502.1,   2.4220,  34.8905,2,-999.0000,9,    219.1,2,    45.34,2,    21.78,2,    0.002,2,    0.001,2,    0.005,2,    0.008,2, -999.000,9,-999.0000,9,  -999.00,9,-999.000,   2201.8,2,    826.6,2,   3499,-999.0000,-999.000,-999.000,9,  2.1314,-999.000
      06MT28_1,   A08,   236,  2,   3643,    305,2,19940423,0356,-11.3332,  -5.0000, 4158,   3754.3,   2.3816,  34.8876,2,-999.0000,9,    219.5,2,    46.14,2,    21.75,2,    0.006,2,    0.002,2,    0.006,2,    0.012,2, -999.000,9,-999.0000,9,  -999.00,9,-999.000,   2201.6,2,    837.3,6,   3751,-999.0000,-999.000,-999.000,9,  2.0645,-999.000
      06MT28_1,   A08,   236,  2,   3642,    304,2,19940423,0356,-11.3332,  -5.0000, 4158,   4074.7,   2.3512,  34.8842,2,-999.0000,9,    219.8,2,    47.30,2,    21.87,2,    0.008,2,    0.001,2,    0.009,2,    0.019,2, -999.000,9,-999.0000,9,  -999.00,9,-999.000,   2202.1,2,    822.3,2,   4071,-999.0000,-999.000,-999.000,9,  1.9987,-999.000
      06MT28_1,   A08,   236,  2,   3641,    303,2,19940423,0356,-11.3332,  -5.0000, 4158,   4154.2,   2.3525,  34.8838,2,-999.0000,9,    219.7,2,    47.48,2,    21.76,2,    0.007,2,    0.002,2,    0.007,2,    0.020,2, -999.000,9,-999.0000,9,  -999.00,9,-999.000,   2204.3,2,    818.4,2,   4150,-999.0000,-999.000,-999.000,9,  1.9908,-999.000
      06MT28_1,   A08,   236,  2,   3640,    301,2,19940423,0356,-11.3332,  -5.0000, 4158,   4180.1,   2.3565,  34.8834,2,  34.8820,2,    219.3,2,    47.47,2,    21.81,2,    0.008,2,    0.002,2,    0.003,2,    0.020,2, -999.000,9,-999.0000,9,  -999.00,9,-999.000,   2204.1,2,    888.7,4,   4176,-999.0000,-999.000,-999.000,9,  1.9916,-999.000
      06MT28_1,   A08,   236,  2,   3639,    302,2,19940423,0356,-11.3332,  -5.0000, 4158,   4180.1,   2.3565,  34.8834,2,  34.8823,2,    219.2,2,    47.38,2,    21.81,2,    0.009,2,    0.002,2,    0.007,2,    0.019,2, -999.000,9,-999.0000,9,  -999.00,9,-999.000,   2206.4,2,    823.0,2,   4176,-999.0000,-999.000,-999.000,9,  1.9916,-999.000
      06MT28_1,   A08,   237,  1,   3638,    220,2,19940423,0859,-11.3313,  -4.5003, 5056,     10.9,  25.8767,  36.7545,2,  36.7528,2,    195.6,2,     0.77,2,     0.00,2, -999.000,9, -999.000,9, -999.000,9, -999.000,9, -999.000,9,-999.0000,9,  -999.00,9,-999.000,   -999.0,9,   -999.0,9,     10,-999.0000,-999.000,-999.000,9, 25.8742,-999.000
      06MT28_1,   A08,   237,  1,   3636,    219,2,19940423,0859,-11.3313,  -4.5003, 5056,     40.6,  25.8041,  36.7532,2,-999.0000,9,    198.3,2,     0.86,2,     0.00,2, -999.000,9, -999.000,9, -999.000,9, -999.000,9, -999.000,9,-999.0000,9,  -999.00,9,-999.000,   -999.0,9,   -999.0,9,     40,-999.0000,-999.000,-999.000,9, 25.7950,-999.000
      06MT28_1,   A08,   237,  1,   3635,    218,2,19940423,0859,-11.3313,  -4.5003, 5056,     59.9,  20.9122,  36.3259,2,-999.0000,9,    219.2,2,     0.96,2,     0.00,2, -999.000,9, -999.000,9, -999.000,9, -999.000,9, -999.000,9,-999.0000,9,  -999.00,9,-999.000,   -999.0,9,   -999.0,9,     59,-999.0000,-999.000,-999.000,9, 20.9007,-999.000
      06MT28_1,   A08,   237,  1,   3634,    217,2,19940423,0859,-11.3313,  -4.5003, 5056,     80.4,  18.0413,  35.9203,2,-999.0000,9,    139.1,2,     3.55,2,    11.60,2, -999.000,9, -999.000,9, -999.000,9, -999.000,9, -999.000,9,-999.0000,9,  -999.00,9,-999.000,   -999.0,9,   -999.0,9,     80,-999.0000,-999.000,-999.000,9, 18.0274,-999.000
      06MT28_1,   A08,   237,  1,   3633,    216,2,19940423,0859,-11.3313,  -4.5003, 5056,    120.0,  14.5364,  35.4901,2,-999.0000,9,     89.3,2,     6.23,2,    21.08,2, -999.000,9, -999.000,9, -999.000,9, -999.000,9, -999.000,9,-999.0000,9,  -999.00,9,-999.000,   -999.0,9,   -999.0,9,    119,-999.0000,-999.000,-999.000,9, 14.5186,-999.000
      06MT28_1,   A08,   237,  1,   3632,    215,2,19940423,0859,-11.3313,  -4.5003, 5056,    180.0,  11.7036,  35.1310,2,-999.0000,9,     58.9,2,    10.63,2,    28.34,2, -999.000,9, -999.000,9, -999.000,9, -999.000,9, -999.000,9,-999.0000,9,  -999.00,9,-999.000,   -999.0,9,   -999.0,9,    179,-999.0000,-999.000,-999.000,9, 11.6804,-999.000
      06MT28_1,   A08,   237,  1,   3631,    214,2,19940423,0859,-11.3313,  -4.5003, 5056,    250.1,  10.4602,  34.9820,2,  34.9846,2,     60.8,2,    12.44,2,    30.24,2, -999.000,9, -999.000,9, -999.000,9, -999.000,9, -999.000,9,-999.0000,9,  -999.00,9,-999.000,   -999.0,9,   -999.0,9,    249,-999.0000,-999.000,-999.000,9, 10.4303,-999.000
      06MT28_1,   A08,   237,  1,   3630,    213,2,19940423,0859,-11.3313,  -4.5003, 5056,    350.5,   9.2073,  34.8405,2,-999.0000,9,     57.9,2,    15.11,2,    33.10,2, -999.000,9, -999.000,9, -999.000,9, -999.000,9, -999.000,9,-999.0000,9,  -999.00,9,-999.000,   -999.0,9,   -999.0,9,    350,-999.0000,-999.000,-999.000,9,  9.1684,-999.000
      06MT28_1,   A08,   237,  1,   3629,    212,2,19940423,0859,-11.3313,  -4.5003, 5056,    450.3,   8.0674,  34.7263,2,-999.0000,9,     51.7,2,    18.07,2,    36.14,2, -999.000,9, -999.000,9, -999.000,9, -999.000,9, -999.000,9,-999.0000,9,  -999.00,9,-999.000,   -999.0,9,   -999.0,9,    450,-999.0000,-999.000,-999.000,9,  8.0210,-999.000
      06MT28_1,   A08,   237,  1,   3628,    211,2,19940423,0859,-11.3313,  -4.5003, 5056,    550.9,   6.8604,  34.6174,2,  34.6196,2,     62.8,2,    21.40,2,    37.46,2, -999.000,9, -999.000,9, -999.000,9, -999.000,9, -999.000,9,-999.0000,9,  -999.00,9,-999.000,   -999.0,9,   -999.0,9,    550,-999.0000,-999.000,-999.000,9,  6.8084,-999.000
      06MT28_1,   A08,   237,  1,   3627,    210,2,19940423,0859,-11.3313,  -4.5003, 5056,    649.7,   5.8069,  34.5387,2,-999.0000,9,     83.1,2,    25.02,2,    37.63,2, -999.000,9, -999.000,9, -999.000,9, -999.000,9, -999.000,9,-999.0000,9,  -999.00,9,-999.000,   -999.0,9,   -999.0,9,    649,-999.0000,-999.000,-999.000,9,  5.7504,-999.000
      06MT28_1,   A08,   237,  1,   3626,    209,2,19940423,0859,-11.3313,  -4.5003, 5056,    749.3,   5.1469,  34.5061,2,-999.0000,9,     98.4,2,    28.49,2,    37.23,2, -999.000,9, -999.000,9, -999.000,9, -999.000,9, -999.000,9,-999.0000,9,  -999.00,9,-999.000,   -999.0,9,   -999.0,9,    749,-999.0000,-999.000,-999.000,9,  5.0850,-999.000
      06MT28_1,   A08,   237,  1,   3666,    208,2,19940423,0859,-11.3313,  -4.5003, 5056,    824.1,   4.6804,  34.4989,2,-999.0000,9,    119.3,2,    30.72,2,    35.50,2, -999.000,9, -999.000,9, -999.000,9, -999.000,9, -999.000,9,-999.0000,9,  -999.00,9,-999.000,   -999.0,9,   -999.0,9,    824,-999.0000,-999.000,-999.000,9,  4.6148,-999.000
      06MT28_1,   A08,   237,  1,   3667,    207,2,19940423,0859,-11.3313,  -4.5003, 5056,    824.3,   4.6760,  34.4987,2,-999.0000,9,   -999.0,9,  -999.00,9,  -999.00,9, -999.000,9, -999.000,9, -999.000,9, -999.000,9, -999.000,9,-999.0000,9,  -999.00,9,-999.000,   -999.0,9,   -999.0,9,    825,-999.0000,-999.000,-999.000,9,  4.6104,-999.000