BOTTLE,20220817CCHSIOAMB
EXPOCODE,SECT_ID,STNNBR,CASTNO,SAMPNO,BTLNBR,BTLNBR_FLAG_W,DATE,TIME,LATITUDE,LONGITUDE,DEPTH,CTDPRS,CTDTMP,CTDSAL,CTDSAL_FLAG_W,SALNTY,SALNTY_FLAG_W,OXYGEN,OXYGEN_FLAG_W,SILCAT,SILCAT_FLAG_W,NO2+NO3,NO2+NO3_FLAG_W,CFC-11,CFC-11_FLAG_W,CFC-12,CFC-12_FLAG_W,CFC113,CFC113_FLAG_W,CCL4,CCL4_FLAG_W,TRITUM,TRITUM_FLAG_W,HELIUM,HELIUM_FLAG_W,DELHE3,DELHE3_FLAG_W,NEON,TCARBN,TCARBN_FLAG_W,PCO2,PCO2_FLAG_W,CTDRAW,HELIER,DELHER,NEONER,NEON_FLAG_W,THETA,TRITER
,,,,,,,,,,,,DBAR,ITS-90,PSS-78,,PSS-78,,UMOL/KG,,UMOL/KG,,UMOL/KG,,PMOL/KG,,PMOL/KG,,PMOL/KG,,PMOL/KG,,TU,,NMOL/KG,,PERCNT,,NMOL/KG,UMOL/KG,,UATM,,,NMOL/KG,PERCNT,NMOL/KG,,ITS-90,TU
      06MT28_1,   A08,   224,  1,   2966,    215,2,19940419,0434,-11.3337, -11.0008, 3843,     11.6,  26.7467,  36.6695,2,  36.6631,2,    192.6,2,     0.86,2,     0.00,2,    1.540,2,    0.901,2,    0.110,4,    1.794,2, -999.000,9,-999.0000,9,  -999.00,9,-999.000,   2050.0,2,    476.9,6,     10,-999.0000,-999.000,-999.000,9, 26.7441,-999.000
      06MT28_1,   A08,   224,  1,   2965,    214,2,19940419,0434,-11.3337, -11.0008, 3843,     31.3,  26.7473,  36.6714,2,-999.0000,9,    191.9,2,     0.86,2,     0.00,2,    1.566,2,    0.899,2,    0.083,4,    1.775,2, -999.000,9,-999.0000,9,  -999.00,9,-999.000,   2050.3,2,    474.2,2,     30,-999.0000,-999.000,-999.000,9, 26.7402,-999.000
      06MT28_1,   A08,   224,  1,   2964,    213,2,19940419,0434,-11.3337, -11.0008, 3843,     51.6,  26.5147,  36.6773,2,-999.0000,9,    199.2,2,     0.96,2,     0.00,2,    1.647,2,    0.932,2,    0.051,4,    1.596,2, -999.000,9,-999.0000,9,  -999.00,9,-999.000,   2052.8,2,    483.1,2,     50,-999.0000,-999.000,-999.000,9, 26.5030,-999.000
      06MT28_1,   A08,   224,  1,   2963,    212,2,19940419,0434,-11.3337, -11.0008, 3843,     70.8,  22.5549,  36.5624,2,-999.0000,9,    214.9,2,     0.77,2,     0.00,2,    1.913,2,    1.058,2,    0.056,4,    1.109,2, -999.000,9,-999.0000,9,  -999.00,9,-999.000,   2074.7,2,    536.8,2,     70,-999.0000,-999.000,-999.000,9, 22.5405,-999.000
      06MT28_1,   A08,   224,  1,   2962,    211,2,19940419,0434,-11.3337, -11.0008, 3843,    100.6,  18.9187,  36.0959,2,-999.0000,9,    173.5,2,     2.11,2,     6.23,2,    1.955,2,    1.047,2,    0.117,2,    0.871,2, -999.000,9,-999.0000,9,  -999.00,9,-999.000,   2118.6,2,    746.2,2,    100,-999.0000,-999.000,-999.000,9, 18.9007,-999.000
      06MT28_1,   A08,   224,  1,   2961,    210,2,19940419,0434,-11.3337, -11.0008, 3843,    151.2,  13.7140,  35.3309,2,-999.0000,9,    131.6,2,     5.46,2,    16.47,2,    1.666,2,    0.873,2,    0.044,2,    0.408,2, -999.000,9,-999.0000,9,  -999.00,9,-999.000,   2155.5,2,   1132.4,2,    150,-999.0000,-999.000,-999.000,9, 13.6924,-999.000
      06MT28_1,   A08,   224,  1,   2959,    209,2,19940419,0434,-11.3337, -11.0008, 3843,    201.1,  11.8284,  35.1225,2,-999.0000,9,     87.9,2,     9.05,2,    24.51,2,    0.911,2,    0.486,2,    0.029,2,    0.260,2, -999.000,9,-999.0000,9,  -999.00,9,-999.000,   2198.4,2,    982.3,2,    200,-999.0000,-999.000,-999.000,9, 11.8023,-999.000
      06MT28_1,   A08,   224,  1,   2951,    207,2,19940419,0434,-11.3337, -11.0008, 3843,   1007.1,   4.1299,  34.5705,2,-999.0000,9,   -999.0,9,  -999.00,9,  -999.00,9, -999.000,9, -999.000,9, -999.000,9, -999.000,9, -999.000,9,-999.0000,9,  -999.00,9,-999.000,   -999.0,9,   -999.0,9,   1008,-999.0000,-999.000,-999.000,9,  4.0526,-999.000
      06MT28_1,   A08,   224,  1,   2948,    208,2,19940419,0434,-11.3337, -11.0008, 3843,   1007.3,   4.1295,  34.5719,2,-999.0000,9,    149.6,2,    32.36,2,    31.79,2, -999.000,9, -999.000,9, -999.000,9, -999.000,9, -999.000,9,-999.0000,9,  -999.00,9,-999.000,   2224.1,2,   1193.0,6,   1008,-999.0000,-999.000,-999.000,9,  4.0522,-999.000
      06MT28_1,   A08,   224,  2,   2960,    324,2,19940419,0612,-11.3333, -11.0002, 3840,    199.0,  11.0982,  35.0656,2,  35.0625,2,     75.8,2,    10.86,2,    27.38,2, -999.000,9, -999.000,9, -999.000,9, -999.000,9, -999.000,9,-999.0000,9,  -999.00,9,-999.000,   2211.8,2,   -999.0,9,    199,-999.0000,-999.000,-999.000,9, 11.0735,-999.000
      06MT28_1,   A08,   224,  2,   2958,    323,2,19940419,0612,-11.3333, -11.0002, 3840,    297.9,   9.5203,  34.8794,2,-999.0000,9,     75.9,2,    13.59,2,    30.25,2, -999.000,9, -999.000,9, -999.000,9, -999.000,9, -999.000,9,   1.7560,2,     1.14,2,   7.470,   2219.2,2,   -999.0,9,    299,  0.0070,   0.250,   0.025,2,  9.4867,-999.000
      06MT28_1,   A08,   224,  2,   2957,    322,2,19940419,0612,-11.3333, -11.0002, 3840,    397.2,   8.4427,  34.7636,2,  34.8781,4,     77.1,2,    15.79,2,    32.53,2,    0.143,2,    0.089,2,    0.010,2,    0.161,2, -999.000,9,   1.7680,2,     0.98,2,   7.560,   2226.9,2,   1335.7,2,    399,  0.0070,   0.250,   0.025,2,  8.4008,-999.000
      06MT28_1,   A08,   224,  2,   2956,    321,2,19940419,0612,-11.3333, -11.0002, 3840,    497.1,   7.3630,  34.6607,2,-999.0000,9,     74.5,2,    15.78,2,    34.81,2,    0.054,2,    0.037,2,    0.008,2,    0.130,2, -999.000,9,   1.7090,3,     0.67,2,   7.347,   2235.0,2,   1436.9,2,    500,  0.0060,   0.250,   0.024,3,  7.3144,-999.000
      06MT28_1,   A08,   224,  2,   2955,    320,2,19940419,0612,-11.3333, -11.0002, 3840,    596.1,   6.2758,  34.5701,2,-999.0000,9,     74.1,2,    21.70,2,    35.94,2,    0.025,2,    0.022,2,    0.008,2,    0.116,2, -999.000,9,   1.7910,2,     0.60,2,   7.754,   2236.9,2,   1471.5,2,    599,  0.0070,   0.250,   0.026,2,  6.2220,-999.000
      06MT28_1,   A08,   224,  2,   2954,    319,2,19940419,0612,-11.3333, -11.0002, 3840,    696.2,   5.4048,  34.5122,2,  34.5136,2,     87.5,2,    25.32,2,    34.77,2,    0.021,2,    0.017,2,    0.009,2,    0.130,2, -999.000,9,   1.7790,2,     1.62,2,   7.688,   2228.4,2,   1344.8,2,    699,  0.0070,   0.250,   0.025,2,  5.3462,-999.000
      06MT28_1,   A08,   224,  2,   2953,    318,2,19940419,0612,-11.3333, -11.0002, 3840,    845.8,   4.5265,  34.4958,2,-999.0000,9,    110.1,2,    31.03,2,    33.51,2,    0.012,2,    0.008,2,    0.002,2,    0.013,4, -999.000,9,   1.7850,2,     1.98,2,   7.754,   2223.5,2,   1135.6,3,    849,  0.0070,   0.250,   0.026,2,  4.4601,-999.000
      06MT28_1,   A08,   224,  2,   2952,    317,2,19940419,0612,-11.3333, -11.0002, 3840,    996.1,   4.1509,  34.5560,2,-999.0000,9,    148.4,2,    33.49,2,    32.06,2,    0.024,4,    0.021,4,    0.018,2,    0.079,2, -999.000,9,-999.0000,9,  -999.00,9,-999.000,   2221.8,2,   1161.8,2,   1000,-999.0000,-999.000,-999.000,9,  4.0744,-999.000
      06MT28_1,   A08,   224,  2,   2935,    316,2,19940419,0612,-11.3333, -11.0002, 3840,   1196.0,   4.0413,  34.7285,2,  34.7291,2,    170.1,2,    29.17,2,    27.93,2,    0.034,4,    0.025,4,    0.022,2,    0.059,2, -999.000,9,-999.0000,9,  -999.00,9,-999.000,   2207.5,2,   1046.9,2,   1200,-999.0000,-999.000,-999.000,9,  3.9483,-999.000
      06MT28_1,   A08,   224,  2,   3010,    315,2,19940419,0612,-11.3333, -11.0002, 3840,   1396.6,   3.9589,  34.8519,2,-999.0000,9,    192.4,2,    24.57,2,    24.29,2,    0.005,2,    0.009,4,    0.009,2,    0.049,2, -999.000,9,-999.0000,9,  -999.00,9,-999.000,   2193.2,2,    915.5,2,   1400,-999.0000,-999.000,-999.000,9,  3.8488,-999.000
      06MT28_1,   A08,   224,  2,   3011,    314,2,19940419,0612,-11.3333, -11.0002, 3840,   1597.4,   3.7439,  34.9016,2,-999.0000,9,    204.8,2,    24.17,2,    22.45,2,    0.003,2,    0.006,2,    0.004,2,    0.041,2, -999.000,9,-999.0000,9,  -999.00,9,-999.000,   2185.9,2,    853.4,2,   1600,-999.0000,-999.000,-999.000,9,  3.6180,-999.000
      06MT28_1,   A08,   224,  2,   3009,    313,2,19940419,0612,-11.3333, -11.0002, 3840,   1798.0,   3.5668,  34.9220,2,  34.9234,2,    213.8,2,    24.52,2,    21.29,2, -999.000,9, -999.000,9, -999.000,9, -999.000,9, -999.000,9,-999.0000,9,  -999.00,9,-999.000,   2182.7,2,    826.9,2,   1800,-999.0000,-999.000,-999.000,9,  3.4248,-999.000
      06MT28_1,   A08,   224,  2,   3008,    312,2,19940419,0612,-11.3333, -11.0002, 3840,   1997.7,   3.3573,  34.9266,2,-999.0000,9,    219.4,2,    26.69,2,    20.80,2,    0.006,2,    0.005,2,    0.003,2,    0.039,2, -999.000,9,-999.0000,9,  -999.00,9,-999.000,   2181.1,2,    808.1,2,   1999,-999.0000,-999.000,-999.000,9,  3.1997,-999.000
      06MT28_1,   A08,   224,  2,   3007,    311,2,19940419,0612,-11.3333, -11.0002, 3840,   2248.0,   3.0668,  34.9203,2,  34.9199,2,    222.6,2,    30.65,2,    20.68,2,    0.001,2,    0.006,2,   -0.002,2,    0.028,2, -999.000,9,-999.0000,9,  -999.00,9,-999.000,   2184.1,2,    799.6,6,   2249,-999.0000,-999.000,-999.000,9,  2.8901,-999.000
      06MT28_1,   A08,   224,  2,   3006,    310,2,19940419,0612,-11.3333, -11.0002, 3840,   2501.4,   2.8494,  34.9071,2,-999.0000,9,    223.4,2,    35.16,2,    20.85,2,    0.002,2,    0.002,2,    0.005,2,    0.026,2, -999.000,9,-999.0000,9,  -999.00,9,-999.000,   2188.0,2,    803.2,2,   2501,-999.0000,-999.000,-999.000,9,  2.6522,-999.000
      06MT28_1,   A08,   224,  2,   3005,    309,2,19940419,0612,-11.3333, -11.0002, 3840,   2750.9,   2.7095,  34.8993,2,-999.0000,9,    223.1,2,    38.15,2,    21.11,2,    0.003,2,    0.001,2,    0.002,2,    0.018,2, -999.000,9,-999.0000,9,  -999.00,9,-999.000,   2190.5,2,    810.5,2,   2750,-999.0000,-999.000,-999.000,9,  2.4905,-999.000
      06MT28_1,   A08,   224,  2,   3004,    308,2,19940419,0612,-11.3333, -11.0002, 3840,   3001.1,   2.5943,  34.8945,2,-999.0000,9,    222.1,2,    40.95,2,    21.28,2, -999.000,9, -999.000,9, -999.000,9, -999.000,9, -999.000,9,-999.0000,9,  -999.00,9,-999.000,   2194.5,2,    814.7,2,   2999,-999.0000,-999.000,-999.000,9,  2.3524,-999.000
      06MT28_1,   A08,   224,  2,   3003,    307,2,19940419,0612,-11.3333, -11.0002, 3840,   3253.3,   2.5049,  34.8913,2,  34.8917,2,    220.8,2,    43.17,2,    21.44,2,    0.004,2,    0.001,2,    0.005,2,    0.010,2, -999.000,9,-999.0000,9,  -999.00,9,-999.000,   2199.0,2,    830.9,2,   3250,-999.0000,-999.000,-999.000,9,  2.2388,-999.000
      06MT28_1,   A08,   224,  2,   3002,    306,2,19940419,0612,-11.3333, -11.0002, 3840,   3503.4,   2.4431,  34.8895,2,-999.0000,9,    219.5,2,    44.64,2,    21.52,2, -999.000,9, -999.000,9, -999.000,9, -999.000,9, -999.000,9,-999.0000,9,  -999.00,9,-999.000,   2202.1,2,    811.6,2,   3500,-999.0000,-999.000,-999.000,9,  2.1518,-999.000
      06MT28_1,   A08,   224,  2,   3001,    305,2,19940419,0612,-11.3333, -11.0002, 3840,   3714.7,   2.4363,  34.8880,2,-999.0000,9,    219.4,2,    44.78,2,    21.59,2,    0.003,2,    0.001,2,    0.004,2,    0.010,2, -999.000,9,-999.0000,9,  -999.00,9,-999.000,   2202.2,2,    861.6,2,   3710,-999.0000,-999.000,-999.000,9,  2.1220,-999.000
      06MT28_1,   A08,   224,  2,   3000,    304,2,19940419,0612,-11.3333, -11.0002, 3840,   3784.2,   2.4342,  34.8883,2,-999.0000,9,    219.3,2,    45.26,2,    21.43,2, -999.000,9, -999.000,9, -999.000,9, -999.000,9, -999.000,9,-999.0000,9,  -999.00,9,-999.000,   -999.0,9,   -999.0,9,   3780,-999.0000,-999.000,-999.000,9,  2.1122,-999.000
      06MT28_1,   A08,   224,  2,   2997,    301,2,19940419,0612,-11.3333, -11.0002, 3840,   3815.2,   2.4364,  34.8886,2,  34.8892,2,    217.7,2,    45.38,2,    21.47,2,    0.002,2,    0.003,2,    0.002,2,    0.010,2, -999.000,9,   1.8330,4,     3.93,2,   8.035,   2202.6,2,    832.4,6,   3811,  0.0070,   0.250,   0.027,4,  2.1109,-999.000
      06MT28_1,   A08,   224,  2,   2998,    302,2,19940419,0612,-11.3333, -11.0002, 3840,   3815.2,   2.4364,  34.8886,2,  34.8872,2,    218.6,2,    44.95,2,    21.47,2,    0.005,2,    0.003,2,    0.006,2,    0.012,2, -999.000,9,   1.8250,2,     3.56,2,   7.942,   2201.8,2,    877.7,2,   3811,  0.0070,   0.250,   0.026,2,  2.1109,-999.000
      06MT28_1,   A08,   224,  2,   2999,    303,2,19940419,0612,-11.3333, -11.0002, 3840,   3815.2,   2.4362,  34.8875,2,-999.0000,9,    219.2,2,    45.24,2,    21.42,2,    0.003,2,    0.001,2,   -0.001,2,    0.012,2, -999.000,9,-999.0000,9,  -999.00,9,-999.000,   2202.0,2,    840.4,2,   3811,-999.0000,-999.000,-999.000,9,  2.1107,-999.000
      06MT28_1,   A08,   225,  1,   2996,    217,2,19940419,1229,-11.3328, -10.5003, 4374,     10.2,  26.8867,  36.5704,2,  36.5712,2,   -999.0,9,  -999.00,9,  -999.00,9, -999.000,9, -999.000,9, -999.000,9, -999.000,9, -999.000,9,-999.0000,9,  -999.00,9,-999.000,   -999.0,9,   -999.0,9,      9,-999.0000,-999.000,-999.000,9, 26.8844,-999.000
      06MT28_1,   A08,   225,  1,   2994,    216,2,19940419,1229,-11.3328, -10.5003, 4374,     40.7,  26.8453,  36.5732,2,-999.0000,9,   -999.0,9,  -999.00,9,  -999.00,9, -999.000,9, -999.000,9, -999.000,9, -999.000,9, -999.000,9,-999.0000,9,  -999.00,9,-999.000,   -999.0,9,   -999.0,9,     40,-999.0000,-999.000,-999.000,9, 26.8360,-999.000
      06MT28_1,   A08,   225,  1,   2993,    215,2,19940419,1229,-11.3328, -10.5003, 4374,     61.4,  23.4072,  36.6642,2,-999.0000,9,    217.7,2,     0.67,2,     0.00,2, -999.000,9, -999.000,9, -999.000,9, -999.000,9, -999.000,9,-999.0000,9,  -999.00,9,-999.000,   -999.0,9,   -999.0,9,     61,-999.0000,-999.000,-999.000,9, 23.3944,-999.000
      06MT28_1,   A08,   225,  1,   2992,    214,2,19940419,1229,-11.3328, -10.5003, 4374,     79.5,  22.5686,  36.6056,2,-999.0000,9,    216.7,2,     0.67,2,     0.00,2, -999.000,9, -999.000,9, -999.000,9, -999.000,9, -999.000,9,-999.0000,9,  -999.00,9,-999.000,   -999.0,9,   -999.0,9,     79,-999.0000,-999.000,-999.000,9, 22.5524,-999.000
      06MT28_1,   A08,   225,  1,   2991,    213,2,19940419,1229,-11.3328, -10.5003, 4374,    120.1,  16.6342,  35.7919,2,-999.0000,9,    137.0,2,     3.64,2,    13.13,2, -999.000,9, -999.000,9, -999.000,9, -999.000,9, -999.000,9,-999.0000,9,  -999.00,9,-999.000,   -999.0,9,   -999.0,9,    120,-999.0000,-999.000,-999.000,9, 16.6146,-999.000
      06MT28_1,   A08,   225,  1,   2990,    212,2,19940419,1229,-11.3328, -10.5003, 4374,    180.0,  12.6503,  35.2292,2,-999.0000,9,     84.9,2,     8.04,2,    23.46,2, -999.000,9, -999.000,9, -999.000,9, -999.000,9, -999.000,9,-999.0000,9,  -999.00,9,-999.000,   -999.0,9,   -999.0,9,    180,-999.0000,-999.000,-999.000,9, 12.6259,-999.000
      06MT28_1,   A08,   225,  1,   2987,    211,2,19940419,1229,-11.3328, -10.5003, 4374,    250.8,  10.1763,  34.9406,2,-999.0000,9,     74.5,2,    12.73,2,    29.38,2, -999.000,9, -999.000,9, -999.000,9, -999.000,9, -999.000,9,-999.0000,9,  -999.00,9,-999.000,   -999.0,9,   -999.0,9,    250,-999.0000,-999.000,-999.000,9, 10.1468,-999.000
      06MT28_1,   A08,   225,  1,   2974,    210,2,19940419,1229,-11.3328, -10.5003, 4374,    350.2,   8.6025,  34.7772,2,-999.0000,9,     74.5,2,    15.69,2,    32.43,2, -999.000,9, -999.000,9, -999.000,9, -999.000,9, -999.000,9,-999.0000,9,  -999.00,9,-999.000,   -999.0,9,   -999.0,9,    350,-999.0000,-999.000,-999.000,9,  8.5653,-999.000
      06MT28_1,   A08,   225,  1,   3049,    209,2,19940419,1229,-11.3328, -10.5003, 4374,    451.5,   7.4350,  34.6643,2,  34.6679,2,     76.2,2,    18.93,2,    34.75,2, -999.000,9, -999.000,9, -999.000,9, -999.000,9, -999.000,9,-999.0000,9,  -999.00,9,-999.000,   -999.0,9,   -999.0,9,    451,-999.0000,-999.000,-999.000,9,  7.3907,-999.000
      06MT28_1,   A08,   225,  1,   3048,    208,2,19940419,1229,-11.3328, -10.5003, 4374,    550.6,   6.6842,  34.5950,2,-999.0000,9,     91.4,2,    20.93,2,    34.83,2, -999.000,9, -999.000,9, -999.000,9, -999.000,9, -999.000,9,-999.0000,9,  -999.00,9,-999.000,   -999.0,9,   -999.0,9,    550,-999.0000,-999.000,-999.000,9,  6.6330,-999.000
      06MT28_1,   A08,   225,  1,   3047,    207,2,19940419,1229,-11.3328, -10.5003, 4374,    550.6,   6.6672,  34.5934,2,-999.0000,9,   -999.0,9,  -999.00,9,  -999.00,9, -999.000,9, -999.000,9, -999.000,9, -999.000,9, -999.000,9,-999.0000,9,  -999.00,9,-999.000,   -999.0,9,   -999.0,9,    550,-999.0000,-999.000,-999.000,9,  6.6160,-999.000