BOTTLE,20220817CCHSIOAMB
EXPOCODE,SECT_ID,STNNBR,CASTNO,SAMPNO,BTLNBR,BTLNBR_FLAG_W,DATE,TIME,LATITUDE,LONGITUDE,DEPTH,CTDPRS,CTDTMP,CTDSAL,CTDSAL_FLAG_W,SALNTY,SALNTY_FLAG_W,OXYGEN,OXYGEN_FLAG_W,SILCAT,SILCAT_FLAG_W,NO2+NO3,NO2+NO3_FLAG_W,CFC-11,CFC-11_FLAG_W,CFC-12,CFC-12_FLAG_W,CFC113,CFC113_FLAG_W,CCL4,CCL4_FLAG_W,TRITUM,TRITUM_FLAG_W,HELIUM,HELIUM_FLAG_W,DELHE3,DELHE3_FLAG_W,NEON,TCARBN,TCARBN_FLAG_W,PCO2,PCO2_FLAG_W,CTDRAW,HELIER,DELHER,NEONER,NEON_FLAG_W,THETA,TRITER
,,,,,,,,,,,,DBAR,ITS-90,PSS-78,,PSS-78,,UMOL/KG,,UMOL/KG,,UMOL/KG,,PMOL/KG,,PMOL/KG,,PMOL/KG,,PMOL/KG,,TU,,NMOL/KG,,PERCNT,,NMOL/KG,UMOL/KG,,UATM,,,NMOL/KG,PERCNT,NMOL/KG,,ITS-90,TU
      06MT28_1,   A08,   181,  4,    635,    220,2,19940405,0031,-11.3313, -34.0030, 4570,     11.0,  28.8284,  37.1699,2,-999.0000,9,    190.6,2,  -999.00,9,  -999.00,9, -999.000,9, -999.000,9, -999.000,9, -999.000,9, -999.000,9,-999.0000,9,  -999.00,9,-999.000,   -999.0,9,   -999.0,9,     10,-999.0000,-999.000,-999.000,9, 28.8257,-999.000
      06MT28_1,   A08,   181,  4,    634,    221,2,19940405,0031,-11.3313, -34.0030, 4570,     11.0,  28.8284,  37.1699,2,  37.1807,2,    192.1,2,  -999.00,9,  -999.00,9, -999.000,9, -999.000,9, -999.000,9, -999.000,9, -999.000,9,-999.0000,9,  -999.00,9,-999.000,   -999.0,9,   -999.0,9,     10,-999.0000,-999.000,-999.000,9, 28.8257,-999.000
      06MT28_1,   A08,   181,  4,    633,    219,2,19940405,0031,-11.3313, -34.0030, 4570,     31.8,  28.7817,  37.1736,2,-999.0000,9,    192.2,2,  -999.00,9,  -999.00,9, -999.000,9, -999.000,9, -999.000,9, -999.000,9, -999.000,9,-999.0000,9,  -999.00,9,-999.000,   -999.0,9,   -999.0,9,     30,-999.0000,-999.000,-999.000,9, 28.7740,-999.000
      06MT28_1,   A08,   181,  4,    620,    218,2,19940405,0031,-11.3313, -34.0030, 4570,     51.8,  28.6097,  37.2092,2,-999.0000,9,    192.8,2,  -999.00,9,  -999.00,9, -999.000,9, -999.000,9, -999.000,9, -999.000,9, -999.000,9,-999.0000,9,  -999.00,9,-999.000,   -999.0,9,   -999.0,9,     50,-999.0000,-999.000,-999.000,9, 28.5972,-999.000
      06MT28_1,   A08,   181,  4,    693,    217,2,19940405,0031,-11.3313, -34.0030, 4570,     71.2,  27.0183,  37.1365,2,-999.0000,9,    205.3,2,  -999.00,9,  -999.00,9, -999.000,9, -999.000,9, -999.000,9, -999.000,9, -999.000,9,-999.0000,9,  -999.00,9,-999.000,   -999.0,9,   -999.0,9,     70,-999.0000,-999.000,-999.000,9, 27.0019,-999.000
      06MT28_1,   A08,   181,  4,    694,    216,2,19940405,0031,-11.3313, -34.0030, 4570,    102.3,  25.1263,  37.0167,2,-999.0000,9,    208.1,2,  -999.00,9,  -999.00,9, -999.000,9, -999.000,9, -999.000,9, -999.000,9, -999.000,9,-999.0000,9,  -999.00,9,-999.000,   -999.0,9,   -999.0,9,    101,-999.0000,-999.000,-999.000,9, 25.1039,-999.000
      06MT28_1,   A08,   181,  4,    692,    215,2,19940405,0031,-11.3313, -34.0030, 4570,    150.8,  21.4567,  36.5427,2,-999.0000,9,    190.2,2,  -999.00,9,  -999.00,9, -999.000,9, -999.000,9, -999.000,9, -999.000,9, -999.000,9,-999.0000,9,  -999.00,9,-999.000,   -999.0,9,   -999.0,9,    150,-999.0000,-999.000,-999.000,9, 21.4272,-999.000
      06MT28_1,   A08,   181,  4,    691,    214,2,19940405,0031,-11.3313, -34.0030, 4570,    202.4,  16.1187,  35.6994,2,-999.0000,9,    155.3,2,  -999.00,9,  -999.00,9, -999.000,9, -999.000,9, -999.000,9, -999.000,9, -999.000,9,-999.0000,9,  -999.00,9,-999.000,   -999.0,9,   -999.0,9,    201,-999.0000,-999.000,-999.000,9, 16.0863,-999.000
      06MT28_1,   A08,   181,  4,    690,    213,2,19940405,0031,-11.3313, -34.0030, 4570,    301.2,  11.2237,  35.0324,2,-999.0000,9,    123.3,2,  -999.00,9,  -999.00,9, -999.000,9, -999.000,9, -999.000,9, -999.000,9, -999.000,9,-999.0000,9,  -999.00,9,-999.000,   -999.0,9,   -999.0,9,    300,-999.0000,-999.000,-999.000,9, 11.1859,-999.000
      06MT28_1,   A08,   181,  4,    689,    212,2,19940405,0031,-11.3313, -34.0030, 4570,    401.3,   7.8308,  34.6537,2,-999.0000,9,    140.3,2,  -999.00,9,  -999.00,9, -999.000,9, -999.000,9, -999.000,9, -999.000,9, -999.000,9,-999.0000,9,  -999.00,9,-999.000,   -999.0,9,   -999.0,9,    400,-999.0000,-999.000,-999.000,9,  7.7904,-999.000
      06MT28_1,   A08,   181,  4,    687,    211,2,19940405,0031,-11.3313, -34.0030, 4570,    501.7,   6.7972,  34.5687,2,-999.0000,9,    136.5,2,  -999.00,9,  -999.00,9, -999.000,9, -999.000,9, -999.000,9, -999.000,9, -999.000,9,-999.0000,9,  -999.00,9,-999.000,   -999.0,9,   -999.0,9,    500,-999.0000,-999.000,-999.000,9,  6.7503,-999.000
      06MT28_1,   A08,   181,  4,    686,    209,2,19940405,0031,-11.3313, -34.0030, 4570,    600.4,   5.8574,  34.5013,2,-999.0000,9,   -999.0,9,  -999.00,9,  -999.00,9, -999.000,9, -999.000,9, -999.000,9, -999.000,9, -999.000,9,-999.0000,9,  -999.00,9,-999.000,   -999.0,9,   -999.0,9,    600,-999.0000,-999.000,-999.000,9,  5.8052,-999.000
      06MT28_1,   A08,   181,  4,    685,    210,2,19940405,0031,-11.3313, -34.0030, 4570,    600.4,   5.8574,  34.5013,2,  34.4980,2,    137.1,2,  -999.00,9,  -999.00,9, -999.000,9, -999.000,9, -999.000,9, -999.000,9, -999.000,9,-999.0000,9,  -999.00,9,-999.000,   -999.0,9,   -999.0,9,    600,-999.0000,-999.000,-999.000,9,  5.8052,-999.000
      06MT28_1,   A08,   182,  1,    724,    221,2,19940405,0449,-11.3328, -33.5062, -999,     11.2,  28.8167,  36.9838,2,  36.9838,2,    190.3,2,     0.77,2,     0.00,4, -999.000,9, -999.000,9, -999.000,9, -999.000,9,    0.846,2,   1.6570,2,    -0.82,2,   6.488,   2042.5,2,    442.3,6,      9,  0.0060,   0.240,   0.021,2, 28.8140,   0.022
      06MT28_1,   A08,   182,  1,    722,    220,2,19940405,0449,-11.3328, -33.5062, -999,     32.8,  28.7473,  36.9797,2,-999.0000,9,    192.5,2,     0.67,2,     0.00,4, -999.000,9, -999.000,9, -999.000,9, -999.000,9,    0.775,2,   1.5790,4,    -1.86,2,   6.148,   2042.3,2,    441.2,2,     31,  0.0060,   0.240,   0.020,4, 28.7394,   0.085
      06MT28_1,   A08,   182,  1,    721,    219,2,19940405,0449,-11.3328, -33.5062, -999,     52.7,  28.2172,  37.1453,2,-999.0000,9,    198.2,2,     0.67,2,     0.00,4,    1.540,2,    0.906,2,    0.230,4,    1.421,2,    0.792,2,-999.0000,9,  -999.00,9,-999.000,   2050.7,2,    449.2,2,     51,-999.0000,-999.000,-999.000,9, 28.2047,   0.021
      06MT28_1,   A08,   182,  1,    720,    218,2,19940405,0449,-11.3328, -33.5062, -999,     72.9,  26.7888,  37.1359,2,-999.0000,9,    204.7,2,     0.67,2,     0.00,4,    1.666,2,    0.949,2,    0.282,4,    1.286,2,    0.812,2,-999.0000,9,  -999.00,9,-999.000,   2064.6,2,    469.8,2,     71,-999.0000,-999.000,-999.000,9, 26.7721,   0.021
      06MT28_1,   A08,   182,  1,    719,    217,2,19940405,0449,-11.3328, -33.5062, -999,    102.8,  24.7548,  36.9913,2,-999.0000,9,    205.0,2,     0.77,2,     0.00,4,    1.778,2,    0.994,2,    0.172,2,    1.076,2,    0.817,2,   1.6740,2,    -1.97,2,   6.688,   2073.7,2,    499.7,2,    101,  0.0060,   0.240,   0.021,2, 24.7325,   0.022
      06MT28_1,   A08,   182,  1,    718,    216,2,19940405,0449,-11.3328, -33.5062, -999,    153.7,  21.1425,  36.4951,2,-999.0000,9,    190.9,2,     1.15,2,     0.48,2,    1.951,2,    1.053,2,    0.177,2,    0.859,2, -999.000,9,   1.6880,2,    -1.25,2,   6.843,   2100.2,2,    620.6,2,    152,  0.0060,   0.240,   0.022,2, 21.1127,-999.000
      06MT28_1,   A08,   182,  1,    717,    215,2,19940405,0449,-11.3328, -33.5062, -999,    200.8,  16.3662,  35.7243,2,-999.0000,9,   -999.0,9,  -999.00,9,  -999.00,9, -999.000,9, -999.000,9, -999.000,9, -999.000,9, -999.000,9,-999.0000,9,  -999.00,9,-999.000,   -999.0,9,   -999.0,9,    200,-999.0000,-999.000,-999.000,9, 16.3337,-999.000
      06MT28_1,   A08,   182,  1,    716,    214,2,19940405,0449,-11.3328, -33.5062, -999,    302.6,  10.5489,  34.9442,2,-999.0000,9,    128.3,2,     9.86,2,    22.87,2,    0.852,2,    0.453,2,    0.027,2,    0.407,2,    0.375,2,   1.7380,2,     1.19,2,   7.447,   2174.4,2,   1416.3,2,    301,  0.0060,   0.240,   0.024,2, 10.5124,   0.015
      06MT28_1,   A08,   182,  1,    715,    213,2,19940405,0449,-11.3328, -33.5062, -999,    402.4,   8.0480,  34.6775,2,-999.0000,9,    137.2,2,    14.54,2,    27.06,2,    0.533,2,    0.284,2,    0.021,2,    0.567,2,    0.189,2,   1.7500,2,     1.24,2,   7.533,   2187.9,2,   1609.1,2,    401,  0.0060,   0.240,   0.024,2,  8.0067,   0.012
      06MT28_1,   A08,   182,  1,    714,    212,2,19940405,0449,-11.3328, -33.5062, -999,    500.7,   6.5641,  34.5417,2,-999.0000,9,    142.9,2,    18.92,2,    29.92,2,    0.378,2,    0.202,2,    0.019,2,    0.642,2,    0.110,2,   1.7600,2,     1.46,2,   7.672,   2197.6,2,   1744.2,2,    500,  0.0060,   0.240,   0.024,2,  6.5182,   0.008
      06MT28_1,   A08,   182,  1,    713,    211,2,19940405,0449,-11.3328, -33.5062, -999,    594.9,   5.6788,  34.4758,2,-999.0000,9,    152.9,2,    22.35,2,    30.71,2,    0.301,2,    0.164,2,    0.014,2,    0.652,2, -999.000,9,   1.7640,2,     1.04,2,   7.781,   2200.5,2,   1765.4,2,    594,  0.0060,   0.240,   0.025,4,  5.6279,-999.000
      06MT28_1,   A08,   182,  1,    712,    210,2,19940405,0449,-11.3328, -33.5062, -999,    698.6,   5.0261,  34.4506,2,-999.0000,9,    152.8,2,    26.35,2,    31.75,2,    0.177,2,    0.099,2,    0.012,2,    0.514,2, -999.000,9,-999.0000,9,     1.42,2,-999.000,   2205.9,2,   1843.3,6,    698,-999.0000,   0.240,-999.000,9,  4.9693,-999.000
      06MT28_1,   A08,   182,  1,    770,    209,2,19940405,0449,-11.3328, -33.5062, -999,   1001.3,   3.8574,  34.5015,2,-999.0000,9,   -999.0,9,  -999.00,9,  -999.00,9,    0.109,4,    0.053,4,    1.872,4,    0.276,2, -999.000,9,-999.0000,9,  -999.00,9,-999.000,   -999.0,9,   -999.0,9,   1002,-999.0000,-999.000,-999.000,9,  3.7827,-999.000
      06MT28_1,   A08,   182,  2,    723,    324,2,19940405,0646,-11.3323, -33.5000, 5050,     13.7,  28.7543,  36.9809,2,  36.9804,2,    201.4,2,     0.96,2,     0.00,4,    1.470,2,    0.896,2,    0.166,2,    1.632,2, -999.000,9,   1.6600,2,    -1.40,2,   6.505,   2042.2,2,   -999.0,9,      9,  0.0060,   0.240,   0.021,2, 28.7510,-999.000
      06MT28_1,   A08,   182,  2,    711,    323,2,19940405,0646,-11.3323, -33.5000, 5050,    696.7,   4.7250,  34.4204,2,-999.0000,9,    172.4,2,    27.50,2,    31.22,2,    0.245,4,    0.135,2,    0.023,2,    0.689,4, -999.000,9,-999.0000,9,  -999.00,9,-999.000,   -999.0,9,   -999.0,9,    700,-999.0000,-999.000,-999.000,9,  4.6701,-999.000
      06MT28_1,   A08,   182,  2,    710,    322,2,19940405,0646,-11.3323, -33.5000, 5050,    846.5,   4.1703,  34.4422,2,-999.0000,9,    170.8,2,    32.72,2,    31.96,2,    0.083,2,    0.047,2,    0.012,2,    0.382,2,    0.070,2,   1.7940,2,     2.85,2,   7.823,   2210.4,2,   1141.8,2,    850,  0.0070,   0.240,   0.025,2,  4.1062,   0.011
      06MT28_1,   A08,   182,  2,    696,    321,2,19940405,0646,-11.3323, -33.5000, 5050,    997.0,   3.8380,  34.5109,2,  34.5108,2,    173.9,2,    36.04,2,    31.27,2,    0.032,2,    0.019,2,    0.020,2,    0.222,2,    0.042,2,   1.7900,2,     2.44,2,   7.788,   2213.5,2,   1122.5,2,   1001,  0.0070,   0.240,   0.025,2,  3.7639,   0.004
      06MT28_1,   A08,   182,  2,    771,    320,2,19940405,0646,-11.3323, -33.5000, 5050,   1195.8,   3.9474,  34.6874,2,-999.0000,9,    177.2,2,    31.52,2,    28.76,2,    0.000,2,   -0.002,2,    0.015,2,    0.033,2,    0.076,2,   1.7960,2,     2.32,2,   7.823,   2208.4,2,   1059.2,2,   1199,  0.0070,   0.240,   0.025,2,  3.8553,   0.005
      06MT28_1,   A08,   182,  2,    769,    319,2,19940405,0646,-11.3323, -33.5000, 5050,   1397.4,   4.0246,  34.8556,2,-999.0000,9,    202.0,2,    24.36,2,    24.26,2,    0.011,2,    0.005,2,    0.008,2,    0.059,2,    0.117,2,   1.7910,2,     1.90,2,   7.812,   2189.3,2,    910.5,2,   1400,  0.0070,   0.240,   0.025,2,  3.9137,   0.005
      06MT28_1,   A08,   182,  2,    768,    318,2,19940405,0646,-11.3323, -33.5000, 5050,   1597.9,   3.8500,  34.9231,2,-999.0000,9,    223.7,2,    21.48,2,    21.39,2,    0.007,2,    0.005,2,    0.020,2,    0.106,2,    0.079,2,   1.7980,2,     1.91,2,   7.845,   2175.5,2,    830.0,2,   1600,  0.0070,   0.240,   0.025,2,  3.7228,   0.004
      06MT28_1,   A08,   182,  2,    767,    317,2,19940405,0646,-11.3323, -33.5000, 5050,   1797.9,   3.6464,  34.9507,2,-999.0000,9,    237.8,2,    20.61,2,    19.75,2,    0.022,2,    0.015,2,    0.019,2,    0.183,2,    0.096,2,   1.8440,2,     2.51,2,   7.971,   2168.7,2,    784.8,2,   1800,  0.0070,   0.240,   0.025,2,  3.5033,   0.004
      06MT28_1,   A08,   182,  2,    766,    316,2,19940405,0646,-11.3323, -33.5000, 5050,   1997.7,   3.3844,  34.9545,2,  34.9539,2,    245.0,2,    21.54,2,    18.98,2,    0.025,2,    0.017,2,    0.013,2,    0.212,2,    0.128,2,   1.8110,6,     2.35,6,   7.906,   2166.6,2,    769.4,2,   1999,  0.0070,   0.250,   0.026,6,  3.2263,   0.005
      06MT28_1,   A08,   182,  2,    765,    315,2,19940405,0646,-11.3323, -33.5000, 5050,   2250.0,   3.1136,  34.9392,2,-999.0000,9,    244.8,2,    25.49,2,    19.24,2,    0.018,2,    0.010,2,    0.014,2,    0.142,2,    0.019,2,   1.8180,2,     2.14,2,   7.956,   2170.1,2,    773.8,2,   2250,  0.0070,   0.240,   0.025,2,  2.9359,   0.168
      06MT28_1,   A08,   182,  2,    764,    314,2,19940405,0646,-11.3323, -33.5000, 5050,   2500.2,   2.9185,  34.9304,2,-999.0000,9,    243.9,2,    28.59,2,    19.50,2,    0.015,2,    0.011,2,    0.013,2,    0.119,2,    0.089,2,   1.8090,2,     3.46,2,   7.925,   2174.1,2,    772.2,2,   2500,  0.0070,   0.240,   0.025,2,  2.7201,   0.004
      06MT28_1,   A08,   182,  2,    763,    313,2,19940405,0646,-11.3323, -33.5000, 5050,   2749.5,   2.8057,  34.9241,2,-999.0000,9,    244.2,2,    30.17,2,    19.48,2,    0.015,2,    0.012,2,    0.014,2,    0.109,2,    0.074,2,   1.8110,2,     3.23,2,   7.936,   2175.1,2,    771.4,2,   2748,  0.0070,   0.240,   0.025,2,  2.5848,   0.004
      06MT28_1,   A08,   182,  2,    762,    312,2,19940405,0646,-11.3323, -33.5000, 5050,   3001.3,   2.7140,  34.9205,2,  34.9194,2,    245.2,2,    30.70,2,    19.27,2,    0.023,2,    0.012,2,    0.012,2,    0.123,2,    0.107,2,   1.8180,2,     3.80,2,   7.954,   2175.5,2,    767.6,2,   2999,  0.0070,   0.240,   0.025,2,  2.4694,   0.012
      06MT28_1,   A08,   182,  2,    761,    311,2,19940405,0646,-11.3323, -33.5000, 5050,   3252.6,   2.6173,  34.9146,2,-999.0000,9,    246.6,2,    31.99,2,    19.35,2,    0.012,2,    0.013,2,    0.012,2,    0.132,2,    0.004,2,   1.8040,2,     2.42,2,   7.931,   2179.0,2,    776.5,6,   3249,  0.0070,   0.240,   0.025,2,  2.3486,   0.008
      06MT28_1,   A08,   182,  2,    760,    310,2,19940405,0646,-11.3323, -33.5000, 5050,   3550.2,   2.5151,  34.9064,2,-999.0000,9,    246.6,2,    33.74,2,    19.42,2,    0.013,2,    0.009,2,    0.002,2,    0.141,2,    0.090,2,   1.8160,2,     2.37,2,   7.957,   2176.5,2,    776.2,2,   3546,  0.0070,   0.240,   0.025,2,  2.2168,   0.022
      06MT28_1,   A08,   182,  2,    759,    309,2,19940405,0646,-11.3323, -33.5000, 5050,   3754.6,   2.4061,  34.8981,2,-999.0000,9,    246.6,2,    35.88,2,    19.40,2,    0.021,2,    0.014,2,    0.005,2,    0.182,2,    0.086,2,   1.8170,2,     2.84,2,   7.950,   2178.3,2,    776.1,2,   3750,  0.0070,   0.240,   0.025,2,  2.0881,   0.004
      06MT28_1,   A08,   182,  2,    758,    308,2,19940405,0646,-11.3323, -33.5000, 5050,   4005.5,   1.9489,  34.8491,2,  34.8470,2,    237.9,2,    54.46,2,    22.11,2,    0.007,2,    0.006,2,    0.012,2,    0.100,2,    0.049,2,   1.8290,6,     3.46,6,   8.018,   2199.6,2,    829.7,2,   4000,  0.0070,   0.250,   0.026,6,  1.6157,   0.006
      06MT28_1,   A08,   182,  2,    757,    307,2,19940405,0646,-11.3323, -33.5000, 5050,   4254.2,   1.4800,  34.7951,2,-999.0000,9,    227.0,2,    74.98,2,    24.99,2,    0.007,2,    0.002,2,    0.006,2,    0.059,2,   -4.274,4,   1.8460,2,     4.79,2,   8.065,   2220.1,2,    911.1,2,   4249,  0.0070,   0.240,   0.026,2,  1.1329,   0.598
      06MT28_1,   A08,   182,  2,    756,    306,2,19940405,0646,-11.3323, -33.5000, 5050,   4504.8,   0.9154,  34.7355,2,-999.0000,9,    217.2,2,    97.62,2,    28.07,2,    0.021,2,    0.011,2,    0.009,2,    0.105,2,    0.254,2,   1.8600,2,     7.10,2,   8.148,   2243.1,2,   1006.5,2,   4499,  0.0070,   0.240,   0.026,2,  0.5578,   0.152
      06MT28_1,   A08,   182,  2,    755,    305,2,19940405,0646,-11.3323, -33.5000, 5050,   4754.5,   0.6715,  34.7089,2,-999.0000,9,    213.9,2,   107.55,2,    29.25,2,    0.044,2,    0.021,2,    0.012,2,    0.156,2,    0.212,2,   1.8620,2,     6.65,2,   8.143,   2252.2,2,   1047.4,2,   4749,  0.0070,   0.240,   0.026,2,  0.2937,   0.008
      06MT28_1,   A08,   182,  2,    754,    304,2,19940405,0646,-11.3323, -33.5000, 5050,   4936.0,   0.5781,  34.6984,2,-999.0000,9,    212.2,2,   111.08,2,    29.75,2,    0.050,2,    0.022,2,    0.006,2,    0.182,2, -999.000,9,   1.8840,2,     7.22,2,   8.273,   2256.1,2,   1065.9,2,   4930,  0.0070,   0.240,   0.026,2,  0.1826,-999.000
      06MT28_1,   A08,   182,  2,    753,    303,2,19940405,0646,-11.3323, -33.5000, 5050,   5005.9,   0.5674,  34.6969,2,  34.9443,4,    212.1,2,   111.28,2,    29.79,2,    0.043,2,    0.021,2,    0.000,2,    0.178,2, -999.000,9,   1.8610,2,     6.80,2,   8.172,   2257.0,2,   1076.9,2,   5000,  0.0070,   0.240,   0.026,2,  0.1642,-999.000
      06MT28_1,   A08,   182,  2,    752,    301,2,19940405,0646,-11.3323, -33.5000, 5050,   5038.6,   0.5596,  34.6948,2,  34.6934,2,    212.0,2,  -999.00,9,  -999.00,9,    0.043,2,    0.023,2,    0.000,2,    0.181,2, -999.000,9,-999.0000,9,  -999.00,9,-999.000,   2257.9,2,   1085.2,6,   5032,-999.0000,-999.000,-999.000,9,  0.1528,-999.000
      06MT28_1,   A08,   182,  2,    751,    302,2,19940405,0646,-11.3323, -33.5000, 5050,   5038.7,   0.5595,  34.6949,2,  34.6931,2,    212.0,2,   111.87,2,    29.92,2,    0.041,2,    0.024,2,    0.009,2,    0.179,2,    0.280,2,   1.8740,2,     6.94,2,   8.208,   2256.7,2,   1080.7,2,   5033,  0.0070,   0.250,   0.027,2,  0.1527,   0.048