BOTTLE,20220817CCHSIOAMB
EXPOCODE,SECT_ID,STNNBR,CASTNO,SAMPNO,BTLNBR,BTLNBR_FLAG_W,DATE,TIME,LATITUDE,LONGITUDE,DEPTH,CTDPRS,CTDTMP,CTDSAL,CTDSAL_FLAG_W,SALNTY,SALNTY_FLAG_W,OXYGEN,OXYGEN_FLAG_W,SILCAT,SILCAT_FLAG_W,NO2+NO3,NO2+NO3_FLAG_W,CFC-11,CFC-11_FLAG_W,CFC-12,CFC-12_FLAG_W,CFC113,CFC113_FLAG_W,CCL4,CCL4_FLAG_W,TRITUM,TRITUM_FLAG_W,HELIUM,HELIUM_FLAG_W,DELHE3,DELHE3_FLAG_W,NEON,TCARBN,TCARBN_FLAG_W,PCO2,PCO2_FLAG_W,CTDRAW,HELIER,DELHER,NEONER,NEON_FLAG_W,THETA,TRITER
,,,,,,,,,,,,DBAR,ITS-90,PSS-78,,PSS-78,,UMOL/KG,,UMOL/KG,,UMOL/KG,,PMOL/KG,,PMOL/KG,,PMOL/KG,,PMOL/KG,,TU,,NMOL/KG,,PERCNT,,NMOL/KG,UMOL/KG,,UATM,,,NMOL/KG,PERCNT,NMOL/KG,,ITS-90,TU
      06MT28_1,   A08,   221,  1,   2796,    211,2,19940418,0837,-11.3332, -12.4173, 3369,      9.6,  26.7482,  36.7293,2,-999.0000,9,    193.6,2,     0.77,2,     0.00,2, -999.000,9, -999.000,9, -999.000,9, -999.000,9, -999.000,9,-999.0000,9,  -999.00,9,-999.000,   -999.0,9,   -999.0,9,      9,-999.0000,-999.000,-999.000,9, 26.7460,-999.000
      06MT28_1,   A08,   221,  1,   2795,    212,2,19940418,0837,-11.3332, -12.4173, 3369,      9.7,  26.7496,  36.7288,2,  36.7289,2,    192.9,2,     0.77,2,     0.00,2, -999.000,9, -999.000,9, -999.000,9, -999.000,9, -999.000,9,-999.0000,9,  -999.00,9,-999.000,   -999.0,9,   -999.0,9,      9,-999.0000,-999.000,-999.000,9, 26.7474,-999.000
      06MT28_1,   A08,   221,  1,   2794,    210,2,19940418,0837,-11.3332, -12.4173, 3369,     50.5,  26.7469,  36.7303,2,-999.0000,9,    216.6,2,     0.77,2,     0.00,2, -999.000,9, -999.000,9, -999.000,9, -999.000,9, -999.000,9,-999.0000,9,  -999.00,9,-999.000,   -999.0,9,   -999.0,9,     50,-999.0000,-999.000,-999.000,9, 26.7353,-999.000
      06MT28_1,   A08,   221,  1,   2792,    209,2,19940418,0837,-11.3332, -12.4173, 3369,     68.5,  23.5164,  36.6587,2,-999.0000,9,    196.6,2,     1.25,2,     1.44,2, -999.000,9, -999.000,9, -999.000,9, -999.000,9, -999.000,9,-999.0000,9,  -999.00,9,-999.000,   -999.0,9,   -999.0,9,     68,-999.0000,-999.000,-999.000,9, 23.5021,-999.000
      06MT28_1,   A08,   221,  1,   2778,    208,2,19940418,0837,-11.3332, -12.4173, 3369,     99.8,  20.2712,  36.2921,2,-999.0000,9,    196.0,2,     1.29,2,     1.63,2, -999.000,9, -999.000,9, -999.000,9, -999.000,9, -999.000,9,-999.0000,9,  -999.00,9,-999.000,   -999.0,9,   -999.0,9,     99,-999.0000,-999.000,-999.000,9, 20.2525,-999.000
      06MT28_1,   A08,   221,  1,   2829,    207,2,19940418,0837,-11.3332, -12.4173, 3369,    100.1,  20.3047,  36.3025,2,-999.0000,9,   -999.0,9,  -999.00,9,  -999.00,9, -999.000,9, -999.000,9, -999.000,9, -999.000,9, -999.000,9,-999.0000,9,  -999.00,9,-999.000,   -999.0,9,   -999.0,9,     99,-999.0000,-999.000,-999.000,9, 20.2859,-999.000
      06MT28_1,   A08,   221,  2,   2790,    324,2,19940418,1010,-11.3323, -12.4170, 3430,    100.0,  20.5213,  36.3379,2,  36.2776,4,    195.8,2,     1.25,2,     1.83,2, -999.000,9, -999.000,9, -999.000,9, -999.000,9, -999.000,9,-999.0000,9,  -999.00,9,-999.000,   -999.0,9,   -999.0,9,     99,-999.0000,-999.000,-999.000,9, 20.5024,-999.000
      06MT28_1,   A08,   221,  2,   2830,    323,2,19940418,1010,-11.3323, -12.4170, 3430,    149.7,  15.2119,  35.5648,2,-999.0000,9,    130.8,2,     4.70,2,    15.44,2, -999.000,9, -999.000,9, -999.000,9, -999.000,9, -999.000,9,-999.0000,9,  -999.00,9,-999.000,   -999.0,9,   -999.0,9,    150,-999.0000,-999.000,-999.000,9, 15.1889,-999.000
      06MT28_1,   A08,   221,  2,   2828,    322,2,19940418,1010,-11.3323, -12.4170, 3430,    198.8,  12.7264,  35.2473,2,-999.0000,9,     86.8,2,     8.24,2,    23.76,2, -999.000,9, -999.000,9, -999.000,9, -999.000,9, -999.000,9,-999.0000,9,  -999.00,9,-999.000,   -999.0,9,   -999.0,9,    200,-999.0000,-999.000,-999.000,9, 12.6994,-999.000
      06MT28_1,   A08,   221,  2,   2827,    321,2,19940418,1010,-11.3323, -12.4170, 3430,    298.2,   9.6194,  34.8915,2,-999.0000,9,     76.2,2,    13.41,2,    30.26,2, -999.000,9, -999.000,9, -999.000,9, -999.000,9, -999.000,9,-999.0000,9,  -999.00,9,-999.000,   -999.0,9,   -999.0,9,    300,-999.0000,-999.000,-999.000,9,  9.5855,-999.000
      06MT28_1,   A08,   221,  2,   2826,    320,2,19940418,1010,-11.3323, -12.4170, 3430,    397.5,   8.1873,  34.7376,2,-999.0000,9,     81.7,2,    16.36,2,    32.63,2, -999.000,9, -999.000,9, -999.000,9, -999.000,9, -999.000,9,-999.0000,9,  -999.00,9,-999.000,   -999.0,9,   -999.0,9,    400,-999.0000,-999.000,-999.000,9,  8.1461,-999.000
      06MT28_1,   A08,   221,  2,   2825,    319,2,19940418,1010,-11.3323, -12.4170, 3430,    496.5,   7.1737,  34.6374,2,-999.0000,9,     89.4,2,    19.22,2,    34.14,2, -999.000,9, -999.000,9, -999.000,9, -999.000,9, -999.000,9,-999.0000,9,  -999.00,9,-999.000,   -999.0,9,   -999.0,9,    500,-999.0000,-999.000,-999.000,9,  7.1258,-999.000
      06MT28_1,   A08,   221,  2,   2824,    318,2,19940418,1010,-11.3323, -12.4170, 3430,    596.5,   6.1756,  34.5528,2,-999.0000,9,    102.2,2,    22.65,2,    34.79,2, -999.000,9, -999.000,9, -999.000,9, -999.000,9, -999.000,9,-999.0000,9,  -999.00,9,-999.000,   -999.0,9,   -999.0,9,    600,-999.0000,-999.000,-999.000,9,  6.1222,-999.000
      06MT28_1,   A08,   221,  2,   2823,    317,2,19940418,1010,-11.3323, -12.4170, 3430,    696.4,   5.2601,  34.4877,2,-999.0000,9,    128.3,2,    26.18,2,    34.01,2, -999.000,9, -999.000,9, -999.000,9, -999.000,9, -999.000,9,-999.0000,9,  -999.00,9,-999.000,   -999.0,9,   -999.0,9,    700,-999.0000,-999.000,-999.000,9,  5.2023,-999.000
      06MT28_1,   A08,   221,  2,   2816,    316,2,19940418,1010,-11.3323, -12.4170, 3430,    845.6,   4.4813,  34.4855,2,-999.0000,9,    140.9,2,    31.13,2,    33.51,2, -999.000,9, -999.000,9, -999.000,9, -999.000,9, -999.000,9,-999.0000,9,  -999.00,9,-999.000,   -999.0,9,   -999.0,9,    850,-999.0000,-999.000,-999.000,9,  4.4152,-999.000
      06MT28_1,   A08,   221,  2,   2868,    315,2,19940418,1010,-11.3323, -12.4170, 3430,    995.5,   4.1115,  34.5434,2,-999.0000,9,    151.0,2,    33.20,2,    32.34,2, -999.000,9, -999.000,9, -999.000,9, -999.000,9, -999.000,9,-999.0000,9,  -999.00,9,-999.000,   -999.0,9,   -999.0,9,   1000,-999.0000,-999.000,-999.000,9,  4.0353,-999.000
      06MT28_1,   A08,   221,  2,   2869,    314,2,19940418,1010,-11.3323, -12.4170, 3430,   1196.0,   3.9889,  34.6963,2,  34.6977,2,    166.1,2,    30.60,2,    29.08,2, -999.000,9, -999.000,9, -999.000,9, -999.000,9, -999.000,9,-999.0000,9,  -999.00,9,-999.000,   -999.0,9,   -999.0,9,   1200,-999.0000,-999.000,-999.000,9,  3.8964,-999.000
      06MT28_1,   A08,   221,  2,   2867,    313,2,19940418,1010,-11.3323, -12.4170, 3430,   1396.8,   3.9971,  34.8540,2,-999.0000,9,    193.5,2,    24.38,2,    24.48,2, -999.000,9, -999.000,9, -999.000,9, -999.000,9, -999.000,9,-999.0000,9,  -999.00,9,-999.000,   -999.0,9,   -999.0,9,   1401,-999.0000,-999.000,-999.000,9,  3.8866,-999.000
      06MT28_1,   A08,   221,  2,   2866,    312,2,19940418,1010,-11.3323, -12.4170, 3430,   1596.0,   3.8496,  34.9113,2,-999.0000,9,    209.3,2,    22.45,2,    22.17,2, -999.000,9, -999.000,9, -999.000,9, -999.000,9, -999.000,9,-999.0000,9,  -999.00,9,-999.000,   -999.0,9,   -999.0,9,   1600,-999.0000,-999.000,-999.000,9,  3.7226,-999.000
      06MT28_1,   A08,   221,  2,   2865,    311,2,19940418,1010,-11.3323, -12.4170, 3430,   1796.9,   3.6380,  34.9304,2,-999.0000,9,    219.2,2,    22.91,2,    21.01,2, -999.000,9, -999.000,9, -999.000,9, -999.000,9, -999.000,9,-999.0000,9,  -999.00,9,-999.000,   -999.0,9,   -999.0,9,   1800,-999.0000,-999.000,-999.000,9,  3.4951,-999.000
      06MT28_1,   A08,   221,  2,   2864,    310,2,19940418,1010,-11.3323, -12.4170, 3430,   1998.2,   3.3445,  34.9375,2,-999.0000,9,    227.6,2,    25.07,2,    20.13,2, -999.000,9, -999.000,9, -999.000,9, -999.000,9, -999.000,9,-999.0000,9,  -999.00,9,-999.000,   -999.0,9,   -999.0,9,   2000,-999.0000,-999.000,-999.000,9,  3.1870,-999.000
      06MT28_1,   A08,   221,  2,   2863,    309,2,19940418,1010,-11.3323, -12.4170, 3430,   2248.6,   3.0603,  34.9233,2,  34.9235,2,    228.1,2,    29.70,2,    20.40,2, -999.000,9, -999.000,9, -999.000,9, -999.000,9, -999.000,9,-999.0000,9,  -999.00,9,-999.000,   -999.0,9,   -999.0,9,   2250,-999.0000,-999.000,-999.000,9,  2.8837,-999.000
      06MT28_1,   A08,   221,  2,   2862,    308,2,19940418,1010,-11.3323, -12.4170, 3430,   2499.8,   2.8324,  34.9078,2,-999.0000,9,    225.9,2,    35.07,2,    20.85,2, -999.000,9, -999.000,9, -999.000,9, -999.000,9, -999.000,9,-999.0000,9,  -999.00,9,-999.000,   -999.0,9,   -999.0,9,   2500,-999.0000,-999.000,-999.000,9,  2.6357,-999.000
      06MT28_1,   A08,   221,  2,   2861,    307,2,19940418,1010,-11.3323, -12.4170, 3430,   2750.5,   2.6994,  34.9005,2,-999.0000,9,    223.6,2,    38.53,2,    21.21,2, -999.000,9, -999.000,9, -999.000,9, -999.000,9, -999.000,9,-999.0000,9,  -999.00,9,-999.000,   -999.0,9,   -999.0,9,   2750,-999.0000,-999.000,-999.000,9,  2.4806,-999.000
      06MT28_1,   A08,   221,  2,   2860,    306,2,19940418,1010,-11.3323, -12.4170, 3430,   3000.9,   2.5696,  34.8931,2,-999.0000,9,    222.2,2,    41.71,2,    21.47,2, -999.000,9, -999.000,9, -999.000,9, -999.000,9, -999.000,9,-999.0000,9,  -999.00,9,-999.000,   -999.0,9,   -999.0,9,   3000,-999.0000,-999.000,-999.000,9,  2.3282,-999.000
      06MT28_1,   A08,   221,  2,   2859,    305,2,19940418,1010,-11.3323, -12.4170, 3430,   3297.7,   2.4982,  34.8909,2,  34.8901,2,    221.3,2,    43.83,2,    21.63,2, -999.000,9, -999.000,9, -999.000,9, -999.000,9, -999.000,9,-999.0000,9,  -999.00,9,-999.000,   -999.0,9,   -999.0,9,   3296,-999.0000,-999.000,-999.000,9,  2.2276,-999.000
      06MT28_1,   A08,   221,  2,   2858,    304,2,19940418,1010,-11.3323, -12.4170, 3430,   3366.8,   2.4900,  34.8910,2,-999.0000,9,    220.7,2,    43.87,2,    21.56,2, -999.000,9, -999.000,9, -999.000,9, -999.000,9, -999.000,9,-999.0000,9,  -999.00,9,-999.000,   -999.0,9,   -999.0,9,   3364,-999.0000,-999.000,-999.000,9,  2.2122,-999.000
      06MT28_1,   A08,   221,  2,   2856,    301,2,19940418,1010,-11.3323, -12.4170, 3430,   3397.3,   2.4894,  34.8903,2,  34.8915,2,    220.1,2,    43.90,2,    21.60,2, -999.000,9, -999.000,9, -999.000,9, -999.000,9, -999.000,9,-999.0000,9,  -999.00,9,-999.000,   -999.0,9,   -999.0,9,   3395,-999.0000,-999.000,-999.000,9,  2.2084,-999.000
      06MT28_1,   A08,   221,  2,   2857,    302,2,19940418,1010,-11.3323, -12.4170, 3430,   3397.3,   2.4894,  34.8903,2,  34.8914,2,    220.4,2,    43.95,2,    21.60,2, -999.000,9, -999.000,9, -999.000,9, -999.000,9, -999.000,9,-999.0000,9,  -999.00,9,-999.000,   -999.0,9,   -999.0,9,   3395,-999.0000,-999.000,-999.000,9,  2.2084,-999.000
      06MT28_1,   A08,   221,  2,   2855,    303,2,19940418,1010,-11.3323, -12.4170, 3430,   3397.5,   2.4891,  34.8906,2,-999.0000,9,    220.4,2,    44.00,2,    21.60,2, -999.000,9, -999.000,9, -999.000,9, -999.000,9, -999.000,9,-999.0000,9,  -999.00,9,-999.000,   -999.0,9,   -999.0,9,   3395,-999.0000,-999.000,-999.000,9,  2.2081,-999.000
      06MT28_1,   A08,   222,  1,   2854,    214,2,19940418,1520,-11.3338, -12.0002, 3600,     10.9,  26.7503,  36.7153,2,  36.7125,2,    192.6,2,     0.77,2,     0.00,2,    1.584,2,    0.930,2,    0.091,4,    1.860,2,    0.718,2,   1.6680,2,    -0.63,2,   6.571,   2050.7,2,    482.9,6,     10,  0.0060,   0.240,   0.021,2, 26.7478,   0.020
      06MT28_1,   A08,   222,  1,   2853,    213,2,19940418,1520,-11.3338, -12.0002, 3600,     41.4,  26.7181,  36.7116,2,-999.0000,9,    192.3,2,     0.77,2,     0.00,2,    1.579,2,    0.928,2,    0.086,4,    1.850,2, -999.000,9,   1.6710,2,    -1.30,2,   6.571,   2050.2,2,    479.9,2,     40,  0.0060,   0.240,   0.021,2, 26.7086,-999.000
      06MT28_1,   A08,   222,  1,   2852,    212,2,19940418,1520,-11.3338, -12.0002, 3600,     60.7,  25.8728,  36.7208,2,-999.0000,9,    192.5,2,     0.67,2,     0.00,2,    1.769,2,    1.013,2,    0.082,4,    1.636,2,    0.744,2,   1.6760,2,    -1.76,2,   6.669,   2062.0,2,    499.4,2,     60,  0.0060,   0.240,   0.021,2, 25.8592,   0.021
      06MT28_1,   A08,   222,  1,   2851,    211,2,19940418,1520,-11.3338, -12.0002, 3600,     80.5,  22.7909,  36.6300,2,-999.0000,9,    205.0,2,     0.67,2,     0.00,2,    1.997,2,    1.100,2,    0.117,2,    1.372,2, -999.000,9,   1.6860,2,    -1.26,2,   6.822,   2073.6,2,    538.8,2,     80,  0.0060,   0.240,   0.022,2, 22.7745,-999.000
      06MT28_1,   A08,   222,  1,   2850,    210,2,19940418,1520,-11.3338, -12.0002, 3600,    120.6,  18.4046,  36.0374,2,-999.0000,9,    215.0,2,     2.40,2,     8.05,2,    1.916,2,    1.053,2,    0.097,2,    0.826,2,    0.578,2,   1.7090,3,    -1.20,3,   7.038,   2123.4,2,    793.8,3,    120,  0.0150,   0.240,   0.058,3, 18.3834,   0.048
      06MT28_1,   A08,   222,  1,   2849,    209,2,19940418,1520,-11.3338, -12.0002, 3600,    179.9,  13.9168,  35.3678,2,-999.0000,9,    129.4,2,     5.46,2,    16.86,2,    1.638,2,    0.872,2,    0.040,2,    0.412,2, -999.000,9,   1.7460,2,     0.67,2,   7.272,   2155.4,2,   1165.1,2,    179,  0.0060,   0.240,   0.023,2, 13.8908,-999.000
      06MT28_1,   A08,   222,  1,   2847,    208,2,19940418,1520,-11.3338, -12.0002, 3600,    250.1,  11.3156,  35.0824,2,-999.0000,9,     76.3,2,    10.53,2,    27.14,2,    0.625,2,    0.344,2,    0.019,2,    0.971,4,    0.293,2,-999.0000,9,  -999.00,9,-999.000,   2206.5,2,   1716.4,6,    250,-999.0000,-999.000,-999.000,9, 11.2841,   0.010
      06MT28_1,   A08,   222,  1,   2887,    207,2,19940418,1520,-11.3338, -12.0002, 3600,   1009.1,   4.0629,  34.5735,2,-999.0000,9,   -999.0,9,  -999.00,9,  -999.00,9, -999.000,9, -999.000,9, -999.000,9, -999.000,9, -999.000,9,-999.0000,9,  -999.00,9,-999.000,   -999.0,9,   -999.0,9,   1010,-999.0000,-999.000,-999.000,9,  3.9859,-999.000