BOTTLE,20220817CCHSIOAMB
EXPOCODE,SECT_ID,STNNBR,CASTNO,SAMPNO,BTLNBR,BTLNBR_FLAG_W,DATE,TIME,LATITUDE,LONGITUDE,DEPTH,CTDPRS,CTDTMP,CTDSAL,CTDSAL_FLAG_W,SALNTY,SALNTY_FLAG_W,OXYGEN,OXYGEN_FLAG_W,SILCAT,SILCAT_FLAG_W,NO2+NO3,NO2+NO3_FLAG_W,CFC-11,CFC-11_FLAG_W,CFC-12,CFC-12_FLAG_W,CFC113,CFC113_FLAG_W,CCL4,CCL4_FLAG_W,TRITUM,TRITUM_FLAG_W,HELIUM,HELIUM_FLAG_W,DELHE3,DELHE3_FLAG_W,NEON,TCARBN,TCARBN_FLAG_W,PCO2,PCO2_FLAG_W,CTDRAW,HELIER,DELHER,NEONER,NEON_FLAG_W,THETA,TRITER
,,,,,,,,,,,,DBAR,ITS-90,PSS-78,,PSS-78,,UMOL/KG,,UMOL/KG,,UMOL/KG,,PMOL/KG,,PMOL/KG,,PMOL/KG,,PMOL/KG,,TU,,NMOL/KG,,PERCNT,,NMOL/KG,UMOL/KG,,UATM,,,NMOL/KG,PERCNT,NMOL/KG,,ITS-90,TU
      06MT28_1,   A08,   251,  2,   1016,    324,2,19940427,2157,-11.3335,   2.0017, 5572,     16.6,  26.1428,  36.6899,2,-999.0000,9,    196.6,2,     0.96,2,     0.10,2, -999.000,9, -999.000,9, -999.000,9, -999.000,9, -999.000,9,-999.0000,9,  -999.00,9,-999.000,   -999.0,9,   -999.0,9,     13,-999.0000,-999.000,-999.000,9, 26.1390,-999.000
      06MT28_1,   A08,   251,  2,   1058,    323,2,19940427,2157,-11.3335,   2.0017, 5572,    995.7,   4.1774,  34.5739,2,-999.0000,9,    139.5,2,    32.79,2,    33.18,2, -999.000,9, -999.000,9, -999.000,9, -999.000,9, -999.000,9,-999.0000,9,  -999.00,9,-999.000,   -999.0,9,   -999.0,9,   1000,-999.0000,-999.000,-999.000,9,  4.1007,-999.000
      06MT28_1,   A08,   251,  2,   1054,    322,2,19940427,2157,-11.3335,   2.0017, 5572,   1198.2,   3.9840,  34.7087,2,-999.0000,9,    158.5,2,    31.05,2,    29.81,2, -999.000,9, -999.000,9, -999.000,9, -999.000,9, -999.000,9,-999.0000,9,  -999.00,9,-999.000,   -999.0,9,   -999.0,9,   1202,-999.0000,-999.000,-999.000,9,  3.8913,-999.000
      06MT28_1,   A08,   251,  2,   1053,    321,2,19940427,2157,-11.3335,   2.0017, 5572,   1397.5,   3.8728,  34.8324,2,-999.0000,9,    183.3,2,    27.12,2,    25.88,2, -999.000,9, -999.000,9, -999.000,9, -999.000,9, -999.000,9,-999.0000,9,  -999.00,9,-999.000,   -999.0,9,   -999.0,9,   1401,-999.0000,-999.000,-999.000,9,  3.7636,-999.000
      06MT28_1,   A08,   251,  2,   1052,    320,2,19940427,2157,-11.3335,   2.0017, 5572,   1597.2,   3.7692,  34.9035,2,-999.0000,9,    205.5,2,    23.95,2,    22.91,2, -999.000,9, -999.000,9, -999.000,9, -999.000,9, -999.000,9,-999.0000,9,  -999.00,9,-999.000,   -999.0,9,   -999.0,9,   1600,-999.0000,-999.000,-999.000,9,  3.6430,-999.000
      06MT28_1,   A08,   251,  2,   1051,    319,2,19940427,2157,-11.3335,   2.0017, 5572,   1798.1,   3.5744,  34.9224,2,-999.0000,9,    211.5,2,    24.98,2,    21.94,2, -999.000,9, -999.000,9, -999.000,9, -999.000,9, -999.000,9,-999.0000,9,  -999.00,9,-999.000,   -999.0,9,   -999.0,9,   1801,-999.0000,-999.000,-999.000,9,  3.4323,-999.000
      06MT28_1,   A08,   251,  2,   1050,    318,2,19940427,2157,-11.3335,   2.0017, 5572,   1998.4,   3.3570,  34.9297,2,-999.0000,9,    215.8,2,    27.42,2,    21.54,2, -999.000,9, -999.000,9, -999.000,9, -999.000,9, -999.000,9,-999.0000,9,  -999.00,9,-999.000,   -999.0,9,   -999.0,9,   2000,-999.0000,-999.000,-999.000,9,  3.1993,-999.000
      06MT28_1,   A08,   251,  2,   1049,    317,2,19940427,2157,-11.3335,   2.0017, 5572,   2249.7,   3.1511,  34.9272,2,-999.0000,9,    217.5,2,    30.42,2,    21.42,2, -999.000,9, -999.000,9, -999.000,9, -999.000,9, -999.000,9,-999.0000,9,  -999.00,9,-999.000,   -999.0,9,   -999.0,9,   2251,-999.0000,-999.000,-999.000,9,  2.9729,-999.000
      06MT28_1,   A08,   251,  2,   1048,    316,2,19940427,2157,-11.3335,   2.0017, 5572,   2500.4,   2.9401,  34.9195,2,-999.0000,9,    218.4,2,    34.27,2,    21.59,2, -999.000,9, -999.000,9, -999.000,9, -999.000,9, -999.000,9,-999.0000,9,  -999.00,9,-999.000,   -999.0,9,   -999.0,9,   2500,-999.0000,-999.000,-999.000,9,  2.7413,-999.000
      06MT28_1,   A08,   251,  2,   1047,    315,2,19940427,2157,-11.3335,   2.0017, 5572,   2751.5,   2.7625,  34.9102,2,-999.0000,9,    220.3,2,    37.73,2,    21.47,2, -999.000,9, -999.000,9, -999.000,9, -999.000,9, -999.000,9,-999.0000,9,  -999.00,9,-999.000,   -999.0,9,   -999.0,9,   2751,-999.0000,-999.000,-999.000,9,  2.5423,-999.000
      06MT28_1,   A08,   251,  2,   1046,    314,2,19940427,2157,-11.3335,   2.0017, 5572,   3001.2,   2.6149,  34.9029,2,-999.0000,9,    218.5,2,    41.28,2,    22.20,2, -999.000,9, -999.000,9, -999.000,9, -999.000,9, -999.000,9,-999.0000,9,  -999.00,9,-999.000,   -999.0,9,   -999.0,9,   2999,-999.0000,-999.000,-999.000,9,  2.3725,-999.000
      06MT28_1,   A08,   251,  2,   1045,    313,2,19940427,2157,-11.3335,   2.0017, 5572,   3252.4,   2.4861,  34.8973,2,-999.0000,9,    216.6,2,    44.92,2,    21.99,2, -999.000,9, -999.000,9, -999.000,9, -999.000,9, -999.000,9,-999.0000,9,  -999.00,9,-999.000,   -999.0,9,   -999.0,9,   3250,-999.0000,-999.000,-999.000,9,  2.2205,-999.000
      06MT28_1,   A08,   251,  2,   1044,    312,2,19940427,2157,-11.3335,   2.0017, 5572,   3502.2,   2.3997,  34.8927,2,-999.0000,9,    215.1,2,    47.51,2,    22.15,2, -999.000,9, -999.000,9, -999.000,9, -999.000,9, -999.000,9,-999.0000,9,  -999.00,9,-999.000,   -999.0,9,   -999.0,9,   3499,-999.0000,-999.000,-999.000,9,  2.1096,-999.000
      06MT28_1,   A08,   251,  2,   1042,    311,2,19940427,2157,-11.3335,   2.0017, 5572,   3753.5,   2.3608,  34.8910,2,-999.0000,9,    216.2,2,    48.21,2,    22.04,2, -999.000,9, -999.000,9, -999.000,9, -999.000,9, -999.000,9,-999.0000,9,  -999.00,9,-999.000,   -999.0,9,   -999.0,9,   3749,-999.0000,-999.000,-999.000,9,  2.0443,-999.000
      06MT28_1,   A08,   251,  2,   1097,    310,2,19940427,2157,-11.3335,   2.0017, 5572,   4001.6,   2.3570,  34.8895,2,-999.0000,9,    216.3,2,    48.45,2,    22.01,2, -999.000,9, -999.000,9, -999.000,9, -999.000,9, -999.000,9,-999.0000,9,  -999.00,9,-999.000,   -999.0,9,   -999.0,9,   3997,-999.0000,-999.000,-999.000,9,  2.0127,-999.000
      06MT28_1,   A08,   251,  2,   1093,    309,2,19940427,2157,-11.3335,   2.0017, 5572,   4256.0,   2.3606,  34.8880,2,-999.0000,9,    216.2,2,    48.77,2,    21.90,2, -999.000,9, -999.000,9, -999.000,9, -999.000,9, -999.000,9,-999.0000,9,  -999.00,9,-999.000,   -999.0,9,   -999.0,9,   4251,-999.0000,-999.000,-999.000,9,  1.9867,-999.000
      06MT28_1,   A08,   251,  2,   1092,    308,2,19940427,2157,-11.3335,   2.0017, 5572,   4505.2,   2.3709,  34.8856,2,-999.0000,9,    216.6,2,    49.19,2,    21.87,2,    0.003,2,    0.001,2,    0.038,4,    0.013,2, -999.000,9,-999.0000,9,  -999.00,9,-999.000,   -999.0,9,   -999.0,9,   4499,-999.0000,-999.000,-999.000,9,  1.9671,-999.000
      06MT28_1,   A08,   251,  2,   1091,    307,2,19940427,2157,-11.3335,   2.0017, 5572,   4756.1,   2.3858,  34.8838,2,-999.0000,9,    188.5,2,    49.05,2,    21.76,2,    0.002,2,    0.000,2,    0.044,4,    0.014,2, -999.000,9,-999.0000,9,  -999.00,9,-999.000,   -999.0,9,   -999.0,9,   4750,-999.0000,-999.000,-999.000,9,  1.9509,-999.000
      06MT28_1,   A08,   251,  2,   1090,    306,2,19940427,2157,-11.3335,   2.0017, 5572,   5007.5,   2.4023,  34.8823,2,-999.0000,9,    217.8,2,    49.09,2,    21.74,2,    0.003,2,    0.002,2,    0.010,4,    0.017,2, -999.000,9,-999.0000,9,  -999.00,9,-999.000,   -999.0,9,   -999.0,9,   5001,-999.0000,-999.000,-999.000,9,  1.9353,-999.000
      06MT28_1,   A08,   251,  2,   1089,    305,2,19940427,2157,-11.3335,   2.0017, 5572,   5256.3,   2.4194,  34.8795,2,-999.0000,9,    219.1,2,    48.86,2,    21.62,2,    0.008,2,    0.001,2,   -0.003,2,    0.022,2, -999.000,9,-999.0000,9,  -999.00,9,-999.000,   -999.0,9,   -999.0,9,   5250,-999.0000,-999.000,-999.000,9,  1.9199,-999.000
      06MT28_1,   A08,   251,  2,   1088,    304,2,19940427,2157,-11.3335,   2.0017, 5572,   5555.4,   2.4450,  34.8789,2,-999.0000,9,    219.3,2,    48.71,2,    21.59,2,    0.012,2,    0.003,2,    0.047,4,    0.040,2, -999.000,9,-999.0000,9,  -999.00,9,-999.000,   -999.0,9,   -999.0,9,   5549,-999.0000,-999.000,-999.000,9,  1.9052,-999.000
      06MT28_1,   A08,   251,  2,   1087,    303,2,19940427,2157,-11.3335,   2.0017, 5572,   5636.1,   2.4558,  34.8778,2,-999.0000,9,    219.2,2,    48.78,2,    21.63,2,    0.009,2,    0.001,2,    0.060,4,    0.034,2, -999.000,9,-999.0000,9,  -999.00,9,-999.000,   -999.0,9,   -999.0,9,   5629,-999.0000,-999.000,-999.000,9,  1.9049,-999.000
      06MT28_1,   A08,   251,  2,   1086,    301,2,19940427,2157,-11.3335,   2.0017, 5572,   5673.3,   2.4596,  34.8772,2,-999.0000,9,    218.9,2,    48.68,2,    21.63,2,    0.009,2,    0.002,2,    0.001,2,    0.036,2, -999.000,9,-999.0000,9,  -999.00,9,-999.000,   -999.0,9,   -999.0,9,   5667,-999.0000,-999.000,-999.000,9,  1.9035,-999.000
      06MT28_1,   A08,   251,  2,   1085,    302,2,19940427,2157,-11.3335,   2.0017, 5572,   5673.4,   2.4596,  34.8783,2,-999.0000,9,    218.4,2,    48.82,2,    21.63,2, -999.000,9, -999.000,9, -999.000,9, -999.000,9, -999.000,9,-999.0000,9,  -999.00,9,-999.000,   -999.0,9,   -999.0,9,   5667,-999.0000,-999.000,-999.000,9,  1.9035,-999.000
      06MT28_1,   A08,   252,  1,   1084,    221,2,19940428,0515,-11.3332,   2.6658, 5570,     10.9,  26.0547,  36.5690,2,  36.5676,2,    198.5,2,     0.10,2,     0.00,2,    1.559,2,    0.927,2,    0.125,2,    1.726,2,    0.823,2,   1.6700,2,    -1.58,2,   6.601,   2044.4,2,    433.9,6,     10,  0.0060,   0.240,   0.021,2, 26.0523,   0.215
      06MT28_1,   A08,   252,  1,   1081,    220,2,19940428,0515,-11.3332,   2.6658, 5570,     31.9,  26.0544,  36.5706,2,-999.0000,9,    198.1,2,     0.10,2,     0.00,2,    1.560,2,    0.927,2,    0.126,2,    1.694,2, -999.000,9,-999.0000,9,  -999.00,9,-999.000,   2044.7,2,    434.7,2,     31,-999.0000,-999.000,-999.000,9, 26.0473,-999.000
      06MT28_1,   A08,   252,  1,   1135,    219,2,19940428,0515,-11.3332,   2.6658, 5570,     50.5,  26.0208,  36.5636,2,-999.0000,9,    197.6,2,     0.00,2,     0.00,2,    1.556,2,    0.939,2,    0.125,2,    1.694,2, -999.000,9,   1.6810,2,    -1.84,2,   6.643,   2044.9,2,    438.0,2,     49,  0.0060,   0.240,   0.021,2, 26.0095,-999.000
      06MT28_1,   A08,   252,  1,   1134,    218,2,19940428,0515,-11.3332,   2.6658, 5570,     70.2,  18.6586,  35.9529,2,-999.0000,9,    166.5,2,     2.88,2,     7.77,2,    1.578,2,    0.884,2,    0.089,2,    0.596,2, -999.000,9,   1.7030,2,     0.30,2,   6.982,   2121.9,2,    739.9,2,     69,  0.0060,   0.250,   0.023,2, 18.6462,-999.000
      06MT28_1,   A08,   252,  1,   1133,    217,2,19940428,0515,-11.3332,   2.6658, 5570,    101.4,  14.1213,  35.4237,2,-999.0000,9,     62.6,2,     7.47,2,    24.43,2,    0.964,2,    0.534,2,    0.048,2,    0.202,2,    0.486,2,   1.7220,2,     0.84,2,   7.183,   2203.0,2,   1325.4,2,    101,  0.0060,   0.240,   0.023,2, 14.1065,   0.016
      06MT28_1,   A08,   252,  1,   1131,    216,2,19940428,0515,-11.3332,   2.6658, 5570,    150.6,  12.6205,  35.2365,2,-999.0000,9,     65.1,2,     9.29,2,    26.15,2,    0.725,2,    0.406,2,    0.037,2,    0.159,2, -999.000,9,   1.7430,2,     1.83,2,   7.326,   2206.1,2,   1454.8,2,    150,  0.0070,   0.250,   0.024,2, 12.6001,-999.000
      06MT28_1,   A08,   252,  1,   1130,    215,2,19940428,0515,-11.3332,   2.6658, 5570,    202.3,  11.7449,  35.1341,2,-999.0000,9,     60.1,2,    10.34,2,    28.15,2,    0.541,2,    0.308,2,    0.026,2,    0.142,2,    0.299,2,   1.7440,6,     1.52,6,   7.325,   2214.4,2,   1586.7,2,    202,  0.0070,   0.250,   0.024,6, 11.7188,   0.039
      06MT28_1,   A08,   252,  1,   1129,    214,2,19940428,0515,-11.3332,   2.6658, 5570,    298.8,  10.3883,  34.9775,2,  34.9795,2,     37.8,2,    13.30,2,    32.82,2,    0.232,2,    0.136,2,    0.023,2,    0.090,2, -999.000,9,   1.7780,2,     0.46,2,   7.480,   2238.1,2,   -999.0,9,    298,  0.0070,   0.250,   0.025,2, 10.3526,-999.000
      06MT28_1,   A08,   252,  1,   1128,    213,2,19940428,0515,-11.3332,   2.6658, 5570,    401.0,   8.9120,  34.8206,2,-999.0000,9,     30.8,2,    17.02,2,    37.30,2,    0.059,2,    0.040,2,    0.024,2,    0.054,2,    0.091,2,   1.7700,2,     1.03,2,   7.549,   2257.5,2,   -999.0,9,    400,  0.0070,   0.240,   0.024,2,  8.8683,   0.234
      06MT28_1,   A08,   252,  1,   1127,    212,2,19940428,0515,-11.3332,   2.6658, 5570,    499.6,   7.5640,  34.6907,2,-999.0000,9,     41.3,2,    20.07,2,    39.09,2,    0.019,2,    0.014,2,    0.009,2,    0.049,2, -999.000,9,-999.0000,9,  -999.00,9,-999.000,   2259.9,2,   1820.6,2,    499,-999.0000,-999.000,-999.000,9,  7.5143,-999.000
      06MT28_1,   A08,   252,  1,   1126,    211,2,19940428,0515,-11.3332,   2.6658, 5570,    599.0,   6.3914,  34.5932,2,  34.5921,2,     50.1,2,    23.50,2,    39.93,2,    0.007,2,    0.004,2,    0.010,2,    0.036,2,    0.031,2,   1.7680,2,     0.60,2,   7.678,   2259.6,2,   1824.3,2,    599,  0.0060,   0.240,   0.024,2,  6.3368,   0.052
      06MT28_1,   A08,   252,  1,   1125,    210,2,19940428,0515,-11.3332,   2.6658, 5570,    699.2,   5.4809,  34.5298,2,-999.0000,9,     84.0,2,    26.64,2,    38.19,2,    0.005,2,    0.002,2,    0.031,4,    0.040,2, -999.000,9,   1.7800,2,     1.26,2,   7.738,   2244.1,2,   1587.4,2,    699,  0.0070,   0.250,   0.026,2,  5.4216,-999.000
      06MT28_1,   A08,   252,  1,   1124,    209,2,19940428,0515,-11.3332,   2.6658, 5570,    850.5,   4.5712,  34.5115,2,-999.0000,9,    119.1,2,    31.34,2,    35.59,2,    0.001,2,    0.000,2,   -0.004,2,    0.030,2,    0.011,2,   1.7850,2,     2.36,2,   7.769,   2232.8,2,   1378.8,2,    851,  0.0070,   0.240,   0.025,2,  4.5041,   0.006
      06MT28_1,   A08,   252,  1,   1122,    208,2,19940428,0515,-11.3332,   2.6658, 5570,   1000.4,   4.1795,  34.5736,2,  34.5736,2,    136.3,2,    33.22,2,    33.37,2,    0.000,2,    0.000,2,   -0.005,2,    0.014,2, -999.000,9,-999.0000,9,  -999.00,9,-999.000,   2228.1,2,   1277.2,2,   1001,-999.0000,-999.000,-999.000,9,  4.1023,-999.000
      06MT28_1,   A08,   252,  1,   1121,    207,2,19940428,0515,-11.3332,   2.6658, 5570,   1000.5,   4.1797,  34.5734,2,-999.0000,9,   -999.0,9,  -999.00,9,  -999.00,9, -999.000,9, -999.000,9, -999.000,9, -999.000,9, -999.000,9,-999.0000,9,  -999.00,9,-999.000,   -999.0,9,   -999.0,9,   1001,-999.0000,-999.000,-999.000,9,  4.1025,-999.000