BOTTLE,20220817CCHSIOAMB
EXPOCODE,SECT_ID,STNNBR,CASTNO,SAMPNO,BTLNBR,BTLNBR_FLAG_W,DATE,TIME,LATITUDE,LONGITUDE,DEPTH,CTDPRS,CTDTMP,CTDSAL,CTDSAL_FLAG_W,SALNTY,SALNTY_FLAG_W,OXYGEN,OXYGEN_FLAG_W,SILCAT,SILCAT_FLAG_W,NO2+NO3,NO2+NO3_FLAG_W,CFC-11,CFC-11_FLAG_W,CFC-12,CFC-12_FLAG_W,CFC113,CFC113_FLAG_W,CCL4,CCL4_FLAG_W,TRITUM,TRITUM_FLAG_W,HELIUM,HELIUM_FLAG_W,DELHE3,DELHE3_FLAG_W,NEON,TCARBN,TCARBN_FLAG_W,PCO2,PCO2_FLAG_W,CTDRAW,HELIER,DELHER,NEONER,NEON_FLAG_W,THETA,TRITER
,,,,,,,,,,,,DBAR,ITS-90,PSS-78,,PSS-78,,UMOL/KG,,UMOL/KG,,UMOL/KG,,PMOL/KG,,PMOL/KG,,PMOL/KG,,PMOL/KG,,TU,,NMOL/KG,,PERCNT,,NMOL/KG,UMOL/KG,,UATM,,,NMOL/KG,PERCNT,NMOL/KG,,ITS-90,TU
      06MT28_1,   A08,   197,  2,   1614,    324,2,19940411,0023,-11.3332, -24.0002, 4930,     15.3,  27.7206,  36.9645,2,-999.0000,9,    193.4,2,     0.96,2,     0.00,2, -999.000,9, -999.000,9, -999.000,9, -999.000,9, -999.000,9,-999.0000,9,  -999.00,9,-999.000,   -999.0,9,   -999.0,9,     11,-999.0000,-999.000,-999.000,9, 27.7170,-999.000
      06MT28_1,   A08,   197,  2,   1602,    323,2,19940411,0023,-11.3332, -24.0002, 4930,    697.2,   4.9999,  34.4572,2,-999.0000,9,    148.1,2,    26.64,2,    32.46,2, -999.000,9, -999.000,9, -999.000,9, -999.000,9, -999.000,9,-999.0000,9,  -999.00,9,-999.000,   -999.0,9,   -999.0,9,    700,-999.0000,-999.000,-999.000,9,  4.9434,-999.000
      06MT28_1,   A08,   197,  2,   1601,    322,2,19940411,0023,-11.3332, -24.0002, 4930,    846.2,   4.2439,  34.4552,2,-999.0000,9,    160.7,2,    32.15,2,    32.15,2, -999.000,9, -999.000,9, -999.000,9, -999.000,9, -999.000,9,-999.0000,9,  -999.00,9,-999.000,   -999.0,9,   -999.0,9,    850,-999.0000,-999.000,-999.000,9,  4.1794,-999.000
      06MT28_1,   A08,   197,  2,   1600,    321,2,19940411,0023,-11.3332, -24.0002, 4930,    996.7,   3.9560,  34.5437,2,  34.5467,2,    162.4,2,    34.22,2,    31.27,2, -999.000,9, -999.000,9, -999.000,9, -999.000,9, -999.000,9,-999.0000,9,  -999.00,9,-999.000,   -999.0,9,   -999.0,9,   1000,-999.0000,-999.000,-999.000,9,  3.8809,-999.000
      06MT28_1,   A08,   197,  2,   1588,    320,2,19940411,0023,-11.3332, -24.0002, 4930,   1197.2,   4.0057,  34.7241,2,-999.0000,9,    175.9,2,    29.81,2,    27.90,2, -999.000,9, -999.000,9, -999.000,9, -999.000,9, -999.000,9,-999.0000,9,  -999.00,9,-999.000,   -999.0,9,   -999.0,9,   1200,-999.0000,-999.000,-999.000,9,  3.9129,-999.000
      06MT28_1,   A08,   197,  2,   1587,    319,2,19940411,0023,-11.3332, -24.0002, 4930,   1396.8,   4.0005,  34.8600,2,-999.0000,9,    197.6,2,    24.07,2,    24.07,2, -999.000,9, -999.000,9, -999.000,9, -999.000,9, -999.000,9,-999.0000,9,  -999.00,9,-999.000,   -999.0,9,   -999.0,9,   1400,-999.0000,-999.000,-999.000,9,  3.8899,-999.000
      06MT28_1,   A08,   197,  2,   1653,    318,2,19940411,0023,-11.3332, -24.0002, 4930,   1598.0,   3.8252,  34.9267,2,-999.0000,9,    219.5,2,    21.39,2,    21.10,2, -999.000,9, -999.000,9, -999.000,9, -999.000,9, -999.000,9,-999.0000,9,  -999.00,9,-999.000,   -999.0,9,   -999.0,9,   1600,-999.0000,-999.000,-999.000,9,  3.6982,-999.000
      06MT28_1,   A08,   197,  2,   1652,    317,2,19940411,0023,-11.3332, -24.0002, 4930,   1799.6,   3.5728,  34.9529,2,-999.0000,9,    234.7,2,    20.51,2,    19.47,2, -999.000,9, -999.000,9, -999.000,9, -999.000,9, -999.000,9,-999.0000,9,  -999.00,9,-999.000,   -999.0,9,   -999.0,9,   1801,-999.0000,-999.000,-999.000,9,  3.4305,-999.000
      06MT28_1,   A08,   197,  2,   1651,    316,2,19940411,0023,-11.3332, -24.0002, 4930,   1999.8,   3.3420,  34.9519,2,  34.9543,2,    239.7,2,    21.82,2,    18.88,2, -999.000,9, -999.000,9, -999.000,9, -999.000,9, -999.000,9,-999.0000,9,  -999.00,9,-999.000,   -999.0,9,   -999.0,9,   2001,-999.0000,-999.000,-999.000,9,  3.1843,-999.000
      06MT28_1,   A08,   197,  2,   1650,    315,2,19940411,0023,-11.3332, -24.0002, 4930,   2248.8,   3.0718,  34.9374,2,-999.0000,9,    239.1,2,    26.06,2,    19.24,2, -999.000,9, -999.000,9, -999.000,9, -999.000,9, -999.000,9,-999.0000,9,  -999.00,9,-999.000,   -999.0,9,   -999.0,9,   2249,-999.0000,-999.000,-999.000,9,  2.8949,-999.000
      06MT28_1,   A08,   197,  2,   1649,    314,2,19940411,0023,-11.3332, -24.0002, 4930,   2501.2,   2.8868,  34.9252,2,-999.0000,9,    237.3,2,    30.01,2,    19.69,2, -999.000,9, -999.000,9, -999.000,9, -999.000,9, -999.000,9,-999.0000,9,  -999.00,9,-999.000,   -999.0,9,   -999.0,9,   2501,-999.0000,-999.000,-999.000,9,  2.6889,-999.000
      06MT28_1,   A08,   197,  2,   1648,    313,2,19940411,0023,-11.3332, -24.0002, 4930,   2751.3,   2.7679,  34.9166,2,-999.0000,9,    235.5,2,    32.82,2,    19.95,2, -999.000,9, -999.000,9, -999.000,9, -999.000,9, -999.000,9,-999.0000,9,  -999.00,9,-999.000,   -999.0,9,   -999.0,9,   2750,-999.0000,-999.000,-999.000,9,  2.5476,-999.000
      06MT28_1,   A08,   197,  2,   1647,    312,2,19940411,0023,-11.3332, -24.0002, 4930,   3002.5,   2.6844,  34.9129,2,  34.9148,2,    235.8,2,    33.82,2,    19.93,2, -999.000,9, -999.000,9, -999.000,9, -999.000,9, -999.000,9,-999.0000,9,  -999.00,9,-999.000,   -999.0,9,   -999.0,9,   3000,-999.0000,-999.000,-999.000,9,  2.4403,-999.000
      06MT28_1,   A08,   197,  2,   1646,    311,2,19940411,0023,-11.3332, -24.0002, 4930,   3252.9,   2.6080,  34.9136,2,-999.0000,9,    239.8,2,    32.93,2,    19.44,2, -999.000,9, -999.000,9, -999.000,9, -999.000,9, -999.000,9,-999.0000,9,  -999.00,9,-999.000,   -999.0,9,   -999.0,9,   3250,-999.0000,-999.000,-999.000,9,  2.3394,-999.000
      06MT28_1,   A08,   197,  2,   1645,    310,2,19940411,0023,-11.3332, -24.0002, 4930,   3505.2,   2.4912,  34.9066,2,-999.0000,9,    241.6,2,    33.75,2,    19.32,2, -999.000,9, -999.000,9, -999.000,9, -999.000,9, -999.000,9,-999.0000,9,  -999.00,9,-999.000,   -999.0,9,   -999.0,9,   3501,-999.0000,-999.000,-999.000,9,  2.1984,-999.000
      06MT28_1,   A08,   197,  2,   1644,    309,2,19940411,0023,-11.3332, -24.0002, 4930,   3755.4,   2.2708,  34.8851,2,-999.0000,9,    238.5,2,    41.06,2,    20.25,2, -999.000,9, -999.000,9, -999.000,9, -999.000,9, -999.000,9,-999.0000,9,  -999.00,9,-999.000,   -999.0,9,   -999.0,9,   3751,-999.0000,-999.000,-999.000,9,  1.9565,-999.000
      06MT28_1,   A08,   197,  2,   1643,    308,2,19940411,0023,-11.3332, -24.0002, 4930,   4005.3,   1.9059,  34.8438,2,  34.8440,2,    231.0,2,    56.82,2,    22.39,2, -999.000,9, -999.000,9, -999.000,9, -999.000,9, -999.000,9,-999.0000,9,  -999.00,9,-999.000,   -999.0,9,   -999.0,9,   4000,-999.0000,-999.000,-999.000,9,  1.5740,-999.000
      06MT28_1,   A08,   197,  2,   1641,    307,2,19940411,0023,-11.3332, -24.0002, 4930,   4257.0,   1.3680,  34.7867,2,-999.0000,9,    220.8,2,    78.74,2,    25.46,2, -999.000,9, -999.000,9, -999.000,9, -999.000,9, -999.000,9,-999.0000,9,  -999.00,9,-999.000,   -999.0,9,   -999.0,9,   4252,-999.0000,-999.000,-999.000,9,  1.0239,-999.000
      06MT28_1,   A08,   197,  2,   1642,    306,2,19940411,0023,-11.3332, -24.0002, 4930,   4504.3,   0.9937,  34.7466,2,-999.0000,9,    214.3,2,    92.83,2,    27.31,2, -999.000,9, -999.000,9, -999.000,9, -999.000,9, -999.000,9,-999.0000,9,  -999.00,9,-999.000,   -999.0,9,   -999.0,9,   4499,-999.0000,-999.000,-999.000,9,  0.6336,-999.000
      06MT28_1,   A08,   197,  2,   1640,    305,2,19940411,0023,-11.3332, -24.0002, 4930,   4756.4,   0.8399,  34.7288,2,-999.0000,9,    211.4,2,    98.92,2,    28.22,2, -999.000,9, -999.000,9, -999.000,9, -999.000,9, -999.000,9,-999.0000,9,  -999.00,9,-999.000,   -999.0,9,   -999.0,9,   4750,-999.0000,-999.000,-999.000,9,  0.4561,-999.000
      06MT28_1,   A08,   197,  2,   1639,    304,2,19940411,0023,-11.3332, -24.0002, 4930,   4925.9,   0.7904,  34.7225,2,-999.0000,9,    210.1,2,   101.76,2,    28.53,2, -999.000,9, -999.000,9, -999.000,9, -999.000,9, -999.000,9,-999.0000,9,  -999.00,9,-999.000,   -999.0,9,   -999.0,9,   4920,-999.0000,-999.000,-999.000,9,  0.3887,-999.000
      06MT28_1,   A08,   197,  2,   1638,    303,2,19940411,0023,-11.3332, -24.0002, 4930,   4997.0,   0.7910,  34.7209,2,-999.0000,9,    209.9,2,   101.87,2,    28.52,2, -999.000,9, -999.000,9, -999.000,9, -999.000,9, -999.000,9,-999.0000,9,  -999.00,9,-999.000,   -999.0,9,   -999.0,9,   4991,-999.0000,-999.000,-999.000,9,  0.3809,-999.000
      06MT28_1,   A08,   197,  2,   1637,    301,2,19940411,0023,-11.3332, -24.0002, 4930,   5026.0,   0.7888,  34.7205,2,  34.7224,2,    209.5,2,   102.00,2,    28.66,2, -999.000,9, -999.000,9, -999.000,9, -999.000,9, -999.000,9,-999.0000,9,  -999.00,9,-999.000,   -999.0,9,   -999.0,9,   5020,-999.0000,-999.000,-999.000,9,  0.3754,-999.000
      06MT28_1,   A08,   197,  2,   1635,    302,2,19940411,0023,-11.3332, -24.0002, 4930,   5026.4,   0.7887,  34.7204,2,  34.7236,2,    209.4,2,   102.42,2,    28.52,2, -999.000,9, -999.000,9, -999.000,9, -999.000,9, -999.000,9,-999.0000,9,  -999.00,9,-999.000,   -999.0,9,   -999.0,9,   5020,-999.0000,-999.000,-999.000,9,  0.3752,-999.000
      06MT28_1,   A08,   198,  1,   1634,    223,2,19940411,0746,-11.3335, -23.3337, 5448,     10.4,  27.5937,  36.9943,2,  36.9979,2,    195.0,2,  -999.00,9,  -999.00,9,    1.526,2,    0.888,2,    0.100,4,    1.745,2, -999.000,9,   1.6690,2,    -1.20,2,   6.518,   2059.7,2,    463.7,6,      9,  0.0060,   0.240,   0.021,2, 27.5913,-999.000
      06MT28_1,   A08,   198,  1,   1632,    221,2,19940411,0746,-11.3335, -23.3337, 5448,     31.3,  27.5975,  36.9947,2,-999.0000,9,    194.2,2,     0.77,2,     0.00,4,    1.513,2,    0.884,2,    0.085,4,    1.053,4, -999.000,9,-999.0000,9,  -999.00,9,-999.000,   2059.7,2,    466.2,2,     30,-999.0000,-999.000,-999.000,9, 27.5902,-999.000
      06MT28_1,   A08,   198,  1,   1631,    220,2,19940411,0746,-11.3335, -23.3337, 5448,     50.4,  27.3684,  37.0147,2,-999.0000,9,    197.1,2,     0.77,2,     0.00,4,    1.539,2,    0.906,2,    0.110,4,    1.657,2,    0.825,2,   1.7020,2,    -1.59,2,   6.667,   2062.6,2,    472.1,2,     49,  0.0060,   0.240,   0.021,3, 27.3567,   0.071
      06MT28_1,   A08,   198,  1,   1630,    219,2,19940411,0746,-11.3335, -23.3337, 5448,     71.5,  25.3953,  36.9233,2,-999.0000,9,    210.4,2,     0.77,2,     0.00,4,    1.729,2,    0.995,2,    0.166,2,    1.436,2, -999.000,9,-999.0000,9,  -999.00,9,-999.000,   2064.5,2,    482.0,2,     70,-999.0000,-999.000,-999.000,9, 25.3795,-999.000
      06MT28_1,   A08,   198,  1,   1622,    218,2,19940411,0746,-11.3335, -23.3337, 5448,    101.4,  23.3950,  36.7430,2,-999.0000,9,    213.0,2,     0.77,2,     0.00,4,    1.835,2,    1.035,2,    0.154,2,    1.187,2,    0.794,2,   1.6940,2,    -0.93,2,   6.802,   2073.6,2,    514.5,2,    100,  0.0060,   0.240,   0.022,2, 23.3739,   0.025
      06MT28_1,   A08,   198,  1,   1683,    217,2,19940411,0746,-11.3335, -23.3337, 5448,    150.7,  17.7926,  35.9423,2,-999.0000,9,    174.6,2,     2.20,2,     6.71,2,    1.999,2,    1.085,2,    0.108,2,    0.755,2, -999.000,9,-999.0000,9,  -999.00,9,-999.000,   2115.4,2,    470.3,2,    150,-999.0000,-999.000,-999.000,9, 17.7667,-999.000
      06MT28_1,   A08,   198,  1,   1684,    216,2,19940411,0746,-11.3335, -23.3337, 5448,    201.2,  13.8603,  35.3616,2,-999.0000,9,    133.7,2,     5.55,2,    16.38,2,    1.573,2,    0.834,2,    0.033,2,    0.393,2, -999.000,9,   1.7320,2,     0.96,2,   7.229,   2153.1,2,    684.5,2,    200,  0.0060,   0.240,   0.023,2, 13.8313,-999.000
      06MT28_1,   A08,   198,  1,   1682,    215,2,19940411,0746,-11.3335, -23.3337, 5448,    299.4,  10.3028,  34.9480,2,-999.0000,9,     79.2,2,    11.87,2,    28.42,2,    0.448,2,    0.247,2,    0.011,2,    0.191,2, -999.000,9,   1.7540,2,     1.67,2,   7.427,   2211.0,2,   1137.3,2,    299,  0.0070,   0.250,   0.025,2, 10.2672,-999.000
      06MT28_1,   A08,   198,  1,   1681,    214,2,19940411,0746,-11.3335, -23.3337, 5448,    400.4,   8.1327,  34.7153,2,-999.0000,9,    107.9,2,    15.30,2,    29.84,2,    0.240,2,    0.139,2,    0.016,2,    0.294,2,    0.108,2,   1.8070,2,     1.47,2,   7.838,   2206.4,2,   1133.3,2,    400,  0.0070,   0.240,   0.025,2,  8.0914,   0.011
      06MT28_1,   A08,   198,  1,   1680,    213,2,19940411,0746,-11.3335, -23.3337, 5448,    500.9,   6.7030,  34.5754,2,-999.0000,9,   -999.0,9,    19.02,2,    31.44,2,    0.178,2,    0.097,2,    0.008,2,    0.374,2, -999.000,9,   1.7800,2,     1.38,2,   7.692,   2208.6,2,   1171.5,2,    500,  0.0070,   0.250,   0.025,2,  6.6565,-999.000
      06MT28_1,   A08,   198,  1,   1679,    212,2,19940411,0746,-11.3335, -23.3337, 5448,    600.1,   5.6087,  34.4878,2,-999.0000,9,    139.4,2,    22.93,2,    32.00,2,    0.132,2,    0.077,2,    0.005,2,    0.407,2,    0.042,2,   1.7840,2,     1.95,2,   7.740,   2209.5,2,   1171.8,2,    600,  0.0070,   0.240,   0.025,2,  5.5577,   0.005
      06MT28_1,   A08,   198,  1,   1678,    211,2,19940411,0746,-11.3335, -23.3337, 5448,    700.2,   5.0343,  34.4561,2,-999.0000,9,    148.2,2,    25.97,2,    32.27,2,    0.097,2,    0.056,2,    0.007,2,    0.374,2, -999.000,9,   1.7910,2,     1.35,2,   7.797,   2209.9,2,   1152.0,2,    700,  0.0070,   0.250,   0.026,2,  4.9773,-999.000
      06MT28_1,   A08,   198,  1,   1677,    210,2,19940411,0746,-11.3335, -23.3337, 5448,    849.6,   4.3522,  34.4535,2,  34.4558,2,    156.7,2,    30.91,2,    32.25,2,    0.043,2,    0.025,2,    0.004,2,    0.260,2,    0.018,2,   1.8080,2,     2.43,2,   7.837,   2212.6,2,   1155.4,2,    850,  0.0070,   0.240,   0.025,2,  4.2867,   0.003
      06MT28_1,   A08,   198,  1,   1675,    209,2,19940411,0746,-11.3335, -23.3337, 5448,   1003.5,   3.9751,  34.5400,2,  34.5440,2,    160.4,2,    33.80,2,    31.36,2,    0.007,2,    0.003,2,    0.002,2,    0.086,2, -999.000,9,   1.8020,2,     2.94,2,   7.839,   2216.4,2,   1141.7,2,   1004,  0.0070,   0.250,   0.026,2,  3.8993,-999.000
      06MT28_1,   A08,   198,  1,   1674,    208,2,19940411,0746,-11.3335, -23.3337, 5448,   1003.6,   3.9737,  34.5403,2,  34.5446,2,    142.1,2,    33.75,2,    31.32,2,    0.008,2,    0.004,2,    0.001,2,    0.083,2, -999.000,9,-999.0000,9,  -999.00,9,-999.000,   2217.7,2,   1140.2,6,   1005,-999.0000,-999.000,-999.000,9,  3.8979,-999.000
      06MT28_1,   A08,   198,  1,   1672,    207,2,19940411,0746,-11.3335, -23.3337, 5448,   1003.7,   3.9736,  34.5391,2,  34.5420,2,   -999.0,9,  -999.00,9,  -999.00,9, -999.000,9, -999.000,9, -999.000,9, -999.000,9, -999.000,9,-999.0000,9,  -999.00,9,-999.000,   -999.0,9,   -999.0,9,   1005,-999.0000,-999.000,-999.000,9,  3.8978,-999.000