BOTTLE,20220817CCHSIOAMB
EXPOCODE,SECT_ID,STNNBR,CASTNO,SAMPNO,BTLNBR,BTLNBR_FLAG_W,DATE,TIME,LATITUDE,LONGITUDE,DEPTH,CTDPRS,CTDTMP,CTDSAL,CTDSAL_FLAG_W,SALNTY,SALNTY_FLAG_W,OXYGEN,OXYGEN_FLAG_W,SILCAT,SILCAT_FLAG_W,NO2+NO3,NO2+NO3_FLAG_W,CFC-11,CFC-11_FLAG_W,CFC-12,CFC-12_FLAG_W,CFC113,CFC113_FLAG_W,CCL4,CCL4_FLAG_W,TRITUM,TRITUM_FLAG_W,HELIUM,HELIUM_FLAG_W,DELHE3,DELHE3_FLAG_W,NEON,TCARBN,TCARBN_FLAG_W,PCO2,PCO2_FLAG_W,CTDRAW,HELIER,DELHER,NEONER,NEON_FLAG_W,THETA,TRITER
,,,,,,,,,,,,DBAR,ITS-90,PSS-78,,PSS-78,,UMOL/KG,,UMOL/KG,,UMOL/KG,,PMOL/KG,,PMOL/KG,,PMOL/KG,,PMOL/KG,,TU,,NMOL/KG,,PERCNT,,NMOL/KG,UMOL/KG,,UATM,,,NMOL/KG,PERCNT,NMOL/KG,,ITS-90,TU
      06MT28_1,   A08,   202,  2,   1881,    324,2,19940412,2220,-11.3325, -20.9998, 4867,     15.4,  27.6538,  36.8145,2,  36.8141,2,    194.1,2,     0.96,2,     0.00,2,    1.500,2,    0.900,2,    0.095,4,    1.714,2,    0.896,2,-999.0000,9,  -999.00,9,-999.000,   2052.3,2,   -999.0,9,     12,-999.0000,-999.000,-999.000,9, 27.6502,   0.022
      06MT28_1,   A08,   202,  2,   1870,    323,2,19940412,2220,-11.3325, -20.9998, 4867,    696.7,   5.2727,  34.4798,2,-999.0000,9,    137.1,2,    25.59,2,    33.32,2, -999.000,9, -999.000,9, -999.000,9, -999.000,9, -999.000,9,-999.0000,9,  -999.00,9,-999.000,   2215.2,2,   1201.8,2,    700,-999.0000,-999.000,-999.000,9,  5.2148,-999.000
      06MT28_1,   A08,   202,  2,   1868,    322,2,19940412,2220,-11.3325, -20.9998, 4867,    847.3,   4.4320,  34.4581,2,-999.0000,9,    153.8,2,    31.01,2,    33.01,2,    0.043,2,    0.028,2,    0.002,2,    0.249,2,    0.024,2,   1.7960,6,     2.01,6,   7.785,   2215.1,2,   1146.0,2,    851,  0.0070,   0.250,   0.026,6,  4.3661,   0.003
      06MT28_1,   A08,   202,  2,   1867,    321,2,19940412,2220,-11.3325, -20.9998, 4867,    995.5,   3.9318,  34.5145,2,  34.5151,2,    165.9,2,    34.89,2,    31.65,2,    0.023,2,    0.014,2,    0.006,2,    0.170,2,    0.021,2,   1.7810,2,     2.94,2,   7.772,   2214.4,2,   1111.0,2,    999,  0.0070,   0.250,   0.026,2,  3.8571,   0.007
      06MT28_1,   A08,   202,  2,   1866,    320,2,19940412,2220,-11.3325, -20.9998, 4867,   1197.8,   3.9708,  34.6959,2,-999.0000,9,    172.5,2,    30.95,2,    28.86,2,    0.003,2,    0.000,2,    0.006,2,    0.029,2,    0.015,2,   1.8000,3,     2.53,3,   7.831,   2208.9,2,   1046.7,2,   1201,  0.0160,   0.240,   0.064,3,  3.8783,   0.007
      06MT28_1,   A08,   202,  2,   1865,    319,2,19940412,2220,-11.3325, -20.9998, 4867,   1397.1,   4.1070,  34.8601,2,-999.0000,9,    196.1,2,    23.69,2,    24.45,2,    0.010,2,    0.005,2,    0.004,2,    0.080,2,    0.031,2,   1.8040,2,     2.24,2,   7.829,   2189.9,2,    907.0,2,   1400,  0.0070,   0.250,   0.026,2,  3.9953,   0.008
      06MT28_1,   A08,   202,  2,   1864,    318,2,19940412,2220,-11.3325, -20.9998, 4867,   1598.8,   3.7759,  34.9078,2,-999.0000,9,    214.2,2,    23.29,2,    22.05,2,    0.009,2,    0.007,2,    0.003,2,    0.087,2,    0.022,2,   1.8160,2,     3.07,2,   7.889,   2179.2,2,    846.9,2,   1601,  0.0070,   0.240,   0.025,2,  3.6495,   0.015
      06MT28_1,   A08,   202,  2,   1862,    317,2,19940412,2220,-11.3325, -20.9998, 4867,   1797.0,   3.5895,  34.9452,2,-999.0000,9,    230.9,2,    21.46,2,    19.94,2,    0.024,2,    0.014,2,    0.006,2,    0.126,2,   -0.023,2,   1.8140,2,     2.29,2,   7.883,   2170.6,2,    771.1,2,   1799,  0.0070,   0.250,   0.026,2,  3.4472,   0.004
      06MT28_1,   A08,   202,  2,   1915,    316,2,19940412,2220,-11.3325, -20.9998, 4867,   1998.2,   3.3201,  34.9399,2,  34.9402,2,    235.0,2,    24.10,2,    19.83,2,    0.006,2,    0.005,2,    0.008,2,    0.090,2,   -0.022,2,   1.8280,2,     2.94,2,   7.943,   2171.5,2,    773.2,2,   1999,  0.0070,   0.240,   0.025,2,  3.1630,   0.003
      06MT28_1,   A08,   202,  2,   1914,    315,2,19940412,2220,-11.3325, -20.9998, 4867,   2252.7,   3.0271,  34.9234,2,-999.0000,9,    233.8,2,    29.47,2,    20.19,2,    0.003,2,    0.002,2,    0.007,2,    0.047,2,    0.009,2,   1.8080,6,     3.57,6,   7.861,   2176.6,2,    782.9,2,   2253,  0.0070,   0.250,   0.026,6,  2.8506,   0.003
      06MT28_1,   A08,   202,  2,   1916,    314,2,19940412,2220,-11.3325, -20.9998, 4867,   2498.6,   2.8847,  34.9194,2,-999.0000,9,    234.0,2,    31.53,2,    20.17,2,    0.003,2,    0.002,2,    0.004,2,    0.041,2,   -0.024,2,   1.8200,2,     3.86,2,   7.929,   2179.4,2,    781.4,2,   2498,  0.0070,   0.240,   0.025,2,  2.6871,   0.004
      06MT28_1,   A08,   202,  2,   1913,    313,2,19940412,2220,-11.3325, -20.9998, 4867,   2752.4,   2.7988,  34.9209,2,-999.0000,9,    236.3,2,    31.78,2,    19.86,2,    0.004,2,    0.002,2,    0.007,2,    0.051,2, -999.000,9,   1.8520,2,     3.28,2,   8.024,   2178.9,2,    771.8,2,   2751,  0.0070,   0.250,   0.026,2,  2.5777,-999.000
      06MT28_1,   A08,   202,  2,   1912,    312,2,19940412,2220,-11.3325, -20.9998, 4867,   3004.2,   2.7120,  34.9169,2,  34.9163,2,    236.8,2,    32.69,2,    19.84,2,    0.003,2,    0.001,2,    0.006,2,    0.049,2,   -0.041,2,   1.8390,2,     3.34,2,   7.983,   2179.2,2,    771.1,2,   3002,  0.0070,   0.240,   0.025,2,  2.4671,   0.007
      06MT28_1,   A08,   202,  2,   1911,    311,2,19940412,2220,-11.3325, -20.9998, 4867,   3255.8,   2.6487,  34.9164,2,-999.0000,9,    238.9,2,    32.37,2,    19.53,2,    0.004,2,    0.013,4,    0.003,2,    0.063,2,   -0.011,2,   1.8330,2,     2.66,2,   8.003,   2176.3,2,    769.6,6,   3253,  0.0070,   0.250,   0.026,2,  2.3789,   0.001
      06MT28_1,   A08,   202,  2,   1910,    310,2,19940412,2220,-11.3325, -20.9998, 4867,   3503.6,   2.5377,  34.9090,2,-999.0000,9,    239.9,2,    33.94,2,    19.51,2,    0.005,2,    0.005,2,    0.009,2,    0.077,2, -999.000,9,   1.8310,2,     3.11,2,   7.983,   2177.6,2,    765.2,2,   3500,  0.0070,   0.240,   0.025,2,  2.2439,-999.000
      06MT28_1,   A08,   202,  2,   1909,    309,2,19940412,2220,-11.3325, -20.9998, 4867,   3756.3,   2.3239,  34.8870,2,-999.0000,9,    236.4,2,    41.81,2,    20.53,2,    0.005,2,    0.001,2,    0.003,2,    0.052,2, -999.000,9,   1.8430,2,     2.64,2,   8.014,   2185.8,2,    776.2,2,   3752,  0.0070,   0.250,   0.026,2,  2.0081,-999.000
      06MT28_1,   A08,   202,  2,   1908,    308,2,19940412,2220,-11.3325, -20.9998, 4867,   4005.0,   1.8627,  34.8367,2,  34.8355,2,    228.2,2,    60.01,2,    23.14,2,    0.002,2,    0.002,2,    0.005,2,    0.032,2, -999.000,9,   1.8440,2,     3.99,2,   8.009,   2206.3,2,    847.1,2,   4000,  0.0070,   0.240,   0.025,2,  1.5321,-999.000
      06MT28_1,   A08,   202,  2,   1907,    307,2,19940412,2220,-11.3325, -20.9998, 4867,   4255.7,   1.2414,  34.7736,2,-999.0000,9,    218.5,2,    84.10,2,    26.31,2,    0.005,2,    0.002,2,    0.006,2,    0.041,2, -999.000,9,   0.0000,4,  -999.00,5,   0.000,   2231.5,2,    935.1,2,   4250,  0.0000,   0.250,   0.000,4,  0.9013,-999.000
      06MT28_1,   A08,   202,  2,   1906,    306,2,19940412,2220,-11.3325, -20.9998, 4867,   4506.2,   0.9973,  34.7473,2,-999.0000,9,    214.5,2,    93.77,2,    27.50,2,    0.004,2,    0.003,2,    0.006,2,    0.046,2, -999.000,9,   1.8720,2,     5.53,2,   8.128,   2240.2,2,    975.8,2,   4501,  0.0070,   0.240,   0.026,2,  0.6369,-999.000
      06MT28_1,   A08,   202,  2,   1905,    305,2,19940412,2220,-11.3325, -20.9998, 4867,   4756.1,   0.8597,  34.7317,2,-999.0000,9,    213.7,2,    99.30,2,    28.32,2,    0.004,2,    0.002,2,    0.005,2,    0.055,2,   -0.025,2,   1.8620,2,     6.42,2,   8.130,   2245.2,2,    996.5,2,   4750,  0.0070,   0.250,   0.027,2,  0.4753,   0.003
      06MT28_1,   A08,   202,  2,   1904,    304,2,19940412,2220,-11.3325, -20.9998, 4867,   4836.7,   0.8479,  34.7293,2,-999.0000,9,    211.5,2,   100.20,2,    28.36,2,    0.008,2,    0.004,2,    0.009,2,    0.057,2, -999.000,9,-999.0000,9,  -999.00,9,-999.000,   2247.4,2,   1004.9,2,   4831,-999.0000,-999.000,-999.000,9,  0.4546,-999.000
      06MT28_1,   A08,   202,  2,   1901,    303,2,19940412,2220,-11.3325, -20.9998, 4867,   4907.1,   0.8536,  34.7287,2,-999.0000,9,    210.9,2,   100.08,2,    28.25,2,    0.008,2,    0.003,2,    0.004,2,    0.061,2, -999.000,9,   1.8800,2,     6.01,2,   8.223,   2246.0,2,   1002.0,2,   4901,  0.0070,   0.250,   0.027,2,  0.4519,-999.000
      06MT28_1,   A08,   202,  2,   1900,    302,2,19940412,2220,-11.3325, -20.9998, 4867,   4942.2,   0.8581,  34.7285,2,  34.7257,2,    210.4,2,   100.11,2,    28.34,2,    0.007,2,    0.006,2,    0.005,2,    0.058,2,   -0.021,2,   1.8650,6,     6.16,6,   8.147,   2246.1,2,   1005.5,2,   4936,  0.0070,   0.250,   0.027,6,  0.4521,   0.003
      06MT28_1,   A08,   202,  2,   1899,    301,2,19940412,2220,-11.3325, -20.9998, 4867,   4942.5,   0.8576,  34.7289,2,  34.7289,2,    210.7,2,    99.97,2,    28.30,2,    0.020,2,    0.013,2,    0.008,2,    0.059,2, -999.000,9,-999.0000,9,  -999.00,9,-999.000,   2247.1,2,   -999.0,9,   4936,-999.0000,-999.000,-999.000,9,  0.4516,-999.000
      06MT28_1,   A08,   203,  1,   1898,    220,2,19940413,0406,-11.3327, -20.4992, 5017,      9.7,  27.4361,  36.8267,2,-999.0000,9,    194.9,2,  -999.00,9,  -999.00,9, -999.000,9, -999.000,9, -999.000,9, -999.000,9, -999.000,9,-999.0000,9,  -999.00,9,-999.000,   -999.0,9,   -999.0,9,      9,-999.0000,-999.000,-999.000,9, 27.4338,-999.000
      06MT28_1,   A08,   203,  1,   1896,    219,2,19940413,0406,-11.3327, -20.4992, 5017,     41.0,  27.4177,  36.8264,2,  36.8274,2,    195.5,2,  -999.00,9,  -999.00,9, -999.000,9, -999.000,9, -999.000,9, -999.000,9, -999.000,9,-999.0000,9,  -999.00,9,-999.000,   -999.0,9,   -999.0,9,     40,-999.0000,-999.000,-999.000,9, 27.4082,-999.000
      06MT28_1,   A08,   203,  1,   1895,    218,2,19940413,0406,-11.3327, -20.4992, 5017,     61.3,  25.3626,  36.7960,2,-999.0000,9,    214.2,2,  -999.00,9,  -999.00,9, -999.000,9, -999.000,9, -999.000,9, -999.000,9, -999.000,9,-999.0000,9,  -999.00,9,-999.000,   -999.0,9,   -999.0,9,     60,-999.0000,-999.000,-999.000,9, 25.3491,-999.000
      06MT28_1,   A08,   203,  1,   1894,    217,2,19940413,0406,-11.3327, -20.4992, 5017,     79.1,  24.4851,  36.7917,2,-999.0000,9,    215.5,2,  -999.00,9,  -999.00,9, -999.000,9, -999.000,9, -999.000,9, -999.000,9, -999.000,9,-999.0000,9,  -999.00,9,-999.000,   -999.0,9,   -999.0,9,     78,-999.0000,-999.000,-999.000,9, 24.4681,-999.000
      06MT28_1,   A08,   203,  1,   1893,    216,2,19940413,0406,-11.3327, -20.4992, 5017,    120.6,  21.2144,  36.4343,2,-999.0000,9,    195.2,2,  -999.00,9,  -999.00,9, -999.000,9, -999.000,9, -999.000,9, -999.000,9, -999.000,9,-999.0000,9,  -999.00,9,-999.000,   -999.0,9,   -999.0,9,    120,-999.0000,-999.000,-999.000,9, 21.1910,-999.000
      06MT28_1,   A08,   203,  1,   1892,    215,2,19940413,0406,-11.3327, -20.4992, 5017,    180.4,  14.5347,  35.4842,2,-999.0000,9,    122.9,2,  -999.00,9,  -999.00,9, -999.000,9, -999.000,9, -999.000,9, -999.000,9, -999.000,9,-999.0000,9,  -999.00,9,-999.000,   -999.0,9,   -999.0,9,    180,-999.0000,-999.000,-999.000,9, 14.5079,-999.000
      06MT28_1,   A08,   203,  1,   1890,    214,2,19940413,0406,-11.3327, -20.4992, 5017,    251.9,  11.3568,  35.0746,2,-999.0000,9,     80.8,2,  -999.00,9,  -999.00,9, -999.000,9, -999.000,9, -999.000,9, -999.000,9, -999.000,9,-999.0000,9,  -999.00,9,-999.000,   -999.0,9,   -999.0,9,    251,-999.0000,-999.000,-999.000,9, 11.3250,-999.000
      06MT28_1,   A08,   203,  1,   1945,    213,2,19940413,0406,-11.3327, -20.4992, 5017,    350.6,   9.0686,  34.8244,2,-999.0000,9,     89.4,2,  -999.00,9,  -999.00,9, -999.000,9, -999.000,9, -999.000,9, -999.000,9, -999.000,9,-999.0000,9,  -999.00,9,-999.000,   -999.0,9,   -999.0,9,    350,-999.0000,-999.000,-999.000,9,  9.0301,-999.000
      06MT28_1,   A08,   203,  1,   1944,    212,2,19940413,0406,-11.3327, -20.4992, 5017,    449.6,   7.3260,  34.6329,2,-999.0000,9,    116.0,2,  -999.00,9,  -999.00,9, -999.000,9, -999.000,9, -999.000,9, -999.000,9, -999.000,9,-999.0000,9,  -999.00,9,-999.000,   -999.0,9,   -999.0,9,    449,-999.0000,-999.000,-999.000,9,  7.2823,-999.000
      06MT28_1,   A08,   203,  1,   1946,    211,2,19940413,0406,-11.3327, -20.4992, 5017,    551.3,   6.3752,  34.5476,2,-999.0000,9,    127.7,2,  -999.00,9,  -999.00,9, -999.000,9, -999.000,9, -999.000,9, -999.000,9, -999.000,9,-999.0000,9,  -999.00,9,-999.000,   -999.0,9,   -999.0,9,    551,-999.0000,-999.000,-999.000,9,  6.3253,-999.000
      06MT28_1,   A08,   203,  1,   1943,    210,2,19940413,0406,-11.3327, -20.4992, 5017,    651.7,   5.6759,  34.5027,2,-999.0000,9,    130.4,2,  -999.00,9,  -999.00,9, -999.000,9, -999.000,9, -999.000,9, -999.000,9, -999.000,9,-999.0000,9,  -999.00,9,-999.000,   -999.0,9,   -999.0,9,    652,-999.0000,-999.000,-999.000,9,  5.6199,-999.000
      06MT28_1,   A08,   203,  1,   1942,    209,2,19940413,0406,-11.3327, -20.4992, 5017,    750.3,   5.2255,  34.4555,2,-999.0000,9,    144.5,2,  -999.00,9,  -999.00,9, -999.000,9, -999.000,9, -999.000,9, -999.000,9, -999.000,9,-999.0000,9,  -999.00,9,-999.000,   -999.0,9,   -999.0,9,    751,-999.0000,-999.000,-999.000,9,  5.1631,-999.000
      06MT28_1,   A08,   203,  1,   1939,    208,2,19940413,0406,-11.3327, -20.4992, 5017,    849.0,   4.4146,  34.4536,2,-999.0000,9,    156.0,2,    30.44,2,    32.25,2, -999.000,9, -999.000,9, -999.000,9, -999.000,9, -999.000,9,-999.0000,9,  -999.00,9,-999.000,   -999.0,9,   -999.0,9,    850,-999.0000,-999.000,-999.000,9,  4.3487,-999.000
      06MT28_1,   A08,   203,  1,   1937,    207,2,19940413,0406,-11.3327, -20.4992, 5017,   1002.0,   4.0288,  34.5239,2,-999.0000,9,    158.8,2,  -999.00,9,  -999.00,9, -999.000,9, -999.000,9, -999.000,9, -999.000,9, -999.000,9,-999.0000,9,  -999.00,9,-999.000,   -999.0,9,   -999.0,9,   1003,-999.0000,-999.000,-999.000,9,  3.9528,-999.000