BOTTLE,20220817CCHSIOAMB
EXPOCODE,SECT_ID,STNNBR,CASTNO,SAMPNO,BTLNBR,BTLNBR_FLAG_W,DATE,TIME,LATITUDE,LONGITUDE,DEPTH,CTDPRS,CTDTMP,CTDSAL,CTDSAL_FLAG_W,SALNTY,SALNTY_FLAG_W,OXYGEN,OXYGEN_FLAG_W,SILCAT,SILCAT_FLAG_W,NO2+NO3,NO2+NO3_FLAG_W,CFC-11,CFC-11_FLAG_W,CFC-12,CFC-12_FLAG_W,CFC113,CFC113_FLAG_W,CCL4,CCL4_FLAG_W,TRITUM,TRITUM_FLAG_W,HELIUM,HELIUM_FLAG_W,DELHE3,DELHE3_FLAG_W,NEON,TCARBN,TCARBN_FLAG_W,PCO2,PCO2_FLAG_W,CTDRAW,HELIER,DELHER,NEONER,NEON_FLAG_W,THETA,TRITER
,,,,,,,,,,,,DBAR,ITS-90,PSS-78,,PSS-78,,UMOL/KG,,UMOL/KG,,UMOL/KG,,PMOL/KG,,PMOL/KG,,PMOL/KG,,PMOL/KG,,TU,,NMOL/KG,,PERCNT,,NMOL/KG,UMOL/KG,,UATM,,,NMOL/KG,PERCNT,NMOL/KG,,ITS-90,TU
      06MT28_1,   A08,   183,  1,    750,    222,2,19940405,1248,-11.3327, -32.9982, 4600,     11.5,  28.8148,  36.9561,2,-999.0000,9,   -999.0,9,  -999.00,9,  -999.00,9, -999.000,9, -999.000,9, -999.000,9, -999.000,9, -999.000,9,-999.0000,9,  -999.00,9,-999.000,   -999.0,9,   -999.0,9,     10,-999.0000,-999.000,-999.000,9, 28.8120,-999.000
      06MT28_1,   A08,   183,  1,    733,    221,2,19940405,1248,-11.3327, -32.9982, 4600,     40.7,  28.7733,  36.9600,2,  36.9641,2,    190.5,2,     0.67,2,     0.00,4, -999.000,9, -999.000,9, -999.000,9, -999.000,9, -999.000,9,-999.0000,9,  -999.00,9,-999.000,   -999.0,9,   -999.0,9,     39,-999.0000,-999.000,-999.000,9, 28.7635,-999.000
      06MT28_1,   A08,   183,  1,    808,    220,2,19940405,1248,-11.3327, -32.9982, 4600,     61.0,  28.6751,  37.2610,2,-999.0000,9,    195.9,2,     0.67,2,     0.00,4, -999.000,9, -999.000,9, -999.000,9, -999.000,9, -999.000,9,-999.0000,9,  -999.00,9,-999.000,   -999.0,9,   -999.0,9,     60,-999.0000,-999.000,-999.000,9, 28.6604,-999.000
      06MT28_1,   A08,   183,  1,    809,    219,2,19940405,1248,-11.3327, -32.9982, 4600,     81.6,  26.3423,  37.0172,2,-999.0000,9,    208.1,2,     0.67,2,     0.00,4, -999.000,9, -999.000,9, -999.000,9, -999.000,9, -999.000,9,-999.0000,9,  -999.00,9,-999.000,   -999.0,9,   -999.0,9,     81,-999.0000,-999.000,-999.000,9, 26.3238,-999.000
      06MT28_1,   A08,   183,  1,    807,    218,2,19940405,1248,-11.3327, -32.9982, 4600,    120.7,  23.9414,  36.9433,2,-999.0000,9,    201.2,2,     0.77,2,     0.00,4, -999.000,9, -999.000,9, -999.000,9, -999.000,9, -999.000,9,-999.0000,9,  -999.00,9,-999.000,   -999.0,9,   -999.0,9,    120,-999.0000,-999.000,-999.000,9, 23.9158,-999.000
      06MT28_1,   A08,   183,  1,    806,    217,2,19940405,1248,-11.3327, -32.9982, 4600,    179.9,  18.9967,  36.1266,2,-999.0000,9,    178.9,2,     1.82,2,     3.83,2, -999.000,9, -999.000,9, -999.000,9, -999.000,9, -999.000,9,-999.0000,9,  -999.00,9,-999.000,   -999.0,9,   -999.0,9,    179,-999.0000,-999.000,-999.000,9, 18.9644,-999.000
      06MT28_1,   A08,   183,  1,    805,    216,2,19940405,1248,-11.3327, -32.9982, 4600,    250.0,  13.3882,  35.2894,2,-999.0000,9,    135.2,2,     6.03,2,    16.85,2, -999.000,9, -999.000,9, -999.000,9, -999.000,9, -999.000,9,-999.0000,9,  -999.00,9,-999.000,   -999.0,9,   -999.0,9,    249,-999.0000,-999.000,-999.000,9, 13.3529,-999.000
      06MT28_1,   A08,   183,  1,    804,    215,2,19940405,1248,-11.3327, -32.9982, 4600,    350.4,   9.9129,  34.8926,2,-999.0000,9,    103.9,2,    12.05,2,    27.07,2, -999.000,9, -999.000,9, -999.000,9, -999.000,9, -999.000,9,-999.0000,9,  -999.00,9,-999.000,   -999.0,9,   -999.0,9,    350,-999.0000,-999.000,-999.000,9,  9.8722,-999.000
      06MT28_1,   A08,   183,  1,    803,    214,2,19940405,1248,-11.3327, -32.9982, 4600,    450.7,   7.3012,  34.6106,2,-999.0000,9,    130.6,2,    17.30,2,    30.02,2, -999.000,9, -999.000,9, -999.000,9, -999.000,9, -999.000,9,-999.0000,9,  -999.00,9,-999.000,   -999.0,9,   -999.0,9,    450,-999.0000,-999.000,-999.000,9,  7.2575,-999.000
      06MT28_1,   A08,   183,  1,    802,    213,2,19940405,1248,-11.3327, -32.9982, 4600,    550.4,   6.1450,  34.5087,2,-999.0000,9,    146.7,2,    20.54,2,    30.96,2, -999.000,9, -999.000,9, -999.000,9, -999.000,9, -999.000,9,-999.0000,9,  -999.00,9,-999.000,   -999.0,9,   -999.0,9,    550,-999.0000,-999.000,-999.000,9,  6.0961,-999.000
      06MT28_1,   A08,   183,  1,    801,    212,2,19940405,1248,-11.3327, -32.9982, 4600,    649.2,   5.3441,  34.4555,2,-999.0000,9,    156.8,2,    24.16,2,    31.71,2, -999.000,9, -999.000,9, -999.000,9, -999.000,9, -999.000,9,-999.0000,9,  -999.00,9,-999.000,   -999.0,9,   -999.0,9,    649,-999.0000,-999.000,-999.000,9,  5.2900,-999.000
      06MT28_1,   A08,   183,  1,    800,    211,2,19940405,1248,-11.3327, -32.9982, 4600,    748.5,   4.7211,  34.4363,2,-999.0000,9,    160.5,2,    28.25,2,    32.46,2, -999.000,9, -999.000,9, -999.000,9, -999.000,9, -999.000,9,-999.0000,9,  -999.00,9,-999.000,   -999.0,9,   -999.0,9,    749,-999.0000,-999.000,-999.000,9,  4.6618,-999.000
      06MT28_1,   A08,   183,  1,    798,    210,2,19940405,1248,-11.3327, -32.9982, 4600,    823.6,   4.3045,  34.4294,2,-999.0000,9,    164.5,2,    31.35,2,    32.39,2, -999.000,9, -999.000,9, -999.000,9, -999.000,9, -999.000,9,-999.0000,9,  -999.00,9,-999.000,   -999.0,9,   -999.0,9,    824,-999.0000,-999.000,-999.000,9,  4.2415,-999.000
      06MT28_1,   A08,   183,  1,    795,    209,2,19940405,1248,-11.3327, -32.9982, 4600,    998.7,   3.9456,  34.5173,2,  34.5213,2,   -999.0,9,  -999.00,9,  -999.00,9, -999.000,9, -999.000,9, -999.000,9, -999.000,9, -999.000,9,-999.0000,9,  -999.00,9,-999.000,   -999.0,9,   -999.0,9,   1000,-999.0000,-999.000,-999.000,9,  3.8704,-999.000
      06MT28_1,   A08,   183,  2,    747,    324,2,19940405,1443,-11.3330, -32.9980, 4600,     15.8,  28.8436,  36.9658,2,  36.9617,2,    192.3,2,     0.87,2,     0.10,2, -999.000,9, -999.000,9, -999.000,9, -999.000,9, -999.000,9,-999.0000,9,  -999.00,9,-999.000,   -999.0,9,   -999.0,9,     13,-999.0000,-999.000,-999.000,9, 28.8398,-999.000
      06MT28_1,   A08,   183,  2,    799,    323,2,19940405,1443,-11.3330, -32.9980, 4600,    747.1,   4.6685,  34.4335,2,-999.0000,9,    160.9,2,    28.45,2,    31.88,2, -999.000,9, -999.000,9, -999.000,9, -999.000,9, -999.000,9,-999.0000,9,  -999.00,9,-999.000,   -999.0,9,   -999.0,9,    751,-999.0000,-999.000,-999.000,9,  4.6097,-999.000
      06MT28_1,   A08,   183,  2,    797,    322,2,19940405,1443,-11.3330, -32.9980, 4600,    822.1,   4.3195,  34.4357,2,-999.0000,9,    163.1,2,    31.39,2,    32.06,2, -999.000,9, -999.000,9, -999.000,9, -999.000,9, -999.000,9,-999.0000,9,  -999.00,9,-999.000,   -999.0,9,   -999.0,9,    826,-999.0000,-999.000,-999.000,9,  4.2565,-999.000
      06MT28_1,   A08,   183,  2,    796,    321,2,19940405,1443,-11.3330, -32.9980, 4600,    919.7,   4.0536,  34.4737,2,-999.0000,9,    161.8,2,    33.86,2,    32.14,2, -999.000,9, -999.000,9, -999.000,9, -999.000,9, -999.000,9,-999.0000,9,  -999.00,9,-999.000,   -999.0,9,   -999.0,9,    924,-999.0000,-999.000,-999.000,9,  3.9843,-999.000
      06MT28_1,   A08,   183,  2,    794,    320,2,19940405,1443,-11.3330, -32.9980, 4600,   1095.7,   3.9068,  34.6019,2,  34.6042,2,    165.4,2,    33.92,2,    30.49,2, -999.000,9, -999.000,9, -999.000,9, -999.000,9, -999.000,9,-999.0000,9,  -999.00,9,-999.000,   -999.0,9,   -999.0,9,   1100,-999.0000,-999.000,-999.000,9,  3.8238,-999.000
      06MT28_1,   A08,   183,  2,    793,    319,2,19940405,1443,-11.3330, -32.9980, 4600,   1295.8,   4.2041,  34.7974,2,-999.0000,9,    182.6,2,    25.99,2,    26.18,2, -999.000,9, -999.000,9, -999.000,9, -999.000,9, -999.000,9,-999.0000,9,  -999.00,9,-999.000,   -999.0,9,   -999.0,9,   1300,-999.0000,-999.000,-999.000,9,  4.1006,-999.000
      06MT28_1,   A08,   183,  2,    792,    318,2,19940405,1443,-11.3330, -32.9980, 4600,   1495.4,   4.2045,  34.9227,2,-999.0000,9,    209.0,2,    20.07,2,    22.06,2, -999.000,9, -999.000,9, -999.000,9, -999.000,9, -999.000,9,-999.0000,9,  -999.00,9,-999.000,   -999.0,9,   -999.0,9,   1499,-999.0000,-999.000,-999.000,9,  4.0826,-999.000
      06MT28_1,   A08,   183,  2,    791,    317,2,19940405,1443,-11.3330, -32.9980, 4600,   1697.1,   3.8659,  34.9641,2,-999.0000,9,    231.3,2,    18.05,2,    19.48,2, -999.000,9, -999.000,9, -999.000,9, -999.000,9, -999.000,9,-999.0000,9,  -999.00,9,-999.000,   -999.0,9,   -999.0,9,   1700,-999.0000,-999.000,-999.000,9,  3.7292,-999.000
      06MT28_1,   A08,   183,  2,    790,    316,2,19940405,1443,-11.3330, -32.9980, 4600,   1899.1,   3.5252,  34.9646,2,-999.0000,9,    239.0,2,    19.55,2,    18.79,2, -999.000,9, -999.000,9, -999.000,9, -999.000,9, -999.000,9,-999.0000,9,  -999.00,9,-999.000,   -999.0,9,   -999.0,9,   1902,-999.0000,-999.000,-999.000,9,  3.3743,-999.000
      06MT28_1,   A08,   183,  2,    789,    315,2,19940405,1443,-11.3330, -32.9980, 4600,   2096.7,   3.2532,  34.9536,2,  34.9521,2,    240.9,2,    22.10,2,    18.68,2, -999.000,9, -999.000,9, -999.000,9, -999.000,9, -999.000,9,-999.0000,9,  -999.00,9,-999.000,   -999.0,9,   -999.0,9,   2099,-999.0000,-999.000,-999.000,9,  3.0878,-999.000
      06MT28_1,   A08,   183,  2,    787,    314,2,19940405,1443,-11.3330, -32.9980, 4600,   2349.2,   2.9954,  34.9386,2,-999.0000,9,    240.0,2,    25.96,2,    19.04,2, -999.000,9, -999.000,9, -999.000,9, -999.000,9, -999.000,9,-999.0000,9,  -999.00,9,-999.000,   -999.0,9,   -999.0,9,   2350,-999.0000,-999.000,-999.000,9,  2.8102,-999.000
      06MT28_1,   A08,   183,  2,    786,    313,2,19940405,1443,-11.3330, -32.9980, 4600,   2599.9,   2.8226,  34.9281,2,-999.0000,9,    238.8,2,    28.86,2,    19.30,2, -999.000,9, -999.000,9, -999.000,9, -999.000,9, -999.000,9,-999.0000,9,  -999.00,9,-999.000,   -999.0,9,   -999.0,9,   2600,-999.0000,-999.000,-999.000,9,  2.6162,-999.000
      06MT28_1,   A08,   183,  2,    772,    312,2,19940405,1443,-11.3330, -32.9980, 4600,   2853.2,   2.7202,  34.9230,2,-999.0000,9,    239.3,2,    30.06,2,    19.28,2, -999.000,9, -999.000,9, -999.000,9, -999.000,9, -999.000,9,-999.0000,9,  -999.00,9,-999.000,   -999.0,9,   -999.0,9,   2852,-999.0000,-999.000,-999.000,9,  2.4905,-999.000
      06MT28_1,   A08,   183,  2,    845,    311,2,19940405,1443,-11.3330, -32.9980, 4600,   3102.8,   2.6653,  34.9193,2,  34.9172,2,    240.0,2,    30.59,2,    19.17,2, -999.000,9, -999.000,9, -999.000,9, -999.000,9, -999.000,9,-999.0000,9,  -999.00,9,-999.000,   -999.0,9,   -999.0,9,   3101,-999.0000,-999.000,-999.000,9,  2.4112,-999.000
      06MT28_1,   A08,   183,  2,    846,    310,2,19940405,1443,-11.3330, -32.9980, 4600,   3352.2,   2.5932,  34.9144,2,-999.0000,9,    240.1,2,    31.60,2,    19.15,2, -999.000,9, -999.000,9, -999.000,9, -999.000,9, -999.000,9,-999.0000,9,  -999.00,9,-999.000,   -999.0,9,   -999.0,9,   3350,-999.0000,-999.000,-999.000,9,  2.3144,-999.000
      06MT28_1,   A08,   183,  2,    844,    309,2,19940405,1443,-11.3330, -32.9980, 4600,   3606.1,   2.4701,  34.9045,2,-999.0000,9,    240.2,2,    34.02,2,    19.22,2, -999.000,9, -999.000,9, -999.000,9, -999.000,9, -999.000,9,-999.0000,9,  -999.00,9,-999.000,   -999.0,9,   -999.0,9,   3603,-999.0000,-999.000,-999.000,9,  2.1669,-999.000
      06MT28_1,   A08,   183,  2,    843,    308,2,19940405,1443,-11.3330, -32.9980, 4600,   3838.7,   2.1122,  34.8689,2,-999.0000,9,    224.8,2,    66.93,2,    23.82,2, -999.000,9, -999.000,9, -999.000,9, -999.000,9, -999.000,9,-999.0000,9,  -999.00,9,-999.000,   -999.0,9,   -999.0,9,   3835,-999.0000,-999.000,-999.000,9,  1.7930,-999.000
      06MT28_1,   A08,   183,  2,    842,    307,2,19940405,1443,-11.3330, -32.9980, 4600,   4104.2,   1.6580,  34.8165,2,  34.8144,2,    224.8,2,    66.85,2,    23.79,2, -999.000,9, -999.000,9, -999.000,9, -999.000,9, -999.000,9,-999.0000,9,  -999.00,9,-999.000,   -999.0,9,   -999.0,9,   4100,-999.0000,-999.000,-999.000,9,  1.3223,-999.000
      06MT28_1,   A08,   183,  2,    841,    306,2,19940405,1443,-11.3330, -32.9980, 4600,   4350.8,   1.2342,  34.7695,2,-999.0000,9,    216.3,2,    84.91,2,    26.39,2, -999.000,9, -999.000,9, -999.000,9, -999.000,9, -999.000,9,-999.0000,9,  -999.00,9,-999.000,   -999.0,9,   -999.0,9,   4346,-999.0000,-999.000,-999.000,9,  0.8837,-999.000
      06MT28_1,   A08,   183,  2,    840,    305,2,19940405,1443,-11.3330, -32.9980, 4600,   4605.2,   0.8335,  34.7259,2,-999.0000,9,    209.3,2,   100.39,2,    28.43,2, -999.000,9, -999.000,9, -999.000,9, -999.000,9, -999.000,9,-999.0000,9,  -999.00,9,-999.000,   -999.0,9,   -999.0,9,   4601,-999.0000,-999.000,-999.000,9,  0.4672,-999.000
      06MT28_1,   A08,   183,  2,    839,    304,2,19940405,1443,-11.3330, -32.9980, 4600,   4729.1,   0.7168,  34.7130,2,-999.0000,9,    208.1,2,   105.22,2,    29.07,2, -999.000,9, -999.000,9, -999.000,9, -999.000,9, -999.000,9,-999.0000,9,  -999.00,9,-999.000,   -999.0,9,   -999.0,9,   4724,-999.0000,-999.000,-999.000,9,  0.3404,-999.000
      06MT28_1,   A08,   183,  2,    838,    303,2,19940405,1443,-11.3330, -32.9980, 4600,   4804.8,   0.6744,  34.7078,2,-999.0000,9,    208.6,2,   106.96,2,    29.16,2, -999.000,9, -999.000,9, -999.000,9, -999.000,9, -999.000,9,-999.0000,9,  -999.00,9,-999.000,   -999.0,9,   -999.0,9,   4800,-999.0000,-999.000,-999.000,9,  0.2907,-999.000
      06MT28_1,   A08,   183,  2,    837,    301,2,19940405,1443,-11.3330, -32.9980, 4600,   4829.6,   0.6676,  34.7077,2,  34.7064,2,    207.1,2,   107.05,2,    29.15,2, -999.000,9, -999.000,9, -999.000,9, -999.000,9, -999.000,9,-999.0000,9,  -999.00,9,-999.000,   -999.0,9,   -999.0,9,   4825,-999.0000,-999.000,-999.000,9,  0.2813,-999.000
      06MT28_1,   A08,   183,  2,    836,    302,2,19940405,1443,-11.3330, -32.9980, 4600,   4829.6,   0.6676,  34.7077,2,  34.7066,2,    207.2,2,   107.05,2,    29.25,2, -999.000,9, -999.000,9, -999.000,9, -999.000,9, -999.000,9,-999.0000,9,  -999.00,9,-999.000,   -999.0,9,   -999.0,9,   4825,-999.0000,-999.000,-999.000,9,  0.2813,-999.000
      06MT28_1,   A08,   184,  1,    834,    220,2,19940405,2016,-11.3307, -32.5003, 4850,     11.0,  28.7890,  37.0700,2,-999.0000,9,   -999.0,9,  -999.00,9,  -999.00,5, -999.000,9, -999.000,9, -999.000,9, -999.000,9, -999.000,9,-999.0000,9,  -999.00,9,-999.000,   -999.0,9,   -999.0,9,     10,-999.0000,-999.000,-999.000,9, 28.7863,-999.000
      06MT28_1,   A08,   184,  1,    835,    324,2,19940405,2016,-11.3307, -32.5003, 4850,     13.8,  28.8257,  37.0746,2,  37.0776,2,    193.7,2,     0.86,3,     0.00,3,    1.431,2,    0.837,2,    0.137,2,    1.607,2, -999.000,9,-999.0000,9,  -999.00,9,-999.000,   2047.4,2,   -999.0,9,     10,-999.0000,-999.000,-999.000,9, 28.8224,-999.000
      06MT28_1,   A08,   184,  1,    833,    219,2,19940405,2016,-11.3307, -32.5003, 4850,     40.5,  28.7326,  37.0701,2,-999.0000,9,    186.9,2,     0.77,2,     0.00,4,    1.468,2,    0.906,2,    0.182,4,    1.646,2, -999.000,9,-999.0000,9,  -999.00,9,-999.000,   2045.9,2,    432.6,2,     39,-999.0000,-999.000,-999.000,9, 28.7228,-999.000
      06MT28_1,   A08,   184,  1,    832,    218,2,19940405,2016,-11.3307, -32.5003, 4850,     60.9,  27.6836,  37.0609,2,-999.0000,9,    197.0,2,     0.77,2,     0.00,4,    1.460,2,    0.904,2,    0.189,4,    1.633,2, -999.000,9,-999.0000,9,  -999.00,9,-999.000,   2044.8,2,   -999.0,9,     60,-999.0000,-999.000,-999.000,9, 27.6693,-999.000
      06MT28_1,   A08,   184,  1,    831,    217,2,19940405,2016,-11.3307, -32.5003, 4850,     80.5,  25.8207,  37.0210,2,-999.0000,9,    210.4,2,     0.77,2,     0.00,4,    1.700,2,    1.017,2,    0.309,4,    1.204,2, -999.000,9,-999.0000,9,  -999.00,9,-999.000,   2064.0,2,    471.9,2,     80,-999.0000,-999.000,-999.000,9, 25.8027,-999.000
      06MT28_1,   A08,   184,  1,    830,    216,2,19940405,2016,-11.3307, -32.5003, 4850,    120.1,  23.6737,  36.8235,2,-999.0000,9,    204.8,2,     0.86,2,     0.00,4,    1.816,2,    1.077,2,    0.156,2,    1.065,2, -999.000,9,-999.0000,9,  -999.00,9,-999.000,   2081.3,2,    520.0,2,    119,-999.0000,-999.000,-999.000,9, 23.6485,-999.000
      06MT28_1,   A08,   184,  1,    829,    215,2,19940405,2016,-11.3307, -32.5003, 4850,    180.9,  18.1481,  36.0040,2,-999.0000,9,    169.0,2,     2.49,2,     6.13,2,    1.948,2,    1.114,2,    0.120,2,    0.712,2, -999.000,9,-999.0000,9,  -999.00,9,-999.000,   2118.6,2,    757.8,2,    180,-999.0000,-999.000,-999.000,9, 18.1166,-999.000
      06MT28_1,   A08,   184,  1,    828,    214,2,19940405,2016,-11.3307, -32.5003, 4850,    250.0,  12.8483,  35.2271,2,-999.0000,9,    120.5,2,     7.18,2,    19.15,2,    1.230,2,    0.683,2,    0.036,2,    0.296,2, -999.000,9,-999.0000,9,  -999.00,9,-999.000,   2165.7,2,   1233.5,2,    249,-999.0000,-999.000,-999.000,9, 12.8140,-999.000
      06MT28_1,   A08,   184,  1,    827,    213,2,19940405,2016,-11.3307, -32.5003, 4850,    350.9,   8.9922,  34.7939,2,-999.0000,9,    109.8,2,    13.87,2,    27.93,2,    0.375,2,    0.214,2,    0.009,2,    0.322,2, -999.000,9,-999.0000,9,  -999.00,9,-999.000,   2200.3,2,   1679.5,2,    350,-999.0000,-999.000,-999.000,9,  8.9538,-999.000
      06MT28_1,   A08,   184,  1,    826,    212,2,19940405,2016,-11.3307, -32.5003, 4850,    450.7,   7.2213,  34.6101,2,-999.0000,9,    128.8,2,    17.59,2,    29.73,2,    0.305,2,    0.170,2,    0.004,2,    0.477,2, -999.000,9,-999.0000,9,  -999.00,9,-999.000,   2201.9,2,   1739.6,2,    450,-999.0000,-999.000,-999.000,9,  7.1778,-999.000
      06MT28_1,   A08,   184,  1,    825,    211,2,19940405,2016,-11.3307, -32.5003, 4850,    550.3,   6.0977,  34.5132,2,-999.0000,9,    136.5,2,    21.50,2,    31.53,2, -999.000,9, -999.000,9, -999.000,9, -999.000,9, -999.000,9,-999.0000,9,  -999.00,9,-999.000,   2207.8,2,   1821.1,2,    550,-999.0000,-999.000,-999.000,9,  6.0490,-999.000
      06MT28_1,   A08,   184,  1,    823,    210,2,19940405,2016,-11.3307, -32.5003, 4850,    649.6,   5.2518,  34.4506,2,-999.0000,9,    154.2,2,    24.83,2,    31.42,2,    0.251,2,    0.141,2,    0.007,2,    0.615,2, -999.000,9,-999.0000,9,  -999.00,9,-999.000,   2204.8,2,   1775.7,6,    650,-999.0000,-999.000,-999.000,9,  5.1981,-999.000
      06MT28_1,   A08,   184,  1,    884,    209,2,19940405,2016,-11.3307, -32.5003, 4850,    750.0,   4.6745,  34.4225,2,-999.0000,9,   -999.0,9,  -999.00,9,  -999.00,9, -999.000,9, -999.000,9, -999.000,9, -999.000,9, -999.000,9,-999.0000,9,  -999.00,9,-999.000,   -999.0,9,   -999.0,9,    750,-999.0000,-999.000,-999.000,9,  4.6154,-999.000