BOTTLE,20220817CCHSIOAMB
EXPOCODE,SECT_ID,STNNBR,CASTNO,SAMPNO,BTLNBR,BTLNBR_FLAG_W,DATE,TIME,LATITUDE,LONGITUDE,DEPTH,CTDPRS,CTDTMP,CTDSAL,CTDSAL_FLAG_W,SALNTY,SALNTY_FLAG_W,OXYGEN,OXYGEN_FLAG_W,SILCAT,SILCAT_FLAG_W,NO2+NO3,NO2+NO3_FLAG_W,CFC-11,CFC-11_FLAG_W,CFC-12,CFC-12_FLAG_W,CFC113,CFC113_FLAG_W,CCL4,CCL4_FLAG_W,TRITUM,TRITUM_FLAG_W,HELIUM,HELIUM_FLAG_W,DELHE3,DELHE3_FLAG_W,NEON,TCARBN,TCARBN_FLAG_W,PCO2,PCO2_FLAG_W,CTDRAW,HELIER,DELHER,NEONER,NEON_FLAG_W,THETA,TRITER
,,,,,,,,,,,,DBAR,ITS-90,PSS-78,,PSS-78,,UMOL/KG,,UMOL/KG,,UMOL/KG,,PMOL/KG,,PMOL/KG,,PMOL/KG,,PMOL/KG,,TU,,NMOL/KG,,PERCNT,,NMOL/KG,UMOL/KG,,UATM,,,NMOL/KG,PERCNT,NMOL/KG,,ITS-90,TU
      06MT28_1,   A08,   172,  3,    218,    323,2,19940402,0811,-10.2268, -35.5345, 2600,     63.2,  27.4838,  37.2215,2,-999.0000,9,    204.6,2,     0.77,2,     0.00,2,    1.614,2,    0.946,2,    0.213,4,    1.320,2,    0.760,2,-999.0000,9,  -999.00,9,-999.000,   2059.4,2,    445.4,2,     60,-999.0000,-999.000,-999.000,9, 27.4690,   0.021
      06MT28_1,   A08,   172,  3,    217,    322,2,19940402,0811,-10.2268, -35.5345, 2600,     82.5,  25.7163,  37.2106,2,  37.2217,4,    206.6,2,     0.86,2,     0.00,2,    1.614,2,    0.939,2,    0.177,2,    1.262,2,    0.800,2,-999.0000,9,  -999.00,9,-999.000,   2076.4,2,    476.1,2,     79,-999.0000,-999.000,-999.000,9, 25.6979,   0.021
      06MT28_1,   A08,   172,  3,    216,    321,2,19940402,0811,-10.2268, -35.5345, 2600,    121.7,  23.6404,  36.9260,2,-999.0000,9,    202.4,2,     0.86,2,     0.10,2,    1.815,2,    1.037,2,    0.141,2,    0.920,2,    0.799,2,   1.7840,4,     2.14,2,   7.562,   2090.1,2,    539.2,2,    119,  0.0070,   0.240,   0.024,4, 23.6149,   0.020
      06MT28_1,   A08,   172,  3,    215,    320,2,19940402,0811,-10.2268, -35.5345, 2600,    181.1,  19.4189,  36.2176,2,-999.0000,9,    177.8,2,     1.73,2,     3.64,2,    1.967,2,    1.094,2,    0.103,2,    0.729,2, -999.000,9,   1.7000,2,    -1.07,2,   6.891,   2109.7,2,    696.5,2,    180,  0.0060,   0.250,   0.023,2, 19.3859,-999.000
      06MT28_1,   A08,   172,  3,    213,    319,2,19940402,0811,-10.2268, -35.5345, 2600,    250.2,  15.5011,  35.5775,2,-999.0000,9,    164.2,2,     3.45,2,     9.77,2,    1.892,2,    1.033,2,    0.042,2,    0.437,2,    0.739,2,   1.7380,2,     0.55,2,   7.174,   2121.0,2,    530.4,2,    250,  0.0070,   0.250,   0.024,2, 15.4621,   0.042
      06MT28_1,   A08,   172,  3,    238,    318,2,19940402,0811,-10.2268, -35.5345, 2600,    349.3,  12.0519,  35.1128,2,-999.0000,9,    131.1,2,     7.27,2,    19.42,2,    1.180,2,    0.637,2,    0.022,2,    0.341,2,    0.495,2,-999.0000,9,  -999.00,9,-999.000,   2162.3,2,    778.0,2,    350,-999.0000,-999.000,-999.000,9, 12.0059,   0.038
      06MT28_1,   A08,   172,  3,    265,    317,2,19940402,0811,-10.2268, -35.5345, 2600,    448.5,   9.2017,  34.7729,2,-999.0000,9,    146.4,2,    11.28,2,    23.52,2,    0.785,2,    0.421,2,    0.019,2,    0.571,2,    0.255,2,   1.7360,2,     0.89,2,   7.368,   2171.3,2,    888.1,2,    450,  0.0070,   0.250,   0.024,2,  9.1518,   0.009
      06MT28_1,   A08,   172,  3,    266,    316,2,19940402,0811,-10.2268, -35.5345, 2600,    546.3,   6.7202,  34.5210,2,-999.0000,9,    168.8,2,    16.63,2,    26.76,2,    0.638,2,    0.338,2,    0.021,2,    0.917,2,    0.205,2,   1.8010,2,     1.23,2,   7.723,   2178.2,2,   -999.0,9,    548,  0.0070,   0.250,   0.025,2,  6.6693,   0.085
      06MT28_1,   A08,   172,  3,    264,    315,2,19940402,0811,-10.2268, -35.5345, 2600,    647.3,   5.3147,  34.4380,2,-999.0000,9,    166.2,2,    23.02,2,    29.89,2,    0.356,2,    0.184,2,    0.041,4,    0.796,2,    0.081,2,   1.7870,2,     1.61,2,   7.749,   2195.6,2,   1073.4,2,    650,  0.0070,   0.250,   0.026,2,  5.2610,   0.006
      06MT28_1,   A08,   172,  3,    263,    314,2,19940402,0811,-10.2268, -35.5345, 2600,    748.5,   4.3859,  34.3852,2,-999.0000,9,    185.5,2,    28.16,2,    29.78,2, -999.000,9, -999.000,9, -999.000,9, -999.000,9, -999.000,9,   1.8260,2,     2.05,2,   7.943,   2194.8,2,   1040.0,2,    751,  0.0070,   0.250,   0.026,3,  4.3286,-999.000
      06MT28_1,   A08,   172,  3,    262,    313,2,19940402,0811,-10.2268, -35.5345, 2600,    821.6,   4.0490,  34.3914,2,-999.0000,9,    185.7,2,    31.58,2,    30.15,2,    0.288,2,    0.153,2,    0.014,2,    0.834,2,    0.059,2,   1.6990,3,     2.63,2,   7.464,   2199.6,2,   1041.7,2,    825,  0.0060,   0.250,   0.025,3,  3.9878,   0.011
      06MT28_1,   A08,   172,  3,    261,    312,2,19940402,0811,-10.2268, -35.5345, 2600,    921.9,   3.9023,  34.4461,2,-999.0000,9,    176.2,2,    34.43,2,    30.90,2,    0.121,2,    0.067,2,    0.009,2,    0.483,2, -999.000,9,   1.7930,2,     3.41,2,   7.782,   2208.6,2,   -999.0,9,    925,  0.0070,   0.250,   0.026,2,  3.8339,-999.000
      06MT28_1,   A08,   172,  3,    260,    311,2,19940402,0811,-10.2268, -35.5345, 2600,   1098.4,   4.0216,  34.5935,2,  34.5919,2,    164.8,2,    32.30,2,    30.40,2,    0.011,2,    0.006,2,    0.013,2,    0.092,2, -999.000,9,   1.8940,2,     2.75,2,   8.257,   2213.4,2,   1115.6,2,   1102,  0.0070,   0.250,   0.027,2,  3.9374,-999.000
      06MT28_1,   A08,   172,  3,    259,    310,2,19940402,0811,-10.2268, -35.5345, 2600,   1297.9,   4.3153,  34.7924,2,  34.7897,2,    180.8,2,    25.04,2,    26.37,2,    0.012,2,    0.007,2,    0.009,2,    0.088,2,    0.035,2,   1.7770,2,     1.99,2,   7.689,   2199.2,2,   -999.0,9,   1301,  0.0070,   0.250,   0.025,2,  4.2105,   0.003
      06MT28_1,   A08,   172,  3,    258,    309,2,19940402,0811,-10.2268, -35.5345, 2600,   1500.4,   4.3044,  34.9148,2,-999.0000,9,    203.6,2,    19.88,2,    22.44,2,    0.030,2,    0.020,2,    0.011,2,    0.197,2,    0.088,2,   1.7860,2,     1.76,2,   7.803,   2182.4,2,    871.5,2,   1503,  0.0070,   0.250,   0.026,2,  4.1809,   0.006
      06MT28_1,   A08,   172,  3,    257,    308,2,19940402,0811,-10.2268, -35.5345, 2600,   1700.4,   3.9015,  34.9731,2,-999.0000,9,    203.6,2,    19.95,2,    22.42,2,    0.029,2,    0.018,2,   -0.002,2,    0.193,2,    0.080,2,-999.0000,9,  -999.00,9,-999.000,   2183.1,3,    871.9,3,   1703,-999.0000,-999.000,-999.000,9,  3.7640,   0.006
      06MT28_1,   A08,   172,  3,    256,    307,2,19940402,0811,-10.2268, -35.5345, 2600,   1898.7,   3.5762,  34.9701,2,-999.0000,9,    239.9,2,    18.23,2,    18.42,2,    0.055,2,    0.032,2,    0.021,2,    0.310,2,    0.105,2,   1.7520,3,     2.01,2,   7.672,   2164.5,2,    761.5,2,   1901,  0.0070,   0.250,   0.025,3,  3.4246,   0.006
      06MT28_1,   A08,   172,  3,    255,    306,2,19940402,0811,-10.2268, -35.5345, 2600,   2099.2,   3.3267,  34.9596,2,  34.9687,3,    240.6,2,    18.21,2,    18.30,2,    0.050,2,    0.023,2,    0.002,2,    0.298,2, -999.000,9,-999.0000,9,  -999.00,9,-999.000,   2164.0,2,   -999.0,9,   2101,-999.0000,-999.000,-999.000,9,  3.1599,-999.000
      06MT28_1,   A08,   172,  3,    254,    305,2,19940402,0811,-10.2268, -35.5345, 2600,   2349.4,   2.9178,  34.9355,2,  34.9334,2,    240.5,2,    26.71,2,    19.04,2,    0.018,2,    0.013,2,    0.014,2,    0.149,2, -999.000,9,   1.7870,2,     2.59,2,   7.800,   2172.7,2,    762.9,2,   2350,  0.0070,   0.250,   0.026,2,  2.7339,-999.000
      06MT28_1,   A08,   172,  3,    253,    304,2,19940402,0811,-10.2268, -35.5345, 2600,   2480.0,   2.8323,  34.9302,2,-999.0000,9,    246.9,2,    26.70,2,    18.98,2,    0.023,2,    0.012,2,    0.029,2,    0.146,2, -999.000,9,   1.7520,3,     3.31,2,   7.728,   2172.8,2,   -999.0,9,   2480,  0.0070,   0.250,   0.026,3,  2.6374,-999.000
      06MT28_1,   A08,   172,  3,    252,    303,2,19940402,0811,-10.2268, -35.5345, 2600,   2551.8,   2.7942,  34.9275,2,-999.0000,9,    240.6,2,    27.83,2,    19.02,2,    0.017,2,    0.013,2,    0.013,4,    0.139,2,    0.047,2,   1.7170,3,     3.14,2,   7.593,   2174.1,2,    764.0,2,   2552,  0.0060,   0.250,   0.025,3,  2.5930,   0.004
      06MT28_1,   A08,   172,  3,    251,    301,2,19940402,0811,-10.2268, -35.5345, 2600,   2584.6,   2.7701,  34.9258,2,  34.9249,2,    240.9,2,    28.67,2,    19.12,2,    0.016,2,    0.009,2,    0.004,2,    0.098,2, -999.000,9,   1.7210,4,    -0.28,2,   6.956,   2174.2,2,    773.1,2,   2585,  0.0060,   0.240,   0.022,4,  2.5662,-999.000
      06MT28_1,   A08,   172,  3,    250,    302,2,19940402,0811,-10.2268, -35.5345, 2600,   2584.6,   2.7685,  34.9263,2,  34.9266,2,    241.8,2,    28.15,2,    18.97,2,    0.015,2,    0.011,2,    0.000,2,    0.140,2, -999.000,9,   1.7230,3,     2.67,2,   7.566,   2173.9,2,    768.0,2,   2585,  0.0060,   0.250,   0.025,3,  2.5646,-999.000
      06MT28_1,   A08,   172,  3,    249,    324,2,19940402,0811,-10.2268, -35.5345, 2600,   2585.8,   2.7701,  34.9252,2,  34.9276,2,    243.6,2,    29.12,2,    19.51,2,    0.026,2,    0.012,2,    0.009,2,    0.101,2, -999.000,9,   1.6780,4,  -999.00,5,   6.557,   2174.5,2,   -999.0,9,   2585,  0.0060,   0.240,   0.021,4,  2.5661,-999.000
      06MT28_1,   A08,   173,  3,    248,    214,2,19940402,1234,-10.2958, -35.4365, 3000,      8.4,  28.9338,  37.0654,2,-999.0000,9,    199.6,2,     0.77,2,     0.00,2, -999.000,9, -999.000,9, -999.000,9, -999.000,9, -999.000,9,-999.0000,9,  -999.00,9,-999.000,   -999.0,9,   -999.0,9,      7,-999.0000,-999.000,-999.000,9, 28.9318,-999.000
      06MT28_1,   A08,   173,  3,    247,    213,2,19940402,1234,-10.2958, -35.4365, 3000,     31.8,  28.8859,  37.0677,2,-999.0000,9,    201.9,2,     0.77,2,     0.00,2, -999.000,9, -999.000,9, -999.000,9, -999.000,9, -999.000,9,-999.0000,9,  -999.00,9,-999.000,   -999.0,9,   -999.0,9,     31,-999.0000,-999.000,-999.000,9, 28.8782,-999.000
      06MT28_1,   A08,   173,  3,    246,    212,2,19940402,1234,-10.2958, -35.4365, 3000,     50.9,  28.8410,  37.3040,2,-999.0000,9,    204.0,2,     0.77,2,     0.00,2, -999.000,9, -999.000,9, -999.000,9, -999.000,9, -999.000,9,-999.0000,9,  -999.00,9,-999.000,   -999.0,9,   -999.0,9,     50,-999.0000,-999.000,-999.000,9, 28.8287,-999.000
      06MT28_1,   A08,   173,  3,    244,    211,2,19940402,1234,-10.2958, -35.4365, 3000,     70.9,  26.7876,  37.1902,2,-999.0000,9,    216.6,2,     0.77,2,     0.00,2, -999.000,9, -999.000,9, -999.000,9, -999.000,9, -999.000,9,-999.0000,9,  -999.00,9,-999.000,   -999.0,9,   -999.0,9,     70,-999.0000,-999.000,-999.000,9, 26.7713,-999.000
      06MT28_1,   A08,   173,  3,    288,    210,2,19940402,1234,-10.2958, -35.4365, 3000,   1001.5,   4.0176,  34.5132,2,  34.5180,2,    164.9,2,    33.84,2,    31.60,2, -999.000,9, -999.000,9, -999.000,9, -999.000,9, -999.000,9,-999.0000,9,  -999.00,9,-999.000,   -999.0,9,   -999.0,9,   1002,-999.0000,-999.000,-999.000,9,  3.9417,-999.000
      06MT28_1,   A08,   173,  4,    245,    323,2,19940402,1438,-10.2877, -35.4368, 2988,     73.0,  25.8716,  37.2004,2,-999.0000,9,    214.7,2,     0.86,2,     0.00,2, -999.000,9, -999.000,9, -999.000,9, -999.000,9, -999.000,9,-999.0000,9,  -999.00,9,-999.000,   -999.0,9,   -999.0,9,     70,-999.0000,-999.000,-999.000,9, 25.8553,-999.000
      06MT28_1,   A08,   173,  4,    267,    322,2,19940402,1438,-10.2877, -35.4368, 2988,    102.9,  25.0815,  37.2666,2,-999.0000,9,    202.9,2,     0.86,2,     0.00,2, -999.000,9, -999.000,9, -999.000,9, -999.000,9, -999.000,9,-999.0000,9,  -999.00,9,-999.000,   -999.0,9,   -999.0,9,    100,-999.0000,-999.000,-999.000,9, 25.0590,-999.000
      06MT28_1,   A08,   173,  4,    298,    321,2,19940402,1438,-10.2877, -35.4368, 2988,    152.8,  21.7203,  36.6086,2,-999.0000,9,    186.6,2,     1.15,2,     0.86,2, -999.000,9, -999.000,9, -999.000,9, -999.000,9, -999.000,9,-999.0000,9,  -999.00,9,-999.000,   -999.0,9,   -999.0,9,    151,-999.0000,-999.000,-999.000,9, 21.6901,-999.000
      06MT28_1,   A08,   173,  4,    296,    320,2,19940402,1438,-10.2877, -35.4368, 2988,    201.1,  18.2953,  36.0349,2,-999.0000,9,    174.0,2,     2.11,2,     5.37,2, -999.000,9, -999.000,9, -999.000,9, -999.000,9, -999.000,9,-999.0000,9,  -999.00,9,-999.000,   -999.0,9,   -999.0,9,    200,-999.0000,-999.000,-999.000,9, 18.2602,-999.000
      06MT28_1,   A08,   173,  4,    295,    319,2,19940402,1438,-10.2877, -35.4368, 2988,    297.6,  13.1269,  35.2458,2,-999.0000,9,    139.6,2,     5.93,2,    16.75,2, -999.000,9, -999.000,9, -999.000,9, -999.000,9, -999.000,9,-999.0000,9,  -999.00,9,-999.000,   -999.0,9,   -999.0,9,    298,-999.0000,-999.000,-999.000,9, 13.0855,-999.000
      06MT28_1,   A08,   173,  4,    294,    318,2,19940402,1438,-10.2877, -35.4368, 2988,    399.9,   9.9730,  34.8589,2,-999.0000,9,    144.4,2,    10.14,2,    22.86,2, -999.000,9, -999.000,9, -999.000,9, -999.000,9, -999.000,9,-999.0000,9,  -999.00,9,-999.000,   -999.0,9,   -999.0,9,    401,-999.0000,-999.000,-999.000,9,  9.9263,-999.000
      06MT28_1,   A08,   173,  4,    293,    317,2,19940402,1438,-10.2877, -35.4368, 2988,    498.8,   7.0635,  34.5418,2,-999.0000,9,    171.0,2,    15.58,2,    26.29,2, -999.000,9, -999.000,9, -999.000,9, -999.000,9, -999.000,9,-999.0000,9,  -999.00,9,-999.000,   -999.0,9,   -999.0,9,    501,-999.0000,-999.000,-999.000,9,  7.0159,-999.000
      06MT28_1,   A08,   173,  4,    292,    316,2,19940402,1438,-10.2877, -35.4368, 2988,    597.8,   5.5711,  34.4386,2,-999.0000,9,    177.1,2,    21.11,2,    29.14,2, -999.000,9, -999.000,9, -999.000,9, -999.000,9, -999.000,9,-999.0000,9,  -999.00,9,-999.000,   -999.0,9,   -999.0,9,    601,-999.0000,-999.000,-999.000,9,  5.5205,-999.000
      06MT28_1,   A08,   173,  4,    291,    315,2,19940402,1438,-10.2877, -35.4368, 2988,    698.3,   4.7789,  34.4087,2,-999.0000,9,    173.8,2,    26.45,2,    30.94,2, -999.000,9, -999.000,9, -999.000,9, -999.000,9, -999.000,9,-999.0000,9,  -999.00,9,-999.000,   -999.0,9,   -999.0,9,    701,-999.0000,-999.000,-999.000,9,  4.7236,-999.000
      06MT28_1,   A08,   173,  4,    290,    314,2,19940402,1438,-10.2877, -35.4368, 2988,    846.9,   4.2657,  34.4515,2,-999.0000,9,    161.8,2,    31.77,2,    32.34,2, -999.000,9, -999.000,9, -999.000,9, -999.000,9, -999.000,9,-999.0000,9,  -999.00,9,-999.000,   -999.0,9,   -999.0,9,    850,-999.0000,-999.000,-999.000,9,  4.2010,-999.000
      06MT28_1,   A08,   173,  4,    289,    313,2,19940402,1438,-10.2877, -35.4368, 2988,    996.2,   4.0140,  34.5193,2,  34.5184,2,    164.1,2,    33.94,2,    32.03,2, -999.000,9, -999.000,9, -999.000,9, -999.000,9, -999.000,9,-999.0000,9,  -999.00,9,-999.000,   -999.0,9,   -999.0,9,   1000,-999.0000,-999.000,-999.000,9,  3.9386,-999.000
      06MT28_1,   A08,   173,  4,    287,    312,2,19940402,1438,-10.2877, -35.4368, 2988,   1197.5,   4.0482,  34.6719,2,-999.0000,9,    172.7,2,    30.95,2,    29.14,2, -999.000,9, -999.000,9, -999.000,9, -999.000,9, -999.000,9,-999.0000,9,  -999.00,9,-999.000,   -999.0,9,   -999.0,9,   1201,-999.0000,-999.000,-999.000,9,  3.9551,-999.000
      06MT28_1,   A08,   173,  4,    286,    311,2,19940402,1438,-10.2877, -35.4368, 2988,   1396.7,   4.3108,  34.8475,2,-999.0000,9,    191.3,2,    23.22,2,    25.12,2, -999.000,9, -999.000,9, -999.000,9, -999.000,9, -999.000,9,-999.0000,9,  -999.00,9,-999.000,   -999.0,9,   -999.0,9,   1400,-999.0000,-999.000,-999.000,9,  4.1970,-999.000
      06MT28_1,   A08,   173,  4,    285,    310,2,19940402,1438,-10.2877, -35.4368, 2988,   1597.0,   4.1504,  34.9528,2,-999.0000,9,    220.4,2,    18.06,2,    20.82,2, -999.000,9, -999.000,9, -999.000,9, -999.000,9, -999.000,9,-999.0000,9,  -999.00,9,-999.000,   -999.0,9,   -999.0,9,   1600,-999.0000,-999.000,-999.000,9,  4.0196,-999.000
      06MT28_1,   A08,   173,  4,    284,    309,2,19940402,1438,-10.2877, -35.4368, 2988,   1797.7,   3.7942,  34.9741,2,-999.0000,9,    239.4,2,    17.28,2,    18.90,2, -999.000,9, -999.000,9, -999.000,9, -999.000,9, -999.000,9,-999.0000,9,  -999.00,9,-999.000,   -999.0,9,   -999.0,9,   1800,-999.0000,-999.000,-999.000,9,  3.6490,-999.000
      06MT28_1,   A08,   173,  4,    283,    308,2,19940402,1438,-10.2877, -35.4368, 2988,   1999.5,   3.4488,  34.9622,2,  34.9612,2,    242.4,2,    19.92,2,    18.79,2, -999.000,9, -999.000,9, -999.000,9, -999.000,9, -999.000,9,-999.0000,9,  -999.00,9,-999.000,   -999.0,9,   -999.0,9,   2001,-999.0000,-999.000,-999.000,9,  3.2895,-999.000
      06MT28_1,   A08,   173,  4,    282,    307,2,19940402,1438,-10.2877, -35.4368, 2988,   2245.1,   3.1393,  34.9472,2,-999.0000,9,    240.7,2,    23.88,2,    19.05,2, -999.000,9, -999.000,9, -999.000,9, -999.000,9, -999.000,9,-999.0000,9,  -999.00,9,-999.000,   -999.0,9,   -999.0,9,   2246,-999.0000,-999.000,-999.000,9,  2.9616,-999.000
      06MT28_1,   A08,   173,  4,    281,    306,2,19940402,1438,-10.2877, -35.4368, 2988,   2500.2,   2.8446,  34.9313,2,-999.0000,9,    238.5,2,    27.36,2,    19.22,2, -999.000,9, -999.000,9, -999.000,9, -999.000,9, -999.000,9,-999.0000,9,  -999.00,9,-999.000,   -999.0,9,   -999.0,9,   2500,-999.0000,-999.000,-999.000,9,  2.6475,-999.000
      06MT28_1,   A08,   173,  4,    280,    305,2,19940402,1438,-10.2877, -35.4368, 2988,   2752.7,   2.7266,  34.9242,2,-999.0000,9,    240.7,2,    27.99,2,    19.29,2, -999.000,9, -999.000,9, -999.000,9, -999.000,9, -999.000,9,-999.0000,9,  -999.00,9,-999.000,   -999.0,9,   -999.0,9,   2752,-999.0000,-999.000,-999.000,9,  2.5069,-999.000
      06MT28_1,   A08,   173,  4,    279,    304,2,19940402,1438,-10.2877, -35.4368, 2988,   2879.6,   2.6597,  34.9193,2,-999.0000,9,    242.4,2,    29.63,2,    19.38,2, -999.000,9, -999.000,9, -999.000,9, -999.000,9, -999.000,9,-999.0000,9,  -999.00,9,-999.000,   -999.0,9,   -999.0,9,   2878,-999.0000,-999.000,-999.000,9,  2.4286,-999.000
      06MT28_1,   A08,   173,  4,    278,    303,2,19940402,1438,-10.2877, -35.4368, 2988,   2950.3,   2.6357,  34.9187,2,-999.0000,9,    242.2,2,    30.09,2,    19.13,2, -999.000,9, -999.000,9, -999.000,9, -999.000,9, -999.000,9,-999.0000,9,  -999.00,9,-999.000,   -999.0,9,   -999.0,9,   2949,-999.0000,-999.000,-999.000,9,  2.3980,-999.000
      06MT28_1,   A08,   173,  4,    277,    301,2,19940402,1438,-10.2877, -35.4368, 2988,   2978.9,   2.6337,  34.9187,2,-999.0000,9,   -999.0,9,  -999.00,9,  -999.00,9, -999.000,9, -999.000,9, -999.000,9, -999.000,9, -999.000,9,-999.0000,9,  -999.00,9,-999.000,   -999.0,9,   -999.0,9,   2978,-999.0000,-999.000,-999.000,9,  2.3931,-999.000
      06MT28_1,   A08,   173,  4,    275,    302,2,19940402,1438,-10.2877, -35.4368, 2988,   2978.9,   2.6337,  34.9187,2,  34.9179,2,    243.5,2,    30.04,2,    19.18,2, -999.000,9, -999.000,9, -999.000,9, -999.000,9, -999.000,9,-999.0000,9,  -999.00,9,-999.000,   -999.0,9,   -999.0,9,   2978,-999.0000,-999.000,-999.000,9,  2.3931,-999.000
      06MT28_1,   A08,   173,  4,    299,    324,2,19940402,1438,-10.2877, -35.4368, 2988,   2980.9,   2.6337,  34.9178,2,  34.9179,2,    246.0,2,    30.56,2,    19.70,2, -999.000,9, -999.000,9, -999.000,9, -999.000,9, -999.000,9,-999.0000,9,  -999.00,9,-999.000,   -999.0,9,   -999.0,9,   2978,-999.0000,-999.000,-999.000,9,  2.3929,-999.000