BOTTLE,20220817CCHSIOAMB
EXPOCODE,SECT_ID,STNNBR,CASTNO,SAMPNO,BTLNBR,BTLNBR_FLAG_W,DATE,TIME,LATITUDE,LONGITUDE,DEPTH,CTDPRS,CTDTMP,CTDSAL,CTDSAL_FLAG_W,SALNTY,SALNTY_FLAG_W,OXYGEN,OXYGEN_FLAG_W,SILCAT,SILCAT_FLAG_W,NO2+NO3,NO2+NO3_FLAG_W,CFC-11,CFC-11_FLAG_W,CFC-12,CFC-12_FLAG_W,CFC113,CFC113_FLAG_W,CCL4,CCL4_FLAG_W,TRITUM,TRITUM_FLAG_W,HELIUM,HELIUM_FLAG_W,DELHE3,DELHE3_FLAG_W,NEON,TCARBN,TCARBN_FLAG_W,PCO2,PCO2_FLAG_W,CTDRAW,HELIER,DELHER,NEONER,NEON_FLAG_W,THETA,TRITER
,,,,,,,,,,,,DBAR,ITS-90,PSS-78,,PSS-78,,UMOL/KG,,UMOL/KG,,UMOL/KG,,PMOL/KG,,PMOL/KG,,PMOL/KG,,PMOL/KG,,TU,,NMOL/KG,,PERCNT,,NMOL/KG,UMOL/KG,,UATM,,,NMOL/KG,PERCNT,NMOL/KG,,ITS-90,TU
      06MT28_1,   A08,   265,  2,   2656,    324,2,19940502,2004,-11.3335,  10.4167, 4063,     16.0,  25.8482,  36.0748,2,  36.0048,4,    216.6,2,     0.77,2,     0.58,2, -999.000,9, -999.000,9, -999.000,9, -999.000,9, -999.000,9,-999.0000,9,  -999.00,9,-999.000,   -999.0,9,   -999.0,9,     13,-999.0000,-999.000,-999.000,9, 25.8447,-999.000
      06MT28_1,   A08,   265,  2,   2700,    323,2,19940502,2004,-11.3335,  10.4167, 4063,    447.6,   8.4842,  34.7752,2,-999.0000,9,     22.4,2,    18.36,2,    39.01,2, -999.000,9, -999.000,9, -999.000,9, -999.000,9, -999.000,9,-999.0000,9,  -999.00,9,-999.000,   -999.0,9,   -999.0,9,    450,-999.0000,-999.000,-999.000,9,  8.4367,-999.000
      06MT28_1,   A08,   265,  2,   2699,    322,2,19940502,2004,-11.3335,  10.4167, 4063,    546.6,   7.0424,  34.6469,2,-999.0000,9,     40.4,2,    21.98,2,    40.32,2, -999.000,9, -999.000,9, -999.000,9, -999.000,9, -999.000,9,-999.0000,9,  -999.00,9,-999.000,   -999.0,9,   -999.0,9,    550,-999.0000,-999.000,-999.000,9,  6.9901,-999.000
      06MT28_1,   A08,   265,  2,   2698,    321,2,19940502,2004,-11.3335,  10.4167, 4063,    646.7,   5.8908,  34.5581,2,-999.0000,9,     67.0,2,    25.98,2,    39.92,2, -999.000,9, -999.000,9, -999.000,9, -999.000,9, -999.000,9,-999.0000,9,  -999.00,9,-999.000,   -999.0,9,   -999.0,9,    650,-999.0000,-999.000,-999.000,9,  5.8341,-999.000
      06MT28_1,   A08,   265,  2,   2697,    320,2,19940502,2004,-11.3335,  10.4167, 4063,    746.4,   5.0473,  34.5171,2,  34.5137,2,     96.0,2,    29.88,2,    38.47,2, -999.000,9, -999.000,9, -999.000,9, -999.000,9, -999.000,9,-999.0000,9,  -999.00,9,-999.000,   -999.0,9,   -999.0,9,    750,-999.0000,-999.000,-999.000,9,  4.9862,-999.000
      06MT28_1,   A08,   265,  2,   2696,    319,2,19940502,2004,-11.3335,  10.4167, 4063,    821.2,   4.6710,  34.5204,2,-999.0000,9,    106.1,2,    31.77,2,    37.02,2, -999.000,9, -999.000,9, -999.000,9, -999.000,9, -999.000,9,-999.0000,9,  -999.00,9,-999.000,   -999.0,9,   -999.0,9,    825,-999.0000,-999.000,-999.000,9,  4.6057,-999.000
      06MT28_1,   A08,   265,  2,   2695,    318,2,19940502,2004,-11.3335,  10.4167, 4063,    920.7,   4.3196,  34.5426,2,-999.0000,9,    121.5,2,    33.67,2,    35.67,2, -999.000,9, -999.000,9, -999.000,9, -999.000,9, -999.000,9,-999.0000,9,  -999.00,9,-999.000,   -999.0,9,   -999.0,9,    925,-999.0000,-999.000,-999.000,9,  4.2482,-999.000
      06MT28_1,   A08,   265,  2,   2693,    317,2,19940502,2004,-11.3335,  10.4167, 4063,   1096.5,   4.0608,  34.6572,2,  34.6544,2,    142.5,2,    32.97,2,    32.21,2, -999.000,9, -999.000,9, -999.000,9, -999.000,9, -999.000,9,-999.0000,9,  -999.00,9,-999.000,   -999.0,9,   -999.0,9,   1101,-999.0000,-999.000,-999.000,9,  3.9763,-999.000
      06MT28_1,   A08,   265,  2,   2692,    316,2,19940502,2004,-11.3335,  10.4167, 4063,   1295.7,   3.9093,  34.8001,2,-999.0000,9,    169.4,2,    29.22,2,    27.79,2, -999.000,9, -999.000,9, -999.000,9, -999.000,9, -999.000,9,-999.0000,9,  -999.00,9,-999.000,   -999.0,9,   -999.0,9,   1299,-999.0000,-999.000,-999.000,9,  3.8087,-999.000
      06MT28_1,   A08,   265,  2,   2691,    315,2,19940502,2004,-11.3335,  10.4167, 4063,   1496.1,   3.8069,  34.8923,2,-999.0000,9,    194.3,2,    25.49,2,    24.15,2, -999.000,9, -999.000,9, -999.000,9, -999.000,9, -999.000,9,-999.0000,9,  -999.00,9,-999.000,   -999.0,9,   -999.0,9,   1500,-999.0000,-999.000,-999.000,9,  3.6895,-999.000
      06MT28_1,   A08,   265,  2,   2689,    314,2,19940502,2004,-11.3335,  10.4167, 4063,   1696.4,   3.6318,  34.9209,2,-999.0000,9,   -999.0,9,    25.27,2,    22.71,2, -999.000,9, -999.000,9, -999.000,9, -999.000,9, -999.000,9,-999.0000,9,  -999.00,9,-999.000,   -999.0,9,   -999.0,9,   1699,-999.0000,-999.000,-999.000,9,  3.4983,-999.000
      06MT28_1,   A08,   265,  2,   2743,    313,2,19940502,2004,-11.3335,  10.4167, 4063,   1898.6,   3.4184,  34.9321,2,-999.0000,9,    213.8,2,    27.05,2,    21.74,2, -999.000,9, -999.000,9, -999.000,9, -999.000,9, -999.000,9,-999.0000,9,  -999.00,9,-999.000,   -999.0,9,   -999.0,9,   1901,-999.0000,-999.000,-999.000,9,  3.2691,-999.000
      06MT28_1,   A08,   265,  2,   2741,    312,2,19940502,2004,-11.3335,  10.4167, 4063,   2097.9,   3.2336,  34.9315,2,  34.9310,2,    215.1,2,    29.59,2,    21.72,2, -999.000,9, -999.000,9, -999.000,9, -999.000,9, -999.000,9,-999.0000,9,  -999.00,9,-999.000,   -999.0,9,   -999.0,9,   2100,-999.0000,-999.000,-999.000,9,  3.0684,-999.000
      06MT28_1,   A08,   265,  2,   2739,    311,2,19940502,2004,-11.3335,  10.4167, 4063,   2348.8,   3.0013,  34.9249,2,-999.0000,9,    216.6,2,    33.73,2,    21.69,2, -999.000,9, -999.000,9, -999.000,9, -999.000,9, -999.000,9,-999.0000,9,  -999.00,9,-999.000,   -999.0,9,   -999.0,9,   2350,-999.0000,-999.000,-999.000,9,  2.8161,-999.000
      06MT28_1,   A08,   265,  2,   2738,    310,2,19940502,2004,-11.3335,  10.4167, 4063,   2599.3,   2.8342,  34.9181,2,-999.0000,9,    216.3,2,    36.91,2,    21.77,2, -999.000,9, -999.000,9, -999.000,9, -999.000,9, -999.000,9,-999.0000,9,  -999.00,9,-999.000,   -999.0,9,   -999.0,9,   2600,-999.0000,-999.000,-999.000,9,  2.6277,-999.000
      06MT28_1,   A08,   265,  2,   2737,    309,2,19940502,2004,-11.3335,  10.4167, 4063,   2850.5,   2.7174,  34.9125,2,-999.0000,9,    217.1,2,    39.51,2,    21.84,2, -999.000,9, -999.000,9, -999.000,9, -999.000,9, -999.000,9,-999.0000,9,  -999.00,9,-999.000,   -999.0,9,   -999.0,9,   2850,-999.0000,-999.000,-999.000,9,  2.4881,-999.000
      06MT28_1,   A08,   265,  2,   2736,    308,2,19940502,2004,-11.3335,  10.4167, 4063,   3101.5,   2.5953,  34.9059,2,  34.9038,2,    217.2,2,    42.59,2,    21.91,2, -999.000,9, -999.000,9, -999.000,9, -999.000,9, -999.000,9,-999.0000,9,  -999.00,9,-999.000,   -999.0,9,   -999.0,9,   3100,-999.0000,-999.000,-999.000,9,  2.3429,-999.000
      06MT28_1,   A08,   265,  2,   2735,    307,2,19940502,2004,-11.3335,  10.4167, 4063,   3351.5,   2.5075,  34.9005,2,-999.0000,9,    213.5,2,    45.56,2,    22.17,2, -999.000,9, -999.000,9, -999.000,9, -999.000,9, -999.000,9,-999.0000,9,  -999.00,9,-999.000,   -999.0,9,   -999.0,9,   3349,-999.0000,-999.000,-999.000,9,  2.2309,-999.000
      06MT28_1,   A08,   265,  2,   2734,    306,2,19940502,2004,-11.3335,  10.4167, 4063,   3602.9,   2.4353,  34.8954,2,-999.0000,9,    210.1,2,    49.56,2,    22.52,2, -999.000,9, -999.000,9, -999.000,9, -999.000,9, -999.000,9,-999.0000,9,  -999.00,9,-999.000,   -999.0,9,   -999.0,9,   3600,-999.0000,-999.000,-999.000,9,  2.1333,-999.000
      06MT28_1,   A08,   265,  2,   2733,    305,2,19940502,2004,-11.3335,  10.4167, 4063,   3852.7,   2.3716,  34.8901,2,-999.0000,9,    205.0,2,    53.18,2,    22.87,2, -999.000,9, -999.000,9, -999.000,9, -999.000,9, -999.000,9,-999.0000,9,  -999.00,9,-999.000,   -999.0,9,   -999.0,9,   3849,-999.0000,-999.000,-999.000,9,  2.0437,-999.000
      06MT28_1,   A08,   265,  2,   2732,    304,2,19940502,2004,-11.3335,  10.4167, 4063,   3983.7,   2.3476,  34.8870,2,-999.0000,9,    201.1,2,    54.57,2,    23.33,2, -999.000,9, -999.000,9, -999.000,9, -999.000,9, -999.000,9,-999.0000,9,  -999.00,9,-999.000,   -999.0,9,   -999.0,9,   3980,-999.0000,-999.000,-999.000,9,  2.0056,-999.000
      06MT28_1,   A08,   265,  2,   2731,    303,2,19940502,2004,-11.3335,  10.4167, 4063,   4054.2,   2.3530,  34.8857,2,-999.0000,9,    192.9,2,    56.29,2,    23.79,2, -999.000,9, -999.000,9, -999.000,9, -999.000,9, -999.000,9,-999.0000,9,  -999.00,9,-999.000,   -999.0,9,   -999.0,9,   4050,-999.0000,-999.000,-999.000,9,  2.0028,-999.000
      06MT28_1,   A08,   265,  2,   2730,    301,2,19940502,2004,-11.3335,  10.4167, 4063,   4084.6,   2.3567,  34.8861,2,  34.8862,2,    191.9,2,    56.33,2,    23.79,2, -999.000,9, -999.000,9, -999.000,9, -999.000,9, -999.000,9,-999.0000,9,  -999.00,9,-999.000,   -999.0,9,   -999.0,9,   4081,-999.0000,-999.000,-999.000,9,  2.0029,-999.000
      06MT28_1,   A08,   265,  2,   2729,    302,2,19940502,2004,-11.3335,  10.4167, 4063,   4084.8,   2.3568,  34.8859,2,  34.8855,2,    192.2,2,    56.42,2,    23.70,2, -999.000,9, -999.000,9, -999.000,9, -999.000,9, -999.000,9,-999.0000,9,  -999.00,9,-999.000,   -999.0,9,   -999.0,9,   4081,-999.0000,-999.000,-999.000,9,  2.0030,-999.000
      06MT28_1,   A08,   266,  1,   2727,    221,2,19940503,0015,-11.3333,  10.8335, 3858,      4.0,  25.9148,  36.3205,2,-999.0000,9,   -999.0,9,  -999.00,9,  -999.00,9,    1.578,2,    0.951,2,    0.145,2,    1.651,2, -999.000,9,-999.0000,9,  -999.00,9,-999.000,   2042.7,2,    458.8,6,      3,-999.0000,-999.000,-999.000,9, 25.9139,-999.000
      06MT28_1,   A08,   266,  1,   2769,    220,2,19940503,0015,-11.3333,  10.8335, 3858,     10.2,  25.8461,  36.2991,2,  36.2852,3,   -999.0,9,     0.10,2,     0.00,2,    1.573,2,    0.940,2,    0.145,2,    1.554,2, -999.000,9,-999.0000,9,  -999.00,9,-999.000,   2042.7,2,    454.7,2,     10,-999.0000,-999.000,-999.000,9, 25.8438,-999.000
      06MT28_1,   A08,   266,  1,   2767,    219,2,19940503,0015,-11.3333,  10.8335, 3858,     20.6,  24.6903,  36.2003,2,-999.0000,9,   -999.0,9,     0.48,2,     0.00,2,    1.509,2,    0.899,2,    0.112,2,    1.025,2, -999.000,9,-999.0000,9,  -999.00,9,-999.000,   2043.3,2,    466.3,2,     20,-999.0000,-999.000,-999.000,9, 24.6859,-999.000
      06MT28_1,   A08,   266,  1,   2765,    218,2,19940503,0015,-11.3333,  10.8335, 3858,     30.4,  21.3162,  35.9719,2,-999.0000,9,    204.9,2,  -999.00,9,  -999.00,9,    1.397,2,    0.818,2,    0.060,2,    0.398,2, -999.000,9,   1.7090,2,     0.08,2,   6.993,   2056.3,2,    539.3,2,     30,  0.0060,   0.250,   0.023,2, 21.3103,-999.000
      06MT28_1,   A08,   266,  1,   2793,    217,2,19940503,0015,-11.3333,  10.8335, 3858,     40.2,  17.5048,  35.7357,2,-999.0000,9,    225.7,2,     5.56,2,    18.60,2,    1.328,2,    0.746,2,    0.045,2,    0.178,2, -999.000,9,   1.7220,2,     0.90,2,   7.093,   2185.3,2,   1188.7,4,     40,  0.0060,   0.250,   0.023,2, 17.4981,-999.000
      06MT28_1,   A08,   266,  1,   2791,    216,2,19940503,0015,-11.3333,  10.8335, 3858,     50.1,  16.5542,  35.6649,2,-999.0000,9,     74.5,2,  -999.00,9,  -999.00,9,    1.252,2,    0.708,2,    0.052,2,    0.164,2, -999.000,9,   1.7260,2,     0.49,2,   7.152,   2202.6,2,   1404.8,2,     50,  0.0070,   0.250,   0.024,2, 16.5461,-999.000
      06MT28_1,   A08,   266,  1,   2789,    215,2,19940503,0015,-11.3333,  10.8335, 3858,     59.5,  16.1509,  35.6353,2,-999.0000,9,     47.7,2,     6.90,2,    23.29,2,    1.192,2,    0.673,2,    0.933,4,    0.139,2, -999.000,9,   1.7190,2,     1.02,2,   7.127,   2208.6,2,   1427.8,2,     59,  0.0060,   0.250,   0.024,2, 16.1414,-999.000
      06MT28_1,   A08,   266,  1,   2788,    214,2,19940503,0015,-11.3333,  10.8335, 3858,     80.3,  15.5275,  35.5741,2,-999.0000,9,     44.2,2,     7.38,2,    24.63,2,    1.098,2,    0.614,2,    0.676,4,    0.117,2, -999.000,9,   1.7310,2,     1.30,2,   7.181,   2211.2,2,   1490.4,2,     80,  0.0070,   0.250,   0.024,2, 15.5150,-999.000
      06MT28_1,   A08,   266,  1,   2787,    213,2,19940503,0015,-11.3333,  10.8335, 3858,    116.7,  14.7853,  35.4970,2,-999.0000,9,     47.1,2,     8.05,2,    25.29,2,    0.962,2,    0.538,2,    0.052,2,    0.098,2, -999.000,9,   1.7450,2,     1.56,2,   7.212,   2212.4,2,   1524.1,2,    116,  0.0070,   0.250,   0.024,2, 14.7678,-999.000
      06MT28_1,   A08,   266,  1,   2786,    212,2,19940503,0015,-11.3333,  10.8335, 3858,    180.3,  13.5600,  35.3524,2,-999.0000,9,     50.3,2,     8.52,2,    26.72,2,    0.828,2,    0.466,2,    0.046,2,    0.149,2, -999.000,9,   1.7460,2,     1.58,2,   7.252,   2212.8,2,   1597.5,2,    180,  0.0070,   0.250,   0.024,2, 13.5344,-999.000
      06MT28_1,   A08,   266,  1,   2785,    211,2,19940503,0015,-11.3333,  10.8335, 3858,    250.0,  12.2410,  35.1923,2,  35.1855,2,     38.5,2,    10.72,2,    30.06,2,    0.506,2,    0.291,2,    0.046,2,    0.100,2, -999.000,9,   1.7460,2,     1.75,2,   7.369,   2229.0,2,   1280.2,2,    250,  0.0070,   0.250,   0.024,2, 12.2078,-999.000
      06MT28_1,   A08,   266,  1,   2783,    210,2,19940503,0015,-11.3333,  10.8335, 3858,    350.0,  10.5704,  34.9992,2,-999.0000,9,     35.9,2,    13.20,2,    33.10,2,    0.233,4,    0.139,2,    0.040,2,    0.090,2, -999.000,9,-999.0000,9,  -999.00,9,-999.000,   2241.3,2,   1475.8,2,    350,-999.0000,-999.000,-999.000,9, 10.5280,-999.000
      06MT28_1,   A08,   266,  1,   2822,    209,2,19940503,0015,-11.3333,  10.8335, 3858,   1000.9,   4.1412,  34.6113,2,-999.0000,9,    132.3,2,    33.70,2,    33.27,2, -999.000,9, -999.000,9, -999.000,9, -999.000,9, -999.000,9,-999.0000,9,  -999.00,9,-999.000,   2235.6,2,   1316.5,6,   1002,-999.0000,-999.000,-999.000,9,  4.0642,-999.000