BOTTLE,20220817CCHSIOAMB
EXPOCODE,SECT_ID,STNNBR,CASTNO,SAMPNO,BTLNBR,BTLNBR_FLAG_W,DATE,TIME,LATITUDE,LONGITUDE,DEPTH,CTDPRS,CTDTMP,CTDSAL,CTDSAL_FLAG_W,SALNTY,SALNTY_FLAG_W,OXYGEN,OXYGEN_FLAG_W,SILCAT,SILCAT_FLAG_W,NO2+NO3,NO2+NO3_FLAG_W,CFC-11,CFC-11_FLAG_W,CFC-12,CFC-12_FLAG_W,CFC113,CFC113_FLAG_W,CCL4,CCL4_FLAG_W,TRITUM,TRITUM_FLAG_W,HELIUM,HELIUM_FLAG_W,DELHE3,DELHE3_FLAG_W,NEON,TCARBN,TCARBN_FLAG_W,PCO2,PCO2_FLAG_W,CTDRAW,HELIER,DELHER,NEONER,NEON_FLAG_W,THETA,TRITER
,,,,,,,,,,,,DBAR,ITS-90,PSS-78,,PSS-78,,UMOL/KG,,UMOL/KG,,UMOL/KG,,PMOL/KG,,PMOL/KG,,PMOL/KG,,PMOL/KG,,TU,,NMOL/KG,,PERCNT,,NMOL/KG,UMOL/KG,,UATM,,,NMOL/KG,PERCNT,NMOL/KG,,ITS-90,TU
      06MT28_1,   A08,   206,  2,   2070,    324,2,19940414,1008,-11.3333, -19.0005, 4565,     15.6,  27.2213,  36.8744,2,  36.8723,2,    192.3,2,     0.86,2,     0.00,2, -999.000,9, -999.000,9, -999.000,9, -999.000,9, -999.000,9,-999.0000,9,  -999.00,9,-999.000,   2055.5,2,   -999.0,9,     12,-999.0000,-999.000,-999.000,9, 27.2177,-999.000
      06MT28_1,   A08,   206,  2,   2059,    323,2,19940414,1008,-11.3333, -19.0005, 4565,    498.3,   6.7793,  34.5891,2,-999.0000,9,    113.5,2,    19.31,2,    32.21,2, -999.000,9, -999.000,9, -999.000,9, -999.000,9, -999.000,9,-999.0000,9,  -999.00,9,-999.000,   2215.5,2,   1231.1,2,    501,-999.0000,-999.000,-999.000,9,  6.7327,-999.000
      06MT28_1,   A08,   206,  2,   2058,    322,2,19940414,1008,-11.3333, -19.0005, 4565,    597.1,   5.9137,  34.5190,2,-999.0000,9,    125.2,2,    22.35,2,    32.77,2,    0.125,2,    0.070,2,    0.012,2,    0.333,2,    0.040,2,   1.7890,6,     1.17,6,   7.696,   2213.8,2,   1235.4,2,    600,  0.0070,   0.250,   0.025,6,  5.8615,   0.003
      06MT28_1,   A08,   206,  2,   2057,    321,2,19940414,1008,-11.3333, -19.0005, 4565,    696.4,   5.0786,  34.4636,2,-999.0000,9,    142.1,2,    26.26,2,    32.75,2,    0.070,2,    0.046,2,    0.007,2,    0.323,2,    0.061,2,   1.7840,2,     1.77,2,   7.720,   2211.9,2,   1197.7,2,    700,  0.0070,   0.240,   0.025,2,  5.0218,   0.323
      06MT28_1,   A08,   206,  2,   2056,    320,2,19940414,1008,-11.3333, -19.0005, 4565,    851.9,   4.2839,  34.4676,2,-999.0000,9,    152.8,2,    31.77,2,    32.53,2,    0.045,2,    0.025,2,    0.006,2,    0.217,2, -999.000,9,   1.8010,2,     2.66,2,   7.815,   2215.7,2,   1178.2,2,    855,  0.0070,   0.250,   0.026,2,  4.2186,-999.000
      06MT28_1,   A08,   206,  2,   2053,    319,2,19940414,1008,-11.3333, -19.0005, 4565,    998.5,   3.9846,  34.5501,2,  34.5500,2,    156.7,2,    33.75,2,    31.46,2,    0.028,2,    0.019,2,    0.009,2,    0.081,2,    0.013,2,   1.8000,2,     2.88,2,   7.821,   2216.8,2,   1134.5,2,   1002,  0.0070,   0.240,   0.025,2,  3.9091,   0.019
      06MT28_1,   A08,   206,  2,   2044,    318,2,19940414,1008,-11.3333, -19.0005, 4565,   1195.8,   3.9728,  34.7057,2,-999.0000,9,    170.5,2,    30.38,2,    28.38,2,    0.020,2,    0.022,4,    0.003,2,    0.031,2,    0.006,2,   1.8040,2,     2.84,2,   7.837,   2210.6,2,   1038.3,2,   1199,  0.0070,   0.240,   0.025,2,  3.8805,   0.001
      06MT28_1,   A08,   206,  2,   2110,    317,2,19940414,1008,-11.3333, -19.0005, 4565,   1397.7,   3.9457,  34.8542,2,-999.0000,9,    193.1,2,    24.64,2,    24.17,2,    0.015,2,    0.009,2,    0.002,2,    0.056,2,    0.012,2,   1.8050,2,     2.40,2,   7.840,   2191.8,2,    911.5,2,   1401,  0.0070,   0.240,   0.025,2,  3.8356,   0.003
      06MT28_1,   A08,   206,  2,   2111,    316,2,19940414,1008,-11.3333, -19.0005, 4565,   1599.2,   3.8171,  34.9211,2,-999.0000,9,    212.5,2,    21.77,2,    21.48,2,    0.016,2,    0.008,2,    0.015,2,    0.094,2,    0.030,2,   1.8070,2,     1.88,2,   7.865,   2177.7,2,    821.2,2,   1602,  0.0070,   0.240,   0.025,2,  3.6901,   0.004
      06MT28_1,   A08,   206,  2,   2109,    315,2,19940414,1008,-11.3333, -19.0005, 4565,   1798.0,   3.6833,  34.9573,2,-999.0000,9,    228.4,2,    19.56,2,    19.56,2,    0.015,2,    0.010,2,    0.011,2,    0.167,2,    0.040,2,   1.8000,2,     1.13,2,   7.858,   -999.0,9,   -999.0,9,   1800,  0.0070,   0.240,   0.025,2,  3.5396,   0.004
      06MT28_1,   A08,   206,  2,   2108,    314,2,19940414,1008,-11.3333, -19.0005, 4565,   1998.7,   3.3428,  34.9522,2,  34.9503,2,    234.5,2,    22.39,2,    19.17,2,    0.010,2,    0.007,2,    0.007,2,    0.133,2,    0.027,2,   1.8160,6,     2.55,6,   7.892,   2168.1,2,    749.9,2,   2000,  0.0070,   0.250,   0.026,6,  3.1852,   0.013
      06MT28_1,   A08,   206,  2,   2107,    313,2,19940414,1008,-11.3333, -19.0005, 4565,   2248.7,   3.1344,  34.9387,2,-999.0000,9,    231.9,2,    26.06,2,    19.43,2,    0.008,2,    0.005,2,    0.009,2,    0.091,2, -999.000,9,   1.8250,2,     2.49,2,   7.918,   2172.7,2,    773.2,2,   2249,  0.0070,   0.240,   0.025,2,  2.9565,-999.000
      06MT28_1,   A08,   206,  2,   2106,    312,2,19940414,1008,-11.3333, -19.0005, 4565,   2499.3,   2.9213,  34.9225,2,-999.0000,9,    229.4,2,    30.67,2,    19.98,2,    0.002,2,    0.003,2,    0.005,2,    0.044,2,    0.018,2,   1.8540,2,     3.31,2,   8.052,   2179.1,2,    755.3,2,   2499,  0.0070,   0.250,   0.027,2,  2.7229,   0.773
      06MT28_1,   A08,   206,  2,   2105,    311,2,19940414,1008,-11.3333, -19.0005, 4565,   2751.9,   2.7595,  34.9090,2,-999.0000,9,    226.0,2,    35.65,2,    20.62,2,    0.007,2,    0.003,2,    0.002,2,    0.042,2,    0.003,2,-999.0000,9,  -999.00,9,-999.000,   2186.5,2,    791.8,6,   2751,-999.0000,-999.000,-999.000,9,  2.5393,   0.003
      06MT28_1,   A08,   206,  2,   2104,    310,2,19940414,1008,-11.3333, -19.0005, 4565,   3003.0,   2.6496,  34.9045,2,  34.9033,2,    228.6,2,    37.22,2,    20.31,2,    0.004,2,    0.003,2,    0.010,2,    0.042,2,    0.011,2,   1.8280,2,     3.62,2,   7.948,   2186.5,2,    781.8,2,   3001,  0.0070,   0.240,   0.025,2,  2.4062,   0.005
      06MT28_1,   A08,   206,  2,   2103,    309,2,19940414,1008,-11.3333, -19.0005, 4565,   3252.0,   2.5861,  34.9029,2,-999.0000,9,    228.1,2,    37.28,2,    20.38,2,    0.006,2,    0.002,2,    0.014,2,    0.030,2,   -0.049,3,   1.8270,2,     3.49,2,   7.963,   2186.5,2,    785.6,2,   3249,  0.0070,   0.240,   0.025,2,  2.3182,   0.149
      06MT28_1,   A08,   206,  2,   2102,    308,2,19940414,1008,-11.3333, -19.0005, 4565,   3504.5,   2.3838,  34.8885,2,-999.0000,9,    229.3,2,    41.85,2,    20.64,2,    0.007,2,    0.002,2,    0.003,2,    0.030,2,    0.009,2,   1.8220,2,     3.05,2,   7.979,   2188.9,2,    796.0,2,   3501,  0.0070,   0.250,   0.026,2,  2.0940,   0.008
      06MT28_1,   A08,   206,  2,   2101,    307,2,19940414,1008,-11.3333, -19.0005, 4565,   3754.3,   2.1543,  34.8682,2,-999.0000,9,    222.3,2,    62.71,2,    23.26,2,    0.003,2,    0.003,2,    0.005,2,    0.023,2,    0.005,2,   1.8540,2,     4.78,2,   8.094,   2211.1,3,    855.4,3,   3750,  0.0070,   0.240,   0.026,2,  1.8433,   0.002
      06MT28_1,   A08,   206,  2,   2100,    306,2,19940414,1008,-11.3333, -19.0005, 4565,   4004.4,   1.7872,  34.8307,2,  34.8304,2,    221.6,2,    62.55,2,    23.23,2,    0.004,2,   -0.001,2,    0.007,2,    0.045,2, -999.000,9,-999.0000,9,  -999.00,9,-999.000,   2210.1,2,    850.1,2,   4000,-999.0000,-999.000,-999.000,9,  1.4588,-999.000
      06MT28_1,   A08,   206,  2,   2099,    305,2,19940414,1008,-11.3333, -19.0005, 4565,   4253.6,   1.4731,  34.7973,2,-999.0000,9,    216.5,2,    74.70,2,    24.81,2,    0.004,2,    0.002,2,    0.004,2,    0.042,2,    0.007,2,   1.8670,2,     5.09,2,   8.157,   2222.7,2,    897.4,2,   4249,  0.0070,   0.240,   0.026,2,  1.1262,   0.002
      06MT28_1,   A08,   206,  2,   2098,    304,2,19940414,1008,-11.3333, -19.0005, 4565,   4504.2,   1.2286,  34.7700,2,-999.0000,9,    212.5,2,    84.62,2,    26.24,2,    0.008,2,    0.004,2,    0.001,2,    0.043,2, -999.000,9,-999.0000,9,  -999.00,9,-999.000,   2234.2,2,    938.3,2,   4499,-999.0000,-999.000,-999.000,9,  0.8610,-999.000
      06MT28_1,   A08,   206,  2,   2097,    303,2,19940414,1008,-11.3333, -19.0005, 4565,   4576.8,   1.2249,  34.7689,2,-999.0000,9,    212.3,2,    84.97,2,    26.23,2,    0.005,2,    0.004,2,    0.003,2,    0.045,2, -999.000,9,-999.0000,9,  -999.00,9,-999.000,   2232.3,2,    938.2,2,   4571,-999.0000,-999.000,-999.000,9,  0.8491,-999.000
      06MT28_1,   A08,   206,  2,   2096,    301,2,19940414,1008,-11.3333, -19.0005, 4565,   4602.2,   1.2229,  34.7681,2,  34.7683,2,    212.5,2,    85.01,2,    26.32,2,    0.020,2,    0.009,2,    0.010,2,    0.049,2, -999.000,9,   1.8610,2,     5.51,2,   8.119,   2233.2,2,    955.7,6,   4597,  0.0070,   0.240,   0.026,2,  0.8442,-999.000
      06MT28_1,   A08,   206,  2,   2095,    302,2,19940414,1008,-11.3333, -19.0005, 4565,   4602.7,   1.2229,  34.7679,2,  34.7666,2,    212.6,2,    85.34,2,    26.32,2, -999.000,9, -999.000,9, -999.000,9, -999.000,9, -999.000,9,   1.8370,2,     5.97,2,   8.041,   2232.8,2,    926.5,2,   4597,  0.0070,   0.250,   0.027,2,  0.8442,-999.000
      06MT28_1,   A08,   207,  1,   2094,    214,2,19940414,1514,-11.3350, -18.4977, 4110,      8.3,  27.4407,  36.8142,2,-999.0000,9,    190.0,2,     0.77,2,     0.00,2, -999.000,9, -999.000,9, -999.000,9, -999.000,9, -999.000,9,-999.0000,9,  -999.00,9,-999.000,   -999.0,9,   -999.0,9,      8,-999.0000,-999.000,-999.000,9, 27.4388,-999.000
      06MT28_1,   A08,   207,  1,   2092,    213,2,19940414,1514,-11.3350, -18.4977, 4110,     39.4,  27.2446,  36.8686,2,-999.0000,9,    194.3,2,     0.86,2,     0.00,2, -999.000,9, -999.000,9, -999.000,9, -999.000,9, -999.000,9,-999.0000,9,  -999.00,9,-999.000,   -999.0,9,   -999.0,9,     39,-999.0000,-999.000,-999.000,9, 27.2355,-999.000
      06MT28_1,   A08,   207,  1,   2091,    212,2,19940414,1514,-11.3350, -18.4977, 4110,     60.5,  26.0142,  36.9593,2,-999.0000,9,    204.1,2,     0.77,2,     0.00,2, -999.000,9, -999.000,9, -999.000,9, -999.000,9, -999.000,9,-999.0000,9,  -999.00,9,-999.000,   -999.0,9,   -999.0,9,     60,-999.0000,-999.000,-999.000,9, 26.0007,-999.000
      06MT28_1,   A08,   207,  1,   2090,    211,2,19940414,1514,-11.3350, -18.4977, 4110,     79.8,  24.9400,  36.8905,2,-999.0000,9,    209.7,2,     0.67,2,     0.00,2, -999.000,9, -999.000,9, -999.000,9, -999.000,9, -999.000,9,-999.0000,9,  -999.00,9,-999.000,   -999.0,9,   -999.0,9,     80,-999.0000,-999.000,-999.000,9, 24.9226,-999.000
      06MT28_1,   A08,   207,  1,   2089,    210,2,19940414,1514,-11.3350, -18.4977, 4110,    119.5,  20.9996,  36.4222,2,-999.0000,9,    195.1,2,     1.15,2,     0.77,2, -999.000,9, -999.000,9, -999.000,9, -999.000,9, -999.000,9,-999.0000,9,  -999.00,9,-999.000,   -999.0,9,   -999.0,9,    119,-999.0000,-999.000,-999.000,9, 20.9766,-999.000
      06MT28_1,   A08,   207,  1,   2079,    209,2,19940414,1514,-11.3350, -18.4977, 4110,    178.7,  14.7691,  35.5245,2,-999.0000,9,    123.6,2,     5.17,2,    16.12,2, -999.000,9, -999.000,9, -999.000,9, -999.000,9, -999.000,9,-999.0000,9,  -999.00,9,-999.000,   -999.0,9,   -999.0,9,    178,-999.0000,-999.000,-999.000,9, 14.7422,-999.000
      06MT28_1,   A08,   207,  1,   2143,    208,2,19940414,1514,-11.3350, -18.4977, 4110,    248.5,  11.5877,  35.1108,2,-999.0000,9,     77.1,2,    10.09,2,    26.53,2, -999.000,9, -999.000,9, -999.000,9, -999.000,9, -999.000,9,-999.0000,9,  -999.00,9,-999.000,   -999.0,9,   -999.0,9,    248,-999.0000,-999.000,-999.000,9, 11.5559,-999.000
      06MT28_1,   A08,   207,  2,   2093,    324,2,19940414,1715,-11.3332, -18.4983, 4115,     14.8,  27.5640,  36.8107,2,  36.8107,2,    193.4,2,     0.96,2,     0.00,2, -999.000,9, -999.000,9, -999.000,9, -999.000,9, -999.000,9,-999.0000,9,  -999.00,9,-999.000,   -999.0,9,   -999.0,9,     11,-999.0000,-999.000,-999.000,9, 27.5605,-999.000
      06MT28_1,   A08,   207,  2,   2144,    323,2,19940414,1715,-11.3332, -18.4983, 4115,    447.1,   7.2784,  34.6326,2,-999.0000,9,    108.9,2,    17.88,2,    31.74,2, -999.000,9, -999.000,9, -999.000,9, -999.000,9, -999.000,9,-999.0000,9,  -999.00,9,-999.000,   -999.0,9,   -999.0,9,    449,-999.0000,-999.000,-999.000,9,  7.2351,-999.000
      06MT28_1,   A08,   207,  2,   2142,    322,2,19940414,1715,-11.3332, -18.4983, 4115,    546.9,   6.0059,  34.5245,2,-999.0000,9,    124.0,2,    22.17,2,    32.58,2, -999.000,9, -999.000,9, -999.000,9, -999.000,9, -999.000,9,-999.0000,9,  -999.00,9,-999.000,   -999.0,9,   -999.0,9,    550,-999.0000,-999.000,-999.000,9,  5.9579,-999.000
      06MT28_1,   A08,   207,  2,   2141,    321,2,19940414,1715,-11.3332, -18.4983, 4115,    647.2,   5.3427,  34.4775,2,-999.0000,9,    137.6,2,    25.12,2,    32.57,2, -999.000,9, -999.000,9, -999.000,9, -999.000,9, -999.000,9,-999.0000,9,  -999.00,9,-999.000,   -999.0,9,   -999.0,9,    650,-999.0000,-999.000,-999.000,9,  5.2888,-999.000
      06MT28_1,   A08,   207,  2,   2140,    320,2,19940414,1715,-11.3332, -18.4983, 4115,    747.1,   4.6620,  34.4583,2,-999.0000,9,    145.1,2,    29.40,2,    32.84,2, -999.000,9, -999.000,9, -999.000,9, -999.000,9, -999.000,9,-999.0000,9,  -999.00,9,-999.000,   -999.0,9,   -999.0,9,    750,-999.0000,-999.000,-999.000,9,  4.6032,-999.000
      06MT28_1,   A08,   207,  2,   2139,    319,2,19940414,1715,-11.3332, -18.4983, 4115,    820.6,   4.2597,  34.4605,2,-999.0000,9,    154.4,2,    32.25,2,    32.25,2, -999.000,9, -999.000,9, -999.000,9, -999.000,9, -999.000,9,-999.0000,9,  -999.00,9,-999.000,   -999.0,9,   -999.0,9,    824,-999.0000,-999.000,-999.000,9,  4.1972,-999.000
      06MT28_1,   A08,   207,  2,   2138,    318,2,19940414,1715,-11.3332, -18.4983, 4115,    921.1,   4.0797,  34.4796,2,-999.0000,9,    158.2,2,    33.76,2,    31.85,2, -999.000,9, -999.000,9, -999.000,9, -999.000,9, -999.000,9,-999.0000,9,  -999.00,9,-999.000,   -999.0,9,   -999.0,9,    925,-999.0000,-999.000,-999.000,9,  4.0101,-999.000
      06MT28_1,   A08,   207,  2,   2137,    317,2,19940414,1715,-11.3332, -18.4983, 4115,   1096.5,   3.9243,  34.5839,2,  34.5871,2,    162.4,2,    33.92,2,    30.40,2, -999.000,9, -999.000,9, -999.000,9, -999.000,9, -999.000,9,-999.0000,9,  -999.00,9,-999.000,   -999.0,9,   -999.0,9,   1100,-999.0000,-999.000,-999.000,9,  3.8411,-999.000
      06MT28_1,   A08,   207,  2,   2136,    316,2,19940414,1715,-11.3332, -18.4983, 4115,   1297.5,   4.0416,  34.7796,2,-999.0000,9,    178.5,2,    27.51,2,    26.46,2, -999.000,9, -999.000,9, -999.000,9, -999.000,9, -999.000,9,-999.0000,9,  -999.00,9,-999.000,   -999.0,9,   -999.0,9,   1301,-999.0000,-999.000,-999.000,9,  3.9396,-999.000
      06MT28_1,   A08,   207,  2,   2135,    315,2,19940414,1715,-11.3332, -18.4983, 4115,   1496.6,   4.0181,  34.8826,2,-999.0000,9,    199.0,2,    23.01,2,    23.11,2, -999.000,9, -999.000,9, -999.000,9, -999.000,9, -999.000,9,-999.0000,9,  -999.00,9,-999.000,   -999.0,9,   -999.0,9,   1500,-999.0000,-999.000,-999.000,9,  3.8983,-999.000
      06MT28_1,   A08,   207,  2,   2134,    314,2,19940414,1715,-11.3332, -18.4983, 4115,   1696.8,   3.7243,  34.9313,2,-999.0000,9,    217.7,2,    21.95,2,    20.81,2, -999.000,9, -999.000,9, -999.000,9, -999.000,9, -999.000,9,-999.0000,9,  -999.00,9,-999.000,   -999.0,9,   -999.0,9,   1699,-999.0000,-999.000,-999.000,9,  3.5895,-999.000
      06MT28_1,   A08,   207,  2,   2133,    313,2,19940414,1715,-11.3332, -18.4983, 4115,   1896.9,   3.4280,  34.9479,2,-999.0000,9,    230.7,2,    22.40,2,    19.36,2, -999.000,9, -999.000,9, -999.000,9, -999.000,9, -999.000,9,-999.0000,9,  -999.00,9,-999.000,   -999.0,9,   -999.0,9,   1899,-999.0000,-999.000,-999.000,9,  3.2787,-999.000
      06MT28_1,   A08,   207,  2,   2132,    312,2,19940414,1715,-11.3332, -18.4983, 4115,   2100.3,   3.2369,  34.9424,2,  34.9422,2,    231.9,2,    24.56,2,    19.35,2, -999.000,9, -999.000,9, -999.000,9, -999.000,9, -999.000,9,-999.0000,9,  -999.00,9,-999.000,   -999.0,9,   -999.0,9,   2102,-999.0000,-999.000,-999.000,9,  3.0714,-999.000
      06MT28_1,   A08,   207,  2,   2131,    311,2,19940414,1715,-11.3332, -18.4983, 4115,   2349.3,   3.0236,  34.9298,2,-999.0000,9,    230.3,2,    28.52,2,    19.61,2, -999.000,9, -999.000,9, -999.000,9, -999.000,9, -999.000,9,-999.0000,9,  -999.00,9,-999.000,   -999.0,9,   -999.0,9,   2350,-999.0000,-999.000,-999.000,9,  2.8379,-999.000
      06MT28_1,   A08,   207,  2,   2130,    310,2,19940414,1715,-11.3332, -18.4983, 4115,   2600.6,   2.8060,  34.9090,2,-999.0000,9,    225.7,2,    35.11,2,    20.54,2, -999.000,9, -999.000,9, -999.000,9, -999.000,9, -999.000,9,-999.0000,9,  -999.00,9,-999.000,   -999.0,9,   -999.0,9,   2600,-999.0000,-999.000,-999.000,9,  2.5999,-999.000
      06MT28_1,   A08,   207,  2,   2129,    309,2,19940414,1715,-11.3332, -18.4983, 4115,   2846.6,   2.6789,  34.9031,2,-999.0000,9,    225.0,2,    38.00,2,    20.70,2, -999.000,9, -999.000,9, -999.000,9, -999.000,9, -999.000,9,-999.0000,9,  -999.00,9,-999.000,   -999.0,9,   -999.0,9,   2846,-999.0000,-999.000,-999.000,9,  2.4509,-999.000
      06MT28_1,   A08,   207,  2,   2127,    308,2,19940414,1715,-11.3332, -18.4983, 4115,   3102.5,   2.6287,  34.9049,2,-999.0000,9,   -999.0,9,  -999.00,9,  -999.00,9, -999.000,9, -999.000,9, -999.000,9, -999.000,9, -999.000,9,-999.0000,9,  -999.00,9,-999.000,   -999.0,9,   -999.0,9,   3101,-999.0000,-999.000,-999.000,9,  2.3755,-999.000
      06MT28_1,   A08,   207,  2,   2126,    307,2,19940414,1715,-11.3332, -18.4983, 4115,   3346.2,   2.5285,  34.8997,2,-999.0000,9,    228.9,2,    38.86,2,    20.38,2, -999.000,9, -999.000,9, -999.000,9, -999.000,9, -999.000,9,-999.0000,9,  -999.00,9,-999.000,   -999.0,9,   -999.0,9,   3343,-999.0000,-999.000,-999.000,9,  2.2520,-999.000
      06MT28_1,   A08,   207,  2,   2125,    306,2,19940414,1715,-11.3332, -18.4983, 4115,   3602.9,   2.3411,  34.8852,2,-999.0000,9,    228.5,2,    43.16,2,    20.64,2, -999.000,9, -999.000,9, -999.000,9, -999.000,9, -999.000,9,-999.0000,9,  -999.00,9,-999.000,   -999.0,9,   -999.0,9,   3599,-999.0000,-999.000,-999.000,9,  2.0417,-999.000
      06MT28_1,   A08,   207,  2,   2124,    305,2,19940414,1715,-11.3332, -18.4983, 4115,   3852.7,   2.0133,  34.8533,2,-999.0000,9,    224.8,2,    54.59,2,    21.93,2, -999.000,9, -999.000,9, -999.000,9, -999.000,9, -999.000,9,-999.0000,9,  -999.00,9,-999.000,   -999.0,9,   -999.0,9,   3849,-999.0000,-999.000,-999.000,9,  1.6953,-999.000
      06MT28_1,   A08,   207,  2,   2123,    304,2,19940414,1715,-11.3332, -18.4983, 4115,   4032.4,   1.7158,  34.8216,2,-999.0000,9,    220.9,2,    66.21,2,    23.70,2, -999.000,9, -999.000,9, -999.000,9, -999.000,9, -999.000,9,-999.0000,9,  -999.00,9,-999.000,   -999.0,9,   -999.0,9,   4028,-999.0000,-999.000,-999.000,9,  1.3863,-999.000
      06MT28_1,   A08,   207,  2,   2122,    303,2,19940414,1715,-11.3332, -18.4983, 4115,   4106.9,   1.6697,  34.8161,2,-999.0000,9,    219.3,2,    68.03,2,    24.07,2, -999.000,9, -999.000,9, -999.000,9, -999.000,9, -999.000,9,-999.0000,9,  -999.00,9,-999.000,   -999.0,9,   -999.0,9,   4103,-999.0000,-999.000,-999.000,9,  1.3334,-999.000
      06MT28_1,   A08,   207,  2,   2120,    301,2,19940414,1715,-11.3332, -18.4983, 4115,   4130.6,   1.6560,  34.8146,2,  34.8140,2,    218.3,2,    68.77,2,    24.30,2, -999.000,9, -999.000,9, -999.000,9, -999.000,9, -999.000,9,-999.0000,9,  -999.00,9,-999.000,   -999.0,9,   -999.0,9,   4126,-999.0000,-999.000,-999.000,9,  1.3175,-999.000
      06MT28_1,   A08,   207,  2,   2112,    302,2,19940414,1715,-11.3332, -18.4983, 4115,   4130.6,   1.6531,  34.8140,2,  34.8134,2,    219.1,2,    68.96,2,    24.26,2, -999.000,9, -999.000,9, -999.000,9, -999.000,9, -999.000,9,-999.0000,9,  -999.00,9,-999.000,   -999.0,9,   -999.0,9,   4126,-999.0000,-999.000,-999.000,9,  1.3146,-999.000