BOTTLE,20220817CCHSIOAMB
EXPOCODE,SECT_ID,STNNBR,CASTNO,SAMPNO,BTLNBR,BTLNBR_FLAG_W,DATE,TIME,LATITUDE,LONGITUDE,DEPTH,CTDPRS,CTDTMP,CTDSAL,CTDSAL_FLAG_W,SALNTY,SALNTY_FLAG_W,OXYGEN,OXYGEN_FLAG_W,SILCAT,SILCAT_FLAG_W,NO2+NO3,NO2+NO3_FLAG_W,CFC-11,CFC-11_FLAG_W,CFC-12,CFC-12_FLAG_W,CFC113,CFC113_FLAG_W,CCL4,CCL4_FLAG_W,TRITUM,TRITUM_FLAG_W,HELIUM,HELIUM_FLAG_W,DELHE3,DELHE3_FLAG_W,NEON,TCARBN,TCARBN_FLAG_W,PCO2,PCO2_FLAG_W,CTDRAW,HELIER,DELHER,NEONER,NEON_FLAG_W,THETA,TRITER
,,,,,,,,,,,,DBAR,ITS-90,PSS-78,,PSS-78,,UMOL/KG,,UMOL/KG,,UMOL/KG,,PMOL/KG,,PMOL/KG,,PMOL/KG,,PMOL/KG,,TU,,NMOL/KG,,PERCNT,,NMOL/KG,UMOL/KG,,UATM,,,NMOL/KG,PERCNT,NMOL/KG,,ITS-90,TU
      06MT28_1,   A08,   243,  2,    374,    324,2,19940425,0938,-11.3328,  -1.4965, 5218,     15.1,  26.1389,  36.5431,2,  36.5462,2,    196.8,2,     0.96,2,     0.10,2, -999.000,9, -999.000,9, -999.000,9, -999.000,9, -999.000,9,-999.0000,9,  -999.00,9,-999.000,   -999.0,9,   -999.0,9,     12,-999.0000,-999.000,-999.000,9, 26.1355,-999.000
      06MT28_1,   A08,   243,  2,    406,    323,2,19940425,0938,-11.3328,  -1.4965, 5218,    846.6,   4.4620,  34.5186,2,-999.0000,9,    123.2,2,    32.15,2,    35.49,2, -999.000,9, -999.000,9, -999.000,9, -999.000,9, -999.000,9,-999.0000,9,  -999.00,9,-999.000,   -999.0,9,   -999.0,9,    851,-999.0000,-999.000,-999.000,9,  4.3959,-999.000
      06MT28_1,   A08,   243,  2,    405,    322,2,19940425,0938,-11.3328,  -1.4965, 5218,    995.2,   4.1418,  34.5783,2,  34.5793,2,    141.8,2,    33.18,2,    33.18,2, -999.000,9, -999.000,9, -999.000,9, -999.000,9, -999.000,9,-999.0000,9,  -999.00,9,-999.000,   -999.0,9,   -999.0,9,   1000,-999.0000,-999.000,-999.000,9,  4.0654,-999.000
      06MT28_1,   A08,   243,  2,    404,    321,2,19940425,0938,-11.3328,  -1.4965, 5218,   1195.6,   3.9674,  34.7020,2,-999.0000,9,    161.5,2,    31.14,2,    29.81,2, -999.000,9, -999.000,9, -999.000,9, -999.000,9, -999.000,9,-999.0000,9,  -999.00,9,-999.000,   -999.0,9,   -999.0,9,   1200,-999.0000,-999.000,-999.000,9,  3.8751,-999.000
      06MT28_1,   A08,   243,  2,    403,    320,2,19940425,0938,-11.3328,  -1.4965, 5218,   1396.4,   3.7776,  34.8367,2,-999.0000,9,    187.0,2,    27.78,2,    25.59,2, -999.000,9, -999.000,9, -999.000,9, -999.000,9, -999.000,9,-999.0000,9,  -999.00,9,-999.000,   -999.0,9,   -999.0,9,   1400,-999.0000,-999.000,-999.000,9,  3.6694,-999.000
      06MT28_1,   A08,   243,  2,    402,    319,2,19940425,0938,-11.3328,  -1.4965, 5218,   1596.8,   3.6362,  34.9035,2,  34.9083,2,    202.8,2,    25.76,2,    23.19,2, -999.000,9, -999.000,9, -999.000,9, -999.000,9, -999.000,9,-999.0000,9,  -999.00,9,-999.000,   -999.0,9,   -999.0,9,   1600,-999.0000,-999.000,-999.000,9,  3.5117,-999.000
      06MT28_1,   A08,   243,  2,    399,    318,2,19940425,0938,-11.3328,  -1.4965, 5218,   1797.0,   3.4867,  34.9187,2,-999.0000,9,    210.7,2,    26.59,2,    22.32,2, -999.000,9, -999.000,9, -999.000,9, -999.000,9, -999.000,9,-999.0000,9,  -999.00,9,-999.000,   -999.0,9,   -999.0,9,   1800,-999.0000,-999.000,-999.000,9,  3.3459,-999.000
      06MT28_1,   A08,   243,  2,    400,    317,2,19940425,0938,-11.3328,  -1.4965, 5218,   1997.8,   3.2694,  34.9247,2,  34.9278,2,    215.8,2,    28.84,2,    21.73,2, -999.000,9, -999.000,9, -999.000,9, -999.000,9, -999.000,9,-999.0000,9,  -999.00,9,-999.000,   -999.0,9,   -999.0,9,   2000,-999.0000,-999.000,-999.000,9,  3.1131,-999.000
      06MT28_1,   A08,   243,  2,    243,    316,2,19940425,0938,-11.3328,  -1.4965, 5218,   2248.6,   3.0765,  34.9212,2,-999.0000,9,    219.2,2,    31.85,2,    21.61,2, -999.000,9, -999.000,9, -999.000,9, -999.000,9, -999.000,9,-999.0000,9,  -999.00,9,-999.000,   -999.0,9,   -999.0,9,   2250,-999.0000,-999.000,-999.000,9,  2.8996,-999.000
      06MT28_1,   A08,   243,  2,    242,    315,2,19940425,0938,-11.3328,  -1.4965, 5218,   2500.6,   2.9050,  34.9164,2,-999.0000,9,    219.7,2,    34.74,2,    21.49,2, -999.000,9, -999.000,9, -999.000,9, -999.000,9, -999.000,9,-999.0000,9,  -999.00,9,-999.000,   -999.0,9,   -999.0,9,   2501,-999.0000,-999.000,-999.000,9,  2.7068,-999.000
      06MT28_1,   A08,   243,  2,    241,    314,2,19940425,0938,-11.3328,  -1.4965, 5218,   2750.6,   2.7292,  34.9080,2,-999.0000,9,    220.7,2,    38.30,2,    21.66,2, -999.000,9, -999.000,9, -999.000,9, -999.000,9, -999.000,9,-999.0000,9,  -999.00,9,-999.000,   -999.0,9,   -999.0,9,   2750,-999.0000,-999.000,-999.000,9,  2.5098,-999.000
      06MT28_1,   A08,   243,  2,    447,    313,2,19940425,0938,-11.3328,  -1.4965, 5218,   3001.7,   2.5943,  34.9021,2,  34.9026,2,    220.2,2,    41.47,2,    21.73,2, -999.000,9, -999.000,9, -999.000,9, -999.000,9, -999.000,9,-999.0000,9,  -999.00,9,-999.000,   -999.0,9,   -999.0,9,   3000,-999.0000,-999.000,-999.000,9,  2.3523,-999.000
      06MT28_1,   A08,   243,  2,    448,    312,2,19940425,0938,-11.3328,  -1.4965, 5218,   3252.0,   2.4862,  34.8967,2,-999.0000,9,    218.6,2,    44.54,2,    21.99,2, -999.000,9, -999.000,9, -999.000,9, -999.000,9, -999.000,9,-999.0000,9,  -999.00,9,-999.000,   -999.0,9,   -999.0,9,   3249,-999.0000,-999.000,-999.000,9,  2.2207,-999.000
      06MT28_1,   A08,   243,  2,    446,    311,2,19940425,0938,-11.3328,  -1.4965, 5218,   3503.4,   2.4411,  34.8959,2,-999.0000,9,    214.6,2,    46.76,2,    22.25,2, -999.000,9, -999.000,9, -999.000,9, -999.000,9, -999.000,9,-999.0000,9,  -999.00,9,-999.000,   -999.0,9,   -999.0,9,   3500,-999.0000,-999.000,-999.000,9,  2.1498,-999.000
      06MT28_1,   A08,   243,  2,    445,    310,2,19940425,0938,-11.3328,  -1.4965, 5218,   3754.1,   2.3959,  34.8915,2,-999.0000,9,    214.4,2,    47.93,2,    22.32,2, -999.000,9, -999.000,9, -999.000,9, -999.000,9, -999.000,9,-999.0000,9,  -999.00,9,-999.000,   -999.0,9,   -999.0,9,   3750,-999.0000,-999.000,-999.000,9,  2.0784,-999.000
      06MT28_1,   A08,   243,  2,    444,    309,2,19940425,0938,-11.3328,  -1.4965, 5218,   4004.8,   2.3718,  34.8899,2,  34.8908,2,    214.7,2,    48.92,2,    22.29,2, -999.000,9, -999.000,9, -999.000,9, -999.000,9, -999.000,9,-999.0000,9,  -999.00,9,-999.000,   -999.0,9,   -999.0,9,   4000,-999.0000,-999.000,-999.000,9,  2.0267,-999.000
      06MT28_1,   A08,   243,  2,    443,    308,2,19940425,0938,-11.3328,  -1.4965, 5218,   4254.2,   2.3701,  34.8877,2,-999.0000,9,   -999.0,9,    49.15,2,    22.18,2, -999.000,9, -999.000,9, -999.000,9, -999.000,9, -999.000,9,-999.0000,9,  -999.00,9,-999.000,   -999.0,9,   -999.0,9,   4249,-999.0000,-999.000,-999.000,9,  1.9962,-999.000
      06MT28_1,   A08,   243,  2,    442,    307,2,19940425,0938,-11.3328,  -1.4965, 5218,   4504.4,   2.3835,  34.8863,2,-999.0000,9,    215.4,2,    49.10,2,    22.16,2,    0.005,2,    0.002,2,   -0.001,2,    0.013,2, -999.000,9,-999.0000,9,  -999.00,9,-999.000,   -999.0,9,   -999.0,9,   4499,-999.0000,-999.000,-999.000,9,  1.9794,-999.000
      06MT28_1,   A08,   243,  2,    441,    306,2,19940425,0938,-11.3328,  -1.4965, 5218,   4755.5,   2.3929,  34.8843,2,-999.0000,9,    215.8,2,    49.52,2,    22.13,2,    0.003,2,    0.001,2,    0.004,2,    0.014,2, -999.000,9,-999.0000,9,  -999.00,9,-999.000,   -999.0,9,   -999.0,9,   4750,-999.0000,-999.000,-999.000,9,  1.9578,-999.000
      06MT28_1,   A08,   243,  2,    440,    305,2,19940425,0938,-11.3328,  -1.4965, 5218,   5005.8,   2.4028,  34.8818,2,  34.8820,2,    217.1,2,    49.47,2,    22.02,2,    0.004,2,    0.001,2,    0.004,2,    0.020,2, -999.000,9,-999.0000,9,  -999.00,9,-999.000,   -999.0,9,   -999.0,9,   5000,-999.0000,-999.000,-999.000,9,  1.9360,-999.000
      06MT28_1,   A08,   243,  2,    439,    304,2,19940425,0938,-11.3328,  -1.4965, 5218,   5180.9,   2.4140,  34.8815,2,-999.0000,9,    217.8,2,    49.11,2,    21.91,2,    0.010,2,    0.005,2,    0.007,2,    0.029,2, -999.000,9,-999.0000,9,  -999.00,9,-999.000,   -999.0,9,   -999.0,9,   5175,-999.0000,-999.000,-999.000,9,  1.9244,-999.000
      06MT28_1,   A08,   243,  2,    438,    303,2,19940425,0938,-11.3328,  -1.4965, 5218,   5250.7,   2.4226,  34.8811,2,-999.0000,9,    218.4,2,    49.23,2,    21.85,2, -999.000,9, -999.000,9, -999.000,9, -999.000,9, -999.000,9,-999.0000,9,  -999.00,9,-999.000,   -999.0,9,   -999.0,9,   5244,-999.0000,-999.000,-999.000,9,  1.9237,-999.000
      06MT28_1,   A08,   243,  2,    437,    302,2,19940425,0938,-11.3328,  -1.4965, 5218,   5280.7,   2.4266,  34.8801,2,  34.8822,2,    217.2,2,    49.09,2,    21.90,2, -999.000,9, -999.000,9, -999.000,9, -999.000,9, -999.000,9,-999.0000,9,  -999.00,9,-999.000,   -999.0,9,   -999.0,9,   5274,-999.0000,-999.000,-999.000,9,  1.9237,-999.000
      06MT28_1,   A08,   243,  2,    313,    301,2,19940425,0938,-11.3328,  -1.4965, 5218,   5281.9,   2.4263,  34.8812,2,  34.8799,2,    218.2,2,    49.04,2,    21.90,2,    0.006,2,    0.002,2,    0.002,2,    0.026,2, -999.000,9,-999.0000,9,  -999.00,9,-999.000,   -999.0,9,   -999.0,9,   5276,-999.0000,-999.000,-999.000,9,  1.9232,-999.000
      06MT28_1,   A08,   244,  1,    311,    220,2,19940425,1435,-11.3337,  -1.0005, 5324,      8.9,  25.8503,  36.6385,2,  36.6382,2,    197.6,2,     0.86,2,     0.00,2,    1.580,2,    0.826,2,    0.111,2,    1.741,2, -999.000,9,-999.0000,9,  -999.00,9,-999.000,   2048.3,2,    486.3,6,      8,-999.0000,-999.000,-999.000,9, 25.8483,-999.000
      06MT28_1,   A08,   244,  1,    309,    219,2,19940425,1435,-11.3337,  -1.0005, 5324,     31.5,  25.8225,  36.6425,2,-999.0000,9,    195.8,2,     0.86,2,     0.00,2,    1.577,2,    0.922,2,    0.097,2,    1.754,2, -999.000,9,-999.0000,9,  -999.00,9,-999.000,   2050.7,2,    482.9,2,     30,-999.0000,-999.000,-999.000,9, 25.8154,-999.000
      06MT28_1,   A08,   244,  1,    308,    218,2,19940425,1435,-11.3337,  -1.0005, 5324,     50.1,  25.1970,  36.8415,2,-999.0000,9,    202.2,2,     0.86,2,     0.00,2,    1.668,2,    0.967,2,    0.093,2,    1.660,2, -999.000,9,-999.0000,9,  -999.00,9,-999.000,   2069.7,2,    516.7,2,     49,-999.0000,-999.000,-999.000,9, 25.1860,-999.000
      06MT28_1,   A08,   244,  1,    307,    217,2,19940425,1435,-11.3337,  -1.0005, 5324,     72.1,  20.6891,  36.2368,2,-999.0000,9,    210.8,2,     1.44,2,     1.63,2,    1.898,2,    1.057,2,    0.094,2,    0.905,2, -999.000,9,-999.0000,9,  -999.00,9,-999.000,   2084.4,2,    618.7,2,     71,-999.0000,-999.000,-999.000,9, 20.6754,-999.000
      06MT28_1,   A08,   244,  1,    306,    216,2,19940425,1435,-11.3337,  -1.0005, 5324,     94.8,  16.3219,  35.7351,2,-999.0000,9,    112.8,2,     4.31,2,    16.58,2,    1.529,2,    0.840,2,    0.087,2,    0.590,2, -999.000,9,-999.0000,9,  -999.00,9,-999.000,   2164.1,2,   1090.8,2,     94,-999.0000,-999.000,-999.000,9, 16.3066,-999.000
      06MT28_1,   A08,   244,  1,    305,    215,2,19940425,1435,-11.3337,  -1.0005, 5324,    149.1,  12.7547,  35.2565,2,-999.0000,9,     59.2,2,     8.52,2,    26.72,2,    0.915,2,    0.498,2,    0.024,2,    0.208,2, -999.000,9,-999.0000,9,  -999.00,9,-999.000,   2210.7,2,   1745.9,2,    149,-999.0000,-999.000,-999.000,9, 12.7344,-999.000
      06MT28_1,   A08,   244,  1,    304,    214,2,19940425,1435,-11.3337,  -1.0005, 5324,    200.6,  11.4191,  35.0947,2,-999.0000,9,     55.8,2,    10.82,2,    29.30,2,    0.498,2,    0.280,2,    0.023,2,    0.134,2, -999.000,9,-999.0000,9,  -999.00,9,-999.000,   2218.9,2,   1219.9,2,    200,-999.0000,-999.000,-999.000,9, 11.3937,-999.000
      06MT28_1,   A08,   244,  1,    303,    213,2,19940425,1435,-11.3337,  -1.0005, 5324,    301.7,   9.8142,  34.9103,2,  34.9141,2,     51.6,2,    13.87,2,    32.72,2,    0.207,2,    0.123,2,    0.012,2,    0.107,2, -999.000,9,-999.0000,9,  -999.00,9,-999.000,   2231.5,2,   1458.3,2,    301,-999.0000,-999.000,-999.000,9,  9.7795,-999.000
      06MT28_1,   A08,   244,  1,    302,    212,2,19940425,1435,-11.3337,  -1.0005, 5324,    400.1,   8.4614,  34.7660,2,-999.0000,9,     56.8,2,    16.64,2,    35.19,2,    0.083,2,    0.056,2,    0.006,2,    0.104,2, -999.000,9,-999.0000,9,  -999.00,9,-999.000,   2237.4,2,   1485.2,2,    400,-999.0000,-999.000,-999.000,9,  8.4192,-999.000
      06MT28_1,   A08,   244,  1,    301,    211,2,19940425,1435,-11.3337,  -1.0005, 5324,    500.5,   7.2056,  34.6525,2,-999.0000,9,     46.6,2,    20.84,2,    38.80,2,    0.019,2,    0.010,2,    0.006,2,    0.060,2, -999.000,9,-999.0000,9,  -999.00,9,-999.000,   2254.1,2,   1748.3,2,    500,-999.0000,-999.000,-999.000,9,  7.1571,-999.000
      06MT28_1,   A08,   244,  1,    485,    210,2,19940425,1435,-11.3337,  -1.0005, 5324,    600.1,   6.1177,  34.5694,2,  34.6561,4,     61.1,2,    24.36,2,    39.55,2,    0.006,2,    0.005,2,    0.003,2,    0.042,2, -999.000,9,-999.0000,9,  -999.00,9,-999.000,   2253.5,2,   1727.4,2,    600,-999.0000,-999.000,-999.000,9,  6.0642,-999.000
      06MT28_1,   A08,   244,  1,    486,    209,2,19940425,1435,-11.3337,  -1.0005, 5324,    698.7,   5.3810,  34.5228,2,-999.0000,9,     81.4,2,    27.50,2,    38.81,2,    0.001,2,    0.001,2,    0.008,2,    0.028,2, -999.000,9,-999.0000,9,  -999.00,9,-999.000,   2248.0,2,   1651.3,2,    699,-999.0000,-999.000,-999.000,9,  5.3223,-999.000
      06MT28_1,   A08,   244,  1,    482,    208,2,19940425,1435,-11.3337,  -1.0005, 5324,    849.5,   4.5143,  34.5114,2,-999.0000,9,    119.9,2,    31.96,2,    35.73,2,    0.003,2,    0.003,2,    0.005,2,    0.023,2, -999.000,9,-999.0000,9,  -999.00,9,-999.000,   2232.6,2,   1421.6,2,    850,-999.0000,-999.000,-999.000,9,  4.4476,-999.000
      06MT28_1,   A08,   244,  1,    480,    207,2,19940425,1435,-11.3337,  -1.0005, 5324,   1016.3,   4.1341,  34.5857,2,-999.0000,9,   -999.0,9,  -999.00,9,  -999.00,9, -999.000,9, -999.000,9, -999.000,9, -999.000,9, -999.000,9,-999.0000,9,  -999.00,9,-999.000,   -999.0,9,   -999.0,9,   1018,-999.0000,-999.000,-999.000,9,  4.0559,-999.000