BOTTLE,20220817CCHSIOAMB
EXPOCODE,SECT_ID,STNNBR,CASTNO,SAMPNO,BTLNBR,BTLNBR_FLAG_W,DATE,TIME,LATITUDE,LONGITUDE,DEPTH,CTDPRS,CTDTMP,CTDSAL,CTDSAL_FLAG_W,SALNTY,SALNTY_FLAG_W,OXYGEN,OXYGEN_FLAG_W,SILCAT,SILCAT_FLAG_W,NO2+NO3,NO2+NO3_FLAG_W,CFC-11,CFC-11_FLAG_W,CFC-12,CFC-12_FLAG_W,CFC113,CFC113_FLAG_W,CCL4,CCL4_FLAG_W,TRITUM,TRITUM_FLAG_W,HELIUM,HELIUM_FLAG_W,DELHE3,DELHE3_FLAG_W,NEON,TCARBN,TCARBN_FLAG_W,PCO2,PCO2_FLAG_W,CTDRAW,HELIER,DELHER,NEONER,NEON_FLAG_W,THETA,TRITER
,,,,,,,,,,,,DBAR,ITS-90,PSS-78,,PSS-78,,UMOL/KG,,UMOL/KG,,UMOL/KG,,PMOL/KG,,PMOL/KG,,PMOL/KG,,PMOL/KG,,TU,,NMOL/KG,,PERCNT,,NMOL/KG,UMOL/KG,,UATM,,,NMOL/KG,PERCNT,NMOL/KG,,ITS-90,TU
      06MT28_1,   A08,   198,  2,   1633,    324,2,19940411,1005,-11.3338, -23.3332, 5452,     14.2,  27.6288,  37.0019,2,  37.0048,2,    193.3,2,     0.86,2,     0.00,4, -999.000,9, -999.000,9, -999.000,9, -999.000,9, -999.000,9,-999.0000,9,  -999.00,9,-999.000,   2058.5,2,   -999.0,9,     11,-999.0000,-999.000,-999.000,9, 27.6255,-999.000
      06MT28_1,   A08,   198,  2,   1676,    323,2,19940411,1005,-11.3338, -23.3332, 5452,    996.1,   3.9678,  34.5436,2,  34.5455,2,    163.1,2,    33.84,2,    31.27,2,    0.010,2,    0.012,2,    0.005,2,    0.091,2,    0.024,2,   1.8050,2,     2.77,2,   7.808,   2215.9,2,   1120.9,2,   1000,  0.0070,   0.240,   0.025,2,  3.8927,   0.002
      06MT28_1,   A08,   198,  2,   1673,    322,2,19940411,1005,-11.3338, -23.3332, 5452,   1195.6,   3.9768,  34.6975,2,-999.0000,9,    169.0,2,    30.38,2,    28.57,2,    0.056,4,    0.080,4,    0.083,4,    0.043,2, -999.000,9,   0.0010,4,  -999.00,5,   0.002,   2207.9,2,   1040.5,2,   1199,  0.0000,   0.250,   0.000,4,  3.8845,-999.000
      06MT28_1,   A08,   198,  2,   1671,    321,2,19940411,1005,-11.3338, -23.3332, 5452,   1396.9,   4.0156,  34.8442,2,-999.0000,9,    196.5,2,    24.55,2,    24.45,2,    0.006,2,    0.004,2,    0.004,2,    0.048,2,    0.019,2,   1.8180,2,     2.56,2,   7.871,   2191.2,2,    915.6,2,   1400,  0.0070,   0.240,   0.025,2,  3.9049,   0.005
      06MT28_1,   A08,   198,  2,   1670,    320,2,19940411,1005,-11.3338, -23.3332, 5452,   1597.1,   3.9189,  34.9405,2,-999.0000,9,    222.2,2,    19.49,2,    20.63,2,    0.018,6,    0.012,6,    0.011,6,    0.165,6, -999.000,9,-999.0000,9,  -999.00,9,-999.000,   2172.3,2,    793.3,2,   1600,-999.0000,-999.000,-999.000,9,  3.7909,-999.000
      06MT28_1,   A08,   198,  2,   1669,    319,2,19940411,1005,-11.3338, -23.3332, 5452,   1798.5,   3.6407,  34.9612,2,-999.0000,9,    236.9,2,    18.99,2,    18.99,2,    0.023,2,    0.018,2,    0.010,2,    0.209,2,    0.046,2,-999.0000,9,  -999.00,9,-999.000,   2166.2,2,    763.9,2,   1800,-999.0000,-999.000,-999.000,9,  3.4975,   0.003
      06MT28_1,   A08,   198,  2,   1667,    318,2,19940411,1005,-11.3338, -23.3332, 5452,   1998.6,   3.3783,  34.9570,2,  34.9592,2,    242.1,2,    20.78,2,    18.69,2,    0.018,2,    0.015,2,    0.008,2,    0.186,2, -999.000,9,   1.8150,2,     2.42,2,   7.859,   2166.4,2,    753.8,2,   2000,  0.0070,   0.250,   0.026,2,  3.2202,-999.000
      06MT28_1,   A08,   198,  2,   1668,    317,2,19940411,1005,-11.3338, -23.3332, 5452,   2250.1,   3.1286,  34.9436,2,-999.0000,9,   -999.0,9,    24.45,2,    18.96,2,    0.014,2,    0.009,2,    0.009,2,    0.129,2,    0.034,2,   1.8250,2,     2.92,2,   7.946,   2168.4,2,    759.6,2,   2251,  0.0070,   0.240,   0.025,2,  2.9506,   0.002
      06MT28_1,   A08,   198,  2,   1666,    316,2,19940411,1005,-11.3338, -23.3332, 5452,   2500.6,   2.9498,  34.9307,2,-999.0000,9,    241.0,2,    28.12,2,    19.41,2,    0.087,4,    0.088,4,    0.192,4,    0.089,2, -999.000,9,   1.8280,2,     2.64,2,   7.981,   2173.8,2,    763.7,2,   2500,  0.0070,   0.250,   0.026,2,  2.7508,-999.000
      06MT28_1,   A08,   198,  2,   1665,    315,2,19940411,1005,-11.3338, -23.3332, 5452,   2751.9,   2.8093,  34.9217,2,-999.0000,9,    238.9,2,    30.92,2,    19.67,2,    0.009,2,    0.006,2,    0.010,2,    0.057,2, -999.000,9,   1.8270,2,     3.36,2,   7.979,   2177.0,2,    770.2,2,   2750,  0.0070,   0.240,   0.025,2,  2.5881,-999.000
      06MT28_1,   A08,   198,  2,   1664,    314,2,19940411,1005,-11.3338, -23.3332, 5452,   3003.0,   2.7004,  34.9150,2,-999.0000,9,    238.2,2,    33.06,2,    19.84,2, -999.000,9, -999.000,9, -999.000,9, -999.000,9, -999.000,9,   1.8240,2,     3.34,2,   7.964,   2179.5,2,    772.5,2,   3001,  0.0070,   0.250,   0.026,2,  2.4559,-999.000
      06MT28_1,   A08,   198,  2,   1662,    313,2,19940411,1005,-11.3338, -23.3332, 5452,   3252.0,   2.6168,  34.9119,2,-999.0000,9,    237.9,2,    33.69,2,    19.63,2,    0.011,2,    0.010,2,    0.002,2,    0.056,2, -999.000,9,   1.8240,2,     2.99,2,   7.968,   2178.0,2,    763.5,2,   3249,  0.0070,   0.240,   0.025,2,  2.3481,-999.000
      06MT28_1,   A08,   198,  2,   1663,    312,2,19940411,1005,-11.3338, -23.3332, 5452,   3501.0,   2.4733,  34.8997,2,-999.0000,9,    235.4,2,    37.33,2,    19.98,2,    0.006,2,    0.002,2,    0.004,2,    0.050,2, -999.000,9,   1.8290,2,     3.25,2,   8.006,   2182.4,2,    773.5,2,   3497,  0.0070,   0.250,   0.026,2,  2.1815,-999.000
      06MT28_1,   A08,   198,  2,   1654,    311,2,19940411,1005,-11.3338, -23.3332, 5452,   3754.7,   2.2308,  34.8772,2,-999.0000,9,    234.0,2,    45.58,2,    21.00,2, -999.000,9, -999.000,9, -999.000,9, -999.000,9, -999.000,9,   1.8480,2,     3.38,2,   8.066,   2191.1,2,    797.9,6,   3750,  0.0070,   0.250,   0.027,2,  1.9177,-999.000
      06MT28_1,   A08,   198,  2,   1723,    310,2,19940411,1005,-11.3338, -23.3332, 5452,   4005.6,   1.7385,  34.8241,2,  34.8242,2,    226.0,2,    64.25,2,    23.52,2,    0.012,3,    0.000,2,    0.018,4,    0.031,2,    0.013,2,-999.0000,9,  -999.00,9,-999.000,   2210.4,2,    855.8,2,   4000,-999.0000,-999.000,-999.000,9,  1.4113,   0.006
      06MT28_1,   A08,   198,  2,   1722,    309,2,19940411,1005,-11.3338, -23.3332, 5452,   4256.6,   1.3159,  34.7797,2,-999.0000,9,    219.9,2,    80.43,2,    25.75,2,    0.005,2,    0.003,2,    0.002,2,    0.035,2, -999.000,9,   1.8580,2,     5.00,2,   8.165,   2227.1,2,    924.7,2,   4251,  0.0070,   0.250,   0.027,2,  0.9735,-999.000
      06MT28_1,   A08,   198,  2,   1724,    308,2,19940411,1005,-11.3338, -23.3332, 5452,   4504.6,   1.0465,  34.7521,2,-999.0000,9,    216.5,2,    90.58,2,    27.03,2,    0.010,3,    0.003,2,    0.028,4,    0.046,2, -999.000,9,   1.8670,2,     5.67,2,   8.178,   2237.8,2,    960.0,2,   4499,  0.0070,   0.250,   0.027,2,  0.6847,-999.000
      06MT28_1,   A08,   198,  2,   1721,    307,2,19940411,1005,-11.3338, -23.3332, 5452,   4756.0,   0.8627,  34.7320,2,-999.0000,9,    212.3,2,    97.89,2,    28.04,2,    0.004,2,    0.004,2,    0.004,2,    0.035,2,   -1.576,4,   1.8800,2,     6.30,2,   8.208,   2245.2,2,    990.1,2,   4750,  0.0070,   0.240,   0.026,2,  0.4782,   1.081
      06MT28_1,   A08,   198,  2,   1720,    306,2,19940411,1005,-11.3338, -23.3332, 5452,   5005.9,   0.8026,  34.7237,2,  34.7225,2,    210.8,2,   101.26,2,    28.48,2,    0.005,2,    0.004,2,    0.006,2,    0.038,2, -999.000,9,-999.0000,9,  -999.00,9,-999.000,   2249.0,2,    982.5,2,   4999,-999.0000,-999.000,-999.000,9,  0.3911,-999.000
      06MT28_1,   A08,   198,  2,   1719,    305,2,19940411,1005,-11.3338, -23.3332, 5452,   5257.2,   0.7730,  34.7168,2,-999.0000,9,    209.1,2,   103.50,2,    28.73,2,    0.005,2,    0.005,2,    0.005,2,    0.044,2, -999.000,9,   1.8690,2,     6.67,2,   8.180,   2251.9,2,   1005.5,2,   5251,  0.0070,   0.250,   0.027,2,  0.3325,-999.000
      06MT28_1,   A08,   198,  2,   1718,    304,2,19940411,1005,-11.3338, -23.3332, 5452,   5455.4,   0.7803,  34.7149,2,-999.0000,9,    208.0,2,   103.69,2,    28.75,2,    0.007,2,    0.003,2,    0.003,2,    0.047,2,    0.009,2,   1.8740,2,     6.58,2,   8.201,   2252.4,2,   1002.4,2,   5449,  0.0070,   0.240,   0.026,2,  0.3154,   0.004
      06MT28_1,   A08,   198,  2,   1717,    303,2,19940411,1005,-11.3338, -23.3332, 5452,   5525.5,   0.7883,  34.7147,2,-999.0000,9,    208.8,2,   103.62,2,    28.65,2,    0.003,2,    0.003,2,    0.004,2,    0.047,2, -999.000,9,   1.8700,2,     6.29,2,   8.181,   2252.4,2,   1017.4,2,   5519,  0.0070,   0.250,   0.027,2,  0.3144,-999.000
      06MT28_1,   A08,   198,  2,   1716,    302,2,19940411,1005,-11.3338, -23.3332, 5452,   5562.7,   0.7931,  34.7141,2,  34.7152,2,    208.1,2,   103.79,2,    28.60,2,    0.005,2,    0.005,2,    0.000,2,    0.007,4, -999.000,9,-999.0000,9,  -999.00,9,-999.000,   2252.6,2,   1010.7,2,   5556,-999.0000,-999.000,-999.000,9,  0.3144,-999.000
      06MT28_1,   A08,   198,  2,   1715,    301,2,19940411,1005,-11.3338, -23.3332, 5452,   5562.9,   0.7932,  34.7139,2,  34.7130,2,    208.2,2,   103.51,2,    28.65,2,    0.004,2,    0.003,2,    0.007,2,    0.046,2, -999.000,9,   1.8680,6,     6.31,6,   8.173,   2252.7,2,   1018.8,6,   5556,  0.0070,   0.250,   0.027,6,  0.3145,-999.000
      06MT28_1,   A08,   199,  1,   1714,    220,2,19940411,1800,-11.3315, -22.6672, 5228,     11.3,  27.7558,  36.9281,2,  36.9316,2,    196.9,2,     0.67,2,     0.00,4, -999.000,9, -999.000,9, -999.000,9, -999.000,9, -999.000,9,-999.0000,9,  -999.00,9,-999.000,   -999.0,9,   -999.0,9,     10,-999.0000,-999.000,-999.000,9, 27.7532,-999.000
      06MT28_1,   A08,   199,  1,   1702,    219,2,19940411,1800,-11.3315, -22.6672, 5228,     41.0,  27.6828,  36.9337,2,-999.0000,9,   -999.0,9,  -999.00,9,  -999.00,9, -999.000,9, -999.000,9, -999.000,9, -999.000,9, -999.000,9,-999.0000,9,  -999.00,9,-999.000,   -999.0,9,   -999.0,9,     40,-999.0000,-999.000,-999.000,9, 27.6732,-999.000
      06MT28_1,   A08,   199,  1,   1701,    218,2,19940411,1800,-11.3315, -22.6672, 5228,     60.5,  25.4753,  36.9413,2,-999.0000,9,    213.4,2,     0.67,2,     0.00,4, -999.000,9, -999.000,9, -999.000,9, -999.000,9, -999.000,9,-999.0000,9,  -999.00,9,-999.000,   -999.0,9,   -999.0,9,     59,-999.0000,-999.000,-999.000,9, 25.4619,-999.000
      06MT28_1,   A08,   199,  1,   1700,    217,2,19940411,1800,-11.3315, -22.6672, 5228,     79.8,  24.3702,  36.8565,2,-999.0000,9,    217.1,2,     0.67,2,     0.00,4, -999.000,9, -999.000,9, -999.000,9, -999.000,9, -999.000,9,-999.0000,9,  -999.00,9,-999.000,   -999.0,9,   -999.0,9,     79,-999.0000,-999.000,-999.000,9, 24.3531,-999.000
      06MT28_1,   A08,   199,  1,   1699,    216,2,19940411,1800,-11.3315, -22.6672, 5228,    120.8,  20.9990,  36.3981,2,-999.0000,9,    203.3,2,     0.96,2,     0.10,2, -999.000,9, -999.000,9, -999.000,9, -999.000,9, -999.000,9,-999.0000,9,  -999.00,9,-999.000,   -999.0,9,   -999.0,9,    120,-999.0000,-999.000,-999.000,9, 20.9757,-999.000
      06MT28_1,   A08,   199,  1,   1698,    215,2,19940411,1800,-11.3315, -22.6672, 5228,    180.6,  16.0276,  35.6876,2,-999.0000,9,    145.7,2,     3.83,2,    12.45,2, -999.000,9, -999.000,9, -999.000,9, -999.000,9, -999.000,9,-999.0000,9,  -999.00,9,-999.000,   -999.0,9,   -999.0,9,    180,-999.0000,-999.000,-999.000,9, 15.9988,-999.000
      06MT28_1,   A08,   199,  1,   1697,    214,2,19940411,1800,-11.3315, -22.6672, 5228,    249.9,  11.4807,  35.0559,2,-999.0000,9,    108.4,2,     9.00,2,    23.07,2, -999.000,9, -999.000,9, -999.000,9, -999.000,9, -999.000,9,-999.0000,9,  -999.00,9,-999.000,   -999.0,9,   -999.0,9,    249,-999.0000,-999.000,-999.000,9, 11.4489,-999.000
      06MT28_1,   A08,   199,  1,   1696,    213,2,19940411,1800,-11.3315, -22.6672, 5228,    351.2,   9.1124,  34.8263,2,-999.0000,9,     80.4,2,    14.35,2,    30.90,2, -999.000,9, -999.000,9, -999.000,9, -999.000,9, -999.000,9,-999.0000,9,  -999.00,9,-999.000,   -999.0,9,   -999.0,9,    350,-999.0000,-999.000,-999.000,9,  9.0737,-999.000
      06MT28_1,   A08,   199,  1,   1695,    212,2,19940411,1800,-11.3315, -22.6672, 5228,    450.8,   7.2462,  34.6261,2,-999.0000,9,    118.2,2,    17.50,2,    30.78,2, -999.000,9, -999.000,9, -999.000,9, -999.000,9, -999.000,9,-999.0000,9,  -999.00,9,-999.000,   -999.0,9,   -999.0,9,    450,-999.0000,-999.000,-999.000,9,  7.2026,-999.000
      06MT28_1,   A08,   199,  1,   1694,    211,2,19940411,1800,-11.3315, -22.6672, 5228,    550.8,   6.1354,  34.5303,2,-999.0000,9,    128.2,2,    21.31,2,    32.39,2, -999.000,9, -999.000,9, -999.000,9, -999.000,9, -999.000,9,-999.0000,9,  -999.00,9,-999.000,   -999.0,9,   -999.0,9,    550,-999.0000,-999.000,-999.000,9,  6.0865,-999.000
      06MT28_1,   A08,   199,  1,   1692,    210,2,19940411,1800,-11.3315, -22.6672, 5228,    650.4,   5.3882,  34.4767,2,-999.0000,9,    139.3,2,    24.45,2,    32.57,2, -999.000,9, -999.000,9, -999.000,9, -999.000,9, -999.000,9,-999.0000,9,  -999.00,9,-999.000,   -999.0,9,   -999.0,9,    650,-999.0000,-999.000,-999.000,9,  5.3338,-999.000
      06MT28_1,   A08,   199,  1,   1690,    209,2,19940411,1800,-11.3315, -22.6672, 5228,    749.7,   4.7199,  34.4483,2,-999.0000,9,    151.9,2,    28.30,2,    32.50,2, -999.000,9, -999.000,9, -999.000,9, -999.000,9, -999.000,9,-999.0000,9,  -999.00,9,-999.000,   -999.0,9,   -999.0,9,    750,-999.0000,-999.000,-999.000,9,  4.6605,-999.000
      06MT28_1,   A08,   199,  1,   1687,    208,2,19940411,1800,-11.3315, -22.6672, 5228,    825.2,   4.3720,  34.4514,2,-999.0000,9,   -999.0,9,  -999.00,9,  -999.00,9, -999.000,9, -999.000,9, -999.000,9, -999.000,9, -999.000,9,-999.0000,9,  -999.00,9,-999.000,   -999.0,9,   -999.0,9,    826,-999.0000,-999.000,-999.000,9,  4.3084,-999.000
      06MT28_1,   A08,   199,  1,   1753,    207,2,19940411,1800,-11.3315, -22.6672, 5228,    924.3,   4.0963,  34.4810,2,-999.0000,9,   -999.0,9,  -999.00,9,  -999.00,9, -999.000,9, -999.000,9, -999.000,9, -999.000,9, -999.000,9,-999.0000,9,  -999.00,9,-999.000,   -999.0,9,   -999.0,9,    925,-999.0000,-999.000,-999.000,9,  4.0263,-999.000