BOTTLE,20220817CCHSIOAMB
# Change PCO2 units from PPM@EQ to UATM. This choice requires some justification:
#   PPM is a fractional unit, so this would be XCO2 if actually in PPM
#   Data history indicate that FCO2 was merged in at some point prior, but the name was changed from FCO2 to PCO2 and the @EQ values were chosen over the @20c values.
#   PCO2 or FCO2 are useless when the temperature of the equilibrator are not known or the data are not reported/corrected to some standard temperature
#   A data restoration/rescue task exists because of the above.
# Rename NEONER_FLAG_W to NEON_FLAG_W (the flag goes on the primary variable, not the uncertainty)
# Change CFC113 flag from 4 to 5 at STN 264, cast 1, sample 2658
#BOTTLE,20030319WHPSIOSA
#code : jjward hyd_to_exchange.pl 
#original files copied from HTML directory: March 19, 2003
#original HYD file: a08hy.txt   Wed Mar 19 10:27:03 2003
#original SUM file: a08su.txt   Fri Feb 12 12:52:56 1999
EXPOCODE,SECT_ID,STNNBR,CASTNO,SAMPNO,BTLNBR,BTLNBR_FLAG_W,DATE,TIME,LATITUDE,LONGITUDE,DEPTH,CTDPRS,CTDTMP,CTDSAL,CTDSAL_FLAG_W,SALNTY,SALNTY_FLAG_W,OXYGEN,OXYGEN_FLAG_W,SILCAT,SILCAT_FLAG_W,NO2+NO3,NO2+NO3_FLAG_W,CFC-11,CFC-11_FLAG_W,CFC-12,CFC-12_FLAG_W,CFC113,CFC113_FLAG_W,CCL4,CCL4_FLAG_W,TRITUM,TRITUM_FLAG_W,HELIUM,HELIUM_FLAG_W,DELHE3,DELHE3_FLAG_W,NEON,TCARBN,TCARBN_FLAG_W,PCO2,PCO2_FLAG_W,CTDRAW,HELIER,DELHER,NEONER,NEON_FLAG_W,THETA,TRITER
,,,,,,,,,,,,DBAR,ITS-90,PSS-78,,PSS-78,,UMOL/KG,,UMOL/KG,,UMOL/KG,,PMOL/KG,,PMOL/KG,,PMOL/KG,,PMOL/KG,,TU,,NMOL/KG,,PERCNT,,NMOL/KG,UMOL/KG,,UATM,,,NMOL/KG,PERCNT,NMOL/KG,,ITS-90,TU
      06MT28_1,   A08,   165,  1,     14,    324,2,19940330,0328, -8.2740, -33.4628, 4600,     11.0,  28.5867,  36.6158,2,  36.6158,2,   -999.0,9,  -999.00,9,  -999.00,9, -999.000,9, -999.000,9, -999.000,9, -999.000,9, -999.000,9,-999.0000,9,  -999.00,9,-999.000,   -999.0,9,   -999.0,9,      8,-999.0000,-999.000,-999.000,9, 28.5841,-999.000
      06MT28_1,   A08,   165,  1,     27,    301,2,19940330,0328, -8.2740, -33.4628, 4600,   4004.8,   1.7927,  34.8294,2,  34.8325,2,   -999.0,9,  -999.00,9,  -999.00,9, -999.000,9, -999.000,9, -999.000,9, -999.000,9, -999.000,9,-999.0000,9,  -999.00,9,-999.000,   -999.0,9,   -999.0,9,   4000,-999.0000,-999.000,-999.000,9,  1.4641,-999.000
      06MT28_1,   A08,   165,  1,     28,    302,2,19940330,0328, -8.2740, -33.4628, 4600,   4004.8,   1.7927,  34.8294,2,  34.8311,2,   -999.0,9,  -999.00,9,  -999.00,9, -999.000,9, -999.000,9, -999.000,9, -999.000,9, -999.000,9,-999.0000,9,  -999.00,9,-999.000,   -999.0,9,   -999.0,9,   4000,-999.0000,-999.000,-999.000,9,  1.4641,-999.000
      06MT28_1,   A08,   165,  1,     29,    303,2,19940330,0328, -8.2740, -33.4628, 4600,   4004.8,   1.7927,  34.8294,2,  34.8301,2,   -999.0,9,  -999.00,9,  -999.00,9, -999.000,9, -999.000,9, -999.000,9, -999.000,9, -999.000,9,-999.0000,9,  -999.00,9,-999.000,   -999.0,9,   -999.0,9,   4000,-999.0000,-999.000,-999.000,9,  1.4641,-999.000
      06MT28_1,   A08,   165,  1,     30,    304,2,19940330,0328, -8.2740, -33.4628, 4600,   4004.8,   1.7927,  34.8294,2,  34.8430,4,   -999.0,9,  -999.00,9,  -999.00,9, -999.000,9, -999.000,9, -999.000,9, -999.000,9, -999.000,9,-999.0000,9,  -999.00,9,-999.000,   -999.0,9,   -999.0,9,   4000,-999.0000,-999.000,-999.000,9,  1.4641,-999.000
      06MT28_1,   A08,   165,  1,     31,    305,2,19940330,0328, -8.2740, -33.4628, 4600,   4004.8,   1.7927,  34.8294,2,  34.8317,2,   -999.0,9,  -999.00,9,  -999.00,9, -999.000,9, -999.000,9, -999.000,9, -999.000,9, -999.000,9,-999.0000,9,  -999.00,9,-999.000,   -999.0,9,   -999.0,9,   4000,-999.0000,-999.000,-999.000,9,  1.4641,-999.000
      06MT28_1,   A08,   165,  1,     32,    306,2,19940330,0328, -8.2740, -33.4628, 4600,   4004.8,   1.7927,  34.8294,2,  34.8318,2,   -999.0,9,  -999.00,9,  -999.00,9, -999.000,9, -999.000,9, -999.000,9, -999.000,9, -999.000,9,-999.0000,9,  -999.00,9,-999.000,   -999.0,9,   -999.0,9,   4000,-999.0000,-999.000,-999.000,9,  1.4641,-999.000
      06MT28_1,   A08,   165,  1,     33,    307,2,19940330,0328, -8.2740, -33.4628, 4600,   4004.8,   1.7927,  34.8294,2,  34.8303,2,   -999.0,9,  -999.00,9,  -999.00,9, -999.000,9, -999.000,9, -999.000,9, -999.000,9, -999.000,9,-999.0000,9,  -999.00,9,-999.000,   -999.0,9,   -999.0,9,   4000,-999.0000,-999.000,-999.000,9,  1.4641,-999.000
      06MT28_1,   A08,   165,  1,     34,    308,2,19940330,0328, -8.2740, -33.4628, 4600,   4004.8,   1.7927,  34.8294,2,  34.8286,2,   -999.0,9,  -999.00,9,  -999.00,9, -999.000,9, -999.000,9, -999.000,9, -999.000,9, -999.000,9,-999.0000,9,  -999.00,9,-999.000,   -999.0,9,   -999.0,9,   4000,-999.0000,-999.000,-999.000,9,  1.4641,-999.000
      06MT28_1,   A08,   165,  1,     35,    309,2,19940330,0328, -8.2740, -33.4628, 4600,   4004.8,   1.7927,  34.8294,2,  34.8041,4,   -999.0,9,  -999.00,9,  -999.00,9, -999.000,9, -999.000,9, -999.000,9, -999.000,9, -999.000,9,-999.0000,9,  -999.00,9,-999.000,   -999.0,9,   -999.0,9,   4000,-999.0000,-999.000,-999.000,9,  1.4641,-999.000
      06MT28_1,   A08,   165,  1,     36,    310,2,19940330,0328, -8.2740, -33.4628, 4600,   4004.8,   1.7927,  34.8294,2,  34.8296,2,   -999.0,9,  -999.00,9,  -999.00,9, -999.000,9, -999.000,9, -999.000,9, -999.000,9, -999.000,9,-999.0000,9,  -999.00,9,-999.000,   -999.0,9,   -999.0,9,   4000,-999.0000,-999.000,-999.000,9,  1.4641,-999.000
      06MT28_1,   A08,   165,  1,      1,    311,2,19940330,0328, -8.2740, -33.4628, 4600,   4004.8,   1.7927,  34.8294,2,  34.8289,2,   -999.0,9,  -999.00,9,  -999.00,9, -999.000,9, -999.000,9, -999.000,9, -999.000,9, -999.000,9,-999.0000,9,  -999.00,9,-999.000,   -999.0,9,   -999.0,9,   4000,-999.0000,-999.000,-999.000,9,  1.4641,-999.000
      06MT28_1,   A08,   165,  1,     50,    312,2,19940330,0328, -8.2740, -33.4628, 4600,   4004.8,   1.7927,  34.8294,2,  34.8287,2,   -999.0,9,  -999.00,9,  -999.00,9, -999.000,9, -999.000,9, -999.000,9, -999.000,9, -999.000,9,-999.0000,9,  -999.00,9,-999.000,   -999.0,9,   -999.0,9,   4000,-999.0000,-999.000,-999.000,9,  1.4641,-999.000
      06MT28_1,   A08,   165,  1,     51,    313,2,19940330,0328, -8.2740, -33.4628, 4600,   4004.8,   1.7927,  34.8294,2,  34.8295,2,   -999.0,9,  -999.00,9,  -999.00,9, -999.000,9, -999.000,9, -999.000,9, -999.000,9, -999.000,9,-999.0000,9,  -999.00,9,-999.000,   -999.0,9,   -999.0,9,   4000,-999.0000,-999.000,-999.000,9,  1.4641,-999.000
      06MT28_1,   A08,   165,  1,     52,    314,2,19940330,0328, -8.2740, -33.4628, 4600,   4004.8,   1.7927,  34.8294,2,  34.8291,2,   -999.0,9,  -999.00,9,  -999.00,9, -999.000,9, -999.000,9, -999.000,9, -999.000,9, -999.000,9,-999.0000,9,  -999.00,9,-999.000,   -999.0,9,   -999.0,9,   4000,-999.0000,-999.000,-999.000,9,  1.4641,-999.000
      06MT28_1,   A08,   165,  1,     53,    315,2,19940330,0328, -8.2740, -33.4628, 4600,   4004.8,   1.7927,  34.8294,2,  34.8290,2,   -999.0,9,  -999.00,9,  -999.00,9, -999.000,9, -999.000,9, -999.000,9, -999.000,9, -999.000,9,-999.0000,9,  -999.00,9,-999.000,   -999.0,9,   -999.0,9,   4000,-999.0000,-999.000,-999.000,9,  1.4641,-999.000
      06MT28_1,   A08,   165,  1,     54,    316,2,19940330,0328, -8.2740, -33.4628, 4600,   4004.8,   1.7927,  34.8294,2,  34.8293,2,   -999.0,9,  -999.00,9,  -999.00,9, -999.000,9, -999.000,9, -999.000,9, -999.000,9, -999.000,9,-999.0000,9,  -999.00,9,-999.000,   -999.0,9,   -999.0,9,   4000,-999.0000,-999.000,-999.000,9,  1.4641,-999.000
      06MT28_1,   A08,   165,  1,     55,    317,2,19940330,0328, -8.2740, -33.4628, 4600,   4004.8,   1.7927,  34.8294,2,  34.8298,2,   -999.0,9,  -999.00,9,  -999.00,9, -999.000,9, -999.000,9, -999.000,9, -999.000,9, -999.000,9,-999.0000,9,  -999.00,9,-999.000,   -999.0,9,   -999.0,9,   4000,-999.0000,-999.000,-999.000,9,  1.4641,-999.000
      06MT28_1,   A08,   165,  1,     56,    318,2,19940330,0328, -8.2740, -33.4628, 4600,   4004.8,   1.7927,  34.8294,2,  34.8287,2,   -999.0,9,  -999.00,9,  -999.00,9, -999.000,9, -999.000,9, -999.000,9, -999.000,9, -999.000,9,-999.0000,9,  -999.00,9,-999.000,   -999.0,9,   -999.0,9,   4000,-999.0000,-999.000,-999.000,9,  1.4641,-999.000
      06MT28_1,   A08,   165,  1,     57,    319,2,19940330,0328, -8.2740, -33.4628, 4600,   4004.8,   1.7927,  34.8294,2,  34.8307,2,   -999.0,9,  -999.00,9,  -999.00,9, -999.000,9, -999.000,9, -999.000,9, -999.000,9, -999.000,9,-999.0000,9,  -999.00,9,-999.000,   -999.0,9,   -999.0,9,   4000,-999.0000,-999.000,-999.000,9,  1.4641,-999.000
      06MT28_1,   A08,   165,  1,     58,    320,2,19940330,0328, -8.2740, -33.4628, 4600,   4004.8,   1.7927,  34.8294,2,  34.8238,2,   -999.0,9,  -999.00,9,  -999.00,9, -999.000,9, -999.000,9, -999.000,9, -999.000,9, -999.000,9,-999.0000,9,  -999.00,9,-999.000,   -999.0,9,   -999.0,9,   4000,-999.0000,-999.000,-999.000,9,  1.4641,-999.000
      06MT28_1,   A08,   165,  1,     59,    321,2,19940330,0328, -8.2740, -33.4628, 4600,   4004.8,   1.7927,  34.8294,2,  34.8282,2,   -999.0,9,  -999.00,9,  -999.00,9, -999.000,9, -999.000,9, -999.000,9, -999.000,9, -999.000,9,-999.0000,9,  -999.00,9,-999.000,   -999.0,9,   -999.0,9,   4000,-999.0000,-999.000,-999.000,9,  1.4641,-999.000
      06MT28_1,   A08,   165,  1,     60,    322,2,19940330,0328, -8.2740, -33.4628, 4600,   4004.8,   1.7927,  34.8294,2,  34.8275,2,   -999.0,9,  -999.00,9,  -999.00,9, -999.000,9, -999.000,9, -999.000,9, -999.000,9, -999.000,9,-999.0000,9,  -999.00,9,-999.000,   -999.0,9,   -999.0,9,   4000,-999.0000,-999.000,-999.000,9,  1.4641,-999.000
      06MT28_1,   A08,   165,  1,     61,    323,2,19940330,0328, -8.2740, -33.4628, 4600,   4004.8,   1.7927,  34.8294,2,  34.8277,2,   -999.0,9,  -999.00,9,  -999.00,9, -999.000,9, -999.000,9, -999.000,9, -999.000,9, -999.000,9,-999.0000,9,  -999.00,9,-999.000,   -999.0,9,   -999.0,9,   4000,-999.0000,-999.000,-999.000,9,  1.4641,-999.000
      06MT28_1,   A08,   165,  2,     15,    221,2,19940330,0530, -8.2727, -33.4565, 4700,     14.1,  28.5828,  36.6194,2,  36.6194,2,   -999.0,9,  -999.00,9,  -999.00,9, -999.000,9, -999.000,9, -999.000,9, -999.000,9, -999.000,9,-999.0000,9,  -999.00,9,-999.000,   -999.0,9,   -999.0,9,     10,-999.0000,-999.000,-999.000,9, 28.5794,-999.000
      06MT28_1,   A08,   165,  2,     16,    210,2,19940330,0530, -8.2727, -33.4565, 4700,   1000.8,   4.1046,  34.5474,2,  34.5505,2,   -999.0,9,  -999.00,9,  -999.00,9, -999.000,9, -999.000,9, -999.000,9, -999.000,9, -999.000,9,-999.0000,9,  -999.00,9,-999.000,   -999.0,9,   -999.0,9,    998,-999.0000,-999.000,-999.000,9,  4.0280,-999.000
      06MT28_1,   A08,   165,  2,     17,    211,2,19940330,0530, -8.2727, -33.4565, 4700,   1000.8,   4.1046,  34.5474,2,  34.5507,2,   -999.0,9,  -999.00,9,  -999.00,9, -999.000,9, -999.000,9, -999.000,9, -999.000,9, -999.000,9,-999.0000,9,  -999.00,9,-999.000,   -999.0,9,   -999.0,9,    998,-999.0000,-999.000,-999.000,9,  4.0280,-999.000
      06MT28_1,   A08,   165,  2,     18,    212,2,19940330,0530, -8.2727, -33.4565, 4700,   1000.8,   4.1046,  34.5474,2,  34.5475,2,   -999.0,9,  -999.00,9,  -999.00,9, -999.000,9, -999.000,9, -999.000,9, -999.000,9, -999.000,9,-999.0000,9,  -999.00,9,-999.000,   -999.0,9,   -999.0,9,    998,-999.0000,-999.000,-999.000,9,  4.0280,-999.000
      06MT28_1,   A08,   165,  2,     19,    213,2,19940330,0530, -8.2727, -33.4565, 4700,   1000.8,   4.1046,  34.5474,2,  34.5238,4,   -999.0,9,  -999.00,9,  -999.00,9, -999.000,9, -999.000,9, -999.000,9, -999.000,9, -999.000,9,-999.0000,9,  -999.00,9,-999.000,   -999.0,9,   -999.0,9,    998,-999.0000,-999.000,-999.000,9,  4.0280,-999.000
      06MT28_1,   A08,   165,  2,     20,    214,2,19940330,0530, -8.2727, -33.4565, 4700,   1000.8,   4.1046,  34.5474,2,  34.5500,2,   -999.0,9,  -999.00,9,  -999.00,9, -999.000,9, -999.000,9, -999.000,9, -999.000,9, -999.000,9,-999.0000,9,  -999.00,9,-999.000,   -999.0,9,   -999.0,9,    998,-999.0000,-999.000,-999.000,9,  4.0280,-999.000
      06MT28_1,   A08,   165,  2,     21,    215,2,19940330,0530, -8.2727, -33.4565, 4700,   1000.8,   4.1046,  34.5474,2,  34.5492,2,   -999.0,9,  -999.00,9,  -999.00,9, -999.000,9, -999.000,9, -999.000,9, -999.000,9, -999.000,9,-999.0000,9,  -999.00,9,-999.000,   -999.0,9,   -999.0,9,    998,-999.0000,-999.000,-999.000,9,  4.0280,-999.000
      06MT28_1,   A08,   165,  2,     22,    216,2,19940330,0530, -8.2727, -33.4565, 4700,   1000.8,   4.1046,  34.5474,2,  34.5496,2,   -999.0,9,  -999.00,9,  -999.00,9, -999.000,9, -999.000,9, -999.000,9, -999.000,9, -999.000,9,-999.0000,9,  -999.00,9,-999.000,   -999.0,9,   -999.0,9,    998,-999.0000,-999.000,-999.000,9,  4.0280,-999.000
      06MT28_1,   A08,   165,  2,     23,    217,2,19940330,0530, -8.2727, -33.4565, 4700,   1000.8,   4.1046,  34.5474,2,  34.5524,2,   -999.0,9,  -999.00,9,  -999.00,9, -999.000,9, -999.000,9, -999.000,9, -999.000,9, -999.000,9,-999.0000,9,  -999.00,9,-999.000,   -999.0,9,   -999.0,9,    998,-999.0000,-999.000,-999.000,9,  4.0280,-999.000
      06MT28_1,   A08,   165,  2,     24,    218,2,19940330,0530, -8.2727, -33.4565, 4700,   1000.8,   4.1046,  34.5474,2,  34.5507,2,   -999.0,9,  -999.00,9,  -999.00,9, -999.000,9, -999.000,9, -999.000,9, -999.000,9, -999.000,9,-999.0000,9,  -999.00,9,-999.000,   -999.0,9,   -999.0,9,    998,-999.0000,-999.000,-999.000,9,  4.0280,-999.000
      06MT28_1,   A08,   165,  2,     25,    219,2,19940330,0530, -8.2727, -33.4565, 4700,   1000.8,   4.1046,  34.5474,2,  34.5471,2,   -999.0,9,  -999.00,9,  -999.00,9, -999.000,9, -999.000,9, -999.000,9, -999.000,9, -999.000,9,-999.0000,9,  -999.00,9,-999.000,   -999.0,9,   -999.0,9,    998,-999.0000,-999.000,-999.000,9,  4.0280,-999.000
      06MT28_1,   A08,   165,  2,     26,    220,2,19940330,0530, -8.2727, -33.4565, 4700,   1000.8,   4.1046,  34.5474,2,  34.5496,2,   -999.0,9,  -999.00,9,  -999.00,9, -999.000,9, -999.000,9, -999.000,9, -999.000,9, -999.000,9,-999.0000,9,  -999.00,9,-999.000,   -999.0,9,   -999.0,9,    998,-999.0000,-999.000,-999.000,9,  4.0280,-999.000
      06MT28_1,   A08,   166,  1,     62,    221,2,19940330,1320, -8.3315, -32.4973, 4560,      8.9,  28.3889,  36.6773,2,-999.0000,9,   -999.0,9,  -999.00,9,  -999.00,9, -999.000,9, -999.000,9, -999.000,9, -999.000,9, -999.000,9,-999.0000,9,  -999.00,9,-999.000,   -999.0,9,   -999.0,9,      8,-999.0000,-999.000,-999.000,9, 28.3867,-999.000
      06MT28_1,   A08,   166,  1,     64,    210,2,19940330,1320, -8.3315, -32.4973, 4560,   1004.6,   4.0096,  34.5357,2,-999.0000,9,   -999.0,9,  -999.00,9,  -999.00,9, -999.000,9, -999.000,9, -999.000,9, -999.000,9, -999.000,9,-999.0000,9,  -999.00,9,-999.000,   -999.0,9,   -999.0,9,   1005,-999.0000,-999.000,-999.000,9,  3.9335,-999.000
      06MT28_1,   A08,   166,  1,     65,    211,2,19940330,1320, -8.3315, -32.4973, 4560,   1004.6,   4.0096,  34.5357,2,  34.5421,2,   -999.0,9,  -999.00,9,  -999.00,9, -999.000,9, -999.000,9, -999.000,9, -999.000,9, -999.000,9,-999.0000,9,  -999.00,9,-999.000,   -999.0,9,   -999.0,9,   1005,-999.0000,-999.000,-999.000,9,  3.9335,-999.000
      06MT28_1,   A08,   166,  1,     66,    212,2,19940330,1320, -8.3315, -32.4973, 4560,   1004.6,   4.0096,  34.5357,2,  34.5415,2,   -999.0,9,  -999.00,9,  -999.00,9, -999.000,9, -999.000,9, -999.000,9, -999.000,9, -999.000,9,-999.0000,9,  -999.00,9,-999.000,   -999.0,9,   -999.0,9,   1005,-999.0000,-999.000,-999.000,9,  3.9335,-999.000
      06MT28_1,   A08,   166,  1,     67,    213,2,19940330,1320, -8.3315, -32.4973, 4560,   1004.6,   4.0096,  34.5357,2,-999.0000,9,   -999.0,9,  -999.00,9,  -999.00,9, -999.000,9, -999.000,9, -999.000,9, -999.000,9, -999.000,9,-999.0000,9,  -999.00,9,-999.000,   -999.0,9,   -999.0,9,   1005,-999.0000,-999.000,-999.000,9,  3.9335,-999.000
      06MT28_1,   A08,   166,  1,     68,    214,2,19940330,1320, -8.3315, -32.4973, 4560,   1004.6,   4.0096,  34.5357,2,-999.0000,9,   -999.0,9,  -999.00,9,  -999.00,9, -999.000,9, -999.000,9, -999.000,9, -999.000,9, -999.000,9,-999.0000,9,  -999.00,9,-999.000,   -999.0,9,   -999.0,9,   1005,-999.0000,-999.000,-999.000,9,  3.9335,-999.000
      06MT28_1,   A08,   166,  1,     69,    215,2,19940330,1320, -8.3315, -32.4973, 4560,   1004.6,   4.0096,  34.5357,2,-999.0000,9,   -999.0,9,  -999.00,9,  -999.00,9, -999.000,9, -999.000,9, -999.000,9, -999.000,9, -999.000,9,-999.0000,9,  -999.00,9,-999.000,   -999.0,9,   -999.0,9,   1005,-999.0000,-999.000,-999.000,9,  3.9335,-999.000
      06MT28_1,   A08,   166,  1,     70,    216,2,19940330,1320, -8.3315, -32.4973, 4560,   1004.6,   4.0096,  34.5357,2,-999.0000,9,   -999.0,9,  -999.00,9,  -999.00,9, -999.000,9, -999.000,9, -999.000,9, -999.000,9, -999.000,9,-999.0000,9,  -999.00,9,-999.000,   -999.0,9,   -999.0,9,   1005,-999.0000,-999.000,-999.000,9,  3.9335,-999.000
      06MT28_1,   A08,   166,  1,     71,    217,2,19940330,1320, -8.3315, -32.4973, 4560,   1004.6,   4.0096,  34.5357,2,-999.0000,9,   -999.0,9,  -999.00,9,  -999.00,9, -999.000,9, -999.000,9, -999.000,9, -999.000,9, -999.000,9,-999.0000,9,  -999.00,9,-999.000,   -999.0,9,   -999.0,9,   1005,-999.0000,-999.000,-999.000,9,  3.9335,-999.000
      06MT28_1,   A08,   166,  1,     72,    218,2,19940330,1320, -8.3315, -32.4973, 4560,   1004.6,   4.0096,  34.5357,2,-999.0000,9,   -999.0,9,  -999.00,9,  -999.00,9, -999.000,9, -999.000,9, -999.000,9, -999.000,9, -999.000,9,-999.0000,9,  -999.00,9,-999.000,   -999.0,9,   -999.0,9,   1005,-999.0000,-999.000,-999.000,9,  3.9335,-999.000
      06MT28_1,   A08,   166,  1,     38,    219,2,19940330,1320, -8.3315, -32.4973, 4560,   1004.6,   4.0096,  34.5357,2,-999.0000,9,   -999.0,9,  -999.00,9,  -999.00,9, -999.000,9, -999.000,9, -999.000,9, -999.000,9, -999.000,9,-999.0000,9,  -999.00,9,-999.000,   -999.0,9,   -999.0,9,   1005,-999.0000,-999.000,-999.000,9,  3.9335,-999.000
      06MT28_1,   A08,   166,  1,     76,    220,2,19940330,1320, -8.3315, -32.4973, 4560,   1004.6,   4.0096,  34.5357,2,-999.0000,9,   -999.0,9,  -999.00,9,  -999.00,9, -999.000,9, -999.000,9, -999.000,9, -999.000,9, -999.000,9,-999.0000,9,  -999.00,9,-999.000,   -999.0,9,   -999.0,9,   1005,-999.0000,-999.000,-999.000,9,  3.9335,-999.000