BOTTLE,20220817CCHSIOAMB
EXPOCODE,SECT_ID,STNNBR,CASTNO,SAMPNO,BTLNBR,BTLNBR_FLAG_W,DATE,TIME,LATITUDE,LONGITUDE,DEPTH,CTDPRS,CTDTMP,CTDSAL,CTDSAL_FLAG_W,SALNTY,SALNTY_FLAG_W,OXYGEN,OXYGEN_FLAG_W,SILCAT,SILCAT_FLAG_W,NO2+NO3,NO2+NO3_FLAG_W,CFC-11,CFC-11_FLAG_W,CFC-12,CFC-12_FLAG_W,CFC113,CFC113_FLAG_W,CCL4,CCL4_FLAG_W,TRITUM,TRITUM_FLAG_W,HELIUM,HELIUM_FLAG_W,DELHE3,DELHE3_FLAG_W,NEON,TCARBN,TCARBN_FLAG_W,PCO2,PCO2_FLAG_W,CTDRAW,HELIER,DELHER,NEONER,NEON_FLAG_W,THETA,TRITER
,,,,,,,,,,,,DBAR,ITS-90,PSS-78,,PSS-78,,UMOL/KG,,UMOL/KG,,UMOL/KG,,PMOL/KG,,PMOL/KG,,PMOL/KG,,PMOL/KG,,TU,,NMOL/KG,,PERCNT,,NMOL/KG,UMOL/KG,,UATM,,,NMOL/KG,PERCNT,NMOL/KG,,ITS-90,TU
      06MT28_1,   A08,   191,  2,   1260,    324,2,19940408,1342,-11.3323, -27.9995, 5489,     16.9,  28.0113,  36.9958,2,  36.9936,2,    195.4,2,     0.96,2,     0.00,2, -999.000,9, -999.000,9, -999.000,9, -999.000,9, -999.000,9,-999.0000,9,  -999.00,9,-999.000,   -999.0,9,   -999.0,9,     13,-999.0000,-999.000,-999.000,9, 28.0073,-999.000
      06MT28_1,   A08,   191,  2,   1306,    323,2,19940408,1342,-11.3323, -27.9995, 5489,    923.2,   4.1443,  34.4852,2,-999.0000,9,    156.9,2,    33.48,2,    32.81,2, -999.000,9, -999.000,9, -999.000,9, -999.000,9, -999.000,9,-999.0000,9,  -999.00,9,-999.000,   -999.0,9,   -999.0,9,    927,-999.0000,-999.000,-999.000,9,  4.0740,-999.000
      06MT28_1,   A08,   191,  2,   1304,    322,2,19940408,1342,-11.3323, -27.9995, 5489,   1096.7,   3.9244,  34.6367,2,  34.6359,2,    169.8,2,    32.97,2,    30.11,2, -999.000,9, -999.000,9, -999.000,9, -999.000,9, -999.000,9,-999.0000,9,  -999.00,9,-999.000,   -999.0,9,   -999.0,9,   1100,-999.0000,-999.000,-999.000,9,  3.8411,-999.000
      06MT28_1,   A08,   191,  2,   1303,    321,2,19940408,1342,-11.3323, -27.9995, 5489,   1297.7,   4.1042,  34.8184,2,-999.0000,9,    190.2,2,    25.42,2,    25.61,2, -999.000,9, -999.000,9, -999.000,9, -999.000,9, -999.000,9,-999.0000,9,  -999.00,9,-999.000,   -999.0,9,   -999.0,9,   1301,-999.0000,-999.000,-999.000,9,  4.0015,-999.000
      06MT28_1,   A08,   191,  2,   1302,    320,2,19940408,1342,-11.3323, -27.9995, 5489,   1498.8,   4.0010,  34.9135,2,-999.0000,9,    213.0,2,    21.21,2,    22.16,2, -999.000,9, -999.000,9, -999.000,9, -999.000,9, -999.000,9,-999.0000,9,  -999.00,9,-999.000,   -999.0,9,   -999.0,9,   1501,-999.0000,-999.000,-999.000,9,  3.8811,-999.000
      06MT28_1,   A08,   191,  2,   1301,    319,2,19940408,1342,-11.3323, -27.9995, 5489,   1699.6,   3.7337,  34.9589,2,-999.0000,9,    234.2,2,    19.00,2,    19.57,2, -999.000,9, -999.000,9, -999.000,9, -999.000,9, -999.000,9,-999.0000,9,  -999.00,9,-999.000,   -999.0,9,   -999.0,9,   1701,-999.0000,-999.000,-999.000,9,  3.5985,-999.000
      06MT28_1,   A08,   191,  2,   1300,    318,2,19940408,1342,-11.3323, -27.9995, 5489,   1898.0,   3.4583,  34.9581,2,-999.0000,9,    240.4,2,    20.50,2,    19.08,2, -999.000,9, -999.000,9, -999.000,9, -999.000,9, -999.000,9,-999.0000,9,  -999.00,9,-999.000,   -999.0,9,   -999.0,9,   1899,-999.0000,-999.000,-999.000,9,  3.3084,-999.000
      06MT28_1,   A08,   191,  2,   1299,    317,2,19940408,1342,-11.3323, -27.9995, 5489,   2100.6,   3.2426,  34.9505,2,  34.9499,2,    241.0,2,    22.86,2,    18.97,2, -999.000,9, -999.000,9, -999.000,9, -999.000,9, -999.000,9,-999.0000,9,  -999.00,9,-999.000,   -999.0,9,   -999.0,9,   2101,-999.0000,-999.000,-999.000,9,  3.0770,-999.000
      06MT28_1,   A08,   191,  2,   1298,    316,2,19940408,1342,-11.3323, -27.9995, 5489,   2349.0,   3.0348,  34.9371,2,-999.0000,9,    239.8,2,    26.34,2,    19.42,2, -999.000,9, -999.000,9, -999.000,9, -999.000,9, -999.000,9,-999.0000,9,  -999.00,9,-999.000,   -999.0,9,   -999.0,9,   2349,-999.0000,-999.000,-999.000,9,  2.8490,-999.000
      06MT28_1,   A08,   191,  2,   1297,    315,2,19940408,1342,-11.3323, -27.9995, 5489,   2649.7,   2.8354,  34.9223,2,-999.0000,9,    237.6,2,    31.32,2,    20.34,2, -999.000,9, -999.000,9, -999.000,9, -999.000,9, -999.000,9,-999.0000,9,  -999.00,9,-999.000,   -999.0,9,   -999.0,9,   2648,-999.0000,-999.000,-999.000,9,  2.6239,-999.000
      06MT28_1,   A08,   191,  2,   1296,    314,2,19940408,1342,-11.3323, -27.9995, 5489,   2850.3,   2.7595,  34.9194,2,-999.0000,9,    237.4,2,    31.67,2,    19.95,2, -999.000,9, -999.000,9, -999.000,9, -999.000,9, -999.000,9,-999.0000,9,  -999.00,9,-999.000,   -999.0,9,   -999.0,9,   2848,-999.0000,-999.000,-999.000,9,  2.5293,-999.000
      06MT28_1,   A08,   191,  2,   1295,    313,2,19940408,1342,-11.3323, -27.9995, 5489,   3101.7,   2.6747,  34.9166,2,  34.9168,2,    239.5,2,    31.92,2,    19.64,2, -999.000,9, -999.000,9, -999.000,9, -999.000,9, -999.000,9,-999.0000,9,  -999.00,9,-999.000,   -999.0,9,   -999.0,9,   3098,-999.0000,-999.000,-999.000,9,  2.4205,-999.000
      06MT28_1,   A08,   191,  2,   1294,    312,2,19940408,1342,-11.3323, -27.9995, 5489,   3351.6,   2.5893,  34.9123,2,-999.0000,9,    241.0,2,    32.07,2,    19.43,2, -999.000,9, -999.000,9, -999.000,9, -999.000,9, -999.000,9,-999.0000,9,  -999.00,9,-999.000,   -999.0,9,   -999.0,9,   3348,-999.0000,-999.000,-999.000,9,  2.3107,-999.000
      06MT28_1,   A08,   191,  2,   1293,    311,2,19940408,1342,-11.3323, -27.9995, 5489,   3605.1,   2.4462,  34.9008,2,-999.0000,9,    241.8,2,    34.96,2,    19.60,2, -999.000,9, -999.000,9, -999.000,9, -999.000,9, -999.000,9,-999.0000,9,  -999.00,9,-999.000,   -999.0,9,   -999.0,9,   3600,-999.0000,-999.000,-999.000,9,  2.1437,-999.000
      06MT28_1,   A08,   191,  2,   1292,    310,2,19940408,1342,-11.3323, -27.9995, 5489,   3857.1,   2.1241,  34.8662,2,-999.0000,9,    234.5,2,    48.19,2,    21.46,2, -999.000,9, -999.000,9, -999.000,9, -999.000,9, -999.000,9,-999.0000,9,  -999.00,9,-999.000,   -999.0,9,   -999.0,9,   3852,-999.0000,-999.000,-999.000,9,  1.8025,-999.000
      06MT28_1,   A08,   191,  2,   1291,    309,2,19940408,1342,-11.3323, -27.9995, 5489,   4105.2,   1.5560,  34.8053,2,  34.8032,2,    223.6,2,    71.65,2,    24.73,2, -999.000,9, -999.000,9, -999.000,9, -999.000,9, -999.000,9,-999.0000,9,  -999.00,9,-999.000,   -999.0,9,   -999.0,9,   4099,-999.0000,-999.000,-999.000,9,  1.2232,-999.000
      06MT28_1,   A08,   191,  2,   1290,    308,2,19940408,1342,-11.3323, -27.9995, 5489,   4348.2,   1.1365,  34.7617,2,-999.0000,9,    216.6,2,    87.82,2,    26.86,2, -999.000,9, -999.000,9, -999.000,9, -999.000,9, -999.000,9,-999.0000,9,  -999.00,9,-999.000,   -999.0,9,   -999.0,9,   4342,-999.0000,-999.000,-999.000,9,  0.7894,-999.000
      06MT28_1,   A08,   191,  2,   1289,    307,2,19940408,1342,-11.3323, -27.9995, 5489,   4604.3,   0.9094,  34.7365,2,-999.0000,9,    212.8,2,    97.11,2,    28.24,2, -999.000,9, -999.000,9, -999.000,9, -999.000,9, -999.000,9,-999.0000,9,  -999.00,9,-999.000,   -999.0,9,   -999.0,9,   4598,-999.0000,-999.000,-999.000,9,  0.5407,-999.000
      06MT28_1,   A08,   191,  2,   1288,    306,2,19940408,1342,-11.3323, -27.9995, 5489,   4848.5,   0.8088,  34.7241,2,-999.0000,9,    210.3,2,   101.51,2,    28.78,2, -999.000,9, -999.000,9, -999.000,9, -999.000,9, -999.000,9,-999.0000,9,  -999.00,9,-999.000,   -999.0,9,   -999.0,9,   4842,-999.0000,-999.000,-999.000,9,  0.4155,-999.000
      06MT28_1,   A08,   191,  2,   1287,    305,2,19940408,1342,-11.3323, -27.9995, 5489,   5106.3,   0.7308,  34.7127,2,  34.7115,2,    208.7,2,   105.52,2,    29.21,2, -999.000,9, -999.000,9, -999.000,9, -999.000,9, -999.000,9,-999.0000,9,  -999.00,9,-999.000,   -999.0,9,   -999.0,9,   5099,-999.0000,-999.000,-999.000,9,  0.3100,-999.000
      06MT28_1,   A08,   191,  2,   1286,    304,2,19940408,1342,-11.3323, -27.9995, 5489,   5507.1,   0.6183,  34.6956,2,-999.0000,9,    206.7,2,   111.29,2,    30.01,2, -999.000,9, -999.000,9, -999.000,9, -999.000,9, -999.000,9,-999.0000,9,  -999.00,9,-999.000,   -999.0,9,   -999.0,9,   5500,-999.0000,-999.000,-999.000,9,  0.1532,-999.000
      06MT28_1,   A08,   191,  2,   1284,    303,2,19940408,1342,-11.3323, -27.9995, 5489,   5577.1,   0.5965,  34.6924,2,-999.0000,9,    206.0,2,   112.29,2,    30.00,2, -999.000,9, -999.000,9, -999.000,9, -999.000,9, -999.000,9,-999.0000,9,  -999.00,9,-999.000,   -999.0,9,   -999.0,9,   5570,-999.0000,-999.000,-999.000,9,  0.1235,-999.000
      06MT28_1,   A08,   191,  2,   1273,    301,2,19940408,1342,-11.3323, -27.9995, 5489,   5605.8,   0.5842,  34.6910,2,  34.6905,2,    205.4,2,   112.69,2,    30.14,2, -999.000,9, -999.000,9, -999.000,9, -999.000,9, -999.000,9,-999.0000,9,  -999.00,9,-999.000,   -999.0,9,   -999.0,9,   5599,-999.0000,-999.000,-999.000,9,  0.1082,-999.000
      06MT28_1,   A08,   191,  2,   1345,    302,2,19940408,1342,-11.3323, -27.9995, 5489,   5605.8,   0.5842,  34.6910,2,  34.6888,2,    205.7,2,   113.02,2,    30.14,2, -999.000,9, -999.000,9, -999.000,9, -999.000,9, -999.000,9,-999.0000,9,  -999.00,9,-999.000,   -999.0,9,   -999.0,9,   5599,-999.0000,-999.000,-999.000,9,  0.1082,-999.000
      06MT28_1,   A08,   192,  1,   1344,    224,2,19940408,2011,-11.3340, -27.3348, 5508,     10.7,  27.8321,  36.9784,2,-999.0000,9,   -999.0,9,  -999.00,9,  -999.00,9, -999.000,9, -999.000,9, -999.000,9, -999.000,9, -999.000,9,-999.0000,9,  -999.00,9,-999.000,   2055.8,2,   -999.0,9,     10,-999.0000,-999.000,-999.000,9, 27.8296,-999.000
      06MT28_1,   A08,   192,  1,   1342,    223,2,19940408,2011,-11.3340, -27.3348, 5508,     40.2,  27.7708,  36.9749,2,-999.0000,9,    194.2,2,  -999.00,9,  -999.00,9,    1.509,2,    0.915,2,    0.105,4,    1.375,2, -999.000,9,-999.0000,9,  -999.00,9,-999.000,   2055.2,2,    460.2,6,     40,-999.0000,-999.000,-999.000,9, 27.7613,-999.000
      06MT28_1,   A08,   192,  1,   1341,    222,2,19940408,2011,-11.3340, -27.3348, 5508,     59.8,  27.6852,  36.9681,2,-999.0000,9,   -999.0,9,  -999.00,9,  -999.00,9, -999.000,9, -999.000,9, -999.000,9, -999.000,9, -999.000,9,-999.0000,9,  -999.00,9,-999.000,   -999.0,9,   -999.0,9,     59,-999.0000,-999.000,-999.000,9, 27.6711,-999.000
      06MT28_1,   A08,   192,  1,   1340,    221,2,19940408,2011,-11.3340, -27.3348, 5508,     79.6,  25.5646,  36.9760,2,-999.0000,9,    213.7,2,     0.77,2,     0.00,4,    1.753,2,    0.996,2,    0.150,2,    1.397,2, -999.000,9,-999.0000,9,  -999.00,9,-999.000,   2067.8,2,    480.1,2,     79,-999.0000,-999.000,-999.000,9, 25.5469,-999.000
      06MT28_1,   A08,   192,  1,   1339,    220,2,19940408,2011,-11.3340, -27.3348, 5508,    119.9,  22.0360,  36.5679,2,-999.0000,9,    206.8,2,     0.77,2,     0.00,4,    1.936,2,    1.070,2,    0.131,2,    1.105,2, -999.000,9,-999.0000,9,  -999.00,9,-999.000,   2083.3,2,   -999.0,9,    119,-999.0000,-999.000,-999.000,9, 22.0121,-999.000
      06MT28_1,   A08,   192,  1,   1338,    219,2,19940408,2011,-11.3340, -27.3348, 5508,    181.1,  16.5018,  35.7490,2,-999.0000,9,    162.2,2,     3.07,2,     9.48,2,    1.938,2,    1.038,2,    0.068,2,    0.613,2, -999.000,9,-999.0000,9,  -999.00,9,-999.000,   2126.1,2,    524.6,6,    181,-999.0000,-999.000,-999.000,9, 16.4724,-999.000
      06MT28_1,   A08,   192,  1,   1337,    218,2,19940408,2011,-11.3340, -27.3348, 5508,    250.0,  12.4279,  35.2017,2,-999.0000,9,     98.4,2,     8.04,2,    22.69,2,    1.019,6,    0.544,6,    0.016,6,    0.267,6, -999.000,9,-999.0000,9,  -999.00,9,-999.000,   2184.6,2,    880.9,2,    250,-999.0000,-999.000,-999.000,9, 12.3943,-999.000
      06MT28_1,   A08,   192,  1,   1336,    217,2,19940408,2011,-11.3340, -27.3348, 5508,    349.4,   9.2016,  34.8342,2,-999.0000,9,     91.1,2,    13.49,2,    29.56,2,    0.272,2,    0.156,2,    0.017,2,    0.211,2, -999.000,9,-999.0000,9,  -999.00,9,-999.000,   2209.3,2,   1151.5,2,    349,-999.0000,-999.000,-999.000,9,  9.1628,-999.000
      06MT28_1,   A08,   192,  1,   1335,    216,2,19940408,2011,-11.3340, -27.3348, 5508,    450.0,   7.3734,  34.6326,2,-999.0000,9,    122.9,2,    16.92,2,    30.21,2,    0.248,2,    0.141,2,    0.012,2,    0.410,2, -999.000,9,-999.0000,9,  -999.00,9,-999.000,   2204.6,2,   1124.4,2,    450,-999.0000,-999.000,-999.000,9,  7.3295,-999.000
      06MT28_1,   A08,   192,  1,   1334,    215,2,19940408,2011,-11.3340, -27.3348, 5508,    550.1,   6.2400,  34.5292,2,-999.0000,9,    136.8,2,    20.35,2,    31.34,2,    0.232,2,    0.126,2,    0.009,2,    0.504,2, -999.000,9,-999.0000,9,  -999.00,9,-999.000,   2203.8,2,   1150.0,2,    550,-999.0000,-999.000,-999.000,9,  6.1907,-999.000
      06MT28_1,   A08,   192,  1,   1333,    214,2,19940408,2011,-11.3340, -27.3348, 5508,    648.9,   5.5219,  34.4813,2,-999.0000,9,    143.7,2,    23.49,2,    32.09,2,    0.173,2,    0.100,2,    0.010,2,    0.480,2, -999.000,9,-999.0000,9,  -999.00,9,-999.000,   2207.6,2,   1139.9,2,    649,-999.0000,-999.000,-999.000,9,  5.4670,-999.000
      06MT28_1,   A08,   192,  1,   1332,    213,2,19940408,2011,-11.3340, -27.3348, 5508,    748.7,   4.7672,  34.4432,2,-999.0000,9,    157.2,2,    27.59,2,    32.07,2,    0.139,2,    0.075,2,    0.007,2,    0.466,2, -999.000,9,-999.0000,9,  -999.00,9,-999.000,   2206.8,2,   1140.6,2,    749,-999.0000,-999.000,-999.000,9,  4.7076,-999.000
      06MT28_1,   A08,   192,  1,   1331,    212,2,19940408,2011,-11.3340, -27.3348, 5508,    823.7,   4.3697,  34.4420,2,-999.0000,9,    161.7,2,    30.82,2,    32.25,2,    0.095,2,    0.052,2,    0.006,2,    0.402,2, -999.000,9,-999.0000,9,  -999.00,9,-999.000,   2210.1,2,   1148.5,2,    825,-999.0000,-999.000,-999.000,9,  4.3062,-999.000
      06MT28_1,   A08,   192,  1,   1330,    211,2,19940408,2011,-11.3340, -27.3348, 5508,    922.7,   4.0430,  34.4730,2,-999.0000,9,    164.3,2,    33.76,2,    31.85,2,    0.053,2,    0.031,2,    0.007,2,    0.277,2, -999.000,9,-999.0000,9,  -999.00,9,-999.000,   2212.0,2,   1148.7,2,    924,-999.0000,-999.000,-999.000,9,  3.9735,-999.000
      06MT28_1,   A08,   192,  1,   1329,    210,2,19940408,2011,-11.3340, -27.3348, 5508,    998.2,   3.9211,  34.5197,2,  34.5211,2,    166.0,2,    34.80,2,    31.37,2,    0.040,2,    0.025,2,    0.008,2,    0.190,2, -999.000,9,-999.0000,9,  -999.00,9,-999.000,   2215.1,2,   1145.5,2,   1000,-999.0000,-999.000,-999.000,9,  3.8461,-999.000
      06MT28_1,   A08,   192,  1,   1328,    209,2,19940408,2011,-11.3340, -27.3348, 5508,    998.9,   3.9194,  34.5211,2,  34.5199,2,   -999.0,9,  -999.00,9,  -999.00,9, -999.000,9, -999.000,9, -999.000,9, -999.000,9, -999.000,9,-999.0000,9,  -999.00,9,-999.000,   -999.0,9,   -999.0,9,   1001,-999.0000,-999.000,-999.000,9,  3.8444,-999.000