BOTTLE,20220817CCHSIOAMB
EXPOCODE,SECT_ID,STNNBR,CASTNO,SAMPNO,BTLNBR,BTLNBR_FLAG_W,DATE,TIME,LATITUDE,LONGITUDE,DEPTH,CTDPRS,CTDTMP,CTDSAL,CTDSAL_FLAG_W,SALNTY,SALNTY_FLAG_W,OXYGEN,OXYGEN_FLAG_W,SILCAT,SILCAT_FLAG_W,NO2+NO3,NO2+NO3_FLAG_W,CFC-11,CFC-11_FLAG_W,CFC-12,CFC-12_FLAG_W,CFC113,CFC113_FLAG_W,CCL4,CCL4_FLAG_W,TRITUM,TRITUM_FLAG_W,HELIUM,HELIUM_FLAG_W,DELHE3,DELHE3_FLAG_W,NEON,TCARBN,TCARBN_FLAG_W,PCO2,PCO2_FLAG_W,CTDRAW,HELIER,DELHER,NEONER,NEON_FLAG_W,THETA,TRITER
,,,,,,,,,,,,DBAR,ITS-90,PSS-78,,PSS-78,,UMOL/KG,,UMOL/KG,,UMOL/KG,,PMOL/KG,,PMOL/KG,,PMOL/KG,,PMOL/KG,,TU,,NMOL/KG,,PERCNT,,NMOL/KG,UMOL/KG,,UATM,,,NMOL/KG,PERCNT,NMOL/KG,,ITS-90,TU
      06MT28_1,   A08,   205,  2,   1990,    324,2,19940414,0200,-11.3308, -19.4978, 4761,     14.6,  27.3602,  36.8106,2,  36.8092,2,    191.2,2,     0.96,2,     0.00,4, -999.000,9, -999.000,9, -999.000,9, -999.000,9, -999.000,9,-999.0000,9,  -999.00,9,-999.000,   -999.0,9,   -999.0,9,     11,-999.0000,-999.000,-999.000,9, 27.3568,-999.000
      06MT28_1,   A08,   205,  2,   2035,    323,2,19940414,0200,-11.3308, -19.4978, 4761,    596.2,   5.9908,  34.5221,2,-999.0000,9,    118.0,2,    19.87,2,    32.29,2, -999.000,9, -999.000,9, -999.000,9, -999.000,9, -999.000,9,-999.0000,9,  -999.00,9,-999.000,   -999.0,9,   -999.0,9,    599,-999.0000,-999.000,-999.000,9,  5.9383,-999.000
      06MT28_1,   A08,   205,  2,   2034,    322,2,19940414,0200,-11.3308, -19.4978, 4761,    696.1,   5.1795,  34.4680,2,-999.0000,9,    141.3,2,    25.68,2,    32.75,2, -999.000,9, -999.000,9, -999.000,9, -999.000,9, -999.000,9,-999.0000,9,  -999.00,9,-999.000,   -999.0,9,   -999.0,9,    700,-999.0000,-999.000,-999.000,9,  5.1221,-999.000
      06MT28_1,   A08,   205,  2,   2033,    321,2,19940414,0200,-11.3308, -19.4978, 4761,    844.2,   4.3482,  34.4614,2,-999.0000,9,    152.6,2,    31.58,2,    32.63,2, -999.000,9, -999.000,9, -999.000,9, -999.000,9, -999.000,9,-999.0000,9,  -999.00,9,-999.000,   -999.0,9,   -999.0,9,    848,-999.0000,-999.000,-999.000,9,  4.2831,-999.000
      06MT28_1,   A08,   205,  2,   2032,    320,2,19940414,0200,-11.3308, -19.4978, 4761,    995.4,   3.9993,  34.5233,2,  34.5227,2,    157.4,2,    34.32,2,    31.84,2,    0.015,2,    0.010,2,    0.005,2,    0.112,2, -999.000,9,-999.0000,9,  -999.00,9,-999.000,   -999.0,9,   -999.0,9,   1000,-999.0000,-999.000,-999.000,9,  3.9240,-999.000
      06MT28_1,   A08,   205,  2,   2031,    319,2,19940414,0200,-11.3308, -19.4978, 4761,   1195.6,   4.0371,  34.7278,2,-999.0000,9,    171.9,2,    29.43,2,    28.10,2,    0.005,2,    0.006,2,    0.004,2,    0.040,2, -999.000,9,-999.0000,9,  -999.00,9,-999.000,   -999.0,9,   -999.0,9,   1199,-999.0000,-999.000,-999.000,9,  3.9441,-999.000
      06MT28_1,   A08,   205,  2,   2030,    318,2,19940414,0200,-11.3308, -19.4978, 4761,   1395.2,   3.9781,  34.8378,2,-999.0000,9,    190.5,2,    25.40,2,    24.93,2,    0.005,2,    0.001,2,    0.007,2,    0.042,2, -999.000,9,-999.0000,9,  -999.00,9,-999.000,   -999.0,9,   -999.0,9,   1399,-999.0000,-999.000,-999.000,9,  3.8679,-999.000
      06MT28_1,   A08,   205,  2,   2029,    317,2,19940414,0200,-11.3308, -19.4978, 4761,   1597.1,   3.7814,  34.9230,2,-999.0000,9,    214.5,2,    22.05,2,    21.48,2,    0.006,2,    0.003,2,    0.008,2,    0.089,2, -999.000,9,-999.0000,9,  -999.00,9,-999.000,   -999.0,9,   -999.0,9,   1600,-999.0000,-999.000,-999.000,9,  3.6551,-999.000
      06MT28_1,   A08,   205,  2,   2028,    316,2,19940414,0200,-11.3308, -19.4978, 4761,   1794.7,   3.5672,  34.9463,2,-999.0000,9,    227.2,2,    21.56,2,    19.94,2,    0.009,2,    0.007,2,    0.004,2,    0.125,2, -999.000,9,-999.0000,9,  -999.00,9,-999.000,   -999.0,9,   -999.0,9,   1797,-999.0000,-999.000,-999.000,9,  3.4254,-999.000
      06MT28_1,   A08,   205,  2,   2027,    315,2,19940414,0200,-11.3308, -19.4978, 4761,   1997.5,   3.3258,  34.9487,2,  34.9454,2,    226.9,2,    21.44,2,    19.74,2, -999.000,9, -999.000,9, -999.000,9, -999.000,9, -999.000,9,-999.0000,9,  -999.00,9,-999.000,   -999.0,9,   -999.0,9,   1999,-999.0000,-999.000,-999.000,9,  3.1686,-999.000
      06MT28_1,   A08,   205,  2,   2024,    314,2,19940414,0200,-11.3308, -19.4978, 4761,   2247.9,   3.0758,  34.9353,2,-999.0000,9,    222.1,2,    27.20,2,    19.62,2, -999.000,9, -999.000,9, -999.000,9, -999.000,9, -999.000,9,-999.0000,9,  -999.00,9,-999.000,   -999.0,9,   -999.0,9,   2249,-999.0000,-999.000,-999.000,9,  2.8989,-999.000
      06MT28_1,   A08,   205,  2,   2023,    313,2,19940414,0200,-11.3308, -19.4978, 4761,   2499.0,   2.8704,  34.9166,2,-999.0000,9,    229.5,2,    32.76,2,    20.35,2, -999.000,9, -999.000,9, -999.000,9, -999.000,9, -999.000,9,-999.0000,9,  -999.00,9,-999.000,   -999.0,9,   -999.0,9,   2499,-999.0000,-999.000,-999.000,9,  2.6730,-999.000
      06MT28_1,   A08,   205,  2,   2022,    312,2,19940414,0200,-11.3308, -19.4978, 4761,   2751.9,   2.7671,  34.9129,2,-999.0000,9,    228.3,2,    34.61,2,    20.43,2, -999.000,9, -999.000,9, -999.000,9, -999.000,9, -999.000,9,-999.0000,9,  -999.00,9,-999.000,   -999.0,9,   -999.0,9,   2751,-999.0000,-999.000,-999.000,9,  2.5467,-999.000
      06MT28_1,   A08,   205,  2,   2021,    311,2,19940414,0200,-11.3308, -19.4978, 4761,   3001.3,   2.6529,  34.9029,2,  34.9008,2,    225.9,2,    38.45,2,    20.78,2, -999.000,9, -999.000,9, -999.000,9, -999.000,9, -999.000,9,-999.0000,9,  -999.00,9,-999.000,   -999.0,9,   -999.0,9,   2999,-999.0000,-999.000,-999.000,9,  2.4097,-999.000
      06MT28_1,   A08,   205,  2,   2020,    310,2,19940414,0200,-11.3308, -19.4978, 4761,   3251.7,   2.5776,  34.9048,2,-999.0000,9,    229.3,2,    37.18,2,    20.19,2, -999.000,9, -999.000,9, -999.000,9, -999.000,9, -999.000,9,-999.0000,9,  -999.00,9,-999.000,   -999.0,9,   -999.0,9,   3249,-999.0000,-999.000,-999.000,9,  2.3099,-999.000
      06MT28_1,   A08,   205,  2,   2019,    309,2,19940414,0200,-11.3308, -19.4978, 4761,   3502.9,   2.4613,  34.8963,2,-999.0000,9,    229.5,2,    40.16,2,    20.46,2, -999.000,9, -999.000,9, -999.000,9, -999.000,9, -999.000,9,-999.0000,9,  -999.00,9,-999.000,   -999.0,9,   -999.0,9,   3499,-999.0000,-999.000,-999.000,9,  2.1696,-999.000
      06MT28_1,   A08,   205,  2,   2018,    308,2,19940414,0200,-11.3308, -19.4978, 4761,   3752.8,   2.2064,  34.8741,2,-999.0000,9,    228.6,2,    47.18,2,    21.19,2, -999.000,9, -999.000,9, -999.000,9, -999.000,9, -999.000,9,-999.0000,9,  -999.00,9,-999.000,   -999.0,9,   -999.0,9,   3749,-999.0000,-999.000,-999.000,9,  1.8941,-999.000
      06MT28_1,   A08,   205,  2,   2016,    307,2,19940414,0200,-11.3308, -19.4978, 4761,   4004.7,   1.8595,  34.8379,2,  34.8403,2,    224.2,2,    58.41,2,    22.76,2, -999.000,9, -999.000,9, -999.000,9, -999.000,9, -999.000,9,-999.0000,9,  -999.00,9,-999.000,   -999.0,9,   -999.0,9,   4000,-999.0000,-999.000,-999.000,9,  1.5290,-999.000
      06MT28_1,   A08,   205,  2,   2077,    306,2,19940414,0200,-11.3308, -19.4978, 4761,   4254.6,   1.2405,  34.7752,2,-999.0000,9,    214.1,2,    83.82,2,    25.93,2, -999.000,9, -999.000,9, -999.000,9, -999.000,9, -999.000,9,-999.0000,9,  -999.00,9,-999.000,   -999.0,9,   -999.0,9,   4250,-999.0000,-999.000,-999.000,9,  0.9005,-999.000
      06MT28_1,   A08,   205,  2,   2076,    305,2,19940414,0200,-11.3308, -19.4978, 4761,   4504.2,   1.0851,  34.7573,2,-999.0000,9,    210.8,2,    90.39,2,    26.75,2, -999.000,9, -999.000,9, -999.000,9, -999.000,9, -999.000,9,-999.0000,9,  -999.00,9,-999.000,   -999.0,9,   -999.0,9,   4499,-999.0000,-999.000,-999.000,9,  0.7221,-999.000
      06MT28_1,   A08,   205,  2,   2075,    304,2,19940414,0200,-11.3308, -19.4978, 4761,   4705.2,   1.0086,  34.7472,2,-999.0000,9,    209.2,2,    93.79,2,    27.48,2, -999.000,9, -999.000,9, -999.000,9, -999.000,9, -999.000,9,-999.0000,9,  -999.00,9,-999.000,   -999.0,9,   -999.0,9,   4700,-999.0000,-999.000,-999.000,9,  0.6251,-999.000
      06MT28_1,   A08,   205,  2,   2074,    303,2,19940414,0200,-11.3308, -19.4978, 4761,   4774.6,   1.0084,  34.7456,2,-999.0000,9,    209.4,2,    93.90,2,    27.43,2, -999.000,9, -999.000,9, -999.000,9, -999.000,9, -999.000,9,-999.0000,9,  -999.00,9,-999.000,   -999.0,9,   -999.0,9,   4769,-999.0000,-999.000,-999.000,9,  0.6169,-999.000
      06MT28_1,   A08,   205,  2,   2073,    301,2,19940414,0200,-11.3308, -19.4978, 4761,   4806.2,   1.0131,  34.7464,2,  34.7446,2,    209.3,2,    93.94,2,    27.52,2, -999.000,9, -999.000,9, -999.000,9, -999.000,9, -999.000,9,-999.0000,9,  -999.00,9,-999.000,   -999.0,9,   -999.0,9,   4801,-999.0000,-999.000,-999.000,9,  0.6178,-999.000
      06MT28_1,   A08,   205,  2,   2072,    302,2,19940414,0200,-11.3308, -19.4978, 4761,   4806.5,   1.0130,  34.7464,2,  34.7437,2,    209.3,2,    94.26,2,    27.52,2, -999.000,9, -999.000,9, -999.000,9, -999.000,9, -999.000,9,-999.0000,9,  -999.00,9,-999.000,   -999.0,9,   -999.0,9,   4801,-999.0000,-999.000,-999.000,9,  0.6177,-999.000
      06MT28_1,   A08,   206,  1,   2071,    217,2,19940414,0806,-11.3333, -19.0002, 4574,     10.4,  27.2241,  36.8745,2,  36.8758,2,    192.2,2,     0.77,2,     0.00,2,    1.542,2,    0.898,2,    0.052,4,    1.725,2,    0.841,2,   1.6740,2,    -1.21,2,   6.537,   2054.9,2,    462.5,6,     10,  0.0060,   0.240,   0.021,2, 27.2217,   0.023
      06MT28_1,   A08,   206,  1,   2069,    216,2,19940414,0806,-11.3333, -19.0002, 4574,     29.6,  27.2232,  36.8749,2,-999.0000,9,    193.2,2,     0.77,2,     0.00,2, -999.000,9, -999.000,9, -999.000,9, -999.000,9,    0.749,2,-999.0000,9,  -999.00,9,-999.000,   2055.2,2,    465.9,2,     29,-999.0000,-999.000,-999.000,9, 27.2164,   0.018
      06MT28_1,   A08,   206,  1,   2068,    215,2,19940414,0806,-11.3333, -19.0002, 4574,     50.2,  25.6759,  36.7545,2,-999.0000,9,    207.3,2,     0.77,2,     0.00,2, -999.000,9, -999.000,9, -999.000,9, -999.000,9, -999.000,9,   1.6790,2,    -1.16,2,   6.650,   2054.5,2,    479.0,2,     50,  0.0060,   0.240,   0.021,2, 25.6647,-999.000
      06MT28_1,   A08,   206,  1,   2067,    214,2,19940414,0806,-11.3333, -19.0002, 4574,     70.9,  24.2017,  36.7755,2,-999.0000,9,    210.9,2,     0.67,2,     0.00,2,    1.775,2,    1.004,2,    0.144,2,    1.283,2, -999.000,9,   1.6890,2,    -1.71,2,   6.719,   2064.7,2,    492.3,2,     70,  0.0060,   0.240,   0.021,2, 24.1866,-999.000
      06MT28_1,   A08,   206,  1,   2066,    213,2,19940414,0806,-11.3333, -19.0002, 4574,     99.4,  22.5856,  36.6073,2,-999.0000,9,    204.6,2,     0.96,2,     0.00,2,    1.847,2,    1.033,2,    0.123,2,    1.098,2,    0.784,2,   1.7000,2,    -1.25,2,   6.822,   2077.3,2,    534.9,2,     99,  0.0060,   0.240,   0.022,2, 22.5655,   0.021
      06MT28_1,   A08,   206,  1,   2065,    212,2,19940414,0806,-11.3333, -19.0002, 4574,    149.5,  17.0401,  35.8316,2,-999.0000,9,    155.8,2,     3.07,2,     9.77,2,    1.878,2,    1.010,2,    0.085,2,    0.662,2,    0.679,2,   1.7220,2,     0.33,2,   7.077,   2128.3,2,    845.9,2,    149,  0.0060,   0.240,   0.023,2, 17.0153,   0.016
      06MT28_1,   A08,   206,  1,   2064,    211,2,19940414,0806,-11.3333, -19.0002, 4574,    199.6,  13.3553,  35.3217,2,-999.0000,9,    105.7,2,     6.80,2,    20.20,2,    1.304,2,    0.700,2,    0.012,2,    0.326,2, -999.000,9,   1.7430,6,     1.35,6,   7.266,   2174.1,2,   1289.8,2,    199,  0.0070,   0.250,   0.024,6, 13.3272,-999.000
      06MT28_1,   A08,   206,  1,   2063,    210,2,19940414,0806,-11.3333, -19.0002, 4574,    300.5,   9.9544,  34.9217,2,-999.0000,9,     79.6,2,    12.63,2,    29.09,2,    0.356,2,    0.201,2,    0.017,2,    0.178,2,    0.220,2,-999.0000,9,  -999.00,9,-999.000,   2212.2,2,   1141.7,2,    300,-999.0000,-999.000,-999.000,9,  9.9195,   0.009
      06MT28_1,   A08,   206,  1,   2062,    209,2,19940414,0806,-11.3333, -19.0002, 4574,    399.8,   8.1106,  34.7192,2,-999.0000,9,    101.6,2,    15.73,2,    30.46,2,    0.213,2,    0.125,2,    0.014,2,    0.278,2, -999.000,9,   1.7650,6,     1.17,6,   7.557,   2210.6,2,   1157.2,2,    399,  0.0070,   0.250,   0.025,6,  8.0694,-999.000
      06MT28_1,   A08,   206,  1,   2061,    208,2,19940414,0806,-11.3333, -19.0002, 4574,    500.4,   6.7653,  34.5890,2,-999.0000,9,    112.7,2,    19.55,3,    32.40,3,    0.135,2,    0.081,2,    0.013,2,    0.317,2,    0.052,2,   1.7650,2,     1.29,2,   7.596,   2213.6,2,   1241.7,6,    500,  0.0070,   0.250,   0.025,2,  6.7186,   0.005
      06MT28_1,   A08,   206,  1,   2060,    207,2,19940414,0806,-11.3333, -19.0002, 4574,    500.5,   6.7608,  34.5891,2,-999.0000,9,   -999.0,9,  -999.00,9,  -999.00,9, -999.000,9, -999.000,9, -999.000,9, -999.000,9, -999.000,9,-999.0000,9,  -999.00,9,-999.000,   -999.0,9,   -999.0,9,    500,-999.0000,-999.000,-999.000,9,  6.7141,-999.000