BOTTLE,20220817CCHSIOAMB
EXPOCODE,SECT_ID,STNNBR,CASTNO,SAMPNO,BTLNBR,BTLNBR_FLAG_W,DATE,TIME,LATITUDE,LONGITUDE,DEPTH,CTDPRS,CTDTMP,CTDSAL,CTDSAL_FLAG_W,SALNTY,SALNTY_FLAG_W,OXYGEN,OXYGEN_FLAG_W,SILCAT,SILCAT_FLAG_W,NO2+NO3,NO2+NO3_FLAG_W,CFC-11,CFC-11_FLAG_W,CFC-12,CFC-12_FLAG_W,CFC113,CFC113_FLAG_W,CCL4,CCL4_FLAG_W,TRITUM,TRITUM_FLAG_W,HELIUM,HELIUM_FLAG_W,DELHE3,DELHE3_FLAG_W,NEON,TCARBN,TCARBN_FLAG_W,PCO2,PCO2_FLAG_W,CTDRAW,HELIER,DELHER,NEONER,NEON_FLAG_W,THETA,TRITER
,,,,,,,,,,,,DBAR,ITS-90,PSS-78,,PSS-78,,UMOL/KG,,UMOL/KG,,UMOL/KG,,PMOL/KG,,PMOL/KG,,PMOL/KG,,PMOL/KG,,TU,,NMOL/KG,,PERCNT,,NMOL/KG,UMOL/KG,,UATM,,,NMOL/KG,PERCNT,NMOL/KG,,ITS-90,TU
      06MT28_1,   A08,   219,  2,   2707,    324,2,19940417,2241,-11.3340, -13.2502, 2534,     62.5,  23.8137,  36.6740,2,  36.6580,4,    217.7,2,     0.77,3,     0.00,3, -999.000,9, -999.000,9, -999.000,9, -999.000,9, -999.000,9,-999.0000,9,  -999.00,9,-999.000,   -999.0,9,   -999.0,9,     60,-999.0000,-999.000,-999.000,9, 23.8006,-999.000
      06MT28_1,   A08,   219,  2,   2705,    323,2,19940417,2241,-11.3340, -13.2502, 2534,     81.0,  21.7389,  36.5017,2,-999.0000,9,    209.9,2,     1.06,2,     0.29,2, -999.000,9, -999.000,9, -999.000,9, -999.000,9, -999.000,9,-999.0000,9,  -999.00,9,-999.000,   -999.0,9,   -999.0,9,     79,-999.0000,-999.000,-999.000,9, 21.7230,-999.000
      06MT28_1,   A08,   219,  2,   2704,    322,2,19940417,2241,-11.3340, -13.2502, 2534,    120.3,  16.7871,  35.8061,2,-999.0000,9,    149.3,2,     3.36,2,    11.22,2, -999.000,9, -999.000,9, -999.000,9, -999.000,9, -999.000,9,-999.0000,9,  -999.00,9,-999.000,   -999.0,9,   -999.0,9,    120,-999.0000,-999.000,-999.000,9, 16.7674,-999.000
      06MT28_1,   A08,   219,  2,   2690,    321,2,19940417,2241,-11.3340, -13.2502, 2534,    179.1,  13.4628,  35.3584,2,-999.0000,9,     96.4,2,     7.38,2,    21.85,2, -999.000,9, -999.000,9, -999.000,9, -999.000,9, -999.000,9,-999.0000,9,  -999.00,9,-999.000,   -999.0,9,   -999.0,9,    180,-999.0000,-999.000,-999.000,9, 13.4375,-999.000
      06MT28_1,   A08,   219,  2,   2764,    320,2,19940417,2241,-11.3340, -13.2502, 2534,    250.3,  10.8589,  35.0371,2,-999.0000,9,     79.9,2,    11.01,2,    27.58,2, -999.000,9, -999.000,9, -999.000,9, -999.000,9, -999.000,9,-999.0000,9,  -999.00,9,-999.000,   -999.0,9,   -999.0,9,    252,-999.0000,-999.000,-999.000,9, 10.8282,-999.000
      06MT28_1,   A08,   219,  2,   2763,    319,2,19940417,2241,-11.3340, -13.2502, 2534,    348.0,   8.8307,  34.8036,2,-999.0000,9,     77.5,2,    15.03,2,    31.87,2, -999.000,9, -999.000,9, -999.000,9, -999.000,9, -999.000,9,-999.0000,9,  -999.00,9,-999.000,   -999.0,9,   -999.0,9,    350,-999.0000,-999.000,-999.000,9,  8.7930,-999.000
      06MT28_1,   A08,   219,  2,   2762,    318,2,19940417,2241,-11.3340, -13.2502, 2534,    447.4,   7.7466,  34.6892,2,-999.0000,9,     86.4,2,    17.60,2,    33.29,2, -999.000,9, -999.000,9, -999.000,9, -999.000,9, -999.000,9,-999.0000,9,  -999.00,9,-999.000,   -999.0,9,   -999.0,9,    450,-999.0000,-999.000,-999.000,9,  7.7016,-999.000
      06MT28_1,   A08,   219,  2,   2761,    317,2,19940417,2241,-11.3340, -13.2502, 2534,    547.1,   6.5352,  34.5735,2,-999.0000,9,    113.7,2,    20.27,2,    32.98,2, -999.000,9, -999.000,9, -999.000,9, -999.000,9, -999.000,9,-999.0000,9,  -999.00,9,-999.000,   -999.0,9,   -999.0,9,    550,-999.0000,-999.000,-999.000,9,  6.4849,-999.000
      06MT28_1,   A08,   219,  2,   2760,    316,2,19940417,2241,-11.3340, -13.2502, 2534,    647.9,   5.8149,  34.5249,2,-999.0000,9,    114.0,2,    23.79,2,    34.49,2, -999.000,9, -999.000,9, -999.000,9, -999.000,9, -999.000,9,-999.0000,9,  -999.00,9,-999.000,   -999.0,9,   -999.0,9,    651,-999.0000,-999.000,-999.000,9,  5.7585,-999.000
      06MT28_1,   A08,   219,  2,   2759,    315,2,19940417,2241,-11.3340, -13.2502, 2534,    747.6,   5.1676,  34.4850,2,-999.0000,9,    129.0,2,    26.55,2,    34.00,2, -999.000,9, -999.000,9, -999.000,9, -999.000,9, -999.000,9,-999.0000,9,  -999.00,9,-999.000,   -999.0,9,   -999.0,9,    751,-999.0000,-999.000,-999.000,9,  5.1058,-999.000
      06MT28_1,   A08,   219,  2,   2758,    314,2,19940417,2241,-11.3340, -13.2502, 2534,    821.6,   4.7362,  34.4920,2,-999.0000,9,    129.2,2,    29.69,2,    34.46,2, -999.000,9, -999.000,9, -999.000,9, -999.000,9, -999.000,9,-999.0000,9,  -999.00,9,-999.000,   -999.0,9,   -999.0,9,    825,-999.0000,-999.000,-999.000,9,  4.6705,-999.000
      06MT28_1,   A08,   219,  2,   2757,    313,2,19940417,2241,-11.3340, -13.2502, 2534,    920.9,   4.3990,  34.5121,2,-999.0000,9,    139.0,2,    31.68,2,    33.68,2, -999.000,9, -999.000,9, -999.000,9, -999.000,9, -999.000,9,-999.0000,9,  -999.00,9,-999.000,   -999.0,9,   -999.0,9,    925,-999.0000,-999.000,-999.000,9,  4.3271,-999.000
      06MT28_1,   A08,   219,  2,   2756,    312,2,19940417,2241,-11.3340, -13.2502, 2534,   1095.8,   4.0424,  34.6145,2,-999.0000,9,    156.5,2,    32.43,2,    31.09,2, -999.000,9, -999.000,9, -999.000,9, -999.000,9, -999.000,9,-999.0000,9,  -999.00,9,-999.000,   -999.0,9,   -999.0,9,   1100,-999.0000,-999.000,-999.000,9,  3.9582,-999.000
      06MT28_1,   A08,   219,  2,   2755,    311,2,19940417,2241,-11.3340, -13.2502, 2534,   1297.2,   4.0146,  34.7720,2,  34.7756,2,    178.6,2,    27.54,2,    26.97,2, -999.000,9, -999.000,9, -999.000,9, -999.000,9, -999.000,9,-999.0000,9,  -999.00,9,-999.000,   -999.0,9,   -999.0,9,   1301,-999.0000,-999.000,-999.000,9,  3.9129,-999.000
      06MT28_1,   A08,   219,  2,   2754,    310,2,19940417,2241,-11.3340, -13.2502, 2534,   1496.7,   3.9098,  34.8883,2,-999.0000,9,    202.1,2,    23.23,2,    23.04,2, -999.000,9, -999.000,9, -999.000,9, -999.000,9, -999.000,9,-999.0000,9,  -999.00,9,-999.000,   -999.0,9,   -999.0,9,   1500,-999.0000,-999.000,-999.000,9,  3.7911,-999.000
      06MT28_1,   A08,   219,  2,   2753,    309,2,19940417,2241,-11.3340, -13.2502, 2534,   1696.5,   3.6610,  34.9263,2,-999.0000,9,    217.9,2,    23.01,2,    21.21,2, -999.000,9, -999.000,9, -999.000,9, -999.000,9, -999.000,9,-999.0000,9,  -999.00,9,-999.000,   -999.0,9,   -999.0,9,   1699,-999.0000,-999.000,-999.000,9,  3.5271,-999.000
      06MT28_1,   A08,   219,  2,   2752,    308,2,19940417,2241,-11.3340, -13.2502, 2534,   1897.5,   3.3965,  34.9344,2,-999.0000,9,    227.2,2,    24.80,2,    20.33,2, -999.000,9, -999.000,9, -999.000,9, -999.000,9, -999.000,9,-999.0000,9,  -999.00,9,-999.000,   -999.0,9,   -999.0,9,   1900,-999.0000,-999.000,-999.000,9,  3.2476,-999.000
      06MT28_1,   A08,   219,  2,   2751,    307,2,19940417,2241,-11.3340, -13.2502, 2534,   2097.8,   3.1180,  34.9254,2,-999.0000,9,    227.9,2,    28.95,2,    20.31,2, -999.000,9, -999.000,9, -999.000,9, -999.000,9, -999.000,9,-999.0000,9,  -999.00,9,-999.000,   -999.0,9,   -999.0,9,   2100,-999.0000,-999.000,-999.000,9,  2.9547,-999.000
      06MT28_1,   A08,   219,  2,   2750,    306,2,19940417,2241,-11.3340, -13.2502, 2534,   2349.1,   2.9443,  34.9161,2,  34.9160,2,    227.0,2,    32.62,2,    20.67,2, -999.000,9, -999.000,9, -999.000,9, -999.000,9, -999.000,9,-999.0000,9,  -999.00,9,-999.000,   -999.0,9,   -999.0,9,   2350,-999.0000,-999.000,-999.000,9,  2.7601,-999.000
      06MT28_1,   A08,   219,  2,   2749,    305,2,19940417,2241,-11.3340, -13.2502, 2534,   2443.9,   2.9302,  34.9141,2,-999.0000,9,    226.6,2,    33.16,2,    20.65,2, -999.000,9, -999.000,9, -999.000,9, -999.000,9, -999.000,9,-999.0000,9,  -999.00,9,-999.000,   -999.0,9,   -999.0,9,   2445,-999.0000,-999.000,-999.000,9,  2.7371,-999.000
      06MT28_1,   A08,   219,  2,   2748,    304,2,19940417,2241,-11.3340, -13.2502, 2534,   2514.4,   2.8715,  34.9112,2,-999.0000,9,    226.1,2,    34.52,2,    20.83,2, -999.000,9, -999.000,9, -999.000,9, -999.000,9, -999.000,9,-999.0000,9,  -999.00,9,-999.000,   -999.0,9,   -999.0,9,   2515,-999.0000,-999.000,-999.000,9,  2.6726,-999.000
      06MT28_1,   A08,   219,  2,   2746,    301,2,19940417,2241,-11.3340, -13.2502, 2534,   2544.4,   2.8480,  34.9089,2,  34.9101,2,    225.4,2,    35.07,2,    20.87,2, -999.000,9, -999.000,9, -999.000,9, -999.000,9, -999.000,9,-999.0000,9,  -999.00,9,-999.000,   -999.0,9,   -999.0,9,   2545,-999.0000,-999.000,-999.000,9,  2.6466,-999.000
      06MT28_1,   A08,   219,  2,   2747,    302,2,19940417,2241,-11.3340, -13.2502, 2534,   2544.4,   2.8480,  34.9089,2,  34.9096,2,    225.9,2,    35.12,2,    20.87,2, -999.000,9, -999.000,9, -999.000,9, -999.000,9, -999.000,9,-999.0000,9,  -999.00,9,-999.000,   -999.0,9,   -999.0,9,   2545,-999.0000,-999.000,-999.000,9,  2.6466,-999.000
      06MT28_1,   A08,   219,  2,   2745,    303,2,19940417,2241,-11.3340, -13.2502, 2534,   2544.5,   2.8499,  34.9093,2,-999.0000,9,    225.5,2,    35.03,2,    20.83,2, -999.000,9, -999.000,9, -999.000,9, -999.000,9, -999.000,9,-999.0000,9,  -999.00,9,-999.000,   -999.0,9,   -999.0,9,   2545,-999.0000,-999.000,-999.000,9,  2.6485,-999.000
      06MT28_1,   A08,   220,  1,   2744,    212,2,19940418,0251,-11.3337, -12.8337, 2863,     10.4,  26.8349,  36.7538,2,  36.7534,2,    192.4,2,     0.67,2,     0.00,2,    1.569,2,    0.903,2,    0.067,4,    1.770,2, -999.000,9,-999.0000,9,  -999.00,9,-999.000,   2054.1,2,    477.3,6,      9,-999.0000,-999.000,-999.000,9, 26.8325,-999.000
      06MT28_1,   A08,   220,  1,   2742,    211,2,19940418,0251,-11.3337, -12.8337, 2863,     40.5,  26.8299,  36.7547,2,-999.0000,9,    193.1,2,     0.67,2,     0.00,2,    1.572,2,    0.900,2,    0.080,4,    1.762,2, -999.000,9,-999.0000,9,  -999.00,9,-999.000,   2055.6,2,    475.4,2,     39,-999.0000,-999.000,-999.000,9, 26.8206,-999.000
      06MT28_1,   A08,   220,  1,   2740,    210,2,19940418,0251,-11.3337, -12.8337, 2863,     60.6,  24.6268,  36.7337,2,-999.0000,9,    212.8,2,     0.67,2,     0.00,2,    1.838,2,    1.026,2,    0.106,4,    1.433,2, -999.000,9,-999.0000,9,  -999.00,9,-999.000,   2067.0,2,    504.6,2,     60,-999.0000,-999.000,-999.000,9, 24.6138,-999.000
      06MT28_1,   A08,   220,  1,   2775,    209,2,19940418,0251,-11.3337, -12.8337, 2863,     81.7,  22.4411,  36.5655,2,-999.0000,9,    214.7,2,     0.72,2,     0.00,2,    1.953,2,    1.073,2,    0.126,2,    1.260,2, -999.000,9,-999.0000,9,  -999.00,9,-999.000,   2071.9,2,   -999.0,9,     81,-999.0000,-999.000,-999.000,9, 22.4246,-999.000
      06MT28_1,   A08,   220,  1,   2810,    207,2,19940418,0251,-11.3337, -12.8337, 2863,    999.7,   4.1526,  34.5598,2,-999.0000,9,   -999.0,9,  -999.00,9,  -999.00,9, -999.000,9, -999.000,9, -999.000,9, -999.000,9, -999.000,9,-999.0000,9,  -999.00,9,-999.000,   -999.0,9,   -999.0,9,   1000,-999.0000,-999.000,-999.000,9,  4.0757,-999.000
      06MT28_1,   A08,   220,  1,   2811,    208,2,19940418,0251,-11.3337, -12.8337, 2863,    999.7,   4.1456,  34.5612,2,-999.0000,9,    148.0,2,    32.80,3,    32.27,3,    0.007,4,    0.001,2,    0.000,2,    0.046,2, -999.000,9,-999.0000,9,  -999.00,9,-999.000,   2221.4,2,   1196.0,6,   1000,-999.0000,-999.000,-999.000,9,  4.0688,-999.000
      06MT28_1,   A08,   220,  2,   2728,    324,2,19940418,0415,-11.3332, -12.8327, 2888,     81.6,  23.0308,  36.6193,2,  36.6339,4,    214.8,2,     0.96,2,     0.00,2, -999.000,9, -999.000,9, -999.000,9, -999.000,9, -999.000,9,-999.0000,9,  -999.00,9,-999.000,   2074.3,2,    545.3,2,     80,-999.0000,-999.000,-999.000,9, 23.0140,-999.000
      06MT28_1,   A08,   220,  2,   2776,    323,2,19940418,0415,-11.3332, -12.8327, 2888,    120.2,  18.7772,  36.0933,2,-999.0000,9,    175.5,2,     2.21,2,     5.47,2, -999.000,9, -999.000,9, -999.000,9, -999.000,9, -999.000,9,-999.0000,9,  -999.00,9,-999.000,   2112.8,2,   -999.0,9,    119,-999.0000,-999.000,-999.000,9, 18.7558,-999.000
      06MT28_1,   A08,   220,  2,   2774,    322,2,19940418,0415,-11.3332, -12.8327, 2888,    179.4,  13.7456,  35.3953,2,-999.0000,9,    100.1,2,     7.09,2,    20.80,2, -999.000,9, -999.000,9, -999.000,9, -999.000,9, -999.000,9,   1.7420,2,     1.14,2,   7.285,   2180.1,2,   -999.0,9,    180,  0.0070,   0.250,   0.024,2, 13.7199,-999.000
      06MT28_1,   A08,   220,  2,   2773,    321,2,19940418,0415,-11.3332, -12.8327, 2888,    248.8,  10.5098,  34.9817,2,-999.0000,9,     73.4,2,    11.78,2,    28.73,2,    0.479,2,    0.268,2,    0.012,2,    0.192,2, -999.000,9,   1.7560,2,     1.21,2,   7.436,   2213.7,2,   -999.0,9,    250,  0.0070,   0.250,   0.025,2, 10.4799,-999.000
      06MT28_1,   A08,   220,  2,   2772,    320,2,19940418,0415,-11.3332, -12.8327, 2888,    347.6,   8.6069,  34.7757,2,-999.0000,9,     83.4,2,    15.31,2,    31.58,2,    0.177,2,    0.106,2,    0.007,2,    0.187,2, -999.000,9,   1.7570,2,     1.47,2,   7.495,   2219.5,2,   -999.0,9,    350,  0.0070,   0.250,   0.025,2,  8.5699,-999.000
      06MT28_1,   A08,   220,  2,   2771,    319,2,19940418,0415,-11.3332, -12.8327, 2888,    447.9,   7.4304,  34.6627,2,-999.0000,9,     85.3,2,    18.46,2,    34.05,2, -999.000,9, -999.000,9, -999.000,9, -999.000,9, -999.000,9,-999.0000,9,  -999.00,9,-999.000,   2227.7,2,   -999.0,9,    450,-999.0000,-999.000,-999.000,9,  7.3865,-999.000
      06MT28_1,   A08,   220,  2,   2770,    318,2,19940418,0415,-11.3332, -12.8327, 2888,    546.2,   6.5674,  34.5737,2,-999.0000,9,    108.5,2,    20.36,2,    33.17,2,    0.094,2,    0.058,2,    0.006,2,    0.268,2, -999.000,9,   1.7660,2,     0.78,2,   7.664,   2219.4,2,   -999.0,9,    549,  0.0070,   0.250,   0.025,2,  6.5171,-999.000
      06MT28_1,   A08,   220,  2,   2766,    317,2,19940418,0415,-11.3332, -12.8327, 2888,    646.9,   5.8528,  34.5230,2,-999.0000,9,    117.9,2,    23.22,2,    33.83,2,    0.057,2,    0.037,2,    0.005,2,    0.243,2, -999.000,9,   1.7780,2,     1.42,2,   7.659,   2219.9,2,   -999.0,9,    650,  0.0070,   0.250,   0.025,2,  5.7963,-999.000
      06MT28_1,   A08,   220,  2,   2814,    316,2,19940418,0415,-11.3332, -12.8327, 2888,    746.1,   5.1941,  34.4860,2,-999.0000,9,    127.6,2,    26.46,2,    34.00,2,    0.034,2,    0.025,2,    0.005,2,    0.203,2, -999.000,9,   1.7970,2,     1.26,2,   7.774,   2221.6,2,   -999.0,9,    750,  0.0070,   0.250,   0.026,2,  5.1322,-999.000
      06MT28_1,   A08,   220,  2,   2813,    315,2,19940418,0415,-11.3332, -12.8327, 2888,    821.1,   4.7034,  34.4832,2,-999.0000,9,    135.8,2,    29.59,2,    33.79,2,    0.018,2,    0.011,2,    0.004,2,    0.150,2, -999.000,9,   1.8080,2,     2.10,2,   7.839,   2221.6,2,   -999.0,9,    825,  0.0070,   0.250,   0.026,2,  4.6380,-999.000
      06MT28_1,   A08,   220,  2,   2812,    314,2,19940418,0415,-11.3332, -12.8327, 2888,    920.2,   4.3914,  34.5098,2,-999.0000,9,    137.8,2,    31.78,2,    33.68,2,    0.005,2,    0.003,2,    0.001,2,    0.066,2, -999.000,9,   1.7970,2,     2.88,2,   7.776,   2225.0,2,   -999.0,9,    924,  0.0070,   0.250,   0.026,2,  4.3196,-999.000
      06MT28_1,   A08,   220,  2,   2809,    313,2,19940418,0415,-11.3332, -12.8327, 2888,   1096.0,   4.0109,  34.6461,2,-999.0000,9,    160.6,2,    31.76,2,    30.23,2, -999.000,9, -999.000,9, -999.000,9, -999.000,9, -999.000,9,-999.0000,9,  -999.00,9,-999.000,   2215.2,2,   -999.0,9,   1100,-999.0000,-999.000,-999.000,9,  3.9269,-999.000
      06MT28_1,   A08,   220,  2,   2808,    312,2,19940418,0415,-11.3332, -12.8327, 2888,   1296.3,   4.0240,  34.7979,2,  34.7970,2,      1.8,4,    26.49,2,    26.30,2,    0.002,2,    0.000,2,    0.002,2,    0.035,2, -999.000,9,   1.8060,2,     2.40,2,   7.806,   2199.5,2,   -999.0,9,   1300,  0.0070,   0.250,   0.026,2,  3.9222,-999.000
      06MT28_1,   A08,   220,  2,   2807,    311,2,19940418,0415,-11.3332, -12.8327, 2888,   1496.5,   3.8919,  34.8895,2,-999.0000,9,    202.3,2,    23.23,2,    22.94,2, -999.000,9, -999.000,9, -999.000,9, -999.000,9, -999.000,9,-999.0000,9,  -999.00,9,-999.000,   2185.0,2,   -999.0,9,   1500,-999.0000,-999.000,-999.000,9,  3.7735,-999.000
      06MT28_1,   A08,   220,  2,   2806,    310,2,19940418,0415,-11.3332, -12.8327, 2888,   1697.9,   3.6986,  34.9239,2,-999.0000,9,    215.9,2,    22.73,2,    21.11,2,    0.006,2,    0.005,2,    0.002,2,    0.092,2, -999.000,9,-999.0000,9,  -999.00,9,-999.000,   2178.1,2,   -999.0,9,   1701,-999.0000,-999.000,-999.000,9,  3.5641,-999.000
      06MT28_1,   A08,   220,  2,   2805,    309,2,19940418,0415,-11.3332, -12.8327, 2888,   1897.5,   3.4616,  34.9387,2,-999.0000,9,    225.8,2,    23.47,2,    20.05,2, -999.000,9, -999.000,9, -999.000,9, -999.000,9, -999.000,9,-999.0000,9,  -999.00,9,-999.000,   2174.9,2,    795.0,2,   1900,-999.0000,-999.000,-999.000,9,  3.3118,-999.000
      06MT28_1,   A08,   220,  2,   2804,    308,2,19940418,0415,-11.3332, -12.8327, 2888,   2078.1,   3.1981,  34.9301,2,-999.0000,9,    227.3,2,    27.53,2,    20.12,2,    0.004,2,    0.002,2,    0.002,2,    0.075,2, -999.000,9,-999.0000,9,  -999.00,9,-999.000,   2177.3,2,    791.1,2,   2080,-999.0000,-999.000,-999.000,9,  3.0354,-999.000
      06MT28_1,   A08,   220,  2,   2803,    307,2,19940418,0415,-11.3332, -12.8327, 2888,   2346.8,   2.9966,  34.9181,2,  34.9195,2,    226.2,2,    31.77,2,    20.39,2, -999.000,9, -999.000,9, -999.000,9, -999.000,9, -999.000,9,-999.0000,9,  -999.00,9,-999.000,   2183.2,2,    814.3,2,   2348,-999.0000,-999.000,-999.000,9,  2.8117,-999.000
      06MT28_1,   A08,   220,  2,   2802,    306,2,19940418,0415,-11.3332, -12.8327, 2888,   2600.2,   2.8529,  34.9091,2,-999.0000,9,    224.5,2,    34.96,2,    20.75,2,    0.002,2,    0.001,2,    0.000,2,    0.036,2, -999.000,9,-999.0000,9,  -999.00,9,-999.000,   2186.4,2,    794.9,2,   2600,-999.0000,-999.000,-999.000,9,  2.6460,-999.000
      06MT28_1,   A08,   220,  2,   2801,    305,2,19940418,0415,-11.3332, -12.8327, 2888,   2780.9,   2.7626,  34.9050,2,-999.0000,9,    223.9,2,    37.10,2,    20.91,2,    0.007,2,    0.002,2,    0.004,2,    0.028,2, -999.000,9,   1.8260,2,     4.82,2,   7.927,   2189.6,2,    836.4,3,   2781,  0.0070,   0.250,   0.026,2,  2.5395,-999.000
      06MT28_1,   A08,   220,  2,   2800,    304,2,19940418,0415,-11.3332, -12.8327, 2888,   2850.4,   2.6882,  34.9005,2,-999.0000,9,      2.2,4,    38.91,2,    21.09,2, -999.000,9, -999.000,9, -999.000,9, -999.000,9, -999.000,9,-999.0000,9,  -999.00,9,-999.000,   2191.7,2,    806.4,2,   2850,-999.0000,-999.000,-999.000,9,  2.4596,-999.000
      06MT28_1,   A08,   220,  2,   2798,    301,2,19940418,0415,-11.3332, -12.8327, 2888,   2887.3,   2.6667,  34.8993,2,  34.9002,2,    223.0,2,    39.08,2,    21.08,2,    0.001,2,    0.000,2,   -0.001,2,    0.023,2, -999.000,9,   1.8220,2,     4.89,2,   7.939,   2192.1,2,    806.1,2,   2887,  0.0070,   0.250,   0.026,2,  2.4348,-999.000
      06MT28_1,   A08,   220,  2,   2799,    302,2,19940418,0415,-11.3332, -12.8327, 2888,   2887.3,   2.6667,  34.8993,2,  34.8994,2,    223.0,2,    39.32,2,    21.08,2, -999.000,9, -999.000,9, -999.000,9, -999.000,9, -999.000,9,-999.0000,9,  -999.00,9,-999.000,   2192.6,2,    802.7,2,   2887,-999.0000,-999.000,-999.000,9,  2.4348,-999.000
      06MT28_1,   A08,   220,  2,   2797,    303,2,19940418,0415,-11.3332, -12.8327, 2888,   2887.4,   2.6676,  34.8995,2,-999.0000,9,    222.9,2,    39.23,2,    21.08,2, -999.000,9, -999.000,9, -999.000,9, -999.000,9, -999.000,9,-999.0000,9,  -999.00,9,-999.000,   2192.2,2,    823.8,2,   2887,-999.0000,-999.000,-999.000,9,  2.4357,-999.000