BOTTLE,20220817CCHSIOAMB
EXPOCODE,SECT_ID,STNNBR,CASTNO,SAMPNO,BTLNBR,BTLNBR_FLAG_W,DATE,TIME,LATITUDE,LONGITUDE,DEPTH,CTDPRS,CTDTMP,CTDSAL,CTDSAL_FLAG_W,SALNTY,SALNTY_FLAG_W,OXYGEN,OXYGEN_FLAG_W,SILCAT,SILCAT_FLAG_W,NO2+NO3,NO2+NO3_FLAG_W,CFC-11,CFC-11_FLAG_W,CFC-12,CFC-12_FLAG_W,CFC113,CFC113_FLAG_W,CCL4,CCL4_FLAG_W,TRITUM,TRITUM_FLAG_W,HELIUM,HELIUM_FLAG_W,DELHE3,DELHE3_FLAG_W,NEON,TCARBN,TCARBN_FLAG_W,PCO2,PCO2_FLAG_W,CTDRAW,HELIER,DELHER,NEONER,NEON_FLAG_W,THETA,TRITER
,,,,,,,,,,,,DBAR,ITS-90,PSS-78,,PSS-78,,UMOL/KG,,UMOL/KG,,UMOL/KG,,PMOL/KG,,PMOL/KG,,PMOL/KG,,PMOL/KG,,TU,,NMOL/KG,,PERCNT,,NMOL/KG,UMOL/KG,,UATM,,,NMOL/KG,PERCNT,NMOL/KG,,ITS-90,TU
      06MT28_1,   A08,   214,  1,   2458,    222,2,19940416,1450,-11.3330, -15.3348, 3475,      9.0,  26.9653,  36.8467,2,-999.0000,9,   -999.0,9,  -999.00,9,  -999.00,9, -999.000,9, -999.000,9, -999.000,9, -999.000,9, -999.000,9,-999.0000,9,  -999.00,9,-999.000,   -999.0,9,   -999.0,9,      8,-999.0000,-999.000,-999.000,9, 26.9632,-999.000
      06MT28_1,   A08,   214,  1,   2457,    221,2,19940416,1450,-11.3330, -15.3348, 3475,     31.4,  26.8836,  36.8433,2,-999.0000,9,   -999.0,9,  -999.00,9,  -999.00,9, -999.000,9, -999.000,9, -999.000,9, -999.000,9, -999.000,9,-999.0000,9,  -999.00,9,-999.000,   -999.0,9,   -999.0,9,     30,-999.0000,-999.000,-999.000,9, 26.8764,-999.000
      06MT28_1,   A08,   214,  1,   2455,    220,2,19940416,1450,-11.3330, -15.3348, 3475,     51.1,  26.8643,  36.8444,2,-999.0000,9,   -999.0,9,  -999.00,9,  -999.00,9, -999.000,9, -999.000,9, -999.000,9, -999.000,9, -999.000,9,-999.0000,9,  -999.00,9,-999.000,   -999.0,9,   -999.0,9,     50,-999.0000,-999.000,-999.000,9, 26.8526,-999.000
      06MT28_1,   A08,   214,  1,   2454,    219,2,19940416,1450,-11.3330, -15.3348, 3475,     69.9,  25.5370,  36.8293,2,-999.0000,9,   -999.0,9,  -999.00,9,  -999.00,9, -999.000,9, -999.000,9, -999.000,9, -999.000,9, -999.000,9,-999.0000,9,  -999.00,9,-999.000,   -999.0,9,   -999.0,9,     69,-999.0000,-999.000,-999.000,9, 25.5215,-999.000
      06MT28_1,   A08,   214,  1,   2452,    218,2,19940416,1450,-11.3330, -15.3348, 3475,    100.8,  22.3275,  36.4963,2,-999.0000,9,   -999.0,9,  -999.00,9,  -999.00,9, -999.000,9, -999.000,9, -999.000,9, -999.000,9, -999.000,9,-999.0000,9,  -999.00,9,-999.000,   -999.0,9,   -999.0,9,    100,-999.0000,-999.000,-999.000,9, 22.3072,-999.000
      06MT28_1,   A08,   214,  1,   2449,    217,2,19940416,1450,-11.3330, -15.3348, 3475,    150.2,  17.6598,  35.9253,2,-999.0000,9,   -999.0,9,  -999.00,9,  -999.00,9, -999.000,9, -999.000,9, -999.000,9, -999.000,9, -999.000,9,-999.0000,9,  -999.00,9,-999.000,   -999.0,9,   -999.0,9,    150,-999.0000,-999.000,-999.000,9, 17.6342,-999.000
      06MT28_1,   A08,   214,  1,   2502,    216,2,19940416,1450,-11.3330, -15.3348, 3475,   1000.1,   4.0254,  34.5632,2,-999.0000,9,   -999.0,9,  -999.00,9,  -999.00,9, -999.000,9, -999.000,9, -999.000,9, -999.000,9, -999.000,9,-999.0000,9,  -999.00,9,-999.000,   -999.0,9,   -999.0,9,   1001,-999.0000,-999.000,-999.000,9,  3.9495,-999.000
      06MT28_1,   A08,   214,  1,   2497,    207,2,19940416,1450,-11.3330, -15.3348, 3475,   1000.1,   4.0233,  34.5642,2,-999.0000,9,   -999.0,9,  -999.00,9,  -999.00,9, -999.000,9, -999.000,9, -999.000,9, -999.000,9, -999.000,9,-999.0000,9,  -999.00,9,-999.000,   -999.0,9,   -999.0,9,   1001,-999.0000,-999.000,-999.000,9,  3.9474,-999.000
      06MT28_1,   A08,   214,  1,   2500,    209,2,19940416,1450,-11.3330, -15.3348, 3475,   1000.2,   4.0233,  34.5642,2,-999.0000,9,    155.3,2,    33.70,2,    31.56,2,    0.005,2,    0.002,2,    0.002,2,    0.063,2, -999.000,9,-999.0000,9,  -999.00,9,-999.000,   -999.0,9,   -999.0,9,   1001,-999.0000,-999.000,-999.000,9,  3.9474,-999.000
      06MT28_1,   A08,   214,  1,   2501,    215,2,19940416,1450,-11.3330, -15.3348, 3475,   1000.2,   4.0250,  34.5636,2,-999.0000,9,   -999.0,9,  -999.00,9,  -999.00,9, -999.000,9, -999.000,9, -999.000,9, -999.000,9, -999.000,9,-999.0000,9,  -999.00,9,-999.000,   -999.0,9,   -999.0,9,   1001,-999.0000,-999.000,-999.000,9,  3.9491,-999.000
      06MT28_1,   A08,   214,  1,   2499,    212,2,19940416,1450,-11.3330, -15.3348, 3475,   1000.2,   4.0244,  34.5642,2,-999.0000,9,    155.6,2,    33.46,2,    31.56,2,    0.005,2,    0.002,2,    0.006,2,    0.065,2, -999.000,9,   1.8030,6,     1.76,6,   7.828,   -999.0,9,   -999.0,9,   1001,  0.0070,   0.250,   0.026,6,  3.9485,-999.000
      06MT28_1,   A08,   214,  1,   2498,    213,2,19940416,1450,-11.3330, -15.3348, 3475,   1000.3,   4.0248,  34.5637,2,  34.5621,2,    156.3,2,    33.46,3,    31.65,3,    0.004,2,    0.005,2,    0.004,2,    0.055,2, -999.000,9,   1.7670,6,     2.70,6,   7.713,   -999.0,9,   -999.0,9,   1001,  0.0070,   0.250,   0.025,6,  3.9489,-999.000
      06MT28_1,   A08,   214,  1,   2496,    214,2,19940416,1450,-11.3330, -15.3348, 3475,   1000.3,   4.0252,  34.5633,2,-999.0000,9,   -999.0,9,  -999.00,9,  -999.00,9, -999.000,9, -999.000,9, -999.000,9, -999.000,9, -999.000,9,-999.0000,9,  -999.00,9,-999.000,   -999.0,9,   -999.0,9,   1001,-999.0000,-999.000,-999.000,9,  3.9493,-999.000
      06MT28_1,   A08,   214,  1,   2495,    211,2,19940416,1450,-11.3330, -15.3348, 3475,   1000.4,   4.0244,  34.5641,2,-999.0000,9,    155.3,2,    33.46,2,    31.56,2,    0.018,4,    0.006,2,    0.018,2,    0.061,2, -999.000,9,   1.8000,6,     2.57,6,   7.838,   -999.0,9,   -999.0,9,   1001,  0.0070,   0.250,   0.026,6,  3.9485,-999.000
      06MT28_1,   A08,   214,  1,   2494,    208,2,19940416,1450,-11.3330, -15.3348, 3475,   1000.4,   4.0233,  34.5641,2,-999.0000,9,    154.8,2,    33.70,2,    31.60,2,    0.025,4,    0.015,4,    0.013,2,    0.078,2, -999.000,9,-999.0000,9,  -999.00,9,-999.000,   -999.0,9,   -999.0,9,   1001,-999.0000,-999.000,-999.000,9,  3.9474,-999.000
      06MT28_1,   A08,   214,  1,   2493,    210,2,19940416,1450,-11.3330, -15.3348, 3475,   1000.5,   4.0236,  34.5649,2,-999.0000,9,    155.1,2,    33.65,2,    31.65,2,    0.004,2,    0.002,2,    0.005,2,    0.060,2, -999.000,9,   1.7870,6,     2.50,6,   7.801,   -999.0,9,   -999.0,9,   1001,  0.0070,   0.250,   0.026,6,  3.9477,-999.000
      06MT28_1,   A08,   214,  2,   2456,    324,2,19940416,1625,-11.3345, -15.3332, 3476,     42.4,  26.8785,  36.8454,2,  36.8444,2,    192.4,2,     0.86,2,     0.00,2,    1.561,2,    0.915,2,    0.106,4,    1.765,2,    0.819,2,   1.6620,2,    -0.75,2,   6.601,   2058.3,2,    474.7,2,     40,  0.0060,   0.240,   0.021,2, 26.8687,   0.025
      06MT28_1,   A08,   214,  2,   2453,    323,2,19940416,1625,-11.3345, -15.3332, 3476,     81.6,  23.7252,  36.7000,2,-999.0000,9,    212.3,2,     0.77,2,     0.00,2,    1.824,2,    1.033,2,    0.146,2,    1.317,2, -999.000,9,-999.0000,9,  -999.00,9,-999.000,   2067.9,2,    506.7,2,     80,-999.0000,-999.000,-999.000,9, 23.7081,-999.000
      06MT28_1,   A08,   214,  2,   2450,    322,2,19940416,1625,-11.3345, -15.3332, 3476,    130.3,  19.8365,  36.2201,2,-999.0000,9,      1.8,4,     1.63,2,     3.36,2,    1.937,2,    1.061,2,    0.135,2,    0.932,2,    0.782,2,   1.6930,2,    -0.94,2,   6.902,   2102.5,2,    663.4,2,    129,  0.0060,   0.240,   0.022,2, 19.8124,   0.020
      06MT28_1,   A08,   214,  2,   2448,    321,2,19940416,1625,-11.3345, -15.3332, 3476,    190.0,  15.6501,  35.6322,2,-999.0000,9,    142.0,2,     4.22,2,    13.23,2,    1.768,2,    0.955,2,    0.069,2,    0.541,2, -999.000,9,   1.7310,2,     0.21,2,   7.145,   2141.5,2,    947.9,2,    190,  0.0070,   0.250,   0.024,2, 15.6204,-999.000
      06MT28_1,   A08,   214,  2,   2447,    320,2,19940416,1625,-11.3345, -15.3332, 3476,    257.7,  11.7294,  35.1251,2,-999.0000,9,     80.8,2,     9.67,2,    25.67,2,    0.776,2,    0.424,2,    0.021,2,    0.225,2,    0.338,2,   1.7370,2,     1.18,2,   7.326,   2200.7,2,   1792.4,6,    259,  0.0060,   0.240,   0.023,2, 11.6962,   0.011
      06MT28_1,   A08,   214,  2,   2446,    319,2,19940416,1625,-11.3345, -15.3332, 3476,    346.5,   9.2789,  34.8491,2,-999.0000,9,     81.8,2,    13.88,2,    30.25,2,    0.268,2,    0.153,2,    0.011,2,    0.193,2, -999.000,9,   1.7790,2,     1.40,2,   7.537,   2214.9,2,   1369.1,6,    349,  0.0070,   0.250,   0.025,2,  9.2403,-999.000
      06MT28_1,   A08,   214,  2,   2445,    318,2,19940416,1625,-11.3345, -15.3332, 3476,    446.7,   7.5562,  34.6659,2,-999.0000,9,     97.1,2,    17.70,2,    32.33,2, -999.000,9, -999.000,9, -999.000,9, -999.000,9,    0.069,2,   1.7690,6,     0.84,6,   7.584,   2217.0,2,   1283.8,6,    450,  0.0070,   0.250,   0.025,6,  7.5120,   0.004
      06MT28_1,   A08,   214,  2,   2443,    317,2,19940416,1625,-11.3345, -15.3332, 3476,    546.9,   6.3121,  34.5495,2,-999.0000,9,    117.1,2,    21.22,2,    32.79,2,    0.133,2,    0.085,2,    0.015,2,    0.320,2, -999.000,9,   1.7760,2,     1.23,2,   7.618,   2214.3,2,   1241.2,6,    550,  0.0070,   0.250,   0.025,2,  6.2628,-999.000
      06MT28_1,   A08,   214,  2,   2436,    316,2,19940416,1625,-11.3345, -15.3332, 3476,    645.2,   5.5086,  34.4916,2,-999.0000,9,    129.2,2,    24.46,2,    33.16,2,    0.075,2,    0.044,2,    0.009,2,    0.307,2,    0.029,2,   1.7710,2,     1.52,2,   7.661,   2214.5,2,   1210.3,2,    649,  0.0070,   0.240,   0.024,2,  5.4540,   0.007
      06MT28_1,   A08,   214,  2,   2505,    315,2,19940416,1625,-11.3345, -15.3332, 3476,    746.3,   4.8256,  34.4756,2,-999.0000,9,    134.2,2,    28.84,2,    33.71,2,    0.026,2,    0.016,2,    0.005,2,    0.179,2, -999.000,9,   1.7970,2,     2.28,2,   7.752,   2220.2,2,   1230.8,2,    750,  0.0070,   0.250,   0.026,2,  4.7659,-999.000
      06MT28_1,   A08,   214,  2,   2504,    314,2,19940416,1625,-11.3345, -15.3332, 3476,    845.2,   4.4472,  34.4813,2,-999.0000,9,    142.8,2,    31.31,2,    33.31,2,    0.015,2,    0.011,2,    0.003,2,    0.140,2,    0.007,2,   1.7840,2,     2.19,2,   7.749,   2219.0,2,   1190.7,2,    849,  0.0070,   0.240,   0.025,2,  4.3814,   0.002
      06MT28_1,   A08,   214,  2,   2503,    313,2,19940416,1625,-11.3345, -15.3332, 3476,    966.1,   4.0689,  34.5412,2,-999.0000,9,    153.2,2,    33.58,2,    32.06,2,    0.007,2,    0.004,2,    0.001,2,    0.073,2,    0.008,2,   1.8080,2,     2.31,2,   7.820,   2217.7,2,   1127.4,2,    971,  0.0070,   0.250,   0.026,2,  3.9955,   0.004
      06MT28_1,   A08,   214,  2,   2492,    312,2,19940416,1625,-11.3345, -15.3332, 3476,   1146.3,   3.9803,  34.6957,2,  34.6916,2,    168.1,2,    30.70,2,    28.89,2,    0.002,2,   -0.001,2,    0.006,2,    0.032,2, -999.000,9,-999.0000,9,  -999.00,9,-999.000,   2208.8,2,   1023.5,2,   1151,-999.0000,-999.000,-999.000,9,  3.8922,-999.000
      06MT28_1,   A08,   214,  2,   2491,    311,2,19940416,1625,-11.3345, -15.3332, 3476,   1395.9,   4.1198,  34.8841,2,-999.0000,9,    196.9,2,    22.29,2,    23.53,2,    0.007,2,    0.007,2,    0.006,2,    0.090,2, -999.000,9,   1.8080,2,     1.96,2,   7.822,   2185.4,2,    875.2,6,   1400,  0.0070,   0.250,   0.026,2,  4.0080,-999.000
      06MT28_1,   A08,   214,  2,   2490,    310,2,19940416,1625,-11.3345, -15.3332, 3476,   1646.2,   3.8459,  34.9343,2,-999.0000,9,    216.7,2,    20.93,2,    21.03,2,    0.012,2,    0.007,2,    0.006,2,    0.133,2,    0.043,2,   1.8120,6,     1.80,6,   7.876,   2175.2,2,    797.8,2,   1649,  0.0070,   0.250,   0.026,6,  3.7143,   0.022
      06MT28_1,   A08,   214,  2,   2489,    309,2,19940416,1625,-11.3345, -15.3332, 3476,   1897.4,   3.2696,  34.9197,2,-999.0000,9,    222.1,2,    28.03,2,    20.91,2,    0.004,2,    0.002,2,    0.006,2,    0.058,2, -999.000,9,   1.8290,2,     3.31,2,   7.957,   2179.8,2,    794.3,2,   1900,  0.0070,   0.250,   0.026,2,  3.1226,-999.000
      06MT28_1,   A08,   214,  2,   2488,    308,2,19940416,1625,-11.3345, -15.3332, 3476,   2198.1,   2.9053,  34.9052,2,  34.9067,2,    224.3,2,    34.55,2,    21.07,2,    0.003,2,    0.002,2,    0.006,2,    0.032,2, -999.000,9,   1.8400,2,     4.41,2,   7.978,   2184.5,2,    794.2,2,   2200,  0.0070,   0.240,   0.025,2,  2.7361,-999.000
      06MT28_1,   A08,   214,  2,   2487,    307,2,19940416,1625,-11.3345, -15.3332, 3476,   2498.5,   2.7139,  34.8980,2,-999.0000,9,    224.4,2,    38.11,2,    21.33,2,    0.003,2,    0.002,2,    0.008,2,    0.021,2, -999.000,9,   1.9500,4,     4.65,2,   8.455,   2188.7,2,    799.7,2,   2499,  0.0070,   0.250,   0.028,4,  2.5195,-999.000
      06MT28_1,   A08,   214,  2,   2486,    306,2,19940416,1625,-11.3345, -15.3332, 3476,   2800.6,   2.6438,  34.8979,2,-999.0000,9,    223.7,2,    39.57,2,    21.30,2,    0.002,2,    0.001,2,    0.009,2,    0.018,2,    0.006,2,   1.8120,2,     4.38,2,   7.908,   2190.4,2,    793.3,2,   2800,  0.0070,   0.240,   0.025,2,  2.4211,   0.002
      06MT28_1,   A08,   214,  2,   2485,    305,2,19940416,1625,-11.3345, -15.3332, 3476,   3101.9,   2.5649,  34.8925,2,-999.0000,9,    222.7,2,    41.89,2,    21.37,2,    0.002,2,   -0.001,2,    0.007,2,    0.015,2, -999.000,9,   1.7280,4,     5.47,2,   7.442,   2193.4,2,    793.9,2,   3100,  0.0070,   0.250,   0.025,4,  2.3133,-999.000
      06MT28_1,   A08,   214,  2,   2484,    304,2,19940416,1625,-11.3345, -15.3332, 3476,   3420.7,   2.4679,  34.8847,2,  34.8846,2,    222.5,2,    44.71,2,    21.62,2,    0.007,2,    0.003,2,    0.009,2,    0.019,2,    0.037,2,   1.8480,2,     4.55,2,   8.027,   2195.7,2,    803.1,2,   3418,  0.0070,   0.240,   0.026,2,  2.1849,   0.095
      06MT28_1,   A08,   214,  2,   2469,    301,2,19940416,1625,-11.3345, -15.3332, 3476,   3526.3,   2.4082,  34.8802,2,  34.8792,2,    222.4,2,    46.09,2,    21.73,2,    0.002,2,    0.001,2,    0.002,2,    0.023,2,    0.005,2,   1.8580,6,     4.26,6,   8.037,   2197.1,2,    816.1,6,   3524,  0.0070,   0.250,   0.027,6,  2.1153,   0.004
      06MT28_1,   A08,   214,  2,   2481,    302,2,19940416,1625,-11.3345, -15.3332, 3476,   3526.4,   2.4082,  34.8802,2,  34.8797,2,    222.2,2,    46.05,2,    21.68,2,    0.008,2,    0.005,2,    0.010,2,    0.028,2, -999.000,9,-999.0000,9,  -999.00,9,-999.000,   2196.9,2,    813.2,2,   3524,-999.0000,-999.000,-999.000,9,  2.1153,-999.000
      06MT28_1,   A08,   214,  2,   2540,    303,2,19940416,1625,-11.3345, -15.3332, 3476,   3526.7,   2.4085,  34.8797,2,-999.0000,9,    223.0,2,    46.11,2,    21.74,2,    0.002,2,    0.001,2,    0.005,2,    0.023,2,   -0.002,2,   1.8470,3,     4.79,3,   8.017,   2196.0,2,    809.2,2,   3524,  0.0160,   0.240,   0.066,3,  2.1156,   0.007
      06MT28_1,   A08,   215,  1,   2541,    213,2,19940416,2053,-11.3333, -14.9170, 3269,      8.8,  26.9294,  36.8981,2,  36.8996,2,    192.1,2,     0.86,2,     0.00,2, -999.000,9, -999.000,9, -999.000,9, -999.000,9, -999.000,9,-999.0000,9,  -999.00,9,-999.000,   -999.0,9,   -999.0,9,      9,-999.0000,-999.000,-999.000,9, 26.9274,-999.000
      06MT28_1,   A08,   215,  1,   2539,    212,2,19940416,2053,-11.3333, -14.9170, 3269,     40.1,  26.9282,  36.8985,2,-999.0000,9,    193.0,2,     0.86,2,     0.00,2, -999.000,9, -999.000,9, -999.000,9, -999.000,9, -999.000,9,-999.0000,9,  -999.00,9,-999.000,   -999.0,9,   -999.0,9,     40,-999.0000,-999.000,-999.000,9, 26.9190,-999.000
      06MT28_1,   A08,   215,  1,   2538,    211,2,19940416,2053,-11.3333, -14.9170, 3269,     60.0,  26.8855,  36.8981,2,-999.0000,9,    193.9,2,     0.96,2,     0.00,2, -999.000,9, -999.000,9, -999.000,9, -999.000,9, -999.000,9,-999.0000,9,  -999.00,9,-999.000,   -999.0,9,   -999.0,9,     60,-999.0000,-999.000,-999.000,9, 26.8717,-999.000
      06MT28_1,   A08,   215,  1,   2537,    210,2,19940416,2053,-11.3333, -14.9170, 3269,     79.8,  23.8532,  36.7076,2,-999.0000,9,    210.0,2,     0.86,2,     0.00,2, -999.000,9, -999.000,9, -999.000,9, -999.000,9, -999.000,9,-999.0000,9,  -999.00,9,-999.000,   -999.0,9,   -999.0,9,     80,-999.0000,-999.000,-999.000,9, 23.8363,-999.000
      06MT28_1,   A08,   215,  1,   2536,    209,2,19940416,2053,-11.3333, -14.9170, 3269,    118.3,  20.3825,  36.3039,2,-999.0000,9,    193.9,2,     1.25,2,     1.53,2, -999.000,9, -999.000,9, -999.000,9, -999.000,9, -999.000,9,-999.0000,9,  -999.00,9,-999.000,   -999.0,9,   -999.0,9,    118,-999.0000,-999.000,-999.000,9, 20.3602,-999.000
      06MT28_1,   A08,   215,  1,   2534,    208,2,19940416,2053,-11.3333, -14.9170, 3269,    179.8,  14.8617,  35.5089,2,-999.0000,9,    132.3,2,     4.84,2,    14.85,2, -999.000,9, -999.000,9, -999.000,9, -999.000,9, -999.000,9,-999.0000,9,  -999.00,9,-999.000,   -999.0,9,   -999.0,9,    180,-999.0000,-999.000,-999.000,9, 14.8346,-999.000
      06MT28_1,   A08,   215,  1,   2533,    207,2,19940416,2053,-11.3333, -14.9170, 3269,    180.2,  14.8122,  35.5181,2,-999.0000,9,   -999.0,9,  -999.00,9,  -999.00,9, -999.000,9, -999.000,9, -999.000,9, -999.000,9, -999.000,9,-999.0000,9,  -999.00,9,-999.000,   -999.0,9,   -999.0,9,    180,-999.0000,-999.000,-999.000,9, 14.7851,-999.000