BOTTLE,20220817CCHSIOAMB
EXPOCODE,SECT_ID,STNNBR,CASTNO,SAMPNO,BTLNBR,BTLNBR_FLAG_W,DATE,TIME,LATITUDE,LONGITUDE,DEPTH,CTDPRS,CTDTMP,CTDSAL,CTDSAL_FLAG_W,SALNTY,SALNTY_FLAG_W,OXYGEN,OXYGEN_FLAG_W,SILCAT,SILCAT_FLAG_W,NO2+NO3,NO2+NO3_FLAG_W,CFC-11,CFC-11_FLAG_W,CFC-12,CFC-12_FLAG_W,CFC113,CFC113_FLAG_W,CCL4,CCL4_FLAG_W,TRITUM,TRITUM_FLAG_W,HELIUM,HELIUM_FLAG_W,DELHE3,DELHE3_FLAG_W,NEON,TCARBN,TCARBN_FLAG_W,PCO2,PCO2_FLAG_W,CTDRAW,HELIER,DELHER,NEONER,NEON_FLAG_W,THETA,TRITER
,,,,,,,,,,,,DBAR,ITS-90,PSS-78,,PSS-78,,UMOL/KG,,UMOL/KG,,UMOL/KG,,PMOL/KG,,PMOL/KG,,PMOL/KG,,PMOL/KG,,TU,,NMOL/KG,,PERCNT,,NMOL/KG,UMOL/KG,,UATM,,,NMOL/KG,PERCNT,NMOL/KG,,ITS-90,TU
      06MT28_1,   A08,   244,  2,    310,    324,2,19940425,1643,-11.3332,  -1.0005, 5324,     13.9,  25.9401,  36.6414,2,  36.6411,2,    199.3,2,     0.96,2,     0.00,2,    1.593,2,    0.938,2,    0.108,2,    1.769,2, -999.000,9,-999.0000,9,  -999.00,9,-999.000,   2050.6,2,   -999.0,9,     10,-999.0000,-999.000,-999.000,9, 25.9370,-999.000
      06MT28_1,   A08,   244,  2,    484,    323,2,19940425,1643,-11.3332,  -1.0005, 5324,    845.9,   4.4927,  34.5162,2,-999.0000,9,    120.9,2,    32.06,2,    35.68,2, -999.000,9, -999.000,9, -999.000,9, -999.000,9, -999.000,9,-999.0000,9,  -999.00,9,-999.000,   2232.7,2,   -999.0,9,    850,-999.0000,-999.000,-999.000,9,  4.4265,-999.000
      06MT28_1,   A08,   244,  2,    481,    322,2,19940425,1643,-11.3332,  -1.0005, 5324,    995.8,   4.1296,  34.5872,2,  34.5895,2,    161.8,2,    33.08,2,    33.08,2,    0.004,2,    0.003,2,    0.005,2,    0.016,2, -999.000,9,-999.0000,9,  -999.00,9,-999.000,   2224.9,2,   1276.2,2,   1000,-999.0000,-999.000,-999.000,9,  4.0532,-999.000
      06MT28_1,   A08,   244,  2,    479,    321,2,19940425,1643,-11.3332,  -1.0005, 5324,   1196.2,   3.9678,  34.7036,2,-999.0000,9,    141.1,2,    31.05,2,    29.71,2,    0.000,2,    0.001,2,    0.002,2,    0.008,2, -999.000,9,-999.0000,9,  -999.00,9,-999.000,   2213.9,2,   1097.6,2,   1200,-999.0000,-999.000,-999.000,9,  3.8755,-999.000
      06MT28_1,   A08,   244,  2,    478,    320,2,19940425,1643,-11.3332,  -1.0005, 5324,   1396.1,   3.7940,  34.8220,2,-999.0000,9,    182.6,2,    28.35,2,    26.26,2,    0.000,2,    0.002,2,    0.000,2,    0.007,2, -999.000,9,-999.0000,9,  -999.00,9,-999.000,   2202.1,2,    988.7,2,   1399,-999.0000,-999.000,-999.000,9,  3.6857,-999.000
      06MT28_1,   A08,   244,  2,    477,    319,2,19940425,1643,-11.3332,  -1.0005, 5324,   1597.1,   3.6993,  34.8996,2,  34.9005,2,    197.5,2,    25.85,2,    23.57,2,    0.004,2,    0.002,2,    0.009,2,    0.006,2, -999.000,9,-999.0000,9,  -999.00,9,-999.000,   2190.2,2,    902.2,2,   1600,-999.0000,-999.000,-999.000,9,  3.5740,-999.000
      06MT28_1,   A08,   244,  2,    476,    318,2,19940425,1643,-11.3332,  -1.0005, 5324,   1796.8,   3.4832,  34.9188,2,-999.0000,9,    208.5,2,    26.69,2,    22.32,2,    0.001,2,    0.000,2,    0.008,2,    0.005,2, -999.000,9,-999.0000,9,  -999.00,9,-999.000,   2184.8,2,    868.8,2,   1799,-999.0000,-999.000,-999.000,9,  3.3424,-999.000
      06MT28_1,   A08,   244,  2,    475,    317,2,19940425,1643,-11.3332,  -1.0005, 5324,   1999.3,   3.2634,  34.9243,2,  34.9266,2,    214.3,2,    29.03,2,    21.82,2,    0.004,2,    0.001,2,    0.006,2,    0.008,2, -999.000,9,-999.0000,9,  -999.00,9,-999.000,   2184.8,2,   -999.0,9,   2001,-999.0000,-999.000,-999.000,9,  3.1070,-999.000
      06MT28_1,   A08,   244,  2,    473,    316,2,19940425,1643,-11.3332,  -1.0005, 5324,   2250.5,   3.0627,  34.9217,2,-999.0000,9,    217.2,2,    31.84,2,    21.51,2,    0.002,2,    0.002,2,    0.006,2,    0.005,2, -999.000,9,-999.0000,9,  -999.00,9,-999.000,   2187.1,2,    826.0,2,   2251,-999.0000,-999.000,-999.000,9,  2.8859,-999.000
      06MT28_1,   A08,   244,  2,    474,    315,2,19940425,1643,-11.3332,  -1.0005, 5324,   2500.0,   2.8659,  34.9148,2,-999.0000,9,    219.5,2,    35.22,2,    21.49,2,    0.002,2,    0.002,2,    0.005,2,    0.007,2, -999.000,9,-999.0000,9,  -999.00,9,-999.000,   2188.7,2,    812.8,2,   2500,-999.0000,-999.000,-999.000,9,  2.6685,-999.000
      06MT28_1,   A08,   244,  2,    563,    314,2,19940425,1643,-11.3332,  -1.0005, 5324,   2751.2,   2.7015,  34.9082,2,-999.0000,9,    225.0,2,    38.77,2,    21.56,2,    0.001,2,    0.002,2,    0.005,2,    0.008,2, -999.000,9,-999.0000,9,  -999.00,9,-999.000,   2192.2,2,    814.5,2,   2750,-999.0000,-999.000,-999.000,9,  2.4825,-999.000
      06MT28_1,   A08,   244,  2,    560,    313,2,19940425,1643,-11.3332,  -1.0005, 5324,   3001.8,   2.6003,  34.9028,2,  34.9044,2,    218.3,2,    41.38,2,    21.82,2,    0.002,2,    0.003,2,    0.005,2,    0.005,2, -999.000,9,-999.0000,9,  -999.00,9,-999.000,   2197.4,2,    821.3,2,   3000,-999.0000,-999.000,-999.000,9,  2.3581,-999.000
      06MT28_1,   A08,   244,  2,    558,    312,2,19940425,1643,-11.3332,  -1.0005, 5324,   3251.3,   2.4872,  34.8971,2,-999.0000,9,    217.6,2,    44.54,2,    21.89,2,    0.002,2,    0.002,2,    0.005,2,    0.005,2, -999.000,9,-999.0000,9,  -999.00,9,-999.000,   2201.6,2,    827.8,2,   3248,-999.0000,-999.000,-999.000,9,  2.2217,-999.000
      06MT28_1,   A08,   244,  2,    557,    311,2,19940425,1643,-11.3332,  -1.0005, 5324,   3502.8,   2.4361,  34.8953,2,-999.0000,9,    215.6,2,    46.47,2,    21.96,2,    0.001,2,    0.002,2,    0.003,2,    0.004,2, -999.000,9,-999.0000,9,  -999.00,9,-999.000,   2205.5,2,    821.1,2,   3499,-999.0000,-999.000,-999.000,9,  2.1450,-999.000
      06MT28_1,   A08,   244,  2,    556,    310,2,19940425,1643,-11.3332,  -1.0005, 5324,   3753.2,   2.3884,  34.8914,2,-999.0000,9,    219.7,2,    47.84,2,    22.04,2,    0.002,2,    0.002,2,    0.004,2,    0.007,2, -999.000,9,-999.0000,9,  -999.00,9,-999.000,   2207.5,2,    828.7,2,   3749,-999.0000,-999.000,-999.000,9,  2.0712,-999.000
      06MT28_1,   A08,   244,  2,    555,    309,2,19940425,1643,-11.3332,  -1.0005, 5324,   4004.9,   2.3648,  34.8888,2,  34.8887,2,    216.7,2,    48.54,2,    22.11,2,    0.002,2,    0.003,2,    0.009,2,    0.011,2, -999.000,9,-999.0000,9,  -999.00,9,-999.000,   2208.7,2,    823.7,2,   4000,-999.0000,-999.000,-999.000,9,  2.0199,-999.000
      06MT28_1,   A08,   244,  2,    554,    308,2,19940425,1643,-11.3332,  -1.0005, 5324,   4255.9,   2.3649,  34.8864,2,-999.0000,9,    218.5,2,    48.68,2,    21.99,2,    0.004,2,    0.003,2,    0.007,2,    0.012,2, -999.000,9,-999.0000,9,  -999.00,9,-999.000,   2208.6,2,    823.8,2,   4250,-999.0000,-999.000,-999.000,9,  1.9909,-999.000
      06MT28_1,   A08,   244,  2,    553,    307,2,19940425,1643,-11.3332,  -1.0005, 5324,   4506.9,   2.3739,  34.8846,2,-999.0000,9,    216.8,2,    48.82,2,    21.97,2,    0.005,2,    0.003,2,    0.004,2,    0.016,2, -999.000,9,-999.0000,9,  -999.00,9,-999.000,   2208.5,2,    827.3,2,   4501,-999.0000,-999.000,-999.000,9,  1.9698,-999.000
      06MT28_1,   A08,   244,  2,    552,    306,2,19940425,1643,-11.3332,  -1.0005, 5324,   4754.9,   2.3899,  34.8828,2,-999.0000,9,    216.5,2,    48.86,2,    21.85,2,    0.004,2,    0.002,2,    0.005,2,    0.015,2, -999.000,9,-999.0000,9,  -999.00,9,-999.000,   2208.8,2,    814.4,2,   4749,-999.0000,-999.000,-999.000,9,  1.9550,-999.000
      06MT28_1,   A08,   244,  2,    551,    305,2,19940425,1643,-11.3332,  -1.0005, 5324,   5005.6,   2.4040,  34.8817,2,  34.8810,2,    217.3,2,    48.91,2,    21.83,2,    0.005,2,    0.003,2,    0.005,2,    0.022,2, -999.000,9,-999.0000,9,  -999.00,9,-999.000,   2207.8,2,    839.8,2,   4999,-999.0000,-999.000,-999.000,9,  1.9372,-999.000
      06MT28_1,   A08,   244,  2,    550,    304,2,19940425,1643,-11.3332,  -1.0005, 5324,   5275.3,   2.4259,  34.8804,2,-999.0000,9,    218.3,2,    48.90,2,    21.85,2,    0.005,2,    0.002,2,    0.009,2,    0.027,2, -999.000,9,-999.0000,9,  -999.00,9,-999.000,   2207.4,2,    816.5,2,   5269,-999.0000,-999.000,-999.000,9,  1.9237,-999.000
      06MT28_1,   A08,   244,  2,    549,    303,2,19940425,1643,-11.3332,  -1.0005, 5324,   5375.5,   2.4209,  34.8783,2,-999.0000,9,    218.9,2,    48.88,2,    21.75,2,    0.005,2,    0.002,2,    0.002,2,    0.035,2, -999.000,9,-999.0000,9,  -999.00,9,-999.000,   2205.3,2,    817.0,2,   5369,-999.0000,-999.000,-999.000,9,  1.9058,-999.000
      06MT28_1,   A08,   244,  2,    548,    302,2,19940425,1643,-11.3332,  -1.0005, 5324,   5405.5,   2.4220,  34.8782,2,  34.8769,2,    218.7,2,    49.01,2,    21.70,2, -999.000,9, -999.000,9, -999.000,9, -999.000,9, -999.000,9,-999.0000,9,  -999.00,9,-999.000,   2204.3,2,    835.4,2,   5399,-999.0000,-999.000,-999.000,9,  1.9029,-999.000
      06MT28_1,   A08,   244,  2,    546,    301,2,19940425,1643,-11.3332,  -1.0005, 5324,   5405.6,   2.4220,  34.8782,2,  34.8764,2,    217.4,2,    48.78,2,    21.79,2,    0.008,2,    0.002,2,    0.004,2,    0.037,2, -999.000,9,-999.0000,9,  -999.00,9,-999.000,   2205.9,2,    820.5,2,   5399,-999.0000,-999.000,-999.000,9,  1.9029,-999.000
      06MT28_1,   A08,   245,  1,    525,    210,2,19940425,2039,-11.3332,  -0.7498, 4797,      9.3,  25.8446,  36.6042,2,-999.0000,9,   -999.0,9,  -999.00,9,  -999.00,9, -999.000,9, -999.000,9, -999.000,9, -999.000,9, -999.000,9,-999.0000,9,  -999.00,9,-999.000,   -999.0,9,   -999.0,9,      9,-999.0000,-999.000,-999.000,9, 25.8425,-999.000
      06MT28_1,   A08,   245,  1,    520,    209,2,19940425,2039,-11.3332,  -0.7498, 4797,    251.6,  10.3099,  34.9659,2,-999.0000,9,   -999.0,9,  -999.00,9,  -999.00,9, -999.000,9, -999.000,9, -999.000,9, -999.000,9, -999.000,9,-999.0000,9,  -999.00,9,-999.000,   -999.0,9,   -999.0,9,    251,-999.0000,-999.000,-999.000,9, 10.2801,-999.000
      06MT28_1,   A08,   245,  1,    519,    207,2,19940425,2039,-11.3332,  -0.7498, 4797,    550.0,   6.5664,  34.5959,2,-999.0000,9,   -999.0,9,  -999.00,9,  -999.00,9, -999.000,9, -999.000,9, -999.000,9, -999.000,9, -999.000,9,-999.0000,9,  -999.00,9,-999.000,   -999.0,9,   -999.0,9,    549,-999.0000,-999.000,-999.000,9,  6.5157,-999.000
      06MT28_1,   A08,   245,  1,    518,    208,2,19940425,2039,-11.3332,  -0.7498, 4797,    550.1,   6.5921,  34.5976,2,-999.0000,9,   -999.0,9,  -999.00,9,  -999.00,9, -999.000,9, -999.000,9, -999.000,9, -999.000,9, -999.000,9,-999.0000,9,  -999.00,9,-999.000,   -999.0,9,   -999.0,9,    549,-999.0000,-999.000,-999.000,9,  6.5413,-999.000
      06MT28_1,   A08,   245,  2,    521,    308,2,19940425,2225,-11.3337,  -0.7498, 4779,     15.6,  25.8021,  36.6030,2,  36.6030,2,   -999.0,9,  -999.00,9,  -999.00,9, -999.000,9, -999.000,9, -999.000,9, -999.000,9, -999.000,9,-999.0000,9,  -999.00,9,-999.000,   -999.0,9,   -999.0,9,     13,-999.0000,-999.000,-999.000,9, 25.7987,-999.000
      06MT28_1,   A08,   245,  2,    517,    307,2,19940425,2225,-11.3337,  -0.7498, 4779,   1095.7,   4.0517,  34.6371,2,  34.6344,2,   -999.0,9,  -999.00,9,  -999.00,9, -999.000,9, -999.000,9, -999.000,9, -999.000,9, -999.000,9,-999.0000,9,  -999.00,9,-999.000,   -999.0,9,   -999.0,9,   1100,-999.0000,-999.000,-999.000,9,  3.9674,-999.000
      06MT28_1,   A08,   245,  2,    516,    306,2,19940425,2225,-11.3337,  -0.7498, 4779,   1496.8,   3.7718,  34.8594,2,  34.8589,2,   -999.0,9,  -999.00,9,  -999.00,9, -999.000,9, -999.000,9, -999.000,9, -999.000,9, -999.000,9,-999.0000,9,  -999.00,9,-999.000,   -999.0,9,   -999.0,9,   1500,-999.0000,-999.000,-999.000,9,  3.6548,-999.000
      06MT28_1,   A08,   245,  2,    515,    305,2,19940425,2225,-11.3337,  -0.7498, 4779,   2098.4,   3.2129,  34.9244,2,  34.9247,2,   -999.0,9,  -999.00,9,  -999.00,9, -999.000,9, -999.000,9, -999.000,9, -999.000,9, -999.000,9,-999.0000,9,  -999.00,9,-999.000,   -999.0,9,   -999.0,9,   2100,-999.0000,-999.000,-999.000,9,  3.0480,-999.000
      06MT28_1,   A08,   245,  2,    514,    304,2,19940425,2225,-11.3337,  -0.7498, 4779,   3100.8,   2.5818,  34.9022,2,  34.9005,2,   -999.0,9,  -999.00,9,  -999.00,9, -999.000,9, -999.000,9, -999.000,9, -999.000,9, -999.000,9,-999.0000,9,  -999.00,9,-999.000,   -999.0,9,   -999.0,9,   3099,-999.0000,-999.000,-999.000,9,  2.3298,-999.000
      06MT28_1,   A08,   245,  2,    513,    303,2,19940425,2225,-11.3337,  -0.7498, 4779,   4104.3,   2.3679,  34.8876,2,  34.8862,2,   -999.0,9,  -999.00,9,  -999.00,9, -999.000,9, -999.000,9, -999.000,9, -999.000,9, -999.000,9,-999.0000,9,  -999.00,9,-999.000,   -999.0,9,   -999.0,9,   4100,-999.0000,-999.000,-999.000,9,  2.0115,-999.000
      06MT28_1,   A08,   245,  2,    512,    301,2,19940425,2225,-11.3337,  -0.7498, 4779,   4777.7,   2.3839,  34.8826,2,-999.0000,9,   -999.0,9,  -999.00,9,  -999.00,9, -999.000,9, -999.000,9, -999.000,9, -999.000,9, -999.000,9,-999.0000,9,  -999.00,9,-999.000,   -999.0,9,   -999.0,9,   4772,-999.0000,-999.000,-999.000,9,  1.9464,-999.000
      06MT28_1,   A08,   245,  2,    511,    302,2,19940425,2225,-11.3337,  -0.7498, 4779,   4777.9,   2.3842,  34.8834,2,  34.8804,2,   -999.0,9,  -999.00,9,  -999.00,9, -999.000,9, -999.000,9, -999.000,9, -999.000,9, -999.000,9,-999.0000,9,  -999.00,9,-999.000,   -999.0,9,   -999.0,9,   4772,-999.0000,-999.000,-999.000,9,  1.9466,-999.000
      06MT28_1,   A08,   246,  1,    509,    220,2,19940426,0238,-11.3333,  -0.5003, 4927,      9.8,  25.8594,  36.7521,2,-999.0000,9,    197.1,2,  -999.00,9,  -999.00,9, -999.000,9, -999.000,9, -999.000,9, -999.000,9, -999.000,9,-999.0000,9,  -999.00,9,-999.000,   -999.0,9,   -999.0,9,      9,-999.0000,-999.000,-999.000,9, 25.8572,-999.000
      06MT28_1,   A08,   246,  1,    595,    219,2,19940426,0238,-11.3333,  -0.5003, 4927,     41.1,  25.7003,  36.7434,2,-999.0000,9,    199.7,2,     0.96,2,     0.00,2, -999.000,9, -999.000,9, -999.000,9, -999.000,9, -999.000,9,-999.0000,9,  -999.00,9,-999.000,   -999.0,9,   -999.0,9,     40,-999.0000,-999.000,-999.000,9, 25.6911,-999.000
      06MT28_1,   A08,   246,  1,    594,    218,2,19940426,0238,-11.3333,  -0.5003, 4927,     60.8,  21.7865,  36.3446,2,  36.3637,4,    223.0,2,     1.15,2,     0.10,2, -999.000,9, -999.000,9, -999.000,9, -999.000,9, -999.000,9,-999.0000,9,  -999.00,9,-999.000,   -999.0,9,   -999.0,9,     60,-999.0000,-999.000,-999.000,9, 21.7745,-999.000
      06MT28_1,   A08,   246,  1,    593,    217,2,19940426,0238,-11.3333,  -0.5003, 4927,     80.6,  18.6549,  35.9982,2,-999.0000,9,    179.9,2,     2.11,2,     6.71,2, -999.000,9, -999.000,9, -999.000,9, -999.000,9, -999.000,9,-999.0000,9,  -999.00,9,-999.000,   -999.0,9,   -999.0,9,     80,-999.0000,-999.000,-999.000,9, 18.6406,-999.000
      06MT28_1,   A08,   246,  1,    592,    216,2,19940426,0238,-11.3333,  -0.5003, 4927,    121.0,  13.4698,  35.3413,2,-999.0000,9,     73.1,2,     7.18,2,    24.14,2, -999.000,9, -999.000,9, -999.000,9, -999.000,9, -999.000,9,-999.0000,9,  -999.00,9,-999.000,   -999.0,9,   -999.0,9,    120,-999.0000,-999.000,-999.000,9, 13.4527,-999.000
      06MT28_1,   A08,   246,  1,    591,    215,2,19940426,0238,-11.3333,  -0.5003, 4927,    180.8,  11.5449,  35.1121,2,-999.0000,9,     62.2,2,    10.34,2,    28.25,2, -999.000,9, -999.000,9, -999.000,9, -999.000,9, -999.000,9,-999.0000,9,  -999.00,9,-999.000,   -999.0,9,   -999.0,9,    180,-999.0000,-999.000,-999.000,9, 11.5219,-999.000
      06MT28_1,   A08,   246,  1,    590,    214,2,19940426,0238,-11.3333,  -0.5003, 4927,    250.8,  10.5565,  34.9936,2,-999.0000,9,     52.8,2,    12.35,2,    31.11,2, -999.000,9, -999.000,9, -999.000,9, -999.000,9, -999.000,9,-999.0000,9,  -999.00,9,-999.000,   -999.0,9,   -999.0,9,    250,-999.0000,-999.000,-999.000,9, 10.5263,-999.000
      06MT28_1,   A08,   246,  1,    589,    213,2,19940426,0238,-11.3333,  -0.5003, 4927,    351.0,   9.2280,  34.8444,2,-999.0000,9,     53.3,2,    15.02,2,    33.77,2, -999.000,9, -999.000,9, -999.000,9, -999.000,9, -999.000,9,-999.0000,9,  -999.00,9,-999.000,   -999.0,9,   -999.0,9,    351,-999.0000,-999.000,-999.000,9,  9.1890,-999.000
      06MT28_1,   A08,   246,  1,    588,    212,2,19940426,0238,-11.3333,  -0.5003, 4927,    448.9,   8.1813,  34.7397,2,-999.0000,9,     47.3,2,    17.69,2,    36.43,2, -999.000,9, -999.000,9, -999.000,9, -999.000,9, -999.000,9,-999.0000,9,  -999.00,9,-999.000,   -999.0,9,   -999.0,9,    448,-999.0000,-999.000,-999.000,9,  8.1347,-999.000
      06MT28_1,   A08,   246,  1,    587,    211,2,19940426,0238,-11.3333,  -0.5003, 4927,    549.6,   6.8200,  34.6183,2,-999.0000,9,     59.8,2,    21.50,2,    38.22,2, -999.000,9, -999.000,9, -999.000,9, -999.000,9, -999.000,9,-999.0000,9,  -999.00,9,-999.000,   -999.0,9,   -999.0,9,    549,-999.0000,-999.000,-999.000,9,  6.7683,-999.000
      06MT28_1,   A08,   246,  1,    586,    210,2,19940426,0238,-11.3333,  -0.5003, 4927,    649.5,   5.7851,  34.5468,2,-999.0000,9,     69.0,2,    25.69,2,    39.44,2, -999.000,9, -999.000,9, -999.000,9, -999.000,9, -999.000,9,-999.0000,9,  -999.00,9,-999.000,   -999.0,9,   -999.0,9,    650,-999.0000,-999.000,-999.000,9,  5.7287,-999.000
      06MT28_1,   A08,   246,  1,    585,    209,2,19940426,0238,-11.3333,  -0.5003, 4927,    749.3,   5.0834,  34.5053,2,-999.0000,9,     98.4,2,    28.64,2,    37.47,2, -999.000,9, -999.000,9, -999.000,9, -999.000,9, -999.000,9,-999.0000,9,  -999.00,9,-999.000,   -999.0,9,   -999.0,9,    750,-999.0000,-999.000,-999.000,9,  5.0218,-999.000
      06MT28_1,   A08,   246,  1,    632,    208,2,19940426,0238,-11.3333,  -0.5003, 4927,    850.2,   4.5902,  34.5053,2,  34.5090,2,    118.8,2,    31.39,2,    35.78,2, -999.000,9, -999.000,9, -999.000,9, -999.000,9, -999.000,9,-999.0000,9,  -999.00,9,-999.000,   -999.0,9,   -999.0,9,    851,-999.0000,-999.000,-999.000,9,  4.5230,-999.000
      06MT28_1,   A08,   246,  1,    630,    207,2,19940426,0238,-11.3333,  -0.5003, 4927,   1000.1,   4.1900,  34.5621,2,-999.0000,9,   -999.0,9,  -999.00,9,  -999.00,9, -999.000,9, -999.000,9, -999.000,9, -999.000,9, -999.000,9,-999.0000,9,  -999.00,9,-999.000,   -999.0,9,   -999.0,9,   1001,-999.0000,-999.000,-999.000,9,  4.1128,-999.000