BOTTLE,20220817CCHSIOAMB
EXPOCODE,SECT_ID,STNNBR,CASTNO,SAMPNO,BTLNBR,BTLNBR_FLAG_W,DATE,TIME,LATITUDE,LONGITUDE,DEPTH,CTDPRS,CTDTMP,CTDSAL,CTDSAL_FLAG_W,SALNTY,SALNTY_FLAG_W,OXYGEN,OXYGEN_FLAG_W,SILCAT,SILCAT_FLAG_W,NO2+NO3,NO2+NO3_FLAG_W,CFC-11,CFC-11_FLAG_W,CFC-12,CFC-12_FLAG_W,CFC113,CFC113_FLAG_W,CCL4,CCL4_FLAG_W,TRITUM,TRITUM_FLAG_W,HELIUM,HELIUM_FLAG_W,DELHE3,DELHE3_FLAG_W,NEON,TCARBN,TCARBN_FLAG_W,PCO2,PCO2_FLAG_W,CTDRAW,HELIER,DELHER,NEONER,NEON_FLAG_W,THETA,TRITER
,,,,,,,,,,,,DBAR,ITS-90,PSS-78,,PSS-78,,UMOL/KG,,UMOL/KG,,UMOL/KG,,PMOL/KG,,PMOL/KG,,PMOL/KG,,PMOL/KG,,TU,,NMOL/KG,,PERCNT,,NMOL/KG,UMOL/KG,,UATM,,,NMOL/KG,PERCNT,NMOL/KG,,ITS-90,TU
      06MT28_1,   A08,   174,  3,    297,    214,2,19940402,1837,-10.3780, -35.3300, 3304,      9.3,  28.9665,  36.9697,2,-999.0000,9,   -999.0,9,     0.77,2,     0.00,4,    1.468,2,    0.880,2,    0.134,2,    1.603,2,    0.859,2,   1.7020,2,    -2.13,2,   6.546,   2038.9,2,    437.5,6,      9,  0.0060,   0.240,   0.021,2, 28.9643,   0.027
      06MT28_1,   A08,   174,  3,    331,    213,2,19940402,1837,-10.3780, -35.3300, 3304,     30.7,  28.7744,  36.9669,2,-999.0000,9,   -999.0,9,     0.77,2,     0.00,4, -999.000,9, -999.000,9, -999.000,9, -999.000,9,    0.924,2,   1.7230,2,    -0.65,2,   6.628,   2039.1,2,    438.5,2,     30,  0.0060,   0.240,   0.021,2, 28.7670,   0.024
      06MT28_1,   A08,   174,  3,    332,    212,2,19940402,1837,-10.3780, -35.3300, 3304,     50.9,  28.8920,  37.1806,2,-999.0000,9,    200.0,2,     0.77,2,     0.00,4,    1.470,2,    0.887,2,    0.130,2,    1.567,2,    0.847,2,   1.6600,2,    -1.48,2,   6.454,   2045.1,2,    431.8,2,     50,  0.0060,   0.240,   0.021,2, 28.8797,   0.021
      06MT28_1,   A08,   174,  3,    330,    211,2,19940402,1837,-10.3780, -35.3300, 3304,     71.4,  28.4415,  37.2725,2,-999.0000,9,    197.7,2,     0.72,2,     0.00,4,    1.529,2,    0.897,2,    0.153,2,    1.441,2,    0.876,2,   1.6700,2,    -0.74,2,   6.490,   2052.4,2,    433.9,2,     71,  0.0060,   0.240,   0.021,2, 28.4243,   0.024
      06MT28_1,   A08,   174,  3,    329,    210,2,19940402,1837,-10.3780, -35.3300, 3304,    101.0,  25.5342,  37.2209,2,-999.0000,9,    204.1,2,  -999.00,9,  -999.00,9, -999.000,9, -999.000,9, -999.000,9, -999.000,9,    0.823,2,   1.6900,2,    -1.09,2,   6.644,   2077.7,2,    485.5,6,    101,  0.0060,   0.240,   0.021,2, 25.5117,   0.038
      06MT28_1,   A08,   174,  4,    328,    323,2,19940402,2026,-10.3755, -35.3327, 3300,    104.0,  25.4091,  37.2456,2,  37.2433,2,    200.2,2,     0.77,2,     0.00,4,    1.702,2,    0.977,2,    0.150,2,    1.127,2, -999.000,9,-999.0000,9,  -999.00,9,-999.000,   2080.1,2,   -999.0,9,    101,-999.0000,-999.000,-999.000,9, 25.3861,-999.000
      06MT28_1,   A08,   174,  4,    327,    322,2,19940402,2026,-10.3755, -35.3327, 3300,    151.5,  22.8739,  36.8401,2,-999.0000,9,    188.3,2,     1.05,2,     0.58,2,    1.828,2,    1.031,2,    0.179,2,    0.850,2,    1.210,2,   1.6940,2,    -1.64,2,   6.777,   2099.0,2,   -999.0,9,    149,  0.0060,   0.240,   0.022,2, 22.8428,   0.029
      06MT28_1,   A08,   174,  4,    326,    321,2,19940402,2026,-10.3755, -35.3327, 3300,    200.8,  17.9896,  35.9702,2,-999.0000,9,    179.0,2,     2.11,2,     4.98,2,    1.944,2,    1.077,2,    0.093,2,    0.592,2,    1.397,2,   1.7140,2,    -1.25,2,   6.991,   2106.9,2,   -999.0,9,    199,  0.0060,   0.240,   0.022,2, 17.9549,   0.032
      06MT28_1,   A08,   174,  4,    325,    320,2,19940402,2026,-10.3755, -35.3327, 3300,    298.8,  12.7164,  35.1450,2,-999.0000,9,    185.0,2,     4.59,2,    12.25,2,    1.752,2,    0.939,2,    0.036,2,    0.510,2,    0.693,2,   1.7420,2,     1.69,2,   7.264,   2120.7,2,    580.3,2,    299,  0.0060,   0.240,   0.023,2, 12.6757,   0.018
      06MT28_1,   A08,   174,  4,    324,    319,2,19940402,2026,-10.3755, -35.3327, 3300,    398.6,   8.8586,  34.7158,2,-999.0000,9,    161.4,2,    11.19,2,    22.57,2,    0.930,2,    0.498,2,    0.023,2,    0.724,2,    0.361,2,   1.7540,2,     1.49,2,   7.463,   2165.3,2,    849.0,2,    400,  0.0060,   0.240,   0.024,2,  8.8153,   0.014
      06MT28_1,   A08,   174,  4,    323,    318,2,19940402,2026,-10.3755, -35.3327, 3300,    497.1,   6.9564,  34.5661,2,-999.0000,9,    148.4,2,    16.73,2,    28.20,2,    0.476,2,    0.255,2,    0.015,2,    0.693,2,    0.423,2,   0.0010,4,  -999.00,5,  -0.025,   2191.7,2,   1035.1,2,    499,  0.0000,   0.240,   0.000,4,  6.9093,   0.280
      06MT28_1,   A08,   174,  4,    322,    317,2,19940402,2026,-10.3755, -35.3327, 3300,    597.4,   5.8515,  34.4962,2,-999.0000,9,    147.4,2,    21.49,2,    30.76,2,    0.315,2,    0.176,2,    0.020,2,    0.598,2,    0.646,2,   1.7780,2,     1.60,2,   7.666,   2205.2,2,   1137.1,2,    600,  0.0070,   0.240,   0.024,2,  5.7996,   0.241
      06MT28_1,   A08,   174,  4,    321,    316,2,19940402,2026,-10.3755, -35.3327, 3300,    696.9,   5.0014,  34.4447,2,-999.0000,9,    160.0,2,    25.40,2,    31.22,2,    0.192,2,    0.106,2,    0.013,2,    0.549,2,    0.165,2,-999.0000,9,  -999.00,9,-999.000,   2206.6,2,   1133.8,2,    700,-999.0000,-999.000,-999.000,9,  4.9450,   0.071
      06MT28_1,   A08,   174,  4,    320,    315,2,19940402,2026,-10.3755, -35.3327, 3300,    847.4,   4.1665,  34.4296,2,-999.0000,9,    171.4,2,    31.39,2,    30.91,2,    0.138,2,    0.074,2,    0.023,2,    0.500,2, -999.000,9,   1.8190,2,     2.47,2,   7.847,   2208.6,2,   1110.0,2,    851,  0.0070,   0.240,   0.025,2,  4.1024,-999.000
      06MT28_1,   A08,   174,  4,    319,    314,2,19940402,2026,-10.3755, -35.3327, 3300,    997.0,   3.8794,  34.5058,2,-999.0000,9,    170.0,2,    34.32,2,    30.60,2,    0.046,2,    0.026,2,    0.007,2,    0.259,2,    0.028,2,   1.8040,2,     3.07,2,   7.849,   2213.1,2,   1109.9,2,   1000,  0.0070,   0.250,   0.026,2,  3.8049,   0.003
      06MT28_1,   A08,   174,  4,    318,    313,2,19940402,2026,-10.3755, -35.3327, 3300,   1197.9,   4.0536,  34.6775,2,  34.6790,2,    172.4,2,    29.81,2,    28.29,2,    0.010,2,    0.004,2,    0.002,2,    0.089,2,    0.063,2,   1.8040,2,     2.30,2,   7.854,   2208.7,2,   1049.2,2,   1201,  0.0070,   0.250,   0.026,2,  3.9604,   0.147
      06MT28_1,   A08,   174,  4,    317,    312,2,19940402,2026,-10.3755, -35.3327, 3300,   1397.7,   4.1917,  34.8414,2,-999.0000,9,    191.6,2,    23.31,2,    24.45,2,    0.011,2,    0.009,2,    0.005,2,    0.101,2,    0.051,2,   1.8160,3,     2.77,3,   7.866,   2193.5,2,    932.0,2,   1400,  0.0160,   0.250,   0.065,3,  4.0791,   0.004
      06MT28_1,   A08,   174,  4,    316,    311,2,19940402,2026,-10.3755, -35.3327, 3300,   1598.3,   4.0889,  34.9415,2,-999.0000,9,    217.8,2,    18.44,2,    20.63,2,    0.031,2,    0.022,2,    0.007,2,    0.233,2,    0.085,2,   1.8220,2,     2.28,2,   7.867,   2175.5,2,    827.1,2,   1601,  0.0070,   0.250,   0.026,2,  3.9587,   0.004
      06MT28_1,   A08,   174,  4,    315,    310,2,19940402,2026,-10.3755, -35.3327, 3300,   1798.2,   3.7041,  34.9657,2,-999.0000,9,    235.7,2,    17.85,2,    18.71,2,    0.038,2,    0.025,2,    0.014,2,    0.289,2,    0.101,2,   1.8130,2,     1.70,2,   7.874,   2167.4,2,    765.7,6,   1800,  0.0070,   0.250,   0.026,2,  3.5601,   0.015
      06MT28_1,   A08,   174,  4,    314,    309,2,19940402,2026,-10.3755, -35.3327, 3300,   1999.1,   3.4938,  34.9632,2,-999.0000,9,    240.3,2,    18.98,2,    18.31,2,    0.033,2,    0.022,2,    0.013,2,    0.269,2,    0.104,2,   1.8010,2,     2.56,2,   7.887,   2165.3,2,    757.0,2,   2000,  0.0070,   0.250,   0.026,2,  3.3339,   0.153
      06MT28_1,   A08,   174,  4,    312,    308,2,19940402,2026,-10.3755, -35.3327, 3300,   2248.6,   3.1628,  34.9454,2,  34.9457,2,    241.0,2,    23.22,2,    18.67,2,    0.024,2,    0.013,2,    0.014,2,    0.171,2,    0.061,2,   1.8320,2,     2.66,2,   7.962,   2170.6,2,    765.1,2,   2249,  0.0070,   0.250,   0.026,2,  2.9844,   0.044
      06MT28_1,   A08,   174,  4,    300,    307,2,19940402,2026,-10.3755, -35.3327, 3300,   2501.2,   2.9022,  34.9319,2,-999.0000,9,    238.9,2,    26.89,2,    18.93,2,    0.019,2,    0.010,2,    0.007,2,    0.136,2,    0.057,2,   1.8180,2,     3.49,2,   7.913,   2173.8,2,    766.0,2,   2501,  0.0070,   0.250,   0.026,2,  2.7040,   0.121
      06MT28_1,   A08,   174,  4,    364,    306,2,19940402,2026,-10.3755, -35.3327, 3300,   2751.1,   2.7539,  34.9245,2,-999.0000,9,    242.3,2,    28.47,2,    18.82,2,    0.015,2,    0.010,2,    0.006,2,    0.133,2,    0.050,2,   1.7520,3,     3.24,2,   7.668,   2175.3,2,    763.3,2,   2750,  0.0070,   0.250,   0.025,3,  2.5338,   0.011
      06MT28_1,   A08,   174,  4,    365,    305,2,19940402,2026,-10.3755, -35.3327, 3300,   3001.1,   2.6381,  34.9183,2,-999.0000,9,    241.7,2,    29.38,2,    18.80,2,    0.017,2,    0.010,2,    0.013,2,    0.152,2,    0.060,2,   1.7950,2,     2.89,2,   7.840,   2175.4,2,    764.1,2,   2999,  0.0070,   0.250,   0.026,2,  2.3951,   0.016
      06MT28_1,   A08,   174,  4,    363,    304,2,19940402,2026,-10.3755, -35.3327, 3300,   3183.9,   2.5533,  34.9132,2,  34.9112,2,    247.7,2,    30.25,2,    18.69,2,    0.025,2,    0.013,2,    0.014,2,    0.171,2,    0.054,2,   1.6280,4,     2.93,2,   7.244,   2176.1,2,    768.0,2,   3181,  0.0060,   0.250,   0.024,4,  2.2933,   0.007
      06MT28_1,   A08,   174,  4,    362,    303,2,19940402,2026,-10.3755, -35.3327, 3300,   3284.2,   2.4953,  34.9086,2,-999.0000,9,    248.5,2,    31.42,2,    18.82,2,    0.020,2,    0.011,2,    0.009,2,    0.180,2,    0.061,2,   1.8320,2,     2.35,2,   8.016,   2177.1,2,    764.0,2,   3281,  0.0070,   0.250,   0.026,2,  2.2261,   0.005
      06MT28_1,   A08,   174,  4,    361,    301,2,19940402,2026,-10.3755, -35.3327, 3300,   3311.0,   2.4928,  34.9067,2,  34.9080,2,    246.2,2,    31.51,2,    18.77,2,    0.022,2,    0.012,2,    0.014,2,    0.180,2, -999.000,9,-999.0000,9,  -999.00,9,-999.000,   2177.6,2,    768.6,6,   3308,-999.0000,-999.000,-999.000,9,  2.2208,-999.000
      06MT28_1,   A08,   174,  4,    359,    324,2,19940402,2026,-10.3755, -35.3327, 3300,   3312.1,   2.4928,  34.9062,2,  34.9089,2,    246.4,2,    32.20,2,    19.13,2,    0.034,2,    0.021,2,    0.008,2,    0.194,2, -999.000,9,-999.0000,9,  -999.00,9,-999.000,   2178.0,2,    759.1,2,   3308,-999.0000,-999.000,-999.000,9,  2.2207,-999.000
      06MT28_1,   A08,   174,  4,    360,    302,2,19940402,2026,-10.3755, -35.3327, 3300,   3312.6,   2.4941,  34.9070,2,-999.0000,9,    246.1,2,    31.56,2,    18.73,2,    0.018,2,    0.012,2,    0.012,2,    0.177,2,    0.064,2,   1.8210,2,     3.54,2,   7.944,   2177.9,2,    762.8,2,   3310,  0.0070,   0.240,   0.025,2,  2.2219,   0.004
      06MT28_1,   A08,   175,  1,    358,    217,2,19940402,2350,-10.4668, -35.2038, 3697,     10.2,  28.7677,  36.9904,2,  36.9895,2,   -999.0,9,     0.58,2,     0.00,2, -999.000,9, -999.000,9, -999.000,9, -999.000,9, -999.000,9,-999.0000,9,  -999.00,9,-999.000,   -999.0,9,   -999.0,9,     10,-999.0000,-999.000,-999.000,9, 28.7652,-999.000
      06MT28_1,   A08,   175,  1,    357,    216,2,19940402,2350,-10.4668, -35.2038, 3697,     40.7,  28.9721,  37.3085,2,-999.0000,9,    192.3,2,     0.48,2,     0.00,2, -999.000,9, -999.000,9, -999.000,9, -999.000,9, -999.000,9,-999.0000,9,  -999.00,9,-999.000,   -999.0,9,   -999.0,9,     40,-999.0000,-999.000,-999.000,9, 28.9622,-999.000
      06MT28_1,   A08,   175,  1,    356,    215,2,19940402,2350,-10.4668, -35.2038, 3697,     61.3,  28.2482,  37.2509,2,-999.0000,9,    209.2,2,     0.38,2,     0.00,2, -999.000,9, -999.000,9, -999.000,9, -999.000,9, -999.000,9,-999.0000,9,  -999.00,9,-999.000,   -999.0,9,   -999.0,9,     61,-999.0000,-999.000,-999.000,9, 28.2336,-999.000
      06MT28_1,   A08,   175,  1,    355,    214,2,19940402,2350,-10.4668, -35.2038, 3697,     80.5,  26.1409,  37.1123,2,-999.0000,9,    216.0,2,     0.48,2,     0.00,2, -999.000,9, -999.000,9, -999.000,9, -999.000,9, -999.000,9,-999.0000,9,  -999.00,9,-999.000,   -999.0,9,   -999.0,9,     80,-999.0000,-999.000,-999.000,9, 26.1228,-999.000
      06MT28_1,   A08,   175,  1,    354,    213,2,19940402,2350,-10.4668, -35.2038, 3697,    120.9,  24.8622,  37.2117,2,-999.0000,9,    203.2,2,     0.48,2,     0.00,2, -999.000,9, -999.000,9, -999.000,9, -999.000,9, -999.000,9,-999.0000,9,  -999.00,9,-999.000,   -999.0,9,   -999.0,9,    120,-999.0000,-999.000,-999.000,9, 24.8359,-999.000
      06MT28_1,   A08,   175,  1,    353,    212,2,19940402,2350,-10.4668, -35.2038, 3697,    181.4,  20.4411,  36.3870,2,-999.0000,9,    184.5,2,     1.15,2,     2.49,2, -999.000,9, -999.000,9, -999.000,9, -999.000,9, -999.000,9,-999.0000,9,  -999.00,9,-999.000,   -999.0,9,   -999.0,9,    181,-999.0000,-999.000,-999.000,9, 20.4068,-999.000
      06MT28_1,   A08,   175,  1,    352,    211,2,19940402,2350,-10.4668, -35.2038, 3697,    251.6,  14.8194,  35.4932,2,-999.0000,9,    154.7,2,     3.93,2,    12.93,2, -999.000,9, -999.000,9, -999.000,9, -999.000,9, -999.000,9,-999.0000,9,  -999.00,9,-999.000,   -999.0,9,   -999.0,9,    251,-999.0000,-999.000,-999.000,9, 14.7814,-999.000
      06MT28_1,   A08,   175,  1,    350,    210,2,19940402,2350,-10.4668, -35.2038, 3697,    352.8,  10.4634,  34.9425,2,-999.0000,9,    122.6,2,     9.81,2,    24.49,2, -999.000,9, -999.000,9, -999.000,9, -999.000,9, -999.000,9,-999.0000,9,  -999.00,9,-999.000,   -999.0,9,   -999.0,9,    352,-999.0000,-999.000,-999.000,9, 10.4210,-999.000