BOTTLE,20220817CCHSIOAMB
EXPOCODE,SECT_ID,STNNBR,CASTNO,SAMPNO,BTLNBR,BTLNBR_FLAG_W,DATE,TIME,LATITUDE,LONGITUDE,DEPTH,CTDPRS,CTDTMP,CTDSAL,CTDSAL_FLAG_W,SALNTY,SALNTY_FLAG_W,OXYGEN,OXYGEN_FLAG_W,SILCAT,SILCAT_FLAG_W,NO2+NO3,NO2+NO3_FLAG_W,CFC-11,CFC-11_FLAG_W,CFC-12,CFC-12_FLAG_W,CFC113,CFC113_FLAG_W,CCL4,CCL4_FLAG_W,TRITUM,TRITUM_FLAG_W,HELIUM,HELIUM_FLAG_W,DELHE3,DELHE3_FLAG_W,NEON,TCARBN,TCARBN_FLAG_W,PCO2,PCO2_FLAG_W,CTDRAW,HELIER,DELHER,NEONER,NEON_FLAG_W,THETA,TRITER
,,,,,,,,,,,,DBAR,ITS-90,PSS-78,,PSS-78,,UMOL/KG,,UMOL/KG,,UMOL/KG,,PMOL/KG,,PMOL/KG,,PMOL/KG,,PMOL/KG,,TU,,NMOL/KG,,PERCNT,,NMOL/KG,UMOL/KG,,UATM,,,NMOL/KG,PERCNT,NMOL/KG,,ITS-90,TU
      06MT28_1,   A08,   196,  2,   1536,    324,2,19940410,1525,-11.3332, -24.6670, 5420,     16.7,  27.7794,  36.9077,2,  36.9087,2,    195.1,2,     0.96,2,     0.00,4,    1.515,2,    0.896,2,    0.109,4,    1.729,2, -999.000,9,-999.0000,9,  -999.00,9,-999.000,   2053.2,2,   -999.0,9,     12,-999.0000,-999.000,-999.000,9, 27.7755,-999.000
      06MT28_1,   A08,   196,  2,   1581,    323,2,19940410,1525,-11.3332, -24.6670, 5420,    921.1,   4.0812,  34.4843,2,-999.0000,9,    160.9,2,    33.86,2,    32.33,2,    0.027,6,    0.028,6,    0.006,6,    0.193,6, -999.000,9,   1.8140,2,     2.59,2,   7.850,   2216.5,2,   1147.2,2,    925,  0.0070,   0.250,   0.026,2,  4.0115,-999.000
      06MT28_1,   A08,   196,  2,   1578,    322,2,19940410,1525,-11.3332, -24.6670, 5420,   1096.0,   3.9177,  34.6080,2,  34.6061,2,    167.9,2,    33.54,2,    30.49,2,    0.007,2,    0.005,2,    0.006,2,    0.070,2, -999.000,9,   1.8090,2,     2.75,2,   7.804,   2213.0,2,   1091.5,2,   1099,  0.0070,   0.250,   0.026,2,  3.8345,-999.000
      06MT28_1,   A08,   196,  2,   1577,    321,2,19940410,1525,-11.3332, -24.6670, 5420,   1297.7,   4.0794,  34.7956,2,-999.0000,9,    185.4,2,    26.65,2,    26.37,2,    0.006,2,    0.002,2,    0.006,2,    0.048,2, -999.000,9,   1.8090,2,     2.35,2,   7.816,   2198.8,2,    962.2,2,   1301,  0.0070,   0.250,   0.026,2,  3.9770,-999.000
      06MT28_1,   A08,   196,  2,   1576,    320,2,19940410,1525,-11.3332, -24.6670, 5420,   1497.0,   3.9178,  34.8974,2,-999.0000,9,    207.7,2,    22.82,2,    22.82,2,    0.010,2,    0.004,2,    0.003,2,    0.074,2, -999.000,9,   1.8060,2,     2.15,2,   7.875,   2183.7,2,    864.9,2,   1500,  0.0070,   0.250,   0.026,2,  3.7990,-999.000
      06MT28_1,   A08,   196,  2,   1575,    319,2,19940410,1525,-11.3332, -24.6670, 5420,   1697.4,   3.6928,  34.9339,2,-999.0000,9,    223.9,2,    21.95,2,    20.71,2,    0.010,2,    0.009,2,    0.005,2,    0.100,2, -999.000,9,   1.8280,2,     2.05,2,   7.857,   2173.7,2,    796.2,2,   1699,  0.0070,   0.250,   0.026,2,  3.5584,-999.000
      06MT28_1,   A08,   196,  2,   1574,    318,2,19940410,1525,-11.3332, -24.6670, 5420,   1898.3,   3.4447,  34.9466,2,-999.0000,9,    235.6,2,    22.31,2,    19.46,2,    0.009,2,    0.004,2,    0.008,2,    0.118,2, -999.000,9,   1.8060,2,     2.12,2,   7.904,   2169.7,2,    763.4,2,   1900,  0.0070,   0.250,   0.026,2,  3.2950,-999.000
      06MT28_1,   A08,   196,  2,   1573,    317,2,19940410,1525,-11.3332, -24.6670, 5420,   2099.9,   3.2100,  34.9358,2,  34.9391,2,    235.9,2,    25.51,2,    19.63,2,    0.009,2,    0.006,2,    0.009,2,    0.080,2,    0.023,2,   1.8220,2,     2.64,2,   7.888,   2170.8,2,    770.5,2,   2100,  0.0070,   0.250,   0.026,2,  3.0450,   0.010
      06MT28_1,   A08,   196,  2,   1572,    316,2,19940410,1525,-11.3332, -24.6670, 5420,   2349.7,   2.9598,  34.9222,2,-999.0000,9,    234.3,2,    30.22,2,    20.18,2,    0.002,2,    0.004,2,    0.006,2,    0.041,2,    0.008,2,-999.0000,9,  -999.00,9,-999.000,   2163.5,3,    776.8,2,   2349,-999.0000,-999.000,-999.000,9,  2.7752,   0.002
      06MT28_1,   A08,   196,  2,   1571,    315,2,19940410,1525,-11.3332, -24.6670, 5420,   2600.1,   2.8349,  34.9198,2,-999.0000,9,    235.8,2,    31.70,2,    19.97,2,    0.010,2,    0.004,2,    0.009,2,    0.047,2, -999.000,9,-999.0000,9,  -999.00,9,-999.000,   2161.4,3,    775.8,2,   2599,-999.0000,-999.000,-999.000,9,  2.6283,-999.000
      06MT28_1,   A08,   196,  2,   1570,    314,2,19940410,1525,-11.3332, -24.6670, 5420,   2852.3,   2.7517,  34.9153,2,-999.0000,9,    235.3,2,    33.09,2,    20.04,2,    0.004,2,    0.005,2,    0.007,2,    0.043,2, -999.000,9,-999.0000,9,  -999.00,9,-999.000,   2180.1,2,    772.2,2,   2850,-999.0000,-999.000,-999.000,9,  2.5215,-999.000
      06MT28_1,   A08,   196,  2,   1568,    313,2,19940410,1525,-11.3332, -24.6670, 5420,   3103.6,   2.6434,  34.9061,2,  34.9062,2,    233.9,2,    36.35,2,    20.40,2,    0.014,4,    0.005,2,    0.005,2,    0.038,2, -999.000,9,-999.0000,9,  -999.00,9,-999.000,   2182.9,2,    782.3,2,   3101,-999.0000,-999.000,-999.000,9,  2.3898,-999.000
      06MT28_1,   A08,   196,  2,   1569,    312,2,19940410,1525,-11.3332, -24.6670, 5420,   3352.9,   2.5378,  34.9006,2,-999.0000,9,    234.0,2,    38.30,2,    20.47,2,    0.005,2,    0.002,2,    0.004,2,    0.034,2, -999.000,9,-999.0000,9,  -999.00,9,-999.000,   2184.7,2,    786.8,2,   3349,-999.0000,-999.000,-999.000,9,  2.2603,-999.000
      06MT28_1,   A08,   196,  2,   1567,    311,2,19940410,1525,-11.3332, -24.6670, 5420,   3604.8,   2.4114,  34.8974,2,-999.0000,9,    239.3,2,    37.79,2,    19.88,2,    0.004,2,    0.002,2,    0.009,2,    0.063,2, -999.000,9,-999.0000,9,  -999.00,9,-999.000,   2178.4,3,    770.4,6,   3600,-999.0000,-999.000,-999.000,9,  2.1098,-999.000
      06MT28_1,   A08,   196,  2,   1566,    310,2,19940410,1525,-11.3332, -24.6670, 5420,   3854.8,   2.0354,  34.8549,2,-999.0000,9,    230.5,2,    53.93,2,    22.21,2,    0.002,2,    0.001,2,    0.007,2,    0.032,2, -999.000,9,-999.0000,9,  -999.00,9,-999.000,   2198.5,2,    828.0,2,   3850,-999.0000,-999.000,-999.000,9,  1.7165,-999.000
      06MT28_1,   A08,   196,  2,   1565,    309,2,19940410,1525,-11.3332, -24.6670, 5420,   4107.4,   1.5799,  34.8089,2,  34.8091,2,    223.4,2,    70.99,2,    24.63,2,    0.006,2,    0.001,2,    0.014,2,    0.026,2, -999.000,9,-999.0000,9,  -999.00,9,-999.000,   2215.9,2,    882.7,2,   4102,-999.0000,-999.000,-999.000,9,  1.2462,-999.000
      06MT28_1,   A08,   196,  2,   1564,    308,2,19940410,1525,-11.3332, -24.6670, 5420,   4358.1,   1.1531,  34.7653,2,-999.0000,9,    217.0,2,    87.07,2,    26.77,2,    0.004,2,    0.001,2,    0.002,2,    0.028,2, -999.000,9,-999.0000,9,  -999.00,9,-999.000,   2233.0,2,    940.0,2,   4352,-999.0000,-999.000,-999.000,9,  0.8044,-999.000
      06MT28_1,   A08,   196,  2,   1561,    307,2,19940410,1525,-11.3332, -24.6670, 5420,   4607.2,   0.8997,  34.7377,2,-999.0000,9,    218.4,2,    97.11,2,    28.15,2,    0.024,4,    0.011,4,    0.004,2,    0.050,2, -999.000,9,-999.0000,9,  -999.00,9,-999.000,   2243.6,2,    981.0,2,   4601,-999.0000,-999.000,-999.000,9,  0.5310,-999.000
      06MT28_1,   A08,   196,  2,   1553,    306,2,19940410,1525,-11.3332, -24.6670, 5420,   4847.0,   0.8119,  34.7259,2,-999.0000,9,    210.5,2,   101.14,2,    28.68,2,    0.005,2,    0.003,2,    0.011,2,    0.031,2,    0.042,2,   1.8230,4,     6.30,2,   7.982,   2247.7,2,   1000.8,2,   4840,  0.0070,   0.250,   0.026,4,  0.4186,   0.061
      06MT28_1,   A08,   196,  2,   1620,    305,2,19940410,1525,-11.3332, -24.6670, 5420,   5108.4,   0.7723,  34.7181,2,  34.7244,2,    210.2,2,   101.12,2,    28.65,2,    0.002,2,    0.001,2,    0.008,2,    0.033,2, -999.000,9,-999.0000,9,  -999.00,9,-999.000,   2248.8,2,    999.0,2,   5101,-999.0000,-999.000,-999.000,9,  0.3497,-999.000
      06MT28_1,   A08,   196,  2,   1619,    304,2,19940410,1525,-11.3332, -24.6670, 5420,   5387.3,   0.7499,  34.7123,2,-999.0000,9,    207.9,2,   106.11,2,    29.23,2,    0.008,2,    0.005,2,    0.003,2,    0.054,2, -999.000,9,-999.0000,9,  -999.00,9,-999.000,   2253.6,2,   1020.9,2,   5380,-999.0000,-999.000,-999.000,9,  0.2946,-999.000
      06MT28_1,   A08,   196,  2,   1618,    303,2,19940410,1525,-11.3332, -24.6670, 5420,   5458.9,   0.7465,  34.7109,2,-999.0000,9,    207.4,2,   106.12,2,    29.27,2,    0.005,2,    0.002,2,    0.012,2,    0.050,2, -999.000,9,-999.0000,9,  -999.00,9,-999.000,   2234.7,4,   1019.9,2,   5452,-999.0000,-999.000,-999.000,9,  0.2825,-999.000
      06MT28_1,   A08,   196,  2,   1617,    302,2,19940410,1525,-11.3332, -24.6670, 5420,   5501.8,   0.7398,  34.7092,2,  34.7092,2,    206.8,2,   106.43,2,    29.35,2,    0.005,2,    0.002,2,    0.004,2,    0.063,2,    0.206,3,   1.8080,4,     6.59,2,   7.906,   2254.9,2,   1012.0,6,   5495,  0.0070,   0.250,   0.026,4,  0.2707,   0.183
      06MT28_1,   A08,   196,  2,   1616,    301,2,19940410,1525,-11.3332, -24.6670, 5420,   5502.0,   0.7401,  34.7100,2,-999.0000,9,   -999.0,9,  -999.00,9,  -999.00,9, -999.000,9, -999.000,9, -999.000,9, -999.000,9, -999.000,9,-999.0000,9,  -999.00,9,-999.000,   -999.0,9,   -999.0,9,   5495,-999.0000,-999.000,-999.000,9,  0.2710,-999.000
      06MT28_1,   A08,   197,  1,   1615,    219,2,19940410,2202,-11.3328, -24.0002, 4934,     10.4,  27.7493,  36.9573,2,  36.9607,2,    195.6,2,     0.77,2,     0.00,4, -999.000,9, -999.000,9, -999.000,9, -999.000,9, -999.000,9,-999.0000,9,  -999.00,9,-999.000,   -999.0,9,   -999.0,9,     10,-999.0000,-999.000,-999.000,9, 27.7469,-999.000
      06MT28_1,   A08,   197,  1,   1613,    218,2,19940410,2202,-11.3328, -24.0002, 4934,     31.3,  27.7471,  36.9610,2,-999.0000,9,    195.0,2,     0.86,2,     0.00,4, -999.000,9, -999.000,9, -999.000,9, -999.000,9, -999.000,9,-999.0000,9,  -999.00,9,-999.000,   -999.0,9,   -999.0,9,     31,-999.0000,-999.000,-999.000,9, 27.7398,-999.000
      06MT28_1,   A08,   197,  1,   1611,    217,2,19940410,2202,-11.3328, -24.0002, 4934,     50.5,  27.4090,  36.9858,2,-999.0000,9,    197.0,2,     0.86,2,     0.00,4, -999.000,9, -999.000,9, -999.000,9, -999.000,9, -999.000,9,-999.0000,9,  -999.00,9,-999.000,   -999.0,9,   -999.0,9,     50,-999.0000,-999.000,-999.000,9, 27.3972,-999.000
      06MT28_1,   A08,   197,  1,   1612,    216,2,19940410,2202,-11.3328, -24.0002, 4934,     70.7,  25.4029,  36.9120,2,-999.0000,9,    212.4,2,     0.77,2,     0.00,4, -999.000,9, -999.000,9, -999.000,9, -999.000,9, -999.000,9,-999.0000,9,  -999.00,9,-999.000,   -999.0,9,   -999.0,9,     70,-999.0000,-999.000,-999.000,9, 25.3873,-999.000
      06MT28_1,   A08,   197,  1,   1610,    215,2,19940410,2202,-11.3328, -24.0002, 4934,    100.8,  23.0311,  36.7018,2,-999.0000,9,    210.5,2,     0.77,2,     0.00,4, -999.000,9, -999.000,9, -999.000,9, -999.000,9, -999.000,9,-999.0000,9,  -999.00,9,-999.000,   -999.0,9,   -999.0,9,    100,-999.0000,-999.000,-999.000,9, 23.0104,-999.000
      06MT28_1,   A08,   197,  1,   1609,    214,2,19940410,2202,-11.3328, -24.0002, 4934,    149.9,  18.8437,  36.1043,2,-999.0000,9,    175.5,2,     2.01,2,     5.75,2, -999.000,9, -999.000,9, -999.000,9, -999.000,9, -999.000,9,-999.0000,9,  -999.00,9,-999.000,   -999.0,9,   -999.0,9,    150,-999.0000,-999.000,-999.000,9, 18.8170,-999.000
      06MT28_1,   A08,   197,  1,   1608,    213,2,19940410,2202,-11.3328, -24.0002, 4934,    199.5,  15.0083,  35.5447,2,-999.0000,9,    132.8,2,     4.79,2,    14.85,2, -999.000,9, -999.000,9, -999.000,9, -999.000,9, -999.000,9,-999.0000,9,  -999.00,9,-999.000,   -999.0,9,   -999.0,9,    199,-999.0000,-999.000,-999.000,9, 14.9780,-999.000
      06MT28_1,   A08,   197,  1,   1607,    212,2,19940410,2202,-11.3328, -24.0002, 4934,    300.2,  10.1951,  34.9363,2,-999.0000,9,     79.7,2,    12.34,2,    28.71,2, -999.000,9, -999.000,9, -999.000,9, -999.000,9, -999.000,9,-999.0000,9,  -999.00,9,-999.000,   -999.0,9,   -999.0,9,    300,-999.0000,-999.000,-999.000,9, 10.1597,-999.000
      06MT28_1,   A08,   197,  1,   1606,    211,2,19940410,2202,-11.3328, -24.0002, 4934,    401.2,   7.9672,  34.6976,2,-999.0000,9,    111.7,2,    15.87,2,    29.74,2, -999.000,9, -999.000,9, -999.000,9, -999.000,9, -999.000,9,-999.0000,9,  -999.00,9,-999.000,   -999.0,9,   -999.0,9,    401,-999.0000,-999.000,-999.000,9,  7.9263,-999.000
      06MT28_1,   A08,   197,  1,   1605,    210,2,19940410,2202,-11.3328, -24.0002, 4934,    499.3,   6.6566,  34.5695,2,-999.0000,9,    126.0,2,    19.12,2,    31.16,2, -999.000,9, -999.000,9, -999.000,9, -999.000,9, -999.000,9,-999.0000,9,  -999.00,9,-999.000,   -999.0,9,   -999.0,9,    499,-999.0000,-999.000,-999.000,9,  6.6104,-999.000
      06MT28_1,   A08,   197,  1,   1604,    209,2,19940410,2202,-11.3328, -24.0002, 4934,    598.6,   5.6488,  34.4904,2,-999.0000,9,    138.9,2,    22.97,2,    32.05,2, -999.000,9, -999.000,9, -999.000,9, -999.000,9, -999.000,9,-999.0000,9,  -999.00,9,-999.000,   -999.0,9,   -999.0,9,    599,-999.0000,-999.000,-999.000,9,  5.5977,-999.000
      06MT28_1,   A08,   197,  1,   1603,    208,2,19940410,2202,-11.3328, -24.0002, 4934,    698.9,   4.9591,  34.4556,2,-999.0000,9,    148.6,2,    26.73,2,    32.18,2, -999.000,9, -999.000,9, -999.000,9, -999.000,9, -999.000,9,-999.0000,9,  -999.00,9,-999.000,   -999.0,9,   -999.0,9,    700,-999.0000,-999.000,-999.000,9,  4.9027,-999.000
      06MT28_1,   A08,   197,  1,   1597,    207,2,19940410,2202,-11.3328, -24.0002, 4934,   1002.9,   3.9591,  34.5404,2,-999.0000,9,   -999.0,9,  -999.00,9,  -999.00,9, -999.000,9, -999.000,9, -999.000,9, -999.000,9, -999.000,9,-999.0000,9,  -999.00,9,-999.000,   -999.0,9,   -999.0,9,   1005,-999.0000,-999.000,-999.000,9,  3.8834,-999.000