BOTTLE,20220817CCHSIOAMB
EXPOCODE,SECT_ID,STNNBR,CASTNO,SAMPNO,BTLNBR,BTLNBR_FLAG_W,DATE,TIME,LATITUDE,LONGITUDE,DEPTH,CTDPRS,CTDTMP,CTDSAL,CTDSAL_FLAG_W,SALNTY,SALNTY_FLAG_W,OXYGEN,OXYGEN_FLAG_W,SILCAT,SILCAT_FLAG_W,NO2+NO3,NO2+NO3_FLAG_W,CFC-11,CFC-11_FLAG_W,CFC-12,CFC-12_FLAG_W,CFC113,CFC113_FLAG_W,CCL4,CCL4_FLAG_W,TRITUM,TRITUM_FLAG_W,HELIUM,HELIUM_FLAG_W,DELHE3,DELHE3_FLAG_W,NEON,TCARBN,TCARBN_FLAG_W,PCO2,PCO2_FLAG_W,CTDRAW,HELIER,DELHER,NEONER,NEON_FLAG_W,THETA,TRITER
,,,,,,,,,,,,DBAR,ITS-90,PSS-78,,PSS-78,,UMOL/KG,,UMOL/KG,,UMOL/KG,,PMOL/KG,,PMOL/KG,,PMOL/KG,,PMOL/KG,,TU,,NMOL/KG,,PERCNT,,NMOL/KG,UMOL/KG,,UATM,,,NMOL/KG,PERCNT,NMOL/KG,,ITS-90,TU
      06MT28_1,   A08,   175,  2,    351,    322,2,19940403,0212,-10.4590, -35.2050, 3693,    350.2,  10.8978,  35.0174,2,-999.0000,9,    129.6,2,    10.04,2,    25.43,2, -999.000,9, -999.000,9, -999.000,9, -999.000,9, -999.000,9,-999.0000,9,  -999.00,9,-999.000,   -999.0,9,   -999.0,9,    352,-999.0000,-999.000,-999.000,9, 10.8545,-999.000
      06MT28_1,   A08,   175,  2,    349,    321,2,19940403,0212,-10.4590, -35.2050, 3693,    448.8,   7.5923,  34.6393,2,-999.0000,9,    139.4,2,    15.86,2,    29.43,2, -999.000,9, -999.000,9, -999.000,9, -999.000,9, -999.000,9,-999.0000,9,  -999.00,9,-999.000,   -999.0,9,   -999.0,9,    452,-999.0000,-999.000,-999.000,9,  7.5478,-999.000
      06MT28_1,   A08,   175,  2,    348,    320,2,19940403,0212,-10.4590, -35.2050, 3693,    544.9,   6.2120,  34.5236,2,-999.0000,9,    146.8,2,    20.34,2,    31.42,2, -999.000,9, -999.000,9, -999.000,9, -999.000,9, -999.000,9,-999.0000,9,  -999.00,9,-999.000,   -999.0,9,   -999.0,9,    548,-999.0000,-999.000,-999.000,9,  6.1633,-999.000
      06MT28_1,   A08,   175,  2,    347,    319,2,19940403,0212,-10.4590, -35.2050, 3693,    650.8,   5.3337,  34.4684,2,-999.0000,9,    153.6,2,    24.34,2,    32.26,2, -999.000,9, -999.000,9, -999.000,9, -999.000,9, -999.000,9,-999.0000,9,  -999.00,9,-999.000,   -999.0,9,   -999.0,9,    654,-999.0000,-999.000,-999.000,9,  5.2795,-999.000
      06MT28_1,   A08,   175,  2,    346,    318,2,19940403,0212,-10.4590, -35.2050, 3693,    746.3,   4.8013,  34.4500,2,-999.0000,9,    167.0,2,    27.67,2,    32.63,2, -999.000,9, -999.000,9, -999.000,9, -999.000,9, -999.000,9,-999.0000,9,  -999.00,9,-999.000,   -999.0,9,   -999.0,9,    750,-999.0000,-999.000,-999.000,9,  4.7417,-999.000
      06MT28_1,   A08,   175,  2,    345,    317,2,19940403,0212,-10.4590, -35.2050, 3693,    820.0,   4.2696,  34.4311,2,-999.0000,9,    172.4,2,    30.90,2,    31.85,2, -999.000,9, -999.000,9, -999.000,9, -999.000,9, -999.000,9,-999.0000,9,  -999.00,9,-999.000,   -999.0,9,   -999.0,9,    824,-999.0000,-999.000,-999.000,9,  4.2071,-999.000
      06MT28_1,   A08,   175,  2,    344,    316,2,19940403,0212,-10.4590, -35.2050, 3693,    917.1,   3.9250,  34.4688,2,  34.6170,4,    167.4,2,    34.59,2,    31.64,2, -999.000,9, -999.000,9, -999.000,9, -999.000,9, -999.000,9,-999.0000,9,  -999.00,9,-999.000,   -999.0,9,   -999.0,9,    921,-999.0000,-999.000,-999.000,9,  3.8568,-999.000
      06MT28_1,   A08,   175,  2,    342,    315,2,19940403,0212,-10.4590, -35.2050, 3693,   1089.2,   4.0140,  34.6168,2,-999.0000,9,    182.1,2,    31.98,2,    30.18,2, -999.000,9, -999.000,9, -999.000,9, -999.000,9, -999.000,9,-999.0000,9,  -999.00,9,-999.000,   -999.0,9,   -999.0,9,   1093,-999.0000,-999.000,-999.000,9,  3.9306,-999.000
      06MT28_1,   A08,   175,  2,    335,    314,2,19940403,0212,-10.4590, -35.2050, 3693,   1298.0,   4.1804,  34.7907,2,-999.0000,9,    211.5,2,    25.58,2,    26.44,2, -999.000,9, -999.000,9, -999.000,9, -999.000,9, -999.000,9,-999.0000,9,  -999.00,9,-999.000,   -999.0,9,   -999.0,9,   1302,-999.0000,-999.000,-999.000,9,  4.0770,-999.000
      06MT28_1,   A08,   175,  2,    397,    313,2,19940403,0212,-10.4590, -35.2050, 3693,   1497.3,   4.2113,  34.9322,2,-999.0000,9,    234.4,2,    18.81,2,    21.85,2, -999.000,9, -999.000,9, -999.000,9, -999.000,9, -999.000,9,-999.0000,9,  -999.00,9,-999.000,   -999.0,9,   -999.0,9,   1501,-999.0000,-999.000,-999.000,9,  4.0891,-999.000
      06MT28_1,   A08,   175,  2,    398,    312,2,19940403,0212,-10.4590, -35.2050, 3693,   1698.8,   4.0003,  34.9820,2,-999.0000,9,    238.3,2,    15.76,2,    18.89,2, -999.000,9, -999.000,9, -999.000,9, -999.000,9, -999.000,9,-999.0000,9,  -999.00,9,-999.000,   -999.0,9,   -999.0,9,   1701,-999.0000,-999.000,-999.000,9,  3.8617,-999.000
      06MT28_1,   A08,   175,  2,    396,    311,2,19940403,0212,-10.4590, -35.2050, 3693,   1897.8,   3.6444,  34.9722,2,  34.9547,4,    240.8,2,    17.36,2,    18.78,2, -999.000,9, -999.000,9, -999.000,9, -999.000,9, -999.000,9,-999.0000,9,  -999.00,9,-999.000,   -999.0,9,   -999.0,9,   1900,-999.0000,-999.000,-999.000,9,  3.4919,-999.000
      06MT28_1,   A08,   175,  2,    395,    310,2,19940403,0212,-10.4590, -35.2050, 3693,   2099.8,   3.3242,  34.9562,2,-999.0000,9,    240.4,2,    21.13,2,    18.85,2, -999.000,9, -999.000,9, -999.000,9, -999.000,9, -999.000,9,-999.0000,9,  -999.00,9,-999.000,   -999.0,9,   -999.0,9,   2101,-999.0000,-999.000,-999.000,9,  3.1574,-999.000
      06MT28_1,   A08,   175,  2,    394,    309,2,19940403,0212,-10.4590, -35.2050, 3693,   2349.9,   3.0998,  34.9439,2,-999.0000,9,    240.0,2,    24.23,2,    19.02,2, -999.000,9, -999.000,9, -999.000,9, -999.000,9, -999.000,9,-999.0000,9,  -999.00,9,-999.000,   -999.0,9,   -999.0,9,   2350,-999.0000,-999.000,-999.000,9,  2.9127,-999.000
      06MT28_1,   A08,   175,  2,    393,    308,2,19940403,0212,-10.4590, -35.2050, 3693,   2600.7,   2.9201,  34.9349,2,-999.0000,9,    239.1,2,    26.56,2,    19.19,2, -999.000,9, -999.000,9, -999.000,9, -999.000,9, -999.000,9,-999.0000,9,  -999.00,9,-999.000,   -999.0,9,   -999.0,9,   2600,-999.0000,-999.000,-999.000,9,  2.7117,-999.000
      06MT28_1,   A08,   175,  2,    392,    307,2,19940403,0212,-10.4590, -35.2050, 3693,   2851.4,   2.7480,  34.9233,2,  34.9183,2,    240.0,2,    30.08,2,    19.36,2, -999.000,9, -999.000,9, -999.000,9, -999.000,9, -999.000,9,-999.0000,9,  -999.00,9,-999.000,   -999.0,9,   -999.0,9,   2850,-999.0000,-999.000,-999.000,9,  2.5180,-999.000
      06MT28_1,   A08,   175,  2,    391,    306,2,19940403,0212,-10.4590, -35.2050, 3693,   3101.9,   2.6551,  34.9185,2,-999.0000,9,    241.7,2,    32.83,2,    19.34,2, -999.000,9, -999.000,9, -999.000,9, -999.000,9, -999.000,9,-999.0000,9,  -999.00,9,-999.000,   -999.0,9,   -999.0,9,   3100,-999.0000,-999.000,-999.000,9,  2.4013,-999.000
      06MT28_1,   A08,   175,  2,    390,    305,2,19940403,0212,-10.4590, -35.2050, 3693,   3353.8,   2.4960,  34.9072,2,-999.0000,9,    243.7,2,    49.37,2,    21.58,2, -999.000,9, -999.000,9, -999.000,9, -999.000,9, -999.000,9,-999.0000,9,  -999.00,9,-999.000,   -999.0,9,   -999.0,9,   3351,-999.0000,-999.000,-999.000,9,  2.2194,-999.000
      06MT28_1,   A08,   175,  2,    389,    304,2,19940403,0212,-10.4590, -35.2050, 3693,   3603.6,   2.0461,  34.8615,2,-999.0000,9,    234.0,2,    50.64,2,    21.86,2, -999.000,9, -999.000,9, -999.000,9, -999.000,9, -999.000,9,-999.0000,9,  -999.00,9,-999.000,   -999.0,9,   -999.0,9,   3600,-999.0000,-999.000,-999.000,9,  1.7542,-999.000
      06MT28_1,   A08,   175,  2,    388,    303,2,19940403,0212,-10.4590, -35.2050, 3693,   3624.0,   2.0210,  34.8587,2,-999.0000,9,    233.4,2,    52.84,2,    22.09,2, -999.000,9, -999.000,9, -999.000,9, -999.000,9, -999.000,9,-999.0000,9,  -999.00,9,-999.000,   -999.0,9,   -999.0,9,   3620,-999.0000,-999.000,-999.000,9,  1.7276,-999.000
      06MT28_1,   A08,   175,  2,    387,    302,2,19940403,0212,-10.4590, -35.2050, 3693,   3674.4,   1.9681,  34.8517,2,  34.8494,2,    233.4,2,    53.31,2,    22.18,2, -999.000,9, -999.000,9, -999.000,9, -999.000,9, -999.000,9,-999.0000,9,  -999.00,9,-999.000,   -999.0,9,   -999.0,9,   3671,-999.0000,-999.000,-999.000,9,  1.6707,-999.000
      06MT28_1,   A08,   175,  2,    385,    301,2,19940403,0212,-10.4590, -35.2050, 3693,   3706.2,   1.9565,  34.8503,2,-999.0000,9,   -999.0,9,  -999.00,9,  -999.00,9, -999.000,9, -999.000,9, -999.000,9, -999.000,9, -999.000,9,-999.0000,9,  -999.00,9,-999.000,   -999.0,9,   -999.0,9,   3703,-999.0000,-999.000,-999.000,9,  1.6560,-999.000
      06MT28_1,   A08,   175,  2,    386,    324,2,19940403,0212,-10.4590, -35.2050, 3693,   3706.7,   1.9602,  34.8498,2,  34.8510,2,    235.8,2,  -999.00,9,  -999.00,9, -999.000,9, -999.000,9, -999.000,9, -999.000,9, -999.000,9,-999.0000,9,  -999.00,9,-999.000,   -999.0,9,   -999.0,9,   3702,-999.0000,-999.000,-999.000,9,  1.6595,-999.000
      06MT28_1,   A08,   175,  2,    384,    323,2,19940403,0212,-10.4590, -35.2050, 3693,   3707.5,   1.9565,  34.8497,2,-999.0000,9,    108.3,4,    53.67,2,    22.58,2, -999.000,9, -999.000,9, -999.000,9, -999.000,9, -999.000,9,-999.0000,9,  -999.00,9,-999.000,   -999.0,9,   -999.0,9,   3703,-999.0000,-999.000,-999.000,9,  1.6558,-999.000
      06MT28_1,   A08,   176,  1,    382,    221,2,19940403,0608,-10.5743, -35.0628, 3968,     10.6,  28.6973,  36.9762,2,-999.0000,9,    190.7,2,     0.77,2,     0.00,2,    1.401,2,    0.882,2,    0.172,4,    1.635,2,    0.865,2,-999.0000,9,    -1.59,2,-999.000,   2038.9,2,   -999.0,9,      9,-999.0000,   0.240,-999.000,9, 28.6947,   0.023
      06MT28_1,   A08,   176,  1,    381,    220,2,19940403,0608,-10.5743, -35.0628, 3968,     41.2,  28.9274,  37.3220,2,-999.0000,9,    192.8,2,     0.77,2,     0.00,2,    1.438,2,    0.863,2,    0.166,2,    1.571,2, -999.000,9,   1.6580,2,    -1.56,2,   6.468,   2051.7,2,    419.8,2,     40,  0.0060,   0.240,   0.021,2, 28.9174,-999.000
      06MT28_1,   A08,   176,  1,    380,    219,2,19940403,0608,-10.5743, -35.0628, 3968,     61.1,  28.6803,  37.3026,2,-999.0000,9,    194.7,2,     0.67,2,     0.00,2, -999.000,9, -999.000,9, -999.000,9, -999.000,9, -999.000,9,-999.0000,9,  -999.00,9,-999.000,   2053.9,2,   -999.0,9,     60,-999.0000,-999.000,-999.000,9, 28.6655,-999.000
      06MT28_1,   A08,   176,  1,    379,    218,2,19940403,0608,-10.5743, -35.0628, 3968,     81.0,  26.3194,  37.1412,2,-999.0000,9,    205.4,2,     0.77,2,     0.00,2,    1.627,2,    0.948,2,    0.247,4,    1.196,2,    0.854,2,-999.0000,9,  -999.00,9,-999.000,   2065.8,2,    463.9,2,     80,-999.0000,-999.000,-999.000,9, 26.3011,   0.022
      06MT28_1,   A08,   176,  1,    378,    217,2,19940403,0608,-10.5743, -35.0628, 3968,    119.5,  24.3916,  36.9743,2,-999.0000,9,    204.1,2,     0.67,2,     0.00,2, -999.000,9, -999.000,9, -999.000,9, -999.000,9, -999.000,9,-999.0000,9,  -999.00,9,-999.000,   2079.6,2,    503.0,2,    118,-999.0000,-999.000,-999.000,9, 24.3660,-999.000
      06MT28_1,   A08,   176,  1,    377,    216,2,19940403,0608,-10.5743, -35.0628, 3968,    183.8,  19.4537,  36.2194,2,-999.0000,9,    178.3,2,     1.63,2,     3.55,2,    1.933,2,    1.064,2,    0.121,2,    0.780,2,    0.843,2,   1.7100,2,    -1.57,2,   6.942,   2111.2,2,    605.5,2,    183,  0.0060,   0.240,   0.022,2, 19.4201,   0.023
      06MT28_1,   A08,   176,  1,    375,    215,2,19940403,0608,-10.5743, -35.0628, 3968,    252.0,  14.1733,  35.4263,2,-999.0000,9,    126.7,2,     5.46,2,    16.37,2,    1.399,2,    0.754,2,    0.031,2,    0.328,2,    0.681,2,   1.7260,2,     0.58,2,   7.167,   2157.8,2,   1092.4,2,    251,  0.0060,   0.240,   0.023,2, 14.1364,   0.020
      06MT28_1,   A08,   176,  1,    366,    214,2,19940403,0608,-10.5743, -35.0628, 3968,    351.2,  10.0264,  34.8802,2,-999.0000,9,    127.0,2,    10.43,2,    23.82,2,    0.745,2,    0.398,2,    0.014,2,    0.421,2,    0.334,2,   1.7550,2,     1.86,2,   7.406,   2180.5,2,   1425.9,2,    350,  0.0060,   0.240,   0.024,2,  9.9853,   0.012
      06MT28_1,   A08,   176,  1,    434,    212,2,19940403,0608,-10.5743, -35.0628, 3968,    452.9,   7.7455,  34.6499,2,-999.0000,9,    146.3,2,    15.48,2,    28.19,2,    0.340,2,    0.178,2,    0.010,2,    0.643,2,    0.135,2,   1.7630,2,     1.42,2,   7.597,   2200.3,2,   1710.7,2,    452,  0.0060,   0.240,   0.024,2,  7.7000,   0.006
      06MT28_1,   A08,   176,  1,    435,    213,2,19940403,0608,-10.5743, -35.0628, 3968,    453.0,   7.7455,  34.6498,2,-999.0000,9,    135.6,2,    15.39,2,    28.01,2, -999.000,9, -999.000,9, -999.000,9, -999.000,9, -999.000,9,-999.0000,9,  -999.00,9,-999.000,   2193.9,2,   1628.3,2,    452,-999.0000,-999.000,-999.000,9,  7.7000,-999.000
      06MT28_1,   A08,   176,  1,    433,    211,2,19940403,0608,-10.5743, -35.0628, 3968,    650.7,   5.3918,  34.4632,2,-999.0000,9,    150.0,2,    23.45,2,    31.28,2, -999.000,9, -999.000,9, -999.000,9, -999.000,9, -999.000,9,-999.0000,9,  -999.00,9,-999.000,   2205.2,2,   1556.7,3,    650,-999.0000,-999.000,-999.000,9,  5.3374,-999.000
      06MT28_1,   A08,   176,  1,    431,    210,2,19940403,0608,-10.5743, -35.0628, 3968,    754.4,   4.7162,  34.4387,2,-999.0000,9,    155.9,2,    27.78,2,    31.69,2,    0.204,2,    0.115,2,    0.028,3,    0.506,2,    0.073,2,   1.7820,2,     3.00,2,   7.731,   2209.2,2,   1806.4,6,    754,  0.0070,   0.240,   0.025,2,  4.6564,   0.004