BOTTLE,20220817CCHSIOAMB
EXPOCODE,SECT_ID,STNNBR,CASTNO,SAMPNO,BTLNBR,BTLNBR_FLAG_W,DATE,TIME,LATITUDE,LONGITUDE,DEPTH,CTDPRS,CTDTMP,CTDSAL,CTDSAL_FLAG_W,SALNTY,SALNTY_FLAG_W,OXYGEN,OXYGEN_FLAG_W,SILCAT,SILCAT_FLAG_W,NO2+NO3,NO2+NO3_FLAG_W,CFC-11,CFC-11_FLAG_W,CFC-12,CFC-12_FLAG_W,CFC113,CFC113_FLAG_W,CCL4,CCL4_FLAG_W,TRITUM,TRITUM_FLAG_W,HELIUM,HELIUM_FLAG_W,DELHE3,DELHE3_FLAG_W,NEON,TCARBN,TCARBN_FLAG_W,PCO2,PCO2_FLAG_W,CTDRAW,HELIER,DELHER,NEONER,NEON_FLAG_W,THETA,TRITER
,,,,,,,,,,,,DBAR,ITS-90,PSS-78,,PSS-78,,UMOL/KG,,UMOL/KG,,UMOL/KG,,PMOL/KG,,PMOL/KG,,PMOL/KG,,PMOL/KG,,TU,,NMOL/KG,,PERCNT,,NMOL/KG,UMOL/KG,,UATM,,,NMOL/KG,PERCNT,NMOL/KG,,ITS-90,TU
      06MT28_1,   A08,   204,  3,   1971,    323,2,19940413,1816,-11.3327, -20.0002, 4746,     15.8,  27.4416,  36.8497,2,  36.8502,2,    191.9,2,     0.86,2,     0.10,2,    1.525,2,    0.900,2,    0.102,4,    1.822,2, -999.000,9,-999.0000,9,  -999.00,9,-999.000,   2053.2,2,   -999.0,9,     10,-999.0000,-999.000,-999.000,9, 27.4379,-999.000
      06MT28_1,   A08,   204,  3,   1959,    322,2,19940413,1816,-11.3327, -20.0002, 4746,    748.2,   4.9279,  34.4555,2,-999.0000,9,    145.7,2,    27.10,2,    32.73,2,    0.084,6,    0.054,6,    0.010,6,    0.338,6,   -2.004,4,   1.7990,2,     1.73,2,   7.764,   -999.0,9,   -999.0,9,    749,  0.0070,   0.250,   0.026,2,  4.8674,   1.466
      06MT28_1,   A08,   204,  3,   1956,    321,2,19940413,1816,-11.3327, -20.0002, 4746,    822.7,   4.3670,  34.4551,2,-999.0000,9,    152.6,2,    31.19,2,    32.62,2,    0.043,2,    0.025,2,    0.007,2,    0.266,2, -999.000,9,   1.8070,2,     2.31,2,   7.795,   2214.1,2,   1166.7,2,    824,  0.0070,   0.250,   0.026,2,  4.3036,-999.000
      06MT28_1,   A08,   204,  3,   1955,    320,2,19940413,1816,-11.3327, -20.0002, 4746,    924.7,   4.1041,  34.4910,2,  34.4931,2,    154.6,2,    33.54,2,    32.21,2,    0.018,2,    0.014,2,    0.010,2,    0.155,2, -999.000,9,   1.8170,2,     3.17,2,   7.896,   2214.4,2,   1151.5,2,    926,  0.0070,   0.250,   0.026,2,  4.0340,-999.000
      06MT28_1,   A08,   204,  3,   1953,    319,2,19940413,1816,-11.3327, -20.0002, 4746,   1098.9,   3.9352,  34.6089,2,-999.0000,9,    162.5,2,    33.22,2,    30.18,2,    0.006,2,    0.003,2,    0.007,2,    0.062,2, -999.000,9,   1.8080,2,     3.27,2,   7.842,   2213.1,2,   1096.7,2,   1100,  0.0070,   0.250,   0.026,2,  3.8516,-999.000
      06MT28_1,   A08,   204,  3,   2009,    318,2,19940413,1816,-11.3327, -20.0002, 4746,   1298.9,   4.1278,  34.8141,2,-999.0000,9,    183.1,2,    25.49,2,    25.77,2,    0.005,2,    0.004,2,    0.007,2,    0.062,2,    0.021,2,   1.8100,2,     2.64,2,   7.862,   2195.5,2,    952.7,2,   1300,  0.0070,   0.250,   0.026,2,  4.0247,   0.012
      06MT28_1,   A08,   204,  3,   2008,    317,2,19940413,1816,-11.3327, -20.0002, 4746,   1498.7,   4.0363,  34.9115,2,-999.0000,9,    205.2,2,    21.28,2,    22.23,2,    0.016,2,    0.017,4,    0.008,2,    0.133,2, -999.000,9,   1.7430,3,     2.04,2,   7.555,   -999.0,9,   -999.0,9,   1500,  0.0070,   0.250,   0.025,3,  3.9160,-999.000
      06MT28_1,   A08,   204,  3,   2007,    316,2,19940413,1816,-11.3327, -20.0002, 4746,   1700.6,   3.8517,  34.9602,2,-999.0000,9,    225.1,2,    18.51,2,    19.65,2,    0.027,2,    0.018,2,    0.010,2,    0.240,2,    0.068,2,   1.8060,2,     1.70,2,   7.842,   2169.3,2,    783.1,2,   1701,  0.0070,   0.250,   0.026,2,  3.7149,   0.052
      06MT28_1,   A08,   204,  3,   2006,    315,2,19940413,1816,-11.3327, -20.0002, 4746,   1900.7,   3.5533,  34.9632,2,  34.9646,2,    233.6,2,    19.54,2,    18.87,2,    0.023,2,    0.016,2,    0.010,2,    0.221,2, -999.000,9,   1.8100,2,     2.17,2,   7.878,   2165.9,2,    757.0,2,   1900,  0.0070,   0.250,   0.026,2,  3.4018,-999.000
      06MT28_1,   A08,   204,  3,   2005,    314,2,19940413,1816,-11.3327, -20.0002, 4746,   2100.7,   3.3089,  34.9547,2,-999.0000,9,    228.6,2,    22.07,2,    18.85,2,    0.015,2,    0.012,2,    0.005,2,    0.172,2,   -1.284,4,-999.0000,9,  -999.00,9,-999.000,   2167.1,2,    757.4,2,   2100,-999.0000,-999.000,-999.000,9,  3.1422,   1.176
      06MT28_1,   A08,   204,  3,   2004,    313,2,19940413,1816,-11.3327, -20.0002, 4746,   2351.3,   3.0147,  34.9285,2,-999.0000,9,    235.5,2,    29.15,2,    20.06,2,    0.005,2,    0.003,2,    0.007,2,    0.058,2, -999.000,9,-999.0000,9,  -999.00,9,-999.000,   2175.2,2,    770.4,2,   2349,-999.0000,-999.000,-999.000,9,  2.8290,-999.000
      06MT28_1,   A08,   204,  3,   2003,    312,2,19940413,1816,-11.3327, -20.0002, 4746,   2602.1,   2.8669,  34.9215,2,-999.0000,9,    229.4,2,    31.38,2,    20.13,2,    0.001,2,    0.002,2,    0.004,2,    0.044,2, -999.000,9,-999.0000,9,  -999.00,9,-999.000,   2178.6,2,    774.8,2,   2599,-999.0000,-999.000,-999.000,9,  2.6595,-999.000
      06MT28_1,   A08,   204,  3,   2002,    311,2,19940413,1816,-11.3327, -20.0002, 4746,   2852.8,   2.7364,  34.9127,2,  34.9114,2,    228.4,2,    34.47,2,    20.40,2,    0.008,2,    0.004,2,    0.005,2,    0.034,2, -999.000,9,-999.0000,9,  -999.00,9,-999.000,   2182.3,2,    778.8,6,   2849,-999.0000,-999.000,-999.000,9,  2.5065,-999.000
      06MT28_1,   A08,   204,  3,   2001,    310,2,19940413,1816,-11.3327, -20.0002, 4746,   3102.9,   2.6374,  34.9061,2,-999.0000,9,    227.8,2,    36.43,2,    20.48,2,    0.004,2,    0.001,2,    0.000,2,    0.031,2, -999.000,9,-999.0000,9,  -999.00,9,-999.000,   2182.1,2,    782.3,2,   3098,-999.0000,-999.000,-999.000,9,  2.3840,-999.000
      06MT28_1,   A08,   204,  3,   2000,    309,2,19940413,1816,-11.3327, -20.0002, 4746,   3254.3,   2.5804,  34.9030,2,-999.0000,9,    228.0,2,    37.60,2,    20.54,2,    0.002,2,    0.003,2,    0.001,2,    0.030,2, -999.000,9,-999.0000,9,  -999.00,9,-999.000,   2184.8,2,    782.6,2,   3249,-999.0000,-999.000,-999.000,9,  2.3124,-999.000
      06MT28_1,   A08,   204,  3,   1999,    308,2,19940413,1816,-11.3327, -20.0002, 4746,   3607.5,   2.4279,  34.8938,2,-999.0000,9,    229.5,2,    40.38,2,    20.61,2, -999.000,9, -999.000,9, -999.000,9, -999.000,9, -999.000,9,-999.0000,9,  -999.00,9,-999.000,   2187.1,2,    771.3,2,   3601,-999.0000,-999.000,-999.000,9,  2.1256,-999.000
      06MT28_1,   A08,   204,  3,   1998,    307,2,19940413,1816,-11.3327, -20.0002, 4746,   3855.5,   2.1255,  34.8653,2,  34.8654,2,    226.8,2,    50.02,2,    21.72,2,    0.005,2,    0.003,2,    0.011,2,    0.048,2, -999.000,9,-999.0000,9,  -999.00,9,-999.000,   2195.9,2,    812.6,2,   3849,-999.0000,-999.000,-999.000,9,  1.8041,-999.000
      06MT28_1,   A08,   204,  3,   1997,    306,2,19940413,1816,-11.3327, -20.0002, 4746,   4106.8,   1.7254,  34.8240,2,-999.0000,9,    219.8,2,    65.28,2,    23.67,2,    0.002,2,    0.002,2,    0.012,2,    0.039,2, -999.000,9,-999.0000,9,  -999.00,9,-999.000,   2212.7,2,    864.0,2,   4100,-999.0000,-999.000,-999.000,9,  1.3874,-999.000
      06MT28_1,   A08,   204,  3,   1996,    305,2,19940413,1816,-11.3327, -20.0002, 4746,   4356.4,   1.1397,  34.7624,2,-999.0000,9,    211.7,2,    87.73,2,    26.74,2,    0.003,2,    0.004,2,    0.008,2,    0.041,2, -999.000,9,-999.0000,9,  -999.00,9,-999.000,   2233.9,2,    943.0,2,   4349,-999.0000,-999.000,-999.000,9,  0.7916,-999.000
      06MT28_1,   A08,   204,  3,   1995,    304,2,19940413,1816,-11.3327, -20.0002, 4746,   4608.9,   0.9331,  34.7404,2,-999.0000,9,    208.9,2,    96.24,2,    27.91,2,    0.009,2,    0.004,2,    0.001,2,    0.020,4, -999.000,9,-999.0000,9,  -999.00,9,-999.000,   2244.1,2,   1001.8,2,   4602,-999.0000,-999.000,-999.000,9,  0.5631,-999.000
      06MT28_1,   A08,   204,  3,   1994,    303,2,19940413,1816,-11.3327, -20.0002, 4746,   4672.8,   0.9324,  34.7388,2,-999.0000,9,    208.2,2,    96.40,2,    27.94,2,    0.004,2,    0.005,2,    0.009,2,    0.051,2, -999.000,9,-999.0000,9,  -999.00,9,-999.000,   2244.9,2,    978.2,2,   4665,-999.0000,-999.000,-999.000,9,  0.5552,-999.000
      06MT28_1,   A08,   204,  3,   1993,    302,2,19940413,1816,-11.3327, -20.0002, 4746,   4745.3,   0.9291,  34.7378,2,  34.7357,2,    207.2,2,    96.85,2,    27.89,2,    0.004,2,    0.005,2,    0.006,2,    0.049,2, -999.000,9,-999.0000,9,  -999.00,9,-999.000,   2245.9,2,    984.0,2,   4738,-999.0000,-999.000,-999.000,9,  0.5437,-999.000
      06MT28_1,   A08,   204,  3,   1992,    301,2,19940413,1816,-11.3327, -20.0002, 4746,   4776.0,   0.9303,  34.7378,2,-999.0000,9,    206.4,2,    96.81,2,    27.94,2,    0.004,2,    0.002,2,    0.008,2,    0.051,2, -999.000,9,-999.0000,9,  -999.00,9,-999.000,   2244.1,2,    985.6,6,   4768,-999.0000,-999.000,-999.000,9,  0.5413,-999.000
      06MT28_1,   A08,   205,  1,   1991,    218,2,19940413,2352,-11.3333, -19.4997, 4799,     10.8,  27.3877,  36.8213,2,  36.8228,2,    191.5,2,     0.86,2,     0.00,4, -999.000,9, -999.000,9, -999.000,9, -999.000,9, -999.000,9,-999.0000,9,  -999.00,9,-999.000,   -999.0,9,   -999.0,9,     10,-999.0000,-999.000,-999.000,9, 27.3852,-999.000
      06MT28_1,   A08,   205,  1,   1989,    217,2,19940413,2352,-11.3333, -19.4997, 4799,     31.1,  27.3980,  36.8240,2,-999.0000,9,    190.2,2,     0.86,2,     0.00,4, -999.000,9, -999.000,9, -999.000,9, -999.000,9, -999.000,9,-999.0000,9,  -999.00,9,-999.000,   -999.0,9,   -999.0,9,     30,-999.0000,-999.000,-999.000,9, 27.3908,-999.000
      06MT28_1,   A08,   205,  1,   1988,    216,2,19940413,2352,-11.3333, -19.4997, 4799,     51.0,  27.3448,  36.8190,2,-999.0000,9,    192.1,2,     0.86,2,     0.00,4, -999.000,9, -999.000,9, -999.000,9, -999.000,9, -999.000,9,-999.0000,9,  -999.00,9,-999.000,   -999.0,9,   -999.0,9,     50,-999.0000,-999.000,-999.000,9, 27.3329,-999.000
      06MT28_1,   A08,   205,  1,   1985,    215,2,19940413,2352,-11.3333, -19.4997, 4799,     69.6,  24.8757,  36.7469,2,-999.0000,9,    210.5,2,     0.77,2,     0.00,4, -999.000,9, -999.000,9, -999.000,9, -999.000,9, -999.000,9,-999.0000,9,  -999.00,9,-999.000,   -999.0,9,   -999.0,9,     69,-999.0000,-999.000,-999.000,9, 24.8606,-999.000
      06MT28_1,   A08,   205,  1,   1983,    214,2,19940413,2352,-11.3333, -19.4997, 4799,    100.7,  22.2060,  36.5363,2,-999.0000,9,    199.1,2,     1.15,2,     0.00,2, -999.000,9, -999.000,9, -999.000,9, -999.000,9, -999.000,9,-999.0000,9,  -999.00,9,-999.000,   -999.0,9,   -999.0,9,    100,-999.0000,-999.000,-999.000,9, 22.1858,-999.000
      06MT28_1,   A08,   205,  1,   2042,    213,2,19940413,2352,-11.3333, -19.4997, 4799,    149.2,  17.7788,  35.9548,2,-999.0000,9,    155.9,2,     2.87,2,     8.72,2, -999.000,9, -999.000,9, -999.000,9, -999.000,9, -999.000,9,-999.0000,9,  -999.00,9,-999.000,   -999.0,9,   -999.0,9,    149,-999.0000,-999.000,-999.000,9, 17.7532,-999.000
      06MT28_1,   A08,   205,  1,   2041,    212,2,19940413,2352,-11.3333, -19.4997, 4799,    200.1,  13.5798,  35.3607,2,-999.0000,9,    109.6,2,     6.61,2,    19.44,2, -999.000,9, -999.000,9, -999.000,9, -999.000,9, -999.000,9,-999.0000,9,  -999.00,9,-999.000,   -999.0,9,   -999.0,9,    200,-999.0000,-999.000,-999.000,9, 13.5513,-999.000
      06MT28_1,   A08,   205,  1,   2040,    211,2,19940413,2352,-11.3333, -19.4997, 4799,    300.5,  10.0461,  34.9341,2,-999.0000,9,     80.5,2,    12.25,2,    28.71,2, -999.000,9, -999.000,9, -999.000,9, -999.000,9, -999.000,9,-999.0000,9,  -999.00,9,-999.000,   -999.0,9,   -999.0,9,    300,-999.0000,-999.000,-999.000,9, 10.0110,-999.000
      06MT28_1,   A08,   205,  1,   2039,    210,2,19940413,2352,-11.3333, -19.4997, 4799,    402.6,   7.9915,  34.7038,2,-999.0000,9,    106.1,2,    15.78,2,    30.22,2, -999.000,9, -999.000,9, -999.000,9, -999.000,9, -999.000,9,-999.0000,9,  -999.00,9,-999.000,   -999.0,9,   -999.0,9,    402,-999.0000,-999.000,-999.000,9,  7.9504,-999.000
      06MT28_1,   A08,   205,  1,   2038,    209,2,19940413,2352,-11.3333, -19.4997, 4799,    501.1,   6.8278,  34.5918,2,-999.0000,9,    116.8,2,    19.02,2,    31.97,2, -999.000,9, -999.000,9, -999.000,9, -999.000,9, -999.000,9,-999.0000,9,  -999.00,9,-999.000,   -999.0,9,   -999.0,9,    500,-999.0000,-999.000,-999.000,9,  6.7808,-999.000
      06MT28_1,   A08,   205,  1,   2037,    208,2,19940413,2352,-11.3333, -19.4997, 4799,    599.2,   6.0260,  34.5271,2,  34.5257,2,    125.2,2,    21.97,3,    32.86,3, -999.000,9, -999.000,9, -999.000,9, -999.000,9, -999.000,9,-999.0000,9,  -999.00,9,-999.000,   -999.0,9,   -999.0,9,    599,-999.0000,-999.000,-999.000,9,  5.9731,-999.000
      06MT28_1,   A08,   205,  1,   2036,    207,2,19940413,2352,-11.3333, -19.4997, 4799,    599.4,   5.9989,  34.5253,2,-999.0000,9,   -999.0,9,  -999.00,9,  -999.00,9, -999.000,9, -999.000,9, -999.000,9, -999.000,9, -999.000,9,-999.0000,9,  -999.00,9,-999.000,   -999.0,9,   -999.0,9,    599,-999.0000,-999.000,-999.000,9,  5.9461,-999.000