BOTTLE,20220817CCHSIOAMB
EXPOCODE,SECT_ID,STNNBR,CASTNO,SAMPNO,BTLNBR,BTLNBR_FLAG_W,DATE,TIME,LATITUDE,LONGITUDE,DEPTH,CTDPRS,CTDTMP,CTDSAL,CTDSAL_FLAG_W,SALNTY,SALNTY_FLAG_W,OXYGEN,OXYGEN_FLAG_W,SILCAT,SILCAT_FLAG_W,NO2+NO3,NO2+NO3_FLAG_W,CFC-11,CFC-11_FLAG_W,CFC-12,CFC-12_FLAG_W,CFC113,CFC113_FLAG_W,CCL4,CCL4_FLAG_W,TRITUM,TRITUM_FLAG_W,HELIUM,HELIUM_FLAG_W,DELHE3,DELHE3_FLAG_W,NEON,TCARBN,TCARBN_FLAG_W,PCO2,PCO2_FLAG_W,CTDRAW,HELIER,DELHER,NEONER,NEON_FLAG_W,THETA,TRITER
,,,,,,,,,,,,DBAR,ITS-90,PSS-78,,PSS-78,,UMOL/KG,,UMOL/KG,,UMOL/KG,,PMOL/KG,,PMOL/KG,,PMOL/KG,,PMOL/KG,,TU,,NMOL/KG,,PERCNT,,NMOL/KG,UMOL/KG,,UATM,,,NMOL/KG,PERCNT,NMOL/KG,,ITS-90,TU
      06MT28_1,   A08,   222,  2,   2848,    324,2,19940418,1650,-11.3340, -12.0002, 3602,    250.3,  10.9867,  35.0433,2,  35.0424,2,     74.3,2,    11.14,2,    28.15,2,    0.543,3,    0.301,2,    0.016,2,    0.188,2, -999.000,9,-999.0000,9,  -999.00,9,-999.000,   2209.4,2,   -999.0,9,    250,-999.0000,-999.000,-999.000,9, 10.9557,-999.000
      06MT28_1,   A08,   222,  2,   2832,    323,2,19940418,1650,-11.3340, -12.0002, 3602,    348.3,   9.3653,  34.8609,2,  34.8609,2,     76.3,2,    13.97,2,    30.92,2,    0.242,2,    0.140,2,    0.017,2,    0.169,2, -999.000,9,   1.7580,2,     1.69,2,   7.464,   2217.8,2,   1216.9,2,    349,  0.0070,   0.250,   0.025,2,  9.3263,-999.000
      06MT28_1,   A08,   222,  2,   2892,    322,2,19940418,1650,-11.3340, -12.0002, 3602,    448.1,   7.8164,  34.6962,2,-999.0000,9,     87.4,2,    17.22,2,    33.10,2,    0.113,2,    0.079,2,    0.014,2,    0.192,2,    0.058,2,   1.7660,2,     1.42,2,   7.562,   2222.3,2,   1298.2,2,    450,  0.0070,   0.250,   0.025,2,  7.7711,   0.006
      06MT28_1,   A08,   222,  2,   2893,    321,2,19940418,1650,-11.3340, -12.0002, 3602,    547.8,   6.7812,  34.5989,2,-999.0000,9,     96.8,2,    20.27,2,    34.32,2,    0.068,2,    0.044,2,    0.011,2,    0.205,2,    0.033,2,   1.7790,2,     1.28,2,   7.620,   2225.3,2,   1340.2,2,    550,  0.0070,   0.250,   0.025,2,  6.7298,   0.006
      06MT28_1,   A08,   222,  2,   2891,    320,2,19940418,1650,-11.3340, -12.0002, 3602,    647.0,   5.7377,  34.5148,2,  34.5156,2,    117.6,2,    23.89,2,    34.21,2,    0.051,2,    0.037,2,    0.010,2,    0.233,2,    0.015,2,   1.7760,2,     1.63,2,   7.704,   2220.0,2,   1304.8,2,    649,  0.0070,   0.240,   0.024,2,  5.6818,   0.023
      06MT28_1,   A08,   222,  2,   2890,    319,2,19940418,1650,-11.3340, -12.0002, 3602,    747.2,   5.0050,  34.4775,2,-999.0000,9,    131.1,2,    27.60,2,    34.10,2,    0.035,2,    0.028,2,    0.010,2,    0.201,2,    0.020,2,   1.7880,2,     1.64,2,   7.758,   2219.6,2,   -999.0,9,    750,  0.0070,   0.240,   0.025,2,  4.9441,   0.004
      06MT28_1,   A08,   222,  2,   2889,    318,2,19940418,1650,-11.3340, -12.0002, 3602,    822.2,   4.6688,  34.4988,2,-999.0000,9,    125.4,2,    30.45,2,    35.03,2,    0.039,4,    0.026,4,    0.014,2,    0.101,2, -999.000,9,   1.7920,2,     1.73,2,   7.798,   2227.9,2,   1310.4,2,    825,  0.0070,   0.250,   0.026,2,  4.6035,-999.000
      06MT28_1,   A08,   222,  2,   2888,    317,2,19940418,1650,-11.3340, -12.0002, 3602,    920.6,   4.2761,  34.5300,2,-999.0000,9,    139.9,2,    32.44,2,    33.40,2,    0.006,2,    0.003,2,    0.009,2,    0.050,2,    0.009,2,   1.7920,2,     2.28,2,   7.824,   2224.4,2,   1234.6,2,    924,  0.0070,   0.240,   0.025,2,  4.2050,   0.003
      06MT28_1,   A08,   222,  2,   2886,    316,2,19940418,1650,-11.3340, -12.0002, 3602,   1095.6,   3.9862,  34.6428,2,-999.0000,9,    161.7,2,    31.95,2,    30.33,2,    0.022,4,    0.004,2,    0.012,2,    0.031,2, -999.000,9,   1.7840,2,     2.31,2,   7.784,   2213.2,2,   1096.4,2,   1099,  0.0070,   0.250,   0.026,2,  3.9024,-999.000
      06MT28_1,   A08,   222,  2,   2885,    315,2,19940418,1650,-11.3340, -12.0002, 3602,   1297.2,   4.0473,  34.7813,2,  34.7806,2,    178.1,2,    27.25,2,    26.87,2,    0.003,2,    0.001,2,    0.002,2,    0.036,2,    0.010,2,   1.8080,2,     2.59,2,   7.808,   2200.6,2,    988.1,2,   1300,  0.0070,   0.240,   0.025,2,  3.9453,   0.003
      06MT28_1,   A08,   222,  2,   2884,    314,2,19940418,1650,-11.3340, -12.0002, 3602,   1496.8,   3.9446,  34.8836,2,-999.0000,9,    199.5,2,    23.32,2,    23.51,2,    0.007,2,    0.003,2,    0.002,2,    0.070,2, -999.000,9,   1.8060,3,     2.55,3,   7.855,   2186.1,2,    869.2,2,   1499,  0.0160,   0.250,   0.065,3,  3.8256,-999.000
      06MT28_1,   A08,   222,  2,   2883,    313,2,19940418,1650,-11.3340, -12.0002, 3602,   1697.6,   3.7550,  34.9132,2,  34.9144,2,    210.5,2,    23.20,2,    22.06,2,    0.006,2,    0.015,4,    0.002,2,    0.073,2,    0.019,2,   1.8170,2,     2.36,2,   7.890,   2181.0,2,    843.4,2,   1699,  0.0070,   0.240,   0.025,2,  3.6198,   0.003
      06MT28_1,   A08,   222,  2,   2882,    312,2,19940418,1650,-11.3340, -12.0002, 3602,   1898.9,   3.4553,  34.9328,2,-999.0000,9,    222.5,2,    24.61,2,    20.71,2,    0.012,4,    0.006,2,    0.009,2,    0.088,2, -999.000,9,   1.8150,2,     3.23,2,   7.945,   2175.5,2,    796.5,2,   1900,  0.0070,   0.250,   0.026,2,  3.3055,-999.000
      06MT28_1,   A08,   222,  2,   2881,    311,2,19940418,1650,-11.3340, -12.0002, 3602,   2099.6,   3.2853,  34.9349,2,-999.0000,9,    228.1,2,    25.72,2,    20.22,2,    0.005,2,    0.005,2,    0.002,2,    0.088,2,    0.020,2,   1.8240,2,     2.80,2,   7.896,   2175.2,2,    795.5,6,   2100,  0.0070,   0.240,   0.025,2,  3.1192,   0.014
      06MT28_1,   A08,   222,  2,   2880,    310,2,19940418,1650,-11.3340, -12.0002, 3602,   2349.8,   2.9575,  34.9162,2,  34.9155,2,    227.5,2,    31.87,2,    20.68,2,    0.002,2,    0.002,2,    0.002,2,    0.045,2, -999.000,9,   1.8360,2,     4.67,2,   7.982,   2180.7,2,    801.1,2,   2349,  0.0070,   0.250,   0.026,2,  2.7730,-999.000
      06MT28_1,   A08,   222,  2,   2879,    309,2,19940418,1650,-11.3340, -12.0002, 3602,   2602.0,   2.7574,  34.9002,2,-999.0000,9,    224.1,2,    37.23,2,    21.32,2,    0.003,2,    0.001,2,   -0.001,2,    0.023,2,    0.010,2,   1.8600,2,     4.32,2,   8.131,   2187.7,2,    802.0,2,   2601,  0.0070,   0.240,   0.026,2,  2.5521,   0.003
      06MT28_1,   A08,   222,  2,   2878,    308,2,19940418,1650,-11.3340, -12.0002, 3602,   2852.1,   2.6156,  34.8948,2,-999.0000,9,    223.0,2,    40.41,2,    21.48,2,    0.026,4,    0.003,2,    0.017,4,    0.024,2, -999.000,9,   1.8540,2,     4.56,2,   8.120,   2191.5,2,    813.5,2,   2850,  0.0070,   0.250,   0.027,2,  2.3883,-999.000
      06MT28_1,   A08,   222,  2,   2877,    307,2,19940418,1650,-11.3340, -12.0002, 3602,   3102.4,   2.5407,  34.8915,2,-999.0000,9,    221.7,2,    42.44,2,    21.65,2,    0.004,2,    0.000,2,    0.005,2,    0.011,2,    0.000,2,   1.8240,2,     4.17,2,   7.927,   2194.7,2,    803.5,2,   3100,  0.0070,   0.240,   0.025,2,  2.2895,   0.002
      06MT28_1,   A08,   222,  2,   2876,    306,2,19940418,1650,-11.3340, -12.0002, 3602,   3354.1,   2.4993,  34.8903,2,  34.8931,2,    220.2,2,    43.81,2,    21.72,2,    0.002,2,    0.001,2,    0.006,2,    0.009,2, -999.000,9,   1.8240,2,     4.05,2,   7.951,   2197.4,2,    811.6,2,   3350,  0.0070,   0.250,   0.026,2,  2.2227,-999.000
      06MT28_1,   A08,   222,  2,   2875,    305,2,19940418,1650,-11.3340, -12.0002, 3602,   3519.8,   2.4859,  34.8902,2,-999.0000,9,    219.9,2,    44.24,2,    21.70,2,    0.002,2,    0.001,2,    0.002,2,    0.011,2,    0.042,2,   1.8280,2,     4.07,2,   7.959,   2199.3,2,    814.2,2,   3516,  0.0070,   0.240,   0.025,2,  2.1918,   0.076
      06MT28_1,   A08,   222,  2,   2874,    304,2,19940418,1650,-11.3340, -12.0002, 3602,   3587.7,   2.4885,  34.8895,2,-999.0000,9,    219.9,2,    44.44,2,    21.73,2,    0.003,2,    0.000,2,    0.001,2,    0.009,2, -999.000,9,   1.8360,2,     3.55,2,   7.980,   2198.6,2,    811.8,2,   3583,  0.0070,   0.250,   0.026,2,  2.1869,-999.000
      06MT28_1,   A08,   222,  2,   2871,    301,2,19940418,1650,-11.3340, -12.0002, 3602,   3618.3,   2.4909,  34.8894,2,  34.8845,2,    219.5,2,    44.33,3,    21.72,3,    0.004,2,    0.001,2,    0.002,2,    0.011,2,    0.018,2,   1.8330,2,     4.22,2,   7.947,   2200.9,2,    817.8,6,   3614,  0.0070,   0.240,   0.025,2,  2.1859,   0.006
      06MT28_1,   A08,   222,  2,   2872,    302,2,19940418,1650,-11.3340, -12.0002, 3602,   3618.3,   2.4909,  34.8894,2,  34.8893,2,    219.2,2,    44.43,2,    21.72,2, -999.000,9, -999.000,9, -999.000,9, -999.000,9, -999.000,9,-999.0000,9,  -999.00,9,-999.000,   2198.7,2,    813.9,2,   3614,-999.0000,-999.000,-999.000,9,  2.1859,-999.000
      06MT28_1,   A08,   222,  2,   2873,    303,2,19940418,1650,-11.3340, -12.0002, 3602,   3618.4,   2.4908,  34.8895,2,-999.0000,9,   -999.0,9,  -999.00,9,  -999.00,9, -999.000,9, -999.000,9, -999.000,9, -999.000,9, -999.000,9,-999.0000,9,  -999.00,9,-999.000,   -999.0,9,   -999.0,9,   3614,-999.0000,-999.000,-999.000,9,  2.1858,-999.000
      06MT28_1,   A08,   223,  1,   2870,    213,2,19940418,2210,-11.3323, -11.4998, 3364,     10.8,  26.5158,  36.7457,2,  36.7298,4,    194.9,2,     0.86,2,     0.00,2, -999.000,9, -999.000,9, -999.000,9, -999.000,9, -999.000,9,-999.0000,9,  -999.00,9,-999.000,   -999.0,9,   -999.0,9,     10,-999.0000,-999.000,-999.000,9, 26.5134,-999.000
      06MT28_1,   A08,   223,  1,   2932,    212,2,19940418,2210,-11.3323, -11.4998, 3364,     30.3,  26.5203,  36.7468,2,-999.0000,9,    194.6,2,     0.86,2,     0.00,2, -999.000,9, -999.000,9, -999.000,9, -999.000,9, -999.000,9,-999.0000,9,  -999.00,9,-999.000,   -999.0,9,   -999.0,9,     30,-999.0000,-999.000,-999.000,9, 26.5134,-999.000
      06MT28_1,   A08,   223,  1,   2933,    211,2,19940418,2210,-11.3323, -11.4998, 3364,     50.3,  26.4964,  36.7471,2,-999.0000,9,    195.5,2,     0.86,2,     0.00,2, -999.000,9, -999.000,9, -999.000,9, -999.000,9, -999.000,9,-999.0000,9,  -999.00,9,-999.000,   -999.0,9,   -999.0,9,     50,-999.0000,-999.000,-999.000,9, 26.4850,-999.000
      06MT28_1,   A08,   223,  1,   2931,    210,2,19940418,2210,-11.3323, -11.4998, 3364,     70.7,  22.7347,  36.5833,2,-999.0000,9,    217.2,2,     0.86,2,     0.00,2, -999.000,9, -999.000,9, -999.000,9, -999.000,9, -999.000,9,-999.0000,9,  -999.00,9,-999.000,   -999.0,9,   -999.0,9,     70,-999.0000,-999.000,-999.000,9, 22.7203,-999.000
      06MT28_1,   A08,   223,  1,   2929,    209,2,19940418,2210,-11.3323, -11.4998, 3364,     99.4,  19.4608,  36.2041,2,-999.0000,9,    181.7,2,     1.82,2,     4.31,2, -999.000,9, -999.000,9, -999.000,9, -999.000,9, -999.000,9,-999.0000,9,  -999.00,9,-999.000,   -999.0,9,   -999.0,9,     99,-999.0000,-999.000,-999.000,9, 19.4427,-999.000
      06MT28_1,   A08,   223,  1,   2927,    208,2,19940418,2210,-11.3323, -11.4998, 3364,    150.3,  14.3124,  35.4247,2,-999.0000,9,    141.4,2,     4.74,2,    14.80,2, -999.000,9, -999.000,9, -999.000,9, -999.000,9, -999.000,9,-999.0000,9,  -999.00,9,-999.000,   -999.0,9,   -999.0,9,    150,-999.0000,-999.000,-999.000,9, 14.2903,-999.000
      06MT28_1,   A08,   223,  1,   2926,    207,2,19940418,2210,-11.3323, -11.4998, 3364,    150.6,  14.1814,  35.4130,2,-999.0000,9,   -999.0,9,  -999.00,9,  -999.00,9, -999.000,9, -999.000,9, -999.000,9, -999.000,9, -999.000,9,-999.0000,9,  -999.00,9,-999.000,   -999.0,9,   -999.0,9,    150,-999.0000,-999.000,-999.000,9, 14.1594,-999.000
      06MT28_1,   A08,   223,  2,   2930,    324,2,19940418,2338,-11.3318, -11.4992, 3364,    101.1,  20.6009,  36.3442,2,  36.3031,4,    196.9,2,     1.34,2,     1.54,2, -999.000,9, -999.000,9, -999.000,9, -999.000,9, -999.000,9,-999.0000,9,  -999.00,9,-999.000,   -999.0,9,   -999.0,9,    100,-999.0000,-999.000,-999.000,9, 20.5817,-999.000
      06MT28_1,   A08,   223,  2,   2928,    323,2,19940418,2338,-11.3318, -11.4992, 3364,    148.7,  14.5484,  35.4532,2,-999.0000,9,    149.1,2,     4.60,2,    14.77,2, -999.000,9, -999.000,9, -999.000,9, -999.000,9, -999.000,9,-999.0000,9,  -999.00,9,-999.000,   -999.0,9,   -999.0,9,    149,-999.0000,-999.000,-999.000,9, 14.5263,-999.000
      06MT28_1,   A08,   223,  2,   2925,    322,2,19940418,2338,-11.3318, -11.4992, 3364,    199.1,  12.1017,  35.1811,2,-999.0000,9,     80.5,2,     9.29,2,    25.39,2, -999.000,9, -999.000,9, -999.000,9, -999.000,9, -999.000,9,-999.0000,9,  -999.00,9,-999.000,   -999.0,9,   -999.0,9,    200,-999.0000,-999.000,-999.000,9, 12.0756,-999.000
      06MT28_1,   A08,   223,  2,   2924,    321,2,19940418,2338,-11.3318, -11.4992, 3364,    299.1,   9.5407,  34.8807,2,-999.0000,9,     76.7,2,    13.40,2,    30.45,2, -999.000,9, -999.000,9, -999.000,9, -999.000,9, -999.000,9,-999.0000,9,  -999.00,9,-999.000,   -999.0,9,   -999.0,9,    301,-999.0000,-999.000,-999.000,9,  9.5069,-999.000
      06MT28_1,   A08,   223,  2,   2923,    320,2,19940418,2338,-11.3318, -11.4992, 3364,    396.8,   8.3984,  34.7565,2,  34.7562,2,     80.8,2,    15.88,2,    32.24,2, -999.000,9, -999.000,9, -999.000,9, -999.000,9, -999.000,9,-999.0000,9,  -999.00,9,-999.000,   -999.0,9,   -999.0,9,    400,-999.0000,-999.000,-999.000,9,  8.3567,-999.000
      06MT28_1,   A08,   223,  2,   2922,    319,2,19940418,2338,-11.3318, -11.4992, 3364,    496.7,   7.3640,  34.6513,2,-999.0000,9,     91.7,2,    18.36,2,    33.28,2, -999.000,9, -999.000,9, -999.000,9, -999.000,9, -999.000,9,-999.0000,9,  -999.00,9,-999.000,   -999.0,9,   -999.0,9,    500,-999.0000,-999.000,-999.000,9,  7.3154,-999.000
      06MT28_1,   A08,   223,  2,   2921,    318,2,19940418,2338,-11.3318, -11.4992, 3364,    596.5,   6.3156,  34.5698,2,-999.0000,9,     94.3,2,    22.17,2,    35.27,2, -999.000,9, -999.000,9, -999.000,9, -999.000,9, -999.000,9,-999.0000,9,  -999.00,9,-999.000,   -999.0,9,   -999.0,9,    600,-999.0000,-999.000,-999.000,9,  6.2616,-999.000
      06MT28_1,   A08,   223,  2,   2920,    317,2,19940418,2338,-11.3318, -11.4992, 3364,    696.1,   5.3882,  34.5109,2,-999.0000,9,    107.7,2,    26.18,2,    35.73,2, -999.000,9, -999.000,9, -999.000,9, -999.000,9, -999.000,9,-999.0000,9,  -999.00,9,-999.000,   -999.0,9,   -999.0,9,    700,-999.0000,-999.000,-999.000,9,  5.3297,-999.000
      06MT28_1,   A08,   223,  2,   2919,    316,2,19940418,2338,-11.3318, -11.4992, 3364,    845.6,   4.4562,  34.4987,2,-999.0000,9,    138.4,2,    31.22,2,    33.61,2, -999.000,9, -999.000,9, -999.000,9, -999.000,9, -999.000,9,-999.0000,9,  -999.00,9,-999.000,   -999.0,9,   -999.0,9,    850,-999.0000,-999.000,-999.000,9,  4.3903,-999.000
      06MT28_1,   A08,   223,  2,   2918,    315,2,19940418,2338,-11.3318, -11.4992, 3364,    996.0,   4.1452,  34.5679,2,-999.0000,9,    151.5,2,    32.25,2,    31.77,2, -999.000,9, -999.000,9, -999.000,9, -999.000,9, -999.000,9,-999.0000,9,  -999.00,9,-999.000,   -999.0,9,   -999.0,9,   1001,-999.0000,-999.000,-999.000,9,  4.0687,-999.000
      06MT28_1,   A08,   223,  2,   2917,    314,2,19940418,2338,-11.3318, -11.4992, 3364,   1196.2,   4.0549,  34.7259,2,  34.7234,2,    169.5,2,    28.89,2,    28.31,2, -999.000,9, -999.000,9, -999.000,9, -999.000,9, -999.000,9,-999.0000,9,  -999.00,9,-999.000,   -999.0,9,   -999.0,9,   1200,-999.0000,-999.000,-999.000,9,  3.9617,-999.000
      06MT28_1,   A08,   223,  2,   2916,    313,2,19940418,2338,-11.3318, -11.4992, 3364,   1396.5,   4.0127,  34.8602,2,-999.0000,9,    193.5,2,    23.90,2,    24.29,2, -999.000,9, -999.000,9, -999.000,9, -999.000,9, -999.000,9,-999.0000,9,  -999.00,9,-999.000,   -999.0,9,   -999.0,9,   1401,-999.0000,-999.000,-999.000,9,  3.9020,-999.000
      06MT28_1,   A08,   223,  2,   2915,    312,2,19940418,2338,-11.3318, -11.4992, 3364,   1596.6,   3.8439,  34.9053,2,-999.0000,9,    207.4,2,    22.83,2,    22.26,2, -999.000,9, -999.000,9, -999.000,9, -999.000,9, -999.000,9,-999.0000,9,  -999.00,9,-999.000,   -999.0,9,   -999.0,9,   1600,-999.0000,-999.000,-999.000,9,  3.7169,-999.000
      06MT28_1,   A08,   223,  2,   2914,    311,2,19940418,2338,-11.3318, -11.4992, 3364,   1796.0,   3.5838,  34.9300,2,  34.9306,2,    219.5,2,    23.57,2,    20.91,2, -999.000,9, -999.000,9, -999.000,9, -999.000,9, -999.000,9,-999.0000,9,  -999.00,9,-999.000,   -999.0,9,   -999.0,9,   1799,-999.0000,-999.000,-999.000,9,  3.4417,-999.000
      06MT28_1,   A08,   223,  2,   2913,    310,2,19940418,2338,-11.3318, -11.4992, 3364,   1997.5,   3.3413,  34.9317,2,-999.0000,9,    225.0,2,    25.74,2,    20.32,2, -999.000,9, -999.000,9, -999.000,9, -999.000,9, -999.000,9,-999.0000,9,  -999.00,9,-999.000,   -999.0,9,   -999.0,9,   2000,-999.0000,-999.000,-999.000,9,  3.1839,-999.000
      06MT28_1,   A08,   223,  2,   2912,    309,2,19940418,2338,-11.3318, -11.4992, 3364,   2248.6,   3.0787,  34.9218,2,  34.9228,2,    226.2,2,    29.79,2,    20.40,2, -999.000,9, -999.000,9, -999.000,9, -999.000,9, -999.000,9,-999.0000,9,  -999.00,9,-999.000,   -999.0,9,   -999.0,9,   2250,-999.0000,-999.000,-999.000,9,  2.9018,-999.000
      06MT28_1,   A08,   223,  2,   2911,    308,2,19940418,2338,-11.3318, -11.4992, 3364,   2499.8,   2.8556,  34.9097,2,-999.0000,9,    222.6,2,    35.26,2,    21.04,2, -999.000,9, -999.000,9, -999.000,9, -999.000,9, -999.000,9,-999.0000,9,  -999.00,9,-999.000,   -999.0,9,   -999.0,9,   2500,-999.0000,-999.000,-999.000,9,  2.6584,-999.000
      06MT28_1,   A08,   223,  2,   2895,    307,2,19940418,2338,-11.3318, -11.4992, 3364,   2750.0,   2.6986,  34.9016,2,-999.0000,9,    222.4,2,    38.63,2,    21.30,2, -999.000,9, -999.000,9, -999.000,9, -999.000,9, -999.000,9,-999.0000,9,  -999.00,9,-999.000,   -999.0,9,   -999.0,9,   2750,-999.0000,-999.000,-999.000,9,  2.4799,-999.000
      06MT28_1,   A08,   223,  2,   2971,    306,2,19940418,2338,-11.3318, -11.4992, 3364,   3001.4,   2.5482,  34.8914,2,-999.0000,9,    221.7,2,    42.08,2,    21.47,2, -999.000,9, -999.000,9, -999.000,9, -999.000,9, -999.000,9,-999.0000,9,  -999.00,9,-999.000,   -999.0,9,   -999.0,9,   3000,-999.0000,-999.000,-999.000,9,  2.3073,-999.000
      06MT28_1,   A08,   223,  2,   2972,    305,2,19940418,2338,-11.3318, -11.4992, 3364,   3272.1,   2.4607,  34.8889,2,  34.8894,2,    221.1,2,    44.31,2,    21.63,2, -999.000,9, -999.000,9, -999.000,9, -999.000,9, -999.000,9,-999.0000,9,  -999.00,9,-999.000,   -999.0,9,   -999.0,9,   3270,-999.0000,-999.000,-999.000,9,  2.1937,-999.000
      06MT28_1,   A08,   223,  2,   2970,    304,2,19940418,2338,-11.3318, -11.4992, 3364,   3342.0,   2.4593,  34.8885,2,-999.0000,9,    220.8,2,    44.25,2,    21.51,2, -999.000,9, -999.000,9, -999.000,9, -999.000,9, -999.000,9,-999.0000,9,  -999.00,9,-999.000,   -999.0,9,   -999.0,9,   3340,-999.0000,-999.000,-999.000,9,  2.1849,-999.000
      06MT28_1,   A08,   223,  2,   2969,    303,2,19940418,2338,-11.3318, -11.4992, 3364,   3375.7,   2.4593,  34.8883,2,-999.0000,9,    220.7,2,    44.34,2,    21.60,2, -999.000,9, -999.000,9, -999.000,9, -999.000,9, -999.000,9,-999.0000,9,  -999.00,9,-999.000,   -999.0,9,   -999.0,9,   3374,-999.0000,-999.000,-999.000,9,  2.1813,-999.000
      06MT28_1,   A08,   223,  2,   2967,    301,2,19940418,2338,-11.3318, -11.4992, 3364,   3375.7,   2.4590,  34.8886,2,  34.8903,2,    220.4,2,    44.38,2,    21.60,2, -999.000,9, -999.000,9, -999.000,9, -999.000,9, -999.000,9,-999.0000,9,  -999.00,9,-999.000,   -999.0,9,   -999.0,9,   3374,-999.0000,-999.000,-999.000,9,  2.1810,-999.000
      06MT28_1,   A08,   223,  2,   2968,    302,2,19940418,2338,-11.3318, -11.4992, 3364,   3375.8,   2.4590,  34.8886,2,  34.8892,2,    220.4,2,    44.47,2,    21.50,2, -999.000,9, -999.000,9, -999.000,9, -999.000,9, -999.000,9,-999.0000,9,  -999.00,9,-999.000,   -999.0,9,   -999.0,9,   3374,-999.0000,-999.000,-999.000,9,  2.1810,-999.000