BOTTLE,20220817CCHSIOAMB
EXPOCODE,SECT_ID,STNNBR,CASTNO,SAMPNO,BTLNBR,BTLNBR_FLAG_W,DATE,TIME,LATITUDE,LONGITUDE,DEPTH,CTDPRS,CTDTMP,CTDSAL,CTDSAL_FLAG_W,SALNTY,SALNTY_FLAG_W,OXYGEN,OXYGEN_FLAG_W,SILCAT,SILCAT_FLAG_W,NO2+NO3,NO2+NO3_FLAG_W,CFC-11,CFC-11_FLAG_W,CFC-12,CFC-12_FLAG_W,CFC113,CFC113_FLAG_W,CCL4,CCL4_FLAG_W,TRITUM,TRITUM_FLAG_W,HELIUM,HELIUM_FLAG_W,DELHE3,DELHE3_FLAG_W,NEON,TCARBN,TCARBN_FLAG_W,PCO2,PCO2_FLAG_W,CTDRAW,HELIER,DELHER,NEONER,NEON_FLAG_W,THETA,TRITER
,,,,,,,,,,,,DBAR,ITS-90,PSS-78,,PSS-78,,UMOL/KG,,UMOL/KG,,UMOL/KG,,PMOL/KG,,PMOL/KG,,PMOL/KG,,PMOL/KG,,TU,,NMOL/KG,,PERCNT,,NMOL/KG,UMOL/KG,,UATM,,,NMOL/KG,PERCNT,NMOL/KG,,ITS-90,TU
      06MT28_1,   A08,   188,  2,   1064,    324,2,19940407,0953,-11.3343, -29.9978, 5383,     14.0,  28.3104,  36.9157,2,  36.9146,2,    194.1,2,     0.96,3,     0.00,3,    1.486,2,    0.874,2,    0.064,4,    1.680,2, -999.000,9,-999.0000,9,  -999.00,9,-999.000,   2045.0,2,   -999.0,9,     10,-999.0000,-999.000,-999.000,9, 28.3071,-999.000
      06MT28_1,   A08,   188,  2,   1111,    323,2,19940407,0953,-11.3343, -29.9978, 5383,    919.8,   4.0596,  34.4676,2,-999.0000,9,    166.2,2,    33.76,2,    32.05,2,    0.062,2,    0.037,2,    0.012,2,    0.276,2,    0.032,2,-999.0000,9,  -999.00,9,-999.000,   2214.3,2,   1126.9,2,    924,-999.0000,-999.000,-999.000,9,  3.9902,   0.016
      06MT28_1,   A08,   188,  2,   1108,    322,2,19940407,0953,-11.3343, -29.9978, 5383,   1095.9,   3.9070,  34.6088,2,  34.6096,2,    169.0,2,    33.45,2,    30.02,2,    0.076,4,    0.058,4,    0.016,2,    0.091,2,    0.014,2,-999.0000,9,  -999.00,9,-999.000,   2215.8,2,   1056.9,2,   1100,-999.0000,-999.000,-999.000,9,  3.8239,   0.003
      06MT28_1,   A08,   188,  2,   1107,    321,2,19940407,0953,-11.3343, -29.9978, 5383,   1296.2,   4.0918,  34.8047,2,-999.0000,9,    184.7,2,    25.99,2,    25.80,2,    0.014,2,    0.007,2,    0.007,2,    0.066,2,    0.033,2,-999.0000,9,  -999.00,9,-999.000,   2195.1,2,    953.9,2,   1299,-999.0000,-999.000,-999.000,9,  3.9894,   0.003
      06MT28_1,   A08,   188,  2,   1106,    320,2,19940407,0953,-11.3343, -29.9978, 5383,   1496.7,   4.0029,  34.9132,2,-999.0000,9,    231.8,2,    21.11,2,    21.87,2,    0.018,2,    0.012,2,    0.006,2,    0.139,2,    0.324,2,   1.8560,3,     2.26,3,   7.818,   2179.0,2,    824.4,2,   1500,  0.0160,   0.250,   0.065,3,  3.8831,   0.387
      06MT28_1,   A08,   188,  2,   1105,    319,2,19940407,0953,-11.3343, -29.9978, 5383,   1698.0,   3.7628,  34.9569,2,-999.0000,9,    232.7,2,    19.00,2,    19.48,2,    0.032,2,    0.020,2,    0.003,2,    0.241,2,    3.815,4,   1.8110,2,     2.32,2,   7.813,   2168.0,2,    769.5,2,   1700,  0.0070,   0.250,   0.026,2,  3.6274,   0.148
      06MT28_1,   A08,   188,  2,   1104,    318,2,19940407,0953,-11.3343, -29.9978, 5383,   1897.5,   3.5226,  34.9660,2,-999.0000,9,    242.1,2,    18.98,2,    18.42,2,    0.042,2,    0.027,2,    0.005,2,    0.297,2,    0.108,2,   1.7990,3,     2.23,3,   7.842,   2165.6,2,    750.8,2,   1899,  0.0160,   0.240,   0.064,3,  3.3718,   0.005
      06MT28_1,   A08,   188,  2,   1103,    317,2,19940407,0953,-11.3343, -29.9978, 5383,   2098.8,   3.2705,  34.9500,2,  34.9511,2,    240.8,2,    22.57,2,    18.78,2,    0.024,2,    0.017,2,    0.003,2,    0.194,2,    0.067,2,   1.8130,2,     2.67,2,   7.872,   2167.1,2,    753.9,2,   2100,  0.0070,   0.250,   0.026,2,  3.1046,   0.008
      06MT28_1,   A08,   188,  2,   1102,    316,2,19940407,0953,-11.3343, -29.9978, 5383,   2349.7,   2.9949,  34.9283,2,-999.0000,9,    237.5,2,    28.04,2,    19.52,2,    0.018,2,    0.012,2,    0.005,2,    0.099,2, -999.000,9,-999.0000,9,  -999.00,9,-999.000,   2173.8,2,    754.5,2,   2350,-999.0000,-999.000,-999.000,9,  2.8097,-999.000
      06MT28_1,   A08,   188,  2,   1101,    315,2,19940407,0953,-11.3343, -29.9978, 5383,   2600.8,   2.8397,  34.9181,2,-999.0000,9,    236.3,2,    31.23,2,    19.78,2,    0.021,2,    0.010,2,    0.007,2,    0.077,2,    0.038,2,   1.8180,2,     3.00,2,   7.937,   2178.5,2,    753.9,2,   2600,  0.0070,   0.250,   0.026,2,  2.6329,   0.054
      06MT28_1,   A08,   188,  2,   1100,    314,2,19940407,0953,-11.3343, -29.9978, 5383,   2851.1,   2.7689,  34.9206,2,-999.0000,9,    239.1,2,    30.44,2,    19.38,2,    0.015,2,    0.012,2,    0.006,2,    0.100,2, -999.000,9,-999.0000,9,  -999.00,9,-999.000,   2177.0,2,    763.7,2,   2849,-999.0000,-999.000,-999.000,9,  2.5385,-999.000
      06MT28_1,   A08,   188,  2,   1099,    313,2,19940407,0953,-11.3343, -29.9978, 5383,   3101.6,   2.6792,  34.9162,2,  34.9195,2,    234.3,2,    31.07,2,    19.26,2,    0.015,2,    0.014,2,    0.005,2,    0.111,2, -999.000,9,-999.0000,9,  -999.00,9,-999.000,   2176.4,2,    759.3,2,   3099,-999.0000,-999.000,-999.000,9,  2.4249,-999.000
      06MT28_1,   A08,   188,  2,   1098,    312,2,19940407,0953,-11.3343, -29.9978, 5383,   3353.1,   2.5906,  34.9134,2,-999.0000,9,    241.2,2,    31.60,2,    19.15,2,    0.023,2,    0.016,2,    0.005,2,    0.144,2, -999.000,9,-999.0000,9,  -999.00,9,-999.000,   2175.8,2,    758.0,2,   3349,-999.0000,-999.000,-999.000,9,  2.3118,-999.000
      06MT28_1,   A08,   188,  2,   1096,    311,2,19940407,0953,-11.3343, -29.9978, 5383,   3604.6,   2.4234,  34.8994,2,-999.0000,9,    242.0,2,    35.24,2,    19.32,2,    0.020,2,    0.014,2,    0.011,2,    0.138,2,    0.044,2,   1.8160,2,     3.32,2,   7.920,   2178.5,2,    762.4,6,   3600,  0.0070,   0.250,   0.026,2,  2.1215,   0.029
      06MT28_1,   A08,   188,  2,   1095,    310,2,19940407,0953,-11.3343, -29.9978, 5383,   3855.3,   2.0692,  34.8627,2,-999.0000,9,    235.4,2,    48.47,2,    21.08,2,    0.009,2,    0.005,2,    0.005,2,    0.101,2, -999.000,9,-999.0000,9,  -999.00,9,-999.000,   2192.8,2,    797.4,2,   3850,-999.0000,-999.000,-999.000,9,  1.7493,-999.000
      06MT28_1,   A08,   188,  2,   1094,    309,2,19940407,0953,-11.3343, -29.9978, 5383,   4103.8,   1.5768,  34.8077,2,  34.8094,2,    225.5,2,    69.67,2,    24.07,2,    0.013,2,    0.004,2,    0.009,2,    0.052,2,    0.021,2,   0.0000,4,  -999.00,5,   0.000,   2215.2,2,    856.6,2,   4098,  0.0000,   0.250,   0.000,4,  1.2436,   0.013
      06MT28_1,   A08,   188,  2,   1082,    308,2,19940407,0953,-11.3343, -29.9978, 5383,   4355.1,   1.1849,  34.7649,2,-999.0000,9,    218.3,2,    85.85,2,    26.30,2,    0.007,2,    0.004,2,    0.001,2,    0.048,2, -999.000,9,-999.0000,9,  -999.00,9,-999.000,   2232.2,2,    930.6,2,   4349,-999.0000,-999.000,-999.000,9,  0.8355,-999.000
      06MT28_1,   A08,   188,  2,   1157,    307,2,19940407,0953,-11.3343, -29.9978, 5383,   4605.9,   0.9194,  34.7346,2,-999.0000,9,    207.9,2,    96.26,2,    27.68,2,    0.015,2,    0.006,2,    0.002,2,    0.073,2,    0.020,2,   1.8700,2,     6.39,2,   8.152,   2243.4,2,    981.1,2,   4600,  0.0070,   0.250,   0.027,2,  0.5502,   0.007
      06MT28_1,   A08,   188,  2,   1156,    306,2,19940407,0953,-11.3343, -29.9978, 5383,   4856.3,   0.7872,  34.7200,2,-999.0000,9,    210.7,2,   101.88,2,    28.40,2,    0.012,2,    0.006,2,    0.000,2,    0.070,2, -999.000,9,-999.0000,9,  -999.00,9,-999.000,   2249.2,2,    986.1,2,   4850,-999.0000,-999.000,-999.000,9,  0.3937,-999.000
      06MT28_1,   A08,   188,  2,   1155,    305,2,19940407,0953,-11.3343, -29.9978, 5383,   5106.6,   0.6862,  34.7074,2,  34.7084,2,    207.9,2,   106.27,2,    28.93,2,    0.022,2,    0.014,2,    0.004,2,    0.112,2, -999.000,9,-999.0000,9,  -999.00,9,-999.000,   2254.0,2,   1030.1,2,   5100,-999.0000,-999.000,-999.000,9,  0.2670,-999.000
      06MT28_1,   A08,   188,  2,   1154,    304,2,19940407,0953,-11.3343, -29.9978, 5383,   5390.9,   0.5858,  34.6931,2,-999.0000,9,    207.0,2,   110.97,2,    29.60,2,    0.041,2,    0.023,2,    0.004,2,    0.177,2, -999.000,9,-999.0000,9,  -999.00,9,-999.000,   2256.9,2,   1052.9,2,   5384,-999.0000,-999.000,-999.000,9,  0.1361,-999.000
      06MT28_1,   A08,   188,  2,   1153,    303,2,19940407,0953,-11.3343, -29.9978, 5383,   5460.1,   0.5701,  34.6909,2,-999.0000,9,    206.5,2,   111.59,2,    29.64,2,    0.044,2,    0.024,2,    0.001,2,    0.179,2, -999.000,9,-999.0000,9,  -999.00,9,-999.000,   2257.7,2,   1061.1,2,   5453,-999.0000,-999.000,-999.000,9,  0.1125,-999.000
      06MT28_1,   A08,   188,  2,   1152,    301,2,19940407,0953,-11.3343, -29.9978, 5383,   5490.0,   0.5584,  34.6896,2,  34.6903,2,    206.4,2,   112.32,2,    29.73,2,    0.060,2,    0.038,2,    0.034,2,    0.194,2, -999.000,9,-999.0000,9,  -999.00,9,-999.000,   2261.1,2,   1062.7,6,   5483,-999.0000,-999.000,-999.000,9,  0.0976,-999.000
      06MT28_1,   A08,   188,  2,   1151,    302,2,19940407,0953,-11.3343, -29.9978, 5383,   5490.3,   0.5583,  34.6896,2,  34.6904,2,    206.2,2,   112.32,2,    29.68,2,    0.072,2,    0.041,2,    0.008,2,    0.199,2,    0.022,2,-999.0000,9,  -999.00,9,-999.000,   2259.5,2,   1062.1,2,   5484,-999.0000,-999.000,-999.000,9,  0.0975,   0.004
      06MT28_1,   A08,   189,  1,   1149,    222,2,19940407,1706,-11.3317, -29.3330, 5429,     10.6,  28.2832,  36.9548,2,-999.0000,9,   -999.0,9,  -999.00,9,  -999.00,5, -999.000,9, -999.000,9, -999.000,9, -999.000,9, -999.000,9,-999.0000,9,  -999.00,9,-999.000,   -999.0,9,   -999.0,9,     10,-999.0000,-999.000,-999.000,9, 28.2807,-999.000
      06MT28_1,   A08,   189,  1,   1148,    221,2,19940407,1706,-11.3317, -29.3330, 5429,     31.4,  28.2338,  36.9589,2,-999.0000,9,    193.7,2,     0.77,2,     0.00,4, -999.000,9, -999.000,9, -999.000,9, -999.000,9, -999.000,9,-999.0000,9,  -999.00,9,-999.000,   -999.0,9,   -999.0,9,     31,-999.0000,-999.000,-999.000,9, 28.2264,-999.000
      06MT28_1,   A08,   189,  1,   1147,    220,2,19940407,1706,-11.3317, -29.3330, 5429,     50.8,  28.0899,  36.9650,2,-999.0000,9,    193.6,2,     0.77,2,     0.00,4, -999.000,9, -999.000,9, -999.000,9, -999.000,9, -999.000,9,-999.0000,9,  -999.00,9,-999.000,   -999.0,9,   -999.0,9,     50,-999.0000,-999.000,-999.000,9, 28.0779,-999.000
      06MT28_1,   A08,   189,  1,   1146,    219,2,19940407,1706,-11.3317, -29.3330, 5429,     69.2,  26.5797,  36.9864,2,-999.0000,9,    208.9,2,     1.15,2,     0.00,4, -999.000,9, -999.000,9, -999.000,9, -999.000,9, -999.000,9,-999.0000,9,  -999.00,9,-999.000,   -999.0,9,   -999.0,9,     69,-999.0000,-999.000,-999.000,9, 26.5639,-999.000
      06MT28_1,   A08,   189,  1,   1145,    218,2,19940407,1706,-11.3317, -29.3330, 5429,    102.4,  24.6919,  37.0099,2,-999.0000,9,    211.1,2,     0.86,2,     0.00,4, -999.000,9, -999.000,9, -999.000,9, -999.000,9, -999.000,9,-999.0000,9,  -999.00,9,-999.000,   -999.0,9,   -999.0,9,    102,-999.0000,-999.000,-999.000,9, 24.6698,-999.000
      06MT28_1,   A08,   189,  1,   1144,    217,2,19940407,1706,-11.3317, -29.3330, 5429,    151.0,  21.1402,  36.4688,2,-999.0000,9,    198.2,2,     1.05,2,     0.19,2, -999.000,9, -999.000,9, -999.000,9, -999.000,9, -999.000,9,-999.0000,9,  -999.00,9,-999.000,   -999.0,9,   -999.0,9,    151,-999.0000,-999.000,-999.000,9, 21.1110,-999.000
      06MT28_1,   A08,   189,  1,   1143,    216,2,19940407,1706,-11.3317, -29.3330, 5429,    200.5,  16.0848,  35.7028,2,-999.0000,9,    148.8,2,     3.83,2,    11.69,2, -999.000,9, -999.000,9, -999.000,9, -999.000,9, -999.000,9,-999.0000,9,  -999.00,9,-999.000,   -999.0,9,   -999.0,9,    200,-999.0000,-999.000,-999.000,9, 16.0527,-999.000
      06MT28_1,   A08,   189,  1,   1142,    215,2,19940407,1706,-11.3317, -29.3330, 5429,    293.7,  11.4079,  35.0598,2,-999.0000,9,    107.7,2,     9.19,2,    23.45,2, -999.000,9, -999.000,9, -999.000,9, -999.000,9, -999.000,9,-999.0000,9,  -999.00,9,-999.000,   -999.0,9,   -999.0,9,    294,-999.0000,-999.000,-999.000,9, 11.3706,-999.000
      06MT28_1,   A08,   189,  1,   1140,    213,2,19940407,1706,-11.3317, -29.3330, 5429,    398.5,   8.2399,  34.7094,2,-999.0000,9,    152.1,2,    15.58,2,    24.85,2, -999.000,9, -999.000,9, -999.000,9, -999.000,9, -999.000,9,-999.0000,9,  -999.00,9,-999.000,   -999.0,9,   -999.0,9,    399,-999.0000,-999.000,-999.000,9,  8.1985,-999.000
      06MT28_1,   A08,   189,  1,   1141,    214,2,19940407,1706,-11.3317, -29.3330, 5429,    398.5,   8.2399,  34.7094,2,-999.0000,9,    126.4,2,    14.82,2,    28.40,2, -999.000,9, -999.000,9, -999.000,9, -999.000,9, -999.000,9,-999.0000,9,  -999.00,9,-999.000,   -999.0,9,   -999.0,9,    399,-999.0000,-999.000,-999.000,9,  8.1984,-999.000
      06MT28_1,   A08,   189,  1,   1139,    212,2,19940407,1706,-11.3317, -29.3330, 5429,    598.4,   5.5396,  34.4727,2,-999.0000,9,    150.1,2,    23.40,2,    31.71,2, -999.000,9, -999.000,9, -999.000,9, -999.000,9, -999.000,9,-999.0000,9,  -999.00,9,-999.000,   -999.0,9,   -999.0,9,    599,-999.0000,-999.000,-999.000,9,  5.4891,-999.000
      06MT28_1,   A08,   189,  1,   1138,    211,2,19940407,1706,-11.3317, -29.3330, 5429,    698.8,   4.9236,  34.4461,2,-999.0000,9,    156.4,2,    26.97,2,    32.27,2, -999.000,9, -999.000,9, -999.000,9, -999.000,9, -999.000,9,-999.0000,9,  -999.00,9,-999.000,   -999.0,9,   -999.0,9,    700,-999.0000,-999.000,-999.000,9,  4.8674,-999.000
      06MT28_1,   A08,   189,  1,   1137,    210,2,19940407,1706,-11.3317, -29.3330, 5429,    843.3,   4.2455,  34.4438,2,-999.0000,9,    163.5,2,    32.25,2,    32.34,2, -999.000,9, -999.000,9, -999.000,9, -999.000,9, -999.000,9,-999.0000,9,  -999.00,9,-999.000,   -999.0,9,   -999.0,9,    844,-999.0000,-999.000,-999.000,9,  4.1812,-999.000
      06MT28_1,   A08,   189,  1,   1119,    209,2,19940407,1706,-11.3317, -29.3330, 5429,    999.1,   3.9329,  34.5261,2,-999.0000,9,   -999.0,9,  -999.00,9,  -999.00,9, -999.000,9, -999.000,9, -999.000,9, -999.000,9, -999.000,9,-999.0000,9,  -999.00,9,-999.000,   -999.0,9,   -999.0,9,   1001,-999.0000,-999.000,-999.000,9,  3.8577,-999.000