BOTTLE,20220817CCHSIOAMB
EXPOCODE,SECT_ID,STNNBR,CASTNO,SAMPNO,BTLNBR,BTLNBR_FLAG_W,DATE,TIME,LATITUDE,LONGITUDE,DEPTH,CTDPRS,CTDTMP,CTDSAL,CTDSAL_FLAG_W,SALNTY,SALNTY_FLAG_W,OXYGEN,OXYGEN_FLAG_W,SILCAT,SILCAT_FLAG_W,NO2+NO3,NO2+NO3_FLAG_W,CFC-11,CFC-11_FLAG_W,CFC-12,CFC-12_FLAG_W,CFC113,CFC113_FLAG_W,CCL4,CCL4_FLAG_W,TRITUM,TRITUM_FLAG_W,HELIUM,HELIUM_FLAG_W,DELHE3,DELHE3_FLAG_W,NEON,TCARBN,TCARBN_FLAG_W,PCO2,PCO2_FLAG_W,CTDRAW,HELIER,DELHER,NEONER,NEON_FLAG_W,THETA,TRITER
,,,,,,,,,,,,DBAR,ITS-90,PSS-78,,PSS-78,,UMOL/KG,,UMOL/KG,,UMOL/KG,,PMOL/KG,,PMOL/KG,,PMOL/KG,,PMOL/KG,,TU,,NMOL/KG,,PERCNT,,NMOL/KG,UMOL/KG,,UATM,,,NMOL/KG,PERCNT,NMOL/KG,,ITS-90,TU
      06MT28_1,   A08,   230,  2,   3264,    324,2,19940421,0638,-11.3333,  -8.0003, 4552,     13.0,  25.9737,  36.7320,2,  36.7327,2,    195.2,2,     0.96,3,     0.00,3, -999.000,9, -999.000,9, -999.000,9, -999.000,9, -999.000,9,-999.0000,9,  -999.00,9,-999.000,   -999.0,9,   -999.0,9,     10,-999.0000,-999.000,-999.000,9, 25.9707,-999.000
      06MT28_1,   A08,   230,  2,   3312,    323,2,19940421,0638,-11.3333,  -8.0003, 4552,    647.2,   5.8544,  34.5268,2,-999.0000,9,    111.6,2,    23.21,2,    34.29,2, -999.000,9, -999.000,9, -999.000,9, -999.000,9, -999.000,9,-999.0000,9,  -999.00,9,-999.000,   -999.0,9,   -999.0,9,    650,-999.0000,-999.000,-999.000,9,  5.7979,-999.000
      06MT28_1,   A08,   230,  2,   3310,    322,2,19940421,0638,-11.3333,  -8.0003, 4552,    746.0,   5.1000,  34.4885,2,-999.0000,9,    122.6,2,    27.11,2,    34.56,2,    0.021,2,    0.015,2,    0.008,2,    0.140,2,    0.038,2,   1.7880,6,     1.32,6,   7.721,   -999.0,9,   -999.0,9,    749,  0.0070,   0.250,   0.025,6,  5.0387,   0.020
      06MT28_1,   A08,   230,  2,   3309,    321,2,19940421,0638,-11.3333,  -8.0003, 4552,    820.5,   4.6849,  34.4829,2,-999.0000,9,    133.2,2,    29.29,2,    33.87,2,    0.012,2,    0.009,2,    0.007,2,    0.120,2,    0.069,2,   1.8060,2,     2.62,2,   7.800,   -999.0,9,   -999.0,9,    824,  0.0070,   0.250,   0.026,2,  4.6197,   0.137
      06MT28_1,   A08,   230,  2,   3308,    320,2,19940421,0638,-11.3333,  -8.0003, 4552,    920.1,   4.2577,  34.5124,2,-999.0000,9,    143.6,2,    32.14,2,    33.09,2,    0.004,2,    0.002,2,    0.002,2,    0.019,2,    0.049,2,-999.0000,9,  -999.00,9,-999.000,   -999.0,9,   -999.0,9,    924,-999.0000,-999.000,-999.000,9,  4.1868,   0.160
      06MT28_1,   A08,   230,  2,   3306,    319,2,19940421,0638,-11.3333,  -8.0003, 4552,   1096.2,   3.9566,  34.6532,2,  34.6549,2,    159.9,2,    31.92,2,    30.01,2,    0.007,2,    0.007,2,    0.002,2,    0.062,2,    0.976,4,   1.8100,2,     2.25,2,   7.807,   -999.0,9,   -999.0,9,   1100,  0.0070,   0.250,   0.026,2,  3.8730,   0.677
      06MT28_1,   A08,   230,  2,   3305,    318,2,19940421,0638,-11.3333,  -8.0003, 4552,   1296.7,   3.9085,  34.7868,2,-999.0000,9,    180.0,2,    27.70,2,    26.46,2,    0.009,2,    0.007,2,    0.002,2,    0.019,2,    0.009,2,   1.8070,2,     1.51,2,   7.847,   -999.0,9,   -999.0,9,   1300,  0.0070,   0.240,   0.025,2,  3.8078,   0.003
      06MT28_1,   A08,   230,  2,   3304,    317,2,19940421,0638,-11.3333,  -8.0003, 4552,   1496.8,   3.7902,  34.8820,2,-999.0000,9,    199.5,2,    24.63,2,    23.30,2,    0.007,2,    0.004,2,    0.000,2,    0.034,2, -999.000,9,   1.8110,2,     2.73,2,   7.859,   -999.0,9,   -999.0,9,   1500,  0.0070,   0.250,   0.026,2,  3.6729,-999.000
      06MT28_1,   A08,   230,  2,   3303,    316,2,19940421,0638,-11.3333,  -8.0003, 4552,   1698.3,   3.6368,  34.9130,2,-999.0000,9,    209.9,2,    24.13,2,    21.95,2,    0.003,2,    0.005,2,   -0.003,2,    0.036,2,    0.676,4,   1.7990,2,     2.35,2,   7.815,   -999.0,9,   -999.0,9,   1701,  0.0070,   0.240,   0.025,2,  3.5031,   0.691
      06MT28_1,   A08,   230,  2,   3302,    315,2,19940421,0638,-11.3333,  -8.0003, 4552,   1898.7,   3.3952,  34.9233,2,-999.0000,9,    216.6,2,    26.20,2,    21.26,2,    0.003,2,    0.003,2,    0.002,2,    0.029,2, -999.000,9,   1.8030,2,     3.22,2,   7.802,   -999.0,9,   -999.0,9,   1901,  0.0070,   0.250,   0.026,2,  3.2463,-999.000
      06MT28_1,   A08,   230,  2,   3301,    314,2,19940421,0638,-11.3333,  -8.0003, 4552,   2097.9,   3.2031,  34.9237,2,  34.9243,2,    220.2,2,    28.64,2,    20.96,2,    0.002,2,    0.002,2,    0.007,2,    0.021,2,    0.009,2,   1.8520,2,     3.37,2,   8.031,   -999.0,9,   -999.0,9,   2099,  0.0070,   0.240,   0.026,2,  3.0384,   0.003
      06MT28_1,   A08,   230,  2,   3300,    313,2,19940421,0638,-11.3333,  -8.0003, 4552,   2349.4,   2.9941,  34.9171,2,-999.0000,9,    221.2,2,    32.40,2,    21.03,2,    0.002,2,   -0.001,2,    0.006,2,    0.013,2, -999.000,9,   1.8220,2,     3.67,2,   7.922,   -999.0,9,   -999.0,9,   2350,  0.0070,   0.250,   0.026,2,  2.8090,-999.000
      06MT28_1,   A08,   230,  2,   3297,    312,2,19940421,0638,-11.3333,  -8.0003, 4552,   2600.3,   2.8072,  34.9094,2,-999.0000,9,    221.7,2,    35.96,2,    21.10,2,    0.001,2,    0.002,2,    0.007,2,    0.011,2,    0.046,2,   1.8430,2,     3.70,2,   8.014,   -999.0,9,   -999.0,9,   2600,  0.0070,   0.240,   0.025,2,  2.6011,   0.036
      06MT28_1,   A08,   230,  2,   3287,    311,2,19940421,0638,-11.3333,  -8.0003, 4552,   2851.3,   2.6388,  34.9006,2,-999.0000,9,    221.6,2,    39.23,2,    21.36,2,    0.001,2,    0.004,3,    0.012,2,    0.007,2, -999.000,9,   1.8260,2,     4.06,2,   7.935,   -999.0,9,   -999.0,9,   2850,  0.0070,   0.250,   0.026,2,  2.4111,-999.000
      06MT28_1,   A08,   230,  2,   3357,    310,2,19940421,0638,-11.3333,  -8.0003, 4552,   3101.0,   2.5245,  34.8948,2,  34.8849,3,    220.9,2,    42.11,2,    21.44,2,    0.004,2,   -0.001,2,    0.009,2,    0.008,2,    0.013,2,   1.8400,2,     4.01,2,   7.967,   -999.0,9,   -999.0,9,   3099,  0.0070,   0.240,   0.025,2,  2.2738,   0.007
      06MT28_1,   A08,   230,  2,   3358,    309,2,19940421,0638,-11.3333,  -8.0003, 4552,   3353.0,   2.4456,  34.8909,2,-999.0000,9,    220.9,2,    43.96,2,    21.51,2,    0.005,2,    0.002,2,    0.002,2,    0.009,2, -999.000,9,   1.8320,2,     3.56,2,   7.990,   -999.0,9,   -999.0,9,   3350,  0.0070,   0.250,   0.026,2,  2.1704,-999.000
      06MT28_1,   A08,   230,  2,   3356,    308,2,19940421,0638,-11.3333,  -8.0003, 4552,   3602.4,   2.4035,  34.8887,2,-999.0000,9,    220.8,2,    45.14,2,    21.58,2,    0.005,2,    0.002,2,    0.002,2,    0.010,2,   -1.039,4,   1.8370,2,     4.33,2,   7.996,   -999.0,9,   -999.0,9,   3599,  0.0070,   0.240,   0.025,2,  2.1024,   0.909
      06MT28_1,   A08,   230,  2,   3355,    307,2,19940421,0638,-11.3333,  -8.0003, 4552,   3853.6,   2.3883,  34.8869,2,-999.0000,9,    220.0,2,    45.56,2,    21.46,2,    0.005,2,    0.002,2,    0.013,2,    0.017,2, -999.000,9,   1.8370,2,     3.78,2,   8.008,   -999.0,9,   -999.0,9,   3849,  0.0070,   0.250,   0.026,2,  2.0599,-999.000
      06MT28_1,   A08,   230,  2,   3354,    306,2,19940421,0638,-11.3333,  -8.0003, 4552,   4104.8,   2.4021,  34.8857,2,  34.8851,2,    219.7,2,    45.89,2,    21.44,2,    0.006,2,    0.002,2,    0.011,2,    0.017,2,    0.735,4,   1.8400,2,     3.43,2,   8.009,   -999.0,9,   -999.0,9,   4100,  0.0070,   0.240,   0.025,2,  2.0446,   0.994
      06MT28_1,   A08,   230,  2,   3353,    305,2,19940421,0638,-11.3333,  -8.0003, 4552,   4354.5,   2.4281,  34.8857,2,-999.0000,9,    219.0,2,    46.03,2,    21.42,2,    0.007,2,    0.002,2,    0.008,2,    0.018,2, -999.000,9,   1.7790,4,     3.81,2,   7.696,   -999.0,9,   -999.0,9,   4349,  0.0070,   0.250,   0.025,4,  2.0405,-999.000
      06MT28_1,   A08,   230,  2,   3352,    304,2,19940421,0638,-11.3333,  -8.0003, 4552,   4466.9,   2.4399,  34.8857,2,-999.0000,9,    218.9,2,    45.96,2,    21.50,2,    0.006,2,    0.001,2,    0.008,2,    0.018,2,    0.005,2,   1.7530,4,     4.01,2,   7.643,   -999.0,9,   -999.0,9,   4462,  0.0060,   0.240,   0.024,4,  2.0385,   0.003
      06MT28_1,   A08,   230,  2,   3351,    303,2,19940421,0638,-11.3333,  -8.0003, 4552,   4539.8,   2.4467,  34.8856,2,-999.0000,9,    219.2,2,    45.90,2,    21.54,2,    0.006,2,    0.002,2,    0.010,2,    0.018,2, -999.000,9,   1.8380,6,     3.52,6,   8.003,   -999.0,9,   -999.0,9,   4534,  0.0070,   0.250,   0.026,6,  2.0363,-999.000
      06MT28_1,   A08,   230,  2,   3350,    301,2,19940421,0638,-11.3333,  -8.0003, 4552,   4570.0,   2.4498,  34.8847,2,  34.8863,2,    218.2,2,    46.08,2,    21.45,2,    0.007,2,    0.004,2,    0.002,2,    0.017,2,    0.007,2,   1.8420,6,     3.44,6,   7.982,   -999.0,9,   -999.0,9,   4565,  0.0070,   0.250,   0.026,6,  2.0356,   0.003
      06MT28_1,   A08,   230,  2,   3349,    302,2,19940421,0638,-11.3333,  -8.0003, 4552,   4570.1,   2.4498,  34.8859,2,  34.8843,2,    218.3,2,    46.18,2,    21.40,2,    0.007,2,    0.001,2,    0.010,2,    0.017,2, -999.000,9,-999.0000,9,  -999.00,9,-999.000,   -999.0,9,   -999.0,9,   4565,-999.0000,-999.000,-999.000,9,  2.0356,-999.000
      06MT28_1,   A08,   231,  1,   3348,    220,2,19940421,1243,-11.3338,  -7.5002, 4465,     11.0,  26.1022,  36.7442,2,-999.0000,9,    195.5,2,     0.96,2,     0.00,2, -999.000,9, -999.000,9, -999.000,9, -999.000,9, -999.000,9,-999.0000,9,  -999.00,9,-999.000,   -999.0,9,   -999.0,9,     10,-999.0000,-999.000,-999.000,9, 26.0998,-999.000
      06MT28_1,   A08,   231,  1,   3346,    219,2,19940421,1243,-11.3338,  -7.5002, 4465,     40.5,  26.0221,  36.7433,2,  35.4815,4,     91.6,2,    12.96,2,    25.93,2, -999.000,9, -999.000,9, -999.000,9, -999.000,9, -999.000,9,-999.0000,9,  -999.00,9,-999.000,   -999.0,9,   -999.0,9,     40,-999.0000,-999.000,-999.000,9, 26.0130,-999.000
      06MT28_1,   A08,   231,  1,   3345,    218,2,19940421,1243,-11.3338,  -7.5002, 4465,     60.4,  22.3763,  36.4963,2,  36.4541,4,    220.0,2,     0.96,2,     0.00,2, -999.000,9, -999.000,9, -999.000,9, -999.000,9, -999.000,9,-999.0000,9,  -999.00,9,-999.000,   -999.0,9,   -999.0,9,     60,-999.0000,-999.000,-999.000,9, 22.3641,-999.000
      06MT28_1,   A08,   231,  1,   3344,    217,2,19940421,1243,-11.3338,  -7.5002, 4465,     79.7,  19.9933,  36.2428,2,-999.0000,9,    196.0,2,     1.44,2,     2.68,2, -999.000,9, -999.000,9, -999.000,9, -999.000,9, -999.000,9,-999.0000,9,  -999.00,9,-999.000,   -999.0,9,   -999.0,9,     79,-999.0000,-999.000,-999.000,9, 19.9785,-999.000
      06MT28_1,   A08,   231,  1,   3343,    216,2,19940421,1243,-11.3338,  -7.5002, 4465,    120.1,  15.9936,  35.6890,2,-999.0000,9,    120.8,2,     4.50,2,    15.91,2, -999.000,9, -999.000,9, -999.000,9, -999.000,9, -999.000,9,-999.0000,9,  -999.00,9,-999.000,   -999.0,9,   -999.0,9,    120,-999.0000,-999.000,-999.000,9, 15.9745,-999.000
      06MT28_1,   A08,   231,  1,   3342,    215,2,19940421,1243,-11.3338,  -7.5002, 4465,    180.0,  12.2286,  35.1953,2,-999.0000,9,     62.5,2,     9.48,2,    27.19,2, -999.000,9, -999.000,9, -999.000,9, -999.000,9, -999.000,9,-999.0000,9,  -999.00,9,-999.000,   -999.0,9,   -999.0,9,    180,-999.0000,-999.000,-999.000,9, 12.2048,-999.000
      06MT28_1,   A08,   231,  1,   3341,    214,2,19940421,1243,-11.3338,  -7.5002, 4465,    249.7,  10.5899,  34.9964,2,-999.0000,9,     64.4,2,    11.96,2,    29.77,2, -999.000,9, -999.000,9, -999.000,9, -999.000,9, -999.000,9,-999.0000,9,  -999.00,9,-999.000,   -999.0,9,   -999.0,9,    249,-999.0000,-999.000,-999.000,9, 10.5598,-999.000
      06MT28_1,   A08,   231,  1,   3340,    213,2,19940421,1243,-11.3338,  -7.5002, 4465,    350.2,   9.0915,  34.8284,2,-999.0000,9,   -999.0,9,    15.21,2,    33.67,2, -999.000,9, -999.000,9, -999.000,9, -999.000,9, -999.000,9,-999.0000,9,  -999.00,9,-999.000,   -999.0,9,   -999.0,9,    350,-999.0000,-999.000,-999.000,9,  9.0529,-999.000
      06MT28_1,   A08,   231,  1,   3339,    212,2,19940421,1243,-11.3338,  -7.5002, 4465,    450.2,   7.9438,  34.7149,2,  34.7179,2,   -999.0,9,    18.36,2,    36.81,2, -999.000,9, -999.000,9, -999.000,9, -999.000,9, -999.000,9,-999.0000,9,  -999.00,9,-999.000,   -999.0,9,   -999.0,9,    450,-999.0000,-999.000,-999.000,9,  7.8978,-999.000
      06MT28_1,   A08,   231,  1,   3336,    210,2,19940421,1243,-11.3338,  -7.5002, 4465,    500.4,   7.3569,  34.6606,2,-999.0000,9,   -999.0,9,    19.88,2,    37.37,2, -999.000,9, -999.000,9, -999.000,9, -999.000,9, -999.000,9,-999.0000,9,  -999.00,9,-999.000,   -999.0,9,   -999.0,9,    500,-999.0000,-999.000,-999.000,9,  7.3080,-999.000
      06MT28_1,   A08,   231,  1,   3335,    211,2,19940421,1243,-11.3338,  -7.5002, 4465,    500.4,   7.3569,  34.6606,2,-999.0000,9,   -999.0,9,    19.78,2,    37.28,2, -999.000,9, -999.000,9, -999.000,9, -999.000,9, -999.000,9,-999.0000,9,  -999.00,9,-999.000,   -999.0,9,   -999.0,9,    500,-999.0000,-999.000,-999.000,9,  7.3080,-999.000
      06MT28_1,   A08,   231,  1,   3322,    209,2,19940421,1243,-11.3338,  -7.5002, 4465,    556.8,   6.7086,  34.6043,2,  34.6083,2,     68.2,2,    21.69,2,    37.50,2, -999.000,9, -999.000,9, -999.000,9, -999.000,9, -999.000,9,-999.0000,9,  -999.00,9,-999.000,   -999.0,9,   -999.0,9,    557,-999.0000,-999.000,-999.000,9,  6.6567,-999.000
      06MT28_1,   A08,   231,  1,   3393,    207,2,19940421,1243,-11.3338,  -7.5002, 4465,    650.5,   5.9606,  34.5478,2,-999.0000,9,   -999.0,9,  -999.00,9,  -999.00,9, -999.000,9, -999.000,9, -999.000,9, -999.000,9, -999.000,9,-999.0000,9,  -999.00,9,-999.000,   -999.0,9,   -999.0,9,    651,-999.0000,-999.000,-999.000,9,  5.9032,-999.000
      06MT28_1,   A08,   231,  1,   3392,    208,2,19940421,1243,-11.3338,  -7.5002, 4465,    651.4,   5.9605,  34.5464,2,-999.0000,9,     82.9,2,    24.35,2,    37.53,2, -999.000,9, -999.000,9, -999.000,9, -999.000,9, -999.000,9,-999.0000,9,  -999.00,9,-999.000,   -999.0,9,   -999.0,9,    652,-999.0000,-999.000,-999.000,9,  5.9030,-999.000