BOTTLE,20220817CCHSIOAMB
EXPOCODE,SECT_ID,STNNBR,CASTNO,SAMPNO,BTLNBR,BTLNBR_FLAG_W,DATE,TIME,LATITUDE,LONGITUDE,DEPTH,CTDPRS,CTDTMP,CTDSAL,CTDSAL_FLAG_W,SALNTY,SALNTY_FLAG_W,OXYGEN,OXYGEN_FLAG_W,SILCAT,SILCAT_FLAG_W,NO2+NO3,NO2+NO3_FLAG_W,CFC-11,CFC-11_FLAG_W,CFC-12,CFC-12_FLAG_W,CFC113,CFC113_FLAG_W,CCL4,CCL4_FLAG_W,TRITUM,TRITUM_FLAG_W,HELIUM,HELIUM_FLAG_W,DELHE3,DELHE3_FLAG_W,NEON,TCARBN,TCARBN_FLAG_W,PCO2,PCO2_FLAG_W,CTDRAW,HELIER,DELHER,NEONER,NEON_FLAG_W,THETA,TRITER
,,,,,,,,,,,,DBAR,ITS-90,PSS-78,,PSS-78,,UMOL/KG,,UMOL/KG,,UMOL/KG,,PMOL/KG,,PMOL/KG,,PMOL/KG,,PMOL/KG,,TU,,NMOL/KG,,PERCNT,,NMOL/KG,UMOL/KG,,UATM,,,NMOL/KG,PERCNT,NMOL/KG,,ITS-90,TU
      06MT28_1,   A08,   170,  2,    207,    315,2,19940401,2048,-10.0975, -35.7042,  783,     11.9,  28.8812,  37.0057,2,  37.0051,2,    193.2,2,     0.87,2,     0.00,2,    1.456,2,    0.859,2,    0.143,2,    1.512,2,    0.841,2,-999.0000,9,  -999.00,9,-999.000,   2038.2,2,    403.2,2,     10,-999.0000,-999.000,-999.000,9, 28.8783,   0.021
      06MT28_1,   A08,   170,  2,    208,    314,2,19940401,2048,-10.0975, -35.7042,  783,     31.7,  27.7704,  37.1815,2,-999.0000,9,    196.0,2,     1.15,2,     0.10,2,    1.552,2,    0.911,2,    0.177,4,    1.288,2, -999.000,9,   1.7250,2,    -0.79,2,   6.717,   2058.2,2,    426.1,2,     30,  0.0060,   0.240,   0.021,3, 27.7630,-999.000
      06MT28_1,   A08,   170,  2,    206,    313,2,19940401,2048,-10.0975, -35.7042,  783,     52.6,  26.6976,  37.1779,2,-999.0000,9,    201.5,2,     0.86,2,     0.00,2,    1.628,2,    0.941,2,    0.205,4,    1.048,2,    0.792,2,   1.6910,2,    -1.24,2,   6.650,   2065.0,2,    428.6,2,     51,  0.0060,   0.240,   0.021,2, 26.6856,   0.022
      06MT28_1,   A08,   170,  2,    205,    312,2,19940401,2048,-10.0975, -35.7042,  783,     71.0,  25.9803,  37.1686,2,-999.0000,9,    201.7,2,     0.77,2,     0.00,2,    1.653,2,    0.941,2,    0.216,4,    1.008,2,    0.850,2,   1.6850,2,    -1.23,2,   6.677,   2070.8,2,    440.3,2,     69,  0.0060,   0.240,   0.021,2, 25.9643,   0.021
      06MT28_1,   A08,   170,  2,    204,    311,2,19940401,2048,-10.0975, -35.7042,  783,    100.6,  23.8785,  36.9707,2,-999.0000,9,    196.4,2,     0.86,2,     0.29,2,    1.785,2,    1.014,2,    0.191,2,    0.929,2,    0.844,2,   1.7440,2,    -1.49,2,   6.934,   2087.9,2,    486.9,2,     99,  0.0060,   0.240,   0.022,3, 23.8573,   0.024
      06MT28_1,   A08,   170,  2,    203,    310,2,19940401,2048,-10.0975, -35.7042,  783,    150.4,  20.5387,  36.4134,2,-999.0000,9,    187.9,2,     1.25,2,     1.73,2,    1.956,2,    1.067,2,    0.145,2,    0.749,2,    0.888,2,   1.7530,3,    -0.69,3,   7.058,   2095.8,2,    570.3,2,    150,  0.0150,   0.240,   0.058,3, 20.5102,   0.024
      06MT28_1,   A08,   170,  2,    202,    309,2,19940401,2048,-10.0975, -35.7042,  783,    200.1,  16.2552,  35.6705,2,-999.0000,9,    189.7,2,     2.59,2,     5.84,2, -999.000,9, -999.000,9, -999.000,9, -999.000,9,    0.871,2,   1.7670,2,    -0.16,2,   7.220,   2096.1,2,    688.0,2,    201,  0.0070,   0.250,   0.024,3, 16.2231,   0.022
      06MT28_1,   A08,   170,  2,    201,    308,2,19940401,2048,-10.0975, -35.7042,  783,    298.2,  14.1170,  35.3384,2,-999.0000,9,    191.8,2,     3.64,2,     9.19,2,    1.979,2,    1.033,2,    0.031,2,    0.482,2,    0.802,2,   1.7520,2,     0.57,2,   7.285,   2104.8,2,    772.1,2,    299,  0.0070,   0.250,   0.024,2, 14.0734,   0.020
      06MT28_1,   A08,   170,  2,    200,    307,2,19940401,2048,-10.0975, -35.7042,  783,    397.9,  11.4713,  35.0002,2,-999.0000,9,    184.0,2,     6.31,2,    15.40,2,    1.599,2,    0.825,2,    0.027,2,    0.617,2,    0.569,2,   1.7630,2,     1.24,2,   7.469,   2127.1,2,    941.8,2,    399,  0.0070,   0.250,   0.025,3, 11.4204,   0.016
      06MT28_1,   A08,   170,  2,    199,    306,2,19940401,2048,-10.0975, -35.7042,  783,    498.2,   8.9163,  34.7208,2,-999.0000,9,    173.5,2,    11.09,2,    22.08,2,    1.111,2,    0.575,2,    0.025,2,    0.822,2,    0.325,2,   1.5820,4,  -999.00,5,   6.835,   2155.0,2,   -999.0,9,    500,  0.0060,   0.250,   0.023,4,  8.8617,   0.010
      06MT28_1,   A08,   170,  2,    198,    305,2,19940401,2048,-10.0975, -35.7042,  783,    597.3,   6.0153,  34.4588,2,-999.0000,9,    185.4,2,    19.01,2,    27.32,2,    0.741,2,    0.383,2,    0.021,2,    1.113,2,    0.159,2,   1.7570,2,     1.73,2,   7.630,   2175.4,2,   1379.8,2,    600,  0.0070,   0.250,   0.025,2,  5.9627,   0.007
      06MT28_1,   A08,   170,  2,    197,    304,2,19940401,2048,-10.0975, -35.7042,  783,    656.9,   5.4136,  34.4162,2,-999.0000,9,    187.2,2,    21.49,2,    28.65,2,    0.640,2,    0.329,2,    0.018,2,    1.141,2, -999.000,9,   1.7300,3,     1.66,2,   7.570,   2180.1,2,   1414.2,2,    660,  0.0070,   0.250,   0.025,3,  5.3585,-999.000
      06MT28_1,   A08,   170,  2,    196,    303,2,19940401,2048,-10.0975, -35.7042,  783,    728.5,   5.0985,  34.4031,2,  34.4052,2,    186.8,2,    23.49,2,    29.12,2,    0.564,2,    0.293,2,    0.014,2,    1.078,2, -999.000,9,   1.7640,3,     1.61,2,   7.572,   -999.0,9,   -999.0,9,    732,  0.0070,   0.250,   0.025,3,  5.0388,-999.000
      06MT28_1,   A08,   170,  2,    195,    302,2,19940401,2048,-10.0975, -35.7042,  783,    757.9,   5.0953,  34.4032,2,  34.4061,2,    187.1,2,    23.58,2,    29.02,2,    0.561,2,    0.297,2,    0.016,2,    1.072,2,    0.112,2,   1.7690,2,     1.88,2,   7.651,   -999.0,9,   -999.0,9,    761,  0.0070,   0.250,   0.025,2,  5.0331,   0.020
      06MT28_1,   A08,   170,  2,    194,    301,2,19940401,2048,-10.0975, -35.7042,  783,    758.1,   5.0992,  34.4014,2,-999.0000,9,   -999.0,9,  -999.00,9,  -999.00,9, -999.000,9, -999.000,9, -999.000,9, -999.000,9, -999.000,9,-999.0000,9,  -999.00,9,-999.000,   -999.0,9,   -999.0,9,    762,-999.0000,-999.000,-999.000,9,  5.0369,-999.000
      06MT28_1,   A08,   171,  4,    193,    323,2,19940402,0249,-10.1642, -35.6103, 2177,     14.3,  28.9167,  37.0747,2,-999.0000,9,   -999.0,9,  -999.00,9,  -999.00,9, -999.000,9, -999.000,9, -999.000,9, -999.000,9, -999.000,9,-999.0000,9,  -999.00,9,-999.000,   -999.0,9,   -999.0,9,     11,-999.0000,-999.000,-999.000,9, 28.9133,-999.000
      06MT28_1,   A08,   171,  4,    192,    321,2,19940402,0249,-10.1642, -35.6103, 2177,     44.9,  28.4435,  37.2499,2,-999.0000,9,   -999.0,9,  -999.00,9,  -999.00,9, -999.000,9, -999.000,9, -999.000,9, -999.000,9, -999.000,9,-999.0000,9,  -999.00,9,-999.000,   -999.0,9,   -999.0,9,     42,-999.0000,-999.000,-999.000,9, 28.4327,-999.000
      06MT28_1,   A08,   171,  4,    191,    322,2,19940402,0249,-10.1642, -35.6103, 2177,     45.0,  28.4435,  37.2498,2,-999.0000,9,   -999.0,9,  -999.00,9,  -999.00,9, -999.000,9, -999.000,9, -999.000,9, -999.000,9, -999.000,9,-999.0000,9,  -999.00,9,-999.000,   -999.0,9,   -999.0,9,     42,-999.0000,-999.000,-999.000,9, 28.4327,-999.000
      06MT28_1,   A08,   171,  4,    190,    320,2,19940402,0249,-10.1642, -35.6103, 2177,     61.1,  26.7112,  37.1734,2,-999.0000,9,   -999.0,9,  -999.00,9,  -999.00,9, -999.000,9, -999.000,9, -999.000,9, -999.000,9, -999.000,9,-999.0000,9,  -999.00,9,-999.000,   -999.0,9,   -999.0,9,     58,-999.0000,-999.000,-999.000,9, 26.6972,-999.000
      06MT28_1,   A08,   171,  4,    189,    319,2,19940402,0249,-10.1642, -35.6103, 2177,     81.9,  25.8668,  37.2129,2,-999.0000,9,   -999.0,9,  -999.00,9,  -999.00,9, -999.000,9, -999.000,9, -999.000,9, -999.000,9, -999.000,9,-999.0000,9,  -999.00,9,-999.000,   -999.0,9,   -999.0,9,     79,-999.0000,-999.000,-999.000,9, 25.8485,-999.000
      06MT28_1,   A08,   171,  4,    187,    317,2,19940402,0249,-10.1642, -35.6103, 2177,    181.1,  18.6919,  36.1019,2,-999.0000,9,    183.3,2,     1.72,2,     3.45,2, -999.000,9, -999.000,9, -999.000,9, -999.000,9, -999.000,9,-999.0000,9,  -999.00,9,-999.000,   -999.0,9,   -999.0,9,    180,-999.0000,-999.000,-999.000,9, 18.6598,-999.000
      06MT28_1,   A08,   171,  4,    188,    318,2,19940402,0249,-10.1642, -35.6103, 2177,    181.2,  18.6919,  36.1019,2,-999.0000,9,    183.3,2,     1.72,2,     3.45,2, -999.000,9, -999.000,9, -999.000,9, -999.000,9, -999.000,9,-999.0000,9,  -999.00,9,-999.000,   -999.0,9,   -999.0,9,    180,-999.0000,-999.000,-999.000,9, 18.6598,-999.000
      06MT28_1,   A08,   171,  4,    186,    315,2,19940402,0249,-10.1642, -35.6103, 2177,    349.6,  11.6827,  35.0290,2,-999.0000,9,    171.8,2,     5.93,2,    15.49,2, -999.000,9, -999.000,9, -999.000,9, -999.000,9, -999.000,9,-999.0000,9,  -999.00,9,-999.000,   -999.0,9,   -999.0,9,    351,-999.0000,-999.000,-999.000,9, 11.6376,-999.000
      06MT28_1,   A08,   171,  4,    209,    316,2,19940402,0249,-10.1642, -35.6103, 2177,    349.6,  11.6827,  35.0290,2,-999.0000,9,    171.7,2,     5.93,2,    15.60,2, -999.000,9, -999.000,9, -999.000,9, -999.000,9, -999.000,9,-999.0000,9,  -999.00,9,-999.000,   -999.0,9,   -999.0,9,    351,-999.0000,-999.000,-999.000,9, 11.6376,-999.000
      06MT28_1,   A08,   171,  4,    236,    314,2,19940402,0249,-10.1642, -35.6103, 2177,    449.0,   9.5601,  34.8088,2,-999.0000,9,    152.5,2,    10.03,2,    22.27,2, -999.000,9, -999.000,9, -999.000,9, -999.000,9, -999.000,9,-999.0000,9,  -999.00,9,-999.000,   -999.0,9,   -999.0,9,    451,-999.0000,-999.000,-999.000,9,  9.5089,-999.000
      06MT28_1,   A08,   171,  4,    237,    313,2,19940402,0249,-10.1642, -35.6103, 2177,    548.7,   7.6089,  34.5950,2,-999.0000,9,    178.3,2,    13.94,2,    24.74,2, -999.000,9, -999.000,9, -999.000,9, -999.000,9, -999.000,9,-999.0000,9,  -999.00,9,-999.000,   -999.0,9,   -999.0,9,    551,-999.0000,-999.000,-999.000,9,  7.5540,-999.000
      06MT28_1,   A08,   171,  4,    235,    312,2,19940402,0249,-10.1642, -35.6103, 2177,    647.0,   5.5220,  34.4275,2,-999.0000,9,    181.7,2,    20.62,2,    28.54,2, -999.000,9, -999.000,9, -999.000,9, -999.000,9, -999.000,9,-999.0000,9,  -999.00,9,-999.000,   -999.0,9,   -999.0,9,    650,-999.0000,-999.000,-999.000,9,  5.4673,-999.000
      06MT28_1,   A08,   171,  4,    234,    311,2,19940402,0249,-10.1642, -35.6103, 2177,    748.5,   4.6671,  34.3962,2,-999.0000,9,    181.4,2,    26.72,2,    30.34,2, -999.000,9, -999.000,9, -999.000,9, -999.000,9, -999.000,9,-999.0000,9,  -999.00,9,-999.000,   -999.0,9,   -999.0,9,    752,-999.0000,-999.000,-999.000,9,  4.6082,-999.000
      06MT28_1,   A08,   171,  4,    233,    310,2,19940402,0249,-10.1642, -35.6103, 2177,    823.3,   4.2129,  34.4087,2,-999.0000,9,    185.9,2,    30.90,2,    30.71,2, -999.000,9, -999.000,9, -999.000,9, -999.000,9, -999.000,9,-999.0000,9,  -999.00,9,-999.000,   -999.0,9,   -999.0,9,    827,-999.0000,-999.000,-999.000,9,  4.1505,-999.000
      06MT28_1,   A08,   171,  4,    232,    309,2,19940402,0249,-10.1642, -35.6103, 2177,    921.5,   3.9913,  34.4224,2,  34.4213,2,    181.0,2,    33.53,2,    31.14,2, -999.000,9, -999.000,9, -999.000,9, -999.000,9, -999.000,9,-999.0000,9,  -999.00,9,-999.000,   -999.0,9,   -999.0,9,    925,-999.0000,-999.000,-999.000,9,  3.9223,-999.000
      06MT28_1,   A08,   171,  4,    231,    308,2,19940402,0249,-10.1642, -35.6103, 2177,   1198.6,   4.0924,  34.6588,2,-999.0000,9,    168.0,2,    30.84,2,    29.80,2, -999.000,9, -999.000,9, -999.000,9, -999.000,9, -999.000,9,-999.0000,9,  -999.00,9,-999.000,   -999.0,9,   -999.0,9,   1202,-999.0000,-999.000,-999.000,9,  3.9988,-999.000
      06MT28_1,   A08,   171,  4,    230,    307,2,19940402,0249,-10.1642, -35.6103, 2177,   1302.0,   4.2981,  34.7713,2,-999.0000,9,    179.2,2,    26.25,2,    27.39,2, -999.000,9, -999.000,9, -999.000,9, -999.000,9, -999.000,9,-999.0000,9,  -999.00,9,-999.000,   -999.0,9,   -999.0,9,   1305,-999.0000,-999.000,-999.000,9,  4.1932,-999.000
      06MT28_1,   A08,   171,  4,    229,    305,2,19940402,0249,-10.1642, -35.6103, 2177,   1698.5,   3.9638,  34.9642,2,-999.0000,9,    230.2,2,    17.66,2,    19.84,2, -999.000,9, -999.000,9, -999.000,9, -999.000,9, -999.000,9,-999.0000,9,  -999.00,9,-999.000,   -999.0,9,   -999.0,9,   1701,-999.0000,-999.000,-999.000,9,  3.8257,-999.000
      06MT28_1,   A08,   171,  4,    228,    306,2,19940402,0249,-10.1642, -35.6103, 2177,   1698.6,   3.9638,  34.9642,2,-999.0000,9,    228.9,2,    17.67,2,    19.86,2, -999.000,9, -999.000,9, -999.000,9, -999.000,9, -999.000,9,-999.0000,9,  -999.00,9,-999.000,   -999.0,9,   -999.0,9,   1701,-999.0000,-999.000,-999.000,9,  3.8257,-999.000
      06MT28_1,   A08,   171,  4,    227,    304,2,19940402,0249,-10.1642, -35.6103, 2177,   1899.0,   3.5296,  34.9638,2,  34.9630,2,    246.4,2,    19.35,2,    18.88,2, -999.000,9, -999.000,9, -999.000,9, -999.000,9, -999.000,9,-999.0000,9,  -999.00,9,-999.000,   -999.0,9,   -999.0,9,   1901,-999.0000,-999.000,-999.000,9,  3.3786,-999.000
      06MT28_1,   A08,   171,  4,    226,    303,2,19940402,0249,-10.1642, -35.6103, 2177,   2069.3,   3.3304,  34.9572,2,-999.0000,9,    241.6,2,    21.24,2,    18.92,2, -999.000,9, -999.000,9, -999.000,9, -999.000,9, -999.000,9,-999.0000,9,  -999.00,9,-999.000,   -999.0,9,   -999.0,9,   2071,-999.0000,-999.000,-999.000,9,  3.1664,-999.000
      06MT28_1,   A08,   171,  4,    224,    302,2,19940402,0249,-10.1642, -35.6103, 2177,   2126.9,   3.2087,  34.9507,2,  34.9525,2,    242.8,2,    22.61,2,    18.96,2, -999.000,9, -999.000,9, -999.000,9, -999.000,9, -999.000,9,-999.0000,9,  -999.00,9,-999.000,   -999.0,9,   -999.0,9,   2129,-999.0000,-999.000,-999.000,9,  3.0411,-999.000
      06MT28_1,   A08,   171,  4,    223,    301,2,19940402,0249,-10.1642, -35.6103, 2177,   2167.1,   3.1598,  34.9475,2,  34.9483,2,    241.7,2,    23.42,2,    19.06,2, -999.000,9, -999.000,9, -999.000,9, -999.000,9, -999.000,9,-999.0000,9,  -999.00,9,-999.000,   -999.0,9,   -999.0,9,   2169,-999.0000,-999.000,-999.000,9,  2.9892,-999.000
      06MT28_1,   A08,   171,  4,    222,    324,2,19940402,0249,-10.1642, -35.6103, 2177,   2168.6,   3.1598,  34.9468,2,  34.9486,2,   -999.0,9,  -999.00,9,  -999.00,9, -999.000,9, -999.000,9, -999.000,9, -999.000,9, -999.000,9,-999.0000,9,  -999.00,9,-999.000,   -999.0,9,   -999.0,9,   2169,-999.0000,-999.000,-999.000,9,  2.9891,-999.000
      06MT28_1,   A08,   172,  2,    221,    203,2,19940402,0626,-10.2317, -35.5352, 2592,      9.6,  28.9196,  37.0676,2,-999.0000,9,   -999.0,9,  -999.00,9,  -999.00,9, -999.000,9, -999.000,9, -999.000,9, -999.000,9, -999.000,9,-999.0000,9,  -999.00,9,-999.000,   -999.0,9,   -999.0,9,      9,-999.0000,-999.000,-999.000,9, 28.9173,-999.000
      06MT28_1,   A08,   172,  2,    220,    202,2,19940402,0626,-10.2317, -35.5352, 2592,     39.6,  28.7625,  37.1762,2,-999.0000,9,   -999.0,9,  -999.00,9,  -999.00,9, -999.000,9, -999.000,9, -999.000,9, -999.000,9, -999.000,9,-999.0000,9,  -999.00,9,-999.000,   -999.0,9,   -999.0,9,     39,-999.0000,-999.000,-999.000,9, 28.7529,-999.000
      06MT28_1,   A08,   172,  2,    219,    201,2,19940402,0626,-10.2317, -35.5352, 2592,     59.9,  27.6668,  37.2270,2,-999.0000,9,   -999.0,9,  -999.00,9,  -999.00,9, -999.000,9, -999.000,9, -999.000,9, -999.000,9, -999.000,9,-999.0000,9,  -999.00,9,-999.000,   -999.0,9,   -999.0,9,     60,-999.0000,-999.000,-999.000,9, 27.6527,-999.000