BOTTLE,20220817CCHSIOAMB
EXPOCODE,SECT_ID,STNNBR,CASTNO,SAMPNO,BTLNBR,BTLNBR_FLAG_W,DATE,TIME,LATITUDE,LONGITUDE,DEPTH,CTDPRS,CTDTMP,CTDSAL,CTDSAL_FLAG_W,SALNTY,SALNTY_FLAG_W,OXYGEN,OXYGEN_FLAG_W,SILCAT,SILCAT_FLAG_W,NO2+NO3,NO2+NO3_FLAG_W,CFC-11,CFC-11_FLAG_W,CFC-12,CFC-12_FLAG_W,CFC113,CFC113_FLAG_W,CCL4,CCL4_FLAG_W,TRITUM,TRITUM_FLAG_W,HELIUM,HELIUM_FLAG_W,DELHE3,DELHE3_FLAG_W,NEON,TCARBN,TCARBN_FLAG_W,PCO2,PCO2_FLAG_W,CTDRAW,HELIER,DELHER,NEONER,NEON_FLAG_W,THETA,TRITER
,,,,,,,,,,,,DBAR,ITS-90,PSS-78,,PSS-78,,UMOL/KG,,UMOL/KG,,UMOL/KG,,PMOL/KG,,PMOL/KG,,PMOL/KG,,PMOL/KG,,TU,,NMOL/KG,,PERCNT,,NMOL/KG,UMOL/KG,,UATM,,,NMOL/KG,PERCNT,NMOL/KG,,ITS-90,TU
      06MT28_1,   A08,   180,  2,    612,    324,2,19940404,1141,-11.1165, -34.1810, 4520,     13.9,  28.7597,  37.0983,2,  37.0971,2,    193.5,2,     0.86,2,     0.00,2,    1.432,2,    0.854,2,    0.250,4,    1.635,2,    0.924,2,-999.0000,9,    -1.81,2,-999.000,   2047.0,2,   -999.0,9,      9,-999.0000,   0.240,-999.000,9, 28.7563,   0.023
      06MT28_1,   A08,   180,  2,    599,    323,2,19940404,1141,-11.1165, -34.1810, 4520,    647.5,   5.2200,  34.4528,2,-999.0000,9,    164.4,2,    23.30,3,    30.27,3, -999.000,9, -999.000,9, -999.000,9, -999.000,9, -999.000,9,-999.0000,9,  -999.00,9,-999.000,   -999.0,9,   -999.0,9,    650,-999.0000,-999.000,-999.000,9,  5.1667,-999.000
      06MT28_1,   A08,   180,  2,    598,    322,2,19940404,1141,-11.1165, -34.1810, 4520,    747.8,   4.6971,  34.4364,2,-999.0000,9,    159.8,2,    27.87,2,    32.07,2,    0.153,2,    0.085,2,    0.016,2,    0.497,2,    0.050,2,   1.8060,2,     1.82,2,   7.801,   2208.9,2,   1148.1,2,    750,  0.0070,   0.250,   0.026,2,  4.6380,   0.005
      06MT28_1,   A08,   180,  2,    596,    321,2,19940404,1141,-11.1165, -34.1810, 4520,    823.2,   4.3762,  34.4415,2,-999.0000,9,    161.3,2,    30.53,2,    32.06,2, -999.000,9, -999.000,9, -999.000,9, -999.000,9, -999.000,9,-999.0000,9,  -999.00,9,-999.000,   2211.2,2,   1154.3,2,    826,-999.0000,-999.000,-999.000,9,  4.3127,-999.000
      06MT28_1,   A08,   180,  2,    584,    320,2,19940404,1141,-11.1165, -34.1810, 4520,    923.0,   3.9784,  34.4657,2,-999.0000,9,    168.3,2,    33.95,2,    31.66,2,    0.076,2,    0.045,2,    0.014,2,    0.347,2,   -0.102,4,-999.0000,9,  -999.00,9,-999.000,   2212.7,2,   1150.6,2,    926,-999.0000,-999.000,-999.000,9,  3.9093,   0.446
      06MT28_1,   A08,   180,  2,    655,    319,2,19940404,1141,-11.1165, -34.1810, 4520,   1098.1,   3.9805,  34.6087,2,  34.6101,2,    168.3,2,    32.68,2,    30.11,2,    0.019,2,    0.009,2,    0.006,2,    0.120,2, -999.000,9,   1.7880,2,     2.51,2,   7.804,   2214.3,2,   1107.3,2,   1101,  0.0070,   0.240,   0.025,2,  3.8966,-999.000
      06MT28_1,   A08,   180,  2,    656,    318,2,19940404,1141,-11.1165, -34.1810, 4520,   1297.8,   3.9908,  34.7664,2,-999.0000,9,    182.5,2,    27.80,2,    26.84,2,    0.004,2,   -0.002,2,    0.016,2,    0.029,2, -999.000,9,   0.0000,4,  -999.00,5,   0.000,   2201.9,2,   1000.4,2,   1300,  0.0000,   0.250,   0.000,4,  3.8893,-999.000
      06MT28_1,   A08,   180,  2,    654,    317,2,19940404,1141,-11.1165, -34.1810, 4520,   1497.4,   3.9892,  34.8979,2,-999.0000,9,    207.5,2,    21.87,2,    22.63,2,    0.019,2,    0.007,2,    0.006,2,    0.092,2,    0.038,2,-999.0000,9,  -999.00,9,-999.000,   2183.6,2,    867.3,2,   1500,-999.0000,-999.000,-999.000,9,  3.8696,   0.006
      06MT28_1,   A08,   180,  2,    653,    316,2,19940404,1141,-11.1165, -34.1810, 4520,   1698.8,   3.6993,  34.9290,2,-999.0000,9,    222.7,2,    21.66,2,    20.81,2,    0.003,2,    0.003,2,    0.005,2,    0.079,2,    0.162,2,   1.8090,2,     2.16,2,   7.883,   2174.1,2,    866.5,3,   1700,  0.0070,   0.250,   0.026,2,  3.5647,   0.260
      06MT28_1,   A08,   180,  2,    652,    315,2,19940404,1141,-11.1165, -34.1810, 4520,   1898.5,   3.5328,  34.9607,2,-999.0000,9,    238.5,2,    19.55,2,    18.70,2, -999.000,9, -999.000,9, -999.000,9, -999.000,9,    0.079,2,   1.7740,2,     2.08,2,   7.779,   2167.1,2,    816.1,3,   1899,  0.0070,   0.240,   0.025,2,  3.3818,   0.005
      06MT28_1,   A08,   180,  2,    651,    314,2,19940404,1141,-11.1165, -34.1810, 4520,   2100.2,   3.2685,  34.9538,2,  34.9523,2,    240.7,2,    21.62,2,    18.59,2,    0.032,2,    0.021,2,    0.007,2,    0.229,2,    0.125,2,   1.8140,6,     3.16,6,   7.923,   2167.5,2,    765.7,2,   2101,  0.0070,   0.250,   0.026,6,  3.1025,   0.179
      06MT28_1,   A08,   180,  2,    650,    313,2,19940404,1141,-11.1165, -34.1810, 4520,   2351.6,   3.0172,  34.9349,2,-999.0000,9,    232.9,2,    26.34,2,    19.04,2,    0.016,2,    0.012,2,    0.013,2,    0.134,2,    0.043,2,   1.7980,2,     3.15,2,   7.867,   2172.1,2,    773.1,2,   2351,  0.0070,   0.240,   0.025,2,  2.8314,   0.003
      06MT28_1,   A08,   180,  2,    649,    312,2,19940404,1141,-11.1165, -34.1810, 4520,   2600.3,   2.8654,  34.9284,2,-999.0000,9,    238.8,2,    28.29,2,    19.21,2,    0.014,2,    0.012,2,    0.013,2,    0.128,2,    0.046,2,-999.0000,9,  -999.00,9,-999.000,   2175.6,2,    774.5,2,   2599,-999.0000,-999.000,-999.000,9,  2.6581,   0.009
      06MT28_1,   A08,   180,  2,    648,    311,2,19940404,1141,-11.1165, -34.1810, 4520,   2852.9,   2.7386,  34.9219,2,-999.0000,9,    239.5,2,    29.68,2,    19.19,2,    0.016,2,    0.010,2,    0.018,2,    0.131,2, -999.000,9,   1.8140,2,     3.21,2,   7.951,   2177.1,2,    772.3,2,   2851,  0.0070,   0.240,   0.025,2,  2.5086,-999.000
      06MT28_1,   A08,   180,  2,    647,    310,2,19940404,1141,-11.1165, -34.1810, 4520,   3102.9,   2.6767,  34.9194,2,  34.9200,2,    240.1,2,    29.93,2,    18.98,2,    0.017,2,    0.013,2,    0.019,2,    0.140,2, -999.000,9,   1.8200,2,     3.23,2,   7.971,   2176.1,2,    772.2,2,   3100,  0.0070,   0.250,   0.026,2,  2.4223,-999.000
      06MT28_1,   A08,   180,  2,    646,    309,2,19940404,1141,-11.1165, -34.1810, 4520,   3353.8,   2.6230,  34.9161,2,-999.0000,9,    241.2,2,    30.28,2,    18.77,2,    0.027,6,    0.018,6,    0.011,6,    0.165,6,    0.068,2,   1.8140,2,     2.66,2,   7.996,   2174.9,2,    768.1,2,   3350,  0.0070,   0.240,   0.025,2,  2.3433,   0.072
      06MT28_1,   A08,   180,  2,    645,    308,2,19940404,1141,-11.1165, -34.1810, 4520,   3604.3,   2.5140,  34.9084,2,-999.0000,9,    241.9,2,    32.04,2,    18.94,2,    0.028,2,    0.015,2,    0.019,2,    0.187,2,    0.049,2,   1.8210,2,     2.41,2,   8.023,   2178.6,2,    770.6,2,   3600,  0.0070,   0.250,   0.026,2,  2.2098,   0.128
      06MT28_1,   A08,   180,  2,    644,    307,2,19940404,1141,-11.1165, -34.1810, 4520,   3854.9,   2.2632,  34.8826,2,-999.0000,9,    238.5,2,    40.66,2,    20.05,2, -999.000,9, -999.000,9, -999.000,9, -999.000,9, -999.000,9,-999.0000,9,  -999.00,9,-999.000,   2187.0,2,    791.8,2,   3850,-999.0000,-999.000,-999.000,9,  1.9380,-999.000
      06MT28_1,   A08,   180,  2,    643,    306,2,19940404,1141,-11.1165, -34.1810, 4520,   4105.6,   1.7443,  34.8248,2,  34.8250,2,    226.3,2,    63.00,2,    23.32,2,    0.005,2,    0.004,2,    0.013,2,    0.071,2,    0.024,2,   1.8670,2,     4.05,2,   8.147,   2209.7,2,    867.9,2,   4100,  0.0070,   0.240,   0.026,2,  1.4059,   0.003
      06MT28_1,   A08,   180,  2,    642,    305,2,19940404,1141,-11.1165, -34.1810, 4520,   4354.8,   1.0995,  34.7548,2,-999.0000,9,    214.6,2,    89.04,2,    26.96,2,    0.011,2,    0.010,2,    0.011,2,    0.074,2,    0.016,2,   1.7110,4,     5.69,2,   7.561,   2236.9,2,    969.9,2,   4349,  0.0060,   0.250,   0.025,4,  0.7529,   0.015
      06MT28_1,   A08,   180,  2,    641,    304,2,19940404,1141,-11.1165, -34.1810, 4520,   4476.2,   0.8226,  34.7249,2,-999.0000,9,    210.3,2,    99.88,2,    28.44,2,    0.030,2,    0.012,2,    0.011,2,    0.118,2,    0.013,2,   1.8520,2,     6.50,2,   8.085,   2248.7,2,   1021.8,2,   4470,  0.0070,   0.240,   0.026,2,  0.4711,   0.004
      06MT28_1,   A08,   180,  2,    640,    303,2,19940404,1141,-11.1165, -34.1810, 4520,   4544.7,   0.7171,  34.7148,2,-999.0000,9,    208.8,2,   104.17,2,    28.90,2,    0.033,2,    0.020,2,    0.000,2,    0.142,2, -999.000,9,   1.8740,2,     6.68,2,   8.220,   2253.0,2,   1073.7,2,   4539,  0.0070,   0.250,   0.027,2,  0.3614,-999.000
      06MT28_1,   A08,   180,  2,    639,    301,2,19940404,1141,-11.1165, -34.1810, 4520,   4575.5,   0.6856,  34.7109,2,  34.7132,2,    208.6,2,   105.09,2,    29.04,2,    0.035,2,    0.017,2,    0.003,2,    0.151,2, -999.000,9,-999.0000,9,  -999.00,9,-999.000,   2253.4,2,   1049.1,6,   4570,-999.0000,-999.000,-999.000,9,  0.3275,-999.000
      06MT28_1,   A08,   180,  2,    638,    302,2,19940404,1141,-11.1165, -34.1810, 4520,   4575.5,   0.6856,  34.7109,2,  34.7129,2,    208.9,2,   105.09,2,    29.09,2,    0.040,2,    0.024,2,    0.050,2,    0.148,2,    0.018,2,   1.8670,6,     6.36,6,   8.149,   2255.8,2,   1043.8,2,   4570,  0.0070,   0.250,   0.027,6,  0.3275,   0.002
      06MT28_1,   A08,   181,  1,    637,    324,2,19940404,1736,-11.3250, -34.0028, -999,     13.0,  28.8432,  37.1813,2,  37.1828,4,    193.4,2,     1.54,3,     0.10,3, -999.000,9, -999.000,9, -999.000,9, -999.000,9, -999.000,9,-999.0000,9,  -999.00,9,-999.000,   -999.0,9,   -999.0,9,      8,-999.0000,-999.000,-999.000,9, 28.8401,-999.000
      06MT28_1,   A08,   181,  1,    688,    323,2,19940404,1736,-11.3250, -34.0028, -999,    497.9,   6.7302,  34.5622,2,-999.0000,9,    136.8,2,    18.54,2,    30.49,2, -999.000,9, -999.000,9, -999.000,9, -999.000,9, -999.000,9,-999.0000,9,  -999.00,9,-999.000,   -999.0,9,   -999.0,9,    500,-999.0000,-999.000,-999.000,9,  6.6839,-999.000
      06MT28_1,   A08,   181,  1,    684,    322,2,19940404,1736,-11.3250, -34.0028, -999,    598.8,   6.0794,  34.5240,2,-999.0000,9,    130.7,2,    21.78,3,    32.67,3, -999.000,9, -999.000,9, -999.000,9, -999.000,9, -999.000,9,-999.0000,9,  -999.00,9,-999.000,   -999.0,9,   -999.0,9,    601,-999.0000,-999.000,-999.000,9,  6.0263,-999.000
      06MT28_1,   A08,   181,  1,    683,    321,2,19940404,1736,-11.3250, -34.0028, -999,    696.7,   5.1355,  34.4529,2,-999.0000,9,    152.3,2,    25.59,2,    32.27,2, -999.000,9, -999.000,9, -999.000,9, -999.000,9, -999.000,9,-999.0000,9,  -999.00,9,-999.000,   -999.0,9,   -999.0,9,    699,-999.0000,-999.000,-999.000,9,  5.0783,-999.000
      06MT28_1,   A08,   181,  1,    682,    320,2,19940404,1736,-11.3250, -34.0028, -999,    846.8,   4.1569,  34.4409,2,-999.0000,9,    166.5,2,    32.63,2,    32.06,2, -999.000,9, -999.000,9, -999.000,9, -999.000,9, -999.000,9,-999.0000,9,  -999.00,9,-999.000,   -999.0,9,   -999.0,9,    850,-999.0000,-999.000,-999.000,9,  4.0929,-999.000
      06MT28_1,   A08,   181,  1,    681,    319,2,19940404,1736,-11.3250, -34.0028, -999,    998.6,   3.9463,  34.5329,2,-999.0000,9,    164.8,2,    34.51,2,    31.36,2, -999.000,9, -999.000,9, -999.000,9, -999.000,9, -999.000,9,-999.0000,9,  -999.00,9,-999.000,   -999.0,9,   -999.0,9,   1002,-999.0000,-999.000,-999.000,9,  3.8712,-999.000
      06MT28_1,   A08,   181,  1,    680,    318,2,19940404,1736,-11.3250, -34.0028, -999,   1198.7,   4.1751,  34.7248,2,-999.0000,9,    174.2,2,    28.38,2,    28.29,2, -999.000,9, -999.000,9, -999.000,9, -999.000,9, -999.000,9,-999.0000,9,  -999.00,9,-999.000,   -999.0,9,   -999.0,9,   1201,-999.0000,-999.000,-999.000,9,  4.0806,-999.000
      06MT28_1,   A08,   181,  1,    679,    317,2,19940404,1736,-11.3250, -34.0028, -999,   1398.6,   4.2509,  34.8713,2,-999.0000,9,    196.2,2,    22.17,2,    23.98,2, -999.000,9, -999.000,9, -999.000,9, -999.000,9, -999.000,9,-999.0000,9,  -999.00,9,-999.000,   -999.0,9,   -999.0,9,   1401,-999.0000,-999.000,-999.000,9,  4.1375,-999.000
      06MT28_1,   A08,   181,  1,    678,    316,2,19940404,1736,-11.3250, -34.0028, -999,   1597.5,   3.9327,  34.9331,2,-999.0000,9,    214.3,2,    20.25,2,    21.10,2, -999.000,9, -999.000,9, -999.000,9, -999.000,9, -999.000,9,-999.0000,9,  -999.00,9,-999.000,   -999.0,9,   -999.0,9,   1599,-999.0000,-999.000,-999.000,9,  3.8045,-999.000
      06MT28_1,   A08,   181,  1,    677,    315,2,19940404,1736,-11.3250, -34.0028, -999,   1799.4,   3.7586,  34.9713,2,-999.0000,9,    238.7,2,    17.47,2,    18.71,2, -999.000,9, -999.000,9, -999.000,9, -999.000,9, -999.000,9,-999.0000,9,  -999.00,9,-999.000,   -999.0,9,   -999.0,9,   1801,-999.0000,-999.000,-999.000,9,  3.6137,-999.000
      06MT28_1,   A08,   181,  1,    676,    314,2,19940404,1736,-11.3250, -34.0028, -999,   1999.6,   3.2988,  34.9401,2,  34.4978,4,    235.3,2,    23.63,2,    19.55,2, -999.000,9, -999.000,9, -999.000,9, -999.000,9, -999.000,9,-999.0000,9,  -999.00,9,-999.000,   -999.0,9,   -999.0,9,   2000,-999.0000,-999.000,-999.000,9,  3.1418,-999.000
      06MT28_1,   A08,   181,  1,    675,    313,2,19940404,1736,-11.3250, -34.0028, -999,   2249.5,   3.0339,  34.9222,2,-999.0000,9,    233.2,2,    28.91,2,    20.09,2, -999.000,9, -999.000,9, -999.000,9, -999.000,9, -999.000,9,-999.0000,9,  -999.00,9,-999.000,   -999.0,9,   -999.0,9,   2249,-999.0000,-999.000,-999.000,9,  2.8576,-999.000
      06MT28_1,   A08,   181,  1,    674,    312,2,19940404,1736,-11.3250, -34.0028, -999,   2500.9,   2.9467,  34.9327,2,-999.0000,9,    238.8,2,    27.17,2,    19.22,2, -999.000,9, -999.000,9, -999.000,9, -999.000,9, -999.000,9,-999.0000,9,  -999.00,9,-999.000,   -999.0,9,   -999.0,9,   2500,-999.0000,-999.000,-999.000,9,  2.7477,-999.000
      06MT28_1,   A08,   181,  1,    672,    311,2,19940404,1736,-11.3250, -34.0028, -999,   2750.5,   2.8179,  34.9264,2,-999.0000,9,    240.1,2,    28.65,2,    19.29,2, -999.000,9, -999.000,9, -999.000,9, -999.000,9, -999.000,9,-999.0000,9,  -999.00,9,-999.000,   -999.0,9,   -999.0,9,   2749,-999.0000,-999.000,-999.000,9,  2.5966,-999.000
      06MT28_1,   A08,   181,  1,    670,    310,2,19940404,1736,-11.3250, -34.0028, -999,   3002.4,   2.7235,  34.9220,2,  34.9217,2,    239.5,2,    29.57,2,    19.46,2, -999.000,9, -999.000,9, -999.000,9, -999.000,9, -999.000,9,-999.0000,9,  -999.00,9,-999.000,   -999.0,9,   -999.0,9,   3000,-999.0000,-999.000,-999.000,9,  2.4785,-999.000
      06MT28_1,   A08,   181,  1,    658,    309,2,19940404,1736,-11.3250, -34.0028, -999,   3254.1,   2.6347,  34.9173,2,-999.0000,9,    240.6,2,    30.29,2,    18.97,2, -999.000,9, -999.000,9, -999.000,9, -999.000,9, -999.000,9,-999.0000,9,  -999.00,9,-999.000,   -999.0,9,   -999.0,9,   3251,-999.0000,-999.000,-999.000,9,  2.3654,-999.000
      06MT28_1,   A08,   181,  1,    731,    308,2,19940404,1736,-11.3250, -34.0028, -999,   3505.2,   2.5492,  34.9103,2,-999.0000,9,    241.3,2,    31.86,2,    19.04,2, -999.000,9, -999.000,9, -999.000,9, -999.000,9, -999.000,9,-999.0000,9,  -999.00,9,-999.000,   -999.0,9,   -999.0,9,   3501,-999.0000,-999.000,-999.000,9,  2.2550,-999.000
      06MT28_1,   A08,   181,  1,    732,    307,2,19940404,1736,-11.3250, -34.0028, -999,   3754.8,   2.3066,  34.8875,2,-999.0000,9,    238.9,2,    39.46,2,    20.06,2, -999.000,9, -999.000,9, -999.000,9, -999.000,9, -999.000,9,-999.0000,9,  -999.00,9,-999.000,   -999.0,9,   -999.0,9,   3750,-999.0000,-999.000,-999.000,9,  1.9914,-999.000
      06MT28_1,   A08,   181,  1,    730,    306,2,19940404,1736,-11.3250, -34.0028, -999,   4005.2,   1.8089,  34.8324,2,  34.8312,2,    227.9,2,    59.83,2,    22.95,2, -999.000,9, -999.000,9, -999.000,9, -999.000,9, -999.000,9,-999.0000,9,  -999.00,9,-999.000,   -999.0,9,   -999.0,9,   4000,-999.0000,-999.000,-999.000,9,  1.4798,-999.000
      06MT28_1,   A08,   181,  1,    729,    305,2,19940404,1736,-11.3250, -34.0028, -999,   4254.9,   1.2838,  34.7751,2,-999.0000,9,    218.0,2,    81.47,2,    26.03,2, -999.000,9, -999.000,9, -999.000,9, -999.000,9, -999.000,9,-999.0000,9,  -999.00,9,-999.000,   -999.0,9,   -999.0,9,   4249,-999.0000,-999.000,-999.000,9,  0.9425,-999.000
      06MT28_1,   A08,   181,  1,    728,    304,2,19940404,1736,-11.3250, -34.0028, -999,   4536.7,   0.8212,  34.7250,2,-999.0000,9,    210.2,2,    99.48,2,    28.48,2, -999.000,9, -999.000,9, -999.000,9, -999.000,9, -999.000,9,-999.0000,9,  -999.00,9,-999.000,   -999.0,9,   -999.0,9,   4531,-999.0000,-999.000,-999.000,9,  0.4630,-999.000
      06MT28_1,   A08,   181,  1,    727,    303,2,19940404,1736,-11.3250, -34.0028, -999,   4605.0,   0.8205,  34.7239,2,-999.0000,9,    210.0,2,    99.64,2,    28.43,2, -999.000,9, -999.000,9, -999.000,9, -999.000,9, -999.000,9,-999.0000,9,  -999.00,9,-999.000,   -999.0,9,   -999.0,9,   4599,-999.0000,-999.000,-999.000,9,  0.4547,-999.000
      06MT28_1,   A08,   181,  1,    726,    301,2,19940404,1736,-11.3250, -34.0028, -999,   4640.8,   0.8154,  34.7235,2,  34.7258,2,    210.7,2,    99.81,2,    28.38,2, -999.000,9, -999.000,9, -999.000,9, -999.000,9, -999.000,9,-999.0000,9,  -999.00,9,-999.000,   -999.0,9,   -999.0,9,   4635,-999.0000,-999.000,-999.000,9,  0.4457,-999.000
      06MT28_1,   A08,   181,  1,    725,    302,2,19940404,1736,-11.3250, -34.0028, -999,   4641.0,   0.8169,  34.7230,2,  34.7250,2,    210.1,2,    99.91,2,    28.42,2, -999.000,9, -999.000,9, -999.000,9, -999.000,9, -999.000,9,-999.0000,9,  -999.00,9,-999.000,   -999.0,9,   -999.0,9,   4635,-999.0000,-999.000,-999.000,9,  0.4471,-999.000