BOTTLE,20220817CCHSIOAMB
EXPOCODE,SECT_ID,STNNBR,CASTNO,SAMPNO,BTLNBR,BTLNBR_FLAG_W,DATE,TIME,LATITUDE,LONGITUDE,DEPTH,CTDPRS,CTDTMP,CTDSAL,CTDSAL_FLAG_W,SALNTY,SALNTY_FLAG_W,OXYGEN,OXYGEN_FLAG_W,SILCAT,SILCAT_FLAG_W,NO2+NO3,NO2+NO3_FLAG_W,CFC-11,CFC-11_FLAG_W,CFC-12,CFC-12_FLAG_W,CFC113,CFC113_FLAG_W,CCL4,CCL4_FLAG_W,TRITUM,TRITUM_FLAG_W,HELIUM,HELIUM_FLAG_W,DELHE3,DELHE3_FLAG_W,NEON,TCARBN,TCARBN_FLAG_W,PCO2,PCO2_FLAG_W,CTDRAW,HELIER,DELHER,NEONER,NEON_FLAG_W,THETA,TRITER
,,,,,,,,,,,,DBAR,ITS-90,PSS-78,,PSS-78,,UMOL/KG,,UMOL/KG,,UMOL/KG,,PMOL/KG,,PMOL/KG,,PMOL/KG,,PMOL/KG,,TU,,NMOL/KG,,PERCNT,,NMOL/KG,UMOL/KG,,UATM,,,NMOL/KG,PERCNT,NMOL/KG,,ITS-90,TU
      06MT28_1,   A08,   225,  2,   2995,    324,2,19940419,1420,-11.3335, -10.5008, 4363,     17.8,  26.8932,  36.5680,2,  36.5676,2,    195.2,2,     0.96,2,     0.00,2, -999.000,9, -999.000,9, -999.000,9, -999.000,9, -999.000,9,-999.0000,9,  -999.00,9,-999.000,   -999.0,9,   -999.0,9,     14,-999.0000,-999.000,-999.000,9, 26.8891,-999.000
      06MT28_1,   A08,   225,  2,   3050,    323,2,19940419,1420,-11.3335, -10.5008, 4363,    546.3,   6.7767,  34.6042,2,  34.6076,2,     90.1,2,    20.45,2,    34.78,2, -999.000,9, -999.000,9, -999.000,9, -999.000,9, -999.000,9,-999.0000,9,  -999.00,9,-999.000,   -999.0,9,   -999.0,9,    548,-999.0000,-999.000,-999.000,9,  6.7254,-999.000
      06MT28_1,   A08,   225,  2,   3046,    322,2,19940419,1420,-11.3335, -10.5008, 4363,    647.0,   5.8169,  34.5279,2,-999.0000,9,    108.5,2,    23.88,2,    35.05,2, -999.000,9, -999.000,9, -999.000,9, -999.000,9, -999.000,9,-999.0000,9,  -999.00,9,-999.000,   -999.0,9,   -999.0,9,    649,-999.0000,-999.000,-999.000,9,  5.7606,-999.000
      06MT28_1,   A08,   225,  2,   3045,    321,2,19940419,1420,-11.3335, -10.5008, 4363,    747.0,   5.0669,  34.4876,2,-999.0000,9,    129.8,2,    27.21,2,    34.46,2, -999.000,9, -999.000,9, -999.000,9, -999.000,9, -999.000,9,-999.0000,9,  -999.00,9,-999.000,   -999.0,9,   -999.0,9,    750,-999.0000,-999.000,-999.000,9,  5.0057,-999.000
      06MT28_1,   A08,   225,  2,   3044,    320,2,19940419,1420,-11.3335, -10.5008, 4363,    821.1,   4.5862,  34.4847,2,-999.0000,9,    136.3,2,    30.25,2,    33.97,2, -999.000,9, -999.000,9, -999.000,9, -999.000,9, -999.000,9,-999.0000,9,  -999.00,9,-999.000,   -999.0,9,   -999.0,9,    824,-999.0000,-999.000,-999.000,9,  4.5215,-999.000
      06MT28_1,   A08,   225,  2,   3043,    319,2,19940419,1420,-11.3335, -10.5008, 4363,    920.6,   4.2732,  34.5295,2,-999.0000,9,    141.5,2,    32.33,2,    33.28,2, -999.000,9, -999.000,9, -999.000,9, -999.000,9, -999.000,9,-999.0000,9,  -999.00,9,-999.000,   -999.0,9,   -999.0,9,    924,-999.0000,-999.000,-999.000,9,  4.2022,-999.000
      06MT28_1,   A08,   225,  2,   3042,    318,2,19940419,1420,-11.3335, -10.5008, 4363,   1095.9,   4.0306,  34.6315,2,  34.6309,2,    157.1,2,    31.92,2,    30.78,2, -999.000,9, -999.000,9, -999.000,9, -999.000,9, -999.000,9,-999.0000,9,  -999.00,9,-999.000,   -999.0,9,   -999.0,9,   1099,-999.0000,-999.000,-999.000,9,  3.9464,-999.000
      06MT28_1,   A08,   225,  2,   3041,    317,2,19940419,1420,-11.3335, -10.5008, 4363,   1296.9,   3.9809,  34.7710,2,-999.0000,9,    175.2,2,    27.99,2,    27.13,2, -999.000,9, -999.000,9, -999.000,9, -999.000,9, -999.000,9,-999.0000,9,  -999.00,9,-999.000,   -999.0,9,   -999.0,9,   1300,-999.0000,-999.000,-999.000,9,  3.8796,-999.000
      06MT28_1,   A08,   225,  2,   3040,    316,2,19940419,1420,-11.3335, -10.5008, 4363,   1496.8,   3.8802,  34.8711,2,  34.8719,2,    196.0,2,    24.54,2,    23.78,2, -999.000,9, -999.000,9, -999.000,9, -999.000,9, -999.000,9,-999.0000,9,  -999.00,9,-999.000,   -999.0,9,   -999.0,9,   1499,-999.0000,-999.000,-999.000,9,  3.7619,-999.000
      06MT28_1,   A08,   225,  2,   3039,    315,2,19940419,1420,-11.3335, -10.5008, 4363,   1697.8,   3.6472,  34.9107,2,-999.0000,9,    207.6,2,    24.70,2,    22.33,2, -999.000,9, -999.000,9, -999.000,9, -999.000,9, -999.000,9,-999.0000,9,  -999.00,9,-999.000,   -999.0,9,   -999.0,9,   1700,-999.0000,-999.000,-999.000,9,  3.5134,-999.000
      06MT28_1,   A08,   225,  2,   3038,    314,2,19940419,1420,-11.3335, -10.5008, 4363,   1898.4,   3.4971,  34.9293,2,-999.0000,9,    218.3,2,    24.68,2,    20.98,2, -999.000,9, -999.000,9, -999.000,9, -999.000,9, -999.000,9,-999.0000,9,  -999.00,9,-999.000,   -999.0,9,   -999.0,9,   1900,-999.0000,-999.000,-999.000,9,  3.3467,-999.000
      06MT28_1,   A08,   225,  2,   3037,    313,2,19940419,1420,-11.3335, -10.5008, 4363,   2099.2,   3.2806,  34.9306,2,  34.9301,2,    225.1,2,    26.46,2,    20.39,2, -999.000,9, -999.000,9, -999.000,9, -999.000,9, -999.000,9,-999.0000,9,  -999.00,9,-999.000,   -999.0,9,   -999.0,9,   2100,-999.0000,-999.000,-999.000,9,  3.1146,-999.000
      06MT28_1,   A08,   225,  2,   3036,    312,2,19940419,1420,-11.3335, -10.5008, 4363,   2349.1,   3.0204,  34.9170,2,-999.0000,9,    225.9,2,    30.98,2,    20.65,2, -999.000,9, -999.000,9, -999.000,9, -999.000,9, -999.000,9,-999.0000,9,  -999.00,9,-999.000,   -999.0,9,   -999.0,9,   2349,-999.0000,-999.000,-999.000,9,  2.8349,-999.000
      06MT28_1,   A08,   225,  2,   3035,    311,2,19940419,1420,-11.3335, -10.5008, 4363,   2600.8,   2.7761,  34.9025,2,-999.0000,9,    224.0,2,    36.72,2,    21.20,2, -999.000,9, -999.000,9, -999.000,9, -999.000,9, -999.000,9,-999.0000,9,  -999.00,9,-999.000,   -999.0,9,   -999.0,9,   2600,-999.0000,-999.000,-999.000,9,  2.5706,-999.000
      06MT28_1,   A08,   225,  2,   3034,    310,2,19940419,1420,-11.3335, -10.5008, 4363,   2851.2,   2.6219,  34.8969,2,-999.0000,9,    222.3,2,    40.17,2,    21.46,2, -999.000,9, -999.000,9, -999.000,9, -999.000,9, -999.000,9,-999.0000,9,  -999.00,9,-999.000,   -999.0,9,   -999.0,9,   2849,-999.0000,-999.000,-999.000,9,  2.3946,-999.000
      06MT28_1,   A08,   225,  2,   3033,    309,2,19940419,1420,-11.3335, -10.5008, 4363,   3101.9,   2.5021,  34.8928,2,  34.8940,2,    220.4,2,    43.15,2,    21.72,2, -999.000,9, -999.000,9, -999.000,9, -999.000,9, -999.000,9,-999.0000,9,  -999.00,9,-999.000,   -999.0,9,   -999.0,9,   3099,-999.0000,-999.000,-999.000,9,  2.2518,-999.000
      06MT28_1,   A08,   225,  2,   3032,    308,2,19940419,1420,-11.3335, -10.5008, 4363,   3357.7,   2.4405,  34.8906,2,-999.0000,9,    220.5,2,    44.71,2,    21.69,2, -999.000,9, -999.000,9, -999.000,9, -999.000,9, -999.000,9,-999.0000,9,  -999.00,9,-999.000,   -999.0,9,   -999.0,9,   3354,-999.0000,-999.000,-999.000,9,  2.1649,-999.000
      06MT28_1,   A08,   225,  2,   3031,    307,2,19940419,1420,-11.3335, -10.5008, 4363,   3604.4,   2.4185,  34.8889,2,-999.0000,9,    220.1,2,    45.42,2,    21.67,2, -999.000,9, -999.000,9, -999.000,9, -999.000,9, -999.000,9,-999.0000,9,  -999.00,9,-999.000,   -999.0,9,   -999.0,9,   3600,-999.0000,-999.000,-999.000,9,  2.1168,-999.000
      06MT28_1,   A08,   225,  2,   3030,    306,2,19940419,1420,-11.3335, -10.5008, 4363,   3854.1,   2.4197,  34.8886,2,-999.0000,9,    219.0,2,    45.94,2,    21.74,2, -999.000,9, -999.000,9, -999.000,9, -999.000,9, -999.000,9,-999.0000,9,  -999.00,9,-999.000,   -999.0,9,   -999.0,9,   3849,-999.0000,-999.000,-999.000,9,  2.0903,-999.000
      06MT28_1,   A08,   225,  2,   3029,    305,2,19940419,1420,-11.3335, -10.5008, 4363,   4103.4,   2.4287,  34.8872,2,  34.8865,2,    219.1,2,    46.17,2,    21.72,2, -999.000,9, -999.000,9, -999.000,9, -999.000,9, -999.000,9,-999.0000,9,  -999.00,9,-999.000,   -999.0,9,   -999.0,9,   4098,-999.0000,-999.000,-999.000,9,  2.0706,-999.000
      06MT28_1,   A08,   225,  2,   3028,    304,2,19940419,1420,-11.3335, -10.5008, 4363,   4313.8,   2.4490,  34.8874,2,-999.0000,9,    218.9,2,    45.99,2,    21.56,2, -999.000,9, -999.000,9, -999.000,9, -999.000,9, -999.000,9,-999.0000,9,  -999.00,9,-999.000,   -999.0,9,   -999.0,9,   4308,-999.0000,-999.000,-999.000,9,  2.0656,-999.000
      06MT28_1,   A08,   225,  2,   3013,    303,2,19940419,1420,-11.3335, -10.5008, 4363,   4386.5,   2.4571,  34.8880,2,-999.0000,9,    218.8,2,    46.16,2,    21.56,2, -999.000,9, -999.000,9, -999.000,9, -999.000,9, -999.000,9,-999.0000,9,  -999.00,9,-999.000,   -999.0,9,   -999.0,9,   4381,-999.0000,-999.000,-999.000,9,  2.0648,-999.000
      06MT28_1,   A08,   225,  2,   3089,    302,2,19940419,1420,-11.3335, -10.5008, 4363,   4419.9,   2.4613,  34.8881,2,  34.8891,2,    218.3,2,    46.02,2,    21.65,2, -999.000,9, -999.000,9, -999.000,9, -999.000,9, -999.000,9,-999.0000,9,  -999.00,9,-999.000,   -999.0,9,   -999.0,9,   4414,-999.0000,-999.000,-999.000,9,  2.0649,-999.000
      06MT28_1,   A08,   225,  2,   3090,    301,2,19940419,1420,-11.3335, -10.5008, 4363,   4419.9,   2.4611,  34.8883,2,  34.8868,2,    218.7,2,    46.02,2,    21.65,2, -999.000,9, -999.000,9, -999.000,9, -999.000,9, -999.000,9,-999.0000,9,  -999.00,9,-999.000,   -999.0,9,   -999.0,9,   4415,-999.0000,-999.000,-999.000,9,  2.0647,-999.000
      06MT28_1,   A08,   226,  1,   3088,    216,2,19940419,1933,-11.3335, -10.0002, 4069,      9.8,  26.5882,  36.6723,2,  36.6724,2,   -999.0,9,     0.86,2,     0.00,2,    1.586,2,    0.929,2,    0.077,4,    1.809,2,    0.936,2,   1.7590,2,    -1.50,2,   6.800,   2051.8,2,    504.8,6,     10,  0.0060,   0.240,   0.022,2, 26.5860,   0.023
      06MT28_1,   A08,   226,  1,   3086,    215,2,19940419,1933,-11.3335, -10.0002, 4069,     40.8,  26.5941,  36.6736,2,-999.0000,9,   -999.0,9,     0.86,2,     0.00,2,    1.593,2,    0.917,2,    0.092,4,    1.796,2,    0.946,2,   1.6660,2,    -1.94,2,   6.592,   -999.0,9,   -999.0,9,     41,  0.0060,   0.240,   0.021,2, 26.5848,   0.024
      06MT28_1,   A08,   226,  1,   3085,    214,2,19940419,1933,-11.3335, -10.0002, 4069,     59.0,  25.0552,  36.6866,2,-999.0000,9,   -999.0,9,     0.86,2,     0.00,2,    1.775,2,    1.011,2,    0.105,2,    1.517,2,    0.925,2,   1.6700,2,    -1.07,2,   6.663,   2061.9,2,    511.4,2,     59,  0.0060,   0.240,   0.021,2, 25.0423,   0.050
      06MT28_1,   A08,   226,  1,   3084,    213,2,19940419,1933,-11.3335, -10.0002, 4069,     79.5,  22.2330,  36.5244,2,-999.0000,9,   -999.0,9,     0.96,2,     0.00,2,    1.928,2,    1.074,2,    0.105,2,    1.197,2,    0.832,2,   1.6850,2,    -1.08,2,   6.811,   2073.6,2,    559.5,2,     79,  0.0060,   0.240,   0.022,2, 22.2170,   0.021
      06MT28_1,   A08,   226,  1,   3083,    212,2,19940419,1933,-11.3335, -10.0002, 4069,    119.7,  17.5218,  35.9086,2,-999.0000,9,   -999.0,9,     3.26,2,    11.21,2,    1.758,2,    0.948,2,    0.104,2,    0.702,2,    0.800,2,   1.7240,2,    -0.77,2,   7.047,   2139.2,2,    904.6,2,    120,  0.0060,   0.240,   0.022,2, 17.5016,   0.021
      06MT28_1,   A08,   226,  1,   3082,    211,2,19940419,1933,-11.3335, -10.0002, 4069,    180.0,  12.7324,  35.2328,2,-999.0000,9,   -999.0,9,     8.04,2,    24.42,2,    1.088,2,    0.581,2,    0.036,2,    0.250,2,    0.469,2,   1.7400,2,     1.15,2,   7.282,   2199.1,2,   1499.1,2,    180,  0.0070,   0.250,   0.024,2, 12.7079,   0.016
      06MT28_1,   A08,   226,  1,   3081,    210,2,19940419,1933,-11.3335, -10.0002, 4069,    248.3,  10.3530,  34.9722,2,  34.9782,2,   -999.0,9,    12.06,2,    29.29,2,    0.389,2,    0.219,2,    0.018,2,    0.162,2, -999.000,9,   1.7530,6,     1.24,6,   7.423,   2216.4,2,   1173.9,2,    248,  0.0070,   0.250,   0.024,6, 10.3235,-999.000
      06MT28_1,   A08,   226,  1,   3080,    209,2,19940419,1933,-11.3335, -10.0002, 4069,    350.2,   8.8650,  34.8075,2,-999.0000,9,   -999.0,9,    15.30,2,    32.86,2,    2.311,4,    0.091,2,    0.014,2,    0.135,2,    0.091,2,   1.7670,2,     1.11,2,   7.525,   2228.7,2,   1365.6,2,    350,  0.0070,   0.250,   0.025,2,  8.8270,   0.011
      06MT28_1,   A08,   226,  1,   3079,    208,2,19940419,1933,-11.3335, -10.0002, 4069,    450.2,   7.8328,  34.7029,2,-999.0000,9,   -999.0,9,    17.83,3,    34.27,3,    0.076,2,    0.051,2,    0.006,2,    0.133,2,    0.048,2,   1.7690,2,     0.14,2,   7.589,   2232.4,2,   1417.0,6,    450,  0.0070,   0.250,   0.025,2,  7.7872,   0.004
      06MT28_1,   A08,   226,  1,   3078,    207,2,19940419,1933,-11.3335, -10.0002, 4069,    450.3,   7.8046,  34.6996,2,-999.0000,9,   -999.0,9,  -999.00,9,  -999.00,9, -999.000,9, -999.000,9, -999.000,9, -999.000,9, -999.000,9,-999.0000,9,  -999.00,9,-999.000,   -999.0,9,   -999.0,9,    450,-999.0000,-999.000,-999.000,9,  7.7591,-999.000