BOTTLE,20220817CCHSIOAMB
EXPOCODE,SECT_ID,STNNBR,CASTNO,SAMPNO,BTLNBR,BTLNBR_FLAG_W,DATE,TIME,LATITUDE,LONGITUDE,DEPTH,CTDPRS,CTDTMP,CTDSAL,CTDSAL_FLAG_W,SALNTY,SALNTY_FLAG_W,OXYGEN,OXYGEN_FLAG_W,SILCAT,SILCAT_FLAG_W,NO2+NO3,NO2+NO3_FLAG_W,CFC-11,CFC-11_FLAG_W,CFC-12,CFC-12_FLAG_W,CFC113,CFC113_FLAG_W,CCL4,CCL4_FLAG_W,TRITUM,TRITUM_FLAG_W,HELIUM,HELIUM_FLAG_W,DELHE3,DELHE3_FLAG_W,NEON,TCARBN,TCARBN_FLAG_W,PCO2,PCO2_FLAG_W,CTDRAW,HELIER,DELHER,NEONER,NEON_FLAG_W,THETA,TRITER
,,,,,,,,,,,,DBAR,ITS-90,PSS-78,,PSS-78,,UMOL/KG,,UMOL/KG,,UMOL/KG,,PMOL/KG,,PMOL/KG,,PMOL/KG,,PMOL/KG,,TU,,NMOL/KG,,PERCNT,,NMOL/KG,UMOL/KG,,UATM,,,NMOL/KG,PERCNT,NMOL/KG,,ITS-90,TU
      06MT28_1,   A08,   271,  2,   3187,    322,2,19940504,0303,-11.3347,  12.4993, 1738,      8.7,  27.6762,  36.1102,2,  36.1080,2,   -999.0,9,  -999.00,9,  -999.00,9, -999.000,9, -999.000,9, -999.000,9, -999.000,9, -999.000,9,-999.0000,9,  -999.00,9,-999.000,   -999.0,9,   -999.0,9,      7,-999.0000,-999.000,-999.000,9, 27.6742,-999.000
      06MT28_1,   A08,   271,  2,   3183,    320,2,19940504,0303,-11.3347,  12.4993, 1738,      9.3,  27.6737,  36.1112,2,-999.0000,9,   -999.0,9,  -999.00,9,  -999.00,9, -999.000,9, -999.000,9, -999.000,9, -999.000,9, -999.000,9,-999.0000,9,  -999.00,9,-999.000,   -999.0,9,   -999.0,9,      8,-999.0000,-999.000,-999.000,9, 27.6715,-999.000
      06MT28_1,   A08,   271,  2,   3182,    319,2,19940504,0303,-11.3347,  12.4993, 1738,     29.4,  19.6924,  35.7640,2,-999.0000,9,   -999.0,9,  -999.00,9,  -999.00,9, -999.000,9, -999.000,9, -999.000,9, -999.000,9, -999.000,9,-999.0000,9,  -999.00,9,-999.000,   -999.0,9,   -999.0,9,     29,-999.0000,-999.000,-999.000,9, 19.6870,-999.000
      06MT28_1,   A08,   271,  2,   3181,    318,2,19940504,0303,-11.3347,  12.4993, 1738,     49.4,  17.6757,  35.7646,2,-999.0000,9,   -999.0,9,  -999.00,9,  -999.00,9, -999.000,9, -999.000,9, -999.000,9, -999.000,9, -999.000,9,-999.0000,9,  -999.00,9,-999.000,   -999.0,9,   -999.0,9,     50,-999.0000,-999.000,-999.000,9, 17.6673,-999.000
      06MT28_1,   A08,   271,  2,   3180,    317,2,19940504,0303,-11.3347,  12.4993, 1738,     69.1,  16.7583,  35.7143,2,-999.0000,9,   -999.0,9,  -999.00,9,  -999.00,9, -999.000,9, -999.000,9, -999.000,9, -999.000,9, -999.000,9,-999.0000,9,  -999.00,9,-999.000,   -999.0,9,   -999.0,9,     70,-999.0000,-999.000,-999.000,9, 16.7470,-999.000
      06MT28_1,   A08,   271,  2,   3179,    316,2,19940504,0303,-11.3347,  12.4993, 1738,     98.5,  16.2834,  35.6634,2,-999.0000,9,   -999.0,9,  -999.00,9,  -999.00,9, -999.000,9, -999.000,9, -999.000,9, -999.000,9, -999.000,9,-999.0000,9,  -999.00,9,-999.000,   -999.0,9,   -999.0,9,     99,-999.0000,-999.000,-999.000,9, 16.2676,-999.000
      06MT28_1,   A08,   271,  2,   3178,    315,2,19940504,0303,-11.3347,  12.4993, 1738,    149.5,  15.0569,  35.5277,2,-999.0000,9,   -999.0,9,  -999.00,9,  -999.00,9, -999.000,9, -999.000,9, -999.000,9, -999.000,9, -999.000,9,-999.0000,9,  -999.00,9,-999.000,   -999.0,9,   -999.0,9,    151,-999.0000,-999.000,-999.000,9, 15.0341,-999.000
      06MT28_1,   A08,   271,  2,   3177,    314,2,19940504,0303,-11.3347,  12.4993, 1738,    197.6,  14.1506,  35.4221,2,-999.0000,9,   -999.0,9,  -999.00,9,  -999.00,9, -999.000,9, -999.000,9, -999.000,9, -999.000,9, -999.000,9,-999.0000,9,  -999.00,9,-999.000,   -999.0,9,   -999.0,9,    199,-999.0000,-999.000,-999.000,9, 14.1217,-999.000
      06MT28_1,   A08,   271,  2,   3176,    313,2,19940504,0303,-11.3347,  12.4993, 1738,    296.8,  12.1044,  35.1755,2,  35.1659,3,   -999.0,9,  -999.00,9,  -999.00,9, -999.000,9, -999.000,9, -999.000,9, -999.000,9, -999.000,9,-999.0000,9,  -999.00,9,-999.000,   -999.0,9,   -999.0,9,    299,-999.0000,-999.000,-999.000,9, 12.0653,-999.000
      06MT28_1,   A08,   271,  2,   3175,    312,2,19940504,0303,-11.3347,  12.4993, 1738,    396.5,   9.5623,  34.8859,2,-999.0000,9,   -999.0,9,  -999.00,9,  -999.00,9, -999.000,9, -999.000,9, -999.000,9, -999.000,9, -999.000,9,-999.0000,9,  -999.00,9,-999.000,   -999.0,9,   -999.0,9,    400,-999.0000,-999.000,-999.000,9,  9.5172,-999.000
      06MT28_1,   A08,   271,  2,   3174,    311,2,19940504,0303,-11.3347,  12.4993, 1738,    495.6,   7.7317,  34.7065,2,-999.0000,9,   -999.0,9,  -999.00,9,  -999.00,9, -999.000,9, -999.000,9, -999.000,9, -999.000,9, -999.000,9,-999.0000,9,  -999.00,9,-999.000,   -999.0,9,   -999.0,9,    500,-999.0000,-999.000,-999.000,9,  7.6818,-999.000
      06MT28_1,   A08,   271,  2,   3173,    310,2,19940504,0303,-11.3347,  12.4993, 1738,    595.6,   6.3103,  34.5861,2,  34.5863,2,   -999.0,9,  -999.00,9,  -999.00,9, -999.000,9, -999.000,9, -999.000,9, -999.000,9, -999.000,9,-999.0000,9,  -999.00,9,-999.000,   -999.0,9,   -999.0,9,    600,-999.0000,-999.000,-999.000,9,  6.2564,-999.000
      06MT28_1,   A08,   271,  2,   3172,    309,2,19940504,0303,-11.3347,  12.4993, 1738,    694.7,   5.3882,  34.5266,2,-999.0000,9,   -999.0,9,  -999.00,9,  -999.00,9, -999.000,9, -999.000,9, -999.000,9, -999.000,9, -999.000,9,-999.0000,9,  -999.00,9,-999.000,   -999.0,9,   -999.0,9,    699,-999.0000,-999.000,-999.000,9,  5.3298,-999.000
      06MT28_1,   A08,   271,  2,   3171,    308,2,19940504,0303,-11.3347,  12.4993, 1738,    844.9,   4.6193,  34.5218,2,-999.0000,9,   -999.0,9,  -999.00,9,  -999.00,9, -999.000,9, -999.000,9, -999.000,9, -999.000,9, -999.000,9,-999.0000,9,  -999.00,9,-999.000,   -999.0,9,   -999.0,9,    850,-999.0000,-999.000,-999.000,9,  4.5523,-999.000
      06MT28_1,   A08,   271,  2,   3226,    307,2,19940504,0303,-11.3347,  12.4993, 1738,    995.1,   4.2712,  34.5758,2,  34.5773,2,   -999.0,9,  -999.00,9,  -999.00,9, -999.000,9, -999.000,9, -999.000,9, -999.000,9, -999.000,9,-999.0000,9,  -999.00,9,-999.000,   -999.0,9,   -999.0,9,   1000,-999.0000,-999.000,-999.000,9,  4.1938,-999.000
      06MT28_1,   A08,   271,  2,   3224,    306,2,19940504,0303,-11.3347,  12.4993, 1738,   1195.5,   4.0654,  34.7162,2,-999.0000,9,   -999.0,9,  -999.00,9,  -999.00,9, -999.000,9, -999.000,9, -999.000,9, -999.000,9, -999.000,9,-999.0000,9,  -999.00,9,-999.000,   -999.0,9,   -999.0,9,   1200,-999.0000,-999.000,-999.000,9,  3.9722,-999.000
      06MT28_1,   A08,   271,  2,   3223,    305,2,19940504,0303,-11.3347,  12.4993, 1738,   1395.6,   3.9058,  34.8455,2,-999.0000,9,   -999.0,9,  -999.00,9,  -999.00,9, -999.000,9, -999.000,9, -999.000,9, -999.000,9, -999.000,9,-999.0000,9,  -999.00,9,-999.000,   -999.0,9,   -999.0,9,   1400,-999.0000,-999.000,-999.000,9,  3.7964,-999.000
      06MT28_1,   A08,   271,  2,   3222,    304,2,19940504,0303,-11.3347,  12.4993, 1738,   1607.2,   3.7493,  34.9073,2,  34.9097,2,   -999.0,9,  -999.00,9,  -999.00,9, -999.000,9, -999.000,9, -999.000,9, -999.000,9, -999.000,9,-999.0000,9,  -999.00,9,-999.000,   -999.0,9,   -999.0,9,   1611,-999.0000,-999.000,-999.000,9,  3.6225,-999.000
      06MT28_1,   A08,   271,  2,   3221,    303,2,19940504,0303,-11.3347,  12.4993, 1738,   1681.5,   3.6530,  34.9193,2,-999.0000,9,   -999.0,9,  -999.00,9,  -999.00,9, -999.000,9, -999.000,9, -999.000,9, -999.000,9, -999.000,9,-999.0000,9,  -999.00,9,-999.000,   -999.0,9,   -999.0,9,   1686,-999.0000,-999.000,-999.000,9,  3.5206,-999.000
      06MT28_1,   A08,   271,  2,   3220,    301,2,19940504,0303,-11.3347,  12.4993, 1738,   1710.1,   3.6474,  34.9196,2,  34.9214,2,   -999.0,9,  -999.00,9,  -999.00,9, -999.000,9, -999.000,9, -999.000,9, -999.000,9, -999.000,9,-999.0000,9,  -999.00,9,-999.000,   -999.0,9,   -999.0,9,   1714,-999.0000,-999.000,-999.000,9,  3.5124,-999.000
      06MT28_1,   A08,   271,  2,   3219,    302,2,19940504,0303,-11.3347,  12.4993, 1738,   1710.6,   3.6466,  34.9202,2,  34.9215,2,   -999.0,9,  -999.00,9,  -999.00,9, -999.000,9, -999.000,9, -999.000,9, -999.000,9, -999.000,9,-999.0000,9,  -999.00,9,-999.000,   -999.0,9,   -999.0,9,   1715,-999.0000,-999.000,-999.000,9,  3.5116,-999.000
      06MT28_1,   A08,   272,  2,   3218,    322,2,19940504,0635,-11.3335,  12.6667, 1612,      9.2,  27.6556,  36.0408,2,  36.0306,3,   -999.0,9,  -999.00,9,  -999.00,9, -999.000,9, -999.000,9, -999.000,9, -999.000,9, -999.000,9,-999.0000,9,  -999.00,9,-999.000,   -999.0,9,   -999.0,9,      8,-999.0000,-999.000,-999.000,9, 27.6535,-999.000
      06MT28_1,   A08,   272,  2,   3217,    321,2,19940504,0635,-11.3335,  12.6667, 1612,      9.3,  27.6478,  36.0396,2,-999.0000,9,   -999.0,9,  -999.00,9,  -999.00,9, -999.000,9, -999.000,9, -999.000,9, -999.000,9, -999.000,9,-999.0000,9,  -999.00,9,-999.000,   -999.0,9,   -999.0,9,      8,-999.0000,-999.000,-999.000,9, 27.6456,-999.000
      06MT28_1,   A08,   272,  2,   3216,    320,2,19940504,0635,-11.3335,  12.6667, 1612,      9.6,  27.6468,  36.0389,2,-999.0000,9,   -999.0,9,  -999.00,9,  -999.00,9,    1.503,2,    0.905,2,    0.111,2,    1.643,2, -999.000,9,   1.6600,2,    -1.61,2,   6.537,   -999.0,9,   -999.0,9,      8,  0.0060,   0.240,   0.021,2, 27.6446,-999.000
      06MT28_1,   A08,   272,  2,   3215,    319,2,19940504,0635,-11.3335,  12.6667, 1612,     29.8,  20.1164,  35.7726,2,-999.0000,9,   -999.0,9,  -999.00,9,  -999.00,9,    1.470,2,    0.835,2,    0.057,2,    0.282,2, -999.000,9,   1.7030,2,    -0.20,2,   6.969,   -999.0,9,   -999.0,9,     30,  0.0060,   0.240,   0.022,2, 20.1109,-999.000
      06MT28_1,   A08,   272,  2,   3214,    318,2,19940504,0635,-11.3335,  12.6667, 1612,     48.9,  17.6107,  35.7694,2,-999.0000,9,   -999.0,9,  -999.00,9,  -999.00,9,    1.404,2,    0.788,2,    0.072,2,    0.217,2,    0.720,2,   1.7180,2,     0.20,2,   7.072,   -999.0,9,   -999.0,9,     50,  0.0060,   0.240,   0.022,2, 17.6024,   0.019
      06MT28_1,   A08,   272,  2,   3213,    317,2,19940504,0635,-11.3335,  12.6667, 1612,     69.3,  16.7621,  35.7223,2,-999.0000,9,   -999.0,9,  -999.00,9,  -999.00,9,    1.352,2,    0.757,2,    0.075,2,    0.179,2, -999.000,9,   1.7140,2,     0.30,2,   7.101,   -999.0,9,   -999.0,9,     70,  0.0060,   0.240,   0.023,2, 16.7508,-999.000
      06MT28_1,   A08,   272,  2,   3212,    316,2,19940504,0635,-11.3335,  12.6667, 1612,     98.5,  16.3473,  35.6667,2,-999.0000,9,   -999.0,9,  -999.00,9,  -999.00,9,    1.286,2,    0.722,2,    0.060,2,    0.161,2, -999.000,9,   1.6700,3,     1.08,2,   6.859,   -999.0,9,   -999.0,9,    100,  0.0060,   0.250,   0.023,3, 16.3315,-999.000
      06MT28_1,   A08,   272,  2,   3210,    315,2,19940504,0635,-11.3335,  12.6667, 1612,    148.0,  14.6362,  35.4837,2,-999.0000,9,   -999.0,9,  -999.00,9,  -999.00,9,    0.960,2,    0.536,2,    0.048,2,    0.101,2, -999.000,9,-999.0000,9,  -999.00,9,-999.000,   -999.0,9,   -999.0,9,    150,-999.0000,-999.000,-999.000,9, 14.6141,-999.000
      06MT28_1,   A08,   272,  2,   3263,    314,2,19940504,0635,-11.3335,  12.6667, 1612,    199.2,  14.0793,  35.4116,2,-999.0000,9,   -999.0,9,  -999.00,9,  -999.00,9,    0.835,2,    0.470,2,    0.014,2,    0.113,2, -999.000,9,   1.7270,2,     1.89,2,   7.220,   -999.0,9,   -999.0,9,    201,  0.0060,   0.240,   0.023,2, 14.0503,-999.000
      06MT28_1,   A08,   272,  2,   3262,    313,2,19940504,0635,-11.3335,  12.6667, 1612,    296.8,  12.0833,  35.1798,2,  35.1738,2,   -999.0,9,  -999.00,9,  -999.00,9,    0.493,2,    0.283,2,    0.007,2,    0.103,2, -999.000,9,   1.7470,2,     1.52,2,   7.333,   -999.0,9,   -999.0,9,    300,  0.0070,   0.250,   0.024,2, 12.0442,-999.000
      06MT28_1,   A08,   272,  2,   3260,    312,2,19940504,0635,-11.3335,  12.6667, 1612,    396.3,   9.3887,  34.8727,2,-999.0000,9,   -999.0,9,  -999.00,9,  -999.00,9,    0.135,2,    0.081,2,   -0.014,4,    0.069,2, -999.000,9,-999.0000,9,  -999.00,9,-999.000,   -999.0,9,   -999.0,9,    400,-999.0000,-999.000,-999.000,9,  9.3441,-999.000
      06MT28_1,   A08,   272,  2,   3259,    311,2,19940504,0635,-11.3335,  12.6667, 1612,    495.9,   7.4570,  34.6760,2,-999.0000,9,   -999.0,9,  -999.00,9,  -999.00,9,    0.039,2,    0.025,2,   -0.014,4,    0.068,2, -999.000,9,   1.7810,6,     0.52,6,   7.631,   -999.0,9,   -999.0,9,    500,  0.0070,   0.250,   0.025,6,  7.4081,-999.000
      06MT28_1,   A08,   272,  2,   3258,    310,2,19940504,0635,-11.3335,  12.6667, 1612,    595.6,   6.1537,  34.5739,2,  34.5731,2,   -999.0,9,  -999.00,9,  -999.00,9,    0.014,2,    0.006,2,   -0.014,4,    0.048,2, -999.000,9,-999.0000,9,  -999.00,9,-999.000,   -999.0,9,   -999.0,9,    600,-999.0000,-999.000,-999.000,9,  6.1005,-999.000
      06MT28_1,   A08,   272,  2,   3257,    309,2,19940504,0635,-11.3335,  12.6667, 1612,    695.6,   5.3252,  34.5257,2,-999.0000,9,   -999.0,9,  -999.00,9,  -999.00,9, -999.000,9, -999.000,9, -999.000,9, -999.000,9, -999.000,9,   1.7900,2,     1.83,2,   7.739,   -999.0,9,   -999.0,9,    700,  0.0070,   0.250,   0.026,2,  5.2670,-999.000
      06MT28_1,   A08,   272,  2,   3256,    308,2,19940504,0635,-11.3335,  12.6667, 1612,    844.6,   4.6761,  34.5179,2,-999.0000,9,   -999.0,9,  -999.00,9,  -999.00,9,    0.004,2,    0.001,2,   -0.014,4,    0.020,2,   -0.002,2,   1.7770,2,     1.68,2,   7.763,   -999.0,9,   -999.0,9,    849,  0.0070,   0.240,   0.025,2,  4.6088,   0.003
      06MT28_1,   A08,   272,  2,   3255,    307,2,19940504,0635,-11.3335,  12.6667, 1612,    994.8,   4.2786,  34.5789,2,  34.5791,2,   -999.0,9,  -999.00,9,  -999.00,9,    0.002,2,    0.000,2,   -0.014,4,    0.012,2, -999.000,9,-999.0000,9,  -999.00,9,-999.000,   -999.0,9,   -999.0,9,   1000,-999.0000,-999.000,-999.000,9,  4.2012,-999.000
      06MT28_1,   A08,   272,  2,   3254,    306,2,19940504,0635,-11.3335,  12.6667, 1612,   1195.3,   4.0081,  34.7141,2,-999.0000,9,   -999.0,9,  -999.00,9,  -999.00,9,    0.002,2,    0.000,2,   -0.014,4,    0.008,2, -999.000,9,   1.8070,2,     2.65,2,   7.833,   -999.0,9,   -999.0,9,   1200,  0.0070,   0.250,   0.026,2,  3.9155,-999.000
      06MT28_1,   A08,   272,  2,   3253,    305,2,19940504,0635,-11.3335,  12.6667, 1612,   1395.3,   3.9544,  34.8558,2,-999.0000,9,   -999.0,9,  -999.00,9,  -999.00,9,    0.002,2,    0.000,2,   -0.014,4,    0.014,2,    0.789,4,   1.7940,2,     1.70,2,   7.833,   -999.0,9,   -999.0,9,   1400,  0.0070,   0.240,   0.025,2,  3.8444,   0.774
      06MT28_1,   A08,   272,  2,   3252,    304,2,19940504,0635,-11.3335,  12.6667, 1612,   1495.1,   3.8579,  34.8798,2,-999.0000,9,   -999.0,9,  -999.00,9,  -999.00,9,    0.002,2,    0.000,2,   -0.014,4,    0.011,2, -999.000,9,-999.0000,9,  -999.00,9,-999.000,   -999.0,9,   -999.0,9,   1500,-999.0000,-999.000,-999.000,9,  3.7400,-999.000
      06MT28_1,   A08,   272,  2,   3251,    303,2,19940504,0635,-11.3335,  12.6667, 1612,   1566.8,   3.8153,  34.8943,2,-999.0000,9,   -999.0,9,  -999.00,9,  -999.00,9, -999.000,9, -999.000,9, -999.000,9, -999.000,9, -999.000,9,   1.8030,2,     1.78,2,   7.873,   -999.0,9,   -999.0,9,   1571,  0.0070,   0.250,   0.026,2,  3.6914,-999.000
      06MT28_1,   A08,   272,  2,   3249,    302,2,19940504,0635,-11.3335,  12.6667, 1612,   1596.8,   3.7935,  34.8978,2,  34.8995,2,   -999.0,9,  -999.00,9,  -999.00,9, -999.000,9, -999.000,9, -999.000,9, -999.000,9, -999.000,9,-999.0000,9,  -999.00,9,-999.000,   -999.0,9,   -999.0,9,   1601,-999.0000,-999.000,-999.000,9,  3.6671,-999.000
      06MT28_1,   A08,   272,  2,   3298,    301,2,19940504,0635,-11.3335,  12.6667, 1612,   1597.0,   3.7937,  34.8987,2,  34.9019,2,   -999.0,9,  -999.00,9,  -999.00,9,    0.002,2,    0.000,2,   -0.014,4,    0.013,2,    0.008,2,   1.8140,6,     1.97,6,   7.886,   -999.0,9,   -999.0,9,   1601,  0.0070,   0.250,   0.026,6,  3.6673,   0.002