BOTTLE,20220817CCHSIOAMB
EXPOCODE,SECT_ID,STNNBR,CASTNO,SAMPNO,BTLNBR,BTLNBR_FLAG_W,DATE,TIME,LATITUDE,LONGITUDE,DEPTH,CTDPRS,CTDTMP,CTDSAL,CTDSAL_FLAG_W,SALNTY,SALNTY_FLAG_W,OXYGEN,OXYGEN_FLAG_W,SILCAT,SILCAT_FLAG_W,NO2+NO3,NO2+NO3_FLAG_W,CFC-11,CFC-11_FLAG_W,CFC-12,CFC-12_FLAG_W,CFC113,CFC113_FLAG_W,CCL4,CCL4_FLAG_W,TRITUM,TRITUM_FLAG_W,HELIUM,HELIUM_FLAG_W,DELHE3,DELHE3_FLAG_W,NEON,TCARBN,TCARBN_FLAG_W,PCO2,PCO2_FLAG_W,CTDRAW,HELIER,DELHER,NEONER,NEON_FLAG_W,THETA,TRITER
,,,,,,,,,,,,DBAR,ITS-90,PSS-78,,PSS-78,,UMOL/KG,,UMOL/KG,,UMOL/KG,,PMOL/KG,,PMOL/KG,,PMOL/KG,,PMOL/KG,,TU,,NMOL/KG,,PERCNT,,NMOL/KG,UMOL/KG,,UATM,,,NMOL/KG,PERCNT,NMOL/KG,,ITS-90,TU
      06MT28_1,   A08,   252,  2,   1083,    324,2,19940428,0731,-11.3340,   2.6665, 5573,     15.8,  26.0881,  36.5881,2,  36.5886,2,    199.7,2,     0.29,2,     0.10,2, -999.000,9, -999.000,9, -999.000,9, -999.000,9, -999.000,9,-999.0000,9,  -999.00,9,-999.000,   2044.8,2,   -999.0,9,     12,-999.0000,-999.000,-999.000,9, 26.0845,-999.000
      06MT28_1,   A08,   252,  2,   1123,    323,2,19940428,0731,-11.3340,   2.6665, 5573,    995.2,   4.1661,  34.5753,2,  34.5778,2,    138.5,2,    33.18,2,    33.37,2, -999.000,9, -999.000,9, -999.000,9, -999.000,9, -999.000,9,-999.0000,9,  -999.00,9,-999.000,   2226.9,2,   1280.2,2,   1000,-999.0000,-999.000,-999.000,9,  4.0895,-999.000
      06MT28_1,   A08,   252,  2,   1120,    322,2,19940428,0731,-11.3340,   2.6665, 5573,   1196.1,   3.9885,  34.7167,2,-999.0000,9,    159.9,2,    31.05,2,    29.62,2,    0.001,2,    0.000,2,    0.005,2,    0.006,2, -999.000,9,   1.7960,2,     2.68,2,   7.831,   2214.7,2,   1124.2,2,   1200,  0.0070,   0.250,   0.026,2,  3.8960,-999.000
      06MT28_1,   A08,   252,  2,   1118,    321,2,19940428,0731,-11.3340,   2.6665, 5573,   1397.7,   3.8677,  34.8388,2,-999.0000,9,    185.0,2,    26.93,2,    25.69,2,    0.000,2,    0.000,2,    0.038,4,    0.012,2,   -0.042,2,   1.7980,2,     2.13,2,   7.877,   2196.4,2,    973.3,2,   1401,  0.0070,   0.240,   0.025,2,  3.7585,   0.076
      06MT28_1,   A08,   252,  2,   1173,    320,2,19940428,0731,-11.3340,   2.6665, 5573,   1596.5,   3.7390,  34.8989,2,  34.8989,2,    202.2,2,    24.90,2,    23.29,2,    0.000,2,    0.000,2,   -0.005,2,    0.015,2, -999.000,9,-999.0000,9,  -999.00,9,-999.000,   2185.4,2,    957.7,2,   1599,-999.0000,-999.000,-999.000,9,  3.6133,-999.000
      06MT28_1,   A08,   252,  2,   1171,    319,2,19940428,0731,-11.3340,   2.6665, 5573,   1799.1,   3.5441,  34.9206,2,-999.0000,9,    209.2,2,    25.83,2,    22.22,2,    0.002,2,    0.000,2,    0.009,2,    0.011,2, -999.000,9,   1.7310,4,     1.98,2,   7.531,   2182.4,2,    858.2,2,   1801,  0.0070,   0.250,   0.025,4,  3.4023,-999.000
      06MT28_1,   A08,   252,  2,   1170,    318,2,19940428,0731,-11.3340,   2.6665, 5573,   1998.0,   3.3357,  34.9303,2,  34.9297,2,    217.5,2,    27.52,2,    21.44,2,    0.000,2,    0.000,2,   -0.005,2,    0.010,2, -999.000,9,-999.0000,9,  -999.00,9,-999.000,   2181.1,2,    837.5,2,   2000,-999.0000,-999.000,-999.000,9,  3.1784,-999.000
      06MT28_1,   A08,   252,  2,   1169,    317,2,19940428,0731,-11.3340,   2.6665, 5573,   2247.2,   3.1119,  34.9268,2,-999.0000,9,    216.1,2,    31.37,2,    21.51,2,    0.004,3,    0.000,2,   -0.005,2,    0.006,2,    0.010,2,   1.8170,2,     2.39,2,   7.954,   2186.1,2,    845.5,2,   2248,  0.0070,   0.250,   0.026,2,  2.9346,   0.002
      06MT28_1,   A08,   252,  2,   1168,    316,2,19940428,0731,-11.3340,   2.6665, 5573,   2501.8,   2.9169,  34.9218,2,-999.0000,9,    216.7,2,    35.12,2,    21.49,2,    0.000,2,    0.000,2,   -0.002,2,    0.003,2, -999.000,9,-999.0000,9,  -999.00,9,-999.000,   2188.8,2,    836.0,2,   2502,-999.0000,-999.000,-999.000,9,  2.7184,-999.000
      06MT28_1,   A08,   252,  2,   1167,    315,2,19940428,0731,-11.3340,   2.6665, 5573,   2751.1,   2.7705,  34.9151,2,-999.0000,9,    217.6,2,    38.11,2,    21.56,2,    0.002,2,    0.000,2,    0.005,2,    0.004,2, -999.000,9,-999.0000,9,  -999.00,9,-999.000,   2193.4,2,    842.5,2,   2750,-999.0000,-999.000,-999.000,9,  2.5501,-999.000
      06MT28_1,   A08,   252,  2,   1166,    314,2,19940428,0731,-11.3340,   2.6665, 5573,   3003.6,   2.6209,  34.9038,2,  34.9030,2,    218.3,2,    41.09,2,    21.73,2,    0.001,2,    0.000,2,    0.005,2,    0.002,2, -999.000,9,-999.0000,9,  -999.00,9,-999.000,   2194.7,2,    828.3,2,   3001,-999.0000,-999.000,-999.000,9,  2.3781,-999.000
      06MT28_1,   A08,   252,  2,   1165,    313,2,19940428,0731,-11.3340,   2.6665, 5573,   3253.1,   2.4918,  34.8969,2,-999.0000,9,    215.7,2,    45.58,2,    22.08,2,    0.002,2,    0.000,2,    0.011,2,    0.005,2, -999.000,9,-999.0000,9,  -999.00,9,-999.000,   2204.5,2,    850.2,2,   3250,-999.0000,-999.000,-999.000,9,  2.2260,-999.000
      06MT28_1,   A08,   252,  2,   1164,    312,2,19940428,0731,-11.3340,   2.6665, 5573,   3503.2,   2.4065,  34.8934,2,  34.8918,2,    211.8,2,    48.92,2,    22.44,2,    0.000,2,    0.000,2,    0.008,2,    0.002,2,    0.004,2,   1.8170,2,     3.01,2,   7.930,   2211.9,2,    841.5,2,   3499,  0.0070,   0.240,   0.025,2,  2.1161,   0.002
      06MT28_1,   A08,   252,  2,   1163,    311,2,19940428,0731,-11.3340,   2.6665, 5573,   3753.5,   2.3580,  34.8903,2,-999.0000,9,    216.0,2,    48.59,2,    22.13,2,   -0.002,2,    0.001,2,    0.001,2,    0.004,2, -999.000,9,-999.0000,9,  -999.00,9,-999.000,   2208.9,2,    850.9,2,   3749,-999.0000,-999.000,-999.000,9,  2.0416,-999.000
      06MT28_1,   A08,   252,  2,   1162,    310,2,19940428,0731,-11.3340,   2.6665, 5573,   4006.4,   2.3528,  34.8895,2,  34.8872,2,    217.7,2,    48.63,2,    22.11,2,    0.007,4,    0.000,2,    0.002,2,    0.007,2, -999.000,9,   1.8380,2,     3.09,2,   8.093,   2208.9,2,    836.7,2,   4001,  0.0070,   0.250,   0.027,2,  2.0080,-999.000
      06MT28_1,   A08,   252,  2,   1161,    309,2,19940428,0731,-11.3340,   2.6665, 5573,   4254.1,   2.3605,  34.8876,2,-999.0000,9,    219.2,2,    48.87,2,    21.99,2,    0.001,2,    0.000,2,   -0.005,2,    0.008,2, -999.000,9,-999.0000,9,  -999.00,9,-999.000,   2208.3,2,    823.5,2,   4248,-999.0000,-999.000,-999.000,9,  1.9868,-999.000
      06MT28_1,   A08,   252,  2,   1160,    308,2,19940428,0731,-11.3340,   2.6665, 5573,   4507.4,   2.3690,  34.8854,2,-999.0000,9,    218.2,2,    49.10,2,    21.97,2,    0.003,2,    0.001,2,    0.009,2,    0.012,2, -999.000,9,   1.8430,2,     2.60,2,   8.105,   2209.6,2,    821.7,2,   4501,  0.0070,   0.250,   0.027,2,  1.9650,-999.000
      06MT28_1,   A08,   252,  2,   1158,    307,2,19940428,0731,-11.3340,   2.6665, 5573,   4755.2,   2.3834,  34.8830,2,-999.0000,9,    221.1,2,    49.24,2,    21.95,2,    0.003,2,    0.000,2,    0.012,2,    0.011,2, -999.000,9,-999.0000,9,  -999.00,9,-999.000,   2208.3,2,    849.9,2,   4749,-999.0000,-999.000,-999.000,9,  1.9487,-999.000
      06MT28_1,   A08,   252,  2,   1213,    306,2,19940428,0731,-11.3340,   2.6665, 5573,   5006.6,   2.3981,  34.8810,2,  34.8803,2,    217.8,2,    49.09,2,    21.83,2,    0.004,2,    0.000,2,    0.014,2,    0.018,2,    0.003,2,   1.8280,2,     2.91,2,   8.000,   2207.2,2,    818.8,2,   5000,  0.0070,   0.240,   0.025,2,  1.9313,   0.002
      06MT28_1,   A08,   252,  2,   1211,    305,2,19940428,0731,-11.3340,   2.6665, 5573,   5256.0,   2.4183,  34.8794,2,-999.0000,9,    219.8,2,    49.23,2,    21.71,2,    0.008,2,    0.001,2,    0.004,2,    0.023,2, -999.000,9,   1.8330,2,     3.01,2,   8.022,   2207.2,2,    848.2,2,   5249,  0.0070,   0.250,   0.026,2,  1.9189,-999.000
      06MT28_1,   A08,   252,  2,   1208,    304,2,19940428,0731,-11.3340,   2.6665, 5573,   5568.5,   2.4536,  34.8782,2,-999.0000,9,    218.8,2,    48.89,2,    21.73,2,    0.004,2,    0.001,2,    0.015,2,    0.030,2, -999.000,9,-999.0000,9,  -999.00,9,-999.000,   2205.6,2,    825.0,2,   5562,-999.0000,-999.000,-999.000,9,  1.9118,-999.000
      06MT28_1,   A08,   252,  2,   1207,    303,2,19940428,0731,-11.3340,   2.6665, 5573,   5638.8,   2.4599,  34.8784,2,-999.0000,9,    219.0,2,    48.92,2,    21.73,2,    0.006,2,    0.002,2,    0.032,4,    0.035,2, -999.000,9,-999.0000,9,  -999.00,9,-999.000,   2205.5,2,    821.8,2,   5632,-999.0000,-999.000,-999.000,9,  1.9084,-999.000
      06MT28_1,   A08,   252,  2,   1206,    301,2,19940428,0731,-11.3340,   2.6665, 5573,   5668.9,   2.4642,  34.8775,2,  34.8777,2,    218.7,2,    48.92,2,    21.73,2,    0.008,2,    0.001,2,    0.150,4,    0.034,2, -999.000,9,-999.0000,9,  -999.00,9,-999.000,   2205.4,2,    813.5,6,   5662,-999.0000,-999.000,-999.000,9,  1.9085,-999.000
      06MT28_1,   A08,   252,  2,   1205,    302,2,19940428,0731,-11.3340,   2.6665, 5573,   5669.3,   2.4641,  34.8786,2,  34.8770,2,    218.6,2,    49.06,2,    21.68,2,    0.011,2,    0.002,2,   -0.005,2,    0.034,2,   -0.015,2,   1.8270,6,     2.98,6,   8.021,   2205.7,2,    830.9,2,   5662,  0.0070,   0.250,   0.026,6,  1.9084,   0.126
      06MT28_1,   A08,   253,  1,   1204,    223,2,19940428,1349,-11.3327,   3.3332, 5556,     10.1,  26.0196,  36.4237,2,  36.4223,2,   -999.0,9,     0.38,2,     0.00,2, -999.000,9, -999.000,9, -999.000,9, -999.000,9, -999.000,9,-999.0000,9,  -999.00,9,-999.000,   -999.0,9,   -999.0,9,      9,-999.0000,-999.000,-999.000,9, 26.0174,-999.000
      06MT28_1,   A08,   253,  1,   1202,    221,2,19940428,1349,-11.3327,   3.3332, 5556,     40.3,  21.3693,  36.0671,2,-999.0000,9,    221.4,2,     2.01,2,     1.15,2, -999.000,9, -999.000,9, -999.000,9, -999.000,9, -999.000,9,-999.0000,9,  -999.00,9,-999.000,   -999.0,9,   -999.0,9,     40,-999.0000,-999.000,-999.000,9, 21.3615,-999.000
      06MT28_1,   A08,   253,  1,   1201,    220,2,19940428,1349,-11.3327,   3.3332, 5556,     59.5,  16.2611,  35.6175,2,-999.0000,9,     75.2,2,     5.56,2,    20.51,2, -999.000,9, -999.000,9, -999.000,9, -999.000,9, -999.000,9,-999.0000,9,  -999.00,9,-999.000,   -999.0,9,   -999.0,9,     59,-999.0000,-999.000,-999.000,9, 16.2515,-999.000
      06MT28_1,   A08,   253,  1,   1200,    219,2,19940428,1349,-11.3327,   3.3332, 5556,     79.8,  15.0954,  35.5223,2,-999.0000,9,     61.2,2,     6.80,2,    23.48,2, -999.000,9, -999.000,9, -999.000,9, -999.000,9, -999.000,9,-999.0000,9,  -999.00,9,-999.000,   -999.0,9,   -999.0,9,     79,-999.0000,-999.000,-999.000,9, 15.0833,-999.000
      06MT28_1,   A08,   253,  1,   1199,    218,2,19940428,1349,-11.3327,   3.3332, 5556,    119.8,  13.8997,  35.3935,2,-999.0000,9,     62.1,2,     7.95,2,    24.62,2, -999.000,9, -999.000,9, -999.000,9, -999.000,9, -999.000,9,-999.0000,9,  -999.00,9,-999.000,   -999.0,9,   -999.0,9,    119,-999.0000,-999.000,-999.000,9, 13.8824,-999.000
      06MT28_1,   A08,   253,  1,   1198,    217,2,19940428,1349,-11.3327,   3.3332, 5556,    180.9,  12.5826,  35.2293,2,-999.0000,9,     67.1,2,     9.19,2,    26.05,2, -999.000,9, -999.000,9, -999.000,9, -999.000,9, -999.000,9,-999.0000,9,  -999.00,9,-999.000,   -999.0,9,   -999.0,9,    181,-999.0000,-999.000,-999.000,9, 12.5582,-999.000
      06MT28_1,   A08,   253,  1,   1196,    216,2,19940428,1349,-11.3327,   3.3332, 5556,    250.0,  11.5129,  35.1048,2,  35.1001,2,     35.7,2,    11.77,2,    31.30,2, -999.000,9, -999.000,9, -999.000,9, -999.000,9, -999.000,9,-999.0000,9,  -999.00,9,-999.000,   -999.0,9,   -999.0,9,    250,-999.0000,-999.000,-999.000,9, 11.4810,-999.000
      06MT28_1,   A08,   253,  1,   1251,    215,2,19940428,1349,-11.3327,   3.3332, 5556,    349.6,   9.7703,  34.9119,2,-999.0000,9,     19.5,2,    15.40,2,    35.87,2, -999.000,9, -999.000,9, -999.000,9, -999.000,9, -999.000,9,-999.0000,9,  -999.00,9,-999.000,   -999.0,9,   -999.0,9,    349,-999.0000,-999.000,-999.000,9,  9.7301,-999.000
      06MT28_1,   A08,   253,  1,   1250,    214,2,19940428,1349,-11.3327,   3.3332, 5556,    448.7,   7.9523,  34.7289,2,-999.0000,9,     27.9,2,    19.31,2,    39.01,2, -999.000,9, -999.000,9, -999.000,9, -999.000,9, -999.000,9,-999.0000,9,  -999.00,9,-999.000,   -999.0,9,   -999.0,9,    448,-999.0000,-999.000,-999.000,9,  7.9065,-999.000
      06MT28_1,   A08,   253,  1,   1247,    213,2,19940428,1349,-11.3327,   3.3332, 5556,    549.8,   6.7525,  34.6253,2,  34.6254,2,     43.3,2,    22.55,2,    39.94,2, -999.000,9, -999.000,9, -999.000,9, -999.000,9, -999.000,9,-999.0000,9,  -999.00,9,-999.000,   -999.0,9,   -999.0,9,    550,-999.0000,-999.000,-999.000,9,  6.7010,-999.000
      06MT28_1,   A08,   253,  1,   1245,    212,2,19940428,1349,-11.3327,   3.3332, 5556,    649.5,   5.6742,  34.5432,2,-999.0000,9,     70.1,2,    26.07,2,    39.44,2, -999.000,9, -999.000,9, -999.000,9, -999.000,9, -999.000,9,-999.0000,9,  -999.00,9,-999.000,   -999.0,9,   -999.0,9,    650,-999.0000,-999.000,-999.000,9,  5.6184,-999.000
      06MT28_1,   A08,   253,  1,   1244,    211,2,19940428,1349,-11.3327,   3.3332, 5556,    749.8,   4.9474,  34.5080,2,-999.0000,9,    100.5,2,    29.50,2,    37.32,2, -999.000,9, -999.000,9, -999.000,9, -999.000,9, -999.000,9,-999.0000,9,  -999.00,9,-999.000,   -999.0,9,   -999.0,9,    750,-999.0000,-999.000,-999.000,9,  4.8866,-999.000
      06MT28_1,   A08,   253,  1,   1243,    210,2,19940428,1349,-11.3327,   3.3332, 5556,    823.7,   4.5736,  34.5100,2,-999.0000,9,    118.8,2,    31.30,2,    35.78,2, -999.000,9, -999.000,9, -999.000,9, -999.000,9, -999.000,9,-999.0000,9,  -999.00,9,-999.000,   -999.0,9,   -999.0,9,    825,-999.0000,-999.000,-999.000,9,  4.5087,-999.000
      06MT28_1,   A08,   253,  1,   1242,    209,2,19940428,1349,-11.3327,   3.3332, 5556,    923.4,   4.2948,  34.5429,2,-999.0000,9,    126.3,2,    33.09,2,    34.71,2, -999.000,9, -999.000,9, -999.000,9, -999.000,9, -999.000,9,-999.0000,9,  -999.00,9,-999.000,   -999.0,9,   -999.0,9,    925,-999.0000,-999.000,-999.000,9,  4.2233,-999.000
      06MT28_1,   A08,   253,  1,   1241,    208,2,19940428,1349,-11.3327,   3.3332, 5556,   1000.2,   4.1648,  34.5788,2,  34.5792,2,    133.5,2,    33.56,2,    33.70,2, -999.000,9, -999.000,9, -999.000,9, -999.000,9, -999.000,9,-999.0000,9,  -999.00,9,-999.000,   -999.0,9,   -999.0,9,   1002,-999.0000,-999.000,-999.000,9,  4.0878,-999.000