BOTTLE,20220817CCHSIOAMB
EXPOCODE,SECT_ID,STNNBR,CASTNO,SAMPNO,BTLNBR,BTLNBR_FLAG_W,DATE,TIME,LATITUDE,LONGITUDE,DEPTH,CTDPRS,CTDTMP,CTDSAL,CTDSAL_FLAG_W,SALNTY,SALNTY_FLAG_W,OXYGEN,OXYGEN_FLAG_W,SILCAT,SILCAT_FLAG_W,NO2+NO3,NO2+NO3_FLAG_W,CFC-11,CFC-11_FLAG_W,CFC-12,CFC-12_FLAG_W,CFC113,CFC113_FLAG_W,CCL4,CCL4_FLAG_W,TRITUM,TRITUM_FLAG_W,HELIUM,HELIUM_FLAG_W,DELHE3,DELHE3_FLAG_W,NEON,TCARBN,TCARBN_FLAG_W,PCO2,PCO2_FLAG_W,CTDRAW,HELIER,DELHER,NEONER,NEON_FLAG_W,THETA,TRITER
,,,,,,,,,,,,DBAR,ITS-90,PSS-78,,PSS-78,,UMOL/KG,,UMOL/KG,,UMOL/KG,,PMOL/KG,,PMOL/KG,,PMOL/KG,,PMOL/KG,,TU,,NMOL/KG,,PERCNT,,NMOL/KG,UMOL/KG,,UATM,,,NMOL/KG,PERCNT,NMOL/KG,,ITS-90,TU
      06MT28_1,   A08,   242,  2,     43,    324,2,19940425,0150,-11.3337,  -1.9992, 5366,     16.5,  26.2322,  36.5560,2,  36.5564,2,    196.6,2,     1.06,2,     0.00,2, -999.000,9, -999.000,9, -999.000,9, -999.000,9, -999.000,9,-999.0000,9,  -999.00,9,-999.000,   -999.0,9,   -999.0,9,     13,-999.0000,-999.000,-999.000,9, 26.2285,-999.000
      06MT28_1,   A08,   242,  2,    212,    323,2,19940425,0150,-11.3337,  -1.9992, 5366,    919.7,   4.4084,  34.5212,2,-999.0000,9,    128.6,2,    32.24,2,    34.91,2, -999.000,9, -999.000,9, -999.000,9, -999.000,9, -999.000,9,-999.0000,9,  -999.00,9,-999.000,   -999.0,9,   -999.0,9,    924,-999.0000,-999.000,-999.000,9,  4.3365,-999.000
      06MT28_1,   A08,   242,  2,    240,    322,2,19940425,0150,-11.3337,  -1.9992, 5366,   1096.8,   4.0623,  34.6222,2,  34.6282,2,    148.4,2,    32.49,2,    31.92,2,    0.002,2,    0.001,2,    0.009,2,    0.012,2, -999.000,9,   1.8000,2,     1.92,2,   7.832,   -999.0,9,   -999.0,9,   1101,  0.0070,   0.250,   0.026,2,  3.9778,-999.000
      06MT28_1,   A08,   242,  2,    239,    321,2,19940425,0150,-11.3337,  -1.9992, 5366,   1290.4,   3.8788,  34.7771,2,-999.0000,9,    173.9,2,    29.22,2,    27.61,2,    0.001,2,    0.000,2,    0.001,2,    0.013,2,    0.078,2,   0.0000,4,  -999.00,5,   0.001,   -999.0,9,   -999.0,9,   1294,  0.0000,   0.240,   0.000,4,  3.7790,   0.014
      06MT28_1,   A08,   242,  2,    276,    320,2,19940425,0150,-11.3337,  -1.9992, 5366,   1496.3,   3.7806,  34.8742,2,  34.8749,2,    194.6,2,    25.68,2,    24.25,2,    0.002,2,    0.003,3,    0.002,2,    0.014,2, -999.000,9,-999.0000,9,  -999.00,9,-999.000,   -999.0,9,   -999.0,9,   1499,-999.0000,-999.000,-999.000,9,  3.6635,-999.000
      06MT28_1,   A08,   242,  2,    274,    319,2,19940425,0150,-11.3337,  -1.9992, 5366,   1696.9,   3.6239,  34.9127,2,-999.0000,9,    206.3,2,    25.08,2,    22.52,2,    0.002,2,    0.005,3,    0.004,2,    0.017,2, -999.000,9,   1.8110,2,     2.63,2,   7.858,   -999.0,9,   -999.0,9,   1699,  0.0070,   0.250,   0.026,2,  3.4904,-999.000
      06MT28_1,   A08,   242,  2,    273,    318,2,19940425,0150,-11.3337,  -1.9992, 5366,   1898.1,   3.4363,  34.9243,2,-999.0000,9,    212.8,2,    26.58,2,    21.93,2,    0.001,2,    0.001,2,    0.004,2,    0.012,2,    0.015,2,   1.8370,2,     2.29,2,   7.967,   -999.0,9,   -999.0,9,   1900,  0.0070,   0.240,   0.025,2,  3.2868,   0.007
      06MT28_1,   A08,   242,  2,    272,    317,2,19940425,0150,-11.3337,  -1.9992, 5366,   2098.4,   3.2524,  34.9281,2,  34.9289,2,    215.0,2,    29.02,2,    21.62,2,    0.003,2,    0.001,2,    0.007,2,    0.009,2, -999.000,9,   1.8170,2,     2.50,2,   7.892,   -999.0,9,   -999.0,9,   2100,  0.0070,   0.250,   0.026,2,  3.0869,-999.000
      06MT28_1,   A08,   242,  2,    271,    316,2,19940425,0150,-11.3337,  -1.9992, 5366,   2348.3,   3.0313,  34.9221,2,-999.0000,9,    218.0,2,    32.30,2,    21.41,2,    0.003,2,    0.007,3,    0.008,2,    0.015,2, -999.000,9,   1.8330,2,     3.36,2,   7.964,   -999.0,9,   -999.0,9,   2349,  0.0070,   0.250,   0.026,2,  2.8456,-999.000
      06MT28_1,   A08,   242,  2,    270,    315,2,19940425,0150,-11.3337,  -1.9992, 5366,   2600.2,   2.8310,  34.9138,2,-999.0000,9,    219.1,2,    36.05,2,    21.58,2, -999.000,9, -999.000,9, -999.000,9, -999.000,9, -999.000,9,-999.0000,9,  -999.00,9,-999.000,   -999.0,9,   -999.0,9,   2600,-999.0000,-999.000,-999.000,9,  2.6245,-999.000
      06MT28_1,   A08,   242,  2,    269,    314,2,19940425,0150,-11.3337,  -1.9992, 5366,   2856.3,   2.6886,  34.9065,2,-999.0000,9,    219.5,2,    41.78,2,    21.84,2,    0.001,2,    0.001,2,    0.000,2,    0.005,2, -999.000,9,   1.8180,2,     3.06,2,   7.952,   -999.0,9,   -999.0,9,   2855,  0.0070,   0.240,   0.025,2,  2.4594,-999.000
      06MT28_1,   A08,   242,  2,    268,    313,2,19940425,0150,-11.3337,  -1.9992, 5366,   3101.0,   2.5846,  34.9017,2,  34.9028,2,    219.2,2,    39.09,2,    21.62,2,    0.002,2,    0.005,3,    0.004,2,    0.004,2, -999.000,9,   1.8280,2,     3.78,2,   7.962,   -999.0,9,   -999.0,9,   3099,  0.0070,   0.250,   0.026,2,  2.3326,-999.000
      06MT28_1,   A08,   242,  2,    343,    312,2,19940425,0150,-11.3337,  -1.9992, 5366,   3345.6,   2.4929,  34.8978,2,-999.0000,9,    216.8,2,    44.34,2,    21.88,2,    0.003,2,    0.002,2,    0.002,2,    0.006,2, -999.000,9,   1.8380,2,     4.05,2,   7.988,   -999.0,9,   -999.0,9,   3342,  0.0070,   0.250,   0.026,2,  2.2173,-999.000
      06MT28_1,   A08,   242,  2,    341,    311,2,19940425,0150,-11.3337,  -1.9992, 5366,   3603.6,   2.4269,  34.8942,2,-999.0000,9,    216.0,2,    46.36,2,    21.96,2, -999.000,9, -999.000,9, -999.000,9, -999.000,9, -999.000,9,-999.0000,9,  -999.00,9,-999.000,   -999.0,9,   -999.0,9,   3600,-999.0000,-999.000,-999.000,9,  2.1251,-999.000
      06MT28_1,   A08,   242,  2,    340,    310,2,19940425,0150,-11.3337,  -1.9992, 5366,   3855.6,   2.3849,  34.8904,2,-999.0000,9,   -999.0,9,    47.25,2,    21.93,2,    0.004,2,    0.002,2,    0.003,2,    0.011,2,    0.040,2,   1.8410,6,     2.53,6,   7.983,   -999.0,9,   -999.0,9,   3851,  0.0070,   0.250,   0.026,6,  2.0563,   0.011
      06MT28_1,   A08,   242,  2,    339,    309,2,19940425,0150,-11.3337,  -1.9992, 5366,   4104.6,   2.3706,  34.8884,2,  34.8897,2,   -999.0,9,    47.67,2,    21.91,2, -999.000,9, -999.000,9, -999.000,9, -999.000,9, -999.000,9,-999.0000,9,  -999.00,9,-999.000,   -999.0,9,   -999.0,9,   4099,-999.0000,-999.000,-999.000,9,  2.0141,-999.000
      06MT28_1,   A08,   242,  2,    338,    308,2,19940425,0150,-11.3337,  -1.9992, 5366,   4355.1,   2.3639,  34.8846,2,-999.0000,9,   -999.0,9,    47.72,2,    21.79,2,    0.007,2,    0.002,2,    0.000,2,    0.020,2, -999.000,9,   1.8280,2,     3.19,2,   8.007,   -999.0,9,   -999.0,9,   4349,  0.0070,   0.250,   0.026,2,  1.9782,-999.000
      06MT28_1,   A08,   242,  2,    337,    307,2,19940425,0150,-11.3337,  -1.9992, 5366,   4605.1,   2.3776,  34.8839,2,-999.0000,9,   -999.0,9,    48.14,2,    21.77,2, -999.000,9, -999.000,9, -999.000,9, -999.000,9, -999.000,9,-999.0000,9,  -999.00,9,-999.000,   -999.0,9,   -999.0,9,   4599,-999.0000,-999.000,-999.000,9,  1.9615,-999.000
      06MT28_1,   A08,   242,  2,    336,    306,2,19940425,0150,-11.3337,  -1.9992, 5366,   4855.3,   2.3870,  34.8818,2,-999.0000,9,   -999.0,9,    48.47,2,    21.75,2,    0.008,2,    0.001,2,    0.008,2,    0.025,2, -999.000,9,   1.8410,2,     3.22,2,   8.042,   -999.0,9,   -999.0,9,   4849,  0.0070,   0.250,   0.027,2,  1.9397,-999.000
      06MT28_1,   A08,   242,  2,    333,    305,2,19940425,0150,-11.3337,  -1.9992, 5366,   5105.5,   2.4070,  34.8802,2,  34.8807,2,   -999.0,9,    48.61,2,    21.82,2,    0.007,2,    0.001,2,    0.005,2,    0.027,2,    0.021,2,   1.8240,2,     3.20,2,   8.003,   -999.0,9,   -999.0,9,   5099,  0.0070,   0.240,   0.025,2,  1.9273,   0.089
      06MT28_1,   A08,   242,  2,    334,    304,2,19940425,0150,-11.3337,  -1.9992, 5366,   5356.8,   2.4357,  34.8806,2,-999.0000,9,   -999.0,9,    48.74,2,    21.80,2,    0.008,2,    0.001,2,    0.014,2,    0.036,2, -999.000,9,   1.8320,2,     2.87,2,   8.010,   -999.0,9,   -999.0,9,   5350,  0.0070,   0.250,   0.026,2,  1.9225,-999.000
      06MT28_1,   A08,   242,  2,    185,    303,2,19940425,0150,-11.3337,  -1.9992, 5366,   5423.4,   2.4444,  34.8805,2,-999.0000,9,   -999.0,9,    48.59,2,    21.79,2, -999.000,9, -999.000,9, -999.000,9, -999.000,9, -999.000,9,-999.0000,9,  -999.00,9,-999.000,   -999.0,9,   -999.0,9,   5417,-999.0000,-999.000,-999.000,9,  1.9221,-999.000
      06MT28_1,   A08,   242,  2,    184,    301,2,19940425,0150,-11.3337,  -1.9992, 5366,   5455.2,   2.4482,  34.8804,2,  34.8795,2,   -999.0,9,    48.58,2,    21.93,2,    0.009,2,    0.002,2,    0.008,2,    0.031,2,    0.012,2,  -1.4510,4,  -999.00,5,  -4.522,   -999.0,9,   -999.0,9,   5449, -0.0050,   0.240,  -0.014,4,  1.9216,   0.003
      06MT28_1,   A08,   242,  2,    183,    302,2,19940425,0150,-11.3337,  -1.9992, 5366,   5455.3,   2.4483,  34.8802,2,  34.8797,2,   -999.0,9,    48.72,2,    21.74,2,    0.011,2,    0.002,2,    0.007,2,    0.029,2, -999.000,9,-999.0000,9,  -999.00,9,-999.000,   -999.0,9,   -999.0,9,   5449,-999.0000,-999.000,-999.000,9,  1.9217,-999.000
      06MT28_1,   A08,   243,  1,    376,    220,2,19940425,0738,-11.3333,  -1.5000, 5211,     11.1,  26.0978,  36.5414,2,  36.5410,2,    195.5,2,     0.96,2,     0.00,2, -999.000,9, -999.000,9, -999.000,9, -999.000,9, -999.000,9,-999.0000,9,  -999.00,9,-999.000,   -999.0,9,   -999.0,9,     10,-999.0000,-999.000,-999.000,9, 26.0954,-999.000
      06MT28_1,   A08,   243,  1,    373,    219,2,19940425,0738,-11.3333,  -1.5000, 5211,     30.9,  26.0596,  36.5751,2,-999.0000,9,    196.3,2,     0.86,2,     0.00,2, -999.000,9, -999.000,9, -999.000,9, -999.000,9, -999.000,9,-999.0000,9,  -999.00,9,-999.000,   -999.0,9,   -999.0,9,     30,-999.0000,-999.000,-999.000,9, 26.0527,-999.000
      06MT28_1,   A08,   243,  1,    372,    218,2,19940425,0738,-11.3333,  -1.5000, 5211,     50.6,  24.2845,  36.7026,2,-999.0000,9,    206.9,2,     0.86,2,     0.00,2, -999.000,9, -999.000,9, -999.000,9, -999.000,9, -999.000,9,-999.0000,9,  -999.00,9,-999.000,   -999.0,9,   -999.0,9,     50,-999.0000,-999.000,-999.000,9, 24.2736,-999.000
      06MT28_1,   A08,   243,  1,    371,    217,2,19940425,0738,-11.3333,  -1.5000, 5211,     70.6,  19.0401,  36.0841,2,-999.0000,9,    174.6,2,     2.11,2,     6.42,2, -999.000,9, -999.000,9, -999.000,9, -999.000,9, -999.000,9,-999.0000,9,  -999.00,9,-999.000,   -999.0,9,   -999.0,9,     70,-999.0000,-999.000,-999.000,9, 19.0274,-999.000
      06MT28_1,   A08,   243,  1,    370,    216,2,19940425,0738,-11.3333,  -1.5000, 5211,     99.9,  15.0318,  35.5475,2,-999.0000,9,    101.3,2,     5.08,2,    19.45,2, -999.000,9, -999.000,9, -999.000,9, -999.000,9, -999.000,9,-999.0000,9,  -999.00,9,-999.000,   -999.0,9,   -999.0,9,     99,-999.0000,-999.000,-999.000,9, 15.0167,-999.000
      06MT28_1,   A08,   243,  1,    369,    215,2,19940425,0738,-11.3333,  -1.5000, 5211,    150.0,  12.7961,  35.2689,2,-999.0000,9,     67.6,2,     8.43,2,    26.05,2, -999.000,9, -999.000,9, -999.000,9, -999.000,9, -999.000,9,-999.0000,9,  -999.00,9,-999.000,   -999.0,9,   -999.0,9,    149,-999.0000,-999.000,-999.000,9, 12.7756,-999.000
      06MT28_1,   A08,   243,  1,    368,    214,2,19940425,0738,-11.3333,  -1.5000, 5211,    199.7,  11.5830,  35.1169,2,-999.0000,9,     57.7,2,    10.44,2,    28.91,2, -999.000,9, -999.000,9, -999.000,9, -999.000,9, -999.000,9,-999.0000,9,  -999.00,9,-999.000,   -999.0,9,   -999.0,9,    199,-999.0000,-999.000,-999.000,9, 11.5575,-999.000
      06MT28_1,   A08,   243,  1,    367,    213,2,19940425,0738,-11.3333,  -1.5000, 5211,    298.9,  10.0038,  34.9305,2,  34.9343,2,     51.6,2,    13.40,2,    32.44,2, -999.000,9, -999.000,9, -999.000,9, -999.000,9, -999.000,9,-999.0000,9,  -999.00,9,-999.000,   -999.0,9,   -999.0,9,    298,-999.0000,-999.000,-999.000,9,  9.9690,-999.000
      06MT28_1,   A08,   243,  1,    417,    212,2,19940425,0738,-11.3333,  -1.5000, 5211,    400.4,   8.6997,  34.7889,2,-999.0000,9,     58.7,2,    15.97,2,    34.33,2, -999.000,9, -999.000,9, -999.000,9, -999.000,9, -999.000,9,-999.0000,9,  -999.00,9,-999.000,   -999.0,9,   -999.0,9,    400,-999.0000,-999.000,-999.000,9,  8.6567,-999.000
      06MT28_1,   A08,   243,  1,    413,    211,2,19940425,0738,-11.3333,  -1.5000, 5211,    500.3,   7.2497,  34.6495,2,-999.0000,9,     63.4,2,    19.88,2,    36.89,2, -999.000,9, -999.000,9, -999.000,9, -999.000,9, -999.000,9,-999.0000,9,  -999.00,9,-999.000,   -999.0,9,   -999.0,9,    500,-999.0000,-999.000,-999.000,9,  7.2011,-999.000
      06MT28_1,   A08,   243,  1,    412,    210,2,19940425,0738,-11.3333,  -1.5000, 5211,    599.7,   6.1432,  34.5658,2,  34.5696,2,     66.9,2,    23.98,2,    38.98,2, -999.000,9, -999.000,9, -999.000,9, -999.000,9, -999.000,9,-999.0000,9,  -999.00,9,-999.000,   -999.0,9,   -999.0,9,    599,-999.0000,-999.000,-999.000,9,  6.0896,-999.000
      06MT28_1,   A08,   243,  1,    409,    209,2,19940425,0738,-11.3333,  -1.5000, 5211,    699.6,   5.3617,  34.5178,2,-999.0000,9,     89.8,2,    27.26,2,    37.95,2, -999.000,9, -999.000,9, -999.000,9, -999.000,9, -999.000,9,-999.0000,9,  -999.00,9,-999.000,   -999.0,9,   -999.0,9,    700,-999.0000,-999.000,-999.000,9,  5.3030,-999.000
      06MT28_1,   A08,   243,  1,    407,    207,2,19940425,0738,-11.3333,  -1.5000, 5211,    849.1,   4.5549,  34.5063,2,-999.0000,9,   -999.0,9,  -999.00,9,  -999.00,9, -999.000,9, -999.000,9, -999.000,9, -999.000,9, -999.000,9,-999.0000,9,  -999.00,9,-999.000,   -999.0,9,   -999.0,9,    850,-999.0000,-999.000,-999.000,9,  4.4880,-999.000
      06MT28_1,   A08,   243,  1,    408,    208,2,19940425,0738,-11.3333,  -1.5000, 5211,    849.2,   4.5606,  34.5074,2,-999.0000,9,    121.9,2,    31.44,2,    35.54,2, -999.000,9, -999.000,9, -999.000,9, -999.000,9, -999.000,9,-999.0000,9,  -999.00,9,-999.000,   -999.0,9,   -999.0,9,    850,-999.0000,-999.000,-999.000,9,  4.4937,-999.000