BOTTLE,20220817CCHSIOAMB
EXPOCODE,SECT_ID,STNNBR,CASTNO,SAMPNO,BTLNBR,BTLNBR_FLAG_W,DATE,TIME,LATITUDE,LONGITUDE,DEPTH,CTDPRS,CTDTMP,CTDSAL,CTDSAL_FLAG_W,SALNTY,SALNTY_FLAG_W,OXYGEN,OXYGEN_FLAG_W,SILCAT,SILCAT_FLAG_W,NO2+NO3,NO2+NO3_FLAG_W,CFC-11,CFC-11_FLAG_W,CFC-12,CFC-12_FLAG_W,CFC113,CFC113_FLAG_W,CCL4,CCL4_FLAG_W,TRITUM,TRITUM_FLAG_W,HELIUM,HELIUM_FLAG_W,DELHE3,DELHE3_FLAG_W,NEON,TCARBN,TCARBN_FLAG_W,PCO2,PCO2_FLAG_W,CTDRAW,HELIER,DELHER,NEONER,NEON_FLAG_W,THETA,TRITER
,,,,,,,,,,,,DBAR,ITS-90,PSS-78,,PSS-78,,UMOL/KG,,UMOL/KG,,UMOL/KG,,PMOL/KG,,PMOL/KG,,PMOL/KG,,PMOL/KG,,TU,,NMOL/KG,,PERCNT,,NMOL/KG,UMOL/KG,,UATM,,,NMOL/KG,PERCNT,NMOL/KG,,ITS-90,TU
      06MT28_1,   A08,   253,  2,   1203,    324,2,19940428,1605,-11.3353,   3.3298, 5568,     17.3,  26.0083,  36.4182,2,-999.0000,9,   -999.0,9,  -999.00,9,  -999.00,9, -999.000,9, -999.000,9, -999.000,9, -999.000,9, -999.000,9,-999.0000,9,  -999.00,9,-999.000,   -999.0,9,   -999.0,9,     14,-999.0000,-999.000,-999.000,9, 26.0044,-999.000
      06MT28_1,   A08,   253,  2,   1240,    323,2,19940428,1605,-11.3353,   3.3298, 5568,   1096.5,   4.0827,  34.6197,2,-999.0000,9,   -999.0,9,  -999.00,9,  -999.00,9, -999.000,9, -999.000,9, -999.000,9, -999.000,9, -999.000,9,-999.0000,9,  -999.00,9,-999.000,   -999.0,9,   -999.0,9,   1100,-999.0000,-999.000,-999.000,9,  3.9981,-999.000
      06MT28_1,   A08,   253,  2,   1239,    322,2,19940428,1605,-11.3353,   3.3298, 5568,   1295.9,   3.9383,  34.7750,2,-999.0000,9,   -999.0,9,  -999.00,9,  -999.00,9, -999.000,9, -999.000,9, -999.000,9, -999.000,9, -999.000,9,-999.0000,9,  -999.00,9,-999.000,   -999.0,9,   -999.0,9,   1299,-999.0000,-999.000,-999.000,9,  3.8375,-999.000
      06MT28_1,   A08,   253,  2,   1238,    321,2,19940428,1605,-11.3353,   3.3298, 5568,   1497.7,   3.8400,  34.8787,2,  34.8792,2,    189.9,2,    25.68,2,    24.54,2, -999.000,9, -999.000,9, -999.000,9, -999.000,9, -999.000,9,-999.0000,9,  -999.00,9,-999.000,   -999.0,9,   -999.0,9,   1500,-999.0000,-999.000,-999.000,9,  3.7221,-999.000
      06MT28_1,   A08,   253,  2,   1237,    320,2,19940428,1605,-11.3353,   3.3298, 5568,   1699.4,   3.6737,  34.9174,2,-999.0000,9,    204.0,2,    24.99,2,    22.80,2, -999.000,9, -999.000,9, -999.000,9, -999.000,9, -999.000,9,-999.0000,9,  -999.00,9,-999.000,   -999.0,9,   -999.0,9,   1702,-999.0000,-999.000,-999.000,9,  3.5394,-999.000
      06MT28_1,   A08,   253,  2,   1236,    319,2,19940428,1605,-11.3353,   3.3298, 5568,   1900.0,   3.4303,  34.9266,2,-999.0000,9,    209.9,2,    26.86,2,    21.93,2, -999.000,9, -999.000,9, -999.000,9, -999.000,9, -999.000,9,-999.0000,9,  -999.00,9,-999.000,   -999.0,9,   -999.0,9,   1901,-999.0000,-999.000,-999.000,9,  3.2807,-999.000
      06MT28_1,   A08,   253,  2,   1234,    318,2,19940428,1605,-11.3353,   3.3298, 5568,   2099.2,   3.2185,  34.9271,2,-999.0000,9,    214.8,2,    29.78,2,    21.72,2, -999.000,9, -999.000,9, -999.000,9, -999.000,9, -999.000,9,-999.0000,9,  -999.00,9,-999.000,   -999.0,9,   -999.0,9,   2100,-999.0000,-999.000,-999.000,9,  3.0535,-999.000
      06MT28_1,   A08,   253,  2,   1285,    317,2,19940428,1605,-11.3353,   3.3298, 5568,   2351.4,   3.0142,  34.9224,2,-999.0000,9,    215.9,2,    33.16,2,    21.60,2, -999.000,9, -999.000,9, -999.000,9, -999.000,9, -999.000,9,-999.0000,9,  -999.00,9,-999.000,   -999.0,9,   -999.0,9,   2351,-999.0000,-999.000,-999.000,9,  2.8285,-999.000
      06MT28_1,   A08,   253,  2,   1283,    316,2,19940428,1605,-11.3353,   3.3298, 5568,   2599.7,   2.8438,  34.9165,2,-999.0000,9,    216.4,2,    36.53,2,    21.77,2, -999.000,9, -999.000,9, -999.000,9, -999.000,9, -999.000,9,-999.0000,9,  -999.00,9,-999.000,   -999.0,9,   -999.0,9,   2599,-999.0000,-999.000,-999.000,9,  2.6371,-999.000
      06MT28_1,   A08,   253,  2,   1282,    315,2,19940428,1605,-11.3353,   3.3298, 5568,   2851.9,   2.6942,  34.9091,2,-999.0000,9,    217.1,2,    39.51,2,    21.84,2, -999.000,9, -999.000,9, -999.000,9, -999.000,9, -999.000,9,-999.0000,9,  -999.00,9,-999.000,   -999.0,9,   -999.0,9,   2850,-999.0000,-999.000,-999.000,9,  2.4653,-999.000
      06MT28_1,   A08,   253,  2,   1281,    314,2,19940428,1605,-11.3353,   3.3298, 5568,   3101.4,   2.5748,  34.9015,2,  34.9012,2,    216.1,2,    42.78,2,    22.00,2, -999.000,9, -999.000,9, -999.000,9, -999.000,9, -999.000,9,-999.0000,9,  -999.00,9,-999.000,   -999.0,9,   -999.0,9,   3099,-999.0000,-999.000,-999.000,9,  2.3229,-999.000
      06MT28_1,   A08,   253,  2,   1280,    313,2,19940428,1605,-11.3353,   3.3298, 5568,   3354.4,   2.4570,  34.8963,2,-999.0000,9,    212.4,2,    47.07,2,    22.36,2, -999.000,9, -999.000,9, -999.000,9, -999.000,9, -999.000,9,-999.0000,9,  -999.00,9,-999.000,   -999.0,9,   -999.0,9,   3351,-999.0000,-999.000,-999.000,9,  2.1813,-999.000
      06MT28_1,   A08,   253,  2,   1279,    312,2,19940428,1605,-11.3353,   3.3298, 5568,   3606.2,   2.3781,  34.8909,2,-999.0000,9,    214.1,2,    48.15,2,    22.24,2, -999.000,9, -999.000,9, -999.000,9, -999.000,9, -999.000,9,-999.0000,9,  -999.00,9,-999.000,   -999.0,9,   -999.0,9,   3602,-999.0000,-999.000,-999.000,9,  2.0774,-999.000
      06MT28_1,   A08,   253,  2,   1278,    311,2,19940428,1605,-11.3353,   3.3298, 5568,   3855.5,   2.3542,  34.8897,2,-999.0000,9,    214.0,2,    48.48,2,    22.12,2,    0.003,2,    0.001,2,    0.050,4,    0.008,2, -999.000,9,-999.0000,9,  -999.00,9,-999.000,   -999.0,9,   -999.0,9,   3850,-999.0000,-999.000,-999.000,9,  2.0265,-999.000
      06MT28_1,   A08,   253,  2,   1277,    310,2,19940428,1605,-11.3353,   3.3298, 5568,   4105.8,   2.3543,  34.8875,2,  34.8865,2,    214.9,2,    48.99,2,    22.10,2,    0.002,2,    0.000,2,    0.035,4,    0.007,2, -999.000,9,-999.0000,9,  -999.00,9,-999.000,   -999.0,9,   -999.0,9,   4100,-999.0000,-999.000,-999.000,9,  1.9981,-999.000
      06MT28_1,   A08,   253,  2,   1276,    309,2,19940428,1605,-11.3353,   3.3298, 5568,   4355.9,   2.3637,  34.8862,2,-999.0000,9,    214.6,2,    48.94,2,    21.98,2,    0.004,2,    0.000,2,    0.035,4,    0.009,2, -999.000,9,-999.0000,9,  -999.00,9,-999.000,   -999.0,9,   -999.0,9,   4350,-999.0000,-999.000,-999.000,9,  1.9779,-999.000
      06MT28_1,   A08,   253,  2,   1275,    308,2,19940428,1605,-11.3353,   3.3298, 5568,   4606.1,   2.3749,  34.8844,2,-999.0000,9,    215.1,2,    49.17,2,    21.96,2,    0.002,2,    0.000,2,    0.033,4,    0.012,2, -999.000,9,-999.0000,9,  -999.00,9,-999.000,   -999.0,9,   -999.0,9,   4600,-999.0000,-999.000,-999.000,9,  1.9587,-999.000
      06MT28_1,   A08,   253,  2,   1274,    307,2,19940428,1605,-11.3353,   3.3298, 5568,   4857.2,   2.3901,  34.8819,2,-999.0000,9,    215.8,2,    49.31,2,    21.94,2,    0.004,2,    0.001,2,    0.031,4,    0.015,2, -999.000,9,-999.0000,9,  -999.00,9,-999.000,   -999.0,9,   -999.0,9,   4850,-999.0000,-999.000,-999.000,9,  1.9425,-999.000
      06MT28_1,   A08,   253,  2,   1272,    306,2,19940428,1605,-11.3353,   3.3298, 5568,   5108.6,   2.4072,  34.8805,2,  34.8797,2,    216.3,2,    49.07,2,    21.82,2,    0.005,2,    0.001,2,    0.028,4,    0.020,2, -999.000,9,-999.0000,9,  -999.00,9,-999.000,   -999.0,9,   -999.0,9,   5101,-999.0000,-999.000,-999.000,9,  1.9271,-999.000
      06MT28_1,   A08,   253,  2,   1325,    305,2,19940428,1605,-11.3353,   3.3298, 5568,   5356.3,   2.4287,  34.8790,2,-999.0000,9,    217.1,2,    49.02,2,    21.80,2,    0.007,2,    0.001,2,    0.022,2,    0.025,2, -999.000,9,-999.0000,9,  -999.00,9,-999.000,   -999.0,9,   -999.0,9,   5349,-999.0000,-999.000,-999.000,9,  1.9158,-999.000
      06MT28_1,   A08,   253,  2,   1323,    304,2,19940428,1605,-11.3353,   3.3298, 5568,   5563.4,   2.4495,  34.8783,2,-999.0000,9,    217.6,2,    48.89,2,    21.73,2,    0.008,2,    0.000,2,   -0.005,2,    0.031,2, -999.000,9,-999.0000,9,  -999.00,9,-999.000,   -999.0,9,   -999.0,9,   5556,-999.0000,-999.000,-999.000,9,  1.9085,-999.000
      06MT28_1,   A08,   253,  2,   1320,    303,2,19940428,1605,-11.3353,   3.3298, 5568,   5634.3,   2.4572,  34.8780,2,-999.0000,9,    217.8,2,    48.97,2,    21.73,2,    0.008,2,    0.000,2,   -0.005,2,    0.033,2, -999.000,9,-999.0000,9,  -999.00,9,-999.000,   -999.0,9,   -999.0,9,   5627,-999.0000,-999.000,-999.000,9,  1.9064,-999.000
      06MT28_1,   A08,   253,  2,   1319,    301,2,19940428,1605,-11.3353,   3.3298, 5568,   5662.4,   2.4611,  34.8782,2,-999.0000,9,   -999.0,9,  -999.00,9,  -999.00,9, -999.000,9, -999.000,9, -999.000,9, -999.000,9, -999.000,9,-999.0000,9,  -999.00,9,-999.000,   -999.0,9,   -999.0,9,   5655,-999.0000,-999.000,-999.000,9,  1.9064,-999.000
      06MT28_1,   A08,   253,  2,   1318,    302,2,19940428,1605,-11.3353,   3.3298, 5568,   5662.8,   2.4611,  34.8780,2,  34.8780,2,    217.0,2,    48.87,2,    21.77,2,    0.010,2,    0.001,2,   -0.005,2,    0.034,2, -999.000,9,-999.0000,9,  -999.00,9,-999.000,   -999.0,9,   -999.0,9,   5656,-999.0000,-999.000,-999.000,9,  1.9064,-999.000
      06MT28_1,   A08,   254,  1,   1317,    223,2,19940428,2325,-11.3337,   4.0007, 5557,     11.2,  25.7057,  36.5148,2,  36.5170,2,   -999.0,9,  -999.00,9,  -999.00,9,    1.600,2,    0.941,2,    0.140,2,    1.847,2, -999.000,9,-999.0000,9,  -999.00,9,-999.000,   2044.8,2,   -999.0,9,     10,-999.0000,-999.000,-999.000,9, 25.7032,-999.000
      06MT28_1,   A08,   254,  1,   1315,    221,2,19940428,2325,-11.3337,   4.0007, 5557,     39.1,  23.2167,  36.2186,2,-999.0000,9,    214.8,2,     1.82,2,     2.78,2,    1.493,2,    0.855,2,    0.086,2,    0.721,2, -999.000,9,-999.0000,9,  -999.00,9,-999.000,   2064.7,2,    533.9,2,     38,-999.0000,-999.000,-999.000,9, 23.2087,-999.000
      06MT28_1,   A08,   254,  1,   1314,    220,2,19940428,2325,-11.3337,   4.0007, 5557,     60.2,  16.4488,  35.6057,2,-999.0000,9,     67.1,2,     5.94,2,    21.66,2,    1.148,2,    0.634,2,    0.047,2,    0.193,2, -999.000,9,-999.0000,9,  -999.00,9,-999.000,   2193.1,2,   1293.3,2,     59,-999.0000,-999.000,-999.000,9, 16.4391,-999.000
      06MT28_1,   A08,   254,  1,   1313,    219,2,19940428,2325,-11.3337,   4.0007, 5557,     82.6,  15.2390,  35.5257,2,-999.0000,9,     49.3,2,     7.09,2,    24.53,2,    1.045,2,    0.578,2,    0.029,2,    0.145,2, -999.000,9,   1.6780,3,     2.05,2,   6.989,   2208.5,2,   1479.4,2,     81,  0.0060,   0.250,   0.023,3, 15.2264,-999.000
      06MT28_1,   A08,   254,  1,   1312,    218,2,19940428,2325,-11.3337,   4.0007, 5557,    120.1,  14.3660,  35.4377,2,-999.0000,9,     52.4,2,     7.86,2,    25.29,2,    0.913,2,    0.505,2,    0.034,2,    0.122,2, -999.000,9,-999.0000,9,  -999.00,9,-999.000,   2209.4,2,   1524.2,2,    119,-999.0000,-999.000,-999.000,9, 14.3483,-999.000
      06MT28_1,   A08,   254,  1,   1311,    217,2,19940428,2325,-11.3337,   4.0007, 5557,    180.2,  13.1557,  35.3047,2,-999.0000,9,     61.3,2,     8.62,2,    25.86,2,    0.785,2,    0.437,2,    0.041,2,    0.151,2, -999.000,9,   1.7460,2,     1.34,2,   7.326,   2206.3,2,   1554.9,2,    179,  0.0070,   0.250,   0.024,2, 13.1306,-999.000
      06MT28_1,   A08,   254,  1,   1310,    216,2,19940428,2325,-11.3337,   4.0007, 5557,    252.2,  11.7616,  35.1352,2,  35.1394,2,     40.5,2,    11.29,2,    30.34,2,    0.440,2,    0.252,2,    0.036,2,    0.094,2, -999.000,9,   1.7570,2,     1.53,2,   7.425,   -999.0,9,   -999.0,9,    251,  0.0070,   0.250,   0.025,2, 11.7290,-999.000
      06MT28_1,   A08,   254,  1,   1308,    215,2,19940428,2325,-11.3337,   4.0007, 5557,    351.5,  10.1397,  34.9499,2,-999.0000,9,     32.4,2,    14.16,2,    34.06,2,    0.177,2,    0.109,2,    0.034,2,    0.073,2, -999.000,9,   1.7470,2,     0.92,2,   7.451,   2242.9,2,   1407.5,2,    350,  0.0070,   0.250,   0.025,2, 10.0983,-999.000
      06MT28_1,   A08,   254,  1,   1360,    214,2,19940428,2325,-11.3337,   4.0007, 5557,    451.3,   8.4807,  34.7799,2,-999.0000,9,     22.7,2,    17.97,2,    38.24,2,    0.043,2,    0.031,2,    0.032,4,    0.043,2, -999.000,9,   1.7650,2,     0.29,2,   7.573,   2261.9,2,   1827.9,2,    450,  0.0070,   0.250,   0.025,2,  8.4328,-999.000
      06MT28_1,   A08,   254,  1,   1359,    213,2,19940428,2325,-11.3337,   4.0007, 5557,    551.1,   6.9779,  34.6426,2,  34.6419,2,   -999.0,9,    21.79,2,    40.42,2,    0.009,2,    0.005,2,    0.026,4,    0.035,2, -999.000,9,   1.7740,2,     0.69,2,   7.680,   -999.0,9,   -999.0,9,    550,  0.0070,   0.250,   0.025,2,  6.9253,-999.000
      06MT28_1,   A08,   254,  1,   1357,    212,2,19940428,2325,-11.3337,   4.0007, 5557,    650.4,   5.8729,  34.5584,2,-999.0000,9,     63.7,2,    25.21,2,    40.02,2,    0.005,2,    0.003,2,    0.018,4,    0.031,2, -999.000,9,   1.7880,2,     0.91,2,   7.765,   2254.3,2,   1762.4,2,    650,  0.0070,   0.250,   0.026,2,  5.8160,-999.000
      06MT28_1,   A08,   254,  1,   1356,    211,2,19940428,2325,-11.3337,   4.0007, 5557,    750.0,   5.0974,  34.5158,2,-999.0000,9,     91.4,2,    29.02,2,    37.99,2,    0.002,2,    0.001,2,    0.023,4,    0.020,2, -999.000,9,-999.0000,9,  -999.00,9,-999.000,   2245.0,2,   1584.7,2,    750,-999.0000,-999.000,-999.000,9,  5.0357,-999.000
      06MT28_1,   A08,   254,  1,   1355,    210,2,19940428,2325,-11.3337,   4.0007, 5557,    824.1,   4.6566,  34.5101,2,-999.0000,9,    110.8,2,    31.11,2,    36.45,2,    0.002,2,    0.001,2,    0.027,4,    0.025,2, -999.000,9,-999.0000,9,  -999.00,9,-999.000,   2236.9,2,   1451.2,2,    824,-999.0000,-999.000,-999.000,9,  4.5912,-999.000
      06MT28_1,   A08,   254,  1,   1354,    209,2,19940428,2325,-11.3337,   4.0007, 5557,    925.2,   4.3398,  34.5317,2,-999.0000,9,    125.0,2,    32.66,2,    35.10,2,    0.002,2,    0.001,2,    0.027,4,    0.026,2, -999.000,9,-999.0000,9,  -999.00,9,-999.000,   2232.2,2,   1356.7,2,    926,-999.0000,-999.000,-999.000,9,  4.2679,-999.000
      06MT28_1,   A08,   254,  1,   1352,    208,2,19940428,2325,-11.3337,   4.0007, 5557,   1099.9,   4.0631,  34.6410,2,  34.6398,2,    141.8,2,    32.83,2,    32.06,2,    0.001,2,    0.000,2,    0.020,4,    0.006,2, -999.000,9,-999.0000,9,  -999.00,9,-999.000,   2227.8,2,   1234.8,3,   1101,-999.0000,-999.000,-999.000,9,  3.9783,-999.000
      06MT28_1,   A08,   254,  1,   1351,    207,2,19940428,2325,-11.3337,   4.0007, 5557,   1099.9,   4.0631,  34.6410,2,-999.0000,9,   -999.0,9,  -999.00,9,  -999.00,9, -999.000,9, -999.000,9, -999.000,9, -999.000,9, -999.000,9,-999.0000,9,  -999.00,9,-999.000,   -999.0,9,   -999.0,9,   1101,-999.0000,-999.000,-999.000,9,  3.9783,-999.000