BOTTLE,20220817CCHSIOAMB
EXPOCODE,SECT_ID,STNNBR,CASTNO,SAMPNO,BTLNBR,BTLNBR_FLAG_W,DATE,TIME,LATITUDE,LONGITUDE,DEPTH,CTDPRS,CTDTMP,CTDSAL,CTDSAL_FLAG_W,SALNTY,SALNTY_FLAG_W,OXYGEN,OXYGEN_FLAG_W,SILCAT,SILCAT_FLAG_W,NO2+NO3,NO2+NO3_FLAG_W,CFC-11,CFC-11_FLAG_W,CFC-12,CFC-12_FLAG_W,CFC113,CFC113_FLAG_W,CCL4,CCL4_FLAG_W,TRITUM,TRITUM_FLAG_W,HELIUM,HELIUM_FLAG_W,DELHE3,DELHE3_FLAG_W,NEON,TCARBN,TCARBN_FLAG_W,PCO2,PCO2_FLAG_W,CTDRAW,HELIER,DELHER,NEONER,NEON_FLAG_W,THETA,TRITER
,,,,,,,,,,,,DBAR,ITS-90,PSS-78,,PSS-78,,UMOL/KG,,UMOL/KG,,UMOL/KG,,PMOL/KG,,PMOL/KG,,PMOL/KG,,PMOL/KG,,TU,,NMOL/KG,,PERCNT,,NMOL/KG,UMOL/KG,,UATM,,,NMOL/KG,PERCNT,NMOL/KG,,ITS-90,TU
      06MT28_1,   A08,   269,  2,   3012,    324,2,19940503,1839,-11.3338,  12.0002, 2654,     13.6,  27.0580,  35.6509,2,  35.6663,4,    202.4,2,     1.15,2,     0.29,2, -999.000,9, -999.000,9, -999.000,9, -999.000,9, -999.000,9,-999.0000,9,  -999.00,9,-999.000,   -999.0,9,   -999.0,9,     12,-999.0000,-999.000,-999.000,9, 27.0549,-999.000
      06MT28_1,   A08,   269,  2,   3065,    323,2,19940503,1839,-11.3338,  12.0002, 2654,     79.5,  15.3878,  35.5632,2,-999.0000,9,     40.7,2,     7.57,2,    25.20,2, -999.000,9, -999.000,9, -999.000,9, -999.000,9, -999.000,9,-999.0000,9,  -999.00,9,-999.000,   -999.0,9,   -999.0,9,     80,-999.0000,-999.000,-999.000,9, 15.3755,-999.000
      06MT28_1,   A08,   269,  2,   3062,    322,2,19940503,1839,-11.3338,  12.0002, 2654,    118.9,  14.6796,  35.4825,2,-999.0000,9,     41.0,2,     8.24,2,    25.96,2, -999.000,9, -999.000,9, -999.000,9, -999.000,9, -999.000,9,-999.0000,9,  -999.00,9,-999.000,   -999.0,9,   -999.0,9,    119,-999.0000,-999.000,-999.000,9, 14.6618,-999.000
      06MT28_1,   A08,   269,  2,   3061,    321,2,19940503,1839,-11.3338,  12.0002, 2654,    178.8,  13.8908,  35.3869,2,-999.0000,9,     43.1,2,     9.00,2,    27.10,2, -999.000,9, -999.000,9, -999.000,9, -999.000,9, -999.000,9,-999.0000,9,  -999.00,9,-999.000,   -999.0,9,   -999.0,9,    180,-999.0000,-999.000,-999.000,9, 13.8650,-999.000
      06MT28_1,   A08,   269,  2,   3060,    320,2,19940503,1839,-11.3338,  12.0002, 2654,    248.1,  12.2011,  35.1871,2,-999.0000,9,    257.1,4,    10.72,2,    29.77,2, -999.000,9, -999.000,9, -999.000,9, -999.000,9, -999.000,9,-999.0000,9,  -999.00,9,-999.000,   -999.0,9,   -999.0,9,    250,-999.0000,-999.000,-999.000,9, 12.1683,-999.000
      06MT28_1,   A08,   269,  2,   3059,    319,2,19940503,1839,-11.3338,  12.0002, 2654,    347.5,  10.1099,  34.9464,2,-999.0000,9,     18.3,2,    15.02,2,    35.68,2, -999.000,9, -999.000,9, -999.000,9, -999.000,9, -999.000,9,-999.0000,9,  -999.00,9,-999.000,   -999.0,9,   -999.0,9,    350,-999.0000,-999.000,-999.000,9, 10.0690,-999.000
      06MT28_1,   A08,   269,  2,   3058,    318,2,19940503,1839,-11.3338,  12.0002, 2654,    446.9,   8.0793,  34.7380,2,-999.0000,9,     26.7,2,    19.60,2,    39.20,2, -999.000,9, -999.000,9, -999.000,9, -999.000,9, -999.000,9,-999.0000,9,  -999.00,9,-999.000,   -999.0,9,   -999.0,9,    450,-999.0000,-999.000,-999.000,9,  8.0332,-999.000
      06MT28_1,   A08,   269,  2,   3057,    317,2,19940503,1839,-11.3338,  12.0002, 2654,    546.3,   6.7325,  34.6210,2,  34.6250,2,     46.6,2,    22.93,2,    39.94,2, -999.000,9, -999.000,9, -999.000,9, -999.000,9, -999.000,9,-999.0000,9,  -999.00,9,-999.000,   -999.0,9,   -999.0,9,    550,-999.0000,-999.000,-999.000,9,  6.6814,-999.000
      06MT28_1,   A08,   269,  2,   3056,    316,2,19940503,1839,-11.3338,  12.0002, 2654,    646.4,   5.7423,  34.5507,2,-999.0000,9,     69.8,2,    26.74,2,    39.54,2, -999.000,9, -999.000,9, -999.000,9, -999.000,9, -999.000,9,-999.0000,9,  -999.00,9,-999.000,   -999.0,9,   -999.0,9,    650,-999.0000,-999.000,-999.000,9,  5.6864,-999.000
      06MT28_1,   A08,   269,  2,   3055,    315,2,19940503,1839,-11.3338,  12.0002, 2654,    746.2,   5.0810,  34.5163,2,-999.0000,9,     91.6,2,    29.69,2,    37.99,2, -999.000,9, -999.000,9, -999.000,9, -999.000,9, -999.000,9,-999.0000,9,  -999.00,9,-999.000,   -999.0,9,   -999.0,9,    750,-999.0000,-999.000,-999.000,9,  5.0198,-999.000
      06MT28_1,   A08,   269,  2,   3054,    314,2,19940503,1839,-11.3338,  12.0002, 2654,    820.8,   4.7198,  34.5156,2,-999.0000,9,    105.6,2,    31.58,2,    37.02,2, -999.000,9, -999.000,9, -999.000,9, -999.000,9, -999.000,9,-999.0000,9,  -999.00,9,-999.000,   -999.0,9,   -999.0,9,    825,-999.0000,-999.000,-999.000,9,  4.6543,-999.000
      06MT28_1,   A08,   269,  2,   3053,    313,2,19940503,1839,-11.3338,  12.0002, 2654,    920.4,   4.4602,  34.5451,2,-999.0000,9,    120.1,2,    32.81,2,    35.29,2, -999.000,9, -999.000,9, -999.000,9, -999.000,9, -999.000,9,-999.0000,9,  -999.00,9,-999.000,   -999.0,9,   -999.0,9,    925,-999.0000,-999.000,-999.000,9,  4.3878,-999.000
      06MT28_1,   A08,   269,  2,   3051,    312,2,19940503,1839,-11.3338,  12.0002, 2654,   1095.2,   4.1117,  34.6379,2,  34.6354,2,    135.5,2,    33.83,2,    32.59,2, -999.000,9, -999.000,9, -999.000,9, -999.000,9, -999.000,9,-999.0000,9,  -999.00,9,-999.000,   -999.0,9,   -999.0,9,   1100,-999.0000,-999.000,-999.000,9,  4.0269,-999.000
      06MT28_1,   A08,   269,  2,   3107,    311,2,19940503,1839,-11.3338,  12.0002, 2654,   1295.0,   3.9977,  34.8103,2,-999.0000,9,    169.7,2,    28.46,2,    27.41,2, -999.000,9, -999.000,9, -999.000,9, -999.000,9, -999.000,9,-999.0000,9,  -999.00,9,-999.000,   -999.0,9,   -999.0,9,   1299,-999.0000,-999.000,-999.000,9,  3.8963,-999.000
      06MT28_1,   A08,   269,  2,   3106,    310,2,19940503,1839,-11.3338,  12.0002, 2654,   1495.2,   3.8528,  34.8919,2,  34.8094,4,    192.6,2,    25.39,2,    24.15,2, -999.000,9, -999.000,9, -999.000,9, -999.000,9, -999.000,9,-999.0000,9,  -999.00,9,-999.000,   -999.0,9,   -999.0,9,   1499,-999.0000,-999.000,-999.000,9,  3.7349,-999.000
      06MT28_1,   A08,   269,  2,   3104,    309,2,19940503,1839,-11.3338,  12.0002, 2654,   1696.7,   3.6790,  34.9210,2,-999.0000,9,    204.9,2,    25.27,2,    22.61,2, -999.000,9, -999.000,9, -999.000,9, -999.000,9, -999.000,9,-999.0000,9,  -999.00,9,-999.000,   -999.0,9,   -999.0,9,   1700,-999.0000,-999.000,-999.000,9,  3.5448,-999.000
      06MT28_1,   A08,   269,  2,   3103,    308,2,19940503,1839,-11.3338,  12.0002, 2654,   1897.6,   3.4959,  34.9317,2,-999.0000,9,    211.1,2,    26.48,2,    21.93,2, -999.000,9, -999.000,9, -999.000,9, -999.000,9, -999.000,9,-999.0000,9,  -999.00,9,-999.000,   -999.0,9,   -999.0,9,   1901,-999.0000,-999.000,-999.000,9,  3.3456,-999.000
      06MT28_1,   A08,   269,  2,   3102,    307,2,19940503,1839,-11.3338,  12.0002, 2654,   2097.0,   3.2656,  34.9305,2,  34.9289,2,    212.6,2,    29.78,2,    21.72,2, -999.000,9, -999.000,9, -999.000,9, -999.000,9, -999.000,9,-999.0000,9,  -999.00,9,-999.000,   -999.0,9,   -999.0,9,   2099,-999.0000,-999.000,-999.000,9,  3.1000,-999.000
      06MT28_1,   A08,   269,  2,   3101,    306,2,19940503,1839,-11.3338,  12.0002, 2654,   2347.3,   3.0358,  34.9229,2,-999.0000,9,    214.8,2,    33.54,2,    21.79,2, -999.000,9, -999.000,9, -999.000,9, -999.000,9, -999.000,9,-999.0000,9,  -999.00,9,-999.000,   -999.0,9,   -999.0,9,   2349,-999.0000,-999.000,-999.000,9,  2.8502,-999.000
      06MT28_1,   A08,   269,  2,   3100,    305,2,19940503,1839,-11.3338,  12.0002, 2654,   2559.5,   2.8429,  34.9169,2,-999.0000,9,    215.5,2,    37.20,2,    21.86,2, -999.000,9, -999.000,9, -999.000,9, -999.000,9, -999.000,9,-999.0000,9,  -999.00,9,-999.000,   -999.0,9,   -999.0,9,   2561,-999.0000,-999.000,-999.000,9,  2.6401,-999.000
      06MT28_1,   A08,   269,  2,   3099,    304,2,19940503,1839,-11.3338,  12.0002, 2654,   2599.9,   2.8215,  34.9148,2,-999.0000,9,    215.0,2,    37.85,2,    21.81,2, -999.000,9, -999.000,9, -999.000,9, -999.000,9, -999.000,9,-999.0000,9,  -999.00,9,-999.000,   -999.0,9,   -999.0,9,   2601,-999.0000,-999.000,-999.000,9,  2.6152,-999.000
      06MT28_1,   A08,   269,  2,   3098,    303,2,19940503,1839,-11.3338,  12.0002, 2654,   2629.3,   2.7593,  34.9119,2,-999.0000,9,    215.0,2,    39.22,2,    21.86,2, -999.000,9, -999.000,9, -999.000,9, -999.000,9, -999.000,9,-999.0000,9,  -999.00,9,-999.000,   -999.0,9,   -999.0,9,   2630,-999.0000,-999.000,-999.000,9,  2.5513,-999.000
      06MT28_1,   A08,   269,  2,   3097,    301,2,19940503,1839,-11.3338,  12.0002, 2654,   2659.5,   2.6974,  34.9107,2,  34.9104,2,    215.1,2,    40.25,2,    21.81,2, -999.000,9, -999.000,9, -999.000,9, -999.000,9, -999.000,9,-999.0000,9,  -999.00,9,-999.000,   -999.0,9,   -999.0,9,   2660,-999.0000,-999.000,-999.000,9,  2.4876,-999.000
      06MT28_1,   A08,   269,  2,   3096,    302,2,19940503,1839,-11.3338,  12.0002, 2654,   2659.6,   2.6974,  34.9107,2,  34.9099,2,    214.7,2,    40.30,2,    21.85,2, -999.000,9, -999.000,9, -999.000,9, -999.000,9, -999.000,9,-999.0000,9,  -999.00,9,-999.000,   -999.0,9,   -999.0,9,   2661,-999.0000,-999.000,-999.000,9,  2.4876,-999.000
      06MT28_1,   A08,   270,  1,   3095,    323,2,19940503,2225,-11.3380,  12.3312, 2334,     40.8,  18.3233,  35.7269,2,-999.0000,9,   -999.0,9,  -999.00,9,  -999.00,9,    1.522,2,    0.905,2,    0.107,2,    1.269,2, -999.000,9,-999.0000,9,  -999.00,9,-999.000,   -999.0,9,   -999.0,9,     41,-999.0000,-999.000,-999.000,9, 18.3162,-999.000
      06MT28_1,   A08,   270,  1,   3094,    321,2,19940503,2225,-11.3380,  12.3312, 2334,     59.1,  17.1054,  35.7218,2,-999.0000,9,     61.2,2,     7.09,2,    20.03,2,    1.343,2,    0.756,2,    0.063,2,    0.198,2, -999.000,9,   1.7190,2,     1.28,2,   7.114,   2196.7,2,   1307.7,2,     59,  0.0060,   0.250,   0.023,2, 17.0956,-999.000
      06MT28_1,   A08,   270,  1,   3093,    320,2,19940503,2225,-11.3380,  12.3312, 2334,     79.5,  16.4476,  35.6579,2,-999.0000,9,     57.7,2,     6.71,2,    21.65,2,    1.259,2,    0.703,2,    0.057,2,    0.187,2, -999.000,9,   1.7310,2,     1.26,2,   7.130,   2200.1,2,   1327.2,2,     80,  0.0070,   0.250,   0.024,2, 16.4348,-999.000
      06MT28_1,   A08,   270,  1,   3091,    319,2,19940503,2225,-11.3380,  12.3312, 2334,    118.5,  15.2542,  35.5460,2,-999.0000,9,     48.2,2,     8.24,2,    24.14,2,    1.066,2,    0.595,2,    0.021,2,    0.124,2, -999.000,9,   1.7320,2,     1.47,2,   7.213,   2209.8,2,   1449.3,2,    119,  0.0070,   0.250,   0.024,2, 15.2360,-999.000
      06MT28_1,   A08,   270,  1,   3147,    318,2,19940503,2225,-11.3380,  12.3312, 2334,    178.4,  14.5213,  35.4618,2,  35.5438,4,     41.6,2,     8.71,2,    26.23,2,    0.897,2,    0.507,2,    0.059,2,    0.105,2, -999.000,9,   1.7360,2,     1.68,2,   7.234,   2215.7,2,   1559.2,2,    180,  0.0070,   0.250,   0.024,2, 14.4948,-999.000
      06MT28_1,   A08,   270,  1,   3145,    317,2,19940503,2225,-11.3380,  12.3312, 2334,    247.3,  12.7932,  35.2583,2,-999.0000,9,     48.8,2,     9.57,2,    28.03,2,    0.666,2,    0.380,2,    0.026,2,    0.127,2, -999.000,9,   1.7530,2,     1.96,2,   7.292,   2217.8,2,   1675.3,2,    249,  0.0070,   0.250,   0.024,2, 12.7594,-999.000
      06MT28_1,   A08,   270,  1,   3146,    316,2,19940503,2225,-11.3380,  12.3312, 2334,    347.9,  10.9185,  35.0347,2,-999.0000,9,     23.6,2,    13.39,2,    33.65,2,    0.257,2,    0.156,2,    0.032,2,    0.074,2, -999.000,9,   1.7510,2,     1.64,2,   7.437,   2246.5,2,   2115.6,2,    350,  0.0070,   0.250,   0.025,2, 10.8755,-999.000
      06MT28_1,   A08,   270,  1,   3143,    315,2,19940503,2225,-11.3380,  12.3312, 2334,    446.0,   8.4722,  34.7817,2,  35.0348,4,     23.7,2,    19.11,2,    38.51,2,    0.077,2,    0.048,2,    0.085,4,    0.059,2, -999.000,9,   1.7580,2,     0.41,2,   7.550,   2263.1,2,   1747.8,2,    449,  0.0070,   0.250,   0.025,2,  8.4249,-999.000
      06MT28_1,   A08,   270,  1,   3142,    314,2,19940503,2225,-11.3380,  12.3312, 2334,    542.2,   7.0787,  34.6557,2,-999.0000,9,     42.2,2,    22.16,2,    39.83,2,    0.020,2,    0.016,2,    0.038,4,    0.050,2, -999.000,9,-999.0000,9,  -999.00,9,-999.000,   2260.4,2,   1820.1,2,    546,-999.0000,-999.000,-999.000,9,  7.0267,-999.000
      06MT28_1,   A08,   270,  1,   3141,    313,2,19940503,2225,-11.3380,  12.3312, 2334,    645.3,   5.8737,  34.5607,2,-999.0000,9,     67.5,2,    25.96,2,    39.61,2,    0.010,2,    0.006,2,    0.035,4,    0.040,2, -999.000,9,-999.0000,9,  -999.00,9,-999.000,   2253.6,2,   1703.2,2,    649,-999.0000,-999.000,-999.000,9,  5.8172,-999.000
      06MT28_1,   A08,   270,  1,   3140,    312,2,19940503,2225,-11.3380,  12.3312, 2334,    745.2,   5.0452,  34.5202,2,-999.0000,9,     92.2,2,    30.06,2,    38.07,2,    0.003,2,    0.001,2,    0.038,4,    0.024,2, -999.000,9,-999.0000,9,  -999.00,9,-999.000,   2246.0,2,   1556.1,2,    749,-999.0000,-999.000,-999.000,9,  4.9842,-999.000
      06MT28_1,   A08,   270,  1,   3139,    311,2,19940503,2225,-11.3380,  12.3312, 2334,    820.3,   4.6747,  34.5231,2,-999.0000,9,    112.4,2,    31.66,2,    36.24,2,    0.004,2,    0.000,2,    0.034,4,    0.025,2, -999.000,9,-999.0000,9,  -999.00,9,-999.000,   2237.2,2,   1421.3,2,    825,-999.0000,-999.000,-999.000,9,  4.6095,-999.000
      06MT28_1,   A08,   270,  1,   3138,    310,2,19940503,2225,-11.3380,  12.3312, 2334,    919.7,   4.4445,  34.5513,2,  34.5515,2,    122.2,2,    32.78,2,    34.97,2,    0.004,2,    0.001,2,    0.020,4,    0.019,2, -999.000,9,-999.0000,9,  -999.00,9,-999.000,   2235.2,2,   1385.5,2,    924,-999.0000,-999.000,-999.000,9,  4.3723,-999.000
      06MT28_1,   A08,   270,  1,   3137,    309,2,19940503,2225,-11.3380,  12.3312, 2334,   1295.0,   4.0334,  34.7988,2,-999.0000,9,    166.0,2,    28.65,2,    27.80,2,    0.002,2,    0.001,2,    0.027,4,    0.010,2, -999.000,9,-999.0000,9,  -999.00,9,-999.000,   2211.7,2,   1077.4,2,   1299,-999.0000,-999.000,-999.000,9,  3.9316,-999.000
      06MT28_1,   A08,   270,  1,   3136,    308,2,19940503,2225,-11.3380,  12.3312, 2334,   1495.3,   3.8955,  34.8824,2,-999.0000,9,    190.0,2,    25.68,2,    24.35,2,    0.002,2,    0.001,2,    0.042,4,    0.014,2, -999.000,9,-999.0000,9,  -999.00,9,-999.000,   2196.3,2,    951.8,2,   1500,-999.0000,-999.000,-999.000,9,  3.7772,-999.000
      06MT28_1,   A08,   270,  1,   3135,    307,2,19940503,2225,-11.3380,  12.3312, 2334,   1696.6,   3.6832,  34.9190,2,-999.0000,9,    203.4,2,    25.46,2,    22.61,2,    0.002,2,    0.001,2,    0.034,4,    0.011,2, -999.000,9,-999.0000,9,  -999.00,9,-999.000,   -999.0,9,   -999.0,9,   1700,-999.0000,-999.000,-999.000,9,  3.5490,-999.000
      06MT28_1,   A08,   270,  1,   3134,    306,2,19940503,2225,-11.3380,  12.3312, 2334,   1895.5,   3.4497,  34.9294,2,-999.0000,9,    209.9,2,    27.34,2,    21.74,2,    0.002,2,    0.000,2,    0.032,4,    0.007,2, -999.000,9,-999.0000,9,  -999.00,9,-999.000,   2187.8,2,    866.6,2,   1899,-999.0000,-999.000,-999.000,9,  3.3003,-999.000
      06MT28_1,   A08,   270,  1,   3133,    305,2,19940503,2225,-11.3380,  12.3312, 2334,   2096.3,   3.2441,  34.9298,2,  34.9323,2,    212.0,2,    29.97,2,    21.53,2,    0.000,2,    0.000,2,    0.033,4,    0.006,2, -999.000,9,-999.0000,9,  -999.00,9,-999.000,   2188.3,2,    849.8,2,   2099,-999.0000,-999.000,-999.000,9,  3.0789,-999.000
      06MT28_1,   A08,   270,  1,   3130,    304,2,19940503,2225,-11.3380,  12.3312, 2334,   2217.1,   3.1510,  34.9269,2,-999.0000,9,    213.3,2,    31.52,2,    21.66,2,    0.002,2,    0.000,2,    0.008,4,    0.007,2, -999.000,9,-999.0000,9,  -999.00,9,-999.000,   2189.0,2,    840.2,2,   2220,-999.0000,-999.000,-999.000,9,  2.9759,-999.000
      06MT28_1,   A08,   270,  1,   3131,    303,2,19940503,2225,-11.3380,  12.3312, 2334,   2287.8,   3.1051,  34.9254,2,-999.0000,9,    213.1,2,    32.50,2,    21.61,2,    0.002,2,    0.000,2,    0.023,4,    0.003,2, -999.000,9,-999.0000,9,  -999.00,9,-999.000,   2191.2,2,    856.2,2,   2290,-999.0000,-999.000,-999.000,9,  2.9240,-999.000
      06MT28_1,   A08,   270,  1,   3185,    301,2,19940503,2225,-11.3380,  12.3312, 2334,   2317.2,   3.0828,  34.9244,2,  34.9263,2,    213.8,2,    33.02,2,    21.65,2,    0.002,2,    0.000,2,    0.051,4,    0.002,2, -999.000,9,-999.0000,9,  -999.00,9,-999.000,   2192.4,2,    857.2,6,   2320,-999.0000,-999.000,-999.000,9,  2.8992,-999.000
      06MT28_1,   A08,   270,  1,   3186,    302,2,19940503,2225,-11.3380,  12.3312, 2334,   2317.8,   3.0794,  34.9241,2,  34.9257,2,    212.9,2,    33.07,2,    21.56,2, -999.000,9, -999.000,9, -999.000,9, -999.000,9, -999.000,9,-999.0000,9,  -999.00,9,-999.000,   2191.9,2,    857.7,2,   2320,-999.0000,-999.000,-999.000,9,  2.8958,-999.000