BOTTLE,20220817CCHSIOAMB
EXPOCODE,SECT_ID,STNNBR,CASTNO,SAMPNO,BTLNBR,BTLNBR_FLAG_W,DATE,TIME,LATITUDE,LONGITUDE,DEPTH,CTDPRS,CTDTMP,CTDSAL,CTDSAL_FLAG_W,SALNTY,SALNTY_FLAG_W,OXYGEN,OXYGEN_FLAG_W,SILCAT,SILCAT_FLAG_W,NO2+NO3,NO2+NO3_FLAG_W,CFC-11,CFC-11_FLAG_W,CFC-12,CFC-12_FLAG_W,CFC113,CFC113_FLAG_W,CCL4,CCL4_FLAG_W,TRITUM,TRITUM_FLAG_W,HELIUM,HELIUM_FLAG_W,DELHE3,DELHE3_FLAG_W,NEON,TCARBN,TCARBN_FLAG_W,PCO2,PCO2_FLAG_W,CTDRAW,HELIER,DELHER,NEONER,NEON_FLAG_W,THETA,TRITER
,,,,,,,,,,,,DBAR,ITS-90,PSS-78,,PSS-78,,UMOL/KG,,UMOL/KG,,UMOL/KG,,PMOL/KG,,PMOL/KG,,PMOL/KG,,PMOL/KG,,TU,,NMOL/KG,,PERCNT,,NMOL/KG,UMOL/KG,,UATM,,,NMOL/KG,PERCNT,NMOL/KG,,ITS-90,TU
      06MT28_1,   A08,   212,  2,   2343,    324,2,19940416,0323,-11.3332, -16.1665, 3818,     15.5,  26.9180,  36.8080,2,  36.8080,2,    174.7,2,     0.96,2,     0.00,2, -999.000,9, -999.000,9, -999.000,9, -999.000,9, -999.000,9,-999.0000,9,  -999.00,9,-999.000,   2056.6,2,   -999.0,9,     12,-999.0000,-999.000,-999.000,9, 26.9144,-999.000
      06MT28_1,   A08,   212,  2,   2394,    322,2,19940416,0323,-11.3332, -16.1665, 3818,    446.7,   7.7084,  34.6756,2,-999.0000,9,    104.9,2,    16.92,2,    31.26,2,    0.190,2,    0.111,2,    0.005,2,    0.301,2, -999.000,9,   1.7790,2,     0.96,2,   7.589,   2211.3,2,   1151.7,2,    449,  0.0070,   0.250,   0.025,2,  7.6637,-999.000
      06MT28_1,   A08,   212,  2,   2395,    323,2,19940416,0323,-11.3332, -16.1665, 3818,    446.8,   7.7084,  34.6755,2,-999.0000,9,    104.9,2,    16.93,2,    31.28,2, -999.000,9, -999.000,9, -999.000,9, -999.000,9, -999.000,9,-999.0000,9,  -999.00,9,-999.000,   2211.6,2,   1200.8,2,    449,-999.0000,-999.000,-999.000,9,  7.6637,-999.000
      06MT28_1,   A08,   212,  2,   2392,    320,2,19940416,0323,-11.3332, -16.1665, 3818,    645.9,   5.7202,  34.5034,2,-999.0000,9,    126.5,2,    23.30,2,    33.05,2,    0.085,2,    0.052,2,    0.004,2,    0.311,2, -999.000,9,   1.7850,2,     1.02,2,   7.675,   2215.3,2,   1228.7,2,    649,  0.0070,   0.250,   0.025,2,  5.6645,-999.000
      06MT28_1,   A08,   212,  2,   2393,    321,2,19940416,0323,-11.3332, -16.1665, 3818,    645.9,   5.7202,  34.5034,2,-999.0000,9,    127.0,2,    23.32,2,    33.06,2, -999.000,9, -999.000,9, -999.000,9, -999.000,9, -999.000,9,   1.7960,2,     1.23,2,   7.698,   2214.5,2,   1221.3,2,    649,  0.0070,   0.250,   0.025,2,  5.6645,-999.000
      06MT28_1,   A08,   212,  2,   2391,    319,2,19940416,0323,-11.3332, -16.1665, 3818,    746.3,   4.8703,  34.4561,2,-999.0000,9,    148.1,2,    27.59,2,    32.74,2,    0.069,2,    0.041,2,    0.003,2,    0.317,2, -999.000,9,   1.7980,2,     2.07,2,   7.782,   2213.3,2,   1184.4,2,    750,  0.0070,   0.250,   0.026,2,  4.8103,-999.000
      06MT28_1,   A08,   212,  2,   2390,    318,2,19940416,0323,-11.3332, -16.1665, 3818,    909.6,   4.2835,  34.4813,2,-999.0000,9,    149.8,2,    32.35,2,    32.73,2,    0.018,2,    0.011,2,    0.005,2,    0.146,2, -999.000,9,   1.8020,2,     2.31,2,   7.808,   2217.9,2,   1186.0,2,    914,  0.0070,   0.250,   0.026,2,  4.2134,-999.000
      06MT28_1,   A08,   212,  2,   2388,    317,2,19940416,0323,-11.3332, -16.1665, 3818,   1092.7,   3.9672,  34.6049,2,-999.0000,9,    159.6,2,    33.29,2,    30.71,2,    0.006,2,    0.004,2,    0.002,2,    0.045,2, -999.000,9,   1.8000,2,     3.17,2,   7.818,   2215.9,2,   1111.9,2,   1097,  0.0070,   0.250,   0.026,2,  3.8839,-999.000
      06MT28_1,   A08,   212,  2,   2387,    316,2,19940416,0323,-11.3332, -16.1665, 3818,   1295.9,   4.0488,  34.8024,2,  34.9103,4,    182.1,2,    26.39,2,    26.01,2,    0.007,2,    0.005,2,   -0.001,2,    0.045,2, -999.000,9,   1.8070,3,     2.21,3,   7.831,   2198.2,2,    959.2,2,   1299,  0.0160,   0.250,   0.065,3,  3.9468,-999.000
      06MT28_1,   A08,   212,  2,   2386,    315,2,19940416,0323,-11.3332, -16.1665, 3818,   1496.8,   3.9439,  34.9100,2,-999.0000,9,    206.9,2,    21.80,2,    22.18,2,    0.016,2,    0.009,2,    0.006,2,    0.104,2, -999.000,9,   1.8120,2,     1.70,2,   7.842,   2181.3,2,   -999.0,9,   1500,  0.0070,   0.250,   0.026,2,  3.8248,-999.000
      06MT28_1,   A08,   212,  2,   2385,    314,2,19940416,0323,-11.3332, -16.1665, 3818,   1697.6,   3.6319,  34.9349,2,-999.0000,9,    221.0,2,    22.44,2,    20.54,2,    0.010,2,    0.006,2,   -0.003,2,    0.111,2, -999.000,9,   1.7990,2,     2.35,2,   7.847,   2174.7,2,    800.1,2,   1700,  0.0070,   0.250,   0.026,2,  3.4982,-999.000
      06MT28_1,   A08,   212,  2,   2384,    312,2,19940416,0323,-11.3332, -16.1665, 3818,   1898.0,   3.3454,  34.9309,2,-999.0000,9,    225.3,2,    25.53,2,    20.31,2,    0.005,2,    0.002,2,    0.006,2,    0.084,2, -999.000,9,   1.8030,2,     3.44,2,   7.835,   2175.3,2,    791.7,2,   1900,  0.0070,   0.250,   0.026,2,  3.1972,-999.000
      06MT28_1,   A08,   212,  2,   2383,    313,2,19940416,0323,-11.3332, -16.1665, 3818,   1898.0,   3.3454,  34.9308,2,-999.0000,9,    225.7,2,    25.56,2,    20.33,2,    0.005,2,    0.003,2,    0.003,2,    0.084,2, -999.000,9,   1.8050,3,     2.67,3,   7.843,   2175.6,2,    787.8,2,   1900,  0.0160,   0.250,   0.065,3,  3.1972,-999.000
      06MT28_1,   A08,   212,  2,   2382,    311,2,19940416,0323,-11.3332, -16.1665, 3818,   2098.7,   3.0934,  34.9270,2,  34.9276,2,    228.7,2,    28.36,2,    20.20,2,    0.004,2,    0.013,4,    0.003,2,    0.064,2, -999.000,9,   1.8210,2,     3.30,2,   7.921,   2176.2,2,    783.6,6,   2100,  0.0070,   0.250,   0.026,2,  2.9304,-999.000
      06MT28_1,   A08,   212,  2,   2380,    309,2,19940416,0323,-11.3332, -16.1665, 3818,   2599.0,   2.7702,  34.9094,2,-999.0000,9,    223.6,4,    40.31,2,    21.29,2,    0.002,2,    0.000,2,    0.004,2,    0.018,2, -999.000,9,-999.0000,9,  -999.00,9,-999.000,   2191.4,2,    819.0,3,   2599,-999.0000,-999.000,-999.000,9,  2.5650,-999.000
      06MT28_1,   A08,   212,  2,   2381,    310,2,19940416,0323,-11.3332, -16.1665, 3818,   2599.1,   2.7702,  34.9094,2,-999.0000,9,      2.3,2,    35.43,2,    20.65,2,    0.004,2,    0.002,2,   -0.004,2,    0.024,2, -999.000,9,-999.0000,9,  -999.00,9,-999.000,   2184.4,3,    790.2,2,   2599,-999.0000,-999.000,-999.000,9,  2.5649,-999.000
      06MT28_1,   A08,   212,  2,   2379,    308,2,19940416,0323,-11.3332, -16.1665, 3818,   2850.6,   2.6086,  34.8966,2,-999.0000,9,    222.1,2,    42.82,2,    21.55,2,    0.007,2,    0.001,2,    0.002,2,    0.013,2, -999.000,9,-999.0000,9,  -999.00,9,-999.000,   2195.3,2,    794.0,2,   2849,-999.0000,-999.000,-999.000,9,  2.3816,-999.000
      06MT28_1,   A08,   212,  2,   2378,    307,2,19940416,0323,-11.3332, -16.1665, 3818,   3101.1,   2.5314,  34.8909,2,  34.8908,2,    221.9,2,    42.87,2,    21.53,2,    0.002,2,   -0.001,2,    0.004,2,    0.013,2, -999.000,9,-999.0000,9,  -999.00,9,-999.000,   2195.0,2,    807.5,2,   3099,-999.0000,-999.000,-999.000,9,  2.2806,-999.000
      06MT28_1,   A08,   212,  2,   2377,    306,2,19940416,0323,-11.3332, -16.1665, 3818,   3352.9,   2.4865,  34.8872,2,-999.0000,9,    221.3,2,    44.33,2,    21.60,2,    0.001,2,    0.000,2,    0.005,2,    0.014,2, -999.000,9,-999.0000,9,  -999.00,9,-999.000,   2196.4,2,    810.3,2,   3350,-999.0000,-999.000,-999.000,9,  2.2103,-999.000
      06MT28_1,   A08,   212,  2,   2376,    305,2,19940416,0323,-11.3332, -16.1665, 3818,   3503.9,   2.3692,  34.8780,2,-999.0000,9,    222.7,2,    47.04,2,    21.87,2,    0.006,2,    0.001,2,    0.005,2,    0.023,2, -999.000,9,-999.0000,9,  -999.00,9,-999.000,   2197.9,2,    816.8,2,   3500,-999.0000,-999.000,-999.000,9,  2.0798,-999.000
      06MT28_1,   A08,   212,  2,   2373,    304,2,19940416,0323,-11.3332, -16.1665, 3818,   3683.3,   2.2882,  34.8708,2,-999.0000,9,    223.0,2,    49.12,2,    21.99,2,    0.003,2,    0.001,2,    0.006,2,    0.028,2, -999.000,9,-999.0000,9,  -999.00,9,-999.000,   2198.1,2,    819.6,2,   3679,-999.0000,-999.000,-999.000,9,  1.9814,-999.000
      06MT28_1,   A08,   212,  2,   2363,    303,2,19940416,0323,-11.3332, -16.1665, 3818,   3753.2,   2.2124,  34.8655,2,-999.0000,9,   -999.0,9,  -999.00,9,  -999.00,9, -999.000,9, -999.000,9, -999.000,9, -999.000,9, -999.000,9,-999.0000,9,  -999.00,9,-999.000,   -999.0,9,   -999.0,9,   3749,-999.0000,-999.000,-999.000,9,  1.9000,-999.000
      06MT28_1,   A08,   212,  2,   2434,    302,2,19940416,0323,-11.3332, -16.1665, 3818,   3783.3,   2.1929,  34.8624,2,  34.8634,2,    222.8,2,    51.27,2,    22.13,2,    0.004,2,    0.002,2,    0.004,2,    0.032,2, -999.000,9,-999.0000,9,  -999.00,9,-999.000,   2199.9,2,    829.2,2,   3779,-999.0000,-999.000,-999.000,9,  1.8777,-999.000
      06MT28_1,   A08,   212,  2,   2433,    301,2,19940416,0323,-11.3332, -16.1665, 3818,   3783.4,   2.1909,  34.8621,2,  34.8624,2,    223.9,2,    51.36,2,    22.22,2,    0.001,2,    0.001,2,   -0.002,2,    0.033,2, -999.000,9,-999.0000,9,  -999.00,9,-999.000,   2200.1,2,    832.5,6,   3779,-999.0000,-999.000,-999.000,9,  1.8757,-999.000
      06MT28_1,   A08,   213,  1,   2431,    213,2,19940416,0800,-11.3342, -15.7500, 3469,      9.5,  26.8954,  36.8363,2,  36.8384,2,    192.6,2,     0.77,2,     0.00,2, -999.000,9, -999.000,9, -999.000,9, -999.000,9, -999.000,9,-999.0000,9,  -999.00,9,-999.000,   -999.0,9,   -999.0,9,      9,-999.0000,-999.000,-999.000,9, 26.8932,-999.000
      06MT28_1,   A08,   213,  1,   2430,    212,2,19940416,0800,-11.3342, -15.7500, 3469,     29.8,  26.8998,  36.8365,2,-999.0000,9,    191.9,2,     0.77,2,     0.00,2, -999.000,9, -999.000,9, -999.000,9, -999.000,9, -999.000,9,-999.0000,9,  -999.00,9,-999.000,   -999.0,9,   -999.0,9,     30,-999.0000,-999.000,-999.000,9, 26.8929,-999.000
      06MT28_1,   A08,   213,  1,   2429,    211,2,19940416,0800,-11.3342, -15.7500, 3469,     49.5,  26.9018,  36.8366,2,-999.0000,9,    192.0,2,     0.77,2,     0.00,2, -999.000,9, -999.000,9, -999.000,9, -999.000,9, -999.000,9,-999.0000,9,  -999.00,9,-999.000,   -999.0,9,   -999.0,9,     49,-999.0000,-999.000,-999.000,9, 26.8904,-999.000
      06MT28_1,   A08,   213,  1,   2428,    210,2,19940416,0800,-11.3342, -15.7500, 3469,     69.5,  26.8454,  36.8303,2,-999.0000,9,    193.3,2,     0.77,2,     0.00,2, -999.000,9, -999.000,9, -999.000,9, -999.000,9, -999.000,9,-999.0000,9,  -999.00,9,-999.000,   -999.0,9,   -999.0,9,     69,-999.0000,-999.000,-999.000,9, 26.8294,-999.000
      06MT28_1,   A08,   213,  1,   2427,    209,2,19940416,0800,-11.3342, -15.7500, 3469,    101.3,  24.2113,  36.7328,2,-999.0000,9,    209.5,2,     0.77,2,     0.00,2, -999.000,9, -999.000,9, -999.000,9, -999.000,9, -999.000,9,-999.0000,9,  -999.00,9,-999.000,   -999.0,9,   -999.0,9,    101,-999.0000,-999.000,-999.000,9, 24.1897,-999.000
      06MT28_1,   A08,   213,  1,   2426,    208,2,19940416,0800,-11.3342, -15.7500, 3469,    148.9,  17.5677,  35.9189,2,-999.0000,9,    158.7,2,     2.87,2,     8.72,2, -999.000,9, -999.000,9, -999.000,9, -999.000,9, -999.000,9,-999.0000,9,  -999.00,9,-999.000,   -999.0,9,   -999.0,9,    149,-999.0000,-999.000,-999.000,9, 17.5425,-999.000
      06MT28_1,   A08,   213,  1,   2425,    207,2,19940416,0800,-11.3342, -15.7500, 3469,    149.0,  17.5536,  35.9175,2,-999.0000,9,   -999.0,9,  -999.00,9,  -999.00,9, -999.000,9, -999.000,9, -999.000,9, -999.000,9, -999.000,9,-999.0000,9,  -999.00,9,-999.000,   -999.0,9,   -999.0,9,    149,-999.0000,-999.000,-999.000,9, 17.5284,-999.000
      06MT28_1,   A08,   213,  2,   2432,    324,2,19940416,0932,-11.3340, -15.7503, 3472,     13.0,  26.8962,  36.8406,2,  36.8408,2,    194.2,2,     0.96,2,     0.00,2, -999.000,9, -999.000,9, -999.000,9, -999.000,9, -999.000,9,-999.0000,9,  -999.00,9,-999.000,   -999.0,9,   -999.0,9,     10,-999.0000,-999.000,-999.000,9, 26.8932,-999.000
      06MT28_1,   A08,   213,  2,   2424,    322,2,19940416,0932,-11.3340, -15.7503, 3472,    197.0,  14.0217,  35.4365,2,-999.0000,9,    116.2,2,     5.94,2,    17.81,2, -999.000,9, -999.000,9, -999.000,9, -999.000,9, -999.000,9,-999.0000,9,  -999.00,9,-999.000,   -999.0,9,   -999.0,9,    198,-999.0000,-999.000,-999.000,9, 13.9931,-999.000
      06MT28_1,   A08,   213,  2,   2423,    323,2,19940416,0932,-11.3340, -15.7503, 3472,    197.2,  14.0217,  35.4365,2,-999.0000,9,    115.9,2,     5.94,2,    17.82,2, -999.000,9, -999.000,9, -999.000,9, -999.000,9, -999.000,9,-999.0000,9,  -999.00,9,-999.000,   -999.0,9,   -999.0,9,    198,-999.0000,-999.000,-999.000,9, 13.9930,-999.000
      06MT28_1,   A08,   213,  2,   2422,    321,2,19940416,0932,-11.3340, -15.7503, 3472,    396.6,   8.0083,  34.7086,2,-999.0000,9,     99.0,2,    16.17,2,    31.00,2, -999.000,9, -999.000,9, -999.000,9, -999.000,9, -999.000,9,-999.0000,9,  -999.00,9,-999.000,   -999.0,9,   -999.0,9,    399,-999.0000,-999.000,-999.000,9,  7.9678,-999.000
      06MT28_1,   A08,   213,  2,   2421,    320,2,19940416,0932,-11.3340, -15.7503, 3472,    496.3,   6.8131,  34.5939,2,-999.0000,9,    112.9,2,    19.32,2,    32.04,2, -999.000,9, -999.000,9, -999.000,9, -999.000,9, -999.000,9,-999.0000,9,  -999.00,9,-999.000,   -999.0,9,   -999.0,9,    500,-999.0000,-999.000,-999.000,9,  6.7666,-999.000
      06MT28_1,   A08,   213,  2,   2420,    319,2,19940416,0932,-11.3340, -15.7503, 3472,    596.6,   5.8661,  34.5150,2,-999.0000,9,    124.3,2,    22.46,2,    32.88,2, -999.000,9, -999.000,9, -999.000,9, -999.000,9, -999.000,9,-999.0000,9,  -999.00,9,-999.000,   -999.0,9,   -999.0,9,    600,-999.0000,-999.000,-999.000,9,  5.8142,-999.000
      06MT28_1,   A08,   213,  2,   2419,    317,2,19940416,0932,-11.3340, -15.7503, 3472,    696.4,   5.2895,  34.4849,2,-999.0000,9,    128.6,2,    25.68,2,    33.51,2, -999.000,9, -999.000,9, -999.000,9, -999.000,9, -999.000,9,-999.0000,9,  -999.00,9,-999.000,   -999.0,9,   -999.0,9,    701,-999.0000,-999.000,-999.000,9,  5.2315,-999.000
      06MT28_1,   A08,   213,  2,   2418,    318,2,19940416,0932,-11.3340, -15.7503, 3472,    696.5,   5.2895,  34.4849,2,-999.0000,9,    128.8,2,    25.70,2,    33.53,2, -999.000,9, -999.000,9, -999.000,9, -999.000,9, -999.000,9,-999.0000,9,  -999.00,9,-999.000,   -999.0,9,   -999.0,9,    701,-999.0000,-999.000,-999.000,9,  5.2315,-999.000
      06MT28_1,   A08,   213,  2,   2417,    316,2,19940416,0932,-11.3340, -15.7503, 3472,    995.4,   4.0456,  34.5485,2,-999.0000,9,    154.4,2,    33.49,2,    31.77,2, -999.000,9, -999.000,9, -999.000,9, -999.000,9, -999.000,9,-999.0000,9,  -999.00,9,-999.000,   -999.0,9,   -999.0,9,   1000,-999.0000,-999.000,-999.000,9,  3.9699,-999.000
      06MT28_1,   A08,   213,  2,   2415,    314,2,19940416,0932,-11.3340, -15.7503, 3472,   1195.0,   4.0098,  34.7277,2,-999.0000,9,    172.1,2,    29.24,2,    27.81,2, -999.000,9, -999.000,9, -999.000,9, -999.000,9, -999.000,9,-999.0000,9,  -999.00,9,-999.000,   -999.0,9,   -999.0,9,   1199,-999.0000,-999.000,-999.000,9,  3.9171,-999.000
      06MT28_1,   A08,   213,  2,   2416,    315,2,19940416,0932,-11.3340, -15.7503, 3472,   1195.1,   4.0098,  34.7277,2,  34.7279,2,    172.5,2,    29.27,2,    27.84,2, -999.000,9, -999.000,9, -999.000,9, -999.000,9, -999.000,9,-999.0000,9,  -999.00,9,-999.000,   -999.0,9,   -999.0,9,   1199,-999.0000,-999.000,-999.000,9,  3.9171,-999.000
      06MT28_1,   A08,   213,  2,   2414,    312,2,19940416,0932,-11.3340, -15.7503, 3472,   1595.9,   3.8508,  34.9276,2,-999.0000,9,    214.4,2,    21.10,2,    21.20,2, -999.000,9, -999.000,9, -999.000,9, -999.000,9, -999.000,9,-999.0000,9,  -999.00,9,-999.000,   -999.0,9,   -999.0,9,   1599,-999.0000,-999.000,-999.000,9,  3.7237,-999.000
      06MT28_1,   A08,   213,  2,   2413,    313,2,19940416,0932,-11.3340, -15.7503, 3472,   1596.0,   3.8508,  34.9276,2,-999.0000,9,    215.3,2,    21.12,2,    21.22,2, -999.000,9, -999.000,9, -999.000,9, -999.000,9, -999.000,9,-999.0000,9,  -999.00,9,-999.000,   -999.0,9,   -999.0,9,   1599,-999.0000,-999.000,-999.000,9,  3.7237,-999.000
      06MT28_1,   A08,   213,  2,   2412,    311,2,19940416,0932,-11.3340, -15.7503, 3472,   1797.7,   3.5226,  34.9318,2,-999.0000,9,    223.0,2,    23.46,2,    20.42,2, -999.000,9, -999.000,9, -999.000,9, -999.000,9, -999.000,9,-999.0000,9,  -999.00,9,-999.000,   -999.0,9,   -999.0,9,   1801,-999.0000,-999.000,-999.000,9,  3.3812,-999.000
      06MT28_1,   A08,   213,  2,   2399,    310,2,19940416,0932,-11.3340, -15.7503, 3472,   1998.3,   3.2134,  34.9256,2,  34.9224,2,    229.3,2,    30.36,2,    20.21,2, -999.000,9, -999.000,9, -999.000,9, -999.000,9, -999.000,9,-999.0000,9,  -999.00,9,-999.000,   -999.0,9,   -999.0,9,   2001,-999.0000,-999.000,-999.000,9,  3.0579,-999.000
      06MT28_1,   A08,   213,  2,   2466,    309,2,19940416,0932,-11.3340, -15.7503, 3472,   2248.5,   2.9810,  34.9209,2,-999.0000,9,    224.7,2,    37.44,2,    21.13,2, -999.000,9, -999.000,9, -999.000,9, -999.000,9, -999.000,9,-999.0000,9,  -999.00,9,-999.000,   -999.0,9,   -999.0,9,   2250,-999.0000,-999.000,-999.000,9,  2.8057,-999.000
      06MT28_1,   A08,   213,  2,   2467,    308,2,19940416,0932,-11.3340, -15.7503, 3472,   2498.5,   2.7297,  34.8992,2,-999.0000,9,    224.7,2,    37.30,2,    21.11,2, -999.000,9, -999.000,9, -999.000,9, -999.000,9, -999.000,9,-999.0000,9,  -999.00,9,-999.000,   -999.0,9,   -999.0,9,   2499,-999.0000,-999.000,-999.000,9,  2.5350,-999.000
      06MT28_1,   A08,   213,  2,   2465,    307,2,19940416,0932,-11.3340, -15.7503, 3472,   2749.4,   2.6322,  34.8951,2,-999.0000,9,    223.6,2,    39.81,2,    21.28,2, -999.000,9, -999.000,9, -999.000,9, -999.000,9, -999.000,9,-999.0000,9,  -999.00,9,-999.000,   -999.0,9,   -999.0,9,   2749,-999.0000,-999.000,-999.000,9,  2.4149,-999.000
      06MT28_1,   A08,   213,  2,   2464,    306,2,19940416,0932,-11.3340, -15.7503, 3472,   3000.6,   2.5843,  34.8931,2,  34.8931,2,    223.1,2,    41.19,2,    21.35,2, -999.000,9, -999.000,9, -999.000,9, -999.000,9, -999.000,9,-999.0000,9,  -999.00,9,-999.000,   -999.0,9,   -999.0,9,   3000,-999.0000,-999.000,-999.000,9,  2.3427,-999.000
      06MT28_1,   A08,   213,  2,   2463,    305,2,19940416,0932,-11.3340, -15.7503, 3472,   3251.7,   2.4871,  34.8866,2,-999.0000,9,    223.2,2,    43.69,2,    21.52,2, -999.000,9, -999.000,9, -999.000,9, -999.000,9, -999.000,9,-999.0000,9,  -999.00,9,-999.000,   -999.0,9,   -999.0,9,   3250,-999.0000,-999.000,-999.000,9,  2.2216,-999.000
      06MT28_1,   A08,   213,  2,   2462,    304,2,19940416,0932,-11.3340, -15.7503, 3472,   3371.4,   2.4711,  34.8846,2,-999.0000,9,    229.5,2,    44.80,2,    21.55,2, -999.000,9, -999.000,9, -999.000,9, -999.000,9, -999.000,9,-999.0000,9,  -999.00,9,-999.000,   -999.0,9,   -999.0,9,   3369,-999.0000,-999.000,-999.000,9,  2.1933,-999.000
      06MT28_1,   A08,   213,  2,   2461,    303,2,19940416,0932,-11.3340, -15.7503, 3472,   3442.5,   2.4516,  34.8827,2,-999.0000,9,    225.6,2,    44.84,2,    21.50,2, -999.000,9, -999.000,9, -999.000,9, -999.000,9, -999.000,9,-999.0000,9,  -999.00,9,-999.000,   -999.0,9,   -999.0,9,   3440,-999.0000,-999.000,-999.000,9,  2.1667,-999.000
      06MT28_1,   A08,   213,  2,   2460,    301,2,19940416,0932,-11.3340, -15.7503, 3472,   3468.6,   2.4419,  34.8816,2,  34.8818,2,    222.7,2,    45.02,2,    21.59,2, -999.000,9, -999.000,9, -999.000,9, -999.000,9, -999.000,9,-999.0000,9,  -999.00,9,-999.000,   -999.0,9,   -999.0,9,   3466,-999.0000,-999.000,-999.000,9,  2.1544,-999.000
      06MT28_1,   A08,   213,  2,   2459,    302,2,19940416,0932,-11.3340, -15.7503, 3472,   3468.8,   2.4416,  34.8819,2,  34.8819,2,    222.7,2,    44.97,2,    21.54,2, -999.000,9, -999.000,9, -999.000,9, -999.000,9, -999.000,9,-999.0000,9,  -999.00,9,-999.000,   -999.0,9,   -999.0,9,   3466,-999.0000,-999.000,-999.000,9,  2.1541,-999.000