BOTTLE,20220817CCHSIOAMB
EXPOCODE,SECT_ID,STNNBR,CASTNO,SAMPNO,BTLNBR,BTLNBR_FLAG_W,DATE,TIME,LATITUDE,LONGITUDE,DEPTH,CTDPRS,CTDTMP,CTDSAL,CTDSAL_FLAG_W,SALNTY,SALNTY_FLAG_W,OXYGEN,OXYGEN_FLAG_W,SILCAT,SILCAT_FLAG_W,NO2+NO3,NO2+NO3_FLAG_W,CFC-11,CFC-11_FLAG_W,CFC-12,CFC-12_FLAG_W,CFC113,CFC113_FLAG_W,CCL4,CCL4_FLAG_W,TRITUM,TRITUM_FLAG_W,HELIUM,HELIUM_FLAG_W,DELHE3,DELHE3_FLAG_W,NEON,TCARBN,TCARBN_FLAG_W,PCO2,PCO2_FLAG_W,CTDRAW,HELIER,DELHER,NEONER,NEON_FLAG_W,THETA,TRITER
,,,,,,,,,,,,DBAR,ITS-90,PSS-78,,PSS-78,,UMOL/KG,,UMOL/KG,,UMOL/KG,,PMOL/KG,,PMOL/KG,,PMOL/KG,,PMOL/KG,,TU,,NMOL/KG,,PERCNT,,NMOL/KG,UMOL/KG,,UATM,,,NMOL/KG,PERCNT,NMOL/KG,,ITS-90,TU
      06MT28_1,   A08,   203,  2,   1897,    324,2,19940413,0630,-11.3337, -20.5003, 5031,     15.0,  27.4262,  36.8321,2,  36.8326,2,    192.1,2,     0.77,2,     0.00,2, -999.000,9, -999.000,9, -999.000,9, -999.000,9, -999.000,9,-999.0000,9,  -999.00,9,-999.000,   -999.0,9,   -999.0,9,     10,-999.0000,-999.000,-999.000,9, 27.4227,-999.000
      06MT28_1,   A08,   203,  2,   1941,    323,2,19940413,0630,-11.3337, -20.5003, 5031,    749.0,   4.8638,  34.4517,2,-999.0000,9,    146.7,2,    27.01,3,    32.36,3, -999.000,9, -999.000,9, -999.000,9, -999.000,9, -999.000,9,-999.0000,9,  -999.00,9,-999.000,   -999.0,9,   -999.0,9,    751,-999.0000,-999.000,-999.000,9,  4.8036,-999.000
      06MT28_1,   A08,   203,  2,   1940,    322,2,19940413,0630,-11.3337, -20.5003, 5031,    821.3,   4.4313,  34.4498,2,-999.0000,9,    152.9,2,    30.34,2,    32.54,2, -999.000,9, -999.000,9, -999.000,9, -999.000,9, -999.000,9,-999.0000,9,  -999.00,9,-999.000,   -999.0,9,   -999.0,9,    824,-999.0000,-999.000,-999.000,9,  4.3676,-999.000
      06MT28_1,   A08,   203,  2,   1938,    321,2,19940413,0630,-11.3337, -20.5003, 5031,    921.9,   4.0853,  34.4825,2,-999.0000,9,    157.3,2,    33.00,2,    31.95,2, -999.000,9, -999.000,9, -999.000,9, -999.000,9, -999.000,9,-999.0000,9,  -999.00,9,-999.000,   -999.0,9,   -999.0,9,    924,-999.0000,-999.000,-999.000,9,  4.0156,-999.000
      06MT28_1,   A08,   203,  2,   1936,    320,2,19940413,0630,-11.3337, -20.5003, 5031,   1097.6,   3.9446,  34.6020,2,  34.6019,2,    161.1,2,    32.97,2,    30.30,2, -999.000,9, -999.000,9, -999.000,9, -999.000,9, -999.000,9,-999.0000,9,  -999.00,9,-999.000,   -999.0,9,   -999.0,9,   1100,-999.0000,-999.000,-999.000,9,  3.8611,-999.000
      06MT28_1,   A08,   203,  2,   1935,    319,2,19940413,0630,-11.3337, -20.5003, 5031,   1348.0,   4.1818,  34.8446,2,-999.0000,9,    187.7,2,    23.60,2,    24.55,2, -999.000,9, -999.000,9, -999.000,9, -999.000,9, -999.000,9,-999.0000,9,  -999.00,9,-999.000,   -999.0,9,   -999.0,9,   1350,-999.0000,-999.000,-999.000,9,  4.0737,-999.000
      06MT28_1,   A08,   203,  2,   1934,    318,2,19940413,0630,-11.3337, -20.5003, 5031,   1598.0,   3.9317,  34.9317,2,-999.0000,9,    214.8,2,    20.06,2,    20.91,2, -999.000,9, -999.000,9, -999.000,9, -999.000,9, -999.000,9,-999.0000,9,  -999.00,9,-999.000,   -999.0,9,   -999.0,9,   1599,-999.0000,-999.000,-999.000,9,  3.8035,-999.000
      06MT28_1,   A08,   203,  2,   1933,    317,2,19940413,0630,-11.3337, -20.5003, 5031,   1850.0,   3.5335,  34.9337,2,-999.0000,9,    222.7,2,    22.88,2,    20.22,2, -999.000,9, -999.000,9, -999.000,9, -999.000,9, -999.000,9,-999.0000,9,  -999.00,9,-999.000,   -999.0,9,   -999.0,9,   1851,-999.0000,-999.000,-999.000,9,  3.3871,-999.000
      06MT28_1,   A08,   203,  2,   1932,    316,2,19940413,0630,-11.3337, -20.5003, 5031,   2101.3,   3.2501,  34.9409,2,  34.9408,2,    232.0,2,    23.99,2,    19.25,2, -999.000,9, -999.000,9, -999.000,9, -999.000,9, -999.000,9,-999.0000,9,  -999.00,9,-999.000,   -999.0,9,   -999.0,9,   2101,-999.0000,-999.000,-999.000,9,  3.0843,-999.000
      06MT28_1,   A08,   203,  2,   1931,    315,2,19940413,0630,-11.3337, -20.5003, 5031,   2352.1,   3.0260,  34.9317,2,-999.0000,9,    231.9,2,    27.19,2,    19.42,2, -999.000,9, -999.000,9, -999.000,9, -999.000,9, -999.000,9,-999.0000,9,  -999.00,9,-999.000,   -999.0,9,   -999.0,9,   2351,-999.0000,-999.000,-999.000,9,  2.8400,-999.000
      06MT28_1,   A08,   203,  2,   1930,    314,2,19940413,0630,-11.3337, -20.5003, 5031,   2603.0,   2.8670,  34.9209,2,-999.0000,9,    221.8,2,    30.76,2,    19.87,2, -999.000,9, -999.000,9, -999.000,9, -999.000,9, -999.000,9,-999.0000,9,  -999.00,9,-999.000,   -999.0,9,   -999.0,9,   2601,-999.0000,-999.000,-999.000,9,  2.6595,-999.000
      06MT28_1,   A08,   203,  2,   1929,    313,2,19940413,0630,-11.3337, -20.5003, 5031,   2852.0,   2.7309,  34.9092,2,-999.0000,9,    235.8,2,    35.07,2,    20.23,2, -999.000,9, -999.000,9, -999.000,9, -999.000,9, -999.000,9,-999.0000,9,  -999.00,9,-999.000,   -999.0,9,   -999.0,9,   2849,-999.0000,-999.000,-999.000,9,  2.5012,-999.000
      06MT28_1,   A08,   203,  2,   1928,    312,2,19940413,0630,-11.3337, -20.5003, 5031,   3104.6,   2.6506,  34.9046,2,  34.9043,2,    227.1,2,    36.45,2,    20.40,2, -999.000,9, -999.000,9, -999.000,9, -999.000,9, -999.000,9,-999.0000,9,  -999.00,9,-999.000,   -999.0,9,   -999.0,9,   3101,-999.0000,-999.000,-999.000,9,  2.3967,-999.000
      06MT28_1,   A08,   203,  2,   1927,    311,2,19940413,0630,-11.3337, -20.5003, 5031,   3355.1,   2.5715,  34.9054,2,-999.0000,9,    230.8,2,    35.75,2,    19.90,2, -999.000,9, -999.000,9, -999.000,9, -999.000,9, -999.000,9,-999.0000,9,  -999.00,9,-999.000,   -999.0,9,   -999.0,9,   3351,-999.0000,-999.000,-999.000,9,  2.2930,-999.000
      06MT28_1,   A08,   203,  2,   1926,    310,2,19940413,0630,-11.3337, -20.5003, 5031,   3607.1,   2.3718,  34.8881,2,-999.0000,9,    229.5,2,    41.08,2,    20.45,2, -999.000,9, -999.000,9, -999.000,9, -999.000,9, -999.000,9,-999.0000,9,  -999.00,9,-999.000,   -999.0,9,   -999.0,9,   3602,-999.0000,-999.000,-999.000,9,  2.0711,-999.000
      06MT28_1,   A08,   203,  2,   1925,    309,2,19940413,0630,-11.3337, -20.5003, 5031,   3854.2,   2.1037,  34.8635,2,-999.0000,9,    227.2,2,    49.70,2,    21.37,2, -999.000,9, -999.000,9, -999.000,9, -999.000,9, -999.000,9,-999.0000,9,  -999.00,9,-999.000,   -999.0,9,   -999.0,9,   3848,-999.0000,-999.000,-999.000,9,  1.7830,-999.000
      06MT28_1,   A08,   203,  2,   1924,    308,2,19940413,0630,-11.3337, -20.5003, 5031,   4108.3,   1.6201,  34.8128,2,  34.8123,2,    219.1,2,    68.54,2,    23.98,2, -999.000,9, -999.000,9, -999.000,9, -999.000,9, -999.000,9,-999.0000,9,  -999.00,9,-999.000,   -999.0,9,   -999.0,9,   4102,-999.0000,-999.000,-999.000,9,  1.2851,-999.000
      06MT28_1,   A08,   203,  2,   1921,    307,2,19940413,0630,-11.3337, -20.5003, 5031,   4357.7,   1.1200,  34.7606,2,-999.0000,9,    211.5,2,    87.91,2,    26.58,2, -999.000,9, -999.000,9, -999.000,9, -999.000,9, -999.000,9,-999.0000,9,  -999.00,9,-999.000,   -999.0,9,   -999.0,9,   4351,-999.0000,-999.000,-999.000,9,  0.7724,-999.000
      06MT28_1,   A08,   203,  2,   1978,    306,2,19940413,0630,-11.3337, -20.5003, 5031,   4607.0,   0.9378,  34.7399,2,-999.0000,9,    207.3,2,    94.67,2,    27.49,2, -999.000,9, -999.000,9, -999.000,9, -999.000,9, -999.000,9,-999.0000,9,  -999.00,9,-999.000,   -999.0,9,   -999.0,9,   4600,-999.0000,-999.000,-999.000,9,  0.5679,-999.000
      06MT28_1,   A08,   203,  2,   1977,    305,2,19940413,0630,-11.3337, -20.5003, 5031,   4856.4,   0.8951,  34.7320,2,-999.0000,9,    206.8,2,    97.67,3,    27.84,2, -999.000,9, -999.000,9, -999.000,9, -999.000,9, -999.000,9,-999.0000,9,  -999.00,9,-999.000,   -999.0,9,   -999.0,9,   4849,-999.0000,-999.000,-999.000,9,  0.4979,-999.000
      06MT28_1,   A08,   203,  2,   1976,    304,2,19940413,0630,-11.3337, -20.5003, 5031,   4970.3,   0.8844,  34.7303,2,-999.0000,9,    206.5,2,    98.23,2,    28.01,2, -999.000,9, -999.000,9, -999.000,9, -999.000,9, -999.000,9,-999.0000,9,  -999.00,9,-999.000,   -999.0,9,   -999.0,9,   4963,-999.0000,-999.000,-999.000,9,  0.4742,-999.000
      06MT28_1,   A08,   203,  2,   1975,    303,2,19940413,0630,-11.3337, -20.5003, 5031,   5040.9,   0.8773,  34.7287,2,-999.0000,9,    206.2,2,    98.53,2,    28.05,2, -999.000,9, -999.000,9, -999.000,9, -999.000,9, -999.000,9,-999.0000,9,  -999.00,9,-999.000,   -999.0,9,   -999.0,9,   5034,-999.0000,-999.000,-999.000,9,  0.4590,-999.000
      06MT28_1,   A08,   203,  2,   1974,    302,2,19940413,0630,-11.3337, -20.5003, 5031,   5071.4,   0.8791,  34.7284,2,  34.7264,2,    205.4,2,    98.94,3,    28.05,2, -999.000,9, -999.000,9, -999.000,9, -999.000,9, -999.000,9,-999.0000,9,  -999.00,9,-999.000,   -999.0,9,   -999.0,9,   5064,-999.0000,-999.000,-999.000,9,  0.4571,-999.000
      06MT28_1,   A08,   203,  2,   1973,    301,2,19940413,0630,-11.3337, -20.5003, 5031,   5071.7,   0.8793,  34.7281,2,  34.7264,2,    205.9,2,    98.94,2,    28.00,2, -999.000,9, -999.000,9, -999.000,9, -999.000,9, -999.000,9,-999.0000,9,  -999.00,9,-999.000,   -999.0,9,   -999.0,9,   5065,-999.0000,-999.000,-999.000,9,  0.4573,-999.000
      06MT28_1,   A08,   204,  1,   1972,    219,2,19940413,1334,-11.3333, -19.9997, 4755,      8.8,  27.4023,  36.8210,2,-999.0000,9,   -999.0,9,     0.67,2,     0.00,4,    1.538,2,    0.895,2,    0.099,4,    1.732,2,    0.701,2,   1.6620,2,    -1.15,2,   6.524,   2050.4,2,    463.3,6,      8,  0.0060,   0.240,   0.021,2, 27.4003,   0.021
      06MT28_1,   A08,   204,  1,   1970,    218,2,19940413,1334,-11.3333, -19.9997, 4755,     40.4,  27.3681,  36.8216,2,-999.0000,9,   -999.0,9,     0.77,2,     0.00,4,    1.534,2,    0.902,2,    0.104,4,    1.717,2,    0.802,2,   1.6680,2,    -0.95,2,   6.543,   2051.5,2,    465.2,2,     40,  0.0060,   0.240,   0.021,2, 27.3587,   0.019
      06MT28_1,   A08,   204,  1,   1969,    217,2,19940413,1334,-11.3333, -19.9997, 4755,     60.8,  27.3518,  36.8267,2,-999.0000,9,   -999.0,9,     0.67,2,     0.00,4,    1.543,2,    0.895,2,    0.086,4,    1.650,2,    0.813,2,   1.6650,2,    -1.54,2,   6.546,   2051.5,2,    470.5,2,     60,  0.0060,   0.240,   0.021,2, 27.3376,   0.022
      06MT28_1,   A08,   204,  1,   1968,    216,2,19940413,1334,-11.3333, -19.9997, 4755,     79.5,  24.7508,  36.8050,2,-999.0000,9,   -999.0,9,     0.86,2,     0.00,4,    1.579,2,    0.911,2,    0.111,4,    1.635,2,    0.835,2,   1.6750,2,    -1.08,2,   6.602,   2051.6,2,    465.4,2,     79,  0.0060,   0.240,   0.021,2, 24.7336,   0.032
      06MT28_1,   A08,   204,  1,   1967,    215,2,19940413,1334,-11.3333, -19.9997, 4755,    120.0,  21.1205,  36.4166,2,-999.0000,9,   -999.0,9,     1.25,2,     0.96,2,    1.873,2,    1.046,2,    0.144,2,    0.899,2,    0.700,2,   1.6880,3,    -0.74,3,   6.825,   2099.6,2,    615.4,2,    120,  0.0150,   0.240,   0.056,3, 21.0973,   0.018
      06MT28_1,   A08,   204,  1,   1966,    214,2,19940413,1334,-11.3333, -19.9997, 4755,    180.1,  15.5924,  35.6410,2,-999.0000,9,   -999.0,9,     4.69,2,    14.66,2,    1.571,2,    0.855,2,    0.072,2,    0.503,2,    0.618,2,   1.7150,2,     0.80,2,   7.135,   2152.7,2,   1021.9,2,    180,  0.0060,   0.250,   0.024,2, 15.5642,   0.016
      06MT28_1,   A08,   204,  1,   1965,    213,2,19940413,1334,-11.3333, -19.9997, 4755,    250.3,  11.4461,  35.0847,2,-999.0000,9,   -999.0,9,     9.76,2,    25.56,2,    0.749,2,    0.411,2,    0.019,2,    0.219,2,    0.343,2,   1.7530,2,     1.21,2,   7.373,   2199.5,2,   1567.2,2,    250,  0.0070,   0.250,   0.024,2, 11.4143,   0.012
      06MT28_1,   A08,   204,  1,   1964,    212,2,19940413,1334,-11.3333, -19.9997, 4755,    349.7,   8.8006,  34.7940,2,-999.0000,9,   -999.0,9,    14.44,2,    30.13,2,    0.222,2,    0.127,2,    0.009,2,    0.214,2,    0.143,2,   1.7540,2,     1.38,2,   7.474,   2211.2,2,   1141.3,2,    349,  0.0070,   0.250,   0.025,2,  8.7629,   0.107
      06MT28_1,   A08,   204,  1,   1963,    211,2,19940413,1334,-11.3333, -19.9997, 4755,    450.8,   7.3948,  34.6521,2,-999.0000,9,   -999.0,9,    17.50,2,    31.64,2,    0.149,2,    0.085,2,    0.008,2,    0.273,2,    0.073,2,-999.0000,9,  -999.00,9,-999.000,   2213.9,2,   1185.3,2,    450,-999.0000,-999.000,-999.000,9,  7.3507,   0.004
      06MT28_1,   A08,   204,  1,   1961,    210,2,19940413,1334,-11.3333, -19.9997, 4755,    550.6,   6.2755,  34.5510,2,-999.0000,9,   -999.0,9,    21.02,2,    32.87,2,    0.093,2,    0.058,2,    0.005,2,    0.291,2,    0.045,2,   1.7760,2,     1.33,2,   7.656,   2216.6,2,   1243.0,2,    550,  0.0070,   0.250,   0.025,2,  6.2260,   0.003
      06MT28_1,   A08,   204,  1,   1960,    209,2,19940413,1334,-11.3333, -19.9997, 4755,    649.8,   5.4540,  34.4829,2,-999.0000,9,   -999.0,9,    25.79,2,    32.42,2,    0.102,2,    0.062,2,    0.008,2,    0.374,2,    0.044,2,   1.7970,2,     1.54,2,   7.804,   2210.5,2,   1158.9,2,    650,  0.0070,   0.240,   0.025,2,  5.3993,   0.016
      06MT28_1,   A08,   204,  1,   1958,    208,2,19940413,1334,-11.3333, -19.9997, 4755,    749.5,   4.8423,  34.4543,2,-999.0000,9,   -999.0,9,    25.77,2,    32.46,2,    0.076,2,    0.044,2,    0.009,2,    0.340,2,    0.030,2,   1.7980,6,     2.19,6,   7.789,   2212.7,2,   1171.6,6,    750,  0.0070,   0.250,   0.026,6,  4.7822,   0.003
      06MT28_1,   A08,   204,  1,   1957,    207,2,19940413,1334,-11.3333, -19.9997, 4755,    749.6,   4.8184,  34.4535,2,-999.0000,9,   -999.0,9,  -999.00,9,  -999.00,9, -999.000,9, -999.000,9, -999.000,9, -999.000,9, -999.000,9,-999.0000,9,  -999.00,9,-999.000,   -999.0,9,   -999.0,9,    750,-999.0000,-999.000,-999.000,9,  4.7584,-999.000