BOTTLE,20220817CCHSIOAMB
EXPOCODE,SECT_ID,STNNBR,CASTNO,SAMPNO,BTLNBR,BTLNBR_FLAG_W,DATE,TIME,LATITUDE,LONGITUDE,DEPTH,CTDPRS,CTDTMP,CTDSAL,CTDSAL_FLAG_W,SALNTY,SALNTY_FLAG_W,OXYGEN,OXYGEN_FLAG_W,SILCAT,SILCAT_FLAG_W,NO2+NO3,NO2+NO3_FLAG_W,CFC-11,CFC-11_FLAG_W,CFC-12,CFC-12_FLAG_W,CFC113,CFC113_FLAG_W,CCL4,CCL4_FLAG_W,TRITUM,TRITUM_FLAG_W,HELIUM,HELIUM_FLAG_W,DELHE3,DELHE3_FLAG_W,NEON,TCARBN,TCARBN_FLAG_W,PCO2,PCO2_FLAG_W,CTDRAW,HELIER,DELHER,NEONER,NEON_FLAG_W,THETA,TRITER
,,,,,,,,,,,,DBAR,ITS-90,PSS-78,,PSS-78,,UMOL/KG,,UMOL/KG,,UMOL/KG,,PMOL/KG,,PMOL/KG,,PMOL/KG,,PMOL/KG,,TU,,NMOL/KG,,PERCNT,,NMOL/KG,UMOL/KG,,UATM,,,NMOL/KG,PERCNT,NMOL/KG,,ITS-90,TU
      06MT28_1,   A08,   226,  2,   3087,    324,2,19940419,2123,-11.3332, -10.0002, 4069,     16.1,  26.5681,  36.6735,2,  36.6709,2,    193.8,2,     0.96,2,     0.00,2,    1.585,2,    0.924,2,    0.056,4,    1.755,2, -999.000,9,-999.0000,9,  -999.00,9,-999.000,   2052.8,2,   -999.0,9,     13,-999.0000,-999.000,-999.000,9, 26.5644,-999.000
      06MT28_1,   A08,   226,  2,   3077,    323,2,19940419,2123,-11.3332, -10.0002, 4069,    448.9,   7.4965,  34.6713,2,-999.0000,9,     79.6,2,    18.74,2,    34.80,2,    0.069,2,    0.043,4,    0.005,2,    0.145,2, -999.000,9,-999.0000,9,  -999.00,9,-999.000,   2232.1,2,   1416.3,6,    451,-999.0000,-999.000,-999.000,9,  7.4523,-999.000
      06MT28_1,   A08,   226,  2,   3076,    322,2,19940419,2123,-11.3332, -10.0002, 4069,    547.9,   6.5033,  34.5798,2,  34.5810,2,     98.9,2,    21.31,2,    34.78,2,    0.056,2,    0.036,2,    0.004,2,    0.175,2, -999.000,9,   1.7780,6,     1.23,6,   7.654,   2227.3,2,   1380.8,2,    550,  0.0070,   0.250,   0.025,6,  6.4531,-999.000
      06MT28_1,   A08,   226,  2,   3075,    321,2,19940419,2123,-11.3332, -10.0002, 4069,    647.7,   5.7000,  34.5245,2,-999.0000,9,    107.2,2,    24.54,2,    35.43,2,    0.027,2,    0.018,2,    0.011,2,    0.146,2, -999.000,9,   1.7860,2,     0.97,2,   7.701,   2228.3,2,   1371.3,2,    651,  0.0070,   0.250,   0.025,2,  5.6442,-999.000
      06MT28_1,   A08,   226,  2,   3074,    320,2,19940419,2123,-11.3332, -10.0002, 4069,    747.0,   5.0789,  34.4982,2,-999.0000,9,    117.2,2,    27.97,2,    35.41,2,    0.020,2,    0.012,2,    0.014,2,    0.106,2, -999.000,9,   1.7870,2,     1.73,2,   7.733,   2229.6,2,   1369.2,2,    750,  0.0070,   0.240,   0.025,2,  5.0176,-999.000
      06MT28_1,   A08,   226,  2,   3073,    319,2,19940419,2123,-11.3332, -10.0002, 4069,    822.4,   4.7015,  34.4962,2,-999.0000,9,    123.3,2,    30.15,2,    34.83,2,    0.537,4,    0.017,4,    0.009,2,    0.088,2, -999.000,9,   1.7920,2,     2.32,2,   7.752,   2226.2,2,   1343.6,2,    826,  0.0070,   0.250,   0.026,2,  4.6360,-999.000
      06MT28_1,   A08,   226,  2,   3072,    318,2,19940419,2123,-11.3332, -10.0002, 4069,    922.5,   4.3200,  34.5209,2,-999.0000,9,    142.0,2,    32.14,2,    33.57,2,    0.039,4,    0.025,4,    0.010,2,    0.069,2, -999.000,9,   1.7940,2,     2.19,2,   7.776,   2222.4,2,   1299.2,2,    926,  0.0070,   0.240,   0.025,2,  4.2485,-999.000
      06MT28_1,   A08,   226,  2,   3071,    317,2,19940419,2123,-11.3332, -10.0002, 4069,   1096.5,   4.0750,  34.6131,2,  34.6072,2,    156.1,2,    32.02,2,    31.06,2,    0.005,2,    0.003,2,    0.002,2,    0.038,2, -999.000,9,   1.8050,2,     2.73,2,   7.835,   2216.9,2,   1148.2,2,   1100,  0.0070,   0.250,   0.026,2,  3.9905,-999.000
      06MT28_1,   A08,   226,  2,   3070,    316,2,19940419,2123,-11.3332, -10.0002, 4069,   1297.5,   4.0137,  34.7811,2,-999.0000,9,    177.8,2,    27.42,2,    26.84,2,    0.004,2,    0.002,2,    0.001,2,    0.032,2, -999.000,9,   1.8060,2,     2.60,2,   7.815,   2202.8,2,   1000.4,2,   1301,  0.0070,   0.240,   0.025,2,  3.9120,-999.000
      06MT28_1,   A08,   226,  2,   3069,    315,2,19940419,2123,-11.3332, -10.0002, 4069,   1497.7,   3.8582,  34.8796,2,  34.9140,4,    199.1,2,    24.25,2,    23.49,2,    0.007,3,    0.002,2,    0.007,2,    0.048,2, -999.000,9,   1.8100,3,     2.74,3,   7.829,   2187.1,2,    876.5,2,   1501,  0.0160,   0.250,   0.065,3,  3.7401,-999.000
      06MT28_1,   A08,   226,  2,   3066,    314,2,19940419,2123,-11.3332, -10.0002, 4069,   1698.0,   3.6744,  34.9150,2,-999.0000,9,    211.0,2,    24.13,2,    21.95,2,    0.004,2,    0.002,2,    0.010,2,    0.046,2, -999.000,9,   1.8070,2,     2.99,2,   7.844,   2181.1,2,    849.0,2,   1700,  0.0070,   0.240,   0.025,2,  3.5402,-999.000
      06MT28_1,   A08,   226,  2,   3052,    313,2,19940419,2123,-11.3332, -10.0002, 4069,   1898.1,   3.4302,  34.9276,2,-999.0000,9,    219.0,2,    25.82,2,    21.07,2,    0.005,2,    0.004,2,    0.007,2,    0.041,2,    0.197,2,   1.8180,2,     2.78,2,   7.862,   2179.5,2,    820.9,2,   1900,  0.0070,   0.250,   0.026,2,  3.2808,   0.017
      06MT28_1,   A08,   226,  2,   3128,    312,2,19940419,2123,-11.3332, -10.0002, 4069,   2098.4,   3.2613,  34.9275,2,  34.9254,2,    221.5,2,    27.98,2,    20.77,2,    0.003,2,    0.002,2,    0.004,2,    0.035,2, -999.000,9,   1.8140,2,     3.43,2,   7.876,   -999.0,9,   -999.0,9,   2100,  0.0070,   0.240,   0.025,2,  3.0957,-999.000
      06MT28_1,   A08,   226,  2,   3129,    311,2,19940419,2123,-11.3332, -10.0002, 4069,   2349.0,   3.0288,  34.9189,2,-999.0000,9,    222.0,2,    32.12,2,    21.03,2,    0.003,2,    0.001,2,    0.005,2,    0.016,2, -999.000,9,   1.8280,2,     3.53,2,   7.948,   2183.6,2,    806.9,2,   2350,  0.0070,   0.250,   0.026,2,  2.8431,-999.000
      06MT28_1,   A08,   226,  2,   3127,    310,2,19940419,2123,-11.3332, -10.0002, 4069,   2600.4,   2.8293,  34.9100,2,-999.0000,9,    221.4,2,    35.87,2,    21.29,2,    0.004,2,    0.003,2,    0.000,4,    0.012,2, -999.000,9,   1.8240,2,     3.56,2,   7.971,   2188.5,2,    817.2,2,   2600,  0.0070,   0.240,   0.025,2,  2.6228,-999.000
      06MT28_1,   A08,   226,  2,   3126,    309,2,19940419,2123,-11.3332, -10.0002, 4069,   2851.2,   2.6493,  34.8992,2,-999.0000,9,    222.0,2,    39.89,2,    21.36,2,    0.003,2,    0.002,2,    0.003,2,    0.009,2, -999.000,9,   1.8330,2,     4.81,2,   7.968,   2193.7,2,    835.8,2,   2850,  0.0070,   0.250,   0.026,2,  2.4214,-999.000
      06MT28_1,   A08,   226,  2,   3125,    308,2,19940419,2123,-11.3332, -10.0002, 4069,   3102.0,   2.5064,  34.8931,2,  34.8927,2,    220.9,2,    43.15,2,    21.53,2,    0.004,2,    0.002,2,    0.005,2,    0.008,2, -999.000,9,   1.8240,3,     3.97,3,   7.992,   2197.1,2,    812.5,2,   3100,  0.0160,   0.240,   0.065,3,  2.2560,-999.000
      06MT28_1,   A08,   226,  2,   3124,    307,2,19940419,2123,-11.3332, -10.0002, 4069,   3352.0,   2.4517,  34.8909,2,-999.0000,9,    220.1,2,    44.52,2,    21.60,2,    0.004,2,    0.001,2,    0.009,2,    0.009,2, -999.000,9,-999.0000,9,  -999.00,9,-999.000,   2216.8,4,    813.2,2,   3349,-999.0000,-999.000,-999.000,9,  2.1764,-999.000
      06MT28_1,   A08,   226,  2,   3123,    306,2,19940419,2123,-11.3332, -10.0002, 4069,   3604.1,   2.4060,  34.8877,2,-999.0000,9,    220.0,2,    45.79,2,    21.67,2,    0.004,2,    0.002,2,    0.005,2,    0.011,2, -999.000,9,   3.0180,4,     5.81,2,  10.852,   2201.4,2,    834.7,2,   3601,  0.0110,   0.240,   0.035,4,  2.1047,-999.000
      06MT28_1,   A08,   226,  2,   3122,    305,2,19940419,2123,-11.3332, -10.0002, 4069,   3854.1,   2.4151,  34.8875,2,-999.0000,9,    219.3,2,    46.22,2,    21.65,2,    0.005,2,    0.003,2,    0.009,2,    0.012,2, -999.000,9,   1.8250,2,     3.66,2,   7.974,   2202.6,2,    827.6,2,   3850,  0.0070,   0.250,   0.026,2,  2.0858,-999.000
      06MT28_1,   A08,   226,  2,   3121,    304,2,19940419,2123,-11.3332, -10.0002, 4069,   4003.8,   2.4279,  34.8871,2,-999.0000,9,    219.8,2,    45.91,2,    21.59,2,    0.005,2,    0.002,2,    0.005,2,    0.014,2, -999.000,9,   1.8140,3,     3.11,3,   7.969,   2201.9,2,    806.6,2,   3999,  0.0160,   0.240,   0.065,3,  2.0813,-999.000
      06MT28_1,   A08,   226,  2,   3120,    303,2,19940419,2123,-11.3332, -10.0002, 4069,   4069.5,   2.4359,  34.8875,2,-999.0000,9,    219.4,2,    45.99,2,    21.63,2,    0.004,2,    0.002,2,    0.003,2,    0.012,2, -999.000,9,   1.8150,2,     3.76,2,   7.939,   2200.6,2,    818.4,2,   4065,  0.0070,   0.250,   0.026,2,  2.0815,-999.000
      06MT28_1,   A08,   226,  2,   3119,    301,2,19940419,2123,-11.3332, -10.0002, 4069,   4101.6,   2.4397,  34.8872,2,  34.8868,2,    219.7,2,    46.03,2,    21.63,2,    0.007,2,    0.001,2,    0.001,2,    0.014,2, -999.000,9,   1.8250,6,     3.86,6,   8.017,   2202.4,2,    822.5,2,   4097,  0.0070,   0.250,   0.026,6,  2.0815,-999.000
      06MT28_1,   A08,   226,  2,   3118,    302,2,19940419,2123,-11.3332, -10.0002, 4069,   4101.7,   2.4397,  34.8871,2,  34.8846,2,    219.1,2,    46.08,2,    21.63,2,    0.008,2,    0.002,2,    0.009,2,    0.014,2, -999.000,9,-999.0000,9,  -999.00,9,-999.000,   2202.8,2,    808.7,2,   4097,-999.0000,-999.000,-999.000,9,  2.0814,-999.000
      06MT28_1,   A08,   227,  1,   3116,    215,2,19940420,0228,-11.3337,  -9.5003, 4049,      9.8,  26.5423,  36.6744,2,  36.6738,2,    194.3,2,     0.86,2,     0.00,2, -999.000,9, -999.000,9, -999.000,9, -999.000,9, -999.000,9,-999.0000,9,  -999.00,9,-999.000,   -999.0,9,   -999.0,9,      9,-999.0000,-999.000,-999.000,9, 26.5401,-999.000
      06MT28_1,   A08,   227,  1,   3115,    214,2,19940420,0228,-11.3337,  -9.5003, 4049,     31.7,  26.5473,  36.6743,2,-999.0000,9,    193.4,2,     0.77,2,     0.00,2, -999.000,9, -999.000,9, -999.000,9, -999.000,9, -999.000,9,-999.0000,9,  -999.00,9,-999.000,   -999.0,9,   -999.0,9,     31,-999.0000,-999.000,-999.000,9, 26.5401,-999.000
      06MT28_1,   A08,   227,  1,   3114,    213,2,19940420,0228,-11.3337,  -9.5003, 4049,     50.2,  26.4168,  36.6728,2,-999.0000,9,    201.3,2,     0.77,2,     0.00,2, -999.000,9, -999.000,9, -999.000,9, -999.000,9, -999.000,9,-999.0000,9,  -999.00,9,-999.000,   -999.0,9,   -999.0,9,     50,-999.0000,-999.000,-999.000,9, 26.4054,-999.000
      06MT28_1,   A08,   227,  1,   3113,    212,2,19940420,0228,-11.3337,  -9.5003, 4049,     70.6,  23.3233,  36.6801,2,-999.0000,9,    215.8,2,     0.77,2,     0.00,2, -999.000,9, -999.000,9, -999.000,9, -999.000,9, -999.000,9,-999.0000,9,  -999.00,9,-999.000,   -999.0,9,   -999.0,9,     70,-999.0000,-999.000,-999.000,9, 23.3087,-999.000
      06MT28_1,   A08,   227,  1,   3112,    211,2,19940420,0228,-11.3337,  -9.5003, 4049,     99.6,  20.5990,  36.3646,2,-999.0000,9,    199.4,2,     1.34,2,     1.34,2, -999.000,9, -999.000,9, -999.000,9, -999.000,9, -999.000,9,-999.0000,9,  -999.00,9,-999.000,   -999.0,9,   -999.0,9,     99,-999.0000,-999.000,-999.000,9, 20.5801,-999.000
      06MT28_1,   A08,   227,  1,   3111,    210,2,19940420,0228,-11.3337,  -9.5003, 4049,    147.5,  15.1623,  35.5868,2,-999.0000,9,    106.5,2,     5.46,2,    18.39,2, -999.000,9, -999.000,9, -999.000,9, -999.000,9, -999.000,9,-999.0000,9,  -999.00,9,-999.000,   -999.0,9,   -999.0,9,    147,-999.0000,-999.000,-999.000,9, 15.1398,-999.000
      06MT28_1,   A08,   227,  1,   3110,    209,2,19940420,0228,-11.3337,  -9.5003, 4049,    199.6,  12.0121,  35.1609,2,-999.0000,9,     72.0,2,     9.38,2,    26.04,2, -999.000,9, -999.000,9, -999.000,9, -999.000,9, -999.000,9,-999.0000,9,  -999.00,9,-999.000,   -999.0,9,   -999.0,9,    200,-999.0000,-999.000,-999.000,9, 11.9859,-999.000
      06MT28_1,   A08,   227,  1,   3108,    208,2,19940420,0228,-11.3337,  -9.5003, 4049,    304.1,   9.3487,  34.8577,2,  34.8516,2,     73.6,2,    13.97,2,    30.81,2, -999.000,9, -999.000,9, -999.000,9, -999.000,9, -999.000,9,-999.0000,9,  -999.00,9,-999.000,   -999.0,9,   -999.0,9,    304,-999.0000,-999.000,-999.000,9,  9.3147,-999.000
      06MT28_1,   A08,   227,  1,   3165,    207,2,19940420,0228,-11.3337,  -9.5003, 4049,   1000.6,   4.1076,  34.5723,2,-999.0000,9,   -999.0,9,  -999.00,9,  -999.00,9, -999.000,9, -999.000,9, -999.000,9, -999.000,9, -999.000,9,-999.0000,9,  -999.00,9,-999.000,   -999.0,9,   -999.0,9,   1002,-999.0000,-999.000,-999.000,9,  4.0310,-999.000