BOTTLE,20220817CCHSIOAMB
EXPOCODE,SECT_ID,STNNBR,CASTNO,SAMPNO,BTLNBR,BTLNBR_FLAG_W,DATE,TIME,LATITUDE,LONGITUDE,DEPTH,CTDPRS,CTDTMP,CTDSAL,CTDSAL_FLAG_W,SALNTY,SALNTY_FLAG_W,CTDOXY,CTDOXY_FLAG_W,OXYGEN,OXYGEN_FLAG_W,SILCAT,SILCAT_FLAG_W,NITRAT,NITRAT_FLAG_W,NITRIT,NITRIT_FLAG_W,PHSPHT,PHSPHT_FLAG_W,CFC-11,CFC-11_FLAG_W,CFC-12,CFC-12_FLAG_W,CFC113,CFC113_FLAG_W,SF6,SF6_FLAG_W,TCARBN,TCARBN_FLAG_W,ALKALI,ALKALI_FLAG_W,PH_TOT,PH_TOT_FLAG_W,PH_TMP,TRITUM,TRITUM_FLAG_W,HELIUM,HELIUM_FLAG_W,DELHE3,DELHE3_FLAG_W,DELC13,DELC13_FLAG_W,DELC14,DELC14_FLAG_W,C14ERR,NEON,NEON_FLAG_W,NEONER,I-129,I-129_FLAG_W,SR-90,SR-90_FLAG_W,DOC,DOC_FLAG_W,TDN,TDN_FLAG_W,CALCIUM,CALCIUM_FLAG_W,D15N_NO3,D15N_NO3_FLAG_W,BTL_DATE,BTL_TIME,BTL_LAT,BTL_LON,SALTREF,SALTREF_FLAG_W,CS-137,CS-137_FLAG_W,CS-134,CS-134_FLAG_W,REFTMP,REFTMP_FLAG_W,LAB_DEN,LAB_DEN_FLAG_W,D18O_NO3,D18O_NO3_FLAG_W,HELIER,DELHER,TRITER
,,,,,,,,,,,METERS,DBAR,ITS-90,PSS-78,,PSS-78,,UMOL/KG,,UMOL/KG,,UMOL/KG,,UMOL/KG,,UMOL/KG,,UMOL/KG,,PMOL/KG,,PMOL/KG,,PMOL/KG,,FMOL/KG,,UMOL/KG,,UMOL/KG,,,,DEG C,TU,,NMOL/KG,,PERCNT,,/MILLE,,/MILLE,,/MILLE,NMOL/KG,,NMOL/KG,BQ/M^3,,DM/.1MG,,UMOL/KG,,UMOL/KG,,MMOL/KG,,/MILLE,,,,,,G/KG,,BQ/M^3,,BQ/M^3,,ITS-90,,,,/MILLE,,NMOL/KG,PERCNT,TU
318M20130321,       P02E,     130,          1,         36,         36,2,20130525,       1741,    29.9997,  -131.8281,       4461,     2.7,  17.6298,  33.9548,2,  33.9542,2,    242.8,2,   243.3,2,    2.15,2,       0,2,       0,2,    0.16,2,   2.303,2,   1.378,2,-999.000,1,   1.7329,2,  2025.5,6,  2254.8,2,    7.937,2,       25,-999.000,9,-999.0000,9, -999.00,9, -999.00,9,  -999.0,9,  -999.0,-999.000,9,-999.000,     -999.0,9, -999.00,9, -999.00,9, -999.00,9,     -999.0,9,  -999.0,9, 20130525,     1937,       30,-131.8279,    34.1143,2,     -999.0,9,     -999.0,9,    17.6317,2,     -999.0,9,     -999.0,9,-999.0000, -999.00,-999.000
318M20130321,       P02E,     130,          1,         34,         34,2,20130525,       1741,    29.9997,  -131.8281,       4461,    34.6,  17.5272,  33.9532,2,  33.9526,2,    244.1,2,   243.7,2,    2.34,2,       0,2,       0,2,    0.16,2,-999.000,9,-999.000,9,-999.000,9,-999.0000,9,  -999.0,9, -999.00,9,-999.0000,9,  -999.00,-999.000,9,-999.0000,9, -999.00,9, -999.00,9,  -999.0,9,  -999.0,-999.000,9,-999.000,     -999.0,9, -999.00,9, -999.00,9, -999.00,9,     -999.0,9,  -999.0,9, 20130525,     1935,  30.0001, -131.828,    34.1127,2,     -999.0,9,     -999.0,9,    17.5211,2,     -999.0,9,     -999.0,9,-999.0000, -999.00,-999.000
318M20130321,       P02E,     130,          1,         33,         33,2,20130525,       1741,    29.9997,  -131.8281,       4461,      61,  16.6474,  33.9063,2,  33.8878,2,    249.8,2,   250.5,2,    2.34,2,       0,2,       0,2,    0.18,2,   2.419,2,   1.436,2,-999.000,1,   1.6301,2,  2020.8,2,  2248.9,6,    7.938,2,       25,-999.000,9,-999.0000,9, -999.00,9, -999.00,9,  -999.0,9,  -999.0,-999.000,9,-999.000,     -999.0,9, -999.00,9, -999.00,9, -999.00,9,     -999.0,9,  -999.0,9, 20130525,     1933,  30.0001,-131.8281,    34.0476,2,     -999.0,9,     -999.0,9,    16.6471,2,     -999.0,9,     -999.0,9,-999.0000, -999.00,-999.000
318M20130321,       P02E,     130,          1,         32,         32,2,20130525,       1741,    29.9997,  -131.8281,       4461,    85.7,  17.2548,   34.282,2,  34.2856,2,    247.1,2,   243.5,2,    2.05,2,       0,2,       0,2,    0.11,2,-999.000,9,-999.000,9,-999.000,9,-999.0000,9,  -999.0,9, -999.00,9,-999.0000,9,  -999.00,-999.000,9,-999.0000,9, -999.00,9, -999.00,9,  -999.0,9,  -999.0,-999.000,9,-999.000,     -999.0,9, -999.00,9, -999.00,9, -999.00,9,     -999.0,9,  -999.0,9, 20130525,     1932,  30.0002,-131.8282,    34.4473,2,     -999.0,9,     -999.0,9,    17.2603,2,     -999.0,9,     -999.0,9,-999.0000, -999.00,-999.000
318M20130321,       P02E,     130,          1,         31,         31,2,20130525,       1741,    29.9997,  -131.8281,       4461,   116.3,  16.2333,  34.1078,2,  34.1084,2,    241.4,2,   242.2,2,    2.25,2,       0,2,       0,2,    0.15,2,   2.402,2,   1.430,2,-999.000,1,   1.5685,2,  2030.5,2,  2259.1,2,   7.9306,6,       25,-999.000,9,-999.0000,9, -999.00,9, -999.00,9,  -999.0,9,  -999.0,-999.000,9,-999.000,     -999.0,9, -999.00,9, -999.00,9, -999.00,9,     -999.0,9,  -999.0,9, 20130525,     1930,  30.0002,-131.8282,    34.2692,2,     -999.0,9,     -999.0,9,    16.2424,2,     -999.0,9,     -999.0,9,-999.0000, -999.00,-999.000
318M20130321,       P02E,     130,          1,         30,         30,2,20130525,       1741,    29.9997,  -131.8281,       4461,   164.7,  12.7044,  33.6916,2,  33.6919,2,    234.3,2,   231.5,2,    4.79,2,     4.1,2,    0.04,2,    0.48,2,-999.000,9,-999.000,9,-999.000,9,-999.0000,9,    2051,2, 2231.09,2,   7.8369,2,       25,-999.000,9,-999.0000,9, -999.00,9, -999.00,9,  -999.0,9,  -999.0,-999.000,9,-999.000,     -999.0,9, -999.00,9, -999.00,9, -999.00,9,     -999.0,9,  -999.0,9, 20130525,     1928,  30.0002,-131.8281,    33.8508,2,     -999.0,9,     -999.0,9,    12.7051,2,     -999.0,9,     -999.0,9,-999.0000, -999.00,-999.000
318M20130321,       P02E,     130,          1,         29,         29,2,20130525,       1741,    29.9997,  -131.8281,       4461,   215.2,  10.1946,  33.6583,2,  33.6579,2,      213,2,   209.9,2,   12.41,2,   12.97,2,    0.01,2,    1.04,2,   3.291,2,   1.857,2,-999.000,1,   1.5999,2,  2095.4,2, 2229.49,2,   7.7219,2,       25,-999.000,9,-999.0000,9, -999.00,9, -999.00,9,  -999.0,9,  -999.0,-999.000,9,-999.000,     -999.0,9, -999.00,9, -999.00,9, -999.00,9,     -999.0,9,  -999.0,9, 20130525,     1926,  30.0001,-131.8279,    33.8166,2,     -999.0,9,     -999.0,9,    10.1953,2,     -999.0,9,     -999.0,9,-999.0000, -999.00,-999.000
318M20130321,       P02E,     130,          1,         27,         27,2,20130525,       1741,    29.9997,  -131.8281,       4461,   266.1,   9.4131,  33.9259,2,  33.9285,2,    199.5,2,   196.5,2,   19.24,2,    17.5,2,       0,2,    1.27,2,-999.000,9,-999.000,9,-999.000,9,-999.0000,9,    2125,2,    2247,2,   7.6862,2,       25,-999.000,9,-999.0000,9, -999.00,9, -999.00,9,  -999.0,9,  -999.0,-999.000,9,-999.000,     -999.0,9, -999.00,9, -999.00,9, -999.00,9,     -999.0,9,  -999.0,9, 20130525,     1925,  29.9999,-131.8278,    34.0885,2,     -999.0,9,     -999.0,9,     9.4119,2,     -999.0,9,     -999.0,9,-999.0000, -999.00,-999.000
318M20130321,       P02E,     130,          1,         26,         26,2,20130525,       1741,    29.9997,  -131.8281,       4461,   318.3,   8.3204,   33.968,2,  33.9675,2,    168.4,2,   166.5,2,    29.4,2,   23.16,2,       0,2,    1.67,2,   3.189,2,   1.714,2,-999.000,1,   1.1493,2,  2165.4,2,  2257.3,2,   7.6008,2,       25,-999.000,9,-999.0000,9, -999.00,9, -999.00,9,  -999.0,9,  -999.0,-999.000,9,-999.000,     -999.0,9, -999.00,9, -999.00,9, -999.00,9,     -999.0,9,  -999.0,9, 20130525,     1923,  29.9997,-131.8278,    34.1277,2,     -999.0,9,     -999.0,9,     8.3196,2,     -999.0,9,     -999.0,9,-999.0000, -999.00,-999.000
318M20130321,       P02E,     130,          1,         25,         25,2,20130525,       1741,    29.9997,  -131.8281,       4461,   366.6,   7.4728,  33.9926,2,  33.9922,2,    126.4,2,   117.8,2,    41.7,2,   29.36,2,       0,2,    2.14,2,-999.000,9,-999.000,9,-999.000,9,-999.0000,9,  2212.4,2, 2266.91,2,   7.4863,2,       25,-999.000,9,-999.0000,9, -999.00,9, -999.00,9,  -999.0,9,  -999.0,-999.000,9,-999.000,     -999.0,9, -999.00,9, -999.00,9, -999.00,9,     -999.0,9,  -999.0,9, 20130525,     1921,  29.9996,-131.8277,    34.1525,2,     -999.0,9,     -999.0,9,     7.4756,2,     -999.0,9,     -999.0,9,-999.0000, -999.00,-999.000
318M20130321,       P02E,     130,          1,         24,         24,2,20130525,       1741,    29.9997,  -131.8281,       4461,   437.6,    6.443,  34.0134,2,  34.0128,2,     95.8,2,    91.7,2,   56.05,2,   33.72,2,       0,2,    2.44,2,   2.121,2,   1.052,2,-999.000,1,   0.4124,2,  2244.8,2, 2280.01,2,   7.4246,2,       25,-999.000,9,-999.0000,9, -999.00,9, -999.00,9,  -999.0,9,  -999.0,-999.000,9,-999.000,     -999.0,9, -999.00,9, -999.00,9, -999.00,9,     -999.0,9,  -999.0,9, 20130525,     1919,  29.9995,-131.8277,    34.1732,2,     -999.0,9,     -999.0,9,     6.4425,2,     -999.0,9,     -999.0,9,-999.0000, -999.00,-999.000
318M20130321,       P02E,     130,          1,         23,         23,2,20130525,       1741,    29.9997,  -131.8281,       4461,   536.9,   5.4857,   34.095,2,  34.0929,2,     45.4,2,    45.4,2,   75.68,2,   39.21,2,       0,2,     2.9,2,-999.000,9,-999.000,9,-999.000,9,-999.0000,9,  2296.1,2, 2301.22,2,   7.3279,2,       25,-999.000,9,-999.0000,9, -999.00,9, -999.00,9,  -999.0,9,  -999.0,-999.000,9,-999.000,     -999.0,9, -999.00,9, -999.00,9, -999.00,9,     -999.0,9,  -999.0,9, 20130525,     1916,  29.9996,-131.8278,    34.2537,2,     -999.0,9,     -999.0,9,     5.4871,2,     -999.0,9,     -999.0,9,-999.0000, -999.00,-999.000
318M20130321,       P02E,     130,          1,         22,         22,2,20130525,       1741,    29.9997,  -131.8281,       4461,   636.5,   4.8906,  34.2124,2,  34.2106,2,     21.7,2,    21.4,2,   92.47,2,   41.85,2,       0,2,     3.1,2,   0.311,2,   0.156,2,-999.000,1,   0.0788,2,  -999.0,9, -999.00,9,-999.0000,9,  -999.00,-999.000,9,-999.0000,9, -999.00,9, -999.00,9,  -999.0,9,  -999.0,-999.000,9,-999.000,     -999.0,9, -999.00,9, -999.00,9, -999.00,9,     -999.0,9,  -999.0,9, 20130525,     1913,  29.9999,-131.8279,    34.3719,2,     -999.0,9,     -999.0,9,     4.8899,2,     -999.0,9,     -999.0,9,-999.0000, -999.00,-999.000
318M20130321,       P02E,     130,          1,         21,         21,2,20130525,       1741,    29.9997,  -131.8281,       4461,   738.3,   4.5004,  34.3047,2,  34.3037,2,     14.4,2,    14.4,2,  103.49,2,   42.97,2,       0,2,    3.18,2,-999.000,9,-999.000,9,-999.000,9,-999.0000,9,  2343.2,2, 2339.83,2,   7.2955,2,       25,-999.000,9,-999.0000,9, -999.00,9, -999.00,9,  -999.0,9,  -999.0,-999.000,9,-999.000,     -999.0,9, -999.00,9, -999.00,9, -999.00,9,     -999.0,9,  -999.0,9, 20130525,     1910,  30.0003,-131.8281,    34.4655,2,     -999.0,9,     -999.0,9,     4.5001,2,     -999.0,9,     -999.0,9,-999.0000, -999.00,-999.000
318M20130321,       P02E,     130,          1,         20,         20,2,20130525,       1741,    29.9997,  -131.8281,       4461,   840.8,   4.2114,   34.369,2,  34.3685,2,     15.8,2,      16,2,   111.1,2,   43.47,2,       0,2,    3.22,2,   0.031,2,   0.017,2,-999.000,1,   0.0557,2,    2354,2, 2354.44,2,   7.3064,2,       25,-999.000,9,-999.0000,9, -999.00,9, -999.00,9,  -999.0,9,  -999.0,-999.000,9,-999.000,     -999.0,9, -999.00,9, -999.00,9, -999.00,9,     -999.0,9,  -999.0,9, 20130525,     1907,  30.0004,-131.8282,    34.5305,2,     -999.0,9,     -999.0,9,     4.2124,2,     -999.0,9,     -999.0,9,-999.0000, -999.00,-999.000
318M20130321,       P02E,     130,          1,         19,         19,2,20130525,       1741,    29.9997,  -131.8281,       4461,     941,   3.9351,  34.4281,2,  34.4282,2,     22.9,2,    23.4,2,  116.96,2,   43.52,2,       0,2,    3.19,2,-999.000,9,-999.000,9,-999.000,9,-999.0000,9,  -999.0,9, -999.00,9,-999.0000,9,  -999.00,-999.000,9,-999.0000,9, -999.00,9, -999.00,9,  -999.0,9,  -999.0,-999.000,9,-999.000,     -999.0,9, -999.00,9, -999.00,9, -999.00,9,     -999.0,9,  -999.0,9, 20130525,     1904,  30.0003,-131.8282,    34.5905,2,     -999.0,9,     -999.0,9,     3.9354,2,     -999.0,9,     -999.0,9,-999.0000, -999.00,-999.000
318M20130321,       P02E,     130,          1,         18,         18,2,20130525,       1741,    29.9997,  -131.8281,       4461,  1042.6,   3.6964,  34.4671,2,  34.4664,2,       30,2,    29.7,2,  121.93,2,   43.43,2,       0,2,    3.18,2,   0.010,2,   0.008,2,-999.000,1,        0,2,  2361.9,2, 2371.04,2,   7.3426,6,       25,-999.000,9,-999.0000,9, -999.00,9, -999.00,9,  -999.0,9,  -999.0,-999.000,9,-999.000,     -999.0,9, -999.00,9, -999.00,9, -999.00,9,     -999.0,9,  -999.0,9, 20130525,     1901,  30.0002,-131.8281,     34.629,2,     -999.0,9,     -999.0,9,     3.6963,2,     -999.0,9,     -999.0,9,-999.0000, -999.00,-999.000
318M20130321,       P02E,     130,          1,         17,         17,2,20130525,       1741,    29.9997,  -131.8281,       4461,  1143.6,   3.4505,  34.5035,2,   34.503,2,     38.3,2,    39.3,2,  126.91,2,   43.03,2,       0,2,    3.12,2,-999.000,9,-999.000,9,-999.000,9,-999.0000,9,  -999.0,9, -999.00,9,-999.0000,9,  -999.00,-999.000,9,-999.0000,9, -999.00,9, -999.00,9,  -999.0,9,  -999.0,-999.000,9,-999.000,     -999.0,9, -999.00,9, -999.00,9, -999.00,9,     -999.0,9,  -999.0,9, 20130525,     1858,  30.0001,-131.8282,    34.6657,2,     -999.0,9,     -999.0,9,     3.4502,2,     -999.0,9,     -999.0,9,-999.0000, -999.00,-999.000
318M20130321,       P02E,     130,          1,         16,         16,2,20130525,       1741,    29.9997,  -131.8281,       4461,    1246,   3.2394,  34.5215,2,   34.521,2,     43.9,2,    44.2,2,  131.98,2,   42.88,2,       0,2,    3.11,2,   0.008,2,   0.006,2,-999.000,1,        0,2,  -999.0,9, -999.00,9,-999.0000,9,  -999.00,-999.000,9,-999.0000,9, -999.00,9, -999.00,9,  -999.0,9,  -999.0,-999.000,9,-999.000,     -999.0,9, -999.00,9, -999.00,9, -999.00,9,     -999.0,9,  -999.0,9, 20130525,     1855,  30.0001,-131.8283,    34.6838,2,     -999.0,9,     -999.0,9,     3.2384,2,     -999.0,9,     -999.0,9,-999.0000, -999.00,-999.000
318M20130321,       P02E,     130,          1,         15,         15,2,20130525,       1741,    29.9997,  -131.8281,       4461,  1344.8,   3.0385,    34.54,2,  34.5391,2,     48.8,2,    48.4,2,  136.57,2,   42.69,2,       0,2,    3.09,2,-999.000,9,-999.000,9,-999.000,9,-999.0000,9,  2366.7,2, 2392.45,2,   7.3835,2,       25,-999.000,9,-999.0000,9, -999.00,9, -999.00,9,  -999.0,9,  -999.0,-999.000,9,-999.000,     -999.0,9, -999.00,9, -999.00,9, -999.00,9,     -999.0,9,  -999.0,9, 20130525,     1852,  30.0002,-131.8283,     34.702,2,     -999.0,9,     -999.0,9,     3.0393,2,     -999.0,9,     -999.0,9,-999.0000, -999.00,-999.000
318M20130321,       P02E,     130,          1,         14,         14,2,20130525,       1741,    29.9997,  -131.8281,       4461,  1478.4,   2.8018,  34.5589,2,  34.5588,2,     54.7,2,    54.9,2,  142.71,2,   42.41,2,       0,2,    3.07,2,   0.008,2,   0.005,2,-999.000,1,        0,2,    2369,2, 2397.05,2,   7.3949,2,       25,-999.000,9,-999.0000,9, -999.00,9, -999.00,9,  -999.0,9,  -999.0,-999.000,9,-999.000,     -999.0,9, -999.00,9, -999.00,9, -999.00,9,     -999.0,9,  -999.0,9, 20130525,     1848,  30.0001,-131.8282,    34.7217,2,     -999.0,9,     -999.0,9,      2.802,2,     -999.0,9,     -999.0,9,-999.0000, -999.00,-999.000
318M20130321,       P02E,     130,          1,         13,         13,2,20130525,       1741,    29.9997,  -131.8281,       4461,  1680.9,   2.4814,  34.5874,2,  34.5864,2,       64,2,    64.2,2,   151.5,2,   41.89,2,       0,2,    3.02,2,-999.000,9,-999.000,9,-999.000,9,-999.0000,9,  -999.0,9, -999.00,9,-999.0000,9,  -999.00,-999.000,9,-999.0000,9, -999.00,9, -999.00,9,  -999.0,9,  -999.0,-999.000,9,-999.000,     -999.0,9, -999.00,9, -999.00,9, -999.00,9,     -999.0,9,  -999.0,9, 20130525,     1843,       30, -131.828,    34.7495,2,     -999.0,9,     -999.0,9,     2.4818,2,     -999.0,9,     -999.0,9,-999.0000, -999.00,-999.000
318M20130321,       P02E,     130,          1,         12,         12,2,20130525,       1741,    29.9997,  -131.8281,       4461,  1883.5,   2.2183,  34.6086,2,  34.6081,2,     73.8,2,    74.5,2,  157.84,2,   41.28,2,       0,2,    2.97,2,   0.005,2,   0.003,2,-999.000,1,        0,2,  2370.8,2, 2412.86,2,   7.4326,2,       25,-999.000,9,-999.0000,9, -999.00,9, -999.00,9,  -999.0,9,  -999.0,-999.000,9,-999.000,     -999.0,9, -999.00,9, -999.00,9, -999.00,9,     -999.0,9,  -999.0,9, 20130525,     1838,       30,-131.8281,    34.7713,2,     -999.0,9,     -999.0,9,      2.219,2,     -999.0,9,     -999.0,9,-999.0000, -999.00,-999.000
318M20130321,       P02E,     130,          1,         11,         11,2,20130525,       1741,    29.9997,  -131.8281,       4461,  2105.5,   2.0021,  34.6268,2,  34.6269,2,     85.1,2,    85.5,2,  162.81,2,   40.57,2,       0,2,     2.9,2,-999.000,9,-999.000,9,-999.000,9,-999.0000,9,  2369.9,2, 2419.66,2,   7.4547,2,       25,-999.000,9,-999.0000,9, -999.00,9, -999.00,9,  -999.0,9,  -999.0,-999.000,9,-999.000,     -999.0,9, -999.00,9, -999.00,9, -999.00,9,     -999.0,9,  -999.0,9, 20130525,     1833,  30.0002,-131.8284,    34.7902,2,     -999.0,9,     -999.0,9,     2.0015,2,     -999.0,9,     -999.0,9,-999.0000, -999.00,-999.000
318M20130321,       P02E,     130,          1,         10,         10,2,20130525,       1741,    29.9997,  -131.8281,       4461,  2361.1,   1.8329,  34.6405,2,  34.6401,2,     94.9,2,    95.6,2,  167.01,2,   39.96,2,       0,2,    2.84,2,   0.005,2,   0.003,2,-999.000,1,        0,2,  2367.2,2, 2422.86,2,   7.4734,2,       25,-999.000,9,-999.0000,9, -999.00,9, -999.00,9,  -999.0,9,  -999.0,-999.000,9,-999.000,     -999.0,9, -999.00,9, -999.00,9, -999.00,9,     -999.0,9,  -999.0,9, 20130525,     1828,  30.0002, -131.828,    34.8034,2,     -999.0,9,     -999.0,9,     1.8324,2,     -999.0,9,     -999.0,9,-999.0000, -999.00,-999.000
318M20130321,       P02E,     130,          1,          9,          9,2,20130525,       1741,    29.9997,  -131.8281,       4461,  2615.3,   1.6976,  34.6526,2,  34.6513,2,      105,2,     105,2,  169.16,2,   39.37,2,       0,2,    2.77,2,-999.000,9,-999.000,9,-999.000,9,-999.0000,9,  -999.0,9, -999.00,9,-999.0000,9,  -999.00,-999.000,9,-999.0000,9, -999.00,9, -999.00,9,  -999.0,9,  -999.0,-999.000,9,-999.000,     -999.0,9, -999.00,9, -999.00,9, -999.00,9,     -999.0,9,  -999.0,9, 20130525,     1823,  30.0001,-131.8278,    34.8147,2,     -999.0,9,     -999.0,9,     1.6978,2,     -999.0,9,     -999.0,9,-999.0000, -999.00,-999.000
318M20130321,       P02E,     130,          1,          8,          8,2,20130525,       1741,    29.9997,  -131.8281,       4461,  2871.1,   1.6169,  34.6612,2,  34.6604,2,    113.2,2,   112.6,2,  171.01,2,   38.87,2,       0,2,    2.73,2,   0.006,2,   0.005,2,-999.000,1,        0,2,  2358.1,2, 2426.76,2,   7.5064,2,       25,-999.000,9,-999.0000,9, -999.00,9, -999.00,9,  -999.0,9,  -999.0,-999.000,9,-999.000,     -999.0,9, -999.00,9, -999.00,9, -999.00,9,     -999.0,9,  -999.0,9, 20130525,     1817,       30,-131.8281,    34.8238,2,     -999.0,9,     -999.0,9,     1.6166,2,     -999.0,9,     -999.0,9,-999.0000, -999.00,-999.000
318M20130321,       P02E,     130,          1,          7,          7,2,20130525,       1741,    29.9997,  -131.8281,       4461,  3140.3,   1.5452,  34.6695,2,  34.6694,2,    121.9,2,   122.3,2,  170.42,2,   38.24,2,       0,2,    2.68,2,-999.000,9,-999.000,9,-999.000,9,-999.0000,9,  -999.0,9, -999.00,9,-999.0000,9,  -999.00,-999.000,9,-999.0000,9, -999.00,9, -999.00,9,  -999.0,9,  -999.0,-999.000,9,-999.000,     -999.0,9, -999.00,9, -999.00,9, -999.00,9,     -999.0,9,  -999.0,9, 20130525,     1812,       30,-131.8281,    34.8329,2,     -999.0,9,     -999.0,9,      1.545,2,     -999.0,9,     -999.0,9,-999.0000, -999.00,-999.000
318M20130321,       P02E,     130,          1,          6,          6,2,20130525,       1741,    29.9997,  -131.8281,       4461,  3447.4,   1.4912,  34.6775,2,  34.6767,2,    131.7,2,   131.6,2,  167.69,2,   37.58,2,       0,2,    2.64,2,   0.007,2,   0.007,2,-999.000,1,        0,2,  2345.4,2, 2428.36,2,   7.5426,2,       25,-999.000,9,-999.0000,9, -999.00,9, -999.00,9,  -999.0,9,  -999.0,-999.000,9,-999.000,     -999.0,9, -999.00,9, -999.00,9, -999.00,9,     -999.0,9,  -999.0,9, 20130525,     1806,  30.0001,-131.8281,    34.8402,2,     -999.0,9,     -999.0,9,     1.4915,2,     -999.0,9,     -999.0,9,-999.0000, -999.00,-999.000