BOTTLE,20220817CCHSIOAMB
EXPOCODE,SECT_ID,STNNBR,CASTNO,SAMPNO,BTLNBR,BTLNBR_FLAG_W,DATE,TIME,LATITUDE,LONGITUDE,DEPTH,CTDPRS,CTDTMP,CTDSAL,CTDSAL_FLAG_W,SALNTY,SALNTY_FLAG_W,CTDOXY,CTDOXY_FLAG_W,OXYGEN,OXYGEN_FLAG_W,SILCAT,SILCAT_FLAG_W,NITRAT,NITRAT_FLAG_W,NITRIT,NITRIT_FLAG_W,PHSPHT,PHSPHT_FLAG_W,CFC-11,CFC-11_FLAG_W,CFC-12,CFC-12_FLAG_W,CFC113,CFC113_FLAG_W,SF6,SF6_FLAG_W,TCARBN,TCARBN_FLAG_W,ALKALI,ALKALI_FLAG_W,PH_TOT,PH_TOT_FLAG_W,PH_TMP,TRITUM,TRITUM_FLAG_W,HELIUM,HELIUM_FLAG_W,DELHE3,DELHE3_FLAG_W,DELC13,DELC13_FLAG_W,DELC14,DELC14_FLAG_W,C14ERR,NEON,NEON_FLAG_W,NEONER,I-129,I-129_FLAG_W,SR-90,SR-90_FLAG_W,DOC,DOC_FLAG_W,TDN,TDN_FLAG_W,CALCIUM,CALCIUM_FLAG_W,D15N_NO3,D15N_NO3_FLAG_W,BTL_DATE,BTL_TIME,BTL_LAT,BTL_LON,SALTREF,SALTREF_FLAG_W,CS-137,CS-137_FLAG_W,CS-134,CS-134_FLAG_W,REFTMP,REFTMP_FLAG_W,LAB_DEN,LAB_DEN_FLAG_W,D18O_NO3,D18O_NO3_FLAG_W,HELIER,DELHER,TRITER
,,,,,,,,,,,METERS,DBAR,ITS-90,PSS-78,,PSS-78,,UMOL/KG,,UMOL/KG,,UMOL/KG,,UMOL/KG,,UMOL/KG,,UMOL/KG,,PMOL/KG,,PMOL/KG,,PMOL/KG,,FMOL/KG,,UMOL/KG,,UMOL/KG,,,,DEG C,TU,,NMOL/KG,,PERCNT,,/MILLE,,/MILLE,,/MILLE,NMOL/KG,,NMOL/KG,BQ/M^3,,DM/.1MG,,UMOL/KG,,UMOL/KG,,MMOL/KG,,/MILLE,,,,,,G/KG,,BQ/M^3,,BQ/M^3,,ITS-90,,,,/MILLE,,NMOL/KG,PERCNT,TU
318M20130321,       P02E,     135,          1,          5,         37,2,20130527,       0522,    30.0006,  -127.9874,       4486,  3653.4,   1.5035,   34.679,2,  34.6787,2,    133.3,2,   134.3,2,  167.01,2,   37.36,2,       0,2,    2.62,2,   0.002,6,   0.008,6,-999.000,1,        0,6,  2344.2,2, 2428.46,6,    7.548,2,       25,-999.000,9,-999.0000,9, -999.00,9, -999.00,9,  -999.0,9,  -999.0,-999.000,9,-999.000,     -999.0,9, -999.00,9, -999.00,5, -999.00,9,     -999.0,9,  -999.0,1, 20130527,      540,  30.0006,-127.9878,    34.8422,2,     -999.0,9,     -999.0,9,     1.5033,2,     -999.0,9,     -999.0,1,-999.0000, -999.00,-999.000
318M20130321,       P02E,     135,          1,          4,          4,2,20130527,       0522,    30.0006,  -127.9874,       4486,  3960.3,   1.5079,  34.6819,2,   34.682,2,    138.1,2,   138.7,2,  165.25,2,   37.09,2,       0,2,     2.6,2,   0.003,2,   0.008,2,-999.000,1,        0,2,  -999.0,9, -999.00,9,-999.0000,9,  -999.00,-999.000,9,-999.0000,9, -999.00,9, -999.00,9,  -999.0,9,  -999.0,-999.000,9,-999.000,     -999.0,9, -999.00,9,   36.43,2, -999.00,9,     -999.0,9,  -999.0,1, 20130527,      534,  30.0005,-127.9875,    34.8455,2,     -999.0,9,     -999.0,9,     1.5076,2,     -999.0,9,     -999.0,1,-999.0000, -999.00,-999.000
318M20130321,       P02E,     135,          1,          3,          3,2,20130527,       0522,    30.0006,  -127.9874,       4486,  4270.8,   1.5264,  34.6837,2,  34.6846,2,    140.8,2,     141,2,  164.27,2,   36.88,2,       0,2,    2.59,2,   0.002,2,   0.010,2,-999.000,1,        0,2,  2339.6,2, 2426.96,2,   7.5614,6,       25,-999.000,9,-999.0000,9, -999.00,9, -999.00,9,  -999.0,9,  -999.0,-999.000,9,-999.000,     -999.0,9, -999.00,9,    36.6,2, -999.00,9,     -999.0,9,  -999.0,1, 20130527,      528,  30.0006,-127.9873,    34.8481,2,     -999.0,9,     -999.0,9,     1.5266,2,     -999.0,9,     -999.0,1,-999.0000, -999.00,-999.000
318M20130321,       P02E,     135,          1,          2,          2,2,20130527,       0522,    30.0006,  -127.9874,       4486,  4544.7,   1.5568,   34.684,2,  34.6842,2,    142.2,2,     142,2,  164.27,2,   36.83,2,       0,2,    2.57,2,   0.003,2,   0.010,2,-999.000,1,        0,2,    2340,6, 2427.96,2,   7.5625,2,       25,-999.000,9,-999.0000,9, -999.00,9, -999.00,9,  -999.0,9,  -999.0,-999.000,9,-999.000,     -999.0,9, -999.00,9,   37.54,2, -999.00,9,     -999.0,9,  -999.0,1, 20130527,      522,  30.0006,-127.9874,    34.8477,2,     -999.0,9,     -999.0,9,     1.5566,2,     -999.0,9,     -999.0,1,-999.0000, -999.00,-999.000