BOTTLE,20220817CCHSIOAMB
EXPOCODE,SECT_ID,STNNBR,CASTNO,SAMPNO,BTLNBR,BTLNBR_FLAG_W,DATE,TIME,LATITUDE,LONGITUDE,DEPTH,CTDPRS,CTDTMP,CTDSAL,CTDSAL_FLAG_W,SALNTY,SALNTY_FLAG_W,CTDOXY,CTDOXY_FLAG_W,OXYGEN,OXYGEN_FLAG_W,SILCAT,SILCAT_FLAG_W,NITRAT,NITRAT_FLAG_W,NITRIT,NITRIT_FLAG_W,PHSPHT,PHSPHT_FLAG_W,CFC-11,CFC-11_FLAG_W,CFC-12,CFC-12_FLAG_W,CFC113,CFC113_FLAG_W,SF6,SF6_FLAG_W,TCARBN,TCARBN_FLAG_W,ALKALI,ALKALI_FLAG_W,PH_TOT,PH_TOT_FLAG_W,PH_TMP,TRITUM,TRITUM_FLAG_W,HELIUM,HELIUM_FLAG_W,DELHE3,DELHE3_FLAG_W,DELC13,DELC13_FLAG_W,DELC14,DELC14_FLAG_W,C14ERR,NEON,NEON_FLAG_W,NEONER,I-129,I-129_FLAG_W,SR-90,SR-90_FLAG_W,DOC,DOC_FLAG_W,TDN,TDN_FLAG_W,CALCIUM,CALCIUM_FLAG_W,D15N_NO3,D15N_NO3_FLAG_W,BTL_DATE,BTL_TIME,BTL_LAT,BTL_LON,SALTREF,SALTREF_FLAG_W,CS-137,CS-137_FLAG_W,CS-134,CS-134_FLAG_W,REFTMP,REFTMP_FLAG_W,LAB_DEN,LAB_DEN_FLAG_W,D18O_NO3,D18O_NO3_FLAG_W,HELIER,DELHER,TRITER
,,,,,,,,,,,METERS,DBAR,ITS-90,PSS-78,,PSS-78,,UMOL/KG,,UMOL/KG,,UMOL/KG,,UMOL/KG,,UMOL/KG,,UMOL/KG,,PMOL/KG,,PMOL/KG,,PMOL/KG,,FMOL/KG,,UMOL/KG,,UMOL/KG,,,,DEG C,TU,,NMOL/KG,,PERCNT,,/MILLE,,/MILLE,,/MILLE,NMOL/KG,,NMOL/KG,BQ/M^3,,DM/.1MG,,UMOL/KG,,UMOL/KG,,MMOL/KG,,/MILLE,,,,,,G/KG,,BQ/M^3,,BQ/M^3,,ITS-90,,,,/MILLE,,NMOL/KG,PERCNT,TU
318M20130321,       P02W,      60,          1,         35,         35,2,20130424,       0823,    29.9997,   170.0712,       5548,     3.3,  20.3652,  35.0585,2,  35.0602,2,    227.2,2,   227.1,2,    1.66,2,       0,2,       0,2,       0,2,   2.299,2,   1.431,2,   0.202,2,     1.22,2,  2011.6,2, 2299.62,2,   8.0298,6,       25,-999.000,9,-999.0000,9, -999.00,9, -999.00,9,  -999.0,9,  -999.0,-999.000,9,-999.000,     -999.0,9, -999.00,9, -999.00,9, -999.00,9,     -999.0,9,  -999.0,9, 20130424,     1031,  29.9992, 170.0716,    35.2256,2,     -999.0,9,     -999.0,9,    20.3617,2,     -999.0,9,     -999.0,9,-999.0000, -999.00,-999.000
318M20130321,       P02W,      60,          1,         36,         36,2,20130424,       0823,    29.9997,   170.0712,       5548,    33.2,    19.71,   34.952,2,  34.9421,2,    231.2,2,   230.5,2,    2.05,2,       0,2,       0,2,       0,2,   2.399,2,   1.470,2,   0.198,2,     1.53,2,  2012.9,2, 2291.61,2,   8.0194,2,       25,-999.000,9,-999.0000,9, -999.00,9, -999.00,9,  -999.0,9,  -999.0,-999.000,9,-999.000,     -999.0,9, -999.00,9, -999.00,9, -999.00,9,     -999.0,9,  -999.0,9, 20130424,     1029,  29.9993, 170.0715,    35.1069,2,     -999.0,9,     -999.0,9,    19.7274,2,     -999.0,9,     -999.0,9,-999.0000, -999.00,-999.000
318M20130321,       P02W,      60,          1,         32,         32,2,20130424,       0823,    29.9997,   170.0712,       5548,    57.4,  17.9272,  34.7619,2,  34.7642,2,    237.6,2,   239.7,2,    2.15,2,       0,2,       0,2,    0.02,2,   2.594,2,   1.583,2,   0.220,2,     1.57,2,  2012.6,2, 2281.01,6,    8.003,2,       25,-999.000,9,-999.0000,9, -999.00,9, -999.00,9,  -999.0,9,  -999.0,-999.000,9,-999.000,     -999.0,9, -999.00,9, -999.00,9, -999.00,9,     -999.0,9,  -999.0,9, 20130424,     1027,  29.9995, 170.0713,    34.9281,2,     -999.0,9,     -999.0,9,    17.9175,2,     -999.0,9,     -999.0,9,-999.0000, -999.00,-999.000
318M20130321,       P02W,      60,          1,         34,         34,2,20130424,       0823,    29.9997,   170.0712,       5548,    57.9,  17.9189,  34.7612,2,-999.0000,9,    237.6,2,  -999.0,9,    2.24,2,       0,2,       0,2,    0.02,2,-999.000,9,-999.000,9,-999.000,9,-999.0000,9,  -999.0,9, -999.00,9,-999.0000,9,  -999.00,-999.000,9,-999.0000,9, -999.00,9, -999.00,9,  -999.0,9,  -999.0,-999.000,9,-999.000,     -999.0,9, -999.00,1, -999.00,9, -999.00,9,     -999.0,9,  -999.0,9, 20130424,     1027,  29.9995, 170.0714,     -999.0,9,     -999.0,1,     -999.0,1,    17.9145,2,     -999.0,9,     -999.0,9,-999.0000, -999.00,-999.000
318M20130321,       P02W,      60,          1,         33,         33,2,20130424,       0823,    29.9997,   170.0712,       5548,    58.2,  17.9195,  34.7613,2,-999.0000,9,    237.6,2,  -999.0,9,    2.15,2,       0,2,       0,2,    0.02,2,-999.000,9,-999.000,9,-999.000,9,-999.0000,9,  -999.0,9, -999.00,9,-999.0000,9,  -999.00,-999.000,9,-999.0000,9, -999.00,9, -999.00,9,  -999.0,9,  -999.0,-999.000,9,-999.000,     -999.0,1, -999.00,1, -999.00,9, -999.00,9,     -999.0,9,  -999.0,9, 20130424,     1027,  29.9995, 170.0713,     -999.0,9,     -999.0,1,     -999.0,1,    17.9205,2,     -999.0,9,     -999.0,9,-999.0000, -999.00,-999.000
318M20130321,       P02W,      60,          1,         31,         31,2,20130424,       0823,    29.9997,   170.0712,       5548,    82.6,  17.6598,  34.7302,2,  34.7307,2,      241,2,   241.2,2,    1.66,2,       0,2,       0,2,    0.02,2,   2.638,2,   1.597,2,   0.217,2,     1.68,2,  2011.9,2, 2279.71,2,   7.9992,2,       25,-999.000,9,-999.0000,9, -999.00,9, -999.00,9,  -999.0,9,  -999.0,-999.000,9,-999.000,     -999.0,9, -999.00,9, -999.00,9, -999.00,9,     -999.0,9,  -999.0,9, 20130424,     1025,  29.9997, 170.0713,    34.8945,2,     -999.0,9,     -999.0,9,    17.6556,2,     -999.0,9,     -999.0,9,-999.0000, -999.00,-999.000
318M20130321,       P02W,      60,          1,         30,         30,2,20130424,       0823,    29.9997,   170.0712,       5548,   114.5,  17.4317,  34.7198,2,  34.7191,2,    237.2,2,   237.6,2,    2.34,2,    0.31,2,    0.11,2,    0.05,2,   2.641,2,   1.625,2,   0.218,2,     1.59,2,  2016.8,2, 2280.01,2,   7.9924,2,       25,-999.000,9,-999.0000,9, -999.00,9, -999.00,9,  -999.0,9,  -999.0,-999.000,9,-999.000,     -999.0,9, -999.00,9, -999.00,9, -999.00,9,     -999.0,9,  -999.0,9, 20130424,     1024,  29.9997, 170.0712,    34.8829,2,     -999.0,9,     -999.0,9,    17.4325,2,     -999.0,9,     -999.0,9,-999.0000, -999.00,-999.000
318M20130321,       P02W,      60,          1,         29,         29,2,20130424,       0823,    29.9997,   170.0712,       5548,   164.5,  16.7548,  34.6751,2,  34.6753,2,      229,2,     227,2,    3.71,2,    3.28,2,    0.04,2,     0.2,2,-999.000,9,-999.000,9,-999.000,9,-999.0000,9,    2028,2, 2276.01,2,   7.9642,2,       25,-999.000,9,-999.0000,9, -999.00,9, -999.00,9,  -999.0,9,  -999.0,-999.000,9,-999.000,     -999.0,9, -999.00,9, -999.00,9, -999.00,9,     -999.0,9,  -999.0,9, 20130424,     1022,  29.9998,  170.071,    34.8388,2,     -999.0,9,     -999.0,9,     16.756,2,     -999.0,9,     -999.0,9,-999.0000, -999.00,-999.000
318M20130321,       P02W,      60,          1,         28,         28,2,20130424,       0823,    29.9997,   170.0712,       5548,     215,  16.4281,   34.661,2,  34.6618,2,    228.3,2,   229.1,2,     4.1,2,     3.5,2,    0.02,2,     0.2,2,   2.727,2,   1.649,2,   0.181,2,     1.64,2,    2031,2, 2274.61,2,   7.9567,2,       25,-999.000,9,-999.0000,9, -999.00,9, -999.00,9,  -999.0,9,  -999.0,-999.000,9,-999.000,     -999.0,9, -999.00,9, -999.00,9, -999.00,9,     -999.0,9,  -999.0,9, 20130424,     1020,  29.9999, 170.0709,    34.8252,2,     -999.0,9,     -999.0,9,    16.4283,2,     -999.0,9,     -999.0,9,-999.0000, -999.00,-999.000
318M20130321,       P02W,      60,          1,         27,         27,2,20130424,       0823,    29.9997,   170.0712,       5548,   263.7,  15.7897,  34.5974,2,  34.5981,2,    207.3,2,   207.2,2,    6.34,2,     6.5,2,    0.02,2,    0.43,2,-999.000,9,-999.000,9,-999.000,9,-999.0000,9,  2052.5,2, 2272.81,2,   7.9102,6,       25,-999.000,9,-999.0000,9, -999.00,9, -999.00,9,  -999.0,9,  -999.0,-999.000,9,-999.000,     -999.0,9, -999.00,9, -999.00,9, -999.00,9,     -999.0,9,  -999.0,9, 20130424,     1019,  29.9999, 170.0709,    34.7613,2,     -999.0,9,     -999.0,9,    15.7897,2,     -999.0,9,     -999.0,9,-999.0000, -999.00,-999.000
318M20130321,       P02W,      60,          1,         26,         26,2,20130424,       0823,    29.9997,   170.0712,       5548,   315.2,  14.9963,  34.5424,2,  34.5417,2,    204.2,2,   206.1,2,    8.49,2,    7.95,2,    0.01,2,    0.54,2,   2.892,2,   1.706,2,   0.073,2,     1.34,2,  -999.0,9, -999.00,9,-999.0000,9,  -999.00,-999.000,9,-999.0000,9, -999.00,9, -999.00,9,  -999.0,9,  -999.0,-999.000,9,-999.000,     -999.0,9, -999.00,9, -999.00,9, -999.00,9,     -999.0,9,  -999.0,9, 20130424,     1017,  29.9997, 170.0709,    34.7046,2,     -999.0,9,     -999.0,9,    14.9906,2,     -999.0,9,     -999.0,9,-999.0000, -999.00,-999.000
318M20130321,       P02W,      60,          1,         25,         25,2,20130424,       0823,    29.9997,   170.0712,       5548,   366.6,  14.0142,  34.4747,2,  34.4807,2,    214.6,2,   213.8,2,   10.25,2,    8.72,2,    0.01,2,     0.6,2,-999.000,9,-999.000,9,-999.000,9,-999.0000,9,  2068.1,2, 2270.71,2,   7.8757,2,       25,-999.000,9,-999.0000,9, -999.00,9, -999.00,9,  -999.0,9,  -999.0,-999.000,9,-999.000,     -999.0,9, -999.00,9, -999.00,9, -999.00,9,     -999.0,9,  -999.0,9, 20130424,     1015,  29.9996, 170.0709,    34.6433,2,     -999.0,9,     -999.0,9,     14.006,2,     -999.0,9,     -999.0,9,-999.0000, -999.00,-999.000
318M20130321,       P02W,      60,          1,         24,         24,2,20130424,       0823,    29.9997,   170.0712,       5548,   437.9,  12.5764,  34.3805,2,  34.3843,2,    206.2,2,     206,2,   14.84,2,   11.75,2,    0.01,2,    0.82,2,   3.100,2,   1.780,2,   0.103,2,     1.53,2,  -999.0,9, -999.00,9,-999.0000,9,  -999.00,-999.000,9,-999.0000,9, -999.00,9, -999.00,9,  -999.0,9,  -999.0,-999.000,9,-999.000,     -999.0,9, -999.00,9, -999.00,9, -999.00,9,     -999.0,9,  -999.0,9, 20130424,     1013,  29.9996, 170.0709,    34.5464,2,     -999.0,9,     -999.0,9,    12.5915,2,     -999.0,9,     -999.0,9,-999.0000, -999.00,-999.000
318M20130321,       P02W,      60,          1,         23,         23,2,20130424,       0823,    29.9997,   170.0712,       5548,   538.6,   9.9083,  34.1834,2,  34.1842,2,    193.7,2,   193.9,2,   26.46,2,   17.53,2,       0,2,    1.26,2,-999.000,9,-999.000,9,-999.000,9,-999.0000,9,  2129.5,2, 2271.31,2,   7.7304,2,       25,-999.000,9,-999.0000,9, -999.00,9, -999.00,9,  -999.0,9,  -999.0,-999.000,9,-999.000,     -999.0,9, -999.00,9, -999.00,9, -999.00,9,     -999.0,9,  -999.0,9, 20130424,     1011,  29.9996, 170.0708,    34.3454,2,     -999.0,9,     -999.0,9,     9.8937,2,     -999.0,9,     -999.0,9,-999.0000, -999.00,-999.000
318M20130321,       P02W,      60,          1,         22,         22,2,20130424,       0823,    29.9997,   170.0712,       5548,   635.6,   6.8028,  33.9954,2,  33.9971,2,    165.2,2,   163.4,2,   49.22,2,   25.96,2,       0,2,    1.91,2,   3.097,2,   1.658,2,   0.155,2,     1.06,2,  -999.0,9, -999.00,9,-999.0000,9,  -999.00,-999.000,9,   1.8515,2,    8.14,2, -999.00,9,  -999.0,9,  -999.0,   7.994,2,   0.037,     -999.0,9, -999.00,9, -999.00,9, -999.00,9,     -999.0,9,  -999.0,9, 20130424,     1008,  29.9998,  170.071,    34.1574,2,     -999.0,9,     -999.0,9,     6.8056,2,     -999.0,9,     -999.0,9,   0.0078,    0.15,-999.000
318M20130321,       P02W,      60,          1,         21,         21,2,20130424,       0823,    29.9997,   170.0712,       5548,   736.7,   5.3632,  34.0126,2,   34.009,2,    115.9,2,   121.5,2,   69.34,2,   32.15,2,       0,2,    2.37,2,-999.000,9,-999.000,9,-999.000,9,-999.0000,9,  2243.2,2, 2293.41,2,   7.4769,2,       25,-999.000,9,-999.0000,9, -999.00,9, -999.00,9,  -999.0,9,  -999.0,-999.000,9,-999.000,     -999.0,9, -999.00,9, -999.00,9, -999.00,9,     -999.0,9,  -999.0,9, 20130424,     1006,  29.9999, 170.0711,    34.1694,2,     -999.0,9,     -999.0,9,     5.3641,2,     -999.0,9,     -999.0,9,-999.0000, -999.00,-999.000
318M20130321,       P02W,      60,          1,         20,         20,2,20130424,       0823,    29.9997,   170.0712,       5548,   838.2,   4.5198,  34.1269,2,  34.1293,2,     70.4,2,    68.7,2,   94.72,2,   38.26,2,       0,2,    2.78,2,   1.305,2,   0.672,2,   0.060,2,     0.28,2,  -999.0,9, -999.00,9,-999.0000,9,  -999.00,-999.000,9,-999.0000,9, -999.00,9, -999.00,9,  -999.0,9,  -999.0,-999.000,9,-999.000,     -999.0,9, -999.00,9, -999.00,9, -999.00,9,     -999.0,9,  -999.0,9, 20130424,     1003,       30,  170.071,    34.2903,2,     -999.0,9,     -999.0,9,     4.5186,2,     -999.0,9,     -999.0,9,-999.0000, -999.00,-999.000
318M20130321,       P02W,      60,          1,         19,         19,2,20130424,       0823,    29.9997,   170.0712,       5548,   939.8,   3.9235,  34.2321,2,   34.234,2,     44.8,2,    44.1,2,  112.97,2,   41.03,2,       0,2,    2.99,2,   0.638,2,   0.318,2,   0.048,2,     0.17,2,  2334.5,2, 2340.33,2,   7.3359,2,       25,-999.000,9,-999.0000,9, -999.00,9, -999.00,9,  -999.0,9,  -999.0,-999.000,9,-999.000,     -999.0,9, -999.00,9, -999.00,9, -999.00,9,     -999.0,9,  -999.0,9, 20130424,     1000,  30.0003,  170.071,    34.3954,2,     -999.0,9,     -999.0,9,     3.9239,2,     -999.0,9,     -999.0,9,-999.0000, -999.00,-999.000
318M20130321,       P02W,      60,          1,         18,         18,2,20130424,       0823,    29.9997,   170.0712,       5548,  1042.1,   3.5641,  34.3188,2,  34.3203,2,     32.4,2,    31.7,2,  124.29,2,   42.44,2,       0,2,    3.09,2,   0.238,2,   0.119,2,   0.014,2,     0.09,2,  -999.0,9, -999.00,9,-999.0000,9,  -999.00,-999.000,9,-999.0000,9, -999.00,9, -999.00,9,  -999.0,9,  -999.0,-999.000,9,-999.000,     -999.0,9, -999.00,9, -999.00,9, -999.00,9,     -999.0,9,  -999.0,9, 20130424,      958,  30.0004, 170.0712,    34.4822,2,     -999.0,9,     -999.0,9,     3.5642,2,     -999.0,9,     -999.0,9,-999.0000, -999.00,-999.000
318M20130321,       P02W,      60,          1,         17,         17,2,20130424,       0823,    29.9997,   170.0712,       5548,  1143.9,   3.3224,  34.3703,2,  34.3711,2,     28.4,2,    28.1,2,   131.7,2,   43.03,2,       0,2,    3.13,2,   0.116,2,   0.060,2,   0.013,2,     0.07,2,  2365.6,2, 2367.14,2,    7.321,6,       25,-999.000,9,-999.0000,9, -999.00,9, -999.00,9,  -999.0,9,  -999.0,-999.000,9,-999.000,     -999.0,9, -999.00,9, -999.00,9, -999.00,9,     -999.0,9,  -999.0,9, 20130424,      955,  30.0005, 170.0711,    34.5332,2,     -999.0,9,     -999.0,9,     3.3222,2,     -999.0,9,     -999.0,9,-999.0000, -999.00,-999.000
318M20130321,       P02W,      60,          1,         16,         16,2,20130424,       0823,    29.9997,   170.0712,       5548,  1277.5,   2.9854,  34.4367,2,  34.4371,2,     30.5,2,      31,2,  141.17,2,   43.26,2,       0,2,    3.13,2,   0.048,2,   0.027,2,   0.009,2,     0.04,2,  -999.0,9, -999.00,9,-999.0000,9,  -999.00,-999.000,9,-999.0000,9, -999.00,9, -999.00,9,  -999.0,9,  -999.0,-999.000,9,-999.000,     -999.0,9, -999.00,9, -999.00,9, -999.00,9,     -999.0,9,  -999.0,9, 20130424,      952,  30.0004, 170.0709,    34.5995,2,     -999.0,9,     -999.0,9,     2.9891,2,     -999.0,9,     -999.0,9,-999.0000, -999.00,-999.000
318M20130321,       P02W,      60,          1,         15,         15,2,20130424,       0823,    29.9997,   170.0712,       5548,  1475.4,   2.5872,  34.5043,2,  34.5062,2,     38.5,2,      39,2,  152.09,2,   42.99,2,       0,2,     3.1,2,   0.009,2,   0.014,2,   0.013,2,     0.08,2,  2381.6,6, 2393.55,2,   7.3523,2,       25,-999.000,9,-999.0000,9, -999.00,9, -999.00,9,  -999.0,9,  -999.0,-999.000,9,-999.000,     -999.0,9, -999.00,9, -999.00,9, -999.00,9,     -999.0,9,  -999.0,9, 20130424,      948,  30.0002, 170.0709,    34.6689,2,     -999.0,9,     -999.0,9,     2.5875,2,     -999.0,9,     -999.0,9,-999.0000, -999.00,-999.000
318M20130321,       P02W,      60,          1,         14,         14,2,20130424,       0823,    29.9997,   170.0712,       5548,  1679.5,    2.288,  34.5517,2,  34.5537,2,       55,2,    54.3,2,  158.04,2,   42.06,2,       0,2,    3.04,2,   0.010,2,   0.009,2,   0.005,2,     0.12,2,  2379.6,2, 2402.65,2,   7.3832,2,       25,-999.000,9,-999.0000,9, -999.00,9, -999.00,9,  -999.0,9,  -999.0,-999.000,9,-999.000,     -999.0,9, -999.00,9, -999.00,9, -999.00,9,     -999.0,9,  -999.0,9, 20130424,      944,  30.0001,  170.071,    34.7167,2,     -999.0,9,     -999.0,9,     2.2867,2,     -999.0,9,     -999.0,9,-999.0000, -999.00,-999.000
318M20130321,       P02W,      60,          1,         13,         13,2,20130424,       0823,    29.9997,   170.0712,       5548,  1882.9,   2.0506,  34.5869,2,  34.5889,2,     68.9,2,      69,2,  161.75,2,   41.14,2,       0,2,    2.94,2,-999.000,9,-999.000,9,-999.000,9,-999.0000,9,  2373.5,2, 2408.76,2,   7.4139,2,       25,-999.000,9,-999.0000,9, -999.00,9, -999.00,9,  -999.0,9,  -999.0,-999.000,9,-999.000,     -999.0,9, -999.00,9, -999.00,9, -999.00,9,     -999.0,9,  -999.0,9, 20130424,      940,  29.9999, 170.0709,     34.752,2,     -999.0,9,     -999.0,9,     2.0508,2,     -999.0,9,     -999.0,9,-999.0000, -999.00,-999.000
318M20130321,       P02W,      60,          1,         12,         12,2,20130424,       0823,    29.9997,   170.0712,       5548,  2103.7,    1.872,  34.6128,2,  34.6152,2,     84.7,2,    84.8,2,  162.33,2,   40.16,2,       0,2,    2.88,2,   0.010,2,   0.008,2,   0.006,2,     0.05,2,  -999.0,9, -999.00,9,-999.0000,9,  -999.00,-999.000,9,-999.0000,9, -999.00,9, -999.00,9,  -999.0,9,  -999.0,-999.000,9,-999.000,     -999.0,9, -999.00,9, -999.00,9, -999.00,9,     -999.0,9,  -999.0,9, 20130424,      935,  29.9999, 170.0711,    34.7784,2,     -999.0,9,     -999.0,9,     1.8719,2,     -999.0,9,     -999.0,9,-999.0000, -999.00,-999.000
318M20130321,       P02W,      60,          1,         11,         11,2,20130424,       0823,    29.9997,   170.0712,       5548,  2358.7,    1.721,  34.6345,2,  34.6358,2,    100.7,2,   100.5,2,  161.54,2,   39.17,2,       0,2,     2.8,2,-999.000,9,-999.000,9,-999.000,9,-999.0000,9,  2358.7,2, 2414.16,2,   7.4772,2,       25,-999.000,9,   1.9317,2,   19.01,2, -999.00,9,  -999.0,9,  -999.0,   8.202,2,   0.038,     -999.0,9, -999.00,9, -999.00,9, -999.00,9,     -999.0,9,  -999.0,9, 20130424,      930,  29.9999,  170.071,    34.7992,2,     -999.0,9,     -999.0,9,     1.7214,2,     -999.0,9,     -999.0,9,   0.0081,    0.15,-999.000
318M20130321,       P02W,      60,          1,         10,         10,2,20130424,       0823,    29.9997,   170.0712,       5548,  2615.8,   1.6263,  34.6482,2,  34.6502,2,      112,2,     112,2,  160.08,2,   38.44,2,       0,2,    2.74,2,   0.006,2,   0.009,2,   0.010,2,     0.05,2,  -999.0,9, -999.00,9,-999.0000,9,  -999.00,-999.000,9,-999.0000,9, -999.00,9, -999.00,9,  -999.0,9,  -999.0,-999.000,9,-999.000,     -999.0,9, -999.00,9, -999.00,9, -999.00,9,     -999.0,9,  -999.0,9, 20130424,      925,  30.0004, 170.0708,    34.8136,2,     -999.0,9,     -999.0,9,      1.626,2,     -999.0,9,     -999.0,9,-999.0000, -999.00,-999.000
318M20130321,       P02W,      60,          1,          9,          9,2,20130424,       0823,    29.9997,   170.0712,       5548,  2866.4,   1.5583,  34.6593,2,  34.6608,2,    121.1,2,   122.1,2,   159.2,2,   37.81,2,       0,2,     2.7,2,-999.000,9,-999.000,9,-999.000,9,-999.0000,9,  2344.8,2, 2415.46,2,   7.5169,2,       25,-999.000,9,-999.0000,9, -999.00,9, -999.00,9,  -999.0,9,  -999.0,-999.000,9,-999.000,     -999.0,9, -999.00,9, -999.00,9, -999.00,9,     -999.0,9,  -999.0,9, 20130424,      920,  30.0004, 170.0709,    34.8242,2,     -999.0,9,     -999.0,9,     1.5585,2,     -999.0,9,     -999.0,9,-999.0000, -999.00,-999.000
318M20130321,       P02W,      60,          1,          8,          8,2,20130424,       0823,    29.9997,   170.0712,       5548,  3134.4,    1.515,  34.6674,2,  34.6688,2,    131.2,2,   130.4,2,  157.44,2,   37.27,2,       0,2,    2.65,2,   0.006,2,   0.008,2,   0.005,2,     0.05,2,  -999.0,9, -999.00,9,-999.0000,9,  -999.00,-999.000,9,-999.0000,9, -999.00,9, -999.00,9,  -999.0,9,  -999.0,-999.000,9,-999.000,     -999.0,9, -999.00,9, -999.00,9, -999.00,9,     -999.0,9,  -999.0,9, 20130424,      915,  30.0003, 170.0708,    34.8323,2,     -999.0,9,     -999.0,9,      1.515,2,     -999.0,9,     -999.0,9,-999.0000, -999.00,-999.000