BOTTLE,20220817CCHSIOAMB
EXPOCODE,SECT_ID,STNNBR,CASTNO,SAMPNO,BTLNBR,BTLNBR_FLAG_W,DATE,TIME,LATITUDE,LONGITUDE,DEPTH,CTDPRS,CTDTMP,CTDSAL,CTDSAL_FLAG_W,SALNTY,SALNTY_FLAG_W,CTDOXY,CTDOXY_FLAG_W,OXYGEN,OXYGEN_FLAG_W,SILCAT,SILCAT_FLAG_W,NITRAT,NITRAT_FLAG_W,NITRIT,NITRIT_FLAG_W,PHSPHT,PHSPHT_FLAG_W,CFC-11,CFC-11_FLAG_W,CFC-12,CFC-12_FLAG_W,CFC113,CFC113_FLAG_W,SF6,SF6_FLAG_W,TCARBN,TCARBN_FLAG_W,ALKALI,ALKALI_FLAG_W,PH_TOT,PH_TOT_FLAG_W,PH_TMP,TRITUM,TRITUM_FLAG_W,HELIUM,HELIUM_FLAG_W,DELHE3,DELHE3_FLAG_W,DELC13,DELC13_FLAG_W,DELC14,DELC14_FLAG_W,C14ERR,NEON,NEON_FLAG_W,NEONER,I-129,I-129_FLAG_W,SR-90,SR-90_FLAG_W,DOC,DOC_FLAG_W,TDN,TDN_FLAG_W,CALCIUM,CALCIUM_FLAG_W,D15N_NO3,D15N_NO3_FLAG_W,BTL_DATE,BTL_TIME,BTL_LAT,BTL_LON,SALTREF,SALTREF_FLAG_W,CS-137,CS-137_FLAG_W,CS-134,CS-134_FLAG_W,REFTMP,REFTMP_FLAG_W,LAB_DEN,LAB_DEN_FLAG_W,D18O_NO3,D18O_NO3_FLAG_W,HELIER,DELHER,TRITER
,,,,,,,,,,,METERS,DBAR,ITS-90,PSS-78,,PSS-78,,UMOL/KG,,UMOL/KG,,UMOL/KG,,UMOL/KG,,UMOL/KG,,UMOL/KG,,PMOL/KG,,PMOL/KG,,PMOL/KG,,FMOL/KG,,UMOL/KG,,UMOL/KG,,,,DEG C,TU,,NMOL/KG,,PERCNT,,/MILLE,,/MILLE,,/MILLE,NMOL/KG,,NMOL/KG,BQ/M^3,,DM/.1MG,,UMOL/KG,,UMOL/KG,,MMOL/KG,,/MILLE,,,,,,G/KG,,BQ/M^3,,BQ/M^3,,ITS-90,,,,/MILLE,,NMOL/KG,PERCNT,TU
318M20130321,       P02W,      80,          1,          6,          6,2,20130430,       0949,         30,  -175.5358,       5258,  3752.4,   1.4674,  34.6801,2,  34.6796,2,      142,2,   142.4,2,  157.34,2,   36.62,2,       0,2,    2.59,2,-999.000,9,-999.000,9,-999.000,9,-999.0000,9,  -999.0,9, -999.00,9,-999.0000,9,  -999.00,-999.000,9,-999.0000,9, -999.00,9, -999.00,9,  -999.0,9,  -999.0,-999.000,9,-999.000,     -999.0,9, -999.00,9, -999.00,9, -999.00,9,     -999.0,9,  -999.0,1, 20130430,     1019,       30,-175.5358,    34.8431,2,     -999.0,9,     -999.0,9,     1.4676,2,     -999.0,9,     -999.0,1,-999.0000, -999.00,-999.000
318M20130321,       P02W,      80,          1,          5,         37,2,20130430,       0949,         30,  -175.5358,       5258,  4162.2,   1.4706,  34.6848,2,  34.6845,2,    147.9,2,   148.2,2,  156.37,2,   36.22,2,       0,2,    2.55,2,   0.003,2,   0.009,2,   0.000,2,        0,2,  2327.5,2, 2418.26,6,   7.5658,2,       25,-999.000,9,-999.0000,9, -999.00,9, -999.00,9,  -999.0,9,  -999.0,-999.000,9,-999.000,     -999.0,9, -999.00,9, -999.00,9, -999.00,9,     -999.0,9,  -999.0,1, 20130430,     1011,  30.0001,-175.5358,    34.8481,2,     -999.0,9,     -999.0,9,     1.4704,2,     -999.0,9,     -999.0,1,-999.0000, -999.00,-999.000
318M20130321,       P02W,      80,          1,          4,          4,2,20130430,       0949,         30,  -175.5358,       5258,  4577.1,   1.4962,  34.6876,2,  34.6869,2,    151.6,2,   151.3,2,  155.88,2,   36.05,2,       0,2,    2.54,2,-999.000,9,-999.000,9,-999.000,9,-999.0000,9,  2325.9,2, 2418.66,2,   7.5721,2,       25,-999.000,9,-999.0000,9, -999.00,9, -999.00,9,  -999.0,9,  -999.0,-999.000,9,-999.000,     -999.0,9, -999.00,9, -999.00,9, -999.00,9,     -999.0,9,  -999.0,1, 20130430,     1004,       30,-175.5358,    34.8505,2,     -999.0,9,     -999.0,9,     1.4965,2,     -999.0,9,     -999.0,1,-999.0000, -999.00,-999.000
318M20130321,       P02W,      80,          1,          3,          3,2,20130430,       0949,         30,  -175.5358,       5258,  4990.1,   1.5275,  34.6894,2,  34.6885,2,    153.6,2,   155.1,2,  152.17,2,   35.78,2,       0,2,    2.52,2,   0.010,2,   0.012,2,   0.000,2,     0.03,2,  2322.7,2, 2417.56,2,   7.5749,6,       25,-999.000,9,-999.0000,9, -999.00,9, -999.00,9,  -999.0,9,  -999.0,-999.000,9,-999.000,     -999.0,9, -999.00,9, -999.00,9, -999.00,9,     -999.0,9,  -999.0,1, 20130430,      956,       30,-175.5358,     34.852,2,     -999.0,9,     -999.0,9,     1.5276,2,     -999.0,9,     -999.0,1,-999.0000, -999.00,-999.000
318M20130321,       P02W,      80,          1,          2,          2,2,20130430,       0949,         30,  -175.5358,       5258,  5336.5,   1.5451,  34.6914,2,  34.6908,2,    160.9,2,   160.7,2,  146.12,2,   35.42,2,       0,2,    2.49,2,   0.014,2,   0.017,2,   0.002,2,        0,2,  2316.3,6, 2413.96,2,   7.5816,2,       25,-999.000,9,-999.0000,9, -999.00,9, -999.00,9,  -999.0,9,  -999.0,-999.000,9,-999.000,     -999.0,9, -999.00,9, -999.00,9, -999.00,9,     -999.0,9,  -999.0,1, 20130430,      949,       30,-175.5359,    34.8544,2,     -999.0,9,     -999.0,9,     1.5445,2,     -999.0,9,     -999.0,1,-999.0000, -999.00,-999.000