BOTTLE,20220817CCHSIOAMB
EXPOCODE,SECT_ID,STNNBR,CASTNO,SAMPNO,BTLNBR,BTLNBR_FLAG_W,DATE,TIME,LATITUDE,LONGITUDE,DEPTH,CTDPRS,CTDTMP,CTDSAL,CTDSAL_FLAG_W,SALNTY,SALNTY_FLAG_W,CTDOXY,CTDOXY_FLAG_W,OXYGEN,OXYGEN_FLAG_W,SILCAT,SILCAT_FLAG_W,NITRAT,NITRAT_FLAG_W,NITRIT,NITRIT_FLAG_W,PHSPHT,PHSPHT_FLAG_W,CFC-11,CFC-11_FLAG_W,CFC-12,CFC-12_FLAG_W,CFC113,CFC113_FLAG_W,SF6,SF6_FLAG_W,TCARBN,TCARBN_FLAG_W,ALKALI,ALKALI_FLAG_W,PH_TOT,PH_TOT_FLAG_W,PH_TMP,TRITUM,TRITUM_FLAG_W,HELIUM,HELIUM_FLAG_W,DELHE3,DELHE3_FLAG_W,DELC13,DELC13_FLAG_W,DELC14,DELC14_FLAG_W,C14ERR,NEON,NEON_FLAG_W,NEONER,I-129,I-129_FLAG_W,SR-90,SR-90_FLAG_W,DOC,DOC_FLAG_W,TDN,TDN_FLAG_W,CALCIUM,CALCIUM_FLAG_W,D15N_NO3,D15N_NO3_FLAG_W,BTL_DATE,BTL_TIME,BTL_LAT,BTL_LON,SALTREF,SALTREF_FLAG_W,CS-137,CS-137_FLAG_W,CS-134,CS-134_FLAG_W,REFTMP,REFTMP_FLAG_W,LAB_DEN,LAB_DEN_FLAG_W,D18O_NO3,D18O_NO3_FLAG_W,HELIER,DELHER,TRITER
,,,,,,,,,,,METERS,DBAR,ITS-90,PSS-78,,PSS-78,,UMOL/KG,,UMOL/KG,,UMOL/KG,,UMOL/KG,,UMOL/KG,,UMOL/KG,,PMOL/KG,,PMOL/KG,,PMOL/KG,,FMOL/KG,,UMOL/KG,,UMOL/KG,,,,DEG C,TU,,NMOL/KG,,PERCNT,,/MILLE,,/MILLE,,/MILLE,NMOL/KG,,NMOL/KG,BQ/M^3,,DM/.1MG,,UMOL/KG,,UMOL/KG,,MMOL/KG,,/MILLE,,,,,,G/KG,,BQ/M^3,,BQ/M^3,,ITS-90,,,,/MILLE,,NMOL/KG,PERCNT,TU
318M20130321,       P02W,      40,          1,          7,          7,2,20130417,       0333,    30.0009,   153.5649,       5801,  3540.2,   1.4909,  34.6766,2,  34.6765,2,    143.2,2,   143.3,2,     151,2,   36.48,2,       0,2,    2.56,2,-999.000,9,-999.000,9,-999.000,9,-999.0000,9,  2328.6,2, 2415.76,2,   7.5544,2,       25,-999.000,9,-999.0000,9, -999.00,9, -999.00,9,  -999.0,9,  -999.0,-999.000,9,-999.000,     -999.0,9, -999.00,9, -999.00,9, -999.00,9,     -999.0,9,  -999.0,1, 20130417,      421,  30.0016, 153.5647,      34.84,2,     -999.0,9,     -999.0,9,     1.4908,2,     -999.0,9,     -999.0,1,-999.0000, -999.00,-999.000
318M20130321,       P02W,      40,          1,          6,          6,2,20130417,       0333,    30.0009,   153.5649,       5801,  3918.8,   1.4701,  34.6824,2,  34.6832,2,    149.8,2,   149.8,2,  149.83,2,   36.05,2,       0,2,    2.54,2,   0.002,2,   0.008,2,   0.000,2,     0.02,2,  -999.0,9, -999.00,9,-999.0000,9,  -999.00,-999.000,9,-999.0000,9, -999.00,9, -999.00,9,  -999.0,9,  -999.0,-999.000,9,-999.000,     -999.0,9, -999.00,9, -999.00,9, -999.00,9,     -999.0,9,  -999.0,1, 20130417,      414,  30.0015, 153.5656,    34.8467,2,     -999.0,9,     -999.0,9,     1.4705,2,     -999.0,9,     -999.0,1,-999.0000, -999.00,-999.000
318M20130321,       P02W,      40,          1,          5,         37,2,20130417,       0333,    30.0009,   153.5649,       5801,    4326,     1.47,  34.6869,2,  34.6867,2,    155.9,2,   155.1,2,  148.26,2,   35.68,2,       0,2,    2.51,2,-999.000,9,-999.000,9,-999.000,9,-999.0000,9,  2318.2,2, 2410.26,2,   7.5734,2,       25,-999.000,9,-999.0000,9, -999.00,9, -999.00,9,  -999.0,9,  -999.0,-999.000,9,-999.000,     -999.0,9, -999.00,9, -999.00,9, -999.00,9,     -999.0,9,  -999.0,1, 20130417,      406,  30.0016,  153.566,    34.8503,2,     -999.0,9,     -999.0,9,     1.4704,2,     -999.0,9,     -999.0,1,-999.0000, -999.00,-999.000
318M20130321,       P02W,      40,          1,          4,          4,2,20130417,       0333,    30.0009,   153.5649,       5801,  4739.4,   1.4845,  34.6901,2,  34.6899,2,    160.9,2,   160.3,2,  146.12,2,   35.33,2,       0,2,    2.48,2,   0.004,2,   0.010,2,   0.000,2,     0.02,2,  -999.0,9, -999.00,9,-999.0000,9,  -999.00,-999.000,9,-999.0000,9, -999.00,9, -999.00,9,  -999.0,9,  -999.0,-999.000,9,-999.000,     -999.0,9, -999.00,9, -999.00,9, -999.00,9,     -999.0,9,  -999.0,1, 20130417,      358,  30.0017, 153.5661,    34.8534,2,     -999.0,9,     -999.0,9,     1.4845,2,     -999.0,9,     -999.0,1,-999.0000, -999.00,-999.000
318M20130321,       P02W,      40,          1,          3,          3,2,20130417,       0333,    30.0009,   153.5649,       5801,  5164.8,   1.5066,  34.6929,2,  34.6934,2,    165.3,2,   165.6,2,  141.43,2,   34.92,2,       0,2,    2.45,2,-999.000,9,-999.000,9,-999.000,9,-999.0000,9,  2311.3,2, 2404.25,2,   7.5859,6,       25,-999.000,9,-999.0000,9, -999.00,9, -999.00,9,  -999.0,9,  -999.0,-999.000,9,-999.000,     -999.0,9, -999.00,9, -999.00,9, -999.00,9,     -999.0,9,  -999.0,1, 20130417,      350,  30.0018, 153.5656,     34.857,2,     -999.0,9,     -999.0,9,     1.5067,2,     -999.0,9,     -999.0,1,-999.0000, -999.00,-999.000
318M20130321,       P02W,      40,          1,          2,          2,2,20130417,       0333,    30.0009,   153.5649,       5801,  5573.8,   1.5394,  34.6946,2,   34.695,2,    168.6,2,   169.2,2,   138.6,2,   34.68,2,       0,2,    2.42,2,   0.031,2,   0.026,2,   0.008,2,      0.1,2,  2305.6,2, 2403.85,6,     7.59,2,       25,-999.000,9,-999.0000,9, -999.00,9, -999.00,9,  -999.0,9,  -999.0,-999.000,9,-999.000,     -999.0,9, -999.00,9, -999.00,9, -999.00,9,     -999.0,9,  -999.0,1, 20130417,      341,  30.0014, 153.5656,    34.8586,2,     -999.0,9,     -999.0,9,     1.5398,2,     -999.0,9,     -999.0,1,-999.0000, -999.00,-999.000
318M20130321,       P02W,      40,          1,          1,          1,2,20130417,       0333,    30.0009,   153.5649,       5801,  5906.9,   1.5718,   34.695,2,  34.6962,2,    170.7,2,   170.1,2,  138.21,2,   34.61,2,       0,2,    2.41,2,-999.000,9,-999.000,9,-999.000,9,-999.0000,9,  2306.2,6, 2404.25,2,   7.5923,2,       25,-999.000,9,-999.0000,9, -999.00,9, -999.00,9,  -999.0,9,  -999.0,-999.000,9,-999.000,     -999.0,9, -999.00,9, -999.00,9, -999.00,9,     -999.0,9,  -999.0,1, 20130417,      333,  30.0008, 153.5649,    34.8598,2,     -999.0,9,     -999.0,9,     1.5723,2,     -999.0,9,     -999.0,1,-999.0000, -999.00,-999.000