BOTTLE,20220817CCHSIOAMB
EXPOCODE,SECT_ID,STNNBR,CASTNO,SAMPNO,BTLNBR,BTLNBR_FLAG_W,DATE,TIME,LATITUDE,LONGITUDE,DEPTH,CTDPRS,CTDTMP,CTDSAL,CTDSAL_FLAG_W,SALNTY,SALNTY_FLAG_W,CTDOXY,CTDOXY_FLAG_W,OXYGEN,OXYGEN_FLAG_W,SILCAT,SILCAT_FLAG_W,NITRAT,NITRAT_FLAG_W,NITRIT,NITRIT_FLAG_W,PHSPHT,PHSPHT_FLAG_W,CFC-11,CFC-11_FLAG_W,CFC-12,CFC-12_FLAG_W,CFC113,CFC113_FLAG_W,SF6,SF6_FLAG_W,TCARBN,TCARBN_FLAG_W,ALKALI,ALKALI_FLAG_W,PH_TOT,PH_TOT_FLAG_W,PH_TMP,TRITUM,TRITUM_FLAG_W,HELIUM,HELIUM_FLAG_W,DELHE3,DELHE3_FLAG_W,DELC13,DELC13_FLAG_W,DELC14,DELC14_FLAG_W,C14ERR,NEON,NEON_FLAG_W,NEONER,I-129,I-129_FLAG_W,SR-90,SR-90_FLAG_W,DOC,DOC_FLAG_W,TDN,TDN_FLAG_W,CALCIUM,CALCIUM_FLAG_W,D15N_NO3,D15N_NO3_FLAG_W,BTL_DATE,BTL_TIME,BTL_LAT,BTL_LON,SALTREF,SALTREF_FLAG_W,CS-137,CS-137_FLAG_W,CS-134,CS-134_FLAG_W,REFTMP,REFTMP_FLAG_W,LAB_DEN,LAB_DEN_FLAG_W,D18O_NO3,D18O_NO3_FLAG_W,HELIER,DELHER,TRITER
,,,,,,,,,,,METERS,DBAR,ITS-90,PSS-78,,PSS-78,,UMOL/KG,,UMOL/KG,,UMOL/KG,,UMOL/KG,,UMOL/KG,,UMOL/KG,,PMOL/KG,,PMOL/KG,,PMOL/KG,,FMOL/KG,,UMOL/KG,,UMOL/KG,,,,DEG C,TU,,NMOL/KG,,PERCNT,,/MILLE,,/MILLE,,/MILLE,NMOL/KG,,NMOL/KG,BQ/M^3,,DM/.1MG,,UMOL/KG,,UMOL/KG,,MMOL/KG,,/MILLE,,,,,,G/KG,,BQ/M^3,,BQ/M^3,,ITS-90,,,,/MILLE,,NMOL/KG,PERCNT,TU
318M20130321,       P02W,      21,          1,          4,          4,2,20130411,       0255,    29.9998,   138.7937,       2381,  1945.1,   2.1798,  34.5704,2,  34.5716,2,     87.6,2,    87.4,2,  147.98,2,   39.65,2,       0,2,    2.83,2,-999.000,9,-999.000,9,-999.000,9,-999.0000,9,  -999.0,9, -999.00,9,-999.0000,9,  -999.00,-999.000,9,-999.0000,9, -999.00,9, -999.00,9,  -999.0,9,  -999.0,-999.000,9,-999.000,     -999.0,9, -999.00,9, -999.00,9, -999.00,9,     -999.0,9,  -999.0,1, 20130411,      306,  30.0004, 138.7932,    34.7346,2,     -999.0,9,     -999.0,9,     2.1795,2,     -999.0,9,     -999.0,1,-999.0000, -999.00,-999.000
318M20130321,       P02W,      21,          1,          3,          3,2,20130411,       0255,    29.9998,   138.7937,       2381,  2083.1,   2.0374,  34.5915,2,  34.5932,2,     97.2,2,    96.2,2,  147.49,2,   39.15,2,       0,2,    2.79,2,   0.058,2,   0.034,2,   0.000,2,     0.07,2,  2348.4,2, 2404.75,6,    7.468,2,       25,-999.000,9,-999.0000,9, -999.00,9, -999.00,9,  -999.0,9,  -999.0,-999.000,9,-999.000,     -999.0,9, -999.00,9,    36.8,2, -999.00,9,     -999.0,9,  -999.0,1, 20130411,      303,       30, 138.7935,    34.7563,2,     -999.0,9,     -999.0,9,      2.037,2,     -999.0,9,     -999.0,1,-999.0000, -999.00,-999.000
318M20130321,       P02W,      21,          1,          2,          2,2,20130411,       0255,    29.9998,   138.7937,       2381,  2265.8,   1.7885,  34.6289,2,  34.6301,2,      118,2,   118.5,2,  146.71,2,    37.9,2,       0,2,    2.68,2,-999.000,9,-999.000,9,-999.000,9,-999.0000,9,    2337,2, 2408.06,2,   7.5079,6,       25,-999.000,9,-999.0000,9, -999.00,9, -999.00,9,  -999.0,9,  -999.0,-999.000,9,-999.000,     -999.0,9, -999.00,9,      35,2, -999.00,9,     -999.0,9,  -999.0,1, 20130411,      259,       30, 138.7938,    34.7934,2,     -999.0,9,     -999.0,9,     1.7882,2,     -999.0,9,     -999.0,1,-999.0000, -999.00,-999.000
318M20130321,       P02W,      21,          1,          1,          1,2,20130411,       0255,    29.9998,   138.7937,       2381,  2396.5,   1.6882,  34.6449,2,   34.646,2,    128.7,2,   128.5,2,  144.56,2,   37.22,2,       0,2,    2.65,2,   0.081,2,   0.054,2,   0.000,2,     0.08,2,  2331.9,6, 2409.96,2,   7.5282,2,       25,-999.000,9,-999.0000,9, -999.00,9, -999.00,9,  -999.0,9,  -999.0,-999.000,9,-999.000,     -999.0,9, -999.00,9,   35.38,2, -999.00,9,     -999.0,9,  -999.0,1, 20130411,      256,  29.9998, 138.7937,    34.8094,2,     -999.0,9,     -999.0,9,     1.6876,2,     -999.0,9,     -999.0,1,-999.0000, -999.00,-999.000