BOTTLE,20220817CCHSIOAMB
EXPOCODE,SECT_ID,STNNBR,CASTNO,SAMPNO,BTLNBR,BTLNBR_FLAG_W,DATE,TIME,LATITUDE,LONGITUDE,DEPTH,CTDPRS,CTDTMP,CTDSAL,CTDSAL_FLAG_W,SALNTY,SALNTY_FLAG_W,CTDOXY,CTDOXY_FLAG_W,OXYGEN,OXYGEN_FLAG_W,SILCAT,SILCAT_FLAG_W,NITRAT,NITRAT_FLAG_W,NITRIT,NITRIT_FLAG_W,PHSPHT,PHSPHT_FLAG_W,CFC-11,CFC-11_FLAG_W,CFC-12,CFC-12_FLAG_W,CFC113,CFC113_FLAG_W,SF6,SF6_FLAG_W,TCARBN,TCARBN_FLAG_W,ALKALI,ALKALI_FLAG_W,PH_TOT,PH_TOT_FLAG_W,PH_TMP,TRITUM,TRITUM_FLAG_W,HELIUM,HELIUM_FLAG_W,DELHE3,DELHE3_FLAG_W,DELC13,DELC13_FLAG_W,DELC14,DELC14_FLAG_W,C14ERR,NEON,NEON_FLAG_W,NEONER,I-129,I-129_FLAG_W,SR-90,SR-90_FLAG_W,DOC,DOC_FLAG_W,TDN,TDN_FLAG_W,CALCIUM,CALCIUM_FLAG_W,D15N_NO3,D15N_NO3_FLAG_W,BTL_DATE,BTL_TIME,BTL_LAT,BTL_LON,SALTREF,SALTREF_FLAG_W,CS-137,CS-137_FLAG_W,CS-134,CS-134_FLAG_W,REFTMP,REFTMP_FLAG_W,LAB_DEN,LAB_DEN_FLAG_W,D18O_NO3,D18O_NO3_FLAG_W,HELIER,DELHER,TRITER
,,,,,,,,,,,METERS,DBAR,ITS-90,PSS-78,,PSS-78,,UMOL/KG,,UMOL/KG,,UMOL/KG,,UMOL/KG,,UMOL/KG,,UMOL/KG,,PMOL/KG,,PMOL/KG,,PMOL/KG,,FMOL/KG,,UMOL/KG,,UMOL/KG,,,,DEG C,TU,,NMOL/KG,,PERCNT,,/MILLE,,/MILLE,,/MILLE,NMOL/KG,,NMOL/KG,BQ/M^3,,DM/.1MG,,UMOL/KG,,UMOL/KG,,MMOL/KG,,/MILLE,,,,,,G/KG,,BQ/M^3,,BQ/M^3,,ITS-90,,,,/MILLE,,NMOL/KG,PERCNT,TU
318M20130321,       P02E,     113,          1,          6,          6,2,20130520,       0949,    30.0008,   -144.886,       4937,  3548.4,   1.4784,  34.6782,2,  34.6765,2,    134.8,2,   135.2,2,  165.44,2,   37.26,2,       0,2,    2.58,2,-999.000,9,-999.000,9,-999.000,9,-999.0000,9,  -999.0,9, -999.00,9,-999.0000,9,  -999.00,-999.000,9,-999.0000,9, -999.00,9, -999.00,9,  -999.0,9,  -999.0,-999.000,9,-999.000,     -999.0,9, -999.00,9, -999.00,9, -999.00,9,     -999.0,9,  -999.0,9, 20130520,     1021,  30.0003,-144.8863,      34.84,2,     -999.0,9,     -999.0,9,     1.4783,2,     -999.0,9,     -999.0,9,-999.0000, -999.00,-999.000
318M20130321,       P02E,     113,          1,          5,         37,2,20130520,       0949,    30.0008,   -144.886,       4937,  3856.8,   1.4707,  34.6828,2,  34.6812,2,    140.3,2,   141.4,2,  162.12,2,   36.78,2,       0,2,    2.54,2,   0.004,2,   0.002,2,-999.000,1,        0,2,  2337.8,2, 2425.46,6,     7.56,2,       25,-999.000,9,-999.0000,9, -999.00,9, -999.00,9,  -999.0,9,  -999.0,-999.000,9,-999.000,     -999.0,9, -999.00,9,   35.73,2, -999.00,9,     -999.0,9,  -999.0,9, 20130520,     1014,  30.0005,-144.8871,    34.8447,2,     -999.0,9,     -999.0,9,     1.4711,2,     -999.0,9,     -999.0,9,-999.0000, -999.00,-999.000
318M20130321,       P02E,     113,          1,          4,          4,2,20130520,       0949,    30.0008,   -144.886,       4937,  4268.1,   1.4824,  34.6865,2,  34.6847,2,    147.4,2,   148.2,2,  158.03,2,   36.36,2,       0,2,    2.49,2,-999.000,9,-999.000,9,-999.000,9,-999.0000,9,  -999.0,9, -999.00,9,-999.0000,9,  -999.00,-999.000,9,-999.0000,9, -999.00,9, -999.00,9,  -999.0,9,  -999.0,-999.000,9,-999.000,     -999.0,9, -999.00,9,   36.97,2, -999.00,9,     -999.0,9,  -999.0,9, 20130520,     1005,  30.0004,-144.8865,    34.8483,2,     -999.0,9,     -999.0,9,     1.4827,2,     -999.0,9,     -999.0,9,-999.0000, -999.00,-999.000
318M20130321,       P02E,     113,          1,          3,          3,2,20130520,       0949,    30.0008,   -144.886,       4937,  4672.4,   1.5087,  34.6885,2,  34.6873,2,    152.3,2,   152.6,2,     155,2,   36.04,2,       0,2,    2.47,2,   0.006,2,   0.005,2,-999.000,1,        0,2,  2329.4,2, 2421.36,2,   7.5762,2,       25,-999.000,9,-999.0000,9, -999.00,9, -999.00,9,  -999.0,9,  -999.0,-999.000,9,-999.000,     -999.0,9, -999.00,9,   38.95,2, -999.00,9,     -999.0,9,  -999.0,9, 20130520,      957,  30.0012,-144.8862,    34.8509,2,     -999.0,9,     -999.0,9,     1.5087,2,     -999.0,9,     -999.0,9,-999.0000, -999.00,-999.000
318M20130321,       P02E,     113,          1,          2,          2,2,20130520,       0949,    30.0008,   -144.886,       4937,  5081.9,   1.5483,  34.6892,2,  34.6885,2,    155.7,2,   155.3,2,  151.58,2,   35.83,2,       0,2,    2.44,2,   0.007,2,   0.006,2,-999.000,1,        0,2,    2327,2, 2419.36,2,   7.5795,6,       25,-999.000,9,-999.0000,9, -999.00,9, -999.00,9,  -999.0,9,  -999.0,-999.000,9,-999.000,     -999.0,9, -999.00,9,   39.27,2, -999.00,9,     -999.0,9,  -999.0,9, 20130520,      950,  30.0008, -144.886,    34.8521,2,     -999.0,9,     -999.0,9,     1.5485,2,     -999.0,9,     -999.0,9,-999.0000, -999.00,-999.000