BOTTLE,20220817CCHSIOAMB
EXPOCODE,SECT_ID,STNNBR,CASTNO,SAMPNO,BTLNBR,BTLNBR_FLAG_W,DATE,TIME,LATITUDE,LONGITUDE,DEPTH,CTDPRS,CTDTMP,CTDSAL,CTDSAL_FLAG_W,SALNTY,SALNTY_FLAG_W,CTDOXY,CTDOXY_FLAG_W,OXYGEN,OXYGEN_FLAG_W,SILCAT,SILCAT_FLAG_W,NITRAT,NITRAT_FLAG_W,NITRIT,NITRIT_FLAG_W,PHSPHT,PHSPHT_FLAG_W,CFC-11,CFC-11_FLAG_W,CFC-12,CFC-12_FLAG_W,CFC113,CFC113_FLAG_W,SF6,SF6_FLAG_W,TCARBN,TCARBN_FLAG_W,ALKALI,ALKALI_FLAG_W,PH_TOT,PH_TOT_FLAG_W,PH_TMP,TRITUM,TRITUM_FLAG_W,HELIUM,HELIUM_FLAG_W,DELHE3,DELHE3_FLAG_W,DELC13,DELC13_FLAG_W,DELC14,DELC14_FLAG_W,C14ERR,NEON,NEON_FLAG_W,NEONER,I-129,I-129_FLAG_W,SR-90,SR-90_FLAG_W,DOC,DOC_FLAG_W,TDN,TDN_FLAG_W,CALCIUM,CALCIUM_FLAG_W,D15N_NO3,D15N_NO3_FLAG_W,BTL_DATE,BTL_TIME,BTL_LAT,BTL_LON,SALTREF,SALTREF_FLAG_W,CS-137,CS-137_FLAG_W,CS-134,CS-134_FLAG_W,REFTMP,REFTMP_FLAG_W,LAB_DEN,LAB_DEN_FLAG_W,D18O_NO3,D18O_NO3_FLAG_W,HELIER,DELHER,TRITER
,,,,,,,,,,,METERS,DBAR,ITS-90,PSS-78,,PSS-78,,UMOL/KG,,UMOL/KG,,UMOL/KG,,UMOL/KG,,UMOL/KG,,UMOL/KG,,PMOL/KG,,PMOL/KG,,PMOL/KG,,FMOL/KG,,UMOL/KG,,UMOL/KG,,,,DEG C,TU,,NMOL/KG,,PERCNT,,/MILLE,,/MILLE,,/MILLE,NMOL/KG,,NMOL/KG,BQ/M^3,,DM/.1MG,,UMOL/KG,,UMOL/KG,,MMOL/KG,,/MILLE,,,,,,G/KG,,BQ/M^3,,BQ/M^3,,ITS-90,,,,/MILLE,,NMOL/KG,PERCNT,TU
318M20130321,       P02E,     132,          1,         36,         36,2,20130526,       0815,    30.0004,  -130.2911,       4614,     3.1,  17.3638,  33.6324,2,  33.6326,2,    244.3,2,   244.2,2,    2.34,2,       0,2,       0,2,    0.22,2,   2.335,2,   1.404,2,-999.000,1,   1.5489,2,  2020.3,6,  2242.4,2,   7.9174,2,       25,-999.000,9,-999.0000,9, -999.00,9, -999.00,9,  -999.0,9,  -999.0,-999.000,9,-999.000,     -999.0,9, -999.00,9, -999.00,9, -999.00,9,     -999.0,1,  -999.0,9, 20130526,     1026,  30.0001,-130.2937,    33.7912,2,     -999.0,9,     -999.0,9,    17.3639,2,     -999.0,9,     -999.0,9,-999.0000, -999.00,-999.000
318M20130321,       P02E,     132,          1,         34,         34,2,20130526,       0815,    30.0004,  -130.2911,       4614,    25.5,  17.3369,  33.6422,2,  33.6426,2,    244.8,2,   244.4,2,    2.34,2,       0,2,       0,2,    0.22,2,-999.000,9,-999.000,9,-999.000,9,-999.0000,9,  2021.2,2,  2241.1,2,   7.9185,6,       25,-999.000,9,-999.0000,9, -999.00,9, -999.00,9,  -999.0,9,  -999.0,-999.000,9,-999.000,     -999.0,9, -999.00,9, -999.00,9, -999.00,9,     -999.0,9,  -999.0,9, 20130526,     1024,  30.0002,-130.2936,    33.8012,2,     -999.0,9,     -999.0,9,    17.3363,2,     -999.0,9,     -999.0,9,-999.0000, -999.00,-999.000
318M20130321,       P02E,     132,          1,         33,         33,2,20130526,       0815,    30.0004,  -130.2911,       4614,    50.9,  16.3954,  33.6919,2,  33.6907,2,    252.5,2,     251,2,    2.25,2,       0,2,       0,2,    0.19,2,   2.443,2,   1.454,2,-999.000,1,   1.5737,2,  -999.0,9, -999.00,9,-999.0000,9,  -999.00,-999.000,9,-999.0000,9, -999.00,9, -999.00,9,  -999.0,9,  -999.0,-999.000,9,-999.000,     -999.0,9, -999.00,9, -999.00,9, -999.00,9,     -999.0,9,  -999.0,9, 20130526,     1023,  30.0002,-130.2935,    33.8496,2,     -999.0,9,     -999.0,9,    16.3971,2,     -999.0,9,     -999.0,9,-999.0000, -999.00,-999.000
318M20130321,       P02E,     132,          1,         32,         32,2,20130526,       0815,    30.0004,  -130.2911,       4614,      75,  15.9908,  33.6764,2,  33.6767,2,    252.2,2,   252.5,2,    2.15,2,       0,2,       0,2,    0.19,2,-999.000,9,-999.000,9,-999.000,9,-999.0000,9,  2017.7,2,  2239.8,2,   7.9215,2,       25,-999.000,9,-999.0000,9, -999.00,9, -999.00,9,  -999.0,9,  -999.0,-999.000,9,-999.000,     -999.0,9, -999.00,9, -999.00,9, -999.00,9,     -999.0,9,  -999.0,9, 20130526,     1021,  30.0002,-130.2935,    33.8355,2,     -999.0,9,     -999.0,9,    15.9907,2,     -999.0,9,     -999.0,9,-999.0000, -999.00,-999.000
318M20130321,       P02E,     132,          1,         31,         31,2,20130526,       0815,    30.0004,  -130.2911,       4614,     100,  15.6584,  33.7437,2,  34.1135,3,    249.5,2,   250.3,2,    2.25,2,       0,2,       0,2,    0.18,2,   2.493,2,   1.486,2,-999.000,1,   1.5567,2,  2019.7,2,    2242,2,   7.9208,2,       25,-999.000,9,-999.0000,9, -999.00,9, -999.00,9,  -999.0,9,  -999.0,-999.000,9,-999.000,     -999.0,9, -999.00,9, -999.00,9, -999.00,9,     -999.0,1,  -999.0,9, 20130526,     1019,  30.0001,-130.2934,    34.2744,3,     -999.0,9,     -999.0,9,    15.6557,2,     -999.0,9,     -999.0,9,-999.0000, -999.00,-999.000
318M20130321,       P02E,     132,          1,         30,         30,2,20130526,       0815,    30.0004,  -130.2911,       4614,   150.8,  13.0906,  33.5842,2,  33.5682,2,    237.6,2,   237.2,2,   13.68,4,   14.16,4,    0.01,4,    1.09,4,-999.000,9,-999.000,9,-999.000,9,-999.0000,9,  -999.0,9, 2224.39,2,-999.0000,9,  -999.00,-999.000,9,-999.0000,9, -999.00,9, -999.00,9,  -999.0,9,  -999.0,-999.000,9,-999.000,     -999.0,9, -999.00,9, -999.00,9, -999.00,9,     -999.0,9,  -999.0,9, 20130526,     1017,  30.0001,-130.2933,    33.7265,2,     -999.0,9,     -999.0,9,    13.0854,2,     -999.0,9,     -999.0,9,-999.0000, -999.00,-999.000
318M20130321,       P02E,     132,          1,         29,         29,2,20130526,       0815,    30.0004,  -130.2911,       4614,   201.6,   9.8649,  33.6409,2,  33.6394,2,    206.8,2,   206.8,2,   13.68,2,   14.17,2,    0.01,2,     1.1,2,   3.314,2,   1.866,2,-999.000,1,   1.5493,2,  2102.8,2, 2229.69,6,   7.7026,6,       25,-999.000,9,-999.0000,9, -999.00,9, -999.00,9,  -999.0,9,  -999.0,-999.000,9,-999.000,     -999.0,9, -999.00,9, -999.00,9, -999.00,9,     -999.0,9,  -999.0,9, 20130526,     1015,  30.0001,-130.2931,     33.798,2,     -999.0,9,     -999.0,9,     9.8715,2,     -999.0,9,     -999.0,9,-999.0000, -999.00,-999.000
318M20130321,       P02E,     132,          1,         27,         27,2,20130526,       0815,    30.0004,  -130.2911,       4614,   250.7,   8.7335,  33.9188,2,  33.9173,2,    171.1,2,   167.3,2,   25.78,2,   22.07,2,    0.01,2,     1.6,2,-999.000,9,-999.000,9,-999.000,9,-999.0000,9,  2157.4,2,    2252,2,   7.6052,2,       25,-999.000,9,-999.0000,9, -999.00,9, -999.00,9,  -999.0,9,  -999.0,-999.000,9,-999.000,     -999.0,9, -999.00,9, -999.00,9, -999.00,9,     -999.0,1,  -999.0,9, 20130526,     1013,  30.0001,-130.2929,    34.0772,2,     -999.0,9,     -999.0,9,     8.7267,2,     -999.0,9,     -999.0,9,-999.0000, -999.00,-999.000
318M20130321,       P02E,     132,          1,         26,         26,2,20130526,       0815,    30.0004,  -130.2911,       4614,   301.1,   7.8581,  34.0141,2,  34.0135,2,    102.6,2,   104.7,2,   39.84,2,   29.59,2,    0.01,2,    2.16,2,   2.666,2,   1.408,2,-999.000,1,   0.7229,2,  2217.7,2,  2264.7,2,   7.4646,2,       25,-999.000,9,-999.0000,9, -999.00,9, -999.00,9,  -999.0,9,  -999.0,-999.000,9,-999.000,     -999.0,9, -999.00,9, -999.00,9, -999.00,9,     -999.0,9,  -999.0,9, 20130526,     1010,  30.0002,-130.2926,    34.1738,2,     -999.0,9,     -999.0,9,     7.8478,2,     -999.0,9,     -999.0,9,-999.0000, -999.00,-999.000
318M20130321,       P02E,     132,          1,         25,         25,2,20130526,       0815,    30.0004,  -130.2911,       4614,   351.6,   7.5808,  34.1146,2,   34.113,2,     58.8,2,    57.7,2,   49.31,2,   33.68,2,    0.01,2,    2.55,2,-999.000,9,-999.000,9,-999.000,9,-999.0000,9,  2257.6,2, 2278.21,2,   7.3753,2,       25,-999.000,9,-999.0000,9, -999.00,9, -999.00,9,  -999.0,9,  -999.0,-999.000,9,-999.000,     -999.0,9, -999.00,9, -999.00,9, -999.00,9,     -999.0,9,  -999.0,9, 20130526,     1008,  30.0002,-130.2923,    34.2739,2,     -999.0,9,     -999.0,9,     7.5809,2,     -999.0,9,     -999.0,9,-999.0000, -999.00,-999.000
318M20130321,       P02E,     132,          1,         24,         24,2,20130526,       0815,    30.0004,  -130.2911,       4614,     403,   7.0941,  34.1595,2,  34.1605,2,     39.6,2,    39.1,2,   57.81,2,   36.01,2,    0.01,2,    2.75,2,   1.377,2,   0.689,2,-999.000,1,   0.2237,2,  2278.7,2, 2287.51,2,   7.3404,2,       25,-999.000,9,-999.0000,9, -999.00,9, -999.00,9,  -999.0,9,  -999.0,-999.000,9,-999.000,     -999.0,9, -999.00,9, -999.00,9, -999.00,9,     -999.0,1,  -999.0,9, 20130526,     1005,  30.0003, -130.292,    34.3216,2,     -999.0,9,     -999.0,9,     7.0857,2,     -999.0,9,     -999.0,9,-999.0000, -999.00,-999.000
318M20130321,       P02E,     132,          1,         23,         23,2,20130526,       0815,    30.0004,  -130.2911,       4614,   504.8,   6.2123,   34.218,2,  34.2166,2,     22.3,2,    22.6,2,   72.06,2,   38.84,2,    0.01,2,    2.98,2,-999.000,9,-999.000,9,-999.000,9,-999.0000,9,  2304.2,2, 2304.52,2,    7.312,2,       25,-999.000,9,-999.0000,9, -999.00,9, -999.00,9,  -999.0,9,  -999.0,-999.000,9,-999.000,     -999.0,9, -999.00,9, -999.00,9, -999.00,9,     -999.0,9,  -999.0,9, 20130526,     1002,  30.0002,-130.2919,    34.3779,2,     -999.0,9,     -999.0,9,     6.2126,2,     -999.0,9,     -999.0,9,-999.0000, -999.00,-999.000
318M20130321,       P02E,     132,          1,         22,         22,2,20130526,       0815,    30.0004,  -130.2911,       4614,   603.1,   5.5734,  34.2758,2,  34.2747,2,     14.9,2,    14.4,2,   84.36,2,    40.7,2,       0,2,    3.11,2,   0.279,2,   0.149,2,-999.000,1,   0.1199,2,  2323.5,2, 2321.42,2,   7.3014,2,       25,-999.000,9,-999.0000,9, -999.00,9, -999.00,9,  -999.0,9,  -999.0,-999.000,9,-999.000,     -999.0,9, -999.00,9, -999.00,9, -999.00,9,     -999.0,1,  -999.0,9, 20130526,      958,       30,-130.2918,    34.4363,2,     -999.0,9,     -999.0,9,     5.5743,2,     -999.0,9,     -999.0,9,-999.0000, -999.00,-999.000
318M20130321,       P02E,     132,          1,         21,         21,2,20130526,       0815,    30.0004,  -130.2911,       4614,   703.2,    5.115,  34.3477,2,  34.3471,2,       11,2,    11.4,2,   94.51,2,   41.94,2,       0,2,    3.18,2,-999.000,9,-999.000,9,-999.000,9,-999.0000,9,  2338.2,2, 2335.43,2,   7.3032,2,       25,-999.000,9,-999.0000,9, -999.00,9, -999.00,9,  -999.0,9,  -999.0,-999.000,9,-999.000,     -999.0,9, -999.00,9, -999.00,9, -999.00,9,     -999.0,9,  -999.0,9, 20130526,      954,  29.9998,-130.2922,     34.509,2,     -999.0,9,     -999.0,9,     5.1139,2,     -999.0,9,     -999.0,9,-999.0000, -999.00,-999.000
318M20130321,       P02E,     132,          1,         20,         20,2,20130526,       0815,    30.0004,  -130.2911,       4614,   805.2,   4.6163,  34.3803,2,  34.3785,2,     12.3,2,    12.3,2,  104.27,2,   42.98,2,       0,2,    3.21,2,   0.040,2,   0.025,2,-999.000,1,        0,2,  -999.0,9, -999.00,9,   7.3059,2,       25,-999.000,9,-999.0000,9, -999.00,9, -999.00,9,  -999.0,9,  -999.0,-999.000,9,-999.000,     -999.0,9, -999.00,9, -999.00,9, -999.00,9,     -999.0,1,  -999.0,9, 20130526,      951,  29.9997,-130.2925,    34.5406,2,     -999.0,9,     -999.0,9,      4.604,2,     -999.0,9,     -999.0,9,-999.0000, -999.00,-999.000
318M20130321,       P02E,     132,          1,         19,         19,2,20130526,       0815,    30.0004,  -130.2911,       4614,     907,   4.1832,  34.4168,2,  34.4146,2,     16.3,2,    16.7,2,  113.15,2,   43.49,2,       0,2,    3.21,2,-999.000,9,-999.000,9,-999.000,9,-999.0000,9,  -999.0,9, -999.00,9,   7.3145,2,       25,-999.000,9,-999.0000,9, -999.00,9, -999.00,9,  -999.0,9,  -999.0,-999.000,9,-999.000,     -999.0,9, -999.00,9, -999.00,9, -999.00,9,     -999.0,9,  -999.0,9, 20130526,      948,  29.9997,-130.2926,    34.5769,2,     -999.0,9,     -999.0,9,     4.1834,2,     -999.0,9,     -999.0,9,-999.0000, -999.00,-999.000
318M20130321,       P02E,     132,          1,         18,         18,2,20130526,       0815,    30.0004,  -130.2911,       4614,  1008.9,   3.8862,  34.4508,2,  34.4513,2,     23.2,2,    23.8,2,  118.91,2,   43.53,2,       0,2,    3.18,2,   0.010,2,   0.009,2,-999.000,1,        0,2,  2360.2,2, 2366.54,2,   7.3322,2,       25,-999.000,9,-999.0000,9, -999.00,9, -999.00,9,  -999.0,9,  -999.0,-999.000,9,-999.000,     -999.0,9, -999.00,9, -999.00,9, -999.00,9,     -999.0,1,  -999.0,9, 20130526,      944,  29.9997,-130.2926,    34.6138,2,     -999.0,9,     -999.0,9,     3.8855,2,     -999.0,9,     -999.0,9,-999.0000, -999.00,-999.000
318M20130321,       P02E,     132,          1,         17,         17,2,20130526,       0815,    30.0004,  -130.2911,       4614,  1109.3,   3.6431,   34.485,2,  34.4849,2,     31.3,2,    31.1,2,  124.17,2,   43.35,2,       0,2,    3.15,2,-999.000,9,-999.000,9,-999.000,9,-999.0000,9,  2361.9,2, 2376.24,2,   7.3483,6,       25,-999.000,9,-999.0000,9, -999.00,9, -999.00,9,  -999.0,9,  -999.0,-999.000,9,-999.000,     -999.0,9, -999.00,9, -999.00,9, -999.00,9,     -999.0,9,  -999.0,9, 20130526,      941,  29.9997,-130.2926,    34.6475,2,     -999.0,9,     -999.0,9,     3.6418,2,     -999.0,9,     -999.0,9,-999.0000, -999.00,-999.000
318M20130321,       P02E,     132,          1,         16,         16,2,20130526,       0815,    30.0004,  -130.2911,       4614,  1210.6,   3.4006,  34.5121,2,  34.5134,2,     37.6,2,      39,2,  129.44,2,    43.1,2,       0,2,    3.12,2,   0.006,2,   0.008,2,-999.000,1,        0,2,  2364.4,2, 2381.45,2,   7.3637,2,       25,-999.000,9,-999.0000,9, -999.00,9, -999.00,9,  -999.0,9,  -999.0,-999.000,9,-999.000,     -999.0,9, -999.00,9, -999.00,9, -999.00,9,     -999.0,1,  -999.0,9, 20130526,      938,  29.9997,-130.2926,    34.6762,2,     -999.0,9,     -999.0,9,     3.3951,2,     -999.0,9,     -999.0,9,-999.0000, -999.00,-999.000
318M20130321,       P02E,     132,          1,         15,         15,2,20130526,       0815,    30.0004,  -130.2911,       4614,  1310.9,   3.1981,  34.5309,2,  34.5301,2,     42.6,2,      43,2,  134.03,2,   42.93,2,       0,2,    3.09,2,-999.000,9,-999.000,9,-999.000,9,-999.0000,9,  -999.0,9, -999.00,9,-999.0000,9,  -999.00,-999.000,9,-999.0000,9, -999.00,9, -999.00,9,  -999.0,9,  -999.0,-999.000,9,-999.000,     -999.0,9, -999.00,9, -999.00,9, -999.00,9,     -999.0,9,  -999.0,9, 20130526,      934,  29.9997,-130.2925,    34.6929,2,     -999.0,9,     -999.0,9,     3.1984,2,     -999.0,9,     -999.0,9,-999.0000, -999.00,-999.000
318M20130321,       P02E,     132,          1,         14,         14,2,20130526,       0815,    30.0004,  -130.2911,       4614,    1412,   3.0387,  34.5448,2,  34.5443,2,     46.5,2,    46.9,2,  138.23,2,   42.78,2,       0,2,    3.08,2,   0.004,2,   0.004,2,-999.000,1,        0,2,  2365.9,2, 2392.05,2,   7.3814,2,       25,-999.000,9,-999.0000,9, -999.00,9, -999.00,9,  -999.0,9,  -999.0,-999.000,9,-999.000,     -999.0,9, -999.00,9, -999.00,9, -999.00,9,     -999.0,9,  -999.0,9, 20130526,      931,  29.9997,-130.2925,    34.7072,2,     -999.0,9,     -999.0,9,      3.039,2,     -999.0,9,     -999.0,9,-999.0000, -999.00,-999.000
318M20130321,       P02E,     132,          1,         13,         13,2,20130526,       0815,    30.0004,  -130.2911,       4614,  1615.3,    2.676,  34.5747,2,  34.5745,2,       58,2,    57.5,2,   155.6,4,   41.78,4,       0,4,    2.98,4,-999.000,9,-999.000,9,-999.000,9,-999.0000,9,  2369.4,2, 2401.25,2,   7.4014,2,       25,-999.000,9,-999.0000,9, -999.00,9, -999.00,9,  -999.0,9,  -999.0,-999.000,9,-999.000,     -999.0,9, -999.00,9, -999.00,9, -999.00,9,     -999.0,1,  -999.0,9, 20130526,      926,  29.9996,-130.2925,    34.7376,2,     -999.0,9,     -999.0,9,     2.6767,2,     -999.0,9,     -999.0,9,-999.0000, -999.00,-999.000
318M20130321,       P02E,     132,          1,         12,         12,2,20130526,       0815,    30.0004,  -130.2911,       4614,  1817.2,   2.3866,  34.5939,2,  34.5938,2,     66.9,2,    65.7,2,   155.2,2,    41.8,2,       0,2,    2.99,2,   0.004,2,   0.006,2,-999.000,1,        0,2,  -999.0,9, -999.00,9,-999.0000,9,  -999.00,-999.000,9,-999.0000,9, -999.00,9, -999.00,9,  -999.0,9,  -999.0,-999.000,9,-999.000,     -999.0,9, -999.00,9, -999.00,9, -999.00,9,     -999.0,9,  -999.0,9, 20130526,      921,  29.9997,-130.2922,    34.7569,2,     -999.0,9,     -999.0,9,     2.3866,2,     -999.0,9,     -999.0,9,-999.0000, -999.00,-999.000
318M20130321,       P02E,     132,          1,         11,         11,2,20130526,       0815,    30.0004,  -130.2911,       4614,  2021.6,   2.1243,  34.6162,2,   34.616,2,     77.1,2,      78,2,  161.35,2,   41.06,2,       0,2,    2.92,2,-999.000,9,-999.000,9,-999.000,9,-999.0000,9,  2370.4,2, 2415.26,2,   7.4399,2,       25,-999.000,9,-999.0000,9, -999.00,9, -999.00,9,  -999.0,9,  -999.0,-999.000,9,-999.000,     -999.0,9, -999.00,9, -999.00,9, -999.00,9,     -999.0,1,  -999.0,9, 20130526,      916,  29.9997,-130.2919,    34.7792,2,     -999.0,9,     -999.0,9,     2.1251,2,     -999.0,9,     -999.0,9,-999.0000, -999.00,-999.000
318M20130321,       P02E,     132,          1,         10,         10,2,20130526,       0815,    30.0004,  -130.2911,       4614,  2275.2,   1.9245,   34.634,2,  34.6337,2,     90.3,2,    89.1,2,  166.13,2,   40.35,2,       0,2,    2.85,2,   0.002,2,   0.006,2,-999.000,1,        0,2,  -999.0,9, -999.00,9,-999.0000,9,  -999.00,-999.000,9,-999.0000,9, -999.00,9, -999.00,9,  -999.0,9,  -999.0,-999.000,9,-999.000,     -999.0,9, -999.00,9, -999.00,9, -999.00,9,     -999.0,9,  -999.0,9, 20130526,      910,  29.9995, -130.292,     34.797,2,     -999.0,9,     -999.0,9,     1.9249,2,     -999.0,9,     -999.0,9,-999.0000, -999.00,-999.000
318M20130321,       P02E,     132,          1,          9,          9,2,20130526,       0815,    30.0004,  -130.2911,       4614,  2519.5,   1.7703,  34.6474,2,  34.6477,2,     99.5,2,    99.8,2,  168.77,2,   39.64,2,       0,2,    2.79,2,-999.000,9,-999.000,9,-999.000,9,-999.0000,9,  2363.6,2, 2423.96,2,   7.4826,2,       25,-999.000,9,-999.0000,9, -999.00,9, -999.00,9,  -999.0,9,  -999.0,-999.000,9,-999.000,     -999.0,9, -999.00,9, -999.00,9, -999.00,9,     -999.0,1,  -999.0,9, 20130526,      904,  29.9999,-130.2924,    34.8111,2,     -999.0,9,     -999.0,9,     1.7703,2,     -999.0,9,     -999.0,9,-999.0000, -999.00,-999.000
318M20130321,       P02E,     132,          1,          8,          8,2,20130526,       0815,    30.0004,  -130.2911,       4614,  2782.7,   1.6512,  34.6579,2,  34.6577,2,    110.6,2,   110.3,2,  170.72,2,   39.01,2,       0,2,    2.73,2,   0.004,2,   0.006,2,-999.000,1,        0,2,  -999.0,9, -999.00,9,-999.0000,9,  -999.00,-999.000,9,-999.0000,9, -999.00,9, -999.00,9,  -999.0,9,  -999.0,-999.000,9,-999.000,     -999.0,9, -999.00,9, -999.00,9, -999.00,9,     -999.0,9,  -999.0,9, 20130526,      858,  30.0001,-130.2922,    34.8211,2,     -999.0,9,     -999.0,9,     1.6509,2,     -999.0,9,     -999.0,9,-999.0000, -999.00,-999.000
318M20130321,       P02E,     132,          1,          7,          7,2,20130526,       0815,    30.0004,  -130.2911,       4614,  3038.7,   1.5706,  34.6663,2,   34.666,2,    117.9,2,   119.1,2,  170.81,2,    38.5,2,       0,2,    2.68,2,-999.000,9,-999.000,9,-999.000,9,-999.0000,9,  2353.8,2, 2427.06,6,   7.5196,2,       25,-999.000,9,-999.0000,9, -999.00,9, -999.00,9,  -999.0,9,  -999.0,-999.000,9,-999.000,     -999.0,9, -999.00,9, -999.00,9, -999.00,9,     -999.0,9,  -999.0,9, 20130526,      852,  29.9999,-130.2917,    34.8295,2,     -999.0,9,     -999.0,9,     1.5706,2,     -999.0,9,     -999.0,9,-999.0000, -999.00,-999.000
318M20130321,       P02E,     132,          1,          6,          6,2,20130526,       0815,    30.0004,  -130.2911,       4614,  3347.5,   1.5082,  34.6751,2,  34.6756,2,    129.2,2,   129.3,2,  169.45,2,   37.88,2,       0,2,    2.64,2,   0.002,2,   0.007,2,-999.000,1,        0,2,  -999.0,9, -999.00,9,-999.0000,9,  -999.00,-999.000,9,-999.0000,9, -999.00,9, -999.00,9,  -999.0,9,  -999.0,-999.000,9,-999.000,     -999.0,9, -999.00,9, -999.00,9, -999.00,9,     -999.0,9,  -999.0,9, 20130526,      845,  29.9996,-130.2914,    34.8391,2,     -999.0,9,     -999.0,9,     1.5085,2,     -999.0,9,     -999.0,9,-999.0000, -999.00,-999.000