BOTTLE,20220817CCHSIOAMB
EXPOCODE,SECT_ID,STNNBR,CASTNO,SAMPNO,BTLNBR,BTLNBR_FLAG_W,DATE,TIME,LATITUDE,LONGITUDE,DEPTH,CTDPRS,CTDTMP,CTDSAL,CTDSAL_FLAG_W,SALNTY,SALNTY_FLAG_W,CTDOXY,CTDOXY_FLAG_W,OXYGEN,OXYGEN_FLAG_W,SILCAT,SILCAT_FLAG_W,NITRAT,NITRAT_FLAG_W,NITRIT,NITRIT_FLAG_W,PHSPHT,PHSPHT_FLAG_W,CFC-11,CFC-11_FLAG_W,CFC-12,CFC-12_FLAG_W,CFC113,CFC113_FLAG_W,SF6,SF6_FLAG_W,TCARBN,TCARBN_FLAG_W,ALKALI,ALKALI_FLAG_W,PH_TOT,PH_TOT_FLAG_W,PH_TMP,TRITUM,TRITUM_FLAG_W,HELIUM,HELIUM_FLAG_W,DELHE3,DELHE3_FLAG_W,DELC13,DELC13_FLAG_W,DELC14,DELC14_FLAG_W,C14ERR,NEON,NEON_FLAG_W,NEONER,I-129,I-129_FLAG_W,SR-90,SR-90_FLAG_W,DOC,DOC_FLAG_W,TDN,TDN_FLAG_W,CALCIUM,CALCIUM_FLAG_W,D15N_NO3,D15N_NO3_FLAG_W,BTL_DATE,BTL_TIME,BTL_LAT,BTL_LON,SALTREF,SALTREF_FLAG_W,CS-137,CS-137_FLAG_W,CS-134,CS-134_FLAG_W,REFTMP,REFTMP_FLAG_W,LAB_DEN,LAB_DEN_FLAG_W,D18O_NO3,D18O_NO3_FLAG_W,HELIER,DELHER,TRITER
,,,,,,,,,,,METERS,DBAR,ITS-90,PSS-78,,PSS-78,,UMOL/KG,,UMOL/KG,,UMOL/KG,,UMOL/KG,,UMOL/KG,,UMOL/KG,,PMOL/KG,,PMOL/KG,,PMOL/KG,,FMOL/KG,,UMOL/KG,,UMOL/KG,,,,DEG C,TU,,NMOL/KG,,PERCNT,,/MILLE,,/MILLE,,/MILLE,NMOL/KG,,NMOL/KG,BQ/M^3,,DM/.1MG,,UMOL/KG,,UMOL/KG,,MMOL/KG,,/MILLE,,,,,,G/KG,,BQ/M^3,,BQ/M^3,,ITS-90,,,,/MILLE,,NMOL/KG,PERCNT,TU
318M20130321,       P02W,      66,          1,          7,          7,2,20130426,       0607,    29.9999,   174.6168,       5366,  3752.2,   1.4662,    34.68,2,  34.6804,2,    143.9,2,   144.3,2,   154.9,2,    36.6,2,       0,2,    2.56,2,-999.000,9,-999.000,9,-999.000,9,-999.0000,9,  -999.0,9, -999.00,9,-999.0000,9,  -999.00,-999.000,9,-999.0000,9, -999.00,9, -999.00,9,  -999.0,9,  -999.0,-999.000,9,-999.000,     -999.0,9, -999.00,9, -999.00,9, -999.00,9,     -999.0,9,  -999.0,9, 20130426,      642,       30, 174.6168,     34.844,2,     -999.0,9,     -999.0,9,     1.4662,2,     -999.0,9,     -999.0,9,-999.0000, -999.00,-999.000
318M20130321,       P02W,      66,          1,          6,          6,2,20130426,       0607,    29.9999,   174.6168,       5366,  4056.2,   1.4681,  34.6832,2,  34.6863,3,    147.3,2,   148.6,2,  153.34,2,   36.34,2,       0,2,    2.53,2,   0.008,2,   0.011,2,   0.008,2,     0.07,2,  -999.0,9, -999.00,9,-999.0000,9,  -999.00,-999.000,9,-999.0000,9, -999.00,9, -999.00,9,  -999.0,9,  -999.0,-999.000,9,-999.000,     -999.0,9, -999.00,9, -999.00,9, -999.00,9,     -999.0,9,  -999.0,9, 20130426,      636,  29.9999, 174.6168,    34.8499,3,     -999.0,9,     -999.0,9,     1.4677,2,     -999.0,9,     -999.0,9,-999.0000, -999.00,-999.000
318M20130321,       P02W,      66,          1,          5,         37,2,20130426,       0607,    29.9999,   174.6168,       5366,  4366.2,   1.4678,   34.687,2,  34.6871,2,    154.1,2,   153.9,2,  150.31,2,   35.97,2,       0,2,     2.5,2,-999.000,9,-999.000,9,-999.000,9,-999.0000,9,  2323.8,2, 2415.66,6,    7.572,2,       25,-999.000,9,-999.0000,9, -999.00,9, -999.00,9,  -999.0,9,  -999.0,-999.000,9,-999.000,     -999.0,9, -999.00,9, -999.00,9, -999.00,9,     -999.0,9,  -999.0,9, 20130426,      629,       30, 174.6168,    34.8507,2,     -999.0,9,     -999.0,9,     1.4674,2,     -999.0,9,     -999.0,9,-999.0000, -999.00,-999.000
318M20130321,       P02W,      66,          1,          4,          4,2,20130426,       0607,    29.9999,   174.6168,       5366,  4677.4,   1.4735,    34.69,2,  34.6903,2,    159.3,2,   159.3,2,  147.87,2,   35.58,2,       0,2,    2.47,2,   0.007,2,   0.010,2,   0.008,2,     0.03,2,  -999.0,9, -999.00,9,-999.0000,9,  -999.00,-999.000,9,-999.0000,9, -999.00,9, -999.00,9,  -999.0,9,  -999.0,-999.000,9,-999.000,     -999.0,9, -999.00,9, -999.00,9, -999.00,9,     -999.0,9,  -999.0,9, 20130426,      623,       30, 174.6168,    34.8538,2,     -999.0,9,     -999.0,9,     1.4739,2,     -999.0,9,     -999.0,9,-999.0000, -999.00,-999.000
318M20130321,       P02W,      66,          1,          3,          3,2,20130426,       0607,    29.9999,   174.6168,       5366,  4982.6,   1.4789,  34.6926,2,  34.6934,2,    163.6,2,   164.3,2,  143.48,2,   35.18,2,       0,2,    2.44,2,   0.013,2,   0.008,2,   0.003,2,        0,2,    2311,2, 2408.46,2,   7.5872,2,       25,-999.000,9,-999.0000,9, -999.00,9, -999.00,9,  -999.0,9,  -999.0,-999.000,9,-999.000,     -999.0,9, -999.00,9, -999.00,9, -999.00,9,     -999.0,9,  -999.0,9, 20130426,      617,       30, 174.6168,     34.857,2,     -999.0,9,     -999.0,9,     1.4789,2,     -999.0,9,     -999.0,9,-999.0000, -999.00,-999.000
318M20130321,       P02W,      66,          1,          2,          2,2,20130426,       0607,    29.9999,   174.6168,       5366,  5287.8,   1.4967,  34.6943,2,   34.695,2,    168.9,2,   168.2,2,  140.26,2,   34.91,2,       0,2,    2.43,2,   0.012,2,   0.011,2,   0.009,2,        0,2,  2309.5,2, 2406.75,2,   7.5892,2,       25,-999.000,9,-999.0000,9, -999.00,9, -999.00,9,  -999.0,9,  -999.0,-999.000,9,-999.000,     -999.0,9, -999.00,9, -999.00,9, -999.00,9,     -999.0,9,  -999.0,9, 20130426,      611,  29.9999, 174.6168,    34.8586,2,     -999.0,9,     -999.0,9,     1.4965,2,     -999.0,9,     -999.0,9,-999.0000, -999.00,-999.000
318M20130321,       P02W,      66,          1,          1,          1,2,20130426,       0607,    29.9999,   174.6168,       5366,  5459.5,   1.4673,  34.6979,2,  34.6983,2,    176.4,2,   176.3,2,  133.91,2,   34.29,2,       0,2,    2.37,2,   0.025,2,   0.012,2,   0.011,2,     0.02,2,  2299.6,6, 2401.35,2,   7.5962,2,       25,-999.000,9,-999.0000,9, -999.00,9, -999.00,9,  -999.0,9,  -999.0,-999.000,9,-999.000,     -999.0,9, -999.00,9, -999.00,9, -999.00,9,     -999.0,9,  -999.0,9, 20130426,      606,  29.9999, 174.6168,    34.8619,2,     -999.0,9,     -999.0,9,     1.4672,2,     -999.0,9,     -999.0,9,-999.0000, -999.00,-999.000