BOTTLE,20220817CCHSIOAMB
EXPOCODE,SECT_ID,STNNBR,CASTNO,SAMPNO,BTLNBR,BTLNBR_FLAG_W,DATE,TIME,LATITUDE,LONGITUDE,DEPTH,CTDPRS,CTDTMP,CTDSAL,CTDSAL_FLAG_W,SALNTY,SALNTY_FLAG_W,CTDOXY,CTDOXY_FLAG_W,OXYGEN,OXYGEN_FLAG_W,SILCAT,SILCAT_FLAG_W,NITRAT,NITRAT_FLAG_W,NITRIT,NITRIT_FLAG_W,PHSPHT,PHSPHT_FLAG_W,CFC-11,CFC-11_FLAG_W,CFC-12,CFC-12_FLAG_W,CFC113,CFC113_FLAG_W,SF6,SF6_FLAG_W,TCARBN,TCARBN_FLAG_W,ALKALI,ALKALI_FLAG_W,PH_TOT,PH_TOT_FLAG_W,PH_TMP,TRITUM,TRITUM_FLAG_W,HELIUM,HELIUM_FLAG_W,DELHE3,DELHE3_FLAG_W,DELC13,DELC13_FLAG_W,DELC14,DELC14_FLAG_W,C14ERR,NEON,NEON_FLAG_W,NEONER,I-129,I-129_FLAG_W,SR-90,SR-90_FLAG_W,DOC,DOC_FLAG_W,TDN,TDN_FLAG_W,CALCIUM,CALCIUM_FLAG_W,D15N_NO3,D15N_NO3_FLAG_W,BTL_DATE,BTL_TIME,BTL_LAT,BTL_LON,SALTREF,SALTREF_FLAG_W,CS-137,CS-137_FLAG_W,CS-134,CS-134_FLAG_W,REFTMP,REFTMP_FLAG_W,LAB_DEN,LAB_DEN_FLAG_W,D18O_NO3,D18O_NO3_FLAG_W,HELIER,DELHER,TRITER
,,,,,,,,,,,METERS,DBAR,ITS-90,PSS-78,,PSS-78,,UMOL/KG,,UMOL/KG,,UMOL/KG,,UMOL/KG,,UMOL/KG,,UMOL/KG,,PMOL/KG,,PMOL/KG,,PMOL/KG,,FMOL/KG,,UMOL/KG,,UMOL/KG,,,,DEG C,TU,,NMOL/KG,,PERCNT,,/MILLE,,/MILLE,,/MILLE,NMOL/KG,,NMOL/KG,BQ/M^3,,DM/.1MG,,UMOL/KG,,UMOL/KG,,MMOL/KG,,/MILLE,,,,,,G/KG,,BQ/M^3,,BQ/M^3,,ITS-90,,,,/MILLE,,NMOL/KG,PERCNT,TU
318M20130321,       P02W,      63,          3,          7,          7,2,20130425,       0820,         30,   172.4701,       5594,  3751.1,   1.4559,  34.6812,2,  34.6814,2,    145.9,2,   146.2,2,  153.15,2,   36.32,2,       0,2,    2.58,2,-999.000,9,-999.000,9,-999.000,9,-999.0000,9,  -999.0,9, -999.00,9,-999.0000,9,  -999.00,-999.000,9,-999.0000,9, -999.00,9, -999.00,9,  -999.0,9,  -999.0,-999.000,9,-999.000,     -999.0,9, -999.00,9,   35.48,2, -999.00,9,     -999.0,9,  -999.0,1, 20130425,      859,       30, 172.4702,    34.8449,2,     -999.0,9,     -999.0,9,     1.4559,2,     -999.0,9,     -999.0,1,-999.0000, -999.00,-999.000
318M20130321,       P02W,      63,          3,          6,          6,2,20130425,       0820,         30,   172.4701,       5594,    4056,   1.4526,  34.6849,2,  34.6857,2,    151.7,2,   151.8,2,   150.7,2,   35.99,2,       0,2,    2.55,2,  -0.001,2,   0.005,2,   0.007,2,     0.05,2,  2322.4,2, 2416.06,2,   7.5689,2,       25,-999.000,9,-999.0000,9, -999.00,9, -999.00,9,  -999.0,9,  -999.0,-999.000,9,-999.000,     -999.0,9, -999.00,9, -999.00,9, -999.00,9,     -999.0,9,  -999.0,1, 20130425,      853,       30, 172.4702,    34.8493,2,     -999.0,9,     -999.0,9,     1.4527,2,     -999.0,1,     -999.0,1,-999.0000, -999.00,-999.000
318M20130321,       P02W,      63,          3,          5,         37,2,20130425,       0820,         30,   172.4701,       5594,  4367.5,    1.452,  34.6883,2,  34.6893,2,    157.1,2,   156.9,2,  148.07,2,   35.59,2,       0,2,    2.51,2,-999.000,9,-999.000,9,-999.000,9,-999.0000,9,  -999.0,9, -999.00,9,-999.0000,9,  -999.00,-999.000,9,-999.0000,9, -999.00,9, -999.00,9,  -999.0,9,  -999.0,-999.000,9,-999.000,     -999.0,9, -999.00,9,   34.91,2, -999.00,9,     -999.0,9,  -999.0,1, 20130425,      847,       30, 172.4701,    34.8528,2,     -999.0,9,     -999.0,9,     1.4523,2,     -999.0,9,     -999.0,1,-999.0000, -999.00,-999.000
318M20130321,       P02W,      63,          3,          4,          4,2,20130425,       0820,         30,   172.4701,       5594,  4713.6,    1.455,  34.6918,2,  34.6926,2,      163,2,   163.5,2,  143.58,2,    35.2,2,       0,2,    2.48,2,  -0.008,2,   0.005,2,   0.011,2,     0.04,2,  2312.7,2, 2410.76,6,   7.5838,2,       25,-999.000,9,-999.0000,9, -999.00,9, -999.00,9,  -999.0,9,  -999.0,-999.000,9,-999.000,     -999.0,9, -999.00,9, -999.00,9, -999.00,9,     -999.0,9,  -999.0,1, 20130425,      841,       30, 172.4701,    34.8562,2,     -999.0,9,     -999.0,9,     1.4554,2,     -999.0,1,     -999.0,1,-999.0000, -999.00,-999.000
318M20130321,       P02W,      63,          3,          3,          3,2,20130425,       0820,         30,   172.4701,       5594,  5127.9,   1.4686,   34.695,2,  34.6953,2,      169,2,   169.4,2,   138.5,2,   34.67,2,       0,2,    2.43,2,   0.006,2,   0.005,2,   0.025,2,     0.06,2,  2305.6,2, 2405.95,2,    7.589,6,       25,-999.000,9,-999.0000,9, -999.00,9, -999.00,9,  -999.0,9,  -999.0,-999.000,9,-999.000,     -999.0,9, -999.00,9,   35.83,2, -999.00,9,     -999.0,9,  -999.0,1, 20130425,      833,       30, 172.4701,     34.859,2,     -999.0,9,     -999.0,9,     1.4689,2,     -999.0,1,     -999.0,1,-999.0000, -999.00,-999.000
318M20130321,       P02W,      63,          3,          2,          2,2,20130425,       0820,         30,   172.4701,       5594,  5453.5,   1.4788,  34.6973,2,  34.6977,2,    174.8,2,   174.6,2,   134.7,2,   34.32,2,       0,2,    2.39,2,   0.000,4,   0.000,4,   0.000,4,        0,4,  2299.6,2, 2401.15,2,   7.5941,2,       25,-999.000,9,-999.0000,9, -999.00,9, -999.00,9,  -999.0,9,  -999.0,-999.000,9,-999.000,     -999.0,9, -999.00,9,   36.44,2, -999.00,9,     -999.0,9,  -999.0,1, 20130425,      826,       30, 172.4701,    34.8613,2,     -999.0,9,     -999.0,9,      1.479,2,     -999.0,1,     -999.0,1,-999.0000, -999.00,-999.000
318M20130321,       P02W,      63,          3,          1,          1,2,20130425,       0820,         30,   172.4701,       5594,    5691,   1.4917,  34.6983,2,  34.6991,2,    177.4,2,   177.3,2,  132.84,2,   34.08,2,       0,2,    2.39,2,   0.037,2,   0.026,2,   0.004,2,     0.04,2,  2295.9,6, 2399.55,2,   7.5945,2,       25,-999.000,9,-999.0000,9, -999.00,9, -999.00,9,  -999.0,9,  -999.0,-999.000,9,-999.000,     -999.0,9, -999.00,9,    35.6,2, -999.00,9,     -999.0,9,  -999.0,1, 20130425,      820,       30, 172.4701,    34.8627,2,     -999.0,9,     -999.0,9,     1.4914,2,     -999.0,1,     -999.0,1,-999.0000, -999.00,-999.000