BOTTLE,20220817CCHSIOAMB
EXPOCODE,SECT_ID,STNNBR,CASTNO,SAMPNO,BTLNBR,BTLNBR_FLAG_W,DATE,TIME,LATITUDE,LONGITUDE,DEPTH,CTDPRS,CTDTMP,CTDSAL,CTDSAL_FLAG_W,SALNTY,SALNTY_FLAG_W,CTDOXY,CTDOXY_FLAG_W,OXYGEN,OXYGEN_FLAG_W,SILCAT,SILCAT_FLAG_W,NITRAT,NITRAT_FLAG_W,NITRIT,NITRIT_FLAG_W,PHSPHT,PHSPHT_FLAG_W,CFC-11,CFC-11_FLAG_W,CFC-12,CFC-12_FLAG_W,CFC113,CFC113_FLAG_W,SF6,SF6_FLAG_W,TCARBN,TCARBN_FLAG_W,ALKALI,ALKALI_FLAG_W,PH_TOT,PH_TOT_FLAG_W,PH_TMP,TRITUM,TRITUM_FLAG_W,HELIUM,HELIUM_FLAG_W,DELHE3,DELHE3_FLAG_W,DELC13,DELC13_FLAG_W,DELC14,DELC14_FLAG_W,C14ERR,NEON,NEON_FLAG_W,NEONER,I-129,I-129_FLAG_W,SR-90,SR-90_FLAG_W,DOC,DOC_FLAG_W,TDN,TDN_FLAG_W,CALCIUM,CALCIUM_FLAG_W,D15N_NO3,D15N_NO3_FLAG_W,BTL_DATE,BTL_TIME,BTL_LAT,BTL_LON,SALTREF,SALTREF_FLAG_W,CS-137,CS-137_FLAG_W,CS-134,CS-134_FLAG_W,REFTMP,REFTMP_FLAG_W,LAB_DEN,LAB_DEN_FLAG_W,D18O_NO3,D18O_NO3_FLAG_W,HELIER,DELHER,TRITER
,,,,,,,,,,,METERS,DBAR,ITS-90,PSS-78,,PSS-78,,UMOL/KG,,UMOL/KG,,UMOL/KG,,UMOL/KG,,UMOL/KG,,UMOL/KG,,PMOL/KG,,PMOL/KG,,PMOL/KG,,FMOL/KG,,UMOL/KG,,UMOL/KG,,,,DEG C,TU,,NMOL/KG,,PERCNT,,/MILLE,,/MILLE,,/MILLE,NMOL/KG,,NMOL/KG,BQ/M^3,,DM/.1MG,,UMOL/KG,,UMOL/KG,,MMOL/KG,,/MILLE,,,,,,G/KG,,BQ/M^3,,BQ/M^3,,ITS-90,,,,/MILLE,,NMOL/KG,PERCNT,TU
318M20130321,       P02E,     127,          1,         36,         36,2,20130524,       1937,    30.0002,  -134.1326,       4636,     3.2,   18.382,   34.393,2,  34.3933,2,    239.2,2,   239.6,2,    2.25,2,       0,2,       0,2,    0.07,2,   2.218,6,   1.329,6,-999.000,1,    1.527,6,  2030.2,2, 2276.71,2,   7.9522,2,       25,   0.642,2,   1.7742,2,   -1.01,2,    1.15,2,    33.5,2,     2.5,   7.201,2,   0.033,     -999.0,9, -999.00,9,   60.14,2,    4.76,2,     -999.0,9,  -999.0,1, 20130524,     2138,  30.0003,-134.1325,    34.5555,2,     -999.0,9,     -999.0,9,    18.3826,2,     -999.0,9,     -999.0,1,   0.0075,    0.15,   0.011
318M20130321,       P02E,     127,          1,         34,         34,2,20130524,       1937,    30.0002,  -134.1326,       4636,    35.6,  18.3308,  34.3931,2,  34.3925,2,    239.5,2,   239.7,2,    2.15,2,       0,2,       0,2,    0.08,2,-999.000,9,-999.000,9,-999.000,9,-999.0000,9,  -999.0,9, -999.00,9,-999.0000,9,  -999.00,   0.610,2,   1.7646,2,   -1.14,2, -999.00,9,  -999.0,9,  -999.0,   7.270,2,   0.033,     -999.0,9, -999.00,9,   61.76,2,    3.77,2,     -999.0,9,  -999.0,1, 20130524,     2135,  30.0002,-134.1322,    34.5547,2,     -999.0,9,     -999.0,9,    18.3313,2,     -999.0,9,     -999.0,1,   0.0074,    0.15,   0.011
318M20130321,       P02E,     127,          1,         33,         33,2,20130524,       1937,    30.0002,  -134.1326,       4636,    64.8,  18.0078,  34.4463,2,  34.4442,2,    243.5,2,     243,2,    2.34,2,       0,2,       0,2,    0.06,2,   2.254,2,   1.347,2,-999.000,1,   1.4569,2,  2028.1,2, 2277.61,2,   7.9576,6,       25,-999.000,9,-999.0000,9, -999.00,9, -999.00,9,  -999.0,9,  -999.0,-999.000,9,-999.000,     -999.0,9, -999.00,9,   61.45,2,    3.96,2,     -999.0,9,  -999.0,1, 20130524,     2133,  30.0002,-134.1321,    34.6066,2,     -999.0,9,     -999.0,9,    18.0038,2,     -999.0,9,     -999.0,1,-999.0000, -999.00,-999.000
318M20130321,       P02E,     127,          1,         32,         32,2,20130524,       1937,    30.0002,  -134.1326,       4636,    90.1,  17.5437,  34.5102,2,  34.5198,2,    241.8,2,   241.3,2,    2.54,2,       0,2,       0,2,    0.06,2,-999.000,9,-999.000,9,-999.000,9,-999.0000,9,  2028.6,2, 2278.61,2,   7.9586,2,       25,-999.000,9,-999.0000,9, -999.00,9, -999.00,9,  -999.0,9,  -999.0,-999.000,9,-999.000,     -999.0,9, -999.00,9,   60.47,2,    4.09,2,     -999.0,9,  -999.0,1, 20130524,     2131,  30.0002,-134.1321,    34.6826,2,     -999.0,9,     -999.0,9,    17.5424,2,     -999.0,9,     -999.0,1,-999.0000, -999.00,-999.000
318M20130321,       P02E,     127,          1,         31,         31,2,20130524,       1937,    30.0002,  -134.1326,       4636,   114.8,  17.5515,  34.5882,2,  34.5852,2,      238,2,   237.9,2,    2.34,2,       0,2,       0,2,    0.05,2,   2.253,2,   1.348,2,-999.000,1,   1.5394,2,  -999.0,9, -999.00,9,-999.0000,9,  -999.00,   0.557,2,   1.7878,2,   -1.02,2, -999.00,9,  -999.0,9,  -999.0,   7.295,2,   0.034,     -999.0,9, -999.00,9,   59.08,2,    3.86,2,     -999.0,9,  -999.0,1, 20130524,     2129,  30.0001,-134.1322,    34.7483,2,     -999.0,9,     -999.0,9,    17.5635,2,     -999.0,9,     -999.0,1,   0.0075,    0.15,   0.010
318M20130321,       P02E,     127,          1,         30,         30,2,20130524,       1937,    30.0002,  -134.1326,       4636,     166,  15.5158,  34.2175,2,   34.177,3,    236.8,2,   230.1,2,    3.32,2,    1.68,2,    0.05,2,    0.24,2,-999.000,9,-999.000,9,-999.000,9,-999.0000,9,  2042.9,2,  2257.1,6,   7.8979,2,       25,-999.000,9,-999.0000,9, -999.00,9,    0.83,2,    29.0,2,     2.3,-999.000,9,-999.000,     -999.0,9, -999.00,9,   53.69,2,    6.24,2,     -999.0,9,  -999.0,1, 20130524,     2127,       30,-134.1322,    34.3382,3,     -999.0,9,     -999.0,9,    15.5065,2,     -999.0,9,     -999.0,1,-999.0000, -999.00,-999.000
318M20130321,       P02E,     127,          1,         29,         29,2,20130524,       1937,    30.0002,  -134.1326,       4636,   217.5,  11.1938,  33.8304,2,  33.8264,2,    219.5,2,   219.8,2,    9.38,2,    9.54,2,    0.01,2,    0.77,2,   3.115,2,   1.762,2,-999.000,1,   1.5592,2,  -999.0,9, -999.00,9,-999.0000,9,  -999.00,   0.564,2,   1.7846,2,   -0.57,2, -999.00,9,  -999.0,9,  -999.0,   7.610,2,   0.035,     -999.0,9, -999.00,9,   47.38,2,   13.77,3,     -999.0,9,  -999.0,1, 20130524,     2125,  29.9999,-134.1322,    33.9859,2,     -999.0,9,     -999.0,9,    11.1178,3,     -999.0,9,     -999.0,1,   0.0075,    0.15,   0.010
318M20130321,       P02E,     127,          1,         27,         27,2,20130524,       1937,    30.0002,  -134.1326,       4636,   266.8,   9.7155,  33.9762,2,  33.9734,2,    198.8,2,   199.1,2,   18.36,2,   16.42,2,    0.01,2,     1.2,2,-999.000,9,-999.000,9,-999.000,9,-999.0000,9,  2118.1,2,  2249.7,2,   7.7038,2,       25,-999.000,9,-999.0000,9, -999.00,9,    0.19,2,    21.6,2,     2.3,-999.000,9,-999.000,     -999.0,9, -999.00,9,   44.72,2,   22.37,3,     -999.0,9,  -999.0,1, 20130524,     2122,  29.9998,-134.1321,    34.1336,2,     -999.0,9,     -999.0,9,     9.7089,2,     -999.0,9,     -999.0,1,-999.0000, -999.00,-999.000
318M20130321,       P02E,     127,          1,         26,         26,2,20130524,       1937,    30.0002,  -134.1326,       4636,     318,   8.3766,  33.9979,2,  33.9985,2,    169.8,2,     168,2,   29.88,2,   22.61,2,       0,2,    1.62,2,   3.097,2,   1.648,2,-999.000,1,   1.0772,2,  2160.5,2,  2260.2,2,   7.6135,6,       25,   0.492,2,   1.8291,2,    4.73,2,   -0.03,2,     6.3,2,     2.2,   7.806,2,   0.036,     -999.0,9, -999.00,9,   42.02,2,   28.44,3,     -999.0,9,  -999.0,1, 20130524,     2120,  29.9998,-134.1319,    34.1588,2,     -999.0,9,     -999.0,9,     8.3837,2,     -999.0,9,     -999.0,1,   0.0077,    0.15,   0.010
318M20130321,       P02E,     127,          1,         25,         25,2,20130524,       1937,    30.0002,  -134.1326,       4636,   368.8,   7.7136,  33.9943,2,   33.995,2,    140.6,2,     142,2,    37.6,2,   26.27,2,       0,2,    1.89,2,-999.000,9,-999.000,9,-999.000,9,-999.0000,9,  2188.2,2,  2265.5,2,   7.5498,2,       25,-999.000,9,-999.0000,9, -999.00,9,   -0.21,2,    -9.7,2,     2.2,-999.000,9,-999.000,     -999.0,9, -999.00,9,   43.57,2, -999.00,9,     -999.0,9,  -999.0,1, 20130524,     2118,  29.9998,-134.1318,    34.1553,2,     -999.0,9,     -999.0,9,     7.7094,2,     -999.0,9,     -999.0,1,-999.0000, -999.00,-999.000
318M20130321,       P02E,     127,          1,         24,         24,2,20130524,       1937,    30.0002,  -134.1326,       4636,     441,   6.3902,  34.0095,2,  34.0089,2,     87.1,2,      86,2,   56.64,2,   33.88,2,       0,2,    2.46,2,   2.129,2,   1.060,2,-999.000,1,   0.4781,2,  2247.4,2, 2280.51,2,   7.4102,2,       25,   0.397,2,   1.8410,2,   12.00,2,   -0.34,2,   -52.7,2,     2.1,   7.901,2,   0.036,     -999.0,9, -999.00,9,   42.36,2, -999.00,9,     -999.0,9,  -999.0,1, 20130524,     2116,  29.9998,-134.1318,    34.1693,2,     -999.0,9,     -999.0,9,     6.3972,2,     -999.0,9,     -999.0,1,   0.0077,    0.15,   0.010
318M20130321,       P02E,     127,          1,         23,         23,2,20130524,       1937,    30.0002,  -134.1326,       4636,   539.5,   5.4345,  34.0745,2,  34.0744,2,     50.4,2,    50.5,2,   75.39,2,    38.5,2,       0,2,    2.82,2,-999.000,9,-999.000,9,-999.000,9,-999.0000,9,    2289,2, 2299.02,2,   7.3367,2,       25,   0.316,2,   1.8755,2,   15.34,2, -999.00,5,  -999.0,5,  -999.0,   8.083,2,   0.037,     -999.0,9, -999.00,9,   41.09,2, -999.00,9,     -999.0,9,  -999.0,1, 20130524,     2113,  29.9998,-134.1319,    34.2351,2,     -999.0,9,     -999.0,9,     5.4335,2,     -999.0,9,     -999.0,1,   0.0079,    0.15,   0.010
318M20130321,       P02E,     127,          1,         22,         22,2,20130524,       1937,    30.0002,  -134.1326,       4636,     641,   4.7937,  34.1679,2,  34.1681,2,     28.5,2,    28.1,2,   92.08,2,   41.17,2,       0,2,    3.03,2,   0.458,2,   0.224,2,-999.000,1,   0.1239,2,    2320,2, 2319.72,2,   7.3019,2,       25,   0.186,2,   1.9016,2,   16.49,2, -999.00,5,  -999.0,5,  -999.0,   8.054,2,   0.037,     -999.0,9, -999.00,9,   37.01,2, -999.00,9,     -999.0,9,  -999.0,1, 20130524,     2110,  29.9998,-134.1319,    34.3292,2,     -999.0,9,     -999.0,9,     4.7938,2,     -999.0,9,     -999.0,1,   0.0080,    0.15,   0.010
318M20130321,       P02E,     127,          1,         21,         21,2,20130524,       1937,    30.0002,  -134.1326,       4636,   741.3,   4.4001,  34.2762,2,  34.2764,2,     16.5,2,    15.8,2,  104.76,2,    42.6,2,       0,2,    3.15,2,-999.000,9,-999.000,9,-999.000,9,-999.0000,9,  2343.1,2, 2338.03,2,   7.2906,2,       25,   0.055,2,   1.8843,2,   15.98,2,   -0.52,2,  -171.2,2,     1.8,   8.033,2,   0.037,     -999.0,9, -999.00,9,   36.08,2, -999.00,9,     -999.0,9,  -999.0,1, 20130524,     2107,  29.9999,-134.1319,     34.438,2,     -999.0,9,     -999.0,9,     4.4018,2,     -999.0,9,     -999.0,1,   0.0079,    0.15,   0.010
318M20130321,       P02E,     127,          1,         20,         20,2,20130524,       1937,    30.0002,  -134.1326,       4636,   841.1,   4.1718,  34.3602,2,  34.3601,2,     15.3,2,    17.6,2,  111.88,2,   43.02,2,       0,2,    3.19,2,   0.036,2,   0.020,2,-999.000,1,        0,2,  2352.1,2, 2351.94,2,   7.3036,2,       25,-999.000,9,-999.0000,9, -999.00,9,   -0.45,2,  -191.3,2,     2.2,-999.000,9,-999.000,     -999.0,9, -999.00,9,   36.23,2, -999.00,9,     -999.0,9,  -999.0,1, 20130524,     2104,       30,-134.1319,    34.5222,2,     -999.0,9,     -999.0,9,     4.1721,2,     -999.0,9,     -999.0,1,-999.0000, -999.00,-999.000
318M20130321,       P02E,     127,          1,         19,         19,2,20130524,       1937,    30.0002,  -134.1326,       4636,   943.1,   3.8826,  34.4275,2,  34.4292,2,     22.6,2,    22.9,2,  118.32,2,   43.01,2,       0,2,    3.17,2,-999.000,9,-999.000,9,-999.000,9,-999.0000,9,  2357.2,2, 2364.24,2,   7.3263,2,       25,   0.004,2,   1.9153,2,   18.70,2,   -0.38,2,  -203.7,2,     1.7,   8.026,2,   0.037,     -999.0,9, -999.00,9,   34.61,2, -999.00,9,     -999.0,9,  -999.0,1, 20130524,     2101,  30.0001, -134.132,    34.5916,2,     -999.0,9,     -999.0,9,     3.8826,2,     -999.0,9,     -999.0,1,   0.0080,    0.15,   0.010
318M20130321,       P02E,     127,          1,         18,         18,2,20130524,       1937,    30.0002,  -134.1326,       4636,  1043.6,   3.6306,  34.4655,2,  34.4656,2,     28.2,2,    32.1,2,  123.49,2,    42.9,2,       0,2,    3.13,2,   0.009,2,   0.006,2,-999.000,1,        0,2,  -999.0,9, -999.00,9,-999.0000,9,  -999.00,   0.016,2,   1.8790,2,   19.48,2, -999.00,9,  -999.0,9,  -999.0,   8.049,2,   0.037,     -999.0,9, -999.00,9,    37.1,2, -999.00,9,     -999.0,9,  -999.0,1, 20130524,     2058,  30.0001, -134.132,    34.6281,2,     -999.0,9,     -999.0,9,      3.627,2,     -999.0,9,     -999.0,1,   0.0079,    0.15,   0.010
318M20130321,       P02E,     127,          1,         17,         17,2,20130524,       1937,    30.0002,  -134.1326,       4636,    1144,   3.4666,  34.4927,2,  34.4927,2,     35.8,2,      37,2,  126.91,2,   42.67,2,       0,2,     3.1,2,-999.000,9,-999.000,9,-999.000,9,-999.0000,9,  2360.3,2, 2378.14,2,   7.3576,2,       25,  -0.005,2,   1.9267,2,   21.13,2,   -0.31,2,  -221.3,2,     1.8,   8.092,2,   0.037,     -999.0,9, -999.00,9,   36.47,2, -999.00,9,     -999.0,9,  -999.0,1, 20130524,     2055,       30,-134.1321,    34.6553,2,     -999.0,9,     -999.0,9,     3.4693,2,     -999.0,9,     -999.0,1,   0.0081,    0.15,   0.010
318M20130321,       P02E,     127,          1,         16,         16,2,20130524,       1937,    30.0002,  -134.1326,       4636,    1246,   3.2305,   34.518,2,  34.5184,2,     42.8,2,    43.1,2,  132.37,2,   42.41,2,       0,2,    3.07,2,   0.006,2,   0.004,2,-999.000,1,        0,2,  -999.0,9, -999.00,9,-999.0000,9,  -999.00,-999.000,9,-999.0000,9, -999.00,9, -999.00,9,  -999.0,9,  -999.0,-999.000,9,-999.000,     -999.0,9, -999.00,9,   33.76,2, -999.00,9,     -999.0,9,  -999.0,1, 20130524,     2052,  29.9999,-134.1323,    34.6812,2,     -999.0,9,     -999.0,9,     3.2314,2,     -999.0,9,     -999.0,1,-999.0000, -999.00,-999.000
318M20130321,       P02E,     127,          1,         15,         15,2,20130524,       1937,    30.0002,  -134.1326,       4636,    1347,   3.0307,  34.5372,2,  34.5384,2,       49,2,    47.9,2,  137.05,2,   42.14,2,       0,2,    3.03,2,-999.000,9,-999.000,9,-999.000,9,-999.0000,9,  2364.2,2, 2391.85,2,   7.3821,6,       25,   0.011,2,   1.9368,2,   21.76,2,   -0.29,2,  -232.6,2,     1.6,   8.115,2,   0.037,     -999.0,9, -999.00,9,   34.62,2, -999.00,9,     -999.0,9,  -999.0,1, 20130524,     2050,  29.9999,-134.1324,    34.7013,2,     -999.0,9,     -999.0,9,     3.0297,2,     -999.0,9,     -999.0,1,   0.0081,    0.15,   0.011
318M20130321,       P02E,     127,          1,         14,         14,2,20130524,       1937,    30.0002,  -134.1326,       4636,  1479.1,   2.7846,   34.558,2,  34.5587,2,     54.8,2,      54,2,  144.08,2,   41.87,2,       0,2,    3.02,2,   0.006,2,   0.004,2,-999.000,1,        0,2,  -999.0,9, -999.00,9,-999.0000,9,  -999.00,   0.003,2,   1.9147,2,   22.04,2, -999.00,9,  -999.0,9,  -999.0,   8.055,2,   0.037,     -999.0,9, -999.00,9,   34.46,2, -999.00,9,     -999.0,9,  -999.0,1, 20130524,     2046,  29.9998,-134.1326,    34.7216,2,     -999.0,9,     -999.0,9,     2.7843,2,     -999.0,9,     -999.0,1,   0.0080,    0.15,   0.011
318M20130321,       P02E,     127,          1,         13,         13,2,20130524,       1937,    30.0002,  -134.1326,       4636,  1680.7,   2.4605,  34.5836,2,   34.584,2,     63.4,2,    63.4,2,  152.77,2,    41.4,2,       0,2,    2.98,2,-999.000,9,-999.000,9,-999.000,9,-999.0000,9,  2371.1,6, 2406.65,2,   7.4109,2,       25,  -0.007,2,   1.9725,2,   23.20,2,   -0.24,2,  -243.9,2,     1.6,   8.197,2,   0.038,     -999.0,9, -999.00,9,   34.61,2, -999.00,9,     -999.0,9,  -999.0,1, 20130524,     2042,  29.9999,-134.1327,    34.7471,2,     -999.0,9,     -999.0,9,       2.46,2,     -999.0,9,     -999.0,1,   0.0083,    0.15,   0.011
318M20130321,       P02E,     127,          1,         12,         12,2,20130524,       1937,    30.0002,  -134.1326,       4636,  1884.1,   2.1765,  34.6076,2,  34.6076,2,     74.4,2,    73.7,2,  160.08,2,   40.74,2,       0,2,    2.91,2,   0.003,2,   0.002,2,-999.000,1,        0,2,  2370.4,2, 2414.56,2,   7.4307,2,       25,-999.000,9,-999.0000,9, -999.00,9,   -0.21,2,  -250.8,2,     2.0,-999.000,9,-999.000,     -999.0,9, -999.00,9,   34.15,2, -999.00,9,     -999.0,9,  -999.0,1, 20130524,     2037,  29.9998,-134.1329,    34.7708,2,     -999.0,9,     -999.0,9,     2.1765,2,     -999.0,9,     -999.0,1,-999.0000, -999.00,-999.000
318M20130321,       P02E,     127,          1,         11,         11,2,20130524,       1937,    30.0002,  -134.1326,       4636,  2110.4,   1.9519,  34.6265,2,  34.6265,2,     84.5,2,    85.1,2,  165.94,2,   40.07,2,       0,2,    2.85,2,-999.000,9,-999.000,9,-999.000,9,-999.0000,9,  2367.8,2, 2418.96,2,   7.4531,2,       25,   0.020,2,   1.9534,2,   23.17,2,   -0.18,2,  -250.3,2,     2.2,   8.326,2,   0.038,     -999.0,9, -999.00,9,   34.26,2, -999.00,9,     -999.0,9,  -999.0,1, 20130524,     2032,       30,-134.1326,    34.7898,2,     -999.0,9,     -999.0,9,     1.9521,2,     -999.0,9,     -999.0,1,   0.0082,    0.15,   0.011
318M20130321,       P02E,     127,          1,         10,         10,2,20130524,       1937,    30.0002,  -134.1326,       4636,  2359.6,   1.7926,   34.642,2,   34.642,2,     95.4,2,    95.8,2,  168.67,2,   39.38,2,       0,2,     2.8,2,   0.004,2,   0.002,2,-999.000,1,        0,2,  -999.0,9, -999.00,9,-999.0000,9,  -999.00,  -0.006,2,   1.9353,2,   22.59,2, -999.00,9,  -999.0,9,  -999.0,   8.206,2,   0.038,     -999.0,9, -999.00,9, -999.00,9, -999.00,9,     -999.0,9,  -999.0,1, 20130524,     2027,  29.9999,-134.1323,    34.8054,2,     -999.0,9,     -999.0,9,     1.7926,2,     -999.0,9,     -999.0,1,   0.0081,    0.15,   0.011
318M20130321,       P02E,     127,          1,          9,          9,2,20130524,       1937,    30.0002,  -134.1326,       4636,  2615.7,   1.6684,  34.6546,2,  34.6556,2,    105.5,2,   105.3,2,  170.62,2,   38.79,2,       0,2,    2.74,2,-999.000,9,-999.000,9,-999.000,9,-999.0000,9,  2360.3,2, 2426.66,2,   7.4959,2,       25,  -0.002,2,   1.9013,2,   21.03,2, -999.00,9,  -999.0,9,  -999.0,   8.148,2,   0.037,     -999.0,9, -999.00,9,   33.45,2, -999.00,9,     -999.0,9,  -999.0,1, 20130524,     2021,  30.0002,-134.1329,     34.819,2,     -999.0,9,     -999.0,9,     1.6682,2,     -999.0,9,     -999.0,1,   0.0080,    0.15,   0.011
318M20130321,       P02E,     127,          1,          8,          8,2,20130524,       1937,    30.0002,  -134.1326,       4636,  2872.7,     1.58,  34.6638,2,  34.6636,2,    114.7,2,   114.7,2,   171.2,2,   38.26,2,       0,2,    2.69,2,   0.010,2,   0.008,2,-999.000,1,        0,2,  -999.0,9, -999.00,9,-999.0000,9,  -999.00,   0.018,3,   1.9266,2,   19.52,2, -999.00,9,  -999.0,9,  -999.0,   8.256,2,   0.038,     -999.0,9, -999.00,9, -999.00,9, -999.00,9,     -999.0,9,  -999.0,1, 20130524,     2015,  30.0003,-134.1327,    34.8271,2,     -999.0,9,     -999.0,9,     1.5801,2,     -999.0,9,     -999.0,1,   0.0081,    0.15,   0.011
318M20130321,       P02E,     127,          1,          7,          7,2,20130524,       1937,    30.0002,  -134.1326,       4636,  3141.3,   1.5156,  34.6715,2,  34.6719,2,    124.3,2,     124,2,  169.45,2,   37.74,2,       0,2,    2.65,2,-999.000,9,-999.000,9,-999.000,9,-999.0000,9,    2350,2, 2427.86,2,   7.5299,6,       25,  -0.008,2,   1.9165,2,   18.26,2, -999.00,9,  -999.0,9,  -999.0,   8.252,2,   0.038,     -999.0,9, -999.00,9,    34.6,2, -999.00,9,     -999.0,9,  -999.0,1, 20130524,     2010,       30,-134.1324,    34.8354,2,     -999.0,9,     -999.0,9,     1.5155,2,     -999.0,9,     -999.0,1,   0.0080,    0.15,   0.011
318M20130321,       P02E,     127,          1,          6,          6,2,20130524,       1937,    30.0002,  -134.1326,       4636,  3444.6,   1.4747,  34.6787,2,  34.6782,2,    134.1,2,   134.1,2,  166.81,2,   37.13,2,       0,2,     2.6,2,    -999,5,    -999,5,-999.000,1,     -999,5,  -999.0,9, -999.00,9,-999.0000,9,  -999.00,   0.001,2,   1.9074,2,   17.00,2, -999.00,9,  -999.0,9,  -999.0,   8.096,3,   0.037,     -999.0,9, -999.00,9, -999.00,9, -999.00,9,     -999.0,9,  -999.0,1, 20130524,     2003,  29.9999,-134.1323,    34.8417,2,     -999.0,9,     -999.0,9,     1.4751,2,     -999.0,9,     -999.0,1,   0.0080,    0.15,   0.011