BOTTLE,20220817CCHSIOAMB
EXPOCODE,SECT_ID,STNNBR,CASTNO,SAMPNO,BTLNBR,BTLNBR_FLAG_W,DATE,TIME,LATITUDE,LONGITUDE,DEPTH,CTDPRS,CTDTMP,CTDSAL,CTDSAL_FLAG_W,SALNTY,SALNTY_FLAG_W,CTDOXY,CTDOXY_FLAG_W,OXYGEN,OXYGEN_FLAG_W,SILCAT,SILCAT_FLAG_W,NITRAT,NITRAT_FLAG_W,NITRIT,NITRIT_FLAG_W,PHSPHT,PHSPHT_FLAG_W,CFC-11,CFC-11_FLAG_W,CFC-12,CFC-12_FLAG_W,CFC113,CFC113_FLAG_W,SF6,SF6_FLAG_W,TCARBN,TCARBN_FLAG_W,ALKALI,ALKALI_FLAG_W,PH_TOT,PH_TOT_FLAG_W,PH_TMP,TRITUM,TRITUM_FLAG_W,HELIUM,HELIUM_FLAG_W,DELHE3,DELHE3_FLAG_W,DELC13,DELC13_FLAG_W,DELC14,DELC14_FLAG_W,C14ERR,NEON,NEON_FLAG_W,NEONER,I-129,I-129_FLAG_W,SR-90,SR-90_FLAG_W,DOC,DOC_FLAG_W,TDN,TDN_FLAG_W,CALCIUM,CALCIUM_FLAG_W,D15N_NO3,D15N_NO3_FLAG_W,BTL_DATE,BTL_TIME,BTL_LAT,BTL_LON,SALTREF,SALTREF_FLAG_W,CS-137,CS-137_FLAG_W,CS-134,CS-134_FLAG_W,REFTMP,REFTMP_FLAG_W,LAB_DEN,LAB_DEN_FLAG_W,D18O_NO3,D18O_NO3_FLAG_W,HELIER,DELHER,TRITER
,,,,,,,,,,,METERS,DBAR,ITS-90,PSS-78,,PSS-78,,UMOL/KG,,UMOL/KG,,UMOL/KG,,UMOL/KG,,UMOL/KG,,UMOL/KG,,PMOL/KG,,PMOL/KG,,PMOL/KG,,FMOL/KG,,UMOL/KG,,UMOL/KG,,,,DEG C,TU,,NMOL/KG,,PERCNT,,/MILLE,,/MILLE,,/MILLE,NMOL/KG,,NMOL/KG,BQ/M^3,,DM/.1MG,,UMOL/KG,,UMOL/KG,,MMOL/KG,,/MILLE,,,,,,G/KG,,BQ/M^3,,BQ/M^3,,ITS-90,,,,/MILLE,,NMOL/KG,PERCNT,TU
318M20130321,       P02E,     147,          1,          5,         37,2,20130530,       0949,    31.5297,  -120.7555,       3909,  3140.6,   1.6126,  34.6686,2,  34.6694,2,    119.3,2,   119.9,2,  168.47,2,   38.33,2,       0,2,    2.67,2,   0.007,2,   0.011,2,-999.000,1,        0,2,  -999.0,9, -999.00,9,-999.0000,9,  -999.00,-999.000,9,-999.0000,9, -999.00,9, -999.00,9,  -999.0,9,  -999.0,-999.000,9,-999.000,     -999.0,9, -999.00,9,   38.91,2, -999.00,9,     -999.0,9,  -999.0,9, 20130530,     1007,  31.5297,-120.7555,    34.8329,2,     -999.0,9,     -999.0,9,     1.6126,2,     -999.0,9,     -999.0,9,-999.0000, -999.00,-999.000
318M20130321,       P02E,     147,          1,          4,          4,2,20130530,       0949,    31.5297,  -120.7555,       3909,  3446.4,   1.5643,  34.6738,2,  34.6763,3,    125.7,2,   125.6,2,  169.93,2,   37.98,2,       0,2,    2.65,2,   0.014,2,   0.016,2,-999.000,1,        0,2,  2352.2,2, 2430.46,6,   7.5351,2,       25,-999.000,9,-999.0000,9, -999.00,9, -999.00,9,  -999.0,9,  -999.0,-999.000,9,-999.000,     -999.0,9, -999.00,9,   36.63,2, -999.00,9,     -999.0,9,  -999.0,9, 20130530,     1001,  31.5297,-120.7555,    34.8398,3,     -999.0,9,     -999.0,9,     1.5645,2,     -999.0,9,     -999.0,9,-999.0000, -999.00,-999.000
318M20130321,       P02E,     147,          1,          3,          3,2,20130530,       0949,    31.5297,  -120.7555,       3909,  3755.7,   1.5534,  34.6772,2,  34.6767,2,    130.1,2,   128.9,2,  170.32,2,   37.78,2,       0,2,    2.63,2,   0.026,2,   0.023,2,-999.000,1,        0,2,  -999.0,9, -999.00,9,-999.0000,9,  -999.00,-999.000,9,-999.0000,9, -999.00,9, -999.00,9,  -999.0,9,  -999.0,-999.000,9,-999.000,     -999.0,9, -999.00,9,   36.56,2, -999.00,9,     -999.0,9,  -999.0,9, 20130530,      954,  31.5297,-120.7555,    34.8402,2,     -999.0,9,     -999.0,9,     1.5535,2,     -999.0,9,     -999.0,9,-999.0000, -999.00,-999.000
318M20130321,       P02E,     147,          1,          2,          2,2,20130530,       0949,    31.5297,  -120.7555,       3909,  3954.4,    1.552,  34.6786,2,  34.6791,2,    130.8,2,   130.6,2,  170.52,2,   37.63,2,       0,2,    2.63,2,   0.014,2,   0.019,2,-999.000,1,        0,2,  2348.5,6, 2432.96,2,   7.5464,2,       25,-999.000,9,-999.0000,9, -999.00,9, -999.00,9,  -999.0,9,  -999.0,-999.000,9,-999.000,     -999.0,9, -999.00,9,    36.5,2, -999.00,9,     -999.0,9,  -999.0,9, 20130530,      949,  31.5297,-120.7555,    34.8426,2,     -999.0,9,     -999.0,9,     1.5518,2,     -999.0,9,     -999.0,9,-999.0000, -999.00,-999.000