BOTTLE,20220817CCHSIOAMB
EXPOCODE,SECT_ID,STNNBR,CASTNO,SAMPNO,BTLNBR,BTLNBR_FLAG_W,DATE,TIME,LATITUDE,LONGITUDE,DEPTH,CTDPRS,CTDTMP,CTDSAL,CTDSAL_FLAG_W,SALNTY,SALNTY_FLAG_W,CTDOXY,CTDOXY_FLAG_W,OXYGEN,OXYGEN_FLAG_W,SILCAT,SILCAT_FLAG_W,NITRAT,NITRAT_FLAG_W,NITRIT,NITRIT_FLAG_W,PHSPHT,PHSPHT_FLAG_W,CFC-11,CFC-11_FLAG_W,CFC-12,CFC-12_FLAG_W,CFC113,CFC113_FLAG_W,SF6,SF6_FLAG_W,TCARBN,TCARBN_FLAG_W,ALKALI,ALKALI_FLAG_W,PH_TOT,PH_TOT_FLAG_W,PH_TMP,TRITUM,TRITUM_FLAG_W,HELIUM,HELIUM_FLAG_W,DELHE3,DELHE3_FLAG_W,DELC13,DELC13_FLAG_W,DELC14,DELC14_FLAG_W,C14ERR,NEON,NEON_FLAG_W,NEONER,I-129,I-129_FLAG_W,SR-90,SR-90_FLAG_W,DOC,DOC_FLAG_W,TDN,TDN_FLAG_W,CALCIUM,CALCIUM_FLAG_W,D15N_NO3,D15N_NO3_FLAG_W,BTL_DATE,BTL_TIME,BTL_LAT,BTL_LON,SALTREF,SALTREF_FLAG_W,CS-137,CS-137_FLAG_W,CS-134,CS-134_FLAG_W,REFTMP,REFTMP_FLAG_W,LAB_DEN,LAB_DEN_FLAG_W,D18O_NO3,D18O_NO3_FLAG_W,HELIER,DELHER,TRITER
,,,,,,,,,,,METERS,DBAR,ITS-90,PSS-78,,PSS-78,,UMOL/KG,,UMOL/KG,,UMOL/KG,,UMOL/KG,,UMOL/KG,,UMOL/KG,,PMOL/KG,,PMOL/KG,,PMOL/KG,,FMOL/KG,,UMOL/KG,,UMOL/KG,,,,DEG C,TU,,NMOL/KG,,PERCNT,,/MILLE,,/MILLE,,/MILLE,NMOL/KG,,NMOL/KG,BQ/M^3,,DM/.1MG,,UMOL/KG,,UMOL/KG,,MMOL/KG,,/MILLE,,,,,,G/KG,,BQ/M^3,,BQ/M^3,,ITS-90,,,,/MILLE,,NMOL/KG,PERCNT,TU
318M20130321,       P02W,      77,          1,         35,         35,2,20130429,       1017,    29.9999,  -178.1333,       5315,     2.8,  19.4549,  35.0737,2,  35.0722,2,    227.5,2,   228.3,2,    2.05,2,       0,2,       0,2,    0.05,2,   2.374,2,   1.490,2,   0.189,2,      1.4,2,  2017.4,6, 2302.42,2,   8.0151,2,       25,-999.000,9,-999.0000,9, -999.00,9, -999.00,9,  -999.0,9,  -999.0,-999.000,9,-999.000,     -999.0,9, -999.00,9,   62.01,2,     4.3,2,     -999.0,9,  -999.0,1, 20130429,     1227,  30.0013,-178.1337,    35.2376,2,     -999.0,9,     -999.0,9,    19.4568,2,     -999.0,9,     -999.0,1,-999.0000, -999.00,-999.000
318M20130321,       P02W,      77,          1,         36,         36,2,20130429,       1017,    29.9999,  -178.1333,       5315,    26.4,  19.4802,  35.0733,2,  35.0728,2,    226.1,2,   228.3,2,    2.05,2,       0,2,       0,2,    0.06,2,   2.360,2,   1.463,2,   0.187,2,     1.47,2,  -999.0,9, -999.00,9,-999.0000,9,  -999.00,-999.000,9,-999.0000,9, -999.00,9, -999.00,9,  -999.0,9,  -999.0,-999.000,9,-999.000,     -999.0,9, -999.00,9,   62.88,2,    4.43,2,     -999.0,9,  -999.0,1, 20130429,     1225,  30.0012,-178.1339,    35.2382,2,     -999.0,9,     -999.0,9,      19.48,2,     -999.0,9,     -999.0,1,-999.0000, -999.00,-999.000
318M20130321,       P02W,      77,          1,         34,         34,2,20130429,       1017,    29.9999,  -178.1333,       5315,    50.4,  19.4658,  35.0665,2,  35.0667,2,    227.7,2,   228.1,2,    2.05,2,       0,2,       0,2,    0.05,2,   2.371,2,   1.461,2,   0.194,2,      1.7,2,  2018.7,2, 2301.12,2,   8.0154,6,       25,-999.000,9,-999.0000,9, -999.00,9, -999.00,9,  -999.0,9,  -999.0,-999.000,9,-999.000,     -999.0,9, -999.00,9,   62.64,2,    3.99,2,     -999.0,9,  -999.0,1, 20130429,     1224,  30.0012, -178.134,    35.2321,2,     -999.0,9,     -999.0,9,    19.4651,2,     -999.0,9,     -999.0,1,-999.0000, -999.00,-999.000
318M20130321,       P02W,      77,          1,         33,         33,2,20130429,       1017,    29.9999,  -178.1333,       5315,    75.9,  18.3625,   34.812,2,  34.7947,3,    218.9,2,   218.3,2,    3.03,2,    1.27,2,    0.07,2,    0.16,2,   2.532,2,   1.412,2,   0.149,2,     1.67,2,  -999.0,9, -999.00,9,-999.0000,9,  -999.00,-999.000,9,-999.0000,9, -999.00,9, -999.00,9,  -999.0,9,  -999.0,-999.000,9,-999.000,     -999.0,9, -999.00,9,   54.54,2,    5.43,2,     -999.0,9,  -999.0,1, 20130429,     1222,  30.0009,-178.1339,    34.9587,3,     -999.0,9,     -999.0,9,    18.3667,2,     -999.0,9,     -999.0,1,-999.0000, -999.00,-999.000
318M20130321,       P02W,      77,          1,         32,         32,2,20130429,       1017,    29.9999,  -178.1333,       5315,    99.5,  17.3715,  34.6857,2,  34.6866,2,    223.9,2,   220.4,2,    3.42,2,    2.22,2,    0.13,2,     0.2,2,   2.644,2,   1.621,2,   0.157,2,     1.68,2,  2028.4,2, 2276.11,6,   7.9598,6,       25,-999.000,9,-999.0000,9, -999.00,9, -999.00,9,  -999.0,9,  -999.0,-999.000,9,-999.000,     -999.0,9, -999.00,9,   51.69,2,    5.84,2,     -999.0,9,  -999.0,1, 20130429,     1220,  30.0008,-178.1339,    34.8501,2,     -999.0,9,     -999.0,9,    17.3744,2,     -999.0,9,     -999.0,1,-999.0000, -999.00,-999.000
318M20130321,       P02W,      77,          1,         31,         31,2,20130429,       1017,    29.9999,  -178.1333,       5315,   149.7,  16.3674,  34.6072,2,  34.6076,2,      225,2,   229.2,2,     4.2,2,    2.98,2,    0.03,2,    0.24,2,   2.764,2,   1.691,2,   0.186,2,     1.52,2,  2027.1,2, 2271.81,2,   7.9521,2,       25,-999.000,9,-999.0000,9, -999.00,9, -999.00,9,  -999.0,9,  -999.0,-999.000,9,-999.000,     -999.0,9, -999.00,9,   50.25,2, -999.00,5,     -999.0,9,  -999.0,1, 20130429,     1218,  30.0008, -178.134,    34.7708,2,     -999.0,9,     -999.0,9,    16.3747,2,     -999.0,9,     -999.0,1,-999.0000, -999.00,-999.000
318M20130321,       P02W,      77,          1,         30,         30,2,20130429,       1017,    29.9999,  -178.1333,       5315,   200.9,  15.2349,  34.5407,2,  34.5398,2,    214.4,2,   212.1,2,    7.03,2,    6.77,2,    0.01,2,    0.49,2,   2.857,2,   1.694,2,   0.088,2,     1.56,2,  2052.1,2, 2270.41,2,   7.9015,2,       25,-999.000,9,-999.0000,9, -999.00,9, -999.00,9,  -999.0,9,  -999.0,-999.000,9,-999.000,     -999.0,9, -999.00,9,   46.89,2,    9.93,2,     -999.0,9,  -999.0,1, 20130429,     1216,  30.0006, -178.134,    34.7027,2,     -999.0,9,     -999.0,9,    15.2294,2,     -999.0,9,     -999.0,1,-999.0000, -999.00,-999.000
318M20130321,       P02W,      77,          1,         29,         29,2,20130429,       1017,    29.9999,  -178.1333,       5315,   251.1,  14.4724,  34.4904,2,  34.4876,2,    206.2,2,   211.2,2,    8.79,2,    8.07,2,    0.01,2,    0.58,2,   2.964,2,   1.737,2,   0.089,2,     1.38,2,  -999.0,9, -999.00,9,-999.0000,9,  -999.00,-999.000,9,-999.0000,9, -999.00,9, -999.00,9,  -999.0,9,  -999.0,-999.000,9,-999.000,     -999.0,9, -999.00,9,   46.91,2, -999.00,5,     -999.0,9,  -999.0,1, 20130429,     1214,  30.0004,-178.1337,    34.6502,2,     -999.0,9,     -999.0,9,    14.4711,2,     -999.0,9,     -999.0,1,-999.0000, -999.00,-999.000
318M20130321,       P02W,      77,          1,         28,         28,2,20130429,       1017,    29.9999,  -178.1333,       5315,   303.3,  13.3587,  34.4223,2,  34.4256,2,    209.5,2,   207.5,2,   12.01,2,    10.3,2,    0.01,2,    0.73,2,   3.101,2,   1.781,2,   0.078,2,     1.38,2,  2076.7,2, 2268.91,2,   7.8462,2,       25,-999.000,9,-999.0000,9, -999.00,9, -999.00,9,  -999.0,9,  -999.0,-999.000,9,-999.000,     -999.0,9, -999.00,9,   45.16,2,   14.03,2,     -999.0,9,  -999.0,1, 20130429,     1211,  30.0004,-178.1335,    34.5879,2,     -999.0,9,     -999.0,9,    13.3823,2,     -999.0,9,     -999.0,1,-999.0000, -999.00,-999.000
318M20130321,       P02W,      77,          1,         27,         27,2,20130429,       1017,    29.9999,  -178.1333,       5315,   350.3,  12.1263,   34.331,2,  34.3292,2,    208.1,2,     211,2,   15.04,2,   12.12,2,    0.01,2,    0.88,2,   3.370,2,   1.885,2,   0.106,2,     1.29,2,  -999.0,9, -999.00,9,-999.0000,9,  -999.00,-999.000,9,-999.0000,9, -999.00,9, -999.00,9,  -999.0,9,  -999.0,-999.000,9,-999.000,     -999.0,9, -999.00,9,   45.59,2, -999.00,9,     -999.0,9,  -999.0,1, 20130429,     1209,  30.0004,-178.1335,    34.4911,2,     -999.0,9,     -999.0,9,    12.1259,2,     -999.0,9,     -999.0,1,-999.0000, -999.00,-999.000
318M20130321,       P02W,      77,          1,         26,         26,2,20130429,       1017,    29.9999,  -178.1333,       5315,   401.8,  11.1605,  34.2619,2,  34.2617,2,      205,2,     205,2,   18.55,2,   14.46,2,       0,2,    1.03,2,-999.000,9,-999.000,9,-999.000,9,-999.0000,9,  2106.2,2, 2267.31,2,   7.7782,2,       25,-999.000,9,-999.0000,9, -999.00,9, -999.00,9,  -999.0,9,  -999.0,-999.000,9,-999.000,     -999.0,9, -999.00,9,   45.08,2, -999.00,9,     -999.0,9,  -999.0,1, 20130429,     1207,  30.0007,-178.1335,    34.4233,2,     -999.0,9,     -999.0,9,    11.1699,2,     -999.0,9,     -999.0,1,-999.0000, -999.00,-999.000
318M20130321,       P02W,      77,          1,         25,         25,2,20130429,       1017,    29.9999,  -178.1333,       5315,   503.3,   8.8838,  34.1095,2,  34.1076,2,    185.5,2,   184.1,2,   31.74,2,   20.65,2,       0,2,     1.5,2,   3.354,2,   1.820,2,   0.134,2,     1.17,2,  2148.1,2, 2270.41,2,    7.679,2,       25,-999.000,9,-999.0000,9, -999.00,9, -999.00,9,  -999.0,9,  -999.0,-999.000,9,-999.000,     -999.0,9, -999.00,9, -999.00,5, -999.00,9,     -999.0,9,  -999.0,1, 20130429,     1204,  30.0006,-178.1336,    34.2685,2,     -999.0,9,     -999.0,9,     8.8928,2,     -999.0,9,     -999.0,1,-999.0000, -999.00,-999.000
318M20130321,       P02W,      77,          1,         24,         24,2,20130429,       1017,    29.9999,  -178.1333,       5315,   603.4,   6.7465,  34.0238,2,  34.0222,2,    138.6,2,   141.9,2,   52.93,2,   28.44,2,       0,2,    2.08,2,-999.000,9,-999.000,9,-999.000,9,-999.0000,9,  2206.1,2, 2282.31,2,   7.5519,2,       25,-999.000,9,-999.0000,9, -999.00,9, -999.00,9,  -999.0,9,  -999.0,-999.000,9,-999.000,     -999.0,9, -999.00,9,   46.57,2, -999.00,9,     -999.0,9,  -999.0,1, 20130429,     1201,  30.0005,-178.1336,    34.1826,2,     -999.0,9,     -999.0,9,     6.7724,2,     -999.0,9,     -999.0,1,-999.0000, -999.00,-999.000
318M20130321,       P02W,      77,          1,         23,         23,2,20130429,       1017,    29.9999,  -178.1333,       5315,   704.5,   5.2581,  34.0574,2,  34.0555,2,     93.8,2,    92.9,2,   77.34,2,   35.33,2,       0,2,     2.6,2,   1.807,2,   0.925,2,   0.076,2,     0.44,2,  2263.8,2, 2301.22,2,   7.4308,2,       25,-999.000,9,-999.0000,9, -999.00,9, -999.00,9,  -999.0,9,  -999.0,-999.000,9,-999.000,     -999.0,9, -999.00,9,   41.01,2, -999.00,9,     -999.0,9,  -999.0,1, 20130429,     1158,  30.0002,-178.1336,    34.2161,2,     -999.0,9,     -999.0,9,     5.2646,2,     -999.0,9,     -999.0,1,-999.0000, -999.00,-999.000
318M20130321,       P02W,      77,          1,         22,         22,2,20130429,       1017,    29.9999,  -178.1333,       5315,   805.5,   4.4591,  34.1479,2,  34.1459,2,     57.2,2,    54.2,2,   97.65,2,   39.96,2,       0,2,    2.94,2,-999.000,9,-999.000,9,-999.000,9,-999.0000,9,  2309.5,2, 2322.02,2,   7.3531,2,       25,-999.000,9,-999.0000,9, -999.00,9, -999.00,9,  -999.0,9,  -999.0,-999.000,9,-999.000,     -999.0,9, -999.00,9,   38.02,2, -999.00,9,     -999.0,9,  -999.0,1, 20130429,     1155,  30.0001,-178.1338,    34.3069,2,     -999.0,9,     -999.0,9,     4.4609,2,     -999.0,9,     -999.0,1,-999.0000, -999.00,-999.000
318M20130321,       P02W,      77,          1,         21,         21,2,20130429,       1017,    29.9999,  -178.1333,       5315,   907.3,    3.893,  34.2482,2,  34.2471,2,     29.2,2,    29.7,2,  114.53,2,   42.64,2,       0,2,     3.1,2,   0.329,2,   0.165,2,   0.016,2,      0.1,2,  2342.6,2, 2345.03,2,   7.3152,2,       25,-999.000,9,-999.0000,9, -999.00,9, -999.00,9,  -999.0,9,  -999.0,-999.000,9,-999.000,     -999.0,9, -999.00,9,   38.95,2, -999.00,9,     -999.0,9,  -999.0,1, 20130429,     1153,  30.0001,-178.1339,    34.4085,2,     -999.0,9,     -999.0,9,     3.8933,2,     -999.0,9,     -999.0,1,-999.0000, -999.00,-999.000
318M20130321,       P02W,      77,          1,         20,         20,2,20130429,       1017,    29.9999,  -178.1333,       5315,  1008.6,   3.5572,  34.3184,2,  34.3173,2,     21.7,2,    22.7,2,  125.85,2,   43.58,2,       0,2,    3.19,2,-999.000,9,-999.000,9,-999.000,9,-999.0000,9,  2358.2,2, 2359.14,2,   7.3076,2,       25,-999.000,9,-999.0000,9, -999.00,9, -999.00,9,  -999.0,9,  -999.0,-999.000,9,-999.000,     -999.0,9, -999.00,9,   37.87,2, -999.00,9,     -999.0,9,  -999.0,1, 20130429,     1150,       30, -178.134,    34.4791,2,     -999.0,9,     -999.0,9,     3.5576,2,     -999.0,9,     -999.0,1,-999.0000, -999.00,-999.000
318M20130321,       P02W,      77,          1,         19,         19,2,20130429,       1017,    29.9999,  -178.1333,       5315,  1108.8,   3.2799,  34.3848,2,  34.3844,2,     20.8,2,    22.2,2,  135.12,2,   43.88,2,       0,2,    3.21,2,   0.074,2,   0.042,2,   0.007,2,     0.09,2,    2369,2, 2370.94,2,   7.3126,6,       25,-999.000,9,-999.0000,9, -999.00,9, -999.00,9,  -999.0,9,  -999.0,-999.000,9,-999.000,     -999.0,9, -999.00,9,   37.94,2, -999.00,9,     -999.0,9,  -999.0,1, 20130429,     1148,       30, -178.134,    34.5465,2,     -999.0,9,     -999.0,9,     3.2798,2,     -999.0,9,     -999.0,1,-999.0000, -999.00,-999.000
318M20130321,       P02W,      77,          1,         18,         18,2,20130429,       1017,    29.9999,  -178.1333,       5315,  1205.3,   3.0684,  34.4321,2,  34.4315,2,     24.7,2,    25.4,2,  140.78,2,    43.9,2,       0,2,    3.19,2,-999.000,9,-999.000,9,-999.000,9,-999.0000,9,  -999.0,9, -999.00,9,-999.0000,9,  -999.00,-999.000,9,-999.0000,9, -999.00,9, -999.00,9,  -999.0,9,  -999.0,-999.000,9,-999.000,     -999.0,9, -999.00,9,   36.46,2, -999.00,9,     -999.0,9,  -999.0,1, 20130429,     1145,       30,-178.1339,    34.5939,2,     -999.0,9,     -999.0,9,     3.0707,2,     -999.0,9,     -999.0,1,-999.0000, -999.00,-999.000
318M20130321,       P02W,      77,          1,         17,         17,2,20130429,       1017,    29.9999,  -178.1333,       5315,  1308.3,   2.8463,  34.4729,2,  34.4721,2,     30.9,2,    30.5,2,  147.31,2,   43.75,2,       0,2,    3.17,2,   0.025,2,   0.016,2,   0.001,2,     0.06,2,  -999.0,9, -999.00,9,-999.0000,9,  -999.00,-999.000,9,-999.0000,9, -999.00,9, -999.00,9,  -999.0,9,  -999.0,-999.000,9,-999.000,     -999.0,9, -999.00,9,   38.37,2, -999.00,9,     -999.0,9,  -999.0,1, 20130429,     1142,  30.0002,-178.1339,    34.6347,2,     -999.0,9,     -999.0,9,     2.8455,2,     -999.0,9,     -999.0,1,-999.0000, -999.00,-999.000
318M20130321,       P02W,      77,          1,         16,         16,2,20130429,       1017,    29.9999,  -178.1333,       5315,  1409.6,   2.6782,   34.503,2,  34.5014,2,     36.7,2,    36.3,2,  151.02,2,   43.55,2,       0,2,    3.15,2,-999.000,9,-999.000,9,-999.000,9,-999.0000,9,  2378.7,2, 2393.45,2,   7.3491,2,       25,-999.000,9,-999.0000,9, -999.00,9, -999.00,9,  -999.0,9,  -999.0,-999.000,9,-999.000,     -999.0,9, -999.00,9,    35.7,2, -999.00,9,     -999.0,9,  -999.0,1, 20130429,     1140,  29.9999,-178.1336,    34.6641,2,     -999.0,9,     -999.0,9,     2.6784,2,     -999.0,9,     -999.0,1,-999.0000, -999.00,-999.000
318M20130321,       P02W,      77,          1,         15,         15,2,20130429,       1017,    29.9999,  -178.1333,       5315,  1614.5,   2.3498,  34.5523,2,  34.5519,2,     49.8,2,    50.8,2,  158.24,2,   42.71,2,       0,2,    3.07,2,   0.010,2,   0.009,2,   0.012,2,     0.14,2,  2377.8,2, 2404.25,2,   7.3803,2,       25,-999.000,9,-999.0000,9, -999.00,9, -999.00,9,  -999.0,9,  -999.0,-999.000,9,-999.000,     -999.0,9, -999.00,9,   36.46,2, -999.00,9,     -999.0,9,  -999.0,1, 20130429,     1136,  30.0002,-178.1338,    34.7148,2,     -999.0,9,     -999.0,9,     2.3494,2,     -999.0,9,     -999.0,1,-999.0000, -999.00,-999.000
318M20130321,       P02W,      77,          1,         14,         14,2,20130429,       1017,    29.9999,  -178.1333,       5315,  1813.3,   2.1228,  34.5839,2,  34.5837,2,     67.1,2,    65.6,2,  161.45,2,   41.77,2,       0,2,    3.01,2,-999.000,9,-999.000,9,-999.000,9,-999.0000,9,  -999.0,9, -999.00,9,-999.0000,9,  -999.00,-999.000,9,-999.0000,9, -999.00,9, -999.00,9,  -999.0,9,  -999.0,-999.000,9,-999.000,     -999.0,9, -999.00,9, -999.00,9, -999.00,9,     -999.0,9,  -999.0,1, 20130429,     1132,  30.0003,-178.1339,    34.7468,2,     -999.0,9,     -999.0,9,      2.121,2,     -999.0,9,     -999.0,1,-999.0000, -999.00,-999.000
318M20130321,       P02W,      77,          1,         13,         13,2,20130429,       1017,    29.9999,  -178.1333,       5315,  2016.6,   1.9454,  34.6073,2,  34.6075,2,     78.7,2,    79.6,2,  163.01,2,   40.94,2,       0,2,    2.93,2,   0.009,2,   0.010,2,   0.003,2,     0.05,2,  2367.4,2, 2413.96,2,   7.4366,2,       25,-999.000,9,-999.0000,9, -999.00,9, -999.00,9,  -999.0,9,  -999.0,-999.000,9,-999.000,     -999.0,9, -999.00,9,   36.44,2, -999.00,9,     -999.0,9,  -999.0,1, 20130429,     1127,  30.0004,-178.1342,    34.7707,2,     -999.0,9,     -999.0,9,     1.9448,2,     -999.0,9,     -999.0,1,-999.0000, -999.00,-999.000
318M20130321,       P02W,      77,          1,         11,         11,2,20130429,       1017,    29.9999,  -178.1333,       5315,    2274,   1.7789,  34.6288,2,  34.6281,2,     95.3,2,    94.3,2,  164.08,2,   39.94,2,       0,2,    2.84,2,   0.010,2,   0.006,2,   0.005,2,     0.17,2,  -999.0,9, -999.00,9,-999.0000,9,  -999.00,-999.000,9,-999.0000,9, -999.00,9, -999.00,9,  -999.0,9,  -999.0,-999.000,9,-999.000,     -999.0,9, -999.00,9,   35.26,2, -999.00,9,     -999.0,9,  -999.0,1, 20130429,     1119,  29.9998,-178.1339,    34.7914,2,     -999.0,9,     -999.0,9,     1.7785,2,     -999.0,9,     -999.0,1,-999.0000, -999.00,-999.000
318M20130321,       P02W,      77,          1,         10,         10,2,20130429,       1017,    29.9999,  -178.1333,       5315,  2524.8,    1.669,   34.644,2,  34.6431,2,    107.5,2,     106,2,   163.5,2,   39.18,2,       0,2,    2.77,2,-999.000,9,-999.000,9,-999.000,9,-999.0000,9,  2354.4,2, 2417.26,2,   7.4887,2,       25,-999.000,9,-999.0000,9, -999.00,9, -999.00,9,  -999.0,9,  -999.0,-999.000,9,-999.000,     -999.0,9, -999.00,9, -999.00,9, -999.00,9,     -999.0,9,  -999.0,1, 20130429,     1114,  30.0001, -178.134,    34.8064,2,     -999.0,9,     -999.0,9,     1.6693,2,     -999.0,9,     -999.0,1,-999.0000, -999.00,-999.000
318M20130321,       P02W,      77,          1,          9,          9,2,20130429,       1017,    29.9999,  -178.1333,       5315,  2780.8,   1.5757,  34.6571,2,   34.657,2,    118.5,2,     118,2,  162.32,2,   38.37,2,       0,2,    2.72,2,   0.000,4,   0.000,4,   0.000,4,        0,4,  -999.0,9, -999.00,9,-999.0000,9,  -999.00,-999.000,9,-999.0000,9, -999.00,9, -999.00,9,  -999.0,9,  -999.0,-999.000,9,-999.000,     -999.0,9, -999.00,9,   35.36,2, -999.00,9,     -999.0,9,  -999.0,1, 20130429,     1109,  29.9997,-178.1339,    34.8204,2,     -999.0,9,     -999.0,9,     1.5752,2,     -999.0,9,     -999.0,1,-999.0000, -999.00,-999.000
318M20130321,       P02W,      77,          1,          8,          8,2,20130429,       1017,    29.9999,  -178.1333,       5315,  3038.4,   1.5267,  34.6658,2,  34.6643,2,    126.3,2,   127.5,2,  160.17,2,   37.74,2,       0,2,    2.66,2,-999.000,9,-999.000,9,-999.000,9,-999.0000,9,    2341,2, 2417.46,2,    7.527,2,       25,-999.000,9,-999.0000,9, -999.00,9, -999.00,9,  -999.0,9,  -999.0,-999.000,9,-999.000,     -999.0,9, -999.00,9, -999.00,9, -999.00,9,     -999.0,9,  -999.0,1, 20130429,     1104,  29.9996, -178.134,    34.8277,2,     -999.0,9,     -999.0,9,     1.5271,2,     -999.0,9,     -999.0,1,-999.0000, -999.00,-999.000
318M20130321,       P02W,      77,          1,          7,          7,2,20130429,       1017,    29.9999,  -178.1333,       5315,  3339.2,   1.4867,  34.6733,2,  34.6723,2,    134.6,2,   135.3,2,     159,2,   37.25,2,       0,2,    2.64,2,   0.009,2,   0.011,2,   0.005,2,     0.03,2,  -999.0,9, -999.00,9,-999.0000,9,  -999.00,-999.000,9,-999.0000,9, -999.00,9, -999.00,9,  -999.0,9,  -999.0,-999.000,9,-999.000,     -999.0,9, -999.00,9,   34.76,2, -999.00,9,     -999.0,9,  -999.0,1, 20130429,     1058,  29.9996,-178.1344,    34.8358,2,     -999.0,9,     -999.0,9,     1.4867,2,     -999.0,9,     -999.0,1,-999.0000, -999.00,-999.000