BOTTLE,20220817CCHSIOAMB
EXPOCODE,SECT_ID,STNNBR,CASTNO,SAMPNO,BTLNBR,BTLNBR_FLAG_W,DATE,TIME,LATITUDE,LONGITUDE,DEPTH,CTDPRS,CTDTMP,CTDSAL,CTDSAL_FLAG_W,SALNTY,SALNTY_FLAG_W,CTDOXY,CTDOXY_FLAG_W,OXYGEN,OXYGEN_FLAG_W,SILCAT,SILCAT_FLAG_W,NITRAT,NITRAT_FLAG_W,NITRIT,NITRIT_FLAG_W,PHSPHT,PHSPHT_FLAG_W,CFC-11,CFC-11_FLAG_W,CFC-12,CFC-12_FLAG_W,CFC113,CFC113_FLAG_W,SF6,SF6_FLAG_W,TCARBN,TCARBN_FLAG_W,ALKALI,ALKALI_FLAG_W,PH_TOT,PH_TOT_FLAG_W,PH_TMP,TRITUM,TRITUM_FLAG_W,HELIUM,HELIUM_FLAG_W,DELHE3,DELHE3_FLAG_W,DELC13,DELC13_FLAG_W,DELC14,DELC14_FLAG_W,C14ERR,NEON,NEON_FLAG_W,NEONER,I-129,I-129_FLAG_W,SR-90,SR-90_FLAG_W,DOC,DOC_FLAG_W,TDN,TDN_FLAG_W,CALCIUM,CALCIUM_FLAG_W,D15N_NO3,D15N_NO3_FLAG_W,BTL_DATE,BTL_TIME,BTL_LAT,BTL_LON,SALTREF,SALTREF_FLAG_W,CS-137,CS-137_FLAG_W,CS-134,CS-134_FLAG_W,REFTMP,REFTMP_FLAG_W,LAB_DEN,LAB_DEN_FLAG_W,D18O_NO3,D18O_NO3_FLAG_W,HELIER,DELHER,TRITER
,,,,,,,,,,,METERS,DBAR,ITS-90,PSS-78,,PSS-78,,UMOL/KG,,UMOL/KG,,UMOL/KG,,UMOL/KG,,UMOL/KG,,UMOL/KG,,PMOL/KG,,PMOL/KG,,PMOL/KG,,FMOL/KG,,UMOL/KG,,UMOL/KG,,,,DEG C,TU,,NMOL/KG,,PERCNT,,/MILLE,,/MILLE,,/MILLE,NMOL/KG,,NMOL/KG,BQ/M^3,,DM/.1MG,,UMOL/KG,,UMOL/KG,,MMOL/KG,,/MILLE,,,,,,G/KG,,BQ/M^3,,BQ/M^3,,ITS-90,,,,/MILLE,,NMOL/KG,PERCNT,TU
318M20130321,       P02W,      86,          1,          6,          6,2,20130502,       1629,    30.0001,  -168.6079,       5488,  3753.9,   1.4718,  34.6801,2,  34.6804,2,      142,2,     142,2,  158.03,2,   36.69,2,       0,2,    2.57,2,-999.000,9,-999.000,9,-999.000,9,-999.0000,9,  -999.0,9, -999.00,9,-999.0000,9,  -999.00,-999.000,9,-999.0000,9, -999.00,9, -999.00,9,  -999.0,9,  -999.0,-999.000,9,-999.000,     -999.0,9, -999.00,9, -999.00,9, -999.00,9,     -999.0,9,  -999.0,1, 20130502,     1707,  30.0013,-168.6071,    34.8439,2,     -999.0,9,     -999.0,9,     1.4716,2,     -999.0,9,     -999.0,1,-999.0000, -999.00,-999.000
318M20130321,       P02W,      86,          1,          5,         37,2,20130502,       1629,    30.0001,  -168.6079,       5488,  4163.1,   1.4655,  34.6857,2,  34.6845,2,    148.6,2,   149.2,2,  156.27,2,   36.26,2,       0,2,    2.55,2,-999.000,9,-999.000,9,-999.000,9,-999.0000,9,  2328.8,2, 2419.66,6,   7.5694,2,       25,-999.000,9,-999.0000,9, -999.00,9, -999.00,9,  -999.0,9,  -999.0,-999.000,9,-999.000,     -999.0,9, -999.00,9, -999.00,9, -999.00,9,     -999.0,9,  -999.0,1, 20130502,     1659,  30.0014,-168.6086,    34.8481,2,     -999.0,9,     -999.0,9,     1.4655,2,     -999.0,9,     -999.0,1,-999.0000, -999.00,-999.000
318M20130321,       P02W,      86,          1,          4,          4,2,20130502,       1629,    30.0001,  -168.6079,       5488,  4571.8,   1.4921,  34.6881,2,  34.6875,2,    151.8,2,   151.5,2,  157.15,2,   36.09,2,       0,2,     2.5,2,   0.007,2,   0.011,2,   0.000,2,        0,2,  -999.0,9, -999.00,9,-999.0000,9,  -999.00,-999.000,9,-999.0000,9, -999.00,9, -999.00,9,  -999.0,9,  -999.0,-999.000,9,-999.000,     -999.0,9, -999.00,9, -999.00,9, -999.00,9,     -999.0,9,  -999.0,1, 20130502,     1651,  30.0011,-168.6088,     34.851,2,     -999.0,9,     -999.0,9,     1.4926,2,     -999.0,9,     -999.0,1,-999.0000, -999.00,-999.000
318M20130321,       P02W,      86,          1,          3,          3,2,20130502,       1629,    30.0001,  -168.6079,       5488,    4987,   1.5295,  34.6894,2,  34.6889,2,    154.3,2,   154.6,2,  153.34,2,   35.88,2,       0,2,    2.49,2,-999.000,9,-999.000,9,-999.000,9,-999.0000,9,  2323.9,2, 2417.36,2,   7.5778,6,       25,-999.000,9,-999.0000,9, -999.00,9, -999.00,9,  -999.0,9,  -999.0,-999.000,9,-999.000,     -999.0,9, -999.00,9, -999.00,9, -999.00,9,     -999.0,9,  -999.0,1, 20130502,     1643,  30.0003,-168.6082,    34.8524,2,     -999.0,9,     -999.0,9,     1.5293,2,     -999.0,9,     -999.0,1,-999.0000, -999.00,-999.000
318M20130321,       P02W,      86,          1,          2,          2,2,20130502,       1629,    30.0001,  -168.6079,       5488,  5348.8,   1.5455,  34.6914,2,  34.6908,2,    160.9,2,   160.5,2,   146.6,2,   35.44,2,       0,2,    2.47,2,   0.008,2,   0.007,2,   0.000,2,        0,2,  2318.4,6, 2412.36,2,   7.5824,2,       25,-999.000,9,-999.0000,9, -999.00,9, -999.00,9,  -999.0,9,  -999.0,-999.000,9,-999.000,     -999.0,9, -999.00,9, -999.00,9, -999.00,9,     -999.0,9,  -999.0,1, 20130502,     1635,  29.9997,-168.6076,    34.8544,2,     -999.0,9,     -999.0,9,     1.5458,2,     -999.0,9,     -999.0,1,-999.0000, -999.00,-999.000
318M20130321,       P02W,      86,          1,          1,          1,2,20130502,       1629,    30.0001,  -168.6079,       5488,  5578.4,   1.5609,  34.6925,2,   34.692,2,    163.8,2,   163.4,2,  144.07,2,   35.21,2,       0,2,    2.48,2,   0.008,2,   0.013,2,   0.000,2,        0,2,  2313.4,2, 2409.76,2,   7.5861,2,       25,-999.000,9,-999.0000,9, -999.00,9, -999.00,9,  -999.0,9,  -999.0,-999.000,9,-999.000,     -999.0,9, -999.00,9, -999.00,9, -999.00,9,     -999.0,9,  -999.0,1, 20130502,     1629,  30.0001,-168.6079,    34.8556,2,     -999.0,9,     -999.0,9,     1.5607,2,     -999.0,9,     -999.0,1,-999.0000, -999.00,-999.000