BOTTLE,20220817CCHSIOAMB
EXPOCODE,SECT_ID,STNNBR,CASTNO,SAMPNO,BTLNBR,BTLNBR_FLAG_W,DATE,TIME,LATITUDE,LONGITUDE,DEPTH,CTDPRS,CTDTMP,CTDSAL,CTDSAL_FLAG_W,SALNTY,SALNTY_FLAG_W,CTDOXY,CTDOXY_FLAG_W,OXYGEN,OXYGEN_FLAG_W,SILCAT,SILCAT_FLAG_W,NITRAT,NITRAT_FLAG_W,NITRIT,NITRIT_FLAG_W,PHSPHT,PHSPHT_FLAG_W,CFC-11,CFC-11_FLAG_W,CFC-12,CFC-12_FLAG_W,CFC113,CFC113_FLAG_W,SF6,SF6_FLAG_W,TCARBN,TCARBN_FLAG_W,ALKALI,ALKALI_FLAG_W,PH_TOT,PH_TOT_FLAG_W,PH_TMP,TRITUM,TRITUM_FLAG_W,HELIUM,HELIUM_FLAG_W,DELHE3,DELHE3_FLAG_W,DELC13,DELC13_FLAG_W,DELC14,DELC14_FLAG_W,C14ERR,NEON,NEON_FLAG_W,NEONER,I-129,I-129_FLAG_W,SR-90,SR-90_FLAG_W,DOC,DOC_FLAG_W,TDN,TDN_FLAG_W,CALCIUM,CALCIUM_FLAG_W,D15N_NO3,D15N_NO3_FLAG_W,BTL_DATE,BTL_TIME,BTL_LAT,BTL_LON,SALTREF,SALTREF_FLAG_W,CS-137,CS-137_FLAG_W,CS-134,CS-134_FLAG_W,REFTMP,REFTMP_FLAG_W,LAB_DEN,LAB_DEN_FLAG_W,D18O_NO3,D18O_NO3_FLAG_W,HELIER,DELHER,TRITER
,,,,,,,,,,,METERS,DBAR,ITS-90,PSS-78,,PSS-78,,UMOL/KG,,UMOL/KG,,UMOL/KG,,UMOL/KG,,UMOL/KG,,UMOL/KG,,PMOL/KG,,PMOL/KG,,PMOL/KG,,FMOL/KG,,UMOL/KG,,UMOL/KG,,,,DEG C,TU,,NMOL/KG,,PERCNT,,/MILLE,,/MILLE,,/MILLE,NMOL/KG,,NMOL/KG,BQ/M^3,,DM/.1MG,,UMOL/KG,,UMOL/KG,,MMOL/KG,,/MILLE,,,,,,G/KG,,BQ/M^3,,BQ/M^3,,ITS-90,,,,/MILLE,,NMOL/KG,PERCNT,TU
318M20130321,       P02E,     101,          1,          6,          6,2,20130516,       2016,    30.0001,  -152.8654,       5260,  3919.1,   1.4626,  34.6839,2,  34.6853,2,      145,2,   144.5,2,  157.93,2,   36.31,2,       0,2,    2.58,2,   0.004,2,   0.003,2,-999.000,5,        0,2,  -999.0,9, -999.00,9,-999.0000,9,  -999.00,   0.019,2,   1.9507,2,   16.02,2, -999.00,9,  -999.0,9,  -999.0,   8.293,2,   0.038,     -999.0,9, -999.00,9, -999.00,9, -999.00,9,     -999.0,9,  -999.0,9, 20130516,     2044,  30.0005,-152.8661,    34.8488,2,     -999.0,9,     -999.0,9,     1.4623,2,     -999.0,9,     -999.0,9,   0.0082,    0.15,   0.011
318M20130321,       P02E,     101,          1,          5,         37,2,20130516,       2016,    30.0001,  -152.8654,       5260,  4333.1,    1.476,  34.6877,2,   34.689,2,      151,2,   150.7,2,  153.73,2,   35.89,2,       0,2,    2.55,2,   0.004,2,   0.002,2,-999.000,5,        0,2,  2329.5,2, 2422.26,2,   7.5732,6,       25,-999.000,9,-999.0000,9, -999.00,9, -999.00,9,  -999.0,9,  -999.0,-999.000,9,-999.000,     -999.0,9, -999.00,9,   33.56,2, -999.00,9,     -999.0,9,  -999.0,9, 20130516,     2037,  30.0002,-152.8657,    34.8526,2,     -999.0,9,     -999.0,9,      1.476,2,     -999.0,9,     -999.0,9,-999.0000, -999.00,-999.000
318M20130321,       P02E,     101,          1,          4,          4,2,20130516,       2016,    30.0001,  -152.8654,       5260,  4742.2,   1.5073,  34.6894,2,    34.69,2,      155,2,   154.3,2,  151.29,2,    35.7,2,       0,2,    2.51,2,   0.005,2,   0.004,2,-999.000,5,        0,2,  -999.0,9, -999.00,9,-999.0000,9,  -999.00,  -0.002,2,   1.9472,2,   15.94,2, -999.00,9,  -999.0,9,  -999.0,   8.353,2,   0.038,     -999.0,9, -999.00,9,    34.8,2, -999.00,9,     -999.0,9,  -999.0,9, 20130516,     2029,  29.9996,-152.8659,    34.8536,2,     -999.0,9,     -999.0,9,     1.5074,2,     -999.0,9,     -999.0,9,   0.0082,    0.15,   0.010
318M20130321,       P02E,     101,          1,          3,          3,2,20130516,       2016,    30.0001,  -152.8654,       5260,  5087.5,   1.5347,  34.6905,2,   34.691,2,    157.6,2,     158,2,  147.58,2,   35.42,2,       0,2,    2.48,2,   0.005,2,   0.006,2,-999.000,5,        0,2,  2322.6,6, 2418.66,6,   7.5812,2,       25,  -0.005,2,   1.9156,2,   15.34,2, -999.00,9,  -999.0,9,  -999.0,   8.356,2,   0.038,     -999.0,9, -999.00,9,   35.53,2, -999.00,9,     -999.0,9,  -999.0,9, 20130516,     2022,       30,-152.8655,    34.8546,2,     -999.0,9,     -999.0,9,     1.5345,2,     -999.0,9,     -999.0,9,   0.0080,    0.15,   0.010
318M20130321,       P02E,     101,          1,          2,          2,2,20130516,       2016,    30.0001,  -152.8654,       5260,  5332.3,   1.5551,  34.6911,2,   34.692,2,    159.6,2,   159.3,2,  145.73,2,    35.2,2,       0,2,    2.45,2,   0.005,2,   0.006,2,-999.000,5,        0,2,  2322.4,2, 2416.16,2,   7.5829,2,       25,  -0.007,2,   1.9195,2,   15.39,2, -999.00,9,  -999.0,9,  -999.0,   8.307,2,   0.038,     -999.0,9, -999.00,9,   35.59,2, -999.00,9,     -999.0,9,  -999.0,9, 20130516,     2016,  30.0001,-152.8654,    34.8556,2,     -999.0,9,     -999.0,9,     1.5547,2,     -999.0,9,     -999.0,9,   0.0081,    0.15,   0.010