BOTTLE,20220817CCHSIOAMB
EXPOCODE,SECT_ID,STNNBR,CASTNO,SAMPNO,BTLNBR,BTLNBR_FLAG_W,DATE,TIME,LATITUDE,LONGITUDE,DEPTH,CTDPRS,CTDTMP,CTDSAL,CTDSAL_FLAG_W,SALNTY,SALNTY_FLAG_W,CTDOXY,CTDOXY_FLAG_W,OXYGEN,OXYGEN_FLAG_W,SILCAT,SILCAT_FLAG_W,NITRAT,NITRAT_FLAG_W,NITRIT,NITRIT_FLAG_W,PHSPHT,PHSPHT_FLAG_W,CFC-11,CFC-11_FLAG_W,CFC-12,CFC-12_FLAG_W,CFC113,CFC113_FLAG_W,SF6,SF6_FLAG_W,TCARBN,TCARBN_FLAG_W,ALKALI,ALKALI_FLAG_W,PH_TOT,PH_TOT_FLAG_W,PH_TMP,TRITUM,TRITUM_FLAG_W,HELIUM,HELIUM_FLAG_W,DELHE3,DELHE3_FLAG_W,DELC13,DELC13_FLAG_W,DELC14,DELC14_FLAG_W,C14ERR,NEON,NEON_FLAG_W,NEONER,I-129,I-129_FLAG_W,SR-90,SR-90_FLAG_W,DOC,DOC_FLAG_W,TDN,TDN_FLAG_W,CALCIUM,CALCIUM_FLAG_W,D15N_NO3,D15N_NO3_FLAG_W,BTL_DATE,BTL_TIME,BTL_LAT,BTL_LON,SALTREF,SALTREF_FLAG_W,CS-137,CS-137_FLAG_W,CS-134,CS-134_FLAG_W,REFTMP,REFTMP_FLAG_W,LAB_DEN,LAB_DEN_FLAG_W,D18O_NO3,D18O_NO3_FLAG_W,HELIER,DELHER,TRITER
,,,,,,,,,,,METERS,DBAR,ITS-90,PSS-78,,PSS-78,,UMOL/KG,,UMOL/KG,,UMOL/KG,,UMOL/KG,,UMOL/KG,,UMOL/KG,,PMOL/KG,,PMOL/KG,,PMOL/KG,,FMOL/KG,,UMOL/KG,,UMOL/KG,,,,DEG C,TU,,NMOL/KG,,PERCNT,,/MILLE,,/MILLE,,/MILLE,NMOL/KG,,NMOL/KG,BQ/M^3,,DM/.1MG,,UMOL/KG,,UMOL/KG,,MMOL/KG,,/MILLE,,,,,,G/KG,,BQ/M^3,,BQ/M^3,,ITS-90,,,,/MILLE,,NMOL/KG,PERCNT,TU
318M20130321,       P02E,     137,          1,         36,         36,2,20130527,       1912,    29.9995,  -126.4515,       4335,     2.5,  17.5382,  33.8235,2,  33.8234,2,    242.6,2,   242.8,2,    2.34,2,       0,2,       0,2,    0.21,2,   2.290,2,   1.368,2,-999.000,1,   1.5214,2,  2023.7,6,  2251.8,2,   7.9275,2,       25,-999.000,9,-999.0000,9, -999.00,9,    1.24,2,    26.0,2,     2.5,-999.000,9,-999.000,     -999.0,9, -999.00,9,   67.41,2,    4.62,2,     -999.0,9,  -999.0,9, 20130527,     2110,  29.9994,-126.4511,    33.9829,2,     -999.0,9,     -999.0,9,    17.5383,2,     -999.0,9,     -999.0,9,-999.0000, -999.00,-999.000
318M20130321,       P02E,     137,          1,         34,         34,2,20130527,       1912,    29.9995,  -126.4515,       4335,    20.6,  17.4664,  33.8456,2,  33.8451,2,    243.1,2,   242.8,2,    2.34,2,       0,2,       0,2,     0.2,2,   2.290,2,   1.363,2,-999.000,1,   1.4801,2,  2024.5,2,  2252.2,6,   7.9287,2,       25,-999.000,9,-999.0000,9, -999.00,9, -999.00,9,  -999.0,9,  -999.0,-999.000,9,-999.000,     -999.0,9, -999.00,9,    65.5,2,    3.93,2,     -999.0,9,  -999.0,9, 20130527,     2108,  29.9996, -126.451,    34.0047,2,     -999.0,9,     -999.0,9,    17.4666,2,     -999.0,9,     -999.0,9,-999.0000, -999.00,-999.000
318M20130321,       P02E,     137,          1,         33,         33,2,20130527,       1912,    29.9995,  -126.4515,       4335,      41,  17.3755,   33.974,2,   33.971,2,    246.1,2,     246,2,    2.15,2,       0,2,       0,2,    0.17,2,   2.329,2,   1.394,2,-999.000,1,   1.6131,2,  -999.0,9, -999.00,9,-999.0000,9,  -999.00,-999.000,9,-999.0000,9, -999.00,9, -999.00,9,  -999.0,9,  -999.0,-999.000,9,-999.000,     -999.0,9, -999.00,9,   65.59,2,    4.59,2,     -999.0,9,  -999.0,9, 20130527,     2106,  29.9999, -126.451,    34.1312,2,     -999.0,9,     -999.0,9,    17.3793,2,     -999.0,9,     -999.0,9,-999.0000, -999.00,-999.000
318M20130321,       P02E,     137,          1,         32,         32,2,20130527,       1912,    29.9995,  -126.4515,       4335,    65.4,  16.8925,   34.003,2,  34.0027,2,    247.4,2,   247.3,2,    2.15,2,       0,2,       0,2,    0.16,2,   2.351,2,   1.409,2,-999.000,1,   1.5373,2,  2023.5,2,  2258.5,2,   7.9396,6,       25,-999.000,9,-999.0000,9, -999.00,9, -999.00,9,  -999.0,9,  -999.0,-999.000,9,-999.000,     -999.0,9, -999.00,9,   62.51,2,    4.44,2,     -999.0,9,  -999.0,9, 20130527,     2104,  30.0002, -126.451,    34.1631,2,     -999.0,9,     -999.0,9,     16.893,2,     -999.0,9,     -999.0,9,-999.0000, -999.00,-999.000
318M20130321,       P02E,     137,          1,         31,         31,2,20130527,       1912,    29.9995,  -126.4515,       4335,    90.5,  17.0493,  34.1387,2,  34.1389,2,    244.3,2,   243.8,2,    2.05,2,       0,2,       0,2,    0.15,2,   2.316,2,   1.380,2,-999.000,1,   1.5287,2,  -999.0,9, -999.00,9,-999.0000,9,  -999.00,-999.000,9,-999.0000,9, -999.00,9,    1.15,2,    29.2,2,     2.7,-999.000,9,-999.000,     -999.0,9, -999.00,9,    62.1,2,    4.19,2,     -999.0,9,  -999.0,9, 20130527,     2102,  30.0003,-126.4509,    34.2999,2,     -999.0,9,     -999.0,9,    17.0489,2,     -999.0,9,     -999.0,9,-999.0000, -999.00,-999.000
318M20130321,       P02E,     137,          1,         30,         30,2,20130527,       1912,    29.9995,  -126.4515,       4335,   135.3,  16.2559,   34.207,2,  34.2052,2,      235,2,   235.5,2,    2.64,2,    0.22,2,    0.07,2,    0.19,2,   2.426,2,   1.441,2,-999.000,1,   1.5606,2,  2038.4,2,  2263.1,2,   7.9187,2,       25,-999.000,9,-999.0000,9, -999.00,9,    0.89,2,    43.3,2,     3.1,-999.000,9,-999.000,     -999.0,9, -999.00,9, -999.00,5,    4.94,2,     -999.0,9,  -999.0,9, 20130527,     2100,  30.0001,-126.4509,    34.3665,2,     -999.0,9,     -999.0,9,    16.2598,2,     -999.0,9,     -999.0,9,-999.0000, -999.00,-999.000
318M20130321,       P02E,     137,          1,         29,         29,2,20130527,       1912,    29.9995,  -126.4515,       4335,   185.9,  10.9422,  33.5905,2,  33.5962,2,    221.7,2,   217.6,2,    9.38,2,     9.6,2,    0.01,2,    0.83,2,   3.137,2,   1.794,2,-999.000,1,    1.703,2,    2077,2, 2225.49,2,   7.7586,6,       25,-999.000,9,-999.0000,9, -999.00,9,    0.46,6,    28.8,6,     3.4,-999.000,9,-999.000,     -999.0,9, -999.00,9,   48.79,2,   14.15,3,     -999.0,9,  -999.0,9, 20130527,     2058,       30, -126.451,    33.7546,2,     -999.0,9,     -999.0,9,    10.9597,3,     -999.0,9,     -999.0,9,-999.0000, -999.00,-999.000
318M20130321,       P02E,     137,          1,         27,         27,2,20130527,       1912,    29.9995,  -126.4515,       4335,   237.2,   9.4518,  33.8485,2,  33.8553,2,    189.1,2,   192.3,2,   19.44,2,   17.73,2,    0.01,2,    1.32,2,   3.282,2,   1.829,2,-999.000,1,   1.4045,2,  2125.1,2,  2243.7,2,   7.6699,2,       25,-999.000,9,-999.0000,9, -999.00,9,    0.07,2,    24.5,2,     3.1,-999.000,9,-999.000,     -999.0,9, -999.00,9,   51.16,2,   24.15,3,     -999.0,9,  -999.0,9, 20130527,     2056,       30, -126.451,    34.0149,2,     -999.0,9,     -999.0,9,      9.443,2,     -999.0,9,     -999.0,9,-999.0000, -999.00,-999.000
318M20130321,       P02E,     137,          1,         26,         26,2,20130527,       1912,    29.9995,  -126.4515,       4335,   287.1,   8.1405,  33.9733,2,  33.9716,2,    132.4,2,   134.9,2,   33.89,2,   26.15,2,       0,2,    1.93,2,   2.974,2,   1.598,2,-999.000,1,   1.0083,2,  2187.9,2,  2258.6,2,   7.5314,2,       25,-999.000,9,-999.0000,9, -999.00,9,   -0.23,2,     4.1,2,     3.6,-999.000,9,-999.000,     -999.0,9, -999.00,9, -999.00,5,   33.83,3,     -999.0,9,  -999.0,9, 20130527,     2054,       30,-126.4513,    34.1318,2,     -999.0,9,     -999.0,9,     8.1256,2,     -999.0,9,     -999.0,9,-999.0000, -999.00,-999.000
318M20130321,       P02E,     137,          1,         25,         25,2,20130527,       1912,    29.9995,  -126.4515,       4335,   336.9,   7.3789,  33.9939,2,  33.9969,2,    123.3,2,   115.1,2,   43.55,2,   29.55,2,       0,2,    2.15,2,   2.681,2,   1.388,2,-999.000,1,   0.8248,2,  2213.5,2, 2267.91,2,    7.479,2,       25,-999.000,9,-999.0000,9, -999.00,9,   -0.31,2,   -16.9,2,     2.7,-999.000,9,-999.000,     -999.0,9, -999.00,9,   42.77,2,   36.45,3,     -999.0,9,  -999.0,9, 20130527,     2052,  30.0001,-126.4514,    34.1572,2,     -999.0,9,     -999.0,9,     7.3769,2,     -999.0,9,     -999.0,9,-999.0000, -999.00,-999.000
318M20130321,       P02E,     137,          1,         24,         24,2,20130527,       1912,    29.9995,  -126.4515,       4335,   386.3,   6.8824,  34.0184,2,  34.0176,2,       91,2,    89.3,2,   51.46,2,    32.6,2,       0,2,    2.39,2,   2.295,2,   1.169,2,-999.000,1,   0.5987,2,  2238.4,2, 2273.91,2,   7.4231,2,       25,-999.000,9,-999.0000,9, -999.00,9,   -0.38,2,   -45.1,2,     3.5,-999.000,9,-999.000,     -999.0,9, -999.00,9,   44.58,2, -999.00,9,     -999.0,9,  -999.0,9, 20130527,     2049,  30.0002,-126.4515,     34.178,2,     -999.0,9,     -999.0,9,     6.8874,2,     -999.0,9,     -999.0,9,-999.0000, -999.00,-999.000
318M20130321,       P02E,     137,          1,         23,         23,2,20130527,       1912,    29.9995,  -126.4515,       4335,   467.1,   6.0269,  34.0677,2,   34.068,2,     55.9,2,    56.3,2,   67.09,2,    37.1,2,       0,2,    2.75,2,   1.476,2,   0.718,2,-999.000,1,   0.2994,2,  -999.0,9, -999.00,9,-999.0000,9,  -999.00,-999.000,9,-999.0000,9, -999.00,9,   -0.48,2,   -77.5,2,     2.8,-999.000,9,-999.000,     -999.0,9, -999.00,9,   40.66,2, -999.00,9,     -999.0,9,  -999.0,9, 20130527,     2047,  30.0001,-126.4516,    34.2286,2,     -999.0,9,     -999.0,9,     6.0264,2,     -999.0,9,     -999.0,9,-999.0000, -999.00,-999.000
318M20130321,       P02E,     137,          1,         22,         22,2,20130527,       1912,    29.9995,  -126.4515,       4335,   568.5,   5.5407,  34.2104,2,  34.2099,2,     22.2,2,    22.4,2,   82.12,2,   40.06,2,       0,2,    3.05,2,   0.475,2,   0.238,2,-999.000,1,    0.077,2,  2313.5,2, 2312.22,2,   7.3045,2,       25,-999.000,9,-999.0000,9, -999.00,9,   -0.53,2,  -133.8,2,     2.8,-999.000,9,-999.000,     -999.0,9, -999.00,9,   38.67,2, -999.00,9,     -999.0,9,  -999.0,9, 20130527,     2044,       30,-126.4516,    34.3712,2,     -999.0,9,     -999.0,9,     5.5373,2,     -999.0,9,     -999.0,9,-999.0000, -999.00,-999.000
318M20130321,       P02E,     137,          1,         21,         21,2,20130527,       1912,    29.9995,  -126.4515,       4335,   669.3,   4.9254,  34.2883,2,   34.288,2,     14.5,2,    14.4,2,   95.88,2,    41.8,2,       0,2,    3.16,2,   0.135,2,   0.072,2,-999.000,1,   0.0858,2,  2334.2,2, 2330.53,2,   7.2961,2,       25,-999.000,9,-999.0000,9, -999.00,9,   -0.54,6,  -159.3,6,     3.0,-999.000,9,-999.000,     -999.0,9, -999.00,9,   36.52,2, -999.00,9,     -999.0,9,  -999.0,9, 20130527,     2040,  30.0001,-126.4515,    34.4496,2,     -999.0,9,     -999.0,9,     4.9267,2,     -999.0,9,     -999.0,9,-999.0000, -999.00,-999.000
318M20130321,       P02E,     137,          1,         20,         20,2,20130527,       1912,    29.9995,  -126.4515,       4335,   770.1,   4.5169,   34.358,2,  34.3574,2,     15.6,2,    15.5,2,  105.15,2,   42.78,2,       0,2,     3.2,2,   0.037,2,   0.023,2,-999.000,1,   0.0996,2,  2346.1,2, 2345.93,2,   7.3068,2,       25,-999.000,9,-999.0000,9, -999.00,9,   -0.60,2,  -184.6,2,     3.0,-999.000,9,-999.000,     -999.0,9, -999.00,9,   36.35,2, -999.00,9,     -999.0,9,  -999.0,9, 20130527,     2037,       30,-126.4516,    34.5194,2,     -999.0,9,     -999.0,9,     4.5168,2,     -999.0,9,     -999.0,9,-999.0000, -999.00,-999.000
318M20130321,       P02E,     137,          1,         19,         19,2,20130527,       1912,    29.9995,  -126.4515,       4335,   871.7,   4.2524,  34.4222,2,  34.4208,2,     19.7,2,    19.1,2,  110.71,2,   43.01,2,       0,2,     3.2,2,   0.017,2,   0.013,2,-999.000,1,   0.0606,2,  -999.0,9, -999.00,9,-999.0000,9,  -999.00,-999.000,9,-999.0000,9, -999.00,9,   -0.47,2,  -199.7,2,     2.2,-999.000,9,-999.000,     -999.0,9, -999.00,9,   37.01,2, -999.00,9,     -999.0,9,  -999.0,9, 20130527,     2035,  29.9999,-126.4517,    34.5831,2,     -999.0,9,     -999.0,9,     4.2619,2,     -999.0,9,     -999.0,9,-999.0000, -999.00,-999.000
318M20130321,       P02E,     137,          1,         18,         18,2,20130527,       1912,    29.9995,  -126.4515,       4335,   973.4,   3.9312,  34.4594,2,  34.4599,2,     26.1,2,    27.2,2,  117.54,2,   43.04,2,       0,2,    3.17,2,   0.014,2,   0.010,2,-999.000,1,        0,2,  2353.8,2, 2365.44,2,   7.3391,2,       25,-999.000,9,-999.0000,9, -999.00,9,   -0.49,2,  -212.2,2,     1.9,-999.000,9,-999.000,     -999.0,9, -999.00,9, -999.00,5, -999.00,9,     -999.0,9,  -999.0,9, 20130527,     2032,  29.9999,-126.4519,    34.6224,2,     -999.0,9,     -999.0,9,     3.9304,2,     -999.0,9,     -999.0,9,-999.0000, -999.00,-999.000
318M20130321,       P02E,     137,          1,         17,         17,2,20130527,       1912,    29.9995,  -126.4515,       4335,  1075.6,     3.75,  34.4959,2,  34.4958,2,       32,2,      33,2,  121.54,2,   42.96,2,       0,2,    3.17,2,   0.009,6,   0.008,6,-999.000,1,        0,6,  -999.0,9, -999.00,9,-999.0000,9,  -999.00,-999.000,9,-999.0000,9, -999.00,9,   -0.32,2,  -214.2,2,     1.9,-999.000,9,-999.000,     -999.0,9, -999.00,9,   38.29,2, -999.00,9,     -999.0,9,  -999.0,9, 20130527,     2029,  29.9999,-126.4518,    34.6585,2,     -999.0,9,     -999.0,9,     3.7505,2,     -999.0,9,     -999.0,9,-999.0000, -999.00,-999.000
318M20130321,       P02E,     137,          1,         16,         16,2,20130527,       1912,    29.9995,  -126.4515,       4335,  1176.3,   3.5205,  34.5176,2,  34.5176,2,     35.8,2,    36.3,2,   127.1,2,   42.93,2,       0,2,    3.15,2,   0.011,2,   0.010,2,-999.000,1,        0,2,    2361,2, 2381.05,2,   7.3608,6,       25,-999.000,9,-999.0000,9, -999.00,9,   -0.46,2,  -219.3,2,     2.0,-999.000,9,-999.000,     -999.0,9, -999.00,9,   39.63,2, -999.00,9,     -999.0,9,  -999.0,9, 20130527,     2026,       30,-126.4516,    34.6803,2,     -999.0,9,     -999.0,9,     3.5206,2,     -999.0,9,     -999.0,9,-999.0000, -999.00,-999.000
318M20130321,       P02E,     137,          1,         15,         15,2,20130527,       1912,    29.9995,  -126.4515,       4335,  1278.4,   3.3046,  34.5304,2,  34.5303,2,     39.6,2,      39,2,  133.05,2,   42.87,2,       0,2,    3.13,2,   0.011,2,   0.010,2,-999.000,1,        0,2,  -999.0,9, -999.00,9,-999.0000,9,  -999.00,-999.000,9,-999.0000,9, -999.00,9,   -0.35,2,  -224.9,2,     1.7,-999.000,9,-999.000,     -999.0,9, -999.00,9,   39.59,2, -999.00,9,     -999.0,9,  -999.0,9, 20130527,     2023,       30,-126.4514,    34.6932,2,     -999.0,9,     -999.0,9,     3.3045,2,     -999.0,9,     -999.0,9,-999.0000, -999.00,-999.000
318M20130321,       P02E,     137,          1,         14,         14,2,20130527,       1912,    29.9995,  -126.4515,       4335,  1378.9,   3.0677,  34.5484,2,   34.548,2,     44.2,2,    43.7,2,   139.3,2,   42.72,2,       0,2,    3.11,2,   0.014,2,   0.014,2,-999.000,1,        0,2,  2367.9,2, 2392.05,2,   7.3755,2,       25,-999.000,9,-999.0000,9, -999.00,9,   -0.30,2,  -234.2,2,     1.8,-999.000,9,-999.000,     -999.0,9, -999.00,9,   37.81,2, -999.00,9,     -999.0,9,  -999.0,9, 20130527,     2020,       30,-126.4514,    34.7109,2,     -999.0,9,     -999.0,9,     3.0677,2,     -999.0,9,     -999.0,9,-999.0000, -999.00,-999.000
318M20130321,       P02E,     137,          1,         13,         13,2,20130527,       1912,    29.9995,  -126.4515,       4335,  1549.5,   2.7262,  34.5731,2,  34.5732,2,     53.1,2,    53.3,2,   147.5,2,    42.3,2,       0,2,    3.06,2,   0.008,2,   0.009,2,-999.000,1,        0,2,    2370,2, 2400.25,2,   7.3944,2,       25,-999.000,9,-999.0000,9, -999.00,9,   -0.32,2,  -242.2,2,     2.1,-999.000,9,-999.000,     -999.0,9, -999.00,9,   36.43,2, -999.00,9,     -999.0,9,  -999.0,9, 20130527,     2016,  30.0001,-126.4515,    34.7362,2,     -999.0,9,     -999.0,9,     2.7258,2,     -999.0,9,     -999.0,9,-999.0000, -999.00,-999.000
318M20130321,       P02E,     137,          1,         12,         12,2,20130527,       1912,    29.9995,  -126.4515,       4335,  1753.2,   2.3987,  34.5979,2,  34.5979,2,     65.2,2,    65.3,2,  155.11,2,   41.52,2,       0,2,    2.97,2,   0.004,2,   0.005,2,-999.000,1,        0,2,  -999.0,9, -999.00,9,-999.0000,9,  -999.00,-999.000,9,-999.0000,9, -999.00,9,   -0.28,2,  -249.4,2,     2.6,-999.000,9,-999.000,     -999.0,9, -999.00,9,   36.33,2, -999.00,9,     -999.0,9,  -999.0,9, 20130527,     2010,       30,-126.4517,    34.7611,2,     -999.0,9,     -999.0,9,     2.4012,2,     -999.0,9,     -999.0,9,-999.0000, -999.00,-999.000
318M20130321,       P02E,     137,          1,         11,         11,2,20130527,       1912,    29.9995,  -126.4515,       4335,  1956.1,   2.1337,  34.6193,2,  34.6191,2,     78.2,2,    78.5,2,  160.77,2,   40.76,2,       0,2,    2.92,2,   0.006,2,   0.007,2,-999.000,1,        0,2,  2368.5,2, 2416.06,2,   7.4444,2,       25,-999.000,9,-999.0000,9, -999.00,9,   -0.20,2,  -247.0,2,     2.6,-999.000,9,-999.000,     -999.0,9, -999.00,9, -999.00,5, -999.00,9,     -999.0,9,  -999.0,9, 20130527,     2006,       30,-126.4515,    34.7824,2,     -999.0,9,     -999.0,9,     2.1341,2,     -999.0,9,     -999.0,9,-999.0000, -999.00,-999.000
318M20130321,       P02E,     137,          1,         10,         10,2,20130527,       1912,    29.9995,  -126.4515,       4335,  2188.7,   1.9996,  34.6327,2,  34.6329,2,     87.5,2,    86.9,2,   163.4,2,   40.25,2,       0,2,    2.87,2,   0.004,2,   0.006,2,-999.000,1,        0,2,  2366.3,2, 2419.66,2,   7.4607,2,       25,-999.000,9,-999.0000,9, -999.00,9,   -0.19,2,  -247.5,2,     1.9,-999.000,9,-999.000,     -999.0,9, -999.00,9, -999.00,5, -999.00,9,     -999.0,9,  -999.0,9, 20130527,     2000,  29.9999,-126.4517,    34.7962,2,     -999.0,9,     -999.0,9,     1.9999,2,     -999.0,9,     -999.0,9,-999.0000, -999.00,-999.000
318M20130321,       P02E,     137,          1,          9,          9,2,20130527,       1912,    29.9995,  -126.4515,       4335,  2444.8,   1.8857,  34.6438,2,  34.6433,2,     95.6,2,    96.1,2,  165.25,2,   39.75,2,       0,2,    2.81,2,   0.002,2,   0.004,2,-999.000,1,        0,2,  -999.0,9, -999.00,9,-999.0000,9,  -999.00,-999.000,9,-999.0000,9, -999.00,9,   -0.12,2,  -249.7,2,     2.2,-999.000,9,-999.000,     -999.0,9, -999.00,9, -999.00,9, -999.00,9,     -999.0,9,  -999.0,9, 20130527,     1955,  29.9998,-126.4516,    34.8066,2,     -999.0,9,     -999.0,9,     1.8856,2,     -999.0,9,     -999.0,9,-999.0000, -999.00,-999.000
318M20130321,       P02E,     137,          1,          8,          8,2,20130527,       1912,    29.9995,  -126.4515,       4335,  2697.9,   1.7384,  34.6543,2,  34.6537,2,    105.1,2,   105.4,2,  168.18,2,   39.17,2,       0,2,    2.75,2,   0.002,2,   0.004,2,-999.000,1,        0,2,    2359,2, 2424.36,2,   7.4952,2,       25,-999.000,9,-999.0000,9, -999.00,9,   -0.09,2,  -249.2,2,     2.3,-999.000,9,-999.000,     -999.0,9, -999.00,9,    36.5,2, -999.00,9,     -999.0,9,  -999.0,9, 20130527,     1949,  29.9997,-126.4517,    34.8171,2,     -999.0,9,     -999.0,9,     1.7388,2,     -999.0,9,     -999.0,9,-999.0000, -999.00,-999.000
318M20130321,       P02E,     137,          1,          7,          7,2,20130527,       1912,    29.9995,  -126.4515,       4335,  2951.4,   1.6287,  34.6632,2,  34.6622,2,    113.4,2,   113.7,2,  170.13,2,   38.63,2,       0,2,     2.7,2,   0.003,2,   0.005,2,-999.000,1,        0,2,  -999.0,9, -999.00,9,-999.0000,9,  -999.00,-999.000,9,-999.0000,9, -999.00,9,   -0.10,2,  -245.0,2,     2.4,-999.000,9,-999.000,     -999.0,9, -999.00,9, -999.00,9, -999.00,9,     -999.0,9,  -999.0,9, 20130527,     1944,  29.9994,-126.4514,    34.8256,2,     -999.0,9,     -999.0,9,     1.6303,2,     -999.0,9,     -999.0,9,-999.0000, -999.00,-999.000
318M20130321,       P02E,     137,          1,          6,          6,2,20130527,       1912,    29.9995,  -126.4515,       4335,  3243.5,   1.5629,  34.6701,2,    34.67,2,    122.5,2,   122.2,2,  170.52,2,   38.15,2,       0,2,    2.66,2,   0.006,2,   0.009,2,-999.000,1,        0,2,  2351.7,2, 2427.76,2,   7.5258,6,       25,-999.000,9,-999.0000,9, -999.00,9,   -0.10,2,  -238.0,2,     2.8,-999.000,9,-999.000,     -999.0,9, -999.00,9,   36.41,2, -999.00,9,     -999.0,9,  -999.0,9, 20130527,     1937,  29.9996,-126.4514,    34.8335,2,     -999.0,9,     -999.0,9,     1.5628,2,     -999.0,9,     -999.0,9,-999.0000, -999.00,-999.000