BOTTLE,20220817CCHSIOAMB
EXPOCODE,SECT_ID,STNNBR,CASTNO,SAMPNO,BTLNBR,BTLNBR_FLAG_W,DATE,TIME,LATITUDE,LONGITUDE,DEPTH,CTDPRS,CTDTMP,CTDSAL,CTDSAL_FLAG_W,SALNTY,SALNTY_FLAG_W,CTDOXY,CTDOXY_FLAG_W,OXYGEN,OXYGEN_FLAG_W,SILCAT,SILCAT_FLAG_W,NITRAT,NITRAT_FLAG_W,NITRIT,NITRIT_FLAG_W,PHSPHT,PHSPHT_FLAG_W,CFC-11,CFC-11_FLAG_W,CFC-12,CFC-12_FLAG_W,CFC113,CFC113_FLAG_W,SF6,SF6_FLAG_W,TCARBN,TCARBN_FLAG_W,ALKALI,ALKALI_FLAG_W,PH_TOT,PH_TOT_FLAG_W,PH_TMP,TRITUM,TRITUM_FLAG_W,HELIUM,HELIUM_FLAG_W,DELHE3,DELHE3_FLAG_W,DELC13,DELC13_FLAG_W,DELC14,DELC14_FLAG_W,C14ERR,NEON,NEON_FLAG_W,NEONER,I-129,I-129_FLAG_W,SR-90,SR-90_FLAG_W,DOC,DOC_FLAG_W,TDN,TDN_FLAG_W,CALCIUM,CALCIUM_FLAG_W,D15N_NO3,D15N_NO3_FLAG_W,BTL_DATE,BTL_TIME,BTL_LAT,BTL_LON,SALTREF,SALTREF_FLAG_W,CS-137,CS-137_FLAG_W,CS-134,CS-134_FLAG_W,REFTMP,REFTMP_FLAG_W,LAB_DEN,LAB_DEN_FLAG_W,D18O_NO3,D18O_NO3_FLAG_W,HELIER,DELHER,TRITER
,,,,,,,,,,,METERS,DBAR,ITS-90,PSS-78,,PSS-78,,UMOL/KG,,UMOL/KG,,UMOL/KG,,UMOL/KG,,UMOL/KG,,UMOL/KG,,PMOL/KG,,PMOL/KG,,PMOL/KG,,FMOL/KG,,UMOL/KG,,UMOL/KG,,,,DEG C,TU,,NMOL/KG,,PERCNT,,/MILLE,,/MILLE,,/MILLE,NMOL/KG,,NMOL/KG,BQ/M^3,,DM/.1MG,,UMOL/KG,,UMOL/KG,,MMOL/KG,,/MILLE,,,,,,G/KG,,BQ/M^3,,BQ/M^3,,ITS-90,,,,/MILLE,,NMOL/KG,PERCNT,TU
318M20130321,       P02E,     156,          2,          3,          3,2,20130601,       0235,    32.6312,  -118.1547,       2033,  1954.9,   2.6373,  34.5918,2,  34.5926,2,       56,2,    55.9,2,  153.55,2,   41.42,2,       0,2,    3.06,2,   0.064,2,   0.134,2,-999.000,1,        0,2,  2378.3,2, 2414.06,2,   7.4058,6,       25,-999.000,9,-999.0000,9, -999.00,9, -999.00,9,  -999.0,9,  -999.0,-999.000,9,-999.000,     -999.0,9, -999.00,9, -999.00,9, -999.00,9,     -999.0,9,  -999.0,9, 20130601,      238,  32.6312,-118.1547,    34.7557,2,     -999.0,9,     -999.0,9,     2.6369,2,     -999.0,9,     -999.0,9,-999.0000, -999.00,-999.000
318M20130321,       P02E,     156,          2,          2,          2,2,20130601,       0235,    32.6312,  -118.1547,       2033,  2046.7,   2.6448,   34.592,2,  34.5926,2,     55.1,2,    55.3,2,  154.13,2,   41.41,2,       0,2,    3.07,2,   0.067,2,   0.172,2,-999.000,1,        0,2,  2381.2,6, 2416.26,2,   7.4043,2,       25,-999.000,9,   1.9690,2,   24.10,2, -999.00,9,  -999.0,9,  -999.0,   8.375,2,   0.039,     -999.0,9, -999.00,9, -999.00,9, -999.00,9,     -999.0,9,  -999.0,9, 20130601,      235,  32.6312,-118.1547,    34.7557,2,     -999.0,9,     -999.0,9,      2.645,2,     -999.0,9,     -999.0,9,   0.0083,    0.15,-999.000
318M20130321,       P02E,     157,          1,         20,         20,2,20130601,       0557,     32.643,  -117.8245,        729,     2.3,  17.5861,   33.589,2,   33.594,2,    267.3,2,   265.3,2,    2.34,2,       0,2,       0,2,    0.27,2,   2.504,2,   1.498,2,-999.000,1,   1.6458,2,  2006.1,6,  2239.2,2,   7.9461,2,       25,-999.000,9,-999.0000,9, -999.00,9,    1.49,2,     3.4,2,     2.5,-999.000,9,-999.000,     -999.0,9, -999.00,9,   65.91,2,    3.97,2,     -999.0,9,  -999.0,9, 20130601,      633,  32.6444,-117.8247,    33.7524,2,     -999.0,9,     -999.0,9,    17.8099,3,     -999.0,9,     -999.0,9,-999.0000, -999.00,-999.000
318M20130321,       P02E,     157,          1,         19,         19,2,20130601,       0557,     32.643,  -117.8245,        729,    20.2,  13.5597,  33.4905,2,  33.4951,2,    283.7,2,   278.9,2,    4.59,2,    1.48,2,    0.08,2,    0.45,2,-999.000,9,-999.000,9,-999.000,9,-999.0000,9,  2029.6,2, 2229.29,2,   7.8779,2,       25,-999.000,9,-999.0000,9, -999.00,9, -999.00,9,  -999.0,9,  -999.0,-999.000,9,-999.000,     -999.0,9, -999.00,9,   61.51,2,    4.78,2,     -999.0,1,  -999.0,9, 20130601,      631,  32.6444,-117.8244,     33.653,2,     -999.0,9,     -999.0,9,    13.5417,2,     -999.0,9,     -999.0,9,-999.0000, -999.00,-999.000
318M20130321,       P02E,     157,          1,         18,         18,2,20130601,       0557,     32.643,  -117.8245,        729,    40.9,  11.2387,  33.5645,2,  33.5524,2,    193.4,2,   180.8,2,   13.19,2,   14.37,2,    0.32,2,    1.29,2,   3.003,2,   1.725,2,-999.000,1,   1.5888,2,  -999.0,9, -999.00,9,-999.0000,9,  -999.00,-999.000,9,-999.0000,9, -999.00,9, -999.00,9,  -999.0,9,  -999.0,-999.000,9,-999.000,     -999.0,9, -999.00,9,   58.84,2, -999.00,5,     -999.0,9,  -999.0,9, 20130601,      629,  32.6443,-117.8245,    33.7106,2,     -999.0,9,     -999.0,9,    11.2328,2,     -999.0,9,     -999.0,9,-999.0000, -999.00,-999.000
318M20130321,       P02E,     157,          1,         17,         17,2,20130601,       0557,     32.643,  -117.8245,        729,      65,  10.1238,  33.7492,2,  33.7391,2,    139.9,2,   131.1,2,   22.17,2,   21.81,2,    0.06,2,    1.76,2,-999.000,9,-999.000,9,-999.000,9,-999.0000,9,  2165.5,2,  2238.1,2,   7.5438,2,       25,-999.000,9,-999.0000,9, -999.00,9,   -0.11,2,    11.9,2,     3.4,-999.000,9,-999.000,     -999.0,9, -999.00,9,   45.52,2,   26.88,3,     -999.0,1,  -999.0,9, 20130601,      628,  32.6442,-117.8245,    33.8982,2,     -999.0,9,     -999.0,9,    10.1325,2,     -999.0,9,     -999.0,9,-999.0000, -999.00,-999.000
318M20130321,       P02E,     157,          1,         16,         16,2,20130601,       0557,     32.643,  -117.8245,        729,      90,   9.6235,  33.8873,2,   33.885,2,    114.8,2,     115,2,   26.96,2,   24.44,2,    0.03,2,    1.93,2,   2.836,2,   1.576,2,-999.000,1,   1.1143,2,  -999.0,9, -999.00,9,-999.0000,9,  -999.00,-999.000,9,-999.0000,9, -999.00,9, -999.00,9,  -999.0,9,  -999.0,-999.000,9,-999.000,     -999.0,9, -999.00,9,   46.04,2,    29.2,3,     -999.0,9,  -999.0,9, 20130601,      626,  32.6441,-117.8246,    34.0448,2,     -999.0,9,     -999.0,9,     9.6206,2,     -999.0,9,     -999.0,9,-999.0000, -999.00,-999.000
318M20130321,       P02E,     157,          1,         15,         15,2,20130601,       0557,     32.643,  -117.8245,        729,   116.2,   9.1794,  33.9768,2,  33.9762,2,    111.2,2,   108.1,2,   30.57,2,   26.08,2,    0.02,2,    2.03,2,-999.000,9,-999.000,9,-999.000,9,-999.0000,9,  2197.3,2,  2255.9,2,   7.4946,2,       25,-999.000,9,-999.0000,9, -999.00,9,   -0.29,2,     1.6,2,     2.6,-999.000,9,-999.000,     -999.0,9, -999.00,9,   44.28,2,   31.47,3,     -999.0,9,  -999.0,9, 20130601,      624,  32.6439,-117.8246,    34.1364,2,     -999.0,9,     -999.0,9,     9.1816,2,     -999.0,9,     -999.0,9,-999.0000, -999.00,-999.000
318M20130321,       P02E,     157,          1,         14,         14,2,20130601,       0557,     32.643,  -117.8245,        729,   141.3,   9.1922,  34.0671,2,  34.0679,2,     88.4,2,    88.7,2,   33.49,2,   27.23,2,    0.02,2,    2.17,2,   2.461,2,   1.339,2,-999.000,1,   0.8945,2,    2214,2,  2262.9,2,   7.4635,2,       25,-999.000,9,-999.0000,9, -999.00,9,   -0.36,2,    -4.5,2,     3.0,-999.000,9,-999.000,     -999.0,9, -999.00,9,   44.64,2,   34.52,3,     -999.0,1,  -999.0,9, 20130601,      622,  32.6437,-117.8247,    34.2286,2,     -999.0,9,     -999.0,9,     9.1926,2,     -999.0,9,     -999.0,9,-999.0000, -999.00,-999.000
318M20130321,       P02E,     157,          1,         13,         13,2,20130601,       0557,     32.643,  -117.8245,        729,   165.4,    9.111,  34.0922,2,  34.0965,2,     81.8,2,    82.1,2,   34.96,2,   27.87,2,    0.02,2,    2.23,2,-999.000,9,-999.000,9,-999.000,9,-999.0000,9,  -999.0,9, -999.00,9,-999.0000,9,  -999.00,-999.000,9,-999.0000,9, -999.00,9,   -0.37,2,    -8.5,2,     3.1,-999.000,9,-999.000,     -999.0,9, -999.00,9,    45.7,2,   34.15,3,     -999.0,9,  -999.0,9, 20130601,      620,  32.6435,-117.8247,    34.2573,2,     -999.0,9,     -999.0,9,      9.112,2,     -999.0,9,     -999.0,9,-999.0000, -999.00,-999.000
318M20130321,       P02E,     157,          1,         12,         12,2,20130601,       0557,     32.643,  -117.8245,        729,   191.5,   8.9708,  34.1655,2,  34.1612,2,     70.8,2,    69.3,2,   37.69,2,   28.82,2,    0.02,2,    2.34,2,-999.000,9,-999.000,9,-999.000,9,-999.0000,9,  -999.0,9, -999.00,9,-999.0000,9,  -999.00,-999.000,9,-999.0000,9, -999.00,9,   -0.42,2,   -12.7,2,     2.8,-999.000,9,-999.000,     -999.0,9, -999.00,9,   41.94,2,   32.37,3,     -999.0,9,  -999.0,9, 20130601,      619,  32.6433,-117.8247,    34.3223,2,     -999.0,9,     -999.0,9,     8.9937,2,     -999.0,9,     -999.0,9,-999.0000, -999.00,-999.000
318M20130321,       P02E,     157,          1,         11,         11,2,20130601,       0557,     32.643,  -117.8245,        729,   216.2,   8.7959,  34.2288,2,  34.2283,2,     53.9,2,    52.6,2,   41.99,2,   30.15,2,    0.02,2,    2.48,2,   1.740,2,   0.918,2,-999.000,1,   0.4298,2,    2249,2, 2278.71,6,   7.4013,6,       25,-999.000,9,-999.0000,9, -999.00,9,   -0.41,2,   -30.6,2,     2.7,-999.000,9,-999.000,     -999.0,9, -999.00,9,   42.02,2,   35.66,3,     -999.0,1,  -999.0,9, 20130601,      617,  32.6433,-117.8247,    34.3897,2,     -999.0,9,     -999.0,9,     8.7964,2,     -999.0,9,     -999.0,9,-999.0000, -999.00,-999.000
318M20130321,       P02E,     157,          1,         10,         10,2,20130601,       0557,     32.643,  -117.8245,        729,   241.1,   8.7282,  34.2639,2,  34.2605,2,     46.5,2,    45.1,2,   43.84,2,   30.69,2,    0.01,2,    2.57,2,-999.000,9,-999.000,9,-999.000,9,-999.0000,9,  -999.0,9, -999.00,9,-999.0000,9,  -999.00,-999.000,9,-999.0000,9, -999.00,9,   -0.42,2,   -37.0,2,     2.8,-999.000,9,-999.000,     -999.0,9, -999.00,9,   40.64,2,   34.58,3,     -999.0,9,  -999.0,9, 20130601,      616,  32.6432,-117.8247,     34.422,2,     -999.0,9,     -999.0,9,     8.7284,2,     -999.0,9,     -999.0,9,-999.0000, -999.00,-999.000
318M20130321,       P02E,     157,          1,          9,          9,2,20130601,       0557,     32.643,  -117.8245,        729,   287.3,   8.5296,  34.2791,2,  34.2791,2,       39,2,    39.4,2,   46.28,2,   31.29,2,    0.01,2,    2.63,2,-999.000,9,-999.000,9,-999.000,9,-999.0000,9,  -999.0,9, -999.00,9,-999.0000,9,  -999.00,-999.000,9,-999.0000,9, -999.00,9,   -0.39,2,   -42.8,2,     2.7,-999.000,9,-999.000,     -999.0,9, -999.00,9,   42.89,2,   36.58,3,     -999.0,1,  -999.0,9, 20130601,      614,  32.6431,-117.8246,    34.4407,2,     -999.0,9,     -999.0,9,     8.5303,2,     -999.0,9,     -999.0,9,-999.0000, -999.00,-999.000
318M20130321,       P02E,     157,          1,          8,          8,2,20130601,       0557,     32.643,  -117.8245,        729,   337.4,   8.1987,  34.2838,2,  34.2816,2,     35.6,2,    35.4,2,    49.5,2,   32.23,2,    0.01,2,    2.68,2,   1.206,2,   0.620,2,-999.000,1,   0.2695,2,  2269.9,2, 2289.61,2,    7.397,2,       25,-999.000,9,-999.0000,9, -999.00,9,   -0.41,2,   -65.3,2,     3.0,-999.000,9,-999.000,     -999.0,9, -999.00,9, -999.00,5,    36.2,3,     -999.0,1,  -999.0,9, 20130601,      612,   32.643,-117.8245,    34.4433,2,     -999.0,9,     -999.0,9,     8.2018,2,     -999.0,9,     -999.0,9,-999.0000, -999.00,-999.000
318M20130321,       P02E,     157,          1,          7,          7,2,20130601,       0557,     32.643,  -117.8245,        729,     388,   7.2139,  34.2309,2,  34.2222,2,     37.1,2,    35.4,2,   57.51,2,   34.97,2,       0,2,    2.78,2,-999.000,9,-999.000,9,-999.000,9,-999.0000,9,  -999.0,9, -999.00,9,-999.0000,9,  -999.00,-999.000,9,-999.0000,9, -999.00,9,   -0.43,2,   -64.5,2,     2.5,-999.000,9,-999.000,     -999.0,9, -999.00,9,    39.4,2, -999.00,9,     -999.0,9,  -999.0,9, 20130601,      609,   32.643,-117.8245,    34.3836,2,     -999.0,9,     -999.0,9,     7.2205,2,     -999.0,9,     -999.0,9,-999.0000, -999.00,-999.000
318M20130321,       P02E,     157,          1,          6,          6,2,20130601,       0557,     32.643,  -117.8245,        729,   437.9,   7.1211,  34.2693,2,  34.2695,2,     26.4,2,    25.8,2,   61.22,2,    35.7,2,       0,2,    2.88,2,   0.763,2,   0.378,2,-999.000,1,   0.0929,2,  2290.5,2, 2299.92,2,   7.3359,2,       25,-999.000,9,-999.0000,9, -999.00,9,   -0.41,2,   -92.4,2,     2.8,-999.000,9,-999.000,     -999.0,9, -999.00,9, -999.00,5, -999.00,9,     -999.0,1,  -999.0,9, 20130601,      607,   32.643,-117.8245,    34.4311,2,     -999.0,9,     -999.0,9,     7.1107,2,     -999.0,9,     -999.0,9,-999.0000, -999.00,-999.000
318M20130321,       P02E,     157,          1,          5,         37,2,20130601,       0557,     32.643,  -117.8245,        729,   489.2,    6.726,  34.2883,2,  34.2879,2,     20.8,2,    20.5,2,   66.98,2,   37.01,2,       0,2,    2.97,2,-999.000,9,-999.000,9,-999.000,9,-999.0000,9,  -999.0,9, -999.00,9,-999.0000,9,  -999.00,-999.000,9,-999.0000,9, -999.00,9,   -0.42,2,  -111.4,2,     2.3,-999.000,9,-999.000,     -999.0,9, -999.00,9,   38.32,2, -999.00,9,     -999.0,9,  -999.0,9, 20130601,      605,   32.643,-117.8245,    34.4496,2,     -999.0,9,     -999.0,9,     6.7222,2,     -999.0,9,     -999.0,9,-999.0000, -999.00,-999.000
318M20130321,       P02E,     157,          1,          4,          4,2,20130601,       0557,     32.643,  -117.8245,        729,   568.8,   6.2578,  34.3158,2,  34.3158,2,     15.6,2,    14.7,2,   74.88,2,   38.62,2,       0,2,    3.08,2,   0.292,2,   0.152,2,-999.000,1,        0,2,  -999.0,9, -999.00,9,-999.0000,9,  -999.00,-999.000,9,-999.0000,9, -999.00,9,   -0.41,2,  -124.8,2,     2.3,-999.000,9,-999.000,     -999.0,9, -999.00,9,   38.65,2, -999.00,9,     -999.0,1,  -999.0,9, 20130601,      603,   32.643,-117.8245,    34.4776,2,     -999.0,9,     -999.0,9,     6.2554,2,     -999.0,9,     -999.0,9,-999.0000, -999.00,-999.000
318M20130321,       P02E,     157,          1,          3,          3,2,20130601,       0557,     32.643,  -117.8245,        729,   670.5,   5.5209,  34.3673,2,  34.3664,2,     12.1,2,    11.9,2,   87.57,2,   40.52,2,       0,2,    3.16,2,-999.000,9,-999.000,9,-999.000,9,-999.0000,9,  2331.7,2, 2332.63,2,   7.3127,2,       25,-999.000,9,-999.0000,9, -999.00,9,   -0.40,2,  -160.6,2,     2.7,-999.000,9,-999.000,     -999.0,9, -999.00,9,   40.14,2, -999.00,9,     -999.0,1,  -999.0,9, 20130601,      600,   32.643,-117.8245,    34.5285,2,     -999.0,9,     -999.0,9,     5.5208,2,     -999.0,9,     -999.0,9,-999.0000, -999.00,-999.000
318M20130321,       P02E,     157,          1,          2,          2,2,20130601,       0557,     32.643,  -117.8245,        729,   727.1,   5.2511,  34.3879,2,  34.3898,2,     12.3,2,    12.1,2,   92.45,2,   41.17,2,       0,2,     3.2,2,   0.113,2,   0.066,2,-999.000,1,        0,2,    2338,2, 2338.33,2,   7.3133,2,       25,-999.000,9,-999.0000,9, -999.00,9,   -0.40,2,  -169.7,2,     2.0,-999.000,9,-999.000,     -999.0,9, -999.00,9,    37.8,2, -999.00,9,     -999.0,1,  -999.0,9, 20130601,      558,   32.643,-117.8245,    34.5519,2,     -999.0,9,     -999.0,9,     5.2497,2,     -999.0,9,     -999.0,9,-999.0000, -999.00,-999.000