BOTTLE,20220817CCHSIOAMB
EXPOCODE,SECT_ID,STNNBR,CASTNO,SAMPNO,BTLNBR,BTLNBR_FLAG_W,DATE,TIME,LATITUDE,LONGITUDE,DEPTH,CTDPRS,CTDTMP,CTDSAL,CTDSAL_FLAG_W,SALNTY,SALNTY_FLAG_W,CTDOXY,CTDOXY_FLAG_W,OXYGEN,OXYGEN_FLAG_W,SILCAT,SILCAT_FLAG_W,NITRAT,NITRAT_FLAG_W,NITRIT,NITRIT_FLAG_W,PHSPHT,PHSPHT_FLAG_W,CFC-11,CFC-11_FLAG_W,CFC-12,CFC-12_FLAG_W,CFC113,CFC113_FLAG_W,SF6,SF6_FLAG_W,TCARBN,TCARBN_FLAG_W,ALKALI,ALKALI_FLAG_W,PH_TOT,PH_TOT_FLAG_W,PH_TMP,TRITUM,TRITUM_FLAG_W,HELIUM,HELIUM_FLAG_W,DELHE3,DELHE3_FLAG_W,DELC13,DELC13_FLAG_W,DELC14,DELC14_FLAG_W,C14ERR,NEON,NEON_FLAG_W,NEONER,I-129,I-129_FLAG_W,SR-90,SR-90_FLAG_W,DOC,DOC_FLAG_W,TDN,TDN_FLAG_W,CALCIUM,CALCIUM_FLAG_W,D15N_NO3,D15N_NO3_FLAG_W,BTL_DATE,BTL_TIME,BTL_LAT,BTL_LON,SALTREF,SALTREF_FLAG_W,CS-137,CS-137_FLAG_W,CS-134,CS-134_FLAG_W,REFTMP,REFTMP_FLAG_W,LAB_DEN,LAB_DEN_FLAG_W,D18O_NO3,D18O_NO3_FLAG_W,HELIER,DELHER,TRITER
,,,,,,,,,,,METERS,DBAR,ITS-90,PSS-78,,PSS-78,,UMOL/KG,,UMOL/KG,,UMOL/KG,,UMOL/KG,,UMOL/KG,,UMOL/KG,,PMOL/KG,,PMOL/KG,,PMOL/KG,,FMOL/KG,,UMOL/KG,,UMOL/KG,,,,DEG C,TU,,NMOL/KG,,PERCNT,,/MILLE,,/MILLE,,/MILLE,NMOL/KG,,NMOL/KG,BQ/M^3,,DM/.1MG,,UMOL/KG,,UMOL/KG,,MMOL/KG,,/MILLE,,,,,,G/KG,,BQ/M^3,,BQ/M^3,,ITS-90,,,,/MILLE,,NMOL/KG,PERCNT,TU
318M20130321,       P02W,       9,          1,         36,         36,2,20130324,       0451,    31.6349,   133.7585,       4876,     3.2,  21.3297,  34.7099,2,  34.7089,2,    216.2,2,   220.7,2,    1.76,2,       0,2,       0,2,    0.02,2,-999.000,9,-999.000,9,-999.000,9,-999.0000,9,    1977,6, 2276.94,2,   8.0533,2,       25,-999.000,9,-999.0000,9, -999.00,9,    0.76,2,    52.8,2,     2.6,-999.000,9,-999.000,     -999.0,9, -999.00,9,   61.78,2,    4.39,2,     -999.0,9,  -999.0,9, 20130324,      705,  31.6498, 133.7631,    34.8726,2,     -999.0,9,     -999.0,9,    21.3296,2,     -999.0,9,     -999.0,9,-999.0000, -999.00,-999.000
318M20130321,       P02W,       9,          1,         35,         35,2,20130324,       0451,    31.6349,   133.7585,       4876,    42.1,  21.0603,  34.7615,2,  34.7581,2,    222.9,2,   222.5,2,    1.56,2,       0,2,       0,2,    0.01,2,-999.000,9,-999.000,9,-999.000,9,-999.0000,9,  -999.0,9, -999.00,9,-999.0000,9,  -999.00,-999.000,9,-999.0000,9, -999.00,9, -999.00,9,  -999.0,9,  -999.0,-999.000,9,-999.000,     -999.0,9, -999.00,9,   60.22,2,    3.93,2,     -999.0,9,  -999.0,9, 20130324,      702,  31.6486, 133.7625,     34.922,2,     -999.0,9,     -999.0,9,      21.06,2,     -999.0,9,     -999.0,9,-999.0000, -999.00,-999.000
318M20130321,       P02W,       9,          1,         34,         34,2,20130324,       0451,    31.6349,   133.7585,       4876,    66.9,  20.8365,  34.7769,2,  34.7758,2,    222.8,2,   222.7,2,    1.37,2,       0,2,       0,2,       0,2,-999.000,9,-999.000,9,-999.000,9,-999.0000,9,  -999.0,9, -999.00,9,-999.0000,9,  -999.00,-999.000,9,-999.0000,9, -999.00,9,    0.73,2,    54.9,2,     2.7,-999.000,9,-999.000,     -999.0,9, -999.00,9,   61.85,2,    4.29,2,     -999.0,9,  -999.0,9, 20130324,      700,   31.648, 133.7622,    34.9398,2,     -999.0,9,     -999.0,9,     20.836,2,     -999.0,9,     -999.0,9,-999.0000, -999.00,-999.000
318M20130321,       P02W,       9,          1,         33,         33,2,20130324,       0451,    31.6349,   133.7585,       4876,    92.1,  20.7821,  34.7818,2,  34.7809,2,    222.6,2,   221.4,2,    1.27,2,    0.01,2,    0.05,2,    0.01,2,-999.000,9,-999.000,9,-999.000,9,-999.0000,9,  1985.6,2, 2281.54,2,    8.042,6,       25,-999.000,9,-999.0000,9, -999.00,9,    0.69,2,    51.2,2,     2.4,-999.000,9,-999.000,     -999.0,9, -999.00,9,   61.76,2,    4.18,2,     -999.0,9,  -999.0,9, 20130324,      659,  31.6473, 133.7618,    34.9449,2,     -999.0,9,     -999.0,9,    20.7823,2,     -999.0,9,     -999.0,9,-999.0000, -999.00,-999.000
318M20130321,       P02W,       9,          1,         32,         32,2,20130324,       0451,    31.6349,   133.7585,       4876,   122.1,  20.5791,  34.7857,2,  34.7856,2,    220.7,2,   218.8,2,    1.37,2,    0.18,2,    0.16,2,    0.03,2,-999.000,9,-999.000,9,-999.000,9,-999.0000,9,  -999.0,9, -999.00,9,-999.0000,9,  -999.00,-999.000,9,-999.0000,9, -999.00,9, -999.00,9,  -999.0,9,  -999.0,-999.000,9,-999.000,     -999.0,9, -999.00,9,   60.92,2,    4.31,2,     -999.0,9,  -999.0,9, 20130324,      657,  31.6468, 133.7616,    34.9496,2,     -999.0,9,     -999.0,9,    20.5722,2,     -999.0,9,     -999.0,9,-999.0000, -999.00,-999.000
318M20130321,       P02W,       9,          1,         31,         31,2,20130324,       0451,    31.6349,   133.7585,       4876,   171.9,  19.7825,  34.7786,2,  34.7782,2,    217.2,2,   207.2,2,    2.24,2,    1.67,2,     0.1,2,    0.13,2,-999.000,9,-999.000,9,-999.000,9,-999.0000,9,  2009.3,2, 2281.84,6,   8.0039,2,       25,-999.000,9,-999.0000,9, -999.00,9,    0.55,2,    54.3,2,     2.4,-999.000,9,-999.000,     -999.0,9, -999.00,9,   60.19,2,    6.53,2,     -999.0,9,  -999.0,9, 20130324,      655,  31.6461, 133.7612,    34.9422,2,     -999.0,9,     -999.0,9,    19.7773,2,     -999.0,9,     -999.0,9,-999.0000, -999.00,-999.000
318M20130321,       P02W,       9,          1,         30,         30,2,20130324,       0451,    31.6349,   133.7585,       4876,   220.4,  19.0905,  34.8079,2,  34.8065,2,    193.2,2,   192.8,2,    2.73,2,    3.39,2,    0.02,2,    0.23,2,-999.000,9,-999.000,9,-999.000,9,-999.0000,9,  -999.0,9, -999.00,9,-999.0000,9,  -999.00,-999.000,9,-999.0000,9, -999.00,9, -999.00,9,  -999.0,9,  -999.0,-999.000,9,-999.000,     -999.0,9, -999.00,9,   47.07,2,    6.93,2,     -999.0,9,  -999.0,9, 20130324,      653,  31.6454, 133.7609,    34.9706,2,     -999.0,9,     -999.0,9,    19.0909,2,     -999.0,9,     -999.0,9,-999.0000, -999.00,-999.000
318M20130321,       P02W,       9,          1,         29,         29,2,20130324,       0451,    31.6349,   133.7585,       4876,   270.5,  18.2998,  34.7494,2,  34.7471,2,    190.5,2,   193.1,2,     3.9,2,    4.49,2,    0.01,2,     0.3,2,-999.000,9,-999.000,9,-999.000,9,-999.0000,9,  2034.4,2, 2279.84,2,   7.9494,6,       25,-999.000,9,-999.0000,9, -999.00,9,    0.43,2,    62.0,2,     2.4,-999.000,9,-999.000,     -999.0,9, -999.00,9,   48.58,2,    8.02,2,     -999.0,9,  -999.0,9, 20130324,      651,  31.6449, 133.7606,    34.9109,2,     -999.0,9,     -999.0,9,     18.301,2,     -999.0,9,     -999.0,9,-999.0000, -999.00,-999.000
318M20130321,       P02W,       9,          1,         28,         28,2,20130324,       0451,    31.6349,   133.7585,       4876,   319.4,  17.2923,  34.6862,2,  34.6844,2,    183.2,2,   183.8,2,    7.61,2,    6.93,2,    0.01,2,    0.49,2,-999.000,9,-999.000,9,-999.000,9,-999.0000,9,  -999.0,9, -999.00,9,-999.0000,9,  -999.00,-999.000,9,-999.0000,9, -999.00,9, -999.00,9,  -999.0,9,  -999.0,-999.000,9,-999.000,     -999.0,9, -999.00,9,   46.11,2,   10.53,2,     -999.0,9,  -999.0,9, 20130324,      649,  31.6446, 133.7603,     34.848,2,     -999.0,9,     -999.0,9,    17.2931,2,     -999.0,9,     -999.0,9,-999.0000, -999.00,-999.000
318M20130321,       P02W,       9,          1,         27,         27,2,20130324,       0451,    31.6349,   133.7585,       4876,     367,  16.4484,  34.6399,2,  34.6379,2,    181.8,2,   180.9,2,    9.57,2,    8.37,2,    0.01,2,    0.59,2,-999.000,9,-999.000,9,-999.000,9,-999.0000,9,  2067.1,2, 2278.24,2,   7.8868,6,       25,-999.000,9,-999.0000,9, -999.00,9,    0.34,6,    53.3,6,     2.5,-999.000,9,-999.000,     -999.0,9, -999.00,9,   46.21,2, -999.00,9,     -999.0,9,  -999.0,9, 20130324,      647,  31.6445,   133.76,    34.8012,2,     -999.0,9,     -999.0,9,    16.4455,2,     -999.0,9,     -999.0,9,-999.0000, -999.00,-999.000
318M20130321,       P02W,       9,          1,         26,         26,2,20130324,       0451,    31.6349,   133.7585,       4876,   417.5,  15.1921,  34.5695,2,  34.5689,2,    179.1,2,   182.3,2,    9.86,2,    9.73,2,    0.01,2,    0.68,2,-999.000,9,-999.000,9,-999.000,9,-999.0000,9,  -999.0,9, -999.00,9,-999.0000,9,  -999.00,-999.000,9,-999.0000,9, -999.00,9, -999.00,9,  -999.0,9,  -999.0,-999.000,9,-999.000,     -999.0,9, -999.00,9,   45.82,2, -999.00,9,     -999.0,9,  -999.0,9, 20130324,      645,  31.6445, 133.7598,    34.7319,2,     -999.0,9,     -999.0,9,    15.1876,2,     -999.0,9,     -999.0,9,-999.0000, -999.00,-999.000
318M20130321,       P02W,       9,          1,         25,         25,2,20130324,       0451,    31.6349,   133.7585,       4876,   466.2,  13.6198,  34.4825,2,  34.4801,2,    169.2,2,   169.9,2,   18.65,2,   13.54,2,    0.01,2,    0.96,2,-999.000,9,-999.000,9,-999.000,9,-999.0000,9,  -999.0,9, -999.00,9,-999.0000,9,  -999.00,-999.000,9,-999.0000,9, -999.00,9, -999.00,9,  -999.0,9,  -999.0,-999.000,9,-999.000,     -999.0,9, -999.00,9,   43.46,2, -999.00,9,     -999.0,9,  -999.0,9, 20130324,      643,  31.6445, 133.7595,    34.6427,2,     -999.0,9,     -999.0,9,    13.6216,2,     -999.0,9,     -999.0,9,-999.0000, -999.00,-999.000
318M20130321,       P02W,       9,          1,         24,         24,2,20130324,       0451,    31.6349,   133.7585,       4876,   534.4,  11.0839,  34.3065,2,  34.3057,2,    163.6,2,   163.8,2,    24.8,2,   18.05,2,    0.01,2,    1.29,2,-999.000,9,-999.000,9,-999.000,9,-999.0000,9,  2134.6,2, 2273.24,2,   7.7193,2,       25,-999.000,9,-999.0000,9, -999.00,9,    0.19,2,    25.1,2,     2.4,-999.000,9,-999.000,     -999.0,9, -999.00,9,   44.54,2, -999.00,9,     -999.0,9,  -999.0,9, 20130324,      641,  31.6445, 133.7592,    34.4674,2,     -999.0,9,     -999.0,9,    11.0757,2,     -999.0,9,     -999.0,9,-999.0000, -999.00,-999.000
318M20130321,       P02W,       9,          1,         23,         23,2,20130324,       0451,    31.6349,   133.7585,       4876,   631.3,   8.8712,  34.2243,2,  34.2266,2,    138.5,2,   139.8,2,   42.96,2,   24.06,2,    0.01,2,    1.73,2,-999.000,9,-999.000,9,-999.000,9,-999.0000,9,  -999.0,9, -999.00,9,-999.0000,9,  -999.00,-999.000,9,-999.0000,9, -999.00,9,    0.02,2,   -26.0,2,     2.4,-999.000,9,-999.000,     -999.0,9, -999.00,9,   41.72,2, -999.00,9,     -999.0,9,  -999.0,9, 20130324,      638,  31.6445, 133.7589,     34.388,2,     -999.0,9,     -999.0,9,      8.868,2,     -999.0,9,     -999.0,9,-999.0000, -999.00,-999.000
318M20130321,       P02W,       9,          1,         22,         38,2,20130324,       0451,    31.6349,   133.7585,       4876,   727.4,   7.1847,  34.2704,2,  34.2676,2,    109.2,2,     109,2,   67.47,2,   29.69,2,    0.01,2,    2.14,2,-999.000,9,-999.000,9,-999.000,9,-999.0000,9,  2234.1,2, 2316.55,2,   7.5388,2,       25,-999.000,9,-999.0000,9, -999.00,9,   -0.09,2,   -83.4,2,     2.2,-999.000,9,-999.000,     -999.0,9, -999.00,9,   42.81,2, -999.00,9,     -999.0,9,  -999.0,9, 20130324,      635,  31.6445, 133.7587,    34.4292,2,     -999.0,9,     -999.0,9,     7.1882,2,     -999.0,9,     -999.0,9,-999.0000, -999.00,-999.000
318M20130321,       P02W,       9,          1,         21,         21,2,20130324,       0451,    31.6349,   133.7585,       4876,   823.1,   5.5202,   34.271,2,   34.271,2,     88.7,2,    84.9,2,   88.46,2,   34.68,2,       0,2,    2.51,2,-999.000,9,-999.000,9,-999.000,9,-999.0000,9,  -999.0,9, -999.00,9,-999.0000,9,  -999.00,-999.000,9,-999.0000,9, -999.00,9,   -0.18,2,  -129.6,2,     2.0,-999.000,9,-999.000,     -999.0,9, -999.00,9,   41.47,2, -999.00,9,     -999.0,9,  -999.0,9, 20130324,      632,  31.6444, 133.7585,    34.4326,2,     -999.0,9,     -999.0,9,     5.5197,2,     -999.0,9,     -999.0,9,-999.0000, -999.00,-999.000
318M20130321,       P02W,       9,          1,         20,         20,2,20130324,       0451,    31.6349,   133.7585,       4876,   923.7,   4.4941,  34.3357,2,  34.3347,2,     74.5,2,    69.3,2,  106.13,2,   37.65,2,       0,2,    2.71,2,-999.000,9,-999.000,9,-999.000,9,-999.0000,9,  -999.0,9, -999.00,9,-999.0000,9,  -999.00,-999.000,9,-999.0000,9, -999.00,9,   -0.27,2,  -155.5,2,     2.4,-999.000,9,-999.000,     -999.0,9, -999.00,9,   37.61,2, -999.00,9,     -999.0,9,  -999.0,9, 20130324,      629,  31.6442, 133.7585,    34.4966,2,     -999.0,9,     -999.0,9,      4.494,2,     -999.0,9,     -999.0,9,-999.0000, -999.00,-999.000
318M20130321,       P02W,       9,          1,         19,         19,2,20130324,       0451,    31.6349,   133.7585,       4876,  1025.6,   3.8937,  34.3898,2,  34.3891,2,     66.6,2,    65.3,2,  116.96,2,    38.9,2,       0,2,     2.8,2,-999.000,9,-999.000,9,-999.000,9,-999.0000,9,  2324.1,2, 2361.65,2,   7.4102,2,       25,-999.000,9,-999.0000,9, -999.00,9,   -0.25,2,  -183.6,2,     2.3,-999.000,9,-999.000,     -999.0,9, -999.00,9,   36.81,2, -999.00,9,     -999.0,9,  -999.0,9, 20130324,      626,   31.644, 133.7586,    34.5513,2,     -999.0,9,     -999.0,9,     3.8947,2,     -999.0,9,     -999.0,9,-999.0000, -999.00,-999.000
318M20130321,       P02W,       9,          1,         18,         18,2,20130324,       0451,    31.6349,   133.7585,       4876,  1126.6,   3.4467,  34.4249,2,  34.4252,2,     66.1,2,    64.5,2,  126.13,2,   39.55,2,       0,2,    2.85,2,-999.000,9,-999.000,9,-999.000,9,-999.0000,9,  2337.2,2, 2370.96,2,   7.4048,2,       25,-999.000,9,-999.0000,9, -999.00,9,   -0.30,2,  -196.5,2,     2.1,-999.000,9,-999.000,     -999.0,9, -999.00,9,   38.41,2, -999.00,9,     -999.0,9,  -999.0,9, 20130324,      623,  31.6436, 133.7586,    34.5875,2,     -999.0,9,     -999.0,9,     3.4467,2,     -999.0,9,     -999.0,9,-999.0000, -999.00,-999.000
318M20130321,       P02W,       9,          1,         17,         17,2,20130324,       0451,    31.6349,   133.7585,       4876,  1229.8,   3.1294,  34.4585,2,  34.4592,2,     65.1,2,    66.9,2,  131.89,2,   39.77,2,       0,2,    2.86,2,-999.000,9,-999.000,9,-999.000,9,-999.0000,9,  2343.3,2, 2379.46,2,   7.4122,2,       25,-999.000,9,-999.0000,9, -999.00,9,   -0.26,2,  -204.2,2,     1.8,-999.000,9,-999.000,     -999.0,9, -999.00,9,    37.2,2, -999.00,9,     -999.0,9,  -999.0,9, 20130324,      620,  31.6432, 133.7587,    34.6217,2,     -999.0,9,     -999.0,9,     3.1295,2,     -999.0,9,     -999.0,9,-999.0000, -999.00,-999.000
318M20130321,       P02W,       9,          1,         16,         16,2,20130324,       0451,    31.6349,   133.7585,       4876,  1335.1,   2.9147,  34.4782,2,  34.4776,2,     68.1,2,    68.9,2,  136.18,2,   39.88,2,       0,2,    2.87,2,-999.000,9,-999.000,9,-999.000,9,-999.0000,9,  -999.0,9, -999.00,9,-999.0000,9,  -999.00,-999.000,9,-999.0000,9, -999.00,9, -999.00,9,  -999.0,9,  -999.0,-999.000,9,-999.000,     -999.0,9, -999.00,9,   36.73,2, -999.00,9,     -999.0,9,  -999.0,9, 20130324,      617,  31.6428, 133.7588,    34.6402,2,     -999.0,9,     -999.0,9,     2.9147,2,     -999.0,9,     -999.0,9,-999.0000, -999.00,-999.000
318M20130321,       P02W,       9,          1,         15,         15,2,20130324,       0451,    31.6349,   133.7585,       4876,  1439.9,   2.7564,  34.4973,2,  34.4965,2,     71.7,2,    72.5,2,   139.6,2,   39.81,2,       0,2,    2.86,2,-999.000,9,-999.000,9,-999.000,9,-999.0000,9,  -999.0,9, -999.00,9,-999.0000,9,  -999.00,-999.000,9,-999.0000,9, -999.00,9, -999.00,9,  -999.0,9,  -999.0,-999.000,9,-999.000,     -999.0,9, -999.00,9,   36.57,2, -999.00,9,     -999.0,9,  -999.0,9, 20130324,      613,  31.6424, 133.7589,    34.6592,2,     -999.0,9,     -999.0,9,     2.7566,2,     -999.0,9,     -999.0,9,-999.0000, -999.00,-999.000
318M20130321,       P02W,       9,          1,         14,         14,2,20130324,       0451,    31.6349,   133.7585,       4876,  1544.1,   2.5995,  34.5176,2,  34.5175,2,     76.5,2,    76.8,2,  141.84,2,   39.69,2,       0,2,    2.84,2,-999.000,9,-999.000,9,-999.000,9,-999.0000,9,  2348.7,2, 2395.66,2,-999.0000,9,  -999.00,-999.000,9,-999.0000,9, -999.00,9,   -0.22,2,  -216.7,2,     2.2,-999.000,9,-999.000,     -999.0,9, -999.00,9,   34.54,2, -999.00,9,     -999.0,9,  -999.0,9, 20130324,      610,  31.6421,  133.759,    34.6803,2,     -999.0,9,     -999.0,9,     2.5995,2,     -999.0,9,     -999.0,9,-999.0000, -999.00,-999.000
318M20130321,       P02W,       9,          1,         13,         13,2,20130324,       0451,    31.6349,   133.7585,       4876,    1678,   2.4269,  34.5405,2,  34.5403,2,     82.2,2,    82.7,2,  144.28,2,   39.46,2,       0,2,    2.82,2,-999.000,9,-999.000,9,-999.000,9,-999.0000,9,  -999.0,9, -999.00,9,-999.0000,9,  -999.00,-999.000,9,-999.0000,9, -999.00,9, -999.00,9,  -999.0,9,  -999.0,-999.000,9,-999.000,     -999.0,9, -999.00,9,   36.59,2, -999.00,9,     -999.0,9,  -999.0,9, 20130324,      606,  31.6417,  133.759,    34.7032,2,     -999.0,9,     -999.0,9,     2.4274,2,     -999.0,9,     -999.0,9,-999.0000, -999.00,-999.000
318M20130321,       P02W,       9,          1,         12,         12,2,20130324,       0451,    31.6349,   133.7585,       4876,  1882.6,   2.2045,   34.573,2,  34.5725,2,     93.9,2,    94.3,2,  145.93,2,   38.84,2,       0,2,    2.76,2,-999.000,9,-999.000,9,-999.000,9,-999.0000,9,  2345.8,2, 2401.26,2,   7.4634,2,       25,-999.000,9,-999.0000,9, -999.00,9, -999.00,9,  -999.0,9,  -999.0,-999.000,9,-999.000,     -999.0,9, -999.00,9,   35.13,2, -999.00,9,     -999.0,9,  -999.0,9, 20130324,      601,  31.6412, 133.7591,    34.7355,2,     -999.0,9,     -999.0,9,     2.2046,2,     -999.0,9,     -999.0,9,-999.0000, -999.00,-999.000
318M20130321,       P02W,       9,          1,         11,         11,2,20130324,       0451,    31.6349,   133.7585,       4876,  2108.8,   2.0266,     34.6,2,  34.5998,2,    106.7,2,   106.3,2,  146.03,2,   38.11,2,       0,2,    2.72,2,-999.000,9,-999.000,9,-999.000,9,-999.0000,9,  -999.0,9, -999.00,9,-999.0000,9,  -999.00,-999.000,9,-999.0000,9, -999.00,9, -999.00,9,  -999.0,9,  -999.0,-999.000,9,-999.000,     -999.0,9, -999.00,9,    38.5,2, -999.00,9,     -999.0,9,  -999.0,9, 20130324,      555,  31.6407, 133.7592,     34.763,2,     -999.0,9,     -999.0,9,     2.0267,2,     -999.0,9,     -999.0,9,-999.0000, -999.00,-999.000
318M20130321,       P02W,       9,          1,         10,         10,2,20130324,       0451,    31.6349,   133.7585,       4876,  2368.7,   1.8649,  34.6246,2,   34.625,2,    118.5,2,     119,2,  145.73,2,   37.38,2,       0,2,    2.66,2,-999.000,9,-999.000,9,-999.000,9,-999.0000,9,  2335.3,2, 2408.46,2,   7.5094,2,       25,-999.000,9,-999.0000,9, -999.00,9, -999.00,9,  -999.0,9,  -999.0,-999.000,9,-999.000,     -999.0,9, -999.00,9,   35.23,2, -999.00,9,     -999.0,9,  -999.0,9, 20130324,      550,  31.6401, 133.7594,    34.7882,2,     -999.0,9,     -999.0,9,     1.8653,2,     -999.0,9,     -999.0,9,-999.0000, -999.00,-999.000
318M20130321,       P02W,       9,          1,          9,          9,2,20130324,       0451,    31.6349,   133.7585,       4876,  2626.3,   1.7427,  34.6433,2,  34.6421,2,      129,2,   129.1,2,  144.46,2,   36.78,2,       0,2,    2.61,2,-999.000,9,-999.000,9,-999.000,9,-999.0000,9,  -999.0,9, -999.00,9,-999.0000,9,  -999.00,-999.000,9,-999.0000,9, -999.00,9, -999.00,9,  -999.0,9,  -999.0,-999.000,9,-999.000,     -999.0,9, -999.00,9,   37.93,2, -999.00,9,     -999.0,9,  -999.0,9, 20130324,      544,  31.6396, 133.7595,    34.8054,2,     -999.0,9,     -999.0,9,      1.743,2,     -999.0,9,     -999.0,9,-999.0000, -999.00,-999.000
318M20130321,       P02W,       9,          1,          8,          8,2,20130324,       0451,    31.6349,   133.7585,       4876,  2884.5,   1.6666,  34.6551,2,  34.6548,2,      137,2,   136.4,2,  144.36,2,   36.41,2,       0,2,    2.58,2,-999.000,9,-999.000,9,-999.000,9,-999.0000,9,  2328.8,2, 2411.36,2,   7.5459,2,       25,-999.000,9,-999.0000,9, -999.00,9, -999.00,9,  -999.0,9,  -999.0,-999.000,9,-999.000,     -999.0,9, -999.00,9,   37.51,2, -999.00,9,     -999.0,9,  -999.0,9, 20130324,      538,   31.639, 133.7595,    34.8183,2,     -999.0,9,     -999.0,9,     1.6668,2,     -999.0,9,     -999.0,9,-999.0000, -999.00,-999.000