BOTTLE,20220817CCHSIOAMB
EXPOCODE,SECT_ID,STNNBR,CASTNO,SAMPNO,BTLNBR,BTLNBR_FLAG_W,DATE,TIME,LATITUDE,LONGITUDE,DEPTH,CTDPRS,CTDTMP,CTDSAL,CTDSAL_FLAG_W,SALNTY,SALNTY_FLAG_W,CTDOXY,CTDOXY_FLAG_W,OXYGEN,OXYGEN_FLAG_W,SILCAT,SILCAT_FLAG_W,NITRAT,NITRAT_FLAG_W,NITRIT,NITRIT_FLAG_W,PHSPHT,PHSPHT_FLAG_W,CFC-11,CFC-11_FLAG_W,CFC-12,CFC-12_FLAG_W,CFC113,CFC113_FLAG_W,SF6,SF6_FLAG_W,TCARBN,TCARBN_FLAG_W,ALKALI,ALKALI_FLAG_W,PH_TOT,PH_TOT_FLAG_W,PH_TMP,TRITUM,TRITUM_FLAG_W,HELIUM,HELIUM_FLAG_W,DELHE3,DELHE3_FLAG_W,DELC13,DELC13_FLAG_W,DELC14,DELC14_FLAG_W,C14ERR,NEON,NEON_FLAG_W,NEONER,I-129,I-129_FLAG_W,SR-90,SR-90_FLAG_W,DOC,DOC_FLAG_W,TDN,TDN_FLAG_W,CALCIUM,CALCIUM_FLAG_W,D15N_NO3,D15N_NO3_FLAG_W,BTL_DATE,BTL_TIME,BTL_LAT,BTL_LON,SALTREF,SALTREF_FLAG_W,CS-137,CS-137_FLAG_W,CS-134,CS-134_FLAG_W,REFTMP,REFTMP_FLAG_W,LAB_DEN,LAB_DEN_FLAG_W,D18O_NO3,D18O_NO3_FLAG_W,HELIER,DELHER,TRITER
,,,,,,,,,,,METERS,DBAR,ITS-90,PSS-78,,PSS-78,,UMOL/KG,,UMOL/KG,,UMOL/KG,,UMOL/KG,,UMOL/KG,,UMOL/KG,,PMOL/KG,,PMOL/KG,,PMOL/KG,,FMOL/KG,,UMOL/KG,,UMOL/KG,,,,DEG C,TU,,NMOL/KG,,PERCNT,,/MILLE,,/MILLE,,/MILLE,NMOL/KG,,NMOL/KG,BQ/M^3,,DM/.1MG,,UMOL/KG,,UMOL/KG,,MMOL/KG,,/MILLE,,,,,,G/KG,,BQ/M^3,,BQ/M^3,,ITS-90,,,,/MILLE,,NMOL/KG,PERCNT,TU
318M20130321,       P02W,      80,          1,         35,         35,2,20130430,       0949,         30,  -175.5358,       5258,     2.4,  19.0563,  34.9863,2,  34.9858,2,    229.5,2,   230.2,2,    1.95,2,       0,2,       0,2,    0.02,2,   2.441,2,   1.497,2,   0.191,2,     1.39,2,  2015.7,2, 2296.22,2,   8.0111,2,       25,   0.487,2,   1.7243,2,   -1.25,2, -999.00,9,  -999.0,9,  -999.0,   7.091,2,   0.033,     -999.0,9, -999.00,9, -999.00,9, -999.00,9,     -999.0,9,  -999.0,1, 20130430,     1146,  30.0007,-175.5312,    35.1508,2,     -999.0,9,     -999.0,9,    19.0602,2,     -999.0,9,     -999.0,1,   0.0072,    0.15,   0.014
318M20130321,       P02W,      80,          1,         36,         36,2,20130430,       0949,         30,  -175.5358,       5258,    26.3,  19.0608,  34.9845,2,  34.9835,2,      232,2,   230.4,2,    2.05,2,       0,2,       0,2,    0.02,2,   2.421,2,   1.498,2,   0.187,2,     1.46,2,  -999.0,9, -999.00,9,-999.0000,9,  -999.00,-999.000,9,-999.0000,9, -999.00,9, -999.00,9,  -999.0,9,  -999.0,-999.000,9,-999.000,     -999.0,9, -999.00,9, -999.00,9, -999.00,9,     -999.0,9,  -999.0,1, 20130430,     1145,  30.0007,-175.5317,    35.1484,2,     -999.0,9,     -999.0,9,    19.0554,2,     -999.0,9,     -999.0,1,-999.0000, -999.00,-999.000
318M20130321,       P02W,      80,          1,         33,         33,2,20130430,       0949,         30,  -175.5358,       5258,    50.8,  18.7868,   34.935,2,  34.9359,2,      233,2,  -999.0,9,    2.05,2,       0,2,       0,2,    0.03,2,-999.000,9,-999.000,9,-999.000,9,-999.0000,9,  -999.0,9, -999.00,9,-999.0000,9,  -999.00,-999.000,9,-999.0000,9, -999.00,9, -999.00,9,  -999.0,9,  -999.0,-999.000,9,-999.000,     -999.0,1, -999.00,1, -999.00,9, -999.00,9,     -999.0,9,  -999.0,1, 20130430,     1143,  30.0006,-175.5323,    35.1006,2,     -999.0,1,     -999.0,1,     18.786,2,     -999.0,9,     -999.0,1,-999.0000, -999.00,-999.000
318M20130321,       P02W,      80,          1,         32,         32,2,20130430,       0949,         30,  -175.5358,       5258,    51.4,  18.7971,  34.9364,2,  34.9363,2,      233,2,   231.7,2,    1.95,2,       0,2,       0,2,    0.02,2,   2.442,2,   1.516,2,   0.200,2,     1.34,2,  2014.4,2, 2292.61,6,   8.0056,6,       25,   0.495,2,   1.7404,2,   -0.91,2, -999.00,9,  -999.0,9,  -999.0,   7.039,2,   0.032,     -999.0,9, -999.00,9, -999.00,9, -999.00,9,     -999.0,9,  -999.0,1, 20130430,     1143,  30.0006,-175.5324,     35.101,2,     -999.0,9,     -999.0,9,    18.7951,2,     -999.0,9,     -999.0,1,   0.0073,    0.15,   0.012
318M20130321,       P02W,      80,          1,         34,         34,2,20130430,       0949,         30,  -175.5358,       5258,    51.6,  18.7891,  34.9352,2,  34.9349,2,    232.8,2,  -999.0,9,    2.15,2,       0,2,       0,2,    0.02,2,-999.000,9,-999.000,9,-999.000,9,-999.0000,9,  -999.0,9, -999.00,9,-999.0000,9,  -999.00,-999.000,9,-999.0000,9, -999.00,9, -999.00,9,  -999.0,9,  -999.0,-999.000,9,-999.000,     -999.0,9, -999.00,1, -999.00,9, -999.00,9,     -999.0,9,  -999.0,1, 20130430,     1143,  30.0007,-175.5322,    35.0996,2,     -999.0,1,     -999.0,1,    18.7882,2,     -999.0,9,     -999.0,1,-999.0000, -999.00,-999.000
318M20130321,       P02W,      80,          1,         31,         31,2,20130430,       0949,         30,  -175.5358,       5258,    76.5,  18.5427,  34.8913,2,  34.8875,2,    232.2,2,   231.1,2,    2.15,2,     0.1,2,    0.02,2,    0.03,2,-999.000,9,-999.000,9,-999.000,9,-999.0000,9,  2015.8,2, 2288.81,2,   7.9998,2,       25,-999.000,9,-999.0000,9, -999.00,9, -999.00,9,  -999.0,9,  -999.0,-999.000,9,-999.000,     -999.0,9, -999.00,9, -999.00,9, -999.00,9,     -999.0,9,  -999.0,1, 20130430,     1141,  30.0006,-175.5329,     35.052,2,     -999.0,9,     -999.0,9,     18.544,2,     -999.0,9,     -999.0,1,-999.0000, -999.00,-999.000
318M20130321,       P02W,      80,          1,         30,         30,2,20130430,       0949,         30,  -175.5358,       5258,   101.6,  17.8894,  34.7333,2,  34.7414,3,      227,2,   224.1,2,    2.73,2,    0.95,2,    0.14,2,     0.1,2,   2.569,2,   1.584,2,   0.180,2,     1.32,2,  -999.0,9, -999.00,9,-999.0000,9,  -999.00,   0.509,2,   1.7476,2,   -0.78,2, -999.00,9,  -999.0,9,  -999.0,   7.182,2,   0.033,     -999.0,9, -999.00,9, -999.00,9, -999.00,9,     -999.0,9,  -999.0,1, 20130430,     1140,  30.0007,-175.5334,    34.9052,3,     -999.0,9,     -999.0,9,    17.8789,2,     -999.0,9,     -999.0,1,   0.0073,    0.15,   0.012
318M20130321,       P02W,      80,          1,         29,         29,2,20130430,       0949,         30,  -175.5358,       5258,   151.6,  16.5155,  34.6184,2,  34.6153,2,    211.9,2,   215.6,2,    4.29,2,    4.02,2,    0.02,2,    0.27,2,   2.770,2,   1.663,2,   0.130,2,     1.44,2,  2036.8,2, 2271.11,2,   7.9362,2,       25,-999.000,9,-999.0000,9, -999.00,9, -999.00,9,  -999.0,9,  -999.0,-999.000,9,-999.000,     -999.0,9, -999.00,9, -999.00,9, -999.00,9,     -999.0,9,  -999.0,1, 20130430,     1138,  30.0007,-175.5337,    34.7785,2,     -999.0,9,     -999.0,9,    16.5174,2,     -999.0,9,     -999.0,1,-999.0000, -999.00,-999.000
318M20130321,       P02W,      80,          1,         28,         28,2,20130430,       0949,         30,  -175.5358,       5258,   203.4,  15.1092,  34.4939,2,  34.4958,2,    219.5,2,   217.5,2,    5.95,2,    5.85,2,    0.01,2,    0.41,2,-999.000,9,-999.000,9,-999.000,9,-999.0000,9,  2047.5,2,  2265.5,2,   7.9011,2,       25,-999.000,9,-999.0000,9, -999.00,9, -999.00,9,  -999.0,9,  -999.0,-999.000,9,-999.000,     -999.0,9, -999.00,9, -999.00,9, -999.00,9,     -999.0,9,  -999.0,1, 20130430,     1136,  30.0005,-175.5341,    34.6585,2,     -999.0,9,     -999.0,9,     15.116,2,     -999.0,9,     -999.0,1,-999.0000, -999.00,-999.000
318M20130321,       P02W,      80,          1,         27,         27,2,20130430,       0949,         30,  -175.5358,       5258,   253.2,  14.1296,  34.4399,2,  34.4401,2,    214.8,2,   213.8,2,     8.3,2,    8.02,2,    0.01,2,    0.55,2,   3.055,2,   1.803,2,   0.076,2,     1.25,2,  2061.5,2,  2265.2,2,   7.8715,2,       25,   0.565,2,   1.7456,2,   -0.21,2, -999.00,9,  -999.0,9,  -999.0,   7.343,2,   0.034,     -999.0,9, -999.00,9, -999.00,9, -999.00,9,     -999.0,9,  -999.0,1, 20130430,     1135,  30.0004,-175.5343,    34.6025,2,     -999.0,9,     -999.0,9,     14.131,2,     -999.0,9,     -999.0,1,   0.0073,    0.15,   0.014
318M20130321,       P02W,      80,          1,         26,         26,2,20130430,       0949,         30,  -175.5358,       5258,   303.1,  13.0019,  34.3727,2,  34.3732,2,    210.7,2,   211.6,2,   10.93,2,   10.24,2,    0.01,2,    0.71,2,   3.250,2,   1.885,2,   0.063,2,     1.16,2,  -999.0,9, -999.00,9,-999.0000,9,  -999.00,   0.521,2,   1.7649,2,    0.28,2, -999.00,9,  -999.0,9,  -999.0,   7.456,2,   0.034,     -999.0,9, -999.00,9, -999.00,9, -999.00,9,     -999.0,9,  -999.0,1, 20130430,     1133,  30.0002,-175.5346,    34.5353,2,     -999.0,9,     -999.0,9,    13.0086,2,     -999.0,9,     -999.0,1,   0.0074,    0.15,   0.013
318M20130321,       P02W,      80,          1,         25,         25,2,20130430,       0949,         30,  -175.5358,       5258,     354,  12.1176,   34.316,2,   34.318,2,    207.7,2,   210.1,2,   13.28,2,   11.88,2,    0.01,2,    0.81,2,-999.000,9,-999.000,9,-999.000,9,-999.0000,9,  2087.8,2,  2263.3,2,   7.8108,6,       25,-999.000,9,-999.0000,9, -999.00,9, -999.00,9,  -999.0,9,  -999.0,-999.000,9,-999.000,     -999.0,9, -999.00,9, -999.00,9, -999.00,9,     -999.0,9,  -999.0,1, 20130430,     1131,  30.0002,-175.5349,    34.4799,2,     -999.0,9,     -999.0,9,    12.1296,2,     -999.0,9,     -999.0,1,-999.0000, -999.00,-999.000
318M20130321,       P02W,      80,          1,         24,         24,2,20130430,       0949,         30,  -175.5358,       5258,   400.2,  11.0317,  34.2422,2,  34.2435,2,    203.8,2,   207.6,2,   17.09,2,   14.17,2,       0,2,    0.97,2,   3.535,2,   1.973,2,   0.101,2,     1.06,2,  2104.3,2,  2263.6,2,   7.7761,2,       25,   0.503,2,   1.7921,2,    2.02,2, -999.00,9,  -999.0,9,  -999.0,   7.545,2,   0.035,     -999.0,9, -999.00,9, -999.00,9, -999.00,9,     -999.0,9,  -999.0,1, 20130430,     1129,  30.0001,-175.5352,     34.405,2,     -999.0,9,     -999.0,9,    11.0378,2,     -999.0,9,     -999.0,1,   0.0075,    0.15,   0.013
318M20130321,       P02W,      80,          1,         23,         23,2,20130430,       0949,         30,  -175.5358,       5258,   503.1,   8.9333,  34.1062,2,  34.1067,2,    184.8,2,     185,2,   29.39,2,   20.29,2,       0,2,    1.42,2,   3.476,2,   1.876,2,   0.119,2,     0.97,2,  2144.4,2, 2267.51,2,   7.6825,2,       25,   0.504,2,   1.8083,2,    5.19,2, -999.00,9,  -999.0,9,  -999.0,   7.736,2,   0.036,     -999.0,9, -999.00,9, -999.00,9, -999.00,9,     -999.0,9,  -999.0,1, 20130430,     1127,       30,-175.5357,    34.2675,2,     -999.0,9,     -999.0,9,     8.9361,2,     -999.0,9,     -999.0,1,   0.0076,    0.15,   0.013
318M20130321,       P02W,      80,          1,         22,         22,2,20130430,       0949,         30,  -175.5358,       5258,     604,   6.8033,   34.021,2,  34.0208,2,    141.4,2,   140.3,2,   51.07,2,   28.38,2,       0,2,    2.05,2,   2.878,2,   1.494,2,   0.114,2,     0.54,2,  -999.0,9, -999.00,9,-999.0000,9,  -999.00,   0.431,2,   1.8349,2,   10.30,2, -999.00,9,  -999.0,9,  -999.0,   7.907,2,   0.036,     -999.0,9, -999.00,9, -999.00,9, -999.00,9,     -999.0,9,  -999.0,1, 20130430,     1124,       30,-175.5358,    34.1813,2,     -999.0,9,     -999.0,9,     6.8013,2,     -999.0,9,     -999.0,1,   0.0077,    0.15,   0.013
318M20130321,       P02W,      80,          1,         21,         21,2,20130430,       0949,         30,  -175.5358,       5258,   705.4,   5.4731,  34.0417,2,  34.0406,2,     95.6,2,    95.4,2,   72.65,2,   34.71,2,       0,2,    2.52,2,-999.000,9,-999.000,9,-999.000,9,-999.0000,9,  2258.7,2, 2297.52,2,    7.438,2,       25,-999.000,9,-999.0000,9, -999.00,9, -999.00,9,  -999.0,9,  -999.0,-999.000,9,-999.000,     -999.0,9, -999.00,9, -999.00,9, -999.00,9,     -999.0,9,  -999.0,1, 20130430,     1121,       30,-175.5358,    34.2011,2,     -999.0,9,     -999.0,9,     5.4795,2,     -999.0,9,     -999.0,1,-999.0000, -999.00,-999.000
318M20130321,       P02W,      80,          1,         20,         20,2,20130430,       0949,         30,  -175.5358,       5258,   801.6,   4.7103,  34.1186,2,  34.1167,2,     60.5,2,    61.3,2,   90.71,2,    38.9,2,       0,2,    2.81,2,   1.075,2,   0.552,2,   0.053,2,     0.12,2,  2299.1,2, 2316.82,2,   7.3664,2,       25,   0.221,2,   1.8564,2,   15.65,2, -999.00,9,  -999.0,9,  -999.0,   7.985,2,   0.037,     -999.0,9, -999.00,9, -999.00,9, -999.00,9,     -999.0,9,  -999.0,1, 20130430,     1119,       30,-175.5358,    34.2776,2,     -999.0,9,     -999.0,9,     4.7051,2,     -999.0,9,     -999.0,1,   0.0078,    0.15,   0.012
318M20130321,       P02W,      80,          1,         19,         19,2,20130430,       0949,         30,  -175.5358,       5258,   903.5,   4.1429,   34.218,2,  34.2161,2,     36.5,2,    35.9,2,   107.5,2,   41.76,2,       0,2,    3.05,2,   0.442,2,   0.219,2,   0.015,2,     0.04,2,  2332.7,2, 2336.03,2,   7.3245,6,       25,   0.112,2,   1.8819,2,   15.95,2, -999.00,9,  -999.0,9,  -999.0,   7.993,2,   0.037,     -999.0,9, -999.00,9, -999.00,9, -999.00,9,     -999.0,9,  -999.0,1, 20130430,     1116,       30,-175.5358,    34.3774,2,     -999.0,9,     -999.0,9,     4.1441,2,     -999.0,9,     -999.0,1,   0.0079,    0.15,   0.012
318M20130321,       P02W,      80,          1,         18,         18,2,20130430,       0949,         30,  -175.5358,       5258,  1005.2,   3.7915,  34.2941,2,  34.2924,2,     26.4,2,    27.3,2,  118.24,2,   42.81,2,       0,2,     3.1,2,   0.205,2,   0.102,2,   0.006,2,     0.05,2,  -999.0,9, -999.00,9,-999.0000,9,  -999.00,   0.047,2,   1.8929,2,   16.41,2, -999.00,9,  -999.0,9,  -999.0,   8.134,2,   0.037,     -999.0,9, -999.00,9, -999.00,9, -999.00,9,     -999.0,9,  -999.0,1, 20130430,     1114,       30,-175.5359,    34.4541,2,     -999.0,9,     -999.0,9,     3.7915,2,     -999.0,9,     -999.0,1,   0.0080,    0.15,   0.012
318M20130321,       P02W,      80,          1,         17,         17,2,20130430,       0949,         30,  -175.5358,       5258,  1208.5,   3.2238,  34.4175,2,  34.4168,2,     25.2,2,    24.7,2,  135.02,2,   43.66,2,       0,2,    3.33,4,   0.037,2,   0.021,2,   0.000,2,     0.01,2,  2370.6,6, 2375.54,2,    7.323,2,       25,   0.002,2,   1.8960,2,   17.79,2, -999.00,9,  -999.0,9,  -999.0,   8.065,2,   0.037,     -999.0,9, -999.00,9, -999.00,9, -999.00,9,     -999.0,9,  -999.0,1, 20130430,     1109,       30,-175.5358,    34.5791,2,     -999.0,9,     -999.0,9,     3.2238,2,     -999.0,9,     -999.0,1,   0.0080,    0.15,   0.012
318M20130321,       P02W,      80,          1,         16,         16,2,20130430,       0949,         30,  -175.5358,       5258,    1408,   2.8335,   34.495,2,   34.493,2,     36.2,2,    37.4,2,  145.36,2,   43.17,2,       0,2,    3.09,2,   0.007,2,   0.010,2,   0.000,2,     0.03,2,  -999.0,9, -999.00,9,-999.0000,9,  -999.00,   0.007,2,   1.9136,2,   19.28,2, -999.00,9,  -999.0,9,  -999.0,   8.050,2,   0.037,     -999.0,9, -999.00,9, -999.00,9, -999.00,9,     -999.0,9,  -999.0,1, 20130430,     1105,       30,-175.5359,    34.6556,2,     -999.0,9,     -999.0,9,     2.8338,2,     -999.0,9,     -999.0,1,   0.0080,    0.15,   0.012
318M20130321,       P02W,      80,          1,         15,         15,2,20130430,       0949,         30,  -175.5358,       5258,  1611.2,   2.4667,  34.5451,2,  34.5452,2,     49.1,2,    49.5,2,  154.62,2,   42.61,2,       0,2,    3.06,2,   0.011,2,   0.007,2,   0.000,2,        0,2,    2377,2, 2401.55,2,   7.3785,2,       25,  -0.013,2,   1.9263,2,   20.16,2, -999.00,9,  -999.0,9,  -999.0,   8.176,2,   0.038,     -999.0,9, -999.00,9, -999.00,9, -999.00,9,     -999.0,9,  -999.0,1, 20130430,     1101,       30,-175.5359,    34.7081,2,     -999.0,9,     -999.0,9,     2.4669,2,     -999.0,9,     -999.0,1,   0.0081,    0.15,   0.012
318M20130321,       P02W,      80,          1,         14,         14,2,20130430,       0949,         30,  -175.5358,       5258,  1817.1,   2.2104,  34.5771,2,  34.5764,2,     61.2,2,    61.2,2,  159.79,2,   41.91,2,       0,2,       3,2,   0.006,2,   0.010,2,   0.000,2,     0.02,2,  2374.2,2, 2407.66,2,   7.4037,2,       25,  -0.011,2,   1.9154,2,   21.08,2, -999.00,9,  -999.0,9,  -999.0,   8.225,2,   0.038,     -999.0,9, -999.00,9, -999.00,9, -999.00,9,     -999.0,9,  -999.0,1, 20130430,     1056,       30,-175.5359,    34.7395,2,     -999.0,9,     -999.0,9,      2.211,2,     -999.0,9,     -999.0,1,   0.0080,    0.15,   0.012
318M20130321,       P02W,      80,          1,         13,         13,2,20130430,       0949,         30,  -175.5358,       5258,  2015.8,   1.9946,   34.604,2,  34.6039,2,       76,2,    75.4,2,  163.01,2,   41.06,2,       0,2,    2.92,2,   0.003,2,   0.011,2,   0.000,2,     0.02,2,  2371.4,2, 2412.46,2,   7.4307,2,       25,   0.026,2,   1.9331,2,   20.49,2, -999.00,9,  -999.0,9,  -999.0,   8.318,2,   0.038,     -999.0,9, -999.00,9, -999.00,9, -999.00,9,     -999.0,9,  -999.0,1, 20130430,     1052,       30,-175.5358,    34.7671,2,     -999.0,9,     -999.0,9,     1.9944,2,     -999.0,9,     -999.0,1,   0.0081,    0.15,   0.012
318M20130321,       P02W,      80,          1,         11,         11,2,20130430,       0949,         30,  -175.5358,       5258,  2270.7,   1.8326,   34.625,2,  34.6244,2,     89.1,2,    89.4,2,  164.08,2,   40.14,2,       0,2,    2.83,2,   0.009,2,   0.011,2,   0.000,2,     0.02,2,  2365.3,2, 2416.36,2,   7.4563,2,       25,-999.000,9,-999.0000,9, -999.00,9, -999.00,9,  -999.0,9,  -999.0,-999.000,9,-999.000,     -999.0,9, -999.00,9, -999.00,9, -999.00,9,     -999.0,9,  -999.0,1, 20130430,     1047,       30,-175.5358,    34.7876,2,     -999.0,9,     -999.0,9,     1.8324,2,     -999.0,9,     -999.0,1,-999.0000, -999.00,-999.000
318M20130321,       P02W,      80,          1,         10,         10,2,20130430,       0949,         30,  -175.5358,       5258,  2526.1,   1.6989,  34.6414,2,  34.6413,2,    102.7,2,   102.7,2,   163.4,2,   39.25,2,       0,2,    2.76,2,-999.000,9,-999.000,9,-999.000,9,-999.0000,9,  -999.0,9, -999.00,9,-999.0000,9,  -999.00,-999.000,9,-999.0000,9, -999.00,9, -999.00,9,  -999.0,9,  -999.0,-999.000,9,-999.000,     -999.0,9, -999.00,9, -999.00,9, -999.00,9,     -999.0,9,  -999.0,1, 20130430,     1042,       30,-175.5358,    34.8046,2,     -999.0,9,     -999.0,9,     1.6987,2,     -999.0,9,     -999.0,1,-999.0000, -999.00,-999.000
318M20130321,       P02W,      80,          1,          9,          9,2,20130430,       0949,         30,  -175.5358,       5258,  2779.3,   1.6115,  34.6543,2,  34.6533,2,    114.3,2,   113.9,2,  162.42,2,   38.54,2,       0,2,    2.69,2,   0.003,2,   0.010,2,   0.000,2,        0,2,  2350.2,2, 2418.76,2,   7.5045,2,       25,-999.000,9,-999.0000,9, -999.00,9, -999.00,9,  -999.0,9,  -999.0,-999.000,9,-999.000,     -999.0,9, -999.00,9, -999.00,9, -999.00,9,     -999.0,9,  -999.0,1, 20130430,     1037,       30,-175.5358,    34.8167,2,     -999.0,9,     -999.0,9,      1.612,2,     -999.0,9,     -999.0,1,-999.0000, -999.00,-999.000
318M20130321,       P02W,      80,          1,          8,          8,2,20130430,       0949,         30,  -175.5358,       5258,  3035.9,   1.5484,  34.6632,2,  34.6627,2,    122.7,2,   123.7,2,  160.86,2,   37.91,2,       0,2,    2.63,2,-999.000,9,-999.000,9,-999.000,9,-999.0000,9,  -999.0,9, -999.00,9,-999.0000,9,  -999.00,-999.000,9,-999.0000,9, -999.00,9, -999.00,9,  -999.0,9,  -999.0,-999.000,9,-999.000,     -999.0,9, -999.00,9, -999.00,9, -999.00,9,     -999.0,9,  -999.0,1, 20130430,     1032,       30,-175.5359,    34.8262,2,     -999.0,9,     -999.0,9,     1.5481,2,     -999.0,9,     -999.0,1,-999.0000, -999.00,-999.000
318M20130321,       P02W,      80,          1,          7,          7,2,20130430,       0949,         30,  -175.5358,       5258,  3342.8,   1.4959,  34.6724,2,  34.6714,2,    133.3,2,   133.5,2,   159.2,2,   37.27,2,       0,2,    2.63,2,   0.000,2,   0.005,2,   0.000,2,        0,2,  2337.4,2, 2418.46,2,   7.5392,2,       25,-999.000,9,-999.0000,9, -999.00,9, -999.00,9,  -999.0,9,  -999.0,-999.000,9,-999.000,     -999.0,9, -999.00,9, -999.00,9, -999.00,9,     -999.0,9,  -999.0,1, 20130430,     1026,       30,-175.5358,    34.8349,2,     -999.0,9,     -999.0,9,     1.4955,2,     -999.0,9,     -999.0,1,-999.0000, -999.00,-999.000