BOTTLE,20220817CCHSIOAMB
EXPOCODE,SECT_ID,STNNBR,CASTNO,SAMPNO,BTLNBR,BTLNBR_FLAG_W,DATE,TIME,LATITUDE,LONGITUDE,DEPTH,CTDPRS,CTDTMP,CTDSAL,CTDSAL_FLAG_W,SALNTY,SALNTY_FLAG_W,CTDOXY,CTDOXY_FLAG_W,OXYGEN,OXYGEN_FLAG_W,SILCAT,SILCAT_FLAG_W,NITRAT,NITRAT_FLAG_W,NITRIT,NITRIT_FLAG_W,PHSPHT,PHSPHT_FLAG_W,CFC-11,CFC-11_FLAG_W,CFC-12,CFC-12_FLAG_W,CFC113,CFC113_FLAG_W,SF6,SF6_FLAG_W,TCARBN,TCARBN_FLAG_W,ALKALI,ALKALI_FLAG_W,PH_TOT,PH_TOT_FLAG_W,PH_TMP,TRITUM,TRITUM_FLAG_W,HELIUM,HELIUM_FLAG_W,DELHE3,DELHE3_FLAG_W,DELC13,DELC13_FLAG_W,DELC14,DELC14_FLAG_W,C14ERR,NEON,NEON_FLAG_W,NEONER,I-129,I-129_FLAG_W,SR-90,SR-90_FLAG_W,DOC,DOC_FLAG_W,TDN,TDN_FLAG_W,CALCIUM,CALCIUM_FLAG_W,D15N_NO3,D15N_NO3_FLAG_W,BTL_DATE,BTL_TIME,BTL_LAT,BTL_LON,SALTREF,SALTREF_FLAG_W,CS-137,CS-137_FLAG_W,CS-134,CS-134_FLAG_W,REFTMP,REFTMP_FLAG_W,LAB_DEN,LAB_DEN_FLAG_W,D18O_NO3,D18O_NO3_FLAG_W,HELIER,DELHER,TRITER
,,,,,,,,,,,METERS,DBAR,ITS-90,PSS-78,,PSS-78,,UMOL/KG,,UMOL/KG,,UMOL/KG,,UMOL/KG,,UMOL/KG,,UMOL/KG,,PMOL/KG,,PMOL/KG,,PMOL/KG,,FMOL/KG,,UMOL/KG,,UMOL/KG,,,,DEG C,TU,,NMOL/KG,,PERCNT,,/MILLE,,/MILLE,,/MILLE,NMOL/KG,,NMOL/KG,BQ/M^3,,DM/.1MG,,UMOL/KG,,UMOL/KG,,MMOL/KG,,/MILLE,,,,,,G/KG,,BQ/M^3,,BQ/M^3,,ITS-90,,,,/MILLE,,NMOL/KG,PERCNT,TU
318M20130321,       P02E,      95,          1,         36,         36,2,20130514,       1111,    30.0007,  -159.4512,       5764,     3.9,  19.5427,  34.5873,2,  34.5891,2,    233.6,2,   232.4,2,    2.73,2,       0,2,       0,2,       0,2,   2.077,2,   1.250,2,-999.000,5,   1.4811,2,  2008.5,6, 2270.61,2,   7.9893,2,       25,-999.000,9,-999.0000,9, -999.00,9, -999.00,9,  -999.0,9,  -999.0,-999.000,9,-999.000,     -999.0,9, -999.00,9,   64.56,2,    3.95,2,     -999.0,1,  -999.0,1, 20130514,     1350,  29.9996,-159.4501,    34.7522,2,     -999.0,9,     -999.0,9,    19.5433,2,     -999.0,9,     -999.0,1,-999.0000, -999.00,-999.000
318M20130321,       P02E,      95,          1,         34,         34,2,20130514,       1111,    30.0007,  -159.4512,       5764,      40,  18.8277,  34.6924,2,  34.6922,2,    236.8,2,     236,2,    2.73,2,       0,2,       0,2,    0.01,2,   2.130,2,   1.276,2,-999.000,5,    1.557,2,  2012.6,2, 2279.21,2,   7.9929,6,       25,-999.000,9,-999.0000,9, -999.00,9, -999.00,9,  -999.0,9,  -999.0,-999.000,9,-999.000,     -999.0,9, -999.00,9,   65.47,2,    4.59,2,     -999.0,9,  -999.0,1, 20130514,     1347,  29.9997,-159.4496,    34.8558,2,     -999.0,9,     -999.0,9,    18.8259,2,     -999.0,9,     -999.0,1,-999.0000, -999.00,-999.000
318M20130321,       P02E,      95,          1,         33,         33,2,20130514,       1111,    30.0007,  -159.4512,       5764,    65.1,  17.9013,  34.6833,2,  34.6908,2,    239.4,2,   236.6,2,    2.83,2,       0,2,       0,2,    0.04,2,-999.000,9,-999.000,9,-999.000,9,-999.0000,9,  2015.9,2, 2293.51,2,   7.9871,6,       25,-999.000,9,-999.0000,9, -999.00,9, -999.00,9,  -999.0,9,  -999.0,-999.000,9,-999.000,     -999.0,9, -999.00,9, -999.00,5,    3.89,2,     -999.0,1,  -999.0,1, 20130514,     1346,  29.9997,-159.4494,    34.8544,2,     -999.0,9,     -999.0,9,    17.8967,2,     -999.0,9,     -999.0,1,-999.0000, -999.00,-999.000
318M20130321,       P02E,      95,          1,         32,         32,2,20130514,       1111,    30.0007,  -159.4512,       5764,      90,  17.2592,  34.5483,2,  34.5502,2,    242.7,2,   239.4,2,    3.03,2,       0,2,       0,2,    0.05,2,-999.000,9,-999.000,9,-999.000,9,-999.0000,9,  -999.0,9, -999.00,9,-999.0000,9,  -999.00,-999.000,9,-999.0000,9, -999.00,9, -999.00,9,  -999.0,9,  -999.0,-999.000,9,-999.000,     -999.0,9, -999.00,9, -999.00,5,    4.11,2,     -999.0,9,  -999.0,1, 20130514,     1344,  29.9997,-159.4493,    34.7131,2,     -999.0,9,     -999.0,9,    17.2584,2,     -999.0,9,     -999.0,1,-999.0000, -999.00,-999.000
318M20130321,       P02E,      95,          1,         31,         31,2,20130514,       1111,    30.0007,  -159.4512,       5764,   136.4,  15.3944,  34.4118,2,  34.4124,2,    226.4,2,   227.8,2,    4.98,2,    3.14,2,    0.08,2,    0.29,2,   2.489,2,   1.444,2,-999.000,5,   1.5746,2,    2039,2,  2262.3,6,   7.9152,2,       25,-999.000,9,-999.0000,9, -999.00,9, -999.00,9,  -999.0,9,  -999.0,-999.000,9,-999.000,     -999.0,9, -999.00,9,   48.05,2,    6.14,2,     -999.0,1,  -999.0,1, 20130514,     1342,  29.9995,-159.4491,    34.5746,2,     -999.0,9,     -999.0,9,    15.4055,2,     -999.0,9,     -999.0,1,-999.0000, -999.00,-999.000
318M20130321,       P02E,      95,          1,         30,         30,2,20130514,       1111,    30.0007,  -159.4512,       5764,   187.1,  13.8366,  34.3512,2,  34.3517,2,    220.7,2,   220.6,2,    7.62,2,    7.19,2,    0.02,2,    0.54,2,-999.000,9,-999.000,9,-999.000,9,-999.0000,9,  -999.0,9, -999.00,9,-999.0000,9,  -999.00,-999.000,9,-999.0000,9, -999.00,9, -999.00,9,  -999.0,9,  -999.0,-999.000,9,-999.000,     -999.0,9, -999.00,9,    48.8,2, -999.00,5,     -999.0,9,  -999.0,1, 20130514,     1339,  29.9993,-159.4492,    34.5137,2,     -999.0,9,     -999.0,9,    13.8428,2,     -999.0,9,     -999.0,1,-999.0000, -999.00,-999.000
318M20130321,       P02E,      95,          1,         29,         29,2,20130514,       1111,    30.0007,  -159.4512,       5764,   236.9,   12.683,  34.3175,2,  34.3184,2,    216.4,2,   216.3,2,   10.64,2,    9.95,2,    0.01,2,    0.71,2,   2.791,2,   1.583,2,-999.000,5,   1.4204,2,  2078.7,2,  2261.7,2,   7.8297,2,       25,-999.000,9,-999.0000,9, -999.00,9, -999.00,9,  -999.0,9,  -999.0,-999.000,9,-999.000,     -999.0,9, -999.00,9,   46.84,2, -999.00,5,     -999.0,1,  -999.0,1, 20130514,     1337,  29.9992,-159.4493,    34.4802,2,     -999.0,9,     -999.0,9,    12.6831,2,     -999.0,9,     -999.0,1,-999.0000, -999.00,-999.000
318M20130321,       P02E,      95,          1,         28,         28,2,20130514,       1111,    30.0007,  -159.4512,       5764,   286.4,  11.6442,   34.254,2,  34.2546,2,    217.2,2,   217.7,2,   13.18,2,   11.79,2,    0.01,2,    0.85,2,-999.000,9,-999.000,9,-999.000,9,-999.0000,9,  -999.0,9, -999.00,9,-999.0000,9,  -999.00,-999.000,9,-999.0000,9, -999.00,9, -999.00,9,  -999.0,9,  -999.0,-999.000,9,-999.000,     -999.0,9, -999.00,9,   48.61,2, -999.00,5,     -999.0,9,  -999.0,1, 20130514,     1335,  29.9991,-159.4493,    34.4161,2,     -999.0,9,     -999.0,9,    11.6326,2,     -999.0,9,     -999.0,1,-999.0000, -999.00,-999.000
318M20130321,       P02E,      95,          1,         27,         27,2,20130514,       1111,    30.0007,  -159.4512,       5764,   335.6,  10.8809,   34.208,2,  34.2095,2,    213.7,2,   216.1,2,   15.92,2,   13.44,2,    0.01,2,    0.97,2,   3.023,2,   1.669,2,-999.000,5,   1.4735,2,  2099.7,2,  2260.2,2,   7.7782,2,       25,-999.000,9,-999.0000,9, -999.00,9, -999.00,9,  -999.0,9,  -999.0,-999.000,9,-999.000,     -999.0,9, -999.00,9,   46.68,2,   16.75,2,     -999.0,1,  -999.0,1, 20130514,     1333,  29.9991,-159.4497,    34.3708,2,     -999.0,9,     -999.0,9,     10.883,2,     -999.0,9,     -999.0,1,-999.0000, -999.00,-999.000
318M20130321,       P02E,      95,          1,         26,         26,2,20130514,       1111,    30.0007,  -159.4512,       5764,   387.4,   9.7999,  34.1378,2,  34.1385,2,    207.4,2,   209.9,2,   20.99,2,   16.15,2,    0.01,2,    1.16,2,-999.000,9,-999.000,9,-999.000,9,-999.0000,9,  -999.0,9, -999.00,9,-999.0000,9,  -999.00,-999.000,9,-999.0000,9, -999.00,9, -999.00,9,  -999.0,9,  -999.0,-999.000,9,-999.000,     -999.0,9, -999.00,9,    44.7,2, -999.00,9,     -999.0,9,  -999.0,1, 20130514,     1331,  29.9991,-159.4502,    34.2995,2,     -999.0,9,     -999.0,9,     9.7986,2,     -999.0,9,     -999.0,1,-999.0000, -999.00,-999.000
318M20130321,       P02E,      95,          1,         25,         25,2,20130514,       1111,    30.0007,  -159.4512,       5764,   467.4,   8.2044,   34.047,2,  34.0541,2,    177.9,2,   178.4,2,   33.01,2,   22.13,2,    0.01,2,    1.58,2,   2.980,2,   1.566,2,-999.000,5,   1.0255,2,  2159.4,2, 2267.21,2,   7.6463,2,       25,-999.000,9,-999.0000,9, -999.00,9, -999.00,9,  -999.0,9,  -999.0,-999.000,9,-999.000,     -999.0,9, -999.00,9,   44.84,2, -999.00,9,     -999.0,1,  -999.0,1, 20130514,     1328,  29.9991,-159.4501,    34.2146,2,     -999.0,9,     -999.0,9,     8.2044,2,     -999.0,9,     -999.0,1,-999.0000, -999.00,-999.000
318M20130321,       P02E,      95,          1,         24,         24,2,20130514,       1111,    30.0007,  -159.4512,       5764,   567.9,   6.2652,  33.9945,2,  33.9945,2,    125.1,2,   122.3,2,   56.35,2,   30.87,2,    0.01,2,    2.24,2,-999.000,9,-999.000,9,-999.000,9,-999.0000,9,  2225.2,2, 2280.91,2,    7.498,2,       25,-999.000,9,-999.0000,9, -999.00,9, -999.00,9,  -999.0,9,  -999.0,-999.000,9,-999.000,     -999.0,9, -999.00,9,   43.71,2, -999.00,9,     -999.0,9,  -999.0,1, 20130514,     1325,  29.9992,  -159.45,    34.1548,2,     -999.0,9,     -999.0,9,     6.2469,2,     -999.0,9,     -999.0,1,-999.0000, -999.00,-999.000
318M20130321,       P02E,      95,          1,         23,         23,2,20130514,       1111,    30.0007,  -159.4512,       5764,   669.5,   5.0896,  34.0378,2,  34.0374,2,     79.1,2,    75.1,2,   78.42,2,   37.19,2,       0,2,     2.7,2,   1.288,2,   0.613,2,-999.000,5,   0.2181,2,  2278.7,2, 2301.82,2,   7.3864,2,       25,-999.000,9,-999.0000,9, -999.00,9, -999.00,9,  -999.0,9,  -999.0,-999.000,9,-999.000,     -999.0,9, -999.00,9,   41.58,2, -999.00,9,     -999.0,1,  -999.0,1, 20130514,     1321,  29.9993,-159.4502,    34.1979,2,     -999.0,9,     -999.0,9,     5.0903,2,     -999.0,9,     -999.0,1,-999.0000, -999.00,-999.000
318M20130321,       P02E,      95,          1,         22,         22,2,20130514,       1111,    30.0007,  -159.4512,       5764,   769.9,   4.3666,  34.1574,2,   34.157,2,     40.8,2,    35.8,2,   99.99,2,   41.36,2,       0,2,    3.01,2,-999.000,9,-999.000,9,-999.000,9,-999.0000,9,  -999.0,9, -999.00,9,-999.0000,9,  -999.00,-999.000,9,-999.0000,9, -999.00,9, -999.00,9,  -999.0,9,  -999.0,-999.000,9,-999.000,     -999.0,9, -999.00,9,   39.84,2, -999.00,9,     -999.0,9,  -999.0,1, 20130514,     1318,  29.9993,  -159.45,     34.318,2,     -999.0,9,     -999.0,9,     4.3674,2,     -999.0,9,     -999.0,1,-999.0000, -999.00,-999.000
318M20130321,       P02E,      95,          1,         21,         21,2,20130514,       1111,    30.0007,  -159.4512,       5764,   870.7,   3.9935,  34.2529,2,  34.2532,2,     21.3,2,    19.6,2,  112.97,2,   43.03,2,       0,2,    3.14,2,   0.115,2,   0.054,2,-999.000,5,   0.0566,2,  2349.5,2, 2342.13,2,   7.2934,2,       25,-999.000,9,-999.0000,9, -999.00,9, -999.00,9,  -999.0,9,  -999.0,-999.000,9,-999.000,     -999.0,9, -999.00,9,    38.3,2, -999.00,9,     -999.0,1,  -999.0,1, 20130514,     1314,  29.9993,-159.4498,    34.4148,2,     -999.0,9,     -999.0,9,     3.9939,2,     -999.0,9,     -999.0,1,-999.0000, -999.00,-999.000
318M20130321,       P02E,      95,          1,         20,         20,2,20130514,       1111,    30.0007,  -159.4512,       5764,   971.4,   3.7419,  34.3331,2,  34.3339,2,     16.5,2,    16.7,2,  121.55,2,    43.5,2,       0,2,    3.18,2,-999.000,9,-999.000,9,-999.000,9,-999.0000,9,  2360.3,2, 2357.44,2,   7.2982,2,       25,-999.000,9,-999.0000,9, -999.00,9, -999.00,9,  -999.0,9,  -999.0,-999.000,9,-999.000,     -999.0,9, -999.00,9,   38.79,2, -999.00,9,     -999.0,9,  -999.0,1, 20130514,     1311,  29.9994,-159.4497,    34.4958,2,     -999.0,9,     -999.0,9,     3.7423,2,     -999.0,9,     -999.0,1,-999.0000, -999.00,-999.000
318M20130321,       P02E,      95,          1,         19,         19,2,20130514,       1111,    30.0007,  -159.4512,       5764,  1072.2,   3.4902,  34.4041,2,  34.4041,2,     19.1,2,      21,2,  128.48,2,   43.54,2,       0,2,    3.18,2,   0.014,2,   0.007,2,-999.000,5,   0.0471,2,  2367.9,2, 2368.94,2,   7.3134,2,       25,-999.000,9,-999.0000,9, -999.00,9, -999.00,9,  -999.0,9,  -999.0,-999.000,9,-999.000,     -999.0,9, -999.00,9,   39.16,2, -999.00,9,     -999.0,1,  -999.0,1, 20130514,     1308,  29.9994,-159.4496,    34.5663,2,     -999.0,9,     -999.0,9,     3.4899,2,     -999.0,9,     -999.0,1,-999.0000, -999.00,-999.000
318M20130321,       P02E,      95,          1,         18,         18,2,20130514,       1111,    30.0007,  -159.4512,       5764,  1173.9,   3.2879,   34.456,2,  34.4561,2,     26.1,2,    28.5,2,  133.26,2,    43.2,2,       0,2,    3.14,2,-999.000,9,-999.000,9,-999.000,9,-999.0000,9,  2370.6,2, 2377.44,2,   7.3357,2,       25,-999.000,9,-999.0000,9, -999.00,9, -999.00,9,  -999.0,9,  -999.0,-999.000,9,-999.000,     -999.0,9, -999.00,9,   38.17,2, -999.00,9,     -999.0,9,  -999.0,1, 20130514,     1305,  29.9995,-159.4494,    34.6186,2,     -999.0,9,     -999.0,9,     3.2895,2,     -999.0,9,     -999.0,1,-999.0000, -999.00,-999.000
318M20130321,       P02E,      95,          1,         17,         17,2,20130514,       1111,    30.0007,  -159.4512,       5764,  1274.5,   3.1087,  34.4908,2,   34.492,2,       35,2,    36.5,2,  136.96,2,   42.87,2,       0,2,    3.11,2,   0.007,2,   0.003,2,-999.000,5,   0.0584,2,  2369.9,2, 2385.25,2,   7.3537,2,       25,-999.000,9,-999.0000,9, -999.00,9, -999.00,9,  -999.0,9,  -999.0,-999.000,9,-999.000,     -999.0,9, -999.00,9,   36.26,2, -999.00,9,     -999.0,1,  -999.0,1, 20130514,     1302,  29.9995,-159.4493,    34.6547,2,     -999.0,9,     -999.0,9,     3.1077,2,     -999.0,9,     -999.0,1,-999.0000, -999.00,-999.000
318M20130321,       P02E,      95,          1,         16,         16,2,20130514,       1111,    30.0007,  -159.4512,       5764,  1441.1,   2.8131,  34.5351,2,  34.5349,2,     48.3,2,    50.9,2,  142.62,2,    42.1,2,       0,2,    3.05,2,-999.000,9,-999.000,9,-999.000,9,-999.0000,9,  2369.2,2, 2394.15,2,   7.3847,2,       25,-999.000,9,-999.0000,9, -999.00,9, -999.00,9,  -999.0,9,  -999.0,-999.000,9,-999.000,     -999.0,9, -999.00,9,    34.7,2, -999.00,9,     -999.0,1,  -999.0,1, 20130514,     1257,  29.9997, -159.449,    34.6977,2,     -999.0,9,     -999.0,9,     2.8139,2,     -999.0,9,     -999.0,1,-999.0000, -999.00,-999.000
318M20130321,       P02E,      95,          1,         15,         15,2,20130514,       1111,    30.0007,  -159.4512,       5764,  1664.5,   2.4747,  34.5707,2,  34.5712,2,     62.7,2,    64.6,2,  149.84,2,   41.35,2,       0,2,    2.97,2,   0.006,2,   0.002,2,-999.000,5,        0,2,  2368.1,2, 2403.15,2,    7.413,2,       25,-999.000,9,-999.0000,9, -999.00,9, -999.00,9,  -999.0,9,  -999.0,-999.000,9,-999.000,     -999.0,9, -999.00,9,   34.58,2, -999.00,9,     -999.0,1,  -999.0,1, 20130514,     1250,  29.9999,-159.4487,    34.7342,2,     -999.0,9,     -999.0,9,     2.4738,2,     -999.0,9,     -999.0,1,-999.0000, -999.00,-999.000
318M20130321,       P02E,      95,          1,         14,         14,2,20130514,       1111,    30.0007,  -159.4512,       5764,  1918.5,   2.1246,  34.6028,2,  34.6024,2,       77,2,    77.6,2,  158.13,2,   40.61,2,       0,2,    2.92,2,-999.000,9,-999.000,9,-999.000,9,-999.0000,9,  -999.0,9, -999.00,9,-999.0000,9,  -999.00,-999.000,9,-999.0000,9, -999.00,9, -999.00,9,  -999.0,9,  -999.0,-999.000,9,-999.000,     -999.0,9, -999.00,9, -999.00,9, -999.00,9,     -999.0,1,  -999.0,1, 20130514,     1244,  29.9999,-159.4484,    34.7656,2,     -999.0,9,     -999.0,9,     2.1245,2,     -999.0,9,     -999.0,1,-999.0000, -999.00,-999.000
318M20130321,       P02E,      95,          1,         13,         13,2,20130514,       1111,    30.0007,  -159.4512,       5764,  2188.7,   1.8992,  34.6244,2,   34.626,2,     89.4,2,    87.7,2,  163.89,2,   39.94,2,       0,2,    2.86,2,   0.004,2,   0.000,2,-999.000,5,   0.0313,2,  2367.9,2, 2418.16,2,   7.4603,2,       25,-999.000,9,-999.0000,9, -999.00,9, -999.00,9,  -999.0,9,  -999.0,-999.000,9,-999.000,     -999.0,9, -999.00,9,   35.34,2, -999.00,9,     -999.0,9,  -999.0,1, 20130514,     1238,  29.9998, -159.448,    34.7893,2,     -999.0,9,     -999.0,9,      1.899,2,     -999.0,9,     -999.0,1,-999.0000, -999.00,-999.000
318M20130321,       P02E,      95,          1,         12,         12,2,20130514,       1111,    30.0007,  -159.4512,       5764,  2440.4,   1.7617,  34.6402,2,  34.6419,2,     98.8,2,    98.3,2,  165.55,2,   39.39,2,       0,2,    2.79,2,-999.000,9,-999.000,9,-999.000,9,-999.0000,9,  -999.0,9, -999.00,9,-999.0000,9,  -999.00,-999.000,9,-999.0000,9, -999.00,9, -999.00,9,  -999.0,9,  -999.0,-999.000,9,-999.000,     -999.0,9, -999.00,9, -999.00,9, -999.00,9,     -999.0,1,  -999.0,1, 20130514,     1232,  29.9999,-159.4479,    34.8053,2,     -999.0,9,     -999.0,9,     1.7621,2,     -999.0,9,     -999.0,1,-999.0000, -999.00,-999.000
318M20130321,       P02E,      95,          1,         11,         11,2,20130514,       1111,    30.0007,  -159.4512,       5764,  2696.3,   1.6529,  34.6527,2,  34.6531,2,    109.6,2,   109.2,2,  165.06,2,   38.65,2,       0,2,    2.73,2,-999.000,9,-999.000,9,-999.000,9,-999.0000,9,  2357.5,2, 2422.76,2,   7.4998,2,       25,-999.000,9,-999.0000,9, -999.00,9, -999.00,9,  -999.0,9,  -999.0,-999.000,9,-999.000,     -999.0,9, -999.00,9,   33.05,2, -999.00,9,     -999.0,9,  -999.0,1, 20130514,     1225,  30.0003,-159.4489,    34.8165,2,     -999.0,9,     -999.0,9,     1.6526,2,     -999.0,9,     -999.0,1,-999.0000, -999.00,-999.000
318M20130321,       P02E,      95,          1,         10,         10,2,20130514,       1111,    30.0007,  -159.4512,       5764,  2951.7,   1.5761,  34.6623,2,   34.662,2,      119,2,   118.7,2,  164.37,2,   38.09,2,       0,2,    2.68,2,-999.000,9,-999.000,9,-999.000,9,-999.0000,9,  -999.0,9, -999.00,9,-999.0000,9,  -999.00,-999.000,9,-999.0000,9, -999.00,9, -999.00,9,  -999.0,9,  -999.0,-999.000,9,-999.000,     -999.0,9, -999.00,9, -999.00,9, -999.00,9,     -999.0,9,  -999.0,1, 20130514,     1220,  30.0004,-159.4488,    34.8254,2,     -999.0,9,     -999.0,9,     1.5764,2,     -999.0,9,     -999.0,1,-999.0000, -999.00,-999.000
318M20130321,       P02E,      95,          1,          9,          9,2,20130514,       1111,    30.0007,  -159.4512,       5764,  3244.5,   1.5259,  34.6705,2,  34.6694,2,    128.5,2,   127.7,2,  162.32,2,   37.45,2,       0,2,    2.63,2,-999.000,9,-999.000,9,-999.000,9,-999.0000,9,  2345.8,2, 2423.16,2,   7.5362,2,       25,-999.000,9,-999.0000,9, -999.00,9, -999.00,9,  -999.0,9,  -999.0,-999.000,9,-999.000,     -999.0,9, -999.00,9,   33.57,2, -999.00,9,     -999.0,1,  -999.0,1, 20130514,     1213,  30.0004, -159.449,    34.8329,2,     -999.0,9,     -999.0,9,     1.5263,2,     -999.0,9,     -999.0,1,-999.0000, -999.00,-999.000
318M20130321,       P02E,      95,          1,          8,          8,2,20130514,       1111,    30.0007,  -159.4512,       5764,  3507.4,   1.4951,  34.6759,2,  34.6755,2,    134.1,2,     135,2,  160.76,2,   37.01,2,       0,2,    2.59,2,   0.006,2,   0.002,2,-999.000,5,        0,2,  -999.0,9, -999.00,9,-999.0000,9,  -999.00,-999.000,9,-999.0000,9, -999.00,9, -999.00,9,  -999.0,9,  -999.0,-999.000,9,-999.000,     -999.0,9, -999.00,9, -999.00,9, -999.00,9,     -999.0,9,  -999.0,1, 20130514,     1206,       30,-159.4487,     34.839,2,     -999.0,9,     -999.0,9,     1.4951,2,     -999.0,9,     -999.0,1,-999.0000, -999.00,-999.000
318M20130321,       P02E,      95,          1,          7,          7,2,20130514,       1111,    30.0007,  -159.4512,       5764,  3919.7,   1.4733,  34.6821,2,   34.682,2,    142.6,2,   144.3,2,  157.24,2,    36.4,2,       0,2,    2.55,2,-999.000,9,-999.000,9,-999.000,9,-999.0000,9,  2334.3,2, 2421.56,2,   7.5609,2,       25,-999.000,9,-999.0000,9, -999.00,9, -999.00,9,  -999.0,9,  -999.0,-999.000,9,-999.000,     -999.0,9, -999.00,9,   32.59,2, -999.00,9,     -999.0,9,  -999.0,1, 20130514,     1157,  29.9997,-159.4493,    34.8455,2,     -999.0,9,     -999.0,9,     1.4732,2,     -999.0,9,     -999.0,1,-999.0000, -999.00,-999.000