BOTTLE,20220817CCHSIOAMB
EXPOCODE,SECT_ID,STNNBR,CASTNO,SAMPNO,BTLNBR,BTLNBR_FLAG_W,DATE,TIME,LATITUDE,LONGITUDE,DEPTH,CTDPRS,CTDTMP,CTDSAL,CTDSAL_FLAG_W,SALNTY,SALNTY_FLAG_W,CTDOXY,CTDOXY_FLAG_W,OXYGEN,OXYGEN_FLAG_W,SILCAT,SILCAT_FLAG_W,NITRAT,NITRAT_FLAG_W,NITRIT,NITRIT_FLAG_W,PHSPHT,PHSPHT_FLAG_W,CFC-11,CFC-11_FLAG_W,CFC-12,CFC-12_FLAG_W,CFC113,CFC113_FLAG_W,SF6,SF6_FLAG_W,TCARBN,TCARBN_FLAG_W,ALKALI,ALKALI_FLAG_W,PH_TOT,PH_TOT_FLAG_W,PH_TMP,TRITUM,TRITUM_FLAG_W,HELIUM,HELIUM_FLAG_W,DELHE3,DELHE3_FLAG_W,DELC13,DELC13_FLAG_W,DELC14,DELC14_FLAG_W,C14ERR,NEON,NEON_FLAG_W,NEONER,I-129,I-129_FLAG_W,SR-90,SR-90_FLAG_W,DOC,DOC_FLAG_W,TDN,TDN_FLAG_W,CALCIUM,CALCIUM_FLAG_W,D15N_NO3,D15N_NO3_FLAG_W,BTL_DATE,BTL_TIME,BTL_LAT,BTL_LON,SALTREF,SALTREF_FLAG_W,CS-137,CS-137_FLAG_W,CS-134,CS-134_FLAG_W,REFTMP,REFTMP_FLAG_W,LAB_DEN,LAB_DEN_FLAG_W,D18O_NO3,D18O_NO3_FLAG_W,HELIER,DELHER,TRITER
,,,,,,,,,,,METERS,DBAR,ITS-90,PSS-78,,PSS-78,,UMOL/KG,,UMOL/KG,,UMOL/KG,,UMOL/KG,,UMOL/KG,,UMOL/KG,,PMOL/KG,,PMOL/KG,,PMOL/KG,,FMOL/KG,,UMOL/KG,,UMOL/KG,,,,DEG C,TU,,NMOL/KG,,PERCNT,,/MILLE,,/MILLE,,/MILLE,NMOL/KG,,NMOL/KG,BQ/M^3,,DM/.1MG,,UMOL/KG,,UMOL/KG,,MMOL/KG,,/MILLE,,,,,,G/KG,,BQ/M^3,,BQ/M^3,,ITS-90,,,,/MILLE,,NMOL/KG,PERCNT,TU
318M20130321,       P02E,     150,          1,         34,         34,2,20130531,       0305,    32.0232,  -119.7211,       2223,       3,  13.9867,  33.6659,2,  33.6666,2,    263.5,2,   264.9,2,    2.15,2,    4.05,2,    0.15,2,    0.45,2,   2.744,2,   1.603,2,-999.000,1,   1.6959,2,  2047.1,6,  2248.7,2,   7.8705,2,       25,-999.000,9,-999.0000,9, -999.00,9, -999.00,9,  -999.0,9,  -999.0,-999.000,9,-999.000,     -999.0,9, -999.00,9, -999.00,9, -999.00,9,     -999.0,9,  -999.0,9, 20130531,      414,  32.0232, -119.721,    33.8254,2,     -999.0,9,     -999.0,9,    13.9871,2,     -999.0,9,     -999.0,9,-999.0000, -999.00,-999.000
318M20130321,       P02E,     150,          1,         33,         33,2,20130531,       0305,    32.0232,  -119.7211,       2223,    36.9,  13.4279,   33.637,2,  33.6385,2,    253.2,2,   251.7,2,    2.44,2,    5.88,2,    0.17,2,    0.72,2,-999.000,9,-999.000,9,-999.000,9,-999.0000,9,  2065.3,2,  2243.1,2,   7.8295,6,       25,-999.000,9,-999.0000,9, -999.00,9, -999.00,9,  -999.0,9,  -999.0,-999.000,9,-999.000,     -999.0,9, -999.00,9, -999.00,9, -999.00,9,     -999.0,9,  -999.0,9, 20130531,      412,  32.0232, -119.721,    33.7971,2,     -999.0,9,     -999.0,9,    13.4244,2,     -999.0,9,     -999.0,9,-999.0000, -999.00,-999.000
318M20130321,       P02E,     150,          1,         32,         32,2,20130531,       0305,    32.0232,  -119.7211,       2223,      60,  13.0035,   33.656,2,  33.6029,3,    245.7,2,   224.7,2,    8.11,2,   10.22,2,    0.18,2,    1.06,2,   2.943,2,   1.704,2,-999.000,1,   1.5907,2,  -999.0,9, -999.00,9,-999.0000,9,  -999.00,-999.000,9,-999.0000,9, -999.00,9, -999.00,9,  -999.0,9,  -999.0,-999.000,9,-999.000,     -999.0,9, -999.00,9, -999.00,9, -999.00,9,     -999.0,9,  -999.0,9, 20130531,      410,  32.0232, -119.721,    33.7613,3,     -999.0,9,     -999.0,9,    13.0085,2,     -999.0,9,     -999.0,9,-999.0000, -999.00,-999.000
318M20130321,       P02E,     150,          1,         31,         31,2,20130531,       0305,    32.0232,  -119.7211,       2223,      87,  10.1709,  33.5922,2,  33.5984,2,    176.9,2,   171.5,2,   17.97,2,   18.66,2,    0.05,2,    1.53,2,-999.000,9,-999.000,9,-999.000,9,-999.0000,9,  2137.7,2, 2230.29,6,   7.6131,2,       25,-999.000,9,-999.0000,9, -999.00,9, -999.00,9,  -999.0,9,  -999.0,-999.000,9,-999.000,     -999.0,9, -999.00,9, -999.00,9, -999.00,9,     -999.0,9,  -999.0,9, 20130531,      409,  32.0232, -119.721,    33.7568,2,     -999.0,9,     -999.0,9,    10.1759,2,     -999.0,9,     -999.0,9,-999.0000, -999.00,-999.000
318M20130321,       P02E,     150,          1,         30,         30,2,20130531,       0305,    32.0232,  -119.7211,       2223,   111.1,   9.5646,   33.821,2,   33.823,2,    132.4,2,   125.8,2,   26.96,2,   24.47,2,    0.03,2,    1.99,2,   2.909,2,   1.588,2,-999.000,1,   1.1109,2,  -999.0,9,  2245.4,2,-999.0000,9,  -999.00,-999.000,9,-999.0000,9, -999.00,9, -999.00,9,  -999.0,9,  -999.0,-999.000,9,-999.000,     -999.0,9, -999.00,9, -999.00,9, -999.00,9,     -999.0,9,  -999.0,9, 20130531,      407,  32.0232, -119.721,    33.9825,2,     -999.0,9,     -999.0,9,     9.5642,2,     -999.0,9,     -999.0,9,-999.0000, -999.00,-999.000
318M20130321,       P02E,     150,          1,         29,         29,2,20130531,       0305,    32.0232,  -119.7211,       2223,   136.6,   8.7653,  33.9378,2,  33.9405,2,    126.9,2,     116,2,   31.54,2,   26.79,2,    0.03,2,    2.05,2,-999.000,9,-999.000,9,-999.000,9,-999.0000,9,    2196,2,  2253.3,2,   7.4962,6,       25,-999.000,9,-999.0000,9, -999.00,9, -999.00,9,  -999.0,9,  -999.0,-999.000,9,-999.000,     -999.0,9, -999.00,9, -999.00,9, -999.00,9,     -999.0,9,  -999.0,9, 20130531,      406,  32.0232, -119.721,    34.1005,2,     -999.0,9,     -999.0,9,     8.7637,2,     -999.0,9,     -999.0,9,-999.0000, -999.00,-999.000
318M20130321,       P02E,     150,          1,         27,         27,2,20130531,       0305,    32.0232,  -119.7211,       2223,   161.6,   8.4281,  33.9935,2,  33.9902,2,    109.9,2,   108.5,2,   34.96,2,   28.09,2,    0.03,2,    2.13,2,-999.000,9,-999.000,9,-999.000,9,-999.0000,9,  -999.0,9, -999.00,9,-999.0000,9,  -999.00,-999.000,9,-999.0000,9, -999.00,9, -999.00,9,  -999.0,9,  -999.0,-999.000,9,-999.000,     -999.0,9, -999.00,9, -999.00,9, -999.00,9,     -999.0,9,  -999.0,9, 20130531,      404,  32.0232, -119.721,    34.1505,2,     -999.0,9,     -999.0,9,     8.4284,2,     -999.0,9,     -999.0,9,-999.0000, -999.00,-999.000
318M20130321,       P02E,     150,          1,         26,         26,2,20130531,       0305,    32.0232,  -119.7211,       2223,     186,   8.2384,  34.0344,2,  34.0341,2,     93.8,2,    93.3,2,   38.96,2,   29.77,2,    0.02,2,    2.28,2,   2.561,2,   1.360,2,-999.000,1,   0.7594,2,  2223.1,2,  2265.3,2,   7.4464,2,       25,-999.000,9,-999.0000,9, -999.00,9, -999.00,9,  -999.0,9,  -999.0,-999.000,9,-999.000,     -999.0,9, -999.00,9, -999.00,9, -999.00,9,     -999.0,9,  -999.0,9, 20130531,      403,  32.0232, -119.721,    34.1946,2,     -999.0,9,     -999.0,9,     8.2383,2,     -999.0,9,     -999.0,9,-999.0000, -999.00,-999.000
318M20130321,       P02E,     150,          1,         25,         25,2,20130531,       0305,    32.0232,  -119.7211,       2223,   211.4,   7.9894,  34.0737,2,  34.0753,2,     75.3,2,    78.6,2,   42.97,2,   31.19,2,    0.02,2,    2.39,2,-999.000,9,-999.000,9,-999.000,9,-999.0000,9,  -999.0,9, -999.00,9,-999.0000,9,  -999.00,-999.000,9,-999.0000,9, -999.00,9, -999.00,9,  -999.0,9,  -999.0,-999.000,9,-999.000,     -999.0,9, -999.00,9, -999.00,9, -999.00,9,     -999.0,9,  -999.0,9, 20130531,      401,  32.0232, -119.721,     34.236,2,     -999.0,9,     -999.0,9,     7.9908,2,     -999.0,9,     -999.0,9,-999.0000, -999.00,-999.000
318M20130321,       P02E,     150,          1,         24,         24,2,20130531,       0305,    32.0232,  -119.7211,       2223,   237.2,   7.8006,  34.0983,2,  34.0987,2,     68.3,2,    69.6,2,   46.19,2,   32.25,2,    0.01,2,    2.48,2,-999.000,9,-999.000,9,-999.000,9,-999.0000,9,  2246.8,2, 2274.11,2,   7.4014,2,       25,-999.000,9,-999.0000,9, -999.00,9, -999.00,9,  -999.0,9,  -999.0,-999.000,9,-999.000,     -999.0,9, -999.00,9, -999.00,9, -999.00,9,     -999.0,9,  -999.0,9, 20130531,      400,  32.0232, -119.721,    34.2595,2,     -999.0,9,     -999.0,9,     7.7999,2,     -999.0,9,     -999.0,9,-999.0000, -999.00,-999.000
318M20130321,       P02E,     150,          1,         23,         23,2,20130531,       0305,    32.0232,  -119.7211,       2223,   267.9,   7.7174,  34.1651,2,  34.1645,2,     49.5,2,      51,2,   50.38,2,   33.41,2,    0.01,2,    2.64,2,   1.647,2,   0.838,2,-999.000,1,   0.3514,2,  -999.0,9, -999.00,9,-999.0000,9,  -999.00,-999.000,9,-999.0000,9, -999.00,9, -999.00,9,  -999.0,9,  -999.0,-999.000,9,-999.000,     -999.0,9, -999.00,9, -999.00,9, -999.00,9,     -999.0,9,  -999.0,9, 20130531,      359,  32.0232, -119.721,    34.3257,2,     -999.0,9,     -999.0,9,     7.7181,2,     -999.0,9,     -999.0,9,-999.0000, -999.00,-999.000
318M20130321,       P02E,     150,          1,         22,         22,2,20130531,       0305,    32.0232,  -119.7211,       2223,   318.1,   7.3739,  34.2217,2,  34.2204,2,     36.1,2,    35.8,2,   56.53,2,   34.95,2,    0.01,2,     2.8,2,-999.000,9,-999.000,9,-999.000,9,-999.0000,9,  2281.1,2, 2291.51,2,   7.3474,2,       25,-999.000,9,-999.0000,9, -999.00,9, -999.00,9,  -999.0,9,  -999.0,-999.000,9,-999.000,     -999.0,9, -999.00,9, -999.00,9, -999.00,9,     -999.0,9,  -999.0,9, 20130531,      357,  32.0232, -119.721,    34.3818,2,     -999.0,9,     -999.0,9,     7.3725,2,     -999.0,9,     -999.0,9,-999.0000, -999.00,-999.000
318M20130321,       P02E,     150,          1,         21,         21,2,20130531,       0305,    32.0232,  -119.7211,       2223,   367.9,   6.9035,   34.267,2,  34.2655,2,     24.9,2,    23.8,2,   64.15,2,   36.62,2,       0,2,    2.95,2,-999.000,9,-999.000,9,-999.000,9,-999.0000,9,  -999.0,9, -999.00,9,-999.0000,9,  -999.00,-999.000,9,-999.0000,9, -999.00,9, -999.00,9,  -999.0,9,  -999.0,-999.000,9,-999.000,     -999.0,9, -999.00,9, -999.00,9, -999.00,9,     -999.0,9,  -999.0,9, 20130531,      355,  32.0232, -119.721,    34.4271,2,     -999.0,9,     -999.0,9,     6.9036,2,     -999.0,9,     -999.0,9,-999.0000, -999.00,-999.000
318M20130321,       P02E,     150,          1,         20,         20,2,20130531,       0305,    32.0232,  -119.7211,       2223,   418.2,   6.5244,   34.292,2,  34.2916,2,     19.6,2,    18.4,2,    70.3,2,   37.94,2,       0,2,    3.04,2,   0.464,2,   0.230,2,-999.000,1,   0.0401,2,    2308,2, 2309.52,2,   7.3184,2,       25,-999.000,9,-999.0000,9, -999.00,9, -999.00,9,  -999.0,9,  -999.0,-999.000,9,-999.000,     -999.0,9, -999.00,9, -999.00,9, -999.00,9,     -999.0,9,  -999.0,9, 20130531,      353,  32.0232, -119.721,    34.4533,2,     -999.0,9,     -999.0,9,      6.524,2,     -999.0,9,     -999.0,9,-999.0000, -999.00,-999.000
318M20130321,       P02E,     150,          1,         19,         19,2,20130531,       0305,    32.0232,  -119.7211,       2223,   468.4,   6.2579,  34.3122,2,  34.3128,2,     17.1,2,    16.3,2,   75.57,2,   38.89,2,       0,2,    3.09,2,-999.000,9,-999.000,9,-999.000,9,-999.0000,9,  -999.0,9, -999.00,9,-999.0000,9,  -999.00,-999.000,9,-999.0000,9, -999.00,9, -999.00,9,  -999.0,9,  -999.0,-999.000,9,-999.000,     -999.0,9, -999.00,9, -999.00,9, -999.00,9,     -999.0,9,  -999.0,9, 20130531,      352,  32.0232, -119.721,    34.4746,2,     -999.0,9,     -999.0,9,     6.2577,2,     -999.0,9,     -999.0,9,-999.0000, -999.00,-999.000
318M20130321,       P02E,     150,          1,         18,         18,2,20130531,       0305,    32.0232,  -119.7211,       2223,   539.9,   5.9579,  34.3386,2,  34.3376,2,     13.7,2,      12,2,   80.64,2,   39.73,2,       0,2,    3.12,2,-999.000,9,-999.000,9,-999.000,9,-999.0000,9,  2324.7,2, 2321.82,2,   7.3122,6,       25,-999.000,9,-999.0000,9, -999.00,9, -999.00,9,  -999.0,9,  -999.0,-999.000,9,-999.000,     -999.0,9, -999.00,9, -999.00,9, -999.00,9,     -999.0,9,  -999.0,9, 20130531,      349,  32.0232, -119.721,    34.4995,2,     -999.0,9,     -999.0,9,     5.9573,2,     -999.0,9,     -999.0,9,-999.0000, -999.00,-999.000
318M20130321,       P02E,     150,          1,         17,         17,2,20130531,       0305,    32.0232,  -119.7211,       2223,     641,   5.5004,  34.3687,2,   34.369,2,       11,2,    11.4,2,   88.94,2,   40.86,2,       0,2,    3.17,2,   0.115,2,   0.069,2,-999.000,1,   0.0227,2,  -999.0,9, -999.00,9,-999.0000,9,  -999.00,-999.000,9,-999.0000,9, -999.00,9, -999.00,9,  -999.0,9,  -999.0,-999.000,9,-999.000,     -999.0,9, -999.00,9, -999.00,9, -999.00,9,     -999.0,9,  -999.0,9, 20130531,      347,  32.0232, -119.721,     34.531,2,     -999.0,9,     -999.0,9,     5.4953,2,     -999.0,9,     -999.0,9,-999.0000, -999.00,-999.000
318M20130321,       P02E,     150,          1,         16,         16,2,20130531,       0305,    32.0232,  -119.7211,       2223,   740.4,   5.0392,  34.4055,2,  34.4045,2,       13,2,    13.9,2,   96.85,2,   42.03,2,       0,2,     3.2,2,-999.000,9,-999.000,9,-999.000,9,-999.0000,9,    2345,2, 2343.53,2,   7.3142,2,       25,-999.000,9,-999.0000,9, -999.00,9, -999.00,9,  -999.0,9,  -999.0,-999.000,9,-999.000,     -999.0,9, -999.00,9, -999.00,9, -999.00,9,     -999.0,9,  -999.0,9, 20130531,      344,  32.0232, -119.721,    34.5667,2,     -999.0,9,     -999.0,9,     5.0395,2,     -999.0,9,     -999.0,9,-999.0000, -999.00,-999.000
318M20130321,       P02E,     150,          1,         15,         15,2,20130531,       0305,    32.0232,  -119.7211,       2223,   842.9,   4.5987,  34.4413,2,  34.4414,2,     15.8,2,      16,2,  106.41,2,   42.68,2,       0,2,    3.21,2,-999.000,9,-999.000,9,-999.000,9,-999.0000,9,  -999.0,9, -999.00,9,-999.0000,9,  -999.00,-999.000,9,-999.0000,9, -999.00,9, -999.00,9,  -999.0,9,  -999.0,-999.000,9,-999.000,     -999.0,9, -999.00,9, -999.00,9, -999.00,9,     -999.0,9,  -999.0,9, 20130531,      342,  32.0232,-119.7211,    34.6038,2,     -999.0,9,     -999.0,9,     4.5973,2,     -999.0,9,     -999.0,9,-999.0000, -999.00,-999.000
318M20130321,       P02E,     150,          1,         14,         14,2,20130531,       0305,    32.0232,  -119.7211,       2223,   945.2,   4.2274,  34.4707,2,  34.4695,2,     21.2,2,    20.8,2,  113.63,2,   42.96,2,       0,2,    3.21,2,   0.036,2,   0.030,2,-999.000,1,   0.0279,2,  -999.0,9, -999.00,9,-999.0000,9,  -999.00,-999.000,9,-999.0000,9, -999.00,9, -999.00,9,  -999.0,9,  -999.0,-999.000,9,-999.000,     -999.0,9, -999.00,9, -999.00,9, -999.00,9,     -999.0,9,  -999.0,9, 20130531,      339,  32.0232,-119.7209,     34.632,2,     -999.0,9,     -999.0,9,     4.2338,2,     -999.0,9,     -999.0,9,-999.0000, -999.00,-999.000
318M20130321,       P02E,     150,          1,         13,         13,2,20130531,       0305,    32.0232,  -119.7211,       2223,    1044,    3.877,  34.4927,2,  34.4923,2,     26.1,2,    26.4,2,  120.37,2,   43.35,2,       0,2,    3.19,2,-999.000,9,-999.000,9,-999.000,9,-999.0000,9,  2363.9,2, 2372.24,2,   7.3425,2,       25,-999.000,9,-999.0000,9, -999.00,9, -999.00,9,  -999.0,9,  -999.0,-999.000,9,-999.000,     -999.0,9, -999.00,9, -999.00,9, -999.00,9,     -999.0,9,  -999.0,9, 20130531,      337,  32.0232, -119.721,    34.6549,2,     -999.0,9,     -999.0,9,       3.88,2,     -999.0,9,     -999.0,9,-999.0000, -999.00,-999.000
318M20130321,       P02E,     150,          1,         12,         12,2,20130531,       0305,    32.0232,  -119.7211,       2223,  1143.1,   3.6394,  34.5098,2,    34.51,2,     31.4,2,    30.8,2,  126.12,2,   43.24,2,       0,2,    3.17,2,-999.000,9,-999.000,9,-999.000,9,-999.0000,9,  -999.0,9, -999.00,9,-999.0000,9,  -999.00,-999.000,9,-999.0000,9, -999.00,9, -999.00,9,  -999.0,9,  -999.0,-999.000,9,-999.000,     -999.0,9, -999.00,9, -999.00,9, -999.00,9,     -999.0,9,  -999.0,9, 20130531,      334,  32.0232, -119.721,    34.6727,2,     -999.0,9,     -999.0,9,     3.6413,2,     -999.0,9,     -999.0,9,-999.0000, -999.00,-999.000
318M20130321,       P02E,     150,          1,         11,         11,2,20130531,       0305,    32.0232,  -119.7211,       2223,  1247.2,   3.3987,    34.53,2,  34.5324,2,     35.1,2,    35.7,2,  132.76,2,   42.89,2,       0,2,    3.15,2,   0.037,2,   0.037,2,-999.000,1,   0.0619,2,  -999.0,9, -999.00,9,-999.0000,9,  -999.00,-999.000,9,-999.0000,9, -999.00,9, -999.00,9,  -999.0,9,  -999.0,-999.000,9,-999.000,     -999.0,9, -999.00,9, -999.00,9, -999.00,9,     -999.0,9,  -999.0,9, 20130531,      331,  32.0232, -119.721,    34.6952,2,     -999.0,9,     -999.0,9,     3.3998,2,     -999.0,9,     -999.0,9,-999.0000, -999.00,-999.000
318M20130321,       P02E,     150,          1,         10,         10,2,20130531,       0305,    32.0232,  -119.7211,       2223,  1344.6,    3.215,  34.5434,2,  34.5436,2,     40.4,2,    39.9,2,  137.25,2,   42.79,2,       0,2,    3.13,2,-999.000,9,-999.000,9,-999.000,9,-999.0000,9,  2374.5,2, 2391.35,2,   7.3683,2,       25,-999.000,9,-999.0000,9, -999.00,9, -999.00,9,  -999.0,9,  -999.0,-999.000,9,-999.000,     -999.0,9, -999.00,9, -999.00,9, -999.00,9,     -999.0,9,  -999.0,9, 20130531,      329,  32.0232, -119.721,    34.7064,2,     -999.0,9,     -999.0,9,     3.2188,2,     -999.0,9,     -999.0,9,-999.0000, -999.00,-999.000
318M20130321,       P02E,     150,          1,          9,          9,2,20130531,       0305,    32.0232,  -119.7211,       2223,  1448.6,   3.0052,   34.558,2,   34.558,2,     46.1,2,      46,2,  141.93,2,   42.53,2,       0,2,    3.09,2,-999.000,9,-999.000,9,-999.000,9,-999.0000,9,  -999.0,9, -999.00,9,-999.0000,9,  -999.00,-999.000,9,-999.0000,9, -999.00,9, -999.00,9,  -999.0,9,  -999.0,-999.000,9,-999.000,     -999.0,9, -999.00,9, -999.00,9, -999.00,9,     -999.0,9,  -999.0,9, 20130531,      326,  32.0232, -119.721,    34.7209,2,     -999.0,9,     -999.0,9,      3.006,2,     -999.0,9,     -999.0,9,-999.0000, -999.00,-999.000
318M20130321,       P02E,     150,          1,          8,          8,2,20130531,       0305,    32.0232,  -119.7211,       2223,  1551.5,   2.8473,  34.5691,2,  34.5692,2,     51.4,2,      51,2,  145.15,2,   42.44,2,       0,2,    3.07,2,   0.005,2,   0.010,2,-999.000,1,   0.0129,2,  -999.0,9, -999.00,9,-999.0000,9,  -999.00,-999.000,9,-999.0000,9, -999.00,9, -999.00,9,  -999.0,9,  -999.0,-999.000,9,-999.000,     -999.0,9, -999.00,9, -999.00,9, -999.00,9,     -999.0,9,  -999.0,9, 20130531,      324,  32.0232, -119.721,    34.7322,2,     -999.0,9,     -999.0,9,     2.8483,2,     -999.0,9,     -999.0,9,-999.0000, -999.00,-999.000
318M20130321,       P02E,     150,          1,          7,          7,2,20130531,       0305,    32.0232,  -119.7211,       2223,  1651.4,   2.7323,  34.5778,2,   34.578,2,     55.3,2,    54.6,2,  147.79,2,   42.22,2,       0,2,    3.06,2,-999.000,9,-999.000,9,-999.000,9,-999.0000,9,  2377.5,2, 2403.45,2,   7.3961,2,       25,-999.000,9,-999.0000,9, -999.00,9, -999.00,9,  -999.0,9,  -999.0,-999.000,9,-999.000,     -999.0,9, -999.00,9, -999.00,9, -999.00,9,     -999.0,9,  -999.0,9, 20130531,      321,  32.0232, -119.721,    34.7411,2,     -999.0,9,     -999.0,9,      2.733,2,     -999.0,9,     -999.0,9,-999.0000, -999.00,-999.000
318M20130321,       P02E,     150,          1,          6,          6,2,20130531,       0305,    32.0232,  -119.7211,       2223,  1753.8,   2.5566,  34.5892,2,  34.5896,2,     61.3,2,    60.6,2,  152.08,2,   41.88,2,       0,2,    3.02,2,-999.000,9,-999.000,9,-999.000,9,-999.0000,9,  2375.3,2, 2407.46,6,   7.4081,2,       25,-999.000,9,-999.0000,9, -999.00,9, -999.00,9,  -999.0,9,  -999.0,-999.000,9,-999.000,     -999.0,9, -999.00,9, -999.00,9, -999.00,9,     -999.0,9,  -999.0,9, 20130531,      318,  32.0232,-119.7211,    34.7527,2,     -999.0,9,     -999.0,9,     2.5572,2,     -999.0,9,     -999.0,9,-999.0000, -999.00,-999.000
318M20130321,       P02E,     150,          1,          5,         37,2,20130531,       0305,    32.0232,  -119.7211,       2223,  1853.5,   2.3035,  34.6075,2,  34.6073,2,     72.3,2,    71.6,2,  158.23,2,   41.28,2,       0,2,    2.96,2,   0.016,2,   0.018,2,-999.000,1,   0.0186,2,  -999.0,9, -999.00,9,-999.0000,9,  -999.00,-999.000,9,-999.0000,9, -999.00,9, -999.00,9,  -999.0,9,  -999.0,-999.000,9,-999.000,     -999.0,9, -999.00,9, -999.00,9, -999.00,9,     -999.0,9,  -999.0,9, 20130531,      316,  32.0232, -119.721,    34.7705,2,     -999.0,9,     -999.0,9,     2.3063,3,     -999.0,9,     -999.0,9,-999.0000, -999.00,-999.000