BOTTLE,20220817CCHSIOAMB
EXPOCODE,SECT_ID,STNNBR,CASTNO,SAMPNO,BTLNBR,BTLNBR_FLAG_W,DATE,TIME,LATITUDE,LONGITUDE,DEPTH,CTDPRS,CTDTMP,CTDSAL,CTDSAL_FLAG_W,SALNTY,SALNTY_FLAG_W,CTDOXY,CTDOXY_FLAG_W,OXYGEN,OXYGEN_FLAG_W,SILCAT,SILCAT_FLAG_W,NITRAT,NITRAT_FLAG_W,NITRIT,NITRIT_FLAG_W,PHSPHT,PHSPHT_FLAG_W,CFC-11,CFC-11_FLAG_W,CFC-12,CFC-12_FLAG_W,CFC113,CFC113_FLAG_W,SF6,SF6_FLAG_W,TCARBN,TCARBN_FLAG_W,ALKALI,ALKALI_FLAG_W,PH_TOT,PH_TOT_FLAG_W,PH_TMP,TRITUM,TRITUM_FLAG_W,HELIUM,HELIUM_FLAG_W,DELHE3,DELHE3_FLAG_W,DELC13,DELC13_FLAG_W,DELC14,DELC14_FLAG_W,C14ERR,NEON,NEON_FLAG_W,NEONER,I-129,I-129_FLAG_W,SR-90,SR-90_FLAG_W,DOC,DOC_FLAG_W,TDN,TDN_FLAG_W,CALCIUM,CALCIUM_FLAG_W,D15N_NO3,D15N_NO3_FLAG_W,BTL_DATE,BTL_TIME,BTL_LAT,BTL_LON,SALTREF,SALTREF_FLAG_W,CS-137,CS-137_FLAG_W,CS-134,CS-134_FLAG_W,REFTMP,REFTMP_FLAG_W,LAB_DEN,LAB_DEN_FLAG_W,D18O_NO3,D18O_NO3_FLAG_W,HELIER,DELHER,TRITER
,,,,,,,,,,,METERS,DBAR,ITS-90,PSS-78,,PSS-78,,UMOL/KG,,UMOL/KG,,UMOL/KG,,UMOL/KG,,UMOL/KG,,UMOL/KG,,PMOL/KG,,PMOL/KG,,PMOL/KG,,FMOL/KG,,UMOL/KG,,UMOL/KG,,,,DEG C,TU,,NMOL/KG,,PERCNT,,/MILLE,,/MILLE,,/MILLE,NMOL/KG,,NMOL/KG,BQ/M^3,,DM/.1MG,,UMOL/KG,,UMOL/KG,,MMOL/KG,,/MILLE,,,,,,G/KG,,BQ/M^3,,BQ/M^3,,ITS-90,,,,/MILLE,,NMOL/KG,PERCNT,TU
318M20130321,       P02W,      52,          1,         36,         36,2,20130421,       1746,    29.9968,   164.3314,       5923,     3.9,  18.7315,  34.7014,2,  34.7032,2,    236.8,2,   237.2,2,    2.24,2,       0,2,       0,2,    0.07,2,   2.603,2,   1.560,2,   0.214,2,     1.44,2,  2002.1,2, 2277.81,2,   8.0042,6,       25,-999.000,9,-999.0000,9, -999.00,9, -999.00,9,  -999.0,9,  -999.0,-999.000,9,-999.000,     -999.0,9, -999.00,9, -999.00,9, -999.00,9,     -999.0,9,  -999.0,9, 20130421,     2030,   29.999, 164.3277,    34.8669,2,     -999.0,9,     -999.0,9,     18.721,2,     -999.0,9,     -999.0,9,-999.0000, -999.00,-999.000
318M20130321,       P02W,      52,          1,         35,         35,2,20130421,       1746,    29.9968,   164.3314,       5923,      20,  18.2196,  34.7206,2,  34.7196,2,    238.6,2,   238.4,2,    2.24,2,       0,2,       0,2,    0.05,2,-999.000,9,-999.000,9,-999.000,9,-999.0000,9,  2002.6,6, 2277.71,2,    8.005,2,       25,-999.000,9,-999.0000,9, -999.00,9, -999.00,9,  -999.0,9,  -999.0,-999.000,9,-999.000,     -999.0,9, -999.00,9, -999.00,9, -999.00,9,     -999.0,9,  -999.0,9, 20130421,     2027,  29.9991, 164.3281,    34.8833,2,     -999.0,9,     -999.0,9,     18.221,2,     -999.0,9,     -999.0,9,-999.0000, -999.00,-999.000
318M20130321,       P02W,      52,          1,         34,         34,2,20130421,       1746,    29.9968,   164.3314,       5923,      40,  18.1288,  34.7244,2,  34.7261,2,    238.7,2,   238.5,2,    2.24,2,       0,2,       0,2,    0.05,2,   2.624,2,   1.653,2,   0.223,2,     1.61,2,  -999.0,9, -999.00,9,-999.0000,9,  -999.00,-999.000,9,-999.0000,9, -999.00,9, -999.00,9,  -999.0,9,  -999.0,-999.000,9,-999.000,     -999.0,9, -999.00,9, -999.00,9, -999.00,9,     -999.0,9,  -999.0,9, 20130421,     2026,  29.9992, 164.3283,    34.8898,2,     -999.0,9,     -999.0,9,    18.1268,2,     -999.0,9,     -999.0,9,-999.0000, -999.00,-999.000
318M20130321,       P02W,      52,          1,         33,         33,2,20130421,       1746,    29.9968,   164.3314,       5923,    65.8,  17.8862,  34.7401,2,  34.7388,2,    238.8,2,   238.9,2,    2.24,2,       0,2,    0.01,2,    0.04,2,-999.000,9,-999.000,9,-999.000,9,-999.0000,9,  2004.2,2, 2279.11,6,   8.0022,2,       25,-999.000,9,-999.0000,9, -999.00,9, -999.00,9,  -999.0,9,  -999.0,-999.000,9,-999.000,     -999.0,9, -999.00,9, -999.00,9, -999.00,9,     -999.0,9,  -999.0,9, 20130421,     2024,  29.9993, 164.3285,    34.9026,2,     -999.0,9,     -999.0,9,       17.9,2,     -999.0,9,     -999.0,9,-999.0000, -999.00,-999.000
318M20130321,       P02W,      52,          1,         32,         32,2,20130421,       1746,    29.9968,   164.3314,       5923,    85.4,  17.2555,  34.6905,2,  34.6905,2,    233.4,2,   228.2,2,    3.03,2,    2.07,2,    0.12,2,    0.18,2,   2.667,2,   1.606,2,   0.189,2,     1.64,2,  -999.0,9, -999.00,9,-999.0000,9,  -999.00,-999.000,9,-999.0000,9, -999.00,9, -999.00,9,  -999.0,9,  -999.0,-999.000,9,-999.000,     -999.0,9, -999.00,9, -999.00,9, -999.00,9,     -999.0,9,  -999.0,9, 20130421,     2023,  29.9993, 164.3288,    34.8541,2,     -999.0,9,     -999.0,9,    17.2566,2,     -999.0,9,     -999.0,9,-999.0000, -999.00,-999.000
318M20130321,       P02W,      52,          1,         31,         31,2,20130421,       1746,    29.9968,   164.3314,       5923,   134.6,  16.8153,  34.6685,2,  34.6687,2,    221.1,2,   220.9,2,    3.81,2,    3.69,2,    0.02,2,    0.27,2,-999.000,9,-999.000,9,-999.000,9,-999.0000,9,  2023.8,2, 2276.51,2,   7.9583,2,       25,-999.000,9,-999.0000,9, -999.00,9, -999.00,9,  -999.0,9,  -999.0,-999.000,9,-999.000,     -999.0,9, -999.00,9, -999.00,9, -999.00,9,     -999.0,9,  -999.0,9, 20130421,     2021,  29.9994, 164.3291,    34.8321,2,     -999.0,9,     -999.0,9,    16.8152,2,     -999.0,9,     -999.0,9,-999.0000, -999.00,-999.000
318M20130321,       P02W,      52,          1,         30,         30,2,20130421,       1746,    29.9968,   164.3314,       5923,   187.1,  16.4858,  34.6539,2,  34.6546,2,    213.3,2,     220,2,    4.59,2,    4.36,2,    0.02,2,    0.31,2,   2.777,2,   1.578,2,   0.125,2,     1.62,2,  -999.0,9, -999.00,9,-999.0000,9,  -999.00,-999.000,9,-999.0000,9, -999.00,9, -999.00,9,  -999.0,9,  -999.0,-999.000,9,-999.000,     -999.0,9, -999.00,9, -999.00,9, -999.00,9,     -999.0,9,  -999.0,9, 20130421,     2019,  29.9995, 164.3294,     34.818,2,     -999.0,9,     -999.0,9,    16.4977,2,     -999.0,9,     -999.0,9,-999.0000, -999.00,-999.000
318M20130321,       P02W,      52,          1,         29,         29,2,20130421,       1746,    29.9968,   164.3314,       5923,   235.5,  15.9977,  34.6208,2,  34.6188,2,    210.8,2,   210.4,2,    6.25,2,     6.1,2,    0.02,2,    0.43,2,-999.000,9,-999.000,9,-999.000,9,-999.0000,9,  2044.2,2, 2274.01,2,   7.9225,6,       25,-999.000,9,-999.0000,9, -999.00,9, -999.00,9,  -999.0,9,  -999.0,-999.000,9,-999.000,     -999.0,9, -999.00,9, -999.00,9, -999.00,9,     -999.0,9,  -999.0,9, 20130421,     2016,  29.9998, 164.3293,     34.782,2,     -999.0,9,     -999.0,9,    15.9979,2,     -999.0,9,     -999.0,9,-999.0000, -999.00,-999.000
318M20130321,       P02W,      52,          1,         28,         28,2,20130421,       1746,    29.9968,   164.3314,       5923,   290.3,  15.2145,    34.56,2,  34.5579,2,    204.6,2,   203.9,2,    8.39,2,    7.84,2,    0.01,2,    0.55,2,   2.875,2,   1.691,2,   0.054,2,     1.19,2,  -999.0,9, -999.00,9,-999.0000,9,  -999.00,-999.000,9,-999.0000,9, -999.00,9, -999.00,9,  -999.0,9,  -999.0,-999.000,9,-999.000,     -999.0,9, -999.00,9, -999.00,9, -999.00,9,     -999.0,9,  -999.0,9, 20130421,     2014,  29.9998, 164.3295,    34.7209,2,     -999.0,9,     -999.0,9,    15.2127,2,     -999.0,9,     -999.0,9,-999.0000, -999.00,-999.000
318M20130321,       P02W,      52,          1,         27,         27,2,20130421,       1746,    29.9968,   164.3314,       5923,   333.9,  14.4905,  34.5055,2,   34.507,2,    207.8,2,   206.3,2,    9.86,2,     8.7,2,    0.01,2,    0.62,2,   2.950,2,   1.710,2,   0.075,2,      1.2,2,  2063.5,2, 2271.81,2,   7.8772,2,       25,-999.000,9,-999.0000,9, -999.00,9, -999.00,9,  -999.0,9,  -999.0,-999.000,9,-999.000,     -999.0,9, -999.00,9, -999.00,9, -999.00,9,     -999.0,9,  -999.0,9, 20130421,     2012,       30, 164.3296,    34.6698,2,     -999.0,9,     -999.0,9,    14.4883,2,     -999.0,9,     -999.0,9,-999.0000, -999.00,-999.000
318M20130321,       P02W,      52,          1,         26,         26,2,20130421,       1746,    29.9968,   164.3314,       5923,   385.9,   13.385,  34.4367,2,  34.4328,2,    201.7,2,     202,2,   13.28,2,   10.93,2,    0.01,2,    0.78,2,   3.030,2,   0.000,4,   0.078,2,     1.14,2,  -999.0,9, -999.00,9,-999.0000,9,  -999.00,-999.000,9,-999.0000,9, -999.00,9, -999.00,9,  -999.0,9,  -999.0,-999.000,9,-999.000,     -999.0,9, -999.00,9, -999.00,9, -999.00,9,     -999.0,9,  -999.0,9, 20130421,     2010,  30.0006, 164.3295,    34.5952,2,     -999.0,9,     -999.0,9,    13.3917,2,     -999.0,9,     -999.0,9,-999.0000, -999.00,-999.000
318M20130321,       P02W,      52,          1,         25,         25,2,20130421,       1746,    29.9968,   164.3314,       5923,   466.2,  11.3949,  34.2945,2,  34.2941,2,    197.4,2,     199,2,   19.23,2,   14.47,2,    0.01,2,    1.03,2,   3.249,2,   1.835,2,   0.096,2,      1.1,2,  2105.1,2, 2270.11,2,   7.7808,2,       25,-999.000,9,-999.0000,9, -999.00,9, -999.00,9,  -999.0,9,  -999.0,-999.000,9,-999.000,     -999.0,9, -999.00,9, -999.00,9, -999.00,9,     -999.0,9,  -999.0,9, 20130421,     2007,  30.0009, 164.3297,    34.4558,2,     -999.0,9,     -999.0,9,     11.386,2,     -999.0,9,     -999.0,9,-999.0000, -999.00,-999.000
318M20130321,       P02W,      52,          1,         24,         24,2,20130421,       1746,    29.9968,   164.3314,       5923,   567.7,   8.7975,  34.1089,2,  34.1123,2,    182.8,2,   184.9,2,   32.91,2,   20.19,2,    0.01,2,    1.46,2,   3.268,2,   1.790,2,   0.131,2,     1.05,2,  -999.0,9, -999.00,9,-999.0000,9,  -999.00,-999.000,9,-999.0000,9, -999.00,9, -999.00,9,  -999.0,9,  -999.0,-999.000,9,-999.000,     -999.0,9, -999.00,9, -999.00,9, -999.00,9,     -999.0,9,  -999.0,9, 20130421,     2004,  30.0011, 164.3298,    34.2732,2,     -999.0,9,     -999.0,9,     8.8206,2,     -999.0,9,     -999.0,9,-999.0000, -999.00,-999.000
318M20130321,       P02W,      52,          1,         23,         23,2,20130421,       1746,    29.9968,   164.3314,       5923,   668.6,   6.1512,  34.0088,2,  34.0071,2,    139.7,2,   137.6,2,   59.57,2,   29.67,2,    0.01,2,    2.16,2,   2.746,2,   1.471,2,   0.134,2,     0.67,2,  2217.8,2, 2288.41,2,   7.5249,2,       25,-999.000,9,-999.0000,9, -999.00,9, -999.00,9,  -999.0,9,  -999.0,-999.000,9,-999.000,     -999.0,9, -999.00,9, -999.00,9, -999.00,9,     -999.0,9,  -999.0,9, 20130421,     2001,  30.0011, 164.3298,    34.1675,2,     -999.0,9,     -999.0,9,     6.1489,2,     -999.0,9,     -999.0,9,-999.0000, -999.00,-999.000
318M20130321,       P02W,      52,          1,         22,         22,2,20130421,       1746,    29.9968,   164.3314,       5923,   768.8,   4.9064,  34.0651,2,  34.0669,2,     92.8,2,    92.8,2,   83.59,2,   35.77,2,       0,2,    2.59,2,   1.900,2,   0.994,2,   0.085,2,     0.41,2,  2273.4,2, 2307.32,2,   7.4177,2,       25,-999.000,9,-999.0000,9, -999.00,9, -999.00,9,  -999.0,9,  -999.0,-999.000,9,-999.000,     -999.0,9, -999.00,9, -999.00,9, -999.00,9,     -999.0,9,  -999.0,9, 20130421,     1958,  30.0011, 164.3298,    34.2275,2,     -999.0,9,     -999.0,9,     4.9053,2,     -999.0,9,     -999.0,9,-999.0000, -999.00,-999.000
318M20130321,       P02W,      52,          1,         21,         21,2,20130421,       1746,    29.9968,   164.3314,       5923,   870.3,   4.2411,  34.1717,2,  34.1694,2,     60.3,2,    59.9,2,  102.92,2,   39.61,2,       0,2,    2.85,2,   1.035,2,   0.529,2,   0.043,2,     0.24,2,  2311.2,2, 2328.03,2,    7.358,2,       25,-999.000,9,-999.0000,9, -999.00,9, -999.00,9,  -999.0,9,  -999.0,-999.000,9,-999.000,     -999.0,9, -999.00,9, -999.00,9, -999.00,9,     -999.0,9,  -999.0,9, 20130421,     1955,  30.0011, 164.3298,    34.3305,2,     -999.0,9,     -999.0,9,     4.2394,2,     -999.0,9,     -999.0,9,-999.0000, -999.00,-999.000
318M20130321,       P02W,      52,          1,         20,         20,2,20130421,       1746,    29.9968,   164.3314,       5923,   972.3,    3.776,  34.2634,2,  34.2637,2,     43.3,2,      43,2,  118.14,2,   41.49,2,       0,2,    2.99,2,   0.577,2,   0.288,2,   0.015,2,     0.12,2,  2338.8,2, 2346.63,2,   7.3346,2,       25,-999.000,9,-999.0000,9, -999.00,9, -999.00,9,  -999.0,9,  -999.0,-999.000,9,-999.000,     -999.0,9, -999.00,9, -999.00,9, -999.00,9,     -999.0,9,  -999.0,9, 20130421,     1952,  30.0011, 164.3298,    34.4253,2,     -999.0,9,     -999.0,9,     3.7753,2,     -999.0,9,     -999.0,9,-999.0000, -999.00,-999.000
318M20130321,       P02W,      52,          1,         19,         19,2,20130421,       1746,    29.9968,   164.3314,       5923,  1072.9,   3.4258,  34.3254,2,  34.3244,2,     32.2,2,    33.9,2,  128.78,2,   42.57,2,       0,2,    3.07,2,   0.296,2,   0.152,2,   0.004,2,     0.19,2,  -999.0,9, -999.00,9,-999.0000,9,  -999.00,-999.000,9,-999.0000,9, -999.00,9, -999.00,9,  -999.0,9,  -999.0,-999.000,9,-999.000,     -999.0,9, -999.00,9, -999.00,9, -999.00,9,     -999.0,9,  -999.0,9, 20130421,     1949,  30.0011, 164.3298,    34.4862,2,     -999.0,9,     -999.0,9,     3.4277,2,     -999.0,9,     -999.0,9,-999.0000, -999.00,-999.000
318M20130321,       P02W,      52,          1,         18,         18,2,20130421,       1746,    29.9968,   164.3314,       5923,  1174.8,   3.1765,  34.3714,2,  34.3707,2,     30.1,2,    31.3,2,  136.29,2,   42.96,2,       0,2,    3.09,2,   0.201,2,   0.100,2,   0.007,2,        0,2,  2365.3,2, 2369.14,2,   7.3237,2,       25,-999.000,9,-999.0000,9, -999.00,9, -999.00,9,  -999.0,9,  -999.0,-999.000,9,-999.000,     -999.0,9, -999.00,9, -999.00,9, -999.00,9,     -999.0,9,  -999.0,9, 20130421,     1946,  30.0011, 164.3298,    34.5327,2,     -999.0,9,     -999.0,9,     3.1775,2,     -999.0,9,     -999.0,9,-999.0000, -999.00,-999.000
318M20130321,       P02W,      52,          1,         17,         17,2,20130421,       1746,    29.9968,   164.3314,       5923,  1275.7,   2.9672,  34.4152,2,   34.414,2,     31.1,2,    34.1,2,  142.34,2,   43.04,2,       0,2,    3.08,2,   0.128,2,   0.068,2,   0.003,2,        0,2,  2369.2,2, 2378.44,2,   7.3318,6,       25,-999.000,9,-999.0000,9, -999.00,9, -999.00,9,  -999.0,9,  -999.0,-999.000,9,-999.000,     -999.0,9, -999.00,9, -999.00,9, -999.00,9,     -999.0,9,  -999.0,9, 20130421,     1943,  30.0011, 164.3298,    34.5763,2,     -999.0,9,     -999.0,9,     2.9673,2,     -999.0,9,     -999.0,9,-999.0000, -999.00,-999.000
318M20130321,       P02W,      52,          1,         16,         16,2,20130421,       1746,    29.9968,   164.3314,       5923,  1375.2,   2.7532,  34.4581,2,   34.457,2,       35,2,    35.5,2,  148.09,2,   43.13,2,       0,2,    3.09,2,-999.000,9,-999.000,9,-999.000,9,-999.0000,9,  2375.7,2, 2386.25,2,   7.3389,2,       25,-999.000,9,   1.9176,2,   17.91,2, -999.00,9,  -999.0,9,  -999.0,   7.870,2,   0.036,     -999.0,9, -999.00,9, -999.00,9, -999.00,9,     -999.0,9,  -999.0,9, 20130421,     1938,  30.0011, 164.3298,    34.6195,2,     -999.0,9,     -999.0,9,     2.7517,2,     -999.0,9,     -999.0,9,   0.0081,    0.15,-999.000
318M20130321,       P02W,      52,          1,         15,         15,2,20130421,       1746,    29.9968,   164.3314,       5923,  1548.4,   2.4555,  34.5097,2,  34.5085,2,     43.1,2,    43.1,2,   155.9,2,   42.91,2,       0,2,    3.07,2,   0.023,2,   0.018,2,  -0.003,2,        0,2,  2378.2,6, 2397.05,2,   7.3576,2,       25,-999.000,9,-999.0000,9, -999.00,9, -999.00,9,  -999.0,9,  -999.0,-999.000,9,-999.000,     -999.0,9, -999.00,9, -999.00,9, -999.00,9,     -999.0,9,  -999.0,9, 20130421,     1933,  30.0011, 164.3298,    34.6712,2,     -999.0,9,     -999.0,9,     2.4547,2,     -999.0,9,     -999.0,9,-999.0000, -999.00,-999.000
318M20130321,       P02W,      52,          1,         14,         14,2,20130421,       1746,    29.9968,   164.3314,       5923,  1753.6,   2.1906,   34.557,2,  34.5566,2,     57.3,2,    56.7,2,  161.26,2,   42.12,2,       0,2,    3.01,2,-999.000,9,-999.000,9,-999.000,9,-999.0000,9,  2376.2,2, 2404.95,2,   7.3862,2,       25,-999.000,9,-999.0000,9, -999.00,9, -999.00,9,  -999.0,9,  -999.0,-999.000,9,-999.000,     -999.0,9, -999.00,9, -999.00,9, -999.00,9,     -999.0,9,  -999.0,9, 20130421,     1929,  30.0011, 164.3298,    34.7195,2,     -999.0,9,     -999.0,9,     2.1905,2,     -999.0,9,     -999.0,9,-999.0000, -999.00,-999.000
318M20130321,       P02W,      52,          1,         13,         13,2,20130421,       1746,    29.9968,   164.3314,       5923,  1954.1,    1.999,  34.5882,2,  34.5872,2,     72.2,2,    70.5,2,  163.89,2,   41.29,2,       0,2,    2.94,2,-999.000,9,-999.000,9,-999.000,9,-999.0000,9,  -999.0,9, -999.00,9,-999.0000,9,  -999.00,-999.000,9,-999.0000,9, -999.00,9, -999.00,9,  -999.0,9,  -999.0,-999.000,9,-999.000,     -999.0,9, -999.00,9, -999.00,9, -999.00,9,     -999.0,9,  -999.0,9, 20130421,     1923,  30.0011, 164.3298,    34.7503,2,     -999.0,9,     -999.0,9,     1.9984,2,     -999.0,9,     -999.0,9,-999.0000, -999.00,-999.000
318M20130321,       P02W,      52,          1,         12,         12,2,20130421,       1746,    29.9968,   164.3314,       5923,  2187.8,   1.8185,  34.6165,2,  34.6165,2,     87.6,2,    87.7,2,  164.08,2,   40.22,2,       0,2,    2.85,2,   0.009,2,   0.009,2,   0.002,2,        0,2,  2364.2,2, 2412.56,2,   7.4492,2,       25,-999.000,9,-999.0000,9, -999.00,9, -999.00,9,  -999.0,9,  -999.0,-999.000,9,-999.000,     -999.0,9, -999.00,9, -999.00,9, -999.00,9,     -999.0,9,  -999.0,9, 20130421,     1917,  30.0011, 164.3298,    34.7797,2,     -999.0,9,     -999.0,9,     1.8183,2,     -999.0,9,     -999.0,9,-999.0000, -999.00,-999.000
318M20130321,       P02W,      52,          1,         11,         11,2,20130421,       1746,    29.9968,   164.3314,       5923,  2440.7,   1.7058,  34.6376,2,  34.6373,2,    105.2,2,   104.9,2,  160.86,2,      39,2,       0,2,    2.77,2,-999.000,9,-999.000,9,-999.000,9,-999.0000,9,  -999.0,9, -999.00,9,-999.0000,9,  -999.00,-999.000,9,-999.0000,9, -999.00,9, -999.00,9,  -999.0,9,  -999.0,-999.000,9,-999.000,     -999.0,9, -999.00,9, -999.00,9, -999.00,9,     -999.0,9,  -999.0,9, 20130421,     1912,  30.0011, 164.3299,    34.8007,2,     -999.0,9,     -999.0,9,     1.7056,2,     -999.0,9,     -999.0,9,-999.0000, -999.00,-999.000
318M20130321,       P02W,      52,          1,         10,         10,2,20130421,       1746,    29.9968,   164.3314,       5923,  2695.9,   1.6212,   34.652,2,  34.6511,2,    117.5,2,   117.5,2,  157.74,2,   38.18,2,       0,2,     2.7,2,-999.000,9,-999.000,9,-999.000,9,-999.0000,9,  2345.6,2, 2414.76,2,   7.5085,2,       25,-999.000,9,-999.0000,9, -999.00,9, -999.00,9,  -999.0,9,  -999.0,-999.000,9,-999.000,     -999.0,9, -999.00,9, -999.00,9, -999.00,9,     -999.0,9,  -999.0,9, 20130421,     1906,  30.0011, 164.3298,    34.8145,2,     -999.0,9,     -999.0,9,     1.6212,2,     -999.0,9,     -999.0,9,-999.0000, -999.00,-999.000
318M20130321,       P02W,      52,          1,          9,          9,2,20130421,       1746,    29.9968,   164.3314,       5923,  2951.5,   1.5596,  34.6613,2,  34.6601,2,    126.1,2,   125.7,2,  156.95,2,    37.7,2,       0,2,    2.66,2,   0.001,2,   0.006,2,  -0.001,2,     0.03,2,  -999.0,9, -999.00,9,-999.0000,9,  -999.00,-999.000,9,-999.0000,9, -999.00,9, -999.00,9,  -999.0,9,  -999.0,-999.000,9,-999.000,     -999.0,9, -999.00,9, -999.00,9, -999.00,9,     -999.0,9,  -999.0,9, 20130421,     1900,  30.0011, 164.3298,    34.8236,2,     -999.0,9,     -999.0,9,     1.5593,2,     -999.0,9,     -999.0,9,-999.0000, -999.00,-999.000
318M20130321,       P02W,      52,          1,          8,          8,2,20130421,       1746,    29.9968,   164.3314,       5923,  3244.1,   1.5224,  34.6696,2,  34.6692,2,    135.4,2,     135,2,  154.81,2,   37.08,2,       0,2,    2.61,2,-999.000,9,-999.000,9,-999.000,9,-999.0000,9,  2333.2,2, 2414.56,2,   7.5405,2,       25,-999.000,9,-999.0000,9, -999.00,9, -999.00,9,  -999.0,9,  -999.0,-999.000,9,-999.000,     -999.0,9, -999.00,9, -999.00,9, -999.00,9,     -999.0,9,  -999.0,9, 20130421,     1854,  30.0011, 164.3298,    34.8327,2,     -999.0,9,     -999.0,9,     1.5224,2,     -999.0,9,     -999.0,9,-999.0000, -999.00,-999.000