BOTTLE,20220817CCHSIOAMB
EXPOCODE,SECT_ID,STNNBR,CASTNO,SAMPNO,BTLNBR,BTLNBR_FLAG_W,DATE,TIME,LATITUDE,LONGITUDE,DEPTH,CTDPRS,CTDTMP,CTDSAL,CTDSAL_FLAG_W,SALNTY,SALNTY_FLAG_W,CTDOXY,CTDOXY_FLAG_W,OXYGEN,OXYGEN_FLAG_W,SILCAT,SILCAT_FLAG_W,NITRAT,NITRAT_FLAG_W,NITRIT,NITRIT_FLAG_W,PHSPHT,PHSPHT_FLAG_W,CFC-11,CFC-11_FLAG_W,CFC-12,CFC-12_FLAG_W,CFC113,CFC113_FLAG_W,SF6,SF6_FLAG_W,TCARBN,TCARBN_FLAG_W,ALKALI,ALKALI_FLAG_W,PH_TOT,PH_TOT_FLAG_W,PH_TMP,TRITUM,TRITUM_FLAG_W,HELIUM,HELIUM_FLAG_W,DELHE3,DELHE3_FLAG_W,DELC13,DELC13_FLAG_W,DELC14,DELC14_FLAG_W,C14ERR,NEON,NEON_FLAG_W,NEONER,I-129,I-129_FLAG_W,SR-90,SR-90_FLAG_W,DOC,DOC_FLAG_W,TDN,TDN_FLAG_W,CALCIUM,CALCIUM_FLAG_W,D15N_NO3,D15N_NO3_FLAG_W,BTL_DATE,BTL_TIME,BTL_LAT,BTL_LON,SALTREF,SALTREF_FLAG_W,CS-137,CS-137_FLAG_W,CS-134,CS-134_FLAG_W,REFTMP,REFTMP_FLAG_W,LAB_DEN,LAB_DEN_FLAG_W,D18O_NO3,D18O_NO3_FLAG_W,HELIER,DELHER,TRITER
,,,,,,,,,,,METERS,DBAR,ITS-90,PSS-78,,PSS-78,,UMOL/KG,,UMOL/KG,,UMOL/KG,,UMOL/KG,,UMOL/KG,,UMOL/KG,,PMOL/KG,,PMOL/KG,,PMOL/KG,,FMOL/KG,,UMOL/KG,,UMOL/KG,,,,DEG C,TU,,NMOL/KG,,PERCNT,,/MILLE,,/MILLE,,/MILLE,NMOL/KG,,NMOL/KG,BQ/M^3,,DM/.1MG,,UMOL/KG,,UMOL/KG,,MMOL/KG,,/MILLE,,,,,,G/KG,,BQ/M^3,,BQ/M^3,,ITS-90,,,,/MILLE,,NMOL/KG,PERCNT,TU
318M20130321,       P02W,      82,          1,         36,         36,2,20130501,       0354,         30,  -173.2264,       5454,     1.9,  18.9738,  34.8795,2,   34.879,2,    232.6,2,     233,2,    2.24,2,       0,2,       0,2,    0.02,2,   2.495,2,   1.517,2,   0.205,2,     1.42,2,  2016.9,2, 2290.91,2,   8.0017,6,       25,-999.000,9,-999.0000,9, -999.00,9, -999.00,9,  -999.0,9,  -999.0,-999.000,9,-999.000,     -999.0,9, -999.00,9, -999.00,9, -999.00,9,     -999.0,9,  -999.0,9, 20130501,      600,  30.0002,-173.2264,    35.0435,2,     -999.0,9,     -999.0,9,    18.9734,2,     -999.0,9,     -999.0,9,-999.0000, -999.00,-999.000
318M20130321,       P02W,      82,          1,         34,         34,2,20130501,       0354,         30,  -173.2264,       5454,    21.9,  17.9299,  34.7767,2,  34.7687,2,    236.5,2,   237.9,2,    2.54,2,       0,2,       0,2,    0.02,2,   2.615,2,   1.570,2,   0.217,2,     1.52,2,  -999.0,9, -999.00,9,-999.0000,9,  -999.00,-999.000,9,-999.0000,9, -999.00,9, -999.00,9,  -999.0,9,  -999.0,-999.000,9,-999.000,     -999.0,9, -999.00,9, -999.00,9, -999.00,9,     -999.0,9,  -999.0,9, 20130501,      559,  30.0002,-173.2265,    34.9326,2,     -999.0,9,     -999.0,9,    17.9279,2,     -999.0,9,     -999.0,9,-999.0000, -999.00,-999.000
318M20130321,       P02W,      82,          1,         33,         33,2,20130501,       0354,         30,  -173.2264,       5454,    42.4,  17.5524,  34.7336,2,  34.7331,2,    238.2,2,   239.1,2,    2.64,2,       0,2,       0,2,    0.02,2,   2.611,2,   1.566,2,   0.232,2,     1.76,2,  2017.7,2, 2279.11,6,   7.9886,2,       25,-999.000,9,-999.0000,9, -999.00,9, -999.00,9,  -999.0,9,  -999.0,-999.000,9,-999.000,     -999.0,9, -999.00,9, -999.00,9, -999.00,9,     -999.0,9,  -999.0,9, 20130501,      558,  30.0002,-173.2264,    34.8969,2,     -999.0,9,     -999.0,9,    17.5499,2,     -999.0,9,     -999.0,9,-999.0000, -999.00,-999.000
318M20130321,       P02W,      82,          1,         31,         31,2,20130501,       0354,         30,  -173.2264,       5454,    62.2,  17.4746,  34.7212,2,-999.0000,9,    239.4,2,  -999.0,9,    2.64,2,       0,2,       0,2,    0.03,2,-999.000,9,-999.000,9,-999.000,9,-999.0000,9,  -999.0,9, -999.00,9,-999.0000,9,  -999.00,-999.000,9,-999.0000,9, -999.00,9, -999.00,9,  -999.0,9,  -999.0,-999.000,9,-999.000,     -999.0,1, -999.00,1, -999.00,9, -999.00,9,     -999.0,9,  -999.0,9, 20130501,      556,  30.0002,-173.2265,     -999.0,9,     -999.0,1,     -999.0,1,    17.4757,2,     -999.0,9,     -999.0,9,-999.0000, -999.00,-999.000
318M20130321,       P02W,      82,          1,         32,         32,2,20130501,       0354,         30,  -173.2264,       5454,    62.2,  17.4777,  34.7214,2,-999.0000,9,    239.4,2,  -999.0,9,    2.64,2,       0,2,       0,2,    0.03,2,-999.000,9,-999.000,9,-999.000,9,-999.0000,9,  -999.0,9, -999.00,9,-999.0000,9,  -999.00,-999.000,9,-999.0000,9, -999.00,9, -999.00,9,  -999.0,9,  -999.0,-999.000,9,-999.000,     -999.0,9, -999.00,1, -999.00,9, -999.00,9,     -999.0,9,  -999.0,9, 20130501,      556,  30.0002,-173.2265,     -999.0,9,     -999.0,1,     -999.0,1,    17.4768,2,     -999.0,9,     -999.0,9,-999.0000, -999.00,-999.000
318M20130321,       P02W,      82,          1,         30,         30,2,20130501,       0354,         30,  -173.2264,       5454,    62.4,  17.4734,  34.7207,2,  34.7188,2,    239.4,2,   238.6,2,    2.64,2,       0,2,       0,2,    0.02,2,   2.624,2,   1.574,2,   0.209,2,     1.72,2,  2017.1,2, 2277.61,2,   7.9854,6,       25,-999.000,9,-999.0000,9, -999.00,9, -999.00,9,  -999.0,9,  -999.0,-999.000,9,-999.000,     -999.0,9, -999.00,9, -999.00,9, -999.00,9,     -999.0,9,  -999.0,9, 20130501,      556,  30.0002,-173.2265,    34.8825,2,     -999.0,9,     -999.0,9,     17.474,2,     -999.0,9,     -999.0,9,-999.0000, -999.00,-999.000
318M20130321,       P02W,      82,          1,         29,         29,2,20130501,       0354,         30,  -173.2264,       5454,    86.8,  17.0805,  34.6632,2,  34.6641,2,    240.5,2,   238.1,2,    2.83,2,     0.2,2,    0.05,2,    0.05,2,-999.000,9,-999.000,9,-999.000,9,-999.0000,9,  2017.3,2, 2274.71,2,   7.9776,2,       25,-999.000,9,-999.0000,9, -999.00,9, -999.00,9,  -999.0,9,  -999.0,-999.000,9,-999.000,     -999.0,9, -999.00,9, -999.00,9, -999.00,9,     -999.0,9,  -999.0,9, 20130501,      554,  30.0002,-173.2264,    34.8276,2,     -999.0,9,     -999.0,9,    17.0749,2,     -999.0,9,     -999.0,9,-999.0000, -999.00,-999.000
318M20130321,       P02W,      82,          1,         28,         28,2,20130501,       0354,         30,  -173.2264,       5454,   133.4,  16.3002,  34.5876,2,  34.5865,2,    235.5,2,   234.4,2,    3.42,2,    1.65,2,    0.19,2,    0.14,2,   2.762,2,   1.662,2,   0.201,2,     1.74,2,  2024.8,2, 2270.51,2,   7.9571,2,       25,-999.000,9,-999.0000,9, -999.00,9, -999.00,9,  -999.0,9,  -999.0,-999.000,9,-999.000,     -999.0,9, -999.00,9, -999.00,9, -999.00,9,     -999.0,9,  -999.0,9, 20130501,      552,  30.0002,-173.2264,    34.7496,2,     -999.0,9,     -999.0,9,     16.297,2,     -999.0,9,     -999.0,9,-999.0000, -999.00,-999.000
318M20130321,       P02W,      82,          1,         27,         27,2,20130501,       0354,         30,  -173.2264,       5454,   182.9,  15.4527,  34.5094,2,  34.5072,2,    224.9,2,   225.8,2,    4.98,2,    4.28,2,    0.02,2,    0.29,2,-999.000,9,-999.000,9,-999.000,9,-999.0000,9,    2041,2,  2266.2,2,    7.922,2,       25,-999.000,9,-999.0000,9, -999.00,9, -999.00,9,  -999.0,9,  -999.0,-999.000,9,-999.000,     -999.0,9, -999.00,9, -999.00,9, -999.00,9,     -999.0,9,  -999.0,9, 20130501,      551,  30.0002,-173.2264,    34.6699,2,     -999.0,9,     -999.0,9,    15.4619,2,     -999.0,9,     -999.0,9,-999.0000, -999.00,-999.000
318M20130321,       P02W,      82,          1,         26,         26,2,20130501,       0354,         30,  -173.2264,       5454,   234.5,   14.589,  34.4711,2,  34.4699,2,    217.2,2,   219.7,2,    7.13,2,    6.81,2,    0.01,2,    0.46,2,   2.987,2,   1.744,2,   0.123,2,      1.6,2,  -999.0,9, -999.00,9,-999.0000,9,  -999.00,-999.000,9,-999.0000,9, -999.00,9, -999.00,9,  -999.0,9,  -999.0,-999.000,9,-999.000,     -999.0,9, -999.00,9, -999.00,9, -999.00,9,     -999.0,9,  -999.0,9, 20130501,      548,  30.0002,-173.2264,    34.6325,2,     -999.0,9,     -999.0,9,    14.5897,2,     -999.0,9,     -999.0,9,-999.0000, -999.00,-999.000
318M20130321,       P02W,      82,          1,         25,         25,2,20130501,       0354,         30,  -173.2264,       5454,   284.9,  13.5583,  34.4135,2,  34.4087,2,      213,2,   212.3,2,   10.15,2,    9.34,2,    0.01,2,    0.63,2,-999.000,9,-999.000,9,-999.000,9,-999.0000,9,  2074.3,2, 2266.31,2,    7.852,2,       25,-999.000,9,-999.0000,9, -999.00,9, -999.00,9,  -999.0,9,  -999.0,-999.000,9,-999.000,     -999.0,9, -999.00,9, -999.00,9, -999.00,9,     -999.0,9,  -999.0,9, 20130501,      546,  30.0002,-173.2264,    34.5709,2,     -999.0,9,     -999.0,9,    13.5612,2,     -999.0,9,     -999.0,9,-999.0000, -999.00,-999.000
318M20130321,       P02W,      82,          1,         24,         24,2,20130501,       0354,         30,  -173.2264,       5454,   335.3,  12.6228,  34.3604,2,  34.3604,2,    212.8,2,     213,2,   12.79,2,   10.92,2,       0,2,    0.75,2,   3.209,2,   1.839,2,   0.087,2,     1.47,2,  -999.0,9, -999.00,9,-999.0000,9,  -999.00,-999.000,9,-999.0000,9, -999.00,9, -999.00,9,  -999.0,9,  -999.0,-999.000,9,-999.000,     -999.0,9, -999.00,9, -999.00,9, -999.00,9,     -999.0,9,  -999.0,9, 20130501,      544,  30.0002,-173.2264,    34.5224,2,     -999.0,9,     -999.0,9,     12.624,2,     -999.0,9,     -999.0,9,-999.0000, -999.00,-999.000
318M20130321,       P02W,      82,          1,         23,         23,2,20130501,       0354,         30,  -173.2264,       5454,   366.2,  12.0937,  34.3232,2,  34.3278,2,    212.8,2,   212.8,2,   14.16,2,   11.76,2,       0,2,    0.81,2,-999.000,9,-999.000,9,-999.000,9,-999.0000,9,  2090.2,2,  2265.6,2,   7.8179,2,       25,-999.000,9,-999.0000,9, -999.00,9, -999.00,9,  -999.0,9,  -999.0,-999.000,9,-999.000,     -999.0,9, -999.00,9, -999.00,9, -999.00,9,     -999.0,9,  -999.0,9, 20130501,      542,  30.0002,-173.2264,    34.4897,2,     -999.0,9,     -999.0,9,    12.0868,2,     -999.0,9,     -999.0,9,-999.0000, -999.00,-999.000
318M20130321,       P02W,      82,          1,         22,         22,2,20130501,       0354,         30,  -173.2264,       5454,   467.7,  10.0497,  34.1762,2,  34.1762,2,    199.1,2,   201.9,2,   22.46,2,   16.69,2,       0,2,    1.16,2,   3.471,2,   1.920,2,   0.109,2,     1.26,2,  2121.4,2,  2264.9,2,   7.7388,2,       25,-999.000,9,-999.0000,9, -999.00,9, -999.00,9,  -999.0,9,  -999.0,-999.000,9,-999.000,     -999.0,9, -999.00,9, -999.00,9, -999.00,9,     -999.0,9,  -999.0,9, 20130501,      539,  30.0002,-173.2264,    34.3374,2,     -999.0,9,     -999.0,9,    10.0498,2,     -999.0,9,     -999.0,9,-999.0000, -999.00,-999.000
318M20130321,       P02W,      82,          1,         21,         21,2,20130501,       0354,         30,  -173.2264,       5454,   569.2,   8.2206,  34.0715,2,  34.0696,2,    163.5,2,   172.8,2,   36.52,2,   22.91,2,       0,2,    1.63,2,-999.000,9,-999.000,9,-999.000,9,-999.0000,9,  -999.0,9, -999.00,9,-999.0000,9,  -999.00,-999.000,9,   1.8134,2,    6.71,2, -999.00,9,  -999.0,9,  -999.0,   7.821,2,   0.036,     -999.0,9, -999.00,9, -999.00,9, -999.00,9,     -999.0,9,  -999.0,9, 20130501,      537,  30.0002,-173.2264,    34.2303,2,     -999.0,9,     -999.0,9,     8.2215,2,     -999.0,9,     -999.0,9,   0.0076,    0.15,-999.000
318M20130321,       P02W,      82,          1,         20,         20,2,20130501,       0354,         30,  -173.2264,       5454,   670.8,    6.108,  34.0108,2,  34.0108,2,    122.6,2,   125.2,2,   60.25,2,   31.05,2,       0,2,    2.25,2,   2.561,2,   1.305,2,   0.110,2,     0.56,2,  2226.8,6, 2288.41,2,   7.5009,2,       25,-999.000,9,-999.0000,9, -999.00,9, -999.00,9,  -999.0,9,  -999.0,-999.000,9,-999.000,     -999.0,9, -999.00,9, -999.00,9, -999.00,9,     -999.0,9,  -999.0,9, 20130501,      534,  30.0003,-173.2264,    34.1712,2,     -999.0,9,     -999.0,9,     6.1049,2,     -999.0,9,     -999.0,9,-999.0000, -999.00,-999.000
318M20130321,       P02W,      82,          1,         19,         19,2,20130501,       0354,         30,  -173.2264,       5454,   766.5,   4.7753,  34.0841,2,  34.0816,2,     72.3,2,      68,2,   86.81,2,   38.32,2,       0,2,    2.76,2,   1.281,2,   0.627,2,   0.046,2,     0.22,2,  2290.8,2, 2310.92,2,   7.3736,2,       25,-999.000,9,-999.0000,9, -999.00,9, -999.00,9,  -999.0,9,  -999.0,-999.000,9,-999.000,     -999.0,9, -999.00,9, -999.00,9, -999.00,9,     -999.0,9,  -999.0,9, 20130501,      531,  30.0001,-173.2264,    34.2423,2,     -999.0,9,     -999.0,9,     4.7896,2,     -999.0,9,     -999.0,9,-999.0000, -999.00,-999.000
318M20130321,       P02W,      82,          1,         18,         18,2,20130501,       0354,         30,  -173.2264,       5454,   868.3,    4.175,  34.1814,2,  34.1802,2,     35.6,2,    36.5,2,  104.67,2,   41.77,2,       0,2,    3.01,2,   0.481,2,   0.231,2,   0.014,2,     0.04,2,  2328.6,2, 2330.93,2,   7.3193,6,       25,-999.000,9,-999.0000,9, -999.00,9, -999.00,9,  -999.0,9,  -999.0,-999.000,9,-999.000,     -999.0,9, -999.00,9, -999.00,9, -999.00,9,     -999.0,9,  -999.0,9, 20130501,      528,       30,-173.2264,    34.3413,2,     -999.0,9,     -999.0,9,     4.1754,2,     -999.0,9,     -999.0,9,-999.0000, -999.00,-999.000
318M20130321,       P02W,      82,          1,         17,         17,2,20130501,       0354,         30,  -173.2264,       5454,   969.5,   3.7479,  34.2622,2,  34.2614,2,     18.7,2,    19.1,2,  119.22,2,   43.56,2,       0,2,    3.13,2,   0.151,2,   0.074,2,   0.004,2,     0.04,2,  2356.5,2, 2347.93,2,   7.2929,2,       25,-999.000,9,-999.0000,9, -999.00,9, -999.00,9,  -999.0,9,  -999.0,-999.000,9,-999.000,     -999.0,9, -999.00,9, -999.00,9, -999.00,9,     -999.0,9,  -999.0,9, 20130501,      526,       30,-173.2264,    34.4229,2,     -999.0,9,     -999.0,9,     3.7596,2,     -999.0,9,     -999.0,9,-999.0000, -999.00,-999.000
318M20130321,       P02W,      82,          1,         16,         16,2,20130501,       0354,         30,  -173.2264,       5454,  1071.1,   3.4705,  34.3403,2,  34.3381,2,     13.9,2,    14.7,2,  129.07,2,   44.15,2,       0,2,     3.2,2,   0.050,2,   0.024,2,   0.016,2,        0,2,  2369.4,2, 2362.24,2,   7.2933,2,       25,-999.000,9,-999.0000,9, -999.00,9, -999.00,9,  -999.0,9,  -999.0,-999.000,9,-999.000,     -999.0,9, -999.00,9, -999.00,9, -999.00,9,     -999.0,9,  -999.0,9, 20130501,      523,  29.9999,-173.2264,       34.5,2,     -999.0,9,     -999.0,9,     3.4729,2,     -999.0,9,     -999.0,9,-999.0000, -999.00,-999.000
318M20130321,       P02W,      82,          1,         15,         15,2,20130501,       0354,         30,  -173.2264,       5454,  1275.5,   3.0364,  34.4633,2,  34.4625,2,     28.2,2,    26.7,2,  141.16,2,    43.8,2,       0,2,    3.16,2,   0.011,2,   0.006,2,   0.004,2,        0,2,  2371.8,2, 2384.45,2,   7.3298,2,       25,-999.000,9,-999.0000,9, -999.00,9, -999.00,9,  -999.0,9,  -999.0,-999.000,9,-999.000,     -999.0,9, -999.00,9, -999.00,9, -999.00,9,     -999.0,9,  -999.0,9, 20130501,      518,       30,-173.2264,     34.625,2,     -999.0,9,     -999.0,9,     3.0365,2,     -999.0,9,     -999.0,9,-999.0000, -999.00,-999.000
318M20130321,       P02W,      82,          1,         14,         14,2,20130501,       0354,         30,  -173.2264,       5454,  1475.5,   2.6751,   34.527,2,  34.5273,2,     46.6,2,    48.7,2,  148.09,2,   42.55,2,       0,2,    3.04,2,   0.012,2,   0.006,2,   0.004,2,     0.06,2,    2376,2, 2395.15,2,   7.3786,2,       25,-999.000,9,-999.0000,9, -999.00,9, -999.00,9,  -999.0,9,  -999.0,-999.000,9,-999.000,     -999.0,9, -999.00,9, -999.00,9, -999.00,9,     -999.0,9,  -999.0,9, 20130501,      514,       30,-173.2264,    34.6901,2,     -999.0,9,     -999.0,9,     2.6765,2,     -999.0,9,     -999.0,9,-999.0000, -999.00,-999.000
318M20130321,       P02W,      82,          1,         13,         13,2,20130501,       0354,         30,  -173.2264,       5454,  1780.2,   2.2263,   34.578,2,  34.5786,2,     65.5,2,    66.4,2,  157.35,2,    41.6,2,       0,2,    2.97,2,   0.012,2,   0.005,2,   0.006,2,     0.04,2,  2374.1,2, 2406.05,2,   7.4116,2,       25,-999.000,9,   1.8684,2,   19.96,2, -999.00,9,  -999.0,9,  -999.0,   8.184,2,   0.038,     -999.0,9, -999.00,9, -999.00,9, -999.00,9,     -999.0,9,  -999.0,9, 20130501,      508,       30,-173.2264,    34.7416,2,     -999.0,9,     -999.0,9,     2.2264,2,     -999.0,9,     -999.0,9,   0.0078,    0.15,-999.000
318M20130321,       P02W,      82,          1,         11,         11,2,20130501,       0354,         30,  -173.2264,       5454,  2086.8,    1.935,   34.613,2,  34.6129,2,     85.5,2,    85.3,2,  160.67,2,   40.37,2,       0,2,    2.85,2,   0.013,2,   0.004,2,   0.003,2,        0,2,  2365.4,2, 2413.46,2,   7.4508,2,       25,-999.000,9,-999.0000,9, -999.00,9, -999.00,9,  -999.0,9,  -999.0,-999.000,9,-999.000,     -999.0,9, -999.00,9, -999.00,9, -999.00,9,     -999.0,9,  -999.0,9, 20130501,      502,       30,-173.2264,    34.7762,2,     -999.0,9,     -999.0,9,     1.9348,2,     -999.0,9,     -999.0,9,-999.0000, -999.00,-999.000
318M20130321,       P02W,      82,          1,         10,         10,2,20130501,       0354,         30,  -173.2264,       5454,  2388.3,   1.7613,  34.6343,2,  34.6342,2,     98.5,2,    97.9,2,  162.91,2,   39.58,2,       0,2,    2.78,2,-999.000,9,-999.000,9,-999.000,9,-999.0000,9,  2361.4,2, 2416.16,2,   7.4751,2,       25,-999.000,9,-999.0000,9, -999.00,9, -999.00,9,  -999.0,9,  -999.0,-999.000,9,-999.000,     -999.0,9, -999.00,9, -999.00,9, -999.00,9,     -999.0,9,  -999.0,9, 20130501,      455,       30,-173.2264,    34.7975,2,     -999.0,9,     -999.0,9,     1.7613,2,     -999.0,9,     -999.0,9,-999.0000, -999.00,-999.000
318M20130321,       P02W,      82,          1,          9,          9,2,20130501,       0354,         30,  -173.2264,       5454,  2691.7,   1.6327,  34.6513,2,  34.6521,2,    111.1,2,   111.1,2,  163.01,2,   38.76,2,       0,2,    2.73,2,   0.010,2,   0.007,2,   0.002,2,     0.01,2,  -999.0,9, -999.00,9,-999.0000,9,  -999.00,-999.000,9,-999.0000,9, -999.00,9, -999.00,9,  -999.0,9,  -999.0,-999.000,9,-999.000,     -999.0,9, -999.00,9, -999.00,9, -999.00,9,     -999.0,9,  -999.0,9, 20130501,      449,       30,-173.2264,    34.8154,2,     -999.0,9,     -999.0,9,     1.6326,2,     -999.0,9,     -999.0,9,-999.0000, -999.00,-999.000
318M20130321,       P02W,      82,          1,          8,          8,2,20130501,       0354,         30,  -173.2264,       5454,  3101.9,    1.533,  34.6661,2,  34.6656,2,    126.8,2,     127,2,  160.17,2,    37.7,2,       0,2,    2.65,2,-999.000,9,-999.000,9,-999.000,9,-999.0000,9,  2343.9,2, 2417.86,2,   7.5277,2,       25,-999.000,9,-999.0000,9, -999.00,9, -999.00,9,  -999.0,9,  -999.0,-999.000,9,-999.000,     -999.0,9, -999.00,9, -999.00,9, -999.00,9,     -999.0,9,  -999.0,9, 20130501,      442,       30,-173.2264,    34.8291,2,     -999.0,9,     -999.0,9,     1.5328,2,     -999.0,9,     -999.0,9,-999.0000, -999.00,-999.000
318M20130321,       P02W,      82,          1,          7,          7,2,20130501,       0354,         30,  -173.2264,       5454,  3509.8,     1.48,  34.6764,2,   34.675,2,    138.1,2,   138.5,2,  157.73,2,   36.91,2,       0,2,     2.6,2,   0.016,2,   0.009,2,   0.006,2,        0,2,  -999.0,9, -999.00,9,-999.0000,9,  -999.00,-999.000,9,-999.0000,9, -999.00,9, -999.00,9,  -999.0,9,  -999.0,-999.000,9,-999.000,     -999.0,9, -999.00,9, -999.00,9, -999.00,9,     -999.0,9,  -999.0,9, 20130501,      434,  29.9999,-173.2264,    34.8386,2,     -999.0,9,     -999.0,9,     1.4802,2,     -999.0,9,     -999.0,9,-999.0000, -999.00,-999.000
318M20130321,       P02W,      82,          1,          6,          6,2,20130501,       0354,         30,  -173.2264,       5454,  3920.2,   1.4623,  34.6828,2,  34.6872,3,    145.3,2,     146,2,  156.27,2,   36.43,2,       0,2,    2.55,2,-999.000,9,-999.000,9,-999.000,9,-999.0000,9,  2331.8,2, 2417.06,2,   7.5624,2,       25,-999.000,9,-999.0000,9, -999.00,9, -999.00,9,  -999.0,9,  -999.0,-999.000,9,-999.000,     -999.0,9, -999.00,9, -999.00,9, -999.00,9,     -999.0,9,  -999.0,9, 20130501,      426,       30,-173.2264,    34.8508,3,     -999.0,9,     -999.0,9,     1.4621,2,     -999.0,9,     -999.0,9,-999.0000, -999.00,-999.000