BOTTLE,20220817CCHSIOAMB
EXPOCODE,SECT_ID,STNNBR,CASTNO,SAMPNO,BTLNBR,BTLNBR_FLAG_W,DATE,TIME,LATITUDE,LONGITUDE,DEPTH,CTDPRS,CTDTMP,CTDSAL,CTDSAL_FLAG_W,SALNTY,SALNTY_FLAG_W,CTDOXY,CTDOXY_FLAG_W,OXYGEN,OXYGEN_FLAG_W,SILCAT,SILCAT_FLAG_W,NITRAT,NITRAT_FLAG_W,NITRIT,NITRIT_FLAG_W,PHSPHT,PHSPHT_FLAG_W,CFC-11,CFC-11_FLAG_W,CFC-12,CFC-12_FLAG_W,CFC113,CFC113_FLAG_W,SF6,SF6_FLAG_W,TCARBN,TCARBN_FLAG_W,ALKALI,ALKALI_FLAG_W,PH_TOT,PH_TOT_FLAG_W,PH_TMP,TRITUM,TRITUM_FLAG_W,HELIUM,HELIUM_FLAG_W,DELHE3,DELHE3_FLAG_W,DELC13,DELC13_FLAG_W,DELC14,DELC14_FLAG_W,C14ERR,NEON,NEON_FLAG_W,NEONER,I-129,I-129_FLAG_W,SR-90,SR-90_FLAG_W,DOC,DOC_FLAG_W,TDN,TDN_FLAG_W,CALCIUM,CALCIUM_FLAG_W,D15N_NO3,D15N_NO3_FLAG_W,BTL_DATE,BTL_TIME,BTL_LAT,BTL_LON,SALTREF,SALTREF_FLAG_W,CS-137,CS-137_FLAG_W,CS-134,CS-134_FLAG_W,REFTMP,REFTMP_FLAG_W,LAB_DEN,LAB_DEN_FLAG_W,D18O_NO3,D18O_NO3_FLAG_W,HELIER,DELHER,TRITER
,,,,,,,,,,,METERS,DBAR,ITS-90,PSS-78,,PSS-78,,UMOL/KG,,UMOL/KG,,UMOL/KG,,UMOL/KG,,UMOL/KG,,UMOL/KG,,PMOL/KG,,PMOL/KG,,PMOL/KG,,FMOL/KG,,UMOL/KG,,UMOL/KG,,,,DEG C,TU,,NMOL/KG,,PERCNT,,/MILLE,,/MILLE,,/MILLE,NMOL/KG,,NMOL/KG,BQ/M^3,,DM/.1MG,,UMOL/KG,,UMOL/KG,,MMOL/KG,,/MILLE,,,,,,G/KG,,BQ/M^3,,BQ/M^3,,ITS-90,,,,/MILLE,,NMOL/KG,PERCNT,TU
318M20130321,       P02E,     113,          1,         36,         36,2,20130520,       0949,    30.0008,   -144.886,       4937,       3,  20.8688,  35.0604,2,  35.0602,2,    226.6,2,   228.3,2,    2.24,2,       0,2,    0.01,2,    0.01,2,   1.979,2,   1.208,2,-999.000,1,    1.313,2,  2040.5,6, 2309.02,2,   7.9877,6,       25,-999.000,9,-999.0000,9, -999.00,9, -999.00,9,  -999.0,9,  -999.0,-999.000,9,-999.000,     -999.0,9, -999.00,9,   68.56,2,    4.21,2,     -999.0,9,  -999.0,9, 20130520,     1214,  30.0004,-144.8868,    35.2256,2,     -999.0,9,     -999.0,9,    20.8719,2,     -999.0,9,     -999.0,9,-999.0000, -999.00,-999.000
318M20130321,       P02E,     113,          1,         34,         34,2,20130520,       0949,    30.0008,   -144.886,       4937,      20,   20.843,    35.06,2,  35.0587,2,    229.3,2,   228.7,2,    2.24,2,       0,2,       0,2,    0.02,2,   1.983,2,   1.208,2,-999.000,1,   1.3796,2,  2040.8,2, 2308.12,2,   7.9874,2,       25,-999.000,9,-999.0000,9, -999.00,9, -999.00,9,  -999.0,9,  -999.0,-999.000,9,-999.000,     -999.0,9, -999.00,9,   68.92,2,    4.73,2,     -999.0,9,  -999.0,9, 20130520,     1213,  30.0002,-144.8866,     35.224,2,     -999.0,9,     -999.0,9,    20.8422,2,     -999.0,9,     -999.0,9,-999.0000, -999.00,-999.000
318M20130321,       P02E,     113,          1,         33,         33,2,20130520,       0949,    30.0008,   -144.886,       4937,      40,  20.0933,  35.0246,2,   35.028,2,    234.9,2,   234.1,2,    2.15,2,       0,2,       0,2,    0.02,2,-999.000,9,-999.000,9,-999.000,9,-999.0000,9,  -999.0,9, -999.00,9,-999.0000,9,  -999.00,-999.000,9,-999.0000,9, -999.00,9, -999.00,9,  -999.0,9,  -999.0,-999.000,9,-999.000,     -999.0,9, -999.00,9,    66.8,2,    4.45,2,     -999.0,9,  -999.0,9, 20130520,     1211,  30.0001,-144.8864,    35.1931,2,     -999.0,9,     -999.0,9,    20.0944,2,     -999.0,9,     -999.0,9,-999.0000, -999.00,-999.000
318M20130321,       P02E,     113,          1,         32,         32,2,20130520,       0949,    30.0008,   -144.886,       4937,    65.7,  19.2694,  34.9631,2,  34.9618,2,      238,2,   236.3,2,    2.24,2,       0,2,       0,2,    0.03,2,   2.103,2,   1.282,2,-999.000,1,   1.4411,2,  2037.9,2, 2302.52,6,   7.9869,2,       25,-999.000,9,-999.0000,9, -999.00,9, -999.00,9,  -999.0,9,  -999.0,-999.000,9,-999.000,     -999.0,9, -999.00,9, -999.00,5,    4.56,2,     -999.0,9,  -999.0,9, 20130520,     1209,       30,-144.8862,    35.1267,2,     -999.0,9,     -999.0,9,    19.2701,2,     -999.0,9,     -999.0,9,-999.0000, -999.00,-999.000
318M20130321,       P02E,     113,          1,         31,         31,2,20130520,       0949,    30.0008,   -144.886,       4937,    89.9,  18.9207,  34.9556,2,  34.9558,2,    235.9,2,   234.7,2,    2.34,2,       0,2,       0,2,    0.03,2,-999.000,9,-999.000,9,-999.000,9,-999.0000,9,  2037.9,2, 2302.42,2,   7.9833,6,       25,-999.000,9,-999.0000,9, -999.00,9, -999.00,9,  -999.0,9,  -999.0,-999.000,9,-999.000,     -999.0,9, -999.00,9,   64.84,2,    3.91,2,     -999.0,9,  -999.0,9, 20130520,     1207,       30,-144.8861,    35.1206,2,     -999.0,9,     -999.0,9,    18.9158,2,     -999.0,9,     -999.0,9,-999.0000, -999.00,-999.000
318M20130321,       P02E,     113,          1,         30,         30,2,20130520,       0949,    30.0008,   -144.886,       4937,   135.5,  18.5945,  34.9646,2,  34.9642,2,    231.6,2,   227.4,2,    2.34,2,       0,2,    0.12,2,    0.03,2,   2.116,2,   1.289,2,-999.000,1,   1.4454,2,  2045.9,2, 2302.92,2,   7.9677,2,       25,-999.000,9,-999.0000,9, -999.00,9, -999.00,9,  -999.0,9,  -999.0,-999.000,9,-999.000,     -999.0,9, -999.00,9,   65.07,2,    4.75,2,     -999.0,9,  -999.0,9, 20130520,     1205,  29.9999, -144.886,    35.1291,2,     -999.0,9,     -999.0,9,    18.5942,2,     -999.0,9,     -999.0,9,-999.0000, -999.00,-999.000
318M20130321,       P02E,     113,          1,         29,         29,2,20130520,       0949,    30.0008,   -144.886,       4937,   185.3,  15.7782,  34.4612,2,  34.4601,2,    224.6,2,   220.3,2,     4.1,2,    2.46,2,    0.03,2,    0.24,2,-999.000,9,-999.000,9,-999.000,9,-999.0000,9,  -999.0,9, -999.00,9,-999.0000,9,  -999.00,-999.000,9,-999.0000,9, -999.00,9, -999.00,9,  -999.0,9,  -999.0,-999.000,9,-999.000,     -999.0,9, -999.00,9,   53.79,2,    6.32,2,     -999.0,9,  -999.0,9, 20130520,     1202,  29.9998, -144.886,    34.6226,2,     -999.0,9,     -999.0,9,    15.7673,2,     -999.0,9,     -999.0,9,-999.0000, -999.00,-999.000
318M20130321,       P02E,     113,          1,         28,         28,2,20130520,       0949,    30.0008,   -144.886,       4937,   235.8,  13.2845,  34.1841,2,  34.1823,2,    219.1,2,   218.1,2,    7.23,2,    6.65,2,    0.01,2,    0.51,2,   2.804,2,   1.630,2,-999.000,1,   1.4865,2,  2064.4,2,  2251.2,2,   7.8422,2,       25,-999.000,9,-999.0000,9, -999.00,9, -999.00,9,  -999.0,9,  -999.0,-999.000,9,-999.000,     -999.0,9, -999.00,9,   49.82,2,   10.58,2,     -999.0,9,  -999.0,9, 20130520,     1159,  29.9998, -144.886,    34.3435,2,     -999.0,9,     -999.0,9,    13.2882,2,     -999.0,9,     -999.0,9,-999.0000, -999.00,-999.000
318M20130321,       P02E,     113,          1,         27,         27,2,20130520,       0949,    30.0008,   -144.886,       4937,   286.5,  11.8561,  34.1973,2,   34.196,2,    217.3,2,   218.4,2,   11.03,2,   10.69,2,    0.01,2,    0.75,2,-999.000,9,-999.000,9,-999.000,9,-999.0000,9,  -999.0,9, -999.00,9,-999.0000,9,  -999.00,-999.000,9,-999.0000,9, -999.00,9, -999.00,9,  -999.0,9,  -999.0,-999.000,9,-999.000,     -999.0,9, -999.00,9,   49.14,2,   14.72,2,     -999.0,9,  -999.0,9, 20130520,     1156,  29.9998, -144.886,    34.3573,2,     -999.0,9,     -999.0,9,    11.8651,2,     -999.0,9,     -999.0,9,-999.0000, -999.00,-999.000
318M20130321,       P02E,     113,          1,         26,         26,2,20130520,       0949,    30.0008,   -144.886,       4937,   337.2,  11.0461,  34.1711,2,  34.1698,2,    219.4,2,   221.1,2,   13.57,2,   12.34,2,    0.01,2,    0.87,2,   3.070,2,   1.745,2,-999.000,1,   1.4911,2,  2093.4,2,  2256.7,2,   7.7862,2,       25,-999.000,9,-999.0000,9, -999.00,9, -999.00,9,  -999.0,9,  -999.0,-999.000,9,-999.000,     -999.0,9, -999.00,9,   46.97,2, -999.00,5,     -999.0,9,  -999.0,9, 20130520,     1154,  29.9998,-144.8859,    34.3309,2,     -999.0,9,     -999.0,9,    11.0339,2,     -999.0,9,     -999.0,9,-999.0000, -999.00,-999.000
318M20130321,       P02E,     113,          1,         25,         25,2,20130520,       0949,    30.0008,   -144.886,       4937,   386.1,  10.0208,  34.1215,2,  34.1208,2,    209.7,2,     212,2,   18.26,2,   15.34,2,    0.01,2,    1.05,2,-999.000,9,-999.000,9,-999.000,9,-999.0000,9,  -999.0,9, -999.00,9,-999.0000,9,  -999.00,-999.000,9,-999.0000,9, -999.00,9, -999.00,9,  -999.0,9,  -999.0,-999.000,9,-999.000,     -999.0,9, -999.00,9,   45.58,2, -999.00,9,     -999.0,9,  -999.0,9, 20130520,     1151,  29.9999,-144.8859,    34.2817,2,     -999.0,9,     -999.0,9,    10.0175,2,     -999.0,9,     -999.0,9,-999.0000, -999.00,-999.000
318M20130321,       P02E,     113,          1,         24,         24,2,20130520,       0949,    30.0008,   -144.886,       4937,   467.1,   8.5177,  34.0489,2,  34.0473,2,    186.2,2,   185.5,2,    29.3,2,   20.95,2,       0,2,    1.47,2,   3.103,2,   1.682,2,-999.000,1,   1.0311,2,  2150.7,2,  2265.6,2,   7.6636,2,       25,-999.000,9,-999.0000,9, -999.00,9, -999.00,9,  -999.0,9,  -999.0,-999.000,9,-999.000,     -999.0,9, -999.00,9, -999.00,5, -999.00,9,     -999.0,9,  -999.0,9, 20130520,     1148,       30,-144.8857,    34.2078,2,     -999.0,9,     -999.0,9,     8.5185,2,     -999.0,9,     -999.0,9,-999.0000, -999.00,-999.000
318M20130321,       P02E,     113,          1,         23,         23,2,20130520,       0949,    30.0008,   -144.886,       4937,     567,   6.4811,  33.9888,2,  33.9887,2,    121.2,2,   121.4,2,   53.22,2,   30.83,2,       0,2,    2.18,2,-999.000,9,-999.000,9,-999.000,9,-999.0000,9,  2222.4,2, 2278.41,2,   7.4934,2,       25,-999.000,9,-999.0000,9, -999.00,9, -999.00,9,  -999.0,9,  -999.0,-999.000,9,-999.000,     -999.0,9, -999.00,9,   43.14,2, -999.00,9,     -999.0,9,  -999.0,9, 20130520,     1144,  29.9999,-144.8859,     34.149,2,     -999.0,9,     -999.0,9,     6.4822,2,     -999.0,9,     -999.0,9,-999.0000, -999.00,-999.000
318M20130321,       P02E,     113,          1,         22,         22,2,20130520,       0949,    30.0008,   -144.886,       4937,   669.3,   5.0564,  34.0338,2,  34.0308,2,     70.2,2,    70.5,2,   78.61,2,   37.89,2,       0,2,    2.71,2,   1.384,2,   0.676,2,-999.000,1,   0.2542,2,  2282.7,2, 2300.32,2,   7.3705,2,       25,-999.000,9,-999.0000,9, -999.00,9, -999.00,9,  -999.0,9,  -999.0,-999.000,9,-999.000,     -999.0,9, -999.00,9,   42.29,2, -999.00,9,     -999.0,9,  -999.0,9, 20130520,     1140,  30.0001,-144.8861,    34.1913,2,     -999.0,9,     -999.0,9,     5.0573,2,     -999.0,9,     -999.0,9,-999.0000, -999.00,-999.000
318M20130321,       P02E,     113,          1,         21,         21,2,20130520,       0949,    30.0008,   -144.886,       4937,   769.8,   4.5723,  34.1592,2,  34.1592,2,     30.3,2,    28.4,2,   96.38,2,   41.91,2,       0,2,    3.04,2,-999.000,9,-999.000,9,-999.000,9,-999.0000,9,  2326.3,2, 2322.02,2,   7.2999,2,       25,-999.000,9,-999.0000,9, -999.00,9, -999.00,9,  -999.0,9,  -999.0,-999.000,9,-999.000,     -999.0,9, -999.00,9,   43.74,2, -999.00,9,     -999.0,9,  -999.0,9, 20130520,     1136,  30.0002,-144.8862,    34.3203,2,     -999.0,9,     -999.0,9,     4.5744,2,     -999.0,9,     -999.0,9,-999.0000, -999.00,-999.000
318M20130321,       P02E,     113,          1,         20,         20,2,20130520,       0949,    30.0008,   -144.886,       4937,   872.6,   4.1375,  34.2826,2,    34.28,2,     13.2,2,    13.3,2,   111.4,2,   43.49,2,       0,2,    3.13,2,   0.067,2,   0.040,2,-999.000,1,   0.1136,2,  2351.4,2, 2344.93,2,   7.2862,2,       25,-999.000,9,-999.0000,9, -999.00,9, -999.00,9,  -999.0,9,  -999.0,-999.000,9,-999.000,     -999.0,9, -999.00,9,   42.91,2, -999.00,9,     -999.0,9,  -999.0,9, 20130520,     1132,  30.0003,-144.8861,    34.4416,2,     -999.0,9,     -999.0,9,     4.1397,2,     -999.0,9,     -999.0,9,-999.0000, -999.00,-999.000
318M20130321,       P02E,     113,          1,         19,         19,2,20130520,       0949,    30.0008,   -144.886,       4937,   971.7,   3.8633,  34.3618,2,  34.3601,2,     12.4,2,    13.3,2,  119.79,2,   43.84,2,       0,2,    3.12,2,-999.000,9,-999.000,9,-999.000,9,-999.0000,9,  2363.1,2, 2357.64,2,   7.2969,2,       25,-999.000,9,-999.0000,9, -999.00,9, -999.00,9,  -999.0,9,  -999.0,-999.000,9,-999.000,     -999.0,9, -999.00,9,   37.39,2, -999.00,9,     -999.0,9,  -999.0,9, 20130520,     1128,  30.0003,-144.8861,    34.5221,2,     -999.0,9,     -999.0,9,     3.8625,2,     -999.0,9,     -999.0,9,-999.0000, -999.00,-999.000
318M20130321,       P02E,     113,          1,         18,         18,2,20130520,       0949,    30.0008,   -144.886,       4937,  1074.5,   3.6082,  34.4223,2,  34.4217,2,     17.4,2,    19.6,2,  126.72,2,   43.82,2,       0,2,    3.11,2,   0.010,2,   0.007,2,-999.000,1,        0,2,  -999.0,9, -999.00,9,-999.0000,9,  -999.00,-999.000,9,-999.0000,9, -999.00,9, -999.00,9,  -999.0,9,  -999.0,-999.000,9,-999.000,     -999.0,9, -999.00,9,   36.74,2, -999.00,9,     -999.0,9,  -999.0,9, 20130520,     1124,  30.0001, -144.886,     34.584,2,     -999.0,9,     -999.0,9,     3.6077,2,     -999.0,9,     -999.0,9,-999.0000, -999.00,-999.000
318M20130321,       P02E,     113,          1,         17,         17,2,20130520,       0949,    30.0008,   -144.886,       4937,  1174.3,   3.4154,  34.4668,2,  34.4653,2,     26.5,2,    27.7,2,  130.72,2,    43.5,2,       0,2,     3.1,2,-999.000,9,-999.000,9,-999.000,9,-999.0000,9,  2368.8,2, 2377.04,2,   7.3361,2,       25,-999.000,9,-999.0000,9, -999.00,9, -999.00,9,  -999.0,9,  -999.0,-999.000,9,-999.000,     -999.0,9, -999.00,9,   36.86,2, -999.00,9,     -999.0,9,  -999.0,9, 20130520,     1120,  30.0001,-144.8861,    34.6278,2,     -999.0,9,     -999.0,9,     3.4164,2,     -999.0,9,     -999.0,9,-999.0000, -999.00,-999.000
318M20130321,       P02E,     113,          1,         16,         16,2,20130520,       0949,    30.0008,   -144.886,       4937,  1274.8,   3.2086,  34.4987,2,  34.4984,2,     35.4,2,    36.4,2,  134.91,2,   43.13,2,       0,2,    3.08,2,   0.008,2,   0.004,2,-999.000,1,        0,2,  2368.7,2, 2384.65,2,    7.355,2,       25,-999.000,9,-999.0000,9, -999.00,9, -999.00,9,  -999.0,9,  -999.0,-999.000,9,-999.000,     -999.0,9, -999.00,9,   36.22,2, -999.00,9,     -999.0,9,  -999.0,9, 20130520,     1117,       30, -144.886,    34.6611,2,     -999.0,9,     -999.0,9,      3.208,2,     -999.0,9,     -999.0,9,-999.0000, -999.00,-999.000
318M20130321,       P02E,     113,          1,         15,         15,2,20130520,       0949,    30.0008,   -144.886,       4937,    1376,   3.0196,  34.5239,2,  34.5224,2,     42.7,2,    43.7,2,  138.81,2,   42.76,2,       0,2,    3.02,2,-999.000,9,-999.000,9,-999.000,9,-999.0000,9,  -999.0,9, -999.00,9,-999.0000,9,  -999.00,-999.000,9,-999.0000,9, -999.00,9, -999.00,9,  -999.0,9,  -999.0,-999.000,9,-999.000,     -999.0,9, -999.00,9,   36.53,2, -999.00,9,     -999.0,9,  -999.0,9, 20130520,     1114,       30,-144.8858,    34.6852,2,     -999.0,9,     -999.0,9,     3.0202,2,     -999.0,9,     -999.0,9,-999.0000, -999.00,-999.000
318M20130321,       P02E,     113,          1,         14,         14,2,20130520,       0949,    30.0008,   -144.886,       4937,  1548.9,   2.7449,  34.5546,2,  34.5542,2,     53.7,2,    54.3,2,  144.96,2,    42.2,2,       0,2,    2.99,2,   0.007,2,   0.005,2,-999.000,1,        0,2,  -999.0,9, -999.00,9,-999.0000,9,  -999.00,-999.000,9,-999.0000,9, -999.00,9, -999.00,9,  -999.0,9,  -999.0,-999.000,9,-999.000,     -999.0,9, -999.00,9,   38.36,2, -999.00,9,     -999.0,9,  -999.0,9, 20130520,     1109,  29.9999,-144.8856,    34.7172,2,     -999.0,9,     -999.0,9,     2.7446,2,     -999.0,9,     -999.0,9,-999.0000, -999.00,-999.000
318M20130321,       P02E,     113,          1,         13,         13,2,20130520,       0949,    30.0008,   -144.886,       4937,  1750.5,   2.4325,  34.5816,2,  34.5815,2,     63.9,2,      64,2,  153.55,2,    41.7,2,       0,2,    2.96,2,-999.000,9,-999.000,9,-999.000,9,-999.0000,9,  2372.2,2, 2405.45,2,   7.4119,2,       25,-999.000,9,-999.0000,9, -999.00,9, -999.00,9,  -999.0,9,  -999.0,-999.000,9,-999.000,     -999.0,9, -999.00,9,   37.57,2, -999.00,9,     -999.0,9,  -999.0,9, 20130520,     1104,  29.9998,-144.8858,    34.7446,2,     -999.0,9,     -999.0,9,     2.4323,2,     -999.0,9,     -999.0,9,-999.0000, -999.00,-999.000
318M20130321,       P02E,     113,          1,         12,         12,2,20130520,       0949,    30.0008,   -144.886,       4937,  1954.5,   2.1765,  34.6034,2,   34.602,2,     73.2,2,    73.3,2,  160.18,2,   41.12,2,       0,2,     2.9,2,   0.003,2,   0.003,2,-999.000,1,   0.0781,3,    2373,6, 2412.86,2,   7.4304,2,       25,-999.000,9,-999.0000,9, -999.00,9, -999.00,9,  -999.0,9,  -999.0,-999.000,9,-999.000,     -999.0,9, -999.00,9, -999.00,9, -999.00,9,     -999.0,9,  -999.0,9, 20130520,     1059,  29.9998,-144.8863,    34.7651,2,     -999.0,9,     -999.0,9,     2.1761,2,     -999.0,9,     -999.0,9,-999.0000, -999.00,-999.000
318M20130321,       P02E,     113,          1,         11,         11,2,20130520,       0949,    30.0008,   -144.886,       4937,  2189.4,   1.9702,  34.6223,2,  34.6212,2,     83.5,2,    82.9,2,  165.84,2,   40.54,2,       0,2,    2.83,2,-999.000,9,-999.000,9,-999.000,9,-999.0000,9,  2371.5,2, 2418.46,2,   7.4488,2,       25,-999.000,9,-999.0000,9, -999.00,9, -999.00,9,  -999.0,9,  -999.0,-999.000,9,-999.000,     -999.0,9, -999.00,9,   36.67,2, -999.00,9,     -999.0,9,  -999.0,9, 20130520,     1053,  29.9999,-144.8867,    34.7845,2,     -999.0,9,     -999.0,9,     1.9704,2,     -999.0,9,     -999.0,9,-999.0000, -999.00,-999.000
318M20130321,       P02E,     113,          1,         10,         10,2,20130520,       0949,    30.0008,   -144.886,       4937,  2442.2,   1.7966,  34.6394,2,  34.6379,2,     95.3,2,    93.9,2,  169.06,2,   39.83,2,       0,2,    2.76,2,   0.004,2,   0.002,2,-999.000,1,        0,2,  -999.0,9, -999.00,9,-999.0000,9,  -999.00,-999.000,9,-999.0000,9, -999.00,9, -999.00,9,  -999.0,9,  -999.0,-999.000,9,-999.000,     -999.0,9, -999.00,9, -999.00,9, -999.00,9,     -999.0,9,  -999.0,9, 20130520,     1047,  29.9999, -144.887,    34.8013,2,     -999.0,9,     -999.0,9,     1.7967,2,     -999.0,9,     -999.0,9,-999.0000, -999.00,-999.000
318M20130321,       P02E,     113,          1,          9,          9,2,20130520,       0949,    30.0008,   -144.886,       4937,  2694.9,   1.6818,  34.6515,2,  34.6495,2,    104.7,2,   104.2,2,  169.06,2,    39.2,2,       0,2,    2.71,2,-999.000,9,-999.000,9,-999.000,9,-999.0000,9,  2362.3,2, 2424.66,2,   7.4889,2,       25,-999.000,9,-999.0000,9, -999.00,9, -999.00,9,  -999.0,9,  -999.0,-999.000,9,-999.000,     -999.0,9, -999.00,9,   36.89,2, -999.00,9,     -999.0,9,  -999.0,9, 20130520,     1041,  30.0002,-144.8869,    34.8129,2,     -999.0,9,     -999.0,9,     1.6823,2,     -999.0,9,     -999.0,9,-999.0000, -999.00,-999.000
318M20130321,       P02E,     113,          1,          8,          8,2,20130520,       0949,    30.0008,   -144.886,       4937,  2951.4,   1.5854,  34.6622,2,  34.6598,2,    114.7,2,   114.4,2,  169.74,2,   38.56,2,       0,2,    2.67,2,-999.000,9,-999.000,9,-999.000,9,-999.0000,9,  -999.0,9, -999.00,9,-999.0000,9,  -999.00,-999.000,9,-999.0000,9, -999.00,9, -999.00,9,  -999.0,9,  -999.0,-999.000,9,-999.000,     -999.0,9, -999.00,9, -999.00,9, -999.00,9,     -999.0,9,  -999.0,9, 20130520,     1035,  30.0001,-144.8861,    34.8232,2,     -999.0,9,     -999.0,9,     1.5858,2,     -999.0,9,     -999.0,9,-999.0000, -999.00,-999.000
318M20130321,       P02E,     113,          1,          7,          7,2,20130520,       0949,    30.0008,   -144.886,       4937,  3240.3,   1.5195,  34.6707,2,  34.6686,2,    124.9,2,   125.1,2,  169.25,2,   37.93,2,       0,2,    2.61,2,   0.004,2,   0.003,2,-999.000,1,        0,2,  2350.4,2, 2426.16,2,   7.5291,6,       25,-999.000,9,-999.0000,9, -999.00,9, -999.00,9,  -999.0,9,  -999.0,-999.000,9,-999.000,     -999.0,9, -999.00,9,   37.06,2, -999.00,9,     -999.0,9,  -999.0,9, 20130520,     1028,  30.0005,-144.8856,    34.8321,2,     -999.0,9,     -999.0,9,     1.5194,2,     -999.0,9,     -999.0,9,-999.0000, -999.00,-999.000