BOTTLE,20220817CCHSIOAMB
EXPOCODE,SECT_ID,STNNBR,CASTNO,SAMPNO,BTLNBR,BTLNBR_FLAG_W,DATE,TIME,LATITUDE,LONGITUDE,DEPTH,CTDPRS,CTDTMP,CTDSAL,CTDSAL_FLAG_W,SALNTY,SALNTY_FLAG_W,CTDOXY,CTDOXY_FLAG_W,OXYGEN,OXYGEN_FLAG_W,SILCAT,SILCAT_FLAG_W,NITRAT,NITRAT_FLAG_W,NITRIT,NITRIT_FLAG_W,PHSPHT,PHSPHT_FLAG_W,CFC-11,CFC-11_FLAG_W,CFC-12,CFC-12_FLAG_W,CFC113,CFC113_FLAG_W,SF6,SF6_FLAG_W,TCARBN,TCARBN_FLAG_W,ALKALI,ALKALI_FLAG_W,PH_TOT,PH_TOT_FLAG_W,PH_TMP,TRITUM,TRITUM_FLAG_W,HELIUM,HELIUM_FLAG_W,DELHE3,DELHE3_FLAG_W,DELC13,DELC13_FLAG_W,DELC14,DELC14_FLAG_W,C14ERR,NEON,NEON_FLAG_W,NEONER,I-129,I-129_FLAG_W,SR-90,SR-90_FLAG_W,DOC,DOC_FLAG_W,TDN,TDN_FLAG_W,CALCIUM,CALCIUM_FLAG_W,D15N_NO3,D15N_NO3_FLAG_W,BTL_DATE,BTL_TIME,BTL_LAT,BTL_LON,SALTREF,SALTREF_FLAG_W,CS-137,CS-137_FLAG_W,CS-134,CS-134_FLAG_W,REFTMP,REFTMP_FLAG_W,LAB_DEN,LAB_DEN_FLAG_W,D18O_NO3,D18O_NO3_FLAG_W,HELIER,DELHER,TRITER
,,,,,,,,,,,METERS,DBAR,ITS-90,PSS-78,,PSS-78,,UMOL/KG,,UMOL/KG,,UMOL/KG,,UMOL/KG,,UMOL/KG,,UMOL/KG,,PMOL/KG,,PMOL/KG,,PMOL/KG,,FMOL/KG,,UMOL/KG,,UMOL/KG,,,,DEG C,TU,,NMOL/KG,,PERCNT,,/MILLE,,/MILLE,,/MILLE,NMOL/KG,,NMOL/KG,BQ/M^3,,DM/.1MG,,UMOL/KG,,UMOL/KG,,MMOL/KG,,/MILLE,,,,,,G/KG,,BQ/M^3,,BQ/M^3,,ITS-90,,,,/MILLE,,NMOL/KG,PERCNT,TU
318M20130321,       P02W,      87,          1,          6,          6,2,20130503,       0142,    29.9981,  -167.4533,       5501,  3753.6,   1.4763,  34.6796,2,  34.6792,2,    141.5,2,   142.1,2,  157.34,2,   36.65,2,       0,2,    2.59,2,   0.005,2,   0.006,2,   0.002,2,        0,2,  -999.0,9, -999.00,9,-999.0000,9,  -999.00,-999.000,9,-999.0000,9, -999.00,9, -999.00,9,  -999.0,9,  -999.0,-999.000,9,-999.000,     -999.0,9, -999.00,9,   36.05,2, -999.00,9,     -999.0,9,  -999.0,9, 20130503,      218,  29.9971,-167.4538,    34.8427,2,     -999.0,9,     -999.0,9,     1.4762,2,     -999.0,9,     -999.0,9,-999.0000, -999.00,-999.000
318M20130321,       P02W,      87,          1,          5,         37,2,20130503,       0142,    29.9981,  -167.4533,       5501,  4093.7,   1.4701,  34.6841,2,  34.6841,2,    147.3,2,   147.6,2,  155.58,2,   36.26,2,       0,2,    2.57,2,-999.000,9,-999.000,9,-999.000,9,-999.0000,9,  2327.5,2, 2417.16,2,   7.5664,6,       25,-999.000,9,-999.0000,9, -999.00,9, -999.00,9,  -999.0,9,  -999.0,-999.000,9,-999.000,     -999.0,9, -999.00,9,   35.51,2, -999.00,9,     -999.0,9,  -999.0,9, 20130503,      211,  29.9976,-167.4542,    34.8477,2,     -999.0,9,     -999.0,9,       1.47,2,     -999.0,9,     -999.0,9,-999.0000, -999.00,-999.000
318M20130321,       P02W,      87,          1,          4,          4,2,20130503,       0142,    29.9981,  -167.4533,       5501,  4508.8,   1.4905,  34.6872,2,  34.6867,2,    151.1,2,   151.1,2,  155.39,2,   36.06,2,       0,2,    2.55,2,   0.004,2,   0.007,2,   0.000,2,     0.05,2,  -999.0,9, -999.00,9,-999.0000,9,  -999.00,-999.000,9,-999.0000,9, -999.00,9, -999.00,9,  -999.0,9,  -999.0,-999.000,9,-999.000,     -999.0,9, -999.00,9,   36.83,2, -999.00,9,     -999.0,9,  -999.0,9, 20130503,      203,   29.998,-167.4534,    34.8503,2,     -999.0,9,     -999.0,9,     1.4906,2,     -999.0,9,     -999.0,9,-999.0000, -999.00,-999.000
318M20130321,       P02W,      87,          1,          3,          3,2,20130503,       0142,    29.9981,  -167.4533,       5501,  4922.5,    1.525,  34.6889,2,  34.6887,2,      154,2,   153.9,2,  152.66,2,   35.88,2,       0,2,    2.53,2,   0.007,2,   0.008,2,   0.001,2,        0,2,  2323.6,2, 2416.66,6,   7.5767,2,       25,-999.000,9,-999.0000,9, -999.00,9, -999.00,9,  -999.0,9,  -999.0,-999.000,9,-999.000,     -999.0,9, -999.00,9,   35.22,2, -999.00,9,     -999.0,9,  -999.0,9, 20130503,      155,  29.9979,-167.4532,    34.8522,2,     -999.0,9,     -999.0,9,      1.525,2,     -999.0,9,     -999.0,9,-999.0000, -999.00,-999.000
318M20130321,       P02W,      87,          1,          2,          2,2,20130503,       0142,    29.9981,  -167.4533,       5501,  5389.5,   1.5543,  34.6913,2,    34.69,2,      161,2,   160.8,2,  146.02,2,   35.44,2,       0,2,     2.5,2,   0.009,2,   0.007,2,   0.000,2,        0,2,  2316.9,6, 2412.06,2,   7.5823,2,       25,-999.000,9,-999.0000,9, -999.00,9, -999.00,9,  -999.0,9,  -999.0,-999.000,9,-999.000,     -999.0,9, -999.00,9,   34.59,2, -999.00,9,     -999.0,9,  -999.0,9, 20130503,      147,  29.9979,-167.4528,    34.8536,2,     -999.0,9,     -999.0,9,     1.5546,2,     -999.0,9,     -999.0,9,-999.0000, -999.00,-999.000
318M20130321,       P02W,      87,          1,          1,          1,2,20130503,       0142,    29.9981,  -167.4533,       5501,  5596.5,    1.565,  34.6924,2,  34.6916,2,    164.1,2,   163.7,2,  143.48,2,   35.18,2,       0,2,    2.48,2,   0.040,2,   0.026,2,   0.000,2,     0.04,2,    2315,2, 2410.76,2,   7.5857,2,       25,-999.000,9,-999.0000,9, -999.00,9, -999.00,9,  -999.0,9,  -999.0,-999.000,9,-999.000,     -999.0,9, -999.00,9,   35.52,2, -999.00,9,     -999.0,9,  -999.0,9, 20130503,      142,  29.9981,-167.4533,    34.8552,2,     -999.0,9,     -999.0,9,     1.5651,2,     -999.0,9,     -999.0,9,-999.0000, -999.00,-999.000