BOTTLE,20220817CCHSIOAMB
EXPOCODE,SECT_ID,STNNBR,CASTNO,SAMPNO,BTLNBR,BTLNBR_FLAG_W,DATE,TIME,LATITUDE,LONGITUDE,DEPTH,CTDPRS,CTDTMP,CTDSAL,CTDSAL_FLAG_W,SALNTY,SALNTY_FLAG_W,CTDOXY,CTDOXY_FLAG_W,OXYGEN,OXYGEN_FLAG_W,SILCAT,SILCAT_FLAG_W,NITRAT,NITRAT_FLAG_W,NITRIT,NITRIT_FLAG_W,PHSPHT,PHSPHT_FLAG_W,CFC-11,CFC-11_FLAG_W,CFC-12,CFC-12_FLAG_W,CFC113,CFC113_FLAG_W,SF6,SF6_FLAG_W,TCARBN,TCARBN_FLAG_W,ALKALI,ALKALI_FLAG_W,PH_TOT,PH_TOT_FLAG_W,PH_TMP,TRITUM,TRITUM_FLAG_W,HELIUM,HELIUM_FLAG_W,DELHE3,DELHE3_FLAG_W,DELC13,DELC13_FLAG_W,DELC14,DELC14_FLAG_W,C14ERR,NEON,NEON_FLAG_W,NEONER,I-129,I-129_FLAG_W,SR-90,SR-90_FLAG_W,DOC,DOC_FLAG_W,TDN,TDN_FLAG_W,CALCIUM,CALCIUM_FLAG_W,D15N_NO3,D15N_NO3_FLAG_W,BTL_DATE,BTL_TIME,BTL_LAT,BTL_LON,SALTREF,SALTREF_FLAG_W,CS-137,CS-137_FLAG_W,CS-134,CS-134_FLAG_W,REFTMP,REFTMP_FLAG_W,LAB_DEN,LAB_DEN_FLAG_W,D18O_NO3,D18O_NO3_FLAG_W,HELIER,DELHER,TRITER
,,,,,,,,,,,METERS,DBAR,ITS-90,PSS-78,,PSS-78,,UMOL/KG,,UMOL/KG,,UMOL/KG,,UMOL/KG,,UMOL/KG,,UMOL/KG,,PMOL/KG,,PMOL/KG,,PMOL/KG,,FMOL/KG,,UMOL/KG,,UMOL/KG,,,,DEG C,TU,,NMOL/KG,,PERCNT,,/MILLE,,/MILLE,,/MILLE,NMOL/KG,,NMOL/KG,BQ/M^3,,DM/.1MG,,UMOL/KG,,UMOL/KG,,MMOL/KG,,/MILLE,,,,,,G/KG,,BQ/M^3,,BQ/M^3,,ITS-90,,,,/MILLE,,NMOL/KG,PERCNT,TU
318M20130321,       P02E,     144,          1,          5,         37,2,20130529,       1526,    30.7738,  -122.2724,       4137,  3448.4,   1.5567,  34.6736,2,   34.673,2,    126.1,2,   125.5,2,  168.57,2,   37.85,2,       0,2,    2.65,2,-999.000,9,-999.000,9,-999.000,9,-999.0000,9,  -999.0,9, -999.00,9,-999.0000,9,  -999.00,-999.000,9,-999.0000,9, -999.00,9, -999.00,9,  -999.0,9,  -999.0,-999.000,9,-999.000,     -999.0,9, -999.00,9, -999.00,9, -999.00,9,     -999.0,9,  -999.0,9, 20130529,     1542,  30.7739,-122.2724,    34.8365,2,     -999.0,9,     -999.0,9,      1.557,2,     -999.0,9,     -999.0,9,-999.0000, -999.00,-999.000
318M20130321,       P02E,     144,          1,          4,          4,2,20130529,       1526,    30.7738,  -122.2724,       4137,  3754.5,   1.5326,  34.6784,2,  34.6779,2,    130.6,2,   131.5,2,  167.98,2,   37.54,2,       0,2,    2.63,2,   0.016,2,   0.019,2,-999.000,1,        0,2,  2348.3,2, 2430.36,6,    7.546,2,       25,-999.000,9,-999.0000,9, -999.00,9, -999.00,9,  -999.0,9,  -999.0,-999.000,9,-999.000,     -999.0,9, -999.00,9, -999.00,9, -999.00,9,     -999.0,9,  -999.0,9, 20130529,     1536,  30.7738,-122.2724,    34.8414,2,     -999.0,9,     -999.0,9,     1.5325,2,     -999.0,9,     -999.0,9,-999.0000, -999.00,-999.000
318M20130321,       P02E,     144,          1,          3,          3,2,20130529,       1526,    30.7738,  -122.2724,       4137,  4011.5,   1.5305,  34.6809,2,    34.68,2,    135.1,2,   134.4,2,  168.27,2,   37.32,2,       0,2,     2.6,2,   0.006,2,   0.014,2,-999.000,1,        0,2,  2347.4,2, 2430.16,2,   7.5519,2,       25,-999.000,9,-999.0000,9, -999.00,9, -999.00,9,  -999.0,9,  -999.0,-999.000,9,-999.000,     -999.0,9, -999.00,9, -999.00,9, -999.00,9,     -999.0,9,  -999.0,9, 20130529,     1531,  30.7738,-122.2724,    34.8436,2,     -999.0,9,     -999.0,9,     1.5302,2,     -999.0,9,     -999.0,9,-999.0000, -999.00,-999.000
318M20130321,       P02E,     144,          1,          2,          2,2,20130529,       1526,    30.7738,  -122.2724,       4137,  4190.7,   1.5313,  34.6823,2,  34.6826,2,    137.2,2,   137.5,2,   167.3,2,   37.18,2,       0,2,    2.59,2,   0.004,2,   0.010,2,-999.000,1,        0,2,  2346.1,6, 2429.66,2,   7.5568,2,       25,-999.000,9,-999.0000,9, -999.00,9, -999.00,9,  -999.0,9,  -999.0,-999.000,9,-999.000,     -999.0,9, -999.00,9, -999.00,9, -999.00,9,     -999.0,9,  -999.0,9, 20130529,     1526,  30.7738,-122.2724,    34.8461,2,     -999.0,9,     -999.0,9,     1.5314,2,     -999.0,9,     -999.0,9,-999.0000, -999.00,-999.000