BOTTLE,20220817CCHSIOAMB
EXPOCODE,SECT_ID,STNNBR,CASTNO,SAMPNO,BTLNBR,BTLNBR_FLAG_W,DATE,TIME,LATITUDE,LONGITUDE,DEPTH,CTDPRS,CTDTMP,CTDSAL,CTDSAL_FLAG_W,SALNTY,SALNTY_FLAG_W,CTDOXY,CTDOXY_FLAG_W,OXYGEN,OXYGEN_FLAG_W,SILCAT,SILCAT_FLAG_W,NITRAT,NITRAT_FLAG_W,NITRIT,NITRIT_FLAG_W,PHSPHT,PHSPHT_FLAG_W,CFC-11,CFC-11_FLAG_W,CFC-12,CFC-12_FLAG_W,CFC113,CFC113_FLAG_W,SF6,SF6_FLAG_W,TCARBN,TCARBN_FLAG_W,ALKALI,ALKALI_FLAG_W,PH_TOT,PH_TOT_FLAG_W,PH_TMP,TRITUM,TRITUM_FLAG_W,HELIUM,HELIUM_FLAG_W,DELHE3,DELHE3_FLAG_W,DELC13,DELC13_FLAG_W,DELC14,DELC14_FLAG_W,C14ERR,NEON,NEON_FLAG_W,NEONER,I-129,I-129_FLAG_W,SR-90,SR-90_FLAG_W,DOC,DOC_FLAG_W,TDN,TDN_FLAG_W,CALCIUM,CALCIUM_FLAG_W,D15N_NO3,D15N_NO3_FLAG_W,BTL_DATE,BTL_TIME,BTL_LAT,BTL_LON,SALTREF,SALTREF_FLAG_W,CS-137,CS-137_FLAG_W,CS-134,CS-134_FLAG_W,REFTMP,REFTMP_FLAG_W,LAB_DEN,LAB_DEN_FLAG_W,D18O_NO3,D18O_NO3_FLAG_W,HELIER,DELHER,TRITER
,,,,,,,,,,,METERS,DBAR,ITS-90,PSS-78,,PSS-78,,UMOL/KG,,UMOL/KG,,UMOL/KG,,UMOL/KG,,UMOL/KG,,UMOL/KG,,PMOL/KG,,PMOL/KG,,PMOL/KG,,FMOL/KG,,UMOL/KG,,UMOL/KG,,,,DEG C,TU,,NMOL/KG,,PERCNT,,/MILLE,,/MILLE,,/MILLE,NMOL/KG,,NMOL/KG,BQ/M^3,,DM/.1MG,,UMOL/KG,,UMOL/KG,,MMOL/KG,,/MILLE,,,,,,G/KG,,BQ/M^3,,BQ/M^3,,ITS-90,,,,/MILLE,,NMOL/KG,PERCNT,TU
318M20130321,       P02E,      93,          1,         36,         36,2,20130513,       1539,    30.0001,  -161.7357,       5727,     3.3,  19.4521,  34.5196,2,  34.5203,2,    231.3,2,   231.8,2,    2.15,2,       0,2,       0,2,    0.01,2,   2.067,2,   1.247,2,-999.000,5,   1.5145,2,  1996.1,2, 2268.21,2,   7.9984,2,       25,   0.552,2,   1.7364,2,   -1.36,2,    0.69,2,    55.2,2,     2.8,   7.112,2,   0.033,     -999.0,9, -999.00,9,   61.33,2,    3.96,2,     -999.0,9,  -999.0,9, 20130513,     1802,  30.0005,-161.7357,    34.6831,2,     -999.0,9,     -999.0,9,    19.4524,2,     -999.0,9,     -999.0,9,   0.0073,    0.15,   0.011
318M20130321,       P02E,      93,          1,         34,         34,2,20130513,       1539,    30.0001,  -161.7357,       5727,    26.2,  19.4532,  34.5196,2,  34.5241,2,    232.2,2,   231.7,2,    2.15,2,       0,2,    0.01,2,    0.01,2,   1.998,2,   1.220,2,-999.000,5,   1.5413,2,    1998,2, 2266.91,6,   7.9994,2,       25,-999.000,9,-999.0000,9, -999.00,9,    0.70,2,    49.9,2,     2.8,-999.000,9,-999.000,     -999.0,9, -999.00,9,   62.26,2,     4.4,2,     -999.0,9,  -999.0,9, 20130513,     1759,  30.0003,-161.7355,    34.6869,2,     -999.0,9,     -999.0,9,    19.4533,2,     -999.0,9,     -999.0,9,-999.0000, -999.00,-999.000
318M20130321,       P02E,      93,          1,         33,         33,2,20130513,       1539,    30.0001,  -161.7357,       5727,    49.7,  19.2848,  34.9446,2,  34.9292,3,    235.6,2,   232.3,2,    2.05,2,    0.02,2,    0.01,2,    0.03,2,   2.100,2,   1.269,2,-999.000,5,   1.4985,2,  2015.7,2, 2295.42,2,   8.0046,2,       25,   0.543,2,   1.7639,2,   -0.76,2,    0.71,2,    55.6,2,     3.6,   7.138,2,   0.033,     -999.0,9, -999.00,9,   61.86,2,    4.47,2,     -999.0,9,  -999.0,9, 20130513,     1758,  30.0002,-161.7359,    35.0939,3,     -999.0,9,     -999.0,9,    19.2982,2,     -999.0,9,     -999.0,9,   0.0074,    0.15,   0.012
318M20130321,       P02E,      93,          1,         32,         32,2,20130513,       1539,    30.0001,  -161.7357,       5727,    75.4,   18.473,  34.8194,2,  34.8218,2,    234.1,2,   232.7,2,    2.34,2,    0.02,2,    0.01,2,    0.04,2,   1.893,2,   1.150,2,-999.000,5,    1.508,2,  -999.0,9, -999.00,9,-999.0000,9,  -999.00,-999.000,9,-999.0000,9, -999.00,9,    0.76,2,    50.6,2,     2.7,-999.000,9,-999.000,     -999.0,9, -999.00,9, -999.00,5,    3.94,2,     -999.0,9,  -999.0,9, 20130513,     1756,       30,-161.7363,     34.986,2,     -999.0,9,     -999.0,9,    18.4744,2,     -999.0,9,     -999.0,9,-999.0000, -999.00,-999.000
318M20130321,       P02E,      93,          1,         31,         31,2,20130513,       1539,    30.0001,  -161.7357,       5727,   101.1,  17.8988,  34.6975,2,  34.7017,2,    233.3,2,   234.5,2,    2.44,2,    0.07,2,    0.01,2,    0.05,2,   2.219,2,   1.329,2,-999.000,5,   1.5872,2,  2018.2,2, 2279.41,2,   7.9838,2,       25,   0.557,2,   1.7633,2,   -0.75,2,    0.62,2,    52.5,2,     2.6,   7.074,2,   0.033,     -999.0,9, -999.00,9,   58.24,2,    4.63,2,     -999.0,9,  -999.0,9, 20130513,     1755,  29.9999,-161.7364,    34.8653,2,     -999.0,9,     -999.0,9,    17.9014,2,     -999.0,9,     -999.0,9,   0.0074,    0.15,   0.012
318M20130321,       P02E,      93,          1,         30,         30,2,20130513,       1539,    30.0001,  -161.7357,       5727,   150.8,  15.8846,  34.5226,2,  34.5318,2,    217.7,2,   217.2,2,    4.49,2,    3.78,2,    0.08,2,    0.32,2,   2.209,2,   1.364,2,-999.000,5,   1.5635,2,  -999.0,9, -999.00,9,-999.0000,9,  -999.00,-999.000,9,-999.0000,9, -999.00,9, -999.00,9,  -999.0,9,  -999.0,-999.000,9,-999.000,     -999.0,9, -999.00,9,   49.94,2,    7.09,2,     -999.0,9,  -999.0,9, 20130513,     1753,  29.9998,-161.7363,    34.6946,2,     -999.0,9,     -999.0,9,    15.8914,2,     -999.0,9,     -999.0,9,-999.0000, -999.00,-999.000
318M20130321,       P02E,      93,          1,         29,         29,2,20130513,       1539,    30.0001,  -161.7357,       5727,   200.7,  14.2702,  34.4206,2,  34.4214,2,    214.1,2,   215.4,2,    7.22,2,     7.3,2,    0.02,2,    0.53,2,   2.519,2,   1.516,2,-999.000,5,   1.4498,2,  2059.7,2,  2264.2,2,    7.872,6,       25,   0.510,2,   1.7574,2,   -0.35,2,    0.27,2,    46.7,2,     2.6,   7.231,2,   0.033,     -999.0,9, -999.00,9,   46.89,2,   10.74,2,     -999.0,9,  -999.0,9, 20130513,     1751,  29.9998,-161.7361,    34.5837,2,     -999.0,9,     -999.0,9,    14.2955,2,     -999.0,9,     -999.0,9,   0.0074,    0.15,   0.012
318M20130321,       P02E,      93,          1,         28,         28,2,20130513,       1539,    30.0001,  -161.7357,       5727,   251.1,  13.4768,  34.3784,2,  34.3765,2,    213.1,2,     214,2,    9.08,2,    8.99,2,    0.01,2,    0.63,2,   2.560,6,   1.412,6,-999.000,5,   1.4137,6,  -999.0,9, -999.00,9,-999.0000,9,  -999.00,-999.000,9,-999.0000,9, -999.00,9, -999.00,9,  -999.0,9,  -999.0,-999.000,9,-999.000,     -999.0,9, -999.00,9,   48.14,2, -999.00,5,     -999.0,9,  -999.0,9, 20130513,     1750,  29.9998,-161.7361,    34.5386,2,     -999.0,9,     -999.0,9,    13.4273,3,     -999.0,9,     -999.0,9,-999.0000, -999.00,-999.000
318M20130321,       P02E,      93,          1,         27,         27,2,20130513,       1539,    30.0001,  -161.7357,       5727,     301,   12.189,  34.3034,2,  34.3029,2,    214.3,2,   214.6,2,   12.11,2,   11.31,2,       0,2,     0.8,2,   2.762,2,   1.624,2,-999.000,5,   1.4024,2,  2085.2,2,  2263.6,2,   7.8132,6,       25,   0.519,2,   1.7747,2,    0.32,2,    0.25,2,    47.3,2,     3.1,   7.518,2,   0.035,     -999.0,9, -999.00,9,    45.3,2,    14.4,2,     -999.0,9,  -999.0,9, 20130513,     1748,  29.9997,-161.7361,    34.4647,2,     -999.0,9,     -999.0,9,    12.1888,2,     -999.0,9,     -999.0,9,   0.0075,    0.15,   0.011
318M20130321,       P02E,      93,          1,         26,         26,2,20130513,       1539,    30.0001,  -161.7357,       5727,   351.4,  11.3865,  34.2476,2,  34.2474,2,    215.7,2,   214.8,2,   14.45,2,   12.82,2,       0,2,     0.9,2,-999.000,5,   1.570,2,-999.000,5,-999.0000,5,  -999.0,9, -999.00,9,-999.0000,9,  -999.00,-999.000,9,-999.0000,9, -999.00,9, -999.00,9,  -999.0,9,  -999.0,-999.000,9,-999.000,     -999.0,9, -999.00,9,    44.6,2, -999.00,9,     -999.0,9,  -999.0,9, 20130513,     1746,  29.9998,-161.7363,    34.4089,2,     -999.0,9,     -999.0,9,    11.3852,2,     -999.0,9,     -999.0,9,-999.0000, -999.00,-999.000
318M20130321,       P02E,      93,          1,         25,         25,2,20130513,       1539,    30.0001,  -161.7357,       5727,   400.4,  10.3961,  34.1823,2,  34.1852,2,    210.3,2,   210.6,2,   18.16,2,      15,2,       0,2,    1.05,2,   2.800,2,   1.641,2,-999.000,5,   1.2755,2,  2108.9,2,  2263.5,2,   7.7595,2,       25,   0.529,2,   1.7961,2,    2.33,2,    0.19,2,    28.5,2,     2.7,   7.577,2,   0.035,     -999.0,9, -999.00,9,   45.44,2, -999.00,9,     -999.0,9,  -999.0,9, 20130513,     1744,  29.9999,-161.7365,    34.3464,2,     -999.0,9,     -999.0,9,    10.4038,2,     -999.0,9,     -999.0,9,   0.0075,    0.15,   0.012
318M20130321,       P02E,      93,          1,         24,         24,2,20130513,       1539,    30.0001,  -161.7357,       5727,   503.5,   8.3641,  34.0608,2,  34.0624,2,    176.9,2,   180.2,2,   32.23,2,   21.82,2,       0,2,    1.53,2,   2.924,2,   1.579,2,-999.000,5,     1.05,2,  -999.0,9, -999.00,9,-999.0000,9,  -999.00,   0.506,2,   1.7981,2,    5.57,2,    0.04,2,    -0.9,2,     2.5,   7.772,2,   0.036,     -999.0,9, -999.00,9,    43.4,2, -999.00,9,     -999.0,9,  -999.0,9, 20130513,     1741,  29.9999,-161.7365,     34.223,2,     -999.0,9,     -999.0,9,     8.3722,2,     -999.0,9,     -999.0,9,   0.0076,    0.15,   0.011
318M20130321,       P02E,      93,          1,         23,         23,2,20130513,       1539,    30.0001,  -161.7357,       5727,   603.7,   6.4934,  34.0014,2,  34.0026,2,    126.7,2,   132.6,2,   53.81,2,    29.7,2,       0,2,    2.11,2,   2.347,2,   1.213,2,-999.000,5,   0.8913,2,  2213.8,2, 2282.81,2,   7.5214,2,       25,   0.450,2,   1.8273,2,   11.10,2,   -0.11,2,   -44.6,2,     2.5,   7.840,2,   0.036,     -999.0,9, -999.00,9,   42.45,2, -999.00,9,     -999.0,9,  -999.0,9, 20130513,     1738,  29.9998,-161.7364,    34.1629,2,     -999.0,9,     -999.0,9,     6.4798,2,     -999.0,9,     -999.0,9,   0.0077,    0.15,   0.012
318M20130321,       P02E,      93,          1,         22,         22,2,20130513,       1539,    30.0001,  -161.7357,       5727,   702.4,   5.1763,  34.0331,2,  34.0345,2,     80.4,2,    80.5,2,   76.76,2,   36.78,2,       0,2,    2.62,2,-999.000,5,   0.353,2,-999.000,5,   0.2251,2,  2272.7,2, 2300.42,2,   7.3976,2,       25,-999.000,9,-999.0000,9, -999.00,9,   -0.33,2,   -90.6,2,     2.4,-999.000,9,-999.000,     -999.0,9, -999.00,9,   40.92,2, -999.00,9,     -999.0,9,  -999.0,9, 20130513,     1735,  29.9999,-161.7364,     34.195,2,     -999.0,9,     -999.0,9,     5.1749,2,     -999.0,9,     -999.0,9,-999.0000, -999.00,-999.000
318M20130321,       P02E,      93,          1,         21,         21,2,20130513,       1539,    30.0001,  -161.7357,       5727,   804.9,   4.4417,  34.1173,2,  34.1172,2,     41.3,2,    43.6,2,   95.99,2,   40.94,2,       0,2,    2.92,2,   0.572,2,   0.281,2,-999.000,5,   0.0962,2,  2315.8,2, 2320.52,2,   7.3243,2,       25,   0.209,2,   1.8558,2,   16.84,2,   -0.51,2,  -130.9,2,     2.1,   7.936,2,   0.037,     -999.0,9, -999.00,9,   39.35,2, -999.00,9,     -999.0,9,  -999.0,9, 20130513,     1732,  30.0001,-161.7368,    34.2781,2,     -999.0,9,     -999.0,9,     4.4421,2,     -999.0,9,     -999.0,9,   0.0078,    0.15,   0.011
318M20130321,       P02E,      93,          1,         20,         20,2,20130513,       1539,    30.0001,  -161.7357,       5727,   911.6,   3.9415,  34.2313,2,  34.2315,2,     18.6,2,    18.4,2,  113.26,2,   43.38,2,       0,2,     3.1,2,   0.117,2,   0.060,2,-999.000,5,   0.0406,2,  -999.0,9, -999.00,9,-999.0000,9,  -999.00,   0.067,2,   1.8932,2,   15.72,2,   -0.60,2,  -180.4,2,     2.2,   7.975,2,   0.037,     -999.0,9, -999.00,9,   37.47,2, -999.00,9,     -999.0,9,  -999.0,9, 20130513,     1729,  30.0003,-161.7372,     34.393,2,     -999.0,9,     -999.0,9,     3.9402,2,     -999.0,9,     -999.0,9,   0.0080,    0.15,   0.011
318M20130321,       P02E,      93,          1,         19,         19,2,20130513,       1539,    30.0001,  -161.7357,       5727,  1003.3,   3.6773,  34.3105,2,  34.3106,2,     11.2,2,    12.2,2,  123.51,2,   44.09,2,       0,2,    3.16,2,   0.034,2,   0.029,2,-999.000,5,   0.1074,2,  2364.5,2, 2354.84,2,   7.2843,2,       25,   0.015,2,   1.8870,2,   15.12,2,   -0.60,2,  -187.2,2,     2.2,   8.008,2,   0.037,     -999.0,9, -999.00,9,   37.82,2, -999.00,9,     -999.0,9,  -999.0,9, 20130513,     1726,  30.0005,-161.7373,    34.4724,2,     -999.0,9,     -999.0,9,     3.6754,2,     -999.0,9,     -999.0,9,   0.0079,    0.15,   0.011
318M20130321,       P02E,      93,          1,         18,         18,2,20130513,       1539,    30.0001,  -161.7357,       5727,  1104.8,   3.4864,  34.3781,2,  34.3789,2,     12.8,2,    13.4,2,  130.24,2,    44.2,2,       0,2,    3.18,2,   0.000,2,   0.012,2,-999.000,5,        0,2,    2372,2, 2380.55,2,   7.2939,2,       25,-999.000,9,-999.0000,9, -999.00,9,   -0.54,2,  -200.9,2,     3.0,-999.000,9,-999.000,     -999.0,9, -999.00,9,   35.38,2, -999.00,9,     -999.0,9,  -999.0,9, 20130513,     1723,  29.9999,-161.7368,     34.541,2,     -999.0,9,     -999.0,9,     3.4872,2,     -999.0,9,     -999.0,9,-999.0000, -999.00,-999.000
318M20130321,       P02E,      93,          1,         17,         17,2,20130513,       1539,    30.0001,  -161.7357,       5727,  1209.9,   3.2605,  34.4472,2,  34.4492,2,       24,2,    22.7,2,  136.09,2,   43.85,2,       0,2,    3.16,2,   0.000,2,   0.007,2,-999.000,5,        0,2,  2373.9,6, 2380.55,2,   7.3213,2,       25,   0.000,2,   2.0712,3,   17.20,2,   -0.48,2,  -211.8,2,     2.0,   8.593,3,   0.040,     -999.0,9, -999.00,9,   36.28,2, -999.00,9,     -999.0,9,  -999.0,9, 20130513,     1720,  29.9994,-161.7362,    34.6116,2,     -999.0,9,     -999.0,9,     3.2591,2,     -999.0,9,     -999.0,9,   0.0087,    0.15,   0.011
318M20130321,       P02E,      93,          1,         16,         16,2,20130513,       1539,    30.0001,  -161.7357,       5727,  1311.4,   3.0721,  34.4902,2,  34.4914,2,     34.1,2,    33.7,2,   139.5,2,   43.24,2,       0,2,    3.09,2,    -999,5,    -999,5,-999.000,5,     -999,5,  2372.8,2, 2385.05,2,   7.3466,2,       25,  -0.005,6,   1.9264,2,   19.32,2,   -0.49,2,  -222.7,2,     3.0,   8.108,2,   0.037,     -999.0,9, -999.00,9,   36.88,2, -999.00,9,     -999.0,9,  -999.0,9, 20130513,     1717,  29.9992,-161.7359,     34.654,2,     -999.0,9,     -999.0,9,     3.0719,2,     -999.0,9,     -999.0,9,   0.0081,    0.15,   0.009
318M20130321,       P02E,      93,          1,         15,         15,2,20130513,       1539,    30.0001,  -161.7357,       5727,  1410.9,   2.8935,   34.519,2,    34.52,2,     43.4,2,    42.3,2,  142.82,2,   42.79,2,       0,2,    3.06,2,   0.005,2,   0.007,2,-999.000,5,   0.0855,2,  2372.2,2, 2391.95,2,    7.367,2,       25,  -0.004,2,   1.9028,2,   20.10,2,   -0.35,2,  -225.2,2,     2.4,   8.133,2,   0.037,     -999.0,9, -999.00,9,    35.6,2, -999.00,9,     -999.0,9,  -999.0,9, 20130513,     1714,  29.9992,-161.7357,    34.6828,2,     -999.0,9,     -999.0,9,     2.8933,2,     -999.0,9,     -999.0,9,   0.0080,    0.15,   0.012
318M20130321,       P02E,      93,          1,         14,         14,2,20130513,       1539,    30.0001,  -161.7357,       5727,  1609.5,    2.544,  34.5596,2,  34.5615,2,     57.6,2,    56.3,2,  150.52,2,      42,2,       0,2,    2.99,2,-999.000,9,-999.000,9,-999.000,9,-999.0000,9,  2372.3,2, 2401.05,2,   7.3958,2,       25,-999.000,9,-999.0000,9, -999.00,9,   -0.31,2,  -238.8,2,     2.2,-999.000,9,-999.000,     -999.0,9, -999.00,9, -999.00,9, -999.00,9,     -999.0,9,  -999.0,9, 20130513,     1709,  29.9996,-161.7357,    34.7245,2,     -999.0,9,     -999.0,9,     2.5439,2,     -999.0,9,     -999.0,9,-999.0000, -999.00,-999.000
318M20130321,       P02E,      93,          1,         13,         13,2,20130513,       1539,    30.0001,  -161.7357,       5727,  1814.4,   2.2368,  34.5898,2,  34.5917,2,     67.4,2,    68.5,2,  158.13,2,   41.28,2,       0,2,    2.93,2,   0.003,2,   0.004,2,-999.000,5,   0.0543,2,  -999.0,9, -999.00,9,-999.0000,9,  -999.00,   0.007,2,   1.9062,2,   21.42,2,   -0.32,2,  -252.9,2,     2.0,   8.015,2,   0.037,     -999.0,9, -999.00,9,   34.22,2, -999.00,9,     -999.0,9,  -999.0,9, 20130513,     1703,  30.0003,-161.7361,    34.7549,2,     -999.0,9,     -999.0,9,     2.2366,2,     -999.0,9,     -999.0,9,   0.0080,    0.15,   0.011
318M20130321,       P02E,      93,          1,         12,         12,2,20130513,       1539,    30.0001,  -161.7357,       5727,  2021.3,   2.0061,  34.6127,2,  34.6137,2,     78.8,2,    79.6,2,  163.69,2,   40.67,2,       0,2,    2.87,2,-999.000,9,-999.000,9,-999.000,9,-999.0000,9,  2369.1,2, 2416.46,2,   7.4432,2,       25,   0.004,2,   1.9130,2,   21.41,2,   -0.22,2,  -241.8,2,     2.0,   8.179,2,   0.038,     -999.0,9, -999.00,9, -999.00,9, -999.00,9,     -999.0,9,  -999.0,9, 20130513,     1658,  29.9995,-161.7353,     34.777,2,     -999.0,9,     -999.0,9,     2.0059,2,     -999.0,9,     -999.0,9,   0.0080,    0.15,   0.011
318M20130321,       P02E,      93,          1,         11,         11,2,20130513,       1539,    30.0001,  -161.7357,       5727,  2271.4,   1.8371,  34.6307,2,   34.632,2,     89.3,2,    90.6,2,  166.72,2,   39.96,2,       0,2,    2.81,2,   0.003,2,   0.002,2,-999.000,5,   0.0443,2,  -999.0,9, -999.00,9,-999.0000,9,  -999.00,-999.000,9,-999.0000,9, -999.00,9,   -0.20,2,  -246.8,2,     2.0,-999.000,9,-999.000,     -999.0,9, -999.00,9,   36.06,2, -999.00,9,     -999.0,9,  -999.0,9, 20130513,     1652,  29.9996,-161.7351,    34.7953,2,     -999.0,9,     -999.0,9,     1.8374,2,     -999.0,9,     -999.0,9,-999.0000, -999.00,-999.000
318M20130321,       P02E,      93,          1,         10,         10,2,20130513,       1539,    30.0001,  -161.7357,       5727,  2528.2,   1.7194,  34.6441,2,  34.6452,2,    103.1,2,   102.3,2,  166.42,2,   39.25,2,       0,2,    2.75,2,-999.000,9,-999.000,9,-999.000,9,-999.0000,9,  2360.4,2, 2420.06,2,   7.4842,2,       25,-999.000,9,-999.0000,9, -999.00,9,   -0.12,2,  -242.6,2,     2.0,-999.000,9,-999.000,     -999.0,9, -999.00,9, -999.00,9, -999.00,9,     -999.0,9,  -999.0,9, 20130513,     1647,       30,-161.7353,    34.8086,2,     -999.0,9,     -999.0,9,     1.7187,2,     -999.0,9,     -999.0,9,-999.0000, -999.00,-999.000
318M20130321,       P02E,      93,          1,          9,          9,2,20130513,       1539,    30.0001,  -161.7357,       5727,  2785.2,    1.631,  34.6556,2,  34.6562,2,    111.2,2,     111,2,  166.91,2,   38.74,2,       0,2,    2.71,2,   0.004,2,   0.004,2,-999.000,5,        0,2,  -999.0,9, -999.00,9,-999.0000,9,  -999.00,-999.000,9,-999.0000,9, -999.00,9,   -0.13,2,  -242.6,2,     2.0,-999.000,9,-999.000,     -999.0,9, -999.00,9,   34.95,2, -999.00,9,     -999.0,9,  -999.0,9, 20130513,     1641,  29.9998, -161.735,    34.8196,2,     -999.0,9,     -999.0,9,     1.6314,2,     -999.0,9,     -999.0,9,-999.0000, -999.00,-999.000
318M20130321,       P02E,      93,          1,          8,          8,2,20130513,       1539,    30.0001,  -161.7357,       5727,  3031.6,   1.5698,  34.6637,2,  34.6637,2,      122,2,   120.4,2,  164.96,2,    38.1,2,       0,2,    2.67,2,-999.000,9,-999.000,9,-999.000,9,-999.0000,9,  2349.5,2, 2421.86,2,   7.5185,2,       25,-999.000,9,-999.0000,9, -999.00,9,   -0.02,2,  -236.3,2,     2.7,-999.000,9,-999.000,     -999.0,9, -999.00,9, -999.00,9, -999.00,9,     -999.0,9,  -999.0,9, 20130513,     1635,  29.9998,-161.7348,    34.8271,2,     -999.0,9,     -999.0,9,     1.5699,2,     -999.0,9,     -999.0,9,-999.0000, -999.00,-999.000
318M20130321,       P02E,      93,          1,          7,          7,2,20130513,       1539,    30.0001,  -161.7357,       5727,  3343.3,   1.5146,  34.6721,2,  34.6729,2,      130,2,     131,2,  162.22,2,   37.42,2,       0,2,    2.61,2,   0.006,2,   0.006,2,-999.000,5,   0.0519,2,  -999.0,9, -999.00,9,-999.0000,9,  -999.00,-999.000,9,-999.0000,9, -999.00,9,    0.06,2,  -228.3,2,     1.9,-999.000,9,-999.000,     -999.0,9, -999.00,9,   33.19,2, -999.00,9,     -999.0,9,  -999.0,9, 20130513,     1629,  30.0003,-161.7352,    34.8364,2,     -999.0,9,     -999.0,9,     1.5148,2,     -999.0,9,     -999.0,9,-999.0000, -999.00,-999.000