BOTTLE,20220817CCHSIOAMB
EXPOCODE,SECT_ID,STNNBR,CASTNO,SAMPNO,BTLNBR,BTLNBR_FLAG_W,DATE,TIME,LATITUDE,LONGITUDE,DEPTH,CTDPRS,CTDTMP,CTDSAL,CTDSAL_FLAG_W,SALNTY,SALNTY_FLAG_W,CTDOXY,CTDOXY_FLAG_W,OXYGEN,OXYGEN_FLAG_W,SILCAT,SILCAT_FLAG_W,NITRAT,NITRAT_FLAG_W,NITRIT,NITRIT_FLAG_W,PHSPHT,PHSPHT_FLAG_W,CFC-11,CFC-11_FLAG_W,CFC-12,CFC-12_FLAG_W,CFC113,CFC113_FLAG_W,SF6,SF6_FLAG_W,TCARBN,TCARBN_FLAG_W,ALKALI,ALKALI_FLAG_W,PH_TOT,PH_TOT_FLAG_W,PH_TMP,TRITUM,TRITUM_FLAG_W,HELIUM,HELIUM_FLAG_W,DELHE3,DELHE3_FLAG_W,DELC13,DELC13_FLAG_W,DELC14,DELC14_FLAG_W,C14ERR,NEON,NEON_FLAG_W,NEONER,I-129,I-129_FLAG_W,SR-90,SR-90_FLAG_W,DOC,DOC_FLAG_W,TDN,TDN_FLAG_W,CALCIUM,CALCIUM_FLAG_W,D15N_NO3,D15N_NO3_FLAG_W,BTL_DATE,BTL_TIME,BTL_LAT,BTL_LON,SALTREF,SALTREF_FLAG_W,CS-137,CS-137_FLAG_W,CS-134,CS-134_FLAG_W,REFTMP,REFTMP_FLAG_W,LAB_DEN,LAB_DEN_FLAG_W,D18O_NO3,D18O_NO3_FLAG_W,HELIER,DELHER,TRITER
,,,,,,,,,,,METERS,DBAR,ITS-90,PSS-78,,PSS-78,,UMOL/KG,,UMOL/KG,,UMOL/KG,,UMOL/KG,,UMOL/KG,,UMOL/KG,,PMOL/KG,,PMOL/KG,,PMOL/KG,,FMOL/KG,,UMOL/KG,,UMOL/KG,,,,DEG C,TU,,NMOL/KG,,PERCNT,,/MILLE,,/MILLE,,/MILLE,NMOL/KG,,NMOL/KG,BQ/M^3,,DM/.1MG,,UMOL/KG,,UMOL/KG,,MMOL/KG,,/MILLE,,,,,,G/KG,,BQ/M^3,,BQ/M^3,,ITS-90,,,,/MILLE,,NMOL/KG,PERCNT,TU
318M20130321,       P02E,     145,          2,         36,         36,2,20130529,       2157,    31.0267,  -121.7718,       3967,     2.7,  14.8486,  33.2809,2,  33.2811,2,      259,2,     258,2,    1.56,2,       0,2,       0,2,     0.3,2,   2.654,2,   1.560,2,-999.000,1,   1.7059,2,  2016.1,6, 2220.79,2,   7.8997,2,       25,-999.000,9,-999.0000,9, -999.00,9,    1.38,2,    18.6,2,     3.9,-999.000,9,-999.000,     -999.0,9, -999.00,9,   68.12,2,    7.71,2,     -999.0,9,  -999.0,1, 20130529,     2340,  31.0262, -121.772,     33.438,2,     -999.0,9,     -999.0,9,    14.8488,2,     -999.0,9,     -999.0,1,-999.0000, -999.00,-999.000
318M20130321,       P02E,     145,          2,         34,         34,2,20130529,       2157,    31.0267,  -121.7718,       3967,    21.7,  14.8005,  33.2798,2,  33.2795,2,      259,2,   258.4,2,    1.66,2,       0,2,       0,2,     0.3,2,   2.666,2,   1.577,2,-999.000,1,    1.713,2,  2015.4,2, 2221.79,2,   7.8994,6,       25,-999.000,9,-999.0000,9, -999.00,9, -999.00,9,  -999.0,9,  -999.0,-999.000,9,-999.000,     -999.0,9, -999.00,9,   69.18,2,    6.12,2,     -999.0,9,  -999.0,1, 20130529,     2338,  31.0264, -121.772,    33.4364,2,     -999.0,9,     -999.0,9,    14.8013,2,     -999.0,9,     -999.0,1,-999.0000, -999.00,-999.000
318M20130321,       P02E,     145,          2,         33,         33,2,20130529,       2157,    31.0267,  -121.7718,       3967,    40.1,  14.6995,  33.2746,2,  33.2756,2,      260,2,   258.4,2,    1.56,2,       0,2,       0,2,     0.3,2,   2.683,2,   1.575,2,-999.000,1,   1.7435,2,  -999.0,9, -999.00,9,-999.0000,9,  -999.00,-999.000,9,-999.0000,9, -999.00,9, -999.00,9,  -999.0,9,  -999.0,-999.000,9,-999.000,     -999.0,9, -999.00,9,   63.14,2,    4.95,2,     -999.0,9,  -999.0,1, 20130529,     2336,  31.0265, -121.772,    33.4325,2,     -999.0,9,     -999.0,9,    14.7005,2,     -999.0,9,     -999.0,1,-999.0000, -999.00,-999.000
318M20130321,       P02E,     145,          2,         32,         32,2,20130529,       2157,    31.0267,  -121.7718,       3967,    65.9,  14.0655,  33.2542,2,  33.2569,2,    261.9,2,   261.2,2,    1.76,2,    0.04,2,    0.02,2,    0.33,2,-999.000,9,-999.000,9,-999.000,9,-999.0000,9,  2017.9,2, 2220.09,6,   7.8935,2,       25,-999.000,9,-999.0000,9, -999.00,9,    1.32,2,     9.9,2,     3.6,-999.000,9,-999.000,     -999.0,9, -999.00,9,   64.06,2,    5.37,2,     -999.0,9,  -999.0,1, 20130529,     2334,  31.0266,-121.7719,    33.4137,2,     -999.0,9,     -999.0,9,      14.08,2,     -999.0,9,     -999.0,1,-999.0000, -999.00,-999.000
318M20130321,       P02E,     145,          2,         31,         31,2,20130529,       2157,    31.0267,  -121.7718,       3967,      91,  13.0359,  33.2025,2,  33.2262,3,    258.8,2,   258.3,2,    3.03,2,    0.23,2,    0.07,2,    0.35,2,   2.830,2,   1.666,2,-999.000,1,   1.8268,2,  2022.1,2, 2216.59,2,   7.8752,2,       25,-999.000,9,-999.0000,9, -999.00,9,    1.25,2,    17.1,2,     3.8,-999.000,9,-999.000,     -999.0,9, -999.00,9,   62.54,2,     7.1,2,     -999.0,9,  -999.0,1, 20130529,     2333,  31.0267,-121.7717,    33.3829,3,     -999.0,9,     -999.0,9,    13.0988,3,     -999.0,9,     -999.0,1,-999.0000, -999.00,-999.000
318M20130321,       P02E,     145,          2,         30,         30,2,20130529,       2157,    31.0267,  -121.7718,       3967,   135.4,  11.0114,  33.3962,2,  33.3978,2,    214.1,2,   214.1,2,    9.28,2,    10.4,2,    0.03,2,    0.95,2,-999.000,9,-999.000,9,-999.000,9,-999.0000,9,  2082.1,2, 2218.19,2,   7.7319,2,       25,-999.000,9,-999.0000,9, -999.00,9,    0.51,2,    -1.0,2,     2.6,-999.000,9,-999.000,     -999.0,9, -999.00,9,    57.7,2,   16.64,3,     -999.0,9,  -999.0,1, 20130529,     2331,  31.0267,-121.7715,    33.5553,2,     -999.0,9,     -999.0,9,    10.9873,2,     -999.0,9,     -999.0,1,-999.0000, -999.00,-999.000
318M20130321,       P02E,     145,          2,         29,         29,2,20130529,       2157,    31.0267,  -121.7718,       3967,   188.2,    9.676,  33.8274,2,   33.823,2,      120,2,   113.4,2,   26.18,2,   24.73,2,    0.01,2,    1.93,2,   2.831,2,   1.580,2,-999.000,1,   1.0805,2,  2186.3,2,  2243.8,2,   7.4998,2,       25,-999.000,9,-999.0000,9, -999.00,9,   -0.25,2,    10.7,2,     3.1,-999.000,9,-999.000,     -999.0,9, -999.00,9,   46.49,2,   32.66,3,     -999.0,9,  -999.0,1, 20130529,     2329,  31.0268,-121.7713,    33.9824,2,     -999.0,9,     -999.0,9,     9.6804,2,     -999.0,9,     -999.0,1,-999.0000, -999.00,-999.000
318M20130321,       P02E,     145,          2,         27,         27,2,20130529,       2157,    31.0267,  -121.7718,       3967,   237.4,   9.0804,  33.9943,2,  33.9935,2,    113.5,2,      90,3,   33.11,2,      28,2,    0.01,2,    2.17,2,-999.000,9,-999.000,9,-999.000,9,-999.0000,9,  2213.9,2,  2257.6,2,   7.4516,6,       25,-999.000,9,-999.0000,9, -999.00,9,   -0.35,2,   -20.4,2,     2.5,-999.000,9,-999.000,     -999.0,9, -999.00,9,   45.37,2,   37.16,3,     -999.0,9,  -999.0,1, 20130529,     2327,  31.0268,-121.7712,    34.1538,2,     -999.0,9,     -999.0,9,     9.0803,2,     -999.0,9,     -999.0,1,-999.0000, -999.00,-999.000
318M20130321,       P02E,     145,          2,         26,         26,2,20130529,       2157,    31.0267,  -121.7718,       3967,   286.7,   8.4372,  34.0821,2,  34.0717,2,     81.7,2,    83.6,2,   39.16,2,   29.98,2,       0,2,    2.29,2,   2.357,2,   1.251,2,-999.000,1,    0.635,2,  2230.3,2, 2266.71,2,    7.431,2,       25,-999.000,9,-999.0000,9, -999.00,9,   -0.37,2,   -29.9,2,     2.7,-999.000,9,-999.000,     -999.0,9, -999.00,9, -999.00,5,   39.04,3,     -999.0,9,  -999.0,1, 20130529,     2325,  31.0268,-121.7715,    34.2324,2,     -999.0,9,     -999.0,9,     8.4357,2,     -999.0,9,     -999.0,1,-999.0000, -999.00,-999.000
318M20130321,       P02E,     145,          2,         25,         25,2,20130529,       2157,    31.0267,  -121.7718,       3967,     337,   7.8268,  34.1102,2,  34.1058,2,     70.5,2,    66.2,2,   46.48,2,   32.45,2,       0,2,    2.46,2,-999.000,9,-999.000,9,-999.000,9,-999.0000,9,  2250.5,2, 2274.71,2,   7.3956,2,       25,-999.000,9,-999.0000,9, -999.00,9,   -0.41,2,   -33.6,2,     2.6,-999.000,9,-999.000,     -999.0,9, -999.00,9,   43.45,2,   42.13,3,     -999.0,9,  -999.0,1, 20130529,     2323,  31.0267,-121.7717,    34.2666,2,     -999.0,9,     -999.0,9,     7.8287,2,     -999.0,9,     -999.0,1,-999.0000, -999.00,-999.000
318M20130321,       P02E,     145,          2,         24,         24,2,20130529,       2157,    31.0267,  -121.7718,       3967,   388.3,   7.2027,  34.1513,2,  34.1403,2,     45.3,2,      46,2,   56.15,2,   35.47,2,       0,2,     2.7,2,   1.525,2,   0.774,2,-999.000,1,   0.2697,2,    2274,2, 2284.81,2,   7.3492,2,       25,-999.000,9,-999.0000,9, -999.00,9,   -0.46,2,   -62.8,2,     2.3,-999.000,9,-999.000,     -999.0,9, -999.00,9,   42.85,2, -999.00,9,     -999.0,9,  -999.0,1, 20130529,     2322,  31.0267,-121.7718,    34.3013,2,     -999.0,9,     -999.0,9,     7.2014,2,     -999.0,9,     -999.0,1,-999.0000, -999.00,-999.000
318M20130321,       P02E,     145,          2,         23,         23,2,20130529,       2157,    31.0267,  -121.7718,       3967,   468.4,   6.5527,  34.2168,2,  34.2179,2,     25.5,2,    24.4,2,   67.27,2,   37.79,2,       0,2,    2.91,2,-999.000,9,-999.000,9,-999.000,9,-999.0000,9,  2299.2,2, 2300.82,2,   7.3178,2,       25,-999.000,9,-999.0000,9, -999.00,9,   -0.48,2,   -93.0,2,     2.4,-999.000,9,-999.000,     -999.0,9, -999.00,9, -999.00,5, -999.00,9,     -999.0,9,  -999.0,1, 20130529,     2319,  31.0267,-121.7718,    34.3793,2,     -999.0,9,     -999.0,9,     6.5695,2,     -999.0,9,     -999.0,1,-999.0000, -999.00,-999.000
318M20130321,       P02E,     145,          2,         22,         22,2,20130529,       2157,    31.0267,  -121.7718,       3967,   569.2,   5.7462,  34.2779,2,  34.2777,2,     15.6,2,    15.8,2,   81.33,2,   40.13,2,       0,2,    3.09,2,   0.318,2,   0.166,2,-999.000,1,        0,2,    2323,2, 2318.22,2,   7.3029,2,       25,-999.000,9,-999.0000,9, -999.00,9,   -0.48,2,  -136.7,2,     2.4,-999.000,9,-999.000,     -999.0,9, -999.00,9,   39.22,2, -999.00,9,     -999.0,9,  -999.0,1, 20130529,     2317,  31.0267,-121.7718,    34.4394,2,     -999.0,9,     -999.0,9,     5.7482,2,     -999.0,9,     -999.0,1,-999.0000, -999.00,-999.000
318M20130321,       P02E,     145,          2,         21,         21,2,20130529,       2157,    31.0267,  -121.7718,       3967,   670.6,   4.9939,  34.3128,2,  34.3119,2,     12.5,2,    12.7,2,    94.8,2,   42.04,2,       0,2,    3.16,2,-999.000,9,-999.000,9,-999.000,9,-999.0000,9,    2338,2, 2332.93,2,   7.2968,2,       25,-999.000,9,-999.0000,9, -999.00,9,   -0.46,2,  -159.8,2,     2.9,-999.000,9,-999.000,     -999.0,9, -999.00,9,   40.36,2, -999.00,9,     -999.0,9,  -999.0,1, 20130529,     2314,  31.0267,-121.7718,    34.4737,2,     -999.0,9,     -999.0,9,     4.9939,2,     -999.0,9,     -999.0,1,-999.0000, -999.00,-999.000
318M20130321,       P02E,     145,          2,         20,         20,2,20130529,       2157,    31.0267,  -121.7718,       3967,   770.9,   4.5998,  34.3873,2,  34.3859,2,     12.4,2,    12.9,2,  103.68,2,   42.87,2,       0,2,    3.21,2,   0.037,2,   0.026,2,-999.000,1,        0,2,  2349.7,2, 2347.03,2,   7.3089,2,       25,-999.000,9,-999.0000,9, -999.00,9,   -0.43,6,  -189.4,6,     4.4,-999.000,9,-999.000,     -999.0,9, -999.00,9,   41.37,2, -999.00,9,     -999.0,9,  -999.0,1, 20130529,     2311,  31.0267,-121.7718,     34.548,2,     -999.0,9,     -999.0,9,     4.6003,2,     -999.0,9,     -999.0,1,-999.0000, -999.00,-999.000
318M20130321,       P02E,     145,          2,         19,         19,2,20130529,       2157,    31.0267,  -121.7718,       3967,   871.4,   4.3187,  34.4232,2,   34.423,2,     15.9,2,    15.4,2,  110.22,2,   43.22,2,       0,2,    3.21,2,-999.000,9,-999.000,9,-999.000,9,-999.0000,9,  2356.3,2, 2355.84,2,   7.3165,2,       25,-999.000,9,-999.0000,9, -999.00,9,   -0.42,2,  -199.1,2,     2.0,-999.000,9,-999.000,     -999.0,9, -999.00,9,   37.49,2, -999.00,9,     -999.0,9,  -999.0,1, 20130529,     2309,  31.0267,-121.7718,    34.5853,2,     -999.0,9,     -999.0,9,     4.3204,2,     -999.0,9,     -999.0,1,-999.0000, -999.00,-999.000
318M20130321,       P02E,     145,          2,         18,         18,2,20130529,       2157,    31.0267,  -121.7718,       3967,   971.2,   4.0158,  34.4574,2,  34.4565,2,     21.3,2,    22.1,2,  116.66,2,   43.37,2,       0,2,    3.19,2,   0.019,6,   0.019,6,-999.000,1,        0,6,  -999.0,9, -999.00,9,-999.0000,9,  -999.00,-999.000,9,-999.0000,9, -999.00,9,   -0.38,2,  -207.4,2,     2.1,-999.000,9,-999.000,     -999.0,9, -999.00,9,   35.62,2, -999.00,9,     -999.0,9,  -999.0,1, 20130529,     2306,  31.0267,-121.7718,     34.619,2,     -999.0,9,     -999.0,9,     4.0184,2,     -999.0,9,     -999.0,1,-999.0000, -999.00,-999.000
318M20130321,       P02E,     145,          2,         17,         17,2,20130529,       2157,    31.0267,  -121.7718,       3967,    1074,   3.7406,  34.4892,2,  34.4887,2,     27.2,2,    27.7,2,  122.71,2,   43.28,2,       0,2,    3.17,2,-999.000,9,-999.000,9,-999.000,9,-999.0000,9,  2363.3,2, 2374.14,2,   7.3421,6,       25,-999.000,9,-999.0000,9, -999.00,9,   -0.39,2,  -219.7,2,     2.4,-999.000,9,-999.000,     -999.0,9, -999.00,9,   39.91,2, -999.00,9,     -999.0,9,  -999.0,1, 20130529,     2303,  31.0267,-121.7718,    34.6513,2,     -999.0,9,     -999.0,9,     3.7409,2,     -999.0,9,     -999.0,1,-999.0000, -999.00,-999.000
318M20130321,       P02E,     145,          2,         16,         16,2,20130529,       2157,    31.0267,  -121.7718,       3967,  1175.6,   3.5212,  34.5133,2,  34.5138,2,       33,2,    32.1,2,  128.08,2,   43.17,2,       0,2,    3.15,2,   0.020,2,   0.019,2,-999.000,1,   0.0355,2,  -999.0,9, -999.00,9,-999.0000,9,  -999.00,-999.000,9,-999.0000,9, -999.00,9,   -0.35,2,  -217.2,2,     2.3,-999.000,9,-999.000,     -999.0,9, -999.00,9,    40.7,2, -999.00,9,     -999.0,9,  -999.0,1, 20130529,     2301,  31.0267,-121.7718,    34.6766,2,     -999.0,9,     -999.0,9,     3.5215,2,     -999.0,9,     -999.0,1,-999.0000, -999.00,-999.000
318M20130321,       P02E,     145,          2,         15,         15,2,20130529,       2157,    31.0267,  -121.7718,       3967,  1277.2,    3.282,  34.5278,2,   34.528,2,     38.6,2,      38,2,  133.83,2,   43.01,2,       0,2,    3.12,2,-999.000,9,-999.000,9,-999.000,9,-999.0000,9,  -999.0,9, -999.00,9,-999.0000,9,  -999.00,-999.000,9,-999.0000,9, -999.00,9,   -0.34,2,  -221.0,2,     2.1,-999.000,9,-999.000,     -999.0,9, -999.00,9, -999.00,5, -999.00,9,     -999.0,9,  -999.0,1, 20130529,     2258,  31.0267,-121.7718,    34.6908,2,     -999.0,9,     -999.0,9,     3.2824,2,     -999.0,9,     -999.0,1,-999.0000, -999.00,-999.000
318M20130321,       P02E,     145,          2,         14,         14,2,20130529,       2157,    31.0267,  -121.7718,       3967,  1378.5,   3.0923,  34.5425,2,  34.5423,2,     41.8,2,    42.3,2,  138.81,2,   42.81,2,       0,2,     3.1,2,   0.013,2,   0.014,2,-999.000,1,        0,2,  2371.1,2, 2391.55,2,   7.3701,2,       25,-999.000,9,-999.0000,9, -999.00,9,   -0.31,2,  -233.4,2,     2.3,-999.000,9,-999.000,     -999.0,9, -999.00,9,   35.77,2, -999.00,9,     -999.0,9,  -999.0,1, 20130529,     2255,  31.0267,-121.7718,    34.7052,2,     -999.0,9,     -999.0,9,     3.0937,2,     -999.0,9,     -999.0,1,-999.0000, -999.00,-999.000
318M20130321,       P02E,     145,          2,         13,         13,2,20130529,       2157,    31.0267,  -121.7718,       3967,  1479.5,   2.9097,   34.558,2,  34.5576,2,     47.3,2,    46.5,2,   143.5,2,    42.6,2,       0,2,    3.08,2,-999.000,9,-999.000,9,-999.000,9,-999.0000,9,  -999.0,9, -999.00,9,-999.0000,9,  -999.00,-999.000,9,-999.0000,9, -999.00,9,   -0.34,2,  -235.3,2,     2.0,-999.000,9,-999.000,     -999.0,9, -999.00,9,   40.18,2, -999.00,9,     -999.0,9,  -999.0,1, 20130529,     2252,  31.0267,-121.7718,    34.7206,2,     -999.0,9,     -999.0,9,     2.9099,2,     -999.0,9,     -999.0,1,-999.0000, -999.00,-999.000
318M20130321,       P02E,     145,          2,         12,         12,2,20130529,       2157,    31.0267,  -121.7718,       3967,  1581.8,   2.7161,  34.5722,2,  34.5714,2,     52.9,2,    52.8,2,  148.18,2,   42.31,2,       0,2,    3.06,2,   0.012,2,   0.015,2,-999.000,1,        0,2,  2374.9,2, 2401.75,2,   7.3901,2,       25,-999.000,9,-999.0000,9, -999.00,9,   -0.34,2,  -239.7,2,     2.0,-999.000,9,-999.000,     -999.0,9, -999.00,9,   38.93,2, -999.00,9,     -999.0,9,  -999.0,1, 20130529,     2250,  31.0267,-121.7718,    34.7344,2,     -999.0,9,     -999.0,9,     2.7156,2,     -999.0,9,     -999.0,1,-999.0000, -999.00,-999.000
318M20130321,       P02E,     145,          2,         11,         11,2,20130529,       2157,    31.0267,  -121.7718,       3967,  1752.2,   2.4498,   34.592,2,  34.5914,2,     62.8,2,    61.5,2,  154.42,2,   41.79,2,       0,2,       3,2,-999.000,9,-999.000,9,-999.000,9,-999.0000,9,  2374.5,2, 2408.96,2,   7.4104,2,       25,-999.000,9,-999.0000,9, -999.00,9,   -0.28,2,  -240.8,2,     1.9,-999.000,9,-999.000,     -999.0,9, -999.00,9,   38.44,2, -999.00,9,     -999.0,9,  -999.0,1, 20130529,     2245,  31.0267,-121.7718,    34.7545,2,     -999.0,9,     -999.0,9,     2.4514,2,     -999.0,9,     -999.0,1,-999.0000, -999.00,-999.000
318M20130321,       P02E,     145,          2,         10,         10,2,20130529,       2157,    31.0267,  -121.7718,       3967,  1956.6,   2.1921,  34.6146,2,  34.6152,2,       75,2,    74.7,2,   159.5,2,   41.01,2,       0,2,    2.92,2,-999.000,9,-999.000,9,-999.000,9,-999.0000,9,  -999.0,9, -999.00,9,-999.0000,9,  -999.00,-999.000,9,-999.0000,9, -999.00,9, -999.00,9,  -999.0,9,  -999.0,-999.000,9,-999.000,     -999.0,9, -999.00,9, -999.00,9, -999.00,9,     -999.0,9,  -999.0,1, 20130529,     2241,  31.0267,-121.7718,    34.7784,2,     -999.0,9,     -999.0,9,     2.1938,2,     -999.0,9,     -999.0,1,-999.0000, -999.00,-999.000
318M20130321,       P02E,     145,          2,          9,          9,2,20130529,       2157,    31.0267,  -121.7718,       3967,  2189.9,   1.9736,  34.6363,2,  34.6358,2,     89.9,2,    90.5,2,  162.23,2,   40.11,2,       0,2,    2.84,2,   0.001,2,   0.005,2,-999.000,1,        0,2,  2367.1,2, 2420.26,2,    7.467,2,       25,-999.000,9,-999.0000,9, -999.00,9,   -0.18,2,  -242.3,2,     2.1,-999.000,9,-999.000,     -999.0,9, -999.00,9,   37.25,2, -999.00,9,     -999.0,9,  -999.0,1, 20130529,     2236,  31.0267,-121.7718,    34.7992,2,     -999.0,9,     -999.0,9,     1.9742,2,     -999.0,9,     -999.0,1,-999.0000, -999.00,-999.000
318M20130321,       P02E,     145,          2,          8,          8,2,20130529,       2157,    31.0267,  -121.7718,       3967,  2442.7,   1.8449,  34.6486,2,  34.6484,2,      100,2,   100.2,2,  164.08,2,    39.5,2,       0,2,    2.78,2,-999.000,9,-999.000,9,-999.000,9,-999.0000,9,  -999.0,9, -999.00,9,-999.0000,9,  -999.00,-999.000,9,-999.0000,9, -999.00,9,   -0.12,2,  -245.6,2,     2.4,-999.000,9,-999.000,     -999.0,9, -999.00,9, -999.00,9, -999.00,9,     -999.0,9,  -999.0,1, 20130529,     2231,  31.0267,-121.7718,    34.8118,2,     -999.0,9,     -999.0,9,     1.8452,2,     -999.0,9,     -999.0,1,-999.0000, -999.00,-999.000
318M20130321,       P02E,     145,          2,          7,          7,2,20130529,       2157,    31.0267,  -121.7718,       3967,  2698.6,   1.7125,  34.6595,2,  34.6592,2,    109.9,2,   109.3,2,  166.03,2,   38.83,2,       0,2,    2.71,2,-999.000,9,-999.000,9,-999.000,9,-999.0000,9,  2360.1,2, 2426.96,6,   7.5044,2,       25,-999.000,9,-999.0000,9, -999.00,9,   -0.07,2,  -245.9,2,     2.1,-999.000,9,-999.000,     -999.0,9, -999.00,9,   35.89,2, -999.00,9,     -999.0,9,  -999.0,1, 20130529,     2225,  31.0267,-121.7718,    34.8226,2,     -999.0,9,     -999.0,9,     1.7132,2,     -999.0,9,     -999.0,1,-999.0000, -999.00,-999.000
318M20130321,       P02E,     145,          2,          6,          6,2,20130529,       2157,    31.0267,  -121.7718,       3967,    2954,   1.6596,  34.6641,2,  34.6645,2,    115.6,2,   114.6,2,   167.1,2,   38.55,2,       0,2,    2.68,2,   0.004,2,   0.007,2,-999.000,1,        0,2,  -999.0,9, -999.00,9,-999.0000,9,  -999.00,-999.000,9,-999.0000,9, -999.00,9,   -0.04,2,  -240.8,2,     2.2,-999.000,9,-999.000,     -999.0,9, -999.00,9, -999.00,9, -999.00,9,     -999.0,9,  -999.0,1, 20130529,     2220,  31.0267,-121.7718,     34.828,2,     -999.0,9,     -999.0,9,     1.6597,2,     -999.0,9,     -999.0,1,-999.0000, -999.00,-999.000