BOTTLE,20220817CCHSIOAMB
EXPOCODE,SECT_ID,STNNBR,CASTNO,SAMPNO,BTLNBR,BTLNBR_FLAG_W,DATE,TIME,LATITUDE,LONGITUDE,DEPTH,CTDPRS,CTDTMP,CTDSAL,CTDSAL_FLAG_W,SALNTY,SALNTY_FLAG_W,CTDOXY,CTDOXY_FLAG_W,OXYGEN,OXYGEN_FLAG_W,SILCAT,SILCAT_FLAG_W,NITRAT,NITRAT_FLAG_W,NITRIT,NITRIT_FLAG_W,PHSPHT,PHSPHT_FLAG_W,CFC-11,CFC-11_FLAG_W,CFC-12,CFC-12_FLAG_W,CFC113,CFC113_FLAG_W,SF6,SF6_FLAG_W,TCARBN,TCARBN_FLAG_W,ALKALI,ALKALI_FLAG_W,PH_TOT,PH_TOT_FLAG_W,PH_TMP,TRITUM,TRITUM_FLAG_W,HELIUM,HELIUM_FLAG_W,DELHE3,DELHE3_FLAG_W,DELC13,DELC13_FLAG_W,DELC14,DELC14_FLAG_W,C14ERR,NEON,NEON_FLAG_W,NEONER,I-129,I-129_FLAG_W,SR-90,SR-90_FLAG_W,DOC,DOC_FLAG_W,TDN,TDN_FLAG_W,CALCIUM,CALCIUM_FLAG_W,D15N_NO3,D15N_NO3_FLAG_W,BTL_DATE,BTL_TIME,BTL_LAT,BTL_LON,SALTREF,SALTREF_FLAG_W,CS-137,CS-137_FLAG_W,CS-134,CS-134_FLAG_W,REFTMP,REFTMP_FLAG_W,LAB_DEN,LAB_DEN_FLAG_W,D18O_NO3,D18O_NO3_FLAG_W,HELIER,DELHER,TRITER
,,,,,,,,,,,METERS,DBAR,ITS-90,PSS-78,,PSS-78,,UMOL/KG,,UMOL/KG,,UMOL/KG,,UMOL/KG,,UMOL/KG,,UMOL/KG,,PMOL/KG,,PMOL/KG,,PMOL/KG,,FMOL/KG,,UMOL/KG,,UMOL/KG,,,,DEG C,TU,,NMOL/KG,,PERCNT,,/MILLE,,/MILLE,,/MILLE,NMOL/KG,,NMOL/KG,BQ/M^3,,DM/.1MG,,UMOL/KG,,UMOL/KG,,MMOL/KG,,/MILLE,,,,,,G/KG,,BQ/M^3,,BQ/M^3,,ITS-90,,,,/MILLE,,NMOL/KG,PERCNT,TU
318M20130321,       P02E,     122,          1,         36,         36,2,20130523,       0702,    29.9996,  -137.9731,       4661,     3.6,  18.8522,  34.5073,2,   34.505,2,    238.3,2,   238.1,2,    2.54,2,       0,2,       0,2,    0.04,2,   2.177,2,   1.315,2,-999.000,1,   1.5614,2,    2031,2, 2276.91,2,   7.9594,2,       25,-999.000,9,-999.0000,9, -999.00,9, -999.00,9,  -999.0,9,  -999.0,-999.000,9,-999.000,     -999.0,9, -999.00,9, -999.00,9, -999.00,9,     -999.0,9,  -999.0,9, 20130523,      856,  29.9999,-137.9738,    34.6677,2,     -999.0,9,     -999.0,9,    18.8495,2,     -999.0,9,     -999.0,9,-999.0000, -999.00,-999.000
318M20130321,       P02E,     122,          1,         34,         34,2,20130523,       0702,    29.9996,  -137.9731,       4661,      20,  18.8512,  34.5079,2,  34.5074,2,    238.4,2,   237.8,2,    2.64,2,       0,2,       0,2,    0.05,2,-999.000,9,-999.000,9,-999.000,9,-999.0000,9,  2032.4,2, 2278.71,2,   7.9605,6,       25,-999.000,9,-999.0000,9, -999.00,9, -999.00,9,  -999.0,9,  -999.0,-999.000,9,-999.000,     -999.0,9, -999.00,9, -999.00,9, -999.00,9,     -999.0,9,  -999.0,9, 20130523,      854,       30,-137.9737,    34.6701,2,     -999.0,9,     -999.0,9,    18.8504,2,     -999.0,9,     -999.0,9,-999.0000, -999.00,-999.000
318M20130321,       P02E,     122,          1,         33,         33,2,20130523,       0702,    29.9996,  -137.9731,       4661,      40,   18.825,  34.5237,2,  34.5115,2,    239.3,2,   238.6,2,    2.54,2,       0,2,       0,2,    0.06,2,   2.199,2,   1.319,2,-999.000,1,   1.5675,2,  2031.7,2, 2278.31,6,   7.9599,2,       25,-999.000,9,-999.0000,9, -999.00,9, -999.00,9,  -999.0,9,  -999.0,-999.000,9,-999.000,     -999.0,9, -999.00,9, -999.00,9, -999.00,9,     -999.0,9,  -999.0,9, 20130523,      853,  30.0001,-137.9735,    34.6743,2,     -999.0,9,     -999.0,9,    18.8312,2,     -999.0,9,     -999.0,9,-999.0000, -999.00,-999.000
318M20130321,       P02E,     122,          1,         32,         32,2,20130523,       0702,    29.9996,  -137.9731,       4661,    65.9,   16.962,  34.1949,2,  34.2041,2,    247.4,2,   246.7,2,    2.44,2,       0,2,       0,2,     0.1,2,-999.000,9,-999.000,9,-999.000,9,-999.0000,9,  2023.8,2,    2262,2,   7.9482,2,       25,-999.000,9,-999.0000,9, -999.00,9, -999.00,9,  -999.0,9,  -999.0,-999.000,9,-999.000,     -999.0,9, -999.00,9, -999.00,9, -999.00,9,     -999.0,9,  -999.0,9, 20130523,      851,  30.0002,-137.9734,    34.3653,2,     -999.0,9,     -999.0,9,    17.0148,3,     -999.0,9,     -999.0,9,-999.0000, -999.00,-999.000
318M20130321,       P02E,     122,          1,         31,         31,2,20130523,       0702,    29.9996,  -137.9731,       4661,    90.7,  17.1508,  34.3948,2,   34.383,2,    244.8,2,     242,2,    2.64,2,       0,2,       0,2,    0.07,2,   2.313,2,   1.390,2,-999.000,1,   1.5374,2,  -999.0,9, -999.00,9,-999.0000,9,  -999.00,-999.000,9,-999.0000,9, -999.00,9, -999.00,9,  -999.0,9,  -999.0,-999.000,9,-999.000,     -999.0,9, -999.00,9, -999.00,9, -999.00,9,     -999.0,9,  -999.0,9, 20130523,      849,  30.0002,-137.9734,    34.5451,2,     -999.0,9,     -999.0,9,    17.1119,3,     -999.0,9,     -999.0,9,-999.0000, -999.00,-999.000
318M20130321,       P02E,     122,          1,         30,         30,2,20130523,       0702,    29.9996,  -137.9731,       4661,   135.4,  16.4386,  34.3768,2,  34.3949,3,    235.1,2,   234.9,2,    3.03,2,    0.26,2,    0.12,2,    0.12,2,-999.000,9,-999.000,9,-999.000,9,-999.0000,9,  2034.2,2, 2269.71,2,   7.9356,2,       25,-999.000,9,-999.0000,9, -999.00,9, -999.00,9,  -999.0,9,  -999.0,-999.000,9,-999.000,     -999.0,9, -999.00,9, -999.00,9, -999.00,9,     -999.0,9,  -999.0,9, 20130523,      847,  30.0003,-137.9734,    34.5571,3,     -999.0,9,     -999.0,9,    16.4394,2,     -999.0,9,     -999.0,9,-999.0000, -999.00,-999.000
318M20130321,       P02E,     122,          1,         29,         29,2,20130523,       0702,    29.9996,  -137.9731,       4661,   186.1,  12.6476,  33.9738,2,  33.9732,2,    230.5,2,   223.2,2,    6.64,2,    6.26,2,    0.02,2,    0.53,2,   2.908,2,   1.679,2,-999.000,1,   1.5771,2,  -999.0,9, -999.00,9,-999.0000,9,  -999.00,-999.000,9,-999.0000,9, -999.00,9, -999.00,9,  -999.0,9,  -999.0,-999.000,9,-999.000,     -999.0,9, -999.00,9, -999.00,9, -999.00,9,     -999.0,9,  -999.0,9, 20130523,      845,  30.0004,-137.9735,    34.1334,2,     -999.0,9,     -999.0,9,    12.6517,2,     -999.0,9,     -999.0,9,-999.0000, -999.00,-999.000
318M20130321,       P02E,     122,          1,         27,         27,2,20130523,       0702,    29.9996,  -137.9731,       4661,   235.9,  10.9874,  34.0019,2,   34.002,2,      219,2,   220.4,2,   11.13,2,   11.35,2,    0.01,2,    0.83,2,-999.000,9,-999.000,9,-999.000,9,-999.0000,9,  2087.5,2,  2244.7,2,   7.7773,6,       25,-999.000,9,-999.0000,9, -999.00,9, -999.00,9,  -999.0,9,  -999.0,-999.000,9,-999.000,     -999.0,9, -999.00,9, -999.00,9, -999.00,9,     -999.0,9,  -999.0,9, 20130523,      843,  30.0003,-137.9735,    34.1623,2,     -999.0,9,     -999.0,9,    10.9851,2,     -999.0,9,     -999.0,9,-999.0000, -999.00,-999.000
318M20130321,       P02E,     122,          1,         26,         26,2,20130523,       0702,    29.9996,  -137.9731,       4661,   288.3,   9.9166,  34.0286,2,  34.0292,2,    211.9,2,   210.6,2,   16.99,2,   15.38,2,    0.01,2,    1.08,2,   3.242,2,   1.808,2,-999.000,1,    1.418,2,  -999.0,9, -999.00,9,-999.0000,9,  -999.00,-999.000,9,-999.0000,9, -999.00,9, -999.00,9,  -999.0,9,  -999.0,-999.000,9,-999.000,     -999.0,9, -999.00,9, -999.00,9, -999.00,9,     -999.0,9,  -999.0,9, 20130523,      841,  30.0003,-137.9733,    34.1897,2,     -999.0,9,     -999.0,9,     9.9155,2,     -999.0,9,     -999.0,9,-999.0000, -999.00,-999.000
318M20130321,       P02E,     122,          1,         25,         25,2,20130523,       0702,    29.9996,  -137.9731,       4661,     337,   8.8444,  34.0195,2,  34.0183,2,    185.6,2,   185.2,2,   25.29,2,   20.26,2,       0,2,    1.44,2,-999.000,9,-999.000,9,-999.000,9,-999.0000,9,  2145.8,2,  2258.1,2,    7.662,2,       25,-999.000,9,-999.0000,9, -999.00,9, -999.00,9,  -999.0,9,  -999.0,-999.000,9,-999.000,     -999.0,9, -999.00,9, -999.00,9, -999.00,9,     -999.0,9,  -999.0,9, 20130523,      840,  30.0002,-137.9732,    34.1787,2,     -999.0,9,     -999.0,9,     8.8415,2,     -999.0,9,     -999.0,9,-999.0000, -999.00,-999.000
318M20130321,       P02E,     122,          1,         24,         24,2,20130523,       0702,    29.9996,  -137.9731,       4661,   386.5,   8.0651,  33.9989,2,  33.9991,2,    165.4,2,   164.2,2,   32.62,2,   23.86,2,       0,2,     1.7,2,   3.066,2,   1.621,2,-999.000,1,   1.0018,2,  -999.0,9, -999.00,9,-999.0000,9,  -999.00,-999.000,9,-999.0000,9, -999.00,9, -999.00,9,  -999.0,9,  -999.0,-999.000,9,-999.000,     -999.0,9, -999.00,9, -999.00,9, -999.00,9,     -999.0,9,  -999.0,9, 20130523,      838,  30.0001, -137.973,    34.1595,2,     -999.0,9,     -999.0,9,      8.058,2,     -999.0,9,     -999.0,9,-999.0000, -999.00,-999.000
318M20130321,       P02E,     122,          1,         23,         23,2,20130523,       0702,    29.9996,  -137.9731,       4661,   464.9,   6.6949,  33.9869,2,  33.9859,2,    116.9,2,   118.3,2,   50.49,2,   30.84,2,       0,2,     2.2,2,-999.000,9,-999.000,9,-999.000,9,-999.0000,9,  2223.2,2, 2275.51,2,   7.4895,2,       25,-999.000,9,-999.0000,9, -999.00,9, -999.00,9,  -999.0,9,  -999.0,-999.000,9,-999.000,     -999.0,9, -999.00,9, -999.00,9, -999.00,9,     -999.0,9,  -999.0,9, 20130523,      835,  29.9998,-137.9729,    34.1461,2,     -999.0,9,     -999.0,9,     6.6987,2,     -999.0,9,     -999.0,9,-999.0000, -999.00,-999.000
318M20130321,       P02E,     122,          1,         22,         22,2,20130523,       0702,    29.9996,  -137.9731,       4661,   567.5,   5.4165,  34.0481,2,  34.0472,2,     59.5,2,    60.3,2,   73.63,2,   38.25,2,       0,2,    2.76,2,   1.369,2,   0.664,2,-999.000,1,   0.2543,2,    2285,2, 2296.52,2,   7.3531,2,       25,-999.000,9,-999.0000,9, -999.00,9, -999.00,9,  -999.0,9,  -999.0,-999.000,9,-999.000,     -999.0,9, -999.00,9, -999.00,9, -999.00,9,     -999.0,9,  -999.0,9, 20130523,      833,  29.9996, -137.973,    34.2078,2,     -999.0,9,     -999.0,9,     5.4168,2,     -999.0,9,     -999.0,9,-999.0000, -999.00,-999.000
318M20130321,       P02E,     122,          1,         21,         21,2,20130523,       0702,    29.9996,  -137.9731,       4661,   669.1,   4.9221,  34.1499,2,  34.1487,2,     30.7,2,    31.1,2,   88.27,2,   41.22,2,       0,2,       3,2,-999.000,9,-999.000,9,-999.000,9,-999.0000,9,  2317.2,2, 2315.32,2,   7.3069,2,       25,-999.000,9,-999.0000,9, -999.00,9, -999.00,9,  -999.0,9,  -999.0,-999.000,9,-999.000,     -999.0,9, -999.00,9, -999.00,9, -999.00,9,     -999.0,9,  -999.0,9, 20130523,      830,  29.9996,-137.9734,    34.3098,2,     -999.0,9,     -999.0,9,     4.9209,2,     -999.0,9,     -999.0,9,-999.0000, -999.00,-999.000
318M20130321,       P02E,     122,          1,         20,         20,2,20130523,       0702,    29.9996,  -137.9731,       4661,   771.1,   4.4386,  34.2479,2,  34.2456,2,     16.4,2,      16,2,  103.11,2,   43.05,2,       0,2,    3.15,2,   0.160,2,   0.083,2,-999.000,1,        0,2,  2343.2,2, 2335.23,2,   7.2873,2,       25,-999.000,9,-999.0000,9, -999.00,9, -999.00,9,  -999.0,9,  -999.0,-999.000,9,-999.000,     -999.0,9, -999.00,9, -999.00,9, -999.00,9,     -999.0,9,  -999.0,9, 20130523,      827,  29.9998,-137.9734,    34.4071,2,     -999.0,9,     -999.0,9,     4.4315,2,     -999.0,9,     -999.0,9,-999.0000, -999.00,-999.000
318M20130321,       P02E,     122,          1,         19,         19,2,20130523,       0702,    29.9996,  -137.9731,       4661,   872.2,   4.1029,  34.3428,2,   34.341,2,       14,2,    13.5,2,  113.06,2,    43.7,2,       0,2,     3.2,2,-999.000,9,-999.000,9,-999.000,9,-999.0000,9,  2356.1,2, 2351.24,2,   7.2955,6,       25,-999.000,9,-999.0000,9, -999.00,9, -999.00,9,  -999.0,9,  -999.0,-999.000,9,-999.000,     -999.0,9, -999.00,9, -999.00,9, -999.00,9,     -999.0,9,  -999.0,9, 20130523,      824,       30,-137.9734,    34.5029,2,     -999.0,9,     -999.0,9,     4.1024,2,     -999.0,9,     -999.0,9,-999.0000, -999.00,-999.000
318M20130321,       P02E,     122,          1,         18,         18,2,20130523,       0702,    29.9996,  -137.9731,       4661,   973.8,   3.8059,  34.4043,2,  34.4032,2,       17,2,    16.8,2,  121.06,2,   43.88,2,       0,2,     3.2,2,   0.018,2,   0.012,2,-999.000,1,        0,2,  2365.1,2, 2365.44,2,   7.3094,2,       25,-999.000,9,-999.0000,9, -999.00,9, -999.00,9,  -999.0,9,  -999.0,-999.000,9,-999.000,     -999.0,9, -999.00,9, -999.00,9, -999.00,9,     -999.0,9,  -999.0,9, 20130523,      822,  30.0001,-137.9736,    34.5654,2,     -999.0,9,     -999.0,9,     3.8064,2,     -999.0,9,     -999.0,9,-999.0000, -999.00,-999.000
318M20130321,       P02E,     122,          1,         17,         17,2,20130523,       0702,    29.9996,  -137.9731,       4661,  1072.3,   3.5462,  34.4536,2,  34.4528,2,       24,2,    24.1,2,  126.72,2,   43.76,2,       0,2,    3.19,2,-999.000,9,-999.000,9,-999.000,9,-999.0000,9,  -999.0,9, -999.00,9,-999.0000,9,  -999.00,-999.000,9,-999.0000,9, -999.00,9, -999.00,9,  -999.0,9,  -999.0,-999.000,9,-999.000,     -999.0,9, -999.00,9, -999.00,9, -999.00,9,     -999.0,9,  -999.0,9, 20130523,      819,       30,-137.9738,    34.6153,2,     -999.0,9,     -999.0,9,     3.5464,2,     -999.0,9,     -999.0,9,-999.0000, -999.00,-999.000
318M20130321,       P02E,     122,          1,         16,         16,2,20130523,       0702,    29.9996,  -137.9731,       4661,  1172.3,   3.3203,  34.4882,2,  34.4876,2,       31,2,    31.8,2,  132.28,2,   43.52,2,       0,2,    3.14,2,   0.010,2,   0.007,2,-999.000,1,        0,2,  2370.6,2, 2382.65,2,   7.3453,2,       25,-999.000,9,-999.0000,9, -999.00,9, -999.00,9,  -999.0,9,  -999.0,-999.000,9,-999.000,     -999.0,9, -999.00,9, -999.00,9, -999.00,9,     -999.0,9,  -999.0,9, 20130523,      816,       30,-137.9736,    34.6502,2,     -999.0,9,     -999.0,9,     3.3202,2,     -999.0,9,     -999.0,9,-999.0000, -999.00,-999.000
318M20130321,       P02E,     122,          1,         15,         15,2,20130523,       0702,    29.9996,  -137.9731,       4661,    1275,   3.0901,  34.5168,2,  34.5161,2,     38.1,2,    38.1,2,  137.64,2,   43.25,2,       0,2,    3.12,2,-999.000,9,-999.000,9,-999.000,9,-999.0000,9,  -999.0,9, -999.00,9,-999.0000,9,  -999.00,-999.000,9,-999.0000,9, -999.00,9, -999.00,9,  -999.0,9,  -999.0,-999.000,9,-999.000,     -999.0,9, -999.00,9, -999.00,9, -999.00,9,     -999.0,9,  -999.0,9, 20130523,      813,  29.9998,-137.9731,    34.6788,2,     -999.0,9,     -999.0,9,     3.0904,2,     -999.0,9,     -999.0,9,-999.0000, -999.00,-999.000
318M20130321,       P02E,     122,          1,         14,         14,2,20130523,       0702,    29.9996,  -137.9731,       4661,  1376.5,   2.8895,  34.5386,2,  34.5377,2,     45.9,2,    46.2,2,  142.42,2,   42.84,2,       0,2,    3.07,2,   0.008,2,   0.005,2,-999.000,1,        0,2,  2372.7,2, 2395.75,2,   7.3743,2,       25,-999.000,9,-999.0000,9, -999.00,9, -999.00,9,  -999.0,9,  -999.0,-999.000,9,-999.000,     -999.0,9, -999.00,9, -999.00,9, -999.00,9,     -999.0,9,  -999.0,9, 20130523,      811,  29.9998, -137.973,    34.7006,2,     -999.0,9,     -999.0,9,     2.8888,2,     -999.0,9,     -999.0,9,-999.0000, -999.00,-999.000
318M20130321,       P02E,     122,          1,         13,         13,2,20130523,       0702,    29.9996,  -137.9731,       4661,    1549,   2.5895,  34.5681,2,  34.5672,2,     57.1,2,    56.5,2,  149.35,2,   42.25,2,       0,2,    3.02,2,-999.000,9,-999.000,9,-999.000,9,-999.0000,9,  2373.3,2, 2403.35,2,    7.397,2,       25,-999.000,9,-999.0000,9, -999.00,9, -999.00,9,  -999.0,9,  -999.0,-999.000,9,-999.000,     -999.0,9, -999.00,9, -999.00,9, -999.00,9,     -999.0,9,  -999.0,9, 20130523,      807,  29.9998,-137.9727,    34.7302,2,     -999.0,9,     -999.0,9,     2.5898,2,     -999.0,9,     -999.0,9,-999.0000, -999.00,-999.000
318M20130321,       P02E,     122,          1,         12,         12,2,20130523,       0702,    29.9996,  -137.9731,       4661,    1753,   2.2625,  34.5965,2,  34.5957,2,     68.9,2,    68.5,2,  157.35,2,   41.52,2,       0,2,    2.97,2,   0.004,2,   0.003,2,-999.000,1,        0,2,  2373.8,6, 2411.76,2,   7.4204,2,       25,-999.000,9,-999.0000,9, -999.00,9, -999.00,9,  -999.0,9,  -999.0,-999.000,9,-999.000,     -999.0,9, -999.00,9, -999.00,9, -999.00,9,     -999.0,9,  -999.0,9, 20130523,      802,       30,-137.9724,    34.7588,2,     -999.0,9,     -999.0,9,     2.2634,2,     -999.0,9,     -999.0,9,-999.0000, -999.00,-999.000
318M20130321,       P02E,     122,          1,         11,         11,2,20130523,       0702,    29.9996,  -137.9731,       4661,  1955.2,   2.0289,  34.6163,2,  34.6159,2,     78.3,2,    78.4,2,   163.5,2,   40.89,2,       0,2,     2.9,2,-999.000,9,-999.000,9,-999.000,9,-999.0000,9,  2372.5,2, 2416.36,2,   7.4403,6,       25,-999.000,9,-999.0000,9, -999.00,9, -999.00,9,  -999.0,9,  -999.0,-999.000,9,-999.000,     -999.0,9, -999.00,9, -999.00,9, -999.00,9,     -999.0,9,  -999.0,9, 20130523,      758,  30.0001,-137.9729,    34.7791,2,     -999.0,9,     -999.0,9,     2.0288,2,     -999.0,9,     -999.0,9,-999.0000, -999.00,-999.000
318M20130321,       P02E,     122,          1,         10,         10,2,20130523,       0702,    29.9996,  -137.9731,       4661,  2189.2,   1.8672,  34.6327,2,  34.6328,2,     88.5,2,    88.8,2,  167.11,2,   40.22,2,       0,2,    2.85,2,   0.004,2,   0.004,2,-999.000,1,        0,2,  2368.8,2, 2421.06,2,   7.4625,2,       25,-999.000,9,-999.0000,9, -999.00,9, -999.00,9,  -999.0,9,  -999.0,-999.000,9,-999.000,     -999.0,9, -999.00,9, -999.00,9, -999.00,9,     -999.0,9,  -999.0,9, 20130523,      753,  29.9998,-137.9731,    34.7961,2,     -999.0,9,     -999.0,9,      1.868,2,     -999.0,9,     -999.0,9,-999.0000, -999.00,-999.000
318M20130321,       P02E,     122,          1,          9,          9,2,20130523,       0702,    29.9996,  -137.9731,       4661,  2443.7,    1.735,  34.6463,2,   34.646,2,    100.7,2,   100.8,2,  168.28,2,   39.47,2,       0,2,     2.8,2,-999.000,9,-999.000,9,-999.000,9,-999.0000,9,  -999.0,9, -999.00,9,-999.0000,9,  -999.00,-999.000,9,-999.0000,9, -999.00,9, -999.00,9,  -999.0,9,  -999.0,-999.000,9,-999.000,     -999.0,9, -999.00,9, -999.00,9, -999.00,9,     -999.0,9,  -999.0,9, 20130523,      748,  29.9999,-137.9734,    34.8094,2,     -999.0,9,     -999.0,9,     1.7344,2,     -999.0,9,     -999.0,9,-999.0000, -999.00,-999.000
318M20130321,       P02E,     122,          1,          8,          8,2,20130523,       0702,    29.9996,  -137.9731,       4661,  2699.1,   1.6357,  34.6568,2,  34.6564,2,    109.2,2,   110.9,2,  168.28,2,   38.89,2,       0,2,    2.72,2,   0.010,2,   0.008,2,-999.000,1,        0,2,  -999.0,9, -999.00,9,-999.0000,9,  -999.00,-999.000,9,-999.0000,9, -999.00,9, -999.00,9,  -999.0,9,  -999.0,-999.000,9,-999.000,     -999.0,9, -999.00,9, -999.00,9, -999.00,9,     -999.0,9,  -999.0,9, 20130523,      743,  29.9998,-137.9734,    34.8198,2,     -999.0,9,     -999.0,9,     1.6355,2,     -999.0,9,     -999.0,9,-999.0000, -999.00,-999.000
318M20130321,       P02E,     122,          1,          7,          7,2,20130523,       0702,    29.9996,  -137.9731,       4661,  2954.6,   1.5823,  34.6637,2,  34.6629,2,    118.8,2,     118,2,   167.4,2,   38.41,2,       0,2,    2.68,2,   0.004,2,   0.003,2,-999.000,1,        0,2,  2354.6,2, 2426.46,6,    7.515,2,       25,-999.000,9,-999.0000,9, -999.00,9, -999.00,9,  -999.0,9,  -999.0,-999.000,9,-999.000,     -999.0,9, -999.00,9, -999.00,9, -999.00,9,     -999.0,9,  -999.0,9, 20130523,      737,  29.9997,-137.9731,    34.8263,2,     -999.0,9,     -999.0,9,     1.5823,2,     -999.0,9,     -999.0,9,-999.0000, -999.00,-999.000
318M20130321,       P02E,     122,          1,          6,          6,2,20130523,       0702,    29.9996,  -137.9731,       4661,  3243.1,   1.5282,   34.671,2,  34.6708,2,    126.9,2,   126.6,2,  166.03,2,   37.82,2,       0,2,    2.65,2,-999.000,9,-999.000,9,-999.000,9,-999.0000,9,  -999.0,9, -999.00,9,-999.0000,9,  -999.00,-999.000,9,-999.0000,9, -999.00,9, -999.00,9,  -999.0,9,  -999.0,-999.000,9,-999.000,     -999.0,9, -999.00,9, -999.00,9, -999.00,9,     -999.0,9,  -999.0,9, 20130523,      731,       30,-137.9725,    34.8342,2,     -999.0,9,     -999.0,9,      1.528,2,     -999.0,9,     -999.0,9,-999.0000, -999.00,-999.000