BOTTLE,20220817CCHSIOAMB
EXPOCODE,SECT_ID,STNNBR,CASTNO,SAMPNO,BTLNBR,BTLNBR_FLAG_W,DATE,TIME,LATITUDE,LONGITUDE,DEPTH,CTDPRS,CTDTMP,CTDSAL,CTDSAL_FLAG_W,SALNTY,SALNTY_FLAG_W,CTDOXY,CTDOXY_FLAG_W,OXYGEN,OXYGEN_FLAG_W,SILCAT,SILCAT_FLAG_W,NITRAT,NITRAT_FLAG_W,NITRIT,NITRIT_FLAG_W,PHSPHT,PHSPHT_FLAG_W,CFC-11,CFC-11_FLAG_W,CFC-12,CFC-12_FLAG_W,CFC113,CFC113_FLAG_W,SF6,SF6_FLAG_W,TCARBN,TCARBN_FLAG_W,ALKALI,ALKALI_FLAG_W,PH_TOT,PH_TOT_FLAG_W,PH_TMP,TRITUM,TRITUM_FLAG_W,HELIUM,HELIUM_FLAG_W,DELHE3,DELHE3_FLAG_W,DELC13,DELC13_FLAG_W,DELC14,DELC14_FLAG_W,C14ERR,NEON,NEON_FLAG_W,NEONER,I-129,I-129_FLAG_W,SR-90,SR-90_FLAG_W,DOC,DOC_FLAG_W,TDN,TDN_FLAG_W,CALCIUM,CALCIUM_FLAG_W,D15N_NO3,D15N_NO3_FLAG_W,BTL_DATE,BTL_TIME,BTL_LAT,BTL_LON,SALTREF,SALTREF_FLAG_W,CS-137,CS-137_FLAG_W,CS-134,CS-134_FLAG_W,REFTMP,REFTMP_FLAG_W,LAB_DEN,LAB_DEN_FLAG_W,D18O_NO3,D18O_NO3_FLAG_W,HELIER,DELHER,TRITER
,,,,,,,,,,,METERS,DBAR,ITS-90,PSS-78,,PSS-78,,UMOL/KG,,UMOL/KG,,UMOL/KG,,UMOL/KG,,UMOL/KG,,UMOL/KG,,PMOL/KG,,PMOL/KG,,PMOL/KG,,FMOL/KG,,UMOL/KG,,UMOL/KG,,,,DEG C,TU,,NMOL/KG,,PERCNT,,/MILLE,,/MILLE,,/MILLE,NMOL/KG,,NMOL/KG,BQ/M^3,,DM/.1MG,,UMOL/KG,,UMOL/KG,,MMOL/KG,,/MILLE,,,,,,G/KG,,BQ/M^3,,BQ/M^3,,ITS-90,,,,/MILLE,,NMOL/KG,PERCNT,TU
318M20130321,       P02E,      95,          1,          6,          6,2,20130514,       1111,    30.0007,  -159.4512,       5764,    4331,   1.4833,  34.6858,2,  34.6852,2,    149.5,2,   149.6,2,  155.29,2,   36.09,2,       0,2,    2.52,2,   0.008,2,   0.003,2,-999.000,5,   0.0392,2,  -999.0,9, -999.00,9,-999.0000,9,  -999.00,-999.000,9,-999.0000,9, -999.00,9, -999.00,9,  -999.0,9,  -999.0,-999.000,9,-999.000,     -999.0,9, -999.00,9, -999.00,9, -999.00,9,     -999.0,1,  -999.0,1, 20130514,     1148,  29.9995,  -159.45,    34.8487,2,     -999.0,9,     -999.0,9,     1.4831,2,     -999.0,9,     -999.0,1,-999.0000, -999.00,-999.000
318M20130321,       P02E,      95,          1,          5,         37,2,20130514,       1111,    30.0007,  -159.4512,       5764,  4739.9,   1.5016,  34.6889,2,  34.6885,2,    154.8,2,   154.6,2,  151.68,2,   35.76,2,       0,2,    2.49,2,   0.007,2,   0.003,2,-999.000,5,        0,2,  2325.1,2, 2418.86,6,   7.5776,2,       25,-999.000,9,-999.0000,9, -999.00,9, -999.00,9,  -999.0,9,  -999.0,-999.000,9,-999.000,     -999.0,9, -999.00,9,   35.01,2, -999.00,9,     -999.0,9,  -999.0,1, 20130514,     1139,  29.9996,-159.4502,    34.8521,2,     -999.0,9,     -999.0,9,     1.5014,2,     -999.0,9,     -999.0,1,-999.0000, -999.00,-999.000
318M20130321,       P02E,      95,          1,          4,          4,2,20130514,       1111,    30.0007,  -159.4512,       5764,  5154.6,   1.5372,  34.6906,2,  34.6899,2,    156.6,2,     184,4,  148.65,2,   35.49,2,       0,2,    2.47,2,   0.007,2,   0.004,2,-999.000,5,        0,2,  -999.0,9, -999.00,9,-999.0000,9,  -999.00,-999.000,9,-999.0000,9, -999.00,9, -999.00,9,  -999.0,9,  -999.0,-999.000,9,-999.000,     -999.0,9, -999.00,9,   34.16,2, -999.00,9,     -999.0,9,  -999.0,1, 20130514,     1131,  29.9999,-159.4509,    34.8534,2,     -999.0,9,     -999.0,9,     1.5371,2,     -999.0,9,     -999.0,1,-999.0000, -999.00,-999.000
318M20130321,       P02E,      95,          1,          3,          3,2,20130514,       1111,    30.0007,  -159.4512,       5764,    5517,   1.5832,  34.6907,2,  34.6899,2,    157.5,2,   162.2,4,  148.26,2,   35.42,2,       0,2,    2.46,2,   0.006,2,   0.003,2,-999.000,5,   0.0274,2,    2321,2, 2416.56,2,   7.5823,6,       25,-999.000,9,-999.0000,9, -999.00,9, -999.00,9,  -999.0,9,  -999.0,-999.000,9,-999.000,     -999.0,9, -999.00,9,   34.87,2, -999.00,9,     -999.0,9,  -999.0,1, 20130514,     1122,       30,-159.4511,    34.8534,2,     -999.0,9,     -999.0,9,      1.584,2,     -999.0,9,     -999.0,1,-999.0000, -999.00,-999.000
318M20130321,       P02E,      95,          1,          2,          2,2,20130514,       1111,    30.0007,  -159.4512,       5764,  5861.2,   1.6288,  34.6907,2,  34.6903,2,    158.7,2,   160.3,4,  147.87,2,   35.34,2,       0,2,    2.46,2,-999.000,9,-999.000,9,-999.000,9,-999.0000,9,  2321.9,6, 2415.16,2,    7.581,2,       25,-999.000,9,-999.0000,9, -999.00,9, -999.00,9,  -999.0,9,  -999.0,-999.000,9,-999.000,     -999.0,9, -999.00,9,   34.64,2, -999.00,9,     -999.0,1,  -999.0,1, 20130514,     1111,  30.0007,-159.4513,    34.8538,2,     -999.0,9,     -999.0,9,     1.6284,2,     -999.0,9,     -999.0,1,-999.0000, -999.00,-999.000
318M20130321,       P02E,      95,          1,          1,          1,2,20130514,       1111,    30.0007,  -159.4512,       5764,  5861.2,   1.6287,  34.6908,2,  34.6908,2,    158.7,2,   158.4,2,  147.78,2,   35.29,2,       0,2,    2.46,2,   0.008,2,   0.003,2,-999.000,5,        0,2,  -999.0,9, -999.00,9,-999.0000,9,  -999.00,-999.000,9,-999.0000,9, -999.00,9, -999.00,9,  -999.0,9,  -999.0,-999.000,9,-999.000,     -999.0,9, -999.00,9,   35.43,2, -999.00,9,     -999.0,9,  -999.0,9, 20130514,     1111,  30.0007,-159.4513,    34.8544,2,     -999.0,9,     -999.0,9,     1.6286,2,     -999.0,9,     -999.0,9,-999.0000, -999.00,-999.000