BOTTLE,20220817CCHSIOAMB
EXPOCODE,SECT_ID,STNNBR,CASTNO,SAMPNO,BTLNBR,BTLNBR_FLAG_W,DATE,TIME,LATITUDE,LONGITUDE,DEPTH,CTDPRS,CTDTMP,CTDSAL,CTDSAL_FLAG_W,SALNTY,SALNTY_FLAG_W,CTDOXY,CTDOXY_FLAG_W,OXYGEN,OXYGEN_FLAG_W,SILCAT,SILCAT_FLAG_W,NITRAT,NITRAT_FLAG_W,NITRIT,NITRIT_FLAG_W,PHSPHT,PHSPHT_FLAG_W,CFC-11,CFC-11_FLAG_W,CFC-12,CFC-12_FLAG_W,CFC113,CFC113_FLAG_W,SF6,SF6_FLAG_W,TCARBN,TCARBN_FLAG_W,ALKALI,ALKALI_FLAG_W,PH_TOT,PH_TOT_FLAG_W,PH_TMP,TRITUM,TRITUM_FLAG_W,HELIUM,HELIUM_FLAG_W,DELHE3,DELHE3_FLAG_W,DELC13,DELC13_FLAG_W,DELC14,DELC14_FLAG_W,C14ERR,NEON,NEON_FLAG_W,NEONER,I-129,I-129_FLAG_W,SR-90,SR-90_FLAG_W,DOC,DOC_FLAG_W,TDN,TDN_FLAG_W,CALCIUM,CALCIUM_FLAG_W,D15N_NO3,D15N_NO3_FLAG_W,BTL_DATE,BTL_TIME,BTL_LAT,BTL_LON,SALTREF,SALTREF_FLAG_W,CS-137,CS-137_FLAG_W,CS-134,CS-134_FLAG_W,REFTMP,REFTMP_FLAG_W,LAB_DEN,LAB_DEN_FLAG_W,D18O_NO3,D18O_NO3_FLAG_W,HELIER,DELHER,TRITER
,,,,,,,,,,,METERS,DBAR,ITS-90,PSS-78,,PSS-78,,UMOL/KG,,UMOL/KG,,UMOL/KG,,UMOL/KG,,UMOL/KG,,UMOL/KG,,PMOL/KG,,PMOL/KG,,PMOL/KG,,FMOL/KG,,UMOL/KG,,UMOL/KG,,,,DEG C,TU,,NMOL/KG,,PERCNT,,/MILLE,,/MILLE,,/MILLE,NMOL/KG,,NMOL/KG,BQ/M^3,,DM/.1MG,,UMOL/KG,,UMOL/KG,,MMOL/KG,,/MILLE,,,,,,G/KG,,BQ/M^3,,BQ/M^3,,ITS-90,,,,/MILLE,,NMOL/KG,PERCNT,TU
318M20130321,       P02W,      11,          1,         36,         36,2,20130324,       1546,    31.3132,   133.9384,       4588,     3.5,  20.3229,  34.7611,2,  34.7595,2,    225.4,2,   224.9,2,    1.37,2,       0,2,       0,2,    0.03,2,   2.167,2,   1.305,2,   0.178,2,     1.47,2,  1986.9,6, 2281.34,2,   8.0426,2,       25,-999.000,9,-999.0000,9, -999.00,9, -999.00,9,  -999.0,9,  -999.0,-999.000,9,-999.000,     -999.0,9, -999.00,9,   58.44,2,    4.22,2,     -999.0,9,  -999.0,9, 20130324,     1753,  31.3109, 133.9422,    34.9234,2,     -999.0,9,     -999.0,9,     20.328,2,     -999.0,9,     -999.0,9,-999.0000, -999.00,-999.000
318M20130321,       P02W,      11,          1,         35,         35,2,20130324,       1546,    31.3132,   133.9384,       4588,      28,  20.3323,  34.7607,2,  34.7593,2,    225.2,2,   224.9,2,    1.66,2,       0,2,       0,2,    0.03,2,   2.184,2,   1.291,2,   0.174,2,     1.51,2,  1986.4,2, 2279.94,2,   8.0422,6,       25,-999.000,9,-999.0000,9, -999.00,9, -999.00,9,  -999.0,9,  -999.0,-999.000,9,-999.000,     -999.0,9, -999.00,9,   60.37,2,    4.61,2,     -999.0,9,  -999.0,9, 20130324,     1751,   31.311, 133.9422,    34.9232,2,     -999.0,9,     -999.0,9,    20.3322,2,     -999.0,9,     -999.0,9,-999.0000, -999.00,-999.000
318M20130321,       P02W,      11,          1,         34,         34,2,20130324,       1546,    31.3132,   133.9384,       4588,    51.8,  20.3347,  34.7633,2,  34.7644,2,    224.8,2,   224.8,2,    1.46,2,       0,2,       0,2,    0.03,2,   2.173,2,   1.287,2,   0.195,2,     1.51,2,    1987,2, 2280.94,2,   8.0423,2,       25,-999.000,9,-999.0000,9, -999.00,9, -999.00,9,  -999.0,9,  -999.0,-999.000,9,-999.000,     -999.0,9, -999.00,9,   57.81,2,    4.42,2,     -999.0,9,  -999.0,9, 20130324,     1749,  31.3112, 133.9422,    34.9284,2,     -999.0,9,     -999.0,9,    20.3344,2,     -999.0,9,     -999.0,9,-999.0000, -999.00,-999.000
318M20130321,       P02W,      11,          1,         33,         33,2,20130324,       1546,    31.3132,   133.9384,       4588,    76.8,  20.1985,  34.7686,2,  34.7692,2,    221.4,2,   223.4,2,    1.27,2,       0,2,    0.04,2,    0.03,2,   2.161,2,   1.288,2,   0.136,2,     1.47,2,  -999.0,9, -999.00,9,-999.0000,9,  -999.00,-999.000,9,-999.0000,9, -999.00,9, -999.00,9,  -999.0,9,  -999.0,-999.000,9,-999.000,     -999.0,9, -999.00,9,   58.57,2,    4.13,2,     -999.0,9,  -999.0,9, 20130324,     1748,  31.3112, 133.9423,    34.9331,2,     -999.0,9,     -999.0,9,    20.1952,2,     -999.0,9,     -999.0,9,-999.0000, -999.00,-999.000
318M20130321,       P02W,      11,          1,         32,         32,2,20130324,       1546,    31.3132,   133.9384,       4588,     102,  19.9821,  34.7847,2,  34.7819,2,      217,2,   223.9,2,    1.27,2,    0.01,2,    0.09,2,    0.03,2,   2.201,2,   1.313,2,   0.167,2,     1.47,2,  1991.5,2, 2281.54,2,   8.0349,6,       25,-999.000,9,-999.0000,9, -999.00,9, -999.00,9,  -999.0,9,  -999.0,-999.000,9,-999.000,     -999.0,9, -999.00,9,   59.49,2,    4.91,2,     -999.0,9,  -999.0,9, 20130324,     1746,  31.3113, 133.9423,     34.946,2,     -999.0,9,     -999.0,9,    19.9894,2,     -999.0,9,     -999.0,9,-999.0000, -999.00,-999.000
318M20130321,       P02W,      11,          1,         31,         31,2,20130324,       1546,    31.3132,   133.9384,       4588,   154.3,  19.1375,  34.7746,2,  34.7725,2,    222.5,2,   220.7,2,    1.56,2,    0.85,2,    0.04,2,    0.07,2,   2.225,2,   1.330,2,   0.137,2,     1.46,2,  -999.0,9, -999.00,9,-999.0000,9,  -999.00,-999.000,9,-999.0000,9, -999.00,9, -999.00,9,  -999.0,9,  -999.0,-999.000,9,-999.000,     -999.0,9, -999.00,9,   55.79,2,    5.18,2,     -999.0,9,  -999.0,9, 20130324,     1743,  31.3115, 133.9424,    34.9365,2,     -999.0,9,     -999.0,9,    19.1371,2,     -999.0,9,     -999.0,9,-999.0000, -999.00,-999.000
318M20130321,       P02W,      11,          1,         30,         30,2,20130324,       1546,    31.3132,   133.9384,       4588,   203.9,  18.7682,  34.7685,2,  34.7672,2,      222,2,   219.8,2,    1.85,2,    1.27,2,    0.03,2,    0.09,2,-999.000,9,-999.000,9,-999.000,9,-999.0000,9,  2003.1,2, 2283.24,2,   8.0082,2,       25,-999.000,9,-999.0000,9, -999.00,9, -999.00,9,  -999.0,9,  -999.0,-999.000,9,-999.000,     -999.0,9, -999.00,9,   56.26,2,    5.53,2,     -999.0,9,  -999.0,9, 20130324,     1741,  31.3117, 133.9424,    34.9311,2,     -999.0,9,     -999.0,9,    18.7673,2,     -999.0,9,     -999.0,9,-999.0000, -999.00,-999.000
318M20130321,       P02W,      11,          1,         29,         29,2,20130324,       1546,    31.3132,   133.9384,       4588,   252.8,  18.6421,  34.7706,2,  34.7696,2,      222,2,   221.1,2,    1.95,2,    1.36,2,    0.03,2,    0.11,2,   2.257,2,   1.312,2,   0.146,2,     1.53,2,  -999.0,9, -999.00,9,-999.0000,9,  -999.00,-999.000,9,-999.0000,9, -999.00,9, -999.00,9,  -999.0,9,  -999.0,-999.000,9,-999.000,     -999.0,9, -999.00,9,   55.99,2,    5.31,2,     -999.0,9,  -999.0,9, 20130324,     1738,  31.3118, 133.9424,    34.9335,2,     -999.0,9,     -999.0,9,    18.6417,2,     -999.0,9,     -999.0,9,-999.0000, -999.00,-999.000
318M20130321,       P02W,      11,          1,         28,         28,2,20130324,       1546,    31.3132,   133.9384,       4588,   301.1,  18.5598,  34.7699,2,  34.7692,2,    220.3,2,   219.8,2,    2.05,2,    1.54,2,    0.02,2,    0.11,2,-999.000,9,-999.000,9,-999.000,9,-999.0000,9,  2007.8,2, 2279.84,2,   8.0034,2,       25,-999.000,9,-999.0000,9, -999.00,9, -999.00,9,  -999.0,9,  -999.0,-999.000,9,-999.000,     -999.0,9, -999.00,9,   54.79,2,    6.28,2,     -999.0,9,  -999.0,9, 20130324,     1735,  31.3121, 133.9423,    34.9331,2,     -999.0,9,     -999.0,9,    18.5598,2,     -999.0,9,     -999.0,9,-999.0000, -999.00,-999.000
318M20130321,       P02W,      11,          1,         27,         27,2,20130324,       1546,    31.3132,   133.9384,       4588,   351.5,  18.1887,  34.7568,2,  34.7568,2,    208.9,2,   207.3,2,    3.12,2,    3.23,2,    0.01,2,    0.22,2,   2.348,2,   1.414,2,   0.082,2,      1.3,2,  -999.0,9, -999.00,9,-999.0000,9,  -999.00,-999.000,9,-999.0000,9, -999.00,9, -999.00,9,  -999.0,9,  -999.0,-999.000,9,-999.000,     -999.0,9, -999.00,9,   51.48,2, -999.00,9,     -999.0,9,  -999.0,9, 20130324,     1733,  31.3123, 133.9423,    34.9207,2,     -999.0,9,     -999.0,9,    18.1878,2,     -999.0,9,     -999.0,9,-999.0000, -999.00,-999.000
318M20130321,       P02W,      11,          1,         26,         26,2,20130324,       1546,    31.3132,   133.9384,       4588,   402.1,  17.1063,   34.694,2,  34.6935,2,    194.3,2,   194.8,2,    5.08,2,    5.88,2,    0.01,2,     0.4,2,-999.000,9,-999.000,9,-999.000,9,-999.0000,9,  2045.2,2, 2278.04,2,    7.927,2,       25,-999.000,9,-999.0000,9, -999.00,9, -999.00,9,  -999.0,9,  -999.0,-999.000,9,-999.000,     -999.0,9, -999.00,9,   49.06,2, -999.00,9,     -999.0,9,  -999.0,9, 20130324,     1730,  31.3126, 133.9422,    34.8571,2,     -999.0,9,     -999.0,9,    17.0989,2,     -999.0,9,     -999.0,9,-999.0000, -999.00,-999.000
318M20130321,       P02W,      11,          1,         25,         25,2,20130324,       1546,    31.3132,   133.9384,       4588,   452.2,  16.0063,  34.6235,2,  34.6237,2,    188.3,2,   186.8,2,    7.71,2,    8.19,2,    0.01,2,    0.57,2,   2.552,2,   1.432,2,   0.025,2,      1.2,2,  -999.0,9, -999.00,9,-999.0000,9,  -999.00,-999.000,9,-999.0000,9, -999.00,9, -999.00,9,  -999.0,9,  -999.0,-999.000,9,-999.000,     -999.0,9, -999.00,9,    47.2,2, -999.00,9,     -999.0,9,  -999.0,9, 20130324,     1728,  31.3128, 133.9421,     34.787,2,     -999.0,9,     -999.0,9,     16.013,2,     -999.0,9,     -999.0,9,-999.0000, -999.00,-999.000
318M20130321,       P02W,      11,          1,         24,         24,2,20130324,       1546,    31.3132,   133.9384,       4588,   501.9,  14.9506,  34.5528,2,  34.5526,2,    181.1,2,   181.2,2,   10.93,2,    10.3,2,    0.01,2,    0.73,2,-999.000,9,-999.000,9,-999.000,9,-999.0000,9,  2078.5,2, 2273.64,2,   7.8507,2,       25,-999.000,9,-999.0000,9, -999.00,9, -999.00,9,  -999.0,9,  -999.0,-999.000,9,-999.000,     -999.0,9, -999.00,9,   45.29,2, -999.00,9,     -999.0,9,  -999.0,9, 20130324,     1726,  31.3129, 133.9419,    34.7155,2,     -999.0,9,     -999.0,9,    14.9511,2,     -999.0,9,     -999.0,9,-999.0000, -999.00,-999.000
318M20130321,       P02W,      11,          1,         23,         23,2,20130324,       1546,    31.3132,   133.9384,       4588,   602.5,  11.2288,  34.3132,2,  34.3139,2,    165.9,2,     166,2,   24.51,2,   17.66,2,    0.01,2,    1.25,2,   2.647,2,   1.432,2,   0.026,2,     0.85,2,  2132.4,2, 2272.44,2,   7.7274,2,       25,-999.000,9,-999.0000,9, -999.00,9, -999.00,9,  -999.0,9,  -999.0,-999.000,9,-999.000,     -999.0,9, -999.00,9,   43.19,2, -999.00,9,     -999.0,9,  -999.0,9, 20130324,     1723,  31.3132, 133.9418,    34.4757,2,     -999.0,9,     -999.0,9,    11.2289,2,     -999.0,9,     -999.0,9,-999.0000, -999.00,-999.000
318M20130321,       P02W,      11,          1,         22,         38,3,20130324,       1546,    31.3132,   133.9384,       4588,   704.2,    8.713,  34.2284,2,  34.2292,2,    137.7,2,   138.9,2,   46.67,2,   24.57,2,    0.01,2,    1.77,2,-999.000,9,-999.000,9,-999.000,9,-999.0000,9,  -999.0,9, -999.00,9,-999.0000,9,  -999.00,-999.000,9,-999.0000,9, -999.00,9, -999.00,9,  -999.0,9,  -999.0,-999.000,9,-999.000,     -999.0,9, -999.00,9,   43.73,2, -999.00,9,     -999.0,9,  -999.0,9, 20130324,     1720,  31.3135, 133.9417,    34.3906,2,     -999.0,9,     -999.0,9,     8.7127,2,     -999.0,9,     -999.0,9,-999.0000, -999.00,-999.000
318M20130321,       P02W,      11,          1,         21,         21,2,20130324,       1546,    31.3132,   133.9384,       4588,   804.4,   6.8858,  34.2323,2,   34.226,2,    106.9,2,   105.7,2,   68.84,2,   30.82,2,    0.01,2,    2.23,2,   1.511,2,   0.774,2,   0.024,2,     0.11,2,  2240.5,2, 2308.24,2,   7.5165,2,       25,-999.000,9,-999.0000,9, -999.00,9, -999.00,9,  -999.0,9,  -999.0,-999.000,9,-999.000,     -999.0,9, -999.00,9,   42.71,2, -999.00,9,     -999.0,9,  -999.0,9, 20130324,     1717,  31.3137, 133.9416,    34.3874,2,     -999.0,9,     -999.0,9,     6.8999,2,     -999.0,9,     -999.0,9,-999.0000, -999.00,-999.000
318M20130321,       P02W,      11,          1,         20,         20,2,20130324,       1546,    31.3132,   133.9384,       4588,   903.3,   5.5781,  34.2835,2,  34.2855,2,     82.9,2,    84.5,2,   88.16,2,   34.71,2,    0.01,2,     2.5,2,-999.000,9,-999.000,9,-999.000,9,-999.0000,9,  -999.0,9, -999.00,9,-999.0000,9,  -999.00,-999.000,9,-999.0000,9, -999.00,9, -999.00,9,  -999.0,9,  -999.0,-999.000,9,-999.000,     -999.0,9, -999.00,9,   40.29,2, -999.00,9,     -999.0,9,  -999.0,9, 20130324,     1714,  31.3138, 133.9416,    34.4471,2,     -999.0,9,     -999.0,9,      5.576,2,     -999.0,9,     -999.0,9,-999.0000, -999.00,-999.000
318M20130321,       P02W,      11,          1,         19,         19,2,20130324,       1546,    31.3132,   133.9384,       4588,  1004.2,   4.6834,  34.3264,2,   34.327,2,     70.9,2,    71.4,2,   103.1,2,   37.29,2,       0,2,    2.69,2,   0.627,2,   0.308,2,   0.019,2,     0.17,2,  2306.9,2, 2344.75,2,   7.4256,2,       25,-999.000,9,-999.0000,9, -999.00,9, -999.00,9,  -999.0,9,  -999.0,-999.000,9,-999.000,     -999.0,9, -999.00,9,   37.72,2, -999.00,9,     -999.0,9,  -999.0,9, 20130324,     1711,   31.314, 133.9415,    34.4889,2,     -999.0,9,     -999.0,9,     4.6867,2,     -999.0,9,     -999.0,9,-999.0000, -999.00,-999.000
318M20130321,       P02W,      11,          1,         18,         18,2,20130324,       1546,    31.3132,   133.9384,       4588,  1106.8,    4.142,  34.3676,2,   34.368,2,     66.3,2,    67.5,2,  113.06,2,   38.47,2,       0,2,    2.77,2,-999.000,9,-999.000,9,-999.000,9,-999.0000,9,  2320.1,2, 2356.15,2,   7.4123,6,       25,-999.000,9,-999.0000,9, -999.00,9, -999.00,9,  -999.0,9,  -999.0,-999.000,9,-999.000,     -999.0,9, -999.00,9,    36.4,2, -999.00,9,     -999.0,9,  -999.0,9, 20130324,     1708,  31.3141, 133.9415,    34.5301,2,     -999.0,9,     -999.0,9,     4.1419,2,     -999.0,9,     -999.0,9,-999.0000, -999.00,-999.000
318M20130321,       P02W,      11,          1,         17,         17,2,20130324,       1546,    31.3132,   133.9384,       4588,  1209.4,   3.6841,  34.4062,2,  34.4059,2,     64.8,2,    64.6,2,  121.84,2,   39.26,2,       0,2,    2.82,2,   0.295,2,   0.141,2,   0.012,2,     0.12,2,  -999.0,9, -999.00,9,-999.0000,9,  -999.00,-999.000,9,-999.0000,9, -999.00,9, -999.00,9,  -999.0,9,  -999.0,-999.000,9,-999.000,     -999.0,9, -999.00,9,   38.01,2, -999.00,9,     -999.0,9,  -999.0,9, 20130324,     1705,  31.3144, 133.9414,    34.5682,2,     -999.0,9,     -999.0,9,     3.6861,2,     -999.0,9,     -999.0,9,-999.0000, -999.00,-999.000
318M20130321,       P02W,      11,          1,         16,         16,2,20130324,       1546,    31.3132,   133.9384,       4588,    1311,   3.2148,  34.4383,2,  34.4389,2,     63.2,2,    62.9,2,  131.79,2,   40.07,2,       0,2,    2.87,2,-999.000,9,-999.000,9,-999.000,9,-999.0000,9,  2346.5,2, 2376.86,2,   7.3991,2,       25,-999.000,9,-999.0000,9, -999.00,9, -999.00,9,  -999.0,9,  -999.0,-999.000,9,-999.000,     -999.0,9, -999.00,9,   37.63,2, -999.00,9,     -999.0,9,  -999.0,9, 20130324,     1702,  31.3146, 133.9412,    34.6013,2,     -999.0,9,     -999.0,9,     3.2144,2,     -999.0,9,     -999.0,9,-999.0000, -999.00,-999.000
318M20130321,       P02W,      11,          1,         15,         15,2,20130324,       1546,    31.3132,   133.9384,       4588,  1413.1,   2.9805,  34.4631,2,  34.4634,2,       65,2,    63.8,2,  136.77,2,   40.25,2,       0,2,    2.89,2,   0.134,2,   0.071,2,   0.006,2,     0.06,2,  -999.0,9, -999.00,9,-999.0000,9,  -999.00,-999.000,9,-999.0000,9, -999.00,9, -999.00,9,  -999.0,9,  -999.0,-999.000,9,-999.000,     -999.0,9, -999.00,9, -999.00,9, -999.00,9,     -999.0,9,  -999.0,9, 20130324,     1659,  31.3149,  133.941,    34.6259,2,     -999.0,9,     -999.0,9,     2.9815,2,     -999.0,9,     -999.0,9,-999.0000, -999.00,-999.000
318M20130321,       P02W,      11,          1,         14,         14,2,20130324,       1546,    31.3132,   133.9384,       4588,  1513.7,   2.7636,  34.4927,2,  34.4937,2,     69.5,2,    69.4,2,  140.28,2,   40.13,2,       0,2,    2.87,2,-999.000,9,-999.000,9,-999.000,9,-999.0000,9,  2352.7,2, 2387.46,2,    7.412,2,       25,-999.000,9,-999.0000,9, -999.00,9, -999.00,9,  -999.0,9,  -999.0,-999.000,9,-999.000,     -999.0,9, -999.00,9,   36.64,2, -999.00,9,     -999.0,9,  -999.0,9, 20130324,     1656,  31.3152, 133.9408,    34.6563,2,     -999.0,9,     -999.0,9,     2.7643,2,     -999.0,9,     -999.0,9,-999.0000, -999.00,-999.000
318M20130321,       P02W,      11,          1,         13,         13,2,20130324,       1546,    31.3132,   133.9384,       4588,  1612.3,   2.5756,  34.5174,2,  34.5176,2,     74.6,2,    75.9,2,  143.69,2,   40.03,2,       0,2,    2.85,2,   0.079,2,   0.040,2,   0.006,2,     0.05,2,  -999.0,9, -999.00,9,-999.0000,9,  -999.00,-999.000,9,-999.0000,9, -999.00,9, -999.00,9,  -999.0,9,  -999.0,-999.000,9,-999.000,     -999.0,9, -999.00,9, -999.00,9, -999.00,9,     -999.0,9,  -999.0,9, 20130324,     1654,  31.3154, 133.9407,    34.6804,2,     -999.0,9,     -999.0,9,     2.5756,2,     -999.0,9,     -999.0,9,-999.0000, -999.00,-999.000
318M20130321,       P02W,      11,          1,         12,         12,2,20130324,       1546,    31.3132,   133.9384,       4588,  1780.8,   2.3458,  34.5524,2,  34.5524,2,     86.2,2,    85.6,2,  145.35,2,   39.43,2,       0,2,     2.8,2,-999.000,9,-999.000,9,-999.000,9,-999.0000,9,  -999.0,9, -999.00,9,-999.0000,9,  -999.00,-999.000,9,-999.0000,9, -999.00,9, -999.00,9,  -999.0,9,  -999.0,-999.000,9,-999.000,     -999.0,9, -999.00,9,   35.96,2, -999.00,9,     -999.0,9,  -999.0,9, 20130324,     1650,  31.3153, 133.9407,    34.7153,2,     -999.0,9,     -999.0,9,     2.3456,2,     -999.0,9,     -999.0,9,-999.0000, -999.00,-999.000
318M20130321,       P02W,      11,          1,         11,         11,2,20130324,       1546,    31.3132,   133.9384,       4588,  2018.5,   2.1007,  34.5893,2,  34.5907,2,    101.1,2,   101.3,2,  146.13,2,    38.5,2,       0,2,    2.74,2,   0.023,2,   0.020,2,   0.006,2,     0.04,2,  2344.5,2, 2404.36,2,   7.4753,2,       25,-999.000,9,-999.0000,9, -999.00,9, -999.00,9,  -999.0,9,  -999.0,-999.000,9,-999.000,     -999.0,9, -999.00,9, -999.00,9, -999.00,9,     -999.0,9,  -999.0,9, 20130324,     1644,  31.3151, 133.9407,    34.7538,2,     -999.0,9,     -999.0,9,        2.1,2,     -999.0,9,     -999.0,9,-999.0000, -999.00,-999.000
318M20130321,       P02W,      11,          1,         10,         10,2,20130324,       1546,    31.3132,   133.9384,       4588,    2272,   1.9175,  34.6161,2,   34.618,2,    112.7,2,   113.7,2,  146.51,2,   37.82,2,       0,2,    2.68,2,-999.000,9,-999.000,9,-999.000,9,-999.0000,9,  -999.0,9, -999.00,9,-999.0000,9,  -999.00,-999.000,9,-999.0000,9, -999.00,9, -999.00,9,  -999.0,9,  -999.0,-999.000,9,-999.000,     -999.0,9, -999.00,9,   34.43,2, -999.00,9,     -999.0,9,  -999.0,9, 20130324,     1638,  31.3149, 133.9407,    34.7812,2,     -999.0,9,     -999.0,9,     1.9174,2,     -999.0,9,     -999.0,9,-999.0000, -999.00,-999.000
318M20130321,       P02W,      11,          1,          9,          9,2,20130324,       1546,    31.3132,   133.9384,       4588,  2528.1,   1.7799,  34.6369,2,  34.6376,2,    124.5,2,   124.8,2,  146.02,2,   37.19,2,       0,2,    2.63,2,   0.012,2,   0.011,2,   0.011,2,     0.06,2,  2334.7,2, 2409.76,2,   7.5214,2,       25,-999.000,9,-999.0000,9, -999.00,9, -999.00,9,  -999.0,9,  -999.0,-999.000,9,-999.000,     -999.0,9, -999.00,9, -999.00,9, -999.00,9,     -999.0,9,  -999.0,9, 20130324,     1633,  31.3147, 133.9407,     34.801,2,     -999.0,9,     -999.0,9,     1.7799,2,     -999.0,9,     -999.0,9,-999.0000, -999.00,-999.000
318M20130321,       P02W,      11,          1,          8,          8,2,20130324,       1546,    31.3132,   133.9384,       4588,    2783,   1.6757,  34.6528,2,  34.6551,2,    134.6,2,   134.5,2,  144.46,2,   36.41,2,       0,2,    2.59,2,-999.000,9,-999.000,9,-999.000,9,-999.0000,9,  -999.0,9, -999.00,9,-999.0000,9,  -999.00,-999.000,9,-999.0000,9, -999.00,9, -999.00,9,  -999.0,9,  -999.0,-999.000,9,-999.000,     -999.0,9, -999.00,9,   37.54,2, -999.00,9,     -999.0,9,  -999.0,9, 20130324,     1627,  31.3144, 133.9407,    34.8185,2,     -999.0,9,     -999.0,9,     1.6763,2,     -999.0,9,     -999.0,9,-999.0000, -999.00,-999.000