BOTTLE,20220817CCHSIOAMB
EXPOCODE,SECT_ID,STNNBR,CASTNO,SAMPNO,BTLNBR,BTLNBR_FLAG_W,DATE,TIME,LATITUDE,LONGITUDE,DEPTH,CTDPRS,CTDTMP,CTDSAL,CTDSAL_FLAG_W,SALNTY,SALNTY_FLAG_W,CTDOXY,CTDOXY_FLAG_W,OXYGEN,OXYGEN_FLAG_W,SILCAT,SILCAT_FLAG_W,NITRAT,NITRAT_FLAG_W,NITRIT,NITRIT_FLAG_W,PHSPHT,PHSPHT_FLAG_W,CFC-11,CFC-11_FLAG_W,CFC-12,CFC-12_FLAG_W,CFC113,CFC113_FLAG_W,SF6,SF6_FLAG_W,TCARBN,TCARBN_FLAG_W,ALKALI,ALKALI_FLAG_W,PH_TOT,PH_TOT_FLAG_W,PH_TMP,TRITUM,TRITUM_FLAG_W,HELIUM,HELIUM_FLAG_W,DELHE3,DELHE3_FLAG_W,DELC13,DELC13_FLAG_W,DELC14,DELC14_FLAG_W,C14ERR,NEON,NEON_FLAG_W,NEONER,I-129,I-129_FLAG_W,SR-90,SR-90_FLAG_W,DOC,DOC_FLAG_W,TDN,TDN_FLAG_W,CALCIUM,CALCIUM_FLAG_W,D15N_NO3,D15N_NO3_FLAG_W,BTL_DATE,BTL_TIME,BTL_LAT,BTL_LON,SALTREF,SALTREF_FLAG_W,CS-137,CS-137_FLAG_W,CS-134,CS-134_FLAG_W,REFTMP,REFTMP_FLAG_W,LAB_DEN,LAB_DEN_FLAG_W,D18O_NO3,D18O_NO3_FLAG_W,HELIER,DELHER,TRITER
,,,,,,,,,,,METERS,DBAR,ITS-90,PSS-78,,PSS-78,,UMOL/KG,,UMOL/KG,,UMOL/KG,,UMOL/KG,,UMOL/KG,,UMOL/KG,,PMOL/KG,,PMOL/KG,,PMOL/KG,,FMOL/KG,,UMOL/KG,,UMOL/KG,,,,DEG C,TU,,NMOL/KG,,PERCNT,,/MILLE,,/MILLE,,/MILLE,NMOL/KG,,NMOL/KG,BQ/M^3,,DM/.1MG,,UMOL/KG,,UMOL/KG,,MMOL/KG,,/MILLE,,,,,,G/KG,,BQ/M^3,,BQ/M^3,,ITS-90,,,,/MILLE,,NMOL/KG,PERCNT,TU
318M20130321,       P02W,       7,          1,         36,         36,2,20130323,       1801,    31.8805,   133.5805,       2971,    11.2,  22.7566,  34.6761,2,  34.6757,2,    212.9,2,   212.8,2,    1.56,2,    0.03,2,    0.04,2,    0.06,2,   1.896,2,   1.156,2,   0.156,2,-999.0000,5,  1974.1,6, 2284.54,2,   8.0621,2,       25,-999.000,9,-999.0000,9, -999.00,9,    0.81,2,    52.0,2,     2.3,-999.000,9,-999.000,     -999.0,9, -999.00,9,   62.62,2,    5.92,2,     -999.0,9,  -999.0,9, 20130323,     1934,  31.8848, 133.5999,    34.8392,2,     -999.0,9,     -999.0,9,    22.7614,2,     -999.0,9,     -999.0,9,-999.0000, -999.00,-999.000
318M20130321,       P02W,       7,          1,         35,         35,2,20130323,       1801,    31.8805,   133.5805,       2971,      25,  22.7636,  34.6767,2,  34.6763,2,    212.9,2,   212.1,2,    1.27,2,    0.01,2,    0.04,2,    0.06,2,-999.000,9,-999.000,9,-999.000,9,-999.0000,9,  -999.0,5, 2275.54,2,   8.0611,6,       25,-999.000,9,-999.0000,9, -999.00,9, -999.00,9,  -999.0,9,  -999.0,-999.000,9,-999.000,     -999.0,9, -999.00,9,   60.78,2,    5.16,2,     -999.0,9,  -999.0,9, 20130323,     1932,  31.8846,  133.599,    34.8398,2,     -999.0,9,     -999.0,9,    22.7636,2,     -999.0,9,     -999.0,9,-999.0000, -999.00,-999.000
318M20130321,       P02W,       7,          1,         34,         34,2,20130323,       1801,    31.8805,   133.5805,       2971,    45.2,  22.7675,  34.6768,2,  34.6763,2,    213.2,2,   212.7,2,    1.17,2,       0,2,    0.04,2,    0.04,2,   1.936,2,   1.142,2,   0.157,2,-999.0000,5,  1975.6,2, 2275.34,6,   8.0616,2,       25,-999.000,9,-999.0000,9, -999.00,9,    0.83,2,    48.6,2,     2.3,-999.000,9,-999.000,     -999.0,9, -999.00,9,   64.21,2,    4.71,2,     -999.0,9,  -999.0,9, 20130323,     1930,  31.8844, 133.5983,    34.8398,2,     -999.0,9,     -999.0,9,    22.7683,2,     -999.0,9,     -999.0,9,-999.0000, -999.00,-999.000
318M20130321,       P02W,       7,          1,         32,         32,2,20130323,       1801,    31.8805,   133.5805,       2971,    70.1,  22.7735,  34.6767,2,-999.0000,9,      213,2,  -999.0,9, -999.00,9, -999.00,9, -999.00,9, -999.00,9,-999.000,9,-999.000,9,-999.000,9,-999.0000,9,  -999.0,9, -999.00,9,-999.0000,9,  -999.00,-999.000,9,-999.0000,9, -999.00,9, -999.00,9,  -999.0,9,  -999.0,-999.000,9,-999.000,     -999.0,1, -999.00,1, -999.00,9, -999.00,9,     -999.0,9,  -999.0,9, 20130323,     1928,  31.8843, 133.5974,     -999.0,9,     -999.0,1,     -999.0,1,    22.7739,2,     -999.0,9,     -999.0,9,-999.0000, -999.00,-999.000
318M20130321,       P02W,       7,          1,         31,         31,2,20130323,       1801,    31.8805,   133.5805,       2971,    70.2,  22.7745,  34.6767,2,  34.6773,2,    212.4,2,   212.6,2,    1.46,2,       0,2,    0.03,2,    0.04,2,   1.887,2,   1.140,2,   0.143,2,-999.0000,5,  1973.7,2, 2279.64,2,   8.0608,2,       25,-999.000,9,-999.0000,9, -999.00,9, -999.00,9,  -999.0,9,  -999.0,-999.000,9,-999.000,     -999.0,9, -999.00,9,   60.76,2,    5.09,2,     -999.0,9,  -999.0,9, 20130323,     1928,  31.8843, 133.5973,    34.8408,2,     -999.0,9,     -999.0,9,    22.7746,2,     -999.0,9,     -999.0,9,-999.0000, -999.00,-999.000
318M20130321,       P02W,       7,          1,         33,         33,2,20130323,       1801,    31.8805,   133.5805,       2971,    70.4,  22.7744,  34.6766,2,-999.0000,9,    212.4,2,  -999.0,9, -999.00,9, -999.00,9, -999.00,9, -999.00,9,-999.000,9,-999.000,9,-999.000,9,-999.0000,9,  -999.0,9, -999.00,9,-999.0000,9,  -999.00,-999.000,9,-999.0000,9, -999.00,9, -999.00,9,  -999.0,9,  -999.0,-999.000,9,-999.000,     -999.0,9, -999.00,1, -999.00,9, -999.00,9,     -999.0,9,  -999.0,9, 20130323,     1929,  31.8843, 133.5975,     -999.0,9,     -999.0,1,     -999.0,1,    22.7743,2,     -999.0,9,     -999.0,9,-999.0000, -999.00,-999.000
318M20130321,       P02W,       7,          1,         30,         30,2,20130323,       1801,    31.8805,   133.5805,       2971,    95.5,   22.751,  34.6786,2,  34.6787,2,    212.2,2,   210.5,2,    1.56,2,    0.13,2,    0.08,2,    0.05,2,-999.000,9,-999.000,9,-999.000,9,-999.0000,9,  -999.0,9, -999.00,9,-999.0000,9,  -999.00,-999.000,9,-999.0000,9, -999.00,9,    0.81,2,    54.2,2,     3.1,-999.000,9,-999.000,     -999.0,9, -999.00,9,   62.85,2,    6.08,2,     -999.0,9,  -999.0,9, 20130323,     1927,  31.8841, 133.5966,    34.8422,2,     -999.0,9,     -999.0,9,    22.7508,2,     -999.0,9,     -999.0,9,-999.0000, -999.00,-999.000
318M20130321,       P02W,       7,          1,         29,         29,2,20130323,       1801,    31.8805,   133.5805,       2971,   119.6,   22.084,  34.7263,2,  34.7262,2,    198.7,2,   201.1,2,    1.95,2,    1.12,2,    0.12,2,    0.11,2,   1.971,2,   1.186,2,   0.112,2,     0.78,2,  1997.1,2, 2277.24,2,   8.0287,2,       25,-999.000,9,-999.0000,9, -999.00,9,    0.68,2,    54.2,2,     2.4,-999.000,9,-999.000,     -999.0,9, -999.00,9,   61.36,2,    6.07,2,     -999.0,9,  -999.0,9, 20130323,     1925,  31.8839, 133.5959,      34.89,2,     -999.0,9,     -999.0,9,     22.086,2,     -999.0,9,     -999.0,9,-999.0000, -999.00,-999.000
318M20130321,       P02W,       7,          1,         28,         28,2,20130323,       1801,    31.8805,   133.5805,       2971,   142.4,  21.7631,  34.7357,2,  34.7339,2,    199.3,2,     202,2,    1.95,2,    1.19,2,    0.11,2,    0.11,2,-999.000,9,-999.000,9,-999.000,9,-999.0000,9,  -999.0,9, -999.00,9,-999.0000,9,  -999.00,-999.000,9,-999.0000,9, -999.00,9,    0.66,2,    59.0,2,     2.4,-999.000,9,-999.000,     -999.0,9, -999.00,9,   59.41,2,    6.22,2,     -999.0,9,  -999.0,9, 20130323,     1923,  31.8838, 133.5954,    34.8977,2,     -999.0,9,     -999.0,9,    21.7631,2,     -999.0,9,     -999.0,9,-999.0000, -999.00,-999.000
318M20130321,       P02W,       7,          1,         27,         27,2,20130323,       1801,    31.8805,   133.5805,       2971,   165.3,  21.1779,  34.7485,2,  34.7475,2,    201.6,2,   216.2,2,    1.37,2,    0.11,2,    0.15,2,    0.04,2,   2.027,2,   1.219,2,   0.190,2,     0.97,2,  -999.0,9, -999.00,9,-999.0000,9,  -999.00,-999.000,9,-999.0000,9, -999.00,9,    0.75,2,    56.2,2,     2.8,-999.000,9,-999.000,     -999.0,9, -999.00,9,   59.87,2,    4.85,2,     -999.0,9,  -999.0,9, 20130323,     1922,  31.8838,  133.595,    34.9113,2,     -999.0,9,     -999.0,9,    21.1778,2,     -999.0,9,     -999.0,9,-999.0000, -999.00,-999.000
318M20130321,       P02W,       7,          1,         26,         26,2,20130323,       1801,    31.8805,   133.5805,       2971,   190.7,  20.6081,  34.7534,2,  34.7504,2,    213.9,2,   212.2,2,    1.46,2,    0.73,2,     0.1,2,    0.07,2,-999.000,9,-999.000,9,-999.000,9,-999.0000,9,  1998.6,2, 2286.54,3,   8.0269,2,       25,-999.000,9,-999.0000,9, -999.00,9,    0.67,2,    53.2,2,     2.4,-999.000,9,-999.000,     -999.0,9, -999.00,9,   59.85,2,    4.76,2,     -999.0,9,  -999.0,9, 20130323,     1920,  31.8837, 133.5947,    34.9143,2,     -999.0,9,     -999.0,9,    20.6073,2,     -999.0,9,     -999.0,9,-999.0000, -999.00,-999.000
318M20130321,       P02W,       7,          1,         25,         25,2,20130323,       1801,    31.8805,   133.5805,       2971,   215.8,  20.0501,  34.7916,2,  34.7899,2,    200.8,2,   198.9,2,    2.24,2,    2.18,2,    0.02,2,    0.16,2,   2.173,2,   1.290,2,   0.095,2,     0.87,2,  -999.0,9, -999.00,9,-999.0000,9,  -999.00,-999.000,9,-999.0000,9, -999.00,9,    0.55,2,    59.1,2,     3.4,-999.000,9,-999.000,     -999.0,9, -999.00,9,      54,2,    6.31,2,     -999.0,9,  -999.0,9, 20130323,     1918,  31.8836, 133.5943,     34.954,2,     -999.0,9,     -999.0,9,    20.0502,2,     -999.0,9,     -999.0,9,-999.0000, -999.00,-999.000
318M20130321,       P02W,       7,          1,         24,         24,2,20130323,       1801,    31.8805,   133.5805,       2971,   239.1,  19.4009,  34.7686,2,  34.7687,2,    188.9,2,   190.7,2,    3.71,2,    3.73,2,    0.02,2,    0.27,2,-999.000,9,-999.000,9,-999.000,9,-999.0000,9,  -999.0,9, -999.00,9,-999.0000,9,  -999.00,-999.000,9,-999.0000,9, -999.00,9,    0.50,2,    60.7,2,     2.5,-999.000,9,-999.000,     -999.0,9, -999.00,9,   52.88,2,    7.42,2,     -999.0,9,  -999.0,9, 20130323,     1916,  31.8835, 133.5939,    34.9326,2,     -999.0,9,     -999.0,9,    19.3926,2,     -999.0,9,     -999.0,9,-999.0000, -999.00,-999.000
318M20130321,       P02W,       7,          1,         23,         23,2,20130323,       1801,    31.8805,   133.5805,       2971,     282,  17.9297,  34.7092,2,  34.7083,2,    187.9,2,     185,2,    6.44,2,    6.05,2,    0.01,2,    0.43,2,   2.465,2,   1.393,2,   0.030,2,     0.79,2,  2052.4,2, 2279.14,2,    7.925,6,       25,-999.000,9,-999.0000,9, -999.00,9,    0.43,2,    61.3,2,     2.5,-999.000,9,-999.000,     -999.0,9, -999.00,9,   51.52,2,   10.42,2,     -999.0,9,  -999.0,9, 20130323,     1914,  31.8834, 133.5935,     34.872,2,     -999.0,9,     -999.0,9,    17.9268,2,     -999.0,9,     -999.0,9,-999.0000, -999.00,-999.000
318M20130321,       P02W,       7,          1,         22,         38,2,20130323,       1801,    31.8805,   133.5805,       2971,   333.2,  15.9855,  34.6143,2,  34.6128,2,    177.3,2,   177.9,2,   11.42,2,    9.34,2,    0.01,2,    0.66,2,-999.000,9,-999.000,9,-999.000,9,-999.0000,9,  -999.0,9, -999.00,9,-999.0000,9,  -999.00,-999.000,9,-999.0000,9, -999.00,9,    0.37,2,    45.8,2,     3.0,-999.000,9,-999.000,     -999.0,9, -999.00,9,   46.07,2,   13.09,2,     -999.0,9,  -999.0,9, 20130323,     1912,  31.8834, 133.5932,    34.7761,2,     -999.0,9,     -999.0,9,    15.9842,2,     -999.0,9,     -999.0,9,-999.0000, -999.00,-999.000
318M20130321,       P02W,       7,          1,         21,         21,2,20130323,       1801,    31.8805,   133.5805,       2971,   385.5,  13.6391,  34.4878,2,  34.4864,2,    167.1,2,   168.5,2,   19.33,2,   13.71,2,    0.01,2,    0.98,2,   2.560,2,   1.445,2,   0.039,2,     0.63,2,  2111.1,2, 2278.04,2,   7.8013,2,       25,-999.000,9,-999.0000,9, -999.00,9,    0.30,2,    25.2,2,     2.4,-999.000,9,-999.000,     -999.0,9, -999.00,9,   45.42,2, -999.00,9,     -999.0,9,  -999.0,9, 20130323,     1910,  31.8833, 133.5928,     34.649,2,     -999.0,9,     -999.0,9,    13.6382,2,     -999.0,9,     -999.0,9,-999.0000, -999.00,-999.000
318M20130321,       P02W,       7,          1,         20,         20,2,20130323,       1801,    31.8805,   133.5805,       2971,     437,  11.9277,  34.3744,2,  34.3729,2,    166.6,2,   166.5,2,   23.43,2,   16.55,2,       0,2,    1.18,2,-999.000,9,-999.000,9,-999.000,9,-999.0000,9,  -999.0,9, -999.00,9,-999.0000,9,  -999.00,-999.000,9,-999.0000,9, -999.00,9,    0.23,2,    19.4,2,     3.2,-999.000,9,-999.000,     -999.0,9, -999.00,9,   42.64,2, -999.00,9,     -999.0,9,  -999.0,9, 20130323,     1908,  31.8831, 133.5924,     34.535,2,     -999.0,9,     -999.0,9,    11.9313,2,     -999.0,9,     -999.0,9,-999.0000, -999.00,-999.000
318M20130321,       P02W,       7,          1,         19,         19,2,20130323,       1801,    31.8805,   133.5805,       2971,   488.2,  10.6981,  34.2875,2,  34.2883,2,    157.5,2,   159.1,2,   27.04,2,   19.27,2,       0,2,    1.38,2,   2.551,2,   1.358,2,   0.055,2,     0.54,2,  2147.6,2, 2282.34,2,   7.7007,2,       25,-999.000,9,-999.0000,9, -999.00,9,    0.16,2,    16.5,2,     2.6,-999.000,9,-999.000,     -999.0,9, -999.00,9, -999.00,5, -999.00,9,     -999.0,9,  -999.0,9, 20130323,     1906,   31.883,  133.592,      34.45,2,     -999.0,9,     -999.0,9,    10.6951,2,     -999.0,9,     -999.0,9,-999.0000, -999.00,-999.000
318M20130321,       P02W,       7,          1,         18,         18,2,20130323,       1801,    31.8805,   133.5805,       2971,   570.5,   8.6659,  34.2979,2,  34.2964,2,    126.1,2,     126,2,   53.02,2,   25.86,2,    0.01,2,    1.86,2,-999.000,9,-999.000,9,-999.000,9,-999.0000,9,  -999.0,9, -999.00,9,-999.0000,9,  -999.00,-999.000,9,-999.0000,9, -999.00,9,   -0.04,2,   -48.4,2,     1.9,-999.000,9,-999.000,     -999.0,9, -999.00,9,   41.14,2, -999.00,9,     -999.0,9,  -999.0,9, 20130323,     1903,  31.8829, 133.5916,    34.4581,2,     -999.0,9,     -999.0,9,     8.6675,2,     -999.0,9,     -999.0,9,-999.0000, -999.00,-999.000
318M20130321,       P02W,       7,          1,         17,         17,2,20130323,       1801,    31.8805,   133.5805,       2971,   673.1,   6.1414,  34.2114,2,  34.2105,2,    100.2,2,    98.2,2,   75.57,2,   32.81,2,       0,2,    2.37,2,   1.399,2,   0.689,2,   0.038,2,     0.13,2,  2259.4,2, 2311.75,2,   7.4846,2,       25,-999.000,9,-999.0000,9, -999.00,9,   -0.17,2,  -101.1,2,     1.8,-999.000,9,-999.000,     -999.0,9, -999.00,9,   40.51,2, -999.00,9,     -999.0,9,  -999.0,9, 20130323,     1900,  31.8827,  133.591,    34.3718,2,     -999.0,9,     -999.0,9,     6.1364,2,     -999.0,9,     -999.0,9,-999.0000, -999.00,-999.000
318M20130321,       P02W,       7,          1,         16,         16,2,20130323,       1801,    31.8805,   133.5805,       2971,   775.6,   5.0339,  34.2706,2,  34.2699,2,     77.2,2,    76.5,2,   94.61,2,   36.44,2,       0,2,    2.63,2,-999.000,9,-999.000,9,-999.000,9,-999.0000,9,  -999.0,9, -999.00,9,-999.0000,9,  -999.00,-999.000,9,-999.0000,9, -999.00,9,   -0.23,2,  -135.7,2,     2.3,-999.000,9,-999.000,     -999.0,9, -999.00,9,   39.74,2, -999.00,9,     -999.0,9,  -999.0,9, 20130323,     1857,  31.8825, 133.5905,    34.4315,2,     -999.0,9,     -999.0,9,     5.0338,2,     -999.0,9,     -999.0,9,-999.0000, -999.00,-999.000
318M20130321,       P02W,       7,          1,         15,         15,4,20130323,       1801,    31.8805,   133.5805,       2971,   877.1,   4.3029,  34.3382,2,  34.2656,4,     66.6,2,    77.2,4,   93.92,4,   36.37,4,       0,4,    2.63,4,   0.908,2,   0.440,2,   0.029,2,     0.01,2,  2295.1,4, 2331.35,4,   7.4324,2,       25,-999.000,9,-999.0000,9, -999.00,9,   -0.26,2,  -136.5,2,     2.5,-999.000,9,-999.000,     -999.0,9, -999.00,9,   42.01,2, -999.00,9,     -999.0,9,  -999.0,9, 20130323,     1854,  31.8824,   133.59,    34.4272,4,     -999.0,9,     -999.0,9,     4.3016,2,     -999.0,9,     -999.0,9,-999.0000, -999.00,-999.000
318M20130321,       P02W,       7,          1,         14,         14,2,20130323,       1801,    31.8805,   133.5805,       2971,   979.2,   3.8611,  34.3978,2,  34.3978,2,     66.1,2,    66.1,2,  117.06,2,   39.17,2,       0,2,    2.82,2,-999.000,9,-999.000,9,-999.000,9,-999.0000,9,  -999.0,9, -999.00,9,-999.0000,9,  -999.00,-999.000,9,-999.0000,9, -999.00,9,   -0.28,2,  -184.0,2,     2.3,-999.000,9,-999.000,     -999.0,9, -999.00,9,   39.01,2, -999.00,9,     -999.0,9,  -999.0,9, 20130323,     1851,  31.8823, 133.5895,      34.56,2,     -999.0,9,     -999.0,9,      3.861,2,     -999.0,9,     -999.0,9,-999.0000, -999.00,-999.000
318M20130321,       P02W,       7,          1,         13,         13,2,20130323,       1801,    31.8805,   133.5805,       2971,  1081.8,    3.408,  34.4277,2,  34.4284,2,     64.9,2,    64.9,2,  126.13,2,   39.89,2,       0,2,    2.87,2,   0.233,2,   0.109,2,   0.016,2,        0,2,  -999.0,9, -999.00,9,-999.0000,9,  -999.00,-999.000,9,-999.0000,9, -999.00,9,   -0.31,2,  -197.5,2,     2.0,-999.000,9,-999.000,     -999.0,9, -999.00,9,   39.12,2, -999.00,9,     -999.0,9,  -999.0,9, 20130323,     1849,  31.8822,  133.589,    34.5908,2,     -999.0,9,     -999.0,9,     3.4127,2,     -999.0,9,     -999.0,9,-999.0000, -999.00,-999.000
318M20130321,       P02W,       7,          1,         12,         12,2,20130323,       1801,    31.8805,   133.5805,       2971,  1183.9,   3.1092,  34.4538,2,  34.4536,2,     65.4,2,    65.3,2,  132.38,2,   40.21,2,       0,2,    2.89,2,-999.000,9,-999.000,9,-999.000,9,-999.0000,9,  2348.5,2, 2386.86,2,   7.4057,2,       25,-999.000,9,-999.0000,9, -999.00,9,   -0.27,2,  -203.3,2,     2.7,-999.000,9,-999.000,     -999.0,9, -999.00,9,   36.95,2, -999.00,9,     -999.0,9,  -999.0,9, 20130323,     1846,   31.882, 133.5885,     34.616,2,     -999.0,9,     -999.0,9,     3.1097,2,     -999.0,9,     -999.0,9,-999.0000, -999.00,-999.000
318M20130321,       P02W,       7,          1,         11,         11,2,20130323,       1801,    31.8805,   133.5805,       2971,    1336,   2.8163,  34.4877,2,  34.4879,2,     69.4,2,    69.6,2,  138.23,2,   40.21,2,       0,2,    2.89,2,   0.120,2,   0.062,2,   0.013,2,        0,2,  -999.0,9, -999.00,9,-999.0000,9,  -999.00,-999.000,9,-999.0000,9, -999.00,9,   -0.28,2,  -209.4,2,     2.6,-999.000,9,-999.000,     -999.0,9, -999.00,9,   36.95,2, -999.00,9,     -999.0,9,  -999.0,9, 20130323,     1842,  31.8819, 133.5879,    34.6506,2,     -999.0,9,     -999.0,9,     2.8165,2,     -999.0,9,     -999.0,9,-999.0000, -999.00,-999.000
318M20130321,       P02W,       7,          1,         10,         10,2,20130323,       1801,    31.8805,   133.5805,       2971,  1489.2,   2.5545,   34.522,2,  34.5213,2,     76.6,2,    77.2,2,  142.33,2,   39.96,2,       0,2,    2.86,2,-999.000,9,-999.000,9,-999.000,9,-999.0000,9,  2354.2,2, 2392.26,2,   7.4292,6,       25,-999.000,9,-999.0000,9, -999.00,9,   -0.17,2,  -217.7,2,     1.9,-999.000,9,-999.000,     -999.0,9, -999.00,9, -999.00,9, -999.00,9,     -999.0,9,  -999.0,9, 20130323,     1838,  31.8817, 133.5873,    34.6841,2,     -999.0,9,     -999.0,9,     2.5546,2,     -999.0,9,     -999.0,9,-999.0000, -999.00,-999.000
318M20130321,       P02W,       7,          1,          9,          9,2,20130323,       1801,    31.8805,   133.5805,       2971,  1641.8,   2.3886,  34.5451,2,  34.5441,2,     84.5,2,    83.9,2,  144.67,2,   39.72,2,       0,2,    2.83,2,   0.061,2,   0.035,2,   0.014,2,        0,2,  -999.0,9, -999.00,9,-999.0000,9,  -999.00,-999.000,9,-999.0000,9, -999.00,9,   -0.20,2,  -218.9,2,     2.1,-999.000,9,-999.000,     -999.0,9, -999.00,9,    37.1,2, -999.00,9,     -999.0,9,  -999.0,9, 20130323,     1834,  31.8816, 133.5867,     34.707,2,     -999.0,9,     -999.0,9,     2.3885,2,     -999.0,9,     -999.0,9,-999.0000, -999.00,-999.000
318M20130321,       P02W,       7,          1,          8,          8,2,20130323,       1801,    31.8805,   133.5805,       2971,    1795,   2.2401,  34.5663,2,  34.5655,2,     90.4,2,      91,2,  145.93,2,   39.37,2,       0,2,     2.8,2,-999.000,9,-999.000,9,-999.000,9,-999.0000,9,  -999.0,9, -999.00,9,-999.0000,9,  -999.00,-999.000,9,-999.0000,9, -999.00,9,   -0.19,2,  -219.0,2,     1.9,-999.000,9,-999.000,     -999.0,9, -999.00,9, -999.00,9, -999.00,9,     -999.0,9,  -999.0,9, 20130323,     1831,  31.8815, 133.5861,    34.7285,2,     -999.0,9,     -999.0,9,       2.24,2,     -999.0,9,     -999.0,9,-999.0000, -999.00,-999.000