BOTTLE,20220817CCHSIOAMB
EXPOCODE,SECT_ID,STNNBR,CASTNO,SAMPNO,BTLNBR,BTLNBR_FLAG_W,DATE,TIME,LATITUDE,LONGITUDE,DEPTH,CTDPRS,CTDTMP,CTDSAL,CTDSAL_FLAG_W,SALNTY,SALNTY_FLAG_W,CTDOXY,CTDOXY_FLAG_W,OXYGEN,OXYGEN_FLAG_W,SILCAT,SILCAT_FLAG_W,NITRAT,NITRAT_FLAG_W,NITRIT,NITRIT_FLAG_W,PHSPHT,PHSPHT_FLAG_W,CFC-11,CFC-11_FLAG_W,CFC-12,CFC-12_FLAG_W,CFC113,CFC113_FLAG_W,SF6,SF6_FLAG_W,TCARBN,TCARBN_FLAG_W,ALKALI,ALKALI_FLAG_W,PH_TOT,PH_TOT_FLAG_W,PH_TMP,TRITUM,TRITUM_FLAG_W,HELIUM,HELIUM_FLAG_W,DELHE3,DELHE3_FLAG_W,DELC13,DELC13_FLAG_W,DELC14,DELC14_FLAG_W,C14ERR,NEON,NEON_FLAG_W,NEONER,I-129,I-129_FLAG_W,SR-90,SR-90_FLAG_W,DOC,DOC_FLAG_W,TDN,TDN_FLAG_W,CALCIUM,CALCIUM_FLAG_W,D15N_NO3,D15N_NO3_FLAG_W,BTL_DATE,BTL_TIME,BTL_LAT,BTL_LON,SALTREF,SALTREF_FLAG_W,CS-137,CS-137_FLAG_W,CS-134,CS-134_FLAG_W,REFTMP,REFTMP_FLAG_W,LAB_DEN,LAB_DEN_FLAG_W,D18O_NO3,D18O_NO3_FLAG_W,HELIER,DELHER,TRITER
,,,,,,,,,,,METERS,DBAR,ITS-90,PSS-78,,PSS-78,,UMOL/KG,,UMOL/KG,,UMOL/KG,,UMOL/KG,,UMOL/KG,,UMOL/KG,,PMOL/KG,,PMOL/KG,,PMOL/KG,,FMOL/KG,,UMOL/KG,,UMOL/KG,,,,DEG C,TU,,NMOL/KG,,PERCNT,,/MILLE,,/MILLE,,/MILLE,NMOL/KG,,NMOL/KG,BQ/M^3,,DM/.1MG,,UMOL/KG,,UMOL/KG,,MMOL/KG,,/MILLE,,,,,,G/KG,,BQ/M^3,,BQ/M^3,,ITS-90,,,,/MILLE,,NMOL/KG,PERCNT,TU
318M20130321,       P02W,      51,          1,         36,         36,2,20130421,       0931,    29.9922,   163.4645,       5977,     2.5,  19.1711,  34.7862,2,  34.7933,2,    232.8,2,   232.9,2,    1.95,2,    0.02,2,    0.01,2,    0.03,2,   2.479,2,   1.506,2,   0.200,2,     1.45,2,  2007.2,6, 2284.11,2,   8.0104,2,       25,-999.000,9,-999.0000,9, -999.00,9,    0.64,2,    44.5,2,     2.7,-999.000,9,-999.000,     -999.0,9, -999.00,9,   59.32,2,    3.87,2,     -999.0,9,  -999.0,1, 20130421,     1152,  29.9704, 163.4739,    34.9573,2,     -999.0,9,     -999.0,9,    19.1507,2,     -999.0,9,     -999.0,1,-999.0000, -999.00,-999.000
318M20130321,       P02W,      51,          1,         35,         35,2,20130421,       0931,    29.9922,   163.4645,       5977,    33.7,  17.8137,  34.7307,2,  34.7298,2,    239.3,2,   238.2,2,    2.24,2,     0.2,2,    0.04,2,    0.06,2,   2.594,2,   1.581,2,   0.197,2,     1.54,2,  -999.0,9, -999.00,9,-999.0000,9,  -999.00,-999.000,9,-999.0000,9, -999.00,9, -999.00,9,  -999.0,9,  -999.0,-999.000,9,-999.000,     -999.0,9, -999.00,9,   57.36,2,    5.04,2,     -999.0,9,  -999.0,1, 20130421,     1149,  29.9709, 163.4742,    34.8935,2,     -999.0,9,     -999.0,9,    17.8194,2,     -999.0,9,     -999.0,1,-999.0000, -999.00,-999.000
318M20130321,       P02W,      51,          1,         34,         34,2,20130421,       0931,    29.9922,   163.4645,       5977,    59.1,  17.4059,  34.7123,2,  34.7129,2,      240,2,   242.1,2,    2.64,2,     0.2,2,    0.04,2,    0.07,2,   2.648,2,   1.599,2,   0.208,2,     1.46,2,  2010.3,2, 2278.21,6,   7.9959,2,       25,-999.000,9,-999.0000,9, -999.00,9,    0.63,2,    58.3,2,     2.4,-999.000,9,-999.000,     -999.0,9, -999.00,9,   54.85,2,    5.63,2,     -999.0,9,  -999.0,1, 20130421,     1148,  29.9712, 163.4742,    34.8766,2,     -999.0,9,     -999.0,9,    17.4087,2,     -999.0,9,     -999.0,1,-999.0000, -999.00,-999.000
318M20130321,       P02W,      51,          1,         33,         33,2,20130421,       0931,    29.9922,   163.4645,       5977,    84.4,  17.0165,   34.689,2,  34.6899,2,    242.2,2,   226.7,2,    3.32,2,    2.79,2,    0.09,2,    0.21,2,   2.639,2,   1.613,2,   0.162,2,     1.36,2,  -999.0,9, -999.00,9,-999.0000,9,  -999.00,-999.000,9,-999.0000,9, -999.00,9, -999.00,9,  -999.0,9,  -999.0,-999.000,9,-999.000,     -999.0,9, -999.00,9,   51.04,2,    6.04,2,     -999.0,9,  -999.0,1, 20130421,     1146,  29.9715, 163.4742,    34.8535,2,     -999.0,9,     -999.0,9,    17.0259,2,     -999.0,9,     -999.0,1,-999.0000, -999.00,-999.000
318M20130321,       P02W,      51,          1,         32,         32,2,20130421,       0931,    29.9922,   163.4645,       5977,   114.4,  16.8844,  34.6873,2,   34.687,2,      236,2,   225.8,2,    3.42,2,    3.14,2,    0.07,2,    0.23,2,-999.000,9,-999.000,9,-999.000,9,-999.0000,9,  2025.6,2, 2276.71,2,   7.9649,6,       25,-999.000,9,-999.0000,9, -999.00,9,    0.45,2,    54.2,2,     2.9,-999.000,9,-999.000,     -999.0,9, -999.00,9,   52.36,2,    5.72,2,     -999.0,9,  -999.0,1, 20130421,     1145,  29.9718, 163.4742,    34.8505,2,     -999.0,9,     -999.0,9,    16.8846,2,     -999.0,9,     -999.0,1,-999.0000, -999.00,-999.000
318M20130321,       P02W,      51,          1,         31,         31,2,20130421,       0931,    29.9922,   163.4645,       5977,   165.4,   16.489,  34.6566,2,  34.6555,2,    231.6,2,   232.9,2,    3.71,2,    2.77,2,    0.21,2,    0.21,2,   2.731,2,   1.649,2,   0.185,2,     1.62,2,  -999.0,9, -999.00,9,-999.0000,9,  -999.00,-999.000,9,-999.0000,9, -999.00,9, -999.00,9,  -999.0,9,  -999.0,-999.000,9,-999.000,     -999.0,9, -999.00,9,      52,2,    6.53,2,     -999.0,9,  -999.0,1, 20130421,     1143,  29.9722, 163.4743,    34.8189,2,     -999.0,9,     -999.0,9,    16.4916,2,     -999.0,9,     -999.0,1,-999.0000, -999.00,-999.000
318M20130321,       P02W,      51,          1,         30,         30,2,20130421,       0931,    29.9922,   163.4645,       5977,   215.3,   16.427,  34.6565,2,  34.6559,2,    230.8,2,   234.1,2,    3.71,2,    2.89,2,    0.15,2,    0.22,2,-999.000,9,-999.000,9,-999.000,9,-999.0000,9,  2025.3,2, 2275.81,2,   7.9641,6,       25,-999.000,9,-999.0000,9, -999.00,9,    0.45,2,    50.3,2,     3.2,-999.000,9,-999.000,     -999.0,9, -999.00,9,   50.95,2,    6.51,2,     -999.0,9,  -999.0,1, 20130421,     1141,  29.9726, 163.4741,    34.8193,2,     -999.0,9,     -999.0,9,    16.4273,2,     -999.0,9,     -999.0,1,-999.0000, -999.00,-999.000
318M20130321,       P02W,      51,          1,         29,         29,2,20130421,       0931,    29.9922,   163.4645,       5977,   265.2,  16.2416,  34.6465,2,  34.6461,2,    229.4,2,   231.6,2,     4.2,2,    3.37,2,    0.19,2,    0.25,2,   2.771,2,   1.661,2,   0.184,2,      1.6,2,  -999.0,9, -999.00,9,-999.0000,9,  -999.00,-999.000,9,-999.0000,9, -999.00,9, -999.00,9,  -999.0,9,  -999.0,-999.000,9,-999.000,     -999.0,9, -999.00,9,    52.2,2,    7.59,2,     -999.0,9,  -999.0,1, 20130421,     1139,   29.973, 163.4741,    34.8095,2,     -999.0,9,     -999.0,9,    16.2424,2,     -999.0,9,     -999.0,1,-999.0000, -999.00,-999.000
318M20130321,       P02W,      51,          1,         28,         28,2,20130421,       0931,    29.9922,   163.4645,       5977,   320.8,  15.7519,   34.617,2,  34.6164,2,    221.8,2,   218.8,2,    6.44,2,     5.8,2,    0.02,2,     0.4,2,-999.000,9,-999.000,9,-999.000,9,-999.0000,9,  2042.6,2, 2272.71,2,   7.9278,2,       25,-999.000,9,-999.0000,9, -999.00,9,    0.39,2,    51.4,2,     2.4,-999.000,9,-999.000,     -999.0,9, -999.00,9,   47.31,2,    8.25,2,     -999.0,9,  -999.0,1, 20130421,     1138,  29.9733, 163.4742,    34.7797,2,     -999.0,9,     -999.0,9,    15.7522,2,     -999.0,9,     -999.0,1,-999.0000, -999.00,-999.000
318M20130321,       P02W,      51,          1,         27,         27,2,20130421,       0931,    29.9922,   163.4645,       5977,   375.8,  14.9666,   34.566,2,  34.5681,2,    210.3,2,   213.3,2,    8.98,2,    7.58,2,    0.01,2,    0.53,2,   2.821,2,   1.655,2,   0.128,2,     1.37,2,  -999.0,9, -999.00,9,-999.0000,9,  -999.00,-999.000,9,-999.0000,9, -999.00,9, -999.00,9,  -999.0,9,  -999.0,-999.000,9,-999.000,     -999.0,9, -999.00,9,   47.17,2, -999.00,9,     -999.0,9,  -999.0,1, 20130421,     1136,  29.9736, 163.4742,    34.7311,2,     -999.0,9,     -999.0,9,    14.9578,2,     -999.0,9,     -999.0,1,-999.0000, -999.00,-999.000
318M20130321,       P02W,      51,          1,         26,         26,2,20130421,       0931,    29.9922,   163.4645,       5977,   443.5,  13.5349,  34.4481,2,  34.4523,2,    200.3,2,     199,2,   13.47,2,   11.03,2,    0.01,2,    0.77,2,-999.000,9,-999.000,9,-999.000,9,-999.0000,9,  -999.0,9, -999.00,9,-999.0000,9,  -999.00,-999.000,9,-999.0000,9, -999.00,9, -999.00,9,  -999.0,9,  -999.0,-999.000,9,-999.000,     -999.0,9, -999.00,9,   45.88,2, -999.00,9,     -999.0,9,  -999.0,1, 20130421,     1134,   29.974, 163.4743,    34.6147,2,     -999.0,9,     -999.0,9,    13.5569,2,     -999.0,9,     -999.0,1,-999.0000, -999.00,-999.000
318M20130321,       P02W,      51,          1,         25,         25,2,20130421,       0931,    29.9922,   163.4645,       5977,   545.6,  10.6843,  34.2504,2,  34.2505,2,    188.3,2,   191.2,2,   24.12,2,   16.46,2,    0.01,2,    1.16,2,   3.151,2,   1.772,2,   0.112,2,     1.16,2,  2122.3,2, 2271.11,2,   7.7505,2,       25,-999.000,9,-999.0000,9, -999.00,9,    0.19,2,    11.5,2,     2.8,-999.000,9,-999.000,     -999.0,9, -999.00,9,    44.2,2, -999.00,9,     -999.0,9,  -999.0,1, 20130421,     1131,  29.9745, 163.4744,    34.4121,2,     -999.0,9,     -999.0,9,    10.6827,2,     -999.0,9,     -999.0,1,-999.0000, -999.00,-999.000
318M20130321,       P02W,      51,          1,         24,         24,2,20130421,       0931,    29.9922,   163.4645,       5977,   633.1,   7.8865,  34.0595,2,  34.0598,2,    173.4,2,   169.7,2,   40.72,2,   23.45,2,    0.01,2,    1.68,2,-999.000,9,-999.000,9,-999.000,9,-999.0000,9,  -999.0,9, -999.00,9,-999.0000,9,  -999.00,-999.000,9,-999.0000,9, -999.00,9,    0.08,2,   -17.6,2,     2.4,-999.000,9,-999.000,     -999.0,9, -999.00,9,   41.55,2, -999.00,9,     -999.0,9,  -999.0,1, 20130421,     1128,  29.9751, 163.4742,    34.2204,2,     -999.0,9,     -999.0,9,     7.8841,2,     -999.0,9,     -999.0,1,-999.0000, -999.00,-999.000
318M20130321,       P02W,      51,          1,         23,         23,2,20130421,       0931,    29.9922,   163.4645,       5977,   733.7,   5.7042,  34.0142,2,  34.0157,2,    122.4,2,   123.1,2,   66.89,2,   31.77,2,       0,2,    2.29,2,   2.466,2,   1.300,2,   0.116,2,     0.59,2,    2238,2, 2292.71,2,   7.4871,2,       25,-999.000,9,-999.0000,9, -999.00,9,   -0.23,2,   -76.4,2,     2.4,-999.000,9,-999.000,     -999.0,9, -999.00,9, -999.00,5, -999.00,9,     -999.0,9,  -999.0,1, 20130421,     1126,  29.9755, 163.4735,    34.1761,2,     -999.0,9,     -999.0,9,     5.7039,2,     -999.0,9,     -999.0,1,-999.0000, -999.00,-999.000
318M20130321,       P02W,      51,          1,         22,         22,2,20130421,       0931,    29.9922,   163.4645,       5977,   836.9,   4.7424,  34.0904,2,  34.0906,2,     81.9,2,    82.1,2,   88.28,2,   36.87,2,       0,2,    2.66,2,-999.000,9,-999.000,9,-999.000,9,-999.0000,9,  -999.0,9, -999.00,9,-999.0000,9,  -999.00,-999.000,9,-999.0000,9, -999.00,9, -999.00,9,  -999.0,9,  -999.0,-999.000,9,-999.000,     -999.0,9, -999.00,9,   40.49,2, -999.00,9,     -999.0,9,  -999.0,1, 20130421,     1123,  29.9758, 163.4727,    34.2513,2,     -999.0,9,     -999.0,9,     4.7423,2,     -999.0,9,     -999.0,1,-999.0000, -999.00,-999.000
318M20130321,       P02W,      51,          1,         21,         21,2,20130421,       0931,    29.9922,   163.4645,       5977,   943.4,   4.1701,  34.1963,2,  34.1966,2,     53.7,2,    53.8,2,  105.94,2,   39.99,2,       0,2,    2.87,2,   0.887,2,   0.446,2,   0.043,2,     0.19,2,  2320.1,2, 2331.33,2,   7.3536,2,       25,-999.000,9,-999.0000,9, -999.00,9,   -0.45,2,  -149.5,2,     2.5,-999.000,9,-999.000,     -999.0,9, -999.00,9,   39.29,2, -999.00,9,     -999.0,9,  -999.0,1, 20130421,     1120,  29.9762,  163.472,    34.3579,2,     -999.0,9,     -999.0,9,     4.1702,2,     -999.0,9,     -999.0,1,-999.0000, -999.00,-999.000
318M20130321,       P02W,      51,          1,         20,         20,2,20130421,       0931,    29.9922,   163.4645,       5977,  1041.7,   3.7009,  34.2809,2,  34.2812,2,     39.5,2,    40.1,2,  120.58,2,   41.64,2,       0,2,    2.99,2,-999.000,9,-999.000,9,-999.000,9,-999.0000,9,  2344.9,2, 2349.43,2,   7.3334,6,       25,-999.000,9,-999.0000,9, -999.00,9,   -0.50,2,  -173.9,2,     2.0,-999.000,9,-999.000,     -999.0,9, -999.00,9,   40.66,2, -999.00,9,     -999.0,9,  -999.0,1, 20130421,     1117,  29.9765, 163.4716,    34.4428,2,     -999.0,9,     -999.0,9,     3.6976,2,     -999.0,9,     -999.0,1,-999.0000, -999.00,-999.000
318M20130321,       P02W,      51,          1,         19,         19,2,20130421,       0931,    29.9922,   163.4645,       5977,  1151.6,   3.3502,  34.3453,2,  34.3455,2,     33.5,2,    34.2,2,  130.63,2,   42.42,2,       0,2,    3.06,2,   0.256,2,   0.131,2,   0.015,2,     0.04,2,  2359.2,2, 2361.54,2,   7.3278,2,       25,-999.000,9,-999.0000,9, -999.00,9,   -0.51,2,  -195.4,2,     1.9,-999.000,9,-999.000,     -999.0,9, -999.00,9,   36.58,2, -999.00,9,     -999.0,9,  -999.0,1, 20130421,     1114,  29.9769, 163.4717,    34.5075,2,     -999.0,9,     -999.0,9,     3.3525,2,     -999.0,9,     -999.0,1,-999.0000, -999.00,-999.000
318M20130321,       P02W,      51,          1,         18,         18,2,20130421,       0931,    29.9922,   163.4645,       5977,  1247.2,   3.1067,  34.3924,2,  34.3924,2,     31.8,2,    31.8,2,  138.44,2,   42.77,2,       0,2,    3.09,2,   0.146,2,   0.073,2,   0.012,2,     0.04,2,  -999.0,9, -999.00,9,-999.0000,9,  -999.00,-999.000,9,-999.0000,9, -999.00,9, -999.00,9,  -999.0,9,  -999.0,-999.000,9,-999.000,     -999.0,9, -999.00,9, -999.00,5, -999.00,9,     -999.0,9,  -999.0,1, 20130421,     1112,  29.9774, 163.4718,    34.5546,2,     -999.0,9,     -999.0,9,     3.1024,2,     -999.0,9,     -999.0,1,-999.0000, -999.00,-999.000
318M20130321,       P02W,      51,          1,         17,         17,2,20130421,       0931,    29.9922,   163.4645,       5977,  1344.7,   2.8458,  34.4371,2,  34.4366,2,     32.7,2,    32.8,2,  146.24,2,   43.22,2,       0,2,    3.08,2,   0.080,2,   0.042,2,   0.007,2,     0.03,2,  2377.2,2, 2380.65,2,   7.3306,2,       25,-999.000,9,-999.0000,9, -999.00,9,   -0.52,2,  -219.0,2,     1.8,-999.000,9,-999.000,     -999.0,9, -999.00,9,   36.81,2, -999.00,9,     -999.0,9,  -999.0,1, 20130421,     1109,  29.9779, 163.4718,     34.599,2,     -999.0,9,     -999.0,9,     2.8475,2,     -999.0,9,     -999.0,1,-999.0000, -999.00,-999.000
318M20130321,       P02W,      51,          1,         16,         16,2,20130421,       0931,    29.9922,   163.4645,       5977,    1474,   2.6203,   34.479,2,  34.4796,2,     36.4,2,    35.7,2,  152.48,2,   42.86,2,       0,2,    3.08,2,   0.041,2,   0.025,2,   0.009,2,        0,2,  2382.5,2, 2389.35,2,   7.3421,2,       25,-999.000,9,-999.0000,9, -999.00,9,   -0.49,2,  -224.7,2,     1.8,-999.000,9,-999.000,     -999.0,9, -999.00,9,   37.11,2, -999.00,9,     -999.0,9,  -999.0,1, 20130421,     1106,  29.9784, 163.4714,    34.6422,2,     -999.0,9,     -999.0,9,     2.6201,2,     -999.0,9,     -999.0,1,-999.0000, -999.00,-999.000
318M20130321,       P02W,      51,          1,         15,         15,2,20130421,       0931,    29.9922,   163.4645,       5977,    1682,   2.3164,  34.5354,2,   34.535,2,       49,2,    49.3,2,  159.02,2,    42.5,2,       0,2,    3.03,2,-999.000,9,-999.000,9,-999.000,9,-999.0000,9,  2382.4,3, 2398.55,2,   7.3715,2,       25,-999.000,9,-999.0000,9, -999.00,9,   -0.44,2,  -232.7,2,     2.2,-999.000,9,-999.000,     -999.0,9, -999.00,9, -999.00,5, -999.00,9,     -999.0,9,  -999.0,1, 20130421,     1101,  29.9789, 163.4702,    34.6978,2,     -999.0,9,     -999.0,9,     2.3166,2,     -999.0,9,     -999.0,1,-999.0000, -999.00,-999.000
318M20130321,       P02W,      51,          1,         14,         14,2,20130421,       0931,    29.9922,   163.4645,       5977,  1885.1,   2.1187,  34.5697,2,  34.5701,2,     61.9,2,    61.6,2,  162.04,2,   41.86,2,       0,2,    2.97,2,   0.010,2,   0.012,2,   0.006,2,     0.05,2,  2376.7,2, 2405.65,2,   7.3972,2,       25,-999.000,9,-999.0000,9, -999.00,9,   -0.34,2,  -238.0,2,     1.9,-999.000,9,-999.000,     -999.0,9, -999.00,9, -999.00,9, -999.00,9,     -999.0,9,  -999.0,1, 20130421,     1057,  29.9796, 163.4698,    34.7332,2,     -999.0,9,     -999.0,9,     2.1188,2,     -999.0,9,     -999.0,1,-999.0000, -999.00,-999.000
318M20130321,       P02W,      51,          1,         13,         13,2,20130421,       0931,    29.9922,   163.4645,       5977,  2106.8,   1.9197,  34.6024,2,  34.6028,2,     77.4,2,    78.4,2,   163.4,2,   40.82,2,       0,2,    2.89,2,-999.000,9,-999.000,9,-999.000,9,-999.0000,9,  2370.1,2, 2408.46,2,   7.4306,2,       25,-999.000,9,-999.0000,9, -999.00,9,   -0.24,2,  -244.6,2,     1.9,-999.000,9,-999.000,     -999.0,9, -999.00,9,   35.92,2, -999.00,9,     -999.0,9,  -999.0,1, 20130421,     1052,  29.9804, 163.4697,    34.7659,2,     -999.0,9,     -999.0,9,     1.9203,2,     -999.0,9,     -999.0,1,-999.0000, -999.00,-999.000
318M20130321,       P02W,      51,          1,         12,         12,2,20130421,       0931,    29.9922,   163.4645,       5977,  2362.8,   1.7656,  34.6273,2,  34.6283,2,     95.3,2,    95.5,2,  162.72,2,   39.69,2,       0,2,     2.8,2,   0.001,2,   0.008,2,   0.003,2,     0.07,2,  -999.0,9, -999.00,9,-999.0000,9,  -999.00,-999.000,9,-999.0000,9, -999.00,9, -999.00,9,  -999.0,9,  -999.0,-999.000,9,-999.000,     -999.0,9, -999.00,9, -999.00,9, -999.00,9,     -999.0,9,  -999.0,1, 20130421,     1047,  29.9814, 163.4695,    34.7916,2,     -999.0,9,     -999.0,9,     1.7658,2,     -999.0,9,     -999.0,1,-999.0000, -999.00,-999.000
318M20130321,       P02W,      51,          1,         11,         11,2,20130421,       0931,    29.9922,   163.4645,       5977,  2617.4,   1.6739,  34.6429,2,   34.643,2,    109.2,2,   108.5,2,  160.67,2,    38.8,2,       0,2,    2.74,2,-999.000,9,-999.000,9,-999.000,9,-999.0000,9,    2354,6, 2413.96,2,   7.4909,2,       25,-999.000,9,-999.0000,9, -999.00,9, -999.00,9,  -999.0,9,  -999.0,-999.000,9,-999.000,     -999.0,9, -999.00,9,   36.06,2, -999.00,9,     -999.0,9,  -999.0,1, 20130421,     1042,  29.9822, 163.4698,    34.8064,2,     -999.0,9,     -999.0,9,     1.6738,2,     -999.0,9,     -999.0,1,-999.0000, -999.00,-999.000
318M20130321,       P02W,      51,          1,         10,         10,2,20130421,       0931,    29.9922,   163.4645,       5977,  2868.7,   1.5949,  34.6563,2,  34.6568,2,      121,2,     121,2,  158.13,2,   37.96,2,       0,2,    2.68,2,   0.003,2,   0.004,2,   0.015,2,     0.04,2,  -999.0,9, -999.00,9,-999.0000,9,  -999.00,-999.000,9,-999.0000,9, -999.00,9, -999.00,9,  -999.0,9,  -999.0,-999.000,9,-999.000,     -999.0,9, -999.00,9, -999.00,9, -999.00,9,     -999.0,9,  -999.0,1, 20130421,     1037,  29.9832, 163.4704,    34.8202,2,     -999.0,9,     -999.0,9,     1.5944,2,     -999.0,9,     -999.0,1,-999.0000, -999.00,-999.000
318M20130321,       P02W,      51,          1,          9,          9,2,20130421,       0931,    29.9922,   163.4645,       5977,  3135.2,   1.5429,   34.666,2,  34.6662,2,    130.1,2,   130.5,2,  155.88,2,   37.35,2,       0,2,    2.63,2,-999.000,9,-999.000,9,-999.000,9,-999.0000,9,  2340.2,2, 2413.46,2,   7.5314,2,       25,-999.000,9,-999.0000,9, -999.00,9, -999.00,9,  -999.0,9,  -999.0,-999.000,9,-999.000,     -999.0,9, -999.00,9,    35.3,2, -999.00,9,     -999.0,9,  -999.0,1, 20130421,     1031,  29.9841, 163.4707,    34.8297,2,     -999.0,9,     -999.0,9,     1.5431,2,     -999.0,9,     -999.0,1,-999.0000, -999.00,-999.000
318M20130321,       P02W,      51,          1,          8,          8,2,20130421,       0931,    29.9922,   163.4645,       5977,  3453.4,   1.5073,  34.6733,2,  34.6731,2,    136.7,2,   138.7,2,  153.93,2,   36.82,2,       0,2,    2.59,2,   0.003,2,   0.003,2,   0.009,2,     0.08,2,  -999.0,9, -999.00,9,-999.0000,9,  -999.00,-999.000,9,-999.0000,9, -999.00,9, -999.00,9,  -999.0,9,  -999.0,-999.000,9,-999.000,     -999.0,9, -999.00,9, -999.00,9, -999.00,9,     -999.0,9,  -999.0,1, 20130421,     1025,  29.9851, 163.4698,    34.8366,2,     -999.0,9,     -999.0,9,     1.5077,2,     -999.0,9,     -999.0,1,-999.0000, -999.00,-999.000