BOTTLE,20220817CCHSIOAMB
EXPOCODE,SECT_ID,STNNBR,CASTNO,SAMPNO,BTLNBR,BTLNBR_FLAG_W,DATE,TIME,LATITUDE,LONGITUDE,DEPTH,CTDPRS,CTDTMP,CTDSAL,CTDSAL_FLAG_W,SALNTY,SALNTY_FLAG_W,CTDOXY,CTDOXY_FLAG_W,OXYGEN,OXYGEN_FLAG_W,SILCAT,SILCAT_FLAG_W,NITRAT,NITRAT_FLAG_W,NITRIT,NITRIT_FLAG_W,PHSPHT,PHSPHT_FLAG_W,CFC-11,CFC-11_FLAG_W,CFC-12,CFC-12_FLAG_W,CFC113,CFC113_FLAG_W,SF6,SF6_FLAG_W,TCARBN,TCARBN_FLAG_W,ALKALI,ALKALI_FLAG_W,PH_TOT,PH_TOT_FLAG_W,PH_TMP,TRITUM,TRITUM_FLAG_W,HELIUM,HELIUM_FLAG_W,DELHE3,DELHE3_FLAG_W,DELC13,DELC13_FLAG_W,DELC14,DELC14_FLAG_W,C14ERR,NEON,NEON_FLAG_W,NEONER,I-129,I-129_FLAG_W,SR-90,SR-90_FLAG_W,DOC,DOC_FLAG_W,TDN,TDN_FLAG_W,CALCIUM,CALCIUM_FLAG_W,D15N_NO3,D15N_NO3_FLAG_W,BTL_DATE,BTL_TIME,BTL_LAT,BTL_LON,SALTREF,SALTREF_FLAG_W,CS-137,CS-137_FLAG_W,CS-134,CS-134_FLAG_W,REFTMP,REFTMP_FLAG_W,LAB_DEN,LAB_DEN_FLAG_W,D18O_NO3,D18O_NO3_FLAG_W,HELIER,DELHER,TRITER
,,,,,,,,,,,METERS,DBAR,ITS-90,PSS-78,,PSS-78,,UMOL/KG,,UMOL/KG,,UMOL/KG,,UMOL/KG,,UMOL/KG,,UMOL/KG,,PMOL/KG,,PMOL/KG,,PMOL/KG,,FMOL/KG,,UMOL/KG,,UMOL/KG,,,,DEG C,TU,,NMOL/KG,,PERCNT,,/MILLE,,/MILLE,,/MILLE,NMOL/KG,,NMOL/KG,BQ/M^3,,DM/.1MG,,UMOL/KG,,UMOL/KG,,MMOL/KG,,/MILLE,,,,,,G/KG,,BQ/M^3,,BQ/M^3,,ITS-90,,,,/MILLE,,NMOL/KG,PERCNT,TU
318M20130321,       P02W,      24,          1,         36,         36,2,20130411,       1726,    29.9994,   140.5257,       2489,     3.3,  18.6891,  34.7594,2,  34.7573,2,    232.1,2,   232.4,2,    2.44,2,    0.04,2,    0.04,2,    0.05,2,   2.402,2,   1.500,2,   0.188,2,     1.56,2,  1998.9,6, 2279.81,2,   8.0217,2,       25,-999.000,9,-999.0000,9, -999.00,9, -999.00,9,  -999.0,9,  -999.0,-999.000,9,-999.000,     -999.0,9, -999.00,9, -999.00,9, -999.00,9,     -999.0,9,  -999.0,9, 20130411,     1913,  29.9975, 140.5219,    34.9212,2,     -999.0,9,     -999.0,9,    18.6893,2,     -999.0,9,     -999.0,9,-999.0000, -999.00,-999.000
318M20130321,       P02W,      24,          1,         35,         35,2,20130411,       1726,    29.9994,   140.5257,       2489,    35.2,  18.7128,   34.759,2,  34.7582,2,    232.8,2,   232.6,2,    2.44,2,    0.02,2,    0.04,2,    0.05,2,   2.437,2,   1.513,2,   0.208,2,     1.55,2,  1998.7,2, 2279.01,2,   8.0226,6,       25,-999.000,9,-999.0000,9, -999.00,9, -999.00,9,  -999.0,9,  -999.0,-999.000,9,-999.000,     -999.0,9, -999.00,9, -999.00,9, -999.00,9,     -999.0,9,  -999.0,9, 20130411,     1910,  29.9979, 140.5219,    34.9222,2,     -999.0,9,     -999.0,9,     18.713,2,     -999.0,9,     -999.0,9,-999.0000, -999.00,-999.000
318M20130321,       P02W,      24,          1,         34,         34,2,20130411,       1726,    29.9994,   140.5257,       2489,    60.4,  18.7125,  34.7591,2,-999.0000,9,    232.7,2,  -999.0,9, -999.00,9, -999.00,9, -999.00,9, -999.00,9,-999.000,9,-999.000,9,-999.000,9,-999.0000,9,  -999.0,9, -999.00,9,-999.0000,9,  -999.00,-999.000,9,-999.0000,9, -999.00,9, -999.00,9,  -999.0,9,  -999.0,-999.000,9,-999.000,     -999.0,9, -999.00,1, -999.00,9, -999.00,9,     -999.0,9,  -999.0,9, 20130411,     1908,  29.9982, 140.5219,     -999.0,9,     -999.0,1,     -999.0,1,    18.7116,2,     -999.0,9,     -999.0,9,-999.0000, -999.00,-999.000
318M20130321,       P02W,      24,          1,         32,         32,2,20130411,       1726,    29.9994,   140.5257,       2489,    60.7,  18.7102,   34.759,2,  34.7584,2,    232.7,2,   232.4,2,    2.34,2,    0.02,2,    0.04,2,    0.04,2,-999.000,9,-999.000,9,-999.000,9,-999.0000,9,  1997.6,2, 2279.31,6,   8.0223,2,       25,-999.000,9,-999.0000,9, -999.00,9, -999.00,9,  -999.0,9,  -999.0,-999.000,9,-999.000,     -999.0,9, -999.00,9, -999.00,9, -999.00,9,     -999.0,9,  -999.0,9, 20130411,     1908,  29.9982, 140.5219,    34.9223,2,     -999.0,9,     -999.0,9,     18.711,2,     -999.0,9,     -999.0,9,-999.0000, -999.00,-999.000
318M20130321,       P02W,      24,          1,         33,         33,2,20130411,       1726,    29.9994,   140.5257,       2489,    60.8,  18.7101,   34.759,2,-999.0000,9,    232.7,2,  -999.0,9, -999.00,9, -999.00,9, -999.00,9, -999.00,9,-999.000,9,-999.000,9,-999.000,9,-999.0000,9,  -999.0,9, -999.00,9,-999.0000,9,  -999.00,-999.000,9,-999.0000,9, -999.00,9, -999.00,9,  -999.0,9,  -999.0,-999.000,9,-999.000,     -999.0,1, -999.00,1, -999.00,9, -999.00,9,     -999.0,9,  -999.0,9, 20130411,     1908,  29.9982, 140.5219,     -999.0,9,     -999.0,1,     -999.0,1,    18.7101,2,     -999.0,9,     -999.0,9,-999.0000, -999.00,-999.000
318M20130321,       P02W,      24,          1,         31,         31,2,20130411,       1726,    29.9994,   140.5257,       2489,    86.3,  18.6739,  34.7509,2,  34.7492,2,    230.8,2,   231.9,2,    2.34,2,    0.05,2,    0.07,2,    0.05,2,   2.457,2,   1.505,2,   0.199,2,     1.49,2,  -999.0,9, -999.00,9,-999.0000,9,  -999.00,-999.000,9,-999.0000,9, -999.00,9, -999.00,9,  -999.0,9,  -999.0,-999.000,9,-999.000,     -999.0,9, -999.00,9, -999.00,9, -999.00,9,     -999.0,9,  -999.0,9, 20130411,     1906,  29.9985,  140.522,    34.9131,2,     -999.0,9,     -999.0,9,    18.6743,2,     -999.0,9,     -999.0,9,-999.0000, -999.00,-999.000
318M20130321,       P02W,      24,          1,         30,         30,2,20130411,       1726,    29.9994,   140.5257,       2489,   111.5,  18.5944,  34.7409,2,  34.7398,2,    223.6,2,   231.1,2,    2.34,2,    0.09,2,    0.11,2,    0.06,2,-999.000,9,-999.000,9,-999.000,9,-999.0000,9,  2001.1,2, 2279.31,2,   8.0172,2,       25,-999.000,9,-999.0000,9, -999.00,9, -999.00,9,  -999.0,9,  -999.0,-999.000,9,-999.000,     -999.0,9, -999.00,9, -999.00,9, -999.00,9,     -999.0,9,  -999.0,9, 20130411,     1904,  29.9988,  140.522,    34.9036,2,     -999.0,9,     -999.0,9,    18.5941,2,     -999.0,9,     -999.0,9,-999.0000, -999.00,-999.000
318M20130321,       P02W,      24,          1,         29,         29,2,20130411,       1726,    29.9994,   140.5257,       2489,   135.8,  18.2334,  34.7738,2,  34.7722,2,    220.7,2,   220.3,2,    3.03,2,    1.96,2,    0.03,2,    0.17,2,   2.506,2,   1.530,2,   0.160,2,     1.52,2,  -999.0,9, -999.00,9,-999.0000,9,  -999.00,-999.000,9,-999.0000,9, -999.00,9, -999.00,9,  -999.0,9,  -999.0,-999.000,9,-999.000,     -999.0,9, -999.00,9, -999.00,9, -999.00,9,     -999.0,9,  -999.0,9, 20130411,     1903,   29.999,  140.522,    34.9362,2,     -999.0,9,     -999.0,9,    18.2356,2,     -999.0,9,     -999.0,9,-999.0000, -999.00,-999.000
318M20130321,       P02W,      24,          1,         28,         28,2,20130411,       1726,    29.9994,   140.5257,       2489,   160.6,   17.982,   34.765,2,  34.7637,2,    216.8,2,   217.9,2,    3.42,2,     2.5,2,    0.02,2,     0.2,2,-999.000,9,-999.000,9,-999.000,9,-999.0000,9,    2018,2, 2278.91,2,   7.9845,6,       25,-999.000,9,-999.0000,9, -999.00,9, -999.00,9,  -999.0,9,  -999.0,-999.000,9,-999.000,     -999.0,9, -999.00,9, -999.00,9, -999.00,9,     -999.0,9,  -999.0,9, 20130411,     1901,  29.9993,  140.522,    34.9277,2,     -999.0,9,     -999.0,9,    17.9813,2,     -999.0,9,     -999.0,9,-999.0000, -999.00,-999.000
318M20130321,       P02W,      24,          1,         27,         27,2,20130411,       1726,    29.9994,   140.5257,       2489,   185.6,  17.8269,   34.751,2,  34.7505,2,    213.8,2,   214.2,2,    3.81,2,    3.05,2,    0.02,2,    0.24,2,   2.529,2,   1.571,2,   0.121,2,     1.46,2,  -999.0,9, -999.00,9,-999.0000,9,  -999.00,-999.000,9,-999.0000,9, -999.00,9, -999.00,9,  -999.0,9,  -999.0,-999.000,9,-999.000,     -999.0,9, -999.00,9, -999.00,9, -999.00,9,     -999.0,9,  -999.0,9, 20130411,     1859,  29.9995,  140.522,    34.9144,2,     -999.0,9,     -999.0,9,    17.8243,2,     -999.0,9,     -999.0,9,-999.0000, -999.00,-999.000
318M20130321,       P02W,      24,          1,         26,         26,2,20130411,       1726,    29.9994,   140.5257,       2489,   216.9,  17.6131,  34.7368,2,-999.0000,5,    211.6,2,   210.4,2,    4.39,2,    3.73,2,    0.02,2,    0.28,2,-999.000,9,-999.000,9,-999.000,9,-999.0000,9,  2027.2,2, 2277.71,2,   7.9656,2,       25,-999.000,9,-999.0000,9, -999.00,9, -999.00,9,  -999.0,9,  -999.0,-999.000,9,-999.000,     -999.0,9, -999.00,9, -999.00,9, -999.00,9,     -999.0,9,  -999.0,9, 20130411,     1857,  29.9998,  140.522,     -999.0,5,     -999.0,9,     -999.0,9,    17.6122,2,     -999.0,9,     -999.0,9,-999.0000, -999.00,-999.000
318M20130321,       P02W,      24,          1,         25,         25,2,20130411,       1726,    29.9994,   140.5257,       2489,   236.9,  17.4468,  34.7246,2,  34.7248,2,    207.8,2,   207.5,2,    4.59,2,    4.22,2,    0.02,2,    0.26,2,   2.591,2,   1.582,2,   0.079,2,     1.48,2,  -999.0,9, -999.00,9,-999.0000,9,  -999.00,-999.000,9,-999.0000,9, -999.00,9, -999.00,9,  -999.0,9,  -999.0,-999.000,9,-999.000,     -999.0,9, -999.00,9, -999.00,9, -999.00,9,     -999.0,9,  -999.0,9, 20130411,     1855,       30, 140.5221,    34.8885,2,     -999.0,9,     -999.0,9,    17.4478,2,     -999.0,9,     -999.0,9,-999.0000, -999.00,-999.000
318M20130321,       P02W,      24,          1,         24,         24,2,20130411,       1726,    29.9994,   140.5257,       2489,   267.1,  17.2324,  34.7127,2,  34.7122,2,    206.1,2,   205.9,2,    4.88,2,     4.7,2,    0.02,2,     0.3,2,-999.000,9,-999.000,9,-999.000,9,-999.0000,9,  2038.5,2, 2276.01,2,   7.9479,2,       25,-999.000,9,-999.0000,9, -999.00,9, -999.00,9,  -999.0,9,  -999.0,-999.000,9,-999.000,     -999.0,9, -999.00,9, -999.00,9, -999.00,9,     -999.0,9,  -999.0,9, 20130411,     1853,  30.0002, 140.5221,    34.8759,2,     -999.0,9,     -999.0,9,    17.2322,2,     -999.0,9,     -999.0,9,-999.0000, -999.00,-999.000
318M20130321,       P02W,      24,          1,         23,         23,2,20130411,       1726,    29.9994,   140.5257,       2489,   316.4,  17.1614,  34.7075,2,  34.7063,2,    204.3,2,   204.8,2,    5.17,2,    4.95,2,    0.02,2,    0.32,2,   2.633,2,   1.612,2,   0.072,2,     1.39,2,  -999.0,9, -999.00,9,-999.0000,9,  -999.00,-999.000,9,-999.0000,9, -999.00,9, -999.00,9,  -999.0,9,  -999.0,-999.000,9,-999.000,     -999.0,9, -999.00,9, -999.00,9, -999.00,9,     -999.0,9,  -999.0,9, 20130411,     1850,  30.0003, 140.5223,      34.87,2,     -999.0,9,     -999.0,9,    17.1612,2,     -999.0,9,     -999.0,9,-999.0000, -999.00,-999.000
318M20130321,       P02W,      24,          1,         22,         38,2,20130411,       1726,    29.9994,   140.5257,       2489,   367.1,  16.6734,  34.6754,2,  34.6745,2,    199.3,2,   200.1,2,    6.34,2,    6.15,2,    0.02,2,     0.4,2,-999.000,9,-999.000,9,-999.000,9,-999.0000,9,  2049.3,2, 2275.91,2,   7.9254,2,       25,-999.000,9,-999.0000,9, -999.00,9, -999.00,9,  -999.0,9,  -999.0,-999.000,9,-999.000,     -999.0,9, -999.00,9, -999.00,9, -999.00,9,     -999.0,9,  -999.0,9, 20130411,     1847,  30.0001, 140.5226,     34.838,2,     -999.0,9,     -999.0,9,    16.6741,2,     -999.0,9,     -999.0,9,-999.0000, -999.00,-999.000
318M20130321,       P02W,      24,          1,         21,         21,2,20130411,       1726,    29.9994,   140.5257,       2489,   417.7,  15.8258,  34.6177,2,  34.6157,2,    193.5,2,   192.6,2,    8.79,2,    8.21,2,    0.02,2,    0.54,2,   2.823,2,   1.672,2,   0.040,2,     1.29,2,  -999.0,9, -999.00,9,-999.0000,9,  -999.00,-999.000,9,-999.0000,9, -999.00,9, -999.00,9,  -999.0,9,  -999.0,-999.000,9,-999.000,     -999.0,9, -999.00,9, -999.00,9, -999.00,9,     -999.0,9,  -999.0,9, 20130411,     1845,  30.0001, 140.5226,    34.7789,2,     -999.0,9,     -999.0,9,    15.8277,2,     -999.0,9,     -999.0,9,-999.0000, -999.00,-999.000
318M20130321,       P02W,      24,          1,         20,         20,2,20130411,       1726,    29.9994,   140.5257,       2489,   465.6,  14.8431,  34.5514,2,  34.5515,2,      184,2,   183.5,2,    12.4,2,   10.56,2,    0.01,2,    0.71,2,-999.000,9,-999.000,9,-999.000,9,-999.0000,9,  2081.7,2, 2276.31,2,   7.8547,2,       25,-999.000,9,-999.0000,9, -999.00,9, -999.00,9,  -999.0,9,  -999.0,-999.000,9,-999.000,     -999.0,9, -999.00,9, -999.00,9, -999.00,9,     -999.0,9,  -999.0,9, 20130411,     1842,  29.9999, 140.5226,    34.7144,2,     -999.0,9,     -999.0,9,    14.8476,2,     -999.0,9,     -999.0,9,-999.0000, -999.00,-999.000
318M20130321,       P02W,      24,          1,         19,         19,2,20130411,       1726,    29.9994,   140.5257,       2489,   526.5,  13.0564,  34.4408,2,  34.4407,2,    174.3,2,   174.5,2,   19.33,2,   14.24,2,    0.01,2,    0.99,2,   2.898,2,   1.629,2,   0.051,2,        1,2,  -999.0,9, -999.00,9,-999.0000,9,  -999.00,-999.000,9,-999.0000,9, -999.00,9, -999.00,9,  -999.0,9,  -999.0,-999.000,9,-999.000,     -999.0,9, -999.00,9, -999.00,9, -999.00,9,     -999.0,9,  -999.0,9, 20130411,     1839,  29.9997, 140.5226,    34.6031,2,     -999.0,9,     -999.0,9,    13.0547,2,     -999.0,9,     -999.0,9,-999.0000, -999.00,-999.000
318M20130321,       P02W,      24,          1,         18,         18,2,20130411,       1726,    29.9994,   140.5257,       2489,   615.5,   9.8827,  34.2265,2,  34.2241,2,    166.7,2,   167.5,2,   33.39,2,   20.06,2,    0.01,2,    1.43,2,-999.000,9,-999.000,9,-999.000,9,-999.0000,9,  2150.9,2, 2277.11,2,   7.6947,2,       25,-999.000,9,-999.0000,9, -999.00,9, -999.00,9,  -999.0,9,  -999.0,-999.000,9,-999.000,     -999.0,9, -999.00,9, -999.00,9, -999.00,9,     -999.0,9,  -999.0,9, 20130411,     1835,  29.9995, 140.5226,    34.3855,2,     -999.0,9,     -999.0,9,     9.8812,2,     -999.0,9,     -999.0,9,-999.0000, -999.00,-999.000
318M20130321,       P02W,      24,          1,         17,         17,2,20130411,       1726,    29.9994,   140.5257,       2489,   738.1,   6.4676,  34.0436,2,  34.0477,2,      129,2,   137.2,2,   58.88,2,   28.93,2,       0,2,     2.1,2,   2.578,2,   1.309,2,   0.115,2,     0.79,2,  -999.0,9, -999.00,9,-999.0000,9,  -999.00,-999.000,9,-999.0000,9, -999.00,9, -999.00,9,  -999.0,9,  -999.0,-999.000,9,-999.000,     -999.0,9, -999.00,9, -999.00,9, -999.00,9,     -999.0,9,  -999.0,9, 20130411,     1830,  29.9992, 140.5225,    34.2082,2,     -999.0,9,     -999.0,9,     6.4786,2,     -999.0,9,     -999.0,9,-999.0000, -999.00,-999.000
318M20130321,       P02W,      24,          1,         16,         16,2,20130411,       1726,    29.9994,   140.5257,       2489,   839.3,   5.2186,  34.0686,2,  34.0692,2,    105.3,2,   100.5,2,   78.61,2,    34.5,2,       0,2,     2.5,2,-999.000,9,-999.000,9,-999.000,9,-999.0000,9,  2262.6,2, 2304.72,2,   7.4415,2,       25,-999.000,9,-999.0000,9, -999.00,9, -999.00,9,  -999.0,9,  -999.0,-999.000,9,-999.000,     -999.0,9, -999.00,9, -999.00,9, -999.00,9,     -999.0,9,  -999.0,9, 20130411,     1826,   29.999, 140.5225,    34.2299,2,     -999.0,9,     -999.0,9,     5.2195,2,     -999.0,9,     -999.0,9,-999.0000, -999.00,-999.000
318M20130321,       P02W,      24,          1,         15,         15,2,20130411,       1726,    29.9994,   140.5257,       2489,   936.8,   4.5201,  34.1856,2,  34.1849,2,     69.7,2,    67.5,2,   99.11,2,   38.28,2,       0,2,    2.77,2,   1.052,2,   0.566,2,   0.046,2,     0.28,2,  -999.0,9, -999.00,9,-999.0000,9,  -999.00,-999.000,9,-999.0000,9, -999.00,9, -999.00,9,  -999.0,9,  -999.0,-999.000,9,-999.000,     -999.0,9, -999.00,9, -999.00,9, -999.00,9,     -999.0,9,  -999.0,9, 20130411,     1823,  29.9991, 140.5226,    34.3461,2,     -999.0,9,     -999.0,9,      4.519,2,     -999.0,9,     -999.0,9,-999.0000, -999.00,-999.000
318M20130321,       P02W,      24,          1,         14,         14,2,20130411,       1726,    29.9994,   140.5257,       2489,  1043.2,   3.8616,  34.2819,2,  34.2837,2,       48,2,    48.4,2,  117.16,2,   40.77,2,       0,2,    2.94,2,-999.000,9,-999.000,9,-999.000,9,-999.0000,9,  2336.4,2, 2348.03,2,   7.3523,2,       25,-999.000,9,-999.0000,9, -999.00,9, -999.00,9,  -999.0,9,  -999.0,-999.000,9,-999.000,     -999.0,9, -999.00,9, -999.00,9, -999.00,9,     -999.0,9,  -999.0,9, 20130411,     1819,  29.9993, 140.5226,    34.4454,2,     -999.0,9,     -999.0,9,      3.862,2,     -999.0,9,     -999.0,9,-999.0000, -999.00,-999.000
318M20130321,       P02W,      24,          1,         13,         13,2,20130411,       1726,    29.9994,   140.5257,       2489,  1145.5,   3.5805,  34.3465,2,  34.3451,2,     46.4,2,    48.3,2,  124.97,2,   41.09,2,       0,2,    2.97,2,   0.349,2,   0.192,2,   0.014,2,     0.13,2,  2342.6,2, 2358.44,2,     7.36,3,       25,-999.000,9,-999.0000,9, -999.00,9, -999.00,9,  -999.0,9,  -999.0,-999.000,9,-999.000,     -999.0,9, -999.00,9, -999.00,9, -999.00,9,     -999.0,9,  -999.0,9, 20130411,     1815,  29.9991,  140.523,    34.5071,2,     -999.0,9,     -999.0,9,     3.5834,2,     -999.0,9,     -999.0,9,-999.0000, -999.00,-999.000
318M20130321,       P02W,      24,          1,         12,         12,2,20130411,       1726,    29.9994,   140.5257,       2489,  1255.8,   3.2098,  34.4016,2,  34.4012,2,     44.6,2,    44.1,2,  134.33,2,   41.95,2,       0,2,    3.02,2,-999.000,9,-999.000,9,-999.000,9,-999.0000,9,  2356.3,2, 2370.94,2,   7.3543,6,       25,-999.000,9,-999.0000,9, -999.00,9, -999.00,9,  -999.0,9,  -999.0,-999.000,9,-999.000,     -999.0,9, -999.00,9, -999.00,9, -999.00,9,     -999.0,9,  -999.0,9, 20130411,     1811,   29.999, 140.5233,    34.5635,2,     -999.0,9,     -999.0,9,     3.2074,2,     -999.0,9,     -999.0,9,-999.0000, -999.00,-999.000
318M20130321,       P02W,      24,          1,         11,         11,2,20130411,       1726,    29.9994,   140.5257,       2489,  1345.4,    3.026,   34.434,2,  34.4342,2,     47.8,2,    48.6,2,  138.24,2,   41.77,2,       0,2,       3,2,   0.139,2,   0.084,2,   0.004,2,     0.06,2,  2358.6,2, 2377.14,2,   7.3653,2,       25,-999.000,9,-999.0000,9, -999.00,9, -999.00,9,  -999.0,9,  -999.0,-999.000,9,-999.000,     -999.0,9, -999.00,9, -999.00,9, -999.00,9,     -999.0,9,  -999.0,9, 20130411,     1807,  29.9992, 140.5234,    34.5966,2,     -999.0,9,     -999.0,9,     3.0262,2,     -999.0,9,     -999.0,9,-999.0000, -999.00,-999.000
318M20130321,       P02W,      24,          1,         10,         10,2,20130411,       1726,    29.9994,   140.5257,       2489,  1447.5,   2.7886,  34.4721,2,  34.4727,2,     57.7,2,    57.1,2,  142.82,2,   41.31,2,       0,2,    2.96,2,-999.000,9,-999.000,9,-999.000,9,-999.0000,9,  2358.7,2, 2384.35,2,   7.3838,2,       25,-999.000,9,-999.0000,9, -999.00,9, -999.00,9,  -999.0,9,  -999.0,-999.000,9,-999.000,     -999.0,9, -999.00,9, -999.00,9, -999.00,9,     -999.0,9,  -999.0,9, 20130411,     1803,  29.9994, 140.5236,    34.6352,2,     -999.0,9,     -999.0,9,      2.789,2,     -999.0,9,     -999.0,9,-999.0000, -999.00,-999.000
318M20130321,       P02W,      24,          1,          9,          9,2,20130411,       1726,    29.9994,   140.5257,       2489,  1548.5,   2.5761,  34.5041,2,  34.5043,2,     63.2,2,    62.5,2,  147.21,2,   41.19,2,       0,2,    2.95,2,   0.079,2,   0.055,2,   0.003,2,     0.08,2,    2360,2, 2390.75,2,    7.397,2,       25,-999.000,9,-999.0000,9, -999.00,9, -999.00,9,  -999.0,9,  -999.0,-999.000,9,-999.000,     -999.0,9, -999.00,9, -999.00,9, -999.00,9,     -999.0,9,  -999.0,9, 20130411,     1800,  29.9995, 140.5238,     34.667,2,     -999.0,9,     -999.0,9,     2.5756,2,     -999.0,9,     -999.0,9,-999.0000, -999.00,-999.000
318M20130321,       P02W,      24,          1,          8,          8,2,20130411,       1726,    29.9994,   140.5257,       2489,  1649.1,   2.3874,  34.5311,2,  34.5308,2,     66.3,2,    66.6,2,  151.21,2,   41.09,2,       0,2,    2.93,2,-999.000,9,-999.000,9,-999.000,9,-999.0000,9,  -999.0,9, -999.00,9,-999.0000,9,  -999.00,-999.000,9,-999.0000,9, -999.00,9, -999.00,9,  -999.0,9,  -999.0,-999.000,9,-999.000,     -999.0,9, -999.00,9, -999.00,9, -999.00,9,     -999.0,9,  -999.0,9, 20130411,     1755,       30, 140.5237,    34.6936,2,     -999.0,9,     -999.0,9,      2.388,2,     -999.0,9,     -999.0,9,-999.0000, -999.00,-999.000