BOTTLE,20220817CCHSIOAMB
EXPOCODE,SECT_ID,STNNBR,CASTNO,SAMPNO,BTLNBR,BTLNBR_FLAG_W,DATE,TIME,LATITUDE,LONGITUDE,DEPTH,CTDPRS,CTDTMP,CTDSAL,CTDSAL_FLAG_W,SALNTY,SALNTY_FLAG_W,CTDOXY,CTDOXY_FLAG_W,OXYGEN,OXYGEN_FLAG_W,SILCAT,SILCAT_FLAG_W,NITRAT,NITRAT_FLAG_W,NITRIT,NITRIT_FLAG_W,PHSPHT,PHSPHT_FLAG_W,CFC-11,CFC-11_FLAG_W,CFC-12,CFC-12_FLAG_W,CFC113,CFC113_FLAG_W,SF6,SF6_FLAG_W,TCARBN,TCARBN_FLAG_W,ALKALI,ALKALI_FLAG_W,PH_TOT,PH_TOT_FLAG_W,PH_TMP,TRITUM,TRITUM_FLAG_W,HELIUM,HELIUM_FLAG_W,DELHE3,DELHE3_FLAG_W,DELC13,DELC13_FLAG_W,DELC14,DELC14_FLAG_W,C14ERR,NEON,NEON_FLAG_W,NEONER,I-129,I-129_FLAG_W,SR-90,SR-90_FLAG_W,DOC,DOC_FLAG_W,TDN,TDN_FLAG_W,CALCIUM,CALCIUM_FLAG_W,D15N_NO3,D15N_NO3_FLAG_W,BTL_DATE,BTL_TIME,BTL_LAT,BTL_LON,SALTREF,SALTREF_FLAG_W,CS-137,CS-137_FLAG_W,CS-134,CS-134_FLAG_W,REFTMP,REFTMP_FLAG_W,LAB_DEN,LAB_DEN_FLAG_W,D18O_NO3,D18O_NO3_FLAG_W,HELIER,DELHER,TRITER
,,,,,,,,,,,METERS,DBAR,ITS-90,PSS-78,,PSS-78,,UMOL/KG,,UMOL/KG,,UMOL/KG,,UMOL/KG,,UMOL/KG,,UMOL/KG,,PMOL/KG,,PMOL/KG,,PMOL/KG,,FMOL/KG,,UMOL/KG,,UMOL/KG,,,,DEG C,TU,,NMOL/KG,,PERCNT,,/MILLE,,/MILLE,,/MILLE,NMOL/KG,,NMOL/KG,BQ/M^3,,DM/.1MG,,UMOL/KG,,UMOL/KG,,MMOL/KG,,/MILLE,,,,,,G/KG,,BQ/M^3,,BQ/M^3,,ITS-90,,,,/MILLE,,NMOL/KG,PERCNT,TU
318M20130321,       P02W,       8,          1,         36,         36,2,20130323,       2322,    31.8068,   133.6466,       4229,     2.7,  22.5182,  34.6689,2,  34.6708,2,    213.5,2,   213.5,2,    1.37,2,    0.01,2,    0.04,2,    0.04,2,   1.972,2,   1.167,2,   0.165,2,     1.42,2,  1969.2,2, 2275.74,2,   8.0589,2,       25,-999.000,9,-999.0000,9, -999.00,9, -999.00,9,  -999.0,9,  -999.0,-999.000,9,-999.000,     -999.0,9, -999.00,9, -999.00,9, -999.00,9,     -999.0,9,  -999.0,9, 20130324,      143,  31.8029, 133.6678,    34.8343,2,     -999.0,9,     -999.0,9,    22.5186,2,     -999.0,9,     -999.0,9,-999.0000, -999.00,-999.000
318M20130321,       P02W,       8,          1,         35,         35,2,20130323,       2322,    31.8068,   133.6466,       4229,    24.2,  22.5354,  34.6719,2,  34.6692,2,    213.8,2,   213.5,2,    1.37,2,    0.02,2,    0.04,2,    0.04,2,   1.953,2,   1.158,2,   0.134,2,     1.45,2,    1969,6, 2274.84,2,   8.0589,6,       25,-999.000,9,-999.0000,9, -999.00,9, -999.00,9,  -999.0,9,  -999.0,-999.000,9,-999.000,     -999.0,9, -999.00,9, -999.00,9, -999.00,9,     -999.0,9,  -999.0,9, 20130324,      141,  31.8026, 133.6673,    34.8327,2,     -999.0,9,     -999.0,9,    22.5346,2,     -999.0,9,     -999.0,9,-999.0000, -999.00,-999.000
318M20130321,       P02W,       8,          1,         34,         34,2,20130323,       2322,    31.8068,   133.6466,       4229,    49.4,  22.5446,  34.6748,2,   34.674,2,    213.8,2,   212.8,2,    1.46,2,    0.03,2,    0.04,2,    0.05,2,-999.000,9,-999.000,9,-999.000,9,-999.0000,9,  -999.0,9, -999.00,9,-999.0000,9,  -999.00,-999.000,9,-999.0000,9, -999.00,9, -999.00,9,  -999.0,9,  -999.0,-999.000,9,-999.000,     -999.0,9, -999.00,9, -999.00,9, -999.00,9,     -999.0,9,  -999.0,9, 20130324,      139,  31.8023, 133.6667,    34.8375,2,     -999.0,9,     -999.0,9,    22.5455,2,     -999.0,9,     -999.0,9,-999.0000, -999.00,-999.000
318M20130321,       P02W,       8,          1,         33,         33,2,20130323,       2322,    31.8068,   133.6466,       4229,    73.6,  22.2585,  34.6868,2,  34.6885,2,    213.7,2,   210.5,2,    1.46,2,    0.18,2,    0.23,2,    0.06,2,   1.965,2,   1.168,2,   0.141,2,      1.5,2,  -999.0,9, -999.00,9,-999.0000,9,  -999.00,-999.000,9,-999.0000,9, -999.00,9, -999.00,9,  -999.0,9,  -999.0,-999.000,9,-999.000,     -999.0,9, -999.00,9, -999.00,9, -999.00,9,     -999.0,9,  -999.0,9, 20130324,      137,   31.802,  133.666,    34.8521,2,     -999.0,9,     -999.0,9,    22.1859,3,     -999.0,9,     -999.0,9,-999.0000, -999.00,-999.000
318M20130321,       P02W,       8,          1,         32,         32,2,20130323,       2322,    31.8068,   133.6466,       4229,     100,  21.6425,  34.7093,2,  34.7091,2,    209.6,2,   211.2,2,    1.37,2,    0.43,2,    0.29,2,    0.09,2,-999.000,9,-999.000,9,-999.000,9,-999.0000,9,  1978.4,2, 2276.24,6,   8.0443,2,       25,-999.000,9,-999.0000,9, -999.00,9, -999.00,9,  -999.0,9,  -999.0,-999.000,9,-999.000,     -999.0,9, -999.00,9, -999.00,9, -999.00,9,     -999.0,9,  -999.0,9, 20130324,      135,  31.8016, 133.6652,    34.8728,2,     -999.0,9,     -999.0,9,    21.6418,2,     -999.0,9,     -999.0,9,-999.0000, -999.00,-999.000
318M20130321,       P02W,       8,          1,         31,         31,2,20130323,       2322,    31.8068,   133.6466,       4229,   127.2,  21.3963,  34.7231,2,  34.7255,2,    210.5,2,   212.1,2,    1.46,2,    0.47,2,    0.29,2,    0.09,2,   2.047,2,   1.204,2,   0.175,2,     1.53,2,  -999.0,9, -999.00,9,-999.0000,9,  -999.00,-999.000,9,-999.0000,9, -999.00,9, -999.00,9,  -999.0,9,  -999.0,-999.000,9,-999.000,     -999.0,9, -999.00,9, -999.00,9, -999.00,9,     -999.0,9,  -999.0,9, 20130324,      133,  31.8014, 133.6647,    34.8892,2,     -999.0,9,     -999.0,9,    21.3969,2,     -999.0,9,     -999.0,9,-999.0000, -999.00,-999.000
318M20130321,       P02W,       8,          1,         30,         30,2,20130323,       2322,    31.8068,   133.6466,       4229,   162.2,  20.9759,  34.7327,2,  34.7329,2,    204.7,2,   203.1,2,    2.15,2,    1.64,2,    0.03,2,    0.14,2,-999.000,9,-999.000,9,-999.000,9,-999.0000,9,  -999.0,9, -999.00,9,-999.0000,9,  -999.00,-999.000,9,-999.0000,9, -999.00,9, -999.00,9,  -999.0,9,  -999.0,-999.000,9,-999.000,     -999.0,9, -999.00,9, -999.00,9, -999.00,9,     -999.0,9,  -999.0,9, 20130324,      131,  31.8012, 133.6642,    34.8967,2,     -999.0,9,     -999.0,9,    20.9771,2,     -999.0,9,     -999.0,9,-999.0000, -999.00,-999.000
318M20130321,       P02W,       8,          1,         29,         29,2,20130323,       2322,    31.8068,   133.6466,       4229,   206.9,  20.4218,  34.7441,2,  34.7434,2,    205.9,2,   203.6,2,    2.44,2,     1.9,2,    0.02,2,    0.16,2,   2.122,2,   1.246,2,   0.107,2,     2.54,2,  2000.6,2, 2282.54,2,   8.0078,6,       25,-999.000,9,-999.0000,9, -999.00,9, -999.00,9,  -999.0,9,  -999.0,-999.000,9,-999.000,     -999.0,9, -999.00,9, -999.00,9, -999.00,9,     -999.0,9,  -999.0,9, 20130324,      129,   31.801, 133.6638,    34.9072,2,     -999.0,9,     -999.0,9,     20.422,2,     -999.0,9,     -999.0,9,-999.0000, -999.00,-999.000
318M20130321,       P02W,       8,          1,         28,         28,2,20130323,       2322,    31.8068,   133.6466,       4229,   252.8,  18.9971,  34.7893,2,  34.7884,2,    195.2,2,   196.2,2,    3.03,2,    3.33,2,    0.01,2,    0.23,2,-999.000,9,-999.000,9,-999.000,9,-999.0000,9,  -999.0,9, -999.00,9,-999.0000,9,  -999.00,-999.000,9,-999.0000,9, -999.00,9, -999.00,9,  -999.0,9,  -999.0,-999.000,9,-999.000,     -999.0,9, -999.00,9, -999.00,9, -999.00,9,     -999.0,9,  -999.0,9, 20130324,      127,  31.8008, 133.6637,    34.9524,2,     -999.0,9,     -999.0,9,    18.9948,2,     -999.0,9,     -999.0,9,-999.0000, -999.00,-999.000
318M20130321,       P02W,       8,          1,         27,         27,2,20130323,       2322,    31.8068,   133.6466,       4229,   302.6,  17.6533,  34.7157,2,  34.7176,2,    190.4,2,   191.3,2,    5.17,2,     5.5,2,    0.01,2,    0.38,2,   2.438,2,   1.380,2,   0.027,2,-999.0000,5,  2040.9,2, 2284.24,2,    7.933,2,       25,-999.000,9,-999.0000,9, -999.00,9, -999.00,9,  -999.0,9,  -999.0,-999.000,9,-999.000,     -999.0,9, -999.00,9, -999.00,9, -999.00,9,     -999.0,9,  -999.0,9, 20130324,      124,  31.8007, 133.6635,    34.8813,2,     -999.0,9,     -999.0,9,    17.6531,2,     -999.0,9,     -999.0,9,-999.0000, -999.00,-999.000
318M20130321,       P02W,       8,          1,         26,         26,2,20130323,       2322,    31.8068,   133.6466,       4229,   358.5,  16.4033,   34.644,2,  34.6433,2,    184.7,2,   184.7,2,     8.3,2,    7.96,2,    0.01,2,    0.56,2,-999.000,9,-999.000,9,-999.000,9,-999.0000,9,  -999.0,9, -999.00,9,-999.0000,9,  -999.00,-999.000,9,-999.0000,9, -999.00,9, -999.00,9,  -999.0,9,  -999.0,-999.000,9,-999.000,     -999.0,9, -999.00,9, -999.00,9, -999.00,9,     -999.0,9,  -999.0,9, 20130324,      122,  31.8006, 133.6632,    34.8067,2,     -999.0,9,     -999.0,9,    16.4044,2,     -999.0,9,     -999.0,9,-999.0000, -999.00,-999.000
318M20130321,       P02W,       8,          1,         25,         25,2,20130323,       2322,    31.8068,   133.6466,       4229,   404.3,   14.387,  34.5303,2,   34.531,2,    169.9,2,   168.8,2,   18.16,2,   12.66,2,    0.01,2,    0.91,2,   2.451,2,   1.338,2,   0.042,2,-999.0000,5,  2095.4,2, 2295.14,3,   7.8205,2,       25,-999.000,9,-999.0000,9, -999.00,9, -999.00,9,  -999.0,9,  -999.0,-999.000,9,-999.000,     -999.0,9, -999.00,9, -999.00,9, -999.00,9,     -999.0,9,  -999.0,9, 20130324,      120,  31.8007, 133.6628,    34.6938,2,     -999.0,9,     -999.0,9,    14.3891,2,     -999.0,9,     -999.0,9,-999.0000, -999.00,-999.000
318M20130321,       P02W,       8,          1,         24,         24,2,20130323,       2322,    31.8068,   133.6466,       4229,   452.1,  12.2077,  34.4127,2,  34.4123,2,    161.6,2,   160.4,2,   26.16,2,   16.85,2,       0,2,    1.19,2,-999.000,9,-999.000,9,-999.000,9,-999.0000,9,  -999.0,9, -999.00,9,-999.0000,9,  -999.00,-999.000,9,-999.0000,9, -999.00,9, -999.00,9,  -999.0,9,  -999.0,-999.000,9,-999.000,     -999.0,9, -999.00,9, -999.00,9, -999.00,9,     -999.0,9,  -999.0,9, 20130324,      118,   31.801, 133.6625,    34.5745,2,     -999.0,9,     -999.0,9,    12.2074,2,     -999.0,9,     -999.0,9,-999.0000, -999.00,-999.000
318M20130321,       P02W,       8,          1,         23,         23,2,20130323,       2322,    31.8068,   133.6466,       4229,   501.9,  10.7395,  34.3035,2,  34.3096,2,    156.6,2,   156.7,2,   29.68,2,   19.49,2,       0,2,    1.39,2,   2.575,2,   1.333,2,   0.065,2,-999.0000,5,  2142.9,2, 2277.94,2,   7.7022,2,       25,-999.000,9,-999.0000,9, -999.00,9, -999.00,9,  -999.0,9,  -999.0,-999.000,9,-999.000,     -999.0,9, -999.00,9, -999.00,9, -999.00,9,     -999.0,9,  -999.0,9, 20130324,      116,  31.8012, 133.6623,    34.4714,2,     -999.0,9,     -999.0,9,    10.7387,2,     -999.0,9,     -999.0,9,-999.0000, -999.00,-999.000
318M20130321,       P02W,       8,          1,         22,         38,2,20130323,       2322,    31.8068,   133.6466,       4229,   596.6,   8.7367,  34.2981,2,  34.2998,2,    126.6,2,   126.1,2,   53.21,2,   25.85,2,       0,2,    1.86,2,-999.000,9,-999.000,9,-999.000,9,-999.0000,9,  -999.0,9, -999.00,9,-999.0000,9,  -999.00,-999.000,9,-999.0000,9, -999.00,9, -999.00,9,  -999.0,9,  -999.0,-999.000,9,-999.000,     -999.0,9, -999.00,9, -999.00,9, -999.00,9,     -999.0,9,  -999.0,9, 20130324,      113,  31.8014, 133.6621,    34.4616,2,     -999.0,9,     -999.0,9,     8.7294,2,     -999.0,9,     -999.0,9,-999.0000, -999.00,-999.000
318M20130321,       P02W,       8,          1,         21,         21,2,20130323,       2322,    31.8068,   133.6466,       4229,   702.4,   6.0876,  34.2131,2,  34.2157,2,     95.4,2,    96.3,2,   77.23,2,   33.02,2,       0,2,    2.38,2,   1.422,2,   0.681,2,   0.038,2,     0.08,2,  2252.4,2, 2330.05,2,   7.4837,2,       25,-999.000,9,-999.0000,9, -999.00,9, -999.00,9,  -999.0,9,  -999.0,-999.000,9,-999.000,     -999.0,9, -999.00,9, -999.00,9, -999.00,9,     -999.0,9,  -999.0,9, 20130324,      109,  31.8016, 133.6619,     34.377,2,     -999.0,9,     -999.0,9,     6.0882,2,     -999.0,9,     -999.0,9,-999.0000, -999.00,-999.000
318M20130321,       P02W,       8,          1,         20,         20,2,20130323,       2322,    31.8068,   133.6466,       4229,   803.3,   5.0118,  34.2586,2,  34.2598,2,     75.3,2,    76.7,2,   94.81,2,   36.54,2,       0,2,    2.64,2,-999.000,9,-999.000,9,-999.000,9,-999.0000,9,  -999.0,9, -999.00,9,-999.0000,9,  -999.00,-999.000,9,-999.0000,9, -999.00,9, -999.00,9,  -999.0,9,  -999.0,-999.000,9,-999.000,     -999.0,9, -999.00,9, -999.00,9, -999.00,9,     -999.0,9,  -999.0,9, 20130324,      106,  31.8017, 133.6617,    34.4214,2,     -999.0,9,     -999.0,9,      5.012,2,     -999.0,9,     -999.0,9,-999.0000, -999.00,-999.000
318M20130321,       P02W,       8,          1,         19,         19,2,20130323,       2322,    31.8068,   133.6466,       4229,   903.9,   4.2932,  34.3394,2,   34.341,2,     67.4,2,    66.4,2,  109.15,2,    38.5,2,       0,2,    2.77,2,   0.553,2,   0.251,2,   0.029,2,     0.19,2,    2313,2, 2349.45,2,    7.411,2,       25,-999.000,9,-999.0000,9, -999.00,9, -999.00,9,  -999.0,9,  -999.0,-999.000,9,-999.000,     -999.0,9, -999.00,9, -999.00,9, -999.00,9,     -999.0,9,  -999.0,9, 20130324,      103,  31.8019, 133.6616,     34.503,2,     -999.0,9,     -999.0,9,     4.2931,2,     -999.0,9,     -999.0,9,-999.0000, -999.00,-999.000
318M20130321,       P02W,       8,          1,         18,         18,2,20130323,       2322,    31.8068,   133.6466,       4229,  1006.6,   3.7405,  34.4028,2,  34.4034,2,     65.1,2,    65.6,2,  120.57,2,   39.42,2,       0,2,    2.83,2,-999.000,9,-999.000,9,-999.000,9,-999.0000,9,  -999.0,9, -999.00,9,-999.0000,9,  -999.00,-999.000,9,-999.0000,9, -999.00,9, -999.00,9,  -999.0,9,  -999.0,-999.000,9,-999.000,     -999.0,9, -999.00,9, -999.00,9, -999.00,9,     -999.0,9,  -999.0,9, 20130324,      100,  31.8021, 133.6613,    34.5657,2,     -999.0,9,     -999.0,9,     3.7407,2,     -999.0,9,     -999.0,9,-999.0000, -999.00,-999.000
318M20130321,       P02W,       8,          1,         17,         17,2,20130323,       2322,    31.8068,   133.6466,       4229,  1105.8,   3.3521,  34.4289,2,  34.4301,2,     64.2,2,    63.4,2,  128.77,2,   40.08,2,       0,2,    2.86,2,   0.266,2,   0.108,2,   0.009,2,     0.14,2,  2337.7,2, 2388.76,3,   7.4031,2,       25,-999.000,9,-999.0000,9, -999.00,9, -999.00,9,  -999.0,9,  -999.0,-999.000,9,-999.000,     -999.0,9, -999.00,9, -999.00,9, -999.00,9,     -999.0,9,  -999.0,9, 20130324,       57,  31.8022, 133.6611,    34.5925,2,     -999.0,9,     -999.0,9,     3.3522,2,     -999.0,9,     -999.0,9,-999.0000, -999.00,-999.000
318M20130321,       P02W,       8,          1,         16,         16,2,20130323,       2322,    31.8068,   133.6466,       4229,  1207.3,   3.0681,  34.4617,2,   34.462,2,     65.5,2,    66.9,2,  134.13,2,   40.19,2,       0,2,    2.88,2,-999.000,9,-999.000,9,-999.000,9,-999.0000,9,  -999.0,9, -999.00,9,-999.0000,9,  -999.00,-999.000,9,-999.0000,9, -999.00,9, -999.00,9,  -999.0,9,  -999.0,-999.000,9,-999.000,     -999.0,9, -999.00,9, -999.00,9, -999.00,9,     -999.0,9,  -999.0,9, 20130324,       53,  31.8025, 133.6609,    34.6245,2,     -999.0,9,     -999.0,9,     3.0682,2,     -999.0,9,     -999.0,9,-999.0000, -999.00,-999.000
318M20130321,       P02W,       8,          1,         15,         15,2,20130323,       2322,    31.8068,   133.6466,       4229,  1306.1,    2.838,  34.4851,2,  34.4781,2,     68.2,2,    67.5,2,  137.35,2,   40.06,2,       0,2,    2.86,2,   0.166,2,   0.070,2,   0.002,2,     0.14,2,  -999.0,9, -999.00,9,-999.0000,9,  -999.00,-999.000,9,-999.0000,9, -999.00,9, -999.00,9,  -999.0,9,  -999.0,-999.000,9,-999.000,     -999.0,9, -999.00,9, -999.00,9, -999.00,9,     -999.0,9,  -999.0,9, 20130324,       50,  31.8027, 133.6607,    34.6406,2,     -999.0,9,     -999.0,9,      2.838,2,     -999.0,9,     -999.0,9,-999.0000, -999.00,-999.000
318M20130321,       P02W,       8,          1,         14,         14,2,20130323,       2322,    31.8068,   133.6466,       4229,  1409.3,    2.663,  34.5075,2,  34.5083,2,     73.3,2,    73.8,2,  140.86,2,   39.88,2,       0,2,    2.86,2,-999.000,9,-999.000,9,-999.000,9,-999.0000,9,  -999.0,9, -999.00,9,-999.0000,9,  -999.00,-999.000,9,-999.0000,9, -999.00,9, -999.00,9,  -999.0,9,  -999.0,-999.000,9,-999.000,     -999.0,9, -999.00,9, -999.00,9, -999.00,9,     -999.0,9,  -999.0,9, 20130324,       47,  31.8029, 133.6604,     34.671,2,     -999.0,9,     -999.0,9,     2.6631,2,     -999.0,9,     -999.0,9,-999.0000, -999.00,-999.000
318M20130321,       P02W,       8,          1,         13,         13,2,20130323,       2322,    31.8068,   133.6466,       4229,  1512.3,   2.5454,  34.5231,2,   34.525,2,     77.7,2,    77.2,2,  143.11,2,   39.79,2,       0,2,    2.84,2,   0.123,2,   0.049,2,   0.005,2,     0.16,2,  2348.8,2, 2392.36,2,   7.4297,2,       25,-999.000,9,-999.0000,9, -999.00,9, -999.00,9,  -999.0,9,  -999.0,-999.000,9,-999.000,     -999.0,9, -999.00,9, -999.00,9, -999.00,9,     -999.0,9,  -999.0,9, 20130324,       43,  31.8032, 133.6602,    34.6878,2,     -999.0,9,     -999.0,9,     2.5457,2,     -999.0,9,     -999.0,9,-999.0000, -999.00,-999.000
318M20130321,       P02W,       8,          1,         12,         12,2,20130323,       2322,    31.8068,   133.6466,       4229,  1615.8,   2.4609,  34.5351,2,  34.5364,2,       81,2,    80.7,2,  144.18,2,   39.62,2,       0,2,    2.83,2,-999.000,9,-999.000,9,-999.000,9,-999.0000,9,  -999.0,9, -999.00,9,-999.0000,9,  -999.00,-999.000,9,-999.0000,9, -999.00,9, -999.00,9,  -999.0,9,  -999.0,-999.000,9,-999.000,     -999.0,9, -999.00,9, -999.00,9, -999.00,9,     -999.0,9,  -999.0,9, 20130324,       40,  31.8034, 133.6599,    34.6992,2,     -999.0,9,     -999.0,9,      2.461,2,     -999.0,9,     -999.0,9,-999.0000, -999.00,-999.000
318M20130321,       P02W,       8,          1,         11,         11,2,20130323,       2322,    31.8068,   133.6466,       4229,  1819.2,   2.2806,  34.5616,2,  34.5623,2,     89.6,2,    89.4,2,  146.13,2,   39.09,2,       0,2,    2.79,2,   0.000,2,   0.000,2,   0.392,2,     0.09,2,  -999.0,9, -999.00,9,-999.0000,9,  -999.00,-999.000,9,-999.0000,9, -999.00,9, -999.00,9,  -999.0,9,  -999.0,-999.000,9,-999.000,     -999.0,9, -999.00,9, -999.00,9, -999.00,9,     -999.0,9,  -999.0,9, 20130324,       34,  31.8038, 133.6591,    34.7253,2,     -999.0,9,     -999.0,9,     2.2809,2,     -999.0,9,     -999.0,9,-999.0000, -999.00,-999.000
318M20130321,       P02W,       8,          1,         10,         10,2,20130323,       2322,    31.8068,   133.6466,       4229,  2022.4,   2.0749,  34.5917,2,  34.5924,2,    101.1,2,   101.8,2,  147.01,2,   38.44,2,       0,2,    2.73,2,-999.000,9,-999.000,9,-999.000,9,-999.0000,9,  2343.7,2, 2414.96,3,   7.4786,2,       25,-999.000,9,-999.0000,9, -999.00,9, -999.00,9,  -999.0,9,  -999.0,-999.000,9,-999.000,     -999.0,9, -999.00,9, -999.00,9, -999.00,9,     -999.0,9,  -999.0,9, 20130324,       29,  31.8041, 133.6584,    34.7555,2,     -999.0,9,     -999.0,9,     2.0749,2,     -999.0,9,     -999.0,9,-999.0000, -999.00,-999.000
318M20130321,       P02W,       8,          1,          9,          9,2,20130323,       2322,    31.8068,   133.6466,       4229,  2276.3,   1.8977,  34.6189,2,  34.6195,2,    115.5,2,   115.3,2,  146.42,2,   37.61,2,       0,2,    2.67,2,   0.038,2,   0.022,2,   0.026,2,        0,2,  -999.0,9, -999.00,9,-999.0000,9,  -999.00,-999.000,9,-999.0000,9, -999.00,9, -999.00,9,  -999.0,9,  -999.0,-999.000,9,-999.000,     -999.0,9, -999.00,9, -999.00,9, -999.00,9,     -999.0,9,  -999.0,9, 20130324,       23,  31.8044, 133.6575,    34.7827,2,     -999.0,9,     -999.0,9,     1.8975,2,     -999.0,9,     -999.0,9,-999.0000, -999.00,-999.000
318M20130321,       P02W,       8,          1,          8,          8,2,20130323,       2322,    31.8068,   133.6466,       4229,  2536.3,   1.7602,  34.6394,2,  34.6405,2,    125.9,2,   126.6,2,  145.73,2,      37,2,       0,2,    2.62,2,-999.000,9,-999.000,9,-999.000,9,-999.0000,9,  -999.0,9, -999.00,9,-999.0000,9,  -999.00,-999.000,9,-999.0000,9, -999.00,9, -999.00,9,  -999.0,9,  -999.0,-999.000,9,-999.000,     -999.0,9, -999.00,9, -999.00,9, -999.00,9,     -999.0,9,  -999.0,9, 20130324,       17,  31.8047, 133.6566,    34.8039,2,     -999.0,9,     -999.0,9,     1.7604,2,     -999.0,9,     -999.0,9,-999.0000, -999.00,-999.000