BOTTLE,20220817CCHSIOAMB
EXPOCODE,SECT_ID,STNNBR,CASTNO,SAMPNO,BTLNBR,BTLNBR_FLAG_W,DATE,TIME,LATITUDE,LONGITUDE,DEPTH,CTDPRS,CTDTMP,CTDSAL,CTDSAL_FLAG_W,SALNTY,SALNTY_FLAG_W,CTDOXY,CTDOXY_FLAG_W,OXYGEN,OXYGEN_FLAG_W,SILCAT,SILCAT_FLAG_W,NITRAT,NITRAT_FLAG_W,NITRIT,NITRIT_FLAG_W,PHSPHT,PHSPHT_FLAG_W,CFC-11,CFC-11_FLAG_W,CFC-12,CFC-12_FLAG_W,CFC113,CFC113_FLAG_W,SF6,SF6_FLAG_W,TCARBN,TCARBN_FLAG_W,ALKALI,ALKALI_FLAG_W,PH_TOT,PH_TOT_FLAG_W,PH_TMP,TRITUM,TRITUM_FLAG_W,HELIUM,HELIUM_FLAG_W,DELHE3,DELHE3_FLAG_W,DELC13,DELC13_FLAG_W,DELC14,DELC14_FLAG_W,C14ERR,NEON,NEON_FLAG_W,NEONER,I-129,I-129_FLAG_W,SR-90,SR-90_FLAG_W,DOC,DOC_FLAG_W,TDN,TDN_FLAG_W,CALCIUM,CALCIUM_FLAG_W,D15N_NO3,D15N_NO3_FLAG_W,BTL_DATE,BTL_TIME,BTL_LAT,BTL_LON,SALTREF,SALTREF_FLAG_W,CS-137,CS-137_FLAG_W,CS-134,CS-134_FLAG_W,REFTMP,REFTMP_FLAG_W,LAB_DEN,LAB_DEN_FLAG_W,D18O_NO3,D18O_NO3_FLAG_W,HELIER,DELHER,TRITER
,,,,,,,,,,,METERS,DBAR,ITS-90,PSS-78,,PSS-78,,UMOL/KG,,UMOL/KG,,UMOL/KG,,UMOL/KG,,UMOL/KG,,UMOL/KG,,PMOL/KG,,PMOL/KG,,PMOL/KG,,FMOL/KG,,UMOL/KG,,UMOL/KG,,,,DEG C,TU,,NMOL/KG,,PERCNT,,/MILLE,,/MILLE,,/MILLE,NMOL/KG,,NMOL/KG,BQ/M^3,,DM/.1MG,,UMOL/KG,,UMOL/KG,,MMOL/KG,,/MILLE,,,,,,G/KG,,BQ/M^3,,BQ/M^3,,ITS-90,,,,/MILLE,,NMOL/KG,PERCNT,TU
318M20130321,       P02E,     129,          1,         36,         36,2,20130525,       1020,    29.9998,  -132.5963,       4528,     3.7,  17.6568,  34.0907,2,  34.0917,2,    242.7,2,   243.4,2,    2.15,2,       0,2,       0,2,    0.13,2,   2.279,6,   1.379,6,-999.000,1,   1.6119,6,  2025.8,6,  2261.3,2,   7.9414,2,       25,-999.000,9,-999.0000,9, -999.00,9, -999.00,9,  -999.0,9,  -999.0,-999.000,9,-999.000,     -999.0,9, -999.00,9,   60.53,2,    5.35,2,     -999.0,9,  -999.0,9, 20130525,     1229,  30.0007,-132.5958,    34.2525,2,     -999.0,9,     -999.0,9,    17.6581,2,     -999.0,9,     -999.0,9,-999.0000, -999.00,-999.000
318M20130321,       P02E,     129,          1,         34,         34,2,20130525,       1020,    29.9998,  -132.5963,       4528,    28.9,  17.6637,   34.091,2,  34.0915,2,    243.6,2,   243.6,2,    2.25,2,       0,2,       0,2,    0.13,2,   2.298,2,   1.376,2,-999.000,1,   1.6014,2,  2025.8,2,  2261.9,2,   7.9425,2,       25,-999.000,9,-999.0000,9, -999.00,9, -999.00,9,  -999.0,9,  -999.0,-999.000,9,-999.000,     -999.0,9, -999.00,9,   60.21,2,    5.03,2,     -999.0,9,  -999.0,9, 20130525,     1226,  30.0005,-132.5956,    34.2523,2,     -999.0,9,     -999.0,9,    17.6593,2,     -999.0,9,     -999.0,9,-999.0000, -999.00,-999.000
318M20130321,       P02E,     129,          1,         33,         33,2,20130525,       1020,    29.9998,  -132.5963,       4528,    65.4,   16.785,   33.994,2,  34.0106,2,    247.5,2,   247.6,2,    2.15,2,       0,2,       0,2,    0.14,2,   2.368,2,   1.410,2,-999.000,1,   1.5845,2,  2021.8,2,  2257.2,2,   7.9395,2,       25,-999.000,9,-999.0000,9, -999.00,9, -999.00,9,  -999.0,9,  -999.0,-999.000,9,-999.000,     -999.0,9, -999.00,9,   60.87,2,    3.79,2,     -999.0,9,  -999.0,9, 20130525,     1224,  30.0004,-132.5955,     34.171,2,     -999.0,9,     -999.0,9,    16.8016,2,     -999.0,9,     -999.0,9,-999.0000, -999.00,-999.000
318M20130321,       P02E,     129,          1,         32,         32,2,20130525,       1020,    29.9998,  -132.5963,       4528,    90.1,  16.4741,   34.041,2,  34.0281,2,    245.2,2,   247.1,2,    2.34,2,       0,2,       0,2,    0.15,2,   2.395,2,   1.431,2,-999.000,1,   1.5953,2,  2023.1,2,    2256,2,   7.9378,6,       25,-999.000,9,-999.0000,9, -999.00,9, -999.00,9,  -999.0,9,  -999.0,-999.000,9,-999.000,     -999.0,9, -999.00,9,   63.38,2,    4.21,2,     -999.0,9,  -999.0,9, 20130525,     1222,  30.0002,-132.5955,    34.1885,2,     -999.0,9,     -999.0,9,    16.4861,3,     -999.0,9,     -999.0,9,-999.0000, -999.00,-999.000
318M20130321,       P02E,     129,          1,         31,         31,2,20130525,       1020,    29.9998,  -132.5963,       4528,   135.6,  15.2093,  33.9783,2,  33.9961,2,    238.9,2,   238.6,2,    2.93,2,    0.54,2,    0.12,2,    0.22,2,   2.528,2,   1.494,2,-999.000,1,   1.5876,2,  -999.0,9, -999.00,9,-999.0000,9,  -999.00,-999.000,9,-999.0000,9, -999.00,9, -999.00,9,  -999.0,9,  -999.0,-999.000,9,-999.000,     -999.0,9, -999.00,9,   54.13,2,    5.13,2,     -999.0,9,  -999.0,9, 20130525,     1220,  30.0002,-132.5954,    34.1564,2,     -999.0,9,     -999.0,9,    15.2275,3,     -999.0,9,     -999.0,9,-999.0000, -999.00,-999.000
318M20130321,       P02E,     129,          1,         30,         30,2,20130525,       1020,    29.9998,  -132.5963,       4528,   185.5,  11.0159,  33.5689,2,  33.5726,2,    219.3,2,   222.7,2,     8.4,2,    8.94,2,    0.02,2,     0.8,2,   3.141,2,   1.804,2,-999.000,1,   1.6504,2,  2070.6,2, 2224.09,6,    7.767,2,       25,-999.000,9,-999.0000,9, -999.00,9, -999.00,9,  -999.0,9,  -999.0,-999.000,9,-999.000,     -999.0,9, -999.00,9,   48.62,2,   13.98,3,     -999.0,9,  -999.0,9, 20130525,     1219,  30.0001,-132.5955,    33.7309,2,     -999.0,9,     -999.0,9,    11.0222,2,     -999.0,9,     -999.0,9,-999.0000, -999.00,-999.000
318M20130321,       P02E,     129,          1,         29,         29,2,20130525,       1020,    29.9998,  -132.5963,       4528,   236.2,   9.4821,  33.8271,2,  33.8254,2,    187.3,2,   202.4,2,   17.09,2,   16.41,2,    0.01,2,    1.23,2,   3.298,2,   1.842,2,-999.000,1,   1.4144,2,  -999.0,9, -999.00,9,-999.0000,9,  -999.00,-999.000,9,-999.0000,9, -999.00,9, -999.00,9,  -999.0,9,  -999.0,-999.000,9,-999.000,     -999.0,9, -999.00,9,   41.81,2,   20.97,3,     -999.0,9,  -999.0,9, 20130525,     1217,  30.0002,-132.5957,    33.9849,2,     -999.0,9,     -999.0,9,     9.4555,2,     -999.0,9,     -999.0,9,-999.0000, -999.00,-999.000
318M20130321,       P02E,     129,          1,         27,         27,2,20130525,       1020,    29.9998,  -132.5963,       4528,   286.4,   8.5846,  33.9433,2,  33.9415,2,    166.7,2,     171,2,   26.66,2,   22.05,2,    0.01,2,    1.61,2,   3.221,2,   1.768,2,-999.000,1,   1.2106,2,    2156,2,  2252.8,2,   7.6131,6,       25,-999.000,9,-999.0000,9, -999.00,9, -999.00,9,  -999.0,9,  -999.0,-999.000,9,-999.000,     -999.0,9, -999.00,9,   41.48,2,   27.03,3,     -999.0,9,  -999.0,9, 20130525,     1215,  30.0001,-132.5959,    34.1016,2,     -999.0,9,     -999.0,9,     8.5779,2,     -999.0,9,     -999.0,9,-999.0000, -999.00,-999.000
318M20130321,       P02E,     129,          1,         26,         26,2,20130525,       1020,    29.9998,  -132.5963,       4528,   336.3,   7.7509,  33.9855,2,  33.9844,2,    131.1,2,     143,2,   36.82,2,    26.4,2,    0.01,2,    1.92,2,   2.946,2,   1.552,2,-999.000,1,   0.9444,2,  -999.0,9, -999.00,9,-999.0000,9,  -999.00,-999.000,9,-999.0000,9, -999.00,9, -999.00,9,  -999.0,9,  -999.0,-999.000,9,-999.000,     -999.0,9, -999.00,9,    39.6,2,   32.81,3,     -999.0,9,  -999.0,9, 20130525,     1213,  30.0001, -132.596,    34.1447,2,     -999.0,9,     -999.0,9,     7.7556,2,     -999.0,9,     -999.0,9,-999.0000, -999.00,-999.000
318M20130321,       P02E,     129,          1,         25,         25,2,20130525,       1020,    29.9998,  -132.5963,       4528,   385.3,   7.0283,  33.9965,2,   33.996,2,    106.1,2,     115,2,   46.78,2,   30.34,2,    0.01,2,    2.22,2,   2.553,6,   1.302,6,-999.000,1,   0.6154,6,    2218,2, 2272.51,2,   7.4801,2,       25,-999.000,9,-999.0000,9, -999.00,9, -999.00,9,  -999.0,9,  -999.0,-999.000,9,-999.000,     -999.0,9, -999.00,9,   41.85,2, -999.00,9,     -999.0,9,  -999.0,9, 20130525,     1211,  30.0001,-132.5962,    34.1563,2,     -999.0,9,     -999.0,9,     7.0293,2,     -999.0,9,     -999.0,9,-999.0000, -999.00,-999.000
318M20130321,       P02E,     129,          1,         24,         24,2,20130525,       1020,    29.9998,  -132.5963,       4528,   464.5,   6.0921,  34.0323,2,  34.0315,2,     67.3,2,    72.6,2,   63.08,2,   35.91,2,       0,2,    2.64,2,   1.786,2,   0.878,2,-999.000,1,    0.335,2,  2261.3,2, 2284.91,2,   7.3816,6,       25,-999.000,9,-999.0000,9, -999.00,9, -999.00,9,  -999.0,9,  -999.0,-999.000,9,-999.000,     -999.0,9, -999.00,9,   39.85,2, -999.00,9,     -999.0,9,  -999.0,9, 20130525,     1208,  30.0001,-132.5965,    34.1919,2,     -999.0,9,     -999.0,9,     6.0951,2,     -999.0,9,     -999.0,9,-999.0000, -999.00,-999.000
318M20130321,       P02E,     129,          1,         23,         23,2,20130525,       1020,    29.9998,  -132.5963,       4528,   533.3,   5.7459,  34.1108,2,  34.1099,2,     39.6,2,    40.7,2,   73.24,2,   38.86,2,       0,2,    2.91,2,   1.087,2,   0.518,2,-999.000,1,   0.1818,2,  2292.9,2, 2299.02,2,   7.3246,2,       25,-999.000,9,-999.0000,9, -999.00,9, -999.00,9,  -999.0,9,  -999.0,-999.000,9,-999.000,     -999.0,9, -999.00,9,   40.19,2, -999.00,9,     -999.0,9,  -999.0,9, 20130525,     1206,  29.9999,-132.5966,    34.2707,2,     -999.0,9,     -999.0,9,     5.7462,2,     -999.0,9,     -999.0,9,-999.0000, -999.00,-999.000
318M20130321,       P02E,     129,          1,         22,         22,2,20130525,       1020,    29.9998,  -132.5963,       4528,     670,   4.7511,  34.2107,2,   34.213,2,     18.2,2,    19.4,2,   96.27,2,   42.22,2,       0,2,    3.15,2,   0.275,2,   0.134,2,-999.000,1,        0,2,  2330.1,2, 2326.13,2,    7.293,2,       25,-999.000,9,-999.0000,9, -999.00,9, -999.00,9,  -999.0,9,  -999.0,-999.000,9,-999.000,     -999.0,9, -999.00,9,    37.5,2, -999.00,9,     -999.0,9,  -999.0,9, 20130525,     1202,  29.9996,-132.5966,    34.3743,2,     -999.0,9,     -999.0,9,     4.7526,2,     -999.0,9,     -999.0,9,-999.0000, -999.00,-999.000
318M20130321,       P02E,     129,          1,         21,         21,2,20130525,       1020,    29.9998,  -132.5963,       4528,     771,   4.4025,  34.3076,2,  34.3089,2,     13.3,2,    12.9,2,  107.01,2,   43.18,2,       0,2,    3.23,2,   0.067,2,   0.036,2,-999.000,1,        0,2,  2346.4,2, 2343.53,2,   7.2917,2,       25,-999.000,9,-999.0000,9, -999.00,9, -999.00,9,  -999.0,9,  -999.0,-999.000,9,-999.000,     -999.0,9, -999.00,9,   37.41,2, -999.00,9,     -999.0,9,  -999.0,9, 20130525,     1158,  29.9996,-132.5966,    34.4707,2,     -999.0,9,     -999.0,9,     4.4031,2,     -999.0,9,     -999.0,9,-999.0000, -999.00,-999.000
318M20130321,       P02E,     129,          1,         20,         20,2,20130525,       1020,    29.9998,  -132.5963,       4528,   870.9,   4.0889,  34.3844,2,  34.3835,2,     16.2,2,    16.3,2,  114.62,2,   43.57,2,       0,2,    3.25,2,   0.028,2,   0.016,2,-999.000,1,        0,2,  -999.0,9, -999.00,9,-999.0000,9,  -999.00,-999.000,9,-999.0000,9, -999.00,9, -999.00,9,  -999.0,9,  -999.0,-999.000,9,-999.000,     -999.0,9, -999.00,9,   36.75,2, -999.00,9,     -999.0,9,  -999.0,9, 20130525,     1155,  29.9998,-132.5964,    34.5456,2,     -999.0,9,     -999.0,9,     4.0893,2,     -999.0,9,     -999.0,9,-999.0000, -999.00,-999.000
318M20130321,       P02E,     129,          1,         19,         19,2,20130525,       1020,    29.9998,  -132.5963,       4528,   972.6,   3.8339,  34.4377,2,  34.4363,2,     23.1,2,    22.8,2,  120.47,2,   43.54,2,       0,2,    3.22,2,   0.015,2,   0.010,2,-999.000,1,   0.1229,2,  2359.4,2, 2366.04,2,   7.3277,2,       25,-999.000,9,-999.0000,9, -999.00,9, -999.00,9,  -999.0,9,  -999.0,-999.000,9,-999.000,     -999.0,9, -999.00,9,   36.99,2, -999.00,9,     -999.0,9,  -999.0,9, 20130525,     1151,       30,-132.5962,    34.5987,2,     -999.0,9,     -999.0,9,     3.8322,2,     -999.0,9,     -999.0,9,-999.0000, -999.00,-999.000
318M20130321,       P02E,     129,          1,         18,         18,2,20130525,       1020,    29.9998,  -132.5963,       4528,  1073.7,   3.6107,   34.477,2,   34.477,2,     29.5,2,    30.1,2,  124.37,2,   43.33,2,       0,2,    3.19,2,   0.011,2,   0.007,2,-999.000,1,        0,2,  2360.5,2, 2373.84,2,   7.3443,2,       25,-999.000,9,-999.0000,9, -999.00,9, -999.00,9,  -999.0,9,  -999.0,-999.000,9,-999.000,     -999.0,9, -999.00,9,    35.5,2, -999.00,9,     -999.0,9,  -999.0,9, 20130525,     1148,  30.0002, -132.596,    34.6395,2,     -999.0,9,     -999.0,9,     3.6102,2,     -999.0,9,     -999.0,9,-999.0000, -999.00,-999.000
318M20130321,       P02E,     129,          1,         17,         17,2,20130525,       1020,    29.9998,  -132.5963,       4528,  1175.3,    3.411,  34.5043,2,   34.504,2,     35.8,2,    35.7,2,  129.44,2,   43.12,2,       0,2,    3.16,2,   0.010,2,   0.007,2,-999.000,1,        0,2,  -999.0,9, -999.00,9,-999.0000,9,  -999.00,-999.000,9,-999.0000,9, -999.00,9, -999.00,9,  -999.0,9,  -999.0,-999.000,9,-999.000,     -999.0,9, -999.00,9, -999.00,5, -999.00,9,     -999.0,9,  -999.0,9, 20130525,     1145,  30.0003,-132.5959,    34.6668,2,     -999.0,9,     -999.0,9,     3.4114,2,     -999.0,9,     -999.0,9,-999.0000, -999.00,-999.000
318M20130321,       P02E,     129,          1,         16,         16,2,20130525,       1020,    29.9998,  -132.5963,       4528,  1275.3,   3.2203,  34.5241,2,  34.5233,2,       41,2,    40.9,2,  133.74,2,   42.93,2,       0,2,    3.15,2,   0.009,2,   0.007,2,-999.000,1,        0,2,  2365.4,2, 2386.25,2,   7.3678,2,       25,-999.000,9,-999.0000,9, -999.00,9, -999.00,9,  -999.0,9,  -999.0,-999.000,9,-999.000,     -999.0,9, -999.00,9,   35.11,2, -999.00,9,     -999.0,9,  -999.0,9, 20130525,     1141,  30.0003, -132.596,    34.6861,2,     -999.0,9,     -999.0,9,     3.2204,2,     -999.0,9,     -999.0,9,-999.0000, -999.00,-999.000
318M20130321,       P02E,     129,          1,         15,         15,2,20130525,       1020,    29.9998,  -132.5963,       4528,  1376.5,   2.9905,  34.5447,2,  34.5437,2,     45.3,2,    45.6,2,  140.57,2,   42.74,2,       0,2,    3.13,2,   0.009,2,   0.007,2,-999.000,1,        0,2,  -999.0,9, -999.00,9,-999.0000,9,  -999.00,-999.000,9,-999.0000,9, -999.00,9, -999.00,9,  -999.0,9,  -999.0,-999.000,9,-999.000,     -999.0,9, -999.00,9,   34.65,2, -999.00,9,     -999.0,9,  -999.0,9, 20130525,     1138,  30.0001,-132.5961,    34.7066,2,     -999.0,9,     -999.0,9,     2.9913,2,     -999.0,9,     -999.0,9,-999.0000, -999.00,-999.000
318M20130321,       P02E,     129,          1,         14,         14,2,20130525,       1020,    29.9998,  -132.5963,       4528,  1547.5,   2.6801,    34.57,2,  34.5691,2,       55,2,    55.1,2,  147.98,2,   42.19,2,       0,2,    3.07,2,   0.009,2,   0.005,2,-999.000,1,   0.0449,2,  2369.2,2, 2401.25,2,    7.397,2,       25,-999.000,9,-999.0000,9, -999.00,9, -999.00,9,  -999.0,9,  -999.0,-999.000,9,-999.000,     -999.0,9, -999.00,9,   33.49,2, -999.00,9,     -999.0,9,  -999.0,9, 20130525,     1133,  29.9999,-132.5963,    34.7321,2,     -999.0,9,     -999.0,9,     2.6797,2,     -999.0,9,     -999.0,9,-999.0000, -999.00,-999.000
318M20130321,       P02E,     129,          1,         13,         13,2,20130525,       1020,    29.9998,  -132.5963,       4528,  1750.2,   2.3813,  34.5932,2,  34.5933,2,     65.3,2,    66.2,2,  155.79,2,   41.61,2,       0,2,    3.02,2,   0.005,2,   0.003,2,-999.000,1,        0,2,  2370.1,2, 2408.66,2,   7.4175,6,       25,-999.000,9,-999.0000,9, -999.00,9, -999.00,9,  -999.0,9,  -999.0,-999.000,9,-999.000,     -999.0,9, -999.00,9,   35.91,2, -999.00,9,     -999.0,9,  -999.0,9, 20130525,     1128,  29.9997,-132.5964,    34.7564,2,     -999.0,9,     -999.0,9,     2.3805,2,     -999.0,9,     -999.0,9,-999.0000, -999.00,-999.000
318M20130321,       P02E,     129,          1,         12,         12,2,20130525,       1020,    29.9998,  -132.5963,       4528,  1953.5,   2.1376,  34.6141,2,  34.6135,2,     75.4,2,    76.2,2,  161.84,2,   41.03,2,       0,2,    2.96,2,   0.004,2,   0.002,2,-999.000,1,        0,2,  2370.9,2, 2415.16,2,   7.4371,2,       25,-999.000,9,-999.0000,9, -999.00,9, -999.00,9,  -999.0,9,  -999.0,-999.000,9,-999.000,     -999.0,9, -999.00,9,    33.3,2, -999.00,9,     -999.0,9,  -999.0,9, 20130525,     1122,  29.9996,-132.5963,    34.7767,2,     -999.0,9,     -999.0,9,     2.1377,2,     -999.0,9,     -999.0,9,-999.0000, -999.00,-999.000
318M20130321,       P02E,     129,          1,         11,         11,2,20130525,       1020,    29.9998,  -132.5963,       4528,  2188.4,    1.931,  34.6327,2,  34.6326,2,     88.1,2,      88,2,  166.04,2,   40.24,2,       0,2,    2.89,2,   0.005,2,   0.003,2,-999.000,1,        0,2,  -999.0,9, -999.00,9,-999.0000,9,  -999.00,-999.000,9,-999.0000,9, -999.00,9, -999.00,9,  -999.0,9,  -999.0,-999.000,9,-999.000,     -999.0,9, -999.00,9,   35.65,2, -999.00,9,     -999.0,9,  -999.0,9, 20130525,     1117,  29.9996,-132.5964,    34.7959,2,     -999.0,9,     -999.0,9,      1.931,2,     -999.0,9,     -999.0,9,-999.0000, -999.00,-999.000
318M20130321,       P02E,     129,          1,         10,         10,2,20130525,       1020,    29.9998,  -132.5963,       4528,  2442.9,   1.7753,  34.6456,2,  34.6456,2,     97.4,2,    97.5,2,  169.45,2,   39.64,2,       0,2,    2.83,2,   0.005,2,   0.002,2,-999.000,1,        0,2,    2365,2, 2426.16,2,   7.4796,2,       25,-999.000,9,-999.0000,9, -999.00,9, -999.00,9,  -999.0,9,  -999.0,-999.000,9,-999.000,     -999.0,9, -999.00,9,    35.4,2, -999.00,9,     -999.0,9,  -999.0,9, 20130525,     1111,  29.9997,-132.5964,    34.8089,2,     -999.0,9,     -999.0,9,     1.7746,2,     -999.0,9,     -999.0,9,-999.0000, -999.00,-999.000
318M20130321,       P02E,     129,          1,          9,          9,2,20130525,       1020,    29.9998,  -132.5963,       4528,  2696.4,   1.6549,  34.6569,2,  34.6566,2,    107.2,2,   107.5,2,   171.6,2,   39.04,2,       0,2,    2.78,2,   0.007,2,   0.004,2,-999.000,1,        0,2,    2360,2, 2426.76,2,   7.4986,2,       25,-999.000,9,-999.0000,9, -999.00,9, -999.00,9,  -999.0,9,  -999.0,-999.000,9,-999.000,     -999.0,9, -999.00,9,   35.27,2, -999.00,9,     -999.0,9,  -999.0,9, 20130525,     1105,  30.0001,-132.5962,      34.82,2,     -999.0,9,     -999.0,9,     1.6547,2,     -999.0,9,     -999.0,9,-999.0000, -999.00,-999.000
318M20130321,       P02E,     129,          1,          8,          8,2,20130525,       1020,    29.9998,  -132.5963,       4528,  2951.9,   1.5716,  34.6654,2,  34.6648,2,    115.2,2,   116.1,2,  172.67,2,    38.5,2,       0,2,    2.73,2,   0.009,2,   0.008,2,-999.000,1,        0,2,  -999.0,9, -999.00,9,-999.0000,9,  -999.00,-999.000,9,-999.0000,9, -999.00,9, -999.00,9,  -999.0,9,  -999.0,-999.000,9,-999.000,     -999.0,9, -999.00,9,   35.48,2, -999.00,9,     -999.0,9,  -999.0,9, 20130525,     1059,  30.0005,-132.5962,    34.8283,2,     -999.0,9,     -999.0,9,     1.5717,2,     -999.0,9,     -999.0,9,-999.0000, -999.00,-999.000
318M20130321,       P02E,     129,          1,          7,          7,2,20130525,       1020,    29.9998,  -132.5963,       4528,  3241.9,   1.5127,  34.6734,2,  34.6723,2,    126.2,2,   125.7,2,   171.4,2,   37.88,2,       0,2,    2.67,2,-999.000,9,-999.000,9,-999.000,1,-999.0000,9,  2348.9,2, 2428.66,2,   7.5337,2,       25,-999.000,9,-999.0000,9, -999.00,9, -999.00,9,  -999.0,9,  -999.0,-999.000,9,-999.000,     -999.0,9, -999.00,9,   34.51,2, -999.00,9,     -999.0,9,  -999.0,9, 20130525,     1052,  30.0002,-132.5966,    34.8358,2,     -999.0,9,     -999.0,9,     1.5129,2,     -999.0,9,     -999.0,9,-999.0000, -999.00,-999.000
318M20130321,       P02E,     129,          1,          6,          6,2,20130525,       1020,    29.9998,  -132.5963,       4528,  3548.5,   1.4788,  34.6799,2,  34.6792,2,    133.8,2,   134.9,2,  168.27,2,   37.32,2,       0,2,    2.63,2,   0.007,2,   0.006,2,-999.000,1,        0,2,  -999.0,9, -999.00,9,-999.0000,9,  -999.00,-999.000,9,-999.0000,9, -999.00,9, -999.00,9,  -999.0,9,  -999.0,-999.000,9,-999.000,     -999.0,9, -999.00,9, -999.00,5, -999.00,9,     -999.0,9,  -999.0,9, 20130525,     1045,  30.0002,-132.5962,    34.8427,2,     -999.0,9,     -999.0,9,     1.4786,2,     -999.0,9,     -999.0,9,-999.0000, -999.00,-999.000