BOTTLE,20220817CCHSIOAMB
EXPOCODE,SECT_ID,STNNBR,CASTNO,SAMPNO,BTLNBR,BTLNBR_FLAG_W,DATE,TIME,LATITUDE,LONGITUDE,DEPTH,CTDPRS,CTDTMP,CTDSAL,CTDSAL_FLAG_W,SALNTY,SALNTY_FLAG_W,CTDOXY,CTDOXY_FLAG_W,OXYGEN,OXYGEN_FLAG_W,SILCAT,SILCAT_FLAG_W,NITRAT,NITRAT_FLAG_W,NITRIT,NITRIT_FLAG_W,PHSPHT,PHSPHT_FLAG_W,CFC-11,CFC-11_FLAG_W,CFC-12,CFC-12_FLAG_W,CFC113,CFC113_FLAG_W,SF6,SF6_FLAG_W,TCARBN,TCARBN_FLAG_W,ALKALI,ALKALI_FLAG_W,PH_TOT,PH_TOT_FLAG_W,PH_TMP,TRITUM,TRITUM_FLAG_W,HELIUM,HELIUM_FLAG_W,DELHE3,DELHE3_FLAG_W,DELC13,DELC13_FLAG_W,DELC14,DELC14_FLAG_W,C14ERR,NEON,NEON_FLAG_W,NEONER,I-129,I-129_FLAG_W,SR-90,SR-90_FLAG_W,DOC,DOC_FLAG_W,TDN,TDN_FLAG_W,CALCIUM,CALCIUM_FLAG_W,D15N_NO3,D15N_NO3_FLAG_W,BTL_DATE,BTL_TIME,BTL_LAT,BTL_LON,SALTREF,SALTREF_FLAG_W,CS-137,CS-137_FLAG_W,CS-134,CS-134_FLAG_W,REFTMP,REFTMP_FLAG_W,LAB_DEN,LAB_DEN_FLAG_W,D18O_NO3,D18O_NO3_FLAG_W,HELIER,DELHER,TRITER
,,,,,,,,,,,METERS,DBAR,ITS-90,PSS-78,,PSS-78,,UMOL/KG,,UMOL/KG,,UMOL/KG,,UMOL/KG,,UMOL/KG,,UMOL/KG,,PMOL/KG,,PMOL/KG,,PMOL/KG,,FMOL/KG,,UMOL/KG,,UMOL/KG,,,,DEG C,TU,,NMOL/KG,,PERCNT,,/MILLE,,/MILLE,,/MILLE,NMOL/KG,,NMOL/KG,BQ/M^3,,DM/.1MG,,UMOL/KG,,UMOL/KG,,MMOL/KG,,/MILLE,,,,,,G/KG,,BQ/M^3,,BQ/M^3,,ITS-90,,,,/MILLE,,NMOL/KG,PERCNT,TU
318M20130321,       P02W,      62,          1,         35,         35,2,20130424,       2333,    30.0002,   171.6106,       5243,     2.7,  18.2867,  34.7713,2,  34.7713,2,    236.8,2,     239,2,    2.24,2,    0.04,2,    0.01,2,    0.04,2,   2.571,2,   1.577,2,   0.222,2,     1.23,2,  2009.8,2, 2283.01,2,   7.9976,2,       25,   0.515,2,   1.7418,2,   -1.38,2, -999.00,9,  -999.0,9,  -999.0,   7.069,2,   0.033,     -999.0,9, -999.00,9, -999.00,9, -999.00,9,     -999.0,9,  -999.0,9, 20130425,      143,  30.0007, 171.6102,    34.9352,2,     -999.0,9,     -999.0,9,     18.287,2,     -999.0,9,     -999.0,9,   0.0073,    0.15,   0.011
318M20130321,       P02W,      62,          1,         36,         36,2,20130424,       2333,    30.0002,   171.6106,       5243,    27.6,   18.238,  34.7688,2,  34.7695,2,    237.6,2,     239,2,    2.34,2,    0.05,2,    0.01,2,    0.04,2,-999.000,9,-999.000,9,-999.000,9,-999.0000,9,  2010.7,2, 2282.81,2,   7.9974,6,       25,-999.000,9,-999.0000,9, -999.00,9, -999.00,9,  -999.0,9,  -999.0,-999.000,9,-999.000,     -999.0,9, -999.00,9, -999.00,9, -999.00,9,     -999.0,9,  -999.0,9, 20130425,      140,  30.0007, 171.6102,    34.9334,2,     -999.0,9,     -999.0,9,    18.2403,2,     -999.0,9,     -999.0,9,-999.0000, -999.00,-999.000
318M20130321,       P02W,      62,          1,         34,         34,2,20130424,       2333,    30.0002,   171.6106,       5243,    51.6,  17.3591,  34.7195,2,  34.7194,2,    244.6,2,   245.5,2,    2.05,2,    0.09,2,    0.03,2,    0.04,2,   2.674,2,   1.649,2,   0.227,2,     1.75,2,  2008.1,2, 2279.51,6,   7.9937,6,       25,   0.495,2,   1.7499,2,   -1.49,2, -999.00,9,  -999.0,9,  -999.0,   7.075,2,   0.033,     -999.0,9, -999.00,9, -999.00,9, -999.00,9,     -999.0,9,  -999.0,9, 20130425,      138,  30.0007, 171.6101,    34.8831,2,     -999.0,9,     -999.0,9,    17.3588,2,     -999.0,9,     -999.0,9,   0.0073,    0.15,   0.012
318M20130321,       P02W,      62,          1,         33,         33,2,20130424,       2333,    30.0002,   171.6106,       5243,    78.7,   16.782,  34.6708,2,  34.6751,2,    238.7,2,   233.5,2,    3.32,2,    1.96,2,    0.18,2,    0.17,2,-999.000,9,-999.000,9,-999.000,9,-999.0000,9,  2019.3,2, 2278.61,2,   7.9698,2,       25,-999.000,9,-999.0000,9, -999.00,9, -999.00,9,  -999.0,9,  -999.0,-999.000,9,-999.000,     -999.0,9, -999.00,9, -999.00,9, -999.00,9,     -999.0,9,  -999.0,9, 20130425,      137,  30.0008, 171.6101,    34.8386,2,     -999.0,9,     -999.0,9,     16.786,2,     -999.0,9,     -999.0,9,-999.0000, -999.00,-999.000
318M20130321,       P02W,      62,          1,         32,         32,2,20130424,       2333,    30.0002,   171.6106,       5243,     101,  16.5361,   34.655,2,  34.6569,2,      235,2,   235.3,2,    3.61,2,    2.21,2,    0.16,2,    0.19,2,   2.748,2,   1.642,2,   0.186,2,      1.5,2,  -999.0,9, -999.00,9,-999.0000,9,  -999.00,   0.478,2,-999.0000,9, -999.00,9, -999.00,9,  -999.0,9,  -999.0,-999.000,9,-999.000,     -999.0,9, -999.00,9, -999.00,9, -999.00,9,     -999.0,9,  -999.0,9, 20130425,      135,  30.0007,   171.61,    34.8203,2,     -999.0,9,     -999.0,9,     16.539,2,     -999.0,9,     -999.0,9,-999.0000, -999.00,   0.011
318M20130321,       P02W,      62,          1,         31,         31,2,20130424,       2333,    30.0002,   171.6106,       5243,   151.1,  16.0822,  34.6177,2,  34.6178,2,    225.6,2,   230.9,2,    4.49,2,    3.72,2,    0.12,2,    0.25,2,-999.000,9,-999.000,9,-999.000,9,-999.0000,9,  2027.2,2, 2272.61,2,   7.9476,2,       25,-999.000,9,-999.0000,9, -999.00,9, -999.00,9,  -999.0,9,  -999.0,-999.000,9,-999.000,     -999.0,9, -999.00,9, -999.00,9, -999.00,9,     -999.0,9,  -999.0,9, 20130425,      132,  30.0007,   171.61,     34.781,2,     -999.0,9,     -999.0,9,    16.0818,2,     -999.0,9,     -999.0,9,-999.0000, -999.00,-999.000
318M20130321,       P02W,      62,          1,         30,         30,2,20130424,       2333,    30.0002,   171.6106,       5243,   199.2,  15.4786,  34.5692,2,  34.5687,2,    216.8,2,   216.7,2,    6.44,2,     6.2,2,    0.02,2,    0.41,2,   2.847,2,   1.682,2,   0.098,2,     1.57,2,  -999.0,9, -999.00,9,-999.0000,9,  -999.00,   0.485,2,   1.7598,2,   -0.54,2, -999.00,9,  -999.0,9,  -999.0,   7.194,2,   0.033,     -999.0,9, -999.00,9, -999.00,9, -999.00,9,     -999.0,9,  -999.0,9, 20130425,      130,  30.0007, 171.6099,    34.7317,2,     -999.0,9,     -999.0,9,    15.4746,2,     -999.0,9,     -999.0,9,   0.0074,    0.15,   0.011
318M20130321,       P02W,      62,          1,         29,         29,2,20130424,       2333,    30.0002,   171.6106,       5243,   251.3,  14.7932,  34.5155,2,   34.516,2,    216.7,2,   213.1,2,     8.2,2,    7.64,2,    0.02,2,    0.52,2,-999.000,9,-999.000,9,-999.000,9,-999.0000,9,  2055.5,2, 2270.51,2,   7.8902,2,       25,-999.000,9,-999.0000,9, -999.00,9, -999.00,9,  -999.0,9,  -999.0,-999.000,9,-999.000,     -999.0,9, -999.00,9, -999.00,9, -999.00,9,     -999.0,9,  -999.0,9, 20130425,      128,  30.0007,   171.61,    34.6788,2,     -999.0,9,     -999.0,9,     14.792,2,     -999.0,9,     -999.0,9,-999.0000, -999.00,-999.000
318M20130321,       P02W,      62,          1,         28,         28,2,20130424,       2333,    30.0002,   171.6106,       5243,   300.5,  14.0986,   34.482,2,  34.4825,2,    219.2,2,   215.3,2,    9.76,2,    8.57,2,    0.01,2,    0.59,2,   2.981,2,   1.755,2,   0.110,2,     1.74,2,  -999.0,9, -999.00,9,-999.0000,9,  -999.00,   0.502,2,   1.8067,2,    0.39,2, -999.00,9,  -999.0,9,  -999.0,   7.358,2,   0.034,     -999.0,9, -999.00,9, -999.00,9, -999.00,9,     -999.0,9,  -999.0,9, 20130425,      126,  30.0006,   171.61,    34.6451,2,     -999.0,9,     -999.0,9,    14.1274,3,     -999.0,9,     -999.0,9,   0.0076,    0.15,   0.013
318M20130321,       P02W,      62,          1,         27,         27,2,20130424,       2333,    30.0002,   171.6106,       5243,   351.7,  13.0332,  34.4019,2,  34.3983,2,    204.9,2,   206.1,2,   12.69,2,   11.13,2,       0,2,    0.77,2,-999.000,9,-999.000,9,-999.000,9,-999.0000,9,    2081,2, 2267.61,2,   7.8317,2,       25,-999.000,9,-999.0000,9, -999.00,9, -999.00,9,  -999.0,9,  -999.0,-999.000,9,-999.000,     -999.0,9, -999.00,9, -999.00,9, -999.00,9,     -999.0,9,  -999.0,9, 20130425,      124,  30.0007,   171.61,    34.5605,2,     -999.0,9,     -999.0,9,    13.0337,2,     -999.0,9,     -999.0,9,-999.0000, -999.00,-999.000
318M20130321,       P02W,      62,          1,         26,         26,2,20130424,       2333,    30.0002,   171.6106,       5243,   403.4,  12.1473,  34.3398,2,    34.34,2,    203.7,2,   205.2,2,   15.13,2,   12.59,2,       0,2,    0.88,2,   3.237,2,   1.820,2,   0.106,2,      1.5,2,  -999.0,9, -999.00,9,-999.0000,9,  -999.00,   0.496,6,   1.8136,2,    1.90,2, -999.00,9,  -999.0,9,  -999.0,   7.431,2,   0.034,     -999.0,9, -999.00,9, -999.00,9, -999.00,9,     -999.0,9,  -999.0,9, 20130425,      122,  30.0007, 171.6101,    34.5019,2,     -999.0,9,     -999.0,9,    12.1697,3,     -999.0,9,     -999.0,9,   0.0076,    0.15,   0.009
318M20130321,       P02W,      62,          1,         25,         25,2,20130424,       2333,    30.0002,   171.6106,       5243,   502.8,   9.9694,  34.1827,2,  34.1835,2,    192.3,2,     194,2,   24.12,2,   17.61,2,       0,2,    1.24,2,   3.361,2,   1.861,2,   0.099,2,     1.11,2,    2126,2, 2266.91,2,   7.7274,2,       25,   0.498,2,   1.8081,2,    3.68,2, -999.00,9,  -999.0,9,  -999.0,   7.524,2,   0.035,     -999.0,9, -999.00,9, -999.00,9, -999.00,9,     -999.0,9,  -999.0,9, 20130425,      119,  30.0006, 171.6101,    34.3447,2,     -999.0,9,     -999.0,9,     9.9732,2,     -999.0,9,     -999.0,9,   0.0076,    0.15,   0.012
318M20130321,       P02W,      62,          1,         24,         24,2,20130424,       2333,    30.0002,   171.6106,       5243,   599.2,   7.7486,  34.0641,2,  34.0653,2,    159.7,2,   160.1,2,   42.48,2,   24.74,2,       0,2,    1.78,2,   3.017,2,   1.625,2,   0.119,2,     0.75,2,  2175.8,2, 2276.01,2,   7.6102,2,       25,-999.000,9,   1.8416,2,    8.17,2, -999.00,9,  -999.0,9,  -999.0,   7.684,2,   0.035,     -999.0,9, -999.00,9, -999.00,9, -999.00,9,     -999.0,9,  -999.0,9, 20130425,      116,  30.0005, 171.6101,    34.2259,2,     -999.0,9,     -999.0,9,      7.743,2,     -999.0,9,     -999.0,9,   0.0077,    0.15,-999.000
318M20130321,       P02W,      62,          1,         23,         23,2,20130424,       2333,    30.0002,   171.6106,       5243,   702.5,   5.8213,  34.0273,2,  34.0275,2,    119.5,2,   117.5,2,   65.23,2,   32.04,2,       0,2,    2.31,2,   2.370,2,   1.211,2,   0.086,2,      0.6,2,  -999.0,9, -999.00,9,-999.0000,9,  -999.00,   0.380,2,   1.8711,2,   12.15,2, -999.00,9,  -999.0,9,  -999.0,   7.887,2,   0.036,     -999.0,9, -999.00,9, -999.00,9, -999.00,9,     -999.0,9,  -999.0,9, 20130425,      113,  30.0004, 171.6101,    34.1879,2,     -999.0,9,     -999.0,9,     5.8197,2,     -999.0,9,     -999.0,9,   0.0079,    0.15,   0.012
318M20130321,       P02W,      62,          1,         22,         22,2,20130424,       2333,    30.0002,   171.6106,       5243,   804.5,   4.7975,  34.0966,2,  34.0961,2,     76.1,2,    76.4,2,   86.71,2,   37.33,2,       0,2,     2.7,2,-999.000,9,-999.000,9,-999.000,9,-999.0000,9,  2284.2,2, 2311.72,2,   7.3927,2,       25,-999.000,9,-999.0000,9, -999.00,9, -999.00,9,  -999.0,9,  -999.0,-999.000,9,-999.000,     -999.0,9, -999.00,9, -999.00,9, -999.00,9,     -999.0,9,  -999.0,9, 20130425,      110,  30.0002, 171.6103,    34.2568,2,     -999.0,9,     -999.0,9,     4.8025,2,     -999.0,9,     -999.0,9,-999.0000, -999.00,-999.000
318M20130321,       P02W,      62,          1,         21,         21,2,20130424,       2333,    30.0002,   171.6106,       5243,     905,   4.1704,  34.1835,2,  34.1819,2,     50.2,2,    51.8,2,  104.28,2,   40.33,2,       0,2,    2.93,2,   0.855,2,   0.436,2,   0.040,2,     0.12,2,  -999.0,9, -999.00,9,-999.0000,9,  -999.00,   0.169,2,   1.8926,2,   15.96,2, -999.00,9,  -999.0,9,  -999.0,   7.945,2,   0.037,     -999.0,9, -999.00,9, -999.00,9, -999.00,9,     -999.0,9,  -999.0,9, 20130425,      107,       30, 171.6104,    34.3431,2,     -999.0,9,     -999.0,9,     4.1627,2,     -999.0,9,     -999.0,9,   0.0079,    0.15,   0.011
318M20130321,       P02W,      62,          1,         20,         20,2,20130424,       2333,    30.0002,   171.6106,       5243,  1007.4,    3.728,  34.2685,2,  34.2694,2,     35.1,2,    35.2,2,  118.04,2,   42.11,2,       0,2,    3.06,2,   0.433,2,   0.227,2,   0.014,2,     0.12,2,  2341.1,2, 2349.03,2,   7.3225,2,       25,-999.000,9,-999.0000,9, -999.00,9, -999.00,9,  -999.0,9,  -999.0,-999.000,9,-999.000,     -999.0,9, -999.00,9, -999.00,9, -999.00,9,     -999.0,9,  -999.0,9, 20130425,      104,  29.9998, 171.6104,     34.431,2,     -999.0,9,     -999.0,9,     3.7277,2,     -999.0,9,     -999.0,9,-999.0000, -999.00,-999.000
318M20130321,       P02W,      62,          1,         19,         19,2,20130424,       2333,    30.0002,   171.6106,       5243,  1109.3,   3.4321,  34.3352,2,  34.3371,2,       28,2,    28.1,2,   127.6,2,   43.05,2,       0,2,    3.11,2,   0.195,2,   0.108,2,   0.002,2,     0.07,2,  -999.0,9, -999.00,9,-999.0000,9,  -999.00,   0.053,6,   1.8983,2,   16.68,2, -999.00,9,  -999.0,9,  -999.0,   7.962,2,   0.037,     -999.0,9, -999.00,9, -999.00,9, -999.00,9,     -999.0,9,  -999.0,9, 20130425,      101,  29.9999, 171.6104,     34.499,2,     -999.0,9,     -999.0,9,       3.43,2,     -999.0,9,     -999.0,9,   0.0080,    0.15,   0.008
318M20130321,       P02W,      62,          1,         18,         18,2,20130424,       2333,    30.0002,   171.6106,       5243,    1212,   3.1755,  34.3933,2,  34.3932,2,     26.9,2,    26.4,2,  135.51,2,   43.49,2,       0,2,    3.14,2,-999.000,9,-999.000,9,-999.000,9,-999.0000,9,  2366.3,2, 2372.64,2,   7.3194,2,       25,-999.000,9,-999.0000,9, -999.00,9, -999.00,9,  -999.0,9,  -999.0,-999.000,9,-999.000,     -999.0,9, -999.00,9, -999.00,9, -999.00,9,     -999.0,9,  -999.0,9, 20130425,       58,       30, 171.6106,    34.5554,2,     -999.0,9,     -999.0,9,     3.1764,2,     -999.0,9,     -999.0,9,-999.0000, -999.00,-999.000
318M20130321,       P02W,      62,          1,         17,         17,2,20130424,       2333,    30.0002,   171.6106,       5243,  1312.9,   2.9175,  34.4465,2,  34.4464,2,     28.8,2,    29.5,2,  143.21,2,   43.57,2,       0,2,    3.14,2,   0.040,2,   0.033,2,   0.001,2,     0.08,2,  -999.0,9, -999.00,9,-999.0000,9,  -999.00,   0.006,2,   1.9177,2,   18.27,2, -999.00,9,  -999.0,9,  -999.0,   7.999,2,   0.037,     -999.0,9, -999.00,9, -999.00,9, -999.00,9,     -999.0,9,  -999.0,9, 20130425,       55,  30.0001, 171.6105,    34.6088,2,     -999.0,9,     -999.0,9,     2.9203,2,     -999.0,9,     -999.0,9,   0.0081,    0.15,   0.011
318M20130321,       P02W,      62,          1,         16,         16,2,20130424,       2333,    30.0002,   171.6106,       5243,  1407.9,   2.7336,   34.481,2,  34.4804,2,     33.9,2,      34,2,  148.48,2,   43.45,2,       0,2,    3.12,2,   0.020,2,   0.020,2,   0.003,2,     0.04,2,  2377.3,2, 2389.55,2,   7.3393,2,       25,-999.000,9,-999.0000,9, -999.00,9, -999.00,9,  -999.0,9,  -999.0,-999.000,9,-999.000,     -999.0,9, -999.00,9, -999.00,9, -999.00,9,     -999.0,9,  -999.0,9, 20130425,       53,       30, 171.6104,    34.6429,2,     -999.0,9,     -999.0,9,     2.7373,2,     -999.0,9,     -999.0,9,-999.0000, -999.00,-999.000
318M20130321,       P02W,      62,          1,         15,         15,2,20130424,       2333,    30.0002,   171.6106,       5243,  1614.4,   2.4014,  34.5353,2,  34.5371,2,     46.9,2,    46.3,2,  156.29,2,   42.83,2,       0,2,    3.07,2,   0.009,2,   0.018,2,   0.013,2,     0.12,2,  2378.2,2, 2400.05,2,   7.3686,6,       25,  -0.001,2,   2.0302,3,   19.15,2, -999.00,9,  -999.0,9,  -999.0,   8.460,3,   0.039,     -999.0,9, -999.00,9, -999.00,9, -999.00,9,     -999.0,9,  -999.0,9, 20130425,       48,  29.9998, 171.6103,       34.7,2,     -999.0,9,     -999.0,9,     2.4014,2,     -999.0,9,     -999.0,9,   0.0085,    0.15,   0.011
318M20130321,       P02W,      62,          1,         14,         14,2,20130424,       2333,    30.0002,   171.6106,       5243,  1816.8,   2.1521,  34.5726,2,  34.5746,2,     61.2,2,    61.4,2,  160.19,2,   41.92,2,       0,2,    3.01,2,   0.001,2,   0.012,2,   0.003,2,     0.12,2,  2375.4,2, 2407.56,2,   7.3983,2,       25,  -0.001,6,   1.9320,2,   19.72,2, -999.00,9,  -999.0,9,  -999.0,   8.155,2,   0.038,     -999.0,9, -999.00,9, -999.00,9, -999.00,9,     -999.0,9,  -999.0,9, 20130425,       44,  29.9998, 171.6103,    34.7377,2,     -999.0,9,     -999.0,9,     2.1518,2,     -999.0,9,     -999.0,9,   0.0081,    0.15,   0.008
318M20130321,       P02W,      62,          1,         13,         13,2,20130424,       2333,    30.0002,   171.6106,       5243,  2018.9,   1.9335,  34.6027,2,  34.6053,2,     76.7,2,    76.8,2,  162.82,2,   40.94,2,       0,2,    2.94,2,   0.002,2,   0.015,2,   0.005,2,     0.07,2,  2368.7,2, 2411.16,2,   7.4287,2,       25,  -0.001,2,   1.9377,2,   19.67,2, -999.00,9,  -999.0,9,  -999.0,   8.164,2,   0.038,     -999.0,9, -999.00,9, -999.00,9, -999.00,9,     -999.0,9,  -999.0,9, 20130425,       39,  29.9999, 171.6104,    34.7685,2,     -999.0,9,     -999.0,9,     1.9329,2,     -999.0,9,     -999.0,9,   0.0081,    0.15,   0.011
318M20130321,       P02W,      62,          1,         12,         12,2,20130424,       2333,    30.0002,   171.6106,       5243,  2273.2,    1.768,   34.626,2,  34.6277,2,     92.1,2,    92.5,2,   163.5,2,   39.91,2,       0,2,    2.84,2,-999.000,9,-999.000,9,-999.000,9,-999.0000,9,  -999.0,9, -999.00,9,-999.0000,9,  -999.00,-999.000,9,-999.0000,9, -999.00,9, -999.00,9,  -999.0,9,  -999.0,-999.000,9,-999.000,     -999.0,9, -999.00,9, -999.00,9, -999.00,9,     -999.0,9,  -999.0,9, 20130425,       34,       30, 171.6101,     34.791,2,     -999.0,9,     -999.0,9,     1.7675,2,     -999.0,9,     -999.0,9,-999.0000, -999.00,-999.000
318M20130321,       P02W,      62,          1,         11,         11,2,20130424,       2333,    30.0002,   171.6106,       5243,  2527.1,   1.6525,  34.6433,2,   34.645,2,    106.6,2,   106.8,2,  162.03,2,   39.04,2,       0,2,    2.77,2,   0.002,2,   0.011,2,   0.002,2,     0.06,2,  2353.9,6, 2415.36,2,   7.4868,2,       25,-999.000,9,-999.0000,9, -999.00,9, -999.00,9,  -999.0,9,  -999.0,-999.000,9,-999.000,     -999.0,9, -999.00,9, -999.00,9, -999.00,9,     -999.0,9,  -999.0,9, 20130425,       29,  30.0002, 171.6103,    34.8083,2,     -999.0,9,     -999.0,9,     1.6524,2,     -999.0,9,     -999.0,9,-999.0000, -999.00,-999.000
318M20130321,       P02W,      62,          1,         10,         10,2,20130424,       2333,    30.0002,   171.6106,       5243,  2782.3,    1.575,  34.6558,2,  34.6566,2,    117.8,2,   117.9,2,  160.18,2,   38.33,2,       0,2,     2.7,2,-999.000,9,-999.000,9,-999.000,9,-999.0000,9,  -999.0,9, -999.00,9,-999.0000,9,  -999.00,-999.000,9,-999.0000,9, -999.00,9, -999.00,9,  -999.0,9,  -999.0,-999.000,9,-999.000,     -999.0,9, -999.00,9, -999.00,9, -999.00,9,     -999.0,9,  -999.0,9, 20130425,       23,  30.0001,   171.61,      34.82,2,     -999.0,9,     -999.0,9,     1.5752,2,     -999.0,9,     -999.0,9,-999.0000, -999.00,-999.000
318M20130321,       P02W,      62,          1,          9,          9,2,20130424,       2333,    30.0002,   171.6106,       5243,  3038.3,   1.5227,  34.6648,2,  34.6653,2,    127.3,2,   127.4,2,  159.39,2,    37.7,2,       0,2,    2.66,2,-999.000,9,-999.000,9,-999.000,9,-999.0000,9,  2341.2,2, 2416.46,2,   7.5267,2,       25,-999.000,9,-999.0000,9, -999.00,9, -999.00,9,  -999.0,9,  -999.0,-999.000,9,-999.000,     -999.0,9, -999.00,9, -999.00,9, -999.00,9,     -999.0,9,  -999.0,9, 20130425,       18,  30.0002, 171.6099,    34.8287,2,     -999.0,9,     -999.0,9,     1.5226,2,     -999.0,9,     -999.0,9,-999.0000, -999.00,-999.000
318M20130321,       P02W,      62,          1,          8,          8,2,20130424,       2333,    30.0002,   171.6106,       5243,  3345.4,   1.4856,  34.6731,2,  34.6735,2,      136,2,   136.6,2,  157.05,2,   37.09,2,       0,2,    2.63,2,   0.001,2,   0.096,2,   0.000,2,     0.07,2,  -999.0,9, -999.00,9,-999.0000,9,  -999.00,-999.000,9,-999.0000,9, -999.00,9, -999.00,9,  -999.0,9,  -999.0,-999.000,9,-999.000,     -999.0,9, -999.00,9, -999.00,9, -999.00,9,     -999.0,9,  -999.0,9, 20130425,       12,  30.0001, 171.6095,     34.837,2,     -999.0,9,     -999.0,9,     1.4856,2,     -999.0,9,     -999.0,9,-999.0000, -999.00,-999.000