BOTTLE,20220817CCHSIOAMB
EXPOCODE,SECT_ID,STNNBR,CASTNO,SAMPNO,BTLNBR,BTLNBR_FLAG_W,DATE,TIME,LATITUDE,LONGITUDE,DEPTH,CTDPRS,CTDTMP,CTDSAL,CTDSAL_FLAG_W,SALNTY,SALNTY_FLAG_W,CTDOXY,CTDOXY_FLAG_W,OXYGEN,OXYGEN_FLAG_W,SILCAT,SILCAT_FLAG_W,NITRAT,NITRAT_FLAG_W,NITRIT,NITRIT_FLAG_W,PHSPHT,PHSPHT_FLAG_W,CFC-11,CFC-11_FLAG_W,CFC-12,CFC-12_FLAG_W,CFC113,CFC113_FLAG_W,SF6,SF6_FLAG_W,TCARBN,TCARBN_FLAG_W,ALKALI,ALKALI_FLAG_W,PH_TOT,PH_TOT_FLAG_W,PH_TMP,TRITUM,TRITUM_FLAG_W,HELIUM,HELIUM_FLAG_W,DELHE3,DELHE3_FLAG_W,DELC13,DELC13_FLAG_W,DELC14,DELC14_FLAG_W,C14ERR,NEON,NEON_FLAG_W,NEONER,I-129,I-129_FLAG_W,SR-90,SR-90_FLAG_W,DOC,DOC_FLAG_W,TDN,TDN_FLAG_W,CALCIUM,CALCIUM_FLAG_W,D15N_NO3,D15N_NO3_FLAG_W,BTL_DATE,BTL_TIME,BTL_LAT,BTL_LON,SALTREF,SALTREF_FLAG_W,CS-137,CS-137_FLAG_W,CS-134,CS-134_FLAG_W,REFTMP,REFTMP_FLAG_W,LAB_DEN,LAB_DEN_FLAG_W,D18O_NO3,D18O_NO3_FLAG_W,HELIER,DELHER,TRITER
,,,,,,,,,,,METERS,DBAR,ITS-90,PSS-78,,PSS-78,,UMOL/KG,,UMOL/KG,,UMOL/KG,,UMOL/KG,,UMOL/KG,,UMOL/KG,,PMOL/KG,,PMOL/KG,,PMOL/KG,,FMOL/KG,,UMOL/KG,,UMOL/KG,,,,DEG C,TU,,NMOL/KG,,PERCNT,,/MILLE,,/MILLE,,/MILLE,NMOL/KG,,NMOL/KG,BQ/M^3,,DM/.1MG,,UMOL/KG,,UMOL/KG,,MMOL/KG,,/MILLE,,,,,,G/KG,,BQ/M^3,,BQ/M^3,,ITS-90,,,,/MILLE,,NMOL/KG,PERCNT,TU
318M20130321,       P02W,      21,          1,         33,         33,2,20130411,       0255,    29.9998,   138.7937,       2381,     3.4,  19.1472,  34.7602,2,    34.76,2,    232.3,2,   231.4,2,    1.66,2,       0,2,       0,2,    0.01,2,   2.451,2,   1.489,2,   0.205,2,     1.56,2,  1994.2,6, 2280.31,2,   8.0239,2,       25,-999.000,9,-999.0000,9, -999.00,9, -999.00,9,  -999.0,9,  -999.0,-999.000,9,-999.000,     -999.0,9, -999.00,9,   60.22,2,    3.97,2,     -999.0,9,  -999.0,1, 20130411,      411,  29.9992, 138.7942,     34.924,2,     -999.0,9,     -999.0,9,     19.148,2,     -999.0,9,     -999.0,1,-999.0000, -999.00,-999.000
318M20130321,       P02W,      21,          1,         32,         32,2,20130411,       0255,    29.9998,   138.7937,       2381,    35.5,  18.9042,  34.7581,2,  34.7575,2,    232.9,2,   232.8,2,    1.56,2,       0,2,       0,2,    0.01,2,-999.000,9,-999.000,9,-999.000,9,-999.0000,9,  -999.0,9, -999.00,9,-999.0000,9,  -999.00,-999.000,9,-999.0000,9, -999.00,9, -999.00,9,  -999.0,9,  -999.0,-999.000,9,-999.000,     -999.0,9, -999.00,9,   59.95,2,    3.68,2,     -999.0,9,  -999.0,1, 20130411,      409,  29.9993, 138.7941,    34.9214,2,     -999.0,9,     -999.0,9,    18.9049,2,     -999.0,9,     -999.0,1,-999.0000, -999.00,-999.000
318M20130321,       P02W,      21,          1,         31,         31,2,20130411,       0255,    29.9998,   138.7937,       2381,    60.4,  18.6992,  34.8019,2,  34.7996,2,    232.2,2,   223.8,2,    1.95,2,    0.81,2,    0.12,2,    0.08,2,   2.531,2,   1.490,2,   0.183,2,     1.48,2,  2005.6,2, 2281.51,6,   8.0056,2,       25,-999.000,9,-999.0000,9, -999.00,9, -999.00,9,  -999.0,9,  -999.0,-999.000,9,-999.000,     -999.0,9, -999.00,9,   60.67,2,    5.18,2,     -999.0,9,  -999.0,1, 20130411,      407,  29.9992, 138.7941,    34.9637,2,     -999.0,9,     -999.0,9,    18.7017,2,     -999.0,9,     -999.0,1,-999.0000, -999.00,-999.000
318M20130321,       P02W,      21,          1,         30,         30,2,20130411,       0255,    29.9998,   138.7937,       2381,    85.2,  18.4447,  34.7891,2,  34.7892,2,    219.5,2,   217.6,2,    2.54,2,    1.94,2,    0.02,2,    0.15,2,-999.000,9,-999.000,9,-999.000,9,-999.0000,9,  -999.0,9, -999.00,9,-999.0000,9,  -999.00,-999.000,9,-999.0000,9, -999.00,9, -999.00,9,  -999.0,9,  -999.0,-999.000,9,-999.000,     -999.0,9, -999.00,9,   59.19,2,    6.36,2,     -999.0,9,  -999.0,1, 20130411,      405,  29.9991,  138.794,    34.9532,2,     -999.0,9,     -999.0,9,     18.442,2,     -999.0,9,     -999.0,1,-999.0000, -999.00,-999.000
318M20130321,       P02W,      21,          1,         29,         29,2,20130411,       0255,    29.9998,   138.7937,       2381,   110.1,  18.2733,  34.7802,2,  34.7793,2,    217.3,2,   217.7,2,    2.64,2,    2.14,2,    0.02,2,    0.16,2,   2.530,2,   1.531,2,   0.155,2,     1.44,2,  -999.0,9, -999.00,9,-999.0000,9,  -999.00,-999.000,9,-999.0000,9, -999.00,9, -999.00,9,  -999.0,9,  -999.0,-999.000,9,-999.000,     -999.0,9, -999.00,9,   59.86,2,    6.03,2,     -999.0,9,  -999.0,1, 20130411,      404,  29.9991, 138.7939,    34.9433,2,     -999.0,9,     -999.0,9,    18.2714,2,     -999.0,9,     -999.0,1,-999.0000, -999.00,-999.000
318M20130321,       P02W,      21,          1,         28,         28,2,20130411,       0255,    29.9998,   138.7937,       2381,   135.6,  18.0556,  34.7641,2,  34.7634,2,    214.8,2,   215.7,2,    2.93,2,    2.64,2,    0.01,2,    0.19,2,-999.000,9,-999.000,9,-999.000,9,-999.0000,9,  2016.6,2, 2279.31,2,   7.9799,6,       25,-999.000,9,-999.0000,9, -999.00,9, -999.00,9,  -999.0,9,  -999.0,-999.000,9,-999.000,     -999.0,9, -999.00,9,   55.39,2,    6.45,2,     -999.0,9,  -999.0,1, 20130411,      402,  29.9991, 138.7938,    34.9273,2,     -999.0,9,     -999.0,9,    18.0553,2,     -999.0,9,     -999.0,1,-999.0000, -999.00,-999.000
318M20130321,       P02W,      21,          1,         27,         27,2,20130411,       0255,    29.9998,   138.7937,       2381,   160.9,  18.0011,  34.7793,2,  34.7802,2,    213.5,2,   223.6,2,    2.44,2,    1.88,2,    0.03,2,    0.14,2,   2.547,2,   1.544,2,   0.183,2,      1.5,2,  -999.0,9, -999.00,9,-999.0000,9,  -999.00,-999.000,9,-999.0000,9, -999.00,9, -999.00,9,  -999.0,9,  -999.0,-999.000,9,-999.000,     -999.0,9, -999.00,9,   56.73,2,    5.79,2,     -999.0,9,  -999.0,1, 20130411,      401,  29.9992, 138.7937,    34.9442,2,     -999.0,9,     -999.0,9,    17.9991,2,     -999.0,9,     -999.0,1,-999.0000, -999.00,-999.000
318M20130321,       P02W,      21,          1,         26,         26,2,20130411,       0255,    29.9998,   138.7937,       2381,   186.2,  17.8743,  34.7706,2,  34.7705,2,    215.9,2,   223.6,2,    2.64,2,    2.06,2,    0.02,2,    0.15,2,-999.000,9,-999.000,9,-999.000,9,-999.0000,9,  -999.0,9, -999.00,9,-999.0000,9,  -999.00,-999.000,9,-999.0000,9, -999.00,9, -999.00,9,  -999.0,9,  -999.0,-999.000,9,-999.000,     -999.0,9, -999.00,9,   56.08,2,    6.39,2,     -999.0,9,  -999.0,1, 20130411,      400,  29.9993, 138.7937,    34.9345,2,     -999.0,9,     -999.0,9,     17.874,2,     -999.0,9,     -999.0,1,-999.0000, -999.00,-999.000
318M20130321,       P02W,      21,          1,         25,         25,2,20130411,       0255,    29.9998,   138.7937,       2381,   210.4,  17.7701,  34.7616,2,  34.7615,2,      222,2,   222.2,2,    2.54,2,    2.33,2,    0.02,2,    0.17,2,   2.566,2,   1.557,2,   0.166,2,     1.47,2,  2014.4,2, 2280.11,2,   7.9845,2,       25,-999.000,9,-999.0000,9, -999.00,9, -999.00,9,  -999.0,9,  -999.0,-999.000,9,-999.000,     -999.0,9, -999.00,9,   57.01,2,    6.85,2,     -999.0,9,  -999.0,1, 20130411,      359,  29.9993, 138.7936,    34.9254,2,     -999.0,9,     -999.0,9,     17.768,2,     -999.0,9,     -999.0,1,-999.0000, -999.00,-999.000
318M20130321,       P02W,      21,          1,         24,         24,2,20130411,       0255,    29.9998,   138.7937,       2381,   236.3,  17.6748,  34.7562,2,  34.7562,2,    225.1,2,   223.6,2,    2.54,2,    2.37,2,    0.01,2,    0.17,2,-999.000,9,-999.000,9,-999.000,9,-999.0000,9,  -999.0,9, -999.00,9,-999.0000,9,  -999.00,-999.000,9,-999.0000,9, -999.00,9, -999.00,9,  -999.0,9,  -999.0,-999.000,9,-999.000,     -999.0,9, -999.00,9,      53,2,    6.02,2,     -999.0,9,  -999.0,1, 20130411,      357,  29.9993, 138.7935,    34.9201,2,     -999.0,9,     -999.0,9,    17.6746,2,     -999.0,9,     -999.0,1,-999.0000, -999.00,-999.000
318M20130321,       P02W,      21,          1,         23,         23,2,20130411,       0255,    29.9998,   138.7937,       2381,     267,  17.4745,  34.7317,2,   34.732,2,    226.2,2,   215.4,2,    3.22,2,    3.43,2,    0.01,2,    0.23,2,   2.613,2,   1.568,2,   0.118,2,     1.42,2,  2021.6,2, 2277.41,2,   7.9681,2,       25,-999.000,9,-999.0000,9, -999.00,9, -999.00,9,  -999.0,9,  -999.0,-999.000,9,-999.000,     -999.0,9, -999.00,9,   53.24,2, -999.00,5,     -999.0,9,  -999.0,1, 20130411,      356,  29.9993, 138.7935,    34.8958,2,     -999.0,9,     -999.0,9,    17.4753,2,     -999.0,9,     -999.0,1,-999.0000, -999.00,-999.000
318M20130321,       P02W,      21,          1,         22,         38,2,20130411,       0255,    29.9998,   138.7937,       2381,   316.9,  17.2665,  34.7232,2,  34.7334,4,    223.3,2,   225.4,2,    3.03,2,    2.87,2,    0.01,2,     0.2,2,-999.000,9,-999.000,9,-999.000,9,-999.0000,9,  -999.0,9, -999.00,9,-999.0000,9,  -999.00,-999.000,9,-999.0000,9, -999.00,9, -999.00,9,  -999.0,9,  -999.0,-999.000,9,-999.000,     -999.0,9, -999.00,9,   52.61,2,    6.27,2,     -999.0,9,  -999.0,1, 20130411,      354,  29.9994, 138.7934,    34.8972,4,     -999.0,9,     -999.0,9,    17.2658,2,     -999.0,9,     -999.0,1,-999.0000, -999.00,-999.000
318M20130321,       P02W,      21,          1,         21,         21,2,20130411,       0255,    29.9998,   138.7937,       2381,     367,  17.1703,  34.7194,2,  34.7198,2,    223.4,2,   223.5,2,    3.22,2,    3.16,2,    0.01,2,    0.21,2,   2.659,2,   1.592,2,   0.150,2,     1.46,2,  2019.2,2, 2276.71,2,   7.9727,2,       25,-999.000,9,-999.0000,9, -999.00,9, -999.00,9,  -999.0,9,  -999.0,-999.000,9,-999.000,     -999.0,9, -999.00,9,   50.83,2, -999.00,9,     -999.0,9,  -999.0,1, 20130411,      353,  29.9995, 138.7934,    34.8836,2,     -999.0,9,     -999.0,9,    17.1684,2,     -999.0,9,     -999.0,1,-999.0000, -999.00,-999.000
318M20130321,       P02W,      21,          1,         20,         20,2,20130411,       0255,    29.9998,   138.7937,       2381,   416.1,  16.7528,  34.6833,2,  34.6831,2,    207.2,2,     206,2,    5.08,2,    5.49,2,    0.01,2,    0.37,2,-999.000,9,-999.000,9,-999.000,9,-999.0000,9,  -999.0,9, -999.00,9,-999.0000,9,  -999.00,-999.000,9,-999.0000,9, -999.00,9, -999.00,9,  -999.0,9,  -999.0,-999.000,9,-999.000,     -999.0,9, -999.00,9,   47.83,2, -999.00,9,     -999.0,9,  -999.0,1, 20130411,      351,  29.9996, 138.7933,    34.8466,2,     -999.0,9,     -999.0,9,     16.748,2,     -999.0,9,     -999.0,1,-999.0000, -999.00,-999.000
318M20130321,       P02W,      21,          1,         19,         19,2,20130411,       0255,    29.9998,   138.7937,       2381,   466.9,  15.7193,   34.607,2,   34.608,2,    194.9,2,   190.5,2,    8.49,2,    8.53,2,    0.01,2,    0.61,2,   2.834,2,   1.626,2,   0.044,2,     1.16,2,  2061.2,2, 2271.01,2,   7.8867,2,       25,-999.000,9,-999.0000,9, -999.00,9, -999.00,9,  -999.0,9,  -999.0,-999.000,9,-999.000,     -999.0,9, -999.00,9,   47.86,2, -999.00,9,     -999.0,9,  -999.0,1, 20130411,      349,  29.9996, 138.7933,    34.7712,2,     -999.0,9,     -999.0,9,    15.7192,2,     -999.0,9,     -999.0,1,-999.0000, -999.00,-999.000
318M20130321,       P02W,      21,          1,         18,         18,2,20130411,       0255,    29.9998,   138.7937,       2381,   538.8,  14.0119,  34.4952,2,  34.4959,2,    183.4,2,   183.1,2,   13.76,2,   11.87,2,       0,2,    0.83,2,-999.000,9,-999.000,9,-999.000,9,-999.0000,9,  2084.9,2, 2275.81,3,    7.831,2,       25,-999.000,9,-999.0000,9, -999.00,9, -999.00,9,  -999.0,9,  -999.0,-999.000,9,-999.000,     -999.0,9, -999.00,9,   49.17,2, -999.00,9,     -999.0,9,  -999.0,1, 20130411,      347,  29.9995, 138.7933,    34.6586,2,     -999.0,9,     -999.0,9,    14.0117,2,     -999.0,9,     -999.0,1,-999.0000, -999.00,-999.000
318M20130321,       P02W,      21,          1,         17,         17,2,20130411,       0255,    29.9998,   138.7937,       2381,   637.4,  11.2702,  34.3073,2,  34.3083,2,    177.8,2,     178,2,   23.82,2,   16.75,2,       0,2,     1.2,2,   3.101,2,   1.671,2,   0.078,2,     1.07,2,  2122.5,2, 2272.71,2,   7.7483,6,       25,-999.000,9,-999.0000,9, -999.00,9, -999.00,9,  -999.0,9,  -999.0,-999.000,9,-999.000,     -999.0,9, -999.00,9,   42.83,2, -999.00,9,     -999.0,9,  -999.0,1, 20130411,      344,  29.9997, 138.7931,    34.4701,2,     -999.0,9,     -999.0,9,    11.2617,2,     -999.0,9,     -999.0,1,-999.0000, -999.00,-999.000
318M20130321,       P02W,      21,          1,         16,         16,2,20130411,       0255,    29.9998,   138.7937,       2381,   740.6,   8.5037,  34.1651,2,  34.1653,2,    150.8,2,   152.1,2,   42.96,2,   23.96,2,       0,2,    1.73,2,-999.000,9,-999.000,9,-999.000,9,-999.0000,9,  2177.4,2, 2283.31,2,   7.6286,2,       25,-999.000,9,-999.0000,9, -999.00,9, -999.00,9,  -999.0,9,  -999.0,-999.000,9,-999.000,     -999.0,9, -999.00,9,   42.44,2, -999.00,9,     -999.0,9,  -999.0,1, 20130411,      341,  29.9999, 138.7931,    34.3264,2,     -999.0,9,     -999.0,9,     8.5034,2,     -999.0,9,     -999.0,1,-999.0000, -999.00,-999.000
318M20130321,       P02W,      21,          1,         15,         15,4,20130411,       0255,    29.9998,   138.7937,       2381,     844,    6.598,  34.1448,2,  34.1394,4,    126.5,2,   135.9,4,   52.73,4,   27.12,4,       0,4,    1.97,4,   2.399,2,   1.294,2,   0.088,2,     0.65,2,  2201.3,4, 2289.21,4,   7.5747,2,       25,-999.000,9,-999.0000,9, -999.00,9, -999.00,9,  -999.0,9,  -999.0,-999.000,9,-999.000,     -999.0,9, -999.00,9,   43.07,2, -999.00,9,     -999.0,9,  -999.0,1, 20130411,      338,       30,  138.793,    34.3004,4,     -999.0,9,     -999.0,9,     6.5867,2,     -999.0,9,     -999.0,1,-999.0000, -999.00,-999.000
318M20130321,       P02W,      21,          1,         14,         14,2,20130411,       0255,    29.9998,   138.7937,       2381,   938.3,   5.2634,  34.2135,2,   34.212,2,     86.6,2,    83.4,2,   87.39,2,    35.5,2,       0,2,    2.58,2,-999.000,9,-999.000,9,-999.000,9,-999.0000,9,  2278.3,2, 2324.83,2,   7.4394,2,       25,-999.000,9,-999.0000,9, -999.00,9, -999.00,9,  -999.0,9,  -999.0,-999.000,9,-999.000,     -999.0,9, -999.00,9,   39.25,2, -999.00,9,     -999.0,9,  -999.0,1, 20130411,      336,  30.0002,  138.793,    34.3733,2,     -999.0,9,     -999.0,9,     5.2536,2,     -999.0,9,     -999.0,1,-999.0000, -999.00,-999.000
318M20130321,       P02W,      21,          1,         13,         13,2,20130411,       0255,    29.9998,   138.7937,       2381,  1042.3,   4.3752,  34.3088,2,  34.3099,2,     64.2,2,    66.3,2,  106.81,2,   38.36,2,       0,2,    2.78,2,   0.667,2,   0.362,2,   0.028,2,     0.14,2,  2312.4,2, 2346.13,2,   7.4041,2,       25,-999.000,9,-999.0000,9, -999.00,9, -999.00,9,  -999.0,9,  -999.0,-999.000,9,-999.000,     -999.0,9, -999.00,9,   37.95,2, -999.00,9,     -999.0,9,  -999.0,1, 20130411,      333,  30.0002, 138.7931,    34.4716,2,     -999.0,9,     -999.0,9,     4.3738,2,     -999.0,9,     -999.0,1,-999.0000, -999.00,-999.000
318M20130321,       P02W,      21,          1,         12,         12,2,20130411,       0255,    29.9998,   138.7937,       2381,  1144.2,   3.8264,  34.3405,2,  34.3411,2,     57.3,2,    57.2,2,  118.33,2,   39.83,2,       0,2,    2.88,2,-999.000,9,-999.000,9,-999.000,9,-999.0000,9,  2330.4,2, 2356.54,2,   7.3816,6,       25,-999.000,9,-999.0000,9, -999.00,9, -999.00,9,  -999.0,9,  -999.0,-999.000,9,-999.000,     -999.0,9, -999.00,9,   37.51,2, -999.00,9,     -999.0,9,  -999.0,1, 20130411,      330,  30.0003, 138.7933,     34.503,2,     -999.0,9,     -999.0,9,     3.8218,2,     -999.0,9,     -999.0,1,-999.0000, -999.00,-999.000
318M20130321,       P02W,      21,          1,         11,         11,2,20130411,       0255,    29.9998,   138.7937,       2381,  1246.4,   3.3615,  34.3939,2,  34.3942,2,     54.1,2,    54.1,2,  128.77,2,   40.67,2,       0,2,    2.94,2,   0.311,2,   0.164,2,   0.018,2,     0.07,2,  2345.2,2, 2369.84,2,   7.3765,2,       25,-999.000,9,-999.0000,9, -999.00,9, -999.00,9,  -999.0,9,  -999.0,-999.000,9,-999.000,     -999.0,9, -999.00,9,   38.76,2, -999.00,9,     -999.0,9,  -999.0,1, 20130411,      327,  30.0005, 138.7934,    34.5564,2,     -999.0,9,     -999.0,9,     3.3605,2,     -999.0,9,     -999.0,1,-999.0000, -999.00,-999.000
318M20130321,       P02W,      21,          1,         10,         10,2,20130411,       0255,    29.9998,   138.7937,       2381,  1341.9,   3.0948,    34.43,2,   34.431,2,     54.7,2,    54.3,2,  134.72,2,   40.91,2,       0,2,    2.96,2,-999.000,9,-999.000,9,-999.000,9,-999.0000,9,  2351.5,2, 2377.24,2,   7.3789,2,       25,-999.000,9,-999.0000,9, -999.00,9, -999.00,9,  -999.0,9,  -999.0,-999.000,9,-999.000,     -999.0,9, -999.00,9,   36.64,2, -999.00,9,     -999.0,9,  -999.0,1, 20130411,      325,  30.0006, 138.7934,    34.5933,2,     -999.0,9,     -999.0,9,     3.0944,2,     -999.0,9,     -999.0,1,-999.0000, -999.00,-999.000
318M20130321,       P02W,      21,          1,          9,          9,2,20130411,       0255,    29.9998,   138.7937,       2381,  1443.7,   2.8864,  34.4605,2,  34.4618,2,     57.3,2,    57.3,2,  138.72,2,   41.06,2,       0,2,    2.96,2,   0.178,2,   0.094,2,   0.014,2,     0.07,2,  2355.1,2, 2382.05,2,   7.3842,2,       25,-999.000,9,-999.0000,9, -999.00,9, -999.00,9,  -999.0,9,  -999.0,-999.000,9,-999.000,     -999.0,9, -999.00,9,    36.9,2, -999.00,9,     -999.0,9,  -999.0,1, 20130411,      322,  30.0006, 138.7936,    34.6243,2,     -999.0,9,     -999.0,9,     2.8873,2,     -999.0,9,     -999.0,1,-999.0000, -999.00,-999.000
318M20130321,       P02W,      21,          1,          8,          8,2,20130411,       0255,    29.9998,   138.7937,       2381,  1551.1,   2.6865,  34.4938,2,  34.4948,2,     64.1,2,    63.6,2,  141.35,2,   40.81,2,       0,2,    2.94,2,-999.000,9,-999.000,9,-999.000,9,-999.0000,9,  2354.7,2, 2388.75,2,   7.3999,2,       25,-999.000,9,-999.0000,9, -999.00,9, -999.00,9,  -999.0,9,  -999.0,-999.000,9,-999.000,     -999.0,9, -999.00,9, -999.00,9, -999.00,9,     -999.0,9,  -999.0,1, 20130411,      319,  30.0004, 138.7938,    34.6574,2,     -999.0,9,     -999.0,9,     2.6873,2,     -999.0,9,     -999.0,1,-999.0000, -999.00,-999.000
318M20130321,       P02W,      21,          1,          7,          7,2,20130411,       0255,    29.9998,   138.7937,       2381,  1651.3,   2.5335,  34.5137,2,   34.515,2,     65.2,2,    66.3,2,  145.45,2,    40.8,2,       0,2,    2.93,2,   0.104,2,   0.056,2,   0.008,2,     0.08,2,  2357.2,2, 2392.65,2,   7.4045,2,       25,-999.000,9,-999.0000,9, -999.00,9, -999.00,9,  -999.0,9,  -999.0,-999.000,9,-999.000,     -999.0,9, -999.00,9, -999.00,5, -999.00,9,     -999.0,9,  -999.0,1, 20130411,      314,  30.0003, 138.7937,    34.6777,2,     -999.0,9,     -999.0,9,      2.533,2,     -999.0,9,     -999.0,1,-999.0000, -999.00,-999.000
318M20130321,       P02W,      21,          1,          6,          6,2,20130411,       0255,    29.9998,   138.7937,       2381,  1759.2,   2.3842,  34.5349,2,   34.535,2,     71.1,2,    70.3,2,  148.67,2,   40.69,2,       0,2,    2.91,2,-999.000,9,-999.000,9,-999.000,9,-999.0000,9,  2357.4,2, 2398.55,2,   7.4139,2,       25,-999.000,9,-999.0000,9, -999.00,9, -999.00,9,  -999.0,9,  -999.0,-999.000,9,-999.000,     -999.0,9, -999.00,9, -999.00,9, -999.00,9,     -999.0,9,  -999.0,1, 20130411,      312,  30.0003, 138.7937,    34.6979,2,     -999.0,9,     -999.0,9,     2.3838,2,     -999.0,9,     -999.0,1,-999.0000, -999.00,-999.000
318M20130321,       P02W,      21,          1,          5,         37,2,20130411,       0255,    29.9998,   138.7937,       2381,  1857.8,   2.2914,  34.5521,2,  34.5527,2,     79.1,2,    78.5,2,  148.47,2,   40.19,2,       0,2,    2.87,2,   0.057,2,   0.040,2,   0.000,2,     0.12,2,  2354.1,2, 2399.55,2,   7.4307,2,       25,-999.000,9,-999.0000,9, -999.00,9, -999.00,9,  -999.0,9,  -999.0,-999.000,9,-999.000,     -999.0,9, -999.00,9,   35.68,2, -999.00,9,     -999.0,9,  -999.0,1, 20130411,      309,  30.0005, 138.7934,    34.7156,2,     -999.0,9,     -999.0,9,     2.2915,2,     -999.0,9,     -999.0,1,-999.0000, -999.00,-999.000