BOTTLE,20220817CCHSIOAMB
EXPOCODE,SECT_ID,STNNBR,CASTNO,SAMPNO,BTLNBR,BTLNBR_FLAG_W,DATE,TIME,LATITUDE,LONGITUDE,DEPTH,CTDPRS,CTDTMP,CTDSAL,CTDSAL_FLAG_W,SALNTY,SALNTY_FLAG_W,CTDOXY,CTDOXY_FLAG_W,OXYGEN,OXYGEN_FLAG_W,SILCAT,SILCAT_FLAG_W,NITRAT,NITRAT_FLAG_W,NITRIT,NITRIT_FLAG_W,PHSPHT,PHSPHT_FLAG_W,CFC-11,CFC-11_FLAG_W,CFC-12,CFC-12_FLAG_W,CFC113,CFC113_FLAG_W,SF6,SF6_FLAG_W,TCARBN,TCARBN_FLAG_W,ALKALI,ALKALI_FLAG_W,PH_TOT,PH_TOT_FLAG_W,PH_TMP,TRITUM,TRITUM_FLAG_W,HELIUM,HELIUM_FLAG_W,DELHE3,DELHE3_FLAG_W,DELC13,DELC13_FLAG_W,DELC14,DELC14_FLAG_W,C14ERR,NEON,NEON_FLAG_W,NEONER,I-129,I-129_FLAG_W,SR-90,SR-90_FLAG_W,DOC,DOC_FLAG_W,TDN,TDN_FLAG_W,CALCIUM,CALCIUM_FLAG_W,D15N_NO3,D15N_NO3_FLAG_W,BTL_DATE,BTL_TIME,BTL_LAT,BTL_LON,SALTREF,SALTREF_FLAG_W,CS-137,CS-137_FLAG_W,CS-134,CS-134_FLAG_W,REFTMP,REFTMP_FLAG_W,LAB_DEN,LAB_DEN_FLAG_W,D18O_NO3,D18O_NO3_FLAG_W,HELIER,DELHER,TRITER
,,,,,,,,,,,METERS,DBAR,ITS-90,PSS-78,,PSS-78,,UMOL/KG,,UMOL/KG,,UMOL/KG,,UMOL/KG,,UMOL/KG,,UMOL/KG,,PMOL/KG,,PMOL/KG,,PMOL/KG,,FMOL/KG,,UMOL/KG,,UMOL/KG,,,,DEG C,TU,,NMOL/KG,,PERCNT,,/MILLE,,/MILLE,,/MILLE,NMOL/KG,,NMOL/KG,BQ/M^3,,DM/.1MG,,UMOL/KG,,UMOL/KG,,MMOL/KG,,/MILLE,,,,,,G/KG,,BQ/M^3,,BQ/M^3,,ITS-90,,,,/MILLE,,NMOL/KG,PERCNT,TU
318M20130321,       P02W,      54,          1,          7,          7,2,20130422,       1011,    30.0013,     166.06,       5916,  3786.8,   1.4756,  34.6804,2,  34.6794,2,    147.5,2,   147.9,2,  149.63,2,    36.1,2,       0,2,    2.56,2,   0.027,2,   0.013,2,   0.010,2,        0,2,  -999.0,9, -999.00,9,-999.0000,9,  -999.00,-999.000,9,-999.0000,9, -999.00,9, -999.00,9,  -999.0,9,  -999.0,-999.000,9,-999.000,     -999.0,9, -999.00,9, -999.00,9, -999.00,9,     -999.0,9,  -999.0,9, 20130422,     1056,  30.0012,   166.06,    34.8429,2,     -999.0,9,     -999.0,9,     1.4755,2,     -999.0,9,     -999.0,9,-999.0000, -999.00,-999.000
318M20130321,       P02W,      54,          1,          6,          6,2,20130422,       1011,    30.0013,     166.06,       5916,  4198.3,   1.4654,  34.6857,2,  34.6847,2,    153.9,2,   154.6,2,     147,2,   35.67,2,       0,2,    2.52,2,-999.000,9,-999.000,9,-999.000,9,-999.0000,9,  -999.0,9, -999.00,9,-999.0000,9,  -999.00,-999.000,9,-999.0000,9, -999.00,9, -999.00,9,  -999.0,9,  -999.0,-999.000,9,-999.000,     -999.0,9, -999.00,9, -999.00,9, -999.00,9,     -999.0,9,  -999.0,9, 20130422,     1048,  30.0012,   166.06,    34.8483,2,     -999.0,9,     -999.0,9,     1.4655,2,     -999.0,9,     -999.0,9,-999.0000, -999.00,-999.000
318M20130321,       P02W,      54,          1,          5,         37,2,20130422,       1011,    30.0013,     166.06,       5916,  4607.4,   1.4751,  34.6893,2,  34.6889,2,      160,2,   159.6,2,  144.75,2,   35.32,2,       0,2,     2.5,2,   0.035,2,   0.010,2,   0.012,2,        0,2,  2317.4,2, 2409.76,6,   7.5789,2,       25,-999.000,9,-999.0000,9, -999.00,9, -999.00,9,  -999.0,9,  -999.0,-999.000,9,-999.000,     -999.0,9, -999.00,9, -999.00,9, -999.00,9,     -999.0,9,  -999.0,9, 20130422,     1040,  30.0012,   166.06,    34.8524,2,     -999.0,9,     -999.0,9,      1.475,2,     -999.0,9,     -999.0,9,-999.0000, -999.00,-999.000
318M20130321,       P02W,      54,          1,          4,          4,2,20130422,       1011,    30.0013,     166.06,       5916,  5016.3,    1.487,  34.6928,2,  34.6916,2,    165.9,2,   166.1,2,  140.06,2,   34.87,2,       0,2,    2.46,2,-999.000,9,-999.000,9,-999.000,9,-999.0000,9,  -999.0,9, -999.00,9,-999.0000,9,  -999.00,-999.000,9,-999.0000,9, -999.00,9, -999.00,9,  -999.0,9,  -999.0,-999.000,9,-999.000,     -999.0,9, -999.00,9, -999.00,9, -999.00,9,     -999.0,9,  -999.0,9, 20130422,     1033,  30.0012,   166.06,    34.8552,2,     -999.0,9,     -999.0,9,      1.487,2,     -999.0,9,     -999.0,9,-999.0000, -999.00,-999.000
318M20130321,       P02W,      54,          1,          3,          3,2,20130422,       1011,    30.0013,     166.06,       5916,  5431.2,   1.5142,  34.6949,2,   34.694,2,    169.3,2,   169.6,2,  138.01,2,   34.57,2,       0,2,    2.43,2,   0.045,2,   0.013,2,   0.009,2,        0,2,  2305.7,2, 2403.55,2,   7.5912,6,       25,-999.000,9,-999.0000,9, -999.00,9, -999.00,9,  -999.0,9,  -999.0,-999.000,9,-999.000,     -999.0,9, -999.00,9, -999.00,9, -999.00,9,     -999.0,9,  -999.0,9, 20130422,     1025,  30.0012,   166.06,    34.8576,2,     -999.0,9,     -999.0,9,     1.5146,2,     -999.0,9,     -999.0,9,-999.0000, -999.00,-999.000
318M20130321,       P02W,      54,          1,          2,          2,2,20130422,       1011,    30.0013,     166.06,       5916,  5758.2,   1.5398,  34.6959,2,  34.6955,2,    172.3,2,   171.9,2,  136.26,2,    34.4,2,       0,2,    2.42,2,-999.000,9,-999.000,9,-999.000,9,-999.0000,9,  2304.9,6, 2403.15,2,   7.5945,2,       25,-999.000,9,-999.0000,9, -999.00,9, -999.00,9,  -999.0,9,  -999.0,-999.000,9,-999.000,     -999.0,9, -999.00,9, -999.00,9, -999.00,9,     -999.0,9,  -999.0,9, 20130422,     1017,  30.0012,   166.06,    34.8592,2,     -999.0,9,     -999.0,9,     1.5399,2,     -999.0,9,     -999.0,9,-999.0000, -999.00,-999.000
318M20130321,       P02W,      54,          1,          1,          1,2,20130422,       1011,    30.0013,     166.06,       5916,  6023.5,   1.5551,  34.6973,2,  34.6971,2,    175.5,2,   175.6,2,  134.11,2,    34.2,2,       0,2,    2.39,2,   0.000,4,   0.000,4,   0.000,4,        0,4,  2300.5,2, 2400.15,2,   7.5962,2,       25,-999.000,9,-999.0000,9, -999.00,9, -999.00,9,  -999.0,9,  -999.0,-999.000,9,-999.000,     -999.0,9, -999.00,9, -999.00,9, -999.00,9,     -999.0,9,  -999.0,9, 20130422,     1010,  30.0013,   166.06,    34.8607,2,     -999.0,9,     -999.0,9,     1.5555,2,     -999.0,9,     -999.0,9,-999.0000, -999.00,-999.000