BOTTLE,20220817CCHSIOAMB
EXPOCODE,SECT_ID,STNNBR,CASTNO,SAMPNO,BTLNBR,BTLNBR_FLAG_W,DATE,TIME,LATITUDE,LONGITUDE,DEPTH,CTDPRS,CTDTMP,CTDSAL,CTDSAL_FLAG_W,SALNTY,SALNTY_FLAG_W,CTDOXY,CTDOXY_FLAG_W,OXYGEN,OXYGEN_FLAG_W,SILCAT,SILCAT_FLAG_W,NITRAT,NITRAT_FLAG_W,NITRIT,NITRIT_FLAG_W,PHSPHT,PHSPHT_FLAG_W,CFC-11,CFC-11_FLAG_W,CFC-12,CFC-12_FLAG_W,CFC113,CFC113_FLAG_W,SF6,SF6_FLAG_W,TCARBN,TCARBN_FLAG_W,ALKALI,ALKALI_FLAG_W,PH_TOT,PH_TOT_FLAG_W,PH_TMP,TRITUM,TRITUM_FLAG_W,HELIUM,HELIUM_FLAG_W,DELHE3,DELHE3_FLAG_W,DELC13,DELC13_FLAG_W,DELC14,DELC14_FLAG_W,C14ERR,NEON,NEON_FLAG_W,NEONER,I-129,I-129_FLAG_W,SR-90,SR-90_FLAG_W,DOC,DOC_FLAG_W,TDN,TDN_FLAG_W,CALCIUM,CALCIUM_FLAG_W,D15N_NO3,D15N_NO3_FLAG_W,BTL_DATE,BTL_TIME,BTL_LAT,BTL_LON,SALTREF,SALTREF_FLAG_W,CS-137,CS-137_FLAG_W,CS-134,CS-134_FLAG_W,REFTMP,REFTMP_FLAG_W,LAB_DEN,LAB_DEN_FLAG_W,D18O_NO3,D18O_NO3_FLAG_W,HELIER,DELHER,TRITER
,,,,,,,,,,,METERS,DBAR,ITS-90,PSS-78,,PSS-78,,UMOL/KG,,UMOL/KG,,UMOL/KG,,UMOL/KG,,UMOL/KG,,UMOL/KG,,PMOL/KG,,PMOL/KG,,PMOL/KG,,FMOL/KG,,UMOL/KG,,UMOL/KG,,,,DEG C,TU,,NMOL/KG,,PERCNT,,/MILLE,,/MILLE,,/MILLE,NMOL/KG,,NMOL/KG,BQ/M^3,,DM/.1MG,,UMOL/KG,,UMOL/KG,,MMOL/KG,,/MILLE,,,,,,G/KG,,BQ/M^3,,BQ/M^3,,ITS-90,,,,/MILLE,,NMOL/KG,PERCNT,TU
318M20130321,       P02W,      79,          1,         35,         35,2,20130430,       0213,    30.0003,  -176.4016,       5339,       3,  20.0049,  35.1371,2,  35.1382,2,    226.2,2,   226.9,2,    1.85,2,       0,2,       0,2,    0.03,2,   2.310,2,   1.471,2,   0.183,2,     1.39,2,  2014.2,2, 2306.32,2,   8.0237,6,       25,-999.000,9,-999.0000,9, -999.00,9,    0.69,2,    50.6,2,     2.8,-999.000,9,-999.000,     -999.0,9, -999.00,9,   61.35,2,    4.06,2,     -999.0,9,  -999.0,9, 20130430,      418,  30.0001, -176.402,    35.3039,2,     -999.0,9,     -999.0,9,    20.0047,2,     -999.0,9,     -999.0,9,-999.0000, -999.00,-999.000
318M20130321,       P02W,      79,          1,         36,         36,2,20130430,       0213,    30.0003,  -176.4016,       5339,    21.8,  20.0061,  35.1367,2,  35.1376,2,    227.8,2,   226.8,2,    1.76,2,       0,2,       0,2,    0.03,2,   2.340,2,   1.448,2,   0.203,2,     1.47,2,  -999.0,9, -999.00,9,-999.0000,9,  -999.00,-999.000,9,-999.0000,9, -999.00,9, -999.00,9,  -999.0,9,  -999.0,-999.000,9,-999.000,     -999.0,9, -999.00,9,   62.88,2,    4.54,2,     -999.0,9,  -999.0,9, 20130430,      416,  30.0001,-176.4019,    35.3033,2,     -999.0,9,     -999.0,9,    20.0035,2,     -999.0,9,     -999.0,9,-999.0000, -999.00,-999.000
318M20130321,       P02W,      79,          1,         34,         34,2,20130430,       0213,    30.0003,  -176.4016,       5339,    41.9,  19.8981,  35.1239,2,  35.1242,2,      228,2,   227.4,2,    1.85,2,       0,2,       0,2,    0.02,2,   2.324,2,   1.457,2,   0.201,2,     1.51,2,  -999.0,9, -999.00,9,-999.0000,9,  -999.00,-999.000,9,-999.0000,9, -999.00,9, -999.00,9,  -999.0,9,  -999.0,-999.000,9,-999.000,     -999.0,9, -999.00,9,   63.21,2,     4.4,2,     -999.0,9,  -999.0,9, 20130430,      415,  30.0001,-176.4017,    35.2898,2,     -999.0,9,     -999.0,9,    19.8979,2,     -999.0,9,     -999.0,9,-999.0000, -999.00,-999.000
318M20130321,       P02W,      79,          1,         33,         33,2,20130430,       0213,    30.0003,  -176.4016,       5339,    65.8,  19.8326,  35.1092,2,  35.1155,3,    226.5,2,     227,2,    1.85,2,       0,2,       0,2,       0,2,   2.342,2,   1.441,2,   0.194,2,     1.34,2,  2014.3,2, 2304.22,6,   8.0228,2,       25,-999.000,9,-999.0000,9, -999.00,9, -999.00,9,  -999.0,9,  -999.0,-999.000,9,-999.000,     -999.0,9, -999.00,9,   62.31,2,    3.89,2,     -999.0,9,  -999.0,9, 20130430,      413,  30.0001,-176.4016,    35.2811,3,     -999.0,9,     -999.0,9,    19.6448,3,     -999.0,9,     -999.0,9,-999.0000, -999.00,-999.000
318M20130321,       P02W,      79,          1,         32,         32,2,20130430,       0213,    30.0003,  -176.4016,       5339,    92.1,  17.8435,  34.7232,2,  34.7264,2,    224.7,2,   223.3,2,    2.83,2,    1.18,2,    0.19,2,    0.13,2,   2.598,2,   1.587,2,   0.169,2,     1.42,2,  2020.4,2, 2278.61,2,   7.9722,2,       25,-999.000,9,-999.0000,9, -999.00,9,    0.53,2,    52.3,2,     3.5,-999.000,9,-999.000,     -999.0,9, -999.00,9,   52.91,2,     4.8,2,     -999.0,9,  -999.0,9, 20130430,      412,  30.0001,-176.4014,    34.8902,2,     -999.0,9,     -999.0,9,    17.8173,2,     -999.0,9,     -999.0,9,-999.0000, -999.00,-999.000
318M20130321,       P02W,      79,          1,         31,         31,2,20130430,       0213,    30.0003,  -176.4016,       5339,   133.2,  16.7418,  34.6539,2,  34.6582,2,    207.7,2,     208,2,    4.49,2,    4.53,2,    0.03,2,    0.33,2,-999.000,9,-999.000,9,-999.000,9,-999.0000,9,  2041.1,2, 2275.91,2,   7.9279,2,       25,-999.000,9,-999.0000,9, -999.00,9,    0.33,2,    48.3,2,     3.8,-999.000,9,-999.000,     -999.0,9, -999.00,9,    49.5,2,    8.28,2,     -999.0,9,  -999.0,9, 20130430,      410,  30.0002,-176.4014,    34.8217,2,     -999.0,9,     -999.0,9,    16.7449,2,     -999.0,9,     -999.0,9,-999.0000, -999.00,-999.000
318M20130321,       P02W,      79,          1,         30,         30,2,20130430,       0213,    30.0003,  -176.4016,       5339,   182.8,   15.467,  34.5489,2,    34.55,2,    213.8,2,   215.1,2,    6.15,2,    5.93,2,    0.02,2,    0.41,2,   2.878,2,   1.727,2,   0.103,2,     1.38,2,  -999.0,9, -999.00,9,-999.0000,9,  -999.00,-999.000,9,-999.0000,9, -999.00,9, -999.00,9,  -999.0,9,  -999.0,-999.000,9,-999.000,     -999.0,9, -999.00,9,   48.41,2,    9.19,2,     -999.0,9,  -999.0,9, 20130430,      408,  30.0002,-176.4015,    34.7129,2,     -999.0,9,     -999.0,9,    15.4643,2,     -999.0,9,     -999.0,9,-999.0000, -999.00,-999.000
318M20130321,       P02W,      79,          1,         29,         29,2,20130430,       0213,    30.0003,  -176.4016,       5339,   234.5,   14.287,  34.4558,2,  34.4579,2,    210.5,2,   212.4,2,     8.3,2,     7.9,2,    0.01,2,    0.55,2,-999.000,9,-999.000,9,-999.000,9,-999.0000,9,  2060.5,2, 2266.51,2,   7.8742,6,       25,-999.000,9,-999.0000,9, -999.00,9,    0.25,2,    38.5,2,     2.6,-999.000,9,-999.000,     -999.0,9, -999.00,9,   45.79,2,   10.97,2,     -999.0,9,  -999.0,9, 20130430,      406,  30.0003,-176.4017,    34.6204,2,     -999.0,9,     -999.0,9,    14.2547,2,     -999.0,9,     -999.0,9,-999.0000, -999.00,-999.000
318M20130321,       P02W,      79,          1,         28,         28,2,20130430,       0213,    30.0003,  -176.4016,       5339,   285.5,  13.4262,  34.4135,2,  34.4112,2,    210.2,2,   209.5,2,   11.13,2,    9.98,2,    0.01,2,    0.68,2,   3.128,2,   1.841,2,   0.087,2,     1.28,2,  -999.0,9, -999.00,9,-999.0000,9,  -999.00,-999.000,9,-999.0000,9, -999.00,9, -999.00,9,  -999.0,9,  -999.0,-999.000,9,-999.000,     -999.0,9, -999.00,9,   45.34,2,   13.35,2,     -999.0,9,  -999.0,9, 20130430,      404,  30.0003,-176.4017,    34.5734,2,     -999.0,9,     -999.0,9,    13.4144,2,     -999.0,9,     -999.0,9,-999.0000, -999.00,-999.000
318M20130321,       P02W,      79,          1,         27,         27,2,20130430,       0213,    30.0003,  -176.4016,       5339,   334.6,  12.1866,  34.3318,2,  34.3339,2,    207.4,2,   207.2,2,   14.55,2,   12.25,2,    0.01,2,    0.84,2,-999.000,9,-999.000,9,-999.000,9,-999.0000,9,  2088.9,2, 2267.11,2,   7.8114,2,       25,-999.000,9,-999.0000,9, -999.00,9,    0.24,2,    34.7,2,     2.6,-999.000,9,-999.000,     -999.0,9, -999.00,9,   45.17,2,   15.16,2,     -999.0,9,  -999.0,9, 20130430,      402,  30.0004,-176.4016,    34.4958,2,     -999.0,9,     -999.0,9,    12.1981,2,     -999.0,9,     -999.0,9,-999.0000, -999.00,-999.000
318M20130321,       P02W,      79,          1,         26,         26,2,20130430,       0213,    30.0003,  -176.4016,       5339,   385.7,  11.3147,  34.2715,2,  34.2721,2,    205.2,2,   205.7,2,   17.67,2,   14.07,2,    0.01,2,    0.98,2,   3.347,2,   1.903,2,   0.111,2,     1.22,2,  -999.0,9, -999.00,9,-999.0000,9,  -999.00,-999.000,9,-999.0000,9, -999.00,9, -999.00,9,  -999.0,9,  -999.0,-999.000,9,-999.000,     -999.0,9, -999.00,9,   44.81,2, -999.00,9,     -999.0,9,  -999.0,9, 20130430,      400,  30.0004,-176.4016,    34.4337,2,     -999.0,9,     -999.0,9,    11.3221,2,     -999.0,9,     -999.0,9,-999.0000, -999.00,-999.000
318M20130321,       P02W,      79,          1,         25,         25,2,20130430,       0213,    30.0003,  -176.4016,       5339,   465.8,   9.3373,  34.1361,2,  34.1375,2,    191.9,2,   191.6,2,   27.34,2,   19.13,2,    0.01,2,    1.36,2,-999.000,9,-999.000,9,-999.000,9,-999.0000,9,  2135.5,2, 2268.91,2,    7.704,2,       25,-999.000,9,-999.0000,9, -999.00,9,    0.17,2,     8.0,2,     2.5,-999.000,9,-999.000,     -999.0,9, -999.00,9,   43.61,2, -999.00,9,     -999.0,9,  -999.0,9, 20130430,      358,  30.0005,-176.4015,    34.2985,2,     -999.0,9,     -999.0,9,     9.3396,2,     -999.0,9,     -999.0,9,-999.0000, -999.00,-999.000
318M20130321,       P02W,      79,          1,         24,         24,2,20130430,       0213,    30.0003,  -176.4016,       5339,   568.4,   7.2274,  34.0445,2,  34.0462,2,    148.8,2,   147.7,2,   46.78,2,   26.98,2,    0.01,2,    1.94,2,   2.889,2,   1.527,2,   0.121,2,     0.71,2,  -999.0,9, -999.00,9,-999.0000,9,  -999.00,-999.000,9,-999.0000,9, -999.00,9,   -0.09,2,   -33.0,2,     2.6,-999.000,9,-999.000,     -999.0,9, -999.00,9,   40.65,2, -999.00,9,     -999.0,9,  -999.0,9, 20130430,      355,  30.0005,-176.4015,    34.2068,2,     -999.0,9,     -999.0,9,     7.2264,2,     -999.0,9,     -999.0,9,-999.0000, -999.00,-999.000
318M20130321,       P02W,      79,          1,         23,         23,2,20130430,       0213,    30.0003,  -176.4016,       5339,   668.5,   5.8381,  34.0363,2,  34.0376,2,    107.8,2,   109.4,2,    66.5,2,   32.92,2,    0.01,2,    2.38,2,-999.000,9,-999.000,9,-999.000,9,-999.0000,9,  2240.3,2, 2294.62,2,     7.47,2,       25,-999.000,9,-999.0000,9, -999.00,9,   -0.33,2,   -74.0,2,     3.4,-999.000,9,-999.000,     -999.0,9, -999.00,9,   39.39,2, -999.00,9,     -999.0,9,  -999.0,9, 20130430,      352,  30.0003,-176.4014,    34.1981,2,     -999.0,9,     -999.0,9,     5.8386,2,     -999.0,9,     -999.0,9,-999.0000, -999.00,-999.000
318M20130321,       P02W,      79,          1,         22,         22,2,20130430,       0213,    30.0003,  -176.4016,       5339,   771.6,   4.8236,  34.0888,2,  34.0927,2,     70.9,2,      70,2,    87.2,2,   38.12,2,    0.01,2,    2.76,2,   1.292,2,   0.643,2,   0.050,2,     0.26,2,  -999.0,9, -999.00,9,-999.0000,9,  -999.00,-999.000,9,   1.8672,2,   15.69,2,   -0.42,2,  -117.7,2,     2.7,   7.977,2,   0.037,     -999.0,9, -999.00,9,   37.77,2, -999.00,9,     -999.0,9,  -999.0,9, 20130430,      350,  30.0002,-176.4016,    34.2534,2,     -999.0,9,     -999.0,9,     4.8213,2,     -999.0,9,     -999.0,9,   0.0078,    0.15,-999.000
318M20130321,       P02W,      79,          1,         21,         21,2,20130430,       0213,    30.0003,  -176.4016,       5339,   872.8,   4.2233,  34.1786,2,  34.1809,2,     42.8,2,      42,2,  103.89,2,   41.23,2,       0,2,    2.99,2,-999.000,9,-999.000,9,-999.000,9,-999.0000,9,  2322.4,2, 2333.03,2,   7.3302,2,       25,-999.000,9,-999.0000,9, -999.00,9,   -0.56,2,  -153.2,2,     2.7,-999.000,9,-999.000,     -999.0,9, -999.00,9,   37.42,2, -999.00,9,     -999.0,9,  -999.0,9, 20130430,      347,  30.0001,-176.4018,    34.3421,2,     -999.0,9,     -999.0,9,     4.2254,2,     -999.0,9,     -999.0,9,-999.0000, -999.00,-999.000
318M20130321,       P02W,      79,          1,         20,         20,2,20130430,       0213,    30.0003,  -176.4016,       5339,   972.6,   3.7713,  34.2758,2,  34.2752,2,     27.5,2,    26.6,2,  118.04,2,   42.95,2,       0,2,    3.12,2,   0.228,2,   0.119,2,   0.009,2,     0.05,2,    2348,2, 2350.23,2,   7.3077,2,       25,-999.000,9,-999.0000,9, -999.00,9,   -0.55,2,  -190.0,2,     1.5,-999.000,9,-999.000,     -999.0,9, -999.00,9,    36.2,2, -999.00,9,     -999.0,9,  -999.0,9, 20130430,      345,  30.0002,-176.4019,    34.4368,2,     -999.0,9,     -999.0,9,     3.7746,2,     -999.0,9,     -999.0,9,-999.0000, -999.00,-999.000
318M20130321,       P02W,      79,          1,         19,         19,2,20130430,       0213,    30.0003,  -176.4016,       5339,  1071.2,   3.5005,  34.3471,2,  34.3474,2,     22.7,2,    22.3,2,  126.63,2,   43.63,2,       0,2,    3.17,2,   0.078,2,   0.047,2,   0.005,2,      0.1,2,  2359.2,2, 2363.84,2,   7.3085,2,       25,-999.000,9,-999.0000,9, -999.00,9,   -0.58,2,  -201.0,2,     2.1,-999.000,9,-999.000,     -999.0,9, -999.00,9,   35.43,2, -999.00,9,     -999.0,9,  -999.0,9, 20130430,      342,  30.0004,-176.4019,    34.5094,2,     -999.0,9,     -999.0,9,     3.5011,2,     -999.0,9,     -999.0,9,-999.0000, -999.00,-999.000
318M20130321,       P02W,      79,          1,         18,         18,3,20130430,       0213,    30.0003,  -176.4016,       5339,  1173.3,   3.2376,  34.4071,2,   34.407,2,       23,2,    22.9,2,  134.43,2,   43.95,2,       0,2,     3.2,2,   0.000,2,   0.001,2,   0.000,2,        0,2,  2368.4,2, 2374.64,2,   7.3164,2,       25,-999.000,9,-999.0000,9, -999.00,9,   -0.55,2,  -210.1,2,     2.1,-999.000,9,-999.000,     -999.0,9, -999.00,9,   36.46,2, -999.00,9,     -999.0,9,  -999.0,9, 20130430,      340,  30.0005,-176.4019,    34.5693,2,     -999.0,9,     -999.0,9,     3.2377,2,     -999.0,9,     -999.0,9,-999.0000, -999.00,-999.000
318M20130321,       P02W,      79,          1,         17,         17,2,20130430,       0213,    30.0003,  -176.4016,       5339,  1275.1,   3.0585,  34.4525,2,  34.4518,2,     28.6,2,    29.1,2,  139.31,2,   43.59,2,       0,2,    3.17,2,   0.012,2,   0.018,2,   0.006,2,      0.1,2,    2370,2, 2382.65,2,   7.3337,6,       25,-999.000,9,-999.0000,9, -999.00,9,   -0.50,2,  -219.6,2,     2.5,-999.000,9,-999.000,     -999.0,9, -999.00,9,   34.95,2, -999.00,9,     -999.0,9,  -999.0,9, 20130430,      337,  30.0005,-176.4018,    34.6143,2,     -999.0,9,     -999.0,9,     3.0608,2,     -999.0,9,     -999.0,9,-999.0000, -999.00,-999.000
318M20130321,       P02W,      79,          1,         16,         16,2,20130430,       0213,    30.0003,  -176.4016,       5339,  1447.4,   2.7359,  34.5081,2,  34.5089,2,     38.9,2,    40.4,2,   147.7,2,   43.12,2,       0,2,    3.12,2,   0.005,2,   0.009,2,   0.003,2,     0.07,2,  2373.5,2, 2394.15,2,   7.3572,2,       25,-999.000,9,-999.0000,9, -999.00,9,   -0.47,2,  -231.1,2,     1.9,-999.000,9,-999.000,     -999.0,9, -999.00,9,   35.03,2, -999.00,9,     -999.0,9,  -999.0,9, 20130430,      333,  30.0002,-176.4021,    34.6717,2,     -999.0,9,     -999.0,9,     2.7363,2,     -999.0,9,     -999.0,9,-999.0000, -999.00,-999.000
318M20130321,       P02W,      79,          1,         15,         15,2,20130430,       0213,    30.0003,  -176.4016,       5339,  1647.3,   2.3915,  34.5542,2,  34.5594,2,     53.7,2,      54,2,   155.4,2,   42.34,2,       0,2,    3.05,2,   0.000,2,   0.006,2,   0.003,2,     0.04,2,  2373.1,2, 2403.75,2,   7.3881,2,       25,-999.000,9,-999.0000,9, -999.00,9,   -0.45,2,  -237.4,2,     2.0,-999.000,9,-999.000,     -999.0,9, -999.00,9,    35.7,2, -999.00,9,     -999.0,9,  -999.0,9, 20130430,      329,  29.9998,-176.4022,    34.7224,2,     -999.0,9,     -999.0,9,     2.3908,2,     -999.0,9,     -999.0,9,-999.0000, -999.00,-999.000
318M20130321,       P02W,      79,          1,         14,         14,2,20130430,       0213,    30.0003,  -176.4016,       5339,  1851.7,   2.1319,  34.5856,2,  34.5871,2,     67.5,2,    67.6,2,  160.77,2,   41.56,2,       0,2,    2.99,2,   0.000,2,   0.004,2,   0.005,2,     0.04,2,  2370.2,2, 2409.26,2,   7.4119,2,       25,-999.000,9,   1.9417,2,   20.22,2, -999.00,9,  -999.0,9,  -999.0,   8.224,2,   0.038,     -999.0,9, -999.00,9,   35.83,2, -999.00,9,     -999.0,9,  -999.0,9, 20130430,      325,  29.9996,-176.4022,    34.7502,2,     -999.0,9,     -999.0,9,     2.1306,2,     -999.0,9,     -999.0,9,   0.0082,    0.15,-999.000
318M20130321,       P02W,      79,          1,         13,         13,2,20130430,       0213,    30.0003,  -176.4016,       5339,  2187.6,   1.8454,  34.6206,2,  34.6211,2,     86.2,2,    85.8,2,  163.89,2,   40.39,2,       0,2,    2.89,2,   0.000,2,   0.005,2,   0.007,2,      0.1,2,  2363.1,2, 2416.36,2,   7.4498,2,       25,-999.000,9,-999.0000,9, -999.00,9, -999.00,9,  -999.0,9,  -999.0,-999.000,9,-999.000,     -999.0,9, -999.00,9,    36.5,2, -999.00,9,     -999.0,9,  -999.0,9, 20130430,      318,  29.9996, -176.402,    34.7843,2,     -999.0,9,     -999.0,9,      1.845,2,     -999.0,9,     -999.0,9,-999.0000, -999.00,-999.000
318M20130321,       P02W,      79,          1,         11,         11,2,20130430,       0213,    30.0003,  -176.4016,       5339,  2440.5,   1.7027,  34.6394,2,  34.6401,2,    101.9,2,   101.4,2,  163.11,2,   39.38,2,       0,2,     2.8,2,-999.000,9,-999.000,9,-999.000,9,-999.0000,9,    2356,6, 2417.16,2,    7.483,2,       25,-999.000,9,-999.0000,9, -999.00,9, -999.00,9,  -999.0,9,  -999.0,-999.000,9,-999.000,     -999.0,9, -999.00,9,   35.55,2, -999.00,9,     -999.0,9,  -999.0,9, 20130430,      313,  29.9996,-176.4018,    34.8035,2,     -999.0,9,     -999.0,9,     1.7029,2,     -999.0,9,     -999.0,9,-999.0000, -999.00,-999.000
318M20130321,       P02W,      79,          1,         10,         10,2,20130430,       0213,    30.0003,  -176.4016,       5339,  2696.8,   1.6008,  34.6537,2,  34.6553,2,    115.3,2,   114.6,2,  161.44,2,    38.5,2,       0,2,    2.73,2,   0.000,2,   0.002,2,   0.003,2,     0.08,2,  -999.0,9, -999.00,9,-999.0000,9,  -999.00,-999.000,9,-999.0000,9, -999.00,9, -999.00,9,  -999.0,9,  -999.0,-999.000,9,-999.000,     -999.0,9, -999.00,9, -999.00,9, -999.00,9,     -999.0,9,  -999.0,9, 20130430,      308,  29.9998,-176.4017,    34.8187,2,     -999.0,9,     -999.0,9,     1.6011,2,     -999.0,9,     -999.0,9,-999.0000, -999.00,-999.000
318M20130321,       P02W,      79,          1,          9,          9,2,20130430,       0213,    30.0003,  -176.4016,       5339,    2953,   1.5346,  34.6638,2,  34.6641,2,    124.3,2,   124.3,2,  161.15,2,   37.89,2,       0,2,    2.68,2,-999.000,9,-999.000,9,-999.000,9,-999.0000,9,  2341.3,2, 2418.66,2,   7.5219,2,       25,-999.000,9,-999.0000,9, -999.00,9, -999.00,9,  -999.0,9,  -999.0,-999.000,9,-999.000,     -999.0,9, -999.00,9,   34.88,2, -999.00,9,     -999.0,9,  -999.0,9, 20130430,      302,  29.9998,-176.4014,    34.8276,2,     -999.0,9,     -999.0,9,     1.5348,2,     -999.0,9,     -999.0,9,-999.0000, -999.00,-999.000
318M20130321,       P02W,      79,          1,          8,          8,2,20130430,       0213,    30.0003,  -176.4016,       5339,  3241.3,   1.4889,  34.6719,2,  34.6728,2,    132.6,2,   134.1,2,  158.61,2,   37.24,2,       0,2,    2.65,2,   0.000,2,   0.005,2,   0.004,2,     0.08,2,  -999.0,9, -999.00,9,-999.0000,9,  -999.00,-999.000,9,-999.0000,9, -999.00,9, -999.00,9,  -999.0,9,  -999.0,-999.000,9,-999.000,     -999.0,9, -999.00,9, -999.00,9, -999.00,9,     -999.0,9,  -999.0,9, 20130430,      256,       30,-176.4012,    34.8363,2,     -999.0,9,     -999.0,9,     1.4891,2,     -999.0,9,     -999.0,9,-999.0000, -999.00,-999.000
318M20130321,       P02W,      79,          1,          7,          7,2,20130430,       0213,    30.0003,  -176.4016,       5339,  3544.2,   1.4611,  34.6783,2,  34.6791,2,      141,2,   141.4,2,  157.05,2,   36.73,2,       0,2,    2.62,2,-999.000,9,-999.000,9,-999.000,9,-999.0000,9,  -999.0,9, -999.00,9,-999.0000,9,  -999.00,-999.000,9,-999.0000,9, -999.00,9, -999.00,9,  -999.0,9,  -999.0,-999.000,9,-999.000,     -999.0,9, -999.00,9,   34.96,2, -999.00,9,     -999.0,9,  -999.0,9, 20130430,      250,  30.0002,-176.4012,    34.8426,2,     -999.0,9,     -999.0,9,     1.4609,2,     -999.0,9,     -999.0,9,-999.0000, -999.00,-999.000