BOTTLE,20220817CCHSIOAMB
EXPOCODE,SECT_ID,STNNBR,CASTNO,SAMPNO,BTLNBR,BTLNBR_FLAG_W,DATE,TIME,LATITUDE,LONGITUDE,DEPTH,CTDPRS,CTDTMP,CTDSAL,CTDSAL_FLAG_W,SALNTY,SALNTY_FLAG_W,CTDOXY,CTDOXY_FLAG_W,OXYGEN,OXYGEN_FLAG_W,SILCAT,SILCAT_FLAG_W,NITRAT,NITRAT_FLAG_W,NITRIT,NITRIT_FLAG_W,PHSPHT,PHSPHT_FLAG_W,CFC-11,CFC-11_FLAG_W,CFC-12,CFC-12_FLAG_W,CFC113,CFC113_FLAG_W,SF6,SF6_FLAG_W,TCARBN,TCARBN_FLAG_W,ALKALI,ALKALI_FLAG_W,PH_TOT,PH_TOT_FLAG_W,PH_TMP,TRITUM,TRITUM_FLAG_W,HELIUM,HELIUM_FLAG_W,DELHE3,DELHE3_FLAG_W,DELC13,DELC13_FLAG_W,DELC14,DELC14_FLAG_W,C14ERR,NEON,NEON_FLAG_W,NEONER,I-129,I-129_FLAG_W,SR-90,SR-90_FLAG_W,DOC,DOC_FLAG_W,TDN,TDN_FLAG_W,CALCIUM,CALCIUM_FLAG_W,D15N_NO3,D15N_NO3_FLAG_W,BTL_DATE,BTL_TIME,BTL_LAT,BTL_LON,SALTREF,SALTREF_FLAG_W,CS-137,CS-137_FLAG_W,CS-134,CS-134_FLAG_W,REFTMP,REFTMP_FLAG_W,LAB_DEN,LAB_DEN_FLAG_W,D18O_NO3,D18O_NO3_FLAG_W,HELIER,DELHER,TRITER
,,,,,,,,,,,METERS,DBAR,ITS-90,PSS-78,,PSS-78,,UMOL/KG,,UMOL/KG,,UMOL/KG,,UMOL/KG,,UMOL/KG,,UMOL/KG,,PMOL/KG,,PMOL/KG,,PMOL/KG,,FMOL/KG,,UMOL/KG,,UMOL/KG,,,,DEG C,TU,,NMOL/KG,,PERCNT,,/MILLE,,/MILLE,,/MILLE,NMOL/KG,,NMOL/KG,BQ/M^3,,DM/.1MG,,UMOL/KG,,UMOL/KG,,MMOL/KG,,/MILLE,,,,,,G/KG,,BQ/M^3,,BQ/M^3,,ITS-90,,,,/MILLE,,NMOL/KG,PERCNT,TU
318M20130321,       P02W,      28,          1,         36,         36,4,20130412,       1817,    30.0002,    142.715,       8556,     2.6,  18.8897,   34.754,2,  34.6869,4,    228.7,2,   142.6,4,   29.38,4,    8.27,4,    0.07,4,    0.67,4,   1.015,4,   0.649,4,   0.057,4,     0.65,4,  2160.9,4, 2301.42,4,-999.0000,5,  -999.00,-999.000,9,-999.0000,9, -999.00,9, -999.00,9,  -999.0,9,  -999.0,-999.000,9,-999.000,     -999.0,9, -999.00,9,   54.38,2, -999.00,9,     -999.0,9,  -999.0,9, 20130412,     2053,  29.9986, 142.7148,    34.8505,4,     -999.0,9,     -999.0,9,    18.8874,2,     -999.0,9,     -999.0,9,-999.0000, -999.00,-999.000
318M20130321,       P02W,      28,          1,         35,         35,2,20130412,       1817,    30.0002,    142.715,       8556,    20.5,  18.8966,  34.7538,2,  34.7528,2,    229.3,2,   228.8,2,    2.34,2,    0.14,2,     0.1,2,    0.05,2,   2.394,2,   1.578,2,   0.181,2,     1.65,2,  1998.2,6, 2279.71,6,   8.0224,2,       25,-999.000,9,-999.0000,9, -999.00,9, -999.00,9,  -999.0,9,  -999.0,-999.000,9,-999.000,     -999.0,9, -999.00,9,   59.21,2, -999.00,9,     -999.0,9,  -999.0,9, 20130412,     2051,  29.9987, 142.7148,    34.9167,2,     -999.0,9,     -999.0,9,    18.8972,2,     -999.0,9,     -999.0,9,-999.0000, -999.00,-999.000
318M20130321,       P02W,      28,          1,         34,         34,2,20130412,       1817,    30.0002,    142.715,       8556,    40.7,  18.8954,   34.754,2,  34.7524,2,    229.8,2,     230,2,    2.34,2,    0.14,2,     0.1,2,    0.06,2,   2.447,2,   1.535,2,   0.168,2,     1.71,2,  1999.2,2, 2279.21,2,   8.0227,6,       25,-999.000,9,-999.0000,9, -999.00,9, -999.00,9,  -999.0,9,  -999.0,-999.000,9,-999.000,     -999.0,9, -999.00,9,   57.47,2, -999.00,9,     -999.0,9,  -999.0,9, 20130412,     2049,   29.999, 142.7149,    34.9163,2,     -999.0,9,     -999.0,9,    18.8957,2,     -999.0,9,     -999.0,9,-999.0000, -999.00,-999.000
318M20130321,       P02W,      28,          1,         31,         31,2,20130412,       1817,    30.0002,    142.715,       8556,    65.6,  18.7684,  34.7612,2,  34.7648,2,    230.2,2,   227.5,2,    2.34,2,    0.51,2,    0.14,2,    0.08,2,   2.555,2,   1.858,2,   0.173,2,     2.03,2,  2003.6,2, 2279.51,2,    8.014,2,       25,-999.000,9,-999.0000,9, -999.00,9, -999.00,9,  -999.0,9,  -999.0,-999.000,9,-999.000,     -999.0,9, -999.00,9,   54.42,2, -999.00,9,     -999.0,9,  -999.0,9, 20130412,     2047,  29.9992, 142.7151,    34.9287,2,     -999.0,9,     -999.0,9,    18.7639,2,     -999.0,9,     -999.0,9,-999.0000, -999.00,-999.000
318M20130321,       P02W,      28,          1,         32,         32,2,20130412,       1817,    30.0002,    142.715,       8556,    65.7,  18.7655,  34.7614,2,-999.0000,9,    230.2,2,  -999.0,9, -999.00,9, -999.00,9, -999.00,9, -999.00,9,-999.000,9,-999.000,9,-999.000,9,-999.0000,9,  -999.0,9, -999.00,9,-999.0000,9,  -999.00,-999.000,9,-999.0000,9, -999.00,9, -999.00,9,  -999.0,9,  -999.0,-999.000,9,-999.000,     -999.0,1, -999.00,1, -999.00,9, -999.00,9,     -999.0,9,  -999.0,9, 20130412,     2048,  29.9992, 142.7151,     -999.0,9,     -999.0,1,     -999.0,1,    18.7584,2,     -999.0,9,     -999.0,9,-999.0000, -999.00,-999.000
318M20130321,       P02W,      28,          1,         33,         33,2,20130412,       1817,    30.0002,    142.715,       8556,      66,   18.759,  34.7617,2,-999.0000,9,    230.2,2,  -999.0,9, -999.00,9, -999.00,9, -999.00,9, -999.00,9,-999.000,9,-999.000,9,-999.000,9,-999.0000,9,  -999.0,9, -999.00,9,-999.0000,9,  -999.00,-999.000,9,-999.0000,9, -999.00,9, -999.00,9,  -999.0,9,  -999.0,-999.000,9,-999.000,     -999.0,9, -999.00,1, -999.00,9, -999.00,9,     -999.0,9,  -999.0,9, 20130412,     2048,  29.9992, 142.7151,     -999.0,9,     -999.0,1,     -999.0,1,    18.7641,2,     -999.0,9,     -999.0,9,-999.0000, -999.00,-999.000
318M20130321,       P02W,      28,          1,         30,         30,2,20130412,       1817,    30.0002,    142.715,       8556,    91.2,  18.5343,  34.7875,2,  34.7865,2,    221.1,2,   222.8,2,    2.83,2,    1.17,2,    0.06,2,    0.11,2,-999.000,9,-999.000,9,-999.000,9,-999.0000,9,  -999.0,9, -999.00,9,-999.0000,9,  -999.00,-999.000,9,-999.0000,9, -999.00,9, -999.00,9,  -999.0,9,  -999.0,-999.000,9,-999.000,     -999.0,9, -999.00,9,   54.79,2, -999.00,9,     -999.0,9,  -999.0,9, 20130412,     2046,  29.9994, 142.7152,    34.9505,2,     -999.0,9,     -999.0,9,      18.53,2,     -999.0,9,     -999.0,9,-999.0000, -999.00,-999.000
318M20130321,       P02W,      28,          1,         29,         29,2,20130412,       1817,    30.0002,    142.715,       8556,   137.1,  18.1173,   34.774,2,  34.7719,2,    215.8,2,   218.8,2,    3.03,2,    2.15,2,    0.02,2,    0.17,2,   2.505,2,   1.636,2,   0.145,2,      1.8,2,  2018.2,2, 2280.11,2,   7.9898,2,       25,-999.000,9,-999.0000,9, -999.00,9, -999.00,9,  -999.0,9,  -999.0,-999.000,9,-999.000,     -999.0,9, -999.00,9,    53.7,2, -999.00,9,     -999.0,9,  -999.0,9, 20130412,     2043,  29.9996, 142.7153,    34.9359,2,     -999.0,9,     -999.0,9,    18.1151,2,     -999.0,9,     -999.0,9,-999.0000, -999.00,-999.000
318M20130321,       P02W,      28,          1,         28,         28,2,20130412,       1817,    30.0002,    142.715,       8556,   185.8,  17.7933,  34.7492,2,  34.7491,2,    211.1,2,   212.6,2,    3.71,2,    3.18,2,    0.02,2,    0.22,2,-999.000,9,-999.000,9,-999.000,9,-999.0000,9,  -999.0,9, -999.00,9,-999.0000,9,  -999.00,-999.000,9,-999.0000,9, -999.00,9, -999.00,9,  -999.0,9,  -999.0,-999.000,9,-999.000,     -999.0,9, -999.00,9,   51.53,2, -999.00,9,     -999.0,9,  -999.0,9, 20130412,     2041,  29.9998, 142.7155,     34.913,2,     -999.0,9,     -999.0,9,    17.7936,2,     -999.0,9,     -999.0,9,-999.0000, -999.00,-999.000
318M20130321,       P02W,      28,          1,         27,         27,2,20130412,       1817,    30.0002,    142.715,       8556,   235.1,  17.3741,  34.7155,2,  34.7149,2,    221.1,2,   202.3,2,    5.17,2,     4.8,2,    0.02,2,    0.33,2,   2.638,2,   1.679,2,   0.061,2,     1.66,2,    2040,2, 2277.41,2,   7.9468,2,       25,-999.000,9,-999.0000,9, -999.00,9, -999.00,9,  -999.0,9,  -999.0,-999.000,9,-999.000,     -999.0,9, -999.00,9,   49.51,2, -999.00,9,     -999.0,9,  -999.0,9, 20130412,     2039,  29.9997, 142.7153,    34.8786,2,     -999.0,9,     -999.0,9,    17.3765,2,     -999.0,9,     -999.0,9,-999.0000, -999.00,-999.000
318M20130321,       P02W,      28,          1,         26,         26,2,20130412,       1817,    30.0002,    142.715,       8556,   285.6,  17.1112,  34.6979,2,  34.6963,2,    225.2,2,   198.7,2,    5.86,2,    5.54,2,    0.02,2,    0.39,2,-999.000,9,-999.000,9,-999.000,9,-999.0000,9,  -999.0,9, -999.00,9,-999.0000,9,  -999.00,-999.000,9,-999.0000,9, -999.00,9, -999.00,9,  -999.0,9,  -999.0,-999.000,9,-999.000,     -999.0,9, -999.00,9, -999.00,5, -999.00,9,     -999.0,9,  -999.0,9, 20130412,     2037,  29.9996, 142.7153,    34.8599,2,     -999.0,9,     -999.0,9,    17.1115,2,     -999.0,9,     -999.0,9,-999.0000, -999.00,-999.000
318M20130321,       P02W,      28,          1,         25,         25,2,20130412,       1817,    30.0002,    142.715,       8556,   336.9,  16.6798,  34.6728,2,  34.6709,2,    208.4,2,   195.6,2,    6.44,2,    6.49,2,    0.01,2,    0.45,2,   2.694,2,   1.700,2,   0.041,2,     1.73,2,  2049.9,2, 2276.41,2,   7.9194,2,       25,-999.000,9,-999.0000,9, -999.00,9, -999.00,9,  -999.0,9,  -999.0,-999.000,9,-999.000,     -999.0,9, -999.00,9, -999.00,5, -999.00,9,     -999.0,9,  -999.0,9, 20130412,     2034,  29.9994, 142.7153,    34.8344,2,     -999.0,9,     -999.0,9,    16.6724,2,     -999.0,9,     -999.0,9,-999.0000, -999.00,-999.000
318M20130321,       P02W,      28,          1,         24,         24,2,20130412,       1817,    30.0002,    142.715,       8556,     386,  16.0363,  34.6288,2,  34.6267,2,    192.6,2,   192.4,2,    8.39,2,    7.86,2,    0.01,2,    0.56,2,-999.000,9,-999.000,9,-999.000,9,-999.0000,9,  -999.0,9, -999.00,9,-999.0000,9,  -999.00,-999.000,9,-999.0000,9, -999.00,9, -999.00,9,  -999.0,9,  -999.0,-999.000,9,-999.000,     -999.0,9, -999.00,9,   48.79,2, -999.00,9,     -999.0,9,  -999.0,9, 20130412,     2032,  29.9993, 142.7155,      34.79,2,     -999.0,9,     -999.0,9,    16.0348,2,     -999.0,9,     -999.0,9,-999.0000, -999.00,-999.000
318M20130321,       P02W,      28,          1,         23,         23,2,20130412,       1817,    30.0002,    142.715,       8556,   467.7,  13.8473,  34.4876,2,  34.4869,2,    178.9,2,   179.5,2,   15.62,2,   12.36,2,    0.01,2,    0.87,2,   2.900,2,   1.793,2,   0.041,2,     1.34,2,  2096.5,2, 2272.91,2,   7.8223,2,       25,-999.000,9,-999.0000,9, -999.00,9, -999.00,9,  -999.0,9,  -999.0,-999.000,9,-999.000,     -999.0,9, -999.00,9,    46.9,2, -999.00,9,     -999.0,9,  -999.0,9, 20130412,     2029,  29.9992, 142.7154,    34.6495,2,     -999.0,9,     -999.0,9,    13.8467,2,     -999.0,9,     -999.0,9,-999.0000, -999.00,-999.000
318M20130321,       P02W,      28,          1,         22,         38,2,20130412,       1817,    30.0002,    142.715,       8556,   569.1,  10.8441,  34.3001,2,  34.2963,2,    168.5,2,   167.8,2,      29,2,    18.4,2,    0.01,2,    1.31,2,   2.896,2,   1.635,2,   0.057,2,     1.31,2,  -999.0,9, -999.00,9,-999.0000,9,  -999.00,-999.000,9,-999.0000,9, -999.00,9, -999.00,9,  -999.0,9,  -999.0,-999.000,9,-999.000,     -999.0,9, -999.00,9,   44.59,2, -999.00,9,     -999.0,9,  -999.0,9, 20130412,     2026,  29.9994, 142.7153,    34.4581,2,     -999.0,9,     -999.0,9,    10.8272,2,     -999.0,9,     -999.0,9,-999.0000, -999.00,-999.000
318M20130321,       P02W,      28,          1,         21,         21,2,20130412,       1817,    30.0002,    142.715,       8556,   670.5,   8.1358,  34.1573,2,  34.1569,2,    143.5,2,   144.2,2,   47.94,2,   25.21,2,    0.01,2,    1.82,2,-999.000,9,-999.000,9,-999.000,9,-999.0000,9,  2190.2,2, 2285.41,2,    7.607,2,       25,-999.000,9,-999.0000,9, -999.00,9, -999.00,9,  -999.0,9,  -999.0,-999.000,9,-999.000,     -999.0,9, -999.00,9,   41.03,2, -999.00,9,     -999.0,9,  -999.0,9, 20130412,     2023,  29.9996, 142.7154,     34.318,2,     -999.0,9,     -999.0,9,      8.135,2,     -999.0,9,     -999.0,9,-999.0000, -999.00,-999.000
318M20130321,       P02W,      28,          1,         20,         20,2,20130412,       1817,    30.0002,    142.715,       8556,     774,   6.0187,  34.0914,2,  34.0913,2,    112.9,2,   116.5,2,   68.84,2,   31.43,2,    0.01,2,    2.29,2,   2.091,2,   1.192,2,   0.074,2,     0.83,2,  -999.0,9, -999.00,9,-999.0000,9,  -999.00,-999.000,9,-999.0000,9, -999.00,9, -999.00,9,  -999.0,9,  -999.0,-999.000,9,-999.000,     -999.0,9, -999.00,9,   41.43,2, -999.00,9,     -999.0,9,  -999.0,9, 20130412,     2020,  29.9997, 142.7155,     34.252,2,     -999.0,9,     -999.0,9,     6.0174,2,     -999.0,9,     -999.0,9,-999.0000, -999.00,-999.000
318M20130321,       P02W,      28,          1,         19,         19,2,20130412,       1817,    30.0002,    142.715,       8556,   870.9,   4.8133,  34.1224,2,  34.1215,2,     83.7,2,    81.3,2,   88.86,2,   36.58,2,    0.01,2,    2.65,2,   1.446,2,   0.824,2,   0.053,2,     0.49,2,  2287.7,2, 2315.42,2,   7.4049,6,       25,-999.000,9,-999.0000,9, -999.00,9, -999.00,9,  -999.0,9,  -999.0,-999.000,9,-999.000,     -999.0,9, -999.00,9,   39.22,2, -999.00,9,     -999.0,9,  -999.0,9, 20130412,     2017,  29.9997, 142.7156,    34.2824,2,     -999.0,9,     -999.0,9,      4.813,2,     -999.0,9,     -999.0,9,-999.0000, -999.00,-999.000
318M20130321,       P02W,      28,          1,         18,         18,2,20130412,       1817,    30.0002,    142.715,       8556,   972.9,   4.1782,   34.219,2,  34.2191,2,     57.2,2,    56.6,2,  106.82,2,   39.45,2,    0.01,2,    2.85,2,-999.000,9,-999.000,9,-999.000,9,-999.0000,9,  -999.0,9, -999.00,9,-999.0000,9,  -999.00,-999.000,9,-999.0000,9, -999.00,9, -999.00,9,  -999.0,9,  -999.0,-999.000,9,-999.000,     -999.0,9, -999.00,9,   39.97,2, -999.00,9,     -999.0,9,  -999.0,9, 20130412,     2014,  29.9994, 142.7158,    34.3805,2,     -999.0,9,     -999.0,9,     4.1788,2,     -999.0,9,     -999.0,9,-999.0000, -999.00,-999.000
318M20130321,       P02W,      28,          1,         17,         17,2,20130412,       1817,    30.0002,    142.715,       8556,  1073.5,   3.7859,  34.2838,2,  34.2841,2,     46.4,2,    46.4,2,  117.46,2,    40.8,2,    0.01,2,    2.95,2,   0.531,2,   0.322,2,   0.008,2,     0.27,2,  2340.1,2, 2348.43,2,   7.3465,2,       25,-999.000,9,-999.0000,9, -999.00,9, -999.00,9,  -999.0,9,  -999.0,-999.000,9,-999.000,     -999.0,9, -999.00,9,   38.47,2, -999.00,9,     -999.0,9,  -999.0,9, 20130412,     2011,  29.9991, 142.7159,    34.4457,2,     -999.0,9,     -999.0,9,     3.7849,2,     -999.0,9,     -999.0,9,-999.0000, -999.00,-999.000
318M20130321,       P02W,      28,          1,         16,         16,2,20130412,       1817,    30.0002,    142.715,       8556,  1172.9,   3.4943,  34.3439,2,  34.3433,2,       43,2,    43.1,2,  126.14,2,   41.43,2,    0.01,2,       3,2,   0.312,2,   0.184,2,   0.004,2,     0.15,2,  -999.0,9, -999.00,9,-999.0000,9,  -999.00,-999.000,9,-999.0000,9, -999.00,9, -999.00,9,  -999.0,9,  -999.0,-999.000,9,-999.000,     -999.0,9, -999.00,9,   37.68,2, -999.00,9,     -999.0,9,  -999.0,9, 20130412,     2007,  29.9988, 142.7162,    34.5053,2,     -999.0,9,     -999.0,9,     3.4938,2,     -999.0,9,     -999.0,9,-999.0000, -999.00,-999.000
318M20130321,       P02W,      28,          1,         15,         15,4,20130412,       1817,    30.0002,    142.715,       8556,  1273.7,   3.1829,  34.3987,2,    34.09,4,     41.5,2,   116.1,4,   68.73,4,   31.48,4,       0,4,    2.31,4,-999.000,9,-999.000,9,-999.000,9,-999.0000,9,  2242.6,4, 2298.92,4,-999.0000,5,  -999.00,-999.000,9,-999.0000,9, -999.00,9, -999.00,9,  -999.0,9,  -999.0,-999.000,9,-999.000,     -999.0,9, -999.00,9, -999.00,5, -999.00,9,     -999.0,9,  -999.0,9, 20130412,     2004,  29.9984, 142.7162,    34.2507,4,     -999.0,9,     -999.0,9,     3.1822,2,     -999.0,9,     -999.0,9,-999.0000, -999.00,-999.000
318M20130321,       P02W,      28,          1,         14,         14,2,20130412,       1817,    30.0002,    142.715,       8556,  1374.1,   2.9174,  34.4443,2,   34.444,2,     40.2,2,    39.8,2,  142.43,2,   42.39,2,       0,2,    3.05,2,   0.081,2,   0.059,2,   0.000,2,     0.09,2,  2369.6,2, 2381.25,2,   7.3479,2,       25,-999.000,9,-999.0000,9, -999.00,9, -999.00,9,  -999.0,9,  -999.0,-999.000,9,-999.000,     -999.0,9, -999.00,9,   36.95,2, -999.00,9,     -999.0,9,  -999.0,9, 20130412,     2001,  29.9981, 142.7163,    34.6064,2,     -999.0,9,     -999.0,9,     2.9178,2,     -999.0,9,     -999.0,9,-999.0000, -999.00,-999.000
318M20130321,       P02W,      28,          1,         13,         13,2,20130412,       1817,    30.0002,    142.715,       8556,  1576.3,   2.5596,  34.5012,2,   34.501,2,     46.8,2,    46.2,2,   151.8,2,    42.3,2,       0,2,    3.03,2,   0.041,2,   0.041,2,   0.000,2,     0.07,2,  2376.7,2, 2392.55,2,   7.3639,2,       25,-999.000,9,-999.0000,9, -999.00,9, -999.00,9,  -999.0,9,  -999.0,-999.000,9,-999.000,     -999.0,9, -999.00,9,    36.7,2, -999.00,9,     -999.0,9,  -999.0,9, 20130412,     1956,  29.9978, 142.7162,    34.6636,2,     -999.0,9,     -999.0,9,     2.5597,2,     -999.0,9,     -999.0,9,-999.0000, -999.00,-999.000
318M20130321,       P02W,      28,          1,         12,         12,2,20130412,       1817,    30.0002,    142.715,       8556,  1779.2,   2.2396,  34.5574,2,  34.5573,2,     63.7,2,    65.6,2,  155.11,2,   41.15,2,       0,2,    2.93,2,-999.000,9,-999.000,9,-999.000,9,-999.0000,9,  2370.5,2, 2400.85,2,   7.4057,2,       25,-999.000,9,-999.0000,9, -999.00,9, -999.00,9,  -999.0,9,  -999.0,-999.000,9,-999.000,     -999.0,9, -999.00,9,   38.52,2, -999.00,9,     -999.0,9,  -999.0,9, 20130412,     1951,  29.9975, 142.7159,    34.7203,2,     -999.0,9,     -999.0,9,     2.2391,2,     -999.0,9,     -999.0,9,-999.0000, -999.00,-999.000
318M20130321,       P02W,      28,          1,         11,         11,2,20130412,       1817,    30.0002,    142.715,       8556,  1984.2,   2.0532,  34.5881,2,  34.5891,2,     83.6,2,    83.2,2,  155.11,2,   40.07,2,       0,2,    2.85,2,   0.016,2,   0.020,2,   0.000,2,     0.12,2,    2362,2, 2405.15,2,   7.4404,6,       25,-999.000,9,-999.0000,9, -999.00,9, -999.00,9,  -999.0,9,  -999.0,-999.000,9,-999.000,     -999.0,9, -999.00,9, -999.00,9, -999.00,9,     -999.0,9,  -999.0,9, 20130412,     1947,  29.9971, 142.7158,    34.7523,2,     -999.0,9,     -999.0,9,     2.0528,2,     -999.0,9,     -999.0,9,-999.0000, -999.00,-999.000
318M20130321,       P02W,      28,          1,         10,         10,2,20130412,       1817,    30.0002,    142.715,       8556,  2290.4,   1.8467,  34.6203,2,  34.6198,2,    100.6,2,   101.1,2,  154.91,2,   38.97,2,       0,2,    2.76,2,   0.016,2,   0.017,2,   0.000,2,     0.12,2,  -999.0,9, -999.00,9,-999.0000,9,  -999.00,-999.000,9,-999.0000,9, -999.00,9, -999.00,9,  -999.0,9,  -999.0,-999.000,9,-999.000,     -999.0,9, -999.00,9,   36.99,2, -999.00,9,     -999.0,9,  -999.0,9, 20130412,     1940,  29.9967, 142.7158,    34.7831,2,     -999.0,9,     -999.0,9,      1.847,2,     -999.0,9,     -999.0,9,-999.0000, -999.00,-999.000
318M20130321,       P02W,      28,          1,          9,          9,2,20130412,       1817,    30.0002,    142.715,       8556,  2698.1,   1.6742,  34.6471,2,  34.6469,2,    118.7,2,   119.5,2,  152.76,2,   37.81,2,       0,2,    2.67,2,-999.000,9,-999.000,9,-999.000,9,-999.0000,9,  2347.3,2, 2413.16,2,   7.5111,2,       25,-999.000,9,-999.0000,9, -999.00,9, -999.00,9,  -999.0,9,  -999.0,-999.000,9,-999.000,     -999.0,9, -999.00,9, -999.00,9, -999.00,9,     -999.0,9,  -999.0,9, 20130412,     1932,  29.9966, 142.7156,    34.8103,2,     -999.0,9,     -999.0,9,     1.6737,2,     -999.0,9,     -999.0,9,-999.0000, -999.00,-999.000
318M20130321,       P02W,      28,          1,          8,          8,2,20130412,       1817,    30.0002,    142.715,       8556,  3102.6,   1.5809,  34.6625,2,  34.6613,2,    130.3,2,   129.9,2,  153.05,2,   37.18,2,       0,2,    2.62,2,   0.008,2,   0.017,2,   0.000,2,     0.06,2,  -999.0,9, -999.00,9,-999.0000,9,  -999.00,-999.000,9,-999.0000,9, -999.00,9, -999.00,9,  -999.0,9,  -999.0,-999.000,9,-999.000,     -999.0,9, -999.00,9,   35.58,2, -999.00,9,     -999.0,9,  -999.0,9, 20130412,     1924,  29.9968, 142.7153,    34.8247,2,     -999.0,9,     -999.0,9,     1.5809,2,     -999.0,9,     -999.0,9,-999.0000, -999.00,-999.000