BOTTLE,20220817CCHSIOAMB
EXPOCODE,SECT_ID,STNNBR,CASTNO,SAMPNO,BTLNBR,BTLNBR_FLAG_W,DATE,TIME,LATITUDE,LONGITUDE,DEPTH,CTDPRS,CTDTMP,CTDSAL,CTDSAL_FLAG_W,SALNTY,SALNTY_FLAG_W,CTDOXY,CTDOXY_FLAG_W,OXYGEN,OXYGEN_FLAG_W,SILCAT,SILCAT_FLAG_W,NITRAT,NITRAT_FLAG_W,NITRIT,NITRIT_FLAG_W,PHSPHT,PHSPHT_FLAG_W,CFC-11,CFC-11_FLAG_W,CFC-12,CFC-12_FLAG_W,CFC113,CFC113_FLAG_W,SF6,SF6_FLAG_W,TCARBN,TCARBN_FLAG_W,ALKALI,ALKALI_FLAG_W,PH_TOT,PH_TOT_FLAG_W,PH_TMP,TRITUM,TRITUM_FLAG_W,HELIUM,HELIUM_FLAG_W,DELHE3,DELHE3_FLAG_W,DELC13,DELC13_FLAG_W,DELC14,DELC14_FLAG_W,C14ERR,NEON,NEON_FLAG_W,NEONER,I-129,I-129_FLAG_W,SR-90,SR-90_FLAG_W,DOC,DOC_FLAG_W,TDN,TDN_FLAG_W,CALCIUM,CALCIUM_FLAG_W,D15N_NO3,D15N_NO3_FLAG_W,BTL_DATE,BTL_TIME,BTL_LAT,BTL_LON,SALTREF,SALTREF_FLAG_W,CS-137,CS-137_FLAG_W,CS-134,CS-134_FLAG_W,REFTMP,REFTMP_FLAG_W,LAB_DEN,LAB_DEN_FLAG_W,D18O_NO3,D18O_NO3_FLAG_W,HELIER,DELHER,TRITER
,,,,,,,,,,,METERS,DBAR,ITS-90,PSS-78,,PSS-78,,UMOL/KG,,UMOL/KG,,UMOL/KG,,UMOL/KG,,UMOL/KG,,UMOL/KG,,PMOL/KG,,PMOL/KG,,PMOL/KG,,FMOL/KG,,UMOL/KG,,UMOL/KG,,,,DEG C,TU,,NMOL/KG,,PERCNT,,/MILLE,,/MILLE,,/MILLE,NMOL/KG,,NMOL/KG,BQ/M^3,,DM/.1MG,,UMOL/KG,,UMOL/KG,,MMOL/KG,,/MILLE,,,,,,G/KG,,BQ/M^3,,BQ/M^3,,ITS-90,,,,/MILLE,,NMOL/KG,PERCNT,TU
318M20130321,       P02W,      23,          1,         36,         36,2,20130411,       1222,    30.0003,   139.9287,       2914,     3.7,  19.3882,  34.7647,2,  34.7651,2,    228.4,2,   229.5,2,    1.56,2,       0,2,    0.01,2,    0.01,2,   2.389,2,   1.447,2,   0.194,2,     1.55,2,  1998.8,6, 2280.41,2,   8.0285,2,       25,-999.000,9,-999.0000,9, -999.00,9,    0.65,2,    56.9,2,     2.2,-999.000,9,-999.000,     -999.0,9, -999.00,9,   58.74,2,    3.81,2,     -999.0,9,  -999.0,9, 20130411,     1345,  29.9996, 139.9361,    34.9291,2,     -999.0,9,     -999.0,9,    19.3908,2,     -999.0,9,     -999.0,9,-999.0000, -999.00,-999.000
318M20130321,       P02W,      23,          1,         35,         35,2,20130411,       1222,    30.0003,   139.9287,       2914,    23.6,  19.4043,  34.7638,2,  34.7636,2,    230.2,2,   229.5,2,    1.56,2,       0,2,       0,2,    0.01,2,   2.396,2,   1.483,2,   0.197,2,     1.61,2,  -999.0,9, -999.00,9,-999.0000,9,  -999.00,-999.000,9,-999.0000,9, -999.00,9, -999.00,9,  -999.0,9,  -999.0,-999.000,9,-999.000,     -999.0,9, -999.00,9,   58.23,2,    3.79,2,     -999.0,9,  -999.0,9, 20130411,     1344,  29.9997, 139.9358,    34.9275,2,     -999.0,9,     -999.0,9,    19.4053,2,     -999.0,9,     -999.0,9,-999.0000, -999.00,-999.000
318M20130321,       P02W,      23,          1,         34,         34,2,20130411,       1222,    30.0003,   139.9287,       2914,    49.4,  19.4042,  34.7619,2,  34.7608,2,    229.4,2,   229.5,2,    1.56,2,       0,2,       0,2,    0.01,2,   2.424,2,   1.487,2,   0.228,2,     1.52,2,  -999.0,9, -999.00,9,-999.0000,9,  -999.00,-999.000,9,-999.0000,9, -999.00,9, -999.00,9,  -999.0,9,  -999.0,-999.000,9,-999.000,     -999.0,9, -999.00,9,   58.18,2,    4.17,2,     -999.0,9,  -999.0,9, 20130411,     1343,  29.9998, 139.9355,    34.9248,2,     -999.0,9,     -999.0,9,    19.4036,2,     -999.0,9,     -999.0,9,-999.0000, -999.00,-999.000
318M20130321,       P02W,      23,          1,         33,         33,2,20130411,       1222,    30.0003,   139.9287,       2914,    74.2,  19.2641,  34.7483,2,  34.7487,2,    229.2,2,   228.9,2,    1.66,2,    0.05,2,    0.04,2,    0.02,2,   2.431,2,   1.500,2,   0.203,2,     1.56,2,  1998.8,2, 2279.81,2,   8.0246,2,       25,-999.000,9,-999.0000,9, -999.00,9, -999.00,9,  -999.0,9,  -999.0,-999.000,9,-999.000,     -999.0,9, -999.00,9,   58.61,2,    5.71,2,     -999.0,9,  -999.0,9, 20130411,     1341,  29.9997, 139.9353,    34.9125,2,     -999.0,9,     -999.0,9,    19.2626,2,     -999.0,9,     -999.0,9,-999.0000, -999.00,-999.000
318M20130321,       P02W,      23,          1,         32,         32,2,20130411,       1222,    30.0003,   139.9287,       2914,    98.8,  18.7153,  34.7777,2,  34.7778,2,    225.3,2,   224.6,2,    1.95,2,    0.99,2,    0.14,2,    0.09,2,   2.447,2,   1.510,2,   0.185,2,     1.52,2,  -999.0,9, -999.00,9,-999.0000,9,  -999.00,-999.000,9,-999.0000,9, -999.00,9, -999.00,9,  -999.0,9,  -999.0,-999.000,9,-999.000,     -999.0,9, -999.00,9,   55.95,2,    5.87,2,     -999.0,9,  -999.0,9, 20130411,     1340,  29.9996, 139.9352,    34.9418,2,     -999.0,9,     -999.0,9,    18.6932,2,     -999.0,9,     -999.0,9,-999.0000, -999.00,-999.000
318M20130321,       P02W,      23,          1,         31,         31,2,20130411,       1222,    30.0003,   139.9287,       2914,   125.5,  18.4565,  34.7837,2,  34.7858,2,    222.3,2,   223.1,2,    2.05,2,    1.38,2,    0.07,2,    0.11,2,   2.469,2,   1.517,2,   0.177,2,     1.55,2,  2012.9,2, 2281.21,2,   8.0026,6,       25,-999.000,9,-999.0000,9, -999.00,9,    0.56,2,    59.1,2,     4.0,-999.000,9,-999.000,     -999.0,9, -999.00,9,   55.62,2,    5.58,2,     -999.0,9,  -999.0,9, 20130411,     1338,  29.9995, 139.9352,    34.9499,2,     -999.0,9,     -999.0,9,    18.4571,2,     -999.0,9,     -999.0,9,-999.0000, -999.00,-999.000
318M20130321,       P02W,      23,          1,         30,         30,2,20130411,       1222,    30.0003,   139.9287,       2914,   150.3,  18.4274,  34.7983,2,   34.798,2,    227.5,2,   225.2,2,    1.95,2,    1.02,2,    0.15,2,    0.09,2,   2.467,2,   1.523,2,   0.179,2,     1.55,2,  -999.0,9, -999.00,9,-999.0000,9,  -999.00,-999.000,9,-999.0000,9, -999.00,9,    0.57,2,    68.1,2,     2.3,-999.000,9,-999.000,     -999.0,9, -999.00,9,    54.6,2,    5.22,2,     -999.0,9,  -999.0,9, 20130411,     1337,  29.9995, 139.9351,    34.9621,2,     -999.0,9,     -999.0,9,    18.4273,2,     -999.0,9,     -999.0,9,-999.0000, -999.00,-999.000
318M20130321,       P02W,      23,          1,         29,         29,2,20130411,       1222,    30.0003,   139.9287,       2914,   174.9,  18.3296,  34.7925,2,  34.7914,2,    224.8,2,   222.6,2,    2.24,2,    1.53,2,    0.02,2,    0.12,2,   2.447,2,   1.514,2,   0.176,2,     1.48,2,  -999.0,9, -999.00,9,-999.0000,9,  -999.00,-999.000,9,-999.0000,9, -999.00,9,    0.57,2,    64.0,2,     2.8,-999.000,9,-999.000,     -999.0,9, -999.00,9,   56.59,2,    5.75,2,     -999.0,9,  -999.0,9, 20130411,     1336,  29.9996, 139.9348,    34.9554,2,     -999.0,9,     -999.0,9,     18.331,2,     -999.0,9,     -999.0,9,-999.0000, -999.00,-999.000
318M20130321,       P02W,      23,          1,         28,         28,2,20130411,       1222,    30.0003,   139.9287,       2914,   200.6,  18.2886,  34.7959,2,  34.7951,2,    222.6,2,   223.1,2,    2.15,2,    1.48,2,    0.02,2,    0.11,2,-999.000,9,-999.000,9,-999.000,9,-999.0000,9,  2014.6,2, 2282.21,6,   7.9992,2,       25,-999.000,9,-999.0000,9, -999.00,9,    0.58,2,    67.8,2,     2.9,-999.000,9,-999.000,     -999.0,9, -999.00,9,   56.15,2,    5.17,2,     -999.0,9,  -999.0,9, 20130411,     1334,  29.9997, 139.9344,    34.9592,2,     -999.0,9,     -999.0,9,    18.2885,2,     -999.0,9,     -999.0,9,-999.0000, -999.00,-999.000
318M20130321,       P02W,      23,          1,         27,         27,2,20130411,       1222,    30.0003,   139.9287,       2914,   225.8,  18.2533,  34.7965,2,  34.7965,2,    223.4,2,   223.6,2,    2.24,2,    1.47,2,    0.01,2,    0.11,2,   2.477,2,   1.529,2,   0.185,2,     1.54,2,  -999.0,9, -999.00,9,-999.0000,9,  -999.00,-999.000,9,-999.0000,9, -999.00,9,    0.56,2,    57.8,2,     2.2,-999.000,9,-999.000,     -999.0,9, -999.00,9,   55.69,2,    5.23,2,     -999.0,9,  -999.0,9, 20130411,     1333,  29.9998, 139.9341,    34.9606,2,     -999.0,9,     -999.0,9,    18.2536,2,     -999.0,9,     -999.0,9,-999.0000, -999.00,-999.000
318M20130321,       P02W,      23,          1,         26,         26,2,20130411,       1222,    30.0003,   139.9287,       2914,   251.1,  18.2017,  34.7937,2,  34.7945,2,    223.4,2,   223.8,2,    2.34,2,    1.51,2,    0.01,2,    0.12,2,-999.000,9,-999.000,9,-999.000,9,-999.0000,9,  -999.0,9, -999.00,9,-999.0000,9,  -999.00,-999.000,9,-999.0000,9, -999.00,9,    0.59,2,    53.4,2,     2.2,-999.000,9,-999.000,     -999.0,9, -999.00,9,   55.74,2,    5.75,2,     -999.0,9,  -999.0,9, 20130411,     1332,  29.9998, 139.9338,    34.9586,2,     -999.0,9,     -999.0,9,    18.2026,2,     -999.0,9,     -999.0,9,-999.0000, -999.00,-999.000
318M20130321,       P02W,      23,          1,         25,         25,2,20130411,       1222,    30.0003,   139.9287,       2914,   301.9,  17.7932,  34.7549,2,  34.7536,2,    217.6,2,   217.3,2,    2.93,2,    2.77,2,    0.01,2,     0.2,2,   2.538,2,   1.550,2,   0.134,2,     1.49,2,  2022.4,2, 2279.71,2,   7.9791,2,       25,-999.000,9,-999.0000,9, -999.00,9,    0.49,2,    51.5,2,     2.6,-999.000,9,-999.000,     -999.0,9, -999.00,9,   52.65,2,     5.9,2,     -999.0,9,  -999.0,9, 20130411,     1328,  29.9999, 139.9331,    34.9175,2,     -999.0,9,     -999.0,9,    17.7923,2,     -999.0,9,     -999.0,9,-999.0000, -999.00,-999.000
318M20130321,       P02W,      23,          1,         24,         24,2,20130411,       1222,    30.0003,   139.9287,       2914,   352.4,  17.3453,  34.7195,2,  34.7196,2,    205.9,2,   206.9,2,     4.2,2,    4.48,2,    0.01,2,     0.3,2,-999.000,9,-999.000,9,-999.000,9,-999.0000,9,  -999.0,9, -999.00,9,-999.0000,9,  -999.00,-999.000,9,-999.0000,9, -999.00,9,    0.44,2,    54.8,2,     2.2,-999.000,9,-999.000,     -999.0,9, -999.00,9,   49.17,2, -999.00,9,     -999.0,9,  -999.0,9, 20130411,     1326,  29.9999, 139.9329,    34.8833,2,     -999.0,9,     -999.0,9,    17.3462,2,     -999.0,9,     -999.0,9,-999.0000, -999.00,-999.000
318M20130321,       P02W,      23,          1,         23,         23,2,20130411,       1222,    30.0003,   139.9287,       2914,     402,  16.9111,  34.7002,2,  34.6994,2,    208.8,2,     209,2,    4.49,2,    4.98,2,    0.01,2,    0.34,2,   2.660,2,   1.599,2,   0.065,2,     1.38,2,  2038.7,2, 2276.71,2,   7.9449,2,       25,-999.000,9,-999.0000,9, -999.00,9,    0.40,2,    54.1,2,     2.2,-999.000,9,-999.000,     -999.0,9, -999.00,9,    48.3,2, -999.00,9,     -999.0,9,  -999.0,9, 20130411,     1324,       30, 139.9325,     34.863,2,     -999.0,9,     -999.0,9,     16.911,2,     -999.0,9,     -999.0,9,-999.0000, -999.00,-999.000
318M20130321,       P02W,      23,          1,         22,         38,2,20130411,       1222,    30.0003,   139.9287,       2914,     448,  15.9949,  34.6262,2,  34.6259,2,    194.9,2,   193.8,2,    7.81,2,    7.79,2,    0.01,2,    0.54,2,-999.000,9,-999.000,9,-999.000,9,-999.0000,9,  -999.0,9, -999.00,9,-999.0000,9,  -999.00,-999.000,9,-999.0000,9, -999.00,9,    0.38,2,    57.2,2,     2.2,-999.000,9,-999.000,     -999.0,9, -999.00,9,   45.62,2, -999.00,9,     -999.0,9,  -999.0,9, 20130411,     1323,  30.0002,  139.932,    34.7892,2,     -999.0,9,     -999.0,9,    15.9939,2,     -999.0,9,     -999.0,9,-999.0000, -999.00,-999.000
318M20130321,       P02W,      23,          1,         21,         21,2,20130411,       1222,    30.0003,   139.9287,       2914,   499.5,  14.7843,  34.5447,2,  34.5444,2,    185.3,2,   184.4,2,   11.71,2,   10.56,2,    0.01,2,    0.87,2,   2.856,2,   1.630,2,   0.043,2,     1.18,2,  2080.8,2, 2275.41,2,   7.8538,2,       25,-999.000,9,-999.0000,9, -999.00,9,    0.32,2,    47.3,2,     2.2,-999.000,9,-999.000,     -999.0,9, -999.00,9,   45.51,2, -999.00,9,     -999.0,9,  -999.0,9, 20130411,     1321,  30.0003, 139.9315,    34.7073,2,     -999.0,9,     -999.0,9,    14.7848,2,     -999.0,9,     -999.0,9,-999.0000, -999.00,-999.000
318M20130321,       P02W,      23,          1,         20,         20,2,20130411,       1222,    30.0003,   139.9287,       2914,   600.7,  11.0773,  34.3069,2,  34.3071,2,    171.2,2,   171.7,2,   26.26,2,   17.73,2,    0.01,2,     1.4,2,-999.000,9,-999.000,9,-999.000,9,-999.0000,9,  2133.1,2, 2277.11,2,   7.7349,2,       25,-999.000,9,-999.0000,9, -999.00,9,    0.19,2,    17.1,2,     2.2,-999.000,9,-999.000,     -999.0,9, -999.00,9,   42.27,2, -999.00,9,     -999.0,9,  -999.0,9, 20130411,     1318,  30.0003, 139.9311,    34.4689,2,     -999.0,9,     -999.0,9,    11.0754,2,     -999.0,9,     -999.0,9,-999.0000, -999.00,-999.000
318M20130321,       P02W,      23,          1,         19,         19,2,20130411,       1222,    30.0003,   139.9287,       2914,   702.4,   8.1732,  34.2048,2,  34.2035,2,      133,2,   134.3,2,   51.07,2,   26.25,2,       0,2,     1.9,2,   2.252,2,   1.215,2,   0.075,2,     0.69,2,  -999.0,9, -999.00,9,-999.0000,9,  -999.00,-999.000,9,-999.0000,9, -999.00,9,    0.01,2,   -43.6,2,     2.8,-999.000,9,-999.000,     -999.0,9, -999.00,9,   40.63,2, -999.00,9,     -999.0,9,  -999.0,9, 20130411,     1316,  30.0003, 139.9309,    34.3648,2,     -999.0,9,     -999.0,9,     8.1718,2,     -999.0,9,     -999.0,9,-999.0000, -999.00,-999.000
318M20130321,       P02W,      23,          1,         18,         18,2,20130411,       1222,    30.0003,   139.9287,       2914,   803.8,   6.0664,  34.2014,2,  34.2016,2,    104.8,2,    99.8,2,   77.33,2,   32.91,2,       0,2,    2.39,2,-999.000,9,-999.000,9,-999.000,9,-999.0000,9,  2259.8,2, 2313.52,2,    7.486,2,       25,-999.000,9,-999.0000,9, -999.00,9,   -0.16,2,  -101.8,2,     2.1,-999.000,9,-999.000,     -999.0,9, -999.00,9,   41.05,2, -999.00,9,     -999.0,9,  -999.0,9, 20130411,     1313,  30.0002, 139.9306,    34.3628,2,     -999.0,9,     -999.0,9,     6.0792,2,     -999.0,9,     -999.0,9,-999.0000, -999.00,-999.000
318M20130321,       P02W,      23,          1,         17,         17,2,20130411,       1222,    30.0003,   139.9287,       2914,   905.9,   5.0357,   34.225,2,  34.2265,2,     82.2,2,    80.2,2,   93.73,2,   36.26,2,       0,2,    2.65,2,   1.177,2,   0.635,2,   0.029,2,     0.27,2,  -999.0,9, -999.00,9,-999.0000,9,  -999.00,-999.000,9,-999.0000,9, -999.00,9,   -0.24,2,  -126.0,2,     1.8,-999.000,9,-999.000,     -999.0,9, -999.00,9,   39.83,2, -999.00,9,     -999.0,9,  -999.0,9, 20130411,     1311,  30.0002, 139.9304,    34.3879,2,     -999.0,9,     -999.0,9,      5.036,2,     -999.0,9,     -999.0,9,-999.0000, -999.00,-999.000
318M20130321,       P02W,      23,          1,         16,         16,2,20130411,       1222,    30.0003,   139.9287,       2914,  1006.5,   4.5454,  34.2715,2,  34.2736,2,     69.1,2,    69.5,2,  103.98,2,   37.98,2,       0,2,    2.76,2,-999.000,9,-999.000,9,-999.000,9,-999.0000,9,  2312.9,2, 2341.03,2,   7.4071,6,       25,-999.000,9,-999.0000,9, -999.00,9,   -0.21,2,  -144.8,2,     1.9,-999.000,9,-999.000,     -999.0,9, -999.00,9,   39.31,2, -999.00,9,     -999.0,9,  -999.0,9, 20130411,     1308,       30, 139.9302,    34.4352,2,     -999.0,9,     -999.0,9,     4.5435,2,     -999.0,9,     -999.0,9,-999.0000, -999.00,-999.000
318M20130321,       P02W,      23,          1,         15,         15,4,20130411,       1222,    30.0003,   139.9287,       2914,  1104.2,    3.925,  34.3278,2,  34.2687,4,       59,2,    70.1,4,   103.1,4,   37.89,4,       0,4,    2.76,4,   0.889,2,   0.469,2,   0.043,2,     0.19,2,  2309.8,4, 2338.33,4,-999.0000,5,  -999.00,-999.000,9,-999.0000,9, -999.00,9,   -0.26,2,  -153.8,2,     2.4,-999.000,9,-999.000,     -999.0,9, -999.00,9,   39.13,2, -999.00,9,     -999.0,9,  -999.0,9, 20130411,     1306,  29.9998,   139.93,    34.4303,4,     -999.0,9,     -999.0,9,     3.9252,2,     -999.0,9,     -999.0,9,-999.0000, -999.00,-999.000
318M20130321,       P02W,      23,          1,         14,         14,2,20130411,       1222,    30.0003,   139.9287,       2914,  1205.6,   3.4073,  34.3899,2,  34.3897,2,     54.9,2,    55.3,2,  128.58,2,   40.77,2,       0,2,    2.96,2,-999.000,9,-999.000,9,-999.000,9,-999.0000,9,    2348,2, 2366.74,2,   7.3785,2,       25,-999.000,9,-999.0000,9, -999.00,9,   -0.36,2,  -196.2,2,     1.8,-999.000,9,-999.000,     -999.0,9, -999.00,9, -999.00,9, -999.00,9,     -999.0,9,  -999.0,9, 20130411,     1303,  29.9998, 139.9297,    34.5519,2,     -999.0,9,     -999.0,9,     3.4093,2,     -999.0,9,     -999.0,9,-999.0000, -999.00,-999.000
318M20130321,       P02W,      23,          1,         13,         13,2,20130411,       1222,    30.0003,   139.9287,       2914,  1308.7,   3.0871,  34.4299,2,  34.4284,2,     53.9,2,    54.5,2,   135.8,2,   41.24,2,       0,2,    2.99,2,   0.215,2,   0.120,2,   0.012,2,     0.05,2,  2357.7,2, 2376.64,2,   7.3778,2,       25,-999.000,9,-999.0000,9, -999.00,9,   -0.35,2,  -210.8,2,     2.0,-999.000,9,-999.000,     -999.0,9, -999.00,9,   38.48,2, -999.00,9,     -999.0,9,  -999.0,9, 20130411,     1300,  29.9999, 139.9294,    34.5907,2,     -999.0,9,     -999.0,9,     3.0869,2,     -999.0,9,     -999.0,9,-999.0000, -999.00,-999.000
318M20130321,       P02W,      23,          1,         12,         12,2,20130411,       1222,    30.0003,   139.9287,       2914,    1410,   2.7882,  34.4709,2,  34.4714,2,     56.4,2,    56.6,2,  142.82,2,   41.51,2,       0,2,    2.99,2,-999.000,9,-999.000,9,-999.000,9,-999.0000,9,  2363.5,2, 2385.65,2,    7.384,2,       25,-999.000,9,-999.0000,9, -999.00,9,   -0.33,2,  -209.6,2,     1.8,-999.000,9,-999.000,     -999.0,9, -999.00,9, -999.00,9, -999.00,9,     -999.0,9,  -999.0,9, 20130411,     1258,       30, 139.9292,    34.6339,2,     -999.0,9,     -999.0,9,     2.7877,2,     -999.0,9,     -999.0,9,-999.0000, -999.00,-999.000
318M20130321,       P02W,      23,          1,         11,         11,2,20130411,       1222,    30.0003,   139.9287,       2914,  1513.6,   2.6059,  34.4965,2,  34.4963,2,     58.4,2,      59,2,  147.02,2,   41.46,2,       0,2,    2.99,2,   0.089,2,   0.054,2,   0.003,2,     0.09,2,  2365.5,2, 2390.95,2,   7.3889,2,       25,-999.000,9,-999.0000,9, -999.00,9,   -0.31,2,  -221.2,2,     2.5,-999.000,9,-999.000,     -999.0,9, -999.00,9,   35.75,2, -999.00,9,     -999.0,9,  -999.0,9, 20130411,     1255,       30, 139.9289,     34.659,2,     -999.0,9,     -999.0,9,     2.6048,2,     -999.0,9,     -999.0,9,-999.0000, -999.00,-999.000
318M20130321,       P02W,      23,          1,         10,         10,2,20130411,       1222,    30.0003,   139.9287,       2914,  1609.5,   2.4812,  34.5145,2,  34.5142,2,     61.3,2,    61.6,2,  149.65,2,   41.37,2,       0,2,    2.98,2,-999.000,9,-999.000,9,-999.000,9,-999.0000,9,  2366.6,2, 2393.95,2,   7.3951,2,       25,-999.000,9,-999.0000,9, -999.00,9,   -0.28,2,  -227.2,2,     2.1,-999.000,9,-999.000,     -999.0,9, -999.00,9, -999.00,9, -999.00,9,     -999.0,9,  -999.0,9, 20130411,     1253,  29.9999, 139.9287,    34.6769,2,     -999.0,9,     -999.0,9,     2.4786,2,     -999.0,9,     -999.0,9,-999.0000, -999.00,-999.000
318M20130321,       P02W,      23,          1,          9,          9,2,20130411,       1222,    30.0003,   139.9287,       2914,  1710.4,   2.3518,  34.5363,2,   34.537,2,       68,2,    68.1,2,  151.21,2,   41.06,2,       0,2,    2.96,2,   0.053,2,   0.036,2,   0.008,2,     0.07,2,  2363.9,2, 2397.65,2,   7.4096,6,       25,-999.000,9,-999.0000,9, -999.00,9,   -0.24,2,  -231.0,2,     2.2,-999.000,9,-999.000,     -999.0,9, -999.00,9,   36.95,2, -999.00,9,     -999.0,9,  -999.0,9, 20130411,     1250,  30.0001, 139.9286,    34.6998,2,     -999.0,9,     -999.0,9,     2.3518,2,     -999.0,9,     -999.0,9,-999.0000, -999.00,-999.000
318M20130321,       P02W,      23,          1,          8,          8,2,20130411,       1222,    30.0003,   139.9287,       2914,  1812.7,   2.2397,  34.5539,2,  34.5547,2,     75.1,2,    72.4,2,  153.65,2,   40.89,2,       0,2,    2.94,2,-999.000,9,-999.000,9,-999.000,9,-999.0000,9,  2363.5,2, 2402.95,2,   7.4173,2,       25,-999.000,9,-999.0000,9, -999.00,9,   -0.22,2,  -234.0,2,     1.6,-999.000,9,-999.000,     -999.0,9, -999.00,9, -999.00,9, -999.00,9,     -999.0,9,  -999.0,9, 20130411,     1247,  30.0004, 139.9286,    34.7176,2,     -999.0,9,     -999.0,9,     2.2392,2,     -999.0,9,     -999.0,9,-999.0000, -999.00,-999.000