BOTTLE,20220817CCHSIOAMB
EXPOCODE,SECT_ID,STNNBR,CASTNO,SAMPNO,BTLNBR,BTLNBR_FLAG_W,DATE,TIME,LATITUDE,LONGITUDE,DEPTH,CTDPRS,CTDTMP,CTDSAL,CTDSAL_FLAG_W,SALNTY,SALNTY_FLAG_W,CTDOXY,CTDOXY_FLAG_W,OXYGEN,OXYGEN_FLAG_W,SILCAT,SILCAT_FLAG_W,NITRAT,NITRAT_FLAG_W,NITRIT,NITRIT_FLAG_W,PHSPHT,PHSPHT_FLAG_W,CFC-11,CFC-11_FLAG_W,CFC-12,CFC-12_FLAG_W,CFC113,CFC113_FLAG_W,SF6,SF6_FLAG_W,TCARBN,TCARBN_FLAG_W,ALKALI,ALKALI_FLAG_W,PH_TOT,PH_TOT_FLAG_W,PH_TMP,TRITUM,TRITUM_FLAG_W,HELIUM,HELIUM_FLAG_W,DELHE3,DELHE3_FLAG_W,DELC13,DELC13_FLAG_W,DELC14,DELC14_FLAG_W,C14ERR,NEON,NEON_FLAG_W,NEONER,I-129,I-129_FLAG_W,SR-90,SR-90_FLAG_W,DOC,DOC_FLAG_W,TDN,TDN_FLAG_W,CALCIUM,CALCIUM_FLAG_W,D15N_NO3,D15N_NO3_FLAG_W,BTL_DATE,BTL_TIME,BTL_LAT,BTL_LON,SALTREF,SALTREF_FLAG_W,CS-137,CS-137_FLAG_W,CS-134,CS-134_FLAG_W,REFTMP,REFTMP_FLAG_W,LAB_DEN,LAB_DEN_FLAG_W,D18O_NO3,D18O_NO3_FLAG_W,HELIER,DELHER,TRITER
,,,,,,,,,,,METERS,DBAR,ITS-90,PSS-78,,PSS-78,,UMOL/KG,,UMOL/KG,,UMOL/KG,,UMOL/KG,,UMOL/KG,,UMOL/KG,,PMOL/KG,,PMOL/KG,,PMOL/KG,,FMOL/KG,,UMOL/KG,,UMOL/KG,,,,DEG C,TU,,NMOL/KG,,PERCNT,,/MILLE,,/MILLE,,/MILLE,NMOL/KG,,NMOL/KG,BQ/M^3,,DM/.1MG,,UMOL/KG,,UMOL/KG,,MMOL/KG,,/MILLE,,,,,,G/KG,,BQ/M^3,,BQ/M^3,,ITS-90,,,,/MILLE,,NMOL/KG,PERCNT,TU
318M20130321,       P02E,     103,          1,         36,         36,2,20130517,       1042,         30,  -151.4227,       5169,       3,  20.9598,  35.0336,2,  35.0335,2,    225.9,2,   226.4,2,    2.24,2,       0,2,       0,2,       0,2,   1.969,2,   1.190,2,-999.000,1,   1.3779,2,    2027,2, 2302.52,2,   8.0001,2,       25,-999.000,9,-999.0000,9, -999.00,9,    0.81,2,    46.7,2,     2.8,-999.000,9,-999.000,     -999.0,9, -999.00,9,   62.56,2,     4.7,2,     -999.0,9,  -999.0,9, 20130517,     1304,  30.0002,-151.4225,    35.1987,2,     -999.0,9,     -999.0,9,    20.9602,2,     -999.0,9,     -999.0,9,-999.0000, -999.00,-999.000
318M20130321,       P02E,     103,          1,         34,         34,2,20130517,       1042,         30,  -151.4227,       5169,    35.5,  20.6014,   35.024,2,  35.0233,2,    229.5,2,   227.3,2,    2.24,2,       0,2,       0,2,       0,2,-999.000,9,-999.000,9,-999.000,9,-999.0000,9,  2026.7,2, 2301.02,2,   8.0002,2,       25,-999.000,9,-999.0000,9, -999.00,9,    0.85,2,    51.2,2,     3.0,-999.000,9,-999.000,     -999.0,9, -999.00,9,   66.22,2,    4.25,2,     -999.0,9,  -999.0,9, 20130517,     1302,  30.0002,-151.4224,    35.1884,2,     -999.0,9,     -999.0,9,    20.6149,2,     -999.0,9,     -999.0,9,-999.0000, -999.00,-999.000
318M20130321,       P02E,     103,          1,         33,         33,2,20130517,       1042,         30,  -151.4227,       5169,    61.1,  19.4286,  35.0132,2,  35.0132,2,    233.4,2,   232.8,2,    2.24,2,       0,2,       0,2,       0,2,-999.000,9,-999.000,9,-999.000,9,-999.0000,9,  -999.0,9, -999.00,9,-999.0000,9,  -999.00,-999.000,9,-999.0000,9, -999.00,9, -999.00,9,  -999.0,9,  -999.0,-999.000,9,-999.000,     -999.0,9, -999.00,9,   64.54,2,    4.52,2,     -999.0,9,  -999.0,9, 20130517,     1300,  30.0001,-151.4225,    35.1783,2,     -999.0,9,     -999.0,9,    19.4269,2,     -999.0,9,     -999.0,9,-999.0000, -999.00,-999.000
318M20130321,       P02E,     103,          1,         32,         32,2,20130517,       1042,         30,  -151.4227,       5169,      86,  19.3171,   35.023,2,  35.0235,2,    231.1,2,   230.2,2,    2.24,2,       0,2,       0,2,       0,2,-999.000,9,-999.000,9,-999.000,9,-999.0000,9,    2028,2, 2304.12,2,   7.9983,6,       25,-999.000,9,-999.0000,9, -999.00,9,    0.76,2,    47.2,2,     2.6,-999.000,9,-999.000,     -999.0,9, -999.00,9,    64.6,2,    3.93,2,     -999.0,9,  -999.0,9, 20130517,     1258,  30.0001,-151.4226,    35.1886,2,     -999.0,9,     -999.0,9,    19.3149,2,     -999.0,9,     -999.0,9,-999.0000, -999.00,-999.000
318M20130321,       P02E,     103,          1,         31,         31,2,20130517,       1042,         30,  -151.4227,       5169,   115.3,   19.193,    35.02,2,  35.0203,2,    229.3,2,   228.7,2,    2.24,2,       0,2,       0,2,       0,2,-999.000,9,-999.000,9,-999.000,9,-999.0000,9,  -999.0,9, -999.00,9,-999.0000,9,  -999.00,-999.000,9,-999.0000,9, -999.00,9, -999.00,9,  -999.0,9,  -999.0,-999.000,9,-999.000,     -999.0,9, -999.00,9,   64.93,2,    3.71,2,     -999.0,9,  -999.0,9, 20130517,     1256,  30.0001,-151.4227,    35.1855,2,     -999.0,9,     -999.0,9,    19.1907,2,     -999.0,9,     -999.0,9,-999.0000, -999.00,-999.000
318M20130321,       P02E,     103,          1,         30,         30,2,20130517,       1042,         30,  -151.4227,       5169,   165.2,  17.7486,  34.7607,2,  34.7623,2,    223.3,2,   223.3,2,    3.03,2,    0.62,2,    0.13,2,    0.07,2,-999.000,9,-999.000,9,-999.000,9,-999.0000,9,  2037.4,2, 2284.61,6,   7.9565,2,       25,-999.000,9,-999.0000,9, -999.00,9,    0.65,2,    43.8,2,     3.2,-999.000,9,-999.000,     -999.0,9, -999.00,9,   58.44,2,    4.22,2,     -999.0,9,  -999.0,9, 20130517,     1254,       30,-151.4227,    34.9262,2,     -999.0,9,     -999.0,9,    17.7352,2,     -999.0,9,     -999.0,9,-999.0000, -999.00,-999.000
318M20130321,       P02E,     103,          1,         29,         29,2,20130517,       1042,         30,  -151.4227,       5169,     215,  13.5706,  34.2325,2,  34.2476,2,    220.2,2,   219.7,2,    7.03,2,    6.67,2,    0.02,2,    0.47,2,   2.772,2,   1.596,2,-999.000,1,   1.5382,2,  -999.0,9, -999.00,9,-999.0000,9,  -999.00,-999.000,9,-999.0000,9, -999.00,9, -999.00,9,  -999.0,9,  -999.0,-999.000,9,-999.000,     -999.0,9, -999.00,9,   49.33,2,   10.76,2,     -999.0,9,  -999.0,9, 20130517,     1252,       30,-151.4226,    34.4091,2,     -999.0,9,     -999.0,9,    13.5719,2,     -999.0,9,     -999.0,9,-999.0000, -999.00,-999.000
318M20130321,       P02E,     103,          1,         28,         28,2,20130517,       1042,         30,  -151.4227,       5169,   265.4,  11.9981,  34.2063,2,  34.2051,2,    217.4,2,   217.4,2,   10.45,2,   10.42,2,    0.01,2,     0.7,2,-999.000,9,-999.000,9,-999.000,9,-999.0000,9,  2081.4,2,    2254,2,   7.8073,6,       25,-999.000,9,-999.0000,9, -999.00,9,    0.29,2,    48.8,2,     2.8,-999.000,9,-999.000,     -999.0,9, -999.00,9,   48.24,2,   13.82,2,     -999.0,9,  -999.0,9, 20130517,     1250,  29.9999,-151.4226,    34.3664,2,     -999.0,9,     -999.0,9,    12.0044,2,     -999.0,9,     -999.0,9,-999.0000, -999.00,-999.000
318M20130321,       P02E,     103,          1,         27,         27,2,20130517,       1042,         30,  -151.4227,       5169,   316.3,  11.2374,  34.1853,2,  34.1843,2,    219.2,2,   219.3,2,   12.89,2,   11.99,2,       0,2,    0.81,2,-999.000,9,-999.000,9,-999.000,9,-999.0000,9,  -999.0,9, -999.00,9,-999.0000,9,  -999.00,-999.000,9,-999.0000,9, -999.00,9, -999.00,9,  -999.0,9,  -999.0,-999.000,9,-999.000,     -999.0,9, -999.00,9,   49.74,2,    15.2,2,     -999.0,9,  -999.0,9, 20130517,     1248,  29.9999,-151.4226,    34.3455,2,     -999.0,9,     -999.0,9,    11.2301,2,     -999.0,9,     -999.0,9,-999.0000, -999.00,-999.000
318M20130321,       P02E,     103,          1,         26,         26,2,20130517,       1042,         30,  -151.4227,       5169,   367.1,    10.38,  34.1453,2,  34.1449,2,    214.7,2,   215.3,2,    16.4,2,   14.26,2,       0,2,    0.99,2,   3.148,2,   1.740,2,-999.000,1,   1.3223,2,  2105.4,2,  2258.7,2,   7.7614,2,       25,-999.000,9,-999.0000,9, -999.00,9,    0.28,2,    33.1,2,     3.9,-999.000,9,-999.000,     -999.0,9, -999.00,9,   45.85,2, -999.00,9,     -999.0,9,  -999.0,9, 20130517,     1246,  29.9999,-151.4225,    34.3059,2,     -999.0,9,     -999.0,9,    10.3759,2,     -999.0,9,     -999.0,9,-999.0000, -999.00,-999.000
318M20130321,       P02E,     103,          1,         25,         25,2,20130517,       1042,         30,  -151.4227,       5169,     437,    9.095,  34.0762,2,  34.0738,2,    195.4,2,   196.5,2,   24.61,2,   18.74,2,       0,2,    1.29,2,-999.000,9,-999.000,9,-999.000,9,-999.0000,9,  2134.8,2,  2261.7,2,   7.6977,2,       25,-999.000,9,-999.0000,9, -999.00,9,    0.16,2,    19.0,2,     2.6,-999.000,9,-999.000,     -999.0,9, -999.00,9,   45.88,2, -999.00,9,     -999.0,9,  -999.0,9, 20130517,     1243,  29.9999,-151.4226,    34.2345,2,     -999.0,9,     -999.0,9,     9.0958,2,     -999.0,9,     -999.0,9,-999.0000, -999.00,-999.000
318M20130321,       P02E,     103,          1,         24,         24,2,20130517,       1042,         30,  -151.4227,       5169,   538.6,   6.9248,  33.9902,2,  33.9899,2,    143.2,2,   137.4,2,   46.78,2,   28.41,2,       0,2,    1.98,2,-999.000,9,-999.000,9,-999.000,9,-999.0000,9,  2204.7,2, 2274.11,2,   7.5344,2,       25,-999.000,9,-999.0000,9, -999.00,9,   -0.09,2,   -19.8,2,     2.4,-999.000,9,-999.000,     -999.0,9, -999.00,9,   43.56,2, -999.00,9,     -999.0,9,  -999.0,9, 20130517,     1239,       30,-151.4228,    34.1502,2,     -999.0,9,     -999.0,9,     6.9256,2,     -999.0,9,     -999.0,9,-999.0000, -999.00,-999.000
318M20130321,       P02E,     103,          1,         23,         23,2,20130517,       1042,         30,  -151.4227,       5169,   638.8,   5.5132,  34.0256,2,  34.0264,2,     75.9,2,    73.5,2,   71.29,2,   36.77,2,       0,2,    2.63,2,   1.530,2,   0.740,2,-999.000,1,   0.2711,2,  2271.8,2, 2294.01,2,   7.3829,2,       25,-999.000,9,-999.0000,9, -999.00,9,   -0.36,2,   -79.1,2,     2.4,-999.000,9,-999.000,     -999.0,9, -999.00,9,   40.76,2, -999.00,9,     -999.0,9,  -999.0,9, 20130517,     1236,  30.0001,-151.4228,    34.1868,2,     -999.0,9,     -999.0,9,     5.5157,2,     -999.0,9,     -999.0,9,-999.0000, -999.00,-999.000
318M20130321,       P02E,     103,          1,         22,         22,2,20130517,       1042,         30,  -151.4227,       5169,   739.7,   4.7967,  34.1134,2,  34.1144,2,     39.3,2,    39.6,2,   88.86,2,   40.67,2,       0,2,    2.93,2,-999.000,9,-999.000,9,-999.000,9,-999.0000,9,  2311.9,2, 2314.42,2,   7.3148,2,       25,-999.000,9,-999.0000,9, -999.00,9,   -0.47,2,  -124.8,2,     2.2,-999.000,9,-999.000,     -999.0,9, -999.00,9,   40.91,2, -999.00,9,     -999.0,9,  -999.0,9, 20130517,     1233,  30.0001,-151.4227,    34.2752,2,     -999.0,9,     -999.0,9,     4.7956,2,     -999.0,9,     -999.0,9,-999.0000, -999.00,-999.000
318M20130321,       P02E,     103,          1,         21,         21,2,20130517,       1042,         30,  -151.4227,       5169,   841.6,   4.2787,   34.231,2,  34.2308,2,     16.9,2,    17.2,2,  105.74,2,   42.87,2,       0,2,    3.11,2,-999.000,9,-999.000,9,-999.000,9,-999.0000,9,  2343.2,2, 2335.23,2,   7.2865,2,       25,-999.000,9,-999.0000,9, -999.00,9,   -0.52,2,  -167.8,2,     2.2,-999.000,9,-999.000,     -999.0,9, -999.00,9,    39.3,2, -999.00,9,     -999.0,9,  -999.0,9, 20130517,     1230,  30.0001,-151.4229,    34.3923,2,     -999.0,9,     -999.0,9,      4.274,2,     -999.0,9,     -999.0,9,-999.0000, -999.00,-999.000
318M20130321,       P02E,     103,          1,         20,         20,2,20130517,       1042,         30,  -151.4227,       5169,   941.5,   3.9798,  34.3198,2,  34.3185,2,       12,2,      12,2,  116.09,2,   43.63,2,       0,2,    3.19,2,-999.000,9,-999.000,9,-999.000,9,-999.0000,9,  2358.6,2, 2351.44,2,     7.29,2,       25,-999.000,9,-999.0000,9, -999.00,9,   -0.49,2,  -194.6,2,     2.5,-999.000,9,-999.000,     -999.0,9, -999.00,9,   38.45,2, -999.00,9,     -999.0,9,  -999.0,9, 20130517,     1227,  30.0001, -151.423,    34.4804,2,     -999.0,9,     -999.0,9,     3.9796,2,     -999.0,9,     -999.0,9,-999.0000, -999.00,-999.000
318M20130321,       P02E,     103,          1,         19,         19,2,20130517,       1042,         30,  -151.4227,       5169,  1043.6,   3.7289,  34.3849,2,  34.3829,2,     14.7,2,    14.7,2,  123.21,2,   43.79,2,       0,2,     3.2,2,   0.014,2,   0.010,2,-999.000,1,     0.12,3,  -999.0,9, -999.00,9,-999.0000,9,  -999.00,-999.000,9,-999.0000,9, -999.00,9, -999.00,9,  -999.0,9,  -999.0,-999.000,9,-999.000,     -999.0,9, -999.00,9,   37.25,2, -999.00,9,     -999.0,9,  -999.0,9, 20130517,     1223,  29.9999,-151.4227,     34.545,2,     -999.0,9,     -999.0,9,     3.7283,2,     -999.0,9,     -999.0,9,-999.0000, -999.00,-999.000
318M20130321,       P02E,     103,          1,         18,         18,2,20130517,       1042,         30,  -151.4227,       5169,    1145,   3.4536,  34.4365,2,  34.4371,2,     21.2,2,      21,2,  130.13,2,    43.7,2,       0,2,    3.19,2,-999.000,9,-999.000,9,-999.000,9,-999.0000,9,  2371.1,2, 2375.84,2,   7.3184,2,       25,-999.000,9,-999.0000,9, -999.00,9,   -0.49,2,  -220.0,2,     3.2,-999.000,9,-999.000,     -999.0,9, -999.00,9,   38.64,2, -999.00,9,     -999.0,9,  -999.0,9, 20130517,     1220,  29.9999,-151.4224,    34.5995,2,     -999.0,9,     -999.0,9,     3.4544,2,     -999.0,9,     -999.0,9,-999.0000, -999.00,-999.000
318M20130321,       P02E,     103,          1,         17,         17,2,20130517,       1042,         30,  -151.4227,       5169,  1245.2,   3.2472,  34.4844,2,  34.4834,2,       32,2,    32.1,2,  134.03,2,   43.21,2,       0,2,    3.16,2,-999.000,9,-999.000,9,-999.000,9,-999.0000,9,  -999.0,9, -999.00,9,-999.0000,9,  -999.00,-999.000,9,-999.0000,9, -999.00,9, -999.00,9,  -999.0,9,  -999.0,-999.000,9,-999.000,     -999.0,9, -999.00,9,   38.22,2, -999.00,9,     -999.0,9,  -999.0,9, 20130517,     1217,  29.9998,-151.4224,     34.646,2,     -999.0,9,     -999.0,9,     3.2467,2,     -999.0,9,     -999.0,9,-999.0000, -999.00,-999.000
318M20130321,       P02E,     103,          1,         16,         16,2,20130517,       1042,         30,  -151.4227,       5169,  1346.5,   3.0114,  34.5149,2,  34.5147,2,     39.5,2,    40.7,2,   139.5,2,   42.89,2,       0,2,    3.12,2,-999.000,9,-999.000,9,-999.000,9,-999.0000,9,  2371.4,2, 2389.55,2,    7.362,2,       25,-999.000,9,-999.0000,9, -999.00,9,   -0.36,2,  -226.9,2,     2.1,-999.000,9,-999.000,     -999.0,9, -999.00,9,   35.48,2, -999.00,9,     -999.0,9,  -999.0,9, 20130517,     1213,  29.9997,-151.4227,    34.6774,2,     -999.0,9,     -999.0,9,     3.0114,2,     -999.0,9,     -999.0,9,-999.0000, -999.00,-999.000
318M20130321,       P02E,     103,          1,         15,         15,2,20130517,       1042,         30,  -151.4227,       5169,  1477.8,   2.7881,  34.5438,2,  34.5429,2,     49.8,2,    50.8,2,   143.5,2,   42.35,2,       0,2,    3.07,2,-999.000,9,-999.000,9,-999.000,9,-999.0000,9,  2370.1,6, 2396.35,2,   7.3842,2,       25,-999.000,9,-999.0000,9, -999.00,9,   -0.35,2,  -237.8,2,     2.1,-999.000,9,-999.000,     -999.0,9, -999.00,9,   35.29,2, -999.00,9,     -999.0,9,  -999.0,9, 20130517,     1210,  29.9997,-151.4231,    34.7058,2,     -999.0,9,     -999.0,9,     2.7882,2,     -999.0,9,     -999.0,9,-999.0000, -999.00,-999.000
318M20130321,       P02E,     103,          1,         14,         14,2,20130517,       1042,         30,  -151.4227,       5169,  1679.7,   2.4465,  34.5763,2,  34.5759,2,     63.4,2,    63.3,2,   151.3,2,   41.57,2,       0,2,       3,2,-999.000,9,-999.000,9,-999.000,9,-999.0000,9,  -999.0,9, -999.00,9,-999.0000,9,  -999.00,-999.000,9,-999.0000,9, -999.00,9, -999.00,9,  -999.0,9,  -999.0,-999.000,9,-999.000,     -999.0,9, -999.00,9,   35.37,2, -999.00,9,     -999.0,9,  -999.0,9, 20130517,     1205,  29.9996,-151.4234,     34.739,2,     -999.0,9,     -999.0,9,     2.4455,2,     -999.0,9,     -999.0,9,-999.0000, -999.00,-999.000
318M20130321,       P02E,     103,          1,         13,         13,2,20130517,       1042,         30,  -151.4227,       5169,  1884.2,   2.1745,  34.6007,2,  34.6007,2,     73.5,2,    73.4,2,  158.52,2,   41.08,2,       0,2,    2.96,2,   0.002,2,   0.004,2,-999.000,1,        0,2,  2371.4,2, 2412.46,2,   7.4301,2,       25,-999.000,9,-999.0000,9, -999.00,9,   -0.24,2,  -253.7,2,     2.1,-999.000,9,-999.000,     -999.0,9, -999.00,9,   39.01,2, -999.00,9,     -999.0,9,  -999.0,9, 20130517,     1200,  29.9996,-151.4228,    34.7639,2,     -999.0,9,     -999.0,9,     2.1747,2,     -999.0,9,     -999.0,9,-999.0000, -999.00,-999.000
318M20130321,       P02E,     103,          1,         12,         12,2,20130517,       1042,         30,  -151.4227,       5169,  2106.5,    1.971,  34.6189,2,  34.6186,2,     82.1,2,    81.9,2,  164.28,2,   40.53,2,       0,2,     2.9,2,-999.000,9,-999.000,9,-999.000,9,-999.0000,9,  -999.0,9, -999.00,9,-999.0000,9,  -999.00,-999.000,9,-999.0000,9, -999.00,9, -999.00,9,  -999.0,9,  -999.0,-999.000,9,-999.000,     -999.0,9, -999.00,9,   35.53,2, -999.00,9,     -999.0,9,  -999.0,9, 20130517,     1155,  29.9997,-151.4225,    34.7818,2,     -999.0,9,     -999.0,9,     1.9708,2,     -999.0,9,     -999.0,9,-999.0000, -999.00,-999.000
318M20130321,       P02E,     103,          1,         11,         11,2,20130517,       1042,         30,  -151.4227,       5169,  2360.5,   1.8066,  34.6361,2,  34.6355,2,     93.1,2,    91.5,2,  168.96,2,   39.98,2,       0,2,    2.86,2,-999.000,9,-999.000,9,-999.000,9,-999.0000,9,  2368.6,2, 2421.76,2,   7.4649,2,       25,-999.000,9,-999.0000,9, -999.00,9, -999.00,9,  -999.0,9,  -999.0,-999.000,9,-999.000,     -999.0,9, -999.00,9,   38.43,2, -999.00,9,     -999.0,9,  -999.0,9, 20130517,     1149,  29.9998,-151.4226,    34.7988,2,     -999.0,9,     -999.0,9,     1.8064,2,     -999.0,9,     -999.0,9,-999.0000, -999.00,-999.000
318M20130321,       P02E,     103,          1,         10,         10,2,20130517,       1042,         30,  -151.4227,       5169,  2615.1,   1.6783,  34.6502,2,  34.6497,2,    102.9,2,   102.4,2,  170.33,2,   39.34,2,       0,2,    2.81,2,-999.000,9,-999.000,9,-999.000,9,-999.0000,9,  -999.0,9, -999.00,9,-999.0000,9,  -999.00,-999.000,9,-999.0000,9, -999.00,9, -999.00,9,  -999.0,9,  -999.0,-999.000,9,-999.000,     -999.0,9, -999.00,9,   37.84,2, -999.00,9,     -999.0,9,  -999.0,9, 20130517,     1143,  29.9999,-151.4227,     34.813,2,     -999.0,9,     -999.0,9,     1.6789,2,     -999.0,9,     -999.0,9,-999.0000, -999.00,-999.000
318M20130321,       P02E,     103,          1,          9,          9,2,20130517,       1042,         30,  -151.4227,       5169,  2868.3,    1.601,  34.6593,2,  34.6591,2,    110.6,2,   111.3,2,  169.84,2,   38.71,2,       0,2,    2.75,2,-999.000,9,-999.000,9,-999.000,9,-999.0000,9,  2357.9,2, 2425.56,2,   7.5037,2,       25,-999.000,9,-999.0000,9, -999.00,9, -999.00,9,  -999.0,9,  -999.0,-999.000,9,-999.000,     -999.0,9, -999.00,9,   36.37,2, -999.00,9,     -999.0,9,  -999.0,9, 20130517,     1137,       30,-151.4226,    34.8225,2,     -999.0,9,     -999.0,9,     1.6016,2,     -999.0,9,     -999.0,9,-999.0000, -999.00,-999.000
318M20130321,       P02E,     103,          1,          8,          8,2,20130517,       1042,         30,  -151.4227,       5169,    3139,   1.5264,  34.6692,2,  34.6687,2,    123.5,2,   123.5,2,  166.71,2,   37.94,2,       0,2,    2.67,2,   0.002,2,   0.002,2,-999.000,1,        0,2,  2349.5,2, 2425.26,2,   7.5255,2,       25,-999.000,9,-999.0000,9, -999.00,9, -999.00,9,  -999.0,9,  -999.0,-999.000,9,-999.000,     -999.0,9, -999.00,9,   35.94,2, -999.00,9,     -999.0,9,  -999.0,9, 20130517,     1131,  29.9999,-151.4225,    34.8322,2,     -999.0,9,     -999.0,9,     1.5263,2,     -999.0,9,     -999.0,9,-999.0000, -999.00,-999.000
318M20130321,       P02E,     103,          1,          7,          7,2,20130517,       1042,         30,  -151.4227,       5169,  3445.2,   1.4839,   34.677,2,  34.6754,2,    133.5,2,   133.8,2,  163.39,2,   37.26,2,       0,2,    2.63,2,-999.000,9,-999.000,9,-999.000,9,-999.0000,9,  -999.0,9, -999.00,9,-999.0000,9,  -999.00,-999.000,9,-999.0000,9, -999.00,9, -999.00,9,  -999.0,9,  -999.0,-999.000,9,-999.000,     -999.0,9, -999.00,9,   36.62,2, -999.00,9,     -999.0,9,  -999.0,9, 20130517,     1124,  29.9999,-151.4225,     34.839,2,     -999.0,9,     -999.0,9,      1.484,2,     -999.0,9,     -999.0,9,-999.0000, -999.00,-999.000