BOTTLE,20220817CCHSIOAMB
EXPOCODE,SECT_ID,STNNBR,CASTNO,SAMPNO,BTLNBR,BTLNBR_FLAG_W,DATE,TIME,LATITUDE,LONGITUDE,DEPTH,CTDPRS,CTDTMP,CTDSAL,CTDSAL_FLAG_W,SALNTY,SALNTY_FLAG_W,CTDOXY,CTDOXY_FLAG_W,OXYGEN,OXYGEN_FLAG_W,SILCAT,SILCAT_FLAG_W,NITRAT,NITRAT_FLAG_W,NITRIT,NITRIT_FLAG_W,PHSPHT,PHSPHT_FLAG_W,CFC-11,CFC-11_FLAG_W,CFC-12,CFC-12_FLAG_W,CFC113,CFC113_FLAG_W,SF6,SF6_FLAG_W,TCARBN,TCARBN_FLAG_W,ALKALI,ALKALI_FLAG_W,PH_TOT,PH_TOT_FLAG_W,PH_TMP,TRITUM,TRITUM_FLAG_W,HELIUM,HELIUM_FLAG_W,DELHE3,DELHE3_FLAG_W,DELC13,DELC13_FLAG_W,DELC14,DELC14_FLAG_W,C14ERR,NEON,NEON_FLAG_W,NEONER,I-129,I-129_FLAG_W,SR-90,SR-90_FLAG_W,DOC,DOC_FLAG_W,TDN,TDN_FLAG_W,CALCIUM,CALCIUM_FLAG_W,D15N_NO3,D15N_NO3_FLAG_W,BTL_DATE,BTL_TIME,BTL_LAT,BTL_LON,SALTREF,SALTREF_FLAG_W,CS-137,CS-137_FLAG_W,CS-134,CS-134_FLAG_W,REFTMP,REFTMP_FLAG_W,LAB_DEN,LAB_DEN_FLAG_W,D18O_NO3,D18O_NO3_FLAG_W,HELIER,DELHER,TRITER
,,,,,,,,,,,METERS,DBAR,ITS-90,PSS-78,,PSS-78,,UMOL/KG,,UMOL/KG,,UMOL/KG,,UMOL/KG,,UMOL/KG,,UMOL/KG,,PMOL/KG,,PMOL/KG,,PMOL/KG,,FMOL/KG,,UMOL/KG,,UMOL/KG,,,,DEG C,TU,,NMOL/KG,,PERCNT,,/MILLE,,/MILLE,,/MILLE,NMOL/KG,,NMOL/KG,BQ/M^3,,DM/.1MG,,UMOL/KG,,UMOL/KG,,MMOL/KG,,/MILLE,,,,,,G/KG,,BQ/M^3,,BQ/M^3,,ITS-90,,,,/MILLE,,NMOL/KG,PERCNT,TU
318M20130321,       P02W,      56,          1,          7,          7,2,20130423,       0225,    29.9997,   167.3986,       6018,  3649.1,   1.4896,  34.6777,2,  34.6813,3,      143,2,   144.2,2,   150.8,2,   36.46,2,       0,2,    2.57,2,-999.000,9,-999.000,9,-999.000,9,-999.0000,9,  -999.0,9, -999.00,9,-999.0000,9,  -999.00,-999.000,9,-999.0000,9, -999.00,9, -999.00,9,  -999.0,9,  -999.0,-999.000,9,-999.000,     -999.0,9, -999.00,9, -999.00,9, -999.00,9,     -999.0,9,  -999.0,9, 20130423,      312,  29.9988, 167.3987,    34.8448,3,     -999.0,9,     -999.0,9,     1.4896,2,     -999.0,9,     -999.0,9,-999.0000, -999.00,-999.000
318M20130321,       P02W,      56,          1,          6,          6,2,20130423,       0225,    29.9997,   167.3986,       6018,  4062.3,    1.473,  34.6832,2,  34.6834,2,    150.9,2,   150.9,2,  148.75,2,   35.99,2,       0,2,    2.54,2,   0.003,2,   0.009,2,   0.005,2,        0,2,  2320.8,2, 2412.26,2,   7.5664,2,       25,-999.000,9,-999.0000,9, -999.00,9, -999.00,9,  -999.0,9,  -999.0,-999.000,9,-999.000,     -999.0,9, -999.00,9, -999.00,9, -999.00,9,     -999.0,9,  -999.0,9, 20130423,      304,  29.9992, 167.3986,     34.847,2,     -999.0,9,     -999.0,9,     1.4738,2,     -999.0,9,     -999.0,9,-999.0000, -999.00,-999.000
318M20130321,       P02W,      56,          1,          5,         37,2,20130423,       0225,    29.9997,   167.3986,       6018,  4463.7,   1.4703,   34.688,2,  34.6891,2,    157.6,2,   157.6,2,  145.73,2,   35.54,2,       0,2,    2.51,2,-999.000,9,-999.000,9,-999.000,9,-999.0000,9,  -999.0,9, -999.00,9,-999.0000,9,  -999.00,-999.000,9,-999.0000,9, -999.00,9, -999.00,9,  -999.0,9,  -999.0,-999.000,9,-999.000,     -999.0,9, -999.00,9, -999.00,9, -999.00,9,     -999.0,9,  -999.0,9, 20130423,      257,  29.9988, 167.3987,    34.8527,2,     -999.0,9,     -999.0,9,     1.4702,2,     -999.0,9,     -999.0,9,-999.0000, -999.00,-999.000
318M20130321,       P02W,      56,          1,          4,          4,2,20130423,       0225,    29.9997,   167.3986,       6018,  4881.8,   1.4777,  34.6919,2,  34.6909,2,    164.4,2,     164,2,  141.82,2,   35.05,2,       0,2,    2.46,2,   0.001,2,   0.009,2,   0.002,2,        0,2,  2308.6,2, 2405.85,2,   7.5833,2,       25,-999.000,9,-999.0000,9, -999.00,9, -999.00,9,  -999.0,9,  -999.0,-999.000,9,-999.000,     -999.0,9, -999.00,9, -999.00,9, -999.00,9,     -999.0,9,  -999.0,9, 20130423,      248,   29.999, 167.3988,    34.8545,2,     -999.0,9,     -999.0,9,     1.4777,2,     -999.0,9,     -999.0,9,-999.0000, -999.00,-999.000
318M20130321,       P02W,      56,          1,          3,          3,2,20130423,       0225,    29.9997,   167.3986,       6018,  5296.8,    1.494,   34.695,2,   34.695,2,    170.6,2,   169.7,2,  137.62,2,   34.67,2,       0,2,    2.42,2,   0.001,2,   0.007,2,   0.011,2,        0,2,    2303,2, 2400.85,2,   7.5906,6,       25,-999.000,9,-999.0000,9, -999.00,9, -999.00,9,  -999.0,9,  -999.0,-999.000,9,-999.000,     -999.0,9, -999.00,9, -999.00,9, -999.00,9,     -999.0,9,  -999.0,9, 20130423,      241,  29.9993, 167.3988,    34.8586,2,     -999.0,9,     -999.0,9,     1.4944,2,     -999.0,9,     -999.0,9,-999.0000, -999.00,-999.000
318M20130321,       P02W,      56,          1,          2,          2,2,20130423,       0225,    29.9997,   167.3986,       6018,  5710.4,    1.524,  34.6966,2,  34.6958,2,    172.9,2,   173.4,2,  135.48,2,   34.43,2,       0,2,    2.45,2,   0.002,2,   0.009,2,   0.012,2,        0,2,    2300,2, 2399.15,6,   7.5927,2,       25,-999.000,9,-999.0000,9, -999.00,9, -999.00,9,  -999.0,9,  -999.0,-999.000,9,-999.000,     -999.0,9, -999.00,9, -999.00,9, -999.00,9,     -999.0,9,  -999.0,9, 20130423,      233,  29.9993, 167.3988,    34.8594,2,     -999.0,9,     -999.0,9,      1.524,2,     -999.0,9,     -999.0,9,-999.0000, -999.00,-999.000
318M20130321,       P02W,      56,          1,          1,          1,2,20130423,       0225,    29.9997,   167.3986,       6018,  6126.3,   1.5572,  34.6978,2,  34.6981,2,      177,2,   176.8,2,  132.94,2,   34.11,2,       0,2,     2.4,2,   0.005,2,   0.012,2,   0.006,2,        0,2,  2295.8,6, 2397.65,2,   7.5967,2,       25,-999.000,9,-999.0000,9, -999.00,9, -999.00,9,  -999.0,9,  -999.0,-999.000,9,-999.000,     -999.0,9, -999.00,9, -999.00,9, -999.00,9,     -999.0,9,  -999.0,9, 20130423,      225,  29.9996, 167.3987,    34.8617,2,     -999.0,9,     -999.0,9,     1.5569,2,     -999.0,9,     -999.0,9,-999.0000, -999.00,-999.000