BOTTLE,20220817CCHSIOAMB
EXPOCODE,SECT_ID,STNNBR,CASTNO,SAMPNO,BTLNBR,BTLNBR_FLAG_W,DATE,TIME,LATITUDE,LONGITUDE,DEPTH,CTDPRS,CTDTMP,CTDSAL,CTDSAL_FLAG_W,SALNTY,SALNTY_FLAG_W,CTDOXY,CTDOXY_FLAG_W,OXYGEN,OXYGEN_FLAG_W,SILCAT,SILCAT_FLAG_W,NITRAT,NITRAT_FLAG_W,NITRIT,NITRIT_FLAG_W,PHSPHT,PHSPHT_FLAG_W,CFC-11,CFC-11_FLAG_W,CFC-12,CFC-12_FLAG_W,CFC113,CFC113_FLAG_W,SF6,SF6_FLAG_W,TCARBN,TCARBN_FLAG_W,ALKALI,ALKALI_FLAG_W,PH_TOT,PH_TOT_FLAG_W,PH_TMP,TRITUM,TRITUM_FLAG_W,HELIUM,HELIUM_FLAG_W,DELHE3,DELHE3_FLAG_W,DELC13,DELC13_FLAG_W,DELC14,DELC14_FLAG_W,C14ERR,NEON,NEON_FLAG_W,NEONER,I-129,I-129_FLAG_W,SR-90,SR-90_FLAG_W,DOC,DOC_FLAG_W,TDN,TDN_FLAG_W,CALCIUM,CALCIUM_FLAG_W,D15N_NO3,D15N_NO3_FLAG_W,BTL_DATE,BTL_TIME,BTL_LAT,BTL_LON,SALTREF,SALTREF_FLAG_W,CS-137,CS-137_FLAG_W,CS-134,CS-134_FLAG_W,REFTMP,REFTMP_FLAG_W,LAB_DEN,LAB_DEN_FLAG_W,D18O_NO3,D18O_NO3_FLAG_W,HELIER,DELHER,TRITER
,,,,,,,,,,,METERS,DBAR,ITS-90,PSS-78,,PSS-78,,UMOL/KG,,UMOL/KG,,UMOL/KG,,UMOL/KG,,UMOL/KG,,UMOL/KG,,PMOL/KG,,PMOL/KG,,PMOL/KG,,FMOL/KG,,UMOL/KG,,UMOL/KG,,,,DEG C,TU,,NMOL/KG,,PERCNT,,/MILLE,,/MILLE,,/MILLE,NMOL/KG,,NMOL/KG,BQ/M^3,,DM/.1MG,,UMOL/KG,,UMOL/KG,,MMOL/KG,,/MILLE,,,,,,G/KG,,BQ/M^3,,BQ/M^3,,ITS-90,,,,/MILLE,,NMOL/KG,PERCNT,TU
318M20130321,       P02W,      54,          1,         36,         36,2,20130422,       1011,    30.0013,     166.06,       5916,     3.9,  19.3574,  34.7894,2,  34.7895,2,    233.6,2,   233.6,2,    1.66,2,    0.01,2,    0.01,2,    0.02,2,   2.446,2,   1.502,2,   0.196,2,     1.59,2,  2001.3,6, 2282.81,2,   8.0145,6,       25,-999.000,9,-999.0000,9, -999.00,9, -999.00,9,  -999.0,9,  -999.0,-999.000,9,-999.000,     -999.0,9, -999.00,1, -999.00,9, -999.00,9,     -999.0,9,  -999.0,9, 20130422,     1226,   30.003, 166.0609,    34.9536,2,     -999.0,1,     -999.0,1,    19.3582,2,     -999.0,9,     -999.0,9,-999.0000, -999.00,-999.000
318M20130321,       P02W,      54,          1,         35,         35,9,20130422,       1011,    30.0013,     166.06,       5916,    32.3,  19.0117,  34.8713,2,-999.0000,9,    234.8,2,  -999.0,9, -999.00,9, -999.00,9, -999.00,9, -999.00,9,-999.000,9,-999.000,9,-999.000,9,-999.0000,9,  -999.0,9, -999.00,9,-999.0000,9,  -999.00,-999.000,9,-999.0000,9, -999.00,9, -999.00,9,  -999.0,9,  -999.0,-999.000,9,-999.000,     -999.0,9, -999.00,9, -999.00,9, -999.00,9,     -999.0,9,  -999.0,9, 20130422,     1224,  30.0027, 166.0603,     -999.0,9,     -999.0,9,     -999.0,9,    19.0084,2,     -999.0,9,     -999.0,9,-999.0000, -999.00,-999.000
318M20130321,       P02W,      54,          1,         34,         34,2,20130422,       1011,    30.0013,     166.06,       5916,    57.1,  17.9844,  34.7493,2,  34.7492,2,    240.2,2,   240.1,2,    2.05,2,       0,2,       0,2,    0.03,2,   2.574,2,   1.570,2,   0.215,2,     1.73,2,    2007,2, 2280.51,6,   8.0044,6,       25,-999.000,9,-999.0000,9, -999.00,9, -999.00,9,  -999.0,9,  -999.0,-999.000,9,-999.000,     -999.0,1, -999.00,1, -999.00,9, -999.00,9,     -999.0,9,  -999.0,9, 20130422,     1223,  30.0025, 166.0601,    34.9131,2,     -999.0,1,     -999.0,1,    17.9774,2,     -999.0,9,     -999.0,9,-999.0000, -999.00,-999.000
318M20130321,       P02W,      54,          1,         33,         33,2,20130422,       1011,    30.0013,     166.06,       5916,    82.7,  17.6181,  34.7331,2,  34.7317,2,    241.7,2,   239.3,2,    2.34,2,    0.21,2,    0.08,2,    0.06,2,   2.595,2,   1.575,2,   0.218,2,     1.49,2,  2011.4,2, 2280.31,2,   7.9992,2,       25,-999.000,9,-999.0000,9, -999.00,9, -999.00,9,  -999.0,9,  -999.0,-999.000,9,-999.000,     -999.0,9, -999.00,1, -999.00,9, -999.00,9,     -999.0,9,  -999.0,9, 20130422,     1221,  30.0022, 166.0602,    34.8955,2,     -999.0,1,     -999.0,1,    17.6184,2,     -999.0,9,     -999.0,9,-999.0000, -999.00,-999.000
318M20130321,       P02W,      54,          1,         32,         32,2,20130422,       1011,    30.0013,     166.06,       5916,   111.7,   17.234,  34.7056,2,  34.7058,2,    229.5,2,   230.8,2,    2.83,2,    1.67,2,    0.33,2,    0.16,2,   2.619,2,   1.580,2,   0.180,2,     1.69,2,  2018.9,2, 2278.31,2,   7.9806,2,       25,-999.000,9,-999.0000,9, -999.00,9, -999.00,9,  -999.0,9,  -999.0,-999.000,9,-999.000,     -999.0,9, -999.00,1, -999.00,9, -999.00,9,     -999.0,9,  -999.0,9, 20130422,     1219,   30.002, 166.0602,    34.8695,2,     -999.0,1,     -999.0,1,    17.2346,2,     -999.0,9,     -999.0,9,-999.0000, -999.00,-999.000
318M20130321,       P02W,      54,          1,         31,         31,2,20130422,       1011,    30.0013,     166.06,       5916,   162.4,  16.6669,  34.6724,2,  34.6718,2,    223.4,2,   223.3,2,       4,2,    3.78,2,    0.03,2,     0.3,2,   2.688,2,   1.627,2,   0.146,2,     1.47,2,  2028.8,2, 2275.11,2,   7.9577,2,       25,-999.000,9,-999.0000,9, -999.00,9, -999.00,9,  -999.0,9,  -999.0,-999.000,9,-999.000,     -999.0,9, -999.00,1, -999.00,9, -999.00,9,     -999.0,9,  -999.0,9, 20130422,     1217,  30.0018, 166.0602,    34.8353,2,     -999.0,1,     -999.0,1,    16.6651,2,     -999.0,9,     -999.0,9,-999.0000, -999.00,-999.000
318M20130321,       P02W,      54,          1,         30,         30,2,20130422,       1011,    30.0013,     166.06,       5916,   213.5,  16.3742,  34.6479,2,   34.648,2,    224.5,2,   226.4,2,     4.1,2,    3.83,2,    0.02,2,    0.28,2,   2.718,2,   1.632,2,   0.171,2,      1.6,2,  -999.0,9, -999.00,9,-999.0000,9,  -999.00,-999.000,9,-999.0000,9, -999.00,9, -999.00,9,  -999.0,9,  -999.0,-999.000,9,-999.000,     -999.0,9, -999.00,1, -999.00,9, -999.00,9,     -999.0,9,  -999.0,9, 20130422,     1216,  30.0016, 166.0603,    34.8114,2,     -999.0,1,     -999.0,1,    16.3703,2,     -999.0,9,     -999.0,9,-999.0000, -999.00,-999.000
318M20130321,       P02W,      54,          1,         29,         29,2,20130422,       1011,    30.0013,     166.06,       5916,   263.9,  16.0414,  34.6384,2,  34.6373,2,    225.1,2,   226.2,2,    4.78,2,     4.5,2,    0.01,2,    0.32,2,   2.742,2,   1.663,2,   0.151,2,     1.67,2,  2034.2,2, 2274.41,2,   7.9432,2,       25,-999.000,9,-999.0000,9, -999.00,9, -999.00,9,  -999.0,9,  -999.0,-999.000,9,-999.000,     -999.0,9, -999.00,1, -999.00,9, -999.00,9,     -999.0,9,  -999.0,9, 20130422,     1214,  30.0015, 166.0602,    34.8006,2,     -999.0,1,     -999.0,1,    16.0421,2,     -999.0,9,     -999.0,9,-999.0000, -999.00,-999.000
318M20130321,       P02W,      54,          1,         28,         28,2,20130422,       1011,    30.0013,     166.06,       5916,   314.3,  15.3379,  34.5689,2,  34.5677,2,    213.2,2,   213.6,2,    7.32,2,    6.78,2,    0.01,2,    0.49,2,   2.795,2,   1.679,2,   0.120,2,     1.43,2,  -999.0,9, -999.00,9,-999.0000,9,  -999.00,-999.000,9,-999.0000,9, -999.00,9, -999.00,9,  -999.0,9,  -999.0,-999.000,9,-999.000,     -999.0,9, -999.00,1, -999.00,9, -999.00,9,     -999.0,9,  -999.0,9, 20130422,     1212,  30.0014, 166.0602,    34.7307,2,     -999.0,1,     -999.0,1,    15.3438,2,     -999.0,9,     -999.0,9,-999.0000, -999.00,-999.000
318M20130321,       P02W,      54,          1,         27,         27,2,20130422,       1011,    30.0013,     166.06,       5916,   366.2,  14.2139,  34.4929,2,    34.49,2,    200.8,2,   200.4,2,   11.13,2,    9.74,2,    0.01,2,    0.69,2,   2.941,2,   1.749,2,   0.066,2,     1.39,2,  2073.6,2, 2271.51,2,   7.8599,2,       25,-999.000,9,-999.0000,9, -999.00,9, -999.00,9,  -999.0,9,  -999.0,-999.000,9,-999.000,     -999.0,9, -999.00,1, -999.00,9, -999.00,9,     -999.0,9,  -999.0,9, 20130422,     1211,  30.0012,   166.06,    34.6526,2,     -999.0,1,     -999.0,1,    14.2198,2,     -999.0,9,     -999.0,9,-999.0000, -999.00,-999.000
318M20130321,       P02W,      54,          1,         26,         26,2,20130422,       1011,    30.0013,     166.06,       5916,   436.8,  12.5244,  34.3908,2,  34.3881,2,    191.1,2,   192.4,2,   17.67,2,   13.33,2,    0.01,2,    0.95,2,   3.003,2,   1.687,2,   0.091,2,     1.21,2,  -999.0,9, -999.00,9,-999.0000,9,  -999.00,-999.000,9,-999.0000,9, -999.00,9, -999.00,9,  -999.0,9,  -999.0,-999.000,9,-999.000,     -999.0,9, -999.00,1, -999.00,9, -999.00,9,     -999.0,9,  -999.0,9, 20130422,     1209,  30.0013,   166.06,    34.5502,2,     -999.0,1,     -999.0,1,     12.539,2,     -999.0,9,     -999.0,9,-999.0000, -999.00,-999.000
318M20130321,       P02W,      54,          1,         25,         25,2,20130422,       1011,    30.0013,     166.06,       5916,   538.6,   9.2015,  34.1412,2,    34.15,3,      183,2,   183.4,2,   30.07,2,   19.45,2,    0.01,2,    1.41,2,   3.228,2,   1.772,2,   0.114,2,     1.13,2,  2143.5,2, 2272.71,2,   7.6987,2,       25,-999.000,9,-999.0000,9, -999.00,9, -999.00,9,  -999.0,9,  -999.0,-999.000,9,-999.000,     -999.0,9, -999.00,1, -999.00,9, -999.00,9,     -999.0,9,  -999.0,9, 20130422,     1206,  30.0012,   166.06,     34.311,3,     -999.0,1,     -999.0,1,     9.2393,3,     -999.0,9,     -999.0,9,-999.0000, -999.00,-999.000
318M20130321,       P02W,      54,          1,         24,         24,2,20130422,       1011,    30.0013,     166.06,       5916,   640.3,   6.9934,  34.0352,2,  34.0359,2,    148.5,2,   149.1,2,    49.8,2,    26.9,2,    0.01,2,    1.96,2,-999.000,9,-999.000,9,-999.000,9,-999.0000,9,  -999.0,9, -999.00,9,-999.0000,9,  -999.00,-999.000,9,-999.0000,9, -999.00,9, -999.00,9,  -999.0,9,  -999.0,-999.000,9,-999.000,     -999.0,9, -999.00,1, -999.00,9, -999.00,9,     -999.0,9,  -999.0,9, 20130422,     1203,  30.0013,   166.06,    34.1964,2,     -999.0,1,     -999.0,1,     6.9794,2,     -999.0,9,     -999.0,9,-999.0000, -999.00,-999.000
318M20130321,       P02W,      54,          1,         23,         23,2,20130422,       1011,    30.0013,     166.06,       5916,     741,   5.2914,  34.0536,2,   34.052,2,    101.3,2,   101.1,2,    74.9,2,   34.24,2,       0,2,     2.5,2,   1.966,2,   1.035,2,   0.087,2,     0.06,2,  2260.9,2, 2301.72,2,   7.4457,6,       25,-999.000,9,-999.0000,9, -999.00,9, -999.00,9,  -999.0,9,  -999.0,-999.000,9,-999.000,     -999.0,9, -999.00,9, -999.00,9, -999.00,9,     -999.0,9,  -999.0,9, 20130422,     1201,  30.0013,   166.06,    34.2125,2,     -999.0,9,     -999.0,9,     5.2945,2,     -999.0,9,     -999.0,9,-999.0000, -999.00,-999.000
318M20130321,       P02W,      54,          1,         22,         22,2,20130422,       1011,    30.0013,     166.06,       5916,   842.8,   4.4544,  34.1527,2,  34.1535,2,     66.2,2,    64.2,2,   97.06,2,   38.73,2,       0,2,    2.82,2,-999.000,9,-999.000,9,-999.000,9,-999.0000,9,  -999.0,9, -999.00,9,-999.0000,9,  -999.00,-999.000,9,-999.0000,9, -999.00,9, -999.00,9,  -999.0,9,  -999.0,-999.000,9,-999.000,     -999.0,9, -999.00,9, -999.00,9, -999.00,9,     -999.0,9,  -999.0,9, 20130422,     1158,  30.0013,   166.06,    34.3146,2,     -999.0,9,     -999.0,9,      4.455,2,     -999.0,9,     -999.0,9,-999.0000, -999.00,-999.000
318M20130321,       P02W,      54,          1,         21,         21,2,20130422,       1011,    30.0013,     166.06,       5916,   939.2,   3.9731,  34.2445,2,  34.2437,2,     45.2,2,    44.2,2,   111.5,2,   40.95,2,       0,2,    2.97,2,   0.583,2,   0.303,2,   0.033,2,     0.15,2,  2332.9,2, 2342.43,2,   7.3456,2,       25,-999.000,9,-999.0000,9, -999.00,9, -999.00,9,  -999.0,9,  -999.0,-999.000,9,-999.000,     -999.0,9, -999.00,9, -999.00,9, -999.00,9,     -999.0,9,  -999.0,9, 20130422,     1156,  30.0012,   166.06,    34.4052,2,     -999.0,9,     -999.0,9,     3.9748,2,     -999.0,9,     -999.0,9,-999.0000, -999.00,-999.000
318M20130321,       P02W,      54,          1,         20,         20,2,20130422,       1011,    30.0013,     166.06,       5916,  1040.7,   3.6424,   34.315,2,  34.3139,2,     34.5,2,    36.4,2,  121.75,2,   42.06,2,       0,2,    3.06,2,-999.000,9,-999.000,9,-999.000,9,-999.0000,9,  -999.0,9, -999.00,9,-999.0000,9,  -999.00,-999.000,9,-999.0000,9, -999.00,9, -999.00,9,  -999.0,9,  -999.0,-999.000,9,-999.000,     -999.0,9, -999.00,9, -999.00,9, -999.00,9,     -999.0,9,  -999.0,9, 20130422,     1153,  30.0013,   166.06,    34.4757,2,     -999.0,9,     -999.0,9,     3.6457,2,     -999.0,9,     -999.0,9,-999.0000, -999.00,-999.000
318M20130321,       P02W,      54,          1,         19,         19,2,20130422,       1011,    30.0013,     166.06,       5916,  1143.3,   3.2742,  34.3654,2,   34.364,2,     31.4,2,    33.8,2,  132.39,2,   42.59,2,       0,2,    3.09,2,   0.208,2,   0.103,2,   0.021,2,        0,2,    2360,2, 2367.84,2,   7.3344,2,       25,-999.000,9,-999.0000,9, -999.00,9, -999.00,9,  -999.0,9,  -999.0,-999.000,9,-999.000,     -999.0,9, -999.00,9, -999.00,9, -999.00,9,     -999.0,9,  -999.0,9, 20130422,     1151,  30.0012,   166.06,     34.526,2,     -999.0,9,     -999.0,9,     3.2754,2,     -999.0,9,     -999.0,9,-999.0000, -999.00,-999.000
318M20130321,       P02W,      54,          1,         18,         18,2,20130422,       1011,    30.0013,     166.06,       5916,  1244.8,   3.0049,  34.4174,2,   34.417,2,     32.2,2,    32.7,2,   139.9,2,   42.86,2,       0,2,     3.1,2,-999.000,9,-999.000,9,-999.000,9,-999.0000,9,  -999.0,9, -999.00,9,-999.0000,9,  -999.00,-999.000,9,-999.0000,9, -999.00,9, -999.00,9,  -999.0,9,  -999.0,-999.000,9,-999.000,     -999.0,9, -999.00,9, -999.00,9, -999.00,9,     -999.0,9,  -999.0,9, 20130422,     1148,  30.0013,   166.06,    34.5793,2,     -999.0,9,     -999.0,9,     3.0059,2,     -999.0,9,     -999.0,9,-999.0000, -999.00,-999.000
318M20130321,       P02W,      54,          1,         17,         17,2,20130422,       1011,    30.0013,     166.06,       5916,  1347.2,   2.7975,  34.4578,2,   34.458,2,     34.7,2,    34.8,2,  145.75,2,   43.01,2,       0,2,     3.1,2,   0.069,2,   0.036,2,   0.005,2,        0,2,  2375.1,2, 2386.55,2,   7.3434,2,       25,-999.000,9,-999.0000,9, -999.00,9, -999.00,9,  -999.0,9,  -999.0,-999.000,9,-999.000,     -999.0,9, -999.00,9, -999.00,9, -999.00,9,     -999.0,9,  -999.0,9, 20130422,     1146,  30.0013,   166.06,    34.6205,2,     -999.0,9,     -999.0,9,     2.7987,2,     -999.0,9,     -999.0,9,-999.0000, -999.00,-999.000
318M20130321,       P02W,      54,          1,         16,         16,2,20130422,       1011,    30.0013,     166.06,       5916,    1474,   2.5754,  34.4981,2,  34.4979,2,     40.9,2,    40.1,2,  151.12,2,   42.88,2,       0,2,    3.09,2,-999.000,9,-999.000,9,-999.000,9,-999.0000,9,    2376,2, 2394.65,2,   7.3569,2,       25,-999.000,9,-999.0000,9, -999.00,9, -999.00,9,  -999.0,9,  -999.0,-999.000,9,-999.000,     -999.0,9, -999.00,9, -999.00,9, -999.00,9,     -999.0,9,  -999.0,9, 20130422,     1143,  30.0013,   166.06,    34.6605,2,     -999.0,9,     -999.0,9,     2.5778,2,     -999.0,9,     -999.0,9,-999.0000, -999.00,-999.000
318M20130321,       P02W,      54,          1,         15,         15,2,20130422,       1011,    30.0013,     166.06,       5916,  1678.3,   2.2275,  34.5496,2,  34.5491,2,     54.2,2,    53.6,2,   159.8,2,   42.16,2,       0,2,    3.04,2,   0.033,2,   0.018,2,   0.010,2,        0,2,    2379,2, 2404.35,2,    7.384,2,       25,-999.000,9,-999.0000,9, -999.00,9, -999.00,9,  -999.0,9,  -999.0,-999.000,9,-999.000,     -999.0,9, -999.00,9, -999.00,9, -999.00,9,     -999.0,9,  -999.0,9, 20130422,     1138,  30.0012,   166.06,     34.712,2,     -999.0,9,     -999.0,9,     2.2275,2,     -999.0,9,     -999.0,9,-999.0000, -999.00,-999.000
318M20130321,       P02W,      54,          1,         14,         14,2,20130422,       1011,    30.0013,     166.06,       5916,    1882,   2.0245,  34.5864,2,  34.5862,2,     69.6,2,    70.2,2,  161.55,2,   41.13,2,       0,2,    2.95,2,-999.000,9,-999.000,9,-999.000,9,-999.0000,9,  2370.5,2, 2409.16,2,   7.4178,2,       25,-999.000,9,-999.0000,9, -999.00,9, -999.00,9,  -999.0,9,  -999.0,-999.000,9,-999.000,     -999.0,9, -999.00,9, -999.00,9, -999.00,9,     -999.0,9,  -999.0,9, 20130422,     1134,  30.0013,   166.06,    34.7493,2,     -999.0,9,     -999.0,9,     2.0251,2,     -999.0,9,     -999.0,9,-999.0000, -999.00,-999.000
318M20130321,       P02W,      54,          1,         13,         13,2,20130422,       1011,    30.0013,     166.06,       5916,  2101.9,   1.8768,  34.6119,2,   34.612,2,       88,2,    86.9,2,  160.86,2,    40.1,2,       0,2,    2.86,2,   0.021,2,   0.012,2,   0.005,2,        0,2,  2363.6,2, 2411.66,2,   7.4515,2,       25,-999.000,9,-999.0000,9, -999.00,9, -999.00,9,  -999.0,9,  -999.0,-999.000,9,-999.000,     -999.0,9, -999.00,9, -999.00,9, -999.00,9,     -999.0,9,  -999.0,9, 20130422,     1129,  30.0013,   166.06,    34.7752,2,     -999.0,9,     -999.0,9,     1.8771,2,     -999.0,9,     -999.0,9,-999.0000, -999.00,-999.000
318M20130321,       P02W,      54,          1,         12,         12,2,20130422,       1011,    30.0013,     166.06,       5916,  2358.2,    1.748,  34.6326,2,  34.6328,2,    103.8,2,   102.2,2,  158.62,2,    39.1,2,       0,2,    2.78,2,-999.000,9,-999.000,9,-999.000,9,-999.0000,9,  -999.0,9, -999.00,9,-999.0000,9,  -999.00,-999.000,9,-999.0000,9, -999.00,9, -999.00,9,  -999.0,9,  -999.0,-999.000,9,-999.000,     -999.0,9, -999.00,9, -999.00,9, -999.00,9,     -999.0,9,  -999.0,9, 20130422,     1124,  30.0013,   166.06,    34.7961,2,     -999.0,9,     -999.0,9,     1.7481,2,     -999.0,9,     -999.0,9,-999.0000, -999.00,-999.000
318M20130321,       P02W,      54,          1,         11,         11,2,20130422,       1011,    30.0013,     166.06,       5916,    2614,    1.658,  34.6486,2,  34.6482,2,    117.7,2,   116.7,2,  155.69,2,   38.18,2,       0,2,    2.72,2,   0.026,2,   0.012,2,   0.008,2,        0,2,  2347.7,6, 2415.96,2,   7.5081,2,       25,-999.000,9,-999.0000,9, -999.00,9, -999.00,9,  -999.0,9,  -999.0,-999.000,9,-999.000,     -999.0,9, -999.00,9, -999.00,9, -999.00,9,     -999.0,9,  -999.0,9, 20130422,     1119,  30.0013,   166.06,    34.8115,2,     -999.0,9,     -999.0,9,     1.6577,2,     -999.0,9,     -999.0,9,-999.0000, -999.00,-999.000
318M20130321,       P02W,      54,          1,         10,         10,2,20130422,       1011,    30.0013,     166.06,       5916,  2866.6,   1.5889,  34.6601,2,  34.6598,2,    125.9,2,   127.2,2,  153.54,2,   37.49,2,       0,2,    2.66,2,-999.000,9,-999.000,9,-999.000,9,-999.0000,9,  -999.0,9, -999.00,9,-999.0000,9,  -999.00,-999.000,9,-999.0000,9, -999.00,9, -999.00,9,  -999.0,9,  -999.0,-999.000,9,-999.000,     -999.0,9, -999.00,9, -999.00,9, -999.00,9,     -999.0,9,  -999.0,9, 20130422,     1114,  30.0013,   166.06,    34.8232,2,     -999.0,9,     -999.0,9,      1.589,2,     -999.0,9,     -999.0,9,-999.0000, -999.00,-999.000
318M20130321,       P02W,      54,          1,          9,          9,2,20130422,       1011,    30.0013,     166.06,       5916,  3138.9,   1.5429,  34.6676,2,  34.6668,2,    132.8,2,   133.4,2,  152.37,2,   37.06,2,       0,2,    2.63,2,   0.028,2,   0.010,2,   0.004,2,        0,2,  -999.0,9, -999.00,9,-999.0000,9,  -999.00,-999.000,9,-999.0000,9, -999.00,9, -999.00,9,  -999.0,9,  -999.0,-999.000,9,-999.000,     -999.0,9, -999.00,9, -999.00,9, -999.00,9,     -999.0,9,  -999.0,9, 20130422,     1109,  30.0012,   166.06,    34.8303,2,     -999.0,9,     -999.0,9,     1.5432,2,     -999.0,9,     -999.0,9,-999.0000, -999.00,-999.000
318M20130321,       P02W,      54,          1,          8,          8,2,20130422,       1011,    30.0013,     166.06,       5916,  3445.9,   1.5024,  34.6751,2,  34.6743,2,      141,2,   141.8,2,   150.8,2,   36.51,2,       0,2,     2.6,2,-999.000,9,-999.000,9,-999.000,9,-999.0000,9,  2331.7,2, 2415.06,2,   7.5531,2,       25,-999.000,9,-999.0000,9, -999.00,9, -999.00,9,  -999.0,9,  -999.0,-999.000,9,-999.000,     -999.0,9, -999.00,9, -999.00,9, -999.00,9,     -999.0,9,  -999.0,9, 20130422,     1103,  30.0013, 166.0601,    34.8378,2,     -999.0,9,     -999.0,9,     1.5024,2,     -999.0,9,     -999.0,9,-999.0000, -999.00,-999.000