BOTTLE,20220817CCHSIOAMB
EXPOCODE,SECT_ID,STNNBR,CASTNO,SAMPNO,BTLNBR,BTLNBR_FLAG_W,DATE,TIME,LATITUDE,LONGITUDE,DEPTH,CTDPRS,CTDTMP,CTDSAL,CTDSAL_FLAG_W,SALNTY,SALNTY_FLAG_W,CTDOXY,CTDOXY_FLAG_W,OXYGEN,OXYGEN_FLAG_W,SILCAT,SILCAT_FLAG_W,NITRAT,NITRAT_FLAG_W,NITRIT,NITRIT_FLAG_W,PHSPHT,PHSPHT_FLAG_W,CFC-11,CFC-11_FLAG_W,CFC-12,CFC-12_FLAG_W,CFC113,CFC113_FLAG_W,SF6,SF6_FLAG_W,TCARBN,TCARBN_FLAG_W,ALKALI,ALKALI_FLAG_W,PH_TOT,PH_TOT_FLAG_W,PH_TMP,TRITUM,TRITUM_FLAG_W,HELIUM,HELIUM_FLAG_W,DELHE3,DELHE3_FLAG_W,DELC13,DELC13_FLAG_W,DELC14,DELC14_FLAG_W,C14ERR,NEON,NEON_FLAG_W,NEONER,I-129,I-129_FLAG_W,SR-90,SR-90_FLAG_W,DOC,DOC_FLAG_W,TDN,TDN_FLAG_W,CALCIUM,CALCIUM_FLAG_W,D15N_NO3,D15N_NO3_FLAG_W,BTL_DATE,BTL_TIME,BTL_LAT,BTL_LON,SALTREF,SALTREF_FLAG_W,CS-137,CS-137_FLAG_W,CS-134,CS-134_FLAG_W,REFTMP,REFTMP_FLAG_W,LAB_DEN,LAB_DEN_FLAG_W,D18O_NO3,D18O_NO3_FLAG_W,HELIER,DELHER,TRITER
,,,,,,,,,,,METERS,DBAR,ITS-90,PSS-78,,PSS-78,,UMOL/KG,,UMOL/KG,,UMOL/KG,,UMOL/KG,,UMOL/KG,,UMOL/KG,,PMOL/KG,,PMOL/KG,,PMOL/KG,,FMOL/KG,,UMOL/KG,,UMOL/KG,,,,DEG C,TU,,NMOL/KG,,PERCNT,,/MILLE,,/MILLE,,/MILLE,NMOL/KG,,NMOL/KG,BQ/M^3,,DM/.1MG,,UMOL/KG,,UMOL/KG,,MMOL/KG,,/MILLE,,,,,,G/KG,,BQ/M^3,,BQ/M^3,,ITS-90,,,,/MILLE,,NMOL/KG,PERCNT,TU
318M20130321,       P02E,     138,          1,         36,         36,2,20130528,       0211,    29.9999,  -125.6835,       4214,     2.4,  16.6905,  33.5221,2,  33.5217,2,    246.6,2,     247,2,    2.44,2,       0,2,       0,2,    0.25,2,   2.415,2,   1.408,2,-999.000,1,   1.5816,2,  2022.5,2, 2233.79,2,   7.9141,2,       25,-999.000,9,-999.0000,9, -999.00,9, -999.00,9,  -999.0,9,  -999.0,-999.000,9,-999.000,     -999.0,1, -999.00,9, -999.00,9, -999.00,9,     -999.0,9,  -999.0,9, 20130528,      359,  29.9993,-125.6834,    33.6798,2,     -999.0,9,     -999.0,9,    16.6905,2,     -999.0,1,     -999.0,9,-999.0000, -999.00,-999.000
318M20130321,       P02E,     138,          1,         34,         34,2,20130528,       0211,    29.9999,  -125.6835,       4214,    26.9,  16.4772,  33.4752,2,  33.4854,2,    249.1,2,   247.5,2,    2.34,2,       0,2,       0,2,    0.25,2,   2.432,2,   1.415,2,-999.000,1,   1.5609,2,  -999.0,9, -999.00,9,-999.0000,9,  -999.00,-999.000,9,-999.0000,9, -999.00,9, -999.00,9,  -999.0,9,  -999.0,-999.000,9,-999.000,     -999.0,1, -999.00,9, -999.00,9, -999.00,9,     -999.0,9,  -999.0,9, 20130528,      357,  29.9993,-125.6833,    33.6433,2,     -999.0,9,     -999.0,9,    16.4774,2,     -999.0,9,     -999.0,9,-999.0000, -999.00,-999.000
318M20130321,       P02E,     138,          1,         33,         33,2,20130528,       0211,    29.9999,  -125.6835,       4214,    50.8,  16.4622,  33.5274,2,  33.5204,2,    250.1,2,   248.2,2,    2.34,2,       0,2,       0,2,    0.24,2,-999.000,9,-999.000,9,-999.000,9,-999.0000,9,  2021.5,2, 2233.99,2,   7.9136,6,       25,-999.000,9,-999.0000,9, -999.00,9, -999.00,9,  -999.0,9,  -999.0,-999.000,9,-999.000,     -999.0,1, -999.00,9, -999.00,9, -999.00,9,     -999.0,9,  -999.0,9, 20130528,      355,  29.9994,-125.6833,    33.6784,2,     -999.0,9,     -999.0,9,    16.4613,2,     -999.0,1,     -999.0,9,-999.0000, -999.00,-999.000
318M20130321,       P02E,     138,          1,         32,         32,2,20130528,       0211,    29.9999,  -125.6835,       4214,    75.6,  15.1885,  33.4652,2,  33.4637,2,    255.7,2,     256,2,    2.34,2,       0,2,       0,2,    0.24,2,   2.577,2,   1.494,2,-999.000,1,   1.5489,2,  -999.0,9, -999.00,9,-999.0000,9,  -999.00,-999.000,9,-999.0000,9, -999.00,9, -999.00,9,  -999.0,9,  -999.0,-999.000,9,-999.000,     -999.0,1, -999.00,9, -999.00,9, -999.00,9,     -999.0,9,  -999.0,9, 20130528,      353,  29.9996,-125.6833,    33.6215,2,     -999.0,9,     -999.0,9,    15.1948,2,     -999.0,9,     -999.0,9,-999.0000, -999.00,-999.000
318M20130321,       P02E,     138,          1,         31,         31,2,20130528,       0211,    29.9999,  -125.6835,       4214,   100.5,  14.0414,  33.3121,2,  33.3135,2,    258.8,2,   258.6,2,    2.54,2,       0,2,       0,2,    0.28,2,-999.000,9,-999.000,9,-999.000,9,-999.0000,9,  2017.8,2, 2221.69,6,   7.8985,2,       25,-999.000,9,-999.0000,9, -999.00,9, -999.00,9,  -999.0,9,  -999.0,-999.000,9,-999.000,     -999.0,1, -999.00,9, -999.00,9, -999.00,9,     -999.0,9,  -999.0,9, 20130528,      351,  29.9997,-125.6834,    33.4706,2,     -999.0,9,     -999.0,9,    14.0384,2,     -999.0,1,     -999.0,9,-999.0000, -999.00,-999.000
318M20130321,       P02E,     138,          1,         30,         30,2,20130528,       0211,    29.9999,  -125.6835,       4214,   150.6,   11.664,  33.3752,2,  33.3756,2,    227.3,2,   226.1,2,    6.84,2,    7.06,2,    0.04,2,    0.73,2,   3.051,2,   1.728,2,-999.000,1,   1.6755,2,  2062.9,2, 2216.49,2,   7.7785,2,       25,-999.000,9,-999.0000,9, -999.00,9, -999.00,9,  -999.0,9,  -999.0,-999.000,9,-999.000,     -999.0,1, -999.00,9, -999.00,9, -999.00,9,     -999.0,9,  -999.0,9, 20130528,      349,  29.9998,-125.6834,     33.533,2,     -999.0,9,     -999.0,9,    11.6664,2,     -999.0,1,     -999.0,9,-999.0000, -999.00,-999.000
318M20130321,       P02E,     138,          1,         29,         29,2,20130528,       0211,    29.9999,  -125.6835,       4214,   201.6,   9.8093,  33.6411,2,  33.6361,2,    161.7,2,   162.2,2,   19.54,2,   19.86,2,    0.01,2,    1.57,2,-999.000,9,-999.000,9,-999.000,9,-999.0000,9,  2144.8,2, 2231.69,2,   7.5936,2,       25,-999.000,9,-999.0000,9, -999.00,9, -999.00,9,  -999.0,9,  -999.0,-999.000,9,-999.000,     -999.0,1, -999.00,9, -999.00,9, -999.00,9,     -999.0,9,  -999.0,9, 20130528,      348,  29.9999,-125.6834,    33.7947,2,     -999.0,9,     -999.0,9,     9.8188,2,     -999.0,1,     -999.0,9,-999.0000, -999.00,-999.000
318M20130321,       P02E,     138,          1,         27,         27,2,20130528,       0211,    29.9999,  -125.6835,       4214,   249.9,   8.7617,  33.9313,2,  33.9287,2,      119,2,   122.6,2,   30.67,2,   26.15,2,    0.01,2,    1.98,2,   2.920,2,   1.566,2,-999.000,1,   0.9983,2,  2192.2,2,  2251.9,2,   7.5112,2,       25,-999.000,9,-999.0000,9, -999.00,9, -999.00,9,  -999.0,9,  -999.0,-999.000,9,-999.000,     -999.0,1, -999.00,9, -999.00,9, -999.00,9,     -999.0,9,  -999.0,9, 20130528,      346,  29.9999,-125.6834,    34.0887,2,     -999.0,9,     -999.0,9,     8.7577,2,     -999.0,1,     -999.0,9,-999.0000, -999.00,-999.000
318M20130321,       P02E,     138,          1,         26,         26,2,20130528,       0211,    29.9999,  -125.6835,       4214,   303.3,   7.8998,  34.0301,2,  34.0302,2,     99.5,2,    98.2,2,   40.62,2,   29.85,2,    0.01,2,    2.25,2,-999.000,9,-999.000,9,-999.000,9,-999.0000,9,  2221.5,2,    2265,2,   7.4544,2,       25,-999.000,9,-999.0000,9, -999.00,9, -999.00,9,  -999.0,9,  -999.0,-999.000,9,-999.000,     -999.0,1, -999.00,9, -999.00,9, -999.00,9,     -999.0,9,  -999.0,9, 20130528,      344,  29.9998,-125.6835,    34.1906,2,     -999.0,9,     -999.0,9,     7.9038,2,     -999.0,1,     -999.0,9,-999.0000, -999.00,-999.000
318M20130321,       P02E,     138,          1,         25,         25,2,20130528,       0211,    29.9999,  -125.6835,       4214,   352.1,   7.3418,  34.0936,2,  34.0932,2,     67.6,2,    65.6,2,   50.68,2,   33.44,2,    0.01,2,    2.55,2,   1.936,2,   0.977,2,-999.000,1,    0.398,2,  -999.0,9, -999.00,9,-999.0000,9,  -999.00,-999.000,9,-999.0000,9, -999.00,9, -999.00,9,  -999.0,9,  -999.0,-999.000,9,-999.000,     -999.0,1, -999.00,9, -999.00,9, -999.00,9,     -999.0,9,  -999.0,9, 20130528,      342,  29.9997,-125.6835,     34.254,2,     -999.0,9,     -999.0,9,     7.3415,2,     -999.0,9,     -999.0,9,-999.0000, -999.00,-999.000
318M20130321,       P02E,     138,          1,         24,         24,2,20130528,       0211,    29.9999,  -125.6835,       4214,   401.8,   6.8923,    34.12,2,  34.1211,2,     48.7,2,    48.8,2,   57.81,2,   35.59,2,    0.01,2,    2.72,2,-999.000,9,-999.000,9,-999.000,9,-999.0000,9,  2273.4,2, 2286.31,2,   7.3525,6,       25,-999.000,9,-999.0000,9, -999.00,9, -999.00,9,  -999.0,9,  -999.0,-999.000,9,-999.000,     -999.0,1, -999.00,9, -999.00,9, -999.00,9,     -999.0,9,  -999.0,9, 20130528,      340,  29.9998,-125.6832,     34.282,2,     -999.0,9,     -999.0,9,     6.8871,2,     -999.0,1,     -999.0,9,-999.0000, -999.00,-999.000
318M20130321,       P02E,     138,          1,         23,         23,2,20130528,       0211,    29.9999,  -125.6835,       4214,   502.4,   5.9293,  34.2026,2,  34.2017,2,     25.8,2,    25.5,2,   75.18,2,   39.18,2,       0,2,    3.03,2,   0.620,2,   0.303,2,-999.000,1,   0.1071,2,  2306.8,2, 2305.82,2,   7.3104,2,       25,-999.000,9,-999.0000,9, -999.00,9, -999.00,9,  -999.0,9,  -999.0,-999.000,9,-999.000,     -999.0,1, -999.00,9, -999.00,9, -999.00,9,     -999.0,9,  -999.0,9, 20130528,      337,       30,-125.6832,    34.3629,2,     -999.0,9,     -999.0,9,     5.9303,2,     -999.0,1,     -999.0,9,-999.0000, -999.00,-999.000
318M20130321,       P02E,     138,          1,         22,         22,2,20130528,       0211,    29.9999,  -125.6835,       4214,   604.2,   5.3657,  34.2839,2,   34.284,2,       15,2,      15,2,   87.77,2,   40.98,2,       0,2,    3.17,2,-999.000,9,-999.000,9,-999.000,9,-999.0000,9,  2329.5,2, 2324.53,2,   7.3011,2,       25,-999.000,9,-999.0000,9, -999.00,9, -999.00,9,  -999.0,9,  -999.0,-999.000,9,-999.000,     -999.0,1, -999.00,9, -999.00,9, -999.00,9,     -999.0,9,  -999.0,9, 20130528,      334,       30,-125.6834,    34.4457,2,     -999.0,9,     -999.0,9,     5.3655,2,     -999.0,1,     -999.0,9,-999.0000, -999.00,-999.000
318M20130321,       P02E,     138,          1,         21,         21,2,20130528,       0211,    29.9999,  -125.6835,       4214,   704.2,   4.9475,  34.3487,2,  34.3486,2,     12.2,2,    12.1,2,   96.46,2,   42.13,2,       0,2,    3.23,2,   0.064,2,   0.039,2,-999.000,1,        0,2,    2339,2, 2338.63,2,   7.3051,2,       25,-999.000,9,-999.0000,9, -999.00,9, -999.00,9,  -999.0,9,  -999.0,-999.000,9,-999.000,     -999.0,1, -999.00,9, -999.00,9, -999.00,9,     -999.0,9,  -999.0,9, 20130528,      332,       30,-125.6834,    34.5105,2,     -999.0,9,     -999.0,9,     4.9453,2,     -999.0,1,     -999.0,9,-999.0000, -999.00,-999.000
318M20130321,       P02E,     138,          1,         20,         20,2,20130528,       0211,    29.9999,  -125.6835,       4214,   806.3,   4.5815,  34.4014,2,  34.4019,2,     14.4,2,    16.5,2,  104.36,2,   42.82,2,       0,2,    3.24,2,-999.000,9,-999.000,9,-999.000,9,-999.0000,9,  2349.4,2, 2350.33,2,   7.3136,2,       25,-999.000,9,-999.0000,9, -999.00,9, -999.00,9,  -999.0,9,  -999.0,-999.000,9,-999.000,     -999.0,1, -999.00,9, -999.00,9, -999.00,9,     -999.0,9,  -999.0,9, 20130528,      329,       30,-125.6835,    34.5642,2,     -999.0,9,     -999.0,9,     4.5817,2,     -999.0,1,     -999.0,9,-999.0000, -999.00,-999.000
318M20130321,       P02E,     138,          1,         19,         19,2,20130528,       0211,    29.9999,  -125.6835,       4214,     908,    4.246,  34.4458,2,  34.4463,2,     19.3,2,    18.9,2,  111.68,2,    43.1,2,       0,2,    3.25,2,   0.021,2,   0.018,2,-999.000,1,        0,2,  -999.0,9, -999.00,9,-999.0000,9,  -999.00,-999.000,9,-999.0000,9, -999.00,9, -999.00,9,  -999.0,9,  -999.0,-999.000,9,-999.000,     -999.0,1, -999.00,9, -999.00,9, -999.00,9,     -999.0,9,  -999.0,9, 20130528,      326,       30,-125.6835,    34.6087,2,     -999.0,9,     -999.0,9,     4.2464,2,     -999.0,1,     -999.0,9,-999.0000, -999.00,-999.000
318M20130321,       P02E,     138,          1,         18,         18,2,20130528,       0211,    29.9999,  -125.6835,       4214,  1009.8,   3.9611,  34.4746,2,   34.475,2,     25.2,2,    24.7,2,  118.02,2,   43.17,2,       0,2,    3.22,2,-999.000,9,-999.000,9,-999.000,9,-999.0000,9,  2360.3,6, 2368.44,2,   7.3368,6,       25,-999.000,9,-999.0000,9, -999.00,9, -999.00,9,  -999.0,9,  -999.0,-999.000,9,-999.000,     -999.0,1, -999.00,9, -999.00,9, -999.00,9,     -999.0,9,  -999.0,9, 20130528,      323,  29.9999,-125.6835,    34.6375,2,     -999.0,9,     -999.0,9,     3.9602,2,     -999.0,1,     -999.0,9,-999.0000, -999.00,-999.000
318M20130321,       P02E,     138,          1,         17,         17,2,20130528,       0211,    29.9999,  -125.6835,       4214,  1110.6,   3.7072,  34.4983,2,  34.4981,2,     30.6,2,    29.7,2,  123.39,2,   43.12,2,       0,2,     3.2,2,   0.018,2,   0.018,2,-999.000,1,        0,2,  -999.0,9, -999.00,9,-999.0000,9,  -999.00,-999.000,9,-999.0000,9, -999.00,9, -999.00,9,  -999.0,9,  -999.0,-999.000,9,-999.000,     -999.0,1, -999.00,9, -999.00,9, -999.00,9,     -999.0,9,  -999.0,9, 20130528,      321,  29.9999,-125.6834,    34.6608,2,     -999.0,9,     -999.0,9,     3.7069,2,     -999.0,9,     -999.0,9,-999.0000, -999.00,-999.000
318M20130321,       P02E,     138,          1,         16,         16,2,20130528,       0211,    29.9999,  -125.6835,       4214,  1211.9,   3.4428,  34.5205,2,  34.5203,2,     36.9,2,    36.8,2,  129.44,2,   42.91,2,       0,2,    3.18,2,-999.000,9,-999.000,9,-999.000,9,-999.0000,9,  2367.2,2, 2381.65,2,   7.3598,2,       25,-999.000,9,-999.0000,9, -999.00,9, -999.00,9,  -999.0,9,  -999.0,-999.000,9,-999.000,     -999.0,1, -999.00,9, -999.00,9, -999.00,9,     -999.0,9,  -999.0,9, 20130528,      318,       30,-125.6833,    34.6831,2,     -999.0,9,     -999.0,9,     3.4447,2,     -999.0,1,     -999.0,9,-999.0000, -999.00,-999.000
318M20130321,       P02E,     138,          1,         15,         15,2,20130528,       0211,    29.9999,  -125.6835,       4214,  1314.6,   3.2032,   34.538,2,  34.5378,2,     42.3,2,    41.8,2,   135.2,2,   42.72,2,       0,2,    3.15,2,   0.012,2,   0.012,2,-999.000,1,        0,2,  -999.0,9, -999.00,9,-999.0000,9,  -999.00,-999.000,9,-999.0000,9, -999.00,9, -999.00,9,  -999.0,9,  -999.0,-999.000,9,-999.000,     -999.0,1, -999.00,9, -999.00,9, -999.00,9,     -999.0,9,  -999.0,9, 20130528,      315,  29.9999,-125.6834,    34.7007,2,     -999.0,9,     -999.0,9,      3.201,2,     -999.0,9,     -999.0,9,-999.0000, -999.00,-999.000
318M20130321,       P02E,     138,          1,         14,         14,2,20130528,       0211,    29.9999,  -125.6835,       4214,    1414,   3.0211,  34.5506,2,    34.55,2,     45.6,2,    48.1,2,  139.69,2,   42.55,2,       0,2,    3.12,2,-999.000,9,-999.000,9,-999.000,9,-999.0000,9,  -999.0,9, -999.00,9,-999.0000,9,  -999.00,-999.000,9,-999.0000,9, -999.00,9, -999.00,9,  -999.0,9,  -999.0,-999.000,9,-999.000,     -999.0,1, -999.00,9, -999.00,9, -999.00,9,     -999.0,9,  -999.0,9, 20130528,      312,       30,-125.6834,    34.7129,2,     -999.0,9,     -999.0,9,     3.0207,2,     -999.0,9,     -999.0,9,-999.0000, -999.00,-999.000
318M20130321,       P02E,     138,          1,         13,         13,2,20130528,       0211,    29.9999,  -125.6835,       4214,  1514.3,   2.8407,  34.5639,2,  34.5641,2,     50.2,2,    49.8,2,  144.67,2,   42.37,2,       0,2,     3.1,2,   0.010,2,   0.010,2,-999.000,1,        0,2,  2372.9,2, 2398.65,2,   7.3861,2,       25,-999.000,9,-999.0000,9, -999.00,9, -999.00,9,  -999.0,9,  -999.0,-999.000,9,-999.000,     -999.0,1, -999.00,9, -999.00,9, -999.00,9,     -999.0,9,  -999.0,9, 20130528,      309,       30,-125.6833,    34.7271,2,     -999.0,9,     -999.0,9,     2.8392,2,     -999.0,1,     -999.0,9,-999.0000, -999.00,-999.000
318M20130321,       P02E,     138,          1,         12,         12,2,20130528,       0211,    29.9999,  -125.6835,       4214,  1616.2,   2.6497,  34.5781,2,  34.5785,2,     56.4,2,    56.1,2,  149.35,2,   41.98,2,       0,2,    3.07,2,-999.000,9,-999.000,9,-999.000,9,-999.0000,9,  2373.4,2, 2403.85,2,   7.3986,2,       25,-999.000,9,-999.0000,9, -999.00,9, -999.00,9,  -999.0,9,  -999.0,-999.000,9,-999.000,     -999.0,1, -999.00,9, -999.00,9, -999.00,9,     -999.0,9,  -999.0,9, 20130528,      307,  29.9999,-125.6833,    34.7415,2,     -999.0,9,     -999.0,9,     2.6482,2,     -999.0,1,     -999.0,9,-999.0000, -999.00,-999.000
318M20130321,       P02E,     138,          1,         11,         11,2,20130528,       0211,    29.9999,  -125.6835,       4214,  1819.1,   2.3332,  34.6039,2,   34.604,2,     69.7,2,    68.4,2,  156.08,2,   41.21,2,       0,2,       3,2,   0.006,2,   0.007,2,-999.000,1,        0,2,    2375,2, 2412.66,2,    7.424,2,       25,-999.000,9,-999.0000,9, -999.00,9, -999.00,9,  -999.0,9,  -999.0,-999.000,9,-999.000,     -999.0,1, -999.00,9, -999.00,9, -999.00,9,     -999.0,9,  -999.0,9, 20130528,      302,  29.9997,-125.6834,    34.7672,2,     -999.0,9,     -999.0,9,     2.3334,2,     -999.0,1,     -999.0,9,-999.0000, -999.00,-999.000
318M20130321,       P02E,     138,          1,         10,         10,2,20130528,       0211,    29.9999,  -125.6835,       4214,  2021.5,   2.1263,  34.6224,2,  34.6232,2,     81.1,2,    81.7,2,  160.47,2,   40.55,2,       0,2,    2.93,2,-999.000,9,-999.000,9,-999.000,9,-999.0000,9,  2370.1,2, 2416.86,2,   7.4472,2,       25,-999.000,9,-999.0000,9, -999.00,9, -999.00,9,  -999.0,9,  -999.0,-999.000,9,-999.000,     -999.0,1, -999.00,9, -999.00,9, -999.00,9,     -999.0,9,  -999.0,9, 20130528,      258,  29.9997,-125.6833,    34.7865,2,     -999.0,9,     -999.0,9,     2.1255,2,     -999.0,1,     -999.0,9,-999.0000, -999.00,-999.000
318M20130321,       P02E,     138,          1,          9,          9,2,20130528,       0211,    29.9999,  -125.6835,       4214,  2275.9,   1.9376,  34.6406,2,  34.6411,2,       93,2,    93.3,2,  162.72,2,   39.79,2,       0,2,    2.84,2,   0.003,2,   0.004,2,-999.000,1,        0,2,  -999.0,9, -999.00,9,-999.0000,9,  -999.00,-999.000,9,-999.0000,9, -999.00,9, -999.00,9,  -999.0,9,  -999.0,-999.000,9,-999.000,     -999.0,1, -999.00,9, -999.00,9, -999.00,9,     -999.0,9,  -999.0,9, 20130528,      253,  29.9998,-125.6833,    34.8045,2,     -999.0,9,     -999.0,9,     1.9376,2,     -999.0,9,     -999.0,9,-999.0000, -999.00,-999.000
318M20130321,       P02E,     138,          1,          8,          8,2,20130528,       0211,    29.9999,  -125.6835,       4214,  2531.7,   1.7911,  34.6511,2,  34.6515,2,    103.8,2,   102.9,2,  165.74,2,   39.24,2,       0,2,     2.8,2,-999.000,9,-999.000,9,-999.000,9,-999.0000,9,  2363.3,2, 2424.86,2,   7.4914,2,       25,-999.000,9,-999.0000,9, -999.00,9, -999.00,9,  -999.0,9,  -999.0,-999.000,9,-999.000,     -999.0,1, -999.00,9, -999.00,9, -999.00,9,     -999.0,9,  -999.0,9, 20130528,      247,       30,-125.6833,    34.8149,2,     -999.0,9,     -999.0,9,     1.7911,2,     -999.0,1,     -999.0,9,-999.0000, -999.00,-999.000
318M20130321,       P02E,     138,          1,          7,          7,2,20130528,       0211,    29.9999,  -125.6835,       4214,  2785.7,    1.672,  34.6599,2,  34.6596,2,    111.1,2,   110.9,2,  168.18,2,   38.71,2,       0,2,    2.75,2,   0.004,2,   0.006,2,-999.000,1,        0,2,  -999.0,9, -999.00,9,-999.0000,9,  -999.00,-999.000,9,-999.0000,9, -999.00,9, -999.00,9,  -999.0,9,  -999.0,-999.000,9,-999.000,     -999.0,1, -999.00,9, -999.00,9, -999.00,9,     -999.0,9,  -999.0,9, 20130528,      242,  29.9999,-125.6834,     34.823,2,     -999.0,9,     -999.0,9,     1.6722,2,     -999.0,9,     -999.0,9,-999.0000, -999.00,-999.000
318M20130321,       P02E,     138,          1,          6,          6,2,20130528,       0211,    29.9999,  -125.6835,       4214,  3040.8,   1.5911,  34.6669,2,  34.6671,2,    118.3,2,   118.5,2,  169.94,2,   38.24,2,       0,2,     2.7,2,-999.000,9,-999.000,9,-999.000,9,-999.0000,9,  2355.7,2, 2427.56,6,     7.52,2,       25,-999.000,9,-999.0000,9, -999.00,9, -999.00,9,  -999.0,9,  -999.0,-999.000,9,-999.000,     -999.0,1, -999.00,9, -999.00,9, -999.00,9,     -999.0,9,  -999.0,9, 20130528,      236,  29.9998,-125.6834,    34.8305,2,     -999.0,9,     -999.0,9,     1.5913,2,     -999.0,1,     -999.0,9,-999.0000, -999.00,-999.000