BOTTLE,20220817CCHSIOAMB
EXPOCODE,SECT_ID,STNNBR,CASTNO,SAMPNO,BTLNBR,BTLNBR_FLAG_W,DATE,TIME,LATITUDE,LONGITUDE,DEPTH,CTDPRS,CTDTMP,CTDSAL,CTDSAL_FLAG_W,SALNTY,SALNTY_FLAG_W,CTDOXY,CTDOXY_FLAG_W,OXYGEN,OXYGEN_FLAG_W,SILCAT,SILCAT_FLAG_W,NITRAT,NITRAT_FLAG_W,NITRIT,NITRIT_FLAG_W,PHSPHT,PHSPHT_FLAG_W,CFC-11,CFC-11_FLAG_W,CFC-12,CFC-12_FLAG_W,CFC113,CFC113_FLAG_W,SF6,SF6_FLAG_W,TCARBN,TCARBN_FLAG_W,ALKALI,ALKALI_FLAG_W,PH_TOT,PH_TOT_FLAG_W,PH_TMP,TRITUM,TRITUM_FLAG_W,HELIUM,HELIUM_FLAG_W,DELHE3,DELHE3_FLAG_W,DELC13,DELC13_FLAG_W,DELC14,DELC14_FLAG_W,C14ERR,NEON,NEON_FLAG_W,NEONER,I-129,I-129_FLAG_W,SR-90,SR-90_FLAG_W,DOC,DOC_FLAG_W,TDN,TDN_FLAG_W,CALCIUM,CALCIUM_FLAG_W,D15N_NO3,D15N_NO3_FLAG_W,BTL_DATE,BTL_TIME,BTL_LAT,BTL_LON,SALTREF,SALTREF_FLAG_W,CS-137,CS-137_FLAG_W,CS-134,CS-134_FLAG_W,REFTMP,REFTMP_FLAG_W,LAB_DEN,LAB_DEN_FLAG_W,D18O_NO3,D18O_NO3_FLAG_W,HELIER,DELHER,TRITER
,,,,,,,,,,,METERS,DBAR,ITS-90,PSS-78,,PSS-78,,UMOL/KG,,UMOL/KG,,UMOL/KG,,UMOL/KG,,UMOL/KG,,UMOL/KG,,PMOL/KG,,PMOL/KG,,PMOL/KG,,FMOL/KG,,UMOL/KG,,UMOL/KG,,,,DEG C,TU,,NMOL/KG,,PERCNT,,/MILLE,,/MILLE,,/MILLE,NMOL/KG,,NMOL/KG,BQ/M^3,,DM/.1MG,,UMOL/KG,,UMOL/KG,,MMOL/KG,,/MILLE,,,,,,G/KG,,BQ/M^3,,BQ/M^3,,ITS-90,,,,/MILLE,,NMOL/KG,PERCNT,TU
318M20130321,       P02W,      38,          1,          7,          7,2,20130416,       0724,    29.9999,   151.2559,       5993,  3647.2,   1.4878,  34.6782,2,  34.6789,2,    144.7,2,   144.8,2,  151.58,2,   36.45,2,       0,2,    2.57,2,   0.001,2,   0.006,2,   0.001,2,     0.05,2,  -999.0,9, -999.00,9,-999.0000,9,  -999.00,-999.000,9,-999.0000,9, -999.00,9, -999.00,9,  -999.0,9,  -999.0,-999.000,9,-999.000,     -999.0,9, -999.00,9, -999.00,9, -999.00,9,     -999.0,9,  -999.0,1, 20130416,      814,  30.0001,  151.256,    34.8424,2,     -999.0,9,     -999.0,9,     1.4876,2,     -999.0,9,     -999.0,1,-999.0000, -999.00,-999.000
318M20130321,       P02W,      38,          1,          6,          6,2,20130416,       0724,    29.9999,   151.2559,       5993,  4056.1,   1.4697,  34.6841,2,  34.6848,2,      151,2,   152.3,2,  148.85,2,   35.93,2,       0,2,    2.53,2,-999.000,9,-999.000,9,-999.000,9,-999.0000,9,  2320.6,6, 2411.76,2,   7.5673,2,       25,-999.000,9,-999.0000,9, -999.00,9, -999.00,9,  -999.0,9,  -999.0,-999.000,9,-999.000,     -999.0,9, -999.00,9, -999.00,9, -999.00,9,     -999.0,9,  -999.0,1, 20130416,      807,  29.9998, 151.2559,    34.8483,2,     -999.0,9,     -999.0,9,     1.4701,2,     -999.0,9,     -999.0,1,-999.0000, -999.00,-999.000
318M20130321,       P02W,      38,          1,          5,         37,2,20130416,       0724,    29.9999,   151.2559,       5993,  4469.7,   1.4773,   34.688,2,  34.6881,2,    157.2,2,   157.5,2,  146.41,2,   35.55,2,       0,2,     2.5,2,   0.001,2,   0.159,2,   0.003,2,     0.06,2,  -999.0,9, -999.00,9,-999.0000,9,  -999.00,-999.000,9,-999.0000,9, -999.00,9, -999.00,9,  -999.0,9,  -999.0,-999.000,9,-999.000,     -999.0,9, -999.00,9, -999.00,9, -999.00,9,     -999.0,9,  -999.0,1, 20130416,      759,  29.9999,  151.256,    34.8517,2,     -999.0,9,     -999.0,9,     1.4775,2,     -999.0,9,     -999.0,1,-999.0000, -999.00,-999.000
318M20130321,       P02W,      38,          1,          4,          4,4,20130416,       0724,    29.9999,   151.2559,       5993,  4877.6,   1.4954,  34.6908,2,  34.6934,4,    162.7,2,   165.3,4,  141.63,4,   34.97,4,       0,4,    2.45,4,-999.000,9,-999.000,9,-999.000,9,-999.0000,9,  -999.0,9, -999.00,9,-999.0000,9,  -999.00,-999.000,9,-999.0000,9, -999.00,9, -999.00,9,  -999.0,9,  -999.0,-999.000,9,-999.000,     -999.0,9, -999.00,9, -999.00,9, -999.00,9,     -999.0,9,  -999.0,1, 20130416,      750,       30,  151.256,     34.857,4,     -999.0,9,     -999.0,9,     1.4958,2,     -999.0,9,     -999.0,1,-999.0000, -999.00,-999.000
318M20130321,       P02W,      38,          1,          3,          3,2,20130416,       0724,    29.9999,   151.2559,       5993,  5291.4,    1.526,  34.6928,2,   34.693,2,    165.8,2,   165.3,2,  141.63,2,   34.98,2,       0,2,    2.45,2,   0.008,2,   0.010,2,   0.000,2,        0,2,  2308.3,2, 2406.55,2,   7.5848,6,       25,-999.000,9,-999.0000,9, -999.00,9, -999.00,9,  -999.0,9,  -999.0,-999.000,9,-999.000,     -999.0,9, -999.00,9, -999.00,9, -999.00,9,     -999.0,9,  -999.0,1, 20130416,      742,  29.9999, 151.2561,    34.8566,2,     -999.0,9,     -999.0,9,     1.5261,2,     -999.0,9,     -999.0,1,-999.0000, -999.00,-999.000
318M20130321,       P02W,      38,          1,          2,          2,2,20130416,       0724,    29.9999,   151.2559,       5993,  5708.1,   1.5642,   34.694,2,   34.695,2,      169,2,   169.5,2,   138.5,2,   34.69,2,       0,2,    2.43,2,-999.000,9,-999.000,9,-999.000,9,-999.0000,9,  2306.5,2, 2403.95,6,    7.589,2,       25,-999.000,9,-999.0000,9, -999.00,9, -999.00,9,  -999.0,9,  -999.0,-999.000,9,-999.000,     -999.0,9, -999.00,9, -999.00,9, -999.00,9,     -999.0,9,  -999.0,1, 20130416,      733,  29.9998, 151.2559,    34.8586,2,     -999.0,9,     -999.0,9,     1.5644,2,     -999.0,9,     -999.0,1,-999.0000, -999.00,-999.000
318M20130321,       P02W,      38,          1,          1,          1,2,20130416,       0724,    29.9999,   151.2559,       5993,  6122.7,   1.6049,  34.6951,2,  34.6958,2,    170.8,2,   170.6,2,  138.31,2,   34.63,2,       0,2,    2.42,2,   0.040,2,   0.027,2,   0.015,2,     0.15,2,  2304.4,6, 2404.45,2,   7.5919,2,       25,-999.000,9,-999.0000,9, -999.00,9, -999.00,9,  -999.0,9,  -999.0,-999.000,9,-999.000,     -999.0,9, -999.00,9, -999.00,9, -999.00,9,     -999.0,9,  -999.0,1, 20130416,      724,  29.9999, 151.2559,    34.8594,2,     -999.0,9,     -999.0,9,      1.605,2,     -999.0,9,     -999.0,1,-999.0000, -999.00,-999.000