BOTTLE,20220817CCHSIOAMB
EXPOCODE,SECT_ID,STNNBR,CASTNO,SAMPNO,BTLNBR,BTLNBR_FLAG_W,DATE,TIME,LATITUDE,LONGITUDE,DEPTH,CTDPRS,CTDTMP,CTDSAL,CTDSAL_FLAG_W,SALNTY,SALNTY_FLAG_W,CTDOXY,CTDOXY_FLAG_W,OXYGEN,OXYGEN_FLAG_W,SILCAT,SILCAT_FLAG_W,NITRAT,NITRAT_FLAG_W,NITRIT,NITRIT_FLAG_W,PHSPHT,PHSPHT_FLAG_W,CFC-11,CFC-11_FLAG_W,CFC-12,CFC-12_FLAG_W,CFC113,CFC113_FLAG_W,SF6,SF6_FLAG_W,TCARBN,TCARBN_FLAG_W,ALKALI,ALKALI_FLAG_W,PH_TOT,PH_TOT_FLAG_W,PH_TMP,TRITUM,TRITUM_FLAG_W,HELIUM,HELIUM_FLAG_W,DELHE3,DELHE3_FLAG_W,DELC13,DELC13_FLAG_W,DELC14,DELC14_FLAG_W,C14ERR,NEON,NEON_FLAG_W,NEONER,I-129,I-129_FLAG_W,SR-90,SR-90_FLAG_W,DOC,DOC_FLAG_W,TDN,TDN_FLAG_W,CALCIUM,CALCIUM_FLAG_W,D15N_NO3,D15N_NO3_FLAG_W,BTL_DATE,BTL_TIME,BTL_LAT,BTL_LON,SALTREF,SALTREF_FLAG_W,CS-137,CS-137_FLAG_W,CS-134,CS-134_FLAG_W,REFTMP,REFTMP_FLAG_W,LAB_DEN,LAB_DEN_FLAG_W,D18O_NO3,D18O_NO3_FLAG_W,HELIER,DELHER,TRITER
,,,,,,,,,,,METERS,DBAR,ITS-90,PSS-78,,PSS-78,,UMOL/KG,,UMOL/KG,,UMOL/KG,,UMOL/KG,,UMOL/KG,,UMOL/KG,,PMOL/KG,,PMOL/KG,,PMOL/KG,,FMOL/KG,,UMOL/KG,,UMOL/KG,,,,DEG C,TU,,NMOL/KG,,PERCNT,,/MILLE,,/MILLE,,/MILLE,NMOL/KG,,NMOL/KG,BQ/M^3,,DM/.1MG,,UMOL/KG,,UMOL/KG,,MMOL/KG,,/MILLE,,,,,,G/KG,,BQ/M^3,,BQ/M^3,,ITS-90,,,,/MILLE,,NMOL/KG,PERCNT,TU
318M20130321,       P02W,      78,          1,         35,         35,2,20130429,       1817,         30,  -177.2689,       5349,     4.3,  18.4478,  34.8926,2,  34.8922,2,    233.4,2,   233.7,2,    2.34,2,       0,2,       0,2,    0.03,2,   2.486,2,   1.525,2,   0.208,2,     1.41,2,  2016.4,6, 2291.61,2,   8.0003,2,       25,-999.000,9,-999.0000,9, -999.00,9, -999.00,9,  -999.0,9,  -999.0,-999.000,9,-999.000,     -999.0,9, -999.00,1, -999.00,9, -999.00,9,     -999.0,9,  -999.0,9, 20130429,     2030,       30,-177.2681,    35.0567,2,     -999.0,1,     -999.0,1,    18.4486,2,     -999.0,9,     -999.0,9,-999.0000, -999.00,-999.000
318M20130321,       P02W,      78,          1,         36,         36,2,20130429,       1817,         30,  -177.2689,       5349,    35.6,  18.4432,  34.8919,2,   34.892,2,    233.8,2,   233.6,2,    2.34,2,       0,2,       0,2,    0.04,2,-999.000,9,-999.000,9,-999.000,9,-999.0000,9,  -999.0,9, -999.00,9,-999.0000,9,  -999.00,-999.000,9,-999.0000,9, -999.00,9, -999.00,9,  -999.0,9,  -999.0,-999.000,9,-999.000,     -999.0,9, -999.00,1, -999.00,9, -999.00,9,     -999.0,9,  -999.0,9, 20130429,     2026,  30.0002, -177.268,    35.0565,2,     -999.0,1,     -999.0,1,    18.4422,2,     -999.0,9,     -999.0,9,-999.0000, -999.00,-999.000
318M20130321,       P02W,      78,          1,         34,         34,2,20130429,       1817,         30,  -177.2689,       5349,    60.9,  18.4399,  34.8903,2,  34.8904,2,    233.1,2,   233.4,2,    2.34,2,       0,2,       0,2,    0.02,2,-999.000,9,-999.000,9,-999.000,9,-999.0000,9,  2016.8,2, 2290.31,2,   8.0001,6,       25,-999.000,9,-999.0000,9, -999.00,9, -999.00,9,  -999.0,9,  -999.0,-999.000,9,-999.000,     -999.0,1, -999.00,1, -999.00,9, -999.00,9,     -999.0,9,  -999.0,9, 20130429,     2025,  30.0005,-177.2678,    35.0549,2,     -999.0,1,     -999.0,1,    18.4398,2,     -999.0,9,     -999.0,9,-999.0000, -999.00,-999.000
318M20130321,       P02W,      78,          1,         33,         33,2,20130429,       1817,         30,  -177.2689,       5349,    85.6,  18.4332,  34.8886,2,  34.8886,2,    234.5,2,   235.1,2,    2.34,2,       0,2,    0.01,2,    0.01,2,   2.474,2,   1.517,2,   0.212,2,      1.4,2,  -999.0,9, -999.00,9,-999.0000,9,  -999.00,-999.000,9,-999.0000,9, -999.00,9, -999.00,9,  -999.0,9,  -999.0,-999.000,9,-999.000,     -999.0,9, -999.00,1, -999.00,9, -999.00,9,     -999.0,9,  -999.0,9, 20130429,     2023,  30.0005,-177.2676,    35.0532,2,     -999.0,1,     -999.0,1,    18.4314,2,     -999.0,9,     -999.0,9,-999.0000, -999.00,-999.000
318M20130321,       P02W,      78,          1,         32,         32,2,20130429,       1817,         30,  -177.2689,       5349,   115.8,  16.9289,  34.6374,2,   34.637,2,    222.9,2,   223.4,2,    3.61,2,     2.3,2,    0.17,2,    0.18,2,-999.000,9,-999.000,9,-999.000,9,-999.0000,9,  2027.7,2, 2273.61,6,   7.9544,2,       25,-999.000,9,-999.0000,9, -999.00,9, -999.00,9,  -999.0,9,  -999.0,-999.000,9,-999.000,     -999.0,9, -999.00,1, -999.00,9, -999.00,9,     -999.0,9,  -999.0,9, 20130429,     2021,  30.0003,-177.2676,    34.8003,2,     -999.0,1,     -999.0,1,     16.931,2,     -999.0,9,     -999.0,9,-999.0000, -999.00,-999.000
318M20130321,       P02W,      78,          1,         31,         31,2,20130429,       1817,         30,  -177.2689,       5349,   166.5,  16.0366,  34.5797,2,  34.5761,2,    207.9,2,     230,3,    4.49,2,    3.49,2,    0.02,2,    0.25,2,   2.782,2,   1.683,2,   0.195,2,     1.35,2,  2031.9,2, 2271.71,2,   7.9426,2,       25,-999.000,9,-999.0000,9, -999.00,9, -999.00,9,  -999.0,9,  -999.0,-999.000,9,-999.000,     -999.0,9, -999.00,1, -999.00,9, -999.00,9,     -999.0,9,  -999.0,9, 20130429,     2019,  30.0002,-177.2676,    34.7392,2,     -999.0,1,     -999.0,1,    16.0456,2,     -999.0,9,     -999.0,9,-999.0000, -999.00,-999.000
318M20130321,       P02W,      78,          1,         30,         30,2,20130429,       1817,         30,  -177.2689,       5349,   216.2,  15.0733,   34.519,2,   34.519,2,    223.8,2,   224.1,2,    6.44,2,    5.67,2,    0.02,2,    0.37,2,-999.000,9,-999.000,9,-999.000,9,-999.0000,9,  -999.0,9, -999.00,9,-999.0000,9,  -999.00,-999.000,9,-999.0000,9, -999.00,9, -999.00,9,  -999.0,9,  -999.0,-999.000,9,-999.000,     -999.0,9, -999.00,1, -999.00,9, -999.00,9,     -999.0,9,  -999.0,9, 20130429,     2016,  30.0003,-177.2676,    34.6817,2,     -999.0,1,     -999.0,1,     15.073,2,     -999.0,9,     -999.0,9,-999.0000, -999.00,-999.000
318M20130321,       P02W,      78,          1,         29,         29,2,20130429,       1817,         30,  -177.2689,       5349,   266.4,  14.2425,  34.4672,2,  34.4656,2,    215.4,2,   214.5,2,    9.08,2,    8.15,2,    0.02,2,    0.55,2,   2.981,2,   1.763,2,   0.103,2,     1.41,2,  2061.2,2, 2268.01,2,   7.8772,2,       25,-999.000,9,-999.0000,9, -999.00,9, -999.00,9,  -999.0,9,  -999.0,-999.000,9,-999.000,     -999.0,9, -999.00,1, -999.00,9, -999.00,9,     -999.0,9,  -999.0,9, 20130429,     2014,  30.0003, -177.268,    34.6281,2,     -999.0,1,     -999.0,1,    14.2483,2,     -999.0,9,     -999.0,9,-999.0000, -999.00,-999.000
318M20130321,       P02W,      78,          1,         28,         28,2,20130429,       1817,         30,  -177.2689,       5349,   317.4,  12.9808,  34.3844,2,  34.3823,2,    211.3,2,   210.1,2,    12.3,2,   10.68,2,    0.02,2,    0.73,2,   3.184,2,   1.830,2,   0.083,2,     1.35,2,  -999.0,9, -999.00,9,-999.0000,9,  -999.00,-999.000,9,-999.0000,9, -999.00,9, -999.00,9,  -999.0,9,  -999.0,-999.000,9,-999.000,     -999.0,9, -999.00,1, -999.00,9, -999.00,9,     -999.0,9,  -999.0,9, 20130429,     2012,  30.0001,-177.2682,    34.5445,2,     -999.0,1,     -999.0,1,    12.9827,2,     -999.0,9,     -999.0,9,-999.0000, -999.00,-999.000
318M20130321,       P02W,      78,          1,         27,         27,2,20130429,       1817,         30,  -177.2689,       5349,   366.7,  11.9337,  34.3146,2,  34.3207,2,    207.8,2,   208.7,2,   15.04,2,   12.49,2,    0.01,2,    0.86,2,   3.217,2,   1.770,2,   0.094,2,     1.26,2,  2093.4,2, 2267.71,2,   7.8075,2,       25,-999.000,9,-999.0000,9, -999.00,9, -999.00,9,  -999.0,9,  -999.0,-999.000,9,-999.000,     -999.0,9, -999.00,1, -999.00,9, -999.00,9,     -999.0,9,  -999.0,9, 20130429,     2010,       30,-177.2682,    34.4825,2,     -999.0,1,     -999.0,1,     11.932,2,     -999.0,9,     -999.0,9,-999.0000, -999.00,-999.000
318M20130321,       P02W,      78,          1,         26,         26,2,20130429,       1817,         30,  -177.2689,       5349,   438.5,  10.4703,  34.2117,2,  34.2119,2,    199.8,2,     202,2,   21.38,2,   15.97,2,    0.01,2,     1.1,2,   3.389,2,   1.904,2,   0.110,2,     1.18,2,    2117,2, 2266.81,2,   7.7519,2,       25,-999.000,9,-999.0000,9, -999.00,9, -999.00,9,  -999.0,9,  -999.0,-999.000,9,-999.000,     -999.0,9, -999.00,1, -999.00,9, -999.00,9,     -999.0,9,  -999.0,9, 20130429,     2008,       30, -177.268,    34.3732,2,     -999.0,1,     -999.0,1,    10.4755,2,     -999.0,9,     -999.0,9,-999.0000, -999.00,-999.000
318M20130321,       P02W,      78,          1,         25,         25,2,20130429,       1817,         30,  -177.2689,       5349,   538.7,   8.1298,  34.0769,2,   34.078,2,    167.5,2,     166,2,   38.28,2,   23.65,2,    0.01,2,     1.7,2,   3.140,2,   1.683,2,   0.124,2,     0.77,2,  2171.8,2, 2275.51,2,   7.6298,2,       25,-999.000,9,-999.0000,9, -999.00,9, -999.00,9,  -999.0,9,  -999.0,-999.000,9,-999.000,     -999.0,9, -999.00,1, -999.00,9, -999.00,9,     -999.0,9,  -999.0,9, 20130429,     2005,  30.0001,-177.2679,    34.2387,2,     -999.0,1,     -999.0,1,     8.1182,2,     -999.0,9,     -999.0,9,-999.0000, -999.00,-999.000
318M20130321,       P02W,      78,          1,         24,         24,2,20130429,       1817,         30,  -177.2689,       5349,   639.7,   6.3562,   34.035,2,  34.0347,2,    122.1,2,   123.4,2,   59.37,2,   30.82,2,    0.01,2,     2.2,2,   2.477,2,   1.266,2,   0.103,2,     0.54,2,  2227.2,2, 2289.31,2,   7.5071,2,       25,-999.000,9,-999.0000,9, -999.00,9, -999.00,9,  -999.0,9,  -999.0,-999.000,9,-999.000,     -999.0,9, -999.00,1, -999.00,9, -999.00,9,     -999.0,9,  -999.0,9, 20130429,     2002,       30, -177.268,    34.1951,2,     -999.0,1,     -999.0,1,     6.3511,2,     -999.0,9,     -999.0,9,-999.0000, -999.00,-999.000
318M20130321,       P02W,      78,          1,         23,         23,2,20130429,       1817,         30,  -177.2689,       5349,   737.9,   5.1151,  34.0818,2,  34.0811,2,     78.2,2,      79,2,   82.03,2,   36.89,2,    0.01,2,    2.68,2,   1.491,2,   0.751,2,   0.053,2,     0.28,2,  2278.6,2, 2308.72,2,   7.4038,6,       25,-999.000,9,-999.0000,9, -999.00,9, -999.00,9,  -999.0,9,  -999.0,-999.000,9,-999.000,     -999.0,9, -999.00,9, -999.00,9, -999.00,9,     -999.0,9,  -999.0,9, 20130429,     1959,       30,-177.2681,    34.2418,2,     -999.0,9,     -999.0,9,     5.1103,2,     -999.0,9,     -999.0,9,-999.0000, -999.00,-999.000
318M20130321,       P02W,      78,          1,         22,         22,2,20130429,       1817,         30,  -177.2689,       5349,   841.4,   4.2878,  34.1691,2,  34.2009,4,     47.2,2,    44.2,2,  102.62,2,   41.11,2,    0.01,2,    2.96,2,   0.693,2,   0.342,2,   0.028,2,     0.09,2,    2322,2, 2330.03,2,   7.3345,2,       25,-999.000,9,-999.0000,9, -999.00,9, -999.00,9,  -999.0,9,  -999.0,-999.000,9,-999.000,     -999.0,9, -999.00,9, -999.00,9, -999.00,9,     -999.0,9,  -999.0,9, 20130429,     1957,  30.0001,-177.2681,    34.3622,4,     -999.0,9,     -999.0,9,     4.2912,2,     -999.0,9,     -999.0,9,-999.0000, -999.00,-999.000
318M20130321,       P02W,      78,          1,         21,         21,2,20130429,       1817,         30,  -177.2689,       5349,   943.2,   3.9164,  34.2585,2,  34.2572,2,     30.5,2,    31.7,2,  114.63,2,   42.51,2,       0,2,    3.07,2,   0.333,2,   0.162,2,   0.016,2,     0.08,2,  2342.8,2, 2345.83,2,   7.3196,2,       25,-999.000,9,-999.0000,9, -999.00,9, -999.00,9,  -999.0,9,  -999.0,-999.000,9,-999.000,     -999.0,9, -999.00,9, -999.00,9, -999.00,9,     -999.0,9,  -999.0,9, 20130429,     1954,  30.0001,-177.2681,    34.4187,2,     -999.0,9,     -999.0,9,     3.9163,2,     -999.0,9,     -999.0,9,-999.0000, -999.00,-999.000
318M20130321,       P02W,      78,          1,         20,         20,2,20130429,       1817,         30,  -177.2689,       5349,    1042,   3.6103,  34.3216,2,  34.3205,2,     24.3,2,      24,2,  124.97,2,    43.5,2,       0,2,    3.12,2,   0.139,2,   0.074,2,   0.012,2,     0.06,2,  2358.2,2, 2357.74,2,   7.3101,2,       25,-999.000,9,-999.0000,9, -999.00,9, -999.00,9,  -999.0,9,  -999.0,-999.000,9,-999.000,     -999.0,9, -999.00,9, -999.00,9, -999.00,9,     -999.0,9,  -999.0,9, 20130429,     1951,  29.9999,-177.2681,    34.4824,2,     -999.0,9,     -999.0,9,     3.6101,2,     -999.0,9,     -999.0,9,-999.0000, -999.00,-999.000
318M20130321,       P02W,      78,          1,         19,         19,2,20130429,       1817,         30,  -177.2689,       5349,  1145.6,   3.3555,  34.3882,2,  34.3878,2,     24.3,2,      25,2,  132.68,2,   43.81,2,       0,2,    3.16,2,   0.055,2,   0.035,2,   0.004,2,     0.06,2,  2366.7,2, 2369.24,2,   7.3185,2,       25,-999.000,9,-999.0000,9, -999.00,9, -999.00,9,  -999.0,9,  -999.0,-999.000,9,-999.000,     -999.0,9, -999.00,9, -999.00,9, -999.00,9,     -999.0,9,  -999.0,9, 20130429,     1949,  30.0002,-177.2683,      34.55,2,     -999.0,9,     -999.0,9,     3.3554,2,     -999.0,9,     -999.0,9,-999.0000, -999.00,-999.000
318M20130321,       P02W,      78,          1,         18,         18,2,20130429,       1817,         30,  -177.2689,       5349,  1245.6,   3.1064,  34.4487,2,  34.4475,2,     30.5,2,    30.6,2,  139.11,2,   43.64,2,       0,2,    3.15,2,   0.022,2,   0.021,2,   0.007,2,     0.08,2,  -999.0,9, -999.00,9,-999.0000,9,  -999.00,-999.000,9,-999.0000,9, -999.00,9, -999.00,9,  -999.0,9,  -999.0,-999.000,9,-999.000,     -999.0,9, -999.00,9, -999.00,9, -999.00,9,     -999.0,9,  -999.0,9, 20130429,     1946,  30.0005,-177.2683,    34.6099,2,     -999.0,9,     -999.0,9,      3.108,2,     -999.0,9,     -999.0,9,-999.0000, -999.00,-999.000
318M20130321,       P02W,      78,          1,         17,         17,2,20130429,       1817,         30,  -177.2689,       5349,  1345.9,   2.9236,  34.4823,2,  34.4813,2,     35.3,2,      36,2,   143.6,2,   43.43,2,       0,2,    3.12,2,   0.021,2,   0.017,2,   0.006,2,     0.08,2,  -999.0,9, -999.00,9,-999.0000,9,  -999.00,-999.000,9,-999.0000,9, -999.00,9, -999.00,9,  -999.0,9,  -999.0,-999.000,9,-999.000,     -999.0,9, -999.00,9, -999.00,9, -999.00,9,     -999.0,9,  -999.0,9, 20130429,     1943,  30.0006,-177.2685,    34.6439,2,     -999.0,9,     -999.0,9,     2.9252,2,     -999.0,9,     -999.0,9,-999.0000, -999.00,-999.000
318M20130321,       P02W,      78,          1,         16,         16,2,20130429,       1817,         30,  -177.2689,       5349,  1476.7,    2.694,  34.5145,2,  34.5129,2,     42.5,2,    42.2,2,  149.75,2,   43.16,2,       0,2,    3.08,2,   0.008,2,   0.010,2,   0.006,2,     0.06,2,  2375.6,2, 2394.05,2,    7.368,2,       25,-999.000,9,-999.0000,9, -999.00,9, -999.00,9,  -999.0,9,  -999.0,-999.000,9,-999.000,     -999.0,9, -999.00,9, -999.00,9, -999.00,9,     -999.0,9,  -999.0,9, 20130429,     1940,  30.0008,-177.2689,    34.6756,2,     -999.0,9,     -999.0,9,     2.6938,2,     -999.0,9,     -999.0,9,-999.0000, -999.00,-999.000
318M20130321,       P02W,      78,          1,         15,         15,2,20130429,       1817,         30,  -177.2689,       5349,  1681.9,   2.3502,  34.5593,2,   34.558,2,     54.7,2,    54.9,2,  157.65,2,   42.56,2,       0,2,    3.04,2,   0.008,2,   0.008,2,   0.005,2,     0.09,2,  2375.3,2, 2404.05,2,   7.3909,2,       25,-999.000,9,-999.0000,9, -999.00,9, -999.00,9,  -999.0,9,  -999.0,-999.000,9,-999.000,     -999.0,9, -999.00,9, -999.00,9, -999.00,9,     -999.0,9,  -999.0,9, 20130429,     1936,  30.0011,-177.2689,     34.721,2,     -999.0,9,     -999.0,9,     2.3507,2,     -999.0,9,     -999.0,9,-999.0000, -999.00,-999.000
318M20130321,       P02W,      78,          1,         14,         14,2,20130429,       1817,         30,  -177.2689,       5349,    1904,   2.0714,  34.5914,2,  34.5908,2,     68.9,2,    68.8,2,  162.82,2,   41.72,2,       0,2,    2.94,2,-999.000,9,-999.000,9,-999.000,9,-999.0000,9,  -999.0,9, -999.00,9,-999.0000,9,  -999.00,-999.000,9,-999.0000,9, -999.00,9, -999.00,9,  -999.0,9,  -999.0,-999.000,9,-999.000,     -999.0,9, -999.00,9, -999.00,9, -999.00,9,     -999.0,9,  -999.0,9, 20130429,     1931,  30.0011,-177.2689,     34.754,2,     -999.0,9,     -999.0,9,     2.0715,2,     -999.0,9,     -999.0,9,-999.0000, -999.00,-999.000
318M20130321,       P02W,      78,          1,         13,         13,2,20130429,       1817,         30,  -177.2689,       5349,  2158.2,   1.8592,  34.6188,2,  34.6181,2,     84.6,2,    85.8,2,  164.87,2,   40.65,2,       0,2,    2.87,2,   0.005,2,   0.012,2,   0.004,2,     0.07,2,  2365.3,2, 2414.16,2,   7.4495,2,       25,-999.000,9,-999.0000,9, -999.00,9, -999.00,9,  -999.0,9,  -999.0,-999.000,9,-999.000,     -999.0,9, -999.00,9, -999.00,9, -999.00,9,     -999.0,9,  -999.0,9, 20130429,     1925,   30.001,-177.2688,    34.7814,2,     -999.0,9,     -999.0,9,     1.8588,2,     -999.0,9,     -999.0,9,-999.0000, -999.00,-999.000
318M20130321,       P02W,      78,          1,         11,         11,2,20130429,       1817,         30,  -177.2689,       5349,  2427.7,   1.7244,   34.637,2,  34.6362,2,     99.8,2,    98.8,2,  164.96,2,   39.81,2,       0,2,    2.81,2,-999.000,9,-999.000,9,-999.000,9,-999.0000,9,  -999.0,9, -999.00,9,-999.0000,9,  -999.00,-999.000,9,-999.0000,9, -999.00,9, -999.00,9,  -999.0,9,  -999.0,-999.000,9,-999.000,     -999.0,9, -999.00,9, -999.00,9, -999.00,9,     -999.0,9,  -999.0,9, 20130429,     1920,   30.001, -177.269,    34.7995,2,     -999.0,9,     -999.0,9,     1.7241,2,     -999.0,9,     -999.0,9,-999.0000, -999.00,-999.000
318M20130321,       P02W,      78,          1,         10,         10,2,20130429,       1817,         30,  -177.2689,       5349,  2731.1,   1.6093,   34.653,2,  34.6519,2,    113.6,2,   113.1,2,  164.67,2,   38.83,2,       0,2,    2.73,2,-999.000,9,-999.000,9,-999.000,9,-999.0000,9,  2352.5,2, 2419.06,2,   7.5004,2,       25,-999.000,9,-999.0000,9, -999.00,9, -999.00,9,  -999.0,9,  -999.0,-999.000,9,-999.000,     -999.0,9, -999.00,9, -999.00,9, -999.00,9,     -999.0,9,  -999.0,9, 20130429,     1913,  30.0007,-177.2686,    34.8153,2,     -999.0,9,     -999.0,9,     1.6089,2,     -999.0,9,     -999.0,9,-999.0000, -999.00,-999.000
318M20130321,       P02W,      78,          1,          9,          9,2,20130429,       1817,         30,  -177.2689,       5349,  3038.7,   1.5354,  34.6641,2,  34.6628,2,      125,2,   124.2,2,  162.81,2,   38.05,2,       0,2,    2.66,2,   0.006,2,   0.009,2,   0.003,2,     0.04,2,  -999.0,9, -999.00,9,-999.0000,9,  -999.00,-999.000,9,-999.0000,9, -999.00,9, -999.00,9,  -999.0,9,  -999.0,-999.000,9,-999.000,     -999.0,9, -999.00,9, -999.00,9, -999.00,9,     -999.0,9,  -999.0,9, 20130429,     1907,  30.0005,-177.2679,    34.8262,2,     -999.0,9,     -999.0,9,     1.5355,2,     -999.0,9,     -999.0,9,-999.0000, -999.00,-999.000
318M20130321,       P02W,      78,          1,          8,          8,2,20130429,       1817,         30,  -177.2689,       5349,    3345,   1.4869,  34.6733,2,  34.6708,2,    134.4,2,   134.5,2,  160.17,2,   37.34,2,       0,2,    2.62,2,-999.000,9,-999.000,9,-999.000,9,-999.0000,9,  2336.1,2, 2417.86,2,   7.5411,2,       25,-999.000,9,-999.0000,9, -999.00,9, -999.00,9,  -999.0,9,  -999.0,-999.000,9,-999.000,     -999.0,9, -999.00,9, -999.00,9, -999.00,9,     -999.0,9,  -999.0,9, 20130429,     1900,  30.0001,-177.2676,    34.8343,2,     -999.0,9,     -999.0,9,      1.487,2,     -999.0,9,     -999.0,9,-999.0000, -999.00,-999.000
318M20130321,       P02W,      78,          1,          7,          7,2,20130429,       1817,         30,  -177.2689,       5349,  3753.8,   1.4575,  34.6812,2,  34.6798,2,    143.2,2,   144.4,2,  157.93,2,   36.69,2,       0,2,    2.56,2,-999.000,9,-999.000,9,-999.000,9,-999.0000,9,  -999.0,9, -999.00,9,-999.0000,9,  -999.00,-999.000,9,-999.0000,9, -999.00,9, -999.00,9,  -999.0,9,  -999.0,-999.000,9,-999.000,     -999.0,9, -999.00,9, -999.00,9, -999.00,9,     -999.0,9,  -999.0,9, 20130429,     1852,  29.9997,-177.2678,    34.8434,2,     -999.0,9,     -999.0,9,     1.4573,2,     -999.0,9,     -999.0,9,-999.0000, -999.00,-999.000