BOTTLE,20220817CCHSIOAMB
EXPOCODE,SECT_ID,STNNBR,CASTNO,SAMPNO,BTLNBR,BTLNBR_FLAG_W,DATE,TIME,LATITUDE,LONGITUDE,DEPTH,CTDPRS,CTDTMP,CTDSAL,CTDSAL_FLAG_W,SALNTY,SALNTY_FLAG_W,CTDOXY,CTDOXY_FLAG_W,OXYGEN,OXYGEN_FLAG_W,SILCAT,SILCAT_FLAG_W,NITRAT,NITRAT_FLAG_W,NITRIT,NITRIT_FLAG_W,PHSPHT,PHSPHT_FLAG_W,CFC-11,CFC-11_FLAG_W,CFC-12,CFC-12_FLAG_W,CFC113,CFC113_FLAG_W,SF6,SF6_FLAG_W,TCARBN,TCARBN_FLAG_W,ALKALI,ALKALI_FLAG_W,PH_TOT,PH_TOT_FLAG_W,PH_TMP,TRITUM,TRITUM_FLAG_W,HELIUM,HELIUM_FLAG_W,DELHE3,DELHE3_FLAG_W,DELC13,DELC13_FLAG_W,DELC14,DELC14_FLAG_W,C14ERR,NEON,NEON_FLAG_W,NEONER,I-129,I-129_FLAG_W,SR-90,SR-90_FLAG_W,DOC,DOC_FLAG_W,TDN,TDN_FLAG_W,CALCIUM,CALCIUM_FLAG_W,D15N_NO3,D15N_NO3_FLAG_W,BTL_DATE,BTL_TIME,BTL_LAT,BTL_LON,SALTREF,SALTREF_FLAG_W,CS-137,CS-137_FLAG_W,CS-134,CS-134_FLAG_W,REFTMP,REFTMP_FLAG_W,LAB_DEN,LAB_DEN_FLAG_W,D18O_NO3,D18O_NO3_FLAG_W,HELIER,DELHER,TRITER
,,,,,,,,,,,METERS,DBAR,ITS-90,PSS-78,,PSS-78,,UMOL/KG,,UMOL/KG,,UMOL/KG,,UMOL/KG,,UMOL/KG,,UMOL/KG,,PMOL/KG,,PMOL/KG,,PMOL/KG,,FMOL/KG,,UMOL/KG,,UMOL/KG,,,,DEG C,TU,,NMOL/KG,,PERCNT,,/MILLE,,/MILLE,,/MILLE,NMOL/KG,,NMOL/KG,BQ/M^3,,DM/.1MG,,UMOL/KG,,UMOL/KG,,MMOL/KG,,/MILLE,,,,,,G/KG,,BQ/M^3,,BQ/M^3,,ITS-90,,,,/MILLE,,NMOL/KG,PERCNT,TU
318M20130321,       P02W,      59,          1,          7,          7,2,20130424,       0126,    30.0006,   169.4033,       5694,  3648.7,   1.4588,  34.6795,2,  34.6804,2,    144.5,2,   144.7,2,  154.12,2,   36.33,2,       0,2,    2.57,2,-999.000,9,-999.000,9,-999.000,9,-999.0000,9,  -999.0,9, -999.00,9,-999.0000,9,  -999.00,-999.000,9,-999.0000,9, -999.00,9, -999.00,9,  -999.0,9,  -999.0,-999.000,9,-999.000,     -999.0,9, -999.00,9,   36.52,2, -999.00,9,     -999.0,9,  -999.0,1, 20130424,      211,  30.0002, 169.4049,    34.8439,2,     -999.0,9,     -999.0,9,     1.4588,2,     -999.0,9,     -999.0,1,-999.0000, -999.00,-999.000
318M20130321,       P02W,      59,          1,          6,          6,2,20130424,       0126,    30.0006,   169.4033,       5694,  4061.2,   1.4489,  34.6853,2,  34.6871,3,    152.5,2,   152.5,2,  150.51,2,   35.79,2,       0,2,    2.53,2,   0.003,2,   0.014,2,   0.002,2,     0.06,2,  2324.1,6, 2413.26,2,     7.57,2,       25,-999.000,9,-999.0000,9, -999.00,9, -999.00,9,  -999.0,9,  -999.0,-999.000,9,-999.000,     -999.0,9, -999.00,9, -999.00,9, -999.00,9,     -999.0,9,  -999.0,1, 20130424,      203,  30.0005, 169.4047,    34.8506,3,     -999.0,9,     -999.0,9,      1.449,2,     -999.0,9,     -999.0,1,-999.0000, -999.00,-999.000
318M20130321,       P02W,      59,          1,          5,         37,2,20130424,       0126,    30.0006,   169.4033,       5694,  4468.5,   1.4486,  34.6898,2,  34.6896,2,    159.2,2,   159.7,2,  146.12,2,   35.34,2,       0,2,    2.49,2,-999.000,9,-999.000,9,-999.000,9,-999.0000,9,  -999.0,9, -999.00,9,-999.0000,9,  -999.00,-999.000,9,-999.0000,9, -999.00,9, -999.00,9,  -999.0,9,  -999.0,-999.000,9,-999.000,     -999.0,9, -999.00,9,    35.5,2, -999.00,9,     -999.0,9,  -999.0,1, 20130424,      155,  30.0006, 169.4045,    34.8532,2,     -999.0,9,     -999.0,9,     1.4484,2,     -999.0,9,     -999.0,1,-999.0000, -999.00,-999.000
318M20130321,       P02W,      59,          1,          4,          4,2,20130424,       0126,    30.0006,   169.4033,       5694,  4882.5,   1.4564,  34.6936,2,  34.6938,2,    166.4,2,   165.5,2,  140.36,2,   34.79,2,       0,2,    2.45,2,   0.005,2,   0.016,2,   0.005,2,     0.24,2,  2308.4,2, 2411.56,2,   7.5869,2,       25,-999.000,9,-999.0000,9, -999.00,9, -999.00,9,  -999.0,9,  -999.0,-999.000,9,-999.000,     -999.0,9, -999.00,9, -999.00,9, -999.00,9,     -999.0,9,  -999.0,1, 20130424,      147,  30.0006, 169.4041,    34.8574,2,     -999.0,9,     -999.0,9,     1.4561,2,     -999.0,9,     -999.0,1,-999.0000, -999.00,-999.000
318M20130321,       P02W,      59,          1,          3,          3,2,20130424,       0126,    30.0006,   169.4033,       5694,  5297.1,   1.4713,  34.6966,2,  34.6963,2,    172.9,2,   173.9,2,  135.67,2,   34.36,2,       0,2,    2.41,2,   0.006,2,   0.015,2,   0.000,2,     0.07,2,  2301.2,2, 2400.35,2,   7.5939,2,       25,-999.000,9,-999.0000,9, -999.00,9, -999.00,9,  -999.0,9,  -999.0,-999.000,9,-999.000,     -999.0,9, -999.00,9,   36.64,2, -999.00,9,     -999.0,9,  -999.0,1, 20130424,      139,  30.0007, 169.4037,    34.8599,2,     -999.0,9,     -999.0,9,     1.4714,2,     -999.0,9,     -999.0,1,-999.0000, -999.00,-999.000
318M20130321,       P02W,      59,          1,          2,          2,2,20130424,       0126,    30.0006,   169.4033,       5694,  5608.8,   1.4944,  34.6975,2,  34.6977,2,    175.5,2,   175.8,2,  134.11,2,   34.16,2,       0,2,     2.4,2,   0.003,2,   0.015,2,   0.001,2,     0.11,2,  2299.5,2, 2400.15,6,   7.5967,2,       25,-999.000,9,-999.0000,9, -999.00,9, -999.00,9,  -999.0,9,  -999.0,-999.000,9,-999.000,     -999.0,9, -999.00,9,   35.24,2, -999.00,9,     -999.0,9,  -999.0,1, 20130424,      133,  30.0007, 169.4034,    34.8613,2,     -999.0,9,     -999.0,9,     1.4944,2,     -999.0,9,     -999.0,1,-999.0000, -999.00,-999.000
318M20130321,       P02W,      59,          1,          1,          1,2,20130424,       0126,    30.0006,   169.4033,       5694,  5798.7,    1.512,   34.698,2,  34.6989,2,    176.9,2,   176.5,2,  133.23,2,   34.07,2,       0,2,    2.39,2,   0.004,2,   0.013,2,   0.004,2,     0.16,2,  2297.4,6, 2400.05,2,   7.5957,2,       25,-999.000,9,-999.0000,9, -999.00,9, -999.00,9,  -999.0,9,  -999.0,-999.000,9,-999.000,     -999.0,9, -999.00,9,   36.78,2, -999.00,9,     -999.0,9,  -999.0,1, 20130424,      127,  30.0006, 169.4033,    34.8625,2,     -999.0,9,     -999.0,9,     1.5118,2,     -999.0,9,     -999.0,1,-999.0000, -999.00,-999.000