BOTTLE,20220817CCHSIOAMB
EXPOCODE,SECT_ID,STNNBR,CASTNO,SAMPNO,BTLNBR,BTLNBR_FLAG_W,DATE,TIME,LATITUDE,LONGITUDE,DEPTH,CTDPRS,CTDTMP,CTDSAL,CTDSAL_FLAG_W,SALNTY,SALNTY_FLAG_W,CTDOXY,CTDOXY_FLAG_W,OXYGEN,OXYGEN_FLAG_W,SILCAT,SILCAT_FLAG_W,NITRAT,NITRAT_FLAG_W,NITRIT,NITRIT_FLAG_W,PHSPHT,PHSPHT_FLAG_W,CFC-11,CFC-11_FLAG_W,CFC-12,CFC-12_FLAG_W,CFC113,CFC113_FLAG_W,SF6,SF6_FLAG_W,TCARBN,TCARBN_FLAG_W,ALKALI,ALKALI_FLAG_W,PH_TOT,PH_TOT_FLAG_W,PH_TMP,TRITUM,TRITUM_FLAG_W,HELIUM,HELIUM_FLAG_W,DELHE3,DELHE3_FLAG_W,DELC13,DELC13_FLAG_W,DELC14,DELC14_FLAG_W,C14ERR,NEON,NEON_FLAG_W,NEONER,I-129,I-129_FLAG_W,SR-90,SR-90_FLAG_W,DOC,DOC_FLAG_W,TDN,TDN_FLAG_W,CALCIUM,CALCIUM_FLAG_W,D15N_NO3,D15N_NO3_FLAG_W,BTL_DATE,BTL_TIME,BTL_LAT,BTL_LON,SALTREF,SALTREF_FLAG_W,CS-137,CS-137_FLAG_W,CS-134,CS-134_FLAG_W,REFTMP,REFTMP_FLAG_W,LAB_DEN,LAB_DEN_FLAG_W,D18O_NO3,D18O_NO3_FLAG_W,HELIER,DELHER,TRITER
,,,,,,,,,,,METERS,DBAR,ITS-90,PSS-78,,PSS-78,,UMOL/KG,,UMOL/KG,,UMOL/KG,,UMOL/KG,,UMOL/KG,,UMOL/KG,,PMOL/KG,,PMOL/KG,,PMOL/KG,,FMOL/KG,,UMOL/KG,,UMOL/KG,,,,DEG C,TU,,NMOL/KG,,PERCNT,,/MILLE,,/MILLE,,/MILLE,NMOL/KG,,NMOL/KG,BQ/M^3,,DM/.1MG,,UMOL/KG,,UMOL/KG,,MMOL/KG,,/MILLE,,,,,,G/KG,,BQ/M^3,,BQ/M^3,,ITS-90,,,,/MILLE,,NMOL/KG,PERCNT,TU
318M20130321,       P02W,      26,          1,         36,         36,2,20130412,       0502,    29.9997,   141.6806,       4278,     3.5,  19.8358,  34.8558,2,  34.8544,2,      227,2,   227.9,2,  147.27,4,   35.65,4,       0,4,    2.46,4,   2.293,2,   1.452,2,   0.192,2,     1.51,2,  1999.3,6, 2288.71,3,   8.0297,2,       25,-999.000,9,-999.0000,9, -999.00,9, -999.00,9,  -999.0,9,  -999.0,-999.000,9,-999.000,     -999.0,9, -999.00,9, -999.00,9, -999.00,9,     -999.0,9,  -999.0,9, 20130412,      651,  29.9997, 141.6797,    35.0188,2,     -999.0,9,     -999.0,9,    19.8348,2,     -999.0,9,     -999.0,9,-999.0000, -999.00,-999.000
318M20130321,       P02W,      26,          1,         35,         35,2,20130412,       0502,    29.9997,   141.6806,       4278,    26.5,  19.8078,  34.8511,2,  34.8499,2,    227.2,2,   228.3,2,    1.37,2,       0,2,       0,2,    0.02,2,   2.282,2,   1.461,2,   0.190,2,     1.49,2,  -999.0,9, -999.00,9,-999.0000,9,  -999.00,-999.000,9,-999.0000,9, -999.00,9, -999.00,9,  -999.0,9,  -999.0,-999.000,9,-999.000,     -999.0,9, -999.00,9, -999.00,9, -999.00,9,     -999.0,9,  -999.0,9, 20130412,      649,  29.9996, 141.6799,    35.0142,2,     -999.0,9,     -999.0,9,    19.8113,2,     -999.0,9,     -999.0,9,-999.0000, -999.00,-999.000
318M20130321,       P02W,      26,          1,         34,         34,2,20130412,       0502,    29.9997,   141.6806,       4278,    51.9,  19.5539,  34.8212,2,  34.8173,2,    229.2,2,   229.3,2,    1.76,2,       0,2,       0,2,    0.02,2,   2.299,2,   1.470,2,   0.187,2,     1.51,2,  1998.8,2, 2293.71,4,   8.0274,6,       25,-999.000,9,-999.0000,9, -999.00,9, -999.00,9,  -999.0,9,  -999.0,-999.000,9,-999.000,     -999.0,9, -999.00,9, -999.00,9, -999.00,9,     -999.0,9,  -999.0,9, 20130412,      648,  29.9997,   141.68,    34.9814,2,     -999.0,9,     -999.0,9,    19.5589,2,     -999.0,9,     -999.0,9,-999.0000, -999.00,-999.000
318M20130321,       P02W,      26,          1,         33,         33,2,20130412,       0502,    29.9997,   141.6806,       4278,    77.7,  18.6145,  34.7448,2,  34.7447,2,    225.1,2,   226.1,2,    2.54,2,    0.65,2,    0.18,2,    0.09,2,   2.384,2,   1.516,2,   0.185,2,     1.54,2,  -999.0,9, -999.00,9,-999.0000,9,  -999.00,-999.000,9,-999.0000,9, -999.00,9, -999.00,9,  -999.0,9,  -999.0,-999.000,9,-999.000,     -999.0,9, -999.00,9, -999.00,9, -999.00,9,     -999.0,9,  -999.0,9, 20130412,      646,  29.9997, 141.6801,    34.9086,2,     -999.0,9,     -999.0,9,    18.6162,2,     -999.0,9,     -999.0,9,-999.0000, -999.00,-999.000
318M20130321,       P02W,      26,          1,         32,         32,2,20130412,       0502,    29.9997,   141.6806,       4278,   102.2,   18.245,  34.7292,2,  34.7261,2,    225.2,2,   231.4,2,    2.05,2,    0.33,2,    0.22,2,    0.07,2,   2.434,2,   1.452,2,   0.191,2,     1.58,2,    2006,2, 2279.51,2,   8.0095,2,       25,-999.000,9,-999.0000,9, -999.00,9, -999.00,9,  -999.0,9,  -999.0,-999.000,9,-999.000,     -999.0,9, -999.00,9, -999.00,9, -999.00,9,     -999.0,9,  -999.0,9, 20130412,      644,  29.9997, 141.6803,    34.8898,2,     -999.0,9,     -999.0,9,    18.2465,2,     -999.0,9,     -999.0,9,-999.0000, -999.00,-999.000
318M20130321,       P02W,      26,          1,         31,         31,2,20130412,       0502,    29.9997,   141.6806,       4278,   122.2,  18.1566,  34.7216,2,  34.7208,2,    218.4,2,   232.8,2,    2.73,2,    0.26,2,     0.2,2,    0.07,2,   2.505,2,   1.552,2,   0.226,2,     1.66,2,  -999.0,9, -999.00,9,-999.0000,9,  -999.00,-999.000,9,-999.0000,9, -999.00,9, -999.00,9,  -999.0,9,  -999.0,-999.000,9,-999.000,     -999.0,9, -999.00,9, -999.00,9, -999.00,9,     -999.0,9,  -999.0,9, 20130412,      643,  29.9997, 141.6803,    34.8845,2,     -999.0,9,     -999.0,9,    18.1573,2,     -999.0,9,     -999.0,9,-999.0000, -999.00,-999.000
318M20130321,       P02W,      26,          1,         30,         30,2,20130412,       0502,    29.9997,   141.6806,       4278,   148.3,  18.1532,  34.7345,2,  34.7347,2,    219.8,2,   230.7,2,    2.54,2,    0.61,2,    0.22,2,    0.09,2,-999.000,9,-999.000,9,-999.000,9,-999.0000,9,  2007.9,2, 2277.11,2,   8.0052,2,       25,-999.000,9,-999.0000,9, -999.00,9, -999.00,9,  -999.0,9,  -999.0,-999.000,9,-999.000,     -999.0,9, -999.00,9, -999.00,9, -999.00,9,     -999.0,9,  -999.0,9, 20130412,      642,  29.9996, 141.6804,    34.8985,2,     -999.0,9,     -999.0,9,    18.1535,2,     -999.0,9,     -999.0,9,-999.0000, -999.00,-999.000
318M20130321,       P02W,      26,          1,         29,         29,2,20130412,       0502,    29.9997,   141.6806,       4278,   198.8,  17.8574,  34.7682,2,   34.765,2,    222.2,2,   222.7,2,    3.22,2,    2.14,2,    0.02,2,    0.17,2,   2.495,2,   1.545,2,   0.162,2,     1.47,2,  2016.4,2, 2281.61,2,   7.9878,2,       25,-999.000,9,-999.0000,9, -999.00,9, -999.00,9,  -999.0,9,  -999.0,-999.000,9,-999.000,     -999.0,9, -999.00,9, -999.00,9, -999.00,9,     -999.0,9,  -999.0,9, 20130412,      640,  29.9996, 141.6805,    34.9289,2,     -999.0,9,     -999.0,9,     17.858,2,     -999.0,9,     -999.0,9,-999.0000, -999.00,-999.000
318M20130321,       P02W,      26,          1,         28,         28,2,20130412,       0502,    29.9997,   141.6806,       4278,   249.2,  17.6371,   34.749,2,  34.7455,2,    219.7,2,     221,2,    3.51,2,    2.76,2,    0.01,2,     0.2,2,-999.000,9,-999.000,9,-999.000,9,-999.0000,9,  -999.0,9, -999.00,9,-999.0000,9,  -999.00,-999.000,9,-999.0000,9, -999.00,9, -999.00,9,  -999.0,9,  -999.0,-999.000,9,-999.000,     -999.0,9, -999.00,9, -999.00,9, -999.00,9,     -999.0,9,  -999.0,9, 20130412,      639,  29.9996, 141.6806,    34.9094,2,     -999.0,9,     -999.0,9,    17.6388,2,     -999.0,9,     -999.0,9,-999.0000, -999.00,-999.000
318M20130321,       P02W,      26,          1,         27,         27,2,20130412,       0502,    29.9997,   141.6806,       4278,   299.5,  17.2323,   34.722,2,  34.7208,2,    220.8,2,   220.7,2,     4.2,2,    3.25,2,    0.01,2,    0.23,2,   2.596,2,   1.594,2,   0.137,2,     1.52,2,  2024.5,2, 2278.81,2,   7.9712,2,       25,-999.000,9,-999.0000,9, -999.00,9, -999.00,9,  -999.0,9,  -999.0,-999.000,9,-999.000,     -999.0,9, -999.00,9, -999.00,9, -999.00,9,     -999.0,9,  -999.0,9, 20130412,      637,  29.9995, 141.6806,    34.8845,2,     -999.0,9,     -999.0,9,    17.2325,2,     -999.0,9,     -999.0,9,-999.0000, -999.00,-999.000
318M20130321,       P02W,      26,          1,         26,         26,2,20130412,       0502,    29.9997,   141.6806,       4278,   348.6,  16.8861,  34.6941,2,  34.6931,2,    207.9,2,   207.1,2,    5.76,2,    5.09,2,    0.01,2,    0.36,2,-999.000,9,-999.000,9,-999.000,9,-999.0000,9,  -999.0,9, -999.00,9,-999.0000,9,  -999.00,-999.000,9,-999.0000,9, -999.00,9, -999.00,9,  -999.0,9,  -999.0,-999.000,9,-999.000,     -999.0,9, -999.00,9, -999.00,9, -999.00,9,     -999.0,9,  -999.0,9, 20130412,      635,  29.9994, 141.6807,    34.8567,2,     -999.0,9,     -999.0,9,    16.8887,2,     -999.0,9,     -999.0,9,-999.0000, -999.00,-999.000
318M20130321,       P02W,      26,          1,         25,         25,2,20130412,       0502,    29.9997,   141.6806,       4278,   401.1,  16.0891,  34.6339,2,  34.6318,2,    196.4,2,   195.9,2,     8.1,2,    7.37,2,    0.01,2,    0.52,2,   2.712,2,   1.611,2,   0.047,2,     1.31,2,  2057.3,2, 2277.71,2,   7.9044,6,       25,-999.000,9,-999.0000,9, -999.00,9, -999.00,9,  -999.0,9,  -999.0,-999.000,9,-999.000,     -999.0,9, -999.00,9, -999.00,9, -999.00,9,     -999.0,9,  -999.0,9, 20130412,      633,  29.9994, 141.6806,    34.7951,2,     -999.0,9,     -999.0,9,    16.0896,2,     -999.0,9,     -999.0,9,-999.0000, -999.00,-999.000
318M20130321,       P02W,      26,          1,         24,         24,2,20130412,       0502,    29.9997,   141.6806,       4278,   450.6,  15.1452,  34.5672,2,  34.5644,2,    188.1,2,   187.6,2,   10.35,2,    9.62,2,    0.01,2,    0.66,2,-999.000,9,-999.000,9,-999.000,9,-999.0000,9,  -999.0,9, -999.00,9,-999.0000,9,  -999.00,-999.000,9,-999.0000,9, -999.00,9, -999.00,9,  -999.0,9,  -999.0,-999.000,9,-999.000,     -999.0,9, -999.00,9, -999.00,9, -999.00,9,     -999.0,9,  -999.0,9, 20130412,      631,  29.9995, 141.6807,    34.7274,2,     -999.0,9,     -999.0,9,    15.1507,2,     -999.0,9,     -999.0,9,-999.0000, -999.00,-999.000
318M20130321,       P02W,      26,          1,         23,         23,2,20130412,       0502,    29.9997,   141.6806,       4278,   502.2,  13.8056,  34.4824,2,  34.4796,2,    181.4,2,   180.7,2,   16.01,2,   12.44,2,    0.01,2,    0.87,2,   2.890,2,   1.632,2,   0.044,2,     1.07,2,  2094.8,2, 2278.81,2,    7.821,2,       25,-999.000,9,-999.0000,9, -999.00,9, -999.00,9,  -999.0,9,  -999.0,-999.000,9,-999.000,     -999.0,9, -999.00,9, -999.00,9, -999.00,9,     -999.0,9,  -999.0,9, 20130412,      629,  29.9996, 141.6808,    34.6422,2,     -999.0,9,     -999.0,9,    13.8255,2,     -999.0,9,     -999.0,9,-999.0000, -999.00,-999.000
318M20130321,       P02W,      26,          1,         22,         38,2,20130412,       0502,    29.9997,   141.6806,       4278,   604.2,  10.2694,  34.2473,2,  34.2459,2,    171.5,2,   172.1,2,   30.56,2,   18.94,2,       0,2,    1.35,2,-999.000,9,-999.000,9,-999.000,9,-999.0000,9,  -999.0,9, -999.00,9,-999.0000,9,  -999.00,-999.000,9,-999.0000,9, -999.00,9, -999.00,9,  -999.0,9,  -999.0,-999.000,9,-999.000,     -999.0,9, -999.00,9, -999.00,9, -999.00,9,     -999.0,9,  -999.0,9, 20130412,      627,  29.9997,  141.681,    34.4074,2,     -999.0,9,     -999.0,9,    10.2722,2,     -999.0,9,     -999.0,9,-999.0000, -999.00,-999.000
318M20130321,       P02W,      26,          1,         21,         21,2,20130412,       0502,    29.9997,   141.6806,       4278,   703.1,   7.5792,  34.0835,2,  34.0832,2,    150.9,2,   153.2,2,   48.34,2,   25.44,2,       0,2,    1.84,2,   2.787,2,   1.470,2,   0.106,2,      0.9,2,  2188.9,2, 2283.21,2,   7.6002,2,       25,-999.000,9,-999.0000,9, -999.00,9, -999.00,9,  -999.0,9,  -999.0,-999.000,9,-999.000,     -999.0,9, -999.00,9, -999.00,9, -999.00,9,     -999.0,9,  -999.0,9, 20130412,      624,  29.9997,  141.681,    34.2439,2,     -999.0,9,     -999.0,9,     7.5795,2,     -999.0,9,     -999.0,9,-999.0000, -999.00,-999.000
318M20130321,       P02W,      26,          1,         20,         20,2,20130412,       0502,    29.9997,   141.6806,       4278,   805.2,   5.4062,  34.0539,2,   34.052,2,    110.2,2,   108.9,2,   74.41,2,   33.51,2,       0,2,    2.43,2,-999.000,9,-999.000,9,-999.000,9,-999.0000,9,  -999.0,9, -999.00,9,-999.0000,9,  -999.00,-999.000,9,-999.0000,9, -999.00,9, -999.00,9,  -999.0,9,  -999.0,-999.000,9,-999.000,     -999.0,9, -999.00,9, -999.00,9, -999.00,9,     -999.0,9,  -999.0,9, 20130412,      621,  29.9998,  141.681,    34.2126,2,     -999.0,9,     -999.0,9,     5.4115,2,     -999.0,9,     -999.0,9,-999.0000, -999.00,-999.000
318M20130321,       P02W,      26,          1,         19,         19,2,20130412,       0502,    29.9997,   141.6806,       4278,   905.6,   4.7333,  34.1283,2,  34.1275,2,     74.3,2,    77.2,2,    91.1,2,   37.41,2,       0,2,    2.69,2,   1.309,2,   0.735,2,   0.061,2,     0.37,2,  2291.9,2, 2317.52,2,   7.3959,2,       25,-999.000,9,-999.0000,9, -999.00,9, -999.00,9,  -999.0,9,  -999.0,-999.000,9,-999.000,     -999.0,9, -999.00,9, -999.00,9, -999.00,9,     -999.0,9,  -999.0,9, 20130412,      619,  29.9999,  141.681,    34.2884,2,     -999.0,9,     -999.0,9,     4.7328,2,     -999.0,9,     -999.0,9,-999.0000, -999.00,-999.000
318M20130321,       P02W,      26,          1,         18,         18,2,20130412,       0502,    29.9997,   141.6806,       4278,    1003,   4.2089,  34.2221,2,  34.2214,2,     51.6,2,    53.7,2,  106.04,2,   40.12,2,       0,2,    2.88,2,-999.000,9,-999.000,9,-999.000,9,-999.0000,9,  -999.0,9, -999.00,9,-999.0000,9,  -999.00,-999.000,9,-999.0000,9, -999.00,9, -999.00,9,  -999.0,9,  -999.0,-999.000,9,-999.000,     -999.0,9, -999.00,9, -999.00,9, -999.00,9,     -999.0,9,  -999.0,9, 20130412,      616,  30.0001, 141.6807,    34.3827,2,     -999.0,9,     -999.0,9,     4.2105,2,     -999.0,9,     -999.0,9,-999.0000, -999.00,-999.000
318M20130321,       P02W,      26,          1,         17,         17,2,20130412,       0502,    29.9997,   141.6806,       4278,  1107.3,   3.7544,  34.3084,2,  34.3083,2,     41.1,2,    41.6,2,  118.53,2,    41.7,2,       0,2,       3,2,   0.318,2,   0.176,2,   0.012,2,     0.11,2,  2341.8,2, 2355.94,2,   7.3429,2,       25,-999.000,9,-999.0000,9, -999.00,9, -999.00,9,  -999.0,9,  -999.0,-999.000,9,-999.000,     -999.0,9, -999.00,9, -999.00,9, -999.00,9,     -999.0,9,  -999.0,9, 20130412,      613,  30.0004, 141.6804,      34.47,2,     -999.0,9,     -999.0,9,     3.7532,2,     -999.0,9,     -999.0,9,-999.0000, -999.00,-999.000
318M20130321,       P02W,      26,          1,         16,         16,2,20130412,       0502,    29.9997,   141.6806,       4278,  1208.4,    3.445,  34.3544,2,  34.3544,2,     38.6,2,    38.8,2,   127.8,2,   42.29,2,       0,2,    3.02,2,-999.000,9,-999.000,9,-999.000,9,-999.0000,9,    2352,2, 2363.64,2,   7.3397,2,       25,-999.000,9,-999.0000,9, -999.00,9, -999.00,9,  -999.0,9,  -999.0,-999.000,9,-999.000,     -999.0,9, -999.00,9, -999.00,9, -999.00,9,     -999.0,9,  -999.0,9, 20130412,      610,  30.0005, 141.6804,    34.5164,2,     -999.0,9,     -999.0,9,     3.4449,2,     -999.0,9,     -999.0,9,-999.0000, -999.00,-999.000
318M20130321,       P02W,      26,          1,         15,         15,4,20130412,       0502,    29.9997,   141.6806,       4278,  1309.3,   3.1006,  34.4085,2,   34.353,4,       39,2,    38.8,4,  128.38,4,    42.3,4,       0,4,    3.03,4,   0.222,2,   0.125,2,  -0.002,2,     0.08,2,  2353.7,4, 2364.04,3,   7.3394,2,       25,-999.000,9,-999.0000,9, -999.00,9, -999.00,9,  -999.0,9,  -999.0,-999.000,9,-999.000,     -999.0,9, -999.00,9, -999.00,9, -999.00,9,     -999.0,9,  -999.0,9, 20130412,      608,  30.0005, 141.6805,     34.515,4,     -999.0,9,     -999.0,9,     3.0983,2,     -999.0,9,     -999.0,9,-999.0000, -999.00,-999.000
318M20130321,       P02W,      26,          1,         14,         14,2,20130412,       0502,    29.9997,   141.6806,       4278,  1407.1,   2.8545,  34.4523,2,  34.4511,2,     42.4,2,    41.6,2,  144.78,2,   42.65,2,       0,2,    3.04,2,-999.000,9,-999.000,9,-999.000,9,-999.0000,9,  2364.9,2, 2385.45,2,   7.3518,6,       25,-999.000,9,-999.0000,9, -999.00,9, -999.00,9,  -999.0,9,  -999.0,-999.000,9,-999.000,     -999.0,9, -999.00,9, -999.00,9, -999.00,9,     -999.0,9,  -999.0,9, 20130412,      605,  30.0004, 141.6804,    34.6136,2,     -999.0,9,     -999.0,9,     2.8548,2,     -999.0,9,     -999.0,9,-999.0000, -999.00,-999.000
318M20130321,       P02W,      26,          1,         13,         13,2,20130412,       0502,    29.9997,   141.6806,       4278,  1507.9,   2.6238,  34.4871,2,  34.4859,2,     46.5,2,    46.4,2,  149.26,2,   42.53,2,       0,2,    3.03,2,   0.052,2,   0.034,2,   0.006,2,        0,2,    2368,2, 2388.85,2,    7.363,2,       25,-999.000,9,-999.0000,9, -999.00,9, -999.00,9,  -999.0,9,  -999.0,-999.000,9,-999.000,     -999.0,9, -999.00,9, -999.00,9, -999.00,9,     -999.0,9,  -999.0,9, 20130412,      602,  30.0003, 141.6802,    34.6485,2,     -999.0,9,     -999.0,9,     2.6278,2,     -999.0,9,     -999.0,9,-999.0000, -999.00,-999.000
318M20130321,       P02W,      26,          1,         12,         12,2,20130412,       0502,    29.9997,   141.6806,       4278,  1611.1,   2.4553,  34.5089,2,  34.5085,2,     47.9,2,    47.1,2,  154.63,2,    42.6,2,       0,2,    3.03,2,-999.000,9,-999.000,9,-999.000,9,-999.0000,9,  2372.1,2, 2394.35,2,   7.3632,2,       25,-999.000,9,-999.0000,9, -999.00,9, -999.00,9,  -999.0,9,  -999.0,-999.000,9,-999.000,     -999.0,9, -999.00,9, -999.00,9, -999.00,9,     -999.0,9,  -999.0,9, 20130412,      600,  30.0003, 141.6798,    34.6712,2,     -999.0,9,     -999.0,9,     2.4565,2,     -999.0,9,     -999.0,9,-999.0000, -999.00,-999.000
318M20130321,       P02W,      26,          1,         11,         11,2,20130412,       0502,    29.9997,   141.6806,       4278,  1809.6,   2.2288,  34.5554,2,  34.5543,2,     64.5,2,    64.9,2,  155.89,2,   41.56,2,       0,2,    2.95,2,   0.007,2,   0.017,2,  -0.004,2,     0.08,2,  -999.0,9, -999.00,9,-999.0000,9,  -999.00,-999.000,9,-999.0000,9, -999.00,9, -999.00,9,  -999.0,9,  -999.0,-999.000,9,-999.000,     -999.0,9, -999.00,9, -999.00,9, -999.00,9,     -999.0,9,  -999.0,9, 20130412,      555,  30.0002, 141.6798,    34.7172,2,     -999.0,9,     -999.0,9,     2.2296,2,     -999.0,9,     -999.0,9,-999.0000, -999.00,-999.000
318M20130321,       P02W,      26,          1,         10,         10,2,20130412,       0502,    29.9997,   141.6806,       4278,  2014.2,   2.0149,  34.5902,2,  34.5898,2,     79.5,2,    80.2,2,  158.23,2,    40.7,2,       0,2,    2.87,2,-999.000,9,-999.000,9,-999.000,9,-999.0000,9,  -999.0,9, -999.00,9,-999.0000,9,  -999.00,-999.000,9,-999.0000,9, -999.00,9, -999.00,9,  -999.0,9,  -999.0,-999.000,9,-999.000,     -999.0,9, -999.00,9, -999.00,9, -999.00,9,     -999.0,9,  -999.0,9, 20130412,      551,  30.0002, 141.6795,    34.7529,2,     -999.0,9,     -999.0,9,      2.014,2,     -999.0,9,     -999.0,9,-999.0000, -999.00,-999.000
318M20130321,       P02W,      26,          1,          9,          9,2,20130412,       0502,    29.9997,   141.6806,       4278,  2269.4,   1.8532,  34.6167,2,  34.6173,2,     95.3,2,    95.8,2,  158.42,2,   39.78,2,       0,2,    2.79,2,   0.002,2,   0.014,2,   0.008,2,      0.1,2,  2355.5,2, 2411.36,2,    7.465,2,       25,-999.000,9,-999.0000,9, -999.00,9, -999.00,9,  -999.0,9,  -999.0,-999.000,9,-999.000,     -999.0,9, -999.00,9, -999.00,9, -999.00,9,     -999.0,9,  -999.0,9, 20130412,      545,       30, 141.6793,    34.7805,2,     -999.0,9,     -999.0,9,     1.8531,2,     -999.0,9,     -999.0,9,-999.0000, -999.00,-999.000
318M20130321,       P02W,      26,          1,          8,          8,2,20130412,       0502,    29.9997,   141.6806,       4278,  2526.1,   1.7401,  34.6358,2,  34.6358,2,    108.9,2,   108.5,2,  157.64,2,   38.96,2,       0,2,    2.72,2,-999.000,9,-999.000,9,-999.000,9,-999.0000,9,  -999.0,9, -999.00,9,-999.0000,9,  -999.00,-999.000,9,-999.0000,9, -999.00,9, -999.00,9,  -999.0,9,  -999.0,-999.000,9,-999.000,     -999.0,9, -999.00,9, -999.00,9, -999.00,9,     -999.0,9,  -999.0,9, 20130412,      540,  29.9998, 141.6797,    34.7991,2,     -999.0,9,     -999.0,9,     1.7398,2,     -999.0,9,     -999.0,9,-999.0000, -999.00,-999.000