BOTTLE,20220817CCHSIOAMB
EXPOCODE,SECT_ID,STNNBR,CASTNO,SAMPNO,BTLNBR,BTLNBR_FLAG_W,DATE,TIME,LATITUDE,LONGITUDE,DEPTH,CTDPRS,CTDTMP,CTDSAL,CTDSAL_FLAG_W,SALNTY,SALNTY_FLAG_W,CTDOXY,CTDOXY_FLAG_W,OXYGEN,OXYGEN_FLAG_W,SILCAT,SILCAT_FLAG_W,NITRAT,NITRAT_FLAG_W,NITRIT,NITRIT_FLAG_W,PHSPHT,PHSPHT_FLAG_W,CFC-11,CFC-11_FLAG_W,CFC-12,CFC-12_FLAG_W,CFC113,CFC113_FLAG_W,SF6,SF6_FLAG_W,TCARBN,TCARBN_FLAG_W,ALKALI,ALKALI_FLAG_W,PH_TOT,PH_TOT_FLAG_W,PH_TMP,TRITUM,TRITUM_FLAG_W,HELIUM,HELIUM_FLAG_W,DELHE3,DELHE3_FLAG_W,DELC13,DELC13_FLAG_W,DELC14,DELC14_FLAG_W,C14ERR,NEON,NEON_FLAG_W,NEONER,I-129,I-129_FLAG_W,SR-90,SR-90_FLAG_W,DOC,DOC_FLAG_W,TDN,TDN_FLAG_W,CALCIUM,CALCIUM_FLAG_W,D15N_NO3,D15N_NO3_FLAG_W,BTL_DATE,BTL_TIME,BTL_LAT,BTL_LON,SALTREF,SALTREF_FLAG_W,CS-137,CS-137_FLAG_W,CS-134,CS-134_FLAG_W,REFTMP,REFTMP_FLAG_W,LAB_DEN,LAB_DEN_FLAG_W,D18O_NO3,D18O_NO3_FLAG_W,HELIER,DELHER,TRITER
,,,,,,,,,,,METERS,DBAR,ITS-90,PSS-78,,PSS-78,,UMOL/KG,,UMOL/KG,,UMOL/KG,,UMOL/KG,,UMOL/KG,,UMOL/KG,,PMOL/KG,,PMOL/KG,,PMOL/KG,,FMOL/KG,,UMOL/KG,,UMOL/KG,,,,DEG C,TU,,NMOL/KG,,PERCNT,,/MILLE,,/MILLE,,/MILLE,NMOL/KG,,NMOL/KG,BQ/M^3,,DM/.1MG,,UMOL/KG,,UMOL/KG,,MMOL/KG,,/MILLE,,,,,,G/KG,,BQ/M^3,,BQ/M^3,,ITS-90,,,,/MILLE,,NMOL/KG,PERCNT,TU
318M20130321,       P02W,      71,          1,          6,          6,2,20130427,       1556,    30.0007,    177.808,       5328,  3756.5,   1.4589,  34.6809,2,  34.6805,2,    145.5,2,   145.2,2,   154.8,2,   36.48,2,       0,2,    2.57,2,   0.000,2,   0.007,2,   0.000,2,        0,2,  -999.0,9, -999.00,9,-999.0000,9,  -999.00,-999.000,9,-999.0000,9, -999.00,9, -999.00,9,  -999.0,9,  -999.0,-999.000,9,-999.000,     -999.0,9, -999.00,9, -999.00,9, -999.00,9,     -999.0,9,  -999.0,9, 20130427,     1629,  30.0002, 177.8081,     34.844,2,     -999.0,9,     -999.0,9,     1.4592,2,     -999.0,9,     -999.0,9,-999.0000, -999.00,-999.000
318M20130321,       P02W,      71,          1,          5,         37,2,20130427,       1556,    30.0007,    177.808,       5328,  4164.6,   1.4547,  34.6861,2,  34.6858,2,    152.4,2,   151.9,2,  152.17,2,   36.02,2,       0,2,    2.56,2,-999.000,9,-999.000,9,-999.000,9,-999.0000,9,  2324.2,2, 2415.76,2,   7.5705,6,       25,-999.000,9,-999.0000,9, -999.00,9, -999.00,9,  -999.0,9,  -999.0,-999.000,9,-999.000,     -999.0,9, -999.00,9,   36.83,2, -999.00,9,     -999.0,9,  -999.0,9, 20130427,     1622,  30.0001, 177.8079,    34.8493,2,     -999.0,9,     -999.0,9,     1.4547,2,     -999.0,9,     -999.0,9,-999.0000, -999.00,-999.000
318M20130321,       P02W,      71,          1,          4,          4,2,20130427,       1556,    30.0007,    177.808,       5328,  4573.8,   1.4566,  34.6905,2,  34.6895,2,    159.6,2,     160,2,  147.29,2,   35.48,2,       0,2,     2.5,2,-999.000,9,-999.000,9,-999.000,9,-999.0000,9,  -999.0,9, -999.00,9,-999.0000,9,  -999.00,-999.000,9,-999.0000,9, -999.00,9, -999.00,9,  -999.0,9,  -999.0,-999.000,9,-999.000,     -999.0,9, -999.00,9, -999.00,9, -999.00,9,     -999.0,9,  -999.0,9, 20130427,     1613,       30, 177.8081,    34.8531,2,     -999.0,9,     -999.0,9,     1.4566,2,     -999.0,9,     -999.0,9,-999.0000, -999.00,-999.000
318M20130321,       P02W,      71,          1,          3,          3,2,20130427,       1556,    30.0007,    177.808,       5328,  4986.9,   1.4655,  34.6941,2,  34.6932,2,    165.5,2,   166.5,2,  141.53,2,   34.98,2,       0,2,    2.48,2,   0.000,2,   0.008,2,   0.000,2,        0,2,  -999.0,9, -999.00,9,-999.0000,9,  -999.00,-999.000,9,-999.0000,9, -999.00,9, -999.00,9,  -999.0,9,  -999.0,-999.000,9,-999.000,     -999.0,9, -999.00,9,   34.77,2, -999.00,9,     -999.0,9,  -999.0,9, 20130427,     1606,       30, 177.8075,    34.8568,2,     -999.0,9,     -999.0,9,     1.4658,2,     -999.0,9,     -999.0,9,-999.0000, -999.00,-999.000
318M20130321,       P02W,      71,          1,          2,          2,2,20130427,       1556,    30.0007,    177.808,       5328,  5246.1,   1.4848,  34.6953,2,  34.6946,2,    169.7,2,   169.3,2,  139.48,2,   34.84,2,       0,2,    2.44,2,   0.000,4,   0.000,4,   0.000,4,        0,2,  2307.8,6, 2407.46,2,    7.589,2,       25,-999.000,9,-999.0000,9, -999.00,9, -999.00,9,  -999.0,9,  -999.0,-999.000,9,-999.000,     -999.0,9, -999.00,9,   35.64,2, -999.00,9,     -999.0,9,  -999.0,9, 20130427,     1600,  30.0001, 177.8079,    34.8582,2,     -999.0,9,     -999.0,9,      1.485,2,     -999.0,9,     -999.0,9,-999.0000, -999.00,-999.000
318M20130321,       P02W,      71,          1,          1,          1,2,20130427,       1556,    30.0007,    177.808,       5328,  5414.4,   1.5036,  34.6952,2,  34.6952,2,    170.4,2,   169.9,2,   138.8,2,   34.77,2,       0,2,    2.43,2,   0.000,2,   0.010,2,   0.000,2,        0,2,  2306.2,2, 2404.85,2,   7.5912,2,       25,-999.000,9,-999.0000,9, -999.00,9, -999.00,9,  -999.0,9,  -999.0,-999.000,9,-999.000,     -999.0,9, -999.00,9,   35.79,2, -999.00,9,     -999.0,9,  -999.0,9, 20130427,     1556,  30.0006, 177.8081,    34.8588,2,     -999.0,9,     -999.0,9,     1.5031,2,     -999.0,9,     -999.0,9,-999.0000, -999.00,-999.000