BOTTLE,20220817CCHSIOAMB
EXPOCODE,SECT_ID,STNNBR,CASTNO,SAMPNO,BTLNBR,BTLNBR_FLAG_W,DATE,TIME,LATITUDE,LONGITUDE,DEPTH,CTDPRS,CTDTMP,CTDSAL,CTDSAL_FLAG_W,SALNTY,SALNTY_FLAG_W,CTDOXY,CTDOXY_FLAG_W,OXYGEN,OXYGEN_FLAG_W,SILCAT,SILCAT_FLAG_W,NITRAT,NITRAT_FLAG_W,NITRIT,NITRIT_FLAG_W,PHSPHT,PHSPHT_FLAG_W,CFC-11,CFC-11_FLAG_W,CFC-12,CFC-12_FLAG_W,CFC113,CFC113_FLAG_W,SF6,SF6_FLAG_W,TCARBN,TCARBN_FLAG_W,ALKALI,ALKALI_FLAG_W,PH_TOT,PH_TOT_FLAG_W,PH_TMP,TRITUM,TRITUM_FLAG_W,HELIUM,HELIUM_FLAG_W,DELHE3,DELHE3_FLAG_W,DELC13,DELC13_FLAG_W,DELC14,DELC14_FLAG_W,C14ERR,NEON,NEON_FLAG_W,NEONER,I-129,I-129_FLAG_W,SR-90,SR-90_FLAG_W,DOC,DOC_FLAG_W,TDN,TDN_FLAG_W,CALCIUM,CALCIUM_FLAG_W,D15N_NO3,D15N_NO3_FLAG_W,BTL_DATE,BTL_TIME,BTL_LAT,BTL_LON,SALTREF,SALTREF_FLAG_W,CS-137,CS-137_FLAG_W,CS-134,CS-134_FLAG_W,REFTMP,REFTMP_FLAG_W,LAB_DEN,LAB_DEN_FLAG_W,D18O_NO3,D18O_NO3_FLAG_W,HELIER,DELHER,TRITER
,,,,,,,,,,,METERS,DBAR,ITS-90,PSS-78,,PSS-78,,UMOL/KG,,UMOL/KG,,UMOL/KG,,UMOL/KG,,UMOL/KG,,UMOL/KG,,PMOL/KG,,PMOL/KG,,PMOL/KG,,FMOL/KG,,UMOL/KG,,UMOL/KG,,,,DEG C,TU,,NMOL/KG,,PERCNT,,/MILLE,,/MILLE,,/MILLE,NMOL/KG,,NMOL/KG,BQ/M^3,,DM/.1MG,,UMOL/KG,,UMOL/KG,,MMOL/KG,,/MILLE,,,,,,G/KG,,BQ/M^3,,BQ/M^3,,ITS-90,,,,/MILLE,,NMOL/KG,PERCNT,TU
318M20130321,       P02E,     127,          1,          5,         37,2,20130524,       1937,    30.0002,  -134.1326,       4636,  3787.1,   1.4745,  34.6828,2,  34.6829,2,    138.9,2,   139.6,2,  164.66,2,    36.8,2,       0,2,    2.58,2,-999.000,9,-999.000,9,-999.000,9,-999.0000,9,  -999.0,9, -999.00,9,-999.0000,9,  -999.00,   0.003,2,   1.9890,3,   16.30,2, -999.00,9,  -999.0,9,  -999.0,   8.467,3,   0.039,     -999.0,9, -999.00,9,   34.67,2, -999.00,9,     -999.0,9,  -999.0,1, 20130524,     1956,  30.0003, -134.133,    34.8465,2,     -999.0,9,     -999.0,9,     1.4746,2,     -999.0,9,     -999.0,1,   0.0084,    0.15,   0.011
318M20130321,       P02E,     127,          1,          4,          4,2,20130524,       1937,    30.0002,  -134.1326,       4636,  4198.1,    1.503,  34.6847,2,  34.6853,2,    143.3,2,   143.5,2,  162.51,2,   36.58,2,       0,2,    2.54,2,   0.005,2,   0.008,2,-999.000,1,        0,2,  2336.6,2, 2427.96,6,   7.5657,2,       25,   0.006,2,   1.9335,2,   16.33,2, -999.00,9,  -999.0,9,  -999.0,   8.261,2,   0.038,     -999.0,9, -999.00,9,   36.12,2, -999.00,9,     -999.0,9,  -999.0,1, 20130524,     1948,  30.0004,-134.1328,    34.8489,2,     -999.0,9,     -999.0,9,     1.5029,2,     -999.0,9,     -999.0,1,   0.0081,    0.15,   0.011
318M20130321,       P02E,     127,          1,          3,          3,2,20130524,       1937,    30.0002,  -134.1326,       4636,  4573.8,   1.5451,  34.6852,2,  34.6853,2,      144,2,     144,2,  162.03,2,   36.58,2,       0,2,    2.55,2,   0.009,2,   0.007,2,-999.000,1,        0,2,  -999.0,9, -999.00,9,-999.0000,9,  -999.00,-999.000,9,-999.0000,9, -999.00,9, -999.00,9,  -999.0,9,  -999.0,-999.000,9,-999.000,     -999.0,9, -999.00,9,   35.22,2, -999.00,9,     -999.0,9,  -999.0,1, 20130524,     1940,  30.0001,-134.1334,    34.8489,2,     -999.0,9,     -999.0,9,      1.545,2,     -999.0,9,     -999.0,1,-999.0000, -999.00,-999.000
318M20130321,       P02E,     127,          1,          2,          2,2,20130524,       1937,    30.0002,  -134.1326,       4636,  4724.5,   1.5635,  34.6852,2,  34.6849,2,      144,2,   143.8,2,  162.42,2,   36.61,2,       0,2,    2.55,2,   0.007,2,   0.008,2,-999.000,1,        0,2,    2337,6, 2429.06,2,   7.5667,2,       25,   0.003,2,   1.8908,3,   15.97,2, -999.00,9,  -999.0,9,  -999.0,   8.266,2,   0.038,     -999.0,9, -999.00,9,   34.77,2, -999.00,9,     -999.0,9,  -999.0,1, 20130524,     1937,  30.0002,-134.1326,    34.8485,2,     -999.0,9,     -999.0,9,     1.5636,2,     -999.0,9,     -999.0,1,   0.0079,    0.15,   0.011