BOTTLE,20220817CCHSIOAMB
EXPOCODE,SECT_ID,STNNBR,CASTNO,SAMPNO,BTLNBR,BTLNBR_FLAG_W,DATE,TIME,LATITUDE,LONGITUDE,DEPTH,CTDPRS,CTDTMP,CTDSAL,CTDSAL_FLAG_W,SALNTY,SALNTY_FLAG_W,CTDOXY,CTDOXY_FLAG_W,OXYGEN,OXYGEN_FLAG_W,SILCAT,SILCAT_FLAG_W,NITRAT,NITRAT_FLAG_W,NITRIT,NITRIT_FLAG_W,PHSPHT,PHSPHT_FLAG_W,CFC-11,CFC-11_FLAG_W,CFC-12,CFC-12_FLAG_W,CFC113,CFC113_FLAG_W,SF6,SF6_FLAG_W,TCARBN,TCARBN_FLAG_W,ALKALI,ALKALI_FLAG_W,PH_TOT,PH_TOT_FLAG_W,PH_TMP,TRITUM,TRITUM_FLAG_W,HELIUM,HELIUM_FLAG_W,DELHE3,DELHE3_FLAG_W,DELC13,DELC13_FLAG_W,DELC14,DELC14_FLAG_W,C14ERR,NEON,NEON_FLAG_W,NEONER,I-129,I-129_FLAG_W,SR-90,SR-90_FLAG_W,DOC,DOC_FLAG_W,TDN,TDN_FLAG_W,CALCIUM,CALCIUM_FLAG_W,D15N_NO3,D15N_NO3_FLAG_W,BTL_DATE,BTL_TIME,BTL_LAT,BTL_LON,SALTREF,SALTREF_FLAG_W,CS-137,CS-137_FLAG_W,CS-134,CS-134_FLAG_W,REFTMP,REFTMP_FLAG_W,LAB_DEN,LAB_DEN_FLAG_W,D18O_NO3,D18O_NO3_FLAG_W,HELIER,DELHER,TRITER
,,,,,,,,,,,METERS,DBAR,ITS-90,PSS-78,,PSS-78,,UMOL/KG,,UMOL/KG,,UMOL/KG,,UMOL/KG,,UMOL/KG,,UMOL/KG,,PMOL/KG,,PMOL/KG,,PMOL/KG,,FMOL/KG,,UMOL/KG,,UMOL/KG,,,,DEG C,TU,,NMOL/KG,,PERCNT,,/MILLE,,/MILLE,,/MILLE,NMOL/KG,,NMOL/KG,BQ/M^3,,DM/.1MG,,UMOL/KG,,UMOL/KG,,MMOL/KG,,/MILLE,,,,,,G/KG,,BQ/M^3,,BQ/M^3,,ITS-90,,,,/MILLE,,NMOL/KG,PERCNT,TU
318M20130321,       P02E,     141,          1,         36,         36,2,20130528,       2131,    30.0012,  -123.7607,       4374,     2.2,  16.9063,  33.5183,2,   33.518,2,    245.2,2,   245.6,2,    2.64,2,       0,2,       0,2,    0.25,2,   2.399,2,   1.432,2,-999.000,1,   1.6942,2,  2019.1,6, 2236.69,2,   7.9106,2,       25,-999.000,9,-999.0000,9, -999.00,9, -999.00,9,  -999.0,9,  -999.0,-999.000,9,-999.000,     -999.0,9, -999.00,9,   65.14,2,    3.88,2,     -999.0,9,  -999.0,9, 20130528,     2324,  30.0011, -123.761,    33.6761,2,     -999.0,9,     -999.0,9,    16.9059,2,     -999.0,9,     -999.0,9,-999.0000, -999.00,-999.000
318M20130321,       P02E,     141,          1,         34,         34,2,20130528,       2131,    30.0012,  -123.7607,       4374,    35.4,  16.7207,  33.5217,2,  33.5217,2,    247.1,2,   246.3,2,    2.54,2,       0,2,       0,2,    0.25,2,   2.407,6,   1.430,6,-999.000,1,    1.655,6,  2019.5,2, 2236.19,2,   7.9128,6,       25,-999.000,9,-999.0000,9, -999.00,9, -999.00,9,  -999.0,9,  -999.0,-999.000,9,-999.000,     -999.0,9, -999.00,9,   62.69,2,    5.18,2,     -999.0,9,  -999.0,9, 20130528,     2322,   30.001,-123.7609,    33.6798,2,     -999.0,9,     -999.0,9,    16.7199,2,     -999.0,9,     -999.0,9,-999.0000, -999.00,-999.000
318M20130321,       P02E,     141,          1,         33,         33,2,20130528,       2131,    30.0012,  -123.7607,       4374,      60,  15.2375,  33.4025,2,  33.3998,2,    265.5,2,   257.6,2,    2.54,2,       0,2,       0,2,    0.26,2,   2.603,2,   1.536,2,-999.000,1,   1.7678,2,  2013.5,2, 2226.39,6,   7.9108,2,       25,-999.000,9,-999.0000,9, -999.00,9, -999.00,9,  -999.0,9,  -999.0,-999.000,9,-999.000,     -999.0,9, -999.00,9,   63.73,2,    4.69,2,     -999.0,9,  -999.0,9, 20130528,     2320,   30.001,-123.7609,    33.5573,2,     -999.0,9,     -999.0,9,    15.2239,2,     -999.0,9,     -999.0,9,-999.0000, -999.00,-999.000
318M20130321,       P02E,     141,          1,         32,         32,2,20130528,       2131,    30.0012,  -123.7607,       4374,    84.8,  13.9738,  33.3317,2,  33.3303,2,    261.5,2,   262.6,2,    2.93,2,       0,2,       0,2,     0.3,2,   2.752,2,   1.616,2,-999.000,1,   1.7634,2,  2015.8,2, 2222.59,2,   7.8971,2,       25,-999.000,9,-999.0000,9, -999.00,9, -999.00,9,  -999.0,9,  -999.0,-999.000,9,-999.000,     -999.0,9, -999.00,9,   61.49,2,    3.98,2,     -999.0,9,  -999.0,9, 20130528,     2318,  30.0009,-123.7607,    33.4875,2,     -999.0,9,     -999.0,9,    13.9732,2,     -999.0,9,     -999.0,9,-999.0000, -999.00,-999.000
318M20130321,       P02E,     141,          1,         31,         31,2,20130528,       2131,    30.0012,  -123.7607,       4374,   115.1,  12.4032,  33.3437,2,  33.3484,2,    238.1,2,   236.9,2,    5.67,2,    4.97,2,    0.12,2,    0.64,2,   2.941,2,   1.716,2,-999.000,1,   1.8412,2,  -999.0,9, 2219.29,2,-999.0000,9,  -999.00,-999.000,9,-999.0000,9, -999.00,9, -999.00,9,  -999.0,9,  -999.0,-999.000,9,-999.000,     -999.0,9, -999.00,9,   56.34,2,   10.32,3,     -999.0,9,  -999.0,9, 20130528,     2316,  30.0009,-123.7607,    33.5057,2,     -999.0,9,     -999.0,9,    12.4023,2,     -999.0,9,     -999.0,9,-999.0000, -999.00,-999.000
318M20130321,       P02E,     141,          1,         30,         30,2,20130528,       2131,    30.0012,  -123.7607,       4374,   164.9,  10.0063,  33.5815,2,  33.5765,2,    166.7,2,   172.2,2,   17.39,2,   18.21,2,    0.01,2,    1.47,2,   3.167,2,   1.792,2,-999.000,1,   1.4086,2,    2131,2, 2227.19,2,   7.6206,6,       25,-999.000,9,-999.0000,9, -999.00,9, -999.00,9,  -999.0,9,  -999.0,-999.000,9,-999.000,     -999.0,9, -999.00,9,   56.83,2,   24.32,3,     -999.0,9,  -999.0,9, 20130528,     2314,   30.001,-123.7607,    33.7348,2,     -999.0,9,     -999.0,9,    10.0132,2,     -999.0,9,     -999.0,9,-999.0000, -999.00,-999.000
318M20130321,       P02E,     141,          1,         29,         29,2,20130528,       2131,    30.0012,  -123.7607,       4374,   215.1,   8.8186,  33.9122,2,  33.9048,2,    128.9,2,   129.8,2,    29.1,2,   25.35,2,       0,2,    1.91,2,   2.987,2,   1.632,2,-999.000,1,   1.2349,2,  2183.9,2,    2251,2,   7.5241,2,       25,-999.000,9,-999.0000,9, -999.00,9, -999.00,9,  -999.0,9,  -999.0,-999.000,9,-999.000,     -999.0,9, -999.00,9,   48.07,2,   31.56,3,     -999.0,9,  -999.0,9, 20130528,     2312,  30.0012,-123.7608,    34.0647,2,     -999.0,9,     -999.0,9,     8.8191,2,     -999.0,9,     -999.0,9,-999.0000, -999.00,-999.000
318M20130321,       P02E,     141,          1,         27,         27,2,20130528,       2131,    30.0012,  -123.7607,       4374,   261.5,   8.2402,  34.0064,2,  34.0051,2,    105.4,2,   108.7,2,   36.52,2,    28.4,2,       0,2,    2.13,2,   2.716,2,   1.442,2,-999.000,1,   0.8462,2,  2208.3,2,  2261.3,2,   7.4808,2,       25,-999.000,9,-999.0000,9, -999.00,9, -999.00,9,  -999.0,9,  -999.0,-999.000,9,-999.000,     -999.0,9, -999.00,9,   48.17,2,   36.73,3,     -999.0,9,  -999.0,9, 20130528,     2310,  30.0012,-123.7609,    34.1655,2,     -999.0,9,     -999.0,9,     8.2429,2,     -999.0,9,     -999.0,9,-999.0000, -999.00,-999.000
318M20130321,       P02E,     141,          1,         26,         26,2,20130528,       2131,    30.0012,  -123.7607,       4374,   317.8,    7.462,  34.0358,2,  34.0373,2,     86.6,2,    94.3,2,   45.51,2,   31.09,2,       0,2,    2.32,2,   2.376,2,   1.226,2,-999.000,1,   0.5626,2,  2229.2,2, 2271.61,2,    7.444,2,       25,-999.000,9,-999.0000,9, -999.00,9, -999.00,9,  -999.0,9,  -999.0,-999.000,9,-999.000,     -999.0,9, -999.00,9,   43.96,2,   38.18,3,     -999.0,9,  -999.0,9, 20130528,     2308,  30.0011,-123.7607,    34.1978,2,     -999.0,9,     -999.0,9,     7.4632,2,     -999.0,9,     -999.0,9,-999.0000, -999.00,-999.000
318M20130321,       P02E,     141,          1,         25,         25,2,20130528,       2131,    30.0012,  -123.7607,       4374,   366.6,   6.7531,  34.0831,2,  34.0859,2,     64.9,2,    63.4,2,   57.22,2,   34.95,2,       0,2,    2.63,2,   1.694,2,   0.841,2,-999.000,1,   0.2955,2,    2262,2, 2282.71,2,   7.3773,2,       25,-999.000,9,-999.0000,9, -999.00,9, -999.00,9,  -999.0,9,  -999.0,-999.000,9,-999.000,     -999.0,9, -999.00,9,   41.88,2, -999.00,9,     -999.0,9,  -999.0,9, 20130528,     2306,  30.0012,-123.7607,    34.2466,2,     -999.0,9,     -999.0,9,     6.7566,2,     -999.0,9,     -999.0,9,-999.0000, -999.00,-999.000
318M20130321,       P02E,     141,          1,         24,         24,2,20130528,       2131,    30.0012,  -123.7607,       4374,   438.2,   6.1805,   34.139,2,  34.1388,2,     37.1,2,    39.5,2,   67.96,2,   37.78,2,       0,2,    2.88,2,   1.066,2,   0.514,2,-999.000,1,   0.1257,2,  2287.5,2, 2295.02,2,   7.3334,2,       25,-999.000,9,-999.0000,9, -999.00,9, -999.00,9,  -999.0,9,  -999.0,-999.000,9,-999.000,     -999.0,9, -999.00,9,    41.6,2, -999.00,9,     -999.0,9,  -999.0,9, 20130528,     2304,  30.0012,-123.7607,    34.2998,2,     -999.0,9,     -999.0,9,     6.1859,2,     -999.0,9,     -999.0,9,-999.0000, -999.00,-999.000
318M20130321,       P02E,     141,          1,         23,         23,2,20130528,       2131,    30.0012,  -123.7607,       4374,   537.6,    5.474,  34.2138,2,  34.2129,2,     23.8,2,    23.6,2,   82.21,2,   40.28,2,       0,2,    3.09,2,   0.413,2,   0.209,2,-999.000,1,   0.1041,2,  -999.0,9, -999.00,9,-999.0000,9,  -999.00,-999.000,9,-999.0000,9, -999.00,9, -999.00,9,  -999.0,9,  -999.0,-999.000,9,-999.000,     -999.0,9, -999.00,9, -999.00,5, -999.00,9,     -999.0,9,  -999.0,9, 20130528,     2301,  30.0012,-123.7607,    34.3742,2,     -999.0,9,     -999.0,9,     5.4638,2,     -999.0,9,     -999.0,9,-999.0000, -999.00,-999.000
318M20130321,       P02E,     141,          1,         22,         22,2,20130528,       2131,    30.0012,  -123.7607,       4374,   638.8,   5.1553,  34.3181,2,  34.3171,2,     13.6,2,    12.3,2,   91.97,2,    41.6,2,       0,2,    3.21,2,   0.118,2,   0.063,2,-999.000,1,        0,2,  2332.8,2, 2330.83,2,    7.301,2,       25,-999.000,9,-999.0000,9, -999.00,9, -999.00,9,  -999.0,9,  -999.0,-999.000,9,-999.000,     -999.0,9, -999.00,9, -999.00,5, -999.00,9,     -999.0,9,  -999.0,9, 20130528,     2258,  30.0012,-123.7607,    34.4789,2,     -999.0,9,     -999.0,9,     5.1535,2,     -999.0,9,     -999.0,9,-999.0000, -999.00,-999.000
318M20130321,       P02E,     141,          1,         21,         21,2,20130528,       2131,    30.0012,  -123.7607,       4374,     739,   4.6978,   34.385,2,  34.3838,2,     13.5,2,    12.9,2,  102.12,2,   42.62,2,       0,2,    3.25,2,   0.040,2,   0.025,2,-999.000,1,        0,2,  2345.5,2, 2345.73,2,   7.3095,2,       25,-999.000,9,-999.0000,9, -999.00,9, -999.00,9,  -999.0,9,  -999.0,-999.000,9,-999.000,     -999.0,9, -999.00,9,   37.58,2, -999.00,9,     -999.0,9,  -999.0,9, 20130528,     2256,  30.0012,-123.7607,    34.5459,2,     -999.0,9,     -999.0,9,     4.7008,2,     -999.0,9,     -999.0,9,-999.0000, -999.00,-999.000
318M20130321,       P02E,     141,          1,         20,         20,2,20130528,       2131,    30.0012,  -123.7607,       4374,     841,   4.3789,  34.4366,2,  34.4356,2,     16.7,2,    17.1,2,  108.66,2,   43.04,2,       0,2,    3.25,2,   0.026,2,   0.018,2,-999.000,1,        0,2,  2351.7,2, 2357.74,2,   7.3224,2,       25,-999.000,9,-999.0000,9, -999.00,9, -999.00,9,  -999.0,9,  -999.0,-999.000,9,-999.000,     -999.0,9, -999.00,9,   38.72,2, -999.00,9,     -999.0,9,  -999.0,9, 20130528,     2253,  30.0012,-123.7607,     34.598,2,     -999.0,9,     -999.0,9,     4.3777,2,     -999.0,9,     -999.0,9,-999.0000, -999.00,-999.000
318M20130321,       P02E,     141,          1,         19,         19,2,20130528,       2131,    30.0012,  -123.7607,       4374,   941.4,   4.0772,  34.4659,2,   34.465,2,     20.8,2,    21.8,2,   114.9,2,   43.22,2,       0,2,    3.24,2,   0.019,2,   0.014,2,-999.000,1,        0,2,  -999.0,9, -999.00,9,-999.0000,9,  -999.00,-999.000,9,-999.0000,9, -999.00,9, -999.00,9,  -999.0,9,  -999.0,-999.000,9,-999.000,     -999.0,9, -999.00,9,   39.09,2, -999.00,9,     -999.0,9,  -999.0,9, 20130528,     2250,  30.0012,-123.7607,    34.6276,2,     -999.0,9,     -999.0,9,     4.0771,2,     -999.0,9,     -999.0,9,-999.0000, -999.00,-999.000
318M20130321,       P02E,     141,          1,         18,         18,2,20130528,       2131,    30.0012,  -123.7607,       4374,  1043.4,   3.8038,  34.4923,2,   34.491,2,       26,2,      27,2,  120.66,2,   43.22,2,       0,2,    3.23,2,   0.017,2,   0.012,2,-999.000,1,        0,2,  2360.4,2, 2372.94,2,   7.3428,2,       25,-999.000,9,-999.0000,9, -999.00,9, -999.00,9,  -999.0,9,  -999.0,-999.000,9,-999.000,     -999.0,9, -999.00,9,    39.3,2, -999.00,9,     -999.0,9,  -999.0,9, 20130528,     2248,  30.0012,-123.7607,    34.6536,2,     -999.0,9,     -999.0,9,     3.8065,2,     -999.0,9,     -999.0,9,-999.0000, -999.00,-999.000
318M20130321,       P02E,     141,          1,         17,         17,2,20130528,       2131,    30.0012,  -123.7607,       4374,  1144.2,   3.5489,  34.5153,2,  34.5151,2,     31.6,2,      33,2,   126.9,2,   43.08,2,       0,2,     3.2,2,   0.016,2,   0.010,2,-999.000,1,        0,2,  -999.0,9, -999.00,9,-999.0000,9,  -999.00,-999.000,9,-999.0000,9, -999.00,9, -999.00,9,  -999.0,9,  -999.0,-999.000,9,-999.000,     -999.0,9, -999.00,9,    39.1,2, -999.00,9,     -999.0,9,  -999.0,9, 20130528,     2245,  30.0012,-123.7607,    34.6779,2,     -999.0,9,     -999.0,9,     3.5491,2,     -999.0,9,     -999.0,9,-999.0000, -999.00,-999.000
318M20130321,       P02E,     141,          1,         16,         16,2,20130528,       2131,    30.0012,  -123.7607,       4374,  1245.3,   3.3424,  34.5309,2,   34.531,2,     36.4,2,    37.1,2,  131.78,2,   42.98,2,       0,2,    3.18,2,   0.017,2,   0.013,2,-999.000,1,        0,2,  2366.5,2, 2387.05,2,   7.3631,6,       25,-999.000,9,-999.0000,9, -999.00,9, -999.00,9,  -999.0,9,  -999.0,-999.000,9,-999.000,     -999.0,9, -999.00,9,   39.62,2, -999.00,9,     -999.0,9,  -999.0,9, 20130528,     2242,  30.0012,-123.7607,    34.6939,2,     -999.0,9,     -999.0,9,     3.3421,2,     -999.0,9,     -999.0,9,-999.0000, -999.00,-999.000
318M20130321,       P02E,     141,          1,         15,         15,2,20130528,       2131,    30.0012,  -123.7607,       4374,  1347.5,     3.15,  34.5444,2,  34.5444,2,     40.9,2,      41,2,  136.66,2,   42.84,2,       0,2,    3.16,2,   0.017,2,   0.013,2,-999.000,1,        0,2,  -999.0,9, -999.00,9,-999.0000,9,  -999.00,-999.000,9,-999.0000,9, -999.00,9, -999.00,9,  -999.0,9,  -999.0,-999.000,9,-999.000,     -999.0,9, -999.00,9,   40.77,2, -999.00,9,     -999.0,9,  -999.0,9, 20130528,     2239,  30.0012,-123.7607,    34.7073,2,     -999.0,9,     -999.0,9,     3.1503,2,     -999.0,9,     -999.0,9,-999.0000, -999.00,-999.000
318M20130321,       P02E,     141,          1,         14,         14,2,20130528,       2131,    30.0012,  -123.7607,       4374,  1448.7,   2.9186,    34.56,2,  34.5591,2,     47.5,2,    47.5,2,  142.23,2,   42.53,2,       0,2,    3.12,2,   0.018,2,   0.014,2,-999.000,1,        0,2,  2370.4,2, 2396.75,2,   7.3819,2,       25,-999.000,9,-999.0000,9, -999.00,9, -999.00,9,  -999.0,9,  -999.0,-999.000,9,-999.000,     -999.0,9, -999.00,9,   36.62,2, -999.00,9,     -999.0,9,  -999.0,9, 20130528,     2237,  30.0012,-123.7607,    34.7221,2,     -999.0,9,     -999.0,9,     2.9211,2,     -999.0,9,     -999.0,9,-999.0000, -999.00,-999.000
318M20130321,       P02E,     141,          1,         13,         13,2,20130528,       2131,    30.0012,  -123.7607,       4374,  1551.3,     2.76,  34.5741,2,  34.5743,2,     51.2,2,    52.6,2,  146.42,2,   42.29,2,       0,2,    3.09,2,   0.014,2,   0.011,2,-999.000,1,        0,2,  -999.0,9, -999.00,9,-999.0000,9,  -999.00,-999.000,9,-999.0000,9, -999.00,9, -999.00,9,  -999.0,9,  -999.0,-999.000,9,-999.000,     -999.0,9, -999.00,9,   34.54,2, -999.00,9,     -999.0,9,  -999.0,9, 20130528,     2234,  30.0012,-123.7607,    34.7373,2,     -999.0,9,     -999.0,9,     2.7596,2,     -999.0,9,     -999.0,9,-999.0000, -999.00,-999.000
318M20130321,       P02E,     141,          1,         12,         12,2,20130528,       2131,    30.0012,  -123.7607,       4374,  1679.2,   2.5756,  34.5876,2,   34.588,2,     59.6,2,    59.6,2,  150.42,2,    41.9,2,       0,2,    3.07,2,   0.008,2,   0.007,2,-999.000,1,        0,2,  2371.4,2, 2406.15,2,   7.4066,2,       25,-999.000,9,-999.0000,9, -999.00,9, -999.00,9,  -999.0,9,  -999.0,-999.000,9,-999.000,     -999.0,9, -999.00,9,   38.52,2, -999.00,9,     -999.0,9,  -999.0,9, 20130528,     2231,  30.0012,-123.7607,    34.7511,2,     -999.0,9,     -999.0,9,     2.5762,2,     -999.0,9,     -999.0,9,-999.0000, -999.00,-999.000
318M20130321,       P02E,     141,          1,         11,         11,2,20130528,       2131,    30.0012,  -123.7607,       4374,  1881.3,   2.2979,  34.6104,2,  34.6102,2,     73.5,2,    71.6,2,  156.08,2,   41.14,2,       0,2,    2.99,2,   0.009,2,   0.007,2,-999.000,1,        0,2,  2370.1,2, 2413.26,2,   7.4309,2,       25,-999.000,9,-999.0000,9, -999.00,9, -999.00,9,  -999.0,9,  -999.0,-999.000,9,-999.000,     -999.0,9, -999.00,9,   36.89,2, -999.00,9,     -999.0,9,  -999.0,9, 20130528,     2226,  30.0012,-123.7607,    34.7734,2,     -999.0,9,     -999.0,9,     2.2977,2,     -999.0,9,     -999.0,9,-999.0000, -999.00,-999.000
318M20130321,       P02E,     141,          1,         10,         10,2,20130528,       2131,    30.0012,  -123.7607,       4374,  2107.3,   2.0808,  34.6289,2,  34.6297,2,     85.5,2,    84.4,2,  160.08,2,   40.36,2,       0,2,    2.91,2,   0.000,2,   0.006,2,-999.000,1,        0,2,  -999.0,9, -999.00,9,-999.0000,9,  -999.00,-999.000,9,-999.0000,9, -999.00,9, -999.00,9,  -999.0,9,  -999.0,-999.000,9,-999.000,     -999.0,9, -999.00,9, -999.00,9, -999.00,9,     -999.0,9,  -999.0,9, 20130528,     2222,  30.0012,-123.7607,     34.793,2,     -999.0,9,     -999.0,9,     2.0809,2,     -999.0,9,     -999.0,9,-999.0000, -999.00,-999.000
318M20130321,       P02E,     141,          1,          9,          9,2,20130528,       2131,    30.0012,  -123.7607,       4374,  2362.1,   1.9082,  34.6448,2,  34.6444,2,     95.7,2,    96.1,2,  162.42,2,   39.63,2,       0,2,    2.85,2,   0.001,2,   0.006,2,-999.000,1,        0,2,  2363.2,2, 2423.86,2,   7.4788,2,       25,-999.000,9,-999.0000,9, -999.00,9, -999.00,9,  -999.0,9,  -999.0,-999.000,9,-999.000,     -999.0,9, -999.00,9, -999.00,5, -999.00,9,     -999.0,9,  -999.0,9, 20130528,     2216,  30.0012,-123.7607,    34.8078,2,     -999.0,9,     -999.0,9,     1.9081,2,     -999.0,9,     -999.0,9,-999.0000, -999.00,-999.000
318M20130321,       P02E,     141,          1,          8,          8,2,20130528,       2131,    30.0012,  -123.7607,       4374,  2616.9,   1.7795,  34.6561,2,  34.6562,2,    105.2,2,   105.4,2,  164.18,2,   39.03,2,       0,2,    2.78,2,   0.002,2,   0.007,2,-999.000,1,        0,2,  -999.0,9, -999.00,9,-999.0000,9,  -999.00,-999.000,9,-999.0000,9, -999.00,9, -999.00,9,  -999.0,9,  -999.0,-999.000,9,-999.000,     -999.0,9, -999.00,9, -999.00,9, -999.00,9,     -999.0,9,  -999.0,9, 20130528,     2211,  30.0012,-123.7607,    34.8196,2,     -999.0,9,     -999.0,9,     1.7794,2,     -999.0,9,     -999.0,9,-999.0000, -999.00,-999.000
318M20130321,       P02E,     141,          1,          7,          7,2,20130528,       2131,    30.0012,  -123.7607,       4374,  2872.6,   1.6888,   34.663,2,  34.6633,2,    112.4,2,   112.6,2,  166.03,2,    38.6,2,       0,2,    2.74,2,   0.003,2,   0.008,2,-999.000,1,        0,2,  2356.7,2, 2427.86,6,   7.5126,2,       25,-999.000,9,-999.0000,9, -999.00,9, -999.00,9,  -999.0,9,  -999.0,-999.000,9,-999.000,     -999.0,9, -999.00,9,   36.03,2, -999.00,9,     -999.0,9,  -999.0,9, 20130528,     2206,  30.0012,-123.7607,    34.8268,2,     -999.0,9,     -999.0,9,     1.6891,2,     -999.0,9,     -999.0,9,-999.0000, -999.00,-999.000
318M20130321,       P02E,     141,          1,          6,          6,2,20130528,       2131,    30.0012,  -123.7607,       4374,  3143.4,   1.6033,  34.6683,2,  34.6678,2,    117.9,2,   119.3,2,  167.89,2,   38.15,2,       0,2,     2.7,2,   0.003,2,   0.005,2,-999.000,1,        0,2,  -999.0,9, -999.00,9,-999.0000,9,  -999.00,-999.000,9,-999.0000,9, -999.00,9, -999.00,9,  -999.0,9,  -999.0,-999.000,9,-999.000,     -999.0,9, -999.00,9, -999.00,9, -999.00,9,     -999.0,9,  -999.0,9, 20130528,     2200,  30.0012,-123.7607,    34.8313,2,     -999.0,9,     -999.0,9,     1.6034,2,     -999.0,9,     -999.0,9,-999.0000, -999.00,-999.000