BOTTLE,20220817CCHSIOAMB
EXPOCODE,SECT_ID,STNNBR,CASTNO,SAMPNO,BTLNBR,BTLNBR_FLAG_W,DATE,TIME,LATITUDE,LONGITUDE,DEPTH,CTDPRS,CTDTMP,CTDSAL,CTDSAL_FLAG_W,SALNTY,SALNTY_FLAG_W,CTDOXY,CTDOXY_FLAG_W,OXYGEN,OXYGEN_FLAG_W,SILCAT,SILCAT_FLAG_W,NITRAT,NITRAT_FLAG_W,NITRIT,NITRIT_FLAG_W,PHSPHT,PHSPHT_FLAG_W,CFC-11,CFC-11_FLAG_W,CFC-12,CFC-12_FLAG_W,CFC113,CFC113_FLAG_W,SF6,SF6_FLAG_W,TCARBN,TCARBN_FLAG_W,ALKALI,ALKALI_FLAG_W,PH_TOT,PH_TOT_FLAG_W,PH_TMP,TRITUM,TRITUM_FLAG_W,HELIUM,HELIUM_FLAG_W,DELHE3,DELHE3_FLAG_W,DELC13,DELC13_FLAG_W,DELC14,DELC14_FLAG_W,C14ERR,NEON,NEON_FLAG_W,NEONER,I-129,I-129_FLAG_W,SR-90,SR-90_FLAG_W,DOC,DOC_FLAG_W,TDN,TDN_FLAG_W,CALCIUM,CALCIUM_FLAG_W,D15N_NO3,D15N_NO3_FLAG_W,BTL_DATE,BTL_TIME,BTL_LAT,BTL_LON,SALTREF,SALTREF_FLAG_W,CS-137,CS-137_FLAG_W,CS-134,CS-134_FLAG_W,REFTMP,REFTMP_FLAG_W,LAB_DEN,LAB_DEN_FLAG_W,D18O_NO3,D18O_NO3_FLAG_W,HELIER,DELHER,TRITER
,,,,,,,,,,,METERS,DBAR,ITS-90,PSS-78,,PSS-78,,UMOL/KG,,UMOL/KG,,UMOL/KG,,UMOL/KG,,UMOL/KG,,UMOL/KG,,PMOL/KG,,PMOL/KG,,PMOL/KG,,FMOL/KG,,UMOL/KG,,UMOL/KG,,,,DEG C,TU,,NMOL/KG,,PERCNT,,/MILLE,,/MILLE,,/MILLE,NMOL/KG,,NMOL/KG,BQ/M^3,,DM/.1MG,,UMOL/KG,,UMOL/KG,,MMOL/KG,,/MILLE,,,,,,G/KG,,BQ/M^3,,BQ/M^3,,ITS-90,,,,/MILLE,,NMOL/KG,PERCNT,TU
318M20130321,       P02W,      35,          1,         36,         36,2,20130415,       0212,    30.0001,   147.7915,       6181,     3.8,  17.8033,  34.6611,2,  34.6614,2,    240.9,2,   241.1,2,    1.56,2,       0,2,       0,2,    0.03,2,   2.621,2,   1.585,2,   0.227,2,     1.61,2,  1998.8,2, 2275.21,2,   8.0093,6,       25,-999.000,9,-999.0000,9, -999.00,9, -999.00,9,  -999.0,9,  -999.0,-999.000,9,-999.000,     -999.0,9, -999.00,1,   60.68,2,    5.07,2,     -999.0,9,  -999.0,1, 20130415,      433,  30.0016, 147.7926,    34.8248,2,     -999.0,1,     -999.0,1,    17.8033,2,     -999.0,9,     -999.0,1,-999.0000, -999.00,-999.000
318M20130321,       P02W,      35,          1,         35,         35,2,20130415,       0212,    30.0001,   147.7915,       6181,    26.9,  17.6975,   34.664,2,  34.6651,2,    243.2,2,   245.4,2,    1.66,2,       0,2,       0,2,    0.04,2,  -0.060,4,  -0.003,4,  -0.009,4,     1.62,4,  1996.6,2, 2273.21,2,   8.0133,2,       25,-999.000,9,-999.0000,9, -999.00,9, -999.00,9,  -999.0,9,  -999.0,-999.000,9,-999.000,     -999.0,9, -999.00,1,   59.92,2,    4.26,2,     -999.0,9,  -999.0,1, 20130415,      431,  30.0017, 147.7924,    34.8286,2,     -999.0,1,     -999.0,1,    17.7103,2,     -999.0,9,     -999.0,1,-999.0000, -999.00,-999.000
318M20130321,       P02W,      35,          1,         34,         34,2,20130415,       0212,    30.0001,   147.7915,       6181,    51.9,  17.5533,  34.6543,2,  34.6531,2,    235.9,2,   238.2,2,    2.44,2,    0.49,2,    0.22,2,     0.1,2,   2.629,2,   1.599,2,   0.219,2,     1.56,2,  2005.4,2, 2276.21,2,   7.9993,2,       25,-999.000,9,-999.0000,9, -999.00,9, -999.00,9,  -999.0,9,  -999.0,-999.000,9,-999.000,     -999.0,9, -999.00,1,   64.59,2,    5.93,2,     -999.0,9,  -999.0,1, 20130415,      429,  30.0018, 147.7923,    34.8165,2,     -999.0,1,     -999.0,1,    17.5534,2,     -999.0,9,     -999.0,1,-999.0000, -999.00,-999.000
318M20130321,       P02W,      35,          1,         33,         33,2,20130415,       0212,    30.0001,   147.7915,       6181,    77.1,  17.4017,  34.7027,2,  34.7025,2,    233.1,2,   232.6,2,    2.73,2,    1.53,2,    0.37,2,    0.15,2,   2.656,2,   1.613,2,   0.202,2,     1.51,2,  2013.3,2, 2276.21,6,   7.9867,2,       25,-999.000,9,-999.0000,9, -999.00,9, -999.00,9,  -999.0,9,  -999.0,-999.000,9,-999.000,     -999.0,1, -999.00,1,   64.61,2,    5.94,2,     -999.0,9,  -999.0,1, 20130415,      427,  30.0019, 147.7922,    34.8661,2,     -999.0,1,     -999.0,1,    17.4024,2,     -999.0,9,     -999.0,1,-999.0000, -999.00,-999.000
318M20130321,       P02W,      35,          1,         32,         32,2,20130415,       0212,    30.0001,   147.7915,       6181,    96.7,  17.3377,  34.7186,2,  34.7174,2,    230.7,2,   231.8,2,    2.73,2,    1.83,2,    0.27,2,    0.16,2,   2.659,2,   1.611,2,   0.202,2,     1.56,2,  2015.4,2, 2279.21,2,   7.9844,2,       25,-999.000,9,-999.0000,9, -999.00,9, -999.00,9,  -999.0,9,  -999.0,-999.000,9,-999.000,     -999.0,9, -999.00,1,   58.44,2,    6.71,2,     -999.0,9,  -999.0,1, 20130415,      426,  30.0019,  147.792,    34.8811,2,     -999.0,1,     -999.0,1,    17.3436,2,     -999.0,9,     -999.0,1,-999.0000, -999.00,-999.000
318M20130321,       P02W,      35,          1,         31,         31,2,20130415,       0212,    30.0001,   147.7915,       6181,     148,   17.219,  34.7292,2,   34.728,2,    225.3,2,   228.6,2,    3.12,2,    2.65,2,    0.05,2,    0.19,2,   2.668,2,   1.610,2,   0.191,2,     1.64,2,  2018.9,2, 2278.61,2,    7.979,6,       25,-999.000,9,-999.0000,9, -999.00,9, -999.00,9,  -999.0,9,  -999.0,-999.000,9,-999.000,     -999.0,9, -999.00,1,   55.93,2,    6.44,2,     -999.0,9,  -999.0,1, 20130415,      424,  30.0018,  147.792,    34.8918,2,     -999.0,1,     -999.0,1,    17.2192,2,     -999.0,9,     -999.0,1,-999.0000, -999.00,-999.000
318M20130321,       P02W,      35,          1,         30,         30,2,20130415,       0212,    30.0001,   147.7915,       6181,   197.2,  17.0954,  34.7197,2,  34.7192,2,    225.6,2,   225.7,2,    3.32,2,    3.15,2,    0.02,2,    0.22,2,-999.000,9,-999.000,9,-999.000,9,-999.0000,9,  2021.9,2, 2279.01,2,   7.9737,2,       25,-999.000,9,-999.0000,9, -999.00,9, -999.00,9,  -999.0,9,  -999.0,-999.000,9,-999.000,     -999.0,9, -999.00,1,   52.15,2, -999.00,5,     -999.0,9,  -999.0,1, 20130415,      422,  30.0016,  147.792,    34.8829,2,     -999.0,1,     -999.0,1,    17.0958,2,     -999.0,9,     -999.0,1,-999.0000, -999.00,-999.000
318M20130321,       P02W,      35,          1,         29,         29,2,20130415,       0212,    30.0001,   147.7915,       6181,   247.7,  16.9326,   34.709,2,  34.7084,2,    221.6,2,   221.9,2,     3.9,2,    3.72,2,    0.02,2,    0.25,2,   2.672,2,   1.561,2,   0.166,2,     1.59,2,  -999.0,9, -999.00,9,-999.0000,9,  -999.00,-999.000,9,-999.0000,9, -999.00,9, -999.00,9,  -999.0,9,  -999.0,-999.000,9,-999.000,     -999.0,9, -999.00,1,   50.81,2,    7.15,2,     -999.0,9,  -999.0,1, 20130415,      421,  30.0011, 147.7921,     34.872,2,     -999.0,1,     -999.0,1,    16.9316,2,     -999.0,9,     -999.0,1,-999.0000, -999.00,-999.000
318M20130321,       P02W,      35,          1,         28,         28,2,20130415,       0212,    30.0001,   147.7915,       6181,   298.8,   16.478,   34.674,2,  34.6736,2,    212.1,2,   211.7,2,    5.86,2,    5.47,2,    0.01,2,    0.38,2,-999.000,9,-999.000,9,-999.000,9,-999.0000,9,    2040,2, 2275.51,2,   7.9374,2,       25,-999.000,9,-999.0000,9, -999.00,9, -999.00,9,  -999.0,9,  -999.0,-999.000,9,-999.000,     -999.0,9, -999.00,1,   48.26,2,    9.34,2,     -999.0,9,  -999.0,1, 20130415,      419,  30.0007, 147.7923,    34.8371,2,     -999.0,1,     -999.0,1,    16.4781,2,     -999.0,9,     -999.0,1,-999.0000, -999.00,-999.000
318M20130321,       P02W,      35,          1,         27,         27,2,20130415,       0212,    30.0001,   147.7915,       6181,   349.8,  15.5989,  34.6019,2,  34.5997,2,    194.3,2,   194.9,2,    9.27,2,    8.47,2,    0.01,2,    0.59,2,  -0.060,4,  -0.003,4,  -0.009,4,     1.31,4,  -999.0,9, -999.00,9,-999.0000,9,  -999.00,-999.000,9,-999.0000,9, -999.00,9, -999.00,9,  -999.0,9,  -999.0,-999.000,9,-999.000,     -999.0,9, -999.00,1,   46.85,2, -999.00,9,     -999.0,9,  -999.0,1, 20130415,      417,  30.0002, 147.7925,    34.7629,2,     -999.0,1,     -999.0,1,    15.5995,2,     -999.0,9,     -999.0,1,-999.0000, -999.00,-999.000
318M20130321,       P02W,      35,          1,         26,         26,2,20130415,       0212,    30.0001,   147.7915,       6181,   401.4,  14.4058,  34.5194,2,  34.5151,2,    186.4,2,   186.7,2,   12.79,2,   11.12,2,    0.01,2,    0.76,2,-999.000,9,-999.000,9,-999.000,9,-999.0000,9,  2085.8,3, 2274.91,2,   7.8434,2,       25,-999.000,9,-999.0000,9, -999.00,9, -999.00,9,  -999.0,9,  -999.0,-999.000,9,-999.000,     -999.0,9, -999.00,1,   44.96,2, -999.00,9,     -999.0,9,  -999.0,1, 20130415,      415,  29.9999, 147.7926,    34.6778,2,     -999.0,1,     -999.0,1,    14.4172,2,     -999.0,9,     -999.0,1,-999.0000, -999.00,-999.000
318M20130321,       P02W,      35,          1,         25,         25,2,20130415,       0212,    30.0001,   147.7915,       6181,   496.8,  11.8424,  34.3493,2,  34.3483,2,    186.1,2,   186.1,2,   21.19,2,   15.16,2,    0.01,2,    1.06,2,  -0.059,4,  -0.003,4,  -0.008,4,     1.83,4,  2112.9,2, 2272.41,2,   7.7754,2,       25,-999.000,9,-999.0000,9, -999.00,9, -999.00,9,  -999.0,9,  -999.0,-999.000,9,-999.000,     -999.0,9, -999.00,1,   43.58,2, -999.00,9,     -999.0,9,  -999.0,1, 20130415,      413,  29.9997, 147.7926,    34.5102,2,     -999.0,1,     -999.0,1,    11.8417,2,     -999.0,9,     -999.0,1,-999.0000, -999.00,-999.000
318M20130321,       P02W,      35,          1,         24,         24,2,20130415,       0212,    30.0001,   147.7915,       6181,   598.5,   9.1002,  34.1555,2,  34.1515,2,    174.4,2,     175,2,   35.05,2,   20.84,2,    0.01,2,    1.48,2,-999.000,9,-999.000,9,-999.000,9,-999.0000,9,  2155.1,2, 2278.01,2,    7.679,2,       25,-999.000,9,-999.0000,9, -999.00,9, -999.00,9,  -999.0,9,  -999.0,-999.000,9,-999.000,     -999.0,9, -999.00,1,   43.74,2, -999.00,9,     -999.0,9,  -999.0,1, 20130415,      410,  29.9997, 147.7924,    34.3126,2,     -999.0,1,     -999.0,1,     9.1119,2,     -999.0,9,     -999.0,1,-999.0000, -999.00,-999.000
318M20130321,       P02W,      35,          1,         23,         23,2,20130415,       0212,    30.0001,   147.7915,       6181,   699.1,   6.3954,  34.0137,2,  34.0132,2,    148.4,2,   146.3,2,   56.93,2,    28.5,2,    0.01,2,    2.05,2,-999.000,5,-999.000,5,-999.000,5,-999.0000,5,  2211.3,2, 2287.91,2,   7.5457,2,       25,-999.000,9,-999.0000,9, -999.00,9, -999.00,9,  -999.0,9,  -999.0,-999.000,9,-999.000,     -999.0,9, -999.00,9,   43.54,2, -999.00,9,     -999.0,9,  -999.0,1, 20130415,      407,  29.9998, 147.7924,    34.1736,2,     -999.0,9,     -999.0,9,     6.3979,2,     -999.0,9,     -999.0,1,-999.0000, -999.00,-999.000
318M20130321,       P02W,      35,          1,         22,         38,2,20130415,       0212,    30.0001,   147.7915,       6181,   800.5,   5.1313,    34.05,2,  34.0512,2,     99.9,2,   104.9,2,   78.32,2,   34.49,2,    0.01,2,    2.47,2,-999.000,9,-999.000,9,-999.000,9,-999.0000,9,  2262.1,2, 2301.72,2,   7.4418,2,       25,-999.000,9,-999.0000,9, -999.00,9, -999.00,9,  -999.0,9,  -999.0,-999.000,9,-999.000,     -999.0,9, -999.00,9,   40.78,2, -999.00,9,     -999.0,9,  -999.0,1, 20130415,      405,  29.9999, 147.7923,    34.2118,2,     -999.0,9,     -999.0,9,     5.1303,2,     -999.0,9,     -999.0,1,-999.0000, -999.00,-999.000
318M20130321,       P02W,      35,          1,         21,         21,2,20130415,       0212,    30.0001,   147.7915,       6181,   902.8,    4.369,  34.1685,2,  34.1688,2,     63.4,2,    64.7,2,  100.38,2,   38.97,2,       0,2,    2.77,2,   0.757,2,   0.521,2,  -0.008,2,     0.28,2,    2307,2, 2326.73,2,   7.3702,2,       25,-999.000,9,-999.0000,9, -999.00,9, -999.00,9,  -999.0,9,  -999.0,-999.000,9,-999.000,     -999.0,9, -999.00,9,   39.76,2, -999.00,9,     -999.0,9,  -999.0,1, 20130415,      402,       30, 147.7922,    34.3299,2,     -999.0,9,     -999.0,9,     4.3686,2,     -999.0,9,     -999.0,1,-999.0000, -999.00,-999.000
318M20130321,       P02W,      35,          1,         20,         20,2,20130415,       0212,    30.0001,   147.7915,       6181,   999.9,   3.8795,  34.2602,2,  34.2602,2,     47.7,2,    46.4,2,  115.11,2,   41.12,2,       0,2,    2.92,2,-999.000,9,-999.000,9,-999.000,9,-999.0000,9,    2334,2, 2343.93,2,   7.3497,2,       25,-999.000,9,-999.0000,9, -999.00,9, -999.00,9,  -999.0,9,  -999.0,-999.000,9,-999.000,     -999.0,9, -999.00,9,   38.47,2, -999.00,9,     -999.0,9,  -999.0,1, 20130415,      400,  30.0001,  147.792,    34.4217,2,     -999.0,9,     -999.0,9,      3.879,2,     -999.0,9,     -999.0,1,-999.0000, -999.00,-999.000
318M20130321,       P02W,      35,          1,         19,         19,2,20130415,       0212,    30.0001,   147.7915,       6181,  1102.2,    3.467,  34.3348,2,  34.3353,2,     37.3,2,    38.6,2,  127.41,2,   42.25,2,       0,2,    2.99,2,   0.286,2,   0.152,2,   0.012,2,     0.08,2,  2350.8,2, 2361.64,2,   7.3347,2,       25,-999.000,9,-999.0000,9, -999.00,9, -999.00,9,  -999.0,9,  -999.0,-999.000,9,-999.000,     -999.0,9, -999.00,9,   37.68,2, -999.00,9,     -999.0,9,  -999.0,1, 20130415,      357,  30.0002, 147.7918,    34.4972,2,     -999.0,9,     -999.0,9,     3.4671,2,     -999.0,9,     -999.0,1,-999.0000, -999.00,-999.000
318M20130321,       P02W,      35,          1,         18,         18,2,20130415,       0212,    30.0001,   147.7915,       6181,  1198.6,   3.2159,  34.3771,2,  34.3791,2,     38.3,2,    38.6,2,  134.73,2,   42.49,2,       0,2,    3.01,2,   0.212,2,   0.117,2,  -0.002,2,     0.12,2,  -999.0,9, -999.00,9,-999.0000,9,  -999.00,-999.000,9,-999.0000,9, -999.00,9, -999.00,9,  -999.0,9,  -999.0,-999.000,9,-999.000,     -999.0,9, -999.00,9, -999.00,5, -999.00,9,     -999.0,9,  -999.0,1, 20130415,      354,  30.0002, 147.7918,    34.5412,2,     -999.0,9,     -999.0,9,     3.2159,2,     -999.0,9,     -999.0,1,-999.0000, -999.00,-999.000
318M20130321,       P02W,      35,          1,         17,         17,2,20130415,       0212,    30.0001,   147.7915,       6181,  1305.8,   2.9262,  34.4287,2,  34.4299,2,     37.2,2,    36.6,2,  142.63,2,   42.97,2,       0,2,    3.05,2,   0.095,2,   0.055,2,   0.000,2,     0.05,2,  2368.4,2, 2378.44,2,   7.3386,6,       25,-999.000,9,-999.0000,9, -999.00,9, -999.00,9,  -999.0,9,  -999.0,-999.000,9,-999.000,     -999.0,9, -999.00,9,   39.07,2, -999.00,9,     -999.0,9,  -999.0,1, 20130415,      351,  30.0003, 147.7918,    34.5923,2,     -999.0,9,     -999.0,9,     2.9265,2,     -999.0,9,     -999.0,1,-999.0000, -999.00,-999.000
318M20130321,       P02W,      35,          1,         16,         16,2,20130415,       0212,    30.0001,   147.7915,       6181,  1407.6,   2.7243,  34.4646,2,  34.4657,2,     39.5,2,      39,2,  148.39,2,   43.02,2,       0,2,    3.04,2,   0.046,2,   0.044,2,   0.001,2,        0,2,  2373.5,2, 2385.95,2,   7.3454,2,       25,-999.000,9,-999.0000,9, -999.00,9, -999.00,9,  -999.0,9,  -999.0,-999.000,9,-999.000,     -999.0,9, -999.00,9,   39.77,2, -999.00,9,     -999.0,9,  -999.0,1, 20130415,      348,  30.0005, 147.7917,    34.6282,2,     -999.0,9,     -999.0,9,     2.7242,2,     -999.0,9,     -999.0,1,-999.0000, -999.00,-999.000
318M20130321,       P02W,      35,          1,         15,         15,2,20130415,       0212,    30.0001,   147.7915,       6181,  1611.5,   2.3731,  34.5238,2,  34.5234,2,     48.5,2,      48,2,  156.97,2,   42.67,2,       0,2,       3,2,-999.000,9,-999.000,9,-999.000,9,-999.0000,9,  2376.3,2, 2397.65,2,   7.3707,2,       25,-999.000,9,-999.0000,9, -999.00,9, -999.00,9,  -999.0,9,  -999.0,-999.000,9,-999.000,     -999.0,9, -999.00,9,   39.47,2, -999.00,9,     -999.0,9,  -999.0,1, 20130415,      343,  30.0007, 147.7917,    34.6862,2,     -999.0,9,     -999.0,9,     2.3733,2,     -999.0,9,     -999.0,1,-999.0000, -999.00,-999.000
318M20130321,       P02W,      35,          1,         14,         14,2,20130415,       0212,    30.0001,   147.7915,       6181,  1816.4,   2.1731,  34.5602,2,  34.5603,2,     62.8,2,    60.3,2,  159.99,2,   41.97,2,       0,2,    2.94,2,   0.002,2,   0.016,2,  -0.006,2,     0.07,2,  2372.5,2, 2404.55,2,   7.3923,2,       25,-999.000,9,-999.0000,9, -999.00,9, -999.00,9,  -999.0,9,  -999.0,-999.000,9,-999.000,     -999.0,9, -999.00,9,   37.33,2, -999.00,9,     -999.0,9,  -999.0,1, 20130415,      339,  30.0006, 147.7918,    34.7233,2,     -999.0,9,     -999.0,9,     2.1736,2,     -999.0,9,     -999.0,1,-999.0000, -999.00,-999.000
318M20130321,       P02W,      35,          1,         13,         13,2,20130415,       0212,    30.0001,   147.7915,       6181,  2015.5,   1.9586,  34.5968,2,  34.5975,2,     79.8,2,    78.8,2,  161.06,2,   40.92,2,       0,2,    2.86,2,-999.000,9,-999.000,9,-999.000,9,-999.0000,9,  2366.7,2, 2409.96,2,   7.4307,2,       25,-999.000,9,-999.0000,9, -999.00,9, -999.00,9,  -999.0,9,  -999.0,-999.000,9,-999.000,     -999.0,9, -999.00,9,    36.1,2, -999.00,9,     -999.0,9,  -999.0,1, 20130415,      334,  30.0006, 147.7918,    34.7606,2,     -999.0,9,     -999.0,9,     1.9591,2,     -999.0,9,     -999.0,1,-999.0000, -999.00,-999.000
318M20130321,       P02W,      35,          1,         12,         12,2,20130415,       0212,    30.0001,   147.7915,       6181,  2270.7,   1.8018,  34.6247,2,  34.6254,2,     98.7,2,    99.7,2,  158.23,2,   39.55,2,       0,2,    2.75,2,  -0.009,2,   0.009,2,   0.004,2,     0.05,2,  2354.2,2, 2410.86,2,   7.4723,2,       25,-999.000,9,-999.0000,9, -999.00,9, -999.00,9,  -999.0,9,  -999.0,-999.000,9,-999.000,     -999.0,9, -999.00,9,    37.4,2, -999.00,9,     -999.0,9,  -999.0,1, 20130415,      329,  30.0006,  147.792,    34.7886,2,     -999.0,9,     -999.0,9,     1.8014,2,     -999.0,9,     -999.0,1,-999.0000, -999.00,-999.000
318M20130321,       P02W,      35,          1,         11,         11,2,20130415,       0212,    30.0001,   147.7915,       6181,  2526.9,     1.71,  34.6415,2,  34.6429,2,      114,2,   113.9,2,  154.91,2,   38.61,2,       0,2,    2.68,2,   0.057,2,   0.040,2,   0.004,2,     0.05,2,  -999.0,9, -999.00,9,-999.0000,9,  -999.00,-999.000,9,-999.0000,9, -999.00,9, -999.00,9,  -999.0,9,  -999.0,-999.000,9,-999.000,     -999.0,9, -999.00,9,   38.04,2, -999.00,9,     -999.0,9,  -999.0,1, 20130415,      324,  30.0005, 147.7921,    34.8062,2,     -999.0,9,     -999.0,9,     1.7097,2,     -999.0,9,     -999.0,1,-999.0000, -999.00,-999.000
318M20130321,       P02W,      35,          1,         10,         10,2,20130415,       0212,    30.0001,   147.7915,       6181,  2778.4,   1.6446,  34.6526,2,  34.6531,2,    122.7,2,   122.2,2,  154.12,2,   38.03,2,       0,2,    2.64,2,  -0.012,2,   0.009,2,  -0.005,2,     0.06,2,  -999.0,9, -999.00,9,-999.0000,9,  -999.00,-999.000,9,-999.0000,9, -999.00,9, -999.00,9,  -999.0,9,  -999.0,-999.000,9,-999.000,     -999.0,9, -999.00,9, -999.00,5, -999.00,9,     -999.0,9,  -999.0,1, 20130415,      319,  30.0005, 147.7924,    34.8165,2,     -999.0,9,     -999.0,9,     1.6448,2,     -999.0,9,     -999.0,1,-999.0000, -999.00,-999.000
318M20130321,       P02W,      35,          1,          9,          9,2,20130415,       0212,    30.0001,   147.7915,       6181,  3034.4,   1.5828,  34.6623,2,  34.6625,2,    130.2,2,   129.9,2,  153.05,2,    37.5,2,       0,2,     2.6,2,-999.000,9,-999.000,9,-999.000,9,-999.0000,9,  2336.1,2, 2413.86,2,   7.5307,2,       25,-999.000,9,-999.0000,9, -999.00,9, -999.00,9,  -999.0,9,  -999.0,-999.000,9,-999.000,     -999.0,9, -999.00,9,   40.73,2, -999.00,9,     -999.0,9,  -999.0,1, 20130415,      313,  30.0005, 147.7926,     34.826,2,     -999.0,9,     -999.0,9,     1.5826,2,     -999.0,9,     -999.0,1,-999.0000, -999.00,-999.000
318M20130321,       P02W,      35,          1,          8,          8,2,20130415,       0212,    30.0001,   147.7915,       6181,  3336.9,   1.5399,    34.67,2,  34.6708,2,      137,2,   137.4,2,  152.27,2,   37.06,2,       0,2,    2.57,2,  -0.005,2,   0.010,2,   0.001,2,     0.07,2,  -999.0,9, -999.00,9,-999.0000,9,  -999.00,-999.000,9,-999.0000,9, -999.00,9, -999.00,9,  -999.0,9,  -999.0,-999.000,9,-999.000,     -999.0,9, -999.00,9,   39.25,2, -999.00,9,     -999.0,9,  -999.0,1, 20130415,      307,  30.0008, 147.7926,    34.8342,2,     -999.0,9,     -999.0,9,     1.5398,2,     -999.0,9,     -999.0,1,-999.0000, -999.00,-999.000