BOTTLE,20220817CCHSIOAMB
EXPOCODE,SECT_ID,STNNBR,CASTNO,SAMPNO,BTLNBR,BTLNBR_FLAG_W,DATE,TIME,LATITUDE,LONGITUDE,DEPTH,CTDPRS,CTDTMP,CTDSAL,CTDSAL_FLAG_W,SALNTY,SALNTY_FLAG_W,CTDOXY,CTDOXY_FLAG_W,OXYGEN,OXYGEN_FLAG_W,SILCAT,SILCAT_FLAG_W,NITRAT,NITRAT_FLAG_W,NITRIT,NITRIT_FLAG_W,PHSPHT,PHSPHT_FLAG_W,CFC-11,CFC-11_FLAG_W,CFC-12,CFC-12_FLAG_W,CFC113,CFC113_FLAG_W,SF6,SF6_FLAG_W,TCARBN,TCARBN_FLAG_W,ALKALI,ALKALI_FLAG_W,PH_TOT,PH_TOT_FLAG_W,PH_TMP,TRITUM,TRITUM_FLAG_W,HELIUM,HELIUM_FLAG_W,DELHE3,DELHE3_FLAG_W,DELC13,DELC13_FLAG_W,DELC14,DELC14_FLAG_W,C14ERR,NEON,NEON_FLAG_W,NEONER,I-129,I-129_FLAG_W,SR-90,SR-90_FLAG_W,DOC,DOC_FLAG_W,TDN,TDN_FLAG_W,CALCIUM,CALCIUM_FLAG_W,D15N_NO3,D15N_NO3_FLAG_W,BTL_DATE,BTL_TIME,BTL_LAT,BTL_LON,SALTREF,SALTREF_FLAG_W,CS-137,CS-137_FLAG_W,CS-134,CS-134_FLAG_W,REFTMP,REFTMP_FLAG_W,LAB_DEN,LAB_DEN_FLAG_W,D18O_NO3,D18O_NO3_FLAG_W,HELIER,DELHER,TRITER
,,,,,,,,,,,METERS,DBAR,ITS-90,PSS-78,,PSS-78,,UMOL/KG,,UMOL/KG,,UMOL/KG,,UMOL/KG,,UMOL/KG,,UMOL/KG,,PMOL/KG,,PMOL/KG,,PMOL/KG,,FMOL/KG,,UMOL/KG,,UMOL/KG,,,,DEG C,TU,,NMOL/KG,,PERCNT,,/MILLE,,/MILLE,,/MILLE,NMOL/KG,,NMOL/KG,BQ/M^3,,DM/.1MG,,UMOL/KG,,UMOL/KG,,MMOL/KG,,/MILLE,,,,,,G/KG,,BQ/M^3,,BQ/M^3,,ITS-90,,,,/MILLE,,NMOL/KG,PERCNT,TU
318M20130321,       P02W,      18,          1,         36,         36,3,20130410,       1030,    29.9952,   137.1728,       4364,     3.5,  20.1945,  34.7832,2,  34.7829,2,    225.5,2,   225.7,2,    1.56,2,       0,2,    0.01,2,    0.03,2,-999.000,9,-999.000,9,-999.000,9,-999.0000,9,  1990.6,6, 2281.21,2,   8.0364,2,       25,-999.000,9,-999.0000,9, -999.00,9, -999.00,9,  -999.0,9,  -999.0,-999.000,9,-999.000,     -999.0,9, -999.00,9, -999.00,9, -999.00,9,     -999.0,9,  -999.0,9, 20130410,     1219,  29.9935, 137.1734,     34.947,2,     -999.0,9,     -999.0,9,    20.1951,2,     -999.0,9,     -999.0,9,-999.0000, -999.00,-999.000
318M20130321,       P02W,      18,          1,         35,         35,2,20130410,       1030,    29.9952,   137.1728,       4364,    36.2,  20.2027,  34.7831,2,  34.7837,2,    225.9,2,   225.9,2,    1.17,2,       0,2,       0,2,       0,2,   2.304,2,   1.428,2,   0.208,2,     1.48,2,  1989.4,2, 2280.61,6,    8.037,2,       25,-999.000,9,-999.0000,9, -999.00,9, -999.00,9,  -999.0,9,  -999.0,-999.000,9,-999.000,     -999.0,9, -999.00,9, -999.00,9, -999.00,9,     -999.0,9,  -999.0,9, 20130410,     1217,  29.9936, 137.1735,    34.9478,2,     -999.0,9,     -999.0,9,    20.2045,2,     -999.0,9,     -999.0,9,-999.0000, -999.00,-999.000
318M20130321,       P02W,      18,          1,         34,         34,2,20130410,       1030,    29.9952,   137.1728,       4364,    61.9,  19.9089,  34.7535,2,  34.7546,2,    226.3,2,   227.1,2,    1.56,2,       0,2,    0.01,2,       0,2,   2.322,2,   1.443,2,   0.208,2,     1.43,2,  -999.0,9, -999.00,9,-999.0000,9,  -999.00,-999.000,9,-999.0000,9, -999.00,9, -999.00,9,  -999.0,9,  -999.0,-999.000,9,-999.000,     -999.0,9, -999.00,9, -999.00,9, -999.00,9,     -999.0,9,  -999.0,9, 20130410,     1215,  29.9937, 137.1735,    34.9185,2,     -999.0,9,     -999.0,9,     19.911,2,     -999.0,9,     -999.0,9,-999.0000, -999.00,-999.000
318M20130321,       P02W,      18,          1,         33,         33,2,20130410,       1030,    29.9952,   137.1728,       4364,    87.3,  18.9301,  34.7252,2,  34.7236,2,      231,2,   231.2,2,    1.66,2,       0,2,    0.05,2,    0.03,2,   2.455,2,   1.523,2,   0.209,2,     1.55,2,  1998.9,2, 2277.21,2,   8.0185,6,       25,-999.000,9,-999.0000,9, -999.00,9, -999.00,9,  -999.0,9,  -999.0,-999.000,9,-999.000,     -999.0,9, -999.00,9, -999.00,9, -999.00,9,     -999.0,9,  -999.0,9, 20130410,     1214,  29.9937, 137.1736,    34.8873,2,     -999.0,9,     -999.0,9,    18.9306,2,     -999.0,9,     -999.0,9,-999.0000, -999.00,-999.000
318M20130321,       P02W,      18,          1,         32,         32,2,20130410,       1030,    29.9952,   137.1728,       4364,   113.1,  18.7412,  34.7721,2,  34.7706,2,    229.1,2,     230,2,    1.66,2,    0.06,2,    0.25,2,    0.04,2,   2.455,2,   1.526,2,   0.212,2,     1.52,2,  -999.0,9, -999.00,9,-999.0000,9,  -999.00,-999.000,9,-999.0000,9, -999.00,9, -999.00,9,  -999.0,9,  -999.0,-999.000,9,-999.000,     -999.0,9, -999.00,9, -999.00,9, -999.00,9,     -999.0,9,  -999.0,9, 20130410,     1212,  29.9937, 137.1736,    34.9345,2,     -999.0,9,     -999.0,9,    18.7394,2,     -999.0,9,     -999.0,9,-999.0000, -999.00,-999.000
318M20130321,       P02W,      18,          1,         31,         31,2,20130410,       1030,    29.9952,   137.1728,       4364,   137.7,  18.4618,  34.7974,2,  34.7969,2,    229.3,2,   226.2,2,    1.95,2,    0.78,2,    0.25,2,    0.08,2,   2.468,2,   1.520,2,   0.202,2,     1.42,2,  2009.4,2, 2281.91,2,   8.0064,2,       25,-999.000,9,-999.0000,9, -999.00,9, -999.00,9,  -999.0,9,  -999.0,-999.000,9,-999.000,     -999.0,9, -999.00,9, -999.00,9, -999.00,9,     -999.0,9,  -999.0,9, 20130410,     1211,  29.9937, 137.1736,     34.961,2,     -999.0,9,     -999.0,9,    18.4636,2,     -999.0,9,     -999.0,9,-999.0000, -999.00,-999.000
318M20130321,       P02W,      18,          1,         30,         30,2,20130410,       1030,    29.9952,   137.1728,       4364,   167.7,  18.3583,  34.7887,2,  34.7894,2,    223.4,2,   223.3,2,    2.15,2,    1.46,2,    0.02,2,    0.11,2,   2.457,2,   1.527,2,   0.163,2,     1.47,2,  -999.0,9, -999.00,9,-999.0000,9,  -999.00,-999.000,9,-999.0000,9, -999.00,9, -999.00,9,  -999.0,9,  -999.0,-999.000,9,-999.000,     -999.0,9, -999.00,9, -999.00,9, -999.00,9,     -999.0,9,  -999.0,9, 20130410,     1209,  29.9937, 137.1735,    34.9535,2,     -999.0,9,     -999.0,9,    18.3581,2,     -999.0,9,     -999.0,9,-999.0000, -999.00,-999.000
318M20130321,       P02W,      18,          1,         29,         29,2,20130410,       1030,    29.9952,   137.1728,       4364,   218.7,  18.2634,  34.7882,2,  34.7869,2,    221.6,2,   222.5,2,    2.24,2,    1.62,2,    0.02,2,    0.12,2,   2.479,2,   1.536,2,   0.173,2,     1.42,2,  2012.7,2, 2281.11,2,   7.9974,6,       25,-999.000,9,-999.0000,9, -999.00,9, -999.00,9,  -999.0,9,  -999.0,-999.000,9,-999.000,     -999.0,9, -999.00,9, -999.00,9, -999.00,9,     -999.0,9,  -999.0,9, 20130410,     1208,  29.9937, 137.1735,    34.9509,2,     -999.0,9,     -999.0,9,    18.2684,2,     -999.0,9,     -999.0,9,-999.0000, -999.00,-999.000
318M20130321,       P02W,      18,          1,         28,         28,2,20130410,       1030,    29.9952,   137.1728,       4364,   269.4,  17.7134,  34.7456,2,   34.745,2,    215.2,2,   214.7,2,    3.12,2,    3.15,2,    0.02,2,    0.21,2,   2.562,2,   1.570,2,   0.120,2,     1.43,2,  -999.0,9, -999.00,9,-999.0000,9,  -999.00,-999.000,9,-999.0000,9, -999.00,9, -999.00,9,  -999.0,9,  -999.0,-999.000,9,-999.000,     -999.0,9, -999.00,9, -999.00,9, -999.00,9,     -999.0,9,  -999.0,9, 20130410,     1206,  29.9936, 137.1734,    34.9089,2,     -999.0,9,     -999.0,9,    17.7086,2,     -999.0,9,     -999.0,9,-999.0000, -999.00,-999.000
318M20130321,       P02W,      18,          1,         27,         27,2,20130410,       1030,    29.9952,   137.1728,       4364,   319.5,  17.1571,   34.711,2,  34.7104,2,    207.4,2,   208.1,2,     4.2,2,    4.62,2,    0.01,2,    0.31,2,   2.668,2,   1.615,2,   0.087,2,     1.34,2,  2036.3,2, 2276.81,2,   7.9489,2,       25,-999.000,9,-999.0000,9, -999.00,9, -999.00,9,  -999.0,9,  -999.0,-999.000,9,-999.000,     -999.0,9, -999.00,9, -999.00,9, -999.00,9,     -999.0,9,  -999.0,9, 20130410,     1204,  29.9935, 137.1733,    34.8741,2,     -999.0,9,     -999.0,9,    17.1607,2,     -999.0,9,     -999.0,9,-999.0000, -999.00,-999.000
318M20130321,       P02W,      18,          1,         26,         26,2,20130410,       1030,    29.9952,   137.1728,       4364,   369.7,  16.6633,  34.6766,2,  34.6762,2,    198.2,2,   201.9,2,    5.66,2,    5.93,2,    0.01,2,    0.42,2,   2.713,2,   1.607,2,   0.054,2,     1.32,2,  -999.0,9, -999.00,9,-999.0000,9,  -999.00,-999.000,9,-999.0000,9, -999.00,9, -999.00,9,  -999.0,9,  -999.0,-999.000,9,-999.000,     -999.0,9, -999.00,9, -999.00,9, -999.00,9,     -999.0,9,  -999.0,9, 20130410,     1203,  29.9933, 137.1732,    34.8397,2,     -999.0,9,     -999.0,9,    16.6626,2,     -999.0,9,     -999.0,9,-999.0000, -999.00,-999.000
318M20130321,       P02W,      18,          1,         25,         25,2,20130410,       1030,    29.9952,   137.1728,       4364,   414.8,  15.7646,  34.6103,2,  34.6069,2,    187.1,2,   187.7,2,    8.69,2,    8.66,2,    0.01,2,     0.6,2,   2.793,2,   1.648,2,   0.027,2,     1.16,2,  2067.6,2, 2275.21,2,   7.8824,2,       25,-999.000,9,-999.0000,9, -999.00,9, -999.00,9,  -999.0,9,  -999.0,-999.000,9,-999.000,     -999.0,9, -999.00,9, -999.00,9, -999.00,9,     -999.0,9,  -999.0,9, 20130410,     1201,  29.9932,  137.173,    34.7701,2,     -999.0,9,     -999.0,9,    15.7646,2,     -999.0,9,     -999.0,9,-999.0000, -999.00,-999.000
318M20130321,       P02W,      18,          1,         24,         24,2,20130410,       1030,    29.9952,   137.1728,       4364,   465.8,  14.3885,  34.5175,2,  34.5167,2,    179.8,2,   181.9,2,    12.3,2,   11.24,2,    0.01,2,    0.78,2,-999.000,9,-999.000,9,-999.000,9,-999.0000,9,  -999.0,9, -999.00,9,-999.0000,9,  -999.00,-999.000,9,-999.0000,9, -999.00,9, -999.00,9,  -999.0,9,  -999.0,-999.000,9,-999.000,     -999.0,9, -999.00,9, -999.00,9, -999.00,9,     -999.0,9,  -999.0,9, 20130410,     1159,  29.9933, 137.1729,    34.6795,2,     -999.0,9,     -999.0,9,    14.3863,2,     -999.0,9,     -999.0,9,-999.0000, -999.00,-999.000
318M20130321,       P02W,      18,          1,         23,         23,2,20130410,       1030,    29.9952,   137.1728,       4364,   537.5,  12.3656,  34.3831,2,  34.3862,2,    173.3,2,   174.7,2,   19.14,2,   15.07,2,    0.01,2,    1.06,2,   2.992,2,   1.631,2,   0.049,2,     0.98,2,    2114,2, 2272.61,2,   7.7733,2,       25,-999.000,9,-999.0000,9, -999.00,9, -999.00,9,  -999.0,9,  -999.0,-999.000,9,-999.000,     -999.0,9, -999.00,9, -999.00,9, -999.00,9,     -999.0,9,  -999.0,9, 20130410,     1157,  29.9934, 137.1727,    34.5483,2,     -999.0,9,     -999.0,9,    12.3596,2,     -999.0,9,     -999.0,9,-999.0000, -999.00,-999.000
318M20130321,       P02W,      18,          1,         22,         38,2,20130410,       1030,    29.9952,   137.1728,       4364,   638.5,    9.823,  34.2604,2,   34.262,2,    152.4,2,   153.9,2,   36.61,2,   21.47,2,    0.01,2,    1.54,2,-999.000,9,-999.000,9,-999.000,9,-999.0000,9,  -999.0,9, -999.00,9,-999.0000,9,  -999.00,-999.000,9,-999.0000,9, -999.00,9, -999.00,9,  -999.0,9,  -999.0,-999.000,9,-999.000,     -999.0,9, -999.00,9, -999.00,9, -999.00,9,     -999.0,9,  -999.0,9, 20130410,     1155,  29.9935, 137.1726,    34.4236,2,     -999.0,9,     -999.0,9,     9.8216,2,     -999.0,9,     -999.0,9,-999.0000, -999.00,-999.000
318M20130321,       P02W,      18,          1,         21,         21,2,20130410,       1030,    29.9952,   137.1728,       4364,   738.5,   7.3686,  34.1897,2,  34.1873,2,    125.7,2,   121.8,2,   59.85,2,   28.71,2,       0,2,    2.08,2,   2.052,2,   1.115,2,   0.080,2,     0.57,2,  2222.1,2, 2297.62,2,   7.5528,2,       25,-999.000,9,-999.0000,9, -999.00,9, -999.00,9,  -999.0,9,  -999.0,-999.000,9,-999.000,     -999.0,9, -999.00,9, -999.00,9, -999.00,9,     -999.0,9,  -999.0,9, 20130410,     1152,  29.9934, 137.1727,    34.3485,2,     -999.0,9,     -999.0,9,     7.3532,2,     -999.0,9,     -999.0,9,-999.0000, -999.00,-999.000
318M20130321,       P02W,      18,          1,         20,         20,2,20130410,       1030,    29.9952,   137.1728,       4364,   840.5,   5.9786,  34.2202,2,  34.2208,2,     99.7,2,    94.6,2,   79.19,2,   33.34,2,    0.01,2,    2.42,2,-999.000,9,-999.000,9,-999.000,9,-999.0000,9,  -999.0,9, -999.00,9,-999.0000,9,  -999.00,-999.000,9,-999.0000,9, -999.00,9, -999.00,9,  -999.0,9,  -999.0,-999.000,9,-999.000,     -999.0,9, -999.00,9, -999.00,9, -999.00,9,     -999.0,9,  -999.0,9, 20130410,     1150,  29.9935, 137.1729,    34.3822,2,     -999.0,9,     -999.0,9,     5.9804,2,     -999.0,9,     -999.0,9,-999.0000, -999.00,-999.000
318M20130321,       P02W,      18,          1,         19,         19,2,20130410,       1030,    29.9952,   137.1728,       4364,   936.9,   4.9455,  34.2834,2,  34.2836,2,     77.2,2,    75.9,2,   96.76,2,   36.65,2,       0,2,    2.64,2,   0.897,2,   0.495,2,   0.036,2,        0,4,  2296.3,2, 2335.63,2,   7.4314,2,       25,-999.000,9,-999.0000,9, -999.00,9, -999.00,9,  -999.0,9,  -999.0,-999.000,9,-999.000,     -999.0,9, -999.00,9, -999.00,9, -999.00,9,     -999.0,9,  -999.0,9, 20130410,     1147,  29.9936,  137.173,    34.4453,2,     -999.0,9,     -999.0,9,     4.9417,2,     -999.0,9,     -999.0,9,-999.0000, -999.00,-999.000
318M20130321,       P02W,      18,          1,         18,         18,2,20130410,       1030,    29.9952,   137.1728,       4364,    1041,   4.1263,  34.3337,2,  34.3332,2,     62.8,2,    63.1,2,  111.98,2,   38.96,2,       0,2,     2.8,2,-999.000,9,-999.000,9,-999.000,9,-999.0000,9,  2321.9,2, 2352.44,2,   7.3992,2,       25,-999.000,9,-999.0000,9, -999.00,9, -999.00,9,  -999.0,9,  -999.0,-999.000,9,-999.000,     -999.0,9, -999.00,9, -999.00,9, -999.00,9,     -999.0,9,  -999.0,9, 20130410,     1144,  29.9939, 137.1731,    34.4951,2,     -999.0,9,     -999.0,9,     4.1269,2,     -999.0,9,     -999.0,9,-999.0000, -999.00,-999.000
318M20130321,       P02W,      18,          1,         17,         17,2,20130410,       1030,    29.9952,   137.1728,       4364,  1141.9,   3.5684,  34.3685,2,  34.3689,2,     54.3,2,    54.8,2,  124.38,2,   40.38,2,       0,2,     2.9,2,   0.382,2,   0.213,2,  -0.004,2,        0,4,  2339.4,2, 2363.74,2,   7.3767,2,       25,-999.000,9,-999.0000,9, -999.00,9, -999.00,9,  -999.0,9,  -999.0,-999.000,9,-999.000,     -999.0,9, -999.00,9, -999.00,9, -999.00,9,     -999.0,9,  -999.0,9, 20130410,     1142,   29.994, 137.1731,     34.531,2,     -999.0,9,     -999.0,9,     3.5715,2,     -999.0,9,     -999.0,9,-999.0000, -999.00,-999.000
318M20130321,       P02W,      18,          1,         16,         16,2,20130410,       1030,    29.9952,   137.1728,       4364,  1243.9,    3.236,  34.4105,2,  34.4109,2,       54,2,    54.2,2,  132.97,2,   40.87,2,       0,2,    2.94,2,-999.000,9,-999.000,9,-999.000,9,-999.0000,9,  2347.9,2, 2373.64,2,   7.3764,2,       25,-999.000,9,-999.0000,9, -999.00,9, -999.00,9,  -999.0,9,  -999.0,-999.000,9,-999.000,     -999.0,9, -999.00,9, -999.00,9, -999.00,9,     -999.0,9,  -999.0,9, 20130410,     1139,   29.994, 137.1731,    34.5732,2,     -999.0,9,     -999.0,9,     3.2366,2,     -999.0,9,     -999.0,9,-999.0000, -999.00,-999.000
318M20130321,       P02W,      18,          1,         15,         15,2,20130410,       1030,    29.9952,   137.1728,       4364,  1345.9,   2.9799,  34.4488,2,  34.4498,2,     56.4,2,    56.3,2,  138.63,2,   41.02,2,       0,2,    2.94,2,   0.216,2,   0.120,2,  -0.004,2,     0.07,2,  2354.4,2, 2380.55,2,   7.3823,6,       25,-999.000,9,-999.0000,9, -999.00,9, -999.00,9,  -999.0,9,  -999.0,-999.000,9,-999.000,     -999.0,9, -999.00,9, -999.00,9, -999.00,9,     -999.0,9,  -999.0,9, 20130410,     1137,  29.9937, 137.1732,    34.6123,2,     -999.0,9,     -999.0,9,     2.9789,2,     -999.0,9,     -999.0,9,-999.0000, -999.00,-999.000
318M20130321,       P02W,      18,          1,         14,         14,2,20130410,       1030,    29.9952,   137.1728,       4364,  1448.3,   2.7686,  34.4873,2,  34.4881,2,     64.8,2,    65.2,2,  141.35,2,   40.61,2,       0,2,    2.91,2,-999.000,9,-999.000,9,-999.000,9,-999.0000,9,  2353.6,2, 2386.35,2,   7.4024,2,       25,-999.000,9,-999.0000,9, -999.00,9, -999.00,9,  -999.0,9,  -999.0,-999.000,9,-999.000,     -999.0,9, -999.00,9, -999.00,9, -999.00,9,     -999.0,9,  -999.0,9, 20130410,     1134,  29.9935, 137.1729,    34.6507,2,     -999.0,9,     -999.0,9,     2.7679,2,     -999.0,9,     -999.0,9,-999.0000, -999.00,-999.000
318M20130321,       P02W,      18,          1,         13,         13,4,20130410,       1030,    29.9952,   137.1728,       4364,    1550,   2.5965,  34.5121,2,  34.2709,4,     73.1,2,    79.8,4,   92.74,4,   35.91,4,       0,4,    2.61,4,   1.011,4,   0.598,4,   0.044,4,     0.23,4,  2285.4,4, 2330.63,4,-999.0000,5,  -999.00,-999.000,9,-999.0000,9, -999.00,9, -999.00,9,  -999.0,9,  -999.0,-999.000,9,-999.000,     -999.0,9, -999.00,9, -999.00,9, -999.00,9,     -999.0,9,  -999.0,9, 20130410,     1132,  29.9936, 137.1727,    34.4325,4,     -999.0,9,     -999.0,9,     2.5955,2,     -999.0,9,     -999.0,9,-999.0000, -999.00,-999.000
318M20130321,       P02W,      18,          1,         12,         12,2,20130410,       1030,    29.9952,   137.1728,       4364,  1677.6,   2.3868,  34.5412,2,  34.5409,2,       80,2,    78.3,2,  146.13,2,   40.08,2,       0,2,    2.86,2,-999.000,9,-999.000,9,-999.000,9,-999.0000,9,  2354.8,2, 2395.95,2,   7.4306,2,       25,-999.000,9,-999.0000,9, -999.00,9, -999.00,9,  -999.0,9,  -999.0,-999.000,9,-999.000,     -999.0,9, -999.00,9, -999.00,9, -999.00,9,     -999.0,9,  -999.0,9, 20130410,     1129,  29.9938, 137.1727,    34.7038,2,     -999.0,9,     -999.0,9,     2.3863,2,     -999.0,9,     -999.0,9,-999.0000, -999.00,-999.000
318M20130321,       P02W,      18,          1,         11,         11,2,20130410,       1030,    29.9952,   137.1728,       4364,  1883.1,    2.176,  34.5726,2,  34.5729,2,     89.3,2,    89.1,2,  148.37,2,   39.42,2,       0,2,    2.81,2,   0.137,2,   0.072,2,   0.026,2,     0.06,2,  -999.0,9, -999.00,9,-999.0000,9,  -999.00,-999.000,9,-999.0000,9, -999.00,9, -999.00,9,  -999.0,9,  -999.0,-999.000,9,-999.000,     -999.0,9, -999.00,9, -999.00,9, -999.00,9,     -999.0,9,  -999.0,9, 20130410,     1124,  29.9938, 137.1729,     34.736,2,     -999.0,9,     -999.0,9,     2.1761,2,     -999.0,9,     -999.0,9,-999.0000, -999.00,-999.000
318M20130321,       P02W,      18,          1,         10,         10,2,20130410,       1030,    29.9952,   137.1728,       4364,  2107.1,   1.9858,  34.6027,2,  34.6038,2,    101.3,2,   102.8,2,  149.15,2,   38.75,2,       0,2,    2.74,2,-999.000,9,-999.000,9,-999.000,9,-999.0000,9,  -999.0,9, -999.00,9,-999.0000,9,  -999.00,-999.000,9,-999.0000,9, -999.00,9, -999.00,9,  -999.0,9,  -999.0,-999.000,9,-999.000,     -999.0,9, -999.00,9, -999.00,9, -999.00,9,     -999.0,9,  -999.0,9, 20130410,     1119,  29.9941,  137.173,     34.767,2,     -999.0,9,     -999.0,9,     1.9864,2,     -999.0,9,     -999.0,9,-999.0000, -999.00,-999.000
318M20130321,       P02W,      18,          1,          9,          9,2,20130410,       1030,    29.9952,   137.1728,       4364,  2357.1,   1.8436,  34.6255,2,   34.626,2,      117,2,   115.8,2,  147.78,2,   37.96,2,       0,2,    2.67,2,   0.000,4,   0.000,4,   0.000,4,        0,4,  2341.2,2, 2407.06,2,   7.5044,2,       25,-999.000,9,-999.0000,9, -999.00,9, -999.00,9,  -999.0,9,  -999.0,-999.000,9,-999.000,     -999.0,9, -999.00,9, -999.00,9, -999.00,9,     -999.0,9,  -999.0,9, 20130410,     1114,  29.9939, 137.1732,    34.7893,2,     -999.0,9,     -999.0,9,     1.8435,2,     -999.0,9,     -999.0,9,-999.0000, -999.00,-999.000
318M20130321,       P02W,      18,          1,          8,          8,2,20130410,       1030,    29.9952,   137.1728,       4364,  2612.9,   1.7373,  34.6433,2,  34.6441,2,    127.8,2,   127.5,2,  146.02,2,   37.23,2,       0,2,    2.63,2,-999.000,9,-999.000,9,-999.000,9,-999.0000,9,  -999.0,9, -999.00,9,-999.0000,9,  -999.00,-999.000,9,-999.0000,9, -999.00,9, -999.00,9,  -999.0,9,  -999.0,-999.000,9,-999.000,     -999.0,9, -999.00,9, -999.00,9, -999.00,9,     -999.0,9,  -999.0,9, 20130410,     1109,  29.9938, 137.1729,    34.8074,2,     -999.0,9,     -999.0,9,     1.7373,2,     -999.0,9,     -999.0,9,-999.0000, -999.00,-999.000