BOTTLE,20220817CCHSIOAMB
EXPOCODE,SECT_ID,STNNBR,CASTNO,SAMPNO,BTLNBR,BTLNBR_FLAG_W,DATE,TIME,LATITUDE,LONGITUDE,DEPTH,CTDPRS,CTDTMP,CTDSAL,CTDSAL_FLAG_W,SALNTY,SALNTY_FLAG_W,CTDOXY,CTDOXY_FLAG_W,OXYGEN,OXYGEN_FLAG_W,SILCAT,SILCAT_FLAG_W,NITRAT,NITRAT_FLAG_W,NITRIT,NITRIT_FLAG_W,PHSPHT,PHSPHT_FLAG_W,CFC-11,CFC-11_FLAG_W,CFC-12,CFC-12_FLAG_W,CFC113,CFC113_FLAG_W,SF6,SF6_FLAG_W,TCARBN,TCARBN_FLAG_W,ALKALI,ALKALI_FLAG_W,PH_TOT,PH_TOT_FLAG_W,PH_TMP,TRITUM,TRITUM_FLAG_W,HELIUM,HELIUM_FLAG_W,DELHE3,DELHE3_FLAG_W,DELC13,DELC13_FLAG_W,DELC14,DELC14_FLAG_W,C14ERR,NEON,NEON_FLAG_W,NEONER,I-129,I-129_FLAG_W,SR-90,SR-90_FLAG_W,DOC,DOC_FLAG_W,TDN,TDN_FLAG_W,CALCIUM,CALCIUM_FLAG_W,D15N_NO3,D15N_NO3_FLAG_W,BTL_DATE,BTL_TIME,BTL_LAT,BTL_LON,SALTREF,SALTREF_FLAG_W,CS-137,CS-137_FLAG_W,CS-134,CS-134_FLAG_W,REFTMP,REFTMP_FLAG_W,LAB_DEN,LAB_DEN_FLAG_W,D18O_NO3,D18O_NO3_FLAG_W,HELIER,DELHER,TRITER
,,,,,,,,,,,METERS,DBAR,ITS-90,PSS-78,,PSS-78,,UMOL/KG,,UMOL/KG,,UMOL/KG,,UMOL/KG,,UMOL/KG,,UMOL/KG,,PMOL/KG,,PMOL/KG,,PMOL/KG,,FMOL/KG,,UMOL/KG,,UMOL/KG,,,,DEG C,TU,,NMOL/KG,,PERCNT,,/MILLE,,/MILLE,,/MILLE,NMOL/KG,,NMOL/KG,BQ/M^3,,DM/.1MG,,UMOL/KG,,UMOL/KG,,MMOL/KG,,/MILLE,,,,,,G/KG,,BQ/M^3,,BQ/M^3,,ITS-90,,,,/MILLE,,NMOL/KG,PERCNT,TU
318M20130321,       P02W,       2,          1,         20,         20,2,20130323,       0011,    32.4468,   133.1832,        877,       3,   19.296,  34.6997,2,     34.7,2,    226.5,2,     228,2,    2.83,2,    0.75,2,    0.11,2,    0.12,2,   2.673,2,   1.312,2,   0.152,2,     1.63,2,  1998.1,6, 2280.94,2,   8.0228,2,       25,-999.000,9,-999.0000,9, -999.00,9, -999.00,9,  -999.0,9,  -999.0,-999.000,9,-999.000,     -999.0,9, -999.00,9, -999.00,9, -999.00,9,     -999.0,9,  -999.0,1, 20130323,      106,  32.4466, 133.1835,    34.8636,2,     -999.0,9,     -999.0,9,    19.2933,2,     -999.0,9,     -999.0,1,-999.0000, -999.00,-999.000
318M20130321,       P02W,       2,          1,         19,         19,2,20130323,       0011,    32.4468,   133.1832,        877,    28.8,  19.2521,  34.7001,2,  34.7002,2,    226.4,2,   227.2,2,    2.83,2,    0.81,2,    0.12,2,    0.13,2,   2.294,2,   1.327,2,   0.160,2,     1.61,2,  1998.8,2, 2280.54,2,   8.0213,6,       25,-999.000,9,-999.0000,9, -999.00,9, -999.00,9,  -999.0,9,  -999.0,-999.000,9,-999.000,     -999.0,9, -999.00,9, -999.00,9, -999.00,9,     -999.0,9,  -999.0,1, 20130323,      104,  32.4466, 133.1835,    34.8638,2,     -999.0,9,     -999.0,9,    19.2528,2,     -999.0,9,     -999.0,1,-999.0000, -999.00,-999.000
318M20130321,       P02W,       2,          1,         18,         18,2,20130323,       0011,    32.4468,   133.1832,        877,    53.3,  19.0529,  34.6949,2,   34.695,2,    224.7,2,   225.2,2,    3.12,2,    1.18,2,    0.16,2,    0.16,2,   2.419,2,   1.095,2,   0.127,2,     1.66,2,  2004.1,2, 2280.44,6,    8.012,2,       25,-999.000,9,-999.0000,9, -999.00,9, -999.00,9,  -999.0,9,  -999.0,-999.000,9,-999.000,     -999.0,9, -999.00,9, -999.00,9, -999.00,9,     -999.0,9,  -999.0,1, 20130323,      101,  32.4466, 133.1836,    34.8586,2,     -999.0,9,     -999.0,9,    19.0542,2,     -999.0,9,     -999.0,1,-999.0000, -999.00,-999.000
318M20130321,       P02W,       2,          1,         17,         17,2,20130323,       0011,    32.4468,   133.1832,        877,    77.5,  18.7473,  34.6838,2,  34.6828,2,    228.4,2,     223,2,    3.51,2,    1.66,2,     0.2,2,    0.19,2,   2.709,2,   1.790,4,   0.128,2,     1.57,2,  -999.0,9, -999.00,9,-999.0000,9,  -999.00,-999.000,9,-999.0000,9, -999.00,9, -999.00,9,  -999.0,9,  -999.0,-999.000,9,-999.000,     -999.0,9, -999.00,9, -999.00,9, -999.00,9,     -999.0,9,  -999.0,1, 20130323,       59,  32.4466, 133.1836,    34.8464,2,     -999.0,9,     -999.0,9,    18.7462,2,     -999.0,9,     -999.0,1,-999.0000, -999.00,-999.000
318M20130321,       P02W,       2,          1,         16,         16,2,20130323,       0011,    32.4468,   133.1832,        877,   103.4,  18.0036,  34.6632,2,  34.6628,2,    202.5,2,   207.1,2,    5.37,2,    3.96,2,    0.26,2,    0.33,2,   3.077,2,   1.373,2,   0.091,2,     1.52,2,  2029.2,2, 2277.94,2,   7.9643,2,       25,-999.000,9,-999.0000,9, -999.00,9, -999.00,9,  -999.0,9,  -999.0,-999.000,9,-999.000,     -999.0,9, -999.00,9, -999.00,9, -999.00,9,     -999.0,9,  -999.0,1, 20130323,       57,  32.4465, 133.1837,    34.8262,2,     -999.0,9,     -999.0,9,    18.0067,2,     -999.0,9,     -999.0,1,-999.0000, -999.00,-999.000
318M20130321,       P02W,       2,          1,         15,         15,9,20130323,       0011,    32.4468,   133.1832,        877,   129.1,   17.229,   34.611,2,-999.0000,9,    197.6,2,  -999.0,9, -999.00,9, -999.00,9, -999.00,9, -999.00,9,-999.000,9,-999.000,9,-999.000,9,-999.0000,9,  -999.0,9, -999.00,9,-999.0000,9,  -999.00,-999.000,9,-999.0000,9, -999.00,9, -999.00,9,  -999.0,9,  -999.0,-999.000,9,-999.000,     -999.0,9, -999.00,9, -999.00,9, -999.00,9,     -999.0,9,  -999.0,9, 20130323,       54,  32.4465, 133.1837,     -999.0,9,     -999.0,9,     -999.0,9,    17.2233,2,     -999.0,9,     -999.0,9,-999.0000, -999.00,-999.000
318M20130321,       P02W,       2,          1,         14,         14,2,20130323,       0011,    32.4468,   133.1832,        877,   155.7,  16.3432,  34.5774,2,  34.5796,2,    193.9,2,   197.3,2,    9.66,2,    7.16,2,    0.08,2,    0.54,2,   2.843,2,   1.378,2,   0.102,2,     1.49,2,  -999.0,9, -999.00,9,-999.0000,9,  -999.00,-999.000,9,-999.0000,9, -999.00,9, -999.00,9,  -999.0,9,  -999.0,-999.000,9,-999.000,     -999.0,9, -999.00,9, -999.00,9, -999.00,9,     -999.0,9,  -999.0,1, 20130323,       52,  32.4466, 133.1836,    34.7427,2,     -999.0,9,     -999.0,9,    16.3594,2,     -999.0,9,     -999.0,1,-999.0000, -999.00,-999.000
318M20130321,       P02W,       2,          1,         13,         13,2,20130323,       0011,    32.4468,   133.1832,        877,   180.7,  15.5806,  34.5559,2,  34.5523,2,    185.5,2,     183,2,   13.76,2,    9.79,2,    0.07,2,     0.7,2,   3.150,4,   1.377,2,   0.099,2,     1.34,2,  -999.0,9, -999.00,9,-999.0000,9,  -999.00,-999.000,9,-999.0000,9, -999.00,9, -999.00,9,  -999.0,9,  -999.0,-999.000,9,-999.000,     -999.0,9, -999.00,9, -999.00,9, -999.00,9,     -999.0,9,  -999.0,1, 20130323,       50,  32.4467, 133.1833,    34.7152,2,     -999.0,9,     -999.0,9,    15.5793,2,     -999.0,9,     -999.0,1,-999.0000, -999.00,-999.000
318M20130321,       P02W,       2,          1,         12,         12,2,20130323,       0011,    32.4468,   133.1832,        877,   205.2,  12.8792,  34.4503,2,  34.4492,2,    166.2,2,   162.5,2,   25.19,2,   15.46,2,    0.03,2,    1.12,2,   2.930,2,   1.309,2,   0.046,2,        1,2,  2122.3,2, 2280.14,2,   7.7759,6,       25,-999.000,9,-999.0000,9, -999.00,9, -999.00,9,  -999.0,9,  -999.0,-999.000,9,-999.000,     -999.0,9, -999.00,9, -999.00,9, -999.00,9,     -999.0,9,  -999.0,1, 20130323,       47,  32.4468, 133.1832,    34.6116,2,     -999.0,9,     -999.0,9,     12.888,2,     -999.0,9,     -999.0,1,-999.0000, -999.00,-999.000
318M20130321,       P02W,       2,          1,         11,         11,2,20130323,       0011,    32.4468,   133.1832,        877,   230.5,  12.1806,  34.4196,2,  34.4166,2,    155.3,2,   156.9,2,    28.7,2,   17.14,2,    0.03,2,    1.24,2,   2.678,2,   1.269,2,   0.040,2,      0.9,2,  -999.0,9, -999.00,9,-999.0000,9,  -999.00,-999.000,9,-999.0000,9, -999.00,9, -999.00,9,  -999.0,9,  -999.0,-999.000,9,-999.000,     -999.0,9, -999.00,9, -999.00,9, -999.00,9,     -999.0,9,  -999.0,1, 20130323,       45,  32.4468, 133.1833,    34.5789,2,     -999.0,9,     -999.0,9,    12.1803,2,     -999.0,9,     -999.0,1,-999.0000, -999.00,-999.000
318M20130321,       P02W,       2,          1,         10,         10,2,20130323,       0011,    32.4468,   133.1832,        877,   255.9,    11.33,  34.3721,2,  34.3708,2,      154,2,   154.6,2,   31.24,2,   18.64,2,    0.01,2,    1.34,2,   2.862,4,   1.243,2,   0.055,2,     0.84,2,  -999.0,9, -999.00,9,-999.0000,9,  -999.00,-999.000,9,-999.0000,9, -999.00,9, -999.00,9,  -999.0,9,  -999.0,-999.000,9,-999.000,     -999.0,9, -999.00,9, -999.00,9, -999.00,9,     -999.0,9,  -999.0,1, 20130323,       42,  32.4467, 133.1834,    34.5329,2,     -999.0,9,     -999.0,9,    11.3334,2,     -999.0,9,     -999.0,1,-999.0000, -999.00,-999.000
318M20130321,       P02W,       2,          1,          9,          9,2,20130323,       0011,    32.4468,   133.1832,        877,     307,   9.9654,  34.3331,2,  34.3308,2,    138.6,2,   138.4,2,   42.76,2,   22.42,2,    0.02,2,    1.61,2,   2.133,2,   1.107,2,   0.054,2,     0.74,2,  2175.7,2, 2290.74,2,   7.6592,2,       25,-999.000,9,-999.0000,9, -999.00,9, -999.00,9,  -999.0,9,  -999.0,-999.000,9,-999.000,     -999.0,9, -999.00,9, -999.00,9, -999.00,9,     -999.0,9,  -999.0,1, 20130323,       39,  32.4466, 133.1836,    34.4927,2,     -999.0,9,     -999.0,9,     9.9665,2,     -999.0,9,     -999.0,1,-999.0000, -999.00,-999.000
318M20130321,       P02W,       2,          1,          8,          8,2,20130323,       0011,    32.4468,   133.1832,        877,   358.1,   9.5378,  34.3182,2,  34.3174,2,    132.1,2,   134.9,2,   45.89,2,   23.39,2,    0.03,2,     1.7,2,   2.511,4,   1.057,2,   0.047,2,     0.69,2,  -999.0,9, -999.00,9,-999.0000,9,  -999.00,-999.000,9,-999.0000,9, -999.00,9, -999.00,9,  -999.0,9,  -999.0,-999.000,9,-999.000,     -999.0,9, -999.00,9, -999.00,9, -999.00,9,     -999.0,9,  -999.0,1, 20130323,       36,  32.4467, 133.1835,    34.4792,2,     -999.0,9,     -999.0,9,     9.5415,2,     -999.0,9,     -999.0,1,-999.0000, -999.00,-999.000
318M20130321,       P02W,       2,          1,          7,          7,2,20130323,       0011,    32.4468,   133.1832,        877,   408.1,   8.4835,  34.2903,2,  34.2911,2,    123.2,2,   123.7,2,   54.87,2,   26.18,2,    0.03,2,       2,2,   1.842,2,   0.925,2,   0.041,2,     0.63,2,  -999.0,9, -999.00,9,-999.0000,9,  -999.00,-999.000,9,-999.0000,9, -999.00,9, -999.00,9,  -999.0,9,  -999.0,-999.000,9,-999.000,     -999.0,9, -999.00,9, -999.00,9, -999.00,9,     -999.0,9,  -999.0,1, 20130323,       33,  32.4468, 133.1832,    34.4528,2,     -999.0,9,     -999.0,9,      8.485,2,     -999.0,9,     -999.0,1,-999.0000, -999.00,-999.000
318M20130321,       P02W,       2,          1,          6,          6,2,20130323,       0011,    32.4468,   133.1832,        877,   458.4,   7.9537,  34.2748,2,  34.2766,2,      118,2,   118.5,2,   59.46,2,   27.53,2,    0.01,2,    2.05,2,   1.752,2,   0.878,2,   0.031,2,     0.59,2,  2218.2,2, 2302.84,2,   7.5731,2,       25,-999.000,9,-999.0000,9, -999.00,9, -999.00,9,  -999.0,9,  -999.0,-999.000,9,-999.000,     -999.0,9, -999.00,9, -999.00,9, -999.00,9,     -999.0,9,  -999.0,1, 20130323,       29,  32.4466, 133.1832,    34.4382,2,     -999.0,9,     -999.0,9,     7.9563,2,     -999.0,9,     -999.0,1,-999.0000, -999.00,-999.000
318M20130321,       P02W,       2,          1,          5,          5,2,20130323,       0011,    32.4468,   133.1832,        877,   510.2,   7.0067,  34.2655,2,  34.2677,2,    107.4,2,   106.6,2,   69.22,2,   30.25,2,       0,2,    2.23,2,   1.500,2,   0.726,2,   0.005,2,     0.46,2,  -999.0,9, -999.00,9,-999.0000,9,  -999.00,-999.000,9,-999.0000,9, -999.00,9, -999.00,9,  -999.0,9,  -999.0,-999.000,9,-999.000,     -999.0,9, -999.00,9, -999.00,9, -999.00,9,     -999.0,9,  -999.0,1, 20130323,       26,  32.4465, 133.1834,    34.4293,2,     -999.0,9,     -999.0,9,     7.0068,2,     -999.0,9,     -999.0,1,-999.0000, -999.00,-999.000
318M20130321,       P02W,       2,          1,          4,          4,2,20130323,       0011,    32.4468,   133.1832,        877,   611.8,   5.4379,  34.2706,2,  34.2728,2,     84.5,2,    83.4,2,   88.46,2,    34.9,2,       0,2,    2.58,2,   1.025,2,   0.465,2,   0.026,2,     0.26,2,  -999.0,9, -999.00,9,-999.0000,9,  -999.00,-999.000,9,-999.0000,9, -999.00,9, -999.00,9,  -999.0,9,  -999.0,-999.000,9,-999.000,     -999.0,9, -999.00,9, -999.00,9, -999.00,9,     -999.0,9,  -999.0,1, 20130323,       22,  32.4466, 133.1834,    34.4344,2,     -999.0,9,     -999.0,9,     5.4329,2,     -999.0,9,     -999.0,1,-999.0000, -999.00,-999.000
318M20130321,       P02W,       2,          1,          3,          3,2,20130323,       0011,    32.4468,   133.1832,        877,   713.2,   4.7629,  34.3112,2,  34.3128,2,     75.1,2,    75.4,2,  101.25,2,    36.8,2,       0,2,    2.69,2,   0.723,2,   0.326,2,   0.029,2,     0.24,2,  2303.1,2, 2342.25,6,   7.4266,2,       25,-999.000,9,-999.0000,9, -999.00,9, -999.00,9,  -999.0,9,  -999.0,-999.000,9,-999.000,     -999.0,9, -999.00,9, -999.00,9, -999.00,9,     -999.0,9,  -999.0,1, 20130323,       18,  32.4467, 133.1834,    34.4746,2,     -999.0,9,     -999.0,9,     4.7611,2,     -999.0,9,     -999.0,1,-999.0000, -999.00,-999.000
318M20130321,       P02W,       2,          1,          2,          2,2,20130323,       0011,    32.4468,   133.1832,        877,   814.6,   4.0314,  34.3683,2,  34.3695,2,     67.2,2,    67.5,2,  114.91,2,   38.41,2,       0,2,    2.79,2,   0.421,2,   0.199,2,   0.021,2,     0.22,2,  2325.8,2, 2360.25,2,   7.4107,6,       25,-999.000,9,-999.0000,9, -999.00,9, -999.00,9,  -999.0,9,  -999.0,-999.000,9,-999.000,     -999.0,9, -999.00,9, -999.00,9, -999.00,9,     -999.0,9,  -999.0,1, 20130323,       15,  32.4468, 133.1835,    34.5315,2,     -999.0,9,     -999.0,9,     4.0319,2,     -999.0,9,     -999.0,1,-999.0000, -999.00,-999.000
318M20130321,       P02W,       2,          1,          1,          1,2,20130323,       0011,    32.4468,   133.1832,        877,   871.3,    3.837,  34.3846,2,   34.385,2,     65.5,2,    65.2,2,  118.91,2,   38.74,2,       0,2,    2.82,2,   0.394,2,   0.178,2,   0.024,2,     0.23,2,  2331.6,6, 2361.55,2,   7.4078,2,       25,-999.000,9,-999.0000,9, -999.00,9, -999.00,9,  -999.0,9,  -999.0,-999.000,9,-999.000,     -999.0,9, -999.00,9, -999.00,9, -999.00,9,     -999.0,9,  -999.0,1, 20130323,       11,  32.4468, 133.1832,    34.5471,2,     -999.0,9,     -999.0,9,     3.8348,2,     -999.0,9,     -999.0,1,-999.0000, -999.00,-999.000