BOTTLE,20220817CCHSIOAMB
EXPOCODE,SECT_ID,STNNBR,CASTNO,SAMPNO,BTLNBR,BTLNBR_FLAG_W,DATE,TIME,LATITUDE,LONGITUDE,DEPTH,CTDPRS,CTDTMP,CTDSAL,CTDSAL_FLAG_W,SALNTY,SALNTY_FLAG_W,CTDOXY,CTDOXY_FLAG_W,OXYGEN,OXYGEN_FLAG_W,SILCAT,SILCAT_FLAG_W,NITRAT,NITRAT_FLAG_W,NITRIT,NITRIT_FLAG_W,PHSPHT,PHSPHT_FLAG_W,CFC-11,CFC-11_FLAG_W,CFC-12,CFC-12_FLAG_W,CFC113,CFC113_FLAG_W,SF6,SF6_FLAG_W,TCARBN,TCARBN_FLAG_W,ALKALI,ALKALI_FLAG_W,PH_TOT,PH_TOT_FLAG_W,PH_TMP,TRITUM,TRITUM_FLAG_W,HELIUM,HELIUM_FLAG_W,DELHE3,DELHE3_FLAG_W,DELC13,DELC13_FLAG_W,DELC14,DELC14_FLAG_W,C14ERR,NEON,NEON_FLAG_W,NEONER,I-129,I-129_FLAG_W,SR-90,SR-90_FLAG_W,DOC,DOC_FLAG_W,TDN,TDN_FLAG_W,CALCIUM,CALCIUM_FLAG_W,D15N_NO3,D15N_NO3_FLAG_W,BTL_DATE,BTL_TIME,BTL_LAT,BTL_LON,SALTREF,SALTREF_FLAG_W,CS-137,CS-137_FLAG_W,CS-134,CS-134_FLAG_W,REFTMP,REFTMP_FLAG_W,LAB_DEN,LAB_DEN_FLAG_W,D18O_NO3,D18O_NO3_FLAG_W,HELIER,DELHER,TRITER
,,,,,,,,,,,METERS,DBAR,ITS-90,PSS-78,,PSS-78,,UMOL/KG,,UMOL/KG,,UMOL/KG,,UMOL/KG,,UMOL/KG,,UMOL/KG,,PMOL/KG,,PMOL/KG,,PMOL/KG,,FMOL/KG,,UMOL/KG,,UMOL/KG,,,,DEG C,TU,,NMOL/KG,,PERCNT,,/MILLE,,/MILLE,,/MILLE,NMOL/KG,,NMOL/KG,BQ/M^3,,DM/.1MG,,UMOL/KG,,UMOL/KG,,MMOL/KG,,/MILLE,,,,,,G/KG,,BQ/M^3,,BQ/M^3,,ITS-90,,,,/MILLE,,NMOL/KG,PERCNT,TU
318M20130321,       P02W,      76,          1,         35,         35,2,20130429,       0217,         30,  -178.9999,       5396,     2.4,   17.207,  34.7035,2,   34.704,2,      243,2,   244.4,2,    1.66,2,       0,2,       0,2,    0.04,2,   2.652,2,   1.602,2,   0.219,2,     1.63,2,  2013.9,2, 2278.41,2,   7.9929,2,       25,-999.000,9,-999.0000,9, -999.00,9, -999.00,9,  -999.0,9,  -999.0,-999.000,9,-999.000,     -999.0,9, -999.00,9, -999.00,9, -999.00,9,     -999.0,9,  -999.0,9, 20130429,      426,  29.9995,-178.9999,    34.8677,2,     -999.0,9,     -999.0,9,    17.2067,2,     -999.0,9,     -999.0,9,-999.0000, -999.00,-999.000
318M20130321,       P02W,      76,          1,         36,         36,2,20130429,       0217,         30,  -178.9999,       5396,    21.9,  17.1796,  34.7026,2,  34.7032,2,    245.1,2,   244.7,2,    1.56,2,       0,2,       0,2,    0.03,2,   2.655,2,   1.599,2,   0.214,2,     1.62,2,  -999.0,9, -999.00,9,-999.0000,9,  -999.00,-999.000,9,-999.0000,9, -999.00,9, -999.00,9,  -999.0,9,  -999.0,-999.000,9,-999.000,     -999.0,9, -999.00,9, -999.00,9, -999.00,9,     -999.0,9,  -999.0,9, 20130429,      425,  29.9996,-178.9998,    34.8669,2,     -999.0,9,     -999.0,9,    17.1799,2,     -999.0,9,     -999.0,9,-999.0000, -999.00,-999.000
318M20130321,       P02W,      76,          1,         34,         34,2,20130429,       0217,         30,  -178.9999,       5396,    41.1,  17.1161,  34.7015,2,  34.7019,2,    246.1,2,   244.5,2,    1.85,2,    0.01,2,       0,2,    0.03,2,   2.633,2,   1.607,2,   0.216,2,     1.72,2,    2014,2, 2279.31,2,   7.9935,6,       25,-999.000,9,-999.0000,9, -999.00,9, -999.00,9,  -999.0,9,  -999.0,-999.000,9,-999.000,     -999.0,9, -999.00,9, -999.00,9, -999.00,9,     -999.0,9,  -999.0,9, 20130429,      423,  29.9996,-178.9999,    34.8655,2,     -999.0,9,     -999.0,9,    17.1157,2,     -999.0,9,     -999.0,9,-999.0000, -999.00,-999.000
318M20130321,       P02W,      76,          1,         33,         33,2,20130429,       0217,         30,  -178.9999,       5396,    66.7,  17.0843,  34.6995,2,  34.7001,2,    245.2,2,   242.2,2,    1.85,2,    0.04,2,    0.04,2,    0.03,2,   2.652,2,   1.597,2,   0.208,2,     1.45,2,  2016.3,2, 2278.31,2,   7.9904,2,       25,-999.000,9,-999.0000,9, -999.00,9, -999.00,9,  -999.0,9,  -999.0,-999.000,9,-999.000,     -999.0,9, -999.00,9, -999.00,9, -999.00,9,     -999.0,9,  -999.0,9, 20130429,      422,  29.9997,     -179,    34.8637,2,     -999.0,9,     -999.0,9,    17.0867,2,     -999.0,9,     -999.0,9,-999.0000, -999.00,-999.000
318M20130321,       P02W,      76,          1,         32,         32,2,20130429,       0217,         30,  -178.9999,       5396,    92.7,   16.939,  34.6745,2,  34.6757,2,    238.2,2,   238.3,2,    2.24,2,    0.38,2,     0.2,2,    0.09,2,-999.000,9,-999.000,9,-999.000,9,-999.0000,9,  2017.5,2, 2276.11,6,   7.9796,2,       25,-999.000,9,-999.0000,9, -999.00,9, -999.00,9,  -999.0,9,  -999.0,-999.000,9,-999.000,     -999.0,9, -999.00,9, -999.00,9, -999.00,9,     -999.0,9,  -999.0,9, 20130429,      420,  29.9998,     -179,    34.8393,2,     -999.0,9,     -999.0,9,    16.9435,2,     -999.0,9,     -999.0,9,-999.0000, -999.00,-999.000
318M20130321,       P02W,      76,          1,         31,         31,2,20130429,       0217,         30,  -178.9999,       5396,   132.7,  16.3531,  34.6138,2,  34.6144,2,    230.3,2,   227.4,2,    4.29,2,    3.33,2,    0.03,2,    0.22,2,   2.698,2,   1.630,2,   0.191,2,     2.83,2,  -999.0,9, -999.00,9,-999.0000,9,  -999.00,-999.000,9,-999.0000,9, -999.00,9, -999.00,9,  -999.0,9,  -999.0,-999.000,9,-999.000,     -999.0,9, -999.00,9, -999.00,9, -999.00,9,     -999.0,9,  -999.0,9, 20130429,      418,  29.9999,-179.0001,    34.7777,2,     -999.0,9,     -999.0,9,    16.3519,2,     -999.0,9,     -999.0,9,-999.0000, -999.00,-999.000
318M20130321,       P02W,      76,          1,         30,         30,2,20130429,       0217,         30,  -178.9999,       5396,   182.1,  15.6598,  34.5622,2,   34.562,2,    228.3,2,   228.6,2,    5.08,2,    4.34,2,    0.03,2,    0.29,2,   2.810,2,   1.681,2,   0.167,2,     1.37,2,  2038.2,2, 2270.31,2,   7.9333,6,       25,-999.000,9,-999.0000,9, -999.00,9, -999.00,9,  -999.0,9,  -999.0,-999.000,9,-999.000,     -999.0,9, -999.00,9, -999.00,9, -999.00,9,     -999.0,9,  -999.0,9, 20130429,      416,  29.9999,     -179,     34.725,2,     -999.0,9,     -999.0,9,    15.6585,2,     -999.0,9,     -999.0,9,-999.0000, -999.00,-999.000
318M20130321,       P02W,      76,          1,         29,         29,2,20130429,       0217,         30,  -178.9999,       5396,     234,  14.9322,  34.5146,2,  34.5153,2,    229.2,2,   240.3,2,    5.27,2,    4.16,2,    0.02,2,    0.29,2,   2.925,2,   1.737,2,   0.212,2,     1.91,2,  2037.9,2, 2267.91,2,   7.9286,2,       25,-999.000,9,-999.0000,9, -999.00,9, -999.00,9,  -999.0,9,  -999.0,-999.000,9,-999.000,     -999.0,9, -999.00,9, -999.00,9, -999.00,9,     -999.0,9,  -999.0,9, 20130429,      414,  29.9997,-179.0001,     34.678,2,     -999.0,9,     -999.0,9,    14.9237,2,     -999.0,9,     -999.0,9,-999.0000, -999.00,-999.000
318M20130321,       P02W,      76,          1,         28,         28,2,20130429,       0217,         30,  -178.9999,       5396,   284.3,   14.317,  34.4679,2,  34.4676,2,    211.1,2,   214.3,2,    8.59,2,    7.97,2,    0.02,2,    0.55,2,   2.972,2,   1.746,2,   0.092,2,     1.56,2,  -999.0,9, -999.00,9,-999.0000,9,  -999.00,-999.000,9,-999.0000,9, -999.00,9, -999.00,9,  -999.0,9,  -999.0,-999.000,9,-999.000,     -999.0,9, -999.00,9, -999.00,9, -999.00,9,     -999.0,9,  -999.0,9, 20130429,      412,  29.9997,-179.0001,    34.6301,2,     -999.0,9,     -999.0,9,    14.3244,2,     -999.0,9,     -999.0,9,-999.0000, -999.00,-999.000
318M20130321,       P02W,      76,          1,         27,         27,2,20130429,       0217,         30,  -178.9999,       5396,   333.9,  12.9664,  34.3936,2,  34.3963,2,    200.8,2,   208.8,2,   12.79,2,   10.79,2,       0,2,    0.73,2,-999.000,9,-999.000,9,-999.000,9,-999.0000,9,  2082.1,2, 2267.31,2,   7.8368,2,       25,-999.000,9,-999.0000,9, -999.00,9, -999.00,9,  -999.0,9,  -999.0,-999.000,9,-999.000,     -999.0,9, -999.00,9, -999.00,9, -999.00,9,     -999.0,9,  -999.0,9, 20130429,      411,  29.9997,-178.9999,    34.5585,2,     -999.0,9,     -999.0,9,    12.9967,2,     -999.0,9,     -999.0,9,-999.0000, -999.00,-999.000
318M20130321,       P02W,      76,          1,         26,         26,2,20130429,       0217,         30,  -178.9999,       5396,   385.1,  11.8576,  34.3076,2,  34.3149,2,    198.9,2,   212.7,2,   15.43,2,   12.46,2,       0,2,    0.87,2,   3.287,2,   1.849,2,   0.117,2,     1.25,2,  2093.7,2, 2267.11,2,   7.8058,2,       25,-999.000,9,-999.0000,9, -999.00,9, -999.00,9,  -999.0,9,  -999.0,-999.000,9,-999.000,     -999.0,9, -999.00,9, -999.00,9, -999.00,9,     -999.0,9,  -999.0,9, 20130429,      409,  29.9996,-178.9998,    34.4767,2,     -999.0,9,     -999.0,9,    11.8615,2,     -999.0,9,     -999.0,9,-999.0000, -999.00,-999.000
318M20130321,       P02W,      76,          1,         25,         25,2,20130429,       0217,         30,  -178.9999,       5396,   466.1,   9.8604,  34.1663,2,  34.1676,2,    194.9,2,   199.2,2,   24.31,2,   17.34,2,       0,2,    1.22,2,-999.000,9,-999.000,9,-999.000,9,-999.0000,9,  2125.5,2, 2267.11,2,   7.7302,2,       25,-999.000,9,-999.0000,9, -999.00,9, -999.00,9,  -999.0,9,  -999.0,-999.000,9,-999.000,     -999.0,9, -999.00,9, -999.00,9, -999.00,9,     -999.0,9,  -999.0,9, 20130429,      406,  29.9999,-179.0001,    34.3287,2,     -999.0,9,     -999.0,9,      9.861,2,     -999.0,9,     -999.0,9,-999.0000, -999.00,-999.000
318M20130321,       P02W,      76,          1,         24,         24,2,20130429,       0217,         30,  -178.9999,       5396,   567.8,   7.6117,  34.0574,2,  34.0592,2,    155.5,2,   156.9,2,   43.36,2,   25.29,2,       0,2,    1.82,2,   3.011,2,   1.597,2,   0.116,2,     0.89,2,  -999.0,9, -999.00,9,-999.0000,9,  -999.00,-999.000,9,-999.0000,9, -999.00,9, -999.00,9,  -999.0,9,  -999.0,-999.000,9,-999.000,     -999.0,9, -999.00,9, -999.00,9, -999.00,9,     -999.0,9,  -999.0,9, 20130429,      403,  29.9996,-179.0002,    34.2198,2,     -999.0,9,     -999.0,9,     7.6094,2,     -999.0,9,     -999.0,9,-999.0000, -999.00,-999.000
318M20130321,       P02W,      76,          1,         23,         23,2,20130429,       0217,         30,  -178.9999,       5396,   669.3,    5.949,  34.0307,2,   34.032,2,    116.5,2,   117.5,2,   64.06,2,   31.84,2,       0,2,    2.31,2,-999.000,9,-999.000,9,-999.000,9,-999.0000,9,  2237.1,2, 2294.82,2,   7.4868,2,       25,-999.000,9,-999.0000,9, -999.00,9, -999.00,9,  -999.0,9,  -999.0,-999.000,9,-999.000,     -999.0,9, -999.00,9, -999.00,9, -999.00,9,     -999.0,9,  -999.0,9, 20130429,      401,  29.9998,     -179,    34.1925,2,     -999.0,9,     -999.0,9,     5.9406,2,     -999.0,9,     -999.0,9,-999.0000, -999.00,-999.000
318M20130321,       P02W,      76,          1,         22,         22,2,20130429,       0217,         30,  -178.9999,       5396,   770.3,   4.8249,  34.0993,2,  34.1047,2,     76.9,2,    73.2,2,   87.01,2,   37.63,2,       0,2,    2.74,2,   1.327,2,   0.678,2,   0.061,2,     0.28,2,  -999.0,9, -999.00,9,-999.0000,9,  -999.00,-999.000,9,-999.0000,9, -999.00,9, -999.00,9,  -999.0,9,  -999.0,-999.000,9,-999.000,     -999.0,9, -999.00,9, -999.00,9, -999.00,9,     -999.0,9,  -999.0,9, 20130429,      358,  29.9999,-179.0002,    34.2655,2,     -999.0,9,     -999.0,9,      4.825,2,     -999.0,9,     -999.0,9,-999.0000, -999.00,-999.000
318M20130321,       P02W,      76,          1,         21,         21,2,20130429,       0217,         30,  -178.9999,       5396,   871.8,   4.2132,  34.1916,2,  34.1917,2,     50.3,2,    46.4,2,  104.18,2,   40.67,2,       0,2,    2.97,2,-999.000,9,-999.000,9,-999.000,9,-999.0000,9,  2323.1,2, 2332.03,2,    7.341,2,       25,-999.000,9,-999.0000,9, -999.00,9, -999.00,9,  -999.0,9,  -999.0,-999.000,9,-999.000,     -999.0,9, -999.00,9, -999.00,9, -999.00,9,     -999.0,9,  -999.0,9, 20130429,      355,  29.9999,-178.9998,     34.353,2,     -999.0,9,     -999.0,9,     4.2131,2,     -999.0,9,     -999.0,9,-999.0000, -999.00,-999.000
318M20130321,       P02W,      76,          1,         20,         20,2,20130429,       0217,         30,  -178.9999,       5396,   969.5,   3.7515,  34.2839,2,  34.2865,2,     31.6,2,    30.6,2,   119.7,2,   42.58,2,       0,2,    3.09,2,   0.281,2,   0.138,2,   0.013,2,     0.28,2,  -999.0,9, -999.00,9,-999.0000,9,  -999.00,-999.000,9,-999.0000,9, -999.00,9, -999.00,9,  -999.0,9,  -999.0,-999.000,9,-999.000,     -999.0,9, -999.00,9, -999.00,9, -999.00,9,     -999.0,9,  -999.0,9, 20130429,      352,       30,-178.9995,    34.4481,2,     -999.0,9,     -999.0,9,     3.7502,2,     -999.0,9,     -999.0,9,-999.0000, -999.00,-999.000
318M20130321,       P02W,      76,          1,         19,         19,2,20130429,       0217,         30,  -178.9999,       5396,    1071,   3.4647,  34.3502,2,  34.3508,2,     27.7,2,    26.8,2,  128.09,2,   43.18,2,       0,2,    3.11,2,   0.135,2,   0.071,2,   0.005,2,     0.03,2,  2361.8,6, 2364.24,2,   7.3188,2,       25,-999.000,9,-999.0000,9, -999.00,9, -999.00,9,  -999.0,9,  -999.0,-999.000,9,-999.000,     -999.0,9, -999.00,9, -999.00,9, -999.00,9,     -999.0,9,  -999.0,9, 20130429,      349,       30,-178.9994,    34.5128,2,     -999.0,9,     -999.0,9,     3.4649,2,     -999.0,9,     -999.0,9,-999.0000, -999.00,-999.000
318M20130321,       P02W,      76,          1,         18,         18,2,20130429,       0217,         30,  -178.9999,       5396,  1173.4,   3.1808,  34.4137,2,  34.4146,2,     27.4,2,    28.7,2,  135.99,2,    43.4,2,       0,2,    3.11,2,   0.053,2,   0.033,2,   0.000,2,     0.02,2,  -999.0,9, -999.00,9,-999.0000,9,  -999.00,-999.000,9,-999.0000,9, -999.00,9, -999.00,9,  -999.0,9,  -999.0,-999.000,9,-999.000,     -999.0,9, -999.00,9, -999.00,9, -999.00,9,     -999.0,9,  -999.0,9, 20130429,      347,       30,-178.9994,    34.5769,2,     -999.0,9,     -999.0,9,     3.1802,2,     -999.0,9,     -999.0,9,-999.0000, -999.00,-999.000
318M20130321,       P02W,      76,          1,         17,         17,2,20130429,       0217,         30,  -178.9999,       5396,  1273.4,   2.9866,  34.4541,2,  34.4535,2,     30.6,2,    32.3,2,  140.68,2,    43.3,2,       0,2,    3.12,2,   0.035,2,   0.023,2,   0.000,2,     0.04,2,  2372.9,2, 2382.25,2,   7.3385,6,       25,-999.000,9,-999.0000,9, -999.00,9, -999.00,9,  -999.0,9,  -999.0,-999.000,9,-999.000,     -999.0,9, -999.00,9, -999.00,9, -999.00,9,     -999.0,9,  -999.0,9, 20130429,      344,       30,-178.9994,     34.616,2,     -999.0,9,     -999.0,9,     2.9904,2,     -999.0,9,     -999.0,9,-999.0000, -999.00,-999.000
318M20130321,       P02W,      76,          1,         16,         16,2,20130429,       0217,         30,  -178.9999,       5396,  1376.2,   2.8105,  34.4867,2,  34.4904,2,       36,2,    37.4,2,  145.36,2,   43.12,2,       0,2,    3.09,2,   0.019,2,   0.016,2,   0.000,2,     0.02,2,  2375.1,2, 2389.05,2,   7.3516,2,       25,-999.000,9,-999.0000,9, -999.00,9, -999.00,9,  -999.0,9,  -999.0,-999.000,9,-999.000,     -999.0,9, -999.00,9, -999.00,9, -999.00,9,     -999.0,9,  -999.0,9, 20130429,      342,       30,-178.9994,    34.6531,2,     -999.0,9,     -999.0,9,     2.8106,2,     -999.0,9,     -999.0,9,-999.0000, -999.00,-999.000
318M20130321,       P02W,      76,          1,         15,         15,2,20130429,       0217,         30,  -178.9999,       5396,  1543.8,   2.5288,  34.5296,2,  34.5307,2,     46.9,2,    47.4,2,  151.11,2,   42.65,2,       0,2,    3.07,2,   0.015,2,   0.009,2,   0.001,2,        0,2,  2376.2,2, 2398.55,2,   7.3718,2,       25,-999.000,9,-999.0000,9, -999.00,9, -999.00,9,  -999.0,9,  -999.0,-999.000,9,-999.000,     -999.0,9, -999.00,9, -999.00,9, -999.00,9,     -999.0,9,  -999.0,9, 20130429,      338,  30.0002,-178.9994,    34.6935,2,     -999.0,9,     -999.0,9,     2.5288,2,     -999.0,9,     -999.0,9,-999.0000, -999.00,-999.000
318M20130321,       P02W,      76,          1,         14,         14,2,20130429,       0217,         30,  -178.9999,       5396,  1748.8,   2.2425,  34.5683,2,   34.569,2,     60.8,2,    60.7,2,  157.45,2,   41.87,2,       0,2,    2.99,2,-999.000,9,-999.000,9,-999.000,9,-999.0000,9,  2373.1,2, 2406.25,2,   7.4004,2,       25,-999.000,9,-999.0000,9, -999.00,9, -999.00,9,  -999.0,9,  -999.0,-999.000,9,-999.000,     -999.0,9, -999.00,9, -999.00,9, -999.00,9,     -999.0,9,  -999.0,9, 20130429,      333,  30.0004,-178.9992,     34.732,2,     -999.0,9,     -999.0,9,     2.2426,2,     -999.0,9,     -999.0,9,-999.0000, -999.00,-999.000
318M20130321,       P02W,      76,          1,         13,         13,2,20130429,       0217,         30,  -178.9999,       5396,  1952.1,   2.0252,  34.5971,2,  34.5988,2,     74.5,2,    74.2,2,  160.48,2,   41.09,2,       0,2,    2.94,2,   0.009,2,   0.003,2,   0.003,2,     0.07,2,  2371.5,2, 2410.76,2,   7.4267,2,       25,-999.000,9,-999.0000,9, -999.00,9, -999.00,9,  -999.0,9,  -999.0,-999.000,9,-999.000,     -999.0,9, -999.00,9, -999.00,9, -999.00,9,     -999.0,9,  -999.0,9, 20130429,      329,  30.0003, -178.999,     34.762,2,     -999.0,9,     -999.0,9,     2.0266,2,     -999.0,9,     -999.0,9,-999.0000, -999.00,-999.000
318M20130321,       P02W,      76,          1,         11,         11,2,20130429,       0217,         30,  -178.9999,       5396,  2188.9,   1.8553,  34.6184,2,  34.6193,2,     86.5,2,    85.8,2,  163.69,2,   40.35,2,       0,2,    2.88,2,-999.000,9,-999.000,9,-999.000,9,-999.0000,9,  2365.2,2, 2415.46,2,   7.4516,2,       25,-999.000,9,-999.0000,9, -999.00,9, -999.00,9,  -999.0,9,  -999.0,-999.000,9,-999.000,     -999.0,9, -999.00,9, -999.00,9, -999.00,9,     -999.0,9,  -999.0,9, 20130429,      324,  30.0003, -178.999,    34.7825,2,     -999.0,9,     -999.0,9,     1.8551,2,     -999.0,9,     -999.0,9,-999.0000, -999.00,-999.000
318M20130321,       P02W,      76,          1,         10,         10,2,20130429,       0217,         30,  -178.9999,       5396,  2444.2,   1.7229,  34.6365,2,  34.6377,2,     98.8,2,    99.6,2,  163.59,2,   39.49,2,       0,2,     2.8,2,   0.003,2,   0.007,2,   0.004,2,        0,2,  -999.0,9, -999.00,9,-999.0000,9,  -999.00,-999.000,9,-999.0000,9, -999.00,9, -999.00,9,  -999.0,9,  -999.0,-999.000,9,-999.000,     -999.0,9, -999.00,9, -999.00,9, -999.00,9,     -999.0,9,  -999.0,9, 20130429,      319,  30.0003,-178.9991,    34.8011,2,     -999.0,9,     -999.0,9,     1.7228,2,     -999.0,9,     -999.0,9,-999.0000, -999.00,-999.000
318M20130321,       P02W,      76,          1,          9,          9,2,20130429,       0217,         30,  -178.9999,       5396,  2695.3,   1.6299,  34.6496,2,  34.6507,2,    112.3,2,   111.1,2,  162.42,2,    38.7,2,       0,2,    2.75,2,-999.000,9,-999.000,9,-999.000,9,-999.0000,9,  -999.0,9, -999.00,9,-999.0000,9,  -999.00,-999.000,9,-999.0000,9, -999.00,9, -999.00,9,  -999.0,9,  -999.0,-999.000,9,-999.000,     -999.0,9, -999.00,9, -999.00,9, -999.00,9,     -999.0,9,  -999.0,9, 20130429,      314,  30.0005,-178.9993,    34.8141,2,     -999.0,9,     -999.0,9,     1.6296,2,     -999.0,9,     -999.0,9,-999.0000, -999.00,-999.000
318M20130321,       P02W,      76,          1,          8,          8,2,20130429,       0217,         30,  -178.9999,       5396,  2951.4,   1.5581,  34.6607,2,  34.6629,2,    122.6,2,   122.3,2,  160.57,2,   37.98,2,       0,2,    2.69,2,   0.005,2,   0.008,2,   0.000,2,      0.1,2,  2345.6,2, 2418.06,2,   7.5185,2,       25,-999.000,9,-999.0000,9, -999.00,9, -999.00,9,  -999.0,9,  -999.0,-999.000,9,-999.000,     -999.0,9, -999.00,9, -999.00,9, -999.00,9,     -999.0,9,  -999.0,9, 20130429,      308,  30.0006,-178.9996,    34.8264,2,     -999.0,9,     -999.0,9,     1.5581,2,     -999.0,9,     -999.0,9,-999.0000, -999.00,-999.000
318M20130321,       P02W,      76,          1,          7,          7,2,20130429,       0217,         30,  -178.9999,       5396,  3240.1,   1.4982,  34.6708,2,  34.6726,2,    132.9,2,   132.4,2,  158.71,2,   37.29,2,       0,2,    2.65,2,-999.000,9,-999.000,9,-999.000,9,-999.0000,9,  -999.0,9, -999.00,9,-999.0000,9,  -999.00,-999.000,9,-999.0000,9, -999.00,9, -999.00,9,  -999.0,9,  -999.0,-999.000,9,-999.000,     -999.0,9, -999.00,9, -999.00,9, -999.00,9,     -999.0,9,  -999.0,9, 20130429,      303,  30.0003,     -179,     34.836,2,     -999.0,9,     -999.0,9,     1.4986,2,     -999.0,9,     -999.0,9,-999.0000, -999.00,-999.000