BOTTLE,20220817CCHSIOAMB
EXPOCODE,SECT_ID,STNNBR,CASTNO,SAMPNO,BTLNBR,BTLNBR_FLAG_W,DATE,TIME,LATITUDE,LONGITUDE,DEPTH,CTDPRS,CTDTMP,CTDSAL,CTDSAL_FLAG_W,SALNTY,SALNTY_FLAG_W,CTDOXY,CTDOXY_FLAG_W,OXYGEN,OXYGEN_FLAG_W,SILCAT,SILCAT_FLAG_W,NITRAT,NITRAT_FLAG_W,NITRIT,NITRIT_FLAG_W,PHSPHT,PHSPHT_FLAG_W,CFC-11,CFC-11_FLAG_W,CFC-12,CFC-12_FLAG_W,CFC113,CFC113_FLAG_W,SF6,SF6_FLAG_W,TCARBN,TCARBN_FLAG_W,ALKALI,ALKALI_FLAG_W,PH_TOT,PH_TOT_FLAG_W,PH_TMP,TRITUM,TRITUM_FLAG_W,HELIUM,HELIUM_FLAG_W,DELHE3,DELHE3_FLAG_W,DELC13,DELC13_FLAG_W,DELC14,DELC14_FLAG_W,C14ERR,NEON,NEON_FLAG_W,NEONER,I-129,I-129_FLAG_W,SR-90,SR-90_FLAG_W,DOC,DOC_FLAG_W,TDN,TDN_FLAG_W,CALCIUM,CALCIUM_FLAG_W,D15N_NO3,D15N_NO3_FLAG_W,BTL_DATE,BTL_TIME,BTL_LAT,BTL_LON,SALTREF,SALTREF_FLAG_W,CS-137,CS-137_FLAG_W,CS-134,CS-134_FLAG_W,REFTMP,REFTMP_FLAG_W,LAB_DEN,LAB_DEN_FLAG_W,D18O_NO3,D18O_NO3_FLAG_W,HELIER,DELHER,TRITER
,,,,,,,,,,,METERS,DBAR,ITS-90,PSS-78,,PSS-78,,UMOL/KG,,UMOL/KG,,UMOL/KG,,UMOL/KG,,UMOL/KG,,UMOL/KG,,PMOL/KG,,PMOL/KG,,PMOL/KG,,FMOL/KG,,UMOL/KG,,UMOL/KG,,,,DEG C,TU,,NMOL/KG,,PERCNT,,/MILLE,,/MILLE,,/MILLE,NMOL/KG,,NMOL/KG,BQ/M^3,,DM/.1MG,,UMOL/KG,,UMOL/KG,,MMOL/KG,,/MILLE,,,,,,G/KG,,BQ/M^3,,BQ/M^3,,ITS-90,,,,/MILLE,,NMOL/KG,PERCNT,TU
318M20130321,       P02W,      60,          1,          7,          7,2,20130424,       0823,    29.9997,   170.0712,       5548,  3442.1,   1.4755,  34.6754,2,  34.6765,2,    139.5,2,   139.5,2,   155.2,2,   36.67,2,       0,2,    2.61,2,-999.000,9,-999.000,9,-999.000,9,-999.0000,9,  2332.3,2, 2415.66,2,   7.5481,2,       25,-999.000,9,-999.0000,9, -999.00,9, -999.00,9,  -999.0,9,  -999.0,-999.000,9,-999.000,     -999.0,9, -999.00,9, -999.00,9, -999.00,9,     -999.0,9,  -999.0,9, 20130424,      908,       30, 170.0709,      34.84,2,     -999.0,9,     -999.0,9,     1.4753,2,     -999.0,9,     -999.0,9,-999.0000, -999.00,-999.000
318M20130321,       P02W,      60,          1,          6,          6,2,20130424,       0823,    29.9997,   170.0712,       5548,  3786.9,   1.4537,  34.6817,2,  34.6846,3,    146.8,2,     147,2,  153.54,2,   36.18,2,       0,2,    2.57,2,   0.015,2,   0.011,2,   0.013,2,     0.04,2,  -999.0,9, -999.00,9,-999.0000,9,  -999.00,-999.000,9,-999.0000,9, -999.00,9, -999.00,9,  -999.0,9,  -999.0,-999.000,9,-999.000,     -999.0,9, -999.00,9, -999.00,9, -999.00,9,     -999.0,9,  -999.0,9, 20130424,      902,  29.9999, 170.0707,    34.8481,3,     -999.0,9,     -999.0,9,     1.4539,2,     -999.0,9,     -999.0,9,-999.0000, -999.00,-999.000
318M20130321,       P02W,      60,          1,          5,         37,2,20130424,       0823,    29.9997,   170.0712,       5548,  4199.5,   1.4484,  34.6869,2,  34.6875,2,    154.1,2,   153.9,2,  150.31,2,   35.71,2,       0,2,    2.54,2,-999.000,9,-999.000,9,-999.000,9,-999.0000,9,  2322.1,2, 2413.66,2,   7.5717,2,       25,-999.000,9,-999.0000,9, -999.00,9, -999.00,9,  -999.0,9,  -999.0,-999.000,9,-999.000,     -999.0,9, -999.00,9, -999.00,9, -999.00,9,     -999.0,9,  -999.0,9, 20130424,      854,       30, 170.0708,    34.8511,2,     -999.0,9,     -999.0,9,     1.4481,2,     -999.0,9,     -999.0,9,-999.0000, -999.00,-999.000
318M20130321,       P02W,      60,          1,          4,          4,2,20130424,       0823,    29.9997,   170.0712,       5548,  4614.6,    1.463,  34.6902,2,  34.6908,2,    159.7,2,   159.8,2,  146.41,2,    35.3,2,       0,2,     2.5,2,   0.016,2,   0.011,2,   0.014,2,     0.09,2,  -999.0,9, -999.00,9,-999.0000,9,  -999.00,-999.000,9,-999.0000,9, -999.00,9, -999.00,9,  -999.0,9,  -999.0,-999.000,9,-999.000,     -999.0,9, -999.00,9, -999.00,9, -999.00,9,     -999.0,9,  -999.0,9, 20130424,      846,  30.0001, 170.0709,    34.8544,2,     -999.0,9,     -999.0,9,     1.4631,2,     -999.0,9,     -999.0,9,-999.0000, -999.00,-999.000
318M20130321,       P02W,      60,          1,          3,          3,2,20130424,       0823,    29.9997,   170.0712,       5548,  5027.9,   1.4653,  34.6944,2,  34.6948,2,    167.4,2,   167.9,2,  139.38,2,   34.69,2,       0,2,    2.43,2,   0.031,2,   0.011,2,   0.016,2,      0.1,2,  2308.5,6, 2405.05,2,   7.5878,2,       25,-999.000,9,-999.0000,9, -999.00,9, -999.00,9,  -999.0,9,  -999.0,-999.000,9,-999.000,     -999.0,9, -999.00,9, -999.00,9, -999.00,9,     -999.0,9,  -999.0,9, 20130424,      837,  29.9998, 170.0714,    34.8584,2,     -999.0,9,     -999.0,9,     1.4654,2,     -999.0,9,     -999.0,9,-999.0000, -999.00,-999.000
318M20130321,       P02W,      60,          1,          2,          2,2,20130424,       0823,    29.9997,   170.0712,       5548,  5391.5,   1.4868,  34.6962,2,  34.6967,2,    172.4,2,   172.5,2,  136.94,2,    34.4,2,       0,2,    2.43,2,   0.050,2,   0.012,2,   0.013,2,      0.1,2,    2304,2, 2402.05,6,   7.5924,2,       25,-999.000,9,-999.0000,9, -999.00,9, -999.00,9,  -999.0,9,  -999.0,-999.000,9,-999.000,     -999.0,9, -999.00,9, -999.00,9, -999.00,9,     -999.0,9,  -999.0,9, 20130424,      829,       30, 170.0711,    34.8603,2,     -999.0,9,     -999.0,9,     1.4872,2,     -999.0,9,     -999.0,9,-999.0000, -999.00,-999.000
318M20130321,       P02W,      60,          1,          1,          1,2,20130424,       0823,    29.9997,   170.0712,       5548,  5618.8,   1.4963,  34.6974,2,  34.6991,2,    176.1,2,   175.5,2,  134.21,2,   34.14,2,       0,2,    2.41,2,   0.132,2,   0.024,2,   0.012,2,      0.1,2,  2302.3,2, 2398.65,2,   7.5961,6,       25,-999.000,9,-999.0000,9, -999.00,9, -999.00,9,  -999.0,9,  -999.0,-999.000,9,-999.000,     -999.0,9, -999.00,9, -999.00,9, -999.00,9,     -999.0,9,  -999.0,9, 20130424,      824,  29.9998, 170.0712,    34.8627,2,     -999.0,9,     -999.0,9,     1.4961,2,     -999.0,9,     -999.0,9,-999.0000, -999.00,-999.000