BOTTLE,20220817CCHSIOAMB
EXPOCODE,SECT_ID,STNNBR,CASTNO,SAMPNO,BTLNBR,BTLNBR_FLAG_W,DATE,TIME,LATITUDE,LONGITUDE,DEPTH,CTDPRS,CTDTMP,CTDSAL,CTDSAL_FLAG_W,SALNTY,SALNTY_FLAG_W,CTDOXY,CTDOXY_FLAG_W,OXYGEN,OXYGEN_FLAG_W,SILCAT,SILCAT_FLAG_W,NITRAT,NITRAT_FLAG_W,NITRIT,NITRIT_FLAG_W,PHSPHT,PHSPHT_FLAG_W,CFC-11,CFC-11_FLAG_W,CFC-12,CFC-12_FLAG_W,CFC113,CFC113_FLAG_W,SF6,SF6_FLAG_W,TCARBN,TCARBN_FLAG_W,ALKALI,ALKALI_FLAG_W,PH_TOT,PH_TOT_FLAG_W,PH_TMP,TRITUM,TRITUM_FLAG_W,HELIUM,HELIUM_FLAG_W,DELHE3,DELHE3_FLAG_W,DELC13,DELC13_FLAG_W,DELC14,DELC14_FLAG_W,C14ERR,NEON,NEON_FLAG_W,NEONER,I-129,I-129_FLAG_W,SR-90,SR-90_FLAG_W,DOC,DOC_FLAG_W,TDN,TDN_FLAG_W,CALCIUM,CALCIUM_FLAG_W,D15N_NO3,D15N_NO3_FLAG_W,BTL_DATE,BTL_TIME,BTL_LAT,BTL_LON,SALTREF,SALTREF_FLAG_W,CS-137,CS-137_FLAG_W,CS-134,CS-134_FLAG_W,REFTMP,REFTMP_FLAG_W,LAB_DEN,LAB_DEN_FLAG_W,D18O_NO3,D18O_NO3_FLAG_W,HELIER,DELHER,TRITER
,,,,,,,,,,,METERS,DBAR,ITS-90,PSS-78,,PSS-78,,UMOL/KG,,UMOL/KG,,UMOL/KG,,UMOL/KG,,UMOL/KG,,UMOL/KG,,PMOL/KG,,PMOL/KG,,PMOL/KG,,FMOL/KG,,UMOL/KG,,UMOL/KG,,,,DEG C,TU,,NMOL/KG,,PERCNT,,/MILLE,,/MILLE,,/MILLE,NMOL/KG,,NMOL/KG,BQ/M^3,,DM/.1MG,,UMOL/KG,,UMOL/KG,,MMOL/KG,,/MILLE,,,,,,G/KG,,BQ/M^3,,BQ/M^3,,ITS-90,,,,/MILLE,,NMOL/KG,PERCNT,TU
318M20130321,       P02W,      43,          1,         36,         36,2,20130418,       0940,         30,   157.0292,       5328,     2.7,  19.8484,  34.9291,2,  34.9278,2,    230.6,2,   230.5,2,    1.85,2,       0,2,       0,2,    0.02,2,   2.404,2,   1.444,2,   0.197,2,     1.32,2,  2005.5,6, 2292.31,2,   8.0203,2,       25,-999.000,9,-999.0000,9, -999.00,9,    0.73,2,    58.2,2,     2.4,-999.000,9,-999.000,     -999.0,9, -999.00,9,   61.02,2,    4.35,2,     -999.0,9,  -999.0,1, 20130418,     1146,  30.0004, 157.0293,    35.0925,2,     -999.0,9,     -999.0,9,     19.849,2,     -999.0,9,     -999.0,1,-999.0000, -999.00,-999.000
318M20130321,       P02W,      43,          1,         35,         35,2,20130418,       0940,         30,   157.0292,       5328,    21.7,  19.8578,  34.9295,2,   34.927,2,    233.3,2,   230.6,2,    1.85,2,       0,2,       0,2,    0.01,2,   2.402,2,   1.423,2,   0.209,2,     1.25,2,  -999.0,9, -999.00,9,-999.0000,9,  -999.00,-999.000,9,-999.0000,9, -999.00,9, -999.00,9,  -999.0,9,  -999.0,-999.000,9,-999.000,     -999.0,9, -999.00,9,   61.64,2,    4.87,2,     -999.0,9,  -999.0,1, 20130418,     1145,  30.0005, 157.0294,    35.0917,2,     -999.0,9,     -999.0,9,    19.8577,2,     -999.0,9,     -999.0,1,-999.0000, -999.00,-999.000
318M20130321,       P02W,      43,          1,         34,         34,2,20130418,       0940,         30,   157.0292,       5328,    41.5,  19.3876,  34.8776,2,  34.8794,2,    234.1,2,   232.7,2,    1.95,2,       0,2,       0,2,    0.02,2,   2.457,2,   1.449,2,   0.207,2,     1.18,2,  -999.0,9, -999.00,9,-999.0000,9,  -999.00,-999.000,9,-999.0000,9, -999.00,9, -999.00,9,  -999.0,9,  -999.0,-999.000,9,-999.000,     -999.0,9, -999.00,9,   61.12,2,    4.72,2,     -999.0,9,  -999.0,1, 20130418,     1143,  30.0006, 157.0296,    35.0439,2,     -999.0,9,     -999.0,9,    19.3885,2,     -999.0,9,     -999.0,1,-999.0000, -999.00,-999.000
318M20130321,       P02W,      43,          1,         33,         33,2,20130418,       0940,         30,   157.0292,       5328,      67,  18.5703,  34.8124,2,  34.8139,2,    230.8,2,   231.2,2,    2.15,2,    0.06,2,    0.05,2,    0.04,2,   2.545,2,   1.519,2,   0.181,2,     1.35,2,  2007.7,2, 2284.41,6,   8.0073,2,       25,-999.000,9,-999.0000,9, -999.00,9,    0.66,2,    56.2,2,     3.1,-999.000,9,-999.000,     -999.0,9, -999.00,9,   58.07,2,     4.3,2,     -999.0,9,  -999.0,1, 20130418,     1141,  30.0005, 157.0298,    34.9781,2,     -999.0,9,     -999.0,9,     18.571,2,     -999.0,9,     -999.0,1,-999.0000, -999.00,-999.000
318M20130321,       P02W,      43,          1,         32,         32,2,20130418,       0940,         30,   157.0292,       5328,    89.8,  18.1851,   34.776,2,  34.7779,2,      225,2,   230.6,2,    2.34,2,    0.52,2,     0.1,2,    0.11,2,-999.000,9,-999.000,9,-999.000,9,-999.0000,9,  -999.0,9, -999.00,9,-999.0000,9,  -999.00,-999.000,9,-999.0000,9, -999.00,9, -999.00,9,  -999.0,9,  -999.0,-999.000,9,-999.000,     -999.0,9, -999.00,9,   56.58,2,    4.09,2,     -999.0,9,  -999.0,1, 20130418,     1140,  30.0003, 157.0296,    34.9419,2,     -999.0,9,     -999.0,9,    18.1846,2,     -999.0,9,     -999.0,1,-999.0000, -999.00,-999.000
318M20130321,       P02W,      43,          1,         31,         31,2,20130418,       0940,         30,   157.0292,       5328,   129.9,  17.4228,  34.7159,2,   34.716,2,    222.9,2,   221.8,2,    3.03,2,    2.61,2,    0.08,2,     0.2,2,   2.623,2,   1.579,2,   0.151,2,     1.56,2,  2021.8,2, 2277.21,2,   7.9712,6,       25,-999.000,9,-999.0000,9, -999.00,9,    0.53,2,    56.6,2,     2.4,-999.000,9,-999.000,     -999.0,9, -999.00,9,   55.15,2,    6.49,2,     -999.0,9,  -999.0,1, 20130418,     1138,  30.0002, 157.0293,    34.8797,2,     -999.0,9,     -999.0,9,    17.4223,2,     -999.0,9,     -999.0,1,-999.0000, -999.00,-999.000
318M20130321,       P02W,      43,          1,         30,         30,2,20130418,       0940,         30,   157.0292,       5328,   182.4,  16.8594,  34.6842,2,  34.6842,2,    223.5,2,   218.9,2,     3.9,2,    3.89,2,    0.03,2,    0.27,2,-999.000,9,-999.000,9,-999.000,9,-999.0000,9,  -999.0,9, -999.00,9,-999.0000,9,  -999.00,-999.000,9,-999.0000,9, -999.00,9, -999.00,9,  -999.0,9,  -999.0,-999.000,9,-999.000,     -999.0,9, -999.00,9,   52.39,2,     7.4,2,     -999.0,9,  -999.0,1, 20130418,     1137,       30,  157.029,    34.8477,2,     -999.0,9,     -999.0,9,    16.8628,2,     -999.0,9,     -999.0,1,-999.0000, -999.00,-999.000
318M20130321,       P02W,      43,          1,         29,         29,2,20130418,       0940,         30,   157.0292,       5328,   231.9,  16.6482,  34.6849,2,  34.6842,2,      225,2,   229.6,2,    3.81,2,    3.37,2,    0.02,2,    0.24,2,   2.697,2,   1.575,2,   0.179,2,     1.46,2,    2024,2, 2276.01,2,    7.964,2,       25,-999.000,9,-999.0000,9, -999.00,9,    0.54,2,    57.0,2,     2.6,-999.000,9,-999.000,     -999.0,9, -999.00,9,   49.87,2, -999.00,5,     -999.0,9,  -999.0,1, 20130418,     1135,       30, 157.0291,    34.8477,2,     -999.0,9,     -999.0,9,    16.6485,2,     -999.0,9,     -999.0,1,-999.0000, -999.00,-999.000
318M20130321,       P02W,      43,          1,         28,         28,2,20130418,       0940,         30,   157.0292,       5328,   283.3,  16.5634,  34.6814,2,  34.6814,2,    231.2,2,   231.5,2,     3.9,2,    3.38,2,    0.01,2,    0.24,2,-999.000,9,-999.000,9,-999.000,9,-999.0000,9,  -999.0,9, -999.00,9,-999.0000,9,  -999.00,-999.000,9,-999.0000,9, -999.00,9, -999.00,9,  -999.0,9,  -999.0,-999.000,9,-999.000,     -999.0,9, -999.00,9,   50.11,2,    7.17,2,     -999.0,9,  -999.0,1, 20130418,     1133,  30.0002, 157.0292,    34.8449,2,     -999.0,9,     -999.0,9,    16.5632,2,     -999.0,9,     -999.0,1,-999.0000, -999.00,-999.000
318M20130321,       P02W,      43,          1,         27,         27,2,20130418,       0940,         30,   157.0292,       5328,   332.8,  16.0417,  34.6264,2,  34.6282,2,    208.5,2,   209.8,2,    6.15,2,    6.06,2,    0.01,2,    0.42,2,   2.770,2,   1.612,2,   0.075,2,     1.39,2,  2043.6,2, 2274.41,2,   7.9235,2,       25,-999.000,9,-999.0000,9, -999.00,9,    0.41,2,    59.2,2,     2.4,-999.000,9,-999.000,     -999.0,9, -999.00,9,   47.39,2, -999.00,5,     -999.0,9,  -999.0,1, 20130418,     1131,  30.0003, 157.0294,    34.7914,2,     -999.0,9,     -999.0,9,    16.0359,2,     -999.0,9,     -999.0,1,-999.0000, -999.00,-999.000
318M20130321,       P02W,      43,          1,         26,         26,2,20130418,       0940,         30,   157.0292,       5328,   383.1,   15.205,  34.5602,2,   34.561,2,      214,2,   209.2,2,     8.1,2,    7.45,2,    0.01,2,    0.53,2,-999.000,9,-999.000,9,-999.000,9,-999.0000,9,  -999.0,9, -999.00,9,-999.0000,9,  -999.00,-999.000,9,-999.0000,9, -999.00,9, -999.00,9,  -999.0,9,  -999.0,-999.000,9,-999.000,     -999.0,9, -999.00,9,   47.39,2, -999.00,9,     -999.0,9,  -999.0,1, 20130418,     1130,  30.0003, 157.0294,    34.7239,2,     -999.0,9,     -999.0,9,    15.2063,2,     -999.0,9,     -999.0,1,-999.0000, -999.00,-999.000
318M20130321,       P02W,      43,          1,         25,         25,2,20130418,       0940,         30,   157.0292,       5328,   462.5,  13.3398,  34.4425,2,  34.4406,2,    193.1,2,   195.3,2,   14.35,2,   11.76,2,       0,2,    0.82,2,   3.009,2,   1.659,2,   0.071,2,     1.17,2,  2087.7,2, 2271.41,2,   7.8292,2,       25,-999.000,9,-999.0000,9, -999.00,9,    0.34,2,    42.1,2,     2.3,-999.000,9,-999.000,     -999.0,9, -999.00,9,   46.21,2, -999.00,9,     -999.0,9,  -999.0,1, 20130418,     1128,  30.0003, 157.0295,     34.603,2,     -999.0,9,     -999.0,9,    13.3283,2,     -999.0,9,     -999.0,1,-999.0000, -999.00,-999.000
318M20130321,       P02W,      43,          1,         24,         24,2,20130418,       0940,         30,   157.0292,       5328,   566.1,  10.5356,  34.2334,2,  34.2325,2,    186.5,2,   188.1,2,   23.82,2,   17.09,2,       0,2,    1.21,2,-999.000,9,-999.000,9,-999.000,9,-999.0000,9,  2124.4,2, 2270.01,2,   7.7381,6,       25,-999.000,9,-999.0000,9, -999.00,9,    0.17,2,    21.6,2,     2.5,-999.000,9,-999.000,     -999.0,9, -999.00,9,   44.42,2, -999.00,9,     -999.0,9,  -999.0,1, 20130418,     1125,  30.0003, 157.0294,    34.3939,2,     -999.0,9,     -999.0,9,    10.5395,2,     -999.0,9,     -999.0,1,-999.0000, -999.00,-999.000
318M20130321,       P02W,      43,          1,         23,         23,2,20130418,       0940,         30,   157.0292,       5328,   667.2,   7.4343,  34.0448,2,  34.0478,2,    161.3,2,   158.2,2,    45.8,2,   25.49,2,       0,2,    1.83,2,   2.998,2,   1.557,2,   0.123,2,     0.85,2,  2186.5,2, 2279.21,2,   7.5975,2,       25,-999.000,9,-999.0000,9, -999.00,9,   -0.49,3,   -37.2,2,     2.2,-999.000,9,-999.000,     -999.0,9, -999.00,9,   43.48,2, -999.00,9,     -999.0,9,  -999.0,1, 20130418,     1123,  30.0001, 157.0294,    34.2083,2,     -999.0,9,     -999.0,9,     7.4384,2,     -999.0,9,     -999.0,1,-999.0000, -999.00,-999.000
318M20130321,       P02W,      43,          1,         22,         22,2,20130418,       0940,         30,   157.0292,       5328,   764.3,   5.4909,  34.0038,2,  34.0023,2,    119.7,2,     123,2,   69.82,2,   32.29,2,       0,2,    2.33,2,-999.000,9,-999.000,9,-999.000,9,-999.0000,9,  2243.5,2, 2295.72,2,   7.4747,2,       25,-999.000,9,-999.0000,9, -999.00,9,   -0.20,2,   -77.8,2,     2.1,-999.000,9,-999.000,     -999.0,9, -999.00,9,   41.76,2, -999.00,9,     -999.0,9,  -999.0,1, 20130418,     1120,  30.0002, 157.0294,    34.1627,2,     -999.0,9,     -999.0,9,     5.4747,2,     -999.0,9,     -999.0,1,-999.0000, -999.00,-999.000
318M20130321,       P02W,      43,          1,         21,         21,2,20130418,       0940,         30,   157.0292,       5328,   865.9,    4.675,  34.1053,2,  34.1058,2,     78.5,2,    79.2,2,   90.13,2,    37.3,2,       0,2,    2.68,2,   1.556,2,   0.766,2,   0.074,2,     0.42,2,  2289.3,2, 2315.72,2,    7.393,2,       25,-999.000,9,-999.0000,9, -999.00,9,   -0.35,2,  -119.5,2,     2.0,-999.000,9,-999.000,     -999.0,9, -999.00,9,   40.21,2, -999.00,9,     -999.0,9,  -999.0,1, 20130418,     1117,  30.0002, 157.0294,    34.2666,2,     -999.0,9,     -999.0,9,     4.6775,2,     -999.0,9,     -999.0,1,-999.0000, -999.00,-999.000
318M20130321,       P02W,      43,          1,         20,         20,2,20130418,       0940,         30,   157.0292,       5328,   967.2,   4.1707,  34.1977,2,  34.1999,2,     53.4,2,    53.8,2,  105.75,2,   40.09,2,       0,2,    2.87,2,-999.000,9,-999.000,9,-999.000,9,-999.0000,9,  2318.2,2, 2334.23,2,   7.3536,2,       25,-999.000,9,-999.0000,9, -999.00,9,   -0.46,2,  -151.1,2,     1.9,-999.000,9,-999.000,     -999.0,9, -999.00,9,    40.8,2, -999.00,9,     -999.0,9,  -999.0,1, 20130418,     1115,  30.0004, 157.0294,    34.3612,2,     -999.0,9,     -999.0,9,     4.1702,2,     -999.0,9,     -999.0,1,-999.0000, -999.00,-999.000
318M20130321,       P02W,      43,          1,         19,         19,2,20130418,       0940,         30,   157.0292,       5328,  1071.4,   3.7504,  34.2787,2,  34.2809,2,     42.4,2,    41.2,2,  118.63,2,    41.6,2,       0,2,    2.97,2,   0.479,2,   0.230,2,   0.020,2,      0.1,2,  2340.8,2, 2350.53,2,   7.3367,2,       25,-999.000,9,-999.0000,9, -999.00,9,   -0.56,2,  -174.8,2,     2.1,-999.000,9,-999.000,     -999.0,9, -999.00,9,   40.44,2, -999.00,9,     -999.0,9,  -999.0,1, 20130418,     1112,  30.0002, 157.0292,    34.4425,2,     -999.0,9,     -999.0,9,     3.7486,2,     -999.0,9,     -999.0,1,-999.0000, -999.00,-999.000
318M20130321,       P02W,      43,          1,         18,         18,2,20130418,       0940,         30,   157.0292,       5328,  1173.1,   3.3915,  34.3452,2,  34.3454,2,     35.9,2,    35.6,2,  128.97,2,   42.44,2,       0,2,    3.04,2,   0.257,2,   0.128,2,   0.012,2,     0.05,2,  2355.1,2, 2363.04,2,   7.3306,2,       25,-999.000,9,-999.0000,9, -999.00,9,   -0.51,2,  -191.2,2,     2.3,-999.000,9,-999.000,     -999.0,9, -999.00,9,   38.81,2, -999.00,9,     -999.0,9,  -999.0,1, 20130418,     1109,  30.0001, 157.0294,    34.5074,2,     -999.0,9,     -999.0,9,      3.391,2,     -999.0,9,     -999.0,1,-999.0000, -999.00,-999.000
318M20130321,       P02W,      43,          1,         17,         17,2,20130418,       0940,         30,   157.0292,       5328,  1274.4,   3.0969,  34.3931,2,  34.3925,2,       35,2,      34,2,  138.24,2,   42.81,2,       0,2,    3.06,2,   0.164,2,   0.085,2,   0.010,2,     0.03,2,    2365,2, 2374.14,2,   7.3313,6,       25,-999.000,9,-999.0000,9, -999.00,9,   -0.51,2,  -200.4,2,     2.1,-999.000,9,-999.000,     -999.0,9, -999.00,9,   38.25,2, -999.00,9,     -999.0,9,  -999.0,1, 20130418,     1107,  30.0002, 157.0295,    34.5547,2,     -999.0,9,     -999.0,9,     3.1044,2,     -999.0,9,     -999.0,1,-999.0000, -999.00,-999.000
318M20130321,       P02W,      43,          1,         16,         16,2,20130418,       0940,         30,   157.0292,       5328,  1370.8,   2.8896,  34.4369,2,  34.4377,2,     35.4,2,    35.7,2,  144.09,2,   42.93,2,       0,2,    3.06,2,   0.091,2,   0.049,2,   0.005,2,     0.04,2,  2371.5,2, 2381.55,2,   7.3376,2,       25,-999.000,9,-999.0000,9, -999.00,9,   -0.55,2,  -209.6,2,     2.3,-999.000,9,-999.000,     -999.0,9, -999.00,9,   38.37,2, -999.00,9,     -999.0,9,  -999.0,1, 20130418,     1104,  30.0001, 157.0296,    34.6001,2,     -999.0,9,     -999.0,9,       2.89,2,     -999.0,9,     -999.0,1,-999.0000, -999.00,-999.000
318M20130321,       P02W,      43,          1,         15,         15,2,20130418,       0940,         30,   157.0292,       5328,  1544.9,   2.5658,  34.5004,2,  34.5011,2,     42.7,2,    43.2,2,  152.19,2,   42.73,2,       0,2,    3.04,2,   0.033,2,   0.023,2,   0.006,2,     0.04,2,  2376.8,2, 2393.45,2,   7.3587,2,       25,-999.000,9,-999.0000,9, -999.00,9,   -0.58,2,  -229.3,2,     2.3,-999.000,9,-999.000,     -999.0,9, -999.00,9,   37.39,2, -999.00,9,     -999.0,9,  -999.0,1, 20130418,     1100,  30.0001, 157.0297,    34.6638,2,     -999.0,9,     -999.0,9,     2.5647,2,     -999.0,9,     -999.0,1,-999.0000, -999.00,-999.000
318M20130321,       P02W,      43,          1,         14,         14,2,20130418,       0940,         30,   157.0292,       5328,  1747.9,   2.2469,  34.5439,2,  34.5468,2,     50.7,2,    51.1,2,   159.8,2,   42.37,2,       0,2,       3,2,-999.000,9,-999.000,9,-999.000,9,-999.0000,9,  2379.7,6, 2405.25,2,   7.3751,2,       25,-999.000,9,-999.0000,9, -999.00,9, -999.00,9,  -999.0,9,  -999.0,-999.000,9,-999.000,     -999.0,9, -999.00,9, -999.00,9, -999.00,9,     -999.0,9,  -999.0,1, 20130418,     1056,       30, 157.0298,    34.7097,2,     -999.0,9,     -999.0,9,     2.2464,2,     -999.0,9,     -999.0,1,-999.0000, -999.00,-999.000
318M20130321,       P02W,      43,          1,         13,         13,2,20130418,       0940,         30,   157.0292,       5328,  1952.8,   2.0302,   34.581,2,  34.5814,2,     64.7,2,    65.9,2,  163.89,2,   41.48,2,       0,2,    2.93,2,   0.007,2,   0.016,2,   0.008,2,     0.05,2,  -999.0,9, -999.00,9,-999.0000,9,  -999.00,-999.000,9,-999.0000,9, -999.00,9, -999.00,9,  -999.0,9,  -999.0,-999.000,9,-999.000,     -999.0,9, -999.00,9,   36.61,2, -999.00,9,     -999.0,9,  -999.0,1, 20130418,     1052,       30, 157.0297,    34.7445,2,     -999.0,9,     -999.0,9,     2.0309,2,     -999.0,9,     -999.0,1,-999.0000, -999.00,-999.000
318M20130321,       P02W,      43,          1,         12,         12,2,20130418,       0940,         30,   157.0292,       5328,  2182.1,   1.8672,  34.6097,2,  34.6103,2,     82.7,2,    82.6,2,  163.89,2,   40.41,2,       0,2,    2.84,2,-999.000,9,-999.000,9,-999.000,9,-999.0000,9,  -999.0,9, -999.00,9,-999.0000,9,  -999.00,-999.000,9,-999.0000,9, -999.00,9, -999.00,9,  -999.0,9,  -999.0,-999.000,9,-999.000,     -999.0,9, -999.00,9, -999.00,9, -999.00,9,     -999.0,9,  -999.0,1, 20130418,     1047,  30.0001, 157.0297,    34.7735,2,     -999.0,9,     -999.0,9,     1.8675,2,     -999.0,9,     -999.0,1,-999.0000, -999.00,-999.000
318M20130321,       P02W,      43,          1,         11,         11,2,20130418,       0940,         30,   157.0292,       5328,  2438.9,   1.7461,  34.6317,2,  34.6325,2,    100.2,2,    99.6,2,  161.25,2,   39.37,2,       0,2,    2.76,2,   0.007,2,   0.012,2,   0.001,2,     0.05,2,  2357.4,2, 2414.66,2,   7.4734,2,       25,-999.000,9,-999.0000,9, -999.00,9, -999.00,9,  -999.0,9,  -999.0,-999.000,9,-999.000,     -999.0,9, -999.00,9,   36.55,2, -999.00,9,     -999.0,9,  -999.0,1, 20130418,     1042,       30, 157.0294,    34.7958,2,     -999.0,9,     -999.0,9,     1.7464,2,     -999.0,9,     -999.0,1,-999.0000, -999.00,-999.000
318M20130321,       P02W,      43,          1,         10,         10,2,20130418,       0940,         30,   157.0292,       5328,  2696.2,   1.6465,  34.6482,2,  34.6484,2,    113.9,2,   113.6,2,  158.81,2,   38.45,2,       0,2,    2.69,2,-999.000,9,-999.000,9,-999.000,9,-999.0000,9,  -999.0,9, -999.00,9,-999.0000,9,  -999.00,-999.000,9,-999.0000,9, -999.00,9, -999.00,9,  -999.0,9,  -999.0,-999.000,9,-999.000,     -999.0,9, -999.00,9, -999.00,9, -999.00,9,     -999.0,9,  -999.0,1, 20130418,     1036,  29.9999, 157.0294,    34.8118,2,     -999.0,9,     -999.0,9,     1.6467,2,     -999.0,9,     -999.0,1,-999.0000, -999.00,-999.000
318M20130321,       P02W,      43,          1,          9,          9,2,20130418,       0940,         30,   157.0292,       5328,  2947.2,   1.5643,  34.6598,2,  34.6606,2,    122.9,2,   123.7,2,  157.83,2,    37.8,2,       0,2,    2.65,2,   0.007,2,   0.010,2,   0.003,2,     0.06,2,  2342.5,2, 2416.16,2,   7.5178,2,       25,-999.000,9,-999.0000,9, -999.00,9, -999.00,9,  -999.0,9,  -999.0,-999.000,9,-999.000,     -999.0,9, -999.00,9,    33.6,2, -999.00,9,     -999.0,9,  -999.0,1, 20130418,     1031,  29.9999, 157.0295,     34.824,2,     -999.0,9,     -999.0,9,     1.5644,2,     -999.0,9,     -999.0,1,-999.0000, -999.00,-999.000
318M20130321,       P02W,      43,          1,          8,          8,2,20130418,       0940,         30,   157.0292,       5328,  3239.3,   1.5186,  34.6691,2,  34.6692,2,    133.5,2,   133.6,2,   155.1,2,   37.18,2,       0,2,    2.59,2,-999.000,9,-999.000,9,-999.000,9,-999.0000,9,  -999.0,9, -999.00,9,-999.0000,9,  -999.00,-999.000,9,-999.0000,9, -999.00,9, -999.00,9,  -999.0,9,  -999.0,-999.000,9,-999.000,     -999.0,9, -999.00,9, -999.00,9, -999.00,9,     -999.0,9,  -999.0,1, 20130418,     1025,  29.9999, 157.0296,    34.8327,2,     -999.0,9,     -999.0,9,     1.5187,2,     -999.0,9,     -999.0,1,-999.0000, -999.00,-999.000