BOTTLE,20220817CCHSIOAMB
EXPOCODE,SECT_ID,STNNBR,CASTNO,SAMPNO,BTLNBR,BTLNBR_FLAG_W,DATE,TIME,LATITUDE,LONGITUDE,DEPTH,CTDPRS,CTDTMP,CTDSAL,CTDSAL_FLAG_W,SALNTY,SALNTY_FLAG_W,CTDOXY,CTDOXY_FLAG_W,OXYGEN,OXYGEN_FLAG_W,SILCAT,SILCAT_FLAG_W,NITRAT,NITRAT_FLAG_W,NITRIT,NITRIT_FLAG_W,PHSPHT,PHSPHT_FLAG_W,CFC-11,CFC-11_FLAG_W,CFC-12,CFC-12_FLAG_W,CFC113,CFC113_FLAG_W,SF6,SF6_FLAG_W,TCARBN,TCARBN_FLAG_W,ALKALI,ALKALI_FLAG_W,PH_TOT,PH_TOT_FLAG_W,PH_TMP,TRITUM,TRITUM_FLAG_W,HELIUM,HELIUM_FLAG_W,DELHE3,DELHE3_FLAG_W,DELC13,DELC13_FLAG_W,DELC14,DELC14_FLAG_W,C14ERR,NEON,NEON_FLAG_W,NEONER,I-129,I-129_FLAG_W,SR-90,SR-90_FLAG_W,DOC,DOC_FLAG_W,TDN,TDN_FLAG_W,CALCIUM,CALCIUM_FLAG_W,D15N_NO3,D15N_NO3_FLAG_W,BTL_DATE,BTL_TIME,BTL_LAT,BTL_LON,SALTREF,SALTREF_FLAG_W,CS-137,CS-137_FLAG_W,CS-134,CS-134_FLAG_W,REFTMP,REFTMP_FLAG_W,LAB_DEN,LAB_DEN_FLAG_W,D18O_NO3,D18O_NO3_FLAG_W,HELIER,DELHER,TRITER
,,,,,,,,,,,METERS,DBAR,ITS-90,PSS-78,,PSS-78,,UMOL/KG,,UMOL/KG,,UMOL/KG,,UMOL/KG,,UMOL/KG,,UMOL/KG,,PMOL/KG,,PMOL/KG,,PMOL/KG,,FMOL/KG,,UMOL/KG,,UMOL/KG,,,,DEG C,TU,,NMOL/KG,,PERCNT,,/MILLE,,/MILLE,,/MILLE,NMOL/KG,,NMOL/KG,BQ/M^3,,DM/.1MG,,UMOL/KG,,UMOL/KG,,MMOL/KG,,/MILLE,,,,,,G/KG,,BQ/M^3,,BQ/M^3,,ITS-90,,,,/MILLE,,NMOL/KG,PERCNT,TU
318M20130321,       P02E,     108,          1,         36,         36,2,20130518,       2055,    29.9997,  -148.5353,       4734,       3,  21.3033,  35.2358,2,  35.2369,2,    225.7,2,   226.3,2,    1.95,2,       0,2,       0,2,       0,2,   1.928,6,   1.190,6,-999.000,1,    1.421,6,  2040.8,2, 2316.22,2,   8.0013,2,       25,   0.561,2,   1.7393,2,   -0.92,2, -999.00,9,  -999.0,9,  -999.0,   6.907,2,   0.032,     -999.0,9, -999.00,9, -999.00,9, -999.00,9,     -999.0,9,  -999.0,9, 20130518,     2256,  29.9991,-148.5361,     35.403,2,     -999.0,9,     -999.0,9,    21.3092,2,     -999.0,9,     -999.0,9,   0.0073,    0.15,   0.013
318M20130321,       P02E,     108,          1,         34,         34,2,20130518,       2055,    29.9997,  -148.5353,       4734,    24.9,  21.0281,  35.2168,2,   35.217,2,    226.7,2,   227.1,2,    1.95,2,       0,2,       0,2,       0,2,   1.931,2,   1.183,2,-999.000,1,   1.3995,2,    2039,2, 2316.12,2,   8.0011,6,       25,-999.000,9,-999.0000,9, -999.00,9, -999.00,9,  -999.0,9,  -999.0,-999.000,9,-999.000,     -999.0,9, -999.00,9, -999.00,9, -999.00,9,     -999.0,9,  -999.0,9, 20130518,     2253,  29.9993,-148.5362,    35.3831,2,     -999.0,9,     -999.0,9,    21.0294,2,     -999.0,9,     -999.0,9,-999.0000, -999.00,-999.000
318M20130321,       P02E,     108,          1,         33,         33,2,20130518,       2055,    29.9997,  -148.5353,       4734,    50.3,  20.4664,  35.1625,2,  35.1666,2,    231.1,2,   230.5,2,    1.95,2,       0,2,       0,2,       0,2,   1.981,2,   1.205,2,-999.000,1,   1.3925,2,  2036.7,2, 2312.02,6,   8.0018,2,       25,   0.558,6,   1.7294,2,   -0.90,2, -999.00,9,  -999.0,9,  -999.0,   6.992,2,   0.032,     -999.0,9, -999.00,9, -999.00,9, -999.00,9,     -999.0,9,  -999.0,9, 20130518,     2252,  29.9995,-148.5362,    35.3324,2,     -999.0,9,     -999.0,9,    20.4657,2,     -999.0,9,     -999.0,9,   0.0073,    0.15,   0.008
318M20130321,       P02E,     108,          1,         32,         32,2,20130518,       2055,    29.9997,  -148.5353,       4734,    75.5,   19.642,  35.0845,2,  35.0868,2,    233.4,2,   233.2,2,    2.05,2,       0,2,       0,2,       0,2,   2.028,2,   1.242,2,-999.000,1,   1.4387,2,  -999.0,9, -999.00,9,-999.0000,9,  -999.00,-999.000,9,-999.0000,9, -999.00,9, -999.00,9,  -999.0,9,  -999.0,-999.000,9,-999.000,     -999.0,9, -999.00,9, -999.00,9, -999.00,9,     -999.0,9,  -999.0,9, 20130518,     2250,  29.9996,-148.5362,    35.2523,2,     -999.0,9,     -999.0,9,    19.6421,2,     -999.0,9,     -999.0,9,-999.0000, -999.00,-999.000
318M20130321,       P02E,     108,          1,         31,         31,2,20130518,       2055,    29.9997,  -148.5353,       4734,   100.5,  19.5707,  35.1432,2,  35.1422,2,    228.1,2,   228.4,2,    1.95,2,       0,2,       0,2,       0,2,   2.014,2,   1.240,2,-999.000,1,   1.4133,2,  2036.8,2, 2309.92,2,    7.997,2,       25,   0.549,2,   1.7443,2,   -1.14,2, -999.00,9,  -999.0,9,  -999.0,   7.087,2,   0.033,     -999.0,9, -999.00,9, -999.00,9, -999.00,9,     -999.0,9,  -999.0,9, 20130518,     2248,  29.9995,-148.5361,    35.3079,2,     -999.0,9,     -999.0,9,    19.5695,2,     -999.0,9,     -999.0,9,   0.0073,    0.15,   0.012
318M20130321,       P02E,     108,          1,         30,         30,2,20130518,       2055,    29.9997,  -148.5353,       4734,   150.5,  18.7332,  34.9961,2,  35.0002,2,    222.5,2,   221.3,2,    2.34,2,    0.37,2,    0.15,2,    0.05,2,   2.096,2,   1.276,2,-999.000,1,   1.4419,2,  -999.0,9, -999.00,9,-999.0000,9,  -999.00,-999.000,9,-999.0000,9, -999.00,9, -999.00,9,  -999.0,9,  -999.0,-999.000,9,-999.000,     -999.0,9, -999.00,9, -999.00,9, -999.00,9,     -999.0,9,  -999.0,9, 20130518,     2246,  29.9994, -148.536,    35.1653,2,     -999.0,9,     -999.0,9,    18.7264,2,     -999.0,9,     -999.0,9,-999.0000, -999.00,-999.000
318M20130321,       P02E,     108,          1,         29,         29,2,20130518,       2055,    29.9997,  -148.5353,       4734,   201.1,  14.1294,  34.2865,2,  34.2933,2,    216.3,2,     216,2,    5.76,2,     5.2,2,       0,2,    0.41,2,   2.647,2,   1.565,2,-999.000,1,   1.6063,2,  2060.7,2,  2257.4,2,   7.8645,2,       25,   0.547,2,   1.7591,2,   -0.13,2, -999.00,9,  -999.0,9,  -999.0,   7.384,2,   0.034,     -999.0,9, -999.00,9, -999.00,9, -999.00,9,     -999.0,9,  -999.0,9, 20130518,     2243,  29.9995,-148.5359,     34.455,2,     -999.0,9,     -999.0,9,    14.1449,2,     -999.0,9,     -999.0,9,   0.0074,    0.15,   0.011
318M20130321,       P02E,     108,          1,         28,         28,2,20130518,       2055,    29.9997,  -148.5353,       4734,   252.8,  12.0461,  34.1707,2,  34.1723,2,      216,2,   217.5,2,   10.15,2,   10.12,2,       0,2,    0.71,2,   2.960,2,   1.704,2,-999.000,1,   1.5446,2,  -999.0,9, -999.00,9,-999.0000,9,  -999.00,-999.000,9,-999.0000,9, -999.00,9, -999.00,9,  -999.0,9,  -999.0,-999.000,9,-999.000,     -999.0,9, -999.00,9, -999.00,9, -999.00,9,     -999.0,9,  -999.0,9, 20130518,     2241,  29.9995,-148.5359,    34.3334,2,     -999.0,9,     -999.0,9,    12.0195,3,     -999.0,9,     -999.0,9,-999.0000, -999.00,-999.000
318M20130321,       P02E,     108,          1,         27,         27,2,20130518,       2055,    29.9997,  -148.5353,       4734,   302.4,  11.2405,  34.1688,2,   34.169,2,    217.8,2,   218.3,2,   12.79,2,   11.99,2,       0,2,    0.84,2,   3.044,2,   1.723,2,-999.000,1,   1.4897,2,  2093.6,2,    2256,2,    7.787,2,       25,   0.513,2,   1.7887,2,    0.66,2, -999.00,9,  -999.0,9,  -999.0,   7.558,2,   0.035,     -999.0,9, -999.00,9, -999.00,9, -999.00,9,     -999.0,9,  -999.0,9, 20130518,     2239,  29.9995,-148.5359,    34.3301,2,     -999.0,9,     -999.0,9,    11.2398,2,     -999.0,9,     -999.0,9,   0.0075,    0.15,   0.011
318M20130321,       P02E,     108,          1,         26,         26,2,20130518,       2055,    29.9997,  -148.5353,       4734,   352.4,  10.4576,  34.1392,2,  34.1402,2,    214.2,2,   214.9,2,   16.01,2,   14.05,2,       0,2,    0.98,2,   3.113,2,   1.734,2,-999.000,1,   1.4722,2,  -999.0,9, -999.00,9,-999.0000,9,  -999.00,-999.000,9,-999.0000,9, -999.00,9, -999.00,9,  -999.0,9,  -999.0,-999.000,9,-999.000,     -999.0,9, -999.00,9, -999.00,9, -999.00,9,     -999.0,9,  -999.0,9, 20130518,     2237,  29.9995,-148.5358,    34.3011,2,     -999.0,9,     -999.0,9,    10.4499,2,     -999.0,9,     -999.0,9,-999.0000, -999.00,-999.000
318M20130321,       P02E,     108,          1,         25,         25,2,20130518,       2055,    29.9997,  -148.5353,       4734,   402.4,   9.2905,  34.0803,2,  34.0825,2,    201.7,2,   199.9,2,   22.75,2,   17.82,2,       0,2,    1.25,2,   3.159,2,   1.739,2,-999.000,1,   1.2971,2,  2131.6,2,  2261.9,2,   7.7074,2,       25,   0.507,2,   1.8064,2,    2.91,2, -999.00,9,  -999.0,9,  -999.0,   7.558,2,   0.035,     -999.0,9, -999.00,9, -999.00,9, -999.00,9,     -999.0,9,  -999.0,9, 20130518,     2235,  29.9994,-148.5357,    34.2433,2,     -999.0,9,     -999.0,9,     9.2818,2,     -999.0,9,     -999.0,9,   0.0076,    0.15,   0.011
318M20130321,       P02E,     108,          1,         24,         24,2,20130518,       2055,    29.9997,  -148.5353,       4734,   503.1,   7.8115,  34.0117,2,   34.013,2,    162.9,2,   163.8,2,   36.33,2,   24.26,2,       0,2,     1.7,2,   2.943,2,   1.552,2,-999.000,1,   0.9008,2,  -999.0,9, -999.00,9,-999.0000,9,  -999.00,   0.478,2,   1.8170,2,    7.19,2, -999.00,9,  -999.0,9,  -999.0,   7.945,2,   0.037,     -999.0,9, -999.00,9, -999.00,9, -999.00,9,     -999.0,9,  -999.0,9, 20130518,     2232,  29.9993,-148.5356,    34.1734,2,     -999.0,9,     -999.0,9,     7.8154,2,     -999.0,9,     -999.0,9,   0.0076,    0.15,   0.011
318M20130321,       P02E,     108,          1,         23,         23,2,20130518,       2055,    29.9997,  -148.5353,       4734,   602.6,   5.9425,  34.0017,2,  34.0026,2,     95.2,2,    96.6,2,   62.79,2,   33.91,2,       0,2,    2.42,2,   1.951,6,   0.964,6,-999.000,1,   0.4449,6,  2248.9,2, 2286.21,2,   7.4336,6,       25,   0.362,2,   1.8298,2,   13.52,2, -999.00,9,  -999.0,9,  -999.0,   7.849,2,   0.036,     -999.0,9, -999.00,9, -999.00,9, -999.00,9,     -999.0,9,  -999.0,9, 20130518,     2229,  29.9994,-148.5357,    34.1629,2,     -999.0,9,     -999.0,9,     5.9416,2,     -999.0,9,     -999.0,9,   0.0077,    0.15,   0.012
318M20130321,       P02E,     108,          1,         22,         22,2,20130518,       2055,    29.9997,  -148.5353,       4734,   704.4,   4.9495,  34.0712,2,  34.0724,2,     54.8,2,    53.6,2,   83.69,2,    39.2,2,       0,2,    2.82,2,   0.963,2,   0.462,2,-999.000,1,   0.1981,2,  2297.9,2, 2306.22,2,   7.3409,2,       25,-999.000,9,-999.0000,9, -999.00,9, -999.00,9,  -999.0,9,  -999.0,-999.000,9,-999.000,     -999.0,9, -999.00,9, -999.00,9, -999.00,9,     -999.0,9,  -999.0,9, 20130518,     2226,  29.9997,-148.5358,     34.233,2,     -999.0,9,     -999.0,9,     4.9472,2,     -999.0,9,     -999.0,9,-999.0000, -999.00,-999.000
318M20130321,       P02E,     108,          1,         21,         21,2,20130518,       2055,    29.9997,  -148.5353,       4734,   803.5,   4.4371,  34.1737,2,  34.1741,2,     26.9,2,    26.6,2,   99.79,2,   42.06,2,       0,2,    3.05,2,   0.312,2,   0.158,2,-999.000,1,   0.1003,2,  2332.4,2, 2326.53,2,   7.2957,2,       25,   0.147,2,   1.8651,2,   16.13,2, -999.00,9,  -999.0,9,  -999.0,   7.912,2,   0.036,     -999.0,9, -999.00,9, -999.00,9, -999.00,9,     -999.0,9,  -999.0,9, 20130518,     2223,       30,-148.5359,    34.3352,2,     -999.0,9,     -999.0,9,     4.4366,2,     -999.0,9,     -999.0,9,   0.0078,    0.15,   0.011
318M20130321,       P02E,     108,          1,         20,         20,2,20130518,       2055,    29.9997,  -148.5353,       4734,   906.9,   4.0265,  34.2934,2,  34.2935,2,     14.2,2,    13.5,2,  114.43,2,   43.44,2,       0,2,    3.18,2,   0.049,2,   0.028,2,-999.000,1,     0.04,2,  -999.0,9, -999.00,9,-999.0000,9,  -999.00,   0.025,2,   1.9045,2,   15.68,2, -999.00,9,  -999.0,9,  -999.0,   8.045,2,   0.037,     -999.0,9, -999.00,9, -999.00,9, -999.00,9,     -999.0,9,  -999.0,9, 20130518,     2221,  30.0002,-148.5359,    34.4552,2,     -999.0,9,     -999.0,9,     4.0269,2,     -999.0,9,     -999.0,9,   0.0080,    0.15,   0.011
318M20130321,       P02E,     108,          1,         19,         19,2,20130518,       2055,    29.9997,  -148.5353,       4734,  1009.3,    3.766,  34.3703,2,  34.3697,2,     14.7,2,      14,2,  122.72,2,   43.67,2,       0,2,    3.21,2,   0.016,2,   0.010,2,-999.000,1,        0,2,    2365,2, 2360.94,2,   7.2976,2,       25,   0.005,2,   1.9042,2,   16.65,2, -999.00,9,  -999.0,9,  -999.0,   8.076,2,   0.037,     -999.0,9, -999.00,9, -999.00,9, -999.00,9,     -999.0,9,  -999.0,9, 20130518,     2218,  30.0002,-148.5357,    34.5317,2,     -999.0,9,     -999.0,9,     3.7663,2,     -999.0,9,     -999.0,9,   0.0080,    0.15,   0.011
318M20130321,       P02E,     108,          1,         18,         18,2,20130518,       2055,    29.9997,  -148.5353,       4734,  1111.3,   3.5141,   34.433,2,   34.434,2,     21.4,2,    21.9,2,  129.06,2,   43.52,2,       0,2,    3.18,2,   0.005,2,   0.004,2,-999.000,1,        0,2,  2369.2,2, 2371.74,2,     7.32,2,       25,   0.004,2,   1.8903,2,   18.32,2, -999.00,9,  -999.0,9,  -999.0,   8.078,2,   0.037,     -999.0,9, -999.00,9, -999.00,9, -999.00,9,     -999.0,9,  -999.0,9, 20130518,     2215,  30.0001,-148.5356,    34.5964,2,     -999.0,9,     -999.0,9,     3.5125,2,     -999.0,9,     -999.0,9,   0.0079,    0.15,   0.011
318M20130321,       P02E,     108,          1,         17,         17,2,20130518,       2055,    29.9997,  -148.5353,       4734,  1212.7,   3.3072,  34.4745,2,  34.4759,2,     28.6,2,    29.8,2,  133.84,2,   43.28,2,       0,2,    3.15,2,   0.002,2,   0.003,2,-999.000,1,        0,2,  2371.3,2, 2381.15,2,   7.3375,6,       25,-999.000,9,-999.0000,9, -999.00,9, -999.00,9,  -999.0,9,  -999.0,-999.000,9,-999.000,     -999.0,9, -999.00,9, -999.00,9, -999.00,9,     -999.0,9,  -999.0,9, 20130518,     2212,  30.0002,-148.5357,    34.6384,2,     -999.0,9,     -999.0,9,     3.3055,2,     -999.0,9,     -999.0,9,-999.0000, -999.00,-999.000
318M20130321,       P02E,     108,          1,         16,         16,2,20130518,       2055,    29.9997,  -148.5353,       4734,  1312.7,   3.1313,  34.5062,2,  34.5079,2,       41,2,    41.2,2,  136.37,2,   42.71,2,       0,2,    3.09,2,   0.011,2,   0.008,2,-999.000,1,        0,2,  2370.2,2, 2386.55,2,   7.3637,2,       25,-999.000,9,   1.9291,2,   20.50,2, -999.00,9,  -999.0,9,  -999.0,   8.213,2,   0.038,     -999.0,9, -999.00,9, -999.00,9, -999.00,9,     -999.0,9,  -999.0,9, 20130518,     2209,  30.0001,-148.5358,    34.6706,2,     -999.0,9,     -999.0,9,     3.1298,2,     -999.0,9,     -999.0,9,   0.0081,    0.15,-999.000
318M20130321,       P02E,     108,          1,         15,         15,2,20130518,       2055,    29.9997,  -148.5353,       4734,  1413.5,   2.9194,  34.5308,2,   34.532,2,     46.2,2,    46.6,2,  141.84,2,   42.44,2,       0,2,    3.06,2,   0.001,2,   0.001,2,-999.000,1,        0,2,  -999.0,9, -999.00,9,-999.0000,9,  -999.00,-999.000,9,-999.0000,9, -999.00,9, -999.00,9,  -999.0,9,  -999.0,-999.000,9,-999.000,     -999.0,9, -999.00,9, -999.00,9, -999.00,9,     -999.0,9,  -999.0,9, 20130518,     2206,  30.0001,-148.5358,    34.6949,2,     -999.0,9,     -999.0,9,     2.9192,2,     -999.0,9,     -999.0,9,-999.0000, -999.00,-999.000
318M20130321,       P02E,     108,          1,         14,         14,2,20130518,       2055,    29.9997,  -148.5353,       4734,  1616.3,   2.5982,  34.5641,2,  34.5658,2,     59.1,2,    58.7,2,  148.67,2,   41.76,2,       0,2,    3.01,2,   0.003,2,   0.001,2,-999.000,1,        0,2,  2369.6,6, 2402.15,2,   7.3998,2,       25,  -0.010,2,   1.9183,2,   21.84,2, -999.00,9,  -999.0,9,  -999.0,   8.058,2,   0.037,     -999.0,9, -999.00,9, -999.00,9, -999.00,9,     -999.0,9,  -999.0,9, 20130518,     2201,  30.0005,-148.5361,    34.7288,2,     -999.0,9,     -999.0,9,     2.5974,2,     -999.0,9,     -999.0,9,   0.0081,    0.15,   0.011
318M20130321,       P02E,     108,          1,         13,         13,2,20130518,       2055,    29.9997,  -148.5353,       4734,  1819.3,   2.3149,  34.5905,2,  34.5916,2,     69.5,2,      69,2,  155.99,2,   41.15,2,       0,2,    2.95,2,   0.001,2,   0.000,2,-999.000,1,        0,2,  2371.2,2, 2409.16,2,   7.4206,2,       25,   0.007,2,   1.9356,2,   22.00,2, -999.00,9,  -999.0,9,  -999.0,   8.190,2,   0.038,     -999.0,9, -999.00,9, -999.00,9, -999.00,9,     -999.0,9,  -999.0,9, 20130518,     2157,  30.0005, -148.536,    34.7547,2,     -999.0,9,     -999.0,9,     2.3148,2,     -999.0,9,     -999.0,9,   0.0081,    0.15,   0.011
318M20130321,       P02E,     108,          1,         12,         12,2,20130518,       2055,    29.9997,  -148.5353,       4734,  2022.9,   2.0626,  34.6119,2,  34.6136,2,     78.5,2,    78.1,2,   163.4,2,   40.64,2,       0,2,    2.92,2,  -0.001,2,   0.001,2,-999.000,1,        0,2,  2372.2,2, 2416.66,2,   7.4387,2,       25,  -0.009,2,   1.9486,2,   22.64,2, -999.00,9,  -999.0,9,  -999.0,   8.155,2,   0.038,     -999.0,9, -999.00,9, -999.00,9, -999.00,9,     -999.0,9,  -999.0,9, 20130518,     2153,  30.0006,-148.5361,    34.7768,2,     -999.0,9,     -999.0,9,     2.0628,2,     -999.0,9,     -999.0,9,   0.0082,    0.15,   0.012
318M20130321,       P02E,     108,          1,         11,         11,2,20130518,       2055,    29.9997,  -148.5353,       4734,  2272.2,   1.8694,  34.6303,2,  34.6315,2,     87.9,2,    87.8,2,  168.48,2,   39.99,2,       0,2,    2.86,2,   0.000,2,   0.001,2,-999.000,1,        0,2,  -999.0,9, -999.00,9,-999.0000,9,  -999.00,-999.000,9,-999.0000,9, -999.00,9, -999.00,9,  -999.0,9,  -999.0,-999.000,9,-999.000,     -999.0,9, -999.00,9, -999.00,9, -999.00,9,     -999.0,9,  -999.0,9, 20130518,     2148,  30.0005, -148.536,    34.7948,2,     -999.0,9,     -999.0,9,     1.8686,2,     -999.0,9,     -999.0,9,-999.0000, -999.00,-999.000
318M20130321,       P02E,     108,          1,         10,         10,2,20130518,       2055,    29.9997,  -148.5353,       4734,    2529,   1.7276,  34.6451,2,  34.6458,2,     99.2,2,    99.2,2,  170.62,2,   39.31,2,       0,2,     2.8,2,   0.006,2,   0.003,2,-999.000,1,        0,2,  2365.1,2, 2422.66,2,    7.479,2,       25,-999.000,9,-999.0000,9, -999.00,9, -999.00,9,  -999.0,9,  -999.0,-999.000,9,-999.000,     -999.0,9, -999.00,9, -999.00,9, -999.00,9,     -999.0,9,  -999.0,9, 20130518,     2142,  29.9999,-148.5359,    34.8092,2,     -999.0,9,     -999.0,9,     1.7273,2,     -999.0,9,     -999.0,9,-999.0000, -999.00,-999.000
318M20130321,       P02E,     108,          1,          9,          9,2,20130518,       2055,    29.9997,  -148.5353,       4734,  2781.3,   1.6415,  34.6554,2,   34.656,2,      109,2,   108.8,2,  170.13,2,   38.71,2,       0,2,    2.74,2,   0.000,2,   0.000,2,-999.000,1,        0,2,  -999.0,9, -999.00,9,-999.0000,9,  -999.00,-999.000,9,-999.0000,9, -999.00,9, -999.00,9,  -999.0,9,  -999.0,-999.000,9,-999.000,     -999.0,9, -999.00,9, -999.00,9, -999.00,9,     -999.0,9,  -999.0,9, 20130518,     2136,  30.0001,-148.5358,    34.8194,2,     -999.0,9,     -999.0,9,     1.6398,2,     -999.0,9,     -999.0,9,-999.0000, -999.00,-999.000
318M20130321,       P02E,     108,          1,          8,          8,2,20130518,       2055,    29.9997,  -148.5353,       4734,    3037,   1.5672,  34.6645,2,  34.6645,2,    117.5,2,   118.5,2,  169.06,2,   38.14,2,       0,2,    2.69,2,   0.000,2,   0.000,2,-999.000,1,        0,2,  -999.0,9, -999.00,9,-999.0000,9,  -999.00,-999.000,9,-999.0000,9, -999.00,9, -999.00,9,  -999.0,9,  -999.0,-999.000,9,-999.000,     -999.0,9, -999.00,9, -999.00,9, -999.00,9,     -999.0,9,  -999.0,9, 20130518,     2131,  30.0001,-148.5359,    34.8279,2,     -999.0,9,     -999.0,9,     1.5669,2,     -999.0,9,     -999.0,9,-999.0000, -999.00,-999.000
318M20130321,       P02E,     108,          1,          7,          7,2,20130518,       2055,    29.9997,  -148.5353,       4734,    3342,   1.5145,  34.6732,2,  34.6731,2,    129.8,2,   129.4,2,  165.74,2,   37.35,2,       0,2,    2.64,2,  -0.001,2,  -0.002,2,-999.000,1,        0,2,  2344.3,2, 2423.96,2,   7.5373,2,       25,-999.000,9,-999.0000,9, -999.00,9, -999.00,9,  -999.0,9,  -999.0,-999.000,9,-999.000,     -999.0,9, -999.00,9, -999.00,9, -999.00,9,     -999.0,9,  -999.0,9, 20130518,     2125,       30,-148.5358,    34.8366,2,     -999.0,9,     -999.0,9,     1.5144,2,     -999.0,9,     -999.0,9,-999.0000, -999.00,-999.000