BOTTLE,20220817CCHSIOAMB
EXPOCODE,SECT_ID,STNNBR,CASTNO,SAMPNO,BTLNBR,BTLNBR_FLAG_W,DATE,TIME,LATITUDE,LONGITUDE,DEPTH,CTDPRS,CTDTMP,CTDSAL,CTDSAL_FLAG_W,SALNTY,SALNTY_FLAG_W,CTDOXY,CTDOXY_FLAG_W,OXYGEN,OXYGEN_FLAG_W,SILCAT,SILCAT_FLAG_W,NITRAT,NITRAT_FLAG_W,NITRIT,NITRIT_FLAG_W,PHSPHT,PHSPHT_FLAG_W,CFC-11,CFC-11_FLAG_W,CFC-12,CFC-12_FLAG_W,CFC113,CFC113_FLAG_W,SF6,SF6_FLAG_W,TCARBN,TCARBN_FLAG_W,ALKALI,ALKALI_FLAG_W,PH_TOT,PH_TOT_FLAG_W,PH_TMP,TRITUM,TRITUM_FLAG_W,HELIUM,HELIUM_FLAG_W,DELHE3,DELHE3_FLAG_W,DELC13,DELC13_FLAG_W,DELC14,DELC14_FLAG_W,C14ERR,NEON,NEON_FLAG_W,NEONER,I-129,I-129_FLAG_W,SR-90,SR-90_FLAG_W,DOC,DOC_FLAG_W,TDN,TDN_FLAG_W,CALCIUM,CALCIUM_FLAG_W,D15N_NO3,D15N_NO3_FLAG_W,BTL_DATE,BTL_TIME,BTL_LAT,BTL_LON,SALTREF,SALTREF_FLAG_W,CS-137,CS-137_FLAG_W,CS-134,CS-134_FLAG_W,REFTMP,REFTMP_FLAG_W,LAB_DEN,LAB_DEN_FLAG_W,D18O_NO3,D18O_NO3_FLAG_W,HELIER,DELHER,TRITER
,,,,,,,,,,,METERS,DBAR,ITS-90,PSS-78,,PSS-78,,UMOL/KG,,UMOL/KG,,UMOL/KG,,UMOL/KG,,UMOL/KG,,UMOL/KG,,PMOL/KG,,PMOL/KG,,PMOL/KG,,FMOL/KG,,UMOL/KG,,UMOL/KG,,,,DEG C,TU,,NMOL/KG,,PERCNT,,/MILLE,,/MILLE,,/MILLE,NMOL/KG,,NMOL/KG,BQ/M^3,,DM/.1MG,,UMOL/KG,,UMOL/KG,,MMOL/KG,,/MILLE,,,,,,G/KG,,BQ/M^3,,BQ/M^3,,ITS-90,,,,/MILLE,,NMOL/KG,PERCNT,TU
318M20130321,       P02W,      18,          1,          7,          7,2,20130410,       1030,    29.9952,   137.1728,       4364,  2869.7,   1.6628,  34.6556,2,  34.6559,2,      136,2,   135.5,2,  144.56,2,   36.71,2,       0,2,    2.59,2,   0.000,4,   0.000,4,   0.000,4,        0,4,  2330.8,2, 2409.56,2,   7.5398,2,       25,-999.000,9,-999.0000,9, -999.00,9, -999.00,9,  -999.0,9,  -999.0,-999.000,9,-999.000,     -999.0,9, -999.00,9, -999.00,9, -999.00,9,     -999.0,9,  -999.0,9, 20130410,     1103,  29.9936, 137.1723,    34.8193,2,     -999.0,9,     -999.0,9,     1.6628,2,     -999.0,9,     -999.0,9,-999.0000, -999.00,-999.000
318M20130321,       P02W,      18,          1,          6,          6,2,20130410,       1030,    29.9952,   137.1728,       4364,  3143.5,   1.5999,  34.6657,2,  34.6651,2,    142.8,2,   142.5,2,  143.68,2,    36.3,2,       0,2,    2.56,2,-999.000,9,-999.000,9,-999.000,9,-999.0000,9,  -999.0,9, -999.00,9,-999.0000,9,  -999.00,-999.000,9,-999.0000,9, -999.00,9, -999.00,9,  -999.0,9,  -999.0,-999.000,9,-999.000,     -999.0,9, -999.00,9, -999.00,9, -999.00,9,     -999.0,9,  -999.0,9, 20130410,     1058,  29.9938,  137.172,    34.8286,2,     -999.0,9,     -999.0,9,     1.5999,2,     -999.0,9,     -999.0,9,-999.0000, -999.00,-999.000
318M20130321,       P02W,      18,          1,          5,         37,2,20130410,       1030,    29.9952,   137.1728,       4364,  3449.6,   1.5404,  34.6756,2,  34.6753,2,    148.4,2,   149.8,2,  142.41,2,   35.87,2,       0,2,    2.53,2,   0.047,2,   0.039,2,  -0.004,2,    -0.04,2,  2321.9,2, 2412.46,2,   7.5643,2,       25,-999.000,9,-999.0000,9, -999.00,9, -999.00,9,  -999.0,9,  -999.0,-999.000,9,-999.000,     -999.0,9, -999.00,9, -999.00,9, -999.00,9,     -999.0,9,  -999.0,9, 20130410,     1051,  29.9935, 137.1725,    34.8388,2,     -999.0,9,     -999.0,9,     1.5403,2,     -999.0,9,     -999.0,9,-999.0000, -999.00,-999.000
318M20130321,       P02W,      18,          1,          4,          4,2,20130410,       1030,    29.9952,   137.1728,       4364,  3758.2,   1.5333,  34.6799,2,  34.6802,2,    151.7,2,   152.1,2,  142.99,2,   35.71,2,       0,2,    2.51,2,-999.000,9,-999.000,9,-999.000,9,-999.0000,9,  -999.0,9, -999.00,9,-999.0000,9,  -999.00,-999.000,9,-999.0000,9, -999.00,9, -999.00,9,  -999.0,9,  -999.0,-999.000,9,-999.000,     -999.0,9, -999.00,9, -999.00,9, -999.00,9,     -999.0,9,  -999.0,9, 20130410,     1045,   29.994, 137.1728,    34.8438,2,     -999.0,9,     -999.0,9,     1.5331,2,     -999.0,9,     -999.0,9,-999.0000, -999.00,-999.000
318M20130321,       P02W,      18,          1,          3,          3,2,20130410,       1030,    29.9952,   137.1728,       4364,  4068.6,   1.5475,  34.6818,2,  34.6812,2,    152.6,2,   153.8,2,  142.41,2,    35.6,2,       0,2,    2.51,2,   0.036,2,   0.035,2,  -0.004,2,     0.01,2,  2320.2,2, 2410.96,2,   7.5718,6,       25,-999.000,9,-999.0000,9, -999.00,9, -999.00,9,  -999.0,9,  -999.0,-999.000,9,-999.000,     -999.0,9, -999.00,9, -999.00,9, -999.00,9,     -999.0,9,  -999.0,9, 20130410,     1038,  29.9945, 137.1729,    34.8447,2,     -999.0,9,     -999.0,9,     1.5475,2,     -999.0,9,     -999.0,9,-999.0000, -999.00,-999.000
318M20130321,       P02W,      18,          1,          2,          2,2,20130410,       1030,    29.9952,   137.1728,       4364,  4248.4,   1.5611,  34.6826,2,  34.6828,2,    154.9,2,   154.3,2,  142.21,2,   35.59,2,       0,2,     2.5,2,-999.000,9,-999.000,9,-999.000,9,-999.0000,9,  2321.3,2, 2411.86,6,   7.5725,2,       25,-999.000,9,-999.0000,9, -999.00,9, -999.00,9,  -999.0,9,  -999.0,-999.000,9,-999.000,     -999.0,9, -999.00,9, -999.00,9, -999.00,9,     -999.0,9,  -999.0,9, 20130410,     1034,  29.9948, 137.1728,    34.8463,2,     -999.0,9,     -999.0,9,     1.5612,2,     -999.0,9,     -999.0,9,-999.0000, -999.00,-999.000
318M20130321,       P02W,      18,          1,          1,          1,2,20130410,       1030,    29.9952,   137.1728,       4364,  4411.7,   1.5786,  34.6826,2,  34.6836,2,    154.9,2,   154.5,2,  142.12,2,   35.58,2,       0,2,    2.49,2,   0.068,2,   0.054,2,   0.001,2,     0.03,2,  2320.9,6, 2410.96,2,   7.5732,2,       25,-999.000,9,-999.0000,9, -999.00,9, -999.00,9,  -999.0,9,  -999.0,-999.000,9,-999.000,     -999.0,9, -999.00,9, -999.00,9, -999.00,9,     -999.0,9,  -999.0,9, 20130410,     1030,  29.9951, 137.1728,    34.8471,2,     -999.0,9,     -999.0,9,     1.5783,2,     -999.0,9,     -999.0,9,-999.0000, -999.00,-999.000