BOTTLE,20220817CCHSIOAMB
EXPOCODE,SECT_ID,STNNBR,CASTNO,SAMPNO,BTLNBR,BTLNBR_FLAG_W,DATE,TIME,LATITUDE,LONGITUDE,DEPTH,CTDPRS,CTDTMP,CTDSAL,CTDSAL_FLAG_W,SALNTY,SALNTY_FLAG_W,CTDOXY,CTDOXY_FLAG_W,OXYGEN,OXYGEN_FLAG_W,SILCAT,SILCAT_FLAG_W,NITRAT,NITRAT_FLAG_W,NITRIT,NITRIT_FLAG_W,PHSPHT,PHSPHT_FLAG_W,CFC-11,CFC-11_FLAG_W,CFC-12,CFC-12_FLAG_W,CFC113,CFC113_FLAG_W,SF6,SF6_FLAG_W,TCARBN,TCARBN_FLAG_W,ALKALI,ALKALI_FLAG_W,PH_TOT,PH_TOT_FLAG_W,PH_TMP,TRITUM,TRITUM_FLAG_W,HELIUM,HELIUM_FLAG_W,DELHE3,DELHE3_FLAG_W,DELC13,DELC13_FLAG_W,DELC14,DELC14_FLAG_W,C14ERR,NEON,NEON_FLAG_W,NEONER,I-129,I-129_FLAG_W,SR-90,SR-90_FLAG_W,DOC,DOC_FLAG_W,TDN,TDN_FLAG_W,CALCIUM,CALCIUM_FLAG_W,D15N_NO3,D15N_NO3_FLAG_W,BTL_DATE,BTL_TIME,BTL_LAT,BTL_LON,SALTREF,SALTREF_FLAG_W,CS-137,CS-137_FLAG_W,CS-134,CS-134_FLAG_W,REFTMP,REFTMP_FLAG_W,LAB_DEN,LAB_DEN_FLAG_W,D18O_NO3,D18O_NO3_FLAG_W,HELIER,DELHER,TRITER
,,,,,,,,,,,METERS,DBAR,ITS-90,PSS-78,,PSS-78,,UMOL/KG,,UMOL/KG,,UMOL/KG,,UMOL/KG,,UMOL/KG,,UMOL/KG,,PMOL/KG,,PMOL/KG,,PMOL/KG,,FMOL/KG,,UMOL/KG,,UMOL/KG,,,,DEG C,TU,,NMOL/KG,,PERCNT,,/MILLE,,/MILLE,,/MILLE,NMOL/KG,,NMOL/KG,BQ/M^3,,DM/.1MG,,UMOL/KG,,UMOL/KG,,MMOL/KG,,/MILLE,,,,,,G/KG,,BQ/M^3,,BQ/M^3,,ITS-90,,,,/MILLE,,NMOL/KG,PERCNT,TU
318M20130321,       P02W,      82,          1,          5,         37,2,20130501,       0354,         30,  -173.2264,       5454,  4334.1,   1.4763,  34.6863,2,  34.6883,4,    149.9,2,   150.3,2,  155.68,2,   36.11,2,       0,2,    2.54,2,   0.014,2,   0.009,2,   0.007,2,        0,2,  -999.0,9, -999.00,9,-999.0000,9,  -999.00,-999.000,9,-999.0000,9, -999.00,9, -999.00,9,  -999.0,9,  -999.0,-999.000,9,-999.000,     -999.0,9, -999.00,9, -999.00,9, -999.00,9,     -999.0,9,  -999.0,9, 20130501,      418,       30,-173.2264,    34.8518,4,     -999.0,9,     -999.0,9,     1.4765,2,     -999.0,9,     -999.0,9,-999.0000, -999.00,-999.000
318M20130321,       P02W,      82,          1,          4,          4,2,20130501,       0354,         30,  -173.2264,       5454,  4740.6,    1.507,  34.6882,2,  34.6914,4,    153.7,2,   152.9,2,  153.53,2,   35.89,2,       0,2,     2.5,2,   0.010,2,   0.007,2,   0.007,2,        0,2,    2325,2, 2416.96,6,   7.5775,2,       25,-999.000,9,-999.0000,9, -999.00,9, -999.00,9,  -999.0,9,  -999.0,-999.000,9,-999.000,     -999.0,9, -999.00,9, -999.00,9, -999.00,9,     -999.0,9,  -999.0,9, 20130501,      410,       30,-173.2264,     34.855,4,     -999.0,9,     -999.0,9,     1.5066,2,     -999.0,9,     -999.0,9,-999.0000, -999.00,-999.000
318M20130321,       P02W,      82,          1,          3,          3,2,20130501,       0354,         30,  -173.2264,       5454,  5153.4,   1.5352,  34.6901,2,   34.691,2,    157.3,2,   157.9,2,  148.46,2,    35.6,2,       0,2,    2.45,2,   0.016,2,   0.005,2,   0.008,2,        0,2,  2320.2,2, 2414.76,2,   7.5811,6,       25,-999.000,9,-999.0000,9, -999.00,9, -999.00,9,  -999.0,9,  -999.0,-999.000,9,-999.000,     -999.0,9, -999.00,9, -999.00,9, -999.00,9,     -999.0,9,  -999.0,9, 20130501,      402,       30,-173.2264,    34.8546,2,     -999.0,9,     -999.0,9,     1.5348,2,     -999.0,9,     -999.0,9,-999.0000, -999.00,-999.000
318M20130321,       P02W,      82,          1,          2,          2,2,20130501,       0354,         30,  -173.2264,       5454,  5540.7,   1.5405,  34.6937,2,  34.6954,3,    166.5,2,   166.4,2,  140.55,2,   34.95,2,       0,2,    2.43,2,   0.028,2,   0.013,2,   0.010,2,        0,2,  2309.1,6, 2407.66,2,   7.5898,2,       25,-999.000,9,-999.0000,9, -999.00,9, -999.00,9,  -999.0,9,  -999.0,-999.000,9,-999.000,     -999.0,9, -999.00,9, -999.00,9, -999.00,9,     -999.0,9,  -999.0,9, 20130501,      354,       30,-173.2264,     34.859,3,     -999.0,9,     -999.0,9,     1.5407,2,     -999.0,9,     -999.0,9,-999.0000, -999.00,-999.000