BOTTLE,20220817CCHSIOAMB
EXPOCODE,SECT_ID,STNNBR,CASTNO,SAMPNO,BTLNBR,BTLNBR_FLAG_W,DATE,TIME,LATITUDE,LONGITUDE,DEPTH,CTDPRS,CTDTMP,CTDSAL,CTDSAL_FLAG_W,SALNTY,SALNTY_FLAG_W,CTDOXY,CTDOXY_FLAG_W,OXYGEN,OXYGEN_FLAG_W,SILCAT,SILCAT_FLAG_W,NITRAT,NITRAT_FLAG_W,NITRIT,NITRIT_FLAG_W,PHSPHT,PHSPHT_FLAG_W,CFC-11,CFC-11_FLAG_W,CFC-12,CFC-12_FLAG_W,CFC113,CFC113_FLAG_W,SF6,SF6_FLAG_W,TCARBN,TCARBN_FLAG_W,ALKALI,ALKALI_FLAG_W,PH_TOT,PH_TOT_FLAG_W,PH_TMP,TRITUM,TRITUM_FLAG_W,HELIUM,HELIUM_FLAG_W,DELHE3,DELHE3_FLAG_W,DELC13,DELC13_FLAG_W,DELC14,DELC14_FLAG_W,C14ERR,NEON,NEON_FLAG_W,NEONER,I-129,I-129_FLAG_W,SR-90,SR-90_FLAG_W,DOC,DOC_FLAG_W,TDN,TDN_FLAG_W,CALCIUM,CALCIUM_FLAG_W,D15N_NO3,D15N_NO3_FLAG_W,BTL_DATE,BTL_TIME,BTL_LAT,BTL_LON,SALTREF,SALTREF_FLAG_W,CS-137,CS-137_FLAG_W,CS-134,CS-134_FLAG_W,REFTMP,REFTMP_FLAG_W,LAB_DEN,LAB_DEN_FLAG_W,D18O_NO3,D18O_NO3_FLAG_W,HELIER,DELHER,TRITER
,,,,,,,,,,,METERS,DBAR,ITS-90,PSS-78,,PSS-78,,UMOL/KG,,UMOL/KG,,UMOL/KG,,UMOL/KG,,UMOL/KG,,UMOL/KG,,PMOL/KG,,PMOL/KG,,PMOL/KG,,FMOL/KG,,UMOL/KG,,UMOL/KG,,,,DEG C,TU,,NMOL/KG,,PERCNT,,/MILLE,,/MILLE,,/MILLE,NMOL/KG,,NMOL/KG,BQ/M^3,,DM/.1MG,,UMOL/KG,,UMOL/KG,,MMOL/KG,,/MILLE,,,,,,G/KG,,BQ/M^3,,BQ/M^3,,ITS-90,,,,/MILLE,,NMOL/KG,PERCNT,TU
318M20130321,       P02W,      33,          1,         36,         36,2,20130414,       0814,    30.0016,   146.0208,       6160,       3,  19.3348,  34.7885,2,  34.7891,2,    231.9,2,   232.5,2,    1.66,2,       0,2,       0,2,    0.02,2,   2.423,2,   1.488,2,   0.208,2,     1.46,2,  2000.2,2, 2281.71,2,   8.0176,6,       25,-999.000,9,-999.0000,9, -999.00,9,    0.66,2,    55.8,2,     2.8,-999.000,9,-999.000,     -999.0,9, -999.00,9,   58.21,2,    4.11,2,     -999.0,9,  -999.0,9, 20130414,     1039,  30.0023, 146.0214,    34.9532,2,     -999.0,9,     -999.0,9,    19.3335,2,     -999.0,9,     -999.0,9,-999.0000, -999.00,-999.000
318M20130321,       P02W,      33,          1,         35,         35,2,20130414,       0814,    30.0016,   146.0208,       6160,    32.6,  19.2817,  34.7865,2,   34.787,2,    232.8,2,   232.8,2,    1.17,2,       0,2,       0,2,    0.01,2,   2.385,2,   1.425,2,   0.206,2,     1.54,2,  -999.0,9, -999.00,9,-999.0000,9,  -999.00,-999.000,9,-999.0000,9, -999.00,9, -999.00,9,  -999.0,9,  -999.0,-999.000,9,-999.000,     -999.0,9, -999.00,9,   56.51,2,    4.49,2,     -999.0,9,  -999.0,9, 20130414,     1038,  30.0021, 146.0215,     34.951,2,     -999.0,9,     -999.0,9,    19.2796,2,     -999.0,9,     -999.0,9,-999.0000, -999.00,-999.000
318M20130321,       P02W,      33,          1,         34,         34,2,20130414,       0814,    30.0016,   146.0208,       6160,    57.7,  18.1041,  34.7706,2,  34.7712,2,    241.5,2,   237.8,2,    1.66,2,    0.11,2,    0.11,2,    0.05,2,   2.520,2,   1.541,2,   0.183,2,     1.48,2,  2005.5,6, 2281.61,2,   8.0093,2,       25,-999.000,9,-999.0000,9, -999.00,9,    0.58,2,    51.1,2,     2.6,-999.000,9,-999.000,     -999.0,9, -999.00,9,    53.7,2,    5.09,2,     -999.0,9,  -999.0,9, 20130414,     1036,  30.0019, 146.0215,    34.9352,2,     -999.0,9,     -999.0,9,    18.1261,3,     -999.0,9,     -999.0,9,-999.0000, -999.00,-999.000
318M20130321,       P02W,      33,          1,         33,         33,2,20130414,       0814,    30.0016,   146.0208,       6160,    83.1,  17.7055,  34.7534,2,  34.7531,2,    236.6,2,   227.3,2,    2.73,2,    1.78,2,    0.11,2,    0.14,2,   2.514,2,   1.518,2,   0.188,2,     1.52,2,  -999.0,9, -999.00,9,-999.0000,9,  -999.00,-999.000,9,-999.0000,9, -999.00,9, -999.00,9,  -999.0,9,  -999.0,-999.000,9,-999.000,     -999.0,9, -999.00,9,   51.92,2,    4.97,2,     -999.0,9,  -999.0,9, 20130414,     1034,  30.0018, 146.0215,     34.917,2,     -999.0,9,     -999.0,9,    17.7044,2,     -999.0,9,     -999.0,9,-999.0000, -999.00,-999.000
318M20130321,       P02W,      33,          1,         32,         32,2,20130414,       0814,    30.0016,   146.0208,       6160,   113.3,  17.5757,  34.7426,2,  34.7425,2,      226,2,   226.5,2,    2.54,2,    2.11,2,    0.03,2,    0.16,2,   2.508,2,   1.552,2,   0.199,2,     1.48,2,  2016.2,2, 2279.91,6,   7.9858,2,       25,-999.000,9,-999.0000,9, -999.00,9,    0.40,2,    54.8,2,     3.0,-999.000,9,-999.000,     -999.0,9, -999.00,9,    50.4,2,     6.7,2,     -999.0,9,  -999.0,9, 20130414,     1032,  30.0017, 146.0215,    34.9064,2,     -999.0,9,     -999.0,9,    17.5754,2,     -999.0,9,     -999.0,9,-999.0000, -999.00,-999.000
318M20130321,       P02W,      33,          1,         31,         31,2,20130414,       0814,    30.0016,   146.0208,       6160,   164.2,  17.3515,  34.7291,2,   34.729,2,    223.3,2,   223.9,2,    3.03,2,    2.76,2,    0.02,2,     0.2,2,   2.528,2,   1.430,2,   0.152,2,     1.51,2,  2018.8,2, 2278.41,2,   7.9765,2,       25,-999.000,9,-999.0000,9, -999.00,9,    0.40,2,    62.6,2,     3.3,-999.000,9,-999.000,     -999.0,9, -999.00,9,   50.67,2,    6.42,2,     -999.0,9,  -999.0,9, 20130414,     1031,  30.0016, 146.0216,    34.8927,2,     -999.0,9,     -999.0,9,    17.3514,2,     -999.0,9,     -999.0,9,-999.0000, -999.00,-999.000
318M20130321,       P02W,      33,          1,         30,         30,2,20130414,       0814,    30.0016,   146.0208,       6160,   214.4,  17.0514,   34.715,2,   34.715,2,    209.7,2,   218.8,2,    3.61,2,    3.73,2,    0.02,2,    0.26,2,   2.571,2,   1.584,2,   0.133,2,     1.51,2,    2025,2, 2277.21,2,   7.9645,2,       25,-999.000,9,-999.0000,9, -999.00,9,    0.33,2,    52.2,2,     2.6,-999.000,9,-999.000,     -999.0,9, -999.00,9,   49.05,2,    7.68,2,     -999.0,9,  -999.0,9, 20130414,     1029,  30.0016, 146.0216,    34.8787,2,     -999.0,9,     -999.0,9,    17.0514,2,     -999.0,9,     -999.0,9,-999.0000, -999.00,-999.000
318M20130321,       P02W,      33,          1,         29,         29,2,20130414,       0814,    30.0016,   146.0208,       6160,   265.2,  16.6809,  34.6817,2,  34.6816,2,    209.4,2,   207.3,2,    4.88,2,     5.4,2,    0.01,2,    0.37,2,   2.654,2,   1.525,2,   0.072,2,     1.36,2,  -999.0,9, -999.00,9,-999.0000,9,  -999.00,-999.000,9,-999.0000,9, -999.00,9,    0.37,2,    63.6,2,     2.8,-999.000,9,-999.000,     -999.0,9, -999.00,9,   48.82,2, -999.00,5,     -999.0,9,  -999.0,9, 20130414,     1027,  30.0016, 146.0217,    34.8451,2,     -999.0,9,     -999.0,9,    16.6815,2,     -999.0,9,     -999.0,9,-999.0000, -999.00,-999.000
318M20130321,       P02W,      33,          1,         28,         28,2,20130414,       0814,    30.0016,   146.0208,       6160,   315.7,  15.9036,   34.622,2,  34.6209,2,    201.9,2,   195.6,2,    7.61,2,    7.75,2,    0.01,2,    0.54,2,   2.724,2,   1.617,2,   0.050,2,     1.27,2,  2056.6,2, 2275.91,2,   7.8994,2,       25,-999.000,9,-999.0000,9, -999.00,9,    0.33,2,    55.0,2,     3.8,-999.000,9,-999.000,     -999.0,9, -999.00,9,   43.59,2,   11.15,2,     -999.0,9,  -999.0,9, 20130414,     1026,  30.0016, 146.0217,    34.7841,2,     -999.0,9,     -999.0,9,    15.9002,2,     -999.0,9,     -999.0,9,-999.0000, -999.00,-999.000
318M20130321,       P02W,      33,          1,         27,         27,2,20130414,       0814,    30.0016,   146.0208,       6160,   366.7,   15.223,  34.5732,2,  34.5659,2,    190.4,2,     188,2,   10.84,2,     9.7,2,    0.01,2,    0.68,2,-999.000,9,-999.000,9,-999.000,9,-999.0000,9,  2071.5,2, 2274.41,2,    7.868,2,       25,-999.000,9,-999.0000,9, -999.00,9,    0.29,2,    53.3,2,     2.6,-999.000,9,-999.000,     -999.0,9, -999.00,9,   44.55,2, -999.00,9,     -999.0,9,  -999.0,9, 20130414,     1024,  30.0015, 146.0217,    34.7289,2,     -999.0,9,     -999.0,9,    15.2178,2,     -999.0,9,     -999.0,9,-999.0000, -999.00,-999.000
318M20130321,       P02W,      33,          1,         26,         26,2,20130414,       0814,    30.0016,   146.0208,       6160,   436.6,  13.5723,  34.4625,2,  34.4626,2,    185.4,2,   186.7,2,   14.84,2,   12.28,2,    0.01,2,    0.86,2,   2.968,2,   1.643,2,   0.050,2,     1.11,2,  2090.8,2, 2273.51,2,   7.8244,2,       25,-999.000,9,-999.0000,9, -999.00,9,    0.24,2,    33.2,2,     3.5,-999.000,9,-999.000,     -999.0,9, -999.00,9,   43.93,2, -999.00,9,     -999.0,9,  -999.0,9, 20130414,     1022,  30.0013, 146.0217,    34.6251,2,     -999.0,9,     -999.0,9,    13.5737,2,     -999.0,9,     -999.0,9,-999.0000, -999.00,-999.000
318M20130321,       P02W,      33,          1,         25,         25,2,20130414,       0814,    30.0016,   146.0208,       6160,   538.3,  10.8168,  34.2717,2,  34.2721,2,      180,2,   181.9,2,   25.09,2,   17.17,2,    0.01,2,    1.21,2,-999.000,9,-999.000,9,-999.000,9,-999.0000,9,  2126.5,2, 2273.91,2,   7.7417,2,       25,-999.000,9,-999.0000,9, -999.00,9,    0.18,2,    15.4,2,     3.5,-999.000,9,-999.000,     -999.0,9, -999.00,9,   43.25,2, -999.00,9,     -999.0,9,  -999.0,9, 20130414,     1019,  30.0013, 146.0219,    34.4337,2,     -999.0,9,     -999.0,9,    10.8188,2,     -999.0,9,     -999.0,9,-999.0000, -999.00,-999.000
318M20130321,       P02W,      33,          1,         24,         24,2,20130414,       0814,    30.0016,   146.0208,       6160,   634.8,   8.1557,  34.0998,2,  34.0995,2,    158.4,2,   160.2,2,   40.13,2,   23.84,2,    0.01,2,     1.7,2,   2.987,2,   1.553,2,   0.113,2,     0.86,2,  2174.3,2, 2278.61,2,   7.6273,2,       25,-999.000,9,-999.0000,9, -999.00,9,    0.04,2,   -12.0,2,     2.8,-999.000,9,-999.000,     -999.0,9, -999.00,9,   43.55,2, -999.00,9,     -999.0,9,  -999.0,9, 20130414,     1017,  30.0013,  146.022,    34.2603,2,     -999.0,9,     -999.0,9,      8.151,2,     -999.0,9,     -999.0,9,-999.0000, -999.00,-999.000
318M20130321,       P02W,      33,          1,         23,         23,2,20130414,       0814,    30.0016,   146.0208,       6160,   736.1,   5.8565,  34.0363,2,  34.0366,2,    126.8,2,   127.1,2,   65.82,2,   31.02,2,    0.01,2,    2.25,2,-999.000,9,-999.000,9,-999.000,9,-999.0000,9,  2233.5,2, 2297.02,2,   7.5024,2,       25,-999.000,9,-999.0000,9, -999.00,9,   -0.19,2,   -72.0,2,     2.5,-999.000,9,-999.000,     -999.0,9, -999.00,9,   41.23,2, -999.00,9,     -999.0,9,  -999.0,9, 20130414,     1014,  30.0013,  146.022,    34.1971,2,     -999.0,9,     -999.0,9,     5.8581,2,     -999.0,9,     -999.0,9,-999.0000, -999.00,-999.000
318M20130321,       P02W,      33,          1,         22,         38,2,20130414,       0814,    30.0016,   146.0208,       6160,   837.7,   4.8259,  34.1118,2,  34.1142,2,     88.1,2,    83.7,2,   88.37,2,   36.61,2,       0,2,    2.64,2,   1.510,2,   0.810,2,   0.078,2,     0.39,2,  2282.9,2, 2316.32,2,   7.4083,2,       25,-999.000,9,-999.0000,9, -999.00,9,   -0.40,2,  -112.2,2,     2.4,-999.000,9,-999.000,     -999.0,9, -999.00,9,    39.5,2, -999.00,9,     -999.0,9,  -999.0,9, 20130414,     1012,  30.0014,  146.022,    34.2751,2,     -999.0,9,     -999.0,9,     4.8262,2,     -999.0,9,     -999.0,9,-999.0000, -999.00,-999.000
318M20130321,       P02W,      33,          1,         21,         21,2,20130414,       0814,    30.0016,   146.0208,       6160,   939.5,   4.3026,  34.1905,2,  34.1907,2,     59.6,2,    60.8,2,  102.72,2,   39.25,2,       0,2,    2.82,2,   0.961,2,   0.532,2,   0.053,2,     0.24,2,  2311.2,2, 2330.73,2,   7.3657,2,       25,-999.000,9,-999.0000,9, -999.00,9,   -0.50,2,  -142.4,2,     2.8,-999.000,9,-999.000,     -999.0,9, -999.00,9,   39.81,2, -999.00,9,     -999.0,9,  -999.0,9, 20130414,     1009,  30.0014, 146.0219,    34.3519,2,     -999.0,9,     -999.0,9,      4.303,2,     -999.0,9,     -999.0,9,-999.0000, -999.00,-999.000
318M20130321,       P02W,      33,          1,         20,         20,2,20130414,       0814,    30.0016,   146.0208,       6160,  1040.8,   3.7605,  34.2831,2,   34.284,2,       47,2,    47.4,2,  118.82,2,   40.94,2,       0,2,    2.94,2,   0.561,2,   0.313,2,   0.027,2,     0.19,2,  2335.7,2, 2349.33,2,   7.3467,2,       25,-999.000,9,-999.0000,9, -999.00,9,   -0.51,2,  -164.3,2,     2.7,-999.000,9,-999.000,     -999.0,9, -999.00,9,   39.46,2, -999.00,9,     -999.0,9,  -999.0,9, 20130414,     1006,  30.0014, 146.0217,    34.4457,2,     -999.0,9,     -999.0,9,     3.7629,2,     -999.0,9,     -999.0,9,-999.0000, -999.00,-999.000
318M20130321,       P02W,      33,          1,         19,         19,2,20130414,       0814,    30.0016,   146.0208,       6160,  1137.7,   3.4389,  34.3379,2,  34.3396,2,     42.2,2,    42.6,2,  128.29,2,   41.75,2,       0,2,       3,2,   0.363,2,   0.185,2,   0.013,2,     0.12,2,  2349.1,2, 2361.74,2,   7.3431,6,       25,-999.000,9,-999.0000,9, -999.00,9,   -0.54,2,  -191.1,2,     2.0,-999.000,9,-999.000,     -999.0,9, -999.00,9,   36.24,2, -999.00,9,     -999.0,9,  -999.0,9, 20130414,     1004,  30.0014, 146.0216,    34.5015,2,     -999.0,9,     -999.0,9,      3.439,2,     -999.0,9,     -999.0,9,-999.0000, -999.00,-999.000
318M20130321,       P02W,      33,          1,         18,         18,2,20130414,       0814,    30.0016,   146.0208,       6160,  1290.5,   2.9726,   34.417,2,  34.4182,2,     39.1,2,    38.1,2,  141.56,2,   42.61,2,       0,2,    3.06,2,   0.139,2,   0.077,2,   0.012,2,     0.06,2,  2366.5,2, 2378.24,2,   7.3406,2,       25,-999.000,9,-999.0000,9, -999.00,9,   -0.52,2,  -205.2,2,     2.7,-999.000,9,-999.000,     -999.0,9, -999.00,9,   37.93,2, -999.00,9,     -999.0,9,  -999.0,9, 20130414,     1000,  30.0015, 146.0214,    34.5805,2,     -999.0,9,     -999.0,9,     2.9736,2,     -999.0,9,     -999.0,9,-999.0000, -999.00,-999.000
318M20130321,       P02W,      33,          1,         17,         17,2,20130414,       0814,    30.0016,   146.0208,       6160,  1475.1,   2.6043,  34.4797,2,  34.4817,2,     41.3,2,      41,2,   151.7,2,   42.84,2,       0,2,    3.07,2,   0.058,2,   0.035,2,   0.012,2,     0.04,2,  2376.1,6, 2389.85,2,   7.3487,2,       25,-999.000,9,-999.0000,9, -999.00,9,   -0.73,3,  -231.3,2,     2.7,-999.000,9,-999.000,     -999.0,9, -999.00,9,   38.12,2, -999.00,9,     -999.0,9,  -999.0,9, 20130414,      956,  30.0015, 146.0212,    34.6442,2,     -999.0,9,     -999.0,9,     2.6049,2,     -999.0,9,     -999.0,9,-999.0000, -999.00,-999.000
318M20130321,       P02W,      33,          1,         16,         16,2,20130414,       0814,    30.0016,   146.0208,       6160,  1679.4,   2.3495,  34.5296,2,  34.5315,2,     51.5,2,    51.7,2,  156.68,2,   42.32,2,       0,2,    3.02,2,   0.018,2,   0.016,2,   0.009,2,     0.04,2,  2376.3,2, 2400.15,2,   7.3751,2,       25,-999.000,9,-999.0000,9, -999.00,9,   -0.45,2,  -235.6,2,     2.1,-999.000,9,-999.000,     -999.0,9, -999.00,9,   38.37,2, -999.00,9,     -999.0,9,  -999.0,9, 20130414,      951,  30.0017, 146.0211,    34.6944,2,     -999.0,9,     -999.0,9,       2.35,2,     -999.0,9,     -999.0,9,-999.0000, -999.00,-999.000
318M20130321,       P02W,      33,          1,         14,         14,2,20130414,       0814,    30.0016,   146.0208,       6160,  1878.2,   2.1349,  34.5693,2,  34.5708,2,     66.5,2,    66.7,2,   159.6,2,   41.49,2,       0,2,    2.95,2,   0.012,2,   0.013,2,   0.000,2,        0,2,    2370,2, 2405.45,2,   7.4072,6,       25,-999.000,9,-999.0000,9, -999.00,9,   -0.59,3,  -242.9,2,     2.0,-999.000,9,-999.000,     -999.0,9, -999.00,9,    36.9,2, -999.00,9,     -999.0,9,  -999.0,9, 20130414,      946,  30.0017, 146.0209,    34.7338,2,     -999.0,9,     -999.0,9,     2.1345,2,     -999.0,9,     -999.0,9,-999.0000, -999.00,-999.000
318M20130321,       P02W,      33,          1,         15,         15,2,20130414,       0814,    30.0016,   146.0208,       6160,  1878.8,   2.1354,  34.5693,2,  34.5696,2,     66.5,2,    66.6,2,  159.21,2,    41.5,2,       0,2,    2.96,2,-999.000,9,-999.000,9,-999.000,9,-999.0000,9,  -999.0,9, -999.00,9,-999.0000,9,  -999.00,-999.000,9,-999.0000,9, -999.00,9, -999.00,9,  -999.0,9,  -999.0,-999.000,9,-999.000,     -999.0,9, -999.00,9, -999.00,9, -999.00,9,     -999.0,9,  -999.0,9, 20130414,      946,  30.0017, 146.0209,    34.7326,2,     -999.0,9,     -999.0,9,     2.1352,2,     -999.0,9,     -999.0,9,-999.0000, -999.00,-999.000
318M20130321,       P02W,      33,          1,         13,         13,2,20130414,       0814,    30.0016,   146.0208,       6160,  2103.4,   1.9303,  34.6056,2,  34.6064,2,     87.1,2,    89.1,2,  157.94,2,   40.08,2,       0,2,    2.84,2,-999.000,9,-999.000,9,-999.000,9,-999.0000,9,    2360,2, 2409.56,2,   7.4516,2,       25,-999.000,9,-999.0000,9, -999.00,9,   -0.21,2,  -235.2,2,     2.1,-999.000,9,-999.000,     -999.0,9, -999.00,9,    35.2,2, -999.00,9,     -999.0,9,  -999.0,9, 20130414,      941,  30.0018, 146.0207,    34.7695,2,     -999.0,9,     -999.0,9,     1.9304,2,     -999.0,9,     -999.0,9,-999.0000, -999.00,-999.000
318M20130321,       P02W,      33,          1,         12,         12,2,20130414,       0814,    30.0016,   146.0208,       6160,  2355.1,   1.7771,  34.6302,2,  34.6309,2,    104.2,2,   105.4,2,  156.57,2,   39.04,2,       0,2,    2.76,2,   0.011,2,   0.008,2,   0.000,2,     0.08,2,  2350.4,2, 2412.26,2,   7.4841,2,       25,-999.000,9,-999.0000,9, -999.00,9,   -0.16,2,  -232.7,2,     2.1,-999.000,9,-999.000,     -999.0,9, -999.00,9, -999.00,5, -999.00,9,     -999.0,9,  -999.0,9, 20130414,      935,  30.0017, 146.0207,    34.7942,2,     -999.0,9,     -999.0,9,     1.7774,2,     -999.0,9,     -999.0,9,-999.0000, -999.00,-999.000
318M20130321,       P02W,      33,          1,         11,         11,4,20130414,       0814,    30.0016,   146.0208,       6160,  2611.3,   1.6908,  34.6445,2,  34.7146,4,    116.2,2,   218.8,4,    3.81,4,    3.87,4,       0,4,    0.28,4,-999.000,9,-999.000,9,-999.000,9,-999.0000,9,  -999.0,9, -999.00,9,-999.0000,9,  -999.00,-999.000,9,-999.0000,9, -999.00,9, -999.00,9,  -999.0,9,  -999.0,-999.000,9,-999.000,     -999.0,9, -999.00,9, -999.00,9, -999.00,9,     -999.0,9,  -999.0,9, 20130414,      929,  30.0017, 146.0208,    34.8783,4,     -999.0,9,     -999.0,9,      1.691,2,     -999.0,9,     -999.0,9,-999.0000, -999.00,-999.000
318M20130321,       P02W,      33,          1,         10,         10,2,20130414,       0814,    30.0016,   146.0208,       6160,    2868,   1.6219,  34.6561,2,  34.6576,2,    125.8,2,   125.1,2,  153.73,2,   37.74,2,       0,2,    2.65,2,   0.000,2,   0.008,2,   0.000,2,     0.07,2,  2340.2,6, 2414.16,2,   7.5214,2,       25,-999.000,9,-999.0000,9, -999.00,9,   -0.09,2,  -217.5,2,     2.4,-999.000,9,-999.000,     -999.0,9, -999.00,9,   37.11,2, -999.00,9,     -999.0,9,  -999.0,9, 20130414,      923,  30.0015, 146.0209,    34.8211,2,     -999.0,9,     -999.0,9,      1.622,2,     -999.0,9,     -999.0,9,-999.0000, -999.00,-999.000
318M20130321,       P02W,      33,          1,          9,          9,2,20130414,       0814,    30.0016,   146.0208,       6160,  3140.1,   1.5702,  34.6647,2,  34.6651,2,    132.9,2,   131.8,2,  152.95,2,   37.31,2,       0,2,    2.62,2,-999.000,9,-999.000,9,-999.000,9,-999.0000,9,  2335.2,2, 2414.66,2,   7.5337,2,       25,-999.000,9,-999.0000,9, -999.00,9,   -0.06,2,  -224.0,2,     2.2,-999.000,9,-999.000,     -999.0,9, -999.00,9, -999.00,9, -999.00,9,     -999.0,9,  -999.0,9, 20130414,      917,  30.0017, 146.0209,    34.8286,2,     -999.0,9,     -999.0,9,     1.5702,2,     -999.0,9,     -999.0,9,-999.0000, -999.00,-999.000
318M20130321,       P02W,      33,          1,          8,          8,2,20130414,       0814,    30.0016,   146.0208,       6160,  3443.8,   1.5232,  34.6728,2,  34.6743,2,    139.9,2,   139.6,2,  151.58,2,   36.84,2,       0,2,    2.58,2,   0.000,2,   0.005,2,   0.000,2,        0,2,  2331.2,2, 2414.16,2,   7.5469,2,       25,-999.000,9,-999.0000,9, -999.00,9,   -0.03,2,  -231.3,2,     2.1,-999.000,9,-999.000,     -999.0,9, -999.00,9,   38.41,2, -999.00,9,     -999.0,9,  -999.0,9, 20130414,      910,  30.0017,  146.021,    34.8378,2,     -999.0,9,     -999.0,9,     1.5234,2,     -999.0,9,     -999.0,9,-999.0000, -999.00,-999.000