BOTTLE,20220817CCHSIOAMB
EXPOCODE,SECT_ID,STNNBR,CASTNO,SAMPNO,BTLNBR,BTLNBR_FLAG_W,DATE,TIME,LATITUDE,LONGITUDE,DEPTH,CTDPRS,CTDTMP,CTDSAL,CTDSAL_FLAG_W,SALNTY,SALNTY_FLAG_W,CTDOXY,CTDOXY_FLAG_W,OXYGEN,OXYGEN_FLAG_W,SILCAT,SILCAT_FLAG_W,NITRAT,NITRAT_FLAG_W,NITRIT,NITRIT_FLAG_W,PHSPHT,PHSPHT_FLAG_W,CFC-11,CFC-11_FLAG_W,CFC-12,CFC-12_FLAG_W,CFC113,CFC113_FLAG_W,SF6,SF6_FLAG_W,TCARBN,TCARBN_FLAG_W,ALKALI,ALKALI_FLAG_W,PH_TOT,PH_TOT_FLAG_W,PH_TMP,TRITUM,TRITUM_FLAG_W,HELIUM,HELIUM_FLAG_W,DELHE3,DELHE3_FLAG_W,DELC13,DELC13_FLAG_W,DELC14,DELC14_FLAG_W,C14ERR,NEON,NEON_FLAG_W,NEONER,I-129,I-129_FLAG_W,SR-90,SR-90_FLAG_W,DOC,DOC_FLAG_W,TDN,TDN_FLAG_W,CALCIUM,CALCIUM_FLAG_W,D15N_NO3,D15N_NO3_FLAG_W,BTL_DATE,BTL_TIME,BTL_LAT,BTL_LON,SALTREF,SALTREF_FLAG_W,CS-137,CS-137_FLAG_W,CS-134,CS-134_FLAG_W,REFTMP,REFTMP_FLAG_W,LAB_DEN,LAB_DEN_FLAG_W,D18O_NO3,D18O_NO3_FLAG_W,HELIER,DELHER,TRITER
,,,,,,,,,,,METERS,DBAR,ITS-90,PSS-78,,PSS-78,,UMOL/KG,,UMOL/KG,,UMOL/KG,,UMOL/KG,,UMOL/KG,,UMOL/KG,,PMOL/KG,,PMOL/KG,,PMOL/KG,,FMOL/KG,,UMOL/KG,,UMOL/KG,,,,DEG C,TU,,NMOL/KG,,PERCNT,,/MILLE,,/MILLE,,/MILLE,NMOL/KG,,NMOL/KG,BQ/M^3,,DM/.1MG,,UMOL/KG,,UMOL/KG,,MMOL/KG,,/MILLE,,,,,,G/KG,,BQ/M^3,,BQ/M^3,,ITS-90,,,,/MILLE,,NMOL/KG,PERCNT,TU
318M20130321,       P02W,      17,          1,         36,         36,2,20130410,       0223,    29.9997,     136.32,       4284,       4,  19.8399,  34.7546,2,  34.7567,2,    226.4,2,   227.3,2,    1.46,2,       0,2,       0,2,    0.02,2,   2.254,2,   1.361,2,   0.202,2,     1.48,2,  1991.7,2, 2279.71,2,   8.0342,2,       25,   0.501,2,   1.6995,2,   -1.45,2,    0.73,2,    54.2,2,     2.5,   6.869,2,   0.032,     -999.0,9, -999.00,9,    60.3,2,    3.65,2,     -999.0,9,  -999.0,1, 20130410,      419,  29.9993,  136.317,    34.9206,2,     -999.0,9,     -999.0,9,    19.8397,2,     -999.0,9,     -999.0,1,   0.0071,    0.15,   0.011
318M20130321,       P02W,      17,          1,         35,         35,2,20130410,       0223,    29.9997,     136.32,       4284,      26,   19.769,  34.7557,2,  34.7555,2,    227.6,2,   227.8,2,    1.56,2,       0,2,       0,2,    0.01,2,   2.281,2,   1.368,2,   0.198,2,      1.5,2,  -999.0,9, -999.00,9,-999.0000,9,  -999.00,-999.000,9,-999.0000,9, -999.00,9, -999.00,9,  -999.0,9,  -999.0,-999.000,9,-999.000,     -999.0,9, -999.00,9,   58.45,2,    4.74,2,     -999.0,9,  -999.0,1, 20130410,      417,  29.9993, 136.3172,    34.9194,2,     -999.0,9,     -999.0,9,    19.7685,2,     -999.0,9,     -999.0,1,-999.0000, -999.00,-999.000
318M20130321,       P02W,      17,          1,         34,         34,2,20130410,       0223,    29.9997,     136.32,       4284,      51,   19.704,  34.7594,2,  34.7608,2,    227.7,2,   227.1,2,    1.56,2,       0,2,       0,2,    0.02,2,   2.280,2,   1.376,2,   0.177,2,     1.48,2,  1993.8,6, 2279.31,2,   8.0314,2,       25,   0.485,2,   1.7674,2,   -0.97,2, -999.00,9,  -999.0,9,  -999.0,   7.148,2,   0.033,     -999.0,9, -999.00,9,    59.5,2,     4.2,2,     -999.0,9,  -999.0,1, 20130410,      416,  29.9993, 136.3174,    34.9247,2,     -999.0,9,     -999.0,9,    19.7043,2,     -999.0,9,     -999.0,1,   0.0074,    0.15,   0.011
318M20130321,       P02W,      17,          1,         33,         33,2,20130410,       0223,    29.9997,     136.32,       4284,    76.8,  19.1673,   34.765,2,  34.7685,2,    226.2,2,   221.5,2,    1.76,2,     0.7,2,    0.17,2,    0.08,2,   2.323,2,   1.399,2,   0.163,2,     1.46,2,  -999.0,9, -999.00,9,-999.0000,9,  -999.00,-999.000,9,-999.0000,9, -999.00,9, -999.00,9,  -999.0,9,  -999.0,-999.000,9,-999.000,     -999.0,9, -999.00,9,   56.45,2,    5.02,2,     -999.0,9,  -999.0,1, 20130410,      414,  29.9994, 136.3175,    34.9324,2,     -999.0,9,     -999.0,9,    19.1756,2,     -999.0,9,     -999.0,1,-999.0000, -999.00,-999.000
318M20130321,       P02W,      17,          1,         32,         32,2,20130410,       0223,    29.9997,     136.32,       4284,   101.9,  18.9387,  34.7662,2,  34.7671,2,    222.4,2,   222.3,2,    1.85,2,    0.87,2,    0.17,2,     0.1,2,   2.333,2,   1.399,2,   0.168,2,     1.49,2,  2003.6,2, 2280.91,2,   8.0116,6,       25,   0.477,2,   1.7514,2,   -1.17,2,    0.59,2,    58.0,2,     2.2,   7.096,2,   0.033,     -999.0,9, -999.00,9,   55.44,2,    5.45,2,     -999.0,9,  -999.0,1, 20130410,      412,  29.9993, 136.3176,    34.9311,2,     -999.0,9,     -999.0,9,    18.9363,2,     -999.0,9,     -999.0,1,   0.0074,    0.15,   0.011
318M20130321,       P02W,      17,          1,         31,         31,2,20130410,       0223,    29.9997,     136.32,       4284,     127,  18.7085,  34.7697,2,  34.7689,2,    220.1,2,   219.4,2,    1.95,2,    1.49,2,    0.05,2,    0.13,2,   2.327,2,   1.402,2,   0.164,2,     1.49,2,  -999.0,9, -999.00,9,-999.0000,9,  -999.00,-999.000,9,-999.0000,9, -999.00,9, -999.00,9,  -999.0,9,  -999.0,-999.000,9,-999.000,     -999.0,9, -999.00,9,   54.85,2,    5.54,2,     -999.0,9,  -999.0,1, 20130410,      410,  29.9993, 136.3177,    34.9329,2,     -999.0,9,     -999.0,9,    18.7089,2,     -999.0,9,     -999.0,1,-999.0000, -999.00,-999.000
318M20130321,       P02W,      17,          1,         30,         30,2,20130410,       0223,    29.9997,     136.32,       4284,   152.1,  18.6337,  34.7722,2,  34.7721,2,    220.3,2,   219.9,2,    2.05,2,    1.51,2,    0.03,2,    0.13,2,   2.326,2,   1.385,2,   0.165,2,     1.57,2,  2008.5,2, 2280.71,6,   8.0039,2,       25,-999.000,9,-999.0000,9, -999.00,9,    0.57,2,    62.8,2,     3.2,-999.000,9,-999.000,     -999.0,9, -999.00,9,   56.49,2,    5.87,2,     -999.0,9,  -999.0,1, 20130410,      409,  29.9993, 136.3178,     34.936,2,     -999.0,9,     -999.0,9,    18.6337,2,     -999.0,9,     -999.0,1,-999.0000, -999.00,-999.000
318M20130321,       P02W,      17,          1,         29,         29,2,20130410,       0223,    29.9997,     136.32,       4284,   202.7,  18.4223,  34.7642,2,  34.7648,2,    219.2,2,   218.6,2,    2.24,2,    1.86,2,    0.02,2,     0.2,2,   2.388,2,   1.432,2,   0.134,2,     1.43,2,    2011,2, 2280.21,2,   7.9971,2,       25,   0.479,2,   1.7715,2,   -0.86,2,    0.54,2,    56.8,2,     2.3,   7.211,2,   0.033,     -999.0,9, -999.00,9,   53.24,2,    5.88,2,     -999.0,9,  -999.0,1, 20130410,      407,  29.9993, 136.3179,    34.9287,2,     -999.0,9,     -999.0,9,    18.4246,2,     -999.0,9,     -999.0,1,   0.0074,    0.15,   0.012
318M20130321,       P02W,      17,          1,         28,         28,2,20130410,       0223,    29.9997,     136.32,       4284,   248.1,  18.1787,  34.7527,2,  34.7532,2,    205.4,2,   208.9,2,    3.03,2,    3.11,2,    0.02,2,    0.21,2,   2.440,2,   1.456,2,   0.089,2,     1.39,2,  -999.0,9, -999.00,9,-999.0000,9,  -999.00,-999.000,9,-999.0000,9, -999.00,9,    0.50,2,    60.4,2,     3.0,-999.000,9,-999.000,     -999.0,9, -999.00,9,   49.84,2,    6.95,2,     -999.0,9,  -999.0,1, 20130410,      405,  29.9994, 136.3179,    34.9171,2,     -999.0,9,     -999.0,9,    18.1779,2,     -999.0,9,     -999.0,1,-999.0000, -999.00,-999.000
318M20130321,       P02W,      17,          1,         27,         27,2,20130410,       0223,    29.9997,     136.32,       4284,     299,  17.4491,  34.7166,2,   34.717,2,    198.4,2,   198.7,2,    4.49,2,     5.1,2,    0.02,2,    0.34,2,   2.491,2,   1.480,2,   0.052,2,     1.27,2,  2037.5,2, 2277.61,2,   7.9425,2,       25,   0.469,2,   1.7509,2,   -0.60,2,    0.37,2,    61.5,2,     2.4,   7.192,2,   0.033,     -999.0,9, -999.00,9,   46.93,2,    8.29,2,     -999.0,9,  -999.0,1, 20130410,      403,  29.9993, 136.3179,    34.8807,2,     -999.0,9,     -999.0,9,    17.4466,2,     -999.0,9,     -999.0,1,   0.0074,    0.15,   0.011
318M20130321,       P02W,      17,          1,         26,         26,2,20130410,       0223,    29.9997,     136.32,       4284,   350.5,  16.4663,  34.6583,2,  34.6536,2,    192.7,2,   192.2,2,    7.13,2,    7.36,2,    0.01,2,     0.5,2,   2.602,2,   1.544,2,   0.034,2,     1.16,2,  -999.0,9, -999.00,9,-999.0000,9,  -999.00,-999.000,9,-999.0000,9, -999.00,9,    0.39,2,    60.6,2,     2.6,-999.000,9,-999.000,     -999.0,9, -999.00,9,   44.62,2, -999.00,9,     -999.0,9,  -999.0,1, 20130410,      401,  29.9993, 136.3178,     34.817,2,     -999.0,9,     -999.0,9,    16.4591,2,     -999.0,9,     -999.0,1,-999.0000, -999.00,-999.000
318M20130321,       P02W,      17,          1,         25,         25,2,20130410,       0223,    29.9997,     136.32,       4284,   400.3,  15.2967,  34.5824,2,  34.5821,2,      182,2,   183.3,2,   10.74,2,    9.88,2,    0.01,2,    0.67,2,   2.649,2,   1.523,2,   0.037,2,     1.17,2,    2075,2, 2275.71,2,   7.8662,2,       25,   0.484,2,   1.7518,2,    1.57,2,    0.29,2,    51.5,2,     2.2,   7.347,2,   0.034,     -999.0,9, -999.00,9,   44.07,2, -999.00,9,     -999.0,9,  -999.0,1, 20130410,      359,  29.9993, 136.3178,    34.7451,2,     -999.0,9,     -999.0,9,    15.3278,3,     -999.0,9,     -999.0,1,   0.0074,    0.15,   0.011
318M20130321,       P02W,      17,          1,         24,         24,2,20130410,       0223,    29.9997,     136.32,       4284,   450.8,   14.297,   34.519,2,  34.5155,2,    176.7,2,   178.2,2,   14.25,2,   11.99,2,    0.03,2,    0.85,2,-999.000,9,-999.000,9,-999.000,9,-999.0000,9,  -999.0,9, -999.00,9,-999.0000,9,  -999.00,-999.000,9,-999.0000,9, -999.00,9,    0.26,2,    39.8,2,     2.2,-999.000,9,-999.000,     -999.0,9, -999.00,9,      41,2, -999.00,9,     -999.0,9,  -999.0,1, 20130410,      357,  29.9993, 136.3177,    34.6782,2,     -999.0,9,     -999.0,9,    14.3034,2,     -999.0,9,     -999.0,1,-999.0000, -999.00,-999.000
318M20130321,       P02W,      17,          1,         23,         23,2,20130410,       0223,    29.9997,     136.32,       4284,   501.4,  12.5563,   34.413,2,  34.4122,2,      169,2,   169.1,2,   21.38,2,   15.61,2,    0.02,2,    1.12,2,   2.732,2,   1.506,2,   0.044,2,     0.91,2,  2116.8,2, 2275.31,2,   7.7714,2,       25,   0.469,2,   1.8111,2,    4.82,2,    0.19,2,    22.8,2,     2.0,   7.585,2,   0.035,     -999.0,9, -999.00,9,   43.24,2, -999.00,9,     -999.0,9,  -999.0,1, 20130410,      355,  29.9992, 136.3177,    34.5745,2,     -999.0,9,     -999.0,9,    12.5411,3,     -999.0,9,     -999.0,1,   0.0076,    0.15,   0.011
318M20130321,       P02W,      17,          1,         22,         38,2,20130410,       0223,    29.9997,     136.32,       4284,     602,   9.5171,  34.2515,2,  34.2513,2,    150.4,2,   149.7,2,   39.54,2,   22.61,2,    0.01,2,    1.62,2,   2.451,2,   1.308,2,   0.065,2,     0.74,2,  2169.3,2, 2284.91,2,   7.6593,2,       25,   0.415,2,   1.8704,2,    8.90,2,    0.08,2,   -16.2,2,     1.9,   7.794,2,   0.036,     -999.0,9, -999.00,9,   39.88,2, -999.00,9,     -999.0,9,  -999.0,1, 20130410,      353,  29.9991, 136.3177,    34.4128,2,     -999.0,9,     -999.0,9,      9.517,2,     -999.0,9,     -999.0,1,   0.0079,    0.15,   0.011
318M20130321,       P02W,      17,          1,         21,         21,2,20130410,       0223,    29.9997,     136.32,       4284,   703.4,   7.5271,  34.2136,2,  34.2143,2,    121.6,2,   120.3,2,   59.66,2,   28.69,2,    0.01,2,    2.07,2,-999.000,9,-999.000,9,-999.000,9,-999.0000,9,  2219.4,2, 2299.42,2,   7.5577,2,       25,-999.000,9,-999.0000,9, -999.00,9,   -0.05,2,   -66.3,2,     2.1,-999.000,9,-999.000,     -999.0,9, -999.00,9,   38.31,2, -999.00,9,     -999.0,9,  -999.0,1, 20130410,      350,  29.9992, 136.3179,    34.3756,2,     -999.0,9,     -999.0,9,     7.5237,2,     -999.0,9,     -999.0,1,-999.0000, -999.00,-999.000
318M20130321,       P02W,      17,          1,         20,         20,2,20130410,       0223,    29.9997,     136.32,       4284,   804.9,   5.6494,  34.2091,2,  34.2112,2,     93.1,2,    91.2,2,   83.39,2,   34.38,2,    0.01,2,    2.49,2,   1.400,2,   0.695,2,   0.051,2,      0.4,2,  2270.2,2, 2319.02,2,   7.4611,6,       25,   0.253,2,   1.8782,2,   14.48,2,   -0.21,2,  -114.3,2,     1.7,   8.021,2,   0.037,     -999.0,9, -999.00,9,   38.12,2, -999.00,9,     -999.0,9,  -999.0,1, 20130410,      347,  29.9992,  136.318,    34.3725,2,     -999.0,9,     -999.0,9,     5.6501,2,     -999.0,9,     -999.0,1,   0.0079,    0.15,   0.011
318M20130321,       P02W,      17,          1,         19,         19,2,20130410,       0223,    29.9997,     136.32,       4284,   905.3,   4.8911,  34.2903,2,  34.2916,2,     74.1,2,    74.1,2,   98.42,2,   37.07,2,    0.01,2,    2.68,2,   0.219,2,   0.410,2,  -0.001,2,        0,2,  2298.7,2, 2336.83,2,   7.4278,2,       25,   0.172,2,   1.8968,2,   16.29,2,   -0.24,2,  -147.8,2,     1.8,   8.061,2,   0.037,     -999.0,9, -999.00,9,   38.77,2, -999.00,9,     -999.0,9,  -999.0,1, 20130410,      344,  29.9993,  136.318,    34.4533,2,     -999.0,9,     -999.0,9,     4.8889,2,     -999.0,9,     -999.0,1,   0.0080,    0.15,   0.011
318M20130321,       P02W,      17,          1,         18,         18,2,20130410,       0223,    29.9997,     136.32,       4284,  1007.1,   4.1864,  34.3414,2,  34.3426,2,     64.8,2,    65.2,2,  111.59,2,   38.87,2,    0.01,2,    2.82,2,   0.548,2,   0.270,2,  -0.001,2,     0.13,2,  2319.9,2, 2351.84,2,   7.4062,2,       25,   0.107,2,   1.9322,2,   16.94,2,   -0.29,2,  -172.3,2,     1.7,   8.140,2,   0.037,     -999.0,9, -999.00,9,   38.36,2, -999.00,9,     -999.0,9,  -999.0,1, 20130410,      341,  29.9995,  136.318,    34.5045,2,     -999.0,9,     -999.0,9,     4.1862,2,     -999.0,9,     -999.0,1,   0.0081,    0.15,   0.011
318M20130321,       P02W,      17,          1,         17,         17,2,20130410,       0223,    29.9997,     136.32,       4284,    1108,   3.7143,  34.3856,2,  34.3875,2,     61.8,2,    61.9,2,  120.86,2,   39.83,2,    0.02,2,    2.88,2,   0.379,2,   0.175,2,  -0.001,2,     0.09,2,  2333.6,2, 2363.04,2,   7.3981,2,       25,   0.089,2,   1.8972,2,   17.41,2,   -0.30,2,  -181.1,2,     1.6,   8.074,2,   0.037,     -999.0,9, -999.00,9,   37.63,2, -999.00,9,     -999.0,9,  -999.0,1, 20130410,      338,  29.9995, 136.3181,    34.5497,2,     -999.0,9,     -999.0,9,     3.7145,2,     -999.0,9,     -999.0,1,   0.0080,    0.15,   0.011
318M20130321,       P02W,      17,          1,         16,         16,2,20130410,       0223,    29.9997,     136.32,       4284,  1206.7,   3.2123,  34.4327,2,  34.4333,2,     61.4,2,    60.4,2,   131.5,2,   40.66,2,       0,2,    2.93,2,-999.000,9,-999.000,9,-999.000,9,-999.0000,9,  2347.3,2, 2375.44,2,   7.3938,2,       25,-999.000,9,-999.0000,9, -999.00,9,   -0.41,2,  -203.4,2,     2.3,-999.000,9,-999.000,     -999.0,9, -999.00,9,    36.8,2, -999.00,9,     -999.0,9,  -999.0,1, 20130410,      336,  29.9998, 136.3184,    34.5956,2,     -999.0,9,     -999.0,9,     3.2126,2,     -999.0,9,     -999.0,1,-999.0000, -999.00,-999.000
318M20130321,       P02W,      17,          1,         15,         15,2,20130410,       0223,    29.9997,     136.32,       4284,  1309.7,   2.9419,  34.4676,2,  34.4696,2,     64.2,2,    64.7,2,  136.87,2,    40.8,2,       0,2,    2.93,2,   0.153,2,   0.077,2,  -0.001,2,     0.03,2,  2350.4,2, 2381.15,2,    7.401,2,       25,   0.030,2,   1.9250,2,   17.92,2,   -0.35,2,  -207.2,2,     2.2,   8.140,2,   0.037,     -999.0,9, -999.00,9,   38.22,2, -999.00,9,     -999.0,9,  -999.0,1, 20130410,      333,       30, 136.3186,    34.6321,2,     -999.0,9,     -999.0,9,     2.9415,2,     -999.0,9,     -999.0,1,   0.0081,    0.15,   0.006
318M20130321,       P02W,      17,          1,         14,         14,2,20130410,       0223,    29.9997,     136.32,       4284,  1411.3,   2.6915,  34.4946,2,  34.4963,2,     65.6,2,    65.4,2,  142.62,2,   40.92,2,       0,2,    2.93,2,-999.000,9,-999.000,9,-999.000,9,-999.0000,9,  2355.2,2, 2388.75,2,   7.4034,2,       25,-999.000,9,-999.0000,9, -999.00,9,   -0.33,2,  -209.9,2,     2.2,-999.000,9,-999.000,     -999.0,9, -999.00,9, -999.00,9, -999.00,9,     -999.0,9,  -999.0,1, 20130410,      330,  30.0003, 136.3188,    34.6589,2,     -999.0,9,     -999.0,9,     2.6899,2,     -999.0,9,     -999.0,1,-999.0000, -999.00,-999.000
318M20130321,       P02W,      17,          1,         13,         13,2,20130410,       0223,    29.9997,     136.32,       4284,  1513.3,   2.5306,   34.521,2,  34.5218,2,     72.9,2,    73.1,2,  143.79,2,   40.44,2,       0,2,     2.9,2,   0.105,2,   0.053,2,  -0.001,2,     0.09,2,  2354.7,2, 2394.55,2,   7.4196,6,       25,   0.011,2,   1.9867,2,   18.39,2,   -0.35,2,  -217.7,2,     1.9,   8.368,2,   0.038,     -999.0,9, -999.00,9,   37.06,2, -999.00,9,     -999.0,9,  -999.0,1, 20130410,      327,  30.0003, 136.3191,    34.6846,2,     -999.0,9,     -999.0,9,      2.531,2,     -999.0,9,     -999.0,1,   0.0083,    0.15,   0.006
318M20130321,       P02W,      17,          1,         12,         12,2,20130410,       0223,    29.9997,     136.32,       4284,  1610.2,   2.3755,  34.5416,2,  34.5426,2,     76.6,2,    77.9,2,  146.23,2,   40.26,2,       0,2,    2.88,2,-999.000,9,-999.000,9,-999.000,9,-999.0000,9,  2355.6,2, 2396.25,2,   7.4287,2,       25,-999.000,9,-999.0000,9, -999.00,9,   -0.37,2,  -224.2,2,     1.9,-999.000,9,-999.000,     -999.0,9, -999.00,9, -999.00,9, -999.00,9,     -999.0,9,  -999.0,1, 20130410,      324,  30.0001, 136.3193,    34.7055,2,     -999.0,9,     -999.0,9,     2.3755,2,     -999.0,9,     -999.0,1,-999.0000, -999.00,-999.000
318M20130321,       P02W,      17,          1,         11,         11,2,20130410,       0223,    29.9997,     136.32,       4284,  1814.8,   2.1442,  34.5767,2,   34.578,2,     90.2,2,    90.3,2,  148.18,2,   39.59,2,       0,2,    2.81,2,   0.043,2,   0.030,2,  -0.001,2,     0.15,2,  2352.2,2, 2401.35,2,   7.4543,2,       25,   0.000,2,   1.9421,2,   19.06,2,   -0.21,2,  -228.2,2,     1.9,   8.255,2,   0.038,     -999.0,9, -999.00,9,    36.3,2, -999.00,9,     -999.0,9,  -999.0,1, 20130410,      319,  29.9997, 136.3196,    34.7411,2,     -999.0,9,     -999.0,9,     2.1449,2,     -999.0,9,     -999.0,1,   0.0082,    0.15,   0.006
318M20130321,       P02W,      17,          1,         10,         10,2,20130410,       0223,    29.9997,     136.32,       4284,  2019.8,   1.9689,  34.6055,2,  34.6065,2,    105.5,2,   105.7,2,  147.88,2,   38.68,2,       0,2,    2.75,2,   0.031,2,   0.025,2,   0.003,2,     0.08,2,  -999.0,9, -999.00,9,-999.0000,9,  -999.00,  -0.003,2,   1.9222,2,   18.72,2,   -0.17,2,  -231.4,2,     1.9,   8.224,2,   0.038,     -999.0,9, -999.00,9, -999.00,9, -999.00,9,     -999.0,9,  -999.0,1, 20130410,      315,  29.9996, 136.3193,    34.7697,2,     -999.0,9,     -999.0,9,      1.969,2,     -999.0,9,     -999.0,1,   0.0081,    0.15,   0.006
318M20130321,       P02W,      17,          1,          9,          9,2,20130410,       0223,    29.9997,     136.32,       4284,  2275.4,    1.838,  34.6268,2,  34.6269,2,    118.1,2,   117.4,2,  146.71,2,   37.97,2,       0,2,    2.68,2,-999.000,9,-999.000,9,-999.000,9,-999.0000,9,  2338.5,2, 2407.86,2,   7.5074,2,       25,-999.000,9,-999.0000,9, -999.00,9,   -0.12,2,  -232.2,2,     2.1,-999.000,9,-999.000,     -999.0,9, -999.00,9,    36.5,2, -999.00,9,     -999.0,9,  -999.0,1, 20130410,      309,  29.9994, 136.3194,    34.7902,2,     -999.0,9,     -999.0,9,     1.8381,2,     -999.0,9,     -999.0,1,-999.0000, -999.00,-999.000
318M20130321,       P02W,      17,          1,          8,          8,2,20130410,       0223,    29.9997,     136.32,       4284,  2531.2,   1.7205,   34.645,2,  34.6456,2,    128.7,2,   128.4,2,  145.24,2,   37.31,2,       0,2,    2.64,2,   0.023,2,   0.018,2,  -0.001,2,     0.05,2,  -999.0,9, -999.00,9,-999.0000,9,  -999.00,-999.000,9,-999.0000,9, -999.00,9,   -0.06,2,  -230.8,2,     1.9,-999.000,9,-999.000,     -999.0,9, -999.00,9, -999.00,9, -999.00,9,     -999.0,9,  -999.0,1, 20130410,      304,  29.9993, 136.3196,     34.809,2,     -999.0,9,     -999.0,9,     1.7206,2,     -999.0,9,     -999.0,1,-999.0000, -999.00,-999.000