BOTTLE,20220817CCHSIOAMB
EXPOCODE,SECT_ID,STNNBR,CASTNO,SAMPNO,BTLNBR,BTLNBR_FLAG_W,DATE,TIME,LATITUDE,LONGITUDE,DEPTH,CTDPRS,CTDTMP,CTDSAL,CTDSAL_FLAG_W,SALNTY,SALNTY_FLAG_W,CTDOXY,CTDOXY_FLAG_W,OXYGEN,OXYGEN_FLAG_W,SILCAT,SILCAT_FLAG_W,NITRAT,NITRAT_FLAG_W,NITRIT,NITRIT_FLAG_W,PHSPHT,PHSPHT_FLAG_W,CFC-11,CFC-11_FLAG_W,CFC-12,CFC-12_FLAG_W,CFC113,CFC113_FLAG_W,SF6,SF6_FLAG_W,TCARBN,TCARBN_FLAG_W,ALKALI,ALKALI_FLAG_W,PH_TOT,PH_TOT_FLAG_W,PH_TMP,TRITUM,TRITUM_FLAG_W,HELIUM,HELIUM_FLAG_W,DELHE3,DELHE3_FLAG_W,DELC13,DELC13_FLAG_W,DELC14,DELC14_FLAG_W,C14ERR,NEON,NEON_FLAG_W,NEONER,I-129,I-129_FLAG_W,SR-90,SR-90_FLAG_W,DOC,DOC_FLAG_W,TDN,TDN_FLAG_W,CALCIUM,CALCIUM_FLAG_W,D15N_NO3,D15N_NO3_FLAG_W,BTL_DATE,BTL_TIME,BTL_LAT,BTL_LON,SALTREF,SALTREF_FLAG_W,CS-137,CS-137_FLAG_W,CS-134,CS-134_FLAG_W,REFTMP,REFTMP_FLAG_W,LAB_DEN,LAB_DEN_FLAG_W,D18O_NO3,D18O_NO3_FLAG_W,HELIER,DELHER,TRITER
,,,,,,,,,,,METERS,DBAR,ITS-90,PSS-78,,PSS-78,,UMOL/KG,,UMOL/KG,,UMOL/KG,,UMOL/KG,,UMOL/KG,,UMOL/KG,,PMOL/KG,,PMOL/KG,,PMOL/KG,,FMOL/KG,,UMOL/KG,,UMOL/KG,,,,DEG C,TU,,NMOL/KG,,PERCNT,,/MILLE,,/MILLE,,/MILLE,NMOL/KG,,NMOL/KG,BQ/M^3,,DM/.1MG,,UMOL/KG,,UMOL/KG,,MMOL/KG,,/MILLE,,,,,,G/KG,,BQ/M^3,,BQ/M^3,,ITS-90,,,,/MILLE,,NMOL/KG,PERCNT,TU
318M20130321,       P02E,      89,          1,          6,          6,2,20130512,       0211,         30,  -166.3097,       5449,  3548.6,   1.4892,  34.6763,2,  34.6772,2,    137.1,2,   137.5,2,   159.1,2,   36.99,2,       0,2,     2.6,2,   0.004,2,   0.001,2,-999.000,5,        0,2,  2336.8,2, 2420.66,6,   7.5474,2,       25,-999.000,9,-999.0000,9, -999.00,9,    0.09,2,  -232.6,2,     2.3,-999.000,9,-999.000,     -999.0,9, -999.00,9, -999.00,9, -999.00,9,     -999.0,9,  -999.0,9, 20130512,      251,  29.9999,  -166.31,    34.8407,2,     -999.0,9,     -999.0,9,     1.4897,2,     -999.0,9,     -999.0,9,-999.0000, -999.00,-999.000
318M20130321,       P02E,      89,          1,          5,         37,2,20130512,       0211,         30,  -166.3097,       5449,  3922.9,   1.4705,  34.6822,2,  34.6829,2,    144.5,2,   145.2,2,  156.17,2,   36.46,2,       0,2,    2.55,2,   0.004,2,   0.002,2,-999.000,5,        0,2,  -999.0,9, -999.00,9,-999.0000,9,  -999.00,-999.000,9,-999.0000,9, -999.00,9,    0.14,2,  -229.1,2,     2.6,-999.000,9,-999.000,     -999.0,9, -999.00,9,   34.67,2, -999.00,9,     -999.0,9,  -999.0,9, 20130512,      243,  30.0001,-166.3098,    34.8465,2,     -999.0,9,     -999.0,9,     1.4711,2,     -999.0,9,     -999.0,9,-999.0000, -999.00,-999.000
318M20130321,       P02E,      89,          1,          4,          4,2,20130512,       0211,         30,  -166.3097,       5449,  4330.6,   1.4791,  34.6862,2,  34.6861,2,    149.8,2,   150.8,2,  155.68,2,   36.14,2,       0,2,    2.53,2,   0.005,2,   0.005,2,-999.000,5,        0,2,  -999.0,9, -999.00,9,-999.0000,9,  -999.00,-999.000,9,-999.0000,9, -999.00,9,    0.16,2,  -213.6,2,     2.2,-999.000,9,-999.000,     -999.0,9, -999.00,9, -999.00,9, -999.00,9,     -999.0,9,  -999.0,9, 20130512,      235,  29.9998,-166.3099,    34.8496,2,     -999.0,9,     -999.0,9,     1.4797,2,     -999.0,9,     -999.0,9,-999.0000, -999.00,-999.000
318M20130321,       P02E,      89,          1,          3,          3,2,20130512,       0211,         30,  -166.3097,       5449,  4742.5,   1.5097,  34.6882,2,  34.6889,2,    153.8,2,     153,2,  154.41,2,   35.95,2,       0,2,    2.51,2,   0.004,2,   0.002,2,-999.000,5,        0,2,  2324.9,2, 2419.16,2,   7.5745,6,       25,-999.000,9,-999.0000,9, -999.00,9,    0.17,2,  -208.9,2,     2.2,-999.000,9,-999.000,     -999.0,9, -999.00,9,   33.83,2, -999.00,9,     -999.0,9,  -999.0,9, 20130512,      227,  29.9999,-166.3099,    34.8524,2,     -999.0,9,     -999.0,9,     1.5096,2,     -999.0,9,     -999.0,9,-999.0000, -999.00,-999.000
318M20130321,       P02E,      89,          1,          2,          2,2,20130512,       0211,         30,  -166.3097,       5449,  5155.4,   1.5399,  34.6904,2,   34.691,2,    157.3,2,   157.6,2,  149.73,2,   35.63,2,       0,2,    2.48,2,   0.006,2,   0.004,2,-999.000,5,        0,2,  2322.6,6, 2418.36,2,   7.5802,2,       25,-999.000,9,-999.0000,9, -999.00,9,    0.15,2,  -210.2,2,     2.4,-999.000,9,-999.000,     -999.0,9, -999.00,9,   34.38,2, -999.00,9,     -999.0,9,  -999.0,9, 20130512,      219,  29.9998,-166.3098,    34.8546,2,     -999.0,9,     -999.0,9,     1.5401,2,     -999.0,9,     -999.0,9,-999.0000, -999.00,-999.000
318M20130321,       P02E,      89,          1,          1,          1,2,20130512,       0211,         30,  -166.3097,       5449,  5525.4,   1.5586,  34.6924,2,   34.694,2,    163.6,2,   162.9,2,  144.07,2,   35.17,2,       0,2,    2.46,2,   0.003,2,   0.000,2,-999.000,5,        0,2,  2314.8,2, 2413.46,2,   7.5858,2,       25,-999.000,9,-999.0000,9, -999.00,9,    0.18,2,  -205.8,2,     2.0,-999.000,9,-999.000,     -999.0,9, -999.00,9,   34.43,2, -999.00,9,     -999.0,9,  -999.0,9, 20130512,      211,  29.9999,-166.3097,    34.8576,2,     -999.0,9,     -999.0,9,     1.5586,2,     -999.0,9,     -999.0,9,-999.0000, -999.00,-999.000