BOTTLE,20220817CCHSIOAMB
EXPOCODE,SECT_ID,STNNBR,CASTNO,SAMPNO,BTLNBR,BTLNBR_FLAG_W,DATE,TIME,LATITUDE,LONGITUDE,DEPTH,CTDPRS,CTDTMP,CTDSAL,CTDSAL_FLAG_W,SALNTY,SALNTY_FLAG_W,CTDOXY,CTDOXY_FLAG_W,OXYGEN,OXYGEN_FLAG_W,SILCAT,SILCAT_FLAG_W,NITRAT,NITRAT_FLAG_W,NITRIT,NITRIT_FLAG_W,PHSPHT,PHSPHT_FLAG_W,CFC-11,CFC-11_FLAG_W,CFC-12,CFC-12_FLAG_W,CFC113,CFC113_FLAG_W,SF6,SF6_FLAG_W,TCARBN,TCARBN_FLAG_W,ALKALI,ALKALI_FLAG_W,PH_TOT,PH_TOT_FLAG_W,PH_TMP,TRITUM,TRITUM_FLAG_W,HELIUM,HELIUM_FLAG_W,DELHE3,DELHE3_FLAG_W,DELC13,DELC13_FLAG_W,DELC14,DELC14_FLAG_W,C14ERR,NEON,NEON_FLAG_W,NEONER,I-129,I-129_FLAG_W,SR-90,SR-90_FLAG_W,DOC,DOC_FLAG_W,TDN,TDN_FLAG_W,CALCIUM,CALCIUM_FLAG_W,D15N_NO3,D15N_NO3_FLAG_W,BTL_DATE,BTL_TIME,BTL_LAT,BTL_LON,SALTREF,SALTREF_FLAG_W,CS-137,CS-137_FLAG_W,CS-134,CS-134_FLAG_W,REFTMP,REFTMP_FLAG_W,LAB_DEN,LAB_DEN_FLAG_W,D18O_NO3,D18O_NO3_FLAG_W,HELIER,DELHER,TRITER
,,,,,,,,,,,METERS,DBAR,ITS-90,PSS-78,,PSS-78,,UMOL/KG,,UMOL/KG,,UMOL/KG,,UMOL/KG,,UMOL/KG,,UMOL/KG,,PMOL/KG,,PMOL/KG,,PMOL/KG,,FMOL/KG,,UMOL/KG,,UMOL/KG,,,,DEG C,TU,,NMOL/KG,,PERCNT,,/MILLE,,/MILLE,,/MILLE,NMOL/KG,,NMOL/KG,BQ/M^3,,DM/.1MG,,UMOL/KG,,UMOL/KG,,MMOL/KG,,/MILLE,,,,,,G/KG,,BQ/M^3,,BQ/M^3,,ITS-90,,,,/MILLE,,NMOL/KG,PERCNT,TU
318M20130321,       P02E,      90,          1,          6,          6,2,20130512,       1140,    29.9996,  -165.1653,       5360,  3749.4,   1.4727,  34.6801,2,  34.6789,2,    142.1,2,     142,2,  157.44,2,   36.64,2,       0,2,    2.56,2,   0.004,2,   0.003,2,-999.000,5,        0,2,  -999.0,9, -999.00,9,-999.0000,9,  -999.00,-999.000,9,-999.0000,9, -999.00,9, -999.00,9,  -999.0,9,  -999.0,-999.000,9,-999.000,     -999.0,9, -999.00,9, -999.00,9, -999.00,9,     -999.0,9,  -999.0,9, 20130512,     1218,  30.0006,-165.1672,    34.8424,2,     -999.0,9,     -999.0,9,     1.4728,2,     -999.0,9,     -999.0,9,-999.0000, -999.00,-999.000
318M20130321,       P02E,      90,          1,          5,         37,2,20130512,       1140,    29.9996,  -165.1653,       5360,  4160.5,   1.4687,  34.6854,2,   34.685,2,    147.5,2,   148.8,2,  155.58,2,   36.19,2,       0,2,    2.51,2,   0.005,2,   0.003,2,-999.000,5,        0,2,  2327.4,2, 2419.66,2,   7.5672,2,       25,-999.000,9,-999.0000,9, -999.00,9, -999.00,9,  -999.0,9,  -999.0,-999.000,9,-999.000,     -999.0,9, -999.00,9, -999.00,9, -999.00,9,     -999.0,9,  -999.0,9, 20130512,     1209,  30.0003,-165.1663,    34.8485,2,     -999.0,9,     -999.0,9,     1.4691,2,     -999.0,9,     -999.0,9,-999.0000, -999.00,-999.000
318M20130321,       P02E,      90,          1,          4,          4,2,20130512,       1140,    29.9996,  -165.1653,       5360,  4574.4,   1.4938,  34.6878,2,  34.6865,2,    151.6,2,   151.8,2,  155.98,2,   35.95,2,       0,2,     2.5,2,   0.006,2,   0.004,2,-999.000,5,   0.0256,2,  -999.0,9, -999.00,9,-999.0000,9,  -999.00,-999.000,9,-999.0000,9, -999.00,9, -999.00,9,  -999.0,9,  -999.0,-999.000,9,-999.000,     -999.0,9, -999.00,9, -999.00,9, -999.00,9,     -999.0,9,  -999.0,9, 20130512,     1200,       30,-165.1656,    34.8501,2,     -999.0,9,     -999.0,9,     1.4942,2,     -999.0,9,     -999.0,9,-999.0000, -999.00,-999.000
318M20130321,       P02E,      90,          1,          3,          3,2,20130512,       1140,    29.9996,  -165.1653,       5360,  4983.8,   1.5275,  34.6894,2,  34.6889,2,    154.5,2,   154.8,2,  152.46,2,   35.75,2,       0,2,    2.47,2,   0.006,2,   0.004,2,-999.000,5,        0,2,  2322.8,2, 2417.66,2,   7.5791,6,       25,-999.000,9,-999.0000,9, -999.00,9, -999.00,9,  -999.0,9,  -999.0,-999.000,9,-999.000,     -999.0,9, -999.00,9, -999.00,9, -999.00,9,     -999.0,9,  -999.0,9, 20130512,     1151,  29.9999,-165.1651,    34.8525,2,     -999.0,9,     -999.0,9,     1.5272,2,     -999.0,9,     -999.0,9,-999.0000, -999.00,-999.000
318M20130321,       P02E,      90,          1,          2,          2,2,20130512,       1140,    29.9996,  -165.1653,       5360,  5221.5,    1.543,  34.6907,2,  34.6899,2,    158.9,2,   158.6,2,  148.95,2,   35.55,2,       0,2,    2.45,2,   0.006,2,   0.004,2,-999.000,5,        0,2,    2319,2, 2416.26,6,   7.5809,2,       25,-999.000,9,-999.0000,9, -999.00,9, -999.00,9,  -999.0,9,  -999.0,-999.000,9,-999.000,     -999.0,9, -999.00,9, -999.00,9, -999.00,9,     -999.0,9,  -999.0,9, 20130512,     1145,  29.9994,-165.1653,    34.8534,2,     -999.0,9,     -999.0,9,      1.543,2,     -999.0,9,     -999.0,9,-999.0000, -999.00,-999.000
318M20130321,       P02E,      90,          1,          1,          1,2,20130512,       1140,    29.9996,  -165.1653,       5360,  5459.5,   1.5592,  34.6917,2,  34.6914,2,    161.8,2,   161.3,2,  145.82,2,   35.31,2,       0,2,    2.45,2,   0.006,2,   0.005,2,-999.000,5,        0,2,  2315.2,6, 2412.46,2,   7.5833,2,       25,-999.000,9,-999.0000,9, -999.00,9, -999.00,9,  -999.0,9,  -999.0,-999.000,9,-999.000,     -999.0,9, -999.00,9, -999.00,9, -999.00,9,     -999.0,9,  -999.0,9, 20130512,     1138,  29.9996,-165.1653,     34.855,2,     -999.0,9,     -999.0,9,      1.559,2,     -999.0,9,     -999.0,9,-999.0000, -999.00,-999.000