BOTTLE,20220817CCHSIOAMB
EXPOCODE,SECT_ID,STNNBR,CASTNO,SAMPNO,BTLNBR,BTLNBR_FLAG_W,DATE,TIME,LATITUDE,LONGITUDE,DEPTH,CTDPRS,CTDTMP,CTDSAL,CTDSAL_FLAG_W,SALNTY,SALNTY_FLAG_W,CTDOXY,CTDOXY_FLAG_W,OXYGEN,OXYGEN_FLAG_W,SILCAT,SILCAT_FLAG_W,NITRAT,NITRAT_FLAG_W,NITRIT,NITRIT_FLAG_W,PHSPHT,PHSPHT_FLAG_W,CFC-11,CFC-11_FLAG_W,CFC-12,CFC-12_FLAG_W,CFC113,CFC113_FLAG_W,SF6,SF6_FLAG_W,TCARBN,TCARBN_FLAG_W,ALKALI,ALKALI_FLAG_W,PH_TOT,PH_TOT_FLAG_W,PH_TMP,TRITUM,TRITUM_FLAG_W,HELIUM,HELIUM_FLAG_W,DELHE3,DELHE3_FLAG_W,DELC13,DELC13_FLAG_W,DELC14,DELC14_FLAG_W,C14ERR,NEON,NEON_FLAG_W,NEONER,I-129,I-129_FLAG_W,SR-90,SR-90_FLAG_W,DOC,DOC_FLAG_W,TDN,TDN_FLAG_W,CALCIUM,CALCIUM_FLAG_W,D15N_NO3,D15N_NO3_FLAG_W,BTL_DATE,BTL_TIME,BTL_LAT,BTL_LON,SALTREF,SALTREF_FLAG_W,CS-137,CS-137_FLAG_W,CS-134,CS-134_FLAG_W,REFTMP,REFTMP_FLAG_W,LAB_DEN,LAB_DEN_FLAG_W,D18O_NO3,D18O_NO3_FLAG_W,HELIER,DELHER,TRITER
,,,,,,,,,,,METERS,DBAR,ITS-90,PSS-78,,PSS-78,,UMOL/KG,,UMOL/KG,,UMOL/KG,,UMOL/KG,,UMOL/KG,,UMOL/KG,,PMOL/KG,,PMOL/KG,,PMOL/KG,,FMOL/KG,,UMOL/KG,,UMOL/KG,,,,DEG C,TU,,NMOL/KG,,PERCNT,,/MILLE,,/MILLE,,/MILLE,NMOL/KG,,NMOL/KG,BQ/M^3,,DM/.1MG,,UMOL/KG,,UMOL/KG,,MMOL/KG,,/MILLE,,,,,,G/KG,,BQ/M^3,,BQ/M^3,,ITS-90,,,,/MILLE,,NMOL/KG,PERCNT,TU
318M20130321,       P02W,      57,          1,         36,         36,3,20130423,       0927,    29.9999,   168.0658,       5873,     3.6,  20.5859,  35.0065,2,  35.0063,2,    226.2,2,     226,2,    1.56,2,       0,2,       0,2,    0.01,2,   2.210,4,   1.447,4,   0.185,4,     1.54,4,  -999.0,9, -999.00,9,-999.0000,9,  -999.00,-999.000,9,-999.0000,9, -999.00,9, -999.00,9,  -999.0,9,  -999.0,-999.000,9,-999.000,     -999.0,9, -999.00,9,   62.15,2,    3.97,2,     -999.0,9,  -999.0,9, 20130423,     1139,  30.0001, 168.0662,    35.1714,2,     -999.0,9,     -999.0,9,    20.5851,2,     -999.0,9,     -999.0,9,-999.0000, -999.00,-999.000
318M20130321,       P02W,      57,          1,         35,         35,2,20130423,       0927,    29.9999,   168.0658,       5873,    32.6,  19.3641,  34.9025,2,  34.9063,2,    232.4,2,   231.9,2,    1.85,2,       0,2,       0,2,    0.02,2,   2.427,2,   1.511,2,   0.191,2,     1.51,2,    2011,2, 2290.51,2,   8.0153,2,       25,-999.000,9,-999.0000,9, -999.00,9,    0.68,6,    35.0,6,     7.0,-999.000,9,-999.000,     -999.0,9, -999.00,9,   61.61,2,     4.2,2,     -999.0,9,  -999.0,9, 20130423,     1137,       30, 168.0661,    35.0709,2,     -999.0,9,     -999.0,9,    19.3788,2,     -999.0,9,     -999.0,9,-999.0000, -999.00,-999.000
318M20130321,       P02W,      57,          1,         34,         34,2,20130423,       0927,    29.9999,   168.0658,       5873,    57.9,  17.7796,   34.734,2,  34.7335,2,    240.6,2,   241.5,2,    1.66,2,       0,2,       0,2,    0.03,2,   2.624,2,   1.620,2,   0.218,2,     2.27,2,  2009.9,2, 2279.71,6,   8.0019,2,       25,-999.000,9,-999.0000,9, -999.00,9,    0.66,2,    48.9,2,     2.6,-999.000,9,-999.000,     -999.0,9, -999.00,9,    58.1,2,    3.66,2,     -999.0,9,  -999.0,9, 20130423,     1136,  29.9998, 168.0661,    34.8973,2,     -999.0,9,     -999.0,9,    17.7797,2,     -999.0,9,     -999.0,9,-999.0000, -999.00,-999.000
318M20130321,       P02W,      57,          1,         33,         33,2,20130423,       0927,    29.9999,   168.0658,       5873,    82.6,  17.2528,  34.7103,2,  34.7101,2,    239.3,2,     241,2,    2.64,2,    0.49,2,    0.07,2,     0.1,2,   2.691,2,   1.650,2,   0.212,2,     1.55,2,  -999.0,9, -999.00,9,-999.0000,9,  -999.00,-999.000,9,-999.0000,9, -999.00,9, -999.00,9,  -999.0,9,  -999.0,-999.000,9,-999.000,     -999.0,9, -999.00,9,   52.36,2,    4.88,2,     -999.0,9,  -999.0,9, 20130423,     1134,  29.9998,  168.066,    34.8738,2,     -999.0,9,     -999.0,9,    17.2504,2,     -999.0,9,     -999.0,9,-999.0000, -999.00,-999.000
318M20130321,       P02W,      57,          1,         32,         32,2,20130423,       0927,    29.9999,   168.0658,       5873,   112.6,  16.8009,  34.6701,2,  34.6698,2,    232.4,2,     228,2,    3.32,2,    2.91,2,     0.1,2,    0.22,2,   2.706,2,   1.668,2,   0.169,2,     1.72,2,    2026,2, 2276.01,2,   7.9651,6,       25,-999.000,9,-999.0000,9, -999.00,9,    0.45,2,    51.9,2,     2.7,-999.000,9,-999.000,     -999.0,9, -999.00,9,   49.81,2,    6.29,2,     -999.0,9,  -999.0,9, 20130423,     1132,  29.9998, 168.0659,    34.8333,2,     -999.0,9,     -999.0,9,    16.7986,2,     -999.0,9,     -999.0,9,-999.0000, -999.00,-999.000
318M20130321,       P02W,      57,          1,         31,         31,2,20130423,       0927,    29.9999,   168.0658,       5873,   163.9,  16.4976,   34.659,2,  34.6606,2,    239.2,2,   240.4,2,    3.32,2,    1.71,2,    0.25,2,    0.18,2,   2.792,2,   1.709,2,   0.226,2,     1.53,2,  -999.0,9, -999.00,9,-999.0000,9,  -999.00,-999.000,9,-999.0000,9, -999.00,9, -999.00,9,  -999.0,9,  -999.0,-999.000,9,-999.000,     -999.0,9, -999.00,9,   51.75,2,    5.89,2,     -999.0,9,  -999.0,9, 20130423,     1130,  29.9999, 168.0659,     34.824,2,     -999.0,9,     -999.0,9,    16.4969,2,     -999.0,9,     -999.0,9,-999.0000, -999.00,-999.000
318M20130321,       P02W,      57,          1,         30,         30,2,20130423,       0927,    29.9999,   168.0658,       5873,   214.1,  16.2019,  34.6485,2,  34.6486,2,    229.2,2,   231.9,2,     4.2,2,    3.58,2,    0.03,2,    0.26,2,   2.813,2,   1.721,2,   0.204,2,     1.65,2,  2031.6,2, 2275.31,2,   7.9549,2,       25,-999.000,9,-999.0000,9, -999.00,9,    0.44,2,    53.2,2,     2.6,-999.000,9,-999.000,     -999.0,9, -999.00,9,   50.09,2,    6.03,2,     -999.0,9,  -999.0,9, 20130423,     1129,  29.9999, 168.0658,     34.812,2,     -999.0,9,     -999.0,9,    16.2014,2,     -999.0,9,     -999.0,9,-999.0000, -999.00,-999.000
318M20130321,       P02W,      57,          1,         29,         29,2,20130423,       0927,    29.9999,   168.0658,       5873,   264.7,  15.9556,  34.6341,2,  34.6339,2,    230.9,2,   230.2,2,    4.78,2,    4.28,2,    0.03,2,    0.31,2,   2.848,2,   1.739,2,   0.186,2,     1.54,2,  -999.0,9, -999.00,9,-999.0000,9,  -999.00,-999.000,9,-999.0000,9, -999.00,9, -999.00,9,  -999.0,9,  -999.0,-999.000,9,-999.000,     -999.0,9, -999.00,9,   50.56,2,    8.19,2,     -999.0,9,  -999.0,9, 20130423,     1127,  29.9999, 168.0658,    34.7972,2,     -999.0,9,     -999.0,9,    15.9548,2,     -999.0,9,     -999.0,9,-999.0000, -999.00,-999.000
318M20130321,       P02W,      57,          1,         28,         28,2,20130423,       0927,    29.9999,   168.0658,       5873,   315.2,  15.1093,  34.5563,2,  34.5567,2,      218,2,   215.9,2,    7.81,2,    6.95,2,    0.02,2,     0.5,2,   0.000,4,   0.000,4,   0.000,4,        0,4,  2053.5,2, 2272.61,2,   7.9061,2,       25,-999.000,9,-999.0000,9, -999.00,9,    0.38,2,    45.7,2,     3.2,-999.000,9,-999.000,     -999.0,9, -999.00,9,   49.49,2,   10.69,2,     -999.0,9,  -999.0,9, 20130423,     1125,  29.9999, 168.0657,    34.7196,2,     -999.0,9,     -999.0,9,    15.1053,2,     -999.0,9,     -999.0,9,-999.0000, -999.00,-999.000
318M20130321,       P02W,      57,          1,         27,         27,2,20130423,       0927,    29.9999,   168.0658,       5873,   365.9,  13.8754,  34.4642,2,  34.4644,2,    207.8,2,   209.7,2,   10.93,2,    9.37,2,    0.02,2,    0.67,2,   3.081,2,   1.810,2,   0.109,2,     1.42,2,  -999.0,9, -999.00,9,-999.0000,9,  -999.00,-999.000,9,-999.0000,9, -999.00,9, -999.00,9,  -999.0,9,  -999.0,-999.000,9,-999.000,     -999.0,9, -999.00,9,   45.83,2, -999.00,9,     -999.0,9,  -999.0,9, 20130423,     1124,  29.9999, 168.0656,    34.6269,2,     -999.0,9,     -999.0,9,    13.8742,2,     -999.0,9,     -999.0,9,-999.0000, -999.00,-999.000
318M20130321,       P02W,      57,          1,         26,         26,2,20130423,       0927,    29.9999,   168.0658,       5873,   432.3,  12.6372,  34.3849,2,  34.3874,2,      211,2,   212.4,2,   13.86,2,      11,2,    0.02,2,    0.79,2,   3.194,2,   1.872,2,   0.128,2,     1.65,2,  2085.6,2, 2270.71,2,    7.836,6,       25,-999.000,9,-999.0000,9, -999.00,9,    0.30,2,    29.5,2,     2.7,-999.000,9,-999.000,     -999.0,9, -999.00,9,   43.23,2, -999.00,9,     -999.0,9,  -999.0,9, 20130423,     1122,  29.9998, 168.0657,    34.5496,2,     -999.0,9,     -999.0,9,    12.6378,2,     -999.0,9,     -999.0,9,-999.0000, -999.00,-999.000
318M20130321,       P02W,      57,          1,         25,         25,2,20130423,       0927,    29.9999,   168.0658,       5873,   534.1,   9.6009,  34.1648,2,  34.1646,2,    186.1,2,   185.4,2,   27.83,2,   18.86,2,    0.02,2,    1.36,2,   3.385,2,   1.859,2,   0.117,2,     1.15,2,  2140.4,2, 2271.31,2,   7.7072,2,       25,-999.000,9,-999.0000,9, -999.00,9,    0.14,2,     6.9,2,     2.5,-999.000,9,-999.000,     -999.0,9, -999.00,9,   42.94,2, -999.00,9,     -999.0,9,  -999.0,9, 20130423,     1119,  29.9996, 168.0657,    34.3257,2,     -999.0,9,     -999.0,9,     9.5826,2,     -999.0,9,     -999.0,9,-999.0000, -999.00,-999.000
318M20130321,       P02W,      57,          1,         24,         24,2,20130423,       0927,    29.9999,   168.0658,       5873,     635,   7.1173,  34.0341,2,  34.0307,2,    153.2,2,   154.5,2,   48.83,2,   26.36,2,       0,2,    1.93,2,-999.000,9,-999.000,9,-999.000,9,-999.0000,9,  2196.6,2, 2281.41,2,   7.5806,2,       25,-999.000,9,-999.0000,9, -999.00,9,   -0.03,2,   -41.5,2,     2.6,-999.000,9,-999.000,     -999.0,9, -999.00,9,   42.14,2, -999.00,9,     -999.0,9,  -999.0,9, 20130423,     1117,  29.9996, 168.0657,    34.1912,2,     -999.0,9,     -999.0,9,     7.1131,2,     -999.0,9,     -999.0,9,-999.0000, -999.00,-999.000
318M20130321,       P02W,      57,          1,         23,         23,2,20130423,       0927,    29.9999,   168.0658,       5873,   737.4,    5.393,  34.0227,2,  34.0233,2,    112.8,2,   114.3,2,   72.26,2,      33,2,       0,2,    2.42,2,   2.416,2,   1.286,2,   0.111,2,     0.66,2,  2251.3,2, 2298.82,2,   7.4627,2,       25,-999.000,9,-999.0000,9, -999.00,9,   -0.23,2,   -76.8,2,     2.8,-999.000,9,-999.000,     -999.0,9, -999.00,9,   40.89,2, -999.00,9,     -999.0,9,  -999.0,9, 20130423,     1114,  29.9998, 168.0656,    34.1837,2,     -999.0,9,     -999.0,9,     5.3901,2,     -999.0,9,     -999.0,9,-999.0000, -999.00,-999.000
318M20130321,       P02W,      57,          1,         22,         22,2,20130423,       0927,    29.9999,   168.0658,       5873,   838.3,   4.5702,  34.1163,2,  34.1152,2,     76.6,2,    74.7,2,   92.77,2,   37.74,2,       0,2,    2.75,2,-999.000,9,-999.000,9,-999.000,9,-999.0000,9,  2296.8,2, 2318.72,2,   7.3845,2,       25,-999.000,9,-999.0000,9, -999.00,9,   -0.38,2,  -111.7,2,     2.4,-999.000,9,-999.000,     -999.0,9, -999.00,9,   38.81,2, -999.00,9,     -999.0,9,  -999.0,9, 20130423,     1111,  30.0001, 168.0656,    34.2761,2,     -999.0,9,     -999.0,9,     4.5696,2,     -999.0,9,     -999.0,9,-999.0000, -999.00,-999.000
318M20130321,       P02W,      57,          1,         21,         21,2,20130423,       0927,    29.9999,   168.0658,       5873,   940.2,   4.0324,  34.2109,2,  34.2105,2,       51,2,    50.4,2,  109.26,2,   40.29,2,       0,2,    2.94,2,   0.860,2,   0.445,2,   0.046,2,      0.2,2,  2324.6,2, 2338.23,2,   7.3448,2,       25,-999.000,9,-999.0000,9, -999.00,9,   -0.46,2,  -148.8,2,     2.8,-999.000,9,-999.000,     -999.0,9, -999.00,9,   36.57,2, -999.00,9,     -999.0,9,  -999.0,9, 20130423,     1109,  30.0001, 168.0656,    34.3718,2,     -999.0,9,     -999.0,9,     4.0309,2,     -999.0,9,     -999.0,9,-999.0000, -999.00,-999.000
318M20130321,       P02W,      57,          1,         20,         20,2,20130423,       0927,    29.9999,   168.0658,       5873,  1041.2,   3.5813,  34.2945,2,  34.2933,2,     37.8,2,    36.9,2,  123.22,2,   41.91,2,       0,2,    3.06,2,-999.000,9,-999.000,9,-999.000,9,-999.0000,9,  2349.2,2, 2354.44,2,   7.3258,2,       25,-999.000,9,-999.0000,9, -999.00,9,   -0.56,2,  -184.7,2,     2.6,-999.000,9,-999.000,     -999.0,9, -999.00,9,   40.43,2, -999.00,9,     -999.0,9,  -999.0,9, 20130423,     1106,  30.0001, 168.0657,     34.455,2,     -999.0,9,     -999.0,9,     3.5813,2,     -999.0,9,     -999.0,9,-999.0000, -999.00,-999.000
318M20130321,       P02W,      57,          1,         19,         19,2,20130423,       0927,    29.9999,   168.0658,       5873,  1143.7,   3.2422,  34.3601,2,  34.3596,2,     30.6,2,    30.2,2,  133.95,2,   42.81,2,       0,2,     3.1,2,   0.212,2,   0.111,2,   0.008,2,     0.28,2,  2364.2,2, 2368.44,2,   7.3204,2,       25,-999.000,9,-999.0000,9, -999.00,9,   -0.57,2,  -204.1,2,     2.6,-999.000,9,-999.000,     -999.0,9, -999.00,9,   39.36,2, -999.00,9,     -999.0,9,  -999.0,9, 20130423,     1103,       30, 168.0657,    34.5216,2,     -999.0,9,     -999.0,9,     3.2399,2,     -999.0,9,     -999.0,9,-999.0000, -999.00,-999.000
318M20130321,       P02W,      57,          1,         18,         18,2,20130423,       0927,    29.9999,   168.0658,       5873,  1244.9,    3.006,  34.4184,2,  34.4192,2,     28.4,2,    29.2,2,  141.66,2,   43.23,2,       0,2,    3.13,2,-999.000,9,-999.000,9,-999.000,9,-999.0000,9,  2374.9,2, 2379.55,2,    7.325,2,       25,-999.000,9,-999.0000,9, -999.00,9,   -0.56,2,  -219.8,2,     3.4,-999.000,9,-999.000,     -999.0,9, -999.00,9,   37.13,2, -999.00,9,     -999.0,9,  -999.0,9, 20130423,     1101,       30, 168.0657,    34.5815,2,     -999.0,9,     -999.0,9,     3.0052,2,     -999.0,9,     -999.0,9,-999.0000, -999.00,-999.000
318M20130321,       P02W,      57,          1,         17,         17,2,20130423,       0927,    29.9999,   168.0658,       5873,  1347.6,   2.8174,   34.458,2,  34.4585,2,     31.4,2,    31.6,2,  146.73,2,   43.28,2,       0,2,    3.12,2,   0.048,2,   0.034,2,   0.008,2,     0.06,2,  2378.8,2, 2387.35,2,   7.3346,2,       25,-999.000,9,-999.0000,9, -999.00,9,   -0.60,2,  -215.4,2,     2.9,-999.000,9,-999.000,     -999.0,9, -999.00,9,   35.45,2, -999.00,9,     -999.0,9,  -999.0,9, 20130423,     1058,       30, 168.0658,     34.621,2,     -999.0,9,     -999.0,9,     2.8178,2,     -999.0,9,     -999.0,9,-999.0000, -999.00,-999.000
318M20130321,       P02W,      57,          1,         16,         16,2,20130423,       0927,    29.9999,   168.0658,       5873,  1479.9,   2.5146,  34.4973,2,  34.4975,2,     37.7,2,    38.8,2,  155.22,2,   42.98,2,       0,2,    3.09,2,-999.000,9,-999.000,9,-999.000,9,-999.0000,9,  2382.6,2, 2394.95,2,   7.3462,2,       25,-999.000,9,-999.0000,9, -999.00,9,   -0.50,2,  -232.0,2,     2.3,-999.000,9,-999.000,     -999.0,9, -999.00,9,   34.54,2, -999.00,9,     -999.0,9,  -999.0,9, 20130423,     1055,  29.9999, 168.0658,    34.6602,2,     -999.0,9,     -999.0,9,     2.5147,2,     -999.0,9,     -999.0,9,-999.0000, -999.00,-999.000
318M20130321,       P02W,      57,          1,         15,         15,2,20130423,       0927,    29.9999,   168.0658,       5873,  1678.5,   2.2571,   34.551,2,  34.5517,2,     54.1,2,    53.7,2,   159.7,2,   42.18,2,       0,2,    3.03,2,   0.011,2,   0.019,2,   0.008,2,     0.05,2,  2378.8,2, 2403.65,2,   7.3837,6,       25,-999.000,9,-999.0000,9, -999.00,9,   -0.46,2,  -235.1,2,     2.2,-999.000,9,-999.000,     -999.0,9, -999.00,9,   37.75,2, -999.00,9,     -999.0,9,  -999.0,9, 20130423,     1051,  30.0001, 168.0658,    34.7147,2,     -999.0,9,     -999.0,9,      2.259,2,     -999.0,9,     -999.0,9,-999.0000, -999.00,-999.000
318M20130321,       P02W,      57,          1,         14,         14,2,20130423,       0927,    29.9999,   168.0658,       5873,  1883.4,   2.0314,  34.5851,2,  34.5869,2,     68.3,2,    68.4,2,  162.43,2,   41.27,2,       0,2,    2.95,2,-999.000,9,-999.000,9,-999.000,9,-999.0000,9,  2373.8,2, 2409.26,2,   7.4115,2,       25,-999.000,9,-999.0000,9, -999.00,9,   -0.38,2,  -243.1,2,     2.3,-999.000,9,-999.000,     -999.0,9, -999.00,9, -999.00,9, -999.00,9,     -999.0,9,  -999.0,9, 20130423,     1046,  30.0001, 168.0658,      34.75,2,     -999.0,9,     -999.0,9,     2.0318,2,     -999.0,9,     -999.0,9,-999.0000, -999.00,-999.000
318M20130321,       P02W,      57,          1,         13,         13,2,20130423,       0927,    29.9999,   168.0658,       5873,  2108.8,   1.8582,  34.6134,2,  34.6142,2,     84.6,2,    85.2,2,  162.52,2,   40.23,2,       0,2,    2.86,2,   0.009,2,   0.013,2,   0.002,2,     0.05,2,    2367,2, 2412.56,2,   7.4465,2,       25,-999.000,9,-999.0000,9, -999.00,9,   -0.22,2,  -238.1,2,     1.9,-999.000,9,-999.000,     -999.0,9, -999.00,9,   34.25,2, -999.00,9,     -999.0,9,  -999.0,9, 20130423,     1042,  29.9999, 168.0658,    34.7774,2,     -999.0,9,     -999.0,9,     1.8581,2,     -999.0,9,     -999.0,9,-999.0000, -999.00,-999.000
318M20130321,       P02W,      57,          1,         12,         12,2,20130423,       0927,    29.9999,   168.0658,       5873,  2358.4,   1.7017,  34.6346,2,  34.6356,2,    100.3,2,    99.5,2,   163.5,2,   39.32,2,       0,2,    2.79,2,-999.000,9,-999.000,9,-999.000,9,-999.0000,9,  2358.6,2, 2415.26,2,    7.473,2,       25,-999.000,9,-999.0000,9, -999.00,9,   -0.16,2,  -241.0,2,     2.0,-999.000,9,-999.000,     -999.0,9, -999.00,9, -999.00,9, -999.00,9,     -999.0,9,  -999.0,9, 20130423,     1037,  30.0001, 168.0656,     34.799,2,     -999.0,9,     -999.0,9,     1.7017,2,     -999.0,9,     -999.0,9,-999.0000, -999.00,-999.000
318M20130321,       P02W,      57,          1,         11,         11,2,20130423,       0927,    29.9999,   168.0658,       5873,  2614.5,    1.607,  34.6511,2,  34.6523,2,    116.6,2,   115.1,2,  160.18,2,   38.34,2,       0,2,    2.71,2,   0.008,2,   0.015,2,   0.005,2,        0,2,  2349.9,2, 2415.66,2,   7.5036,2,       25,-999.000,9,-999.0000,9, -999.00,9,   -0.16,2,  -238.9,2,     2.4,-999.000,9,-999.000,     -999.0,9, -999.00,9,    33.9,2, -999.00,9,     -999.0,9,  -999.0,9, 20130423,     1031,  30.0004, 168.0655,    34.8157,2,     -999.0,9,     -999.0,9,     1.6074,2,     -999.0,9,     -999.0,9,-999.0000, -999.00,-999.000
318M20130321,       P02W,      57,          1,         10,         10,2,20130423,       0927,    29.9999,   168.0658,       5873,  2866.7,   1.5603,  34.6625,2,  34.6628,2,      128,2,   127.8,2,  155.39,2,   37.51,2,       0,2,    2.65,2,-999.000,9,-999.000,9,-999.000,9,-999.0000,9,  -999.0,9, -999.00,9,-999.0000,9,  -999.00,-999.000,9,-999.0000,9, -999.00,9,   -0.09,2,  -238.4,2,     1.9,-999.000,9,-999.000,     -999.0,9, -999.00,9, -999.00,9, -999.00,9,     -999.0,9,  -999.0,9, 20130423,     1026,  30.0002, 168.0655,    34.8262,2,     -999.0,9,     -999.0,9,     1.5607,2,     -999.0,9,     -999.0,9,-999.0000, -999.00,-999.000
318M20130321,       P02W,      57,          1,          9,          9,2,20130423,       0927,    29.9999,   168.0658,       5873,  3137.8,   1.5183,  34.6703,2,  34.6712,2,    133.1,2,   135.5,2,  153.63,2,   36.95,2,       0,2,    2.61,2,   0.010,2,   0.014,2,   0.004,2,        0,2,  2336.2,2, 2416.26,2,   7.5407,2,       25,-999.000,9,-999.0000,9, -999.00,9,   -0.03,2,  -233.7,2,     2.0,-999.000,9,-999.000,     -999.0,9, -999.00,9,   33.86,2, -999.00,9,     -999.0,9,  -999.0,9, 20130423,     1021,  30.0002, 168.0654,    34.8347,2,     -999.0,9,     -999.0,9,     1.5185,2,     -999.0,9,     -999.0,9,-999.0000, -999.00,-999.000
318M20130321,       P02W,      57,          1,          8,          8,2,20130423,       0927,    29.9999,   168.0658,       5873,  3446.8,   1.4904,   34.676,2,  34.6765,2,      142,2,   141.9,2,  152.07,2,   36.55,2,       0,2,    2.58,2,-999.000,9,-999.000,9,-999.000,9,-999.0000,9,  -999.0,9, -999.00,9,-999.0000,9,  -999.00,-999.000,9,-999.0000,9, -999.00,9,    0.03,2,  -232.6,2,     2.0,-999.000,9,-999.000,     -999.0,9, -999.00,9, -999.00,9, -999.00,9,     -999.0,9,  -999.0,9, 20130423,     1015,  30.0003, 168.0654,      34.84,2,     -999.0,9,     -999.0,9,     1.4907,2,     -999.0,9,     -999.0,9,-999.0000, -999.00,-999.000