BOTTLE,20220817CCHSIOAMB
EXPOCODE,SECT_ID,STNNBR,CASTNO,SAMPNO,BTLNBR,BTLNBR_FLAG_W,DATE,TIME,LATITUDE,LONGITUDE,DEPTH,CTDPRS,CTDTMP,CTDSAL,CTDSAL_FLAG_W,SALNTY,SALNTY_FLAG_W,CTDOXY,CTDOXY_FLAG_W,OXYGEN,OXYGEN_FLAG_W,SILCAT,SILCAT_FLAG_W,NITRAT,NITRAT_FLAG_W,NITRIT,NITRIT_FLAG_W,PHSPHT,PHSPHT_FLAG_W,CFC-11,CFC-11_FLAG_W,CFC-12,CFC-12_FLAG_W,CFC113,CFC113_FLAG_W,SF6,SF6_FLAG_W,TCARBN,TCARBN_FLAG_W,ALKALI,ALKALI_FLAG_W,PH_TOT,PH_TOT_FLAG_W,PH_TMP,TRITUM,TRITUM_FLAG_W,HELIUM,HELIUM_FLAG_W,DELHE3,DELHE3_FLAG_W,DELC13,DELC13_FLAG_W,DELC14,DELC14_FLAG_W,C14ERR,NEON,NEON_FLAG_W,NEONER,I-129,I-129_FLAG_W,SR-90,SR-90_FLAG_W,DOC,DOC_FLAG_W,TDN,TDN_FLAG_W,CALCIUM,CALCIUM_FLAG_W,D15N_NO3,D15N_NO3_FLAG_W,BTL_DATE,BTL_TIME,BTL_LAT,BTL_LON,SALTREF,SALTREF_FLAG_W,CS-137,CS-137_FLAG_W,CS-134,CS-134_FLAG_W,REFTMP,REFTMP_FLAG_W,LAB_DEN,LAB_DEN_FLAG_W,D18O_NO3,D18O_NO3_FLAG_W,HELIER,DELHER,TRITER
,,,,,,,,,,,METERS,DBAR,ITS-90,PSS-78,,PSS-78,,UMOL/KG,,UMOL/KG,,UMOL/KG,,UMOL/KG,,UMOL/KG,,UMOL/KG,,PMOL/KG,,PMOL/KG,,PMOL/KG,,FMOL/KG,,UMOL/KG,,UMOL/KG,,,,DEG C,TU,,NMOL/KG,,PERCNT,,/MILLE,,/MILLE,,/MILLE,NMOL/KG,,NMOL/KG,BQ/M^3,,DM/.1MG,,UMOL/KG,,UMOL/KG,,MMOL/KG,,/MILLE,,,,,,G/KG,,BQ/M^3,,BQ/M^3,,ITS-90,,,,/MILLE,,NMOL/KG,PERCNT,TU
318M20130321,       P02E,     104,          1,          6,          6,2,20130517,       1744,    29.9998,  -150.8456,       5768,  4328.3,   1.4828,  34.6869,2,  34.6857,2,    149.7,2,   149.8,2,   154.8,2,   36.29,2,       0,2,    2.53,2,    -999,5,    -999,5,-999.000,1,     -999,5,  2327.7,2, 2421.36,2,   7.5719,2,       25,-999.000,9,-999.0000,9, -999.00,9, -999.00,9,  -999.0,9,  -999.0,-999.000,9,-999.000,     -999.0,9, -999.00,9, -999.00,9, -999.00,9,     -999.0,9,  -999.0,9, 20130517,     1814,  29.9997,-150.8451,    34.8493,2,     -999.0,9,     -999.0,9,     1.4827,2,     -999.0,1,     -999.0,9,-999.0000, -999.00,-999.000
318M20130321,       P02E,     104,          1,          5,         37,2,20130517,       1744,    29.9998,  -150.8456,       5768,  4743.1,   1.5063,  34.6896,2,  34.6883,2,    153.3,2,   154.3,2,  151.58,2,   35.98,2,       0,2,    2.51,2,   0.003,2,   0.006,2,-999.000,1,        0,2,  -999.0,9, -999.00,9,-999.0000,9,  -999.00,-999.000,9,-999.0000,9, -999.00,9, -999.00,9,  -999.0,9,  -999.0,-999.000,9,-999.000,     -999.0,9, -999.00,9, -999.00,9, -999.00,9,     -999.0,9,  -999.0,9, 20130517,     1805,  30.0005,-150.8452,    34.8519,2,     -999.0,9,     -999.0,9,     1.5066,2,     -999.0,9,     -999.0,9,-999.0000, -999.00,-999.000
318M20130321,       P02E,     104,          1,          4,          4,2,20130517,       1744,    29.9998,  -150.8456,       5768,    5160,   1.5369,  34.6908,2,  34.6895,2,    158.5,2,   158.5,2,  147.78,2,   35.66,2,       0,2,    2.48,2,   0.002,2,   0.005,2,-999.000,1,        0,2,  2320.8,2, 2416.56,2,   7.5832,6,       25,-999.000,9,-999.0000,9, -999.00,9, -999.00,9,  -999.0,9,  -999.0,-999.000,9,-999.000,     -999.0,9, -999.00,9, -999.00,9, -999.00,9,     -999.0,9,  -999.0,9, 20130517,     1757,  30.0001, -150.845,     34.853,2,     -999.0,9,     -999.0,9,     1.5373,2,     -999.0,1,     -999.0,9,-999.0000, -999.00,-999.000
318M20130321,       P02E,     104,          1,          3,          3,2,20130517,       1744,    29.9998,  -150.8456,       5768,  5507.1,    1.568,  34.6919,2,  34.6904,2,    160.8,2,   160.7,2,  146.21,2,   35.52,2,       0,2,    2.47,2,   0.003,2,   0.006,2,-999.000,1,   0.0478,3,  2316.9,2, 2414.66,6,   7.5837,2,       25,-999.000,9,-999.0000,9, -999.00,9, -999.00,9,  -999.0,9,  -999.0,-999.000,9,-999.000,     -999.0,9, -999.00,9, -999.00,9, -999.00,9,     -999.0,9,  -999.0,9, 20130517,     1751,  29.9999,-150.8453,     34.854,2,     -999.0,9,     -999.0,9,     1.5679,2,     -999.0,1,     -999.0,9,-999.0000, -999.00,-999.000
318M20130321,       P02E,     104,          1,          2,          2,2,20130517,       1744,    29.9998,  -150.8456,       5768,  5871.1,   1.6137,   34.692,2,  34.6901,2,    161.7,2,   161.8,2,  145.24,2,   35.46,2,       0,2,    2.47,2,   0.002,2,   0.006,2,-999.000,1,        0,2,  2317.4,6, 2412.66,2,   7.5841,2,       25,-999.000,9,-999.0000,9, -999.00,9, -999.00,9,  -999.0,9,  -999.0,-999.000,9,-999.000,     -999.0,9, -999.00,9, -999.00,9, -999.00,9,     -999.0,9,  -999.0,9, 20130517,     1743,  29.9998,-150.8456,    34.8536,2,     -999.0,9,     -999.0,9,     1.6135,2,     -999.0,1,     -999.0,9,-999.0000, -999.00,-999.000