BOTTLE,20220817CCHSIOAMB
EXPOCODE,SECT_ID,STNNBR,CASTNO,SAMPNO,BTLNBR,BTLNBR_FLAG_W,DATE,TIME,LATITUDE,LONGITUDE,DEPTH,CTDPRS,CTDTMP,CTDSAL,CTDSAL_FLAG_W,SALNTY,SALNTY_FLAG_W,CTDOXY,CTDOXY_FLAG_W,OXYGEN,OXYGEN_FLAG_W,SILCAT,SILCAT_FLAG_W,NITRAT,NITRAT_FLAG_W,NITRIT,NITRIT_FLAG_W,PHSPHT,PHSPHT_FLAG_W,CFC-11,CFC-11_FLAG_W,CFC-12,CFC-12_FLAG_W,CFC113,CFC113_FLAG_W,SF6,SF6_FLAG_W,TCARBN,TCARBN_FLAG_W,ALKALI,ALKALI_FLAG_W,PH_TOT,PH_TOT_FLAG_W,PH_TMP,TRITUM,TRITUM_FLAG_W,HELIUM,HELIUM_FLAG_W,DELHE3,DELHE3_FLAG_W,DELC13,DELC13_FLAG_W,DELC14,DELC14_FLAG_W,C14ERR,NEON,NEON_FLAG_W,NEONER,I-129,I-129_FLAG_W,SR-90,SR-90_FLAG_W,DOC,DOC_FLAG_W,TDN,TDN_FLAG_W,CALCIUM,CALCIUM_FLAG_W,D15N_NO3,D15N_NO3_FLAG_W,BTL_DATE,BTL_TIME,BTL_LAT,BTL_LON,SALTREF,SALTREF_FLAG_W,CS-137,CS-137_FLAG_W,CS-134,CS-134_FLAG_W,REFTMP,REFTMP_FLAG_W,LAB_DEN,LAB_DEN_FLAG_W,D18O_NO3,D18O_NO3_FLAG_W,HELIER,DELHER,TRITER
,,,,,,,,,,,METERS,DBAR,ITS-90,PSS-78,,PSS-78,,UMOL/KG,,UMOL/KG,,UMOL/KG,,UMOL/KG,,UMOL/KG,,UMOL/KG,,PMOL/KG,,PMOL/KG,,PMOL/KG,,FMOL/KG,,UMOL/KG,,UMOL/KG,,,,DEG C,TU,,NMOL/KG,,PERCNT,,/MILLE,,/MILLE,,/MILLE,NMOL/KG,,NMOL/KG,BQ/M^3,,DM/.1MG,,UMOL/KG,,UMOL/KG,,MMOL/KG,,/MILLE,,,,,,G/KG,,BQ/M^3,,BQ/M^3,,ITS-90,,,,/MILLE,,NMOL/KG,PERCNT,TU
318M20130321,       P02W,      32,          1,         36,         36,2,20130414,       0000,    29.9997,   145.1999,       5870,     4.1,  18.0094,  34.7032,2,  34.7019,2,    239.3,2,   240.4,2,    2.24,2,    0.02,2,    0.03,2,    0.05,2,   2.586,2,   1.576,2,   0.215,2,     1.53,2,  2001.4,2, 2277.91,6,   8.0151,2,       25,   0.480,2,   1.7712,2,   -1.02,2, -999.00,9,  -999.0,9,  -999.0,   7.189,2,   0.033,     -999.0,9, -999.00,9, -999.00,9, -999.00,9,     -999.0,9,  -999.0,1, 20130414,      220,  30.0004,  145.199,    34.8655,2,     -999.0,9,     -999.0,9,    18.0159,2,     -999.0,9,     -999.0,1,   0.0074,    0.15,   0.013
318M20130321,       P02W,      32,          1,         35,         35,2,20130414,       0000,    29.9997,   145.1999,       5870,    24.5,  17.9639,   34.702,2,  34.7007,2,    240.1,2,   239.8,2,    2.05,2,    0.02,2,    0.04,2,    0.04,2,   2.572,2,   1.488,2,   0.219,2,     1.57,2,  2000.9,6, 2279.71,2,   8.0152,2,       25,-999.000,9,-999.0000,9, -999.00,9, -999.00,9,  -999.0,9,  -999.0,-999.000,9,-999.000,     -999.0,9, -999.00,9, -999.00,9, -999.00,9,     -999.0,9,  -999.0,1, 20130414,      218,  30.0004, 145.1989,    34.8643,2,     -999.0,9,     -999.0,9,    17.9641,2,     -999.0,9,     -999.0,1,-999.0000, -999.00,-999.000
318M20130321,       P02W,      32,          1,         32,         32,2,20130414,       0000,    29.9997,   145.1999,       5870,    50.2,  17.9267,  34.6997,2,  34.6991,2,    240.5,2,   238.2,2,    2.05,4,    0.11,4,    0.09,4,    0.05,4,   2.565,2,   1.594,2,   0.217,2,     1.55,2,    2002,2, 2279.21,2,   8.0112,6,       25,   0.497,2,   1.7550,2,   -1.31,2, -999.00,9,  -999.0,9,  -999.0,   7.202,2,   0.033,     -999.0,9, -999.00,9, -999.00,9, -999.00,9,     -999.0,9,  -999.0,1, 20130414,      215,  30.0005, 145.1989,    34.8627,2,     -999.0,9,     -999.0,9,    17.9262,2,     -999.0,9,     -999.0,1,   0.0074,    0.15,   0.012
318M20130321,       P02W,      32,          1,         33,         33,2,20130414,       0000,    29.9997,   145.1999,       5870,    50.2,  17.9252,  34.6996,2,-999.0000,9,    240.5,2,  -999.0,9, -999.00,9, -999.00,9, -999.00,9, -999.00,9,-999.000,9,-999.000,9,-999.000,9,-999.0000,9,  -999.0,9, -999.00,9,-999.0000,9,  -999.00,-999.000,9,-999.0000,9, -999.00,9, -999.00,9,  -999.0,9,  -999.0,-999.000,9,-999.000,     -999.0,1, -999.00,1, -999.00,9, -999.00,9,     -999.0,9,  -999.0,9, 20130414,      215,  30.0005, 145.1989,     -999.0,9,     -999.0,1,     -999.0,1,    17.9262,2,     -999.0,9,     -999.0,9,-999.0000, -999.00,-999.000
318M20130321,       P02W,      32,          1,         34,         34,2,20130414,       0000,    29.9997,   145.1999,       5870,    51.1,  17.9273,  34.6998,2,-999.0000,9,    240.5,2,  -999.0,9, -999.00,9, -999.00,9, -999.00,9, -999.00,9,-999.000,9,-999.000,9,-999.000,9,-999.0000,9,  -999.0,9, -999.00,9,-999.0000,9,  -999.00,-999.000,9,-999.0000,9, -999.00,9, -999.00,9,  -999.0,9,  -999.0,-999.000,9,-999.000,     -999.0,9, -999.00,1, -999.00,9, -999.00,9,     -999.0,9,  -999.0,9, 20130414,      215,  30.0005, 145.1989,     -999.0,9,     -999.0,1,     -999.0,1,     17.927,2,     -999.0,9,     -999.0,9,-999.0000, -999.00,-999.000
318M20130321,       P02W,      32,          1,         31,         31,2,20130414,       0000,    29.9997,   145.1999,       5870,    73.5,  17.8664,  34.6973,2,  34.6969,2,    237.8,2,   234.6,2,    2.34,2,    0.33,2,     0.2,2,    0.08,2,   2.597,2,   1.576,2,   0.202,2,     1.68,2,  -999.0,9, -999.00,9,-999.0000,9,  -999.00,-999.000,9,-999.0000,9, -999.00,9, -999.00,9,  -999.0,9,  -999.0,-999.000,9,-999.000,     -999.0,9, -999.00,9, -999.00,9, -999.00,9,     -999.0,9,  -999.0,1, 20130414,      213,  30.0006, 145.1989,    34.8606,2,     -999.0,9,     -999.0,9,    17.8662,2,     -999.0,9,     -999.0,1,-999.0000, -999.00,-999.000
318M20130321,       P02W,      32,          1,         30,         30,2,20130414,       0000,    29.9997,   145.1999,       5870,    99.5,  17.5981,  34.7425,2,  34.7418,2,    231.7,2,     228,2,    2.93,2,    1.84,2,    0.17,2,    0.16,2,   2.591,2,   1.581,2,   0.188,2,     1.52,2,  2015.5,2, 2280.51,2,   7.9889,6,       25,   0.494,2,   1.7454,2,   -1.29,2, -999.00,9,  -999.0,9,  -999.0,   7.186,2,   0.033,     -999.0,9, -999.00,9, -999.00,9, -999.00,9,     -999.0,9,  -999.0,1, 20130414,      211,  30.0006, 145.1989,    34.9056,2,     -999.0,9,     -999.0,9,    17.5975,2,     -999.0,9,     -999.0,1,   0.0073,    0.15,   0.012
318M20130321,       P02W,      32,          1,         29,         29,2,20130414,       0000,    29.9997,   145.1999,       5870,   149.3,  17.3575,  34.7403,2,  34.7388,2,      227,2,   225.5,2,    3.42,2,    2.63,2,    0.05,2,     0.2,2,   2.600,2,   1.574,2,   0.166,2,     1.55,2,  -999.0,9, -999.00,9,-999.0000,9,  -999.00,-999.000,9,-999.0000,9, -999.00,9, -999.00,9,  -999.0,9,  -999.0,-999.000,9,-999.000,     -999.0,9, -999.00,9, -999.00,9, -999.00,9,     -999.0,9,  -999.0,1, 20130414,      208,  30.0004,  145.199,    34.9026,2,     -999.0,9,     -999.0,9,    17.3581,2,     -999.0,9,     -999.0,1,-999.0000, -999.00,-999.000
318M20130321,       P02W,      32,          1,         28,         28,2,20130414,       0000,    29.9997,   145.1999,       5870,   200.4,  17.2171,  34.7344,2,  34.7339,2,    230.1,2,   228.5,2,    3.22,2,    2.56,2,    0.03,2,    0.19,2,   2.615,2,   1.599,2,   0.177,2,     1.59,2,    2020,2, 2278.71,2,   7.9803,2,       25,   0.471,2,   1.7647,2,   -1.11,2, -999.00,9,  -999.0,9,  -999.0,   7.190,2,   0.033,     -999.0,9, -999.00,9, -999.00,9, -999.00,9,     -999.0,9,  -999.0,1, 20130414,      207,  30.0002, 145.1991,    34.8977,2,     -999.0,9,     -999.0,9,    17.2178,2,     -999.0,9,     -999.0,1,   0.0074,    0.15,   0.012
318M20130321,       P02W,      32,          1,         27,         27,2,20130414,       0000,    29.9997,   145.1999,       5870,   250.2,  17.1334,  34.7239,2,  34.7223,2,    224.1,2,   225.8,2,    3.22,2,    2.96,2,    0.02,2,    0.21,2,   2.605,2,   1.586,2,   0.171,2,     1.52,2,  -999.0,9, -999.00,9,-999.0000,9,  -999.00,-999.000,9,-999.0000,9, -999.00,9, -999.00,9,  -999.0,9,  -999.0,-999.000,9,-999.000,     -999.0,9, -999.00,9, -999.00,9, -999.00,9,     -999.0,9,  -999.0,1, 20130414,      205,  29.9999, 145.1992,     34.886,2,     -999.0,9,     -999.0,9,    17.1333,2,     -999.0,9,     -999.0,1,-999.0000, -999.00,-999.000
318M20130321,       P02W,      32,          1,         26,         26,2,20130414,       0000,    29.9997,   145.1999,       5870,   301.4,  16.8691,   34.694,2,  34.6936,2,    208.2,2,   210.3,2,    5.08,2,    4.86,2,    0.02,2,    0.34,2,   2.622,2,   1.574,2,   0.104,2,     1.32,2,  2037.3,2, 2278.41,2,   7.9466,2,       25,   0.474,2,   1.7802,2,   -0.29,2, -999.00,9,  -999.0,9,  -999.0,   7.271,2,   0.033,     -999.0,9, -999.00,9, -999.00,9, -999.00,9,     -999.0,9,  -999.0,1, 20130414,      203,  29.9997, 145.1993,    34.8572,2,     -999.0,9,     -999.0,9,    16.8659,2,     -999.0,9,     -999.0,1,   0.0075,    0.15,   0.012
318M20130321,       P02W,      32,          1,         25,         25,2,20130414,       0000,    29.9997,   145.1999,       5870,   351.9,  16.0672,  34.6294,2,  34.6299,2,    188.9,2,   191.2,2,    8.39,2,    7.94,2,    0.02,2,    0.56,2,-999.000,9,-999.000,9,-999.000,9,-999.0000,9,  -999.0,9, -999.00,9,-999.0000,9,  -999.00,-999.000,9,-999.0000,9, -999.00,9, -999.00,9,  -999.0,9,  -999.0,-999.000,9,-999.000,     -999.0,9, -999.00,9, -999.00,9, -999.00,9,     -999.0,9,  -999.0,1, 20130414,      201,  29.9996, 145.1994,    34.7932,2,     -999.0,9,     -999.0,9,    16.0629,2,     -999.0,9,     -999.0,1,-999.0000, -999.00,-999.000
318M20130321,       P02W,      32,          1,         24,         24,2,20130414,       0000,    29.9997,   145.1999,       5870,   402.4,  15.0494,  34.5639,2,   34.563,2,      185,2,   185.8,2,   11.91,2,   10.12,2,    0.02,2,    0.71,2,   2.739,2,   1.594,2,   0.042,2,     1.21,2,  2076.3,2, 2274.71,2,   7.8633,2,       25,   0.475,2,   1.8190,2,    2.26,2, -999.00,9,  -999.0,9,  -999.0,   7.516,2,   0.035,     -999.0,9, -999.00,9, -999.00,9, -999.00,9,     -999.0,9,  -999.0,1, 20130414,      159,  29.9997, 145.1994,    34.7259,2,     -999.0,9,     -999.0,9,     15.046,2,     -999.0,9,     -999.0,1,   0.0076,    0.15,   0.012
318M20130321,       P02W,      32,          1,         23,         23,2,20130414,       0000,    29.9997,   145.1999,       5870,   498.1,  12.1165,  34.3792,2,  34.3784,2,    172.7,2,   172.9,2,   22.55,2,   15.89,2,    0.02,2,    1.12,2,-999.000,5,-999.000,5,-999.000,5,-999.0000,5,  2119.9,2, 2276.71,2,   7.7671,2,       25,   0.475,2,   1.8306,2,    4.73,2, -999.00,9,  -999.0,9,  -999.0,   7.647,2,   0.035,     -999.0,9, -999.00,9, -999.00,9, -999.00,9,     -999.0,9,  -999.0,1, 20130414,      157,  29.9998, 145.1994,    34.5405,2,     -999.0,9,     -999.0,9,    12.1068,2,     -999.0,9,     -999.0,1,   0.0077,    0.15,   0.012
318M20130321,       P02W,      32,          1,         22,         38,4,20130414,       0000,    29.9997,   145.1999,       5870,     600,   8.3075,   34.137,2,   34.155,4,    164.3,2,   123.5,4,   72.16,4,   31.14,4,    0.01,4,    2.24,4,   0.101,4,   0.063,4,  -0.002,4,        0,4,  2256.1,4, 2308.82,4,   7.5193,2,       25,   0.287,4,   1.9280,3,   16.54,3, -999.00,9,  -999.0,9,  -999.0,   8.266,3,   0.038,     -999.0,9, -999.00,9, -999.00,9, -999.00,9,     -999.0,9,  -999.0,1, 20130414,      154,  29.9998, 145.1994,    34.3161,4,     -999.0,9,     -999.0,9,     8.3024,2,     -999.0,9,     -999.0,1,   0.0081,    0.15,   0.012
318M20130321,       P02W,      32,          1,         21,         21,2,20130414,       0000,    29.9997,   145.1999,       5870,   700.9,   5.9866,  34.0449,2,  34.0456,2,      128,2,   127.6,2,   65.53,2,   30.85,2,    0.01,2,    2.25,2,-999.000,9,-999.000,9,-999.000,9,-999.0000,9,  -999.0,9, -999.00,9,-999.0000,9,  -999.00,-999.000,9,-999.0000,9, -999.00,9, -999.00,9,  -999.0,9,  -999.0,-999.000,9,-999.000,     -999.0,9, -999.00,9, -999.00,9, -999.00,9,     -999.0,9,  -999.0,1, 20130414,      151,       30, 145.1994,    34.2062,2,     -999.0,9,     -999.0,9,     5.9822,2,     -999.0,9,     -999.0,1,-999.0000, -999.00,-999.000
318M20130321,       P02W,      32,          1,         20,         20,2,20130414,       0000,    29.9997,   145.1999,       5870,   803.7,   4.9111,  34.1025,2,  34.1019,2,     86.8,2,    86.1,2,   86.13,2,    36.4,2,    0.01,2,    2.65,2,   2.920,2,   1.635,2,   0.042,2,     1.21,2,  2281.9,2, 2312.62,2,   7.4126,2,       25,   0.244,2,   1.9239,2,   14.22,2, -999.00,9,  -999.0,9,  -999.0,   8.190,2,   0.038,     -999.0,9, -999.00,9, -999.00,9, -999.00,9,     -999.0,9,  -999.0,1, 20130414,      148,  30.0002, 145.1995,    34.2627,2,     -999.0,9,     -999.0,9,     4.9108,2,     -999.0,9,     -999.0,1,   0.0081,    0.15,   0.012
318M20130321,       P02W,      32,          1,         19,         19,2,20130414,       0000,    29.9997,   145.1999,       5870,   904.6,   4.3346,  34.1855,2,   34.186,2,     59.1,2,      63,2,  102.23,2,   39.15,2,       0,2,    2.83,2,   1.052,2,   0.561,2,   0.056,2,     0.27,2,  2309.9,2, 2330.63,2,   7.3692,6,       25,   0.181,2,   1.9235,2,   15.14,2, -999.00,9,  -999.0,9,  -999.0,   8.274,2,   0.038,     -999.0,9, -999.00,9, -999.00,9, -999.00,9,     -999.0,9,  -999.0,1, 20130414,      146,  30.0003, 145.1994,    34.3472,2,     -999.0,9,     -999.0,9,     4.3342,2,     -999.0,9,     -999.0,1,   0.0081,    0.15,   0.012
318M20130321,       P02W,      32,          1,         18,         18,2,20130414,       0000,    29.9997,   145.1999,       5870,  1006.7,   3.8447,  34.2721,2,  34.2748,2,     47.1,2,    47.2,2,  117.46,2,   41.09,2,       0,2,    2.97,2,   0.554,2,   0.297,2,   0.021,2,     0.14,2,  2334.6,2, 2347.13,2,   7.3463,2,       25,   0.113,2,   1.9488,2,   16.30,2, -999.00,9,  -999.0,9,  -999.0,   8.319,2,   0.038,     -999.0,9, -999.00,9, -999.00,9, -999.00,9,     -999.0,9,  -999.0,1, 20130414,      143,  30.0005, 145.1994,    34.4364,2,     -999.0,9,     -999.0,9,      3.848,2,     -999.0,9,     -999.0,1,   0.0082,    0.15,   0.012
318M20130321,       P02W,      32,          1,         17,         17,2,20130414,       0000,    29.9997,   145.1999,       5870,  1107.7,   3.4463,  34.3413,2,  34.3411,2,     40.6,2,    39.9,2,  128.58,2,   42.11,2,       0,2,    3.04,2,-999.000,9,-999.000,9,-999.000,9,-999.0000,9,  2351.4,2, 2363.84,2,   7.3389,2,       25,-999.000,9,-999.0000,9, -999.00,9, -999.00,9,  -999.0,9,  -999.0,-999.000,9,-999.000,     -999.0,9, -999.00,9, -999.00,9, -999.00,9,     -999.0,9,  -999.0,1, 20130414,      140,  30.0007, 145.1993,    34.5031,2,     -999.0,9,     -999.0,9,     3.4476,2,     -999.0,9,     -999.0,1,-999.0000, -999.00,-999.000
318M20130321,       P02W,      32,          1,         16,         16,2,20130414,       0000,    29.9997,   145.1999,       5870,    1210,   3.2084,  34.3834,2,  34.3837,2,     37.8,2,    37.7,2,  135.41,2,   42.67,2,       0,2,    3.08,2,   0.177,2,   0.101,2,   0.002,2,     0.08,2,  2360.4,2, 2369.84,2,   7.3383,2,       25,   0.055,2,   1.9199,2,   17.34,2, -999.00,9,  -999.0,9,  -999.0,   8.197,2,   0.038,     -999.0,9, -999.00,9, -999.00,9, -999.00,9,     -999.0,9,  -999.0,1, 20130414,      137,  30.0008, 145.1993,    34.5458,2,     -999.0,9,     -999.0,9,     3.2082,2,     -999.0,9,     -999.0,1,   0.0081,    0.15,   0.012
318M20130321,       P02W,      32,          1,         15,         15,2,20130414,       0000,    29.9997,   145.1999,       5870,  1310.8,   2.9521,  34.4345,2,  34.4334,2,     38.5,2,    38.7,2,  142.04,2,   42.91,2,       0,2,    3.08,2,-999.000,9,-999.000,9,-999.000,9,-999.0000,9,  -999.0,9, -999.00,9,-999.0000,9,  -999.00,-999.000,9,-999.0000,9, -999.00,9, -999.00,9,  -999.0,9,  -999.0,-999.000,9,-999.000,     -999.0,9, -999.00,9, -999.00,9, -999.00,9,     -999.0,9,  -999.0,1, 20130414,      134,  30.0008, 145.1994,    34.5957,2,     -999.0,9,     -999.0,9,     2.9513,2,     -999.0,9,     -999.0,1,-999.0000, -999.00,-999.000
318M20130321,       P02W,      32,          1,         14,         14,2,20130414,       0000,    29.9997,   145.1999,       5870,  1311.2,   2.9527,  34.4342,2,  34.4332,2,     38.5,2,    39.2,2,  141.65,2,   42.89,2,       0,2,    3.08,2,   0.085,2,   0.050,2,   0.026,2,        0,2,  2366.5,2, 2380.75,2,   7.3441,2,       25,   0.016,2,   1.9231,2,   17.82,2, -999.00,9,  -999.0,9,  -999.0,   8.191,2,   0.038,     -999.0,9, -999.00,9, -999.00,9, -999.00,9,     -999.0,9,  -999.0,1, 20130414,      134,  30.0007, 145.1994,    34.5955,2,     -999.0,9,     -999.0,9,     2.9526,2,     -999.0,9,     -999.0,1,   0.0081,    0.15,   0.010
318M20130321,       P02W,      32,          1,         13,         13,2,20130414,       0000,    29.9997,   145.1999,       5870,  1413.8,   2.7326,  34.4734,2,  34.4734,2,     42.5,2,    42.9,2,  147.21,2,   42.85,2,       0,2,    3.07,2,-999.000,9,-999.000,9,-999.000,9,-999.0000,9,  2368.5,2, 2386.35,2,   7.3554,2,       25,-999.000,9,-999.0000,9, -999.00,9, -999.00,9,  -999.0,9,  -999.0,-999.000,9,-999.000,     -999.0,9, -999.00,9, -999.00,9, -999.00,9,     -999.0,9,  -999.0,1, 20130414,      131,  30.0006, 145.1995,     34.636,2,     -999.0,9,     -999.0,9,     2.7329,2,     -999.0,9,     -999.0,1,-999.0000, -999.00,-999.000
318M20130321,       P02W,      32,          1,         12,         12,2,20130414,       0000,    29.9997,   145.1999,       5870,  1515.2,    2.537,  34.5088,2,  34.5091,2,     49.8,2,    49.7,2,  152.87,2,   42.52,2,       0,2,    3.05,2,   0.035,2,   0.133,2,  -0.003,2,        0,2,  2371.6,2, 2395.55,2,   7.3725,2,       25,   0.000,2,   1.9198,2,   18.74,2, -999.00,9,  -999.0,9,  -999.0,   8.174,2,   0.038,     -999.0,9, -999.00,9, -999.00,9, -999.00,9,     -999.0,9,  -999.0,1, 20130414,      128,  30.0005, 145.1997,    34.6719,2,     -999.0,9,     -999.0,9,     2.5367,2,     -999.0,9,     -999.0,1,   0.0081,    0.15,   0.010
318M20130321,       P02W,      32,          1,         11,         11,2,20130414,       0000,    29.9997,   145.1999,       5870,  1620.7,   2.3821,  34.5319,2,  34.5309,2,     55.7,2,    54.3,2,   155.7,2,   42.32,2,       0,2,    3.03,2,-999.000,9,-999.000,9,-999.000,9,-999.0000,9,  2371.6,2, 2400.15,2,   7.3826,2,       25,-999.000,9,-999.0000,9, -999.00,9, -999.00,9,  -999.0,9,  -999.0,-999.000,9,-999.000,     -999.0,9, -999.00,9, -999.00,9, -999.00,9,     -999.0,9,  -999.0,1, 20130414,      125,  30.0006, 145.1996,    34.6938,2,     -999.0,9,     -999.0,9,     2.3818,2,     -999.0,9,     -999.0,1,-999.0000, -999.00,-999.000
318M20130321,       P02W,      32,          1,         10,         10,2,20130414,       0000,    29.9997,   145.1999,       5870,  1810.2,    2.078,   34.573,2,  34.5726,2,     63.9,2,      65,2,  163.02,2,   41.78,2,       0,2,    2.97,2,   0.006,2,   0.014,2,   0.001,2,     0.04,2,  2373.1,2, 2407.96,2,    7.403,2,       25,  -0.010,2,   1.9393,2,   19.30,2, -999.00,9,  -999.0,9,  -999.0,   8.371,2,   0.039,     -999.0,9, -999.00,9, -999.00,9, -999.00,9,     -999.0,9,  -999.0,1, 20130414,      121,   30.001, 145.1994,    34.7356,2,     -999.0,9,     -999.0,9,     2.0781,2,     -999.0,9,     -999.0,1,   0.0081,    0.15,   0.010
318M20130321,       P02W,      32,          1,          9,          9,2,20130414,       0000,    29.9997,   145.1999,       5870,  2016.4,   1.9433,  34.6036,2,  34.6034,2,     87.1,2,    87.6,2,  157.94,2,   40.29,2,       0,2,    2.87,2,   0.010,2,   0.013,2,   0.008,2,     0.09,2,  2359.8,2, 2408.46,2,   7.4501,2,       25,  -0.006,2,   1.9335,2,   19.80,2, -999.00,9,  -999.0,9,  -999.0,   8.268,2,   0.038,     -999.0,9, -999.00,9, -999.00,9, -999.00,9,     -999.0,9,  -999.0,1, 20130414,      116,       30, 145.1998,    34.7666,2,     -999.0,9,     -999.0,9,      1.943,2,     -999.0,9,     -999.0,1,   0.0081,    0.15,   0.011
318M20130321,       P02W,      32,          1,          8,          8,2,20130414,       0000,    29.9997,   145.1999,       5870,  2426.4,   1.7369,  34.6377,2,  34.6366,2,    111.8,2,   111.7,2,  154.81,2,   38.77,2,       0,2,    2.74,2,   0.006,2,   0.018,2,   0.000,2,     0.07,2,  2346.5,2, 2411.56,2,    7.497,2,       25,-999.000,9,-999.0000,9, -999.00,9, -999.00,9,  -999.0,9,  -999.0,-999.000,9,-999.000,     -999.0,9, -999.00,9, -999.00,9, -999.00,9,     -999.0,9,  -999.0,1, 20130414,      108,  29.9997,    145.2,    34.7999,2,     -999.0,9,     -999.0,9,     1.7369,2,     -999.0,9,     -999.0,1,-999.0000, -999.00,-999.000