BOTTLE,20220817CCHSIOAMB
EXPOCODE,SECT_ID,STNNBR,CASTNO,SAMPNO,BTLNBR,BTLNBR_FLAG_W,DATE,TIME,LATITUDE,LONGITUDE,DEPTH,CTDPRS,CTDTMP,CTDSAL,CTDSAL_FLAG_W,SALNTY,SALNTY_FLAG_W,CTDOXY,CTDOXY_FLAG_W,OXYGEN,OXYGEN_FLAG_W,SILCAT,SILCAT_FLAG_W,NITRAT,NITRAT_FLAG_W,NITRIT,NITRIT_FLAG_W,PHSPHT,PHSPHT_FLAG_W,CFC-11,CFC-11_FLAG_W,CFC-12,CFC-12_FLAG_W,CFC113,CFC113_FLAG_W,SF6,SF6_FLAG_W,TCARBN,TCARBN_FLAG_W,ALKALI,ALKALI_FLAG_W,PH_TOT,PH_TOT_FLAG_W,PH_TMP,TRITUM,TRITUM_FLAG_W,HELIUM,HELIUM_FLAG_W,DELHE3,DELHE3_FLAG_W,DELC13,DELC13_FLAG_W,DELC14,DELC14_FLAG_W,C14ERR,NEON,NEON_FLAG_W,NEONER,I-129,I-129_FLAG_W,SR-90,SR-90_FLAG_W,DOC,DOC_FLAG_W,TDN,TDN_FLAG_W,CALCIUM,CALCIUM_FLAG_W,D15N_NO3,D15N_NO3_FLAG_W,BTL_DATE,BTL_TIME,BTL_LAT,BTL_LON,SALTREF,SALTREF_FLAG_W,CS-137,CS-137_FLAG_W,CS-134,CS-134_FLAG_W,REFTMP,REFTMP_FLAG_W,LAB_DEN,LAB_DEN_FLAG_W,D18O_NO3,D18O_NO3_FLAG_W,HELIER,DELHER,TRITER
,,,,,,,,,,,METERS,DBAR,ITS-90,PSS-78,,PSS-78,,UMOL/KG,,UMOL/KG,,UMOL/KG,,UMOL/KG,,UMOL/KG,,UMOL/KG,,PMOL/KG,,PMOL/KG,,PMOL/KG,,FMOL/KG,,UMOL/KG,,UMOL/KG,,,,DEG C,TU,,NMOL/KG,,PERCNT,,/MILLE,,/MILLE,,/MILLE,NMOL/KG,,NMOL/KG,BQ/M^3,,DM/.1MG,,UMOL/KG,,UMOL/KG,,MMOL/KG,,/MILLE,,,,,,G/KG,,BQ/M^3,,BQ/M^3,,ITS-90,,,,/MILLE,,NMOL/KG,PERCNT,TU
318M20130321,       P02W,      17,          1,          7,          7,2,20130410,       0223,    29.9997,     136.32,       4284,  2787.9,   1.6587,  34.6551,2,  34.6562,2,    135.8,2,   135.8,2,  144.36,2,   36.82,2,       0,2,     2.6,2,-999.000,9,-999.000,9,-999.000,9,-999.0000,9,  2330.1,2, 2410.36,2,   7.5406,2,       25,-999.000,9,-999.0000,9, -999.00,9,    0.07,3,  -223.4,2,     2.4,-999.000,9,-999.000,     -999.0,9, -999.00,9,   34.91,2, -999.00,9,     -999.0,9,  -999.0,1, 20130410,      258,  29.9995, 136.3198,    34.8196,2,     -999.0,9,     -999.0,9,     1.6586,2,     -999.0,9,     -999.0,1,-999.0000, -999.00,-999.000
318M20130321,       P02W,      17,          1,          6,          6,2,20130410,       0223,    29.9997,     136.32,       4284,  3035.7,   1.5836,  34.6665,2,  34.6696,3,    143.9,2,   142.9,2,  143.09,2,   36.38,2,       0,2,    2.58,2,   0.021,2,   0.019,2,   0.003,2,     0.06,2,  2325.7,2, 2411.46,6,   7.5543,2,       25,-999.000,9,-999.0000,9, -999.00,9,   -0.01,3,  -217.7,2,     2.3,-999.000,9,-999.000,     -999.0,9, -999.00,9, -999.00,9, -999.00,9,     -999.0,9,  -999.0,1, 20130410,      253,  29.9997, 136.3197,    34.8331,3,     -999.0,9,     -999.0,9,     1.5839,2,     -999.0,9,     -999.0,1,-999.0000, -999.00,-999.000
318M20130321,       P02W,      17,          1,          5,         37,2,20130410,       0223,    29.9997,     136.32,       4284,    3344,   1.5267,  34.6759,2,  34.6771,2,    147.9,2,   149.4,2,  142.41,2,   35.97,2,       0,2,    2.54,2,-999.000,9,-999.000,9,-999.000,9,-999.0000,9,  2321.1,2, 2411.46,2,   7.5639,2,       25,-999.000,9,-999.0000,9, -999.00,9,    0.12,2,  -219.5,2,     2.1,-999.000,9,-999.000,     -999.0,9, -999.00,9,   35.22,2, -999.00,9,     -999.0,9,  -999.0,1, 20130410,      246,       30, 136.3196,    34.8406,2,     -999.0,9,     -999.0,9,     1.5269,2,     -999.0,9,     -999.0,1,-999.0000, -999.00,-999.000
318M20130321,       P02W,      17,          1,          4,          4,2,20130410,       0223,    29.9997,     136.32,       4284,  3654.1,   1.5163,  34.6805,2,  34.6816,2,    151.8,2,   152.7,2,  142.02,2,   35.81,2,       0,2,    2.52,2,   0.022,2,   0.019,2,   0.000,2,     0.04,2,  2320.2,2, 2411.36,2,   7.5694,6,       25,-999.000,9,-999.0000,9, -999.00,9,    0.16,2,  -216.0,2,     2.2,-999.000,9,-999.000,     -999.0,9, -999.00,9, -999.00,9, -999.00,9,     -999.0,9,  -999.0,1, 20130410,      239,  30.0002, 136.3195,    34.8451,2,     -999.0,9,     -999.0,9,     1.5165,2,     -999.0,9,     -999.0,1,-999.0000, -999.00,-999.000
318M20130321,       P02W,      17,          1,          3,          3,2,20130410,       0223,    29.9997,     136.32,       4284,  3960.9,   1.5346,   34.682,2,   34.682,2,    153.4,2,   154.2,2,  141.92,2,   35.71,2,       0,2,    2.51,2,-999.000,9,-999.000,9,-999.000,9,-999.0000,9,  2320.5,2, 2412.96,2,   7.5717,2,       25,-999.000,9,-999.0000,9, -999.00,9,    0.17,2,  -212.6,2,     2.1,-999.000,9,-999.000,     -999.0,9, -999.00,9,   35.33,2, -999.00,9,     -999.0,9,  -999.0,1, 20130410,      233,  30.0001, 136.3194,    34.8455,2,     -999.0,9,     -999.0,9,     1.5346,2,     -999.0,9,     -999.0,1,-999.0000, -999.00,-999.000
318M20130321,       P02W,      17,          1,          2,          2,2,20130410,       0223,    29.9997,     136.32,       4284,  4138.8,    1.547,  34.6828,2,  34.6828,2,    155.6,2,   155.2,2,  141.63,2,   35.65,2,       0,2,     2.5,2,   0.015,2,   0.012,2,   0.003,2,     0.03,2,  2320.5,2, 2412.56,2,   7.5732,2,       25,-999.000,9,-999.0000,9, -999.00,9,    0.21,2,  -215.7,2,     2.6,-999.000,9,-999.000,     -999.0,9, -999.00,9,   35.76,2, -999.00,9,     -999.0,9,  -999.0,1, 20130410,      228,  30.0001, 136.3197,    34.8463,2,     -999.0,9,     -999.0,9,     1.5468,2,     -999.0,9,     -999.0,1,-999.0000, -999.00,-999.000
318M20130321,       P02W,      17,          1,          1,          1,2,20130410,       0223,    29.9997,     136.32,       4284,  4344.6,   1.5651,  34.6831,2,  34.6844,2,    155.3,2,   154.6,2,  141.63,2,   35.62,2,       0,2,     2.5,2,-999.000,9,-999.000,9,-999.000,9,-999.0000,9,  2321.6,6, 2413.46,2,   7.5735,2,       25,-999.000,9,-999.0000,9, -999.00,9,    0.20,2,  -212.8,2,     2.1,-999.000,9,-999.000,     -999.0,9, -999.00,9,    35.9,2, -999.00,9,     -999.0,9,  -999.0,1, 20130410,      223,  29.9998,   136.32,    34.8479,2,     -999.0,9,     -999.0,9,     1.5648,2,     -999.0,9,     -999.0,1,-999.0000, -999.00,-999.000