BOTTLE,20220817CCHSIOAMB
EXPOCODE,SECT_ID,STNNBR,CASTNO,SAMPNO,BTLNBR,BTLNBR_FLAG_W,DATE,TIME,LATITUDE,LONGITUDE,DEPTH,CTDPRS,CTDTMP,CTDSAL,CTDSAL_FLAG_W,SALNTY,SALNTY_FLAG_W,CTDOXY,CTDOXY_FLAG_W,OXYGEN,OXYGEN_FLAG_W,SILCAT,SILCAT_FLAG_W,NITRAT,NITRAT_FLAG_W,NITRIT,NITRIT_FLAG_W,PHSPHT,PHSPHT_FLAG_W,CFC-11,CFC-11_FLAG_W,CFC-12,CFC-12_FLAG_W,CFC113,CFC113_FLAG_W,SF6,SF6_FLAG_W,TCARBN,TCARBN_FLAG_W,ALKALI,ALKALI_FLAG_W,PH_TOT,PH_TOT_FLAG_W,PH_TMP,TRITUM,TRITUM_FLAG_W,HELIUM,HELIUM_FLAG_W,DELHE3,DELHE3_FLAG_W,DELC13,DELC13_FLAG_W,DELC14,DELC14_FLAG_W,C14ERR,NEON,NEON_FLAG_W,NEONER,I-129,I-129_FLAG_W,SR-90,SR-90_FLAG_W,DOC,DOC_FLAG_W,TDN,TDN_FLAG_W,CALCIUM,CALCIUM_FLAG_W,D15N_NO3,D15N_NO3_FLAG_W,BTL_DATE,BTL_TIME,BTL_LAT,BTL_LON,SALTREF,SALTREF_FLAG_W,CS-137,CS-137_FLAG_W,CS-134,CS-134_FLAG_W,REFTMP,REFTMP_FLAG_W,LAB_DEN,LAB_DEN_FLAG_W,D18O_NO3,D18O_NO3_FLAG_W,HELIER,DELHER,TRITER
,,,,,,,,,,,METERS,DBAR,ITS-90,PSS-78,,PSS-78,,UMOL/KG,,UMOL/KG,,UMOL/KG,,UMOL/KG,,UMOL/KG,,UMOL/KG,,PMOL/KG,,PMOL/KG,,PMOL/KG,,FMOL/KG,,UMOL/KG,,UMOL/KG,,,,DEG C,TU,,NMOL/KG,,PERCNT,,/MILLE,,/MILLE,,/MILLE,NMOL/KG,,NMOL/KG,BQ/M^3,,DM/.1MG,,UMOL/KG,,UMOL/KG,,MMOL/KG,,/MILLE,,,,,,G/KG,,BQ/M^3,,BQ/M^3,,ITS-90,,,,/MILLE,,NMOL/KG,PERCNT,TU
318M20130321,       P02W,      30,          1,          7,          7,4,20130413,       0810,    30.0002,   143.7699,       5491,    3441,    1.493,  34.6748,2,  34.3715,4,      142,2,    39.8,4,  133.43,4,   42.18,4,       0,4,    3.04,4,-999.000,9,-999.000,9,-999.000,9,-999.0000,9,  -999.0,9, -999.00,9,-999.0000,9,  -999.00,-999.000,9,-999.0000,9, -999.00,9, -999.00,9,  -999.0,9,  -999.0,-999.000,9,-999.000,     -999.0,9, -999.00,9, -999.00,9, -999.00,9,     -999.0,9,  -999.0,9, 20130413,      856,  29.9996, 143.7699,    34.5336,4,     -999.0,9,     -999.0,9,     1.4928,2,     -999.0,9,     -999.0,9,-999.0000, -999.00,-999.000
318M20130321,       P02W,      30,          1,          6,          6,2,20130413,       0810,    30.0002,   143.7699,       5491,  3787.6,   1.4616,  34.6816,2,   34.682,2,    148.3,2,   148.7,2,   150.9,2,   36.18,2,       0,2,    2.54,2,   0.005,2,   0.021,2,   0.000,2,        0,2,  2324.3,2, 2412.36,6,   7.5629,2,       25,-999.000,9,-999.0000,9, -999.00,9, -999.00,9,  -999.0,9,  -999.0,-999.000,9,-999.000,     -999.0,9, -999.00,9, -999.00,9, -999.00,9,     -999.0,9,  -999.0,9, 20130413,      849,  30.0001, 143.7697,    34.8455,2,     -999.0,9,     -999.0,9,     1.4615,2,     -999.0,9,     -999.0,9,-999.0000, -999.00,-999.000
318M20130321,       P02W,      30,          1,          5,         37,4,20130413,       0810,    30.0002,   143.7699,       5491,  4200.4,   1.4535,  34.6867,2,  34.3727,4,    156.4,2,    39.6,4,  133.62,4,   42.23,4,       0,4,    3.04,4,-999.000,9,-999.000,9,-999.000,9,-999.0000,9,  -999.0,9, -999.00,9,-999.0000,9,  -999.00,-999.000,9,-999.0000,9, -999.00,9, -999.00,9,  -999.0,9,  -999.0,-999.000,9,-999.000,     -999.0,9, -999.00,9, -999.00,9, -999.00,9,     -999.0,9,  -999.0,9, 20130413,      841,  29.9998, 143.7698,    34.5348,4,     -999.0,9,     -999.0,9,     1.4534,2,     -999.0,9,     -999.0,9,-999.0000, -999.00,-999.000
318M20130321,       P02W,      30,          1,          4,          4,4,20130413,       0810,    30.0002,   143.7699,       5491,  4614.8,   1.4679,  34.6901,2,  34.6494,4,    161.1,2,   115.7,4,  158.22,4,   38.39,4,       0,4,    2.69,4,   0.006,4,   0.010,4,   0.000,4,     0.11,4,  -999.0,9, -999.00,9,-999.0000,9,  -999.00,-999.000,9,-999.0000,9, -999.00,9, -999.00,9,  -999.0,9,  -999.0,-999.000,9,-999.000,     -999.0,9, -999.00,9, -999.00,9, -999.00,9,     -999.0,9,  -999.0,9, 20130413,      832,  29.9998,   143.77,    34.8127,4,     -999.0,9,     -999.0,9,     1.4683,2,     -999.0,9,     -999.0,9,-999.0000, -999.00,-999.000
318M20130321,       P02W,      30,          1,          3,          3,2,20130413,       0810,    30.0002,   143.7699,       5491,  5028.1,   1.4983,  34.6921,2,  34.6926,2,    162.3,2,     163,2,  144.26,2,   35.19,2,       0,2,    2.45,2,-999.000,9,-999.000,9,-999.000,9,-999.0000,9,  2314.5,6, 2409.66,2,   7.5823,2,       25,-999.000,9,-999.0000,9, -999.00,9, -999.00,9,  -999.0,9,  -999.0,-999.000,9,-999.000,     -999.0,9, -999.00,9, -999.00,9, -999.00,9,     -999.0,9,  -999.0,9, 20130413,      824,  29.9999, 143.7702,    34.8562,2,     -999.0,9,     -999.0,9,     1.4982,2,     -999.0,9,     -999.0,9,-999.0000, -999.00,-999.000
318M20130321,       P02W,      30,          1,          2,          2,2,20130413,       0810,    30.0002,   143.7699,       5491,  5390.6,   1.5371,  34.6926,2,   34.693,2,    164.8,2,   164.6,2,   142.5,2,   35.12,2,       0,2,    2.44,2,   0.040,2,   0.039,2,   0.000,2,        0,2,  2312.8,2, 2406.45,2,   7.5839,6,       25,-999.000,9,-999.0000,9, -999.00,9, -999.00,9,  -999.0,9,  -999.0,-999.000,9,-999.000,     -999.0,9, -999.00,9, -999.00,9, -999.00,9,     -999.0,9,  -999.0,9, 20130413,      815,  30.0002,   143.77,    34.8566,2,     -999.0,9,     -999.0,9,      1.537,2,     -999.0,9,     -999.0,9,-999.0000, -999.00,-999.000
318M20130321,       P02W,      30,          1,          1,          1,4,20130413,       0810,    30.0002,   143.7699,       5491,  5605.2,   1.5627,  34.6928,2,  34.6722,4,    166.5,2,     137,4,  153.73,4,   36.99,4,       0,4,    2.59,4,-999.000,9,-999.000,9,-999.000,9,-999.0000,9,  2333.8,4, 2413.76,4,-999.0000,5,  -999.00,-999.000,9,-999.0000,9, -999.00,9, -999.00,9,  -999.0,9,  -999.0,-999.000,9,-999.000,     -999.0,9, -999.00,9, -999.00,9, -999.00,9,     -999.0,9,  -999.0,9, 20130413,      810,  30.0002,   143.77,    34.8357,4,     -999.0,9,     -999.0,9,     1.5627,2,     -999.0,9,     -999.0,9,-999.0000, -999.00,-999.000