BOTTLE,20220817CCHSIOAMB
EXPOCODE,SECT_ID,STNNBR,CASTNO,SAMPNO,BTLNBR,BTLNBR_FLAG_W,DATE,TIME,LATITUDE,LONGITUDE,DEPTH,CTDPRS,CTDTMP,CTDSAL,CTDSAL_FLAG_W,SALNTY,SALNTY_FLAG_W,CTDOXY,CTDOXY_FLAG_W,OXYGEN,OXYGEN_FLAG_W,SILCAT,SILCAT_FLAG_W,NITRAT,NITRAT_FLAG_W,NITRIT,NITRIT_FLAG_W,PHSPHT,PHSPHT_FLAG_W,CFC-11,CFC-11_FLAG_W,CFC-12,CFC-12_FLAG_W,CFC113,CFC113_FLAG_W,SF6,SF6_FLAG_W,TCARBN,TCARBN_FLAG_W,ALKALI,ALKALI_FLAG_W,PH_TOT,PH_TOT_FLAG_W,PH_TMP,TRITUM,TRITUM_FLAG_W,HELIUM,HELIUM_FLAG_W,DELHE3,DELHE3_FLAG_W,DELC13,DELC13_FLAG_W,DELC14,DELC14_FLAG_W,C14ERR,NEON,NEON_FLAG_W,NEONER,I-129,I-129_FLAG_W,SR-90,SR-90_FLAG_W,DOC,DOC_FLAG_W,TDN,TDN_FLAG_W,CALCIUM,CALCIUM_FLAG_W,D15N_NO3,D15N_NO3_FLAG_W,BTL_DATE,BTL_TIME,BTL_LAT,BTL_LON,SALTREF,SALTREF_FLAG_W,CS-137,CS-137_FLAG_W,CS-134,CS-134_FLAG_W,REFTMP,REFTMP_FLAG_W,LAB_DEN,LAB_DEN_FLAG_W,D18O_NO3,D18O_NO3_FLAG_W,HELIER,DELHER,TRITER
,,,,,,,,,,,METERS,DBAR,ITS-90,PSS-78,,PSS-78,,UMOL/KG,,UMOL/KG,,UMOL/KG,,UMOL/KG,,UMOL/KG,,UMOL/KG,,PMOL/KG,,PMOL/KG,,PMOL/KG,,FMOL/KG,,UMOL/KG,,UMOL/KG,,,,DEG C,TU,,NMOL/KG,,PERCNT,,/MILLE,,/MILLE,,/MILLE,NMOL/KG,,NMOL/KG,BQ/M^3,,DM/.1MG,,UMOL/KG,,UMOL/KG,,MMOL/KG,,/MILLE,,,,,,G/KG,,BQ/M^3,,BQ/M^3,,ITS-90,,,,/MILLE,,NMOL/KG,PERCNT,TU
318M20130321,       P02E,     133,          1,          5,         37,2,20130526,       1535,    30.0004,  -129.5237,       4700,  3792.6,    1.487,  34.6819,2,  34.6822,2,    138.2,2,   138.5,2,  165.74,2,   37.01,2,       0,2,    2.58,2,   0.000,2,   0.009,2,-999.000,1,        0,2,  -999.0,9, -999.00,9,-999.0000,9,  -999.00,-999.000,9,-999.0000,9, -999.00,9, -999.00,9,  -999.0,9,  -999.0,-999.000,9,-999.000,     -999.0,9, -999.00,9,   37.12,2, -999.00,9,     -999.0,9,  -999.0,9, 20130526,     1556,  29.9995,-129.5225,    34.8457,2,     -999.0,9,     -999.0,9,     1.4868,2,     -999.0,9,     -999.0,9,-999.0000, -999.00,-999.000
318M20130321,       P02E,     133,          1,          4,          4,2,20130526,       1535,    30.0004,  -129.5237,       4700,  4199.4,   1.5132,  34.6843,2,  34.6838,2,      142,2,   142.4,2,  163.98,2,   36.79,2,       0,2,    2.57,2,   0.000,2,   0.009,2,-999.000,1,        0,2,  2338.2,2, 2427.46,2,   7.5617,2,       25,-999.000,9,-999.0000,9, -999.00,9, -999.00,9,  -999.0,9,  -999.0,-999.000,9,-999.000,     -999.0,9, -999.00,9,   37.32,2, -999.00,9,     -999.0,9,  -999.0,9, 20130526,     1548,  29.9993, -129.522,    34.8473,2,     -999.0,9,     -999.0,9,     1.5132,2,     -999.0,9,     -999.0,9,-999.0000, -999.00,-999.000
318M20130321,       P02E,     133,          1,          3,          3,2,20130526,       1535,    30.0004,  -129.5237,       4700,  4607.8,   1.5572,  34.6849,2,   34.685,2,    143.1,2,   143.4,2,  164.08,2,   36.73,2,       0,2,    2.56,2,   0.002,2,   0.009,2,-999.000,1,        0,2,  -999.0,9, -999.00,9,-999.0000,9,  -999.00,-999.000,9,-999.0000,9, -999.00,9, -999.00,9,  -999.0,9,  -999.0,-999.000,9,-999.000,     -999.0,9, -999.00,9,    36.4,2, -999.00,9,     -999.0,9,  -999.0,9, 20130526,     1541,  29.9996,-129.5228,    34.8485,2,     -999.0,9,     -999.0,9,     1.5568,2,     -999.0,9,     -999.0,9,-999.0000, -999.00,-999.000
318M20130321,       P02E,     133,          1,          2,          2,2,20130526,       1535,    30.0004,  -129.5237,       4700,  4809.9,   1.5816,  34.6848,2,  34.6842,2,    143.5,2,   143.1,2,  163.78,2,   36.73,2,       0,2,    2.56,2,   0.003,2,   0.009,2,-999.000,1,        0,2,  2337.9,6, 2428.66,6,   7.5638,2,       25,-999.000,9,-999.0000,9, -999.00,9, -999.00,9,  -999.0,9,  -999.0,-999.000,9,-999.000,     -999.0,9, -999.00,9,   38.55,2, -999.00,9,     -999.0,9,  -999.0,9, 20130526,     1536,  30.0003,-129.5236,    34.8477,2,     -999.0,9,     -999.0,9,     1.5811,2,     -999.0,9,     -999.0,9,-999.0000, -999.00,-999.000