BOTTLE,20220817CCHSIOAMB
EXPOCODE,SECT_ID,STNNBR,CASTNO,SAMPNO,BTLNBR,BTLNBR_FLAG_W,DATE,TIME,LATITUDE,LONGITUDE,DEPTH,CTDPRS,CTDTMP,CTDSAL,CTDSAL_FLAG_W,SALNTY,SALNTY_FLAG_W,CTDOXY,CTDOXY_FLAG_W,OXYGEN,OXYGEN_FLAG_W,SILCAT,SILCAT_FLAG_W,NITRAT,NITRAT_FLAG_W,NITRIT,NITRIT_FLAG_W,PHSPHT,PHSPHT_FLAG_W,CFC-11,CFC-11_FLAG_W,CFC-12,CFC-12_FLAG_W,CFC113,CFC113_FLAG_W,SF6,SF6_FLAG_W,TCARBN,TCARBN_FLAG_W,ALKALI,ALKALI_FLAG_W,PH_TOT,PH_TOT_FLAG_W,PH_TMP,TRITUM,TRITUM_FLAG_W,HELIUM,HELIUM_FLAG_W,DELHE3,DELHE3_FLAG_W,DELC13,DELC13_FLAG_W,DELC14,DELC14_FLAG_W,C14ERR,NEON,NEON_FLAG_W,NEONER,I-129,I-129_FLAG_W,SR-90,SR-90_FLAG_W,DOC,DOC_FLAG_W,TDN,TDN_FLAG_W,CALCIUM,CALCIUM_FLAG_W,D15N_NO3,D15N_NO3_FLAG_W,BTL_DATE,BTL_TIME,BTL_LAT,BTL_LON,SALTREF,SALTREF_FLAG_W,CS-137,CS-137_FLAG_W,CS-134,CS-134_FLAG_W,REFTMP,REFTMP_FLAG_W,LAB_DEN,LAB_DEN_FLAG_W,D18O_NO3,D18O_NO3_FLAG_W,HELIER,DELHER,TRITER
,,,,,,,,,,,METERS,DBAR,ITS-90,PSS-78,,PSS-78,,UMOL/KG,,UMOL/KG,,UMOL/KG,,UMOL/KG,,UMOL/KG,,UMOL/KG,,PMOL/KG,,PMOL/KG,,PMOL/KG,,FMOL/KG,,UMOL/KG,,UMOL/KG,,,,DEG C,TU,,NMOL/KG,,PERCNT,,/MILLE,,/MILLE,,/MILLE,NMOL/KG,,NMOL/KG,BQ/M^3,,DM/.1MG,,UMOL/KG,,UMOL/KG,,MMOL/KG,,/MILLE,,,,,,G/KG,,BQ/M^3,,BQ/M^3,,ITS-90,,,,/MILLE,,NMOL/KG,PERCNT,TU
318M20130321,       P02E,     143,          1,         36,         36,2,20130529,       0938,    30.5344,  -122.7368,       3560,       3,  16.8507,  33.5166,2,  33.5171,2,    245.2,2,   245.1,2,    2.44,2,       0,2,       0,2,    0.26,2,   2.372,6,   1.422,6,-999.000,1,   1.5654,6,  2024.4,6, 2235.79,2,   7.9118,2,       25,-999.000,9,-999.0000,9, -999.00,9, -999.00,9,  -999.0,9,  -999.0,-999.000,9,-999.000,     -999.0,9, -999.00,9,   66.68,2,    4.46,2,     -999.0,9,  -999.0,9, 20130529,     1122,  30.5341,-122.7365,    33.6751,2,     -999.0,9,     -999.0,9,    16.8515,2,     -999.0,9,     -999.0,9,-999.0000, -999.00,-999.000
318M20130321,       P02E,     143,          1,         34,         34,2,20130529,       0938,    30.5344,  -122.7368,       3560,    25.2,  16.8603,  33.5162,2,  33.5178,2,      245,2,   244.7,2,    2.44,2,       0,2,       0,2,    0.26,2,-999.000,9,-999.000,9,-999.000,9,-999.0000,9,  2022.2,2, 2234.89,2,   7.9122,6,       25,-999.000,9,-999.0000,9, -999.00,9, -999.00,9,  -999.0,9,  -999.0,-999.000,9,-999.000,     -999.0,9, -999.00,9,   66.44,2,    4.76,2,     -999.0,9,  -999.0,9, 20130529,     1120,  30.5341,-122.7365,    33.6759,2,     -999.0,9,     -999.0,9,    16.8589,2,     -999.0,9,     -999.0,9,-999.0000, -999.00,-999.000
318M20130321,       P02E,     143,          1,         33,         33,2,20130529,       0938,    30.5344,  -122.7368,       3560,    50.3,  16.8222,  33.5124,2,   33.512,2,    245.5,2,     245,2,    2.44,2,       0,2,       0,2,    0.27,2,   2.380,2,   1.419,2,-999.000,1,   1.5977,2,  -999.0,9, -999.00,9,-999.0000,9,  -999.00,-999.000,9,-999.0000,9, -999.00,9, -999.00,9,  -999.0,9,  -999.0,-999.000,9,-999.000,     -999.0,9, -999.00,9,   68.99,2,     3.9,2,     -999.0,9,  -999.0,9, 20130529,     1118,  30.5339,-122.7366,      33.67,2,     -999.0,9,     -999.0,9,    16.8172,2,     -999.0,9,     -999.0,9,-999.0000, -999.00,-999.000
318M20130321,       P02E,     143,          1,         32,         32,2,20130529,       0938,    30.5344,  -122.7368,       3560,    75.1,   13.683,  33.3613,2,  33.3623,2,    265.7,2,   265.5,2,    3.32,2,    0.05,2,    0.01,2,    0.33,2,-999.000,9,-999.000,9,-999.000,9,-999.0000,9,    2023,2, 2222.99,6,   7.8907,6,       25,-999.000,9,-999.0000,9, -999.00,9, -999.00,9,  -999.0,9,  -999.0,-999.000,9,-999.000,     -999.0,9, -999.00,9,   62.45,2,    4.38,2,     -999.0,9,  -999.0,9, 20130529,     1116,  30.5339,-122.7367,    33.5196,2,     -999.0,9,     -999.0,9,    13.7008,3,     -999.0,9,     -999.0,9,-999.0000, -999.00,-999.000
318M20130321,       P02E,     143,          1,         31,         31,2,20130529,       0938,    30.5344,  -122.7368,       3560,    99.8,  11.7792,  33.3657,2,  33.3586,2,    229.2,2,   228.8,2,    7.03,2,    7.19,2,     0.1,2,    0.77,2,   2.992,2,   1.734,2,-999.000,1,   1.6999,2,  2067.2,2, 2217.39,2,   7.7784,2,       25,-999.000,9,-999.0000,9, -999.00,9, -999.00,9,  -999.0,9,  -999.0,-999.000,9,-999.000,     -999.0,9, -999.00,9,   56.18,2,   11.75,2,     -999.0,9,  -999.0,9, 20130529,     1115,   30.534,-122.7366,    33.5159,2,     -999.0,9,     -999.0,9,    11.7897,2,     -999.0,9,     -999.0,9,-999.0000, -999.00,-999.000
318M20130321,       P02E,     143,          1,         30,         30,2,20130529,       0938,    30.5344,  -122.7368,       3560,   125.2,  10.7402,  33.4412,2,  33.4413,2,      193,2,   201.8,2,   11.53,2,    12.9,2,    0.03,2,     1.1,2,-999.000,9,-999.000,9,-999.000,9,-999.0000,9,  -999.0,9, 2220.39,2,-999.0000,9,  -999.00,-999.000,9,-999.0000,9, -999.00,9, -999.00,9,  -999.0,9,  -999.0,-999.000,9,-999.000,     -999.0,9, -999.00,9, -999.00,5,   18.71,3,     -999.0,9,  -999.0,9, 20130529,     1113,   30.534,-122.7366,    33.5989,2,     -999.0,9,     -999.0,9,    10.7407,2,     -999.0,9,     -999.0,9,-999.0000, -999.00,-999.000
318M20130321,       P02E,     143,          1,         29,         29,2,20130529,       0938,    30.5344,  -122.7368,       3560,   151.4,   9.7947,   33.634,2,  33.6248,2,    151.9,2,     164,2,   19.15,2,   19.66,2,    0.01,2,    1.53,2,   3.152,2,   1.772,2,-999.000,1,    1.422,2,  2143.9,2, 2230.79,2,   7.6008,2,       25,-999.000,9,-999.0000,9, -999.00,9, -999.00,9,  -999.0,9,  -999.0,-999.000,9,-999.000,     -999.0,9, -999.00,9,   48.91,2,   26.93,3,     -999.0,9,  -999.0,9, 20130529,     1112,  30.5341,-122.7366,    33.7834,2,     -999.0,9,     -999.0,9,     9.8051,2,     -999.0,9,     -999.0,9,-999.0000, -999.00,-999.000
318M20130321,       P02E,     143,          1,         27,         27,2,20130529,       0938,    30.5344,  -122.7368,       3560,   201.8,   8.7899,  33.9288,2,  33.9284,2,    109.4,2,   120.4,2,   30.57,2,   26.27,2,    0.01,2,    1.96,2,-999.000,9,-999.000,9,-999.000,9,-999.0000,9,  2195.9,2,  2251.6,2,   7.5054,2,       25,-999.000,9,-999.0000,9, -999.00,9, -999.00,9,  -999.0,9,  -999.0,-999.000,9,-999.000,     -999.0,9, -999.00,9,   49.76,2,   34.04,3,     -999.0,9,  -999.0,9, 20130529,     1110,  30.5343,-122.7367,    34.0883,2,     -999.0,9,     -999.0,9,     8.7991,2,     -999.0,9,     -999.0,9,-999.0000, -999.00,-999.000
318M20130321,       P02E,     143,          1,         26,         26,2,20130529,       0938,    30.5344,  -122.7368,       3560,   251.4,   8.1301,  34.0373,2,  34.0367,2,     84.2,2,    96.1,2,   39.06,2,    29.5,2,    0.01,2,    2.21,2,   2.540,2,   1.345,2,-999.000,1,   0.7582,2,  2223.2,2,  2264.3,2,   7.4558,2,       25,-999.000,9,-999.0000,9, -999.00,9, -999.00,9,  -999.0,9,  -999.0,-999.000,9,-999.000,     -999.0,9, -999.00,9, -999.00,5, -999.00,5,     -999.0,9,  -999.0,9, 20130529,     1108,  30.5342,-122.7366,    34.1972,2,     -999.0,9,     -999.0,9,      8.127,2,     -999.0,9,     -999.0,9,-999.0000, -999.00,-999.000
318M20130321,       P02E,     143,          1,         25,         25,2,20130529,       0938,    30.5344,  -122.7368,       3560,   302.4,   7.4957,  34.0946,2,  34.0929,2,     66.5,2,    68.7,2,   48.34,2,   32.87,2,       0,2,    2.48,2,-999.000,9,-999.000,9,-999.000,9,-999.0000,9,  2251.3,2, 2275.21,2,   7.3983,2,       25,-999.000,9,-999.0000,9, -999.00,9, -999.00,9,  -999.0,9,  -999.0,-999.000,9,-999.000,     -999.0,9, -999.00,9,   47.35,2,   43.76,3,     -999.0,9,  -999.0,9, 20130529,     1106,  30.5344,-122.7368,    34.2537,2,     -999.0,9,     -999.0,9,     7.4892,2,     -999.0,9,     -999.0,9,-999.0000, -999.00,-999.000
318M20130321,       P02E,     143,          1,         24,         24,2,20130529,       0938,    30.5344,  -122.7368,       3560,   351.2,   6.8042,  34.1287,2,   34.127,2,     45.6,2,    46.2,2,   58.98,2,   35.97,2,       0,2,    2.71,2,   1.425,2,   0.708,2,-999.000,1,   0.2542,2,  2276.9,2, 2285.71,2,   7.3492,2,       25,-999.000,9,-999.0000,9, -999.00,9, -999.00,9,  -999.0,9,  -999.0,-999.000,9,-999.000,     -999.0,9, -999.00,9,   47.81,2, -999.00,9,     -999.0,9,  -999.0,9, 20130529,     1104,  30.5344,-122.7369,     34.288,2,     -999.0,9,     -999.0,9,     6.8105,2,     -999.0,9,     -999.0,9,-999.0000, -999.00,-999.000
318M20130321,       P02E,     143,          1,         23,         23,2,20130529,       0938,    30.5344,  -122.7368,       3560,   402.5,   6.4412,  34.1836,2,  34.1821,2,       31,2,    30.7,2,   66.59,2,   37.74,2,       0,2,    2.88,2,-999.000,9,-999.000,9,-999.000,9,-999.0000,9,  2295.4,2, 2296.32,2,     7.32,2,       25,-999.000,9,-999.0000,9, -999.00,9, -999.00,9,  -999.0,9,  -999.0,-999.000,9,-999.000,     -999.0,9, -999.00,9,   50.03,2, -999.00,9,     -999.0,9,  -999.0,9, 20130529,     1102,  30.5344,-122.7369,    34.3433,2,     -999.0,9,     -999.0,9,     6.4477,2,     -999.0,9,     -999.0,9,-999.0000, -999.00,-999.000
318M20130321,       P02E,     143,          1,         22,         22,2,20130529,       0938,    30.5344,  -122.7368,       3560,   502.9,   5.7764,  34.2411,2,  34.2953,4,       20,2,    18.6,2,   79.28,2,    39.9,2,       0,2,    3.06,2,   0.420,2,   0.213,2,-999.000,1,   0.0994,2,  2317.1,2, 2312.42,2,   7.3039,2,       25,-999.000,9,-999.0000,9, -999.00,9, -999.00,9,  -999.0,9,  -999.0,-999.000,9,-999.000,     -999.0,9, -999.00,9,   48.31,2, -999.00,9,     -999.0,9,  -999.0,9, 20130529,     1059,  30.5344,-122.7368,     34.457,4,     -999.0,9,     -999.0,9,     5.7794,2,     -999.0,9,     -999.0,9,-999.0000, -999.00,-999.000
318M20130321,       P02E,     143,          1,         21,         21,2,20130529,       0938,    30.5344,  -122.7368,       3560,   603.6,   5.2267,  34.3156,2,  34.3122,2,     12.3,2,      12,2,    90.6,2,   41.48,2,       0,2,    3.16,2,-999.000,9,-999.000,9,-999.000,9,-999.0000,9,    2333,2, 2328.03,2,   7.3007,2,       25,-999.000,9,-999.0000,9, -999.00,9, -999.00,9,  -999.0,9,  -999.0,-999.000,9,-999.000,     -999.0,9, -999.00,9,   45.25,2, -999.00,9,     -999.0,9,  -999.0,9, 20130529,     1056,  30.5344,-122.7369,     34.474,2,     -999.0,9,     -999.0,9,      5.229,2,     -999.0,9,     -999.0,9,-999.0000, -999.00,-999.000
318M20130321,       P02E,     143,          1,         20,         20,2,20130529,       0938,    30.5344,  -122.7368,       3560,   705.1,   4.8529,  34.3705,2,  34.3689,2,     11.7,2,    11.7,2,    98.9,2,   42.45,2,       0,2,     3.2,2,   0.046,2,   0.030,2,-999.000,1,        0,2,  2344.7,2, 2342.13,2,   7.3058,6,       25,-999.000,9,-999.0000,9, -999.00,9, -999.00,9,  -999.0,9,  -999.0,-999.000,9,-999.000,     -999.0,9, -999.00,9, -999.00,5, -999.00,9,     -999.0,9,  -999.0,9, 20130529,     1053,  30.5344,-122.7368,    34.5309,2,     -999.0,9,     -999.0,9,     4.8549,2,     -999.0,9,     -999.0,9,-999.0000, -999.00,-999.000
318M20130321,       P02E,     143,          1,         19,         19,2,20130529,       0938,    30.5344,  -122.7368,       3560,   805.9,   4.4187,  34.4284,2,  34.4276,2,     15.5,2,    16.1,2,  107.88,2,   43.09,2,       0,2,    3.22,2,-999.000,9,-999.000,9,-999.000,9,-999.0000,9,  2354.2,2, 2354.74,2,   7.3191,2,       25,-999.000,9,-999.0000,9, -999.00,9, -999.00,9,  -999.0,9,  -999.0,-999.000,9,-999.000,     -999.0,9, -999.00,9,    44.3,2, -999.00,9,     -999.0,9,  -999.0,9, 20130529,     1049,  30.5344,-122.7369,    34.5899,2,     -999.0,9,     -999.0,9,     4.4179,2,     -999.0,9,     -999.0,9,-999.0000, -999.00,-999.000
318M20130321,       P02E,     143,          1,         18,         18,2,20130529,       0938,    30.5344,  -122.7368,       3560,   906.7,   4.1182,  34.4628,2,  34.4627,2,     20.4,2,    21.5,2,  114.22,2,   43.25,2,       0,2,     3.2,2,   0.015,2,   0.014,2,-999.000,1,        0,2,  -999.0,9, -999.00,9,-999.0000,9,  -999.00,-999.000,9,-999.0000,9, -999.00,9, -999.00,9,  -999.0,9,  -999.0,-999.000,9,-999.000,     -999.0,9, -999.00,9,   45.39,2, -999.00,9,     -999.0,9,  -999.0,9, 20130529,     1046,  30.5344,-122.7369,    34.6252,2,     -999.0,9,     -999.0,9,     4.1195,2,     -999.0,9,     -999.0,9,-999.0000, -999.00,-999.000
318M20130321,       P02E,     143,          1,         17,         17,2,20130529,       0938,    30.5344,  -122.7368,       3560,  1007.8,   3.8763,  34.4859,2,  34.4853,2,     25.3,2,    26.2,2,  119.88,2,   43.28,2,       0,2,    3.19,2,-999.000,9,-999.000,9,-999.000,9,-999.0000,9,  2360.7,2, 2370.74,2,   7.3404,2,       25,-999.000,9,-999.0000,9, -999.00,9, -999.00,9,  -999.0,9,  -999.0,-999.000,9,-999.000,     -999.0,9, -999.00,9, -999.00,5, -999.00,9,     -999.0,9,  -999.0,9, 20130529,     1044,  30.5343,-122.7369,    34.6479,2,     -999.0,9,     -999.0,9,     3.8763,2,     -999.0,9,     -999.0,9,-999.0000, -999.00,-999.000
318M20130321,       P02E,     143,          1,         16,         16,2,20130529,       0938,    30.5344,  -122.7368,       3560,  1108.9,   3.6403,  34.5088,2,  34.5091,2,     30.8,2,      31,2,  124.95,2,   43.21,2,       0,2,    3.17,2,   0.015,2,   0.014,2,-999.000,1,        0,2,  -999.0,9, -999.00,9,-999.0000,9,  -999.00,-999.000,9,-999.0000,9, -999.00,9, -999.00,9,  -999.0,9,  -999.0,-999.000,9,-999.000,     -999.0,9, -999.00,9,   41.99,2, -999.00,9,     -999.0,9,  -999.0,9, 20130529,     1041,  30.5344,-122.7368,    34.6718,2,     -999.0,9,     -999.0,9,     3.6396,2,     -999.0,9,     -999.0,9,-999.0000, -999.00,-999.000
318M20130321,       P02E,     143,          1,         15,         15,2,20130529,       0938,    30.5344,  -122.7368,       3560,  1209.7,   3.3779,  34.5287,2,  34.5287,2,       36,2,    35.9,2,  131.39,2,   43.04,2,       0,2,    3.15,2,-999.000,9,-999.000,9,-999.000,9,-999.0000,9,  2367.9,2, 2385.05,2,   7.3603,2,       25,-999.000,9,-999.0000,9, -999.00,9, -999.00,9,  -999.0,9,  -999.0,-999.000,9,-999.000,     -999.0,9, -999.00,9,   41.61,2, -999.00,9,     -999.0,9,  -999.0,9, 20130529,     1038,  30.5344,-122.7369,    34.6915,2,     -999.0,9,     -999.0,9,     3.3773,2,     -999.0,9,     -999.0,9,-999.0000, -999.00,-999.000
318M20130321,       P02E,     143,          1,         14,         14,2,20130529,       0938,    30.5344,  -122.7368,       3560,  1312.5,   3.1645,  34.5436,2,   34.543,2,     40.5,2,      41,2,  136.86,2,   42.83,2,       0,2,    3.11,2,   0.012,2,   0.013,2,-999.000,1,        0,2,  -999.0,9, -999.00,9,-999.0000,9,  -999.00,-999.000,9,-999.0000,9, -999.00,9, -999.00,9,  -999.0,9,  -999.0,-999.000,9,-999.000,     -999.0,9, -999.00,9,   36.17,2, -999.00,9,     -999.0,9,  -999.0,9, 20130529,     1035,  30.5344,-122.7369,    34.7059,2,     -999.0,9,     -999.0,9,     3.1643,2,     -999.0,9,     -999.0,9,-999.0000, -999.00,-999.000
318M20130321,       P02E,     143,          1,         13,         13,2,20130529,       0938,    30.5344,  -122.7368,       3560,  1411.9,   3.0037,  34.5557,2,  34.5552,2,     45.5,2,    45.5,2,  140.86,2,   42.66,2,       0,2,    3.09,2,-999.000,9,-999.000,9,-999.000,9,-999.0000,9,  -999.0,9, -999.00,9,-999.0000,9,  -999.00,-999.000,9,-999.0000,9, -999.00,9, -999.00,9,  -999.0,9,  -999.0,-999.000,9,-999.000,     -999.0,9, -999.00,9,   37.44,2, -999.00,9,     -999.0,9,  -999.0,9, 20130529,     1032,  30.5344,-122.7369,    34.7182,2,     -999.0,9,     -999.0,9,     3.0039,2,     -999.0,9,     -999.0,9,-999.0000, -999.00,-999.000
318M20130321,       P02E,     143,          1,         12,         12,2,20130529,       0938,    30.5344,  -122.7368,       3560,  1514.5,    2.822,  34.5697,2,  34.5698,2,     50.8,2,    50.8,2,  145.25,2,   42.36,2,       0,2,    3.07,2,   0.011,2,   0.012,2,-999.000,1,        0,2,  2371.2,2, 2399.75,2,   7.3889,2,       25,-999.000,9,-999.0000,9, -999.00,9, -999.00,9,  -999.0,9,  -999.0,-999.000,9,-999.000,     -999.0,9, -999.00,9, -999.00,5, -999.00,9,     -999.0,9,  -999.0,9, 20130529,     1029,  30.5344,-122.7368,    34.7328,2,     -999.0,9,     -999.0,9,     2.8216,2,     -999.0,9,     -999.0,9,-999.0000, -999.00,-999.000
318M20130321,       P02E,     143,          1,         11,         11,2,20130529,       0938,    30.5344,  -122.7368,       3560,  1619.5,    2.633,  34.5845,2,  34.5843,2,     57.9,2,    56.4,2,  150.03,2,   42.01,2,       0,2,    3.03,2,-999.000,9,-999.000,9,-999.000,9,-999.0000,9,  2373.2,2, 2404.15,2,   7.4007,2,       25,-999.000,9,-999.0000,9, -999.00,9, -999.00,9,  -999.0,9,  -999.0,-999.000,9,-999.000,     -999.0,9, -999.00,9,    35.6,2, -999.00,9,     -999.0,9,  -999.0,9, 20130529,     1026,  30.5344,-122.7369,    34.7474,2,     -999.0,9,     -999.0,9,     2.6347,2,     -999.0,9,     -999.0,9,-999.0000, -999.00,-999.000
318M20130321,       P02E,     143,          1,         10,         10,2,20130529,       0938,    30.5344,  -122.7368,       3560,  1825.2,   2.3288,  34.6056,2,  34.6053,2,     70.4,2,    69.6,2,  156.47,2,   41.26,2,       0,2,    2.96,2,   0.006,2,   0.008,2,-999.000,1,        0,2,  -999.0,9, -999.00,9,-999.0000,9,  -999.00,-999.000,9,-999.0000,9, -999.00,9, -999.00,9,  -999.0,9,  -999.0,-999.000,9,-999.000,     -999.0,9, -999.00,9, -999.00,5, -999.00,9,     -999.0,9,  -999.0,9, 20130529,     1021,  30.5344,-122.7368,    34.7685,2,     -999.0,9,     -999.0,9,     2.3283,2,     -999.0,9,     -999.0,9,-999.0000, -999.00,-999.000
318M20130321,       P02E,     143,          1,          9,          9,2,20130529,       0938,    30.5344,  -122.7368,       3560,  2020.5,      2.1,  34.6251,2,  34.6258,2,     80.4,2,    81.2,2,  160.77,2,   40.53,2,       0,2,    2.89,2,-999.000,9,-999.000,9,-999.000,9,-999.0000,9,  2370.1,2, 2417.76,2,   7.4514,2,       25,-999.000,9,-999.0000,9, -999.00,9, -999.00,9,  -999.0,9,  -999.0,-999.000,9,-999.000,     -999.0,9, -999.00,9,   39.58,2, -999.00,9,     -999.0,9,  -999.0,9, 20130529,     1016,  30.5344,-122.7369,     34.789,2,     -999.0,9,     -999.0,9,     2.1004,2,     -999.0,9,     -999.0,9,-999.0000, -999.00,-999.000
318M20130321,       P02E,     143,          1,          8,          8,2,20130529,       0938,    30.5344,  -122.7368,       3560,  2274.7,    1.936,  34.6409,2,  34.6405,2,     93.2,2,    92.5,2,  162.91,2,   39.84,2,       0,2,    2.81,2,   0.001,2,   0.005,2,-999.000,1,        0,2,  -999.0,9, -999.00,9,-999.0000,9,  -999.00,-999.000,9,-999.0000,9, -999.00,9, -999.00,9,  -999.0,9,  -999.0,-999.000,9,-999.000,     -999.0,9, -999.00,9,   38.39,2, -999.00,9,     -999.0,9,  -999.0,9, 20130529,     1011,  30.5344,-122.7369,    34.8038,2,     -999.0,9,     -999.0,9,     1.9363,2,     -999.0,9,     -999.0,9,-999.0000, -999.00,-999.000
318M20130321,       P02E,     143,          1,          7,          7,2,20130529,       0938,    30.5344,  -122.7368,       3560,  2529.1,   1.8149,  34.6522,2,  34.6519,2,    102.5,2,   102.1,2,  164.76,2,   39.28,2,       0,2,    2.76,2,-999.000,9,-999.000,9,-999.000,9,-999.0000,9,  2362.7,2, 2425.16,2,   7.4919,2,       25,-999.000,9,-999.0000,9, -999.00,9, -999.00,9,  -999.0,9,  -999.0,-999.000,9,-999.000,     -999.0,9, -999.00,9,   38.95,2, -999.00,9,     -999.0,9,  -999.0,9, 20130529,     1005,  30.5344,-122.7368,    34.8153,2,     -999.0,9,     -999.0,9,     1.8153,2,     -999.0,9,     -999.0,9,-999.0000, -999.00,-999.000
318M20130321,       P02E,     143,          1,          6,          6,2,20130529,       0938,    30.5344,  -122.7368,       3560,  2784.7,   1.7103,  34.6608,2,  34.6611,2,    110.5,2,     111,2,  166.13,2,   38.73,2,       0,2,    2.71,2,   0.005,2,   0.010,2,-999.000,1,        0,2,  -999.0,9, -999.00,9,-999.0000,9,  -999.00,-999.000,9,-999.0000,9, -999.00,9, -999.00,9,  -999.0,9,  -999.0,-999.000,9,-999.000,     -999.0,9, -999.00,9,   36.76,2, -999.00,9,     -999.0,9,  -999.0,9, 20130529,      959,  30.5344,-122.7369,    34.8246,2,     -999.0,9,     -999.0,9,     1.7105,2,     -999.0,9,     -999.0,9,-999.0000, -999.00,-999.000