BOTTLE,20220817CCHSIOAMB
EXPOCODE,SECT_ID,STNNBR,CASTNO,SAMPNO,BTLNBR,BTLNBR_FLAG_W,DATE,TIME,LATITUDE,LONGITUDE,DEPTH,CTDPRS,CTDTMP,CTDSAL,CTDSAL_FLAG_W,SALNTY,SALNTY_FLAG_W,CTDOXY,CTDOXY_FLAG_W,OXYGEN,OXYGEN_FLAG_W,SILCAT,SILCAT_FLAG_W,NITRAT,NITRAT_FLAG_W,NITRIT,NITRIT_FLAG_W,PHSPHT,PHSPHT_FLAG_W,CFC-11,CFC-11_FLAG_W,CFC-12,CFC-12_FLAG_W,CFC113,CFC113_FLAG_W,SF6,SF6_FLAG_W,TCARBN,TCARBN_FLAG_W,ALKALI,ALKALI_FLAG_W,PH_TOT,PH_TOT_FLAG_W,PH_TMP,TRITUM,TRITUM_FLAG_W,HELIUM,HELIUM_FLAG_W,DELHE3,DELHE3_FLAG_W,DELC13,DELC13_FLAG_W,DELC14,DELC14_FLAG_W,C14ERR,NEON,NEON_FLAG_W,NEONER,I-129,I-129_FLAG_W,SR-90,SR-90_FLAG_W,DOC,DOC_FLAG_W,TDN,TDN_FLAG_W,CALCIUM,CALCIUM_FLAG_W,D15N_NO3,D15N_NO3_FLAG_W,BTL_DATE,BTL_TIME,BTL_LAT,BTL_LON,SALTREF,SALTREF_FLAG_W,CS-137,CS-137_FLAG_W,CS-134,CS-134_FLAG_W,REFTMP,REFTMP_FLAG_W,LAB_DEN,LAB_DEN_FLAG_W,D18O_NO3,D18O_NO3_FLAG_W,HELIER,DELHER,TRITER
,,,,,,,,,,,METERS,DBAR,ITS-90,PSS-78,,PSS-78,,UMOL/KG,,UMOL/KG,,UMOL/KG,,UMOL/KG,,UMOL/KG,,UMOL/KG,,PMOL/KG,,PMOL/KG,,PMOL/KG,,FMOL/KG,,UMOL/KG,,UMOL/KG,,,,DEG C,TU,,NMOL/KG,,PERCNT,,/MILLE,,/MILLE,,/MILLE,NMOL/KG,,NMOL/KG,BQ/M^3,,DM/.1MG,,UMOL/KG,,UMOL/KG,,MMOL/KG,,/MILLE,,,,,,G/KG,,BQ/M^3,,BQ/M^3,,ITS-90,,,,/MILLE,,NMOL/KG,PERCNT,TU
318M20130321,       P02E,     146,          1,         36,         36,2,20130530,       0349,    31.2793,  -121.2663,       3850,       2,  15.3262,  33.3626,2,  33.3656,2,    254.6,2,   254.6,2,    2.44,2,       0,2,       0,2,    0.28,2,   2.587,2,   1.553,2,-999.000,1,   1.7031,2,  2015.6,6, 2224.99,2,   7.9033,2,       25,-999.000,9,-999.0000,9, -999.00,9, -999.00,9,  -999.0,9,  -999.0,-999.000,9,-999.000,     -999.0,9, -999.00,1, -999.00,9, -999.00,9,     -999.0,9,  -999.0,9, 20130530,      528,  31.2788,-121.2661,     33.523,2,     -999.0,1,     -999.0,1,    15.3263,2,     -999.0,9,     -999.0,9,-999.0000, -999.00,-999.000
318M20130321,       P02E,     146,          1,         34,         34,2,20130530,       0349,    31.2793,  -121.2663,       3850,    25.1,  15.3273,  33.3653,2,  33.3656,2,    255.4,2,   254.2,2,    2.44,2,       0,2,       0,2,    0.29,2,-999.000,9,-999.000,9,-999.000,9,-999.0000,9,  -999.0,9, -999.00,9,-999.0000,9,  -999.00,-999.000,9,-999.0000,9, -999.00,9, -999.00,9,  -999.0,9,  -999.0,-999.000,9,-999.000,     -999.0,9, -999.00,1, -999.00,9, -999.00,9,     -999.0,9,  -999.0,9, 20130530,      526,  31.2791,-121.2663,     33.523,2,     -999.0,1,     -999.0,1,    15.3289,2,     -999.0,9,     -999.0,9,-999.0000, -999.00,-999.000
318M20130321,       P02E,     146,          1,         33,         33,2,20130530,       0349,    31.2793,  -121.2663,       3850,    50.6,  14.9418,  33.3766,2,  33.3764,2,    258.1,2,   258.3,2,    0.98,2,    0.05,2,    0.02,2,    0.32,2,   2.645,2,   1.531,2,-999.000,1,   1.7245,2,  2017.7,2, 2227.29,2,   7.9036,6,       25,-999.000,9,-999.0000,9, -999.00,9, -999.00,9,  -999.0,9,  -999.0,-999.000,9,-999.000,     -999.0,9, -999.00,1, -999.00,9, -999.00,9,     -999.0,9,  -999.0,9, 20130530,      524,  31.2793,-121.2662,    33.5337,2,     -999.0,1,     -999.0,1,    14.9373,2,     -999.0,9,     -999.0,9,-999.0000, -999.00,-999.000
318M20130321,       P02E,     146,          1,         32,         32,2,20130530,       0349,    31.2793,  -121.2663,       3850,    75.7,   14.503,  33.3625,2,  33.3642,2,    259.7,2,   260.6,2,    0.78,2,    0.38,2,    0.05,2,    0.37,2,-999.000,9,-999.000,9,-999.000,9,-999.0000,9,  2021.8,2, 2227.69,6,    7.898,2,       25,-999.000,9,-999.0000,9, -999.00,9, -999.00,9,  -999.0,9,  -999.0,-999.000,9,-999.000,     -999.0,9, -999.00,1, -999.00,9, -999.00,9,     -999.0,9,  -999.0,9, 20130530,      523,  31.2794,-121.2663,    33.5216,2,     -999.0,1,     -999.0,1,    14.4948,2,     -999.0,9,     -999.0,9,-999.0000, -999.00,-999.000
318M20130321,       P02E,     146,          1,         31,         31,2,20130530,       0349,    31.2793,  -121.2663,       3850,   100.3,  11.4867,  33.2156,2,  33.2315,2,    235.5,2,   239.4,2,    6.16,2,     6.3,2,    0.05,2,    0.71,2,   3.077,2,   1.749,2,-999.000,1,   1.7224,2,  2053.6,2, 2211.99,2,   7.7917,2,       25,-999.000,9,-999.0000,9, -999.00,9, -999.00,9,  -999.0,9,  -999.0,-999.000,9,-999.000,     -999.0,9, -999.00,1, -999.00,9, -999.00,9,     -999.0,9,  -999.0,9, 20130530,      521,  31.2792,-121.2662,    33.3882,2,     -999.0,1,     -999.0,1,    11.4869,2,     -999.0,9,     -999.0,9,-999.0000, -999.00,-999.000
318M20130321,       P02E,     146,          1,         30,         30,2,20130530,       0349,    31.2793,  -121.2663,       3850,   151.7,   9.2347,  33.7654,2,  33.7701,2,    138.7,2,   144.9,2,   24.13,2,    23.1,2,    0.01,2,    1.74,2,-999.000,9,-999.000,9,-999.000,9,-999.0000,9,  2166.6,2,  2240.7,2,    7.551,2,       25,-999.000,9,-999.0000,9, -999.00,9, -999.00,9,  -999.0,9,  -999.0,-999.000,9,-999.000,     -999.0,9, -999.00,1, -999.00,9, -999.00,9,     -999.0,9,  -999.0,9, 20130530,      519,  31.2792,-121.2662,    33.9294,2,     -999.0,1,     -999.0,1,     9.2358,2,     -999.0,9,     -999.0,9,-999.0000, -999.00,-999.000
318M20130321,       P02E,     146,          1,         29,         29,2,20130530,       0349,    31.2793,  -121.2663,       3850,   201.4,   8.3954,  33.9637,2,  33.9604,2,      120,2,   124.6,2,   32.81,2,   26.71,2,    0.01,2,    1.95,2,   2.928,2,   1.557,2,-999.000,1,   0.9546,2,  2193.1,2,  2256.7,2,   7.5089,2,       25,-999.000,9,-999.0000,9, -999.00,9, -999.00,9,  -999.0,9,  -999.0,-999.000,9,-999.000,     -999.0,9, -999.00,1, -999.00,9, -999.00,9,     -999.0,9,  -999.0,9, 20130530,      517,  31.2793,-121.2664,    34.1206,2,     -999.0,1,     -999.0,1,     8.4014,2,     -999.0,9,     -999.0,9,-999.0000, -999.00,-999.000
318M20130321,       P02E,     146,          1,         27,         27,2,20130530,       0349,    31.2793,  -121.2663,       3850,   250.7,   8.0317,  34.0644,2,  34.0645,2,     80.6,2,    80.5,2,    41.7,2,   30.85,2,    0.01,2,    2.31,2,-999.000,9,-999.000,9,-999.000,9,-999.0000,9,  2232.9,2, 2268.21,2,   7.4242,2,       25,-999.000,9,-999.0000,9, -999.00,9, -999.00,9,  -999.0,9,  -999.0,-999.000,9,-999.000,     -999.0,9, -999.00,1, -999.00,9, -999.00,9,     -999.0,9,  -999.0,9, 20130530,      515,  31.2794,-121.2665,    34.2251,2,     -999.0,1,     -999.0,1,       8.03,2,     -999.0,9,     -999.0,9,-999.0000, -999.00,-999.000
318M20130321,       P02E,     146,          1,         26,         26,2,20130530,       0349,    31.2793,  -121.2663,       3850,   301.9,   7.5434,   34.125,2,  34.1256,2,     58.3,2,    56.3,2,   50.19,2,   33.64,2,    0.01,2,    2.55,2,   1.836,2,   0.959,2,-999.000,1,   0.4116,2,  2259.3,2, 2278.61,2,   7.3723,6,       25,-999.000,9,-999.0000,9, -999.00,9, -999.00,9,  -999.0,9,  -999.0,-999.000,9,-999.000,     -999.0,9, -999.00,1, -999.00,9, -999.00,9,     -999.0,9,  -999.0,9, 20130530,      513,  31.2793,-121.2663,    34.2865,2,     -999.0,1,     -999.0,1,     7.5443,2,     -999.0,9,     -999.0,9,-999.0000, -999.00,-999.000
318M20130321,       P02E,     146,          1,         25,         25,2,20130530,       0349,    31.2793,  -121.2663,       3850,   352.8,   7.0236,  34.1325,2,  34.1328,2,     46.1,2,    46.1,2,   57.03,2,   35.55,2,    0.01,2,    2.66,2,-999.000,9,-999.000,9,-999.000,9,-999.0000,9,  2273.6,2, 2285.11,2,    7.351,2,       25,-999.000,9,-999.0000,9, -999.00,9, -999.00,9,  -999.0,9,  -999.0,-999.000,9,-999.000,     -999.0,9, -999.00,1, -999.00,9, -999.00,9,     -999.0,9,  -999.0,9, 20130530,      512,  31.2794,-121.2663,    34.2938,2,     -999.0,1,     -999.0,1,     7.0292,2,     -999.0,9,     -999.0,9,-999.0000, -999.00,-999.000
318M20130321,       P02E,     146,          1,         24,         24,2,20130530,       0349,    31.2793,  -121.2663,       3850,   401.8,   6.5193,  34.1576,2,  34.1576,2,       36,2,    35.4,2,   64.35,2,   37.31,2,    0.01,2,     2.8,2,   1.145,2,   0.562,2,-999.000,1,   0.1539,2,  2288.1,2, 2294.72,2,   7.3276,2,       25,-999.000,9,-999.0000,9, -999.00,9, -999.00,9,  -999.0,9,  -999.0,-999.000,9,-999.000,     -999.0,9, -999.00,1, -999.00,9, -999.00,9,     -999.0,9,  -999.0,9, 20130530,      510,  31.2794,-121.2664,    34.3186,2,     -999.0,1,     -999.0,1,     6.5229,2,     -999.0,9,     -999.0,9,-999.0000, -999.00,-999.000
318M20130321,       P02E,     146,          1,         23,         23,2,20130530,       0349,    31.2793,  -121.2663,       3850,   453.3,   6.2925,  34.1834,2,  34.1828,2,     27.8,2,    29.3,2,   68.94,2,    38.2,2,    0.01,2,    2.88,2,-999.000,9,-999.000,9,-999.000,9,-999.0000,9,  -999.0,9, -999.00,9,-999.0000,9,  -999.00,-999.000,9,-999.0000,9, -999.00,9, -999.00,9,  -999.0,9,  -999.0,-999.000,9,-999.000,     -999.0,9, -999.00,1, -999.00,9, -999.00,9,     -999.0,9,  -999.0,9, 20130530,      508,  31.2793,-121.2663,     34.344,2,     -999.0,1,     -999.0,1,     6.2883,2,     -999.0,9,     -999.0,9,-999.0000, -999.00,-999.000
318M20130321,       P02E,     146,          1,         22,         22,2,20130530,       0349,    31.2793,  -121.2663,       3850,   503.8,   6.1244,   34.225,2,  34.2217,2,     20.8,2,    22.1,2,   73.13,2,   38.89,2,    0.01,2,    2.96,2,   0.612,2,   0.304,2,-999.000,1,   0.0447,2,  2304.1,2, 2305.42,2,   7.3114,2,       25,-999.000,9,-999.0000,9, -999.00,9, -999.00,9,  -999.0,9,  -999.0,-999.000,9,-999.000,     -999.0,9, -999.00,9, -999.00,9, -999.00,9,     -999.0,9,  -999.0,9, 20130530,      506,  31.2793,-121.2663,     34.383,2,     -999.0,9,     -999.0,9,     6.1234,2,     -999.0,9,     -999.0,9,-999.0000, -999.00,-999.000
318M20130321,       P02E,     146,          1,         21,         21,2,20130530,       0349,    31.2793,  -121.2663,       3850,   603.8,   5.5075,  34.2883,2,   34.286,2,     13.7,2,    13.6,2,   85.33,2,   40.71,2,       0,2,     3.1,2,-999.000,9,-999.000,9,-999.000,9,-999.0000,9,  2323.5,2, 2321.42,2,   7.3007,2,       25,-999.000,9,-999.0000,9, -999.00,9, -999.00,9,  -999.0,9,  -999.0,-999.000,9,-999.000,     -999.0,9, -999.00,9, -999.00,9, -999.00,9,     -999.0,9,  -999.0,9, 20130530,      503,  31.2793,-121.2663,    34.4477,2,     -999.0,9,     -999.0,9,     5.5106,2,     -999.0,9,     -999.0,9,-999.0000, -999.00,-999.000
318M20130321,       P02E,     146,          1,         20,         20,2,20130530,       0349,    31.2793,  -121.2663,       3850,   706.7,   4.9663,  34.3418,2,  34.3421,2,     12.6,2,    11.7,2,   96.85,2,   42.07,2,       0,2,    3.17,2,   0.076,2,   0.047,2,-999.000,1,        0,2,  2339.7,2, 2336.63,2,   7.3009,2,       25,-999.000,9,-999.0000,9, -999.00,9, -999.00,9,  -999.0,9,  -999.0,-999.000,9,-999.000,     -999.0,9, -999.00,9, -999.00,9, -999.00,9,     -999.0,9,  -999.0,9, 20130530,      501,  31.2793,-121.2663,     34.504,2,     -999.0,9,     -999.0,9,     4.9674,2,     -999.0,9,     -999.0,9,-999.0000, -999.00,-999.000
318M20130321,       P02E,     146,          1,         19,         19,2,20130530,       0349,    31.2793,  -121.2663,       3850,   805.9,   4.5555,  34.3948,2,  34.3921,2,     15.3,2,      13,2,  105.44,2,   42.87,2,       0,2,    3.18,2,-999.000,9,-999.000,9,-999.000,9,-999.0000,9,  -999.0,9, -999.00,9,-999.0000,9,  -999.00,-999.000,9,-999.0000,9, -999.00,9, -999.00,9,  -999.0,9,  -999.0,-999.000,9,-999.000,     -999.0,9, -999.00,9, -999.00,9, -999.00,9,     -999.0,9,  -999.0,9, 20130530,      458,  31.2794,-121.2663,    34.5543,2,     -999.0,9,     -999.0,9,     4.5592,2,     -999.0,9,     -999.0,9,-999.0000, -999.00,-999.000
318M20130321,       P02E,     146,          1,         18,         18,2,20130530,       0349,    31.2793,  -121.2663,       3850,   906.8,   4.2084,  34.4404,2,    34.44,2,     19.7,2,    18.2,2,  113.34,2,    43.3,2,       0,2,    3.19,2,   0.026,2,   0.021,2,-999.000,1,   0.0449,2,  2356.4,2, 2361.04,2,   7.3209,2,       25,-999.000,9,-999.0000,9, -999.00,9, -999.00,9,  -999.0,9,  -999.0,-999.000,9,-999.000,     -999.0,9, -999.00,9, -999.00,9, -999.00,9,     -999.0,9,  -999.0,9, 20130530,      455,  31.2793,-121.2663,    34.6024,2,     -999.0,9,     -999.0,9,     4.2089,2,     -999.0,9,     -999.0,9,-999.0000, -999.00,-999.000
318M20130321,       P02E,     146,          1,         17,         17,2,20130530,       0349,    31.2793,  -121.2663,       3850,  1008.6,   3.8914,  34.4743,2,  34.4734,2,     25.2,2,    26.9,2,  119.68,2,   43.32,2,       0,2,    3.15,2,-999.000,9,-999.000,9,-999.000,9,-999.0000,9,  -999.0,9, -999.00,9,-999.0000,9,  -999.00,-999.000,9,-999.0000,9, -999.00,9, -999.00,9,  -999.0,9,  -999.0,-999.000,9,-999.000,     -999.0,9, -999.00,9, -999.00,9, -999.00,9,     -999.0,9,  -999.0,9, 20130530,      452,  31.2793,-121.2663,     34.636,2,     -999.0,9,     -999.0,9,     3.8929,2,     -999.0,9,     -999.0,9,-999.0000, -999.00,-999.000
318M20130321,       P02E,     146,          1,         16,         16,2,20130530,       0349,    31.2793,  -121.2663,       3850,  1110.8,    3.633,  34.4994,2,  34.4987,2,     30.2,2,    31.3,2,  125.54,2,   43.26,2,       0,2,    3.14,2,   0.017,2,   0.017,2,-999.000,1,        0,2,  -999.0,9, -999.00,9,-999.0000,9,  -999.00,-999.000,9,-999.0000,9, -999.00,9, -999.00,9,  -999.0,9,  -999.0,-999.000,9,-999.000,     -999.0,9, -999.00,9, -999.00,9, -999.00,9,     -999.0,9,  -999.0,9, 20130530,      449,  31.2793,-121.2663,    34.6614,2,     -999.0,9,     -999.0,9,     3.6314,2,     -999.0,9,     -999.0,9,-999.0000, -999.00,-999.000
318M20130321,       P02E,     146,          1,         15,         15,2,20130530,       0349,    31.2793,  -121.2663,       3850,  1211.7,   3.3738,  34.5208,2,  34.5203,2,     36.1,2,    35.7,2,   131.2,2,   43.16,2,       0,2,    3.11,2,-999.000,9,-999.000,9,-999.000,9,-999.0000,9,  2367.4,2, 2384.25,2,    7.359,6,       25,-999.000,9,-999.0000,9, -999.00,9, -999.00,9,  -999.0,9,  -999.0,-999.000,9,-999.000,     -999.0,9, -999.00,9, -999.00,9, -999.00,9,     -999.0,9,  -999.0,9, 20130530,      447,  31.2793,-121.2663,    34.6831,2,     -999.0,9,     -999.0,9,     3.3739,2,     -999.0,9,     -999.0,9,-999.0000, -999.00,-999.000
318M20130321,       P02E,     146,          1,         14,         14,2,20130530,       0349,    31.2793,  -121.2663,       3850,  1311.1,   3.1757,  34.5351,2,  34.5349,2,     40.6,2,    41.1,2,  136.37,2,   43.01,2,       0,2,    3.09,2,   0.012,2,   0.015,2,-999.000,1,        0,2,  -999.0,9, -999.00,9,-999.0000,9,  -999.00,-999.000,9,-999.0000,9, -999.00,9, -999.00,9,  -999.0,9,  -999.0,-999.000,9,-999.000,     -999.0,9, -999.00,9, -999.00,9, -999.00,9,     -999.0,9,  -999.0,9, 20130530,      444,  31.2793,-121.2663,    34.6977,2,     -999.0,9,     -999.0,9,     3.1757,2,     -999.0,9,     -999.0,9,-999.0000, -999.00,-999.000
318M20130321,       P02E,     146,          1,         13,         13,2,20130530,       0349,    31.2793,  -121.2663,       3850,  1414.5,   2.9619,  34.5517,2,  34.5525,2,     45.7,2,    44.8,2,  142.03,2,   42.74,2,       0,2,    3.07,2,-999.000,9,-999.000,9,-999.000,9,-999.0000,9,  2369.5,2, 2396.25,2,    7.377,2,       25,-999.000,9,-999.0000,9, -999.00,9, -999.00,9,  -999.0,9,  -999.0,-999.000,9,-999.000,     -999.0,9, -999.00,9, -999.00,9, -999.00,9,     -999.0,9,  -999.0,9, 20130530,      441,  31.2794,-121.2663,    34.7155,2,     -999.0,9,     -999.0,9,      2.962,2,     -999.0,9,     -999.0,9,-999.0000, -999.00,-999.000
318M20130321,       P02E,     146,          1,         12,         12,2,20130530,       0349,    31.2793,  -121.2663,       3850,  1516.6,   2.7595,  34.5689,2,  34.5692,2,     50.9,2,      51,2,   147.3,2,   42.41,2,       0,2,    3.04,2,   0.013,2,   0.015,2,-999.000,1,        0,2,  -999.0,9, -999.00,9,-999.0000,9,  -999.00,-999.000,9,-999.0000,9, -999.00,9, -999.00,9,  -999.0,9,  -999.0,-999.000,9,-999.000,     -999.0,9, -999.00,9, -999.00,9, -999.00,9,     -999.0,9,  -999.0,9, 20130530,      438,  31.2794,-121.2663,    34.7322,2,     -999.0,9,     -999.0,9,     2.7598,2,     -999.0,9,     -999.0,9,-999.0000, -999.00,-999.000
318M20130321,       P02E,     146,          1,         11,         11,2,20130530,       0349,    31.2793,  -121.2663,       3850,  1618.2,   2.5544,  34.5827,2,  34.5828,2,     57.2,2,    57.5,2,  152.38,2,   42.03,2,       0,2,       3,2,-999.000,9,-999.000,9,-999.000,9,-999.0000,9,    2373,2, 2407.06,2,   7.4015,2,       25,-999.000,9,-999.0000,9, -999.00,9, -999.00,9,  -999.0,9,  -999.0,-999.000,9,-999.000,     -999.0,9, -999.00,9, -999.00,9, -999.00,9,     -999.0,9,  -999.0,9, 20130530,      436,  31.2793,-121.2663,    34.7459,2,     -999.0,9,     -999.0,9,     2.5569,2,     -999.0,9,     -999.0,9,-999.0000, -999.00,-999.000
318M20130321,       P02E,     146,          1,         10,         10,2,20130530,       0349,    31.2793,  -121.2663,       3850,  1819.4,   2.2341,  34.6073,2,  34.6073,2,     70.6,2,    70.9,2,  160.18,2,   41.29,2,       0,2,    2.91,2,   0.000,2,   0.006,2,-999.000,1,        0,2,  2371.2,2, 2414.16,2,   7.4263,2,       25,-999.000,9,-999.0000,9, -999.00,9, -999.00,9,  -999.0,9,  -999.0,-999.000,9,-999.000,     -999.0,9, -999.00,9, -999.00,9, -999.00,9,     -999.0,9,  -999.0,9, 20130530,      431,  31.2793,-121.2663,    34.7705,2,     -999.0,9,     -999.0,9,     2.2342,2,     -999.0,9,     -999.0,9,-999.0000, -999.00,-999.000
318M20130321,       P02E,     146,          1,          9,          9,2,20130530,       0349,    31.2793,  -121.2663,       3850,  2023.3,   2.0526,  34.6252,2,  34.6252,2,     82.4,2,    81.8,2,  162.62,2,   40.62,2,       0,2,    2.84,2,-999.000,9,-999.000,9,-999.000,9,-999.0000,9,  -999.0,9, -999.00,9,-999.0000,9,  -999.00,-999.000,9,-999.0000,9, -999.00,9, -999.00,9,  -999.0,9,  -999.0,-999.000,9,-999.000,     -999.0,9, -999.00,9, -999.00,9, -999.00,9,     -999.0,9,  -999.0,9, 20130530,      427,  31.2793,-121.2663,    34.7885,2,     -999.0,9,     -999.0,9,     2.0528,2,     -999.0,9,     -999.0,9,-999.0000, -999.00,-999.000
318M20130321,       P02E,     146,          1,          8,          8,2,20130530,       0349,    31.2793,  -121.2663,       3850,  2276.1,    1.901,  34.6409,2,  34.6411,2,     94.3,2,    94.9,2,  165.64,2,   39.88,2,       0,2,    2.78,2,   0.001,2,   0.004,2,-999.000,1,        0,2,  2365.6,2, 2423.16,2,   7.4734,2,       25,-999.000,9,-999.0000,9, -999.00,9, -999.00,9,  -999.0,9,  -999.0,-999.000,9,-999.000,     -999.0,9, -999.00,9, -999.00,9, -999.00,9,     -999.0,9,  -999.0,9, 20130530,      422,  31.2793,-121.2663,    34.8045,2,     -999.0,9,     -999.0,9,     1.8997,2,     -999.0,9,     -999.0,9,-999.0000, -999.00,-999.000
318M20130321,       P02E,     146,          1,          7,          7,2,20130530,       0349,    31.2793,  -121.2663,       3850,  2530.3,   1.7856,   34.652,2,  34.6527,2,    104.3,2,     103,2,  165.84,2,   39.24,2,       0,2,    2.72,2,-999.000,9,-999.000,9,-999.000,9,-999.0000,9,  -999.0,9, -999.00,9,-999.0000,9,  -999.00,-999.000,9,-999.0000,9, -999.00,9, -999.00,9,  -999.0,9,  -999.0,-999.000,9,-999.000,     -999.0,9, -999.00,9, -999.00,9, -999.00,9,     -999.0,9,  -999.0,9, 20130530,      417,  31.2794,-121.2663,    34.8161,2,     -999.0,9,     -999.0,9,     1.7854,2,     -999.0,9,     -999.0,9,-999.0000, -999.00,-999.000
318M20130321,       P02E,     146,          1,          6,          6,2,20130530,       0349,    31.2793,  -121.2663,       3850,  2785.5,   1.6804,  34.6616,2,   34.662,2,    112.1,2,   112.2,2,  167.11,2,   38.67,2,       0,2,    2.68,2,   0.002,2,   0.004,2,-999.000,1,        0,2,  -999.0,9, -999.00,9,-999.0000,9,  -999.00,-999.000,9,-999.0000,9, -999.00,9, -999.00,9,  -999.0,9,  -999.0,-999.000,9,-999.000,     -999.0,9, -999.00,9, -999.00,9, -999.00,9,     -999.0,9,  -999.0,9, 20130530,      411,  31.2793,-121.2663,    34.8254,2,     -999.0,9,     -999.0,9,     1.6807,2,     -999.0,9,     -999.0,9,-999.0000, -999.00,-999.000