BOTTLE,20220817CCHSIOAMB
EXPOCODE,SECT_ID,STNNBR,CASTNO,SAMPNO,BTLNBR,BTLNBR_FLAG_W,DATE,TIME,LATITUDE,LONGITUDE,DEPTH,CTDPRS,CTDTMP,CTDSAL,CTDSAL_FLAG_W,SALNTY,SALNTY_FLAG_W,CTDOXY,CTDOXY_FLAG_W,OXYGEN,OXYGEN_FLAG_W,SILCAT,SILCAT_FLAG_W,NITRAT,NITRAT_FLAG_W,NITRIT,NITRIT_FLAG_W,PHSPHT,PHSPHT_FLAG_W,CFC-11,CFC-11_FLAG_W,CFC-12,CFC-12_FLAG_W,CFC113,CFC113_FLAG_W,SF6,SF6_FLAG_W,TCARBN,TCARBN_FLAG_W,ALKALI,ALKALI_FLAG_W,PH_TOT,PH_TOT_FLAG_W,PH_TMP,TRITUM,TRITUM_FLAG_W,HELIUM,HELIUM_FLAG_W,DELHE3,DELHE3_FLAG_W,DELC13,DELC13_FLAG_W,DELC14,DELC14_FLAG_W,C14ERR,NEON,NEON_FLAG_W,NEONER,I-129,I-129_FLAG_W,SR-90,SR-90_FLAG_W,DOC,DOC_FLAG_W,TDN,TDN_FLAG_W,CALCIUM,CALCIUM_FLAG_W,D15N_NO3,D15N_NO3_FLAG_W,BTL_DATE,BTL_TIME,BTL_LAT,BTL_LON,SALTREF,SALTREF_FLAG_W,CS-137,CS-137_FLAG_W,CS-134,CS-134_FLAG_W,REFTMP,REFTMP_FLAG_W,LAB_DEN,LAB_DEN_FLAG_W,D18O_NO3,D18O_NO3_FLAG_W,HELIER,DELHER,TRITER
,,,,,,,,,,,METERS,DBAR,ITS-90,PSS-78,,PSS-78,,UMOL/KG,,UMOL/KG,,UMOL/KG,,UMOL/KG,,UMOL/KG,,UMOL/KG,,PMOL/KG,,PMOL/KG,,PMOL/KG,,FMOL/KG,,UMOL/KG,,UMOL/KG,,,,DEG C,TU,,NMOL/KG,,PERCNT,,/MILLE,,/MILLE,,/MILLE,NMOL/KG,,NMOL/KG,BQ/M^3,,DM/.1MG,,UMOL/KG,,UMOL/KG,,MMOL/KG,,/MILLE,,,,,,G/KG,,BQ/M^3,,BQ/M^3,,ITS-90,,,,/MILLE,,NMOL/KG,PERCNT,TU
318M20130321,       P02W,      81,          1,          6,          6,2,20130430,       1844,         30,  -174.3811,       5356,  4167.1,   1.4714,  34.6848,2,  34.6845,2,    148.4,2,   148.7,2,  156.07,2,   36.19,2,       0,2,    2.58,2,-999.000,9,-999.000,9,-999.000,9,-999.0000,9,  2328.6,2, 2417.96,2,   7.5672,2,       25,-999.000,9,-999.0000,9, -999.00,9,    0.18,2,  -221.1,2,     1.9,-999.000,9,-999.000,     -999.0,9, -999.00,9, -999.00,9, -999.00,9,     -999.0,9,  -999.0,9, 20130430,     1910,       30,-174.3811,    34.8481,2,     -999.0,9,     -999.0,9,     1.4718,2,     -999.0,9,     -999.0,9,-999.0000, -999.00,-999.000
318M20130321,       P02W,      81,          1,          5,         37,2,20130430,       1844,         30,  -174.3811,       5356,  4574.9,    1.495,  34.6874,2,  34.6869,2,    151.6,2,   151.9,2,  155.78,2,   35.99,2,       0,2,    2.56,2,-999.000,9,-999.000,9,-999.000,9,-999.0000,9,  -999.0,9, -999.00,9,-999.0000,9,  -999.00,-999.000,9,-999.0000,9, -999.00,9,    0.22,2,  -214.9,2,     3.0,-999.000,9,-999.000,     -999.0,9, -999.00,9,   36.09,2, -999.00,9,     -999.0,9,  -999.0,9, 20130430,     1902,       30,-174.3811,    34.8505,2,     -999.0,9,     -999.0,9,     1.4951,2,     -999.0,9,     -999.0,9,-999.0000, -999.00,-999.000
318M20130321,       P02W,      81,          1,          4,          4,2,20130430,       1844,         30,  -174.3811,       5356,  4988.4,   1.5231,  34.6894,2,  34.6893,2,    155.5,2,     156,2,  151.88,2,   35.68,2,       0,2,    2.52,2,   0.009,2,   0.009,2,   0.007,2,     0.14,2,  2321.6,2, 2415.16,6,   7.5791,2,       25,-999.000,9,-999.0000,9, -999.00,9,    0.21,2,  -208.7,2,     2.0,-999.000,9,-999.000,     -999.0,9, -999.00,9,   35.86,2, -999.00,9,     -999.0,9,  -999.0,9, 20130430,     1855,       30,-174.3812,    34.8528,2,     -999.0,9,     -999.0,9,     1.5229,2,     -999.0,9,     -999.0,9,-999.0000, -999.00,-999.000
318M20130321,       P02W,      81,          1,          3,          3,2,20130430,       1844,         30,  -174.3811,       5356,  5275.7,   1.5403,   34.691,2,  34.6898,2,    159.9,2,     160,2,  147.78,2,   35.41,2,       0,2,    2.51,2,   0.008,2,   0.011,2,   0.001,2,     0.09,2,  2316.3,2, 2412.96,2,   7.5812,6,       25,-999.000,9,-999.0000,9, -999.00,9,    0.25,2,  -210.4,2,     2.8,-999.000,9,-999.000,     -999.0,9, -999.00,9,    36.1,2, -999.00,9,     -999.0,9,  -999.0,9, 20130430,     1849,       30,-174.3812,    34.8534,2,     -999.0,9,     -999.0,9,     1.5397,2,     -999.0,9,     -999.0,9,-999.0000, -999.00,-999.000
318M20130321,       P02W,      81,          1,          2,          2,2,20130430,       1844,         30,  -174.3811,       5356,  5445.7,   1.5489,  34.6921,2,  34.6916,2,    162.8,2,     163,2,  145.24,2,   35.23,2,       0,2,    2.49,2,   0.009,2,   0.011,2,   0.008,2,     0.05,2,  2315.4,6, 2410.16,2,   7.5851,2,       25,-999.000,9,-999.0000,9, -999.00,9,    0.25,2,  -202.8,2,     2.1,-999.000,9,-999.000,     -999.0,9, -999.00,9,   35.74,2, -999.00,9,     -999.0,9,  -999.0,9, 20130430,     1844,       30,-174.3812,    34.8552,2,     -999.0,9,     -999.0,9,     1.5485,2,     -999.0,9,     -999.0,9,-999.0000, -999.00,-999.000