BOTTLE,20220817CCHSIOAMB
EXPOCODE,SECT_ID,STNNBR,CASTNO,SAMPNO,BTLNBR,BTLNBR_FLAG_W,DATE,TIME,LATITUDE,LONGITUDE,DEPTH,CTDPRS,CTDTMP,CTDSAL,CTDSAL_FLAG_W,SALNTY,SALNTY_FLAG_W,CTDOXY,CTDOXY_FLAG_W,OXYGEN,OXYGEN_FLAG_W,SILCAT,SILCAT_FLAG_W,NITRAT,NITRAT_FLAG_W,NITRIT,NITRIT_FLAG_W,PHSPHT,PHSPHT_FLAG_W,CFC-11,CFC-11_FLAG_W,CFC-12,CFC-12_FLAG_W,CFC113,CFC113_FLAG_W,SF6,SF6_FLAG_W,TCARBN,TCARBN_FLAG_W,ALKALI,ALKALI_FLAG_W,PH_TOT,PH_TOT_FLAG_W,PH_TMP,TRITUM,TRITUM_FLAG_W,HELIUM,HELIUM_FLAG_W,DELHE3,DELHE3_FLAG_W,DELC13,DELC13_FLAG_W,DELC14,DELC14_FLAG_W,C14ERR,NEON,NEON_FLAG_W,NEONER,I-129,I-129_FLAG_W,SR-90,SR-90_FLAG_W,DOC,DOC_FLAG_W,TDN,TDN_FLAG_W,CALCIUM,CALCIUM_FLAG_W,D15N_NO3,D15N_NO3_FLAG_W,BTL_DATE,BTL_TIME,BTL_LAT,BTL_LON,SALTREF,SALTREF_FLAG_W,CS-137,CS-137_FLAG_W,CS-134,CS-134_FLAG_W,REFTMP,REFTMP_FLAG_W,LAB_DEN,LAB_DEN_FLAG_W,D18O_NO3,D18O_NO3_FLAG_W,HELIER,DELHER,TRITER
,,,,,,,,,,,METERS,DBAR,ITS-90,PSS-78,,PSS-78,,UMOL/KG,,UMOL/KG,,UMOL/KG,,UMOL/KG,,UMOL/KG,,UMOL/KG,,PMOL/KG,,PMOL/KG,,PMOL/KG,,FMOL/KG,,UMOL/KG,,UMOL/KG,,,,DEG C,TU,,NMOL/KG,,PERCNT,,/MILLE,,/MILLE,,/MILLE,NMOL/KG,,NMOL/KG,BQ/M^3,,DM/.1MG,,UMOL/KG,,UMOL/KG,,MMOL/KG,,/MILLE,,,,,,G/KG,,BQ/M^3,,BQ/M^3,,ITS-90,,,,/MILLE,,NMOL/KG,PERCNT,TU
318M20130321,       P02W,      15,          1,          7,          7,2,20130409,       1230,    30.0008,   134.8604,       4714,  3140.7,   1.5329,  34.6729,2,  34.6723,2,    147.4,2,   147.8,2,  143.87,2,   36.14,2,       0,2,    2.53,2,   0.041,2,   0.021,2,   0.019,2,     0.04,2,  2326.2,2, 2413.26,2,   7.5613,2,       25,-999.000,9,-999.0000,9, -999.00,9, -999.00,9,  -999.0,9,  -999.0,-999.000,9,-999.000,     -999.0,9, -999.00,9,   37.24,2, -999.00,9,     -999.0,9,  -999.0,9, 20130409,     1305,  30.0003, 134.8613,    34.8358,2,     -999.0,9,     -999.0,9,     1.5328,2,     -999.0,9,     -999.0,9,-999.0000, -999.00,-999.000
318M20130321,       P02W,      15,          1,          6,          6,2,20130409,       1230,    30.0008,   134.8604,       4714,  3450.2,   1.5157,  34.6781,2,   34.678,2,    150.7,2,   151.3,2,   142.8,2,   35.92,2,       0,2,     2.5,2,-999.000,9,-999.000,9,-999.000,9,-999.0000,9,  -999.0,9, -999.00,9,-999.0000,9,  -999.00,-999.000,9,-999.0000,9, -999.00,9, -999.00,9,  -999.0,9,  -999.0,-999.000,9,-999.000,     -999.0,9, -999.00,9, -999.00,9, -999.00,9,     -999.0,9,  -999.0,9, 20130409,     1259,  30.0005, 134.8611,    34.8415,2,     -999.0,9,     -999.0,9,     1.5158,2,     -999.0,9,     -999.0,9,-999.0000, -999.00,-999.000
318M20130321,       P02W,      15,          1,          5,         37,2,20130409,       1230,    30.0008,   134.8604,       4714,  3759.7,   1.5217,   34.681,2,  34.6815,2,    153.1,2,   153.4,2,   142.8,2,   35.78,2,       0,2,    2.49,2,   0.032,2,   0.013,2,   0.038,2,     0.03,2,  -999.0,9, -999.00,9,-999.0000,9,  -999.00,-999.000,9,-999.0000,9, -999.00,9, -999.00,9,  -999.0,9,  -999.0,-999.000,9,-999.000,     -999.0,9, -999.00,9,   35.42,2, -999.00,9,     -999.0,9,  -999.0,9, 20130409,     1253,  30.0007,  134.861,    34.8451,2,     -999.0,9,     -999.0,9,     1.5217,2,     -999.0,9,     -999.0,9,-999.0000, -999.00,-999.000
318M20130321,       P02W,      15,          1,          4,          4,2,20130409,       1230,    30.0008,   134.8604,       4714,  4058.2,   1.5412,  34.6825,2,  34.6818,2,    154.6,2,   154.5,2,   142.8,2,   35.71,2,       0,2,    2.49,2,-999.000,9,-999.000,9,-999.000,9,-999.0000,9,  2321.1,2, 2412.26,6,   7.5719,2,       25,-999.000,9,-999.0000,9, -999.00,9, -999.00,9,  -999.0,9,  -999.0,-999.000,9,-999.000,     -999.0,9, -999.00,9, -999.00,9, -999.00,9,     -999.0,9,  -999.0,9, 20130409,     1247,  30.0004, 134.8608,    34.8453,2,     -999.0,9,     -999.0,9,      1.541,2,     -999.0,9,     -999.0,9,-999.0000, -999.00,-999.000
318M20130321,       P02W,      15,          1,          3,          3,2,20130409,       1230,    30.0008,   134.8604,       4714,  4409.8,   1.5705,  34.6834,2,  34.6833,2,    154.7,2,   155.6,2,  142.31,2,   35.67,2,       0,2,    2.48,2,   0.030,2,   0.015,2,   0.000,2,     0.03,2,  2319.5,2, 2410.36,2,   7.5738,6,       25,-999.000,9,-999.0000,9, -999.00,9, -999.00,9,  -999.0,9,  -999.0,-999.000,9,-999.000,     -999.0,9, -999.00,9,   37.36,2, -999.00,9,     -999.0,9,  -999.0,9, 20130409,     1239,  30.0006, 134.8607,    34.8469,2,     -999.0,9,     -999.0,9,     1.5708,2,     -999.0,9,     -999.0,9,-999.0000, -999.00,-999.000
318M20130321,       P02W,      15,          1,          2,          2,4,20130409,       1230,    30.0008,   134.8604,       4714,    4616,   1.5904,  34.6838,2,  34.6637,4,    156.9,2,   141.4,4,  144.36,4,   36.54,4,       0,4,    2.57,4,-999.000,9,-999.000,9,-999.000,9,-999.0000,9,  2327.6,4, 2411.46,4,-999.0000,5,  -999.00,-999.000,9,-999.0000,9, -999.00,9, -999.00,9,  -999.0,9,  -999.0,-999.000,9,-999.000,     -999.0,9, -999.00,9,    37.1,2, -999.00,9,     -999.0,9,  -999.0,9, 20130409,     1235,  30.0009, 134.8605,    34.8272,4,     -999.0,9,     -999.0,9,     1.5904,2,     -999.0,9,     -999.0,9,-999.0000, -999.00,-999.000
318M20130321,       P02W,      15,          1,          1,          1,2,20130409,       1230,    30.0008,   134.8604,       4714,  4781.9,   1.6064,   34.684,2,  34.6842,2,    156.5,2,     156,2,  141.82,2,    35.6,2,       0,2,    2.49,2,   0.051,2,   0.023,2,   0.000,2,     0.07,2,  2319.7,6, 2412.26,2,   7.5725,2,       25,-999.000,9,-999.0000,9, -999.00,9, -999.00,9,  -999.0,9,  -999.0,-999.000,9,-999.000,     -999.0,9, -999.00,9,   38.59,2, -999.00,9,     -999.0,9,  -999.0,9, 20130409,     1230,  30.0008, 134.8605,    34.8477,2,     -999.0,9,     -999.0,9,     1.6063,2,     -999.0,9,     -999.0,9,-999.0000, -999.00,-999.000