BOTTLE,20220817CCHSIOAMB
EXPOCODE,SECT_ID,STNNBR,CASTNO,SAMPNO,BTLNBR,BTLNBR_FLAG_W,DATE,TIME,LATITUDE,LONGITUDE,DEPTH,CTDPRS,CTDTMP,CTDSAL,CTDSAL_FLAG_W,SALNTY,SALNTY_FLAG_W,CTDOXY,CTDOXY_FLAG_W,OXYGEN,OXYGEN_FLAG_W,SILCAT,SILCAT_FLAG_W,NITRAT,NITRAT_FLAG_W,NITRIT,NITRIT_FLAG_W,PHSPHT,PHSPHT_FLAG_W,CFC-11,CFC-11_FLAG_W,CFC-12,CFC-12_FLAG_W,CFC113,CFC113_FLAG_W,SF6,SF6_FLAG_W,TCARBN,TCARBN_FLAG_W,ALKALI,ALKALI_FLAG_W,PH_TOT,PH_TOT_FLAG_W,PH_TMP,TRITUM,TRITUM_FLAG_W,HELIUM,HELIUM_FLAG_W,DELHE3,DELHE3_FLAG_W,DELC13,DELC13_FLAG_W,DELC14,DELC14_FLAG_W,C14ERR,NEON,NEON_FLAG_W,NEONER,I-129,I-129_FLAG_W,SR-90,SR-90_FLAG_W,DOC,DOC_FLAG_W,TDN,TDN_FLAG_W,CALCIUM,CALCIUM_FLAG_W,D15N_NO3,D15N_NO3_FLAG_W,BTL_DATE,BTL_TIME,BTL_LAT,BTL_LON,SALTREF,SALTREF_FLAG_W,CS-137,CS-137_FLAG_W,CS-134,CS-134_FLAG_W,REFTMP,REFTMP_FLAG_W,LAB_DEN,LAB_DEN_FLAG_W,D18O_NO3,D18O_NO3_FLAG_W,HELIER,DELHER,TRITER
,,,,,,,,,,,METERS,DBAR,ITS-90,PSS-78,,PSS-78,,UMOL/KG,,UMOL/KG,,UMOL/KG,,UMOL/KG,,UMOL/KG,,UMOL/KG,,PMOL/KG,,PMOL/KG,,PMOL/KG,,FMOL/KG,,UMOL/KG,,UMOL/KG,,,,DEG C,TU,,NMOL/KG,,PERCNT,,/MILLE,,/MILLE,,/MILLE,NMOL/KG,,NMOL/KG,BQ/M^3,,DM/.1MG,,UMOL/KG,,UMOL/KG,,MMOL/KG,,/MILLE,,,,,,G/KG,,BQ/M^3,,BQ/M^3,,ITS-90,,,,/MILLE,,NMOL/KG,PERCNT,TU
318M20130321,       P02E,      98,          1,         36,         36,2,20130515,       1620,    29.9998,  -156.0185,       5994,     2.9,  21.1714,  35.1525,2,  35.1538,2,    224.7,2,   224.4,2,    1.56,2,       0,2,    0.01,2,    0.03,2,   1.873,2,   1.147,2,-999.000,5,   1.4037,2,  2022.4,2, 2309.02,2,   8.0183,2,       25,-999.000,9,-999.0000,9, -999.00,9, -999.00,9,  -999.0,9,  -999.0,-999.000,9,-999.000,     -999.0,1, -999.00,9, -999.00,9, -999.00,9,     -999.0,9,  -999.0,1, 20130515,     1847,  29.9998,-156.0192,    35.3195,2,     -999.0,9,     -999.0,9,    21.1727,2,     -999.0,9,     -999.0,1,-999.0000, -999.00,-999.000
318M20130321,       P02E,      98,          1,         34,         34,2,20130515,       1620,    29.9998,  -156.0185,       5994,    39.9,  21.1138,  35.2022,2,   35.203,2,    225.5,2,   224.1,2,    1.56,2,       0,2,       0,2,    0.01,2,   1.876,2,   1.145,2,-999.000,5,   1.4117,2,  2023.6,2, 2313.72,2,   8.0205,2,       25,-999.000,9,-999.0000,9, -999.00,9, -999.00,9,  -999.0,9,  -999.0,-999.000,9,-999.000,     -999.0,9, -999.00,9, -999.00,9, -999.00,9,     -999.0,9,  -999.0,1, 20130515,     1844,       30,-156.0192,     35.369,2,     -999.0,9,     -999.0,9,    21.1156,2,     -999.0,9,     -999.0,1,-999.0000, -999.00,-999.000
318M20130321,       P02E,      98,          1,         33,         33,2,20130515,       1620,    29.9998,  -156.0185,       5994,    65.8,  20.1128,  35.1007,2,   35.101,2,    228.8,2,     230,2,    1.85,2,       0,2,       0,2,    0.02,2,   1.973,6,   1.191,6,-999.000,5,   1.3975,6,  -999.0,9, -999.00,9,-999.0000,9,  -999.00,-999.000,9,-999.0000,9, -999.00,9, -999.00,9,  -999.0,9,  -999.0,-999.000,9,-999.000,     -999.0,9, -999.00,9, -999.00,9, -999.00,9,     -999.0,9,  -999.0,1, 20130515,     1842,  30.0002,-156.0192,    35.2665,2,     -999.0,9,     -999.0,9,    20.1197,2,     -999.0,9,     -999.0,1,-999.0000, -999.00,-999.000
318M20130321,       P02E,      98,          1,         32,         32,2,20130515,       1620,    29.9998,  -156.0185,       5994,      90,  19.7556,  35.0833,2,  35.0839,2,    228.9,2,   230.2,2,    1.95,2,       0,2,    0.01,2,    0.02,2,   1.976,2,   1.192,2,-999.000,5,   1.5161,2,    2023,2, 2305.12,2,   8.0109,6,       25,-999.000,9,-999.0000,9, -999.00,9, -999.00,9,  -999.0,9,  -999.0,-999.000,9,-999.000,     -999.0,9, -999.00,9, -999.00,9, -999.00,9,     -999.0,9,  -999.0,1, 20130515,     1840,  30.0002,-156.0193,    35.2493,2,     -999.0,9,     -999.0,9,    19.7561,2,     -999.0,9,     -999.0,1,-999.0000, -999.00,-999.000
318M20130321,       P02E,      98,          1,         31,         31,2,20130515,       1620,    29.9998,  -156.0185,       5994,   135.2,  19.1812,  35.0124,2,  35.0134,2,    228.1,2,   222.9,2,    2.15,2,    0.15,2,    0.08,2,    0.05,2,   2.038,2,   1.230,2,-999.000,5,   1.4118,2,  -999.0,9, -999.00,9,-999.0000,9,  -999.00,-999.000,9,-999.0000,9, -999.00,9, -999.00,9,  -999.0,9,  -999.0,-999.000,9,-999.000,     -999.0,9, -999.00,9, -999.00,9, -999.00,9,     -999.0,9,  -999.0,1, 20130515,     1838,  30.0002,-156.0193,    35.1785,2,     -999.0,9,     -999.0,9,    19.1809,2,     -999.0,9,     -999.0,1,-999.0000, -999.00,-999.000
318M20130321,       P02E,      98,          1,         30,         30,2,20130515,       1620,    29.9998,  -156.0185,       5994,   185.6,  15.0364,  34.3895,2,   34.389,2,    220.3,2,   220.3,2,    5.08,2,    3.93,2,    0.04,2,    0.34,2,   2.496,2,   1.456,2,-999.000,5,   1.4441,2,  2048.4,2,    2261,6,   7.8874,2,       25,-999.000,9,-999.0000,9, -999.00,9, -999.00,9,  -999.0,9,  -999.0,-999.000,9,-999.000,     -999.0,9, -999.00,9, -999.00,9, -999.00,9,     -999.0,9,  -999.0,1, 20130515,     1836,       30,-156.0192,    34.5512,2,     -999.0,9,     -999.0,9,    15.0367,2,     -999.0,9,     -999.0,1,-999.0000, -999.00,-999.000
318M20130321,       P02E,      98,          1,         29,         29,2,20130515,       1620,    29.9998,  -156.0185,       5994,   236.2,  13.2405,   34.287,2,  34.2888,2,      215,2,   214.3,2,     8.1,2,    8.29,2,    0.02,2,    0.61,2,   2.702,2,   1.571,2,-999.000,5,   1.4885,2,  -999.0,9, -999.00,9,-999.0000,9,  -999.00,-999.000,9,-999.0000,9, -999.00,9, -999.00,9,  -999.0,9,  -999.0,-999.000,9,-999.000,     -999.0,9, -999.00,9, -999.00,9, -999.00,9,     -999.0,9,  -999.0,1, 20130515,     1834,       30,-156.0188,    34.4505,2,     -999.0,9,     -999.0,9,    13.2427,2,     -999.0,9,     -999.0,1,-999.0000, -999.00,-999.000
318M20130321,       P02E,      98,          1,         28,         28,2,20130515,       1620,    29.9998,  -156.0185,       5994,   286.7,  12.0867,  34.2362,2,   34.236,2,    215.7,2,   216.5,2,   10.74,2,   10.65,2,    0.01,2,    0.76,2,   1.734,4,   0.423,4,-999.000,5,   1.0123,4,  -999.0,9, -999.00,9,-999.0000,9,  -999.00,-999.000,9,-999.0000,9, -999.00,9, -999.00,9,  -999.0,9,  -999.0,-999.000,9,-999.000,     -999.0,9, -999.00,9, -999.00,9, -999.00,9,     -999.0,9,  -999.0,1, 20130515,     1832,  29.9999,-156.0185,    34.3975,2,     -999.0,9,     -999.0,9,    12.0877,2,     -999.0,9,     -999.0,1,-999.0000, -999.00,-999.000
318M20130321,       P02E,      98,          1,         27,         27,2,20130515,       1620,    29.9998,  -156.0185,       5994,   336.1,  11.1737,  34.1987,2,  34.1984,2,    216.1,2,   217.2,2,   13.67,2,   12.57,2,    0.01,2,     0.9,2,   3.022,2,   1.700,2,-999.000,5,   1.4646,2,  2093.8,2,  2259.2,2,   7.7867,6,       25,-999.000,9,-999.0000,9, -999.00,9, -999.00,9,  -999.0,9,  -999.0,-999.000,9,-999.000,     -999.0,9, -999.00,9, -999.00,9, -999.00,9,     -999.0,9,  -999.0,1, 20130515,     1830,  29.9999,-156.0184,    34.3597,2,     -999.0,9,     -999.0,9,    11.1689,2,     -999.0,9,     -999.0,1,-999.0000, -999.00,-999.000
318M20130321,       P02E,      98,          1,         26,         26,2,20130515,       1620,    29.9998,  -156.0185,       5994,   385.7,  10.2906,  34.1517,2,  34.1517,2,    210.4,2,   209.1,2,   17.67,2,   15.16,2,       0,2,    1.07,2,   3.086,2,   1.714,2,-999.000,5,   1.3284,2,  -999.0,9, -999.00,9,-999.0000,9,  -999.00,-999.000,9,-999.0000,9, -999.00,9, -999.00,9,  -999.0,9,  -999.0,-999.000,9,-999.000,     -999.0,9, -999.00,9, -999.00,9, -999.00,9,     -999.0,9,  -999.0,1, 20130515,     1828,       30,-156.0185,    34.3128,2,     -999.0,9,     -999.0,9,    10.2896,2,     -999.0,9,     -999.0,1,-999.0000, -999.00,-999.000
318M20130321,       P02E,      98,          1,         25,         25,2,20130515,       1620,    29.9998,  -156.0185,       5994,   467.3,   8.6677,  34.0646,2,  34.0657,2,    184.5,2,     186,2,   28.61,2,   20.58,2,       0,2,    1.46,2,   3.051,2,   1.638,2,-999.000,5,   1.0245,2,  2145.9,2, 2266.71,2,   7.6715,2,       25,-999.000,9,-999.0000,9, -999.00,9, -999.00,9,  -999.0,9,  -999.0,-999.000,9,-999.000,     -999.0,9, -999.00,9, -999.00,9, -999.00,9,     -999.0,9,  -999.0,1, 20130515,     1825,  30.0001,-156.0186,    34.2263,2,     -999.0,9,     -999.0,9,     8.6666,2,     -999.0,9,     -999.0,1,-999.0000, -999.00,-999.000
318M20130321,       P02E,      98,          1,         24,         24,2,20130515,       1620,    29.9998,  -156.0185,       5994,   568.9,      6.7,  33.9968,2,  33.9981,2,    127.1,2,   131.2,2,   50.39,2,    29.5,2,       0,2,    2.11,2,   2.426,2,   1.228,2,-999.000,5,    0.605,2,  2210.8,2, 2279.61,2,   7.5211,2,       25,-999.000,9,-999.0000,9, -999.00,9, -999.00,9,  -999.0,9,  -999.0,-999.000,9,-999.000,     -999.0,9, -999.00,9, -999.00,9, -999.00,9,     -999.0,9,  -999.0,1, 20130515,     1822,  30.0001,-156.0187,    34.1584,2,     -999.0,9,     -999.0,9,     6.7017,2,     -999.0,9,     -999.0,1,-999.0000, -999.00,-999.000
318M20130321,       P02E,      98,          1,         23,         23,2,20130515,       1620,    29.9998,  -156.0185,       5994,   670.4,   5.2788,  34.0236,2,  34.0246,2,       76,2,    80.4,2,   74.32,2,   36.58,2,       0,2,    2.66,2,   1.435,2,   0.690,2,-999.000,5,    0.231,2,  2269.1,2, 2299.32,2,   7.3971,6,       25,-999.000,9,-999.0000,9, -999.00,9, -999.00,9,  -999.0,9,  -999.0,-999.000,9,-999.000,     -999.0,9, -999.00,9, -999.00,9, -999.00,9,     -999.0,9,  -999.0,1, 20130515,     1819,  29.9999,-156.0188,     34.185,2,     -999.0,9,     -999.0,9,     5.2806,2,     -999.0,9,     -999.0,1,-999.0000, -999.00,-999.000
318M20130321,       P02E,      98,          1,         22,         22,2,20130515,       1620,    29.9998,  -156.0185,       5994,   771.8,    4.506,  34.1343,2,  34.1386,2,     33.9,2,      35,2,   95.89,2,   41.52,2,       0,2,    3.03,2,   0.442,2,   0.215,2,-999.000,5,   0.1319,2,  2319.2,2,  2320.9,2,   7.3098,2,       25,-999.000,9,-999.0000,9, -999.00,9, -999.00,9,  -999.0,9,  -999.0,-999.000,9,-999.000,     -999.0,9, -999.00,9, -999.00,9, -999.00,9,     -999.0,9,  -999.0,1, 20130515,     1816,  29.9998,-156.0188,    34.2996,2,     -999.0,9,     -999.0,9,     4.5066,2,     -999.0,9,     -999.0,1,-999.0000, -999.00,-999.000
318M20130321,       P02E,      98,          1,         21,         21,2,20130515,       1620,    29.9998,  -156.0185,       5994,   872.7,   4.0437,   34.242,2,  34.2422,2,     16.1,2,      14,2,  111.31,2,   43.39,2,       0,2,    3.17,2,   0.097,2,   0.053,2,-999.000,5,        0,2,  2347.7,2, 2342.03,2,   7.2855,2,       25,-999.000,9,-999.0000,9, -999.00,9, -999.00,9,  -999.0,9,  -999.0,-999.000,9,-999.000,     -999.0,9, -999.00,9, -999.00,9, -999.00,9,     -999.0,9,  -999.0,1, 20130515,     1813,  30.0001,-156.0188,    34.4036,2,     -999.0,9,     -999.0,9,     4.0434,2,     -999.0,9,     -999.0,1,-999.0000, -999.00,-999.000
318M20130321,       P02E,      98,          1,         20,         20,2,20130515,       1620,    29.9998,  -156.0185,       5994,     970,   3.7224,  34.3227,2,  34.3222,2,     11.8,2,    13.6,2,  121.75,2,   43.99,2,       0,2,    3.24,2,   0.028,2,   0.000,2,-999.000,5,        0,2,  -999.0,9, -999.00,9,-999.0000,9,  -999.00,-999.000,9,-999.0000,9, -999.00,9, -999.00,9,  -999.0,9,  -999.0,-999.000,9,-999.000,     -999.0,9, -999.00,9, -999.00,9, -999.00,9,     -999.0,9,  -999.0,1, 20130515,     1810,  30.0004,-156.0188,     34.484,2,     -999.0,9,     -999.0,9,     3.7204,2,     -999.0,9,     -999.0,1,-999.0000, -999.00,-999.000
318M20130321,       P02E,      98,          1,         19,         19,2,20130515,       1620,    29.9998,  -156.0185,       5994,  1070.5,   3.5098,  34.3922,2,  34.3928,2,     15.3,2,      17,2,  128.67,2,   43.99,2,       0,2,    3.24,2,   0.016,2,   0.000,2,-999.000,5,        0,2,    2367,2, 2367.64,2,   7.3035,2,       25,-999.000,9,-999.0000,9, -999.00,9, -999.00,9,  -999.0,9,  -999.0,-999.000,9,-999.000,     -999.0,9, -999.00,9, -999.00,9, -999.00,9,     -999.0,9,  -999.0,1, 20130515,     1807,  30.0003,-156.0189,     34.555,2,     -999.0,9,     -999.0,9,       3.51,2,     -999.0,9,     -999.0,1,-999.0000, -999.00,-999.000
318M20130321,       P02E,      98,          1,         18,         18,2,20130515,       1620,    29.9998,  -156.0185,       5994,  1173.8,   3.2786,  34.4523,2,  34.4535,2,     24.5,2,    24.9,2,  134.43,2,    43.7,2,       0,2,     3.2,2,   0.010,2,   0.008,2,-999.000,5,        0,2,  2370.7,2, 2378.14,2,   7.3257,2,       25,-999.000,9,-999.0000,9, -999.00,9, -999.00,9,  -999.0,9,  -999.0,-999.000,9,-999.000,     -999.0,9, -999.00,9, -999.00,9, -999.00,9,     -999.0,9,  -999.0,1, 20130515,     1804,  29.9999, -156.019,     34.616,2,     -999.0,9,     -999.0,9,      3.278,2,     -999.0,9,     -999.0,1,-999.0000, -999.00,-999.000
318M20130321,       P02E,      98,          1,         17,         17,2,20130515,       1620,    29.9998,  -156.0185,       5994,  1275.8,   3.0595,  34.4937,2,  34.4945,2,     32.9,2,    34.4,2,  138.82,2,   43.22,2,       0,2,    3.16,2,   0.008,2,   0.006,2,-999.000,5,        0,2,  2372.2,6, 2386.25,2,   7.3487,2,       25,-999.000,9,-999.0000,9, -999.00,9, -999.00,9,  -999.0,9,  -999.0,-999.000,9,-999.000,     -999.0,9, -999.00,9, -999.00,9, -999.00,9,     -999.0,9,  -999.0,1, 20130515,     1801,  29.9999, -156.019,    34.6572,2,     -999.0,9,     -999.0,9,     3.0599,2,     -999.0,9,     -999.0,1,-999.0000, -999.00,-999.000
318M20130321,       P02E,      98,          1,         16,         16,2,20130515,       1620,    29.9998,  -156.0185,       5994,  1440.1,   2.7775,   34.535,2,  34.5358,2,     48.1,2,    48.3,2,  144.77,2,   42.52,2,       0,2,    3.08,2,   0.007,2,   0.005,2,-999.000,5,        0,2,  2368.5,2, 2395.85,2,   7.3785,2,       25,-999.000,9,-999.0000,9, -999.00,9, -999.00,9,  -999.0,9,  -999.0,-999.000,9,-999.000,     -999.0,9, -999.00,9, -999.00,9, -999.00,9,     -999.0,9,  -999.0,1, 20130515,     1757,  30.0002, -156.019,    34.6986,2,     -999.0,9,     -999.0,9,     2.7773,2,     -999.0,9,     -999.0,1,-999.0000, -999.00,-999.000
318M20130321,       P02E,      98,          1,         15,         15,2,20130515,       1620,    29.9998,  -156.0185,       5994,  1664.2,   2.3966,  34.5759,2,   34.577,2,     64.5,2,    64.3,2,  152.67,2,   41.59,2,       0,2,       3,2,   0.005,2,   0.005,2,-999.000,5,        0,2,  -999.0,9, -999.00,9,-999.0000,9,  -999.00,-999.000,9,-999.0000,9, -999.00,9, -999.00,9,  -999.0,9,  -999.0,-999.000,9,-999.000,     -999.0,9, -999.00,9, -999.00,9, -999.00,9,     -999.0,9,  -999.0,1, 20130515,     1752,  29.9996,-156.0188,    34.7401,2,     -999.0,9,     -999.0,9,     2.3969,2,     -999.0,9,     -999.0,1,-999.0000, -999.00,-999.000
318M20130321,       P02E,      98,          1,         14,         14,2,20130515,       1620,    29.9998,  -156.0185,       5994,  1917.8,   2.1024,  34.6047,2,  34.6049,2,     76.9,2,    76.7,2,  160.08,2,   40.86,2,       0,2,    2.94,2,   0.008,2,   0.004,2,-999.000,5,        0,2,  2368.5,2, 2412.66,2,   7.4359,2,       25,-999.000,9,-999.0000,9, -999.00,9, -999.00,9,  -999.0,9,  -999.0,-999.000,9,-999.000,     -999.0,9, -999.00,9, -999.00,9, -999.00,9,     -999.0,9,  -999.0,1, 20130515,     1746,       30,-156.0185,    34.7681,2,     -999.0,9,     -999.0,9,     2.1024,2,     -999.0,9,     -999.0,1,-999.0000, -999.00,-999.000
318M20130321,       P02E,      98,          1,         13,         13,2,20130515,       1620,    29.9998,  -156.0185,       5994,  2186.7,   1.8695,   34.629,2,  34.6291,2,     89.5,2,    89.2,2,  165.16,2,    40.1,2,       0,2,    2.87,2,   0.005,2,   0.003,2,-999.000,5,        0,2,  -999.0,9, -999.00,9,-999.0000,9,  -999.00,-999.000,9,-999.0000,9, -999.00,9, -999.00,9,  -999.0,9,  -999.0,-999.000,9,-999.000,     -999.0,9, -999.00,9, -999.00,9, -999.00,9,     -999.0,9,  -999.0,1, 20130515,     1741,  29.9999,-156.0183,    34.7924,2,     -999.0,9,     -999.0,9,      1.869,2,     -999.0,9,     -999.0,1,-999.0000, -999.00,-999.000
318M20130321,       P02E,      98,          1,         12,         12,2,20130515,       1620,    29.9998,  -156.0185,       5994,  2442.6,   1.7427,  34.6426,2,  34.6442,2,    100.4,2,    99.9,2,  166.62,2,   39.46,2,       0,2,    2.82,2,   0.004,2,   0.002,2,-999.000,5,        0,2,  2361.7,2, 2423.26,2,   7.4808,2,       25,-999.000,9,-999.0000,9, -999.00,9, -999.00,9,  -999.0,9,  -999.0,-999.000,9,-999.000,     -999.0,9, -999.00,9, -999.00,9, -999.00,9,     -999.0,9,  -999.0,1, 20130515,     1735,  29.9992,-156.0182,    34.8076,2,     -999.0,9,     -999.0,9,     1.7428,2,     -999.0,9,     -999.0,1,-999.0000, -999.00,-999.000
318M20130321,       P02E,      98,          1,         11,         11,2,20130515,       1620,    29.9998,  -156.0185,       5994,  2695.1,   1.6429,  34.6548,2,  34.6562,2,    109.7,2,   110.4,2,  166.81,2,   38.78,2,       0,2,    2.75,2,   0.004,2,   0.003,2,-999.000,5,        0,2,  -999.0,9, -999.00,9,-999.0000,9,  -999.00,-999.000,9,-999.0000,9, -999.00,9, -999.00,9,  -999.0,9,  -999.0,-999.000,9,-999.000,     -999.0,9, -999.00,9, -999.00,9, -999.00,9,     -999.0,9,  -999.0,1, 20130515,     1730,  29.9991,-156.0183,    34.8196,2,     -999.0,9,     -999.0,9,     1.6432,2,     -999.0,9,     -999.0,1,-999.0000, -999.00,-999.000
318M20130321,       P02E,      98,          1,         10,         10,2,20130515,       1620,    29.9998,  -156.0185,       5994,  2951.8,   1.5742,  34.6637,2,  34.6641,2,    119.5,2,   118.5,2,  165.74,2,   38.16,2,       0,2,    2.69,2,   0.004,2,   0.002,2,-999.000,5,        0,2,  2349.3,2, 2424.56,2,   7.5179,2,       25,-999.000,9,-999.0000,9, -999.00,9, -999.00,9,  -999.0,9,  -999.0,-999.000,9,-999.000,     -999.0,9, -999.00,9, -999.00,9, -999.00,9,     -999.0,9,  -999.0,1, 20130515,     1724,  29.9996,-156.0186,    34.8275,2,     -999.0,9,     -999.0,9,     1.5744,2,     -999.0,9,     -999.0,1,-999.0000, -999.00,-999.000
318M20130321,       P02E,      98,          1,          9,          9,2,20130515,       1620,    29.9998,  -156.0185,       5994,  3241.6,   1.5238,  34.6715,2,  34.6717,2,    127.8,2,   127.6,2,  163.98,2,   37.71,2,       0,2,    2.65,2,   0.006,2,   0.002,2,-999.000,5,        0,2,  -999.0,9, -999.00,9,-999.0000,9,  -999.00,-999.000,9,-999.0000,9, -999.00,9, -999.00,9,  -999.0,9,  -999.0,-999.000,9,-999.000,     -999.0,9, -999.00,9, -999.00,9, -999.00,9,     -999.0,9,  -999.0,1, 20130515,     1717,       30,-156.0187,    34.8352,2,     -999.0,9,     -999.0,9,     1.5237,2,     -999.0,9,     -999.0,1,-999.0000, -999.00,-999.000
318M20130321,       P02E,      98,          1,          8,          8,2,20130515,       1620,    29.9998,  -156.0185,       5994,  3546.7,   1.4937,  34.6771,2,  34.6773,2,    135.5,2,   136.4,2,  160.17,2,   37.04,2,       0,2,    2.61,2,   0.000,2,   0.000,2,-999.000,5,        0,2,  2337.3,2, 2423.46,2,   7.5479,2,       25,-999.000,9,-999.0000,9, -999.00,9, -999.00,9,  -999.0,9,  -999.0,-999.000,9,-999.000,     -999.0,9, -999.00,9, -999.00,9, -999.00,9,     -999.0,9,  -999.0,1, 20130515,     1711,  30.0003,-156.0189,    34.8408,2,     -999.0,9,     -999.0,9,     1.4939,2,     -999.0,9,     -999.0,1,-999.0000, -999.00,-999.000
318M20130321,       P02E,      98,          1,          7,          7,2,20130515,       1620,    29.9998,  -156.0185,       5994,  3921.2,   1.4805,  34.6822,2,   34.682,2,    142.4,2,   143.3,2,  157.73,2,   36.62,2,       0,2,    2.59,2,   0.004,2,   0.003,2,-999.000,5,        0,2,  -999.0,9, -999.00,9,-999.0000,9,  -999.00,-999.000,9,-999.0000,9, -999.00,9, -999.00,9,  -999.0,9,  -999.0,-999.000,9,-999.000,     -999.0,9, -999.00,9, -999.00,9, -999.00,9,     -999.0,9,  -999.0,1, 20130515,     1704,  30.0001,-156.0188,    34.8455,2,     -999.0,9,     -999.0,9,     1.4808,2,     -999.0,9,     -999.0,1,-999.0000, -999.00,-999.000