BOTTLE,20220817CCHSIOAMB
EXPOCODE,SECT_ID,STNNBR,CASTNO,SAMPNO,BTLNBR,BTLNBR_FLAG_W,DATE,TIME,LATITUDE,LONGITUDE,DEPTH,CTDPRS,CTDTMP,CTDSAL,CTDSAL_FLAG_W,SALNTY,SALNTY_FLAG_W,CTDOXY,CTDOXY_FLAG_W,OXYGEN,OXYGEN_FLAG_W,SILCAT,SILCAT_FLAG_W,NITRAT,NITRAT_FLAG_W,NITRIT,NITRIT_FLAG_W,PHSPHT,PHSPHT_FLAG_W,CFC-11,CFC-11_FLAG_W,CFC-12,CFC-12_FLAG_W,CFC113,CFC113_FLAG_W,SF6,SF6_FLAG_W,TCARBN,TCARBN_FLAG_W,ALKALI,ALKALI_FLAG_W,PH_TOT,PH_TOT_FLAG_W,PH_TMP,TRITUM,TRITUM_FLAG_W,HELIUM,HELIUM_FLAG_W,DELHE3,DELHE3_FLAG_W,DELC13,DELC13_FLAG_W,DELC14,DELC14_FLAG_W,C14ERR,NEON,NEON_FLAG_W,NEONER,I-129,I-129_FLAG_W,SR-90,SR-90_FLAG_W,DOC,DOC_FLAG_W,TDN,TDN_FLAG_W,CALCIUM,CALCIUM_FLAG_W,D15N_NO3,D15N_NO3_FLAG_W,BTL_DATE,BTL_TIME,BTL_LAT,BTL_LON,SALTREF,SALTREF_FLAG_W,CS-137,CS-137_FLAG_W,CS-134,CS-134_FLAG_W,REFTMP,REFTMP_FLAG_W,LAB_DEN,LAB_DEN_FLAG_W,D18O_NO3,D18O_NO3_FLAG_W,HELIER,DELHER,TRITER
,,,,,,,,,,,METERS,DBAR,ITS-90,PSS-78,,PSS-78,,UMOL/KG,,UMOL/KG,,UMOL/KG,,UMOL/KG,,UMOL/KG,,UMOL/KG,,PMOL/KG,,PMOL/KG,,PMOL/KG,,FMOL/KG,,UMOL/KG,,UMOL/KG,,,,DEG C,TU,,NMOL/KG,,PERCNT,,/MILLE,,/MILLE,,/MILLE,NMOL/KG,,NMOL/KG,BQ/M^3,,DM/.1MG,,UMOL/KG,,UMOL/KG,,MMOL/KG,,/MILLE,,,,,,G/KG,,BQ/M^3,,BQ/M^3,,ITS-90,,,,/MILLE,,NMOL/KG,PERCNT,TU
318M20130321,       P02W,      63,          3,         35,         35,2,20130425,       0820,         30,   172.4701,       5594,       5,  19.5039,  34.9937,2,  34.9943,2,    230.6,2,   230.8,2,    1.95,2,       0,2,    0.01,2,       0,2,   2.381,2,   1.473,2,   0.202,2,     1.53,2,  2012.9,2, 2298.02,6,   8.0153,2,       25,-999.000,9,-999.0000,9, -999.00,9, -999.00,9,  -999.0,9,  -999.0,-999.000,9,-999.000,     -999.0,9, -999.00,9,   60.07,2,    3.84,2,     -999.0,9,  -999.0,1, 20130425,     1028,  30.0001, 172.4655,    35.1593,2,     -999.0,9,     -999.0,9,    19.5046,2,     -999.0,1,     -999.0,1,-999.0000, -999.00,-999.000
318M20130321,       P02W,      63,          3,         36,         36,2,20130425,       0820,         30,   172.4701,       5594,    33.3,  19.4925,  34.9889,2,  34.9923,2,    231.5,2,   230.9,2,    1.95,2,    0.01,2,    0.01,2,    0.01,2,   2.377,2,   1.473,2,   0.217,2,     1.43,2,  -999.0,9, -999.00,9,-999.0000,9,  -999.00,-999.000,9,-999.0000,9, -999.00,9, -999.00,9,  -999.0,9,  -999.0,-999.000,9,-999.000,     -999.0,9, -999.00,9,   59.29,2,    4.14,2,     -999.0,9,  -999.0,1, 20130425,     1026,  30.0001, 172.4659,    35.1573,2,     -999.0,9,     -999.0,9,    19.4984,2,     -999.0,9,     -999.0,1,-999.0000, -999.00,-999.000
318M20130321,       P02W,      63,          3,         34,         34,2,20130425,       0820,         30,   172.4701,       5594,    57.7,  18.2692,  34.7945,2,  34.7958,2,    227.2,2,   227.7,2,    2.44,2,    0.46,2,    0.04,2,    0.06,2,-999.000,9,-999.000,9,-999.000,9,-999.0000,9,  2016.9,2, 2284.71,2,    7.991,6,       25,-999.000,9,-999.0000,9, -999.00,9, -999.00,9,  -999.0,9,  -999.0,-999.000,9,-999.000,     -999.0,9, -999.00,9,    55.8,2,    4.56,2,     -999.0,9,  -999.0,1, 20130425,     1024,  30.0001, 172.4661,    34.9599,2,     -999.0,9,     -999.0,9,    18.2524,3,     -999.0,1,     -999.0,1,-999.0000, -999.00,-999.000
318M20130321,       P02W,      63,          3,         33,         33,2,20130425,       0820,         30,   172.4701,       5594,    84.4,  17.9058,  34.7638,2,  34.7652,2,    238.4,2,   237.4,2,    2.24,2,    0.01,2,    0.01,2,    0.03,2,   2.562,2,   1.564,2,   0.215,2,     1.61,2,  2010.7,2, 2283.01,2,   7.9966,2,       25,-999.000,9,-999.0000,9, -999.00,9, -999.00,9,  -999.0,9,  -999.0,-999.000,9,-999.000,     -999.0,9, -999.00,9,   57.22,2,    4.08,2,     -999.0,9,  -999.0,1, 20130425,     1023,       30, 172.4665,    34.9291,2,     -999.0,9,     -999.0,9,    17.9113,2,     -999.0,1,     -999.0,1,-999.0000, -999.00,-999.000
318M20130321,       P02W,      63,          3,         32,         32,2,20130425,       0820,         30,   172.4701,       5594,   118.5,  17.4461,  34.7175,2,  34.7202,2,    228.1,2,     229,2,    2.73,2,    1.29,2,    0.17,2,    0.11,2,-999.000,9,-999.000,9,-999.000,9,-999.0000,9,  2019.1,2, 2279.31,6,   7.9784,2,       25,-999.000,9,-999.0000,9, -999.00,9, -999.00,9,  -999.0,9,  -999.0,-999.000,9,-999.000,     -999.0,9, -999.00,9,   53.32,2,    5.66,2,     -999.0,9,  -999.0,1, 20130425,     1021,  29.9998, 172.4668,    34.8839,2,     -999.0,9,     -999.0,9,    17.4423,2,     -999.0,1,     -999.0,1,-999.0000, -999.00,-999.000
318M20130321,       P02W,      63,          3,         31,         31,2,20130425,       0820,         30,   172.4701,       5594,   168.8,  16.5958,  34.6467,2,  34.6476,2,    229.3,2,   222.6,2,     4.1,2,    3.75,2,    0.02,2,    0.24,2,   2.695,2,   1.621,2,   0.138,2,     1.43,2,  -999.0,9, -999.00,9,-999.0000,9,  -999.00,-999.000,9,-999.0000,9, -999.00,9, -999.00,9,  -999.0,9,  -999.0,-999.000,9,-999.000,     -999.0,9, -999.00,9,   49.18,2,    6.83,2,     -999.0,9,  -999.0,1, 20130425,     1019,  29.9995, 172.4672,     34.811,2,     -999.0,9,     -999.0,9,    16.5951,2,     -999.0,9,     -999.0,1,-999.0000, -999.00,-999.000
318M20130321,       P02W,      63,          3,         30,         30,2,20130425,       0820,         30,   172.4701,       5594,   220.1,  15.8562,  34.5879,2,  34.5893,2,    213.3,2,   213.9,2,    5.76,2,    5.77,2,    0.01,2,    0.38,2,-999.000,9,-999.000,9,-999.000,9,-999.0000,9,  2042.2,2, 2273.31,2,   7.9188,2,       25,-999.000,9,-999.0000,9, -999.00,9, -999.00,9,  -999.0,9,  -999.0,-999.000,9,-999.000,     -999.0,9, -999.00,9, -999.00,5,    8.33,2,     -999.0,9,  -999.0,1, 20130425,     1017,  29.9993, 172.4675,    34.7524,2,     -999.0,9,     -999.0,9,    15.8544,2,     -999.0,1,     -999.0,1,-999.0000, -999.00,-999.000
318M20130321,       P02W,      63,          3,         29,         29,2,20130425,       0820,         30,   172.4701,       5594,   270.1,  14.9906,  34.5263,2,  34.5273,2,      213,2,   212.4,2,    7.81,2,     7.2,2,    0.01,2,    0.49,2,   2.860,2,   1.702,2,   0.087,2,     1.49,2,  -999.0,9, -999.00,9,-999.0000,9,  -999.00,-999.000,9,-999.0000,9, -999.00,9, -999.00,9,  -999.0,9,  -999.0,-999.000,9,-999.000,     -999.0,9, -999.00,9,   47.52,2,   10.94,2,     -999.0,9,  -999.0,1, 20130425,     1016,  29.9992, 172.4678,    34.6901,2,     -999.0,9,     -999.0,9,    14.9911,2,     -999.0,9,     -999.0,1,-999.0000, -999.00,-999.000
318M20130321,       P02W,      63,          3,         28,         28,2,20130425,       0820,         30,   172.4701,       5594,   320.4,  13.7979,   34.448,2,  34.4515,2,    207.1,2,     207,2,   10.84,2,    9.65,2,    0.01,2,    0.65,2,-999.000,9,-999.000,9,-999.000,9,-999.0000,9,  2071.4,2, 2270.21,2,   7.8543,2,       25,-999.000,9,-999.0000,9, -999.00,9, -999.00,9,  -999.0,9,  -999.0,-999.000,9,-999.000,     -999.0,9, -999.00,9,    45.7,2,   12.45,2,     -999.0,9,  -999.0,1, 20130425,     1014,  29.9991, 172.4682,    34.6139,2,     -999.0,9,     -999.0,9,     13.795,2,     -999.0,1,     -999.0,1,-999.0000, -999.00,-999.000
318M20130321,       P02W,      63,          3,         27,         27,2,20130425,       0820,         30,   172.4701,       5594,   370.7,   12.803,  34.3845,2,  34.3863,2,    206.1,2,     206,2,   13.47,2,   11.41,2,    0.01,2,    0.79,2,   3.155,2,   1.814,2,   0.081,2,     1.38,2,  -999.0,9, -999.00,9,-999.0000,9,  -999.00,-999.000,9,-999.0000,9, -999.00,9, -999.00,9,  -999.0,9,  -999.0,-999.000,9,-999.000,     -999.0,9, -999.00,9,   44.78,2, -999.00,9,     -999.0,9,  -999.0,1, 20130425,     1012,   29.999, 172.4685,    34.5485,2,     -999.0,9,     -999.0,9,    12.8057,2,     -999.0,9,     -999.0,1,-999.0000, -999.00,-999.000
318M20130321,       P02W,      63,          3,         26,         26,2,20130425,       0820,         30,   172.4701,       5594,   438.5,  11.4129,  34.2835,2,  34.2851,2,    204.2,2,   205.4,2,   17.57,2,   13.99,2,    0.01,2,    0.99,2,-999.000,9,-999.000,9,-999.000,9,-999.0000,9,  2103.2,2, 2268.71,2,   7.7843,2,       25,-999.000,9,-999.0000,9, -999.00,9, -999.00,9,  -999.0,9,  -999.0,-999.000,9,-999.000,     -999.0,9, -999.00,9,   43.25,2, -999.00,9,     -999.0,9,  -999.0,1, 20130425,     1010,   29.999, 172.4689,    34.4467,2,     -999.0,9,     -999.0,9,    11.4052,2,     -999.0,1,     -999.0,1,-999.0000, -999.00,-999.000
318M20130321,       P02W,      63,          3,         25,         25,2,20130425,       0820,         30,   172.4701,       5594,   533.9,   9.0593,  34.1252,2,   34.126,2,    184.7,2,   184.1,2,   30.47,2,   20.19,2,    0.01,2,    1.45,2,   3.329,2,   1.784,2,   0.125,2,     1.02,2,  -999.0,9, -999.00,9,-999.0000,9,  -999.00,-999.000,9,-999.0000,9, -999.00,9, -999.00,9,  -999.0,9,  -999.0,-999.000,9,-999.000,     -999.0,9, -999.00,9,   41.48,2, -999.00,9,     -999.0,9,  -999.0,1, 20130425,     1008,  29.9992, 172.4694,     34.287,2,     -999.0,9,     -999.0,9,     9.0628,2,     -999.0,9,     -999.0,1,-999.0000, -999.00,-999.000
318M20130321,       P02W,      63,          3,         24,         24,2,20130425,       0820,         30,   172.4701,       5594,   640.9,   6.5884,  34.0282,2,  34.0285,2,    140.3,2,   136.3,2,   54.98,2,   29.12,2,       0,2,    2.12,2,-999.000,9,-999.000,9,-999.000,9,-999.0000,9,  2212.2,2, 2286.41,2,   7.5346,2,       25,-999.000,9,-999.0000,9, -999.00,9, -999.00,9,  -999.0,9,  -999.0,-999.000,9,-999.000,     -999.0,9, -999.00,9,   41.27,2, -999.00,9,     -999.0,9,  -999.0,1, 20130425,     1005,  29.9999, 172.4698,    34.1889,2,     -999.0,9,     -999.0,9,     6.5712,3,     -999.0,1,     -999.0,1,-999.0000, -999.00,-999.000
318M20130321,       P02W,      63,          3,         23,         23,2,20130425,       0820,         30,   172.4701,       5594,   735.9,   5.3097,  34.0552,2,  34.0547,2,     96.4,2,    95.5,2,   75.49,2,   34.88,2,       0,2,    2.55,2,   1.836,2,   0.949,2,   0.084,2,     0.44,2,  -999.0,9, -999.00,9,-999.0000,9,  -999.00,-999.000,9,-999.0000,9, -999.00,9, -999.00,9,  -999.0,9,  -999.0,-999.000,9,-999.000,     -999.0,9, -999.00,9,   39.83,2, -999.00,9,     -999.0,9,  -999.0,1, 20130425,     1003,       30, 172.4701,    34.2153,2,     -999.0,9,     -999.0,9,     5.3086,2,     -999.0,9,     -999.0,1,-999.0000, -999.00,-999.000
318M20130321,       P02W,      63,          3,         22,         22,2,20130425,       0820,         30,   172.4701,       5594,   838.1,   4.4627,  34.1493,2,   34.149,2,     58.8,2,    58.9,2,   96.96,2,   39.25,2,       0,2,    2.86,2,-999.000,9,-999.000,9,-999.000,9,-999.0000,9,    2303,2, 2325.43,2,   7.3598,2,       25,-999.000,9,-999.0000,9, -999.00,9, -999.00,9,  -999.0,9,  -999.0,-999.000,9,-999.000,     -999.0,9, -999.00,9,   37.14,2, -999.00,9,     -999.0,9,  -999.0,1, 20130425,     1000,       30, 172.4701,      34.31,2,     -999.0,9,     -999.0,9,     4.4623,2,     -999.0,1,     -999.0,1,-999.0000, -999.00,-999.000
318M20130321,       P02W,      63,          3,         21,         21,2,20130425,       0820,         30,   172.4701,       5594,   941.4,   3.9583,   34.229,2,  34.2298,2,     40.3,2,    41.6,2,  111.31,2,   41.38,2,       0,2,    3.01,2,   0.568,2,   0.287,2,   0.032,2,     0.12,2,  -999.0,9, -999.00,9,-999.0000,9,  -999.00,-999.000,9,   1.8785,2,   15.81,2, -999.00,9,  -999.0,9,  -999.0,   7.787,2,   0.036,     -999.0,9, -999.00,9,   39.88,2, -999.00,9,     -999.0,9,  -999.0,1, 20130425,      958,       30, 172.4701,    34.3912,2,     -999.0,9,     -999.0,9,     3.9574,2,     -999.0,9,     -999.0,1,   0.0079,    0.15,-999.000
318M20130321,       P02W,      63,          3,         20,         20,2,20130425,       0820,         30,   172.4701,       5594,  1040.8,   3.5511,  34.3162,2,  34.3157,2,       29,2,    28.9,2,  124.09,2,   42.83,2,       0,2,    3.13,2,-999.000,9,-999.000,9,-999.000,9,-999.0000,9,  2352.8,6, 2359.14,2,   7.3174,6,       25,-999.000,9,-999.0000,9, -999.00,9, -999.00,9,  -999.0,9,  -999.0,-999.000,9,-999.000,     -999.0,9, -999.00,9,   36.57,2, -999.00,9,     -999.0,9,  -999.0,1, 20130425,      955,       30, 172.4701,    34.4775,2,     -999.0,9,     -999.0,9,     3.5536,2,     -999.0,1,     -999.0,1,-999.0000, -999.00,-999.000
318M20130321,       P02W,      63,          3,         19,         19,2,20130425,       0820,         30,   172.4701,       5594,  1143.2,   3.1952,  34.3803,2,  34.3809,2,     25.2,2,    25.5,2,  135.22,2,   43.45,2,       0,2,    3.16,2,   0.102,2,   0.050,2,   0.004,2,     0.09,2,  -999.0,9, -999.00,9,-999.0000,9,  -999.00,-999.000,9,-999.0000,9, -999.00,9, -999.00,9,  -999.0,9,  -999.0,-999.000,9,-999.000,     -999.0,9, -999.00,9,   37.86,2, -999.00,9,     -999.0,9,  -999.0,1, 20130425,      953,       30, 172.4701,     34.543,2,     -999.0,9,     -999.0,9,     3.1966,2,     -999.0,9,     -999.0,1,-999.0000, -999.00,-999.000
318M20130321,       P02W,      63,          3,         18,         18,2,20130425,       0820,         30,   172.4701,       5594,  1246.7,   2.9631,  34.4316,2,  34.4315,2,     25.8,2,    26.7,2,  142.73,2,   43.63,2,       0,2,    3.16,2,   0.041,2,   0.027,2,   0.005,2,     0.04,2,  -999.0,9, -999.00,9,-999.0000,9,  -999.00,-999.000,9,-999.0000,9, -999.00,9, -999.00,9,  -999.0,9,  -999.0,-999.000,9,-999.000,     -999.0,9, -999.00,9,   35.76,2, -999.00,9,     -999.0,9,  -999.0,1, 20130425,      950,       30, 172.4701,    34.5939,2,     -999.0,9,     -999.0,9,      2.966,2,     -999.0,9,     -999.0,1,-999.0000, -999.00,-999.000
318M20130321,       P02W,      63,          3,         17,         17,2,20130425,       0820,         30,   172.4701,       5594,  1342.8,   2.7926,   34.465,2,  34.4674,2,     31.3,2,      30,2,  147.12,2,   43.58,2,       0,2,    3.15,2,   0.021,2,   0.021,2,   0.007,2,     0.05,2,  2378.1,2, 2389.65,2,   7.3319,2,       25,-999.000,9,-999.0000,9, -999.00,9, -999.00,9,  -999.0,9,  -999.0,-999.000,9,-999.000,     -999.0,9, -999.00,9,   34.66,2, -999.00,9,     -999.0,9,  -999.0,1, 20130425,      947,       30, 172.4701,      34.63,2,     -999.0,9,     -999.0,9,     2.7927,2,     -999.0,1,     -999.0,1,-999.0000, -999.00,-999.000
318M20130321,       P02W,      63,          3,         16,         16,2,20130425,       0820,         30,   172.4701,       5594,  1474.4,   2.5712,   34.508,2,  34.5102,2,     39.2,2,    37.8,2,  152.48,2,   43.27,2,       0,2,    3.11,2,   0.005,2,   0.013,2,   0.003,2,     0.03,2,  2378.5,2, 2396.85,2,   7.3501,2,       25,-999.000,9,-999.0000,9, -999.00,9, -999.00,9,  -999.0,9,  -999.0,-999.000,9,-999.000,     -999.0,9, -999.00,9,   35.63,2, -999.00,9,     -999.0,9,  -999.0,1, 20130425,      944,       30, 172.4701,     34.673,2,     -999.0,9,     -999.0,9,     2.5744,2,     -999.0,1,     -999.0,1,-999.0000, -999.00,-999.000
318M20130321,       P02W,      63,          3,         15,         15,2,20130425,       0820,         30,   172.4701,       5594,    1678,   2.2513,  34.5561,2,  34.5578,2,       52,2,      53,2,   159.5,2,   42.38,2,       0,2,    3.05,2,   0.006,2,   0.011,2,   0.009,2,     0.12,2,  2376.5,2, 2405.85,2,    7.382,6,       25,-999.000,9,-999.0000,9, -999.00,9, -999.00,9,  -999.0,9,  -999.0,-999.000,9,-999.000,     -999.0,9, -999.00,9,   36.12,2, -999.00,9,     -999.0,9,  -999.0,1, 20130425,      940,       30, 172.4701,    34.7207,2,     -999.0,9,     -999.0,9,     2.2514,2,     -999.0,1,     -999.0,1,-999.0000, -999.00,-999.000
318M20130321,       P02W,      63,          3,         14,         14,2,20130425,       0820,         30,   172.4701,       5594,    1884,   2.0203,  34.5911,2,  34.5925,2,     70.5,2,      70,2,  161.75,2,   41.32,2,       0,2,    2.95,2,   0.006,2,   0.014,2,   0.003,2,     0.06,2,  2371.3,2, 2412.76,2,   7.4155,2,       25,-999.000,9,-999.0000,9, -999.00,9, -999.00,9,  -999.0,9,  -999.0,-999.000,9,-999.000,     -999.0,9, -999.00,9, -999.00,9, -999.00,9,     -999.0,9,  -999.0,1, 20130425,      936,       30, 172.4701,    34.7557,2,     -999.0,9,     -999.0,9,     2.0201,2,     -999.0,1,     -999.0,1,-999.0000, -999.00,-999.000
318M20130321,       P02W,      63,          3,         13,         13,2,20130425,       0820,         30,   172.4701,       5594,    2103,   1.8359,  34.6168,2,  34.6175,2,     84.4,2,      86,2,  162.72,2,    40.3,2,       0,2,    2.87,2,-999.000,9,-999.000,9,-999.000,9,-999.0000,9,  2363.4,2, 2415.96,2,   7.4478,2,       25,-999.000,9,-999.0000,9, -999.00,9, -999.00,9,  -999.0,9,  -999.0,-999.000,9,-999.000,     -999.0,9, -999.00,9,   33.37,2, -999.00,9,     -999.0,9,  -999.0,1, 20130425,      931,       30, 172.4701,    34.7807,2,     -999.0,9,     -999.0,9,     1.8366,2,     -999.0,1,     -999.0,1,-999.0000, -999.00,-999.000
318M20130321,       P02W,      63,          3,         12,         12,2,20130425,       0820,         30,   172.4701,       5594,  2357.8,   1.7101,  34.6346,2,   34.636,2,     99.6,2,    99.2,2,  163.11,2,   39.47,2,       0,2,     2.8,2,  -0.003,2,   0.006,2,   0.008,2,     0.05,2,  -999.0,9, -999.00,9,-999.0000,9,  -999.00,-999.000,9,-999.0000,9, -999.00,9, -999.00,9,  -999.0,9,  -999.0,-999.000,9,-999.000,     -999.0,9, -999.00,9, -999.00,9, -999.00,9,     -999.0,9,  -999.0,1, 20130425,      926,       30, 172.4701,    34.7993,2,     -999.0,9,     -999.0,9,     1.7101,2,     -999.0,9,     -999.0,1,-999.0000, -999.00,-999.000
318M20130321,       P02W,      63,          3,         11,         11,2,20130425,       0820,         30,   172.4701,       5594,  2615.7,    1.605,  34.6499,2,  34.6511,2,    112.1,2,   112.2,2,  161.93,2,   38.59,2,       0,2,    2.72,2,-999.000,9,-999.000,9,-999.000,9,-999.0000,9,  2350.8,6, 2417.96,2,   7.4973,2,       25,-999.000,9,-999.0000,9, -999.00,9, -999.00,9,  -999.0,9,  -999.0,-999.000,9,-999.000,     -999.0,9, -999.00,9,   34.31,2, -999.00,9,     -999.0,9,  -999.0,1, 20130425,      921,       30, 172.4701,    34.8145,2,     -999.0,9,     -999.0,9,     1.6051,2,     -999.0,1,     -999.0,1,-999.0000, -999.00,-999.000
318M20130321,       P02W,      63,          3,         10,         10,2,20130425,       0820,         30,   172.4701,       5594,  2865.4,   1.5486,  34.6599,2,  34.6609,2,    122.3,2,   121.7,2,  159.78,2,   37.85,2,       0,2,    2.69,2,  -0.032,2,   0.008,2,   0.007,2,     0.02,2,  -999.0,9, -999.00,9,-999.0000,9,  -999.00,-999.000,9,-999.0000,9, -999.00,9, -999.00,9,  -999.0,9,  -999.0,-999.000,9,-999.000,     -999.0,9, -999.00,9, -999.00,9, -999.00,9,     -999.0,9,  -999.0,1, 20130425,      916,       30, 172.4701,    34.8244,2,     -999.0,9,     -999.0,9,     1.5486,2,     -999.0,9,     -999.0,1,-999.0000, -999.00,-999.000
318M20130321,       P02W,      63,          3,          9,          9,2,20130425,       0820,         30,   172.4701,       5594,  3140.2,   1.5055,  34.6684,2,  34.6686,2,    131.3,2,     131,2,  157.25,2,   37.27,2,       0,2,    2.64,2,-999.000,9,-999.000,9,-999.000,9,-999.0000,9,  -999.0,9, -999.00,9,-999.0000,9,  -999.00,-999.000,9,   1.9470,2,   17.32,2, -999.00,9,  -999.0,9,  -999.0,   8.016,3,   0.037,     -999.0,9, -999.00,9,   37.95,2, -999.00,9,     -999.0,9,  -999.0,1, 20130425,      911,       30, 172.4701,    34.8321,2,     -999.0,9,     -999.0,9,     1.5059,2,     -999.0,9,     -999.0,1,   0.0082,    0.15,-999.000
318M20130321,       P02W,      63,          3,          8,          8,2,20130425,       0820,         30,   172.4701,       5594,  3441.4,    1.474,  34.6754,2,  34.6759,2,    139.1,2,   139.4,2,  155.39,2,   36.78,2,       0,2,     2.6,2,  -0.005,2,   0.003,2,   0.005,2,     0.04,2,    2332,2, 2418.36,2,   7.5468,2,       25,-999.000,9,-999.0000,9, -999.00,9, -999.00,9,  -999.0,9,  -999.0,-999.000,9,-999.000,     -999.0,9, -999.00,9, -999.00,9, -999.00,9,     -999.0,9,  -999.0,1, 20130425,      905,       30, 172.4701,    34.8394,2,     -999.0,9,     -999.0,9,      1.474,2,     -999.0,1,     -999.0,1,-999.0000, -999.00,-999.000