BOTTLE,20220817CCHSIOAMB
EXPOCODE,SECT_ID,STNNBR,CASTNO,SAMPNO,BTLNBR,BTLNBR_FLAG_W,DATE,TIME,LATITUDE,LONGITUDE,DEPTH,CTDPRS,CTDTMP,CTDSAL,CTDSAL_FLAG_W,SALNTY,SALNTY_FLAG_W,CTDOXY,CTDOXY_FLAG_W,OXYGEN,OXYGEN_FLAG_W,SILCAT,SILCAT_FLAG_W,NITRAT,NITRAT_FLAG_W,NITRIT,NITRIT_FLAG_W,PHSPHT,PHSPHT_FLAG_W,CFC-11,CFC-11_FLAG_W,CFC-12,CFC-12_FLAG_W,CFC113,CFC113_FLAG_W,SF6,SF6_FLAG_W,TCARBN,TCARBN_FLAG_W,ALKALI,ALKALI_FLAG_W,PH_TOT,PH_TOT_FLAG_W,PH_TMP,TRITUM,TRITUM_FLAG_W,HELIUM,HELIUM_FLAG_W,DELHE3,DELHE3_FLAG_W,DELC13,DELC13_FLAG_W,DELC14,DELC14_FLAG_W,C14ERR,NEON,NEON_FLAG_W,NEONER,I-129,I-129_FLAG_W,SR-90,SR-90_FLAG_W,DOC,DOC_FLAG_W,TDN,TDN_FLAG_W,CALCIUM,CALCIUM_FLAG_W,D15N_NO3,D15N_NO3_FLAG_W,BTL_DATE,BTL_TIME,BTL_LAT,BTL_LON,SALTREF,SALTREF_FLAG_W,CS-137,CS-137_FLAG_W,CS-134,CS-134_FLAG_W,REFTMP,REFTMP_FLAG_W,LAB_DEN,LAB_DEN_FLAG_W,D18O_NO3,D18O_NO3_FLAG_W,HELIER,DELHER,TRITER
,,,,,,,,,,,METERS,DBAR,ITS-90,PSS-78,,PSS-78,,UMOL/KG,,UMOL/KG,,UMOL/KG,,UMOL/KG,,UMOL/KG,,UMOL/KG,,PMOL/KG,,PMOL/KG,,PMOL/KG,,FMOL/KG,,UMOL/KG,,UMOL/KG,,,,DEG C,TU,,NMOL/KG,,PERCNT,,/MILLE,,/MILLE,,/MILLE,NMOL/KG,,NMOL/KG,BQ/M^3,,DM/.1MG,,UMOL/KG,,UMOL/KG,,MMOL/KG,,/MILLE,,,,,,G/KG,,BQ/M^3,,BQ/M^3,,ITS-90,,,,/MILLE,,NMOL/KG,PERCNT,TU
318M20130321,       P02E,     115,          1,         36,         36,2,20130521,       0121,         30,  -143.3501,       5018,     2.2,  20.3696,  34.7722,2,   34.774,2,    230.9,2,   230.7,2,    2.93,2,       0,2,       0,2,       0,2,   2.037,2,   1.239,2,-999.000,1,   1.4757,2,  2020.4,2, 2286.11,2,   7.9863,2,       25,-999.000,9,-999.0000,9, -999.00,9,    0.85,2,    40.1,2,     3.0,-999.000,9,-999.000,     -999.0,9, -999.00,9,   65.05,2,     4.2,2,     -999.0,9,  -999.0,9, 20130521,      325,  29.9995,-143.3503,     34.938,2,     -999.0,9,     -999.0,9,     20.369,2,     -999.0,9,     -999.0,9,-999.0000, -999.00,-999.000
318M20130321,       P02E,     115,          1,         34,         34,2,20130521,       0121,         30,  -143.3501,       5018,      35,  20.1699,  34.8798,2,  34.8826,2,    231.8,2,   232.8,2,    2.93,2,       0,2,       0,2,       0,2,   2.046,2,   1.239,2,-999.000,1,   1.4585,2,  2023.3,2, 2294.62,2,   7.9952,2,       25,-999.000,9,-999.0000,9, -999.00,9, -999.00,9,  -999.0,9,  -999.0,-999.000,9,-999.000,     -999.0,9, -999.00,9,   64.68,2,    4.15,2,     -999.0,9,  -999.0,9, 20130521,      322,  29.9996,  -143.35,     35.047,2,     -999.0,9,     -999.0,9,    20.1803,2,     -999.0,9,     -999.0,9,-999.0000, -999.00,-999.000
318M20130321,       P02E,     115,          1,         33,         33,2,20130521,       0121,         30,  -143.3501,       5018,    59.9,  19.9129,  35.0041,2,  35.0004,2,    233.7,2,   233.6,2,    2.44,2,       0,2,       0,2,       0,2,   2.043,2,   1.250,2,-999.000,1,   1.3959,2,  2027.6,2, 2300.52,2,   7.9989,6,       25,-999.000,9,-999.0000,9, -999.00,9,    0.88,2,    46.6,2,     2.6,-999.000,9,-999.000,     -999.0,9, -999.00,9,   65.64,2,    4.15,2,     -999.0,9,  -999.0,9, 20130521,      321,  29.9997,-143.3498,    35.1655,2,     -999.0,9,     -999.0,9,    19.9222,2,     -999.0,9,     -999.0,9,-999.0000, -999.00,-999.000
318M20130321,       P02E,     115,          1,         32,         32,2,20130521,       0121,         30,  -143.3501,       5018,    85.4,  19.2349,  34.9088,2,   34.902,2,      237,2,   234.6,2,    2.44,2,       0,2,       0,2,       0,2,   2.084,2,   1.277,2,-999.000,1,   1.5295,2,  2020.9,2, 2293.71,6,   7.9988,2,       25,-999.000,9,-999.0000,9, -999.00,9,    0.83,2,    47.7,2,     2.5,-999.000,9,-999.000,     -999.0,9, -999.00,9,   64.08,2,    4.39,2,     -999.0,9,  -999.0,9, 20130521,      319,  29.9998,-143.3498,    35.0666,2,     -999.0,9,     -999.0,9,    19.2423,2,     -999.0,9,     -999.0,9,-999.0000, -999.00,-999.000
318M20130321,       P02E,     115,          1,         31,         31,2,20130521,       0121,         30,  -143.3501,       5018,   115.5,  18.6307,  34.8251,2,  34.8216,2,      234,2,   233.7,2,    2.44,2,       0,2,       0,2,       0,2,   2.138,2,   1.297,2,-999.000,1,    1.521,2,  -999.0,9, 2290.91,2,-999.0000,9,  -999.00,-999.000,9,-999.0000,9, -999.00,9,    0.86,2,    36.1,2,     3.6,-999.000,9,-999.000,     -999.0,9, -999.00,9,   62.55,2,    4.22,2,     -999.0,9,  -999.0,9, 20130521,      317,  29.9998,  -143.35,    34.9858,2,     -999.0,9,     -999.0,9,    18.6271,2,     -999.0,9,     -999.0,9,-999.0000, -999.00,-999.000
318M20130321,       P02E,     115,          1,         30,         30,2,20130521,       0121,         30,  -143.3501,       5018,   166.1,  15.4711,  34.3337,2,  34.3398,2,      231,2,   231.5,2,    3.91,2,    1.28,2,    0.12,2,    0.16,2,   2.501,2,   1.486,2,-999.000,1,   1.5426,2,  2037.6,2,  2261.8,2,   7.9165,2,       25,-999.000,9,-999.0000,9, -999.00,9,    0.15,2,    21.0,2,     2.3,-999.000,9,-999.000,     -999.0,9, -999.00,9,   57.38,2,    5.71,2,     -999.0,9,  -999.0,9, 20130521,      315,  29.9998,-143.3502,    34.5017,2,     -999.0,9,     -999.0,9,    15.4666,2,     -999.0,9,     -999.0,9,-999.0000, -999.00,-999.000
318M20130321,       P02E,     115,          1,         29,         29,2,20130521,       0121,         30,  -143.3501,       5018,   215.3,  12.5884,  34.1892,2,  34.1897,2,    217.4,2,     217,2,    8.49,2,    8.74,2,    0.01,2,    0.59,2,   2.881,2,   1.657,2,-999.000,1,   1.5297,2,  -999.0,9,  2251.7,2,-999.0000,9,  -999.00,-999.000,9,-999.0000,9, -999.00,9,    0.03,2,     1.4,2,     2.4,-999.000,9,-999.000,     -999.0,9, -999.00,9,   46.61,2,   12.27,2,     -999.0,9,  -999.0,9, 20130521,      314,  29.9996,-143.3504,    34.3509,2,     -999.0,9,     -999.0,9,    12.5866,2,     -999.0,9,     -999.0,9,-999.0000, -999.00,-999.000
318M20130321,       P02E,     115,          1,         28,         28,9,20130521,       0121,         30,  -143.3501,       5018,   266.4,  11.5169,  34.1532,2,-999.0000,9,    216.7,2,  -999.0,9, -999.00,9, -999.00,9, -999.00,9, -999.00,9,-999.000,9,-999.000,9,-999.000,9,-999.0000,9,  -999.0,9, -999.00,9,-999.0000,9,  -999.00,-999.000,9,-999.0000,9, -999.00,9, -999.00,9,  -999.0,9,  -999.0,-999.000,9,-999.000,     -999.0,9, -999.00,9, -999.00,9, -999.00,9,     -999.0,9,  -999.0,9, 20130521,      312,  29.9995,-143.3504,     -999.0,9,     -999.0,9,     -999.0,9,    11.5142,2,     -999.0,9,     -999.0,9,-999.0000, -999.00,-999.000
318M20130321,       P02E,     115,          1,         27,         27,2,20130521,       0121,         30,  -143.3501,       5018,   316.1,  10.4971,  34.1463,2,   34.148,2,    216.6,2,   216.7,2,   15.72,2,   13.88,2,    0.01,2,    0.94,2,   3.130,2,   1.739,2,-999.000,1,   1.4613,2,  2102.7,2,  2258.3,2,   7.7661,2,       25,-999.000,9,-999.0000,9, -999.00,9,    0.69,4,    46.0,2,     2.3,-999.000,9,-999.000,     -999.0,9, -999.00,9,   47.99,2,   16.93,2,     -999.0,9,  -999.0,9, 20130521,      310,  29.9995,-143.3503,     34.309,2,     -999.0,9,     -999.0,9,    10.4942,2,     -999.0,9,     -999.0,9,-999.0000, -999.00,-999.000
318M20130321,       P02E,     115,          1,         26,         26,2,20130521,       0121,         30,  -143.3501,       5018,   366.9,   9.5194,  34.0979,2,  34.1003,2,    206.1,2,   206.2,2,   20.99,2,   16.92,2,    0.01,2,    1.15,2,   3.187,2,   1.754,2,-999.000,1,   1.3139,2,  2122.2,2,  2261.2,2,   7.7239,6,       25,-999.000,9,-999.0000,9, -999.00,9,    0.30,2,    35.2,2,     2.5,-999.000,9,-999.000,     -999.0,9, -999.00,9,   45.09,2, -999.00,9,     -999.0,9,  -999.0,9, 20130521,      308,  29.9995,-143.3501,    34.2611,2,     -999.0,9,     -999.0,9,     9.5272,2,     -999.0,9,     -999.0,9,-999.0000, -999.00,-999.000
318M20130321,       P02E,     115,          1,         25,         25,2,20130521,       0121,         30,  -143.3501,       5018,   437.3,   8.1695,  34.0319,2,  34.0341,2,    178.7,2,   177.2,2,   32.13,2,   22.35,2,       0,2,    1.53,2,   3.042,2,   1.612,2,-999.000,1,   0.9926,2,  2158.9,2, 2266.51,2,   7.6404,2,       25,-999.000,9,-999.0000,9, -999.00,9,    0.24,2,    32.0,2,     2.3,-999.000,9,-999.000,     -999.0,9, -999.00,9,   44.37,2, -999.00,9,     -999.0,9,  -999.0,9, 20130521,      306,  29.9996,  -143.35,    34.1946,2,     -999.0,9,     -999.0,9,     8.1763,2,     -999.0,9,     -999.0,9,-999.0000, -999.00,-999.000
318M20130321,       P02E,     115,          1,         24,         24,2,20130521,       0121,         30,  -143.3501,       5018,   537.8,   6.1998,  33.9943,2,  33.9944,2,    109.5,2,   105.1,2,   57.52,2,   32.72,2,       0,2,    2.31,2,   2.204,2,   1.103,2,-999.000,1,   0.4962,2,  2237.2,2, 2282.61,2,   7.4529,2,       25,-999.000,9,-999.0000,9, -999.00,9,   -0.26,2,   -52.3,2,     2.1,-999.000,9,-999.000,     -999.0,9, -999.00,9,   46.44,2, -999.00,9,     -999.0,9,  -999.0,9, 20130521,      304,  29.9997,-143.3502,    34.1547,2,     -999.0,9,     -999.0,9,     6.2122,2,     -999.0,9,     -999.0,9,-999.0000, -999.00,-999.000
318M20130321,       P02E,     115,          1,         23,         23,2,20130521,       0121,         30,  -143.3501,       5018,   638.6,   4.9687,  34.0547,2,  34.0569,2,     59.2,2,    58.3,2,   81.54,2,   39.01,2,       0,2,    2.79,2,   1.146,2,   0.554,2,-999.000,1,    0.179,2,  2292.6,2, 2304.12,2,   7.3452,2,       25,-999.000,9,-999.0000,9, -999.00,9,   -0.45,2,  -108.8,2,     2.0,-999.000,9,-999.000,     -999.0,9, -999.00,9,   45.33,2, -999.00,9,     -999.0,9,  -999.0,9, 20130521,      301,  29.9997,-143.3503,    34.2175,2,     -999.0,9,     -999.0,9,     4.9703,2,     -999.0,9,     -999.0,9,-999.0000, -999.00,-999.000
318M20130321,       P02E,     115,          1,         22,         22,2,20130521,       0121,         30,  -143.3501,       5018,   740.1,   4.4555,  34.1669,2,  34.1672,2,     28.7,2,    28.2,2,   98.43,2,   42.15,2,       0,2,    3.06,2,   0.374,2,   0.182,2,-999.000,1,   0.0863,2,  2329.4,2, 2324.53,2,   7.2961,2,       25,-999.000,9,-999.0000,9, -999.00,9,   -0.50,2,  -151.3,2,     1.9,-999.000,9,-999.000,     -999.0,9, -999.00,9,   42.61,2, -999.00,9,     -999.0,9,  -999.0,9, 20130521,      258,  29.9999,-143.3504,    34.3283,2,     -999.0,9,     -999.0,9,     4.4677,2,     -999.0,9,     -999.0,9,-999.0000, -999.00,-999.000
318M20130321,       P02E,     115,          1,         21,         21,2,20130521,       0121,         30,  -143.3501,       5018,   840.2,   4.0696,  34.2565,2,  34.2572,2,     15.9,2,      14,2,   111.5,2,   43.51,2,       0,2,    3.16,2,   0.089,2,   0.050,2,-999.000,1,        0,2,  2350.5,2, 2341.53,2,   7.2815,2,       25,-999.000,9,-999.0000,9, -999.00,9,   -0.57,2,  -173.3,2,     1.9,-999.000,9,-999.000,     -999.0,9, -999.00,9,   40.31,2, -999.00,9,     -999.0,9,  -999.0,9, 20130521,      256,  29.9999,-143.3503,    34.4188,2,     -999.0,9,     -999.0,9,     4.0697,2,     -999.0,9,     -999.0,9,-999.0000, -999.00,-999.000
318M20130321,       P02E,     115,          1,         20,         20,2,20130521,       0121,         30,  -143.3501,       5018,   942.6,   3.9053,  34.3566,2,  34.3559,2,     13.3,2,    13.8,2,  118.13,2,   43.77,2,       0,2,     3.2,2,   0.025,2,   0.015,2,-999.000,1,        0,2,  2360.9,2, 2356.44,2,    7.297,2,       25,-999.000,9,-999.0000,9, -999.00,9,   -0.53,2,  -195.4,2,     1.9,-999.000,9,-999.000,     -999.0,9, -999.00,9,   37.87,2, -999.00,9,     -999.0,9,  -999.0,9, 20130521,      253,  29.9999,-143.3502,    34.5179,2,     -999.0,9,     -999.0,9,     3.9058,2,     -999.0,9,     -999.0,9,-999.0000, -999.00,-999.000
318M20130321,       P02E,     115,          1,         19,         19,2,20130521,       0121,         30,  -143.3501,       5018,  1043.9,   3.6347,  34.4216,2,  34.4234,2,     19.3,2,    19.9,2,  124.77,2,   43.78,2,       0,2,    3.19,2,   0.012,2,   0.007,2,-999.000,1,        0,2,  -999.0,9, -999.00,9,-999.0000,9,  -999.00,-999.000,9,-999.0000,9, -999.00,9,   -0.47,2,  -211.5,2,     1.9,-999.000,9,-999.000,     -999.0,9, -999.00,9,   37.75,2, -999.00,9,     -999.0,9,  -999.0,9, 20130521,      249,  29.9999,-143.3501,    34.5857,2,     -999.0,9,     -999.0,9,     3.6347,2,     -999.0,9,     -999.0,9,-999.0000, -999.00,-999.000
318M20130321,       P02E,     115,          1,         18,         18,2,20130521,       0121,         30,  -143.3501,       5018,  1145.4,   3.3975,  34.4718,2,  34.4729,2,     26.7,2,    29.3,2,  129.93,2,   43.48,2,       0,2,    3.16,2,   0.008,6,   0.005,6,-999.000,1,        0,6,  2368.3,6, 2378.54,2,   7.3397,6,       25,-999.000,9,-999.0000,9, -999.00,9,   -0.45,2,  -219.8,2,     1.9,-999.000,9,-999.000,     -999.0,9, -999.00,9, -999.00,5, -999.00,9,     -999.0,9,  -999.0,9, 20130521,      247,  29.9997,-143.3501,    34.6354,2,     -999.0,9,     -999.0,9,     3.4002,2,     -999.0,9,     -999.0,9,-999.0000, -999.00,-999.000
318M20130321,       P02E,     115,          1,         17,         17,2,20130521,       0121,         30,  -143.3501,       5018,  1246.7,   3.2076,  34.5009,2,   34.502,2,       36,2,    37.1,2,  133.74,2,   43.18,2,       0,2,    3.13,2,   0.006,2,   0.005,2,-999.000,1,        0,2,  -999.0,9, -999.00,9,-999.0000,9,  -999.00,-999.000,9,-999.0000,9, -999.00,9,   -0.42,6,  -226.4,6,     3.6,-999.000,9,-999.000,     -999.0,9, -999.00,9, -999.00,5, -999.00,9,     -999.0,9,  -999.0,9, 20130521,      243,  29.9996,-143.3501,    34.6647,2,     -999.0,9,     -999.0,9,     3.2072,2,     -999.0,9,     -999.0,9,-999.0000, -999.00,-999.000
318M20130321,       P02E,     115,          1,         16,         16,2,20130521,       0121,         30,  -143.3501,       5018,  1347.5,   3.0522,  34.5218,2,  34.5265,2,     43.5,2,      44,2,  137.35,2,   42.74,2,       0,2,    3.08,2,   0.005,2,   0.003,2,-999.000,1,        0,2,  2368.7,2, 2389.55,2,   7.3715,2,       25,-999.000,9,-999.0000,9, -999.00,9,   -0.38,6,  -231.5,6,     1.8,-999.000,9,-999.000,     -999.0,9, -999.00,9,   36.29,2, -999.00,9,     -999.0,9,  -999.0,9, 20130521,      240,  29.9997,-143.3502,    34.6893,2,     -999.0,9,     -999.0,9,     3.0522,2,     -999.0,9,     -999.0,9,-999.0000, -999.00,-999.000
318M20130321,       P02E,     115,          1,         15,         15,2,20130521,       0121,         30,  -143.3501,       5018,  1479.5,   2.8229,  34.5473,2,  34.5485,2,     52.5,2,    51.9,2,  142.23,2,   42.31,2,       0,2,    3.06,2,   0.003,2,   0.002,2,-999.000,1,        0,2,  -999.0,9, -999.00,9,-999.0000,9,  -999.00,-999.000,9,-999.0000,9, -999.00,9,   -0.36,6,  -233.9,6,     1.8,-999.000,9,-999.000,     -999.0,9, -999.00,9,   35.81,2, -999.00,9,     -999.0,9,  -999.0,9, 20130521,      237,  29.9998,  -143.35,    34.7114,2,     -999.0,9,     -999.0,9,      2.823,2,     -999.0,9,     -999.0,9,-999.0000, -999.00,-999.000
318M20130321,       P02E,     115,          1,         14,         14,2,20130521,       0121,         30,  -143.3501,       5018,  1682.6,   2.4887,  34.5779,2,  34.5799,2,     65.1,2,    64.4,2,  150.13,2,   41.67,2,       0,2,    3.01,2,   0.004,2,   0.003,2,-999.000,1,        0,2,  2370.3,2, 2404.35,2,   7.4107,2,       25,-999.000,9,-999.0000,9, -999.00,9,   -0.36,6,  -241.5,6,     1.5,-999.000,9,-999.000,     -999.0,9, -999.00,9,   34.15,2, -999.00,9,     -999.0,9,  -999.0,9, 20130521,      232,  29.9998,-143.3501,     34.743,2,     -999.0,9,     -999.0,9,     2.4877,2,     -999.0,9,     -999.0,9,-999.0000, -999.00,-999.000
318M20130321,       P02E,     115,          1,         13,         13,2,20130521,       0121,         30,  -143.3501,       5018,  1885.9,   2.2337,  34.5998,2,   34.601,2,     73.7,2,    71.6,2,  157.45,2,   41.19,2,       0,2,    2.95,2,   0.004,2,   0.003,2,-999.000,1,        0,2,  -999.0,9, -999.00,9,-999.0000,9,  -999.00,-999.000,9,-999.0000,9, -999.00,9,   -0.39,2,  -251.2,2,     3.8,-999.000,9,-999.000,     -999.0,9, -999.00,9,    38.6,2, -999.00,9,     -999.0,9,  -999.0,9, 20130521,      228,  29.9997,-143.3502,    34.7641,2,     -999.0,9,     -999.0,9,     2.2336,2,     -999.0,9,     -999.0,9,-999.0000, -999.00,-999.000
318M20130321,       P02E,     115,          1,         12,         12,2,20130521,       0121,         30,  -143.3501,       5018,  2110.2,    1.993,  34.6213,2,  34.6222,2,     83.7,2,    83.9,2,  163.89,2,   40.51,2,       0,2,    2.89,2,   0.002,2,   0.001,2,-999.000,1,        0,2,  -999.0,9, -999.00,9,-999.0000,9,  -999.00,-999.000,9,-999.0000,9, -999.00,9,   -0.25,2,  -248.2,2,     2.7,-999.000,9,-999.000,     -999.0,9, -999.00,9,   37.55,2, -999.00,9,     -999.0,9,  -999.0,9, 20130521,      223,       30,  -143.35,    34.7854,2,     -999.0,9,     -999.0,9,     1.9924,2,     -999.0,9,     -999.0,9,-999.0000, -999.00,-999.000
318M20130321,       P02E,     115,          1,         11,         11,2,20130521,       0121,         30,  -143.3501,       5018,  2362.9,   1.8201,  34.6372,2,  34.6379,2,       94,2,    92.4,2,  167.69,2,    39.9,2,       0,2,    2.84,2,   0.002,2,   0.002,2,-999.000,1,        0,2,  2367.2,2, 2422.56,2,   7.4681,2,       25,-999.000,9,-999.0000,9, -999.00,9,   -0.29,6,  -253.5,6,     5.0,-999.000,9,-999.000,     -999.0,9, -999.00,9,   35.35,2, -999.00,9,     -999.0,9,  -999.0,9, 20130521,      217,  29.9998,-143.3497,    34.8012,2,     -999.0,9,     -999.0,9,     1.8217,2,     -999.0,9,     -999.0,9,-999.0000, -999.00,-999.000
318M20130321,       P02E,     115,          1,         10,         10,2,20130521,       0121,         30,  -143.3501,       5018,  2617.5,   1.6926,  34.6502,2,  34.6517,2,    103.7,2,     104,2,  168.57,2,   39.21,2,       0,2,    2.78,2,   0.003,2,   0.002,2,-999.000,1,        0,2,  -999.0,9, -999.00,9,-999.0000,9,  -999.00,-999.000,9,-999.0000,9, -999.00,9,   -0.17,2,  -250.1,2,     3.0,-999.000,9,-999.000,     -999.0,9, -999.00,9, -999.00,9, -999.00,9,     -999.0,9,  -999.0,9, 20130521,      211,  29.9995,-143.3501,    34.8151,2,     -999.0,9,     -999.0,9,     1.6923,2,     -999.0,9,     -999.0,9,-999.0000, -999.00,-999.000
318M20130321,       P02E,     115,          1,          9,          9,2,20130521,       0121,         30,  -143.3501,       5018,  2871.8,    1.608,  34.6599,2,  34.6607,2,      114,2,   113.2,2,  168.37,2,   38.62,2,       0,2,    2.73,2,   0.002,2,   0.001,2,-999.000,1,        0,2,  2357.2,2, 2425.76,2,   7.5061,2,       25,-999.000,9,-999.0000,9, -999.00,9,   -0.08,2,  -244.2,2,     2.9,-999.000,9,-999.000,     -999.0,9, -999.00,9,   35.18,2, -999.00,9,     -999.0,9,  -999.0,9, 20130521,      206,  29.9996,-143.3499,    34.8241,2,     -999.0,9,     -999.0,9,     1.6087,2,     -999.0,9,     -999.0,9,-999.0000, -999.00,-999.000
318M20130321,       P02E,     115,          1,          8,          8,2,20130521,       0121,         30,  -143.3501,       5018,  3143.1,   1.5353,  34.6686,2,  34.6698,2,    123.7,2,   123.6,2,  166.52,2,   37.91,2,       0,2,    2.68,2,   0.004,2,   0.002,2,-999.000,1,        0,2,  -999.0,9, -999.00,9,-999.0000,9,  -999.00,-999.000,9,-999.0000,9, -999.00,9,    0.01,2,  -242.8,2,     3.5,-999.000,9,-999.000,     -999.0,9, -999.00,9, -999.00,9, -999.00,9,     -999.0,9,  -999.0,9, 20130521,      200,  29.9997,-143.3499,    34.8332,2,     -999.0,9,     -999.0,9,     1.5346,2,     -999.0,9,     -999.0,9,-999.0000, -999.00,-999.000
318M20130321,       P02E,     115,          1,          7,          7,2,20130521,       0121,         30,  -143.3501,       5018,  3447.8,   1.4889,  34.6763,2,  34.6774,2,    133.4,2,     133,2,  164.08,2,   37.29,2,       0,2,    2.63,2,   0.002,2,   0.002,2,-999.000,1,        0,2,  2343.1,2, 2425.66,6,   7.5447,2,       25,-999.000,9,-999.0000,9, -999.00,9,   -0.01,2,  -238.0,2,     4.5,-999.000,9,-999.000,     -999.0,9, -999.00,9,   37.35,2, -999.00,9,     -999.0,9,  -999.0,9, 20130521,      154,  29.9997,-143.3501,    34.8409,2,     -999.0,9,     -999.0,9,     1.4886,2,     -999.0,9,     -999.0,9,-999.0000, -999.00,-999.000