BOTTLE,20220817CCHSIOAMB
EXPOCODE,SECT_ID,STNNBR,CASTNO,SAMPNO,BTLNBR,BTLNBR_FLAG_W,DATE,TIME,LATITUDE,LONGITUDE,DEPTH,CTDPRS,CTDTMP,CTDSAL,CTDSAL_FLAG_W,SALNTY,SALNTY_FLAG_W,CTDOXY,CTDOXY_FLAG_W,OXYGEN,OXYGEN_FLAG_W,SILCAT,SILCAT_FLAG_W,NITRAT,NITRAT_FLAG_W,NITRIT,NITRIT_FLAG_W,PHSPHT,PHSPHT_FLAG_W,CFC-11,CFC-11_FLAG_W,CFC-12,CFC-12_FLAG_W,CFC113,CFC113_FLAG_W,SF6,SF6_FLAG_W,TCARBN,TCARBN_FLAG_W,ALKALI,ALKALI_FLAG_W,PH_TOT,PH_TOT_FLAG_W,PH_TMP,TRITUM,TRITUM_FLAG_W,HELIUM,HELIUM_FLAG_W,DELHE3,DELHE3_FLAG_W,DELC13,DELC13_FLAG_W,DELC14,DELC14_FLAG_W,C14ERR,NEON,NEON_FLAG_W,NEONER,I-129,I-129_FLAG_W,SR-90,SR-90_FLAG_W,DOC,DOC_FLAG_W,TDN,TDN_FLAG_W,CALCIUM,CALCIUM_FLAG_W,D15N_NO3,D15N_NO3_FLAG_W,BTL_DATE,BTL_TIME,BTL_LAT,BTL_LON,SALTREF,SALTREF_FLAG_W,CS-137,CS-137_FLAG_W,CS-134,CS-134_FLAG_W,REFTMP,REFTMP_FLAG_W,LAB_DEN,LAB_DEN_FLAG_W,D18O_NO3,D18O_NO3_FLAG_W,HELIER,DELHER,TRITER
,,,,,,,,,,,METERS,DBAR,ITS-90,PSS-78,,PSS-78,,UMOL/KG,,UMOL/KG,,UMOL/KG,,UMOL/KG,,UMOL/KG,,UMOL/KG,,PMOL/KG,,PMOL/KG,,PMOL/KG,,FMOL/KG,,UMOL/KG,,UMOL/KG,,,,DEG C,TU,,NMOL/KG,,PERCNT,,/MILLE,,/MILLE,,/MILLE,NMOL/KG,,NMOL/KG,BQ/M^3,,DM/.1MG,,UMOL/KG,,UMOL/KG,,MMOL/KG,,/MILLE,,,,,,G/KG,,BQ/M^3,,BQ/M^3,,ITS-90,,,,/MILLE,,NMOL/KG,PERCNT,TU
318M20130321,       P02E,     115,          1,          6,          6,2,20130521,       0121,         30,  -143.3501,       5018,  3755.7,    1.472,  34.6815,2,  34.6906,3,    140.2,2,   141.1,2,  161.34,2,   36.82,2,       0,2,     2.6,2,   0.005,2,   0.002,2,-999.000,1,        0,2,  -999.0,9, -999.00,9,-999.0000,9,  -999.00,-999.000,9,-999.0000,9, -999.00,9,    0.06,2,  -232.0,2,     3.7,-999.000,9,-999.000,     -999.0,9, -999.00,9, -999.00,9, -999.00,9,     -999.0,9,  -999.0,9, 20130521,      148,  29.9995,-143.3504,    34.8542,3,     -999.0,9,     -999.0,9,     1.4722,2,     -999.0,9,     -999.0,9,-999.0000, -999.00,-999.000
318M20130321,       P02E,     115,          1,          5,         37,2,20130521,       0121,         30,  -143.3501,       5018,  4097.7,   1.4749,  34.6852,2,  34.6859,2,    146.1,2,   146.7,2,  159.39,2,   36.46,2,       0,2,    2.57,2,   0.004,2,   0.004,2,-999.000,1,        0,2,  -999.0,9, -999.00,9,-999.0000,9,  -999.00,-999.000,9,-999.0000,9, -999.00,9,    0.16,2,  -228.7,2,     3.3,-999.000,9,-999.000,     -999.0,9, -999.00,9,   36.67,2, -999.00,9,     -999.0,9,  -999.0,9, 20130521,      141,  29.9993,-143.3503,    34.8495,2,     -999.0,9,     -999.0,9,     1.4746,2,     -999.0,9,     -999.0,9,-999.0000, -999.00,-999.000
318M20130321,       P02E,     115,          1,          4,          4,2,20130521,       0121,         30,  -143.3501,       5018,  4577.2,   1.4999,  34.6884,2,  34.6893,2,    152.5,2,   152.2,2,  153.34,2,   36.01,2,       0,2,    2.51,2,   0.006,2,   0.006,2,-999.000,1,        0,2,    2328,2, 2420.26,2,   7.5745,6,       25,-999.000,9,-999.0000,9, -999.00,9,    0.19,2,  -224.0,2,     2.9,-999.000,9,-999.000,     -999.0,9, -999.00,9,   36.88,2, -999.00,9,     -999.0,9,  -999.0,9, 20130521,      132,  29.9996,-143.3503,    34.8528,2,     -999.0,9,     -999.0,9,     1.5002,2,     -999.0,9,     -999.0,9,-999.0000, -999.00,-999.000
318M20130321,       P02E,     115,          1,          3,          3,2,20130521,       0121,         30,  -143.3501,       5018,  4888.1,   1.5279,  34.6892,2,  34.6904,2,    155.4,2,   154.6,2,  151.48,2,   35.84,2,       0,2,    2.49,2,   0.005,2,   0.006,2,-999.000,1,        0,2,  2325.8,6, 2420.56,2,   7.5776,2,       25,-999.000,9,-999.0000,9, -999.00,9,    0.11,2,  -225.3,2,     3.3,-999.000,9,-999.000,     -999.0,9, -999.00,9,   38.28,2, -999.00,9,     -999.0,9,  -999.0,9, 20130521,      126,  29.9999,-143.3501,     34.854,2,     -999.0,9,     -999.0,9,      1.528,2,     -999.0,9,     -999.0,9,-999.0000, -999.00,-999.000
318M20130321,       P02E,     115,          1,          2,          2,2,20130521,       0121,         30,  -143.3501,       5018,  5095.4,   1.5544,  34.6891,2,  34.6904,2,    154.9,2,   154.8,2,   150.9,2,   35.85,2,       0,2,    2.49,2,   0.005,2,   0.006,2,-999.000,1,        0,2,    2325,2, 2420.96,2,   7.5769,2,       25,-999.000,9,-999.0000,9, -999.00,9,    0.20,2,  -221.6,2,     2.8,-999.000,9,-999.000,     -999.0,9, -999.00,9,   39.89,2, -999.00,9,     -999.0,9,  -999.0,9, 20130521,      121,       30,-143.3501,     34.854,2,     -999.0,9,     -999.0,9,     1.5543,2,     -999.0,9,     -999.0,9,-999.0000, -999.00,-999.000