BOTTLE,20220817CCHSIOAMB
EXPOCODE,SECT_ID,STNNBR,CASTNO,SAMPNO,BTLNBR,BTLNBR_FLAG_W,DATE,TIME,LATITUDE,LONGITUDE,DEPTH,CTDPRS,CTDTMP,CTDSAL,CTDSAL_FLAG_W,SALNTY,SALNTY_FLAG_W,CTDOXY,CTDOXY_FLAG_W,OXYGEN,OXYGEN_FLAG_W,SILCAT,SILCAT_FLAG_W,NITRAT,NITRAT_FLAG_W,NITRIT,NITRIT_FLAG_W,PHSPHT,PHSPHT_FLAG_W,CFC-11,CFC-11_FLAG_W,CFC-12,CFC-12_FLAG_W,CFC113,CFC113_FLAG_W,SF6,SF6_FLAG_W,TCARBN,TCARBN_FLAG_W,ALKALI,ALKALI_FLAG_W,PH_TOT,PH_TOT_FLAG_W,PH_TMP,TRITUM,TRITUM_FLAG_W,HELIUM,HELIUM_FLAG_W,DELHE3,DELHE3_FLAG_W,DELC13,DELC13_FLAG_W,DELC14,DELC14_FLAG_W,C14ERR,NEON,NEON_FLAG_W,NEONER,I-129,I-129_FLAG_W,SR-90,SR-90_FLAG_W,DOC,DOC_FLAG_W,TDN,TDN_FLAG_W,CALCIUM,CALCIUM_FLAG_W,D15N_NO3,D15N_NO3_FLAG_W,BTL_DATE,BTL_TIME,BTL_LAT,BTL_LON,SALTREF,SALTREF_FLAG_W,CS-137,CS-137_FLAG_W,CS-134,CS-134_FLAG_W,REFTMP,REFTMP_FLAG_W,LAB_DEN,LAB_DEN_FLAG_W,D18O_NO3,D18O_NO3_FLAG_W,HELIER,DELHER,TRITER
,,,,,,,,,,,METERS,DBAR,ITS-90,PSS-78,,PSS-78,,UMOL/KG,,UMOL/KG,,UMOL/KG,,UMOL/KG,,UMOL/KG,,UMOL/KG,,PMOL/KG,,PMOL/KG,,PMOL/KG,,FMOL/KG,,UMOL/KG,,UMOL/KG,,,,DEG C,TU,,NMOL/KG,,PERCNT,,/MILLE,,/MILLE,,/MILLE,NMOL/KG,,NMOL/KG,BQ/M^3,,DM/.1MG,,UMOL/KG,,UMOL/KG,,MMOL/KG,,/MILLE,,,,,,G/KG,,BQ/M^3,,BQ/M^3,,ITS-90,,,,/MILLE,,NMOL/KG,PERCNT,TU
318M20130321,       P02W,      67,          1,         35,         35,9,20130426,       1253,    30.0004,   175.2552,       5184,     2.1,  19.1166,  34.9679,2,-999.0000,9,    230.6,2,  -999.0,9, -999.00,9, -999.00,9, -999.00,9, -999.00,9,-999.000,9,-999.000,9,-999.000,9,-999.0000,9,  -999.0,9, -999.00,9,-999.0000,9,  -999.00,-999.000,9,-999.0000,9, -999.00,9, -999.00,9,  -999.0,9,  -999.0,-999.000,9,-999.000,     -999.0,9, -999.00,9, -999.00,9, -999.00,9,     -999.0,9,  -999.0,9, 20130426,     1509,  29.9998, 175.2548,     -999.0,9,     -999.0,9,     -999.0,9,    19.1176,2,     -999.0,9,     -999.0,9,-999.0000, -999.00,-999.000
318M20130321,       P02W,      67,          1,         36,         36,2,20130426,       1253,    30.0004,   175.2552,       5184,     2.9,   19.121,  34.9678,2,  34.9675,2,    230.6,2,   230.8,2,    2.24,2,       0,2,       0,2,    0.02,2,   2.403,2,   1.486,2,   0.200,2,     1.66,2,  -999.0,9, -999.00,9,-999.0000,9,  -999.00,-999.000,9,-999.0000,9, -999.00,9, -999.00,9,  -999.0,9,  -999.0,-999.000,9,-999.000,     -999.0,9, -999.00,9,   60.65,2,    4.13,2,     -999.0,9,  -999.0,1, 20130426,     1509,  29.9998, 175.2548,    35.1324,2,     -999.0,9,     -999.0,9,    19.1181,2,     -999.0,9,     -999.0,1,-999.0000, -999.00,-999.000
318M20130321,       P02W,      67,          1,         34,         34,2,20130426,       1253,    30.0004,   175.2552,       5184,      20,  19.1364,   34.967,2,  34.9656,2,    231.5,2,   231.4,2,    2.24,2,       0,2,       0,2,    0.01,2,   2.384,2,   1.485,2,   0.184,2,     1.58,2,  2016.5,6, 2295.22,6,   8.0096,2,       25,-999.000,9,-999.0000,9, -999.00,9, -999.00,9,  -999.0,9,  -999.0,-999.000,9,-999.000,     -999.0,9, -999.00,9,   59.51,2,    3.73,2,     -999.0,9,  -999.0,1, 20130426,     1507,  29.9999, 175.2548,    35.1305,2,     -999.0,9,     -999.0,9,    19.1373,2,     -999.0,9,     -999.0,1,-999.0000, -999.00,-999.000
318M20130321,       P02W,      67,          1,         33,         33,2,20130426,       1253,    30.0004,   175.2552,       5184,      41,  19.1423,  34.9665,2,  34.9666,2,    231.6,2,   231.3,2,    2.05,2,       0,2,       0,2,    0.01,2,   2.350,2,   1.427,2,   0.205,2,     1.81,2,  2018.5,2, 2303.22,2,   8.0103,6,       25,-999.000,9,-999.0000,9, -999.00,9, -999.00,9,  -999.0,9,  -999.0,-999.000,9,-999.000,     -999.0,9, -999.00,9,   58.24,2,     4.1,2,     -999.0,9,  -999.0,1, 20130426,     1505,  29.9999, 175.2548,    35.1315,2,     -999.0,9,     -999.0,9,    19.1418,2,     -999.0,9,     -999.0,1,-999.0000, -999.00,-999.000
318M20130321,       P02W,      67,          1,         32,         32,2,20130426,       1253,    30.0004,   175.2552,       5184,    65.4,  19.1418,  34.9657,2,  34.9652,2,      231,2,  -999.0,9,    2.24,2,       0,2,       0,2,    0.02,2,-999.000,9,-999.000,9,-999.000,9,-999.0000,9,  -999.0,9, -999.00,9,-999.0000,9,  -999.00,-999.000,9,-999.0000,9, -999.00,9, -999.00,9,  -999.0,9,  -999.0,-999.000,9,-999.000,     -999.0,9, -999.00,1, -999.00,9, -999.00,9,     -999.0,9,  -999.0,9, 20130426,     1503,  29.9999, 175.2548,    35.1301,2,     -999.0,1,     -999.0,1,    19.1424,2,     -999.0,9,     -999.0,9,-999.0000, -999.00,-999.000
318M20130321,       P02W,      67,          1,         31,         31,2,20130426,       1253,    30.0004,   175.2552,       5184,    65.9,  19.1445,   34.966,2,   34.965,2,    230.8,2,  -999.0,9,    2.15,2,       0,2,       0,2,    0.01,2,-999.000,9,-999.000,9,-999.000,9,-999.0000,9,  -999.0,9, -999.00,9,-999.0000,9,  -999.00,-999.000,9,-999.0000,9, -999.00,9, -999.00,9,  -999.0,9,  -999.0,-999.000,9,-999.000,     -999.0,1, -999.00,1, -999.00,9, -999.00,9,     -999.0,9,  -999.0,9, 20130426,     1503,  29.9999, 175.2548,    35.1299,2,     -999.0,1,     -999.0,1,    19.1433,2,     -999.0,9,     -999.0,9,-999.0000, -999.00,-999.000
318M20130321,       P02W,      67,          1,         30,         30,2,20130426,       1253,    30.0004,   175.2552,       5184,    66.9,  19.1437,  34.9657,2,  34.9652,2,    230.8,2,   230.8,2,    2.24,2,       0,2,       0,2,       0,2,   2.321,2,   1.442,2,   0.187,2,     1.49,2,  2017.3,2, 2294.92,6,   8.0101,2,       25,-999.000,9,-999.0000,9, -999.00,9, -999.00,9,  -999.0,9,  -999.0,-999.000,9,-999.000,     -999.0,9, -999.00,9,   58.74,2,    3.88,2,     -999.0,9,  -999.0,1, 20130426,     1503,  29.9999, 175.2548,    35.1301,2,     -999.0,9,     -999.0,9,     19.144,2,     -999.0,9,     -999.0,1,-999.0000, -999.00,-999.000
318M20130321,       P02W,      67,          1,         29,         29,2,20130426,       1253,    30.0004,   175.2552,       5184,    90.2,  19.0897,  34.9528,2,  34.9522,2,    233.2,2,   231.4,2,    2.24,2,       0,2,       0,2,    0.01,2,-999.000,9,-999.000,9,-999.000,9,-999.0000,9,  -999.0,9, -999.00,9,-999.0000,9,  -999.00,-999.000,9,-999.0000,9, -999.00,9, -999.00,9,  -999.0,9,  -999.0,-999.000,9,-999.000,     -999.0,9, -999.00,9,   59.27,2,     3.5,2,     -999.0,9,  -999.0,1, 20130426,     1501,  29.9998, 175.2548,     35.117,2,     -999.0,9,     -999.0,9,    19.0883,2,     -999.0,9,     -999.0,1,-999.0000, -999.00,-999.000
318M20130321,       P02W,      67,          1,         28,         28,2,20130426,       1253,    30.0004,   175.2552,       5184,     135,  17.4115,  34.6816,2,  34.6809,2,    224.3,2,   224.9,2,    3.22,2,    1.99,2,    0.03,2,    0.14,2,   2.577,2,   1.520,2,   0.182,2,     1.46,2,  2022.9,2, 2275.41,2,   7.9706,6,       25,-999.000,9,-999.0000,9, -999.00,9, -999.00,9,  -999.0,9,  -999.0,-999.000,9,-999.000,     -999.0,9, -999.00,9,   50.67,2,    6.43,2,     -999.0,9,  -999.0,1, 20130426,     1459,  29.9996, 175.2549,    34.8444,2,     -999.0,9,     -999.0,9,    17.4123,2,     -999.0,9,     -999.0,1,-999.0000, -999.00,-999.000
318M20130321,       P02W,      67,          1,         27,         27,2,20130426,       1253,    30.0004,   175.2552,       5184,   187.2,  16.7628,  34.6425,2,  34.6426,2,    220.5,2,     220,2,     4.1,2,    3.61,2,    0.02,2,    0.25,2,   2.653,2,   1.611,2,   0.148,2,     1.58,2,  2032.6,2, 2274.81,2,   7.9507,2,       25,-999.000,9,-999.0000,9, -999.00,9, -999.00,9,  -999.0,9,  -999.0,-999.000,9,-999.000,     -999.0,9, -999.00,9,   48.67,2,     7.8,2,     -999.0,9,  -999.0,1, 20130426,     1457,  29.9998, 175.2549,    34.8059,2,     -999.0,9,     -999.0,9,    16.7742,2,     -999.0,9,     -999.0,1,-999.0000, -999.00,-999.000
318M20130321,       P02W,      67,          1,         26,         26,2,20130426,       1253,    30.0004,   175.2552,       5184,   236.8,  16.1613,  34.6111,2,  34.6105,2,    212.9,2,     212,2,    5.56,2,    5.45,2,    0.02,2,    0.37,2,   2.701,2,   1.636,2,   0.090,2,     1.62,2,  2045.1,2, 2274.01,2,    7.925,2,       25,-999.000,9,-999.0000,9, -999.00,9, -999.00,9,  -999.0,9,  -999.0,-999.000,9,-999.000,     -999.0,9, -999.00,9,   47.56,2,    9.51,2,     -999.0,9,  -999.0,1, 20130426,     1455,       30, 175.2549,    34.7737,2,     -999.0,9,     -999.0,9,    16.1565,2,     -999.0,9,     -999.0,1,-999.0000, -999.00,-999.000
318M20130321,       P02W,      67,          1,         25,         25,2,20130426,       1253,    30.0004,   175.2552,       5184,   286.3,  14.9902,  34.5316,2,  34.5318,2,    207.6,2,   206.4,2,     8.3,2,     7.7,2,    0.01,2,    0.53,2,   2.830,2,   1.668,2,   0.066,2,     1.57,2,  2062.1,2, 2272.11,2,   7.8882,2,       25,-999.000,9,-999.0000,9, -999.00,9, -999.00,9,  -999.0,9,  -999.0,-999.000,9,-999.000,     -999.0,9, -999.00,9,   44.59,2,    11.6,2,     -999.0,9,  -999.0,1, 20130426,     1452,       30, 175.2549,    34.6946,2,     -999.0,9,     -999.0,9,     14.996,2,     -999.0,9,     -999.0,1,-999.0000, -999.00,-999.000
318M20130321,       P02W,      67,          1,         24,         24,2,20130426,       1253,    30.0004,   175.2552,       5184,   338.9,  13.8606,  34.4583,2,  34.4574,2,    204.3,2,   204.1,2,   11.32,2,    9.84,2,       0,2,    0.68,2,-999.000,9,-999.000,9,-999.000,9,-999.0000,9,  -999.0,9, -999.00,9,-999.0000,9,  -999.00,-999.000,9,-999.0000,9, -999.00,9, -999.00,9,  -999.0,9,  -999.0,-999.000,9,-999.000,     -999.0,9, -999.00,9,   45.68,2,    13.8,2,     -999.0,9,  -999.0,1, 20130426,     1450,  30.0001, 175.2549,    34.6199,2,     -999.0,9,     -999.0,9,    13.8529,2,     -999.0,9,     -999.0,1,-999.0000, -999.00,-999.000
318M20130321,       P02W,      67,          1,         23,         23,2,20130426,       1253,    30.0004,   175.2552,       5184,   388.2,  12.7841,  34.3765,2,  34.3773,2,    203.1,2,   203.2,2,   13.28,2,   11.52,2,       0,2,    0.81,2,   3.140,2,   1.806,2,   0.060,2,     1.38,2,  2090.3,2, 2268.21,2,   7.8229,2,       25,-999.000,9,-999.0000,9, -999.00,9, -999.00,9,  -999.0,9,  -999.0,-999.000,9,-999.000,     -999.0,9, -999.00,9,   44.79,2, -999.00,9,     -999.0,9,  -999.0,1, 20130426,     1448,  30.0001, 175.2548,    34.5394,2,     -999.0,9,     -999.0,9,     12.782,2,     -999.0,9,     -999.0,1,-999.0000, -999.00,-999.000
318M20130321,       P02W,      67,          1,         22,         22,2,20130426,       1253,    30.0004,   175.2552,       5184,   467.6,  10.7241,  34.2343,2,  34.2343,2,    197.6,2,   197.6,2,    20.8,2,   15.77,2,       0,2,    1.12,2,-999.000,9,-999.000,9,-999.000,9,-999.0000,9,  2117.3,2, 2267.81,2,   7.7562,2,       25,-999.000,9,-999.0000,9, -999.00,9, -999.00,9,  -999.0,9,  -999.0,-999.000,9,-999.000,     -999.0,9, -999.00,9,   44.85,2, -999.00,9,     -999.0,9,  -999.0,1, 20130426,     1445,  30.0001, 175.2548,    34.3957,2,     -999.0,9,     -999.0,9,    10.7073,2,     -999.0,9,     -999.0,1,-999.0000, -999.00,-999.000
318M20130321,       P02W,      67,          1,         21,         21,2,20130426,       1253,    30.0004,   175.2552,       5184,   568.2,    8.353,  34.0779,2,  34.0792,2,    178.5,2,   180.4,2,   35.64,2,   21.67,2,       0,2,    1.57,2,   3.275,2,   1.798,2,   0.144,2,     1.08,2,  2160.6,2, 2274.01,2,   7.6614,2,       25,-999.000,9,-999.0000,9, -999.00,9, -999.00,9,  -999.0,9,  -999.0,-999.000,9,-999.000,     -999.0,9, -999.00,9,    43.6,2, -999.00,9,     -999.0,9,  -999.0,1, 20130426,     1442,  30.0001,  175.255,    34.2399,2,     -999.0,9,     -999.0,9,     8.3598,2,     -999.0,9,     -999.0,1,-999.0000, -999.00,-999.000
318M20130321,       P02W,      67,          1,         20,         20,2,20130426,       1253,    30.0004,   175.2552,       5184,   670.6,   6.3239,  34.0212,2,   34.023,2,    131.2,2,   131.7,2,   57.71,2,    29.9,2,       0,2,    2.19,2,-999.000,9,-999.000,9,-999.000,9,-999.0000,9,  2222.8,2, 2287.41,2,   7.5214,6,       25,-999.000,9,-999.0000,9, -999.00,9, -999.00,9,  -999.0,9,  -999.0,-999.000,9,-999.000,     -999.0,9, -999.00,9,   44.56,2, -999.00,9,     -999.0,9,  -999.0,1, 20130426,     1439,  30.0001, 175.2552,    34.1834,2,     -999.0,9,     -999.0,9,     6.3359,2,     -999.0,9,     -999.0,1,-999.0000, -999.00,-999.000
318M20130321,       P02W,      67,          1,         19,         19,2,20130426,       1253,    30.0004,   175.2552,       5184,     772,   5.0975,  34.0766,2,  34.0761,2,     84.4,2,      84,2,   80.85,2,   36.36,2,       0,2,    2.65,2,   0.000,4,   0.000,4,   0.000,4,     0.26,2,  2276.3,2, 2307.62,2,   7.4122,2,       25,-999.000,9,-999.0000,9, -999.00,9, -999.00,9,  -999.0,9,  -999.0,-999.000,9,-999.000,     -999.0,9, -999.00,9,   39.64,2, -999.00,9,     -999.0,9,  -999.0,1, 20130426,     1436,       30, 175.2552,    34.2368,2,     -999.0,9,     -999.0,9,     5.0969,2,     -999.0,9,     -999.0,1,-999.0000, -999.00,-999.000
318M20130321,       P02W,      67,          1,         18,         18,2,20130426,       1253,    30.0004,   175.2552,       5184,   870.4,   4.3012,  34.1706,2,   34.171,2,       52,2,    51.3,2,  101.84,2,   40.34,2,       0,2,    2.94,2,-999.000,9,-999.000,9,-999.000,9,-999.0000,9,  2316.4,2, 2328.93,2,   7.3493,2,       25,-999.000,9,-999.0000,9, -999.00,9, -999.00,9,  -999.0,9,  -999.0,-999.000,9,-999.000,     -999.0,9, -999.00,9,   40.48,2, -999.00,9,     -999.0,9,  -999.0,1, 20130426,     1433,       30, 175.2551,    34.3321,2,     -999.0,9,     -999.0,9,     4.3027,2,     -999.0,9,     -999.0,1,-999.0000, -999.00,-999.000
318M20130321,       P02W,      67,          1,         17,         17,2,20130426,       1253,    30.0004,   175.2552,       5184,   973.6,    3.817,  34.2613,2,  34.2612,2,     33.8,2,    34.4,2,  116.97,2,   42.39,2,       0,2,    3.09,2,   0.391,2,   0.203,2,   0.023,2,     0.05,2,  2345.3,2, 2347.53,2,    7.322,2,       25,-999.000,9,-999.0000,9, -999.00,9, -999.00,9,  -999.0,9,  -999.0,-999.000,9,-999.000,     -999.0,9, -999.00,9,   38.26,2, -999.00,9,     -999.0,9,  -999.0,1, 20130426,     1430,       30, 175.2551,    34.4227,2,     -999.0,9,     -999.0,9,      3.817,2,     -999.0,9,     -999.0,1,-999.0000, -999.00,-999.000
318M20130321,       P02W,      67,          1,         16,         16,2,20130426,       1253,    30.0004,   175.2552,       5184,  1073.2,   3.5201,  34.3245,2,  34.3236,2,     26.8,2,    27.4,2,  126.24,2,   43.25,2,       0,2,    3.15,2,-999.000,9,-999.000,9,-999.000,9,-999.0000,9,  -999.0,9, -999.00,9,-999.0000,9,  -999.00,-999.000,9,-999.0000,9, -999.00,9, -999.00,9,  -999.0,9,  -999.0,-999.000,9,-999.000,     -999.0,9, -999.00,9,   36.94,2, -999.00,9,     -999.0,9,  -999.0,1, 20130426,     1427,       30, 175.2551,    34.4854,2,     -999.0,9,     -999.0,9,     3.5199,2,     -999.0,9,     -999.0,1,-999.0000, -999.00,-999.000
318M20130321,       P02W,      67,          1,         15,         15,2,20130426,       1253,    30.0004,   175.2552,       5184,  1172.4,   3.2269,  34.3821,2,  34.3821,2,     24.5,2,      25,2,  135.22,2,   43.79,2,       0,2,    3.18,2,   0.097,2,   0.058,2,   0.008,2,        0,2,  2369.9,2, 2371.24,2,   7.3158,2,       25,-999.000,9,-999.0000,9, -999.00,9, -999.00,9,  -999.0,9,  -999.0,-999.000,9,-999.000,     -999.0,9, -999.00,9,   38.62,2, -999.00,9,     -999.0,9,  -999.0,1, 20130426,     1423,  30.0001,  175.255,    34.5442,2,     -999.0,9,     -999.0,9,     3.2254,2,     -999.0,9,     -999.0,1,-999.0000, -999.00,-999.000
318M20130321,       P02W,      67,          1,         14,         14,2,20130426,       1253,    30.0004,   175.2552,       5184,  1275.9,   2.9731,  34.4323,2,  34.4321,2,     25.7,2,      26,2,  142.43,2,   43.92,2,       0,2,    3.17,2,-999.000,9,-999.000,9,-999.000,9,-999.0000,9,  2377.8,2, 2382.45,2,   7.3222,2,       25,-999.000,9,-999.0000,9, -999.00,9, -999.00,9,  -999.0,9,  -999.0,-999.000,9,-999.000,     -999.0,9, -999.00,9,    41.6,2, -999.00,9,     -999.0,9,  -999.0,1, 20130426,     1420,  30.0001, 175.2549,    34.5945,2,     -999.0,9,     -999.0,9,     2.9742,2,     -999.0,9,     -999.0,1,-999.0000, -999.00,-999.000
318M20130321,       P02W,      67,          1,         13,         13,2,20130426,       1253,    30.0004,   175.2552,       5184,  1377.2,   2.7696,  34.4711,2,  34.4706,2,     29.5,2,    29.4,2,  148.19,2,   43.89,2,       0,2,    3.16,2,   0.022,2,   0.022,2,   0.000,2,        0,2,  2380.9,2, 2389.85,2,   7.3326,2,       25,-999.000,9,-999.0000,9, -999.00,9, -999.00,9,  -999.0,9,  -999.0,-999.000,9,-999.000,     -999.0,9, -999.00,9, -999.00,9, -999.00,9,     -999.0,9,  -999.0,1, 20130426,     1417,       30,  175.255,    34.6331,2,     -999.0,9,     -999.0,9,     2.7694,2,     -999.0,9,     -999.0,1,-999.0000, -999.00,-999.000
318M20130321,       P02W,      67,          1,         12,         12,9,20130426,       1253,    30.0004,   175.2552,       5184,    1549,   2.4908,  34.5194,2,-999.0000,9,     39.3,2,  -999.0,9, -999.00,9, -999.00,9, -999.00,9, -999.00,9,-999.000,9,-999.000,9,-999.000,9,-999.0000,9,  -999.0,9, -999.00,9,-999.0000,9,  -999.00,-999.000,9,-999.0000,9, -999.00,9, -999.00,9,  -999.0,9,  -999.0,-999.000,9,-999.000,     -999.0,9, -999.00,9,    36.9,2, -999.00,9,     -999.0,9,  -999.0,9, 20130426,     1412,       30,  175.255,     -999.0,9,     -999.0,9,     -999.0,9,     2.4914,2,     -999.0,9,     -999.0,9,-999.0000, -999.00,-999.000
318M20130321,       P02W,      67,          1,         11,         11,2,20130426,       1253,    30.0004,   175.2552,       5184,  1750.3,   2.2131,  34.5648,2,  34.5643,2,     55.5,2,      55,2,  160.87,2,   42.39,2,       0,2,    3.03,2,   0.003,2,   0.013,2,   0.002,2,        0,2,  2377.8,2, 2407.26,2,    7.388,2,       25,-999.000,9,-999.0000,9, -999.00,9, -999.00,9,  -999.0,9,  -999.0,-999.000,9,-999.000,     -999.0,9, -999.00,9,   35.93,2, -999.00,9,     -999.0,9,  -999.0,1, 20130426,     1407,  30.0001,  175.255,    34.7273,2,     -999.0,9,     -999.0,9,     2.2177,2,     -999.0,9,     -999.0,1,-999.0000, -999.00,-999.000
318M20130321,       P02W,      67,          1,         10,         10,2,20130426,       1253,    30.0004,   175.2552,       5184,  2022.1,   1.9214,  34.6056,2,  34.6053,2,     77.1,2,    77.3,2,  164.09,2,      41,2,       0,2,    2.91,2,-999.000,9,-999.000,9,-999.000,9,-999.0000,9,  -999.0,9, -999.00,9,-999.0000,9,  -999.00,-999.000,9,-999.0000,9, -999.00,9, -999.00,9,  -999.0,9,  -999.0,-999.000,9,-999.000,     -999.0,9, -999.00,9,   38.03,2, -999.00,9,     -999.0,9,  -999.0,1, 20130426,     1402,       30, 175.2549,    34.7685,2,     -999.0,9,     -999.0,9,     1.9226,2,     -999.0,9,     -999.0,1,-999.0000, -999.00,-999.000
318M20130321,       P02W,      67,          1,          9,          9,2,20130426,       1253,    30.0004,   175.2552,       5184,  2324.8,   1.7348,  34.6326,2,  34.6324,2,       97,2,    97.1,2,   163.5,2,   39.63,2,       0,2,    2.81,2,   0.005,2,   0.012,2,   0.001,2,        0,2,  2359.4,2, 2416.36,2,   7.4707,2,       25,-999.000,9,-999.0000,9, -999.00,9, -999.00,9,  -999.0,9,  -999.0,-999.000,9,-999.000,     -999.0,9, -999.00,9,   37.86,2, -999.00,9,     -999.0,9,  -999.0,1, 20130426,     1355,       30, 175.2551,    34.7957,2,     -999.0,9,     -999.0,9,     1.7353,2,     -999.0,9,     -999.0,1,-999.0000, -999.00,-999.000
318M20130321,       P02W,      67,          1,          8,          8,2,20130426,       1253,    30.0004,   175.2552,       5184,  2734.6,   1.5879,  34.6546,2,  34.6539,2,      117,2,   117.5,2,  161.35,2,   38.37,2,       0,2,    2.73,2,-999.000,9,-999.000,9,-999.000,9,-999.0000,9,  -999.0,9, -999.00,9,-999.0000,9,  -999.00,-999.000,9,-999.0000,9, -999.00,9, -999.00,9,  -999.0,9,  -999.0,-999.000,9,-999.000,     -999.0,9, -999.00,9,   37.65,2, -999.00,9,     -999.0,9,  -999.0,1, 20130426,     1347,  30.0003, 175.2553,    34.8173,2,     -999.0,9,     -999.0,9,     1.5881,2,     -999.0,9,     -999.0,1,-999.0000, -999.00,-999.000