BOTTLE,20220817CCHSIOAMB
EXPOCODE,SECT_ID,STNNBR,CASTNO,SAMPNO,BTLNBR,BTLNBR_FLAG_W,DATE,TIME,LATITUDE,LONGITUDE,DEPTH,CTDPRS,CTDTMP,CTDSAL,CTDSAL_FLAG_W,SALNTY,SALNTY_FLAG_W,CTDOXY,CTDOXY_FLAG_W,OXYGEN,OXYGEN_FLAG_W,SILCAT,SILCAT_FLAG_W,NITRAT,NITRAT_FLAG_W,NITRIT,NITRIT_FLAG_W,PHSPHT,PHSPHT_FLAG_W,CFC-11,CFC-11_FLAG_W,CFC-12,CFC-12_FLAG_W,CFC113,CFC113_FLAG_W,SF6,SF6_FLAG_W,TCARBN,TCARBN_FLAG_W,ALKALI,ALKALI_FLAG_W,PH_TOT,PH_TOT_FLAG_W,PH_TMP,TRITUM,TRITUM_FLAG_W,HELIUM,HELIUM_FLAG_W,DELHE3,DELHE3_FLAG_W,DELC13,DELC13_FLAG_W,DELC14,DELC14_FLAG_W,C14ERR,NEON,NEON_FLAG_W,NEONER,I-129,I-129_FLAG_W,SR-90,SR-90_FLAG_W,DOC,DOC_FLAG_W,TDN,TDN_FLAG_W,CALCIUM,CALCIUM_FLAG_W,D15N_NO3,D15N_NO3_FLAG_W,BTL_DATE,BTL_TIME,BTL_LAT,BTL_LON,SALTREF,SALTREF_FLAG_W,CS-137,CS-137_FLAG_W,CS-134,CS-134_FLAG_W,REFTMP,REFTMP_FLAG_W,LAB_DEN,LAB_DEN_FLAG_W,D18O_NO3,D18O_NO3_FLAG_W,HELIER,DELHER,TRITER
,,,,,,,,,,,METERS,DBAR,ITS-90,PSS-78,,PSS-78,,UMOL/KG,,UMOL/KG,,UMOL/KG,,UMOL/KG,,UMOL/KG,,UMOL/KG,,PMOL/KG,,PMOL/KG,,PMOL/KG,,FMOL/KG,,UMOL/KG,,UMOL/KG,,,,DEG C,TU,,NMOL/KG,,PERCNT,,/MILLE,,/MILLE,,/MILLE,NMOL/KG,,NMOL/KG,BQ/M^3,,DM/.1MG,,UMOL/KG,,UMOL/KG,,MMOL/KG,,/MILLE,,,,,,G/KG,,BQ/M^3,,BQ/M^3,,ITS-90,,,,/MILLE,,NMOL/KG,PERCNT,TU
318M20130321,       P02E,     108,          1,          6,          6,2,20130518,       2055,    29.9997,  -148.5353,       4734,    3652,   1.4828,  34.6796,2,  34.6798,2,    138.9,2,   138.4,2,  162.13,2,   36.78,2,       0,2,    2.59,2,  -0.001,2,  -0.001,2,-999.000,1,        0,2,  -999.0,9, -999.00,9,-999.0000,9,  -999.00,-999.000,9,-999.0000,9, -999.00,9, -999.00,9,  -999.0,9,  -999.0,-999.000,9,-999.000,     -999.0,9, -999.00,9, -999.00,9, -999.00,9,     -999.0,9,  -999.0,9, 20130518,     2119,  30.0001,-148.5358,    34.8434,2,     -999.0,9,     -999.0,9,     1.4827,2,     -999.0,9,     -999.0,9,-999.0000, -999.00,-999.000
318M20130321,       P02E,     108,          1,          5,         37,2,20130518,       2055,    29.9997,  -148.5353,       4734,  3957.2,   1.4777,  34.6834,2,  34.6845,2,    144.4,2,   144.7,2,   158.9,2,   36.36,2,       0,2,    2.55,2,   0.004,2,   0.003,2,-999.000,1,        0,2,  2333.3,2, 2423.16,6,   7.5629,2,       25,-999.000,9,-999.0000,9, -999.00,9, -999.00,9,  -999.0,9,  -999.0,-999.000,9,-999.000,     -999.0,9, -999.00,9, -999.00,9, -999.00,9,     -999.0,9,  -999.0,9, 20130518,     2113,  30.0001,-148.5359,    34.8481,2,     -999.0,9,     -999.0,9,     1.4777,2,     -999.0,9,     -999.0,9,-999.0000, -999.00,-999.000
318M20130321,       P02E,     108,          1,          4,          4,2,20130518,       2055,    29.9997,  -148.5353,       4734,  4369.4,   1.4879,  34.6867,2,  34.6877,2,    150.1,2,   151.3,2,  155.29,2,   36.03,2,       0,2,    2.52,2,   0.001,2,   0.003,2,-999.000,1,        0,2,  2329.4,2, 2421.46,2,   7.5712,6,       25,-999.000,9,-999.0000,9, -999.00,9, -999.00,9,  -999.0,9,  -999.0,-999.000,9,-999.000,     -999.0,9, -999.00,9, -999.00,9, -999.00,9,     -999.0,9,  -999.0,9, 20130518,     2105,  30.0001,-148.5359,    34.8513,2,     -999.0,9,     -999.0,9,     1.4876,2,     -999.0,9,     -999.0,9,-999.0000, -999.00,-999.000
318M20130321,       P02E,     108,          1,          3,          3,2,20130518,       2055,    29.9997,  -148.5353,       4734,    4678,   1.5021,  34.6887,2,  34.6891,2,    155.4,2,   154.7,2,  152.46,2,   35.66,2,       0,2,     2.5,2,   0.004,2,   0.004,2,-999.000,1,        0,2,  -999.0,9, -999.00,9,-999.0000,9,  -999.00,-999.000,9,-999.0000,9, -999.00,9, -999.00,9,  -999.0,9,  -999.0,-999.000,9,-999.000,     -999.0,9, -999.00,9, -999.00,9, -999.00,9,     -999.0,9,  -999.0,9, 20130518,     2059,  30.0002,-148.5352,    34.8526,2,     -999.0,9,     -999.0,9,     1.5014,2,     -999.0,9,     -999.0,9,-999.0000, -999.00,-999.000
318M20130321,       P02E,     108,          1,          2,          2,2,20130518,       2055,    29.9997,  -148.5353,       4734,  4796.6,    1.512,   34.689,2,  34.6904,2,      157,2,   156.9,2,  151.58,2,   35.58,2,       0,2,    2.49,2,   0.003,2,   0.004,2,-999.000,1,        0,2,  2325.9,6, 2418.96,2,   7.5779,2,       25,-999.000,9,-999.0000,9, -999.00,9, -999.00,9,  -999.0,9,  -999.0,-999.000,9,-999.000,     -999.0,9, -999.00,9, -999.00,9, -999.00,9,     -999.0,9,  -999.0,9, 20130518,     2056,  29.9999,-148.5352,     34.854,2,     -999.0,9,     -999.0,9,     1.5119,2,     -999.0,9,     -999.0,9,-999.0000, -999.00,-999.000