BOTTLE,20220817CCHSIOAMB
EXPOCODE,SECT_ID,STNNBR,CASTNO,SAMPNO,BTLNBR,BTLNBR_FLAG_W,DATE,TIME,LATITUDE,LONGITUDE,DEPTH,CTDPRS,CTDTMP,CTDSAL,CTDSAL_FLAG_W,SALNTY,SALNTY_FLAG_W,CTDOXY,CTDOXY_FLAG_W,OXYGEN,OXYGEN_FLAG_W,SILCAT,SILCAT_FLAG_W,NITRAT,NITRAT_FLAG_W,NITRIT,NITRIT_FLAG_W,PHSPHT,PHSPHT_FLAG_W,CFC-11,CFC-11_FLAG_W,CFC-12,CFC-12_FLAG_W,CFC113,CFC113_FLAG_W,SF6,SF6_FLAG_W,TCARBN,TCARBN_FLAG_W,ALKALI,ALKALI_FLAG_W,PH_TOT,PH_TOT_FLAG_W,PH_TMP,TRITUM,TRITUM_FLAG_W,HELIUM,HELIUM_FLAG_W,DELHE3,DELHE3_FLAG_W,DELC13,DELC13_FLAG_W,DELC14,DELC14_FLAG_W,C14ERR,NEON,NEON_FLAG_W,NEONER,I-129,I-129_FLAG_W,SR-90,SR-90_FLAG_W,DOC,DOC_FLAG_W,TDN,TDN_FLAG_W,CALCIUM,CALCIUM_FLAG_W,D15N_NO3,D15N_NO3_FLAG_W,BTL_DATE,BTL_TIME,BTL_LAT,BTL_LON,SALTREF,SALTREF_FLAG_W,CS-137,CS-137_FLAG_W,CS-134,CS-134_FLAG_W,REFTMP,REFTMP_FLAG_W,LAB_DEN,LAB_DEN_FLAG_W,D18O_NO3,D18O_NO3_FLAG_W,HELIER,DELHER,TRITER
,,,,,,,,,,,METERS,DBAR,ITS-90,PSS-78,,PSS-78,,UMOL/KG,,UMOL/KG,,UMOL/KG,,UMOL/KG,,UMOL/KG,,UMOL/KG,,PMOL/KG,,PMOL/KG,,PMOL/KG,,FMOL/KG,,UMOL/KG,,UMOL/KG,,,,DEG C,TU,,NMOL/KG,,PERCNT,,/MILLE,,/MILLE,,/MILLE,NMOL/KG,,NMOL/KG,BQ/M^3,,DM/.1MG,,UMOL/KG,,UMOL/KG,,MMOL/KG,,/MILLE,,,,,,G/KG,,BQ/M^3,,BQ/M^3,,ITS-90,,,,/MILLE,,NMOL/KG,PERCNT,TU
318M20130321,       P02W,      45,          1,         36,         36,2,20130419,       0624,    30.0002,   159.1331,       5761,     3.3,  19.4597,  34.9043,2,  34.9026,2,      231,2,   231.6,2,    2.44,2,       0,2,       0,2,    0.02,2,   2.380,2,   1.434,2,   0.209,2,     1.32,2,  2007.1,6, 2291.01,2,   8.0157,2,       25,-999.000,9,-999.0000,9, -999.00,9, -999.00,9,  -999.0,9,  -999.0,-999.000,9,-999.000,     -999.0,9, -999.00,9,   57.39,2,    4.24,2,     -999.0,9,  -999.0,9, 20130419,      850,  30.0003, 159.1335,    35.0672,2,     -999.0,9,     -999.0,9,    19.4598,2,     -999.0,9,     -999.0,9,-999.0000, -999.00,-999.000
318M20130321,       P02W,      45,          1,         35,         35,9,20130419,       0624,    30.0002,   159.1331,       5761,    34.4,  19.4606,  34.9057,2,-999.0000,9,    232.6,2,  -999.0,9, -999.00,9, -999.00,9, -999.00,9, -999.00,9,-999.000,9,-999.000,9,-999.000,9,-999.0000,9,  -999.0,9, -999.00,9,-999.0000,9,  -999.00,-999.000,9,-999.0000,9, -999.00,9, -999.00,9,  -999.0,9,  -999.0,-999.000,9,-999.000,     -999.0,9, -999.00,9,   55.47,2,    4.43,2,     -999.0,9,  -999.0,9, 20130419,      848,  30.0002, 159.1334,     -999.0,9,     -999.0,9,     -999.0,9,    19.4454,2,     -999.0,9,     -999.0,9,-999.0000, -999.00,-999.000
318M20130321,       P02W,      45,          1,         34,         34,2,20130419,       0624,    30.0002,   159.1331,       5761,    60.7,  18.1615,  34.7733,2,  34.7799,2,    236.7,2,   239.3,2,    3.03,2,    0.05,2,    0.02,2,    0.05,2,   2.538,2,   1.495,2,   0.199,2,     1.41,2,  2006.8,2, 2284.61,2,   8.0047,6,       25,-999.000,9,-999.0000,9, -999.00,9, -999.00,9,  -999.0,9,  -999.0,-999.000,9,-999.000,     -999.0,9, -999.00,9,   54.23,2,    4.14,2,     -999.0,9,  -999.0,9, 20130419,      846,       30, 159.1332,    34.9439,2,     -999.0,9,     -999.0,9,    18.1909,2,     -999.0,9,     -999.0,9,-999.0000, -999.00,-999.000
318M20130321,       P02W,      45,          1,         33,         33,2,20130419,       0624,    30.0002,   159.1331,       5761,    84.7,  17.2063,  34.7058,2,  34.7072,2,    233.7,2,   245.9,2,    2.64,2,    0.39,2,    0.13,2,    0.08,2,   2.648,2,   1.543,2,   0.218,2,     1.45,2,  2007.8,2, 2279.61,2,    7.998,6,       25,-999.000,9,-999.0000,9, -999.00,9, -999.00,9,  -999.0,9,  -999.0,-999.000,9,-999.000,     -999.0,9, -999.00,9,   51.78,2,    5.35,2,     -999.0,9,  -999.0,9, 20130419,      845,  30.0001, 159.1333,    34.8708,2,     -999.0,9,     -999.0,9,    17.2123,2,     -999.0,9,     -999.0,9,-999.0000, -999.00,-999.000
318M20130321,       P02W,      45,          1,         32,         32,2,20130419,       0624,    30.0002,   159.1331,       5761,   114.8,  16.8999,  34.6977,2,  34.6966,2,    237.8,2,   235.6,2,    3.51,2,    1.83,2,    0.42,2,    0.18,2,   2.648,2,   1.555,2,   0.199,2,     1.35,2,  2017.7,2, 2278.01,2,   7.9774,2,       25,-999.000,9,-999.0000,9, -999.00,9, -999.00,9,  -999.0,9,  -999.0,-999.000,9,-999.000,     -999.0,9, -999.00,9,   49.14,2,    6.36,2,     -999.0,9,  -999.0,9, 20130419,      843,  30.0001, 159.1331,    34.8602,2,     -999.0,9,     -999.0,9,       16.9,2,     -999.0,9,     -999.0,9,-999.0000, -999.00,-999.000
318M20130321,       P02W,      45,          1,         31,         31,2,20130419,       0624,    30.0002,   159.1331,       5761,     166,  16.8178,  34.7084,2,   34.707,2,    233.7,2,   233.7,2,    3.61,2,    2.54,2,     0.2,2,     0.2,2,   2.626,2,   1.598,2,   0.196,2,        0,4,  2020.8,2, 2277.81,2,   7.9742,2,       25,-999.000,9,-999.0000,9, -999.00,9, -999.00,9,  -999.0,9,  -999.0,-999.000,9,-999.000,     -999.0,9, -999.00,9,   47.57,2,    6.94,2,     -999.0,9,  -999.0,9, 20130419,      840,  29.9999,  159.133,    34.8707,2,     -999.0,9,     -999.0,9,    16.8195,2,     -999.0,9,     -999.0,9,-999.0000, -999.00,-999.000
318M20130321,       P02W,      45,          1,         30,         30,2,20130419,       0624,    30.0002,   159.1331,       5761,   216.1,  16.7246,  34.7049,2,  34.7037,2,    229.7,2,   229.8,2,    3.71,2,     3.2,2,    0.03,2,    0.22,2,   2.593,2,   1.552,2,   0.186,2,        0,4,  -999.0,9, -999.00,9,-999.0000,9,  -999.00,-999.000,9,-999.0000,9, -999.00,9, -999.00,9,  -999.0,9,  -999.0,-999.000,9,-999.000,     -999.0,9, -999.00,9,    48.6,2,    7.05,2,     -999.0,9,  -999.0,9, 20130419,      838,  29.9999, 159.1332,    34.8673,2,     -999.0,9,     -999.0,9,    16.7247,2,     -999.0,9,     -999.0,9,-999.0000, -999.00,-999.000
318M20130321,       P02W,      45,          1,         29,         29,2,20130419,       0624,    30.0002,   159.1331,       5761,   267.6,   16.583,  34.6863,2,  34.6852,2,    228.7,2,   228.9,2,       4,2,    3.55,2,    0.02,2,    0.25,2,   2.629,2,   1.589,2,   0.181,2,     1.49,2,  2028.3,2, 2276.01,2,   7.9622,2,       25,-999.000,9,-999.0000,9, -999.00,9, -999.00,9,  -999.0,9,  -999.0,-999.000,9,-999.000,     -999.0,9, -999.00,9,   48.39,2,    7.63,2,     -999.0,9,  -999.0,9, 20130419,      836,  29.9998, 159.1336,    34.8487,2,     -999.0,9,     -999.0,9,    16.5827,2,     -999.0,9,     -999.0,9,-999.0000, -999.00,-999.000
318M20130321,       P02W,      45,          1,         28,         28,2,20130419,       0624,    30.0002,   159.1331,       5761,   317.4,  16.3474,   34.658,2,  34.6577,2,    222.2,2,   223.2,2,    5.27,2,    4.46,2,    0.02,2,    0.31,2,-999.000,9,-999.000,9,-999.000,9,-999.0000,9,  -999.0,9, -999.00,9,-999.0000,9,  -999.00,-999.000,9,-999.0000,9, -999.00,9, -999.00,9,  -999.0,9,  -999.0,-999.000,9,-999.000,     -999.0,9, -999.00,9,    48.9,2,    8.66,2,     -999.0,9,  -999.0,9, 20130419,      834,  29.9997, 159.1336,    34.8211,2,     -999.0,9,     -999.0,9,    16.3448,2,     -999.0,9,     -999.0,9,-999.0000, -999.00,-999.000
318M20130321,       P02W,      45,          1,         27,         27,2,20130419,       0624,    30.0002,   159.1331,       5761,   368.1,  15.6737,  34.5998,2,  34.6001,2,    208.6,2,   207.4,2,    7.91,2,    6.94,2,    0.01,2,    0.49,2,   2.690,2,   1.619,2,   0.109,2,     1.25,2,  2052.5,2, 2274.51,2,   7.9104,2,       25,-999.000,9,-999.0000,9, -999.00,9, -999.00,9,  -999.0,9,  -999.0,-999.000,9,-999.000,     -999.0,9, -999.00,9,   46.65,2, -999.00,9,     -999.0,9,  -999.0,9, 20130419,      832,  30.0001, 159.1336,    34.7633,2,     -999.0,9,     -999.0,9,    15.6714,2,     -999.0,9,     -999.0,9,-999.0000, -999.00,-999.000
318M20130321,       P02W,      45,          1,         26,         26,2,20130419,       0624,    30.0002,   159.1331,       5761,   434.9,   13.818,  34.4739,2,  34.4733,2,    191.7,2,   190.5,2,   14.45,2,   11.47,2,    0.01,2,     0.8,2,-999.000,9,-999.000,9,-999.000,9,-999.0000,9,  -999.0,9, -999.00,9,-999.0000,9,  -999.00,-999.000,9,-999.0000,9, -999.00,9, -999.00,9,  -999.0,9,  -999.0,-999.000,9,-999.000,     -999.0,9, -999.00,9,   43.89,2, -999.00,9,     -999.0,9,  -999.0,9, 20130419,      829,  30.0004, 159.1332,    34.6358,2,     -999.0,9,     -999.0,9,    13.8153,2,     -999.0,9,     -999.0,9,-999.0000, -999.00,-999.000
318M20130321,       P02W,      45,          1,         25,         25,2,20130419,       0624,    30.0002,   159.1331,       5761,   534.2,  10.7503,  34.2592,2,   34.261,2,    185.5,2,   189.7,2,   24.41,2,   16.36,2,    0.01,2,    1.16,2,   2.768,2,   0.000,4,   0.122,2,     1.06,2,  2124.8,2, 2272.41,2,   7.7494,2,       25,-999.000,9,-999.0000,9, -999.00,9, -999.00,9,  -999.0,9,  -999.0,-999.000,9,-999.000,     -999.0,9, -999.00,9,   40.83,2, -999.00,9,     -999.0,9,  -999.0,9, 20130419,      826,  30.0005,  159.133,    34.4225,2,     -999.0,9,     -999.0,9,      10.75,2,     -999.0,9,     -999.0,9,-999.0000, -999.00,-999.000
318M20130321,       P02W,      45,          1,         24,         24,2,20130419,       0624,    30.0002,   159.1331,       5761,   636.9,   7.9257,  34.0713,2,  34.0706,2,    165.6,2,   164.6,2,   41.89,2,   23.89,2,    0.01,2,    1.71,2,-999.000,9,-999.000,9,-999.000,9,-999.0000,9,  -999.0,9, -999.00,9,-999.0000,9,  -999.00,-999.000,9,-999.0000,9, -999.00,9, -999.00,9,  -999.0,9,  -999.0,-999.000,9,-999.000,     -999.0,9, -999.00,9,   40.47,2, -999.00,9,     -999.0,9,  -999.0,9, 20130419,      824,  30.0002,  159.133,    34.2313,2,     -999.0,9,     -999.0,9,     7.9245,2,     -999.0,9,     -999.0,9,-999.0000, -999.00,-999.000
318M20130321,       P02W,      45,          1,         23,         23,2,20130419,       0624,    30.0002,   159.1331,       5761,   739.3,   5.6501,  34.0079,2,  34.0079,2,    125.4,2,   124.8,2,   68.07,2,   31.78,2,       0,2,    2.29,2,   0.580,2,   0.000,4,   0.129,2,     0.52,2,  2239.4,2, 2293.91,2,   7.4868,2,       25,-999.000,9,-999.0000,9, -999.00,9, -999.00,9,  -999.0,9,  -999.0,-999.000,9,-999.000,     -999.0,9, -999.00,9,   37.53,2, -999.00,9,     -999.0,9,  -999.0,9, 20130419,      821,  30.0001, 159.1331,    34.1683,2,     -999.0,9,     -999.0,9,     5.6441,2,     -999.0,9,     -999.0,9,-999.0000, -999.00,-999.000
318M20130321,       P02W,      45,          1,         22,         22,2,20130419,       0624,    30.0002,   159.1331,       5761,   840.6,    4.662,   34.099,2,  34.0986,2,       79,2,    80.5,2,   90.81,2,   37.18,2,       0,2,    2.68,2,-999.000,9,-999.000,9,-999.000,9,-999.0000,9,  -999.0,9, -999.00,9,-999.0000,9,  -999.00,-999.000,9,-999.0000,9, -999.00,9, -999.00,9,  -999.0,9,  -999.0,-999.000,9,-999.000,     -999.0,9, -999.00,9,   39.18,2, -999.00,9,     -999.0,9,  -999.0,9, 20130419,      818,  30.0004, 159.1331,    34.2594,2,     -999.0,9,     -999.0,9,     4.6619,2,     -999.0,9,     -999.0,9,-999.0000, -999.00,-999.000
318M20130321,       P02W,      45,          1,         21,         21,2,20130419,       0624,    30.0002,   159.1331,       5761,   943.1,   4.1358,  34.2042,2,  34.2008,2,     56.7,2,    56.3,2,   107.7,2,   39.87,2,       0,2,    2.86,2,   0.962,2,   0.000,4,   0.051,2,     0.12,2,  2321.1,2, 2333.73,2,   7.3626,2,       25,-999.000,9,-999.0000,9, -999.00,9, -999.00,9,  -999.0,9,  -999.0,-999.000,9,-999.000,     -999.0,9, -999.00,9,   37.16,2, -999.00,9,     -999.0,9,  -999.0,9, 20130419,      815,  30.0003, 159.1331,     34.362,2,     -999.0,9,     -999.0,9,     4.1379,2,     -999.0,9,     -999.0,9,-999.0000, -999.00,-999.000
318M20130321,       P02W,      45,          1,         20,         20,2,20130419,       0624,    30.0002,   159.1331,       5761,  1044.9,   3.7395,  34.2819,2,  34.2812,2,     39.9,2,    38.9,2,  119.21,2,   41.83,2,       0,2,       3,2,-999.000,9,-999.000,9,-999.000,9,-999.0000,9,  -999.0,9, -999.00,9,-999.0000,9,  -999.00,-999.000,9,-999.0000,9, -999.00,9, -999.00,9,  -999.0,9,  -999.0,-999.000,9,-999.000,     -999.0,9, -999.00,9,   36.54,2, -999.00,9,     -999.0,9,  -999.0,9, 20130419,      812,  30.0003, 159.1331,    34.4428,2,     -999.0,9,     -999.0,9,     3.7412,2,     -999.0,9,     -999.0,9,-999.0000, -999.00,-999.000
318M20130321,       P02W,      45,          1,         19,         19,2,20130419,       0624,    30.0002,   159.1331,       5761,  1144.8,   3.3948,  34.3489,2,  34.3477,2,     34.1,2,    33.9,2,  129.85,2,   42.54,2,       0,2,    3.05,2,   0.212,2,   0.000,4,   0.018,2,     0.04,2,  2359.1,2, 2364.94,2,   7.3304,6,       25,-999.000,9,-999.0000,9, -999.00,9, -999.00,9,  -999.0,9,  -999.0,-999.000,9,-999.000,     -999.0,9, -999.00,9,   39.29,2, -999.00,9,     -999.0,9,  -999.0,9, 20130419,      809,  30.0004, 159.1331,    34.5097,2,     -999.0,9,     -999.0,9,     3.3952,2,     -999.0,9,     -999.0,9,-999.0000, -999.00,-999.000
318M20130321,       P02W,      45,          1,         18,         18,2,20130419,       0624,    30.0002,   159.1331,       5761,  1241.6,   3.1429,  34.3966,2,   34.397,2,     33.4,2,    33.4,2,  137.17,2,   42.81,2,       0,2,    3.07,2,   0.125,2,   0.065,2,   0.012,2,     0.02,2,  -999.0,9, -999.00,9,-999.0000,9,  -999.00,-999.000,9,-999.0000,9, -999.00,9, -999.00,9,  -999.0,9,  -999.0,-999.000,9,-999.000,     -999.0,9, -999.00,9,   38.86,2, -999.00,9,     -999.0,9,  -999.0,9, 20130419,      806,  30.0006, 159.1331,    34.5592,2,     -999.0,9,     -999.0,9,     3.1425,2,     -999.0,9,     -999.0,9,-999.0000, -999.00,-999.000
318M20130321,       P02W,      45,          1,         17,         17,2,20130419,       0624,    30.0002,   159.1331,       5761,  1342.1,   2.8475,  34.4369,2,   34.436,2,       34,2,    33.7,2,  146.44,2,   43.08,2,       0,2,    3.08,2,   0.091,2,   0.046,2,   0.008,2,     0.01,2,  2374.9,2, 2382.05,2,   7.3336,2,       25,-999.000,9,-999.0000,9, -999.00,9, -999.00,9,  -999.0,9,  -999.0,-999.000,9,-999.000,     -999.0,9, -999.00,9,   40.67,2, -999.00,9,     -999.0,9,  -999.0,9, 20130419,      803,  30.0004,  159.133,    34.5984,2,     -999.0,9,     -999.0,9,     2.8486,2,     -999.0,9,     -999.0,9,-999.0000, -999.00,-999.000
318M20130321,       P02W,      45,          1,         16,         16,2,20130419,       0624,    30.0002,   159.1331,       5761,  1475.9,   2.6163,  34.4818,2,  34.4808,2,     37.4,2,      37,2,  152.97,2,   43.12,2,       0,2,    3.08,2,   0.036,2,   0.022,2,   0.010,2,        0,2,  2378.9,2, 2391.75,2,   7.3429,2,       25,-999.000,9,-999.0000,9, -999.00,9, -999.00,9,  -999.0,9,  -999.0,-999.000,9,-999.000,     -999.0,9, -999.00,9,   40.23,2, -999.00,9,     -999.0,9,  -999.0,9, 20130419,      759,       30,  159.133,    34.6434,2,     -999.0,9,     -999.0,9,     2.6179,2,     -999.0,9,     -999.0,9,-999.0000, -999.00,-999.000
318M20130321,       P02W,      45,          1,         15,         15,2,20130419,       0624,    30.0002,   159.1331,       5761,  1680.5,   2.2753,  34.5443,2,   34.543,2,     50.4,2,    52.8,2,   159.7,2,    42.3,2,       0,2,       3,2,   0.000,4,   0.013,2,   0.005,2,     0.02,2,  2379.1,6, 2401.35,2,   7.3788,2,       25,-999.000,9,-999.0000,9, -999.00,9, -999.00,9,  -999.0,9,  -999.0,-999.000,9,-999.000,     -999.0,9, -999.00,9,   37.32,2, -999.00,9,     -999.0,9,  -999.0,9, 20130419,      754,       30, 159.1333,    34.7059,2,     -999.0,9,     -999.0,9,     2.2755,2,     -999.0,9,     -999.0,9,-999.0000, -999.00,-999.000
318M20130321,       P02W,      45,          1,         14,         14,2,20130419,       0624,    30.0002,   159.1331,       5761,  1878.9,    2.049,  34.5798,2,  34.5804,2,     66.7,2,    66.9,2,  163.02,2,   41.44,2,       0,2,    2.93,2,   0.000,4,   0.009,2,   0.005,2,        0,2,  2374.1,2, 2408.76,2,   7.4124,2,       25,-999.000,9,-999.0000,9, -999.00,9, -999.00,9,  -999.0,9,  -999.0,-999.000,9,-999.000,     -999.0,9, -999.00,9,   35.41,2, -999.00,9,     -999.0,9,  -999.0,9, 20130419,      750,  29.9995, 159.1334,    34.7434,2,     -999.0,9,     -999.0,9,     2.0486,2,     -999.0,9,     -999.0,9,-999.0000, -999.00,-999.000
318M20130321,       P02W,      45,          1,         13,         13,2,20130419,       0624,    30.0002,   159.1331,       5761,  2105.3,   1.8705,  34.6099,2,   34.609,2,     84.4,2,    84.1,2,  163.89,2,   40.38,2,       0,2,    2.85,2,-999.000,9,-999.000,9,-999.000,9,-999.0000,9,  2366.2,2, 2412.06,2,   7.4413,2,       25,-999.000,9,-999.0000,9, -999.00,9, -999.00,9,  -999.0,9,  -999.0,-999.000,9,-999.000,     -999.0,9, -999.00,9,   36.77,2, -999.00,9,     -999.0,9,  -999.0,9, 20130419,      744,  30.0001, 159.1335,    34.7722,2,     -999.0,9,     -999.0,9,     1.8712,2,     -999.0,9,     -999.0,9,-999.0000, -999.00,-999.000
318M20130321,       P02W,      45,          1,         12,         12,2,20130419,       0624,    30.0002,   159.1331,       5761,  2360.2,   1.7374,  34.6343,2,  34.6336,2,    102.2,2,   103.6,2,   159.1,2,   39.03,2,       0,2,    2.75,2,   0.021,2,   0.010,2,   0.007,2,     0.02,2,  -999.0,9, -999.00,9,-999.0000,9,  -999.00,-999.000,9,-999.0000,9, -999.00,9, -999.00,9,  -999.0,9,  -999.0,-999.000,9,-999.000,     -999.0,9, -999.00,9,    34.4,2, -999.00,9,     -999.0,9,  -999.0,9, 20130419,      739,  30.0003, 159.1331,    34.7969,2,     -999.0,9,     -999.0,9,     1.7374,2,     -999.0,9,     -999.0,9,-999.0000, -999.00,-999.000
318M20130321,       P02W,      45,          1,         11,         11,2,20130419,       0624,    30.0002,   159.1331,       5761,  2610.6,   1.6534,  34.6482,2,  34.6478,2,    115.5,2,   115.9,2,  158.42,2,   38.22,2,       0,2,    2.68,2,-999.000,9,-999.000,9,-999.000,9,-999.0000,9,  2348.5,2, 2415.66,2,   7.5027,2,       25,-999.000,9,-999.0000,9, -999.00,9, -999.00,9,  -999.0,9,  -999.0,-999.000,9,-999.000,     -999.0,9, -999.00,9,   37.53,2, -999.00,9,     -999.0,9,  -999.0,9, 20130419,      733,  30.0003, 159.1332,    34.8111,2,     -999.0,9,     -999.0,9,     1.6531,2,     -999.0,9,     -999.0,9,-999.0000, -999.00,-999.000
318M20130321,       P02W,      45,          1,         10,         10,2,20130419,       0624,    30.0002,   159.1331,       5761,  2867.2,   1.5807,  34.6588,2,  34.6584,2,      124,2,   124.4,2,  157.74,2,   37.69,2,       0,2,    2.65,2,   0.017,2,   0.008,2,   0.005,2,     0.01,2,  -999.0,9, -999.00,9,-999.0000,9,  -999.00,-999.000,9,-999.0000,9, -999.00,9, -999.00,9,  -999.0,9,  -999.0,-999.000,9,-999.000,     -999.0,9, -999.00,9, -999.00,5, -999.00,9,     -999.0,9,  -999.0,9, 20130419,      727,  29.9998, 159.1335,    34.8218,2,     -999.0,9,     -999.0,9,     1.5805,2,     -999.0,9,     -999.0,9,-999.0000, -999.00,-999.000
318M20130321,       P02W,      45,          1,          9,          9,2,20130419,       0624,    30.0002,   159.1331,       5761,  3139.4,   1.5342,  34.6675,2,  34.6666,2,    134.4,2,   132.5,2,   155.1,2,   37.13,2,       0,2,     2.6,2,-999.000,9,-999.000,9,-999.000,9,-999.0000,9,  2338.4,2, 2414.16,2,   7.5354,2,       25,-999.000,9,-999.0000,9, -999.00,9, -999.00,9,  -999.0,9,  -999.0,-999.000,9,-999.000,     -999.0,9, -999.00,9,   38.01,2, -999.00,9,     -999.0,9,  -999.0,9, 20130419,      721,       30, 159.1336,    34.8301,2,     -999.0,9,     -999.0,9,     1.5346,2,     -999.0,9,     -999.0,9,-999.0000, -999.00,-999.000
318M20130321,       P02W,      45,          1,          8,          8,2,20130419,       0624,    30.0002,   159.1331,       5761,  3446.6,    1.498,  34.6747,2,  34.6743,2,    140.7,2,   140.5,2,  151.97,2,   36.63,2,       0,2,    2.56,2,   0.016,2,   0.007,2,   0.000,2,        0,2,  -999.0,9, -999.00,9,-999.0000,9,  -999.00,-999.000,9,-999.0000,9, -999.00,9, -999.00,9,  -999.0,9,  -999.0,-999.000,9,-999.000,     -999.0,9, -999.00,9,   35.76,2, -999.00,9,     -999.0,9,  -999.0,9, 20130419,      715,  30.0002, 159.1336,    34.8378,2,     -999.0,9,     -999.0,9,     1.4984,2,     -999.0,9,     -999.0,9,-999.0000, -999.00,-999.000