BOTTLE,20220817CCHSIOAMB
EXPOCODE,SECT_ID,STNNBR,CASTNO,SAMPNO,BTLNBR,BTLNBR_FLAG_W,DATE,TIME,LATITUDE,LONGITUDE,DEPTH,CTDPRS,CTDTMP,CTDSAL,CTDSAL_FLAG_W,SALNTY,SALNTY_FLAG_W,CTDOXY,CTDOXY_FLAG_W,OXYGEN,OXYGEN_FLAG_W,SILCAT,SILCAT_FLAG_W,NITRAT,NITRAT_FLAG_W,NITRIT,NITRIT_FLAG_W,PHSPHT,PHSPHT_FLAG_W,CFC-11,CFC-11_FLAG_W,CFC-12,CFC-12_FLAG_W,CFC113,CFC113_FLAG_W,SF6,SF6_FLAG_W,TCARBN,TCARBN_FLAG_W,ALKALI,ALKALI_FLAG_W,PH_TOT,PH_TOT_FLAG_W,PH_TMP,TRITUM,TRITUM_FLAG_W,HELIUM,HELIUM_FLAG_W,DELHE3,DELHE3_FLAG_W,DELC13,DELC13_FLAG_W,DELC14,DELC14_FLAG_W,C14ERR,NEON,NEON_FLAG_W,NEONER,I-129,I-129_FLAG_W,SR-90,SR-90_FLAG_W,DOC,DOC_FLAG_W,TDN,TDN_FLAG_W,CALCIUM,CALCIUM_FLAG_W,D15N_NO3,D15N_NO3_FLAG_W,BTL_DATE,BTL_TIME,BTL_LAT,BTL_LON,SALTREF,SALTREF_FLAG_W,CS-137,CS-137_FLAG_W,CS-134,CS-134_FLAG_W,REFTMP,REFTMP_FLAG_W,LAB_DEN,LAB_DEN_FLAG_W,D18O_NO3,D18O_NO3_FLAG_W,HELIER,DELHER,TRITER
,,,,,,,,,,,METERS,DBAR,ITS-90,PSS-78,,PSS-78,,UMOL/KG,,UMOL/KG,,UMOL/KG,,UMOL/KG,,UMOL/KG,,UMOL/KG,,PMOL/KG,,PMOL/KG,,PMOL/KG,,FMOL/KG,,UMOL/KG,,UMOL/KG,,,,DEG C,TU,,NMOL/KG,,PERCNT,,/MILLE,,/MILLE,,/MILLE,NMOL/KG,,NMOL/KG,BQ/M^3,,DM/.1MG,,UMOL/KG,,UMOL/KG,,MMOL/KG,,/MILLE,,,,,,G/KG,,BQ/M^3,,BQ/M^3,,ITS-90,,,,/MILLE,,NMOL/KG,PERCNT,TU
318M20130321,       P02W,      13,          5,         36,         36,2,20130406,       0816,    30.6143,   134.3366,       4500,     6.2,  21.5341,    34.68,2,  34.6791,2,    218.7,2,   219.1,2,    1.27,2,       0,2,       0,2,    0.03,2,   2.051,2,   1.327,2,   0.257,4,     1.41,2,  1978.1,6, 2279.51,6,   8.0505,2,       25,-999.000,9,-999.0000,9, -999.00,9,    0.80,2,    61.4,2,     2.5,-999.000,9,-999.000,     -999.0,9, -999.00,9,   65.94,2,    4.25,2,     -999.0,9,  -999.0,9, 20130406,     1015,  30.5839, 134.3458,    34.8426,2,     -999.0,9,     -999.0,9,    21.5339,2,     -999.0,9,     -999.0,9,-999.0000, -999.00,-999.000
318M20130321,       P02W,      13,          5,         35,         35,2,20130406,       0816,    30.6143,   134.3366,       4500,    22.9,  21.5326,  34.6811,2,  34.6812,2,    218.5,2,   218.7,2,    1.37,2,       0,2,    0.01,2,    0.03,2,   2.137,2,   1.312,2,   0.435,4,     1.35,2,  -999.0,9, -999.00,9,-999.0000,9,  -999.00,-999.000,9,-999.0000,9, -999.00,9, -999.00,9,  -999.0,9,  -999.0,-999.000,9,-999.000,     -999.0,9, -999.00,9,   65.07,2,     4.6,2,     -999.0,9,  -999.0,9, 20130406,     1015,  30.5841,  134.346,    34.8448,2,     -999.0,9,     -999.0,9,     21.532,2,     -999.0,9,     -999.0,9,-999.0000, -999.00,-999.000
318M20130321,       P02W,      13,          5,         34,         34,2,20130406,       0816,    30.6143,   134.3366,       4500,    46.9,  21.4616,  34.6912,2,  34.6985,2,    218.1,2,   217.6,2,    1.56,2,    0.08,2,    0.02,2,    0.03,2,   2.111,2,   1.319,2,   0.380,4,      1.5,2,  1979.6,2, 2277.01,6,   8.0497,2,       25,-999.000,9,-999.0000,9, -999.00,9, -999.00,9,  -999.0,9,  -999.0,-999.000,9,-999.000,     -999.0,9, -999.00,9,   70.12,2,    4.34,2,     -999.0,9,  -999.0,9, 20130406,     1013,  30.5845, 134.3464,    34.8621,2,     -999.0,9,     -999.0,9,    21.4534,2,     -999.0,9,     -999.0,9,-999.0000, -999.00,-999.000
318M20130321,       P02W,      13,          5,         33,         33,2,20130406,       0816,    30.6143,   134.3366,       4500,    71.2,   20.756,  34.7195,2,  34.7174,2,    216.7,2,   216.8,2,    1.56,2,    0.38,2,    0.04,2,    0.05,2,   2.173,2,   1.391,2,   0.329,4,     1.27,2,  -999.0,9, -999.00,9,-999.0000,9,  -999.00,-999.000,9,-999.0000,9, -999.00,9, -999.00,9,  -999.0,9,  -999.0,-999.000,9,-999.000,     -999.0,9, -999.00,9,   65.05,2,    5.28,2,     -999.0,9,  -999.0,9, 20130406,     1011,  30.5849, 134.3465,    34.8811,2,     -999.0,9,     -999.0,9,    20.7567,2,     -999.0,9,     -999.0,9,-999.0000, -999.00,-999.000
318M20130321,       P02W,      13,          5,         32,         32,2,20130406,       0816,    30.6143,   134.3366,       4500,    98.1,  20.5884,  34.7269,2,  34.7256,2,    212.8,2,   220.3,2,    1.46,2,    0.12,2,    0.03,2,    0.03,2,   2.194,2,   1.390,2,   0.345,4,     1.37,2,  1987.9,2, 2280.51,2,   8.0388,6,       25,-999.000,9,-999.0000,9, -999.00,9,    0.69,2,    53.2,2,     3.3,-999.000,9,-999.000,     -999.0,9, -999.00,9,   62.41,2,    3.72,2,     -999.0,9,  -999.0,9, 20130406,     1010,  30.5853, 134.3468,    34.8894,2,     -999.0,9,     -999.0,9,    20.5885,2,     -999.0,9,     -999.0,9,-999.0000, -999.00,-999.000
318M20130321,       P02W,      13,          5,         31,         31,2,20130406,       0816,    30.6143,   134.3366,       4500,   144.1,  20.1239,  34.7748,2,  34.7722,2,    198.2,2,   197.2,2,    2.64,2,    2.56,2,    0.04,2,    0.19,2,   2.245,2,   1.386,2,   0.305,4,     1.27,2,  -999.0,9, -999.00,9,-999.0000,9,  -999.00,-999.000,9,-999.0000,9, -999.00,9, -999.00,9,  -999.0,9,  -999.0,-999.000,9,-999.000,     -999.0,9, -999.00,9, -999.00,5,    6.25,2,     -999.0,9,  -999.0,9, 20130406,     1008,  30.5858, 134.3473,    34.9362,2,     -999.0,9,     -999.0,9,    20.1342,2,     -999.0,9,     -999.0,9,-999.0000, -999.00,-999.000
318M20130321,       P02W,      13,          5,         30,         30,2,20130406,       0816,    30.6143,   134.3366,       4500,   193.8,   19.108,  34.7735,2,  34.7722,2,    220.4,2,   216.2,2,    1.95,2,    1.35,2,    0.07,2,     0.1,2,-999.000,9,-999.000,9,-999.000,9,-999.0000,9,  2007.8,2, 2281.31,2,   8.0086,2,       25,-999.000,9,-999.0000,9, -999.00,9,    0.57,2,    54.3,2,     2.4,-999.000,9,-999.000,     -999.0,9, -999.00,9,   58.87,2,    5.25,2,     -999.0,9,  -999.0,9, 20130406,     1006,  30.5862, 134.3476,    34.9362,2,     -999.0,9,     -999.0,9,    19.1081,2,     -999.0,9,     -999.0,9,-999.0000, -999.00,-999.000
318M20130321,       P02W,      13,          5,         29,         29,2,20130406,       0816,    30.6143,   134.3366,       4500,     244,  18.7315,  34.7696,2,  34.7683,2,    220.4,2,   201.6,2,    3.03,2,    3.22,2,    0.02,2,    0.21,2,   2.349,2,   1.471,2,   0.286,4,     1.32,2,  -999.0,9, -999.00,9,-999.0000,9,  -999.00,-999.000,9,-999.0000,9, -999.00,9, -999.00,9,  -999.0,9,  -999.0,-999.000,9,-999.000,     -999.0,9, -999.00,9,   56.69,2,    7.85,2,     -999.0,9,  -999.0,9, 20130406,     1004,  30.5867, 134.3481,    34.9322,2,     -999.0,9,     -999.0,9,    18.7337,2,     -999.0,9,     -999.0,9,-999.0000, -999.00,-999.000
318M20130321,       P02W,      13,          5,         28,         28,2,20130406,       0816,    30.6143,   134.3366,       4500,   293.7,  18.2967,  34.7612,2,  34.7604,2,      212,2,   201.9,2,    3.03,2,    3.61,2,    0.01,2,    0.24,2,-999.000,9,-999.000,9,-999.000,9,-999.0000,9,  2029.1,2, 2289.71,3,   7.9662,6,       25,-999.000,9,-999.0000,9, -999.00,9,    0.45,2,    58.2,2,     3.0,-999.000,9,-999.000,     -999.0,9, -999.00,9, -999.00,5,    8.52,2,     -999.0,9,  -999.0,9, 20130406,     1002,  30.5872, 134.3485,    34.9243,2,     -999.0,9,     -999.0,9,    18.2896,2,     -999.0,9,     -999.0,9,-999.0000, -999.00,-999.000
318M20130321,       P02W,      13,          5,         27,         27,2,20130406,       0816,    30.6143,   134.3366,       4500,   343.4,   17.614,  34.7268,2,   34.725,2,    196.3,2,     200,2,    3.81,2,    4.76,2,    0.01,2,    0.32,2,   2.490,2,   1.559,2,   0.181,4,     1.28,2,  -999.0,9, -999.00,9,-999.0000,9,  -999.00,-999.000,9,-999.0000,9, -999.00,9, -999.00,9,  -999.0,9,  -999.0,-999.000,9,-999.000,     -999.0,9, -999.00,9,   58.97,2,    8.65,2,     -999.0,9,  -999.0,9, 20130406,     1001,  30.5876,  134.349,    34.8888,2,     -999.0,9,     -999.0,9,    17.6019,2,     -999.0,9,     -999.0,9,-999.0000, -999.00,-999.000
318M20130321,       P02W,      13,          5,         26,         26,2,20130406,       0816,    30.6143,   134.3366,       4500,   391.8,  16.8907,  34.6863,2,  34.6844,2,    197.4,2,   197.3,2,    5.27,2,    6.04,2,    0.01,2,    0.41,2,-999.000,9,-999.000,9,-999.000,9,-999.0000,9,  2048.4,2, 2277.11,2,   7.9266,2,       25,-999.000,9,-999.0000,9, -999.00,9,    0.39,2,    56.4,2,     2.2,-999.000,9,-999.000,     -999.0,9, -999.00,9,   54.12,2, -999.00,9,     -999.0,9,  -999.0,9, 20130406,      959,  30.5882, 134.3495,    34.8479,2,     -999.0,9,     -999.0,9,    16.8898,2,     -999.0,9,     -999.0,9,-999.0000, -999.00,-999.000
318M20130321,       P02W,      13,          5,         25,         25,2,20130406,       0816,    30.6143,   134.3366,       4500,   434.1,  16.2612,  34.6407,2,  34.6417,2,    191.8,2,   190.1,2,    7.32,2,    7.55,2,    0.01,2,    0.52,2,   2.653,2,   1.584,2,   0.184,4,     1.17,2,  -999.0,9, -999.00,9,-999.0000,9,  -999.00,-999.000,9,-999.0000,9, -999.00,9, -999.00,9,  -999.0,9,  -999.0,-999.000,9,-999.000,     -999.0,9, -999.00,9,   47.91,2, -999.00,9,     -999.0,9,  -999.0,9, 20130406,      957,  30.5885,   134.35,    34.8051,2,     -999.0,9,     -999.0,9,    16.2556,2,     -999.0,9,     -999.0,9,-999.0000, -999.00,-999.000
318M20130321,       P02W,      13,          5,         24,         24,2,20130406,       0816,    30.6143,   134.3366,       4500,   473.4,  15.2737,  34.5762,2,  34.5749,2,    182.8,2,   183.6,2,    9.66,2,    9.62,2,    0.01,2,    0.67,2,-999.000,9,-999.000,9,-999.000,9,-999.0000,9,  2075.3,2, 2275.31,2,   7.8636,2,       25,-999.000,9,-999.0000,9, -999.00,9,    0.32,2,    63.3,2,     3.1,-999.000,9,-999.000,     -999.0,9, -999.00,9,   49.42,2, -999.00,9,     -999.0,9,  -999.0,9, 20130406,      955,  30.5889, 134.3503,     34.738,2,     -999.0,9,     -999.0,9,    15.2678,2,     -999.0,9,     -999.0,9,-999.0000, -999.00,-999.000
318M20130321,       P02W,      13,          5,         23,         23,2,20130406,       0816,    30.6143,   134.3366,       4500,   530.2,  13.2965,  34.4608,2,  34.4601,2,    168.7,2,     171,2,   19.13,2,   14.02,2,    0.01,2,       1,2,   2.654,2,   1.538,2,   0.307,4,     0.85,2,  2109.7,2, 2276.01,2,    7.795,2,       25,-999.000,9,-999.0000,9, -999.00,9,    0.23,2,    38.8,2,     2.6,-999.000,9,-999.000,     -999.0,9, -999.00,9,   46.62,2, -999.00,9,     -999.0,9,  -999.0,9, 20130406,      952,  30.5891, 134.3506,    34.6225,2,     -999.0,9,     -999.0,9,    13.2802,2,     -999.0,9,     -999.0,9,-999.0000, -999.00,-999.000
318M20130321,       P02W,      13,          5,         22,         38,2,20130406,       0816,    30.6143,   134.3366,       4500,   583.5,  11.9362,  34.3705,2,  34.3694,2,    166.9,2,   167.3,2,   22.75,2,    16.5,2,    0.01,2,    1.17,2,-999.000,9,-999.000,9,-999.000,9,-999.0000,9,  2125.7,2, 2274.21,2,   7.7511,2,       25,-999.000,9,-999.0000,9, -999.00,9,    0.16,2,    32.0,2,     2.8,-999.000,9,-999.000,     -999.0,9, -999.00,9,   42.95,2, -999.00,9,     -999.0,9,  -999.0,9, 20130406,      949,  30.5895, 134.3509,    34.5314,2,     -999.0,9,     -999.0,9,    11.9195,2,     -999.0,9,     -999.0,9,-999.0000, -999.00,-999.000
318M20130321,       P02W,      13,          5,         21,         21,2,20130406,       0816,    30.6143,   134.3366,       4500,   597.3,  11.5422,  34.3532,2,  34.3554,2,    165.2,2,   166.1,2,   24.41,2,   17.16,2,    0.01,2,    1.23,2,   2.707,2,   1.467,2,   0.262,4,     0.85,2,    2132,2, 2274.91,2,   7.7413,2,       25,-999.000,9,-999.0000,9, -999.00,9,    0.13,2,    31.1,2,     3.3,-999.000,9,-999.000,     -999.0,9, -999.00,9,   44.81,2, -999.00,9,     -999.0,9,  -999.0,9, 20130406,      946,  30.5904, 134.3517,    34.5174,2,     -999.0,9,     -999.0,9,    11.4621,3,     -999.0,9,     -999.0,9,-999.0000, -999.00,-999.000
318M20130321,       P02W,      13,          5,         20,         20,2,20130406,       0816,    30.6143,   134.3366,       4500,   637.7,  10.5737,  34.2877,2,  34.2862,2,    157.2,2,   160.2,2,   29.58,2,   19.54,2,    0.01,2,    1.41,2,-999.000,9,-999.000,9,-999.000,9,-999.0000,9,  2148.1,2, 2277.01,2,   7.7011,2,       25,-999.000,9,-999.0000,9, -999.00,9, -999.00,5,  -999.0,5,  -999.0,-999.000,9,-999.000,     -999.0,9, -999.00,9,   43.68,2, -999.00,9,     -999.0,9,  -999.0,9, 20130406,      944,  30.5912, 134.3517,    34.4479,2,     -999.0,9,     -999.0,9,    10.5777,2,     -999.0,9,     -999.0,9,-999.0000, -999.00,-999.000
318M20130321,       P02W,      13,          5,         19,         19,2,20130406,       0816,    30.6143,   134.3366,       4500,   724.4,   8.5242,  34.2423,2,  34.2434,2,      132,2,   132.4,2,   50.48,2,   25.67,2,       0,2,    1.86,2,   2.070,2,   1.126,2,   0.236,4,     0.55,2,  2199.5,2, 2292.21,2,   7.6076,2,       25,-999.000,9,-999.0000,9, -999.00,9,   -0.02,2,   -32.0,2,     2.1,-999.000,9,-999.000,     -999.0,9, -999.00,9,   44.19,2, -999.00,9,     -999.0,9,  -999.0,9, 20130406,      941,  30.5922, 134.3511,    34.4049,2,     -999.0,9,     -999.0,9,     8.5292,2,     -999.0,9,     -999.0,9,-999.0000, -999.00,-999.000
318M20130321,       P02W,      13,          5,         18,         18,2,20130406,       0816,    30.6143,   134.3366,       4500,   815.4,   6.5022,  34.1661,2,  34.1662,2,    113.8,2,   110.9,2,   68.84,2,   31.14,2,       0,2,    2.27,2,-999.000,9,-999.000,9,-999.000,9,-999.0000,9,    2243,2, 2304.42,2,   7.5124,2,       25,-999.000,9,-999.0000,9, -999.00,9,   -0.19,2,   -82.0,2,     2.0,-999.000,9,-999.000,     -999.0,9, -999.00,9,   42.52,2, -999.00,9,     -999.0,9,  -999.0,9, 20130406,      938,  30.5933, 134.3504,    34.3273,2,     -999.0,9,     -999.0,9,     6.5056,2,     -999.0,9,     -999.0,9,-999.0000, -999.00,-999.000
318M20130321,       P02W,      13,          5,         17,         17,2,20130406,       0816,    30.6143,   134.3366,       4500,   908.1,   5.2768,  34.2457,2,   34.245,2,     87.4,2,      82,2,    90.8,2,   35.69,2,       0,2,    2.61,2,   1.103,2,   0.594,2,   0.256,4,     0.22,2,  2286.9,2, 2326.63,2,   7.4461,2,       25,-999.000,9,-999.0000,9, -999.00,9,   -0.25,2,  -127.9,2,     2.8,-999.000,9,-999.000,     -999.0,9, -999.00,9,   42.33,2, -999.00,9,     -999.0,9,  -999.0,9, 20130406,      935,  30.5942, 134.3498,    34.4065,2,     -999.0,9,     -999.0,9,     5.2776,2,     -999.0,9,     -999.0,9,-999.0000, -999.00,-999.000
318M20130321,       P02W,      13,          5,         16,         16,2,20130406,       0816,    30.6143,   134.3366,       4500,  1008.5,   4.4832,  34.3266,2,  34.3256,2,     71.5,2,    69.2,2,  105.83,2,   38.08,2,       0,2,    2.76,2,-999.000,9,-999.000,9,-999.000,9,-999.0000,9,  2313.8,2, 2345.33,2,   7.4168,2,       25,-999.000,9,-999.0000,9, -999.00,9,   -0.34,2,  -160.4,2,     1.8,-999.000,9,-999.000,     -999.0,9, -999.00,9,   42.38,2, -999.00,9,     -999.0,9,  -999.0,9, 20130406,      932,  30.5951,  134.349,    34.4875,2,     -999.0,9,     -999.0,9,     4.4833,2,     -999.0,9,     -999.0,9,-999.0000, -999.00,-999.000
318M20130321,       P02W,      13,          5,         15,         15,2,20130406,       0816,    30.6143,   134.3366,       4500,  1117.4,    3.818,  34.3737,2,  34.3719,2,     61.8,2,    62.8,2,  119.21,2,   39.53,2,       0,2,    2.87,2,   0.431,2,   0.225,2,   0.166,4,     0.09,2,  2331.6,2, 2359.24,2,   7.3979,2,       25,-999.000,9,-999.0000,9, -999.00,9,   -0.33,2,  -182.1,2,     1.8,-999.000,9,-999.000,     -999.0,9, -999.00,9,   36.76,2, -999.00,9,     -999.0,9,  -999.0,9, 20130406,      929,   30.596, 134.3482,     34.534,2,     -999.0,9,     -999.0,9,     3.8182,2,     -999.0,9,     -999.0,9,-999.0000, -999.00,-999.000
318M20130321,       P02W,      13,          5,         14,         14,2,20130406,       0816,    30.6143,   134.3366,       4500,  1219.5,   3.4097,  34.4171,2,  34.4151,2,     61.6,2,    62.3,2,  128.18,2,   40.15,2,       0,2,    2.91,2,-999.000,9,-999.000,9,-999.000,9,-999.0000,9,  -999.0,9, -999.00,9,-999.0000,9,  -999.00,-999.000,9,-999.0000,9, -999.00,9, -999.00,9,  -999.0,9,  -999.0,-999.000,9,-999.000,     -999.0,9, -999.00,9, -999.00,9, -999.00,9,     -999.0,9,  -999.0,9, 20130406,      926,   30.597, 134.3476,    34.5774,2,     -999.0,9,     -999.0,9,     3.4121,2,     -999.0,9,     -999.0,9,-999.0000, -999.00,-999.000
318M20130321,       P02W,      13,          5,         13,         13,2,20130406,       0816,    30.6143,   134.3366,       4500,    1318,   3.1078,  34.4478,2,  34.4469,2,     62.6,2,    64.1,2,  134.72,2,   40.46,2,       0,2,    2.92,2,   0.194,2,   0.113,2,   0.078,4,     0.06,2,  2351.2,2, 2379.05,2,   7.4001,6,       25,-999.000,9,-999.0000,9, -999.00,9,   -0.30,2,  -200.8,2,     1.8,-999.000,9,-999.000,     -999.0,9, -999.00,9,   37.32,2, -999.00,9,     -999.0,9,  -999.0,9, 20130406,      923,  30.5979,  134.347,    34.6093,2,     -999.0,9,     -999.0,9,     3.1073,2,     -999.0,9,     -999.0,9,-999.0000, -999.00,-999.000
318M20130321,       P02W,      13,          5,         12,         12,2,20130406,       0816,    30.6143,   134.3366,       4500,  1489.1,    2.717,  34.4978,2,  34.4972,2,     70.6,2,    70.2,2,  142.43,2,   40.41,2,       0,2,    2.92,2,-999.000,9,-999.000,9,-999.000,9,-999.0000,9,  -999.0,9, -999.00,9,-999.0000,9,  -999.00,-999.000,9,-999.0000,9, -999.00,9, -999.00,9,  -999.0,9,  -999.0,-999.000,9,-999.000,     -999.0,9, -999.00,9, -999.00,9, -999.00,9,     -999.0,9,  -999.0,9, 20130406,      919,   30.599, 134.3461,    34.6598,2,     -999.0,9,     -999.0,9,     2.7177,2,     -999.0,9,     -999.0,9,-999.0000, -999.00,-999.000
318M20130321,       P02W,      13,          5,         11,         11,2,20130406,       0816,    30.6143,   134.3366,       4500,  1700.1,   2.3686,  34.5464,2,  34.5455,2,     84.1,2,      83,2,  147.01,2,   39.89,2,       0,2,    2.86,2,   0.114,2,   0.060,2,   0.110,4,     0.05,2,  2350.7,2, 2395.65,2,   7.4397,2,       25,-999.000,9,-999.0000,9, -999.00,9, -999.00,9,  -999.0,9,  -999.0,-999.000,9,-999.000,     -999.0,9, -999.00,9,    37.3,2, -999.00,9,     -999.0,9,  -999.0,9, 20130406,      914,  30.6006, 134.3452,    34.7084,2,     -999.0,9,     -999.0,9,     2.3683,2,     -999.0,9,     -999.0,9,-999.0000, -999.00,-999.000
318M20130321,       P02W,      13,          5,         10,         10,2,20130406,       0816,    30.6143,   134.3366,       4500,  1952.9,   2.0603,  34.5924,2,  34.5928,2,    102.8,2,     102,2,  147.59,2,   38.86,2,       0,2,    2.77,2,-999.000,9,-999.000,9,-999.000,9,-999.0000,9,  -999.0,9, -999.00,9,-999.0000,9,  -999.00,-999.000,9,-999.0000,9, -999.00,9, -999.00,9,  -999.0,9,  -999.0,-999.000,9,-999.000,     -999.0,9, -999.00,9, -999.00,9, -999.00,9,     -999.0,9,  -999.0,9, 20130406,      909,  30.6023, 134.3442,    34.7559,2,     -999.0,9,     -999.0,9,     2.0601,2,     -999.0,9,     -999.0,9,-999.0000, -999.00,-999.000
318M20130321,       P02W,      13,          5,          9,          9,2,20130406,       0816,    30.6143,   134.3366,       4500,  2225.9,   1.8633,  34.6229,2,  34.6223,2,    116.3,2,   116.9,2,  146.22,2,   38.01,2,       0,2,    2.69,2,   0.070,2,   0.052,2,   0.144,4,     0.07,2,  2338.4,2, 2407.26,2,   7.5072,2,       25,-999.000,9,-999.0000,9, -999.00,9, -999.00,9,  -999.0,9,  -999.0,-999.000,9,-999.000,     -999.0,9, -999.00,9, -999.00,5, -999.00,9,     -999.0,9,  -999.0,9, 20130406,      904,  30.6038, 134.3432,    34.7855,2,     -999.0,9,     -999.0,9,      1.863,2,     -999.0,9,     -999.0,9,-999.0000, -999.00,-999.000
318M20130321,       P02W,      13,          5,          8,          8,2,20130406,       0816,    30.6143,   134.3366,       4500,  2494.8,   1.7404,  34.6414,2,  34.6405,2,    127.4,2,     128,2,  147.29,2,   37.28,2,       0,2,    2.65,2,-999.000,9,-999.000,9,-999.000,9,-999.0000,9,  -999.0,9, -999.00,9,-999.0000,9,  -999.00,-999.000,9,-999.0000,9, -999.00,9, -999.00,9,  -999.0,9,  -999.0,-999.000,9,-999.000,     -999.0,9, -999.00,9, -999.00,9, -999.00,9,     -999.0,9,  -999.0,9, 20130406,      859,  30.6052, 134.3422,    34.8039,2,     -999.0,9,     -999.0,9,     1.7401,2,     -999.0,9,     -999.0,9,-999.0000, -999.00,-999.000