BOTTLE,20220817CCHSIOAMB
EXPOCODE,SECT_ID,STNNBR,CASTNO,SAMPNO,BTLNBR,BTLNBR_FLAG_W,DATE,TIME,LATITUDE,LONGITUDE,DEPTH,CTDPRS,CTDTMP,CTDSAL,CTDSAL_FLAG_W,SALNTY,SALNTY_FLAG_W,CTDOXY,CTDOXY_FLAG_W,OXYGEN,OXYGEN_FLAG_W,SILCAT,SILCAT_FLAG_W,NITRAT,NITRAT_FLAG_W,NITRIT,NITRIT_FLAG_W,PHSPHT,PHSPHT_FLAG_W,CFC-11,CFC-11_FLAG_W,CFC-12,CFC-12_FLAG_W,CFC113,CFC113_FLAG_W,SF6,SF6_FLAG_W,TCARBN,TCARBN_FLAG_W,ALKALI,ALKALI_FLAG_W,PH_TOT,PH_TOT_FLAG_W,PH_TMP,TRITUM,TRITUM_FLAG_W,HELIUM,HELIUM_FLAG_W,DELHE3,DELHE3_FLAG_W,DELC13,DELC13_FLAG_W,DELC14,DELC14_FLAG_W,C14ERR,NEON,NEON_FLAG_W,NEONER,I-129,I-129_FLAG_W,SR-90,SR-90_FLAG_W,DOC,DOC_FLAG_W,TDN,TDN_FLAG_W,CALCIUM,CALCIUM_FLAG_W,D15N_NO3,D15N_NO3_FLAG_W,BTL_DATE,BTL_TIME,BTL_LAT,BTL_LON,SALTREF,SALTREF_FLAG_W,CS-137,CS-137_FLAG_W,CS-134,CS-134_FLAG_W,REFTMP,REFTMP_FLAG_W,LAB_DEN,LAB_DEN_FLAG_W,D18O_NO3,D18O_NO3_FLAG_W,HELIER,DELHER,TRITER
,,,,,,,,,,,METERS,DBAR,ITS-90,PSS-78,,PSS-78,,UMOL/KG,,UMOL/KG,,UMOL/KG,,UMOL/KG,,UMOL/KG,,UMOL/KG,,PMOL/KG,,PMOL/KG,,PMOL/KG,,FMOL/KG,,UMOL/KG,,UMOL/KG,,,,DEG C,TU,,NMOL/KG,,PERCNT,,/MILLE,,/MILLE,,/MILLE,NMOL/KG,,NMOL/KG,BQ/M^3,,DM/.1MG,,UMOL/KG,,UMOL/KG,,MMOL/KG,,/MILLE,,,,,,G/KG,,BQ/M^3,,BQ/M^3,,ITS-90,,,,/MILLE,,NMOL/KG,PERCNT,TU
318M20130321,       P02E,     146,          1,          5,         37,2,20130530,       0349,    31.2793,  -121.2663,       3850,  3040.3,   1.6184,  34.6672,2,  34.6675,2,    118.4,2,   117.9,2,  168.67,2,   38.34,2,       0,2,    2.65,2,-999.000,9,-999.000,9,-999.000,9,-999.0000,9,    2353,2, 2428.96,6,   7.5204,2,       25,-999.000,9,-999.0000,9, -999.00,9, -999.00,9,  -999.0,9,  -999.0,-999.000,9,-999.000,     -999.0,9, -999.00,9, -999.00,9, -999.00,9,     -999.0,9,  -999.0,9, 20130530,      406,  31.2794,-121.2663,    34.8309,2,     -999.0,9,     -999.0,9,     1.6184,2,     -999.0,9,     -999.0,9,-999.0000, -999.00,-999.000
318M20130321,       P02E,     146,          1,          4,          4,2,20130530,       0349,    31.2793,  -121.2663,       3850,  3345.5,   1.5658,  34.6729,2,  34.6724,2,      124,2,   124.8,2,  169.35,2,    37.9,2,       0,2,    2.62,2,   0.008,2,   0.012,2,-999.000,1,        0,2,  -999.0,9, -999.00,9,-999.0000,9,  -999.00,-999.000,9,-999.0000,9, -999.00,9, -999.00,9,  -999.0,9,  -999.0,-999.000,9,-999.000,     -999.0,9, -999.00,9, -999.00,9, -999.00,9,     -999.0,9,  -999.0,9, 20130530,      400,  31.2794,-121.2663,    34.8359,2,     -999.0,9,     -999.0,9,     1.5659,2,     -999.0,9,     -999.0,9,-999.0000, -999.00,-999.000
318M20130321,       P02E,     146,          1,          3,          3,2,20130530,       0349,    31.2793,  -121.2663,       3850,    3652,   1.5434,  34.6768,2,  34.6771,2,    129.3,2,   128.5,2,  169.93,2,   37.64,2,       0,2,     2.6,2,   0.020,2,   0.015,2,-999.000,1,        0,2,  2350.9,2, 2431.66,2,   7.5419,6,       25,-999.000,9,-999.0000,9, -999.00,9, -999.00,9,  -999.0,9,  -999.0,-999.000,9,-999.000,     -999.0,9, -999.00,9, -999.00,9, -999.00,9,     -999.0,9,  -999.0,9, 20130530,      354,  31.2794,-121.2664,    34.8406,2,     -999.0,9,     -999.0,9,     1.5432,2,     -999.0,9,     -999.0,9,-999.0000, -999.00,-999.000
318M20130321,       P02E,     146,          1,          2,          2,2,20130530,       0349,    31.2793,  -121.2663,       3850,  3902.3,   1.5511,  34.6784,2,  34.6787,2,    130.9,2,   130.7,2,  169.64,2,   37.58,2,       0,2,    2.59,2,   0.018,2,   0.018,2,-999.000,1,        0,2,  2348.5,6, 2432.36,2,   7.5464,2,       25,-999.000,9,-999.0000,9, -999.00,9, -999.00,9,  -999.0,9,  -999.0,-999.000,9,-999.000,     -999.0,9, -999.00,9, -999.00,9, -999.00,9,     -999.0,9,  -999.0,9, 20130530,      349,  31.2793,-121.2663,    34.8422,2,     -999.0,9,     -999.0,9,     1.5508,2,     -999.0,9,     -999.0,9,-999.0000, -999.00,-999.000