BOTTLE,20220817CCHSIOAMB
EXPOCODE,SECT_ID,STNNBR,CASTNO,SAMPNO,BTLNBR,BTLNBR_FLAG_W,DATE,TIME,LATITUDE,LONGITUDE,DEPTH,CTDPRS,CTDTMP,CTDSAL,CTDSAL_FLAG_W,SALNTY,SALNTY_FLAG_W,CTDOXY,CTDOXY_FLAG_W,OXYGEN,OXYGEN_FLAG_W,SILCAT,SILCAT_FLAG_W,NITRAT,NITRAT_FLAG_W,NITRIT,NITRIT_FLAG_W,PHSPHT,PHSPHT_FLAG_W,CFC-11,CFC-11_FLAG_W,CFC-12,CFC-12_FLAG_W,CFC113,CFC113_FLAG_W,SF6,SF6_FLAG_W,TCARBN,TCARBN_FLAG_W,ALKALI,ALKALI_FLAG_W,PH_TOT,PH_TOT_FLAG_W,PH_TMP,TRITUM,TRITUM_FLAG_W,HELIUM,HELIUM_FLAG_W,DELHE3,DELHE3_FLAG_W,DELC13,DELC13_FLAG_W,DELC14,DELC14_FLAG_W,C14ERR,NEON,NEON_FLAG_W,NEONER,I-129,I-129_FLAG_W,SR-90,SR-90_FLAG_W,DOC,DOC_FLAG_W,TDN,TDN_FLAG_W,CALCIUM,CALCIUM_FLAG_W,D15N_NO3,D15N_NO3_FLAG_W,BTL_DATE,BTL_TIME,BTL_LAT,BTL_LON,SALTREF,SALTREF_FLAG_W,CS-137,CS-137_FLAG_W,CS-134,CS-134_FLAG_W,REFTMP,REFTMP_FLAG_W,LAB_DEN,LAB_DEN_FLAG_W,D18O_NO3,D18O_NO3_FLAG_W,HELIER,DELHER,TRITER
,,,,,,,,,,,METERS,DBAR,ITS-90,PSS-78,,PSS-78,,UMOL/KG,,UMOL/KG,,UMOL/KG,,UMOL/KG,,UMOL/KG,,UMOL/KG,,PMOL/KG,,PMOL/KG,,PMOL/KG,,FMOL/KG,,UMOL/KG,,UMOL/KG,,,,DEG C,TU,,NMOL/KG,,PERCNT,,/MILLE,,/MILLE,,/MILLE,NMOL/KG,,NMOL/KG,BQ/M^3,,DM/.1MG,,UMOL/KG,,UMOL/KG,,MMOL/KG,,/MILLE,,,,,,G/KG,,BQ/M^3,,BQ/M^3,,ITS-90,,,,/MILLE,,NMOL/KG,PERCNT,TU
318M20130321,       P02E,     138,          1,          5,         37,2,20130528,       0211,    29.9999,  -125.6835,       4214,  3346.5,   1.5339,  34.6733,2,  34.6732,2,    126.6,2,   126.5,2,  169.64,2,   37.74,2,       0,2,    2.66,2,   0.006,2,   0.009,2,-999.000,1,        0,2,  -999.0,9, -999.00,9,-999.0000,9,  -999.00,-999.000,9,-999.0000,9, -999.00,9, -999.00,9,  -999.0,9,  -999.0,-999.000,9,-999.000,     -999.0,1, -999.00,9, -999.00,9, -999.00,9,     -999.0,9,  -999.0,9, 20130528,      230,  29.9998,-125.6834,    34.8367,2,     -999.0,9,     -999.0,9,     1.5338,2,     -999.0,9,     -999.0,9,-999.0000, -999.00,-999.000
318M20130321,       P02E,     138,          1,          4,          4,2,20130528,       0211,    29.9999,  -125.6835,       4214,  3651.8,   1.5071,  34.6787,2,  34.6787,2,    133.3,2,   134.2,2,  168.47,2,   37.36,2,       0,2,    2.64,2,   0.006,2,   0.008,2,-999.000,1,        0,2,  2347.6,2, 2429.36,2,   7.5473,6,       25,-999.000,9,-999.0000,9, -999.00,9, -999.00,9,  -999.0,9,  -999.0,-999.000,9,-999.000,     -999.0,1, -999.00,9, -999.00,9, -999.00,9,     -999.0,9,  -999.0,9, 20130528,      224,  29.9999,-125.6836,    34.8422,2,     -999.0,9,     -999.0,9,     1.5074,2,     -999.0,1,     -999.0,9,-999.0000, -999.00,-999.000
318M20130321,       P02E,     138,          1,          3,          3,2,20130528,       0211,    29.9999,  -125.6835,       4214,  3960.1,   1.5054,  34.6821,2,  34.6824,2,    137.6,2,   137.5,2,   167.4,2,   37.09,2,       0,2,    2.61,2,   0.006,2,   0.009,2,-999.000,1,        0,2,  -999.0,9, -999.00,9,-999.0000,9,  -999.00,-999.000,9,-999.0000,9, -999.00,9, -999.00,9,  -999.0,9,  -999.0,-999.000,9,-999.000,     -999.0,1, -999.00,9, -999.00,9, -999.00,9,     -999.0,9,  -999.0,9, 20130528,      218,       30,-125.6834,    34.8459,2,     -999.0,9,     -999.0,9,     1.5059,2,     -999.0,9,     -999.0,9,-999.0000, -999.00,-999.000
318M20130321,       P02E,     138,          1,          2,          2,2,20130528,       0211,    29.9999,  -125.6835,       4214,  4279.6,   1.5292,  34.6834,2,  34.6844,2,    140.8,2,   140.2,2,  166.32,2,   36.92,2,       0,2,     2.6,2,   0.007,2,   0.010,2,-999.000,1,        0,2,  2342.4,6, 2428.86,2,   7.5601,2,       25,-999.000,9,-999.0000,9, -999.00,9, -999.00,9,  -999.0,9,  -999.0,-999.000,9,-999.000,     -999.0,1, -999.00,9, -999.00,9, -999.00,9,     -999.0,9,  -999.0,9, 20130528,      211,       30,-125.6835,    34.8479,2,     -999.0,9,     -999.0,9,     1.5291,2,     -999.0,1,     -999.0,9,-999.0000, -999.00,-999.000