BOTTLE,20220817CCHSIOAMB
EXPOCODE,SECT_ID,STNNBR,CASTNO,SAMPNO,BTLNBR,BTLNBR_FLAG_W,DATE,TIME,LATITUDE,LONGITUDE,DEPTH,CTDPRS,CTDTMP,CTDSAL,CTDSAL_FLAG_W,SALNTY,SALNTY_FLAG_W,CTDOXY,CTDOXY_FLAG_W,OXYGEN,OXYGEN_FLAG_W,SILCAT,SILCAT_FLAG_W,NITRAT,NITRAT_FLAG_W,NITRIT,NITRIT_FLAG_W,PHSPHT,PHSPHT_FLAG_W,CFC-11,CFC-11_FLAG_W,CFC-12,CFC-12_FLAG_W,CFC113,CFC113_FLAG_W,SF6,SF6_FLAG_W,TCARBN,TCARBN_FLAG_W,ALKALI,ALKALI_FLAG_W,PH_TOT,PH_TOT_FLAG_W,PH_TMP,TRITUM,TRITUM_FLAG_W,HELIUM,HELIUM_FLAG_W,DELHE3,DELHE3_FLAG_W,DELC13,DELC13_FLAG_W,DELC14,DELC14_FLAG_W,C14ERR,NEON,NEON_FLAG_W,NEONER,I-129,I-129_FLAG_W,SR-90,SR-90_FLAG_W,DOC,DOC_FLAG_W,TDN,TDN_FLAG_W,CALCIUM,CALCIUM_FLAG_W,D15N_NO3,D15N_NO3_FLAG_W,BTL_DATE,BTL_TIME,BTL_LAT,BTL_LON,SALTREF,SALTREF_FLAG_W,CS-137,CS-137_FLAG_W,CS-134,CS-134_FLAG_W,REFTMP,REFTMP_FLAG_W,LAB_DEN,LAB_DEN_FLAG_W,D18O_NO3,D18O_NO3_FLAG_W,HELIER,DELHER,TRITER
,,,,,,,,,,,METERS,DBAR,ITS-90,PSS-78,,PSS-78,,UMOL/KG,,UMOL/KG,,UMOL/KG,,UMOL/KG,,UMOL/KG,,UMOL/KG,,PMOL/KG,,PMOL/KG,,PMOL/KG,,FMOL/KG,,UMOL/KG,,UMOL/KG,,,,DEG C,TU,,NMOL/KG,,PERCNT,,/MILLE,,/MILLE,,/MILLE,NMOL/KG,,NMOL/KG,BQ/M^3,,DM/.1MG,,UMOL/KG,,UMOL/KG,,MMOL/KG,,/MILLE,,,,,,G/KG,,BQ/M^3,,BQ/M^3,,ITS-90,,,,/MILLE,,NMOL/KG,PERCNT,TU
318M20130321,       P02W,      25,          1,          7,          7,2,20130411,       2316,    30.0001,   141.1255,       3588,    2141,   1.9039,  34.6078,2,  34.6077,2,     88.4,2,    89.5,2,  158.62,2,    39.8,2,       0,2,    2.83,2,-999.000,9,-999.000,9,-999.000,9,-999.0000,9,    2360,2, 2408.96,2,   7.4521,2,       25,-999.000,9,-999.0000,9, -999.00,9, -999.00,9,  -999.0,9,  -999.0,-999.000,9,-999.000,     -999.0,9, -999.00,9,   36.28,2, -999.00,9,     -999.0,9,  -999.0,9, 20130411,     2348,  29.9999, 141.1274,    34.7709,2,     -999.0,9,     -999.0,9,      1.904,2,     -999.0,1,     -999.0,9,-999.0000, -999.00,-999.000
318M20130321,       P02W,      25,          1,          6,          6,2,20130411,       2316,    30.0001,   141.1255,       3588,  2360.2,   1.7952,  34.6255,2,  34.6266,2,    102.5,2,   102.7,2,  157.06,2,    38.9,2,       0,2,    2.77,2,   0.008,2,   0.013,2,   0.001,2,     0.12,2,  -999.0,9, -999.00,9,-999.0000,9,  -999.00,-999.000,9,-999.0000,9, -999.00,9, -999.00,9,  -999.0,9,  -999.0,-999.000,9,-999.000,     -999.0,9, -999.00,9, -999.00,9, -999.00,9,     -999.0,9,  -999.0,9, 20130411,     2343,       30, 141.1264,    34.7899,2,     -999.0,9,     -999.0,9,     1.7952,2,     -999.0,9,     -999.0,9,-999.0000, -999.00,-999.000
318M20130321,       P02W,      25,          1,          5,         37,2,20130411,       2316,    30.0001,   141.1255,       3588,  2563.3,   1.7042,  34.6401,2,  34.6405,2,    113.1,2,   113.3,2,  155.79,2,   38.37,2,       0,2,    2.74,2,-999.000,9,-999.000,9,-999.000,9,-999.0000,9,  2347.3,2, 2411.56,2,   7.4982,2,       25,-999.000,9,-999.0000,9, -999.00,9, -999.00,9,  -999.0,9,  -999.0,-999.000,9,-999.000,     -999.0,9, -999.00,9,   37.27,2, -999.00,9,     -999.0,9,  -999.0,9, 20130411,     2338,  30.0001,  141.126,    34.8039,2,     -999.0,9,     -999.0,9,     1.7041,2,     -999.0,1,     -999.0,9,-999.0000, -999.00,-999.000
318M20130321,       P02W,      25,          1,          4,          4,2,20130411,       2316,    30.0001,   141.1255,       3588,  2767.1,    1.646,  34.6498,2,    34.65,2,    120.5,2,   120.1,2,   155.2,2,      38,2,       0,2,    2.69,2,   0.018,2,   0.015,2,   0.017,2,     0.14,2,  -999.0,9, -999.00,9,-999.0000,9,  -999.00,-999.000,9,-999.0000,9, -999.00,9, -999.00,9,  -999.0,9,  -999.0,-999.000,9,-999.000,     -999.0,9, -999.00,9, -999.00,9, -999.00,9,     -999.0,9,  -999.0,9, 20130411,     2334,  30.0002, 141.1254,    34.8134,2,     -999.0,9,     -999.0,9,     1.6458,2,     -999.0,9,     -999.0,9,-999.0000, -999.00,-999.000
318M20130321,       P02W,      25,          1,          3,          3,2,20130411,       2316,    30.0001,   141.1255,       3588,  2971.1,   1.5928,  34.6585,2,  34.6586,2,    128.2,2,   127.9,2,  153.93,2,   37.39,2,       0,2,    2.65,2,-999.000,9,-999.000,9,-999.000,9,-999.0000,9,  2339.9,2, 2412.96,6,   7.5254,2,       25,-999.000,9,-999.0000,9, -999.00,9, -999.00,9,  -999.0,9,  -999.0,-999.000,9,-999.000,     -999.0,9, -999.00,9,   36.39,2, -999.00,9,     -999.0,9,  -999.0,9, 20130411,     2329,  30.0002, 141.1256,    34.8221,2,     -999.0,9,     -999.0,9,     1.5926,2,     -999.0,1,     -999.0,9,-999.0000, -999.00,-999.000
318M20130321,       P02W,      25,          1,          2,          2,2,20130411,       2316,    30.0001,   141.1255,       3588,  3329.8,   1.5184,  34.6704,2,  34.6706,2,    137.6,2,   138.2,2,  153.05,2,   36.73,2,       0,2,     2.6,2,   0.022,2,   0.017,2,   0.008,2,      0.1,2,  2332.5,2, 2413.66,2,   7.5435,6,       25,-999.000,9,-999.0000,9, -999.00,9, -999.00,9,  -999.0,9,  -999.0,-999.000,9,-999.000,     -999.0,9, -999.00,9,   36.49,2, -999.00,9,     -999.0,9,  -999.0,9, 20130411,     2322,  29.9998, 141.1255,    34.8341,2,     -999.0,9,     -999.0,9,     1.5183,2,     -999.0,1,     -999.0,9,-999.0000, -999.00,-999.000
318M20130321,       P02W,      25,          1,          1,          1,2,20130411,       2316,    30.0001,   141.1255,       3588,  3623.4,   1.4724,  34.6779,2,  34.6783,2,    145.1,2,   145.1,2,  152.36,2,   36.32,2,    0.01,2,    2.56,2,   0.754,4,   0.102,4,   0.026,4,     7.12,4,  2331.3,6, 2413.26,2,   7.5561,2,       25,-999.000,9,-999.0000,9, -999.00,9, -999.00,9,  -999.0,9,  -999.0,-999.000,9,-999.000,     -999.0,9, -999.00,9,   37.07,2, -999.00,9,     -999.0,9,  -999.0,9, 20130411,     2316,  30.0001, 141.1255,    34.8418,2,     -999.0,9,     -999.0,9,     1.4721,2,     -999.0,1,     -999.0,9,-999.0000, -999.00,-999.000