BOTTLE,20220817CCHSIOAMB
EXPOCODE,SECT_ID,STNNBR,CASTNO,SAMPNO,BTLNBR,BTLNBR_FLAG_W,DATE,TIME,LATITUDE,LONGITUDE,DEPTH,CTDPRS,CTDTMP,CTDSAL,CTDSAL_FLAG_W,SALNTY,SALNTY_FLAG_W,CTDOXY,CTDOXY_FLAG_W,OXYGEN,OXYGEN_FLAG_W,SILCAT,SILCAT_FLAG_W,NITRAT,NITRAT_FLAG_W,NITRIT,NITRIT_FLAG_W,PHSPHT,PHSPHT_FLAG_W,CFC-11,CFC-11_FLAG_W,CFC-12,CFC-12_FLAG_W,CFC113,CFC113_FLAG_W,SF6,SF6_FLAG_W,TCARBN,TCARBN_FLAG_W,ALKALI,ALKALI_FLAG_W,PH_TOT,PH_TOT_FLAG_W,PH_TMP,TRITUM,TRITUM_FLAG_W,HELIUM,HELIUM_FLAG_W,DELHE3,DELHE3_FLAG_W,DELC13,DELC13_FLAG_W,DELC14,DELC14_FLAG_W,C14ERR,NEON,NEON_FLAG_W,NEONER,I-129,I-129_FLAG_W,SR-90,SR-90_FLAG_W,DOC,DOC_FLAG_W,TDN,TDN_FLAG_W,CALCIUM,CALCIUM_FLAG_W,D15N_NO3,D15N_NO3_FLAG_W,BTL_DATE,BTL_TIME,BTL_LAT,BTL_LON,SALTREF,SALTREF_FLAG_W,CS-137,CS-137_FLAG_W,CS-134,CS-134_FLAG_W,REFTMP,REFTMP_FLAG_W,LAB_DEN,LAB_DEN_FLAG_W,D18O_NO3,D18O_NO3_FLAG_W,HELIER,DELHER,TRITER
,,,,,,,,,,,METERS,DBAR,ITS-90,PSS-78,,PSS-78,,UMOL/KG,,UMOL/KG,,UMOL/KG,,UMOL/KG,,UMOL/KG,,UMOL/KG,,PMOL/KG,,PMOL/KG,,PMOL/KG,,FMOL/KG,,UMOL/KG,,UMOL/KG,,,,DEG C,TU,,NMOL/KG,,PERCNT,,/MILLE,,/MILLE,,/MILLE,NMOL/KG,,NMOL/KG,BQ/M^3,,DM/.1MG,,UMOL/KG,,UMOL/KG,,MMOL/KG,,/MILLE,,,,,,G/KG,,BQ/M^3,,BQ/M^3,,ITS-90,,,,/MILLE,,NMOL/KG,PERCNT,TU
318M20130321,       P02E,     100,          1,         36,         36,2,20130516,       1137,    30.0007,  -153.7325,       5520,       3,  20.9176,  35.0096,2,  35.0085,2,    226.3,2,   226.3,2,    2.15,2,       0,2,       0,2,       0,2,    -999,5,    -999,5,-999.000,5,     -999,5,  2025.3,2, 2299.12,2,   8.0148,2,       25,-999.000,9,-999.0000,9, -999.00,9, -999.00,9,  -999.0,9,  -999.0,-999.000,9,-999.000,     -999.0,9, -999.00,9, -999.00,9, -999.00,9,     -999.0,9,  -999.0,9, 20130516,     1411,  30.0005,-153.7324,    35.1736,2,     -999.0,9,     -999.0,9,    20.9222,2,     -999.0,9,     -999.0,9,-999.0000, -999.00,-999.000
318M20130321,       P02E,     100,          1,         34,         34,2,20130516,       1137,    30.0007,  -153.7325,       5520,    34.8,  20.8729,  35.0193,2,  35.0185,2,    227.1,2,   226.6,2,    2.05,2,       0,2,       0,2,       0,2,   1.939,2,   1.179,2,-999.000,5,   1.3343,2,    2023,2, 2304.82,2,   8.0014,2,       25,-999.000,9,-999.0000,9, -999.00,9, -999.00,9,  -999.0,9,  -999.0,-999.000,9,-999.000,     -999.0,9, -999.00,9, -999.00,9, -999.00,9,     -999.0,9,  -999.0,9, 20130516,     1409,  30.0005,-153.7328,    35.1837,2,     -999.0,9,     -999.0,9,    20.8738,2,     -999.0,9,     -999.0,9,-999.0000, -999.00,-999.000
318M20130321,       P02E,     100,          1,         33,         33,2,20130516,       1137,    30.0007,  -153.7325,       5520,      60,  19.7179,  35.0308,2,  35.0284,2,    232.4,2,   231.9,2,    2.24,2,       0,2,       0,2,       0,2,   2.024,2,   1.237,2,-999.000,5,   1.4078,2,  2024.1,2, 2302.22,2,   8.0051,6,       25,-999.000,9,-999.0000,9, -999.00,9, -999.00,9,  -999.0,9,  -999.0,-999.000,9,-999.000,     -999.0,9, -999.00,9, -999.00,9, -999.00,9,     -999.0,9,  -999.0,9, 20130516,     1407,  30.0006, -153.733,    35.1936,2,     -999.0,9,     -999.0,9,    19.7186,2,     -999.0,9,     -999.0,9,-999.0000, -999.00,-999.000
318M20130321,       P02E,     100,          1,         32,         32,2,20130516,       1137,    30.0007,  -153.7325,       5520,    85.9,  19.4414,  35.0419,2,  35.0367,2,    230.2,2,     231,2,    2.24,2,       0,2,       0,2,       0,2,   2.041,2,   1.245,2,-999.000,5,   1.4484,2,  -999.0,9, -999.00,9,-999.0000,9,  -999.00,-999.000,9,-999.0000,9, -999.00,9, -999.00,9,  -999.0,9,  -999.0,-999.000,9,-999.000,     -999.0,9, -999.00,9, -999.00,9, -999.00,9,     -999.0,9,  -999.0,9, 20130516,     1405,  30.0006,-153.7331,    35.2019,2,     -999.0,9,     -999.0,9,    19.4426,2,     -999.0,9,     -999.0,9,-999.0000, -999.00,-999.000
318M20130321,       P02E,     100,          1,         31,         31,2,20130516,       1137,    30.0007,  -153.7325,       5520,   116.1,  19.3882,  35.0719,2,  35.0717,2,      230,2,   229.3,2,    2.15,2,       0,2,       0,2,       0,2,   2.049,2,   1.246,2,-999.000,5,   1.4447,2,  2031.7,2, 2304.82,6,   7.9979,2,       25,-999.000,9,-999.0000,9, -999.00,9, -999.00,9,  -999.0,9,  -999.0,-999.000,9,-999.000,     -999.0,9, -999.00,9, -999.00,9, -999.00,9,     -999.0,9,  -999.0,9, 20130516,     1403,  30.0005,-153.7329,    35.2371,2,     -999.0,9,     -999.0,9,    19.3883,2,     -999.0,9,     -999.0,9,-999.0000, -999.00,-999.000
318M20130321,       P02E,     100,          1,         30,         30,2,20130516,       1137,    30.0007,  -153.7325,       5520,   164.7,  16.1902,  34.5107,2,  34.5204,2,    223.2,2,   222.4,2,    3.81,2,    1.62,2,    0.07,2,    0.17,2,   2.371,2,   1.431,2,-999.000,5,   1.5429,2,  -999.0,9, -999.00,9,-999.0000,9,  -999.00,-999.000,9,-999.0000,9, -999.00,9, -999.00,9,  -999.0,9,  -999.0,-999.000,9,-999.000,     -999.0,9, -999.00,9, -999.00,9, -999.00,9,     -999.0,9,  -999.0,9, 20130516,     1359,  30.0001, -153.732,    34.6832,2,     -999.0,9,     -999.0,9,    16.1879,2,     -999.0,9,     -999.0,9,-999.0000, -999.00,-999.000
318M20130321,       P02E,     100,          1,         29,         29,2,20130516,       1137,    30.0007,  -153.7325,       5520,   215.6,  13.0082,   34.173,2,  34.1731,2,    216.8,2,   216.9,2,    7.42,2,     7.3,2,    0.02,2,     0.5,2,   2.837,2,   1.640,2,-999.000,5,   1.5573,2,  2067.9,2,  2252.2,2,   7.8327,2,       25,-999.000,9,-999.0000,9, -999.00,9, -999.00,9,  -999.0,9,  -999.0,-999.000,9,-999.000,     -999.0,9, -999.00,9, -999.00,9, -999.00,9,     -999.0,9,  -999.0,9, 20130516,     1356,  29.9999,-153.7314,    34.3343,2,     -999.0,9,     -999.0,9,    13.0095,2,     -999.0,9,     -999.0,9,-999.0000, -999.00,-999.000
318M20130321,       P02E,     100,          1,         28,         28,2,20130516,       1137,    30.0007,  -153.7325,       5520,   266.3,  11.7007,   34.178,2,  34.1755,2,    217.9,2,   217.7,2,   11.13,2,   10.91,2,    0.01,2,    0.72,2,   2.999,2,   1.696,2,-999.000,5,   1.5366,2,  -999.0,9, -999.00,9,-999.0000,9,  -999.00,-999.000,9,-999.0000,9, -999.00,9, -999.00,9,  -999.0,9,  -999.0,-999.000,9,-999.000,     -999.0,9, -999.00,9, -999.00,9, -999.00,9,     -999.0,9,  -999.0,9, 20130516,     1354,  29.9997, -153.731,    34.3366,2,     -999.0,9,     -999.0,9,    11.6986,2,     -999.0,9,     -999.0,9,-999.0000, -999.00,-999.000
318M20130321,       P02E,     100,          1,         27,         27,2,20130516,       1137,    30.0007,  -153.7325,       5520,   315.3,  10.8333,  34.1653,2,  34.1649,2,      218,2,   218.2,2,   14.35,2,   12.95,2,    0.01,2,    0.87,2,   3.122,2,   1.750,2,-999.000,5,   1.5678,2,  2098.4,2,  2258.3,2,   7.7773,6,       25,-999.000,9,-999.0000,9, -999.00,9, -999.00,9,  -999.0,9,  -999.0,-999.000,9,-999.000,     -999.0,9, -999.00,9, -999.00,9, -999.00,9,     -999.0,9,  -999.0,9, 20130516,     1351,  29.9997,-153.7311,     34.326,2,     -999.0,9,     -999.0,9,    10.8317,2,     -999.0,9,     -999.0,9,-999.0000, -999.00,-999.000
318M20130321,       P02E,     100,          1,         26,         26,2,20130516,       1137,    30.0007,  -153.7325,       5520,   366.9,  10.1538,  34.1328,2,  34.1326,2,    211.5,2,   212.5,2,   17.67,2,   14.98,2,    0.01,2,    1.02,2,   3.140,2,   1.755,2,-999.000,5,   1.3656,2,  -999.0,9, -999.00,9,-999.0000,9,  -999.00,-999.000,9,-999.0000,9, -999.00,9, -999.00,9,  -999.0,9,  -999.0,-999.000,9,-999.000,     -999.0,9, -999.00,9, -999.00,9, -999.00,9,     -999.0,9,  -999.0,9, 20130516,     1349,  29.9999,-153.7315,    34.2935,2,     -999.0,9,     -999.0,9,    10.1561,2,     -999.0,9,     -999.0,9,-999.0000, -999.00,-999.000
318M20130321,       P02E,     100,          1,         25,         25,2,20130516,       1137,    30.0007,  -153.7325,       5520,   437.2,   8.8451,  34.0571,2,  34.0561,2,    191.3,2,   191.7,2,   26.17,2,    19.6,2,    0.01,2,    1.35,2,   3.157,2,   1.698,2,-999.000,5,   1.1909,2,  2142.2,2,  2261.5,2,   7.6867,2,       25,-999.000,9,-999.0000,9, -999.00,9, -999.00,9,  -999.0,9,  -999.0,-999.000,9,-999.000,     -999.0,9, -999.00,9, -999.00,9, -999.00,9,     -999.0,9,  -999.0,9, 20130516,     1346,       30,-153.7319,    34.2167,2,     -999.0,9,     -999.0,9,     8.8523,2,     -999.0,9,     -999.0,9,-999.0000, -999.00,-999.000
318M20130321,       P02E,     100,          1,         24,         24,2,20130516,       1137,    30.0007,  -153.7325,       5520,   538.2,   7.1219,  33.9932,2,  33.9931,2,    133.9,2,   139.5,2,   44.53,2,   27.81,2,    0.01,2,    1.94,2,   2.706,2,   1.393,2,-999.000,5,   0.7437,2,  2200.8,2, 2271.81,2,   7.5401,2,       25,-999.000,9,-999.0000,9, -999.00,9, -999.00,9,  -999.0,9,  -999.0,-999.000,9,-999.000,     -999.0,9, -999.00,9, -999.00,9, -999.00,9,     -999.0,9,  -999.0,9, 20130516,     1342,  30.0001,-153.7322,    34.1534,2,     -999.0,9,     -999.0,9,     7.1225,2,     -999.0,9,     -999.0,9,-999.0000, -999.00,-999.000
318M20130321,       P02E,     100,          1,         23,         23,2,20130516,       1137,    30.0007,  -153.7325,       5520,   638.9,   5.6417,  34.0163,2,   34.015,2,     80.8,2,    81.5,2,   68.16,2,   35.75,2,    0.01,2,    2.49,2,   1.676,2,   0.820,2,-999.000,5,   0.3137,2,  2264.8,2, 2290.81,2,   7.3988,2,       25,-999.000,9,-999.0000,9, -999.00,9, -999.00,9,  -999.0,9,  -999.0,-999.000,9,-999.000,     -999.0,9, -999.00,9, -999.00,9, -999.00,9,     -999.0,9,  -999.0,9, 20130516,     1339,  29.9999, -153.732,    34.1754,2,     -999.0,9,     -999.0,9,     5.6403,2,     -999.0,9,     -999.0,9,-999.0000, -999.00,-999.000
318M20130321,       P02E,     100,          1,         22,         22,2,20130516,       1137,    30.0007,  -153.7325,       5520,   738.8,   4.7977,   34.105,2,   34.105,2,     49.7,2,    42.7,2,   88.37,2,   40.37,2,    0.01,2,     2.9,2,   0.716,2,   0.339,2,-999.000,5,   0.1239,2,  2308.7,2, 2312.02,2,   7.3205,6,       25,-999.000,9,-999.0000,9, -999.00,9, -999.00,9,  -999.0,9,  -999.0,-999.000,9,-999.000,     -999.0,9, -999.00,9, -999.00,9, -999.00,9,     -999.0,9,  -999.0,9, 20130516,     1335,  29.9999, -153.732,    34.2658,2,     -999.0,9,     -999.0,9,      4.797,2,     -999.0,9,     -999.0,9,-999.0000, -999.00,-999.000
318M20130321,       P02E,     100,          1,         21,         21,2,20130516,       1137,    30.0007,  -153.7325,       5520,   841.6,   4.1561,  34.2136,2,  34.2146,2,       20,2,      19,2,  107.99,2,   42.99,2,    0.01,2,     3.1,2,   0.141,2,   0.069,2,-999.000,5,        0,2,  2344.1,2, 2335.93,2,   7.2863,2,       25,-999.000,9,-999.0000,9, -999.00,9, -999.00,9,  -999.0,9,  -999.0,-999.000,9,-999.000,     -999.0,9, -999.00,9, -999.00,9, -999.00,9,     -999.0,9,  -999.0,9, 20130516,     1331,  29.9999,-153.7322,    34.3759,2,     -999.0,9,     -999.0,9,     4.1565,2,     -999.0,9,     -999.0,9,-999.0000, -999.00,-999.000
318M20130321,       P02E,     100,          1,         20,         20,2,20130516,       1137,    30.0007,  -153.7325,       5520,   942.5,   3.8658,  34.3078,2,  34.3056,2,     13.2,2,    12.4,2,  118.23,2,   43.64,2,       0,2,    3.19,2,   0.033,2,   0.017,2,-999.000,5,        0,2,  2361.5,2, 2351.54,2,   7.2857,2,       25,-999.000,9,-999.0000,9, -999.00,9, -999.00,9,  -999.0,9,  -999.0,-999.000,9,-999.000,     -999.0,9, -999.00,9, -999.00,9, -999.00,9,     -999.0,9,  -999.0,9, 20130516,     1328,  29.9999,-153.7323,    34.4674,2,     -999.0,9,     -999.0,9,     3.8721,2,     -999.0,9,     -999.0,9,-999.0000, -999.00,-999.000
318M20130321,       P02E,     100,          1,         19,         19,2,20130516,       1137,    30.0007,  -153.7325,       5520,  1043.8,   3.5702,  34.3968,2,   34.398,2,     14.4,2,    16.1,2,  127.01,2,   43.71,2,       0,2,    3.18,2,   0.011,2,   0.005,2,-999.000,5,        0,2,  2368.9,2, 2367.04,2,   7.3043,2,       25,-999.000,9,-999.0000,9, -999.00,9, -999.00,9,  -999.0,9,  -999.0,-999.000,9,-999.000,     -999.0,9, -999.00,9, -999.00,9, -999.00,9,     -999.0,9,  -999.0,9, 20130516,     1324,  29.9999,-153.7324,    34.5602,2,     -999.0,9,     -999.0,9,     3.5687,2,     -999.0,9,     -999.0,9,-999.0000, -999.00,-999.000
318M20130321,       P02E,     100,          1,         18,         18,2,20130516,       1137,    30.0007,  -153.7325,       5520,  1145.4,   3.3709,  34.4458,2,  34.4451,2,     21.9,2,    23.2,2,   131.4,2,   43.51,2,       0,2,    3.17,2,   0.006,2,   0.004,2,-999.000,5,        0,2,  -999.0,9, -999.00,9,-999.0000,9,  -999.00,-999.000,9,-999.0000,9, -999.00,9, -999.00,9,  -999.0,9,  -999.0,-999.000,9,-999.000,     -999.0,9, -999.00,9, -999.00,9, -999.00,9,     -999.0,9,  -999.0,9, 20130516,     1321,  29.9998,-153.7322,    34.6076,2,     -999.0,9,     -999.0,9,     3.3692,2,     -999.0,9,     -999.0,9,-999.0000, -999.00,-999.000
318M20130321,       P02E,     100,          1,         17,         17,2,20130516,       1137,    30.0007,  -153.7325,       5520,  1246.2,   3.1624,  34.4875,2,  34.4873,2,     32.8,2,    32.1,2,  136.18,2,   43.08,2,       0,2,    3.14,2,   0.005,2,   0.004,2,-999.000,5,        0,2,  2371.4,2, 2385.15,2,   7.3452,2,       25,-999.000,9,-999.0000,9, -999.00,9, -999.00,9,  -999.0,9,  -999.0,-999.000,9,-999.000,     -999.0,9, -999.00,9, -999.00,9, -999.00,9,     -999.0,9,  -999.0,9, 20130516,     1318,  29.9998,-153.7321,      34.65,2,     -999.0,9,     -999.0,9,     3.1626,2,     -999.0,9,     -999.0,9,-999.0000, -999.00,-999.000
318M20130321,       P02E,     100,          1,         16,         16,2,20130516,       1137,    30.0007,  -153.7325,       5520,  1345.5,   2.9631,  34.5215,2,  34.5209,2,     40.6,2,    43.7,2,  139.79,2,    42.5,2,       0,2,    3.08,2,   0.004,2,   0.001,2,-999.000,5,        0,2,  2371.1,2, 2390.05,2,   7.3693,2,       25,-999.000,9,-999.0000,9, -999.00,9, -999.00,9,  -999.0,9,  -999.0,-999.000,9,-999.000,     -999.0,9, -999.00,9, -999.00,9, -999.00,9,     -999.0,9,  -999.0,9, 20130516,     1314,  29.9999,-153.7322,    34.6837,2,     -999.0,9,     -999.0,9,     2.9639,2,     -999.0,9,     -999.0,9,-999.0000, -999.00,-999.000
318M20130321,       P02E,     100,          1,         15,         15,2,20130516,       1137,    30.0007,  -153.7325,       5520,  1477.7,   2.7226,  34.5484,2,  34.5483,2,     52.2,2,      53,2,  144.67,2,   41.95,2,       0,2,    3.05,2,   0.004,2,  -0.001,2,-999.000,5,        0,2,  2371.5,6, 2397.05,2,   7.3893,2,       25,-999.000,9,-999.0000,9, -999.00,9, -999.00,9,  -999.0,9,  -999.0,-999.000,9,-999.000,     -999.0,9, -999.00,9, -999.00,9, -999.00,9,     -999.0,9,  -999.0,9, 20130516,     1310,  30.0001,-153.7325,    34.7112,2,     -999.0,9,     -999.0,9,     2.7234,2,     -999.0,9,     -999.0,9,-999.0000, -999.00,-999.000
318M20130321,       P02E,     100,          1,         14,         14,2,20130516,       1137,    30.0007,  -153.7325,       5520,  1679.3,   2.4189,  34.5788,2,  34.5781,2,     65.8,2,    65.7,2,  151.89,2,   41.26,2,       0,2,    2.97,2,   0.008,2,   0.004,2,-999.000,5,        0,2,  -999.0,9, -999.00,9,-999.0000,9,  -999.00,-999.000,9,-999.0000,9, -999.00,9, -999.00,9,  -999.0,9,  -999.0,-999.000,9,-999.000,     -999.0,9, -999.00,9, -999.00,9, -999.00,9,     -999.0,9,  -999.0,9, 20130516,     1306,  30.0002,-153.7327,    34.7412,2,     -999.0,9,     -999.0,9,     2.4197,2,     -999.0,9,     -999.0,9,-999.0000, -999.00,-999.000
318M20130321,       P02E,     100,          1,         13,         13,2,20130516,       1137,    30.0007,  -153.7325,       5520,  1882.2,   2.1639,   34.602,2,  34.6015,2,       75,2,    74.6,2,  158.52,2,   40.71,2,       0,2,    2.93,2,   0.004,2,   0.000,2,-999.000,5,        0,2,    2371,2, 2412.66,2,   7.4318,2,       25,-999.000,9,-999.0000,9, -999.00,9, -999.00,9,  -999.0,9,  -999.0,-999.000,9,-999.000,     -999.0,9, -999.00,9, -999.00,9, -999.00,9,     -999.0,9,  -999.0,9, 20130516,     1300,  30.0001,-153.7325,    34.7647,2,     -999.0,9,     -999.0,9,     2.1635,2,     -999.0,9,     -999.0,9,-999.0000, -999.00,-999.000
318M20130321,       P02E,     100,          1,         12,         12,2,20130516,       1137,    30.0007,  -153.7325,       5520,  2123.1,   1.9359,  34.6227,2,  34.6225,2,     84.9,2,    84.4,2,  164.18,2,   40.06,2,       0,2,    2.88,2,   0.003,2,   0.001,2,-999.000,5,        0,2,  -999.0,9, -999.00,9,-999.0000,9,  -999.00,-999.000,9,-999.0000,9, -999.00,9, -999.00,9,  -999.0,9,  -999.0,-999.000,9,-999.000,     -999.0,9, -999.00,9, -999.00,9, -999.00,9,     -999.0,9,  -999.0,9, 20130516,     1255,  30.0001,-153.7323,    34.7858,2,     -999.0,9,     -999.0,9,      1.936,2,     -999.0,9,     -999.0,9,-999.0000, -999.00,-999.000
318M20130321,       P02E,     100,          1,         11,         11,2,20130516,       1137,    30.0007,  -153.7325,       5520,  2426.3,   1.7489,  34.6416,2,   34.641,2,     96.2,2,      96,2,  168.38,2,   39.47,2,       0,2,     2.8,2,   0.004,2,   0.001,2,-999.000,5,        0,2,    2367,2, 2424.46,2,   7.4738,2,       25,-999.000,9,-999.0000,9, -999.00,9, -999.00,9,  -999.0,9,  -999.0,-999.000,9,-999.000,     -999.0,9, -999.00,9, -999.00,9, -999.00,9,     -999.0,9,  -999.0,9, 20130516,     1248,  30.0002, -153.732,    34.8044,2,     -999.0,9,     -999.0,9,      1.749,2,     -999.0,9,     -999.0,9,-999.0000, -999.00,-999.000
318M20130321,       P02E,     100,          1,         10,         10,2,20130516,       1137,    30.0007,  -153.7325,       5520,  2730.7,   1.6257,  34.6559,2,  34.6554,2,    109.6,2,   109.1,2,  168.47,2,   38.61,2,       0,2,    2.74,2,   0.003,2,   0.000,2,-999.000,5,        0,2,  -999.0,9, -999.00,9,-999.0000,9,  -999.00,-999.000,9,-999.0000,9, -999.00,9, -999.00,9,  -999.0,9,  -999.0,-999.000,9,-999.000,     -999.0,9, -999.00,9, -999.00,9, -999.00,9,     -999.0,9,  -999.0,9, 20130516,     1241,  30.0006,-153.7323,    34.8188,2,     -999.0,9,     -999.0,9,     1.6254,2,     -999.0,9,     -999.0,9,-999.0000, -999.00,-999.000
318M20130321,       P02E,     100,          1,          9,          9,2,20130516,       1137,    30.0007,  -153.7325,       5520,  3088.1,   1.5356,  34.6679,2,  34.6668,2,    123.7,2,   122.6,2,  166.13,2,   37.76,2,       0,2,    2.68,2,   0.004,2,   0.000,2,-999.000,5,        0,2,  2351.7,2, 2425.26,2,   7.5243,2,       25,-999.000,9,-999.0000,9, -999.00,9, -999.00,9,  -999.0,9,  -999.0,-999.000,9,-999.000,     -999.0,9, -999.00,9, -999.00,9, -999.00,9,     -999.0,9,  -999.0,9, 20130516,     1234,  30.0004, -153.732,    34.8302,2,     -999.0,9,     -999.0,9,     1.5354,2,     -999.0,9,     -999.0,9,-999.0000, -999.00,-999.000
318M20130321,       P02E,     100,          1,          8,          8,2,20130516,       1137,    30.0007,  -153.7325,       5520,  3445.5,   1.4948,  34.6761,2,   34.675,2,    132.5,2,   133.1,2,   163.2,2,   37.05,2,       0,2,    2.64,2,   0.006,2,   0.000,2,-999.000,5,        0,2,  -999.0,9, -999.00,9,-999.0000,9,  -999.00,-999.000,9,-999.0000,9, -999.00,9, -999.00,9,  -999.0,9,  -999.0,-999.000,9,-999.000,     -999.0,9, -999.00,9, -999.00,9, -999.00,9,     -999.0,9,  -999.0,9, 20130516,     1226,  30.0002,-153.7317,    34.8385,2,     -999.0,9,     -999.0,9,     1.4945,2,     -999.0,9,     -999.0,9,-999.0000, -999.00,-999.000
318M20130321,       P02E,     100,          1,          7,          7,2,20130516,       1137,    30.0007,  -153.7325,       5520,  3801.4,   1.4785,  34.6817,2,  34.6808,2,      142,2,   141.5,2,  159.49,2,   36.56,2,       0,2,    2.58,2,   0.006,2,   0.002,2,-999.000,5,        0,2,  2335.7,2, 2424.66,2,   7.5569,2,       25,-999.000,9,-999.0000,9, -999.00,9, -999.00,9,  -999.0,9,  -999.0,-999.000,9,-999.000,     -999.0,9, -999.00,9, -999.00,9, -999.00,9,     -999.0,9,  -999.0,9, 20130516,     1218,  29.9999,-153.7312,    34.8443,2,     -999.0,9,     -999.0,9,     1.4782,2,     -999.0,9,     -999.0,9,-999.0000, -999.00,-999.000