BOTTLE,20220817CCHSIOAMB
EXPOCODE,SECT_ID,STNNBR,CASTNO,SAMPNO,BTLNBR,BTLNBR_FLAG_W,DATE,TIME,LATITUDE,LONGITUDE,DEPTH,CTDPRS,CTDTMP,CTDSAL,CTDSAL_FLAG_W,SALNTY,SALNTY_FLAG_W,CTDOXY,CTDOXY_FLAG_W,OXYGEN,OXYGEN_FLAG_W,SILCAT,SILCAT_FLAG_W,NITRAT,NITRAT_FLAG_W,NITRIT,NITRIT_FLAG_W,PHSPHT,PHSPHT_FLAG_W,CFC-11,CFC-11_FLAG_W,CFC-12,CFC-12_FLAG_W,CFC113,CFC113_FLAG_W,SF6,SF6_FLAG_W,TCARBN,TCARBN_FLAG_W,ALKALI,ALKALI_FLAG_W,PH_TOT,PH_TOT_FLAG_W,PH_TMP,TRITUM,TRITUM_FLAG_W,HELIUM,HELIUM_FLAG_W,DELHE3,DELHE3_FLAG_W,DELC13,DELC13_FLAG_W,DELC14,DELC14_FLAG_W,C14ERR,NEON,NEON_FLAG_W,NEONER,I-129,I-129_FLAG_W,SR-90,SR-90_FLAG_W,DOC,DOC_FLAG_W,TDN,TDN_FLAG_W,CALCIUM,CALCIUM_FLAG_W,D15N_NO3,D15N_NO3_FLAG_W,BTL_DATE,BTL_TIME,BTL_LAT,BTL_LON,SALTREF,SALTREF_FLAG_W,CS-137,CS-137_FLAG_W,CS-134,CS-134_FLAG_W,REFTMP,REFTMP_FLAG_W,LAB_DEN,LAB_DEN_FLAG_W,D18O_NO3,D18O_NO3_FLAG_W,HELIER,DELHER,TRITER
,,,,,,,,,,,METERS,DBAR,ITS-90,PSS-78,,PSS-78,,UMOL/KG,,UMOL/KG,,UMOL/KG,,UMOL/KG,,UMOL/KG,,UMOL/KG,,PMOL/KG,,PMOL/KG,,PMOL/KG,,FMOL/KG,,UMOL/KG,,UMOL/KG,,,,DEG C,TU,,NMOL/KG,,PERCNT,,/MILLE,,/MILLE,,/MILLE,NMOL/KG,,NMOL/KG,BQ/M^3,,DM/.1MG,,UMOL/KG,,UMOL/KG,,MMOL/KG,,/MILLE,,,,,,G/KG,,BQ/M^3,,BQ/M^3,,ITS-90,,,,/MILLE,,NMOL/KG,PERCNT,TU
318M20130321,       P02W,      76,          1,          6,          6,2,20130429,       0217,         30,  -178.9999,       5396,  3548.7,   1.4641,   34.678,2,  34.6792,2,    140.2,2,   140.7,2,  155.98,2,   36.73,2,       0,2,    2.61,2,   0.009,2,   0.007,2,   0.000,2,     0.05,2,  2331.9,2, 2418.06,2,   7.5517,6,       25,-999.000,9,-999.0000,9, -999.00,9, -999.00,9,  -999.0,9,  -999.0,-999.000,9,-999.000,     -999.0,9, -999.00,9, -999.00,9, -999.00,9,     -999.0,9,  -999.0,9, 20130429,      256,  30.0001,-179.0002,    34.8428,2,     -999.0,9,     -999.0,9,     1.4639,2,     -999.0,9,     -999.0,9,-999.0000, -999.00,-999.000
318M20130321,       P02W,      76,          1,          5,         37,2,20130429,       0217,         30,  -178.9999,       5396,  3919.3,   1.4583,  34.6831,2,  34.6838,2,    146.9,2,   147.2,2,  154.61,2,   36.34,2,       0,2,    2.56,2,-999.000,9,-999.000,9,-999.000,9,-999.0000,9,  -999.0,9, -999.00,9,-999.0000,9,  -999.00,-999.000,9,-999.0000,9, -999.00,9, -999.00,9,  -999.0,9,  -999.0,-999.000,9,-999.000,     -999.0,9, -999.00,9, -999.00,9, -999.00,9,     -999.0,9,  -999.0,9, 20130429,      249,  29.9998,     -179,    34.8473,2,     -999.0,9,     -999.0,9,     1.4578,2,     -999.0,9,     -999.0,9,-999.0000, -999.00,-999.000
318M20130321,       P02W,      76,          1,          4,          4,2,20130429,       0217,         30,  -178.9999,       5396,  4327.9,   1.4667,  34.6871,2,  34.6875,2,    152.5,2,   152.8,2,  152.46,2,   35.98,2,       0,2,    2.53,2,   0.013,2,   0.005,2,   0.001,2,     0.04,2,  2323.6,2, 2416.96,2,   7.5715,2,       25,-999.000,9,-999.0000,9, -999.00,9, -999.00,9,  -999.0,9,  -999.0,-999.000,9,-999.000,     -999.0,9, -999.00,9, -999.00,9, -999.00,9,     -999.0,9,  -999.0,9, 20130429,      241,  29.9999,-178.9999,    34.8511,2,     -999.0,9,     -999.0,9,      1.467,2,     -999.0,9,     -999.0,9,-999.0000, -999.00,-999.000
318M20130321,       P02W,      76,          1,          3,          3,2,20130429,       0217,         30,  -178.9999,       5396,  4740.9,   1.4828,    34.69,2,    34.69,2,    157.7,2,   158.2,2,  148.46,2,   35.58,2,       0,2,    2.51,2,   0.006,2,   0.004,2,   0.005,2,     0.08,2,  2318.2,2, 2414.36,6,   7.5784,2,       25,-999.000,9,-999.0000,9, -999.00,9, -999.00,9,  -999.0,9,  -999.0,-999.000,9,-999.000,     -999.0,9, -999.00,9, -999.00,9, -999.00,9,     -999.0,9,  -999.0,9, 20130429,      233,  29.9999,-178.9998,    34.8536,2,     -999.0,9,     -999.0,9,     1.4827,2,     -999.0,9,     -999.0,9,-999.0000, -999.00,-999.000
318M20130321,       P02W,      76,          1,          2,          2,2,20130429,       0217,         30,  -178.9999,       5396,  5155.3,   1.4994,   34.693,2,  34.6942,2,    163.2,2,   164.3,2,  142.41,2,   35.12,2,       0,2,    2.47,2,   0.018,2,   0.007,2,   0.000,2,     0.08,2,  2312.5,6, 2408.76,2,   7.5854,2,       25,-999.000,9,-999.0000,9, -999.00,9, -999.00,9,  -999.0,9,  -999.0,-999.000,9,-999.000,     -999.0,9, -999.00,9, -999.00,9, -999.00,9,     -999.0,9,  -999.0,9, 20130429,      225,  30.0002,     -179,    34.8578,2,     -999.0,9,     -999.0,9,     1.4991,2,     -999.0,9,     -999.0,9,-999.0000, -999.00,-999.000
318M20130321,       P02W,      76,          1,          1,          1,9,20130429,       0217,         30,  -178.9999,       5396,    5482,   1.5202,  34.6949,2,-999.0000,9,      166,2,  -999.0,9, -999.00,9, -999.00,9, -999.00,9, -999.00,9,-999.000,9,-999.000,9,-999.000,9,-999.0000,9,  -999.0,9, -999.00,9,-999.0000,9,  -999.00,-999.000,9,-999.0000,9, -999.00,9, -999.00,9,  -999.0,9,  -999.0,-999.000,9,-999.000,     -999.0,9, -999.00,9, -999.00,9, -999.00,9,     -999.0,9,  -999.0,9, 20130429,      218,       30,-178.9999,     -999.0,9,     -999.0,9,     -999.0,9,       1.52,2,     -999.0,9,     -999.0,9,-999.0000, -999.00,-999.000