BOTTLE,20220817CCHSIOAMB
EXPOCODE,SECT_ID,STNNBR,CASTNO,SAMPNO,BTLNBR,BTLNBR_FLAG_W,DATE,TIME,LATITUDE,LONGITUDE,DEPTH,CTDPRS,CTDTMP,CTDSAL,CTDSAL_FLAG_W,SALNTY,SALNTY_FLAG_W,CTDOXY,CTDOXY_FLAG_W,OXYGEN,OXYGEN_FLAG_W,SILCAT,SILCAT_FLAG_W,NITRAT,NITRAT_FLAG_W,NITRIT,NITRIT_FLAG_W,PHSPHT,PHSPHT_FLAG_W,CFC-11,CFC-11_FLAG_W,CFC-12,CFC-12_FLAG_W,CFC113,CFC113_FLAG_W,SF6,SF6_FLAG_W,TCARBN,TCARBN_FLAG_W,ALKALI,ALKALI_FLAG_W,PH_TOT,PH_TOT_FLAG_W,PH_TMP,TRITUM,TRITUM_FLAG_W,HELIUM,HELIUM_FLAG_W,DELHE3,DELHE3_FLAG_W,DELC13,DELC13_FLAG_W,DELC14,DELC14_FLAG_W,C14ERR,NEON,NEON_FLAG_W,NEONER,I-129,I-129_FLAG_W,SR-90,SR-90_FLAG_W,DOC,DOC_FLAG_W,TDN,TDN_FLAG_W,CALCIUM,CALCIUM_FLAG_W,D15N_NO3,D15N_NO3_FLAG_W,BTL_DATE,BTL_TIME,BTL_LAT,BTL_LON,SALTREF,SALTREF_FLAG_W,CS-137,CS-137_FLAG_W,CS-134,CS-134_FLAG_W,REFTMP,REFTMP_FLAG_W,LAB_DEN,LAB_DEN_FLAG_W,D18O_NO3,D18O_NO3_FLAG_W,HELIER,DELHER,TRITER
,,,,,,,,,,,METERS,DBAR,ITS-90,PSS-78,,PSS-78,,UMOL/KG,,UMOL/KG,,UMOL/KG,,UMOL/KG,,UMOL/KG,,UMOL/KG,,PMOL/KG,,PMOL/KG,,PMOL/KG,,FMOL/KG,,UMOL/KG,,UMOL/KG,,,,DEG C,TU,,NMOL/KG,,PERCNT,,/MILLE,,/MILLE,,/MILLE,NMOL/KG,,NMOL/KG,BQ/M^3,,DM/.1MG,,UMOL/KG,,UMOL/KG,,MMOL/KG,,/MILLE,,,,,,G/KG,,BQ/M^3,,BQ/M^3,,ITS-90,,,,/MILLE,,NMOL/KG,PERCNT,TU
318M20130321,       P02E,     120,          1,         36,         36,2,20130522,       1545,    30.0001,  -139.5087,       4828,     3.8,   19.672,   34.815,2,  34.8167,2,    233.1,2,   233.6,2,    2.34,2,       0,2,       0,2,       0,2,   2.087,2,   1.260,2,-999.000,1,   1.4597,2,  2032.9,2, 2292.41,2,   7.9742,6,       25,   0.578,2,   1.7512,2,   -1.16,2, -999.00,9,  -999.0,9,  -999.0,   7.057,2,   0.032,     -999.0,9, -999.00,9, -999.00,9, -999.00,9,     -999.0,1,  -999.0,9, 20130522,     1745,       30,-139.5093,    34.9808,2,     -999.0,9,     -999.0,9,    19.6725,2,     -999.0,9,     -999.0,9,   0.0074,    0.15,   0.012
318M20130321,       P02E,     120,          1,         34,         34,2,20130522,       1545,    30.0001,  -139.5087,       4828,    24.5,  19.6761,  34.8148,2,  34.8163,2,    233.2,2,   233.3,2,    2.44,2,       0,2,       0,2,       0,2,   2.089,2,   1.258,2,-999.000,1,   1.5434,2,    2032,2, 2292.01,6,    7.974,2,       25,-999.000,9,-999.0000,9, -999.00,9, -999.00,9,  -999.0,9,  -999.0,-999.000,9,-999.000,     -999.0,9, -999.00,9, -999.00,9, -999.00,9,     -999.0,9,  -999.0,9, 20130522,     1744,  29.9999,-139.5093,    34.9804,2,     -999.0,9,     -999.0,9,    19.6753,2,     -999.0,9,     -999.0,9,-999.0000, -999.00,-999.000
318M20130321,       P02E,     120,          1,         33,         33,2,20130522,       1545,    30.0001,  -139.5087,       4828,    49.8,  18.8619,  34.8101,2,  34.8066,2,    238.6,2,   238.4,2,    2.05,2,       0,2,       0,2,       0,2,-999.000,9,-999.000,9,-999.000,9,-999.0000,9,  -999.0,9, 2292.21,2,-999.0000,9,  -999.00,   0.579,6,   1.7385,2,   -0.95,2, -999.00,9,  -999.0,9,  -999.0,   7.167,2,   0.033,     -999.0,9, -999.00,9, -999.00,9, -999.00,9,     -999.0,1,  -999.0,9, 20130522,     1742,  29.9998,-139.5095,    34.9708,2,     -999.0,9,     -999.0,9,    18.8596,2,     -999.0,9,     -999.0,9,   0.0073,    0.15,   0.011
318M20130321,       P02E,     120,          1,         32,         32,2,20130522,       1545,    30.0001,  -139.5087,       4828,    75.1,  18.3813,  34.7731,2,  34.7762,2,    238.6,2,   238.3,2,    2.34,2,       0,2,       0,2,    0.01,2,   2.176,2,   1.309,2,-999.000,1,   1.5138,2,  2030.5,2, 2291.11,2,   7.9749,6,       25,-999.000,9,-999.0000,9, -999.00,9, -999.00,9,  -999.0,9,  -999.0,-999.000,9,-999.000,     -999.0,9, -999.00,9, -999.00,9, -999.00,9,     -999.0,9,  -999.0,9, 20130522,     1740,  29.9997,-139.5096,    34.9401,2,     -999.0,9,     -999.0,9,    18.3788,2,     -999.0,9,     -999.0,9,-999.0000, -999.00,-999.000
318M20130321,       P02E,     120,          1,         31,         31,2,20130522,       1545,    30.0001,  -139.5087,       4828,    99.9,  18.2245,  34.8167,2,  34.8176,2,    235.8,2,   234.8,2,    2.24,2,       0,2,       0,2,    0.02,2,-999.000,9,-999.000,9,-999.000,9,-999.0000,9,  2034.2,2, 2293.41,2,   7.9718,2,       25,   0.577,2,   1.7497,2,   -0.79,2, -999.00,9,  -999.0,9,  -999.0,   7.163,2,   0.033,     -999.0,9, -999.00,9, -999.00,9, -999.00,9,     -999.0,9,  -999.0,9, 20130522,     1738,  29.9997,-139.5096,    34.9818,2,     -999.0,9,     -999.0,9,    18.2254,2,     -999.0,9,     -999.0,9,   0.0073,    0.15,   0.012
318M20130321,       P02E,     120,          1,         30,         30,2,20130522,       1545,    30.0001,  -139.5087,       4828,     151,  17.7376,  34.7559,2,  34.7581,2,    228.5,2,     228,2,    2.15,2,    0.38,2,    0.13,2,    0.09,2,   2.241,2,   1.336,2,-999.000,1,   1.5648,2,  -999.0,9, 2290.61,2,-999.0000,9,  -999.00,-999.000,9,-999.0000,9, -999.00,9, -999.00,9,  -999.0,9,  -999.0,-999.000,9,-999.000,     -999.0,9, -999.00,9, -999.00,9, -999.00,9,     -999.0,1,  -999.0,9, 20130522,     1736,  29.9996,-139.5096,     34.922,2,     -999.0,9,     -999.0,9,     17.734,2,     -999.0,9,     -999.0,9,-999.0000, -999.00,-999.000
318M20130321,       P02E,     120,          1,         29,         29,2,20130522,       1545,    30.0001,  -139.5087,       4828,   201.9,  13.0132,  34.0394,2,   34.039,2,    221.6,2,   221.6,2,    6.05,2,    5.96,2,    0.02,2,    0.49,2,-999.000,9,-999.000,9,-999.000,9,-999.0000,9,  2060.3,2,  2246.1,2,   7.8377,2,       25,   0.569,2,   1.6962,3,   -1.35,2, -999.00,9,  -999.0,9,  -999.0,   7.306,2,   0.034,     -999.0,9, -999.00,9, -999.00,9, -999.00,9,     -999.0,9,  -999.0,9, 20130522,     1734,  29.9995,-139.5096,    34.1995,2,     -999.0,9,     -999.0,9,    13.0786,3,     -999.0,9,     -999.0,9,   0.0071,    0.15,   0.013
318M20130321,       P02E,     120,          1,         27,         27,2,20130522,       1545,    30.0001,  -139.5087,       4828,   251.7,  11.2351,  33.9655,2,    33.97,2,    216.7,2,   215.8,2,   10.84,2,   10.98,2,    0.01,2,    0.82,2,   3.127,2,   1.774,2,-999.000,1,   1.5962,2,  -999.0,9,  2242.6,2,-999.0000,9,  -999.00,-999.000,9,-999.0000,9, -999.00,9, -999.00,9,  -999.0,9,  -999.0,-999.000,9,-999.000,     -999.0,9, -999.00,9, -999.00,9, -999.00,9,     -999.0,9,  -999.0,9, 20130522,     1732,  29.9995,-139.5096,    34.1302,2,     -999.0,9,     -999.0,9,    11.2407,2,     -999.0,9,     -999.0,9,-999.0000, -999.00,-999.000
318M20130321,       P02E,     120,          1,         26,         26,2,20130522,       1545,    30.0001,  -139.5087,       4828,     302,  10.2132,  34.0399,2,  34.0405,2,    209.5,2,     213,2,   15.62,2,   14.33,2,    0.01,2,    1.03,2,-999.000,9,-999.000,9,-999.000,9,-999.0000,9,  2104.5,2,  2251.5,2,   7.7455,2,       25,   0.529,2,   1.8158,2,    0.93,2, -999.00,9,  -999.0,9,  -999.0,   7.682,2,   0.035,     -999.0,9, -999.00,9, -999.00,9, -999.00,9,     -999.0,1,  -999.0,9, 20130522,     1730,  29.9996,-139.5096,    34.2011,2,     -999.0,9,     -999.0,9,    10.2151,2,     -999.0,9,     -999.0,9,   0.0076,    0.15,   0.013
318M20130321,       P02E,     120,          1,         25,         25,2,20130522,       1545,    30.0001,  -139.5087,       4828,   352.3,   9.2894,  34.0535,2,  34.0552,2,    203.8,2,   202.1,2,   21.48,2,   17.72,2,       0,2,    1.26,2,   3.233,2,   1.767,2,-999.000,1,   1.2799,2,  -999.0,9, -999.00,9,-999.0000,9,  -999.00,-999.000,9,-999.0000,9, -999.00,9, -999.00,9,  -999.0,9,  -999.0,-999.000,9,-999.000,     -999.0,9, -999.00,9, -999.00,9, -999.00,9,     -999.0,9,  -999.0,9, 20130522,     1728,  29.9997,-139.5094,    34.2158,2,     -999.0,9,     -999.0,9,     9.2917,2,     -999.0,9,     -999.0,9,-999.0000, -999.00,-999.000
318M20130321,       P02E,     120,          1,         24,         24,2,20130522,       1545,    30.0001,  -139.5087,       4828,   402.8,   8.5054,  34.0281,2,  34.0307,2,    185.7,2,   187.1,2,   27.93,2,   20.84,2,       0,2,    1.46,2,-999.000,9,-999.000,9,-999.000,9,-999.0000,9,  2148.7,2,  2261.5,2,   7.6604,2,       25,   0.498,2,   1.8115,2,    3.91,2, -999.00,9,  -999.0,9,  -999.0,   7.667,2,   0.035,     -999.0,9, -999.00,9, -999.00,9, -999.00,9,     -999.0,9,  -999.0,9, 20130522,     1726,  29.9998,-139.5092,    34.1912,2,     -999.0,9,     -999.0,9,     8.5089,2,     -999.0,9,     -999.0,9,   0.0076,    0.15,   0.012
318M20130321,       P02E,     120,          1,         23,         23,2,20130522,       1545,    30.0001,  -139.5087,       4828,   503.7,   6.6036,  34.0001,2,  34.0004,2,      108,2,   106.6,2,   52.64,2,   31.91,2,       0,2,     2.3,2,   2.329,2,   1.175,2,-999.000,1,   0.5777,2,  2230.6,2, 2278.41,2,   7.4611,2,       25,   0.416,2,   1.8530,2,   11.23,2, -999.00,9,  -999.0,9,  -999.0,   7.938,2,   0.037,     -999.0,9, -999.00,9, -999.00,9, -999.00,9,     -999.0,1,  -999.0,9, 20130522,     1723,  29.9999,-139.5088,    34.1607,2,     -999.0,9,     -999.0,9,     6.6028,2,     -999.0,9,     -999.0,9,   0.0078,    0.15,   0.011
318M20130321,       P02E,     120,          1,         22,         22,2,20130522,       1545,    30.0001,  -139.5087,       4828,   605.8,   5.3397,  34.0546,2,  34.0545,2,     58.5,2,    59.7,2,   75.49,2,   38.28,2,       0,2,    2.79,2,-999.000,9,-999.000,9,-999.000,9,-999.0000,9,  2284.5,2, 2299.02,2,    7.353,2,       25,   0.323,2,   1.8535,2,   15.55,2, -999.00,9,  -999.0,9,  -999.0,   7.994,2,   0.037,     -999.0,9, -999.00,9, -999.00,9, -999.00,9,     -999.0,9,  -999.0,9, 20130522,     1720,  29.9998,-139.5086,     34.215,2,     -999.0,9,     -999.0,9,     5.3398,2,     -999.0,9,     -999.0,9,   0.0078,    0.15,   0.011
318M20130321,       P02E,     120,          1,         21,         21,2,20130522,       1545,    30.0001,  -139.5087,       4828,   703.7,   4.7084,  34.1622,2,  34.1615,2,       30,2,    28.1,2,   93.25,2,   41.71,2,       0,2,    3.06,2,   0.463,2,   0.228,2,-999.000,1,   0.0934,2,  2321.1,2, 2319.72,2,   7.2996,2,       25,   0.180,2,   1.8691,2,   16.76,2, -999.00,9,  -999.0,9,  -999.0,   8.027,2,   0.037,     -999.0,9, -999.00,9, -999.00,9, -999.00,9,     -999.0,1,  -999.0,9, 20130522,     1717,  29.9999,-139.5086,    34.3226,2,     -999.0,9,     -999.0,9,     4.7084,2,     -999.0,9,     -999.0,9,   0.0079,    0.15,   0.009
318M20130321,       P02E,     120,          1,         20,         20,2,20130522,       1545,    30.0001,  -139.5087,       4828,   805.6,   4.3113,  34.2619,2,  34.2619,2,     14.3,2,    14.8,2,  106.72,2,   43.22,2,       0,2,    3.18,2,-999.000,9,-999.000,9,-999.000,9,-999.0000,9,  2344.5,2, 2338.73,2,   7.2874,2,       25,-999.000,9,-999.0000,9, -999.00,9, -999.00,9,  -999.0,9,  -999.0,-999.000,9,-999.000,     -999.0,9, -999.00,9, -999.00,9, -999.00,9,     -999.0,9,  -999.0,9, 20130522,     1714,  29.9996,-139.5087,    34.4234,2,     -999.0,9,     -999.0,9,     4.3112,2,     -999.0,9,     -999.0,9,-999.0000, -999.00,-999.000
318M20130321,       P02E,     120,          1,         19,         19,2,20130522,       1545,    30.0001,  -139.5087,       4828,   906.1,   3.9864,  34.3396,2,  34.3419,2,     11.1,2,    11.6,2,  116.47,2,   43.86,2,       0,2,    3.23,2,   0.033,2,   0.019,2,-999.000,1,        0,2,  2358.6,2, 2353.94,2,     7.29,2,       25,   0.017,2,   1.8997,2,   16.02,2, -999.00,9,  -999.0,9,  -999.0,   8.108,2,   0.037,     -999.0,9, -999.00,9, -999.00,9, -999.00,9,     -999.0,1,  -999.0,9, 20130522,     1712,  29.9995,-139.5088,    34.5038,2,     -999.0,9,     -999.0,9,     3.9872,2,     -999.0,9,     -999.0,9,   0.0080,    0.15,   0.009
318M20130321,       P02E,     120,          1,         18,         18,2,20130522,       1545,    30.0001,  -139.5087,       4828,  1008.1,   3.7233,  34.4093,2,  34.4094,2,     15.2,2,    16.3,2,   123.3,2,   43.93,2,       0,2,    3.23,2,-999.000,9,-999.000,9,-999.000,9,-999.0000,9,  2363.4,2, 2364.14,2,   7.3123,2,       25,-999.000,9,-999.0000,9, -999.00,9, -999.00,9,  -999.0,9,  -999.0,-999.000,9,-999.000,     -999.0,9, -999.00,9, -999.00,9, -999.00,9,     -999.0,9,  -999.0,9, 20130522,     1709,  29.9995,-139.5089,    34.5717,2,     -999.0,9,     -999.0,9,     3.7246,2,     -999.0,9,     -999.0,9,-999.0000, -999.00,-999.000
318M20130321,       P02E,     120,          1,         17,         17,2,20130522,       1545,    30.0001,  -139.5087,       4828,  1109.8,   3.5113,  34.4552,2,  34.4553,2,     23.5,2,    23.1,2,  128.47,2,   43.74,2,       0,2,    3.18,2,   0.013,2,   0.008,2,-999.000,1,   0.0886,2,  2366.9,2, 2373.24,2,   7.3284,2,       25,   0.005,6,   1.9067,2,   19.03,2, -999.00,9,  -999.0,9,  -999.0,   8.030,2,   0.037,     -999.0,9, -999.00,9, -999.00,9, -999.00,9,     -999.0,1,  -999.0,9, 20130522,     1706,  29.9998,-139.5087,    34.6178,2,     -999.0,9,     -999.0,9,     3.5115,2,     -999.0,9,     -999.0,9,   0.0080,    0.15,   0.009
318M20130321,       P02E,     120,          1,         16,         16,2,20130522,       1545,    30.0001,  -139.5087,       4828,  1208.4,   3.2828,  34.4913,2,  34.4911,2,     31.5,2,      32,2,  133.74,2,   43.43,2,       0,2,    3.14,2,-999.000,9,-999.000,9,-999.000,9,-999.0000,9,  -999.0,9, -999.00,9,-999.0000,9,  -999.00,-999.000,9,-999.0000,9, -999.00,9, -999.00,9,  -999.0,9,  -999.0,-999.000,9,-999.000,     -999.0,9, -999.00,9, -999.00,9, -999.00,9,     -999.0,1,  -999.0,9, 20130522,     1703,  29.9998,-139.5087,    34.6537,2,     -999.0,9,     -999.0,9,      3.284,2,     -999.0,9,     -999.0,9,-999.0000, -999.00,-999.000
318M20130321,       P02E,     120,          1,         15,         15,2,20130522,       1545,    30.0001,  -139.5087,       4828,  1310.4,   3.0739,  34.5179,2,  34.5176,2,     39.9,2,      39,2,  137.94,2,    43.1,2,       0,2,    3.11,2,   0.012,2,   0.008,2,-999.000,1,        0,2,  2370.1,2, 2388.85,2,    7.368,2,       25,   0.014,2,   1.9240,2,   21.08,2, -999.00,9,  -999.0,9,  -999.0,   8.127,2,   0.037,     -999.0,9, -999.00,9, -999.00,9, -999.00,9,     -999.0,1,  -999.0,9, 20130522,     1700,  29.9996,-139.5089,    34.6803,2,     -999.0,9,     -999.0,9,     3.0749,2,     -999.0,9,     -999.0,9,   0.0081,    0.15,   0.009
318M20130321,       P02E,     120,          1,         14,         14,2,20130522,       1545,    30.0001,  -139.5087,       4828,  1410.8,   2.8633,  34.5411,2,   34.541,2,     46.4,2,    47.4,2,  143.11,2,   42.64,2,       0,2,    3.07,2,-999.000,9,-999.000,9,-999.000,9,-999.0000,9,  -999.0,9, -999.00,9,-999.0000,9,  -999.00,-999.000,9,-999.0000,9, -999.00,9, -999.00,9,  -999.0,9,  -999.0,-999.000,9,-999.000,     -999.0,9, -999.00,9, -999.00,9, -999.00,9,     -999.0,1,  -999.0,9, 20130522,     1657,  29.9994,-139.5091,    34.7038,2,     -999.0,9,     -999.0,9,     2.8628,2,     -999.0,9,     -999.0,9,-999.0000, -999.00,-999.000
318M20130321,       P02E,     120,          1,         13,         13,2,20130522,       1545,    30.0001,  -139.5087,       4828,  1613.1,    2.513,  34.5745,2,  34.5749,2,     60.8,2,      60,2,   151.4,2,   41.94,2,       0,2,    3.01,2,   0.008,2,   0.004,2,-999.000,1,        0,2,  2371.7,2, 2403.25,2,   7.4111,2,       25,  -0.007,2,   1.9408,2,   22.37,2, -999.00,9,  -999.0,9,  -999.0,   8.215,2,   0.038,     -999.0,9, -999.00,9, -999.00,9, -999.00,9,     -999.0,1,  -999.0,9, 20130522,     1653,  29.9995,-139.5092,     34.738,2,     -999.0,9,     -999.0,9,     2.5135,2,     -999.0,9,     -999.0,9,   0.0082,    0.15,   0.009
318M20130321,       P02E,     120,          1,         12,         12,2,20130522,       1545,    30.0001,  -139.5087,       4828,  1864.2,     2.15,  34.6067,2,  34.6083,2,     74.1,2,    74.6,2,  161.16,2,   41.09,2,       0,2,    2.93,2,-999.000,9,-999.000,9,-999.000,9,-999.0000,9,  2371.5,6, 2413.46,2,   7.4323,2,       25,   0.002,2,   1.9523,2,   22.69,2, -999.00,9,  -999.0,9,  -999.0,   8.184,2,   0.038,     -999.0,9, -999.00,9, -999.00,9, -999.00,9,     -999.0,9,  -999.0,9, 20130522,     1648,  29.9997, -139.509,    34.7715,2,     -999.0,9,     -999.0,9,     2.1474,2,     -999.0,9,     -999.0,9,   0.0082,    0.15,   0.009
318M20130321,       P02E,     120,          1,         11,         11,2,20130522,       1545,    30.0001,  -139.5087,       4828,  2168.5,   1.9039,  34.6297,2,  34.6299,2,     88.1,2,    86.9,2,   167.3,2,   40.29,2,       0,2,    2.87,2,   0.011,2,   0.006,2,-999.000,1,        0,2,  2369.2,2, 2419.76,2,   7.4581,2,       25,   0.010,2,   1.8976,2,   22.58,2, -999.00,9,  -999.0,9,  -999.0,   8.140,2,   0.037,     -999.0,9, -999.00,9, -999.00,9, -999.00,9,     -999.0,9,  -999.0,9, 20130522,     1642,  29.9994,-139.5091,    34.7932,2,     -999.0,9,     -999.0,9,     1.9042,2,     -999.0,9,     -999.0,9,   0.0080,    0.15,   0.009
318M20130321,       P02E,     120,          1,         10,         10,2,20130522,       1545,    30.0001,  -139.5087,       4828,  2469.4,   1.7315,  34.6468,2,  34.6466,2,    101.5,2,   100.8,2,  169.35,2,   39.44,2,       0,2,    2.78,2,-999.000,9,-999.000,9,-999.000,9,-999.0000,9,  -999.0,9, -999.00,9,-999.0000,9,  -999.00,-999.000,9,-999.0000,9, -999.00,9, -999.00,9,  -999.0,9,  -999.0,-999.000,9,-999.000,     -999.0,9, -999.00,9, -999.00,9, -999.00,9,     -999.0,9,  -999.0,9, 20130522,     1636,  29.9996,-139.5084,      34.81,2,     -999.0,9,     -999.0,9,     1.7318,2,     -999.0,9,     -999.0,9,-999.0000, -999.00,-999.000
318M20130321,       P02E,     120,          1,          9,          9,2,20130522,       1545,    30.0001,  -139.5087,       4828,  2778.5,   1.6237,  34.6581,2,   34.658,2,    111.6,2,     112,2,  169.35,2,   38.75,2,       0,2,    2.73,2,   0.005,2,   0.002,2,-999.000,1,        0,2,  2358.1,2, 2426.26,2,   7.5043,2,       25,-999.000,9,-999.0000,9, -999.00,9, -999.00,9,  -999.0,9,  -999.0,-999.000,9,-999.000,     -999.0,9, -999.00,9, -999.00,9, -999.00,9,     -999.0,1,  -999.0,9, 20130522,     1630,  29.9999,-139.5091,    34.8215,2,     -999.0,9,     -999.0,9,     1.6233,2,     -999.0,9,     -999.0,9,-999.0000, -999.00,-999.000
318M20130321,       P02E,     120,          1,          8,          8,2,20130522,       1545,    30.0001,  -139.5087,       4828,  3034.5,   1.5627,  34.6659,2,  34.6657,2,    120.3,2,   120.2,2,  168.08,2,   38.22,2,       0,2,    2.68,2,-999.000,9,-999.000,9,-999.000,9,-999.0000,9,  -999.0,9, -999.00,9,-999.0000,9,  -999.00,-999.000,9,-999.0000,9, -999.00,9, -999.00,9,  -999.0,9,  -999.0,-999.000,9,-999.000,     -999.0,9, -999.00,9, -999.00,9, -999.00,9,     -999.0,9,  -999.0,9, 20130522,     1624,  29.9999,-139.5093,    34.8292,2,     -999.0,9,     -999.0,9,     1.5625,2,     -999.0,9,     -999.0,9,-999.0000, -999.00,-999.000
318M20130321,       P02E,     120,          1,          7,          7,2,20130522,       1545,    30.0001,  -139.5087,       4828,  3343.7,   1.5204,  34.6728,2,  34.6724,2,    128.6,2,   129.1,2,  166.13,2,   37.69,2,       0,2,    2.64,2,   0.005,2,   0.006,2,-999.000,1,        0,2,  2345.4,2, 2425.76,2,   7.5354,2,       25,-999.000,9,-999.0000,9, -999.00,9, -999.00,9,  -999.0,9,  -999.0,-999.000,9,-999.000,     -999.0,9, -999.00,9, -999.00,9, -999.00,9,     -999.0,9,  -999.0,9, 20130522,     1618,  29.9994,-139.5093,    34.8359,2,     -999.0,9,     -999.0,9,     1.5202,2,     -999.0,9,     -999.0,9,-999.0000, -999.00,-999.000
318M20130321,       P02E,     120,          1,          6,          6,2,20130522,       1545,    30.0001,  -139.5087,       4828,  3646.6,   1.4987,  34.6782,2,  34.6775,2,      135,2,   135.7,2,  165.05,2,   37.26,2,       0,2,    2.59,2,-999.000,9,-999.000,9,-999.000,9,-999.0000,9,  2342.3,2, 2425.26,2,   7.5492,6,       25,-999.000,9,-999.0000,9, -999.00,9, -999.00,9,  -999.0,9,  -999.0,-999.000,9,-999.000,     -999.0,9, -999.00,9, -999.00,9, -999.00,9,     -999.0,1,  -999.0,9, 20130522,     1611,  29.9995,-139.5089,     34.841,2,     -999.0,9,     -999.0,9,     1.4986,2,     -999.0,9,     -999.0,9,-999.0000, -999.00,-999.000