BOTTLE,20220817CCHSIOAMB
EXPOCODE,SECT_ID,STNNBR,CASTNO,SAMPNO,BTLNBR,BTLNBR_FLAG_W,DATE,TIME,LATITUDE,LONGITUDE,DEPTH,CTDPRS,CTDTMP,CTDSAL,CTDSAL_FLAG_W,SALNTY,SALNTY_FLAG_W,CTDOXY,CTDOXY_FLAG_W,OXYGEN,OXYGEN_FLAG_W,SILCAT,SILCAT_FLAG_W,NITRAT,NITRAT_FLAG_W,NITRIT,NITRIT_FLAG_W,PHSPHT,PHSPHT_FLAG_W,CFC-11,CFC-11_FLAG_W,CFC-12,CFC-12_FLAG_W,CFC113,CFC113_FLAG_W,SF6,SF6_FLAG_W,TCARBN,TCARBN_FLAG_W,ALKALI,ALKALI_FLAG_W,PH_TOT,PH_TOT_FLAG_W,PH_TMP,TRITUM,TRITUM_FLAG_W,HELIUM,HELIUM_FLAG_W,DELHE3,DELHE3_FLAG_W,DELC13,DELC13_FLAG_W,DELC14,DELC14_FLAG_W,C14ERR,NEON,NEON_FLAG_W,NEONER,I-129,I-129_FLAG_W,SR-90,SR-90_FLAG_W,DOC,DOC_FLAG_W,TDN,TDN_FLAG_W,CALCIUM,CALCIUM_FLAG_W,D15N_NO3,D15N_NO3_FLAG_W,BTL_DATE,BTL_TIME,BTL_LAT,BTL_LON,SALTREF,SALTREF_FLAG_W,CS-137,CS-137_FLAG_W,CS-134,CS-134_FLAG_W,REFTMP,REFTMP_FLAG_W,LAB_DEN,LAB_DEN_FLAG_W,D18O_NO3,D18O_NO3_FLAG_W,HELIER,DELHER,TRITER
,,,,,,,,,,,METERS,DBAR,ITS-90,PSS-78,,PSS-78,,UMOL/KG,,UMOL/KG,,UMOL/KG,,UMOL/KG,,UMOL/KG,,UMOL/KG,,PMOL/KG,,PMOL/KG,,PMOL/KG,,FMOL/KG,,UMOL/KG,,UMOL/KG,,,,DEG C,TU,,NMOL/KG,,PERCNT,,/MILLE,,/MILLE,,/MILLE,NMOL/KG,,NMOL/KG,BQ/M^3,,DM/.1MG,,UMOL/KG,,UMOL/KG,,MMOL/KG,,/MILLE,,,,,,G/KG,,BQ/M^3,,BQ/M^3,,ITS-90,,,,/MILLE,,NMOL/KG,PERCNT,TU
318M20130321,       P02W,      69,          1,          6,          6,2,20130427,       0241,    30.0004,   176.5319,       5219,  3447.1,   1.4631,  34.6767,2,  34.6774,2,    140.6,2,   140.3,2,  157.64,2,   36.73,2,       0,2,    2.57,2,   0.000,2,   0.008,2,   0.001,2,     0.06,2,  -999.0,9, -999.00,9,-999.0000,9,  -999.00,-999.000,9,-999.0000,9, -999.00,9, -999.00,9,  -999.0,9,  -999.0,-999.000,9,-999.000,     -999.0,9, -999.00,9, -999.00,9, -999.00,9,     -999.0,9,  -999.0,9, 20130427,      317,  30.0001, 176.5317,     34.841,2,     -999.0,9,     -999.0,9,      1.463,2,     -999.0,9,     -999.0,9,-999.0000, -999.00,-999.000
318M20130321,       P02W,      69,          1,          5,         37,2,20130427,       0241,    30.0004,   176.5319,       5219,  3787.9,   1.4498,  34.6823,2,  34.6831,2,    147.3,2,   146.6,2,  155.19,2,   36.33,2,       0,2,     2.5,3,-999.000,9,-999.000,9,-999.000,9,-999.0000,9,  2328.4,2, 2417.66,6,   7.5696,2,       25,-999.000,9,-999.0000,9, -999.00,9, -999.00,9,  -999.0,9,  -999.0,-999.000,9,-999.000,     -999.0,9, -999.00,9,   37.55,2, -999.00,9,     -999.0,9,  -999.0,9, 20130427,      310,  29.9999, 176.5321,    34.8467,2,     -999.0,9,     -999.0,9,       1.45,2,     -999.0,9,     -999.0,9,-999.0000, -999.00,-999.000
318M20130321,       P02W,      69,          1,          4,          4,2,20130427,       0241,    30.0004,   176.5319,       5219,  4199.9,   1.4488,  34.6868,2,  34.6877,2,    153.9,2,   153.5,2,  152.46,2,   35.85,2,       0,2,    2.52,2,   0.000,2,   0.009,2,   0.004,2,      0.1,2,  -999.0,9, -999.00,9,-999.0000,9,  -999.00,-999.000,9,-999.0000,9, -999.00,9, -999.00,9,  -999.0,9,  -999.0,-999.000,9,-999.000,     -999.0,9, -999.00,9, -999.00,9, -999.00,9,     -999.0,9,  -999.0,9, 20130427,      303,  30.0005, 176.5322,    34.8512,2,     -999.0,9,     -999.0,9,     1.4491,2,     -999.0,9,     -999.0,9,-999.0000, -999.00,-999.000
318M20130321,       P02W,      69,          1,          3,          3,2,20130427,       0241,    30.0004,   176.5319,       5219,  4613.6,   1.4512,  34.6913,2,  34.6906,2,    161.4,2,   161.1,2,  146.51,2,   35.34,2,       0,2,    2.48,2,   0.000,2,   0.007,2,   0.003,2,      0.1,2,  2315.2,2, 2411.96,2,   7.5826,6,       25,-999.000,9,-999.0000,9, -999.00,9, -999.00,9,  -999.0,9,  -999.0,-999.000,9,-999.000,     -999.0,9, -999.00,9,   37.82,2, -999.00,9,     -999.0,9,  -999.0,9, 20130427,      255,  30.0006, 176.5324,    34.8542,2,     -999.0,9,     -999.0,9,     1.4514,2,     -999.0,9,     -999.0,9,-999.0000, -999.00,-999.000
318M20130321,       P02W,      69,          1,          2,          2,2,20130427,       0241,    30.0004,   176.5319,       5219,  5027.4,   1.4618,  34.6947,2,   34.695,2,    167.9,2,   168.6,2,  140.65,2,   34.79,2,       0,2,    2.44,2,   0.000,2,   0.011,2,   0.006,2,        0,2,  2307.2,2, 2407.06,2,   7.5937,2,       25,-999.000,9,-999.0000,9, -999.00,9, -999.00,9,  -999.0,9,  -999.0,-999.000,9,-999.000,     -999.0,9, -999.00,9,   39.78,2, -999.00,9,     -999.0,9,  -999.0,9, 20130427,      247,  30.0003, 176.5321,    34.8586,2,     -999.0,9,     -999.0,9,      1.462,2,     -999.0,9,     -999.0,9,-999.0000, -999.00,-999.000
318M20130321,       P02W,      69,          1,          1,          1,2,20130427,       0241,    30.0004,   176.5319,       5219,  5301.6,   1.4861,  34.6954,2,  34.6954,2,    170.2,2,   170.1,2,   138.8,2,    34.7,2,       0,2,    2.43,2,   0.002,2,   0.010,2,   0.010,2,     0.07,2,  2306.4,6, 2406.35,2,    7.592,2,       25,-999.000,9,-999.0000,9, -999.00,9, -999.00,9,  -999.0,9,  -999.0,-999.000,9,-999.000,     -999.0,9, -999.00,9,      39,2, -999.00,9,     -999.0,9,  -999.0,9, 20130427,      241,  30.0004, 176.5319,     34.859,2,     -999.0,9,     -999.0,9,     1.4862,2,     -999.0,9,     -999.0,9,-999.0000, -999.00,-999.000