BOTTLE,20220817CCHSIOAMB
EXPOCODE,SECT_ID,STNNBR,CASTNO,SAMPNO,BTLNBR,BTLNBR_FLAG_W,DATE,TIME,LATITUDE,LONGITUDE,DEPTH,CTDPRS,CTDTMP,CTDSAL,CTDSAL_FLAG_W,SALNTY,SALNTY_FLAG_W,CTDOXY,CTDOXY_FLAG_W,OXYGEN,OXYGEN_FLAG_W,SILCAT,SILCAT_FLAG_W,NITRAT,NITRAT_FLAG_W,NITRIT,NITRIT_FLAG_W,PHSPHT,PHSPHT_FLAG_W,CFC-11,CFC-11_FLAG_W,CFC-12,CFC-12_FLAG_W,CFC113,CFC113_FLAG_W,SF6,SF6_FLAG_W,TCARBN,TCARBN_FLAG_W,ALKALI,ALKALI_FLAG_W,PH_TOT,PH_TOT_FLAG_W,PH_TMP,TRITUM,TRITUM_FLAG_W,HELIUM,HELIUM_FLAG_W,DELHE3,DELHE3_FLAG_W,DELC13,DELC13_FLAG_W,DELC14,DELC14_FLAG_W,C14ERR,NEON,NEON_FLAG_W,NEONER,I-129,I-129_FLAG_W,SR-90,SR-90_FLAG_W,DOC,DOC_FLAG_W,TDN,TDN_FLAG_W,CALCIUM,CALCIUM_FLAG_W,D15N_NO3,D15N_NO3_FLAG_W,BTL_DATE,BTL_TIME,BTL_LAT,BTL_LON,SALTREF,SALTREF_FLAG_W,CS-137,CS-137_FLAG_W,CS-134,CS-134_FLAG_W,REFTMP,REFTMP_FLAG_W,LAB_DEN,LAB_DEN_FLAG_W,D18O_NO3,D18O_NO3_FLAG_W,HELIER,DELHER,TRITER
,,,,,,,,,,,METERS,DBAR,ITS-90,PSS-78,,PSS-78,,UMOL/KG,,UMOL/KG,,UMOL/KG,,UMOL/KG,,UMOL/KG,,UMOL/KG,,PMOL/KG,,PMOL/KG,,PMOL/KG,,FMOL/KG,,UMOL/KG,,UMOL/KG,,,,DEG C,TU,,NMOL/KG,,PERCNT,,/MILLE,,/MILLE,,/MILLE,NMOL/KG,,NMOL/KG,BQ/M^3,,DM/.1MG,,UMOL/KG,,UMOL/KG,,MMOL/KG,,/MILLE,,,,,,G/KG,,BQ/M^3,,BQ/M^3,,ITS-90,,,,/MILLE,,NMOL/KG,PERCNT,TU
318M20130321,       P02W,      85,          1,         36,         36,2,20130502,       0723,    30.0002,  -169.7624,       5467,     3.2,  17.7768,  34.6877,2,  34.6877,2,    239.8,2,   239.4,2,    2.73,2,       0,2,       0,2,    0.08,2,   2.573,2,   1.547,2,   0.214,2,     1.86,2,    2014,2, 2277.61,2,   7.9881,2,       25,-999.000,9,-999.0000,9, -999.00,9,    0.66,2,    49.4,2,     2.9,-999.000,9,-999.000,     -999.0,9, -999.00,9,    59.5,2,    3.67,2,     -999.0,9,  -999.0,9, 20130502,      928,  29.9984,-169.7616,    34.8513,2,     -999.0,9,     -999.0,9,    17.7774,2,     -999.0,1,     -999.0,9,-999.0000, -999.00,-999.000
318M20130321,       P02W,      85,          1,         34,         34,2,20130502,       0723,    30.0002,  -169.7624,       5467,    21.6,  17.7844,  34.6903,2,  34.6907,2,    239.9,2,   239.4,2,    2.73,2,       0,2,       0,2,    0.07,2,   2.558,2,   1.545,2,   0.216,2,     1.69,2,  -999.0,9, -999.00,9,-999.0000,9,  -999.00,-999.000,9,-999.0000,9, -999.00,9, -999.00,9,  -999.0,9,  -999.0,-999.000,9,-999.000,     -999.0,9, -999.00,9,   59.04,2, -999.00,5,     -999.0,9,  -999.0,9, 20130502,      926,  29.9984,-169.7619,    34.8542,2,     -999.0,9,     -999.0,9,    17.7842,2,     -999.0,9,     -999.0,9,-999.0000, -999.00,-999.000
318M20130321,       P02W,      85,          1,         33,         33,2,20130502,       0723,    30.0002,  -169.7624,       5467,    42.1,  17.6887,  34.7028,2,  34.7038,2,    240.6,2,   239.4,2,    2.64,2,       0,2,       0,2,     0.1,2,   2.548,2,   1.558,2,   0.221,2,     1.62,2,  2019.3,3, 2278.41,6,   7.9877,2,       25,-999.000,9,-999.0000,9, -999.00,9, -999.00,9,  -999.0,9,  -999.0,-999.000,9,-999.000,     -999.0,9, -999.00,9,   58.93,2,     3.8,2,     -999.0,9,  -999.0,9, 20130502,      925,  29.9985,-169.7622,    34.8675,2,     -999.0,9,     -999.0,9,    17.6884,2,     -999.0,1,     -999.0,9,-999.0000, -999.00,-999.000
318M20130321,       P02W,      85,          1,         32,         32,2,20130502,       0723,    30.0002,  -169.7624,       5467,    67.7,  17.6493,  34.7159,2,  34.7141,2,    239.8,2,   239.9,2,    2.64,2,       0,2,       0,2,    0.07,2,   2.569,2,   1.577,2,   0.219,2,     1.61,2,  2018.4,3, 2278.21,2,   7.9885,6,       25,-999.000,9,-999.0000,9, -999.00,9,    0.71,2,    51.3,2,     3.2,-999.000,9,-999.000,     -999.0,9, -999.00,9,   59.69,2,    4.36,2,     -999.0,9,  -999.0,9, 20130502,      923,  29.9986,-169.7625,    34.8778,2,     -999.0,9,     -999.0,9,    17.6458,2,     -999.0,1,     -999.0,9,-999.0000, -999.00,-999.000
318M20130321,       P02W,      85,          1,         31,         31,2,20130502,       0723,    30.0002,  -169.7624,       5467,    92.4,  16.6848,  34.5948,2,   34.597,2,    225.6,2,   224.8,2,    3.61,2,    2.07,2,    0.07,2,    0.24,2,   2.680,2,   1.612,2,   0.179,2,     1.74,2,  2030.8,2, 2270.91,2,   7.9492,2,       25,-999.000,9,-999.0000,9, -999.00,9,    0.55,2,    51.9,2,     2.8,-999.000,9,-999.000,     -999.0,9, -999.00,9,   50.33,2,    5.43,2,     -999.0,9,  -999.0,9, 20130502,      922,  29.9988,-169.7626,    34.7601,2,     -999.0,9,     -999.0,9,    16.6833,2,     -999.0,1,     -999.0,9,-999.0000, -999.00,-999.000
318M20130321,       P02W,      85,          1,         30,         30,2,20130502,       0723,    30.0002,  -169.7624,       5467,   136.1,  15.8042,  34.5366,2,  34.5371,2,    217.3,2,   225.1,3,    4.49,2,    3.71,2,    0.03,2,    0.28,2,   2.754,2,   1.651,2,   0.160,2,     1.48,2,  -999.0,9, -999.00,9,-999.0000,9,  -999.00,-999.000,9,-999.0000,9, -999.00,9, -999.00,9,  -999.0,9,  -999.0,-999.000,9,-999.000,     -999.0,9, -999.00,9,   48.69,2,    7.33,2,     -999.0,9,  -999.0,9, 20130502,      920,  29.9991,-169.7625,    34.6999,2,     -999.0,9,     -999.0,9,    15.7966,2,     -999.0,9,     -999.0,9,-999.0000, -999.00,-999.000
318M20130321,       P02W,      85,          1,         29,         29,2,20130502,       0723,    30.0002,  -169.7624,       5467,   188.5,   14.922,    34.49,2,  34.4917,2,    212.9,2,   213.8,2,    6.64,2,    6.62,2,    0.02,2,    0.46,2,   2.878,2,   1.710,2,   0.081,2,      1.5,2,  2055.9,3, 2266.91,2,   7.8927,2,       25,-999.000,9,-999.0000,9, -999.00,9,    0.38,2,    52.8,2,     2.7,-999.000,9,-999.000,     -999.0,9, -999.00,9,   47.07,2,   10.13,2,     -999.0,9,  -999.0,9, 20130502,      918,  29.9995,-169.7624,    34.6543,2,     -999.0,9,     -999.0,9,    14.9296,2,     -999.0,1,     -999.0,9,-999.0000, -999.00,-999.000
318M20130321,       P02W,      85,          1,         28,         28,2,20130502,       0723,    30.0002,  -169.7624,       5467,   238.6,   13.868,  34.4291,2,  34.4299,2,    213.6,2,   213.5,2,    9.08,2,     8.6,2,    0.01,2,    0.59,2,   3.021,2,   1.760,2,   0.088,2,     1.46,2,  -999.0,9, -999.00,9,-999.0000,9,  -999.00,-999.000,9,-999.0000,9, -999.00,9, -999.00,9,  -999.0,9,  -999.0,-999.000,9,-999.000,     -999.0,9, -999.00,9,   44.33,2,   12.28,2,     -999.0,9,  -999.0,9, 20130502,      917,  29.9997,-169.7624,    34.5922,2,     -999.0,9,     -999.0,9,    13.8654,2,     -999.0,9,     -999.0,9,-999.0000, -999.00,-999.000
318M20130321,       P02W,      85,          1,         27,         27,2,20130502,       0723,    30.0002,  -169.7624,       5467,   284.4,  13.0317,  34.3768,2,  34.3783,2,    211.3,2,   212.1,2,   11.23,2,   10.21,2,    0.01,2,    0.68,2,   3.104,2,   1.808,2,   0.080,2,     1.47,2,  2075.8,2,  2265.8,2,   7.8392,6,       25,-999.000,9,-999.0000,9, -999.00,9,    0.29,2,    43.8,2,     3.4,-999.000,9,-999.000,     -999.0,9, -999.00,9,   42.62,2,   13.25,2,     -999.0,9,  -999.0,9, 20130502,      915,       30,-169.7624,    34.5404,2,     -999.0,9,     -999.0,9,    13.0292,2,     -999.0,1,     -999.0,9,-999.0000, -999.00,-999.000
318M20130321,       P02W,      85,          1,         26,         26,2,20130502,       0723,    30.0002,  -169.7624,       5467,   335.5,  11.9106,   34.305,2,  34.3049,2,    211.4,2,   211.3,2,   14.25,2,   12.33,2,    0.01,2,    0.86,2,   3.230,2,   1.882,2,   0.089,2,     1.47,2,  -999.0,9, -999.00,9,-999.0000,9,  -999.00,-999.000,9,-999.0000,9, -999.00,9, -999.00,9,  -999.0,9,  -999.0,-999.000,9,-999.000,     -999.0,9, -999.00,9,   42.93,2,   15.75,2,     -999.0,9,  -999.0,9, 20130502,      913,  30.0002,-169.7624,    34.4666,2,     -999.0,9,     -999.0,9,    11.9143,2,     -999.0,9,     -999.0,9,-999.0000, -999.00,-999.000
318M20130321,       P02W,      85,          1,         25,         25,2,20130502,       0723,    30.0002,  -169.7624,       5467,   386.4,  11.0788,  34.2491,2,  34.2388,2,    209.7,2,   208.7,2,   17.67,2,   14.33,2,       0,2,    0.99,2,   0.000,4,   0.000,4,   0.000,4,     1.33,4,  2104.1,2,  2265.2,2,   7.7738,2,       25,-999.000,9,-999.0000,9, -999.00,9,    0.26,2,    24.2,2,     3.3,-999.000,9,-999.000,     -999.0,9, -999.00,9,   41.47,2, -999.00,9,     -999.0,9,  -999.0,9, 20130502,      911,  30.0003,-169.7624,    34.4002,2,     -999.0,9,     -999.0,9,    11.0955,2,     -999.0,1,     -999.0,9,-999.0000, -999.00,-999.000
318M20130321,       P02W,      85,          1,         24,         24,2,20130502,       0723,    30.0002,  -169.7624,       5467,     468,   9.2036,   34.118,2,  34.1157,2,    197.1,2,   192.9,2,   27.15,2,   19.17,2,       0,2,    1.36,2,-999.000,9,-999.000,9,-999.000,9,-999.0000,9,  -999.0,9, -999.00,9,-999.0000,9,  -999.00,-999.000,9,   1.8130,2,    4.70,2, -999.00,9,  -999.0,9,  -999.0,   7.650,2,   0.035,     -999.0,9, -999.00,9,    42.5,2, -999.00,9,     -999.0,9,  -999.0,9, 20130502,      909,  30.0003,-169.7624,    34.2765,2,     -999.0,9,     -999.0,9,     9.2057,2,     -999.0,9,     -999.0,9,   0.0076,    0.15,-999.000
318M20130321,       P02W,      85,          1,         23,         23,2,20130502,       0723,    30.0002,  -169.7624,       5467,   568.7,   7.2599,  34.0246,2,  34.0253,2,    155.7,2,   154.6,2,   44.92,2,   26.25,2,       0,2,    1.88,2,   2.601,2,   1.395,2,   0.111,2,     0.73,2,  2187.8,2, 2278.41,2,   7.5836,2,       25,-999.000,9,-999.0000,9, -999.00,9,   -0.04,2,   -29.3,2,     3.4,-999.000,9,-999.000,     -999.0,9, -999.00,9,   42.23,2, -999.00,9,     -999.0,9,  -999.0,9, 20130502,      907,  30.0003,-169.7624,    34.1858,2,     -999.0,9,     -999.0,9,     7.2677,2,     -999.0,1,     -999.0,9,-999.0000, -999.00,-999.000
318M20130321,       P02W,      85,          1,         22,         22,2,20130502,       0723,    30.0002,  -169.7624,       5467,   670.4,   5.5184,  34.0157,2,  34.0173,2,    107.2,2,   107.2,2,   69.73,2,   33.61,2,       0,2,    2.45,2,-999.000,9,-999.000,9,-999.000,9,-999.0000,9,    2250,2, 2295.02,2,   7.4548,2,       25,-999.000,9,-999.0000,9, -999.00,9,   -0.27,2,   -92.0,2,     2.5,-999.000,9,-999.000,     -999.0,9, -999.00,9,   38.74,2, -999.00,9,     -999.0,9,  -999.0,9, 20130502,      904,  30.0003,-169.7624,    34.1777,2,     -999.0,9,     -999.0,9,     5.5218,2,     -999.0,1,     -999.0,9,-999.0000, -999.00,-999.000
318M20130321,       P02W,      85,          1,         21,         21,2,20130502,       0723,    30.0002,  -169.7624,       5467,   772.4,   4.7316,  34.0885,2,  34.0892,2,     61.2,2,    64.4,2,   88.08,2,   38.71,2,       0,2,    2.81,2,   0.000,4,   0.000,4,   0.000,4,      0.2,4,  -999.0,9, -999.00,9,-999.0000,9,  -999.00,-999.000,9,-999.0000,9, -999.00,9, -999.00,9,  -999.0,9,  -999.0,-999.000,9,-999.000,     -999.0,9, -999.00,9,   37.09,2, -999.00,9,     -999.0,9,  -999.0,9, 20130502,      901,  30.0003,-169.7624,      34.25,2,     -999.0,9,     -999.0,9,     4.7306,2,     -999.0,9,     -999.0,9,-999.0000, -999.00,-999.000
318M20130321,       P02W,      85,          1,         20,         20,2,20130502,       0723,    30.0002,  -169.7624,       5467,   868.9,   4.0768,  34.1938,2,  34.1939,2,     32.8,2,    31.1,2,   107.8,2,   42.33,2,       0,2,    3.07,2,-999.000,9,-999.000,9,-999.000,9,-999.0000,9,  2334.4,2, 2335.53,2,    7.309,2,       25,-999.000,9,-999.0000,9, -999.00,9,   -0.54,2,  -165.0,2,     2.3,-999.000,9,-999.000,     -999.0,9, -999.00,9,   36.92,2, -999.00,9,     -999.0,9,  -999.0,9, 20130502,      859,  30.0003,-169.7624,    34.3551,2,     -999.0,9,     -999.0,9,     4.0755,2,     -999.0,1,     -999.0,9,-999.0000, -999.00,-999.000
318M20130321,       P02W,      85,          1,         19,         19,2,20130502,       0723,    30.0002,  -169.7624,       5467,   969.4,   3.7113,  34.2873,2,  34.2871,2,     19.8,2,    19.1,2,  120.58,2,   43.62,2,       0,2,    3.14,2,   0.103,2,   0.064,2,   0.009,2,     0.06,2,  2356.3,2, 2352.34,2,   7.2959,2,       25,-999.000,9,-999.0000,9, -999.00,9,   -0.58,2,  -190.5,2,     2.1,-999.000,9,-999.000,     -999.0,9, -999.00,9,   35.42,2, -999.00,9,     -999.0,9,  -999.0,9, 20130502,      856,  30.0003,-169.7624,    34.4487,2,     -999.0,9,     -999.0,9,     3.7124,2,     -999.0,1,     -999.0,9,-999.0000, -999.00,-999.000
318M20130321,       P02W,      85,          1,         18,         18,2,20130502,       0723,    30.0002,  -169.7624,       5467,  1071.9,   3.4732,  34.3613,2,  34.3616,2,     18.4,2,    18.4,2,  128.77,2,   43.94,2,       0,2,     3.2,2,-999.000,9,-999.000,9,-999.000,9,-999.0000,9,  2366.1,2, 2364.74,2,   7.3037,2,       25,-999.000,9,-999.0000,9, -999.00,9,   -0.56,2,  -208.1,2,     2.2,-999.000,9,-999.000,     -999.0,9, -999.00,9,   35.27,2, -999.00,9,     -999.0,9,  -999.0,9, 20130502,      854,  30.0002,-169.7624,    34.5236,2,     -999.0,9,     -999.0,9,     3.4759,2,     -999.0,1,     -999.0,9,-999.0000, -999.00,-999.000
318M20130321,       P02W,      85,          1,         17,         17,2,20130502,       0723,    30.0002,  -169.7624,       5467,  1172.7,   3.2309,   34.424,2,  34.4223,2,     24.4,2,    22.5,2,   135.6,2,   43.92,2,       0,2,    3.17,2,   0.008,2,   0.018,2,   0.004,2,     0.04,2,  2375.7,3, 2375.74,2,   7.3189,2,       25,-999.000,9,-999.0000,9, -999.00,9,   -0.54,2,  -213.1,2,     2.2,-999.000,9,-999.000,     -999.0,9, -999.00,9,   36.62,2, -999.00,9,     -999.0,9,  -999.0,9, 20130502,      851,  30.0003,-169.7624,    34.5846,2,     -999.0,9,     -999.0,9,     3.2321,2,     -999.0,1,     -999.0,9,-999.0000, -999.00,-999.000
318M20130321,       P02W,      85,          1,         16,         16,2,20130502,       0723,    30.0002,  -169.7624,       5467,  1275.8,   3.0304,  34.4673,2,  34.4686,2,     28.9,2,    30.1,2,  141.06,2,   43.69,2,       0,2,    3.14,2,-999.000,9,-999.000,9,-999.000,9,-999.0000,9,  2375.7,6, 2388.35,2,   7.3357,6,       25,-999.000,9,-999.0000,9, -999.00,9,   -0.46,2,  -220.3,2,     2.2,-999.000,9,-999.000,     -999.0,9, -999.00,9,   35.45,2, -999.00,9,     -999.0,9,  -999.0,9, 20130502,      849,  30.0003,-169.7624,    34.6311,2,     -999.0,9,     -999.0,9,     3.0294,2,     -999.0,1,     -999.0,9,-999.0000, -999.00,-999.000
318M20130321,       P02W,      85,          1,         15,         15,2,20130502,       0723,    30.0002,  -169.7624,       5467,  1377.6,   2.8515,  34.5019,2,  34.5028,2,     36.6,2,    36.6,2,  145.06,2,   43.36,2,       0,2,    3.14,2,   0.000,4,   0.000,4,   0.000,4,        0,4,  -999.0,9, -999.00,9,-999.0000,9,  -999.00,-999.000,9,   1.8644,2,   20.23,2, -999.00,9,  -999.0,9,  -999.0,   7.767,2,   0.036,     -999.0,9, -999.00,9,   33.65,2, -999.00,9,     -999.0,9,  -999.0,9, 20130502,      846,  30.0002,-169.7625,    34.6655,2,     -999.0,9,     -999.0,9,     2.8517,2,     -999.0,9,     -999.0,9,   0.0078,    0.15,-999.000
318M20130321,       P02W,      85,          1,         14,         14,2,20130502,       0723,    30.0002,  -169.7624,       5467,  1547.5,   2.5264,  34.5456,2,  34.5464,2,     48.3,2,    47.9,2,  152.67,2,   42.77,2,       0,2,    3.07,2,-999.000,9,-999.000,9,-999.000,9,-999.0000,9,  2378.9,3, 2400.75,2,   7.3775,2,       25,-999.000,9,-999.0000,9, -999.00,9,   -0.37,2,  -235.0,2,     2.5,-999.000,9,-999.000,     -999.0,9, -999.00,9,   34.01,2, -999.00,9,     -999.0,9,  -999.0,9, 20130502,      843,  30.0003,-169.7624,    34.7093,2,     -999.0,9,     -999.0,9,     2.5278,2,     -999.0,1,     -999.0,9,-999.0000, -999.00,-999.000
318M20130321,       P02W,      85,          1,         13,         13,2,20130502,       0723,    30.0002,  -169.7624,       5467,    1751,    2.228,  34.5806,2,  34.5823,2,     62.1,2,    62.5,2,  158.72,2,   41.83,2,       0,2,    2.99,2,   0.000,2,   0.007,2,   0.007,2,     0.05,4,  2373.2,2, 2408.26,2,   7.4055,2,       25,-999.000,9,-999.0000,9, -999.00,9,   -0.34,2,  -248.5,2,     2.2,-999.000,9,-999.000,     -999.0,9, -999.00,9,   32.64,2, -999.00,9,     -999.0,9,  -999.0,9, 20130502,      838,  30.0003,-169.7624,    34.7454,2,     -999.0,9,     -999.0,9,     2.2279,2,     -999.0,1,     -999.0,9,-999.0000, -999.00,-999.000
318M20130321,       P02W,      85,          1,         12,         12,2,20130502,       0723,    30.0002,  -169.7624,       5467,  1955.7,   2.0048,   34.606,2,  34.6071,2,     74.9,2,    75.9,2,  162.72,2,   40.98,2,       0,2,    2.94,2,-999.000,9,-999.000,9,-999.000,9,-999.0000,9,  2370.6,2, 2414.96,2,   7.4317,2,       25,-999.000,9,-999.0000,9, -999.00,9,   -0.24,2,  -244.9,2,     2.4,-999.000,9,-999.000,     -999.0,9, -999.00,9, -999.00,9, -999.00,9,     -999.0,9,  -999.0,9, 20130502,      834,  30.0002,-169.7624,    34.7703,2,     -999.0,9,     -999.0,9,     2.0032,2,     -999.0,1,     -999.0,9,-999.0000, -999.00,-999.000
318M20130321,       P02W,      85,          1,         11,         11,2,20130502,       0723,    30.0002,  -169.7624,       5467,  2184.7,   1.8557,  34.6245,2,  34.6257,2,     88.4,2,    86.8,2,  165.16,2,   40.26,2,       0,2,    2.89,2,   0.001,2,   0.010,2,   0.005,2,     0.05,4,  -999.0,9, -999.00,9,-999.0000,9,  -999.00,-999.000,9,-999.0000,9, -999.00,9, -999.00,9,  -999.0,9,  -999.0,-999.000,9,-999.000,     -999.0,9, -999.00,9,   33.41,2, -999.00,9,     -999.0,9,  -999.0,9, 20130502,      829,  30.0003,-169.7624,     34.789,2,     -999.0,9,     -999.0,9,     1.8559,2,     -999.0,9,     -999.0,9,-999.0000, -999.00,-999.000
318M20130321,       P02W,      85,          1,         10,         10,2,20130502,       0723,    30.0002,  -169.7624,       5467,  2439.2,   1.7144,  34.6414,2,  34.6427,2,    100.3,2,    99.8,2,  166.33,2,   39.46,2,       0,2,    2.74,2,-999.000,9,-999.000,9,-999.000,9,-999.0000,9,  2361.1,2, 2420.56,2,   7.4802,2,       25,-999.000,9,-999.0000,9, -999.00,9, -999.00,9,  -999.0,9,  -999.0,-999.000,9,-999.000,     -999.0,9, -999.00,9, -999.00,9, -999.00,9,     -999.0,9,  -999.0,9, 20130502,      823,  30.0003,-169.7624,     34.806,2,     -999.0,9,     -999.0,9,     1.7142,2,     -999.0,1,     -999.0,9,-999.0000, -999.00,-999.000
318M20130321,       P02W,      85,          1,          9,          9,2,20130502,       0723,    30.0002,  -169.7624,       5467,  2691.6,   1.6242,  34.6531,2,  34.6535,2,    109.4,2,   109.9,2,  165.84,2,   38.83,2,       0,2,    2.72,2,   0.015,2,   0.010,2,   0.008,2,     0.05,4,  -999.0,9, -999.00,9,-999.0000,9,  -999.00,-999.000,9,-999.0000,9, -999.00,9, -999.00,9,  -999.0,9,  -999.0,-999.000,9,-999.000,     -999.0,9, -999.00,9,   35.01,2, -999.00,9,     -999.0,9,  -999.0,9, 20130502,      818,  30.0003,-169.7624,    34.8169,2,     -999.0,9,     -999.0,9,     1.6244,2,     -999.0,9,     -999.0,9,-999.0000, -999.00,-999.000
318M20130321,       P02W,      85,          1,          8,          8,2,20130502,       0723,    30.0002,  -169.7624,       5467,  2948.3,   1.5544,  34.6626,2,  34.6639,2,    121.5,2,   121.2,2,  163.59,2,   38.18,2,       0,2,     2.7,2,-999.000,9,-999.000,9,-999.000,9,-999.0000,9,  2346.5,2, 2420.26,2,   7.5195,2,       25,-999.000,9,-999.0000,9, -999.00,9, -999.00,9,  -999.0,9,  -999.0,-999.000,9,-999.000,     -999.0,9, -999.00,9, -999.00,9, -999.00,9,     -999.0,9,  -999.0,9, 20130502,      813,  30.0003,-169.7624,    34.8273,2,     -999.0,9,     -999.0,9,     1.5544,2,     -999.0,1,     -999.0,9,-999.0000, -999.00,-999.000
318M20130321,       P02W,      85,          1,          7,          7,2,20130502,       0723,    30.0002,  -169.7624,       5467,  3240.1,   1.4988,  34.6717,2,  34.6723,2,    129.5,2,   130.9,2,  161.25,2,   37.48,2,       0,2,    2.65,2,   0.000,4,   0.000,4,   0.000,4,     0.04,4,  -999.0,9, -999.00,9,-999.0000,9,  -999.00,-999.000,9,-999.0000,9, -999.00,9, -999.00,9,  -999.0,9,  -999.0,-999.000,9,-999.000,     -999.0,9, -999.00,9,   34.06,2, -999.00,9,     -999.0,9,  -999.0,9, 20130502,      807,  30.0002,-169.7624,    34.8358,2,     -999.0,9,     -999.0,9,     1.4989,2,     -999.0,9,     -999.0,9,-999.0000, -999.00,-999.000