BOTTLE,20220817CCHSIOAMB
EXPOCODE,SECT_ID,STNNBR,CASTNO,SAMPNO,BTLNBR,BTLNBR_FLAG_W,DATE,TIME,LATITUDE,LONGITUDE,DEPTH,CTDPRS,CTDTMP,CTDSAL,CTDSAL_FLAG_W,SALNTY,SALNTY_FLAG_W,CTDOXY,CTDOXY_FLAG_W,OXYGEN,OXYGEN_FLAG_W,SILCAT,SILCAT_FLAG_W,NITRAT,NITRAT_FLAG_W,NITRIT,NITRIT_FLAG_W,PHSPHT,PHSPHT_FLAG_W,CFC-11,CFC-11_FLAG_W,CFC-12,CFC-12_FLAG_W,CFC113,CFC113_FLAG_W,SF6,SF6_FLAG_W,TCARBN,TCARBN_FLAG_W,ALKALI,ALKALI_FLAG_W,PH_TOT,PH_TOT_FLAG_W,PH_TMP,TRITUM,TRITUM_FLAG_W,HELIUM,HELIUM_FLAG_W,DELHE3,DELHE3_FLAG_W,DELC13,DELC13_FLAG_W,DELC14,DELC14_FLAG_W,C14ERR,NEON,NEON_FLAG_W,NEONER,I-129,I-129_FLAG_W,SR-90,SR-90_FLAG_W,DOC,DOC_FLAG_W,TDN,TDN_FLAG_W,CALCIUM,CALCIUM_FLAG_W,D15N_NO3,D15N_NO3_FLAG_W,BTL_DATE,BTL_TIME,BTL_LAT,BTL_LON,SALTREF,SALTREF_FLAG_W,CS-137,CS-137_FLAG_W,CS-134,CS-134_FLAG_W,REFTMP,REFTMP_FLAG_W,LAB_DEN,LAB_DEN_FLAG_W,D18O_NO3,D18O_NO3_FLAG_W,HELIER,DELHER,TRITER
,,,,,,,,,,,METERS,DBAR,ITS-90,PSS-78,,PSS-78,,UMOL/KG,,UMOL/KG,,UMOL/KG,,UMOL/KG,,UMOL/KG,,UMOL/KG,,PMOL/KG,,PMOL/KG,,PMOL/KG,,FMOL/KG,,UMOL/KG,,UMOL/KG,,,,DEG C,TU,,NMOL/KG,,PERCNT,,/MILLE,,/MILLE,,/MILLE,NMOL/KG,,NMOL/KG,BQ/M^3,,DM/.1MG,,UMOL/KG,,UMOL/KG,,MMOL/KG,,/MILLE,,,,,,G/KG,,BQ/M^3,,BQ/M^3,,ITS-90,,,,/MILLE,,NMOL/KG,PERCNT,TU
318M20130321,       P02E,      91,          1,         34,         34,2,20130512,       2113,    30.0001,   -164.008,       5666,     2.8,  19.4983,  34.8985,2,  34.9014,2,    231.2,2,   231.7,2,    2.44,2,       0,2,       0,2,    0.01,2,   2.046,2,   1.252,2,-999.000,5,   1.4609,2,  2017.6,2, 2292.31,2,   8.0033,6,       25,-999.000,9,-999.0000,9, -999.00,9, -999.00,9,  -999.0,9,  -999.0,-999.000,9,-999.000,     -999.0,9, -999.00,9,   64.22,2,    4.74,2,     -999.0,9,  -999.0,1, 20130512,     2335,  30.0001,-164.0084,     35.066,2,     -999.0,9,     -999.0,9,    19.4957,2,     -999.0,9,     -999.0,1,-999.0000, -999.00,-999.000
318M20130321,       P02E,      91,          1,         36,         36,2,20130512,       2113,    30.0001,   -164.008,       5666,    35.2,  19.3904,  34.8936,2,  34.8942,2,    231.3,2,   231.8,2,    2.44,2,       0,2,       0,2,    0.01,2,   2.058,2,   1.251,2,-999.000,5,   1.4484,2,  -999.0,9, -999.00,9,-999.0000,9,  -999.00,-999.000,9,-999.0000,9, -999.00,9, -999.00,9,  -999.0,9,  -999.0,-999.000,9,-999.000,     -999.0,9, -999.00,9,   63.46,2,    4.36,2,     -999.0,9,  -999.0,1, 20130512,     2332,       30,-164.0085,    35.0587,2,     -999.0,9,     -999.0,9,      19.39,2,     -999.0,9,     -999.0,1,-999.0000, -999.00,-999.000
318M20130321,       P02E,      91,          1,         33,         33,2,20130512,       2113,    30.0001,   -164.008,       5666,    60.1,  19.2609,   34.941,2,  34.9419,2,    235.7,2,     232,2,    2.44,2,       0,2,       0,2,    0.02,2,   2.059,6,   1.250,6,-999.000,5,     1.41,6,    2018,2, 2294.42,6,   8.0072,2,       25,-999.000,9,-999.0000,9, -999.00,9, -999.00,9,  -999.0,9,  -999.0,-999.000,9,-999.000,     -999.0,9, -999.00,9,   64.17,2,    4.27,2,     -999.0,9,  -999.0,1, 20130512,     2330,       30,-164.0086,    35.1067,2,     -999.0,9,     -999.0,9,    19.2548,2,     -999.0,9,     -999.0,1,-999.0000, -999.00,-999.000
318M20130321,       P02E,      91,          1,         32,         32,2,20130512,       2113,    30.0001,   -164.008,       5666,    85.5,  18.4704,  34.8122,2,  34.8173,2,    236.9,2,   234.1,2,    2.54,2,       0,2,       0,2,    0.02,2,   2.119,2,   1.276,2,-999.000,5,   1.4766,2,  -999.0,9, -999.00,9,-999.0000,9,  -999.00,-999.000,9,-999.0000,9, -999.00,9, -999.00,9,  -999.0,9,  -999.0,-999.000,9,-999.000,     -999.0,9, -999.00,9,    61.9,2,    4.19,2,     -999.0,9,  -999.0,1, 20130512,     2328,       30,-164.0087,    34.9814,2,     -999.0,9,     -999.0,9,    18.4637,2,     -999.0,9,     -999.0,1,-999.0000, -999.00,-999.000
318M20130321,       P02E,      91,          1,         31,         31,2,20130512,       2113,    30.0001,   -164.008,       5666,   116.1,  17.4046,  34.6255,2,  34.6278,2,    237.9,2,   234.2,2,    3.22,2,    0.13,2,    0.03,2,    0.06,2,   2.242,2,   1.342,2,-999.000,5,    1.557,2,  2020.1,2, 2275.01,2,   7.9746,2,       25,-999.000,9,-999.0000,9, -999.00,9, -999.00,9,  -999.0,9,  -999.0,-999.000,9,-999.000,     -999.0,9, -999.00,9,   54.39,2,    4.38,2,     -999.0,9,  -999.0,1, 20130512,     2326,       30,-164.0087,    34.7911,2,     -999.0,9,     -999.0,9,    17.4089,2,     -999.0,9,     -999.0,1,-999.0000, -999.00,-999.000
318M20130321,       P02E,      91,          1,         30,         30,2,20130512,       2113,    30.0001,   -164.008,       5666,   165.7,  15.7524,  34.4548,2,  34.4589,2,    224.6,2,   225.2,2,    4.88,2,    3.14,2,    0.03,2,    0.26,2,   2.429,2,   1.437,2,-999.000,5,   1.5377,2,  -999.0,9, -999.00,9,-999.0000,9,  -999.00,-999.000,9,-999.0000,9, -999.00,9, -999.00,9,  -999.0,9,  -999.0,-999.000,9,-999.000,     -999.0,9, -999.00,9,   55.72,2,    6.19,2,     -999.0,9,  -999.0,1, 20130512,     2324,       30,-164.0088,    34.6214,2,     -999.0,9,     -999.0,9,    15.7494,2,     -999.0,9,     -999.0,1,-999.0000, -999.00,-999.000
318M20130321,       P02E,      91,          1,         29,         29,2,20130512,       2113,    30.0001,   -164.008,       5666,   216.6,  14.2768,  34.4221,2,  34.4249,2,    217.4,2,   217.1,2,    7.71,2,     7.1,2,    0.01,2,    0.52,2,   2.584,2,   1.502,2,-999.000,5,   1.5004,2,  2060.4,2,    2264,2,   7.8768,2,       25,-999.000,9,-999.0000,9, -999.00,9, -999.00,9,  -999.0,9,  -999.0,-999.000,9,-999.000,     -999.0,9, -999.00,9,   51.72,2, -999.00,5,     -999.0,9,  -999.0,1, 20130512,     2322,       30,-164.0088,    34.5872,2,     -999.0,9,     -999.0,9,    14.2788,2,     -999.0,9,     -999.0,1,-999.0000, -999.00,-999.000
318M20130321,       P02E,      91,          1,         28,         28,2,20130512,       2113,    30.0001,   -164.008,       5666,   265.8,  12.8781,  34.3466,2,   34.345,2,    214.3,2,     214,2,   11.03,2,   10.03,2,       0,2,    0.71,2,   2.767,2,   1.587,2,-999.000,5,   1.4396,2,  -999.0,9, -999.00,9,-999.0000,9,  -999.00,-999.000,9,-999.0000,9, -999.00,9, -999.00,9,  -999.0,9,  -999.0,-999.000,9,-999.000,     -999.0,9, -999.00,9,   47.15,2,   13.91,2,     -999.0,9,  -999.0,1, 20130512,     2320,       30,-164.0089,     34.507,2,     -999.0,9,     -999.0,9,    12.8781,2,     -999.0,9,     -999.0,1,-999.0000, -999.00,-999.000
318M20130321,       P02E,      91,          1,         27,         27,2,20130512,       2113,    30.0001,   -164.008,       5666,   316.6,  11.7622,  34.2741,2,  34.2709,2,    213.9,2,   214.4,2,   14.06,2,   12.13,2,       0,2,    0.85,2,   2.904,2,   1.645,2,-999.000,5,   1.3501,2,  2093.1,2,  2262.5,2,   7.8023,2,       25,-999.000,9,-999.0000,9, -999.00,9, -999.00,9,  -999.0,9,  -999.0,-999.000,9,-999.000,     -999.0,9, -999.00,9,   46.52,2, -999.00,5,     -999.0,9,  -999.0,1, 20130512,     2318,       30, -164.009,    34.4325,2,     -999.0,9,     -999.0,9,    11.7603,2,     -999.0,9,     -999.0,1,-999.0000, -999.00,-999.000
318M20130321,       P02E,      91,          1,         26,         26,2,20130512,       2113,    30.0001,   -164.008,       5666,   367.1,  10.8973,   34.211,2,  34.2138,2,    209.9,2,   211.2,2,    16.5,2,   13.84,2,       0,2,    0.98,2,   2.974,2,   1.676,2,-999.000,5,   1.2762,2,  -999.0,9, -999.00,9,-999.0000,9,  -999.00,-999.000,9,-999.0000,9, -999.00,9, -999.00,9,  -999.0,9,  -999.0,-999.000,9,-999.000,     -999.0,9, -999.00,9,    45.2,2, -999.00,9,     -999.0,9,  -999.0,1, 20130512,     2316,       30,-164.0091,    34.3752,2,     -999.0,9,     -999.0,9,    10.8842,2,     -999.0,9,     -999.0,1,-999.0000, -999.00,-999.000
318M20130321,       P02E,      91,          1,         25,         25,2,20130512,       2113,    30.0001,   -164.008,       5666,     437,   9.6471,  34.1336,2,   34.135,2,    197.4,2,   198.5,2,   23.34,2,    17.5,2,       0,2,    1.24,2,   3.066,2,   1.651,2,-999.000,5,   1.1793,2,  2127.8,2,  2264.4,2,   7.7212,2,       25,-999.000,9,-999.0000,9, -999.00,9, -999.00,9,  -999.0,9,  -999.0,-999.000,9,-999.000,     -999.0,9, -999.00,9,   44.19,2, -999.00,9,     -999.0,9,  -999.0,1, 20130512,     2313,  29.9999,-164.0091,     34.296,2,     -999.0,9,     -999.0,9,     9.6471,2,     -999.0,9,     -999.0,1,-999.0000, -999.00,-999.000
318M20130321,       P02E,      91,          1,         24,         24,2,20130512,       2113,    30.0001,   -164.008,       5666,   538.9,   7.6237,  34.0342,2,  34.0349,2,    156.9,2,   157.4,2,   41.11,2,   25.28,2,       0,2,     1.8,2,   2.693,2,   1.396,2,-999.000,5,   0.8119,2,  2182.1,2, 2273.51,2,   7.5976,2,       25,-999.000,9,-999.0000,9, -999.00,9, -999.00,9,  -999.0,9,  -999.0,-999.000,9,-999.000,     -999.0,9, -999.00,9,   45.32,2, -999.00,9,     -999.0,9,  -999.0,1, 20130512,     2310,  29.9998,-164.0092,    34.1953,2,     -999.0,9,     -999.0,9,     7.6346,2,     -999.0,9,     -999.0,1,-999.0000, -999.00,-999.000
318M20130321,       P02E,      91,          1,         23,         23,2,20130512,       2113,    30.0001,   -164.008,       5666,   638.7,   5.9743,  34.0128,2,  34.0137,2,    109.8,2,   108.6,2,   63.18,2,   32.78,2,       0,2,    2.36,2,   1.928,2,   0.969,2,-999.000,5,   0.4239,2,  2239.2,2, 2288.11,2,   7.4661,2,       25,-999.000,9,-999.0000,9, -999.00,9, -999.00,9,  -999.0,9,  -999.0,-999.000,9,-999.000,     -999.0,9, -999.00,9,    42.5,2, -999.00,9,     -999.0,9,  -999.0,1, 20130512,     2307,  29.9997,-164.0093,    34.1741,2,     -999.0,9,     -999.0,9,     5.9748,2,     -999.0,9,     -999.0,1,-999.0000, -999.00,-999.000
318M20130321,       P02E,      91,          1,         22,         22,2,20130512,       2113,    30.0001,   -164.008,       5666,   738.9,   4.9723,  34.0688,2,  34.0715,2,     68.2,2,    66.2,2,   83.98,2,   38.18,2,       0,2,    2.75,2,   1.054,2,   0.511,2,-999.000,5,   0.2445,2,  2289.2,2, 2307.72,2,   7.3704,6,       25,-999.000,9,-999.0000,9, -999.00,9, -999.00,9,  -999.0,9,  -999.0,-999.000,9,-999.000,     -999.0,9, -999.00,9,   42.29,2, -999.00,9,     -999.0,9,  -999.0,1, 20130512,     2304,  29.9997,-164.0093,    34.2322,2,     -999.0,9,     -999.0,9,     4.9718,2,     -999.0,9,     -999.0,1,-999.0000, -999.00,-999.000
318M20130321,       P02E,      91,          1,         21,         21,2,20130512,       2113,    30.0001,   -164.008,       5666,   840.6,    4.337,  34.1625,2,  34.1648,2,     35.9,2,    36.4,2,  101.35,2,   41.58,2,       0,2,    3.01,2,   0.413,2,   0.200,2,-999.000,5,   0.1006,2,  -999.0,9, -999.00,9,-999.0000,9,  -999.00,-999.000,9,-999.0000,9, -999.00,9, -999.00,9,  -999.0,9,  -999.0,-999.000,9,-999.000,     -999.0,9, -999.00,9,   40.61,2, -999.00,9,     -999.0,9,  -999.0,1, 20130512,     2301,  29.9998,-164.0093,    34.3259,2,     -999.0,9,     -999.0,9,     4.3341,2,     -999.0,9,     -999.0,1,-999.0000, -999.00,-999.000
318M20130321,       P02E,      91,          1,         20,         20,2,20130512,       2113,    30.0001,   -164.008,       5666,   942.3,   3.8567,  34.2718,2,  34.2719,2,     19.5,2,      19,2,  117.16,2,   43.41,2,       0,2,    3.14,2,   0.102,2,   0.054,2,-999.000,5,        0,2,  2353.5,2, 2349.43,2,   7.2935,2,       25,-999.000,9,-999.0000,9, -999.00,9, -999.00,9,  -999.0,9,  -999.0,-999.000,9,-999.000,     -999.0,9, -999.00,9,   41.49,2, -999.00,9,     -999.0,9,  -999.0,1, 20130512,     2258,       30,-164.0094,    34.4335,2,     -999.0,9,     -999.0,9,     3.8625,2,     -999.0,9,     -999.0,1,-999.0000, -999.00,-999.000
318M20130321,       P02E,      91,          1,         19,         19,2,20130512,       2113,    30.0001,   -164.008,       5666,  1042.2,   3.5796,  34.3537,2,  34.3554,2,     16.9,2,    16.8,2,  126.43,2,   43.86,2,       0,2,    3.17,2,   0.030,2,   0.017,2,-999.000,5,   0.0473,2,  2364.8,2, 2362.44,2,   7.3003,2,       25,-999.000,9,-999.0000,9, -999.00,9, -999.00,9,  -999.0,9,  -999.0,-999.000,9,-999.000,     -999.0,9, -999.00,9,   39.12,2, -999.00,9,     -999.0,9,  -999.0,1, 20130512,     2255,       30,-164.0094,    34.5174,2,     -999.0,9,     -999.0,9,     3.5827,2,     -999.0,9,     -999.0,1,-999.0000, -999.00,-999.000
318M20130321,       P02E,      91,          1,         18,         18,2,20130512,       2113,    30.0001,   -164.008,       5666,  1144.2,   3.3534,  34.4193,2,  34.4202,2,     20.3,2,    22.2,2,  133.26,2,   43.77,2,       0,2,    3.16,2,   0.016,2,   0.010,2,-999.000,5,        0,2,  2371.8,6, 2373.94,2,   7.3154,2,       25,-999.000,9,-999.0000,9, -999.00,9, -999.00,9,  -999.0,9,  -999.0,-999.000,9,-999.000,     -999.0,9, -999.00,9,   38.69,2, -999.00,9,     -999.0,9,  -999.0,1, 20130512,     2252,       30,-164.0094,    34.5825,2,     -999.0,9,     -999.0,9,     3.3534,2,     -999.0,9,     -999.0,1,-999.0000, -999.00,-999.000
318M20130321,       P02E,      91,          1,         17,         17,2,20130512,       2113,    30.0001,   -164.008,       5666,  1244.9,   3.1694,  34.4628,2,  34.4638,2,     27.2,2,    28.4,2,  137.94,2,   43.54,2,       0,2,    3.14,2,   0.005,2,   0.005,2,-999.000,5,        0,2,  2374.7,2, 2381.55,2,   7.3327,2,       25,-999.000,9,-999.0000,9, -999.00,9, -999.00,9,  -999.0,9,  -999.0,-999.000,9,-999.000,     -999.0,9, -999.00,9,   37.23,2, -999.00,9,     -999.0,9,  -999.0,1, 20130512,     2249,  30.0001,-164.0095,    34.6263,2,     -999.0,9,     -999.0,9,     3.1689,2,     -999.0,9,     -999.0,1,-999.0000, -999.00,-999.000
318M20130321,       P02E,      91,          1,         16,         16,2,20130512,       2113,    30.0001,   -164.008,       5666,  1376.3,   2.9613,  34.5027,2,  34.5042,2,     38.2,2,    39.1,2,  142.52,2,   43.02,2,       0,2,    3.09,2,   0.006,2,   0.005,2,-999.000,5,   0.0345,2,  2374.7,2, 2389.35,2,   7.3551,2,       25,-999.000,9,-999.0000,9, -999.00,9, -999.00,9,  -999.0,9,  -999.0,-999.000,9,-999.000,     -999.0,9, -999.00,9,   37.77,2, -999.00,9,     -999.0,9,  -999.0,1, 20130512,     2245,  30.0004,-164.0094,    34.6669,2,     -999.0,9,     -999.0,9,     2.9606,2,     -999.0,9,     -999.0,1,-999.0000, -999.00,-999.000
318M20130321,       P02E,      91,          1,         15,         15,2,20130512,       2113,    30.0001,   -164.008,       5666,  1478.7,   2.7632,  34.5319,2,  34.5319,2,     47.1,2,    46.5,2,  146.13,2,   42.61,2,       0,2,    3.07,2,   0.003,2,   0.004,2,-999.000,5,        0,2,  2371.5,2, 2396.45,2,   7.3741,6,       25,-999.000,9,-999.0000,9, -999.00,9, -999.00,9,  -999.0,9,  -999.0,-999.000,9,-999.000,     -999.0,9, -999.00,9, -999.00,5, -999.00,9,     -999.0,9,  -999.0,1, 20130512,     2242,  30.0003,-164.0094,    34.6948,2,     -999.0,9,     -999.0,9,     2.7635,2,     -999.0,9,     -999.0,1,-999.0000, -999.00,-999.000
318M20130321,       P02E,      91,          1,         14,         14,2,20130512,       2113,    30.0001,   -164.008,       5666,  1677.3,   2.4719,   34.566,2,  34.5677,2,     61.1,2,    60.3,2,   151.4,2,   41.79,2,       0,2,    2.99,2,-999.000,9,-999.000,9,-999.000,9,-999.0000,9,    2370,2, 2402.85,2,    7.403,2,       25,-999.000,9,-999.0000,9, -999.00,9, -999.00,9,  -999.0,9,  -999.0,-999.000,9,-999.000,     -999.0,9, -999.00,9,   38.88,2, -999.00,9,     -999.0,9,  -999.0,1, 20130512,     2237,       30,-164.0096,    34.7307,2,     -999.0,9,     -999.0,9,     2.4719,2,     -999.0,9,     -999.0,1,-999.0000, -999.00,-999.000
318M20130321,       P02E,      91,          1,         13,         13,2,20130512,       2113,    30.0001,   -164.008,       5666,  1883.7,   2.2062,  34.5936,2,  34.5944,2,     74.2,2,    73.6,2,  156.96,2,   41.02,2,       0,2,    2.92,2,   0.005,2,   0.005,2,-999.000,5,        0,2,  -999.0,9, -999.00,9,-999.0000,9,  -999.00,-999.000,9,-999.0000,9, -999.00,9, -999.00,9,  -999.0,9,  -999.0,-999.000,9,-999.000,     -999.0,9, -999.00,9,   38.99,2, -999.00,9,     -999.0,9,  -999.0,1, 20130512,     2233,  30.0005,-164.0094,    34.7575,2,     -999.0,9,     -999.0,9,     2.2085,2,     -999.0,9,     -999.0,1,-999.0000, -999.00,-999.000
318M20130321,       P02E,      91,          1,         12,         12,2,20130512,       2113,    30.0001,   -164.008,       5666,  2109.3,   1.9698,   34.616,2,  34.6183,2,     86.6,2,    84.9,2,  162.43,2,   40.34,2,       0,2,    2.86,2,-999.000,9,-999.000,9,-999.000,9,-999.0000,9,  2366.3,2, 2414.96,2,   7.4509,2,       25,-999.000,9,-999.0000,9, -999.00,9, -999.00,9,  -999.0,9,  -999.0,-999.000,9,-999.000,     -999.0,9, -999.00,9,    40.8,2, -999.00,9,     -999.0,9,  -999.0,1, 20130512,     2227,  30.0006,-164.0095,    34.7816,2,     -999.0,9,     -999.0,9,     1.9707,2,     -999.0,9,     -999.0,1,-999.0000, -999.00,-999.000
318M20130321,       P02E,      91,          1,         11,         11,2,20130512,       2113,    30.0001,   -164.008,       5666,  2359.4,   1.7876,  34.6341,2,   34.635,2,     96.3,2,    96.1,2,  165.06,2,   39.65,2,       0,2,     2.8,2,   0.003,2,   0.002,2,-999.000,5,        0,2,  -999.0,9, -999.00,9,-999.0000,9,  -999.00,-999.000,9,-999.0000,9, -999.00,9, -999.00,9,  -999.0,9,  -999.0,-999.000,9,-999.000,     -999.0,9, -999.00,9,   34.84,2, -999.00,9,     -999.0,9,  -999.0,1, 20130512,     2222,  30.0006,-164.0097,    34.7984,2,     -999.0,9,     -999.0,9,     1.7875,2,     -999.0,9,     -999.0,1,-999.0000, -999.00,-999.000
318M20130321,       P02E,      91,          1,         10,         10,2,20130512,       2113,    30.0001,   -164.008,       5666,  2613.8,   1.6762,  34.6472,2,  34.6476,2,    105.8,2,   106.8,2,  165.64,2,   38.99,2,       0,2,    2.75,2,-999.000,9,-999.000,9,-999.000,9,-999.0000,9,  2357.6,2, 2421.16,2,   7.4899,2,       25,-999.000,9,-999.0000,9, -999.00,9, -999.00,9,  -999.0,9,  -999.0,-999.000,9,-999.000,     -999.0,9, -999.00,9,   35.94,2, -999.00,9,     -999.0,9,  -999.0,1, 20130512,     2217,  30.0007,-164.0096,     34.811,2,     -999.0,9,     -999.0,9,      1.676,2,     -999.0,9,     -999.0,1,-999.0000, -999.00,-999.000
318M20130321,       P02E,      91,          1,          9,          9,2,20130512,       2113,    30.0001,   -164.008,       5666,  2867.7,   1.6035,  34.6573,2,  34.6584,2,    115.3,2,   115.4,2,  164.47,2,   38.41,2,       0,2,    2.65,2,   0.005,2,   0.003,2,-999.000,5,     0.05,2,  -999.0,9, -999.00,9,-999.0000,9,  -999.00,-999.000,9,-999.0000,9, -999.00,9, -999.00,9,  -999.0,9,  -999.0,-999.000,9,-999.000,     -999.0,9, -999.00,9,   35.68,2, -999.00,9,     -999.0,9,  -999.0,1, 20130512,     2211,  30.0008,-164.0095,    34.8218,2,     -999.0,9,     -999.0,9,     1.6033,2,     -999.0,9,     -999.0,1,-999.0000, -999.00,-999.000
318M20130321,       P02E,      91,          1,          8,          8,2,20130512,       2113,    30.0001,   -164.008,       5666,  3137.6,   1.5448,  34.6662,2,  34.6671,2,    124.5,2,   124.4,2,  162.81,2,   37.78,2,       0,2,    2.62,2,-999.000,9,-999.000,9,-999.000,9,-999.0000,9,  2346.4,2, 2420.86,2,   7.5248,2,       25,-999.000,9,-999.0000,9, -999.00,9, -999.00,9,  -999.0,9,  -999.0,-999.000,9,-999.000,     -999.0,9, -999.00,9,   36.04,2, -999.00,9,     -999.0,9,  -999.0,1, 20130512,     2205,  30.0008,-164.0095,    34.8305,2,     -999.0,9,     -999.0,9,     1.5446,2,     -999.0,9,     -999.0,1,-999.0000, -999.00,-999.000
318M20130321,       P02E,      91,          1,          7,          7,2,20130512,       2113,    30.0001,   -164.008,       5666,  3447.1,   1.5059,  34.6738,2,  34.6747,2,    131.8,2,   133.5,2,  161.74,2,   37.21,2,       0,2,     2.6,2,   0.001,2,   0.002,2,-999.000,5,        0,2,  -999.0,9, -999.00,9,-999.0000,9,  -999.00,-999.000,9,-999.0000,9, -999.00,9, -999.00,9,  -999.0,9,  -999.0,-999.000,9,-999.000,     -999.0,9, -999.00,9,   36.11,2, -999.00,9,     -999.0,9,  -999.0,1, 20130512,     2159,  30.0007,-164.0095,    34.8382,2,     -999.0,9,     -999.0,9,     1.5061,2,     -999.0,9,     -999.0,1,-999.0000, -999.00,-999.000