BOTTLE,20220817CCHSIOAMB
EXPOCODE,SECT_ID,STNNBR,CASTNO,SAMPNO,BTLNBR,BTLNBR_FLAG_W,DATE,TIME,LATITUDE,LONGITUDE,DEPTH,CTDPRS,CTDTMP,CTDSAL,CTDSAL_FLAG_W,SALNTY,SALNTY_FLAG_W,CTDOXY,CTDOXY_FLAG_W,OXYGEN,OXYGEN_FLAG_W,SILCAT,SILCAT_FLAG_W,NITRAT,NITRAT_FLAG_W,NITRIT,NITRIT_FLAG_W,PHSPHT,PHSPHT_FLAG_W,CFC-11,CFC-11_FLAG_W,CFC-12,CFC-12_FLAG_W,CFC113,CFC113_FLAG_W,SF6,SF6_FLAG_W,TCARBN,TCARBN_FLAG_W,ALKALI,ALKALI_FLAG_W,PH_TOT,PH_TOT_FLAG_W,PH_TMP,TRITUM,TRITUM_FLAG_W,HELIUM,HELIUM_FLAG_W,DELHE3,DELHE3_FLAG_W,DELC13,DELC13_FLAG_W,DELC14,DELC14_FLAG_W,C14ERR,NEON,NEON_FLAG_W,NEONER,I-129,I-129_FLAG_W,SR-90,SR-90_FLAG_W,DOC,DOC_FLAG_W,TDN,TDN_FLAG_W,CALCIUM,CALCIUM_FLAG_W,D15N_NO3,D15N_NO3_FLAG_W,BTL_DATE,BTL_TIME,BTL_LAT,BTL_LON,SALTREF,SALTREF_FLAG_W,CS-137,CS-137_FLAG_W,CS-134,CS-134_FLAG_W,REFTMP,REFTMP_FLAG_W,LAB_DEN,LAB_DEN_FLAG_W,D18O_NO3,D18O_NO3_FLAG_W,HELIER,DELHER,TRITER
,,,,,,,,,,,METERS,DBAR,ITS-90,PSS-78,,PSS-78,,UMOL/KG,,UMOL/KG,,UMOL/KG,,UMOL/KG,,UMOL/KG,,UMOL/KG,,PMOL/KG,,PMOL/KG,,PMOL/KG,,FMOL/KG,,UMOL/KG,,UMOL/KG,,,,DEG C,TU,,NMOL/KG,,PERCNT,,/MILLE,,/MILLE,,/MILLE,NMOL/KG,,NMOL/KG,BQ/M^3,,DM/.1MG,,UMOL/KG,,UMOL/KG,,MMOL/KG,,/MILLE,,,,,,G/KG,,BQ/M^3,,BQ/M^3,,ITS-90,,,,/MILLE,,NMOL/KG,PERCNT,TU
318M20130321,       P02E,      92,          1,         36,         36,2,20130513,       0621,         30,   -162.879,       5758,     2.5,  19.7937,  34.9121,2,  34.9113,2,    230.2,2,   230.8,2,    1.95,2,       0,2,       0,2,    0.01,2,   2.046,2,   1.244,2,-999.000,5,   1.3923,2,  2016.6,2, 2291.11,2,   8.0078,6,       25,-999.000,9,-999.0000,9, -999.00,9, -999.00,9,  -999.0,9,  -999.0,-999.000,9,-999.000,     -999.0,9, -999.00,9, -999.00,9, -999.00,9,     -999.0,9,  -999.0,9, 20130513,      832,  29.9997,-162.8776,    35.0759,2,     -999.0,9,     -999.0,9,    19.7939,2,     -999.0,9,     -999.0,9,-999.0000, -999.00,-999.000
318M20130321,       P02E,      92,          1,         34,         34,2,20130513,       0621,         30,   -162.879,       5758,    20.1,  19.5994,  34.9078,2,  34.9099,2,    230.4,2,   231.1,2,    1.95,2,       0,2,       0,2,    0.01,2,   2.032,2,   1.234,2,-999.000,5,    1.484,2,  2016.2,2, 2291.31,6,   8.0087,2,       25,-999.000,9,-999.0000,9, -999.00,9, -999.00,9,  -999.0,9,  -999.0,-999.000,9,-999.000,     -999.0,9, -999.00,9, -999.00,9, -999.00,9,     -999.0,9,  -999.0,9, 20130513,      831,  29.9996,-162.8777,    35.0745,2,     -999.0,9,     -999.0,9,     19.597,2,     -999.0,9,     -999.0,9,-999.0000, -999.00,-999.000
318M20130321,       P02E,      92,          1,         33,         33,2,20130513,       0621,         30,   -162.879,       5758,    40.2,  19.2557,  34.8539,2,  34.8547,2,    232.7,2,     232,2,    2.05,2,       0,2,       0,2,    0.02,2,   2.075,2,   1.259,2,-999.000,5,   1.4838,2,  -999.0,9, -999.00,9,-999.0000,9,  -999.00,-999.000,9,-999.0000,9, -999.00,9, -999.00,9,  -999.0,9,  -999.0,-999.000,9,-999.000,     -999.0,9, -999.00,9, -999.00,9, -999.00,9,     -999.0,9,  -999.0,9, 20130513,      829,  29.9995,-162.8778,     35.019,2,     -999.0,9,     -999.0,9,    19.2568,2,     -999.0,9,     -999.0,9,-999.0000, -999.00,-999.000
318M20130321,       P02E,      92,          1,         32,         32,2,20130513,       0621,         30,   -162.879,       5758,    65.6,  19.1289,  34.8704,2,   34.871,2,    233.9,2,   233.5,2,    2.05,2,       0,2,       0,2,    0.03,2,   2.083,2,   1.260,2,-999.000,5,   1.4543,2,  -999.0,9, -999.00,9,-999.0000,9,  -999.00,-999.000,9,-999.0000,9, -999.00,9, -999.00,9,  -999.0,9,  -999.0,-999.000,9,-999.000,     -999.0,9, -999.00,9, -999.00,9, -999.00,9,     -999.0,9,  -999.0,9, 20130513,      827,  29.9994, -162.878,    35.0354,2,     -999.0,9,     -999.0,9,     19.131,2,     -999.0,9,     -999.0,9,-999.0000, -999.00,-999.000
318M20130321,       P02E,      92,          1,         31,         31,2,20130513,       0621,         30,   -162.879,       5758,    89.4,  18.6272,  34.8892,2,  34.8891,2,    229.7,2,   229.5,2,    2.24,2,       0,2,       0,2,    0.05,2,   2.098,2,   1.276,2,-999.000,5,   1.4322,2,  2022.1,2, 2290.51,2,   7.9951,2,       25,-999.000,9,-999.0000,9, -999.00,9, -999.00,9,  -999.0,9,  -999.0,-999.000,9,-999.000,     -999.0,9, -999.00,9, -999.00,9, -999.00,9,     -999.0,9,  -999.0,9, 20130513,      826,  29.9992,-162.8783,    35.0536,2,     -999.0,9,     -999.0,9,    18.6267,2,     -999.0,9,     -999.0,9,-999.0000, -999.00,-999.000
318M20130321,       P02E,      92,          1,         30,         30,2,20130513,       0621,         30,   -162.879,       5758,   135.4,  16.7846,  34.6078,2,   34.607,2,    219.3,2,   221.5,2,    3.81,2,    2.16,2,    0.06,2,    0.22,2,   2.388,2,   1.389,2,-999.000,5,   1.4817,2,  2036.2,2, 2271.91,2,   7.9389,2,       25,-999.000,9,-999.0000,9, -999.00,9, -999.00,9,  -999.0,9,  -999.0,-999.000,9,-999.000,     -999.0,9, -999.00,9, -999.00,9, -999.00,9,     -999.0,9,  -999.0,9, 20130513,      824,   29.999,-162.8788,    34.7702,2,     -999.0,9,     -999.0,9,    16.7892,2,     -999.0,9,     -999.0,9,-999.0000, -999.00,-999.000
318M20130321,       P02E,      92,          1,         29,         29,2,20130513,       0621,         30,   -162.879,       5758,   184.9,   15.234,  34.4768,2,  34.4741,2,    215.1,2,   215.7,2,    5.76,2,    5.28,2,    0.01,2,    0.43,2,   2.472,2,   1.484,2,-999.000,5,   1.4585,2,    2053,2,  2264.4,2,   7.8939,6,       25,-999.000,9,-999.0000,9, -999.00,9, -999.00,9,  -999.0,9,  -999.0,-999.000,9,-999.000,     -999.0,9, -999.00,9, -999.00,9, -999.00,9,     -999.0,9,  -999.0,9, 20130513,      822,  29.9989,-162.8791,    34.6366,2,     -999.0,9,     -999.0,9,    15.2353,2,     -999.0,9,     -999.0,9,-999.0000, -999.00,-999.000
318M20130321,       P02E,      92,          1,         28,         28,2,20130513,       0621,         30,   -162.879,       5758,   235.5,  13.9083,  34.3979,2,  34.3964,2,    214.8,2,   218.9,2,     8.1,2,    7.72,2,    0.01,2,    0.58,2,   2.665,2,   1.539,2,-999.000,5,   1.5298,2,  -999.0,9, -999.00,9,-999.0000,9,  -999.00,-999.000,9,-999.0000,9, -999.00,9, -999.00,9,  -999.0,9,  -999.0,-999.000,9,-999.000,     -999.0,9, -999.00,9, -999.00,9, -999.00,9,     -999.0,9,  -999.0,9, 20130513,      820,  29.9989,-162.8792,    34.5586,2,     -999.0,9,     -999.0,9,    13.8883,2,     -999.0,9,     -999.0,9,-999.0000, -999.00,-999.000
318M20130321,       P02E,      92,          1,         27,         27,2,20130513,       0621,         30,   -162.879,       5758,   285.5,  12.6348,  34.3274,2,  34.3238,2,    215.6,2,   217.3,2,   11.03,2,   10.41,2,    0.01,2,    0.76,2,   2.845,2,   1.604,2,-999.000,5,   1.3779,2,  2080.7,2,  2260.2,2,   7.8248,2,       25,-999.000,9,-999.0000,9, -999.00,9, -999.00,9,  -999.0,9,  -999.0,-999.000,9,-999.000,     -999.0,9, -999.00,9, -999.00,9, -999.00,9,     -999.0,9,  -999.0,9, 20130513,      818,   29.999,-162.8793,    34.4856,2,     -999.0,9,     -999.0,9,    12.6371,2,     -999.0,9,     -999.0,9,-999.0000, -999.00,-999.000
318M20130321,       P02E,      92,          1,         26,         26,2,20130513,       0621,         30,   -162.879,       5758,   335.5,  11.5777,  34.2563,2,  34.2553,2,    214.4,2,   214.5,2,   13.96,2,   12.38,2,    0.01,2,     0.9,2,   2.945,6,   1.658,6,-999.000,5,   1.3875,6,  -999.0,9, -999.00,9,-999.0000,9,  -999.00,-999.000,9,-999.0000,9, -999.00,9, -999.00,9,  -999.0,9,  -999.0,-999.000,9,-999.000,     -999.0,9, -999.00,9, -999.00,9, -999.00,9,     -999.0,9,  -999.0,9, 20130513,      817,  29.9992,-162.8793,    34.4168,2,     -999.0,9,     -999.0,9,    11.5597,2,     -999.0,9,     -999.0,9,-999.0000, -999.00,-999.000
318M20130321,       P02E,      92,          1,         25,         25,2,20130513,       0621,         30,   -162.879,       5758,   386.5,  10.4638,  34.1927,2,  34.1881,2,    210.5,2,   209.6,2,   19.14,2,   15.14,2,       0,2,    1.08,2,   1.952,3,   1.505,2,-999.000,5,   1.2767,2,  2111.1,2,  2262.9,2,   7.7577,2,       25,-999.000,9,-999.0000,9, -999.00,9, -999.00,9,  -999.0,9,  -999.0,-999.000,9,-999.000,     -999.0,9, -999.00,9, -999.00,9, -999.00,9,     -999.0,9,  -999.0,9, 20130513,      815,  29.9993,-162.8793,    34.3493,2,     -999.0,9,     -999.0,9,    10.4607,2,     -999.0,9,     -999.0,9,-999.0000, -999.00,-999.000
318M20130321,       P02E,      92,          1,         24,         24,2,20130513,       0621,         30,   -162.879,       5758,     466,   8.9874,   34.094,2,   34.094,2,    191.9,2,   190.7,2,   27.44,2,   19.56,2,       0,2,     1.4,2,   3.081,2,   1.620,2,-999.000,5,   1.0873,2,  2140.7,2,  2264.6,2,   7.6905,2,       25,-999.000,9,-999.0000,9, -999.00,9, -999.00,9,  -999.0,9,  -999.0,-999.000,9,-999.000,     -999.0,9, -999.00,9, -999.00,9, -999.00,9,     -999.0,9,  -999.0,9, 20130513,      812,  29.9994,-162.8793,    34.2547,2,     -999.0,9,     -999.0,9,     8.9842,2,     -999.0,9,     -999.0,9,-999.0000, -999.00,-999.000
318M20130321,       P02E,      92,          1,         23,         23,2,20130513,       0621,         30,   -162.879,       5758,   566.5,   7.1012,  34.0108,2,  34.0109,2,    146.7,2,     150,2,    45.8,2,    26.9,2,       0,2,    1.92,2,   2.656,2,   1.367,2,-999.000,5,   0.7536,2,    2193,2, 2275.61,2,   7.5704,2,       25,-999.000,9,-999.0000,9, -999.00,9, -999.00,9,  -999.0,9,  -999.0,-999.000,9,-999.000,     -999.0,9, -999.00,9, -999.00,9, -999.00,9,     -999.0,9,  -999.0,9, 20130513,      810,  29.9996,-162.8793,    34.1713,2,     -999.0,9,     -999.0,9,     7.1001,2,     -999.0,9,     -999.0,9,-999.0000, -999.00,-999.000
318M20130321,       P02E,      92,          1,         22,         22,2,20130513,       0621,         30,   -162.879,       5758,     666,   5.2294,  34.0295,2,  34.0284,2,     88.9,2,    86.4,2,   75.78,2,   35.94,2,       0,2,     2.6,2,   1.525,2,   0.751,2,-999.000,5,   0.2628,2,  2265.8,2, 2298.92,2,   7.4114,2,       25,-999.000,9,-999.0000,9, -999.00,9, -999.00,9,  -999.0,9,  -999.0,-999.000,9,-999.000,     -999.0,9, -999.00,9, -999.00,9, -999.00,9,     -999.0,9,  -999.0,9, 20130513,      807,  29.9997,-162.8794,    34.1888,2,     -999.0,9,     -999.0,9,     5.2289,2,     -999.0,9,     -999.0,9,-999.0000, -999.00,-999.000
318M20130321,       P02E,      92,          1,         21,         21,2,20130513,       0621,         30,   -162.879,       5758,   768.3,   4.4264,  34.1157,2,  34.1154,2,     49.9,2,      47,2,   96.48,2,   40.56,2,       0,2,    2.93,2,   0.674,2,   0.322,2,-999.000,5,   0.0775,2,  -999.0,9, -999.00,9,-999.0000,9,  -999.00,-999.000,9,-999.0000,9, -999.00,9, -999.00,9,  -999.0,9,  -999.0,-999.000,9,-999.000,     -999.0,9, -999.00,9, -999.00,9, -999.00,9,     -999.0,9,  -999.0,9, 20130513,      804,  29.9999,-162.8796,    34.2762,2,     -999.0,9,     -999.0,9,     4.4262,2,     -999.0,9,     -999.0,9,-999.0000, -999.00,-999.000
318M20130321,       P02E,      92,          1,         20,         20,2,20130513,       0621,         30,   -162.879,       5758,   870.7,   3.8919,  34.2202,2,  34.2191,2,     27.1,2,    22.7,2,  114.24,2,   43.03,2,       0,2,    3.11,2,   0.240,2,   0.264,2,-999.000,5,   1.3635,4,  2345.2,2, 2340.63,2,   7.2922,2,       25,-999.000,9,-999.0000,9, -999.00,9, -999.00,9,  -999.0,9,  -999.0,-999.000,9,-999.000,     -999.0,9, -999.00,9, -999.00,9, -999.00,9,     -999.0,9,  -999.0,9, 20130513,      802,  30.0002,  -162.88,    34.3805,2,     -999.0,9,     -999.0,9,     3.8912,2,     -999.0,9,     -999.0,9,-999.0000, -999.00,-999.000
318M20130321,       P02E,      92,          1,         19,         19,2,20130513,       0621,         30,   -162.879,       5758,   971.9,   3.6428,  34.3215,2,  34.3205,2,     14.7,2,    14.4,2,  124.09,2,   43.93,2,       0,2,    3.19,2,-999.000,9,-999.000,9,-999.000,5,-999.0000,9,  2363.5,6, 2358.84,2,   7.2906,2,       25,-999.000,9,-999.0000,9, -999.00,9, -999.00,9,  -999.0,9,  -999.0,-999.000,9,-999.000,     -999.0,9, -999.00,9, -999.00,9, -999.00,9,     -999.0,9,  -999.0,9, 20130513,      759,  30.0003,-162.8801,    34.4823,2,     -999.0,9,     -999.0,9,     3.6427,2,     -999.0,9,     -999.0,9,-999.0000, -999.00,-999.000
318M20130321,       P02E,      92,          1,         18,         18,2,20130513,       0621,         30,   -162.879,       5758,    1078,   3.4447,  34.3885,2,   34.387,2,     16.4,2,    16.5,2,  131.31,2,      44,2,       0,2,     3.2,2,   0.012,2,   0.010,2,-999.000,5,   0.0363,2,  2370.4,2, 2367.64,2,   7.3016,2,       25,-999.000,9,-999.0000,9, -999.00,9, -999.00,9,  -999.0,9,  -999.0,-999.000,9,-999.000,     -999.0,9, -999.00,9, -999.00,9, -999.00,9,     -999.0,9,  -999.0,9, 20130513,      756,  30.0003,-162.8804,    34.5492,2,     -999.0,9,     -999.0,9,      3.445,2,     -999.0,9,     -999.0,9,-999.0000, -999.00,-999.000
318M20130321,       P02E,      92,          1,         17,         17,2,20130513,       0621,         30,   -162.879,       5758,  1174.5,   3.2363,   34.446,2,  34.4451,2,     22.2,2,      22,2,  136.87,2,   43.81,2,       0,2,    3.19,2,   0.004,2,   0.007,2,-999.000,5,   0.0718,2,  2374.9,2, 2377.24,2,   7.3208,2,       25,-999.000,9,-999.0000,9, -999.00,9, -999.00,9,  -999.0,9,  -999.0,-999.000,9,-999.000,     -999.0,9, -999.00,9, -999.00,9, -999.00,9,     -999.0,9,  -999.0,9, 20130513,      754,  30.0003, -162.881,    34.6076,2,     -999.0,9,     -999.0,9,     3.2356,2,     -999.0,9,     -999.0,9,-999.0000, -999.00,-999.000
318M20130321,       P02E,      92,          1,         16,         16,2,20130513,       0621,         30,   -162.879,       5758,  1270.5,   3.0657,  34.4852,2,  34.4856,2,     30.9,2,    30.4,2,  140.38,2,   43.42,2,       0,2,    3.15,2,   0.006,2,   0.008,2,-999.000,5,   0.1288,2,  -999.0,9, -999.00,9,-999.0000,9,  -999.00,-999.000,9,-999.0000,9, -999.00,9, -999.00,9,  -999.0,9,  -999.0,-999.000,9,-999.000,     -999.0,9, -999.00,9, -999.00,9, -999.00,9,     -999.0,9,  -999.0,9, 20130513,      751,  30.0002, -162.881,    34.6482,2,     -999.0,9,     -999.0,9,     3.0652,2,     -999.0,9,     -999.0,9,-999.0000, -999.00,-999.000
318M20130321,       P02E,      92,          1,         15,         15,2,20130513,       0621,         30,   -162.879,       5758,  1374.4,   2.8768,  34.5172,2,  34.5168,2,     39.6,2,      40,2,  144.18,2,   42.87,2,       0,2,     3.1,2,   0.003,2,   0.004,2,-999.000,5,   0.0802,2,  2374.1,2, 2392.75,2,   7.3599,2,       25,-999.000,9,-999.0000,9, -999.00,9, -999.00,9,  -999.0,9,  -999.0,-999.000,9,-999.000,     -999.0,9, -999.00,9, -999.00,9, -999.00,9,     -999.0,9,  -999.0,9, 20130513,      748,       30,-162.8805,    34.6796,2,     -999.0,9,     -999.0,9,     2.8769,2,     -999.0,9,     -999.0,9,-999.0000, -999.00,-999.000
318M20130321,       P02E,      92,          1,         14,         14,2,20130513,       0621,         30,   -162.879,       5758,  1546.4,   2.5942,  34.5523,2,  34.5518,2,     52.7,2,    53.3,2,  149.84,2,   42.12,2,       0,2,    3.03,2,   0.003,2,   0.004,2,-999.000,5,   0.0402,2,  -999.0,9, -999.00,9,-999.0000,9,  -999.00,-999.000,9,-999.0000,9, -999.00,9, -999.00,9,  -999.0,9,  -999.0,-999.000,9,-999.000,     -999.0,9, -999.00,9, -999.00,9, -999.00,9,     -999.0,9,  -999.0,9, 20130513,      744,  30.0002,-162.8797,    34.7147,2,     -999.0,9,     -999.0,9,     2.5942,2,     -999.0,9,     -999.0,9,-999.0000, -999.00,-999.000
318M20130321,       P02E,      92,          1,         13,         13,2,20130513,       0621,         30,   -162.879,       5758,  1750.4,   2.2933,  34.5839,2,  34.5836,2,       66,2,    68.3,2,  155.69,2,   41.31,2,       0,2,    2.96,2,-999.000,9,-999.000,9,-999.000,9,-999.0000,9,    2368,2, 2406.35,2,   7.4166,2,       25,-999.000,9,-999.0000,9, -999.00,9, -999.00,9,  -999.0,9,  -999.0,-999.000,9,-999.000,     -999.0,9, -999.00,9, -999.00,9, -999.00,9,     -999.0,9,  -999.0,9, 20130513,      740,  29.9999,-162.8793,    34.7467,2,     -999.0,9,     -999.0,9,     2.2961,2,     -999.0,9,     -999.0,9,-999.0000, -999.00,-999.000
318M20130321,       P02E,      92,          1,         12,         12,2,20130513,       0621,         30,   -162.879,       5758,  1953.9,   2.0577,  34.6075,2,   34.607,2,     78.1,2,    79.3,2,  161.26,2,   40.67,2,       0,2,     2.9,2,   0.101,4,   0.363,4,-999.000,5,   3.2119,4,  -999.0,9, -999.00,9,-999.0000,9,  -999.00,-999.000,9,-999.0000,9, -999.00,9, -999.00,9,  -999.0,9,  -999.0,-999.000,9,-999.000,     -999.0,9, -999.00,9, -999.00,9, -999.00,9,     -999.0,9,  -999.0,9, 20130513,      736,  29.9996,-162.8791,    34.7702,2,     -999.0,9,     -999.0,9,     2.0584,2,     -999.0,9,     -999.0,9,-999.0000, -999.00,-999.000
318M20130321,       P02E,      92,          1,         11,         11,2,20130513,       0621,         30,   -162.879,       5758,  2187.8,   1.9043,  34.6238,2,  34.6237,2,     87.5,2,    86.2,2,  165.84,2,   40.24,2,       0,2,    2.86,2,-999.000,9,-999.000,9,-999.000,9,-999.0000,9,  2369.9,2, 2417.36,2,   7.4536,2,       25,-999.000,9,-999.0000,9, -999.00,9, -999.00,9,  -999.0,9,  -999.0,-999.000,9,-999.000,     -999.0,9, -999.00,9, -999.00,9, -999.00,9,     -999.0,9,  -999.0,9, 20130513,      731,  29.9995, -162.879,     34.787,2,     -999.0,9,     -999.0,9,     1.9048,2,     -999.0,9,     -999.0,9,-999.0000, -999.00,-999.000
318M20130321,       P02E,      92,          1,         10,         10,2,20130513,       0621,         30,   -162.879,       5758,  2439.6,   1.7786,  34.6376,2,  34.6369,2,     97.7,2,    96.9,2,   167.3,2,   39.64,2,       0,2,    2.81,2,   0.001,2,   0.003,2,-999.000,5,   0.0355,2,  -999.0,9, -999.00,9,-999.0000,9,  -999.00,-999.000,9,-999.0000,9, -999.00,9, -999.00,9,  -999.0,9,  -999.0,-999.000,9,-999.000,     -999.0,9, -999.00,9, -999.00,9, -999.00,9,     -999.0,9,  -999.0,9, 20130513,      726,  29.9996,-162.8792,    34.8002,2,     -999.0,9,     -999.0,9,     1.7783,2,     -999.0,9,     -999.0,9,-999.0000, -999.00,-999.000
318M20130321,       P02E,      92,          1,          9,          9,2,20130513,       0621,         30,   -162.879,       5758,  2697.4,   1.6757,  34.6498,2,  34.6493,2,      107,2,   105.4,2,  167.79,2,   39.03,2,       0,2,    2.76,2,-999.000,9,-999.000,9,-999.000,9,-999.0000,9,  2358.1,2, 2422.36,2,   7.4897,2,       25,-999.000,9,-999.0000,9, -999.00,9, -999.00,9,  -999.0,9,  -999.0,-999.000,9,-999.000,     -999.0,9, -999.00,9, -999.00,9, -999.00,9,     -999.0,9,  -999.0,9, 20130513,      720,  30.0001,-162.8797,    34.8127,2,     -999.0,9,     -999.0,9,     1.6756,2,     -999.0,9,     -999.0,9,-999.0000, -999.00,-999.000
318M20130321,       P02E,      92,          1,          8,          8,2,20130513,       0621,         30,   -162.879,       5758,  2954.3,   1.5994,  34.6587,2,  34.6585,2,      118,2,   117.9,2,  163.69,2,   38.23,2,       0,2,    2.67,2,   0.006,2,   0.008,2,-999.000,5,   0.0567,2,  -999.0,9, -999.00,9,-999.0000,9,  -999.00,-999.000,9,-999.0000,9, -999.00,9, -999.00,9,  -999.0,9,  -999.0,-999.000,9,-999.000,     -999.0,9, -999.00,9, -999.00,9, -999.00,9,     -999.0,9,  -999.0,9, 20130513,      715,  30.0007,-162.8801,     34.822,2,     -999.0,9,     -999.0,9,     1.5992,2,     -999.0,9,     -999.0,9,-999.0000, -999.00,-999.000
318M20130321,       P02E,      92,          1,          7,          7,2,20130513,       0621,         30,   -162.879,       5758,  3242.6,   1.5506,   34.667,2,  34.6662,2,    124.9,2,   125.8,2,   163.2,2,   37.71,2,       0,2,    2.64,2,-999.000,9,-999.000,9,-999.000,9,-999.0000,9,  2346.8,2, 2422.66,2,   7.5255,2,       25,-999.000,9,-999.0000,9, -999.00,9, -999.00,9,  -999.0,9,  -999.0,-999.000,9,-999.000,     -999.0,9, -999.00,9, -999.00,9, -999.00,9,     -999.0,9,  -999.0,9, 20130513,      710,  30.0005,-162.8798,    34.8297,2,     -999.0,9,     -999.0,9,     1.5502,2,     -999.0,9,     -999.0,9,-999.0000, -999.00,-999.000