BOTTLE,20220817CCHSIOAMB
EXPOCODE,SECT_ID,STNNBR,CASTNO,SAMPNO,BTLNBR,BTLNBR_FLAG_W,DATE,TIME,LATITUDE,LONGITUDE,DEPTH,CTDPRS,CTDTMP,CTDSAL,CTDSAL_FLAG_W,SALNTY,SALNTY_FLAG_W,CTDOXY,CTDOXY_FLAG_W,OXYGEN,OXYGEN_FLAG_W,SILCAT,SILCAT_FLAG_W,NITRAT,NITRAT_FLAG_W,NITRIT,NITRIT_FLAG_W,PHSPHT,PHSPHT_FLAG_W,CFC-11,CFC-11_FLAG_W,CFC-12,CFC-12_FLAG_W,CFC113,CFC113_FLAG_W,SF6,SF6_FLAG_W,TCARBN,TCARBN_FLAG_W,ALKALI,ALKALI_FLAG_W,PH_TOT,PH_TOT_FLAG_W,PH_TMP,TRITUM,TRITUM_FLAG_W,HELIUM,HELIUM_FLAG_W,DELHE3,DELHE3_FLAG_W,DELC13,DELC13_FLAG_W,DELC14,DELC14_FLAG_W,C14ERR,NEON,NEON_FLAG_W,NEONER,I-129,I-129_FLAG_W,SR-90,SR-90_FLAG_W,DOC,DOC_FLAG_W,TDN,TDN_FLAG_W,CALCIUM,CALCIUM_FLAG_W,D15N_NO3,D15N_NO3_FLAG_W,BTL_DATE,BTL_TIME,BTL_LAT,BTL_LON,SALTREF,SALTREF_FLAG_W,CS-137,CS-137_FLAG_W,CS-134,CS-134_FLAG_W,REFTMP,REFTMP_FLAG_W,LAB_DEN,LAB_DEN_FLAG_W,D18O_NO3,D18O_NO3_FLAG_W,HELIER,DELHER,TRITER
,,,,,,,,,,,METERS,DBAR,ITS-90,PSS-78,,PSS-78,,UMOL/KG,,UMOL/KG,,UMOL/KG,,UMOL/KG,,UMOL/KG,,UMOL/KG,,PMOL/KG,,PMOL/KG,,PMOL/KG,,FMOL/KG,,UMOL/KG,,UMOL/KG,,,,DEG C,TU,,NMOL/KG,,PERCNT,,/MILLE,,/MILLE,,/MILLE,NMOL/KG,,NMOL/KG,BQ/M^3,,DM/.1MG,,UMOL/KG,,UMOL/KG,,MMOL/KG,,/MILLE,,,,,,G/KG,,BQ/M^3,,BQ/M^3,,ITS-90,,,,/MILLE,,NMOL/KG,PERCNT,TU
318M20130321,       P02W,       5,          1,         29,         29,2,20130323,       0945,     32.124,   133.4301,       1748,     3.9,  22.5059,  34.6765,2,  34.6773,2,    212.3,2,     213,2,    1.46,2,    0.17,2,    0.04,2,    0.05,2,   1.933,2,   1.157,2,   0.158,2,     1.55,2,  1975.4,6, 2275.84,2,   8.0558,2,       25,-999.000,9,-999.0000,9, -999.00,9,    0.76,2,    55.7,2,     2.6,-999.000,9,-999.000,     -999.0,9, -999.00,9,   63.56,2,    5.62,2,     -999.0,9,  -999.0,9, 20130323,     1052,  32.1228,  133.451,    34.8408,2,     -999.0,9,     -999.0,9,    22.5085,2,     -999.0,9,     -999.0,9,-999.0000, -999.00,-999.000
318M20130321,       P02W,       5,          1,         28,         28,2,20130323,       0945,     32.124,   133.4301,       1748,    28.5,  22.5058,  34.6741,2,  34.6739,2,    212.4,2,   213.1,2,    1.46,2,    0.15,2,    0.04,2,    0.05,2,-999.000,9,-999.000,9,-999.000,9,-999.0000,9,  1973.8,2, 2275.54,6,   8.0567,2,       25,-999.000,9,-999.0000,9, -999.00,9, -999.00,9,  -999.0,9,  -999.0,-999.000,9,-999.000,     -999.0,9, -999.00,9, -999.00,5,    5.42,2,     -999.0,9,  -999.0,9, 20130323,     1050,  32.1229, 133.4503,    34.8375,2,     -999.0,9,     -999.0,9,     22.505,2,     -999.0,9,     -999.0,9,-999.0000, -999.00,-999.000
318M20130321,       P02W,       5,          1,         27,         27,2,20130323,       0945,     32.124,   133.4301,       1748,    53.1,  22.5085,  34.6734,2,  34.6743,2,    213.4,2,   212.9,2,    1.46,2,    0.15,2,    0.04,2,    0.05,2,   1.924,2,   1.157,2,   0.165,2,     1.48,2,  1974.5,2, 2276.44,2,   8.0555,2,       25,-999.000,9,-999.0000,9, -999.00,9, -999.00,9,  -999.0,9,  -999.0,-999.000,9,-999.000,     -999.0,9, -999.00,9,   64.37,2,    5.31,2,     -999.0,9,  -999.0,9, 20130323,     1048,  32.1229, 133.4497,    34.8378,2,     -999.0,9,     -999.0,9,     22.508,2,     -999.0,9,     -999.0,9,-999.0000, -999.00,-999.000
318M20130321,       P02W,       5,          1,         26,         26,2,20130323,       0945,     32.124,   133.4301,       1748,    76.1,  22.4971,  34.6734,2,  34.6728,2,    213.2,2,   212.9,2,    1.46,2,    0.17,2,    0.04,2,    0.04,2,-999.000,9,-999.000,9,-999.000,9,-999.0000,9,  -999.0,9, -999.00,9,-999.0000,9,  -999.00,-999.000,9,-999.0000,9, -999.00,9, -999.00,9,  -999.0,9,  -999.0,-999.000,9,-999.000,     -999.0,9, -999.00,9,    65.6,2,    5.44,2,     -999.0,9,  -999.0,9, 20130323,     1047,  32.1229, 133.4492,    34.8363,2,     -999.0,9,     -999.0,9,    22.4975,2,     -999.0,9,     -999.0,9,-999.0000, -999.00,-999.000
318M20130321,       P02W,       5,          1,         25,         25,2,20130323,       0945,     32.124,   133.4301,       1748,   100.2,  21.8437,  34.7334,2,  34.7306,2,    197.8,2,   198.4,2,    2.15,2,    1.61,2,    0.08,2,    0.13,2,   2.015,2,   1.196,2,   0.142,2,     1.47,2,  1996.9,2, 2278.84,2,   8.0203,6,       25,-999.000,9,-999.0000,9, -999.00,9,    0.55,2,    51.9,2,     2.8,-999.000,9,-999.000,     -999.0,9, -999.00,9,   57.79,2,    6.35,2,     -999.0,9,  -999.0,9, 20130323,     1045,  32.1229, 133.4486,    34.8943,2,     -999.0,9,     -999.0,9,    21.8347,2,     -999.0,9,     -999.0,9,-999.0000, -999.00,-999.000
318M20130321,       P02W,       5,          1,         24,         24,2,20130323,       0945,     32.124,   133.4301,       1748,     126,   21.055,  34.6836,2,  34.6816,2,    196.1,2,   194.6,2,    3.71,2,    2.87,2,    0.11,2,    0.21,2,-999.000,9,-999.000,9,-999.000,9,-999.0000,9,  -999.0,9, -999.00,9,-999.0000,9,  -999.00,-999.000,9,-999.0000,9, -999.00,9, -999.00,9,  -999.0,9,  -999.0,-999.000,9,-999.000,     -999.0,9, -999.00,9,    55.9,2,    8.01,2,     -999.0,9,  -999.0,9, 20130323,     1044,  32.1229,  133.448,    34.8451,2,     -999.0,9,     -999.0,9,    21.0558,2,     -999.0,9,     -999.0,9,-999.0000, -999.00,-999.000
318M20130321,       P02W,       5,          1,         23,         23,2,20130323,       0945,     32.124,   133.4301,       1748,   151.7,  20.1838,   34.729,2,  34.7235,2,    188.8,2,   189.7,2,    4.39,2,    3.82,2,    0.03,2,    0.27,2,   2.145,2,   1.269,2,   0.071,2,     1.28,2,  2024.8,2, 2279.74,2,   7.9732,6,       25,-999.000,9,-999.0000,9, -999.00,9, -999.00,9,  -999.0,9,  -999.0,-999.000,9,-999.000,     -999.0,9, -999.00,9,   57.63,2,    8.39,2,     -999.0,9,  -999.0,9, 20130323,     1042,  32.1229, 133.4475,    34.8872,2,     -999.0,9,     -999.0,9,    20.1834,2,     -999.0,9,     -999.0,9,-999.0000, -999.00,-999.000
318M20130321,       P02W,       5,          1,         22,         38,2,20130323,       0945,     32.124,   133.4301,       1748,   177.9,  18.5957,   34.631,2,  34.6317,2,    187.8,2,   186.4,2,       8,2,    6.21,2,    0.03,2,    0.45,2,-999.000,9,-999.000,9,-999.000,9,-999.0000,9,  -999.0,9, -999.00,9,-999.0000,9,  -999.00,-999.000,9,-999.0000,9, -999.00,9, -999.00,9,  -999.0,9,  -999.0,-999.000,9,-999.000,     -999.0,9, -999.00,9,   55.48,2,    10.8,2,     -999.0,9,  -999.0,9, 20130323,     1040,   32.123, 133.4469,     34.795,2,     -999.0,9,     -999.0,9,    18.5925,2,     -999.0,9,     -999.0,9,-999.0000, -999.00,-999.000
318M20130321,       P02W,       5,          1,         21,         21,2,20130323,       0945,     32.124,   133.4301,       1748,   204.2,  17.4723,  34.6767,2,  34.6743,2,    182.9,2,   182.7,2,    7.91,2,    7.05,2,       0,2,    0.49,2,-999.000,9,-999.000,9,-999.000,9,-999.0000,9,  2056.5,2, 2280.24,2,   7.9112,2,       25,-999.000,9,-999.0000,9, -999.00,9,    0.36,2,    55.2,2,     2.9,-999.000,9,-999.000,     -999.0,9, -999.00,9,    50.5,2,   10.67,2,     -999.0,9,  -999.0,9, 20130323,     1039,  32.1231, 133.4463,    34.8378,2,     -999.0,9,     -999.0,9,    17.4739,2,     -999.0,9,     -999.0,9,-999.0000, -999.00,-999.000
318M20130321,       P02W,       5,          1,         20,         20,2,20130323,       0945,     32.124,   133.4301,       1748,   229.7,   16.679,  34.6386,2,  34.6339,2,      178,2,   178.4,2,   10.15,2,     8.6,2,       0,2,     0.6,2,-999.000,9,-999.000,9,-999.000,9,-999.0000,9,  -999.0,9, -999.00,9,-999.0000,9,  -999.00,-999.000,9,-999.0000,9, -999.00,9, -999.00,9,  -999.0,9,  -999.0,-999.000,9,-999.000,     -999.0,9, -999.00,9,   50.13,2,   12.39,2,     -999.0,9,  -999.0,9, 20130323,     1037,  32.1232, 133.4457,    34.7972,2,     -999.0,9,     -999.0,9,    16.6863,2,     -999.0,9,     -999.0,9,-999.0000, -999.00,-999.000
318M20130321,       P02W,       5,          1,         19,         19,2,20130323,       0945,     32.124,   133.4301,       1748,   255.8,  15.7979,  34.5939,2,  34.5948,2,    173.8,2,   175.1,2,   12.98,2,   10.17,2,       0,2,     0.7,2,   2.419,2,   1.357,2,   0.044,2,     1.18,2,  -999.0,9, -999.00,9,-999.0000,9,  -999.00,-999.000,9,-999.0000,9, -999.00,9, -999.00,9,  -999.0,9,  -999.0,-999.000,9,-999.000,     -999.0,9, -999.00,9,   49.58,2,   14.29,2,     -999.0,9,  -999.0,9, 20130323,     1035,  32.1232, 133.4451,    34.7579,2,     -999.0,9,     -999.0,9,    15.7692,2,     -999.0,9,     -999.0,9,-999.0000, -999.00,-999.000
318M20130321,       P02W,       5,          1,         18,         18,2,20130323,       0945,     32.124,   133.4301,       1748,   306.4,  14.1182,  34.5001,2,  34.4995,2,    171.7,2,   172.8,2,   19.23,2,   12.82,2,    0.01,2,     0.9,2,-999.000,9,-999.000,9,-999.000,9,-999.0000,9,  2098.4,2, 2288.44,2,   7.8218,2,       25,-999.000,9,-999.0000,9, -999.00,9,    0.24,2,    25.1,2,     2.5,-999.000,9,-999.000,     -999.0,9, -999.00,9,   48.36,2, -999.00,5,     -999.0,9,  -999.0,9, 20130323,     1033,  32.1233, 133.4442,    34.6622,2,     -999.0,9,     -999.0,9,     14.123,2,     -999.0,9,     -999.0,9,-999.0000, -999.00,-999.000
318M20130321,       P02W,       5,          1,         17,         17,2,20130323,       0945,     32.124,   133.4301,       1748,     358,  12.6372,  34.4382,2,  34.4387,2,    159.4,2,   160.2,2,   26.26,2,   16.28,2,    0.01,2,    1.15,2,   2.387,2,   1.298,2,   0.041,2,     0.96,2,  -999.0,9, -999.00,9,-999.0000,9,  -999.00,-999.000,9,-999.0000,9, -999.00,9, -999.00,9,  -999.0,9,  -999.0,-999.000,9,-999.000,     -999.0,9, -999.00,9,   43.29,2, -999.00,9,     -999.0,9,  -999.0,9, 20130323,     1031,  32.1234, 133.4433,    34.6011,2,     -999.0,9,     -999.0,9,    12.6352,2,     -999.0,9,     -999.0,9,-999.0000, -999.00,-999.000
318M20130321,       P02W,       5,          1,         16,         16,2,20130323,       0945,     32.124,   133.4301,       1748,     408,   9.9982,   34.329,2,  34.3272,2,    143.5,2,   140.4,2,   41.79,2,   22.37,2,       0,2,    1.58,2,-999.000,9,-999.000,9,-999.000,9,-999.0000,9,  2173.5,2, 2290.04,2,   7.6619,2,       25,-999.000,9,-999.0000,9, -999.00,9,   -0.01,2,   -28.5,2,     2.8,-999.000,9,-999.000,     -999.0,9, -999.00,9,   43.12,2, -999.00,9,     -999.0,9,  -999.0,9, 20130323,     1029,  32.1236, 133.4425,    34.4891,2,     -999.0,9,     -999.0,9,     9.9973,2,     -999.0,9,     -999.0,9,-999.0000, -999.00,-999.000
318M20130321,       P02W,       5,          1,         15,         15,4,20130323,       0945,     32.124,   133.4301,       1748,   457.7,   8.2633,  34.2109,2,  34.7046,4,    128.8,2,   193.7,4,    3.91,4,    2.98,4,    0.09,4,    0.25,4,   2.087,2,   1.229,2,   0.081,2,     1.34,2,  -999.0,9, -999.00,9,-999.0000,9,  -999.00,-999.000,9,-999.0000,9, -999.00,9, -999.00,9,  -999.0,9,  -999.0,-999.000,9,-999.000,     -999.0,9, -999.00,9, -999.00,5, -999.00,9,     -999.0,9,  -999.0,9, 20130323,     1026,  32.1237, 133.4417,    34.8682,4,     -999.0,9,     -999.0,9,     8.2693,2,     -999.0,9,     -999.0,9,-999.0000, -999.00,-999.000
318M20130321,       P02W,       5,          1,         14,         14,2,20130323,       0945,     32.124,   133.4301,       1748,   507.3,   7.4795,  34.2528,2,  34.2532,2,    118.6,2,   114.6,2,   62.59,2,   28.95,2,       0,2,    2.06,2,-999.000,9,-999.000,9,-999.000,9,-999.0000,9,  2226.3,2, 2304.94,2,   7.5524,2,       25,-999.000,9,-999.0000,9, -999.00,9,   -0.10,2,   -71.6,2,     2.4,-999.000,9,-999.000,     -999.0,9, -999.00,9,   40.92,2, -999.00,9,     -999.0,9,  -999.0,9, 20130323,     1024,  32.1238, 133.4409,    34.4148,2,     -999.0,9,     -999.0,9,     7.4776,2,     -999.0,9,     -999.0,9,-999.0000, -999.00,-999.000
318M20130321,       P02W,       5,          1,         13,         13,2,20130323,       0945,     32.124,   133.4301,       1748,   605.3,   5.9706,  34.2272,2,  34.2293,2,       94,2,    94.4,2,    78.8,2,   33.35,2,       0,2,    2.38,2,   1.313,2,   0.634,2,   0.034,2,     0.42,2,  -999.0,9, -999.00,9,-999.0000,9,  -999.00,-999.000,9,-999.0000,9, -999.00,9,   -0.24,2,  -102.2,2,     2.2,-999.000,9,-999.000,     -999.0,9, -999.00,9,   38.87,2, -999.00,9,     -999.0,9,  -999.0,9, 20130323,     1021,  32.1239, 133.4399,    34.3907,2,     -999.0,9,     -999.0,9,     5.9646,2,     -999.0,9,     -999.0,9,-999.0000, -999.00,-999.000
318M20130321,       P02W,       5,          1,         12,         12,2,20130323,       0945,     32.124,   133.4301,       1748,   704.9,     5.02,  34.2717,2,  34.2723,2,     74.2,2,    76.8,2,   94.81,2,   36.51,2,       0,2,    2.62,2,-999.000,9,-999.000,9,-999.000,9,-999.0000,9,  2292.6,2, 2332.25,2,   7.4324,2,       25,-999.000,9,-999.0000,9, -999.00,9,   -0.26,2,  -132.8,2,     2.1,-999.000,9,-999.000,     -999.0,9, -999.00,9,   39.08,2, -999.00,9,     -999.0,9,  -999.0,9, 20130323,     1018,   32.124,  133.439,    34.4339,2,     -999.0,9,     -999.0,9,     5.0201,2,     -999.0,9,     -999.0,9,-999.0000, -999.00,-999.000
318M20130321,       P02W,       5,          1,         11,         11,2,20130323,       0945,     32.124,   133.4301,       1748,   805.5,   4.2576,  34.3293,2,  34.3307,2,     66.3,2,    65.5,2,  109.35,2,   38.57,2,       0,2,    2.75,2,   0.553,2,   0.253,2,   0.013,2,      0.1,2,  -999.0,9, -999.00,9,-999.0000,9,  -999.00,-999.000,9,-999.0000,9, -999.00,9,   -0.34,2,  -163.9,2,     2.3,-999.000,9,-999.000,     -999.0,9, -999.00,9,   39.96,2, -999.00,9,     -999.0,9,  -999.0,9, 20130323,     1016,  32.1241,  133.438,    34.4926,2,     -999.0,9,     -999.0,9,     4.2582,2,     -999.0,9,     -999.0,9,-999.0000, -999.00,-999.000
318M20130321,       P02W,       5,          1,         10,         10,2,20130323,       0945,     32.124,   133.4301,       1748,   907.7,    3.894,  34.3933,2,  34.3941,2,       66,2,    66.1,2,  116.57,2,   39.15,2,       0,2,    2.79,2,-999.000,9,-999.000,9,-999.000,9,-999.0000,9,  -999.0,9, -999.00,9,-999.0000,9,  -999.00,-999.000,9,-999.0000,9, -999.00,9,   -0.24,2,  -183.0,2,     2.3,-999.000,9,-999.000,     -999.0,9, -999.00,9,   38.04,2, -999.00,9,     -999.0,9,  -999.0,9, 20130323,     1013,   32.124, 133.4369,    34.5563,2,     -999.0,9,     -999.0,9,     3.8938,2,     -999.0,9,     -999.0,9,-999.0000, -999.00,-999.000
318M20130321,       P02W,       5,          1,          9,          9,2,20130323,       0945,     32.124,   133.4301,       1748,  1009.4,   3.5045,  34.4266,2,  34.4281,2,     66.1,2,    66.1,2,  124.57,2,   39.68,2,       0,2,    2.83,2,   0.267,2,   0.107,2,   0.000,2,     0.06,2,  -999.0,9, -999.00,9,-999.0000,9,  -999.00,-999.000,9,-999.0000,9, -999.00,9,   -0.28,2,  -189.8,2,     2.3,-999.000,9,-999.000,     -999.0,9, -999.00,9,   35.57,2, -999.00,9,     -999.0,9,  -999.0,9, 20130323,     1009,  32.1241, 133.4359,    34.5904,2,     -999.0,9,     -999.0,9,     3.5056,2,     -999.0,9,     -999.0,9,-999.0000, -999.00,-999.000
318M20130321,       P02W,       5,          1,          8,          8,2,20130323,       0945,     32.124,   133.4301,       1748,  1111.5,   3.1706,  34.4457,2,  34.4461,2,     65.5,2,    64.6,2,   131.5,2,   40.15,2,       0,2,    2.86,2,-999.000,9,-999.000,9,-999.000,9,-999.0000,9,  2343.8,2, 2376.46,2,   7.4047,6,       25,-999.000,9,-999.0000,9, -999.00,9,   -0.32,2,  -200.9,2,     2.0,-999.000,9,-999.000,     -999.0,9, -999.00,9,   36.35,2, -999.00,9,     -999.0,9,  -999.0,9, 20130323,     1006,  32.1242,  133.435,    34.6085,2,     -999.0,9,     -999.0,9,     3.1704,2,     -999.0,9,     -999.0,9,-999.0000, -999.00,-999.000
318M20130321,       P02W,       5,          1,          7,          7,2,20130323,       0945,     32.124,   133.4301,       1748,  1214.6,   2.9724,  34.4666,2,  34.4677,2,     67.4,2,    66.2,2,   135.4,2,   40.24,2,       0,2,    2.87,2,   0.182,2,   0.071,2,  -0.002,2,     0.04,2,  -999.0,9, -999.00,9,-999.0000,9,  -999.00,-999.000,9,-999.0000,9, -999.00,9,   -0.30,2,  -208.0,2,     2.1,-999.000,9,-999.000,     -999.0,9, -999.00,9,    37.9,2, -999.00,9,     -999.0,9,  -999.0,9, 20130323,     1003,  32.1242, 133.4341,    34.6302,2,     -999.0,9,     -999.0,9,     2.9728,2,     -999.0,9,     -999.0,9,-999.0000, -999.00,-999.000
318M20130321,       P02W,       5,          1,          6,          6,2,20130323,       0945,     32.124,   133.4301,       1748,  1315.6,   2.8347,   34.485,2,  34.4875,2,     69.5,2,    69.9,2,  137.94,2,   40.15,2,       0,2,    2.86,2,-999.000,9,-999.000,9,-999.000,9,-999.0000,9,  2350.9,2, 2386.46,2,   7.4146,6,       25,-999.000,9,-999.0000,9, -999.00,9,   -0.28,2,  -213.2,2,     2.2,-999.000,9,-999.000,     -999.0,9, -999.00,9,   35.83,2, -999.00,9,     -999.0,9,  -999.0,9, 20130323,     1000,  32.1242, 133.4334,    34.6502,2,     -999.0,9,     -999.0,9,     2.8344,2,     -999.0,9,     -999.0,9,-999.0000, -999.00,-999.000
318M20130321,       P02W,       5,          1,          5,          5,2,20130323,       0945,     32.124,   133.4301,       1748,  1417.8,   2.6063,  34.5117,2,  34.5125,2,     73.9,2,    73.6,2,  142.23,2,   40.12,2,       0,2,    2.86,2,   0.111,2,   0.042,2,  -0.004,2,     0.01,2,  -999.0,9, -999.00,9,-999.0000,9,  -999.00,-999.000,9,-999.0000,9, -999.00,9,   -0.28,2,  -215.6,2,     2.0,-999.000,9,-999.000,     -999.0,9, -999.00,9,   37.01,2, -999.00,9,     -999.0,9,  -999.0,9, 20130323,      957,  32.1243, 133.4327,    34.6752,2,     -999.0,9,     -999.0,9,     2.6054,2,     -999.0,9,     -999.0,9,-999.0000, -999.00,-999.000
318M20130321,       P02W,       5,          1,          4,          4,2,20130323,       0945,     32.124,   133.4301,       1748,  1521.1,   2.4968,  34.5275,2,  34.5301,2,       78,2,    78.2,2,   143.3,2,    39.9,2,       0,2,    2.83,2,-999.000,9,-999.000,9,-999.000,9,-999.0000,9,  2351.6,2, 2392.86,2,    7.432,2,       25,-999.000,9,-999.0000,9, -999.00,9,   -0.25,2,  -216.8,2,     1.9,-999.000,9,-999.000,     -999.0,9, -999.00,9,   35.61,2, -999.00,9,     -999.0,9,  -999.0,9, 20130323,      953,  32.1242, 133.4319,     34.693,2,     -999.0,9,     -999.0,9,     2.4954,2,     -999.0,9,     -999.0,9,-999.0000, -999.00,-999.000
318M20130321,       P02W,       5,          1,          3,          3,2,20130323,       0945,     32.124,   133.4301,       1748,  1624.6,   2.3689,  34.5458,2,  34.5472,2,     83.6,2,    84.2,2,  144.86,2,   39.59,2,       0,2,    2.81,2,   0.088,2,   0.038,2,   0.022,2,     0.04,2,  -999.0,9, -999.00,9,-999.0000,9,  -999.00,-999.000,9,-999.0000,9, -999.00,9, -999.00,9,  -999.0,9,  -999.0,-999.000,9,-999.000,     -999.0,9, -999.00,9,   35.56,2, -999.00,9,     -999.0,9,  -999.0,9, 20130323,      950,  32.1242, 133.4313,    34.7101,2,     -999.0,9,     -999.0,9,     2.3696,2,     -999.0,9,     -999.0,9,-999.0000, -999.00,-999.000
318M20130321,       P02W,       5,          1,          2,          2,2,20130323,       0945,     32.124,   133.4301,       1748,  1727.8,   2.3167,  34.5539,2,  34.5545,2,       87,2,    86.7,2,  145.45,2,   39.49,2,       0,2,    2.82,2,-999.000,9,-999.000,9,-999.000,9,-999.0000,9,  2350.7,2, 2398.86,6,   7.4471,2,       25,-999.000,9,-999.0000,9, -999.00,9, -999.00,9,  -999.0,9,  -999.0,-999.000,9,-999.000,     -999.0,9, -999.00,9, -999.00,9, -999.00,9,     -999.0,9,  -999.0,9, 20130323,      947,  32.1241, 133.4306,    34.7174,2,     -999.0,9,     -999.0,9,     2.3169,2,     -999.0,9,     -999.0,9,-999.0000, -999.00,-999.000
318M20130321,       P02W,       5,          1,          1,          1,2,20130323,       0945,     32.124,   133.4301,       1748,  1787.6,   2.2615,  34.5619,2,  34.5633,2,     89.5,2,    89.3,2,  145.84,2,   39.39,2,       0,2,    2.79,2,   0.086,2,   0.025,2,  -0.006,2,     0.03,2,    2350,6, 2398.66,2,   7.4539,2,       25,-999.000,9,-999.0000,9, -999.00,9, -999.00,9,  -999.0,9,  -999.0,-999.000,9,-999.000,     -999.0,9, -999.00,9,   35.87,2, -999.00,9,     -999.0,9,  -999.0,9, 20130323,      945,   32.124, 133.4301,    34.7263,2,     -999.0,9,     -999.0,9,     2.2612,2,     -999.0,9,     -999.0,9,-999.0000, -999.00,-999.000