BOTTLE,20220817CCHSIOAMB
EXPOCODE,SECT_ID,STNNBR,CASTNO,SAMPNO,BTLNBR,BTLNBR_FLAG_W,DATE,TIME,LATITUDE,LONGITUDE,DEPTH,CTDPRS,CTDTMP,CTDSAL,CTDSAL_FLAG_W,SALNTY,SALNTY_FLAG_W,CTDOXY,CTDOXY_FLAG_W,OXYGEN,OXYGEN_FLAG_W,SILCAT,SILCAT_FLAG_W,NITRAT,NITRAT_FLAG_W,NITRIT,NITRIT_FLAG_W,PHSPHT,PHSPHT_FLAG_W,CFC-11,CFC-11_FLAG_W,CFC-12,CFC-12_FLAG_W,CFC113,CFC113_FLAG_W,SF6,SF6_FLAG_W,TCARBN,TCARBN_FLAG_W,ALKALI,ALKALI_FLAG_W,PH_TOT,PH_TOT_FLAG_W,PH_TMP,TRITUM,TRITUM_FLAG_W,HELIUM,HELIUM_FLAG_W,DELHE3,DELHE3_FLAG_W,DELC13,DELC13_FLAG_W,DELC14,DELC14_FLAG_W,C14ERR,NEON,NEON_FLAG_W,NEONER,I-129,I-129_FLAG_W,SR-90,SR-90_FLAG_W,DOC,DOC_FLAG_W,TDN,TDN_FLAG_W,CALCIUM,CALCIUM_FLAG_W,D15N_NO3,D15N_NO3_FLAG_W,BTL_DATE,BTL_TIME,BTL_LAT,BTL_LON,SALTREF,SALTREF_FLAG_W,CS-137,CS-137_FLAG_W,CS-134,CS-134_FLAG_W,REFTMP,REFTMP_FLAG_W,LAB_DEN,LAB_DEN_FLAG_W,D18O_NO3,D18O_NO3_FLAG_W,HELIER,DELHER,TRITER
,,,,,,,,,,,METERS,DBAR,ITS-90,PSS-78,,PSS-78,,UMOL/KG,,UMOL/KG,,UMOL/KG,,UMOL/KG,,UMOL/KG,,UMOL/KG,,PMOL/KG,,PMOL/KG,,PMOL/KG,,FMOL/KG,,UMOL/KG,,UMOL/KG,,,,DEG C,TU,,NMOL/KG,,PERCNT,,/MILLE,,/MILLE,,/MILLE,NMOL/KG,,NMOL/KG,BQ/M^3,,DM/.1MG,,UMOL/KG,,UMOL/KG,,MMOL/KG,,/MILLE,,,,,,G/KG,,BQ/M^3,,BQ/M^3,,ITS-90,,,,/MILLE,,NMOL/KG,PERCNT,TU
318M20130321,       P02E,     139,          1,         36,         36,2,20130528,       0908,    30.0002,  -124.9149,       4245,     2.9,   16.665,  33.4883,2,  33.4879,2,    246.7,2,   246.4,2,    2.64,2,       0,2,       0,2,    0.26,2,   2.416,2,   1.442,2,-999.000,1,   1.7429,2,  2017.8,6, 2233.59,2,   7.9109,6,       25,-999.000,9,-999.0000,9, -999.00,9,    1.30,2,    17.3,2,     2.7,-999.000,9,-999.000,     -999.0,9, -999.00,9,   63.26,2,    5.19,2,     -999.0,9,  -999.0,9, 20130528,     1103,  30.0009,-124.9158,    33.6458,2,     -999.0,9,     -999.0,9,    16.6657,2,     -999.0,9,     -999.0,9,-999.0000, -999.00,-999.000
318M20130321,       P02E,     139,          1,         34,         34,2,20130528,       0908,    30.0002,  -124.9149,       4245,      21,  16.6764,  33.4891,2,  33.4895,2,    247.9,2,   246.4,2,    2.64,2,       0,2,       0,2,    0.26,2,   2.421,2,   1.448,2,-999.000,1,    1.669,2,  2019.5,2, 2234.09,6,   7.9091,2,       25,-999.000,9,-999.0000,9, -999.00,9, -999.00,9,  -999.0,9,  -999.0,-999.000,9,-999.000,     -999.0,9, -999.00,9,   64.78,2,    4.21,2,     -999.0,9,  -999.0,9, 20130528,     1101,  30.0009,-124.9158,    33.6474,2,     -999.0,9,     -999.0,9,    16.6748,2,     -999.0,9,     -999.0,9,-999.0000, -999.00,-999.000
318M20130321,       P02E,     139,          1,         33,         33,2,20130528,       0908,    30.0002,  -124.9149,       4245,    39.6,  16.6833,  33.4946,2,  33.4995,2,    247.9,2,   246.1,2,    2.54,2,       0,2,       0,2,    0.26,2,   2.418,2,   1.528,2,-999.000,1,   1.7491,2,  2018.4,2, 2233.79,2,   7.9113,2,       25,-999.000,9,-999.0000,9, -999.00,9, -999.00,9,  -999.0,9,  -999.0,-999.000,9,-999.000,     -999.0,9, -999.00,9,   62.71,2,    4.34,2,     -999.0,9,  -999.0,9, 20130528,     1059,  30.0009,-124.9158,    33.6574,2,     -999.0,9,     -999.0,9,    16.6852,2,     -999.0,9,     -999.0,9,-999.0000, -999.00,-999.000
318M20130321,       P02E,     139,          1,         32,         32,2,20130528,       0908,    30.0002,  -124.9149,       4245,    65.3,  15.2897,  33.3926,2,  33.3957,2,    259.9,2,   258.2,2,    2.74,2,       0,2,       0,2,    0.27,2,   2.609,2,   1.483,2,-999.000,1,   1.7373,2,  2013.6,2, 2228.69,2,    7.912,6,       25,-999.000,9,-999.0000,9, -999.00,9, -999.00,9,  -999.0,9,  -999.0,-999.000,9,-999.000,     -999.0,9, -999.00,9,   61.62,2,     4.7,2,     -999.0,9,  -999.0,9, 20130528,     1058,  30.0008,-124.9159,    33.5532,2,     -999.0,9,     -999.0,9,    15.2788,2,     -999.0,9,     -999.0,9,-999.0000, -999.00,-999.000
318M20130321,       P02E,     139,          1,         31,         31,2,20130528,       0908,    30.0002,  -124.9149,       4245,    90.9,  13.8918,  33.2977,2,   33.301,2,    261.7,2,   260.7,2,    3.13,2,       0,2,    0.01,2,    0.31,2,   2.773,2,   1.632,2,-999.000,1,   1.8421,2,  2017.2,2, 2221.39,2,   7.8923,2,       25,-999.000,9,-999.0000,9, -999.00,9,    1.25,2,    22.9,2,     2.5,-999.000,9,-999.000,     -999.0,9, -999.00,9,   57.77,2,     4.7,2,     -999.0,9,  -999.0,9, 20130528,     1056,  30.0008,-124.9159,     33.458,2,     -999.0,9,     -999.0,9,    13.8367,3,     -999.0,9,     -999.0,9,-999.0000, -999.00,-999.000
318M20130321,       P02E,     139,          1,         30,         30,2,20130528,       0908,    30.0002,  -124.9149,       4245,   135.1,  11.5019,  33.3808,2,  33.3807,2,    217.9,2,   218.1,2,     8.6,2,    9.19,2,    0.03,2,    0.89,2,   3.071,2,   1.758,2,-999.000,1,   1.6612,2,  2073.8,2, 2217.19,2,   7.7491,2,       25,-999.000,9,-999.0000,9, -999.00,9, -999.00,9,  -999.0,9,  -999.0,-999.000,9,-999.000,     -999.0,9, -999.00,9,   50.45,2,   15.23,3,     -999.0,9,  -999.0,9, 20130528,     1054,  30.0008,-124.9158,    33.5381,2,     -999.0,9,     -999.0,9,    11.5033,2,     -999.0,9,     -999.0,9,-999.0000, -999.00,-999.000
318M20130321,       P02E,     139,          1,         29,         29,2,20130528,       0908,    30.0002,  -124.9149,       4245,   186.1,   9.6634,  33.6574,2,  33.6549,2,    161.8,2,   160.2,2,   20.51,2,   20.48,2,    0.01,2,    1.61,2,   3.156,2,   1.772,2,-999.000,1,   1.4375,2,    2146,2, 2233.99,2,   7.5884,2,       25,-999.000,9,-999.0000,9, -999.00,9,   -0.02,2,    11.9,2,     2.7,-999.000,9,-999.000,     -999.0,9, -999.00,9,   47.12,2,   27.92,3,     -999.0,9,  -999.0,9, 20130528,     1052,  30.0007,-124.9157,    33.8136,2,     -999.0,9,     -999.0,9,      9.664,2,     -999.0,9,     -999.0,9,-999.0000, -999.00,-999.000
318M20130321,       P02E,     139,          1,         27,         27,2,20130528,       0908,    30.0002,  -124.9149,       4245,   235.6,   8.6763,  33.9273,2,  33.9199,2,    128.1,2,   134.8,2,   29.98,2,    25.3,2,    0.01,2,     1.9,2,   3.027,6,   1.633,6,-999.000,1,   1.1432,6,  2181.4,2,  2251.4,2,   7.5341,2,       25,-999.000,9,-999.0000,9, -999.00,9, -999.00,9,  -999.0,9,  -999.0,-999.000,9,-999.000,     -999.0,9, -999.00,9,   43.44,2,   32.04,3,     -999.0,9,  -999.0,9, 20130528,     1050,  30.0007,-124.9156,    34.0798,2,     -999.0,9,     -999.0,9,     8.6799,2,     -999.0,9,     -999.0,9,-999.0000, -999.00,-999.000
318M20130321,       P02E,     139,          1,         26,         26,2,20130528,       0908,    30.0002,  -124.9149,       4245,   286.9,   7.9735,  34.0324,2,  34.0378,2,    100.4,2,    97.2,2,   40.53,2,   29.88,2,    0.01,2,    2.25,2,   2.557,2,   1.317,2,-999.000,1,   0.7962,2,  2220.3,2,  2266.1,2,   7.4542,2,       25,-999.000,9,-999.0000,9, -999.00,9,   -0.40,2,   -17.5,2,     2.2,-999.000,9,-999.000,     -999.0,9, -999.00,9,   42.55,2,   38.99,3,     -999.0,9,  -999.0,9, 20130528,     1048,  30.0008,-124.9155,    34.1983,2,     -999.0,9,     -999.0,9,     7.9719,2,     -999.0,9,     -999.0,9,-999.0000, -999.00,-999.000
318M20130321,       P02E,     139,          1,         25,         25,2,20130528,       0908,    30.0002,  -124.9149,       4245,   337.2,   7.3961,   34.098,2,  34.0956,2,     67.2,2,    65.2,2,   50.29,2,   33.44,2,    0.01,2,    2.55,2,   1.952,2,   1.002,2,-999.000,1,   0.4362,2,  -999.0,9, -999.00,9,-999.0000,9,  -999.00,-999.000,9,-999.0000,9, -999.00,9,   -0.47,2,   -40.4,2,     2.1,-999.000,9,-999.000,     -999.0,9, -999.00,9, -999.00,5,   41.74,3,     -999.0,9,  -999.0,9, 20130528,     1046,  30.0009,-124.9153,    34.2564,2,     -999.0,9,     -999.0,9,     7.3956,2,     -999.0,9,     -999.0,9,-999.0000, -999.00,-999.000
318M20130321,       P02E,     139,          1,         24,         24,2,20130528,       0908,    30.0002,  -124.9149,       4245,   386.9,   6.9018,  34.1179,2,  34.1164,2,     51.3,2,    50.3,2,   57.51,2,   35.64,2,    0.01,2,    2.71,2,   1.547,2,   0.760,2,-999.000,1,   0.2938,2,  2268.7,2, 2284.41,2,   7.3553,2,       25,-999.000,9,-999.0000,9, -999.00,9,   -0.49,2,   -62.7,2,     3.2,-999.000,9,-999.000,     -999.0,9, -999.00,9, -999.00,5, -999.00,9,     -999.0,9,  -999.0,9, 20130528,     1044,   30.001,-124.9151,    34.2773,2,     -999.0,9,     -999.0,9,     6.9013,2,     -999.0,9,     -999.0,9,-999.0000, -999.00,-999.000
318M20130321,       P02E,     139,          1,         23,         23,2,20130528,       0908,    30.0002,  -124.9149,       4245,   467.3,    5.929,   34.133,2,  34.1321,2,     38.5,2,    39.5,2,   71.58,2,   38.45,2,    0.01,2,    2.91,2,   0.977,2,   0.482,2,-999.000,1,   0.1556,2,  2291.2,2, 2298.52,2,   7.3293,2,       25,-999.000,9,-999.0000,9, -999.00,9,   -0.49,2,   -96.1,2,     2.1,-999.000,9,-999.000,     -999.0,9, -999.00,9,   41.96,2, -999.00,9,     -999.0,9,  -999.0,9, 20130528,     1042,  30.0011,-124.9151,     34.293,2,     -999.0,9,     -999.0,9,     5.9263,2,     -999.0,9,     -999.0,9,-999.0000, -999.00,-999.000
318M20130321,       P02E,     139,          1,         22,         22,2,20130528,       0908,    30.0002,  -124.9149,       4245,   568.6,   5.3806,  34.2478,2,   34.247,2,     18.6,2,    18.6,2,   85.82,2,   40.87,2,       0,2,    3.12,2,   0.275,2,   0.144,2,-999.000,1,   0.0442,2,  2320.3,2, 2319.02,2,   7.3035,2,       25,-999.000,9,-999.0000,9, -999.00,9,   -0.49,2,  -137.6,2,     2.2,-999.000,9,-999.000,     -999.0,9, -999.00,9, -999.00,5, -999.00,9,     -999.0,9,  -999.0,9, 20130528,     1039,   30.001, -124.915,    34.4084,2,     -999.0,9,     -999.0,9,     5.3799,2,     -999.0,9,     -999.0,9,-999.0000, -999.00,-999.000
318M20130321,       P02E,     139,          1,         21,         21,2,20130528,       0908,    30.0002,  -124.9149,       4245,   669.8,    4.977,   34.326,2,  34.3244,2,     12.8,2,    13.3,2,   95.19,2,   42.11,2,       0,2,    3.21,2,   0.080,2,   0.050,2,-999.000,1,   0.1911,2,  2334.9,2, 2333.83,2,   7.3041,2,       25,-999.000,9,-999.0000,9, -999.00,9,   -0.47,2,  -164.6,2,     1.9,-999.000,9,-999.000,     -999.0,9, -999.00,9,   42.07,2, -999.00,9,     -999.0,9,  -999.0,9, 20130528,     1036,  30.0009, -124.915,    34.4863,2,     -999.0,9,     -999.0,9,     4.9799,2,     -999.0,9,     -999.0,9,-999.0000, -999.00,-999.000
318M20130321,       P02E,     139,          1,         20,         20,2,20130528,       0908,    30.0002,  -124.9149,       4245,   769.1,   4.6518,  34.3808,2,  34.3804,2,     13.5,2,    14.2,2,  102.61,2,   42.92,2,       0,2,    3.24,2,   0.032,2,   0.024,2,-999.000,1,        0,2,  -999.0,9, -999.00,9,   7.3118,6,       25,-999.000,9,-999.0000,9, -999.00,9,   -0.42,2,  -182.1,2,     2.4,-999.000,9,-999.000,     -999.0,9, -999.00,9,    39.2,2, -999.00,9,     -999.0,9,  -999.0,9, 20130528,     1033,  30.0007,-124.9152,    34.5425,2,     -999.0,9,     -999.0,9,     4.6498,2,     -999.0,9,     -999.0,9,-999.0000, -999.00,-999.000
318M20130321,       P02E,     139,          1,         19,         19,2,20130528,       0908,    30.0002,  -124.9149,       4245,   871.6,   4.3288,  34.4206,2,    34.42,2,     17.7,2,    17.9,2,  109.34,2,   43.35,2,       0,2,    3.25,2,   0.020,2,   0.016,2,-999.000,1,        0,2,  2350.1,2, 2355.94,2,   7.3218,2,       25,-999.000,9,-999.0000,9, -999.00,9,   -0.41,2,  -193.6,2,     1.8,-999.000,9,-999.000,     -999.0,9, -999.00,9,   40.33,2, -999.00,9,     -999.0,9,  -999.0,9, 20130528,     1030,  30.0006,-124.9154,    34.5823,2,     -999.0,9,     -999.0,9,     4.3273,2,     -999.0,9,     -999.0,9,-999.0000, -999.00,-999.000
318M20130321,       P02E,     139,          1,         18,         18,2,20130528,       0908,    30.0002,  -124.9149,       4245,   973.4,   4.0042,  34.4641,2,  34.4636,2,     23.2,2,    23.6,2,  116.46,2,   43.46,2,       0,2,    3.22,2,   0.014,2,   0.012,2,-999.000,1,        0,2,  -999.0,9, -999.00,9,-999.0000,9,  -999.00,-999.000,9,-999.0000,9, -999.00,9,   -0.35,2,  -207.0,2,     1.7,-999.000,9,-999.000,     -999.0,9, -999.00,9,    41.3,2, -999.00,9,     -999.0,9,  -999.0,9, 20130528,     1027,  30.0006,-124.9154,    34.6261,2,     -999.0,9,     -999.0,9,     4.0047,2,     -999.0,9,     -999.0,9,-999.0000, -999.00,-999.000
318M20130321,       P02E,     139,          1,         17,         17,2,20130528,       0908,    30.0002,  -124.9149,       4245,  1073.9,   3.7724,  34.4947,2,  34.4946,2,     29.4,2,    29.7,2,  121.24,2,    43.3,2,       0,2,     3.2,2,   0.011,2,   0.012,2,-999.000,1,   0.1811,3,  -999.0,9, -999.00,9,-999.0000,9,  -999.00,-999.000,9,-999.0000,9, -999.00,9,   -0.37,2,  -216.6,2,     2.0,-999.000,9,-999.000,     -999.0,9, -999.00,9,   35.34,2, -999.00,9,     -999.0,9,  -999.0,9, 20130528,     1024,  30.0004,-124.9155,    34.6573,2,     -999.0,9,     -999.0,9,     3.7718,2,     -999.0,9,     -999.0,9,-999.0000, -999.00,-999.000
318M20130321,       P02E,     139,          1,         16,         16,2,20130528,       0908,    30.0002,  -124.9149,       4245,  1175.8,   3.5529,  34.5137,2,  34.5164,2,     34.5,2,      34,2,   127.1,2,   43.21,2,       0,2,    3.19,2,   0.011,2,   0.010,2,-999.000,1,        0,2,  2361.2,2, 2379.65,2,   7.3564,2,       25,-999.000,9,-999.0000,9, -999.00,9,   -0.19,3,  -223.7,2,     2.3,-999.000,9,-999.000,     -999.0,9, -999.00,9,    36.7,2, -999.00,9,     -999.0,9,  -999.0,9, 20130528,     1021,  30.0005,-124.9155,    34.6792,2,     -999.0,9,     -999.0,9,      3.552,2,     -999.0,9,     -999.0,9,-999.0000, -999.00,-999.000
318M20130321,       P02E,     139,          1,         15,         15,2,20130528,       0908,    30.0002,  -124.9149,       4245,  1275.1,   3.3093,  34.5322,2,  34.5323,2,     38.8,2,    38.7,2,  132.86,2,   43.05,2,       0,2,    3.17,2,   0.011,2,   0.009,2,-999.000,1,   0.0331,2,  -999.0,9, -999.00,9,-999.0000,9,  -999.00,-999.000,9,-999.0000,9, -999.00,9,   -0.31,2,  -228.1,2,     1.6,-999.000,9,-999.000,     -999.0,9, -999.00,9,   35.98,2, -999.00,9,     -999.0,9,  -999.0,9, 20130528,     1018,  30.0006,-124.9156,    34.6951,2,     -999.0,9,     -999.0,9,     3.3083,2,     -999.0,9,     -999.0,9,-999.0000, -999.00,-999.000
318M20130321,       P02E,     139,          1,         14,         14,2,20130528,       0908,    30.0002,  -124.9149,       4245,  1375.9,   3.0956,  34.5467,2,  34.5472,2,     43.3,2,    43.3,2,  137.74,2,    42.8,2,       0,2,    3.15,2,   0.014,2,   0.015,2,-999.000,1,   0.0686,3,  2367.1,2, 2391.85,2,   7.3745,2,       25,-999.000,9,-999.0000,9, -999.00,9,   -0.32,2,  -232.6,2,     2.4,-999.000,9,-999.000,     -999.0,9, -999.00,9,   36.97,2, -999.00,9,     -999.0,9,  -999.0,9, 20130528,     1015,  30.0009,-124.9157,    34.7101,2,     -999.0,9,     -999.0,9,     3.0959,2,     -999.0,9,     -999.0,9,-999.0000, -999.00,-999.000
318M20130321,       P02E,     139,          1,         13,         13,2,20130528,       0908,    30.0002,  -124.9149,       4245,  1548.3,   2.7715,  34.5718,2,  34.5712,2,     52.3,2,    52.1,2,  146.32,2,   42.34,2,       0,2,     3.1,2,   0.009,2,   0.011,2,-999.000,1,        0,2,  -999.0,9, -999.00,9,-999.0000,9,  -999.00,-999.000,9,-999.0000,9, -999.00,9, -999.00,9,  -999.0,9,  -999.0,-999.000,9,-999.000,     -999.0,9, -999.00,9,   36.98,2, -999.00,9,     -999.0,9,  -999.0,9, 20130528,     1011,  30.0009,-124.9158,    34.7342,2,     -999.0,9,     -999.0,9,     2.7715,2,     -999.0,9,     -999.0,9,-999.0000, -999.00,-999.000
318M20130321,       P02E,     139,          1,         12,         12,2,20130528,       0908,    30.0002,  -124.9149,       4245,  1752.3,   2.4426,  34.5962,2,  34.5961,2,     64.5,2,    64.1,2,  153.64,2,   41.74,2,       0,2,    3.04,2,   0.006,2,   0.007,2,-999.000,1,        0,2,  2372.6,2, 2409.26,2,   7.4159,2,       25,-999.000,9,-999.0000,9, -999.00,9, -999.00,9,  -999.0,9,  -999.0,-999.000,9,-999.000,     -999.0,9, -999.00,9,    36.5,2, -999.00,9,     -999.0,9,  -999.0,9, 20130528,     1007,  30.0008,-124.9158,    34.7593,2,     -999.0,9,     -999.0,9,      2.444,2,     -999.0,9,     -999.0,9,-999.0000, -999.00,-999.000
318M20130321,       P02E,     139,          1,         11,         11,2,20130528,       0908,    30.0002,  -124.9149,       4245,  1954.8,   2.1963,   34.617,2,  34.6172,2,     75.7,2,      76,2,  158.62,2,      41,2,       0,2,    2.96,2,   0.004,2,   0.004,2,-999.000,1,        0,2,  2369.2,2, 2416.06,2,   7.4401,2,       25,-999.000,9,-999.0000,9, -999.00,9, -999.00,9,  -999.0,9,  -999.0,-999.000,9,-999.000,     -999.0,9, -999.00,9,   35.38,2, -999.00,9,     -999.0,9,  -999.0,9, 20130528,     1002,  30.0006,-124.9155,    34.7804,2,     -999.0,9,     -999.0,9,      2.196,2,     -999.0,9,     -999.0,9,-999.0000, -999.00,-999.000
318M20130321,       P02E,     139,          1,         10,         10,2,20130528,       0908,    30.0002,  -124.9149,       4245,  2188.7,   1.9936,  34.6353,2,  34.6352,2,     88.9,2,    89.1,2,  161.84,2,   40.22,2,       0,2,    2.89,2,   0.002,2,   0.004,2,-999.000,1,     0.06,3,  -999.0,9, -999.00,9,-999.0000,9,  -999.00,-999.000,9,-999.0000,9, -999.00,9, -999.00,9,  -999.0,9,  -999.0,-999.000,9,-999.000,     -999.0,9, -999.00,9,    36.8,2, -999.00,9,     -999.0,9,  -999.0,9, 20130528,      957,  30.0005,-124.9152,    34.7986,2,     -999.0,9,     -999.0,9,     1.9936,2,     -999.0,9,     -999.0,9,-999.0000, -999.00,-999.000
318M20130321,       P02E,     139,          1,          9,          9,2,20130528,       0908,    30.0002,  -124.9149,       4245,  2442.9,   1.8363,  34.6472,2,  34.6474,2,     99.2,2,    98.6,2,  164.47,2,   39.56,2,       0,2,    2.83,2,   0.001,2,   0.002,2,-999.000,1,        0,2,  2361.7,2, 2424.06,2,   7.4842,2,       25,-999.000,9,-999.0000,9, -999.00,9, -999.00,9,  -999.0,9,  -999.0,-999.000,9,-999.000,     -999.0,9, -999.00,9,   35.79,2, -999.00,9,     -999.0,9,  -999.0,9, 20130528,      952,  30.0003,-124.9151,    34.8108,2,     -999.0,9,     -999.0,9,     1.8379,2,     -999.0,9,     -999.0,9,-999.0000, -999.00,-999.000
318M20130321,       P02E,     139,          1,          8,          8,2,20130528,       0908,    30.0002,  -124.9149,       4245,  2697.8,   1.7026,  34.6571,2,  34.6572,2,      108,2,   108.8,2,  167.89,2,   38.98,2,       0,2,    2.78,2,   0.002,2,   0.005,2,-999.000,1,        0,2,  -999.0,9, -999.00,9,-999.0000,9,  -999.00,-999.000,9,-999.0000,9, -999.00,9, -999.00,9,  -999.0,9,  -999.0,-999.000,9,-999.000,     -999.0,9, -999.00,9,   36.85,2, -999.00,9,     -999.0,9,  -999.0,9, 20130528,      946,  30.0004,-124.9152,    34.8207,2,     -999.0,9,     -999.0,9,     1.7032,2,     -999.0,9,     -999.0,9,-999.0000, -999.00,-999.000
318M20130321,       P02E,     139,          1,          7,          7,2,20130528,       0908,    30.0002,  -124.9149,       4245,    2953,   1.6162,  34.6648,2,  34.6657,2,    116.6,2,   116.1,2,  169.25,2,   38.52,2,       0,2,    2.72,2,   0.004,2,   0.006,2,-999.000,1,        0,2,  2353.7,2, 2428.36,6,   7.5156,2,       25,-999.000,9,-999.0000,9, -999.00,9, -999.00,9,  -999.0,9,  -999.0,-999.000,9,-999.000,     -999.0,9, -999.00,9, -999.00,5, -999.00,9,     -999.0,9,  -999.0,9, 20130528,      940,  30.0002,-124.9153,    34.8292,2,     -999.0,9,     -999.0,9,     1.6163,2,     -999.0,9,     -999.0,9,-999.0000, -999.00,-999.000
318M20130321,       P02E,     139,          1,          6,          6,2,20130528,       0908,    30.0002,  -124.9149,       4245,  3243.6,   1.5601,  34.6711,2,   34.671,2,    122.9,2,     123,2,  169.64,2,   38.08,2,       0,2,    2.68,2,   0.004,2,   0.010,2,-999.000,1,        0,2,  -999.0,9, -999.00,9,-999.0000,9,  -999.00,-999.000,9,-999.0000,9, -999.00,9, -999.00,9,  -999.0,9,  -999.0,-999.000,9,-999.000,     -999.0,9, -999.00,9,   38.45,2, -999.00,9,     -999.0,9,  -999.0,9, 20130528,      934,  30.0002,-124.9151,    34.8345,2,     -999.0,9,     -999.0,9,     1.5603,2,     -999.0,9,     -999.0,9,-999.0000, -999.00,-999.000