BOTTLE,20220817CCHSIOAMB
EXPOCODE,SECT_ID,STNNBR,CASTNO,SAMPNO,BTLNBR,BTLNBR_FLAG_W,DATE,TIME,LATITUDE,LONGITUDE,DEPTH,CTDPRS,CTDTMP,CTDSAL,CTDSAL_FLAG_W,SALNTY,SALNTY_FLAG_W,CTDOXY,CTDOXY_FLAG_W,OXYGEN,OXYGEN_FLAG_W,SILCAT,SILCAT_FLAG_W,NITRAT,NITRAT_FLAG_W,NITRIT,NITRIT_FLAG_W,PHSPHT,PHSPHT_FLAG_W,CFC-11,CFC-11_FLAG_W,CFC-12,CFC-12_FLAG_W,CFC113,CFC113_FLAG_W,SF6,SF6_FLAG_W,TCARBN,TCARBN_FLAG_W,ALKALI,ALKALI_FLAG_W,PH_TOT,PH_TOT_FLAG_W,PH_TMP,TRITUM,TRITUM_FLAG_W,HELIUM,HELIUM_FLAG_W,DELHE3,DELHE3_FLAG_W,DELC13,DELC13_FLAG_W,DELC14,DELC14_FLAG_W,C14ERR,NEON,NEON_FLAG_W,NEONER,I-129,I-129_FLAG_W,SR-90,SR-90_FLAG_W,DOC,DOC_FLAG_W,TDN,TDN_FLAG_W,CALCIUM,CALCIUM_FLAG_W,D15N_NO3,D15N_NO3_FLAG_W,BTL_DATE,BTL_TIME,BTL_LAT,BTL_LON,SALTREF,SALTREF_FLAG_W,CS-137,CS-137_FLAG_W,CS-134,CS-134_FLAG_W,REFTMP,REFTMP_FLAG_W,LAB_DEN,LAB_DEN_FLAG_W,D18O_NO3,D18O_NO3_FLAG_W,HELIER,DELHER,TRITER
,,,,,,,,,,,METERS,DBAR,ITS-90,PSS-78,,PSS-78,,UMOL/KG,,UMOL/KG,,UMOL/KG,,UMOL/KG,,UMOL/KG,,UMOL/KG,,PMOL/KG,,PMOL/KG,,PMOL/KG,,FMOL/KG,,UMOL/KG,,UMOL/KG,,,,DEG C,TU,,NMOL/KG,,PERCNT,,/MILLE,,/MILLE,,/MILLE,NMOL/KG,,NMOL/KG,BQ/M^3,,DM/.1MG,,UMOL/KG,,UMOL/KG,,MMOL/KG,,/MILLE,,,,,,G/KG,,BQ/M^3,,BQ/M^3,,ITS-90,,,,/MILLE,,NMOL/KG,PERCNT,TU
318M20130321,       P02E,     126,          1,         36,         36,2,20130524,       1210,    29.9999,  -134.9006,       4873,     2.7,  18.4348,  34.4626,2,  34.4634,2,    238.8,2,   239.4,2,    2.15,2,       0,2,       0,2,    0.08,2,   2.194,2,   1.340,2,-999.000,1,   1.5209,2,  2030.5,2, 2278.91,2,   7.9557,2,       25,-999.000,9,-999.0000,9, -999.00,9, -999.00,9,  -999.0,9,  -999.0,-999.000,9,-999.000,     -999.0,9, -999.00,9, -999.00,9, -999.00,9,     -999.0,9,  -999.0,9, 20130524,     1416,  30.0004,-134.8996,    34.6259,2,     -999.0,9,     -999.0,9,     18.436,2,     -999.0,9,     -999.0,9,-999.0000, -999.00,-999.000
318M20130321,       P02E,     126,          1,         34,         34,2,20130524,       1210,    29.9999,  -134.9006,       4873,    39.6,  18.4333,  34.4636,2,  34.4642,2,    239.6,2,   239.1,2,    2.15,2,       0,2,       0,2,    0.07,2,   2.191,2,   1.330,2,-999.000,1,   1.5455,2,  2032.2,2, 2279.21,2,   7.9574,2,       25,-999.000,9,-999.0000,9, -999.00,9, -999.00,9,  -999.0,9,  -999.0,-999.000,9,-999.000,     -999.0,9, -999.00,9, -999.00,9, -999.00,9,     -999.0,9,  -999.0,9, 20130524,     1413,  30.0002,-134.8997,    34.6267,2,     -999.0,9,     -999.0,9,    18.4337,2,     -999.0,9,     -999.0,9,-999.0000, -999.00,-999.000
318M20130321,       P02E,     126,          1,         33,         33,2,20130524,       1210,    29.9999,  -134.9006,       4873,    75.2,  17.0662,  34.3139,2,  34.3196,2,    244.8,2,   243.7,2,    2.34,2,       0,2,       0,2,    0.09,2,   2.314,2,   1.395,2,-999.000,1,    1.519,2,  2026.4,2, 2268.21,2,   7.9502,2,       25,-999.000,9,-999.0000,9, -999.00,9, -999.00,9,  -999.0,9,  -999.0,-999.000,9,-999.000,     -999.0,9, -999.00,9, -999.00,9, -999.00,9,     -999.0,9,  -999.0,9, 20130524,     1411,  30.0002,-134.8999,    34.4814,2,     -999.0,9,     -999.0,9,    17.0783,2,     -999.0,9,     -999.0,9,-999.0000, -999.00,-999.000
318M20130321,       P02E,     126,          1,         32,         32,2,20130524,       1210,    29.9999,  -134.9006,       4873,   109.6,  17.2172,  34.4835,2,  34.4838,2,    240.8,2,     239,2,    2.44,2,       0,2,       0,2,    0.08,2,   2.279,2,   1.376,2,-999.000,1,   1.5701,2,  2031.6,2, 2275.81,2,   7.9528,6,       25,-999.000,9,-999.0000,9, -999.00,9, -999.00,9,  -999.0,9,  -999.0,-999.000,9,-999.000,     -999.0,9, -999.00,9, -999.00,9, -999.00,9,     -999.0,9,  -999.0,9, 20130524,     1409,  30.0002,-134.9002,    34.6464,2,     -999.0,9,     -999.0,9,    17.2165,2,     -999.0,9,     -999.0,9,-999.0000, -999.00,-999.000
318M20130321,       P02E,     126,          1,         31,         31,2,20130524,       1210,    29.9999,  -134.9006,       4873,     150,  14.7684,  34.0604,2,  34.0952,3,    241.3,2,   234.7,2,    3.32,2,    1.19,2,    0.14,2,    0.23,2,   2.550,2,   1.515,2,-999.000,1,   1.6984,2,  -999.0,9, -999.00,9,-999.0000,9,  -999.00,-999.000,9,-999.0000,9, -999.00,9, -999.00,9,  -999.0,9,  -999.0,-999.000,9,-999.000,     -999.0,9, -999.00,9, -999.00,9, -999.00,9,     -999.0,9,  -999.0,9, 20130524,     1408,  30.0002,-134.9007,     34.256,3,     -999.0,9,     -999.0,9,    14.7674,2,     -999.0,9,     -999.0,9,-999.0000, -999.00,-999.000
318M20130321,       P02E,     126,          1,         30,         30,2,20130524,       1210,    29.9999,  -134.9006,       4873,   200.1,  11.7829,  33.7619,2,  33.7623,2,      225,2,   225.4,2,    6.84,2,    6.89,2,    0.02,2,    0.63,2,   3.020,2,   1.744,2,-999.000,1,   1.7002,2,    2062,2, 2232.99,2,   7.8063,2,       25,-999.000,9,-999.0000,9, -999.00,9, -999.00,9,  -999.0,9,  -999.0,-999.000,9,-999.000,     -999.0,9, -999.00,9, -999.00,9, -999.00,9,     -999.0,9,  -999.0,9, 20130524,     1406,  30.0002, -134.901,    33.9215,2,     -999.0,9,     -999.0,9,    11.7837,2,     -999.0,9,     -999.0,9,-999.0000, -999.00,-999.000
318M20130321,       P02E,     126,          1,         29,         29,2,20130524,       1210,    29.9999,  -134.9006,       4873,   250.7,   9.9918,  33.8024,2,  33.8009,2,    209.7,2,   210.9,2,   13.87,2,   13.88,2,    0.01,2,    1.05,2,   3.270,2,   1.843,2,-999.000,1,   1.6654,2,  -999.0,9, -999.00,9,-999.0000,9,  -999.00,-999.000,9,-999.0000,9, -999.00,9, -999.00,9,  -999.0,9,  -999.0,-999.000,9,-999.000,     -999.0,9, -999.00,9, -999.00,9, -999.00,9,     -999.0,9,  -999.0,9, 20130524,     1404,  30.0003,-134.9011,    33.9603,2,     -999.0,9,     -999.0,9,      9.989,2,     -999.0,9,     -999.0,9,-999.0000, -999.00,-999.000
318M20130321,       P02E,     126,          1,         27,         27,2,20130524,       1210,    29.9999,  -134.9006,       4873,   302.3,   8.7748,  33.9728,2,  33.9724,2,    189.9,2,   182.4,2,      25,2,    20.5,2,    0.01,2,    1.48,2,   3.235,2,   1.772,2,-999.000,1,   1.3075,2,  2145.9,2,  2254.9,2,   7.6477,2,       25,-999.000,9,-999.0000,9, -999.00,9, -999.00,9,  -999.0,9,  -999.0,-999.000,9,-999.000,     -999.0,9, -999.00,9, -999.00,9, -999.00,9,     -999.0,9,  -999.0,9, 20130524,     1402,  30.0005, -134.901,    34.1326,2,     -999.0,9,     -999.0,9,      8.775,2,     -999.0,9,     -999.0,9,-999.0000, -999.00,-999.000
318M20130321,       P02E,     126,          1,         26,         26,2,20130524,       1210,    29.9999,  -134.9006,       4873,   352.7,   7.9626,  33.9808,2,  33.9804,2,    164.1,2,   157.3,2,    33.4,2,   24.64,2,    0.01,2,    1.78,2,   3.076,2,   1.638,2,-999.000,1,   1.0617,2,  -999.0,9, -999.00,9,-999.0000,9,  -999.00,-999.000,9,-999.0000,9, -999.00,9, -999.00,9,  -999.0,9,  -999.0,-999.000,9,-999.000,     -999.0,9, -999.00,9, -999.00,9, -999.00,9,     -999.0,9,  -999.0,9, 20130524,     1400,  30.0006,-134.9007,    34.1407,2,     -999.0,9,     -999.0,9,     7.9629,2,     -999.0,9,     -999.0,9,-999.0000, -999.00,-999.000
318M20130321,       P02E,     126,          1,         25,         25,2,20130524,       1210,    29.9999,  -134.9006,       4873,   401.8,   7.0247,  33.9896,2,  33.9895,2,    123.9,2,   115.6,2,   46.48,2,   30.35,2,    0.01,2,     2.2,2,   2.595,6,   1.339,6,-999.000,1,   0.7229,6,  2217.4,2, 2271.61,2,   7.4789,2,       25,-999.000,9,-999.0000,9, -999.00,9, -999.00,9,  -999.0,9,  -999.0,-999.000,9,-999.000,     -999.0,9, -999.00,9, -999.00,9, -999.00,9,     -999.0,9,  -999.0,9, 20130524,     1357,  30.0006,-134.9005,    34.1497,2,     -999.0,9,     -999.0,9,      7.025,2,     -999.0,9,     -999.0,9,-999.0000, -999.00,-999.000
318M20130321,       P02E,     126,          1,         24,         24,2,20130524,       1210,    29.9999,  -134.9006,       4873,   502.4,   5.8991,  34.0474,2,  34.0473,2,     68.5,2,    62.1,2,   66.79,2,   37.07,2,    0.01,2,    2.73,2,   1.578,2,   0.772,2,-999.000,1,   0.2718,2,  2273.1,2, 2290.01,2,   7.3619,2,       25,-999.000,9,-999.0000,9, -999.00,9, -999.00,9,  -999.0,9,  -999.0,-999.000,9,-999.000,     -999.0,9, -999.00,9, -999.00,9, -999.00,9,     -999.0,9,  -999.0,9, 20130524,     1355,  30.0004,-134.9003,    34.2078,2,     -999.0,9,     -999.0,9,     5.9009,2,     -999.0,9,     -999.0,9,-999.0000, -999.00,-999.000
318M20130321,       P02E,     126,          1,         23,         23,2,20130524,       1210,    29.9999,  -134.9006,       4873,   602.7,   5.0732,  34.1212,2,  34.1204,2,     37.9,2,    37.3,2,   84.17,2,   40.34,2,    0.01,2,    2.98,2,   0.754,2,   0.364,2,-999.000,1,   0.0948,2,  2307.8,2, 2310.52,2,   7.3149,2,       25,-999.000,9,-999.0000,9, -999.00,9, -999.00,9,  -999.0,9,  -999.0,-999.000,9,-999.000,     -999.0,9, -999.00,9, -999.00,9, -999.00,9,     -999.0,9,  -999.0,9, 20130524,     1351,  30.0001,-134.9002,    34.2813,2,     -999.0,9,     -999.0,9,     5.0732,2,     -999.0,9,     -999.0,9,-999.0000, -999.00,-999.000
318M20130321,       P02E,     126,          1,         22,         22,2,20130524,       1210,    29.9999,  -134.9006,       4873,   704.3,   4.5443,  34.2571,2,  34.2565,2,     17.6,2,    14.7,2,  101.45,2,   42.75,2,    0.01,2,    3.19,2,   0.150,2,   0.076,2,-999.000,1,        0,2,  2340.3,2, 2333.53,2,   7.2886,6,       25,-999.000,9,-999.0000,9, -999.00,9, -999.00,9,  -999.0,9,  -999.0,-999.000,9,-999.000,     -999.0,9, -999.00,9, -999.00,9, -999.00,9,     -999.0,9,  -999.0,9, 20130524,     1349,  30.0001,-134.9003,     34.418,2,     -999.0,9,     -999.0,9,     4.5443,2,     -999.0,9,     -999.0,9,-999.0000, -999.00,-999.000
318M20130321,       P02E,     126,          1,         21,         21,2,20130524,       1210,    29.9999,  -134.9006,       4873,   807.2,   4.1442,  34.3548,2,  34.3534,2,     12.6,2,    13.2,2,  112.57,2,   43.48,2,       0,2,    3.24,2,   0.036,2,   0.024,2,-999.000,1,        0,2,  2353.9,2, 2352.74,6,   7.2975,2,       25,-999.000,9,-999.0000,9, -999.00,9, -999.00,9,  -999.0,9,  -999.0,-999.000,9,-999.000,     -999.0,9, -999.00,9, -999.00,9, -999.00,9,     -999.0,9,  -999.0,9, 20130524,     1346,  30.0001,-134.9003,    34.5154,2,     -999.0,9,     -999.0,9,      4.144,2,     -999.0,9,     -999.0,9,-999.0000, -999.00,-999.000
318M20130321,       P02E,     126,          1,         20,         20,2,20130524,       1210,    29.9999,  -134.9006,       4873,   908.5,   3.8843,  34.4084,2,   34.407,2,     15.6,2,    17.1,2,  119.01,2,   43.62,2,       0,2,    3.24,2,   0.019,2,   0.014,2,-999.000,1,        0,2,  2359.3,2, 2363.54,2,   7.3121,2,       25,-999.000,9,-999.0000,9, -999.00,9, -999.00,9,  -999.0,9,  -999.0,-999.000,9,-999.000,     -999.0,9, -999.00,9, -999.00,9, -999.00,9,     -999.0,9,  -999.0,9, 20130524,     1343,  30.0003,-134.9004,    34.5692,2,     -999.0,9,     -999.0,9,     3.8851,2,     -999.0,9,     -999.0,9,-999.0000, -999.00,-999.000
318M20130321,       P02E,     126,          1,         19,         19,2,20130524,       1210,    29.9999,  -134.9006,       4873,  1010.4,   3.6395,  34.4582,2,  34.4578,2,     23.9,2,    26.3,2,  123.88,2,   43.39,2,       0,2,     3.2,2,   0.014,2,   0.009,2,-999.000,1,        0,2,  2361.9,2, 2372.24,2,   7.3371,2,       25,-999.000,9,-999.0000,9, -999.00,9, -999.00,9,  -999.0,9,  -999.0,-999.000,9,-999.000,     -999.0,9, -999.00,9, -999.00,9, -999.00,9,     -999.0,9,  -999.0,9, 20130524,     1340,  30.0003,-134.9004,    34.6203,2,     -999.0,9,     -999.0,9,     3.6396,2,     -999.0,9,     -999.0,9,-999.0000, -999.00,-999.000
318M20130321,       P02E,     126,          1,         18,         18,2,20130524,       1210,    29.9999,  -134.9006,       4873,  1110.4,   3.4514,  34.4894,2,  34.4896,2,     32.9,2,      34,2,   127.4,2,   43.07,2,       0,2,    3.16,2,   0.009,2,   0.006,2,-999.000,1,   0.0433,2,  2362.5,2, 2380.05,2,   7.3541,2,       25,-999.000,9,-999.0000,9, -999.00,9, -999.00,9,  -999.0,9,  -999.0,-999.000,9,-999.000,     -999.0,9, -999.00,9, -999.00,9, -999.00,9,     -999.0,9,  -999.0,9, 20130524,     1337,  30.0002,-134.9003,    34.6523,2,     -999.0,9,     -999.0,9,     3.4519,2,     -999.0,9,     -999.0,9,-999.0000, -999.00,-999.000
318M20130321,       P02E,     126,          1,         17,         17,2,20130524,       1210,    29.9999,  -134.9006,       4873,  1207.7,   3.2743,  34.5112,2,   34.511,2,     37.9,2,      39,2,  131.79,2,   42.94,2,       0,2,    3.14,2,   0.008,2,   0.006,2,-999.000,1,        0,2,  -999.0,9, -999.00,9,-999.0000,9,  -999.00,-999.000,9,-999.0000,9, -999.00,9, -999.00,9,  -999.0,9,  -999.0,-999.000,9,-999.000,     -999.0,9, -999.00,9, -999.00,9, -999.00,9,     -999.0,9,  -999.0,9, 20130524,     1334,  29.9999,-134.9003,    34.6738,2,     -999.0,9,     -999.0,9,     3.2739,2,     -999.0,9,     -999.0,9,-999.0000, -999.00,-999.000
318M20130321,       P02E,     126,          1,         16,         16,2,20130524,       1210,    29.9999,  -134.9006,       4873,  1307.1,   3.0918,  34.5305,2,  34.5301,2,     44.3,2,    44.6,2,  136.08,2,   42.68,2,       0,2,    3.12,2,   0.006,2,   0.004,2,-999.000,1,        0,2,  -999.0,9, -999.00,9,-999.0000,9,  -999.00,-999.000,9,-999.0000,9, -999.00,9, -999.00,9,  -999.0,9,  -999.0,-999.000,9,-999.000,     -999.0,9, -999.00,9, -999.00,9, -999.00,9,     -999.0,9,  -999.0,9, 20130524,     1331,  29.9995,-134.9006,    34.6929,2,     -999.0,9,     -999.0,9,      3.091,2,     -999.0,9,     -999.0,9,-999.0000, -999.00,-999.000
318M20130321,       P02E,     126,          1,         15,         15,2,20130524,       1210,    29.9999,  -134.9006,       4873,  1411.7,   2.9076,  34.5475,2,  34.5474,2,     50.5,2,    49.5,2,  140.67,2,   42.46,2,       0,2,    3.08,2,   0.006,2,   0.006,2,-999.000,1,        0,2,  2367.2,2, 2394.75,2,   7.3859,2,       25,-999.000,9,-999.0000,9, -999.00,9, -999.00,9,  -999.0,9,  -999.0,-999.000,9,-999.000,     -999.0,9, -999.00,9, -999.00,9, -999.00,9,     -999.0,9,  -999.0,9, 20130524,     1328,  29.9994,-134.9013,    34.7103,2,     -999.0,9,     -999.0,9,     2.9084,2,     -999.0,9,     -999.0,9,-999.0000, -999.00,-999.000
318M20130321,       P02E,     126,          1,         14,         14,2,20130524,       1210,    29.9999,  -134.9006,       4873,  1614.5,   2.5445,  34.5764,2,  34.5761,2,     59.2,2,    60.1,2,  150.03,2,   41.87,2,       0,2,    3.04,2,   0.006,2,   0.004,2,-999.000,1,        0,2,  2370.8,2, 2404.45,2,   7.4063,6,       25,-999.000,9,-999.0000,9, -999.00,9, -999.00,9,  -999.0,9,  -999.0,-999.000,9,-999.000,     -999.0,9, -999.00,9, -999.00,9, -999.00,9,     -999.0,9,  -999.0,9, 20130524,     1324,  29.9995,-134.9015,    34.7391,2,     -999.0,9,     -999.0,9,     2.5461,2,     -999.0,9,     -999.0,9,-999.0000, -999.00,-999.000
318M20130321,       P02E,     126,          1,         13,         13,2,20130524,       1210,    29.9999,  -134.9006,       4873,  1819.9,   2.2906,  34.5969,2,  34.5967,2,     69.5,2,    67.6,2,  157.35,2,   41.43,2,       0,2,    2.99,2,   0.006,2,   0.004,2,-999.000,1,        0,2,  2370.9,6, 2412.36,2,   7.4205,2,       25,-999.000,9,-999.0000,9, -999.00,9, -999.00,9,  -999.0,9,  -999.0,-999.000,9,-999.000,     -999.0,9, -999.00,9, -999.00,9, -999.00,9,     -999.0,9,  -999.0,9, 20130524,     1319,   29.999,-134.9017,    34.7598,2,     -999.0,9,     -999.0,9,     2.2904,2,     -999.0,9,     -999.0,9,-999.0000, -999.00,-999.000
318M20130321,       P02E,     126,          1,         12,         12,2,20130524,       1210,    29.9999,  -134.9006,       4873,  2021.8,    2.085,  34.6152,2,  34.6153,2,     78.2,2,    77.5,2,  162.62,2,   40.85,2,       0,2,    2.94,2,   0.007,2,   0.002,2,-999.000,1,        0,2,  -999.0,9, -999.00,9,-999.0000,9,  -999.00,-999.000,9,-999.0000,9, -999.00,9, -999.00,9,  -999.0,9,  -999.0,-999.000,9,-999.000,     -999.0,9, -999.00,9, -999.00,9, -999.00,9,     -999.0,9,  -999.0,9, 20130524,     1314,  29.9991,-134.9022,    34.7786,2,     -999.0,9,     -999.0,9,     2.0847,2,     -999.0,9,     -999.0,9,-999.0000, -999.00,-999.000
318M20130321,       P02E,     126,          1,         11,         11,2,20130524,       1210,    29.9999,  -134.9006,       4873,  2274.3,   1.8785,  34.6336,2,  34.6334,2,     90.4,2,    88.5,2,   167.4,2,   40.11,2,       0,2,    2.86,2,   0.005,2,   0.004,2,-999.000,1,        0,2,  2368.7,2, 2422.66,2,   7.4612,2,       25,-999.000,9,-999.0000,9, -999.00,9, -999.00,9,  -999.0,9,  -999.0,-999.000,9,-999.000,     -999.0,9, -999.00,9, -999.00,9, -999.00,9,     -999.0,9,  -999.0,9, 20130524,     1309,  29.9993,-134.9023,    34.7967,2,     -999.0,9,     -999.0,9,     1.8787,2,     -999.0,9,     -999.0,9,-999.0000, -999.00,-999.000
318M20130321,       P02E,     126,          1,         10,         10,2,20130524,       1210,    29.9999,  -134.9006,       4873,  2525.3,   1.7371,  34.6483,2,  34.6482,2,    100.5,2,   100.4,2,  169.45,2,    39.4,2,       0,2,     2.8,2,   0.006,2,   0.002,2,-999.000,1,        0,2,  -999.0,9, -999.00,9,-999.0000,9,  -999.00,-999.000,9,-999.0000,9, -999.00,9, -999.00,9,  -999.0,9,  -999.0,-999.000,9,-999.000,     -999.0,9, -999.00,9, -999.00,9, -999.00,9,     -999.0,9,  -999.0,9, 20130524,     1304,  29.9993,-134.9018,    34.8116,2,     -999.0,9,     -999.0,9,     1.7369,2,     -999.0,9,     -999.0,9,-999.0000, -999.00,-999.000
318M20130321,       P02E,     126,          1,          9,          9,2,20130524,       1210,    29.9999,  -134.9006,       4873,  2784.3,   1.6351,  34.6587,2,  34.6582,2,    110.2,2,   109.4,2,  170.42,2,   38.83,2,       0,2,    2.75,2,   0.009,2,   0.004,2,-999.000,1,        0,2,  2359.2,2, 2427.36,2,   7.5012,2,       25,-999.000,9,-999.0000,9, -999.00,9, -999.00,9,  -999.0,9,  -999.0,-999.000,9,-999.000,     -999.0,9, -999.00,9, -999.00,9, -999.00,9,     -999.0,9,  -999.0,9, 20130524,     1258,       30,-134.9008,    34.8216,2,     -999.0,9,     -999.0,9,     1.6354,2,     -999.0,9,     -999.0,9,-999.0000, -999.00,-999.000
318M20130321,       P02E,     126,          1,          8,          8,2,20130524,       1210,    29.9999,  -134.9006,       4873,  3038.5,   1.5533,  34.6672,2,  34.6666,2,    119.2,2,   119.2,2,  170.03,2,   38.18,2,       0,2,     2.7,2,   0.008,2,   0.004,2,-999.000,1,        0,2,  -999.0,9, -999.00,9,-999.0000,9,  -999.00,-999.000,9,-999.0000,9, -999.00,9, -999.00,9,  -999.0,9,  -999.0,-999.000,9,-999.000,     -999.0,9, -999.00,9, -999.00,9, -999.00,9,     -999.0,9,  -999.0,9, 20130524,     1253,       30,-134.9005,    34.8301,2,     -999.0,9,     -999.0,9,     1.5534,2,     -999.0,9,     -999.0,9,-999.0000, -999.00,-999.000
318M20130321,       P02E,     126,          1,          7,          7,2,20130524,       1210,    29.9999,  -134.9006,       4873,  3343.8,   1.4906,  34.6757,2,  34.6747,2,    129.6,2,   130.9,2,   167.1,2,   37.53,2,       0,2,    2.65,2,   0.005,2,   0.004,2,-999.000,1,        0,2,    2343,2, 2429.06,2,    7.541,6,       25,-999.000,9,-999.0000,9, -999.00,9, -999.00,9,  -999.0,9,  -999.0,-999.000,9,-999.000,     -999.0,9, -999.00,9, -999.00,9, -999.00,9,     -999.0,9,  -999.0,9, 20130524,     1246,  29.9998,-134.9006,    34.8382,2,     -999.0,9,     -999.0,9,     1.4906,2,     -999.0,9,     -999.0,9,-999.0000, -999.00,-999.000
318M20130321,       P02E,     126,          1,          6,          6,2,20130524,       1210,    29.9999,  -134.9006,       4873,  3654.5,   1.4709,  34.6812,2,   34.681,2,    137.7,2,   138.9,2,  164.37,2,   37.03,2,       0,2,    2.61,2,   0.005,2,   0.004,2,-999.000,1,        0,2,  -999.0,9, -999.00,9,-999.0000,9,  -999.00,-999.000,9,-999.0000,9, -999.00,9, -999.00,9,  -999.0,9,  -999.0,-999.000,9,-999.000,     -999.0,9, -999.00,9, -999.00,9, -999.00,9,     -999.0,9,  -999.0,9, 20130524,     1240,  30.0001,-134.9005,    34.8445,2,     -999.0,9,     -999.0,9,     1.4712,2,     -999.0,9,     -999.0,9,-999.0000, -999.00,-999.000