BOTTLE,20220817CCHSIOAMB
EXPOCODE,SECT_ID,STNNBR,CASTNO,SAMPNO,BTLNBR,BTLNBR_FLAG_W,DATE,TIME,LATITUDE,LONGITUDE,DEPTH,CTDPRS,CTDTMP,CTDSAL,CTDSAL_FLAG_W,SALNTY,SALNTY_FLAG_W,CTDOXY,CTDOXY_FLAG_W,OXYGEN,OXYGEN_FLAG_W,SILCAT,SILCAT_FLAG_W,NITRAT,NITRAT_FLAG_W,NITRIT,NITRIT_FLAG_W,PHSPHT,PHSPHT_FLAG_W,CFC-11,CFC-11_FLAG_W,CFC-12,CFC-12_FLAG_W,CFC113,CFC113_FLAG_W,SF6,SF6_FLAG_W,TCARBN,TCARBN_FLAG_W,ALKALI,ALKALI_FLAG_W,PH_TOT,PH_TOT_FLAG_W,PH_TMP,TRITUM,TRITUM_FLAG_W,HELIUM,HELIUM_FLAG_W,DELHE3,DELHE3_FLAG_W,DELC13,DELC13_FLAG_W,DELC14,DELC14_FLAG_W,C14ERR,NEON,NEON_FLAG_W,NEONER,I-129,I-129_FLAG_W,SR-90,SR-90_FLAG_W,DOC,DOC_FLAG_W,TDN,TDN_FLAG_W,CALCIUM,CALCIUM_FLAG_W,D15N_NO3,D15N_NO3_FLAG_W,BTL_DATE,BTL_TIME,BTL_LAT,BTL_LON,SALTREF,SALTREF_FLAG_W,CS-137,CS-137_FLAG_W,CS-134,CS-134_FLAG_W,REFTMP,REFTMP_FLAG_W,LAB_DEN,LAB_DEN_FLAG_W,D18O_NO3,D18O_NO3_FLAG_W,HELIER,DELHER,TRITER
,,,,,,,,,,,METERS,DBAR,ITS-90,PSS-78,,PSS-78,,UMOL/KG,,UMOL/KG,,UMOL/KG,,UMOL/KG,,UMOL/KG,,UMOL/KG,,PMOL/KG,,PMOL/KG,,PMOL/KG,,FMOL/KG,,UMOL/KG,,UMOL/KG,,,,DEG C,TU,,NMOL/KG,,PERCNT,,/MILLE,,/MILLE,,/MILLE,NMOL/KG,,NMOL/KG,BQ/M^3,,DM/.1MG,,UMOL/KG,,UMOL/KG,,MMOL/KG,,/MILLE,,,,,,G/KG,,BQ/M^3,,BQ/M^3,,ITS-90,,,,/MILLE,,NMOL/KG,PERCNT,TU
318M20130321,       P02E,      96,          2,         36,         36,2,20130514,       2112,    30.0002,  -158.3032,       5865,     2.5,  20.4001,  34.9076,2,  34.9077,2,      227,2,   227.8,2,    1.76,2,       0,2,       0,2,       0,2,   1.978,2,   1.207,2,-999.000,5,   1.4172,2,  2013.9,2, 2291.91,2,   8.0094,2,       25,-999.000,9,-999.0000,9, -999.00,9, -999.00,9,  -999.0,9,  -999.0,-999.000,9,-999.000,     -999.0,9, -999.00,9, -999.00,9, -999.00,9,     -999.0,9,  -999.0,9, 20130514,     2337,  30.0009, -158.306,    35.0723,2,     -999.0,9,     -999.0,9,    20.4012,2,     -999.0,9,     -999.0,9,-999.0000, -999.00,-999.000
318M20130321,       P02E,      96,          2,         34,         34,2,20130514,       2112,    30.0002,  -158.3032,       5865,    24.4,  20.2971,  34.9349,2,  34.9345,2,    229.1,2,   227.8,2,    1.76,2,       0,2,       0,2,       0,2,   1.970,2,   1.191,2,-999.000,5,   1.4644,2,  2015.3,2, 2295.52,2,    8.011,6,       25,-999.000,9,-999.0000,9, -999.00,9, -999.00,9,  -999.0,9,  -999.0,-999.000,9,-999.000,     -999.0,9, -999.00,9, -999.00,9, -999.00,9,     -999.0,9,  -999.0,9, 20130514,     2334,  30.0008,-158.3057,    35.0992,2,     -999.0,9,     -999.0,9,    20.2979,2,     -999.0,9,     -999.0,9,-999.0000, -999.00,-999.000
318M20130321,       P02E,      96,          2,         33,         33,2,20130514,       2112,    30.0002,  -158.3032,       5865,      50,  20.1645,  34.9477,2,  34.9467,2,    230.2,2,   228.3,2,    1.85,2,       0,2,       0,2,       0,2,   1.990,2,   1.210,2,-999.000,5,   1.4448,2,  2016.8,2, 2295.82,2,   8.0117,2,       25,-999.000,9,-999.0000,9, -999.00,9, -999.00,9,  -999.0,9,  -999.0,-999.000,9,-999.000,     -999.0,9, -999.00,9, -999.00,9, -999.00,9,     -999.0,9,  -999.0,9, 20130514,     2332,  30.0006,-158.3055,    35.1115,2,     -999.0,9,     -999.0,9,    20.1661,2,     -999.0,9,     -999.0,9,-999.0000, -999.00,-999.000
318M20130321,       P02E,      96,          2,         32,         32,2,20130514,       2112,    30.0002,  -158.3032,       5865,    74.7,  19.3931,  34.9965,2,  34.9957,2,    231.3,2,   231.1,2,    2.15,2,       0,2,       0,2,       0,2,   2.032,2,   1.229,2,-999.000,5,   1.4348,2,  -999.0,9, -999.00,9,-999.0000,9,  -999.00,-999.000,9,-999.0000,9, -999.00,9, -999.00,9,  -999.0,9,  -999.0,-999.000,9,-999.000,     -999.0,9, -999.00,9, -999.00,9, -999.00,9,     -999.0,9,  -999.0,9, 20130514,     2330,  30.0005,-158.3054,    35.1607,2,     -999.0,9,     -999.0,9,    19.3938,2,     -999.0,9,     -999.0,9,-999.0000, -999.00,-999.000
318M20130321,       P02E,      96,          2,         31,         31,2,20130514,       2112,    30.0002,  -158.3032,       5865,    98.7,  18.9672,  34.9082,2,  34.9166,2,    229.5,2,   230.8,2,    2.15,2,       0,2,       0,2,       0,2,   2.078,6,   1.254,6,-999.000,5,   1.4369,6,  2020.1,2, 2293.61,6,   7.9992,2,       25,-999.000,9,-999.0000,9, -999.00,9, -999.00,9,  -999.0,9,  -999.0,-999.000,9,-999.000,     -999.0,9, -999.00,9, -999.00,9, -999.00,9,     -999.0,9,  -999.0,9, 20130514,     2328,  30.0005,-158.3056,    35.0813,2,     -999.0,9,     -999.0,9,    18.9641,2,     -999.0,9,     -999.0,9,-999.0000, -999.00,-999.000
318M20130321,       P02E,      96,          2,         30,         30,2,20130514,       2112,    30.0002,  -158.3032,       5865,   149.8,  15.9517,  34.5002,2,  34.4974,2,      219,2,   218.8,2,    4.39,2,    2.96,2,    0.07,2,    0.24,2,   2.447,2,   1.434,2,-999.000,5,   1.5009,2,  -999.0,9, -999.00,9,-999.0000,9,  -999.00,-999.000,9,-999.0000,9, -999.00,9, -999.00,9,  -999.0,9,  -999.0,-999.000,9,-999.000,     -999.0,9, -999.00,9, -999.00,9, -999.00,9,     -999.0,9,  -999.0,9, 20130514,     2326,  30.0005,-158.3059,    34.6601,2,     -999.0,9,     -999.0,9,    15.9478,2,     -999.0,9,     -999.0,9,-999.0000, -999.00,-999.000
318M20130321,       P02E,      96,          2,         29,         29,2,20130514,       2112,    30.0002,  -158.3032,       5865,   200.8,  13.9056,  34.3477,2,  34.3445,2,    217.7,2,   218.7,2,    7.22,2,    7.08,2,    0.01,2,     0.5,2,   2.668,2,   1.538,2,-999.000,5,   1.5283,2,  2059.8,2,  2260.2,2,   7.8643,2,       25,-999.000,9,-999.0000,9, -999.00,9, -999.00,9,  -999.0,9,  -999.0,-999.000,9,-999.000,     -999.0,9, -999.00,9, -999.00,9, -999.00,9,     -999.0,9,  -999.0,9, 20130514,     2324,  30.0004,-158.3059,    34.5065,2,     -999.0,9,     -999.0,9,    13.9038,2,     -999.0,9,     -999.0,9,-999.0000, -999.00,-999.000
318M20130321,       P02E,      96,          2,         28,         28,2,20130514,       2112,    30.0002,  -158.3032,       5865,   251.3,  12.5832,  34.2985,2,  34.2975,2,    214.8,2,   216.2,2,   10.25,2,      10,2,    0.01,2,    0.69,2,   2.825,2,   1.605,2,-999.000,5,    1.499,2,  -999.0,9, -999.00,9,-999.0000,9,  -999.00,-999.000,9,-999.0000,9, -999.00,9, -999.00,9,  -999.0,9,  -999.0,-999.000,9,-999.000,     -999.0,9, -999.00,9, -999.00,9, -999.00,9,     -999.0,9,  -999.0,9, 20130514,     2322,  30.0002,-158.3057,    34.4592,2,     -999.0,9,     -999.0,9,    12.5824,2,     -999.0,9,     -999.0,9,-999.0000, -999.00,-999.000
318M20130321,       P02E,      96,          2,         27,         27,2,20130514,       2112,    30.0002,  -158.3032,       5865,   300.9,  11.7677,  34.2524,2,  34.2525,2,    217.4,2,   217.1,2,    12.3,2,   11.49,2,    0.01,2,     0.8,2,   2.939,2,   1.660,2,-999.000,5,   1.4656,2,  2088.8,2,  2259.8,2,   7.8048,2,       25,-999.000,9,-999.0000,9, -999.00,9, -999.00,9,  -999.0,9,  -999.0,-999.000,9,-999.000,     -999.0,9, -999.00,9, -999.00,9, -999.00,9,     -999.0,9,  -999.0,9, 20130514,     2320,  30.0001,-158.3055,    34.4141,2,     -999.0,9,     -999.0,9,    11.7681,2,     -999.0,9,     -999.0,9,-999.0000, -999.00,-999.000
318M20130321,       P02E,      96,          2,         26,         26,2,20130514,       2112,    30.0002,  -158.3032,       5865,   350.9,  10.8037,  34.1876,2,  34.1871,2,    217.7,2,   218.1,2,   15.13,2,   13.34,2,    0.01,2,    0.93,2,   3.072,2,   1.710,2,-999.000,5,   1.4756,2,  2099.4,2,  2260.5,2,   7.7778,2,       25,-999.000,9,-999.0000,9, -999.00,9, -999.00,9,  -999.0,9,  -999.0,-999.000,9,-999.000,     -999.0,9, -999.00,9, -999.00,9, -999.00,9,     -999.0,9,  -999.0,9, 20130514,     2318,  30.0001,-158.3056,    34.3483,2,     -999.0,9,     -999.0,9,    10.8027,2,     -999.0,9,     -999.0,9,-999.0000, -999.00,-999.000
318M20130321,       P02E,      96,          2,         25,         25,2,20130514,       2112,    30.0002,  -158.3032,       5865,   400.3,   9.9384,  34.1395,2,  34.1396,2,    211.4,2,   210.9,2,   19.43,2,   15.73,2,    0.01,2,     1.1,2,   3.100,2,   1.712,2,-999.000,5,   1.3574,2,  2115.5,2,  2261.3,2,   7.7454,2,       25,-999.000,9,-999.0000,9, -999.00,9, -999.00,9,  -999.0,9,  -999.0,-999.000,9,-999.000,     -999.0,9, -999.00,9, -999.00,9, -999.00,9,     -999.0,9,  -999.0,9, 20130514,     2316,  30.0001,-158.3057,    34.3006,2,     -999.0,9,     -999.0,9,     9.9374,2,     -999.0,9,     -999.0,9,-999.0000, -999.00,-999.000
318M20130321,       P02E,      96,          2,         24,         24,2,20130514,       2112,    30.0002,  -158.3032,       5865,   502.7,   8.0514,  34.0355,2,  34.0352,2,    175.8,2,     176,2,   33.89,2,    22.7,2,    0.01,2,    1.59,2,   2.985,2,   1.568,2,-999.000,5,   1.0606,2,  2164.2,2, 2269.41,2,   7.6367,6,       25,-999.000,9,-999.0000,9, -999.00,9, -999.00,9,  -999.0,9,  -999.0,-999.000,9,-999.000,     -999.0,9, -999.00,9, -999.00,9, -999.00,9,     -999.0,9,  -999.0,9, 20130514,     2313,  30.0001, -158.306,    34.1957,2,     -999.0,9,     -999.0,9,     8.0444,2,     -999.0,9,     -999.0,9,-999.0000, -999.00,-999.000
318M20130321,       P02E,      96,          2,         23,         23,2,20130514,       2112,    30.0002,  -158.3032,       5865,   603.1,   6.0582,  33.9918,2,  33.9917,2,      119,2,   115.9,2,   59.08,2,   31.97,2,    0.01,2,    2.29,2,   2.172,2,   1.074,2,-999.000,5,   0.5041,2,  2233.2,2, 2284.51,2,   7.4794,2,       25,-999.000,9,-999.0000,9, -999.00,9, -999.00,9,  -999.0,9,  -999.0,-999.000,9,-999.000,     -999.0,9, -999.00,9, -999.00,9, -999.00,9,     -999.0,9,  -999.0,9, 20130514,     2310,       30,-158.3061,     34.152,2,     -999.0,9,     -999.0,9,     6.0603,2,     -999.0,9,     -999.0,9,-999.0000, -999.00,-999.000
318M20130321,       P02E,      96,          2,         22,         22,2,20130514,       2112,    30.0002,  -158.3032,       5865,   703.6,   4.7635,  34.0608,2,  34.0603,2,       66,2,    60.8,2,   85.45,2,   39.08,2,       0,2,    2.81,2,   0.976,2,   0.440,2,-999.000,5,   0.1827,2,  2292.7,2, 2308.02,2,   7.3549,2,       25,-999.000,9,-999.0000,9, -999.00,9, -999.00,9,  -999.0,9,  -999.0,-999.000,9,-999.000,     -999.0,9, -999.00,9, -999.00,9, -999.00,9,     -999.0,9,  -999.0,9, 20130514,     2307,       30,-158.3059,    34.2209,2,     -999.0,9,     -999.0,9,     4.7646,2,     -999.0,9,     -999.0,9,-999.0000, -999.00,-999.000
318M20130321,       P02E,      96,          2,         21,         21,2,20130514,       2112,    30.0002,  -158.3032,       5865,   803.7,   4.2267,  34.1647,2,  34.1636,2,       28,2,    28.9,2,  103.11,2,   42.32,2,       0,2,    3.06,2,   0.338,2,   0.163,2,-999.000,5,   0.0659,2,  -999.0,9, -999.00,9,-999.0000,9,  -999.00,-999.000,9,-999.0000,9, -999.00,9, -999.00,9,  -999.0,9,  -999.0,-999.000,9,-999.000,     -999.0,9, -999.00,9, -999.00,9, -999.00,9,     -999.0,9,  -999.0,9, 20130514,     2304,  29.9999,-158.3057,    34.3247,2,     -999.0,9,     -999.0,9,     4.2264,2,     -999.0,9,     -999.0,9,-999.0000, -999.00,-999.000
318M20130321,       P02E,      96,          2,         20,         20,2,20130514,       2112,    30.0002,  -158.3032,       5865,     905,   3.8502,  34.2744,2,  34.2732,2,     14.7,2,      13,2,  117.36,2,   43.77,2,       0,2,    3.18,2,   0.046,2,   0.021,2,-999.000,5,   0.0396,2,  2357.5,2, 2349.13,2,   7.2821,2,       25,-999.000,9,-999.0000,9, -999.00,9, -999.00,9,  -999.0,9,  -999.0,-999.000,9,-999.000,     -999.0,9, -999.00,9, -999.00,9, -999.00,9,     -999.0,9,  -999.0,9, 20130514,     2301,  29.9998,-158.3056,    34.4348,2,     -999.0,9,     -999.0,9,     3.8509,2,     -999.0,9,     -999.0,9,-999.0000, -999.00,-999.000
318M20130321,       P02E,      96,          2,         19,         19,2,20130514,       2112,    30.0002,  -158.3032,       5865,  1006.6,   3.5972,  34.3557,2,   34.356,2,     15.2,2,      15,2,  125.65,2,    43.9,2,       0,2,     3.2,2,   0.021,2,   0.010,2,-999.000,5,        0,2,  2366.3,2, 2363.44,2,   7.2965,2,       25,-999.000,9,-999.0000,9, -999.00,9, -999.00,9,  -999.0,9,  -999.0,-999.000,9,-999.000,     -999.0,9, -999.00,9, -999.00,9, -999.00,9,     -999.0,9,  -999.0,9, 20130514,     2258,  29.9999,-158.3059,     34.518,2,     -999.0,9,     -999.0,9,     3.5978,2,     -999.0,9,     -999.0,9,-999.0000, -999.00,-999.000
318M20130321,       P02E,      96,          2,         18,         18,2,20130514,       2112,    30.0002,  -158.3032,       5865,  1108.3,    3.392,   34.416,2,  34.4159,2,     18.8,2,    19.3,2,  131.89,2,   43.87,2,       0,2,    3.19,2,   0.014,2,   0.008,2,-999.000,5,        0,2,  2371.8,2, 2372.94,2,    7.311,2,       25,-999.000,9,-999.0000,9, -999.00,9, -999.00,9,  -999.0,9,  -999.0,-999.000,9,-999.000,     -999.0,9, -999.00,9, -999.00,9, -999.00,9,     -999.0,9,  -999.0,9, 20130514,     2255,  29.9999,-158.3059,    34.5782,2,     -999.0,9,     -999.0,9,      3.391,2,     -999.0,9,     -999.0,9,-999.0000, -999.00,-999.000
318M20130321,       P02E,      96,          2,         17,         17,2,20130514,       2112,    30.0002,  -158.3032,       5865,  1210.4,    3.189,  34.4665,2,  34.4665,2,     26.6,2,      28,2,  136.57,2,   43.52,2,       0,2,    3.16,2,   0.008,2,   0.002,2,-999.000,5,        0,2,  2373.9,6, 2381.15,2,   7.3341,2,       25,-999.000,9,-999.0000,9, -999.00,9, -999.00,9,  -999.0,9,  -999.0,-999.000,9,-999.000,     -999.0,9, -999.00,9, -999.00,9, -999.00,9,     -999.0,9,  -999.0,9, 20130514,     2253,  29.9998,-158.3056,    34.6291,2,     -999.0,9,     -999.0,9,     3.1868,2,     -999.0,9,     -999.0,9,-999.0000, -999.00,-999.000
318M20130321,       P02E,      96,          2,         16,         16,2,20130514,       2112,    30.0002,  -158.3032,       5865,  1310.6,   3.0026,  34.5035,2,  34.5033,2,     36.1,2,    38.4,2,  139.99,2,      43,2,       0,2,     3.1,2,   0.005,2,   0.001,2,-999.000,5,        0,2,  2373.1,2, 2387.95,2,   7.3573,6,       25,-999.000,9,-999.0000,9, -999.00,9, -999.00,9,  -999.0,9,  -999.0,-999.000,9,-999.000,     -999.0,9, -999.00,9, -999.00,9, -999.00,9,     -999.0,9,  -999.0,9, 20130514,     2250,  29.9997,-158.3057,     34.666,2,     -999.0,9,     -999.0,9,     3.0023,2,     -999.0,9,     -999.0,9,-999.0000, -999.00,-999.000
318M20130321,       P02E,      96,          2,         15,         15,2,20130514,       2112,    30.0002,  -158.3032,       5865,  1411.2,   2.8083,  34.5301,2,    34.53,2,     45.2,2,    46.4,2,  143.79,2,   42.52,2,       0,2,    3.07,2,   0.005,2,   0.001,2,-999.000,5,        0,2,  -999.0,9, -999.00,9,-999.0000,9,  -999.00,-999.000,9,-999.0000,9, -999.00,9, -999.00,9,  -999.0,9,  -999.0,-999.000,9,-999.000,     -999.0,9, -999.00,9, -999.00,9, -999.00,9,     -999.0,9,  -999.0,9, 20130514,     2247,  29.9998,-158.3061,    34.6928,2,     -999.0,9,     -999.0,9,     2.8081,2,     -999.0,9,     -999.0,9,-999.0000, -999.00,-999.000
318M20130321,       P02E,      96,          2,         14,         14,2,20130514,       2112,    30.0002,  -158.3032,       5865,  1614.1,   2.4882,  34.5674,2,  34.5679,2,     61.2,2,      62,2,  150.23,2,   41.63,2,       0,2,    2.99,2,   0.007,2,   0.003,2,-999.000,5,        0,2,  2368.9,2, 2402.75,2,   7.4079,2,       25,-999.000,9,-999.0000,9, -999.00,9, -999.00,9,  -999.0,9,  -999.0,-999.000,9,-999.000,     -999.0,9, -999.00,9, -999.00,9, -999.00,9,     -999.0,9,  -999.0,9, 20130514,     2242,  29.9998,-158.3061,    34.7309,2,     -999.0,9,     -999.0,9,     2.4856,2,     -999.0,9,     -999.0,9,-999.0000, -999.00,-999.000
318M20130321,       P02E,      96,          2,         13,         13,2,20130514,       2112,    30.0002,  -158.3032,       5865,  1817.6,   2.2285,   34.592,2,  34.5919,2,     72.3,2,    71.2,2,  156.28,2,   41.11,2,       0,2,    2.94,2,   0.005,2,   0.002,2,-999.000,5,        0,2,  -999.0,9, -999.00,9,-999.0000,9,  -999.00,-999.000,9,-999.0000,9, -999.00,9, -999.00,9,  -999.0,9,  -999.0,-999.000,9,-999.000,     -999.0,9, -999.00,9, -999.00,9, -999.00,9,     -999.0,9,  -999.0,9, 20130514,     2237,  29.9998,-158.3058,     34.755,2,     -999.0,9,     -999.0,9,     2.2282,2,     -999.0,9,     -999.0,9,-999.0000, -999.00,-999.000
318M20130321,       P02E,      96,          2,         12,         12,2,20130514,       2112,    30.0002,  -158.3032,       5865,  2019.7,   2.0091,  34.6138,2,  34.6135,2,     81.1,2,    81.9,2,  161.65,2,   40.49,2,       0,2,    2.88,2,   0.004,2,   0.000,2,-999.000,5,        0,2,  2365.6,2, 2414.86,2,   7.4447,2,       25,-999.000,9,-999.0000,9, -999.00,9, -999.00,9,  -999.0,9,  -999.0,-999.000,9,-999.000,     -999.0,9, -999.00,9, -999.00,9, -999.00,9,     -999.0,9,  -999.0,9, 20130514,     2233,  29.9997,-158.3059,    34.7767,2,     -999.0,9,     -999.0,9,     2.0096,2,     -999.0,9,     -999.0,9,-999.0000, -999.00,-999.000
318M20130321,       P02E,      96,          2,         11,         11,2,20130514,       2112,    30.0002,  -158.3032,       5865,  2274.2,   1.8354,  34.6323,2,  34.6318,2,     91.7,2,      91,2,  165.35,2,   39.84,2,       0,2,    2.83,2,   0.004,2,  -0.001,2,-999.000,5,        0,2,  -999.0,9, -999.00,9,-999.0000,9,  -999.00,-999.000,9,-999.0000,9, -999.00,9, -999.00,9,  -999.0,9,  -999.0,-999.000,9,-999.000,     -999.0,9, -999.00,9, -999.00,9, -999.00,9,     -999.0,9,  -999.0,9, 20130514,     2227,  29.9999,-158.3065,    34.7951,2,     -999.0,9,     -999.0,9,     1.8356,2,     -999.0,9,     -999.0,9,-999.0000, -999.00,-999.000
318M20130321,       P02E,      96,          2,         10,         10,2,20130514,       2112,    30.0002,  -158.3032,       5865,  2530.2,   1.7258,   34.645,2,  34.6446,2,    101.5,2,  -999.0,5,  166.72,2,   39.24,2,       0,2,    2.77,2,   0.004,2,  -0.001,2,-999.000,5,        0,2,  2361.7,2, 2421.76,2,   7.4834,2,       25,-999.000,9,-999.0000,9, -999.00,9, -999.00,9,  -999.0,9,  -999.0,-999.000,9,-999.000,     -999.0,9, -999.00,9, -999.00,9, -999.00,9,     -999.0,9,  -999.0,9, 20130514,     2222,  29.9999,-158.3061,    34.8079,2,     -999.0,9,     -999.0,9,     1.7256,2,     -999.0,9,     -999.0,9,-999.0000, -999.00,-999.000
318M20130321,       P02E,      96,          2,          9,          9,2,20130514,       2112,    30.0002,  -158.3032,       5865,  2783.6,   1.6334,   34.656,2,  34.6548,2,    112.8,2,   111.8,2,  165.25,2,   38.54,2,       0,2,    2.71,2,   0.006,2,   0.000,2,-999.000,5,        0,2,  -999.0,9, -999.00,9,-999.0000,9,  -999.00,-999.000,9,-999.0000,9, -999.00,9, -999.00,9,  -999.0,9,  -999.0,-999.000,9,-999.000,     -999.0,9, -999.00,9, -999.00,9, -999.00,9,     -999.0,9,  -999.0,9, 20130514,     2215,  30.0002,-158.3061,    34.8182,2,     -999.0,9,     -999.0,9,     1.6328,2,     -999.0,9,     -999.0,9,-999.0000, -999.00,-999.000
318M20130321,       P02E,      96,          2,          8,          8,2,20130514,       2112,    30.0002,  -158.3032,       5865,    3037,   1.5709,  34.6643,2,  34.6642,2,    121.4,2,   120.7,2,  163.59,2,   37.95,2,       0,2,    2.66,2,   0.005,2,   0.001,2,-999.000,5,        0,2,  2348.8,2, 2423.76,2,   7.5211,2,       25,-999.000,9,-999.0000,9, -999.00,9, -999.00,9,  -999.0,9,  -999.0,-999.000,9,-999.000,     -999.0,9, -999.00,9, -999.00,9, -999.00,9,     -999.0,9,  -999.0,9, 20130514,     2210,  30.0003, -158.306,    34.8277,2,     -999.0,9,     -999.0,9,     1.5707,2,     -999.0,9,     -999.0,9,-999.0000, -999.00,-999.000
318M20130321,       P02E,      96,          2,          7,          7,2,20130514,       2112,    30.0002,  -158.3032,       5865,    3346,   1.5133,  34.6727,2,  34.6719,2,    131.1,2,   132.2,2,  161.35,2,   37.27,2,       0,2,    2.61,2,   0.004,2,   0.000,2,-999.000,5,        0,2,  -999.0,9, -999.00,9,-999.0000,9,  -999.00,-999.000,9,-999.0000,9, -999.00,9, -999.00,9,  -999.0,9,  -999.0,-999.000,9,-999.000,     -999.0,9, -999.00,9, -999.00,9, -999.00,9,     -999.0,9,  -999.0,9, 20130514,     2203,  30.0002,-158.3057,    34.8354,2,     -999.0,9,     -999.0,9,     1.5133,2,     -999.0,9,     -999.0,9,-999.0000, -999.00,-999.000