BOTTLE,20220817CCHSIOAMB
EXPOCODE,SECT_ID,STNNBR,CASTNO,SAMPNO,BTLNBR,BTLNBR_FLAG_W,DATE,TIME,LATITUDE,LONGITUDE,DEPTH,CTDPRS,CTDTMP,CTDSAL,CTDSAL_FLAG_W,SALNTY,SALNTY_FLAG_W,CTDOXY,CTDOXY_FLAG_W,OXYGEN,OXYGEN_FLAG_W,SILCAT,SILCAT_FLAG_W,NITRAT,NITRAT_FLAG_W,NITRIT,NITRIT_FLAG_W,PHSPHT,PHSPHT_FLAG_W,CFC-11,CFC-11_FLAG_W,CFC-12,CFC-12_FLAG_W,CFC113,CFC113_FLAG_W,SF6,SF6_FLAG_W,TCARBN,TCARBN_FLAG_W,ALKALI,ALKALI_FLAG_W,PH_TOT,PH_TOT_FLAG_W,PH_TMP,TRITUM,TRITUM_FLAG_W,HELIUM,HELIUM_FLAG_W,DELHE3,DELHE3_FLAG_W,DELC13,DELC13_FLAG_W,DELC14,DELC14_FLAG_W,C14ERR,NEON,NEON_FLAG_W,NEONER,I-129,I-129_FLAG_W,SR-90,SR-90_FLAG_W,DOC,DOC_FLAG_W,TDN,TDN_FLAG_W,CALCIUM,CALCIUM_FLAG_W,D15N_NO3,D15N_NO3_FLAG_W,BTL_DATE,BTL_TIME,BTL_LAT,BTL_LON,SALTREF,SALTREF_FLAG_W,CS-137,CS-137_FLAG_W,CS-134,CS-134_FLAG_W,REFTMP,REFTMP_FLAG_W,LAB_DEN,LAB_DEN_FLAG_W,D18O_NO3,D18O_NO3_FLAG_W,HELIER,DELHER,TRITER
,,,,,,,,,,,METERS,DBAR,ITS-90,PSS-78,,PSS-78,,UMOL/KG,,UMOL/KG,,UMOL/KG,,UMOL/KG,,UMOL/KG,,UMOL/KG,,PMOL/KG,,PMOL/KG,,PMOL/KG,,FMOL/KG,,UMOL/KG,,UMOL/KG,,,,DEG C,TU,,NMOL/KG,,PERCNT,,/MILLE,,/MILLE,,/MILLE,NMOL/KG,,NMOL/KG,BQ/M^3,,DM/.1MG,,UMOL/KG,,UMOL/KG,,MMOL/KG,,/MILLE,,,,,,G/KG,,BQ/M^3,,BQ/M^3,,ITS-90,,,,/MILLE,,NMOL/KG,PERCNT,TU
318M20130321,       P02W,      38,          1,         36,         36,2,20130416,       0724,    29.9999,   151.2559,       5993,     2.5,  18.6531,  34.7349,2,  34.7349,2,    235.9,2,   236.6,2,    1.76,2,       0,2,       0,2,    0.04,2,   2.543,2,   1.535,2,   0.225,2,     1.52,2,  2002.7,2, 2279.41,2,   8.0089,2,       25,-999.000,9,-999.0000,9, -999.00,9, -999.00,9,  -999.0,9,  -999.0,-999.000,9,-999.000,     -999.0,9, -999.00,9, -999.00,9, -999.00,9,     -999.0,9,  -999.0,1, 20130416,      952,  29.9998, 151.2557,    34.8986,2,     -999.0,9,     -999.0,9,     18.652,2,     -999.0,9,     -999.0,1,-999.0000, -999.00,-999.000
318M20130321,       P02W,      38,          1,         35,         35,2,20130416,       0724,    29.9999,   151.2559,       5993,    22.3,  18.3441,  34.7316,2,  34.7315,2,    237.9,2,   236.9,2,    1.76,2,       0,2,       0,2,    0.03,2,   2.537,2,   1.516,2,   0.222,2,     1.52,2,    2002,6, 2278.41,2,   8.0097,6,       25,-999.000,9,-999.0000,9, -999.00,9, -999.00,9,  -999.0,9,  -999.0,-999.000,9,-999.000,     -999.0,9, -999.00,9, -999.00,9, -999.00,9,     -999.0,9,  -999.0,1, 20130416,      950,  29.9997, 151.2557,    34.8953,2,     -999.0,9,     -999.0,9,    18.3432,2,     -999.0,9,     -999.0,1,-999.0000, -999.00,-999.000
318M20130321,       P02W,      38,          1,         34,         34,2,20130416,       0724,    29.9999,   151.2559,       5993,    47.3,  18.2617,  34.7291,2,  34.7291,2,    236.3,2,   236.8,2,    1.76,2,    0.01,2,    0.01,2,    0.04,2,   2.542,2,   1.486,2,   0.213,2,     1.46,2,  -999.0,9, -999.00,9,-999.0000,9,  -999.00,-999.000,9,-999.0000,9, -999.00,9, -999.00,9,  -999.0,9,  -999.0,-999.000,9,-999.000,     -999.0,9, -999.00,9, -999.00,9, -999.00,9,     -999.0,9,  -999.0,5, 20130416,      949,  29.9997, 151.2557,    34.8929,2,     -999.0,9,     -999.0,9,    18.2615,2,     -999.0,9,     -999.0,5,-999.0000, -999.00,-999.000
318M20130321,       P02W,      38,          1,         33,         33,2,20130416,       0724,    29.9999,   151.2559,       5993,    72.5,  18.1655,  34.7449,2,  34.7468,2,      235,2,   234.9,2,    1.56,2,    0.06,2,    0.07,2,    0.06,2,   2.550,2,   1.525,2,   0.209,2,     1.56,2,  2006.6,2, 2280.21,2,   8.0047,6,       25,-999.000,9,-999.0000,9, -999.00,9, -999.00,9,  -999.0,9,  -999.0,-999.000,9,-999.000,     -999.0,9, -999.00,9, -999.00,9, -999.00,9,     -999.0,9,  -999.0,1, 20130416,      947,  29.9997, 151.2557,    34.9107,2,     -999.0,9,     -999.0,9,    18.1669,2,     -999.0,9,     -999.0,1,-999.0000, -999.00,-999.000
318M20130321,       P02W,      38,          1,         32,         32,2,20130416,       0724,    29.9999,   151.2559,       5993,    97.7,  17.4953,  34.7245,2,  34.7242,2,    231.9,2,   230.6,2,    2.44,2,     1.8,2,    0.19,2,    0.16,2,   2.585,2,   1.549,2,   0.191,2,     1.58,2,  -999.0,9, -999.00,9,-999.0000,9,  -999.00,-999.000,9,-999.0000,9, -999.00,9, -999.00,9,  -999.0,9,  -999.0,-999.000,9,-999.000,     -999.0,9, -999.00,9, -999.00,9, -999.00,9,     -999.0,9,  -999.0,1, 20130416,      946,  29.9997, 151.2557,     34.888,2,     -999.0,9,     -999.0,9,    17.4911,2,     -999.0,9,     -999.0,1,-999.0000, -999.00,-999.000
318M20130321,       P02W,      38,          1,         31,         31,2,20130416,       0724,    29.9999,   151.2559,       5993,   149.1,  17.3181,  34.7168,2,  34.7183,2,    228.2,2,   228.3,2,    2.83,2,    2.42,2,    0.04,2,    0.18,2,   2.618,2,   1.563,2,   0.176,2,     1.51,2,  2017.5,2, 2277.31,6,   7.9792,2,       25,-999.000,9,-999.0000,9, -999.00,9, -999.00,9,  -999.0,9,  -999.0,-999.000,9,-999.000,     -999.0,9, -999.00,9, -999.00,9, -999.00,9,     -999.0,9,  -999.0,1, 20130416,      943,  29.9998, 151.2558,     34.882,2,     -999.0,9,     -999.0,9,    17.3191,2,     -999.0,9,     -999.0,1,-999.0000, -999.00,-999.000
318M20130321,       P02W,      38,          1,         30,         30,2,20130416,       0724,    29.9999,   151.2559,       5993,   200.4,  17.2471,  34.7138,2,  34.7134,2,    227.4,2,   228.2,2,    2.93,2,    2.55,2,    0.02,2,    0.19,2,   2.597,2,   1.571,2,   0.176,2,     1.57,2,  -999.0,9, -999.00,9,-999.0000,9,  -999.00,-999.000,9,-999.0000,9, -999.00,9, -999.00,9,  -999.0,9,  -999.0,-999.000,9,-999.000,     -999.0,9, -999.00,9, -999.00,9, -999.00,9,     -999.0,9,  -999.0,1, 20130416,      941,       30, 151.2559,    34.8771,2,     -999.0,9,     -999.0,9,    17.2471,2,     -999.0,9,     -999.0,1,-999.0000, -999.00,-999.000
318M20130321,       P02W,      38,          1,         29,         29,2,20130416,       0724,    29.9999,   151.2559,       5993,   249.9,  17.1233,  34.7144,2,  34.7146,2,    224.6,2,   224.2,2,    3.42,2,    3.12,2,    0.02,2,    0.22,2,   2.611,2,   1.563,2,   0.153,2,     1.52,2,  2021.6,2, 2278.01,2,   7.9708,2,       25,-999.000,9,-999.0000,9, -999.00,9, -999.00,9,  -999.0,9,  -999.0,-999.000,9,-999.000,     -999.0,9, -999.00,9, -999.00,9, -999.00,9,     -999.0,9,  -999.0,1, 20130416,      939,  30.0001,  151.256,    34.8783,2,     -999.0,9,     -999.0,9,    17.1238,2,     -999.0,9,     -999.0,1,-999.0000, -999.00,-999.000
318M20130321,       P02W,      38,          1,         28,         28,2,20130416,       0724,    29.9999,   151.2559,       5993,   299.7,  16.8548,   34.696,2,  34.6961,2,    221.8,2,   220.9,2,       4,2,    3.89,2,    0.02,2,    0.28,2,   2.641,2,   1.548,2,   0.138,2,     1.44,2,  -999.0,9, -999.00,9,-999.0000,9,  -999.00,-999.000,9,-999.0000,9, -999.00,9, -999.00,9,  -999.0,9,  -999.0,-999.000,9,-999.000,     -999.0,9, -999.00,9, -999.00,9, -999.00,9,     -999.0,9,  -999.0,1, 20130416,      937,  30.0002,  151.256,    34.8597,2,     -999.0,9,     -999.0,9,    16.8544,2,     -999.0,9,     -999.0,1,-999.0000, -999.00,-999.000
318M20130321,       P02W,      38,          1,         27,         27,2,20130416,       0724,    29.9999,   151.2559,       5993,   349.8,  16.2654,  34.6435,2,  34.6444,2,    205.3,2,   204.3,2,    6.34,2,    6.33,2,    0.02,2,    0.46,2,   2.690,2,   1.610,2,   0.073,2,     1.36,2,  2043.6,2, 2274.31,2,    7.922,2,       25,-999.000,9,-999.0000,9, -999.00,9, -999.00,9,  -999.0,9,  -999.0,-999.000,9,-999.000,     -999.0,9, -999.00,9, -999.00,9, -999.00,9,     -999.0,9,  -999.0,1, 20130416,      935,  30.0001, 151.2561,    34.8078,2,     -999.0,9,     -999.0,9,    16.2727,2,     -999.0,9,     -999.0,1,-999.0000, -999.00,-999.000
318M20130321,       P02W,      38,          1,         26,         26,2,20130416,       0724,    29.9999,   151.2559,       5993,   399.4,  15.5363,  34.5908,2,  34.5918,2,    204.2,2,     204,2,     8.2,2,     7.5,2,    0.02,2,    0.54,2,   2.748,2,   1.627,2,   0.089,2,     1.23,2,  -999.0,9, -999.00,9,-999.0000,9,  -999.00,-999.000,9,-999.0000,9, -999.00,9, -999.00,9,  -999.0,9,  -999.0,-999.000,9,-999.000,     -999.0,9, -999.00,9, -999.00,9, -999.00,9,     -999.0,9,  -999.0,1, 20130416,      933,  30.0001, 151.2562,    34.7549,2,     -999.0,9,     -999.0,9,     15.536,2,     -999.0,9,     -999.0,1,-999.0000, -999.00,-999.000
318M20130321,       P02W,      38,          1,         25,         25,2,20130416,       0724,    29.9999,   151.2559,       5993,   500.2,  13.0854,  34.4304,2,  34.4317,2,      183,2,   184.3,2,   17.28,2,   13.21,2,       0,2,    0.95,2,   2.914,2,   1.666,2,   0.067,2,     1.09,2,    2097,2, 2273.61,2,    7.809,2,       25,-999.000,9,-999.0000,9, -999.00,9, -999.00,9,  -999.0,9,  -999.0,-999.000,9,-999.000,     -999.0,9, -999.00,9, -999.00,9, -999.00,9,     -999.0,9,  -999.0,1, 20130416,      931,  29.9999, 151.2562,    34.5941,2,     -999.0,9,     -999.0,9,    13.0775,2,     -999.0,9,     -999.0,1,-999.0000, -999.00,-999.000
318M20130321,       P02W,      38,          1,         24,         24,2,20130416,       0724,    29.9999,   151.2559,       5993,   601.7,   9.4018,  34.1605,2,  34.1614,2,    181.6,2,   181.3,2,   30.66,2,   19.54,2,       0,2,    1.42,2,-999.000,9,-999.000,9,-999.000,9,-999.0000,9,  -999.0,9, -999.00,9,-999.0000,9,  -999.00,-999.000,9,-999.0000,9, -999.00,9, -999.00,9,  -999.0,9,  -999.0,-999.000,9,-999.000,     -999.0,9, -999.00,9, -999.00,9, -999.00,9,     -999.0,9,  -999.0,1, 20130416,      928,  29.9999, 151.2562,    34.3225,2,     -999.0,9,     -999.0,9,     9.3993,2,     -999.0,9,     -999.0,1,-999.0000, -999.00,-999.000
318M20130321,       P02W,      38,          1,         23,         23,2,20130416,       0724,    29.9999,   151.2559,       5993,   698.3,   6.5831,  34.0224,2,  34.0287,2,    152.2,2,   150.5,2,   55.08,2,   27.42,2,       0,2,    2.03,2,   2.793,2,   1.527,2,   0.142,2,     0.88,2,  2204.8,2, 2288.11,2,   7.5635,2,       25,-999.000,9,-999.0000,9, -999.00,9, -999.00,9,  -999.0,9,  -999.0,-999.000,9,-999.000,     -999.0,9, -999.00,9, -999.00,9, -999.00,9,     -999.0,9,  -999.0,1, 20130416,      925,  29.9998,  151.256,    34.1891,2,     -999.0,9,     -999.0,9,     6.5879,2,     -999.0,9,     -999.0,1,-999.0000, -999.00,-999.000
318M20130321,       P02W,      38,          1,         22,         38,2,20130416,       0724,    29.9999,   151.2559,       5993,   801.4,   5.1057,  34.0554,2,  34.0565,2,    104.7,2,   102.2,2,   79.68,2,   34.56,2,       0,2,    2.53,2,-999.000,9,-999.000,9,-999.000,9,-999.0000,9,  -999.0,9, -999.00,9,-999.0000,9,  -999.00,-999.000,9,-999.0000,9, -999.00,9, -999.00,9,  -999.0,9,  -999.0,-999.000,9,-999.000,     -999.0,9, -999.00,9, -999.00,9, -999.00,9,     -999.0,9,  -999.0,1, 20130416,      922,  29.9999, 151.2559,    34.2171,2,     -999.0,9,     -999.0,9,     5.1053,2,     -999.0,9,     -999.0,1,-999.0000, -999.00,-999.000
318M20130321,       P02W,      38,          1,         21,         21,2,20130416,       0724,    29.9999,   151.2559,       5993,   904.5,   4.4611,   34.149,2,  34.1551,2,     68.7,2,    68.9,2,   98.82,2,   38.37,2,       0,2,    2.79,2,   1.306,2,   0.679,2,   0.062,2,     0.31,2,  2300.9,2, 2324.33,2,   7.3764,2,       25,-999.000,9,-999.0000,9, -999.00,9, -999.00,9,  -999.0,9,  -999.0,-999.000,9,-999.000,     -999.0,9, -999.00,9, -999.00,9, -999.00,9,     -999.0,9,  -999.0,1, 20130416,      919,  29.9999, 151.2557,    34.3161,2,     -999.0,9,     -999.0,9,     4.4543,2,     -999.0,9,     -999.0,1,-999.0000, -999.00,-999.000
318M20130321,       P02W,      38,          1,         20,         20,2,20130416,       0724,    29.9999,   151.2559,       5993,  1005.7,   3.9184,  34.2495,2,  34.2508,2,     50.4,2,    50.7,2,  114.63,2,   40.53,2,       0,2,    2.94,2,-999.000,9,-999.000,9,-999.000,9,-999.0000,9,  -999.0,9, -999.00,9,-999.0000,9,  -999.00,-999.000,9,-999.0000,9, -999.00,9, -999.00,9,  -999.0,9,  -999.0,-999.000,9,-999.000,     -999.0,9, -999.00,9, -999.00,9, -999.00,9,     -999.0,9,  -999.0,1, 20130416,      916,  30.0001, 151.2558,    34.4123,2,     -999.0,9,     -999.0,9,     3.9194,2,     -999.0,9,     -999.0,1,-999.0000, -999.00,-999.000
318M20130321,       P02W,      38,          1,         19,         19,2,20130416,       0724,    29.9999,   151.2559,       5993,  1106.9,   3.5109,  34.3268,2,  34.3275,2,       45,2,    45.3,2,  126.34,2,   41.31,2,       0,2,    2.99,2,   0.446,2,   0.229,2,   0.025,2,     0.09,2,  2345.7,2, 2357.54,2,   7.3469,6,       25,-999.000,9,-999.0000,9, -999.00,9, -999.00,9,  -999.0,9,  -999.0,-999.000,9,-999.000,     -999.0,9, -999.00,9, -999.00,9, -999.00,9,     -999.0,9,  -999.0,1, 20130416,      913,  30.0001, 151.2559,    34.4893,2,     -999.0,9,     -999.0,9,      3.512,2,     -999.0,9,     -999.0,1,-999.0000, -999.00,-999.000
318M20130321,       P02W,      38,          1,         18,         18,2,20130416,       0724,    29.9999,   151.2559,       5993,  1208.7,   3.1944,  34.3787,2,  34.3793,2,     42.7,2,    42.5,2,  135.41,2,   41.84,2,       0,2,    3.04,2,-999.000,9,-999.000,9,-999.000,9,-999.0000,9,  2354.2,2, 2369.14,2,   7.3468,2,       25,-999.000,9,-999.0000,9, -999.00,9, -999.00,9,  -999.0,9,  -999.0,-999.000,9,-999.000,     -999.0,9, -999.00,9, -999.00,9, -999.00,9,     -999.0,9,  -999.0,1, 20130416,      910,  29.9998, 151.2561,    34.5414,2,     -999.0,9,     -999.0,9,     3.1939,2,     -999.0,9,     -999.0,1,-999.0000, -999.00,-999.000
318M20130321,       P02W,      38,          1,         17,         17,2,20130416,       0724,    29.9999,   151.2559,       5993,  1408.3,   2.7695,  34.4619,2,  34.4625,2,       38,2,    37.8,2,  147.61,2,   42.86,2,       0,2,    3.09,2,   0.055,2,   0.033,2,   0.013,2,     0.06,2,  2371.5,2, 2386.35,2,   7.3456,2,       25,-999.000,9,-999.0000,9, -999.00,9, -999.00,9,  -999.0,9,  -999.0,-999.000,9,-999.000,     -999.0,9, -999.00,9, -999.00,9, -999.00,9,     -999.0,9,  -999.0,1, 20130416,      905,  29.9998, 151.2561,     34.625,2,     -999.0,9,     -999.0,9,     2.7682,2,     -999.0,9,     -999.0,1,-999.0000, -999.00,-999.000
318M20130321,       P02W,      38,          1,         16,         16,2,20130416,       0724,    29.9999,   151.2559,       5993,  1613.1,   2.4402,  34.5204,2,  34.5212,2,     48.3,2,    48.9,2,   155.8,2,   42.39,2,       0,2,    3.05,2,-999.000,9,-999.000,9,-999.000,9,-999.0000,9,    2373,2, 2398.15,2,   7.3696,2,       25,-999.000,9,-999.0000,9, -999.00,9, -999.00,9,  -999.0,9,  -999.0,-999.000,9,-999.000,     -999.0,9, -999.00,9, -999.00,9, -999.00,9,     -999.0,9,  -999.0,1, 20130416,      900,  29.9998, 151.2561,     34.684,2,     -999.0,9,     -999.0,9,     2.4404,2,     -999.0,9,     -999.0,1,-999.0000, -999.00,-999.000
318M20130321,       P02W,      38,          1,         15,         15,4,20130416,       0724,    29.9999,   151.2559,       5993,  1815.6,   2.1392,  34.5642,2,  34.5497,4,     59.2,2,      55,4,  161.46,4,   42.25,4,       0,4,    3.02,4,-999.000,9,-999.000,9,-999.000,9,-999.0000,9,  -999.0,9, -999.00,9,-999.0000,9,  -999.00,-999.000,9,-999.0000,9, -999.00,9, -999.00,9,  -999.0,9,  -999.0,-999.000,9,-999.000,     -999.0,9, -999.00,9, -999.00,9, -999.00,9,     -999.0,9,  -999.0,1, 20130416,      855,  29.9999,  151.256,    34.7126,4,     -999.0,9,     -999.0,9,     2.1388,2,     -999.0,9,     -999.0,1,-999.0000, -999.00,-999.000
318M20130321,       P02W,      38,          1,         14,         14,2,20130416,       0724,    29.9999,   151.2559,       5993,  1816.9,   2.1379,  34.5643,2,  34.5652,2,     58.6,2,    60.2,2,  162.33,2,   41.82,2,       0,2,    2.99,2,   0.033,2,   0.024,2,   0.007,2,     0.05,2,  2373.9,6, 2405.45,2,   7.3939,2,       25,-999.000,9,-999.0000,9, -999.00,9, -999.00,9,  -999.0,9,  -999.0,-999.000,9,-999.000,     -999.0,9, -999.00,9, -999.00,9, -999.00,9,     -999.0,9,  -999.0,1, 20130416,      855,  29.9999,  151.256,    34.7282,2,     -999.0,9,     -999.0,9,     2.1383,2,     -999.0,9,     -999.0,1,-999.0000, -999.00,-999.000
318M20130321,       P02W,      38,          1,         13,         13,4,20130416,       0724,    29.9999,   151.2559,       5993,  2016.1,   1.9769,   34.594,2,  34.2635,4,     74.3,2,   187.4,4,   24.79,4,   16.73,4,       0,4,    1.21,4,-999.000,5,-999.000,5,-999.000,5,-999.0000,5,  -999.0,9, -999.00,9,-999.0000,9,  -999.00,-999.000,9,-999.0000,9, -999.00,9, -999.00,9,  -999.0,9,  -999.0,-999.000,9,-999.000,     -999.0,9, -999.00,9, -999.00,9, -999.00,9,     -999.0,9,  -999.0,9, 20130416,      850,  29.9999,  151.256,    34.4251,4,     -999.0,9,     -999.0,9,     1.9768,2,     -999.0,9,     -999.0,9,-999.0000, -999.00,-999.000
318M20130321,       P02W,      38,          1,         12,         12,2,20130416,       0724,    29.9999,   151.2559,       5993,  2271.2,   1.7949,  34.6246,2,  34.6253,2,     94.8,2,    95.5,2,  161.35,2,    39.6,2,       0,2,    2.81,2,-999.000,9,-999.000,9,-999.000,9,-999.0000,9,  2356.3,2, 2412.56,2,   7.4645,2,       25,-999.000,9,-999.0000,9, -999.00,9, -999.00,9,  -999.0,9,  -999.0,-999.000,9,-999.000,     -999.0,9, -999.00,9, -999.00,9, -999.00,9,     -999.0,9,  -999.0,1, 20130416,      844,  29.9998, 151.2562,    34.7885,2,     -999.0,9,     -999.0,9,     1.7951,2,     -999.0,9,     -999.0,1,-999.0000, -999.00,-999.000
318M20130321,       P02W,      38,          1,         11,         11,2,20130416,       0724,    29.9999,   151.2559,       5993,  2527.4,   1.6782,  34.6436,2,  34.6451,2,    110.9,2,   111.2,2,  158.71,2,    38.6,2,       0,2,    2.73,2,   0.001,2,   0.007,2,   0.003,2,     0.04,2,  2349.8,2, 2413.96,2,    7.496,2,       25,-999.000,9,-999.0000,9, -999.00,9, -999.00,9,  -999.0,9,  -999.0,-999.000,9,-999.000,     -999.0,9, -999.00,9, -999.00,9, -999.00,9,     -999.0,9,  -999.0,1, 20130416,      839,  29.9998,  151.256,    34.8085,2,     -999.0,9,     -999.0,9,     1.6782,2,     -999.0,9,     -999.0,1,-999.0000, -999.00,-999.000
318M20130321,       P02W,      38,          1,         10,         10,2,20130416,       0724,    29.9999,   151.2559,       5993,  2778.3,   1.6088,  34.6564,2,  34.6571,2,    123.9,2,     124,2,  155.39,2,   37.75,2,       0,2,    2.67,2,-999.000,9,-999.000,9,-999.000,9,-999.0000,9,  -999.0,9, -999.00,9,-999.0000,9,  -999.00,-999.000,9,-999.0000,9, -999.00,9, -999.00,9,  -999.0,9,  -999.0,-999.000,9,-999.000,     -999.0,9, -999.00,9, -999.00,9, -999.00,9,     -999.0,9,  -999.0,1, 20130416,      833,  29.9999, 151.2559,    34.8205,2,     -999.0,9,     -999.0,9,     1.6089,2,     -999.0,9,     -999.0,1,-999.0000, -999.00,-999.000
318M20130321,       P02W,      38,          1,          9,          9,2,20130416,       0724,    29.9999,   151.2559,       5993,  3036.3,   1.5647,  34.6645,2,  34.6655,2,    131.8,2,   131.6,2,  153.34,2,   37.23,2,       0,2,    2.63,2,   0.001,2,   0.005,2,   0.008,2,     0.06,2,  2334.5,2, 2415.66,2,   7.5346,2,       25,-999.000,9,-999.0000,9, -999.00,9, -999.00,9,  -999.0,9,  -999.0,-999.000,9,-999.000,     -999.0,9, -999.00,9, -999.00,9, -999.00,9,     -999.0,9,  -999.0,1, 20130416,      827,  29.9999, 151.2559,     34.829,2,     -999.0,9,     -999.0,9,     1.5651,2,     -999.0,9,     -999.0,1,-999.0000, -999.00,-999.000
318M20130321,       P02W,      38,          1,          8,          8,2,20130416,       0724,    29.9999,   151.2559,       5993,  3339.4,   1.5171,  34.6722,2,   34.673,2,    138.9,2,   138.7,2,  153.05,2,   36.83,2,       0,2,     2.6,2,-999.000,9,-999.000,9,-999.000,9,-999.0000,9,  -999.0,9, -999.00,9,-999.0000,9,  -999.00,-999.000,9,-999.0000,9, -999.00,9, -999.00,9,  -999.0,9,  -999.0,-999.000,9,-999.000,     -999.0,9, -999.00,9, -999.00,9, -999.00,9,     -999.0,9,  -999.0,1, 20130416,      821,  29.9998, 151.2561,    34.8365,2,     -999.0,9,     -999.0,9,     1.5172,2,     -999.0,9,     -999.0,1,-999.0000, -999.00,-999.000