BOTTLE,20220817CCHSIOAMB
EXPOCODE,SECT_ID,STNNBR,CASTNO,SAMPNO,BTLNBR,BTLNBR_FLAG_W,DATE,TIME,LATITUDE,LONGITUDE,DEPTH,CTDPRS,CTDTMP,CTDSAL,CTDSAL_FLAG_W,SALNTY,SALNTY_FLAG_W,CTDOXY,CTDOXY_FLAG_W,OXYGEN,OXYGEN_FLAG_W,SILCAT,SILCAT_FLAG_W,NITRAT,NITRAT_FLAG_W,NITRIT,NITRIT_FLAG_W,PHSPHT,PHSPHT_FLAG_W,CFC-11,CFC-11_FLAG_W,CFC-12,CFC-12_FLAG_W,CFC113,CFC113_FLAG_W,SF6,SF6_FLAG_W,TCARBN,TCARBN_FLAG_W,ALKALI,ALKALI_FLAG_W,PH_TOT,PH_TOT_FLAG_W,PH_TMP,TRITUM,TRITUM_FLAG_W,HELIUM,HELIUM_FLAG_W,DELHE3,DELHE3_FLAG_W,DELC13,DELC13_FLAG_W,DELC14,DELC14_FLAG_W,C14ERR,NEON,NEON_FLAG_W,NEONER,I-129,I-129_FLAG_W,SR-90,SR-90_FLAG_W,DOC,DOC_FLAG_W,TDN,TDN_FLAG_W,CALCIUM,CALCIUM_FLAG_W,D15N_NO3,D15N_NO3_FLAG_W,BTL_DATE,BTL_TIME,BTL_LAT,BTL_LON,SALTREF,SALTREF_FLAG_W,CS-137,CS-137_FLAG_W,CS-134,CS-134_FLAG_W,REFTMP,REFTMP_FLAG_W,LAB_DEN,LAB_DEN_FLAG_W,D18O_NO3,D18O_NO3_FLAG_W,HELIER,DELHER,TRITER
,,,,,,,,,,,METERS,DBAR,ITS-90,PSS-78,,PSS-78,,UMOL/KG,,UMOL/KG,,UMOL/KG,,UMOL/KG,,UMOL/KG,,UMOL/KG,,PMOL/KG,,PMOL/KG,,PMOL/KG,,FMOL/KG,,UMOL/KG,,UMOL/KG,,,,DEG C,TU,,NMOL/KG,,PERCNT,,/MILLE,,/MILLE,,/MILLE,NMOL/KG,,NMOL/KG,BQ/M^3,,DM/.1MG,,UMOL/KG,,UMOL/KG,,MMOL/KG,,/MILLE,,,,,,G/KG,,BQ/M^3,,BQ/M^3,,ITS-90,,,,/MILLE,,NMOL/KG,PERCNT,TU
318M20130321,       P02W,      70,          1,         35,         35,2,20130427,       0922,    30.0002,   177.1698,       4675,     2.6,  18.3846,  34.8579,2,  34.8584,2,    234.9,2,     235,2,    2.15,2,       0,2,       0,2,       0,2,   2.481,2,   1.517,2,   0.206,2,     1.73,2,  -999.0,9, -999.00,9,-999.0000,9,  -999.00,-999.000,9,-999.0000,9, -999.00,9, -999.00,9,  -999.0,9,  -999.0,-999.000,9,-999.000,     -999.0,9, -999.00,9, -999.00,9, -999.00,9,     -999.0,9,  -999.0,9, 20130427,     1112,  30.0001,   177.17,    35.0227,2,     -999.0,9,     -999.0,9,    18.3842,2,     -999.0,9,     -999.0,9,-999.0000, -999.00,-999.000
318M20130321,       P02W,      70,          1,         36,         36,2,20130427,       0922,    30.0002,   177.1698,       4675,       3,  18.3849,  34.8579,2,  34.8582,2,    235.6,2,   234.9,2,    2.24,2,       0,2,       0,2,    0.03,2,-999.000,9,-999.000,9,-999.000,9,-999.0000,9,  2012.6,2, 2288.51,2,   8.0021,2,       25,-999.000,9,-999.0000,9, -999.00,9, -999.00,9,  -999.0,9,  -999.0,-999.000,9,-999.000,     -999.0,9, -999.00,9, -999.00,9, -999.00,9,     -999.0,9,  -999.0,9, 20130427,     1112,       30,   177.17,    35.0225,2,     -999.0,9,     -999.0,9,    18.3849,2,     -999.0,9,     -999.0,9,-999.0000, -999.00,-999.000
318M20130321,       P02W,      70,          1,         34,         34,2,20130427,       0922,    30.0002,   177.1698,       4675,    21.1,  18.3939,  34.8579,2,   34.858,2,    236.2,2,     235,2,    2.15,2,       0,2,       0,2,    0.01,2,   2.486,2,   1.523,2,   0.202,2,     1.48,2,  -999.0,9, -999.00,9,-999.0000,9,  -999.00,-999.000,9,-999.0000,9, -999.00,9, -999.00,9,  -999.0,9,  -999.0,-999.000,9,-999.000,     -999.0,9, -999.00,9, -999.00,9, -999.00,9,     -999.0,9,  -999.0,9, 20130427,     1111,  30.0001,   177.17,    35.0224,2,     -999.0,9,     -999.0,9,    18.3938,2,     -999.0,9,     -999.0,9,-999.0000, -999.00,-999.000
318M20130321,       P02W,      70,          1,         33,         33,2,20130427,       0922,    30.0002,   177.1698,       4675,    41.8,  18.3877,  34.8561,2,  34.8621,2,    235.2,2,   235.1,2,    2.15,2,       0,2,       0,2,    0.01,2,   2.563,2,   1.526,2,   0.194,2,      1.6,2,    2013,2, 2288.01,6,   8.0019,2,       25,-999.000,9,-999.0000,9, -999.00,9, -999.00,9,  -999.0,9,  -999.0,-999.000,9,-999.000,     -999.0,9, -999.00,9, -999.00,9, -999.00,9,     -999.0,9,  -999.0,9, 20130427,     1109,  30.0002, 177.1701,    35.0265,2,     -999.0,9,     -999.0,9,    18.3866,2,     -999.0,9,     -999.0,9,-999.0000, -999.00,-999.000
318M20130321,       P02W,      70,          1,         32,         32,2,20130427,       0922,    30.0002,   177.1698,       4675,    66.8,  18.3868,  34.8558,2,-999.0000,9,    235.4,2,  -999.0,9,    2.15,2,       0,2,       0,2,    0.01,2,-999.000,9,-999.000,9,-999.000,9,-999.0000,9,  -999.0,9, -999.00,9,-999.0000,9,  -999.00,-999.000,9,-999.0000,9, -999.00,9, -999.00,9,  -999.0,9,  -999.0,-999.000,9,-999.000,     -999.0,9, -999.00,1, -999.00,9, -999.00,9,     -999.0,9,  -999.0,9, 20130427,     1107,  30.0003, 177.1701,     -999.0,9,     -999.0,1,     -999.0,1,    18.3864,2,     -999.0,9,     -999.0,9,-999.0000, -999.00,-999.000
318M20130321,       P02W,      70,          1,         30,         30,2,20130427,       0922,    30.0002,   177.1698,       4675,      67,  18.3807,  34.8547,2,  34.8549,2,    235.4,2,   234.7,2,    2.05,2,       0,2,       0,2,    0.01,2,-999.000,9,-999.000,9,-999.000,9,-999.0000,9,  -999.0,9, -999.00,9,-999.0000,9,  -999.00,-999.000,9,-999.0000,9, -999.00,9, -999.00,9,  -999.0,9,  -999.0,-999.000,9,-999.000,     -999.0,9, -999.00,9, -999.00,9, -999.00,9,     -999.0,9,  -999.0,9, 20130427,     1107,  30.0003, 177.1701,    35.0192,2,     -999.0,9,     -999.0,9,    18.3803,2,     -999.0,9,     -999.0,9,-999.0000, -999.00,-999.000
318M20130321,       P02W,      70,          1,         31,         31,2,20130427,       0922,    30.0002,   177.1698,       4675,      67,  18.3849,  34.8554,2,-999.0000,9,    235.4,2,  -999.0,9,    2.05,2,       0,2,       0,2,    0.01,2,-999.000,9,-999.000,9,-999.000,9,-999.0000,9,  -999.0,9, -999.00,9,-999.0000,9,  -999.00,-999.000,9,-999.0000,9, -999.00,9, -999.00,9,  -999.0,9,  -999.0,-999.000,9,-999.000,     -999.0,1, -999.00,1, -999.00,9, -999.00,9,     -999.0,9,  -999.0,9, 20130427,     1107,  30.0003, 177.1701,     -999.0,9,     -999.0,1,     -999.0,1,    18.3864,2,     -999.0,9,     -999.0,9,-999.0000, -999.00,-999.000
318M20130321,       P02W,      70,          1,         29,         29,2,20130427,       0922,    30.0002,   177.1698,       4675,    92.3,  18.0509,  34.7831,2,  34.7817,2,      234,2,   232.8,2,    2.15,2,     0.1,2,    0.07,2,    0.04,2,   2.518,2,   1.550,2,   0.192,2,     1.56,2,  2013.2,2, 2282.51,2,   7.9925,6,       25,-999.000,9,-999.0000,9, -999.00,9, -999.00,9,  -999.0,9,  -999.0,-999.000,9,-999.000,     -999.0,9, -999.00,9, -999.00,9, -999.00,9,     -999.0,9,  -999.0,9, 20130427,     1106,  30.0004,   177.17,    34.9457,2,     -999.0,9,     -999.0,9,    18.0494,2,     -999.0,9,     -999.0,9,-999.0000, -999.00,-999.000
318M20130321,       P02W,      70,          1,         28,         28,2,20130427,       0922,    30.0002,   177.1698,       4675,   138.5,   17.289,  34.7146,2,  34.7139,2,    241.2,2,     239,2,    2.05,2,    0.05,2,    0.08,2,    0.04,2,-999.000,9,-999.000,9,-999.000,9,-999.0000,9,  -999.0,9, -999.00,9,-999.0000,9,  -999.00,-999.000,9,-999.0000,9, -999.00,9, -999.00,9,  -999.0,9,  -999.0,-999.000,9,-999.000,     -999.0,9, -999.00,9, -999.00,9, -999.00,9,     -999.0,9,  -999.0,9, 20130427,     1104,  30.0004, 177.1701,    34.8776,2,     -999.0,9,     -999.0,9,    17.2857,2,     -999.0,9,     -999.0,9,-999.0000, -999.00,-999.000
318M20130321,       P02W,      70,          1,         27,         27,2,20130427,       0922,    30.0002,   177.1698,       4675,   188.5,  16.8846,  34.6645,2,   34.665,2,    233.8,2,     230,2,    3.12,2,    1.93,2,    0.13,2,    0.13,2,   2.638,2,   1.618,2,   0.177,2,     1.69,2,  2022.6,2, 2275.81,2,   7.9669,2,       25,-999.000,9,-999.0000,9, -999.00,9, -999.00,9,  -999.0,9,  -999.0,-999.000,9,-999.000,     -999.0,9, -999.00,9, -999.00,9, -999.00,9,     -999.0,9,  -999.0,9, 20130427,     1102,  30.0003,   177.17,    34.8285,2,     -999.0,9,     -999.0,9,    16.8892,2,     -999.0,9,     -999.0,9,-999.0000, -999.00,-999.000
318M20130321,       P02W,      70,          1,         26,         26,2,20130427,       0922,    30.0002,   177.1698,       4675,   239.1,  16.0689,  34.6116,2,  34.6127,2,    205.4,2,   206.4,2,    5.86,2,    6.09,2,    0.02,2,    0.37,2,-999.000,9,-999.000,9,-999.000,9,-999.0000,9,  -999.0,9, -999.00,9,-999.0000,9,  -999.00,-999.000,9,-999.0000,9, -999.00,9, -999.00,9,  -999.0,9,  -999.0,-999.000,9,-999.000,     -999.0,9, -999.00,9, -999.00,9, -999.00,9,     -999.0,9,  -999.0,9, 20130427,     1100,  30.0003, 177.1699,    34.7759,2,     -999.0,9,     -999.0,9,    16.0687,2,     -999.0,9,     -999.0,9,-999.0000, -999.00,-999.000
318M20130321,       P02W,      70,          1,         25,         25,2,20130427,       0922,    30.0002,   177.1698,       4675,   288.2,  15.0419,  34.5348,2,  34.5361,2,    204.6,2,   204.3,2,       8,2,    7.75,2,    0.01,2,    0.51,2,   2.854,2,   1.695,2,   0.058,2,     1.36,2,  2057.9,6, 2270.21,2,   7.8853,6,       25,-999.000,9,-999.0000,9, -999.00,9, -999.00,9,  -999.0,9,  -999.0,-999.000,9,-999.000,     -999.0,9, -999.00,9, -999.00,9, -999.00,9,     -999.0,9,  -999.0,9, 20130427,     1058,  30.0003, 177.1699,     34.699,2,     -999.0,9,     -999.0,9,    15.0157,2,     -999.0,9,     -999.0,9,-999.0000, -999.00,-999.000
318M20130321,       P02W,      70,          1,         24,         24,2,20130427,       0922,    30.0002,   177.1698,       4675,   334.4,  13.5441,  34.4425,2,  34.4433,2,      204,2,   203.8,2,    12.2,2,   10.38,2,    0.01,2,    0.68,2,   2.982,2,   1.756,2,   0.075,2,     1.37,2,  -999.0,9, -999.00,9,-999.0000,9,  -999.00,-999.000,9,-999.0000,9, -999.00,9, -999.00,9,  -999.0,9,  -999.0,-999.000,9,-999.000,     -999.0,9, -999.00,9, -999.00,9, -999.00,9,     -999.0,9,  -999.0,9, 20130427,     1056,  30.0002, 177.1701,    34.6057,2,     -999.0,9,     -999.0,9,     13.545,2,     -999.0,9,     -999.0,9,-999.0000, -999.00,-999.000
318M20130321,       P02W,      70,          1,         23,         23,2,20130427,       0922,    30.0002,   177.1698,       4675,   384.9,  12.5242,  34.3655,2,  34.3656,2,    205.6,2,   206.2,2,   14.25,2,   11.82,2,    0.01,2,     0.8,2,   3.154,2,   1.812,2,   0.085,2,     1.32,2,  2087.3,2, 2268.71,2,   7.8189,2,       25,-999.000,9,-999.0000,9, -999.00,9, -999.00,9,  -999.0,9,  -999.0,-999.000,9,-999.000,     -999.0,9, -999.00,9, -999.00,9, -999.00,9,     -999.0,9,  -999.0,9, 20130427,     1055,       30, 177.1702,    34.5276,2,     -999.0,9,     -999.0,9,    12.5244,2,     -999.0,9,     -999.0,9,-999.0000, -999.00,-999.000
318M20130321,       P02W,      70,          1,         22,         22,2,20130427,       0922,    30.0002,   177.1698,       4675,   466.9,  10.5977,  34.2286,2,  34.2231,2,    197.4,2,   198.9,2,   22.46,2,   16.06,2,    0.01,2,    1.11,2,-999.000,9,-999.000,9,-999.000,9,-999.0000,9,  2115.4,2, 2269.21,2,   7.7525,2,       25,-999.000,9,-999.0000,9, -999.00,9, -999.00,9,  -999.0,9,  -999.0,-999.000,9,-999.000,     -999.0,9, -999.00,9, -999.00,9, -999.00,9,     -999.0,9,  -999.0,9, 20130427,     1052,  29.9999, 177.1702,    34.3845,2,     -999.0,9,     -999.0,9,    10.5946,2,     -999.0,9,     -999.0,9,-999.0000, -999.00,-999.000
318M20130321,       P02W,      70,          1,         21,         21,2,20130427,       0922,    30.0002,   177.1698,       4675,   567.9,   7.6225,  34.0466,2,  34.0458,2,    165.8,2,   164.3,2,   42.87,2,   24.64,2,    0.01,2,    1.76,2,   3.106,2,   1.660,2,   0.128,2,     0.94,2,  2181.4,2, 2278.11,2,   7.6115,2,       25,-999.000,9,-999.0000,9, -999.00,9, -999.00,9,  -999.0,9,  -999.0,-999.000,9,-999.000,     -999.0,9, -999.00,9, -999.00,9, -999.00,9,     -999.0,9,  -999.0,9, 20130427,     1050,  29.9998, 177.1702,    34.2063,2,     -999.0,9,     -999.0,9,     7.6262,2,     -999.0,9,     -999.0,9,-999.0000, -999.00,-999.000
318M20130321,       P02W,      70,          1,         20,         20,2,20130427,       0922,    30.0002,   177.1698,       4675,     669,   5.9242,  34.0193,2,  34.0199,2,    124.1,2,     123,2,   63.28,2,   31.36,2,       0,2,    2.26,2,-999.000,9,-999.000,9,-999.000,9,-999.0000,9,  2233.8,2, 2291.91,2,   7.4942,2,       25,-999.000,9,-999.0000,9, -999.00,9, -999.00,9,  -999.0,9,  -999.0,-999.000,9,-999.000,     -999.0,9, -999.00,9, -999.00,9, -999.00,9,     -999.0,9,  -999.0,9, 20130427,     1047,  29.9997, 177.1703,    34.1803,2,     -999.0,9,     -999.0,9,     5.9337,2,     -999.0,9,     -999.0,9,-999.0000, -999.00,-999.000
318M20130321,       P02W,      70,          1,         19,         19,2,20130427,       0922,    30.0002,   177.1698,       4675,   771.5,   4.8954,  34.0755,2,  34.0777,2,       79,2,    80.6,2,   85.15,2,   36.84,2,       0,2,    2.66,2,   1.560,2,   0.803,2,   0.068,2,     0.31,2,  2279.4,2, 2310.12,2,   7.3979,2,       25,-999.000,9,-999.0000,9, -999.00,9, -999.00,9,  -999.0,9,  -999.0,-999.000,9,-999.000,     -999.0,9, -999.00,9, -999.00,9, -999.00,9,     -999.0,9,  -999.0,9, 20130427,     1045,  29.9995, 177.1703,    34.2384,2,     -999.0,9,     -999.0,9,     4.8931,2,     -999.0,9,     -999.0,9,-999.0000, -999.00,-999.000
318M20130321,       P02W,      70,          1,         18,         18,2,20130427,       0922,    30.0002,   177.1698,       4675,   872.3,   4.2042,   34.175,2,  34.1763,2,     49.7,2,    48.2,2,  104.77,2,   40.53,2,       0,2,     2.9,2,   0.785,2,   0.404,2,   0.035,2,     0.13,2,    2319,2, 2330.93,2,     7.34,6,       25,-999.000,9,-999.0000,9, -999.00,9, -999.00,9,  -999.0,9,  -999.0,-999.000,9,-999.000,     -999.0,9, -999.00,9, -999.00,9, -999.00,9,     -999.0,9,  -999.0,9, 20130427,     1042,  29.9994, 177.1702,    34.3375,2,     -999.0,9,     -999.0,9,      4.204,2,     -999.0,9,     -999.0,9,-999.0000, -999.00,-999.000
318M20130321,       P02W,      70,          1,         17,         17,2,20130427,       0922,    30.0002,   177.1698,       4675,   968.5,   3.7915,  34.2541,2,  34.2546,2,     33.6,2,    33.3,2,  118.04,2,   42.23,2,       0,2,    3.04,2,   0.411,2,   0.201,2,   0.017,2,     0.12,2,    2342,2, 2348.73,2,   7.3187,2,       25,-999.000,9,-999.0000,9, -999.00,9, -999.00,9,  -999.0,9,  -999.0,-999.000,9,-999.000,     -999.0,9, -999.00,9, -999.00,9, -999.00,9,     -999.0,9,  -999.0,9, 20130427,     1040,  29.9995, 177.1701,    34.4161,2,     -999.0,9,     -999.0,9,     3.7886,2,     -999.0,9,     -999.0,9,-999.0000, -999.00,-999.000
318M20130321,       P02W,      70,          1,         16,         16,2,20130427,       0922,    30.0002,   177.1698,       4675,  1142.3,   3.3033,  34.3794,2,  34.3815,2,     26.3,2,    27.1,2,  133.46,2,   43.38,2,       0,2,    3.09,2,   0.083,2,   0.050,2,   0.007,2,     0.01,2,  2363.8,2, 2370.14,2,    7.322,2,       25,-999.000,9,-999.0000,9, -999.00,9, -999.00,9,  -999.0,9,  -999.0,-999.000,9,-999.000,     -999.0,9, -999.00,9, -999.00,9, -999.00,9,     -999.0,9,  -999.0,9, 20130427,     1036,  29.9999,   177.17,    34.5436,2,     -999.0,9,     -999.0,9,     3.3033,2,     -999.0,9,     -999.0,9,-999.0000, -999.00,-999.000
318M20130321,       P02W,      70,          1,         15,         15,2,20130427,       0922,    30.0002,   177.1698,       4675,  1346.2,    2.837,   34.475,2,  34.4779,2,     33.3,2,    34.7,2,  145.94,2,   43.29,2,       0,2,    3.09,2,   0.015,2,   0.017,2,   0.003,2,     0.01,2,  2374.4,2, 2387.95,2,   7.3441,2,       25,-999.000,9,-999.0000,9, -999.00,9, -999.00,9,  -999.0,9,  -999.0,-999.000,9,-999.000,     -999.0,9, -999.00,9, -999.00,9, -999.00,9,     -999.0,9,  -999.0,9, 20130427,     1032,  30.0001, 177.1698,    34.6405,2,     -999.0,9,     -999.0,9,     2.8373,2,     -999.0,9,     -999.0,9,-999.0000, -999.00,-999.000
318M20130321,       P02W,      70,          1,         14,         14,2,20130427,       0922,    30.0002,   177.1698,       4675,  1545.1,   2.5084,  34.5278,2,   34.529,2,     46.7,2,    46.3,2,  153.26,2,    42.7,2,       0,2,    3.05,2,   0.002,2,   0.008,2,   0.002,2,     0.03,2,  2374.5,2, 2400.35,2,   7.3701,2,       25,-999.000,9,-999.0000,9, -999.00,9, -999.00,9,  -999.0,9,  -999.0,-999.000,9,-999.000,     -999.0,9, -999.00,9, -999.00,9, -999.00,9,     -999.0,9,  -999.0,9, 20130427,     1028,  29.9999, 177.1699,    34.6918,2,     -999.0,9,     -999.0,9,     2.5079,2,     -999.0,9,     -999.0,9,-999.0000, -999.00,-999.000
318M20130321,       P02W,      70,          1,         13,         13,2,20130427,       0922,    30.0002,   177.1698,       4675,  1748.4,   2.2323,  34.5686,2,  34.5696,2,     60.4,2,    61.1,2,  158.62,2,   41.89,2,       0,2,    2.96,2,   0.000,2,   0.014,2,   0.009,2,     0.04,2,  2371.7,2, 2406.05,2,   7.4008,2,       25,-999.000,9,-999.0000,9, -999.00,9, -999.00,9,  -999.0,9,  -999.0,-999.000,9,-999.000,     -999.0,9, -999.00,9, -999.00,9, -999.00,9,     -999.0,9,  -999.0,9, 20130427,     1023,  29.9999, 177.1699,    34.7326,2,     -999.0,9,     -999.0,9,     2.2311,2,     -999.0,9,     -999.0,9,-999.0000, -999.00,-999.000
318M20130321,       P02W,      70,          1,         11,         11,2,20130427,       0922,    30.0002,   177.1698,       4675,  1953.8,   2.0279,   34.595,2,  34.5954,2,     71.7,2,    73.2,2,  161.45,2,   41.16,2,       0,2,    2.91,2,-999.000,9,-999.000,9,-999.000,9,-999.0000,9,  2369.2,2, 2410.86,2,   7.4237,2,       25,-999.000,9,-999.0000,9, -999.00,9, -999.00,9,  -999.0,9,  -999.0,-999.000,9,-999.000,     -999.0,9, -999.00,9, -999.00,9, -999.00,9,     -999.0,9,  -999.0,9, 20130427,     1019,       30, 177.1698,    34.7585,2,     -999.0,9,     -999.0,9,     2.0281,2,     -999.0,9,     -999.0,9,-999.0000, -999.00,-999.000
318M20130321,       P02W,      70,          1,         10,         10,2,20130427,       0922,    30.0002,   177.1698,       4675,  2183.2,   1.8344,  34.6189,2,  34.6201,2,     87.6,2,    86.1,2,  165.45,2,   40.39,2,       0,2,    2.84,2,   0.000,2,   0.007,2,   0.002,2,     0.06,2,    2366,2, 2414.36,2,   7.4491,2,       25,-999.000,9,-999.0000,9, -999.00,9, -999.00,9,  -999.0,9,  -999.0,-999.000,9,-999.000,     -999.0,9, -999.00,9, -999.00,9, -999.00,9,     -999.0,9,  -999.0,9, 20130427,     1014,       30, 177.1697,    34.7834,2,     -999.0,9,     -999.0,9,     1.8338,2,     -999.0,9,     -999.0,9,-999.0000, -999.00,-999.000
318M20130321,       P02W,      70,          1,          9,          9,2,20130427,       0922,    30.0002,   177.1698,       4675,    2440,   1.7112,  34.6366,2,   34.637,2,    100.7,2,    99.1,2,  165.45,2,   39.53,2,       0,2,    2.78,2,-999.000,9,-999.000,9,-999.000,9,-999.0000,9,  -999.0,9, -999.00,9,-999.0000,9,  -999.00,-999.000,9,-999.0000,9, -999.00,9, -999.00,9,  -999.0,9,  -999.0,-999.000,9,-999.000,     -999.0,9, -999.00,9, -999.00,9, -999.00,9,     -999.0,9,  -999.0,9, 20130427,     1009,       30, 177.1698,    34.8004,2,     -999.0,9,     -999.0,9,     1.7115,2,     -999.0,9,     -999.0,9,-999.0000, -999.00,-999.000
318M20130321,       P02W,      70,          1,          8,          8,2,20130427,       0922,    30.0002,   177.1698,       4675,  2696.3,   1.6103,   34.651,2,  34.6519,2,    113.9,2,   112.8,2,   163.1,2,   38.62,2,       0,2,    2.73,2,   0.000,2,   0.006,2,   0.000,2,        0,2,  2349.3,2, 2418.46,6,   7.4991,2,       25,-999.000,9,-999.0000,9, -999.00,9, -999.00,9,  -999.0,9,  -999.0,-999.000,9,-999.000,     -999.0,9, -999.00,9, -999.00,9, -999.00,9,     -999.0,9,  -999.0,9, 20130427,     1004,  29.9999,   177.17,    34.8153,2,     -999.0,9,     -999.0,9,     1.6101,2,     -999.0,9,     -999.0,9,-999.0000, -999.00,-999.000
318M20130321,       P02W,      70,          1,          7,          7,2,20130427,       0922,    30.0002,   177.1698,       4675,  2947.7,   1.5436,  34.6616,2,  34.6627,2,    123.9,2,   123.6,2,  161.15,2,    37.9,2,       0,2,    2.66,2,-999.000,9,-999.000,9,-999.000,9,-999.0000,9,  -999.0,9, -999.00,9,-999.0000,9,  -999.00,-999.000,9,-999.0000,9, -999.00,9, -999.00,9,  -999.0,9,  -999.0,-999.000,9,-999.000,     -999.0,9, -999.00,9, -999.00,9, -999.00,9,     -999.0,9,  -999.0,9, 20130427,      959,  29.9999, 177.1701,    34.8261,2,     -999.0,9,     -999.0,9,     1.5431,2,     -999.0,9,     -999.0,9,-999.0000, -999.00,-999.000