BOTTLE,20220817CCHSIOAMB
EXPOCODE,SECT_ID,STNNBR,CASTNO,SAMPNO,BTLNBR,BTLNBR_FLAG_W,DATE,TIME,LATITUDE,LONGITUDE,DEPTH,CTDPRS,CTDTMP,CTDSAL,CTDSAL_FLAG_W,SALNTY,SALNTY_FLAG_W,CTDOXY,CTDOXY_FLAG_W,OXYGEN,OXYGEN_FLAG_W,SILCAT,SILCAT_FLAG_W,NITRAT,NITRAT_FLAG_W,NITRIT,NITRIT_FLAG_W,PHSPHT,PHSPHT_FLAG_W,CFC-11,CFC-11_FLAG_W,CFC-12,CFC-12_FLAG_W,CFC113,CFC113_FLAG_W,SF6,SF6_FLAG_W,TCARBN,TCARBN_FLAG_W,ALKALI,ALKALI_FLAG_W,PH_TOT,PH_TOT_FLAG_W,PH_TMP,TRITUM,TRITUM_FLAG_W,HELIUM,HELIUM_FLAG_W,DELHE3,DELHE3_FLAG_W,DELC13,DELC13_FLAG_W,DELC14,DELC14_FLAG_W,C14ERR,NEON,NEON_FLAG_W,NEONER,I-129,I-129_FLAG_W,SR-90,SR-90_FLAG_W,DOC,DOC_FLAG_W,TDN,TDN_FLAG_W,CALCIUM,CALCIUM_FLAG_W,D15N_NO3,D15N_NO3_FLAG_W,BTL_DATE,BTL_TIME,BTL_LAT,BTL_LON,SALTREF,SALTREF_FLAG_W,CS-137,CS-137_FLAG_W,CS-134,CS-134_FLAG_W,REFTMP,REFTMP_FLAG_W,LAB_DEN,LAB_DEN_FLAG_W,D18O_NO3,D18O_NO3_FLAG_W,HELIER,DELHER,TRITER
,,,,,,,,,,,METERS,DBAR,ITS-90,PSS-78,,PSS-78,,UMOL/KG,,UMOL/KG,,UMOL/KG,,UMOL/KG,,UMOL/KG,,UMOL/KG,,PMOL/KG,,PMOL/KG,,PMOL/KG,,FMOL/KG,,UMOL/KG,,UMOL/KG,,,,DEG C,TU,,NMOL/KG,,PERCNT,,/MILLE,,/MILLE,,/MILLE,NMOL/KG,,NMOL/KG,BQ/M^3,,DM/.1MG,,UMOL/KG,,UMOL/KG,,MMOL/KG,,/MILLE,,,,,,G/KG,,BQ/M^3,,BQ/M^3,,ITS-90,,,,/MILLE,,NMOL/KG,PERCNT,TU
318M20130321,       P02E,     125,          1,         36,         36,2,20130524,       0457,    29.9998,  -135.6686,       4529,       3,   18.762,  34.6437,2,  34.6447,2,    237.5,2,   237.2,2,    1.95,2,       0,2,       0,2,    0.06,2,   2.158,2,   1.293,2,-999.000,1,   1.4962,2,  2039.1,2, 2289.51,2,    7.964,2,       25,-999.000,9,-999.0000,9, -999.00,9, -999.00,9,  -999.0,9,  -999.0,-999.000,9,-999.000,     -999.0,9, -999.00,9,   59.91,2,    4.76,2,     -999.0,9,  -999.0,9, 20130524,      649,  29.9999,-135.6688,     34.808,2,     -999.0,9,     -999.0,9,    18.7605,2,     -999.0,9,     -999.0,9,-999.0000, -999.00,-999.000
318M20130321,       P02E,     125,          1,         34,         34,2,20130524,       0457,    29.9998,  -135.6686,       4529,      20,  18.7604,  34.6434,2,  34.6439,2,    236.8,2,   237.3,2,    1.95,2,       0,2,       0,2,    0.05,2,-999.000,9,-999.000,9,-999.000,9,-999.0000,9,  2038.9,2, 2291.11,2,   7.9646,6,       25,-999.000,9,-999.0000,9, -999.00,9, -999.00,9,  -999.0,9,  -999.0,-999.000,9,-999.000,     -999.0,9, -999.00,9,   59.25,2,    4.88,2,     -999.0,9,  -999.0,9, 20130524,      647,       30,-135.6687,    34.8073,2,     -999.0,9,     -999.0,9,    18.7603,2,     -999.0,9,     -999.0,9,-999.0000, -999.00,-999.000
318M20130321,       P02E,     125,          1,         33,         33,2,20130524,       0457,    29.9998,  -135.6686,       4529,    39.4,  18.7642,  34.6432,2,  34.6443,2,    238.6,2,   237.1,2,    2.05,2,       0,2,       0,2,    0.06,2,   2.153,2,   1.296,2,-999.000,1,   1.5352,2,  -999.0,9, -999.00,9,-999.0000,9,  -999.00,-999.000,9,-999.0000,9, -999.00,9, -999.00,9,  -999.0,9,  -999.0,-999.000,9,-999.000,     -999.0,9, -999.00,9,   59.43,2,     4.4,2,     -999.0,9,  -999.0,9, 20130524,      646,  30.0001,-135.6687,    34.8077,2,     -999.0,9,     -999.0,9,    18.7637,2,     -999.0,9,     -999.0,9,-999.0000, -999.00,-999.000
318M20130321,       P02E,     125,          1,         32,         32,2,20130524,       0457,    29.9998,  -135.6686,       4529,    65.5,  18.6636,    34.66,2,  34.6614,2,    239.1,2,   238.2,2,    1.95,2,       0,2,       0,2,    0.05,2,-999.000,9,-999.000,9,-999.000,9,-999.0000,9,  2038.5,2, 2291.21,6,   7.9651,2,       25,-999.000,9,-999.0000,9, -999.00,9, -999.00,9,  -999.0,9,  -999.0,-999.000,9,-999.000,     -999.0,9, -999.00,9,   60.39,2,    4.53,2,     -999.0,9,  -999.0,9, 20130524,      644,  30.0002,-135.6688,    34.8248,2,     -999.0,9,     -999.0,9,    18.6646,2,     -999.0,9,     -999.0,9,-999.0000, -999.00,-999.000
318M20130321,       P02E,     125,          1,         31,         31,2,20130524,       0457,    29.9998,  -135.6686,       4529,      90,   17.716,  34.5845,2,  34.5836,2,    242.2,2,   240.9,2,    2.25,2,       0,2,       0,2,    0.06,2,   2.243,2,   1.341,2,-999.000,1,   1.5634,2,  -999.0,9, -999.00,9,-999.0000,9,  -999.00,-999.000,9,-999.0000,9, -999.00,9, -999.00,9,  -999.0,9,  -999.0,-999.000,9,-999.000,     -999.0,9, -999.00,9,   60.11,2,    3.69,2,     -999.0,9,  -999.0,9, 20130524,      642,  30.0003,-135.6688,    34.7467,2,     -999.0,9,     -999.0,9,    17.7177,2,     -999.0,9,     -999.0,9,-999.0000, -999.00,-999.000
318M20130321,       P02E,     125,          1,         30,         30,2,20130524,       0457,    29.9998,  -135.6686,       4529,   135.4,  17.6193,  34.6549,2,  34.6585,2,      234,2,   234.7,2,    2.24,2,       0,2,       0,2,    0.06,2,   2.190,2,   1.318,2,-999.000,1,   1.5485,2,  2037.8,2, 2286.51,2,   7.9558,2,       25,-999.000,9,-999.0000,9, -999.00,9, -999.00,9,  -999.0,9,  -999.0,-999.000,9,-999.000,     -999.0,9, -999.00,9,   58.34,2,     3.7,2,     -999.0,9,  -999.0,9, 20130524,      640,  30.0003, -135.669,    34.8219,2,     -999.0,9,     -999.0,9,    17.6212,2,     -999.0,9,     -999.0,9,-999.0000, -999.00,-999.000
318M20130321,       P02E,     125,          1,         29,         29,2,20130524,       0457,    29.9998,  -135.6686,       4529,   186.4,  13.7919,  34.0744,2,  34.0543,3,    221.4,2,   220.7,2,    5.37,2,    4.87,2,    0.02,2,    0.44,2,-999.000,9,-999.000,9,-999.000,9,-999.0000,9,  -999.0,9, -999.00,9,-999.0000,9,  -999.00,-999.000,9,-999.0000,9, -999.00,9, -999.00,9,  -999.0,9,  -999.0,-999.000,9,-999.000,     -999.0,9, -999.00,9,   47.19,2,    9.36,3,     -999.0,9,  -999.0,9, 20130524,      639,  30.0003,-135.6691,    34.2149,3,     -999.0,9,     -999.0,9,     13.796,2,     -999.0,9,     -999.0,9,-999.0000, -999.00,-999.000
318M20130321,       P02E,     125,          1,         27,         27,2,20130524,       0457,    29.9998,  -135.6686,       4529,   236.1,  10.8404,  33.9222,2,  33.9225,2,    213.7,2,     214,2,   11.82,2,   11.79,2,    0.01,2,    0.89,2,   3.156,2,   1.776,2,-999.000,1,   1.5501,2,  2089.4,2,  2242.1,2,   7.7612,2,       25,-999.000,9,-999.0000,9, -999.00,9, -999.00,9,  -999.0,9,  -999.0,-999.000,9,-999.000,     -999.0,9, -999.00,9, -999.00,5,   18.06,3,     -999.0,9,  -999.0,9, 20130524,      637,  30.0002,-135.6691,    34.0824,2,     -999.0,9,     -999.0,9,      10.83,2,     -999.0,9,     -999.0,9,-999.0000, -999.00,-999.000
318M20130321,       P02E,     125,          1,         26,         26,2,20130524,       0457,    29.9998,  -135.6686,       4529,   286.9,   9.6254,  34.0007,2,  34.0016,2,    208.5,2,   209.5,2,   17.87,2,    15.9,2,    0.01,2,    1.13,2,   3.275,2,   1.817,2,-999.000,1,    1.479,2,  -999.0,9, -999.00,9,-999.0000,9,  -999.00,-999.000,9,-999.0000,9, -999.00,9, -999.00,9,  -999.0,9,  -999.0,-999.000,9,-999.000,     -999.0,9, -999.00,9,   43.12,2,   20.53,3,     -999.0,9,  -999.0,9, 20130524,      635,       30, -135.669,    34.1619,2,     -999.0,9,     -999.0,9,      9.624,2,     -999.0,9,     -999.0,9,-999.0000, -999.00,-999.000
318M20130321,       P02E,     125,          1,         25,         25,2,20130524,       0457,    29.9998,  -135.6686,       4529,   337.8,   8.5512,  34.0068,2,  34.0085,2,    180.9,2,   184.4,2,   27.15,2,   20.91,2,    0.01,2,    1.48,2,-999.000,9,-999.000,9,-999.000,9,-999.0000,9,  2148.1,2,  2259.7,2,   7.6511,2,       25,-999.000,9,-999.0000,9, -999.00,9, -999.00,9,  -999.0,9,  -999.0,-999.000,9,-999.000,     -999.0,9, -999.00,9,   41.27,2,   26.11,3,     -999.0,9,  -999.0,9, 20130524,      633,       30,-135.6688,    34.1688,2,     -999.0,9,     -999.0,9,     8.5477,2,     -999.0,9,     -999.0,9,-999.0000, -999.00,-999.000
318M20130321,       P02E,     125,          1,         24,         24,2,20130524,       0457,    29.9998,  -135.6686,       4529,   389.4,   7.5182,  33.9852,2,  33.9858,2,    152.7,2,   147.9,2,   39.16,2,   26.53,2,    0.01,2,     1.9,2,   2.918,2,   1.523,2,-999.000,1,   0.9375,2,  -999.0,9, -999.00,9,-999.0000,9,  -999.00,-999.000,9,-999.0000,9, -999.00,9, -999.00,9,  -999.0,9,  -999.0,-999.000,9,-999.000,     -999.0,9, -999.00,9,   40.83,2, -999.00,9,     -999.0,9,  -999.0,9, 20130524,      631,       30,-135.6688,     34.146,2,     -999.0,9,     -999.0,9,     7.5165,2,     -999.0,9,     -999.0,9,-999.0000, -999.00,-999.000
318M20130321,       P02E,     125,          1,         23,         23,2,20130524,       0457,    29.9998,  -135.6686,       4529,   468.2,   6.4591,  33.9984,2,  33.9983,2,    101.6,2,   102.2,2,   54.39,2,   32.64,2,    0.01,2,    2.37,2,   2.269,2,   1.140,2,-999.000,1,   0.5258,2,  2235.7,2, 2278.41,2,    7.448,2,       25,-999.000,9,-999.0000,9, -999.00,9, -999.00,9,  -999.0,9,  -999.0,-999.000,9,-999.000,     -999.0,9, -999.00,9,   40.19,2, -999.00,9,     -999.0,9,  -999.0,9, 20130524,      629,       30,-135.6688,    34.1586,2,     -999.0,9,     -999.0,9,     6.4614,2,     -999.0,9,     -999.0,9,-999.0000, -999.00,-999.000
318M20130321,       P02E,     125,          1,         22,         22,2,20130524,       0457,    29.9998,  -135.6686,       4529,   568.8,   5.3443,  34.0609,2,  34.0608,2,     59.7,2,    56.5,2,   75.88,2,   38.67,2,    0.01,2,    2.83,2,-999.000,9,-999.000,9,-999.000,9,-999.0000,9,  2288.5,2, 2298.62,2,   7.3443,6,       25,-999.000,9,-999.0000,9, -999.00,9, -999.00,9,  -999.0,9,  -999.0,-999.000,9,-999.000,     -999.0,9, -999.00,9,   39.05,2, -999.00,9,     -999.0,9,  -999.0,9, 20130524,      626,  29.9999,-135.6689,    34.2214,2,     -999.0,9,     -999.0,9,     5.3451,2,     -999.0,9,     -999.0,9,-999.0000, -999.00,-999.000
318M20130321,       P02E,     125,          1,         21,         21,2,20130524,       0457,    29.9998,  -135.6686,       4529,   670.7,   4.8063,  34.1567,2,  34.1572,2,     29.2,2,    29.3,2,    91.2,2,   41.46,2,    0.01,2,    3.05,2,   0.513,2,   0.253,2,-999.000,1,   0.0865,2,  2319.6,2, 2317.62,2,   7.3025,2,       25,-999.000,9,-999.0000,9, -999.00,9, -999.00,9,  -999.0,9,  -999.0,-999.000,9,-999.000,     -999.0,9, -999.00,9,   37.49,2, -999.00,9,     -999.0,9,  -999.0,9, 20130524,      623,  29.9998,-135.6691,    34.3183,2,     -999.0,9,     -999.0,9,     4.8106,2,     -999.0,9,     -999.0,9,-999.0000, -999.00,-999.000
318M20130321,       P02E,     125,          1,         20,         20,2,20130524,       0457,    29.9998,  -135.6686,       4529,   771.7,   4.4382,  34.2504,2,  34.2498,2,     16.6,2,    15.9,2,   103.3,2,   42.94,2,    0.01,2,    3.16,2,   0.154,2,   0.078,2,-999.000,1,        0,2,  2340.4,2, 2333.73,2,   7.2886,2,       25,-999.000,9,-999.0000,9, -999.00,9, -999.00,9,  -999.0,9,  -999.0,-999.000,9,-999.000,     -999.0,9, -999.00,9,   36.16,2, -999.00,9,     -999.0,9,  -999.0,9, 20130524,      621,  29.9998,-135.6692,    34.4113,2,     -999.0,9,     -999.0,9,     4.4396,2,     -999.0,9,     -999.0,9,-999.0000, -999.00,-999.000
318M20130321,       P02E,     125,          1,         19,         19,2,20130524,       0457,    29.9998,  -135.6686,       4529,   869.9,   4.0668,  34.3412,2,  34.3426,2,     13.7,2,      13,2,  114.72,2,   43.67,2,       0,2,    3.22,2,-999.000,9,-999.000,9,-999.000,9,-999.0000,9,  2355.3,2, 2352.64,2,   7.2942,2,       25,-999.000,9,-999.0000,9, -999.00,9, -999.00,9,  -999.0,9,  -999.0,-999.000,9,-999.000,     -999.0,9, -999.00,9,   36.98,2, -999.00,9,     -999.0,9,  -999.0,9, 20130524,      618,  29.9999,-135.6691,    34.5045,2,     -999.0,9,     -999.0,9,     4.0661,2,     -999.0,9,     -999.0,9,-999.0000, -999.00,-999.000
318M20130321,       P02E,     125,          1,         18,         18,2,20130524,       0457,    29.9998,  -135.6686,       4529,     972,   3.7753,  34.4138,2,  34.4148,2,     17.5,2,      20,2,  122.13,2,   43.75,2,       0,2,    3.21,2,   0.017,2,   0.009,2,-999.000,1,        0,2,  -999.0,9, -999.00,9,-999.0000,9,  -999.00,-999.000,9,-999.0000,9, -999.00,9, -999.00,9,  -999.0,9,  -999.0,-999.000,9,-999.000,     -999.0,9, -999.00,9,   36.73,2, -999.00,9,     -999.0,9,  -999.0,9, 20130524,      615,  29.9999,-135.6689,    34.5771,2,     -999.0,9,     -999.0,9,     3.7778,2,     -999.0,9,     -999.0,9,-999.0000, -999.00,-999.000
318M20130321,       P02E,     125,          1,         17,         17,2,20130524,       0457,    29.9998,  -135.6686,       4529,  1073.6,   3.5295,  34.4596,2,  34.4607,2,       24,2,    26.4,2,  127.59,2,   43.59,2,       0,2,     3.2,2,   0.011,2,   0.006,2,-999.000,1,        0,2,  2365.3,2, 2373.84,2,   7.3309,2,       25,-999.000,9,-999.0000,9, -999.00,9, -999.00,9,  -999.0,9,  -999.0,-999.000,9,-999.000,     -999.0,9, -999.00,9,   34.44,2, -999.00,9,     -999.0,9,  -999.0,9, 20130524,      612,  29.9998,-135.6686,    34.6232,2,     -999.0,9,     -999.0,9,     3.5299,2,     -999.0,9,     -999.0,9,-999.0000, -999.00,-999.000
318M20130321,       P02E,     125,          1,         16,         16,2,20130524,       0457,    29.9998,  -135.6686,       4529,  1173.1,   3.2971,  34.4938,2,  34.4943,2,     32.9,2,    34.3,2,  132.76,2,   43.27,2,       0,2,    3.16,2,-999.000,9,-999.000,9,-999.000,9,-999.0000,9,  -999.0,9, -999.00,9,-999.0000,9,  -999.00,-999.000,9,-999.0000,9, -999.00,9, -999.00,9,  -999.0,9,  -999.0,-999.000,9,-999.000,     -999.0,9, -999.00,9,   35.25,2, -999.00,9,     -999.0,9,  -999.0,9, 20130524,      610,  29.9997,-135.6684,     34.657,2,     -999.0,9,     -999.0,9,      3.297,2,     -999.0,9,     -999.0,9,-999.0000, -999.00,-999.000
318M20130321,       P02E,     125,          1,         15,         15,2,20130524,       0457,    29.9998,  -135.6686,       4529,  1276.5,   3.1058,  34.5184,2,  34.5193,2,     39.6,2,    40.7,2,  136.76,2,   43.01,2,       0,2,    3.12,2,   0.007,2,   0.005,2,-999.000,1,        0,2,  2367.9,2, 2387.75,2,   7.3641,2,       25,-999.000,9,-999.0000,9, -999.00,9, -999.00,9,  -999.0,9,  -999.0,-999.000,9,-999.000,     -999.0,9, -999.00,9,   36.56,2, -999.00,9,     -999.0,9,  -999.0,9, 20130524,      607,  29.9996,-135.6685,     34.682,2,     -999.0,9,     -999.0,9,     3.1087,2,     -999.0,9,     -999.0,9,-999.0000, -999.00,-999.000
318M20130321,       P02E,     125,          1,         14,         14,2,20130524,       0457,    29.9998,  -135.6686,       4529,  1376.7,   2.9463,  34.5363,2,  34.5379,2,     46.4,2,    46.6,2,  140.67,2,   42.69,2,       0,2,    3.09,2,   0.008,2,   0.008,2,-999.000,1,        0,2,  2368.8,2, 2392.55,2,   7.3767,6,       25,-999.000,9,-999.0000,9, -999.00,9, -999.00,9,  -999.0,9,  -999.0,-999.000,9,-999.000,     -999.0,9, -999.00,9,   36.28,2, -999.00,9,     -999.0,9,  -999.0,9, 20130524,      604,  29.9996,-135.6686,    34.7008,2,     -999.0,9,     -999.0,9,     2.9459,2,     -999.0,9,     -999.0,9,-999.0000, -999.00,-999.000
318M20130321,       P02E,     125,          1,         13,         13,2,20130524,       0457,    29.9998,  -135.6686,       4529,    1550,   2.6283,  34.5667,2,  34.5672,2,     57.2,2,    56.5,2,  148.37,2,   42.13,2,       0,2,    3.07,2,-999.000,9,-999.000,9,-999.000,9,-999.0000,9,  2369.9,2, 2401.55,2,    7.398,2,       25,-999.000,9,-999.0000,9, -999.00,9, -999.00,9,  -999.0,9,  -999.0,-999.000,9,-999.000,     -999.0,9, -999.00,9,   35.37,2, -999.00,9,     -999.0,9,  -999.0,9, 20130524,      600,  29.9999,-135.6687,    34.7302,2,     -999.0,9,     -999.0,9,     2.6284,2,     -999.0,9,     -999.0,9,-999.0000, -999.00,-999.000
318M20130321,       P02E,     125,          1,         12,         12,2,20130524,       0457,    29.9998,  -135.6686,       4529,  1752.3,   2.3222,  34.5922,2,  34.5935,2,     66.7,2,    67.9,2,  156.86,2,   41.57,2,       0,2,    3.01,2,   0.005,2,   0.003,2,-999.000,1,        0,2,  2373.8,6, 2410.16,2,   7.4165,2,       25,-999.000,9,-999.0000,9, -999.00,9, -999.00,9,  -999.0,9,  -999.0,-999.000,9,-999.000,     -999.0,9, -999.00,9,   37.47,2, -999.00,9,     -999.0,9,  -999.0,9, 20130524,      556,  30.0001,-135.6689,    34.7567,2,     -999.0,9,     -999.0,9,     2.3217,2,     -999.0,9,     -999.0,9,-999.0000, -999.00,-999.000
318M20130321,       P02E,     125,          1,         11,         11,2,20130524,       0457,    29.9998,  -135.6686,       4529,  1955.2,   2.1153,  34.6105,2,   34.611,2,     76.3,2,    76.1,2,  162.43,2,   41.01,2,       0,2,    2.95,2,   0.004,2,   0.002,2,-999.000,1,        0,2,  2371.3,2, 2415.46,2,   7.4338,2,       25,-999.000,9,-999.0000,9, -999.00,9, -999.00,9,  -999.0,9,  -999.0,-999.000,9,-999.000,     -999.0,9, -999.00,9,   37.31,2, -999.00,9,     -999.0,9,  -999.0,9, 20130524,      551,  30.0001,-135.6688,    34.7742,2,     -999.0,9,     -999.0,9,     2.1164,2,     -999.0,9,     -999.0,9,-999.0000, -999.00,-999.000
318M20130321,       P02E,     125,          1,         10,         10,2,20130524,       0457,    29.9998,  -135.6686,       4529,    2189,   1.9082,  34.6288,2,  34.6299,2,     87.3,2,    88.4,2,  167.21,2,   40.31,2,       0,2,    2.88,2,-999.000,9,-999.000,9,-999.000,9,-999.0000,9,  -999.0,9, -999.00,9,-999.0000,9,  -999.00,-999.000,9,-999.0000,9, -999.00,9, -999.00,9,  -999.0,9,  -999.0,-999.000,9,-999.000,     -999.0,9, -999.00,9, -999.00,9, -999.00,9,     -999.0,9,  -999.0,9, 20130524,      546,  29.9998,-135.6688,    34.7932,2,     -999.0,9,     -999.0,9,     1.9079,2,     -999.0,9,     -999.0,9,-999.0000, -999.00,-999.000
318M20130321,       P02E,     125,          1,          9,          9,2,20130524,       0457,    29.9998,  -135.6686,       4529,  2442.8,   1.7561,  34.6434,2,  34.6448,2,     98.5,2,    97.1,2,  169.74,2,   39.67,2,       0,2,    2.81,2,   0.005,2,   0.004,2,-999.000,1,        0,2,  2364.4,2, 2424.16,2,   7.4771,2,       25,-999.000,9,-999.0000,9, -999.00,9, -999.00,9,  -999.0,9,  -999.0,-999.000,9,-999.000,     -999.0,9, -999.00,9,    37.9,2, -999.00,9,     -999.0,9,  -999.0,9, 20130524,      541,  30.0002,-135.6691,    34.8082,2,     -999.0,9,     -999.0,9,      1.755,2,     -999.0,9,     -999.0,9,-999.0000, -999.00,-999.000
318M20130321,       P02E,     125,          1,          8,          8,2,20130524,       0457,    29.9998,  -135.6686,       4529,  2698.8,   1.6566,  34.6542,2,  34.6552,2,    107.8,2,   107.1,2,  170.91,2,   39.08,2,       0,2,    2.76,2,   0.005,2,   0.004,2,-999.000,1,        0,2,  -999.0,9, -999.00,9,-999.0000,9,  -999.00,-999.000,9,-999.0000,9, -999.00,9, -999.00,9,  -999.0,9,  -999.0,-999.000,9,-999.000,     -999.0,9, -999.00,9, -999.00,9, -999.00,9,     -999.0,9,  -999.0,9, 20130524,      535,  30.0006,-135.6688,    34.8187,2,     -999.0,9,     -999.0,9,     1.6567,2,     -999.0,9,     -999.0,9,-999.0000, -999.00,-999.000
318M20130321,       P02E,     125,          1,          7,          7,2,20130524,       0457,    29.9998,  -135.6686,       4529,  2955.3,    1.579,  34.6629,2,  34.6641,2,      117,2,   116.2,2,  170.33,2,   38.51,2,       0,2,    2.72,2,-999.000,9,-999.000,9,-999.000,9,-999.0000,9,  2355.1,2, 2427.16,2,   7.5124,2,       25,-999.000,9,-999.0000,9, -999.00,9, -999.00,9,  -999.0,9,  -999.0,-999.000,9,-999.000,     -999.0,9, -999.00,9,   34.53,2, -999.00,9,     -999.0,9,  -999.0,9, 20130524,      530,  30.0002,-135.6684,    34.8275,2,     -999.0,9,     -999.0,9,     1.5788,2,     -999.0,9,     -999.0,9,-999.0000, -999.00,-999.000
318M20130321,       P02E,     125,          1,          6,          6,2,20130524,       0457,    29.9998,  -135.6686,       4529,  3244.9,   1.5135,  34.6719,2,  34.6729,2,    126.4,2,   126.4,2,  168.67,2,   37.84,2,       0,2,    2.65,2,   0.010,2,   0.005,2,-999.000,1,        0,2,  -999.0,9, -999.00,9,-999.0000,9,  -999.00,-999.000,9,-999.0000,9, -999.00,9, -999.00,9,  -999.0,9,  -999.0,-999.000,9,-999.000,     -999.0,9, -999.00,9, -999.00,9, -999.00,9,     -999.0,9,  -999.0,9, 20130524,      524,  30.0002,-135.6687,    34.8364,2,     -999.0,9,     -999.0,9,     1.5138,2,     -999.0,9,     -999.0,9,-999.0000, -999.00,-999.000