BOTTLE,20220817CCHSIOAMB
EXPOCODE,SECT_ID,STNNBR,CASTNO,SAMPNO,BTLNBR,BTLNBR_FLAG_W,DATE,TIME,LATITUDE,LONGITUDE,DEPTH,CTDPRS,CTDTMP,CTDSAL,CTDSAL_FLAG_W,SALNTY,SALNTY_FLAG_W,CTDOXY,CTDOXY_FLAG_W,OXYGEN,OXYGEN_FLAG_W,SILCAT,SILCAT_FLAG_W,NITRAT,NITRAT_FLAG_W,NITRIT,NITRIT_FLAG_W,PHSPHT,PHSPHT_FLAG_W,CFC-11,CFC-11_FLAG_W,CFC-12,CFC-12_FLAG_W,CFC113,CFC113_FLAG_W,SF6,SF6_FLAG_W,TCARBN,TCARBN_FLAG_W,ALKALI,ALKALI_FLAG_W,PH_TOT,PH_TOT_FLAG_W,PH_TMP,TRITUM,TRITUM_FLAG_W,HELIUM,HELIUM_FLAG_W,DELHE3,DELHE3_FLAG_W,DELC13,DELC13_FLAG_W,DELC14,DELC14_FLAG_W,C14ERR,NEON,NEON_FLAG_W,NEONER,I-129,I-129_FLAG_W,SR-90,SR-90_FLAG_W,DOC,DOC_FLAG_W,TDN,TDN_FLAG_W,CALCIUM,CALCIUM_FLAG_W,D15N_NO3,D15N_NO3_FLAG_W,BTL_DATE,BTL_TIME,BTL_LAT,BTL_LON,SALTREF,SALTREF_FLAG_W,CS-137,CS-137_FLAG_W,CS-134,CS-134_FLAG_W,REFTMP,REFTMP_FLAG_W,LAB_DEN,LAB_DEN_FLAG_W,D18O_NO3,D18O_NO3_FLAG_W,HELIER,DELHER,TRITER
,,,,,,,,,,,METERS,DBAR,ITS-90,PSS-78,,PSS-78,,UMOL/KG,,UMOL/KG,,UMOL/KG,,UMOL/KG,,UMOL/KG,,UMOL/KG,,PMOL/KG,,PMOL/KG,,PMOL/KG,,FMOL/KG,,UMOL/KG,,UMOL/KG,,,,DEG C,TU,,NMOL/KG,,PERCNT,,/MILLE,,/MILLE,,/MILLE,NMOL/KG,,NMOL/KG,BQ/M^3,,DM/.1MG,,UMOL/KG,,UMOL/KG,,MMOL/KG,,/MILLE,,,,,,G/KG,,BQ/M^3,,BQ/M^3,,ITS-90,,,,/MILLE,,NMOL/KG,PERCNT,TU
318M20130321,       P02E,     111,          1,         36,         36,2,20130519,       1851,    29.9998,  -146.4222,       4922,     2.6,  20.9631,   35.048,2,  35.0478,2,    227.4,2,   227.2,2,    2.44,2,    0.01,2,       0,2,    0.01,2,   1.977,2,   1.208,2,-999.000,1,   1.4103,2,  2029.1,6, 2304.42,2,   7.9984,2,       25,-999.000,9,-999.0000,9, -999.00,9, -999.00,9,  -999.0,9,  -999.0,-999.000,9,-999.000,     -999.0,9, -999.00,9,   68.22,2,    4.36,2,     -999.0,9,  -999.0,9, 20130519,     2052,  30.0001,-146.4225,    35.2131,2,     -999.0,9,     -999.0,9,    20.9608,2,     -999.0,9,     -999.0,9,-999.0000, -999.00,-999.000
318M20130321,       P02E,     111,          1,         34,         34,2,20130519,       1851,    29.9998,  -146.4222,       4922,    25.1,  20.7336,  35.1237,2,  35.1248,2,    228.6,2,   228.2,2,    2.24,2,    0.03,2,       0,2,       0,2,   1.975,2,   1.201,2,-999.000,1,   1.4038,2,  -999.0,9, -999.00,9,-999.0000,9,  -999.00,-999.000,9,-999.0000,9, -999.00,9, -999.00,9,  -999.0,9,  -999.0,-999.000,9,-999.000,     -999.0,9, -999.00,9,   66.75,2,    4.22,2,     -999.0,9,  -999.0,9, 20130519,     2050,  30.0002,-146.4225,    35.2904,2,     -999.0,9,     -999.0,9,    20.7334,2,     -999.0,9,     -999.0,9,-999.0000, -999.00,-999.000
318M20130321,       P02E,     111,          1,         33,         33,2,20130519,       1851,    29.9998,  -146.4222,       4922,    50.9,  20.3902,  35.1237,2,  35.0892,3,    229.6,2,   230.5,2,    2.15,2,    0.04,2,       0,2,    0.01,2,   2.007,2,   1.235,2,-999.000,1,   1.4258,2,  2027.8,2, 2305.72,2,   8.0031,6,       25,-999.000,9,-999.0000,9, -999.00,9, -999.00,9,  -999.0,9,  -999.0,-999.000,9,-999.000,     -999.0,9, -999.00,9,   67.49,2,    4.34,2,     -999.0,9,  -999.0,9, 20130519,     2048,  30.0003,-146.4225,    35.2547,3,     -999.0,9,     -999.0,9,    20.4108,2,     -999.0,9,     -999.0,9,-999.0000, -999.00,-999.000
318M20130321,       P02E,     111,          1,         32,         32,2,20130519,       1851,    29.9998,  -146.4222,       4922,    75.3,  19.5577,  35.0698,2,  35.0681,2,    233.8,2,     231,2,    2.24,2,    0.06,2,       0,2,    0.02,2,   2.040,2,   1.250,2,-999.000,1,   1.4448,2,  2029.2,2, 2304.62,2,   8.0031,2,       25,-999.000,9,-999.0000,9, -999.00,9, -999.00,9,  -999.0,9,  -999.0,-999.000,9,-999.000,     -999.0,9, -999.00,9,    64.6,2,    4.31,2,     -999.0,9,  -999.0,9, 20130519,     2047,  30.0002,-146.4224,    35.2335,2,     -999.0,9,     -999.0,9,    19.5598,2,     -999.0,9,     -999.0,9,-999.0000, -999.00,-999.000
318M20130321,       P02E,     111,          1,         31,         31,2,20130519,       1851,    29.9998,  -146.4222,       4922,     104,  19.4061,   35.059,2,  35.0575,2,    231.1,2,   229.7,2,    2.34,2,    0.07,2,       0,2,    0.01,2,   2.038,2,   1.247,2,-999.000,1,   1.5015,2,  2029.6,2, 2304.32,6,   7.9993,2,       25,-999.000,9,-999.0000,9, -999.00,9, -999.00,9,  -999.0,9,  -999.0,-999.000,9,-999.000,     -999.0,9, -999.00,9,   61.72,2,    3.86,2,     -999.0,9,  -999.0,9, 20130519,     2045,  30.0002,-146.4224,    35.2228,2,     -999.0,9,     -999.0,9,    19.4064,2,     -999.0,9,     -999.0,9,-999.0000, -999.00,-999.000
318M20130321,       P02E,     111,          1,         30,         30,2,20130519,       1851,    29.9998,  -146.4222,       4922,   150.1,  17.2456,  34.6235,2,  34.6266,2,    231.8,2,   231.2,2,    3.42,2,     0.1,2,    0.12,2,     0.1,2,   2.277,2,   1.370,2,-999.000,1,   1.5884,2,  -999.0,9, -999.00,9,-999.0000,9,  -999.00,-999.000,9,-999.0000,9, -999.00,9, -999.00,9,  -999.0,9,  -999.0,-999.000,9,-999.000,     -999.0,9, -999.00,9, -999.00,9, -999.00,9,     -999.0,9,  -999.0,9, 20130519,     2043,  30.0001,-146.4223,    34.7899,2,     -999.0,9,     -999.0,9,    17.2572,2,     -999.0,9,     -999.0,9,-999.0000, -999.00,-999.000
318M20130321,       P02E,     111,          1,         29,         29,2,20130519,       1851,    29.9998,  -146.4222,       4922,   200.1,  13.0015,  34.1316,2,  34.1429,2,    225.2,2,   225.1,2,    7.32,2,    6.83,2,    0.01,2,    0.56,2,   2.824,2,   1.635,2,-999.000,1,   1.6983,2,  2061.3,2,  2249.9,2,   7.8438,6,       25,-999.000,9,-999.0000,9, -999.00,9, -999.00,9,  -999.0,9,  -999.0,-999.000,9,-999.000,     -999.0,9, -999.00,9,   52.55,2,    10.5,2,     -999.0,9,  -999.0,9, 20130519,     2042,  30.0001,-146.4222,    34.3039,2,     -999.0,9,     -999.0,9,    13.0037,2,     -999.0,9,     -999.0,9,-999.0000, -999.00,-999.000
318M20130321,       P02E,     111,          1,         28,         28,2,20130519,       1851,    29.9998,  -146.4222,       4922,   251.3,   12.074,   34.209,2,  34.2086,2,    217.4,2,   219.2,2,   10.55,2,   10.38,2,    0.01,2,    0.76,2,   2.922,2,   1.672,2,-999.000,1,   1.6279,2,  -999.0,9, -999.00,9,-999.0000,9,  -999.00,-999.000,9,-999.0000,9, -999.00,9, -999.00,9,  -999.0,9,  -999.0,-999.000,9,-999.000,     -999.0,9, -999.00,9, -999.00,5, -999.00,5,     -999.0,9,  -999.0,9, 20130519,     2040,       30,-146.4221,    34.3699,2,     -999.0,9,     -999.0,9,    12.0681,2,     -999.0,9,     -999.0,9,-999.0000, -999.00,-999.000
318M20130321,       P02E,     111,          1,         27,         27,2,20130519,       1851,    29.9998,  -146.4222,       4922,   302.2,  11.0181,   34.181,2,  34.1795,2,    220.7,2,   221.2,2,   13.77,2,   12.54,2,       0,2,     0.9,2,   3.051,2,   1.721,2,-999.000,1,   1.5104,2,  2094.5,2,  2259.1,2,   7.7878,2,       25,-999.000,9,-999.0000,9, -999.00,9, -999.00,9,  -999.0,9,  -999.0,-999.000,9,-999.000,     -999.0,9, -999.00,9,   46.69,2,   16.19,2,     -999.0,9,  -999.0,9, 20130519,     2038,       30,-146.4222,    34.3407,2,     -999.0,9,     -999.0,9,    11.0154,2,     -999.0,9,     -999.0,9,-999.0000, -999.00,-999.000
318M20130321,       P02E,     111,          1,         26,         26,2,20130519,       1851,    29.9998,  -146.4222,       4922,     351,   10.028,  34.1186,2,   34.119,2,    218.6,2,   217.5,2,   17.67,2,   14.95,2,       0,2,    1.07,2,   3.176,2,   1.758,2,-999.000,1,   1.5274,2,  -999.0,9, -999.00,9,-999.0000,9,  -999.00,-999.000,9,-999.0000,9, -999.00,9, -999.00,9,  -999.0,9,  -999.0,-999.000,9,-999.000,     -999.0,9, -999.00,9,   47.03,2, -999.00,9,     -999.0,9,  -999.0,9, 20130519,     2036,  29.9999,-146.4223,    34.2799,2,     -999.0,9,     -999.0,9,     10.027,2,     -999.0,9,     -999.0,9,-999.0000, -999.00,-999.000
318M20130321,       P02E,     111,          1,         25,         25,2,20130519,       1851,    29.9998,  -146.4222,       4922,   401.9,   9.2319,  34.0826,2,  34.0819,2,    203.9,2,   202.8,2,   22.95,2,      18,2,       0,2,    1.29,2,   3.161,2,   1.731,2,-999.000,1,   1.3596,2,  2129.7,2,  2262.3,2,   7.7086,2,       25,-999.000,9,-999.0000,9, -999.00,9, -999.00,9,  -999.0,9,  -999.0,-999.000,9,-999.000,     -999.0,9, -999.00,9,   45.42,2, -999.00,9,     -999.0,9,  -999.0,9, 20130519,     2035,  29.9999,-146.4222,    34.2427,2,     -999.0,9,     -999.0,9,     9.2309,2,     -999.0,9,     -999.0,9,-999.0000, -999.00,-999.000
318M20130321,       P02E,     111,          1,         24,         24,2,20130519,       1851,    29.9998,  -146.4222,       4922,   501.8,   7.5346,  34.0079,2,  34.0069,2,    159.1,2,     158,2,   39.16,2,   25.59,2,       0,2,    1.82,2,   2.857,2,   1.482,2,-999.000,1,   0.8715,2,  2182.5,2, 2270.31,2,   7.5888,2,       25,-999.000,9,-999.0000,9, -999.00,9, -999.00,9,  -999.0,9,  -999.0,-999.000,9,-999.000,     -999.0,9, -999.00,9,    41.6,2, -999.00,9,     -999.0,9,  -999.0,9, 20130519,     2032,  29.9999, -146.422,    34.1673,2,     -999.0,9,     -999.0,9,     7.5197,2,     -999.0,9,     -999.0,9,-999.0000, -999.00,-999.000
318M20130321,       P02E,     111,          1,         23,         23,2,20130519,       1851,    29.9998,  -146.4222,       4922,   603.9,   5.8622,    33.99,2,  33.9885,2,    102.4,2,   106.5,2,   61.91,2,   33.43,2,       0,2,     2.4,2,   2.103,2,   1.049,2,-999.000,1,   0.4209,2,  2241.8,2, 2288.11,2,   7.4538,2,       25,-999.000,9,-999.0000,9, -999.00,9, -999.00,9,  -999.0,9,  -999.0,-999.000,9,-999.000,     -999.0,9, -999.00,9,   40.45,2, -999.00,9,     -999.0,9,  -999.0,9, 20130519,     2030,  29.9998,-146.4217,    34.1488,2,     -999.0,9,     -999.0,9,     5.8643,2,     -999.0,9,     -999.0,9,-999.0000, -999.00,-999.000
318M20130321,       P02E,     111,          1,         22,         22,2,20130519,       1851,    29.9998,  -146.4222,       4922,   704.6,   4.7957,  34.0701,2,  34.0692,2,       54,2,    54.7,2,   85.44,2,   39.74,2,       0,2,    2.89,2,   0.971,2,   0.463,2,-999.000,1,   0.1378,2,  2299.8,2, 2308.12,2,   7.3415,2,       25,-999.000,9,-999.0000,9, -999.00,9, -999.00,9,  -999.0,9,  -999.0,-999.000,9,-999.000,     -999.0,9, -999.00,9,   39.07,2, -999.00,9,     -999.0,9,  -999.0,9, 20130519,     2027,  29.9999,-146.4218,    34.2299,2,     -999.0,9,     -999.0,9,     4.7888,2,     -999.0,9,     -999.0,9,-999.0000, -999.00,-999.000
318M20130321,       P02E,     111,          1,         21,         21,2,20130519,       1851,    29.9998,  -146.4222,       4922,   805.2,   4.3539,   34.193,2,  34.1912,2,       23,2,    22.2,2,  102.04,2,   42.79,2,       0,2,    3.13,2,   0.247,6,   0.124,6,-999.000,1,        0,6,  2336.4,2, 2328.83,2,   7.2911,2,       25,-999.000,9,-999.0000,9, -999.00,9, -999.00,9,  -999.0,9,  -999.0,-999.000,9,-999.000,     -999.0,9, -999.00,9,   37.63,2, -999.00,9,     -999.0,9,  -999.0,9, 20130519,     2024,  29.9998, -146.422,    34.3524,2,     -999.0,9,     -999.0,9,     4.3495,2,     -999.0,9,     -999.0,9,-999.0000, -999.00,-999.000
318M20130321,       P02E,     111,          1,         20,         20,2,20130519,       1851,    29.9998,  -146.4222,       4922,   905.8,    4.066,  34.2936,2,  34.2949,2,       14,2,    12.8,2,  112.96,2,   43.77,2,       0,2,    3.22,2,   0.054,2,   0.030,2,-999.000,1,        0,2,  2355.3,2, 2347.33,2,   7.2864,2,       25,-999.000,9,-999.0000,9, -999.00,9, -999.00,9,  -999.0,9,  -999.0,-999.000,9,-999.000,     -999.0,9, -999.00,9,   37.93,2, -999.00,9,     -999.0,9,  -999.0,9, 20130519,     2022,  29.9997,-146.4221,    34.4566,2,     -999.0,9,     -999.0,9,     4.0625,2,     -999.0,9,     -999.0,9,-999.0000, -999.00,-999.000
318M20130321,       P02E,     111,          1,         19,         19,2,20130519,       1851,    29.9998,  -146.4222,       4922,  1008.5,   3.7523,   34.381,2,  34.3803,2,     15.1,2,      15,2,  121.65,2,   44.06,2,       0,2,    3.23,2,   0.018,2,   0.013,2,-999.000,1,        0,2,  2365.1,2, 2362.24,2,   7.3017,6,       25,-999.000,9,-999.0000,9, -999.00,9, -999.00,9,  -999.0,9,  -999.0,-999.000,9,-999.000,     -999.0,9, -999.00,9,   35.82,2, -999.00,9,     -999.0,9,  -999.0,9, 20130519,     2019,       30, -146.422,    34.5424,2,     -999.0,9,     -999.0,9,     3.7515,2,     -999.0,9,     -999.0,9,-999.0000, -999.00,-999.000
318M20130321,       P02E,     111,          1,         18,         18,2,20130519,       1851,    29.9998,  -146.4222,       4922,  1110.3,   3.5438,   34.432,2,  34.4323,2,     21.1,2,    20.8,2,  126.91,2,   43.95,2,       0,2,    3.19,2,   0.011,2,   0.007,2,-999.000,1,        0,2,  2368.4,2, 2371.14,2,   7.3194,2,       25,-999.000,9,-999.0000,9, -999.00,9, -999.00,9,  -999.0,9,  -999.0,-999.000,9,-999.000,     -999.0,9, -999.00,9,   36.12,2, -999.00,9,     -999.0,9,  -999.0,9, 20130519,     2017,  30.0002,-146.4221,    34.5946,2,     -999.0,9,     -999.0,9,     3.5439,2,     -999.0,9,     -999.0,9,-999.0000, -999.00,-999.000
318M20130321,       P02E,     111,          1,         17,         17,2,20130519,       1851,    29.9998,  -146.4222,       4922,    1211,   3.3136,  34.4782,2,  34.4778,2,     30.8,2,    30.5,2,   131.4,2,   43.64,2,       0,2,    3.16,2,   0.007,2,   0.005,2,-999.000,1,        0,2,  2369.4,2, 2380.85,2,   7.3424,2,       25,-999.000,9,-999.0000,9, -999.00,9, -999.00,9,  -999.0,9,  -999.0,-999.000,9,-999.000,     -999.0,9, -999.00,9,    34.9,2, -999.00,9,     -999.0,9,  -999.0,9, 20130519,     2014,  30.0003,-146.4222,    34.6404,2,     -999.0,9,     -999.0,9,     3.3133,2,     -999.0,9,     -999.0,9,-999.0000, -999.00,-999.000
318M20130321,       P02E,     111,          1,         16,         16,2,20130519,       1851,    29.9998,  -146.4222,       4922,  1310.5,   3.1082,   34.512,2,  34.5114,2,     40.3,2,    41.3,2,   135.5,2,   43.11,2,       0,2,    3.13,2,   0.008,2,   0.008,2,-999.000,1,        0,2,  -999.0,9, -999.00,9,-999.0000,9,  -999.00,-999.000,9,-999.0000,9, -999.00,9, -999.00,9,  -999.0,9,  -999.0,-999.000,9,-999.000,     -999.0,9, -999.00,9,   34.21,2, -999.00,9,     -999.0,9,  -999.0,9, 20130519,     2011,  30.0003,-146.4222,    34.6741,2,     -999.0,9,     -999.0,9,     3.1091,2,     -999.0,9,     -999.0,9,-999.0000, -999.00,-999.000
318M20130321,       P02E,     111,          1,         15,         15,2,20130519,       1851,    29.9998,  -146.4222,       4922,  1413.3,   2.9205,  34.5343,2,  34.5332,2,     47.7,2,    47.5,2,  140.08,2,   42.76,2,       0,2,    3.07,2,   0.006,2,   0.005,2,-999.000,1,        0,2,    2369,2, 2393.15,2,   7.3806,2,       25,-999.000,9,-999.0000,9, -999.00,9, -999.00,9,  -999.0,9,  -999.0,-999.000,9,-999.000,     -999.0,9, -999.00,9,   34.81,2, -999.00,9,     -999.0,9,  -999.0,9, 20130519,     2008,       30,-146.4223,    34.6961,2,     -999.0,9,     -999.0,9,     2.9209,2,     -999.0,9,     -999.0,9,-999.0000, -999.00,-999.000
318M20130321,       P02E,     111,          1,         14,         14,2,20130519,       1851,    29.9998,  -146.4222,       4922,  1614.1,   2.5902,   34.567,2,  34.5662,2,     59.6,2,      59,2,   147.4,2,   42.15,2,       0,2,    3.06,2,   0.008,2,   0.006,2,-999.000,1,        0,2,  -999.0,9, -999.00,9,-999.0000,9,  -999.00,-999.000,9,-999.0000,9, -999.00,9, -999.00,9,  -999.0,9,  -999.0,-999.000,9,-999.000,     -999.0,9, -999.00,9,   34.76,2, -999.00,9,     -999.0,9,  -999.0,9, 20130519,     2004,  29.9997,-146.4223,    34.7292,2,     -999.0,9,     -999.0,9,     2.5908,2,     -999.0,9,     -999.0,9,-999.0000, -999.00,-999.000
318M20130321,       P02E,     111,          1,         13,         13,2,20130519,       1851,    29.9998,  -146.4222,       4922,  1817.7,   2.2892,  34.5939,2,  34.5939,2,     69.2,2,    68.8,2,  155.69,2,   41.61,2,       0,2,    2.97,2,   0.007,2,   0.004,2,-999.000,1,        0,2,    2371,2, 2409.66,2,    7.422,2,       25,-999.000,9,-999.0000,9, -999.00,9, -999.00,9,  -999.0,9,  -999.0,-999.000,9,-999.000,     -999.0,9, -999.00,9,   35.57,2, -999.00,9,     -999.0,9,  -999.0,9, 20130519,     2000,       30,-146.4219,     34.757,2,     -999.0,9,     -999.0,9,     2.2894,2,     -999.0,9,     -999.0,9,-999.0000, -999.00,-999.000
318M20130321,       P02E,     111,          1,         12,         12,2,20130519,       1851,    29.9998,  -146.4222,       4922,    2018,   2.0443,  34.6146,2,  34.6144,2,     78.1,2,    78.3,2,  162.43,2,   41.02,2,       0,2,    2.92,2,   0.008,2,   0.005,2,-999.000,1,        0,2,  -999.0,9, -999.00,9,-999.0000,9,  -999.00,-999.000,9,-999.0000,9, -999.00,9, -999.00,9,  -999.0,9,  -999.0,-999.000,9,-999.000,     -999.0,9, -999.00,9,   34.25,2, -999.00,9,     -999.0,9,  -999.0,9, 20130519,     1955,  30.0003,-146.4214,    34.7776,2,     -999.0,9,     -999.0,9,     2.0437,2,     -999.0,9,     -999.0,9,-999.0000, -999.00,-999.000
318M20130321,       P02E,     111,          1,         11,         11,2,20130519,       1851,    29.9998,  -146.4222,       4922,  2274.6,   1.8573,  34.6322,2,  34.6315,2,     88.7,2,    88.9,2,  166.13,2,   40.39,2,       0,2,    2.86,2,   0.004,2,   0.004,2,-999.000,1,        0,2,  2369.1,2, 2422.66,2,   7.4606,2,       25,-999.000,9,-999.0000,9, -999.00,9, -999.00,9,  -999.0,9,  -999.0,-999.000,9,-999.000,     -999.0,9, -999.00,9,   35.15,2, -999.00,9,     -999.0,9,  -999.0,9, 20130519,     1949,       30,-146.4219,    34.7948,2,     -999.0,9,     -999.0,9,     1.8562,2,     -999.0,9,     -999.0,9,-999.0000, -999.00,-999.000
318M20130321,       P02E,     111,          1,         10,         10,2,20130519,       1851,    29.9998,  -146.4222,       4922,  2528.8,   1.7224,  34.6457,2,  34.6448,2,     98.4,2,    98.2,2,  168.77,2,   39.81,2,       0,2,    2.83,2,   0.004,2,   0.002,2,-999.000,1,        0,2,  2365.3,2, 2424.26,2,   7.4795,2,       25,-999.000,9,-999.0000,9, -999.00,9, -999.00,9,  -999.0,9,  -999.0,-999.000,9,-999.000,     -999.0,9, -999.00,9,    35.7,2, -999.00,9,     -999.0,9,  -999.0,9, 20130519,     1944,  30.0001,-146.4224,    34.8082,2,     -999.0,9,     -999.0,9,     1.7222,2,     -999.0,9,     -999.0,9,-999.0000, -999.00,-999.000
318M20130321,       P02E,     111,          1,          9,          9,2,20130519,       1851,    29.9998,  -146.4222,       4922,  2783.2,   1.6184,  34.6572,2,   34.656,2,    108.7,2,   109.4,2,  169.06,2,    39.2,2,       0,2,    2.77,2,   0.005,2,   0.004,2,-999.000,1,        0,2,  -999.0,9, -999.00,9,-999.0000,9,  -999.00,-999.000,9,-999.0000,9, -999.00,9, -999.00,9,  -999.0,9,  -999.0,-999.000,9,-999.000,     -999.0,9, -999.00,9,   37.61,2, -999.00,9,     -999.0,9,  -999.0,9, 20130519,     1938,  29.9999,-146.4221,    34.8194,2,     -999.0,9,     -999.0,9,     1.6185,2,     -999.0,9,     -999.0,9,-999.0000, -999.00,-999.000
318M20130321,       P02E,     111,          1,          8,          8,2,20130519,       1851,    29.9998,  -146.4222,       4922,  3035.5,   1.5567,  34.6656,2,  34.6647,2,    119.4,2,   119.4,2,  166.71,2,   38.37,2,       0,2,    2.71,2,   0.008,2,   0.004,2,-999.000,1,        0,2,  2351.9,2, 2425.16,2,   7.5187,2,       25,-999.000,9,-999.0000,9, -999.00,9, -999.00,9,  -999.0,9,  -999.0,-999.000,9,-999.000,     -999.0,9, -999.00,9,    36.9,2, -999.00,9,     -999.0,9,  -999.0,9, 20130519,     1932,       30,-146.4225,    34.8281,2,     -999.0,9,     -999.0,9,     1.5569,2,     -999.0,9,     -999.0,9,-999.0000, -999.00,-999.000
318M20130321,       P02E,     111,          1,          7,          7,2,20130519,       1851,    29.9998,  -146.4222,       4922,  3343.2,   1.5094,  34.6735,2,  34.6729,2,    130.5,2,   129.6,2,   163.3,2,    37.7,2,       0,2,    2.66,2,   0.006,2,   0.002,2,-999.000,1,        0,2,  -999.0,9, -999.00,9,-999.0000,9,  -999.00,-999.000,9,-999.0000,9, -999.00,9, -999.00,9,  -999.0,9,  -999.0,-999.000,9,-999.000,     -999.0,9, -999.00,9,   37.34,2, -999.00,9,     -999.0,9,  -999.0,9, 20130519,     1926,  29.9997,-146.4221,    34.8364,2,     -999.0,9,     -999.0,9,     1.5094,2,     -999.0,9,     -999.0,9,-999.0000, -999.00,-999.000