BOTTLE,20220817CCHSIOAMB
EXPOCODE,SECT_ID,STNNBR,CASTNO,SAMPNO,BTLNBR,BTLNBR_FLAG_W,DATE,TIME,LATITUDE,LONGITUDE,DEPTH,CTDPRS,CTDTMP,CTDSAL,CTDSAL_FLAG_W,SALNTY,SALNTY_FLAG_W,CTDOXY,CTDOXY_FLAG_W,OXYGEN,OXYGEN_FLAG_W,SILCAT,SILCAT_FLAG_W,NITRAT,NITRAT_FLAG_W,NITRIT,NITRIT_FLAG_W,PHSPHT,PHSPHT_FLAG_W,CFC-11,CFC-11_FLAG_W,CFC-12,CFC-12_FLAG_W,CFC113,CFC113_FLAG_W,SF6,SF6_FLAG_W,TCARBN,TCARBN_FLAG_W,ALKALI,ALKALI_FLAG_W,PH_TOT,PH_TOT_FLAG_W,PH_TMP,TRITUM,TRITUM_FLAG_W,HELIUM,HELIUM_FLAG_W,DELHE3,DELHE3_FLAG_W,DELC13,DELC13_FLAG_W,DELC14,DELC14_FLAG_W,C14ERR,NEON,NEON_FLAG_W,NEONER,I-129,I-129_FLAG_W,SR-90,SR-90_FLAG_W,DOC,DOC_FLAG_W,TDN,TDN_FLAG_W,CALCIUM,CALCIUM_FLAG_W,D15N_NO3,D15N_NO3_FLAG_W,BTL_DATE,BTL_TIME,BTL_LAT,BTL_LON,SALTREF,SALTREF_FLAG_W,CS-137,CS-137_FLAG_W,CS-134,CS-134_FLAG_W,REFTMP,REFTMP_FLAG_W,LAB_DEN,LAB_DEN_FLAG_W,D18O_NO3,D18O_NO3_FLAG_W,HELIER,DELHER,TRITER
,,,,,,,,,,,METERS,DBAR,ITS-90,PSS-78,,PSS-78,,UMOL/KG,,UMOL/KG,,UMOL/KG,,UMOL/KG,,UMOL/KG,,UMOL/KG,,PMOL/KG,,PMOL/KG,,PMOL/KG,,FMOL/KG,,UMOL/KG,,UMOL/KG,,,,DEG C,TU,,NMOL/KG,,PERCNT,,/MILLE,,/MILLE,,/MILLE,NMOL/KG,,NMOL/KG,BQ/M^3,,DM/.1MG,,UMOL/KG,,UMOL/KG,,MMOL/KG,,/MILLE,,,,,,G/KG,,BQ/M^3,,BQ/M^3,,ITS-90,,,,/MILLE,,NMOL/KG,PERCNT,TU
318M20130321,       P02E,     119,          1,         36,         36,2,20130522,       0758,    29.9994,  -140.2775,       4826,     3.2,  19.8716,   34.824,2,  34.8239,2,    232.5,2,   232.5,2,    2.64,2,       0,2,       0,2,    0.01,2,   2.066,2,   1.238,2,-999.000,1,   1.4679,2,  2033.7,2, 2291.91,2,   7.9754,6,       25,-999.000,9,-999.0000,9, -999.00,9, -999.00,9,  -999.0,9,  -999.0,-999.000,9,-999.000,     -999.0,1, -999.00,9,   64.61,2,     3.9,2,     -999.0,9,  -999.0,1, 20130522,     1000,       30,-140.2774,    34.9881,2,     -999.0,9,     -999.0,9,    19.8717,2,     -999.0,9,     -999.0,1,-999.0000, -999.00,-999.000
318M20130321,       P02E,     119,          1,         34,         34,2,20130522,       0758,    29.9994,  -140.2775,       4826,    19.3,  19.8741,   34.824,2,  34.8236,2,    233.7,2,   232.6,2,    2.54,2,       0,2,       0,2,    0.01,2,   2.072,2,   1.266,2,-999.000,1,   1.4705,2,  2032.6,2, 2292.01,6,   7.9772,2,       25,-999.000,9,-999.0000,9, -999.00,9, -999.00,9,  -999.0,9,  -999.0,-999.000,9,-999.000,     -999.0,9, -999.00,9,   64.44,2,    4.19,2,     -999.0,9,  -999.0,1, 20130522,      959,  29.9999,-140.2776,    34.9878,2,     -999.0,9,     -999.0,9,    19.8742,2,     -999.0,9,     -999.0,1,-999.0000, -999.00,-999.000
318M20130321,       P02E,     119,          1,         33,         33,2,20130522,       0758,    29.9994,  -140.2775,       4826,    39.3,   18.452,  34.6466,2,  34.6429,2,    243.8,2,   240.1,2,    2.83,2,       0,2,       0,2,    0.02,2,   2.195,2,   1.324,2,-999.000,1,   1.4641,2,  2026.6,2, 2281.61,2,   7.9723,2,       25,-999.000,9,-999.0000,9, -999.00,9, -999.00,9,  -999.0,9,  -999.0,-999.000,9,-999.000,     -999.0,9, -999.00,9,   64.29,2,    3.36,2,     -999.0,9,  -999.0,1, 20130522,      957,  29.9998,-140.2777,    34.8063,2,     -999.0,9,     -999.0,9,    18.4405,2,     -999.0,9,     -999.0,1,-999.0000, -999.00,-999.000
318M20130321,       P02E,     119,          1,         32,         32,2,20130522,       0758,    29.9994,  -140.2775,       4826,    90.8,  18.0297,  34.7387,2,  34.7447,2,    237.5,2,   235.5,2,    2.54,2,       0,2,       0,2,    0.04,2,   2.198,2,   1.328,2,-999.000,1,   1.4828,2,  -999.0,9, 2287.41,2,-999.0000,9,  -999.00,-999.000,9,-999.0000,9, -999.00,9, -999.00,9,  -999.0,9,  -999.0,-999.000,9,-999.000,     -999.0,9, -999.00,9,   60.65,2,    3.67,2,     -999.0,9,  -999.0,1, 20130522,      955,  29.9998,-140.2778,    34.9086,2,     -999.0,9,     -999.0,9,    18.0287,2,     -999.0,9,     -999.0,1,-999.0000, -999.00,-999.000
318M20130321,       P02E,     119,          1,         31,         31,2,20130522,       0758,    29.9994,  -140.2775,       4826,   135.4,  17.9197,  34.7786,2,  34.7846,2,    232.5,2,   232.2,2,    2.44,2,       0,2,    0.05,2,    0.05,2,   2.195,2,   1.328,2,-999.000,1,   1.5311,2,  2039.7,2, 2291.81,2,   7.9617,2,       25,-999.000,9,-999.0000,9, -999.00,9, -999.00,9,  -999.0,9,  -999.0,-999.000,9,-999.000,     -999.0,9, -999.00,9,   57.62,2,    3.94,2,     -999.0,9,  -999.0,1, 20130522,      953,  29.9998,-140.2779,    34.9487,2,     -999.0,9,     -999.0,9,    17.9173,2,     -999.0,9,     -999.0,1,-999.0000, -999.00,-999.000
318M20130321,       P02E,     119,          1,         30,         30,2,20130522,       0758,    29.9994,  -140.2775,       4826,   185.3,  13.6861,  34.0817,2,   34.105,3,    228.2,2,     225,2,    5.08,2,    3.87,2,    0.02,2,    0.37,2,   2.717,2,   1.592,2,-999.000,1,   1.6566,2,  -999.0,9,  2250.6,2,-999.0000,9,  -999.00,-999.000,9,-999.0000,9, -999.00,9, -999.00,9,  -999.0,9,  -999.0,-999.000,9,-999.000,     -999.0,9, -999.00,9,    52.8,2,    7.94,2,     -999.0,9,  -999.0,1, 20130522,      951,  29.9998,-140.2777,    34.2659,3,     -999.0,9,     -999.0,9,    13.7069,3,     -999.0,9,     -999.0,1,-999.0000, -999.00,-999.000
318M20130321,       P02E,     119,          1,         29,         29,2,20130522,       0758,    29.9994,  -140.2775,       4826,   235.3,   11.313,  33.9566,2,  33.9595,2,    216.5,2,     216,2,   10.55,2,   10.65,2,    0.01,2,     0.8,2,   3.096,2,   1.756,2,-999.000,1,    1.538,2,  2083.7,2,  2243.9,2,   7.7789,2,       25,-999.000,9,-999.0000,9, -999.00,9, -999.00,9,  -999.0,9,  -999.0,-999.000,9,-999.000,     -999.0,9, -999.00,9, -999.00,5, -999.00,5,     -999.0,9,  -999.0,1, 20130522,      949,  29.9998,-140.2776,    34.1196,2,     -999.0,9,     -999.0,9,     11.311,2,     -999.0,9,     -999.0,1,-999.0000, -999.00,-999.000
318M20130321,       P02E,     119,          1,         27,         27,2,20130522,       0758,    29.9994,  -140.2775,       4826,   287.7,   9.8647,  33.9839,2,  33.9818,2,    199.7,2,   200.4,2,   17.77,2,   16.17,2,    0.01,2,    1.16,2,   3.228,2,   1.795,2,-999.000,1,   1.3917,2,  -999.0,9,  2249.4,2,-999.0000,9,  -999.00,-999.000,9,-999.0000,9, -999.00,9, -999.00,9,  -999.0,9,  -999.0,-999.000,9,-999.000,     -999.0,9, -999.00,9,   42.47,2,   19.27,2,     -999.0,9,  -999.0,1, 20130522,      948,  29.9997,-140.2774,     34.142,2,     -999.0,9,     -999.0,9,      9.855,2,     -999.0,9,     -999.0,1,-999.0000, -999.00,-999.000
318M20130321,       P02E,     119,          1,         26,         26,2,20130522,       0758,    29.9994,  -140.2775,       4826,   337.2,   9.2275,  34.0339,2,  34.0343,2,    195.8,2,   196.8,2,   22.36,2,    18.3,2,    0.01,2,     1.3,2,   3.234,2,   1.773,2,-999.000,1,   1.2566,2,  2131.1,2,  2256.6,2,   7.6923,6,       25,-999.000,9,-999.0000,9, -999.00,9, -999.00,9,  -999.0,9,  -999.0,-999.000,9,-999.000,     -999.0,9, -999.00,9,   43.47,2,   21.45,2,     -999.0,9,  -999.0,1, 20130522,      945,  29.9997,-140.2774,    34.1948,2,     -999.0,9,     -999.0,9,     9.2227,2,     -999.0,9,     -999.0,1,-999.0000, -999.00,-999.000
318M20130321,       P02E,     119,          1,         25,         25,2,20130522,       0758,    29.9994,  -140.2775,       4826,   386.9,   8.2809,  34.0077,2,  34.0065,2,    172.3,2,   171.2,2,   31.15,2,    22.8,2,    0.01,2,    1.62,2,   3.106,2,   1.661,2,-999.000,1,   1.0374,2,  -999.0,9, -999.00,9,-999.0000,9,  -999.00,-999.000,9,-999.0000,9, -999.00,9, -999.00,9,  -999.0,9,  -999.0,-999.000,9,-999.000,     -999.0,9, -999.00,9,   42.37,2, -999.00,9,     -999.0,9,  -999.0,1, 20130522,      943,  29.9997,-140.2776,    34.1669,2,     -999.0,9,     -999.0,9,     8.2814,2,     -999.0,9,     -999.0,1,-999.0000, -999.00,-999.000
318M20130321,       P02E,     119,          1,         24,         24,2,20130522,       0758,    29.9994,  -140.2775,       4826,   466.6,   6.9133,  33.9999,2,  34.0004,2,    115.4,2,   114.7,2,   49.02,2,   30.68,2,       0,2,    2.22,2,   2.458,2,   1.262,2,-999.000,1,   0.5878,2,    2221,2, 2273.51,2,   7.4814,2,       25,-999.000,9,-999.0000,9, -999.00,9, -999.00,9,  -999.0,9,  -999.0,-999.000,9,-999.000,     -999.0,9, -999.00,9,   44.09,2, -999.00,9,     -999.0,9,  -999.0,1, 20130522,      940,  29.9997,-140.2777,    34.1608,2,     -999.0,9,     -999.0,9,     6.9155,2,     -999.0,9,     -999.0,1,-999.0000, -999.00,-999.000
318M20130321,       P02E,     119,          1,         23,         23,2,20130522,       0758,    29.9994,  -140.2775,       4826,   569.1,   5.4664,  34.0212,2,  34.0192,2,     74.2,2,    74.2,2,   71.09,2,   37.01,2,       0,2,    2.68,2,   1.624,2,   0.774,2,-999.000,1,   0.2985,2,  2271.6,2, 2293.41,2,   7.3791,2,       25,-999.000,9,-999.0000,9, -999.00,9, -999.00,9,  -999.0,9,  -999.0,-999.000,9,-999.000,     -999.0,9, -999.00,9,   43.32,2, -999.00,9,     -999.0,9,  -999.0,1, 20130522,      937,  29.9998,-140.2775,    34.1797,2,     -999.0,9,     -999.0,9,     5.4587,2,     -999.0,9,     -999.0,1,-999.0000, -999.00,-999.000
318M20130321,       P02E,     119,          1,         22,         22,2,20130522,       0758,    29.9994,  -140.2775,       4826,   668.8,   4.7876,  34.1105,2,  34.1088,2,     39.2,2,    39.6,2,   88.66,2,   40.84,2,       0,2,    2.98,2,   0.726,2,   0.340,2,-999.000,1,   0.0723,2,  2311.9,2, 2311.32,2,   7.3151,2,       25,-999.000,9,-999.0000,9, -999.00,9, -999.00,9,  -999.0,9,  -999.0,-999.000,9,-999.000,     -999.0,9, -999.00,9,    41.6,2, -999.00,9,     -999.0,9,  -999.0,1, 20130522,      933,  29.9999,-140.2775,    34.2696,2,     -999.0,9,     -999.0,9,     4.7864,2,     -999.0,9,     -999.0,1,-999.0000, -999.00,-999.000
318M20130321,       P02E,     119,          1,         21,         21,2,20130522,       0758,    29.9994,  -140.2775,       4826,   769.9,   4.4184,  34.2228,2,  34.2215,2,     19.3,2,    18.6,2,  102.72,2,   42.83,2,       0,2,    3.14,2,   0.197,2,   0.098,2,-999.000,1,        0,2,    2339,2, 2330.83,2,   7.2894,6,       25,-999.000,9,-999.0000,9, -999.00,9, -999.00,9,  -999.0,9,  -999.0,-999.000,9,-999.000,     -999.0,9, -999.00,9,   38.57,2, -999.00,9,     -999.0,9,  -999.0,1, 20130522,      930,       30,-140.2777,    34.3829,2,     -999.0,9,     -999.0,9,     4.4204,2,     -999.0,9,     -999.0,1,-999.0000, -999.00,-999.000
318M20130321,       P02E,     119,          1,         20,         20,2,20130522,       0758,    29.9994,  -140.2775,       4826,   871.5,    4.059,  34.3233,2,  34.3259,2,     12.7,2,    12.5,2,  115.11,2,   43.76,2,       0,2,    3.22,2,   0.040,2,   0.019,2,-999.000,1,        0,2,  2357.8,2, 2349.73,2,   7.2904,2,       25,-999.000,9,-999.0000,9, -999.00,9, -999.00,9,  -999.0,9,  -999.0,-999.000,9,-999.000,     -999.0,9, -999.00,9,   38.74,2, -999.00,9,     -999.0,9,  -999.0,1, 20130522,      927,  29.9999,-140.2778,    34.4878,2,     -999.0,9,     -999.0,9,     4.0587,2,     -999.0,9,     -999.0,1,-999.0000, -999.00,-999.000
318M20130321,       P02E,     119,          1,         19,         19,2,20130522,       0758,    29.9994,  -140.2775,       4826,   972.5,    3.752,  34.3887,2,  34.3869,2,     14.6,2,    13.5,2,  123.79,2,   44.05,2,       0,2,    3.23,2,   0.018,2,   0.011,2,-999.000,1,        0,2,  2366.5,2, 2361.84,2,   7.2993,2,       25,-999.000,9,-999.0000,9, -999.00,9, -999.00,9,  -999.0,9,  -999.0,-999.000,9,-999.000,     -999.0,9, -999.00,9,   37.51,2, -999.00,9,     -999.0,9,  -999.0,1, 20130522,      924,       30,-140.2777,    34.5491,2,     -999.0,9,     -999.0,9,     3.7517,2,     -999.0,9,     -999.0,1,-999.0000, -999.00,-999.000
318M20130321,       P02E,     119,          1,         18,         18,2,20130522,       0758,    29.9994,  -140.2775,       4826,  1073.3,   3.5531,  34.4488,2,  34.4497,2,     22.8,2,    22.3,2,  128.08,2,   43.79,2,       0,2,    3.19,2,   0.011,2,   0.010,2,-999.000,1,   0.0995,2,  2368.6,2, 2374.24,2,   7.3236,2,       25,-999.000,9,-999.0000,9, -999.00,9, -999.00,9,  -999.0,9,  -999.0,-999.000,9,-999.000,     -999.0,9, -999.00,9,    38.6,2, -999.00,9,     -999.0,9,  -999.0,1, 20130522,      920,       30,-140.2776,    34.6122,2,     -999.0,9,     -999.0,9,     3.5514,2,     -999.0,9,     -999.0,1,-999.0000, -999.00,-999.000
318M20130321,       P02E,     119,          1,         17,         17,2,20130522,       0758,    29.9994,  -140.2775,       4826,    1175,   3.3263,  34.4852,2,  34.4855,2,     30.6,2,    30.5,2,  133.25,2,   43.52,2,       0,2,    3.16,2,   0.009,2,   0.006,2,-999.000,1,   0.0244,2,  -999.0,9, -999.00,9,-999.0000,9,  -999.00,-999.000,9,-999.0000,9, -999.00,9, -999.00,9,  -999.0,9,  -999.0,-999.000,9,-999.000,     -999.0,9, -999.00,9,   36.04,2, -999.00,9,     -999.0,9,  -999.0,1, 20130522,      917,       30,-140.2774,    34.6481,2,     -999.0,9,     -999.0,9,     3.3266,2,     -999.0,9,     -999.0,1,-999.0000, -999.00,-999.000
318M20130321,       P02E,     119,          1,         16,         16,2,20130522,       0758,    29.9994,  -140.2775,       4826,  1277.2,   3.0908,  34.5164,2,  34.5177,2,     37.9,2,    38.6,2,  138.13,2,   43.12,2,       0,2,    3.12,2,   0.005,2,   0.006,2,-999.000,1,        0,2,  2370.2,2, 2388.45,2,   7.3609,2,       25,-999.000,9,-999.0000,9, -999.00,9, -999.00,9,  -999.0,9,  -999.0,-999.000,9,-999.000,     -999.0,9, -999.00,9,   36.86,2, -999.00,9,     -999.0,9,  -999.0,1, 20130522,      914,  30.0001,-140.2776,    34.6804,2,     -999.0,9,     -999.0,9,      3.091,2,     -999.0,9,     -999.0,1,-999.0000, -999.00,-999.000
318M20130321,       P02E,     119,          1,         15,         15,2,20130522,       0758,    29.9994,  -140.2775,       4826,  1375.8,   2.8729,  34.5403,2,  34.5401,2,     45.3,2,    46.2,2,  143.01,2,   42.75,2,       0,2,    3.09,2,   0.004,2,   0.003,2,-999.000,1,        0,2,  -999.0,9, -999.00,9,-999.0000,9,  -999.00,-999.000,9,-999.0000,9, -999.00,9, -999.00,9,  -999.0,9,  -999.0,-999.000,9,-999.000,     -999.0,9, -999.00,9, -999.00,5, -999.00,9,     -999.0,9,  -999.0,1, 20130522,      911,  29.9998,-140.2776,    34.7029,2,     -999.0,9,     -999.0,9,     2.8728,2,     -999.0,9,     -999.0,1,-999.0000, -999.00,-999.000
318M20130321,       P02E,     119,          1,         14,         14,2,20130522,       0758,    29.9994,  -140.2775,       4826,  1548.6,   2.5876,  34.5674,2,  34.5672,2,     56.4,2,    56.7,2,  150.23,2,   42.17,2,       0,2,    3.04,2,   0.005,2,   0.003,2,-999.000,1,        0,2,  2371.3,2, 2404.05,2,   7.3985,2,       25,-999.000,9,-999.0000,9, -999.00,9, -999.00,9,  -999.0,9,  -999.0,-999.000,9,-999.000,     -999.0,9, -999.00,9,   35.29,2, -999.00,9,     -999.0,9,  -999.0,1, 20130522,      906,  29.9998,-140.2777,    34.7302,2,     -999.0,9,     -999.0,9,     2.5872,2,     -999.0,9,     -999.0,1,-999.0000, -999.00,-999.000
318M20130321,       P02E,     119,          1,         13,         13,2,20130522,       0758,    29.9994,  -140.2775,       4826,  1750.6,   2.3226,  34.5906,2,  34.5906,2,     65.7,2,      66,2,  156.67,2,   41.67,2,       0,2,    2.98,2,   0.003,2,   0.004,2,-999.000,1,        0,2,  2373.5,6, 2409.26,2,   7.4162,2,       25,-999.000,9,-999.0000,9, -999.00,9, -999.00,9,  -999.0,9,  -999.0,-999.000,9,-999.000,     -999.0,9, -999.00,9,   36.66,2, -999.00,9,     -999.0,9,  -999.0,1, 20130522,      901,  29.9998,-140.2776,    34.7537,2,     -999.0,9,     -999.0,9,      2.324,2,     -999.0,9,     -999.0,1,-999.0000, -999.00,-999.000
318M20130321,       P02E,     119,          1,         12,         12,2,20130522,       0758,    29.9994,  -140.2775,       4826,  1955.3,   2.0838,  34.6117,2,  34.6122,2,     73.4,2,    76.2,2,  163.21,2,   41.04,2,       0,2,    2.93,2,   0.002,2,   0.002,2,-999.000,1,   0.0353,3,  2371.6,2, 2416.16,2,   7.4366,2,       25,-999.000,9,-999.0000,9, -999.00,9, -999.00,9,  -999.0,9,  -999.0,-999.000,9,-999.000,     -999.0,9, -999.00,9,   37.72,2, -999.00,9,     -999.0,9,  -999.0,1, 20130522,      857,       30,-140.2774,    34.7754,2,     -999.0,9,     -999.0,9,      2.084,2,     -999.0,9,     -999.0,1,-999.0000, -999.00,-999.000
318M20130321,       P02E,     119,          1,         11,         11,2,20130522,       0758,    29.9994,  -140.2775,       4826,  2188.3,   1.8998,  34.6295,2,  34.6298,2,     86.9,2,    86.6,2,   167.6,2,   40.34,2,       0,2,    2.86,2,   0.003,2,   0.004,2,-999.000,1,   0.0465,3,  2368.9,2, 2420.16,2,   7.4565,2,       25,-999.000,9,-999.0000,9, -999.00,9, -999.00,9,  -999.0,9,  -999.0,-999.000,9,-999.000,     -999.0,9, -999.00,9,   36.21,2, -999.00,9,     -999.0,9,  -999.0,1, 20130522,      852,       30,-140.2774,    34.7931,2,     -999.0,9,     -999.0,9,     1.8997,2,     -999.0,9,     -999.0,1,-999.0000, -999.00,-999.000
318M20130321,       P02E,     119,          1,         10,         10,2,20130522,       0758,    29.9994,  -140.2775,       4826,  2442.6,   1.7602,  34.6441,2,  34.6438,2,     98.5,2,    98.4,2,  168.86,2,   39.63,2,       0,2,     2.8,2,   0.003,2,   0.003,2,-999.000,1,   0.0519,3,  -999.0,9, -999.00,9,-999.0000,9,  -999.00,-999.000,9,-999.0000,9, -999.00,9, -999.00,9,  -999.0,9,  -999.0,-999.000,9,-999.000,     -999.0,9, -999.00,9, -999.00,9, -999.00,9,     -999.0,9,  -999.0,1, 20130522,      847,  30.0003,-140.2772,    34.8072,2,     -999.0,9,     -999.0,9,     1.7603,2,     -999.0,9,     -999.0,1,-999.0000, -999.00,-999.000
318M20130321,       P02E,     119,          1,          9,          9,2,20130522,       0758,    29.9994,  -140.2775,       4826,    2699,   1.6596,  34.6547,2,  34.6538,2,    108.4,2,   107.9,2,  169.35,2,   39.03,2,       0,2,    2.74,2,   0.003,2,   0.001,2,-999.000,1,        0,2,  -999.0,9, -999.00,9,-999.0000,9,  -999.00,-999.000,9,-999.0000,9, -999.00,9, -999.00,9,  -999.0,9,  -999.0,-999.000,9,-999.000,     -999.0,9, -999.00,9,   35.18,2, -999.00,9,     -999.0,9,  -999.0,1, 20130522,      842,  29.9999,-140.2775,    34.8172,2,     -999.0,9,     -999.0,9,     1.6598,2,     -999.0,9,     -999.0,1,-999.0000, -999.00,-999.000
318M20130321,       P02E,     119,          1,          8,          8,2,20130522,       0758,    29.9994,  -140.2775,       4826,  2952.8,   1.5882,  34.6629,2,  34.6617,2,    116.4,2,   116.4,2,  168.67,2,   38.49,2,       0,2,    2.69,2,   0.002,2,   0.002,2,-999.000,1,        0,2,  2354.3,2, 2424.56,2,   7.5146,2,       25,-999.000,9,-999.0000,9, -999.00,9, -999.00,9,  -999.0,9,  -999.0,-999.000,9,-999.000,     -999.0,9, -999.00,9, -999.00,9, -999.00,9,     -999.0,9,  -999.0,1, 20130522,      836,  29.9997,-140.2775,    34.8251,2,     -999.0,9,     -999.0,9,     1.5889,2,     -999.0,9,     -999.0,1,-999.0000, -999.00,-999.000
318M20130321,       P02E,     119,          1,          7,          7,2,20130522,       0758,    29.9994,  -140.2775,       4826,  3244.8,   1.5223,  34.6712,2,  34.6707,2,    127.2,2,   126.9,2,  166.32,2,   37.82,2,       0,2,    2.65,2,   0.003,2,   0.004,2,-999.000,1,        0,2,  -999.0,9, -999.00,9,-999.0000,9,  -999.00,-999.000,9,-999.0000,9, -999.00,9, -999.00,9,  -999.0,9,  -999.0,-999.000,9,-999.000,     -999.0,9, -999.00,9,    35.7,2, -999.00,9,     -999.0,9,  -999.0,1, 20130522,      831,  29.9997,-140.2775,    34.8342,2,     -999.0,9,     -999.0,9,     1.5214,2,     -999.0,9,     -999.0,1,-999.0000, -999.00,-999.000
318M20130321,       P02E,     119,          1,          6,          6,2,20130522,       0758,    29.9994,  -140.2775,       4826,  3551.2,   1.4875,  34.6776,2,  34.6767,2,    134.5,2,   135.1,2,  164.37,2,   37.25,2,       0,2,    2.59,2,   0.003,2,   0.004,2,-999.000,1,        0,2,  2341.9,2, 2426.16,2,   7.5481,6,       25,-999.000,9,-999.0000,9, -999.00,9, -999.00,9,  -999.0,9,  -999.0,-999.000,9,-999.000,     -999.0,9, -999.00,9, -999.00,9, -999.00,9,     -999.0,9,  -999.0,1, 20130522,      825,  29.9997,-140.2778,    34.8402,2,     -999.0,9,     -999.0,9,     1.4876,2,     -999.0,9,     -999.0,1,-999.0000, -999.00,-999.000