BOTTLE,20220817CCHSIOAMB
EXPOCODE,SECT_ID,STNNBR,CASTNO,SAMPNO,BTLNBR,BTLNBR_FLAG_W,DATE,TIME,LATITUDE,LONGITUDE,DEPTH,CTDPRS,CTDTMP,CTDSAL,CTDSAL_FLAG_W,SALNTY,SALNTY_FLAG_W,CTDOXY,CTDOXY_FLAG_W,OXYGEN,OXYGEN_FLAG_W,SILCAT,SILCAT_FLAG_W,NITRAT,NITRAT_FLAG_W,NITRIT,NITRIT_FLAG_W,PHSPHT,PHSPHT_FLAG_W,CFC-11,CFC-11_FLAG_W,CFC-12,CFC-12_FLAG_W,CFC113,CFC113_FLAG_W,SF6,SF6_FLAG_W,TCARBN,TCARBN_FLAG_W,ALKALI,ALKALI_FLAG_W,PH_TOT,PH_TOT_FLAG_W,PH_TMP,TRITUM,TRITUM_FLAG_W,HELIUM,HELIUM_FLAG_W,DELHE3,DELHE3_FLAG_W,DELC13,DELC13_FLAG_W,DELC14,DELC14_FLAG_W,C14ERR,NEON,NEON_FLAG_W,NEONER,I-129,I-129_FLAG_W,SR-90,SR-90_FLAG_W,DOC,DOC_FLAG_W,TDN,TDN_FLAG_W,CALCIUM,CALCIUM_FLAG_W,D15N_NO3,D15N_NO3_FLAG_W,BTL_DATE,BTL_TIME,BTL_LAT,BTL_LON,SALTREF,SALTREF_FLAG_W,CS-137,CS-137_FLAG_W,CS-134,CS-134_FLAG_W,REFTMP,REFTMP_FLAG_W,LAB_DEN,LAB_DEN_FLAG_W,D18O_NO3,D18O_NO3_FLAG_W,HELIER,DELHER,TRITER
,,,,,,,,,,,METERS,DBAR,ITS-90,PSS-78,,PSS-78,,UMOL/KG,,UMOL/KG,,UMOL/KG,,UMOL/KG,,UMOL/KG,,UMOL/KG,,PMOL/KG,,PMOL/KG,,PMOL/KG,,FMOL/KG,,UMOL/KG,,UMOL/KG,,,,DEG C,TU,,NMOL/KG,,PERCNT,,/MILLE,,/MILLE,,/MILLE,NMOL/KG,,NMOL/KG,BQ/M^3,,DM/.1MG,,UMOL/KG,,UMOL/KG,,MMOL/KG,,/MILLE,,,,,,G/KG,,BQ/M^3,,BQ/M^3,,ITS-90,,,,/MILLE,,NMOL/KG,PERCNT,TU
318M20130321,       P02E,     107,          1,         36,         36,2,20130518,       1414,         30,  -149.1135,       5662,     3.4,  21.2347,  35.1352,2,  35.1366,2,    226.9,2,     227,2,    1.56,2,       0,2,       0,2,    0.01,2,   1.942,2,   1.194,2,-999.000,1,   1.3712,2,  2041.7,6, 2313.02,2,    7.993,2,       25,-999.000,9,-999.0000,9, -999.00,9,    0.97,2,    38.0,2,     3.0,-999.000,9,-999.000,     -999.0,9, -999.00,9,   65.84,2,     4.3,2,     -999.0,9,  -999.0,9, 20130518,     1635,  30.0004, -149.112,    35.3023,2,     -999.0,9,     -999.0,9,    21.2335,2,     -999.0,9,     -999.0,9,-999.0000, -999.00,-999.000
318M20130321,       P02E,     107,          1,         34,         34,2,20130518,       1414,         30,  -149.1135,       5662,    40.9,  20.4511,  35.0758,2,   35.078,2,    231.3,2,   232.7,2,    1.85,2,       0,2,       0,2,    0.02,2,-999.000,9,-999.000,9,-999.000,9,-999.0000,9,  -999.0,9, -999.00,9,-999.0000,9,  -999.00,-999.000,9,-999.0000,9, -999.00,9,    0.91,2,    43.8,2,     2.3,-999.000,9,-999.000,     -999.0,9, -999.00,9,   65.63,2,    4.32,2,     -999.0,9,  -999.0,9, 20130518,     1632,  29.9998, -149.112,    35.2434,2,     -999.0,9,     -999.0,9,    20.4485,2,     -999.0,9,     -999.0,9,-999.0000, -999.00,-999.000
318M20130321,       P02E,     107,          1,         33,         33,2,20130518,       1414,         30,  -149.1135,       5662,      65,  19.5746,  35.0505,2,  35.0498,2,      235,2,   233.9,2,    2.05,2,       0,2,       0,2,    0.01,2,   2.058,2,   1.248,2,-999.000,1,   1.4138,2,  2033.5,2, 2303.42,2,    7.997,2,       25,-999.000,9,-999.0000,9, -999.00,9,    0.94,2,    50.9,2,     3.2,-999.000,9,-999.000,     -999.0,9, -999.00,9,   67.52,2,    4.44,2,     -999.0,1,  -999.0,9, 20130518,     1630,  29.9995,-149.1122,    35.2151,2,     -999.0,9,     -999.0,9,    19.5767,2,     -999.0,9,     -999.0,9,-999.0000, -999.00,-999.000
318M20130321,       P02E,     107,          1,         32,         32,2,20130518,       1414,         30,  -149.1135,       5662,    89.9,  19.3178,  35.0663,2,  35.0707,2,    232.1,2,   231.6,2,    1.95,2,       0,2,       0,2,    0.01,2,-999.000,9,-999.000,9,-999.000,9,-999.0000,9,  -999.0,9, -999.00,9,-999.0000,9,  -999.00,-999.000,9,-999.0000,9, -999.00,9, -999.00,9,  -999.0,9,  -999.0,-999.000,9,-999.000,     -999.0,9, -999.00,9,   65.52,2,    4.81,2,     -999.0,9,  -999.0,9, 20130518,     1629,  29.9992,-149.1125,     35.236,2,     -999.0,9,     -999.0,9,    19.3205,2,     -999.0,9,     -999.0,9,-999.0000, -999.00,-999.000
318M20130321,       P02E,     107,          1,         31,         31,2,20130518,       1414,         30,  -149.1135,       5662,   135.3,  18.8254,  35.0081,2,  35.0089,2,    229.1,2,   229.7,2,    1.76,2,       0,2,       0,2,    0.04,2,-999.000,9,-999.000,9,-999.000,9,-999.0000,9,  2047.2,2, 2305.72,2,    7.976,6,       25,-999.000,9,-999.0000,9, -999.00,9,    0.87,2,    46.4,2,     2.6,-999.000,9,-999.000,     -999.0,9, -999.00,9,    64.4,2,    4.47,2,     -999.0,9,  -999.0,9, 20130518,     1626,  29.9991, -149.113,    35.1739,2,     -999.0,9,     -999.0,9,     18.826,2,     -999.0,9,     -999.0,9,-999.0000, -999.00,-999.000
318M20130321,       P02E,     107,          1,         30,         30,2,20130518,       1414,         30,  -149.1135,       5662,   186.1,  15.6165,  34.4401,2,  34.4308,2,    221.4,2,   221.7,2,       4,2,    2.52,2,    0.03,2,    0.25,2,-999.000,9,-999.000,9,-999.000,9,-999.0000,9,  -999.0,9, -999.00,9,-999.0000,9,  -999.00,-999.000,9,-999.0000,9, -999.00,9, -999.00,9,  -999.0,9,  -999.0,-999.000,9,-999.000,     -999.0,9, -999.00,9,   55.49,2,    6.94,2,     -999.0,9,  -999.0,9, 20130518,     1624,   29.999,-149.1134,    34.5932,2,     -999.0,9,     -999.0,9,     15.651,3,     -999.0,9,     -999.0,9,-999.0000, -999.00,-999.000
318M20130321,       P02E,     107,          1,         29,         29,2,20130518,       1414,         30,  -149.1135,       5662,   236.8,  13.0464,  34.1563,2,  34.1542,2,    218.8,2,   218.2,2,    7.23,2,    7.07,2,    0.01,2,    0.55,2,   2.822,2,   1.644,2,-999.000,1,   1.5092,2,  2067.9,2,  2249.4,6,   7.8366,2,       25,-999.000,9,-999.0000,9, -999.00,9,    0.50,2,    54.2,2,     2.4,-999.000,9,-999.000,     -999.0,9, -999.00,9,   57.44,2,   10.95,2,     -999.0,1,  -999.0,9, 20130518,     1622,   29.999,-149.1134,    34.3153,2,     -999.0,9,     -999.0,9,    13.0515,2,     -999.0,9,     -999.0,9,-999.0000, -999.00,-999.000
318M20130321,       P02E,     107,          1,         28,         28,2,20130518,       1414,         30,  -149.1135,       5662,   285.3,  11.7396,  34.1738,2,  34.1719,2,    218.8,2,   218.2,2,   10.84,2,   10.78,2,    0.01,2,    0.76,2,   2.986,2,   1.697,2,-999.000,1,   1.4673,2,  -999.0,9, -999.00,9,-999.0000,9,  -999.00,-999.000,9,-999.0000,9, -999.00,9,    0.35,2,    36.4,2,     3.0,-999.000,9,-999.000,     -999.0,9, -999.00,9,    48.5,2,    13.8,2,     -999.0,9,  -999.0,9, 20130518,     1620,  29.9989,-149.1131,     34.333,2,     -999.0,9,     -999.0,9,    11.7453,2,     -999.0,9,     -999.0,9,-999.0000, -999.00,-999.000
318M20130321,       P02E,     107,          1,         27,         27,2,20130518,       1414,         30,  -149.1135,       5662,   336.2,   10.834,  34.1574,2,  34.1572,2,    218.3,2,   218.9,2,   14.16,2,   12.97,2,    0.01,2,    0.91,2,-999.000,9,-999.000,9,-999.000,9,-999.0000,9,  2098.5,2,  2255.7,2,   7.7771,2,       25,-999.000,9,-999.0000,9, -999.00,9,    0.34,2,    36.7,2,     2.5,-999.000,9,-999.000,     -999.0,9, -999.00,9,   47.89,2, -999.00,5,     -999.0,9,  -999.0,9, 20130518,     1618,  29.9989,-149.1128,    34.3182,2,     -999.0,9,     -999.0,9,    10.8325,2,     -999.0,9,     -999.0,9,-999.0000, -999.00,-999.000
318M20130321,       P02E,     107,          1,         26,         26,2,20130518,       1414,         30,  -149.1135,       5662,   387.1,   9.8688,  34.0995,2,  34.0995,2,    207.5,2,   207.9,2,   18.85,2,   16.02,2,    0.01,2,     1.1,2,-999.000,9,-999.000,9,-999.000,9,-999.0000,9,  -999.0,9, -999.00,9,-999.0000,9,  -999.00,-999.000,9,-999.0000,9, -999.00,9,    0.18,2,    22.6,2,     2.4,-999.000,9,-999.000,     -999.0,9, -999.00,9,   43.92,2, -999.00,9,     -999.0,9,  -999.0,9, 20130518,     1616,   29.999,-149.1127,    34.2603,2,     -999.0,9,     -999.0,9,     9.8666,2,     -999.0,9,     -999.0,9,-999.0000, -999.00,-999.000
318M20130321,       P02E,     107,          1,         25,         25,2,20130518,       1414,         30,  -149.1135,       5662,   467.4,   8.0427,  34.0177,2,   34.018,2,    176.8,2,   169.1,2,    33.5,2,   23.45,2,       0,2,    1.61,2,-999.000,9,-999.000,9,-999.000,9,-999.0000,9,  2168.7,2,  2263.5,2,   7.6192,6,       25,-999.000,9,-999.0000,9, -999.00,9,    0.00,2,    -6.5,2,     2.4,-999.000,9,-999.000,     -999.0,9, -999.00,9,   43.68,2, -999.00,9,     -999.0,1,  -999.0,9, 20130518,     1613,  29.9993,-149.1128,    34.1784,2,     -999.0,9,     -999.0,9,     8.0496,2,     -999.0,9,     -999.0,9,-999.0000, -999.00,-999.000
318M20130321,       P02E,     107,          1,         24,         24,2,20130518,       1414,         30,  -149.1135,       5662,   568.9,   6.3736,  33.9957,2,  33.9961,2,    112.9,2,   108.7,2,   55.37,2,   32.25,2,       0,2,    2.26,2,   2.237,6,   1.122,6,-999.000,1,    0.532,6,  2233.9,2, 2280.61,2,   7.4652,2,       25,-999.000,9,-999.0000,9, -999.00,9,   -1.00,4,   -74.3,2,     2.8,-999.000,9,-999.000,     -999.0,9, -999.00,9,   42.06,2, -999.00,9,     -999.0,9,  -999.0,9, 20130518,     1610,  29.9997, -149.113,    34.1564,2,     -999.0,9,     -999.0,9,     6.3711,2,     -999.0,9,     -999.0,9,-999.0000, -999.00,-999.000
318M20130321,       P02E,     107,          1,         23,         23,2,20130518,       1414,         30,  -149.1135,       5662,   667.7,    5.243,  34.0482,2,  34.0476,2,     66.2,2,    64.1,2,   76.56,2,   38.23,2,       0,2,     2.7,2,-999.000,9,-999.000,9,-999.000,9,-999.0000,9,  2284.2,2, 2298.92,2,   7.3633,2,       25,-999.000,9,-999.0000,9, -999.00,9,   -1.66,4,  -126.4,2,     2.1,-999.000,9,-999.000,     -999.0,9, -999.00,9,   38.85,2, -999.00,9,     -999.0,1,  -999.0,9, 20130518,     1608,  29.9998,-149.1133,    34.2081,2,     -999.0,9,     -999.0,9,     5.2416,2,     -999.0,9,     -999.0,9,-999.0000, -999.00,-999.000
318M20130321,       P02E,     107,          1,         22,         22,2,20130518,       1414,         30,  -149.1135,       5662,   769.4,   4.5419,   34.162,2,  34.1626,2,     30.1,2,    28.4,2,   96.86,2,   42.08,2,       0,2,       3,2,-999.000,9,-999.000,9,-999.000,9,-999.0000,9,  2327.6,2, 2322.53,2,   7.3005,2,       25,-999.000,9,-999.0000,9, -999.00,9,   -0.52,2,  -152.1,2,     2.0,-999.000,9,-999.000,     -999.0,9, -999.00,9,   39.28,2, -999.00,9,     -999.0,9,  -999.0,9, 20130518,     1605,  29.9994,-149.1132,    34.3237,2,     -999.0,9,     -999.0,9,      4.542,2,     -999.0,9,     -999.0,9,-999.0000, -999.00,-999.000
318M20130321,       P02E,     107,          1,         21,         21,2,20130518,       1414,         30,  -149.1135,       5662,   871.9,   4.1779,  34.2543,2,  34.2532,2,     14.8,2,    15.8,2,  108.77,2,    43.4,2,       0,2,    3.12,2,-999.000,9,-999.000,9,-999.000,9,-999.0000,9,  2349.4,2, 2335.03,2,   7.2868,6,       25,-999.000,9,-999.0000,9, -999.00,9,   -0.51,2,  -173.6,2,     1.9,-999.000,9,-999.000,     -999.0,9, -999.00,9, -999.00,5, -999.00,9,     -999.0,1,  -999.0,9, 20130518,     1602,  29.9991,-149.1131,    34.4148,2,     -999.0,9,     -999.0,9,     4.1789,2,     -999.0,9,     -999.0,9,-999.0000, -999.00,-999.000
318M20130321,       P02E,     107,          1,         20,         20,2,20130518,       1414,         30,  -149.1135,       5662,   974.7,   3.8552,  34.3387,2,  34.3386,2,     13.5,2,      13,2,   119.5,2,      44,2,       0,2,    3.16,2,   0.021,2,   0.012,2,-999.000,1,        0,2,  2362.5,2, 2355.64,2,   7.2925,2,       25,-999.000,9,-999.0000,9, -999.00,9,   -0.53,2,  -188.7,2,     1.8,-999.000,9,-999.000,     -999.0,9, -999.00,9,   37.53,2, -999.00,9,     -999.0,9,  -999.0,9, 20130518,     1559,  29.9991,-149.1134,    34.5005,2,     -999.0,9,     -999.0,9,     3.8552,2,     -999.0,9,     -999.0,9,-999.0000, -999.00,-999.000
318M20130321,       P02E,     107,          1,         19,         19,2,20130518,       1414,         30,  -149.1135,       5662,  1076.6,   3.5848,  34.4166,2,  34.4161,2,     19.2,2,      19,2,  126.43,2,   43.94,2,       0,2,    3.14,2,-999.000,9,-999.000,9,-999.000,9,-999.0000,9,  -999.0,9, -999.00,9,-999.0000,9,  -999.00,-999.000,9,-999.0000,9, -999.00,9,   -0.44,2,  -209.8,2,     1.8,-999.000,9,-999.000,     -999.0,9, -999.00,9,   37.53,2, -999.00,9,     -999.0,1,  -999.0,9, 20130518,     1555,  29.9992,-149.1138,    34.5784,2,     -999.0,9,     -999.0,9,     3.5832,2,     -999.0,9,     -999.0,9,-999.0000, -999.00,-999.000
318M20130321,       P02E,     107,          1,         18,         18,2,20130518,       1414,         30,  -149.1135,       5662,  1175.5,   3.3718,  34.4689,2,  34.4685,2,     28.4,2,      30,2,  130.62,2,   43.51,2,       0,2,    3.12,2,-999.000,9,-999.000,9,-999.000,9,-999.0000,9,  2369.5,2, 2377.24,2,   7.3403,2,       25,-999.000,9,-999.0000,9, -999.00,9,   -0.40,2,  -218.3,2,     2.6,-999.000,9,-999.000,     -999.0,9, -999.00,9, -999.00,5, -999.00,9,     -999.0,9,  -999.0,9, 20130518,     1552,  29.9992,-149.1139,     34.631,2,     -999.0,9,     -999.0,9,       3.37,2,     -999.0,9,     -999.0,9,-999.0000, -999.00,-999.000
318M20130321,       P02E,     107,          1,         17,         17,2,20130518,       1414,         30,  -149.1135,       5662,  1276.3,   3.2043,  34.4988,2,  34.4981,2,     35.2,2,    37.7,2,  133.93,2,   43.21,2,       0,2,     3.1,2,   0.003,2,   0.003,2,-999.000,1,        0,2,  -999.0,9, -999.00,9,-999.0000,9,  -999.00,-999.000,9,-999.0000,9, -999.00,9,   -0.44,2,  -225.2,2,     2.0,-999.000,9,-999.000,     -999.0,9, -999.00,9,   37.36,2, -999.00,9,     -999.0,1,  -999.0,9, 20130518,     1549,  29.9991,-149.1138,    34.6608,2,     -999.0,9,     -999.0,9,     3.2049,2,     -999.0,9,     -999.0,9,-999.0000, -999.00,-999.000
318M20130321,       P02E,     107,          1,         16,         16,2,20130518,       1414,         30,  -149.1135,       5662,  1437.8,   2.9393,  34.5335,2,  34.5321,2,     49.7,2,    48.7,2,   139.5,2,   42.62,2,       0,2,    3.04,2,-999.000,9,-999.000,9,-999.000,9,-999.0000,9,  2369.5,2, 2393.05,2,   7.3814,2,       25,-999.000,9,-999.0000,9, -999.00,9,   -0.35,2,  -234.5,2,     1.9,-999.000,9,-999.000,     -999.0,9, -999.00,9, -999.00,5, -999.00,9,     -999.0,1,  -999.0,9, 20130518,     1545,  29.9995,-149.1137,    34.6949,2,     -999.0,9,     -999.0,9,     2.9388,2,     -999.0,9,     -999.0,9,-999.0000, -999.00,-999.000
318M20130321,       P02E,     107,          1,         15,         15,2,20130518,       1414,         30,  -149.1135,       5662,  1661.7,   2.5554,  34.5711,2,  34.5702,2,     61.5,2,    61.8,2,  148.47,2,   41.94,2,       0,2,    2.98,2,-999.000,9,-999.000,9,-999.000,9,-999.0000,9,  2371.2,2, 2402.75,2,   7.4064,2,       25,-999.000,9,-999.0000,9, -999.00,9,   -0.28,2,  -245.4,2,     2.7,-999.000,9,-999.000,     -999.0,9, -999.00,9,   35.88,2, -999.00,9,     -999.0,1,  -999.0,9, 20130518,     1540,  29.9999,-149.1127,    34.7332,2,     -999.0,9,     -999.0,9,     2.5541,2,     -999.0,9,     -999.0,9,-999.0000, -999.00,-999.000
318M20130321,       P02E,     107,          1,         14,         14,2,20130518,       1414,         30,  -149.1135,       5662,  1916.8,   2.1858,  34.6014,2,  34.6007,2,     73.5,2,    73.1,2,  158.52,2,   41.26,2,       0,2,    2.91,2,-999.000,9,-999.000,9,-999.000,9,-999.0000,9,  2372.5,2, 2412.86,2,   7.4302,2,       25,-999.000,9,-999.0000,9, -999.00,9,   -0.28,2,  -253.4,2,     2.0,-999.000,9,-999.000,     -999.0,9, -999.00,9,   37.35,2, -999.00,9,     -999.0,1,  -999.0,9, 20130518,     1535,  29.9996,-149.1118,    34.7638,2,     -999.0,9,     -999.0,9,     2.1859,2,     -999.0,9,     -999.0,9,-999.0000, -999.00,-999.000
318M20130321,       P02E,     107,          1,         13,         13,2,20130518,       1414,         30,  -149.1135,       5662,  2187.5,   1.9276,  34.6246,2,  34.6244,2,       85,2,    84.7,2,  165.94,2,   40.58,2,       0,2,    2.83,2,   0.001,2,   0.000,2,-999.000,1,        0,2,  -999.0,9, -999.00,9,-999.0000,9,  -999.00,-999.000,9,-999.0000,9, -999.00,9,   -0.30,6,  -254.6,6,     7.2,-999.000,9,-999.000,     -999.0,9, -999.00,9,      37,2, -999.00,9,     -999.0,9,  -999.0,9, 20130518,     1529,  29.9998,-149.1119,    34.7877,2,     -999.0,9,     -999.0,9,     1.9276,2,     -999.0,9,     -999.0,9,-999.0000, -999.00,-999.000
318M20130321,       P02E,     107,          1,         12,         12,2,20130518,       1414,         30,  -149.1135,       5662,  2446.3,   1.7823,  34.6395,2,  34.6394,2,     95.3,2,    94.2,2,  168.67,2,   39.93,2,       0,2,    2.78,2,-999.000,9,-999.000,9,-999.000,9,-999.0000,9,  2367.9,2, 2422.66,2,    7.471,2,       25,-999.000,9,-999.0000,9, -999.00,9,   -0.22,2,  -248.8,2,     3.1,-999.000,9,-999.000,     -999.0,9, -999.00,9, -999.00,9, -999.00,9,     -999.0,1,  -999.0,9, 20130518,     1523,  30.0003,-149.1115,    34.8027,2,     -999.0,9,     -999.0,9,     1.7822,2,     -999.0,9,     -999.0,9,-999.0000, -999.00,-999.000
318M20130321,       P02E,     107,          1,         11,         11,2,20130518,       1414,         30,  -149.1135,       5662,    2703,   1.6676,  34.6524,2,  34.6517,2,    105.9,2,   106.6,2,  169.25,2,   39.28,2,       0,2,    2.73,2,-999.000,9,-999.000,9,-999.000,9,-999.0000,9,  -999.0,9, -999.00,9,-999.0000,9,  -999.00,-999.000,9,-999.0000,9, -999.00,9,   -0.20,2,  -251.8,2,     2.0,-999.000,9,-999.000,     -999.0,9, -999.00,9,   38.16,2, -999.00,9,     -999.0,9,  -999.0,9, 20130518,     1517,  30.0004,-149.1109,    34.8151,2,     -999.0,9,     -999.0,9,     1.6675,2,     -999.0,9,     -999.0,9,-999.0000, -999.00,-999.000
318M20130321,       P02E,     107,          1,         10,         10,2,20130518,       1414,         30,  -149.1135,       5662,  2956.9,   1.5825,  34.6624,2,  34.6618,2,      116,2,   116.1,2,  167.59,2,   38.62,2,       0,2,    2.67,2,-999.000,9,-999.000,9,-999.000,9,-999.0000,9,  2355.9,2, 2427.06,2,   7.5107,2,       25,-999.000,9,-999.0000,9, -999.00,9,   -0.06,6,  -252.6,6,     6.9,-999.000,9,-999.000,     -999.0,9, -999.00,9, -999.00,9, -999.00,9,     -999.0,9,  -999.0,9, 20130518,     1512,  29.9991,-149.1103,    34.8252,2,     -999.0,9,     -999.0,9,     1.5828,2,     -999.0,9,     -999.0,9,-999.0000, -999.00,-999.000
318M20130321,       P02E,     107,          1,          9,          9,2,20130518,       1414,         30,  -149.1135,       5662,  3230.8,   1.5298,  34.6702,2,    34.67,2,    125.5,2,   125.4,2,  165.35,2,   37.97,2,       0,2,    2.64,2,   0.000,2,  -0.001,2,-999.000,1,        0,2,  -999.0,9, -999.00,9,-999.0000,9,  -999.00,-999.000,9,-999.0000,9, -999.00,9,   -0.03,2,  -245.6,2,     1.9,-999.000,9,-999.000,     -999.0,9, -999.00,9,   39.91,2, -999.00,9,     -999.0,1,  -999.0,9, 20130518,     1506,   29.999,-149.1109,    34.8335,2,     -999.0,9,     -999.0,9,     1.5294,2,     -999.0,9,     -999.0,9,-999.0000, -999.00,-999.000
318M20130321,       P02E,     107,          1,          8,          8,2,20130518,       1414,         30,  -149.1135,       5662,  3547.6,   1.4869,  34.6781,2,  34.6773,2,    135.3,2,   135.3,2,  162.42,2,    37.3,2,       0,2,    2.57,2,-999.000,9,-999.000,9,-999.000,9,-999.0000,9,  2342.6,2, 2425.36,2,   7.5467,2,       25,-999.000,9,-999.0000,9, -999.00,9,    0.03,2,  -242.7,2,     1.9,-999.000,9,-999.000,     -999.0,9, -999.00,9, -999.00,9, -999.00,9,     -999.0,9,  -999.0,9, 20130518,     1459,  29.9999,-149.1129,    34.8408,2,     -999.0,9,     -999.0,9,     1.4871,2,     -999.0,9,     -999.0,9,-999.0000, -999.00,-999.000
318M20130321,       P02E,     107,          1,          7,          7,2,20130518,       1414,         30,  -149.1135,       5662,  3921.6,   1.4766,  34.6832,2,  34.6826,2,    143.1,2,   143.6,2,  158.71,2,    36.8,2,       0,2,    2.53,2,-999.000,9,-999.000,9,-999.000,9,-999.0000,9,  -999.0,9, -999.00,9,-999.0000,9,  -999.00,-999.000,9,-999.0000,9, -999.00,9,    0.04,2,  -225.9,2,     2.0,-999.000,9,-999.000,     -999.0,9, -999.00,9,   37.28,2, -999.00,9,     -999.0,9,  -999.0,9, 20130518,     1452,  29.9993,-149.1134,    34.8461,2,     -999.0,9,     -999.0,9,     1.4765,2,     -999.0,9,     -999.0,9,-999.0000, -999.00,-999.000