BOTTLE,20220817CCHSIOAMB
EXPOCODE,SECT_ID,STNNBR,CASTNO,SAMPNO,BTLNBR,BTLNBR_FLAG_W,DATE,TIME,LATITUDE,LONGITUDE,DEPTH,CTDPRS,CTDTMP,CTDSAL,CTDSAL_FLAG_W,SALNTY,SALNTY_FLAG_W,CTDOXY,CTDOXY_FLAG_W,OXYGEN,OXYGEN_FLAG_W,SILCAT,SILCAT_FLAG_W,NITRAT,NITRAT_FLAG_W,NITRIT,NITRIT_FLAG_W,PHSPHT,PHSPHT_FLAG_W,CFC-11,CFC-11_FLAG_W,CFC-12,CFC-12_FLAG_W,CFC113,CFC113_FLAG_W,SF6,SF6_FLAG_W,TCARBN,TCARBN_FLAG_W,ALKALI,ALKALI_FLAG_W,PH_TOT,PH_TOT_FLAG_W,PH_TMP,TRITUM,TRITUM_FLAG_W,HELIUM,HELIUM_FLAG_W,DELHE3,DELHE3_FLAG_W,DELC13,DELC13_FLAG_W,DELC14,DELC14_FLAG_W,C14ERR,NEON,NEON_FLAG_W,NEONER,I-129,I-129_FLAG_W,SR-90,SR-90_FLAG_W,DOC,DOC_FLAG_W,TDN,TDN_FLAG_W,CALCIUM,CALCIUM_FLAG_W,D15N_NO3,D15N_NO3_FLAG_W,BTL_DATE,BTL_TIME,BTL_LAT,BTL_LON,SALTREF,SALTREF_FLAG_W,CS-137,CS-137_FLAG_W,CS-134,CS-134_FLAG_W,REFTMP,REFTMP_FLAG_W,LAB_DEN,LAB_DEN_FLAG_W,D18O_NO3,D18O_NO3_FLAG_W,HELIER,DELHER,TRITER
,,,,,,,,,,,METERS,DBAR,ITS-90,PSS-78,,PSS-78,,UMOL/KG,,UMOL/KG,,UMOL/KG,,UMOL/KG,,UMOL/KG,,UMOL/KG,,PMOL/KG,,PMOL/KG,,PMOL/KG,,FMOL/KG,,UMOL/KG,,UMOL/KG,,,,DEG C,TU,,NMOL/KG,,PERCNT,,/MILLE,,/MILLE,,/MILLE,NMOL/KG,,NMOL/KG,BQ/M^3,,DM/.1MG,,UMOL/KG,,UMOL/KG,,MMOL/KG,,/MILLE,,,,,,G/KG,,BQ/M^3,,BQ/M^3,,ITS-90,,,,/MILLE,,NMOL/KG,PERCNT,TU
318M20130321,       P02E,      91,          1,          6,          6,2,20130512,       2113,    30.0001,   -164.008,       5666,  3788.6,   1.4798,  34.6803,2,  34.6816,2,    140.4,2,   141.6,2,  159.29,2,   36.67,2,       0,2,    2.56,2,   0.009,2,   0.005,2,-999.000,5,        0,2,  2334.7,2, 2422.06,6,   7.5542,2,       25,-999.000,9,-999.0000,9, -999.00,9, -999.00,9,  -999.0,9,  -999.0,-999.000,9,-999.000,     -999.0,9, -999.00,9,   37.29,2, -999.00,9,     -999.0,9,  -999.0,1, 20130512,     2152,  30.0006,-164.0092,    34.8451,2,     -999.0,9,     -999.0,9,     1.4797,2,     -999.0,9,     -999.0,1,-999.0000, -999.00,-999.000
318M20130321,       P02E,      91,          1,          5,         37,2,20130512,       2113,    30.0001,   -164.008,       5666,  4195.1,   1.4795,  34.6849,2,  34.6852,2,    148.5,2,   147.8,2,  156.85,2,   36.26,2,       0,2,    2.53,2,   0.003,2,   0.002,2,-999.000,5,        0,2,  -999.0,9, -999.00,9,-999.0000,9,  -999.00,-999.000,9,-999.0000,9, -999.00,9, -999.00,9,  -999.0,9,  -999.0,-999.000,9,-999.000,     -999.0,9, -999.00,9,   37.28,2, -999.00,9,     -999.0,9,  -999.0,1, 20130512,     2144,  30.0005,-164.0089,    34.8487,2,     -999.0,9,     -999.0,9,     1.4795,2,     -999.0,9,     -999.0,1,-999.0000, -999.00,-999.000
318M20130321,       P02E,      91,          1,          4,          4,2,20130512,       2113,    30.0001,   -164.008,       5666,  4606.7,   1.4993,  34.6879,2,  34.6889,2,    152.8,2,   151.6,2,  155.19,2,   35.98,2,       0,2,    2.51,2,   0.005,2,   0.006,2,-999.000,5,        0,2,  2328.1,2, 2420.76,2,   7.5739,6,       25,-999.000,9,-999.0000,9, -999.00,9, -999.00,9,  -999.0,9,  -999.0,-999.000,9,-999.000,     -999.0,9, -999.00,9,   36.05,2, -999.00,9,     -999.0,9,  -999.0,1, 20130512,     2136,  30.0005,-164.0085,    34.8525,2,     -999.0,9,     -999.0,9,     1.4991,2,     -999.0,9,     -999.0,1,-999.0000, -999.00,-999.000
318M20130321,       P02E,      91,          1,          3,          3,2,20130512,       2113,    30.0001,   -164.008,       5666,  5019.1,   1.5302,  34.6899,2,  34.6906,2,      155,2,   155.1,2,  151.97,2,   35.74,2,       0,2,     2.5,2,   0.005,2,   0.004,2,-999.000,5,        0,2,  -999.0,9, -999.00,9,-999.0000,9,  -999.00,-999.000,9,-999.0000,9, -999.00,9, -999.00,9,  -999.0,9,  -999.0,-999.000,9,-999.000,     -999.0,9, -999.00,9,   36.21,2, -999.00,9,     -999.0,9,  -999.0,1, 20130512,     2128,  30.0001,-164.0084,    34.8542,2,     -999.0,9,     -999.0,9,     1.5305,2,     -999.0,9,     -999.0,1,-999.0000, -999.00,-999.000
318M20130321,       P02E,      91,          1,          2,          2,2,20130512,       2113,    30.0001,   -164.008,       5666,  5450.3,   1.5707,   34.691,2,   34.693,2,    157.6,2,   158.4,2,  148.36,2,   35.45,2,       0,2,    2.48,2,   0.004,2,   0.005,2,-999.000,5,        0,2,  2320.9,6, 2415.76,2,   7.5815,2,       25,-999.000,9,-999.0000,9, -999.00,9, -999.00,9,  -999.0,9,  -999.0,-999.000,9,-999.000,     -999.0,9, -999.00,9,   35.29,2, -999.00,9,     -999.0,9,  -999.0,1, 20130512,     2120,  30.0001,-164.0082,    34.8566,2,     -999.0,9,     -999.0,9,     1.5709,2,     -999.0,9,     -999.0,1,-999.0000, -999.00,-999.000
318M20130321,       P02E,      91,          1,          1,          1,2,20130512,       2113,    30.0001,   -164.008,       5666,  5768.7,   1.6067,  34.6914,2,  34.6926,2,    161.3,2,   161.6,2,   146.7,2,   35.36,2,       0,2,    2.45,2,   0.004,2,   0.006,2,-999.000,5,        0,2,  2318.3,2, 2415.06,2,   7.5839,2,       25,-999.000,9,-999.0000,9, -999.00,9, -999.00,9,  -999.0,9,  -999.0,-999.000,9,-999.000,     -999.0,9, -999.00,9,   34.83,2, -999.00,9,     -999.0,9,  -999.0,1, 20130512,     2113,       30,-164.0079,    34.8562,2,     -999.0,9,     -999.0,9,     1.6071,2,     -999.0,9,     -999.0,1,-999.0000, -999.00,-999.000