BOTTLE,20220817CCHSIOAMB
EXPOCODE,SECT_ID,STNNBR,CASTNO,SAMPNO,BTLNBR,BTLNBR_FLAG_W,DATE,TIME,LATITUDE,LONGITUDE,DEPTH,CTDPRS,CTDTMP,CTDSAL,CTDSAL_FLAG_W,SALNTY,SALNTY_FLAG_W,CTDOXY,CTDOXY_FLAG_W,OXYGEN,OXYGEN_FLAG_W,SILCAT,SILCAT_FLAG_W,NITRAT,NITRAT_FLAG_W,NITRIT,NITRIT_FLAG_W,PHSPHT,PHSPHT_FLAG_W,CFC-11,CFC-11_FLAG_W,CFC-12,CFC-12_FLAG_W,CFC113,CFC113_FLAG_W,SF6,SF6_FLAG_W,TCARBN,TCARBN_FLAG_W,ALKALI,ALKALI_FLAG_W,PH_TOT,PH_TOT_FLAG_W,PH_TMP,TRITUM,TRITUM_FLAG_W,HELIUM,HELIUM_FLAG_W,DELHE3,DELHE3_FLAG_W,DELC13,DELC13_FLAG_W,DELC14,DELC14_FLAG_W,C14ERR,NEON,NEON_FLAG_W,NEONER,I-129,I-129_FLAG_W,SR-90,SR-90_FLAG_W,DOC,DOC_FLAG_W,TDN,TDN_FLAG_W,CALCIUM,CALCIUM_FLAG_W,D15N_NO3,D15N_NO3_FLAG_W,BTL_DATE,BTL_TIME,BTL_LAT,BTL_LON,SALTREF,SALTREF_FLAG_W,CS-137,CS-137_FLAG_W,CS-134,CS-134_FLAG_W,REFTMP,REFTMP_FLAG_W,LAB_DEN,LAB_DEN_FLAG_W,D18O_NO3,D18O_NO3_FLAG_W,HELIER,DELHER,TRITER
,,,,,,,,,,,METERS,DBAR,ITS-90,PSS-78,,PSS-78,,UMOL/KG,,UMOL/KG,,UMOL/KG,,UMOL/KG,,UMOL/KG,,UMOL/KG,,PMOL/KG,,PMOL/KG,,PMOL/KG,,FMOL/KG,,UMOL/KG,,UMOL/KG,,,,DEG C,TU,,NMOL/KG,,PERCNT,,/MILLE,,/MILLE,,/MILLE,NMOL/KG,,NMOL/KG,BQ/M^3,,DM/.1MG,,UMOL/KG,,UMOL/KG,,MMOL/KG,,/MILLE,,,,,,G/KG,,BQ/M^3,,BQ/M^3,,ITS-90,,,,/MILLE,,NMOL/KG,PERCNT,TU
318M20130321,       P02E,     102,          1,          6,          6,2,20130517,       0404,    30.0001,       -152,       5415,  4059.2,   1.4699,   34.685,2,  34.6861,2,    144.7,2,   146.1,2,  158.51,2,   36.47,2,       0,2,    2.53,2,   0.003,2,   0.004,2,-999.000,1,        0,2,  2332.2,2, 2424.26,6,   7.5654,2,       25,-999.000,9,-999.0000,9, -999.00,9, -999.00,9,  -999.0,9,  -999.0,-999.000,9,-999.000,     -999.0,1, -999.00,9, -999.00,9, -999.00,9,     -999.0,9,  -999.0,9, 20130517,      433,  29.9999,-152.0001,    34.8497,2,     -999.0,9,     -999.0,9,     1.4699,2,     -999.0,9,     -999.0,9,-999.0000, -999.00,-999.000
318M20130321,       P02E,     102,          1,          5,         37,2,20130517,       0404,    30.0001,       -152,       5415,  4470.2,   1.4912,  34.6876,2,  34.6883,2,    150.3,2,   150.6,2,  155.88,2,   36.18,2,       0,2,     2.5,2,   0.003,2,   0.004,2,-999.000,1,        0,2,  -999.0,9, -999.00,9,-999.0000,9,  -999.00,-999.000,9,-999.0000,9, -999.00,9, -999.00,9,  -999.0,9,  -999.0,-999.000,9,-999.000,     -999.0,1, -999.00,9, -999.00,9, -999.00,9,     -999.0,9,  -999.0,9, 20130517,      425,       30,     -152,    34.8519,2,     -999.0,9,     -999.0,9,     1.4911,2,     -999.0,9,     -999.0,9,-999.0000, -999.00,-999.000
318M20130321,       P02E,     102,          1,          4,          4,2,20130517,       0404,    30.0001,       -152,       5415,  4882.8,   1.5231,  34.6896,2,  34.6917,2,      155,2,   154.8,2,   150.9,2,   35.83,2,       0,2,    2.48,2,   0.004,2,   0.006,2,-999.000,1,        0,2,    2324,2, 2421.06,2,   7.5796,6,       25,-999.000,9,-999.0000,9, -999.00,9, -999.00,9,  -999.0,9,  -999.0,-999.000,9,-999.000,     -999.0,1, -999.00,9, -999.00,9, -999.00,9,     -999.0,9,  -999.0,9, 20130517,      417,  29.9998,     -152,    34.8552,2,     -999.0,9,     -999.0,9,     1.5228,2,     -999.0,9,     -999.0,9,-999.0000, -999.00,-999.000
318M20130321,       P02E,     102,          1,          3,          3,2,20130517,       0404,    30.0001,       -152,       5415,  5298.9,   1.5594,  34.6908,2,  34.6924,2,    159.5,2,   158.1,2,  148.46,2,   35.57,2,       0,2,    2.46,2,   0.006,2,   0.006,2,-999.000,1,        0,2,  2321.2,6, 2418.36,2,   7.5834,2,       25,-999.000,9,-999.0000,9, -999.00,9, -999.00,9,  -999.0,9,  -999.0,-999.000,9,-999.000,     -999.0,1, -999.00,9, -999.00,9, -999.00,9,     -999.0,9,  -999.0,9, 20130517,      409,  30.0002,     -152,     34.856,2,     -999.0,9,     -999.0,9,     1.5593,2,     -999.0,9,     -999.0,9,-999.0000, -999.00,-999.000
318M20130321,       P02E,     102,          1,          2,          2,2,20130517,       0404,    30.0001,       -152,       5415,  5484.9,   1.5771,   34.691,2,   34.692,2,    159.8,2,   159.3,2,  147.48,2,   35.46,2,       0,2,    2.46,2,   0.005,2,   0.006,2,-999.000,1,        0,2,  2318.1,2, 2415.36,2,   7.5829,2,       25,-999.000,9,-999.0000,9, -999.00,9, -999.00,9,  -999.0,9,  -999.0,-999.000,9,-999.000,     -999.0,1, -999.00,9, -999.00,9, -999.00,9,     -999.0,9,  -999.0,9, 20130517,      404,  30.0001,-152.0001,    34.8556,2,     -999.0,9,     -999.0,9,     1.5768,2,     -999.0,9,     -999.0,9,-999.0000, -999.00,-999.000