BOTTLE,20220817CCHSIOAMB
EXPOCODE,SECT_ID,STNNBR,CASTNO,SAMPNO,BTLNBR,BTLNBR_FLAG_W,DATE,TIME,LATITUDE,LONGITUDE,DEPTH,CTDPRS,CTDTMP,CTDSAL,CTDSAL_FLAG_W,SALNTY,SALNTY_FLAG_W,CTDOXY,CTDOXY_FLAG_W,OXYGEN,OXYGEN_FLAG_W,SILCAT,SILCAT_FLAG_W,NITRAT,NITRAT_FLAG_W,NITRIT,NITRIT_FLAG_W,PHSPHT,PHSPHT_FLAG_W,CFC-11,CFC-11_FLAG_W,CFC-12,CFC-12_FLAG_W,CFC113,CFC113_FLAG_W,SF6,SF6_FLAG_W,TCARBN,TCARBN_FLAG_W,ALKALI,ALKALI_FLAG_W,PH_TOT,PH_TOT_FLAG_W,PH_TMP,TRITUM,TRITUM_FLAG_W,HELIUM,HELIUM_FLAG_W,DELHE3,DELHE3_FLAG_W,DELC13,DELC13_FLAG_W,DELC14,DELC14_FLAG_W,C14ERR,NEON,NEON_FLAG_W,NEONER,I-129,I-129_FLAG_W,SR-90,SR-90_FLAG_W,DOC,DOC_FLAG_W,TDN,TDN_FLAG_W,CALCIUM,CALCIUM_FLAG_W,D15N_NO3,D15N_NO3_FLAG_W,BTL_DATE,BTL_TIME,BTL_LAT,BTL_LON,SALTREF,SALTREF_FLAG_W,CS-137,CS-137_FLAG_W,CS-134,CS-134_FLAG_W,REFTMP,REFTMP_FLAG_W,LAB_DEN,LAB_DEN_FLAG_W,D18O_NO3,D18O_NO3_FLAG_W,HELIER,DELHER,TRITER
,,,,,,,,,,,METERS,DBAR,ITS-90,PSS-78,,PSS-78,,UMOL/KG,,UMOL/KG,,UMOL/KG,,UMOL/KG,,UMOL/KG,,UMOL/KG,,PMOL/KG,,PMOL/KG,,PMOL/KG,,FMOL/KG,,UMOL/KG,,UMOL/KG,,,,DEG C,TU,,NMOL/KG,,PERCNT,,/MILLE,,/MILLE,,/MILLE,NMOL/KG,,NMOL/KG,BQ/M^3,,DM/.1MG,,UMOL/KG,,UMOL/KG,,MMOL/KG,,/MILLE,,,,,,G/KG,,BQ/M^3,,BQ/M^3,,ITS-90,,,,/MILLE,,NMOL/KG,PERCNT,TU
318M20130321,       P02W,      13,          5,          7,          7,2,20130406,       0816,    30.6143,   134.3366,       4500,  2775.4,   1.6458,  34.6564,2,  34.6547,2,    138.5,2,   137.1,2,  146.02,2,   36.66,2,       0,2,     2.6,2,   0.128,2,   0.041,2,   0.122,4,     0.08,2,  2332.3,2, 2411.36,2,   7.5445,2,       25,-999.000,9,-999.0000,9, -999.00,9, -999.00,9,  -999.0,9,  -999.0,-999.000,9,-999.000,     -999.0,9, -999.00,9,   36.22,2, -999.00,9,     -999.0,9,  -999.0,9, 20130406,      853,  30.6066,  134.341,    34.8181,2,     -999.0,9,     -999.0,9,     1.6455,2,     -999.0,9,     -999.0,9,-999.0000, -999.00,-999.000
318M20130321,       P02W,      13,          5,          6,          6,2,20130406,       0816,    30.6143,   134.3366,       4500,  3074.6,   1.5576,  34.6693,2,  34.6681,2,    145.8,2,   145.4,2,  144.75,2,   36.21,2,       0,2,    2.56,2,-999.000,9,-999.000,9,-999.000,9,-999.0000,9,  -999.0,9, -999.00,9,-999.0000,9,  -999.00,-999.000,9,-999.0000,9, -999.00,9, -999.00,9,  -999.0,9,  -999.0,-999.000,9,-999.000,     -999.0,9, -999.00,9, -999.00,9, -999.00,9,     -999.0,9,  -999.0,9, 20130406,      847,  30.6079, 134.3402,    34.8315,2,     -999.0,9,     -999.0,9,      1.558,2,     -999.0,9,     -999.0,9,-999.0000, -999.00,-999.000
318M20130321,       P02W,      13,          5,          5,          5,2,20130406,       0816,    30.6143,   134.3366,       4500,  3392.4,    1.524,  34.6765,2,  34.6751,2,    148.6,2,   150.2,2,  143.78,2,   35.89,2,       0,2,    2.55,2,-999.000,5,-999.000,5,-999.000,5,-999.0000,5,  2321.6,2, 2410.96,2,   7.5663,2,       25,-999.000,9,-999.0000,9, -999.00,9, -999.00,9,  -999.0,9,  -999.0,-999.000,9,-999.000,     -999.0,9, -999.00,9,    35.6,2, -999.00,9,     -999.0,9,  -999.0,9, 20130406,      841,  30.6092, 134.3391,    34.8386,2,     -999.0,9,     -999.0,9,     1.5237,2,     -999.0,9,     -999.0,9,-999.0000, -999.00,-999.000
318M20130321,       P02W,      13,          5,          4,          4,2,20130406,       0816,    30.6143,   134.3366,       4500,    3716,   1.5249,  34.6798,2,  34.6787,2,    153.1,2,   152.6,2,  142.99,2,    35.7,2,       0,2,    2.52,2,-999.000,9,-999.000,9,-999.000,9,-999.0000,9,  -999.0,9, -999.00,9,-999.0000,9,  -999.00,-999.000,9,-999.0000,9, -999.00,9, -999.00,9,  -999.0,9,  -999.0,-999.000,9,-999.000,     -999.0,9, -999.00,9, -999.00,9, -999.00,9,     -999.0,9,  -999.0,9, 20130406,      834,  30.6103,  134.338,    34.8422,2,     -999.0,9,     -999.0,9,     1.5244,2,     -999.0,9,     -999.0,9,-999.0000, -999.00,-999.000
318M20130321,       P02W,      13,          5,          3,          3,2,20130406,       0816,    30.6143,   134.3366,       4500,  4032.1,   1.5419,  34.6816,2,  34.6802,2,    153.7,2,   154.2,2,  142.41,2,   35.61,2,       0,2,    2.51,2,   0.090,2,   0.061,2,   0.115,4,        0,2,  2319.6,2, 2411.26,2,   7.5726,6,       25,-999.000,9,-999.0000,9, -999.00,9, -999.00,9,  -999.0,9,  -999.0,-999.000,9,-999.000,     -999.0,9, -999.00,9,   35.92,2, -999.00,9,     -999.0,9,  -999.0,9, 20130406,      828,  30.6114, 134.3372,    34.8438,2,     -999.0,9,     -999.0,9,     1.5415,2,     -999.0,9,     -999.0,9,-999.0000, -999.00,-999.000
318M20130321,       P02W,      13,          5,          2,          2,2,20130406,       0816,    30.6143,   134.3366,       4500,  4302.2,   1.5614,  34.6827,2,   34.681,2,    155.9,2,   155.9,2,  142.51,2,   35.62,2,       0,2,    2.51,2,   0.097,2,   0.095,2,   0.074,4,      0.3,2,  2319.9,2, 2412.86,6,   7.5739,2,       25,-999.000,9,-999.0000,9, -999.00,9, -999.00,9,  -999.0,9,  -999.0,-999.000,9,-999.000,     -999.0,9, -999.00,9,   36.67,2, -999.00,9,     -999.0,9,  -999.0,9, 20130406,      822,  30.6126, 134.3368,    34.8446,2,     -999.0,9,     -999.0,9,     1.5612,2,     -999.0,9,     -999.0,9,-999.0000, -999.00,-999.000
318M20130321,       P02W,      13,          5,          1,          1,3,20130406,       0816,    30.6143,   134.3366,       4500,  4554.5,   1.5803,  34.6836,2,  34.6303,4,    157.5,2,   133.4,4,  140.26,4,   36.03,4,       0,4,    2.55,4,-999.000,9,-999.000,9,-999.000,9,-999.0000,9,  2321.4,4, 2404.25,3,-999.0000,5,  -999.00,-999.000,9,-999.0000,9, -999.00,9, -999.00,9,  -999.0,9,  -999.0,-999.000,9,-999.000,     -999.0,9, -999.00,9,   37.33,2, -999.00,9,     -999.0,9,  -999.0,9, 20130406,      817,  30.6141, 134.3365,    34.7936,4,     -999.0,9,     -999.0,9,     1.5803,2,     -999.0,9,     -999.0,9,-999.0000, -999.00,-999.000