BOTTLE,20220817CCHSIOAMB
EXPOCODE,SECT_ID,STNNBR,CASTNO,SAMPNO,BTLNBR,BTLNBR_FLAG_W,DATE,TIME,LATITUDE,LONGITUDE,DEPTH,CTDPRS,CTDTMP,CTDSAL,CTDSAL_FLAG_W,SALNTY,SALNTY_FLAG_W,CTDOXY,CTDOXY_FLAG_W,OXYGEN,OXYGEN_FLAG_W,SILCAT,SILCAT_FLAG_W,NITRAT,NITRAT_FLAG_W,NITRIT,NITRIT_FLAG_W,PHSPHT,PHSPHT_FLAG_W,CFC-11,CFC-11_FLAG_W,CFC-12,CFC-12_FLAG_W,CFC113,CFC113_FLAG_W,SF6,SF6_FLAG_W,TCARBN,TCARBN_FLAG_W,ALKALI,ALKALI_FLAG_W,PH_TOT,PH_TOT_FLAG_W,PH_TMP,TRITUM,TRITUM_FLAG_W,HELIUM,HELIUM_FLAG_W,DELHE3,DELHE3_FLAG_W,DELC13,DELC13_FLAG_W,DELC14,DELC14_FLAG_W,C14ERR,NEON,NEON_FLAG_W,NEONER,I-129,I-129_FLAG_W,SR-90,SR-90_FLAG_W,DOC,DOC_FLAG_W,TDN,TDN_FLAG_W,CALCIUM,CALCIUM_FLAG_W,D15N_NO3,D15N_NO3_FLAG_W,BTL_DATE,BTL_TIME,BTL_LAT,BTL_LON,SALTREF,SALTREF_FLAG_W,CS-137,CS-137_FLAG_W,CS-134,CS-134_FLAG_W,REFTMP,REFTMP_FLAG_W,LAB_DEN,LAB_DEN_FLAG_W,D18O_NO3,D18O_NO3_FLAG_W,HELIER,DELHER,TRITER
,,,,,,,,,,,METERS,DBAR,ITS-90,PSS-78,,PSS-78,,UMOL/KG,,UMOL/KG,,UMOL/KG,,UMOL/KG,,UMOL/KG,,UMOL/KG,,PMOL/KG,,PMOL/KG,,PMOL/KG,,FMOL/KG,,UMOL/KG,,UMOL/KG,,,,DEG C,TU,,NMOL/KG,,PERCNT,,/MILLE,,/MILLE,,/MILLE,NMOL/KG,,NMOL/KG,BQ/M^3,,DM/.1MG,,UMOL/KG,,UMOL/KG,,MMOL/KG,,/MILLE,,,,,,G/KG,,BQ/M^3,,BQ/M^3,,ITS-90,,,,/MILLE,,NMOL/KG,PERCNT,TU
318M20130321,       P02E,     123,          1,          5,         37,2,20130523,       1430,    29.9997,  -137.2051,       4720,  3651.1,   1.4884,  34.6794,2,  34.6788,2,      136,2,   136.9,2,  164.37,2,    37.2,2,       0,2,    2.57,2,-999.000,9,-999.000,9,-999.000,9,-999.0000,9,  2341.1,2, 2426.26,2,   7.5523,6,       25,-999.000,9,-999.0000,9, -999.00,9,    0.08,2,  -226.1,2,     2.0,-999.000,9,-999.000,     -999.0,9, -999.00,9,   35.78,2, -999.00,9,     -999.0,9,  -999.0,1, 20130523,     1453,  30.0001,-137.2049,    34.8423,2,     -999.0,9,     -999.0,9,     1.4888,2,     -999.0,9,     -999.0,1,-999.0000, -999.00,-999.000
318M20130321,       P02E,     123,          1,          4,          4,2,20130523,       1430,    29.9997,  -137.2051,       4720,  4060.6,   1.5021,  34.6826,2,  34.6826,2,    142.1,2,   141.6,2,   163.1,2,   36.89,2,       0,2,    2.57,2,   0.008,2,   0.008,2,-999.000,1,        0,2,  -999.0,9, -999.00,9,-999.0000,9,  -999.00,-999.000,9,-999.0000,9, -999.00,9,    0.09,2,  -233.2,2,     1.8,-999.000,9,-999.000,     -999.0,9, -999.00,9,   36.21,2, -999.00,9,     -999.0,9,  -999.0,1, 20130523,     1445,       30,-137.2046,    34.8461,2,     -999.0,9,     -999.0,9,     1.5018,2,     -999.0,9,     -999.0,1,-999.0000, -999.00,-999.000
318M20130321,       P02E,     123,          1,          3,          3,2,20130523,       1430,    29.9997,  -137.2051,       4720,  4472.3,   1.5394,  34.6839,2,  34.6839,2,      143,2,   143.3,2,  162.81,2,   36.77,2,       0,2,    2.56,2,   0.006,2,   0.004,2,-999.000,1,        0,2,  2337.5,2, 2425.96,2,   7.5646,2,       25,-999.000,9,-999.0000,9, -999.00,9,    0.12,2,  -222.1,2,     1.7,-999.000,9,-999.000,     -999.0,9, -999.00,9,   36.11,2, -999.00,9,     -999.0,9,  -999.0,1, 20130523,     1437,  30.0001,-137.2048,    34.8475,2,     -999.0,9,     -999.0,9,     1.5392,2,     -999.0,9,     -999.0,1,-999.0000, -999.00,-999.000
318M20130321,       P02E,     123,          1,          2,          2,2,20130523,       1430,    29.9997,  -137.2051,       4720,  4790.1,   1.5759,  34.6839,2,  34.6851,2,    144.2,2,   143.5,2,  161.73,2,   36.76,2,       0,2,    2.55,2,   0.006,2,   0.005,2,-999.000,1,        0,2,  2337.6,6, 2427.36,2,   7.5657,6,       25,-999.000,9,-999.0000,9, -999.00,9,    0.13,2,  -217.4,2,     2.3,-999.000,9,-999.000,     -999.0,9, -999.00,9,   35.33,2, -999.00,9,     -999.0,9,  -999.0,1, 20130523,     1430,  29.9997,-137.2051,    34.8487,2,     -999.0,9,     -999.0,9,     1.5762,2,     -999.0,9,     -999.0,1,-999.0000, -999.00,-999.000