BOTTLE,20220817CCHSIOAMB
EXPOCODE,SECT_ID,STNNBR,CASTNO,SAMPNO,BTLNBR,BTLNBR_FLAG_W,DATE,TIME,LATITUDE,LONGITUDE,DEPTH,CTDPRS,CTDTMP,CTDSAL,CTDSAL_FLAG_W,SALNTY,SALNTY_FLAG_W,CTDOXY,CTDOXY_FLAG_W,OXYGEN,OXYGEN_FLAG_W,SILCAT,SILCAT_FLAG_W,NITRAT,NITRAT_FLAG_W,NITRIT,NITRIT_FLAG_W,PHSPHT,PHSPHT_FLAG_W,CFC-11,CFC-11_FLAG_W,CFC-12,CFC-12_FLAG_W,CFC113,CFC113_FLAG_W,SF6,SF6_FLAG_W,TCARBN,TCARBN_FLAG_W,ALKALI,ALKALI_FLAG_W,PH_TOT,PH_TOT_FLAG_W,PH_TMP,TRITUM,TRITUM_FLAG_W,HELIUM,HELIUM_FLAG_W,DELHE3,DELHE3_FLAG_W,DELC13,DELC13_FLAG_W,DELC14,DELC14_FLAG_W,C14ERR,NEON,NEON_FLAG_W,NEONER,I-129,I-129_FLAG_W,SR-90,SR-90_FLAG_W,DOC,DOC_FLAG_W,TDN,TDN_FLAG_W,CALCIUM,CALCIUM_FLAG_W,D15N_NO3,D15N_NO3_FLAG_W,BTL_DATE,BTL_TIME,BTL_LAT,BTL_LON,SALTREF,SALTREF_FLAG_W,CS-137,CS-137_FLAG_W,CS-134,CS-134_FLAG_W,REFTMP,REFTMP_FLAG_W,LAB_DEN,LAB_DEN_FLAG_W,D18O_NO3,D18O_NO3_FLAG_W,HELIER,DELHER,TRITER
,,,,,,,,,,,METERS,DBAR,ITS-90,PSS-78,,PSS-78,,UMOL/KG,,UMOL/KG,,UMOL/KG,,UMOL/KG,,UMOL/KG,,UMOL/KG,,PMOL/KG,,PMOL/KG,,PMOL/KG,,FMOL/KG,,UMOL/KG,,UMOL/KG,,,,DEG C,TU,,NMOL/KG,,PERCNT,,/MILLE,,/MILLE,,/MILLE,NMOL/KG,,NMOL/KG,BQ/M^3,,DM/.1MG,,UMOL/KG,,UMOL/KG,,MMOL/KG,,/MILLE,,,,,,G/KG,,BQ/M^3,,BQ/M^3,,ITS-90,,,,/MILLE,,NMOL/KG,PERCNT,TU
318M20130321,       P02E,     143,          1,          5,         37,2,20130529,       0938,    30.5344,  -122.7368,       3560,  3039.8,   1.6362,   34.667,2,  34.6668,2,    116.5,2,   117.1,2,  167.69,2,   38.35,2,       0,2,    2.68,2,-999.000,9,-999.000,9,-999.000,9,-999.0000,9,    2356,2, 2427.36,2,   7.5199,6,       25,-999.000,9,-999.0000,9, -999.00,9, -999.00,9,  -999.0,9,  -999.0,-999.000,9,-999.000,     -999.0,9, -999.00,9, -999.00,5, -999.00,9,     -999.0,9,  -999.0,9, 20130529,      954,  30.5344,-122.7368,    34.8303,2,     -999.0,9,     -999.0,9,     1.6378,2,     -999.0,9,     -999.0,9,-999.0000, -999.00,-999.000
318M20130321,       P02E,     143,          1,          4,          4,2,20130529,       0938,    30.5344,  -122.7368,       3560,  3245.5,   1.6009,    34.67,2,    34.67,2,    121.9,2,   121.8,2,  168.28,2,    38.1,2,       0,2,    2.65,2,   0.005,2,   0.010,2,-999.000,1,        0,2,  -999.0,9, -999.00,9,-999.0000,9,  -999.00,-999.000,9,-999.0000,9, -999.00,9, -999.00,9,  -999.0,9,  -999.0,-999.000,9,-999.000,     -999.0,9, -999.00,9,   36.51,2, -999.00,9,     -999.0,9,  -999.0,9, 20130529,      949,  30.5344,-122.7369,    34.8335,2,     -999.0,9,     -999.0,9,     1.6009,2,     -999.0,9,     -999.0,9,-999.0000, -999.00,-999.000
318M20130321,       P02E,     143,          1,          3,          3,2,20130529,       0938,    30.5344,  -122.7368,       3560,  3450.1,   1.5633,  34.6736,2,  34.6737,2,      126,2,   125.3,2,  169.06,2,   37.87,2,       0,2,    2.63,2,   0.007,2,   0.010,2,-999.000,1,        0,2,  2351.2,2, 2428.56,6,   7.5358,2,       25,-999.000,9,-999.0000,9, -999.00,9, -999.00,9,  -999.0,9,  -999.0,-999.000,9,-999.000,     -999.0,9, -999.00,9,   40.24,2, -999.00,9,     -999.0,9,  -999.0,9, 20130529,      944,  30.5344,-122.7369,    34.8372,2,     -999.0,9,     -999.0,9,     1.5628,2,     -999.0,9,     -999.0,9,-999.0000, -999.00,-999.000
318M20130321,       P02E,     143,          1,          2,          2,2,20130529,       0938,    30.5344,  -122.7368,       3560,  3653.6,   1.5535,  34.6758,2,  34.6763,2,    128.7,2,   128.3,2,  168.96,2,   37.69,2,       0,2,    2.62,2,   0.010,2,   0.015,2,-999.000,1,        0,2,  2350.6,6, 2430.46,2,    7.541,2,       25,-999.000,9,-999.0000,9, -999.00,9, -999.00,9,  -999.0,9,  -999.0,-999.000,9,-999.000,     -999.0,9, -999.00,9,   37.79,2, -999.00,9,     -999.0,9,  -999.0,9, 20130529,      939,  30.5344,-122.7369,    34.8398,2,     -999.0,9,     -999.0,9,     1.5532,2,     -999.0,9,     -999.0,9,-999.0000, -999.00,-999.000