BOTTLE,20220817CCHSIOAMB
EXPOCODE,SECT_ID,STNNBR,CASTNO,SAMPNO,BTLNBR,BTLNBR_FLAG_W,DATE,TIME,LATITUDE,LONGITUDE,DEPTH,CTDPRS,CTDTMP,CTDSAL,CTDSAL_FLAG_W,SALNTY,SALNTY_FLAG_W,CTDOXY,CTDOXY_FLAG_W,OXYGEN,OXYGEN_FLAG_W,SILCAT,SILCAT_FLAG_W,NITRAT,NITRAT_FLAG_W,NITRIT,NITRIT_FLAG_W,PHSPHT,PHSPHT_FLAG_W,CFC-11,CFC-11_FLAG_W,CFC-12,CFC-12_FLAG_W,CFC113,CFC113_FLAG_W,SF6,SF6_FLAG_W,TCARBN,TCARBN_FLAG_W,ALKALI,ALKALI_FLAG_W,PH_TOT,PH_TOT_FLAG_W,PH_TMP,TRITUM,TRITUM_FLAG_W,HELIUM,HELIUM_FLAG_W,DELHE3,DELHE3_FLAG_W,DELC13,DELC13_FLAG_W,DELC14,DELC14_FLAG_W,C14ERR,NEON,NEON_FLAG_W,NEONER,I-129,I-129_FLAG_W,SR-90,SR-90_FLAG_W,DOC,DOC_FLAG_W,TDN,TDN_FLAG_W,CALCIUM,CALCIUM_FLAG_W,D15N_NO3,D15N_NO3_FLAG_W,BTL_DATE,BTL_TIME,BTL_LAT,BTL_LON,SALTREF,SALTREF_FLAG_W,CS-137,CS-137_FLAG_W,CS-134,CS-134_FLAG_W,REFTMP,REFTMP_FLAG_W,LAB_DEN,LAB_DEN_FLAG_W,D18O_NO3,D18O_NO3_FLAG_W,HELIER,DELHER,TRITER
,,,,,,,,,,,METERS,DBAR,ITS-90,PSS-78,,PSS-78,,UMOL/KG,,UMOL/KG,,UMOL/KG,,UMOL/KG,,UMOL/KG,,UMOL/KG,,PMOL/KG,,PMOL/KG,,PMOL/KG,,FMOL/KG,,UMOL/KG,,UMOL/KG,,,,DEG C,TU,,NMOL/KG,,PERCNT,,/MILLE,,/MILLE,,/MILLE,NMOL/KG,,NMOL/KG,BQ/M^3,,DM/.1MG,,UMOL/KG,,UMOL/KG,,MMOL/KG,,/MILLE,,,,,,G/KG,,BQ/M^3,,BQ/M^3,,ITS-90,,,,/MILLE,,NMOL/KG,PERCNT,TU
318M20130321,       P02E,     144,          1,         36,         36,2,20130529,       1526,    30.7738,  -122.2724,       4137,     4.1,  16.9321,  33.6072,2,  33.6072,2,    244.4,2,     245,2,    2.64,2,       0,2,       0,2,    0.25,2,   2.351,2,   1.410,2,-999.000,1,   1.6069,2,  2023.1,6,    2241,2,   7.9177,2,       25,-999.000,9,-999.0000,9, -999.00,9, -999.00,9,  -999.0,9,  -999.0,-999.000,9,-999.000,     -999.0,9, -999.00,9, -999.00,9, -999.00,9,     -999.0,9,  -999.0,9, 20130529,     1719,  30.7737,-122.2717,    33.7656,2,     -999.0,9,     -999.0,9,    16.9332,2,     -999.0,9,     -999.0,9,-999.0000, -999.00,-999.000
318M20130321,       P02E,     144,          1,         34,         34,2,20130529,       1526,    30.7738,  -122.2724,       4137,    34.8,  16.8931,  33.6001,2,  33.6009,2,    245.9,2,   245.1,2,    2.64,2,       0,2,       0,2,    0.25,2,-999.000,9,-999.000,9,-999.000,9,-999.0000,9,  -999.0,9, -999.00,9,-999.0000,9,  -999.00,-999.000,9,-999.0000,9, -999.00,9, -999.00,9,  -999.0,9,  -999.0,-999.000,9,-999.000,     -999.0,9, -999.00,9, -999.00,9, -999.00,9,     -999.0,9,  -999.0,9, 20130529,     1717,  30.7741, -122.272,    33.7594,2,     -999.0,9,     -999.0,9,    16.8942,2,     -999.0,9,     -999.0,9,-999.0000, -999.00,-999.000
318M20130321,       P02E,     144,          1,         33,         33,2,20130529,       1526,    30.7738,  -122.2724,       4137,    60.3,  15.2569,  33.3884,2,  33.3855,2,    258.7,2,   259.4,2,    2.83,2,       0,2,       0,2,    0.27,2,   2.593,2,   1.533,2,-999.000,1,   1.6513,2,  2015.3,2, 2227.09,6,   7.9112,2,       25,-999.000,9,-999.0000,9, -999.00,9, -999.00,9,  -999.0,9,  -999.0,-999.000,9,-999.000,     -999.0,9, -999.00,9, -999.00,9, -999.00,9,     -999.0,9,  -999.0,9, 20130529,     1715,  30.7743,-122.2722,     33.543,2,     -999.0,9,     -999.0,9,    15.2541,2,     -999.0,9,     -999.0,9,-999.0000, -999.00,-999.000
318M20130321,       P02E,     144,          1,         32,         32,2,20130529,       1526,    30.7738,  -122.2724,       4137,    85.4,  13.8721,  33.3314,2,  33.3328,2,    262.5,2,   262.2,2,    3.22,2,       0,2,    0.01,2,    0.32,2,-999.000,9,-999.000,9,-999.000,9,-999.0000,9,  2020.1,2, 2222.69,2,   7.8933,6,       25,-999.000,9,-999.0000,9, -999.00,9, -999.00,9,  -999.0,9,  -999.0,-999.000,9,-999.000,     -999.0,9, -999.00,9, -999.00,9, -999.00,9,     -999.0,9,  -999.0,9, 20130529,     1713,  30.7743,-122.2722,      33.49,2,     -999.0,9,     -999.0,9,    13.8755,2,     -999.0,9,     -999.0,9,-999.0000, -999.00,-999.000
318M20130321,       P02E,     144,          1,         31,         31,2,20130529,       1526,    30.7738,  -122.2724,       4137,   115.6,  11.8728,  33.3636,2,  33.3654,2,    225.2,2,   226.3,2,    7.62,2,     7.8,2,    0.05,2,    0.82,2,   3.001,2,   1.741,2,-999.000,1,   1.7255,2,  2070.4,2, 2219.09,2,   7.7705,2,       25,-999.000,9,-999.0000,9, -999.00,9, -999.00,9,  -999.0,9,  -999.0,-999.000,9,-999.000,     -999.0,9, -999.00,9, -999.00,9, -999.00,9,     -999.0,9,  -999.0,9, 20130529,     1711,  30.7742, -122.272,    33.5228,2,     -999.0,9,     -999.0,9,    11.8616,2,     -999.0,9,     -999.0,9,-999.0000, -999.00,-999.000
318M20130321,       P02E,     144,          1,         30,         30,2,20130529,       1526,    30.7738,  -122.2724,       4137,   165.7,   9.4909,  33.6975,2,  33.6952,2,      161,2,   159.6,2,   21.39,2,   20.94,2,    0.01,2,    1.63,2,-999.000,9,-999.000,9,-999.000,9,-999.0000,9,    2152,2, 2236.29,2,   7.5861,2,       25,-999.000,9,-999.0000,9, -999.00,9, -999.00,9,  -999.0,9,  -999.0,-999.000,9,-999.000,     -999.0,9, -999.00,9, -999.00,9, -999.00,9,     -999.0,9,  -999.0,9, 20130529,     1709,  30.7739,-122.2717,    33.8541,2,     -999.0,9,     -999.0,9,      9.493,2,     -999.0,9,     -999.0,9,-999.0000, -999.00,-999.000
318M20130321,       P02E,     144,          1,         29,         29,2,20130529,       1526,    30.7738,  -122.2724,       4137,   219.6,   8.7522,  33.9307,2,  33.9305,2,    133.3,2,   137.7,2,    29.3,2,   24.79,2,       0,2,    1.86,2,   2.993,2,   1.626,2,-999.000,1,   1.0679,2,  2182.9,2,  2253.8,2,   7.5463,2,       25,-999.000,9,-999.0000,9, -999.00,9, -999.00,9,  -999.0,9,  -999.0,-999.000,9,-999.000,     -999.0,9, -999.00,9, -999.00,9, -999.00,9,     -999.0,9,  -999.0,9, 20130529,     1707,  30.7738,-122.2715,    34.0904,2,     -999.0,9,     -999.0,9,     8.7529,2,     -999.0,9,     -999.0,9,-999.0000, -999.00,-999.000
318M20130321,       P02E,     144,          1,         27,         27,2,20130529,       1526,    30.7738,  -122.2724,       4137,   267.1,   8.1599,  34.0264,2,  34.0247,2,     99.7,2,   100.5,2,   38.18,2,   29.23,2,       0,2,    2.17,2,-999.000,9,-999.000,9,-999.000,9,-999.0000,9,  2218.6,2,  2263.6,2,   7.4634,2,       25,-999.000,9,-999.0000,9, -999.00,9, -999.00,9,  -999.0,9,  -999.0,-999.000,9,-999.000,     -999.0,9, -999.00,9, -999.00,9, -999.00,9,     -999.0,9,  -999.0,9, 20130529,     1705,  30.7739,-122.2712,    34.1851,2,     -999.0,9,     -999.0,9,     8.1612,2,     -999.0,9,     -999.0,9,-999.0000, -999.00,-999.000
318M20130321,       P02E,     144,          1,         26,         26,2,20130529,       1526,    30.7738,  -122.2724,       4137,     308,   7.5571,  34.0741,2,  34.0737,2,     73.2,2,    74.8,2,   46.87,2,    32.5,2,       0,2,    2.44,2,   2.151,2,   1.105,2,-999.000,1,   0.4721,2,    2246,2, 2273.31,2,    7.407,2,       25,-999.000,9,-999.0000,9, -999.00,9, -999.00,9,  -999.0,9,  -999.0,-999.000,9,-999.000,     -999.0,9, -999.00,9, -999.00,9, -999.00,9,     -999.0,9,  -999.0,9, 20130529,     1703,  30.7739,-122.2715,    34.2343,2,     -999.0,9,     -999.0,9,     7.5539,2,     -999.0,9,     -999.0,9,-999.0000, -999.00,-999.000
318M20130321,       P02E,     144,          1,         25,         25,2,20130529,       1526,    30.7738,  -122.2724,       4137,   365.6,    6.914,  34.1229,2,  34.1217,2,     51.1,2,    49.3,2,   57.51,2,   35.65,2,       0,2,     2.7,2,-999.000,9,-999.000,9,-999.000,9,-999.0000,9,  2274.7,2, 2285.61,2,   7.3533,2,       25,-999.000,9,-999.0000,9, -999.00,9, -999.00,9,  -999.0,9,  -999.0,-999.000,9,-999.000,     -999.0,9, -999.00,9, -999.00,9, -999.00,9,     -999.0,9,  -999.0,9, 20130529,     1701,  30.7738,-122.2723,    34.2826,2,     -999.0,9,     -999.0,9,     6.9175,2,     -999.0,9,     -999.0,9,-999.0000, -999.00,-999.000
318M20130321,       P02E,     144,          1,         24,         24,2,20130529,       1526,    30.7738,  -122.2724,       4137,     437,   6.2772,  34.1571,2,  34.1556,2,     35.1,2,    34.8,2,   67.47,2,    37.9,2,       0,2,    2.89,2,   1.020,2,   0.497,2,-999.000,1,   0.1609,2,  2294.5,2, 2297.32,2,   7.3256,2,       25,-999.000,9,-999.0000,9, -999.00,9, -999.00,9,  -999.0,9,  -999.0,-999.000,9,-999.000,     -999.0,9, -999.00,9, -999.00,9, -999.00,9,     -999.0,9,  -999.0,9, 20130529,     1658,  30.7739,-122.2725,    34.3166,2,     -999.0,9,     -999.0,9,     6.2845,2,     -999.0,9,     -999.0,9,-999.0000, -999.00,-999.000
318M20130321,       P02E,     144,          1,         23,         23,2,20130529,       1526,    30.7738,  -122.2724,       4137,   538.2,   5.6758,  34.2273,2,  34.2252,2,     20.6,2,    19.9,2,   79.67,2,   40.03,2,       0,2,    3.08,2,-999.000,9,-999.000,9,-999.000,9,-999.0000,9,  2316.5,2, 2312.82,2,   7.3029,2,       25,-999.000,9,-999.0000,9, -999.00,9, -999.00,9,  -999.0,9,  -999.0,-999.000,9,-999.000,     -999.0,9, -999.00,9, -999.00,9, -999.00,9,     -999.0,9,  -999.0,9, 20130529,     1655,  30.7738,-122.2725,    34.3866,2,     -999.0,9,     -999.0,9,     5.6654,2,     -999.0,9,     -999.0,9,-999.0000, -999.00,-999.000
318M20130321,       P02E,     144,          1,         22,         22,2,20130529,       1526,    30.7738,  -122.2724,       4137,   639.3,    5.195,  34.3078,2,  34.3064,2,     12.3,2,    12.9,2,    90.9,2,   41.59,2,       0,2,    3.18,2,   0.127,2,   0.069,2,-999.000,1,        0,2,  2334.1,2, 2329.83,2,   7.2995,2,       25,-999.000,9,-999.0000,9, -999.00,9, -999.00,9,  -999.0,9,  -999.0,-999.000,9,-999.000,     -999.0,9, -999.00,9, -999.00,9, -999.00,9,     -999.0,9,  -999.0,9, 20130529,     1652,  30.7739,-122.2724,    34.4682,2,     -999.0,9,     -999.0,9,     5.1951,2,     -999.0,9,     -999.0,9,-999.0000, -999.00,-999.000
318M20130321,       P02E,     144,          1,         21,         21,2,20130529,       1526,    30.7738,  -122.2724,       4137,   740.2,   4.8747,  34.3769,2,   34.369,2,     12.2,2,    12.4,2,   97.34,2,   42.39,2,       0,2,    3.23,2,-999.000,9,-999.000,9,-999.000,9,-999.0000,9,  2342.9,2, 2340.93,2,   7.3077,2,       25,-999.000,9,-999.0000,9, -999.00,9, -999.00,9,  -999.0,9,  -999.0,-999.000,9,-999.000,     -999.0,9, -999.00,9, -999.00,9, -999.00,9,     -999.0,9,  -999.0,9, 20130529,     1649,  30.7738,-122.2724,     34.531,2,     -999.0,9,     -999.0,9,     4.8809,2,     -999.0,9,     -999.0,9,-999.0000, -999.00,-999.000
318M20130321,       P02E,     144,          1,         20,         20,2,20130529,       1526,    30.7738,  -122.2724,       4137,   841.8,   4.4846,   34.427,2,  34.4259,2,     15.3,2,    15.9,2,  106.41,2,   43.04,2,       0,2,    3.23,2,   0.022,2,   0.018,2,-999.000,1,        0,2,  -999.0,9, -999.00,9,-999.0000,9,  -999.00,-999.000,9,-999.0000,9, -999.00,9, -999.00,9,  -999.0,9,  -999.0,-999.000,9,-999.000,     -999.0,9, -999.00,9, -999.00,9, -999.00,9,     -999.0,9,  -999.0,9, 20130529,     1646,  30.7739,-122.2725,    34.5882,2,     -999.0,9,     -999.0,9,     4.4842,2,     -999.0,9,     -999.0,9,-999.0000, -999.00,-999.000
318M20130321,       P02E,     144,          1,         19,         19,2,20130529,       1526,    30.7738,  -122.2724,       4137,   942.1,   4.1589,  34.4611,2,   34.461,2,     20.4,2,    20.7,2,  112.95,2,   43.33,2,       0,2,    3.22,2,-999.000,9,-999.000,9,-999.000,9,-999.0000,9,  2358.1,2, 2363.74,2,    7.331,2,       25,-999.000,9,-999.0000,9, -999.00,9, -999.00,9,  -999.0,9,  -999.0,-999.000,9,-999.000,     -999.0,9, -999.00,9, -999.00,9, -999.00,9,     -999.0,9,  -999.0,9, 20130529,     1643,  30.7738,-122.2724,    34.6235,2,     -999.0,9,     -999.0,9,     4.1631,2,     -999.0,9,     -999.0,9,-999.0000, -999.00,-999.000
318M20130321,       P02E,     144,          1,         18,         18,2,20130529,       1526,    30.7738,  -122.2724,       4137,  1042.8,    3.885,   34.482,2,  34.4813,2,     25.4,2,    25.3,2,  118.71,2,   43.36,2,       0,2,     3.2,2,   0.015,2,   0.014,2,-999.000,1,        0,2,  -999.0,9, -999.00,9,-999.0000,9,  -999.00,-999.000,9,-999.0000,9, -999.00,9, -999.00,9,  -999.0,9,  -999.0,-999.000,9,-999.000,     -999.0,9, -999.00,9, -999.00,9, -999.00,9,     -999.0,9,  -999.0,9, 20130529,     1640,  30.7739,-122.2725,    34.6439,2,     -999.0,9,     -999.0,9,      3.887,2,     -999.0,9,     -999.0,9,-999.0000, -999.00,-999.000
318M20130321,       P02E,     144,          1,         17,         17,2,20130529,       1526,    30.7738,  -122.2724,       4137,  1144.7,   3.6185,  34.5062,2,  34.5058,2,     30.7,2,    30.7,2,  124.76,2,   43.33,2,       0,2,    3.19,2,-999.000,9,-999.000,9,-999.000,9,-999.0000,9,  2366.2,2, 2377.74,2,   7.3512,2,       25,-999.000,9,-999.0000,9, -999.00,9, -999.00,9,  -999.0,9,  -999.0,-999.000,9,-999.000,     -999.0,9, -999.00,9, -999.00,9, -999.00,9,     -999.0,9,  -999.0,9, 20130529,     1637,  30.7738,-122.2724,    34.6685,2,     -999.0,9,     -999.0,9,     3.6216,2,     -999.0,9,     -999.0,9,-999.0000, -999.00,-999.000
318M20130321,       P02E,     144,          1,         16,         16,2,20130529,       1526,    30.7738,  -122.2724,       4137,  1245.5,   3.3806,  34.5246,2,  34.5247,2,     35.9,2,    36.3,2,  130.61,2,   43.13,2,       0,2,    3.16,2,   0.018,2,   0.017,2,-999.000,1,        0,2,  -999.0,9, -999.00,9,-999.0000,9,  -999.00,-999.000,9,-999.0000,9, -999.00,9, -999.00,9,  -999.0,9,  -999.0,-999.000,9,-999.000,     -999.0,9, -999.00,9, -999.00,9, -999.00,9,     -999.0,9,  -999.0,9, 20130529,     1634,  30.7738,-122.2725,    34.6874,2,     -999.0,9,     -999.0,9,     3.3803,2,     -999.0,9,     -999.0,9,-999.0000, -999.00,-999.000
318M20130321,       P02E,     144,          1,         15,         15,2,20130529,       1526,    30.7738,  -122.2724,       4137,  1346.1,   3.1936,  34.5432,2,  34.5425,2,     40.8,2,    40.2,2,  135.39,2,   42.98,2,       0,2,    3.14,2,-999.000,9,-999.000,9,-999.000,9,-999.0000,9,  -999.0,9, -999.00,9,-999.0000,9,  -999.00,-999.000,9,-999.0000,9, -999.00,9, -999.00,9,  -999.0,9,  -999.0,-999.000,9,-999.000,     -999.0,9, -999.00,9, -999.00,9, -999.00,9,     -999.0,9,  -999.0,9, 20130529,     1630,  30.7738,-122.2725,    34.7054,2,     -999.0,9,     -999.0,9,     3.1946,2,     -999.0,9,     -999.0,9,-999.0000, -999.00,-999.000
318M20130321,       P02E,     144,          1,         14,         14,2,20130529,       1526,    30.7738,  -122.2724,       4137,  1448.3,   2.9521,  34.5551,2,  34.5539,2,     45.8,2,    45.5,2,  141.84,2,   42.71,2,       0,2,     3.1,2,   0.010,2,   0.012,2,-999.000,1,        0,2,  2373.8,2, 2397.45,2,   7.3791,2,       25,-999.000,9,-999.0000,9, -999.00,9, -999.00,9,  -999.0,9,  -999.0,-999.000,9,-999.000,     -999.0,9, -999.00,9, -999.00,9, -999.00,9,     -999.0,9,  -999.0,9, 20130529,     1627,  30.7739,-122.2725,    34.7168,2,     -999.0,9,     -999.0,9,      2.952,2,     -999.0,9,     -999.0,9,-999.0000, -999.00,-999.000
318M20130321,       P02E,     144,          1,         13,         13,2,20130529,       1526,    30.7738,  -122.2724,       4137,  1549.2,   2.7397,  34.5694,2,  34.5684,2,     51.9,2,    51.7,2,  146.91,2,   42.43,2,       0,2,    3.07,2,-999.000,9,-999.000,9,-999.000,9,-999.0000,9,  -999.0,9, -999.00,9,-999.0000,9,  -999.00,-999.000,9,-999.0000,9, -999.00,9, -999.00,9,  -999.0,9,  -999.0,-999.000,9,-999.000,     -999.0,9, -999.00,9, -999.00,9, -999.00,9,     -999.0,9,  -999.0,9, 20130529,     1624,  30.7738,-122.2725,    34.7315,2,     -999.0,9,     -999.0,9,      2.741,2,     -999.0,9,     -999.0,9,-999.0000, -999.00,-999.000
318M20130321,       P02E,     144,          1,         12,         12,2,20130529,       1526,    30.7738,  -122.2724,       4137,  1681.8,   2.5355,  34.5871,2,  34.5869,2,     59.5,2,    59.4,2,  151.79,2,   41.95,2,       0,2,    3.03,2,   0.004,2,   0.009,2,-999.000,1,        0,2,  2374.8,2, 2406.55,2,   7.4055,6,       25,-999.000,9,-999.0000,9, -999.00,9, -999.00,9,  -999.0,9,  -999.0,-999.000,9,-999.000,     -999.0,9, -999.00,9, -999.00,9, -999.00,9,     -999.0,9,  -999.0,9, 20130529,     1621,  30.7738,-122.2724,      34.75,2,     -999.0,9,     -999.0,9,     2.5361,2,     -999.0,9,     -999.0,9,-999.0000, -999.00,-999.000
318M20130321,       P02E,     144,          1,         11,         11,2,20130529,       1526,    30.7738,  -122.2724,       4137,  1863.8,   2.2865,  34.6069,2,  34.6071,2,     70.2,2,    70.1,2,  156.96,2,   41.29,2,       0,2,    2.95,2,-999.000,9,-999.000,9,-999.000,9,-999.0000,9,  2374.4,2, 2413.96,2,   7.4278,2,       25,-999.000,9,-999.0000,9, -999.00,9, -999.00,9,  -999.0,9,  -999.0,-999.000,9,-999.000,     -999.0,9, -999.00,9, -999.00,9, -999.00,9,     -999.0,9,  -999.0,9, 20130529,     1616,  30.7738,-122.2725,    34.7703,2,     -999.0,9,     -999.0,9,     2.2868,2,     -999.0,9,     -999.0,9,-999.0000, -999.00,-999.000
318M20130321,       P02E,     144,          1,         10,         10,2,20130529,       1526,    30.7738,  -122.2724,       4137,  2107.1,   2.0437,  34.6298,2,  34.6297,2,       84,2,    84.7,2,  160.67,2,   40.36,2,       0,2,    2.87,2,   0.000,2,   0.004,2,-999.000,1,        0,2,  -999.0,9, -999.00,9,-999.0000,9,  -999.00,-999.000,9,-999.0000,9, -999.00,9, -999.00,9,  -999.0,9,  -999.0,-999.000,9,-999.000,     -999.0,9, -999.00,9, -999.00,9, -999.00,9,     -999.0,9,  -999.0,9, 20130529,     1611,  30.7739,-122.2725,     34.793,2,     -999.0,9,     -999.0,9,     2.0431,2,     -999.0,9,     -999.0,9,-999.0000, -999.00,-999.000
318M20130321,       P02E,     144,          1,          9,          9,2,20130529,       1526,    30.7738,  -122.2724,       4137,  2360.3,   1.8967,   34.644,2,  34.6435,2,     95.7,2,    95.5,2,  162.72,2,   39.69,2,       0,2,    2.82,2,-999.000,9,-999.000,9,-999.000,9,-999.0000,9,    2367,2, 2422.86,2,   7.4778,2,       25,-999.000,9,-999.0000,9, -999.00,9, -999.00,9,  -999.0,9,  -999.0,-999.000,9,-999.000,     -999.0,9, -999.00,9, -999.00,9, -999.00,9,     -999.0,9,  -999.0,9, 20130529,     1605,  30.7738,-122.2725,    34.8068,2,     -999.0,9,     -999.0,9,      1.897,2,     -999.0,9,     -999.0,9,-999.0000, -999.00,-999.000
318M20130321,       P02E,     144,          1,          8,          8,2,20130529,       1526,    30.7738,  -122.2724,       4137,  2616.4,   1.7776,  34.6546,2,  34.6539,2,    105.1,2,   105.1,2,  164.37,2,   39.11,2,       0,2,    2.77,2,   0.000,2,   0.005,2,-999.000,1,        0,2,  -999.0,9, -999.00,9,-999.0000,9,  -999.00,-999.000,9,-999.0000,9, -999.00,9, -999.00,9,  -999.0,9,  -999.0,-999.000,9,-999.000,     -999.0,9, -999.00,9, -999.00,9, -999.00,9,     -999.0,9,  -999.0,9, 20130529,     1600,  30.7738,-122.2724,    34.8173,2,     -999.0,9,     -999.0,9,     1.7773,2,     -999.0,9,     -999.0,9,-999.0000, -999.00,-999.000
318M20130321,       P02E,     144,          1,          7,          7,2,20130529,       1526,    30.7738,  -122.2724,       4137,  2869.3,   1.6902,  34.6614,2,  34.6612,2,    111.7,2,   111.7,2,  166.13,2,   38.69,2,       0,2,    2.72,2,-999.000,9,-999.000,9,-999.000,9,-999.0000,9,  2360.4,2, 2426.86,2,   7.5088,6,       25,-999.000,9,-999.0000,9, -999.00,9, -999.00,9,  -999.0,9,  -999.0,-999.000,9,-999.000,     -999.0,9, -999.00,9, -999.00,9, -999.00,9,     -999.0,9,  -999.0,9, 20130529,     1554,  30.7738,-122.2724,    34.8246,2,     -999.0,9,     -999.0,9,     1.6905,2,     -999.0,9,     -999.0,9,-999.0000, -999.00,-999.000
318M20130321,       P02E,     144,          1,          6,          6,2,20130529,       1526,    30.7738,  -122.2724,       4137,  3142.2,   1.6125,  34.6674,2,  34.6667,2,      119,2,   119.2,2,  167.79,2,   38.25,2,       0,2,    2.68,2,   0.006,2,   0.009,2,-999.000,1,        0,2,  -999.0,9, -999.00,9,-999.0000,9,  -999.00,-999.000,9,-999.0000,9, -999.00,9, -999.00,9,  -999.0,9,  -999.0,-999.000,9,-999.000,     -999.0,9, -999.00,9, -999.00,9, -999.00,9,     -999.0,9,  -999.0,9, 20130529,     1549,  30.7738,-122.2725,    34.8301,2,     -999.0,9,     -999.0,9,     1.6127,2,     -999.0,9,     -999.0,9,-999.0000, -999.00,-999.000