BOTTLE,20220817CCHSIOAMB
EXPOCODE,SECT_ID,STNNBR,CASTNO,SAMPNO,BTLNBR,BTLNBR_FLAG_W,DATE,TIME,LATITUDE,LONGITUDE,DEPTH,CTDPRS,CTDTMP,CTDSAL,CTDSAL_FLAG_W,SALNTY,SALNTY_FLAG_W,CTDOXY,CTDOXY_FLAG_W,OXYGEN,OXYGEN_FLAG_W,SILCAT,SILCAT_FLAG_W,NITRAT,NITRAT_FLAG_W,NITRIT,NITRIT_FLAG_W,PHSPHT,PHSPHT_FLAG_W,CFC-11,CFC-11_FLAG_W,CFC-12,CFC-12_FLAG_W,CFC113,CFC113_FLAG_W,SF6,SF6_FLAG_W,TCARBN,TCARBN_FLAG_W,ALKALI,ALKALI_FLAG_W,PH_TOT,PH_TOT_FLAG_W,PH_TMP,TRITUM,TRITUM_FLAG_W,HELIUM,HELIUM_FLAG_W,DELHE3,DELHE3_FLAG_W,DELC13,DELC13_FLAG_W,DELC14,DELC14_FLAG_W,C14ERR,NEON,NEON_FLAG_W,NEONER,I-129,I-129_FLAG_W,SR-90,SR-90_FLAG_W,DOC,DOC_FLAG_W,TDN,TDN_FLAG_W,CALCIUM,CALCIUM_FLAG_W,D15N_NO3,D15N_NO3_FLAG_W,BTL_DATE,BTL_TIME,BTL_LAT,BTL_LON,SALTREF,SALTREF_FLAG_W,CS-137,CS-137_FLAG_W,CS-134,CS-134_FLAG_W,REFTMP,REFTMP_FLAG_W,LAB_DEN,LAB_DEN_FLAG_W,D18O_NO3,D18O_NO3_FLAG_W,HELIER,DELHER,TRITER
,,,,,,,,,,,METERS,DBAR,ITS-90,PSS-78,,PSS-78,,UMOL/KG,,UMOL/KG,,UMOL/KG,,UMOL/KG,,UMOL/KG,,UMOL/KG,,PMOL/KG,,PMOL/KG,,PMOL/KG,,FMOL/KG,,UMOL/KG,,UMOL/KG,,,,DEG C,TU,,NMOL/KG,,PERCNT,,/MILLE,,/MILLE,,/MILLE,NMOL/KG,,NMOL/KG,BQ/M^3,,DM/.1MG,,UMOL/KG,,UMOL/KG,,MMOL/KG,,/MILLE,,,,,,G/KG,,BQ/M^3,,BQ/M^3,,ITS-90,,,,/MILLE,,NMOL/KG,PERCNT,TU
318M20130321,       P02W,      48,          1,         36,         36,2,20130420,       0825,    29.9997,   161.1564,       5948,     3.1,  19.8037,  34.9152,2,  34.9148,2,    230.1,2,     230,2,    1.66,2,       0,2,       0,2,       0,2,   2.345,2,   1.431,2,   0.199,2,     1.54,2,  2007.4,6, 2290.61,2,   8.0191,2,       25,-999.000,9,-999.0000,9, -999.00,9, -999.00,9,  -999.0,9,  -999.0,-999.000,9,-999.000,     -999.0,9, -999.00,9, -999.00,9, -999.00,9,     -999.0,9,  -999.0,9, 20130420,     1046,  29.9981, 161.1572,    35.0794,2,     -999.0,9,     -999.0,9,    19.8053,2,     -999.0,9,     -999.0,9,-999.0000, -999.00,-999.000
318M20130321,       P02W,      48,          1,         35,         35,2,20130420,       0825,    29.9997,   161.1564,       5948,    37.5,  19.4698,  34.8826,2,  34.8822,2,      231,2,   231.4,2,    1.56,2,       0,2,       0,2,       0,2,   2.362,2,   1.445,2,   0.193,2,     1.41,2,  -999.0,9, -999.00,9,-999.0000,9,  -999.00,-999.000,9,-999.0000,9, -999.00,9, -999.00,9,  -999.0,9,  -999.0,-999.000,9,-999.000,     -999.0,9, -999.00,9, -999.00,9, -999.00,9,     -999.0,9,  -999.0,9, 20130420,     1044,  29.9982, 161.1569,    35.0466,2,     -999.0,9,     -999.0,9,    19.4689,2,     -999.0,9,     -999.0,9,-999.0000, -999.00,-999.000
318M20130321,       P02W,      48,          1,         34,         34,2,20130420,       0825,    29.9997,   161.1564,       5948,    61.4,  19.1999,  34.8716,2,  34.8717,2,    232.8,2,   232.3,2,    1.66,2,       0,2,       0,2,       0,2,   2.390,2,   1.449,2,   0.201,2,     1.41,2,  2008.3,2, 2287.51,6,   8.0118,2,       25,-999.000,9,-999.0000,9, -999.00,9, -999.00,9,  -999.0,9,  -999.0,-999.000,9,-999.000,     -999.0,9, -999.00,9, -999.00,9, -999.00,9,     -999.0,9,  -999.0,9, 20130420,     1042,  29.9984, 161.1569,    35.0362,2,     -999.0,9,     -999.0,9,    19.1507,3,     -999.0,9,     -999.0,9,-999.0000, -999.00,-999.000
318M20130321,       P02W,      48,          1,         33,         33,2,20130420,       0825,    29.9997,   161.1564,       5948,    87.3,  18.1265,  34.7715,2,  34.7709,2,    231.1,2,   230.2,2,    2.05,2,    0.23,2,    0.08,2,    0.04,2,   2.481,2,   1.522,2,   0.197,2,     1.35,2,  -999.0,9, -999.00,9,-999.0000,9,  -999.00,-999.000,9,-999.0000,9, -999.00,9, -999.00,9,  -999.0,9,  -999.0,-999.000,9,-999.000,     -999.0,9, -999.00,9, -999.00,9, -999.00,9,     -999.0,9,  -999.0,9, 20130420,     1041,  29.9985,  161.157,    34.9348,2,     -999.0,9,     -999.0,9,    18.1188,2,     -999.0,9,     -999.0,9,-999.0000, -999.00,-999.000
318M20130321,       P02W,      48,          1,         32,         32,2,20130420,       0825,    29.9997,   161.1564,       5948,   110.1,  17.6045,  34.7155,2,  34.7148,2,    229.8,2,   229.6,2,    2.34,2,    1.29,2,    0.13,2,     0.1,2,   2.540,2,   1.544,2,   0.190,2,     1.34,2,  2015.4,2, 2278.31,2,   7.9845,6,       25,-999.000,9,-999.0000,9, -999.00,9, -999.00,9,  -999.0,9,  -999.0,-999.000,9,-999.000,     -999.0,9, -999.00,9, -999.00,9, -999.00,9,     -999.0,9,  -999.0,9, 20130420,     1039,  29.9987, 161.1569,    34.8785,2,     -999.0,9,     -999.0,9,    17.6037,2,     -999.0,9,     -999.0,9,-999.0000, -999.00,-999.000
318M20130321,       P02W,      48,          1,         31,         31,2,20130420,       0825,    29.9997,   161.1564,       5948,   161.5,  17.1989,  34.6858,2,  34.6848,2,    227.8,2,     228,2,    2.83,2,    2.32,2,    0.04,2,    0.15,2,   0.000,4,   0.000,4,   0.000,4,        0,4,  -999.0,9, -999.00,9,-999.0000,9,  -999.00,-999.000,9,-999.0000,9, -999.00,9, -999.00,9,  -999.0,9,  -999.0,-999.000,9,-999.000,     -999.0,9, -999.00,9, -999.00,9, -999.00,9,     -999.0,9,  -999.0,9, 20130420,     1037,   29.999, 161.1564,    34.8483,2,     -999.0,9,     -999.0,9,    17.1985,2,     -999.0,9,     -999.0,9,-999.0000, -999.00,-999.000
318M20130321,       P02W,      48,          1,         30,         30,2,20130420,       0825,    29.9997,   161.1564,       5948,     213,   16.776,  34.6668,2,  34.6663,2,    221.1,2,     224,2,    3.61,2,    3.42,2,    0.02,2,     0.2,2,   2.605,2,   1.574,2,   0.147,2,      1.6,2,  2026.6,2, 2276.61,2,   7.9603,2,       25,-999.000,9,-999.0000,9, -999.00,9, -999.00,9,  -999.0,9,  -999.0,-999.000,9,-999.000,     -999.0,9, -999.00,9, -999.00,9, -999.00,9,     -999.0,9,  -999.0,9, 20130420,     1036,  29.9992, 161.1564,    34.8297,2,     -999.0,9,     -999.0,9,    16.7646,2,     -999.0,9,     -999.0,9,-999.0000, -999.00,-999.000
318M20130321,       P02W,      48,          1,         29,         29,2,20130420,       0825,    29.9997,   161.1564,       5948,   264.1,  16.3734,  34.6459,2,  34.6457,2,    213.6,2,   213.8,2,    4.69,2,    5.16,2,    0.01,2,    0.32,2,-999.000,9,-999.000,9,-999.000,9,-999.0000,9,  -999.0,9, -999.00,9,-999.0000,9,  -999.00,-999.000,9,-999.0000,9, -999.00,9, -999.00,9,  -999.0,9,  -999.0,-999.000,9,-999.000,     -999.0,9, -999.00,9, -999.00,9, -999.00,9,     -999.0,9,  -999.0,9, 20130420,     1034,  29.9993, 161.1565,     34.809,2,     -999.0,9,     -999.0,9,    16.3736,2,     -999.0,9,     -999.0,9,-999.0000, -999.00,-999.000
318M20130321,       P02W,      48,          1,         28,         28,2,20130420,       0825,    29.9997,   161.1564,       5948,   313.9,  15.5004,  34.5752,2,  34.5749,2,    203.5,2,   205.4,2,    6.93,2,    7.16,2,    0.01,2,    0.45,2,   2.771,2,   1.643,2,   0.061,2,     1.35,2,  2056.1,2, 2272.71,2,   7.8991,2,       25,-999.000,9,-999.0000,9, -999.00,9, -999.00,9,  -999.0,9,  -999.0,-999.000,9,-999.000,     -999.0,9, -999.00,9, -999.00,9, -999.00,9,     -999.0,9,  -999.0,9, 20130420,     1032,  29.9995, 161.1565,     34.738,2,     -999.0,9,     -999.0,9,    15.5067,2,     -999.0,9,     -999.0,9,-999.0000, -999.00,-999.000
318M20130321,       P02W,      48,          1,         27,         27,2,20130420,       0825,    29.9997,   161.1564,       5948,   366.9,  14.3714,  34.4945,2,  34.4946,2,    202.5,2,   202.9,2,    9.76,2,     9.1,2,    0.01,2,    0.59,2,-999.000,9,-999.000,9,-999.000,9,-999.0000,9,  -999.0,9, -999.00,9,-999.0000,9,  -999.00,-999.000,9,-999.0000,9, -999.00,9, -999.00,9,  -999.0,9,  -999.0,-999.000,9,-999.000,     -999.0,9, -999.00,9, -999.00,9, -999.00,9,     -999.0,9,  -999.0,9, 20130420,     1030,  29.9998, 161.1563,    34.6573,2,     -999.0,9,     -999.0,9,    14.3703,2,     -999.0,9,     -999.0,9,-999.0000, -999.00,-999.000
318M20130321,       P02W,      48,          1,         26,         26,2,20130420,       0825,    29.9997,   161.1564,       5948,     437,  12.6154,  34.3753,2,  34.3809,2,    204.4,2,   204.5,2,   13.67,2,   11.63,2,    0.01,2,    0.76,2,   3.057,2,   1.760,2,   0.086,2,     1.27,2,  2088.3,2, 2269.21,2,   7.8239,2,       25,-999.000,9,-999.0000,9, -999.00,9, -999.00,9,  -999.0,9,  -999.0,-999.000,9,-999.000,     -999.0,9, -999.00,9, -999.00,9, -999.00,9,     -999.0,9,  -999.0,9, 20130420,     1028,  29.9998, 161.1563,    34.5431,2,     -999.0,9,     -999.0,9,    12.6036,2,     -999.0,9,     -999.0,9,-999.0000, -999.00,-999.000
318M20130321,       P02W,      48,          1,         25,         25,2,20130420,       0825,    29.9997,   161.1564,       5948,   538.8,  10.4392,  34.2205,2,  34.2226,2,    193.3,2,   195.1,2,   22.55,2,   16.43,2,    0.01,2,    1.09,2,-999.000,9,-999.000,9,-999.000,9,-999.0000,9,  -999.0,9, -999.00,9,-999.0000,9,  -999.00,-999.000,9,-999.0000,9, -999.00,9, -999.00,9,  -999.0,9,  -999.0,-999.000,9,-999.000,     -999.0,9, -999.00,9, -999.00,9, -999.00,9,     -999.0,9,  -999.0,9, 20130420,     1026,  29.9998, 161.1563,     34.384,2,     -999.0,9,     -999.0,9,    10.4427,2,     -999.0,9,     -999.0,9,-999.0000, -999.00,-999.000
318M20130321,       P02W,      48,          1,         24,         24,2,20130420,       0825,    29.9997,   161.1564,       5948,   639.9,   7.3837,  34.0607,2,  34.0592,2,      152,2,   148.2,2,   46.38,2,   26.26,2,    0.01,2,    1.82,2,   2.719,2,   1.424,2,   0.113,2,     0.63,2,    2194,2, 2280.91,2,   7.5817,2,       25,-999.000,9,-999.0000,9, -999.00,9, -999.00,9,  -999.0,9,  -999.0,-999.000,9,-999.000,     -999.0,9, -999.00,9, -999.00,9, -999.00,9,     -999.0,9,  -999.0,9, 20130420,     1023,  29.9998, 161.1563,    34.2198,2,     -999.0,9,     -999.0,9,     7.4099,2,     -999.0,9,     -999.0,9,-999.0000, -999.00,-999.000
318M20130321,       P02W,      48,          1,         23,         23,2,20130420,       0825,    29.9997,   161.1564,       5948,     737,   5.6188,  34.0521,2,  34.0539,2,    112.8,2,   104.3,2,   70.31,2,    33.4,2,    0.01,2,    2.33,2,-999.000,9,-999.000,9,-999.000,9,-999.0000,9,  -999.0,9, -999.00,9,-999.0000,9,  -999.00,-999.000,9,-999.0000,9, -999.00,9, -999.00,9,  -999.0,9,  -999.0,-999.000,9,-999.000,     -999.0,9, -999.00,9, -999.00,9, -999.00,9,     -999.0,9,  -999.0,9, 20130420,     1021,  29.9998, 161.1563,    34.2144,2,     -999.0,9,     -999.0,9,     5.6231,2,     -999.0,9,     -999.0,9,-999.0000, -999.00,-999.000
318M20130321,       P02W,      48,          1,         22,         22,2,20130420,       0825,    29.9997,   161.1564,       5948,   838.8,   4.8474,  34.1124,2,  34.1132,2,     75.7,2,    76.2,2,   86.91,2,   36.99,2,       0,2,     2.6,2,   1.330,2,   0.658,2,   0.063,2,        0,4,    2287,2, 2316.32,2,   7.3968,2,       25,-999.000,9,-999.0000,9, -999.00,9, -999.00,9,  -999.0,9,  -999.0,-999.000,9,-999.000,     -999.0,9, -999.00,9, -999.00,9, -999.00,9,     -999.0,9,  -999.0,9, 20130420,     1018,  29.9998, 161.1563,    34.2741,2,     -999.0,9,     -999.0,9,     4.8444,2,     -999.0,9,     -999.0,9,-999.0000, -999.00,-999.000
318M20130321,       P02W,      48,          1,         21,         21,2,20130420,       0825,    29.9997,   161.1564,       5948,   940.3,   4.1316,  34.2113,2,  34.2117,2,       51,2,    49.5,2,  106.53,2,   40.22,2,       0,2,    2.82,2,-999.000,9,-999.000,9,-999.000,9,-999.0000,9,  -999.0,9, -999.00,9,-999.0000,9,  -999.00,-999.000,9,-999.0000,9, -999.00,9, -999.00,9,  -999.0,9,  -999.0,-999.000,9,-999.000,     -999.0,9, -999.00,9, -999.00,9, -999.00,9,     -999.0,9,  -999.0,9, 20130420,     1016,  29.9998, 161.1563,     34.373,2,     -999.0,9,     -999.0,9,      4.128,2,     -999.0,9,     -999.0,9,-999.0000, -999.00,-999.000
318M20130321,       P02W,      48,          1,         20,         20,4,20130420,       0825,    29.9997,   161.1564,       5948,  1041.5,   3.6741,  34.2931,2,  34.2426,4,     39.9,2,    45.1,4,  112.09,4,   40.78,4,       0,4,    2.86,4,   0.589,2,   0.295,2,   0.027,2,        0,4,  2333.5,4, 2343.53,2,   7.3402,6,       25,-999.000,9,-999.0000,9, -999.00,9, -999.00,9,  -999.0,9,  -999.0,-999.000,9,-999.000,     -999.0,9, -999.00,9, -999.00,9, -999.00,9,     -999.0,9,  -999.0,9, 20130420,     1013,  29.9997, 161.1563,    34.4041,4,     -999.0,9,     -999.0,9,     3.6752,2,     -999.0,9,     -999.0,9,-999.0000, -999.00,-999.000
318M20130321,       P02W,      48,          1,         19,         19,2,20130420,       0825,    29.9997,   161.1564,       5948,  1142.7,   3.2932,  34.3569,2,  34.3562,2,     35.9,2,    35.3,2,   131.9,2,   42.28,2,       0,2,    2.95,2,   0.234,2,   0.116,2,   0.027,2,     0.14,2,  -999.0,9, -999.00,9,-999.0000,9,  -999.00,-999.000,9,-999.0000,9, -999.00,9, -999.00,9,  -999.0,9,  -999.0,-999.000,9,-999.000,     -999.0,9, -999.00,9, -999.00,9, -999.00,9,     -999.0,9,  -999.0,9, 20130420,     1011,  29.9998, 161.1563,    34.5182,2,     -999.0,9,     -999.0,9,     3.2962,2,     -999.0,9,     -999.0,9,-999.0000, -999.00,-999.000
318M20130321,       P02W,      48,          1,         18,         18,2,20130420,       0825,    29.9997,   161.1564,       5948,  1245.6,   3.0262,  34.4143,2,  34.4159,2,     35.8,2,    34.5,2,  139.61,2,   42.58,2,       0,2,    2.97,2,   0.109,2,   0.058,2,   0.011,2,     0.07,2,  2369.2,2, 2378.34,2,   7.3347,2,       25,-999.000,9,-999.0000,9, -999.00,9, -999.00,9,  -999.0,9,  -999.0,-999.000,9,-999.000,     -999.0,9, -999.00,9, -999.00,9, -999.00,9,     -999.0,9,  -999.0,9, 20130420,     1008,  29.9998, 161.1563,    34.5782,2,     -999.0,9,     -999.0,9,     3.0237,2,     -999.0,9,     -999.0,9,-999.0000, -999.00,-999.000
318M20130321,       P02W,      48,          1,         17,         17,2,20130420,       0825,    29.9997,   161.1564,       5948,    1343,   2.8712,  34.4568,2,  34.4559,2,     37.5,2,    37.7,2,  142.92,2,   42.63,2,       0,2,    2.96,2,   0.056,2,   0.030,2,   0.008,2,     0.07,2,  2372.1,2, 2385.55,2,   7.3458,2,       25,-999.000,9,-999.0000,9, -999.00,9, -999.00,9,  -999.0,9,  -999.0,-999.000,9,-999.000,     -999.0,9, -999.00,9, -999.00,9, -999.00,9,     -999.0,9,  -999.0,9, 20130420,     1006,  29.9997, 161.1563,    34.6184,2,     -999.0,9,     -999.0,9,     2.8714,2,     -999.0,9,     -999.0,9,-999.0000, -999.00,-999.000
318M20130321,       P02W,      48,          1,         16,         16,2,20130420,       0825,    29.9997,   161.1564,       5948,  1475.1,   2.6615,  34.5016,2,  34.5034,2,     47.7,2,    47.3,2,  146.92,2,   42.15,2,       0,2,       3,2,   0.024,2,   0.016,2,   0.007,2,        0,2,  2372.2,2, 2392.25,2,   7.3704,2,       25,-999.000,9,-999.0000,9, -999.00,9, -999.00,9,  -999.0,9,  -999.0,-999.000,9,-999.000,     -999.0,9, -999.00,9, -999.00,9, -999.00,9,     -999.0,9,  -999.0,9, 20130420,     1002,  29.9997, 161.1563,    34.6661,2,     -999.0,9,     -999.0,9,     2.6589,2,     -999.0,9,     -999.0,9,-999.0000, -999.00,-999.000
318M20130321,       P02W,      48,          1,         15,         15,2,20130420,       0825,    29.9997,   161.1564,       5948,  1680.1,    2.314,  34.5537,2,  34.5533,2,     60.8,2,    61.7,2,  152.57,2,   41.32,2,       0,2,    2.97,2,-999.000,9,-999.000,9,-999.000,9,-999.0000,9,  2369.4,2, 2401.85,2,   7.3995,6,       25,-999.000,9,-999.0000,9, -999.00,9, -999.00,9,  -999.0,9,  -999.0,-999.000,9,-999.000,     -999.0,9, -999.00,9, -999.00,9, -999.00,9,     -999.0,9,  -999.0,9, 20130420,      958,  29.9998, 161.1563,    34.7163,2,     -999.0,9,     -999.0,9,     2.3129,2,     -999.0,9,     -999.0,9,-999.0000, -999.00,-999.000
318M20130321,       P02W,      48,          1,         14,         14,2,20130420,       0825,    29.9997,   161.1564,       5948,    1878,   2.0818,    34.59,2,  34.5912,2,     77.9,2,      80,2,  154.72,2,   40.26,2,       0,2,    2.93,2,   0.007,2,   0.009,2,   0.018,2,        0,2,  2364.5,2, 2407.26,2,   7.4375,2,       25,-999.000,9,-999.0000,9, -999.00,9, -999.00,9,  -999.0,9,  -999.0,-999.000,9,-999.000,     -999.0,9, -999.00,9, -999.00,9, -999.00,9,     -999.0,9,  -999.0,9, 20130420,      954,  29.9998, 161.1563,    34.7543,2,     -999.0,9,     -999.0,9,     2.0807,2,     -999.0,9,     -999.0,9,-999.0000, -999.00,-999.000
318M20130321,       P02W,      48,          1,         13,         13,2,20130420,       0825,    29.9997,   161.1564,       5948,  2102.9,   1.8885,  34.6192,2,  34.6187,2,       97,2,    97.3,2,   155.2,2,   38.96,2,       0,2,    2.84,2,-999.000,9,-999.000,9,-999.000,9,-999.0000,9,  -999.0,9, -999.00,9,-999.0000,9,  -999.00,-999.000,9,-999.0000,9, -999.00,9, -999.00,9,  -999.0,9,  -999.0,-999.000,9,-999.000,     -999.0,9, -999.00,9, -999.00,9, -999.00,9,     -999.0,9,  -999.0,9, 20130420,      949,  29.9998, 161.1563,     34.782,2,     -999.0,9,     -999.0,9,     1.8886,2,     -999.0,9,     -999.0,9,-999.0000, -999.00,-999.000
318M20130321,       P02W,      48,          1,         12,         12,2,20130420,       0825,    29.9997,   161.1564,       5948,  2359.2,   1.7532,  34.6379,2,  34.6386,2,    110.8,2,   111.1,2,  153.93,2,   38.33,2,       0,2,    2.79,2,   0.008,2,   0.010,2,   0.010,2,        0,2,  2349.8,2, 2412.86,2,   7.4972,2,       25,-999.000,9,-999.0000,9, -999.00,9, -999.00,9,  -999.0,9,  -999.0,-999.000,9,-999.000,     -999.0,9, -999.00,9, -999.00,9, -999.00,9,     -999.0,9,  -999.0,9, 20130420,      944,  29.9997, 161.1563,    34.8019,2,     -999.0,9,     -999.0,9,     1.7532,2,     -999.0,9,     -999.0,9,-999.0000, -999.00,-999.000
318M20130321,       P02W,      48,          1,         11,         11,2,20130420,       0825,    29.9997,   161.1564,       5948,  2609.9,   1.6734,  34.6497,2,  34.6504,2,    119.7,2,   119.5,2,  153.15,2,   37.76,2,       0,2,    2.73,2,-999.000,9,-999.000,9,-999.000,9,-999.0000,9,  -999.0,9, -999.00,9,-999.0000,9,  -999.00,-999.000,9,-999.0000,9, -999.00,9, -999.00,9,  -999.0,9,  -999.0,-999.000,9,-999.000,     -999.0,9, -999.00,9, -999.00,9, -999.00,9,     -999.0,9,  -999.0,9, 20130420,      939,  29.9997, 161.1563,    34.8138,2,     -999.0,9,     -999.0,9,     1.6732,2,     -999.0,9,     -999.0,9,-999.0000, -999.00,-999.000
318M20130321,       P02W,      48,          1,         10,         10,2,20130420,       0825,    29.9997,   161.1564,       5948,  2866.7,   1.6111,  34.6591,2,   34.659,2,    127.5,2,   127.4,2,  152.17,2,   37.25,2,       0,2,    2.69,2,   0.007,2,   0.011,2,   0.011,2,     0.06,2,  2338.7,6, 2414.56,2,   7.5307,2,       25,-999.000,9,-999.0000,9, -999.00,9, -999.00,9,  -999.0,9,  -999.0,-999.000,9,-999.000,     -999.0,9, -999.00,9, -999.00,9, -999.00,9,     -999.0,9,  -999.0,9, 20130420,      934,  29.9997, 161.1563,    34.8224,2,     -999.0,9,     -999.0,9,     1.6113,2,     -999.0,9,     -999.0,9,-999.0000, -999.00,-999.000
318M20130321,       P02W,      48,          1,          9,          9,2,20130420,       0825,    29.9997,   161.1564,       5948,  3134.5,   1.5584,  34.6667,2,  34.6667,2,    133.8,2,   133.9,2,     151,2,   36.81,2,       0,2,    2.65,2,-999.000,9,-999.000,9,-999.000,9,-999.0000,9,  -999.0,9, -999.00,9,-999.0000,9,  -999.00,-999.000,9,-999.0000,9, -999.00,9, -999.00,9,  -999.0,9,  -999.0,-999.000,9,-999.000,     -999.0,9, -999.00,9, -999.00,9, -999.00,9,     -999.0,9,  -999.0,9, 20130420,      929,  29.9997, 161.1563,    34.8301,2,     -999.0,9,     -999.0,9,     1.5587,2,     -999.0,9,     -999.0,9,-999.0000, -999.00,-999.000
318M20130321,       P02W,      48,          1,          8,          8,2,20130420,       0825,    29.9997,   161.1564,       5948,  3438.2,   1.5187,  34.6735,2,  34.6745,2,    141.6,2,   141.2,2,  149.63,2,   36.33,2,       0,2,    2.62,2,   0.010,2,   0.013,2,   0.006,2,     0.04,2,    2330,2, 2414.16,2,   7.5496,2,       25,-999.000,9,-999.0000,9, -999.00,9, -999.00,9,  -999.0,9,  -999.0,-999.000,9,-999.000,     -999.0,9, -999.00,9, -999.00,9, -999.00,9,     -999.0,9,  -999.0,9, 20130420,      923,  29.9998, 161.1563,     34.838,2,     -999.0,9,     -999.0,9,     1.5188,2,     -999.0,9,     -999.0,9,-999.0000, -999.00,-999.000