BOTTLE,20220817CCHSIOAMB
EXPOCODE,SECT_ID,STNNBR,CASTNO,SAMPNO,BTLNBR,BTLNBR_FLAG_W,DATE,TIME,LATITUDE,LONGITUDE,DEPTH,CTDPRS,CTDTMP,CTDSAL,CTDSAL_FLAG_W,SALNTY,SALNTY_FLAG_W,CTDOXY,CTDOXY_FLAG_W,OXYGEN,OXYGEN_FLAG_W,SILCAT,SILCAT_FLAG_W,NITRAT,NITRAT_FLAG_W,NITRIT,NITRIT_FLAG_W,PHSPHT,PHSPHT_FLAG_W,CFC-11,CFC-11_FLAG_W,CFC-12,CFC-12_FLAG_W,CFC113,CFC113_FLAG_W,SF6,SF6_FLAG_W,TCARBN,TCARBN_FLAG_W,ALKALI,ALKALI_FLAG_W,PH_TOT,PH_TOT_FLAG_W,PH_TMP,TRITUM,TRITUM_FLAG_W,HELIUM,HELIUM_FLAG_W,DELHE3,DELHE3_FLAG_W,DELC13,DELC13_FLAG_W,DELC14,DELC14_FLAG_W,C14ERR,NEON,NEON_FLAG_W,NEONER,I-129,I-129_FLAG_W,SR-90,SR-90_FLAG_W,DOC,DOC_FLAG_W,TDN,TDN_FLAG_W,CALCIUM,CALCIUM_FLAG_W,D15N_NO3,D15N_NO3_FLAG_W,BTL_DATE,BTL_TIME,BTL_LAT,BTL_LON,SALTREF,SALTREF_FLAG_W,CS-137,CS-137_FLAG_W,CS-134,CS-134_FLAG_W,REFTMP,REFTMP_FLAG_W,LAB_DEN,LAB_DEN_FLAG_W,D18O_NO3,D18O_NO3_FLAG_W,HELIER,DELHER,TRITER
,,,,,,,,,,,METERS,DBAR,ITS-90,PSS-78,,PSS-78,,UMOL/KG,,UMOL/KG,,UMOL/KG,,UMOL/KG,,UMOL/KG,,UMOL/KG,,PMOL/KG,,PMOL/KG,,PMOL/KG,,FMOL/KG,,UMOL/KG,,UMOL/KG,,,,DEG C,TU,,NMOL/KG,,PERCNT,,/MILLE,,/MILLE,,/MILLE,NMOL/KG,,NMOL/KG,BQ/M^3,,DM/.1MG,,UMOL/KG,,UMOL/KG,,MMOL/KG,,/MILLE,,,,,,G/KG,,BQ/M^3,,BQ/M^3,,ITS-90,,,,/MILLE,,NMOL/KG,PERCNT,TU
318M20130321,       P02E,     137,          1,          5,         37,2,20130527,       1912,    29.9995,  -126.4515,       4335,    3550,   1.5194,  34.6765,2,  34.6759,2,    130.3,2,   129.5,2,  170.42,2,   37.67,2,       0,2,    2.63,2,   0.007,2,   0.008,2,-999.000,1,        0,2,  -999.0,9, -999.00,9,-999.0000,9,  -999.00,-999.000,9,-999.0000,9, -999.00,9,    0.01,2,  -234.5,2,     1.9,-999.000,9,-999.000,     -999.0,9, -999.00,9, -999.00,9, -999.00,9,     -999.0,9,  -999.0,9, 20130527,     1931,  29.9996,-126.4519,    34.8394,2,     -999.0,9,     -999.0,9,     1.5189,2,     -999.0,9,     -999.0,9,-999.0000, -999.00,-999.000
318M20130321,       P02E,     137,          1,          4,          4,2,20130527,       1912,    29.9995,  -126.4515,       4335,  3856.6,   1.5014,  34.6816,2,  34.6812,2,    135.6,2,   136.2,2,  168.27,2,   37.22,2,       0,2,    2.61,2,   0.007,2,   0.010,2,-999.000,1,        0,2,  2341.9,2, 2429.66,6,   7.5532,2,       25,-999.000,9,-999.0000,9, -999.00,9,   -0.01,2,  -224.6,2,     3.1,-999.000,9,-999.000,     -999.0,9, -999.00,9,   37.32,2, -999.00,9,     -999.0,9,  -999.0,9, 20130527,     1925,  29.9998,-126.4515,    34.8448,2,     -999.0,9,     -999.0,9,     1.5017,2,     -999.0,9,     -999.0,9,-999.0000, -999.00,-999.000
318M20130321,       P02E,     137,          1,          3,          3,2,20130527,       1912,    29.9995,  -126.4515,       4335,  4231.3,   1.5215,  34.6838,2,  34.6832,2,    140.2,2,     140,2,  166.81,2,   36.97,2,       0,2,    2.58,2,   0.005,2,   0.007,2,-999.000,1,        0,2,  -999.0,9, -999.00,9,-999.0000,9,  -999.00,-999.000,9,-999.0000,9, -999.00,9,    0.07,2,  -225.0,2,     2.8,-999.000,9,-999.000,     -999.0,9, -999.00,9, -999.00,5, -999.00,9,     -999.0,9,  -999.0,9, 20130527,     1917,  29.9995,-126.4517,    34.8467,2,     -999.0,9,     -999.0,9,     1.5213,2,     -999.0,9,     -999.0,9,-999.0000, -999.00,-999.000
318M20130321,       P02E,     137,          1,          2,          2,2,20130527,       1912,    29.9995,  -126.4515,       4335,  4389.5,   1.5364,   34.684,2,  34.6834,2,    140.7,2,   140.6,2,  166.22,2,   37.01,2,       0,2,    2.57,2,   0.006,2,   0.008,2,-999.000,1,        0,2,  2339.9,6, 2430.26,2,   7.5611,2,       25,-999.000,9,-999.0000,9, -999.00,9,    0.07,2,  -230.4,2,     2.4,-999.000,9,-999.000,     -999.0,9, -999.00,9,   37.05,2, -999.00,9,     -999.0,9,  -999.0,9, 20130527,     1913,  29.9995,-126.4516,    34.8469,2,     -999.0,9,     -999.0,9,     1.5363,2,     -999.0,9,     -999.0,9,-999.0000, -999.00,-999.000