BOTTLE,20220817CCHSIOAMB
EXPOCODE,SECT_ID,STNNBR,CASTNO,SAMPNO,BTLNBR,BTLNBR_FLAG_W,DATE,TIME,LATITUDE,LONGITUDE,DEPTH,CTDPRS,CTDTMP,CTDSAL,CTDSAL_FLAG_W,SALNTY,SALNTY_FLAG_W,CTDOXY,CTDOXY_FLAG_W,OXYGEN,OXYGEN_FLAG_W,SILCAT,SILCAT_FLAG_W,NITRAT,NITRAT_FLAG_W,NITRIT,NITRIT_FLAG_W,PHSPHT,PHSPHT_FLAG_W,CFC-11,CFC-11_FLAG_W,CFC-12,CFC-12_FLAG_W,CFC113,CFC113_FLAG_W,SF6,SF6_FLAG_W,TCARBN,TCARBN_FLAG_W,ALKALI,ALKALI_FLAG_W,PH_TOT,PH_TOT_FLAG_W,PH_TMP,TRITUM,TRITUM_FLAG_W,HELIUM,HELIUM_FLAG_W,DELHE3,DELHE3_FLAG_W,DELC13,DELC13_FLAG_W,DELC14,DELC14_FLAG_W,C14ERR,NEON,NEON_FLAG_W,NEONER,I-129,I-129_FLAG_W,SR-90,SR-90_FLAG_W,DOC,DOC_FLAG_W,TDN,TDN_FLAG_W,CALCIUM,CALCIUM_FLAG_W,D15N_NO3,D15N_NO3_FLAG_W,BTL_DATE,BTL_TIME,BTL_LAT,BTL_LON,SALTREF,SALTREF_FLAG_W,CS-137,CS-137_FLAG_W,CS-134,CS-134_FLAG_W,REFTMP,REFTMP_FLAG_W,LAB_DEN,LAB_DEN_FLAG_W,D18O_NO3,D18O_NO3_FLAG_W,HELIER,DELHER,TRITER
,,,,,,,,,,,METERS,DBAR,ITS-90,PSS-78,,PSS-78,,UMOL/KG,,UMOL/KG,,UMOL/KG,,UMOL/KG,,UMOL/KG,,UMOL/KG,,PMOL/KG,,PMOL/KG,,PMOL/KG,,FMOL/KG,,UMOL/KG,,UMOL/KG,,,,DEG C,TU,,NMOL/KG,,PERCNT,,/MILLE,,/MILLE,,/MILLE,NMOL/KG,,NMOL/KG,BQ/M^3,,DM/.1MG,,UMOL/KG,,UMOL/KG,,MMOL/KG,,/MILLE,,,,,,G/KG,,BQ/M^3,,BQ/M^3,,ITS-90,,,,/MILLE,,NMOL/KG,PERCNT,TU
318M20130321,       P02W,      49,          1,         36,         36,2,20130420,       1546,    30.0017,   161.7337,       5988,     2.7,  19.0201,  34.7786,2,  34.7711,2,    232.5,2,     233,2,    2.05,2,       0,2,       0,2,    0.02,2,   2.421,2,   1.481,2,   0.197,2,     1.46,2,  2006.6,6, 2281.71,2,     8.01,2,       25,-999.000,9,-999.0000,9, -999.00,9, -999.00,9,  -999.0,9,  -999.0,-999.000,9,-999.000,     -999.0,9, -999.00,9,   59.63,2,     4.4,2,     -999.0,9,  -999.0,9, 20130420,     1831,  30.0001, 161.7335,     34.935,2,     -999.0,9,     -999.0,9,    19.0191,2,     -999.0,9,     -999.0,9,-999.0000, -999.00,-999.000
318M20130321,       P02W,      49,          1,         35,         35,2,20130420,       1546,    30.0017,   161.7337,       5988,    19.2,  19.0452,  34.8067,2,  34.8061,2,    232.3,2,   233.2,2,    1.95,2,       0,2,       0,2,    0.02,2,-999.000,9,-999.000,9,-999.000,9,-999.0000,9,  2008.2,2, 2284.01,2,   8.0127,6,       25,-999.000,9,-999.0000,9, -999.00,9, -999.00,9,  -999.0,9,  -999.0,-999.000,9,-999.000,     -999.0,9, -999.00,9,   56.66,2,    3.87,2,     -999.0,9,  -999.0,9, 20130420,     1829,  30.0001, 161.7333,    34.9702,2,     -999.0,9,     -999.0,9,    19.0468,2,     -999.0,9,     -999.0,9,-999.0000, -999.00,-999.000
318M20130321,       P02W,      49,          1,         34,         34,2,20130420,       1546,    30.0017,   161.7337,       5988,    39.8,  18.9417,  34.8529,2,  34.8527,2,    232.1,2,   232.8,2,    1.95,2,       0,2,       0,2,    0.02,2,   2.412,2,   1.464,2,   0.205,2,     1.53,2,  2011.9,2, 2286.21,6,   8.0101,2,       25,-999.000,9,-999.0000,9, -999.00,9, -999.00,9,  -999.0,9,  -999.0,-999.000,9,-999.000,     -999.0,9, -999.00,9,   58.11,2,    4.07,2,     -999.0,9,  -999.0,9, 20130420,     1827,       30, 161.7332,     35.017,2,     -999.0,9,     -999.0,9,     18.941,2,     -999.0,9,     -999.0,9,-999.0000, -999.00,-999.000
318M20130321,       P02W,      49,          1,         33,         33,2,20130420,       1546,    30.0017,   161.7337,       5988,    65.8,  18.8547,  34.8413,2,  34.8403,2,    232.7,2,   233.2,2,    1.95,2,       0,2,       0,2,    0.02,2,-999.000,9,-999.000,9,-999.000,9,-999.0000,9,  2010.9,2, 2286.51,2,   8.0077,2,       25,-999.000,9,-999.0000,9, -999.00,9, -999.00,9,  -999.0,9,  -999.0,-999.000,9,-999.000,     -999.0,9, -999.00,9,   60.39,2,    3.76,2,     -999.0,9,  -999.0,9, 20130420,     1824,  29.9999, 161.7329,    35.0046,2,     -999.0,9,     -999.0,9,    18.8565,2,     -999.0,9,     -999.0,9,-999.0000, -999.00,-999.000
318M20130321,       P02W,      49,          1,         32,         32,2,20130420,       1546,    30.0017,   161.7337,       5988,    90.2,   18.364,  34.7978,2,  34.7966,2,    232.9,2,   233.6,2,    1.95,2,       0,2,    0.04,2,    0.05,2,   2.450,2,   1.489,2,   0.206,2,     1.56,2,  -999.0,9, -999.00,9,-999.0000,9,  -999.00,-999.000,9,-999.0000,9, -999.00,9, -999.00,9,  -999.0,9,  -999.0,-999.000,9,-999.000,     -999.0,9, -999.00,9,   61.72,2,    4.91,2,     -999.0,9,  -999.0,9, 20130420,     1822,  29.9998, 161.7328,    34.9607,2,     -999.0,9,     -999.0,9,    18.3623,2,     -999.0,9,     -999.0,9,-999.0000, -999.00,-999.000
318M20130321,       P02W,      49,          1,         31,         31,2,20130420,       1546,    30.0017,   161.7337,       5988,   136.2,  17.8723,  34.7403,2,  34.7434,2,    229.3,2,   226.2,2,    2.34,2,    1.21,2,    0.06,2,    0.12,2,   2.492,2,   1.530,2,   0.180,2,     1.53,2,  2017.7,2, 2280.01,2,   7.9862,2,       25,-999.000,9,-999.0000,9, -999.00,9, -999.00,9,  -999.0,9,  -999.0,-999.000,9,-999.000,     -999.0,9, -999.00,9,   56.96,2,    4.42,2,     -999.0,9,  -999.0,9, 20130420,     1820,  29.9996, 161.7331,    34.9072,2,     -999.0,9,     -999.0,9,    17.8717,2,     -999.0,9,     -999.0,9,-999.0000, -999.00,-999.000
318M20130321,       P02W,      49,          1,         30,         30,2,20130420,       1546,    30.0017,   161.7337,       5988,   185.2,  17.1785,  34.6865,2,  34.6856,2,    215.2,2,   213.2,2,    3.51,2,    3.66,2,    0.02,2,    0.26,2,-999.000,9,-999.000,9,-999.000,9,-999.0000,9,  -999.0,9, -999.00,9,-999.0000,9,  -999.00,-999.000,9,-999.0000,9, -999.00,9, -999.00,9,  -999.0,9,  -999.0,-999.000,9,-999.000,     -999.0,9, -999.00,9,    54.4,2,     7.2,2,     -999.0,9,  -999.0,9, 20130420,     1818,  29.9994, 161.7336,    34.8491,2,     -999.0,9,     -999.0,9,    17.1723,2,     -999.0,9,     -999.0,9,-999.0000, -999.00,-999.000
318M20130321,       P02W,      49,          1,         29,         29,2,20130420,       1546,    30.0017,   161.7337,       5988,   238.1,  16.5675,  34.6583,2,  34.6549,2,    210.9,2,   214.4,2,    4.59,2,     4.8,2,    0.02,2,    0.34,2,   2.584,2,   1.573,2,   0.086,2,     1.43,2,  2036.8,2, 2274.71,2,   7.9423,2,       25,-999.000,9,-999.0000,9, -999.00,9, -999.00,9,  -999.0,9,  -999.0,-999.000,9,-999.000,     -999.0,9, -999.00,9,   48.78,2,    8.04,2,     -999.0,9,  -999.0,9, 20130420,     1815,  29.9991, 161.7341,    34.8184,2,     -999.0,9,     -999.0,9,    16.5742,2,     -999.0,9,     -999.0,9,-999.0000, -999.00,-999.000
318M20130321,       P02W,      49,          1,         28,         28,2,20130420,       1546,    30.0017,   161.7337,       5988,   286.6,  16.0397,  34.6139,2,  34.6133,2,    209.8,2,   211.1,2,    5.56,2,    5.82,2,    0.01,2,    0.41,2,   2.678,2,   1.602,2,   0.065,2,     1.31,2,  -999.0,9, -999.00,9,-999.0000,9,  -999.00,-999.000,9,-999.0000,9, -999.00,9, -999.00,9,  -999.0,9,  -999.0,-999.000,9,-999.000,     -999.0,9, -999.00,9,    48.7,2,    9.44,2,     -999.0,9,  -999.0,9, 20130420,     1813,  29.9989, 161.7344,    34.7765,2,     -999.0,9,     -999.0,9,    16.0423,2,     -999.0,9,     -999.0,9,-999.0000, -999.00,-999.000
318M20130321,       P02W,      49,          1,         27,         27,2,20130420,       1546,    30.0017,   161.7337,       5988,   336.7,   15.177,  34.5457,2,  34.5467,2,    207.5,2,     207,2,    7.52,2,     7.4,2,    0.01,2,    0.53,2,   2.777,2,   1.625,2,   0.057,2,     1.37,2,  2059.3,2, 2270.71,2,   7.8922,2,       25,-999.000,9,-999.0000,9, -999.00,9, -999.00,9,  -999.0,9,  -999.0,-999.000,9,-999.000,     -999.0,9, -999.00,9,   46.21,2,   10.36,2,     -999.0,9,  -999.0,9, 20130420,     1811,  29.9988, 161.7346,    34.7096,2,     -999.0,9,     -999.0,9,    15.1685,2,     -999.0,9,     -999.0,9,-999.0000, -999.00,-999.000
318M20130321,       P02W,      49,          1,         26,         26,2,20130420,       1546,    30.0017,   161.7337,       5988,   387.6,   14.172,  34.4769,2,  34.4754,2,    204.6,2,   205.3,2,    9.86,2,    9.22,2,    0.01,2,    0.65,2,-999.000,9,-999.000,9,-999.000,9,-999.0000,9,  -999.0,9, -999.00,9,-999.0000,9,  -999.00,-999.000,9,-999.0000,9, -999.00,9, -999.00,9,  -999.0,9,  -999.0,-999.000,9,-999.000,     -999.0,9, -999.00,9,   47.88,2, -999.00,9,     -999.0,9,  -999.0,9, 20130420,     1809,  29.9987, 161.7347,     34.638,2,     -999.0,9,     -999.0,9,    14.1714,2,     -999.0,9,     -999.0,9,-999.0000, -999.00,-999.000
318M20130321,       P02W,      49,          1,         25,         25,2,20130420,       1546,    30.0017,   161.7337,       5988,     468,  12.3176,  34.3566,2,  34.3557,2,    205.3,2,   204.3,2,   15.04,2,    12.4,2,    0.01,2,    0.88,2,   3.102,2,   1.764,2,   0.083,2,     1.28,2,  2097.2,2, 2267.21,2,   7.8119,2,       25,-999.000,9,-999.0000,9, -999.00,9, -999.00,9,  -999.0,9,  -999.0,-999.000,9,-999.000,     -999.0,9, -999.00,9,   46.31,2, -999.00,9,     -999.0,9,  -999.0,9, 20130420,     1806,  29.9987, 161.7344,    34.5177,2,     -999.0,9,     -999.0,9,    12.3193,2,     -999.0,9,     -999.0,9,-999.0000, -999.00,-999.000
318M20130321,       P02W,      49,          1,         24,         24,2,20130420,       1546,    30.0017,   161.7337,       5988,   569.2,   9.8372,  34.1756,2,  34.1751,2,    190.8,2,   192.7,2,   25.58,2,   17.95,2,    0.01,2,    1.29,2,   3.240,2,   1.775,2,   0.117,2,     1.07,2,  -999.0,9, -999.00,9,-999.0000,9,  -999.00,-999.000,9,-999.0000,9, -999.00,9, -999.00,9,  -999.0,9,  -999.0,-999.000,9,-999.000,     -999.0,9, -999.00,9,   46.19,2, -999.00,9,     -999.0,9,  -999.0,9, 20130420,     1803,  29.9988, 161.7341,    34.3362,2,     -999.0,9,     -999.0,9,     9.8378,2,     -999.0,9,     -999.0,9,-999.0000, -999.00,-999.000
318M20130321,       P02W,      49,          1,         23,         23,2,20130420,       1546,    30.0017,   161.7337,       5988,     670,   7.3979,  34.0495,2,    34.05,2,      157,2,   156.7,2,    45.8,2,   25.74,2,       0,2,    1.87,2,   2.891,2,   1.511,2,   0.118,2,      0.9,2,  2191.3,2, 2279.51,2,   7.5943,2,       25,-999.000,9,-999.0000,9, -999.00,9, -999.00,9,  -999.0,9,  -999.0,-999.000,9,-999.000,     -999.0,9, -999.00,9,   42.59,2, -999.00,9,     -999.0,9,  -999.0,9, 20130420,     1759,  29.9988, 161.7337,    34.2106,2,     -999.0,9,     -999.0,9,     7.3988,2,     -999.0,9,     -999.0,9,-999.0000, -999.00,-999.000
318M20130321,       P02W,      49,          1,         22,         22,2,20130420,       1546,    30.0017,   161.7337,       5988,   771.5,   5.5978,  34.0399,2,  34.0397,2,      111,2,   109.8,2,   70.21,2,   33.07,2,       0,2,    2.41,2,   2.094,2,   1.092,2,   0.092,2,     0.51,2,  -999.0,9, -999.00,9,-999.0000,9,  -999.00,-999.000,9,-999.0000,9, -999.00,9, -999.00,9,  -999.0,9,  -999.0,-999.000,9,-999.000,     -999.0,9, -999.00,9,    40.1,2, -999.00,9,     -999.0,9,  -999.0,9, 20130420,     1756,  29.9988, 161.7335,    34.2002,2,     -999.0,9,     -999.0,9,     5.6061,2,     -999.0,9,     -999.0,9,-999.0000, -999.00,-999.000
318M20130321,       P02W,      49,          1,         21,         21,2,20130420,       1546,    30.0017,   161.7337,       5988,   871.9,   4.6964,   34.131,2,  34.1304,2,     65.3,2,    66.3,2,   91.79,2,   38.28,2,       0,2,    2.77,2,   1.124,2,   0.574,2,   0.034,2,     0.19,2,  2300.3,2, 2319.52,2,   7.3794,2,       25,-999.000,9,-999.0000,9, -999.00,9, -999.00,9,  -999.0,9,  -999.0,-999.000,9,-999.000,     -999.0,9, -999.00,9,   41.29,2, -999.00,9,     -999.0,9,  -999.0,9, 20130420,     1753,  29.9989, 161.7333,    34.2913,2,     -999.0,9,     -999.0,9,     4.6941,2,     -999.0,9,     -999.0,9,-999.0000, -999.00,-999.000
318M20130321,       P02W,      49,          1,         20,         20,2,20130420,       1546,    30.0017,   161.7337,       5988,   970.1,   4.1159,  34.2135,2,  34.2129,2,     47.9,2,    47.6,2,  108.19,2,   40.62,2,       0,2,    2.94,2,   0.684,2,   0.346,2,   0.030,2,     0.07,2,  -999.0,9, -999.00,9,-999.0000,9,  -999.00,-999.000,9,-999.0000,9, -999.00,9, -999.00,9,  -999.0,9,  -999.0,-999.000,9,-999.000,     -999.0,9, -999.00,9,    40.4,2, -999.00,9,     -999.0,9,  -999.0,9, 20130420,     1750,  29.9989, 161.7331,    34.3743,2,     -999.0,9,     -999.0,9,     4.1125,2,     -999.0,9,     -999.0,9,-999.0000, -999.00,-999.000
318M20130321,       P02W,      49,          1,         19,         19,2,20130420,       1546,    30.0017,   161.7337,       5988,  1072.9,   3.6865,  34.2935,2,  34.2928,2,     38.6,2,    37.8,2,  120.77,2,      42,2,       0,2,    3.05,2,   0.363,2,   0.184,2,   0.014,2,     0.05,2,  2348.7,2, 2353.24,2,   7.3312,6,       25,-999.000,9,-999.0000,9, -999.00,9, -999.00,9,  -999.0,9,  -999.0,-999.000,9,-999.000,     -999.0,9, -999.00,9,   36.81,2, -999.00,9,     -999.0,9,  -999.0,9, 20130420,     1747,   29.999, 161.7327,    34.4545,2,     -999.0,9,     -999.0,9,     3.6866,2,     -999.0,9,     -999.0,9,-999.0000, -999.00,-999.000
318M20130321,       P02W,      49,          1,         18,         18,2,20130420,       1546,    30.0017,   161.7337,       5988,  1145.1,     3.45,  34.3298,2,  34.3285,2,     37.4,2,    38.6,2,     128,2,   42.12,2,       0,2,    3.06,2,   0.333,2,   0.159,2,   0.010,2,        0,2,  2355.1,2, 2359.14,2,   7.3331,2,       25,-999.000,9,-999.0000,9, -999.00,9, -999.00,9,  -999.0,9,  -999.0,-999.000,9,-999.000,     -999.0,9, -999.00,9,   37.08,2, -999.00,9,     -999.0,9,  -999.0,9, 20130420,     1744,   29.999, 161.7326,    34.4903,2,     -999.0,9,     -999.0,9,     3.4502,2,     -999.0,9,     -999.0,9,-999.0000, -999.00,-999.000
318M20130321,       P02W,      49,          1,         17,         17,2,20130420,       1546,    30.0017,   161.7337,       5988,  1247.7,   3.1502,  34.3825,2,  34.3817,2,     33.7,2,    33.7,2,  137.07,2,   42.82,2,       0,2,    3.09,2,-999.000,9,-999.000,9,-999.000,9,-999.0000,9,  2366.6,2, 2371.24,2,    7.332,2,       25,-999.000,9,-999.0000,9, -999.00,9, -999.00,9,  -999.0,9,  -999.0,-999.000,9,-999.000,     -999.0,9, -999.00,9,   35.42,2, -999.00,9,     -999.0,9,  -999.0,9, 20130420,     1741,  29.9992, 161.7325,    34.5438,2,     -999.0,9,     -999.0,9,     3.1505,2,     -999.0,9,     -999.0,9,-999.0000, -999.00,-999.000
318M20130321,       P02W,      49,          1,         16,         16,2,20130420,       1546,    30.0017,   161.7337,       5988,  1345.7,   2.9173,  34.4349,2,  34.4333,2,     35.6,2,    35.1,2,  143.51,2,   43.04,2,       0,2,     3.1,2,   0.088,2,   0.049,2,   0.000,2,        0,2,  2373.7,2, 2381.45,2,   7.3368,2,       25,-999.000,9,-999.0000,9, -999.00,9, -999.00,9,  -999.0,9,  -999.0,-999.000,9,-999.000,     -999.0,9, -999.00,9,   37.53,2, -999.00,9,     -999.0,9,  -999.0,9, 20130420,     1738,  29.9992, 161.7324,    34.5956,2,     -999.0,9,     -999.0,9,     2.9162,2,     -999.0,9,     -999.0,9,-999.0000, -999.00,-999.000
318M20130321,       P02W,      49,          1,         15,         15,2,20130420,       1546,    30.0017,   161.7337,       5988,  1549.9,   2.5096,   34.504,2,  34.5036,2,     42.7,2,    41.7,2,  155.12,2,   42.95,2,       0,2,    3.08,2,   0.030,2,   0.023,2,   0.000,2,        0,2,  2379.6,2, 2395.95,2,   7.3543,2,       25,-999.000,9,-999.0000,9, -999.00,9, -999.00,9,  -999.0,9,  -999.0,-999.000,9,-999.000,     -999.0,9, -999.00,9,   35.29,2, -999.00,9,     -999.0,9,  -999.0,9, 20130420,     1733,  29.9995,  161.732,    34.6663,2,     -999.0,9,     -999.0,9,     2.5096,2,     -999.0,9,     -999.0,9,-999.0000, -999.00,-999.000
318M20130321,       P02W,      49,          1,         14,         14,2,20130420,       1546,    30.0017,   161.7337,       5988,  1752.2,   2.2498,  34.5534,2,  34.5534,2,     57.7,2,    57.9,2,  158.63,2,   41.97,2,       0,2,       3,2,-999.000,9,-999.000,9,-999.000,9,-999.0000,9,  2376.9,6, 2404.85,2,   7.3905,6,       25,-999.000,9,-999.0000,9, -999.00,9, -999.00,9,  -999.0,9,  -999.0,-999.000,9,-999.000,     -999.0,9, -999.00,9, -999.00,9, -999.00,9,     -999.0,9,  -999.0,9, 20130420,     1728,  29.9998, 161.7319,    34.7164,2,     -999.0,9,     -999.0,9,     2.2492,2,     -999.0,9,     -999.0,9,-999.0000, -999.00,-999.000
318M20130321,       P02W,      49,          1,         13,         13,2,20130420,       1546,    30.0017,   161.7337,       5988,  1946.8,    2.058,  34.5869,2,   34.587,2,       73,2,    74.9,2,   159.6,2,   40.94,2,       0,2,    2.92,2,   0.005,2,   0.012,2,   0.000,2,        0,2,    2368,2, 2409.36,2,   7.4254,2,       25,-999.000,9,-999.0000,9, -999.00,9, -999.00,9,  -999.0,9,  -999.0,-999.000,9,-999.000,     -999.0,9, -999.00,9,   35.55,2, -999.00,9,     -999.0,9,  -999.0,9, 20130420,     1723,  30.0003,  161.732,    34.7501,2,     -999.0,9,     -999.0,9,     2.0572,2,     -999.0,9,     -999.0,9,-999.0000, -999.00,-999.000
318M20130321,       P02W,      49,          1,         12,         12,2,20130420,       1546,    30.0017,   161.7337,       5988,  2190.4,   1.8639,  34.6155,2,  34.6155,2,     89.7,2,    90.3,2,  160.77,2,   39.94,2,       0,2,    2.84,2,-999.000,9,-999.000,9,-999.000,9,-999.0000,9,  -999.0,9, -999.00,9,-999.0000,9,  -999.00,-999.000,9,-999.0000,9, -999.00,9, -999.00,9,  -999.0,9,  -999.0,-999.000,9,-999.000,     -999.0,9, -999.00,9, -999.00,9, -999.00,9,     -999.0,9,  -999.0,9, 20130420,     1718,  30.0011, 161.7316,    34.7788,2,     -999.0,9,     -999.0,9,     1.8635,2,     -999.0,9,     -999.0,9,-999.0000, -999.00,-999.000
318M20130321,       P02W,      49,          1,         11,         11,2,20130420,       1546,    30.0017,   161.7337,       5988,  2449.5,   1.7291,  34.6363,2,  34.6358,2,    105.6,2,   105.2,2,   159.4,2,   39.01,2,       0,2,    2.77,2,-999.000,9,-999.000,9,-999.000,9,-999.0000,9,  2354.4,2, 2414.56,2,   7.4847,2,       25,-999.000,9,-999.0000,9, -999.00,9, -999.00,9,  -999.0,9,  -999.0,-999.000,9,-999.000,     -999.0,9, -999.00,9,   34.24,2, -999.00,9,     -999.0,9,  -999.0,9, 20130420,     1712,  30.0019, 161.7312,    34.7991,2,     -999.0,9,     -999.0,9,     1.7294,2,     -999.0,9,     -999.0,9,-999.0000, -999.00,-999.000
318M20130321,       P02W,      49,          1,         10,         10,2,20130420,       1546,    30.0017,   161.7337,       5988,  2701.5,   1.6401,  34.6503,2,  34.6497,2,    115.5,2,   116.7,2,  157.83,2,   37.97,2,       0,2,    2.71,2,   0.006,2,   0.008,2,   0.001,2,        0,2,  -999.0,9, -999.00,9,-999.0000,9,  -999.00,-999.000,9,-999.0000,9, -999.00,9, -999.00,9,  -999.0,9,  -999.0,-999.000,9,-999.000,     -999.0,9, -999.00,9, -999.00,9, -999.00,9,     -999.0,9,  -999.0,9, 20130420,     1706,  30.0026, 161.7309,    34.8131,2,     -999.0,9,     -999.0,9,       1.64,2,     -999.0,9,     -999.0,9,-999.0000, -999.00,-999.000
318M20130321,       P02W,      49,          1,          9,          9,2,20130420,       1546,    30.0017,   161.7337,       5988,    2949,   1.5912,  34.6596,2,  34.6592,2,    125.3,2,   125.4,2,  155.69,2,   37.67,2,       0,2,    2.66,2,-999.000,9,-999.000,9,-999.000,9,-999.0000,9,  2341.6,2, 2415.66,2,   7.5245,2,       25,-999.000,9,-999.0000,9, -999.00,9, -999.00,9,  -999.0,9,  -999.0,-999.000,9,-999.000,     -999.0,9, -999.00,9,   35.13,2, -999.00,9,     -999.0,9,  -999.0,9, 20130420,     1701,  30.0026, 161.7308,    34.8226,2,     -999.0,9,     -999.0,9,      1.591,2,     -999.0,9,     -999.0,9,-999.0000, -999.00,-999.000
318M20130321,       P02W,      49,          1,          8,          8,2,20130420,       1546,    30.0017,   161.7337,       5988,  3241.8,   1.5468,  34.6673,2,   34.667,2,    133.2,2,   132.6,2,   155.2,2,   37.25,2,       0,2,    2.63,2,-999.000,9,-999.000,9,-999.000,9,-999.0000,9,  -999.0,9, -999.00,9,-999.0000,9,  -999.00,-999.000,9,-999.0000,9, -999.00,9, -999.00,9,  -999.0,9,  -999.0,-999.000,9,-999.000,     -999.0,9, -999.00,9, -999.00,9, -999.00,9,     -999.0,9,  -999.0,9, 20130420,     1654,  30.0021, 161.7319,    34.8305,2,     -999.0,9,     -999.0,9,      1.547,2,     -999.0,9,     -999.0,9,-999.0000, -999.00,-999.000