BOTTLE,20220817CCHSIOAMB
EXPOCODE,SECT_ID,STNNBR,CASTNO,SAMPNO,BTLNBR,BTLNBR_FLAG_W,DATE,TIME,LATITUDE,LONGITUDE,DEPTH,CTDPRS,CTDTMP,CTDSAL,CTDSAL_FLAG_W,SALNTY,SALNTY_FLAG_W,CTDOXY,CTDOXY_FLAG_W,OXYGEN,OXYGEN_FLAG_W,SILCAT,SILCAT_FLAG_W,NITRAT,NITRAT_FLAG_W,NITRIT,NITRIT_FLAG_W,PHSPHT,PHSPHT_FLAG_W,CFC-11,CFC-11_FLAG_W,CFC-12,CFC-12_FLAG_W,CFC113,CFC113_FLAG_W,SF6,SF6_FLAG_W,TCARBN,TCARBN_FLAG_W,ALKALI,ALKALI_FLAG_W,PH_TOT,PH_TOT_FLAG_W,PH_TMP,TRITUM,TRITUM_FLAG_W,HELIUM,HELIUM_FLAG_W,DELHE3,DELHE3_FLAG_W,DELC13,DELC13_FLAG_W,DELC14,DELC14_FLAG_W,C14ERR,NEON,NEON_FLAG_W,NEONER,I-129,I-129_FLAG_W,SR-90,SR-90_FLAG_W,DOC,DOC_FLAG_W,TDN,TDN_FLAG_W,CALCIUM,CALCIUM_FLAG_W,D15N_NO3,D15N_NO3_FLAG_W,BTL_DATE,BTL_TIME,BTL_LAT,BTL_LON,SALTREF,SALTREF_FLAG_W,CS-137,CS-137_FLAG_W,CS-134,CS-134_FLAG_W,REFTMP,REFTMP_FLAG_W,LAB_DEN,LAB_DEN_FLAG_W,D18O_NO3,D18O_NO3_FLAG_W,HELIER,DELHER,TRITER
,,,,,,,,,,,METERS,DBAR,ITS-90,PSS-78,,PSS-78,,UMOL/KG,,UMOL/KG,,UMOL/KG,,UMOL/KG,,UMOL/KG,,UMOL/KG,,PMOL/KG,,PMOL/KG,,PMOL/KG,,FMOL/KG,,UMOL/KG,,UMOL/KG,,,,DEG C,TU,,NMOL/KG,,PERCNT,,/MILLE,,/MILLE,,/MILLE,NMOL/KG,,NMOL/KG,BQ/M^3,,DM/.1MG,,UMOL/KG,,UMOL/KG,,MMOL/KG,,/MILLE,,,,,,G/KG,,BQ/M^3,,BQ/M^3,,ITS-90,,,,/MILLE,,NMOL/KG,PERCNT,TU
318M20130321,       P02E,      94,          1,         36,         36,2,20130514,       0105,    29.9997,  -160.5927,       5706,     2.5,  18.9428,  34.5083,2,  34.5101,2,    235.3,2,   235.2,2,    2.73,2,       0,2,    0.01,2,    0.02,2,   2.136,6,   1.290,6,-999.000,5,   1.5294,6,  2009.4,2,  2265.9,2,   7.9856,2,       25,-999.000,9,-999.0000,9, -999.00,9, -999.00,9,  -999.0,9,  -999.0,-999.000,9,-999.000,     -999.0,1, -999.00,1, -999.00,9, -999.00,9,     -999.0,9,  -999.0,9, 20130514,      326,  29.9997,-160.5927,    34.6729,2,     -999.0,1,     -999.0,1,    18.9412,2,     -999.0,9,     -999.0,9,-999.0000, -999.00,-999.000
318M20130321,       P02E,      94,          1,         34,         34,2,20130514,       0105,    29.9997,  -160.5927,       5706,    35.1,  18.6921,  34.5873,2,  34.6058,3,      237,2,   237.8,2,    2.83,2,       0,2,    0.01,2,    0.01,2,   2.159,2,   1.296,2,-999.000,5,    1.491,2,  2011.8,2, 2272.51,2,     7.99,6,       25,-999.000,9,-999.0000,9, -999.00,9, -999.00,9,  -999.0,9,  -999.0,-999.000,9,-999.000,     -999.0,9, -999.00,1, -999.00,9, -999.00,9,     -999.0,9,  -999.0,9, 20130514,      323,  30.0001,-160.5927,     34.769,3,     -999.0,1,     -999.0,1,    18.6901,2,     -999.0,9,     -999.0,9,-999.0000, -999.00,-999.000
318M20130321,       P02E,      94,          1,         33,         33,2,20130514,       0105,    29.9997,  -160.5927,       5706,    60.6,  17.6154,  34.5616,2,  34.5885,3,      240,2,   239.2,2,    3.03,2,    0.01,2,    0.01,2,    0.02,2,   2.223,2,   1.329,2,-999.000,5,   1.5767,2,  -999.0,9, -999.00,9,-999.0000,9,  -999.00,-999.000,9,-999.0000,9, -999.00,9, -999.00,9,  -999.0,9,  -999.0,-999.000,9,-999.000,     -999.0,9, -999.00,1, -999.00,9, -999.00,9,     -999.0,9,  -999.0,9, 20130514,      321,  30.0002, -160.593,    34.7516,3,     -999.0,1,     -999.0,1,     17.668,3,     -999.0,9,     -999.0,9,-999.0000, -999.00,-999.000
318M20130321,       P02E,      94,          1,         32,         32,2,20130514,       0105,    29.9997,  -160.5927,       5706,    85.8,  17.1263,  34.5019,2,  34.4984,2,    241.5,2,   241.3,2,    3.03,2,    0.03,2,    0.01,2,    0.04,2,   2.291,2,   1.366,2,-999.000,5,   1.5989,2,  2014.5,2,  2265.7,6,   7.9733,2,       25,-999.000,9,-999.0000,9, -999.00,9, -999.00,9,  -999.0,9,  -999.0,-999.000,9,-999.000,     -999.0,9, -999.00,1, -999.00,9, -999.00,9,     -999.0,9,  -999.0,9, 20130514,      319,  30.0002,-160.5929,     34.661,2,     -999.0,1,     -999.0,1,    17.1264,2,     -999.0,9,     -999.0,9,-999.0000, -999.00,-999.000
318M20130321,       P02E,      94,          1,         31,         31,2,20130514,       0105,    29.9997,  -160.5927,       5706,   114.8,  15.7626,  34.3502,2,  34.3531,2,    241.1,2,   237.6,2,    3.91,2,    1.04,2,     0.2,2,    0.16,2,   2.430,2,   1.444,2,-999.000,5,    1.555,2,  -999.0,9, -999.00,9,-999.0000,9,  -999.00,-999.000,9,-999.0000,9, -999.00,9, -999.00,9,  -999.0,9,  -999.0,-999.000,9,-999.000,     -999.0,9, -999.00,1, -999.00,9, -999.00,9,     -999.0,9,  -999.0,9, 20130514,      317,  30.0001,-160.5927,    34.5151,2,     -999.0,1,     -999.0,1,    15.7675,2,     -999.0,9,     -999.0,9,-999.0000, -999.00,-999.000
318M20130321,       P02E,      94,          1,         30,         30,2,20130514,       0105,    29.9997,  -160.5927,       5706,   165.7,   14.018,  34.3617,2,  34.3622,2,    221.3,2,   221.8,2,    7.22,2,    6.76,2,    0.02,2,    0.48,2,   2.636,2,   1.526,2,-999.000,5,   1.5695,2,  2059.2,2,  2260.5,2,   7.8729,2,       25,-999.000,9,-999.0000,9, -999.00,9, -999.00,9,  -999.0,9,  -999.0,-999.000,9,-999.000,     -999.0,9, -999.00,1, -999.00,9, -999.00,9,     -999.0,9,  -999.0,9, 20130514,      315,  30.0001,-160.5926,    34.5242,2,     -999.0,1,     -999.0,1,     14.022,2,     -999.0,9,     -999.0,9,-999.0000, -999.00,-999.000
318M20130321,       P02E,      94,          1,         29,         29,2,20130514,       0105,    29.9997,  -160.5927,       5706,   215.2,  13.1951,  34.3428,2,  34.3441,2,    217.5,2,   218.1,2,    9.37,2,    8.77,2,    0.01,2,    0.61,2,   2.723,2,   1.563,2,-999.000,5,   1.4653,2,  -999.0,9, -999.00,9,-999.0000,9,  -999.00,-999.000,9,-999.0000,9, -999.00,9, -999.00,9,  -999.0,9,  -999.0,-999.000,9,-999.000,     -999.0,9, -999.00,1, -999.00,9, -999.00,9,     -999.0,9,  -999.0,9, 20130514,      313,  30.0001,-160.5927,    34.5061,2,     -999.0,1,     -999.0,1,    13.2008,2,     -999.0,9,     -999.0,9,-999.0000, -999.00,-999.000
318M20130321,       P02E,      94,          1,         28,         28,2,20130514,       0105,    29.9997,  -160.5927,       5706,     267,  12.1989,   34.302,2,  34.3049,2,    214.8,2,   215.8,2,    12.3,2,   10.98,2,    0.01,2,    0.76,2,   2.838,2,   1.608,2,-999.000,5,   1.4588,2,  2084.4,2,    2262,2,   7.8168,2,       25,-999.000,9,-999.0000,9, -999.00,9, -999.00,9,  -999.0,9,  -999.0,-999.000,9,-999.000,     -999.0,9, -999.00,1, -999.00,9, -999.00,9,     -999.0,9,  -999.0,9, 20130514,      312,       30,-160.5927,    34.4666,2,     -999.0,1,     -999.0,1,    12.2237,2,     -999.0,9,     -999.0,9,-999.0000, -999.00,-999.000
318M20130321,       P02E,      94,          1,         27,         27,2,20130514,       0105,    29.9997,  -160.5927,       5706,     317,  11.4093,   34.257,2,  34.2568,2,    215.1,2,   215.3,2,   15.04,2,   12.71,2,       0,2,    0.89,2,   2.931,2,   1.636,2,-999.000,5,   1.4462,2,  -999.0,9, -999.00,9,-999.0000,9,  -999.00,-999.000,9,-999.0000,9, -999.00,9, -999.00,9,  -999.0,9,  -999.0,-999.000,9,-999.000,     -999.0,9, -999.00,1, -999.00,9, -999.00,9,     -999.0,9,  -999.0,9, 20130514,      310,       30,-160.5926,    34.4184,2,     -999.0,1,     -999.0,1,    11.4072,2,     -999.0,9,     -999.0,9,-999.0000, -999.00,-999.000
318M20130321,       P02E,      94,          1,         26,         26,2,20130514,       0105,    29.9997,  -160.5927,       5706,   367.4,  10.4551,  34.1891,2,    34.19,2,    212.6,2,   212.7,2,   18.36,2,   14.65,2,       0,2,    1.03,2,   3.024,2,   1.671,2,-999.000,5,   1.3292,2,  2110.5,2,  2262.5,2,   7.7627,2,       25,-999.000,9,-999.0000,9, -999.00,9, -999.00,9,  -999.0,9,  -999.0,-999.000,9,-999.000,     -999.0,9, -999.00,1, -999.00,9, -999.00,9,     -999.0,9,  -999.0,9, 20130514,      308,  30.0001,-160.5924,    34.3512,2,     -999.0,1,     -999.0,1,    10.4443,2,     -999.0,9,     -999.0,9,-999.0000, -999.00,-999.000
318M20130321,       P02E,      94,          1,         25,         25,2,20130514,       0105,    29.9997,  -160.5927,       5706,   436.6,   9.2481,  34.1014,2,  34.1029,2,    206.1,2,   202.2,2,   24.41,2,   17.91,2,       0,2,    1.25,2,   3.090,2,   1.659,2,-999.000,5,   1.2477,2,  -999.0,9, -999.00,9,-999.0000,9,  -999.00,-999.000,9,-999.0000,9, -999.00,9, -999.00,9,  -999.0,9,  -999.0,-999.000,9,-999.000,     -999.0,9, -999.00,1, -999.00,9, -999.00,9,     -999.0,9,  -999.0,9, 20130514,      305,       30,-160.5924,    34.2637,2,     -999.0,1,     -999.0,1,     9.2458,2,     -999.0,9,     -999.0,9,-999.0000, -999.00,-999.000
318M20130321,       P02E,      94,          1,         24,         24,2,20130514,       0105,    29.9997,  -160.5927,       5706,   537.4,   7.3607,  34.0133,2,  34.0132,2,    156.4,2,   155.9,2,   42.48,2,   25.97,2,       0,2,    1.83,2,   2.743,2,   1.402,2,-999.000,5,   0.7946,2,  2186.5,2, 2273.41,2,   7.5834,2,       25,-999.000,9,-999.0000,9, -999.00,9, -999.00,9,  -999.0,9,  -999.0,-999.000,9,-999.000,     -999.0,9, -999.00,1, -999.00,9, -999.00,9,     -999.0,9,  -999.0,9, 20130514,      302,  30.0001,-160.5928,    34.1736,2,     -999.0,1,     -999.0,1,     7.3712,2,     -999.0,9,     -999.0,9,-999.0000, -999.00,-999.000
318M20130321,       P02E,      94,          1,         23,         23,2,20130514,       0105,    29.9997,  -160.5927,       5706,     639,    5.811,  33.9981,2,  34.0001,2,    100.6,2,     108,2,   64.26,2,   33.12,2,       0,2,    2.34,2,   1.984,2,   0.979,2,-999.000,5,   0.4045,2,  2243.2,2, 2289.31,2,   7.4596,2,       25,-999.000,9,-999.0000,9, -999.00,9, -999.00,9,  -999.0,9,  -999.0,-999.000,9,-999.000,     -999.0,9, -999.00,1, -999.00,9, -999.00,9,     -999.0,9,  -999.0,9, 20130514,      300,       30,-160.5925,    34.1604,2,     -999.0,1,     -999.0,1,     5.8146,2,     -999.0,9,     -999.0,9,-999.0000, -999.00,-999.000
318M20130321,       P02E,      94,          1,         22,         22,2,20130514,       0105,    29.9997,  -160.5927,       5706,   740.8,   4.6076,  34.0765,2,  34.0792,2,     54.9,2,    57.8,2,   90.23,2,   39.54,2,       0,2,    2.79,2,   0.961,2,   0.450,2,-999.000,5,   0.1861,2,  2303.5,2, 2312.02,2,   7.3463,2,       25,-999.000,9,-999.0000,9, -999.00,9, -999.00,9,  -999.0,9,  -999.0,-999.000,9,-999.000,     -999.0,9, -999.00,9, -999.00,9, -999.00,9,     -999.0,9,  -999.0,9, 20130514,      257,       30,-160.5926,    34.2399,2,     -999.0,9,     -999.0,9,     4.6158,2,     -999.0,9,     -999.0,9,-999.0000, -999.00,-999.000
318M20130321,       P02E,      94,          1,         21,         21,2,20130514,       0105,    29.9997,  -160.5927,       5706,     841,   4.0939,  34.1816,2,  34.1853,2,     23.9,2,    24.3,2,  107.99,2,   42.79,2,       0,2,    3.03,2,   0.229,2,   0.110,2,-999.000,5,    0.071,2,  -999.0,9, -999.00,9,-999.0000,9,  -999.00,-999.000,9,-999.0000,9, -999.00,9, -999.00,9,  -999.0,9,  -999.0,-999.000,9,-999.000,     -999.0,9, -999.00,9, -999.00,9, -999.00,9,     -999.0,9,  -999.0,9, 20130514,      254,       30,-160.5926,    34.3465,2,     -999.0,9,     -999.0,9,     4.0963,2,     -999.0,9,     -999.0,9,-999.0000, -999.00,-999.000
318M20130321,       P02E,      94,          1,         20,         20,2,20130514,       0105,    29.9997,  -160.5927,       5706,   942.4,   3.7867,   34.276,2,  34.2759,2,     12.2,2,    11.8,2,   119.7,2,   43.94,2,       0,2,    3.15,2,   0.043,2,   0.025,2,-999.000,5,   0.0425,2,  2360.1,2, 2348.33,2,   7.2785,6,       25,-999.000,9,-999.0000,9, -999.00,9, -999.00,9,  -999.0,9,  -999.0,-999.000,9,-999.000,     -999.0,9, -999.00,9, -999.00,9, -999.00,9,     -999.0,9,  -999.0,9, 20130514,      250,  29.9999,-160.5925,    34.4375,2,     -999.0,9,     -999.0,9,     3.7874,2,     -999.0,9,     -999.0,9,-999.0000, -999.00,-999.000
318M20130321,       P02E,      94,          1,         19,         19,2,20130514,       0105,    29.9997,  -160.5927,       5706,    1043,   3.5487,  34.3587,2,  34.3597,2,     12.7,2,    11.9,2,  128.48,2,    44.2,2,       0,2,    3.18,2,   0.014,2,   0.008,2,-999.000,5,        0,2,  2371.4,2, 2363.34,2,   7.2888,2,       25,-999.000,9,-999.0000,9, -999.00,9, -999.00,9,  -999.0,9,  -999.0,-999.000,9,-999.000,     -999.0,9, -999.00,9, -999.00,9, -999.00,9,     -999.0,9,  -999.0,9, 20130514,      248,       30,-160.5926,    34.5217,2,     -999.0,9,     -999.0,9,     3.5486,2,     -999.0,9,     -999.0,9,-999.0000, -999.00,-999.000
318M20130321,       P02E,      94,          1,         18,         18,2,20130514,       0105,    29.9997,  -160.5927,       5706,  1144.5,   3.2861,  34.4336,2,  34.4356,2,     16.7,2,      17,2,  136.28,2,   44.17,2,       0,2,    3.16,2,   0.008,2,   0.004,2,-999.000,5,   0.0462,2,  2375.8,2, 2376.44,2,   7.3063,2,       25,-999.000,9,-999.0000,9, -999.00,9, -999.00,9,  -999.0,9,  -999.0,-999.000,9,-999.000,     -999.0,9, -999.00,9, -999.00,9, -999.00,9,     -999.0,9,  -999.0,9, 20130514,      245,  30.0001,-160.5926,     34.598,2,     -999.0,9,     -999.0,9,     3.2882,2,     -999.0,9,     -999.0,9,-999.0000, -999.00,-999.000
318M20130321,       P02E,      94,          1,         17,         17,2,20130514,       0105,    29.9997,  -160.5927,       5706,  1246.2,    3.116,  34.4765,2,  34.4796,2,     25.7,2,      27,2,  139.99,2,   43.71,2,       0,2,    3.12,2,   0.006,2,   0.003,2,-999.000,5,        0,2,    2378,6, 2384.05,2,   7.3302,2,       25,-999.000,9,-999.0000,9, -999.00,9, -999.00,9,  -999.0,9,  -999.0,-999.000,9,-999.000,     -999.0,9, -999.00,9, -999.00,9, -999.00,9,     -999.0,9,  -999.0,9, 20130514,      241,  30.0001,-160.5924,    34.6422,2,     -999.0,9,     -999.0,9,     3.1166,2,     -999.0,9,     -999.0,9,-999.0000, -999.00,-999.000
318M20130321,       P02E,      94,          1,         16,         16,2,20130514,       0105,    29.9997,  -160.5927,       5706,  1347.3,   2.9547,  34.5081,2,  34.5108,2,     38.7,2,    38.3,2,  141.94,2,   43.12,2,       0,2,    3.07,2,-999.000,9,-999.000,9,-999.000,9,-999.0000,9,  2373.6,2, 2389.65,2,   7.3568,2,       25,-999.000,9,-999.0000,9, -999.00,9, -999.00,9,  -999.0,9,  -999.0,-999.000,9,-999.000,     -999.0,9, -999.00,9, -999.00,9, -999.00,9,     -999.0,9,  -999.0,9, 20130514,      238,       30,-160.5926,    34.6736,2,     -999.0,9,     -999.0,9,     2.9523,2,     -999.0,9,     -999.0,9,-999.0000, -999.00,-999.000
318M20130321,       P02E,      94,          1,         15,         15,2,20130514,       0105,    29.9997,  -160.5927,       5706,  1478.6,   2.7015,  34.5407,2,  34.5419,2,     48.8,2,    47.6,2,   147.6,2,   42.54,2,       0,2,    3.03,2,   0.007,2,   0.003,2,-999.000,5,        0,2,  2372.8,2, 2398.05,2,   7.3767,2,       25,-999.000,9,-999.0000,9, -999.00,9, -999.00,9,  -999.0,9,  -999.0,-999.000,9,-999.000,     -999.0,9, -999.00,9, -999.00,9, -999.00,9,     -999.0,9,  -999.0,9, 20130514,      235,       30,-160.5925,    34.7047,2,     -999.0,9,     -999.0,9,     2.7021,2,     -999.0,9,     -999.0,9,-999.0000, -999.00,-999.000
318M20130321,       P02E,      94,          1,         14,         14,2,20130514,       0105,    29.9997,  -160.5927,       5706,  1681.3,   2.3954,  34.5748,2,  34.5762,2,     63.9,2,    63.7,2,  153.74,2,   41.57,2,       0,2,    2.92,2,-999.000,9,-999.000,9,-999.000,9,-999.0000,9,  2370.7,2, 2405.85,2,     7.41,2,       25,-999.000,9,-999.0000,9, -999.00,9, -999.00,9,  -999.0,9,  -999.0,-999.000,9,-999.000,     -999.0,9, -999.00,9, -999.00,9, -999.00,9,     -999.0,9,  -999.0,9, 20130514,      230,  30.0001,-160.5925,    34.7393,2,     -999.0,9,     -999.0,9,     2.3951,2,     -999.0,9,     -999.0,9,-999.0000, -999.00,-999.000
318M20130321,       P02E,      94,          1,         13,         13,2,20130514,       0105,    29.9997,  -160.5927,       5706,  1884.2,   2.1409,  34.5999,2,   34.601,2,     75.4,2,    74.6,2,   159.5,2,   40.91,2,       0,2,    2.87,2,   0.004,2,   0.001,2,-999.000,5,        0,2,  2367.6,2, 2412.96,2,   7.4312,2,       25,-999.000,9,-999.0000,9, -999.00,9, -999.00,9,  -999.0,9,  -999.0,-999.000,9,-999.000,     -999.0,9, -999.00,9, -999.00,9, -999.00,9,     -999.0,9,  -999.0,9, 20130514,      225,  30.0001,-160.5927,    34.7641,2,     -999.0,9,     -999.0,9,     2.1408,2,     -999.0,9,     -999.0,9,-999.0000, -999.00,-999.000
318M20130321,       P02E,      94,          1,         12,         12,2,20130514,       0105,    29.9997,  -160.5927,       5706,  2106.1,   1.9379,  34.6205,2,  34.6218,2,     85.3,2,    85.5,2,  163.69,2,   40.31,2,       0,2,    2.81,2,-999.000,9,-999.000,9,-999.000,9,-999.0000,9,  -999.0,9, -999.00,9,-999.0000,9,  -999.00,-999.000,9,-999.0000,9, -999.00,9, -999.00,9,  -999.0,9,  -999.0,-999.000,9,-999.000,     -999.0,9, -999.00,9, -999.00,9, -999.00,9,     -999.0,9,  -999.0,9, 20130514,      220,  30.0001,-160.5926,    34.7851,2,     -999.0,9,     -999.0,9,     1.9385,2,     -999.0,9,     -999.0,9,-999.0000, -999.00,-999.000
318M20130321,       P02E,      94,          1,         11,         11,2,20130514,       0105,    29.9997,  -160.5927,       5706,  2361.1,   1.7858,  34.6365,2,  34.6379,2,     96.1,2,    95.6,2,  165.94,2,   39.63,2,       0,2,    2.74,2,   0.013,2,   0.006,2,-999.000,5,        0,2,  2363.4,2, 2420.06,2,   7.4724,2,       25,-999.000,9,-999.0000,9, -999.00,9, -999.00,9,  -999.0,9,  -999.0,-999.000,9,-999.000,     -999.0,9, -999.00,9, -999.00,9, -999.00,9,     -999.0,9,  -999.0,9, 20130514,      215,       30,-160.5926,    34.8013,2,     -999.0,9,     -999.0,9,     1.7853,2,     -999.0,9,     -999.0,9,-999.0000, -999.00,-999.000
318M20130321,       P02E,      94,          1,         10,         10,2,20130514,       0105,    29.9997,  -160.5927,       5706,  2615.6,   1.6767,   34.649,2,  34.6507,2,    105.9,2,   106.4,2,  166.23,2,   38.99,2,       0,2,    2.69,2,-999.000,9,-999.000,9,-999.000,9,-999.0000,9,  -999.0,9, -999.00,9,-999.0000,9,  -999.00,-999.000,9,-999.0000,9, -999.00,9, -999.00,9,  -999.0,9,  -999.0,-999.000,9,-999.000,     -999.0,9, -999.00,9, -999.00,9, -999.00,9,     -999.0,9,  -999.0,9, 20130514,      209,       30,-160.5926,    34.8141,2,     -999.0,9,     -999.0,9,     1.6766,2,     -999.0,9,     -999.0,9,-999.0000, -999.00,-999.000
318M20130321,       P02E,      94,          1,          9,          9,2,20130514,       0105,    29.9997,  -160.5927,       5706,    2872,   1.5933,  34.6599,2,  34.6611,2,    115.7,2,   116.6,2,  165.54,2,   38.36,2,       0,2,    2.64,2,   0.014,2,   0.000,2,-999.000,5,        0,2,  2353.1,2, 2423.26,2,   7.5107,2,       25,-999.000,9,-999.0000,9, -999.00,9, -999.00,9,  -999.0,9,  -999.0,-999.000,9,-999.000,     -999.0,9, -999.00,9, -999.00,9, -999.00,9,     -999.0,9,  -999.0,9, 20130514,      203,  29.9999,-160.5928,    34.8246,2,     -999.0,9,     -999.0,9,     1.5931,2,     -999.0,9,     -999.0,9,-999.0000, -999.00,-999.000
318M20130321,       P02E,      94,          1,          8,          8,2,20130514,       0105,    29.9997,  -160.5927,       5706,  3139.1,   1.5361,  34.6684,2,  34.6696,2,    124.8,2,   125.6,2,  163.69,2,   37.69,2,       0,2,    2.58,2,-999.000,9,-999.000,9,-999.000,9,-999.0000,9,  -999.0,9, -999.00,9,-999.0000,9,  -999.00,-999.000,9,-999.0000,9, -999.00,9, -999.00,9,  -999.0,9,  -999.0,-999.000,9,-999.000,     -999.0,9, -999.00,9, -999.00,9, -999.00,9,     -999.0,9,  -999.0,9, 20130514,      157,  29.9997,-160.5928,    34.8331,2,     -999.0,9,     -999.0,9,     1.5359,2,     -999.0,9,     -999.0,9,-999.0000, -999.00,-999.000
318M20130321,       P02E,      94,          1,          7,          7,2,20130514,       0105,    29.9997,  -160.5927,       5706,  3448.1,   1.5006,  34.6752,2,  34.6767,2,    133.2,2,   133.3,2,  161.64,2,   37.17,2,       0,2,    2.53,2,   0.004,2,   0.001,2,-999.000,5,        0,2,  2341.2,2, 2422.96,2,   7.5422,2,       25,-999.000,9,-999.0000,9, -999.00,9, -999.00,9,  -999.0,9,  -999.0,-999.000,9,-999.000,     -999.0,9, -999.00,9, -999.00,9, -999.00,9,     -999.0,9,  -999.0,9, 20130514,      151,  29.9994,-160.5927,    34.8402,2,     -999.0,9,     -999.0,9,     1.5004,2,     -999.0,9,     -999.0,9,-999.0000, -999.00,-999.000