BOTTLE,20220817CCHSIOAMB
EXPOCODE,SECT_ID,STNNBR,CASTNO,SAMPNO,BTLNBR,BTLNBR_FLAG_W,DATE,TIME,LATITUDE,LONGITUDE,DEPTH,CTDPRS,CTDTMP,CTDSAL,CTDSAL_FLAG_W,SALNTY,SALNTY_FLAG_W,CTDOXY,CTDOXY_FLAG_W,OXYGEN,OXYGEN_FLAG_W,SILCAT,SILCAT_FLAG_W,NITRAT,NITRAT_FLAG_W,NITRIT,NITRIT_FLAG_W,PHSPHT,PHSPHT_FLAG_W,CFC-11,CFC-11_FLAG_W,CFC-12,CFC-12_FLAG_W,CFC113,CFC113_FLAG_W,SF6,SF6_FLAG_W,TCARBN,TCARBN_FLAG_W,ALKALI,ALKALI_FLAG_W,PH_TOT,PH_TOT_FLAG_W,PH_TMP,TRITUM,TRITUM_FLAG_W,HELIUM,HELIUM_FLAG_W,DELHE3,DELHE3_FLAG_W,DELC13,DELC13_FLAG_W,DELC14,DELC14_FLAG_W,C14ERR,NEON,NEON_FLAG_W,NEONER,I-129,I-129_FLAG_W,SR-90,SR-90_FLAG_W,DOC,DOC_FLAG_W,TDN,TDN_FLAG_W,CALCIUM,CALCIUM_FLAG_W,D15N_NO3,D15N_NO3_FLAG_W,BTL_DATE,BTL_TIME,BTL_LAT,BTL_LON,SALTREF,SALTREF_FLAG_W,CS-137,CS-137_FLAG_W,CS-134,CS-134_FLAG_W,REFTMP,REFTMP_FLAG_W,LAB_DEN,LAB_DEN_FLAG_W,D18O_NO3,D18O_NO3_FLAG_W,HELIER,DELHER,TRITER
,,,,,,,,,,,METERS,DBAR,ITS-90,PSS-78,,PSS-78,,UMOL/KG,,UMOL/KG,,UMOL/KG,,UMOL/KG,,UMOL/KG,,UMOL/KG,,PMOL/KG,,PMOL/KG,,PMOL/KG,,FMOL/KG,,UMOL/KG,,UMOL/KG,,,,DEG C,TU,,NMOL/KG,,PERCNT,,/MILLE,,/MILLE,,/MILLE,NMOL/KG,,NMOL/KG,BQ/M^3,,DM/.1MG,,UMOL/KG,,UMOL/KG,,MMOL/KG,,/MILLE,,,,,,G/KG,,BQ/M^3,,BQ/M^3,,ITS-90,,,,/MILLE,,NMOL/KG,PERCNT,TU
318M20130321,       P02W,      32,          1,          7,          7,4,20130414,       0000,    29.9997,   145.1999,       5870,  2829.5,   1.6238,  34.6561,2,  34.5633,4,    125.4,2,    61.2,4,  163.01,4,   42.05,4,       0,4,    2.99,4,-999.000,9,-999.000,9,-999.000,9,-999.0000,9,  -999.0,9, -999.00,9,-999.0000,9,  -999.00,-999.000,9,-999.0000,9, -999.00,9, -999.00,9,  -999.0,9,  -999.0,-999.000,9,-999.000,     -999.0,9, -999.00,9, -999.00,9, -999.00,9,     -999.0,9,  -999.0,1, 20130414,      100,  29.9998, 145.1998,    34.7263,4,     -999.0,9,     -999.0,9,     1.6235,2,     -999.0,9,     -999.0,1,-999.0000, -999.00,-999.000
318M20130321,       P02W,      32,          1,          6,          6,2,20130414,       0000,    29.9997,   145.1999,       5870,  3242.1,   1.5466,   34.668,2,  34.6665,2,    135.4,2,   134.7,2,  154.12,2,   37.32,2,       0,2,    2.63,2,   0.065,2,   0.047,2,   0.005,2,     0.07,2,  -999.0,9, -999.00,9,-999.0000,9,  -999.00,-999.000,9,-999.0000,9, -999.00,9, -999.00,9,  -999.0,9,  -999.0,-999.000,9,-999.000,     -999.0,9, -999.00,9, -999.00,9, -999.00,9,     -999.0,9,  -999.0,1, 20130414,       52,   29.999, 145.2001,    34.8299,2,     -999.0,9,     -999.0,9,     1.5467,2,     -999.0,9,     -999.0,1,-999.0000, -999.00,-999.000
318M20130321,       P02W,      32,          1,          5,         37,4,20130414,       0000,    29.9997,   145.1999,       5870,  3651.9,   1.4954,   34.677,2,  34.6203,4,    143.4,2,     100,4,  157.05,4,    39.5,4,       0,4,    2.79,4,-999.000,9,-999.000,9,-999.000,9,-999.0000,9,  -999.0,9, -999.00,9,-999.0000,9,  -999.00,-999.000,9,-999.0000,9, -999.00,9, -999.00,9,  -999.0,9,  -999.0,-999.000,9,-999.000,     -999.0,9, -999.00,9, -999.00,9, -999.00,9,     -999.0,9,  -999.0,1, 20130414,       44,  29.9995, 145.1997,    34.7836,4,     -999.0,9,     -999.0,9,     1.4954,2,     -999.0,9,     -999.0,1,-999.0000, -999.00,-999.000
318M20130321,       P02W,      32,          1,          4,          4,2,20130414,       0000,    29.9997,   145.1999,       5870,  4060.6,   1.4777,  34.6832,2,  34.6818,2,    150.4,2,   150.7,2,  150.51,2,   36.25,2,       0,2,    2.55,2,   0.001,2,   0.018,2,   0.000,2,        0,2,  -999.0,9, -999.00,9,-999.0000,9,  -999.00,-999.000,9,-999.0000,9, -999.00,9, -999.00,9,  -999.0,9,  -999.0,-999.000,9,-999.000,     -999.0,9, -999.00,9, -999.00,9, -999.00,9,     -999.0,9,  -999.0,1, 20130414,       36,  29.9997, 145.1994,    34.8453,2,     -999.0,9,     -999.0,9,     1.4773,2,     -999.0,9,     -999.0,1,-999.0000, -999.00,-999.000
318M20130321,       P02W,      32,          1,          3,          3,2,20130414,       0000,    29.9997,   145.1999,       5870,  4368.4,    1.471,  34.6872,2,  34.6857,2,    155.2,2,   155.7,2,  148.36,2,   35.93,2,       0,2,    2.51,2,-999.000,9,-999.000,9,-999.000,9,-999.0000,9,  2320.2,6, 2412.46,2,    7.572,2,       25,-999.000,9,-999.0000,9, -999.00,9, -999.00,9,  -999.0,9,  -999.0,-999.000,9,-999.000,     -999.0,9, -999.00,9, -999.00,9, -999.00,9,     -999.0,9,  -999.0,1, 20130414,       29,  29.9993, 145.1997,    34.8493,2,     -999.0,9,     -999.0,9,     1.4707,2,     -999.0,9,     -999.0,1,-999.0000, -999.00,-999.000
318M20130321,       P02W,      32,          1,          2,          2,4,20130414,       0000,    29.9997,   145.1999,       5870,  5391.4,   1.5393,  34.6927,2,  34.5963,4,    164.1,2,    83.6,4,     159,4,   40.58,4,       0,4,    2.88,4,   0.001,2,   0.014,2,   0.007,2,     0.09,2,  2364.7,4, 2409.16,6,-999.0000,5,  -999.00,-999.000,9,-999.0000,9, -999.00,9, -999.00,9,  -999.0,9,  -999.0,-999.000,9,-999.000,     -999.0,9, -999.00,9, -999.00,9, -999.00,9,     -999.0,9,  -999.0,1, 20130414,       11,  29.9993, 145.1999,    34.7595,4,     -999.0,9,     -999.0,9,     1.5391,2,     -999.0,9,     -999.0,1,-999.0000, -999.00,-999.000
318M20130321,       P02W,      32,          1,          1,          1,2,20130414,       0000,    29.9997,   145.1999,       5870,  5976.7,   1.6097,  34.6932,2,   34.692,2,    167.1,2,   166.2,2,  142.11,2,   35.15,2,       0,2,    2.46,2,-999.000,9,-999.000,9,-999.000,9,-999.0000,9,  2310.9,2, 2409.66,2,   7.5862,6,       25,-999.000,9,-999.0000,9, -999.00,9, -999.00,9,  -999.0,9,  -999.0,-999.000,9,-999.000,     -999.0,9, -999.00,9, -999.00,9, -999.00,9,     -999.0,9,  -999.0,1, 20130414,        0,  29.9997, 145.1999,    34.8556,2,     -999.0,9,     -999.0,9,     1.6098,2,     -999.0,9,     -999.0,1,-999.0000, -999.00,-999.000