BOTTLE,20220817CCHSIOAMB
EXPOCODE,SECT_ID,STNNBR,CASTNO,SAMPNO,BTLNBR,BTLNBR_FLAG_W,DATE,TIME,LATITUDE,LONGITUDE,DEPTH,CTDPRS,CTDTMP,CTDSAL,CTDSAL_FLAG_W,SALNTY,SALNTY_FLAG_W,CTDOXY,CTDOXY_FLAG_W,OXYGEN,OXYGEN_FLAG_W,SILCAT,SILCAT_FLAG_W,NITRAT,NITRAT_FLAG_W,NITRIT,NITRIT_FLAG_W,PHSPHT,PHSPHT_FLAG_W,CFC-11,CFC-11_FLAG_W,CFC-12,CFC-12_FLAG_W,CFC113,CFC113_FLAG_W,SF6,SF6_FLAG_W,TCARBN,TCARBN_FLAG_W,ALKALI,ALKALI_FLAG_W,PH_TOT,PH_TOT_FLAG_W,PH_TMP,TRITUM,TRITUM_FLAG_W,HELIUM,HELIUM_FLAG_W,DELHE3,DELHE3_FLAG_W,DELC13,DELC13_FLAG_W,DELC14,DELC14_FLAG_W,C14ERR,NEON,NEON_FLAG_W,NEONER,I-129,I-129_FLAG_W,SR-90,SR-90_FLAG_W,DOC,DOC_FLAG_W,TDN,TDN_FLAG_W,CALCIUM,CALCIUM_FLAG_W,D15N_NO3,D15N_NO3_FLAG_W,BTL_DATE,BTL_TIME,BTL_LAT,BTL_LON,SALTREF,SALTREF_FLAG_W,CS-137,CS-137_FLAG_W,CS-134,CS-134_FLAG_W,REFTMP,REFTMP_FLAG_W,LAB_DEN,LAB_DEN_FLAG_W,D18O_NO3,D18O_NO3_FLAG_W,HELIER,DELHER,TRITER
,,,,,,,,,,,METERS,DBAR,ITS-90,PSS-78,,PSS-78,,UMOL/KG,,UMOL/KG,,UMOL/KG,,UMOL/KG,,UMOL/KG,,UMOL/KG,,PMOL/KG,,PMOL/KG,,PMOL/KG,,FMOL/KG,,UMOL/KG,,UMOL/KG,,,,DEG C,TU,,NMOL/KG,,PERCNT,,/MILLE,,/MILLE,,/MILLE,NMOL/KG,,NMOL/KG,BQ/M^3,,DM/.1MG,,UMOL/KG,,UMOL/KG,,MMOL/KG,,/MILLE,,,,,,G/KG,,BQ/M^3,,BQ/M^3,,ITS-90,,,,/MILLE,,NMOL/KG,PERCNT,TU
318M20130321,       P02E,      88,          1,          6,          6,2,20130511,       1627,    29.9999,   -167.453,       5497,  3753.9,   1.4698,  34.6804,2,    34.68,2,    141.7,2,   142.7,2,  152.36,2,   36.58,2,       0,2,    2.54,2,   0.006,2,   0.001,2,-999.000,5,        0,2,  2330.7,2, 2419.96,6,   7.5567,2,       25,-999.000,9,-999.0000,9, -999.00,9, -999.00,9,  -999.0,9,  -999.0,-999.000,9,-999.000,     -999.0,9, -999.00,9, -999.00,9, -999.00,9,     -999.0,9,  -999.0,9, 20130511,     1711,  29.9999,-167.4529,    34.8435,2,     -999.0,9,     -999.0,9,     1.4702,2,     -999.0,9,     -999.0,9,-999.0000, -999.00,-999.000
318M20130321,       P02E,      88,          1,          5,         37,2,20130511,       1627,    29.9999,   -167.453,       5497,  4096.2,   1.4671,  34.6845,2,  34.6847,2,    148.6,2,   148.2,2,  152.85,2,   36.23,2,       0,2,    2.52,2,   0.006,2,  -0.002,2,-999.000,5,        0,2,  -999.0,9, -999.00,9,-999.0000,9,  -999.00,-999.000,9,-999.0000,9, -999.00,9, -999.00,9,  -999.0,9,  -999.0,-999.000,9,-999.000,     -999.0,9, -999.00,9, -999.00,9, -999.00,9,     -999.0,9,  -999.0,9, 20130511,     1704,  30.0003,-167.4528,    34.8483,2,     -999.0,9,     -999.0,9,      1.467,2,     -999.0,9,     -999.0,9,-999.0000, -999.00,-999.000
318M20130321,       P02E,      88,          1,          4,          4,2,20130511,       1627,    29.9999,   -167.453,       5497,    4504,   1.4879,  34.6874,2,  34.6869,2,    152.2,2,   151.9,2,  153.83,2,   36.02,2,       0,2,     2.5,2,   0.016,2,   0.003,2,-999.000,5,        0,2,  2326.8,2, 2420.36,6,   7.5722,6,       25,-999.000,9,-999.0000,9, -999.00,9, -999.00,9,  -999.0,9,  -999.0,-999.000,9,-999.000,     -999.0,9, -999.00,9, -999.00,9, -999.00,9,     -999.0,9,  -999.0,9, 20130511,     1654,  30.0003,-167.4528,    34.8505,2,     -999.0,9,     -999.0,9,     1.4879,2,     -999.0,9,     -999.0,9,-999.0000, -999.00,-999.000
318M20130321,       P02E,      88,          1,          3,          3,2,20130511,       1627,    29.9999,   -167.453,       5497,  4932.4,   1.5216,  34.6894,2,  34.6887,2,    154.6,2,     155,2,   150.7,2,   35.76,2,       0,2,    2.49,2,   0.006,2,  -0.004,2,-999.000,5,        0,2,  -999.0,9, -999.00,9,-999.0000,9,  -999.00,-999.000,9,-999.0000,9, -999.00,9, -999.00,9,  -999.0,9,  -999.0,-999.000,9,-999.000,     -999.0,9, -999.00,9, -999.00,9, -999.00,9,     -999.0,9,  -999.0,9, 20130511,     1645,  29.9996, -167.453,    34.8522,2,     -999.0,9,     -999.0,9,     1.5217,2,     -999.0,9,     -999.0,9,-999.0000, -999.00,-999.000
318M20130321,       P02E,      88,          1,          2,          2,2,20130511,       1627,    29.9999,   -167.453,       5497,  5384.8,   1.5456,  34.6919,2,   34.691,2,    162.6,2,   162.2,2,  143.87,2,   35.28,2,       0,2,    2.45,2,   0.501,4,   8.172,4,-999.000,5,   1.1093,4,  2315.4,6, 2411.76,2,   7.5883,2,       25,-999.000,9,-999.0000,9, -999.00,9, -999.00,9,  -999.0,9,  -999.0,-999.000,9,-999.000,     -999.0,9, -999.00,9, -999.00,9, -999.00,9,     -999.0,9,  -999.0,9, 20130511,     1633,  30.0007,-167.4528,    34.8546,2,     -999.0,9,     -999.0,9,     1.5462,2,     -999.0,9,     -999.0,9,-999.0000, -999.00,-999.000
318M20130321,       P02E,      88,          1,          1,          1,2,20130511,       1627,    29.9999,   -167.453,       5497,  5597.3,   1.5654,  34.6923,2,   34.692,2,    164.1,2,   163.7,2,   142.5,2,   35.13,2,       0,2,    2.42,2,   0.000,2,   0.000,2,-999.000,5,        0,2,  2313.5,2, 2411.66,2,   7.5832,2,       25,-999.000,9,-999.0000,9, -999.00,9, -999.00,9,  -999.0,9,  -999.0,-999.000,9,-999.000,     -999.0,9, -999.00,9, -999.00,9, -999.00,9,     -999.0,9,  -999.0,9, 20130511,     1626,  29.9999,-167.4531,    34.8556,2,     -999.0,9,     -999.0,9,     1.5653,2,     -999.0,9,     -999.0,9,-999.0000, -999.00,-999.000