BOTTLE,20220817CCHSIOAMB
EXPOCODE,SECT_ID,STNNBR,CASTNO,SAMPNO,BTLNBR,BTLNBR_FLAG_W,DATE,TIME,LATITUDE,LONGITUDE,DEPTH,CTDPRS,CTDTMP,CTDSAL,CTDSAL_FLAG_W,SALNTY,SALNTY_FLAG_W,CTDOXY,CTDOXY_FLAG_W,OXYGEN,OXYGEN_FLAG_W,SILCAT,SILCAT_FLAG_W,NITRAT,NITRAT_FLAG_W,NITRIT,NITRIT_FLAG_W,PHSPHT,PHSPHT_FLAG_W,CFC-11,CFC-11_FLAG_W,CFC-12,CFC-12_FLAG_W,CFC113,CFC113_FLAG_W,SF6,SF6_FLAG_W,TCARBN,TCARBN_FLAG_W,ALKALI,ALKALI_FLAG_W,PH_TOT,PH_TOT_FLAG_W,PH_TMP,TRITUM,TRITUM_FLAG_W,HELIUM,HELIUM_FLAG_W,DELHE3,DELHE3_FLAG_W,DELC13,DELC13_FLAG_W,DELC14,DELC14_FLAG_W,C14ERR,NEON,NEON_FLAG_W,NEONER,I-129,I-129_FLAG_W,SR-90,SR-90_FLAG_W,DOC,DOC_FLAG_W,TDN,TDN_FLAG_W,CALCIUM,CALCIUM_FLAG_W,D15N_NO3,D15N_NO3_FLAG_W,BTL_DATE,BTL_TIME,BTL_LAT,BTL_LON,SALTREF,SALTREF_FLAG_W,CS-137,CS-137_FLAG_W,CS-134,CS-134_FLAG_W,REFTMP,REFTMP_FLAG_W,LAB_DEN,LAB_DEN_FLAG_W,D18O_NO3,D18O_NO3_FLAG_W,HELIER,DELHER,TRITER
,,,,,,,,,,,METERS,DBAR,ITS-90,PSS-78,,PSS-78,,UMOL/KG,,UMOL/KG,,UMOL/KG,,UMOL/KG,,UMOL/KG,,UMOL/KG,,PMOL/KG,,PMOL/KG,,PMOL/KG,,FMOL/KG,,UMOL/KG,,UMOL/KG,,,,DEG C,TU,,NMOL/KG,,PERCNT,,/MILLE,,/MILLE,,/MILLE,NMOL/KG,,NMOL/KG,BQ/M^3,,DM/.1MG,,UMOL/KG,,UMOL/KG,,MMOL/KG,,/MILLE,,,,,,G/KG,,BQ/M^3,,BQ/M^3,,ITS-90,,,,/MILLE,,NMOL/KG,PERCNT,TU
318M20130321,       P02W,      52,          1,          7,          7,2,20130421,       1746,    29.9968,   164.3314,       5923,  3548.7,   1.4913,  34.6762,2,  34.6753,2,      142,2,   142.8,2,  152.66,2,   36.64,2,       0,2,    2.57,2,-999.000,9,-999.000,9,-999.000,9,-999.0000,9,  2330.1,2, 2414.86,2,   7.5531,2,       25,-999.000,9,-999.0000,9, -999.00,9, -999.00,9,  -999.0,9,  -999.0,-999.000,9,-999.000,     -999.0,9, -999.00,9, -999.00,9, -999.00,9,     -999.0,9,  -999.0,9, 20130421,     1847,  30.0011, 164.3298,    34.8388,2,     -999.0,9,     -999.0,9,     1.4915,2,     -999.0,9,     -999.0,9,-999.0000, -999.00,-999.000
318M20130321,       P02W,      52,          1,          6,          6,2,20130421,       1746,    29.9968,   164.3314,       5923,  3922.4,   1.4709,  34.6822,2,   34.681,2,    148.9,2,   149.9,2,   151.1,2,   36.19,2,       0,2,    2.54,2,   0.006,2,   0.010,2,   0.001,2,        0,2,  2325.1,2, -999.00,9,-999.0000,9,  -999.00,-999.000,9,   1.9222,2,   16.36,2, -999.00,9,  -999.0,9,  -999.0,   8.270,2,   0.038,     -999.0,9, -999.00,9, -999.00,9, -999.00,9,     -999.0,9,  -999.0,9, 20130421,     1840,  30.0006,   164.33,    34.8445,2,     -999.0,9,     -999.0,9,     1.4713,2,     -999.0,9,     -999.0,9,   0.0081,    0.15,-999.000
318M20130321,       P02W,      52,          1,          5,         37,2,20130421,       1746,    29.9968,   164.3314,       5923,  4332.1,   1.4658,  34.6868,2,  34.6857,2,    155.1,2,   154.5,2,  150.31,2,   35.79,2,       0,2,    2.51,2,-999.000,9,-999.000,9,-999.000,9,-999.0000,9,  -999.0,9, -999.00,9,-999.0000,9,  -999.00,-999.000,9,-999.0000,9, -999.00,9, -999.00,9,  -999.0,9,  -999.0,-999.000,9,-999.000,     -999.0,9, -999.00,9, -999.00,9, -999.00,9,     -999.0,9,  -999.0,9, 20130421,     1829,  29.9998, 164.3304,    34.8493,2,     -999.0,9,     -999.0,9,     1.4662,2,     -999.0,9,     -999.0,9,-999.0000, -999.00,-999.000
318M20130321,       P02W,      52,          1,          4,          4,2,20130421,       1746,    29.9968,   164.3314,       5923,  4741.5,   1.4724,  34.6908,2,  34.6893,2,    160.7,2,   161.9,2,  144.65,2,   35.27,2,       0,2,    2.47,2,-999.000,9,-999.000,9,-999.000,9,-999.0000,9,    2314,2, 2409.36,6,   7.5809,2,       25,-999.000,9,-999.0000,9, -999.00,9, -999.00,9,  -999.0,9,  -999.0,-999.000,9,-999.000,     -999.0,9, -999.00,9, -999.00,9, -999.00,9,     -999.0,9,  -999.0,9, 20130421,     1821,  29.9994, 164.3305,    34.8528,2,     -999.0,9,     -999.0,9,     1.4725,2,     -999.0,9,     -999.0,9,-999.0000, -999.00,-999.000
318M20130321,       P02W,      52,          1,          3,          3,2,20130421,       1746,    29.9968,   164.3314,       5923,  5152.9,   1.4914,  34.6936,2,   34.692,2,    166.1,2,   167.3,2,  140.16,2,   34.85,2,       0,2,    2.44,2,   0.007,2,   0.009,2,   0.002,2,     0.06,2,  -999.0,9, -999.00,9,-999.0000,9,  -999.00,-999.000,9,-999.0000,9, -999.00,9, -999.00,9,  -999.0,9,  -999.0,-999.000,9,-999.000,     -999.0,9, -999.00,9, -999.00,9, -999.00,9,     -999.0,9,  -999.0,9, 20130421,     1811,  29.9989, 164.3307,    34.8556,2,     -999.0,9,     -999.0,9,     1.4915,2,     -999.0,9,     -999.0,9,-999.0000, -999.00,-999.000
318M20130321,       P02W,      52,          1,          2,          2,2,20130421,       1746,    29.9968,   164.3314,       5923,  5587.2,   1.5217,  34.6956,2,   34.694,2,    171.6,2,   171.7,2,  137.43,2,    34.6,2,       0,2,    2.42,2,   0.005,2,   0.010,2,   0.001,2,     0.04,2,  2304.3,2, 2402.85,2,   7.5918,6,       25,-999.000,9,-999.0000,9, -999.00,9, -999.00,9,  -999.0,9,  -999.0,-999.000,9,-999.000,     -999.0,9, -999.00,9, -999.00,9, -999.00,9,     -999.0,9,  -999.0,9, 20130421,     1801,   29.998,  164.331,    34.8576,2,     -999.0,9,     -999.0,9,     1.5218,2,     -999.0,9,     -999.0,9,-999.0000, -999.00,-999.000
318M20130321,       P02W,      52,          1,          1,          1,2,20130421,       1746,    29.9968,   164.3314,       5923,  6033.5,   1.5686,  34.6962,2,  34.6957,2,    174.6,2,   173.7,2,  136.45,2,   34.49,2,       0,2,    2.41,2,   0.007,2,   0.012,2,   0.002,2,        0,2,  2304.6,6, 2401.65,2,    7.595,2,       25,-999.000,9,-999.0000,9, -999.00,9, -999.00,9,  -999.0,9,  -999.0,-999.000,9,-999.000,     -999.0,9, -999.00,9, -999.00,9, -999.00,9,     -999.0,9,  -999.0,9, 20130421,     1746,  29.9969, 164.3314,    34.8594,2,     -999.0,9,     -999.0,9,     1.5687,2,     -999.0,9,     -999.0,9,-999.0000, -999.00,-999.000