BOTTLE,20220817CCHSIOAMB
EXPOCODE,SECT_ID,STNNBR,CASTNO,SAMPNO,BTLNBR,BTLNBR_FLAG_W,DATE,TIME,LATITUDE,LONGITUDE,DEPTH,CTDPRS,CTDTMP,CTDSAL,CTDSAL_FLAG_W,SALNTY,SALNTY_FLAG_W,CTDOXY,CTDOXY_FLAG_W,OXYGEN,OXYGEN_FLAG_W,SILCAT,SILCAT_FLAG_W,NITRAT,NITRAT_FLAG_W,NITRIT,NITRIT_FLAG_W,PHSPHT,PHSPHT_FLAG_W,CFC-11,CFC-11_FLAG_W,CFC-12,CFC-12_FLAG_W,CFC113,CFC113_FLAG_W,SF6,SF6_FLAG_W,TCARBN,TCARBN_FLAG_W,ALKALI,ALKALI_FLAG_W,PH_TOT,PH_TOT_FLAG_W,PH_TMP,TRITUM,TRITUM_FLAG_W,HELIUM,HELIUM_FLAG_W,DELHE3,DELHE3_FLAG_W,DELC13,DELC13_FLAG_W,DELC14,DELC14_FLAG_W,C14ERR,NEON,NEON_FLAG_W,NEONER,I-129,I-129_FLAG_W,SR-90,SR-90_FLAG_W,DOC,DOC_FLAG_W,TDN,TDN_FLAG_W,CALCIUM,CALCIUM_FLAG_W,D15N_NO3,D15N_NO3_FLAG_W,BTL_DATE,BTL_TIME,BTL_LAT,BTL_LON,SALTREF,SALTREF_FLAG_W,CS-137,CS-137_FLAG_W,CS-134,CS-134_FLAG_W,REFTMP,REFTMP_FLAG_W,LAB_DEN,LAB_DEN_FLAG_W,D18O_NO3,D18O_NO3_FLAG_W,HELIER,DELHER,TRITER
,,,,,,,,,,,METERS,DBAR,ITS-90,PSS-78,,PSS-78,,UMOL/KG,,UMOL/KG,,UMOL/KG,,UMOL/KG,,UMOL/KG,,UMOL/KG,,PMOL/KG,,PMOL/KG,,PMOL/KG,,FMOL/KG,,UMOL/KG,,UMOL/KG,,,,DEG C,TU,,NMOL/KG,,PERCNT,,/MILLE,,/MILLE,,/MILLE,NMOL/KG,,NMOL/KG,BQ/M^3,,DM/.1MG,,UMOL/KG,,UMOL/KG,,MMOL/KG,,/MILLE,,,,,,G/KG,,BQ/M^3,,BQ/M^3,,ITS-90,,,,/MILLE,,NMOL/KG,PERCNT,TU
318M20130321,       P02W,      44,          1,          7,          7,2,20130418,       2040,    30.0007,   158.1853,       5616,  3549.9,   1.5019,  34.6754,2,  34.6739,2,    142.3,2,   142.1,2,  152.46,2,   36.83,2,       0,2,    2.55,2,-999.000,9,-999.000,9,-999.000,9,-999.0000,9,  2326.6,2, 2414.36,2,   7.5501,2,       25,-999.000,9,-999.0000,9, -999.00,9, -999.00,9,  -999.0,9,  -999.0,-999.000,9,-999.000,     -999.0,9, -999.00,9, -999.00,9, -999.00,9,     -999.0,9,  -999.0,9, 20130418,     2123,  29.9999, 158.1842,    34.8374,2,     -999.0,9,     -999.0,9,     1.5018,2,     -999.0,9,     -999.0,9,-999.0000, -999.00,-999.000
318M20130321,       P02W,      44,          1,          6,          6,2,20130418,       2040,    30.0007,   158.1853,       5616,  3956.8,   1.4645,  34.6827,2,  34.6817,2,    149.2,2,   149.5,2,   151.1,2,   36.21,2,       0,2,     2.5,2,   0.006,2,   0.008,2,   0.006,2,     0.06,2,  -999.0,9, -999.00,9,-999.0000,9,  -999.00,-999.000,9,-999.0000,9, -999.00,9, -999.00,9,  -999.0,9,  -999.0,-999.000,9,-999.000,     -999.0,9, -999.00,9, -999.00,9, -999.00,9,     -999.0,9,  -999.0,9, 20130418,     2115,  29.9999, 158.1841,    34.8453,2,     -999.0,9,     -999.0,9,     1.4643,2,     -999.0,9,     -999.0,9,-999.0000, -999.00,-999.000
318M20130321,       P02W,      44,          1,          5,         37,2,20130418,       2040,    30.0007,   158.1853,       5616,  4366.5,   1.4648,  34.6873,2,  34.6855,2,    155.1,2,   155.3,2,  150.02,2,   35.74,2,       0,2,    2.45,2,-999.000,9,-999.000,9,-999.000,9,-999.0000,9,  2319.2,2, 2413.56,2,   7.5718,2,       25,-999.000,9,-999.0000,9, -999.00,9, -999.00,9,  -999.0,9,  -999.0,-999.000,9,-999.000,     -999.0,9, -999.00,9, -999.00,9, -999.00,9,     -999.0,9,  -999.0,9, 20130418,     2108,  29.9999, 158.1842,     34.849,2,     -999.0,9,     -999.0,9,     1.4649,2,     -999.0,9,     -999.0,9,-999.0000, -999.00,-999.000
318M20130321,       P02W,      44,          1,          4,          4,2,20130418,       2040,    30.0007,   158.1853,       5616,  4778.1,   1.4787,  34.6906,2,  34.6892,2,    160.5,2,   160.8,2,  146.41,2,   35.38,2,       0,2,    2.43,2,   0.012,2,   0.009,2,   0.002,2,     0.01,2,  -999.0,9, -999.00,9,-999.0000,9,  -999.00,-999.000,9,-999.0000,9, -999.00,9, -999.00,9,  -999.0,9,  -999.0,-999.000,9,-999.000,     -999.0,9, -999.00,9, -999.00,9, -999.00,9,     -999.0,9,  -999.0,9, 20130418,     2100,  30.0003, 158.1844,    34.8528,2,     -999.0,9,     -999.0,9,     1.4788,2,     -999.0,9,     -999.0,9,-999.0000, -999.00,-999.000
318M20130321,       P02W,      44,          1,          3,          3,2,20130418,       2040,    30.0007,   158.1853,       5616,  5190.6,   1.4925,  34.6937,2,  34.6916,2,    166.3,2,   167.6,2,  140.94,2,   34.95,2,       0,2,     2.4,2,   0.009,2,   0.009,2,   0.006,2,     0.04,2,  2308.9,2, 2405.75,6,   7.5873,2,       25,-999.000,9,-999.0000,9, -999.00,9, -999.00,9,  -999.0,9,  -999.0,-999.000,9,-999.000,     -999.0,9, -999.00,9, -999.00,9, -999.00,9,     -999.0,9,  -999.0,9, 20130418,     2052,  30.0003,  158.185,    34.8552,2,     -999.0,9,     -999.0,9,     1.4927,2,     -999.0,9,     -999.0,9,-999.0000, -999.00,-999.000
318M20130321,       P02W,      44,          1,          2,          2,2,20130418,       2040,    30.0007,   158.1853,       5616,  5448.9,   1.5091,  34.6948,2,  34.6938,2,    169.7,2,   170.1,2,  138.89,2,   34.72,2,       0,2,    2.37,2,-999.000,9,-999.000,9,-999.000,9,-999.0000,9,  2308.1,2, 2404.35,2,   7.5899,6,       25,-999.000,9,-999.0000,9, -999.00,9, -999.00,9,  -999.0,9,  -999.0,-999.000,9,-999.000,     -999.0,9, -999.00,9, -999.00,9, -999.00,9,     -999.0,9,  -999.0,9, 20130418,     2046,  30.0004, 158.1851,    34.8574,2,     -999.0,9,     -999.0,9,     1.5096,2,     -999.0,9,     -999.0,9,-999.0000, -999.00,-999.000
318M20130321,       P02W,      44,          1,          1,          1,2,20130418,       2040,    30.0007,   158.1853,       5616,  5716.2,   1.5356,  34.6954,2,  34.6946,2,    172.6,2,   171.9,2,  137.53,2,   34.56,2,       0,2,    2.36,2,   0.024,2,   0.017,2,   0.007,2,        0,2,  2303.7,6, 2403.35,2,   7.5919,2,       25,-999.000,9,-999.0000,9, -999.00,9, -999.00,9,  -999.0,9,  -999.0,-999.000,9,-999.000,     -999.0,9, -999.00,9, -999.00,9, -999.00,9,     -999.0,9,  -999.0,9, 20130418,     2040,  30.0007, 158.1853,    34.8582,2,     -999.0,9,     -999.0,9,     1.5354,2,     -999.0,9,     -999.0,9,-999.0000, -999.00,-999.000