BOTTLE,20220817CCHSIOAMB
EXPOCODE,SECT_ID,STNNBR,CASTNO,SAMPNO,BTLNBR,BTLNBR_FLAG_W,DATE,TIME,LATITUDE,LONGITUDE,DEPTH,CTDPRS,CTDTMP,CTDSAL,CTDSAL_FLAG_W,SALNTY,SALNTY_FLAG_W,CTDOXY,CTDOXY_FLAG_W,OXYGEN,OXYGEN_FLAG_W,SILCAT,SILCAT_FLAG_W,NITRAT,NITRAT_FLAG_W,NITRIT,NITRIT_FLAG_W,PHSPHT,PHSPHT_FLAG_W,CFC-11,CFC-11_FLAG_W,CFC-12,CFC-12_FLAG_W,CFC113,CFC113_FLAG_W,SF6,SF6_FLAG_W,TCARBN,TCARBN_FLAG_W,ALKALI,ALKALI_FLAG_W,PH_TOT,PH_TOT_FLAG_W,PH_TMP,TRITUM,TRITUM_FLAG_W,HELIUM,HELIUM_FLAG_W,DELHE3,DELHE3_FLAG_W,DELC13,DELC13_FLAG_W,DELC14,DELC14_FLAG_W,C14ERR,NEON,NEON_FLAG_W,NEONER,I-129,I-129_FLAG_W,SR-90,SR-90_FLAG_W,DOC,DOC_FLAG_W,TDN,TDN_FLAG_W,CALCIUM,CALCIUM_FLAG_W,D15N_NO3,D15N_NO3_FLAG_W,BTL_DATE,BTL_TIME,BTL_LAT,BTL_LON,SALTREF,SALTREF_FLAG_W,CS-137,CS-137_FLAG_W,CS-134,CS-134_FLAG_W,REFTMP,REFTMP_FLAG_W,LAB_DEN,LAB_DEN_FLAG_W,D18O_NO3,D18O_NO3_FLAG_W,HELIER,DELHER,TRITER
,,,,,,,,,,,METERS,DBAR,ITS-90,PSS-78,,PSS-78,,UMOL/KG,,UMOL/KG,,UMOL/KG,,UMOL/KG,,UMOL/KG,,UMOL/KG,,PMOL/KG,,PMOL/KG,,PMOL/KG,,FMOL/KG,,UMOL/KG,,UMOL/KG,,,,DEG C,TU,,NMOL/KG,,PERCNT,,/MILLE,,/MILLE,,/MILLE,NMOL/KG,,NMOL/KG,BQ/M^3,,DM/.1MG,,UMOL/KG,,UMOL/KG,,MMOL/KG,,/MILLE,,,,,,G/KG,,BQ/M^3,,BQ/M^3,,ITS-90,,,,/MILLE,,NMOL/KG,PERCNT,TU
318M20130321,       P02W,      50,          1,         36,         36,2,20130421,       0104,    29.9997,   162.5996,       6024,    26.1,  19.0575,  34.8517,2,  34.8509,2,    231.9,2,   233.3,2,    1.66,2,       0,2,       0,2,    0.02,2,   2.476,2,   1.508,2,   0.207,2,     1.62,2,  2008.4,2, 2285.41,2,   8.0122,6,       25,   0.483,2,-999.0000,9, -999.00,9, -999.00,9,  -999.0,9,  -999.0,-999.000,9,-999.000,     -999.0,9, -999.00,9, -999.00,9, -999.00,9,     -999.0,9,  -999.0,9, 20130421,      323,  29.9962, 162.6038,    35.0152,2,     -999.0,9,     -999.0,9,    19.0575,2,     -999.0,9,     -999.0,9,-999.0000, -999.00,   0.011
318M20130321,       P02W,      50,          1,         33,         33,2,20130421,       0104,    29.9997,   162.5996,       6024,    49.5,  19.0324,  34.8708,2,-999.0000,9,      232,2,  -999.0,9,    1.76,2,       0,2,       0,2,    0.03,2,-999.000,9,-999.000,9,-999.000,9,-999.0000,9,  -999.0,9, -999.00,9,-999.0000,9,  -999.00,-999.000,9,-999.0000,9, -999.00,9, -999.00,9,  -999.0,9,  -999.0,-999.000,9,-999.000,     -999.0,1, -999.00,1, -999.00,9, -999.00,9,     -999.0,9,  -999.0,9, 20130421,      321,  29.9963, 162.6038,     -999.0,9,     -999.0,1,     -999.0,1,    19.0333,2,     -999.0,9,     -999.0,9,-999.0000, -999.00,-999.000
318M20130321,       P02W,      50,          1,         35,         35,2,20130421,       0104,    29.9997,   162.5996,       6024,    49.7,  19.0328,   34.871,2,  34.8739,2,      232,2,   233.6,2,    1.66,2,       0,2,       0,2,    0.03,2,   2.483,2,   1.528,2,   0.223,2,     1.52,2,  -999.0,9, -999.00,9,-999.0000,9,  -999.00,   0.489,2,   1.7554,2,   -1.50,2, -999.00,9,  -999.0,9,  -999.0,   7.208,2,   0.033,     -999.0,9, -999.00,9, -999.00,9, -999.00,9,     -999.0,9,  -999.0,9, 20130421,      321,  29.9963, 162.6038,    35.0383,2,     -999.0,9,     -999.0,9,     19.033,2,     -999.0,9,     -999.0,9,   0.0074,    0.15,   0.011
318M20130321,       P02W,      50,          1,         34,         34,2,20130421,       0104,    29.9997,   162.5996,       6024,      50,   19.033,  34.8708,2,-999.0000,9,    232.1,2,  -999.0,9,    1.76,2,       0,2,       0,2,    0.02,2,-999.000,9,-999.000,9,-999.000,9,-999.0000,9,  -999.0,9, -999.00,9,-999.0000,9,  -999.00,-999.000,9,-999.0000,9, -999.00,9, -999.00,9,  -999.0,9,  -999.0,-999.000,9,-999.000,     -999.0,9, -999.00,1, -999.00,9, -999.00,9,     -999.0,9,  -999.0,9, 20130421,      321,  29.9963, 162.6038,     -999.0,9,     -999.0,1,     -999.0,1,    19.0324,2,     -999.0,9,     -999.0,9,-999.0000, -999.00,-999.000
318M20130321,       P02W,      50,          1,         32,         32,2,20130421,       0104,    29.9997,   162.5996,       6024,    73.3,  18.1831,  34.7776,2,   34.785,2,      232,2,   233.4,2,    1.95,2,       0,2,    0.09,2,    0.04,2,-999.000,9,-999.000,9,-999.000,9,-999.0000,9,  2010.7,2, 2281.61,2,   8.0026,2,       25,-999.000,9,-999.0000,9, -999.00,9, -999.00,9,  -999.0,9,  -999.0,-999.000,9,-999.000,     -999.0,9, -999.00,9, -999.00,9, -999.00,9,     -999.0,9,  -999.0,9, 20130421,      319,  29.9963,  162.604,     34.949,2,     -999.0,9,     -999.0,9,    18.2147,2,     -999.0,9,     -999.0,9,-999.0000, -999.00,-999.000
318M20130321,       P02W,      50,          1,         31,         31,2,20130421,       0104,    29.9997,   162.5996,       6024,    98.6,  17.7906,   34.742,2,  34.7421,2,    230.5,2,   229.7,2,    2.15,2,    0.99,2,    0.14,2,     0.1,2,   2.609,2,   1.573,2,   0.212,2,      1.7,2,  2015.7,2, 2277.81,2,   7.9892,2,       25,   0.495,2,   1.7566,2,   -1.37,2, -999.00,9,  -999.0,9,  -999.0,   7.249,2,   0.033,     -999.0,9, -999.00,9, -999.00,9, -999.00,9,     -999.0,9,  -999.0,9, 20130421,      317,  29.9963,  162.604,     34.906,2,     -999.0,9,     -999.0,9,    17.7909,2,     -999.0,9,     -999.0,9,   0.0074,    0.15,   0.011
318M20130321,       P02W,      50,          1,         30,         30,2,20130421,       0104,    29.9997,   162.5996,       6024,   149.1,    17.43,  34.7011,2,  34.7011,2,    230.4,2,   227.2,2,    2.54,2,    1.94,2,    0.02,2,    0.16,2,-999.000,9,-999.000,9,-999.000,9,-999.0000,9,  2017.4,2, 2275.51,2,   7.9791,6,       25,-999.000,9,-999.0000,9, -999.00,9, -999.00,9,  -999.0,9,  -999.0,-999.000,9,-999.000,     -999.0,9, -999.00,9, -999.00,9, -999.00,9,     -999.0,9,  -999.0,9, 20130421,      315,  29.9965, 162.6038,    34.8647,2,     -999.0,9,     -999.0,9,    17.4318,2,     -999.0,9,     -999.0,9,-999.0000, -999.00,-999.000
318M20130321,       P02W,      50,          1,         29,         29,2,20130421,       0104,    29.9997,   162.5996,       6024,   199.5,  17.0979,  34.6793,2,  34.6816,2,    223.2,2,   221.8,2,    3.12,2,    3.13,2,    0.02,2,    0.22,2,   2.658,2,   1.611,2,   0.139,2,     1.72,2,  2022.4,2, 2274.81,2,   7.9654,2,       25,   0.472,2,   1.7724,2,   -0.51,2, -999.00,9,  -999.0,9,  -999.0,   7.204,2,   0.033,     -999.0,9, -999.00,9, -999.00,9, -999.00,9,     -999.0,9,  -999.0,9, 20130421,      313,  29.9967, 162.6037,    34.8451,2,     -999.0,9,     -999.0,9,    17.0951,2,     -999.0,9,     -999.0,9,   0.0074,    0.15,   0.010
318M20130321,       P02W,      50,          1,         28,         28,2,20130421,       0104,    29.9997,   162.5996,       6024,   249.7,  16.6099,  34.6635,2,  34.6649,2,    211.6,2,   212.1,2,    4.39,2,    5.06,2,    0.01,2,    0.35,2,-999.000,9,-999.000,9,-999.000,9,-999.0000,9,    2036,2, 2274.21,2,   7.9392,2,       25,-999.000,9,-999.0000,9, -999.00,9, -999.00,9,  -999.0,9,  -999.0,-999.000,9,-999.000,     -999.0,9, -999.00,9, -999.00,9, -999.00,9,     -999.0,9,  -999.0,9, 20130421,      311,  29.9967, 162.6037,    34.8284,2,     -999.0,9,     -999.0,9,    16.6052,2,     -999.0,9,     -999.0,9,-999.0000, -999.00,-999.000
318M20130321,       P02W,      50,          1,         27,         27,2,20130421,       0104,    29.9997,   162.5996,       6024,   300.3,  15.8208,  34.5913,2,  34.5906,2,    212.4,2,   213.9,2,    5.66,2,    5.97,2,    0.01,2,    0.42,2,   2.820,2,   1.696,2,   0.064,2,     1.47,2,  -999.0,9, -999.00,9,-999.0000,9,  -999.00,   0.484,2,   1.7720,2,   -0.38,2, -999.00,9,  -999.0,9,  -999.0,   7.257,2,   0.033,     -999.0,9, -999.00,9, -999.00,9, -999.00,9,     -999.0,9,  -999.0,9, 20130421,      310,  29.9967, 162.6036,    34.7537,2,     -999.0,9,     -999.0,9,    15.8264,2,     -999.0,9,     -999.0,9,   0.0074,    0.15,   0.011
318M20130321,       P02W,      50,          1,         26,         26,2,20130421,       0104,    29.9997,   162.5996,       6024,   351.2,  15.0152,  34.5346,2,  34.5362,2,    210.7,2,     207,2,    7.81,2,     7.8,2,    0.01,2,    0.54,2,-999.000,9,-999.000,9,-999.000,9,-999.0000,9,  2056.2,2, 2270.21,2,   7.8894,2,       25,-999.000,9,-999.0000,9, -999.00,9, -999.00,9,  -999.0,9,  -999.0,-999.000,9,-999.000,     -999.0,9, -999.00,9, -999.00,9, -999.00,9,     -999.0,9,  -999.0,9, 20130421,      308,  29.9969, 162.6036,    34.6991,2,     -999.0,9,     -999.0,9,    15.0136,2,     -999.0,9,     -999.0,9,-999.0000, -999.00,-999.000
318M20130321,       P02W,      50,          1,         25,         25,2,20130421,       0104,    29.9997,   162.5996,       6024,   402.5,  13.8912,  34.4584,2,  34.4589,2,    201.8,2,   205.7,2,   10.35,2,    9.66,2,    0.01,2,    0.69,2,   3.078,2,   1.783,2,   0.059,2,     1.31,2,  -999.0,9, -999.00,9,-999.0000,9,  -999.00,   0.483,2,   1.7745,2,    0.69,2, -999.00,9,  -999.0,9,  -999.0,   7.369,2,   0.034,     -999.0,9, -999.00,9, -999.00,9, -999.00,9,     -999.0,9,  -999.0,9, 20130421,      306,  29.9971, 162.6035,    34.6214,2,     -999.0,9,     -999.0,9,    13.8895,2,     -999.0,9,     -999.0,9,   0.0075,    0.15,   0.011
318M20130321,       P02W,      50,          1,         24,         24,2,20130421,       0104,    29.9997,   162.5996,       6024,   503.1,  12.0663,  34.3353,2,  34.3348,2,    202.7,2,   205.6,2,   15.33,2,    12.8,2,       0,2,    0.89,2,   3.266,2,   1.842,2,   0.078,2,     1.35,2,  2094.4,2, 2266.41,2,   7.8063,2,       25,   0.495,2,   1.8000,2,    1.86,2, -999.00,9,  -999.0,9,  -999.0,   7.530,2,   0.035,     -999.0,9, -999.00,9, -999.00,9, -999.00,9,     -999.0,9,  -999.0,9, 20130421,      304,  29.9973, 162.6034,    34.4967,2,     -999.0,9,     -999.0,9,    12.0672,2,     -999.0,9,     -999.0,9,   0.0076,    0.15,   0.011
318M20130321,       P02W,      50,          1,         23,         23,2,20130421,       0104,    29.9997,   162.5996,       6024,   604.9,   9.4356,  34.1524,2,  34.1501,2,      186,2,   185.7,2,    28.9,2,   19.41,2,       0,2,    1.37,2,   3.315,2,   1.803,2,   0.102,2,     1.11,2,  2139.5,2, 2269.51,2,   7.7007,2,       25,   0.480,2,   1.8568,2,    5.55,2, -999.00,9,  -999.0,9,  -999.0,   7.751,2,   0.036,     -999.0,9, -999.00,9, -999.00,9, -999.00,9,     -999.0,9,  -999.0,9, 20130421,      301,  29.9974, 162.6034,    34.3111,2,     -999.0,9,     -999.0,9,     9.4463,2,     -999.0,9,     -999.0,9,   0.0078,    0.15,   0.011
318M20130321,       P02W,      50,          1,         22,         22,2,20130421,       0104,    29.9997,   162.5996,       6024,   705.6,   7.0405,  34.0339,2,  34.0352,2,    150.6,2,   151.4,2,   49.41,2,    26.9,2,       0,2,    1.91,2,-999.000,9,-999.000,9,-999.000,9,-999.0000,9,  2194.8,2, 2280.41,2,   7.5754,2,       25,-999.000,9,-999.0000,9, -999.00,9, -999.00,9,  -999.0,9,  -999.0,-999.000,9,-999.000,     -999.0,9, -999.00,9, -999.00,9, -999.00,9,     -999.0,9,  -999.0,9, 20130421,      259,  29.9975, 162.6033,    34.1957,2,     -999.0,9,     -999.0,9,     7.0388,2,     -999.0,9,     -999.0,9,-999.0000, -999.00,-999.000
318M20130321,       P02W,      50,          1,         21,         21,2,20130421,       0104,    29.9997,   162.5996,       6024,   807.5,   5.3988,  34.0477,2,  34.0482,2,    104.4,2,   103.7,2,   73.43,2,   33.97,2,       0,2,    2.46,2,   2.039,2,   1.038,2,   0.099,2,      0.5,2,  -999.0,9, -999.00,9,-999.0000,9,  -999.00,   0.330,2,   1.9015,2,   13.70,2, -999.00,9,  -999.0,9,  -999.0,   8.002,2,   0.037,     -999.0,9, -999.00,9, -999.00,9, -999.00,9,     -999.0,9,  -999.0,9, 20130421,      256,  29.9977, 162.6032,    34.2087,2,     -999.0,9,     -999.0,9,     5.4009,2,     -999.0,9,     -999.0,9,   0.0080,    0.15,   0.010
318M20130321,       P02W,      50,          1,         20,         20,2,20130421,       0104,    29.9997,   162.5996,       6024,   908.3,    4.503,  34.1501,2,  34.1497,2,     65.6,2,    63.8,2,   96.18,2,    38.8,2,       0,2,    2.78,2,   0.000,4,   0.000,4,   0.000,4,        0,4,  2302.1,2, 2322.42,2,   7.3718,2,       25,   0.217,2,   1.9193,2,   15.59,2, -999.00,9,  -999.0,9,  -999.0,   8.174,2,   0.038,     -999.0,9, -999.00,9, -999.00,9, -999.00,9,     -999.0,9,  -999.0,9, 20130421,      253,  29.9979, 162.6031,    34.3107,2,     -999.0,9,     -999.0,9,     4.5039,2,     -999.0,9,     -999.0,9,   0.0081,    0.15,   0.010
318M20130321,       P02W,      50,          1,         19,         19,2,20130421,       0104,    29.9997,   162.5996,       6024,    1009,   3.9788,  34.2302,2,  34.2303,2,       47,2,    46.9,2,  111.21,2,   40.85,2,       0,2,    2.92,2,   1.111,2,   0.000,4,   0.044,2,     0.19,2,  -999.0,9, -999.00,9,-999.0000,9,  -999.00,   0.130,2,   1.9230,2,   16.27,2, -999.00,9,  -999.0,9,  -999.0,   8.155,2,   0.038,     -999.0,9, -999.00,9, -999.00,9, -999.00,9,     -999.0,9,  -999.0,9, 20130421,      251,   29.998,  162.603,    34.3917,2,     -999.0,9,     -999.0,9,     3.9789,2,     -999.0,9,     -999.0,9,   0.0081,    0.15,   0.010
318M20130321,       P02W,      50,          1,         18,         18,2,20130421,       0104,    29.9997,   162.5996,       6024,  1109.3,   3.5321,  34.3141,2,  34.3142,2,     37.3,2,    38.7,2,  124.39,2,   41.93,2,       0,2,       3,2,   0.704,2,   0.353,2,   0.027,2,      0.1,2,  2346.4,2, 2356.54,2,   7.3338,2,       25,-999.000,9,-999.0000,9, -999.00,9, -999.00,9,  -999.0,9,  -999.0,-999.000,9,-999.000,     -999.0,9, -999.00,9, -999.00,9, -999.00,9,     -999.0,9,  -999.0,9, 20130421,      248,  29.9982, 162.6029,     34.476,2,     -999.0,9,     -999.0,9,     3.5321,2,     -999.0,9,     -999.0,9,-999.0000, -999.00,-999.000
318M20130321,       P02W,      50,          1,         17,         17,2,20130421,       0104,    29.9997,   162.5996,       6024,  1210.1,   3.2456,  34.3686,2,  34.3682,2,     34.2,2,    35.2,2,  133.46,2,   42.58,2,       0,2,    3.06,2,   0.397,2,   0.203,2,   0.017,2,     0.06,2,  -999.0,9, -999.00,9,-999.0000,9,  -999.00,   0.050,2,   1.8992,2,   16.74,2, -999.00,9,  -999.0,9,  -999.0,   8.113,2,   0.037,     -999.0,9, -999.00,9, -999.00,9, -999.00,9,     -999.0,9,  -999.0,9, 20130421,      245,  29.9984, 162.6028,    34.5303,2,     -999.0,9,     -999.0,9,     3.2474,2,     -999.0,9,     -999.0,9,   0.0080,    0.15,   0.010
318M20130321,       P02W,      50,          1,         16,         16,2,20130421,       0104,    29.9997,   162.5996,       6024,  1305.9,   2.9681,  34.4153,2,  34.4161,2,     32.2,2,      33,2,  142.14,2,   43.11,2,       0,2,    3.08,2,   0.122,2,   0.066,2,   0.011,2,     0.06,2,  2370.1,2, 2378.24,2,   7.3288,2,       25,   0.021,2,   1.9020,2,   17.35,2, -999.00,9,  -999.0,9,  -999.0,   8.179,2,   0.038,     -999.0,9, -999.00,9, -999.00,9, -999.00,9,     -999.0,9,  -999.0,9, 20130421,      243,  29.9987, 162.6026,    34.5784,2,     -999.0,9,     -999.0,9,     2.9684,2,     -999.0,9,     -999.0,9,   0.0080,    0.15,   0.011
318M20130321,       P02W,      50,          1,         15,         15,2,20130421,       0104,    29.9997,   162.5996,       6024,  1407.7,   2.7419,  34.4527,2,   34.453,2,     35.4,2,    35.4,2,  148.09,2,   43.02,2,       0,2,    3.08,2,-999.000,9,-999.000,9,-999.000,9,-999.0000,9,  2373.2,2, 2384.25,2,   7.3371,6,       25,-999.000,9,-999.0000,9, -999.00,9, -999.00,9,  -999.0,9,  -999.0,-999.000,9,-999.000,     -999.0,9, -999.00,9, -999.00,9, -999.00,9,     -999.0,9,  -999.0,9, 20130421,      240,   29.999,  162.602,    34.6155,2,     -999.0,9,     -999.0,9,     2.7427,2,     -999.0,9,     -999.0,9,-999.0000, -999.00,-999.000
318M20130321,       P02W,      50,          1,         14,         14,2,20130421,       0104,    29.9997,   162.5996,       6024,  1610.5,   2.4066,  34.5144,2,  34.5146,2,     44.1,2,    43.8,2,  157.17,2,   42.31,2,       0,2,    3.05,2,   0.037,2,   0.022,2,   0.009,2,     0.04,2,  2378.4,2, 2397.15,2,   7.3579,2,       25,   0.004,2,   1.9866,2,   18.54,2, -999.00,9,  -999.0,9,  -999.0,   8.351,2,   0.038,     -999.0,9, -999.00,9, -999.00,9, -999.00,9,     -999.0,9,  -999.0,9, 20130421,      236,  29.9992, 162.6018,    34.6774,2,     -999.0,9,     -999.0,9,     2.4062,2,     -999.0,9,     -999.0,9,   0.0083,    0.15,   0.011
318M20130321,       P02W,      50,          1,         13,         13,2,20130421,       0104,    29.9997,   162.5996,       6024,  1814.8,   2.1764,  34.5566,2,  34.5553,2,     55.9,2,    55.3,2,  160.97,2,   42.11,2,       0,2,    2.99,2,-999.000,9,-999.000,9,-999.000,9,-999.0000,9,  2376.6,2, 2405.15,2,   7.3842,2,       25,-999.000,9,-999.0000,9, -999.00,9, -999.00,9,  -999.0,9,  -999.0,-999.000,9,-999.000,     -999.0,9, -999.00,9, -999.00,9, -999.00,9,     -999.0,9,  -999.0,9, 20130421,      231,  29.9996, 162.6015,    34.7182,2,     -999.0,9,     -999.0,9,     2.1768,2,     -999.0,9,     -999.0,9,-999.0000, -999.00,-999.000
318M20130321,       P02W,      50,          1,         12,         12,2,20130421,       0104,    29.9997,   162.5996,       6024,    1816,   2.1768,  34.5563,2,  34.5565,2,     56.1,2,    55.7,2,  161.16,2,   42.11,2,       0,2,       3,2,   0.022,2,   0.016,2,   0.009,2,    -0.03,2,    2378,2, 2403.75,2,   7.3846,2,       25,  -0.003,6,   1.9541,2,   18.80,2, -999.00,9,  -999.0,9,  -999.0,   8.273,2,   0.038,     -999.0,9, -999.00,9, -999.00,9, -999.00,9,     -999.0,9,  -999.0,9, 20130421,      231,  29.9996, 162.6015,    34.7194,2,     -999.0,9,     -999.0,9,     2.1766,2,     -999.0,9,     -999.0,9,   0.0082,    0.15,   0.008
318M20130321,       P02W,      50,          1,         11,         11,2,20130421,       0104,    29.9997,   162.5996,       6024,  2117.1,   1.9182,  34.6088,2,  34.6083,2,     86.8,2,    86.9,2,  158.52,2,   40.16,2,       0,2,    2.85,2,   0.012,2,   0.009,2,   0.006,2,    -0.01,2,  2360.9,2, 2410.06,2,   7.4492,2,       25,  -0.006,2,   1.9218,2,   18.76,2, -999.00,9,  -999.0,9,  -999.0,   8.229,2,   0.038,     -999.0,9, -999.00,9, -999.00,9, -999.00,9,     -999.0,9,  -999.0,9, 20130421,      225,  29.9999, 162.6012,    34.7715,2,     -999.0,9,     -999.0,9,     1.9179,2,     -999.0,9,     -999.0,9,   0.0081,    0.15,   0.011
318M20130321,       P02W,      50,          1,         10,         10,2,20130421,       0104,    29.9997,   162.5996,       6024,  2476.2,   1.7206,  34.6365,2,  34.6352,2,    105.5,2,   103.6,2,  159.89,2,   39.07,2,       0,2,    2.78,2,   0.009,2,   0.009,2,   0.003,2,     0.01,2,  -999.0,9, -999.00,9,-999.0000,9,  -999.00,-999.000,9,-999.0000,9, -999.00,9, -999.00,9,  -999.0,9,  -999.0,-999.000,9,-999.000,     -999.0,9, -999.00,9, -999.00,9, -999.00,9,     -999.0,9,  -999.0,9, 20130421,      218,  30.0002,  162.601,    34.7986,2,     -999.0,9,     -999.0,9,     1.7213,2,     -999.0,9,     -999.0,9,-999.0000, -999.00,-999.000
318M20130321,       P02W,      50,          1,          9,          9,2,20130421,       0104,    29.9997,   162.5996,       6024,  2856.1,   1.6032,  34.6561,2,  34.6549,2,    121.7,2,   121.6,2,  156.76,2,   37.91,2,       0,2,    2.67,2,-999.000,9,-999.000,9,-999.000,9,-999.0000,9,  -999.0,9, -999.00,9,-999.0000,9,  -999.00,-999.000,9,-999.0000,9, -999.00,9, -999.00,9,  -999.0,9,  -999.0,-999.000,9,-999.000,     -999.0,9, -999.00,9, -999.00,9, -999.00,9,     -999.0,9,  -999.0,9, 20130421,      211,  30.0004, 162.6007,    34.8183,2,     -999.0,9,     -999.0,9,     1.6034,2,     -999.0,9,     -999.0,9,-999.0000, -999.00,-999.000
318M20130321,       P02W,      50,          1,          8,          8,2,20130421,       0104,    29.9997,   162.5996,       6024,  3240.8,   1.5346,  34.6685,2,  34.6677,2,      133,2,   133.7,2,  153.63,2,   37.15,2,       0,2,    2.61,2,   0.009,2,   0.010,2,   0.006,2,     0.02,2,  2334.2,2, 2414.06,2,   7.5374,2,       25,-999.000,9,-999.0000,9, -999.00,9, -999.00,9,  -999.0,9,  -999.0,-999.000,9,-999.000,     -999.0,9, -999.00,9, -999.00,9, -999.00,9,     -999.0,9,  -999.0,9, 20130421,      203,  30.0003, 162.6006,    34.8311,2,     -999.0,9,     -999.0,9,     1.5348,2,     -999.0,9,     -999.0,9,-999.0000, -999.00,-999.000