BOTTLE,20220817CCHSIOAMB
EXPOCODE,SECT_ID,STNNBR,CASTNO,SAMPNO,BTLNBR,BTLNBR_FLAG_W,DATE,TIME,LATITUDE,LONGITUDE,DEPTH,CTDPRS,CTDTMP,CTDSAL,CTDSAL_FLAG_W,SALNTY,SALNTY_FLAG_W,CTDOXY,CTDOXY_FLAG_W,OXYGEN,OXYGEN_FLAG_W,SILCAT,SILCAT_FLAG_W,NITRAT,NITRAT_FLAG_W,NITRIT,NITRIT_FLAG_W,PHSPHT,PHSPHT_FLAG_W,CFC-11,CFC-11_FLAG_W,CFC-12,CFC-12_FLAG_W,CFC113,CFC113_FLAG_W,SF6,SF6_FLAG_W,TCARBN,TCARBN_FLAG_W,ALKALI,ALKALI_FLAG_W,PH_TOT,PH_TOT_FLAG_W,PH_TMP,TRITUM,TRITUM_FLAG_W,HELIUM,HELIUM_FLAG_W,DELHE3,DELHE3_FLAG_W,DELC13,DELC13_FLAG_W,DELC14,DELC14_FLAG_W,C14ERR,NEON,NEON_FLAG_W,NEONER,I-129,I-129_FLAG_W,SR-90,SR-90_FLAG_W,DOC,DOC_FLAG_W,TDN,TDN_FLAG_W,CALCIUM,CALCIUM_FLAG_W,D15N_NO3,D15N_NO3_FLAG_W,BTL_DATE,BTL_TIME,BTL_LAT,BTL_LON,SALTREF,SALTREF_FLAG_W,CS-137,CS-137_FLAG_W,CS-134,CS-134_FLAG_W,REFTMP,REFTMP_FLAG_W,LAB_DEN,LAB_DEN_FLAG_W,D18O_NO3,D18O_NO3_FLAG_W,HELIER,DELHER,TRITER
,,,,,,,,,,,METERS,DBAR,ITS-90,PSS-78,,PSS-78,,UMOL/KG,,UMOL/KG,,UMOL/KG,,UMOL/KG,,UMOL/KG,,UMOL/KG,,PMOL/KG,,PMOL/KG,,PMOL/KG,,FMOL/KG,,UMOL/KG,,UMOL/KG,,,,DEG C,TU,,NMOL/KG,,PERCNT,,/MILLE,,/MILLE,,/MILLE,NMOL/KG,,NMOL/KG,BQ/M^3,,DM/.1MG,,UMOL/KG,,UMOL/KG,,MMOL/KG,,/MILLE,,,,,,G/KG,,BQ/M^3,,BQ/M^3,,ITS-90,,,,/MILLE,,NMOL/KG,PERCNT,TU
318M20130321,       P02E,      97,          1,         36,         36,2,20130515,       0647,    30.0002,  -157.1623,       5992,     2.2,  21.2663,   35.148,2,-999.0000,5,    222.7,2,   224.1,2,    1.66,2,       0,2,       0,2,       0,2,   1.886,2,   1.148,2,-999.000,5,   1.3649,2,  2022.6,2, 2311.02,2,   8.0229,2,       25,   0.520,2,   1.7370,2,   -1.06,2,    0.74,2,    43.4,2,     3.0,   7.040,2,   0.032,     -999.0,9, -999.00,9,   67.44,2,    3.73,2,     -999.0,9,  -999.0,9, 20130515,      904,  29.9998,-157.1621,     -999.0,5,     -999.0,9,     -999.0,9,    21.2685,2,     -999.0,9,     -999.0,9,   0.0073,    0.15,   0.011
318M20130321,       P02E,      97,          1,         34,         34,2,20130515,       0647,    30.0002,  -157.1623,       5992,    35.2,  21.1886,  35.1716,2,  35.1721,2,    224.6,2,     224,2,    1.56,2,       0,2,       0,2,       0,2,   1.880,2,   1.140,2,-999.000,5,   1.3754,2,  2024.2,2, 2313.52,2,   8.0231,6,       25,   0.518,2,   1.7289,2,   -0.92,2,    0.73,2,    45.5,2,     4.2,   6.991,2,   0.032,     -999.0,9, -999.00,9,   67.67,2,    4.12,2,     -999.0,9,  -999.0,9, 20130515,      901,  29.9997,-157.1622,     35.338,2,     -999.0,9,     -999.0,9,    21.1873,2,     -999.0,9,     -999.0,9,   0.0073,    0.15,   0.011
318M20130321,       P02E,      97,          1,         33,         33,2,20130515,       0647,    30.0002,  -157.1623,       5992,    60.1,  19.6322,   34.998,2,  35.0014,2,      232,2,   231.8,2,    2.15,2,       0,2,       0,2,       0,2,   2.017,2,   1.222,2,-999.000,5,   1.4374,2,  -999.0,9, -999.00,9,-999.0000,9,  -999.00,-999.000,9,-999.0000,9, -999.00,9, -999.00,9,  -999.0,9,  -999.0,-999.000,9,-999.000,     -999.0,9, -999.00,9,   65.93,2,     4.3,2,     -999.0,9,  -999.0,9, 20130515,      900,  29.9998,-157.1624,    35.1665,2,     -999.0,9,     -999.0,9,    19.6312,2,     -999.0,9,     -999.0,9,-999.0000, -999.00,-999.000
318M20130321,       P02E,      97,          1,         32,         32,2,20130515,       0647,    30.0002,  -157.1623,       5992,    84.2,  19.1495,  34.9307,2,  34.9312,2,    230.6,2,   231.4,2,    2.34,2,       0,2,       0,2,       0,2,   2.057,2,   1.252,2,-999.000,5,   1.4216,2,  2022.4,2, 2294.01,6,   8.0036,2,       25,-999.000,9,-999.0000,9, -999.00,9,    0.73,2,    51.3,2,     3.6,-999.000,9,-999.000,     -999.0,9, -999.00,9,   65.72,2,     3.8,2,     -999.0,9,  -999.0,9, 20130515,      858,  29.9999,-157.1626,    35.0959,2,     -999.0,9,     -999.0,9,    19.1462,2,     -999.0,9,     -999.0,9,-999.0000, -999.00,-999.000
318M20130321,       P02E,      97,          1,         31,         31,2,20130515,       0647,    30.0002,  -157.1623,       5992,   114.8,  18.2269,  34.7429,2,  34.7516,2,    232.6,2,   231.5,2,    2.64,2,       0,2,       0,2,    0.02,2,   2.142,2,   1.295,2,-999.000,5,   1.4681,2,  -999.0,9, -999.00,9,-999.0000,9,  -999.00,   0.523,2,   1.7549,2,   -1.08,2, -999.00,9,  -999.0,9,  -999.0,   7.128,2,   0.033,     -999.0,9, -999.00,9,   64.15,2,    4.04,2,     -999.0,9,  -999.0,9, 20130515,      856,  30.0001,-157.1627,    34.9155,2,     -999.0,9,     -999.0,9,    18.2435,2,     -999.0,9,     -999.0,9,   0.0074,    0.15,   0.011
318M20130321,       P02E,      97,          1,         30,         30,2,20130515,       0647,    30.0002,  -157.1623,       5992,   164.6,  15.3666,  34.4714,2,  34.4629,2,    217.7,2,   216.2,2,    5.47,2,     4.6,2,    0.03,2,    0.34,2,   2.506,2,   1.475,2,-999.000,5,   1.4652,2,  2052.8,2,    2265,2,   7.8945,2,       25,-999.000,9,-999.0000,9, -999.00,9,    0.44,2,    49.7,2,     2.7,-999.000,9,-999.000,     -999.0,9, -999.00,9,   51.23,2,    8.18,2,     -999.0,9,  -999.0,9, 20130515,      854,  30.0002,-157.1627,    34.6254,2,     -999.0,9,     -999.0,9,    15.3683,2,     -999.0,9,     -999.0,9,-999.0000, -999.00,-999.000
318M20130321,       P02E,      97,          1,         29,         29,2,20130515,       0647,    30.0002,  -157.1623,       5992,     215,   13.543,   34.353,2,   34.351,2,    209.7,2,   213.2,2,     8.4,2,    8.31,2,    0.01,2,    0.58,2,   2.710,2,   1.562,2,-999.000,5,   1.4817,2,  -999.0,9, -999.00,9,-999.0000,9,  -999.00,   0.514,2,   1.7926,2,    0.23,2, -999.00,9,  -999.0,9,  -999.0,   7.332,2,   0.034,     -999.0,9, -999.00,9,   46.88,2,    10.9,2,     -999.0,9,  -999.0,9, 20130515,      852,  30.0002,-157.1626,     34.513,2,     -999.0,9,     -999.0,9,    13.5377,2,     -999.0,9,     -999.0,9,   0.0075,    0.15,   0.011
318M20130321,       P02E,      97,          1,         28,         28,2,20130515,       0647,    30.0002,  -157.1623,       5992,   265.9,   12.154,  34.2765,2,  34.2755,2,    212.7,2,   213.2,2,   11.62,2,   10.98,2,    0.01,2,    0.75,2,   2.882,2,   1.630,2,-999.000,5,   1.4642,2,  2087.1,2,  2259.1,2,   7.8102,2,       25,-999.000,9,-999.0000,9, -999.00,9,    0.29,2,    46.4,2,     3.2,-999.000,9,-999.000,     -999.0,9, -999.00,9, -999.00,5,   14.54,2,     -999.0,9,  -999.0,9, 20130515,      851,       30,-157.1624,    34.4371,2,     -999.0,9,     -999.0,9,    12.1554,2,     -999.0,9,     -999.0,9,-999.0000, -999.00,-999.000
318M20130321,       P02E,      97,          1,         27,         27,2,20130515,       0647,    30.0002,  -157.1623,       5992,   315.9,  11.1223,  34.2126,2,  34.2143,2,    215.9,2,   218.3,2,   14.45,2,   12.65,2,    0.01,2,    0.88,2,   3.007,2,   1.699,2,-999.000,5,   1.4426,2,  -999.0,9, -999.00,9,-999.0000,9,  -999.00,   0.510,2,   1.8332,2,    0.95,2, -999.00,9,  -999.0,9,  -999.0,   7.511,2,   0.035,     -999.0,9, -999.00,9,   46.68,2,   15.89,2,     -999.0,9,  -999.0,9, 20130515,      849,  29.9998,-157.1625,    34.3756,2,     -999.0,9,     -999.0,9,    11.1191,2,     -999.0,9,     -999.0,9,   0.0077,    0.15,   0.012
318M20130321,       P02E,      97,          1,         26,         26,2,20130515,       0647,    30.0002,  -157.1623,       5992,   368.5,  10.0742,  34.1437,2,  34.1437,2,    207.4,2,   207.3,2,   19.14,2,   15.74,2,       0,2,    1.09,2,   3.096,2,   1.698,2,-999.000,5,    1.245,2,  2116.6,2,  2260.6,2,   7.7426,2,       25,-999.000,9,-999.0000,9, -999.00,9,    0.22,2,    38.1,2,     3.1,-999.000,9,-999.000,     -999.0,9, -999.00,9,   45.21,2, -999.00,9,     -999.0,9,  -999.0,9, 20130515,      847,  29.9995,-157.1626,    34.3048,2,     -999.0,9,     -999.0,9,    10.0714,2,     -999.0,9,     -999.0,9,-999.0000, -999.00,-999.000
318M20130321,       P02E,      97,          1,         25,         25,2,20130515,       0647,    30.0002,  -157.1623,       5992,   437.6,   8.7873,  34.0707,2,   34.071,2,    187.4,2,   186.9,2,   27.83,2,    20.2,2,       0,2,    1.41,2,   3.060,2,   1.647,2,-999.000,5,     1.05,2,  2146.3,2,  2264.3,2,   7.6762,2,       25,   0.505,2,   1.7948,2,    4.36,2,    0.09,2,    28.3,2,     3.0,   7.714,2,   0.035,     -999.0,9, -999.00,9,   44.86,2, -999.00,9,     -999.0,9,  -999.0,9, 20130515,      844,  29.9993,-157.1627,    34.2317,2,     -999.0,9,     -999.0,9,     8.7884,2,     -999.0,9,     -999.0,9,   0.0075,    0.15,   0.012
318M20130321,       P02E,      97,          1,         24,         24,2,20130515,       0647,    30.0002,  -157.1623,       5992,   536.6,   6.8072,  34.0005,2,  34.0003,2,    141.5,2,   133.7,2,   49.32,2,   29.02,2,       0,2,    2.05,2,   2.463,2,   1.261,2,-999.000,5,   0.6532,2,  2208.8,2, 2277.51,2,   7.5287,2,       25,   0.450,2,   1.8253,2,   10.63,2,   -0.07,2,   -31.7,2,     2.5,   7.889,2,   0.036,     -999.0,9, -999.00,9,   43.08,2, -999.00,9,     -999.0,9,  -999.0,9, 20130515,      842,  29.9994,-157.1626,    34.1607,2,     -999.0,9,     -999.0,9,     6.8065,2,     -999.0,9,     -999.0,9,   0.0077,    0.15,   0.011
318M20130321,       P02E,      97,          1,         23,         23,2,20130515,       0647,    30.0002,  -157.1623,       5992,   638.1,   5.5446,  34.0182,2,   34.018,2,     87.7,2,    86.1,2,   69.92,2,   35.59,2,       0,2,    2.55,2,   1.589,2,   0.781,2,-999.000,5,   0.3502,2,  2262.7,2, 2293.61,2,   7.4111,2,       25,   0.366,2,   1.8439,2,   14.83,2,   -0.32,2,   -78.5,2,     2.8,   8.000,2,   0.037,     -999.0,9, -999.00,9,   40.18,2, -999.00,9,     -999.0,9,  -999.0,9, 20130515,      839,  29.9998,-157.1627,    34.1784,2,     -999.0,9,     -999.0,9,     5.5456,2,     -999.0,9,     -999.0,9,   0.0077,    0.15,   0.011
318M20130321,       P02E,      97,          1,         22,         22,2,20130515,       0647,    30.0002,  -157.1623,       5992,   740.6,   4.6039,  34.1069,2,  34.1083,2,     45.9,2,    45.3,2,   91.98,2,   40.58,2,       0,2,    2.91,2,   0.624,2,   0.297,2,-999.000,5,   0.1486,2,  -999.0,9, -999.00,9,-999.0000,9,  -999.00,   0.211,2,   1.8568,2,   16.59,2, -999.00,9,  -999.0,9,  -999.0,   7.987,2,   0.037,     -999.0,9, -999.00,9,   40.88,2, -999.00,9,     -999.0,9,  -999.0,9, 20130515,      836,       30,-157.1625,    34.2691,2,     -999.0,9,     -999.0,9,     4.6028,2,     -999.0,9,     -999.0,9,   0.0078,    0.15,   0.011
318M20130321,       P02E,      97,          1,         21,         21,2,20130515,       0647,    30.0002,  -157.1623,       5992,   841.8,   4.0977,  34.2156,2,  34.2142,2,     21.3,2,    20.5,2,  108.87,2,   43.05,2,       0,2,     3.1,2,   0.144,2,   0.074,2,-999.000,5,   0.0581,2,    2345,2, 2338.63,2,   7.2901,2,       25,-999.000,9,-999.0000,9, -999.00,9,   -0.56,2,  -172.6,2,     2.2,-999.000,9,-999.000,     -999.0,9, -999.00,9,   39.62,2, -999.00,9,     -999.0,9,  -999.0,9, 20130515,      834,       30,-157.1621,    34.3755,2,     -999.0,9,     -999.0,9,     4.0963,2,     -999.0,9,     -999.0,9,-999.0000, -999.00,-999.000
318M20130321,       P02E,      97,          1,         20,         20,2,20130515,       0647,    30.0002,  -157.1623,       5992,   940.3,   3.7531,  34.3189,2,  34.3186,2,     11.5,2,    12.5,2,  121.16,2,   43.94,2,       0,2,    3.19,2,   0.025,2,   0.017,2,-999.000,5,        0,2,  2363.8,2, 2355.14,2,   7.2866,2,       25,   0.029,2,   1.8993,2,   15.24,2,   -0.60,2,  -198.6,2,     2.1,   8.130,2,   0.037,     -999.0,9, -999.00,9,   39.41,2, -999.00,9,     -999.0,9,  -999.0,9, 20130515,      831,  30.0001,-157.1621,    34.4804,2,     -999.0,9,     -999.0,9,      3.753,2,     -999.0,9,     -999.0,9,   0.0080,    0.15,   0.011
318M20130321,       P02E,      97,          1,         19,         19,2,20130515,       0647,    30.0002,  -157.1623,       5992,  1042.4,   3.5518,  34.3867,2,  34.3865,2,     14.1,2,    15.5,2,   127.4,2,   43.93,2,       0,2,     3.2,2,   0.012,2,   0.008,2,-999.000,5,        0,2,  2369.6,2, 2367.44,2,   7.3114,2,       25,   0.012,6,   1.9112,2,   16.91,2,   -0.56,2,  -206.8,2,     2.4,   8.155,2,   0.038,     -999.0,9, -999.00,9,   38.63,2, -999.00,9,     -999.0,9,  -999.0,9, 20130515,      828,  30.0001,-157.1624,    34.5486,2,     -999.0,9,     -999.0,9,     3.5522,2,     -999.0,9,     -999.0,9,   0.0080,    0.15,   0.011
318M20130321,       P02E,      97,          1,         18,         18,2,20130515,       0647,    30.0002,  -157.1623,       5992,  1144.2,   3.3413,  34.4445,2,  34.4446,2,     21.7,2,    22.5,2,  133.16,2,   43.72,2,       0,2,    3.17,2,   0.008,2,   0.007,2,-999.000,5,        0,2,  -999.0,9, -999.00,9,-999.0000,9,  -999.00,   0.006,2,   1.9126,2,   18.52,2, -999.00,9,  -999.0,9,  -999.0,   8.085,2,   0.037,     -999.0,9, -999.00,9,   37.88,2, -999.00,9,     -999.0,9,  -999.0,9, 20130515,      826,  29.9999,-157.1627,     34.607,2,     -999.0,9,     -999.0,9,     3.3413,2,     -999.0,9,     -999.0,9,   0.0080,    0.15,   0.011
318M20130321,       P02E,      97,          1,         17,         17,2,20130515,       0647,    30.0002,  -157.1623,       5992,  1245.3,   3.1173,   34.487,2,  34.4876,2,     31.1,2,    31.1,2,  138.04,2,   43.32,2,       0,2,    3.14,2,   0.008,2,   0.009,2,-999.000,5,        0,2,  2373.5,2, 2385.35,2,    7.343,6,       25,-999.000,9,-999.0000,9, -999.00,9,   -0.43,2,  -222.4,2,     2.0,-999.000,9,-999.000,     -999.0,9, -999.00,9,   37.94,2, -999.00,9,     -999.0,9,  -999.0,9, 20130515,      823,  29.9998,-157.1629,    34.6502,2,     -999.0,9,     -999.0,9,     3.1169,2,     -999.0,9,     -999.0,9,-999.0000, -999.00,-999.000
318M20130321,       P02E,      97,          1,         16,         16,2,20130515,       0647,    30.0002,  -157.1623,       5992,    1347,   2.9295,  34.5175,2,  34.5184,2,     39.8,2,      41,2,  141.84,2,   42.84,2,       0,2,    3.09,2,   0.006,2,   0.005,2,-999.000,5,        0,2,  -999.0,9, -999.00,9,-999.0000,9,  -999.00,  -0.005,2,   1.9227,2,   20.56,2, -999.00,9,  -999.0,9,  -999.0,   8.147,2,   0.037,     -999.0,9, -999.00,9,   35.88,2, -999.00,9,     -999.0,9,  -999.0,9, 20130515,      820,  29.9999,-157.1629,    34.6812,2,     -999.0,9,     -999.0,9,      2.929,2,     -999.0,9,     -999.0,9,   0.0081,    0.15,   0.011
318M20130321,       P02E,      97,          1,         15,         15,2,20130515,       0647,    30.0002,  -157.1623,       5992,  1479.7,   2.7014,  34.5457,2,  34.5463,2,     51.9,2,    51.3,2,  146.13,2,   42.24,2,       0,2,    3.04,2,   0.004,2,   0.003,2,-999.000,5,        0,2,  2372.1,2, 2398.25,2,   7.3862,2,       25,  -0.007,2,   1.9482,2,   21.31,2,   -0.37,2,  -238.6,2,     2.0,   8.165,2,   0.038,     -999.0,9, -999.00,9,    37.1,2, -999.00,9,     -999.0,9,  -999.0,9, 20130515,      817,  30.0001,-157.1627,    34.7092,2,     -999.0,9,     -999.0,9,     2.7026,2,     -999.0,9,     -999.0,9,   0.0082,    0.15,   0.011
318M20130321,       P02E,      97,          1,         14,         14,2,20130515,       0647,    30.0002,  -157.1623,       5992,  1681.5,   2.3823,  34.5787,2,  34.5783,2,     65.1,2,    64.8,2,  152.77,2,   41.44,2,       0,2,    2.97,2,   0.004,2,   0.003,2,-999.000,5,        0,2,  -999.0,9, -999.00,9,-999.0000,9,  -999.00,  -0.006,6,   1.9548,2,   21.66,2, -999.00,9,  -999.0,9,  -999.0,   8.163,2,   0.038,     -999.0,9, -999.00,9,    36.4,2, -999.00,9,     -999.0,9,  -999.0,9, 20130515,      812,  30.0002,-157.1629,    34.7414,2,     -999.0,9,     -999.0,9,     2.3824,2,     -999.0,9,     -999.0,9,   0.0082,    0.15,   0.011
318M20130321,       P02E,      97,          1,         13,         13,2,20130515,       0647,    30.0002,  -157.1623,       5992,  1883.2,   2.1322,  34.6016,2,  34.6015,2,     74.7,2,    73.6,2,   159.3,2,   40.92,2,       0,2,    2.92,2,   0.006,2,   0.004,2,-999.000,5,        0,2,  2372.1,2, 2412.46,2,   7.4294,2,       25,-999.000,9,-999.0000,9, -999.00,9,   -0.25,2,  -247.6,2,     1.9,-999.000,9,-999.000,     -999.0,9, -999.00,9,   35.74,2, -999.00,9,     -999.0,9,  -999.0,9, 20130515,      808,  29.9998,-157.1628,    34.7647,2,     -999.0,9,     -999.0,9,      2.132,2,     -999.0,9,     -999.0,9,-999.0000, -999.00,-999.000
318M20130321,       P02E,      97,          1,         12,         12,2,20130515,       0647,    30.0002,  -157.1623,       5992,  2120.7,   1.9238,  34.6234,2,  34.6241,2,     87.2,2,    86.9,2,  163.01,2,   40.09,2,       0,2,    2.86,2,   0.003,2,   0.001,2,-999.000,5,        0,2,  2367.3,2, 2416.16,2,   7.4559,2,       25,   0.006,2,   1.9505,2,   21.36,2,   -0.19,2,  -246.5,2,     1.9,   8.265,2,   0.038,     -999.0,9, -999.00,9, -999.00,5, -999.00,9,     -999.0,9,  -999.0,9, 20130515,      803,  29.9997, -157.162,    34.7874,2,     -999.0,9,     -999.0,9,     1.9246,2,     -999.0,9,     -999.0,9,   0.0082,    0.15,   0.011
318M20130321,       P02E,      97,          1,         11,         11,2,20130515,       0647,    30.0002,  -157.1623,       5992,  2429.4,    1.752,  34.6417,2,  34.6422,2,    100.4,2,    99.2,2,  166.42,2,   39.38,2,       0,2,    2.79,2,   0.003,2,   0.001,2,-999.000,5,        0,2,  -999.0,9, -999.00,9,-999.0000,9,  -999.00,-999.000,9,-999.0000,9, -999.00,9, -999.00,9,  -999.0,9,  -999.0,-999.000,9,-999.000,     -999.0,9, -999.00,9,   36.21,2, -999.00,9,     -999.0,9,  -999.0,9, 20130515,      757,  30.0003,-157.1625,    34.8056,2,     -999.0,9,     -999.0,9,     1.7513,2,     -999.0,9,     -999.0,9,-999.0000, -999.00,-999.000
318M20130321,       P02E,      97,          1,         10,         10,2,20130515,       0647,    30.0002,  -157.1623,       5992,    2735,   1.6387,  34.6558,2,   34.656,2,    111.2,2,   111.6,2,  166.03,2,   38.61,2,       0,2,    2.72,2,   0.003,2,   0.001,2,-999.000,5,        0,2,  2357.4,2, 2423.06,2,   7.5015,2,       25,-999.000,9,-999.0000,9, -999.00,9, -999.00,9,  -999.0,9,  -999.0,-999.000,9,-999.000,     -999.0,9, -999.00,9,   34.49,2, -999.00,9,     -999.0,9,  -999.0,9, 20130515,      751,  29.9999,-157.1625,    34.8194,2,     -999.0,9,     -999.0,9,     1.6388,2,     -999.0,9,     -999.0,9,-999.0000, -999.00,-999.000
318M20130321,       P02E,      97,          1,          9,          9,2,20130515,       0647,    30.0002,  -157.1623,       5992,  3038.8,   1.5717,  34.6652,2,  34.6646,2,    121.6,2,   120.9,2,  164.18,2,   37.96,2,       0,2,    2.67,2,   0.006,2,   0.004,2,-999.000,5,        0,2,  -999.0,9, -999.00,9,-999.0000,9,  -999.00,-999.000,9,-999.0000,9, -999.00,9, -999.00,9,  -999.0,9,  -999.0,-999.000,9,-999.000,     -999.0,9, -999.00,9,   35.35,2, -999.00,9,     -999.0,9,  -999.0,9, 20130515,      745,  30.0002,-157.1619,    34.8281,2,     -999.0,9,     -999.0,9,     1.5719,2,     -999.0,9,     -999.0,9,-999.0000, -999.00,-999.000
318M20130321,       P02E,      97,          1,          8,          8,2,20130515,       0647,    30.0002,  -157.1623,       5992,  3343.9,    1.526,  34.6724,2,  34.6721,2,      129,2,   129.8,2,  161.93,2,    37.4,2,       0,2,    2.63,2,   0.003,2,   0.002,2,-999.000,5,        0,2,  2345.3,2, 2424.56,2,   7.5392,2,       25,-999.000,9,-999.0000,9, -999.00,9, -999.00,9,  -999.0,9,  -999.0,-999.000,9,-999.000,     -999.0,9, -999.00,9,   35.91,2, -999.00,9,     -999.0,9,  -999.0,9, 20130515,      739,  30.0004,-157.1628,    34.8356,2,     -999.0,9,     -999.0,9,     1.5258,2,     -999.0,9,     -999.0,9,-999.0000, -999.00,-999.000
318M20130321,       P02E,      97,          1,          7,          7,2,20130515,       0647,    30.0002,  -157.1623,       5992,  3789.4,   1.4835,  34.6799,2,  34.6794,2,    140.3,2,   141.1,2,  157.93,2,   36.65,2,       0,2,    2.58,2,   0.003,2,   0.002,2,-999.000,5,        0,2,  2336.3,2, 2420.66,2,   7.5579,2,       25,-999.000,9,-999.0000,9, -999.00,9, -999.00,9,  -999.0,9,  -999.0,-999.000,9,-999.000,     -999.0,9, -999.00,9,   34.86,2, -999.00,9,     -999.0,9,  -999.0,9, 20130515,      731,  30.0001,-157.1621,    34.8429,2,     -999.0,9,     -999.0,9,     1.4834,2,     -999.0,9,     -999.0,9,-999.0000, -999.00,-999.000