BOTTLE,20220817CCHSIOAMB
EXPOCODE,SECT_ID,STNNBR,CASTNO,SAMPNO,BTLNBR,BTLNBR_FLAG_W,DATE,TIME,LATITUDE,LONGITUDE,DEPTH,CTDPRS,CTDTMP,CTDSAL,CTDSAL_FLAG_W,SALNTY,SALNTY_FLAG_W,CTDOXY,CTDOXY_FLAG_W,OXYGEN,OXYGEN_FLAG_W,SILCAT,SILCAT_FLAG_W,NITRAT,NITRAT_FLAG_W,NITRIT,NITRIT_FLAG_W,PHSPHT,PHSPHT_FLAG_W,CFC-11,CFC-11_FLAG_W,CFC-12,CFC-12_FLAG_W,CFC113,CFC113_FLAG_W,SF6,SF6_FLAG_W,TCARBN,TCARBN_FLAG_W,ALKALI,ALKALI_FLAG_W,PH_TOT,PH_TOT_FLAG_W,PH_TMP,TRITUM,TRITUM_FLAG_W,HELIUM,HELIUM_FLAG_W,DELHE3,DELHE3_FLAG_W,DELC13,DELC13_FLAG_W,DELC14,DELC14_FLAG_W,C14ERR,NEON,NEON_FLAG_W,NEONER,I-129,I-129_FLAG_W,SR-90,SR-90_FLAG_W,DOC,DOC_FLAG_W,TDN,TDN_FLAG_W,CALCIUM,CALCIUM_FLAG_W,D15N_NO3,D15N_NO3_FLAG_W,BTL_DATE,BTL_TIME,BTL_LAT,BTL_LON,SALTREF,SALTREF_FLAG_W,CS-137,CS-137_FLAG_W,CS-134,CS-134_FLAG_W,REFTMP,REFTMP_FLAG_W,LAB_DEN,LAB_DEN_FLAG_W,D18O_NO3,D18O_NO3_FLAG_W,HELIER,DELHER,TRITER
,,,,,,,,,,,METERS,DBAR,ITS-90,PSS-78,,PSS-78,,UMOL/KG,,UMOL/KG,,UMOL/KG,,UMOL/KG,,UMOL/KG,,UMOL/KG,,PMOL/KG,,PMOL/KG,,PMOL/KG,,FMOL/KG,,UMOL/KG,,UMOL/KG,,,,DEG C,TU,,NMOL/KG,,PERCNT,,/MILLE,,/MILLE,,/MILLE,NMOL/KG,,NMOL/KG,BQ/M^3,,DM/.1MG,,UMOL/KG,,UMOL/KG,,MMOL/KG,,/MILLE,,,,,,G/KG,,BQ/M^3,,BQ/M^3,,ITS-90,,,,/MILLE,,NMOL/KG,PERCNT,TU
318M20130321,       P02W,      10,          1,         36,         36,2,20130324,       1037,    31.4592,   133.8142,       4789,     3.5,  20.3989,  34.7478,2,  34.7465,2,    224.5,2,   224.7,2,    1.37,2,       0,2,       0,2,    0.02,2,   2.132,2,   1.267,2,   0.163,2,     1.56,2,    1983,6, 2279.24,2,   8.0407,2,       25,-999.000,9,-999.0000,9, -999.00,9, -999.00,9,  -999.0,9,  -999.0,-999.000,9,-999.000,     -999.0,9, -999.00,9, -999.00,9, -999.00,9,     -999.0,9,  -999.0,1, 20130324,     1243,  31.4539, 133.8226,    34.9103,2,     -999.0,9,     -999.0,9,    20.3992,2,     -999.0,9,     -999.0,1,-999.0000, -999.00,-999.000
318M20130321,       P02W,      10,          1,         35,         35,2,20130324,       1037,    31.4592,   133.8142,       4789,    26.2,  20.4367,  34.7617,2,   34.761,2,    223.5,2,   224.6,2,    1.37,2,       0,2,       0,2,    0.01,2,   2.134,2,   1.264,2,   0.170,2,     1.56,2,  1984.4,2, 2280.74,2,   8.0435,6,       25,-999.000,9,-999.0000,9, -999.00,9, -999.00,9,  -999.0,9,  -999.0,-999.000,9,-999.000,     -999.0,9, -999.00,9, -999.00,9, -999.00,9,     -999.0,9,  -999.0,1, 20130324,     1241,  31.4539, 133.8226,    34.9249,2,     -999.0,9,     -999.0,9,    20.4371,2,     -999.0,9,     -999.0,1,-999.0000, -999.00,-999.000
318M20130321,       P02W,      10,          1,         34,         34,2,20130324,       1037,    31.4592,   133.8142,       4789,    46.2,  20.4136,   34.765,2,  34.7638,2,    221.2,2,   223.9,2,    1.37,2,       0,2,       0,2,    0.01,2,-999.000,9,-999.000,9,-999.000,9,-999.0000,9,  -999.0,9, -999.00,9,-999.0000,9,  -999.00,-999.000,9,-999.0000,9, -999.00,9, -999.00,9,  -999.0,9,  -999.0,-999.000,9,-999.000,     -999.0,9, -999.00,9, -999.00,9, -999.00,9,     -999.0,9,  -999.0,1, 20130324,     1239,  31.4539, 133.8226,    34.9277,2,     -999.0,9,     -999.0,9,    20.4137,2,     -999.0,9,     -999.0,1,-999.0000, -999.00,-999.000
318M20130321,       P02W,      10,          1,         33,         33,2,20130324,       1037,    31.4592,   133.8142,       4789,    69.4,  20.3867,  34.7672,2,  34.7667,2,    217.2,2,   222.3,2,    1.37,2,    0.02,2,    0.05,2,    0.02,2,   2.107,2,   1.281,2,   0.160,2,      1.5,2,  1985.8,2, 2280.74,6,   8.0392,2,       25,-999.000,9,-999.0000,9, -999.00,9, -999.00,9,  -999.0,9,  -999.0,-999.000,9,-999.000,     -999.0,9, -999.00,9, -999.00,9, -999.00,9,     -999.0,9,  -999.0,1, 20130324,     1238,  31.4539, 133.8226,    34.9307,2,     -999.0,9,     -999.0,9,    20.3871,2,     -999.0,9,     -999.0,1,-999.0000, -999.00,-999.000
318M20130321,       P02W,      10,          1,         32,         32,2,20130324,       1037,    31.4592,   133.8142,       4789,      93,  20.1092,  34.7719,2,  34.7719,2,    214.9,2,   213.6,2,    1.76,2,    0.76,2,     0.2,2,    0.07,2,-999.000,9,-999.000,9,-999.000,9,-999.0000,9,  -999.0,9, -999.00,9,-999.0000,9,  -999.00,-999.000,9,-999.0000,9, -999.00,9, -999.00,9,  -999.0,9,  -999.0,-999.000,9,-999.000,     -999.0,9, -999.00,9, -999.00,9, -999.00,9,     -999.0,9,  -999.0,1, 20130324,     1236,  31.4539, 133.8226,    34.9358,2,     -999.0,9,     -999.0,9,    20.1073,2,     -999.0,9,     -999.0,1,-999.0000, -999.00,-999.000
318M20130321,       P02W,      10,          1,         31,         31,2,20130324,       1037,    31.4592,   133.8142,       4789,   133.4,  19.5079,  34.7696,2,  34.7713,2,    226.2,2,   215.1,2,    1.85,2,    1.04,2,    0.22,2,    0.09,2,   2.206,2,   1.298,2,   0.134,2,     1.66,2,  2000.8,2, 2281.94,2,    8.014,2,       25,-999.000,9,-999.0000,9, -999.00,9, -999.00,9,  -999.0,9,  -999.0,-999.000,9,-999.000,     -999.0,9, -999.00,9, -999.00,9, -999.00,9,     -999.0,9,  -999.0,1, 20130324,     1234,   31.454, 133.8225,    34.9352,2,     -999.0,9,     -999.0,9,    19.4973,2,     -999.0,9,     -999.0,1,-999.0000, -999.00,-999.000
318M20130321,       P02W,      10,          1,         30,         30,2,20130324,       1037,    31.4592,   133.8142,       4789,   177.4,  18.7634,  34.7698,2,  34.7683,2,    221.6,2,   220.7,2,    1.95,2,    1.16,2,    0.09,2,    0.08,2,-999.000,9,-999.000,9,-999.000,9,-999.0000,9,  -999.0,9, -999.00,9,-999.0000,9,  -999.00,-999.000,9,-999.0000,9, -999.00,9, -999.00,9,  -999.0,9,  -999.0,-999.000,9,-999.000,     -999.0,9, -999.00,9, -999.00,9, -999.00,9,     -999.0,9,  -999.0,1, 20130324,     1233,   31.454, 133.8225,    34.9323,2,     -999.0,9,     -999.0,9,     18.763,2,     -999.0,9,     -999.0,1,-999.0000, -999.00,-999.000
318M20130321,       P02W,      10,          1,         29,         29,2,20130324,       1037,    31.4592,   133.8142,       4789,   220.3,  18.6471,  34.7685,2,   34.767,2,    213.7,2,   222.9,2,    1.95,2,    1.19,2,    0.02,2,    0.08,2,   2.275,2,   1.346,2,   0.165,2,      1.7,2,  2004.3,2, 2279.34,2,   8.0116,2,       25,-999.000,9,-999.0000,9, -999.00,9, -999.00,9,  -999.0,9,  -999.0,-999.000,9,-999.000,     -999.0,9, -999.00,9, -999.00,9, -999.00,9,     -999.0,9,  -999.0,1, 20130324,     1231,   31.454, 133.8225,    34.9309,2,     -999.0,9,     -999.0,9,    18.6478,2,     -999.0,9,     -999.0,1,-999.0000, -999.00,-999.000
318M20130321,       P02W,      10,          1,         28,         28,2,20130324,       1037,    31.4592,   133.8142,       4789,   263.3,  18.6255,  34.7733,2,  34.7727,2,    227.5,2,   223.3,2,    1.85,2,    1.12,2,    0.02,2,    0.08,2,-999.000,9,-999.000,9,-999.000,9,-999.0000,9,  -999.0,9, -999.00,9,-999.0000,9,  -999.00,-999.000,9,-999.0000,9, -999.00,9, -999.00,9,  -999.0,9,  -999.0,-999.000,9,-999.000,     -999.0,9, -999.00,9, -999.00,9, -999.00,9,     -999.0,9,  -999.0,1, 20130324,     1229,  31.4541, 133.8224,    34.9366,2,     -999.0,9,     -999.0,9,    18.6255,2,     -999.0,9,     -999.0,1,-999.0000, -999.00,-999.000
318M20130321,       P02W,      10,          1,         27,         27,2,20130324,       1037,    31.4592,   133.8142,       4789,     309,  18.4851,  34.7724,2,  34.7717,2,    202.2,2,   217.4,2,    2.15,2,    1.88,2,    0.01,2,    0.12,2,   2.281,2,   1.349,2,   0.109,2,     1.62,2,  2008.9,2, 2281.04,2,   7.9978,2,       25,-999.000,9,-999.0000,9, -999.00,9, -999.00,9,  -999.0,9,  -999.0,-999.000,9,-999.000,     -999.0,9, -999.00,9, -999.00,9, -999.00,9,     -999.0,9,  -999.0,1, 20130324,     1227,  31.4542, 133.8224,    34.9356,2,     -999.0,9,     -999.0,9,    18.4855,2,     -999.0,9,     -999.0,1,-999.0000, -999.00,-999.000
318M20130321,       P02W,      10,          1,         26,         26,2,20130324,       1037,    31.4592,   133.8142,       4789,   360.3,  17.6781,  34.7268,2,  34.7263,2,    196.3,2,   197.8,2,     4.2,2,    4.81,2,    0.01,2,    0.32,2,-999.000,9,-999.000,9,-999.000,9,-999.0000,9,  -999.0,9, -999.00,9,-999.0000,9,  -999.00,-999.000,9,-999.0000,9, -999.00,9, -999.00,9,  -999.0,9,  -999.0,-999.000,9,-999.000,     -999.0,9, -999.00,9, -999.00,9, -999.00,9,     -999.0,9,  -999.0,1, 20130324,     1226,  31.4542, 133.8225,      34.89,2,     -999.0,9,     -999.0,9,    17.6767,2,     -999.0,9,     -999.0,1,-999.0000, -999.00,-999.000
318M20130321,       P02W,      10,          1,         25,         25,2,20130324,       1037,    31.4592,   133.8142,       4789,   443.8,  15.3344,  34.5766,2,  34.5746,2,    182.1,2,   181.1,2,    9.47,2,    9.64,2,    0.01,2,    0.66,2,   2.651,2,   1.482,2,   0.019,2,     1.21,2,  2075.1,2, 2274.44,2,   7.8591,6,       25,-999.000,9,-999.0000,9, -999.00,9, -999.00,9,  -999.0,9,  -999.0,-999.000,9,-999.000,     -999.0,9, -999.00,9, -999.00,9, -999.00,9,     -999.0,9,  -999.0,1, 20130324,     1223,  31.4543, 133.8225,    34.7376,2,     -999.0,9,     -999.0,9,     15.334,2,     -999.0,9,     -999.0,1,-999.0000, -999.00,-999.000
318M20130321,       P02W,      10,          1,         24,         24,2,20130324,       1037,    31.4592,   133.8142,       4789,     551,  12.1922,  34.3879,2,  34.3849,2,    168.4,2,   169.1,2,   22.36,2,   15.97,2,    0.01,2,    1.13,2,-999.000,9,-999.000,9,-999.000,9,-999.0000,9,  -999.0,9, -999.00,9,-999.0000,9,  -999.00,-999.000,9,-999.0000,9, -999.00,9, -999.00,9,  -999.0,9,  -999.0,-999.000,9,-999.000,     -999.0,9, -999.00,9, -999.00,9, -999.00,9,     -999.0,9,  -999.0,1, 20130324,     1220,  31.4544, 133.8226,    34.5471,2,     -999.0,9,     -999.0,9,    12.1931,2,     -999.0,9,     -999.0,1,-999.0000, -999.00,-999.000
318M20130321,       P02W,      10,          1,         23,         23,2,20130324,       1037,    31.4592,   133.8142,       4789,   659.6,   9.3132,   34.237,2,   34.236,2,    153.5,2,   148.6,2,   40.62,2,   22.72,2,       0,2,    1.62,2,   2.374,2,   1.227,2,   0.059,2,     0.79,2,  -999.0,9, -999.00,9,-999.0000,9,  -999.00,-999.000,9,-999.0000,9, -999.00,9, -999.00,9,  -999.0,9,  -999.0,-999.000,9,-999.000,     -999.0,9, -999.00,9, -999.00,9, -999.00,9,     -999.0,9,  -999.0,1, 20130324,     1218,  31.4544, 133.8226,    34.3975,2,     -999.0,9,     -999.0,9,     9.3138,2,     -999.0,9,     -999.0,1,-999.0000, -999.00,-999.000
318M20130321,       P02W,      10,          1,         22,         38,2,20130324,       1037,    31.4592,   133.8142,       4789,   765.4,   7.4664,  34.2646,2,  34.2635,2,    119.4,2,   114.1,2,   64.25,2,   28.85,2,       0,2,    2.08,2,-999.000,9,-999.000,9,-999.000,9,-999.0000,9,  2227.2,2, 2307.54,2,   7.5525,2,       25,-999.000,9,-999.0000,9, -999.00,9, -999.00,9,  -999.0,9,  -999.0,-999.000,9,-999.000,     -999.0,9, -999.00,9, -999.00,9, -999.00,9,     -999.0,9,  -999.0,1, 20130324,     1215,  31.4544, 133.8225,    34.4251,2,     -999.0,9,     -999.0,9,     7.4662,2,     -999.0,9,     -999.0,1,-999.0000, -999.00,-999.000
318M20130321,       P02W,      10,          1,         21,         21,2,20130324,       1037,    31.4592,   133.8142,       4789,   871.1,   5.5776,  34.2353,2,  34.2359,2,     88.9,2,    87.2,2,   85.34,2,   34.47,2,       0,2,    2.49,2,   1.186,2,   0.548,2,   0.049,2,     0.39,2,  -999.0,9, -999.00,9,-999.0000,9,  -999.00,-999.000,9,-999.0000,9, -999.00,9, -999.00,9,  -999.0,9,  -999.0,-999.000,9,-999.000,     -999.0,9, -999.00,9, -999.00,9, -999.00,9,     -999.0,9,  -999.0,1, 20130324,     1212,  31.4544, 133.8224,    34.3973,2,     -999.0,9,     -999.0,9,     5.5751,2,     -999.0,9,     -999.0,1,-999.0000, -999.00,-999.000
318M20130321,       P02W,      10,          1,         20,         20,2,20130324,       1037,    31.4592,   133.8142,       4789,   973.6,     4.46,  34.3186,2,  34.3182,2,     66.4,2,    67.2,2,  105.83,2,   38.01,2,       0,2,    2.73,2,-999.000,9,-999.000,9,-999.000,9,-999.0000,9,  2312.8,2, 2346.55,2,     7.41,2,       25,-999.000,9,-999.0000,9, -999.00,9, -999.00,9,  -999.0,9,  -999.0,-999.000,9,-999.000,     -999.0,9, -999.00,9, -999.00,9, -999.00,9,     -999.0,9,  -999.0,1, 20130324,     1210,  31.4545, 133.8222,    34.4801,2,     -999.0,9,     -999.0,9,       4.46,2,     -999.0,9,     -999.0,1,-999.0000, -999.00,-999.000
318M20130321,       P02W,      10,          1,         19,         19,2,20130324,       1037,    31.4592,   133.8142,       4789,  1074.8,   3.8665,  34.3851,2,  34.3852,2,     65.3,2,    64.8,2,  117.94,2,   39.01,2,       0,2,     2.8,2,   0.377,2,   0.164,2,   0.029,2,      0.2,2,  -999.0,9, -999.00,9,-999.0000,9,  -999.00,-999.000,9,-999.0000,9, -999.00,9, -999.00,9,  -999.0,9,  -999.0,-999.000,9,-999.000,     -999.0,9, -999.00,9, -999.00,9, -999.00,9,     -999.0,9,  -999.0,1, 20130324,     1206,  31.4546, 133.8219,    34.5473,2,     -999.0,9,     -999.0,9,     3.8658,2,     -999.0,9,     -999.0,1,-999.0000, -999.00,-999.000
318M20130321,       P02W,      10,          1,         18,         18,2,20130324,       1037,    31.4592,   133.8142,       4789,  1175.5,   3.5398,  34.4163,2,   34.417,2,     65.4,2,    64.7,2,  124.67,2,   39.42,2,       0,2,    2.84,2,-999.000,9,-999.000,9,-999.000,9,-999.0000,9,  2336.1,2, 2369.96,2,   7.4057,2,       25,-999.000,9,-999.0000,9, -999.00,9, -999.00,9,  -999.0,9,  -999.0,-999.000,9,-999.000,     -999.0,9, -999.00,9, -999.00,9, -999.00,9,     -999.0,9,  -999.0,1, 20130324,     1203,  31.4548, 133.8216,    34.5793,2,     -999.0,9,     -999.0,9,     3.5408,2,     -999.0,9,     -999.0,1,-999.0000, -999.00,-999.000
318M20130321,       P02W,      10,          1,         17,         17,2,20130324,       1037,    31.4592,   133.8142,       4789,  1278.4,   3.2581,  34.4429,2,  34.4423,2,     66.3,2,    65.2,2,  129.94,2,   39.71,2,       0,2,    2.85,2,   0.215,2,   0.095,2,   0.017,2,     0.13,2,    2342,2, 2375.76,2,   7.4056,2,       25,-999.000,9,-999.0000,9, -999.00,9, -999.00,9,  -999.0,9,  -999.0,-999.000,9,-999.000,     -999.0,9, -999.00,9, -999.00,9, -999.00,9,     -999.0,9,  -999.0,1, 20130324,     1200,  31.4551, 133.8214,    34.6047,2,     -999.0,9,     -999.0,9,     3.2674,2,     -999.0,9,     -999.0,1,-999.0000, -999.00,-999.000
318M20130321,       P02W,      10,          1,         16,         16,2,20130324,       1037,    31.4592,   133.8142,       4789,  1380.6,    3.004,  34.4685,2,  34.4682,2,     68.7,2,    67.6,2,  135.01,2,   39.99,2,       0,2,    2.87,2,-999.000,9,-999.000,9,-999.000,9,-999.0000,9,  -999.0,9, -999.00,9,-999.0000,9,  -999.00,-999.000,9,-999.0000,9, -999.00,9, -999.00,9,  -999.0,9,  -999.0,-999.000,9,-999.000,     -999.0,9, -999.00,9, -999.00,9, -999.00,9,     -999.0,9,  -999.0,1, 20130324,     1157,  31.4552, 133.8212,    34.6307,2,     -999.0,9,     -999.0,9,      3.006,2,     -999.0,9,     -999.0,1,-999.0000, -999.00,-999.000
318M20130321,       P02W,      10,          1,         15,         15,2,20130324,       1037,    31.4592,   133.8142,       4789,  1482.6,   2.7793,  34.4932,2,  34.4931,2,     69.2,2,    70.8,2,  139.01,2,      40,2,       0,2,    2.86,2,   0.124,2,   0.055,2,   0.003,2,     0.16,2,  2349.4,2, 2387.66,2,   7.4145,6,       25,-999.000,9,-999.0000,9, -999.00,9, -999.00,9,  -999.0,9,  -999.0,-999.000,9,-999.000,     -999.0,9, -999.00,9, -999.00,9, -999.00,9,     -999.0,9,  -999.0,1, 20130324,     1155,  31.4553,  133.821,    34.6558,2,     -999.0,9,     -999.0,9,     2.7802,2,     -999.0,9,     -999.0,1,-999.0000, -999.00,-999.000
318M20130321,       P02W,      10,          1,         14,         14,2,20130324,       1037,    31.4592,   133.8142,       4789,  1584.7,   2.5786,   34.517,2,  34.5175,2,     73.4,2,    74.8,2,  142.72,2,   39.91,2,       0,2,    2.85,2,-999.000,9,-999.000,9,-999.000,9,-999.0000,9,  -999.0,9, -999.00,9,-999.0000,9,  -999.00,-999.000,9,-999.0000,9, -999.00,9, -999.00,9,  -999.0,9,  -999.0,-999.000,9,-999.000,     -999.0,9, -999.00,9, -999.00,9, -999.00,9,     -999.0,9,  -999.0,1, 20130324,     1152,  31.4553, 133.8209,    34.6803,2,     -999.0,9,     -999.0,9,     2.5788,2,     -999.0,9,     -999.0,1,-999.0000, -999.00,-999.000
318M20130321,       P02W,      10,          1,         13,         13,2,20130324,       1037,    31.4592,   133.8142,       4789,    1758,   2.3582,  34.5491,2,  34.5483,2,     84.4,2,    84.4,2,  145.16,2,   39.45,2,       0,2,    2.81,2,   0.064,2,   0.024,2,   0.006,2,     0.15,2,  2351.3,2, 2399.86,2,   7.4414,2,       25,-999.000,9,-999.0000,9, -999.00,9, -999.00,9,  -999.0,9,  -999.0,-999.000,9,-999.000,     -999.0,9, -999.00,9, -999.00,9, -999.00,9,     -999.0,9,  -999.0,1, 20130324,     1148,  31.4553, 133.8207,    34.7112,2,     -999.0,9,     -999.0,9,     2.3583,2,     -999.0,9,     -999.0,1,-999.0000, -999.00,-999.000
318M20130321,       P02W,      10,          1,         12,         12,2,20130324,       1037,    31.4592,   133.8142,       4789,  1962.9,   2.1347,  34.5819,2,  34.5821,2,       98,2,    96.1,2,  146.81,2,    38.8,2,       0,2,    2.75,2,-999.000,9,-999.000,9,-999.000,9,-999.0000,9,  -999.0,9, -999.00,9,-999.0000,9,  -999.00,-999.000,9,-999.0000,9, -999.00,9, -999.00,9,  -999.0,9,  -999.0,-999.000,9,-999.000,     -999.0,9, -999.00,9, -999.00,9, -999.00,9,     -999.0,9,  -999.0,1, 20130324,     1143,  31.4553, 133.8205,    34.7452,2,     -999.0,9,     -999.0,9,      2.135,2,     -999.0,9,     -999.0,1,-999.0000, -999.00,-999.000
318M20130321,       P02W,      10,          1,         11,         11,2,20130324,       1037,    31.4592,   133.8142,       4789,  2199.1,     1.95,  34.6103,2,  34.6104,2,      110,2,   110.6,2,  146.52,2,   37.99,2,       0,2,    2.69,2,   0.038,2,   0.015,2,   0.003,2,     0.12,2,  2341.8,2, 2406.06,2,   7.4934,2,       25,-999.000,9,-999.0000,9, -999.00,9, -999.00,9,  -999.0,9,  -999.0,-999.000,9,-999.000,     -999.0,9, -999.00,9, -999.00,9, -999.00,9,     -999.0,9,  -999.0,1, 20130324,     1138,  31.4553, 133.8204,    34.7736,2,     -999.0,9,     -999.0,9,     1.9502,2,     -999.0,9,     -999.0,1,-999.0000, -999.00,-999.000
318M20130321,       P02W,      10,          1,         10,         10,2,20130324,       1037,    31.4592,   133.8142,       4789,  2453.1,    1.826,  34.6306,2,  34.6302,2,    121.8,2,     122,2,  145.54,2,   37.38,2,       0,2,    2.65,2,-999.000,9,-999.000,9,-999.000,9,-999.0000,9,  -999.0,9, -999.00,9,-999.0000,9,  -999.00,-999.000,9,-999.0000,9, -999.00,9, -999.00,9,  -999.0,9,  -999.0,-999.000,9,-999.000,     -999.0,9, -999.00,9, -999.00,9, -999.00,9,     -999.0,9,  -999.0,1, 20130324,     1132,  31.4553, 133.8203,    34.7935,2,     -999.0,9,     -999.0,9,     1.8263,2,     -999.0,9,     -999.0,1,-999.0000, -999.00,-999.000
318M20130321,       P02W,      10,          1,          9,          9,2,20130324,       1037,    31.4592,   133.8142,       4789,    2702,   1.7398,  34.6446,2,  34.6444,2,    130.7,2,   129.9,2,  144.75,2,   36.82,2,       0,2,    2.61,2,   0.033,2,   0.008,2,   0.010,2,     0.09,2,  2332.4,2, 2409.26,2,   7.5293,2,       25,-999.000,9,-999.0000,9, -999.00,9, -999.00,9,  -999.0,9,  -999.0,-999.000,9,-999.000,     -999.0,9, -999.00,9, -999.00,9, -999.00,9,     -999.0,9,  -999.0,1, 20130324,     1126,  31.4553,   133.82,    34.8078,2,     -999.0,9,     -999.0,9,     1.7396,2,     -999.0,9,     -999.0,1,-999.0000, -999.00,-999.000
318M20130321,       P02W,      10,          1,          8,          8,2,20130324,       1037,    31.4592,   133.8142,       4789,  2951.2,   1.6584,  34.6568,2,  34.6572,2,    137.5,2,   137.1,2,  144.27,2,    36.4,2,       0,2,    2.57,2,-999.000,9,-999.000,9,-999.000,9,-999.0000,9,  -999.0,9, -999.00,9,-999.0000,9,  -999.00,-999.000,9,-999.0000,9, -999.00,9, -999.00,9,  -999.0,9,  -999.0,-999.000,9,-999.000,     -999.0,9, -999.00,9, -999.00,9, -999.00,9,     -999.0,9,  -999.0,1, 20130324,     1121,  31.4553, 133.8198,    34.8206,2,     -999.0,9,     -999.0,9,     1.6585,2,     -999.0,9,     -999.0,1,-999.0000, -999.00,-999.000