BOTTLE,20220817CCHSIOAMB
EXPOCODE,SECT_ID,STNNBR,CASTNO,SAMPNO,BTLNBR,BTLNBR_FLAG_W,DATE,TIME,LATITUDE,LONGITUDE,DEPTH,CTDPRS,CTDTMP,CTDSAL,CTDSAL_FLAG_W,SALNTY,SALNTY_FLAG_W,CTDOXY,CTDOXY_FLAG_W,OXYGEN,OXYGEN_FLAG_W,SILCAT,SILCAT_FLAG_W,NITRAT,NITRAT_FLAG_W,NITRIT,NITRIT_FLAG_W,PHSPHT,PHSPHT_FLAG_W,CFC-11,CFC-11_FLAG_W,CFC-12,CFC-12_FLAG_W,CFC113,CFC113_FLAG_W,SF6,SF6_FLAG_W,TCARBN,TCARBN_FLAG_W,ALKALI,ALKALI_FLAG_W,PH_TOT,PH_TOT_FLAG_W,PH_TMP,TRITUM,TRITUM_FLAG_W,HELIUM,HELIUM_FLAG_W,DELHE3,DELHE3_FLAG_W,DELC13,DELC13_FLAG_W,DELC14,DELC14_FLAG_W,C14ERR,NEON,NEON_FLAG_W,NEONER,I-129,I-129_FLAG_W,SR-90,SR-90_FLAG_W,DOC,DOC_FLAG_W,TDN,TDN_FLAG_W,CALCIUM,CALCIUM_FLAG_W,D15N_NO3,D15N_NO3_FLAG_W,BTL_DATE,BTL_TIME,BTL_LAT,BTL_LON,SALTREF,SALTREF_FLAG_W,CS-137,CS-137_FLAG_W,CS-134,CS-134_FLAG_W,REFTMP,REFTMP_FLAG_W,LAB_DEN,LAB_DEN_FLAG_W,D18O_NO3,D18O_NO3_FLAG_W,HELIER,DELHER,TRITER
,,,,,,,,,,,METERS,DBAR,ITS-90,PSS-78,,PSS-78,,UMOL/KG,,UMOL/KG,,UMOL/KG,,UMOL/KG,,UMOL/KG,,UMOL/KG,,PMOL/KG,,PMOL/KG,,PMOL/KG,,FMOL/KG,,UMOL/KG,,UMOL/KG,,,,DEG C,TU,,NMOL/KG,,PERCNT,,/MILLE,,/MILLE,,/MILLE,NMOL/KG,,NMOL/KG,BQ/M^3,,DM/.1MG,,UMOL/KG,,UMOL/KG,,MMOL/KG,,/MILLE,,,,,,G/KG,,BQ/M^3,,BQ/M^3,,ITS-90,,,,/MILLE,,NMOL/KG,PERCNT,TU
318M20130321,       P02E,     159,          1,         12,         12,2,20130601,       1113,    32.6427,  -117.3838,        251,     2.2,  18.6612,  33.5898,2,-999.0000,9,    249.8,2,  -999.0,9, -999.00,9, -999.00,9, -999.00,9, -999.00,9,-999.000,9,-999.000,9,-999.000,9,-999.0000,9,  -999.0,9, -999.00,9,-999.0000,9,  -999.00,-999.000,9,-999.0000,9, -999.00,9, -999.00,9,  -999.0,9,  -999.0,-999.000,9,-999.000,     -999.0,9, -999.00,9, -999.00,9, -999.00,9,     -999.0,1,  -999.0,9, 20130601,     1130,  32.6427,-117.3838,     -999.0,9,     -999.0,9,     -999.0,9,    18.6414,2,     -999.0,9,     -999.0,9,-999.0000, -999.00,-999.000
318M20130321,       P02E,     159,          1,         11,         11,2,20130601,       1113,    32.6427,  -117.3838,        251,     2.6,  18.6346,  33.5894,2,  33.5906,2,    249.8,2,   251.2,2,    2.83,2,       0,2,       0,2,    0.27,2,   2.404,2,   1.427,2,-999.000,1,   1.5793,2,  2008.8,6, 2237.99,2,   7.9381,2,       25,-999.000,9,-999.0000,9, -999.00,9, -999.00,9,  -999.0,9,  -999.0,-999.000,9,-999.000,     -999.0,9, -999.00,9,   64.05,2,    4.74,2,     -999.0,1,  -999.0,9, 20130601,     1130,  32.6427,-117.3838,    33.7489,2,     -999.0,9,     -999.0,9,    18.6576,2,     -999.0,9,     -999.0,9,-999.0000, -999.00,-999.000
318M20130321,       P02E,     159,          1,         10,         10,2,20130601,       1113,    32.6427,  -117.3838,        251,    34.4,  11.9935,  33.4823,2,  33.4901,2,    222.6,2,   222.8,2,    9.96,2,    8.13,2,    0.14,2,    0.85,2,   2.972,2,   1.713,2,-999.000,1,   1.7323,2,  2075.6,2, 2228.49,2,   7.7615,6,       25,-999.000,9,-999.0000,9, -999.00,9, -999.00,9,  -999.0,9,  -999.0,-999.000,9,-999.000,     -999.0,9, -999.00,9, -999.00,9, -999.00,9,     -999.0,1,  -999.0,9, 20130601,     1128,  32.6427,-117.3838,     33.648,2,     -999.0,9,     -999.0,9,    11.9252,3,     -999.0,9,     -999.0,9,-999.0000, -999.00,-999.000
318M20130321,       P02E,     159,          1,          9,          9,2,20130601,       1113,    32.6427,  -117.3838,        251,    59.3,  10.3726,  33.6566,2,  33.6553,2,    146.4,2,   146.3,2,   19.34,2,   19.92,2,    0.06,2,     1.6,2,   2.996,2,   1.691,2,-999.000,1,   1.3972,2,  2148.2,2, 2232.39,2,   7.5758,2,       25,-999.000,9,-999.0000,9, -999.00,9, -999.00,9,  -999.0,9,  -999.0,-999.000,9,-999.000,     -999.0,9, -999.00,9,   48.92,2,   25.72,3,     -999.0,1,  -999.0,9, 20130601,     1126,  32.6427,-117.3838,     33.814,2,     -999.0,9,     -999.0,9,    10.4118,3,     -999.0,9,     -999.0,9,-999.0000, -999.00,-999.000
318M20130321,       P02E,     159,          1,          8,          8,2,20130601,       1113,    32.6427,  -117.3838,        251,    84.7,   9.6461,  33.8838,2,  33.8858,2,    114.4,2,   109.8,2,   27.54,2,   24.67,2,    0.02,2,    1.95,2,   2.805,2,   1.551,2,-999.000,1,   1.0433,2,  2186.9,2,  2247.4,2,   7.4984,6,       25,-999.000,9,-999.0000,9, -999.00,9, -999.00,9,  -999.0,9,  -999.0,-999.000,9,-999.000,     -999.0,9, -999.00,9,   48.02,2,   31.04,3,     -999.0,1,  -999.0,9, 20130601,     1124,  32.6427,-117.3838,    34.0456,2,     -999.0,9,     -999.0,9,      9.647,2,     -999.0,9,     -999.0,9,-999.0000, -999.00,-999.000
318M20130321,       P02E,     159,          1,          7,          7,2,20130601,       1113,    32.6427,  -117.3838,        251,   110.3,   9.4306,  33.9975,2,  33.9963,2,     97.7,2,  -999.0,5,   30.66,2,   26.03,2,    0.02,2,    2.07,2,   2.648,2,   1.440,2,-999.000,1,   0.9302,2,  -999.0,9, -999.00,9,-999.0000,9,  -999.00,-999.000,9,-999.0000,9, -999.00,9, -999.00,9,  -999.0,9,  -999.0,-999.000,9,-999.000,     -999.0,9, -999.00,9,   46.31,2,   31.41,3,     -999.0,9,  -999.0,9, 20130601,     1123,  32.6427,-117.3838,    34.1566,2,     -999.0,9,     -999.0,9,     9.4298,2,     -999.0,9,     -999.0,9,-999.0000, -999.00,-999.000
318M20130321,       P02E,     159,          1,          6,          6,2,20130601,       1113,    32.6427,  -117.3838,        251,   135.3,   9.2215,  34.0696,2,  34.0707,2,     85.1,2,    86.6,2,   33.88,2,   27.39,2,    0.02,2,    2.19,2,-999.000,9,-999.000,9,-999.000,9,-999.0000,9,  2213.9,2,  2262.5,6,   7.4569,2,       25,-999.000,9,-999.0000,9, -999.00,9, -999.00,9,  -999.0,9,  -999.0,-999.000,9,-999.000,     -999.0,9, -999.00,9,   45.11,2,   34.41,3,     -999.0,1,  -999.0,9, 20130601,     1121,  32.6427,-117.3838,    34.2314,2,     -999.0,9,     -999.0,9,     9.2252,2,     -999.0,9,     -999.0,9,-999.0000, -999.00,-999.000
318M20130321,       P02E,     159,          1,          5,         37,2,20130601,       1113,    32.6427,  -117.3838,        251,   160.6,   9.0763,  34.1235,2,  34.1254,2,     70.1,2,      70,2,    37.2,2,   28.68,2,    0.01,2,    2.31,2,   2.197,2,   1.189,2,-999.000,1,   0.6768,2,  -999.0,9, -999.00,9,-999.0000,9,  -999.00,-999.000,9,-999.0000,9, -999.00,9, -999.00,9,  -999.0,9,  -999.0,-999.000,9,-999.000,     -999.0,9, -999.00,9,   44.68,2,   35.79,3,     -999.0,9,  -999.0,9, 20130601,     1119,  32.6427,-117.3838,    34.2863,2,     -999.0,9,     -999.0,9,     9.0777,2,     -999.0,9,     -999.0,9,-999.0000, -999.00,-999.000
318M20130321,       P02E,     159,          1,          4,          4,2,20130601,       1113,    32.6427,  -117.3838,        251,   186.5,   8.9819,   34.159,2,  34.1633,2,     59.8,2,    61.2,2,   39.16,2,   29.45,2,    0.01,2,    2.38,2,   2.046,2,   1.100,2,-999.000,1,   0.5342,2,  -999.0,9, -999.00,9,-999.0000,9,  -999.00,-999.000,9,-999.0000,9, -999.00,9, -999.00,9,  -999.0,9,  -999.0,-999.000,9,-999.000,     -999.0,9, -999.00,9,   43.61,2,   35.93,3,     -999.0,9,  -999.0,9, 20130601,     1118,  32.6427,-117.3838,    34.3244,2,     -999.0,9,     -999.0,9,     8.9715,2,     -999.0,9,     -999.0,9,-999.0000, -999.00,-999.000
318M20130321,       P02E,     159,          1,          3,          3,2,20130601,       1113,    32.6427,  -117.3838,        251,   211.7,   8.7651,  34.1946,2,  34.1954,2,     50.7,2,    51.4,2,   42.67,2,   30.21,2,    0.07,2,    2.49,2,   1.832,2,   1.015,2,-999.000,1,     0.54,2,  2250.6,2, 2278.01,2,   7.3915,2,       25,-999.000,9,-999.0000,9, -999.00,9, -999.00,9,  -999.0,9,  -999.0,-999.000,9,-999.000,     -999.0,9, -999.00,9,    46.2,2,   38.47,3,     -999.0,1,  -999.0,9, 20130601,     1115,  32.6427,-117.3838,    34.3567,2,     -999.0,9,     -999.0,9,     8.7705,2,     -999.0,9,     -999.0,9,-999.0000, -999.00,-999.000
318M20130321,       P02E,     159,          1,          2,          2,2,20130601,       1113,    32.6427,  -117.3838,        251,     242,   8.5814,  34.2206,2,  34.2148,2,     42.6,2,    44.9,2,   44.82,2,   30.81,2,    0.11,2,    2.55,2,   1.694,2,   0.918,2,-999.000,1,   0.4071,2,  2255.9,2, 2280.91,2,   7.3795,2,       25,-999.000,9,-999.0000,9, -999.00,9, -999.00,9,  -999.0,9,  -999.0,-999.000,9,-999.000,     -999.0,9, -999.00,9,    45.4,2,      33,3,     -999.0,1,  -999.0,9, 20130601,     1113,  32.6427,-117.3838,    34.3762,2,     -999.0,9,     -999.0,9,     8.5845,2,     -999.0,9,     -999.0,9,-999.0000, -999.00,-999.000