BOTTLE,20220817CCHSIOAMB
EXPOCODE,SECT_ID,STNNBR,CASTNO,SAMPNO,BTLNBR,BTLNBR_FLAG_W,DATE,TIME,LATITUDE,LONGITUDE,DEPTH,CTDPRS,CTDTMP,CTDSAL,CTDSAL_FLAG_W,SALNTY,SALNTY_FLAG_W,CTDOXY,CTDOXY_FLAG_W,OXYGEN,OXYGEN_FLAG_W,SILCAT,SILCAT_FLAG_W,NITRAT,NITRAT_FLAG_W,NITRIT,NITRIT_FLAG_W,PHSPHT,PHSPHT_FLAG_W,CFC-11,CFC-11_FLAG_W,CFC-12,CFC-12_FLAG_W,CFC113,CFC113_FLAG_W,SF6,SF6_FLAG_W,TCARBN,TCARBN_FLAG_W,ALKALI,ALKALI_FLAG_W,PH_TOT,PH_TOT_FLAG_W,PH_TMP,TRITUM,TRITUM_FLAG_W,HELIUM,HELIUM_FLAG_W,DELHE3,DELHE3_FLAG_W,DELC13,DELC13_FLAG_W,DELC14,DELC14_FLAG_W,C14ERR,NEON,NEON_FLAG_W,NEONER,I-129,I-129_FLAG_W,SR-90,SR-90_FLAG_W,DOC,DOC_FLAG_W,TDN,TDN_FLAG_W,CALCIUM,CALCIUM_FLAG_W,D15N_NO3,D15N_NO3_FLAG_W,BTL_DATE,BTL_TIME,BTL_LAT,BTL_LON,SALTREF,SALTREF_FLAG_W,CS-137,CS-137_FLAG_W,CS-134,CS-134_FLAG_W,REFTMP,REFTMP_FLAG_W,LAB_DEN,LAB_DEN_FLAG_W,D18O_NO3,D18O_NO3_FLAG_W,HELIER,DELHER,TRITER
,,,,,,,,,,,METERS,DBAR,ITS-90,PSS-78,,PSS-78,,UMOL/KG,,UMOL/KG,,UMOL/KG,,UMOL/KG,,UMOL/KG,,UMOL/KG,,PMOL/KG,,PMOL/KG,,PMOL/KG,,FMOL/KG,,UMOL/KG,,UMOL/KG,,,,DEG C,TU,,NMOL/KG,,PERCNT,,/MILLE,,/MILLE,,/MILLE,NMOL/KG,,NMOL/KG,BQ/M^3,,DM/.1MG,,UMOL/KG,,UMOL/KG,,MMOL/KG,,/MILLE,,,,,,G/KG,,BQ/M^3,,BQ/M^3,,ITS-90,,,,/MILLE,,NMOL/KG,PERCNT,TU
318M20130321,       P02W,      64,          1,         35,         35,9,20130425,       1606,    29.9994,   173.3397,       4384,       3,  18.9857,  34.9328,2,-999.0000,9,    232.8,2,  -999.0,9, -999.00,9, -999.00,9, -999.00,9, -999.00,9,-999.000,9,-999.000,9,-999.000,9,-999.0000,9,  -999.0,9, -999.00,9,-999.0000,9,  -999.00,-999.000,9,-999.0000,9, -999.00,9, -999.00,9,  -999.0,9,  -999.0,-999.000,9,-999.000,     -999.0,9, -999.00,1, -999.00,9, -999.00,9,     -999.0,9,  -999.0,9, 20130425,     1803,  30.0003,   173.34,     -999.0,9,     -999.0,1,     -999.0,1,    18.9895,2,     -999.0,9,     -999.0,9,-999.0000, -999.00,-999.000
318M20130321,       P02W,      64,          1,         36,         36,2,20130425,       1606,    29.9994,   173.3397,       4384,    20.8,  18.9905,    34.93,2,  34.9309,2,    233.1,2,   233.1,2,    2.24,2,       0,2,       0,2,    0.03,2,   2.458,2,   1.509,2,   0.198,2,     1.39,2,  2012.7,2, 2292.21,2,   8.0078,2,       25,-999.000,9,-999.0000,9, -999.00,9, -999.00,9,  -999.0,9,  -999.0,-999.000,9,-999.000,     -999.0,9, -999.00,1, -999.00,9, -999.00,9,     -999.0,9,  -999.0,9, 20130425,     1801,       30, 173.3397,    35.0956,2,     -999.0,1,     -999.0,1,    18.9907,2,     -999.0,9,     -999.0,9,-999.0000, -999.00,-999.000
318M20130321,       P02W,      64,          1,         34,         34,2,20130425,       1606,    29.9994,   173.3397,       4384,    41.1,  18.9909,  34.9297,2,  34.9305,2,      233,2,     233,2,    2.15,2,       0,2,       0,2,    0.02,2,   2.457,2,   1.495,2,   0.201,2,     1.61,2,  2012.5,6, 2291.41,2,   8.0082,2,       25,-999.000,9,-999.0000,9, -999.00,9, -999.00,9,  -999.0,9,  -999.0,-999.000,9,-999.000,     -999.0,9, -999.00,1, -999.00,9, -999.00,9,     -999.0,9,  -999.0,9, 20130425,     1800,  29.9998, 173.3396,    35.0953,2,     -999.0,1,     -999.0,1,    18.9892,2,     -999.0,9,     -999.0,9,-999.0000, -999.00,-999.000
318M20130321,       P02W,      64,          1,         33,         33,2,20130425,       1606,    29.9994,   173.3397,       4384,      67,  18.2276,  34.8072,2,  34.8094,2,    236.9,2,     237,2,    2.34,2,       0,2,       0,2,    0.02,2,   2.512,2,   1.595,2,   0.214,2,     1.46,2,  -999.0,9, -999.00,9,-999.0000,9,  -999.00,-999.000,9,-999.0000,9, -999.00,9, -999.00,9,  -999.0,9,  -999.0,-999.000,9,-999.000,     -999.0,1, -999.00,1, -999.00,9, -999.00,9,     -999.0,9,  -999.0,9, 20130425,     1758,  29.9996, 173.3395,    34.9735,2,     -999.0,1,     -999.0,1,    18.2365,2,     -999.0,9,     -999.0,9,-999.0000, -999.00,-999.000
318M20130321,       P02W,      64,          1,         32,         32,2,20130425,       1606,    29.9994,   173.3397,       4384,    90.1,  17.7329,  34.7439,2,  34.7449,2,    231.3,2,     230,2,    2.73,2,    0.69,2,    0.14,2,    0.09,2,-999.000,9,-999.000,9,-999.000,9,-999.0000,9,    2015,2, 2280.51,6,   7.9847,2,       25,-999.000,9,-999.0000,9, -999.00,9, -999.00,9,  -999.0,9,  -999.0,-999.000,9,-999.000,     -999.0,9, -999.00,1, -999.00,9, -999.00,9,     -999.0,9,  -999.0,9, 20130425,     1756,  29.9996, 173.3396,    34.9087,2,     -999.0,1,     -999.0,1,      17.73,2,     -999.0,9,     -999.0,9,-999.0000, -999.00,-999.000
318M20130321,       P02W,      64,          1,         31,         31,2,20130425,       1606,    29.9994,   173.3397,       4384,   115.8,  17.3306,  34.7066,2,  34.7073,2,    228.5,2,   226.4,2,    3.12,2,    1.86,2,    0.06,2,    0.15,2,-999.000,9,-999.000,9,-999.000,9,-999.0000,9,  -999.0,9, -999.00,9,-999.0000,9,  -999.00,-999.000,9,-999.0000,9, -999.00,9, -999.00,9,  -999.0,9,  -999.0,-999.000,9,-999.000,     -999.0,9, -999.00,1, -999.00,9, -999.00,9,     -999.0,9,  -999.0,9, 20130425,     1755,  29.9997, 173.3399,     34.871,2,     -999.0,1,     -999.0,1,    17.3359,2,     -999.0,9,     -999.0,9,-999.0000, -999.00,-999.000
318M20130321,       P02W,      64,          1,         30,         30,2,20130425,       1606,    29.9994,   173.3397,       4384,     142,  16.8845,  34.6732,2,  34.6761,2,    226.5,2,   226.6,2,    3.71,2,    2.67,2,    0.03,2,    0.19,2,   2.637,2,   1.636,2,   0.195,2,     1.52,2,  2023.3,2, 2276.31,2,   7.9644,6,       25,-999.000,9,-999.0000,9, -999.00,9, -999.00,9,  -999.0,9,  -999.0,-999.000,9,-999.000,     -999.0,9, -999.00,1, -999.00,9, -999.00,9,     -999.0,9,  -999.0,9, 20130425,     1753,  29.9996, 173.3402,    34.8396,2,     -999.0,1,     -999.0,1,    16.9033,2,     -999.0,9,     -999.0,9,-999.0000, -999.00,-999.000
318M20130321,       P02W,      64,          1,         29,         29,2,20130425,       1606,    29.9994,   173.3397,       4384,   186.6,  16.3863,  34.6369,2,  34.6376,2,    237.8,2,   230.2,2,    4.39,2,    3.05,2,     0.2,2,    0.23,2,   2.712,2,   1.649,2,   0.173,2,     1.52,2,  -999.0,9, -999.00,9,-999.0000,9,  -999.00,-999.000,9,-999.0000,9, -999.00,9, -999.00,9,  -999.0,9,  -999.0,-999.000,9,-999.000,     -999.0,9, -999.00,1, -999.00,9, -999.00,9,     -999.0,9,  -999.0,9, 20130425,     1751,  29.9997, 173.3405,    34.8009,2,     -999.0,1,     -999.0,1,    16.3857,2,     -999.0,9,     -999.0,9,-999.0000, -999.00,-999.000
318M20130321,       P02W,      64,          1,         28,         28,2,20130425,       1606,    29.9994,   173.3397,       4384,     249,  15.8405,  34.5966,2,  34.5977,2,    224.8,2,   223.9,2,    5.66,2,     4.8,2,    0.04,2,    0.33,2,   2.765,2,   1.649,2,   0.147,2,     1.52,2,  2036.2,2, 2272.21,2,   7.9334,2,       25,-999.000,9,-999.0000,9, -999.00,9, -999.00,9,  -999.0,9,  -999.0,-999.000,9,-999.000,     -999.0,9, -999.00,1, -999.00,9, -999.00,9,     -999.0,9,  -999.0,9, 20130425,     1749,       30, 173.3409,    34.7609,2,     -999.0,1,     -999.0,1,    15.8425,2,     -999.0,9,     -999.0,9,-999.0000, -999.00,-999.000
318M20130321,       P02W,      64,          1,         27,         27,2,20130425,       1606,    29.9994,   173.3397,       4384,   287.3,  14.9376,  34.5222,2,  34.5205,2,      208,2,   207.9,2,     8.1,2,    7.62,2,    0.01,2,    0.53,2,   2.898,2,   1.705,2,   0.063,2,     1.41,2,  -999.0,9, -999.00,9,-999.0000,9,  -999.00,-999.000,9,-999.0000,9, -999.00,9, -999.00,9,  -999.0,9,  -999.0,-999.000,9,-999.000,     -999.0,9, -999.00,1, -999.00,9, -999.00,9,     -999.0,9,  -999.0,9, 20130425,     1747,  30.0001, 173.3412,    34.6833,2,     -999.0,1,     -999.0,1,    14.9402,2,     -999.0,9,     -999.0,9,-999.0000, -999.00,-999.000
318M20130321,       P02W,      64,          1,         26,         26,2,20130425,       1606,    29.9994,   173.3397,       4384,   337.9,  13.4529,  34.4227,2,  34.4231,2,    202.3,2,   202.6,2,   11.52,2,   10.45,2,    0.01,2,    0.72,2,   3.100,2,   1.777,2,   0.054,2,     1.45,2,  2078.7,2, 2269.31,2,    7.839,2,       25,-999.000,9,-999.0000,9, -999.00,9, -999.00,9,  -999.0,9,  -999.0,-999.000,9,-999.000,     -999.0,9, -999.00,1, -999.00,9, -999.00,9,     -999.0,9,  -999.0,9, 20130425,     1745,  30.0002, 173.3412,    34.5855,2,     -999.0,1,     -999.0,1,    13.4523,2,     -999.0,9,     -999.0,9,-999.0000, -999.00,-999.000
318M20130321,       P02W,      64,          1,         25,         25,2,20130425,       1606,    29.9994,   173.3397,       4384,   387.1,  12.5999,  34.3677,2,  34.3692,2,    204.6,2,   204.9,2,   13.86,2,   11.77,2,    0.01,2,    0.82,2,   3.195,2,   1.805,2,   0.076,2,     1.39,2,  -999.0,9, -999.00,9,-999.0000,9,  -999.00,-999.000,9,-999.0000,9, -999.00,9, -999.00,9,  -999.0,9,  -999.0,-999.000,9,-999.000,     -999.0,9, -999.00,1, -999.00,9, -999.00,9,     -999.0,9,  -999.0,9, 20130425,     1743,  30.0003,  173.341,    34.5312,2,     -999.0,1,     -999.0,1,    12.6156,2,     -999.0,9,     -999.0,9,-999.0000, -999.00,-999.000
318M20130321,       P02W,      64,          1,         24,         24,2,20130425,       1606,    29.9994,   173.3397,       4384,   438.4,   11.117,  34.2656,2,  34.2668,2,    198.8,2,   199.5,2,   19.53,2,   14.94,2,    0.01,2,    1.05,2,   3.289,2,   1.834,2,   0.090,2,     1.19,2,  2108.8,2, 2268.51,2,   7.7717,2,       25,-999.000,9,-999.0000,9, -999.00,9, -999.00,9,  -999.0,9,  -999.0,-999.000,9,-999.000,     -999.0,9, -999.00,1, -999.00,9, -999.00,9,     -999.0,9,  -999.0,9, 20130425,     1741,  30.0006, 173.3407,    34.4284,2,     -999.0,1,     -999.0,1,    11.1169,2,     -999.0,9,     -999.0,9,-999.0000, -999.00,-999.000
318M20130321,       P02W,      64,          1,         23,         23,2,20130425,       1606,    29.9994,   173.3397,       4384,   485.9,  10.0937,  34.1925,2,  34.1919,2,    192.6,2,   192.7,2,   24.41,2,   17.45,2,    0.01,2,    1.24,2,   3.321,2,   1.837,2,   0.106,2,     1.14,2,  -999.0,9, -999.00,9,-999.0000,9,  -999.00,-999.000,9,-999.0000,9, -999.00,9, -999.00,9,  -999.0,9,  -999.0,-999.000,9,-999.000,     -999.0,9, -999.00,1, -999.00,9, -999.00,9,     -999.0,9,  -999.0,9, 20130425,     1739,  30.0006, 173.3405,    34.3531,2,     -999.0,1,     -999.0,1,    10.0939,2,     -999.0,9,     -999.0,9,-999.0000, -999.00,-999.000
318M20130321,       P02W,      64,          1,         22,         22,2,20130425,       1606,    29.9994,   173.3397,       4384,     569,   8.3803,  34.0906,2,  34.0913,2,    173.7,2,   172.4,2,   36.42,2,   22.48,2,       0,2,    1.62,2,   3.179,2,   1.695,2,   0.121,2,     0.96,2,  2162.3,2, 2274.31,2,   7.6478,2,       25,-999.000,9,-999.0000,9, -999.00,9, -999.00,9,  -999.0,9,  -999.0,-999.000,9,-999.000,     -999.0,9, -999.00,1, -999.00,9, -999.00,9,     -999.0,9,  -999.0,9, 20130425,     1736,  30.0003, 173.3403,     34.252,2,     -999.0,1,     -999.0,1,     8.3864,2,     -999.0,9,     -999.0,9,-999.0000, -999.00,-999.000
318M20130321,       P02W,      64,          1,         21,         21,2,20130425,       1606,    29.9994,   173.3397,       4384,   670.4,   6.3809,   34.029,2,  34.0305,2,    128.8,2,   131.7,2,   57.32,2,   29.65,2,       0,2,    2.15,2,   2.537,2,   1.328,2,   0.107,2,     0.71,2,  -999.0,9, -999.00,9,-999.0000,9,  -999.00,-999.000,9,-999.0000,9, -999.00,9, -999.00,9,  -999.0,9,  -999.0,-999.000,9,-999.000,     -999.0,9, -999.00,1, -999.00,9, -999.00,9,     -999.0,9,  -999.0,9, 20130425,     1733,       30, 173.3401,     34.191,2,     -999.0,1,     -999.0,1,     6.3962,2,     -999.0,9,     -999.0,9,-999.0000, -999.00,-999.000
318M20130321,       P02W,      64,          1,         20,         20,2,20130425,       1606,    29.9994,   173.3397,       4384,   769.9,   5.0565,  34.0839,2,  34.0834,2,     90.3,2,    81.5,2,   82.12,2,   36.41,2,       0,2,    2.67,2,   1.509,2,   0.785,2,   0.053,2,     0.32,2,  2276.3,6, 2309.72,2,   7.4085,2,       25,-999.000,9,-999.0000,9, -999.00,9, -999.00,9,  -999.0,9,  -999.0,-999.000,9,-999.000,     -999.0,9, -999.00,9, -999.00,9, -999.00,9,     -999.0,9,  -999.0,9, 20130425,     1731,       30, 173.3401,    34.2442,2,     -999.0,9,     -999.0,9,     5.0579,2,     -999.0,9,     -999.0,9,-999.0000, -999.00,-999.000
318M20130321,       P02W,      64,          1,         19,         19,2,20130425,       1606,    29.9994,   173.3397,       4384,   868.7,   4.4501,  34.1591,2,  34.1577,2,     57.8,2,    55.5,2,   97.55,2,   39.57,2,       0,2,    2.88,2,   0.886,2,   0.457,2,   0.032,2,     0.14,2,  -999.0,9, -999.00,9,-999.0000,9,  -999.00,-999.000,9,-999.0000,9, -999.00,9, -999.00,9,  -999.0,9,  -999.0,-999.000,9,-999.000,     -999.0,9, -999.00,9, -999.00,9, -999.00,9,     -999.0,9,  -999.0,9, 20130425,     1728,  29.9999, 173.3401,    34.3188,2,     -999.0,9,     -999.0,9,     4.4504,2,     -999.0,9,     -999.0,9,-999.0000, -999.00,-999.000
318M20130321,       P02W,      64,          1,         18,         18,2,20130425,       1606,    29.9994,   173.3397,       4384,   970.6,   3.9993,  34.2362,2,  34.2364,2,     39.7,2,    39.1,2,  111.02,2,   41.48,2,       0,2,    3.01,2,-999.000,9,-999.000,9,-999.000,9,-999.0000,9,  2334.1,2, 2342.53,2,    7.331,6,       25,-999.000,9,-999.0000,9, -999.00,9, -999.00,9,  -999.0,9,  -999.0,-999.000,9,-999.000,     -999.0,9, -999.00,9, -999.00,9, -999.00,9,     -999.0,9,  -999.0,9, 20130425,     1725,       30, 173.3401,    34.3978,2,     -999.0,9,     -999.0,9,     4.0008,2,     -999.0,9,     -999.0,9,-999.0000, -999.00,-999.000
318M20130321,       P02W,      64,          1,         17,         17,2,20130425,       1606,    29.9994,   173.3397,       4384,  1071.8,   3.5848,  34.3143,2,  34.3142,2,     30.5,2,    29.5,2,  123.31,2,   42.78,2,       0,2,    3.11,2,   0.221,2,   0.123,2,   0.011,2,     0.14,2,  -999.0,9, -999.00,9,-999.0000,9,  -999.00,-999.000,9,-999.0000,9, -999.00,9, -999.00,9,  -999.0,9,  -999.0,-999.000,9,-999.000,     -999.0,9, -999.00,9, -999.00,9, -999.00,9,     -999.0,9,  -999.0,9, 20130425,     1722,       30, 173.3401,     34.476,2,     -999.0,9,     -999.0,9,     3.5848,2,     -999.0,9,     -999.0,9,-999.0000, -999.00,-999.000
318M20130321,       P02W,      64,          1,         16,         16,2,20130425,       1606,    29.9994,   173.3397,       4384,    1174,   3.3302,  34.3678,2,   34.367,2,     26.7,2,    27.1,2,   131.8,2,   43.35,2,       0,2,    3.13,2,   0.103,2,   0.063,2,   0.002,2,     0.06,2,  2364.2,2, 2368.64,2,    7.319,2,       25,-999.000,9,-999.0000,9, -999.00,9, -999.00,9,  -999.0,9,  -999.0,-999.000,9,-999.000,     -999.0,9, -999.00,9, -999.00,9, -999.00,9,     -999.0,9,  -999.0,9, 20130425,     1719,  29.9999, 173.3401,    34.5291,2,     -999.0,9,     -999.0,9,     3.3302,2,     -999.0,9,     -999.0,9,-999.0000, -999.00,-999.000
318M20130321,       P02W,      64,          1,         15,         15,2,20130425,       1606,    29.9994,   173.3397,       4384,  1275.5,   3.0761,  34.4167,2,  34.4161,2,       27,2,    26.8,2,   139.9,2,   43.53,2,       0,2,    3.15,2,-999.000,9,-999.000,9,-999.000,9,-999.0000,9,  2374.5,2, 2379.65,2,   7.3231,2,       25,-999.000,9,-999.0000,9, -999.00,9, -999.00,9,  -999.0,9,  -999.0,-999.000,9,-999.000,     -999.0,9, -999.00,9, -999.00,9, -999.00,9,     -999.0,9,  -999.0,9, 20130425,     1716,       30, 173.3401,    34.5784,2,     -999.0,9,     -999.0,9,      3.076,2,     -999.0,9,     -999.0,9,-999.0000, -999.00,-999.000
318M20130321,       P02W,      64,          1,         14,         14,2,20130425,       1606,    29.9994,   173.3397,       4384,  1376.4,   2.8451,  34.4632,2,  34.4626,2,     30.4,2,    31.1,2,  146.24,2,   43.46,2,       0,2,    3.14,2,-999.000,9,-999.000,9,-999.000,9,-999.0000,9,  2377.1,2, 2387.75,2,   7.3347,2,       25,-999.000,9,-999.0000,9, -999.00,9, -999.00,9,  -999.0,9,  -999.0,-999.000,9,-999.000,     -999.0,9, -999.00,9, -999.00,9, -999.00,9,     -999.0,9,  -999.0,9, 20130425,     1713,       30, 173.3401,    34.6251,2,     -999.0,9,     -999.0,9,     2.8448,2,     -999.0,9,     -999.0,9,-999.0000, -999.00,-999.000
318M20130321,       P02W,      64,          1,         13,         13,2,20130425,       1606,    29.9994,   173.3397,       4384,    1479,   2.6175,  34.5011,2,  34.5009,2,     36.4,2,    36.3,2,  152.09,2,   43.23,2,       0,2,    3.09,2,   0.031,2,   0.022,2,   0.002,2,        0,2,  2379.9,2, 2394.45,2,   7.3484,6,       25,-999.000,9,-999.0000,9, -999.00,9, -999.00,9,  -999.0,9,  -999.0,-999.000,9,-999.000,     -999.0,9, -999.00,9, -999.00,9, -999.00,9,     -999.0,9,  -999.0,9, 20130425,     1710,       30, 173.3401,    34.6636,2,     -999.0,9,     -999.0,9,     2.6182,2,     -999.0,9,     -999.0,9,-999.0000, -999.00,-999.000
318M20130321,       P02W,      64,          1,         12,         12,2,20130425,       1606,    29.9994,   173.3397,       4384,  1576.9,   2.4533,  34.5266,2,  34.5276,2,     41.6,2,    42.6,2,  156.09,2,   42.89,2,       0,2,    3.07,2,-999.000,9,-999.000,9,-999.000,9,-999.0000,9,  2379.9,2, 2401.45,2,   7.3613,2,       25,-999.000,9,-999.0000,9, -999.00,9, -999.00,9,  -999.0,9,  -999.0,-999.000,9,-999.000,     -999.0,9, -999.00,9, -999.00,9, -999.00,9,     -999.0,9,  -999.0,9, 20130425,     1707,       30, 173.3401,    34.6904,2,     -999.0,9,     -999.0,9,     2.4533,2,     -999.0,9,     -999.0,9,-999.0000, -999.00,-999.000
318M20130321,       P02W,      64,          1,         11,         11,2,20130425,       1606,    29.9994,   173.3397,       4384,  1751.1,   2.1641,  34.5671,2,  34.5667,2,     56.2,2,    56.6,2,  161.36,2,   42.11,2,       0,2,       3,2,   0.001,2,   0.015,2,   0.000,2,        0,2,  2379.5,2, 2408.16,2,   7.3896,2,       25,-999.000,9,-999.0000,9, -999.00,9, -999.00,9,  -999.0,9,  -999.0,-999.000,9,-999.000,     -999.0,9, -999.00,9, -999.00,9, -999.00,9,     -999.0,9,  -999.0,9, 20130425,     1703,       30, 173.3401,    34.7297,2,     -999.0,9,     -999.0,9,     2.1644,2,     -999.0,9,     -999.0,9,-999.0000, -999.00,-999.000
318M20130321,       P02W,      64,          1,         10,         10,2,20130425,       1606,    29.9994,   173.3397,       4384,  1954.8,    2.005,   34.592,2,   34.592,2,     69.3,2,    70.2,2,  162.43,2,   41.21,2,       0,2,    2.95,2,-999.000,9,-999.000,9,-999.000,9,-999.0000,9,  -999.0,9, -999.00,9,-999.0000,9,  -999.00,-999.000,9,-999.0000,9, -999.00,9, -999.00,9,  -999.0,9,  -999.0,-999.000,9,-999.000,     -999.0,9, -999.00,9, -999.00,9, -999.00,9,     -999.0,9,  -999.0,9, 20130425,     1658,       30, 173.3401,    34.7551,2,     -999.0,9,     -999.0,9,     2.0049,2,     -999.0,9,     -999.0,9,-999.0000, -999.00,-999.000
318M20130321,       P02W,      64,          1,          9,          9,2,20130425,       1606,    29.9994,   173.3397,       4384,  2184.2,   1.8213,  34.6197,2,  34.6197,2,     89.6,2,    88.7,2,  162.72,2,   40.09,2,       0,2,    2.85,2,-999.000,9,-999.000,9,-999.000,9,-999.0000,9,  2364.6,2, 2414.16,2,   7.4542,2,       25,-999.000,9,-999.0000,9, -999.00,9, -999.00,9,  -999.0,9,  -999.0,-999.000,9,-999.000,     -999.0,9, -999.00,9, -999.00,9, -999.00,9,     -999.0,9,  -999.0,9, 20130425,     1653,       30, 173.3401,     34.783,2,     -999.0,9,     -999.0,9,     1.8202,2,     -999.0,9,     -999.0,9,-999.0000, -999.00,-999.000
318M20130321,       P02W,      64,          1,          8,          8,2,20130425,       1606,    29.9994,   173.3397,       4384,  2441.8,   1.6973,  34.6373,2,  34.6374,2,    103.9,2,   102.2,2,   163.2,2,    39.3,2,       0,2,    2.79,2,   0.001,2,   0.012,2,   0.000,2,     0.02,2,  -999.0,9, -999.00,9,-999.0000,9,  -999.00,-999.000,9,-999.0000,9, -999.00,9, -999.00,9,  -999.0,9,  -999.0,-999.000,9,-999.000,     -999.0,9, -999.00,9, -999.00,9, -999.00,9,     -999.0,9,  -999.0,9, 20130425,     1648,       30, 173.3401,    34.8007,2,     -999.0,9,     -999.0,9,     1.6975,2,     -999.0,9,     -999.0,9,-999.0000, -999.00,-999.000