BOTTLE,20220817CCHSIOAMB
EXPOCODE,SECT_ID,STNNBR,CASTNO,SAMPNO,BTLNBR,BTLNBR_FLAG_W,DATE,TIME,LATITUDE,LONGITUDE,DEPTH,CTDPRS,CTDTMP,CTDSAL,CTDSAL_FLAG_W,SALNTY,SALNTY_FLAG_W,CTDOXY,CTDOXY_FLAG_W,OXYGEN,OXYGEN_FLAG_W,SILCAT,SILCAT_FLAG_W,NITRAT,NITRAT_FLAG_W,NITRIT,NITRIT_FLAG_W,PHSPHT,PHSPHT_FLAG_W,CFC-11,CFC-11_FLAG_W,CFC-12,CFC-12_FLAG_W,CFC113,CFC113_FLAG_W,SF6,SF6_FLAG_W,TCARBN,TCARBN_FLAG_W,ALKALI,ALKALI_FLAG_W,PH_TOT,PH_TOT_FLAG_W,PH_TMP,TRITUM,TRITUM_FLAG_W,HELIUM,HELIUM_FLAG_W,DELHE3,DELHE3_FLAG_W,DELC13,DELC13_FLAG_W,DELC14,DELC14_FLAG_W,C14ERR,NEON,NEON_FLAG_W,NEONER,I-129,I-129_FLAG_W,SR-90,SR-90_FLAG_W,DOC,DOC_FLAG_W,TDN,TDN_FLAG_W,CALCIUM,CALCIUM_FLAG_W,D15N_NO3,D15N_NO3_FLAG_W,BTL_DATE,BTL_TIME,BTL_LAT,BTL_LON,SALTREF,SALTREF_FLAG_W,CS-137,CS-137_FLAG_W,CS-134,CS-134_FLAG_W,REFTMP,REFTMP_FLAG_W,LAB_DEN,LAB_DEN_FLAG_W,D18O_NO3,D18O_NO3_FLAG_W,HELIER,DELHER,TRITER
,,,,,,,,,,,METERS,DBAR,ITS-90,PSS-78,,PSS-78,,UMOL/KG,,UMOL/KG,,UMOL/KG,,UMOL/KG,,UMOL/KG,,UMOL/KG,,PMOL/KG,,PMOL/KG,,PMOL/KG,,FMOL/KG,,UMOL/KG,,UMOL/KG,,,,DEG C,TU,,NMOL/KG,,PERCNT,,/MILLE,,/MILLE,,/MILLE,NMOL/KG,,NMOL/KG,BQ/M^3,,DM/.1MG,,UMOL/KG,,UMOL/KG,,MMOL/KG,,/MILLE,,,,,,G/KG,,BQ/M^3,,BQ/M^3,,ITS-90,,,,/MILLE,,NMOL/KG,PERCNT,TU
318M20130321,       P02W,      69,          1,         36,         36,2,20130427,       0241,    30.0004,   176.5319,       5219,     3.4,  17.8442,  34.7458,2,  34.7469,2,    240.9,2,   240.8,2,    1.85,2,       0,2,       0,2,    0.04,2,   0.000,4,   0.000,4,   0.000,4,        0,4,  2010.8,2, 2282.61,2,   7.9961,6,       25,-999.000,9,-999.0000,9, -999.00,9, -999.00,9,  -999.0,9,  -999.0,-999.000,9,-999.000,     -999.0,9, -999.00,9,   56.27,2,    3.73,2,     -999.0,9,  -999.0,9, 20130427,      451,  29.9994,  176.532,    34.9107,2,     -999.0,9,     -999.0,9,    17.8444,2,     -999.0,9,     -999.0,9,-999.0000, -999.00,-999.000
318M20130321,       P02W,      69,          1,         35,         35,2,20130427,       0241,    30.0004,   176.5319,       5219,     3.5,   17.845,  34.7459,2,  34.7467,2,    240.9,2,   240.9,2,    1.85,2,       0,2,       0,2,    0.03,2,-999.000,9,-999.000,9,-999.000,9,-999.0000,9,  -999.0,9, -999.00,9,-999.0000,9,  -999.00,-999.000,9,-999.0000,9, -999.00,9, -999.00,9,  -999.0,9,  -999.0,-999.000,9,-999.000,     -999.0,9, -999.00,9, -999.00,9, -999.00,9,     -999.0,9,  -999.0,9, 20130427,      451,  29.9994, 176.5321,    34.9105,2,     -999.0,9,     -999.0,9,    17.8455,2,     -999.0,9,     -999.0,9,-999.0000, -999.00,-999.000
318M20130321,       P02W,      69,          1,         34,         34,2,20130427,       0241,    30.0004,   176.5319,       5219,    32.4,  17.7515,   34.739,2,  34.7398,2,      242,2,     241,2,    1.85,2,       0,2,       0,2,    0.03,2,   2.594,2,   1.589,2,   0.223,2,      1.8,2,  -999.0,9, -999.00,9,-999.0000,9,  -999.00,-999.000,9,-999.0000,9, -999.00,9, -999.00,9,  -999.0,9,  -999.0,-999.000,9,-999.000,     -999.0,9, -999.00,9,   57.34,2,    3.68,2,     -999.0,9,  -999.0,9, 20130427,      449,  29.9994,  176.532,    34.9036,2,     -999.0,9,     -999.0,9,    17.7513,2,     -999.0,9,     -999.0,9,-999.0000, -999.00,-999.000
318M20130321,       P02W,      69,          1,         33,         33,2,20130427,       0241,    30.0004,   176.5319,       5219,    57.5,  17.7182,  34.7348,2,  34.7363,2,    240.8,2,   240.4,2,    1.85,2,       0,2,       0,2,    0.03,2,   2.573,2,   1.593,2,   0.211,2,     1.84,2,  2012.1,2, 2280.61,2,   7.9949,2,       25,-999.000,9,-999.0000,9, -999.00,9, -999.00,9,  -999.0,9,  -999.0,-999.000,9,-999.000,     -999.0,9, -999.00,9,   56.79,2,    4.65,2,     -999.0,9,  -999.0,9, 20130427,      448,  29.9994,  176.532,    34.9001,2,     -999.0,9,     -999.0,9,    17.7167,2,     -999.0,9,     -999.0,9,-999.0000, -999.00,-999.000
318M20130321,       P02W,      69,          1,         32,         32,2,20130427,       0241,    30.0004,   176.5319,       5219,    82.7,  17.0695,  34.6576,2,  34.6549,2,      234,2,   233.7,2,    2.83,2,    0.88,2,    0.43,2,    0.12,2,   2.636,2,   1.602,2,   0.181,2,      1.8,2,  -999.0,9, -999.00,9,-999.0000,9,  -999.00,-999.000,9,-999.0000,9, -999.00,9, -999.00,9,  -999.0,9,  -999.0,-999.000,9,-999.000,     -999.0,9, -999.00,9,   53.92,2,    4.49,2,     -999.0,9,  -999.0,9, 20130427,      446,  29.9996, 176.5319,    34.8183,2,     -999.0,9,     -999.0,9,    17.0701,2,     -999.0,9,     -999.0,9,-999.0000, -999.00,-999.000
318M20130321,       P02W,      69,          1,         31,         31,2,20130427,       0241,    30.0004,   176.5319,       5219,   112.4,  16.8352,   34.641,2,  34.6416,2,      228,2,     228,2,    3.32,2,    2.32,2,    0.04,2,    0.18,2,   2.634,2,   1.610,2,   0.187,2,     1.84,2,  2024.5,2, 2277.31,6,    7.963,6,       25,-999.000,9,-999.0000,9, -999.00,9, -999.00,9,  -999.0,9,  -999.0,-999.000,9,-999.000,     -999.0,9, -999.00,9,   52.75,2,    7.15,2,     -999.0,9,  -999.0,9, 20130427,      444,  29.9998, 176.5318,    34.8049,2,     -999.0,9,     -999.0,9,    16.8319,2,     -999.0,9,     -999.0,9,-999.0000, -999.00,-999.000
318M20130321,       P02W,      69,          1,         30,         30,2,20130427,       0241,    30.0004,   176.5319,       5219,   163.9,  16.1694,  34.5922,2,   34.593,2,    221.4,2,   222.6,2,    4.59,2,    4.23,2,    0.03,2,    0.29,2,-999.000,9,-999.000,9,-999.000,9,-999.0000,9,  -999.0,9, -999.00,9,-999.0000,9,  -999.00,-999.000,9,-999.0000,9, -999.00,9, -999.00,9,  -999.0,9,  -999.0,-999.000,9,-999.000,     -999.0,9, -999.00,9,   51.64,2,     7.9,2,     -999.0,9,  -999.0,9, 20130427,      442,  29.9999, 176.5319,    34.7562,2,     -999.0,9,     -999.0,9,    16.1657,2,     -999.0,9,     -999.0,9,-999.0000, -999.00,-999.000
318M20130321,       P02W,      69,          1,         29,         29,2,20130427,       0241,    30.0004,   176.5319,       5219,   215.2,  15.6718,  34.5761,2,  34.5724,2,    220.1,2,   215.8,2,    6.15,2,    5.68,2,    0.02,2,     0.4,2,   2.741,2,   1.651,2,   0.109,2,     1.67,2,    2044,2, 2272.51,2,   7.9177,2,       25,-999.000,9,-999.0000,9, -999.00,9, -999.00,9,  -999.0,9,  -999.0,-999.000,9,-999.000,     -999.0,9, -999.00,9,    51.5,2,    9.41,2,     -999.0,9,  -999.0,9, 20130427,      440,  30.0001, 176.5316,    34.7354,2,     -999.0,9,     -999.0,9,    15.6323,3,     -999.0,9,     -999.0,9,-999.0000, -999.00,-999.000
318M20130321,       P02W,      69,          1,         28,         28,2,20130427,       0241,    30.0004,   176.5319,       5219,   266.2,  14.8039,  34.5249,2,  34.5249,2,    204.8,2,   203.6,2,    9.27,2,    8.34,2,    0.01,2,    0.58,2,-999.000,9,-999.000,9,-999.000,9,-999.0000,9,  -999.0,9, -999.00,9,-999.0000,9,  -999.00,-999.000,9,-999.0000,9, -999.00,9, -999.00,9,  -999.0,9,  -999.0,-999.000,9,-999.000,     -999.0,9, -999.00,9,   50.87,2,   12.13,2,     -999.0,9,  -999.0,9, 20130427,      438,  29.9999, 176.5315,    34.6877,2,     -999.0,9,     -999.0,9,    14.8008,2,     -999.0,9,     -999.0,9,-999.0000, -999.00,-999.000
318M20130321,       P02W,      69,          1,         27,         27,2,20130427,       0241,    30.0004,   176.5319,       5219,   315.2,   13.576,  34.4409,2,   34.444,2,    205.9,2,   205.5,2,   11.71,2,   10.09,2,    0.01,2,     0.7,2,   2.972,2,   1.741,2,   0.066,2,     1.47,2,  2076.8,2, 2269.71,2,   7.8492,2,       25,-999.000,9,-999.0000,9, -999.00,9, -999.00,9,  -999.0,9,  -999.0,-999.000,9,-999.000,     -999.0,9, -999.00,9,   47.01,2, -999.00,9,     -999.0,9,  -999.0,9, 20130427,      436,  29.9998, 176.5314,    34.6064,2,     -999.0,9,     -999.0,9,    13.5811,2,     -999.0,9,     -999.0,9,-999.0000, -999.00,-999.000
318M20130321,       P02W,      69,          1,         26,         26,2,20130427,       0241,    30.0004,   176.5319,       5219,   365.3,  12.6477,  34.3685,2,   34.369,2,    208.3,2,     210,2,   13.47,2,   11.22,2,    0.01,2,    0.79,2,-999.000,9,-999.000,9,-999.000,9,-999.0000,9,  2084.8,2, 2269.01,2,   7.8269,2,       25,-999.000,9,-999.0000,9, -999.00,9, -999.00,9,  -999.0,9,  -999.0,-999.000,9,-999.000,     -999.0,9, -999.00,9,   45.52,2, -999.00,9,     -999.0,9,  -999.0,9, 20130427,      435,  29.9999, 176.5315,    34.5311,2,     -999.0,9,     -999.0,9,    12.6443,2,     -999.0,9,     -999.0,9,-999.0000, -999.00,-999.000
318M20130321,       P02W,      69,          1,         25,         25,2,20130427,       0241,    30.0004,   176.5319,       5219,   437.8,  10.8502,  34.2397,2,  34.2474,3,    204.1,2,   204.3,2,   19.82,2,   14.86,2,    0.01,2,    1.06,2,   3.289,2,   1.867,2,   0.114,2,     1.42,2,  2109.7,2, 2267.61,2,   7.7684,2,       25,-999.000,9,-999.0000,9, -999.00,9, -999.00,9,  -999.0,9,  -999.0,-999.000,9,-999.000,     -999.0,9, -999.00,9,   44.73,2, -999.00,9,     -999.0,9,  -999.0,9, 20130427,      432,       30, 176.5317,    34.4089,3,     -999.0,9,     -999.0,9,    10.8405,2,     -999.0,9,     -999.0,9,-999.0000, -999.00,-999.000
318M20130321,       P02W,      69,          1,         24,         24,2,20130427,       0241,    30.0004,   176.5319,       5219,   539.8,   8.4258,  34.0835,2,  34.0843,2,    180.4,2,   180.2,2,   35.15,2,   21.56,2,    0.01,2,    1.56,2,-999.000,9,-999.000,9,-999.000,9,-999.0000,9,  2155.7,2, 2274.71,2,   7.6618,2,       25,-999.000,9,-999.0000,9, -999.00,9, -999.00,9,  -999.0,9,  -999.0,-999.000,9,-999.000,     -999.0,9, -999.00,9,   44.77,2, -999.00,9,     -999.0,9,  -999.0,9, 20130427,      430,       30, 176.5316,     34.245,2,     -999.0,9,     -999.0,9,     8.4106,2,     -999.0,9,     -999.0,9,-999.0000, -999.00,-999.000
318M20130321,       P02W,      69,          1,         23,         23,2,20130427,       0241,    30.0004,   176.5319,       5219,   639.9,    6.436,  34.0194,2,  34.0212,2,    131.1,2,   136.3,2,   56.44,2,   29.25,2,    0.01,2,    2.15,2,   2.633,2,   1.391,2,   0.106,2,     0.73,2,  2213.9,2, 2285.71,2,   7.5319,2,       25,-999.000,9,-999.0000,9, -999.00,9, -999.00,9,  -999.0,9,  -999.0,-999.000,9,-999.000,     -999.0,9, -999.00,9,   43.02,2, -999.00,9,     -999.0,9,  -999.0,9, 20130427,      427,  29.9998, 176.5314,    34.1816,2,     -999.0,9,     -999.0,9,     6.4308,2,     -999.0,9,     -999.0,9,-999.0000, -999.00,-999.000
318M20130321,       P02W,      69,          1,         22,         22,2,20130427,       0241,    30.0004,   176.5319,       5219,   742.5,   5.1006,  34.0524,2,  34.0541,2,     92.7,2,    92.4,2,   79.68,2,   35.48,2,    0.01,2,    2.62,2,-999.000,9,-999.000,9,-999.000,9,-999.0000,9,  -999.0,9, -999.00,9,-999.0000,9,  -999.00,-999.000,9,-999.0000,9, -999.00,9, -999.00,9,  -999.0,9,  -999.0,-999.000,9,-999.000,     -999.0,9, -999.00,9,   42.56,2, -999.00,9,     -999.0,9,  -999.0,9, 20130427,      424,  29.9999, 176.5315,    34.2147,2,     -999.0,9,     -999.0,9,     5.0961,2,     -999.0,9,     -999.0,9,-999.0000, -999.00,-999.000
318M20130321,       P02W,      69,          1,         21,         21,2,20130427,       0241,    30.0004,   176.5319,       5219,   837.7,   4.3298,  34.1565,2,  34.1572,2,       54,2,    54.5,2,  100.57,2,   39.85,2,       0,2,    2.92,2,   0.906,2,   0.465,2,   0.032,2,      0.2,2,  2312.6,2, 2327.83,2,   7.3507,2,       25,-999.000,9,-999.0000,9, -999.00,9, -999.00,9,  -999.0,9,  -999.0,-999.000,9,-999.000,     -999.0,9, -999.00,9,   38.99,2, -999.00,9,     -999.0,9,  -999.0,9, 20130427,      421,  29.9998, 176.5317,    34.3183,2,     -999.0,9,     -999.0,9,     4.3291,2,     -999.0,9,     -999.0,9,-999.0000, -999.00,-999.000
318M20130321,       P02W,      69,          1,         20,         20,2,20130427,       0241,    30.0004,   176.5319,       5219,   940.8,   3.8424,  34.2482,2,  34.2492,2,     34.7,2,      35,2,  116.29,2,   42.08,2,       0,2,    3.08,2,-999.000,9,-999.000,9,-999.000,9,-999.0000,9,  -999.0,9, -999.00,9,-999.0000,9,  -999.00,-999.000,9,-999.0000,9, -999.00,9, -999.00,9,  -999.0,9,  -999.0,-999.000,9,-999.000,     -999.0,9, -999.00,9,    40.3,2, -999.00,9,     -999.0,9,  -999.0,9, 20130427,      419,       30, 176.5317,    34.4107,2,     -999.0,9,     -999.0,9,     3.8431,2,     -999.0,9,     -999.0,9,-999.0000, -999.00,-999.000
318M20130321,       P02W,      69,          1,         19,         19,2,20130427,       0241,    30.0004,   176.5319,       5219,  1042.3,   3.5033,  34.3139,2,  34.3153,2,     27.4,2,    27.7,2,  127.12,2,   42.99,2,       0,2,    3.12,2,   0.210,2,   0.106,2,   0.009,2,     0.08,2,    2357,2, 2359.64,2,   7.3124,6,       25,-999.000,9,-999.0000,9, -999.00,9, -999.00,9,  -999.0,9,  -999.0,-999.000,9,-999.000,     -999.0,9, -999.00,9,   39.42,2, -999.00,9,     -999.0,9,  -999.0,9, 20130427,      416,       30, 176.5317,    34.4771,2,     -999.0,9,     -999.0,9,     3.5031,2,     -999.0,9,     -999.0,9,-999.0000, -999.00,-999.000
318M20130321,       P02W,      69,          1,         18,         18,2,20130427,       0241,    30.0004,   176.5319,       5219,  1143.8,   3.2143,  34.3802,2,  34.3809,2,     25.1,2,    25.4,2,   135.9,2,   43.51,2,       0,2,    3.17,2,   0.089,2,   0.050,2,   0.002,2,     0.07,2,  -999.0,9, -999.00,9,-999.0000,9,  -999.00,-999.000,9,-999.0000,9, -999.00,9, -999.00,9,  -999.0,9,  -999.0,-999.000,9,-999.000,     -999.0,9, -999.00,9,   37.03,2, -999.00,9,     -999.0,9,  -999.0,9, 20130427,      413,       30, 176.5316,     34.543,2,     -999.0,9,     -999.0,9,     3.2138,2,     -999.0,9,     -999.0,9,-999.0000, -999.00,-999.000
318M20130321,       P02W,      69,          1,         17,         17,2,20130427,       0241,    30.0004,   176.5319,       5219,  1245.8,   3.0037,  34.4327,2,   34.434,2,       27,2,    26.8,2,  142.43,2,   43.62,2,       0,2,    3.16,2,   0.036,2,   0.025,2,   0.004,2,     0.11,2,  2374.7,2, 2381.95,2,   7.3247,2,       25,-999.000,9,-999.0000,9, -999.00,9, -999.00,9,  -999.0,9,  -999.0,-999.000,9,-999.000,     -999.0,9, -999.00,9,    37.1,2, -999.00,9,     -999.0,9,  -999.0,9, 20130427,      410,  29.9998, 176.5316,    34.5964,2,     -999.0,9,     -999.0,9,     3.0023,2,     -999.0,9,     -999.0,9,-999.0000, -999.00,-999.000
318M20130321,       P02W,      69,          1,         16,         16,2,20130427,       0241,    30.0004,   176.5319,       5219,  1347.6,   2.7823,  34.4747,2,  34.4757,2,       32,2,    31.9,2,  148.68,2,   43.58,2,       0,2,    3.15,2,   0.014,2,   0.017,2,   0.003,2,     0.02,2,  2379.1,2, 2389.25,2,   7.3367,2,       25,-999.000,9,-999.0000,9, -999.00,9, -999.00,9,  -999.0,9,  -999.0,-999.000,9,-999.000,     -999.0,9, -999.00,9,   37.06,2, -999.00,9,     -999.0,9,  -999.0,9, 20130427,      407,  29.9998, 176.5317,    34.6382,2,     -999.0,9,     -999.0,9,     2.7841,2,     -999.0,9,     -999.0,9,-999.0000, -999.00,-999.000
318M20130321,       P02W,      69,          1,         15,         15,2,20130427,       0241,    30.0004,   176.5319,       5219,  1473.9,   2.5559,  34.5145,2,  34.5153,2,     38.8,2,    39.3,2,  154.04,2,   43.18,2,       0,2,    3.12,2,   0.000,2,   0.009,2,   0.003,2,     0.05,2,  2379.5,2, 2398.95,2,   7.3556,2,       25,-999.000,9,-999.0000,9, -999.00,9, -999.00,9,  -999.0,9,  -999.0,-999.000,9,-999.000,     -999.0,9, -999.00,9,   37.25,2, -999.00,9,     -999.0,9,  -999.0,9, 20130427,      404,  29.9996, 176.5318,    34.6781,2,     -999.0,9,     -999.0,9,     2.5574,2,     -999.0,9,     -999.0,9,-999.0000, -999.00,-999.000
318M20130321,       P02W,      69,          1,         14,         14,2,20130427,       0241,    30.0004,   176.5319,       5219,  1677.5,   2.2687,  34.5588,2,  34.5595,2,     54.2,2,    53.2,2,  162.43,2,   42.39,2,       0,2,    3.05,2,   0.000,2,   0.009,2,   0.012,2,        0,2,  2378.4,2, 2406.95,2,   7.3848,2,       25,-999.000,9,-999.0000,9, -999.00,9, -999.00,9,  -999.0,9,  -999.0,-999.000,9,-999.000,     -999.0,9, -999.00,9,   37.77,2, -999.00,9,     -999.0,9,  -999.0,9, 20130427,      359,  29.9998, 176.5318,    34.7225,2,     -999.0,9,     -999.0,9,     2.2722,2,     -999.0,9,     -999.0,9,-999.0000, -999.00,-999.000
318M20130321,       P02W,      69,          1,         13,         13,2,20130427,       0241,    30.0004,   176.5319,       5219,    1883,   2.0136,  34.5941,2,  34.5951,2,     69.4,2,    69.8,2,  164.09,2,   41.37,2,       0,2,    2.96,2,-999.000,9,-999.000,9,-999.000,9,-999.0000,9,  2373.5,2, 2412.46,2,   7.4169,2,       25,-999.000,9,-999.0000,9, -999.00,9, -999.00,9,  -999.0,9,  -999.0,-999.000,9,-999.000,     -999.0,9, -999.00,9,   36.67,2, -999.00,9,     -999.0,9,  -999.0,9, 20130427,      354,  29.9999, 176.5316,    34.7582,2,     -999.0,9,     -999.0,9,     2.0136,2,     -999.0,9,     -999.0,9,-999.0000, -999.00,-999.000
318M20130321,       P02W,      69,          1,         11,         11,2,20130427,       0241,    30.0004,   176.5319,       5219,    2108,   1.8364,  34.6178,2,  34.6198,2,     84.4,2,    84.3,2,  165.65,2,   40.46,2,       0,2,    2.87,2,   0.000,2,   0.008,2,   0.008,2,     0.02,2,  2367.1,6, 2416.06,2,   7.4473,2,       25,-999.000,9,-999.0000,9, -999.00,9, -999.00,9,  -999.0,9,  -999.0,-999.000,9,-999.000,     -999.0,9, -999.00,9,   36.99,2, -999.00,9,     -999.0,9,  -999.0,9, 20130427,      345,  30.0001, 176.5315,    34.7831,2,     -999.0,9,     -999.0,9,     1.8366,2,     -999.0,9,     -999.0,9,-999.0000, -999.00,-999.000
318M20130321,       P02W,      69,          1,         10,         10,2,20130427,       0241,    30.0004,   176.5319,       5219,  2358.5,    1.699,  34.6368,2,  34.6381,2,     99.5,2,    99.5,2,  164.47,2,   39.45,2,       0,2,     2.8,2,   0.000,2,   0.009,2,   0.003,2,     0.06,2,  -999.0,9, -999.00,9,-999.0000,9,  -999.00,-999.000,9,-999.0000,9, -999.00,9, -999.00,9,  -999.0,9,  -999.0,-999.000,9,-999.000,     -999.0,9, -999.00,9, -999.00,9, -999.00,9,     -999.0,9,  -999.0,9, 20130427,      340,  30.0003, 176.5317,    34.8015,2,     -999.0,9,     -999.0,9,     1.6988,2,     -999.0,9,     -999.0,9,-999.0000, -999.00,-999.000
318M20130321,       P02W,      69,          1,          9,          9,2,20130427,       0241,    30.0004,   176.5319,       5219,  2615.1,   1.6087,  34.6502,2,  34.6519,2,    111.8,2,     112,2,   163.4,2,   38.67,2,       0,2,    2.74,2,-999.000,9,-999.000,9,-999.000,9,-999.0000,9,  2351.6,2, 2418.96,2,   7.4981,2,       25,-999.000,9,-999.0000,9, -999.00,9, -999.00,9,  -999.0,9,  -999.0,-999.000,9,-999.000,     -999.0,9, -999.00,9,   36.23,2, -999.00,9,     -999.0,9,  -999.0,9, 20130427,      335,  30.0002, 176.5316,    34.8153,2,     -999.0,9,     -999.0,9,     1.6085,2,     -999.0,9,     -999.0,9,-999.0000, -999.00,-999.000
318M20130321,       P02W,      69,          1,          8,          8,2,20130427,       0241,    30.0004,   176.5319,       5219,  2867.6,   1.5363,  34.6616,2,  34.6631,2,    122.9,2,     124,2,  161.25,2,   38.02,2,       0,2,    2.65,3,   0.000,2,   0.005,2,   0.003,2,     0.05,2,  -999.0,9, -999.00,9,-999.0000,9,  -999.00,-999.000,9,-999.0000,9, -999.00,9, -999.00,9,  -999.0,9,  -999.0,-999.000,9,-999.000,     -999.0,9, -999.00,9, -999.00,9, -999.00,9,     -999.0,9,  -999.0,9, 20130427,      329,       30, 176.5311,    34.8265,2,     -999.0,9,     -999.0,9,     1.5362,2,     -999.0,9,     -999.0,9,-999.0000, -999.00,-999.000
318M20130321,       P02W,      69,          1,          7,          7,2,20130427,       0241,    30.0004,   176.5319,       5219,  3138.1,    1.495,  34.6695,2,  34.6708,2,      132,2,   132.2,2,  158.61,2,   37.33,2,       0,2,    2.64,2,-999.000,9,-999.000,9,-999.000,9,-999.0000,9,  2337.9,2, 2418.46,2,   7.5353,2,       25,-999.000,9,-999.0000,9, -999.00,9, -999.00,9,  -999.0,9,  -999.0,-999.000,9,-999.000,     -999.0,9, -999.00,9,    35.5,2, -999.00,9,     -999.0,9,  -999.0,9, 20130427,      323,  30.0002, 176.5314,    34.8342,2,     -999.0,9,     -999.0,9,     1.4947,2,     -999.0,9,     -999.0,9,-999.0000, -999.00,-999.000