BOTTLE,20220817CCHSIOAMB
EXPOCODE,SECT_ID,STNNBR,CASTNO,SAMPNO,BTLNBR,BTLNBR_FLAG_W,DATE,TIME,LATITUDE,LONGITUDE,DEPTH,CTDPRS,CTDTMP,CTDSAL,CTDSAL_FLAG_W,SALNTY,SALNTY_FLAG_W,CTDOXY,CTDOXY_FLAG_W,OXYGEN,OXYGEN_FLAG_W,SILCAT,SILCAT_FLAG_W,NITRAT,NITRAT_FLAG_W,NITRIT,NITRIT_FLAG_W,PHSPHT,PHSPHT_FLAG_W,CFC-11,CFC-11_FLAG_W,CFC-12,CFC-12_FLAG_W,CFC113,CFC113_FLAG_W,SF6,SF6_FLAG_W,TCARBN,TCARBN_FLAG_W,ALKALI,ALKALI_FLAG_W,PH_TOT,PH_TOT_FLAG_W,PH_TMP,TRITUM,TRITUM_FLAG_W,HELIUM,HELIUM_FLAG_W,DELHE3,DELHE3_FLAG_W,DELC13,DELC13_FLAG_W,DELC14,DELC14_FLAG_W,C14ERR,NEON,NEON_FLAG_W,NEONER,I-129,I-129_FLAG_W,SR-90,SR-90_FLAG_W,DOC,DOC_FLAG_W,TDN,TDN_FLAG_W,CALCIUM,CALCIUM_FLAG_W,D15N_NO3,D15N_NO3_FLAG_W,BTL_DATE,BTL_TIME,BTL_LAT,BTL_LON,SALTREF,SALTREF_FLAG_W,CS-137,CS-137_FLAG_W,CS-134,CS-134_FLAG_W,REFTMP,REFTMP_FLAG_W,LAB_DEN,LAB_DEN_FLAG_W,D18O_NO3,D18O_NO3_FLAG_W,HELIER,DELHER,TRITER
,,,,,,,,,,,METERS,DBAR,ITS-90,PSS-78,,PSS-78,,UMOL/KG,,UMOL/KG,,UMOL/KG,,UMOL/KG,,UMOL/KG,,UMOL/KG,,PMOL/KG,,PMOL/KG,,PMOL/KG,,FMOL/KG,,UMOL/KG,,UMOL/KG,,,,DEG C,TU,,NMOL/KG,,PERCNT,,/MILLE,,/MILLE,,/MILLE,NMOL/KG,,NMOL/KG,BQ/M^3,,DM/.1MG,,UMOL/KG,,UMOL/KG,,MMOL/KG,,/MILLE,,,,,,G/KG,,BQ/M^3,,BQ/M^3,,ITS-90,,,,/MILLE,,NMOL/KG,PERCNT,TU
318M20130321,       P02E,     148,          1,          5,         37,2,20130530,       1639,    31.7778,  -120.2493,       3978,  3243.8,   1.6048,  34.6703,2,    34.67,2,    120.7,2,   120.5,2,  169.06,2,   38.18,2,       0,2,    2.67,2,   0.008,2,   0.011,2,-999.000,1,        0,2,  2355.1,2, 2429.66,6,   7.5274,2,       25,-999.000,9,-999.0000,9, -999.00,9, -999.00,9,  -999.0,9,  -999.0,-999.000,9,-999.000,     -999.0,9, -999.00,9, -999.00,9, -999.00,9,     -999.0,9,  -999.0,9, 20130530,     1656,  31.7778,-120.2493,    34.8335,2,     -999.0,9,     -999.0,9,     1.6052,2,     -999.0,9,     -999.0,9,-999.0000, -999.00,-999.000
318M20130321,       P02E,     148,          1,          4,          4,2,20130530,       1639,    31.7778,  -120.2493,       3978,    3550,   1.5678,  34.6748,2,  34.6739,2,    125.5,2,   125.6,2,  170.13,2,   37.83,2,       0,2,    2.65,2,   0.013,2,   0.015,2,-999.000,1,        0,2,  -999.0,9, -999.00,9,-999.0000,9,  -999.00,-999.000,9,-999.0000,9, -999.00,9, -999.00,9,  -999.0,9,  -999.0,-999.000,9,-999.000,     -999.0,9, -999.00,9, -999.00,9, -999.00,9,     -999.0,9,  -999.0,9, 20130530,     1650,  31.7778,-120.2493,    34.8374,2,     -999.0,9,     -999.0,9,     1.5676,2,     -999.0,9,     -999.0,9,-999.0000, -999.00,-999.000
318M20130321,       P02E,     148,          1,          3,          3,2,20130530,       1639,    31.7778,  -120.2493,       3978,  3859.1,   1.5594,  34.6776,2,  34.6771,2,    129.6,2,   129.1,2,  171.11,2,   37.59,2,       0,2,    2.65,2,   0.014,2,   0.016,2,-999.000,1,        0,2,  2351.2,2, 2432.36,2,   7.5432,2,       25,-999.000,9,-999.0000,9, -999.00,9, -999.00,9,  -999.0,9,  -999.0,-999.000,9,-999.000,     -999.0,9, -999.00,9, -999.00,9, -999.00,9,     -999.0,9,  -999.0,9, 20130530,     1643,  31.7778,-120.2493,    34.8406,2,     -999.0,9,     -999.0,9,     1.5595,2,     -999.0,9,     -999.0,9,-999.0000, -999.00,-999.000
318M20130321,       P02E,     148,          1,          2,          2,2,20130530,       1639,    31.7778,  -120.2493,       3978,  4056.7,   1.5577,  34.6799,2,  34.6792,2,    131.6,2,   131.5,2,  170.71,2,   37.49,2,       0,2,    2.64,2,   0.011,2,   0.020,2,-999.000,1,        0,2,  2349.5,6, 2432.46,2,   7.5468,2,       25,-999.000,9,-999.0000,9, -999.00,9, -999.00,9,  -999.0,9,  -999.0,-999.000,9,-999.000,     -999.0,9, -999.00,9, -999.00,9, -999.00,9,     -999.0,1,  -999.0,9, 20130530,     1638,  31.7778,-120.2493,    34.8428,2,     -999.0,9,     -999.0,9,      1.558,2,     -999.0,9,     -999.0,9,-999.0000, -999.00,-999.000