BOTTLE,20220817CCHSIOAMB
EXPOCODE,SECT_ID,STNNBR,CASTNO,SAMPNO,BTLNBR,BTLNBR_FLAG_W,DATE,TIME,LATITUDE,LONGITUDE,DEPTH,CTDPRS,CTDTMP,CTDSAL,CTDSAL_FLAG_W,SALNTY,SALNTY_FLAG_W,CTDOXY,CTDOXY_FLAG_W,OXYGEN,OXYGEN_FLAG_W,SILCAT,SILCAT_FLAG_W,NITRAT,NITRAT_FLAG_W,NITRIT,NITRIT_FLAG_W,PHSPHT,PHSPHT_FLAG_W,CFC-11,CFC-11_FLAG_W,CFC-12,CFC-12_FLAG_W,CFC113,CFC113_FLAG_W,SF6,SF6_FLAG_W,TCARBN,TCARBN_FLAG_W,ALKALI,ALKALI_FLAG_W,PH_TOT,PH_TOT_FLAG_W,PH_TMP,TRITUM,TRITUM_FLAG_W,HELIUM,HELIUM_FLAG_W,DELHE3,DELHE3_FLAG_W,DELC13,DELC13_FLAG_W,DELC14,DELC14_FLAG_W,C14ERR,NEON,NEON_FLAG_W,NEONER,I-129,I-129_FLAG_W,SR-90,SR-90_FLAG_W,DOC,DOC_FLAG_W,TDN,TDN_FLAG_W,CALCIUM,CALCIUM_FLAG_W,D15N_NO3,D15N_NO3_FLAG_W,BTL_DATE,BTL_TIME,BTL_LAT,BTL_LON,SALTREF,SALTREF_FLAG_W,CS-137,CS-137_FLAG_W,CS-134,CS-134_FLAG_W,REFTMP,REFTMP_FLAG_W,LAB_DEN,LAB_DEN_FLAG_W,D18O_NO3,D18O_NO3_FLAG_W,HELIER,DELHER,TRITER
,,,,,,,,,,,METERS,DBAR,ITS-90,PSS-78,,PSS-78,,UMOL/KG,,UMOL/KG,,UMOL/KG,,UMOL/KG,,UMOL/KG,,UMOL/KG,,PMOL/KG,,PMOL/KG,,PMOL/KG,,FMOL/KG,,UMOL/KG,,UMOL/KG,,,,DEG C,TU,,NMOL/KG,,PERCNT,,/MILLE,,/MILLE,,/MILLE,NMOL/KG,,NMOL/KG,BQ/M^3,,DM/.1MG,,UMOL/KG,,UMOL/KG,,MMOL/KG,,/MILLE,,,,,,G/KG,,BQ/M^3,,BQ/M^3,,ITS-90,,,,/MILLE,,NMOL/KG,PERCNT,TU
318M20130321,       P02E,     145,          2,          5,         37,2,20130529,       2157,    31.0267,  -121.7718,       3967,  3242.9,   1.6013,  34.6697,2,  34.6694,2,    121.4,2,   120.9,2,  168.37,2,    38.2,2,       0,2,    2.66,2,-999.000,9,-999.000,9,-999.000,9,-999.0000,9,  2352.8,2, 2428.46,2,   7.5255,6,       25,-999.000,9,-999.0000,9, -999.00,9,   -0.01,2,  -235.1,2,     2.2,-999.000,9,-999.000,     -999.0,9, -999.00,9, -999.00,5, -999.00,9,     -999.0,9,  -999.0,1, 20130529,     2214,  31.0267,-121.7718,    34.8329,2,     -999.0,9,     -999.0,9,     1.6018,2,     -999.0,9,     -999.0,1,-999.0000, -999.00,-999.000
318M20130321,       P02E,     145,          2,          4,          4,2,20130529,       2157,    31.0267,  -121.7718,       3967,  3551.3,   1.5633,  34.6743,2,  34.6749,2,    127.1,2,     127,2,  169.35,2,   37.84,2,       0,2,    2.64,2,   0.007,2,   0.011,2,-999.000,1,        0,2,  -999.0,9, -999.00,9,-999.0000,9,  -999.00,-999.000,9,-999.0000,9, -999.00,9,    0.04,2,  -230.3,2,     2.4,-999.000,9,-999.000,     -999.0,9, -999.00,9,   38.32,2, -999.00,9,     -999.0,9,  -999.0,1, 20130529,     2207,  31.0267,-121.7718,    34.8384,2,     -999.0,9,     -999.0,9,      1.563,2,     -999.0,9,     -999.0,1,-999.0000, -999.00,-999.000
318M20130321,       P02E,     145,          2,          3,          3,2,20130529,       2157,    31.0267,  -121.7718,       3967,  3856.9,   1.5404,   34.679,2,  34.6793,2,    131.7,2,   131.6,2,  169.35,2,   37.56,2,       0,2,    2.61,2,   0.010,2,   0.015,2,-999.000,1,        0,2,  -999.0,9, -999.00,9,-999.0000,9,  -999.00,-999.000,9,-999.0000,9, -999.00,9,    0.04,2,  -224.2,2,     2.0,-999.000,9,-999.000,     -999.0,9, -999.00,9,   42.32,2, -999.00,9,     -999.0,9,  -999.0,1, 20130529,     2201,  31.0267,-121.7718,    34.8428,2,     -999.0,9,     -999.0,9,       1.54,2,     -999.0,9,     -999.0,1,-999.0000, -999.00,-999.000
318M20130321,       P02E,     145,          2,          2,          2,2,20130529,       2157,    31.0267,  -121.7718,       3967,  4020.7,   1.5475,  34.6797,2,  34.6822,3,    132.6,2,   132.2,2,  168.76,2,   37.49,2,       0,2,     2.6,2,   0.010,2,   0.013,2,-999.000,1,        0,2,  2348.8,6, 2431.66,2,   7.5497,2,       25,-999.000,9,-999.0000,9, -999.00,9,    0.03,2,  -225.0,2,     2.1,-999.000,9,-999.000,     -999.0,9, -999.00,9,   39.68,2, -999.00,9,     -999.0,9,  -999.0,1, 20130529,     2157,  31.0267,-121.7718,    34.8457,3,     -999.0,9,     -999.0,9,     1.5473,2,     -999.0,9,     -999.0,1,-999.0000, -999.00,-999.000