BOTTLE,20220817CCHSIOAMB
EXPOCODE,SECT_ID,STNNBR,CASTNO,SAMPNO,BTLNBR,BTLNBR_FLAG_W,DATE,TIME,LATITUDE,LONGITUDE,DEPTH,CTDPRS,CTDTMP,CTDSAL,CTDSAL_FLAG_W,SALNTY,SALNTY_FLAG_W,CTDOXY,CTDOXY_FLAG_W,OXYGEN,OXYGEN_FLAG_W,SILCAT,SILCAT_FLAG_W,NITRAT,NITRAT_FLAG_W,NITRIT,NITRIT_FLAG_W,PHSPHT,PHSPHT_FLAG_W,CFC-11,CFC-11_FLAG_W,CFC-12,CFC-12_FLAG_W,CFC113,CFC113_FLAG_W,SF6,SF6_FLAG_W,TCARBN,TCARBN_FLAG_W,ALKALI,ALKALI_FLAG_W,PH_TOT,PH_TOT_FLAG_W,PH_TMP,TRITUM,TRITUM_FLAG_W,HELIUM,HELIUM_FLAG_W,DELHE3,DELHE3_FLAG_W,DELC13,DELC13_FLAG_W,DELC14,DELC14_FLAG_W,C14ERR,NEON,NEON_FLAG_W,NEONER,I-129,I-129_FLAG_W,SR-90,SR-90_FLAG_W,DOC,DOC_FLAG_W,TDN,TDN_FLAG_W,CALCIUM,CALCIUM_FLAG_W,D15N_NO3,D15N_NO3_FLAG_W,BTL_DATE,BTL_TIME,BTL_LAT,BTL_LON,SALTREF,SALTREF_FLAG_W,CS-137,CS-137_FLAG_W,CS-134,CS-134_FLAG_W,REFTMP,REFTMP_FLAG_W,LAB_DEN,LAB_DEN_FLAG_W,D18O_NO3,D18O_NO3_FLAG_W,HELIER,DELHER,TRITER
,,,,,,,,,,,METERS,DBAR,ITS-90,PSS-78,,PSS-78,,UMOL/KG,,UMOL/KG,,UMOL/KG,,UMOL/KG,,UMOL/KG,,UMOL/KG,,PMOL/KG,,PMOL/KG,,PMOL/KG,,FMOL/KG,,UMOL/KG,,UMOL/KG,,,,DEG C,TU,,NMOL/KG,,PERCNT,,/MILLE,,/MILLE,,/MILLE,NMOL/KG,,NMOL/KG,BQ/M^3,,DM/.1MG,,UMOL/KG,,UMOL/KG,,MMOL/KG,,/MILLE,,,,,,G/KG,,BQ/M^3,,BQ/M^3,,ITS-90,,,,/MILLE,,NMOL/KG,PERCNT,TU
318M20130321,       P02W,      74,          1,          6,          6,2,20130428,       1201,    30.0001,    179.723,       5347,  3652.2,    1.454,  34.6803,2,  34.6801,2,    143.7,2,   143.8,2,  156.37,2,   36.69,2,       0,2,    2.58,2,-999.000,9,-999.000,9,-999.000,9,-999.0000,9,  -999.0,9, -999.00,9,-999.0000,9,  -999.00,-999.000,9,-999.0000,9, -999.00,9, -999.00,9,  -999.0,9,  -999.0,-999.000,9,-999.000,     -999.0,9, -999.00,9, -999.00,9, -999.00,9,     -999.0,9,  -999.0,9, 20130428,     1239,  29.9996, 179.7232,    34.8437,2,     -999.0,9,     -999.0,9,     1.4538,2,     -999.0,9,     -999.0,9,-999.0000, -999.00,-999.000
318M20130321,       P02W,      74,          1,          5,         37,2,20130428,       1201,    30.0001,    179.723,       5347,  3958.4,   1.4495,  34.6843,2,  34.6835,2,    148.6,2,   148.7,2,   155.1,2,   36.42,2,       0,2,    2.56,2,   0.000,2,   0.007,2,   0.000,2,     0.01,2,  2327.8,2, 2417.26,2,   7.5654,2,       25,-999.000,9,-999.0000,9, -999.00,9, -999.00,9,  -999.0,9,  -999.0,-999.000,9,-999.000,     -999.0,9, -999.00,9, -999.00,9, -999.00,9,     -999.0,9,  -999.0,9, 20130428,     1232,  29.9997, 179.7231,     34.847,2,     -999.0,9,     -999.0,9,     1.4499,2,     -999.0,9,     -999.0,9,-999.0000, -999.00,-999.000
318M20130321,       P02W,      74,          1,          4,          4,2,20130428,       1201,    30.0001,    179.723,       5347,  4369.9,   1.4667,  34.6876,2,  34.6876,2,    153.2,2,   153.3,2,  152.75,2,   36.11,2,       0,2,    2.53,2,-999.000,9,-999.000,9,-999.000,9,-999.0000,9,  -999.0,9, -999.00,9,-999.0000,9,  -999.00,-999.000,9,-999.0000,9, -999.00,9, -999.00,9,  -999.0,9,  -999.0,-999.000,9,-999.000,     -999.0,9, -999.00,9, -999.00,9, -999.00,9,     -999.0,9,  -999.0,9, 20130428,     1224,  29.9999, 179.7231,    34.8512,2,     -999.0,9,     -999.0,9,     1.4668,2,     -999.0,9,     -999.0,9,-999.0000, -999.00,-999.000
318M20130321,       P02W,      74,          1,          3,          3,2,20130428,       1201,    30.0001,    179.723,       5347,  4777.8,   1.4819,  34.6907,2,  34.6896,2,    159.1,2,   158.8,2,  148.07,2,    35.7,2,       0,2,    2.52,2,   0.000,2,   0.010,2,   0.000,2,     0.01,2,  2319.3,2, 2413.06,6,    7.582,2,       25,-999.000,9,-999.0000,9, -999.00,9, -999.00,9,  -999.0,9,  -999.0,-999.000,9,-999.000,     -999.0,9, -999.00,9, -999.00,9, -999.00,9,     -999.0,9,  -999.0,9, 20130428,     1216,       30, 179.7235,    34.8532,2,     -999.0,9,     -999.0,9,     1.4823,2,     -999.0,9,     -999.0,9,-999.0000, -999.00,-999.000
318M20130321,       P02W,      74,          1,          2,          2,2,20130428,       1201,    30.0001,    179.723,       5347,  5188.6,   1.4974,  34.6936,2,   34.693,2,    164.9,2,   165.5,2,   142.8,2,   35.22,2,       0,2,    2.47,2,-999.000,9,-999.000,9,-999.000,9,-999.0000,9,  2310.7,2, 2408.86,2,   7.5869,6,       25,-999.000,9,-999.0000,9, -999.00,9, -999.00,9,  -999.0,9,  -999.0,-999.000,9,-999.000,     -999.0,9, -999.00,9, -999.00,9, -999.00,9,     -999.0,9,  -999.0,9, 20130428,     1207,  30.0002, 179.7232,    34.8566,2,     -999.0,9,     -999.0,9,     1.4973,2,     -999.0,9,     -999.0,9,-999.0000, -999.00,-999.000
318M20130321,       P02W,      74,          1,          1,          1,2,20130428,       1201,    30.0001,    179.723,       5347,  5438.9,   1.5138,  34.6948,2,  34.6951,2,    168.8,2,   168.8,2,  140.26,2,   35.03,2,       0,2,    2.44,2,   0.030,4,   0.028,4,   0.000,4,     0.08,4,  2307.9,6, 2406.55,2,   7.5895,2,       25,-999.000,9,-999.0000,9, -999.00,9, -999.00,9,  -999.0,9,  -999.0,-999.000,9,-999.000,     -999.0,9, -999.00,9, -999.00,9, -999.00,9,     -999.0,9,  -999.0,9, 20130428,     1202,       30,  179.723,    34.8588,2,     -999.0,9,     -999.0,9,     1.5132,2,     -999.0,9,     -999.0,9,-999.0000, -999.00,-999.000