BOTTLE,20220817CCHSIOAMB
EXPOCODE,SECT_ID,STNNBR,CASTNO,SAMPNO,BTLNBR,BTLNBR_FLAG_W,DATE,TIME,LATITUDE,LONGITUDE,DEPTH,CTDPRS,CTDTMP,CTDSAL,CTDSAL_FLAG_W,SALNTY,SALNTY_FLAG_W,CTDOXY,CTDOXY_FLAG_W,OXYGEN,OXYGEN_FLAG_W,SILCAT,SILCAT_FLAG_W,NITRAT,NITRAT_FLAG_W,NITRIT,NITRIT_FLAG_W,PHSPHT,PHSPHT_FLAG_W,CFC-11,CFC-11_FLAG_W,CFC-12,CFC-12_FLAG_W,CFC113,CFC113_FLAG_W,SF6,SF6_FLAG_W,TCARBN,TCARBN_FLAG_W,ALKALI,ALKALI_FLAG_W,PH_TOT,PH_TOT_FLAG_W,PH_TMP,TRITUM,TRITUM_FLAG_W,HELIUM,HELIUM_FLAG_W,DELHE3,DELHE3_FLAG_W,DELC13,DELC13_FLAG_W,DELC14,DELC14_FLAG_W,C14ERR,NEON,NEON_FLAG_W,NEONER,I-129,I-129_FLAG_W,SR-90,SR-90_FLAG_W,DOC,DOC_FLAG_W,TDN,TDN_FLAG_W,CALCIUM,CALCIUM_FLAG_W,D15N_NO3,D15N_NO3_FLAG_W,BTL_DATE,BTL_TIME,BTL_LAT,BTL_LON,SALTREF,SALTREF_FLAG_W,CS-137,CS-137_FLAG_W,CS-134,CS-134_FLAG_W,REFTMP,REFTMP_FLAG_W,LAB_DEN,LAB_DEN_FLAG_W,D18O_NO3,D18O_NO3_FLAG_W,HELIER,DELHER,TRITER
,,,,,,,,,,,METERS,DBAR,ITS-90,PSS-78,,PSS-78,,UMOL/KG,,UMOL/KG,,UMOL/KG,,UMOL/KG,,UMOL/KG,,UMOL/KG,,PMOL/KG,,PMOL/KG,,PMOL/KG,,FMOL/KG,,UMOL/KG,,UMOL/KG,,,,DEG C,TU,,NMOL/KG,,PERCNT,,/MILLE,,/MILLE,,/MILLE,NMOL/KG,,NMOL/KG,BQ/M^3,,DM/.1MG,,UMOL/KG,,UMOL/KG,,MMOL/KG,,/MILLE,,,,,,G/KG,,BQ/M^3,,BQ/M^3,,ITS-90,,,,/MILLE,,NMOL/KG,PERCNT,TU
318M20130321,       P02E,     110,          1,         36,         36,2,20130519,       1121,    29.9996,  -147.1905,       4999,     2.9,  21.0261,  35.2432,2,  35.2432,2,    226.2,2,   226.1,2,    2.73,2,       0,2,       0,2,       0,2,   1.948,2,   1.198,2,-999.000,1,   1.4393,2,  2035.9,2, 2316.92,2,   8.0019,2,       25,-999.000,9,-999.0000,9, -999.00,9, -999.00,9,  -999.0,9,  -999.0,-999.000,9,-999.000,     -999.0,9, -999.00,9, -999.00,9, -999.00,9,     -999.0,9,  -999.0,9, 20130519,     1341,  30.0001,-147.1902,    35.4094,2,     -999.0,9,     -999.0,9,    21.0269,2,     -999.0,9,     -999.0,9,-999.0000, -999.00,-999.000
318M20130321,       P02E,     110,          1,         34,         34,2,20130519,       1121,    29.9996,  -147.1905,       4999,      21,   21.028,  35.2414,2,  35.2416,2,    227.1,2,     226,2,    2.63,2,       0,2,       0,2,       0,2,-999.000,9,-999.000,9,-999.000,9,-999.0000,9,  2033.7,2, 2315.62,2,    8.004,6,       25,-999.000,9,-999.0000,9, -999.00,9, -999.00,9,  -999.0,9,  -999.0,-999.000,9,-999.000,     -999.0,9, -999.00,9, -999.00,9, -999.00,9,     -999.0,9,  -999.0,9, 20130519,     1339,  30.0001,-147.1903,    35.4078,2,     -999.0,9,     -999.0,9,    21.0292,2,     -999.0,9,     -999.0,9,-999.0000, -999.00,-999.000
318M20130321,       P02E,     110,          1,         33,         33,2,20130519,       1121,    29.9996,  -147.1905,       4999,    41.9,  20.6406,  35.1992,2,  35.1945,2,      230,2,   228.5,2,    2.24,2,       0,2,       0,2,       0,2,   1.978,2,   1.211,2,-999.000,1,   1.4353,2,  -999.0,9, -999.00,9,-999.0000,9,  -999.00,-999.000,9,-999.0000,9, -999.00,9, -999.00,9,  -999.0,9,  -999.0,-999.000,9,-999.000,     -999.0,9, -999.00,9, -999.00,9, -999.00,9,     -999.0,9,  -999.0,9, 20130519,     1338,  30.0001,-147.1903,    35.3605,2,     -999.0,9,     -999.0,9,    20.6452,2,     -999.0,9,     -999.0,9,-999.0000, -999.00,-999.000
318M20130321,       P02E,     110,          1,         32,         32,2,20130519,       1121,    29.9996,  -147.1905,       4999,    65.1,  19.5865,   35.047,2,  35.0549,2,    232.3,2,   231.3,2,    2.54,2,       0,2,       0,2,       0,2,-999.000,9,-999.000,9,-999.000,9,-999.0000,9,  2023.7,2, 2303.62,6,   8.0026,2,       25,-999.000,9,-999.0000,9, -999.00,9, -999.00,9,  -999.0,9,  -999.0,-999.000,9,-999.000,     -999.0,9, -999.00,9, -999.00,9, -999.00,9,     -999.0,9,  -999.0,9, 20130519,     1336,  30.0001,-147.1903,    35.2202,2,     -999.0,9,     -999.0,9,    19.5784,2,     -999.0,9,     -999.0,9,-999.0000, -999.00,-999.000
318M20130321,       P02E,     110,          1,         31,         31,2,20130519,       1121,    29.9996,  -147.1905,       4999,    90.2,  19.5758,   35.106,2,  35.1063,2,    230.3,2,   229.5,2,    2.54,2,       0,2,       0,2,       0,2,   2.023,2,   1.229,2,-999.000,1,   1.4146,2,  2028.9,2, 2306.22,2,   8.0022,2,       25,-999.000,9,-999.0000,9, -999.00,9, -999.00,9,  -999.0,9,  -999.0,-999.000,9,-999.000,     -999.0,9, -999.00,9, -999.00,9, -999.00,9,     -999.0,9,  -999.0,9, 20130519,     1334,       30,-147.1903,    35.2718,2,     -999.0,9,     -999.0,9,    19.5818,2,     -999.0,9,     -999.0,9,-999.0000, -999.00,-999.000
318M20130321,       P02E,     110,          1,         30,         30,2,20130519,       1121,    29.9996,  -147.1905,       4999,     135,  19.2674,  35.0676,2,  35.0703,2,    228.7,2,   227.2,2,    2.63,2,       0,2,       0,2,    0.01,2,-999.000,9,-999.000,9,-999.000,9,-999.0000,9,  2032.7,2, 2306.22,2,   7.9912,6,       25,-999.000,9,-999.0000,9, -999.00,9, -999.00,9,  -999.0,9,  -999.0,-999.000,9,-999.000,     -999.0,9, -999.00,9, -999.00,9, -999.00,9,     -999.0,9,  -999.0,9, 20130519,     1331,       30,-147.1903,    35.2356,2,     -999.0,9,     -999.0,9,    19.2704,2,     -999.0,9,     -999.0,9,-999.0000, -999.00,-999.000
318M20130321,       P02E,     110,          1,         29,         29,2,20130519,       1121,    29.9996,  -147.1905,       4999,   196.9,   14.481,  34.2992,2,  34.3038,2,    218.5,2,   218.7,2,    5.66,2,    4.22,2,    0.03,2,    0.37,2,   2.630,2,   1.536,2,-999.000,1,   1.5302,2,  -999.0,9,  2257.3,2,-999.0000,9,  -999.00,-999.000,9,-999.0000,9, -999.00,9, -999.00,9,  -999.0,9,  -999.0,-999.000,9,-999.000,     -999.0,9, -999.00,9, -999.00,9, -999.00,9,     -999.0,9,  -999.0,9, 20130519,     1328,       30,-147.1902,    34.4656,2,     -999.0,9,     -999.0,9,    14.4837,2,     -999.0,9,     -999.0,9,-999.0000, -999.00,-999.000
318M20130321,       P02E,     110,          1,         28,         28,2,20130519,       1121,    29.9996,  -147.1905,       4999,   235.7,   12.751,  34.1952,2,  34.1946,2,      216,2,   215.9,2,    8.79,2,    8.44,2,    0.02,2,    0.62,2,-999.000,9,-999.000,9,-999.000,9,-999.0000,9,  2070.3,2,  2254.5,2,   7.8247,2,       25,-999.000,9,-999.0000,9, -999.00,9, -999.00,9,  -999.0,9,  -999.0,-999.000,9,-999.000,     -999.0,9, -999.00,9, -999.00,9, -999.00,9,     -999.0,9,  -999.0,9, 20130519,     1326,  30.0001,-147.1902,    34.3558,2,     -999.0,9,     -999.0,9,    12.7504,2,     -999.0,9,     -999.0,9,-999.0000, -999.00,-999.000
318M20130321,       P02E,     110,          1,         27,         27,2,20130519,       1121,    29.9996,  -147.1905,       4999,   286.2,  11.6879,  34.2057,2,  34.2056,2,    218.6,2,     219,2,   12.01,2,   11.16,2,    0.01,2,    0.77,2,   2.978,2,   1.687,2,-999.000,1,   1.4848,2,  -999.0,9, -999.00,9,-999.0000,9,  -999.00,-999.000,9,-999.0000,9, -999.00,9, -999.00,9,  -999.0,9,  -999.0,-999.000,9,-999.000,     -999.0,9, -999.00,9, -999.00,9, -999.00,9,     -999.0,9,  -999.0,9, 20130519,     1323,  30.0001,-147.1902,    34.3669,2,     -999.0,9,     -999.0,9,    11.6914,2,     -999.0,9,     -999.0,9,-999.0000, -999.00,-999.000
318M20130321,       P02E,     110,          1,         26,         26,2,20130519,       1121,    29.9996,  -147.1905,       4999,   336.2,  10.7815,  34.1685,2,  34.1687,2,    221.4,2,   221.4,2,   14.94,2,      13,2,    0.01,2,     0.9,2,-999.000,9,-999.000,9,-999.000,9,-999.0000,9,  2094.6,2,  2256.9,2,   7.7785,2,       25,-999.000,9,-999.0000,9, -999.00,9, -999.00,9,  -999.0,9,  -999.0,-999.000,9,-999.000,     -999.0,9, -999.00,9, -999.00,9, -999.00,9,     -999.0,9,  -999.0,9, 20130519,     1321,       30,-147.1902,    34.3298,2,     -999.0,9,     -999.0,9,    10.7832,2,     -999.0,9,     -999.0,9,-999.0000, -999.00,-999.000
318M20130321,       P02E,     110,          1,         25,         25,2,20130519,       1121,    29.9996,  -147.1905,       4999,   386.8,    10.08,  34.1291,2,  34.1311,2,    215.1,2,   216.7,2,   18.06,2,   14.83,2,    0.01,2,    1.02,2,   3.143,2,   1.751,2,-999.000,1,   1.3669,2,  -999.0,9, -999.00,9,-999.0000,9,  -999.00,-999.000,9,-999.0000,9, -999.00,9, -999.00,9,  -999.0,9,  -999.0,-999.000,9,-999.000,     -999.0,9, -999.00,9, -999.00,9, -999.00,9,     -999.0,9,  -999.0,9, 20130519,     1318,       30,-147.1902,     34.292,2,     -999.0,9,     -999.0,9,     10.067,2,     -999.0,9,     -999.0,9,-999.0000, -999.00,-999.000
318M20130321,       P02E,     110,          1,         24,         24,2,20130519,       1121,    29.9996,  -147.1905,       4999,   467.2,   8.5052,  34.0487,2,  34.0476,2,    187.4,2,   186.6,2,   29.59,2,   20.96,2,       0,2,    1.44,2,-999.000,9,-999.000,9,-999.000,9,-999.0000,9,  2148.3,2,  2265.5,2,    7.664,6,       25,-999.000,9,-999.0000,9, -999.00,9, -999.00,9,  -999.0,9,  -999.0,-999.000,9,-999.000,     -999.0,9, -999.00,9, -999.00,9, -999.00,9,     -999.0,9,  -999.0,9, 20130519,     1315,       30,-147.1901,    34.2081,2,     -999.0,9,     -999.0,9,     8.5049,2,     -999.0,9,     -999.0,9,-999.0000, -999.00,-999.000
318M20130321,       P02E,     110,          1,         23,         23,2,20130519,       1121,    29.9996,  -147.1905,       4999,   567.8,   6.3538,  33.9898,2,    33.99,2,    121.9,2,   117.9,2,   55.18,2,   31.37,2,       0,2,     2.2,2,   2.296,6,   1.146,6,-999.000,1,   0.4652,6,  2224.5,2, 2281.21,2,   7.4852,2,       25,-999.000,9,-999.0000,9, -999.00,9, -999.00,9,  -999.0,9,  -999.0,-999.000,9,-999.000,     -999.0,9, -999.00,9, -999.00,9, -999.00,9,     -999.0,9,  -999.0,9, 20130519,     1312,  29.9999,-147.1904,    34.1503,2,     -999.0,9,     -999.0,9,     6.3516,2,     -999.0,9,     -999.0,9,-999.0000, -999.00,-999.000
318M20130321,       P02E,     110,          1,         22,         22,2,20130519,       1121,    29.9996,  -147.1905,       4999,   667.9,   5.1711,  34.0299,2,  34.0286,2,     72.4,2,    72.2,2,   76.56,2,   37.49,2,       0,2,    2.66,2,-999.000,9,-999.000,9,-999.000,9,-999.0000,9,  2276.7,2, 2299.52,2,   7.3762,2,       25,-999.000,9,-999.0000,9, -999.00,9, -999.00,9,  -999.0,9,  -999.0,-999.000,9,-999.000,     -999.0,9, -999.00,9, -999.00,9, -999.00,9,     -999.0,9,  -999.0,9, 20130519,     1308,       30,-147.1903,     34.189,2,     -999.0,9,     -999.0,9,     5.1818,2,     -999.0,9,     -999.0,9,-999.0000, -999.00,-999.000
318M20130321,       P02E,     110,          1,         21,         21,2,20130519,       1121,    29.9996,  -147.1905,       4999,   769.9,   4.4379,  34.1532,2,  34.1523,2,     31.2,2,    29.6,2,   98.33,2,   41.95,2,       0,2,       3,2,   0.407,2,   0.198,2,-999.000,1,   0.0669,2,  2325.3,2, 2321.82,2,   7.3005,2,       25,-999.000,9,-999.0000,9, -999.00,9, -999.00,9,  -999.0,9,  -999.0,-999.000,9,-999.000,     -999.0,9, -999.00,9, -999.00,9, -999.00,9,     -999.0,9,  -999.0,9, 20130519,     1304,  30.0001,-147.1902,    34.3133,2,     -999.0,9,     -999.0,9,     4.4383,2,     -999.0,9,     -999.0,9,-999.0000, -999.00,-999.000
318M20130321,       P02E,     110,          1,         20,         20,2,20130519,       1121,    29.9996,  -147.1905,       4999,   871.4,   4.1543,  34.2745,2,   34.276,2,     14.4,2,    13.7,2,  110.91,2,   43.35,2,       0,2,    3.14,2,-999.000,9,-999.000,9,-999.000,9,-999.0000,9,  2349.7,2, 2344.23,2,   7.2863,2,       25,-999.000,9,-999.0000,9, -999.00,9, -999.00,9,  -999.0,9,  -999.0,-999.000,9,-999.000,     -999.0,9, -999.00,9, -999.00,9, -999.00,9,     -999.0,9,  -999.0,9, 20130519,     1301,  30.0001,-147.1901,    34.4376,2,     -999.0,9,     -999.0,9,     4.1561,2,     -999.0,9,     -999.0,9,-999.0000, -999.00,-999.000
318M20130321,       P02E,     110,          1,         19,         19,2,20130519,       1121,    29.9996,  -147.1905,       4999,   972.1,   3.8294,  34.3656,2,  34.3651,2,     13.4,2,      14,2,  120.48,2,   43.79,2,       0,2,    3.18,2,   0.021,2,   0.013,2,-999.000,1,        0,2,  2361.6,2, 2358.44,2,   7.2988,2,       25,-999.000,9,-999.0000,9, -999.00,9, -999.00,9,  -999.0,9,  -999.0,-999.000,9,-999.000,     -999.0,9, -999.00,9, -999.00,9, -999.00,9,     -999.0,9,  -999.0,9, 20130519,     1258,  30.0005,-147.1901,    34.5271,2,     -999.0,9,     -999.0,9,     3.8298,2,     -999.0,9,     -999.0,9,-999.0000, -999.00,-999.000
318M20130321,       P02E,     110,          1,         18,         18,2,20130519,       1121,    29.9996,  -147.1905,       4999,  1072.4,   3.5923,  34.4236,2,  34.4235,2,     18.9,2,    19.9,2,  126.43,2,   43.77,2,       0,2,    3.18,2,-999.000,9,-999.000,9,-999.000,9,-999.0000,9,  -999.0,9, -999.00,9,-999.0000,9,  -999.00,-999.000,9,-999.0000,9, -999.00,9, -999.00,9,  -999.0,9,  -999.0,-999.000,9,-999.000,     -999.0,9, -999.00,9, -999.00,9, -999.00,9,     -999.0,9,  -999.0,9, 20130519,     1255,  30.0005,  -147.19,    34.5859,2,     -999.0,9,     -999.0,9,     3.5922,2,     -999.0,9,     -999.0,9,-999.0000, -999.00,-999.000
318M20130321,       P02E,     110,          1,         17,         17,2,20130519,       1121,    29.9996,  -147.1905,       4999,  1174.8,   3.3992,  34.4644,2,  34.4636,2,     26.5,2,    27.1,2,  130.62,2,   43.54,2,       0,2,    3.15,2,   0.008,2,   0.007,2,-999.000,1,        0,2,  2367.5,2, 2376.94,2,   7.3329,2,       25,-999.000,9,-999.0000,9, -999.00,9, -999.00,9,  -999.0,9,  -999.0,-999.000,9,-999.000,     -999.0,9, -999.00,9, -999.00,9, -999.00,9,     -999.0,9,  -999.0,9, 20130519,     1252,  30.0003,-147.1897,    34.6261,2,     -999.0,9,     -999.0,9,     3.4004,2,     -999.0,9,     -999.0,9,-999.0000, -999.00,-999.000
318M20130321,       P02E,     110,          1,         16,         16,2,20130519,       1121,    29.9996,  -147.1905,       4999,  1275.2,   3.1998,  34.4967,2,  34.4964,2,       35,2,    35.7,2,  134.81,2,   43.19,2,       0,2,     3.1,2,-999.000,9,-999.000,9,-999.000,9,-999.0000,9,    2366,2, 2384.95,2,    7.354,2,       25,-999.000,9,-999.0000,9, -999.00,9, -999.00,9,  -999.0,9,  -999.0,-999.000,9,-999.000,     -999.0,9, -999.00,9, -999.00,9, -999.00,9,     -999.0,9,  -999.0,9, 20130519,     1249,       30,-147.1894,     34.659,2,     -999.0,9,     -999.0,9,     3.1991,2,     -999.0,9,     -999.0,9,-999.0000, -999.00,-999.000
318M20130321,       P02E,     110,          1,         15,         15,2,20130519,       1121,    29.9996,  -147.1905,       4999,  1374.7,   2.9904,  34.5229,2,  34.5239,2,     41.8,2,      42,2,   139.4,2,   42.86,2,       0,2,    3.08,2,   0.004,2,   0.004,2,-999.000,1,        0,2,  -999.0,9, -999.00,9,-999.0000,9,  -999.00,-999.000,9,-999.0000,9, -999.00,9, -999.00,9,  -999.0,9,  -999.0,-999.000,9,-999.000,     -999.0,9, -999.00,9, -999.00,9, -999.00,9,     -999.0,9,  -999.0,9, 20130519,     1245,  29.9998,-147.1893,    34.6867,2,     -999.0,9,     -999.0,9,     2.9912,2,     -999.0,9,     -999.0,9,-999.0000, -999.00,-999.000
318M20130321,       P02E,     110,          1,         14,         14,2,20130519,       1121,    29.9996,  -147.1905,       4999,  1548.7,   2.6773,  34.5565,2,  34.5567,2,     54.8,2,    55.2,2,  146.23,2,   42.18,2,       0,2,    3.02,2,-999.000,9,-999.000,9,-999.000,9,-999.0000,9,  2367.4,2, 2401.15,2,    7.394,2,       25,-999.000,9,-999.0000,9, -999.00,9, -999.00,9,  -999.0,9,  -999.0,-999.000,9,-999.000,     -999.0,9, -999.00,9, -999.00,9, -999.00,9,     -999.0,9,  -999.0,9, 20130519,     1240,  29.9995,-147.1898,    34.7196,2,     -999.0,9,     -999.0,9,     2.6781,2,     -999.0,9,     -999.0,9,-999.0000, -999.00,-999.000
318M20130321,       P02E,     110,          1,         13,         13,2,20130519,       1121,    29.9996,  -147.1905,       4999,  1751.5,   2.3619,  34.5849,2,  34.5838,2,     65.6,2,      66,2,  154.23,2,   41.59,2,       0,2,    2.95,2,   0.007,2,   0.005,2,-999.000,1,        0,2,  -999.0,9, -999.00,9,-999.0000,9,  -999.00,-999.000,9,-999.0000,9, -999.00,9, -999.00,9,  -999.0,9,  -999.0,-999.000,9,-999.000,     -999.0,9, -999.00,9, -999.00,9, -999.00,9,     -999.0,9,  -999.0,9, 20130519,     1235,  29.9993,-147.1902,    34.7468,2,     -999.0,9,     -999.0,9,     2.3618,2,     -999.0,9,     -999.0,9,-999.0000, -999.00,-999.000
318M20130321,       P02E,     110,          1,         12,         12,2,20130519,       1121,    29.9996,  -147.1905,       4999,  1953.5,   2.1345,  34.6055,2,  34.6046,2,     74.3,2,    74.1,2,  160.38,2,   41.08,2,       0,2,    2.92,2,-999.000,9,-999.000,9,-999.000,9,-999.0000,9,    2370,6, 2414.26,2,   7.4316,2,       25,-999.000,9,-999.0000,9, -999.00,9, -999.00,9,  -999.0,9,  -999.0,-999.000,9,-999.000,     -999.0,9, -999.00,9, -999.00,9, -999.00,9,     -999.0,9,  -999.0,9, 20130519,     1230,  29.9992,-147.1906,    34.7678,2,     -999.0,9,     -999.0,9,     2.1347,2,     -999.0,9,     -999.0,9,-999.0000, -999.00,-999.000
318M20130321,       P02E,     110,          1,         11,         11,2,20130519,       1121,    29.9996,  -147.1905,       4999,  2187.3,   1.9425,  34.6237,2,   34.624,2,     84.1,2,    82.7,2,  165.84,2,   40.52,2,       0,2,    2.87,2,   0.008,2,   0.006,2,-999.000,1,        0,2,  2369.5,2, 2419.86,2,   7.4496,2,       25,-999.000,9,-999.0000,9, -999.00,9, -999.00,9,  -999.0,9,  -999.0,-999.000,9,-999.000,     -999.0,9, -999.00,9, -999.00,9, -999.00,9,     -999.0,9,  -999.0,9, 20130519,     1225,  29.9995,-147.1906,    34.7873,2,     -999.0,9,     -999.0,9,     1.9422,2,     -999.0,9,     -999.0,9,-999.0000, -999.00,-999.000
318M20130321,       P02E,     110,          1,         10,         10,2,20130519,       1121,    29.9996,  -147.1905,       4999,  2544.5,   1.7338,  34.6449,2,  34.6441,2,     98.7,2,    98.2,2,  169.45,2,   39.58,2,       0,2,    2.78,2,-999.000,9,-999.000,9,-999.000,9,-999.0000,9,  -999.0,9, -999.00,9,-999.0000,9,  -999.00,-999.000,9,-999.0000,9, -999.00,9, -999.00,9,  -999.0,9,  -999.0,-999.000,9,-999.000,     -999.0,9, -999.00,9, -999.00,9, -999.00,9,     -999.0,9,  -999.0,9, 20130519,     1218,       30,-147.1903,    34.8074,2,     -999.0,9,     -999.0,9,     1.7337,2,     -999.0,9,     -999.0,9,-999.0000, -999.00,-999.000
318M20130321,       P02E,     110,          1,          9,          9,2,20130519,       1121,    29.9996,  -147.1905,       4999,  2696.3,   1.6578,  34.6529,2,  34.6523,2,      105,2,   105.6,2,  169.64,2,   39.12,2,       0,2,    2.75,2,-999.000,9,-999.000,9,-999.000,9,-999.0000,9,  2359.5,2, 2424.96,2,    7.492,2,       25,-999.000,9,-999.0000,9, -999.00,9, -999.00,9,  -999.0,9,  -999.0,-999.000,9,-999.000,     -999.0,9, -999.00,9, -999.00,9, -999.00,9,     -999.0,9,  -999.0,9, 20130519,     1214,  29.9999,-147.1901,    34.8157,2,     -999.0,9,     -999.0,9,     1.6574,2,     -999.0,9,     -999.0,9,-999.0000, -999.00,-999.000
318M20130321,       P02E,     110,          1,          8,          8,2,20130519,       1121,    29.9996,  -147.1905,       4999,    2951,    1.579,  34.6621,2,  34.6608,2,    114.9,2,     115,2,  169.06,2,   38.52,2,       0,2,    2.71,2,   0.005,2,   0.003,2,-999.000,1,        0,2,  -999.0,9, -999.00,9,-999.0000,9,  -999.00,-999.000,9,-999.0000,9, -999.00,9, -999.00,9,  -999.0,9,  -999.0,-999.000,9,-999.000,     -999.0,9, -999.00,9, -999.00,9, -999.00,9,     -999.0,9,  -999.0,9, 20130519,     1208,       30,  -147.19,    34.8242,2,     -999.0,9,     -999.0,9,     1.5789,2,     -999.0,9,     -999.0,9,-999.0000, -999.00,-999.000
318M20130321,       P02E,     110,          1,          7,          7,2,20130519,       1121,    29.9996,  -147.1905,       4999,  3240.5,   1.5124,  34.6715,2,  34.6704,2,      125,2,   125.8,2,   167.3,2,   37.85,2,       0,2,    2.65,2,-999.000,9,-999.000,9,-999.000,9,-999.0000,9,  2345.4,2, 2427.06,2,   7.5309,6,       25,-999.000,9,-999.0000,9, -999.00,9, -999.00,9,  -999.0,9,  -999.0,-999.000,9,-999.000,     -999.0,9, -999.00,9, -999.00,9, -999.00,9,     -999.0,9,  -999.0,9, 20130519,     1201,  30.0002,-147.1901,    34.8339,2,     -999.0,9,     -999.0,9,     1.5124,2,     -999.0,9,     -999.0,9,-999.0000, -999.00,-999.000