BOTTLE,20220817CCHSIOAMB
EXPOCODE,SECT_ID,STNNBR,CASTNO,SAMPNO,BTLNBR,BTLNBR_FLAG_W,DATE,TIME,LATITUDE,LONGITUDE,DEPTH,CTDPRS,CTDTMP,CTDSAL,CTDSAL_FLAG_W,SALNTY,SALNTY_FLAG_W,CTDOXY,CTDOXY_FLAG_W,OXYGEN,OXYGEN_FLAG_W,SILCAT,SILCAT_FLAG_W,NITRAT,NITRAT_FLAG_W,NITRIT,NITRIT_FLAG_W,PHSPHT,PHSPHT_FLAG_W,CFC-11,CFC-11_FLAG_W,CFC-12,CFC-12_FLAG_W,CFC113,CFC113_FLAG_W,SF6,SF6_FLAG_W,TCARBN,TCARBN_FLAG_W,ALKALI,ALKALI_FLAG_W,PH_TOT,PH_TOT_FLAG_W,PH_TMP,TRITUM,TRITUM_FLAG_W,HELIUM,HELIUM_FLAG_W,DELHE3,DELHE3_FLAG_W,DELC13,DELC13_FLAG_W,DELC14,DELC14_FLAG_W,C14ERR,NEON,NEON_FLAG_W,NEONER,I-129,I-129_FLAG_W,SR-90,SR-90_FLAG_W,DOC,DOC_FLAG_W,TDN,TDN_FLAG_W,CALCIUM,CALCIUM_FLAG_W,D15N_NO3,D15N_NO3_FLAG_W,BTL_DATE,BTL_TIME,BTL_LAT,BTL_LON,SALTREF,SALTREF_FLAG_W,CS-137,CS-137_FLAG_W,CS-134,CS-134_FLAG_W,REFTMP,REFTMP_FLAG_W,LAB_DEN,LAB_DEN_FLAG_W,D18O_NO3,D18O_NO3_FLAG_W,HELIER,DELHER,TRITER
,,,,,,,,,,,METERS,DBAR,ITS-90,PSS-78,,PSS-78,,UMOL/KG,,UMOL/KG,,UMOL/KG,,UMOL/KG,,UMOL/KG,,UMOL/KG,,PMOL/KG,,PMOL/KG,,PMOL/KG,,FMOL/KG,,UMOL/KG,,UMOL/KG,,,,DEG C,TU,,NMOL/KG,,PERCNT,,/MILLE,,/MILLE,,/MILLE,NMOL/KG,,NMOL/KG,BQ/M^3,,DM/.1MG,,UMOL/KG,,UMOL/KG,,MMOL/KG,,/MILLE,,,,,,G/KG,,BQ/M^3,,BQ/M^3,,ITS-90,,,,/MILLE,,NMOL/KG,PERCNT,TU
318M20130321,       P02W,      55,          1,         36,         36,2,20130422,       1717,         30,   166.7287,       6070,     2.9,  20.0175,  34.9304,2,  34.9304,2,    229.1,2,   229.2,2,    1.85,2,       0,2,       0,2,    0.01,2,   2.379,2,   1.479,2,   0.223,2,     1.46,2,  2008.4,6, 2291.21,2,   8.0208,2,       25,   0.493,2,   1.7432,2,   -1.11,2, -999.00,9,  -999.0,9,  -999.0,   6.989,2,   0.032,     -999.0,9, -999.00,9,   59.61,2,    4.06,2,     -999.0,1,  -999.0,1, 20130422,     1959,  29.9994, 166.7287,    35.0951,2,     -999.0,9,     -999.0,9,    20.0172,2,     -999.0,9,     -999.0,1,   0.0073,    0.15,   0.011
318M20130321,       P02W,      55,          1,         35,         35,2,20130422,       1717,         30,   166.7287,       6070,    21.1,  19.7758,   35.009,2,  35.0067,2,    228.1,2,   228.5,2,    1.76,2,       0,2,       0,2,    0.01,2,-999.000,9,-999.000,9,-999.000,9,-999.0000,9,  2011.4,2, 2298.32,2,   8.0246,2,       25,-999.000,9,-999.0000,9, -999.00,9, -999.00,9,  -999.0,9,  -999.0,-999.000,9,-999.000,     -999.0,9, -999.00,9,   62.14,2,    3.84,2,     -999.0,9,  -999.0,1, 20130422,     1957,  29.9995, 166.7289,    35.1718,2,     -999.0,9,     -999.0,9,    19.7812,2,     -999.0,9,     -999.0,1,-999.0000, -999.00,-999.000
318M20130321,       P02W,      55,          1,         34,         34,2,20130422,       1717,         30,   166.7287,       6070,    39.8,  19.0112,   34.895,2,  34.8991,2,      231,2,   232.5,2,    2.05,2,       0,2,       0,2,    0.01,2,   2.448,2,   1.503,2,   0.198,2,     1.32,2,  2012.5,2, 2289.91,2,    8.013,6,       25,   0.498,2,   1.7447,2,   -1.08,2, -999.00,9,  -999.0,9,  -999.0,   6.981,2,   0.032,     -999.0,9, -999.00,9,   58.84,2,     3.4,2,     -999.0,1,  -999.0,1, 20130422,     1955,  29.9995,  166.729,    35.0637,2,     -999.0,9,     -999.0,9,    19.0206,2,     -999.0,9,     -999.0,1,   0.0073,    0.15,   0.010
318M20130321,       P02W,      55,          1,         33,         33,2,20130422,       1717,         30,   166.7287,       6070,    60.9,  18.3378,   34.815,2,  34.8165,2,    234.7,2,     234,2,    2.15,2,    0.03,2,    0.02,2,    0.03,2,-999.000,9,-999.000,9,-999.000,9,-999.0000,9,  2014.1,2, 2284.51,6,   8.0027,2,       25,-999.000,9,-999.0000,9, -999.00,9, -999.00,9,  -999.0,9,  -999.0,-999.000,9,-999.000,     -999.0,9, -999.00,9,   55.37,2,     4.1,2,     -999.0,9,  -999.0,1, 20130422,     1954,  29.9996,  166.729,    34.9807,2,     -999.0,9,     -999.0,9,    18.3319,2,     -999.0,9,     -999.0,1,-999.0000, -999.00,-999.000
318M20130321,       P02W,      55,          1,         32,         32,2,20130422,       1717,         30,   166.7287,       6070,    94.6,  17.6063,  34.7178,2,  34.7182,2,    222.2,2,   222.1,2,    2.73,2,    1.83,2,    0.12,2,    0.16,2,   2.583,2,   1.576,2,   0.159,2,     1.65,2,  -999.0,9, -999.00,9,-999.0000,9,  -999.00,   0.490,2,   1.7644,2,   -0.88,2, -999.00,9,  -999.0,9,  -999.0,   7.042,2,   0.032,     -999.0,9, -999.00,9,    51.2,2,    5.16,2,     -999.0,1,  -999.0,1, 20130422,     1952,  29.9998,  166.729,    34.8819,2,     -999.0,9,     -999.0,9,    17.6098,2,     -999.0,9,     -999.0,1,   0.0074,    0.15,   0.010
318M20130321,       P02W,      55,          1,         31,         31,2,20130422,       1717,         30,   166.7287,       6070,   133.2,  17.0285,  34.6722,2,  34.6718,2,    218.9,2,   220.8,2,    3.32,2,    3.15,2,    0.05,2,    0.23,2,-999.000,9,-999.000,9,-999.000,9,-999.0000,9,  2028.3,2, 2275.11,2,   7.9612,2,       25,-999.000,9,-999.0000,9, -999.00,9, -999.00,9,  -999.0,9,  -999.0,-999.000,9,-999.000,     -999.0,9, -999.00,9,   52.08,2,     6.5,2,     -999.0,9,  -999.0,1, 20130422,     1950,  30.0002, 166.7288,    34.8353,2,     -999.0,9,     -999.0,9,    17.0231,2,     -999.0,9,     -999.0,1,-999.0000, -999.00,-999.000
318M20130321,       P02W,      55,          1,         30,         30,2,20130422,       1717,         30,   166.7287,       6070,   184.3,  16.7156,   34.654,2,   34.654,2,    212.6,2,   213.9,2,     4.1,2,    4.34,2,    0.03,2,    0.31,2,   2.661,2,   1.618,2,   0.099,2,     1.45,2,  -999.0,9, -999.00,9,-999.0000,9,  -999.00,   0.508,2,   1.7393,2,   -1.08,2, -999.00,9,  -999.0,9,  -999.0,   7.019,2,   0.032,     -999.0,9, -999.00,9,   47.01,2,    7.87,2,     -999.0,1,  -999.0,1, 20130422,     1948,  30.0007, 166.7285,    34.8174,2,     -999.0,9,     -999.0,9,    16.7158,2,     -999.0,9,     -999.0,1,   0.0073,    0.15,   0.011
318M20130321,       P02W,      55,          1,         29,         29,2,20130422,       1717,         30,   166.7287,       6070,   236.3,  16.2521,  34.6316,2,  34.6314,2,    211.8,2,   211.2,2,    5.37,2,    5.54,2,    0.02,2,    0.38,2,-999.000,9,-999.000,9,-999.000,9,-999.0000,9,  2042.3,2, 2273.11,2,     7.93,2,       25,-999.000,9,-999.0000,9, -999.00,9, -999.00,9,  -999.0,9,  -999.0,-999.000,9,-999.000,     -999.0,9, -999.00,9,   49.03,2,    9.35,2,     -999.0,9,  -999.0,1, 20130422,     1946,   30.001, 166.7281,    34.7947,2,     -999.0,9,     -999.0,9,    16.2507,2,     -999.0,9,     -999.0,1,-999.0000, -999.00,-999.000
318M20130321,       P02W,      55,          1,         28,         28,2,20130422,       1717,         30,   166.7287,       6070,   287.4,  15.5956,  34.5827,2,  34.5813,2,    206.6,2,   205.8,2,    6.93,2,    6.93,2,    0.02,2,    0.49,2,   2.804,2,   1.669,2,   0.048,2,     1.31,2,  -999.0,9, -999.00,9,-999.0000,9,  -999.00,   0.498,2,   1.7868,2,    0.06,2, -999.00,9,  -999.0,9,  -999.0,   7.119,2,   0.033,     -999.0,9, -999.00,9,   45.83,2,   10.48,2,     -999.0,1,  -999.0,1, 20130422,     1943,  30.0007, 166.7284,    34.7443,2,     -999.0,9,     -999.0,9,    15.5914,2,     -999.0,9,     -999.0,1,   0.0075,    0.15,   0.010
318M20130321,       P02W,      55,          1,         27,         27,2,20130422,       1717,         30,   166.7287,       6070,   338.5,  14.6652,  34.5164,2,   34.521,2,    202.4,2,   202.5,2,    9.08,2,    8.53,2,    0.01,2,     0.6,2,-999.000,9,-999.000,9,-999.000,9,-999.0000,9,  2066.2,2, 2271.11,2,   7.8761,2,       25,-999.000,9,-999.0000,9, -999.00,9, -999.00,9,  -999.0,9,  -999.0,-999.000,9,-999.000,     -999.0,9, -999.00,9,   45.91,2,   11.13,2,     -999.0,9,  -999.0,1, 20130422,     1941,  30.0004, 166.7286,    34.6838,2,     -999.0,9,     -999.0,9,    14.6815,2,     -999.0,9,     -999.0,1,-999.0000, -999.00,-999.000
318M20130321,       P02W,      55,          1,         26,         26,2,20130422,       1717,         30,   166.7287,       6070,   388.6,  13.5324,  34.4381,2,  34.4366,2,    203.5,2,   201.2,2,    12.2,2,   10.59,2,    0.01,2,    0.75,2,   3.025,2,   1.763,2,   0.058,2,     1.15,2,  2082.3,2, 2268.81,2,   7.8416,2,       25,   0.515,2,   1.7669,2,    1.02,2, -999.00,9,  -999.0,9,  -999.0,   7.234,2,   0.033,     -999.0,9, -999.00,9,   44.73,2, -999.00,9,     -999.0,9,  -999.0,1, 20130422,     1938,  30.0002, 166.7286,    34.5989,2,     -999.0,9,     -999.0,9,    13.5361,2,     -999.0,9,     -999.0,1,   0.0074,    0.15,   0.011
318M20130321,       P02W,      55,          1,         25,         25,2,20130422,       1717,         30,   166.7287,       6070,   467.2,   11.873,  34.3278,2,  34.3255,2,    203.1,2,   201.6,2,   17.48,2,   13.47,2,    0.01,2,    0.96,2,   3.176,2,   1.809,2,   0.090,2,     1.31,2,  2100.6,2, 2269.01,2,   7.7962,2,       25,   0.482,2,   1.8022,2,    2.32,2, -999.00,9,  -999.0,9,  -999.0,   7.304,2,   0.034,     -999.0,9, -999.00,9,   42.96,2, -999.00,9,     -999.0,1,  -999.0,1, 20130422,     1936,       30, 166.7287,    34.4873,2,     -999.0,9,     -999.0,9,     11.881,2,     -999.0,9,     -999.0,1,   0.0076,    0.15,   0.011
318M20130321,       P02W,      55,          1,         24,         24,2,20130422,       1717,         30,   166.7287,       6070,   567.6,   8.8547,  34.1078,2,  34.1043,2,    186.3,2,   185.9,2,   32.61,2,    20.2,2,    0.01,2,    1.47,2,-999.000,9,-999.000,9,-999.000,9,-999.0000,9,  -999.0,9, -999.00,9,-999.0000,9,  -999.00,-999.000,9,-999.0000,9, -999.00,9, -999.00,9,  -999.0,9,  -999.0,-999.000,9,-999.000,     -999.0,9, -999.00,9,   43.97,2, -999.00,9,     -999.0,9,  -999.0,1, 20130422,     1933,       30, 166.7287,    34.2651,2,     -999.0,9,     -999.0,9,     8.8554,2,     -999.0,9,     -999.0,1,-999.0000, -999.00,-999.000
318M20130321,       P02W,      55,          1,         23,         23,2,20130422,       1717,         30,   166.7287,       6070,   669.7,   6.7828,  34.0236,2,  34.0228,2,    145.5,2,   146.6,2,   52.83,2,    27.8,2,    0.01,2,    2.02,2,   2.820,2,   1.507,2,   0.113,2,     0.86,2,  2205.1,2, 2283.01,2,   7.5592,6,       25,   0.393,2,   1.8527,2,    9.26,2, -999.00,9,  -999.0,9,  -999.0,   7.724,2,   0.036,     -999.0,9, -999.00,9,   41.25,2, -999.00,9,     -999.0,9,  -999.0,1, 20130422,     1930,       30, 166.7287,    34.1832,2,     -999.0,9,     -999.0,9,     6.7754,2,     -999.0,9,     -999.0,1,   0.0078,    0.15,   0.010
318M20130321,       P02W,      55,          1,         22,         22,2,20130422,       1717,         30,   166.7287,       6070,   770.7,   5.1937,  34.0432,2,   34.042,2,     99.1,2,   103.6,2,   76.66,2,    34.3,2,       0,2,    2.51,2,   2.075,2,   1.090,2,   0.093,2,     0.52,2,  -999.0,9, -999.00,9,-999.0000,9,  -999.00,   0.302,2,-999.0000,9, -999.00,9, -999.00,9,  -999.0,9,  -999.0,-999.000,9,-999.000,     -999.0,9, -999.00,9,    39.9,2, -999.00,9,     -999.0,1,  -999.0,1, 20130422,     1927,       30, 166.7287,    34.2025,2,     -999.0,9,     -999.0,9,     5.1947,2,     -999.0,9,     -999.0,1,-999.0000, -999.00,   0.010
318M20130321,       P02W,      55,          1,         21,         21,2,20130422,       1717,         30,   166.7287,       6070,   871.2,   4.3756,  34.1607,2,  34.1582,2,     66.2,2,    61.7,2,    99.7,2,   39.16,2,       0,2,    2.85,2,   1.066,2,   0.573,2,   0.058,2,      0.4,2,  2309.4,2, 2327.03,2,   7.3665,2,       25,   0.187,2,   1.8659,2,   15.40,2, -999.00,9,  -999.0,9,  -999.0,   7.813,2,   0.036,     -999.0,9, -999.00,9,   37.33,2, -999.00,9,     -999.0,9,  -999.0,1, 20130422,     1923,       30, 166.7287,    34.3193,2,     -999.0,9,     -999.0,9,     4.3748,2,     -999.0,9,     -999.0,1,   0.0078,    0.15,   0.010
318M20130321,       P02W,      55,          1,         20,         20,2,20130422,       1717,         30,   166.7287,       6070,   971.8,   3.8609,  34.2531,2,  34.2549,2,       45,2,    43.8,2,   115.7,2,    41.2,2,       0,2,    3.01,2,-999.000,9,-999.000,9,-999.000,9,-999.0000,9,  -999.0,9, -999.00,9,-999.0000,9,  -999.00,-999.000,9,-999.0000,9, -999.00,9, -999.00,9,  -999.0,9,  -999.0,-999.000,9,-999.000,     -999.0,9, -999.00,9,   39.34,2, -999.00,9,     -999.0,1,  -999.0,1, 20130422,     1920,       30, 166.7287,    34.4164,2,     -999.0,9,     -999.0,9,     3.8624,2,     -999.0,9,     -999.0,1,-999.0000, -999.00,-999.000
318M20130321,       P02W,      55,          1,         19,         19,2,20130422,       1717,         30,   166.7287,       6070,  1073.1,   3.5079,  34.3153,2,  34.3153,2,     36.1,2,    35.9,2,  126.24,2,   42.23,2,       0,2,    3.08,2,   0.349,2,   0.175,2,   0.012,2,     0.08,2,  2351.6,2, 2358.44,2,   7.3303,2,       25,   0.071,2,   1.8882,2,   16.72,2, -999.00,9,  -999.0,9,  -999.0,   7.787,2,   0.036,     -999.0,9, -999.00,9,   36.62,2, -999.00,9,     -999.0,9,  -999.0,1, 20130422,     1917,       30, 166.7287,    34.4771,2,     -999.0,9,     -999.0,9,     3.5081,2,     -999.0,9,     -999.0,1,   0.0079,    0.15,   0.009
318M20130321,       P02W,      55,          1,         18,         18,2,20130422,       1717,         30,   166.7287,       6070,  1174.8,   3.1825,    34.37,2,  34.3705,2,     32.5,2,    32.4,2,  136.19,2,   42.88,2,       0,2,    3.12,2,   0.191,2,   0.104,2,   0.007,2,        0,2,  -999.0,9, -999.00,9,-999.0000,9,  -999.00,   0.067,2,   1.8876,2,   17.25,2, -999.00,9,  -999.0,9,  -999.0,   7.871,2,   0.036,     -999.0,9, -999.00,9,   35.63,2, -999.00,9,     -999.0,9,  -999.0,1, 20130422,     1914,       30, 166.7287,    34.5325,2,     -999.0,9,     -999.0,9,     3.1825,2,     -999.0,9,     -999.0,1,   0.0079,    0.15,   0.010
318M20130321,       P02W,      55,          1,         17,         17,2,20130422,       1717,         30,   166.7287,       6070,  1277.3,   2.9112,  34.4194,2,  34.4189,2,     30.3,2,    30.8,2,  144.29,2,    43.3,2,       0,2,    3.14,2,   0.099,2,   0.062,2,   0.001,2,        0,2,  2373.7,2, 2379.85,2,   7.3271,2,       25,   0.023,2,   1.9016,2,   17.35,2, -999.00,9,  -999.0,9,  -999.0,   7.929,2,   0.036,     -999.0,9, -999.00,9,    36.1,2, -999.00,9,     -999.0,1,  -999.0,1, 20130422,     1911,       30, 166.7287,    34.5812,2,     -999.0,9,     -999.0,9,     2.9109,2,     -999.0,9,     -999.0,1,   0.0080,    0.15,   0.010
318M20130321,       P02W,      55,          1,         16,         16,2,20130422,       1717,         30,   166.7287,       6070,  1376.5,   2.6927,  34.4626,2,  34.4621,2,     32.9,2,    34.2,2,  150.44,2,   43.31,2,       0,2,    3.13,2,-999.000,9,-999.000,9,-999.000,9,-999.0000,9,  2378.6,2, 2387.85,2,   7.3357,6,       25,-999.000,9,-999.0000,9, -999.00,9, -999.00,9,  -999.0,9,  -999.0,-999.000,9,-999.000,     -999.0,9, -999.00,9,   36.63,2, -999.00,9,     -999.0,9,  -999.0,1, 20130422,     1908,       30, 166.7287,    34.6246,2,     -999.0,9,     -999.0,9,     2.6919,2,     -999.0,9,     -999.0,1,-999.0000, -999.00,-999.000
318M20130321,       P02W,      55,          1,         15,         15,2,20130422,       1717,         30,   166.7287,       6070,  1548.9,   2.4196,  34.5122,2,  34.5112,2,     41.2,2,    41.8,2,  157.56,2,   43.08,2,       0,2,    3.11,2,   0.025,2,   0.022,2,   0.001,2,        0,2,  2381.9,2, 2397.75,2,    7.354,2,       25,  -0.007,2,   1.9188,2,   18.81,2, -999.00,9,  -999.0,9,  -999.0,   7.882,2,   0.036,     -999.0,9, -999.00,9,   35.78,2, -999.00,9,     -999.0,1,  -999.0,1, 20130422,     1904,       30, 166.7287,     34.674,2,     -999.0,9,     -999.0,9,     2.4195,2,     -999.0,9,     -999.0,1,   0.0081,    0.15,   0.010
318M20130321,       P02W,      55,          1,         14,         14,2,20130422,       1717,         30,   166.7287,       6070,  1750.5,   2.1707,  34.5627,2,  34.5617,2,     60.3,2,      60,2,  160.58,2,   41.98,2,       0,2,    3.03,2,   0.000,2,   0.000,2,   0.000,2,        0,2,  2376.2,6, 2406.05,2,   7.3943,2,       25,  -0.005,2,   1.9310,2,   19.28,2, -999.00,9,  -999.0,9,  -999.0,   7.926,2,   0.036,     -999.0,9, -999.00,9, -999.00,9, -999.00,9,     -999.0,9,  -999.0,1, 20130422,     1859,       30, 166.7287,    34.7247,2,     -999.0,9,     -999.0,9,     2.1706,2,     -999.0,9,     -999.0,1,   0.0081,    0.15,   0.010
318M20130321,       P02W,      55,          1,         13,         13,2,20130422,       1717,         30,   166.7287,       6070,  1954.8,    1.967,  34.5977,2,  34.5975,2,     78.6,2,      78,2,  161.55,2,   40.85,2,       0,2,    2.93,2,   0.005,2,   0.009,2,   0.004,2,        0,2,  -999.0,9, -999.00,9,-999.0000,9,  -999.00,  -0.006,2,   1.9330,2,   19.43,2, -999.00,9,  -999.0,9,  -999.0,   7.938,2,   0.037,     -999.0,9, -999.00,9,   37.17,2, -999.00,9,     -999.0,1,  -999.0,1, 20130422,     1854,       30, 166.7287,    34.7606,2,     -999.0,9,     -999.0,9,     1.9672,2,     -999.0,9,     -999.0,1,   0.0081,    0.15,   0.010
318M20130321,       P02W,      55,          1,         12,         12,2,20130422,       1717,         30,   166.7287,       6070,    2189,   1.8157,  34.6204,2,  34.6218,2,     92.8,2,    92.4,2,  161.16,2,   39.89,2,       0,2,    2.86,2,-999.000,9,-999.000,9,-999.000,9,-999.0000,9,  2359.5,2, 2413.06,2,   7.4606,2,       25,-999.000,9,-999.0000,9, -999.00,9, -999.00,9,  -999.0,9,  -999.0,-999.000,9,-999.000,     -999.0,9, -999.00,9, -999.00,9, -999.00,9,     -999.0,9,  -999.0,1, 20130422,     1849,       30, 166.7287,    34.7851,2,     -999.0,9,     -999.0,9,     1.8155,2,     -999.0,9,     -999.0,1,-999.0000, -999.00,-999.000
318M20130321,       P02W,      55,          1,         11,         11,2,20130422,       1717,         30,   166.7287,       6070,  2443.6,   1.6959,  34.6392,2,  34.6383,2,    106.6,2,   106.7,2,  159.89,2,      39,2,       0,2,    2.78,2,   0.001,2,   0.010,2,   0.000,2,        0,2,  2350.8,2, 2414.26,2,   7.4865,2,       25,  -0.012,2,   1.9087,2,   18.81,2, -999.00,9,  -999.0,9,  -999.0,   8.123,2,   0.037,     -999.0,9, -999.00,9,   35.02,2, -999.00,9,     -999.0,1,  -999.0,1, 20130422,     1844,       30, 166.7287,    34.8017,2,     -999.0,9,     -999.0,9,     1.6961,2,     -999.0,9,     -999.0,1,   0.0080,    0.15,   0.010
318M20130321,       P02W,      55,          1,         10,         10,2,20130422,       1717,         30,   166.7287,       6070,  2697.8,   1.6163,  34.6533,2,  34.6531,2,      121,2,   119.7,2,  156.56,2,   38.14,2,       0,2,    2.71,2,-999.000,9,-999.000,9,-999.000,9,-999.0000,9,  -999.0,9, -999.00,9,-999.0000,9,  -999.00,-999.000,9,-999.0000,9, -999.00,9, -999.00,9,  -999.0,9,  -999.0,-999.000,9,-999.000,     -999.0,9, -999.00,9, -999.00,9, -999.00,9,     -999.0,9,  -999.0,1, 20130422,     1838,       30, 166.7287,    34.8165,2,     -999.0,9,     -999.0,9,      1.617,2,     -999.0,9,     -999.0,1,-999.0000, -999.00,-999.000
318M20130321,       P02W,      55,          1,          9,          9,2,20130422,       1717,         30,   166.7287,       6070,  2953.9,   1.5616,   34.663,2,  34.6625,2,    129.2,2,   129.4,2,  154.61,2,   37.51,2,       0,2,    2.66,2,   0.001,2,   0.009,2,   0.000,2,        0,2,  2337.5,2, 2415.56,2,   7.5316,2,       25,  -0.013,2,   1.9486,2,   18.41,2, -999.00,9,  -999.0,9,  -999.0,   8.320,2,   0.038,     -999.0,9, -999.00,9,   35.27,2, -999.00,9,     -999.0,1,  -999.0,1, 20130422,     1833,       30, 166.7287,    34.8259,2,     -999.0,9,     -999.0,9,     1.5614,2,     -999.0,9,     -999.0,1,   0.0082,    0.15,   0.010
318M20130321,       P02W,      55,          1,          8,          8,2,20130422,       1717,         30,   166.7287,       6070,  3241.1,   1.5222,  34.6709,2,    34.67,2,    137.8,2,   138.4,2,  152.37,2,   36.88,2,       0,2,    2.64,2,-999.000,9,-999.000,9,-999.000,9,-999.0000,9,  -999.0,9, -999.00,9,-999.0000,9,  -999.00,-999.000,9,-999.0000,9, -999.00,9, -999.00,9,  -999.0,9,  -999.0,-999.000,9,-999.000,     -999.0,9, -999.00,9, -999.00,9, -999.00,9,     -999.0,9,  -999.0,1, 20130422,     1827,       30, 166.7287,    34.8335,2,     -999.0,9,     -999.0,9,     1.5227,2,     -999.0,9,     -999.0,1,-999.0000, -999.00,-999.000