BOTTLE,20220817CCHSIOAMB
EXPOCODE,SECT_ID,STNNBR,CASTNO,SAMPNO,BTLNBR,BTLNBR_FLAG_W,DATE,TIME,LATITUDE,LONGITUDE,DEPTH,CTDPRS,CTDTMP,CTDSAL,CTDSAL_FLAG_W,SALNTY,SALNTY_FLAG_W,CTDOXY,CTDOXY_FLAG_W,OXYGEN,OXYGEN_FLAG_W,SILCAT,SILCAT_FLAG_W,NITRAT,NITRAT_FLAG_W,NITRIT,NITRIT_FLAG_W,PHSPHT,PHSPHT_FLAG_W,CFC-11,CFC-11_FLAG_W,CFC-12,CFC-12_FLAG_W,CFC113,CFC113_FLAG_W,SF6,SF6_FLAG_W,TCARBN,TCARBN_FLAG_W,ALKALI,ALKALI_FLAG_W,PH_TOT,PH_TOT_FLAG_W,PH_TMP,TRITUM,TRITUM_FLAG_W,HELIUM,HELIUM_FLAG_W,DELHE3,DELHE3_FLAG_W,DELC13,DELC13_FLAG_W,DELC14,DELC14_FLAG_W,C14ERR,NEON,NEON_FLAG_W,NEONER,I-129,I-129_FLAG_W,SR-90,SR-90_FLAG_W,DOC,DOC_FLAG_W,TDN,TDN_FLAG_W,CALCIUM,CALCIUM_FLAG_W,D15N_NO3,D15N_NO3_FLAG_W,BTL_DATE,BTL_TIME,BTL_LAT,BTL_LON,SALTREF,SALTREF_FLAG_W,CS-137,CS-137_FLAG_W,CS-134,CS-134_FLAG_W,REFTMP,REFTMP_FLAG_W,LAB_DEN,LAB_DEN_FLAG_W,D18O_NO3,D18O_NO3_FLAG_W,HELIER,DELHER,TRITER
,,,,,,,,,,,METERS,DBAR,ITS-90,PSS-78,,PSS-78,,UMOL/KG,,UMOL/KG,,UMOL/KG,,UMOL/KG,,UMOL/KG,,UMOL/KG,,PMOL/KG,,PMOL/KG,,PMOL/KG,,FMOL/KG,,UMOL/KG,,UMOL/KG,,,,DEG C,TU,,NMOL/KG,,PERCNT,,/MILLE,,/MILLE,,/MILLE,NMOL/KG,,NMOL/KG,BQ/M^3,,DM/.1MG,,UMOL/KG,,UMOL/KG,,MMOL/KG,,/MILLE,,,,,,G/KG,,BQ/M^3,,BQ/M^3,,ITS-90,,,,/MILLE,,NMOL/KG,PERCNT,TU
318M20130321,       P02E,     152,          1,         29,         29,2,20130531,       1222,     32.177,  -119.4217,       1641,     5.3,  14.4116,  33.6488,2,    33.65,2,    255.1,2,     255,2,    2.15,2,    2.94,2,    0.14,2,    0.54,2,   2.690,2,   1.566,2,-999.000,1,    1.676,2,  2045.7,2,  2242.5,2,   7.8725,6,       25,-999.000,9,-999.0000,9, -999.00,9, -999.00,9,  -999.0,9,  -999.0,-999.000,9,-999.000,     -999.0,9, -999.00,9, -999.00,9, -999.00,9,     -999.0,9,  -999.0,9, 20130531,     1320,  32.1771,-119.4218,    33.8087,2,     -999.0,9,     -999.0,9,    14.4119,2,     -999.0,9,     -999.0,9,-999.0000, -999.00,-999.000
318M20130321,       P02E,     152,          1,         27,         27,2,20130531,       1222,     32.177,  -119.4217,       1641,    25.1,  14.4036,  33.6484,2,  33.6494,2,    254.4,2,   254.1,2,    2.15,2,    2.96,2,    0.14,2,    0.53,2,-999.000,9,-999.000,9,-999.000,9,-999.0000,9,  -999.0,9, -999.00,9,-999.0000,9,  -999.00,-999.000,9,-999.0000,9, -999.00,9, -999.00,9,  -999.0,9,  -999.0,-999.000,9,-999.000,     -999.0,9, -999.00,9, -999.00,9, -999.00,9,     -999.0,9,  -999.0,9, 20130531,     1318,   32.177,-119.4217,    33.8081,2,     -999.0,9,     -999.0,9,    14.4053,2,     -999.0,9,     -999.0,9,-999.0000, -999.00,-999.000
318M20130321,       P02E,     152,          1,         26,         26,2,20130531,       1222,     32.177,  -119.4217,       1641,      51,  12.4405,  33.6008,2,  33.6048,2,    222.8,2,   221.5,2,    7.91,2,    9.32,2,    0.21,2,    1.02,2,   2.940,2,   1.658,2,-999.000,1,   1.7112,2,  2090.5,2, 2237.79,2,   7.7576,2,       25,-999.000,9,-999.0000,9, -999.00,9, -999.00,9,  -999.0,9,  -999.0,-999.000,9,-999.000,     -999.0,9, -999.00,9, -999.00,9, -999.00,9,     -999.0,9,  -999.0,9, 20130531,     1316,   32.177,-119.4217,    33.7632,2,     -999.0,9,     -999.0,9,    12.4591,2,     -999.0,9,     -999.0,9,-999.0000, -999.00,-999.000
318M20130321,       P02E,     152,          1,         25,         25,2,20130531,       1222,     32.177,  -119.4217,       1641,    75.5,  10.0267,  33.6864,2,  33.6853,2,    156.2,2,   155.4,2,   20.61,2,   20.73,2,    0.07,2,    1.64,2,-999.000,9,-999.000,9,-999.000,9,-999.0000,9,  -999.0,9, 2235.09,6,-999.0000,9,  -999.00,-999.000,9,-999.0000,9, -999.00,9, -999.00,9,  -999.0,9,  -999.0,-999.000,9,-999.000,     -999.0,9, -999.00,9, -999.00,9, -999.00,9,     -999.0,9,  -999.0,9, 20130531,     1315,   32.177,-119.4217,    33.8442,2,     -999.0,9,     -999.0,9,    10.0046,2,     -999.0,9,     -999.0,9,-999.0000, -999.00,-999.000
318M20130321,       P02E,     152,          1,         24,         24,2,20130531,       1222,     32.177,  -119.4217,       1641,   100.8,   9.6911,  33.8012,2,  33.7986,2,    124.7,2,   129.8,2,   25.69,2,   23.76,2,    0.08,2,    1.86,2,   2.921,2,   1.593,2,-999.000,1,   1.1438,2,  -999.0,9,  2242.7,2,-999.0000,9,  -999.00,-999.000,9,-999.0000,9, -999.00,9, -999.00,9,  -999.0,9,  -999.0,-999.000,9,-999.000,     -999.0,9, -999.00,9, -999.00,9, -999.00,9,     -999.0,9,  -999.0,9, 20130531,     1313,   32.177,-119.4217,     33.958,2,     -999.0,9,     -999.0,9,     9.6866,2,     -999.0,9,     -999.0,9,-999.0000, -999.00,-999.000
318M20130321,       P02E,     152,          1,         23,         23,2,20130531,       1222,     32.177,  -119.4217,       1641,   126.8,    8.797,  33.9249,2,  33.9263,2,      120,2,   118.9,2,   30.86,2,   26.31,2,    0.04,2,    1.98,2,-999.000,9,-999.000,9,-999.000,9,-999.0000,9,  -999.0,9, -999.00,9,-999.0000,9,  -999.00,-999.000,9,-999.0000,9, -999.00,9, -999.00,9,  -999.0,9,  -999.0,-999.000,9,-999.000,     -999.0,9, -999.00,9, -999.00,9, -999.00,9,     -999.0,9,  -999.0,9, 20130531,     1312,   32.177,-119.4217,    34.0862,2,     -999.0,9,     -999.0,9,     8.7959,2,     -999.0,9,     -999.0,9,-999.0000, -999.00,-999.000
318M20130321,       P02E,     152,          1,         22,         22,2,20130531,       1222,     32.177,  -119.4217,       1641,   150.6,   8.4354,  33.9855,2,  33.9846,2,    110.7,2,   110.2,2,   34.38,2,   27.74,2,    0.04,2,    2.07,2,   2.813,2,   1.504,2,-999.000,1,   0.9369,2,  2205.6,2,  2258.1,2,   7.4828,2,       25,-999.000,9,-999.0000,9, -999.00,9, -999.00,9,  -999.0,9,  -999.0,-999.000,9,-999.000,     -999.0,9, -999.00,9, -999.00,9, -999.00,9,     -999.0,9,  -999.0,9, 20130531,     1310,   32.177,-119.4217,    34.1449,2,     -999.0,9,     -999.0,9,     8.4455,2,     -999.0,9,     -999.0,9,-999.0000, -999.00,-999.000
318M20130321,       P02E,     152,          1,         21,         21,2,20130531,       1222,     32.177,  -119.4217,       1641,   176.1,   8.0499,  34.0571,2,  34.0567,2,     85.1,2,    84.4,2,   40.92,2,   30.55,2,    0.03,2,    2.29,2,-999.000,9,-999.000,9,-999.000,9,-999.0000,9,  -999.0,9, -999.00,9,-999.0000,9,  -999.00,-999.000,9,-999.0000,9, -999.00,9, -999.00,9,  -999.0,9,  -999.0,-999.000,9,-999.000,     -999.0,9, -999.00,9, -999.00,9, -999.00,9,     -999.0,9,  -999.0,9, 20130531,     1309,   32.177,-119.4217,    34.2173,2,     -999.0,9,     -999.0,9,     8.0486,2,     -999.0,9,     -999.0,9,-999.0000, -999.00,-999.000
318M20130321,       P02E,     152,          1,         20,         20,2,20130531,       1222,     32.177,  -119.4217,       1641,   200.9,   7.7741,  34.0815,2,  34.0829,2,     74.1,2,    72.6,2,   45.31,2,   32.03,2,    0.02,2,    2.42,2,-999.000,9,-999.000,9,-999.000,9,-999.0000,9,  -999.0,9, -999.00,9,-999.0000,9,  -999.00,-999.000,9,-999.0000,9, -999.00,9, -999.00,9,  -999.0,9,  -999.0,-999.000,9,-999.000,     -999.0,9, -999.00,9, -999.00,9, -999.00,9,     -999.0,9,  -999.0,9, 20130531,     1307,   32.177,-119.4217,    34.2437,2,     -999.0,9,     -999.0,9,     7.7744,2,     -999.0,9,     -999.0,9,-999.0000, -999.00,-999.000
318M20130321,       P02E,     152,          1,         19,         19,2,20130531,       1222,     32.177,  -119.4217,       1641,   226.9,   7.8051,  34.1595,2,  34.1555,2,       52,2,    53.2,2,   48.72,2,   32.92,2,    0.02,2,    2.57,2,   1.753,2,   0.892,2,-999.000,1,   0.4431,2,  -999.0,9, -999.00,9,-999.0000,9,  -999.00,-999.000,9,-999.0000,9, -999.00,9, -999.00,9,  -999.0,9,  -999.0,-999.000,9,-999.000,     -999.0,9, -999.00,9, -999.00,9, -999.00,9,     -999.0,9,  -999.0,9, 20130531,     1306,   32.177,-119.4217,    34.3165,2,     -999.0,9,     -999.0,9,     7.8036,2,     -999.0,9,     -999.0,9,-999.0000, -999.00,-999.000
318M20130321,       P02E,     152,          1,         18,         18,2,20130531,       1222,     32.177,  -119.4217,       1641,     253,   7.5881,  34.1888,2,  34.1872,2,     45.3,2,    45.8,2,   52.24,2,   33.74,2,    0.02,2,    2.65,2,-999.000,9,-999.000,9,-999.000,9,-999.0000,9,    2268,2, 2285.11,2,   7.3654,6,       25,-999.000,9,-999.0000,9, -999.00,9, -999.00,9,  -999.0,9,  -999.0,-999.000,9,-999.000,     -999.0,9, -999.00,9, -999.00,9, -999.00,9,     -999.0,9,  -999.0,9, 20130531,     1304,   32.177,-119.4217,    34.3484,2,     -999.0,9,     -999.0,9,      7.589,2,     -999.0,9,     -999.0,9,-999.0000, -999.00,-999.000
318M20130321,       P02E,     152,          1,         17,         17,2,20130531,       1222,     32.177,  -119.4217,       1641,   303.5,   7.3161,  34.2561,2,  34.2556,2,     27.5,2,    26.8,2,   58.97,2,   35.34,2,    0.01,2,    2.84,2,-999.000,9,-999.000,9,-999.000,9,-999.0000,9,  -999.0,9, -999.00,9,-999.0000,9,  -999.00,-999.000,9,-999.0000,9, -999.00,9, -999.00,9,  -999.0,9,  -999.0,-999.000,9,-999.000,     -999.0,9, -999.00,9, -999.00,9, -999.00,9,     -999.0,9,  -999.0,9, 20130531,     1303,   32.177,-119.4217,    34.4171,2,     -999.0,9,     -999.0,9,      7.316,2,     -999.0,9,     -999.0,9,-999.0000, -999.00,-999.000
318M20130321,       P02E,     152,          1,         16,         16,2,20130531,       1222,     32.177,  -119.4217,       1641,   353.6,   6.7869,  34.2837,2,  34.2831,2,     20.8,2,    19.7,2,   66.59,2,   36.98,2,    0.01,2,    2.95,2,   0.605,2,   0.309,2,-999.000,1,   0.2162,2,  -999.0,9, -999.00,9,-999.0000,9,  -999.00,-999.000,9,-999.0000,9, -999.00,9, -999.00,9,  -999.0,9,  -999.0,-999.000,9,-999.000,     -999.0,9, -999.00,9, -999.00,9, -999.00,9,     -999.0,9,  -999.0,9, 20130531,     1301,   32.177,-119.4217,    34.4447,2,     -999.0,9,     -999.0,9,     6.7905,2,     -999.0,9,     -999.0,9,-999.0000, -999.00,-999.000
318M20130321,       P02E,     152,          1,         15,         15,2,20130531,       1222,     32.177,  -119.4217,       1641,     404,   6.4535,  34.3027,2,  34.3013,2,     14.3,2,    15.6,2,   71.66,2,   38.08,2,    0.01,2,    3.03,2,-999.000,9,-999.000,9,-999.000,9,-999.0000,9,  -999.0,9, -999.00,9,-999.0000,9,  -999.00,-999.000,9,-999.0000,9, -999.00,9, -999.00,9,  -999.0,9,  -999.0,-999.000,9,-999.000,     -999.0,9, -999.00,9, -999.00,9, -999.00,9,     -999.0,9,  -999.0,9, 20130531,     1259,   32.177,-119.4217,     34.463,2,     -999.0,9,     -999.0,9,     6.4531,2,     -999.0,9,     -999.0,9,-999.0000, -999.00,-999.000
318M20130321,       P02E,     152,          1,         14,         14,2,20130531,       1222,     32.177,  -119.4217,       1641,   453.3,    6.234,  34.3234,2,  34.3219,2,     13.5,2,    12.6,2,   76.45,2,   38.66,2,    0.01,2,    3.08,2,-999.000,9,-999.000,9,-999.000,9,-999.0000,9,  2317.5,2, 2318.12,2,   7.3119,2,       25,-999.000,9,-999.0000,9, -999.00,9, -999.00,9,  -999.0,9,  -999.0,-999.000,9,-999.000,     -999.0,9, -999.00,9, -999.00,9, -999.00,9,     -999.0,9,  -999.0,9, 20130531,     1257,   32.177,-119.4217,    34.4837,2,     -999.0,9,     -999.0,9,     6.2343,2,     -999.0,9,     -999.0,9,-999.0000, -999.00,-999.000
318M20130321,       P02E,     152,          1,         13,         13,2,20130531,       1222,     32.177,  -119.4217,       1641,   503.5,    6.077,  34.3342,2,  34.3336,2,     10.8,2,    11.9,2,   79.18,2,   39.09,2,       0,2,     3.1,2,   0.273,2,   0.155,2,-999.000,1,   0.1889,2,  -999.0,9, -999.00,9,   7.3093,2,       25,-999.000,9,-999.0000,9, -999.00,9, -999.00,9,  -999.0,9,  -999.0,-999.000,9,-999.000,     -999.0,9, -999.00,9, -999.00,9, -999.00,9,     -999.0,9,  -999.0,9, 20130531,     1255,   32.177,-119.4217,    34.4955,2,     -999.0,9,     -999.0,9,     6.0785,2,     -999.0,9,     -999.0,9,-999.0000, -999.00,-999.000
318M20130321,       P02E,     152,          1,         12,         12,2,20130531,       1222,     32.177,  -119.4217,       1641,   603.5,   5.7166,  34.3585,2,  34.3576,2,     10.4,2,    10.5,2,   85.72,2,   40.08,2,       0,2,    3.14,2,-999.000,9,-999.000,9,-999.000,9,-999.0000,9,  -999.0,9, -999.00,9,   7.3089,2,       25,-999.000,9,-999.0000,9, -999.00,9, -999.00,9,  -999.0,9,  -999.0,-999.000,9,-999.000,     -999.0,9, -999.00,9, -999.00,9, -999.00,9,     -999.0,9,  -999.0,9, 20130531,     1252,   32.177,-119.4217,    34.5196,2,     -999.0,9,     -999.0,9,     5.7169,2,     -999.0,9,     -999.0,9,-999.0000, -999.00,-999.000
318M20130321,       P02E,     152,          1,         11,         11,2,20130531,       1222,     32.177,  -119.4217,       1641,   704.5,   5.2044,  34.3929,2,  34.3931,2,     11.3,2,    10.9,2,   93.53,2,   41.69,2,       0,2,    3.18,2,-999.000,9,-999.000,9,-999.000,9,-999.0000,9,  2339.5,2, 2339.53,2,   7.3122,2,       25,-999.000,9,-999.0000,9, -999.00,9, -999.00,9,  -999.0,9,  -999.0,-999.000,9,-999.000,     -999.0,9, -999.00,9, -999.00,9, -999.00,9,     -999.0,9,  -999.0,9, 20130531,     1249,   32.177,-119.4217,    34.5552,2,     -999.0,9,     -999.0,9,     5.2053,2,     -999.0,9,     -999.0,9,-999.0000, -999.00,-999.000
318M20130321,       P02E,     152,          1,         10,         10,2,20130531,       1222,     32.177,  -119.4217,       1641,   805.6,   4.8154,  34.4246,2,  34.4233,2,     13.7,2,    12.8,2,  101.43,2,   42.39,2,       0,2,    3.22,2,   0.050,2,   0.041,2,-999.000,1,    0.213,2,  -999.0,9, -999.00,9,-999.0000,9,  -999.00,-999.000,9,-999.0000,9, -999.00,9, -999.00,9,  -999.0,9,  -999.0,-999.000,9,-999.000,     -999.0,9, -999.00,9, -999.00,9, -999.00,9,     -999.0,9,  -999.0,9, 20130531,     1247,   32.177,-119.4217,    34.5856,2,     -999.0,9,     -999.0,9,     4.8159,2,     -999.0,9,     -999.0,9,-999.0000, -999.00,-999.000
318M20130321,       P02E,     152,          1,          9,          9,2,20130531,       1222,     32.177,  -119.4217,       1641,     907,    4.456,  34.4533,2,  34.4562,2,     17.9,2,    16.9,2,  108.56,2,    42.9,2,       0,2,    3.21,2,-999.000,9,-999.000,9,-999.000,9,-999.0000,9,  -999.0,9, -999.00,9,-999.0000,9,  -999.00,-999.000,9,-999.0000,9, -999.00,9, -999.00,9,  -999.0,9,  -999.0,-999.000,9,-999.000,     -999.0,9, -999.00,9, -999.00,9, -999.00,9,     -999.0,9,  -999.0,9, 20130531,     1244,   32.177,-119.4217,    34.6187,2,     -999.0,9,     -999.0,9,     4.4552,2,     -999.0,9,     -999.0,9,-999.0000, -999.00,-999.000
318M20130321,       P02E,     152,          1,          8,          8,2,20130531,       1222,     32.177,  -119.4217,       1641,  1006.9,   4.0472,  34.4795,2,  34.4786,2,     22.2,2,    22.6,2,  116.27,2,   43.24,2,       0,2,    3.19,2,-999.000,9,-999.000,9,-999.000,9,-999.0000,9,  2360.8,2, 2368.24,2,   7.3352,6,       25,-999.000,9,-999.0000,9, -999.00,9, -999.00,9,  -999.0,9,  -999.0,-999.000,9,-999.000,     -999.0,9, -999.00,9, -999.00,9, -999.00,9,     -999.0,9,  -999.0,9, 20130531,     1241,   32.177,-119.4217,    34.6412,2,     -999.0,9,     -999.0,9,     4.0472,2,     -999.0,9,     -999.0,9,-999.0000, -999.00,-999.000
318M20130321,       P02E,     152,          1,          7,          7,2,20130531,       1222,     32.177,  -119.4217,       1641,  1110.6,   3.7842,  34.5023,2,  34.5008,2,     27.6,2,    26.9,2,  123.78,2,   43.03,2,       0,2,    3.17,2,   0.044,2,   0.047,2,-999.000,1,   0.1168,2,  -999.0,9, -999.00,9,-999.0000,9,  -999.00,-999.000,9,-999.0000,9, -999.00,9, -999.00,9,  -999.0,9,  -999.0,-999.000,9,-999.000,     -999.0,9, -999.00,9, -999.00,9, -999.00,9,     -999.0,9,  -999.0,9, 20130531,     1238,   32.177,-119.4217,    34.6635,2,     -999.0,9,     -999.0,9,     3.7874,2,     -999.0,9,     -999.0,9,-999.0000, -999.00,-999.000
318M20130321,       P02E,     152,          1,          6,          6,2,20130531,       1222,     32.177,  -119.4217,       1641,  1211.8,   3.5464,  34.5202,2,  34.5194,2,     32.1,2,    31.8,2,  129.54,2,   42.95,2,       0,2,    3.15,2,-999.000,9,-999.000,9,-999.000,9,-999.0000,9,  -999.0,9, -999.00,9,-999.0000,9,  -999.00,-999.000,9,-999.0000,9, -999.00,9, -999.00,9,  -999.0,9,  -999.0,-999.000,9,-999.000,     -999.0,9, -999.00,9, -999.00,9, -999.00,9,     -999.0,9,  -999.0,9, 20130531,     1235,   32.177,-119.4217,    34.6822,2,     -999.0,9,     -999.0,9,     3.5484,2,     -999.0,9,     -999.0,9,-999.0000, -999.00,-999.000
318M20130321,       P02E,     152,          1,          5,         37,2,20130531,       1222,     32.177,  -119.4217,       1641,  1312.2,   3.3218,  34.5371,2,  34.5367,2,     36.7,2,    36.6,2,  134.91,2,   42.77,2,       0,2,    3.13,2,-999.000,9,-999.000,9,-999.000,9,-999.0000,9,  -999.0,9, -999.00,9,-999.0000,9,  -999.00,-999.000,9,-999.0000,9, -999.00,9, -999.00,9,  -999.0,9,  -999.0,-999.000,9,-999.000,     -999.0,9, -999.00,9, -999.00,9, -999.00,9,     -999.0,9,  -999.0,9, 20130531,     1232,   32.177,-119.4217,    34.6995,2,     -999.0,9,     -999.0,9,     3.3222,2,     -999.0,9,     -999.0,9,-999.0000, -999.00,-999.000
318M20130321,       P02E,     152,          1,          4,          4,2,20130531,       1222,     32.177,  -119.4217,       1641,  1414.1,    3.133,    34.55,2,  34.5506,2,       42,2,      42,2,   139.3,2,   42.58,2,       0,2,     3.1,2,   0.046,2,   0.054,2,-999.000,1,   0.1127,2,  2374.1,2, 2395.05,6,   7.3753,2,       25,-999.000,9,-999.0000,9, -999.00,9, -999.00,9,  -999.0,9,  -999.0,-999.000,9,-999.000,     -999.0,9, -999.00,9, -999.00,9, -999.00,9,     -999.0,9,  -999.0,9, 20130531,     1229,   32.177,-119.4217,    34.7135,2,     -999.0,9,     -999.0,9,     3.1326,2,     -999.0,9,     -999.0,9,-999.0000, -999.00,-999.000
318M20130321,       P02E,     152,          1,          3,          3,2,20130531,       1222,     32.177,  -119.4217,       1641,  1514.7,   2.9102,  34.5666,2,  34.5675,2,     48.1,2,    48.5,2,  144.57,2,   42.25,2,       0,2,    3.07,2,-999.000,9,-999.000,9,-999.000,9,-999.0000,9,  -999.0,9, -999.00,9,-999.0000,9,  -999.00,-999.000,9,-999.0000,9, -999.00,9, -999.00,9,  -999.0,9,  -999.0,-999.000,9,-999.000,     -999.0,9, -999.00,9, -999.00,9, -999.00,9,     -999.0,9,  -999.0,9, 20130531,     1226,   32.177,-119.4217,    34.7305,2,     -999.0,9,     -999.0,9,     2.9105,2,     -999.0,9,     -999.0,9,-999.0000, -999.00,-999.000
318M20130321,       P02E,     152,          1,          2,          2,2,20130531,       1222,     32.177,  -119.4217,       1641,  1627.5,   2.8043,  34.5738,2,  34.5747,2,     52.3,2,    51.9,2,  146.91,2,   42.11,2,       0,2,    3.07,2,   0.036,2,   0.054,2,-999.000,1,   0.1487,2,  2377.1,6, 2405.55,2,   7.3934,6,       25,-999.000,9,-999.0000,9, -999.00,9, -999.00,9,  -999.0,9,  -999.0,-999.000,9,-999.000,     -999.0,9, -999.00,9, -999.00,9, -999.00,9,     -999.0,9,  -999.0,9, 20130531,     1223,   32.177,-119.4217,    34.7378,2,     -999.0,9,     -999.0,9,     2.8042,2,     -999.0,9,     -999.0,9,-999.0000, -999.00,-999.000