BOTTLE,20220817CCHSIOAMB
EXPOCODE,SECT_ID,STNNBR,CASTNO,SAMPNO,BTLNBR,BTLNBR_FLAG_W,DATE,TIME,LATITUDE,LONGITUDE,DEPTH,CTDPRS,CTDTMP,CTDSAL,CTDSAL_FLAG_W,SALNTY,SALNTY_FLAG_W,CTDOXY,CTDOXY_FLAG_W,OXYGEN,OXYGEN_FLAG_W,SILCAT,SILCAT_FLAG_W,NITRAT,NITRAT_FLAG_W,NITRIT,NITRIT_FLAG_W,PHSPHT,PHSPHT_FLAG_W,CFC-11,CFC-11_FLAG_W,CFC-12,CFC-12_FLAG_W,CFC113,CFC113_FLAG_W,SF6,SF6_FLAG_W,TCARBN,TCARBN_FLAG_W,ALKALI,ALKALI_FLAG_W,PH_TOT,PH_TOT_FLAG_W,PH_TMP,TRITUM,TRITUM_FLAG_W,HELIUM,HELIUM_FLAG_W,DELHE3,DELHE3_FLAG_W,DELC13,DELC13_FLAG_W,DELC14,DELC14_FLAG_W,C14ERR,NEON,NEON_FLAG_W,NEONER,I-129,I-129_FLAG_W,SR-90,SR-90_FLAG_W,DOC,DOC_FLAG_W,TDN,TDN_FLAG_W,CALCIUM,CALCIUM_FLAG_W,D15N_NO3,D15N_NO3_FLAG_W,BTL_DATE,BTL_TIME,BTL_LAT,BTL_LON,SALTREF,SALTREF_FLAG_W,CS-137,CS-137_FLAG_W,CS-134,CS-134_FLAG_W,REFTMP,REFTMP_FLAG_W,LAB_DEN,LAB_DEN_FLAG_W,D18O_NO3,D18O_NO3_FLAG_W,HELIER,DELHER,TRITER
,,,,,,,,,,,METERS,DBAR,ITS-90,PSS-78,,PSS-78,,UMOL/KG,,UMOL/KG,,UMOL/KG,,UMOL/KG,,UMOL/KG,,UMOL/KG,,PMOL/KG,,PMOL/KG,,PMOL/KG,,FMOL/KG,,UMOL/KG,,UMOL/KG,,,,DEG C,TU,,NMOL/KG,,PERCNT,,/MILLE,,/MILLE,,/MILLE,NMOL/KG,,NMOL/KG,BQ/M^3,,DM/.1MG,,UMOL/KG,,UMOL/KG,,MMOL/KG,,/MILLE,,,,,,G/KG,,BQ/M^3,,BQ/M^3,,ITS-90,,,,/MILLE,,NMOL/KG,PERCNT,TU
318M20130321,       P02E,     101,          1,         36,         36,2,20130516,       2016,    30.0001,  -152.8654,       5260,     2.5,  21.5222,  35.1279,2,  35.1294,2,      225,2,   224.9,2,    1.95,2,       0,2,       0,2,       0,2,   1.920,2,   1.167,2,-999.000,5,   1.4348,2,  2028.8,2, 2307.32,2,    8.008,2,       25,   0.562,2,   1.7027,2,   -1.68,2, -999.00,9,  -999.0,9,  -999.0,   6.926,2,   0.032,     -999.0,9, -999.00,9,   63.56,2,     4.9,2,     -999.0,9,  -999.0,9, 20130516,     2223,  30.0002,-152.8646,     35.295,2,     -999.0,9,     -999.0,9,    21.5149,2,     -999.0,9,     -999.0,9,   0.0072,    0.15,   0.006
318M20130321,       P02E,     101,          1,         34,         34,2,20130516,       2016,    30.0001,  -152.8654,       5260,    40.4,  20.4719,  35.0918,2,  35.0953,2,      229,2,   228.4,2,    1.95,2,       0,2,       0,2,       0,2,   1.968,2,   1.189,2,-999.000,5,   1.4058,2,  2026.4,2, 2305.72,2,   8.0071,6,       25,   0.551,2,   1.7373,2,   -1.22,2, -999.00,9,  -999.0,9,  -999.0,   6.966,2,   0.032,     -999.0,9, -999.00,9,   66.28,2,       5,2,     -999.0,9,  -999.0,9, 20130516,     2220,  30.0004,-152.8647,    35.2608,2,     -999.0,9,     -999.0,9,    20.4893,2,     -999.0,9,     -999.0,9,   0.0073,    0.15,   0.005
318M20130321,       P02E,     101,          1,         33,         33,2,20130516,       2016,    30.0001,  -152.8654,       5260,      66,  19.6631,  35.0807,2,  35.0808,2,    231.6,2,   230.5,2,    2.05,2,       0,2,       0,2,       0,2,   2.029,2,   1.229,2,-999.000,5,   1.3966,2,    2028,2, 2304.22,2,   8.0032,2,       25,-999.000,9,-999.0000,9, -999.00,9, -999.00,9,  -999.0,9,  -999.0,-999.000,9,-999.000,     -999.0,9, -999.00,9,   61.97,2,    4.84,2,     -999.0,9,  -999.0,9, 20130516,     2218,  30.0004,-152.8647,    35.2462,2,     -999.0,9,     -999.0,9,    19.6615,2,     -999.0,9,     -999.0,9,-999.0000, -999.00,-999.000
318M20130321,       P02E,     101,          1,         32,         32,2,20130516,       2016,    30.0001,  -152.8654,       5260,    90.7,  19.5401,   35.113,2,  35.1131,2,    228.9,2,   228.7,2,    2.05,2,       0,2,       0,2,       0,2,   2.022,2,   1.224,2,-999.000,5,   1.3528,2,  -999.0,9, -999.00,9,-999.0000,9,  -999.00,   0.546,2,   1.7639,2,   -0.89,2, -999.00,9,  -999.0,9,  -999.0,   7.132,2,   0.033,     -999.0,9, -999.00,9,   59.55,2,    4.09,2,     -999.0,9,  -999.0,9, 20130516,     2216,  30.0005,-152.8647,    35.2786,2,     -999.0,9,     -999.0,9,    19.5355,2,     -999.0,9,     -999.0,9,   0.0074,    0.15,   0.006
318M20130321,       P02E,     101,          1,         31,         31,2,20130516,       2016,    30.0001,  -152.8654,       5260,   136.5,  19.4545,  35.1161,2,  35.1206,2,    226.5,2,   226.5,2,    1.85,2,       0,2,       0,2,       0,2,   2.028,2,   1.220,2,-999.000,5,   1.3785,2,  -999.0,9, -999.00,9,-999.0000,9,  -999.00,-999.000,9,-999.0000,9, -999.00,9, -999.00,9,  -999.0,9,  -999.0,-999.000,9,-999.000,     -999.0,9, -999.00,9,   57.42,2,    4.66,2,     -999.0,9,  -999.0,9, 20130516,     2214,  30.0005,-152.8648,    35.2862,2,     -999.0,9,     -999.0,9,    19.4543,2,     -999.0,9,     -999.0,9,-999.0000, -999.00,-999.000
318M20130321,       P02E,     101,          1,         30,         30,2,20130516,       2016,    30.0001,  -152.8654,       5260,   185.8,  19.2828,  35.0785,2,  35.0842,2,    223.1,2,   223.5,2,    2.05,2,    0.05,2,    0.15,2,    0.01,2,   2.057,2,   1.246,2,-999.000,5,   1.3741,2,  2038.5,2, 2305.82,6,   7.9855,6,       25,-999.000,9,-999.0000,9, -999.00,9, -999.00,9,  -999.0,9,  -999.0,-999.000,9,-999.000,     -999.0,9, -999.00,9,   58.52,2,    4.49,2,     -999.0,9,  -999.0,9, 20130516,     2212,  30.0005,-152.8648,    35.2496,2,     -999.0,9,     -999.0,9,    19.2822,2,     -999.0,9,     -999.0,9,-999.0000, -999.00,-999.000
318M20130321,       P02E,     101,          1,         29,         29,2,20130516,       2016,    30.0001,  -152.8654,       5260,   236.4,  14.0172,   34.258,2,  34.2579,2,    222.7,2,     219,2,    5.96,2,    5.32,2,    0.02,2,     0.4,2,   2.699,2,   1.564,2,-999.000,5,   1.4799,2,  -999.0,9, -999.00,9,-999.0000,9,  -999.00,   0.529,2,   1.8028,2,   -0.36,2, -999.00,9,  -999.0,9,  -999.0,   7.458,2,   0.034,     -999.0,9, -999.00,9,   52.76,2,    9.08,2,     -999.0,9,  -999.0,9, 20130516,     2210,  30.0003,-152.8647,    34.4194,2,     -999.0,9,     -999.0,9,    14.0078,2,     -999.0,9,     -999.0,9,   0.0076,    0.15,   0.006
318M20130321,       P02E,     101,          1,         28,         28,2,20130516,       2016,    30.0001,  -152.8654,       5260,   286.9,  11.8719,  34.1018,2,  34.1032,2,    217.5,2,   217.9,2,    9.67,2,     9.8,2,       0,2,    0.69,2,   3.016,2,   1.715,2,-999.000,5,   1.5247,2,  2079.2,2,  2248.5,6,   7.8007,2,       25,   0.541,2,   1.8032,2,    0.09,2, -999.00,9,  -999.0,9,  -999.0,   7.534,2,   0.035,     -999.0,9, -999.00,9,   49.27,2, -999.00,5,     -999.0,9,  -999.0,9, 20130516,     2208,  30.0001,-152.8646,     34.264,2,     -999.0,9,     -999.0,9,    11.8707,2,     -999.0,9,     -999.0,9,   0.0076,    0.15,   0.006
318M20130321,       P02E,     101,          1,         27,         27,2,20130516,       2016,    30.0001,  -152.8654,       5260,   338.1,  10.5386,  34.0959,2,  34.0993,2,    214.6,2,   214.3,2,   14.84,2,   13.68,2,       0,2,    0.96,2,   3.167,2,   1.757,2,-999.000,5,    1.403,2,  -999.0,9, -999.00,9,-999.0000,9,  -999.00,-999.000,9,-999.0000,9, -999.00,9, -999.00,9,  -999.0,9,  -999.0,-999.000,9,-999.000,     -999.0,9, -999.00,9,   45.15,2,   17.64,2,     -999.0,9,  -999.0,9, 20130516,     2206,  30.0002,-152.8647,    34.2601,2,     -999.0,9,     -999.0,9,    10.5354,2,     -999.0,9,     -999.0,9,-999.0000, -999.00,-999.000
318M20130321,       P02E,     101,          1,         26,         26,2,20130516,       2016,    30.0001,  -152.8654,       5260,   387.2,   9.7408,  34.0906,2,  34.0909,2,    205.9,2,     206,2,   19.43,2,   16.35,2,       0,2,    1.14,2,   3.208,2,   1.745,2,-999.000,5,   1.2798,2,  2119.6,2,  2259.2,2,   7.7271,2,       25,   0.526,2,   1.7994,2,    2.04,2, -999.00,9,  -999.0,9,  -999.0,   7.639,2,   0.035,     -999.0,9, -999.00,9,   44.57,2, -999.00,9,     -999.0,9,  -999.0,9, 20130516,     2204,  30.0002,-152.8649,    34.2516,2,     -999.0,9,     -999.0,9,     9.7394,2,     -999.0,9,     -999.0,9,   0.0076,    0.15,   0.006
318M20130321,       P02E,     101,          1,         25,         25,2,20130516,       2016,    30.0001,  -152.8654,       5260,   467.3,   8.2358,  34.0246,2,  34.0244,2,    175.1,2,   174.9,2,   31.64,2,   22.44,2,       0,2,    1.57,2,   3.069,2,   1.601,2,-999.000,5,   0.9753,2,  2160.4,2,  2264.2,2,   7.6338,2,       25,   0.499,2,   1.8311,2,    5.80,2, -999.00,9,  -999.0,9,  -999.0,   7.780,2,   0.036,     -999.0,9, -999.00,9,   45.05,2, -999.00,9,     -999.0,9,  -999.0,9, 20130516,     2202,  30.0002, -152.865,    34.1849,2,     -999.0,9,     -999.0,9,     8.2297,2,     -999.0,9,     -999.0,9,   0.0077,    0.15,   0.006
318M20130321,       P02E,     101,          1,         24,         24,2,20130516,       2016,    30.0001,  -152.8654,       5260,   568.4,   6.5778,  33.9909,2,  33.9925,2,    119.9,2,   119.4,2,   52.25,2,   30.68,2,       0,2,    2.18,2,   2.375,2,   1.174,2,-999.000,5,   0.5426,2,  2221.8,2, 2278.01,2,   7.4903,2,       25,-999.000,9,-999.0000,9, -999.00,9, -999.00,9,  -999.0,9,  -999.0,-999.000,9,-999.000,     -999.0,9, -999.00,9,   42.63,2, -999.00,9,     -999.0,9,  -999.0,9, 20130516,     2159,       30,-152.8649,    34.1528,2,     -999.0,9,     -999.0,9,      6.577,2,     -999.0,9,     -999.0,9,-999.0000, -999.00,-999.000
318M20130321,       P02E,     101,          1,         23,         23,2,20130516,       2016,    30.0001,  -152.8654,       5260,   669.2,   5.3372,  34.0427,2,  34.0431,2,     65.2,2,    65.8,2,    74.8,2,   37.58,2,       0,2,    2.71,2,   1.324,2,   0.634,2,-999.000,5,   0.2257,2,  2280.3,2, 2297.32,2,   7.3641,2,       25,   0.319,2,   1.8548,2,   15.68,2, -999.00,9,  -999.0,9,  -999.0,   7.957,2,   0.037,     -999.0,9, -999.00,9,   42.82,2, -999.00,9,     -999.0,9,  -999.0,9, 20130516,     2156,  29.9999, -152.865,    34.2036,2,     -999.0,9,     -999.0,9,     5.3361,2,     -999.0,9,     -999.0,9,   0.0078,    0.15,   0.005
318M20130321,       P02E,     101,          1,         22,         22,2,20130516,       2016,    30.0001,  -152.8654,       5260,   771.1,   4.6412,  34.1469,2,  34.1484,2,     32.3,2,      31,2,   93.84,2,   41.35,2,       0,2,    3.01,2,   0.468,2,   0.221,2,-999.000,5,   0.0996,2,    2322,2, 2319.72,2,   7.3038,6,       25,   0.180,2,   1.8546,2,   16.93,2, -999.00,9,  -999.0,9,  -999.0,   7.960,2,   0.037,     -999.0,9, -999.00,9,    38.2,2, -999.00,9,     -999.0,9,  -999.0,9, 20130516,     2153,  29.9999,-152.8652,    34.3094,2,     -999.0,9,     -999.0,9,     4.6398,2,     -999.0,9,     -999.0,9,   0.0078,    0.15,   0.005
318M20130321,       P02E,     101,          1,         21,         21,2,20130516,       2016,    30.0001,  -152.8654,       5260,   870.9,    4.134,  34.2429,2,  34.2429,2,     17.7,2,    17.2,2,  109.26,2,   43.12,2,       0,2,    3.15,2,   0.105,6,   0.053,6,-999.000,5,        0,6,  -999.0,9, -999.00,9,-999.0000,9,  -999.00,   0.077,2,   1.8859,2,   15.65,2, -999.00,9,  -999.0,9,  -999.0,   8.077,2,   0.037,     -999.0,9, -999.00,9,   37.27,2, -999.00,9,     -999.0,9,  -999.0,9, 20130516,     2151,  29.9997,-152.8652,    34.4043,2,     -999.0,9,     -999.0,9,     4.1344,2,     -999.0,9,     -999.0,9,   0.0079,    0.15,   0.005
318M20130321,       P02E,     101,          1,         20,         20,2,20130516,       2016,    30.0001,  -152.8654,       5260,   972.1,   3.8712,  34.3141,2,  34.3149,2,     13.7,2,    13.3,2,  118.14,2,   43.66,2,       0,2,    3.21,2,   0.031,2,   0.017,2,-999.000,5,        0,2,  2359.8,2, 2353.04,2,   7.2862,2,       25,-999.000,9,-999.0000,9, -999.00,9, -999.00,9,  -999.0,9,  -999.0,-999.000,9,-999.000,     -999.0,9, -999.00,9,   37.39,2, -999.00,9,     -999.0,9,  -999.0,9, 20130516,     2148,  29.9996,-152.8654,    34.4767,2,     -999.0,9,     -999.0,9,      3.871,2,     -999.0,9,     -999.0,9,-999.0000, -999.00,-999.000
318M20130321,       P02E,     101,          1,         19,         19,2,20130516,       2016,    30.0001,  -152.8654,       5260,  1072.1,   3.6354,  34.3951,2,  34.3963,2,       18,2,      18,2,  125.06,2,   43.64,2,       0,2,     3.2,2,   0.013,2,   0.006,2,-999.000,5,        0,2,    2366,2, 2365.44,2,   7.3072,2,       25,   0.008,2,   1.8941,2,   17.21,2, -999.00,9,  -999.0,9,  -999.0,   7.927,2,   0.036,     -999.0,9, -999.00,9,      36,2, -999.00,9,     -999.0,9,  -999.0,9, 20130516,     2146,  29.9997,-152.8656,    34.5585,2,     -999.0,9,     -999.0,9,      3.635,2,     -999.0,9,     -999.0,9,   0.0080,    0.15,   0.005
318M20130321,       P02E,     101,          1,         18,         18,2,20130516,       2016,    30.0001,  -152.8654,       5260,  1173.2,    3.402,  34.4478,2,  34.4484,2,     24.5,2,    24.2,2,  131.21,2,   43.47,2,       0,2,    3.19,2,   0.009,2,   0.003,2,-999.000,5,        0,2,  2369.3,2, 2375.24,2,   7.3243,2,       25,  -0.003,2,   1.8785,2,   18.67,2, -999.00,9,  -999.0,9,  -999.0,   7.949,2,   0.037,     -999.0,9, -999.00,9, -999.00,5, -999.00,9,     -999.0,9,  -999.0,9, 20130516,     2143,  29.9998,-152.8659,    34.6108,2,     -999.0,9,     -999.0,9,      3.404,2,     -999.0,9,     -999.0,9,   0.0079,    0.15,   0.005
318M20130321,       P02E,     101,          1,         17,         17,2,20130516,       2016,    30.0001,  -152.8654,       5260,    1276,   3.1299,  34.4915,2,   34.492,2,     31.7,2,    32.9,2,  137.84,2,   43.16,2,       0,2,    3.17,2,-999.000,9,-999.000,9,-999.000,9,-999.0000,9,  -999.0,9, -999.00,9,-999.0000,9,  -999.00,-999.000,9,-999.0000,9, -999.00,9, -999.00,9,  -999.0,9,  -999.0,-999.000,9,-999.000,     -999.0,9, -999.00,9,   34.61,2, -999.00,9,     -999.0,9,  -999.0,9, 20130516,     2140,  29.9999,-152.8659,    34.6546,2,     -999.0,9,     -999.0,9,     3.1306,2,     -999.0,9,     -999.0,9,-999.0000, -999.00,-999.000
318M20130321,       P02E,     101,          1,         16,         16,2,20130516,       2016,    30.0001,  -152.8654,       5260,  1377.2,   2.9573,  34.5167,2,  34.5181,2,     39.9,2,    39.7,2,  141.55,2,    42.8,2,       0,2,    3.13,2,   0.005,2,   0.000,2,-999.000,5,        0,2,  2373.8,6, 2391.45,2,   7.3603,2,       25,  -0.008,2,   1.8948,2,   20.46,2, -999.00,9,  -999.0,9,  -999.0,   8.159,2,   0.038,     -999.0,9, -999.00,9,   34.46,2, -999.00,9,     -999.0,9,  -999.0,9, 20130516,     2138,       30,-152.8657,    34.6809,2,     -999.0,9,     -999.0,9,     2.9591,2,     -999.0,9,     -999.0,9,   0.0080,    0.15,   0.010
318M20130321,       P02E,     101,          1,         15,         15,2,20130516,       2016,    30.0001,  -152.8654,       5260,  1548.8,   2.6758,   34.549,2,  34.5507,2,     48.3,2,    49.4,2,  147.99,2,   42.27,2,       0,2,    3.08,2,   0.005,2,  -0.001,2,-999.000,5,        0,2,    2375,2, 2399.15,2,   7.3791,2,       25,   0.008,2,   1.8999,2,   21.41,2, -999.00,9,  -999.0,9,  -999.0,   8.005,2,   0.037,     -999.0,9, -999.00,9,   37.04,2, -999.00,9,     -999.0,9,  -999.0,9, 20130516,     2134,       30,-152.8659,    34.7137,2,     -999.0,9,     -999.0,9,      2.673,2,     -999.0,9,     -999.0,9,   0.0080,    0.15,   0.010
318M20130321,       P02E,     101,          1,         14,         14,2,20130516,       2016,    30.0001,  -152.8654,       5260,  1750.6,   2.3413,  34.5819,2,  34.5826,2,     62.3,2,    62.4,2,  156.28,2,   41.52,2,       0,2,    3.03,2,   0.007,2,   0.000,2,-999.000,5,        0,2,  2373.4,2, 2409.26,2,   7.4073,2,       25,  -0.008,2,   1.9062,2,   22.09,2, -999.00,9,  -999.0,9,  -999.0,   8.178,2,   0.038,     -999.0,9, -999.00,9,   36.41,2, -999.00,9,     -999.0,9,  -999.0,9, 20130516,     2129,  29.9999,-152.8659,    34.7456,2,     -999.0,9,     -999.0,9,     2.3432,2,     -999.0,9,     -999.0,9,   0.0080,    0.15,   0.010
318M20130321,       P02E,     101,          1,         13,         13,2,20130516,       2016,    30.0001,  -152.8654,       5260,    1953,   2.1075,  34.6044,2,  34.6058,2,     72.7,2,    72.2,2,  163.01,2,   40.92,2,       0,2,    2.98,2,-999.000,9,-999.000,9,-999.000,9,-999.0000,9,  -999.0,9, -999.00,9,-999.0000,9,  -999.00,   0.008,2,   1.9281,2,   22.99,2, -999.00,9,  -999.0,9,  -999.0,   8.241,2,   0.038,     -999.0,9, -999.00,9,   35.63,2, -999.00,9,     -999.0,9,  -999.0,9, 20130516,     2125,  29.9999,-152.8657,    34.7689,2,     -999.0,9,     -999.0,9,     2.1077,2,     -999.0,9,     -999.0,9,   0.0081,    0.15,   0.010
318M20130321,       P02E,     101,          1,         12,         12,2,20130516,       2016,    30.0001,  -152.8654,       5260,  2188.2,   1.8974,  34.6258,2,  34.6284,2,       84,2,    82.7,2,  168.57,2,   40.16,2,       0,2,    2.91,2,   0.005,2,   0.002,2,-999.000,5,        0,2,    2372,2, 2421.36,2,   7.4483,2,       25,-999.000,9,-999.0000,9, -999.00,9, -999.00,9,  -999.0,9,  -999.0,-999.000,9,-999.000,     -999.0,9, -999.00,9, -999.00,9, -999.00,9,     -999.0,9,  -999.0,9, 20130516,     2120,  29.9999,-152.8659,    34.7917,2,     -999.0,9,     -999.0,9,     1.8971,2,     -999.0,9,     -999.0,9,-999.0000, -999.00,-999.000
318M20130321,       P02E,     101,          1,         11,         11,2,20130516,       2016,    30.0001,  -152.8654,       5260,  2440.4,   1.7577,   34.641,2,  34.6422,2,     94.5,2,    94.1,2,   171.4,2,   39.56,2,       0,2,    2.86,2,-999.000,9,-999.000,9,-999.000,9,-999.0000,9,  -999.0,9, -999.00,9,-999.0000,9,  -999.00,   0.006,6,   1.9489,2,   22.44,2, -999.00,9,  -999.0,9,  -999.0,   8.235,2,   0.038,     -999.0,9, -999.00,9,   34.04,2, -999.00,9,     -999.0,9,  -999.0,9, 20130516,     2115,       30,-152.8658,    34.8055,2,     -999.0,9,     -999.0,9,     1.7578,2,     -999.0,9,     -999.0,9,   0.0082,    0.15,   0.010
318M20130321,       P02E,     101,          1,         10,         10,2,20130516,       2016,    30.0001,  -152.8654,       5260,  2695.1,   1.6315,  34.6546,2,  34.6563,2,    106.3,2,   106.5,2,  171.01,2,   38.76,2,       0,2,    2.78,2,   0.006,2,   0.004,2,-999.000,5,        0,2,  2360.2,2, 2426.46,2,    7.493,2,       25,-999.000,9,-999.0000,9, -999.00,9, -999.00,9,  -999.0,9,  -999.0,-999.000,9,-999.000,     -999.0,9, -999.00,9, -999.00,9, -999.00,9,     -999.0,9,  -999.0,9, 20130516,     2109,  30.0001,-152.8659,    34.8197,2,     -999.0,9,     -999.0,9,     1.6309,2,     -999.0,9,     -999.0,9,-999.0000, -999.00,-999.000
318M20130321,       P02E,     101,          1,          9,          9,2,20130516,       2016,    30.0001,  -152.8654,       5260,  2950.9,    1.556,  34.6641,2,  34.6656,2,    116.7,2,   116.6,2,  168.57,2,   38.14,2,       0,2,    2.72,2,-999.000,9,-999.000,9,-999.000,9,-999.0000,9,  -999.0,9, -999.00,9,-999.0000,9,  -999.00,  -0.008,2,   1.9141,2,   18.48,2, -999.00,9,  -999.0,9,  -999.0,   8.258,2,   0.038,     -999.0,9, -999.00,9,   33.68,2, -999.00,9,     -999.0,9,  -999.0,9, 20130516,     2104,  29.9998, -152.866,     34.829,2,     -999.0,9,     -999.0,9,     1.5561,2,     -999.0,9,     -999.0,9,   0.0080,    0.15,   0.010
318M20130321,       P02E,     101,          1,          8,          8,2,20130516,       2016,    30.0001,  -152.8654,       5260,  3242.7,   1.5065,  34.6717,2,  34.6729,2,      127,2,   127.4,2,  165.74,2,   37.51,2,       0,2,    2.66,2,-999.000,9,-999.000,9,-999.000,9,-999.0000,9,  -999.0,9, -999.00,9,-999.0000,9,  -999.00,-999.000,9,-999.0000,9, -999.00,9, -999.00,9,  -999.0,9,  -999.0,-999.000,9,-999.000,     -999.0,9, -999.00,9, -999.00,9, -999.00,9,     -999.0,9,  -999.0,9, 20130516,     2058,  29.9999,-152.8657,    34.8364,2,     -999.0,9,     -999.0,9,     1.5065,2,     -999.0,9,     -999.0,9,-999.0000, -999.00,-999.000
318M20130321,       P02E,     101,          1,          7,          7,2,20130516,       2016,    30.0001,  -152.8654,       5260,  3553.8,   1.4699,  34.6791,2,  34.6798,2,    136.5,2,   137.3,2,  162.13,2,   36.81,2,       0,2,    2.62,2,   0.004,2,   0.004,2,-999.000,5,        0,2,  2340.1,2, 2425.36,2,   7.5503,2,       25,   0.013,2,   1.9513,2,   17.20,2, -999.00,9,  -999.0,9,  -999.0,   8.281,2,   0.038,     -999.0,9, -999.00,9,    34.3,2, -999.00,9,     -999.0,9,  -999.0,9, 20130516,     2052,  30.0001, -152.866,    34.8433,2,     -999.0,9,     -999.0,9,     1.4698,2,     -999.0,9,     -999.0,9,   0.0082,    0.15,   0.010