BOTTLE,20220817CCHSIOAMB
EXPOCODE,SECT_ID,STNNBR,CASTNO,SAMPNO,BTLNBR,BTLNBR_FLAG_W,DATE,TIME,LATITUDE,LONGITUDE,DEPTH,CTDPRS,CTDTMP,CTDSAL,CTDSAL_FLAG_W,SALNTY,SALNTY_FLAG_W,CTDOXY,CTDOXY_FLAG_W,OXYGEN,OXYGEN_FLAG_W,SILCAT,SILCAT_FLAG_W,NITRAT,NITRAT_FLAG_W,NITRIT,NITRIT_FLAG_W,PHSPHT,PHSPHT_FLAG_W,CFC-11,CFC-11_FLAG_W,CFC-12,CFC-12_FLAG_W,CFC113,CFC113_FLAG_W,SF6,SF6_FLAG_W,TCARBN,TCARBN_FLAG_W,ALKALI,ALKALI_FLAG_W,PH_TOT,PH_TOT_FLAG_W,PH_TMP,TRITUM,TRITUM_FLAG_W,HELIUM,HELIUM_FLAG_W,DELHE3,DELHE3_FLAG_W,DELC13,DELC13_FLAG_W,DELC14,DELC14_FLAG_W,C14ERR,NEON,NEON_FLAG_W,NEONER,I-129,I-129_FLAG_W,SR-90,SR-90_FLAG_W,DOC,DOC_FLAG_W,TDN,TDN_FLAG_W,CALCIUM,CALCIUM_FLAG_W,D15N_NO3,D15N_NO3_FLAG_W,BTL_DATE,BTL_TIME,BTL_LAT,BTL_LON,SALTREF,SALTREF_FLAG_W,CS-137,CS-137_FLAG_W,CS-134,CS-134_FLAG_W,REFTMP,REFTMP_FLAG_W,LAB_DEN,LAB_DEN_FLAG_W,D18O_NO3,D18O_NO3_FLAG_W,HELIER,DELHER,TRITER
,,,,,,,,,,,METERS,DBAR,ITS-90,PSS-78,,PSS-78,,UMOL/KG,,UMOL/KG,,UMOL/KG,,UMOL/KG,,UMOL/KG,,UMOL/KG,,PMOL/KG,,PMOL/KG,,PMOL/KG,,FMOL/KG,,UMOL/KG,,UMOL/KG,,,,DEG C,TU,,NMOL/KG,,PERCNT,,/MILLE,,/MILLE,,/MILLE,NMOL/KG,,NMOL/KG,BQ/M^3,,DM/.1MG,,UMOL/KG,,UMOL/KG,,MMOL/KG,,/MILLE,,,,,,G/KG,,BQ/M^3,,BQ/M^3,,ITS-90,,,,/MILLE,,NMOL/KG,PERCNT,TU
318M20130321,       P02W,      19,          1,         36,         36,2,20130410,       1617,    30.0006,   137.7591,       3995,     2.9,  19.0672,  34.7247,2,  34.7252,2,    230.6,2,     231,2,    1.56,2,       0,2,    0.01,2,    0.02,2,-999.000,9,-999.000,9,-999.000,9,-999.0000,9,  1997.4,6, 2277.41,2,   8.0216,2,       25,-999.000,9,-999.0000,9, -999.00,9,    0.70,2,    53.0,2,     2.5,-999.000,9,-999.000,     -999.0,9, -999.00,9, -999.00,5,    4.23,2,     -999.0,9,  -999.0,9, 20130410,     1826,  29.9983, 137.7587,     34.889,2,     -999.0,9,     -999.0,9,    19.0696,2,     -999.0,9,     -999.0,9,-999.0000, -999.00,-999.000
318M20130321,       P02W,      19,          1,         35,         35,2,20130410,       1617,    30.0006,   137.7591,       3995,    19.3,  19.0757,  34.7245,2,  34.7264,2,    231.3,2,   231.1,2,    1.56,2,    0.01,2,    0.02,2,    0.02,2,-999.000,9,-999.000,9,-999.000,9,-999.0000,9,  1996.4,2, 2277.51,2,   8.0243,6,       25,-999.000,9,-999.0000,9, -999.00,9, -999.00,9,  -999.0,9,  -999.0,-999.000,9,-999.000,     -999.0,9, -999.00,9,   59.67,2,    3.53,2,     -999.0,9,  -999.0,9, 20130410,     1824,  29.9983, 137.7589,    34.8902,2,     -999.0,9,     -999.0,9,     19.077,2,     -999.0,9,     -999.0,9,-999.0000, -999.00,-999.000
318M20130321,       P02W,      19,          1,         34,         34,2,20130410,       1617,    30.0006,   137.7591,       3995,    39.8,  19.0742,  34.7248,2,  34.7243,2,    232.5,2,   230.9,2,    1.56,2,       0,2,       0,2,    0.02,2,-999.000,9,-999.000,9,-999.000,9,-999.0000,9,  1995.7,2, 2277.21,6,   8.0249,2,       25,-999.000,9,-999.0000,9, -999.00,9, -999.00,9,  -999.0,9,  -999.0,-999.000,9,-999.000,     -999.0,9, -999.00,9,    60.5,2,    3.76,2,     -999.0,9,  -999.0,9, 20130410,     1822,  29.9983, 137.7591,     34.888,2,     -999.0,9,     -999.0,9,     19.076,2,     -999.0,9,     -999.0,9,-999.0000, -999.00,-999.000
318M20130321,       P02W,      19,          1,         31,         31,2,20130410,       1617,    30.0006,   137.7591,       3995,    64.8,  19.0677,  34.7249,2,  34.7256,2,    232.8,2,   230.6,2,    1.66,2,       0,2,    0.02,2,    0.02,2,-999.000,9,-999.000,9,-999.000,9,-999.0000,9,  1995.4,2, 2277.91,2,   8.0232,2,       25,-999.000,9,-999.0000,9, -999.00,9,    0.71,2,    59.2,2,     2.2,-999.000,9,-999.000,     -999.0,9, -999.00,9,   58.58,2,    3.62,2,     -999.0,9,  -999.0,9, 20130410,     1819,  29.9984, 137.7593,    34.8894,2,     -999.0,9,     -999.0,9,    19.0666,2,     -999.0,9,     -999.0,9,-999.0000, -999.00,-999.000
318M20130321,       P02W,      19,          1,         32,         32,2,20130410,       1617,    30.0006,   137.7591,       3995,    65.1,  19.0649,  34.7248,2,-999.0000,9,    232.8,2,  -999.0,9, -999.00,9, -999.00,9, -999.00,9, -999.00,9,-999.000,9,-999.000,9,-999.000,9,-999.0000,9,  -999.0,9, -999.00,9,-999.0000,9,  -999.00,-999.000,9,-999.0000,9, -999.00,9, -999.00,9,  -999.0,9,  -999.0,-999.000,9,-999.000,     -999.0,1, -999.00,1, -999.00,9, -999.00,9,     -999.0,9,  -999.0,9, 20130410,     1820,  29.9984, 137.7592,     -999.0,9,     -999.0,1,     -999.0,1,    19.0604,2,     -999.0,9,     -999.0,9,-999.0000, -999.00,-999.000
318M20130321,       P02W,      19,          1,         33,         33,2,20130410,       1617,    30.0006,   137.7591,       3995,    65.7,  19.0581,  34.7245,2,-999.0000,9,    232.8,2,  -999.0,9, -999.00,9, -999.00,9, -999.00,9, -999.00,9,-999.000,9,-999.000,9,-999.000,9,-999.0000,9,  -999.0,9, -999.00,9,-999.0000,9,  -999.00,-999.000,9,-999.0000,9, -999.00,9, -999.00,9,  -999.0,9,  -999.0,-999.000,9,-999.000,     -999.0,9, -999.00,1, -999.00,9, -999.00,9,     -999.0,9,  -999.0,9, 20130410,     1820,  29.9984, 137.7592,     -999.0,9,     -999.0,1,     -999.0,1,    19.0643,2,     -999.0,9,     -999.0,9,-999.0000, -999.00,-999.000
318M20130321,       P02W,      19,          1,         30,         30,2,20130410,       1617,    30.0006,   137.7591,       3995,    90.1,  18.7689,  34.7751,2,  34.7746,2,    224.5,2,     225,2,    1.85,2,    0.72,2,     0.2,2,    0.09,2,-999.000,9,-999.000,9,-999.000,9,-999.0000,9,  -999.0,9, -999.00,9,-999.0000,9,  -999.00,-999.000,9,-999.0000,9, -999.00,9, -999.00,9,  -999.0,9,  -999.0,-999.000,9,-999.000,     -999.0,9, -999.00,9,   55.95,2,    5.35,2,     -999.0,9,  -999.0,9, 20130410,     1818,  29.9984, 137.7593,    34.9386,2,     -999.0,9,     -999.0,9,      18.77,2,     -999.0,9,     -999.0,9,-999.0000, -999.00,-999.000
318M20130321,       P02W,      19,          1,         29,         29,2,20130410,       1617,    30.0006,   137.7591,       3995,     137,  18.2779,  34.7818,2,  34.7805,2,    222.6,2,     222,2,    2.34,2,    1.64,2,    0.03,2,    0.14,2,-999.000,9,-999.000,9,-999.000,9,-999.0000,9,  2011.7,2, 2278.81,2,   7.9977,2,       25,-999.000,9,-999.0000,9, -999.00,9,    0.58,2,    52.8,2,     2.6,-999.000,9,-999.000,     -999.0,9, -999.00,9,   56.41,2,    6.08,2,     -999.0,9,  -999.0,9, 20130410,     1815,  29.9985, 137.7592,    34.9445,2,     -999.0,9,     -999.0,9,    18.2781,2,     -999.0,9,     -999.0,9,-999.0000, -999.00,-999.000
318M20130321,       P02W,      19,          1,         28,         28,2,20130410,       1617,    30.0006,   137.7591,       3995,   186.5,  18.0249,   34.788,2,  34.7874,2,    220.3,2,   227.2,2,    2.15,2,    1.34,2,    0.12,2,    0.13,2,-999.000,9,-999.000,9,-999.000,9,-999.0000,9,  -999.0,9, -999.00,9,-999.0000,9,  -999.00,-999.000,9,-999.0000,9, -999.00,9, -999.00,9,  -999.0,9,  -999.0,-999.000,9,-999.000,     -999.0,9, -999.00,9,    56.9,2,    6.16,2,     -999.0,9,  -999.0,9, 20130410,     1812,  29.9987,  137.759,    34.9514,2,     -999.0,9,     -999.0,9,    18.0255,2,     -999.0,9,     -999.0,9,-999.0000, -999.00,-999.000
318M20130321,       P02W,      19,          1,         27,         27,2,20130410,       1617,    30.0006,   137.7591,       3995,   241.7,  17.7491,  34.7659,2,  34.7659,2,    227.2,2,   226.2,2,    2.44,2,    1.92,2,    0.02,2,    0.16,2,-999.000,9,-999.000,9,-999.000,9,-999.0000,9,  2015.2,2, 2278.71,2,   7.9928,2,       25,-999.000,9,-999.0000,9, -999.00,9,    0.53,2,    62.7,2,     2.6,-999.000,9,-999.000,     -999.0,9, -999.00,9,   55.77,2,    5.78,2,     -999.0,9,  -999.0,9, 20130410,     1809,  29.9988, 137.7587,    34.9299,2,     -999.0,9,     -999.0,9,    17.7498,2,     -999.0,9,     -999.0,9,-999.0000, -999.00,-999.000
318M20130321,       P02W,      19,          1,         26,         26,2,20130410,       1617,    30.0006,   137.7591,       3995,   288.1,  17.5362,  34.7446,2,  34.7441,2,    226.2,2,   225.5,2,    2.73,2,    2.38,2,    0.02,2,    0.18,2,-999.000,9,-999.000,9,-999.000,9,-999.0000,9,  -999.0,9, -999.00,9,-999.0000,9,  -999.00,-999.000,9,-999.0000,9, -999.00,9, -999.00,9,  -999.0,9,  -999.0,-999.000,9,-999.000,     -999.0,9, -999.00,9,   53.66,2,    5.88,2,     -999.0,9,  -999.0,9, 20130410,     1807,  29.9988, 137.7585,     34.908,2,     -999.0,9,     -999.0,9,     17.533,2,     -999.0,9,     -999.0,9,-999.0000, -999.00,-999.000
318M20130321,       P02W,      19,          1,         25,         25,2,20130410,       1617,    30.0006,   137.7591,       3995,   329.5,  17.2788,  34.7224,2,  34.7211,2,    217.4,2,   219.6,2,    3.32,2,    3.34,2,    0.01,2,    0.24,2,-999.000,9,-999.000,9,-999.000,9,-999.0000,9,  2024.8,2, 2274.41,2,   7.9699,2,       25,-999.000,9,-999.0000,9, -999.00,9,    0.45,2,    58.1,2,     2.2,-999.000,9,-999.000,     -999.0,9, -999.00,9,   50.51,2, -999.00,5,     -999.0,9,  -999.0,9, 20130410,     1804,  29.9989, 137.7585,    34.8849,2,     -999.0,9,     -999.0,9,    17.2793,2,     -999.0,9,     -999.0,9,-999.0000, -999.00,-999.000
318M20130321,       P02W,      19,          1,         24,         24,2,20130410,       1617,    30.0006,   137.7591,       3995,   380.4,  16.8699,  34.6947,2,  34.7021,2,      206,2,     208,2,    4.49,2,    4.84,2,    0.02,2,    0.35,2,-999.000,9,-999.000,9,-999.000,9,-999.0000,9,  -999.0,9, -999.00,9,-999.0000,9,  -999.00,-999.000,9,-999.0000,9, -999.00,9, -999.00,9,  -999.0,9,  -999.0,-999.000,9,-999.000,     -999.0,9, -999.00,9,   48.26,2, -999.00,9,     -999.0,9,  -999.0,9, 20130410,     1802,  29.9989,  137.759,    34.8657,2,     -999.0,9,     -999.0,9,    16.8698,2,     -999.0,9,     -999.0,9,-999.0000, -999.00,-999.000
318M20130321,       P02W,      19,          1,         23,         23,2,20130410,       1617,    30.0006,   137.7591,       3995,   438.8,  16.0072,  34.6285,2,  34.6278,2,      198,2,   194.4,2,    7.81,2,    7.73,2,    0.02,2,    0.54,2,-999.000,9,-999.000,9,-999.000,9,-999.0000,9,  2059.2,2, 2274.11,2,   7.9009,6,       25,-999.000,9,-999.0000,9, -999.00,9,    0.37,2,    58.8,2,     2.2,-999.000,9,-999.000,     -999.0,9, -999.00,9, -999.00,5, -999.00,9,     -999.0,9,  -999.0,9, 20130410,     1759,  29.9988, 137.7593,    34.7911,2,     -999.0,9,     -999.0,9,    16.0059,2,     -999.0,9,     -999.0,9,-999.0000, -999.00,-999.000
318M20130321,       P02W,      19,          1,         22,         38,2,20130410,       1617,    30.0006,   137.7591,       3995,   489.5,  14.5279,  34.5258,2,  34.5274,2,    183.7,2,   184.2,2,    12.4,2,   10.87,2,    0.01,2,    0.76,2,-999.000,9,-999.000,9,-999.000,9,-999.0000,9,  -999.0,9, -999.00,9,-999.0000,9,  -999.00,-999.000,9,-999.0000,9, -999.00,9, -999.00,9,  -999.0,9,  -999.0,-999.000,9,-999.000,     -999.0,9, -999.00,9,   44.77,2, -999.00,9,     -999.0,9,  -999.0,9, 20130410,     1756,  29.9988, 137.7593,    34.6902,2,     -999.0,9,     -999.0,9,    14.5388,2,     -999.0,9,     -999.0,9,-999.0000, -999.00,-999.000
318M20130321,       P02W,      19,          1,         21,         21,2,20130410,       1617,    30.0006,   137.7591,       3995,   567.3,  11.6958,  34.3401,2,  34.3406,2,    172.4,2,   180.1,2,   22.26,2,   15.92,2,    0.01,2,    1.12,2,-999.000,9,-999.000,9,-999.000,9,-999.0000,9,  2120.5,2, 2273.41,2,   7.7655,2,       25,-999.000,9,-999.0000,9, -999.00,9,    0.23,2,    25.9,2,     2.2,-999.000,9,-999.000,     -999.0,9, -999.00,9,   45.28,2, -999.00,9,     -999.0,9,  -999.0,9, 20130410,     1753,  29.9988, 137.7593,    34.5025,2,     -999.0,9,     -999.0,9,    11.6992,2,     -999.0,9,     -999.0,9,-999.0000, -999.00,-999.000
318M20130321,       P02W,      19,          1,         20,         20,2,20130410,       1617,    30.0006,   137.7591,       3995,   668.2,    9.191,  34.1631,2,  34.1625,2,      170,2,     171,2,   34.66,2,   20.75,2,    0.01,2,    1.51,2,-999.000,9,-999.000,9,-999.000,9,-999.0000,9,  -999.0,9, -999.00,9,-999.0000,9,  -999.00,-999.000,9,-999.0000,9, -999.00,9,    0.14,2,    -4.0,2,     2.0,-999.000,9,-999.000,     -999.0,9, -999.00,9,   44.63,2, -999.00,9,     -999.0,9,  -999.0,9, 20130410,     1750,  29.9986, 137.7596,    34.3236,2,     -999.0,9,     -999.0,9,     9.1643,3,     -999.0,9,     -999.0,9,-999.0000, -999.00,-999.000
318M20130321,       P02W,      19,          1,         19,         19,2,20130410,       1617,    30.0006,   137.7591,       3995,   770.4,   7.5208,  34.1561,2,  34.1548,2,    135.1,2,   133.1,2,   54.88,2,   27.52,2,       0,2,    1.99,2,-999.000,9,-999.000,9,-999.000,9,-999.0000,9,  2209.4,2, 2294.31,2,   7.5735,2,       25,-999.000,9,-999.0000,9, -999.00,9,   -0.01,2,   -55.0,2,     3.2,-999.000,9,-999.000,     -999.0,9, -999.00,9,   43.03,2, -999.00,9,     -999.0,9,  -999.0,9, 20130410,     1747,  29.9987, 137.7595,    34.3159,2,     -999.0,9,     -999.0,9,     7.5203,2,     -999.0,9,     -999.0,9,-999.0000, -999.00,-999.000
318M20130321,       P02W,      19,          1,         18,         18,2,20130410,       1617,    30.0006,   137.7591,       3995,   868.7,   5.6354,  34.1126,2,  34.1145,2,      102,2,   102.8,2,   75.58,2,   33.53,2,       0,2,    2.44,2,-999.000,9,-999.000,9,-999.000,9,-999.0000,9,  -999.0,9, -999.00,9,-999.0000,9,  -999.00,-999.000,9,-999.0000,9, -999.00,9,   -0.17,2,  -100.8,2,     2.5,-999.000,9,-999.000,     -999.0,9, -999.00,9,   40.29,2, -999.00,9,     -999.0,9,  -999.0,9, 20130410,     1743,  29.9989, 137.7593,    34.2753,2,     -999.0,9,     -999.0,9,     5.6434,2,     -999.0,9,     -999.0,9,-999.0000, -999.00,-999.000
318M20130321,       P02W,      19,          1,         17,         17,2,20130410,       1617,    30.0006,   137.7591,       3995,   969.1,   4.9245,  34.2361,2,   34.236,2,     73.9,2,      76,2,   94.61,2,   36.88,2,       0,2,    2.67,2,-999.000,9,-999.000,9,-999.000,9,-999.0000,9,  2294.5,2, 2328.63,2,   7.4211,2,       25,-999.000,9,-999.0000,9, -999.00,9,   -0.29,2,  -135.4,2,     2.1,-999.000,9,-999.000,     -999.0,9, -999.00,9,    39.1,2, -999.00,9,     -999.0,9,  -999.0,9, 20130410,     1739,   29.999, 137.7592,    34.3975,2,     -999.0,9,     -999.0,9,     4.9254,2,     -999.0,9,     -999.0,9,-999.0000, -999.00,-999.000
318M20130321,       P02W,      19,          1,         16,         16,2,20130410,       1617,    30.0006,   137.7591,       3995,  1066.1,   4.2013,  34.2818,2,  34.2817,2,     61.9,2,      61,2,  109.16,2,    39.2,2,       0,2,    2.83,2,-999.000,9,-999.000,9,-999.000,9,-999.0000,9,  2321.1,2, 2342.73,2,   7.3854,2,       25,-999.000,9,-999.0000,9, -999.00,9,   -0.36,6,  -162.3,6,     4.1,-999.000,9,-999.000,     -999.0,9, -999.00,9,   39.23,2, -999.00,9,     -999.0,9,  -999.0,9, 20130410,     1736,  29.9992, 137.7592,    34.4434,2,     -999.0,9,     -999.0,9,     4.1943,2,     -999.0,9,     -999.0,9,-999.0000, -999.00,-999.000
318M20130321,       P02W,      19,          1,         15,         15,4,20130410,       1617,    30.0006,   137.7591,       3995,  1172.8,   3.6527,  34.3505,2,   34.259,4,     53.9,2,   181.1,4,   26.65,4,   17.32,4,       0,4,    1.27,4,-999.000,9,-999.000,9,-999.000,9,-999.0000,9,  -999.0,9, -999.00,9,-999.0000,9,  -999.00,-999.000,9,-999.0000,9, -999.00,9, -999.00,9,  -999.0,9,  -999.0,-999.000,9,-999.000,     -999.0,9, -999.00,9,   38.47,2, -999.00,9,     -999.0,9,  -999.0,9, 20130410,     1732,  29.9993, 137.7594,    34.4205,4,     -999.0,9,     -999.0,9,     3.6478,2,     -999.0,9,     -999.0,9,-999.0000, -999.00,-999.000
318M20130321,       P02W,      19,          1,         14,         14,2,20130410,       1617,    30.0006,   137.7591,       3995,  1270.5,   3.3096,  34.3883,2,  34.3875,2,     48.8,2,    48.8,2,  130.63,2,   41.52,2,       0,2,    2.97,2,-999.000,9,-999.000,9,-999.000,9,-999.0000,9,  2351.5,2, 2366.84,2,   7.3639,2,       25,-999.000,9,-999.0000,9, -999.00,9,   -0.38,2,  -199.1,2,     2.0,-999.000,9,-999.000,     -999.0,9, -999.00,9,   39.78,2, -999.00,9,     -999.0,9,  -999.0,9, 20130410,     1729,  29.9992, 137.7596,    34.5496,2,     -999.0,9,     -999.0,9,     3.3087,2,     -999.0,9,     -999.0,9,-999.0000, -999.00,-999.000
318M20130321,       P02W,      19,          1,         13,         13,2,20130410,       1617,    30.0006,   137.7591,       3995,  1375.5,   3.0064,  34.4364,2,  34.4358,2,     50.8,2,    50.7,2,  137.85,2,   41.55,2,       0,2,    2.99,2,-999.000,9,-999.000,9,-999.000,9,-999.0000,9,  2359.7,2, 2376.04,2,   7.3697,6,       25,-999.000,9,-999.0000,9, -999.00,9,   -0.40,2,  -208.9,2,     2.1,-999.000,9,-999.000,     -999.0,9, -999.00,9,   37.73,2, -999.00,9,     -999.0,9,  -999.0,9, 20130410,     1725,  29.9995, 137.7596,    34.5981,2,     -999.0,9,     -999.0,9,     3.0068,2,     -999.0,9,     -999.0,9,-999.0000, -999.00,-999.000
318M20130321,       P02W,      19,          1,         12,         12,2,20130410,       1617,    30.0006,   137.7591,       3995,  1476.9,   2.7642,  34.4765,2,  34.4772,2,     57.8,2,    58.1,2,  143.11,2,   41.25,2,       0,2,    2.97,2,-999.000,9,-999.000,9,-999.000,9,-999.0000,9,  2360.8,2, 2385.65,2,   7.3868,2,       25,-999.000,9,-999.0000,9, -999.00,9,   -0.34,2,  -218.2,2,     1.8,-999.000,9,-999.000,     -999.0,9, -999.00,9,   39.45,2, -999.00,9,     -999.0,9,  -999.0,9, 20130410,     1722,  29.9997, 137.7594,    34.6398,2,     -999.0,9,     -999.0,9,     2.7713,2,     -999.0,9,     -999.0,9,-999.0000, -999.00,-999.000
318M20130321,       P02W,      19,          1,         11,         11,2,20130410,       1617,    30.0006,   137.7591,       3995,  1579.4,   2.5906,  34.5028,2,  34.5086,2,     62.7,2,    61.6,2,  146.33,2,   41.05,2,       0,2,    2.95,2,-999.000,9,-999.000,9,-999.000,9,-999.0000,9,  2362.2,2, 2391.55,2,    7.395,2,       25,-999.000,9,-999.0000,9, -999.00,9, -999.00,9,  -999.0,9,  -999.0,-999.000,9,-999.000,     -999.0,9, -999.00,9,   38.23,2, -999.00,9,     -999.0,9,  -999.0,9, 20130410,     1718,  29.9998, 137.7591,    34.6713,2,     -999.0,9,     -999.0,9,     2.5902,2,     -999.0,9,     -999.0,9,-999.0000, -999.00,-999.000
318M20130321,       P02W,      19,          1,         10,         10,2,20130410,       1617,    30.0006,   137.7591,       3995,  1746.2,   2.3324,  34.5416,2,  34.5416,2,     69.6,2,    70.3,2,  150.92,2,   40.75,2,       0,2,    2.92,2,-999.000,9,-999.000,9,-999.000,9,-999.0000,9,  -999.0,9, -999.00,9,-999.0000,9,  -999.00,-999.000,9,-999.0000,9, -999.00,9, -999.00,9,  -999.0,9,  -999.0,-999.000,9,-999.000,     -999.0,9, -999.00,9,   37.53,2, -999.00,9,     -999.0,9,  -999.0,9, 20130410,     1713,  29.9998, 137.7587,    34.7045,2,     -999.0,9,     -999.0,9,     2.3322,2,     -999.0,9,     -999.0,9,-999.0000, -999.00,-999.000
318M20130321,       P02W,      19,          1,          9,          9,2,20130410,       1617,    30.0006,   137.7591,       3995,    1952,   2.1078,  34.5826,2,  34.5821,2,     92.7,2,    92.2,2,  148.76,2,   39.38,2,       0,2,     2.8,2,-999.000,9,-999.000,9,-999.000,9,-999.0000,9,  2351.2,2, 2402.65,2,   7.4594,2,       25,-999.000,9,-999.0000,9, -999.00,9, -999.00,9,  -999.0,9,  -999.0,-999.000,9,-999.000,     -999.0,9, -999.00,9,   35.29,2, -999.00,9,     -999.0,9,  -999.0,9, 20130410,     1708,  29.9998, 137.7593,    34.7451,2,     -999.0,9,     -999.0,9,     2.1081,2,     -999.0,9,     -999.0,9,-999.0000, -999.00,-999.000
318M20130321,       P02W,      19,          1,          8,          8,2,20130410,       1617,    30.0006,   137.7591,       3995,  2187.2,   1.9155,  34.6123,2,  34.6131,2,    106.2,2,   107.1,2,  148.96,2,   38.52,2,       0,2,    2.74,2,-999.000,9,-999.000,9,-999.000,9,-999.0000,9,  -999.0,9, -999.00,9,-999.0000,9,  -999.00,-999.000,9,-999.0000,9, -999.00,9, -999.00,9,  -999.0,9,  -999.0,-999.000,9,-999.000,     -999.0,9, -999.00,9,   35.81,2, -999.00,9,     -999.0,9,  -999.0,9, 20130410,     1702,  29.9997, 137.7594,    34.7763,2,     -999.0,9,     -999.0,9,     1.9156,2,     -999.0,9,     -999.0,9,-999.0000, -999.00,-999.000