BOTTLE,20220817CCHSIOAMB
EXPOCODE,SECT_ID,STNNBR,CASTNO,SAMPNO,BTLNBR,BTLNBR_FLAG_W,DATE,TIME,LATITUDE,LONGITUDE,DEPTH,CTDPRS,CTDTMP,CTDSAL,CTDSAL_FLAG_W,SALNTY,SALNTY_FLAG_W,CTDOXY,CTDOXY_FLAG_W,OXYGEN,OXYGEN_FLAG_W,SILCAT,SILCAT_FLAG_W,NITRAT,NITRAT_FLAG_W,NITRIT,NITRIT_FLAG_W,PHSPHT,PHSPHT_FLAG_W,CFC-11,CFC-11_FLAG_W,CFC-12,CFC-12_FLAG_W,CFC113,CFC113_FLAG_W,SF6,SF6_FLAG_W,TCARBN,TCARBN_FLAG_W,ALKALI,ALKALI_FLAG_W,PH_TOT,PH_TOT_FLAG_W,PH_TMP,TRITUM,TRITUM_FLAG_W,HELIUM,HELIUM_FLAG_W,DELHE3,DELHE3_FLAG_W,DELC13,DELC13_FLAG_W,DELC14,DELC14_FLAG_W,C14ERR,NEON,NEON_FLAG_W,NEONER,I-129,I-129_FLAG_W,SR-90,SR-90_FLAG_W,DOC,DOC_FLAG_W,TDN,TDN_FLAG_W,CALCIUM,CALCIUM_FLAG_W,D15N_NO3,D15N_NO3_FLAG_W,BTL_DATE,BTL_TIME,BTL_LAT,BTL_LON,SALTREF,SALTREF_FLAG_W,CS-137,CS-137_FLAG_W,CS-134,CS-134_FLAG_W,REFTMP,REFTMP_FLAG_W,LAB_DEN,LAB_DEN_FLAG_W,D18O_NO3,D18O_NO3_FLAG_W,HELIER,DELHER,TRITER
,,,,,,,,,,,METERS,DBAR,ITS-90,PSS-78,,PSS-78,,UMOL/KG,,UMOL/KG,,UMOL/KG,,UMOL/KG,,UMOL/KG,,UMOL/KG,,PMOL/KG,,PMOL/KG,,PMOL/KG,,FMOL/KG,,UMOL/KG,,UMOL/KG,,,,DEG C,TU,,NMOL/KG,,PERCNT,,/MILLE,,/MILLE,,/MILLE,NMOL/KG,,NMOL/KG,BQ/M^3,,DM/.1MG,,UMOL/KG,,UMOL/KG,,MMOL/KG,,/MILLE,,,,,,G/KG,,BQ/M^3,,BQ/M^3,,ITS-90,,,,/MILLE,,NMOL/KG,PERCNT,TU
318M20130321,       P02E,     149,          1,         36,         36,2,20130530,       2214,    32.0002,  -119.7702,       3160,      10,  13.9735,  33.6584,2,   33.658,2,    213.5,4,   266.2,2,    1.95,2,    4.39,2,    0.16,2,    0.51,2,   2.760,2,   1.618,2,-999.000,1,   1.6475,2,  2048.4,6,    2245,2,   7.8682,2,       25,-999.000,9,-999.0000,9, -999.00,9, -999.00,5,  -999.0,5,  -999.0,-999.000,9,-999.000,     -999.0,9, -999.00,9,   64.28,2,     8.8,2,     -999.0,9,  -999.0,9, 20130530,     2344,  32.0002,-119.7702,    33.8167,2,     -999.0,9,     -999.0,9,    13.9743,2,     -999.0,9,     -999.0,9,-999.0000, -999.00,-999.000
318M20130321,       P02E,     149,          1,         34,         34,2,20130530,       2214,    32.0002,  -119.7702,       3160,      24,  13.7468,  33.6307,2,  33.6316,2,    265.3,2,   260.5,2,    1.76,2,    5.18,2,    0.17,2,    0.55,2,   2.789,2,   1.630,2,-999.000,1,   1.7245,2,  2053.3,2,  2242.6,2,   7.8526,6,       25,-999.000,9,-999.0000,9, -999.00,9, -999.00,9,  -999.0,9,  -999.0,-999.000,9,-999.000,     -999.0,9, -999.00,9,   67.12,2,   10.26,2,     -999.0,9,  -999.0,9, 20130530,     2342,  32.0002,-119.7702,    33.7902,2,     -999.0,9,     -999.0,9,    13.7403,2,     -999.0,9,     -999.0,9,-999.0000, -999.00,-999.000
318M20130321,       P02E,     149,          1,         33,         33,2,20130530,       2214,    32.0002,  -119.7702,       3160,    48.8,  13.4573,  33.6326,2,  33.6353,2,    256.3,2,   253.9,2,    2.05,2,     5.8,2,    0.17,2,    0.55,2,   2.797,2,   1.617,2,-999.000,1,   1.5989,2,  -999.0,9, -999.00,9,-999.0000,9,  -999.00,-999.000,9,-999.0000,9, -999.00,9, -999.00,9,  -999.0,9,  -999.0,-999.000,9,-999.000,     -999.0,9, -999.00,9,   68.93,2,   11.08,2,     -999.0,9,  -999.0,9, 20130530,     2340,  32.0002,-119.7702,    33.7939,2,     -999.0,9,     -999.0,9,    13.3748,3,     -999.0,9,     -999.0,9,-999.0000, -999.00,-999.000
318M20130321,       P02E,     149,          1,         32,         32,2,20130530,       2214,    32.0002,  -119.7702,       3160,    74.9,  11.7189,  33.5712,2,  33.5745,2,    212.6,2,   212.6,3,   10.35,2,   11.71,2,    0.18,2,    1.13,2,   2.986,2,   1.718,2,-999.000,1,   1.6306,2,  2100.7,2, 2234.19,6,   7.7203,2,       25,-999.000,9,-999.0000,9, -999.00,9,    0.38,2,    14.3,2,     2.7,-999.000,9,-999.000,     -999.0,9, -999.00,9,   59.78,2,   16.83,2,     -999.0,9,  -999.0,9, 20130530,     2338,  32.0002,-119.7702,    33.7328,2,     -999.0,9,     -999.0,9,    11.6186,3,     -999.0,9,     -999.0,9,-999.0000, -999.00,-999.000
318M20130321,       P02E,     149,          1,         31,         31,2,20130530,       2214,    32.0002,  -119.7702,       3160,   100.8,  10.1792,  33.6334,2,  33.6248,2,    164.3,2,   168.6,2,   18.56,2,      19,2,    0.05,2,    1.52,2,   3.090,2,   1.742,2,-999.000,1,   1.4518,2,  2139.2,2, 2232.29,2,   7.6065,2,       25,-999.000,9,-999.0000,9, -999.00,9,    0.06,2,     8.2,2,     3.2,-999.000,9,-999.000,     -999.0,9, -999.00,9,   57.21,2,   22.96,2,     -999.0,9,  -999.0,9, 20130530,     2336,  32.0001,-119.7702,    33.7833,2,     -999.0,9,     -999.0,9,    10.1858,2,     -999.0,9,     -999.0,9,-999.0000, -999.00,-999.000
318M20130321,       P02E,     149,          1,         30,         30,2,20130530,       2214,    32.0002,  -119.7702,       3160,   124.2,   9.5115,  33.8254,2,  33.8261,2,    126.1,2,   124.6,2,   27.15,2,   24.51,2,    0.02,2,    1.89,2,   2.891,2,   1.607,2,-999.000,1,   1.1684,2,  -999.0,9,  2245.1,2,-999.0000,9,  -999.00,-999.000,9,-999.0000,9, -999.00,9,   -0.21,2,    -1.7,2,     3.0,-999.000,9,-999.000,     -999.0,9, -999.00,9,   52.78,2,   29.01,2,     -999.0,9,  -999.0,9, 20130530,     2334,  32.0002,-119.7703,    33.9856,2,     -999.0,9,     -999.0,9,     9.5081,2,     -999.0,9,     -999.0,9,-999.0000, -999.00,-999.000
318M20130321,       P02E,     149,          1,         29,         29,2,20130530,       2214,    32.0002,  -119.7702,       3160,   151.1,   8.8985,  33.9019,2,  33.9064,2,    120.2,2,   123.6,2,   29.69,2,   25.82,2,    0.03,2,    1.94,2,   2.955,2,   1.612,2,-999.000,1,   1.0255,2,  2189.3,2,  2250.4,2,    7.511,2,       25,-999.000,9,-999.0000,9, -999.00,9,   -0.23,2,     2.3,2,     2.9,-999.000,9,-999.000,     -999.0,9, -999.00,9,   45.52,2,   30.39,2,     -999.0,9,  -999.0,9, 20130530,     2333,  32.0002,-119.7702,    34.0663,2,     -999.0,9,     -999.0,9,     8.8954,2,     -999.0,9,     -999.0,9,-999.0000, -999.00,-999.000
318M20130321,       P02E,     149,          1,         27,         27,2,20130530,       2214,    32.0002,  -119.7702,       3160,   201.3,   8.1287,  34.0491,2,  34.0501,2,     91.4,2,      88,2,   40.14,2,   30.17,2,    0.02,2,    2.27,2,    -999,5,    -999,5,-999.000,1,     -999,5,  2226.6,2,  2265.6,2,   7.4385,2,       25,-999.000,9,-999.0000,9, -999.00,9,   -0.42,2,   -21.8,2,     2.4,-999.000,9,-999.000,     -999.0,9, -999.00,9,   44.48,2,   35.25,3,     -999.0,9,  -999.0,9, 20130530,     2331,  32.0002,-119.7703,    34.2107,2,     -999.0,9,     -999.0,9,     8.1294,2,     -999.0,9,     -999.0,9,-999.0000, -999.00,-999.000
318M20130321,       P02E,     149,          1,         26,         26,2,20130530,       2214,    32.0002,  -119.7702,       3160,   251.2,   7.8907,  34.1194,2,  34.1191,2,       65,2,    66.3,2,   46.09,2,   32.12,2,    0.01,2,    2.46,2,   2.004,2,   1.037,2,-999.000,1,    0.489,2,  2247.4,2, 2274.21,2,   7.3985,6,       25,-999.000,9,-999.0000,9, -999.00,9,   -0.44,2,   -47.0,2,     2.3,-999.000,9,-999.000,     -999.0,9, -999.00,9,   46.78,2,   37.36,3,     -999.0,9,  -999.0,9, 20130530,     2329,  32.0002,-119.7702,      34.28,2,     -999.0,9,     -999.0,9,     7.8917,2,     -999.0,9,     -999.0,9,-999.0000, -999.00,-999.000
318M20130321,       P02E,     149,          1,         25,         25,2,20130530,       2214,    32.0002,  -119.7702,       3160,   302.4,   7.4751,  34.1946,2,  34.1936,2,     43.1,2,      43,2,   54.09,2,   34.32,2,       0,2,    2.68,2,   1.375,2,   0.691,2,-999.000,1,   0.2852,2,  -999.0,9, -999.00,9,-999.0000,9,  -999.00,-999.000,9,-999.0000,9, -999.00,9,   -0.46,2,   -63.5,2,     2.4,-999.000,9,-999.000,     -999.0,9, -999.00,9,   42.48,2,   39.18,3,     -999.0,9,  -999.0,9, 20130530,     2327,  32.0002,-119.7702,    34.3549,2,     -999.0,9,     -999.0,9,     7.4761,2,     -999.0,9,     -999.0,9,-999.0000, -999.00,-999.000
318M20130321,       P02E,     149,          1,         24,         24,2,20130530,       2214,    32.0002,  -119.7702,       3160,   353.7,   7.1068,  34.2354,2,  34.2346,2,     31.1,2,    31.3,2,   60.44,2,   35.76,2,       0,2,    2.82,2,   0.944,2,   0.471,2,-999.000,1,   0.1216,2,    2289,2, 2295.42,2,   7.3384,2,       25,-999.000,9,-999.0000,9, -999.00,9,   -0.44,2,   -88.1,2,     3.2,-999.000,9,-999.000,     -999.0,9, -999.00,9,   42.31,2, -999.00,9,     -999.0,9,  -999.0,9, 20130530,     2325,  32.0002,-119.7702,     34.396,2,     -999.0,9,     -999.0,9,     7.1024,2,     -999.0,9,     -999.0,9,-999.0000, -999.00,-999.000
318M20130321,       P02E,     149,          1,         23,         23,2,20130530,       2214,    32.0002,  -119.7702,       3160,   402.8,   6.8028,  34.2628,2,  34.2623,2,     23.4,2,    23.3,2,   65.42,2,   36.84,2,       0,2,    2.92,2,   0.676,6,   0.337,6,-999.000,1,   0.0889,6,  -999.0,9, -999.00,9,-999.0000,9,  -999.00,-999.000,9,-999.0000,9, -999.00,9,   -0.43,2,   -97.3,2,     2.4,-999.000,9,-999.000,     -999.0,9, -999.00,9, -999.00,5, -999.00,9,     -999.0,9,  -999.0,9, 20130530,     2323,  32.0002,-119.7702,    34.4238,2,     -999.0,9,     -999.0,9,     6.8038,2,     -999.0,9,     -999.0,9,-999.0000, -999.00,-999.000
318M20130321,       P02E,     149,          1,         22,         22,2,20130530,       2214,    32.0002,  -119.7702,       3160,   453.2,   6.4931,  34.2961,2,  34.2974,2,       18,2,    16.8,2,   71.57,2,   38.02,2,       0,2,    3.01,2,   0.429,2,   0.222,2,-999.000,1,   0.0735,2,  2310.5,2, 2309.22,2,   7.3186,2,       25,-999.000,9,-999.0000,9, -999.00,9,   -0.40,2,  -115.7,2,     2.4,-999.000,9,-999.000,     -999.0,9, -999.00,9,   40.75,2, -999.00,9,     -999.0,9,  -999.0,9, 20130530,     2321,  32.0002,-119.7702,    34.4591,2,     -999.0,9,     -999.0,9,     6.4837,2,     -999.0,9,     -999.0,9,-999.0000, -999.00,-999.000
318M20130321,       P02E,     149,          1,         21,         21,2,20130530,       2214,    32.0002,  -119.7702,       3160,   503.5,   6.1882,  34.3203,2,  34.3203,2,     14.5,2,    13.6,2,   76.64,2,   38.89,2,       0,2,    3.08,2,   0.300,2,   0.159,2,-999.000,1,   0.0473,2,  2317.9,2, 2317.52,2,   7.3125,2,       25,-999.000,9,-999.0000,9, -999.00,9,   -0.43,2,  -126.1,2,     2.3,-999.000,9,-999.000,     -999.0,9, -999.00,9,   40.22,2, -999.00,9,     -999.0,9,  -999.0,9, 20130530,     2319,  32.0002,-119.7702,    34.4822,2,     -999.0,9,     -999.0,9,     6.1911,2,     -999.0,9,     -999.0,9,-999.0000, -999.00,-999.000
318M20130321,       P02E,     149,          1,         20,         20,2,20130530,       2214,    32.0002,  -119.7702,       3160,   603.7,   5.6838,  34.3561,2,  34.3558,2,     11.3,2,    11.5,2,   85.23,2,   40.28,2,       0,2,    3.14,2,   0.149,2,   0.086,2,-999.000,1,   0.0573,2,  2329.9,2, 2328.23,2,   7.3117,2,       25,-999.000,9,-999.0000,9, -999.00,9,   -0.44,2,  -144.6,2,     2.4,-999.000,9,-999.000,     -999.0,9, -999.00,9,   39.92,2, -999.00,9,     -999.0,9,  -999.0,9, 20130530,     2317,  32.0002,-119.7702,    34.5178,2,     -999.0,9,     -999.0,9,     5.6861,2,     -999.0,9,     -999.0,9,-999.0000, -999.00,-999.000
318M20130321,       P02E,     149,          1,         19,         19,2,20130530,       2214,    32.0002,  -119.7702,       3160,   704.9,   5.1097,   34.401,2,   34.401,2,     11.3,2,    11.1,2,   97.33,2,    41.4,2,       0,2,     3.2,2,   0.090,2,   0.066,2,-999.000,1,   0.1218,2,  2343.2,2, 2343.73,2,   7.3137,2,       25,-999.000,9,-999.0000,9, -999.00,9,   -0.42,6,  -169.0,6,     2.0,-999.000,9,-999.000,     -999.0,9, -999.00,9,   41.22,2, -999.00,9,     -999.0,9,  -999.0,9, 20130530,     2314,  32.0002,-119.7702,    34.5632,2,     -999.0,9,     -999.0,9,     5.1119,2,     -999.0,9,     -999.0,9,-999.0000, -999.00,-999.000
318M20130321,       P02E,     149,          1,         18,         18,2,20130530,       2214,    32.0002,  -119.7702,       3160,     808,   4.6489,  34.4326,2,  34.4324,2,       15,2,    14.7,2,  104.65,2,   42.57,2,       0,2,    3.21,2,   0.038,2,   0.031,2,-999.000,1,   0.1115,2,  -999.0,9, -999.00,9,-999.0000,9,  -999.00,-999.000,9,-999.0000,9, -999.00,9,   -0.44,2,  -184.0,2,     2.0,-999.000,9,-999.000,     -999.0,9, -999.00,9,    38.5,2, -999.00,9,     -999.0,9,  -999.0,9, 20130530,     2311,  32.0002,-119.7702,    34.5947,2,     -999.0,9,     -999.0,9,     4.6501,2,     -999.0,9,     -999.0,9,-999.0000, -999.00,-999.000
318M20130321,       P02E,     149,          1,         17,         17,2,20130530,       2214,    32.0002,  -119.7702,       3160,     907,   4.3034,  34.4588,2,  34.4589,2,     18.8,2,    18.5,2,  111.78,2,   42.92,2,       0,2,    3.21,2,   0.034,2,   0.028,2,-999.000,1,   0.0864,2,    2356,2, 2361.54,2,   7.3282,6,       25,-999.000,9,-999.0000,9, -999.00,9,   -0.44,2,  -196.5,2,     2.0,-999.000,9,-999.000,     -999.0,9, -999.00,9,   37.79,2, -999.00,9,     -999.0,9,  -999.0,9, 20130530,     2309,  32.0002,-119.7702,    34.6214,2,     -999.0,9,     -999.0,9,     4.3053,2,     -999.0,9,     -999.0,9,-999.0000, -999.00,-999.000
318M20130321,       P02E,     149,          1,         16,         16,2,20130530,       2214,    32.0002,  -119.7702,       3160,  1008.9,   3.9703,  34.4844,2,  34.4846,2,     24.1,2,    24.9,2,   118.8,2,   43.15,2,       0,2,    3.19,2,   0.028,2,   0.025,2,-999.000,1,   0.0788,2,  -999.0,9, -999.00,9,-999.0000,9,  -999.00,-999.000,9,-999.0000,9, -999.00,9,   -0.41,2,  -209.5,2,     2.1,-999.000,9,-999.000,     -999.0,9, -999.00,9,   39.93,2, -999.00,9,     -999.0,9,  -999.0,9, 20130530,     2306,  32.0002,-119.7702,    34.6472,2,     -999.0,9,     -999.0,9,     3.9706,2,     -999.0,9,     -999.0,9,-999.0000, -999.00,-999.000
318M20130321,       P02E,     149,          1,         15,         15,2,20130530,       2214,    32.0002,  -119.7702,       3160,  1108.9,   3.6833,  34.5088,2,  34.5091,2,     28.3,2,    29.6,2,  125.83,2,   43.05,2,       0,2,    3.18,2,   0.038,2,   0.035,2,-999.000,1,   0.0837,2,  -999.0,9, -999.00,9,-999.0000,9,  -999.00,-999.000,9,-999.0000,9, -999.00,9,   -0.39,2,  -214.6,2,     2.1,-999.000,9,-999.000,     -999.0,9, -999.00,9,    38.4,2, -999.00,9,     -999.0,9,  -999.0,9, 20130530,     2303,  32.0002,-119.7702,    34.6719,2,     -999.0,9,     -999.0,9,     3.6839,2,     -999.0,9,     -999.0,9,-999.0000, -999.00,-999.000
318M20130321,       P02E,     149,          1,         14,         14,2,20130530,       2214,    32.0002,  -119.7702,       3160,  1211.1,    3.398,  34.5295,2,  34.5296,2,     35.4,2,    35.7,2,  132.86,2,   42.86,2,       0,2,    3.15,2,   0.039,2,   0.037,2,-999.000,1,   0.0934,2,  2370.1,2, 2387.15,2,   7.3607,2,       25,-999.000,9,-999.0000,9, -999.00,9,   -0.40,2,  -224.1,2,     1.9,-999.000,9,-999.000,     -999.0,9, -999.00,9,   38.26,2, -999.00,9,     -999.0,9,  -999.0,9, 20130530,     2300,  32.0002,-119.7702,    34.6924,2,     -999.0,9,     -999.0,9,     3.3986,2,     -999.0,9,     -999.0,9,-999.0000, -999.00,-999.000
318M20130321,       P02E,     149,          1,         13,         13,2,20130530,       2214,    32.0002,  -119.7702,       3160,  1309.7,   3.2257,  34.5405,2,  34.5408,2,     38.9,2,      39,2,  135.98,2,   42.84,2,       0,2,    3.14,2,   0.023,2,   0.018,2,-999.000,1,   0.0741,2,  -999.0,9, -999.00,9,-999.0000,9,  -999.00,-999.000,9,-999.0000,9, -999.00,9,   -0.36,2,  -228.6,2,     2.4,-999.000,9,-999.000,     -999.0,9, -999.00,9,   38.35,2, -999.00,9,     -999.0,9,  -999.0,9, 20130530,     2257,  32.0002,-119.7702,    34.7036,2,     -999.0,9,     -999.0,9,      3.228,2,     -999.0,9,     -999.0,9,-999.0000, -999.00,-999.000
318M20130321,       P02E,     149,          1,         12,         12,2,20130530,       2214,    32.0002,  -119.7702,       3160,  1413.9,    3.064,  34.5531,2,  34.5543,2,     45.2,2,    44.5,2,  140.57,2,   42.62,2,       0,2,    3.11,2,   0.024,2,   0.021,2,-999.000,1,   0.0426,2,  2370.8,2, 2394.65,2,   7.3773,2,       25,-999.000,9,-999.0000,9, -999.00,9,   -0.35,2,  -227.5,2,     1.9,-999.000,9,-999.000,     -999.0,9, -999.00,9,   39.19,2, -999.00,9,     -999.0,9,  -999.0,9, 20130530,     2255,  32.0002,-119.7702,    34.7172,2,     -999.0,9,     -999.0,9,     3.0628,2,     -999.0,9,     -999.0,9,-999.0000, -999.00,-999.000
318M20130321,       P02E,     149,          1,         11,         11,2,20130530,       2214,    32.0002,  -119.7702,       3160,  1515.2,   2.8433,  34.5687,2,  34.5692,2,     50.4,2,    50.6,2,  145.93,2,   42.35,2,       0,2,    3.08,2,   0.023,2,   0.022,2,-999.000,1,   0.0242,2,  -999.0,9, -999.00,9,-999.0000,9,  -999.00,-999.000,9,-999.0000,9, -999.00,9,   -0.30,2,  -235.4,2,     2.0,-999.000,9,-999.000,     -999.0,9, -999.00,9,   38.49,2, -999.00,9,     -999.0,9,  -999.0,9, 20130530,     2252,  32.0002,-119.7702,    34.7322,2,     -999.0,9,     -999.0,9,     2.8429,2,     -999.0,9,     -999.0,9,-999.0000, -999.00,-999.000
318M20130321,       P02E,     149,          1,         10,         10,2,20130530,       2214,    32.0002,  -119.7702,       3160,  1616.7,   2.7239,  34.5782,2,  34.5783,2,     55.2,2,    54.4,2,  148.67,2,   42.08,2,       0,2,    3.07,2,   0.018,2,   0.018,2,-999.000,1,   0.0345,2,  2372.4,2, 2403.55,2,   7.3965,2,       25,-999.000,9,-999.0000,9, -999.00,9,   -0.33,2,  -235.2,2,     3.0,-999.000,9,-999.000,     -999.0,9, -999.00,9,   38.38,2, -999.00,9,     -999.0,9,  -999.0,9, 20130530,     2249,  32.0002,-119.7702,    34.7413,2,     -999.0,9,     -999.0,9,     2.7248,2,     -999.0,9,     -999.0,9,-999.0000, -999.00,-999.000
318M20130321,       P02E,     149,          1,          9,          9,2,20130530,       2214,    32.0002,  -119.7702,       3160,  1718.4,   2.5076,  34.5924,2,  34.5934,2,     61.8,2,    61.5,2,  153.55,2,   41.77,2,       0,2,    3.02,2,   0.011,2,   0.010,2,-999.000,1,   0.0089,2,  -999.0,9, -999.00,9,-999.0000,9,  -999.00,-999.000,9,-999.0000,9, -999.00,9,   -0.31,2,  -241.4,2,     2.0,-999.000,9,-999.000,     -999.0,9, -999.00,9,   37.59,2, -999.00,9,     -999.0,9,  -999.0,9, 20130530,     2246,  32.0002,-119.7702,    34.7565,2,     -999.0,9,     -999.0,9,     2.5089,2,     -999.0,9,     -999.0,9,-999.0000, -999.00,-999.000
318M20130321,       P02E,     149,          1,          8,          8,2,20130530,       2214,    32.0002,  -119.7702,       3160,  1819.1,   2.3536,  34.6038,2,  34.6036,2,     68.5,2,    68.6,2,  157.35,2,   41.37,2,       0,2,    2.97,2,   0.012,2,   0.010,2,-999.000,1,   0.0448,2,  2373.4,2, 2413.66,2,   7.4249,2,       25,-999.000,9,-999.0000,9, -999.00,9,   -0.30,2,  -243.5,2,     2.0,-999.000,9,-999.000,     -999.0,9, -999.00,9,   36.28,2, -999.00,9,     -999.0,9,  -999.0,9, 20130530,     2243,  32.0002,-119.7702,    34.7668,2,     -999.0,9,     -999.0,9,     2.3537,2,     -999.0,9,     -999.0,9,-999.0000, -999.00,-999.000
318M20130321,       P02E,     149,          1,          7,          7,2,20130530,       2214,    32.0002,  -119.7702,       3160,  2022.7,   2.0951,  34.6224,2,  34.6221,2,     80.2,2,      80,2,  162.52,2,    40.7,2,       0,2,     2.9,2,   0.006,2,   0.006,2,-999.000,1,   0.0595,2,  -999.0,9, -999.00,9,-999.0000,9,  -999.00,-999.000,9,-999.0000,9, -999.00,9,   -0.23,2,  -249.3,2,     2.0,-999.000,9,-999.000,     -999.0,9, -999.00,9,   36.29,2, -999.00,9,     -999.0,9,  -999.0,9, 20130530,     2239,  32.0002,-119.7702,    34.7853,2,     -999.0,9,     -999.0,9,     2.0951,2,     -999.0,9,     -999.0,9,-999.0000, -999.00,-999.000
318M20130321,       P02E,     149,          1,          6,          6,2,20130530,       2214,    32.0002,  -119.7702,       3160,  2226.2,   1.9591,  34.6367,2,  34.6378,2,     91.6,2,    90.7,2,  164.28,2,   40.03,2,       0,2,    2.85,2,   0.006,2,   0.006,2,-999.000,1,    0.022,2,  2366.2,2, 2421.96,2,   7.4685,2,       25,-999.000,9,-999.0000,9, -999.00,9,   -0.20,2,  -252.6,2,     1.8,-999.000,9,-999.000,     -999.0,9, -999.00,9,   37.45,2, -999.00,9,     -999.0,9,  -999.0,9, 20130530,     2234,  32.0002,-119.7702,    34.8011,2,     -999.0,9,     -999.0,9,     1.9591,2,     -999.0,9,     -999.0,9,-999.0000, -999.00,-999.000