BOTTLE,20220817CCHSIOAMB
EXPOCODE,SECT_ID,STNNBR,CASTNO,SAMPNO,BTLNBR,BTLNBR_FLAG_W,DATE,TIME,LATITUDE,LONGITUDE,DEPTH,CTDPRS,CTDTMP,CTDSAL,CTDSAL_FLAG_W,SALNTY,SALNTY_FLAG_W,CTDOXY,CTDOXY_FLAG_W,OXYGEN,OXYGEN_FLAG_W,SILCAT,SILCAT_FLAG_W,NITRAT,NITRAT_FLAG_W,NITRIT,NITRIT_FLAG_W,PHSPHT,PHSPHT_FLAG_W,CFC-11,CFC-11_FLAG_W,CFC-12,CFC-12_FLAG_W,CFC113,CFC113_FLAG_W,SF6,SF6_FLAG_W,TCARBN,TCARBN_FLAG_W,ALKALI,ALKALI_FLAG_W,PH_TOT,PH_TOT_FLAG_W,PH_TMP,TRITUM,TRITUM_FLAG_W,HELIUM,HELIUM_FLAG_W,DELHE3,DELHE3_FLAG_W,DELC13,DELC13_FLAG_W,DELC14,DELC14_FLAG_W,C14ERR,NEON,NEON_FLAG_W,NEONER,I-129,I-129_FLAG_W,SR-90,SR-90_FLAG_W,DOC,DOC_FLAG_W,TDN,TDN_FLAG_W,CALCIUM,CALCIUM_FLAG_W,D15N_NO3,D15N_NO3_FLAG_W,BTL_DATE,BTL_TIME,BTL_LAT,BTL_LON,SALTREF,SALTREF_FLAG_W,CS-137,CS-137_FLAG_W,CS-134,CS-134_FLAG_W,REFTMP,REFTMP_FLAG_W,LAB_DEN,LAB_DEN_FLAG_W,D18O_NO3,D18O_NO3_FLAG_W,HELIER,DELHER,TRITER
,,,,,,,,,,,METERS,DBAR,ITS-90,PSS-78,,PSS-78,,UMOL/KG,,UMOL/KG,,UMOL/KG,,UMOL/KG,,UMOL/KG,,UMOL/KG,,PMOL/KG,,PMOL/KG,,PMOL/KG,,FMOL/KG,,UMOL/KG,,UMOL/KG,,,,DEG C,TU,,NMOL/KG,,PERCNT,,/MILLE,,/MILLE,,/MILLE,NMOL/KG,,NMOL/KG,BQ/M^3,,DM/.1MG,,UMOL/KG,,UMOL/KG,,MMOL/KG,,/MILLE,,,,,,G/KG,,BQ/M^3,,BQ/M^3,,ITS-90,,,,/MILLE,,NMOL/KG,PERCNT,TU
318M20130321,       P02E,      88,          1,         36,         36,2,20130511,       1627,    29.9999,   -167.453,       5497,     4.5,  19.1736,  34.9293,2,  34.9296,2,    232.8,2,   232.6,2,    2.93,2,       0,2,       0,2,    0.02,2,-999.000,9,-999.000,9,-999.000,9,-999.0000,9,  -999.0,9, -999.00,9,-999.0000,9,  -999.00,-999.000,9,-999.0000,9, -999.00,9, -999.00,9,  -999.0,9,  -999.0,-999.000,9,-999.000,     -999.0,9, -999.00,9, -999.00,9, -999.00,9,     -999.0,9,  -999.0,9, 20130511,     1901,       30,-167.4538,    35.0943,2,     -999.0,9,     -999.0,9,    19.1727,2,     -999.0,9,     -999.0,9,-999.0000, -999.00,-999.000
318M20130321,       P02E,      88,          1,         34,         34,2,20130511,       1627,    29.9999,   -167.453,       5497,    36.6,  19.1742,  34.9295,2,  34.9292,2,    233.8,2,   232.3,2,    3.12,2,       0,2,       0,2,    0.02,2,   2.098,2,   1.259,2,-999.000,5,   1.5719,2,  2016.4,2, 2293.71,2,   8.0056,2,       25,-999.000,9,-999.0000,9, -999.00,9, -999.00,9,  -999.0,9,  -999.0,-999.000,9,-999.000,     -999.0,9, -999.00,9, -999.00,9, -999.00,9,     -999.0,9,  -999.0,9, 20130511,     1858,  30.0001,-167.4538,    35.0939,2,     -999.0,9,     -999.0,9,     19.174,2,     -999.0,9,     -999.0,9,-999.0000, -999.00,-999.000
318M20130321,       P02E,      88,          1,         33,         33,2,20130511,       1627,    29.9999,   -167.453,       5497,    61.2,  18.8985,  34.8736,2,  34.8692,2,    234.9,2,     234,2,    3.32,2,       0,2,       0,2,    0.02,2,   1.887,2,   1.276,2,-999.000,5,   2.2054,4,  2013.8,2, 2288.91,6,    8.003,2,       25,-999.000,9,-999.0000,9, -999.00,9, -999.00,9,  -999.0,9,  -999.0,-999.000,9,-999.000,     -999.0,9, -999.00,9, -999.00,9, -999.00,9,     -999.0,9,  -999.0,9, 20130511,     1855,  30.0004,-167.4537,    35.0336,2,     -999.0,9,     -999.0,9,    18.8997,2,     -999.0,9,     -999.0,9,-999.0000, -999.00,-999.000
318M20130321,       P02E,      88,          1,         32,         32,2,20130511,       1627,    29.9999,   -167.453,       5497,    85.6,  17.7954,  34.7165,2,  34.7221,2,    237.8,2,   236.7,2,     3.9,2,       0,2,       0,2,    0.05,2,   2.193,2,   1.346,2,-999.000,5,   1.5346,2,  2016.2,2, 2281.81,2,   7.9871,6,       25,-999.000,9,-999.0000,9, -999.00,9, -999.00,9,  -999.0,9,  -999.0,-999.000,9,-999.000,     -999.0,9, -999.00,9, -999.00,9, -999.00,9,     -999.0,9,  -999.0,9, 20130511,     1853,  30.0004,-167.4536,    34.8858,2,     -999.0,9,     -999.0,9,    17.7836,2,     -999.0,9,     -999.0,9,-999.0000, -999.00,-999.000
318M20130321,       P02E,      88,          1,         31,         31,2,20130511,       1627,    29.9999,   -167.453,       5497,   116.1,  17.1772,  34.6634,2,  34.6651,2,    231.8,2,   223.9,2,    4.88,2,    1.51,2,    0.16,2,    0.18,2,   2.246,2,   1.371,2,-999.000,5,   1.5356,2,  2030.2,2, 2276.81,2,   7.9551,2,       25,-999.000,9,-999.0000,9, -999.00,9, -999.00,9,  -999.0,9,  -999.0,-999.000,9,-999.000,     -999.0,9, -999.00,9, -999.00,9, -999.00,9,     -999.0,9,  -999.0,9, 20130511,     1851,  30.0004,-167.4536,    34.8286,2,     -999.0,9,     -999.0,9,    17.1749,2,     -999.0,9,     -999.0,9,-999.0000, -999.00,-999.000
318M20130321,       P02E,      88,          1,         30,         30,2,20130511,       1627,    29.9999,   -167.453,       5497,   165.3,   15.609,  34.5359,2,  34.5347,2,    215.9,2,     212,2,    6.25,2,    5.36,2,    0.02,2,     0.4,2,   2.485,2,   1.505,2,-999.000,5,   1.4375,2,  2050.1,2, 2269.81,2,   7.9018,2,       25,-999.000,9,-999.0000,9, -999.00,9, -999.00,9,  -999.0,9,  -999.0,-999.000,9,-999.000,     -999.0,9, -999.00,9, -999.00,9, -999.00,9,     -999.0,9,  -999.0,9, 20130511,     1849,  30.0004,-167.4537,    34.6975,2,     -999.0,9,     -999.0,9,    15.6065,2,     -999.0,9,     -999.0,9,-999.0000, -999.00,-999.000
318M20130321,       P02E,      88,          1,         29,         29,2,20130511,       1627,    29.9999,   -167.453,       5497,   215.2,  14.2743,  34.4444,2,  34.4446,2,    213.3,2,   213.6,2,     8.4,2,    7.67,2,    0.01,2,    0.56,2,   2.604,2,   1.522,2,-999.000,5,   1.4752,2,    2062,2,  2264.7,2,   7.8746,2,       25,-999.000,9,-999.0000,9, -999.00,9, -999.00,9,  -999.0,9,  -999.0,-999.000,9,-999.000,     -999.0,9, -999.00,9, -999.00,9, -999.00,9,     -999.0,9,  -999.0,9, 20130511,     1847,  30.0004,-167.4538,     34.607,2,     -999.0,9,     -999.0,9,     14.266,2,     -999.0,9,     -999.0,9,-999.0000, -999.00,-999.000
318M20130321,       P02E,      88,          1,         28,         28,2,20130511,       1627,    29.9999,   -167.453,       5497,   265.6,  13.3812,  34.3939,2,  34.3943,2,    212.1,2,   211.3,2,   10.64,2,    9.48,2,    0.01,2,    0.67,2,   2.725,2,   1.607,2,-999.000,5,    2.391,4,  -999.0,9, -999.00,9,-999.0000,9,  -999.00,-999.000,9,-999.0000,9, -999.00,9, -999.00,9,  -999.0,9,  -999.0,-999.000,9,-999.000,     -999.0,9, -999.00,9, -999.00,9, -999.00,9,     -999.0,9,  -999.0,9, 20130511,     1845,  30.0003,-167.4539,    34.5565,2,     -999.0,9,     -999.0,9,    13.3705,2,     -999.0,9,     -999.0,9,-999.0000, -999.00,-999.000
318M20130321,       P02E,      88,          1,         27,         27,2,20130511,       1627,    29.9999,   -167.453,       5497,   317.7,  12.3701,  34.3308,2,  34.3292,2,    209.9,2,   210.2,2,   13.86,2,   11.44,2,       0,2,    0.81,2,   2.387,3,   1.606,2,-999.000,5,   1.8888,4,  2087.5,2,  2263.9,2,   7.8155,2,       25,-999.000,9,-999.0000,9, -999.00,9, -999.00,9,  -999.0,9,  -999.0,-999.000,9,-999.000,     -999.0,9, -999.00,9, -999.00,9, -999.00,9,     -999.0,9,  -999.0,9, 20130511,     1843,  30.0005, -167.454,    34.4911,2,     -999.0,9,     -999.0,9,    12.3595,2,     -999.0,9,     -999.0,9,-999.0000, -999.00,-999.000
318M20130321,       P02E,      88,          1,         26,         26,2,20130511,       1627,    29.9999,   -167.453,       5497,   366.7,   11.323,  34.2593,2,  34.2598,2,    208.8,2,   209.5,2,   17.09,2,   13.43,2,       0,2,    0.95,2,   2.889,2,   1.550,2,-999.000,5,   1.1627,4,  -999.0,9, -999.00,9,-999.0000,9,  -999.00,-999.000,9,-999.0000,9, -999.00,9, -999.00,9,  -999.0,9,  -999.0,-999.000,9,-999.000,     -999.0,9, -999.00,9, -999.00,9, -999.00,9,     -999.0,9,  -999.0,9, 20130511,     1841,  30.0006, -167.454,    34.4213,2,     -999.0,9,     -999.0,9,    11.3291,2,     -999.0,9,     -999.0,9,-999.0000, -999.00,-999.000
318M20130321,       P02E,      88,          1,         25,         25,2,20130511,       1627,    29.9999,   -167.453,       5497,   437.1,   9.8135,  34.1488,2,  34.1486,2,    205.1,2,   204.7,2,   22.85,2,   16.74,2,       0,2,    1.18,2,   3.075,2,   1.627,2,-999.000,5,   1.2361,2,  2122.9,2,  2264.8,2,    7.734,2,       25,-999.000,9,-999.0000,9, -999.00,9, -999.00,9,  -999.0,9,  -999.0,-999.000,9,-999.000,     -999.0,9, -999.00,9, -999.00,9, -999.00,9,     -999.0,9,  -999.0,9, 20130511,     1838,  30.0004, -167.454,    34.3096,2,     -999.0,9,     -999.0,9,      9.814,2,     -999.0,9,     -999.0,9,-999.0000, -999.00,-999.000
318M20130321,       P02E,      88,          1,         24,         24,2,20130511,       1627,    29.9999,   -167.453,       5497,   537.9,   7.9219,  34.0439,2,  34.0437,2,    168.9,2,   170.5,2,   36.91,2,   23.55,2,       0,2,    1.68,2,   2.261,2,   1.426,2,-999.000,5,    0.965,2,  -999.0,9, -999.00,9,-999.0000,9,  -999.00,-999.000,9,-999.0000,9, -999.00,9, -999.00,9,  -999.0,9,  -999.0,-999.000,9,-999.000,     -999.0,9, -999.00,9, -999.00,9, -999.00,9,     -999.0,9,  -999.0,9, 20130511,     1835,  30.0004,-167.4541,    34.2043,2,     -999.0,9,     -999.0,9,     7.9208,2,     -999.0,9,     -999.0,9,-999.0000, -999.00,-999.000
318M20130321,       P02E,      88,          1,         23,         23,2,20130511,       1627,    29.9999,   -167.453,       5497,     637,   6.0687,  34.0143,2,   34.013,2,    114.1,2,   116.3,2,   60.16,2,   31.79,2,       0,2,    2.28,2,   1.986,2,   1.014,2,-999.000,5,   0.4844,2,  2232.7,2, 2288.91,2,   7.4868,2,       25,-999.000,9,-999.0000,9, -999.00,9, -999.00,9,  -999.0,9,  -999.0,-999.000,9,-999.000,     -999.0,9, -999.00,9, -999.00,9, -999.00,9,     -999.0,9,  -999.0,9, 20130511,     1832,  30.0003,-167.4539,    34.1734,2,     -999.0,9,     -999.0,9,     6.0594,2,     -999.0,9,     -999.0,9,-999.0000, -999.00,-999.000
318M20130321,       P02E,      88,          1,         22,         22,2,20130511,       1627,    29.9999,   -167.453,       5497,     738,   5.0076,  34.0678,2,  34.0657,2,       71,2,    73.7,2,   81.25,2,    37.4,2,       0,2,    2.68,2,   1.169,6,   0.573,6,-999.000,5,    0.228,6,  -999.0,9, -999.00,9,-999.0000,9,  -999.00,-999.000,9,-999.0000,9, -999.00,9, -999.00,9,  -999.0,9,  -999.0,-999.000,9,-999.000,     -999.0,9, -999.00,9, -999.00,9, -999.00,9,     -999.0,9,  -999.0,9, 20130511,     1828,  30.0002,-167.4535,    34.2263,2,     -999.0,9,     -999.0,9,     5.0167,2,     -999.0,9,     -999.0,9,-999.0000, -999.00,-999.000
318M20130321,       P02E,      88,          1,         21,         21,2,20130511,       1627,    29.9999,   -167.453,       5497,   839.8,   4.2329,  34.1706,2,  34.1682,2,       38,2,      37,2,  102.82,2,   41.59,2,       0,2,    2.98,2,   0.421,2,   0.198,2,-999.000,5,   0.0918,2,  2327.6,2, 2330.73,2,    7.319,6,       25,-999.000,9,-999.0000,9, -999.00,9, -999.00,9,  -999.0,9,  -999.0,-999.000,9,-999.000,     -999.0,9, -999.00,9, -999.00,9, -999.00,9,     -999.0,9,  -999.0,9, 20130511,     1825,  30.0001,-167.4533,    34.3293,2,     -999.0,9,     -999.0,9,     4.2329,2,     -999.0,9,     -999.0,9,-999.0000, -999.00,-999.000
318M20130321,       P02E,      88,          1,         20,         20,2,20130511,       1627,    29.9999,   -167.453,       5497,   941.8,   3.8319,  34.2643,2,  34.2655,2,     22.3,2,    21.2,2,  116.48,2,   43.23,2,       0,2,     3.1,2,   0.130,2,   0.057,2,-999.000,5,        0,2,  2352.2,2, 2348.63,2,   7.2986,6,       25,-999.000,9,-999.0000,9, -999.00,9, -999.00,9,  -999.0,9,  -999.0,-999.000,9,-999.000,     -999.0,9, -999.00,9, -999.00,9, -999.00,9,     -999.0,9,  -999.0,9, 20130511,     1822,  30.0002,-167.4532,    34.4271,2,     -999.0,9,     -999.0,9,     3.8323,2,     -999.0,9,     -999.0,9,-999.0000, -999.00,-999.000
318M20130321,       P02E,      88,          1,         19,         19,2,20130511,       1627,    29.9999,   -167.453,       5497,  1043.4,    3.547,  34.3449,2,  34.3436,2,     18.2,2,    18.2,2,  125.55,2,   43.81,2,       0,2,    3.14,2,   0.044,2,   0.018,2,-999.000,5,        0,2,  2364.3,6, 2362.64,2,   7.3014,2,       25,-999.000,9,-999.0000,9, -999.00,9, -999.00,9,  -999.0,9,  -999.0,-999.000,9,-999.000,     -999.0,9, -999.00,9, -999.00,9, -999.00,9,     -999.0,9,  -999.0,9, 20130511,     1819,  30.0003,-167.4534,    34.5055,2,     -999.0,9,     -999.0,9,     3.5443,2,     -999.0,9,     -999.0,9,-999.0000, -999.00,-999.000
318M20130321,       P02E,      88,          1,         18,         18,2,20130511,       1627,    29.9999,   -167.453,       5497,  1143.9,   3.3292,  34.4138,2,  34.4134,2,     22.8,2,    23.4,2,  132.28,2,   43.74,2,       0,2,    3.13,2,   0.019,2,   0.010,2,-999.000,5,        0,2,  2367.5,2, 2374.04,2,   7.3187,2,       25,-999.000,9,-999.0000,9, -999.00,9, -999.00,9,  -999.0,9,  -999.0,-999.000,9,-999.000,     -999.0,9, -999.00,9, -999.00,9, -999.00,9,     -999.0,9,  -999.0,9, 20130511,     1816,  30.0003,-167.4533,    34.5757,2,     -999.0,9,     -999.0,9,     3.3294,2,     -999.0,9,     -999.0,9,-999.0000, -999.00,-999.000
318M20130321,       P02E,      88,          1,         17,         17,2,20130511,       1627,    29.9999,   -167.453,       5497,    1244,   3.1464,  34.4549,2,  34.4564,2,     28.3,2,    28.4,2,   135.4,2,   43.58,2,       0,2,    3.11,2,   0.033,2,   0.059,3,-999.000,5,   0.6186,4,  -999.0,9, -999.00,9,-999.0000,9,  -999.00,-999.000,9,-999.0000,9, -999.00,9, -999.00,9,  -999.0,9,  -999.0,-999.000,9,-999.000,     -999.0,9, -999.00,9, -999.00,9, -999.00,9,     -999.0,9,  -999.0,9, 20130511,     1813,       30,-167.4534,    34.6189,2,     -999.0,9,     -999.0,9,     3.1464,2,     -999.0,9,     -999.0,9,-999.0000, -999.00,-999.000
318M20130321,       P02E,      88,          1,         16,         16,2,20130511,       1627,    29.9999,   -167.453,       5497,  1345.7,   2.9557,  34.4912,2,  34.4912,2,     36.8,2,    36.4,2,  141.06,2,   43.18,2,       0,2,    3.08,2,   0.008,2,   0.004,2,-999.000,5,        0,2,  2372.1,2, 2387.95,2,   7.3505,2,       25,-999.000,9,-999.0000,9, -999.00,9, -999.00,9,  -999.0,9,  -999.0,-999.000,9,-999.000,     -999.0,9, -999.00,9, -999.00,9, -999.00,9,     -999.0,9,  -999.0,9, 20130511,     1809,  29.9998,-167.4536,    34.6538,2,     -999.0,9,     -999.0,9,     2.9565,2,     -999.0,9,     -999.0,9,-999.0000, -999.00,-999.000
318M20130321,       P02E,      88,          1,         15,         15,2,20130511,       1627,    29.9999,   -167.453,       5497,  1478.2,   2.7098,  34.5278,2,  34.5273,2,     45.5,2,    46.8,2,  145.84,2,   42.62,2,       0,2,    3.03,2,   0.001,2,  -6.383,4,-999.000,5,        0,2,  -999.0,9, -999.00,9,-999.0000,9,  -999.00,-999.000,9,-999.0000,9, -999.00,9, -999.00,9,  -999.0,9,  -999.0,-999.000,9,-999.000,     -999.0,9, -999.00,9, -999.00,9, -999.00,9,     -999.0,9,  -999.0,9, 20130511,     1805,  29.9997,-167.4538,    34.6901,2,     -999.0,9,     -999.0,9,     2.7115,2,     -999.0,9,     -999.0,9,-999.0000, -999.00,-999.000
318M20130321,       P02E,      88,          1,         14,         14,2,20130511,       1627,    29.9999,   -167.453,       5497,  1678.7,   2.3559,  34.5642,2,  34.5633,2,     55.7,2,    56.8,2,  155.89,2,   42.12,2,       0,2,    2.98,2,   0.007,2,   0.002,2,-999.000,5,        0,2,    2375,2, 2404.25,2,   7.3921,2,       25,-999.000,9,-999.0000,9, -999.00,9, -999.00,9,  -999.0,9,  -999.0,-999.000,9,-999.000,     -999.0,9, -999.00,9, -999.00,9, -999.00,9,     -999.0,9,  -999.0,9, 20130511,     1801,       30,-167.4538,    34.7262,2,     -999.0,9,     -999.0,9,     2.3562,2,     -999.0,9,     -999.0,9,-999.0000, -999.00,-999.000
318M20130321,       P02E,      88,          1,         13,         13,2,20130511,       1627,    29.9999,   -167.453,       5497,  1882.3,   2.0919,  34.5961,2,  34.5965,2,     70.1,2,    70.5,2,  161.26,2,   41.32,2,       0,2,    2.92,2,   0.007,2,   0.002,2,-999.000,5,        0,2,  2371.4,2, 2412.16,2,   7.4206,2,       25,-999.000,9,-999.0000,9, -999.00,9, -999.00,9,  -999.0,9,  -999.0,-999.000,9,-999.000,     -999.0,9, -999.00,9, -999.00,9, -999.00,9,     -999.0,9,  -999.0,9, 20130511,     1756,  29.9998,-167.4535,    34.7596,2,     -999.0,9,     -999.0,9,     2.0897,2,     -999.0,9,     -999.0,9,-999.0000, -999.00,-999.000
318M20130321,       P02E,      88,          1,         12,         12,2,20130511,       1627,    29.9999,   -167.453,       5497,  2107.1,   1.9218,  34.6167,2,  34.6169,2,     83.7,2,    82.5,2,  162.52,2,   40.56,2,       0,2,    2.85,2,   0.006,2,   0.002,2,-999.000,5,        0,2,  -999.0,9, -999.00,9,-999.0000,9,  -999.00,-999.000,9,-999.0000,9, -999.00,9, -999.00,9,  -999.0,9,  -999.0,-999.000,9,-999.000,     -999.0,9, -999.00,9, -999.00,9, -999.00,9,     -999.0,9,  -999.0,9, 20130511,     1751,  29.9996, -167.453,    34.7801,2,     -999.0,9,     -999.0,9,     1.9216,2,     -999.0,9,     -999.0,9,-999.0000, -999.00,-999.000
318M20130321,       P02E,      88,          1,         11,         11,2,20130511,       1627,    29.9999,   -167.453,       5497,  2357.9,   1.7689,  34.6347,2,   34.636,2,     95.6,2,    93.9,2,  162.33,2,   39.78,2,       0,2,     2.8,2,   0.004,2,   0.002,2,-999.000,5,        0,2,  2364.1,2, 2419.56,2,   7.4669,2,       25,-999.000,9,-999.0000,9, -999.00,9, -999.00,9,  -999.0,9,  -999.0,-999.000,9,-999.000,     -999.0,9, -999.00,9, -999.00,9, -999.00,9,     -999.0,9,  -999.0,9, 20130511,     1745,  29.9994,-167.4533,    34.7993,2,     -999.0,9,     -999.0,9,     1.7689,2,     -999.0,9,     -999.0,9,-999.0000, -999.00,-999.000
318M20130321,       P02E,      88,          1,         10,         10,2,20130511,       1627,    29.9999,   -167.453,       5497,  2612.7,   1.6506,  34.6496,2,  34.6485,2,    106.4,2,   106.7,2,  162.71,2,   38.97,2,       0,2,    2.73,2,   0.006,2,   0.001,2,-999.000,5,        0,2,  -999.0,9, -999.00,9,-999.0000,9,  -999.00,-999.000,9,-999.0000,9, -999.00,9, -999.00,9,  -999.0,9,  -999.0,-999.000,9,-999.000,     -999.0,9, -999.00,9, -999.00,9, -999.00,9,     -999.0,9,  -999.0,9, 20130511,     1739,  29.9999,-167.4538,    34.8119,2,     -999.0,9,     -999.0,9,     1.6503,2,     -999.0,9,     -999.0,9,-999.0000, -999.00,-999.000
318M20130321,       P02E,      88,          1,          9,          9,2,20130511,       1627,    29.9999,   -167.453,       5497,  2866.9,   1.5822,  34.6592,2,   34.659,2,    116.9,2,   116.9,2,  162.81,2,   38.32,2,       0,2,    2.67,2,   0.006,2,   0.001,2,-999.000,5,        0,2,  2349.9,2, 2423.66,6,   7.5112,2,       25,-999.000,9,-999.0000,9, -999.00,9, -999.00,9,  -999.0,9,  -999.0,-999.000,9,-999.000,     -999.0,9, -999.00,9, -999.00,9, -999.00,9,     -999.0,9,  -999.0,9, 20130511,     1733,  30.0007,-167.4541,    34.8224,2,     -999.0,9,     -999.0,9,     1.5821,2,     -999.0,9,     -999.0,9,-999.0000, -999.00,-999.000
318M20130321,       P02E,      88,          1,          8,          8,2,20130511,       1627,    29.9999,   -167.453,       5497,  3137.1,    1.529,  34.6675,2,  34.6672,2,      126,2,   126.6,2,  160.56,2,   37.71,2,       0,2,    2.63,2,   0.005,2,   0.000,2,-999.000,5,        0,2,  -999.0,9, -999.00,9,-999.0000,9,  -999.00,-999.000,9,-999.0000,9, -999.00,9, -999.00,9,  -999.0,9,  -999.0,-999.000,9,-999.000,     -999.0,9, -999.00,9, -999.00,9, -999.00,9,     -999.0,9,  -999.0,9, 20130511,     1726,  30.0002,-167.4537,    34.8307,2,     -999.0,9,     -999.0,9,     1.5292,2,     -999.0,9,     -999.0,9,-999.0000, -999.00,-999.000
318M20130321,       P02E,      88,          1,          7,          7,2,20130511,       1627,    29.9999,   -167.453,       5497,  3446.1,   1.4905,   34.675,2,  34.6745,2,    135.4,2,   135.2,2,  157.44,2,   37.11,2,       0,2,    2.58,2,   0.005,2,  -0.003,2,-999.000,5,        0,2,  -999.0,9, -999.00,9,-999.0000,9,  -999.00,-999.000,9,-999.0000,9, -999.00,9, -999.00,9,  -999.0,9,  -999.0,-999.000,9,-999.000,     -999.0,9, -999.00,9, -999.00,9, -999.00,9,     -999.0,9,  -999.0,9, 20130511,     1718,  29.9999,-167.4527,     34.838,2,     -999.0,9,     -999.0,9,     1.4905,2,     -999.0,9,     -999.0,9,-999.0000, -999.00,-999.000