BOTTLE,20220817CCHSIOAMB
EXPOCODE,SECT_ID,STNNBR,CASTNO,SAMPNO,BTLNBR,BTLNBR_FLAG_W,DATE,TIME,LATITUDE,LONGITUDE,DEPTH,CTDPRS,CTDTMP,CTDSAL,CTDSAL_FLAG_W,SALNTY,SALNTY_FLAG_W,CTDOXY,CTDOXY_FLAG_W,OXYGEN,OXYGEN_FLAG_W,SILCAT,SILCAT_FLAG_W,NITRAT,NITRAT_FLAG_W,NITRIT,NITRIT_FLAG_W,PHSPHT,PHSPHT_FLAG_W,CFC-11,CFC-11_FLAG_W,CFC-12,CFC-12_FLAG_W,CFC113,CFC113_FLAG_W,SF6,SF6_FLAG_W,TCARBN,TCARBN_FLAG_W,ALKALI,ALKALI_FLAG_W,PH_TOT,PH_TOT_FLAG_W,PH_TMP,TRITUM,TRITUM_FLAG_W,HELIUM,HELIUM_FLAG_W,DELHE3,DELHE3_FLAG_W,DELC13,DELC13_FLAG_W,DELC14,DELC14_FLAG_W,C14ERR,NEON,NEON_FLAG_W,NEONER,I-129,I-129_FLAG_W,SR-90,SR-90_FLAG_W,DOC,DOC_FLAG_W,TDN,TDN_FLAG_W,CALCIUM,CALCIUM_FLAG_W,D15N_NO3,D15N_NO3_FLAG_W,BTL_DATE,BTL_TIME,BTL_LAT,BTL_LON,SALTREF,SALTREF_FLAG_W,CS-137,CS-137_FLAG_W,CS-134,CS-134_FLAG_W,REFTMP,REFTMP_FLAG_W,LAB_DEN,LAB_DEN_FLAG_W,D18O_NO3,D18O_NO3_FLAG_W,HELIER,DELHER,TRITER
,,,,,,,,,,,METERS,DBAR,ITS-90,PSS-78,,PSS-78,,UMOL/KG,,UMOL/KG,,UMOL/KG,,UMOL/KG,,UMOL/KG,,UMOL/KG,,PMOL/KG,,PMOL/KG,,PMOL/KG,,FMOL/KG,,UMOL/KG,,UMOL/KG,,,,DEG C,TU,,NMOL/KG,,PERCNT,,/MILLE,,/MILLE,,/MILLE,NMOL/KG,,NMOL/KG,BQ/M^3,,DM/.1MG,,UMOL/KG,,UMOL/KG,,MMOL/KG,,/MILLE,,,,,,G/KG,,BQ/M^3,,BQ/M^3,,ITS-90,,,,/MILLE,,NMOL/KG,PERCNT,TU
318M20130321,       P02E,     142,          1,          5,         37,2,20130529,       0331,    30.2598,  -123.2685,       4251,  3552.6,   1.5375,  34.6757,2,  34.6761,2,    128.6,2,   128.4,2,  169.06,2,   37.73,2,       0,2,    2.62,2,   0.003,2,   0.011,2,-999.000,1,        0,2,  -999.0,9, -999.00,9,-999.0000,9,  -999.00,-999.000,9,-999.0000,9, -999.00,9, -999.00,9,  -999.0,9,  -999.0,-999.000,9,-999.000,     -999.0,9, -999.00,9, -999.00,9, -999.00,9,     -999.0,9,  -999.0,9, 20130529,      347,  30.2598,-123.2685,    34.8396,2,     -999.0,9,     -999.0,9,     1.5375,2,     -999.0,9,     -999.0,9,-999.0000, -999.00,-999.000
318M20130321,       P02E,     142,          1,          4,          4,2,20130529,       0331,    30.2598,  -123.2685,       4251,  3859.7,   1.5292,  34.6795,2,  34.6796,2,    132.3,2,   132.7,2,  168.57,2,   37.45,2,       0,2,     2.6,2,-999.000,9,-999.000,9,-999.000,9,-999.0000,9,  2348.3,2, 2430.06,2,   7.5492,6,       25,-999.000,9,-999.0000,9, -999.00,9, -999.00,9,  -999.0,9,  -999.0,-999.000,9,-999.000,     -999.0,9, -999.00,9, -999.00,9, -999.00,9,     -999.0,9,  -999.0,9, 20130529,      341,  30.2598,-123.2685,    34.8432,2,     -999.0,9,     -999.0,9,     1.5292,2,     -999.0,9,     -999.0,9,-999.0000, -999.00,-999.000
318M20130321,       P02E,     142,          1,          3,          3,2,20130529,       0331,    30.2598,  -123.2685,       4251,  4165.8,   1.5432,  34.6812,2,  34.6814,2,    136.4,2,   135.3,2,  167.69,2,    37.3,2,       0,2,    2.58,2,   0.005,2,   0.012,2,-999.000,1,        0,2,  -999.0,9, -999.00,9,-999.0000,9,  -999.00,-999.000,9,-999.0000,9, -999.00,9, -999.00,9,  -999.0,9,  -999.0,-999.000,9,-999.000,     -999.0,9, -999.00,9, -999.00,9, -999.00,9,     -999.0,9,  -999.0,9, 20130529,      335,  30.2598,-123.2685,    34.8449,2,     -999.0,9,     -999.0,9,      1.543,2,     -999.0,9,     -999.0,9,-999.0000, -999.00,-999.000
318M20130321,       P02E,     142,          1,          2,          2,2,20130529,       0331,    30.2598,  -123.2685,       4251,  4313.5,   1.5582,  34.6814,2,  34.6822,2,    136.6,2,   135.9,2,  167.88,2,   37.28,2,       0,2,    2.58,2,   0.006,2,   0.013,2,-999.000,1,        0,2,  2346.4,6, 2430.46,2,    7.555,2,       25,-999.000,9,-999.0000,9, -999.00,9, -999.00,9,  -999.0,9,  -999.0,-999.000,9,-999.000,     -999.0,9, -999.00,9, -999.00,9, -999.00,9,     -999.0,9,  -999.0,9, 20130529,      331,  30.2598,-123.2685,    34.8457,2,     -999.0,9,     -999.0,9,     1.5583,2,     -999.0,9,     -999.0,9,-999.0000, -999.00,-999.000