BOTTLE,20220817CCHSIOAMB
EXPOCODE,SECT_ID,STNNBR,CASTNO,SAMPNO,BTLNBR,BTLNBR_FLAG_W,DATE,TIME,LATITUDE,LONGITUDE,DEPTH,CTDPRS,CTDTMP,CTDSAL,CTDSAL_FLAG_W,SALNTY,SALNTY_FLAG_W,CTDOXY,CTDOXY_FLAG_W,OXYGEN,OXYGEN_FLAG_W,SILCAT,SILCAT_FLAG_W,NITRAT,NITRAT_FLAG_W,NITRIT,NITRIT_FLAG_W,PHSPHT,PHSPHT_FLAG_W,CFC-11,CFC-11_FLAG_W,CFC-12,CFC-12_FLAG_W,CFC113,CFC113_FLAG_W,SF6,SF6_FLAG_W,TCARBN,TCARBN_FLAG_W,ALKALI,ALKALI_FLAG_W,PH_TOT,PH_TOT_FLAG_W,PH_TMP,TRITUM,TRITUM_FLAG_W,HELIUM,HELIUM_FLAG_W,DELHE3,DELHE3_FLAG_W,DELC13,DELC13_FLAG_W,DELC14,DELC14_FLAG_W,C14ERR,NEON,NEON_FLAG_W,NEONER,I-129,I-129_FLAG_W,SR-90,SR-90_FLAG_W,DOC,DOC_FLAG_W,TDN,TDN_FLAG_W,CALCIUM,CALCIUM_FLAG_W,D15N_NO3,D15N_NO3_FLAG_W,BTL_DATE,BTL_TIME,BTL_LAT,BTL_LON,SALTREF,SALTREF_FLAG_W,CS-137,CS-137_FLAG_W,CS-134,CS-134_FLAG_W,REFTMP,REFTMP_FLAG_W,LAB_DEN,LAB_DEN_FLAG_W,D18O_NO3,D18O_NO3_FLAG_W,HELIER,DELHER,TRITER
,,,,,,,,,,,METERS,DBAR,ITS-90,PSS-78,,PSS-78,,UMOL/KG,,UMOL/KG,,UMOL/KG,,UMOL/KG,,UMOL/KG,,UMOL/KG,,PMOL/KG,,PMOL/KG,,PMOL/KG,,FMOL/KG,,UMOL/KG,,UMOL/KG,,,,DEG C,TU,,NMOL/KG,,PERCNT,,/MILLE,,/MILLE,,/MILLE,NMOL/KG,,NMOL/KG,BQ/M^3,,DM/.1MG,,UMOL/KG,,UMOL/KG,,MMOL/KG,,/MILLE,,,,,,G/KG,,BQ/M^3,,BQ/M^3,,ITS-90,,,,/MILLE,,NMOL/KG,PERCNT,TU
318M20130321,       P02E,     134,          1,          5,         37,2,20130526,       2239,    29.9993,  -128.7558,       4001,  3244.5,    1.532,  34.6719,2,  34.6718,2,    124.9,2,     125,2,  168.47,2,   37.83,2,       0,2,    2.65,2,   0.002,2,   0.007,2,-999.000,1,        0,2,  2349.7,2, 2427.96,6,   7.5315,2,       25,-999.000,9,-999.0000,9, -999.00,9, -999.00,9,  -999.0,9,  -999.0,-999.000,9,-999.000,     -999.0,9, -999.00,9, -999.00,9, -999.00,9,     -999.0,9,  -999.0,9, 20130526,     2257,  29.9997,-128.7557,    34.8353,2,     -999.0,9,     -999.0,9,     1.5322,2,     -999.0,9,     -999.0,9,-999.0000, -999.00,-999.000
318M20130321,       P02E,     134,          1,          4,          4,2,20130526,       2239,    29.9993,  -128.7558,       4001,  3550.6,   1.5017,  34.6777,2,  34.6773,2,    132.6,2,   132.5,2,   167.3,2,   37.35,2,       0,2,    2.62,2,   0.002,2,   0.007,2,-999.000,1,        0,2,  -999.0,9, -999.00,9,-999.0000,9,  -999.00,-999.000,9,-999.0000,9, -999.00,9, -999.00,9,  -999.0,9,  -999.0,-999.000,9,-999.000,     -999.0,9, -999.00,9, -999.00,9, -999.00,9,     -999.0,9,  -999.0,9, 20130526,     2250,  29.9994,-128.7559,    34.8408,2,     -999.0,9,     -999.0,9,     1.5012,2,     -999.0,9,     -999.0,9,-999.0000, -999.00,-999.000
318M20130321,       P02E,     134,          1,          3,          3,2,20130526,       2239,    29.9993,  -128.7558,       4001,    3856,   1.4975,  34.6814,2,  34.6814,2,    138.2,2,   137.8,2,  165.64,2,   37.01,2,       0,2,    2.58,2,   0.002,2,   0.009,2,-999.000,1,        0,2,  2342.2,2, 2427.66,2,   7.5549,6,       25,-999.000,9,-999.0000,9, -999.00,9, -999.00,9,  -999.0,9,  -999.0,-999.000,9,-999.000,     -999.0,9, -999.00,9, -999.00,9, -999.00,9,     -999.0,9,  -999.0,9, 20130526,     2244,  29.9992,-128.7559,    34.8449,2,     -999.0,9,     -999.0,9,     1.4972,2,     -999.0,9,     -999.0,9,-999.0000, -999.00,-999.000
318M20130321,       P02E,     134,          1,          2,          2,2,20130526,       2239,    29.9993,  -128.7558,       4001,  4081.2,    1.509,  34.6829,2,  34.6832,2,    140.5,2,   140.7,2,  164.27,2,    36.9,2,       0,2,    2.56,2,   0.003,2,   0.012,2,-999.000,1,        0,2,  2339.5,6, 2427.56,2,   7.5594,2,       25,-999.000,9,-999.0000,9, -999.00,9, -999.00,9,  -999.0,9,  -999.0,-999.000,9,-999.000,     -999.0,9, -999.00,9, -999.00,9, -999.00,9,     -999.0,9,  -999.0,9, 20130526,     2239,  29.9993,-128.7559,    34.8467,2,     -999.0,9,     -999.0,9,     1.5086,2,     -999.0,9,     -999.0,9,-999.0000, -999.00,-999.000