BOTTLE,20220817CCHSIOAMB
EXPOCODE,SECT_ID,STNNBR,CASTNO,SAMPNO,BTLNBR,BTLNBR_FLAG_W,DATE,TIME,LATITUDE,LONGITUDE,DEPTH,CTDPRS,CTDTMP,CTDSAL,CTDSAL_FLAG_W,SALNTY,SALNTY_FLAG_W,CTDOXY,CTDOXY_FLAG_W,OXYGEN,OXYGEN_FLAG_W,SILCAT,SILCAT_FLAG_W,NITRAT,NITRAT_FLAG_W,NITRIT,NITRIT_FLAG_W,PHSPHT,PHSPHT_FLAG_W,CFC-11,CFC-11_FLAG_W,CFC-12,CFC-12_FLAG_W,CFC113,CFC113_FLAG_W,SF6,SF6_FLAG_W,TCARBN,TCARBN_FLAG_W,ALKALI,ALKALI_FLAG_W,PH_TOT,PH_TOT_FLAG_W,PH_TMP,TRITUM,TRITUM_FLAG_W,HELIUM,HELIUM_FLAG_W,DELHE3,DELHE3_FLAG_W,DELC13,DELC13_FLAG_W,DELC14,DELC14_FLAG_W,C14ERR,NEON,NEON_FLAG_W,NEONER,I-129,I-129_FLAG_W,SR-90,SR-90_FLAG_W,DOC,DOC_FLAG_W,TDN,TDN_FLAG_W,CALCIUM,CALCIUM_FLAG_W,D15N_NO3,D15N_NO3_FLAG_W,BTL_DATE,BTL_TIME,BTL_LAT,BTL_LON,SALTREF,SALTREF_FLAG_W,CS-137,CS-137_FLAG_W,CS-134,CS-134_FLAG_W,REFTMP,REFTMP_FLAG_W,LAB_DEN,LAB_DEN_FLAG_W,D18O_NO3,D18O_NO3_FLAG_W,HELIER,DELHER,TRITER
,,,,,,,,,,,METERS,DBAR,ITS-90,PSS-78,,PSS-78,,UMOL/KG,,UMOL/KG,,UMOL/KG,,UMOL/KG,,UMOL/KG,,UMOL/KG,,PMOL/KG,,PMOL/KG,,PMOL/KG,,FMOL/KG,,UMOL/KG,,UMOL/KG,,,,DEG C,TU,,NMOL/KG,,PERCNT,,/MILLE,,/MILLE,,/MILLE,NMOL/KG,,NMOL/KG,BQ/M^3,,DM/.1MG,,UMOL/KG,,UMOL/KG,,MMOL/KG,,/MILLE,,,,,,G/KG,,BQ/M^3,,BQ/M^3,,ITS-90,,,,/MILLE,,NMOL/KG,PERCNT,TU
318M20130321,       P02W,      47,          1,         36,         36,2,20130420,       0119,    30.0019,   160.6026,       5683,     3.2,  19.7382,  34.8957,2,  34.8952,2,    229.5,2,   230.2,2,    1.46,2,       0,2,       0,2,    0.01,2,   2.346,2,   1.479,2,   0.212,2,     1.53,2,  2005.2,2, 2288.91,2,   8.0191,6,       25,-999.000,9,-999.0000,9, -999.00,9,    0.67,2,    50.2,2,     2.6,-999.000,9,-999.000,     -999.0,9, -999.00,9,      60,2,    4.19,2,     -999.0,9,  -999.0,9, 20130420,      339,  30.0007, 160.6164,    35.0597,2,     -999.0,9,     -999.0,9,    19.7452,2,     -999.0,9,     -999.0,9,-999.0000, -999.00,-999.000
318M20130321,       P02W,      47,          1,         35,         35,2,20130420,       0119,    30.0019,   160.6026,       5683,    27.5,  19.6478,  34.9057,2,  34.9052,2,    230.7,2,   230.2,2,    1.46,2,       0,2,       0,2,    0.01,2,   2.370,2,   1.478,2,   0.212,2,      1.5,2,  -999.0,9, -999.00,9,-999.0000,9,  -999.00,-999.000,9,-999.0000,9, -999.00,9, -999.00,9,  -999.0,9,  -999.0,-999.000,9,-999.000,     -999.0,9, -999.00,9,      57,2,    3.44,2,     -999.0,9,  -999.0,9, 20130420,      337,  30.0006, 160.6158,    35.0698,2,     -999.0,9,     -999.0,9,    19.6481,2,     -999.0,9,     -999.0,9,-999.0000, -999.00,-999.000
318M20130321,       P02W,      47,          1,         34,         34,2,20130420,       0119,    30.0019,   160.6026,       5683,    54.1,  19.5502,   34.899,2,  34.8989,2,    231.5,2,   230.5,2,    1.66,2,       0,2,       0,2,    0.01,2,   2.363,2,   1.463,2,   0.199,2,     1.56,2,  2006.8,2, 2289.41,6,   8.0182,2,       25,-999.000,9,-999.0000,9, -999.00,9, -999.00,9,  -999.0,9,  -999.0,-999.000,9,-999.000,     -999.0,9, -999.00,9,    57.3,2,    3.86,2,     -999.0,9,  -999.0,9, 20130420,      335,  30.0005, 160.6151,    35.0635,2,     -999.0,9,     -999.0,9,    19.5528,2,     -999.0,9,     -999.0,9,-999.0000, -999.00,-999.000
318M20130321,       P02W,      47,          1,         33,         33,2,20130420,       0119,    30.0019,   160.6026,       5683,    79.1,  18.2186,  34.7785,2,  34.7784,2,    231.3,2,   231.2,2,    1.95,2,    0.25,2,    0.24,2,    0.06,2,   2.478,2,   1.533,2,   0.196,2,     1.52,2,  2011.5,2, 2283.91,2,   7.9975,6,       25,-999.000,9,-999.0000,9, -999.00,9,    0.60,2,    47.0,2,     2.6,-999.000,9,-999.000,     -999.0,9, -999.00,9,    55.6,2,    5.05,2,     -999.0,9,  -999.0,9, 20130420,      333,  30.0003, 160.6146,    34.9424,2,     -999.0,9,     -999.0,9,    18.2143,2,     -999.0,9,     -999.0,9,-999.0000, -999.00,-999.000
318M20130321,       P02W,      47,          1,         32,         32,2,20130420,       0119,    30.0019,   160.6026,       5683,   104.3,  17.8623,  34.7475,2,  34.7481,2,    233.8,2,   229.8,2,    2.24,2,    1.07,2,     0.1,2,    0.11,2,   2.552,2,   1.533,2,   0.193,2,     1.64,2,  2015.5,2, 2280.11,2,   7.9905,2,       25,-999.000,9,-999.0000,9, -999.00,9,    0.56,2,    46.4,2,     3.8,-999.000,9,-999.000,     -999.0,9, -999.00,9,   54.44,2,    5.53,2,     -999.0,9,  -999.0,9, 20130420,      332,  30.0002, 160.6142,     34.912,2,     -999.0,9,     -999.0,9,    17.8725,2,     -999.0,9,     -999.0,9,-999.0000, -999.00,-999.000
318M20130321,       P02W,      47,          1,         31,         31,2,20130420,       0119,    30.0019,   160.6026,       5683,   157.5,  16.9591,  34.6931,2,  34.6921,2,    223.6,2,   222.3,2,    3.32,2,    3.43,2,    0.04,2,    0.23,2,   2.603,2,   1.599,2,   0.140,2,     1.66,2,  -999.0,9, -999.00,9,-999.0000,9,  -999.00,-999.000,9,-999.0000,9, -999.00,9, -999.00,9,  -999.0,9,  -999.0,-999.000,9,-999.000,     -999.0,9, -999.00,9,   51.37,2,    6.81,2,     -999.0,9,  -999.0,9, 20130420,      329,  29.9998, 160.6137,    34.8557,2,     -999.0,9,     -999.0,9,    16.9574,2,     -999.0,9,     -999.0,9,-999.0000, -999.00,-999.000
318M20130321,       P02W,      47,          1,         30,         30,2,20130420,       0119,    30.0019,   160.6026,       5683,   205.2,  16.7264,  34.6928,2,  34.6925,2,    223.6,2,   229.3,2,    3.42,2,    3.27,2,    0.02,2,    0.23,2,   2.608,2,   1.612,2,   0.184,2,     1.56,2,  2026.4,2, 2279.61,2,   7.9666,2,       25,-999.000,9,-999.0000,9, -999.00,9,    0.47,2,    78.6,2,     3.4,-999.000,9,-999.000,     -999.0,9, -999.00,9,   49.43,2,    7.18,2,     -999.0,9,  -999.0,9, 20130420,      328,  29.9995, 160.6133,    34.8561,2,     -999.0,9,     -999.0,9,    16.7261,2,     -999.0,9,     -999.0,9,-999.0000, -999.00,-999.000
318M20130321,       P02W,      47,          1,         29,         29,2,20130420,       0119,    30.0019,   160.6026,       5683,   261.3,  16.5303,  34.6864,2,  34.6855,2,    230.2,2,   230.8,2,    3.61,2,    3.45,2,    0.02,2,    0.24,2,-999.000,9,-999.000,9,-999.000,9,-999.0000,9,  -999.0,9, -999.00,9,-999.0000,9,  -999.00,-999.000,9,-999.0000,9, -999.00,9, -999.00,9,  -999.0,9,  -999.0,-999.000,9,-999.000,     -999.0,9, -999.00,9,   49.57,2,    7.17,2,     -999.0,9,  -999.0,9, 20130420,      325,  29.9991, 160.6127,     34.849,2,     -999.0,9,     -999.0,9,    16.5296,2,     -999.0,9,     -999.0,9,-999.0000, -999.00,-999.000
318M20130321,       P02W,      47,          1,         28,         28,2,20130420,       0119,    30.0019,   160.6026,       5683,   291.4,  16.3474,  34.6665,2,  34.6719,2,    217.4,2,   222.3,2,    4.59,2,    4.44,2,    0.01,2,    0.31,2,   2.653,2,   1.620,2,   0.134,2,     1.38,2,  2033.7,2, 2276.01,2,   7.9498,2,       25,-999.000,9,-999.0000,9, -999.00,9,    0.43,2,    61.8,2,     3.2,-999.000,9,-999.000,     -999.0,9, -999.00,9,   48.29,2,    8.61,2,     -999.0,9,  -999.0,9, 20130420,      323,  29.9992, 160.6123,    34.8354,2,     -999.0,9,     -999.0,9,     16.341,2,     -999.0,9,     -999.0,9,-999.0000, -999.00,-999.000
318M20130321,       P02W,      47,          1,         27,         27,2,20130420,       0119,    30.0019,   160.6026,       5683,   341.1,  15.4727,  34.5734,2,  34.5682,2,    208.2,2,   206.6,2,    7.13,2,    7.13,2,    0.01,2,     0.5,2,-999.000,9,-999.000,9,-999.000,9,-999.0000,9,  -999.0,9, -999.00,9,-999.0000,9,  -999.00,-999.000,9,-999.0000,9, -999.00,9, -999.00,9,  -999.0,9,  -999.0,-999.000,9,-999.000,     -999.0,9, -999.00,9,   46.68,2, -999.00,9,     -999.0,9,  -999.0,9, 20130420,      322,  29.9996, 160.6116,    34.7312,2,     -999.0,9,     -999.0,9,    15.4753,2,     -999.0,9,     -999.0,9,-999.0000, -999.00,-999.000
318M20130321,       P02W,      47,          1,         26,         26,2,20130420,       0119,    30.0019,   160.6026,       5683,   396.3,   13.984,  34.4703,2,  34.4683,2,    203.3,2,   202.7,2,   10.84,2,    9.83,2,       0,2,    0.68,2,   2.969,2,   1.772,2,   0.060,2,      1.4,2,  2076.1,2, 2271.51,2,   7.8544,2,       25,-999.000,9,-999.0000,9, -999.00,9,    0.33,2,    45.0,2,     2.8,-999.000,9,-999.000,     -999.0,9, -999.00,9,   47.08,2, -999.00,9,     -999.0,9,  -999.0,9, 20130420,      320,  29.9999, 160.6109,    34.6308,2,     -999.0,9,     -999.0,9,    13.9874,2,     -999.0,9,     -999.0,9,-999.0000, -999.00,-999.000
318M20130321,       P02W,      47,          1,         25,         25,2,20130420,       0119,    30.0019,   160.6026,       5683,   502.1,  10.9848,  34.2594,2,  34.2583,2,    192.7,2,   194.9,2,   20.41,2,   15.57,2,       0,2,    1.09,2,-999.000,9,-999.000,9,-999.000,9,-999.0000,9,  2114.9,2, 2269.01,2,   7.7599,2,       25,-999.000,9,-999.0000,9, -999.00,9,    0.23,2,    35.0,2,     2.7,-999.000,9,-999.000,     -999.0,9, -999.00,9,    45.4,2, -999.00,9,     -999.0,9,  -999.0,9, 20130420,      317,  30.0002, 160.6102,    34.4199,2,     -999.0,9,     -999.0,9,    10.9717,2,     -999.0,9,     -999.0,9,-999.0000, -999.00,-999.000
318M20130321,       P02W,      47,          1,         24,         24,2,20130420,       0119,    30.0019,   160.6026,       5683,   603.1,   8.2872,  34.0915,2,  34.0884,2,    167.1,2,   166.9,2,    37.5,2,      23,2,       0,2,    1.64,2,   3.072,2,   1.657,2,   0.100,2,     0.84,2,  -999.0,9, -999.00,9,-999.0000,9,  -999.00,-999.000,9,-999.0000,9, -999.00,9,    0.02,2,    -3.0,2,     2.6,-999.000,9,-999.000,     -999.0,9, -999.00,9,   41.92,2, -999.00,9,     -999.0,9,  -999.0,9, 20130420,      315,  30.0003, 160.6102,    34.2491,2,     -999.0,9,     -999.0,9,       8.29,2,     -999.0,9,     -999.0,9,-999.0000, -999.00,-999.000
318M20130321,       P02W,      47,          1,         23,         23,2,20130420,       0119,    30.0019,   160.6026,       5683,     703,   6.2228,  34.0417,2,  34.0412,2,    123.8,2,   122.4,2,   61.03,2,   30.81,2,       0,2,    2.21,2,-999.000,9,-999.000,9,-999.000,9,-999.0000,9,  2228.8,2, 2290.11,2,   7.5037,2,       25,-999.000,9,-999.0000,9, -999.00,9,   -0.20,2,   -60.7,2,     2.5,-999.000,9,-999.000,     -999.0,9, -999.00,9,   41.17,2, -999.00,9,     -999.0,9,  -999.0,9, 20130420,      312,  30.0005, 160.6101,    34.2017,2,     -999.0,9,     -999.0,9,     6.2227,2,     -999.0,9,     -999.0,9,-999.0000, -999.00,-999.000
318M20130321,       P02W,      47,          1,         22,         22,2,20130420,       0119,    30.0019,   160.6026,       5683,     805,   5.1017,  34.0933,2,  34.0921,2,     82.2,2,    83.3,2,   81.93,2,   36.14,2,       0,2,     2.6,2,   1.486,2,   0.776,2,   0.066,2,     0.29,2,  -999.0,9, -999.00,9,-999.0000,9,  -999.00,-999.000,9,-999.0000,9, -999.00,9,   -0.36,2,  -106.3,2,     2.6,-999.000,9,-999.000,     -999.0,9, -999.00,9,    40.2,2, -999.00,9,     -999.0,9,  -999.0,9, 20130420,      309,  30.0007,   160.61,    34.2529,2,     -999.0,9,     -999.0,9,        5.1,2,     -999.0,9,     -999.0,9,-999.0000, -999.00,-999.000
318M20130321,       P02W,      47,          1,         21,         21,2,20130420,       0119,    30.0019,   160.6026,       5683,   906.1,   4.3009,  34.2073,2,  34.2051,2,       52,2,    49.8,2,  103.21,2,   40.15,2,       0,2,    2.88,2,-999.000,9,-999.000,9,-999.000,9,-999.0000,9,    2320,2, 2333.03,2,   7.3532,2,       25,-999.000,9,-999.0000,9, -999.00,9,   -0.56,2,  -151.2,2,     3.0,-999.000,9,-999.000,     -999.0,9, -999.00,9,   39.61,2, -999.00,9,     -999.0,9,  -999.0,9, 20130420,      307,  30.0008, 160.6098,    34.3664,2,     -999.0,9,     -999.0,9,     4.2953,2,     -999.0,9,     -999.0,9,-999.0000, -999.00,-999.000
318M20130321,       P02W,      47,          1,         20,         20,2,20130420,       0119,    30.0019,   160.6026,       5683,  1007.2,   3.7742,  34.2872,2,  34.2867,2,     39.1,2,    38.5,2,  118.04,2,   41.73,2,       0,2,       3,2,   0.386,2,   0.190,2,   0.026,2,     0.12,2,  -999.0,9, -999.00,9,-999.0000,9,  -999.00,-999.000,9,-999.0000,9, -999.00,9,   -0.51,2,  -186.0,2,     2.2,-999.000,9,-999.000,     -999.0,9, -999.00,9,   39.83,2, -999.00,9,     -999.0,9,  -999.0,9, 20130420,      304,   30.001, 160.6097,    34.4483,2,     -999.0,9,     -999.0,9,     3.7693,2,     -999.0,9,     -999.0,9,-999.0000, -999.00,-999.000
318M20130321,       P02W,      47,          1,         19,         19,2,20130420,       0119,    30.0019,   160.6026,       5683,    1111,   3.4907,   34.347,2,  34.3471,2,     31.7,2,    34.3,2,  126.43,2,   42.05,2,       0,2,    3.04,2,   0.195,2,   0.096,2,   0.015,2,     0.02,2,  2354.9,2, 2356.24,2,   7.3317,6,       25,-999.000,9,-999.0000,9, -999.00,9,   -0.63,2,  -195.0,2,     2.0,-999.000,9,-999.000,     -999.0,9, -999.00,9,   37.21,2, -999.00,9,     -999.0,9,  -999.0,9, 20130420,      301,  30.0011, 160.6094,    34.5091,2,     -999.0,9,     -999.0,9,     3.4911,2,     -999.0,9,     -999.0,9,-999.0000, -999.00,-999.000
318M20130321,       P02W,      47,          1,         18,         18,2,20130420,       0119,    30.0019,   160.6026,       5683,  1212.9,   3.1981,  34.3904,2,  34.3893,2,     31.2,2,    32.5,2,  135.31,2,   42.88,2,       0,2,    3.08,2,   0.126,2,   0.070,2,   0.009,2,        0,2,  -999.0,9, -999.00,9,-999.0000,9,  -999.00,-999.000,9,-999.0000,9, -999.00,9,   -0.59,6,  -207.3,6,     1.8,-999.000,9,-999.000,     -999.0,9, -999.00,9,   36.29,2, -999.00,9,     -999.0,9,  -999.0,9, 20130420,      258,  30.0013, 160.6092,    34.5515,2,     -999.0,9,     -999.0,9,     3.1981,2,     -999.0,9,     -999.0,9,-999.0000, -999.00,-999.000
318M20130321,       P02W,      47,          1,         17,         17,2,20130420,       0119,    30.0019,   160.6026,       5683,  1313.9,   2.9483,  34.4381,2,   34.438,2,     33.5,2,    34.2,2,  142.53,2,   42.99,2,       0,2,    3.08,2,   0.069,2,   0.037,2,   0.011,2,        0,2,  2372.5,2, 2380.95,2,   7.3372,2,       25,-999.000,9,-999.0000,9, -999.00,9,   -0.58,2,  -214.9,2,     2.1,-999.000,9,-999.000,     -999.0,9, -999.00,9,   37.03,2, -999.00,9,     -999.0,9,  -999.0,9, 20130420,      255,  30.0014,  160.609,    34.6004,2,     -999.0,9,     -999.0,9,     2.9475,2,     -999.0,9,     -999.0,9,-999.0000, -999.00,-999.000
318M20130321,       P02W,      47,          1,         16,         16,2,20130420,       0119,    30.0019,   160.6026,       5683,    1414,    2.725,  34.4769,2,  34.4757,2,     39.8,2,    38.3,2,  147.99,2,   42.97,2,       0,2,    3.07,2,   0.039,2,   0.027,2,   0.006,2,        0,2,  2376.6,2, 2387.85,2,   7.3482,2,       25,-999.000,9,-999.0000,9, -999.00,9,   -0.49,2,  -234.8,2,     2.0,-999.000,9,-999.000,     -999.0,9, -999.00,9,   36.61,2, -999.00,9,     -999.0,9,  -999.0,9, 20130420,      252,  30.0014,  160.609,    34.6383,2,     -999.0,9,     -999.0,9,     2.7267,2,     -999.0,9,     -999.0,9,-999.0000, -999.00,-999.000
318M20130321,       P02W,      47,          1,         15,         15,2,20130420,       0119,    30.0019,   160.6026,       5683,  1613.8,   2.3677,  34.5369,2,  34.5364,2,     53.6,2,      53,2,   155.6,2,   42.17,2,       0,2,       3,2,-999.000,9,-999.000,9,-999.000,9,-999.0000,9,  2375.7,2, 2399.95,2,   7.3798,2,       25,-999.000,9,-999.0000,9, -999.00,9,   -0.41,2,  -237.6,2,     2.7,-999.000,9,-999.000,     -999.0,9, -999.00,9,   36.97,2, -999.00,9,     -999.0,9,  -999.0,9, 20130420,      248,  30.0015, 160.6087,    34.6993,2,     -999.0,9,     -999.0,9,     2.3664,2,     -999.0,9,     -999.0,9,-999.0000, -999.00,-999.000
318M20130321,       P02W,      47,          1,         14,         14,2,20130420,       0119,    30.0019,   160.6026,       5683,  1817.4,   2.1487,  34.5739,2,  34.5741,2,     67.3,2,    69.1,2,  158.14,2,   41.18,2,       0,2,    2.92,2,   0.007,2,   0.010,2,   0.002,2,        0,2,  2372.6,2, 2406.15,2,   7.4131,2,       25,-999.000,9,-999.0000,9, -999.00,9,   -0.31,2,  -248.2,2,     2.1,-999.000,9,-999.000,     -999.0,9, -999.00,9, -999.00,9, -999.00,9,     -999.0,9,  -999.0,9, 20130420,      243,  30.0016, 160.6084,    34.7372,2,     -999.0,9,     -999.0,9,     2.1485,2,     -999.0,9,     -999.0,9,-999.0000, -999.00,-999.000
318M20130321,       P02W,      47,          1,         13,         13,2,20130420,       0119,    30.0019,   160.6026,       5683,  2020.5,   1.9638,  34.6003,2,  34.5999,2,     82.9,2,      82,2,   159.5,2,    40.4,2,       0,2,    2.85,2,-999.000,9,-999.000,9,-999.000,9,-999.0000,9,  2366.2,2, 2410.06,2,   7.4386,2,       25,-999.000,9,-999.0000,9, -999.00,9,   -0.26,2,  -244.8,2,     2.0,-999.000,9,-999.000,     -999.0,9, -999.00,9,   37.31,2, -999.00,9,     -999.0,9,  -999.0,9, 20130420,      239,  30.0017, 160.6081,     34.763,2,     -999.0,9,     -999.0,9,     1.9637,2,     -999.0,9,     -999.0,9,-999.0000, -999.00,-999.000
318M20130321,       P02W,      47,          1,         12,         12,2,20130420,       0119,    30.0019,   160.6026,       5683,  2264.7,   1.8019,  34.6238,2,  34.6233,2,     96.1,2,    95.5,2,  161.06,2,   39.58,2,       0,2,    2.79,2,   0.023,2,   0.020,2,   0.003,2,        0,2,  -999.0,9, -999.00,9,-999.0000,9,  -999.00,-999.000,9,-999.0000,9, -999.00,9,   -0.16,2,  -244.8,2,     2.1,-999.000,9,-999.000,     -999.0,9, -999.00,9, -999.00,9, -999.00,9,     -999.0,9,  -999.0,9, 20130420,      234,  30.0018, 160.6077,    34.7865,2,     -999.0,9,     -999.0,9,      1.802,2,     -999.0,9,     -999.0,9,-999.0000, -999.00,-999.000
318M20130321,       P02W,      47,          1,         11,         11,2,20130420,       0119,    30.0019,   160.6026,       5683,  2521.7,   1.6884,  34.6426,2,  34.6423,2,    111.2,2,   110.8,2,  158.13,2,   38.56,2,       0,2,     2.7,2,-999.000,9,-999.000,9,-999.000,9,-999.0000,9,  -999.0,9, -999.00,9,-999.0000,9,  -999.00,-999.000,9,-999.0000,9, -999.00,9,   -0.07,2,  -241.1,2,     2.1,-999.000,9,-999.000,     -999.0,9, -999.00,9,   37.11,2, -999.00,9,     -999.0,9,  -999.0,9, 20130420,      228,  30.0022, 160.6073,    34.8057,2,     -999.0,9,     -999.0,9,     1.6882,2,     -999.0,9,     -999.0,9,-999.0000, -999.00,-999.000
318M20130321,       P02W,      47,          1,         10,         10,2,20130420,       0119,    30.0019,   160.6026,       5683,  2781.6,   1.6079,  34.6544,2,  34.6538,2,    119.8,2,   119.7,2,  158.22,2,   37.99,2,       0,2,    2.66,2,   0.007,2,   0.009,2,   0.002,2,     0.01,2,  2345.4,2, 2416.16,6,   7.5117,2,       25,-999.000,9,-999.0000,9, -999.00,9,    0.00,2,  -237.9,2,     2.3,-999.000,9,-999.000,     -999.0,9, -999.00,9, -999.00,9, -999.00,9,     -999.0,9,  -999.0,9, 20130420,      223,  30.0025, 160.6067,    34.8172,2,     -999.0,9,     -999.0,9,     1.6083,2,     -999.0,9,     -999.0,9,-999.0000, -999.00,-999.000
318M20130321,       P02W,      47,          1,          9,          9,2,20130420,       0119,    30.0019,   160.6026,       5683,  3036.7,   1.5572,  34.6628,2,  34.6622,2,      128,2,   127.5,2,  156.27,2,   37.47,2,       0,2,    2.63,2,-999.000,9,-999.000,9,-999.000,9,-999.0000,9,  -999.0,9, -999.00,9,-999.0000,9,  -999.00,-999.000,9,-999.0000,9, -999.00,9,    0.03,2,  -232.0,2,     2.1,-999.000,9,-999.000,     -999.0,9, -999.00,9,   35.73,2, -999.00,9,     -999.0,9,  -999.0,9, 20130420,      218,  30.0025, 160.6064,    34.8257,2,     -999.0,9,     -999.0,9,      1.557,2,     -999.0,9,     -999.0,9,-999.0000, -999.00,-999.000
318M20130321,       P02W,      47,          1,          8,          8,2,20130420,       0119,    30.0019,   160.6026,       5683,  3344.8,   1.5056,  34.6722,2,  34.6715,2,    135.8,2,   137.9,2,  153.93,2,   36.84,2,       0,2,    2.58,2,   0.007,2,   0.010,2,   0.003,2,     0.05,2,  -999.0,9, -999.00,9,-999.0000,9,  -999.00,-999.000,9,-999.0000,9, -999.00,9,    0.07,2,  -233.1,2,     2.0,-999.000,9,-999.000,     -999.0,9, -999.00,9, -999.00,9, -999.00,9,     -999.0,9,  -999.0,9, 20130420,      212,  30.0025,  160.606,     34.835,2,     -999.0,9,     -999.0,9,     1.5057,2,     -999.0,9,     -999.0,9,-999.0000, -999.00,-999.000