BOTTLE,20220817CCHSIOAMB
EXPOCODE,SECT_ID,STNNBR,CASTNO,SAMPNO,BTLNBR,BTLNBR_FLAG_W,DATE,TIME,LATITUDE,LONGITUDE,DEPTH,CTDPRS,CTDTMP,CTDSAL,CTDSAL_FLAG_W,SALNTY,SALNTY_FLAG_W,CTDOXY,CTDOXY_FLAG_W,OXYGEN,OXYGEN_FLAG_W,SILCAT,SILCAT_FLAG_W,NITRAT,NITRAT_FLAG_W,NITRIT,NITRIT_FLAG_W,PHSPHT,PHSPHT_FLAG_W,CFC-11,CFC-11_FLAG_W,CFC-12,CFC-12_FLAG_W,CFC113,CFC113_FLAG_W,SF6,SF6_FLAG_W,TCARBN,TCARBN_FLAG_W,ALKALI,ALKALI_FLAG_W,PH_TOT,PH_TOT_FLAG_W,PH_TMP,TRITUM,TRITUM_FLAG_W,HELIUM,HELIUM_FLAG_W,DELHE3,DELHE3_FLAG_W,DELC13,DELC13_FLAG_W,DELC14,DELC14_FLAG_W,C14ERR,NEON,NEON_FLAG_W,NEONER,I-129,I-129_FLAG_W,SR-90,SR-90_FLAG_W,DOC,DOC_FLAG_W,TDN,TDN_FLAG_W,CALCIUM,CALCIUM_FLAG_W,D15N_NO3,D15N_NO3_FLAG_W,BTL_DATE,BTL_TIME,BTL_LAT,BTL_LON,SALTREF,SALTREF_FLAG_W,CS-137,CS-137_FLAG_W,CS-134,CS-134_FLAG_W,REFTMP,REFTMP_FLAG_W,LAB_DEN,LAB_DEN_FLAG_W,D18O_NO3,D18O_NO3_FLAG_W,HELIER,DELHER,TRITER
,,,,,,,,,,,METERS,DBAR,ITS-90,PSS-78,,PSS-78,,UMOL/KG,,UMOL/KG,,UMOL/KG,,UMOL/KG,,UMOL/KG,,UMOL/KG,,PMOL/KG,,PMOL/KG,,PMOL/KG,,FMOL/KG,,UMOL/KG,,UMOL/KG,,,,DEG C,TU,,NMOL/KG,,PERCNT,,/MILLE,,/MILLE,,/MILLE,NMOL/KG,,NMOL/KG,BQ/M^3,,DM/.1MG,,UMOL/KG,,UMOL/KG,,MMOL/KG,,/MILLE,,,,,,G/KG,,BQ/M^3,,BQ/M^3,,ITS-90,,,,/MILLE,,NMOL/KG,PERCNT,TU
318M20130321,       P02W,      68,          1,         36,         36,2,20130426,       1954,    30.0006,   175.8931,       5310,       4,  18.0089,  34.7943,2,  34.7945,2,    238.5,2,   238.6,2,    2.24,2,       0,2,       0,2,    0.02,2,   2.582,2,   1.601,2,   0.225,2,     1.58,2,  2015.4,6, 2283.51,2,   7.9973,2,       25,   0.493,2,   1.7559,2,   -1.14,2, -999.00,9,  -999.0,9,  -999.0,   7.072,2,   0.033,     -999.0,9, -999.00,9, -999.00,9, -999.00,9,     -999.0,9,  -999.0,9, 20130426,     2201,  30.0001, 175.8932,    34.9585,2,     -999.0,9,     -999.0,9,    18.0091,2,     -999.0,9,     -999.0,9,   0.0074,    0.15,   0.011
318M20130321,       P02W,      68,          1,         35,         35,2,20130426,       1954,    30.0006,   175.8931,       5310,     4.9,  18.0081,  34.7943,2,  34.7943,2,    238.4,2,   238.4,2,    2.15,2,       0,2,       0,2,    0.02,2,-999.000,9,-999.000,9,-999.000,9,-999.0000,9,  -999.0,9, -999.00,9,-999.0000,9,  -999.00,-999.000,9,-999.0000,9, -999.00,9, -999.00,9,  -999.0,9,  -999.0,-999.000,9,-999.000,     -999.0,9, -999.00,9, -999.00,9, -999.00,9,     -999.0,9,  -999.0,9, 20130426,     2201,  30.0001, 175.8932,    34.9583,2,     -999.0,9,     -999.0,9,     18.008,2,     -999.0,9,     -999.0,9,-999.0000, -999.00,-999.000
318M20130321,       P02W,      68,          1,         34,         34,2,20130426,       1954,    30.0006,   175.8931,       5310,    23.1,  18.0026,   34.794,2,  34.7937,2,    239.8,2,   238.4,2,    2.34,2,       0,2,       0,2,    0.01,2,   2.558,2,   1.565,2,   0.191,2,      1.7,2,  -999.0,9, -999.00,9,-999.0000,9,  -999.00,-999.000,9,-999.0000,9, -999.00,9, -999.00,9,  -999.0,9,  -999.0,-999.000,9,-999.000,     -999.0,9, -999.00,9, -999.00,9, -999.00,9,     -999.0,9,  -999.0,9, 20130426,     2158,  30.0001,  175.893,    34.9578,2,     -999.0,9,     -999.0,9,     18.002,2,     -999.0,9,     -999.0,9,-999.0000, -999.00,-999.000
318M20130321,       P02W,      68,          1,         33,         33,2,20130426,       1954,    30.0006,   175.8931,       5310,    50.6,   17.988,  34.7907,2,  34.7908,2,    239.6,2,   238.3,2,    2.34,2,       0,2,       0,2,    0.02,2,   2.542,2,   1.566,2,   0.217,2,     1.73,2,  2015.1,2, 2282.81,2,   7.9963,6,       25,   0.496,2,   1.7721,2,   -0.97,2, -999.00,9,  -999.0,9,  -999.0,   7.155,2,   0.033,     -999.0,9, -999.00,9, -999.00,9, -999.00,9,     -999.0,9,  -999.0,9, 20130426,     2156,  30.0003, 175.8931,    34.9548,2,     -999.0,9,     -999.0,9,    17.9869,2,     -999.0,9,     -999.0,9,   0.0074,    0.15,   0.011
318M20130321,       P02W,      68,          1,         32,         32,2,20130426,       1954,    30.0006,   175.8931,       5310,    75.8,  17.5173,   34.712,2,  34.7155,2,    232.8,2,   233.8,2,    2.54,2,    0.38,2,    0.14,2,    0.03,2,-999.000,9,-999.000,9,-999.000,9,-999.0000,9,  -999.0,9, -999.00,9,-999.0000,9,  -999.00,-999.000,9,-999.0000,9, -999.00,9, -999.00,9,  -999.0,9,  -999.0,-999.000,9,-999.000,     -999.0,9, -999.00,9, -999.00,9, -999.00,9,     -999.0,9,  -999.0,9, 20130426,     2154,  30.0003, 175.8931,    34.8792,2,     -999.0,9,     -999.0,9,    17.5267,2,     -999.0,9,     -999.0,9,-999.0000, -999.00,-999.000
318M20130321,       P02W,      68,          1,         31,         31,2,20130426,       1954,    30.0006,   175.8931,       5310,    99.8,  17.0248,  34.6473,2,  34.6483,2,    232.2,2,   234.5,2,    3.03,2,    0.69,2,    0.64,2,     0.1,2,   2.644,2,   1.626,2,   0.202,2,     1.72,2,  2020.4,2, 2274.81,6,   7.9737,2,       25,   0.490,2,   1.7623,2,   -1.32,2, -999.00,9,  -999.0,9,  -999.0,   7.178,2,   0.033,     -999.0,9, -999.00,9, -999.00,9, -999.00,9,     -999.0,9,  -999.0,9, 20130426,     2153,  30.0002, 175.8931,    34.8117,2,     -999.0,9,     -999.0,9,    17.0263,2,     -999.0,9,     -999.0,9,   0.0074,    0.15,   0.010
318M20130321,       P02W,      68,          1,         30,         30,2,20130426,       1954,    30.0006,   175.8931,       5310,   151.1,  16.6174,  34.6226,2,  34.6223,2,    227.7,2,   226.7,2,    3.81,2,    2.97,2,    0.04,2,     0.2,2,-999.000,9,-999.000,9,-999.000,9,-999.0000,9,  -999.0,9, -999.00,9,-999.0000,9,  -999.00,-999.000,9,-999.0000,9, -999.00,9, -999.00,9,  -999.0,9,  -999.0,-999.000,9,-999.000,     -999.0,9, -999.00,9, -999.00,9, -999.00,9,     -999.0,9,  -999.0,9, 20130426,     2151,  30.0001, 175.8932,    34.7856,2,     -999.0,9,     -999.0,9,    16.6213,2,     -999.0,9,     -999.0,9,-999.0000, -999.00,-999.000
318M20130321,       P02W,      68,          1,         29,         29,2,20130426,       1954,    30.0006,   175.8931,       5310,   200.7,   15.679,  34.5666,2,  34.5668,2,    204.9,2,   219.6,2,    5.86,2,    5.25,2,    0.02,2,    0.33,2,   2.758,2,   1.673,2,   0.134,2,     1.97,2,  2042.8,2, 2271.51,2,   7.9245,2,       25,   0.510,2,   1.7751,2,   -0.67,2, -999.00,9,  -999.0,9,  -999.0,   7.240,2,   0.033,     -999.0,9, -999.00,9, -999.00,9, -999.00,9,     -999.0,9,  -999.0,9, 20130426,     2149,       30, 175.8933,    34.7298,2,     -999.0,9,     -999.0,9,    15.6774,2,     -999.0,9,     -999.0,9,   0.0075,    0.15,   0.011
318M20130321,       P02W,      68,          1,         28,         28,2,20130426,       1954,    30.0006,   175.8931,       5310,   252.2,   14.793,  34.5175,2,  34.5187,2,    205.9,2,   206.4,2,    8.98,2,     8.1,2,    0.02,2,    0.54,2,-999.000,9,-999.000,9,-999.000,9,-999.0000,9,  -999.0,9, -999.00,9,-999.0000,9,  -999.00,-999.000,9,-999.0000,9, -999.00,9, -999.00,9,  -999.0,9,  -999.0,-999.000,9,-999.000,     -999.0,9, -999.00,9, -999.00,9, -999.00,9,     -999.0,9,  -999.0,9, 20130426,     2147,       30, 175.8932,    34.6814,2,     -999.0,9,     -999.0,9,    14.7883,2,     -999.0,9,     -999.0,9,-999.0000, -999.00,-999.000
318M20130321,       P02W,      68,          1,         27,         27,2,20130426,       1954,    30.0006,   175.8931,       5310,   302.5,   13.692,  34.4565,2,  34.4486,2,    200.6,2,   203.3,2,   12.59,2,    10.5,2,    0.01,2,    0.71,2,   2.949,2,   1.733,2,   0.084,2,     1.36,2,  2079.3,2, 2270.61,2,   7.8475,2,       25,   0.512,2,   1.7807,2,    1.04,2, -999.00,9,  -999.0,9,  -999.0,   7.438,2,   0.034,     -999.0,9, -999.00,9, -999.00,9, -999.00,9,     -999.0,9,  -999.0,9, 20130426,     2145,  30.0001, 175.8932,     34.611,2,     -999.0,9,     -999.0,9,    13.6926,2,     -999.0,9,     -999.0,9,   0.0075,    0.15,   0.010
318M20130321,       P02W,      68,          1,         26,         26,2,20130426,       1954,    30.0006,   175.8931,       5310,   353.1,  12.4577,  34.3743,2,  34.3736,2,    205.8,2,   204.5,2,   15.72,2,   12.19,2,    0.01,2,    0.83,2,   3.083,2,   1.794,2,   0.091,2,     1.42,2,  -999.0,9, -999.00,9,-999.0000,9,  -999.00,-999.000,9,-999.0000,9, -999.00,9, -999.00,9,  -999.0,9,  -999.0,-999.000,9,-999.000,     -999.0,9, -999.00,9, -999.00,9, -999.00,9,     -999.0,9,  -999.0,9, 20130426,     2143,  30.0003, 175.8931,    34.5357,2,     -999.0,9,     -999.0,9,    12.4146,3,     -999.0,9,     -999.0,9,-999.0000, -999.00,-999.000
318M20130321,       P02W,      68,          1,         25,         25,2,20130426,       1954,    30.0006,   175.8931,       5310,   401.3,  11.4527,  34.2941,2,  34.2955,2,    204.9,2,   204.9,2,   18.75,2,   13.88,2,    0.02,2,    0.97,2,   3.157,2,   1.827,2,   0.125,2,      1.6,2,  2102.2,2, 2270.81,2,     7.79,2,       25,   0.491,2,   1.7894,2,    2.15,2, -999.00,9,  -999.0,9,  -999.0,   7.443,2,   0.034,     -999.0,9, -999.00,9, -999.00,9, -999.00,9,     -999.0,9,  -999.0,9, 20130426,     2141,  30.0004, 175.8931,    34.4573,2,     -999.0,9,     -999.0,9,    11.4447,2,     -999.0,9,     -999.0,9,   0.0075,    0.15,   0.010
318M20130321,       P02W,      68,          1,         24,         24,2,20130426,       1954,    30.0006,   175.8931,       5310,   502.7,   8.9907,   34.115,2,  34.1165,2,    189.7,2,     188,2,   30.76,2,   19.87,2,    0.02,2,    1.41,2,   3.303,2,   1.834,2,   0.139,2,     1.41,2,  2143.7,2, 2271.11,2,   7.6905,2,       25,   0.492,2,   1.8314,2,    5.01,2, -999.00,9,  -999.0,9,  -999.0,   7.738,2,   0.036,     -999.0,9, -999.00,9, -999.00,9, -999.00,9,     -999.0,9,  -999.0,9, 20130426,     2138,  30.0004, 175.8931,    34.2774,2,     -999.0,9,     -999.0,9,     8.9969,2,     -999.0,9,     -999.0,9,   0.0077,    0.15,   0.010
318M20130321,       P02W,      68,          1,         23,         23,2,20130426,       1954,    30.0006,   175.8931,       5310,   603.8,   6.6101,  34.0143,2,   34.014,2,    145.4,2,   144.6,2,   53.81,2,   28.36,2,    0.01,2,    2.07,2,   2.834,2,   1.511,2,   0.129,2,     0.73,2,  2206.4,2, 2281.51,2,   7.5486,2,       25,   0.418,2,-999.0000,9, -999.00,9, -999.00,9,  -999.0,9,  -999.0,-999.000,9,-999.000,     -999.0,9, -999.00,9, -999.00,9, -999.00,9,     -999.0,9,  -999.0,9, 20130426,     2135,  30.0003, 175.8931,    34.1744,2,     -999.0,9,     -999.0,9,     6.6193,2,     -999.0,9,     -999.0,9,-999.0000, -999.00,   0.010
318M20130321,       P02W,      68,          1,         22,         22,2,20130426,       1954,    30.0006,   175.8931,       5310,   704.6,   5.3152,  34.0244,2,  34.0241,2,    109.1,2,   111.8,2,   73.44,2,   33.54,2,    0.01,2,    2.46,2,   2.259,2,   1.196,2,   0.102,2,     0.63,2,  2253.1,2, 2299.42,2,   7.4571,2,       25,-999.000,9,-999.0000,9, -999.00,9, -999.00,9,  -999.0,9,  -999.0,-999.000,9,-999.000,     -999.0,9, -999.00,9, -999.00,9, -999.00,9,     -999.0,9,  -999.0,9, 20130426,     2133,  30.0002,  175.893,    34.1845,2,     -999.0,9,     -999.0,9,     5.3132,2,     -999.0,9,     -999.0,9,-999.0000, -999.00,-999.000
318M20130321,       P02W,      68,          1,         21,         21,2,20130426,       1954,    30.0006,   175.8931,       5310,   806.5,   4.4907,  34.1266,2,  34.1248,2,     67.8,2,    68.6,2,   94.72,2,   38.52,2,    0.01,2,    2.81,2,   1.288,2,   0.669,2,   0.053,2,     0.31,2,  2299.8,2, 2320.32,2,   7.3744,2,       25,   0.242,2,   1.8748,2,   15.13,2, -999.00,9,  -999.0,9,  -999.0,   7.966,2,   0.037,     -999.0,9, -999.00,9, -999.00,9, -999.00,9,     -999.0,9,  -999.0,9, 20130426,     2130,  30.0002,  175.893,    34.2857,2,     -999.0,9,     -999.0,9,     4.4909,2,     -999.0,9,     -999.0,9,   0.0079,    0.15,   0.011
318M20130321,       P02W,      68,          1,         20,         20,2,20130426,       1954,    30.0006,   175.8931,       5310,   904.6,   4.0127,  34.2275,2,   34.227,2,     40.4,2,    39.3,2,  110.43,2,   41.65,2,       0,2,    3.05,2,   0.521,2,   0.259,2,   0.019,2,     0.11,2,  2334.1,2, 2341.63,2,   7.3302,2,       25,   0.142,2,   1.9329,2,   15.72,2, -999.00,9,  -999.0,9,  -999.0,   8.112,2,   0.037,     -999.0,9, -999.00,9, -999.00,9, -999.00,9,     -999.0,9,  -999.0,9, 20130426,     2127,  30.0002,  175.893,    34.3883,2,     -999.0,9,     -999.0,9,     4.0123,2,     -999.0,9,     -999.0,9,   0.0081,    0.15,   0.011
318M20130321,       P02W,      68,          1,         19,         19,2,20130426,       1954,    30.0006,   175.8931,       5310,  1007.8,    3.595,  34.3055,2,  34.3058,2,     29.1,2,    28.3,2,   123.8,2,   43.04,2,       0,2,    3.14,2,   0.221,2,   0.122,2,   0.002,2,     0.09,2,  -999.0,9, -999.00,9,-999.0000,9,  -999.00,   0.068,2,   1.8849,2,   16.10,2, -999.00,9,  -999.0,9,  -999.0,   8.054,2,   0.037,     -999.0,9, -999.00,9, -999.00,9, -999.00,9,     -999.0,9,  -999.0,9, 20130426,     2124,  30.0001,  175.893,    34.4676,2,     -999.0,9,     -999.0,9,     3.5915,2,     -999.0,9,     -999.0,9,   0.0079,    0.15,   0.010
318M20130321,       P02W,      68,          1,         18,         18,2,20130426,       1954,    30.0006,   175.8931,       5310,  1108.1,   3.2619,  34.3636,2,  34.3625,2,     23.8,2,    23.6,2,  133.85,2,    43.7,2,       0,2,    3.18,2,   0.111,2,   0.065,2,   0.004,2,        0,2,  2370.5,2, 2368.74,2,   7.3109,6,       25,   0.044,2,   1.9039,2,   16.75,2, -999.00,9,  -999.0,9,  -999.0,   8.097,2,   0.037,     -999.0,9, -999.00,9, -999.00,9, -999.00,9,     -999.0,9,  -999.0,9, 20130426,     2121,  30.0001,  175.893,    34.5246,2,     -999.0,9,     -999.0,9,     3.2678,2,     -999.0,9,     -999.0,9,   0.0080,    0.15,   0.011
318M20130321,       P02W,      68,          1,         17,         17,2,20130426,       1954,    30.0006,   175.8931,       5310,  1208.5,   3.0392,  34.4205,2,  34.4192,2,     25.1,2,    25.7,2,  140.68,2,    43.9,2,       0,2,    3.18,2,   0.041,2,   0.033,2,   0.001,2,     0.08,2,    2377,2, 2379.15,2,   7.3198,2,       25,-999.000,9,-999.0000,9, -999.00,9, -999.00,9,  -999.0,9,  -999.0,-999.000,9,-999.000,     -999.0,9, -999.00,9, -999.00,9, -999.00,9,     -999.0,9,  -999.0,9, 20130426,     2118,  30.0001, 175.8931,    34.5815,2,     -999.0,9,     -999.0,9,     3.0392,2,     -999.0,9,     -999.0,9,-999.0000, -999.00,-999.000
318M20130321,       P02W,      68,          1,         16,         16,2,20130426,       1954,    30.0006,   175.8931,       5310,  1311.2,   2.8676,  34.4564,2,   34.456,2,     27.4,2,    28.3,2,  145.65,2,   43.96,2,       0,2,    3.17,2,   0.024,2,   0.021,2,   0.002,2,     0.08,2,  2381.1,2, 2385.85,2,    7.329,2,       25,   0.004,2,   1.9138,2,   18.28,2, -999.00,9,  -999.0,9,  -999.0,   8.001,2,   0.037,     -999.0,9, -999.00,9, -999.00,9, -999.00,9,     -999.0,9,  -999.0,9, 20130426,     2116,       30, 175.8931,    34.6184,2,     -999.0,9,     -999.0,9,     2.8649,2,     -999.0,9,     -999.0,9,   0.0080,    0.15,   0.010
318M20130321,       P02W,      68,          1,         15,         15,2,20130426,       1954,    30.0006,   175.8931,       5310,  1412.5,   2.6747,  34.4892,2,  34.4884,2,     34.2,2,    32.7,2,  150.73,2,   43.83,2,       0,2,    3.13,2,   0.033,2,   0.025,2,   0.012,2,     0.05,2,  2383.5,2, 2392.65,2,   7.3383,2,       25,   0.008,2,   1.9112,2,   18.91,2, -999.00,9,  -999.0,9,  -999.0,   8.061,2,   0.037,     -999.0,9, -999.00,9, -999.00,9, -999.00,9,     -999.0,9,  -999.0,9, 20130426,     2113,       30, 175.8932,     34.651,2,     -999.0,9,     -999.0,9,     2.6768,2,     -999.0,9,     -999.0,9,   0.0080,    0.15,   0.010
318M20130321,       P02W,      68,          1,         14,         14,2,20130426,       1954,    30.0006,   175.8931,       5310,  1613.1,   2.3334,  34.5436,2,  34.5434,2,     46.9,2,      46,2,  158.63,2,   43.07,2,       0,2,    3.08,2,-999.000,9,-999.000,9,-999.000,9,-999.0000,9,  2382.3,2, 2404.35,2,   7.3692,6,       25,-999.000,9,-999.0000,9, -999.00,9, -999.00,9,  -999.0,9,  -999.0,-999.000,9,-999.000,     -999.0,9, -999.00,9, -999.00,9, -999.00,9,     -999.0,9,  -999.0,9, 20130426,     2109,  29.9999, 175.8933,    34.7062,2,     -999.0,9,     -999.0,9,     2.3326,2,     -999.0,9,     -999.0,9,-999.0000, -999.00,-999.000
318M20130321,       P02W,      68,          1,         13,         13,2,20130426,       1954,    30.0006,   175.8931,       5310,  1817.1,   2.0643,  34.5826,2,  34.5829,2,     62.7,2,      63,2,  163.11,2,   42.03,2,       0,2,       3,2,   0.001,2,   0.009,2,   0.007,2,     0.11,2,  2378.3,2, 2410.86,2,   7.4029,2,       25,   0.030,2,   1.9152,2,   20.31,2, -999.00,9,  -999.0,9,  -999.0,   8.112,2,   0.037,     -999.0,9, -999.00,9, -999.00,9, -999.00,9,     -999.0,9,  -999.0,9, 20130426,     2104,       30, 175.8933,    34.7459,2,     -999.0,9,     -999.0,9,     2.0642,2,     -999.0,9,     -999.0,9,   0.0080,    0.15,   0.010
318M20130321,       P02W,      68,          1,         11,         11,2,20130426,       1954,    30.0006,   175.8931,       5310,  2120.9,   1.8245,  34.6192,2,  34.6196,2,     85.4,2,    86.2,2,   163.5,2,   40.58,2,       0,2,    2.87,2,   0.001,2,   0.007,2,   0.004,2,     0.08,2,  2367.9,2, 2413.86,2,-999.0000,9,  -999.00,  -0.008,2,   1.9143,2,   19.44,2, -999.00,9,  -999.0,9,  -999.0,   8.094,2,   0.037,     -999.0,9, -999.00,9, -999.00,9, -999.00,9,     -999.0,9,  -999.0,9, 20130426,     2058,  29.9999, 175.8931,    34.7829,2,     -999.0,9,     -999.0,9,     1.8253,2,     -999.0,9,     -999.0,9,   0.0080,    0.15,   0.010
318M20130321,       P02W,      68,          1,         12,         12,2,20130426,       1954,    30.0006,   175.8931,       5310,  2121.7,   1.8255,   34.619,2,-999.0000,9,     85.4,2,  -999.0,9, -999.00,9, -999.00,9, -999.00,9, -999.00,9,-999.000,9,-999.000,9,-999.000,9,-999.0000,9,  -999.0,9, -999.00,9,   7.4498,2,       25,-999.000,9,-999.0000,9, -999.00,9, -999.00,9,  -999.0,9,  -999.0,-999.000,9,-999.000,     -999.0,9, -999.00,9, -999.00,9, -999.00,9,     -999.0,9,  -999.0,9, 20130426,     2058,  29.9999, 175.8931,     -999.0,9,     -999.0,9,     -999.0,9,     1.8257,2,     -999.0,9,     -999.0,9,-999.0000, -999.00,-999.000
318M20130321,       P02W,      68,          1,         10,         10,2,20130426,       1954,    30.0006,   175.8931,       5310,  2425.1,   1.6715,  34.6408,2,  34.6404,2,    104.2,2,   103.8,2,  162.72,2,   39.34,2,       0,2,     2.8,2,-999.000,9,-999.000,9,-999.000,9,-999.0000,9,  -999.0,9, -999.00,9,-999.0000,9,  -999.00,-999.000,9,-999.0000,9, -999.00,9, -999.00,9,  -999.0,9,  -999.0,-999.000,9,-999.000,     -999.0,9, -999.00,9, -999.00,9, -999.00,9,     -999.0,9,  -999.0,9, 20130426,     2052,  29.9999, 175.8932,    34.8038,2,     -999.0,9,     -999.0,9,     1.6714,2,     -999.0,9,     -999.0,9,-999.0000, -999.00,-999.000
318M20130321,       P02W,      68,          1,          9,          9,2,20130426,       1954,    30.0006,   175.8931,       5310,  2757.2,   1.5621,  34.6571,2,  34.6568,2,    118.4,2,   118.6,2,  160.86,2,   38.31,2,       0,2,    2.72,2,   0.001,2,   0.010,2,   0.000,2,     0.08,2,  2347.8,2, 2418.06,2,   7.5109,2,       25,-999.000,9,-999.0000,9, -999.00,9, -999.00,9,  -999.0,9,  -999.0,-999.000,9,-999.000,     -999.0,9, -999.00,9, -999.00,9, -999.00,9,     -999.0,9,  -999.0,9, 20130426,     2046,  29.9998, 175.8933,    34.8202,2,     -999.0,9,     -999.0,9,     1.5622,2,     -999.0,9,     -999.0,9,-999.0000, -999.00,-999.000
318M20130321,       P02W,      68,          1,          8,          8,2,20130426,       1954,    30.0006,   175.8931,       5310,  3088.9,   1.5014,  34.6679,2,  34.6684,2,    130.6,2,   130.5,2,  158.22,2,   37.54,2,       0,2,    2.65,2,-999.000,9,-999.000,9,-999.000,9,-999.0000,9,  -999.0,9, -999.00,9,-999.0000,9,  -999.00,-999.000,9,-999.0000,9, -999.00,9, -999.00,9,  -999.0,9,  -999.0,-999.000,9,-999.000,     -999.0,9, -999.00,9, -999.00,9, -999.00,9,     -999.0,9,  -999.0,9, 20130426,     2040,  29.9998, 175.8932,    34.8318,2,     -999.0,9,     -999.0,9,     1.5014,2,     -999.0,9,     -999.0,9,-999.0000, -999.00,-999.000