BOTTLE,20220817CCHSIOAMB
EXPOCODE,SECT_ID,STNNBR,CASTNO,SAMPNO,BTLNBR,BTLNBR_FLAG_W,DATE,TIME,LATITUDE,LONGITUDE,DEPTH,CTDPRS,CTDTMP,CTDSAL,CTDSAL_FLAG_W,SALNTY,SALNTY_FLAG_W,CTDOXY,CTDOXY_FLAG_W,OXYGEN,OXYGEN_FLAG_W,SILCAT,SILCAT_FLAG_W,NITRAT,NITRAT_FLAG_W,NITRIT,NITRIT_FLAG_W,PHSPHT,PHSPHT_FLAG_W,CFC-11,CFC-11_FLAG_W,CFC-12,CFC-12_FLAG_W,CFC113,CFC113_FLAG_W,SF6,SF6_FLAG_W,TCARBN,TCARBN_FLAG_W,ALKALI,ALKALI_FLAG_W,PH_TOT,PH_TOT_FLAG_W,PH_TMP,TRITUM,TRITUM_FLAG_W,HELIUM,HELIUM_FLAG_W,DELHE3,DELHE3_FLAG_W,DELC13,DELC13_FLAG_W,DELC14,DELC14_FLAG_W,C14ERR,NEON,NEON_FLAG_W,NEONER,I-129,I-129_FLAG_W,SR-90,SR-90_FLAG_W,DOC,DOC_FLAG_W,TDN,TDN_FLAG_W,CALCIUM,CALCIUM_FLAG_W,D15N_NO3,D15N_NO3_FLAG_W,BTL_DATE,BTL_TIME,BTL_LAT,BTL_LON,SALTREF,SALTREF_FLAG_W,CS-137,CS-137_FLAG_W,CS-134,CS-134_FLAG_W,REFTMP,REFTMP_FLAG_W,LAB_DEN,LAB_DEN_FLAG_W,D18O_NO3,D18O_NO3_FLAG_W,HELIER,DELHER,TRITER
,,,,,,,,,,,METERS,DBAR,ITS-90,PSS-78,,PSS-78,,UMOL/KG,,UMOL/KG,,UMOL/KG,,UMOL/KG,,UMOL/KG,,UMOL/KG,,PMOL/KG,,PMOL/KG,,PMOL/KG,,FMOL/KG,,UMOL/KG,,UMOL/KG,,,,DEG C,TU,,NMOL/KG,,PERCNT,,/MILLE,,/MILLE,,/MILLE,NMOL/KG,,NMOL/KG,BQ/M^3,,DM/.1MG,,UMOL/KG,,UMOL/KG,,MMOL/KG,,/MILLE,,,,,,G/KG,,BQ/M^3,,BQ/M^3,,ITS-90,,,,/MILLE,,NMOL/KG,PERCNT,TU
318M20130321,       P02E,     111,          1,          6,          6,2,20130519,       1851,    29.9998,  -146.4222,       4922,  3648.8,   1.4745,  34.6802,2,  34.6796,2,    137.9,2,   138.8,2,  160.27,2,    37.1,2,       0,2,    2.62,2,   0.006,2,   0.003,2,-999.000,1,        0,2,  2338.1,2, 2425.86,6,    7.554,2,       25,-999.000,9,-999.0000,9, -999.00,9, -999.00,9,  -999.0,9,  -999.0,-999.000,9,-999.000,     -999.0,9, -999.00,9,   35.71,2, -999.00,9,     -999.0,9,  -999.0,9, 20130519,     1920,  30.0001,-146.4221,    34.8431,2,     -999.0,9,     -999.0,9,     1.4742,2,     -999.0,9,     -999.0,9,-999.0000, -999.00,-999.000
318M20130321,       P02E,     111,          1,          5,         37,2,20130519,       1851,    29.9998,  -146.4222,       4922,  4060.3,   1.4721,  34.6848,2,  34.6838,2,    147.6,2,   146.7,2,  155.88,2,   36.56,2,       0,2,    2.58,2,   0.008,2,   0.006,2,-999.000,1,        0,2,  -999.0,9, -999.00,9,-999.0000,9,  -999.00,-999.000,9,-999.0000,9, -999.00,9, -999.00,9,  -999.0,9,  -999.0,-999.000,9,-999.000,     -999.0,9, -999.00,9,   34.24,2, -999.00,9,     -999.0,9,  -999.0,9, 20130519,     1912,  29.9998,-146.4225,    34.8473,2,     -999.0,9,     -999.0,9,     1.4721,2,     -999.0,9,     -999.0,9,-999.0000, -999.00,-999.000
318M20130321,       P02E,     111,          1,          4,          4,2,20130519,       1851,    29.9998,  -146.4222,       4922,  4472.2,   1.4841,  34.6881,2,  34.6873,2,    152.2,2,     153,2,   150.9,2,    36.1,2,    0.01,2,    2.53,2,   0.010,2,   0.009,2,-999.000,1,        0,2,  2325.6,2, 2419.66,2,   7.5754,6,       25,-999.000,9,-999.0000,9, -999.00,9, -999.00,9,  -999.0,9,  -999.0,-999.000,9,-999.000,     -999.0,9, -999.00,9,   36.69,2, -999.00,9,     -999.0,9,  -999.0,9, 20130519,     1904,  29.9999,-146.4223,    34.8509,2,     -999.0,9,     -999.0,9,     1.4845,2,     -999.0,9,     -999.0,9,-999.0000, -999.00,-999.000
318M20130321,       P02E,     111,          1,          3,          3,2,20130519,       1851,    29.9998,  -146.4222,       4922,  4777.1,   1.5084,  34.6895,2,  34.6879,2,    155.2,2,   155.3,2,     151,2,   35.97,2,       0,2,    2.48,2,   0.008,2,   0.007,2,-999.000,1,        0,2,  -999.0,9, -999.00,9,-999.0000,9,  -999.00,-999.000,9,-999.0000,9, -999.00,9, -999.00,9,  -999.0,9,  -999.0,-999.000,9,-999.000,     -999.0,9, -999.00,9,   35.46,2, -999.00,9,     -999.0,9,  -999.0,9, 20130519,     1857,  30.0001, -146.422,    34.8515,2,     -999.0,9,     -999.0,9,      1.508,2,     -999.0,9,     -999.0,9,-999.0000, -999.00,-999.000
318M20130321,       P02E,     111,          1,          2,          2,2,20130519,       1851,    29.9998,  -146.4222,       4922,  4995.8,   1.5232,  34.6899,2,  34.6891,2,    157.5,2,   157.2,2,  149.24,2,   35.63,2,       0,2,     2.5,2,   0.012,2,   0.011,2,-999.000,1,        0,2,  2322.2,6, 2416.16,2,   7.5817,2,       25,-999.000,9,-999.0000,9, -999.00,9, -999.00,9,  -999.0,9,  -999.0,-999.000,9,-999.000,     -999.0,9, -999.00,9,   36.08,2, -999.00,9,     -999.0,9,  -999.0,9, 20130519,     1852,  29.9999,-146.4222,    34.8526,2,     -999.0,9,     -999.0,9,     1.5234,2,     -999.0,9,     -999.0,9,-999.0000, -999.00,-999.000