BOTTLE,20220817CCHSIOAMB
EXPOCODE,SECT_ID,STNNBR,CASTNO,SAMPNO,BTLNBR,BTLNBR_FLAG_W,DATE,TIME,LATITUDE,LONGITUDE,DEPTH,CTDPRS,CTDTMP,CTDSAL,CTDSAL_FLAG_W,SALNTY,SALNTY_FLAG_W,CTDOXY,CTDOXY_FLAG_W,OXYGEN,OXYGEN_FLAG_W,SILCAT,SILCAT_FLAG_W,NITRAT,NITRAT_FLAG_W,NITRIT,NITRIT_FLAG_W,PHSPHT,PHSPHT_FLAG_W,CFC-11,CFC-11_FLAG_W,CFC-12,CFC-12_FLAG_W,CFC113,CFC113_FLAG_W,SF6,SF6_FLAG_W,TCARBN,TCARBN_FLAG_W,ALKALI,ALKALI_FLAG_W,PH_TOT,PH_TOT_FLAG_W,PH_TMP,TRITUM,TRITUM_FLAG_W,HELIUM,HELIUM_FLAG_W,DELHE3,DELHE3_FLAG_W,DELC13,DELC13_FLAG_W,DELC14,DELC14_FLAG_W,C14ERR,NEON,NEON_FLAG_W,NEONER,I-129,I-129_FLAG_W,SR-90,SR-90_FLAG_W,DOC,DOC_FLAG_W,TDN,TDN_FLAG_W,CALCIUM,CALCIUM_FLAG_W,D15N_NO3,D15N_NO3_FLAG_W,BTL_DATE,BTL_TIME,BTL_LAT,BTL_LON,SALTREF,SALTREF_FLAG_W,CS-137,CS-137_FLAG_W,CS-134,CS-134_FLAG_W,REFTMP,REFTMP_FLAG_W,LAB_DEN,LAB_DEN_FLAG_W,D18O_NO3,D18O_NO3_FLAG_W,HELIER,DELHER,TRITER
,,,,,,,,,,,METERS,DBAR,ITS-90,PSS-78,,PSS-78,,UMOL/KG,,UMOL/KG,,UMOL/KG,,UMOL/KG,,UMOL/KG,,UMOL/KG,,PMOL/KG,,PMOL/KG,,PMOL/KG,,FMOL/KG,,UMOL/KG,,UMOL/KG,,,,DEG C,TU,,NMOL/KG,,PERCNT,,/MILLE,,/MILLE,,/MILLE,NMOL/KG,,NMOL/KG,BQ/M^3,,DM/.1MG,,UMOL/KG,,UMOL/KG,,MMOL/KG,,/MILLE,,,,,,G/KG,,BQ/M^3,,BQ/M^3,,ITS-90,,,,/MILLE,,NMOL/KG,PERCNT,TU
318M20130321,       P02W,      66,          1,         35,         35,9,20130426,       0607,    29.9999,   174.6168,       5366,     3.1,  20.6153,  35.1882,2,-999.0000,9,    224.9,2,  -999.0,9, -999.00,9, -999.00,9, -999.00,9, -999.00,9,-999.000,9,-999.000,9,-999.000,9,-999.0000,9,  -999.0,9, -999.00,9,-999.0000,9,  -999.00,-999.000,9,-999.0000,9, -999.00,9, -999.00,9,  -999.0,9,  -999.0,-999.000,9,-999.000,     -999.0,9, -999.00,9, -999.00,9, -999.00,9,     -999.0,9,  -999.0,9, 20130426,      816,  29.9993, 174.6178,     -999.0,9,     -999.0,9,     -999.0,9,    20.6154,2,     -999.0,9,     -999.0,9,-999.0000, -999.00,-999.000
318M20130321,       P02W,      66,          1,         36,         36,2,20130426,       0607,    29.9999,   174.6168,       5366,      32,   20.627,   35.188,2,  35.1886,2,      225,2,   224.7,2,    1.56,2,       0,2,       0,2,    0.01,2,-999.000,9,-999.000,9,-999.000,9,-999.0000,9,  2015.9,2, 2309.42,2,   8.0336,2,       25,-999.000,9,-999.0000,9, -999.00,9, -999.00,9,  -999.0,9,  -999.0,-999.000,9,-999.000,     -999.0,9, -999.00,9, -999.00,9, -999.00,9,     -999.0,9,  -999.0,9, 20130426,      814,  29.9994, 174.6177,    35.3545,2,     -999.0,9,     -999.0,9,    20.6309,2,     -999.0,9,     -999.0,9,-999.0000, -999.00,-999.000
318M20130321,       P02W,      66,          1,         34,         34,2,20130426,       0607,    29.9999,   174.6168,       5366,    58.9,  20.4892,  35.1646,2,  35.1677,2,    225.8,2,   225.2,2,    1.56,2,       0,2,       0,2,       0,2,   2.236,2,   1.396,2,   0.192,2,     1.64,2,  -999.0,9, -999.00,9,-999.0000,9,  -999.00,-999.000,9,-999.0000,9, -999.00,9, -999.00,9,  -999.0,9,  -999.0,-999.000,9,-999.000,     -999.0,9, -999.00,9, -999.00,9, -999.00,9,     -999.0,9,  -999.0,9, 20130426,      812,  29.9995, 174.6177,    35.3336,2,     -999.0,9,     -999.0,9,    20.4904,2,     -999.0,9,     -999.0,9,-999.0000, -999.00,-999.000
318M20130321,       P02W,      66,          1,         33,         33,2,20130426,       0607,    29.9999,   174.6168,       5366,    83.5,   19.855,  35.0515,2,   35.051,2,    228.5,2,   227.9,2,    1.66,2,       0,2,       0,2,       0,2,-999.000,9,-999.000,9,-999.000,9,-999.0000,9,  2018.3,2, 2300.32,2,   8.0209,2,       25,-999.000,9,-999.0000,9, -999.00,9, -999.00,9,  -999.0,9,  -999.0,-999.000,9,-999.000,     -999.0,9, -999.00,9, -999.00,9, -999.00,9,     -999.0,9,  -999.0,9, 20130426,      811,  29.9997, 174.6176,    35.2163,2,     -999.0,9,     -999.0,9,     19.851,2,     -999.0,9,     -999.0,9,-999.0000, -999.00,-999.000
318M20130321,       P02W,      66,          1,         32,         32,2,20130426,       0607,    29.9999,   174.6168,       5366,     113,  19.3024,  34.9541,2,  34.9591,2,      228,2,   227.7,2,    1.76,2,    0.02,2,    0.02,2,       0,2,   2.380,2,   1.483,2,   0.200,2,     1.54,2,  2016.9,2, 2295.22,2,   8.0096,6,       25,-999.000,9,-999.0000,9, -999.00,9, -999.00,9,  -999.0,9,  -999.0,-999.000,9,-999.000,     -999.0,9, -999.00,9, -999.00,9, -999.00,9,     -999.0,9,  -999.0,9, 20130426,      809,  29.9999, 174.6174,    35.1239,2,     -999.0,9,     -999.0,9,    19.3029,2,     -999.0,9,     -999.0,9,-999.0000, -999.00,-999.000
318M20130321,       P02W,      66,          1,         31,         31,2,20130426,       0607,    29.9999,   174.6168,       5366,   164.6,  17.6672,   34.726,2,  34.7288,2,    210.5,2,   210.3,2,    3.22,2,    2.74,2,    0.04,2,    0.19,2,-999.000,9,-999.000,9,-999.000,9,-999.0000,9,  2035.1,2, 2280.31,2,   7.9545,6,       25,-999.000,9,-999.0000,9, -999.00,9, -999.00,9,  -999.0,9,  -999.0,-999.000,9,-999.000,     -999.0,9, -999.00,9, -999.00,9, -999.00,9,     -999.0,9,  -999.0,9, 20130426,      807,  30.0002, 174.6174,    34.8925,2,     -999.0,9,     -999.0,9,    17.6763,2,     -999.0,9,     -999.0,9,-999.0000, -999.00,-999.000
318M20130321,       P02W,      66,          1,         30,         30,2,20130426,       0607,    29.9999,   174.6168,       5366,   215.4,  16.5693,  34.6523,2,  34.6543,2,    209.5,2,   208.1,2,    4.78,2,    5.18,2,    0.02,2,    0.34,2,   2.663,2,   1.621,2,   0.068,2,     1.72,2,  2044.2,2, 2275.21,2,   7.9306,2,       25,-999.000,9,-999.0000,9, -999.00,9, -999.00,9,  -999.0,9,  -999.0,-999.000,9,-999.000,     -999.0,9, -999.00,9, -999.00,9, -999.00,9,     -999.0,9,  -999.0,9, 20130426,      806,  30.0002, 174.6175,    34.8177,2,     -999.0,9,     -999.0,9,    16.5697,2,     -999.0,9,     -999.0,9,-999.0000, -999.00,-999.000
318M20130321,       P02W,      66,          1,         29,         29,2,20130426,       0607,    29.9999,   174.6168,       5366,   264.2,  15.2089,  34.5428,2,  34.5433,2,    204.5,2,   203.4,2,    7.32,2,    7.47,2,    0.01,2,     0.5,2,-999.000,9,-999.000,9,-999.000,9,-999.0000,9,  2061.7,2, 2270.31,6,   7.8853,2,       25,-999.000,9,-999.0000,9, -999.00,9, -999.00,9,  -999.0,9,  -999.0,-999.000,9,-999.000,     -999.0,9, -999.00,9, -999.00,9, -999.00,9,     -999.0,9,  -999.0,9, 20130426,      804,  30.0003, 174.6175,    34.7062,2,     -999.0,9,     -999.0,9,    15.2107,2,     -999.0,9,     -999.0,9,-999.0000, -999.00,-999.000
318M20130321,       P02W,      66,          1,         28,         28,2,20130426,       0607,    29.9999,   174.6168,       5366,   315.8,  14.2446,  34.4741,2,  34.4738,2,    208.2,2,   209.8,2,    9.37,2,    8.56,2,    0.01,2,    0.56,2,   2.951,2,   1.744,2,   0.076,2,     1.52,2,  -999.0,9, -999.00,9,-999.0000,9,  -999.00,-999.000,9,-999.0000,9, -999.00,9, -999.00,9,  -999.0,9,  -999.0,-999.000,9,-999.000,     -999.0,9, -999.00,9, -999.00,9, -999.00,9,     -999.0,9,  -999.0,9, 20130426,      802,  30.0002, 174.6174,    34.6364,2,     -999.0,9,     -999.0,9,    14.2497,2,     -999.0,9,     -999.0,9,-999.0000, -999.00,-999.000
318M20130321,       P02W,      66,          1,         27,         27,2,20130426,       0607,    29.9999,   174.6168,       5366,     367,   13.066,  34.3999,2,  34.3971,2,    206.7,2,   205.7,2,   12.79,2,   11.02,2,    0.01,2,    0.75,2,-999.000,9,-999.000,9,-999.000,9,-999.0000,9,  2084.7,2, 2269.81,2,   7.8318,2,       25,-999.000,9,-999.0000,9, -999.00,9, -999.00,9,  -999.0,9,  -999.0,-999.000,9,-999.000,     -999.0,9, -999.00,9, -999.00,9, -999.00,9,     -999.0,9,  -999.0,9, 20130426,      801,  30.0001, 174.6172,    34.5592,2,     -999.0,9,     -999.0,9,    13.0643,2,     -999.0,9,     -999.0,9,-999.0000, -999.00,-999.000
318M20130321,       P02W,      66,          1,         26,         26,2,20130426,       0607,    29.9999,   174.6168,       5366,   437.4,  11.4938,  34.2895,2,  34.2929,2,    200.6,2,   201.2,2,   17.48,2,   14.09,2,       0,2,    0.99,2,   3.238,2,   1.842,2,   0.098,2,     1.33,2,  -999.0,9, -999.00,9,-999.0000,9,  -999.00,-999.000,9,-999.0000,9, -999.00,9, -999.00,9,  -999.0,9,  -999.0,-999.000,9,-999.000,     -999.0,9, -999.00,9, -999.00,9, -999.00,9,     -999.0,9,  -999.0,9, 20130426,      759,       30, 174.6171,    34.4546,2,     -999.0,9,     -999.0,9,    11.4938,2,     -999.0,9,     -999.0,9,-999.0000, -999.00,-999.000
318M20130321,       P02W,      66,          1,         25,         25,2,20130426,       0607,    29.9999,   174.6168,       5366,   539.9,   9.1415,   34.135,2,  34.1348,2,    179.9,2,     180,2,   30.37,2,   20.43,2,       0,2,    1.45,2,-999.000,9,-999.000,9,-999.000,9,-999.0000,9,  2148.8,2, 2271.51,2,   7.6816,2,       25,-999.000,9,-999.0000,9, -999.00,9, -999.00,9,  -999.0,9,  -999.0,-999.000,9,-999.000,     -999.0,9, -999.00,9, -999.00,9, -999.00,9,     -999.0,9,  -999.0,9, 20130426,      756,       30,  174.617,    34.2958,2,     -999.0,9,     -999.0,9,     9.1373,2,     -999.0,9,     -999.0,9,-999.0000, -999.00,-999.000
318M20130321,       P02W,      66,          1,         24,         24,2,20130426,       0607,    29.9999,   174.6168,       5366,     643,   6.7846,  34.0442,2,  34.0452,2,    139.2,2,   136.5,2,   53.03,2,   28.57,2,       0,2,    2.08,2,   2.925,2,   1.358,2,   0.107,2,     0.53,2,  -999.0,9, -999.00,9,-999.0000,9,  -999.00,-999.000,9,-999.0000,9, -999.00,9, -999.00,9,  -999.0,9,  -999.0,-999.000,9,-999.000,     -999.0,9, -999.00,9, -999.00,9, -999.00,9,     -999.0,9,  -999.0,9, 20130426,      753,  29.9999, 174.6168,    34.2058,2,     -999.0,9,     -999.0,9,     6.8003,2,     -999.0,9,     -999.0,9,-999.0000, -999.00,-999.000
318M20130321,       P02W,      66,          1,         23,         23,2,20130426,       0607,    29.9999,   174.6168,       5366,   737.5,   5.4201,  34.0713,2,  34.0705,2,     96.8,2,    93.7,2,   75.09,2,   34.72,2,       0,2,    2.52,2,   1.727,2,   0.895,2,   0.068,2,     0.29,2,  2263.5,2, 2303.42,2,    7.438,2,       25,-999.000,9,-999.0000,9, -999.00,9, -999.00,9,  -999.0,9,  -999.0,-999.000,9,-999.000,     -999.0,9, -999.00,9, -999.00,9, -999.00,9,     -999.0,9,  -999.0,9, 20130426,      750,  29.9999, 174.6168,    34.2312,2,     -999.0,9,     -999.0,9,     5.4303,2,     -999.0,9,     -999.0,9,-999.0000, -999.00,-999.000
318M20130321,       P02W,      66,          1,         22,         22,2,20130426,       0607,    29.9999,   174.6168,       5366,   838.7,   4.6407,    34.14,2,  34.1415,2,     63.9,2,    62.7,2,   93.54,2,   38.71,2,       0,2,    2.81,2,   1.025,2,   0.526,2,   0.040,2,     0.14,2,  -999.0,9, -999.00,9,-999.0000,9,  -999.00,-999.000,9,-999.0000,9, -999.00,9, -999.00,9,  -999.0,9,  -999.0,-999.000,9,-999.000,     -999.0,9, -999.00,9, -999.00,9, -999.00,9,     -999.0,9,  -999.0,9, 20130426,      747,  29.9999, 174.6168,    34.3025,2,     -999.0,9,     -999.0,9,     4.6479,2,     -999.0,9,     -999.0,9,-999.0000, -999.00,-999.000
318M20130321,       P02W,      66,          1,         21,         21,2,20130426,       0607,    29.9999,   174.6168,       5366,   942.1,   4.0651,  34.2325,2,  34.2311,2,     41.1,2,      41,2,  109.16,2,   41.27,2,       0,2,    2.99,2,-999.000,9,-999.000,9,-999.000,9,-999.0000,9,    2332,2, 2340.73,2,   7.3354,2,       25,-999.000,9,-999.0000,9, -999.00,9, -999.00,9,  -999.0,9,  -999.0,-999.000,9,-999.000,     -999.0,9, -999.00,9, -999.00,9, -999.00,9,     -999.0,9,  -999.0,9, 20130426,      744,       30, 174.6168,    34.3925,2,     -999.0,9,     -999.0,9,      4.068,2,     -999.0,9,     -999.0,9,-999.0000, -999.00,-999.000
318M20130321,       P02W,      66,          1,         20,         20,2,20130426,       0607,    29.9999,   174.6168,       5366,  1041.9,   3.6874,  34.3084,2,  34.3095,2,     31.1,2,    31.7,2,  120.48,2,   42.57,2,       0,2,    3.08,2,   0.228,2,   0.121,2,   0.014,2,     0.07,2,  -999.0,9, -999.00,9,-999.0000,9,  -999.00,-999.000,9,-999.0000,9, -999.00,9, -999.00,9,  -999.0,9,  -999.0,-999.000,9,-999.000,     -999.0,9, -999.00,9, -999.00,9, -999.00,9,     -999.0,9,  -999.0,9, 20130426,      742,  29.9999, 174.6169,    34.4713,2,     -999.0,9,     -999.0,9,     3.6873,2,     -999.0,9,     -999.0,9,-999.0000, -999.00,-999.000
318M20130321,       P02W,      66,          1,         19,         19,2,20130426,       0607,    29.9999,   174.6168,       5366,  1145.9,   3.3885,  34.3695,2,  34.3692,2,     27.9,2,    28.7,2,  129.46,2,   43.13,2,       0,2,    3.09,2,-999.000,9,-999.000,9,-999.000,9,-999.0000,9,  2362.8,2, 2367.54,2,   7.3244,2,       25,-999.000,9,-999.0000,9, -999.00,9, -999.00,9,  -999.0,9,  -999.0,-999.000,9,-999.000,     -999.0,9, -999.00,9, -999.00,9, -999.00,9,     -999.0,9,  -999.0,9, 20130426,      739,       30, 174.6168,    34.5312,2,     -999.0,9,     -999.0,9,     3.3899,2,     -999.0,9,     -999.0,9,-999.0000, -999.00,-999.000
318M20130321,       P02W,      66,          1,         18,         18,2,20130426,       0607,    29.9999,   174.6168,       5366,  1245.9,   3.1001,  34.4183,2,  34.4188,2,     27.6,2,    28.1,2,  138.63,2,    43.5,2,       0,2,    3.12,2,   0.053,2,   0.034,2,   0.004,2,     0.04,2,  -999.0,9, -999.00,9,-999.0000,9,  -999.00,-999.000,9,-999.0000,9, -999.00,9, -999.00,9,  -999.0,9,  -999.0,-999.000,9,-999.000,     -999.0,9, -999.00,9, -999.00,9, -999.00,9,     -999.0,9,  -999.0,9, 20130426,      736,  29.9999, 174.6168,    34.5811,2,     -999.0,9,     -999.0,9,     3.0996,2,     -999.0,9,     -999.0,9,-999.0000, -999.00,-999.000
318M20130321,       P02W,      66,          1,         17,         17,2,20130426,       0607,    29.9999,   174.6168,       5366,  1342.1,   2.8966,  34.4556,2,  34.4567,2,       31,2,    30.6,2,  144.48,2,   43.48,2,       0,2,    3.12,2,   0.027,2,   0.014,2,   0.009,2,        0,2,  2375.9,2, 2386.95,2,   7.3336,2,       25,-999.000,9,-999.0000,9, -999.00,9, -999.00,9,  -999.0,9,  -999.0,-999.000,9,-999.000,     -999.0,9, -999.00,9, -999.00,9, -999.00,9,     -999.0,9,  -999.0,9, 20130426,      733,  29.9999, 174.6168,    34.6192,2,     -999.0,9,     -999.0,9,     2.8974,2,     -999.0,9,     -999.0,9,-999.0000, -999.00,-999.000
318M20130321,       P02W,      66,          1,         16,         16,2,20130426,       0607,    29.9999,   174.6168,       5366,  1476.1,   2.6072,  34.5064,2,   34.506,2,     37.2,2,    38.6,2,   151.7,2,   43.17,2,       0,2,    3.08,2,   0.015,2,   0.011,2,   0.009,2,     0.07,2,  2381.4,2, 2396.15,2,   7.3522,6,       25,-999.000,9,-999.0000,9, -999.00,9, -999.00,9,  -999.0,9,  -999.0,-999.000,9,-999.000,     -999.0,9, -999.00,9, -999.00,9, -999.00,9,     -999.0,9,  -999.0,9, 20130426,      730,  29.9999, 174.6168,    34.6687,2,     -999.0,9,     -999.0,9,     2.6078,2,     -999.0,9,     -999.0,9,-999.0000, -999.00,-999.000
318M20130321,       P02W,      66,          1,         15,         15,2,20130426,       0607,    29.9999,   174.6168,       5366,    1680,   2.3168,  34.5478,2,  34.5486,2,     51.1,2,    48.9,2,  158.82,2,   42.72,2,       0,2,    3.05,2,   0.012,2,   0.008,2,   0.013,2,        0,2,  2380.9,2, 2403.95,2,   7.3746,2,       25,-999.000,9,-999.0000,9, -999.00,9, -999.00,9,  -999.0,9,  -999.0,-999.000,9,-999.000,     -999.0,9, -999.00,9, -999.00,9, -999.00,9,     -999.0,9,  -999.0,9, 20130426,      725,  29.9999, 174.6168,    34.7115,2,     -999.0,9,     -999.0,9,     2.3168,2,     -999.0,9,     -999.0,9,-999.0000, -999.00,-999.000
318M20130321,       P02W,      66,          1,         14,         14,2,20130426,       0607,    29.9999,   174.6168,       5366,  1884.5,   2.0765,  34.5837,2,  34.5842,2,       66,2,      65,2,  162.82,2,   41.75,2,       0,2,    2.94,2,   0.017,2,   0.014,2,   0.009,2,        0,2,  2376.9,2, 2411.46,2,   7.4066,2,       25,-999.000,9,-999.0000,9, -999.00,9, -999.00,9,  -999.0,9,  -999.0,-999.000,9,-999.000,     -999.0,9, -999.00,9, -999.00,9, -999.00,9,     -999.0,9,  -999.0,9, 20130426,      721,  29.9999, 174.6168,    34.7472,2,     -999.0,9,     -999.0,9,     2.0764,2,     -999.0,9,     -999.0,9,-999.0000, -999.00,-999.000
318M20130321,       P02W,      66,          1,         13,         13,2,20130426,       0607,    29.9999,   174.6168,       5366,  2104.1,   1.8861,  34.6115,2,  34.6126,2,     81.6,2,    82.5,2,  163.11,2,   40.68,2,       0,2,    2.87,2,   0.008,2,   0.006,2,   0.012,2,     0.04,2,    2369,2, 2414.26,2,    7.445,2,       25,-999.000,9,-999.0000,9, -999.00,9, -999.00,9,  -999.0,9,  -999.0,-999.000,9,-999.000,     -999.0,9, -999.00,9, -999.00,9, -999.00,9,     -999.0,9,  -999.0,9, 20130426,      716,  29.9999, 174.6168,    34.7759,2,     -999.0,9,     -999.0,9,     1.8858,2,     -999.0,9,     -999.0,9,-999.0000, -999.00,-999.000
318M20130321,       P02W,      66,          1,         12,         12,2,20130426,       0607,    29.9999,   174.6168,       5366,  2360.1,   1.7397,  34.6309,2,  34.6417,3,       97,2,    96.7,2,   163.3,2,   39.77,2,       0,2,    2.81,2,   0.004,2,   0.009,2,   0.009,2,        0,2,  2362.3,2, 2416.56,2,   7.4684,2,       25,-999.000,9,-999.0000,9, -999.00,9, -999.00,9,  -999.0,9,  -999.0,-999.000,9,-999.000,     -999.0,9, -999.00,9, -999.00,9, -999.00,9,     -999.0,9,  -999.0,9, 20130426,      710,  29.9999, 174.6168,    34.8051,3,     -999.0,9,     -999.0,9,     1.7394,2,     -999.0,9,     -999.0,9,-999.0000, -999.00,-999.000
318M20130321,       P02W,      66,          1,         11,         11,2,20130426,       0607,    29.9999,   174.6168,       5366,  2616.1,   1.6409,  34.6452,2,   34.646,2,    108.9,2,     108,2,  162.91,2,   38.98,2,       0,2,    2.74,2,-999.000,9,-999.000,9,-999.000,9,-999.0000,9,  2355.9,6, 2418.66,2,   7.4902,2,       25,-999.000,9,-999.0000,9, -999.00,9, -999.00,9,  -999.0,9,  -999.0,-999.000,9,-999.000,     -999.0,9, -999.00,9, -999.00,9, -999.00,9,     -999.0,9,  -999.0,9, 20130426,      705,  29.9999, 174.6168,    34.8094,2,     -999.0,9,     -999.0,9,     1.6407,2,     -999.0,9,     -999.0,9,-999.0000, -999.00,-999.000
318M20130321,       P02W,      66,          1,         10,         10,2,20130426,       0607,    29.9999,   174.6168,       5366,  2868.7,   1.5693,  34.6572,2,  34.6582,2,    120.1,2,   119.5,2,  161.15,2,   38.22,2,       0,2,    2.69,2,   0.008,2,   0.006,2,   0.006,2,        0,2,  -999.0,9, -999.00,9,-999.0000,9,  -999.00,-999.000,9,-999.0000,9, -999.00,9, -999.00,9,  -999.0,9,  -999.0,-999.000,9,-999.000,     -999.0,9, -999.00,9, -999.00,9, -999.00,9,     -999.0,9,  -999.0,9, 20130426,      700,       30, 174.6168,    34.8217,2,     -999.0,9,     -999.0,9,     1.5699,2,     -999.0,9,     -999.0,9,-999.0000, -999.00,-999.000
318M20130321,       P02W,      66,          1,          9,          9,2,20130426,       0607,    29.9999,   174.6168,       5366,  3138.8,   1.5211,  34.6661,2,  34.6671,2,    127.7,2,   128.4,2,   159.2,2,   37.66,2,       0,2,    2.64,2,-999.000,9,-999.000,9,-999.000,9,-999.0000,9,  -999.0,9, -999.00,9,-999.0000,9,  -999.00,-999.000,9,-999.0000,9, -999.00,9, -999.00,9,  -999.0,9,  -999.0,-999.000,9,-999.000,     -999.0,9, -999.00,9, -999.00,9, -999.00,9,     -999.0,9,  -999.0,9, 20130426,      654,       30, 174.6168,    34.8305,2,     -999.0,9,     -999.0,9,     1.5207,2,     -999.0,9,     -999.0,9,-999.0000, -999.00,-999.000
318M20130321,       P02W,      66,          1,          8,          8,2,20130426,       0607,    29.9999,   174.6168,       5366,  3444.4,   1.4832,  34.6742,2,  34.6753,2,      137,2,   137.5,2,  157.05,2,   37.03,2,       0,2,    2.59,2,   0.007,2,   0.007,2,   0.003,2,     0.02,2,  2335.5,2, 2418.46,2,   7.5457,2,       25,-999.000,9,-999.0000,9, -999.00,9, -999.00,9,  -999.0,9,  -999.0,-999.000,9,-999.000,     -999.0,9, -999.00,9, -999.00,9, -999.00,9,     -999.0,9,  -999.0,9, 20130426,      648,  29.9999, 174.6168,    34.8388,2,     -999.0,9,     -999.0,9,     1.4835,2,     -999.0,9,     -999.0,9,-999.0000, -999.00,-999.000