BOTTLE,20220817CCHSIOAMB
EXPOCODE,SECT_ID,STNNBR,CASTNO,SAMPNO,BTLNBR,BTLNBR_FLAG_W,DATE,TIME,LATITUDE,LONGITUDE,DEPTH,CTDPRS,CTDTMP,CTDSAL,CTDSAL_FLAG_W,SALNTY,SALNTY_FLAG_W,CTDOXY,CTDOXY_FLAG_W,OXYGEN,OXYGEN_FLAG_W,SILCAT,SILCAT_FLAG_W,NITRAT,NITRAT_FLAG_W,NITRIT,NITRIT_FLAG_W,PHSPHT,PHSPHT_FLAG_W,CFC-11,CFC-11_FLAG_W,CFC-12,CFC-12_FLAG_W,CFC113,CFC113_FLAG_W,SF6,SF6_FLAG_W,TCARBN,TCARBN_FLAG_W,ALKALI,ALKALI_FLAG_W,PH_TOT,PH_TOT_FLAG_W,PH_TMP,TRITUM,TRITUM_FLAG_W,HELIUM,HELIUM_FLAG_W,DELHE3,DELHE3_FLAG_W,DELC13,DELC13_FLAG_W,DELC14,DELC14_FLAG_W,C14ERR,NEON,NEON_FLAG_W,NEONER,I-129,I-129_FLAG_W,SR-90,SR-90_FLAG_W,DOC,DOC_FLAG_W,TDN,TDN_FLAG_W,CALCIUM,CALCIUM_FLAG_W,D15N_NO3,D15N_NO3_FLAG_W,BTL_DATE,BTL_TIME,BTL_LAT,BTL_LON,SALTREF,SALTREF_FLAG_W,CS-137,CS-137_FLAG_W,CS-134,CS-134_FLAG_W,REFTMP,REFTMP_FLAG_W,LAB_DEN,LAB_DEN_FLAG_W,D18O_NO3,D18O_NO3_FLAG_W,HELIER,DELHER,TRITER
,,,,,,,,,,,METERS,DBAR,ITS-90,PSS-78,,PSS-78,,UMOL/KG,,UMOL/KG,,UMOL/KG,,UMOL/KG,,UMOL/KG,,UMOL/KG,,PMOL/KG,,PMOL/KG,,PMOL/KG,,FMOL/KG,,UMOL/KG,,UMOL/KG,,,,DEG C,TU,,NMOL/KG,,PERCNT,,/MILLE,,/MILLE,,/MILLE,NMOL/KG,,NMOL/KG,BQ/M^3,,DM/.1MG,,UMOL/KG,,UMOL/KG,,MMOL/KG,,/MILLE,,,,,,G/KG,,BQ/M^3,,BQ/M^3,,ITS-90,,,,/MILLE,,NMOL/KG,PERCNT,TU
318M20130321,       P02W,      30,          1,         36,         36,2,20130413,       0810,    30.0002,   143.7699,       5491,     3.8,  18.6117,  34.7293,2,  34.7288,2,    231.9,2,   231.7,2,    2.15,2,    0.29,2,    0.14,2,    0.08,2,   2.451,2,   1.497,2,   0.202,2,     1.69,2,  2003.4,6, 2280.21,2,   8.0169,2,       25,-999.000,9,-999.0000,9, -999.00,9, -999.00,9,  -999.0,9,  -999.0,-999.000,9,-999.000,     -999.0,9, -999.00,9, -999.00,9, -999.00,9,     -999.0,9,  -999.0,9, 20130413,     1026,  30.0003, 143.7698,    34.8926,2,     -999.0,9,     -999.0,9,    18.6127,2,     -999.0,9,     -999.0,9,-999.0000, -999.00,-999.000
318M20130321,       P02W,      30,          1,         35,         35,2,20130413,       0810,    30.0002,   143.7699,       5491,    37.1,  18.6231,    34.73,2,  34.7304,2,    231.9,2,   231.8,2,    2.15,2,    0.27,2,    0.14,2,    0.08,2,   2.415,2,   1.506,2,   0.207,2,      1.6,2,  -999.0,9, -999.00,9,-999.0000,9,  -999.00,-999.000,9,-999.0000,9, -999.00,9, -999.00,9,  -999.0,9,  -999.0,-999.000,9,-999.000,     -999.0,9, -999.00,9, -999.00,9, -999.00,9,     -999.0,9,  -999.0,9, 20130413,     1024,  30.0003, 143.7697,    34.8941,2,     -999.0,9,     -999.0,9,    18.6233,2,     -999.0,9,     -999.0,9,-999.0000, -999.00,-999.000
318M20130321,       P02W,      30,          1,         34,         34,2,20130413,       0810,    30.0002,   143.7699,       5491,    62.5,  18.5973,  34.7272,2,  34.7261,2,    231.1,2,     231,2,    1.95,2,    0.32,2,    0.16,2,    0.09,2,   2.403,2,   1.510,2,   0.196,2,     1.63,2,  2002.3,2, 2279.11,6,   8.0158,2,       25,-999.000,9,-999.0000,9, -999.00,9, -999.00,9,  -999.0,9,  -999.0,-999.000,9,-999.000,     -999.0,9, -999.00,9, -999.00,9, -999.00,9,     -999.0,9,  -999.0,9, 20130413,     1023,  30.0003, 143.7696,    34.8898,2,     -999.0,9,     -999.0,9,    18.5973,2,     -999.0,9,     -999.0,9,-999.0000, -999.00,-999.000
318M20130321,       P02W,      30,          1,         33,         33,2,20130413,       0810,    30.0002,   143.7699,       5491,    88.4,  18.1663,  34.7396,2,  34.7406,2,    227.7,2,   227.8,2,    2.05,2,    1.04,2,     0.4,2,    0.12,2,   2.480,2,   1.550,2,   0.186,2,     1.58,2,  -999.0,9, -999.00,9,-999.0000,9,  -999.00,-999.000,9,-999.0000,9, -999.00,9, -999.00,9,  -999.0,9,  -999.0,-999.000,9,-999.000,     -999.0,9, -999.00,9, -999.00,9, -999.00,9,     -999.0,9,  -999.0,9, 20130413,     1021,  30.0003, 143.7696,    34.9044,2,     -999.0,9,     -999.0,9,    18.1677,2,     -999.0,9,     -999.0,9,-999.0000, -999.00,-999.000
318M20130321,       P02W,      30,          1,         32,         32,2,20130413,       0810,    30.0002,   143.7699,       5491,   117.9,  18.0201,  34.7683,2,  34.7691,2,    220.7,2,   222.7,2,    2.44,2,    1.98,2,    0.07,2,    0.16,2,   2.478,2,   1.526,2,   0.172,2,     1.56,2,  2018.8,2, 2278.71,2,   7.9916,6,       25,-999.000,9,-999.0000,9, -999.00,9, -999.00,9,  -999.0,9,  -999.0,-999.000,9,-999.000,     -999.0,9, -999.00,9, -999.00,9, -999.00,9,     -999.0,9,  -999.0,9, 20130413,     1019,  30.0002, 143.7697,    34.9331,2,     -999.0,9,     -999.0,9,    18.0205,2,     -999.0,9,     -999.0,9,-999.0000, -999.00,-999.000
318M20130321,       P02W,      30,          1,         31,         31,2,20130413,       0810,    30.0002,   143.7699,       5491,   167.6,  17.6801,  34.7558,2,  34.7558,2,    221.4,2,   222.7,2,    2.73,2,    2.48,2,    0.02,2,    0.18,2,   2.516,2,   1.534,2,   0.163,2,     1.65,2,  -999.0,9, -999.00,9,-999.0000,9,  -999.00,-999.000,9,-999.0000,9, -999.00,9, -999.00,9,  -999.0,9,  -999.0,-999.000,9,-999.000,     -999.0,9, -999.00,9, -999.00,9, -999.00,9,     -999.0,9,  -999.0,9, 20130413,     1018,  30.0002, 143.7698,    34.9196,2,     -999.0,9,     -999.0,9,    17.6788,2,     -999.0,9,     -999.0,9,-999.0000, -999.00,-999.000
318M20130321,       P02W,      30,          1,         30,         30,2,20130413,       0810,    30.0002,   143.7699,       5491,   217.6,  17.4022,   34.732,2,   34.732,2,      217,2,   218.9,2,    3.22,2,    3.19,2,    0.02,2,    0.22,2,   2.555,2,   1.559,2,   0.153,2,     1.52,2,  2026.4,2, 2277.91,2,   7.9724,2,       25,-999.000,9,-999.0000,9, -999.00,9, -999.00,9,  -999.0,9,  -999.0,-999.000,9,-999.000,     -999.0,9, -999.00,9, -999.00,9, -999.00,9,     -999.0,9,  -999.0,9, 20130413,     1016,  30.0002, 143.7699,    34.8958,2,     -999.0,9,     -999.0,9,    17.4046,2,     -999.0,9,     -999.0,9,-999.0000, -999.00,-999.000
318M20130321,       P02W,      30,          1,         29,         29,2,20130413,       0810,    30.0002,   143.7699,       5491,   268.4,  17.1702,  34.7137,2,  34.7135,2,    214.8,2,   212.1,2,    3.81,2,    4.21,2,    0.01,2,    0.29,2,   2.565,2,   1.564,2,   0.104,2,     1.52,2,  -999.0,9, -999.00,9,-999.0000,9,  -999.00,-999.000,9,-999.0000,9, -999.00,9, -999.00,9,  -999.0,9,  -999.0,-999.000,9,-999.000,     -999.0,9, -999.00,9, -999.00,9, -999.00,9,     -999.0,9,  -999.0,9, 20130413,     1014,  30.0002,   143.77,    34.8772,2,     -999.0,9,     -999.0,9,    17.1703,2,     -999.0,9,     -999.0,9,-999.0000, -999.00,-999.000
318M20130321,       P02W,      30,          1,         28,         28,2,20130413,       0810,    30.0002,   143.7699,       5491,   313.8,  16.8948,  34.6914,2,  34.6915,2,    207.7,2,   205.3,2,    4.88,2,    5.27,2,    0.02,2,    0.37,2,   2.601,2,   1.570,2,   0.078,2,     1.35,2,  2044.7,2, 2276.61,2,   7.9401,2,       25,-999.000,9,-999.0000,9, -999.00,9, -999.00,9,  -999.0,9,  -999.0,-999.000,9,-999.000,     -999.0,9, -999.00,9, -999.00,9, -999.00,9,     -999.0,9,  -999.0,9, 20130413,     1012,  30.0002, 143.7699,    34.8551,2,     -999.0,9,     -999.0,9,    16.8943,2,     -999.0,9,     -999.0,9,-999.0000, -999.00,-999.000
318M20130321,       P02W,      30,          1,         27,         27,2,20130413,       0810,    30.0002,   143.7699,       5491,   363.9,  16.3692,  34.6514,2,  34.6504,2,    199.2,2,   194.4,2,    6.74,2,    7.14,2,    0.02,2,     0.5,2,   2.665,2,   1.588,2,   0.047,2,     1.35,2,  -999.0,9, -999.00,9,-999.0000,9,  -999.00,-999.000,9,-999.0000,9, -999.00,9, -999.00,9,  -999.0,9,  -999.0,-999.000,9,-999.000,     -999.0,9, -999.00,9, -999.00,9, -999.00,9,     -999.0,9,  -999.0,9, 20130413,     1011,  30.0002, 143.7698,    34.8138,2,     -999.0,9,     -999.0,9,      16.37,2,     -999.0,9,     -999.0,9,-999.0000, -999.00,-999.000
318M20130321,       P02W,      30,          1,         26,         26,2,20130413,       0810,    30.0002,   143.7699,       5491,   434.9,  14.8195,  34.5495,2,  34.5497,2,    183.8,2,   182.8,2,    12.4,2,   10.73,2,    0.01,2,    0.74,2,   2.779,2,   1.599,2,   0.054,2,      1.2,2,  2085.7,2, 2274.81,2,   7.8517,6,       25,-999.000,9,-999.0000,9, -999.00,9, -999.00,9,  -999.0,9,  -999.0,-999.000,9,-999.000,     -999.0,9, -999.00,9, -999.00,9, -999.00,9,     -999.0,9,  -999.0,9, 20130413,     1009,  30.0001, 143.7698,    34.7126,2,     -999.0,9,     -999.0,9,    14.8187,2,     -999.0,9,     -999.0,9,-999.0000, -999.00,-999.000
318M20130321,       P02W,      30,          1,         25,         25,2,20130413,       0810,    30.0002,   143.7699,       5491,   537.2,  11.8251,  34.3669,2,  34.3636,2,    169.3,2,   169.7,2,   25.19,2,   16.78,2,    0.01,2,    1.18,2,-999.000,9,-999.000,9,-999.000,9,-999.0000,9,  2130.6,2, 2276.61,2,   7.7532,2,       25,-999.000,9,-999.0000,9, -999.00,9, -999.00,9,  -999.0,9,  -999.0,-999.000,9,-999.000,     -999.0,9, -999.00,9, -999.00,9, -999.00,9,     -999.0,9,  -999.0,9, 20130413,     1006,       30, 143.7699,    34.5256,2,     -999.0,9,     -999.0,9,    11.8513,2,     -999.0,9,     -999.0,9,-999.0000, -999.00,-999.000
318M20130321,       P02W,      30,          1,         24,         24,2,20130413,       0810,    30.0002,   143.7699,       5491,   639.2,   8.3063,  34.1414,2,  34.1439,2,    154.3,2,   153.3,2,   43.35,2,   24.12,2,    0.01,2,    1.72,2,   2.699,2,   1.450,2,   0.106,2,     0.89,2,  2182.1,2, 2289.11,2,   7.6254,2,       25,-999.000,9,-999.0000,9, -999.00,9, -999.00,9,  -999.0,9,  -999.0,-999.000,9,-999.000,     -999.0,9, -999.00,9, -999.00,9, -999.00,9,     -999.0,9,  -999.0,9, 20130413,     1004,  29.9999, 143.7699,    34.3049,2,     -999.0,9,     -999.0,9,     8.2986,2,     -999.0,9,     -999.0,9,-999.0000, -999.00,-999.000
318M20130321,       P02W,      30,          1,         23,         23,2,20130413,       0810,    30.0002,   143.7699,       5491,   735.7,   6.0128,  34.0502,2,  34.0467,2,    129.8,2,     130,2,   65.23,2,   30.49,2,    0.01,2,    2.22,2,-999.000,9,-999.000,9,-999.000,9,-999.0000,9,  2233.6,2, 2290.61,2,   7.5123,6,       25,-999.000,9,-999.0000,9, -999.00,9, -999.00,9,  -999.0,9,  -999.0,-999.000,9,-999.000,     -999.0,9, -999.00,9, -999.00,9, -999.00,9,     -999.0,9,  -999.0,9, 20130413,     1001,  29.9998,   143.77,    34.2073,2,     -999.0,9,     -999.0,9,     6.0155,2,     -999.0,9,     -999.0,9,-999.0000, -999.00,-999.000
318M20130321,       P02W,      30,          1,         22,         38,2,20130413,       0810,    30.0002,   143.7699,       5491,   837.7,    5.205,  34.1525,2,  34.1516,2,     85.5,2,    85.7,2,   86.03,2,    35.8,2,    0.01,2,    2.58,2,   1.346,2,   0.742,2,   0.064,2,     0.37,2,  2280.6,2, 2314.72,2,    7.428,2,       25,-999.000,9,-999.0000,9, -999.00,9, -999.00,9,  -999.0,9,  -999.0,-999.000,9,-999.000,     -999.0,9, -999.00,9, -999.00,9, -999.00,9,     -999.0,9,  -999.0,9, 20130413,      958,  29.9998, 143.7702,    34.3126,2,     -999.0,9,     -999.0,9,      5.202,2,     -999.0,9,     -999.0,9,-999.0000, -999.00,-999.000
318M20130321,       P02W,      30,          1,         21,         21,2,20130413,       0810,    30.0002,   143.7699,       5491,   939.8,   4.3623,  34.1875,2,  34.1924,2,     59.8,2,    62.9,2,  102.23,2,   38.99,2,    0.01,2,    2.79,2,-999.000,9,-999.000,9,-999.000,9,-999.0000,9,  2310.6,2, 2330.13,2,   7.3712,2,       25,-999.000,9,-999.0000,9, -999.00,9, -999.00,9,  -999.0,9,  -999.0,-999.000,9,-999.000,     -999.0,9, -999.00,9, -999.00,9, -999.00,9,     -999.0,9,  -999.0,9, 20130413,      955,  29.9999, 143.7702,    34.3536,2,     -999.0,9,     -999.0,9,     4.3612,2,     -999.0,9,     -999.0,9,-999.0000, -999.00,-999.000
318M20130321,       P02W,      30,          1,         20,         20,2,20130413,       0810,    30.0002,   143.7699,       5491,  1040.7,   3.8161,  34.2789,2,  34.2828,2,     47.8,2,    47.1,2,  118.24,2,   40.98,2,    0.01,2,    2.94,2,   0.520,2,   0.285,2,   0.024,2,     0.12,2,  2336.5,2, 2358.24,2,    7.347,2,       25,-999.000,9,-999.0000,9, -999.00,9, -999.00,9,  -999.0,9,  -999.0,-999.000,9,-999.000,     -999.0,9, -999.00,9, -999.00,9, -999.00,9,     -999.0,9,  -999.0,9, 20130413,      952,       30, 143.7702,    34.4444,2,     -999.0,9,     -999.0,9,     3.8216,2,     -999.0,9,     -999.0,9,-999.0000, -999.00,-999.000
318M20130321,       P02W,      30,          1,         19,         19,2,20130413,       0810,    30.0002,   143.7699,       5491,  1141.2,   3.3925,  34.3505,2,  34.3503,2,     40.9,2,    41.3,2,  129.85,2,   41.91,2,    0.01,2,    3.01,2,-999.000,9,-999.000,9,-999.000,9,-999.0000,9,  -999.0,9, -999.00,9,-999.0000,9,  -999.00,-999.000,9,-999.0000,9, -999.00,9, -999.00,9,  -999.0,9,  -999.0,-999.000,9,-999.000,     -999.0,9, -999.00,9, -999.00,9, -999.00,9,     -999.0,9,  -999.0,9, 20130413,      949,  30.0001, 143.7701,    34.5123,2,     -999.0,9,     -999.0,9,     3.3936,2,     -999.0,9,     -999.0,9,-999.0000, -999.00,-999.000
318M20130321,       P02W,      30,          1,         18,         18,2,20130413,       0810,    30.0002,   143.7699,       5491,  1244.3,   3.1056,  34.4003,2,  34.4018,2,     39.9,2,    39.3,2,  137.95,2,    42.4,2,       0,2,    3.04,2,   0.163,2,   0.100,2,   0.000,2,        0,2,  2361.2,2, 2373.14,2,   7.3423,2,       25,-999.000,9,-999.0000,9, -999.00,9, -999.00,9,  -999.0,9,  -999.0,-999.000,9,-999.000,     -999.0,9, -999.00,9, -999.00,9, -999.00,9,     -999.0,9,  -999.0,9, 20130413,      946,  30.0001,   143.77,     34.564,2,     -999.0,9,     -999.0,9,     3.1058,2,     -999.0,9,     -999.0,9,-999.0000, -999.00,-999.000
318M20130321,       P02W,      30,          1,         17,         17,2,20130413,       0810,    30.0002,   143.7699,       5491,  1346.9,   2.8775,  34.4461,2,  34.4474,2,     42.4,2,    41.7,2,  143.51,2,   42.48,2,       0,2,    3.05,2,-999.000,9,-999.000,9,-999.000,9,-999.0000,9,  2368.3,2, 2381.95,2,   7.3507,2,       25,-999.000,9,-999.0000,9, -999.00,9, -999.00,9,  -999.0,9,  -999.0,-999.000,9,-999.000,     -999.0,9, -999.00,9, -999.00,9, -999.00,9,     -999.0,9,  -999.0,9, 20130413,      943,  30.0001, 143.7699,    34.6098,2,     -999.0,9,     -999.0,9,     2.8777,2,     -999.0,9,     -999.0,9,-999.0000, -999.00,-999.000
318M20130321,       P02W,      30,          1,         16,         16,2,20130413,       0810,    30.0002,   143.7699,       5491,  1474.4,   2.6517,  34.4883,2,  34.4894,2,     49.1,2,    48.4,2,  148.58,2,   42.26,2,       0,2,    3.03,2,   0.052,2,   0.037,2,   0.000,2,        0,2,  2370.2,2, 2389.25,2,   7.3674,2,       25,-999.000,9,-999.0000,9, -999.00,9, -999.00,9,  -999.0,9,  -999.0,-999.000,9,-999.000,     -999.0,9, -999.00,9, -999.00,9, -999.00,9,     -999.0,9,  -999.0,9, 20130413,      940,  30.0002, 143.7698,     34.652,2,     -999.0,9,     -999.0,9,     2.6521,2,     -999.0,9,     -999.0,9,-999.0000, -999.00,-999.000
318M20130321,       P02W,      30,          1,         14,         14,2,20130413,       0810,    30.0002,   143.7699,       5491,    1677,   2.3387,  34.5381,2,  34.5395,2,     58.2,2,    58.5,2,  155.02,2,   41.79,2,       0,2,    2.97,2,   0.022,2,   0.023,2,   0.005,2,        0,2,  2370.7,2, 2397.95,2,   7.3905,2,       25,-999.000,9,-999.0000,9, -999.00,9, -999.00,9,  -999.0,9,  -999.0,-999.000,9,-999.000,     -999.0,9, -999.00,9, -999.00,9, -999.00,9,     -999.0,9,  -999.0,9, 20130413,      935,  29.9999, 143.7698,    34.7023,2,     -999.0,9,     -999.0,9,      2.339,2,     -999.0,9,     -999.0,9,-999.0000, -999.00,-999.000
318M20130321,       P02W,      30,          1,         15,         15,2,20130413,       0810,    30.0002,   143.7699,       5491,    1678,   2.3402,  34.5375,2,  34.5385,2,     58.2,2,    58.7,2,  154.92,2,   41.86,2,       0,2,    2.97,2,-999.000,9,-999.000,9,-999.000,9,-999.0000,9,  -999.0,9, -999.00,9,-999.0000,9,  -999.00,-999.000,9,-999.0000,9, -999.00,9, -999.00,9,  -999.0,9,  -999.0,-999.000,9,-999.000,     -999.0,9, -999.00,9, -999.00,9, -999.00,9,     -999.0,9,  -999.0,9, 20130413,      935,  29.9999, 143.7698,    34.7014,2,     -999.0,9,     -999.0,9,      2.339,2,     -999.0,9,     -999.0,9,-999.0000, -999.00,-999.000
318M20130321,       P02W,      30,          1,         13,         13,9,20130413,       0810,    30.0002,   143.7699,       5491,  1877.2,   2.1053,  34.5752,2,-999.0000,9,     70.6,2,  -999.0,9, -999.00,9, -999.00,9, -999.00,9, -999.00,9,-999.000,9,-999.000,9,-999.000,9,-999.0000,9,  -999.0,9, -999.00,9,-999.0000,9,  -999.00,-999.000,9,-999.0000,9, -999.00,9, -999.00,9,  -999.0,9,  -999.0,-999.000,9,-999.000,     -999.0,9, -999.00,9, -999.00,9, -999.00,9,     -999.0,9,  -999.0,9, 20130413,      930,  29.9999, 143.7698,     -999.0,9,     -999.0,9,     -999.0,9,     2.1052,2,     -999.0,9,     -999.0,9,-999.0000, -999.00,-999.000
318M20130321,       P02W,      30,          1,         12,         12,2,20130413,       0810,    30.0002,   143.7699,       5491,  2102.4,   1.9248,  34.6022,2,  34.6025,2,     81.3,2,    82.2,2,  161.35,2,    40.5,2,       0,2,    2.86,2,   0.007,2,   0.020,2,   0.000,2,     0.09,2,  2365.1,2, 2416.66,4,   7.4379,2,       25,-999.000,9,-999.0000,9, -999.00,9, -999.00,9,  -999.0,9,  -999.0,-999.000,9,-999.000,     -999.0,9, -999.00,9, -999.00,9, -999.00,9,     -999.0,9,  -999.0,9, 20130413,      925,       30, 143.7698,    34.7657,2,     -999.0,9,     -999.0,9,     1.9249,2,     -999.0,9,     -999.0,9,-999.0000, -999.00,-999.000
318M20130321,       P02W,      30,          1,         11,         11,2,20130413,       0810,    30.0002,   143.7699,       5491,  2358.1,   1.7725,  34.6281,2,  34.6302,2,     99.3,2,   100.5,2,  159.59,2,   39.41,2,       0,2,    2.76,2,-999.000,9,-999.000,9,-999.000,9,-999.0000,9,  -999.0,9, -999.00,9,-999.0000,9,  -999.00,-999.000,9,-999.0000,9, -999.00,9, -999.00,9,  -999.0,9,  -999.0,-999.000,9,-999.000,     -999.0,9, -999.00,9, -999.00,9, -999.00,9,     -999.0,9,  -999.0,9, 20130413,      919,       30, 143.7699,    34.7935,2,     -999.0,9,     -999.0,9,     1.7721,2,     -999.0,9,     -999.0,9,-999.0000, -999.00,-999.000
318M20130321,       P02W,      30,          1,         10,         10,2,20130413,       0810,    30.0002,   143.7699,       5491,  2615.3,   1.6638,  34.6458,2,  34.6466,2,      114,2,   113.9,2,  158.03,2,   38.49,2,       0,2,     2.7,2,  -0.006,2,   0.011,2,   0.000,2,     0.12,2,  -999.0,9, -999.00,9,-999.0000,9,  -999.00,-999.000,9,-999.0000,9, -999.00,9, -999.00,9,  -999.0,9,  -999.0,-999.000,9,-999.000,     -999.0,9, -999.00,9, -999.00,9, -999.00,9,     -999.0,9,  -999.0,9, 20130413,      913,       30,   143.77,    34.8099,2,     -999.0,9,     -999.0,9,     1.6638,2,     -999.0,9,     -999.0,9,-999.0000, -999.00,-999.000
318M20130321,       P02W,      30,          1,          9,          9,2,20130413,       0810,    30.0002,   143.7699,       5491,    2866,    1.594,  34.6573,2,  34.6576,2,    124.2,2,   123.1,2,  156.37,2,   37.86,2,       0,2,    2.65,2,-999.000,9,-999.000,9,-999.000,9,-999.0000,9,  2340.8,2, 2413.06,2,   7.5183,2,       25,-999.000,9,-999.0000,9, -999.00,9, -999.00,9,  -999.0,9,  -999.0,-999.000,9,-999.000,     -999.0,9, -999.00,9, -999.00,9, -999.00,9,     -999.0,9,  -999.0,9, 20130413,      908,  29.9997, 143.7701,     34.821,2,     -999.0,9,     -999.0,9,      1.594,2,     -999.0,9,     -999.0,9,-999.0000, -999.00,-999.000
318M20130321,       P02W,      30,          1,          8,          8,2,20130413,       0810,    30.0002,   143.7699,       5491,  3138.6,   1.5313,  34.6675,2,  34.6678,2,    133.7,2,   133.2,2,  154.32,2,   37.21,2,       0,2,    2.62,2,  -0.004,2,   0.012,2,   0.000,2,        0,2,  -999.0,9, -999.00,9,-999.0000,9,  -999.00,-999.000,9,-999.0000,9, -999.00,9, -999.00,9,  -999.0,9,  -999.0,-999.000,9,-999.000,     -999.0,9, -999.00,9, -999.00,9, -999.00,9,     -999.0,9,  -999.0,9, 20130413,      902,  29.9998, 143.7698,    34.8313,2,     -999.0,9,     -999.0,9,     1.5311,2,     -999.0,9,     -999.0,9,-999.0000, -999.00,-999.000