BOTTLE,20220817CCHSIOAMB
EXPOCODE,SECT_ID,STNNBR,CASTNO,SAMPNO,BTLNBR,BTLNBR_FLAG_W,DATE,TIME,LATITUDE,LONGITUDE,DEPTH,CTDPRS,CTDTMP,CTDSAL,CTDSAL_FLAG_W,SALNTY,SALNTY_FLAG_W,CTDOXY,CTDOXY_FLAG_W,OXYGEN,OXYGEN_FLAG_W,SILCAT,SILCAT_FLAG_W,NITRAT,NITRAT_FLAG_W,NITRIT,NITRIT_FLAG_W,PHSPHT,PHSPHT_FLAG_W,CFC-11,CFC-11_FLAG_W,CFC-12,CFC-12_FLAG_W,CFC113,CFC113_FLAG_W,SF6,SF6_FLAG_W,TCARBN,TCARBN_FLAG_W,ALKALI,ALKALI_FLAG_W,PH_TOT,PH_TOT_FLAG_W,PH_TMP,TRITUM,TRITUM_FLAG_W,HELIUM,HELIUM_FLAG_W,DELHE3,DELHE3_FLAG_W,DELC13,DELC13_FLAG_W,DELC14,DELC14_FLAG_W,C14ERR,NEON,NEON_FLAG_W,NEONER,I-129,I-129_FLAG_W,SR-90,SR-90_FLAG_W,DOC,DOC_FLAG_W,TDN,TDN_FLAG_W,CALCIUM,CALCIUM_FLAG_W,D15N_NO3,D15N_NO3_FLAG_W,BTL_DATE,BTL_TIME,BTL_LAT,BTL_LON,SALTREF,SALTREF_FLAG_W,CS-137,CS-137_FLAG_W,CS-134,CS-134_FLAG_W,REFTMP,REFTMP_FLAG_W,LAB_DEN,LAB_DEN_FLAG_W,D18O_NO3,D18O_NO3_FLAG_W,HELIER,DELHER,TRITER
,,,,,,,,,,,METERS,DBAR,ITS-90,PSS-78,,PSS-78,,UMOL/KG,,UMOL/KG,,UMOL/KG,,UMOL/KG,,UMOL/KG,,UMOL/KG,,PMOL/KG,,PMOL/KG,,PMOL/KG,,FMOL/KG,,UMOL/KG,,UMOL/KG,,,,DEG C,TU,,NMOL/KG,,PERCNT,,/MILLE,,/MILLE,,/MILLE,NMOL/KG,,NMOL/KG,BQ/M^3,,DM/.1MG,,UMOL/KG,,UMOL/KG,,MMOL/KG,,/MILLE,,,,,,G/KG,,BQ/M^3,,BQ/M^3,,ITS-90,,,,/MILLE,,NMOL/KG,PERCNT,TU
318M20130321,       P02W,      37,          1,         36,         36,2,20130415,       2119,    30.0001,   150.0987,       5868,     2.8,  18.5918,   34.744,2,  34.7439,2,    235.2,2,   235.7,2,    1.95,2,       0,2,       0,2,    0.04,2,   2.527,2,   1.521,2,   0.196,2,     1.48,2,  2001.4,6, 2279.71,2,   8.0109,2,       25,-999.000,9,-999.0000,9, -999.00,9,    0.53,2,    47.8,2,     3.0,-999.000,9,-999.000,     -999.0,9, -999.00,9,   54.18,2,    5.06,2,     -999.0,9,  -999.0,9, 20130415,     2343,  29.9999, 150.1011,    34.9078,2,     -999.0,9,     -999.0,9,    18.5925,2,     -999.0,9,     -999.0,9,-999.0000, -999.00,-999.000
318M20130321,       P02W,      37,          1,         35,         35,2,20130415,       2119,    30.0001,   150.0987,       5868,    19.4,  18.4902,   34.748,2,  34.7467,2,    235.4,2,   235.7,2,    1.95,2,       0,2,       0,2,    0.03,2,   2.509,2,   1.503,2,   0.210,2,     1.46,2,  2003.6,2, 2280.31,2,   8.0106,6,       25,-999.000,9,-999.0000,9, -999.00,9, -999.00,9,  -999.0,9,  -999.0,-999.000,9,-999.000,     -999.0,9, -999.00,9,   55.56,2,    4.37,2,     -999.0,9,  -999.0,9, 20130415,     2340,  29.9999, 150.1012,    34.9105,2,     -999.0,9,     -999.0,9,    18.4921,2,     -999.0,9,     -999.0,9,-999.0000, -999.00,-999.000
318M20130321,       P02W,      37,          1,         34,         34,2,20130415,       2119,    30.0001,   150.0987,       5868,    38.6,  18.4538,  34.7548,2,  34.7538,2,    235.3,2,     235,2,    2.05,2,       0,2,       0,2,    0.04,2,   2.512,2,   1.544,2,   0.208,2,     1.54,2,  -999.0,9, -999.00,9,-999.0000,9,  -999.00,-999.000,9,-999.0000,9, -999.00,9, -999.00,9,  -999.0,9,  -999.0,-999.000,9,-999.000,     -999.0,9, -999.00,9,   54.91,2,    4.14,2,     -999.0,9,  -999.0,9, 20130415,     2338,  29.9999, 150.1013,    34.9177,2,     -999.0,9,     -999.0,9,    18.4532,2,     -999.0,9,     -999.0,9,-999.0000, -999.00,-999.000
318M20130321,       P02W,      37,          1,         32,         32,2,20130415,       2119,    30.0001,   150.0987,       5868,    63.6,  18.1137,  34.7425,2,  34.7446,2,    233.1,2,  -999.0,9,    2.05,2,     0.2,2,    0.11,2,    0.08,2,-999.000,9,-999.000,9,-999.000,9,-999.0000,9,  -999.0,9, -999.00,9,-999.0000,9,  -999.00,-999.000,9,-999.0000,9, -999.00,9, -999.00,9,  -999.0,9,  -999.0,-999.000,9,-999.000,     -999.0,1, -999.00,1, -999.00,9, -999.00,9,     -999.0,9,  -999.0,9, 20130415,     2336,  29.9998, 150.1013,    34.9084,2,     -999.0,1,     -999.0,1,    18.1037,2,     -999.0,9,     -999.0,9,-999.0000, -999.00,-999.000
318M20130321,       P02W,      37,          1,         31,         31,2,20130415,       2119,    30.0001,   150.0987,       5868,    63.6,  18.1242,  34.7443,2,  34.7471,2,    233.1,2,   233.3,2,    1.95,2,     0.2,2,    0.12,2,    0.07,2,   2.547,2,   1.560,2,   0.189,2,     1.47,2,  2008.6,2, 2280.11,6,   8.0021,2,       25,-999.000,9,-999.0000,9, -999.00,9, -999.00,9,  -999.0,9,  -999.0,-999.000,9,-999.000,     -999.0,9, -999.00,9,   53.88,2,    4.26,2,     -999.0,9,  -999.0,9, 20130415,     2336,  29.9998, 150.1013,     34.911,2,     -999.0,9,     -999.0,9,    18.1136,2,     -999.0,9,     -999.0,9,-999.0000, -999.00,-999.000
318M20130321,       P02W,      37,          1,         33,         33,2,20130415,       2119,    30.0001,   150.0987,       5868,    64.2,  18.1037,  34.7408,2,  34.7459,2,    233.1,2,  -999.0,9,    2.15,2,     0.2,2,    0.12,2,    0.07,2,-999.000,9,-999.000,9,-999.000,9,-999.0000,9,  -999.0,9, -999.00,9,-999.0000,9,  -999.00,-999.000,9,-999.0000,9, -999.00,9, -999.00,9,  -999.0,9,  -999.0,-999.000,9,-999.000,     -999.0,9, -999.00,1, -999.00,9, -999.00,9,     -999.0,9,  -999.0,9, 20130415,     2336,  29.9998, 150.1013,    34.9098,2,     -999.0,1,     -999.0,1,    18.1035,2,     -999.0,9,     -999.0,9,-999.0000, -999.00,-999.000
318M20130321,       P02W,      37,          1,         30,         30,2,20130415,       2119,    30.0001,   150.0987,       5868,    89.6,  17.8547,  34.7429,2,  34.7422,2,    231.1,2,   230.1,2,    2.34,2,    0.82,2,    0.18,2,    0.11,2,   2.583,2,   1.572,2,   0.195,2,     1.42,2,  2012.1,2, 2280.21,2,   7.9923,2,       25,-999.000,9,-999.0000,9, -999.00,9,    0.46,2,    57.4,2,     2.6,-999.000,9,-999.000,     -999.0,9, -999.00,9,    49.9,2,    4.93,2,     -999.0,9,  -999.0,9, 20130415,     2334,  29.9998, 150.1012,    34.9061,2,     -999.0,9,     -999.0,9,    17.8542,2,     -999.0,9,     -999.0,9,-999.0000, -999.00,-999.000
318M20130321,       P02W,      37,          1,         29,         29,2,20130415,       2119,    30.0001,   150.0987,       5868,   134.4,  17.3281,  34.7176,2,  34.7202,2,    223.8,2,   225.3,2,    3.12,2,    2.63,2,    0.05,2,    0.19,2,   2.580,2,   1.569,2,   0.154,2,     1.54,2,  -999.0,9, -999.00,9,-999.0000,9,  -999.00,-999.000,9,-999.0000,9, -999.00,9, -999.00,9,  -999.0,9,  -999.0,-999.000,9,-999.000,     -999.0,9, -999.00,9,   50.36,2,    5.69,2,     -999.0,9,  -999.0,9, 20130415,     2331,  29.9997, 150.1012,    34.8839,2,     -999.0,9,     -999.0,9,     17.328,2,     -999.0,9,     -999.0,9,-999.0000, -999.00,-999.000
318M20130321,       P02W,      37,          1,         28,         28,2,20130415,       2119,    30.0001,   150.0987,       5868,   184.8,  17.0654,  34.7076,2,  34.7063,2,    225.2,2,   216.1,2,     3.9,2,       4,2,    0.03,2,    0.27,2,-999.000,9,-999.000,9,-999.000,9,-999.0000,9,  2027.4,2, 2279.51,2,   7.9575,2,       25,-999.000,9,-999.0000,9, -999.00,9,    0.33,2,    53.3,2,     2.6,-999.000,9,-999.000,     -999.0,9, -999.00,9,   50.49,2,    7.57,2,     -999.0,9,  -999.0,9, 20130415,     2330,  29.9998, 150.1013,    34.8699,2,     -999.0,9,     -999.0,9,    17.0635,2,     -999.0,9,     -999.0,9,-999.0000, -999.00,-999.000
318M20130321,       P02W,      37,          1,         27,         27,2,20130415,       2119,    30.0001,   150.0987,       5868,   235.3,  16.8164,  34.6926,2,  34.6906,2,    222.2,2,   206.9,2,    4.88,2,    5.24,2,    0.02,2,    0.36,2,   2.641,2,   1.591,2,   0.060,2,     1.36,2,  -999.0,9, -999.00,9,-999.0000,9,  -999.00,-999.000,9,-999.0000,9, -999.00,9, -999.00,9,  -999.0,9,  -999.0,-999.000,9,-999.000,     -999.0,9, -999.00,9,   49.33,2,    8.49,2,     -999.0,9,  -999.0,9, 20130415,     2328,  29.9998, 150.1013,    34.8542,2,     -999.0,9,     -999.0,9,    16.8177,2,     -999.0,9,     -999.0,9,-999.0000, -999.00,-999.000
318M20130321,       P02W,      37,          1,         26,         26,2,20130415,       2119,    30.0001,   150.0987,       5868,   286.9,  16.5247,  34.6708,2,  34.6694,2,    218.8,2,   208.3,2,    5.47,2,    5.56,2,    0.02,2,    0.39,2,   2.663,2,   1.610,2,   0.083,2,     1.43,2,  2038.7,2, 2276.61,2,   7.9339,2,       25,-999.000,9,-999.0000,9, -999.00,9,    0.26,2,    59.3,2,     3.5,-999.000,9,-999.000,     -999.0,9, -999.00,9,   47.99,2,    9.08,2,     -999.0,9,  -999.0,9, 20130415,     2326,  29.9997, 150.1013,    34.8328,2,     -999.0,9,     -999.0,9,     16.524,2,     -999.0,9,     -999.0,9,-999.0000, -999.00,-999.000
318M20130321,       P02W,      37,          1,         25,         25,2,20130415,       2119,    30.0001,   150.0987,       5868,   335.4,  16.0948,  34.6343,2,   34.633,2,    206.4,2,   208.4,2,    6.44,2,     6.2,2,    0.02,2,    0.44,2,   2.692,2,   1.624,2,   0.088,2,     1.41,2,  -999.0,9, -999.00,9,-999.0000,9,  -999.00,-999.000,9,   1.7800,2,   -0.08,2, -999.00,9,  -999.0,9,  -999.0,   7.348,2,   0.034,     -999.0,9, -999.00,9,   48.82,2,    9.84,2,     -999.0,9,  -999.0,9, 20130415,     2324,  29.9997, 150.1013,    34.7963,2,     -999.0,9,     -999.0,9,    16.0944,2,     -999.0,9,     -999.0,9,   0.0075,    0.15,-999.000
318M20130321,       P02W,      37,          1,         24,         24,2,20130415,       2119,    30.0001,   150.0987,       5868,   387.2,  15.4204,  34.5832,2,  34.5837,2,    200.2,2,   197.2,2,    9.18,2,    8.34,2,    0.02,2,    0.58,2,   2.757,2,   1.612,2,   0.055,2,     1.27,2,  2060.8,2, 2275.51,2,   7.8889,2,       25,-999.000,9,-999.0000,9, -999.00,9,    0.38,2,    44.6,2,     2.6,-999.000,9,-999.000,     -999.0,9, -999.00,9,   47.99,2, -999.00,9,     -999.0,9,  -999.0,9, 20130415,     2322,  29.9997, 150.1013,    34.7468,2,     -999.0,9,     -999.0,9,    15.4222,2,     -999.0,9,     -999.0,9,-999.0000, -999.00,-999.000
318M20130321,       P02W,      37,          1,         23,         23,2,20130415,       2119,    30.0001,   150.0987,       5868,   467.9,  13.6263,   34.464,2,  34.4653,2,    182.1,2,     189,2,   14.35,2,   11.84,2,    0.02,2,    0.83,2,  -0.057,4,  -0.006,4,  -0.007,4,        0,4,  2087.3,2, 2272.51,2,   7.8292,2,       25,-999.000,9,-999.0000,9, -999.00,9,    0.35,2,    47.3,2,     3.1,-999.000,9,-999.000,     -999.0,9, -999.00,9,   45.71,2, -999.00,9,     -999.0,9,  -999.0,9, 20130415,     2319,  29.9998, 150.1014,    34.6278,2,     -999.0,9,     -999.0,9,    13.6326,2,     -999.0,9,     -999.0,9,-999.0000, -999.00,-999.000
318M20130321,       P02W,      37,          1,         22,         38,2,20130415,       2119,    30.0001,   150.0987,       5868,   566.8,  10.8151,  34.2651,2,   34.273,3,    176.4,2,   183.4,2,   25.09,2,   16.83,2,    0.01,2,     1.2,2,   3.027,2,   1.679,2,   0.094,2,     1.14,2,  2123.4,2, 2273.91,2,   7.7459,2,       25,-999.000,9,-999.0000,9, -999.00,9,    0.25,2,    13.1,2,     3.4,-999.000,9,-999.000,     -999.0,9, -999.00,9,    44.5,2, -999.00,9,     -999.0,9,  -999.0,9, 20130415,     2317,       30, 150.1014,    34.4346,3,     -999.0,9,     -999.0,9,     10.822,2,     -999.0,9,     -999.0,9,-999.0000, -999.00,-999.000
318M20130321,       P02W,      37,          1,         21,         21,2,20130415,       2119,    30.0001,   150.0987,       5868,   668.1,   7.3648,  34.0353,2,  34.0405,2,    165.6,2,   166.3,2,    45.9,2,    24.6,2,       0,2,    1.79,2,   3.021,2,   1.595,2,   0.140,2,     1.05,2,  2181.3,2, 2280.01,2,   7.6127,2,       25,-999.000,9,-999.0000,9, -999.00,9,    0.10,2,   -40.5,2,     2.5,-999.000,9,-999.000,     -999.0,9, -999.00,9,   43.77,2, -999.00,9,     -999.0,9,  -999.0,9, 20130415,     2314,       30, 150.1014,     34.201,2,     -999.0,9,     -999.0,9,     7.3722,2,     -999.0,9,     -999.0,9,-999.0000, -999.00,-999.000
318M20130321,       P02W,      37,          1,         20,         20,2,20130415,       2119,    30.0001,   150.0987,       5868,     770,   5.2683,  34.0426,2,  34.0425,2,    128.7,2,   110.1,2,   75.68,2,   33.68,2,       0,2,    2.43,2,   2.211,2,   1.150,2,   0.107,2,     0.62,2,    2256,2, 2301.92,2,   7.4545,6,       25,-999.000,9,-999.0000,9, -999.00,9,   -0.17,2,   -93.8,2,     2.7,-999.000,9,-999.000,     -999.0,9, -999.00,9,   39.04,2, -999.00,9,     -999.0,9,  -999.0,9, 20130415,     2311,  29.9999, 150.1013,     34.203,2,     -999.0,9,     -999.0,9,     5.2728,2,     -999.0,9,     -999.0,9,-999.0000, -999.00,-999.000
318M20130321,       P02W,      37,          1,         19,         19,2,20130415,       2119,    30.0001,   150.0987,       5868,   870.3,   4.5967,  34.1461,2,  34.1458,2,     87.7,2,    74.7,2,   94.91,2,   37.64,2,       0,2,    2.71,2,   1.435,2,   0.729,2,   0.066,2,     0.38,2,  2294.1,2, 2321.12,2,   7.3908,2,       25,-999.000,9,-999.0000,9, -999.00,9,   -0.46,2,  -131.2,2,     2.1,-999.000,9,-999.000,     -999.0,9, -999.00,9,   37.55,2, -999.00,9,     -999.0,9,  -999.0,9, 20130415,     2308,  29.9999, 150.1013,    34.3068,2,     -999.0,9,     -999.0,9,     4.6081,2,     -999.0,9,     -999.0,9,-999.0000, -999.00,-999.000
318M20130321,       P02W,      37,          1,         18,         18,2,20130415,       2119,    30.0001,   150.0987,       5868,   970.5,   4.0136,  34.2313,2,  34.2299,2,     56.5,2,    50.5,2,  111.02,2,   40.61,2,       0,2,    2.92,2,   0.718,2,   0.363,2,   0.035,2,     0.19,2,  2325.9,2, 2340.53,2,   7.3483,2,       25,-999.000,9,-999.0000,9, -999.00,9,   -0.43,2,  -160.4,2,     2.1,-999.000,9,-999.000,     -999.0,9, -999.00,9, -999.00,5, -999.00,9,     -999.0,9,  -999.0,9, 20130415,     2306,  30.0001, 150.1013,    34.3913,2,     -999.0,9,     -999.0,9,     4.0107,2,     -999.0,9,     -999.0,9,-999.0000, -999.00,-999.000
318M20130321,       P02W,      37,          1,         17,         17,2,20130415,       2119,    30.0001,   150.0987,       5868,  1071.8,   3.6608,     34.3,2,  34.2996,2,     40.8,2,    40.1,2,  121.75,2,    41.8,2,       0,2,       3,2,   0.385,4,   0.197,4,   0.014,4,      0.1,4,    2344,2, 2353.54,2,   7.3352,2,       25,-999.000,9,-999.0000,9, -999.00,9,   -0.48,2,  -180.3,2,     2.2,-999.000,9,-999.000,     -999.0,9, -999.00,9,   35.86,2, -999.00,9,     -999.0,9,  -999.0,9, 20130415,     2303,  30.0001, 150.1013,    34.4613,2,     -999.0,9,     -999.0,9,     3.6605,2,     -999.0,9,     -999.0,9,-999.0000, -999.00,-999.000
318M20130321,       P02W,      37,          1,         16,         16,2,20130415,       2119,    30.0001,   150.0987,       5868,  1174.6,   3.3126,  34.3627,2,  34.3616,2,     34.4,2,    35.5,2,   131.8,2,   42.58,2,       0,2,    3.08,2,-999.000,9,-999.000,9,-999.000,9,-999.0000,9,  2357.3,2, 2366.44,2,   7.3311,2,       25,-999.000,9,-999.0000,9, -999.00,9,   -0.52,2,  -202.8,2,     2.1,-999.000,9,-999.000,     -999.0,9, -999.00,9,   35.08,2, -999.00,9,     -999.0,9,  -999.0,9, 20130415,     2300,  30.0001, 150.1013,    34.5236,2,     -999.0,9,     -999.0,9,     3.3109,2,     -999.0,9,     -999.0,9,-999.0000, -999.00,-999.000
318M20130321,       P02W,      37,          1,         15,         15,4,20130415,       2119,    30.0001,   150.0987,       5868,  1277.2,   3.0352,  34.4175,2,  34.2696,4,       35,2,    43.6,4,  117.25,4,   41.33,4,       0,4,    2.98,4,   0.516,4,   0.268,4,   0.022,4,     0.17,4,  -999.0,9, -999.00,9,-999.0000,9,  -999.00,-999.000,9,-999.0000,9, -999.00,9, -999.00,9,  -999.0,9,  -999.0,-999.000,9,-999.000,     -999.0,9, -999.00,9, -999.00,9, -999.00,9,     -999.0,9,  -999.0,9, 20130415,     2257,       30, 150.1013,    34.4312,4,     -999.0,9,     -999.0,9,     3.0362,2,     -999.0,9,     -999.0,9,-999.0000, -999.00,-999.000
318M20130321,       P02W,      37,          1,         14,         14,2,20130415,       2119,    30.0001,   150.0987,       5868,  1375.4,   2.8206,  34.4496,2,  34.4479,2,     38.6,2,    37.3,2,  145.75,2,   42.89,2,       0,2,    3.08,2,-999.000,9,-999.000,9,-999.000,9,-999.0000,9,  2370.2,2, 2384.15,2,   7.3423,6,       25,-999.000,9,-999.0000,9, -999.00,9,   -0.94,3,  -224.2,2,     2.7,-999.000,9,-999.000,     -999.0,9, -999.00,9,   36.61,2, -999.00,9,     -999.0,9,  -999.0,9, 20130415,     2254,  30.0001, 150.1014,    34.6104,2,     -999.0,9,     -999.0,9,     2.8218,2,     -999.0,9,     -999.0,9,-999.0000, -999.00,-999.000
318M20130321,       P02W,      37,          1,         13,         13,4,20130415,       2119,    30.0001,   150.0987,       5868,  1545.8,   2.5074,  34.5005,2,  34.4479,4,     44.9,2,    37.6,4,  145.84,4,   42.93,4,       0,4,    3.08,4,   0.074,2,   0.040,2,   0.006,2,     0.04,2,  -999.0,9, -999.00,9,-999.0000,9,  -999.00,-999.000,9,-999.0000,9, -999.00,9, -999.00,9,  -999.0,9,  -999.0,-999.000,9,-999.000,     -999.0,9, -999.00,9, -999.00,9, -999.00,9,     -999.0,9,  -999.0,9, 20130415,     2250,  30.0001, 150.1015,    34.6104,4,     -999.0,9,     -999.0,9,     2.5081,2,     -999.0,9,     -999.0,9,-999.0000, -999.00,-999.000
318M20130321,       P02W,      37,          1,         12,         12,2,20130415,       2119,    30.0001,   150.0987,       5868,  1750.6,   2.2088,   34.549,2,  34.5489,2,     54.1,2,    54.8,2,  161.16,2,   42.24,2,       0,2,       3,2,-999.000,9,-999.000,9,-999.000,9,-999.0000,9,  2377.5,2, 2403.35,2,   7.3824,2,       25,-999.000,9,-999.0000,9, -999.00,9,   -0.47,2,  -239.6,2,     2.0,-999.000,9,-999.000,     -999.0,9, -999.00,9,   36.42,2, -999.00,9,     -999.0,9,  -999.0,9, 20130415,     2245,  29.9999, 150.1015,    34.7118,2,     -999.0,9,     -999.0,9,     2.2088,2,     -999.0,9,     -999.0,9,-999.0000, -999.00,-999.000
318M20130321,       P02W,      37,          1,         11,         11,2,20130415,       2119,    30.0001,   150.0987,       5868,  1983.5,   1.9881,  34.5883,2,  34.5892,2,     72.6,2,    71.8,2,   163.5,2,    41.2,2,       0,2,    2.92,2,-999.000,9,-999.000,9,-999.000,9,-999.0000,9,  2371.6,2, 2409.06,2,   7.4149,2,       25,-999.000,9,-999.0000,9, -999.00,9,   -0.35,2,  -241.0,2,     1.9,-999.000,9,-999.000,     -999.0,9, -999.00,9,   36.52,2, -999.00,9,     -999.0,9,  -999.0,9, 20130415,     2239,  29.9998, 150.1015,    34.7523,2,     -999.0,9,     -999.0,9,     1.9881,2,     -999.0,9,     -999.0,9,-999.0000, -999.00,-999.000
318M20130321,       P02W,      37,          1,         10,         10,2,20130415,       2119,    30.0001,   150.0987,       5868,  2286.8,   1.7657,  34.6264,2,  34.6261,2,     95.8,2,    96.2,2,  162.13,2,   39.69,2,       0,2,     2.8,2,   0.019,2,   0.016,2,   0.003,2,     0.08,2,  -999.0,9, -999.00,9,-999.0000,9,  -999.00,-999.000,9,   1.9432,2,   18.77,2, -999.00,9,  -999.0,9,  -999.0,   8.345,2,   0.038,     -999.0,9, -999.00,9,   36.35,2, -999.00,9,     -999.0,9,  -999.0,9, 20130415,     2233,       30, 150.1014,    34.7894,2,     -999.0,9,     -999.0,9,      1.766,2,     -999.0,9,     -999.0,9,   0.0082,    0.15,-999.000
318M20130321,       P02W,      37,          1,          9,          9,2,20130415,       2119,    30.0001,   150.0987,       5868,  2695.2,   1.6147,  34.6523,2,  34.6521,2,    117.8,2,   117.3,2,  158.42,2,   38.36,2,       0,2,     2.7,2,-999.000,9,-999.000,9,-999.000,9,-999.0000,9,  2347.1,2, 2416.06,2,   7.5076,2,       25,-999.000,9,-999.0000,9, -999.00,9, -999.00,9,  -999.0,9,  -999.0,-999.000,9,-999.000,     -999.0,9, -999.00,9,    35.2,2, -999.00,9,     -999.0,9,  -999.0,9, 20130415,     2224,  29.9998, 150.1015,    34.8154,2,     -999.0,9,     -999.0,9,     1.6146,2,     -999.0,9,     -999.0,9,-999.0000, -999.00,-999.000
318M20130321,       P02W,      37,          1,          8,          8,2,20130415,       2119,    30.0001,   150.0987,       5868,  3105.6,   1.5393,  34.6666,2,  34.6664,2,    131.4,2,   131.7,2,  154.81,2,   37.41,2,       0,2,    2.63,2,-999.000,9,-999.000,9,-999.000,9,-999.0000,9,  -999.0,9, -999.00,9,-999.0000,9,  -999.00,-999.000,9,-999.0000,9, -999.00,9, -999.00,9,  -999.0,9,  -999.0,-999.000,9,-999.000,     -999.0,9, -999.00,9,   33.44,2, -999.00,9,     -999.0,9,  -999.0,9, 20130415,     2217,  29.9997, 150.1013,    34.8299,2,     -999.0,9,     -999.0,9,     1.5397,2,     -999.0,9,     -999.0,9,-999.0000, -999.00,-999.000