BOTTLE,20220817CCHSIOAMB
EXPOCODE,SECT_ID,STNNBR,CASTNO,SAMPNO,BTLNBR,BTLNBR_FLAG_W,DATE,TIME,LATITUDE,LONGITUDE,DEPTH,CTDPRS,CTDTMP,CTDSAL,CTDSAL_FLAG_W,SALNTY,SALNTY_FLAG_W,CTDOXY,CTDOXY_FLAG_W,OXYGEN,OXYGEN_FLAG_W,SILCAT,SILCAT_FLAG_W,NITRAT,NITRAT_FLAG_W,NITRIT,NITRIT_FLAG_W,PHSPHT,PHSPHT_FLAG_W,CFC-11,CFC-11_FLAG_W,CFC-12,CFC-12_FLAG_W,CFC113,CFC113_FLAG_W,SF6,SF6_FLAG_W,TCARBN,TCARBN_FLAG_W,ALKALI,ALKALI_FLAG_W,PH_TOT,PH_TOT_FLAG_W,PH_TMP,TRITUM,TRITUM_FLAG_W,HELIUM,HELIUM_FLAG_W,DELHE3,DELHE3_FLAG_W,DELC13,DELC13_FLAG_W,DELC14,DELC14_FLAG_W,C14ERR,NEON,NEON_FLAG_W,NEONER,I-129,I-129_FLAG_W,SR-90,SR-90_FLAG_W,DOC,DOC_FLAG_W,TDN,TDN_FLAG_W,CALCIUM,CALCIUM_FLAG_W,D15N_NO3,D15N_NO3_FLAG_W,BTL_DATE,BTL_TIME,BTL_LAT,BTL_LON,SALTREF,SALTREF_FLAG_W,CS-137,CS-137_FLAG_W,CS-134,CS-134_FLAG_W,REFTMP,REFTMP_FLAG_W,LAB_DEN,LAB_DEN_FLAG_W,D18O_NO3,D18O_NO3_FLAG_W,HELIER,DELHER,TRITER
,,,,,,,,,,,METERS,DBAR,ITS-90,PSS-78,,PSS-78,,UMOL/KG,,UMOL/KG,,UMOL/KG,,UMOL/KG,,UMOL/KG,,UMOL/KG,,PMOL/KG,,PMOL/KG,,PMOL/KG,,FMOL/KG,,UMOL/KG,,UMOL/KG,,,,DEG C,TU,,NMOL/KG,,PERCNT,,/MILLE,,/MILLE,,/MILLE,NMOL/KG,,NMOL/KG,BQ/M^3,,DM/.1MG,,UMOL/KG,,UMOL/KG,,MMOL/KG,,/MILLE,,,,,,G/KG,,BQ/M^3,,BQ/M^3,,ITS-90,,,,/MILLE,,NMOL/KG,PERCNT,TU
318M20130321,       P02E,     141,          1,          5,         37,2,20130528,       2131,    30.0012,  -123.7607,       4374,  3448.2,    1.553,  34.6735,2,  34.6733,2,    125.7,2,     126,2,  168.47,2,   37.76,2,       0,2,    2.67,2,   0.004,2,   0.009,2,-999.000,1,        0,2,  2348.7,2, 2426.66,2,   7.5366,6,       25,-999.000,9,-999.0000,9, -999.00,9, -999.00,9,  -999.0,9,  -999.0,-999.000,9,-999.000,     -999.0,9, -999.00,9, -999.00,5, -999.00,9,     -999.0,9,  -999.0,9, 20130528,     2154,  30.0012,-123.7607,    34.8368,2,     -999.0,9,     -999.0,9,     1.5524,2,     -999.0,9,     -999.0,9,-999.0000, -999.00,-999.000
318M20130321,       P02E,     141,          1,          4,          4,2,20130528,       2131,    30.0012,  -123.7607,       4374,  3808.1,   1.5251,  34.6793,2,  34.6788,2,    133.4,2,   132.8,2,  167.69,2,   37.33,2,       0,2,    2.64,2,   0.008,2,   0.011,2,-999.000,1,        0,2,  -999.0,9, -999.00,9,-999.0000,9,  -999.00,-999.000,9,-999.0000,9, -999.00,9, -999.00,9,  -999.0,9,  -999.0,-999.000,9,-999.000,     -999.0,9, -999.00,9,   35.98,2, -999.00,9,     -999.0,9,  -999.0,9, 20130528,     2146,  30.0012,-123.7607,    34.8424,2,     -999.0,9,     -999.0,9,     1.5255,2,     -999.0,9,     -999.0,9,-999.0000, -999.00,-999.000
318M20130321,       P02E,     141,          1,          3,          3,2,20130528,       2131,    30.0012,  -123.7607,       4374,  4115.4,   1.5299,   34.682,2,  34.6816,2,    136.7,2,   136.7,2,  166.71,2,   37.09,2,       0,2,    2.62,2,   0.006,2,   0.010,2,-999.000,1,        0,2,  2342.8,6, 2428.16,2,   7.5538,2,       25,-999.000,9,-999.0000,9, -999.00,9, -999.00,9,  -999.0,9,  -999.0,-999.000,9,-999.000,     -999.0,9, -999.00,9,   39.16,2, -999.00,9,     -999.0,9,  -999.0,9, 20130528,     2139,  30.0012,-123.7607,    34.8451,2,     -999.0,9,     -999.0,9,     1.5301,2,     -999.0,9,     -999.0,9,-999.0000, -999.00,-999.000
318M20130321,       P02E,     141,          1,          2,          2,2,20130528,       2131,    30.0012,  -123.7607,       4374,  4482.4,   1.5603,  34.6832,2,  34.6832,2,    138.6,2,   138.4,2,  166.61,2,   36.99,2,       0,2,    2.61,2,   0.005,2,   0.009,2,-999.000,1,        0,2,  2342.2,2, 2429.46,2,   7.5582,2,       25,-999.000,9,-999.0000,9, -999.00,9, -999.00,9,  -999.0,9,  -999.0,-999.000,9,-999.000,     -999.0,9, -999.00,9,   36.58,2, -999.00,9,     -999.0,9,  -999.0,9, 20130528,     2132,  30.0012,-123.7607,    34.8467,2,     -999.0,9,     -999.0,9,     1.5597,2,     -999.0,9,     -999.0,9,-999.0000, -999.00,-999.000