BOTTLE,20220817CCHSIOAMB
EXPOCODE,SECT_ID,STNNBR,CASTNO,SAMPNO,BTLNBR,BTLNBR_FLAG_W,DATE,TIME,LATITUDE,LONGITUDE,DEPTH,CTDPRS,CTDTMP,CTDSAL,CTDSAL_FLAG_W,SALNTY,SALNTY_FLAG_W,CTDOXY,CTDOXY_FLAG_W,OXYGEN,OXYGEN_FLAG_W,SILCAT,SILCAT_FLAG_W,NITRAT,NITRAT_FLAG_W,NITRIT,NITRIT_FLAG_W,PHSPHT,PHSPHT_FLAG_W,CFC-11,CFC-11_FLAG_W,CFC-12,CFC-12_FLAG_W,CFC113,CFC113_FLAG_W,SF6,SF6_FLAG_W,TCARBN,TCARBN_FLAG_W,ALKALI,ALKALI_FLAG_W,PH_TOT,PH_TOT_FLAG_W,PH_TMP,TRITUM,TRITUM_FLAG_W,HELIUM,HELIUM_FLAG_W,DELHE3,DELHE3_FLAG_W,DELC13,DELC13_FLAG_W,DELC14,DELC14_FLAG_W,C14ERR,NEON,NEON_FLAG_W,NEONER,I-129,I-129_FLAG_W,SR-90,SR-90_FLAG_W,DOC,DOC_FLAG_W,TDN,TDN_FLAG_W,CALCIUM,CALCIUM_FLAG_W,D15N_NO3,D15N_NO3_FLAG_W,BTL_DATE,BTL_TIME,BTL_LAT,BTL_LON,SALTREF,SALTREF_FLAG_W,CS-137,CS-137_FLAG_W,CS-134,CS-134_FLAG_W,REFTMP,REFTMP_FLAG_W,LAB_DEN,LAB_DEN_FLAG_W,D18O_NO3,D18O_NO3_FLAG_W,HELIER,DELHER,TRITER
,,,,,,,,,,,METERS,DBAR,ITS-90,PSS-78,,PSS-78,,UMOL/KG,,UMOL/KG,,UMOL/KG,,UMOL/KG,,UMOL/KG,,UMOL/KG,,PMOL/KG,,PMOL/KG,,PMOL/KG,,FMOL/KG,,UMOL/KG,,UMOL/KG,,,,DEG C,TU,,NMOL/KG,,PERCNT,,/MILLE,,/MILLE,,/MILLE,NMOL/KG,,NMOL/KG,BQ/M^3,,DM/.1MG,,UMOL/KG,,UMOL/KG,,MMOL/KG,,/MILLE,,,,,,G/KG,,BQ/M^3,,BQ/M^3,,ITS-90,,,,/MILLE,,NMOL/KG,PERCNT,TU
318M20130321,       P02W,      41,          1,          7,          7,2,20130417,       1335,    29.9999,     154.72,       5468,  3652.7,   1.4728,  34.6788,2,   34.678,2,    144.9,2,   144.9,2,  152.46,2,   36.46,2,       0,2,    2.53,2,   0.018,2,   0.015,2,   0.004,2,        0,2,    2328,2, 2415.36,2,   7.5565,2,       25,-999.000,9,-999.0000,9, -999.00,9, -999.00,9,  -999.0,9,  -999.0,-999.000,9,-999.000,     -999.0,9, -999.00,9,    34.9,2, -999.00,9,     -999.0,9,  -999.0,9, 20130417,     1415,       30, 154.7201,    34.8416,2,     -999.0,9,     -999.0,9,     1.4728,2,     -999.0,9,     -999.0,9,-999.0000, -999.00,-999.000
318M20130321,       P02W,      41,          1,          6,          6,2,20130417,       1335,    29.9999,     154.72,       5468,    3957,   1.4575,  34.6835,2,  34.6831,2,    150.4,2,   150.6,2,   150.9,2,   36.09,2,       0,2,    2.49,2,-999.000,9,-999.000,9,-999.000,9,-999.0000,9,  2323.8,2, 2415.66,2,   7.5657,2,       25,-999.000,9,-999.0000,9, -999.00,9, -999.00,9,  -999.0,9,  -999.0,-999.000,9,-999.000,     -999.0,9, -999.00,9, -999.00,9, -999.00,9,     -999.0,9,  -999.0,9, 20130417,     1408,  29.9999, 154.7204,    34.8467,2,     -999.0,9,     -999.0,9,     1.4576,2,     -999.0,9,     -999.0,9,-999.0000, -999.00,-999.000
318M20130321,       P02W,      41,          1,          5,         37,2,20130417,       1335,    29.9999,     154.72,       5468,    4267,   1.4601,  34.6866,2,  34.6869,2,    155.8,2,   154.8,2,  149.44,2,   35.48,2,       0,2,    2.47,2,   0.016,2,   0.013,2,   0.000,2,        0,2,    2319,2, 2414.66,2,    7.573,2,       25,-999.000,9,-999.0000,9, -999.00,9, -999.00,9,  -999.0,9,  -999.0,-999.000,9,-999.000,     -999.0,9, -999.00,9,   36.08,2, -999.00,9,     -999.0,9,  -999.0,9, 20130417,     1401,  29.9999,   154.72,    34.8505,2,     -999.0,9,     -999.0,9,     1.4603,2,     -999.0,9,     -999.0,9,-999.0000, -999.00,-999.000
318M20130321,       P02W,      41,          1,          4,          4,2,20130417,       1335,    29.9999,     154.72,       5468,  4571.5,   1.4705,  34.6891,2,  34.6897,2,    158.8,2,   158.3,2,  147.87,2,   35.52,2,       0,2,    2.45,2,-999.000,9,-999.000,9,-999.000,9,-999.0000,9,  2317.8,2, 2412.86,6,   7.5764,2,       25,-999.000,9,-999.0000,9, -999.00,9, -999.00,9,  -999.0,9,  -999.0,-999.000,9,-999.000,     -999.0,9, -999.00,9, -999.00,9, -999.00,9,     -999.0,9,  -999.0,9, 20130417,     1355,  29.9995, 154.7204,    34.8532,2,     -999.0,9,     -999.0,9,     1.4704,2,     -999.0,9,     -999.0,9,-999.0000, -999.00,-999.000
318M20130321,       P02W,      41,          1,          3,          3,2,20130417,       1335,    29.9999,     154.72,       5468,  4986.1,   1.4833,  34.6926,2,  34.6918,2,    164.8,2,   164.9,2,  142.31,2,   35.04,2,       0,2,    2.43,2,   0.024,2,   0.017,2,   0.000,2,        0,2,  2310.6,6, 2408.26,2,   7.5844,2,       25,-999.000,9,-999.0000,9, -999.00,9, -999.00,9,  -999.0,9,  -999.0,-999.000,9,-999.000,     -999.0,9, -999.00,9,    36.2,2, -999.00,9,     -999.0,9,  -999.0,9, 20130417,     1347,  29.9999, 154.7198,    34.8554,2,     -999.0,9,     -999.0,9,     1.4836,2,     -999.0,9,     -999.0,9,-999.0000, -999.00,-999.000
318M20130321,       P02W,      41,          1,          2,          2,2,20130417,       1335,    29.9999,     154.72,       5468,  5338.4,   1.5065,  34.6943,2,   34.694,2,    169.2,2,   169.4,2,  139.28,2,   34.75,2,       0,2,     2.4,2,-999.000,9,-999.000,9,-999.000,9,-999.0000,9,  2305.8,2, 2405.85,2,   7.5883,6,       25,-999.000,9,-999.0000,9, -999.00,9, -999.00,9,  -999.0,9,  -999.0,-999.000,9,-999.000,     -999.0,9, -999.00,9,   35.54,2, -999.00,9,     -999.0,9,  -999.0,9, 20130417,     1340,  29.9998,   154.72,    34.8576,2,     -999.0,9,     -999.0,9,     1.5067,2,     -999.0,9,     -999.0,9,-999.0000, -999.00,-999.000
318M20130321,       P02W,      41,          1,          1,          1,2,20130417,       1335,    29.9999,     154.72,       5468,  5566.2,   1.5266,  34.6948,2,  34.6948,2,    170.7,2,   170.8,2,  138.11,2,   34.63,2,       0,2,    2.39,2,   0.039,2,   0.024,2,   0.000,2,     0.06,2,  2305.7,2, 2405.35,2,   7.5914,2,       25,-999.000,9,-999.0000,9, -999.00,9, -999.00,9,  -999.0,9,  -999.0,-999.000,9,-999.000,     -999.0,9, -999.00,9,   36.89,2, -999.00,9,     -999.0,9,  -999.0,9, 20130417,     1335,  29.9999,   154.72,    34.8584,2,     -999.0,9,     -999.0,9,     1.5267,2,     -999.0,9,     -999.0,9,-999.0000, -999.00,-999.000