BOTTLE,20220817CCHSIOAMB
EXPOCODE,SECT_ID,STNNBR,CASTNO,SAMPNO,BTLNBR,BTLNBR_FLAG_W,DATE,TIME,LATITUDE,LONGITUDE,DEPTH,CTDPRS,CTDTMP,CTDSAL,CTDSAL_FLAG_W,SALNTY,SALNTY_FLAG_W,CTDOXY,CTDOXY_FLAG_W,OXYGEN,OXYGEN_FLAG_W,SILCAT,SILCAT_FLAG_W,NITRAT,NITRAT_FLAG_W,NITRIT,NITRIT_FLAG_W,PHSPHT,PHSPHT_FLAG_W,CFC-11,CFC-11_FLAG_W,CFC-12,CFC-12_FLAG_W,CFC113,CFC113_FLAG_W,SF6,SF6_FLAG_W,TCARBN,TCARBN_FLAG_W,ALKALI,ALKALI_FLAG_W,PH_TOT,PH_TOT_FLAG_W,PH_TMP,TRITUM,TRITUM_FLAG_W,HELIUM,HELIUM_FLAG_W,DELHE3,DELHE3_FLAG_W,DELC13,DELC13_FLAG_W,DELC14,DELC14_FLAG_W,C14ERR,NEON,NEON_FLAG_W,NEONER,I-129,I-129_FLAG_W,SR-90,SR-90_FLAG_W,DOC,DOC_FLAG_W,TDN,TDN_FLAG_W,CALCIUM,CALCIUM_FLAG_W,D15N_NO3,D15N_NO3_FLAG_W,BTL_DATE,BTL_TIME,BTL_LAT,BTL_LON,SALTREF,SALTREF_FLAG_W,CS-137,CS-137_FLAG_W,CS-134,CS-134_FLAG_W,REFTMP,REFTMP_FLAG_W,LAB_DEN,LAB_DEN_FLAG_W,D18O_NO3,D18O_NO3_FLAG_W,HELIER,DELHER,TRITER
,,,,,,,,,,,METERS,DBAR,ITS-90,PSS-78,,PSS-78,,UMOL/KG,,UMOL/KG,,UMOL/KG,,UMOL/KG,,UMOL/KG,,UMOL/KG,,PMOL/KG,,PMOL/KG,,PMOL/KG,,FMOL/KG,,UMOL/KG,,UMOL/KG,,,,DEG C,TU,,NMOL/KG,,PERCNT,,/MILLE,,/MILLE,,/MILLE,NMOL/KG,,NMOL/KG,BQ/M^3,,DM/.1MG,,UMOL/KG,,UMOL/KG,,MMOL/KG,,/MILLE,,,,,,G/KG,,BQ/M^3,,BQ/M^3,,ITS-90,,,,/MILLE,,NMOL/KG,PERCNT,TU
318M20130321,       P02W,      14,          4,         36,         36,2,20130409,       0600,    30.2365,   134.4832,       4557,     4.2,  19.3854,  34.7282,2,  34.7292,2,    231.3,2,     231,2,    1.66,2,       0,2,       0,2,    0.01,2,   2.363,2,   1.418,2,   0.198,2,     1.52,2,  1992.5,6, 2278.41,2,   8.0302,2,       25,   0.473,2,   1.7719,2,   -1.17,2, -999.00,9,  -999.0,9,  -999.0,   7.136,2,   0.033,     -999.0,9, -999.00,9, -999.00,9, -999.00,9,     -999.0,9,  -999.0,1, 20130409,      806,  30.2189, 134.4472,    34.8929,2,     -999.0,9,     -999.0,9,    19.3866,2,     -999.0,9,     -999.0,1,   0.0074,    0.15,   0.006
318M20130321,       P02W,      14,          4,         35,         35,2,20130409,       0600,    30.2365,   134.4832,       4557,    31.2,  19.0427,  34.7124,2,  34.7132,2,    231.6,2,     232,2,    1.76,2,    0.01,2,    0.02,2,    0.02,2,   2.385,2,   1.404,2,   0.200,2,     1.52,2,  -999.0,9, -999.00,9,-999.0000,9,  -999.00,-999.000,9,-999.0000,9, -999.00,9, -999.00,9,  -999.0,9,  -999.0,-999.000,9,-999.000,     -999.0,9, -999.00,9, -999.00,9, -999.00,9,     -999.0,9,  -999.0,1, 20130409,      804,  30.2197, 134.4486,    34.8769,2,     -999.0,9,     -999.0,9,    19.0418,2,     -999.0,9,     -999.0,1,-999.0000, -999.00,-999.000
318M20130321,       P02W,      14,          4,         34,         34,2,20130409,       0600,    30.2365,   134.4832,       4557,    56.8,  18.9849,  34.7106,2,  34.7119,2,    232.2,2,   231.1,2,    1.76,2,    0.01,2,    0.03,2,    0.02,2,   2.387,2,   1.425,2,   0.189,2,     1.47,2,  1994.5,2, 2277.21,2,   8.0246,6,       25,   0.482,2,   1.7820,2,   -1.13,2, -999.00,9,  -999.0,9,  -999.0,   7.203,2,   0.033,     -999.0,9, -999.00,9, -999.00,9, -999.00,9,     -999.0,9,  -999.0,1, 20130409,      802,  30.2203, 134.4499,    34.8755,2,     -999.0,9,     -999.0,9,     18.985,2,     -999.0,9,     -999.0,1,   0.0075,    0.15,   0.007
318M20130321,       P02W,      14,          4,         33,         33,2,20130409,       0600,    30.2365,   134.4832,       4557,    81.8,  18.8789,  34.7248,2,  34.7288,2,    230.4,2,   228.9,2,    1.85,2,    0.27,2,    0.12,2,    0.04,2,   2.393,2,   1.428,2,   0.212,2,     1.51,2,  -999.0,9, -999.00,9,-999.0000,9,  -999.00,-999.000,9,-999.0000,9, -999.00,9, -999.00,9,  -999.0,9,  -999.0,-999.000,9,-999.000,     -999.0,9, -999.00,9, -999.00,9, -999.00,9,     -999.0,9,  -999.0,1, 20130409,      800,  30.2207, 134.4509,    34.8925,2,     -999.0,9,     -999.0,9,    18.8778,2,     -999.0,9,     -999.0,1,-999.0000, -999.00,-999.000
318M20130321,       P02W,      14,          4,         32,         32,2,20130409,       0600,    30.2365,   134.4832,       4557,   106.1,  18.4866,   34.768,2,  34.7691,2,    223.5,2,   221.8,2,    2.05,2,    1.46,2,    0.08,2,    0.12,2,   2.407,2,   1.436,2,   0.154,2,     1.52,2,  2011.5,2, 2280.51,6,   8.0022,2,       25,   0.482,2,   1.7946,2,   -0.92,2, -999.00,9,  -999.0,9,  -999.0,   7.202,2,   0.033,     -999.0,9, -999.00,9, -999.00,9, -999.00,9,     -999.0,9,  -999.0,1, 20130409,      759,  30.2212,  134.452,     34.933,2,     -999.0,9,     -999.0,9,    18.4879,2,     -999.0,9,     -999.0,1,   0.0075,    0.15,   0.006
318M20130321,       P02W,      14,          4,         31,         31,2,20130409,       0600,    30.2365,   134.4832,       4557,   147.9,  18.2481,  34.7535,2,  34.7602,2,    220.6,2,   219.5,2,    2.54,2,    2.02,2,    0.02,2,    0.15,2,   2.400,2,   1.380,2,   0.143,2,     1.53,2,  -999.0,9, -999.00,9,-999.0000,9,  -999.00,-999.000,9,-999.0000,9, -999.00,9, -999.00,9,  -999.0,9,  -999.0,-999.000,9,-999.000,     -999.0,9, -999.00,9, -999.00,9, -999.00,9,     -999.0,9,  -999.0,1, 20130409,      756,  30.2218, 134.4536,    34.9241,2,     -999.0,9,     -999.0,9,    18.2379,2,     -999.0,9,     -999.0,1,-999.0000, -999.00,-999.000
318M20130321,       P02W,      14,          4,         30,         30,2,20130409,       0600,    30.2365,   134.4832,       4557,   189.3,  17.8425,   34.741,2,  34.7413,2,    203.6,2,   206.8,2,    3.61,2,    3.81,2,    0.02,2,    0.26,2,   2.110,2,-999.000,5,   0.087,2,     1.28,2,  2029.1,2, 2278.41,2,   7.9638,2,       25,   0.485,2,   1.7736,2,   -0.52,2, -999.00,9,  -999.0,9,  -999.0,   7.149,2,   0.033,     -999.0,9, -999.00,9, -999.00,9, -999.00,9,     -999.0,9,  -999.0,1, 20130409,      754,  30.2226, 134.4552,    34.9052,2,     -999.0,9,     -999.0,9,    17.8423,2,     -999.0,9,     -999.0,1,   0.0074,    0.15,   0.006
318M20130321,       P02W,      14,          4,         29,         29,2,20130409,       0600,    30.2365,   134.4832,       4557,     257,  17.0036,   34.692,2,  34.6898,2,    197.1,2,   196.8,2,    5.56,2,    6.05,2,    0.01,2,    0.41,2,   2.566,2,   1.500,2,   0.039,2,     1.31,2,  -999.0,9, -999.00,9,-999.0000,9,  -999.00,-999.000,9,-999.0000,9, -999.00,9, -999.00,9,  -999.0,9,  -999.0,-999.000,9,-999.000,     -999.0,9, -999.00,9, -999.00,9, -999.00,9,     -999.0,9,  -999.0,1, 20130409,      752,  30.2232, 134.4575,    34.8534,2,     -999.0,9,     -999.0,9,    17.0049,2,     -999.0,9,     -999.0,1,-999.0000, -999.00,-999.000
318M20130321,       P02W,      14,          4,         28,         28,2,20130409,       0600,    30.2365,   134.4832,       4557,   307.8,  16.0897,  34.6306,2,  34.6307,2,      190,2,   188.3,2,     8.2,2,    8.18,2,    0.01,2,    0.56,2,   2.643,2,   1.510,2,   0.027,2,     1.21,2,  2063.6,2, 2275.91,2,   7.8927,2,       25,   0.476,2,   1.8167,2,    1.09,2, -999.00,9,  -999.0,9,  -999.0,   7.417,2,   0.034,     -999.0,9, -999.00,9, -999.00,9, -999.00,9,     -999.0,9,  -999.0,1, 20130409,      750,  30.2237, 134.4584,     34.794,2,     -999.0,9,     -999.0,9,    16.0891,2,     -999.0,9,     -999.0,1,   0.0076,    0.15,   0.006
318M20130321,       P02W,      14,          4,         27,         27,2,20130409,       0600,    30.2365,   134.4832,       4557,   359.3,  15.0453,  34.5648,2,  34.5666,2,    182.2,2,     182,2,   11.71,2,   10.45,2,    0.01,2,    0.72,2,   2.666,2,   1.504,2,   0.029,2,     1.06,2,  -999.0,9, -999.00,9,-999.0000,9,  -999.00,-999.000,9,-999.0000,9, -999.00,9, -999.00,9,  -999.0,9,  -999.0,-999.000,9,-999.000,     -999.0,9, -999.00,9, -999.00,9, -999.00,9,     -999.0,9,  -999.0,1, 20130409,      748,  30.2241,  134.459,    34.7296,2,     -999.0,9,     -999.0,9,    15.0519,2,     -999.0,9,     -999.0,1,-999.0000, -999.00,-999.000
318M20130321,       P02W,      14,          4,         26,         26,2,20130409,       0600,    30.2365,   134.4832,       4557,   408.8,  13.8352,   34.488,2,  34.4891,2,    177.1,2,   177.8,2,   14.94,2,   12.64,2,    0.01,2,    0.88,2,   2.788,2,   1.557,2,   0.058,2,     1.05,2,  2097.5,2, 2274.51,2,    7.818,2,       25,   0.471,2,   1.8132,2,    3.38,2, -999.00,9,  -999.0,9,  -999.0,   7.530,2,   0.035,     -999.0,9, -999.00,9, -999.00,9, -999.00,9,     -999.0,9,  -999.0,1, 20130409,      746,  30.2244, 134.4595,    34.6517,2,     -999.0,9,     -999.0,9,    13.8364,2,     -999.0,9,     -999.0,1,   0.0076,    0.15,   0.006
318M20130321,       P02W,      14,          4,         25,         25,2,20130409,       0600,    30.2365,   134.4832,       4557,   457.7,  12.3865,  34.4034,2,    34.41,2,    168.7,2,   170.1,2,   21.58,2,   15.57,2,    0.01,2,     1.1,2,   2.718,2,   1.484,2,   0.064,2,     0.95,2,  -999.0,9, -999.00,9,-999.0000,9,  -999.00,-999.000,9,-999.0000,9, -999.00,9, -999.00,9,  -999.0,9,  -999.0,-999.000,9,-999.000,     -999.0,9, -999.00,9, -999.00,9, -999.00,9,     -999.0,9,  -999.0,1, 20130409,      744,  30.2247,   134.46,    34.5722,2,     -999.0,9,     -999.0,9,    12.3637,3,     -999.0,9,     -999.0,1,-999.0000, -999.00,-999.000
318M20130321,       P02W,      14,          4,         24,         24,2,20130409,       0600,    30.2365,   134.4832,       4557,   506.8,  11.0613,  34.3276,2,  34.3293,2,    161.4,2,   162.5,2,    28.8,2,   18.63,2,    0.01,2,    1.33,2,   2.662,2,   1.434,2,   0.047,2,     0.91,2,    2143,2, 2278.11,2,   7.7225,2,       25,   0.456,2,   1.8828,2,    6.46,2, -999.00,9,  -999.0,9,  -999.0,   7.832,3,   0.036,     -999.0,9, -999.00,9, -999.00,9, -999.00,9,     -999.0,9,  -999.0,1, 20130409,      742,  30.2251, 134.4607,    34.4912,2,     -999.0,9,     -999.0,9,    11.0587,2,     -999.0,9,     -999.0,1,   0.0079,    0.15,   0.006
318M20130321,       P02W,      14,          4,         23,         23,2,20130409,       0600,    30.2365,   134.4832,       4557,   604.8,   8.8271,  34.2312,2,  34.2338,2,    139.8,2,   141.9,2,   45.11,2,   24.29,2,    0.01,2,    1.75,2,   2.331,2,   1.208,2,   0.078,2,     0.75,2,  2183.3,2, 2287.61,2,   7.6284,2,       25,   0.400,2,   1.8486,2,    9.56,2, -999.00,9,  -999.0,9,  -999.0,   7.945,2,   0.037,     -999.0,9, -999.00,9, -999.00,9, -999.00,9,     -999.0,9,  -999.0,1, 20130409,      739,  30.2257, 134.4617,    34.3952,2,     -999.0,9,     -999.0,9,      8.823,2,     -999.0,9,     -999.0,1,   0.0078,    0.15,   0.007
318M20130321,       P02W,      14,          4,         22,         38,2,20130409,       0600,    30.2365,   134.4832,       4557,   710.2,   6.6647,  34.1983,2,  34.1998,2,    110.8,2,   110.5,2,   68.74,2,   30.89,2,    0.01,2,    2.24,2,-999.000,9,-999.000,9,-999.000,9,-999.0000,9,  -999.0,9, -999.00,9,-999.0000,9,  -999.00,-999.000,9,-999.0000,9, -999.00,9, -999.00,9,  -999.0,9,  -999.0,-999.000,9,-999.000,     -999.0,9, -999.00,9, -999.00,9, -999.00,9,     -999.0,9,  -999.0,1, 20130409,      735,  30.2262, 134.4626,    34.3611,2,     -999.0,9,     -999.0,9,     6.6643,2,     -999.0,9,     -999.0,1,-999.0000, -999.00,-999.000
318M20130321,       P02W,      14,          4,         21,         21,2,20130409,       0600,    30.2365,   134.4832,       4557,   819.3,   5.2832,  34.2629,2,  34.2639,2,     82.8,2,    81.7,2,    91.1,2,   35.71,2,       0,2,    2.59,2,   1.091,2,   0.517,2,   0.043,2,     0.26,2,  2286.1,2, 2329.03,2,   7.4447,2,       25,   0.201,2,   1.9326,2,   15.30,2, -999.00,9,  -999.0,9,  -999.0,   8.229,3,   0.038,     -999.0,9, -999.00,9, -999.00,9, -999.00,9,     -999.0,9,  -999.0,1, 20130409,      732,  30.2267, 134.4635,    34.4255,2,     -999.0,9,     -999.0,9,     5.2853,2,     -999.0,9,     -999.0,1,   0.0081,    0.15,   0.011
318M20130321,       P02W,      14,          4,         20,         20,2,20130409,       0600,    30.2365,   134.4832,       4557,   938.1,   4.1689,   34.308,2,  34.3104,2,     63.3,2,    62.3,2,   111.4,2,   39.04,2,       0,2,    2.82,2,   0.710,2,   0.322,2,   0.035,2,     0.21,2,  2327.9,2, 2347.03,2,    7.393,6,       25,   0.121,2,   1.9129,2,   16.56,2, -999.00,9,  -999.0,9,  -999.0,   8.193,2,   0.038,     -999.0,9, -999.00,9, -999.00,9, -999.00,9,     -999.0,9,  -999.0,1, 20130409,      729,  30.2272, 134.4646,    34.4722,2,     -999.0,9,     -999.0,9,     4.1685,2,     -999.0,9,     -999.0,1,   0.0080,    0.15,   0.011
318M20130321,       P02W,      14,          4,         19,         19,2,20130409,       0600,    30.2365,   134.4832,       4557,  1033.6,   3.6407,   34.357,2,  34.3581,2,     55.1,2,    55.4,2,  123.21,2,   40.49,2,       0,2,    2.92,2,   0.480,2,   0.246,2,   0.000,2,     0.09,2,  2340.1,2, 2362.04,2,   7.3766,2,       25,   0.081,2,   1.9337,2,   17.69,2, -999.00,9,  -999.0,9,  -999.0,   8.227,2,   0.038,     -999.0,9, -999.00,9, -999.00,9, -999.00,9,     -999.0,9,  -999.0,1, 20130409,      726,  30.2277, 134.4657,    34.5201,2,     -999.0,9,     -999.0,9,     3.6406,2,     -999.0,9,     -999.0,1,   0.0081,    0.15,   0.011
318M20130321,       P02W,      14,          4,         18,         18,2,20130409,       0600,    30.2365,   134.4832,       4557,  1131.4,   3.4317,  34.4146,2,  34.4166,2,     60.5,2,    61.7,2,  126.43,2,   40.29,2,       0,2,     2.9,2,   0.313,2,   0.134,2,   0.004,2,     0.08,2,  2339.1,2, 2368.64,2,   7.3979,2,       25,   0.057,2,   1.9663,2,   17.43,2, -999.00,9,  -999.0,9,  -999.0,   8.306,2,   0.038,     -999.0,9, -999.00,9, -999.00,9, -999.00,9,     -999.0,9,  -999.0,1, 20130409,      723,   30.228, 134.4667,    34.5788,2,     -999.0,9,     -999.0,9,     3.4309,2,     -999.0,9,     -999.0,1,   0.0083,    0.15,   0.011
318M20130321,       P02W,      14,          4,         17,         17,2,20130409,       0600,    30.2365,   134.4832,       4557,  1229.3,   3.1301,  34.4476,2,  34.4493,2,     62.4,2,    63.3,2,  132.77,2,   40.47,2,       0,2,    2.92,2,-999.000,9,-999.000,9,-999.000,9,-999.0000,9,  -999.0,9, -999.00,9,-999.0000,9,  -999.00,-999.000,9,-999.0000,9, -999.00,9, -999.00,9,  -999.0,9,  -999.0,-999.000,9,-999.000,     -999.0,9, -999.00,9, -999.00,9, -999.00,9,     -999.0,9,  -999.0,1, 20130409,      720,  30.2285, 134.4676,    34.6118,2,     -999.0,9,     -999.0,9,     3.1298,2,     -999.0,9,     -999.0,1,-999.0000, -999.00,-999.000
318M20130321,       P02W,      14,          4,         16,         16,2,20130409,       0600,    30.2365,   134.4832,       4557,    1329,   2.8964,  34.4759,2,  34.4782,2,     66.3,2,    67.1,2,  136.87,2,   40.52,2,       0,2,     2.9,2,   0.189,2,   0.075,2,   0.010,2,     0.07,2,  2350.4,2, 2383.75,2,   7.4076,2,       25,   0.037,2,   1.9491,2,   18.21,2, -999.00,9,  -999.0,9,  -999.0,   8.304,2,   0.038,     -999.0,9, -999.00,9, -999.00,9, -999.00,9,     -999.0,9,  -999.0,1, 20130409,      717,   30.229, 134.4683,    34.6408,2,     -999.0,9,     -999.0,9,     2.8966,2,     -999.0,9,     -999.0,1,   0.0082,    0.15,   0.011
318M20130321,       P02W,      14,          4,         15,         15,2,20130409,       0600,    30.2365,   134.4832,       4557,  1429.9,   2.6502,   34.507,2,  34.4974,2,       71,2,    69.2,2,  140.67,2,   40.52,2,       0,2,    2.91,2,-999.000,9,-999.000,9,-999.000,9,-999.0000,9,  -999.0,9, -999.00,9,-999.0000,9,  -999.00,-999.000,9,-999.0000,9, -999.00,9, -999.00,9,  -999.0,9,  -999.0,-999.000,9,-999.000,     -999.0,9, -999.00,9, -999.00,9, -999.00,9,     -999.0,9,  -999.0,1, 20130409,      714,  30.2296, 134.4691,    34.6601,2,     -999.0,9,     -999.0,9,       2.65,2,     -999.0,9,     -999.0,1,-999.0000, -999.00,-999.000
318M20130321,       P02W,      14,          4,         14,         14,4,20130409,       0600,    30.2365,   134.4832,       4557,  1532.5,   2.4375,  34.5302,2,  34.4789,4,     75.6,2,    66.8,4,  137.64,4,   40.52,4,       0,4,    2.92,4,   0.185,4,   0.097,4,   0.004,4,     0.08,4,  2348.9,4, 2385.45,4,   7.4074,4,       25,   0.027,2,   1.9291,2,   18.27,2, -999.00,9,  -999.0,9,  -999.0,   8.188,2,   0.038,     -999.0,9, -999.00,9, -999.00,9, -999.00,9,     -999.0,9,  -999.0,1, 20130409,      711,  30.2302,   134.47,    34.6415,4,     -999.0,9,     -999.0,9,     2.4373,2,     -999.0,9,     -999.0,1,   0.0081,    0.15,   0.011
318M20130321,       P02W,      14,          4,         13,         13,4,20130409,       0600,    30.2365,   134.4832,       4557,  1630.1,   2.2832,  34.5553,2,  34.3559,4,     81.4,2,    55.9,4,   122.7,4,   40.45,4,       0,4,    2.92,4,-999.000,9,-999.000,9,-999.000,9,-999.0000,9,  -999.0,9, -999.00,9,-999.0000,9,  -999.00,-999.000,9,-999.0000,9, -999.00,9, -999.00,9,  -999.0,9,  -999.0,-999.000,9,-999.000,     -999.0,9, -999.00,9, -999.00,9, -999.00,9,     -999.0,9,  -999.0,1, 20130409,      708,  30.2305, 134.4707,    34.5179,4,     -999.0,9,     -999.0,9,     2.2825,2,     -999.0,9,     -999.0,1,-999.0000, -999.00,-999.000
318M20130321,       P02W,      14,          4,         12,         12,2,20130409,       0600,    30.2365,   134.4832,       4557,  1822.5,    2.079,  34.5875,2,  34.5897,2,     97.5,2,    97.7,2,  147.59,2,   39.15,2,       0,2,    2.77,2,   0.002,2,   0.040,2,   0.005,2,     0.09,2,    2348,2, 2402.75,2,   7.4703,6,       25,   0.001,2,-999.0000,9, -999.00,9, -999.00,9,  -999.0,9,  -999.0,-999.000,9,-999.000,     -999.0,9, -999.00,9, -999.00,9, -999.00,9,     -999.0,9,  -999.0,1, 20130409,      703,  30.2311, 134.4718,    34.7528,2,     -999.0,9,     -999.0,9,     2.0786,2,     -999.0,9,     -999.0,1,-999.0000, -999.00,   0.011
318M20130321,       P02W,      14,          4,         11,         11,2,20130409,       0600,    30.2365,   134.4832,       4557,  2018.7,   1.9241,  34.6116,2,  34.6168,3,    109.9,2,   110.9,2,   147.1,2,   38.39,2,       0,2,    2.71,2,   0.078,2,   0.045,2,   0.005,2,     0.09,2,  2343.1,2, 2406.35,2,   7.4949,2,       25,   0.006,2,   1.8889,2,   18.15,2, -999.00,9,  -999.0,9,  -999.0,   8.078,2,   0.037,     -999.0,9, -999.00,9, -999.00,9, -999.00,9,     -999.0,9,  -999.0,1, 20130409,      658,  30.2314, 134.4732,      34.78,3,     -999.0,9,     -999.0,9,     1.9239,2,     -999.0,9,     -999.0,1,   0.0079,    0.15,   0.011
318M20130321,       P02W,      14,          4,         10,         10,2,20130409,       0600,    30.2365,   134.4832,       4557,  2271.4,   1.7959,  34.6327,2,  34.6345,2,    122.7,2,   121.8,2,  145.15,2,   37.77,2,       0,2,    2.67,2,-999.000,9,-999.000,9,-999.000,9,-999.0000,9,  2338.9,2, 2407.96,2,   7.5162,2,       25,-999.000,9,-999.0000,9, -999.00,9, -999.00,9,  -999.0,9,  -999.0,-999.000,9,-999.000,     -999.0,9, -999.00,9, -999.00,9, -999.00,9,     -999.0,9,  -999.0,1, 20130409,      652,  30.2318, 134.4749,    34.7978,2,     -999.0,9,     -999.0,9,      1.796,2,     -999.0,9,     -999.0,1,-999.0000, -999.00,-999.000
318M20130321,       P02W,      14,          4,          9,          9,2,20130409,       0600,    30.2365,   134.4832,       4557,  2480.6,   1.6956,  34.6472,2,  34.6482,2,      131,2,   130.7,2,  144.07,2,   37.35,2,       0,2,    2.64,2,   0.075,2,   0.049,2,   0.004,2,     0.06,2,  2332.8,2, 2409.66,2,   7.5324,2,       25,-999.000,9,-999.0000,9, -999.00,9, -999.00,9,  -999.0,9,  -999.0,-999.000,9,-999.000,     -999.0,9, -999.00,9, -999.00,9, -999.00,9,     -999.0,9,  -999.0,1, 20130409,      648,  30.2321, 134.4764,    34.8116,2,     -999.0,9,     -999.0,9,     1.6957,2,     -999.0,9,     -999.0,1,-999.0000, -999.00,-999.000
318M20130321,       P02W,      14,          4,          8,          8,2,20130409,       0600,    30.2365,   134.4832,       4557,  2746.2,   1.5991,  34.6613,2,  34.6651,3,    140.9,2,   139.9,2,  143.58,2,   36.66,2,       0,2,    2.58,2,-999.000,9,-999.000,9,-999.000,9,-999.0000,9,  -999.0,9, -999.00,9,-999.0000,9,  -999.00,-999.000,9,-999.0000,9, -999.00,9, -999.00,9,  -999.0,9,  -999.0,-999.000,9,-999.000,     -999.0,9, -999.00,9, -999.00,9, -999.00,9,     -999.0,9,  -999.0,1, 20130409,      642,  30.2328, 134.4783,    34.8286,3,     -999.0,9,     -999.0,9,     1.5988,2,     -999.0,9,     -999.0,1,-999.0000, -999.00,-999.000