BOTTLE,20220817CCHSIOAMB
EXPOCODE,SECT_ID,STNNBR,CASTNO,SAMPNO,BTLNBR,BTLNBR_FLAG_W,DATE,TIME,LATITUDE,LONGITUDE,DEPTH,CTDPRS,CTDTMP,CTDSAL,CTDSAL_FLAG_W,SALNTY,SALNTY_FLAG_W,CTDOXY,CTDOXY_FLAG_W,OXYGEN,OXYGEN_FLAG_W,SILCAT,SILCAT_FLAG_W,NITRAT,NITRAT_FLAG_W,NITRIT,NITRIT_FLAG_W,PHSPHT,PHSPHT_FLAG_W,CFC-11,CFC-11_FLAG_W,CFC-12,CFC-12_FLAG_W,CFC113,CFC113_FLAG_W,SF6,SF6_FLAG_W,TCARBN,TCARBN_FLAG_W,ALKALI,ALKALI_FLAG_W,PH_TOT,PH_TOT_FLAG_W,PH_TMP,TRITUM,TRITUM_FLAG_W,HELIUM,HELIUM_FLAG_W,DELHE3,DELHE3_FLAG_W,DELC13,DELC13_FLAG_W,DELC14,DELC14_FLAG_W,C14ERR,NEON,NEON_FLAG_W,NEONER,I-129,I-129_FLAG_W,SR-90,SR-90_FLAG_W,DOC,DOC_FLAG_W,TDN,TDN_FLAG_W,CALCIUM,CALCIUM_FLAG_W,D15N_NO3,D15N_NO3_FLAG_W,BTL_DATE,BTL_TIME,BTL_LAT,BTL_LON,SALTREF,SALTREF_FLAG_W,CS-137,CS-137_FLAG_W,CS-134,CS-134_FLAG_W,REFTMP,REFTMP_FLAG_W,LAB_DEN,LAB_DEN_FLAG_W,D18O_NO3,D18O_NO3_FLAG_W,HELIER,DELHER,TRITER
,,,,,,,,,,,METERS,DBAR,ITS-90,PSS-78,,PSS-78,,UMOL/KG,,UMOL/KG,,UMOL/KG,,UMOL/KG,,UMOL/KG,,UMOL/KG,,PMOL/KG,,PMOL/KG,,PMOL/KG,,FMOL/KG,,UMOL/KG,,UMOL/KG,,,,DEG C,TU,,NMOL/KG,,PERCNT,,/MILLE,,/MILLE,,/MILLE,NMOL/KG,,NMOL/KG,BQ/M^3,,DM/.1MG,,UMOL/KG,,UMOL/KG,,MMOL/KG,,/MILLE,,,,,,G/KG,,BQ/M^3,,BQ/M^3,,ITS-90,,,,/MILLE,,NMOL/KG,PERCNT,TU
318M20130321,       P02E,     129,          1,          5,         37,2,20130525,       1020,    29.9998,  -132.5963,       4528,  3857.9,   1.4784,  34.6836,2,  34.6833,2,    140.6,2,   140.5,2,  165.83,2,   36.95,2,       0,2,    2.61,2,   0.006,2,   0.008,2,-999.000,1,        0,2,  2338.7,2, 2428.56,2,   7.5606,6,       25,-999.000,9,-999.0000,9, -999.00,9, -999.00,9,  -999.0,9,  -999.0,-999.000,9,-999.000,     -999.0,9, -999.00,9,   36.27,2, -999.00,9,     -999.0,9,  -999.0,9, 20130525,     1038,       30,-132.5964,    34.8469,2,     -999.0,9,     -999.0,9,     1.4782,2,     -999.0,9,     -999.0,9,-999.0000, -999.00,-999.000
318M20130321,       P02E,     129,          1,          4,          4,2,20130525,       1020,    29.9998,  -132.5963,       4528,  4165.8,    1.499,  34.6853,2,  34.6845,2,    143.1,2,   143.8,2,  164.17,2,   36.79,2,       0,2,    2.59,2,   0.006,2,   0.008,2,-999.000,1,        0,2,  -999.0,9, -999.00,9,-999.0000,9,  -999.00,-999.000,9,-999.0000,9, -999.00,9, -999.00,9,  -999.0,9,  -999.0,-999.000,9,-999.000,     -999.0,9, -999.00,9,   35.78,2, -999.00,9,     -999.0,9,  -999.0,9, 20130525,     1031,  29.9998,-132.5965,    34.8481,2,     -999.0,9,     -999.0,9,     1.4989,2,     -999.0,9,     -999.0,9,-999.0000, -999.00,-999.000
318M20130321,       P02E,     129,          1,          3,          3,2,20130525,       1020,    29.9998,  -132.5963,       4528,  4410.5,   1.5246,  34.6856,2,  34.6851,2,    144.9,2,     145,2,     163,2,   36.74,2,       0,2,    2.59,2,   0.007,2,   0.008,2,-999.000,1,        0,2,  2337.3,2, 2427.36,6,   7.5662,2,       25,-999.000,9,-999.0000,9, -999.00,9, -999.00,9,  -999.0,9,  -999.0,-999.000,9,-999.000,     -999.0,9, -999.00,9,   35.83,2, -999.00,9,     -999.0,9,  -999.0,9, 20130525,     1026,  29.9997,-132.5964,    34.8487,2,     -999.0,9,     -999.0,9,     1.5247,2,     -999.0,9,     -999.0,9,-999.0000, -999.00,-999.000
318M20130321,       P02E,     129,          1,          2,          2,2,20130525,       1020,    29.9998,  -132.5963,       4528,  4592.9,   1.5452,  34.6855,2,  34.6851,2,    144.5,2,   144.7,2,  162.42,2,   36.78,2,       0,2,    2.59,2,   0.008,2,   0.008,2,-999.000,1,        0,2,  2336.7,6, 2426.56,2,   7.5668,2,       25,-999.000,9,-999.0000,9, -999.00,9, -999.00,9,  -999.0,9,  -999.0,-999.000,9,-999.000,     -999.0,9, -999.00,9,    36.7,2, -999.00,9,     -999.0,9,  -999.0,9, 20130525,     1021,  29.9997,-132.5963,    34.8487,2,     -999.0,9,     -999.0,9,     1.5451,2,     -999.0,9,     -999.0,9,-999.0000, -999.00,-999.000