BOTTLE,20220817CCHSIOAMB
EXPOCODE,SECT_ID,STNNBR,CASTNO,SAMPNO,BTLNBR,BTLNBR_FLAG_W,DATE,TIME,LATITUDE,LONGITUDE,DEPTH,CTDPRS,CTDTMP,CTDSAL,CTDSAL_FLAG_W,SALNTY,SALNTY_FLAG_W,CTDOXY,CTDOXY_FLAG_W,OXYGEN,OXYGEN_FLAG_W,SILCAT,SILCAT_FLAG_W,NITRAT,NITRAT_FLAG_W,NITRIT,NITRIT_FLAG_W,PHSPHT,PHSPHT_FLAG_W,CFC-11,CFC-11_FLAG_W,CFC-12,CFC-12_FLAG_W,CFC113,CFC113_FLAG_W,SF6,SF6_FLAG_W,TCARBN,TCARBN_FLAG_W,ALKALI,ALKALI_FLAG_W,PH_TOT,PH_TOT_FLAG_W,PH_TMP,TRITUM,TRITUM_FLAG_W,HELIUM,HELIUM_FLAG_W,DELHE3,DELHE3_FLAG_W,DELC13,DELC13_FLAG_W,DELC14,DELC14_FLAG_W,C14ERR,NEON,NEON_FLAG_W,NEONER,I-129,I-129_FLAG_W,SR-90,SR-90_FLAG_W,DOC,DOC_FLAG_W,TDN,TDN_FLAG_W,CALCIUM,CALCIUM_FLAG_W,D15N_NO3,D15N_NO3_FLAG_W,BTL_DATE,BTL_TIME,BTL_LAT,BTL_LON,SALTREF,SALTREF_FLAG_W,CS-137,CS-137_FLAG_W,CS-134,CS-134_FLAG_W,REFTMP,REFTMP_FLAG_W,LAB_DEN,LAB_DEN_FLAG_W,D18O_NO3,D18O_NO3_FLAG_W,HELIER,DELHER,TRITER
,,,,,,,,,,,METERS,DBAR,ITS-90,PSS-78,,PSS-78,,UMOL/KG,,UMOL/KG,,UMOL/KG,,UMOL/KG,,UMOL/KG,,UMOL/KG,,PMOL/KG,,PMOL/KG,,PMOL/KG,,FMOL/KG,,UMOL/KG,,UMOL/KG,,,,DEG C,TU,,NMOL/KG,,PERCNT,,/MILLE,,/MILLE,,/MILLE,NMOL/KG,,NMOL/KG,BQ/M^3,,DM/.1MG,,UMOL/KG,,UMOL/KG,,MMOL/KG,,/MILLE,,,,,,G/KG,,BQ/M^3,,BQ/M^3,,ITS-90,,,,/MILLE,,NMOL/KG,PERCNT,TU
318M20130321,       P02E,     153,          1,         23,         23,2,20130531,       1544,     32.309,  -119.1495,       1144,     3.9,  15.1629,  33.5656,2,  33.5667,2,    253.1,2,     254,2,     4.4,2,    1.39,2,    0.06,2,     0.4,2,   2.583,2,   1.511,2,-999.000,1,   1.5716,2,  2029.2,6, 2237.39,2,   7.8946,2,       25,   0.572,2,   1.7427,2,   -1.39,2,    1.16,2,    16.4,2,     2.7,   7.291,2,   0.034,     -999.0,9, -999.00,9,   61.41,2,    6.37,2,     -999.0,1,  -999.0,9, 20130531,     1627,  32.3096,-119.1497,     33.725,2,     -999.0,9,     -999.0,9,    15.1656,2,     -999.0,9,     -999.0,9,   0.0073,    0.15,   0.010
318M20130321,       P02E,     153,          1,         22,         22,2,20130531,       1544,     32.309,  -119.1495,       1144,    33.8,  13.8784,  33.6183,2,  33.6162,2,    237.5,2,   236.5,2,     8.4,2,    5.77,2,    0.12,2,    0.67,2,-999.000,9,-999.000,9,-999.000,9,-999.0000,9,  2058.3,2, 2237.99,2,   7.8303,2,       25,   0.551,2,   1.7597,2,   -1.17,2, -999.00,9,  -999.0,9,  -999.0,   7.364,2,   0.034,     -999.0,9, -999.00,9,   59.33,2,    9.85,2,     -999.0,9,  -999.0,9, 20130531,     1625,  32.3094,-119.1495,    33.7747,2,     -999.0,9,     -999.0,9,    13.8386,3,     -999.0,9,     -999.0,9,   0.0074,    0.15,   0.011
318M20130321,       P02E,     153,          1,         21,         21,2,20130531,       1544,     32.309,  -119.1495,       1144,    58.2,  10.4742,  33.7276,2,  33.7216,2,    158.1,2,   159.7,2,   20.02,2,   19.91,2,    0.05,2,     1.7,2,   2.610,2,   1.673,2,-999.000,1,   0.7962,2,  -999.0,9,  2238.8,2,-999.0000,9,  -999.00,-999.000,9,-999.0000,9, -999.00,9, -999.00,9,  -999.0,9,  -999.0,-999.000,9,-999.000,     -999.0,9, -999.00,9,   50.45,2,   23.82,2,     -999.0,9,  -999.0,9, 20130531,     1623,   32.309,-119.1493,    33.8806,2,     -999.0,9,     -999.0,9,    10.4928,2,     -999.0,9,     -999.0,9,-999.0000, -999.00,-999.000
318M20130321,       P02E,     153,          1,         20,         20,2,20130531,       1544,     32.309,  -119.1495,       1144,    85.9,   9.2846,  33.8462,2,  33.8439,2,    122.6,2,   123.3,2,   27.93,2,   24.99,2,    0.02,2,    1.98,2,-999.000,9,-999.000,9,-999.000,9,-999.0000,9,  2183.6,2,  2245.6,2,   7.5087,2,       25,   0.482,2,   1.8011,2,    3.60,2, -999.00,9,  -999.0,9,  -999.0,   7.666,2,   0.035,     -999.0,9, -999.00,9,   46.24,2,   30.86,3,     -999.0,9,  -999.0,9, 20130531,     1622,  32.3089,-119.1491,    34.0035,2,     -999.0,9,     -999.0,9,     9.2937,2,     -999.0,9,     -999.0,9,   0.0076,    0.15,   0.010
318M20130321,       P02E,     153,          1,         19,         19,2,20130531,       1544,     32.309,  -119.1495,       1144,     110,   8.7175,  33.9555,2,  33.9524,2,    109.4,2,   110.9,2,   32.33,2,   27.09,2,    0.03,2,    2.12,2,   2.528,2,   1.544,2,-999.000,1,    0.746,2,  2200.6,2,  2253.9,2,   7.4863,2,       25,-999.000,9,-999.0000,9, -999.00,9,   -0.30,2,     3.5,2,     2.5,-999.000,9,-999.000,     -999.0,9, -999.00,9,    45.9,2,   32.05,3,     -999.0,9,  -999.0,9, 20130531,     1620,  32.3091,-119.1491,    34.1125,2,     -999.0,9,     -999.0,9,     8.7245,2,     -999.0,9,     -999.0,9,-999.0000, -999.00,-999.000
318M20130321,       P02E,     153,          1,         18,         18,2,20130531,       1544,     32.309,  -119.1495,       1144,   135.6,   8.3899,  34.0096,2,  34.0094,2,    104.8,2,    99.2,2,   36.43,2,   28.74,2,    0.03,2,    2.21,2,-999.000,9,-999.000,9,-999.000,9,-999.0000,9,  2213.3,2,  2260.2,2,   7.4631,6,       25,   0.438,2,   1.7990,2,    6.67,2, -999.00,9,  -999.0,9,  -999.0,   7.584,2,   0.035,     -999.0,9, -999.00,9,   44.84,2,    33.1,3,     -999.0,1,  -999.0,9, 20130531,     1619,  32.3092,-119.1492,    34.1698,2,     -999.0,9,     -999.0,9,     8.3906,2,     -999.0,9,     -999.0,9,   0.0076,    0.15,   0.011
318M20130321,       P02E,     153,          1,         17,         17,2,20130531,       1544,     32.309,  -119.1495,       1144,   159.8,   8.1497,  34.0444,2,  34.0468,2,       87,2,    86.2,2,   40.33,2,   30.29,2,    0.03,2,    2.31,2,   2.174,2,   1.290,2,-999.000,1,   0.5912,2,  -999.0,9, -999.00,9,-999.0000,9,  -999.00,-999.000,9,-999.0000,9, -999.00,9,   -0.45,2,   -39.2,2,     2.5,-999.000,9,-999.000,     -999.0,9, -999.00,9,   46.19,2,   35.22,3,     -999.0,9,  -999.0,9, 20130531,     1617,  32.3093,-119.1493,    34.2074,2,     -999.0,9,     -999.0,9,     8.1452,2,     -999.0,9,     -999.0,9,-999.0000, -999.00,-999.000
318M20130321,       P02E,     153,          1,         16,         16,2,20130531,       1544,     32.309,  -119.1495,       1144,   185.8,   7.9173,  34.0724,2,  34.0795,2,     74.3,2,    74.4,2,   44.04,2,   31.64,2,    0.03,2,    2.42,2,-999.000,9,-999.000,9,-999.000,9,-999.0000,9,  -999.0,9, -999.00,9,-999.0000,9,  -999.00,   0.394,6,   1.7998,2,    9.12,2, -999.00,9,  -999.0,9,  -999.0,   7.744,2,   0.036,     -999.0,9, -999.00,9,   44.59,2,   38.01,3,     -999.0,9,  -999.0,9, 20130531,     1616,  32.3093,-119.1494,    34.2402,2,     -999.0,9,     -999.0,9,     7.9169,2,     -999.0,9,     -999.0,9,   0.0076,    0.15,   0.008
318M20130321,       P02E,     153,          1,         15,         15,2,20130531,       1544,     32.309,  -119.1495,       1144,   211.2,   7.7485,  34.1042,2,  34.1089,2,     62.3,2,    64.3,2,   47.16,2,   32.67,2,    0.02,2,    2.52,2,   1.778,2,   1.038,2,-999.000,1,   0.4867,2,  2248.4,2, 2274.61,2,   7.3917,6,       25,-999.000,9,-999.0000,9, -999.00,9, -999.00,9,  -999.0,9,  -999.0,-999.000,9,-999.000,     -999.0,9, -999.00,9,    43.3,2,   37.64,3,     -999.0,1,  -999.0,9, 20130531,     1615,  32.3092,-119.1493,    34.2698,2,     -999.0,9,     -999.0,9,     7.7467,2,     -999.0,9,     -999.0,9,-999.0000, -999.00,-999.000
318M20130321,       P02E,     153,          1,         14,         14,2,20130531,       1544,     32.309,  -119.1495,       1144,   236.4,   7.7178,  34.1736,2,  34.1748,2,     44.3,2,    46.9,2,   50.68,2,   33.52,2,    0.02,2,    2.67,2,-999.000,9,-999.000,9,-999.000,9,-999.0000,9,  -999.0,9, -999.00,9,-999.0000,9,  -999.00,   0.339,2,   1.8346,2,   11.27,2,   -0.46,2,   -47.8,2,     3.0,   7.807,2,   0.036,     -999.0,9, -999.00,9,   43.72,2,   39.15,3,     -999.0,9,  -999.0,9, 20130531,     1613,  32.3092,-119.1494,    34.3359,2,     -999.0,9,     -999.0,9,     7.7176,2,     -999.0,9,     -999.0,9,   0.0077,    0.15,   0.010
318M20130321,       P02E,     153,          1,         13,         13,2,20130531,       1544,     32.309,  -119.1495,       1144,   266.6,    7.575,  34.2254,2,  34.2268,2,     34.5,2,      35,2,   54.48,2,   34.38,2,    0.02,2,    2.77,2,   1.092,2,   0.612,2,-999.000,1,   0.3816,2,  -999.0,9, -999.00,9,-999.0000,9,  -999.00,-999.000,9,-999.0000,9, -999.00,9,   -0.45,2,   -58.3,2,     2.4,-999.000,9,-999.000,     -999.0,9, -999.00,9,   42.56,2,   39.03,3,     -999.0,9,  -999.0,9, 20130531,     1612,   32.309,-119.1494,    34.3882,2,     -999.0,9,     -999.0,9,     7.5755,2,     -999.0,9,     -999.0,9,-999.0000, -999.00,-999.000
318M20130321,       P02E,     153,          1,         12,         12,2,20130531,       1544,     32.309,  -119.1495,       1144,   317.5,   7.1067,  34.2604,2,  34.2597,2,     23.4,2,    24.9,2,    61.9,2,   36.05,2,       0,2,    2.92,2,-999.000,9,-999.000,9,-999.000,9,-999.0000,9,  2293.3,2, 2298.82,6,   7.3366,2,       25,   0.219,2,   1.8254,2,   13.24,2,   -0.41,2,   -86.1,2,     2.2,   7.769,2,   0.036,     -999.0,9, -999.00,9,   40.65,2,    41.9,3,     -999.0,1,  -999.0,9, 20130531,     1610,   32.309,-119.1495,    34.4213,2,     -999.0,9,     -999.0,9,     7.1074,2,     -999.0,9,     -999.0,9,   0.0077,    0.15,   0.010
318M20130321,       P02E,     153,          1,         11,         11,2,20130531,       1544,     32.309,  -119.1495,       1144,   367.7,   6.7027,  34.2952,2,  34.2938,2,     15.9,2,      17,2,   68.83,2,    37.2,2,       0,2,    3.01,2,-999.000,9,-999.000,9,-999.000,9,-999.0000,9,  -999.0,9, -999.00,9,-999.0000,9,  -999.00,-999.000,9,-999.0000,9, -999.00,9,   -0.43,2,  -112.7,2,     2.6,-999.000,9,-999.000,     -999.0,9, -999.00,9,   41.08,2, -999.00,9,     -999.0,9,  -999.0,9, 20130531,     1608,   32.309,-119.1495,    34.4556,2,     -999.0,9,     -999.0,9,     6.7027,2,     -999.0,9,     -999.0,9,-999.0000, -999.00,-999.000
318M20130321,       P02E,     153,          1,         10,         10,2,20130531,       1544,     32.309,  -119.1495,       1144,   418.5,   6.5604,  34.3045,2,  34.3038,2,       15,2,    15.3,2,   71.27,2,   37.69,2,       0,2,    3.03,2,   0.434,2,   0.244,2,-999.000,1,   0.1608,2,  2308.2,2, 2311.22,2,   7.3172,2,       25,   0.166,2,   1.8215,2,   13.38,2,   -0.50,2,  -115.9,2,     2.3,   7.810,2,   0.036,     -999.0,9, -999.00,9,   40.33,2, -999.00,9,     -999.0,1,  -999.0,9, 20130531,     1605,   32.309,-119.1495,    34.4656,2,     -999.0,9,     -999.0,9,     6.5607,2,     -999.0,9,     -999.0,9,   0.0077,    0.15,   0.009
318M20130321,       P02E,     153,          1,          9,          9,2,20130531,       1544,     32.309,  -119.1495,       1144,   468.5,   6.4441,   34.313,2,  34.3123,2,     13.6,2,    13.8,2,   73.52,2,   38.01,2,       0,2,    3.03,2,-999.000,9,-999.000,9,-999.000,9,-999.0000,9,  -999.0,9, -999.00,9,-999.0000,9,  -999.00,-999.000,9,-999.0000,9, -999.00,9,   -0.48,2,  -138.9,2,     2.5,-999.000,9,-999.000,     -999.0,9, -999.00,9,    42.3,2, -999.00,9,     -999.0,9,  -999.0,9, 20130531,     1603,   32.309,-119.1495,    34.4741,2,     -999.0,9,     -999.0,9,     6.4446,2,     -999.0,9,     -999.0,9,-999.0000, -999.00,-999.000
318M20130321,       P02E,     153,          1,          8,          8,2,20130531,       1544,     32.309,  -119.1495,       1144,   538.4,   5.9564,  34.3412,2,  34.3401,2,     11.9,2,    11.4,2,   81.52,2,   39.35,2,       0,2,    3.11,2,-999.000,9,-999.000,9,-999.000,9,-999.0000,9,  -999.0,9, -999.00,9,   7.3115,2,       25,   0.096,2,   1.8458,2,   14.24,2,   -0.49,2,  -141.7,2,     2.4,   7.751,2,   0.036,     -999.0,9, -999.00,9,   39.29,2, -999.00,9,     -999.0,9,  -999.0,9, 20130531,     1601,   32.309,-119.1495,    34.5021,2,     -999.0,9,     -999.0,9,     5.9556,2,     -999.0,9,     -999.0,9,   0.0078,    0.15,   0.009
318M20130321,       P02E,     153,          1,          7,          7,2,20130531,       1544,     32.309,  -119.1495,       1144,   640.2,   5.4386,  34.3765,2,   34.376,2,     11.6,2,    10.1,2,   89.14,2,   41.07,2,       0,2,    3.17,2,   0.091,2,   0.052,2,-999.000,1,   0.0141,2,  2333.3,2, 2333.83,2,   7.3113,2,       25,   0.042,2,   1.8512,2,   14.32,2,   -0.45,2,  -152.9,2,     2.1,   7.992,2,   0.037,     -999.0,9, -999.00,9,   40.09,2, -999.00,9,     -999.0,1,  -999.0,9, 20130531,     1558,   32.309,-119.1495,    34.5381,2,     -999.0,9,     -999.0,9,     5.4382,2,     -999.0,9,     -999.0,9,   0.0078,    0.15,   0.009
318M20130321,       P02E,     153,          1,          6,          6,2,20130531,       1544,     32.309,  -119.1495,       1144,   739.9,   5.0956,  34.4017,2,  34.4012,2,     12.1,2,    11.1,2,   95.87,2,    41.8,2,       0,2,     3.2,2,-999.000,9,-999.000,9,-999.000,9,-999.0000,9,  -999.0,9, -999.00,9,-999.0000,9,  -999.00,   0.017,2,   1.8460,2,   15.41,2,   -0.43,2,  -173.6,2,     2.9,   7.855,2,   0.036,     -999.0,9, -999.00,9,   37.69,2, -999.00,9,     -999.0,9,  -999.0,9, 20130531,     1555,   32.309,-119.1495,    34.5634,2,     -999.0,9,     -999.0,9,     5.1012,2,     -999.0,9,     -999.0,9,   0.0078,    0.15,   0.009
318M20130321,       P02E,     153,          1,          5,         37,2,20130531,       1544,     32.309,  -119.1495,       1144,   842.1,   4.6987,  34.4321,2,   34.431,2,     14.5,2,    15.3,2,  104.26,2,   42.35,2,       0,2,    3.22,2,-999.000,9,-999.000,9,-999.000,9,-999.0000,9,  -999.0,9, -999.00,9,-999.0000,9,  -999.00,   0.026,2,   1.8648,2,   16.53,2,   -0.41,2,  -193.0,2,     3.1,   7.948,2,   0.037,     -999.0,9, -999.00,9,   37.09,2, -999.00,9,     -999.0,9,  -999.0,9, 20130531,     1552,   32.309,-119.1495,    34.5934,2,     -999.0,9,     -999.0,9,     4.7004,2,     -999.0,9,     -999.0,9,   0.0078,    0.15,   0.009
318M20130321,       P02E,     153,          1,          4,          4,2,20130531,       1544,     32.309,  -119.1495,       1144,   943.5,   4.3745,  34.4578,2,  34.4581,2,     17.6,2,    17.3,2,  112.75,2,    42.5,2,       0,2,    3.22,2,   0.065,2,   0.063,2,-999.000,1,   0.1356,2,  2358.2,2, 2362.44,2,   7.3256,6,       25,   0.016,2,   1.8773,2,   18.26,2,   -0.41,2,  -201.6,2,     2.3,   7.973,2,   0.037,     -999.0,9, -999.00,9,   36.82,2, -999.00,9,     -999.0,1,  -999.0,9, 20130531,     1550,   32.309,-119.1495,    34.6206,2,     -999.0,9,     -999.0,9,       4.37,2,     -999.0,9,     -999.0,9,   0.0079,    0.15,   0.009
318M20130321,       P02E,     153,          1,          3,          3,2,20130531,       1544,     32.309,  -119.1495,       1144,  1043.8,   3.9544,  34.4886,2,  34.4887,2,     22.9,2,    24.3,2,  121.15,2,   42.83,2,       0,2,    3.21,2,-999.000,9,-999.000,9,-999.000,9,-999.0000,9,  -999.0,9, -999.00,9,-999.0000,9,  -999.00,  -0.003,2,   1.9110,2,   20.13,2,   -0.38,2,  -212.0,2,     2.3,   7.973,2,   0.037,     -999.0,9, -999.00,9,   36.23,2, -999.00,9,     -999.0,9,  -999.0,9, 20130531,     1547,   32.309,-119.1495,    34.6513,2,     -999.0,9,     -999.0,9,     3.9541,2,     -999.0,9,     -999.0,9,   0.0080,    0.15,   0.009
318M20130321,       P02E,     153,          1,          2,          2,2,20130531,       1544,     32.309,  -119.1495,       1144,  1133.4,   3.6049,  34.5142,2,  34.5146,2,     28.8,2,    30.4,2,  128.66,2,   42.91,2,       0,2,    3.19,2,   0.051,2,   0.066,2,-999.000,1,   0.0132,2,  2367.7,2, 2382.75,2,   7.3511,2,       25,   0.008,2,   1.9218,2,   21.35,2,   -0.34,2,  -215.8,2,     1.9,   8.070,2,   0.037,     -999.0,9, -999.00,9,   37.21,2, -999.00,9,     -999.0,1,  -999.0,9, 20130531,     1544,   32.309,-119.1495,    34.6774,2,     -999.0,9,     -999.0,9,     3.6047,2,     -999.0,9,     -999.0,9,   0.0081,    0.15,   0.009