BOTTLE,20220817CCHSIOAMB
EXPOCODE,SECT_ID,STNNBR,CASTNO,SAMPNO,BTLNBR,BTLNBR_FLAG_W,DATE,TIME,LATITUDE,LONGITUDE,DEPTH,CTDPRS,CTDTMP,CTDSAL,CTDSAL_FLAG_W,SALNTY,SALNTY_FLAG_W,CTDOXY,CTDOXY_FLAG_W,OXYGEN,OXYGEN_FLAG_W,SILCAT,SILCAT_FLAG_W,NITRAT,NITRAT_FLAG_W,NITRIT,NITRIT_FLAG_W,PHSPHT,PHSPHT_FLAG_W,CFC-11,CFC-11_FLAG_W,CFC-12,CFC-12_FLAG_W,CFC113,CFC113_FLAG_W,SF6,SF6_FLAG_W,TCARBN,TCARBN_FLAG_W,ALKALI,ALKALI_FLAG_W,PH_TOT,PH_TOT_FLAG_W,PH_TMP,TRITUM,TRITUM_FLAG_W,HELIUM,HELIUM_FLAG_W,DELHE3,DELHE3_FLAG_W,DELC13,DELC13_FLAG_W,DELC14,DELC14_FLAG_W,C14ERR,NEON,NEON_FLAG_W,NEONER,I-129,I-129_FLAG_W,SR-90,SR-90_FLAG_W,DOC,DOC_FLAG_W,TDN,TDN_FLAG_W,CALCIUM,CALCIUM_FLAG_W,D15N_NO3,D15N_NO3_FLAG_W,BTL_DATE,BTL_TIME,BTL_LAT,BTL_LON,SALTREF,SALTREF_FLAG_W,CS-137,CS-137_FLAG_W,CS-134,CS-134_FLAG_W,REFTMP,REFTMP_FLAG_W,LAB_DEN,LAB_DEN_FLAG_W,D18O_NO3,D18O_NO3_FLAG_W,HELIER,DELHER,TRITER
,,,,,,,,,,,METERS,DBAR,ITS-90,PSS-78,,PSS-78,,UMOL/KG,,UMOL/KG,,UMOL/KG,,UMOL/KG,,UMOL/KG,,UMOL/KG,,PMOL/KG,,PMOL/KG,,PMOL/KG,,FMOL/KG,,UMOL/KG,,UMOL/KG,,,,DEG C,TU,,NMOL/KG,,PERCNT,,/MILLE,,/MILLE,,/MILLE,NMOL/KG,,NMOL/KG,BQ/M^3,,DM/.1MG,,UMOL/KG,,UMOL/KG,,MMOL/KG,,/MILLE,,,,,,G/KG,,BQ/M^3,,BQ/M^3,,ITS-90,,,,/MILLE,,NMOL/KG,PERCNT,TU
318M20130321,       P02W,      67,          1,          7,          7,2,20130426,       1253,    30.0004,   175.2552,       5184,    3142,   1.5095,  34.6682,2,  34.6676,2,    130.3,2,   130.8,2,  158.03,2,   37.42,2,       0,2,    2.63,2,   0.006,2,   0.011,2,   0.001,2,        0,2,  2341.1,2, 2418.46,6,   7.5332,2,       25,-999.000,9,-999.0000,9, -999.00,9, -999.00,9,  -999.0,9,  -999.0,-999.000,9,-999.000,     -999.0,9, -999.00,9,   36.79,2, -999.00,9,     -999.0,9,  -999.0,1, 20130426,     1338,  30.0004, 175.2555,    34.8311,2,     -999.0,9,     -999.0,9,     1.5098,2,     -999.0,9,     -999.0,1,-999.0000, -999.00,-999.000
318M20130321,       P02W,      67,          1,          6,          6,2,20130426,       1253,    30.0004,   175.2552,       5184,  3550.1,   1.4675,  34.6775,2,  34.6773,2,    142.3,2,   141.7,2,   155.1,2,   36.71,2,       0,2,    2.61,2,-999.000,9,-999.000,9,-999.000,9,-999.0000,9,  -999.0,9, -999.00,9,-999.0000,9,  -999.00,-999.000,9,-999.0000,9, -999.00,9, -999.00,9,  -999.0,9,  -999.0,-999.000,9,-999.000,     -999.0,9, -999.00,9, -999.00,9, -999.00,9,     -999.0,9,  -999.0,1, 20130426,     1330,  30.0003, 175.2555,    34.8408,2,     -999.0,9,     -999.0,9,     1.4676,2,     -999.0,9,     -999.0,1,-999.0000, -999.00,-999.000
318M20130321,       P02W,      67,          1,          5,         37,2,20130426,       1253,    30.0004,   175.2552,       5184,  3959.6,    1.453,  34.6839,2,  34.6833,2,    149.7,2,   149.2,2,  152.66,2,   36.18,2,       0,2,    2.55,2,   0.003,2,   0.015,2,   0.001,2,        0,2,    2328,6, 2416.16,2,   7.5663,2,       25,-999.000,9,-999.0000,9, -999.00,9, -999.00,9,  -999.0,9,  -999.0,-999.000,9,-999.000,     -999.0,9, -999.00,9,   38.92,2, -999.00,9,     -999.0,9,  -999.0,1, 20130426,     1322,  30.0003, 175.2554,    34.8469,2,     -999.0,9,     -999.0,9,     1.4533,2,     -999.0,9,     -999.0,1,-999.0000, -999.00,-999.000
318M20130321,       P02W,      67,          1,          4,          4,2,20130426,       1253,    30.0004,   175.2552,       5184,    4369,     1.45,  34.6885,2,  34.6883,2,    156.2,2,   156.9,2,  148.56,2,   35.66,2,       0,2,     2.5,2,-999.000,9,-999.000,9,-999.000,9,-999.0000,9,  -999.0,9, -999.00,9,-999.0000,9,  -999.00,-999.000,9,-999.0000,9, -999.00,9, -999.00,9,  -999.0,9,  -999.0,-999.000,9,-999.000,     -999.0,9, -999.00,9, -999.00,9, -999.00,9,     -999.0,9,  -999.0,1, 20130426,     1313,  30.0003, 175.2554,    34.8518,2,     -999.0,9,     -999.0,9,     1.4497,2,     -999.0,9,     -999.0,1,-999.0000, -999.00,-999.000
318M20130321,       P02W,      67,          1,          3,          3,2,20130426,       1253,    30.0004,   175.2552,       5184,    4780,   1.4557,  34.6927,2,   34.692,2,    164.1,2,     164,2,  143.97,2,   35.18,2,       0,2,    2.46,2,   0.008,2,   0.014,2,   0.000,2,        0,2,  -999.0,9, -999.00,9,-999.0000,9,  -999.00,-999.000,9,-999.0000,9, -999.00,9, -999.00,9,  -999.0,9,  -999.0,-999.000,9,-999.000,     -999.0,9, -999.00,9,   36.83,2, -999.00,9,     -999.0,9,  -999.0,1, 20130426,     1305,  30.0002, 175.2555,    34.8556,2,     -999.0,9,     -999.0,9,     1.4558,2,     -999.0,9,     -999.0,1,-999.0000, -999.00,-999.000
318M20130321,       P02W,      67,          1,          2,          2,2,20130426,       1253,    30.0004,   175.2552,       5184,  5089.6,   1.4723,  34.6943,2,  34.6938,2,    168.3,2,   168.5,2,  140.65,2,   34.84,2,       0,2,    2.46,2,-999.000,9,-999.000,9,-999.000,9,-999.0000,9,  2309.2,2, 2406.45,2,   7.5891,6,       25,-999.000,9,-999.0000,9, -999.00,9, -999.00,9,  -999.0,9,  -999.0,-999.000,9,-999.000,     -999.0,9, -999.00,9,   36.28,2, -999.00,9,     -999.0,9,  -999.0,1, 20130426,     1258,       30, 175.2555,    34.8574,2,     -999.0,9,     -999.0,9,     1.4726,2,     -999.0,9,     -999.0,1,-999.0000, -999.00,-999.000
318M20130321,       P02W,      67,          1,          1,          1,2,20130426,       1253,    30.0004,   175.2552,       5184,    5279,   1.4717,  34.6962,2,  34.6962,2,    172.4,2,   172.1,2,  137.62,2,   34.66,2,       0,2,    2.44,2,   0.007,2,   0.014,2,   0.000,2,        0,2,  2303.5,2, 2403.55,2,   7.5902,2,       25,-999.000,9,-999.0000,9, -999.00,9, -999.00,9,  -999.0,9,  -999.0,-999.000,9,-999.000,     -999.0,9, -999.00,9,    37.5,2, -999.00,9,     -999.0,9,  -999.0,1, 20130426,     1253,  30.0004, 175.2552,    34.8598,2,     -999.0,9,     -999.0,9,     1.4723,2,     -999.0,9,     -999.0,1,-999.0000, -999.00,-999.000