BOTTLE,20220817CCHSIOAMB
EXPOCODE,SECT_ID,STNNBR,CASTNO,SAMPNO,BTLNBR,BTLNBR_FLAG_W,DATE,TIME,LATITUDE,LONGITUDE,DEPTH,CTDPRS,CTDTMP,CTDSAL,CTDSAL_FLAG_W,SALNTY,SALNTY_FLAG_W,CTDOXY,CTDOXY_FLAG_W,OXYGEN,OXYGEN_FLAG_W,SILCAT,SILCAT_FLAG_W,NITRAT,NITRAT_FLAG_W,NITRIT,NITRIT_FLAG_W,PHSPHT,PHSPHT_FLAG_W,CFC-11,CFC-11_FLAG_W,CFC-12,CFC-12_FLAG_W,CFC113,CFC113_FLAG_W,SF6,SF6_FLAG_W,TCARBN,TCARBN_FLAG_W,ALKALI,ALKALI_FLAG_W,PH_TOT,PH_TOT_FLAG_W,PH_TMP,TRITUM,TRITUM_FLAG_W,HELIUM,HELIUM_FLAG_W,DELHE3,DELHE3_FLAG_W,DELC13,DELC13_FLAG_W,DELC14,DELC14_FLAG_W,C14ERR,NEON,NEON_FLAG_W,NEONER,I-129,I-129_FLAG_W,SR-90,SR-90_FLAG_W,DOC,DOC_FLAG_W,TDN,TDN_FLAG_W,CALCIUM,CALCIUM_FLAG_W,D15N_NO3,D15N_NO3_FLAG_W,BTL_DATE,BTL_TIME,BTL_LAT,BTL_LON,SALTREF,SALTREF_FLAG_W,CS-137,CS-137_FLAG_W,CS-134,CS-134_FLAG_W,REFTMP,REFTMP_FLAG_W,LAB_DEN,LAB_DEN_FLAG_W,D18O_NO3,D18O_NO3_FLAG_W,HELIER,DELHER,TRITER
,,,,,,,,,,,METERS,DBAR,ITS-90,PSS-78,,PSS-78,,UMOL/KG,,UMOL/KG,,UMOL/KG,,UMOL/KG,,UMOL/KG,,UMOL/KG,,PMOL/KG,,PMOL/KG,,PMOL/KG,,FMOL/KG,,UMOL/KG,,UMOL/KG,,,,DEG C,TU,,NMOL/KG,,PERCNT,,/MILLE,,/MILLE,,/MILLE,NMOL/KG,,NMOL/KG,BQ/M^3,,DM/.1MG,,UMOL/KG,,UMOL/KG,,MMOL/KG,,/MILLE,,,,,,G/KG,,BQ/M^3,,BQ/M^3,,ITS-90,,,,/MILLE,,NMOL/KG,PERCNT,TU
318M20130321,       P02E,     118,          1,          5,         37,2,20130522,       0019,    30.0003,  -141.0452,       4966,  4065.7,   1.4734,  34.6851,2,  34.6855,2,    146.9,2,   146.4,2,  158.81,2,   36.52,2,       0,2,    2.53,2,   0.006,2,   0.005,2,-999.000,1,        0,2,  2335.6,2, 2423.06,6,   7.5663,2,       25,-999.000,9,-999.0000,9, -999.00,9, -999.00,9,  -999.0,9,  -999.0,-999.000,9,-999.000,     -999.0,9, -999.00,9, -999.00,9, -999.00,9,     -999.0,9,  -999.0,9, 20130522,       38,  30.0003,-141.0452,    34.8491,2,     -999.0,9,     -999.0,9,     1.4735,2,     -999.0,9,     -999.0,9,-999.0000, -999.00,-999.000
318M20130321,       P02E,     118,          1,          4,          4,2,20130522,       0019,    30.0003,  -141.0452,       4966,  4372.5,   1.4893,   34.687,2,  34.6875,2,    150.3,2,   149.9,2,  155.78,2,   36.25,2,       0,2,    2.52,2,   0.005,2,   0.004,2,-999.000,1,        0,2,  -999.0,9, -999.00,9,-999.0000,9,  -999.00,-999.000,9,-999.0000,9, -999.00,9, -999.00,9,  -999.0,9,  -999.0,-999.000,9,-999.000,     -999.0,9, -999.00,9, -999.00,9, -999.00,9,     -999.0,9,  -999.0,9, 20130522,       32,  30.0005,-141.0456,    34.8511,2,     -999.0,9,     -999.0,9,     1.4892,2,     -999.0,9,     -999.0,9,-999.0000, -999.00,-999.000
318M20130321,       P02E,     118,          1,          3,          3,2,20130522,       0019,    30.0003,  -141.0452,       4966,  4715.3,   1.5169,  34.6883,2,  34.6889,2,    153.2,2,   153.9,2,  153.73,2,   36.06,2,       0,2,    2.49,2,   0.006,2,   0.008,2,-999.000,1,        0,2,  2329.9,2, 2420.86,2,   7.5757,6,       25,-999.000,9,-999.0000,9, -999.00,9, -999.00,9,  -999.0,9,  -999.0,-999.000,9,-999.000,     -999.0,9, -999.00,9, -999.00,9, -999.00,9,     -999.0,9,  -999.0,9, 20130522,       25,  30.0004,-141.0452,    34.8525,2,     -999.0,9,     -999.0,9,     1.5164,2,     -999.0,9,     -999.0,9,-999.0000, -999.00,-999.000
318M20130321,       P02E,     118,          1,          2,          2,2,20130522,       0019,    30.0003,  -141.0452,       4966,  5034.3,   1.5552,  34.6884,2,  34.6893,2,      155,2,   154.3,2,  153.53,2,   36.06,2,       0,2,    2.51,2,   0.008,2,   0.008,2,-999.000,1,        0,2,  2329.2,6, 2421.16,2,   7.5766,2,       25,-999.000,9,-999.0000,9, -999.00,9, -999.00,9,  -999.0,9,  -999.0,-999.000,9,-999.000,     -999.0,9, -999.00,9, -999.00,9, -999.00,9,     -999.0,9,  -999.0,9, 20130522,       19,  30.0002,-141.0452,    34.8528,2,     -999.0,9,     -999.0,9,     1.5548,2,     -999.0,9,     -999.0,9,-999.0000, -999.00,-999.000