BOTTLE,20220817CCHSIOAMB
EXPOCODE,SECT_ID,STNNBR,CASTNO,SAMPNO,BTLNBR,BTLNBR_FLAG_W,DATE,TIME,LATITUDE,LONGITUDE,DEPTH,CTDPRS,CTDTMP,CTDSAL,CTDSAL_FLAG_W,SALNTY,SALNTY_FLAG_W,CTDOXY,CTDOXY_FLAG_W,OXYGEN,OXYGEN_FLAG_W,SILCAT,SILCAT_FLAG_W,NITRAT,NITRAT_FLAG_W,NITRIT,NITRIT_FLAG_W,PHSPHT,PHSPHT_FLAG_W,CFC-11,CFC-11_FLAG_W,CFC-12,CFC-12_FLAG_W,CFC113,CFC113_FLAG_W,SF6,SF6_FLAG_W,TCARBN,TCARBN_FLAG_W,ALKALI,ALKALI_FLAG_W,PH_TOT,PH_TOT_FLAG_W,PH_TMP,TRITUM,TRITUM_FLAG_W,HELIUM,HELIUM_FLAG_W,DELHE3,DELHE3_FLAG_W,DELC13,DELC13_FLAG_W,DELC14,DELC14_FLAG_W,C14ERR,NEON,NEON_FLAG_W,NEONER,I-129,I-129_FLAG_W,SR-90,SR-90_FLAG_W,DOC,DOC_FLAG_W,TDN,TDN_FLAG_W,CALCIUM,CALCIUM_FLAG_W,D15N_NO3,D15N_NO3_FLAG_W,BTL_DATE,BTL_TIME,BTL_LAT,BTL_LON,SALTREF,SALTREF_FLAG_W,CS-137,CS-137_FLAG_W,CS-134,CS-134_FLAG_W,REFTMP,REFTMP_FLAG_W,LAB_DEN,LAB_DEN_FLAG_W,D18O_NO3,D18O_NO3_FLAG_W,HELIER,DELHER,TRITER
,,,,,,,,,,,METERS,DBAR,ITS-90,PSS-78,,PSS-78,,UMOL/KG,,UMOL/KG,,UMOL/KG,,UMOL/KG,,UMOL/KG,,UMOL/KG,,PMOL/KG,,PMOL/KG,,PMOL/KG,,FMOL/KG,,UMOL/KG,,UMOL/KG,,,,DEG C,TU,,NMOL/KG,,PERCNT,,/MILLE,,/MILLE,,/MILLE,NMOL/KG,,NMOL/KG,BQ/M^3,,DM/.1MG,,UMOL/KG,,UMOL/KG,,MMOL/KG,,/MILLE,,,,,,G/KG,,BQ/M^3,,BQ/M^3,,ITS-90,,,,/MILLE,,NMOL/KG,PERCNT,TU
318M20130321,       P02E,     131,          1,         36,         36,2,20130526,       0105,    30.0003,    -131.06,       4913,     2.3,   18.081,  34.0973,2,   34.098,2,    240.7,2,   240.8,2,    2.05,2,       0,2,       0,2,    0.14,2,   2.256,2,   1.352,2,-999.000,1,   1.5991,2,  2027.7,2,    2263,2,   7.9404,2,       25,   0.632,2,   1.7510,2,   -1.02,2,    1.02,2,    28.1,2,     3.9,   7.067,2,   0.033,     -999.0,9, -999.00,9,   66.15,2,    3.93,2,     -999.0,9,  -999.0,1, 20130526,      309,  29.9997,-131.0605,    34.2588,2,     -999.0,9,     -999.0,9,    18.0805,2,     -999.0,9,     -999.0,1,   0.0074,    0.15,   0.010
318M20130321,       P02E,     131,          1,         34,         34,2,20130526,       0105,    30.0003,    -131.06,       4913,    40.2,  17.9201,  34.1293,2,  34.1283,2,    241.7,2,   241.2,2,    1.95,2,       0,2,       0,2,    0.13,2,   2.266,2,   1.354,2,-999.000,1,   1.5595,2,  2028.4,2,  2263.8,2,   7.9415,6,       25,   0.643,2,   1.7599,2,   -0.86,2, -999.00,9,  -999.0,9,  -999.0,   7.183,2,   0.033,     -999.0,9, -999.00,9,   65.59,2,    4.31,2,     -999.0,9,  -999.0,1, 20130526,      306,  29.9996,-131.0603,    34.2893,2,     -999.0,9,     -999.0,9,    17.9221,2,     -999.0,9,     -999.0,1,   0.0074,    0.15,   0.009
318M20130321,       P02E,     131,          1,         33,         33,2,20130526,       0105,    30.0003,    -131.06,       4913,    65.8,  17.4448,   34.314,2,  34.3131,2,    243.6,2,   242.1,2,    1.95,2,       0,2,       0,2,    0.11,2,   2.301,2,   1.382,2,-999.000,1,   1.6081,2,  2030.3,2, 2272.41,6,   7.9487,2,       25,-999.000,9,-999.0000,9, -999.00,9,    0.96,2,    33.3,2,     2.4,-999.000,9,-999.000,     -999.0,9, -999.00,9,   67.38,2,    4.68,2,     -999.0,9,  -999.0,1, 20130526,      304,  29.9998,-131.0601,    34.4749,2,     -999.0,9,     -999.0,9,    17.4442,2,     -999.0,9,     -999.0,1,-999.0000, -999.00,-999.000
318M20130321,       P02E,     131,          1,         32,         32,2,20130526,       0105,    30.0003,    -131.06,       4913,    90.4,  16.7519,  34.2149,2,  34.2129,2,    241.3,2,   240.7,2,    2.15,2,       0,2,       0,2,    0.13,2,   2.373,2,   1.416,2,-999.000,1,   1.7022,2,  2030.8,2,    2265,2,   7.9351,2,       25,   0.619,2,   1.7688,2,   -0.84,2,    0.90,2,    38.2,2,     2.5,   7.279,2,   0.033,     -999.0,9, -999.00,9,   61.41,2,    5.01,2,     -999.0,9,  -999.0,1, 20130526,      302,       30,-131.0599,    34.3742,2,     -999.0,9,     -999.0,9,    16.7633,2,     -999.0,9,     -999.0,1,   0.0074,    0.15,   0.010
318M20130321,       P02E,     131,          1,         31,         31,2,20130526,       0105,    30.0003,    -131.06,       4913,   134.7,  14.7358,  33.9837,2,  33.9591,3,    233.9,2,   233.8,2,    3.22,2,    1.55,2,     0.1,2,    0.29,2,   2.629,2,   1.551,2,-999.000,1,   1.7433,2,  2039.9,2,  2246.2,2,   7.8854,2,       25,-999.000,9,-999.0000,9, -999.00,9,    0.68,2,    34.9,2,     2.9,-999.000,9,-999.000,     -999.0,9, -999.00,9,   53.82,2,     5.4,2,     -999.0,9,  -999.0,1, 20130526,      300,       30,  -131.06,    34.1192,3,     -999.0,9,     -999.0,9,    14.7239,2,     -999.0,9,     -999.0,1,-999.0000, -999.00,-999.000
318M20130321,       P02E,     131,          1,         30,         30,2,20130526,       0105,    30.0003,    -131.06,       4913,     186,  11.5813,  33.7612,2,  33.7627,2,    220.6,2,   220.5,2,    7.52,2,     7.8,2,    0.01,2,    0.67,2,   3.062,2,   1.757,2,-999.000,1,   1.6634,2,    2067,2, 2232.49,2,   7.7942,2,       25,   0.536,2,   1.7825,2,   -0.46,2,    0.36,2,    31.0,2,     3.3,   7.519,2,   0.035,     -999.0,9, -999.00,9,   52.57,2,   11.05,2,     -999.0,9,  -999.0,1, 20130526,      258,  30.0001,-131.0601,    33.9219,2,     -999.0,9,     -999.0,9,    11.5851,2,     -999.0,9,     -999.0,1,   0.0075,    0.15,   0.011
318M20130321,       P02E,     131,          1,         29,         29,2,20130526,       0105,    30.0003,    -131.06,       4913,   236.6,   9.6726,  33.8429,2,  33.8447,2,    201.9,2,   204.8,2,   16.41,2,   15.81,2,    0.01,2,    1.18,2,   3.322,2,   1.862,2,-999.000,1,   1.5357,2,  2112.8,2,  2240.4,2,    7.701,2,       25,-999.000,9,-999.0000,9, -999.00,9,   -0.09,2,    23.2,2,     3.2,-999.000,9,-999.000,     -999.0,9, -999.00,9, -999.00,5,   20.63,2,     -999.0,9,  -999.0,1, 20130526,      256,  30.0001,-131.0602,    34.0043,2,     -999.0,9,     -999.0,9,     9.6693,2,     -999.0,9,     -999.0,1,-999.0000, -999.00,-999.000
318M20130321,       P02E,     131,          1,         27,         27,2,20130526,       0105,    30.0003,    -131.06,       4913,   286.1,   8.7197,  33.9727,2,  33.9728,2,    174.6,2,   179.6,2,   25.49,2,      21,2,       0,2,    1.51,2,   3.248,2,   1.781,2,-999.000,1,   1.2935,2,  2147.3,2,  2254.2,2,   7.6397,2,       25,-999.000,9,-999.0000,9, -999.00,9,   -0.11,2,    19.2,2,     2.4,-999.000,9,-999.000,     -999.0,9, -999.00,9,   43.69,2,    27.5,3,     -999.0,9,  -999.0,1, 20130526,      254,       30,-131.0603,     34.133,2,     -999.0,9,     -999.0,9,     8.7157,2,     -999.0,9,     -999.0,1,-999.0000, -999.00,-999.000
318M20130321,       P02E,     131,          1,         26,         26,2,20130526,       0105,    30.0003,    -131.06,       4913,   335.6,   7.7345,  33.9836,2,   33.984,2,    122.7,2,     123,2,   38.57,2,   28.44,2,       0,2,    2.08,2,   2.863,2,   1.514,2,-999.000,1,   0.8701,2,  -999.0,9, -999.00,9,-999.0000,9,  -999.00,   0.448,2,   1.8183,2,    6.94,2,   -0.29,2,    -8.3,2,     2.8,   7.764,2,   0.036,     -999.0,9, -999.00,9,   46.04,2,   35.01,3,     -999.0,9,  -999.0,1, 20130526,      252,       30,  -131.06,    34.1442,2,     -999.0,9,     -999.0,9,     7.7334,2,     -999.0,9,     -999.0,1,   0.0076,    0.15,   0.011
318M20130321,       P02E,     131,          1,         25,         25,2,20130526,       0105,    30.0003,    -131.06,       4913,   388.3,   6.9237,  34.0263,2,  34.0279,2,     84.5,2,    80.9,2,   51.85,2,   33.69,2,       0,2,    2.48,2,   2.231,2,   1.140,2,-999.000,1,   0.4391,2,  2244.7,2, 2274.41,2,   7.4057,2,       25,   0.397,2,   1.8303,2,   10.99,2,   -0.42,2,   -41.5,2,     2.9,   7.690,2,   0.035,     -999.0,9, -999.00,9,   43.11,2, -999.00,9,     -999.0,9,  -999.0,1, 20130526,      250,  29.9998,-131.0599,    34.1883,2,     -999.0,9,     -999.0,9,     6.9364,2,     -999.0,9,     -999.0,1,   0.0077,    0.15,   0.010
318M20130321,       P02E,     131,          1,         24,         24,2,20130526,       0105,    30.0003,    -131.06,       4913,   466.4,   6.3113,  34.1003,2,  34.0994,2,     47.8,2,    45.6,2,   64.55,2,   37.59,2,       0,2,    2.82,2,   1.414,2,   0.699,2,-999.000,1,   0.2898,2,  2280.7,2, 2290.01,2,   7.3355,2,       25,   0.314,2,   1.8205,2,   13.79,2,   -0.50,2,   -73.4,2,     2.5,   7.841,2,   0.036,     -999.0,9, -999.00,9,   41.07,2, -999.00,9,     -999.0,9,  -999.0,1, 20130526,      248,  29.9998,  -131.06,    34.2602,2,     -999.0,9,     -999.0,9,     6.3107,2,     -999.0,9,     -999.0,1,   0.0076,    0.15,   0.010
318M20130321,       P02E,     131,          1,         23,         23,2,20130526,       0105,    30.0003,    -131.06,       4913,   568.6,   5.4886,  34.1782,2,  34.1788,2,     24.5,2,    23.8,2,   81.43,2,    40.6,2,       0,2,    3.08,2,   0.614,2,   0.302,2,-999.000,1,   0.1565,2,  -999.0,9, -999.00,9,-999.0000,9,  -999.00,-999.000,9,-999.0000,9, -999.00,9,   -0.56,2,  -119.1,2,     2.4,-999.000,9,-999.000,     -999.0,9, -999.00,9,   42.88,2, -999.00,9,     -999.0,9,  -999.0,1, 20130526,      245,  29.9998,-131.0602,    34.3399,2,     -999.0,9,     -999.0,9,     5.4919,2,     -999.0,9,     -999.0,1,-999.0000, -999.00,-999.000
318M20130321,       P02E,     131,          1,         22,         22,2,20130526,       0105,    30.0003,    -131.06,       4913,   669.3,   4.8588,  34.2438,2,  34.2425,2,     15.3,2,    15.7,2,    95.2,2,    42.3,2,       0,2,    3.18,2,   0.213,2,   0.110,2,-999.000,1,   0.0811,2,  2332.9,2, 2326.33,2,   7.2916,6,       25,   0.102,2,   1.8348,2,   15.26,2,   -0.51,2,  -153.5,2,     2.0,   7.880,2,   0.036,     -999.0,9, -999.00,9,   38.66,2, -999.00,9,     -999.0,9,  -999.0,1, 20130526,      242,  29.9998,-131.0603,     34.404,2,     -999.0,9,     -999.0,9,      4.861,2,     -999.0,9,     -999.0,1,   0.0077,    0.15,   0.009
318M20130321,       P02E,     131,          1,         21,         21,2,20130526,       0105,    30.0003,    -131.06,       4913,   770.9,   4.4943,  34.3314,2,  34.3318,2,       11,2,    11.1,2,  105.74,2,   43.23,2,       0,2,    3.25,2,   0.060,2,   0.036,2,-999.000,1,   0.0891,2,  2347.4,2, 2343.13,2,   7.2922,2,       25,   0.031,2,   1.8717,2,   15.51,2,   -0.51,2,  -173.2,2,     2.1,   8.072,2,   0.037,     -999.0,9, -999.00,9,   37.85,2, -999.00,9,     -999.0,9,  -999.0,1, 20130526,      239,  29.9995,-131.0604,    34.4937,2,     -999.0,9,     -999.0,9,     4.4944,2,     -999.0,9,     -999.0,1,   0.0079,    0.15,   0.009
318M20130321,       P02E,     131,          1,         20,         20,2,20130526,       0105,    30.0003,    -131.06,       4913,   870.8,   4.1222,  34.3952,2,  34.3956,2,     15.5,2,    15.4,2,  114.32,2,   43.73,2,       0,2,    3.26,2,   0.022,2,   0.016,2,-999.000,1,        0,2,  2355.3,2, 2356.64,2,   7.3092,2,       25,  -0.001,2,   1.8773,2,   16.94,2,   -0.44,2,  -194.3,2,     1.8,   8.008,2,   0.037,     -999.0,9, -999.00,9,   37.26,2, -999.00,9,     -999.0,9,  -999.0,1, 20130526,      236,  29.9994,-131.0605,    34.5578,2,     -999.0,9,     -999.0,9,     4.1248,2,     -999.0,9,     -999.0,1,   0.0079,    0.15,   0.009
318M20130321,       P02E,     131,          1,         19,         19,2,20130526,       0105,    30.0003,    -131.06,       4913,   972.7,   3.8456,  34.4478,2,  34.4478,2,     25.7,2,    26.1,2,  118.91,2,   43.49,2,       0,2,     3.2,2,   0.010,2,   0.007,2,-999.000,1,        0,2,    2357,6, 2366.24,2,    7.337,2,       25,-999.000,9,-999.0000,9, -999.00,9,   -0.39,2,  -205.0,2,     2.6,-999.000,9,-999.000,     -999.0,9, -999.00,9,   36.89,2, -999.00,9,     -999.0,9,  -999.0,1, 20130526,      233,       30,-131.0601,    34.6102,2,     -999.0,9,     -999.0,9,     3.8435,2,     -999.0,9,     -999.0,1,-999.0000, -999.00,-999.000
318M20130321,       P02E,     131,          1,         18,         18,2,20130526,       0105,    30.0003,    -131.06,       4913,  1074.4,   3.6398,  34.4831,2,  34.4828,2,     32.6,2,    33.6,2,  123.49,2,    43.3,2,       0,2,    3.17,2,   0.005,2,   0.005,2,-999.000,1,        0,2,  -999.0,9, -999.00,9,-999.0000,9,  -999.00,  -0.006,2,   1.8986,2,   21.13,2,   -0.37,2,  -216.9,2,     1.7,   7.939,2,   0.037,     -999.0,9, -999.00,9,    34.9,2, -999.00,9,     -999.0,9,  -999.0,1, 20130526,      231,  30.0001,-131.0604,    34.6454,2,     -999.0,9,     -999.0,9,     3.6395,2,     -999.0,9,     -999.0,1,   0.0080,    0.15,   0.009
318M20130321,       P02E,     131,          1,         17,         17,2,20130526,       0105,    30.0003,    -131.06,       4913,    1174,   3.4396,  34.5078,2,  34.5083,2,     39.3,2,    39.4,2,  127.88,2,   43.07,2,       0,2,    3.14,2,   0.004,2,   0.006,2,-999.000,1,        0,2,  -999.0,9, -999.00,9,-999.0000,9,  -999.00,  -0.004,2,   1.8913,2,   21.29,2,   -0.34,2,  -233.5,2,     2.4,   8.148,2,   0.037,     -999.0,9, -999.00,9,   36.03,2, -999.00,9,     -999.0,9,  -999.0,1, 20130526,      228,  29.9998,-131.0602,     34.671,2,     -999.0,9,     -999.0,9,     3.4407,2,     -999.0,9,     -999.0,1,   0.0079,    0.15,   0.009
318M20130321,       P02E,     131,          1,         16,         16,2,20130526,       0105,    30.0003,    -131.06,       4913,  1275.8,   3.2238,   34.528,2,  34.5283,2,     44.1,2,    44.4,2,  132.86,2,   42.82,2,       0,2,    3.11,2,   0.004,2,   0.005,2,-999.000,1,        0,2,    2362,2, 2386.05,2,   7.3763,2,       25,-999.000,9,-999.0000,9, -999.00,9,   -0.32,2,  -226.4,2,     2.8,-999.000,9,-999.000,     -999.0,9, -999.00,9,   36.77,2, -999.00,9,     -999.0,9,  -999.0,1, 20130526,      225,  29.9999,-131.0598,    34.6911,2,     -999.0,9,     -999.0,9,     3.2236,2,     -999.0,9,     -999.0,1,-999.0000, -999.00,-999.000
318M20130321,       P02E,     131,          1,         15,         15,2,20130526,       0105,    30.0003,    -131.06,       4913,  1377.9,   3.0166,  34.5423,2,  34.5417,2,     48.5,2,      49,2,  138.42,2,   42.67,2,       0,2,    3.09,2,   0.004,2,   0.005,2,-999.000,1,        0,2,  -999.0,9, -999.00,9,-999.0000,9,  -999.00,   0.020,2,   1.9110,2,   22.11,2,   -0.31,2,  -231.0,2,     2.7,   8.131,2,   0.037,     -999.0,9, -999.00,9,   37.66,2, -999.00,9,     -999.0,9,  -999.0,1, 20130526,      222,       30,-131.0601,    34.7046,2,     -999.0,9,     -999.0,9,     3.0173,2,     -999.0,9,     -999.0,1,   0.0080,    0.15,   0.011
318M20130321,       P02E,     131,          1,         14,         14,2,20130526,       0105,    30.0003,    -131.06,       4913,  1549.8,   2.7476,  34.5706,2,   34.571,2,     56.5,2,      56,2,  145.45,2,   42.27,2,       0,2,    3.07,2,   0.003,2,   0.004,2,-999.000,1,        0,2,  2368.8,2, 2399.55,2,   7.3987,6,       25,   0.009,2,   1.9277,2,   23.09,2,   -0.29,2,  -241.9,2,     2.0,   8.156,2,   0.038,     -999.0,9, -999.00,9,   36.05,2, -999.00,9,     -999.0,9,  -999.0,1, 20130526,      218,  30.0001,-131.0603,     34.734,2,     -999.0,9,     -999.0,9,     2.7469,2,     -999.0,9,     -999.0,1,   0.0081,    0.15,   0.011
318M20130321,       P02E,     131,          1,         13,         13,2,20130526,       0105,    30.0003,    -131.06,       4913,  1753.8,   2.4303,  34.5944,2,  34.5955,2,     67.3,2,    65.9,2,  153.35,2,   41.66,2,       0,2,    3.01,2,   0.002,2,   0.003,2,-999.000,1,        0,2,  2369.3,2, 2408.86,2,   7.4184,2,       25,   0.012,2,   1.9272,2,   23.72,2,   -0.23,2,  -248.8,2,     2.2,   8.198,2,   0.038,     -999.0,9, -999.00,9,   34.76,2, -999.00,9,     -999.0,9,  -999.0,1, 20130526,      213,  29.9999,-131.0601,    34.7586,2,     -999.0,9,     -999.0,9,     2.4305,2,     -999.0,9,     -999.0,1,   0.0081,    0.15,   0.011
318M20130321,       P02E,     131,          1,         12,         12,2,20130526,       0105,    30.0003,    -131.06,       4913,  1955.3,   2.1872,  34.6121,2,  34.6126,2,     76.5,2,    76.2,2,  159.99,2,   41.05,2,       0,2,    2.94,2,   0.003,2,   0.003,2,-999.000,1,        0,2,  -999.0,9, -999.00,9,-999.0000,9,  -999.00,   0.020,2,   1.9195,2,   23.83,2,   -0.23,2,  -247.2,2,     2.0,   8.091,2,   0.037,     -999.0,9, -999.00,9,   34.76,2, -999.00,9,     -999.0,9,  -999.0,1, 20130526,      209,  29.9999,-131.0602,    34.7758,2,     -999.0,9,     -999.0,9,     2.1879,2,     -999.0,9,     -999.0,1,   0.0081,    0.15,   0.011
318M20130321,       P02E,     131,          1,         11,         11,2,20130526,       0105,    30.0003,    -131.06,       4913,  2191.9,    1.955,  34.6313,2,  34.6313,2,     87.8,2,    87.1,2,  165.45,2,   40.31,2,       0,2,    2.88,2,   0.006,2,   0.004,2,-999.000,1,        0,2,  2366.9,2, 2420.16,2,   7.4603,2,       25,-999.000,9,-999.0000,9, -999.00,9,   -0.18,2,  -248.5,2,     2.4,-999.000,9,-999.000,     -999.0,9, -999.00,9,   34.72,2, -999.00,9,     -999.0,9,  -999.0,1, 20130526,      204,  29.9998,-131.0599,    34.7946,2,     -999.0,9,     -999.0,9,     1.9551,2,     -999.0,9,     -999.0,1,-999.0000, -999.00,-999.000
318M20130321,       P02E,     131,          1,         10,         10,2,20130526,       0105,    30.0003,    -131.06,       4913,  2444.6,   1.7993,  34.6457,2,  34.6466,2,     98.1,2,      98,2,  168.47,2,   39.57,2,       0,2,    2.81,2,   0.002,2,   0.004,2,-999.000,1,        0,2,  -999.0,9, -999.00,9,-999.0000,9,  -999.00,-999.000,9,-999.0000,9, -999.00,9,   -0.14,2,  -248.8,2,     1.9,-999.000,9,-999.000,     -999.0,9, -999.00,9, -999.00,9, -999.00,9,     -999.0,9,  -999.0,1, 20130526,      158,  29.9999,  -131.06,      34.81,2,     -999.0,9,     -999.0,9,     1.8005,2,     -999.0,9,     -999.0,1,-999.0000, -999.00,-999.000
318M20130321,       P02E,     131,          1,          9,          9,2,20130526,       0105,    30.0003,    -131.06,       4913,  2698.4,   1.6706,   34.656,2,  34.6564,2,    107.8,2,   108.6,2,  170.82,2,      39,2,       0,2,    2.76,2,   0.002,2,   0.004,2,-999.000,1,        0,2,  2360.1,2, 2426.86,2,   7.4985,2,       25,-999.000,9,-999.0000,9, -999.00,9,   -0.17,2,  -242.8,2,     1.9,-999.000,9,-999.000,     -999.0,9, -999.00,9, -999.00,5, -999.00,9,     -999.0,9,  -999.0,1, 20130526,      153,  29.9997,-131.0607,    34.8198,2,     -999.0,9,     -999.0,9,     1.6706,2,     -999.0,9,     -999.0,1,-999.0000, -999.00,-999.000
318M20130321,       P02E,     131,          1,          8,          8,2,20130526,       0105,    30.0003,    -131.06,       4913,  2954.2,   1.5804,  34.6652,2,  34.6649,2,      116,2,   117.7,2,   171.5,2,   38.43,2,       0,2,    2.72,2,   0.005,2,   0.007,2,-999.000,1,        0,2,  -999.0,9, -999.00,9,-999.0000,9,  -999.00,-999.000,9,-999.0000,9, -999.00,9,   -0.06,2,  -242.1,2,     2.2,-999.000,9,-999.000,     -999.0,9, -999.00,9, -999.00,9, -999.00,9,     -999.0,9,  -999.0,1, 20130526,      147,       30,-131.0601,    34.8283,2,     -999.0,9,     -999.0,9,     1.5806,2,     -999.0,9,     -999.0,1,-999.0000, -999.00,-999.000
318M20130321,       P02E,     131,          1,          7,          7,2,20130526,       0105,    30.0003,    -131.06,       4913,  3243.9,   1.5158,  34.6733,2,  34.6729,2,    125.8,2,   126.1,2,  170.52,2,   37.86,2,       0,2,    2.67,2,   0.004,2,   0.006,2,-999.000,1,        0,2,  2348.5,2, 2428.66,6,   7.5325,2,       25,-999.000,9,-999.0000,9, -999.00,9,   -0.06,2,  -239.0,2,     1.8,-999.000,9,-999.000,     -999.0,9, -999.00,9,   34.77,2, -999.00,9,     -999.0,9,  -999.0,1, 20130526,      141,  29.9999,-131.0603,    34.8364,2,     -999.0,9,     -999.0,9,     1.5155,2,     -999.0,9,     -999.0,1,-999.0000, -999.00,-999.000
318M20130321,       P02E,     131,          1,          6,          6,2,20130526,       0105,    30.0003,    -131.06,       4913,  3549.6,   1.4894,   34.679,2,  34.6786,2,    133.9,2,   133.6,2,  168.86,2,    37.4,2,       0,2,    2.64,2,   0.006,2,   0.008,2,-999.000,1,        0,2,  -999.0,9, -999.00,9,-999.0000,9,  -999.00,-999.000,9,-999.0000,9, -999.00,9,    0.02,2,  -232.8,2,     1.7,-999.000,9,-999.000,     -999.0,9, -999.00,9,   34.01,2, -999.00,9,     -999.0,9,  -999.0,1, 20130526,      135,  29.9999,  -131.06,    34.8422,2,     -999.0,9,     -999.0,9,     1.4895,2,     -999.0,9,     -999.0,1,-999.0000, -999.00,-999.000