BOTTLE,20220817CCHSIOAMB
EXPOCODE,SECT_ID,STNNBR,CASTNO,SAMPNO,BTLNBR,BTLNBR_FLAG_W,DATE,TIME,LATITUDE,LONGITUDE,DEPTH,CTDPRS,CTDTMP,CTDSAL,CTDSAL_FLAG_W,SALNTY,SALNTY_FLAG_W,CTDOXY,CTDOXY_FLAG_W,OXYGEN,OXYGEN_FLAG_W,SILCAT,SILCAT_FLAG_W,NITRAT,NITRAT_FLAG_W,NITRIT,NITRIT_FLAG_W,PHSPHT,PHSPHT_FLAG_W,CFC-11,CFC-11_FLAG_W,CFC-12,CFC-12_FLAG_W,CFC113,CFC113_FLAG_W,SF6,SF6_FLAG_W,TCARBN,TCARBN_FLAG_W,ALKALI,ALKALI_FLAG_W,PH_TOT,PH_TOT_FLAG_W,PH_TMP,TRITUM,TRITUM_FLAG_W,HELIUM,HELIUM_FLAG_W,DELHE3,DELHE3_FLAG_W,DELC13,DELC13_FLAG_W,DELC14,DELC14_FLAG_W,C14ERR,NEON,NEON_FLAG_W,NEONER,I-129,I-129_FLAG_W,SR-90,SR-90_FLAG_W,DOC,DOC_FLAG_W,TDN,TDN_FLAG_W,CALCIUM,CALCIUM_FLAG_W,D15N_NO3,D15N_NO3_FLAG_W,BTL_DATE,BTL_TIME,BTL_LAT,BTL_LON,SALTREF,SALTREF_FLAG_W,CS-137,CS-137_FLAG_W,CS-134,CS-134_FLAG_W,REFTMP,REFTMP_FLAG_W,LAB_DEN,LAB_DEN_FLAG_W,D18O_NO3,D18O_NO3_FLAG_W,HELIER,DELHER,TRITER
,,,,,,,,,,,METERS,DBAR,ITS-90,PSS-78,,PSS-78,,UMOL/KG,,UMOL/KG,,UMOL/KG,,UMOL/KG,,UMOL/KG,,UMOL/KG,,PMOL/KG,,PMOL/KG,,PMOL/KG,,FMOL/KG,,UMOL/KG,,UMOL/KG,,,,DEG C,TU,,NMOL/KG,,PERCNT,,/MILLE,,/MILLE,,/MILLE,NMOL/KG,,NMOL/KG,BQ/M^3,,DM/.1MG,,UMOL/KG,,UMOL/KG,,MMOL/KG,,/MILLE,,,,,,G/KG,,BQ/M^3,,BQ/M^3,,ITS-90,,,,/MILLE,,NMOL/KG,PERCNT,TU
318M20130321,       P02W,      10,          1,          7,          7,2,20130324,       1037,    31.4592,   133.8142,       4789,  3238.8,   1.5847,  34.6677,2,  34.6668,2,    144.1,2,   144.3,2,  143.68,2,   35.97,2,       0,2,    2.53,2,   0.033,2,   0.013,2,   0.006,2,     0.11,2,  2326.3,2, 2411.96,2,   7.5551,2,       25,-999.000,9,-999.0000,9, -999.00,9, -999.00,9,  -999.0,9,  -999.0,-999.000,9,-999.000,     -999.0,9, -999.00,9, -999.00,9, -999.00,9,     -999.0,9,  -999.0,1, 20130324,     1115,  31.4556, 133.8193,    34.8303,2,     -999.0,9,     -999.0,9,     1.5846,2,     -999.0,9,     -999.0,1,-999.0000, -999.00,-999.000
318M20130321,       P02W,      10,          1,          6,          6,4,20130324,       1037,    31.4592,   133.8142,       4789,  3540.2,   1.5469,  34.6753,2,  34.6774,4,    148.7,2,     151,3,  142.21,4,   35.53,4,       0,4,     2.5,4,-999.000,9,-999.000,9,-999.000,9,-999.0000,9,  -999.0,9, -999.00,9,-999.0000,9,  -999.00,-999.000,9,-999.0000,9, -999.00,9, -999.00,9,  -999.0,9,  -999.0,-999.000,9,-999.000,     -999.0,9, -999.00,9, -999.00,9, -999.00,9,     -999.0,9,  -999.0,1, 20130324,     1108,  31.4559, 133.8186,    34.8409,4,     -999.0,9,     -999.0,9,      1.547,2,     -999.0,9,     -999.0,1,-999.0000, -999.00,-999.000
318M20130321,       P02W,      10,          1,          5,          5,2,20130324,       1037,    31.4592,   133.8142,       4789,  3849.1,    1.554,  34.6781,2,  34.6776,2,    150.8,2,   151.2,2,   142.9,2,   35.54,2,       0,2,     2.5,2,   0.033,2,   0.014,2,   0.001,2,      0.1,2,  2321.5,2, 2412.76,6,   7.5671,2,       25,-999.000,9,-999.0000,9, -999.00,9, -999.00,9,  -999.0,9,  -999.0,-999.000,9,-999.000,     -999.0,9, -999.00,9, -999.00,9, -999.00,9,     -999.0,9,  -999.0,1, 20130324,     1102,  31.4563, 133.8179,    34.8411,2,     -999.0,9,     -999.0,9,     1.5543,2,     -999.0,9,     -999.0,1,-999.0000, -999.00,-999.000
318M20130321,       P02W,      10,          1,          4,          4,2,20130324,       1037,    31.4592,   133.8142,       4789,  4162.8,   1.5714,    34.68,2,   34.679,2,    152.5,2,   152.5,2,   142.6,2,   35.47,2,       0,2,    2.49,2,-999.000,9,-999.000,9,-999.000,9,-999.0000,9,  -999.0,9, -999.00,9,-999.0000,9,  -999.00,-999.000,9,-999.0000,9, -999.00,9, -999.00,9,  -999.0,9,  -999.0,-999.000,9,-999.000,     -999.0,9, -999.00,9, -999.00,9, -999.00,9,     -999.0,9,  -999.0,1, 20130324,     1055,  31.4571, 133.8168,    34.8425,2,     -999.0,9,     -999.0,9,     1.5717,2,     -999.0,9,     -999.0,1,-999.0000, -999.00,-999.000
318M20130321,       P02W,      10,          1,          3,          3,2,20130324,       1037,    31.4592,   133.8142,       4789,  4480.4,   1.5934,  34.6815,2,  34.6812,2,    153.4,2,   153.8,2,  142.31,2,   35.23,2,       0,2,    2.49,2,   0.021,2,   0.013,2,   0.004,2,     0.08,2,  2320.9,2, 2412.96,2,   7.5687,2,       25,-999.000,9,-999.0000,9, -999.00,9, -999.00,9,  -999.0,9,  -999.0,-999.000,9,-999.000,     -999.0,9, -999.00,9, -999.00,9, -999.00,9,     -999.0,9,  -999.0,1, 20130324,     1048,   31.458, 133.8158,    34.8447,2,     -999.0,9,     -999.0,9,     1.5936,2,     -999.0,9,     -999.0,1,-999.0000, -999.00,-999.000
318M20130321,       P02W,      10,          1,          2,          2,2,20130324,       1037,    31.4592,   133.8142,       4789,  4692.2,    1.609,  34.6824,2,  34.6812,2,    155.3,2,   154.7,2,  142.41,2,   35.31,2,       0,2,    2.48,2,-999.000,9,-999.000,9,-999.000,9,-999.0000,9,  2319.1,2, 2358.55,4,   7.5731,6,       25,-999.000,9,-999.0000,9, -999.00,9, -999.00,9,  -999.0,9,  -999.0,-999.000,9,-999.000,     -999.0,9, -999.00,9, -999.00,9, -999.00,9,     -999.0,9,  -999.0,1, 20130324,     1042,  31.4586,  133.815,    34.8447,2,     -999.0,9,     -999.0,9,     1.6093,2,     -999.0,9,     -999.0,1,-999.0000, -999.00,-999.000
318M20130321,       P02W,      10,          1,          1,          1,2,20130324,       1037,    31.4592,   133.8142,       4789,  4875.7,   1.6275,  34.6827,2,  34.6822,2,    154.7,2,   155.2,2,  141.73,2,    35.3,2,       0,2,    2.48,2,   0.026,2,   0.009,2,   0.004,2,     0.08,2,  2319.8,6, 2410.66,2,   7.5723,2,       25,-999.000,9,-999.0000,9, -999.00,9, -999.00,9,  -999.0,9,  -999.0,-999.000,9,-999.000,     -999.0,9, -999.00,9, -999.00,9, -999.00,9,     -999.0,9,  -999.0,1, 20130324,     1038,  31.4592, 133.8143,    34.8457,2,     -999.0,9,     -999.0,9,     1.6274,2,     -999.0,9,     -999.0,1,-999.0000, -999.00,-999.000