BOTTLE,20220817CCHSIOAMB
EXPOCODE,SECT_ID,STNNBR,CASTNO,SAMPNO,BTLNBR,BTLNBR_FLAG_W,DATE,TIME,LATITUDE,LONGITUDE,DEPTH,CTDPRS,CTDTMP,CTDSAL,CTDSAL_FLAG_W,SALNTY,SALNTY_FLAG_W,CTDOXY,CTDOXY_FLAG_W,OXYGEN,OXYGEN_FLAG_W,SILCAT,SILCAT_FLAG_W,NITRAT,NITRAT_FLAG_W,NITRIT,NITRIT_FLAG_W,PHSPHT,PHSPHT_FLAG_W,CFC-11,CFC-11_FLAG_W,CFC-12,CFC-12_FLAG_W,CFC113,CFC113_FLAG_W,SF6,SF6_FLAG_W,TCARBN,TCARBN_FLAG_W,ALKALI,ALKALI_FLAG_W,PH_TOT,PH_TOT_FLAG_W,PH_TMP,TRITUM,TRITUM_FLAG_W,HELIUM,HELIUM_FLAG_W,DELHE3,DELHE3_FLAG_W,DELC13,DELC13_FLAG_W,DELC14,DELC14_FLAG_W,C14ERR,NEON,NEON_FLAG_W,NEONER,I-129,I-129_FLAG_W,SR-90,SR-90_FLAG_W,DOC,DOC_FLAG_W,TDN,TDN_FLAG_W,CALCIUM,CALCIUM_FLAG_W,D15N_NO3,D15N_NO3_FLAG_W,BTL_DATE,BTL_TIME,BTL_LAT,BTL_LON,SALTREF,SALTREF_FLAG_W,CS-137,CS-137_FLAG_W,CS-134,CS-134_FLAG_W,REFTMP,REFTMP_FLAG_W,LAB_DEN,LAB_DEN_FLAG_W,D18O_NO3,D18O_NO3_FLAG_W,HELIER,DELHER,TRITER
,,,,,,,,,,,METERS,DBAR,ITS-90,PSS-78,,PSS-78,,UMOL/KG,,UMOL/KG,,UMOL/KG,,UMOL/KG,,UMOL/KG,,UMOL/KG,,PMOL/KG,,PMOL/KG,,PMOL/KG,,FMOL/KG,,UMOL/KG,,UMOL/KG,,,,DEG C,TU,,NMOL/KG,,PERCNT,,/MILLE,,/MILLE,,/MILLE,NMOL/KG,,NMOL/KG,BQ/M^3,,DM/.1MG,,UMOL/KG,,UMOL/KG,,MMOL/KG,,/MILLE,,,,,,G/KG,,BQ/M^3,,BQ/M^3,,ITS-90,,,,/MILLE,,NMOL/KG,PERCNT,TU
318M20130321,       P02W,      83,          1,          5,         37,2,20130501,       1302,    30.0007,  -172.0714,       5434,  4471.1,   1.4818,  34.6875,2,  34.6863,2,    151.2,2,   152.8,2,  153.24,2,      36,2,       0,2,    2.54,2,   0.020,2,   0.014,2,   0.000,2,        0,2,  -999.0,9, -999.00,9,-999.0000,9,  -999.00,-999.000,9,-999.0000,9, -999.00,9, -999.00,9,  -999.0,9,  -999.0,-999.000,9,-999.000,     -999.0,9, -999.00,9, -999.00,9, -999.00,9,     -999.0,9,  -999.0,1, 20130501,     1325,  30.0001,-172.0717,    34.8499,2,     -999.0,9,     -999.0,9,     1.4815,2,     -999.0,9,     -999.0,1,-999.0000, -999.00,-999.000
318M20130321,       P02W,      83,          1,          4,          4,2,20130501,       1302,    30.0007,  -172.0714,       5434,  4882.5,    1.505,  34.6898,2,  34.6885,2,    157.4,2,     157,2,  149.14,2,   35.68,2,       0,2,     2.5,2,-999.000,9,-999.000,9,-999.000,9,-999.0000,9,  2321.7,2, 2414.46,6,   7.5792,2,       25,-999.000,9,-999.0000,9, -999.00,9, -999.00,9,  -999.0,9,  -999.0,-999.000,9,-999.000,     -999.0,9, -999.00,9,   35.04,2, -999.00,9,     -999.0,9,  -999.0,1, 20130501,     1317,  30.0003,-172.0716,    34.8521,2,     -999.0,9,     -999.0,9,     1.5047,2,     -999.0,9,     -999.0,1,-999.0000, -999.00,-999.000
318M20130321,       P02W,      83,          1,          3,          3,2,20130501,       1302,    30.0007,  -172.0714,       5434,  5295.1,   1.5222,  34.6926,2,  34.6912,2,    163.3,2,     164,2,  143.48,2,   35.21,2,       0,2,    2.48,2,   0.015,2,   0.016,2,   0.000,2,        0,2,  2314.8,2, 2410.16,6,   7.5859,6,       25,-999.000,9,-999.0000,9, -999.00,9, -999.00,9,  -999.0,9,  -999.0,-999.000,9,-999.000,     -999.0,9, -999.00,9,   34.97,2, -999.00,9,     -999.0,9,  -999.0,1, 20130501,     1308,  30.0005,-172.0715,    34.8548,2,     -999.0,9,     -999.0,9,     1.5226,2,     -999.0,9,     -999.0,1,-999.0000, -999.00,-999.000
318M20130321,       P02W,      83,          1,          2,          2,2,20130501,       1302,    30.0007,  -172.0714,       5434,  5520.6,   1.5513,  34.6924,2,  34.6916,2,    164.4,2,   164.3,2,  143.29,2,   35.15,2,       0,2,    2.49,2,   0.016,2,   0.017,2,   0.000,2,        0,2,  2315.9,6, 2410.66,2,   7.5867,2,       25,-999.000,9,-999.0000,9, -999.00,9, -999.00,9,  -999.0,9,  -999.0,-999.000,9,-999.000,     -999.0,9, -999.00,9,   36.01,2, -999.00,9,     -999.0,9,  -999.0,1, 20130501,     1302,  30.0007,-172.0714,    34.8552,2,     -999.0,9,     -999.0,9,     1.5509,2,     -999.0,9,     -999.0,1,-999.0000, -999.00,-999.000