BOTTLE,20220817CCHSIOAMB
EXPOCODE,SECT_ID,STNNBR,CASTNO,SAMPNO,BTLNBR,BTLNBR_FLAG_W,DATE,TIME,LATITUDE,LONGITUDE,DEPTH,CTDPRS,CTDTMP,CTDSAL,CTDSAL_FLAG_W,SALNTY,SALNTY_FLAG_W,CTDOXY,CTDOXY_FLAG_W,OXYGEN,OXYGEN_FLAG_W,SILCAT,SILCAT_FLAG_W,NITRAT,NITRAT_FLAG_W,NITRIT,NITRIT_FLAG_W,PHSPHT,PHSPHT_FLAG_W,CFC-11,CFC-11_FLAG_W,CFC-12,CFC-12_FLAG_W,CFC113,CFC113_FLAG_W,SF6,SF6_FLAG_W,TCARBN,TCARBN_FLAG_W,ALKALI,ALKALI_FLAG_W,PH_TOT,PH_TOT_FLAG_W,PH_TMP,TRITUM,TRITUM_FLAG_W,HELIUM,HELIUM_FLAG_W,DELHE3,DELHE3_FLAG_W,DELC13,DELC13_FLAG_W,DELC14,DELC14_FLAG_W,C14ERR,NEON,NEON_FLAG_W,NEONER,I-129,I-129_FLAG_W,SR-90,SR-90_FLAG_W,DOC,DOC_FLAG_W,TDN,TDN_FLAG_W,CALCIUM,CALCIUM_FLAG_W,D15N_NO3,D15N_NO3_FLAG_W,BTL_DATE,BTL_TIME,BTL_LAT,BTL_LON,SALTREF,SALTREF_FLAG_W,CS-137,CS-137_FLAG_W,CS-134,CS-134_FLAG_W,REFTMP,REFTMP_FLAG_W,LAB_DEN,LAB_DEN_FLAG_W,D18O_NO3,D18O_NO3_FLAG_W,HELIER,DELHER,TRITER
,,,,,,,,,,,METERS,DBAR,ITS-90,PSS-78,,PSS-78,,UMOL/KG,,UMOL/KG,,UMOL/KG,,UMOL/KG,,UMOL/KG,,UMOL/KG,,PMOL/KG,,PMOL/KG,,PMOL/KG,,FMOL/KG,,UMOL/KG,,UMOL/KG,,,,DEG C,TU,,NMOL/KG,,PERCNT,,/MILLE,,/MILLE,,/MILLE,NMOL/KG,,NMOL/KG,BQ/M^3,,DM/.1MG,,UMOL/KG,,UMOL/KG,,MMOL/KG,,/MILLE,,,,,,G/KG,,BQ/M^3,,BQ/M^3,,ITS-90,,,,/MILLE,,NMOL/KG,PERCNT,TU
318M20130321,       P02W,      65,          1,          7,          7,2,20130425,       2252,    30.0003,   173.9782,       4474,  2785.5,   1.5698,  34.6558,2,  34.6558,2,    117.9,2,   118.1,2,  161.35,2,   38.27,2,       0,2,    2.71,2,-999.000,9,-999.000,9,-999.000,9,-999.0000,9,  2348.2,2, 2417.16,2,   7.5093,2,       25,-999.000,9,-999.0000,9, -999.00,9,   -0.02,2,  -228.0,2,     2.0,-999.000,9,-999.000,     -999.0,9, -999.00,9,   35.06,2, -999.00,9,     -999.0,9,  -999.0,9, 20130425,     2330,  30.0002, 173.9782,    34.8192,2,     -999.0,9,     -999.0,9,     1.5695,2,     -999.0,9,     -999.0,9,-999.0000, -999.00,-999.000
318M20130321,       P02W,      65,          1,          6,          6,2,20130425,       2252,    30.0003,   173.9782,       4474,  3038.8,   1.5247,  34.6644,2,  34.6641,2,    126.5,2,   126.4,2,  159.59,2,    37.7,2,       0,2,    2.67,2,   0.007,2,   0.005,2,   0.007,2,        0,2,  -999.0,9, -999.00,9,-999.0000,9,  -999.00,-999.000,9,-999.0000,9, -999.00,9,    0.04,2,  -233.6,2,     2.4,-999.000,9,-999.000,     -999.0,9, -999.00,9, -999.00,9, -999.00,9,     -999.0,9,  -999.0,9, 20130425,     2325,  30.0003, 173.9781,    34.8275,2,     -999.0,9,     -999.0,9,      1.525,2,     -999.0,9,     -999.0,9,-999.0000, -999.00,-999.000
318M20130321,       P02W,      65,          1,          5,         37,2,20130425,       2252,    30.0003,   173.9782,       4474,  3345.2,   1.4925,  34.6719,2,  34.6716,2,    134.9,2,   134.9,2,  157.93,2,   37.15,2,       0,2,    2.63,2,-999.000,9,-999.000,9,-999.000,9,-999.0000,9,  2337.1,2, 2418.26,2,   7.5414,2,       25,-999.000,9,-999.0000,9, -999.00,9,    0.10,2,  -229.8,2,     2.4,-999.000,9,-999.000,     -999.0,9, -999.00,9,   35.86,2, -999.00,9,     -999.0,9,  -999.0,9, 20130425,     2318,  30.0003, 173.9781,    34.8351,2,     -999.0,9,     -999.0,9,      1.492,2,     -999.0,9,     -999.0,9,-999.0000, -999.00,-999.000
318M20130321,       P02W,      65,          1,          4,          4,2,20130425,       2252,    30.0003,   173.9782,       4474,  3652.8,   1.4657,  34.6785,2,  34.6782,2,    143.2,2,   143.1,2,  155.68,2,    36.6,2,       0,2,     2.6,2,   0.014,2,   0.005,2,   0.003,2,     0.06,2,  -999.0,9, -999.00,9,-999.0000,9,  -999.00,-999.000,9,-999.0000,9, -999.00,9,    0.18,2,  -218.7,2,     3.3,-999.000,9,-999.000,     -999.0,9, -999.00,9, -999.00,9, -999.00,9,     -999.0,9,  -999.0,9, 20130425,     2312,  30.0003, 173.9782,    34.8418,2,     -999.0,9,     -999.0,9,     1.4658,2,     -999.0,9,     -999.0,9,-999.0000, -999.00,-999.000
318M20130321,       P02W,      65,          1,          3,          3,2,20130425,       2252,    30.0003,   173.9782,       4474,  3958.1,   1.4563,  34.6832,2,  34.6824,2,      149,2,   148.7,2,  153.44,2,   36.23,2,       0,2,    2.56,2,   0.011,2,   0.007,2,   0.007,2,        0,2,    2325,2, 2415.96,6,   7.5645,2,       25,-999.000,9,-999.0000,9, -999.00,9,    0.17,2,  -216.5,2,     1.9,-999.000,9,-999.000,     -999.0,9, -999.00,9,   36.88,2, -999.00,9,     -999.0,9,  -999.0,9, 20130425,     2306,  30.0002, 173.9782,    34.8459,2,     -999.0,9,     -999.0,9,     1.4569,2,     -999.0,9,     -999.0,9,-999.0000, -999.00,-999.000
318M20130321,       P02W,      65,          1,          2,          2,2,20130425,       2252,    30.0003,   173.9782,       4474,  4370.4,   1.4485,  34.6885,2,  34.6883,2,    156.6,2,   157.1,2,  148.95,2,   35.62,2,       0,2,    2.51,2,   0.010,2,   0.005,2,   0.005,2,     0.02,2,  2318.6,2, 2414.16,2,   7.5768,6,       25,-999.000,9,-999.0000,9, -999.00,9,    0.23,2,  -205.6,2,     2.2,-999.000,9,-999.000,     -999.0,9, -999.00,9,   37.76,2, -999.00,9,     -999.0,9,  -999.0,9, 20130425,     2258,  30.0003, 173.9782,    34.8519,2,     -999.0,9,     -999.0,9,     1.4486,2,     -999.0,9,     -999.0,9,-999.0000, -999.00,-999.000
318M20130321,       P02W,      65,          1,          1,          1,2,20130425,       2252,    30.0003,   173.9782,       4474,  4677.8,   1.4546,  34.6911,2,  34.6908,2,    162.2,2,   162.1,2,  145.04,2,   35.24,2,       0,2,    2.48,2,   0.015,2,   0.007,2,   0.001,2,        0,2,  2314.5,2, 2408.36,2,   7.5828,2,       25,-999.000,9,-999.0000,9, -999.00,9,    0.27,2,  -211.5,2,     2.1,-999.000,9,-999.000,     -999.0,9, -999.00,9,   38.22,2, -999.00,9,     -999.0,9,  -999.0,9, 20130425,     2252,  30.0003, 173.9782,    34.8544,2,     -999.0,9,     -999.0,9,     1.4539,2,     -999.0,9,     -999.0,9,-999.0000, -999.00,-999.000