BOTTLE,20220817CCHSIOAMB
EXPOCODE,SECT_ID,STNNBR,CASTNO,SAMPNO,BTLNBR,BTLNBR_FLAG_W,DATE,TIME,LATITUDE,LONGITUDE,DEPTH,CTDPRS,CTDTMP,CTDSAL,CTDSAL_FLAG_W,SALNTY,SALNTY_FLAG_W,CTDOXY,CTDOXY_FLAG_W,OXYGEN,OXYGEN_FLAG_W,SILCAT,SILCAT_FLAG_W,NITRAT,NITRAT_FLAG_W,NITRIT,NITRIT_FLAG_W,PHSPHT,PHSPHT_FLAG_W,CFC-11,CFC-11_FLAG_W,CFC-12,CFC-12_FLAG_W,CFC113,CFC113_FLAG_W,SF6,SF6_FLAG_W,TCARBN,TCARBN_FLAG_W,ALKALI,ALKALI_FLAG_W,PH_TOT,PH_TOT_FLAG_W,PH_TMP,TRITUM,TRITUM_FLAG_W,HELIUM,HELIUM_FLAG_W,DELHE3,DELHE3_FLAG_W,DELC13,DELC13_FLAG_W,DELC14,DELC14_FLAG_W,C14ERR,NEON,NEON_FLAG_W,NEONER,I-129,I-129_FLAG_W,SR-90,SR-90_FLAG_W,DOC,DOC_FLAG_W,TDN,TDN_FLAG_W,CALCIUM,CALCIUM_FLAG_W,D15N_NO3,D15N_NO3_FLAG_W,BTL_DATE,BTL_TIME,BTL_LAT,BTL_LON,SALTREF,SALTREF_FLAG_W,CS-137,CS-137_FLAG_W,CS-134,CS-134_FLAG_W,REFTMP,REFTMP_FLAG_W,LAB_DEN,LAB_DEN_FLAG_W,D18O_NO3,D18O_NO3_FLAG_W,HELIER,DELHER,TRITER
,,,,,,,,,,,METERS,DBAR,ITS-90,PSS-78,,PSS-78,,UMOL/KG,,UMOL/KG,,UMOL/KG,,UMOL/KG,,UMOL/KG,,UMOL/KG,,PMOL/KG,,PMOL/KG,,PMOL/KG,,FMOL/KG,,UMOL/KG,,UMOL/KG,,,,DEG C,TU,,NMOL/KG,,PERCNT,,/MILLE,,/MILLE,,/MILLE,NMOL/KG,,NMOL/KG,BQ/M^3,,DM/.1MG,,UMOL/KG,,UMOL/KG,,MMOL/KG,,/MILLE,,,,,,G/KG,,BQ/M^3,,BQ/M^3,,ITS-90,,,,/MILLE,,NMOL/KG,PERCNT,TU
318M20130321,       P02W,      49,          1,          7,          7,2,20130420,       1546,    30.0017,   161.7337,       5988,  3551.7,   1.5069,  34.6745,2,  34.6739,2,    139.1,2,   140.1,2,  153.54,2,   36.73,2,       0,2,    2.59,2,   0.004,2,   0.009,2,   0.000,2,        0,2,  2332.4,2, 2415.76,2,   7.5492,2,       25,-999.000,9,-999.0000,9, -999.00,9, -999.00,9,  -999.0,9,  -999.0,-999.000,9,-999.000,     -999.0,9, -999.00,9,   35.15,2, -999.00,9,     -999.0,9,  -999.0,9, 20130420,     1647,  30.0017,  161.733,    34.8374,2,     -999.0,9,     -999.0,9,     1.5067,2,     -999.0,9,     -999.0,9,-999.0000, -999.00,-999.000
318M20130321,       P02W,      49,          1,          6,          6,2,20130420,       1546,    30.0017,   161.7337,       5988,  3922.7,   1.4896,  34.6804,2,  34.6802,2,    147.3,2,   146.9,2,  152.07,2,   36.31,2,       0,2,    2.56,2,-999.000,9,-999.000,9,-999.000,9,-999.0000,9,  -999.0,9, -999.00,9,-999.0000,9,  -999.00,-999.000,9,-999.0000,9, -999.00,9, -999.00,9,  -999.0,9,  -999.0,-999.000,9,-999.000,     -999.0,9, -999.00,9, -999.00,9, -999.00,9,     -999.0,9,  -999.0,9, 20130420,     1639,  30.0018, 161.7332,    34.8437,2,     -999.0,9,     -999.0,9,       1.49,2,     -999.0,9,     -999.0,9,-999.0000, -999.00,-999.000
318M20130321,       P02W,      49,          1,          5,         37,2,20130420,       1546,    30.0017,   161.7337,       5988,  4332.7,   1.4824,  34.6855,2,  34.6847,2,    154.5,2,   153.6,2,  149.34,2,   35.88,2,       0,2,    2.52,2,-999.000,9,-999.000,9,-999.000,9,-999.0000,9,  2323.6,2, 2412.46,2,   7.5697,2,       25,-999.000,9,-999.0000,9, -999.00,9, -999.00,9,  -999.0,9,  -999.0,-999.000,9,-999.000,     -999.0,9, -999.00,9,   34.87,2, -999.00,9,     -999.0,9,  -999.0,9, 20130420,     1631,  30.0017, 161.7334,    34.8483,2,     -999.0,9,     -999.0,9,     1.4826,2,     -999.0,9,     -999.0,9,-999.0000, -999.00,-999.000
318M20130321,       P02W,      49,          1,          4,          4,2,20130420,       1546,    30.0017,   161.7337,       5988,  4742.5,   1.4895,  34.6892,2,  34.6887,2,      159,2,   159.4,2,  146.41,2,   35.44,2,       0,2,    2.49,2,   0.008,2,   0.011,2,   0.000,2,        0,2,  -999.0,9, -999.00,9,-999.0000,9,  -999.00,-999.000,9,-999.0000,9, -999.00,9, -999.00,9,  -999.0,9,  -999.0,-999.000,9,-999.000,     -999.0,9, -999.00,9, -999.00,9, -999.00,9,     -999.0,9,  -999.0,9, 20130420,     1623,  30.0018, 161.7333,    34.8522,2,     -999.0,9,     -999.0,9,     1.4894,2,     -999.0,9,     -999.0,9,-999.0000, -999.00,-999.000
318M20130321,       P02W,      49,          1,          3,          3,2,20130420,       1546,    30.0017,   161.7337,       5988,  5157.3,   1.5019,  34.6928,2,  34.6924,2,    165.5,2,     166,2,  141.82,2,   34.94,2,       0,2,    2.45,2,-999.000,9,-999.000,9,-999.000,9,-999.0000,9,  2311.9,2, 2406.75,6,   7.5859,2,       25,-999.000,9,-999.0000,9, -999.00,9, -999.00,9,  -999.0,9,  -999.0,-999.000,9,-999.000,     -999.0,9, -999.00,9,    34.7,2, -999.00,9,     -999.0,9,  -999.0,9, 20130420,     1614,   30.002,  161.733,     34.856,2,     -999.0,9,     -999.0,9,     1.5026,2,     -999.0,9,     -999.0,9,-999.0000, -999.00,-999.000
318M20130321,       P02W,      49,          1,          2,          2,2,20130420,       1546,    30.0017,   161.7337,       5988,    5617,   1.5316,  34.6951,2,  34.6952,2,    170.8,2,   171.5,2,  137.72,2,   34.58,2,       0,2,    2.42,2,   0.007,2,   0.010,2,   0.000,2,        0,2,  2306.3,2, 2402.45,2,   7.5906,6,       25,-999.000,9,-999.0000,9, -999.00,9, -999.00,9,  -999.0,9,  -999.0,-999.000,9,-999.000,     -999.0,9, -999.00,9,   35.92,2, -999.00,9,     -999.0,9,  -999.0,9, 20130420,     1604,  30.0017, 161.7338,    34.8588,2,     -999.0,9,     -999.0,9,     1.5317,2,     -999.0,9,     -999.0,9,-999.0000, -999.00,-999.000
318M20130321,       P02W,      49,          1,          1,          1,2,20130420,       1546,    30.0017,   161.7337,       5988,  6096.8,   1.5789,  34.6961,2,   34.696,2,    174.9,2,   174.7,2,  136.16,2,   34.45,2,       0,2,    2.41,2,   0.008,2,   0.010,2,   0.001,2,        0,2,  2305.3,6, 2402.05,2,   7.5924,2,       25,-999.000,9,-999.0000,9, -999.00,9, -999.00,9,  -999.0,9,  -999.0,-999.000,9,-999.000,     -999.0,9, -999.00,9,   36.15,2, -999.00,9,     -999.0,9,  -999.0,9, 20130420,     1546,  30.0017, 161.7337,    34.8596,2,     -999.0,9,     -999.0,9,     1.5792,2,     -999.0,9,     -999.0,9,-999.0000, -999.00,-999.000