BOTTLE,20220817CCHSIOAMB
EXPOCODE,SECT_ID,STNNBR,CASTNO,SAMPNO,BTLNBR,BTLNBR_FLAG_W,DATE,TIME,LATITUDE,LONGITUDE,DEPTH,CTDPRS,CTDTMP,CTDSAL,CTDSAL_FLAG_W,SALNTY,SALNTY_FLAG_W,CTDOXY,CTDOXY_FLAG_W,OXYGEN,OXYGEN_FLAG_W,SILCAT,SILCAT_FLAG_W,NITRAT,NITRAT_FLAG_W,NITRIT,NITRIT_FLAG_W,PHSPHT,PHSPHT_FLAG_W,CFC-11,CFC-11_FLAG_W,CFC-12,CFC-12_FLAG_W,CFC113,CFC113_FLAG_W,SF6,SF6_FLAG_W,TCARBN,TCARBN_FLAG_W,ALKALI,ALKALI_FLAG_W,PH_TOT,PH_TOT_FLAG_W,PH_TMP,TRITUM,TRITUM_FLAG_W,HELIUM,HELIUM_FLAG_W,DELHE3,DELHE3_FLAG_W,DELC13,DELC13_FLAG_W,DELC14,DELC14_FLAG_W,C14ERR,NEON,NEON_FLAG_W,NEONER,I-129,I-129_FLAG_W,SR-90,SR-90_FLAG_W,DOC,DOC_FLAG_W,TDN,TDN_FLAG_W,CALCIUM,CALCIUM_FLAG_W,D15N_NO3,D15N_NO3_FLAG_W,BTL_DATE,BTL_TIME,BTL_LAT,BTL_LON,SALTREF,SALTREF_FLAG_W,CS-137,CS-137_FLAG_W,CS-134,CS-134_FLAG_W,REFTMP,REFTMP_FLAG_W,LAB_DEN,LAB_DEN_FLAG_W,D18O_NO3,D18O_NO3_FLAG_W,HELIER,DELHER,TRITER
,,,,,,,,,,,METERS,DBAR,ITS-90,PSS-78,,PSS-78,,UMOL/KG,,UMOL/KG,,UMOL/KG,,UMOL/KG,,UMOL/KG,,UMOL/KG,,PMOL/KG,,PMOL/KG,,PMOL/KG,,FMOL/KG,,UMOL/KG,,UMOL/KG,,,,DEG C,TU,,NMOL/KG,,PERCNT,,/MILLE,,/MILLE,,/MILLE,NMOL/KG,,NMOL/KG,BQ/M^3,,DM/.1MG,,UMOL/KG,,UMOL/KG,,MMOL/KG,,/MILLE,,,,,,G/KG,,BQ/M^3,,BQ/M^3,,ITS-90,,,,/MILLE,,NMOL/KG,PERCNT,TU
318M20130321,       P02W,      42,          1,          7,          7,2,20130417,       2339,    30.0002,   155.8748,       5797,  3781.8,   1.4673,  34.6806,2,  34.6798,2,    147.1,2,   146.7,2,  152.66,2,   36.24,2,       0,2,    2.55,2,-999.000,9,-999.000,9,-999.000,9,-999.0000,9,  -999.0,9, -999.00,9,-999.0000,9,  -999.00,-999.000,9,-999.0000,9, -999.00,9, -999.00,9,  -999.0,9,  -999.0,-999.000,9,-999.000,     -999.0,9, -999.00,9, -999.00,9, -999.00,9,     -999.0,9,  -999.0,9, 20130418,       27,       30, 155.8747,    34.8433,2,     -999.0,9,     -999.0,9,     1.4673,2,     -999.0,9,     -999.0,9,-999.0000, -999.00,-999.000
318M20130321,       P02W,      42,          1,          6,          6,2,20130417,       2339,    30.0002,   155.8748,       5797,  4198.4,   1.4609,  34.6858,2,  34.6855,2,    153.7,2,   153.7,2,  149.05,2,   35.75,2,       0,2,    2.51,2,   0.013,2,   0.015,2,   0.006,2,     0.03,2,  -999.0,9, -999.00,9,-999.0000,9,  -999.00,-999.000,9,-999.0000,9, -999.00,9, -999.00,9,  -999.0,9,  -999.0,-999.000,9,-999.000,     -999.0,9, -999.00,9, -999.00,9, -999.00,9,     -999.0,9,  -999.0,9, 20130418,       19,  29.9999, 155.8747,    34.8491,2,     -999.0,9,     -999.0,9,     1.4612,2,     -999.0,9,     -999.0,9,-999.0000, -999.00,-999.000
318M20130321,       P02W,      42,          1,          5,         37,2,20130417,       2339,    30.0002,   155.8748,       5797,    4610,   1.4686,  34.6896,2,  34.6898,2,    159.5,2,   159.4,2,   146.7,2,   35.38,2,       0,2,    2.48,2,-999.000,9,-999.000,9,-999.000,9,-999.0000,9,    2316,2, 2411.86,6,   7.5778,2,       25,-999.000,9,-999.0000,9, -999.00,9, -999.00,9,  -999.0,9,  -999.0,-999.000,9,-999.000,     -999.0,9, -999.00,9, -999.00,9, -999.00,9,     -999.0,9,  -999.0,9, 20130418,       11,       30, 155.8748,    34.8534,2,     -999.0,9,     -999.0,9,     1.4691,2,     -999.0,9,     -999.0,9,-999.0000, -999.00,-999.000
318M20130321,       P02W,      42,          1,          4,          4,2,20130417,       2339,    30.0002,   155.8748,       5797,  5020.3,   1.4874,  34.6926,2,   34.692,2,    164.9,2,     165,2,  142.02,2,   34.98,2,       0,2,    2.44,2,   0.012,2,   0.014,2,   0.002,2,     0.06,2,  -999.0,9, -999.00,9,-999.0000,9,  -999.00,-999.000,9,-999.0000,9, -999.00,9, -999.00,9,  -999.0,9,  -999.0,-999.000,9,-999.000,     -999.0,9, -999.00,9, -999.00,9, -999.00,9,     -999.0,9,  -999.0,9, 20130418,        3,  29.9999, 155.8752,    34.8556,2,     -999.0,9,     -999.0,9,     1.4879,2,     -999.0,9,     -999.0,9,-999.0000, -999.00,-999.000
318M20130321,       P02W,      42,          1,          3,          3,2,20130417,       2339,    30.0002,   155.8748,       5797,  5433.2,   1.5165,  34.6946,2,   34.695,2,    168.2,2,   169.4,2,   138.7,2,   34.63,2,       0,2,    2.42,2,-999.000,9,-999.000,9,-999.000,9,-999.0000,9,  2305.6,6, 2403.95,2,   7.5892,2,       25,-999.000,9,-999.0000,9, -999.00,9, -999.00,9,  -999.0,9,  -999.0,-999.000,9,-999.000,     -999.0,9, -999.00,9, -999.00,9, -999.00,9,     -999.0,9,  -999.0,9, 20130417,     2355,       30, 155.8745,    34.8586,2,     -999.0,9,     -999.0,9,     1.5166,2,     -999.0,9,     -999.0,9,-999.0000, -999.00,-999.000
318M20130321,       P02W,      42,          1,          2,          2,2,20130417,       2339,    30.0002,   155.8748,       5797,  5666.5,   1.5395,  34.6951,2,  34.6944,3,    170.7,2,   170.7,2,  137.72,2,   34.58,2,       0,2,     2.4,2,   0.022,2,   0.016,2,  -0.001,2,      0.1,2,  2303.9,2, 2404.05,2,   7.5904,6,       25,-999.000,9,-999.0000,9, -999.00,9, -999.00,9,  -999.0,9,  -999.0,-999.000,9,-999.000,     -999.0,9, -999.00,9, -999.00,9, -999.00,9,     -999.0,9,  -999.0,9, 20130417,     2350,  29.9999, 155.8748,     34.858,3,     -999.0,9,     -999.0,9,     1.5397,2,     -999.0,9,     -999.0,9,-999.0000, -999.00,-999.000
318M20130321,       P02W,      42,          1,          1,          1,2,20130417,       2339,    30.0002,   155.8748,       5797,  5893.6,    1.558,  34.6956,2,   34.696,2,    172.4,2,   171.6,2,  137.14,2,   34.52,2,       0,2,     2.4,2,   0.014,2,   0.014,2,  -0.002,2,     0.03,2,  2304.9,2, 2403.65,2,   7.5924,2,       25,-999.000,9,-999.0000,9, -999.00,9, -999.00,9,  -999.0,9,  -999.0,-999.000,9,-999.000,     -999.0,9, -999.00,9, -999.00,9, -999.00,9,     -999.0,9,  -999.0,9, 20130417,     2341,  30.0001, 155.8748,    34.8596,2,     -999.0,9,     -999.0,9,     1.5581,2,     -999.0,9,     -999.0,9,-999.0000, -999.00,-999.000