BOTTLE,20220817CCHSIOAMB
EXPOCODE,SECT_ID,STNNBR,CASTNO,SAMPNO,BTLNBR,BTLNBR_FLAG_W,DATE,TIME,LATITUDE,LONGITUDE,DEPTH,CTDPRS,CTDTMP,CTDSAL,CTDSAL_FLAG_W,SALNTY,SALNTY_FLAG_W,CTDOXY,CTDOXY_FLAG_W,OXYGEN,OXYGEN_FLAG_W,SILCAT,SILCAT_FLAG_W,NITRAT,NITRAT_FLAG_W,NITRIT,NITRIT_FLAG_W,PHSPHT,PHSPHT_FLAG_W,CFC-11,CFC-11_FLAG_W,CFC-12,CFC-12_FLAG_W,CFC113,CFC113_FLAG_W,SF6,SF6_FLAG_W,TCARBN,TCARBN_FLAG_W,ALKALI,ALKALI_FLAG_W,PH_TOT,PH_TOT_FLAG_W,PH_TMP,TRITUM,TRITUM_FLAG_W,HELIUM,HELIUM_FLAG_W,DELHE3,DELHE3_FLAG_W,DELC13,DELC13_FLAG_W,DELC14,DELC14_FLAG_W,C14ERR,NEON,NEON_FLAG_W,NEONER,I-129,I-129_FLAG_W,SR-90,SR-90_FLAG_W,DOC,DOC_FLAG_W,TDN,TDN_FLAG_W,CALCIUM,CALCIUM_FLAG_W,D15N_NO3,D15N_NO3_FLAG_W,BTL_DATE,BTL_TIME,BTL_LAT,BTL_LON,SALTREF,SALTREF_FLAG_W,CS-137,CS-137_FLAG_W,CS-134,CS-134_FLAG_W,REFTMP,REFTMP_FLAG_W,LAB_DEN,LAB_DEN_FLAG_W,D18O_NO3,D18O_NO3_FLAG_W,HELIER,DELHER,TRITER
,,,,,,,,,,,METERS,DBAR,ITS-90,PSS-78,,PSS-78,,UMOL/KG,,UMOL/KG,,UMOL/KG,,UMOL/KG,,UMOL/KG,,UMOL/KG,,PMOL/KG,,PMOL/KG,,PMOL/KG,,FMOL/KG,,UMOL/KG,,UMOL/KG,,,,DEG C,TU,,NMOL/KG,,PERCNT,,/MILLE,,/MILLE,,/MILLE,NMOL/KG,,NMOL/KG,BQ/M^3,,DM/.1MG,,UMOL/KG,,UMOL/KG,,MMOL/KG,,/MILLE,,,,,,G/KG,,BQ/M^3,,BQ/M^3,,ITS-90,,,,/MILLE,,NMOL/KG,PERCNT,TU
318M20130321,       P02E,     128,          2,         36,         36,2,20130525,       0314,    29.9998,  -133.3647,       4852,     2.8,  17.6551,  33.9553,2,  33.9555,2,    243.3,2,   243.5,2,    2.44,2,       0,2,       0,2,    0.17,2,   2.281,2,   1.386,2,-999.000,1,   1.5213,2,  2024.7,2,  2254.4,2,   7.9351,2,       25,-999.000,9,-999.0000,9, -999.00,9, -999.00,9,  -999.0,9,  -999.0,-999.000,9,-999.000,     -999.0,1, -999.00,1, -999.00,9, -999.00,9,     -999.0,9,  -999.0,9, 20130525,      512,  30.0003,-133.3641,    34.1156,2,     -999.0,1,     -999.0,1,    17.6552,2,     -999.0,9,     -999.0,9,-999.0000, -999.00,-999.000
318M20130321,       P02E,     128,          2,         34,         34,2,20130525,       0314,    29.9998,  -133.3647,       4852,    19.8,  17.6532,  33.9552,2,  33.9553,2,    244.7,2,   243.6,2,    2.34,2,       0,2,    0.01,2,    0.15,2,   2.306,2,   1.384,2,-999.000,1,   1.5894,2,  2023.7,2,  2254.3,2,   7.9353,6,       25,-999.000,9,-999.0000,9, -999.00,9, -999.00,9,  -999.0,9,  -999.0,-999.000,9,-999.000,     -999.0,9, -999.00,1, -999.00,9, -999.00,9,     -999.0,9,  -999.0,9, 20130525,      511,  30.0001,-133.3641,    34.1154,2,     -999.0,1,     -999.0,1,    17.6531,2,     -999.0,9,     -999.0,9,-999.0000, -999.00,-999.000
318M20130321,       P02E,     128,          2,         33,         33,2,20130525,       0314,    29.9998,  -133.3647,       4852,    40.6,  17.1333,   33.938,2,  33.9424,2,    247.4,2,   247.9,2,    2.34,2,       0,2,    0.01,2,    0.15,2,   2.357,2,   1.412,2,-999.000,1,   1.6298,2,  -999.0,9, -999.00,9,-999.0000,9,  -999.00,-999.000,9,-999.0000,9, -999.00,9, -999.00,9,  -999.0,9,  -999.0,-999.000,9,-999.000,     -999.0,9, -999.00,1, -999.00,9, -999.00,9,     -999.0,9,  -999.0,9, 20130525,      509,  29.9999,-133.3642,    34.1025,2,     -999.0,1,     -999.0,1,    17.1885,3,     -999.0,9,     -999.0,9,-999.0000, -999.00,-999.000
318M20130321,       P02E,     128,          2,         32,         32,2,20130525,       0314,    29.9998,  -133.3647,       4852,    66.9,  16.9034,  34.0976,2,  34.0956,2,    249.2,2,   247.5,2,    2.34,2,       0,2,       0,2,    0.13,2,   2.351,2,   1.413,2,-999.000,1,   1.5716,2,  2022.5,2,  2259.2,2,   7.9443,2,       25,-999.000,9,-999.0000,9, -999.00,9, -999.00,9,  -999.0,9,  -999.0,-999.000,9,-999.000,     -999.0,9, -999.00,1, -999.00,9, -999.00,9,     -999.0,9,  -999.0,9, 20130525,      507,  29.9998,-133.3643,    34.2564,2,     -999.0,1,     -999.0,1,    16.9016,2,     -999.0,9,     -999.0,9,-999.0000, -999.00,-999.000
318M20130321,       P02E,     128,          2,         31,         31,2,20130525,       0314,    29.9998,  -133.3647,       4852,    89.6,  16.6682,  34.1361,2,   34.135,2,    244.8,2,   245.3,2,    2.34,2,       0,2,       0,2,    0.13,2,   2.368,2,   1.417,2,-999.000,1,   1.3639,2,  -999.0,9, -999.00,9,-999.0000,9,  -999.00,-999.000,9,-999.0000,9, -999.00,9, -999.00,9,  -999.0,9,  -999.0,-999.000,9,-999.000,     -999.0,9, -999.00,1, -999.00,9, -999.00,9,     -999.0,9,  -999.0,9, 20130525,      506,  29.9997,-133.3643,     34.296,2,     -999.0,1,     -999.0,1,    16.6755,2,     -999.0,9,     -999.0,9,-999.0000, -999.00,-999.000
318M20130321,       P02E,     128,          2,         30,         30,2,20130525,       0314,    29.9998,  -133.3647,       4852,   135.8,  16.1958,  34.2388,2,  34.2464,2,    236.5,2,   234.9,2,    2.73,2,    0.42,2,    0.12,2,    0.19,2,   2.421,2,   1.440,2,-999.000,1,   1.5481,2,  2039.5,2,  2263.5,2,   7.9222,2,       25,-999.000,9,-999.0000,9, -999.00,9, -999.00,9,  -999.0,9,  -999.0,-999.000,9,-999.000,     -999.0,9, -999.00,1, -999.00,9, -999.00,9,     -999.0,9,  -999.0,9, 20130525,      503,  29.9997,-133.3645,    34.4079,2,     -999.0,1,     -999.0,1,    16.1965,2,     -999.0,9,     -999.0,9,-999.0000, -999.00,-999.000
318M20130321,       P02E,     128,          2,         29,         29,2,20130525,       0314,    29.9998,  -133.3647,       4852,   184.8,  12.0779,  33.6904,2,  33.6905,2,    224.5,2,   225.5,2,    6.35,2,    6.19,2,    0.02,2,     0.6,2,   2.994,2,   1.726,2,-999.000,1,   1.4097,2,  2060.8,2, 2229.09,2,    7.808,2,       25,-999.000,9,-999.0000,9, -999.00,9, -999.00,9,  -999.0,9,  -999.0,-999.000,9,-999.000,     -999.0,9, -999.00,1, -999.00,9, -999.00,9,     -999.0,9,  -999.0,9, 20130525,      502,       30,-133.3644,    33.8494,2,     -999.0,1,     -999.0,1,    12.0782,2,     -999.0,9,     -999.0,9,-999.0000, -999.00,-999.000
318M20130321,       P02E,     128,          2,         27,         27,2,20130525,       0314,    29.9998,  -133.3647,       4852,   235.6,   9.6674,  33.8122,2,  33.8109,2,      207,2,   206.4,2,   16.02,2,   15.48,2,    0.01,2,    1.16,2,   3.309,2,   1.850,2,-999.000,1,   1.3677,2,  2110.4,2, 2237.79,2,   7.7005,2,       25,-999.000,9,-999.0000,9, -999.00,9, -999.00,9,  -999.0,9,  -999.0,-999.000,9,-999.000,     -999.0,9, -999.00,1, -999.00,9, -999.00,9,     -999.0,9,  -999.0,9, 20130525,      500,  30.0002,-133.3642,    33.9703,2,     -999.0,1,     -999.0,1,     9.6745,2,     -999.0,9,     -999.0,9,-999.0000, -999.00,-999.000
318M20130321,       P02E,     128,          2,         26,         26,2,20130525,       0314,    29.9998,  -133.3647,       4852,   286.8,   8.9779,  33.9906,2,  33.9912,2,    192.9,2,   192.7,2,   23.14,2,   19.18,2,    0.01,2,    1.37,2,   3.271,2,   1.792,2,-999.000,1,   1.1924,2,  -999.0,9, -999.00,9,-999.0000,9,  -999.00,-999.000,9,-999.0000,9, -999.00,9, -999.00,9,  -999.0,9,  -999.0,-999.000,9,-999.000,     -999.0,9, -999.00,1, -999.00,9, -999.00,9,     -999.0,9,  -999.0,9, 20130525,      458,  30.0002,-133.3643,    34.1515,2,     -999.0,1,     -999.0,1,     8.9772,2,     -999.0,9,     -999.0,9,-999.0000, -999.00,-999.000
318M20130321,       P02E,     128,          2,         25,         25,2,20130525,       0314,    29.9998,  -133.3647,       4852,   337.2,   8.1083,  33.9777,2,  33.9773,2,    151.7,2,   152.5,2,   32.91,2,   24.81,2,    0.01,2,    1.79,2,   3.074,2,   1.641,2,-999.000,1,   1.1028,2,  2177.2,2,  2259.3,2,   7.5694,2,       25,-999.000,9,-999.0000,9, -999.00,9, -999.00,9,  -999.0,9,  -999.0,-999.000,9,-999.000,     -999.0,9, -999.00,1, -999.00,9, -999.00,9,     -999.0,9,  -999.0,9, 20130525,      456,  30.0002,-133.3642,    34.1375,2,     -999.0,1,     -999.0,1,     8.1154,2,     -999.0,9,     -999.0,9,-999.0000, -999.00,-999.000
318M20130321,       P02E,     128,          2,         24,         24,2,20130525,       0314,    29.9998,  -133.3647,       4852,   388.8,   7.1365,  33.9932,2,  33.9922,2,    113.9,2,     110,2,    45.8,2,   30.56,2,    0.01,2,    2.21,2,   2.616,2,   1.348,2,-999.000,1,   0.7712,2,  -999.0,9, -999.00,9,-999.0000,9,  -999.00,-999.000,9,-999.0000,9, -999.00,9, -999.00,9,  -999.0,9,  -999.0,-999.000,9,-999.000,     -999.0,9, -999.00,1, -999.00,9, -999.00,9,     -999.0,9,  -999.0,9, 20130525,      454,  30.0002,-133.3641,    34.1525,2,     -999.0,1,     -999.0,1,     7.1396,2,     -999.0,9,     -999.0,9,-999.0000, -999.00,-999.000
318M20130321,       P02E,     128,          2,         23,         23,2,20130525,       0314,    29.9998,  -133.3647,       4852,   468.9,   6.1008,  34.0311,2,  34.0328,2,     67.8,2,    67.8,2,   62.99,2,   36.26,2,    0.01,2,    2.63,2,   1.795,2,   0.881,2,-999.000,1,   0.4106,2,  2266.8,2, 2284.91,2,    7.369,2,       25,-999.000,9,-999.0000,9, -999.00,9, -999.00,9,  -999.0,9,  -999.0,-999.000,9,-999.000,     -999.0,9, -999.00,1, -999.00,9, -999.00,9,     -999.0,9,  -999.0,9, 20130525,      451,  30.0002, -133.364,    34.1932,2,     -999.0,1,     -999.0,1,     6.1022,2,     -999.0,9,     -999.0,9,-999.0000, -999.00,-999.000
318M20130321,       P02E,     128,          2,         22,         22,2,20130525,       0314,    29.9998,  -133.3647,       4852,   567.8,   5.4895,  34.1568,2,  34.2612,3,     35.9,2,    29.5,2,   79.68,2,   39.99,2,       0,2,    2.97,2,   0.729,2,   0.348,2,-999.000,1,   0.0922,2,    2309,2, 2308.02,2,   7.3067,2,       25,-999.000,9,-999.0000,9, -999.00,9, -999.00,9,  -999.0,9,  -999.0,-999.000,9,-999.000,     -999.0,9, -999.00,9, -999.00,9, -999.00,9,     -999.0,9,  -999.0,9, 20130525,      449,  30.0002,-133.3639,    34.4227,3,     -999.0,9,     -999.0,9,     5.4901,2,     -999.0,9,     -999.0,9,-999.0000, -999.00,-999.000
318M20130321,       P02E,     128,          2,         21,         21,2,20130525,       0314,    29.9998,  -133.3647,       4852,   668.1,   4.8703,  34.2396,2,  34.2415,2,     16.4,2,    16.1,2,   94.71,2,   42.01,2,       0,2,    3.13,2,   0.229,2,   0.112,2,-999.000,1,        0,2,    2332,2, 2326.93,2,   7.2906,2,       25,-999.000,9,-999.0000,9, -999.00,9, -999.00,9,  -999.0,9,  -999.0,-999.000,9,-999.000,     -999.0,9, -999.00,9, -999.00,9, -999.00,9,     -999.0,9,  -999.0,9, 20130525,      446,  30.0002,-133.3643,     34.403,2,     -999.0,9,     -999.0,9,     4.8711,2,     -999.0,9,     -999.0,9,-999.0000, -999.00,-999.000
318M20130321,       P02E,     128,          2,         20,         20,2,20130525,       0314,    29.9998,  -133.3647,       4852,   770.1,   4.3934,  34.3155,2,  34.3133,2,     13.9,2,    13.3,2,  106.81,2,   43.05,2,       0,2,    3.17,2,   0.061,2,   0.032,2,-999.000,1,        0,2,  2347.4,2, 2342.93,2,   7.2928,6,       25,-999.000,9,-999.0000,9, -999.00,9, -999.00,9,  -999.0,9,  -999.0,-999.000,9,-999.000,     -999.0,9, -999.00,9, -999.00,9, -999.00,9,     -999.0,9,  -999.0,9, 20130525,      443,  29.9999,-133.3648,    34.4751,2,     -999.0,9,     -999.0,9,     4.3942,2,     -999.0,9,     -999.0,9,-999.0000, -999.00,-999.000
318M20130321,       P02E,     128,          2,         19,         19,2,20130525,       0314,    29.9998,  -133.3647,       4852,   870.8,   4.0754,  34.3875,2,  34.3893,2,     17.8,2,    17.7,2,  114.62,2,   43.36,2,       0,2,    3.18,2,   0.022,2,   0.014,2,-999.000,1,        0,2,  2358.4,2, 2356.14,6,   7.3102,2,       25,-999.000,9,-999.0000,9, -999.00,9, -999.00,9,  -999.0,9,  -999.0,-999.000,9,-999.000,     -999.0,9, -999.00,9, -999.00,9, -999.00,9,     -999.0,9,  -999.0,9, 20130525,      440,  29.9998,-133.3651,    34.5515,2,     -999.0,9,     -999.0,9,     4.0749,2,     -999.0,9,     -999.0,9,-999.0000, -999.00,-999.000
318M20130321,       P02E,     128,          2,         18,         18,2,20130525,       0314,    29.9998,  -133.3647,       4852,   972.6,   3.8029,  34.4424,2,  34.4429,2,     24.7,2,    24.8,2,  120.47,2,    43.3,2,       0,2,    3.16,2,   0.016,2,   0.014,2,-999.000,1,        0,2,  2360.6,2, 2366.84,2,   7.3301,2,       25,-999.000,9,-999.0000,9, -999.00,9, -999.00,9,  -999.0,9,  -999.0,-999.000,9,-999.000,     -999.0,9, -999.00,9, -999.00,9, -999.00,9,     -999.0,9,  -999.0,9, 20130525,      437,  29.9999,-133.3648,    34.6053,2,     -999.0,9,     -999.0,9,     3.8006,2,     -999.0,9,     -999.0,9,-999.0000, -999.00,-999.000
318M20130321,       P02E,     128,          2,         17,         17,2,20130525,       0314,    29.9998,  -133.3647,       4852,  1072.4,   3.5895,  34.4781,2,  34.4794,2,     32.5,2,    31.9,2,  124.17,2,   43.08,2,       0,2,    3.12,2,   0.009,6,   0.007,6,-999.000,1,        0,6,  -999.0,9, -999.00,9,-999.0000,9,  -999.00,-999.000,9,-999.0000,9, -999.00,9, -999.00,9,  -999.0,9,  -999.0,-999.000,9,-999.000,     -999.0,9, -999.00,9, -999.00,9, -999.00,9,     -999.0,9,  -999.0,9, 20130525,      435,  30.0002,-133.3645,     34.642,2,     -999.0,9,     -999.0,9,     3.5896,2,     -999.0,9,     -999.0,9,-999.0000, -999.00,-999.000
318M20130321,       P02E,     128,          2,         16,         16,2,20130525,       0314,    29.9998,  -133.3647,       4852,  1175.3,   3.3809,  34.5062,2,  34.5063,2,     38.8,2,    39.4,2,  129.05,2,   42.88,2,       0,2,     3.1,2,   0.007,2,   0.006,2,-999.000,1,        0,2,  2365.8,2, 2381.45,2,   7.3616,6,       25,-999.000,9,-999.0000,9, -999.00,9, -999.00,9,  -999.0,9,  -999.0,-999.000,9,-999.000,     -999.0,9, -999.00,9, -999.00,9, -999.00,9,     -999.0,9,  -999.0,9, 20130525,      432,  29.9999,-133.3647,     34.669,2,     -999.0,9,     -999.0,9,     3.3814,2,     -999.0,9,     -999.0,9,-999.0000, -999.00,-999.000
318M20130321,       P02E,     128,          2,         15,         15,2,20130525,       0314,    29.9998,  -133.3647,       4852,  1276.9,   3.1416,   34.528,2,  34.5275,2,     44.3,2,    44.3,2,  134.81,2,   42.64,2,       0,2,    3.07,2,   0.005,2,   0.007,2,-999.000,1,        0,2,  -999.0,9, -999.00,9,-999.0000,9,  -999.00,-999.000,9,-999.0000,9, -999.00,9, -999.00,9,  -999.0,9,  -999.0,-999.000,9,-999.000,     -999.0,9, -999.00,9, -999.00,9, -999.00,9,     -999.0,9,  -999.0,9, 20130525,      429,  29.9994,-133.3649,    34.6903,2,     -999.0,9,     -999.0,9,     3.1411,2,     -999.0,9,     -999.0,9,-999.0000, -999.00,-999.000
318M20130321,       P02E,     128,          2,         14,         14,2,20130525,       0314,    29.9998,  -133.3647,       4852,  1442.9,   2.8457,  34.5576,2,  34.5578,2,     52.3,2,    55.8,2,  141.93,2,   42.23,2,       0,2,    3.03,2,   0.006,2,   0.005,2,-999.000,1,        0,2,  2366.7,2, 2396.95,2,   7.3907,2,       25,-999.000,9,-999.0000,9, -999.00,9, -999.00,9,  -999.0,9,  -999.0,-999.000,9,-999.000,     -999.0,9, -999.00,9, -999.00,9, -999.00,9,     -999.0,9,  -999.0,9, 20130525,      425,  29.9995,-133.3647,    34.7207,2,     -999.0,9,     -999.0,9,      2.844,2,     -999.0,9,     -999.0,9,-999.0000, -999.00,-999.000
318M20130321,       P02E,     128,          2,         13,         13,2,20130525,       0314,    29.9998,  -133.3647,       4852,  1665.6,    2.521,   34.584,2,  34.5841,2,     62.2,2,    63.4,2,  150.62,2,   41.71,2,       0,2,    2.98,2,   0.003,2,   0.003,2,-999.000,1,        0,2,  2372.1,2, 2404.15,2,    7.409,2,       25,-999.000,9,-999.0000,9, -999.00,9, -999.00,9,  -999.0,9,  -999.0,-999.000,9,-999.000,     -999.0,9, -999.00,9, -999.00,9, -999.00,9,     -999.0,9,  -999.0,9, 20130525,      420,  29.9999,-133.3646,    34.7472,2,     -999.0,9,     -999.0,9,     2.5207,2,     -999.0,9,     -999.0,9,-999.0000, -999.00,-999.000
318M20130321,       P02E,     128,          2,         12,         12,2,20130525,       0314,    29.9998,  -133.3647,       4852,  1919.4,    2.212,  34.6095,2,  34.6091,2,     75.2,2,      76,2,  158.42,2,   40.99,2,       0,2,    2.93,2,   0.003,2,   0.004,2,-999.000,1,        0,2,  2372.3,6, 2414.06,2,   7.4338,2,       25,-999.000,9,-999.0000,9, -999.00,9, -999.00,9,  -999.0,9,  -999.0,-999.000,9,-999.000,     -999.0,9, -999.00,9, -999.00,9, -999.00,9,     -999.0,9,  -999.0,9, 20130525,      415,  29.9999,-133.3646,    34.7722,2,     -999.0,9,     -999.0,9,      2.212,2,     -999.0,9,     -999.0,9,-999.0000, -999.00,-999.000
318M20130321,       P02E,     128,          2,         11,         11,2,20130525,       0314,    29.9998,  -133.3647,       4852,  2188.8,   1.9548,  34.6291,2,  34.6293,2,       87,2,    86.2,2,  165.35,2,   40.24,2,       0,2,    2.86,2,   0.003,2,   0.002,2,-999.000,1,        0,2,  2370.4,2, 2420.46,2,   7.4563,2,       25,-999.000,9,-999.0000,9, -999.00,9, -999.00,9,  -999.0,9,  -999.0,-999.000,9,-999.000,     -999.0,9, -999.00,9, -999.00,9, -999.00,9,     -999.0,9,  -999.0,9, 20130525,      409,  29.9998,-133.3646,    34.7926,2,     -999.0,9,     -999.0,9,     1.9547,2,     -999.0,9,     -999.0,9,-999.0000, -999.00,-999.000
318M20130321,       P02E,     128,          2,         10,         10,2,20130525,       0314,    29.9998,  -133.3647,       4852,    2445,   1.7891,  34.6443,2,  34.6438,2,     97.7,2,    97.5,2,  169.16,2,   39.52,2,       0,2,     2.8,2,   0.005,2,   0.004,2,-999.000,1,        0,2,  -999.0,9, -999.00,9,-999.0000,9,  -999.00,-999.000,9,-999.0000,9, -999.00,9, -999.00,9,  -999.0,9,  -999.0,-999.000,9,-999.000,     -999.0,9, -999.00,9, -999.00,9, -999.00,9,     -999.0,9,  -999.0,9, 20130525,      403,  29.9998,-133.3647,    34.8072,2,     -999.0,9,     -999.0,9,      1.789,2,     -999.0,9,     -999.0,9,-999.0000, -999.00,-999.000
318M20130321,       P02E,     128,          2,          9,          9,2,20130525,       0314,    29.9998,  -133.3647,       4852,  2697.7,   1.6753,  34.6549,2,  34.6548,2,    106.9,2,   106.4,2,  170.13,2,   38.91,2,       0,2,    2.73,2,   0.004,2,   0.005,2,-999.000,1,        0,2,  -999.0,9, -999.00,9,-999.0000,9,  -999.00,-999.000,9,-999.0000,9, -999.00,9, -999.00,9,  -999.0,9,  -999.0,-999.000,9,-999.000,     -999.0,9, -999.00,9, -999.00,9, -999.00,9,     -999.0,9,  -999.0,9, 20130525,      358,  29.9998,-133.3645,    34.8183,2,     -999.0,9,     -999.0,9,     1.6758,2,     -999.0,9,     -999.0,9,-999.0000, -999.00,-999.000
318M20130321,       P02E,     128,          2,          8,          8,2,20130525,       0314,    29.9998,  -133.3647,       4852,  2953.7,   1.5923,  34.6633,2,  34.6625,2,    115.7,2,   115.2,2,  171.01,2,   38.41,2,       0,2,     2.7,2,   0.005,2,   0.004,2,-999.000,1,        0,2,  2356.5,2, 2427.46,2,   7.5119,2,       25,-999.000,9,-999.0000,9, -999.00,9, -999.00,9,  -999.0,9,  -999.0,-999.000,9,-999.000,     -999.0,9, -999.00,9, -999.00,9, -999.00,9,     -999.0,9,  -999.0,9, 20130525,      353,  29.9999,-133.3648,     34.826,2,     -999.0,9,     -999.0,9,      1.592,2,     -999.0,9,     -999.0,9,-999.0000, -999.00,-999.000
318M20130321,       P02E,     128,          2,          7,          7,2,20130525,       0314,    29.9998,  -133.3647,       4852,  3245.8,   1.5128,  34.6732,2,  34.6725,2,    126.2,2,   126.8,2,  169.74,2,   37.72,2,       0,2,    2.63,2,   0.005,2,   0.005,2,-999.000,1,        0,2,  -999.0,9, -999.00,9,-999.0000,9,  -999.00,-999.000,9,-999.0000,9, -999.00,9, -999.00,9,  -999.0,9,  -999.0,-999.000,9,-999.000,     -999.0,9, -999.00,9, -999.00,9, -999.00,9,     -999.0,9,  -999.0,9, 20130525,      347,  29.9999,-133.3648,     34.836,2,     -999.0,9,     -999.0,9,     1.5133,2,     -999.0,9,     -999.0,9,-999.0000, -999.00,-999.000
318M20130321,       P02E,     128,          2,          6,          6,2,20130525,       0314,    29.9998,  -133.3647,       4852,  3547.6,     1.48,  34.6794,2,  34.6786,2,    135.6,2,   135.5,2,  166.81,2,   37.15,2,       0,2,    2.59,2,   0.006,2,   0.006,2,-999.000,1,        0,2,    2343,2, 2427.76,6,   7.5486,2,       25,-999.000,9,-999.0000,9, -999.00,9, -999.00,9,  -999.0,9,  -999.0,-999.000,9,-999.000,     -999.0,9, -999.00,9, -999.00,9, -999.00,9,     -999.0,9,  -999.0,9, 20130525,      341,  29.9998,-133.3644,    34.8422,2,     -999.0,9,     -999.0,9,     1.4802,2,     -999.0,9,     -999.0,9,-999.0000, -999.00,-999.000