BOTTLE,20220817CCHSIOAMB
EXPOCODE,SECT_ID,STNNBR,CASTNO,SAMPNO,BTLNBR,BTLNBR_FLAG_W,DATE,TIME,LATITUDE,LONGITUDE,DEPTH,CTDPRS,CTDTMP,CTDSAL,CTDSAL_FLAG_W,SALNTY,SALNTY_FLAG_W,CTDOXY,CTDOXY_FLAG_W,OXYGEN,OXYGEN_FLAG_W,SILCAT,SILCAT_FLAG_W,NITRAT,NITRAT_FLAG_W,NITRIT,NITRIT_FLAG_W,PHSPHT,PHSPHT_FLAG_W,CFC-11,CFC-11_FLAG_W,CFC-12,CFC-12_FLAG_W,CFC113,CFC113_FLAG_W,SF6,SF6_FLAG_W,TCARBN,TCARBN_FLAG_W,ALKALI,ALKALI_FLAG_W,PH_TOT,PH_TOT_FLAG_W,PH_TMP,TRITUM,TRITUM_FLAG_W,HELIUM,HELIUM_FLAG_W,DELHE3,DELHE3_FLAG_W,DELC13,DELC13_FLAG_W,DELC14,DELC14_FLAG_W,C14ERR,NEON,NEON_FLAG_W,NEONER,I-129,I-129_FLAG_W,SR-90,SR-90_FLAG_W,DOC,DOC_FLAG_W,TDN,TDN_FLAG_W,CALCIUM,CALCIUM_FLAG_W,D15N_NO3,D15N_NO3_FLAG_W,BTL_DATE,BTL_TIME,BTL_LAT,BTL_LON,SALTREF,SALTREF_FLAG_W,CS-137,CS-137_FLAG_W,CS-134,CS-134_FLAG_W,REFTMP,REFTMP_FLAG_W,LAB_DEN,LAB_DEN_FLAG_W,D18O_NO3,D18O_NO3_FLAG_W,HELIER,DELHER,TRITER
,,,,,,,,,,,METERS,DBAR,ITS-90,PSS-78,,PSS-78,,UMOL/KG,,UMOL/KG,,UMOL/KG,,UMOL/KG,,UMOL/KG,,UMOL/KG,,PMOL/KG,,PMOL/KG,,PMOL/KG,,FMOL/KG,,UMOL/KG,,UMOL/KG,,,,DEG C,TU,,NMOL/KG,,PERCNT,,/MILLE,,/MILLE,,/MILLE,NMOL/KG,,NMOL/KG,BQ/M^3,,DM/.1MG,,UMOL/KG,,UMOL/KG,,MMOL/KG,,/MILLE,,,,,,G/KG,,BQ/M^3,,BQ/M^3,,ITS-90,,,,/MILLE,,NMOL/KG,PERCNT,TU
318M20130321,       P02W,      14,          4,          7,          7,2,20130409,       0600,    30.2365,   134.4832,       4557,  3032.2,   1.5338,  34.6715,2,  34.6728,2,    145.4,2,   146.7,2,  142.99,2,   36.26,2,       0,2,    2.55,2,   0.066,2,   0.034,2,   0.026,2,     0.08,2,    2324,2, 2411.86,2,   7.5594,2,       25,-999.000,9,-999.0000,9, -999.00,9, -999.00,9,  -999.0,9,  -999.0,-999.000,9,-999.000,     -999.0,9, -999.00,9, -999.00,9, -999.00,9,     -999.0,9,  -999.0,1, 20130409,      635,  30.2331, 134.4789,    34.8363,2,     -999.0,9,     -999.0,9,     1.5336,2,     -999.0,9,     -999.0,1,-999.0000, -999.00,-999.000
318M20130321,       P02W,      14,          4,          6,          6,4,20130409,       0600,    30.2365,   134.4832,       4557,  3342.5,   1.5057,  34.6778,2,   34.739,4,    150.3,2,   204.7,4,    3.71,4,    4.13,4,       0,4,    0.23,4,-999.000,9,-999.000,9,-999.000,9,-999.0000,9,  -999.0,9, -999.00,9,-999.0000,9,  -999.00,-999.000,9,-999.0000,9, -999.00,9, -999.00,9,  -999.0,9,  -999.0,-999.000,9,-999.000,     -999.0,9, -999.00,9, -999.00,9, -999.00,9,     -999.0,9,  -999.0,9, 20130409,      629,  30.2337, 134.4805,    34.9028,4,     -999.0,9,     -999.0,9,     1.5057,2,     -999.0,9,     -999.0,9,-999.0000, -999.00,-999.000
318M20130321,       P02W,      14,          4,          5,          5,3,20130409,       0600,    30.2365,   134.4832,       4557,  3653.9,   1.5068,  34.6812,2,  34.4057,4,    153.8,2,    61.8,4,  125.03,4,   40.13,4,       0,4,    2.89,4,-999.000,5,-999.000,5,-999.000,5,-999.0000,5,  2336.5,4, 2367.04,4,-999.0000,5,  -999.00,-999.000,9,-999.0000,9, -999.00,9, -999.00,9,  -999.0,9,  -999.0,-999.000,9,-999.000,     -999.0,9, -999.00,9, -999.00,9, -999.00,9,     -999.0,9,  -999.0,1, 20130409,      623,  30.2344, 134.4822,    34.5679,4,     -999.0,9,     -999.0,9,     1.5068,2,     -999.0,9,     -999.0,1,-999.0000, -999.00,-999.000
318M20130321,       P02W,      14,          4,          4,          4,4,20130409,       0600,    30.2365,   134.4832,       4557,  3947.1,   1.5231,  34.6826,2,  34.6679,4,    155.2,2,   142.3,4,  143.68,4,   36.49,4,       0,4,    2.57,4,-999.000,9,-999.000,9,-999.000,9,-999.0000,9,  -999.0,9, -999.00,9,-999.0000,9,  -999.00,-999.000,9,-999.0000,9, -999.00,9, -999.00,9,  -999.0,9,  -999.0,-999.000,9,-999.000,     -999.0,9, -999.00,9, -999.00,9, -999.00,9,     -999.0,9,  -999.0,1, 20130409,      616,  30.2351, 134.4827,    34.8313,4,     -999.0,9,     -999.0,9,     1.5229,2,     -999.0,9,     -999.0,1,-999.0000, -999.00,-999.000
318M20130321,       P02W,      14,          4,          3,          3,2,20130409,       0600,    30.2365,   134.4832,       4557,    4234,   1.5455,  34.6835,2,   34.684,2,    154.2,2,   155.8,2,  141.14,2,   35.68,2,       0,2,     2.5,2,   0.064,2,   0.037,2,   0.069,2,     0.03,2,  2318.5,2, 2411.36,6,    7.575,2,       25,-999.000,9,-999.0000,9, -999.00,9, -999.00,9,  -999.0,9,  -999.0,-999.000,9,-999.000,     -999.0,9, -999.00,9, -999.00,9, -999.00,9,     -999.0,9,  -999.0,1, 20130409,      610,  30.2356,  134.483,    34.8475,2,     -999.0,9,     -999.0,9,     1.5454,2,     -999.0,9,     -999.0,1,-999.0000, -999.00,-999.000
318M20130321,       P02W,      14,          4,          2,          2,2,20130409,       0600,    30.2365,   134.4832,       4557,  4522.1,   1.5748,  34.6838,2,   34.685,2,    156.2,2,   156.3,2,  140.94,2,    35.7,2,       0,2,     2.5,2,-999.000,9,-999.000,9,-999.000,9,-999.0000,9,  2319.9,2, 2410.66,2,   7.5743,6,       25,-999.000,9,-999.0000,9, -999.00,9, -999.00,9,  -999.0,9,  -999.0,-999.000,9,-999.000,     -999.0,9, -999.00,9, -999.00,9, -999.00,9,     -999.0,9,  -999.0,1, 20130409,      603,  30.2363, 134.4832,    34.8485,2,     -999.0,9,     -999.0,9,     1.5744,2,     -999.0,9,     -999.0,1,-999.0000, -999.00,-999.000
318M20130321,       P02W,      14,          4,          1,          1,2,20130409,       0600,    30.2365,   134.4832,       4557,  4630.5,   1.5873,  34.6838,2,  34.6855,2,    156.6,2,   156.3,2,  140.46,2,   35.69,2,       0,2,     2.5,2,-999.000,5,-999.000,5,-999.000,5,-999.0000,5,  2318.9,6, 2410.36,2,   7.5719,2,       25,-999.000,9,-999.0000,9, -999.00,9, -999.00,9,  -999.0,9,  -999.0,-999.000,9,-999.000,     -999.0,9, -999.00,9, -999.00,9, -999.00,9,     -999.0,9,  -999.0,1, 20130409,      600,  30.2366, 134.4832,    34.8491,2,     -999.0,9,     -999.0,9,      1.587,2,     -999.0,9,     -999.0,1,-999.0000, -999.00,-999.000