BOTTLE,20220817CCHSIOAMB
EXPOCODE,SECT_ID,STNNBR,CASTNO,SAMPNO,BTLNBR,BTLNBR_FLAG_W,DATE,TIME,LATITUDE,LONGITUDE,DEPTH,CTDPRS,CTDTMP,CTDSAL,CTDSAL_FLAG_W,SALNTY,SALNTY_FLAG_W,CTDOXY,CTDOXY_FLAG_W,OXYGEN,OXYGEN_FLAG_W,SILCAT,SILCAT_FLAG_W,NITRAT,NITRAT_FLAG_W,NITRIT,NITRIT_FLAG_W,PHSPHT,PHSPHT_FLAG_W,CFC-11,CFC-11_FLAG_W,CFC-12,CFC-12_FLAG_W,CFC113,CFC113_FLAG_W,SF6,SF6_FLAG_W,TCARBN,TCARBN_FLAG_W,ALKALI,ALKALI_FLAG_W,PH_TOT,PH_TOT_FLAG_W,PH_TMP,TRITUM,TRITUM_FLAG_W,HELIUM,HELIUM_FLAG_W,DELHE3,DELHE3_FLAG_W,DELC13,DELC13_FLAG_W,DELC14,DELC14_FLAG_W,C14ERR,NEON,NEON_FLAG_W,NEONER,I-129,I-129_FLAG_W,SR-90,SR-90_FLAG_W,DOC,DOC_FLAG_W,TDN,TDN_FLAG_W,CALCIUM,CALCIUM_FLAG_W,D15N_NO3,D15N_NO3_FLAG_W,BTL_DATE,BTL_TIME,BTL_LAT,BTL_LON,SALTREF,SALTREF_FLAG_W,CS-137,CS-137_FLAG_W,CS-134,CS-134_FLAG_W,REFTMP,REFTMP_FLAG_W,LAB_DEN,LAB_DEN_FLAG_W,D18O_NO3,D18O_NO3_FLAG_W,HELIER,DELHER,TRITER
,,,,,,,,,,,METERS,DBAR,ITS-90,PSS-78,,PSS-78,,UMOL/KG,,UMOL/KG,,UMOL/KG,,UMOL/KG,,UMOL/KG,,UMOL/KG,,PMOL/KG,,PMOL/KG,,PMOL/KG,,FMOL/KG,,UMOL/KG,,UMOL/KG,,,,DEG C,TU,,NMOL/KG,,PERCNT,,/MILLE,,/MILLE,,/MILLE,NMOL/KG,,NMOL/KG,BQ/M^3,,DM/.1MG,,UMOL/KG,,UMOL/KG,,MMOL/KG,,/MILLE,,,,,,G/KG,,BQ/M^3,,BQ/M^3,,ITS-90,,,,/MILLE,,NMOL/KG,PERCNT,TU
318M20130321,       P02E,     100,          1,          6,          6,2,20130516,       1137,    30.0007,  -153.7325,       5520,  4211.3,   1.4796,  34.6858,2,  34.6851,2,    147.7,2,   148.7,2,  154.71,2,   36.09,2,       0,2,    2.54,2,   0.007,2,   0.003,2,-999.000,5,   0.0651,2,  -999.0,9, -999.00,9,-999.0000,9,  -999.00,-999.000,9,-999.0000,9, -999.00,9, -999.00,9,  -999.0,9,  -999.0,-999.000,9,-999.000,     -999.0,9, -999.00,9, -999.00,9, -999.00,9,     -999.0,9,  -999.0,9, 20130516,     1210,       30,-153.7316,    34.8486,2,     -999.0,9,     -999.0,9,     1.4796,2,     -999.0,9,     -999.0,9,-999.0000, -999.00,-999.000
318M20130321,       P02E,     100,          1,          5,         37,2,20130516,       1137,    30.0007,  -153.7325,       5520,  4676.8,   1.4973,  34.6891,2,  34.6882,2,    153.9,2,   154.6,2,   150.7,2,   35.68,2,       0,2,    2.51,2,   0.005,2,   0.004,2,-999.000,5,        0,2,  2324.7,2, 2420.26,2,   7.5781,6,       25,-999.000,9,-999.0000,9, -999.00,9, -999.00,9,  -999.0,9,  -999.0,-999.000,9,-999.000,     -999.0,9, -999.00,9, -999.00,9, -999.00,9,     -999.0,9,  -999.0,9, 20130516,     1200,  29.9999,-153.7314,    34.8518,2,     -999.0,9,     -999.0,9,      1.497,2,     -999.0,9,     -999.0,9,-999.0000, -999.00,-999.000
318M20130321,       P02E,     100,          1,          4,          4,2,20130516,       1137,    30.0007,  -153.7325,       5520,  5035.4,   1.5224,  34.6908,2,  34.6896,2,    157.7,2,   158.1,2,  147.58,2,   35.38,2,       0,2,    2.49,2,   0.004,2,   0.002,2,-999.000,5,        0,2,  -999.0,9, -999.00,9,-999.0000,9,  -999.00,-999.000,9,-999.0000,9, -999.00,9, -999.00,9,  -999.0,9,  -999.0,-999.000,9,-999.000,     -999.0,9, -999.00,9, -999.00,9, -999.00,9,     -999.0,9,  -999.0,9, 20130516,     1152,  30.0001,-153.7314,    34.8532,2,     -999.0,9,     -999.0,9,     1.5225,2,     -999.0,9,     -999.0,9,-999.0000, -999.00,-999.000
318M20130321,       P02E,     100,          1,          3,          3,2,20130516,       1137,    30.0007,  -153.7325,       5520,    5399,   1.5605,  34.6915,2,  34.6904,2,    161.3,2,   159.9,2,  146.31,2,    35.3,2,       0,2,    2.49,2,   0.005,6,   0.003,6,-999.000,5,        0,6,  2319.5,2, 2416.06,6,   7.5841,2,       25,-999.000,9,-999.0000,9, -999.00,9, -999.00,9,  -999.0,9,  -999.0,-999.000,9,-999.000,     -999.0,9, -999.00,9, -999.00,9, -999.00,9,     -999.0,9,  -999.0,9, 20130516,     1144,  30.0004,-153.7319,     34.854,2,     -999.0,9,     -999.0,9,     1.5605,2,     -999.0,9,     -999.0,9,-999.0000, -999.00,-999.000
318M20130321,       P02E,     100,          1,          2,          2,2,20130516,       1137,    30.0007,  -153.7325,       5520,  5625.4,   1.5899,  34.6913,2,  34.6906,2,      161,2,   160.5,2,  146.41,2,   35.31,2,       0,2,    2.48,2,   0.006,2,   0.004,2,-999.000,5,        0,2,  2320.2,6, 2417.06,2,    7.584,2,       25,-999.000,9,-999.0000,9, -999.00,9, -999.00,9,  -999.0,9,  -999.0,-999.000,9,-999.000,     -999.0,9, -999.00,9, -999.00,9, -999.00,9,     -999.0,9,  -999.0,9, 20130516,     1137,  30.0007,-153.7325,    34.8542,2,     -999.0,9,     -999.0,9,     1.5904,2,     -999.0,9,     -999.0,9,-999.0000, -999.00,-999.000