BOTTLE,20220817CCHSIOAMB
EXPOCODE,SECT_ID,STNNBR,CASTNO,SAMPNO,BTLNBR,BTLNBR_FLAG_W,DATE,TIME,LATITUDE,LONGITUDE,DEPTH,CTDPRS,CTDTMP,CTDSAL,CTDSAL_FLAG_W,SALNTY,SALNTY_FLAG_W,CTDOXY,CTDOXY_FLAG_W,OXYGEN,OXYGEN_FLAG_W,SILCAT,SILCAT_FLAG_W,NITRAT,NITRAT_FLAG_W,NITRIT,NITRIT_FLAG_W,PHSPHT,PHSPHT_FLAG_W,CFC-11,CFC-11_FLAG_W,CFC-12,CFC-12_FLAG_W,CFC113,CFC113_FLAG_W,SF6,SF6_FLAG_W,TCARBN,TCARBN_FLAG_W,ALKALI,ALKALI_FLAG_W,PH_TOT,PH_TOT_FLAG_W,PH_TMP,TRITUM,TRITUM_FLAG_W,HELIUM,HELIUM_FLAG_W,DELHE3,DELHE3_FLAG_W,DELC13,DELC13_FLAG_W,DELC14,DELC14_FLAG_W,C14ERR,NEON,NEON_FLAG_W,NEONER,I-129,I-129_FLAG_W,SR-90,SR-90_FLAG_W,DOC,DOC_FLAG_W,TDN,TDN_FLAG_W,CALCIUM,CALCIUM_FLAG_W,D15N_NO3,D15N_NO3_FLAG_W,BTL_DATE,BTL_TIME,BTL_LAT,BTL_LON,SALTREF,SALTREF_FLAG_W,CS-137,CS-137_FLAG_W,CS-134,CS-134_FLAG_W,REFTMP,REFTMP_FLAG_W,LAB_DEN,LAB_DEN_FLAG_W,D18O_NO3,D18O_NO3_FLAG_W,HELIER,DELHER,TRITER
,,,,,,,,,,,METERS,DBAR,ITS-90,PSS-78,,PSS-78,,UMOL/KG,,UMOL/KG,,UMOL/KG,,UMOL/KG,,UMOL/KG,,UMOL/KG,,PMOL/KG,,PMOL/KG,,PMOL/KG,,FMOL/KG,,UMOL/KG,,UMOL/KG,,,,DEG C,TU,,NMOL/KG,,PERCNT,,/MILLE,,/MILLE,,/MILLE,NMOL/KG,,NMOL/KG,BQ/M^3,,DM/.1MG,,UMOL/KG,,UMOL/KG,,MMOL/KG,,/MILLE,,,,,,G/KG,,BQ/M^3,,BQ/M^3,,ITS-90,,,,/MILLE,,NMOL/KG,PERCNT,TU
318M20130321,       P02W,      68,          1,          7,          7,2,20130426,       1954,    30.0006,   175.8931,       5310,  3448.1,   1.4666,  34.6765,2,  34.6754,2,    139.1,2,   139.9,2,  155.68,2,   36.96,2,       0,2,    2.62,2,-999.000,9,-999.000,9,-999.000,9,-999.0000,9,  2334.6,2, 2417.86,6,   7.5514,2,       25,-999.000,9,-999.0000,9, -999.00,9, -999.00,9,  -999.0,9,  -999.0,-999.000,9,-999.000,     -999.0,9, -999.00,9, -999.00,9, -999.00,9,     -999.0,9,  -999.0,9, 20130426,     2032,  30.0001, 175.8932,     34.839,2,     -999.0,9,     -999.0,9,     1.4668,2,     -999.0,9,     -999.0,9,-999.0000, -999.00,-999.000
318M20130321,       P02W,      68,          1,          6,          6,2,20130426,       1954,    30.0006,   175.8931,       5310,  3803.4,   1.4518,  34.6824,2,  34.6817,2,    148.3,2,   147.7,2,  152.56,2,   36.45,2,       0,2,    2.56,2,   0.001,2,   0.008,2,   0.009,2,     0.04,2,  -999.0,9, -999.00,9,-999.0000,9,  -999.00,-999.000,9,-999.0000,9, -999.00,9, -999.00,9,  -999.0,9,  -999.0,-999.000,9,-999.000,     -999.0,9, -999.00,9, -999.00,9, -999.00,9,     -999.0,9,  -999.0,9, 20130426,     2025,  30.0002, 175.8935,    34.8453,2,     -999.0,9,     -999.0,9,     1.4521,2,     -999.0,9,     -999.0,9,-999.0000, -999.00,-999.000
318M20130321,       P02W,      68,          1,          5,         37,2,20130426,       1954,    30.0006,   175.8931,       5310,  4164.2,   1.4497,  34.6865,2,  34.6873,2,    153.9,2,   153.3,2,  150.41,2,   36.09,2,       0,2,    2.55,2,-999.000,9,-999.000,9,-999.000,9,-999.0000,9,  2323.7,2, 2414.26,2,   7.5715,6,       25,-999.000,9,-999.0000,9, -999.00,9, -999.00,9,  -999.0,9,  -999.0,-999.000,9,-999.000,     -999.0,9, -999.00,9, -999.00,9, -999.00,9,     -999.0,9,  -999.0,9, 20130426,     2018,  30.0007, 175.8935,    34.8508,2,     -999.0,9,     -999.0,9,     1.4497,2,     -999.0,9,     -999.0,9,-999.0000, -999.00,-999.000
318M20130321,       P02W,      68,          1,          4,          4,2,20130426,       1954,    30.0006,   175.8931,       5310,  4522.5,   1.4509,  34.6905,2,  34.6894,2,    159.9,2,   159.5,2,  146.21,2,   35.63,2,       0,2,    2.51,2,-999.000,9,-999.000,9,-999.000,9,-999.0000,9,  -999.0,9, -999.00,9,-999.0000,9,  -999.00,-999.000,9,-999.0000,9, -999.00,9, -999.00,9,  -999.0,9,  -999.0,-999.000,9,-999.000,     -999.0,9, -999.00,9, -999.00,9, -999.00,9,     -999.0,9,  -999.0,9, 20130426,     2011,  30.0009, 175.8932,     34.853,2,     -999.0,9,     -999.0,9,     1.4507,2,     -999.0,9,     -999.0,9,-999.0000, -999.00,-999.000
318M20130321,       P02W,      68,          1,          3,          3,2,20130426,       1954,    30.0006,   175.8931,       5310,  4882.9,   1.4571,  34.6934,2,  34.6928,2,    164.9,2,   165.8,2,  141.33,2,   35.12,2,       0,2,    2.49,2,   0.001,2,   0.011,2,   0.004,2,        0,2,  -999.0,9, -999.00,9,-999.0000,9,  -999.00,-999.000,9,-999.0000,9, -999.00,9, -999.00,9,  -999.0,9,  -999.0,-999.000,9,-999.000,     -999.0,9, -999.00,9, -999.00,9, -999.00,9,     -999.0,9,  -999.0,9, 20130426,     2004,  30.0009, 175.8933,    34.8564,2,     -999.0,9,     -999.0,9,     1.4571,2,     -999.0,9,     -999.0,9,-999.0000, -999.00,-999.000
318M20130321,       P02W,      68,          1,          2,          2,2,20130426,       1954,    30.0006,   175.8931,       5310,  5189.9,   1.4721,  34.6955,2,  34.6946,2,    170.2,2,   170.1,2,  138.21,2,   34.83,2,       0,2,    2.45,2,   0.015,2,   0.018,2,   0.011,2,     0.12,2,  2306.1,6, 2404.25,2,   7.5906,2,       25,-999.000,9,-999.0000,9, -999.00,9, -999.00,9,  -999.0,9,  -999.0,-999.000,9,-999.000,     -999.0,9, -999.00,9, -999.00,9, -999.00,9,     -999.0,9,  -999.0,9, 20130426,     1958,  30.0005, 175.8931,    34.8582,2,     -999.0,9,     -999.0,9,     1.4718,2,     -999.0,9,     -999.0,9,-999.0000, -999.00,-999.000
318M20130321,       P02W,      68,          1,          1,          1,2,20130426,       1954,    30.0006,   175.8931,       5310,  5392.2,   1.4779,  34.6968,2,   34.696,2,    173.3,2,   173.2,2,  134.89,2,   34.57,2,       0,2,    2.42,2,   0.009,2,   0.016,2,   0.010,2,     0.09,2,  2303.4,2, 2401.55,2,   7.5942,2,       25,-999.000,9,-999.0000,9, -999.00,9, -999.00,9,  -999.0,9,  -999.0,-999.000,9,-999.000,     -999.0,9, -999.00,9, -999.00,9, -999.00,9,     -999.0,9,  -999.0,9, 20130426,     1953,  30.0006, 175.8931,    34.8596,2,     -999.0,9,     -999.0,9,     1.4777,2,     -999.0,9,     -999.0,9,-999.0000, -999.00,-999.000