BOTTLE,20220817CCHSIOAMB
EXPOCODE,SECT_ID,STNNBR,CASTNO,SAMPNO,BTLNBR,BTLNBR_FLAG_W,DATE,TIME,LATITUDE,LONGITUDE,DEPTH,CTDPRS,CTDTMP,CTDSAL,CTDSAL_FLAG_W,SALNTY,SALNTY_FLAG_W,CTDOXY,CTDOXY_FLAG_W,OXYGEN,OXYGEN_FLAG_W,SILCAT,SILCAT_FLAG_W,NITRAT,NITRAT_FLAG_W,NITRIT,NITRIT_FLAG_W,PHSPHT,PHSPHT_FLAG_W,CFC-11,CFC-11_FLAG_W,CFC-12,CFC-12_FLAG_W,CFC113,CFC113_FLAG_W,SF6,SF6_FLAG_W,TCARBN,TCARBN_FLAG_W,ALKALI,ALKALI_FLAG_W,PH_TOT,PH_TOT_FLAG_W,PH_TMP,TRITUM,TRITUM_FLAG_W,HELIUM,HELIUM_FLAG_W,DELHE3,DELHE3_FLAG_W,DELC13,DELC13_FLAG_W,DELC14,DELC14_FLAG_W,C14ERR,NEON,NEON_FLAG_W,NEONER,I-129,I-129_FLAG_W,SR-90,SR-90_FLAG_W,DOC,DOC_FLAG_W,TDN,TDN_FLAG_W,CALCIUM,CALCIUM_FLAG_W,D15N_NO3,D15N_NO3_FLAG_W,BTL_DATE,BTL_TIME,BTL_LAT,BTL_LON,SALTREF,SALTREF_FLAG_W,CS-137,CS-137_FLAG_W,CS-134,CS-134_FLAG_W,REFTMP,REFTMP_FLAG_W,LAB_DEN,LAB_DEN_FLAG_W,D18O_NO3,D18O_NO3_FLAG_W,HELIER,DELHER,TRITER
,,,,,,,,,,,METERS,DBAR,ITS-90,PSS-78,,PSS-78,,UMOL/KG,,UMOL/KG,,UMOL/KG,,UMOL/KG,,UMOL/KG,,UMOL/KG,,PMOL/KG,,PMOL/KG,,PMOL/KG,,FMOL/KG,,UMOL/KG,,UMOL/KG,,,,DEG C,TU,,NMOL/KG,,PERCNT,,/MILLE,,/MILLE,,/MILLE,NMOL/KG,,NMOL/KG,BQ/M^3,,DM/.1MG,,UMOL/KG,,UMOL/KG,,MMOL/KG,,/MILLE,,,,,,G/KG,,BQ/M^3,,BQ/M^3,,ITS-90,,,,/MILLE,,NMOL/KG,PERCNT,TU
318M20130321,       P02W,      12,          1,         36,         36,2,20130324,       2135,    30.9698,   134.0965,       4436,     4.1,  20.9974,   34.724,2,  34.7242,2,    221.8,2,   220.9,2,    1.17,2,       0,2,    0.01,2,    0.07,2,-999.000,9,-999.000,9,-999.000,9,-999.0000,9,  1980.4,6, 2280.64,2,    8.049,2,       25,-999.000,9,-999.0000,9, -999.00,9, -999.00,9,  -999.0,9,  -999.0,-999.000,9,-999.000,     -999.0,9, -999.00,9, -999.00,9, -999.00,9,     -999.0,9,  -999.0,9, 20130324,     2341,  30.9694, 134.0958,     34.888,2,     -999.0,9,     -999.0,9,    20.9972,2,     -999.0,9,     -999.0,9,-999.0000, -999.00,-999.000
318M20130321,       P02W,      12,          1,         35,         35,2,20130324,       2135,    30.9698,   134.0965,       4436,      36,  20.3738,  34.7777,2,  34.7777,2,    225.3,2,   224.6,2,    1.17,2,       0,2,       0,2,    0.03,2,-999.000,9,-999.000,9,-999.000,9,-999.0000,9,  1987.7,2, 2282.64,2,   8.0419,6,       25,-999.000,9,-999.0000,9, -999.00,9, -999.00,9,  -999.0,9,  -999.0,-999.000,9,-999.000,     -999.0,9, -999.00,9, -999.00,9, -999.00,9,     -999.0,9,  -999.0,9, 20130324,     2337,  30.9695, 134.0958,    34.9417,2,     -999.0,9,     -999.0,9,    20.3742,2,     -999.0,9,     -999.0,9,-999.0000, -999.00,-999.000
318M20130321,       P02W,      12,          1,         33,         33,2,20130324,       2135,    30.9698,   134.0965,       4436,    60.7,  20.2378,  34.7823,2,-999.0000,9,    222.3,2,  -999.0,9, -999.00,9, -999.00,9, -999.00,9, -999.00,9,-999.000,9,-999.000,9,-999.000,9,-999.0000,9,  -999.0,9, -999.00,9,-999.0000,9,  -999.00,-999.000,9,-999.0000,9, -999.00,9, -999.00,9,  -999.0,9,  -999.0,-999.000,9,-999.000,     -999.0,1, -999.00,1, -999.00,9, -999.00,9,     -999.0,9,  -999.0,9, 20130324,     2335,  30.9695, 134.0957,     -999.0,9,     -999.0,1,     -999.0,1,    20.2302,2,     -999.0,9,     -999.0,9,-999.0000, -999.00,-999.000
318M20130321,       P02W,      12,          1,         32,         32,2,20130324,       2135,    30.9698,   134.0965,       4436,    60.8,  20.2378,  34.7822,2,   34.782,2,    222.3,2,   224.2,2,    1.07,2,       0,2,       0,2,    0.03,2,-999.000,9,-999.000,9,-999.000,9,-999.0000,9,  1990.8,2, 2281.24,6,   8.0403,6,       25,-999.000,9,-999.0000,9, -999.00,9, -999.00,9,  -999.0,9,  -999.0,-999.000,9,-999.000,     -999.0,9, -999.00,9, -999.00,9, -999.00,9,     -999.0,9,  -999.0,9, 20130324,     2335,  30.9695, 134.0957,    34.9461,2,     -999.0,9,     -999.0,9,    20.2393,2,     -999.0,9,     -999.0,9,-999.0000, -999.00,-999.000
318M20130321,       P02W,      12,          1,         34,         34,2,20130324,       2135,    30.9698,   134.0965,       4436,    61.2,  20.2172,  34.7824,2,-999.0000,9,    222.2,2,  -999.0,9, -999.00,9, -999.00,9, -999.00,9, -999.00,9,-999.000,9,-999.000,9,-999.000,9,-999.0000,9,  -999.0,9, -999.00,9,-999.0000,9,  -999.00,-999.000,9,-999.0000,9, -999.00,9, -999.00,9,  -999.0,9,  -999.0,-999.000,9,-999.000,     -999.0,9, -999.00,1, -999.00,9, -999.00,9,     -999.0,9,  -999.0,9, 20130324,     2335,  30.9695, 134.0957,     -999.0,9,     -999.0,1,     -999.0,1,    20.2214,2,     -999.0,9,     -999.0,9,-999.0000, -999.00,-999.000
318M20130321,       P02W,      12,          1,         31,         31,2,20130324,       2135,    30.9698,   134.0965,       4436,    85.8,  19.9931,  34.7821,2,  34.7818,2,    218.3,2,   223.9,2,    1.17,2,    0.03,2,    0.08,2,    0.04,2,-999.000,9,-999.000,9,-999.000,9,-999.0000,9,  1991.2,2, 2281.14,2,   8.0363,2,       25,-999.000,9,-999.0000,9, -999.00,9, -999.00,9,  -999.0,9,  -999.0,-999.000,9,-999.000,     -999.0,9, -999.00,9, -999.00,9, -999.00,9,     -999.0,9,  -999.0,9, 20130324,     2333,  30.9695, 134.0958,    34.9459,2,     -999.0,9,     -999.0,9,    19.9864,2,     -999.0,9,     -999.0,9,-999.0000, -999.00,-999.000
318M20130321,       P02W,      12,          1,         30,         30,2,20130324,       2135,    30.9698,   134.0965,       4436,   110.9,  19.6926,  34.7803,2,  34.7822,2,    223.7,2,   221.6,2,    1.27,2,    0.14,2,     0.3,2,    0.06,2,-999.000,9,-999.000,9,-999.000,9,-999.0000,9,  -999.0,9, -999.00,9,-999.0000,9,  -999.00,-999.000,9,-999.0000,9, -999.00,9, -999.00,9,  -999.0,9,  -999.0,-999.000,9,-999.000,     -999.0,9, -999.00,9, -999.00,9, -999.00,9,     -999.0,9,  -999.0,9, 20130324,     2330,  30.9694, 134.0961,    34.9462,2,     -999.0,9,     -999.0,9,    19.6949,2,     -999.0,9,     -999.0,9,-999.0000, -999.00,-999.000
318M20130321,       P02W,      12,          1,         29,         29,2,20130324,       2135,    30.9698,   134.0965,       4436,   135.6,  19.5608,  34.7801,2,  34.7803,2,    219.5,2,   221.2,2,    1.46,2,    0.33,2,    0.33,2,    0.08,2,-999.000,9,-999.000,9,-999.000,9,-999.0000,9,  1997.5,2, 2281.34,2,    8.024,2,       25,-999.000,9,-999.0000,9, -999.00,9, -999.00,9,  -999.0,9,  -999.0,-999.000,9,-999.000,     -999.0,9, -999.00,9, -999.00,9, -999.00,9,     -999.0,9,  -999.0,9, 20130324,     2328,  30.9694, 134.0963,    34.9443,2,     -999.0,9,     -999.0,9,    19.5607,2,     -999.0,9,     -999.0,9,-999.0000, -999.00,-999.000
318M20130321,       P02W,      12,          1,         28,         28,2,20130324,       2135,    30.9698,   134.0965,       4436,   163.8,    19.01,  34.7766,2,  34.7757,2,    221.4,2,   219.2,2,    1.66,2,    1.05,2,    0.09,2,     0.1,2,-999.000,9,-999.000,9,-999.000,9,-999.0000,9,  -999.0,9, -999.00,9,-999.0000,9,  -999.00,-999.000,9,-999.0000,9, -999.00,9, -999.00,9,  -999.0,9,  -999.0,-999.000,9,-999.000,     -999.0,9, -999.00,9, -999.00,9, -999.00,9,     -999.0,9,  -999.0,9, 20130324,     2325,  30.9691, 134.0965,    34.9397,2,     -999.0,9,     -999.0,9,    19.0101,2,     -999.0,9,     -999.0,9,-999.0000, -999.00,-999.000
318M20130321,       P02W,      12,          1,         27,         27,2,20130324,       2135,    30.9698,   134.0965,       4436,   215.5,  18.7073,  34.7674,2,  34.7685,2,    222.5,2,   220.4,2,    1.66,2,    1.34,2,    0.02,2,     0.1,2,-999.000,9,-999.000,9,-999.000,9,-999.0000,9,  -999.0,9, -999.00,9,-999.0000,9,  -999.00,-999.000,9,-999.0000,9, -999.00,9, -999.00,9,  -999.0,9,  -999.0,-999.000,9,-999.000,     -999.0,9, -999.00,9, -999.00,9, -999.00,9,     -999.0,9,  -999.0,9, 20130324,     2323,  30.9689, 134.0965,    34.9324,2,     -999.0,9,     -999.0,9,    18.7081,2,     -999.0,9,     -999.0,9,-999.0000, -999.00,-999.000
318M20130321,       P02W,      12,          1,         26,         26,2,20130324,       2135,    30.9698,   134.0965,       4436,   266.6,  18.6389,  34.7685,2,  34.7691,2,    221.2,2,   221.2,2,    1.56,2,    1.33,2,    0.02,2,     0.1,2,-999.000,9,-999.000,9,-999.000,9,-999.0000,9,  2004.4,2, 2279.54,2,   8.0073,2,       25,-999.000,9,-999.0000,9, -999.00,9, -999.00,9,  -999.0,9,  -999.0,-999.000,9,-999.000,     -999.0,9, -999.00,9, -999.00,9, -999.00,9,     -999.0,9,  -999.0,9, 20130324,     2321,  30.9688, 134.0964,     34.933,2,     -999.0,9,     -999.0,9,    18.6393,2,     -999.0,9,     -999.0,9,-999.0000, -999.00,-999.000
318M20130321,       P02W,      12,          1,         25,         25,2,20130324,       2135,    30.9698,   134.0965,       4436,   318.4,  18.5856,  34.7727,2,  34.7736,2,    218.2,2,   221.6,2,    1.46,2,    1.35,2,    0.02,2,     0.1,2,-999.000,9,-999.000,9,-999.000,9,-999.0000,9,  -999.0,9, -999.00,9,-999.0000,9,  -999.00,-999.000,9,-999.0000,9, -999.00,9, -999.00,9,  -999.0,9,  -999.0,-999.000,9,-999.000,     -999.0,9, -999.00,9, -999.00,9, -999.00,9,     -999.0,9,  -999.0,9, 20130324,     2319,   30.969, 134.0964,    34.9375,2,     -999.0,9,     -999.0,9,     18.585,2,     -999.0,9,     -999.0,9,-999.0000, -999.00,-999.000
318M20130321,       P02W,      12,          1,         24,         24,2,20130324,       2135,    30.9698,   134.0965,       4436,   368.2,  18.4581,  34.7755,2,   34.774,2,    216.5,2,   218.1,2,    1.76,2,    1.84,2,    0.01,2,    0.13,2,-999.000,9,-999.000,9,-999.000,9,-999.0000,9,  2010.6,2, 2278.94,2,   7.9986,2,       25,-999.000,9,-999.0000,9, -999.00,9, -999.00,9,  -999.0,9,  -999.0,-999.000,9,-999.000,     -999.0,9, -999.00,9, -999.00,9, -999.00,9,     -999.0,9,  -999.0,9, 20130324,     2316,  30.9691, 134.0963,    34.9379,2,     -999.0,9,     -999.0,9,    18.4585,2,     -999.0,9,     -999.0,9,-999.0000, -999.00,-999.000
318M20130321,       P02W,      12,          1,         23,         23,2,20130324,       2135,    30.9698,   134.0965,       4436,   421.5,  17.6977,  34.7306,2,  34.7305,2,    200.4,2,     199,2,    3.71,2,    4.68,2,    0.01,2,    0.32,2,-999.000,9,-999.000,9,-999.000,9,-999.0000,9,  -999.0,9, -999.00,9,-999.0000,9,  -999.00,-999.000,9,-999.0000,9, -999.00,9, -999.00,9,  -999.0,9,  -999.0,-999.000,9,-999.000,     -999.0,9, -999.00,9, -999.00,9, -999.00,9,     -999.0,9,  -999.0,9, 20130324,     2314,  30.9692,  134.096,    34.8943,2,     -999.0,9,     -999.0,9,    17.6988,2,     -999.0,9,     -999.0,9,-999.0000, -999.00,-999.000
318M20130321,       P02W,      12,          1,         22,         38,2,20130324,       2135,    30.9698,   134.0965,       4436,   463.1,  16.8732,  34.6789,2,   34.678,2,    192.6,2,   192.7,2,    5.56,2,    6.41,2,    0.01,2,    0.45,2,-999.000,9,-999.000,9,-999.000,9,-999.0000,9,  2051.7,2, 2275.94,2,   7.9174,2,       25,-999.000,9,-999.0000,9, -999.00,9, -999.00,9,  -999.0,9,  -999.0,-999.000,9,-999.000,     -999.0,9, -999.00,9, -999.00,9, -999.00,9,     -999.0,9,  -999.0,9, 20130324,     2312,  30.9692, 134.0958,    34.8416,2,     -999.0,9,     -999.0,9,    16.8706,2,     -999.0,9,     -999.0,9,-999.0000, -999.00,-999.000
318M20130321,       P02W,      12,          1,         21,         21,2,20130324,       2135,    30.9698,   134.0965,       4436,   533.9,  14.8719,  34.5477,2,  34.5474,2,    181.7,2,   180.4,2,   10.64,2,   10.52,2,    0.01,2,    0.73,2,-999.000,9,-999.000,9,-999.000,9,-999.0000,9,  -999.0,9, -999.00,9,-999.0000,9,  -999.00,-999.000,9,-999.0000,9, -999.00,9, -999.00,9,  -999.0,9,  -999.0,-999.000,9,-999.000,     -999.0,9, -999.00,9, -999.00,9, -999.00,9,     -999.0,9,  -999.0,9, 20130324,     2310,  30.9692,  134.096,    34.7103,2,     -999.0,9,     -999.0,9,    14.8725,2,     -999.0,9,     -999.0,9,-999.0000, -999.00,-999.000
318M20130321,       P02W,      12,          1,         20,         20,2,20130324,       2135,    30.9698,   134.0965,       4436,   636.4,  12.2385,  34.3946,2,  34.3915,2,    168.1,2,   168.1,2,   22.45,2,   16.12,2,    0.01,2,    1.13,2,-999.000,9,-999.000,9,-999.000,9,-999.0000,9,  -999.0,9, -999.00,9,-999.0000,9,  -999.00,-999.000,9,-999.0000,9, -999.00,9, -999.00,9,  -999.0,9,  -999.0,-999.000,9,-999.000,     -999.0,9, -999.00,9, -999.00,9, -999.00,9,     -999.0,9,  -999.0,9, 20130324,     2306,  30.9692, 134.0961,    34.5537,2,     -999.0,9,     -999.0,9,    12.2305,2,     -999.0,9,     -999.0,9,-999.0000, -999.00,-999.000
318M20130321,       P02W,      12,          1,         19,         19,2,20130324,       2135,    30.9698,   134.0965,       4436,   737.8,   9.6096,  34.2587,2,  34.2593,2,    147.3,2,   149.2,2,   38.18,2,   22.25,2,       0,2,    1.58,2,-999.000,9,-999.000,9,-999.000,9,-999.0000,9,  2168.9,2, 2283.34,2,   7.6611,6,       25,-999.000,9,-999.0000,9, -999.00,9, -999.00,9,  -999.0,9,  -999.0,-999.000,9,-999.000,     -999.0,9, -999.00,9, -999.00,9, -999.00,9,     -999.0,9,  -999.0,9, 20130324,     2303,  30.9692, 134.0961,    34.4208,2,     -999.0,9,     -999.0,9,     9.6112,2,     -999.0,9,     -999.0,9,-999.0000, -999.00,-999.000
318M20130321,       P02W,      12,          1,         18,         18,2,20130324,       2135,    30.9698,   134.0965,       4436,   839.8,   7.1681,   34.202,2,  34.2028,2,      117,2,   116.3,2,   62.39,2,   29.43,2,       0,2,    2.12,2,-999.000,9,-999.000,9,-999.000,9,-999.0000,9,  -999.0,9, -999.00,9,-999.0000,9,  -999.00,-999.000,9,-999.0000,9, -999.00,9, -999.00,9,  -999.0,9,  -999.0,-999.000,9,-999.000,     -999.0,9, -999.00,9, -999.00,9, -999.00,9,     -999.0,9,  -999.0,9, 20130324,     2300,  30.9693, 134.0962,    34.3641,2,     -999.0,9,     -999.0,9,     7.1739,2,     -999.0,9,     -999.0,9,-999.0000, -999.00,-999.000
318M20130321,       P02W,      12,          1,         17,         17,2,20130324,       2135,    30.9698,   134.0965,       4436,   942.6,    5.712,  34.2347,2,  34.2381,2,     87.5,2,    87.5,2,   83.38,2,   34.54,2,       0,2,     2.5,2,-999.000,9,-999.000,9,-999.000,9,-999.0000,9,  2274.3,2, 2320.55,2,   7.4609,2,       25,-999.000,9,-999.0000,9, -999.00,9, -999.00,9,  -999.0,9,  -999.0,-999.000,9,-999.000,     -999.0,9, -999.00,9, -999.00,9, -999.00,9,     -999.0,9,  -999.0,9, 20130324,     2257,  30.9695, 134.0962,    34.3995,2,     -999.0,9,     -999.0,9,     5.6972,2,     -999.0,9,     -999.0,9,-999.0000, -999.00,-999.000
318M20130321,       P02W,      12,          1,         16,         16,2,20130324,       2135,    30.9698,   134.0965,       4436,  1045.8,   4.5708,    34.29,2,  34.2899,2,     69.2,2,    68.9,2,   103.1,2,   37.81,2,       0,2,    2.72,2,-999.000,9,-999.000,9,-999.000,9,-999.0000,9,  -999.0,9, -999.00,9,-999.0000,9,  -999.00,-999.000,9,-999.0000,9, -999.00,9, -999.00,9,  -999.0,9,  -999.0,-999.000,9,-999.000,     -999.0,9, -999.00,9, -999.00,9, -999.00,9,     -999.0,9,  -999.0,9, 20130324,     2255,  30.9698, 134.0962,    34.4516,2,     -999.0,9,     -999.0,9,     4.5719,2,     -999.0,9,     -999.0,9,-999.0000, -999.00,-999.000
318M20130321,       P02W,      12,          1,         15,         15,2,20130324,       2135,    30.9698,   134.0965,       4436,  1147.7,   3.9597,  34.3443,2,  34.3436,2,     61.2,2,    61.2,2,  115.69,2,   39.45,2,       0,2,    2.83,2,-999.000,9,-999.000,9,-999.000,9,-999.0000,9,  2328.5,2, 2355.25,2,   7.3929,2,       25,-999.000,9,-999.0000,9, -999.00,9, -999.00,9,  -999.0,9,  -999.0,-999.000,9,-999.000,     -999.0,9, -999.00,9, -999.00,9, -999.00,9,     -999.0,9,  -999.0,9, 20130324,     2252,    30.97, 134.0959,    34.5056,2,     -999.0,9,     -999.0,9,     3.9592,2,     -999.0,9,     -999.0,9,-999.0000, -999.00,-999.000
318M20130321,       P02W,      12,          1,         14,         14,2,20130324,       2135,    30.9698,   134.0965,       4436,  1246.3,   3.5621,  34.4115,2,  34.4113,2,     62.9,2,    63.2,2,  124.08,2,    39.8,2,       0,2,    2.85,2,-999.000,9,-999.000,9,-999.000,9,-999.0000,9,  2338.7,2, 2368.26,2,   7.4026,2,       25,-999.000,9,-999.0000,9, -999.00,9, -999.00,9,  -999.0,9,  -999.0,-999.000,9,-999.000,     -999.0,9, -999.00,9, -999.00,9, -999.00,9,     -999.0,9,  -999.0,9, 20130324,     2249,    30.97, 134.0956,    34.5736,2,     -999.0,9,     -999.0,9,     3.5627,2,     -999.0,9,     -999.0,9,-999.0000, -999.00,-999.000
318M20130321,       P02W,      12,          1,         13,         13,2,20130324,       2135,    30.9698,   134.0965,       4436,  1344.7,   3.2392,   34.442,2,  34.4425,2,     63.6,2,    64.4,2,  130.62,2,   40.15,2,       0,2,    2.88,2,-999.000,9,-999.000,9,-999.000,9,-999.0000,9,  -999.0,9, -999.00,9,-999.0000,9,  -999.00,-999.000,9,-999.0000,9, -999.00,9, -999.00,9,  -999.0,9,  -999.0,-999.000,9,-999.000,     -999.0,9, -999.00,9, -999.00,9, -999.00,9,     -999.0,9,  -999.0,9, 20130324,     2246,  30.9698, 134.0955,    34.6049,2,     -999.0,9,     -999.0,9,      3.237,2,     -999.0,9,     -999.0,9,-999.0000, -999.00,-999.000
318M20130321,       P02W,      12,          1,         12,         12,2,20130324,       2135,    30.9698,   134.0965,       4436,  1448.3,   2.9774,  34.4682,2,  34.4682,2,     66.3,2,    65.8,2,  135.79,2,   40.34,2,       0,2,    2.89,2,-999.000,9,-999.000,9,-999.000,9,-999.0000,9,  -999.0,9, -999.00,9,-999.0000,9,  -999.00,-999.000,9,-999.0000,9, -999.00,9, -999.00,9,  -999.0,9,  -999.0,-999.000,9,-999.000,     -999.0,9, -999.00,9, -999.00,9, -999.00,9,     -999.0,9,  -999.0,9, 20130324,     2243,  30.9696, 134.0954,    34.6308,2,     -999.0,9,     -999.0,9,     2.9777,2,     -999.0,9,     -999.0,9,-999.0000, -999.00,-999.000
318M20130321,       P02W,      12,          1,         11,         11,2,20130324,       2135,    30.9698,   134.0965,       4436,  1544.4,   2.7704,   34.493,2,  34.4939,2,     69.3,2,    69.4,2,  139.99,2,   40.31,2,       0,2,    2.88,2,-999.000,9,-999.000,9,-999.000,9,-999.0000,9,  2352.7,2, 2388.56,2,   7.4127,2,       25,-999.000,9,-999.0000,9, -999.00,9, -999.00,9,  -999.0,9,  -999.0,-999.000,9,-999.000,     -999.0,9, -999.00,9, -999.00,9, -999.00,9,     -999.0,9,  -999.0,9, 20130324,     2240,  30.9694, 134.0954,    34.6566,2,     -999.0,9,     -999.0,9,     2.7703,2,     -999.0,9,     -999.0,9,-999.0000, -999.00,-999.000
318M20130321,       P02W,      12,          1,         10,         10,2,20130324,       2135,    30.9698,   134.0965,       4436,  1874.5,   2.2762,  34.5613,2,  34.5631,2,     87.3,2,      88,2,  146.42,2,    39.4,2,       0,2,     2.8,2,-999.000,9,-999.000,9,-999.000,9,-999.0000,9,  -999.0,9, -999.00,9,-999.0000,9,  -999.00,-999.000,9,-999.0000,9, -999.00,9, -999.00,9,  -999.0,9,  -999.0,-999.000,9,-999.000,     -999.0,9, -999.00,9, -999.00,9, -999.00,9,     -999.0,9,  -999.0,9, 20130324,     2233,  30.9688,  134.096,     34.726,2,     -999.0,9,     -999.0,9,     2.2767,2,     -999.0,9,     -999.0,9,-999.0000, -999.00,-999.000
318M20130321,       P02W,      12,          1,          9,          9,2,20130324,       2135,    30.9698,   134.0965,       4436,  2180.3,   1.9611,  34.6082,2,   34.609,2,    108.3,2,   108.6,2,     147,2,   38.26,2,       0,2,    2.71,2,-999.000,9,-999.000,9,-999.000,9,-999.0000,9,  2344.2,2, 2405.66,6,   7.4919,2,       25,-999.000,9,-999.0000,9, -999.00,9, -999.00,9,  -999.0,9,  -999.0,-999.000,9,-999.000,     -999.0,9, -999.00,9, -999.00,9, -999.00,9,     -999.0,9,  -999.0,9, 20130324,     2227,  30.9685, 134.0961,    34.7722,2,     -999.0,9,     -999.0,9,     1.9606,2,     -999.0,9,     -999.0,9,-999.0000, -999.00,-999.000
318M20130321,       P02W,      12,          1,          8,          8,2,20130324,       2135,    30.9698,   134.0965,       4436,  2504.7,   1.7966,  34.6339,2,  34.6354,2,    123.4,2,     123,2,  146.02,2,   37.44,2,       0,2,    2.65,2,-999.000,9,-999.000,9,-999.000,9,-999.0000,9,  -999.0,9, -999.00,9,-999.0000,9,  -999.00,-999.000,9,-999.0000,9, -999.00,9, -999.00,9,  -999.0,9,  -999.0,-999.000,9,-999.000,     -999.0,9, -999.00,9, -999.00,9, -999.00,9,     -999.0,9,  -999.0,9, 20130324,     2220,   30.969, 134.0969,    34.7987,2,     -999.0,9,     -999.0,9,     1.7965,2,     -999.0,9,     -999.0,9,-999.0000, -999.00,-999.000