BOTTLE,20220817CCHSIOAMB
EXPOCODE,SECT_ID,STNNBR,CASTNO,SAMPNO,BTLNBR,BTLNBR_FLAG_W,DATE,TIME,LATITUDE,LONGITUDE,DEPTH,CTDPRS,CTDTMP,CTDSAL,CTDSAL_FLAG_W,SALNTY,SALNTY_FLAG_W,CTDOXY,CTDOXY_FLAG_W,OXYGEN,OXYGEN_FLAG_W,SILCAT,SILCAT_FLAG_W,NITRAT,NITRAT_FLAG_W,NITRIT,NITRIT_FLAG_W,PHSPHT,PHSPHT_FLAG_W,CFC-11,CFC-11_FLAG_W,CFC-12,CFC-12_FLAG_W,CFC113,CFC113_FLAG_W,SF6,SF6_FLAG_W,TCARBN,TCARBN_FLAG_W,ALKALI,ALKALI_FLAG_W,PH_TOT,PH_TOT_FLAG_W,PH_TMP,TRITUM,TRITUM_FLAG_W,HELIUM,HELIUM_FLAG_W,DELHE3,DELHE3_FLAG_W,DELC13,DELC13_FLAG_W,DELC14,DELC14_FLAG_W,C14ERR,NEON,NEON_FLAG_W,NEONER,I-129,I-129_FLAG_W,SR-90,SR-90_FLAG_W,DOC,DOC_FLAG_W,TDN,TDN_FLAG_W,CALCIUM,CALCIUM_FLAG_W,D15N_NO3,D15N_NO3_FLAG_W,BTL_DATE,BTL_TIME,BTL_LAT,BTL_LON,SALTREF,SALTREF_FLAG_W,CS-137,CS-137_FLAG_W,CS-134,CS-134_FLAG_W,REFTMP,REFTMP_FLAG_W,LAB_DEN,LAB_DEN_FLAG_W,D18O_NO3,D18O_NO3_FLAG_W,HELIER,DELHER,TRITER
,,,,,,,,,,,METERS,DBAR,ITS-90,PSS-78,,PSS-78,,UMOL/KG,,UMOL/KG,,UMOL/KG,,UMOL/KG,,UMOL/KG,,UMOL/KG,,PMOL/KG,,PMOL/KG,,PMOL/KG,,FMOL/KG,,UMOL/KG,,UMOL/KG,,,,DEG C,TU,,NMOL/KG,,PERCNT,,/MILLE,,/MILLE,,/MILLE,NMOL/KG,,NMOL/KG,BQ/M^3,,DM/.1MG,,UMOL/KG,,UMOL/KG,,MMOL/KG,,/MILLE,,,,,,G/KG,,BQ/M^3,,BQ/M^3,,ITS-90,,,,/MILLE,,NMOL/KG,PERCNT,TU
318M20130321,       P02W,      44,          1,         36,         36,2,20130418,       2040,    30.0007,   158.1853,       5616,     5.8,  19.7997,  34.9453,2,  34.9437,2,    226.9,2,   228.3,2,    1.95,2,       0,2,       0,2,    0.03,2,   2.366,2,   1.428,2,   0.196,2,     1.42,2,  2006.7,2, 2291.31,2,   8.0236,6,       25,   0.481,6,   1.7527,2,   -1.38,2, -999.00,9,  -999.0,9,  -999.0,   7.157,2,   0.033,     -999.0,9, -999.00,9, -999.00,9, -999.00,9,     -999.0,9,  -999.0,9, 20130418,     2254,  30.0001, 158.1844,    35.1085,2,     -999.0,9,     -999.0,9,    19.8003,2,     -999.0,9,     -999.0,9,   0.0074,    0.15,   0.010
318M20130321,       P02W,      44,          1,         35,         35,2,20130418,       2040,    30.0007,   158.1853,       5616,    26.2,  19.7927,   34.944,2,  34.9432,2,    227.9,2,   228.1,2,    2.05,2,       0,2,       0,2,    0.03,2,   2.367,2,   1.389,2,   0.192,2,     1.37,2,    2006,6, 2291.21,2,    8.023,2,       25,-999.000,9,-999.0000,9, -999.00,9, -999.00,9,  -999.0,9,  -999.0,-999.000,9,-999.000,     -999.0,9, -999.00,9, -999.00,9, -999.00,9,     -999.0,9,  -999.0,9, 20130418,     2251,  30.0001, 158.1845,    35.1079,2,     -999.0,9,     -999.0,9,    19.7909,2,     -999.0,9,     -999.0,9,-999.0000, -999.00,-999.000
318M20130321,       P02W,      44,          1,         34,         34,2,20130418,       2040,    30.0007,   158.1853,       5616,    50.5,  18.8069,  34.8374,2,  34.8356,2,    226.7,2,   225.7,2,    2.34,2,    0.34,2,    0.13,2,    0.08,2,   2.478,2,   1.516,2,   0.170,2,     1.42,2,  -999.0,9, -999.00,9,-999.0000,9,  -999.00,   0.498,2,   1.7422,2,   -1.54,2, -999.00,9,  -999.0,9,  -999.0,   7.144,2,   0.033,     -999.0,9, -999.00,9, -999.00,9, -999.00,9,     -999.0,9,  -999.0,9, 20130418,     2249,  30.0001, 158.1841,    34.9998,2,     -999.0,9,     -999.0,9,    18.8044,2,     -999.0,9,     -999.0,9,   0.0073,    0.15,   0.013
318M20130321,       P02W,      44,          1,         32,         32,2,20130418,       2040,    30.0007,   158.1853,       5616,    75.3,   18.043,  34.7605,2,  34.7583,2,    220.8,2,  -999.0,9,    2.93,2,    1.82,2,    0.13,2,    0.17,2,-999.000,9,-999.000,9,-999.000,9,-999.0000,9,  -999.0,9, -999.00,9,-999.0000,9,  -999.00,-999.000,9,-999.0000,9, -999.00,9, -999.00,9,  -999.0,9,  -999.0,-999.000,9,-999.000,     -999.0,1, -999.00,1, -999.00,9, -999.00,9,     -999.0,9,  -999.0,9, 20130418,     2247,       30, 158.1839,    34.9222,2,     -999.0,1,     -999.0,1,    18.0453,2,     -999.0,9,     -999.0,9,-999.0000, -999.00,-999.000
318M20130321,       P02W,      44,          1,         33,         33,2,20130418,       2040,    30.0007,   158.1853,       5616,    75.4,  18.0424,  34.7605,2,  34.7583,2,    220.8,2,  -999.0,9,    2.93,2,    1.82,2,    0.13,2,    0.17,2,-999.000,9,-999.000,9,-999.000,9,-999.0000,9,  -999.0,9, -999.00,9,-999.0000,9,  -999.00,-999.000,9,-999.0000,9, -999.00,9, -999.00,9,  -999.0,9,  -999.0,-999.000,9,-999.000,     -999.0,9, -999.00,1, -999.00,9, -999.00,9,     -999.0,9,  -999.0,9, 20130418,     2247,       30, 158.1839,    34.9222,2,     -999.0,1,     -999.0,1,     18.044,2,     -999.0,9,     -999.0,9,-999.0000, -999.00,-999.000
318M20130321,       P02W,      44,          1,         31,         31,2,20130418,       2040,    30.0007,   158.1853,       5616,      76,  18.0463,  34.7606,2,  34.7577,2,    220.8,2,   219.6,2,    2.83,2,    1.83,2,    0.13,2,    0.17,2,   2.556,2,   1.535,2,   0.156,2,     1.23,2,  2021.2,2, 2279.81,2,   7.9791,2,       25,-999.000,9,-999.0000,9, -999.00,9, -999.00,9,  -999.0,9,  -999.0,-999.000,9,-999.000,     -999.0,9, -999.00,9, -999.00,9, -999.00,9,     -999.0,9,  -999.0,9, 20130418,     2247,       30, 158.1839,    34.9216,2,     -999.0,9,     -999.0,9,    18.0464,2,     -999.0,9,     -999.0,9,-999.0000, -999.00,-999.000
318M20130321,       P02W,      44,          1,         30,         30,2,20130418,       2040,    30.0007,   158.1853,       5616,   101.7,  17.3727,   34.719,2,  34.7169,2,    214.8,2,   217.4,2,    3.42,2,    3.13,2,    0.06,2,    0.23,2,   2.636,2,   1.627,2,   0.122,2,     1.51,2,  -999.0,9, -999.00,9,-999.0000,9,  -999.00,   0.485,2,   1.7429,2,   -1.51,2, -999.00,9,  -999.0,9,  -999.0,   7.221,2,   0.033,     -999.0,9, -999.00,9, -999.00,9, -999.00,9,     -999.0,9,  -999.0,9, 20130418,     2245,       30, 158.1838,    34.8806,2,     -999.0,9,     -999.0,9,    17.3774,2,     -999.0,9,     -999.0,9,   0.0073,    0.15,   0.012
318M20130321,       P02W,      44,          1,         29,         29,2,20130418,       2040,    30.0007,   158.1853,       5616,     150,   16.841,  34.6959,2,  34.6943,2,    224.1,2,   222.8,2,     3.9,2,    3.61,2,    0.05,2,    0.26,2,   2.660,2,   1.623,2,   0.116,2,     1.54,2,  2028.1,2, 2276.21,6,   7.9584,2,       25,-999.000,9,-999.0000,9, -999.00,9, -999.00,9,  -999.0,9,  -999.0,-999.000,9,-999.000,     -999.0,9, -999.00,9, -999.00,9, -999.00,9,     -999.0,9,  -999.0,9, 20130418,     2243,       30, 158.1839,    34.8579,2,     -999.0,9,     -999.0,9,    16.8415,2,     -999.0,9,     -999.0,9,-999.0000, -999.00,-999.000
318M20130321,       P02W,      44,          1,         28,         28,2,20130418,       2040,    30.0007,   158.1853,       5616,     201,  16.6849,   34.685,2,  34.6833,2,    228.3,2,   225.1,2,     4.1,2,    3.71,2,    0.02,2,    0.26,2,-999.000,9,-999.000,9,-999.000,9,-999.0000,9,  -999.0,9, -999.00,9,-999.0000,9,  -999.00,-999.000,9,-999.0000,9, -999.00,9, -999.00,9,  -999.0,9,  -999.0,-999.000,9,-999.000,     -999.0,9, -999.00,9, -999.00,9, -999.00,9,     -999.0,9,  -999.0,9, 20130418,     2241,       30,  158.184,    34.8468,2,     -999.0,9,     -999.0,9,    16.6848,2,     -999.0,9,     -999.0,9,-999.0000, -999.00,-999.000
318M20130321,       P02W,      44,          1,         27,         27,2,20130418,       2040,    30.0007,   158.1853,       5616,   251.5,  16.5744,  34.6819,2,  34.6798,2,    230.6,2,   231.2,2,       4,2,    3.34,2,    0.02,2,    0.24,2,   2.677,2,   1.564,2,   0.168,2,      1.6,2,    2025,2, 2274.61,2,    7.964,2,       25,   0.491,2,   1.7501,2,   -1.19,2, -999.00,9,  -999.0,9,  -999.0,   7.183,2,   0.033,     -999.0,9, -999.00,9, -999.00,9, -999.00,9,     -999.0,9,  -999.0,9, 20130418,     2239,  29.9999, 158.1842,    34.8433,2,     -999.0,9,     -999.0,9,    16.5738,2,     -999.0,9,     -999.0,9,   0.0074,    0.15,   0.012
318M20130321,       P02W,      44,          1,         26,         26,2,20130418,       2040,    30.0007,   158.1853,       5616,   302.7,  16.4344,  34.6706,2,  34.6703,2,    230.9,2,   221.4,3,    4.98,2,    4.44,2,    0.02,2,    0.31,2,-999.000,9,-999.000,9,-999.000,9,-999.0000,9,  -999.0,9, -999.00,9,-999.0000,9,  -999.00,-999.000,9,-999.0000,9, -999.00,9, -999.00,9,  -999.0,9,  -999.0,-999.000,9,-999.000,     -999.0,9, -999.00,9, -999.00,9, -999.00,9,     -999.0,9,  -999.0,9, 20130418,     2237,  29.9999, 158.1842,    34.8338,2,     -999.0,9,     -999.0,9,    16.4358,2,     -999.0,9,     -999.0,9,-999.0000, -999.00,-999.000
318M20130321,       P02W,      44,          1,         25,         25,2,20130418,       2040,    30.0007,   158.1853,       5616,   351.3,  15.9436,  34.6231,2,  34.6218,2,    212.2,2,   209.8,2,    6.83,2,    6.25,2,    0.02,2,    0.44,2,   2.748,2,   1.617,2,   0.079,2,     1.51,2,  2045.8,2, 2274.81,2,   7.9202,2,       25,   0.516,2,   1.7800,2,    0.01,2, -999.00,9,  -999.0,9,  -999.0,   7.315,2,   0.034,     -999.0,9, -999.00,9, -999.00,9, -999.00,9,     -999.0,9,  -999.0,9, 20130418,     2235,  29.9999, 158.1841,    34.7851,2,     -999.0,9,     -999.0,9,    15.9459,2,     -999.0,9,     -999.0,9,   0.0075,    0.15,   0.013
318M20130321,       P02W,      44,          1,         24,         24,2,20130418,       2040,    30.0007,   158.1853,       5616,   402.3,   14.894,  34.5385,2,  34.5356,2,    195.7,2,   198.6,2,   10.05,2,    8.94,2,       0,2,    0.63,2,   2.873,2,   1.666,2,   0.055,2,     1.25,2,  -999.0,9, -999.00,9,-999.0000,9,  -999.00,-999.000,9,-999.0000,9, -999.00,9, -999.00,9,  -999.0,9,  -999.0,-999.000,9,-999.000,     -999.0,9, -999.00,9, -999.00,9, -999.00,9,     -999.0,9,  -999.0,9, 20130418,     2233,  29.9998, 158.1841,    34.6985,2,     -999.0,9,     -999.0,9,    14.8908,2,     -999.0,9,     -999.0,9,-999.0000, -999.00,-999.000
318M20130321,       P02W,      44,          1,         23,         23,2,20130418,       2040,    30.0007,   158.1853,       5616,   503.5,  11.8583,  34.3403,2,  34.3387,2,    187.1,2,   188.8,2,   20.21,2,   14.77,2,       0,2,    1.04,2,   3.067,2,   1.729,2,   0.074,2,     1.02,2,  2110.4,2, 2272.01,2,   7.7779,2,       25,   0.491,6,   1.7875,2,    3.45,2, -999.00,9,  -999.0,9,  -999.0,   7.552,2,   0.035,     -999.0,9, -999.00,9, -999.00,9, -999.00,9,     -999.0,9,  -999.0,9, 20130418,     2231,  29.9999, 158.1842,    34.5006,2,     -999.0,9,     -999.0,9,     11.857,2,     -999.0,9,     -999.0,9,   0.0075,    0.15,   0.010
318M20130321,       P02W,      44,          1,         22,         22,2,20130418,       2040,    30.0007,   158.1853,       5616,   604.8,   9.1203,    34.14,2,  34.1422,2,    180.5,2,   180.5,2,   32.32,2,   20.12,2,       0,2,    1.43,2,   3.205,2,   1.762,2,   0.129,2,     0.99,2,  -999.0,9, -999.00,9,-999.0000,9,  -999.00,   0.473,6,   1.8101,2,    5.51,2, -999.00,9,  -999.0,9,  -999.0,   7.655,2,   0.035,     -999.0,9, -999.00,9, -999.00,9, -999.00,9,     -999.0,9,  -999.0,9, 20130418,     2228,  29.9998, 158.1842,    34.3032,2,     -999.0,9,     -999.0,9,     9.1358,2,     -999.0,9,     -999.0,9,   0.0076,    0.15,   0.009
318M20130321,       P02W,      44,          1,         21,         21,2,20130418,       2040,    30.0007,   158.1853,       5616,   705.3,   6.7884,  34.0312,2,  34.0311,2,    150.2,2,   145.4,2,   52.73,2,   27.81,2,       0,2,    1.98,2,-999.000,9,-999.000,9,-999.000,9,-999.0000,9,  2205.9,2, 2283.01,2,   7.5569,2,       25,-999.000,9,-999.0000,9, -999.00,9, -999.00,9,  -999.0,9,  -999.0,-999.000,9,-999.000,     -999.0,9, -999.00,9, -999.00,9, -999.00,9,     -999.0,9,  -999.0,9, 20130418,     2225,  29.9998, 158.1842,    34.1916,2,     -999.0,9,     -999.0,9,      6.793,2,     -999.0,9,     -999.0,9,-999.0000, -999.00,-999.000
318M20130321,       P02W,      44,          1,         20,         20,2,20130418,       2040,    30.0007,   158.1853,       5616,     803,   5.2379,  34.0302,2,  34.0307,2,    103.9,2,   108.5,2,   75.39,2,   33.89,2,       0,2,    2.42,2,   2.219,2,   1.139,2,   0.105,2,     0.58,2,  -999.0,9, -999.00,9,-999.0000,9,  -999.00,   0.309,2,-999.0000,9, -999.00,9, -999.00,9,  -999.0,9,  -999.0,-999.000,9,-999.000,     -999.0,9, -999.00,9, -999.00,9, -999.00,9,     -999.0,9,  -999.0,9, 20130418,     2222,  29.9997, 158.1841,    34.1912,2,     -999.0,9,     -999.0,9,     5.2391,2,     -999.0,9,     -999.0,9,-999.0000, -999.00,   0.011
318M20130321,       P02W,      44,          1,         19,         19,2,20130418,       2040,    30.0007,   158.1853,       5616,   905.8,   4.4389,   34.138,2,  34.1372,2,     68.1,2,    69.4,2,   96.87,2,   38.42,2,       0,2,    2.73,2,   1.365,2,   0.693,2,   0.068,2,     0.35,2,  2301.3,2, 2321.72,2,   7.3745,2,       25,   0.233,2,   1.8819,2,   15.01,2, -999.00,9,  -999.0,9,  -999.0,   8.043,2,   0.037,     -999.0,9, -999.00,9, -999.00,9, -999.00,9,     -999.0,9,  -999.0,9, 20130418,     2219,  29.9997, 158.1839,    34.2981,2,     -999.0,9,     -999.0,9,     4.4457,2,     -999.0,9,     -999.0,9,   0.0079,    0.15,   0.011
318M20130321,       P02W,      44,          1,         18,         18,2,20130418,       2040,    30.0007,   158.1853,       5616,    1008,   3.9741,   34.231,2,  34.2303,2,     49.7,2,      50,2,   111.7,2,   40.57,2,       0,2,    2.88,2,   0.784,2,   0.373,2,   0.043,2,     0.15,2,  2329.7,2, 2339.23,2,   7.3482,6,       25,   0.136,2,   1.8997,2,   16.27,2, -999.00,9,  -999.0,9,  -999.0,   8.115,2,   0.037,     -999.0,9, -999.00,9, -999.00,9, -999.00,9,     -999.0,9,  -999.0,9, 20130418,     2217,  29.9996, 158.1837,    34.3917,2,     -999.0,9,     -999.0,9,     3.9768,2,     -999.0,9,     -999.0,9,   0.0080,    0.15,   0.011
318M20130321,       P02W,      44,          1,         17,         17,2,20130418,       2040,    30.0007,   158.1853,       5616,  1109.6,   3.6271,  34.3019,2,  34.2997,2,     37.1,2,      39,2,  122.43,2,   42.07,2,       0,2,    2.98,2,   0.382,2,   0.188,2,   0.017,2,     0.01,2,  2347.5,2, 2355.14,2,   7.3313,2,       25,   0.104,2,   1.9194,2,   16.60,2, -999.00,9,  -999.0,9,  -999.0,   8.237,2,   0.038,     -999.0,9, -999.00,9, -999.00,9, -999.00,9,     -999.0,9,  -999.0,9, 20130418,     2214,  29.9995, 158.1838,    34.4615,2,     -999.0,9,     -999.0,9,     3.6284,2,     -999.0,9,     -999.0,9,   0.0081,    0.15,   0.011
318M20130321,       P02W,      44,          1,         16,         16,2,20130418,       2040,    30.0007,   158.1853,       5616,  1211.1,   3.2338,  34.3663,2,  34.3641,2,     36.6,2,    35.5,2,  134.34,2,    42.5,2,       0,2,    3.02,2,   0.241,2,   0.118,2,   0.005,2,     0.03,2,  2359.1,2, 2366.44,2,    7.331,2,       25,-999.000,9,-999.0000,9, -999.00,9, -999.00,9,  -999.0,9,  -999.0,-999.000,9,-999.000,     -999.0,9, -999.00,9, -999.00,9, -999.00,9,     -999.0,9,  -999.0,9, 20130418,     2211,  29.9996, 158.1843,    34.5262,2,     -999.0,9,     -999.0,9,      3.237,2,     -999.0,9,     -999.0,9,-999.0000, -999.00,-999.000
318M20130321,       P02W,      44,          1,         15,         15,2,20130418,       2040,    30.0007,   158.1853,       5616,  1312.4,    2.945,  34.4199,2,  34.4187,2,     35.3,2,    33.1,2,  143.02,2,   43.11,2,       0,2,    3.05,2,   0.121,2,   0.064,2,   0.015,2,        0,2,  2370.7,2, 2377.64,2,   7.3327,2,       25,   0.019,2,   1.9184,2,   17.42,2, -999.00,9,  -999.0,9,  -999.0,   8.186,2,   0.038,     -999.0,9, -999.00,9, -999.00,9, -999.00,9,     -999.0,9,  -999.0,9, 20130418,     2209,  29.9998, 158.1846,     34.581,2,     -999.0,9,     -999.0,9,     2.9448,2,     -999.0,9,     -999.0,9,   0.0081,    0.15,   0.010
318M20130321,       P02W,      44,          1,         14,         14,2,20130418,       2040,    30.0007,   158.1853,       5616,  1412.4,    2.741,  34.4589,2,  34.4576,2,     34.8,2,    33.9,2,  149.07,2,   43.29,2,       0,2,    3.06,2,-999.000,9,-999.000,9,-999.000,9,-999.0000,9,  2377.6,6, 2386.65,2,    7.337,6,       25,-999.000,9,-999.0000,9, -999.00,9, -999.00,9,  -999.0,9,  -999.0,-999.000,9,-999.000,     -999.0,9, -999.00,9, -999.00,9, -999.00,9,     -999.0,9,  -999.0,9, 20130418,     2206,  29.9998, 158.1845,      34.62,2,     -999.0,9,     -999.0,9,     2.7396,2,     -999.0,9,     -999.0,9,-999.0000, -999.00,-999.000
318M20130321,       P02W,      44,          1,         13,         13,2,20130418,       2040,    30.0007,   158.1853,       5616,    1511,   2.5377,  34.4933,2,  34.4923,2,     39.2,2,    40.6,2,  154.24,2,   43.11,2,       0,2,    3.04,2,   0.070,2,   0.039,2,   0.014,2,     0.03,2,  2381.8,2, 2393.95,2,    7.347,2,       25,   0.024,2,   1.9166,2,   18.34,2, -999.00,9,  -999.0,9,  -999.0,   8.179,2,   0.038,     -999.0,9, -999.00,9, -999.00,9, -999.00,9,     -999.0,9,  -999.0,9, 20130418,     2203,       30, 158.1844,     34.655,2,     -999.0,9,     -999.0,9,     2.5384,2,     -999.0,9,     -999.0,9,   0.0080,    0.15,   0.010
318M20130321,       P02W,      44,          1,         12,         12,2,20130418,       2040,    30.0007,   158.1853,       5616,  1766.7,     2.21,  34.5581,2,  34.5577,2,       59,2,    59.3,2,  158.72,2,   41.96,2,       0,2,    2.96,2,   0.019,2,   0.012,2,   0.004,2,        0,2,  2374.2,2, 2402.75,2,   7.3938,2,       25,  -0.008,2,   1.7805,3,   19.90,2, -999.00,9,  -999.0,9,  -999.0,   7.218,3,   0.033,     -999.0,9, -999.00,9, -999.00,9, -999.00,9,     -999.0,9,  -999.0,9, 20130418,     2157,       30, 158.1839,    34.7207,2,     -999.0,9,     -999.0,9,     2.2106,2,     -999.0,9,     -999.0,9,   0.0075,    0.15,   0.010
318M20130321,       P02W,      44,          1,         11,         11,2,20130418,       2040,    30.0007,   158.1853,       5616,  2020.3,   1.9566,  34.5996,2,  34.5994,2,     77.8,2,    80.1,2,  159.89,2,   40.59,2,       0,2,    2.83,2,-999.000,9,-999.000,9,-999.000,9,-999.0000,9,  2366.5,2, 2409.86,2,   7.4356,2,       25,   0.000,2,-999.0000,9, -999.00,9, -999.00,9,  -999.0,9,  -999.0,-999.000,9,-999.000,     -999.0,9, -999.00,9, -999.00,9, -999.00,9,     -999.0,9,  -999.0,9, 20130418,     2152,  30.0001, 158.1841,    34.7625,2,     -999.0,9,     -999.0,9,     1.9565,2,     -999.0,9,     -999.0,9,-999.0000, -999.00,   0.010
318M20130321,       P02W,      44,          1,         10,         10,2,20130418,       2040,    30.0007,   158.1853,       5616,  2325.9,   1.7703,    34.63,2,  34.6288,2,    101.8,2,   100.8,2,  158.81,2,   39.32,2,       0,2,    2.74,2,-999.000,9,-999.000,9,-999.000,9,-999.0000,9,  -999.0,9, -999.00,9,-999.0000,9,  -999.00,-999.000,9,-999.0000,9, -999.00,9, -999.00,9,  -999.0,9,  -999.0,-999.000,9,-999.000,     -999.0,9, -999.00,9, -999.00,9, -999.00,9,     -999.0,9,  -999.0,9, 20130418,     2146,  30.0003, 158.1838,    34.7921,2,     -999.0,9,     -999.0,9,     1.7703,2,     -999.0,9,     -999.0,9,-999.0000, -999.00,-999.000
318M20130321,       P02W,      44,          1,          9,          9,2,20130418,       2040,    30.0007,   158.1853,       5616,  2734.5,   1.6317,   34.652,2,  34.6507,2,      118,2,   118.3,2,  157.93,2,   38.18,2,       0,2,    2.65,2,   0.011,2,   0.011,2,   0.004,2,        0,2,  2343.1,2, 2414.16,2,   7.5088,2,       25,-999.000,9,-999.0000,9, -999.00,9, -999.00,9,  -999.0,9,  -999.0,-999.000,9,-999.000,     -999.0,9, -999.00,9, -999.00,9, -999.00,9,     -999.0,9,  -999.0,9, 20130418,     2138,  30.0001, 158.1842,    34.8141,2,     -999.0,9,     -999.0,9,     1.6319,2,     -999.0,9,     -999.0,9,-999.0000, -999.00,-999.000
318M20130321,       P02W,      44,          1,          8,          8,2,20130418,       2040,    30.0007,   158.1853,       5616,    3139,   1.5405,   34.667,2,   34.666,2,    133.5,2,   132.9,2,  154.81,2,   37.27,2,       0,2,    2.57,2,-999.000,9,-999.000,9,-999.000,9,-999.0000,9,  -999.0,9, -999.00,9,-999.0000,9,  -999.00,-999.000,9,-999.0000,9, -999.00,9, -999.00,9,  -999.0,9,  -999.0,-999.000,9,-999.000,     -999.0,9, -999.00,9, -999.00,9, -999.00,9,     -999.0,9,  -999.0,9, 20130418,     2130,  29.9999, 158.1844,    34.8295,2,     -999.0,9,     -999.0,9,     1.5407,2,     -999.0,9,     -999.0,9,-999.0000, -999.00,-999.000