BOTTLE,20220817CCHSIOAMB
EXPOCODE,SECT_ID,STNNBR,CASTNO,SAMPNO,BTLNBR,BTLNBR_FLAG_W,DATE,TIME,LATITUDE,LONGITUDE,DEPTH,CTDPRS,CTDTMP,CTDSAL,CTDSAL_FLAG_W,SALNTY,SALNTY_FLAG_W,CTDOXY,CTDOXY_FLAG_W,OXYGEN,OXYGEN_FLAG_W,SILCAT,SILCAT_FLAG_W,NITRAT,NITRAT_FLAG_W,NITRIT,NITRIT_FLAG_W,PHSPHT,PHSPHT_FLAG_W,CFC-11,CFC-11_FLAG_W,CFC-12,CFC-12_FLAG_W,CFC113,CFC113_FLAG_W,SF6,SF6_FLAG_W,TCARBN,TCARBN_FLAG_W,ALKALI,ALKALI_FLAG_W,PH_TOT,PH_TOT_FLAG_W,PH_TMP,TRITUM,TRITUM_FLAG_W,HELIUM,HELIUM_FLAG_W,DELHE3,DELHE3_FLAG_W,DELC13,DELC13_FLAG_W,DELC14,DELC14_FLAG_W,C14ERR,NEON,NEON_FLAG_W,NEONER,I-129,I-129_FLAG_W,SR-90,SR-90_FLAG_W,DOC,DOC_FLAG_W,TDN,TDN_FLAG_W,CALCIUM,CALCIUM_FLAG_W,D15N_NO3,D15N_NO3_FLAG_W,BTL_DATE,BTL_TIME,BTL_LAT,BTL_LON,SALTREF,SALTREF_FLAG_W,CS-137,CS-137_FLAG_W,CS-134,CS-134_FLAG_W,REFTMP,REFTMP_FLAG_W,LAB_DEN,LAB_DEN_FLAG_W,D18O_NO3,D18O_NO3_FLAG_W,HELIER,DELHER,TRITER
,,,,,,,,,,,METERS,DBAR,ITS-90,PSS-78,,PSS-78,,UMOL/KG,,UMOL/KG,,UMOL/KG,,UMOL/KG,,UMOL/KG,,UMOL/KG,,PMOL/KG,,PMOL/KG,,PMOL/KG,,FMOL/KG,,UMOL/KG,,UMOL/KG,,,,DEG C,TU,,NMOL/KG,,PERCNT,,/MILLE,,/MILLE,,/MILLE,NMOL/KG,,NMOL/KG,BQ/M^3,,DM/.1MG,,UMOL/KG,,UMOL/KG,,MMOL/KG,,/MILLE,,,,,,G/KG,,BQ/M^3,,BQ/M^3,,ITS-90,,,,/MILLE,,NMOL/KG,PERCNT,TU
318M20130321,       P02E,     133,          1,         36,         36,2,20130526,       1535,    30.0004,  -129.5237,       4700,       3,  16.5727,  33.4569,2,  33.4567,2,    247.8,2,   248.4,2,    2.54,2,       0,2,       0,2,    0.24,2,   2.436,2,   1.460,2,-999.000,1,   1.6727,2,  2016.8,6, 2231.39,2,   7.9077,2,       25,-999.000,9,-999.0000,9, -999.00,9, -999.00,9,  -999.0,9,  -999.0,-999.000,9,-999.000,     -999.0,9, -999.00,9,   61.64,2,    4.22,2,     -999.0,9,  -999.0,9, 20130526,     1740,  30.0002,-129.5237,    33.6144,2,     -999.0,9,     -999.0,9,    16.5741,2,     -999.0,9,     -999.0,9,-999.0000, -999.00,-999.000
318M20130321,       P02E,     133,          1,         34,         34,2,20130526,       1535,    30.0004,  -129.5237,       4700,    34.7,   16.134,  33.5031,2,  33.4805,3,    254.3,2,   251.6,2,    2.54,2,       0,2,       0,2,    0.24,2,   2.476,2,   1.470,2,-999.000,1,   1.6967,2,  2015.9,2, 2233.19,2,   7.9111,2,       25,-999.000,9,-999.0000,9, -999.00,9, -999.00,9,  -999.0,9,  -999.0,-999.000,9,-999.000,     -999.0,9, -999.00,9, -999.00,5,    4.66,2,     -999.0,9,  -999.0,9, 20130526,     1737,  30.0002,-129.5236,    33.6384,3,     -999.0,9,     -999.0,9,    16.1212,2,     -999.0,9,     -999.0,9,-999.0000, -999.00,-999.000
318M20130321,       P02E,     133,          1,         33,         33,2,20130526,       1535,    30.0004,  -129.5237,       4700,    59.7,  16.0667,  33.6395,2,  33.6271,2,    253.8,2,   252.7,2,    2.34,2,       0,2,       0,2,    0.21,2,   2.485,6,   1.481,6,-999.000,1,   1.7467,6,  2017.4,2,  2239.6,2,   7.9211,2,       25,-999.000,9,-999.0000,9, -999.00,9, -999.00,9,  -999.0,9,  -999.0,-999.000,9,-999.000,     -999.0,9, -999.00,9,   60.41,2,    3.75,2,     -999.0,9,  -999.0,9, 20130526,     1735,  30.0002,-129.5236,    33.7857,2,     -999.0,9,     -999.0,9,    16.0797,2,     -999.0,9,     -999.0,9,-999.0000, -999.00,-999.000
318M20130321,       P02E,     133,          1,         32,         32,2,20130526,       1535,    30.0004,  -129.5237,       4700,      85,  15.5155,  33.6418,2,  33.6457,2,    252.4,2,     253,2,    2.34,2,       0,2,       0,2,    0.21,2,   2.515,2,   1.500,2,-999.000,1,   1.7776,2,  2016.9,2,  2238.3,6,   7.9106,2,       25,-999.000,9,-999.0000,9, -999.00,9, -999.00,9,  -999.0,9,  -999.0,-999.000,9,-999.000,     -999.0,9, -999.00,9,   60.86,2,    4.34,2,     -999.0,9,  -999.0,9, 20130526,     1733,  30.0002,-129.5236,    33.8044,2,     -999.0,9,     -999.0,9,    15.5074,2,     -999.0,9,     -999.0,9,-999.0000, -999.00,-999.000
318M20130321,       P02E,     133,          1,         31,         31,2,20130526,       1535,    30.0004,  -129.5237,       4700,   115.5,  14.4603,   33.642,2,  33.6293,2,    248.9,2,     249,2,    2.74,2,    0.16,2,    0.06,2,    0.24,2,   2.639,2,   1.556,2,-999.000,1,   1.7198,2,  -999.0,9, 2234.29,2,-999.0000,9,  -999.00,-999.000,9,-999.0000,9, -999.00,9, -999.00,9,  -999.0,9,  -999.0,-999.000,9,-999.000,     -999.0,9, -999.00,9,   60.05,2,    4.23,2,     -999.0,9,  -999.0,9, 20130526,     1731,  30.0002,-129.5237,    33.7878,2,     -999.0,9,     -999.0,9,    14.4582,2,     -999.0,9,     -999.0,9,-999.0000, -999.00,-999.000
318M20130321,       P02E,     133,          1,         30,         30,2,20130526,       1535,    30.0004,  -129.5237,       4700,     166,  11.0176,   33.526,2,   33.527,2,    223.5,2,   223.5,2,    8.11,2,    8.54,2,    0.02,2,    0.78,2,   3.143,2,   1.808,2,-999.000,1,   1.8876,2,  2068.6,2, 2224.19,2,   7.7684,6,       25,-999.000,9,-999.0000,9, -999.00,9, -999.00,9,  -999.0,9,  -999.0,-999.000,9,-999.000,     -999.0,9, -999.00,9,   50.46,2,   12.03,2,     -999.0,9,  -999.0,9, 20130526,     1729,  30.0001,-129.5239,    33.6851,2,     -999.0,9,     -999.0,9,    11.0296,2,     -999.0,9,     -999.0,9,-999.0000, -999.00,-999.000
318M20130321,       P02E,     133,          1,         29,         29,2,20130526,       1535,    30.0004,  -129.5237,       4700,   216.4,    9.277,  33.7566,2,  33.7556,2,    189.2,2,   190.6,2,   18.95,2,   18.12,2,    0.01,2,    1.37,2,   3.306,2,   1.862,2,-999.000,1,   1.5219,2,  2126.4,2,  2238.5,2,   7.6534,2,       25,-999.000,9,-999.0000,9, -999.00,9, -999.00,9,  -999.0,9,  -999.0,-999.000,9,-999.000,     -999.0,9, -999.00,9,   45.55,2,   22.94,3,     -999.0,9,  -999.0,9, 20130526,     1727,       30,-129.5241,    33.9148,2,     -999.0,9,     -999.0,9,     9.2697,2,     -999.0,9,     -999.0,9,-999.0000, -999.00,-999.000
318M20130321,       P02E,     133,          1,         27,         27,2,20130526,       1535,    30.0004,  -129.5237,       4700,   266.2,   8.4107,  33.9473,2,  33.9461,2,    157.5,2,   159.6,2,   29.01,2,   23.49,2,    0.01,2,    1.71,2,   3.165,2,   1.733,2,-999.000,1,   1.2164,2,  2166.2,2,  2254.8,2,   7.5871,2,       25,-999.000,9,-999.0000,9, -999.00,9, -999.00,9,  -999.0,9,  -999.0,-999.000,9,-999.000,     -999.0,9, -999.00,9,   45.55,2, -999.00,5,     -999.0,9,  -999.0,9, 20130526,     1725,       30,-129.5241,    34.1062,2,     -999.0,9,     -999.0,9,     8.3853,2,     -999.0,9,     -999.0,9,-999.0000, -999.00,-999.000
318M20130321,       P02E,     133,          1,         26,         26,2,20130526,       1535,    30.0004,  -129.5237,       4700,   316.7,   7.6277,  33.9978,2,  33.9982,2,    118.2,2,     116,2,   40.43,2,   29.03,2,       0,2,    2.14,2,   2.734,2,   1.434,2,-999.000,1,   0.8016,2,  2208.7,2, 2266.41,2,   7.4846,2,       25,-999.000,9,-999.0000,9, -999.00,9, -999.00,9,  -999.0,9,  -999.0,-999.000,9,-999.000,     -999.0,9, -999.00,9,   45.01,2,   34.67,3,     -999.0,9,  -999.0,9, 20130526,     1723,  30.0002, -129.524,    34.1585,2,     -999.0,9,     -999.0,9,     7.6262,2,     -999.0,9,     -999.0,9,-999.0000, -999.00,-999.000
318M20130321,       P02E,     133,          1,         25,         25,2,20130526,       1535,    30.0004,  -129.5237,       4700,   368.2,     7.04,  34.0678,2,   34.068,2,     75.3,2,    69.8,2,   52.73,2,   33.99,2,       0,2,    2.54,2,   1.963,2,   1.000,2,-999.000,1,   0.4375,2,  2251.3,2, 2279.01,2,   7.3906,2,       25,-999.000,9,-999.0000,9, -999.00,9, -999.00,9,  -999.0,9,  -999.0,-999.000,9,-999.000,     -999.0,9, -999.00,9,   45.26,2, -999.00,9,     -999.0,9,  -999.0,9, 20130526,     1721,  30.0003,-129.5239,    34.2286,2,     -999.0,9,     -999.0,9,      7.039,2,     -999.0,9,     -999.0,9,-999.0000, -999.00,-999.000
318M20130321,       P02E,     133,          1,         24,         24,2,20130526,       1535,    30.0004,  -129.5237,       4700,   438.6,   6.4001,  34.1117,2,  34.1111,2,     46.3,2,    45.6,2,   63.67,2,   37.11,2,       0,2,    2.79,2,   1.359,2,   0.666,2,-999.000,1,    0.282,2,  2278.8,2, 2290.51,2,   7.3384,2,       25,-999.000,9,-999.0000,9, -999.00,9, -999.00,9,  -999.0,9,  -999.0,-999.000,9,-999.000,     -999.0,9, -999.00,9,    43.4,2, -999.00,9,     -999.0,9,  -999.0,9, 20130526,     1718,  30.0001, -129.524,    34.2719,2,     -999.0,9,     -999.0,9,     6.4094,2,     -999.0,9,     -999.0,9,-999.0000, -999.00,-999.000
318M20130321,       P02E,     133,          1,         23,         23,2,20130526,       1535,    30.0004,  -129.5237,       4700,     539,   5.7049,   34.206,2,  34.2062,2,     23.6,2,    22.8,2,    78.7,2,   39.88,2,       0,2,    3.04,2,   0.537,2,   0.266,2,-999.000,1,   0.1037,2,  2309.5,2, 2310.32,2,   7.3056,2,       25,-999.000,9,-999.0000,9, -999.00,9, -999.00,9,  -999.0,9,  -999.0,-999.000,9,-999.000,     -999.0,9, -999.00,9, -999.00,5, -999.00,9,     -999.0,9,  -999.0,9, 20130526,     1715,  30.0001, -129.524,    34.3675,2,     -999.0,9,     -999.0,9,     5.7056,2,     -999.0,9,     -999.0,9,-999.0000, -999.00,-999.000
318M20130321,       P02E,     133,          1,         22,         22,2,20130526,       1535,    30.0004,  -129.5237,       4700,   639.2,   4.9086,  34.2556,2,  34.2595,2,     15.6,2,    15.5,2,   94.42,2,   41.98,2,       0,2,    3.15,2,   0.184,2,   0.095,2,-999.000,1,   0.0512,2,  2331.8,2, 2327.73,2,   7.2927,2,       25,-999.000,9,-999.0000,9, -999.00,9, -999.00,9,  -999.0,9,  -999.0,-999.000,9,-999.000,     -999.0,9, -999.00,9, -999.00,5, -999.00,9,     -999.0,9,  -999.0,9, 20130526,     1713,  30.0002,-129.5238,    34.4211,2,     -999.0,9,     -999.0,9,     4.9084,2,     -999.0,9,     -999.0,9,-999.0000, -999.00,-999.000
318M20130321,       P02E,     133,          1,         21,         21,2,20130526,       1535,    30.0004,  -129.5237,       4700,   739.8,   4.5548,  34.3466,2,  34.3456,2,     12.4,2,    12.4,2,  104.07,2,   42.85,2,       0,2,     3.2,2,   0.048,2,   0.031,2,-999.000,1,        0,2,  2346.4,2, 2345.33,2,   7.2994,2,       25,-999.000,9,-999.0000,9, -999.00,9, -999.00,9,  -999.0,9,  -999.0,-999.000,9,-999.000,     -999.0,9, -999.00,9,   37.59,2, -999.00,9,     -999.0,9,  -999.0,9, 20130526,     1710,  30.0004,-129.5236,    34.5076,2,     -999.0,9,     -999.0,9,     4.5589,2,     -999.0,9,     -999.0,9,-999.0000, -999.00,-999.000
318M20130321,       P02E,     133,          1,         20,         20,2,20130526,       1535,    30.0004,  -129.5237,       4700,   841.8,   4.2437,  34.3992,2,  34.3994,2,     15.2,2,    15.5,2,     111,2,   43.23,2,       0,2,    3.22,2,   0.022,2,   0.017,2,-999.000,1,   0.1384,2,  -999.0,9, -999.00,9,-999.0000,9,  -999.00,-999.000,9,-999.0000,9, -999.00,9, -999.00,9,  -999.0,9,  -999.0,-999.000,9,-999.000,     -999.0,9, -999.00,9,   37.04,2, -999.00,9,     -999.0,9,  -999.0,9, 20130526,     1707,  30.0003,-129.5233,    34.5616,2,     -999.0,9,     -999.0,9,     4.2432,2,     -999.0,9,     -999.0,9,-999.0000, -999.00,-999.000
318M20130321,       P02E,     133,          1,         19,         19,2,20130526,       1535,    30.0004,  -129.5237,       4700,   942.7,   3.9399,  34.4481,2,  34.4481,2,     21.2,2,    21.7,2,  118.03,2,   43.34,2,       0,2,    3.19,2,   0.015,2,   0.013,2,-999.000,1,        0,2,  2357.4,2, 2366.64,2,   7.3284,6,       25,-999.000,9,-999.0000,9, -999.00,9, -999.00,9,  -999.0,9,  -999.0,-999.000,9,-999.000,     -999.0,9, -999.00,9,   37.12,2, -999.00,9,     -999.0,9,  -999.0,9, 20130526,     1704,  30.0003,-129.5233,    34.6105,2,     -999.0,9,     -999.0,9,     3.9399,2,     -999.0,9,     -999.0,9,-999.0000, -999.00,-999.000
318M20130321,       P02E,     133,          1,         18,         18,2,20130526,       1535,    30.0004,  -129.5237,       4700,  1042.3,     3.68,  34.4782,2,  34.4785,2,     27.5,2,    27.7,2,  123.69,2,   43.27,2,       0,2,    3.17,2,   0.009,2,   0.010,2,-999.000,1,        0,2,  -999.0,9, -999.00,9,-999.0000,9,  -999.00,-999.000,9,-999.0000,9, -999.00,9, -999.00,9,  -999.0,9,  -999.0,-999.000,9,-999.000,     -999.0,9, -999.00,9,   35.42,2, -999.00,9,     -999.0,9,  -999.0,9, 20130526,     1701,  30.0004,-129.5234,    34.6411,2,     -999.0,9,     -999.0,9,     3.6786,2,     -999.0,9,     -999.0,9,-999.0000, -999.00,-999.000
318M20130321,       P02E,     133,          1,         17,         17,2,20130526,       1535,    30.0004,  -129.5237,       4700,  1144.7,   3.3834,  34.5086,2,  34.5082,2,     34.1,2,      35,2,  130.32,2,   43.08,2,       0,2,    3.15,2,   0.008,2,   0.011,2,-999.000,1,        0,2,  2364.5,2, 2382.35,2,   7.3554,2,       25,-999.000,9,-999.0000,9, -999.00,9, -999.00,9,  -999.0,9,  -999.0,-999.000,9,-999.000,     -999.0,9, -999.00,9,   34.94,2, -999.00,9,     -999.0,9,  -999.0,9, 20130526,     1658,  30.0004,-129.5237,    34.6709,2,     -999.0,9,     -999.0,9,     3.3819,2,     -999.0,9,     -999.0,9,-999.0000, -999.00,-999.000
318M20130321,       P02E,     133,          1,         16,         16,2,20130526,       1535,    30.0004,  -129.5237,       4700,  1244.7,   3.1999,  34.5275,2,  34.5321,2,     39.8,2,    40.5,2,  134.61,2,   42.87,2,       0,2,    3.11,2,   0.008,2,   0.011,2,-999.000,1,        0,2,  -999.0,9, -999.00,9,-999.0000,9,  -999.00,-999.000,9,-999.0000,9, -999.00,9, -999.00,9,  -999.0,9,  -999.0,-999.000,9,-999.000,     -999.0,9, -999.00,9,   36.29,2, -999.00,9,     -999.0,9,  -999.0,9, 20130526,     1655,  30.0003,-129.5239,    34.6949,2,     -999.0,9,     -999.0,9,     3.1997,2,     -999.0,9,     -999.0,9,-999.0000, -999.00,-999.000
318M20130321,       P02E,     133,          1,         15,         15,2,20130526,       1535,    30.0004,  -129.5237,       4700,  1345.9,   3.0097,  34.5443,2,  34.5437,2,     44.7,2,    44.7,2,   139.2,2,   42.67,2,       0,2,     3.1,2,   0.008,2,   0.010,2,-999.000,1,        0,2,  2367.9,2, 2392.55,2,   7.3766,2,       25,-999.000,9,-999.0000,9, -999.00,9, -999.00,9,  -999.0,9,  -999.0,-999.000,9,-999.000,     -999.0,9, -999.00,9,   36.55,2, -999.00,9,     -999.0,9,  -999.0,9, 20130526,     1651,  30.0003,-129.5239,    34.7066,2,     -999.0,9,     -999.0,9,     3.0104,2,     -999.0,9,     -999.0,9,-999.0000, -999.00,-999.000
318M20130321,       P02E,     133,          1,         14,         14,2,20130526,       1535,    30.0004,  -129.5237,       4700,  1480.3,   2.8031,  34.5617,2,  34.5614,2,     52.3,2,    52.1,2,  143.89,2,   42.25,2,       0,2,    3.06,2,   0.004,2,   0.006,2,-999.000,1,        0,2,  -999.0,9, -999.00,9,-999.0000,9,  -999.00,-999.000,9,-999.0000,9, -999.00,9, -999.00,9,  -999.0,9,  -999.0,-999.000,9,-999.000,     -999.0,9, -999.00,9,   34.74,2, -999.00,9,     -999.0,9,  -999.0,9, 20130526,     1647,  30.0005,-129.5237,    34.7244,2,     -999.0,9,     -999.0,9,      2.803,2,     -999.0,9,     -999.0,9,-999.0000, -999.00,-999.000
318M20130321,       P02E,     133,          1,         13,         13,2,20130526,       1535,    30.0004,  -129.5237,       4700,    1685,   2.4976,  34.5866,2,  34.5871,2,     62.9,2,    62.6,2,  151.69,2,   41.66,2,       0,2,       3,2,  -0.002,2,   0.004,2,-999.000,1,        0,2,  2370.2,2, 2406.05,2,   7.4121,2,       25,-999.000,9,-999.0000,9, -999.00,9, -999.00,9,  -999.0,9,  -999.0,-999.000,9,-999.000,     -999.0,9, -999.00,9, -999.00,5, -999.00,9,     -999.0,9,  -999.0,9, 20130526,     1642,  30.0002,-129.5238,    34.7502,2,     -999.0,9,     -999.0,9,      2.496,2,     -999.0,9,     -999.0,9,-999.0000, -999.00,-999.000
318M20130321,       P02E,     133,          1,         12,         12,2,20130526,       1535,    30.0004,  -129.5237,       4700,  1884.2,   2.2558,  34.6095,2,  34.6093,2,     72.5,2,    73.2,2,  157.16,2,   41.07,2,       0,2,    2.95,2,  -0.002,2,   0.003,2,-999.000,1,        0,2,  2370.2,2, 2413.16,2,   7.4319,2,       25,-999.000,9,-999.0000,9, -999.00,9, -999.00,9,  -999.0,9,  -999.0,-999.000,9,-999.000,     -999.0,9, -999.00,9,    35.7,2, -999.00,9,     -999.0,9,  -999.0,9, 20130526,     1638,  29.9999,-129.5244,    34.7725,2,     -999.0,9,     -999.0,9,     2.2563,2,     -999.0,9,     -999.0,9,-999.0000, -999.00,-999.000
318M20130321,       P02E,     133,          1,         11,         11,2,20130526,       1535,    30.0004,  -129.5237,       4700,  2105.4,   2.0484,   34.626,2,  34.6256,2,     84.1,2,    83.6,2,  161.45,2,   40.41,2,       0,2,    2.87,2,   0.001,2,   0.002,2,-999.000,1,        0,2,  -999.0,9, -999.00,9,-999.0000,9,  -999.00,-999.000,9,-999.0000,9, -999.00,9, -999.00,9,  -999.0,9,  -999.0,-999.000,9,-999.000,     -999.0,9, -999.00,9,   36.97,2, -999.00,9,     -999.0,9,  -999.0,9, 20130526,     1633,  29.9998,-129.5238,    34.7889,2,     -999.0,9,     -999.0,9,     2.0485,2,     -999.0,9,     -999.0,9,-999.0000, -999.00,-999.000
318M20130321,       P02E,     133,          1,         10,         10,2,20130526,       1535,    30.0004,  -129.5237,       4700,  2361.1,   1.8536,  34.6409,2,  34.6407,2,     94.8,2,    94.9,2,  165.84,2,   39.73,2,       0,2,    2.83,2,  -0.003,2,   0.002,2,-999.000,1,        0,2,  2363.3,2, 2421.86,2,   7.4744,2,       25,-999.000,9,-999.0000,9, -999.00,9, -999.00,9,  -999.0,9,  -999.0,-999.000,9,-999.000,     -999.0,9, -999.00,9,   35.07,2, -999.00,9,     -999.0,9,  -999.0,9, 20130526,     1627,  30.0003,-129.5232,    34.8041,2,     -999.0,9,     -999.0,9,     1.8533,2,     -999.0,9,     -999.0,9,-999.0000, -999.00,-999.000
318M20130321,       P02E,     133,          1,          9,          9,2,20130526,       1535,    30.0004,  -129.5237,       4700,  2616.1,   1.7168,   34.652,2,  34.6519,2,    104.5,2,   104.1,2,  168.67,2,   39.12,2,       0,2,    2.76,2,  -0.002,2,   0.001,2,-999.000,1,        0,2,  -999.0,9, -999.00,9,-999.0000,9,  -999.00,-999.000,9,-999.0000,9, -999.00,9, -999.00,9,  -999.0,9,  -999.0,-999.000,9,-999.000,     -999.0,9, -999.00,9,   35.97,2, -999.00,9,     -999.0,9,  -999.0,9, 20130526,     1622,  30.0001,-129.5232,    34.8153,2,     -999.0,9,     -999.0,9,      1.717,2,     -999.0,9,     -999.0,9,-999.0000, -999.00,-999.000
318M20130321,       P02E,     133,          1,          8,          8,2,20130526,       1535,    30.0004,  -129.5237,       4700,  2872.1,   1.6154,  34.6614,2,  34.6612,2,    113.8,2,   113.5,2,  169.94,2,   38.56,2,       0,2,    2.72,2,   0.000,2,   0.003,2,-999.000,1,        0,2,  2355.2,2, 2426.76,2,   7.5086,6,       25,-999.000,9,-999.0000,9, -999.00,9, -999.00,9,  -999.0,9,  -999.0,-999.000,9,-999.000,     -999.0,9, -999.00,9,   37.47,2, -999.00,9,     -999.0,9,  -999.0,9, 20130526,     1616,  29.9999,-129.5238,    34.8246,2,     -999.0,9,     -999.0,9,     1.6161,2,     -999.0,9,     -999.0,9,-999.0000, -999.00,-999.000
318M20130321,       P02E,     133,          1,          7,          7,2,20130526,       1535,    30.0004,  -129.5237,       4700,  3140.5,   1.5409,  34.6701,2,  34.6694,2,    122.7,2,   122.6,2,  169.74,2,   37.99,2,       0,2,    2.67,2,  -0.001,2,   0.003,2,-999.000,1,        0,2,  -999.0,9, -999.00,9,-999.0000,9,  -999.00,-999.000,9,-999.0000,9, -999.00,9, -999.00,9,  -999.0,9,  -999.0,-999.000,9,-999.000,     -999.0,9, -999.00,9,    38.7,2, -999.00,9,     -999.0,9,  -999.0,9, 20130526,     1610,       30,-129.5236,    34.8329,2,     -999.0,9,     -999.0,9,     1.5412,2,     -999.0,9,     -999.0,9,-999.0000, -999.00,-999.000
318M20130321,       P02E,     133,          1,          6,          6,2,20130526,       1535,    30.0004,  -129.5237,       4700,  3445.5,   1.4953,  34.6772,2,  34.6767,2,    131.5,2,   131.7,2,  167.79,2,   37.34,2,       0,2,    2.63,2,   0.000,2,   0.005,2,-999.000,1,        0,2,  2344.2,2, 2428.16,6,   7.5431,2,       25,-999.000,9,-999.0000,9, -999.00,9, -999.00,9,  -999.0,9,  -999.0,-999.000,9,-999.000,     -999.0,9, -999.00,9, -999.00,5, -999.00,9,     -999.0,9,  -999.0,9, 20130526,     1603,  29.9997,-129.5231,    34.8402,2,     -999.0,9,     -999.0,9,     1.4955,2,     -999.0,9,     -999.0,9,-999.0000, -999.00,-999.000