BOTTLE,20220817CCHSIOAMB
EXPOCODE,SECT_ID,STNNBR,CASTNO,SAMPNO,BTLNBR,BTLNBR_FLAG_W,DATE,TIME,LATITUDE,LONGITUDE,DEPTH,CTDPRS,CTDTMP,CTDSAL,CTDSAL_FLAG_W,SALNTY,SALNTY_FLAG_W,CTDOXY,CTDOXY_FLAG_W,OXYGEN,OXYGEN_FLAG_W,SILCAT,SILCAT_FLAG_W,NITRAT,NITRAT_FLAG_W,NITRIT,NITRIT_FLAG_W,PHSPHT,PHSPHT_FLAG_W,CFC-11,CFC-11_FLAG_W,CFC-12,CFC-12_FLAG_W,CFC113,CFC113_FLAG_W,SF6,SF6_FLAG_W,TCARBN,TCARBN_FLAG_W,ALKALI,ALKALI_FLAG_W,PH_TOT,PH_TOT_FLAG_W,PH_TMP,TRITUM,TRITUM_FLAG_W,HELIUM,HELIUM_FLAG_W,DELHE3,DELHE3_FLAG_W,DELC13,DELC13_FLAG_W,DELC14,DELC14_FLAG_W,C14ERR,NEON,NEON_FLAG_W,NEONER,I-129,I-129_FLAG_W,SR-90,SR-90_FLAG_W,DOC,DOC_FLAG_W,TDN,TDN_FLAG_W,CALCIUM,CALCIUM_FLAG_W,D15N_NO3,D15N_NO3_FLAG_W,BTL_DATE,BTL_TIME,BTL_LAT,BTL_LON,SALTREF,SALTREF_FLAG_W,CS-137,CS-137_FLAG_W,CS-134,CS-134_FLAG_W,REFTMP,REFTMP_FLAG_W,LAB_DEN,LAB_DEN_FLAG_W,D18O_NO3,D18O_NO3_FLAG_W,HELIER,DELHER,TRITER
,,,,,,,,,,,METERS,DBAR,ITS-90,PSS-78,,PSS-78,,UMOL/KG,,UMOL/KG,,UMOL/KG,,UMOL/KG,,UMOL/KG,,UMOL/KG,,PMOL/KG,,PMOL/KG,,PMOL/KG,,FMOL/KG,,UMOL/KG,,UMOL/KG,,,,DEG C,TU,,NMOL/KG,,PERCNT,,/MILLE,,/MILLE,,/MILLE,NMOL/KG,,NMOL/KG,BQ/M^3,,DM/.1MG,,UMOL/KG,,UMOL/KG,,MMOL/KG,,/MILLE,,,,,,G/KG,,BQ/M^3,,BQ/M^3,,ITS-90,,,,/MILLE,,NMOL/KG,PERCNT,TU
318M20130321,       P02W,      77,          1,          6,          6,2,20130429,       1017,    29.9999,  -178.1333,       5315,  3651.1,   1.4643,  34.6792,2,  34.6778,2,    141.6,2,   142.1,2,  157.05,2,   36.78,2,       0,2,    2.59,2,-999.000,9,-999.000,9,-999.000,9,-999.0000,9,  2332.4,2, 2418.16,2,   7.5545,2,       25,-999.000,9,-999.0000,9, -999.00,9, -999.00,9,  -999.0,9,  -999.0,-999.000,9,-999.000,     -999.0,9, -999.00,9, -999.00,9, -999.00,9,     -999.0,9,  -999.0,1, 20130429,     1052,       30, -178.134,    34.8414,2,     -999.0,9,     -999.0,9,     1.4644,2,     -999.0,9,     -999.0,1,-999.0000, -999.00,-999.000
318M20130321,       P02W,      77,          1,          5,         37,2,20130429,       1017,    29.9999,  -178.1333,       5315,  3953.1,   1.4597,  34.6835,2,  34.6826,2,    146.1,2,   147.2,2,  156.37,2,   36.47,2,       0,2,    2.56,2,   0.011,2,   0.011,2,   0.005,2,     0.06,2,  -999.0,9, -999.00,9,-999.0000,9,  -999.00,-999.000,9,-999.0000,9, -999.00,9, -999.00,9,  -999.0,9,  -999.0,-999.000,9,-999.000,     -999.0,9, -999.00,9,   34.78,2, -999.00,9,     -999.0,9,  -999.0,1, 20130429,     1046,  30.0001, -178.134,    34.8461,2,     -999.0,9,     -999.0,9,     1.4596,2,     -999.0,9,     -999.0,1,-999.0000, -999.00,-999.000
318M20130321,       P02W,      77,          1,          4,          4,2,20130429,       1017,    29.9999,  -178.1333,       5315,    4366,   1.4752,   34.687,2,  34.6855,2,    151.1,2,     151,2,  155.49,2,   36.17,2,       0,2,    2.54,2,-999.000,9,-999.000,9,-999.000,9,-999.0000,9,  2323.4,2, 2416.86,2,   7.5699,6,       25,-999.000,9,-999.0000,9, -999.00,9, -999.00,9,  -999.0,9,  -999.0,-999.000,9,-999.000,     -999.0,9, -999.00,9, -999.00,9, -999.00,9,     -999.0,9,  -999.0,1, 20130429,     1038,  30.0005,-178.1341,    34.8491,2,     -999.0,9,     -999.0,9,     1.4752,2,     -999.0,9,     -999.0,1,-999.0000, -999.00,-999.000
318M20130321,       P02W,      77,          1,          3,          3,2,20130429,       1017,    29.9999,  -178.1333,       5315,  4779.2,   1.4957,  34.6895,2,  34.6893,2,    156.6,2,   156.6,2,  151.09,2,   35.83,2,       0,2,    2.51,2,   0.011,2,   0.007,2,   0.005,2,     0.04,2,  2319.8,2, 2416.26,6,    7.578,2,       25,-999.000,9,-999.0000,9, -999.00,9, -999.00,9,  -999.0,9,  -999.0,-999.000,9,-999.000,     -999.0,9, -999.00,9,   37.82,2, -999.00,9,     -999.0,9,  -999.0,1, 20130429,     1031,       30,-178.1344,    34.8528,2,     -999.0,9,     -999.0,9,     1.4956,2,     -999.0,9,     -999.0,1,-999.0000, -999.00,-999.000
318M20130321,       P02W,      77,          1,          2,          2,2,20130429,       1017,    29.9999,  -178.1333,       5315,    5196,   1.5249,  34.6917,2,  34.6904,2,    160.8,2,   160.7,2,   146.8,2,    35.5,2,       0,2,    2.48,2,   0.046,2,   0.032,2,   0.009,2,     0.09,4,    2316,6, 2412.06,2,   7.5829,2,       25,-999.000,9,-999.0000,9, -999.00,9, -999.00,9,  -999.0,9,  -999.0,-999.000,9,-999.000,     -999.0,9, -999.00,9,   36.83,2, -999.00,9,     -999.0,9,  -999.0,1, 20130429,     1022,  30.0001,-178.1338,     34.854,2,     -999.0,9,     -999.0,9,     1.5248,2,     -999.0,9,     -999.0,1,-999.0000, -999.00,-999.000
318M20130321,       P02W,      77,          1,          1,          1,9,20130429,       1017,    29.9999,  -178.1333,       5315,  5393.8,   1.5346,  34.6928,2,-999.0000,9,    160.8,2,  -999.0,9, -999.00,9, -999.00,9, -999.00,9, -999.00,9,-999.000,9,-999.000,9,-999.000,9,-999.0000,9,  -999.0,9, -999.00,9,-999.0000,9,  -999.00,-999.000,9,-999.0000,9, -999.00,9, -999.00,9,  -999.0,9,  -999.0,-999.000,9,-999.000,     -999.0,9, -999.00,9,   39.63,2, -999.00,9,     -999.0,9,  -999.0,9, 20130429,     1017,  29.9999,-178.1333,     -999.0,9,     -999.0,9,     -999.0,9,     1.5343,2,     -999.0,9,     -999.0,9,-999.0000, -999.00,-999.000