BOTTLE,20220817CCHSIOAMB
EXPOCODE,SECT_ID,STNNBR,CASTNO,SAMPNO,BTLNBR,BTLNBR_FLAG_W,DATE,TIME,LATITUDE,LONGITUDE,DEPTH,CTDPRS,CTDTMP,CTDSAL,CTDSAL_FLAG_W,SALNTY,SALNTY_FLAG_W,CTDOXY,CTDOXY_FLAG_W,OXYGEN,OXYGEN_FLAG_W,SILCAT,SILCAT_FLAG_W,NITRAT,NITRAT_FLAG_W,NITRIT,NITRIT_FLAG_W,PHSPHT,PHSPHT_FLAG_W,CFC-11,CFC-11_FLAG_W,CFC-12,CFC-12_FLAG_W,CFC113,CFC113_FLAG_W,SF6,SF6_FLAG_W,TCARBN,TCARBN_FLAG_W,ALKALI,ALKALI_FLAG_W,PH_TOT,PH_TOT_FLAG_W,PH_TMP,TRITUM,TRITUM_FLAG_W,HELIUM,HELIUM_FLAG_W,DELHE3,DELHE3_FLAG_W,DELC13,DELC13_FLAG_W,DELC14,DELC14_FLAG_W,C14ERR,NEON,NEON_FLAG_W,NEONER,I-129,I-129_FLAG_W,SR-90,SR-90_FLAG_W,DOC,DOC_FLAG_W,TDN,TDN_FLAG_W,CALCIUM,CALCIUM_FLAG_W,D15N_NO3,D15N_NO3_FLAG_W,BTL_DATE,BTL_TIME,BTL_LAT,BTL_LON,SALTREF,SALTREF_FLAG_W,CS-137,CS-137_FLAG_W,CS-134,CS-134_FLAG_W,REFTMP,REFTMP_FLAG_W,LAB_DEN,LAB_DEN_FLAG_W,D18O_NO3,D18O_NO3_FLAG_W,HELIER,DELHER,TRITER
,,,,,,,,,,,METERS,DBAR,ITS-90,PSS-78,,PSS-78,,UMOL/KG,,UMOL/KG,,UMOL/KG,,UMOL/KG,,UMOL/KG,,UMOL/KG,,PMOL/KG,,PMOL/KG,,PMOL/KG,,FMOL/KG,,UMOL/KG,,UMOL/KG,,,,DEG C,TU,,NMOL/KG,,PERCNT,,/MILLE,,/MILLE,,/MILLE,NMOL/KG,,NMOL/KG,BQ/M^3,,DM/.1MG,,UMOL/KG,,UMOL/KG,,MMOL/KG,,/MILLE,,,,,,G/KG,,BQ/M^3,,BQ/M^3,,ITS-90,,,,/MILLE,,NMOL/KG,PERCNT,TU
318M20130321,       P02E,     134,          1,         36,         36,2,20130526,       2239,    29.9993,  -128.7558,       4001,     2.2,  17.0917,  33.5716,2,  33.5708,2,    246.3,2,   245.7,2,    2.44,2,       0,2,       0,2,    0.21,2,   2.372,2,   1.418,2,-999.000,1,   1.6621,2,  2020.7,2, 2236.69,2,    7.914,2,       25,-999.000,9,-999.0000,9, -999.00,9, -999.00,9,  -999.0,9,  -999.0,-999.000,9,-999.000,     -999.0,9, -999.00,9, -999.00,9, -999.00,9,     -999.0,9,  -999.0,9, 20130527,       23,  29.9994,-128.7557,    33.7291,2,     -999.0,9,     -999.0,9,    17.0913,2,     -999.0,9,     -999.0,9,-999.0000, -999.00,-999.000
318M20130321,       P02E,     134,          1,         34,         34,2,20130526,       2239,    29.9993,  -128.7558,       4001,    19.9,  16.9064,  33.5717,2,   33.572,2,    246.7,2,   246.1,2,    2.44,2,       0,2,       0,2,    0.22,2,   2.381,2,   1.428,2,-999.000,1,   1.7385,2,  -999.0,9, -999.00,9,-999.0000,9,  -999.00,-999.000,9,-999.0000,9, -999.00,9, -999.00,9,  -999.0,9,  -999.0,-999.000,9,-999.000,     -999.0,9, -999.00,9, -999.00,9, -999.00,9,     -999.0,9,  -999.0,9, 20130527,       21,  29.9997,-128.7557,    33.7303,2,     -999.0,9,     -999.0,9,    16.9068,2,     -999.0,9,     -999.0,9,-999.0000, -999.00,-999.000
318M20130321,       P02E,     134,          1,         33,         33,2,20130526,       2239,    29.9993,  -128.7558,       4001,    40.2,  16.5055,  33.5039,2,  33.4819,3,    248.8,2,   250.4,2,    2.54,2,       0,2,       0,2,    0.23,2,-999.000,9,-999.000,9,-999.000,9,-999.0000,9,  2017.3,2, 2232.19,2,   7.9119,6,       25,-999.000,9,-999.0000,9, -999.00,9, -999.00,9,  -999.0,9,  -999.0,-999.000,9,-999.000,     -999.0,9, -999.00,9, -999.00,9, -999.00,9,     -999.0,9,  -999.0,9, 20130527,       19,  29.9998,-128.7557,    33.6398,3,     -999.0,9,     -999.0,9,    16.5356,3,     -999.0,9,     -999.0,9,-999.0000, -999.00,-999.000
318M20130321,       P02E,     134,          1,         32,         32,2,20130526,       2239,    29.9993,  -128.7558,       4001,    65.1,  15.4109,  33.4672,2,  33.4706,2,    256.4,2,   256.8,2,    2.44,2,       0,2,       0,2,    0.23,2,   2.585,2,   1.533,2,-999.000,1,   1.7272,2,  2015.3,2, 2229.69,6,   7.9131,2,       25,-999.000,9,-999.0000,9, -999.00,9, -999.00,9,  -999.0,9,  -999.0,-999.000,9,-999.000,     -999.0,9, -999.00,9, -999.00,9, -999.00,9,     -999.0,9,  -999.0,9, 20130527,       18,  29.9997,-128.7557,    33.6284,2,     -999.0,9,     -999.0,9,    15.4141,2,     -999.0,9,     -999.0,9,-999.0000, -999.00,-999.000
318M20130321,       P02E,     134,          1,         31,         31,2,20130526,       2239,    29.9993,  -128.7558,       4001,    91.3,  15.6192,  33.7034,2,  33.6987,2,      251,2,     251,2,    2.34,2,       0,2,       0,2,     0.2,2,-999.000,9,-999.000,9,-999.000,9,-999.0000,9,  -999.0,9, -999.00,9,-999.0000,9,  -999.00,-999.000,9,-999.0000,9, -999.00,9, -999.00,9,  -999.0,9,  -999.0,-999.000,9,-999.000,     -999.0,9, -999.00,9, -999.00,9, -999.00,9,     -999.0,9,  -999.0,9, 20130527,       16,  29.9997,-128.7557,    33.8576,2,     -999.0,9,     -999.0,9,    15.6217,2,     -999.0,9,     -999.0,9,-999.0000, -999.00,-999.000
318M20130321,       P02E,     134,          1,         30,         30,2,20130526,       2239,    29.9993,  -128.7558,       4001,   134.9,  13.8192,  33.6492,2,  33.6528,2,    239.3,2,     240,2,    3.52,2,    1.28,2,    0.14,2,    0.32,2,   3.212,2,   1.803,2,-999.000,1,   1.4718,2,  2035.5,2, 2231.19,6,     7.87,2,       25,-999.000,9,-999.0000,9, -999.00,9, -999.00,9,  -999.0,9,  -999.0,-999.000,9,-999.000,     -999.0,9, -999.00,9, -999.00,9, -999.00,9,     -999.0,9,  -999.0,9, 20130527,       14,  29.9999,-128.7558,    33.8114,2,     -999.0,9,     -999.0,9,    13.8094,2,     -999.0,9,     -999.0,9,-999.0000, -999.00,-999.000
318M20130321,       P02E,     134,          1,         29,         29,2,20130526,       2239,    29.9993,  -128.7558,       4001,   185.5,   9.7839,  33.6078,2,   33.606,2,    183.6,2,   179.1,2,   17.49,2,   18.07,2,    0.01,2,    1.42,2,-999.000,9,-999.000,9,-999.000,9,-999.0000,9,  2128.6,2, 2230.79,2,   7.6298,2,       25,-999.000,9,-999.0000,9, -999.00,9, -999.00,9,  -999.0,9,  -999.0,-999.000,9,-999.000,     -999.0,9, -999.00,9, -999.00,9, -999.00,9,     -999.0,9,  -999.0,9, 20130527,       12,  30.0003,-128.7557,    33.7645,2,     -999.0,9,     -999.0,9,     9.7875,2,     -999.0,9,     -999.0,9,-999.0000, -999.00,-999.000
318M20130321,       P02E,     134,          1,         27,         27,2,20130526,       2239,    29.9993,  -128.7558,       4001,   235.6,   8.8012,  33.8924,2,  33.8897,2,    136.9,2,   135.4,2,   28.52,2,   24.97,2,       0,2,    1.86,2,   3.043,2,   1.660,2,-999.000,1,   1.1567,2,  2179.6,2,  2249.4,2,   7.5355,2,       25,-999.000,9,-999.0000,9, -999.00,9, -999.00,9,  -999.0,9,  -999.0,-999.000,9,-999.000,     -999.0,9, -999.00,9, -999.00,9, -999.00,9,     -999.0,9,  -999.0,9, 20130527,       10,  30.0002,-128.7558,    34.0496,2,     -999.0,9,     -999.0,9,     8.8003,2,     -999.0,9,     -999.0,9,-999.0000, -999.00,-999.000
318M20130321,       P02E,     134,          1,         26,         26,2,20130526,       2239,    29.9993,  -128.7558,       4001,   286.9,   8.1814,  34.0058,2,  34.0043,2,    110.1,2,   106.7,2,   37.01,2,    28.8,2,       0,2,    2.14,2,-999.000,9,-999.000,9,-999.000,9,-999.0000,9,  2211.6,2,  2262.1,2,    7.472,2,       25,-999.000,9,-999.0000,9, -999.00,9, -999.00,9,  -999.0,9,  -999.0,-999.000,9,-999.000,     -999.0,9, -999.00,9, -999.00,9, -999.00,9,     -999.0,9,  -999.0,9, 20130527,        8,       30,-128.7559,    34.1647,2,     -999.0,9,     -999.0,9,     8.1791,2,     -999.0,9,     -999.0,9,-999.0000, -999.00,-999.000
318M20130321,       P02E,     134,          1,         25,         25,2,20130526,       2239,    29.9993,  -128.7558,       4001,   336.5,   7.5455,  34.0518,2,  34.0508,2,     82.9,2,    83.7,2,   45.51,2,   31.88,2,       0,2,    2.38,2,   2.309,6,   1.188,6,-999.000,1,   0.5125,6,  2237.6,2, 2271.81,2,   7.4221,6,       25,-999.000,9,-999.0000,9, -999.00,9, -999.00,9,  -999.0,9,  -999.0,-999.000,9,-999.000,     -999.0,9, -999.00,9, -999.00,9, -999.00,9,     -999.0,9,  -999.0,9, 20130527,        6,  29.9999, -128.756,    34.2113,2,     -999.0,9,     -999.0,9,     7.5351,2,     -999.0,9,     -999.0,9,-999.0000, -999.00,-999.000
318M20130321,       P02E,     134,          1,         24,         24,2,20130526,       2239,    29.9993,  -128.7558,       4001,   387.4,   6.8585,  34.0824,2,  34.0814,2,     61.2,2,    61.4,2,   55.66,2,   35.03,2,       0,2,    2.62,2,-999.000,9,-999.000,9,-999.000,9,-999.0000,9,  2262.8,2, 2281.51,2,   7.3719,2,       25,-999.000,9,-999.0000,9, -999.00,9, -999.00,9,  -999.0,9,  -999.0,-999.000,9,-999.000,     -999.0,9, -999.00,9, -999.00,9, -999.00,9,     -999.0,9,  -999.0,9, 20130527,        4,  29.9998, -128.756,    34.2421,2,     -999.0,9,     -999.0,9,     6.8596,2,     -999.0,9,     -999.0,9,-999.0000, -999.00,-999.000
318M20130321,       P02E,     134,          1,         23,         23,2,20130526,       2239,    29.9993,  -128.7558,       4001,   465.3,   6.2804,  34.1455,2,  34.1441,2,     36.3,2,    36.8,2,   66.99,2,   37.86,2,       0,2,    2.87,2,   1.085,2,   0.528,2,-999.000,1,   0.2169,2,  2290.5,2, 2295.02,2,   7.3274,2,       25,-999.000,9,-999.0000,9, -999.00,9, -999.00,9,  -999.0,9,  -999.0,-999.000,9,-999.000,     -999.0,9, -999.00,9, -999.00,9, -999.00,9,     -999.0,9,  -999.0,9, 20130527,        1,  29.9997, -128.756,    34.3051,2,     -999.0,9,     -999.0,9,     6.2792,2,     -999.0,9,     -999.0,9,-999.0000, -999.00,-999.000
318M20130321,       P02E,     134,          1,         22,         22,2,20130526,       2239,    29.9993,  -128.7558,       4001,   569.5,   5.2986,  34.1832,2,  34.1843,2,     26.1,2,    23.8,2,   84.46,2,   40.77,2,       0,2,    3.06,2,-999.000,9,-999.000,9,-999.000,9,-999.0000,9,  2316.9,2, 2313.42,2,   7.3004,2,       25,-999.000,9,-999.0000,9, -999.00,9, -999.00,9,  -999.0,9,  -999.0,-999.000,9,-999.000,     -999.0,9, -999.00,9, -999.00,9, -999.00,9,     -999.0,9,  -999.0,9, 20130526,     2358,  29.9996, -128.756,    34.3455,2,     -999.0,9,     -999.0,9,     5.2897,2,     -999.0,9,     -999.0,9,-999.0000, -999.00,-999.000
318M20130321,       P02E,     134,          1,         21,         21,2,20130526,       2239,    29.9993,  -128.7558,       4001,   668.5,   4.8331,  34.2847,2,  34.2837,2,     14.4,2,    13.9,2,   96.66,2,   42.24,2,       0,2,    3.18,2,   0.125,2,   0.069,2,-999.000,1,        0,2,  2337.3,2, 2331.73,2,   7.2934,2,       25,-999.000,9,-999.0000,9, -999.00,9, -999.00,9,  -999.0,9,  -999.0,-999.000,9,-999.000,     -999.0,9, -999.00,9, -999.00,9, -999.00,9,     -999.0,9,  -999.0,9, 20130526,     2356,  29.9996,-128.7559,    34.4454,2,     -999.0,9,     -999.0,9,     4.8345,2,     -999.0,9,     -999.0,9,-999.0000, -999.00,-999.000
318M20130321,       P02E,     134,          1,         20,         20,2,20130526,       2239,    29.9993,  -128.7558,       4001,   771.5,   4.4657,  34.3519,2,  34.3534,2,     13.5,2,    13.7,2,  105.83,2,   43.06,2,       0,2,    3.23,2,-999.000,9,-999.000,9,-999.000,9,-999.0000,9,  -999.0,9, -999.00,9,-999.0000,9,  -999.00,-999.000,9,-999.0000,9, -999.00,9, -999.00,9,  -999.0,9,  -999.0,-999.000,9,-999.000,     -999.0,9, -999.00,9, -999.00,9, -999.00,9,     -999.0,9,  -999.0,9, 20130526,     2353,  29.9998,-128.7558,    34.5154,2,     -999.0,9,     -999.0,9,     4.4663,2,     -999.0,9,     -999.0,9,-999.0000, -999.00,-999.000
318M20130321,       P02E,     134,          1,         19,         19,2,20130526,       2239,    29.9993,  -128.7558,       4001,   872.1,   4.1526,  34.4006,2,  34.3977,2,     18.4,2,      18,2,  112.76,2,   43.39,2,       0,2,    3.22,2,   0.018,2,   0.015,2,-999.000,1,        0,2,  2354.7,2, 2356.64,2,   7.3121,2,       25,-999.000,9,-999.0000,9, -999.00,9, -999.00,9,  -999.0,9,  -999.0,-999.000,9,-999.000,     -999.0,9, -999.00,9, -999.00,9, -999.00,9,     -999.0,9,  -999.0,9, 20130526,     2350,  29.9998,-128.7559,    34.5599,2,     -999.0,9,     -999.0,9,     4.1529,2,     -999.0,9,     -999.0,9,-999.0000, -999.00,-999.000
318M20130321,       P02E,     134,          1,         18,         18,2,20130526,       2239,    29.9993,  -128.7558,       4001,   972.5,   3.8489,   34.452,2,  34.4513,2,     25.4,2,    25.5,2,  118.91,2,   43.34,2,       0,2,    3.19,2,-999.000,9,-999.000,9,-999.000,9,-999.0000,9,  -999.0,9, -999.00,9,-999.0000,9,  -999.00,-999.000,9,-999.0000,9, -999.00,9, -999.00,9,  -999.0,9,  -999.0,-999.000,9,-999.000,     -999.0,9, -999.00,9, -999.00,9, -999.00,9,     -999.0,9,  -999.0,9, 20130526,     2348,  29.9997,-128.7562,    34.6138,2,     -999.0,9,     -999.0,9,     3.8489,2,     -999.0,9,     -999.0,9,-999.0000, -999.00,-999.000
318M20130321,       P02E,     134,          1,         17,         17,2,20130526,       2239,    29.9993,  -128.7558,       4001,  1072.9,   3.6302,  34.4845,2,  34.4832,2,     31.7,2,    32.3,2,   123.1,2,   43.14,2,       0,2,    3.17,2,   0.005,2,   0.007,2,-999.000,1,        0,2,  2361.4,6, 2375.14,2,   7.3487,6,       25,-999.000,9,-999.0000,9, -999.00,9, -999.00,9,  -999.0,9,  -999.0,-999.000,9,-999.000,     -999.0,9, -999.00,9, -999.00,9, -999.00,9,     -999.0,9,  -999.0,9, 20130526,     2345,  29.9999,-128.7564,    34.6458,2,     -999.0,9,     -999.0,9,     3.6311,2,     -999.0,9,     -999.0,9,-999.0000, -999.00,-999.000
318M20130321,       P02E,     134,          1,         16,         16,2,20130526,       2239,    29.9993,  -128.7558,       4001,  1174.3,   3.4319,  34.5091,2,  34.5087,2,     37.7,2,    37.6,2,  127.78,2,      43,2,       0,2,    3.13,2,-999.000,9,-999.000,9,-999.000,9,-999.0000,9,  -999.0,9, -999.00,9,-999.0000,9,  -999.00,-999.000,9,-999.0000,9, -999.00,9, -999.00,9,  -999.0,9,  -999.0,-999.000,9,-999.000,     -999.0,9, -999.00,9, -999.00,9, -999.00,9,     -999.0,9,  -999.0,9, 20130526,     2342,       30,-128.7565,    34.6714,2,     -999.0,9,     -999.0,9,     3.4359,2,     -999.0,9,     -999.0,9,-999.0000, -999.00,-999.000
318M20130321,       P02E,     134,          1,         15,         15,2,20130526,       2239,    29.9993,  -128.7558,       4001,  1276.2,   3.2214,  34.5308,2,  34.5303,2,     43.1,2,    43.1,2,  132.76,2,   42.76,2,       0,2,    3.11,2,   0.003,2,   0.006,2,-999.000,1,        0,2,  2364.9,2, 2386.25,2,   7.3729,2,       25,-999.000,9,-999.0000,9, -999.00,9, -999.00,9,  -999.0,9,  -999.0,-999.000,9,-999.000,     -999.0,9, -999.00,9, -999.00,9, -999.00,9,     -999.0,9,  -999.0,9, 20130526,     2340,  29.9998,-128.7567,    34.6931,2,     -999.0,9,     -999.0,9,     3.2222,2,     -999.0,9,     -999.0,9,-999.0000, -999.00,-999.000
318M20130321,       P02E,     134,          1,         14,         14,2,20130526,       2239,    29.9993,  -128.7558,       4001,  1376.3,   3.0483,  34.5459,2,  34.5448,2,     47.2,2,    47.4,2,  136.96,2,   42.57,2,       0,2,    3.08,2,-999.000,9,-999.000,9,-999.000,9,-999.0000,9,  -999.0,9, -999.00,9,-999.0000,9,  -999.00,-999.000,9,-999.0000,9, -999.00,9, -999.00,9,  -999.0,9,  -999.0,-999.000,9,-999.000,     -999.0,9, -999.00,9, -999.00,9, -999.00,9,     -999.0,9,  -999.0,9, 20130526,     2337,       30,-128.7566,    34.7077,2,     -999.0,9,     -999.0,9,     3.0485,2,     -999.0,9,     -999.0,9,-999.0000, -999.00,-999.000
318M20130321,       P02E,     134,          1,         13,         13,2,20130526,       2239,    29.9993,  -128.7558,       4001,  1478.6,   2.8699,  34.5591,2,   34.559,2,     51.5,2,    51.2,2,  141.93,2,   42.36,2,       0,2,    3.07,2,   0.001,2,   0.006,2,-999.000,1,        0,2,  2369.5,2, 2397.05,2,   7.3896,2,       25,-999.000,9,-999.0000,9, -999.00,9, -999.00,9,  -999.0,9,  -999.0,-999.000,9,-999.000,     -999.0,9, -999.00,9, -999.00,9, -999.00,9,     -999.0,9,  -999.0,9, 20130526,     2334,  30.0002,-128.7564,    34.7219,2,     -999.0,9,     -999.0,9,     2.8694,2,     -999.0,9,     -999.0,9,-999.0000, -999.00,-999.000
318M20130321,       P02E,     134,          1,         12,         12,2,20130526,       2239,    29.9993,  -128.7558,       4001,  1579.7,   2.7062,   34.573,2,  34.5723,2,     56.3,2,    56.4,2,  145.84,2,   42.12,2,       0,2,    3.04,2,-999.000,9,-999.000,9,-999.000,9,-999.0000,9,  -999.0,9, -999.00,9,-999.0000,9,  -999.00,-999.000,9,-999.0000,9, -999.00,9, -999.00,9,  -999.0,9,  -999.0,-999.000,9,-999.000,     -999.0,9, -999.00,9, -999.00,9, -999.00,9,     -999.0,9,  -999.0,9, 20130526,     2331,  30.0001,-128.7564,    34.7354,2,     -999.0,9,     -999.0,9,     2.7058,2,     -999.0,9,     -999.0,9,-999.0000, -999.00,-999.000
318M20130321,       P02E,     134,          1,         11,         11,2,20130526,       2239,    29.9993,  -128.7558,       4001,  1753.9,   2.4573,  34.5923,2,   34.593,2,     65.7,2,    65.3,2,  152.18,2,   41.62,2,       0,2,       3,2,   0.000,2,   0.004,2,-999.000,1,        0,2,    2372,2, 2408.36,2,   7.4151,2,       25,-999.000,9,-999.0000,9, -999.00,9, -999.00,9,  -999.0,9,  -999.0,-999.000,9,-999.000,     -999.0,9, -999.00,9, -999.00,9, -999.00,9,     -999.0,9,  -999.0,9, 20130526,     2328,       30,-128.7562,    34.7561,2,     -999.0,9,     -999.0,9,     2.4571,2,     -999.0,9,     -999.0,9,-999.0000, -999.00,-999.000
318M20130321,       P02E,     134,          1,         10,         10,2,20130526,       2239,    29.9993,  -128.7558,       4001,  1956.1,   2.1893,  34.6148,2,  34.6152,2,     77.2,2,    78.5,2,  157.94,2,   40.89,2,       0,2,    2.93,2,-999.000,9,-999.000,9,-999.000,9,-999.0000,9,  -999.0,9, -999.00,9,-999.0000,9,  -999.00,-999.000,9,-999.0000,9, -999.00,9, -999.00,9,  -999.0,9,  -999.0,-999.000,9,-999.000,     -999.0,9, -999.00,9, -999.00,9, -999.00,9,     -999.0,9,  -999.0,9, 20130526,     2323,  29.9999,-128.7561,    34.7784,2,     -999.0,9,     -999.0,9,     2.1896,2,     -999.0,9,     -999.0,9,-999.0000, -999.00,-999.000
318M20130321,       P02E,     134,          1,          9,          9,2,20130526,       2239,    29.9993,  -128.7558,       4001,  2190.5,   1.9878,  34.6327,2,  34.6321,2,     88.3,2,    87.6,2,  161.55,2,   40.18,2,       0,2,    2.86,2,  -0.002,2,   0.002,2,-999.000,1,        0,2,  2367.7,2, 2419.96,2,   7.4619,2,       25,-999.000,9,-999.0000,9, -999.00,9, -999.00,9,  -999.0,9,  -999.0,-999.000,9,-999.000,     -999.0,9, -999.00,9, -999.00,9, -999.00,9,     -999.0,9,  -999.0,9, 20130526,     2318,  30.0001,-128.7559,    34.7954,2,     -999.0,9,     -999.0,9,     1.9884,2,     -999.0,9,     -999.0,9,-999.0000, -999.00,-999.000
318M20130321,       P02E,     134,          1,          8,          8,2,20130526,       2239,    29.9993,  -128.7558,       4001,  2444.6,   1.8252,  34.6443,2,  34.6439,2,     98.2,2,      98,2,  165.25,2,   39.56,2,       0,2,     2.8,2,-999.000,9,-999.000,9,-999.000,9,-999.0000,9,  -999.0,9, -999.00,9,-999.0000,9,  -999.00,-999.000,9,-999.0000,9, -999.00,9, -999.00,9,  -999.0,9,  -999.0,-999.000,9,-999.000,     -999.0,9, -999.00,9, -999.00,9, -999.00,9,     -999.0,9,  -999.0,9, 20130526,     2313,  29.9998,-128.7558,    34.8072,2,     -999.0,9,     -999.0,9,     1.8251,2,     -999.0,9,     -999.0,9,-999.0000, -999.00,-999.000
318M20130321,       P02E,     134,          1,          7,          7,2,20130526,       2239,    29.9993,  -128.7558,       4001,  2699.8,   1.6987,  34.6543,2,  34.6539,2,    107.3,2,   107.4,2,  168.18,2,   39.04,2,       0,2,    2.74,2,  -0.001,2,   0.002,2,-999.000,1,        0,2,  2361.1,2, 2425.16,2,   7.4959,2,       25,-999.000,9,-999.0000,9, -999.00,9, -999.00,9,  -999.0,9,  -999.0,-999.000,9,-999.000,     -999.0,9, -999.00,9, -999.00,9, -999.00,9,     -999.0,9,  -999.0,9, 20130526,     2308,  29.9998,-128.7557,    34.8173,2,     -999.0,9,     -999.0,9,     1.6988,2,     -999.0,9,     -999.0,9,-999.0000, -999.00,-999.000
318M20130321,       P02E,     134,          1,          6,          6,2,20130526,       2239,    29.9993,  -128.7558,       4001,  2954.2,   1.5989,  34.6637,2,  34.6637,2,    115.7,2,   116.3,2,  169.15,2,   38.43,2,       0,2,     2.7,2,-999.000,9,-999.000,9,-999.000,9,-999.0000,9,  -999.0,9, -999.00,9,-999.0000,9,  -999.00,-999.000,9,-999.0000,9, -999.00,9, -999.00,9,  -999.0,9,  -999.0,-999.000,9,-999.000,     -999.0,9, -999.00,9, -999.00,9, -999.00,9,     -999.0,9,  -999.0,9, 20130526,     2302,  29.9998,-128.7557,    34.8272,2,     -999.0,9,     -999.0,9,     1.5989,2,     -999.0,9,     -999.0,9,-999.0000, -999.00,-999.000