BOTTLE,20220817CCHSIOAMB
EXPOCODE,SECT_ID,STNNBR,CASTNO,SAMPNO,BTLNBR,BTLNBR_FLAG_W,DATE,TIME,LATITUDE,LONGITUDE,DEPTH,CTDPRS,CTDTMP,CTDSAL,CTDSAL_FLAG_W,SALNTY,SALNTY_FLAG_W,CTDOXY,CTDOXY_FLAG_W,OXYGEN,OXYGEN_FLAG_W,SILCAT,SILCAT_FLAG_W,NITRAT,NITRAT_FLAG_W,NITRIT,NITRIT_FLAG_W,PHSPHT,PHSPHT_FLAG_W,CFC-11,CFC-11_FLAG_W,CFC-12,CFC-12_FLAG_W,CFC113,CFC113_FLAG_W,SF6,SF6_FLAG_W,TCARBN,TCARBN_FLAG_W,ALKALI,ALKALI_FLAG_W,PH_TOT,PH_TOT_FLAG_W,PH_TMP,TRITUM,TRITUM_FLAG_W,HELIUM,HELIUM_FLAG_W,DELHE3,DELHE3_FLAG_W,DELC13,DELC13_FLAG_W,DELC14,DELC14_FLAG_W,C14ERR,NEON,NEON_FLAG_W,NEONER,I-129,I-129_FLAG_W,SR-90,SR-90_FLAG_W,DOC,DOC_FLAG_W,TDN,TDN_FLAG_W,CALCIUM,CALCIUM_FLAG_W,D15N_NO3,D15N_NO3_FLAG_W,BTL_DATE,BTL_TIME,BTL_LAT,BTL_LON,SALTREF,SALTREF_FLAG_W,CS-137,CS-137_FLAG_W,CS-134,CS-134_FLAG_W,REFTMP,REFTMP_FLAG_W,LAB_DEN,LAB_DEN_FLAG_W,D18O_NO3,D18O_NO3_FLAG_W,HELIER,DELHER,TRITER
,,,,,,,,,,,METERS,DBAR,ITS-90,PSS-78,,PSS-78,,UMOL/KG,,UMOL/KG,,UMOL/KG,,UMOL/KG,,UMOL/KG,,UMOL/KG,,PMOL/KG,,PMOL/KG,,PMOL/KG,,FMOL/KG,,UMOL/KG,,UMOL/KG,,,,DEG C,TU,,NMOL/KG,,PERCNT,,/MILLE,,/MILLE,,/MILLE,NMOL/KG,,NMOL/KG,BQ/M^3,,DM/.1MG,,UMOL/KG,,UMOL/KG,,MMOL/KG,,/MILLE,,,,,,G/KG,,BQ/M^3,,BQ/M^3,,ITS-90,,,,/MILLE,,NMOL/KG,PERCNT,TU
318M20130321,       P02W,      53,          1,          7,          7,2,20130422,       0218,    30.0001,   165.1952,       5906,  3648.5,   1.4854,  34.6776,2,  34.6774,2,      144,2,   143.6,2,  151.39,2,   36.31,2,       0,2,    2.57,2,-999.000,9,-999.000,9,-999.000,9,-999.0000,9,    2332,2, 2413.86,2,   7.5553,2,       25,-999.000,9,-999.0000,9, -999.00,9, -999.00,9,  -999.0,9,  -999.0,-999.000,9,-999.000,     -999.0,9, -999.00,9,   34.43,2, -999.00,9,     -999.0,9,  -999.0,9, 20130422,      306,  30.0001, 165.1952,    34.8409,2,     -999.0,9,     -999.0,9,     1.4858,2,     -999.0,9,     -999.0,9,-999.0000, -999.00,-999.000
318M20130321,       P02W,      53,          1,          6,          6,2,20130422,       0218,    30.0001,   165.1952,       5906,  4055.6,   1.4684,  34.6836,2,  34.6827,2,    151.9,2,   151.8,2,  148.46,2,   35.76,2,       0,2,    2.53,2,   0.005,2,   0.008,2,  -0.002,2,        0,2,  -999.0,9, -999.00,9,-999.0000,9,  -999.00,-999.000,9,-999.0000,9, -999.00,9, -999.00,9,  -999.0,9,  -999.0,-999.000,9,-999.000,     -999.0,9, -999.00,9, -999.00,9, -999.00,9,     -999.0,9,  -999.0,9, 20130422,      259,  30.0001, 165.1953,    34.8463,2,     -999.0,9,     -999.0,9,     1.4688,2,     -999.0,9,     -999.0,9,-999.0000, -999.00,-999.000
318M20130321,       P02W,      53,          1,          5,         37,2,20130422,       0218,    30.0001,   165.1952,       5906,  4469.9,   1.4694,  34.6881,2,   34.688,2,    157.6,2,   157.3,2,  146.12,2,   35.37,2,       0,2,    2.49,2,-999.000,9,-999.000,9,-999.000,9,-999.0000,9,    2322,2, 2411.36,6,   7.5754,2,       25,-999.000,9,-999.0000,9, -999.00,9, -999.00,9,  -999.0,9,  -999.0,-999.000,9,-999.000,     -999.0,9, -999.00,9,   35.25,2, -999.00,9,     -999.0,9,  -999.0,9, 20130422,      250,  30.0001, 165.1952,    34.8516,2,     -999.0,9,     -999.0,9,     1.4698,2,     -999.0,9,     -999.0,9,-999.0000, -999.00,-999.000
318M20130321,       P02W,      53,          1,          4,          4,2,20130422,       0218,    30.0001,   165.1952,       5906,  4882.7,   1.4798,  34.6917,2,   34.691,2,    163.7,2,   163.8,2,  141.72,2,   34.92,2,       0,2,    2.46,2,   0.011,2,   0.011,2,   0.001,2,        0,2,  -999.0,9, -999.00,9,-999.0000,9,  -999.00,-999.000,9,-999.0000,9, -999.00,9, -999.00,9,  -999.0,9,  -999.0,-999.000,9,-999.000,     -999.0,9, -999.00,9, -999.00,9, -999.00,9,     -999.0,9,  -999.0,9, 20130422,      242,  30.0001, 165.1952,    34.8546,2,     -999.0,9,     -999.0,9,     1.4802,2,     -999.0,9,     -999.0,9,-999.0000, -999.00,-999.000
318M20130321,       P02W,      53,          1,          3,          3,2,20130422,       0218,    30.0001,   165.1952,       5906,    5292,   1.5004,  34.6944,2,  34.6938,2,      169,2,   168.7,2,  138.21,2,   34.52,2,       0,2,    2.43,2,   0.013,2,   0.013,2,   0.006,2,        0,2,  2310.7,6, 2403.25,2,   7.5912,2,       25,-999.000,9,-999.0000,9, -999.00,9, -999.00,9,  -999.0,9,  -999.0,-999.000,9,-999.000,     -999.0,9, -999.00,9,   36.04,2, -999.00,9,     -999.0,9,  -999.0,9, 20130422,      234,  30.0001, 165.1952,    34.8574,2,     -999.0,9,     -999.0,9,     1.5005,2,     -999.0,9,     -999.0,9,-999.0000, -999.00,-999.000
318M20130321,       P02W,      53,          1,          2,          2,2,20130422,       0218,    30.0001,   165.1952,       5906,  5713.2,   1.5307,   34.696,2,  34.6948,2,    171.8,2,   172.4,2,  135.77,2,   34.28,2,       0,2,     2.4,2,   0.008,2,   0.010,2,   0.002,2,        0,2,  2305.5,2, 2401.75,2,   7.5919,6,       25,-999.000,9,-999.0000,9, -999.00,9, -999.00,9,  -999.0,9,  -999.0,-999.000,9,-999.000,     -999.0,9, -999.00,9,   37.57,2, -999.00,9,     -999.0,9,  -999.0,9, 20130422,      226,  30.0001, 165.1953,    34.8584,2,     -999.0,9,     -999.0,9,     1.5313,2,     -999.0,9,     -999.0,9,-999.0000, -999.00,-999.000
318M20130321,       P02W,      53,          1,          1,          1,2,20130422,       0218,    30.0001,   165.1952,       5906,  5996.6,   1.5632,  34.6963,2,  34.6957,2,      173,2,     173,2,  135.28,2,   34.21,2,       0,2,     2.4,2,   0.024,2,   0.016,2,   0.003,2,        0,2,  2303.3,2, 2402.15,2,   7.5949,2,       25,-999.000,9,-999.0000,9, -999.00,9, -999.00,9,  -999.0,9,  -999.0,-999.000,9,-999.000,     -999.0,9, -999.00,9,   36.23,2, -999.00,9,     -999.0,9,  -999.0,9, 20130422,      219,  30.0001, 165.1952,    34.8594,2,     -999.0,9,     -999.0,9,     1.5629,2,     -999.0,9,     -999.0,9,-999.0000, -999.00,-999.000