BOTTLE,20220817CCHSIOAMB
EXPOCODE,SECT_ID,STNNBR,CASTNO,SAMPNO,BTLNBR,BTLNBR_FLAG_W,DATE,TIME,LATITUDE,LONGITUDE,DEPTH,CTDPRS,CTDTMP,CTDSAL,CTDSAL_FLAG_W,SALNTY,SALNTY_FLAG_W,CTDOXY,CTDOXY_FLAG_W,OXYGEN,OXYGEN_FLAG_W,SILCAT,SILCAT_FLAG_W,NITRAT,NITRAT_FLAG_W,NITRIT,NITRIT_FLAG_W,PHSPHT,PHSPHT_FLAG_W,CFC-11,CFC-11_FLAG_W,CFC-12,CFC-12_FLAG_W,CFC113,CFC113_FLAG_W,SF6,SF6_FLAG_W,TCARBN,TCARBN_FLAG_W,ALKALI,ALKALI_FLAG_W,PH_TOT,PH_TOT_FLAG_W,PH_TMP,TRITUM,TRITUM_FLAG_W,HELIUM,HELIUM_FLAG_W,DELHE3,DELHE3_FLAG_W,DELC13,DELC13_FLAG_W,DELC14,DELC14_FLAG_W,C14ERR,NEON,NEON_FLAG_W,NEONER,I-129,I-129_FLAG_W,SR-90,SR-90_FLAG_W,DOC,DOC_FLAG_W,TDN,TDN_FLAG_W,CALCIUM,CALCIUM_FLAG_W,D15N_NO3,D15N_NO3_FLAG_W,BTL_DATE,BTL_TIME,BTL_LAT,BTL_LON,SALTREF,SALTREF_FLAG_W,CS-137,CS-137_FLAG_W,CS-134,CS-134_FLAG_W,REFTMP,REFTMP_FLAG_W,LAB_DEN,LAB_DEN_FLAG_W,D18O_NO3,D18O_NO3_FLAG_W,HELIER,DELHER,TRITER
,,,,,,,,,,,METERS,DBAR,ITS-90,PSS-78,,PSS-78,,UMOL/KG,,UMOL/KG,,UMOL/KG,,UMOL/KG,,UMOL/KG,,UMOL/KG,,PMOL/KG,,PMOL/KG,,PMOL/KG,,FMOL/KG,,UMOL/KG,,UMOL/KG,,,,DEG C,TU,,NMOL/KG,,PERCNT,,/MILLE,,/MILLE,,/MILLE,NMOL/KG,,NMOL/KG,BQ/M^3,,DM/.1MG,,UMOL/KG,,UMOL/KG,,MMOL/KG,,/MILLE,,,,,,G/KG,,BQ/M^3,,BQ/M^3,,ITS-90,,,,/MILLE,,NMOL/KG,PERCNT,TU
318M20130321,       P02E,     123,          1,         36,         36,2,20130523,       1430,    29.9997,  -137.2051,       4720,     4.5,  18.8954,  34.6185,2,  34.6197,2,    236.6,2,   236.9,2,    2.25,2,       0,2,       0,2,    0.05,2,   2.159,2,   1.312,2,-999.000,1,   1.4317,2,    2038,2, 2287.81,2,   7.9687,2,       25,-999.000,9,-999.0000,9, -999.00,9,    1.06,2,    31.0,2,     2.7,-999.000,9,-999.000,     -999.0,9, -999.00,9,   63.22,2,    3.31,2,     -999.0,9,  -999.0,1, 20130523,     1629,  30.0008,-137.2051,     34.783,2,     -999.0,9,     -999.0,9,    18.8976,2,     -999.0,9,     -999.0,1,-999.0000, -999.00,-999.000
318M20130321,       P02E,     123,          1,         34,         34,2,20130523,       1430,    29.9997,  -137.2051,       4720,    24.3,  18.8966,  34.6179,2,  34.6191,2,      237,2,   236.8,2,    2.25,2,       0,2,    0.01,2,    0.05,2,-999.000,9,-999.000,9,-999.000,9,-999.0000,9,  -999.0,9, -999.00,9,-999.0000,9,  -999.00,-999.000,9,-999.0000,9, -999.00,9, -999.00,9,  -999.0,9,  -999.0,-999.000,9,-999.000,     -999.0,9, -999.00,9,   60.91,2,    4.53,2,     -999.0,9,  -999.0,1, 20130523,     1626,  30.0009,-137.2047,    34.7824,2,     -999.0,9,     -999.0,9,    18.8983,2,     -999.0,9,     -999.0,1,-999.0000, -999.00,-999.000
318M20130321,       P02E,     123,          1,         33,         33,2,20130523,       1430,    29.9997,  -137.2051,       4720,    49.1,  18.1975,  34.6255,2,  34.6201,2,    240.9,2,   240.4,2,    1.95,2,       0,2,       0,2,    0.05,2,   2.203,2,   1.318,2,-999.000,1,   1.5387,2,  2036.8,2, 2288.61,2,   7.9652,6,       25,-999.000,9,-999.0000,9, -999.00,9,    1.10,2,    31.4,2,     2.7,-999.000,9,-999.000,     -999.0,9, -999.00,9,   61.34,2,    3.91,2,     -999.0,9,  -999.0,1, 20130523,     1625,  30.0009,-137.2046,    34.7834,2,     -999.0,9,     -999.0,9,    18.1963,2,     -999.0,9,     -999.0,1,-999.0000, -999.00,-999.000
318M20130321,       P02E,     123,          1,         32,         32,2,20130523,       1430,    29.9997,  -137.2051,       4720,    74.8,  17.8732,  34.6544,2,  34.6537,2,    241.1,2,   239.1,2,    2.15,2,       0,2,       0,2,    0.06,2,-999.000,9,-999.000,9,-999.000,9,-999.0000,9,  -999.0,9, -999.00,9,-999.0000,9,  -999.00,-999.000,9,-999.0000,9, -999.00,9,    1.04,2,    33.9,2,     3.1,-999.000,9,-999.000,     -999.0,9, -999.00,9,    60.5,2,     4.6,2,     -999.0,9,  -999.0,1, 20130523,     1623,  30.0006,-137.2046,    34.8171,2,     -999.0,9,     -999.0,9,    17.8802,2,     -999.0,9,     -999.0,1,-999.0000, -999.00,-999.000
318M20130321,       P02E,     123,          1,         31,         31,2,20130523,       1430,    29.9997,  -137.2051,       4720,    99.6,  17.8605,  34.6886,2,  34.6901,2,    237.2,2,     236,2,    2.15,2,       0,2,       0,2,    0.06,2,   2.224,2,   1.341,2,-999.000,1,   1.5497,2,  2041.2,2, 2290.31,6,   7.9598,6,       25,-999.000,9,-999.0000,9, -999.00,9,    0.99,2,    28.8,2,     2.6,-999.000,9,-999.000,     -999.0,9, -999.00,9,   59.54,2,     3.4,2,     -999.0,9,  -999.0,1, 20130523,     1622,  30.0004,-137.2047,    34.8537,2,     -999.0,9,     -999.0,9,    17.8615,2,     -999.0,9,     -999.0,1,-999.0000, -999.00,-999.000
318M20130321,       P02E,     123,          1,         30,         30,2,20130523,       1430,    29.9997,  -137.2051,       4720,   150.2,  17.3631,  34.6072,2,  34.6162,2,    228.3,2,   229.8,2,    2.44,2,     0.3,2,    0.13,2,    0.11,2,-999.000,9,-999.000,9,-999.000,9,-999.0000,9,  -999.0,9, 2284.51,2,-999.0000,9,  -999.00,-999.000,9,-999.0000,9, -999.00,9,    0.90,2,    32.2,2,     2.5,-999.000,9,-999.000,     -999.0,9, -999.00,9,   57.88,2,    4.33,2,     -999.0,9,  -999.0,1, 20130523,     1619,  30.0001,-137.2048,    34.7795,2,     -999.0,9,     -999.0,9,    17.3545,2,     -999.0,9,     -999.0,1,-999.0000, -999.00,-999.000
318M20130321,       P02E,     123,          1,         29,         29,2,20130523,       1430,    29.9997,  -137.2051,       4720,   200.5,  13.0975,  33.9964,2,       34,2,    224.2,2,   221.1,2,    5.96,2,    5.55,2,    0.02,2,    0.48,2,   2.835,2,   1.641,2,-999.000,1,   1.5576,2,  2060.2,2,  2244.5,2,   7.8381,2,       25,-999.000,9,-999.0000,9, -999.00,9,    0.54,2,    26.0,2,     3.2,-999.000,9,-999.000,     -999.0,9, -999.00,9,    47.5,2,    9.58,2,     -999.0,9,  -999.0,1, 20130523,     1617,  29.9999,-137.2049,    34.1604,2,     -999.0,9,     -999.0,9,      13.09,2,     -999.0,9,     -999.0,1,-999.0000, -999.00,-999.000
318M20130321,       P02E,     123,          1,         27,         27,2,20130523,       1430,    29.9997,  -137.2051,       4720,   250.5,  10.5912,  33.9417,2,  33.9413,2,    223.1,2,   223.4,2,   11.62,2,   11.62,2,    0.01,2,    0.86,2,-999.000,9,-999.000,9,-999.000,9,-999.0000,9,  2088.4,2,  2242.1,2,   7.7683,2,       25,-999.000,9,-999.0000,9, -999.00,9,    0.33,2,    29.1,2,     3.0,-999.000,9,-999.000,     -999.0,9, -999.00,9,   47.08,2,   15.18,2,     -999.0,9,  -999.0,1, 20130523,     1615,  29.9998, -137.205,    34.1013,2,     -999.0,9,     -999.0,9,    10.5721,2,     -999.0,9,     -999.0,1,-999.0000, -999.00,-999.000
318M20130321,       P02E,     123,          1,         26,         26,2,20130523,       1430,    29.9997,  -137.2051,       4720,   300.4,   9.6376,   34.016,2,  34.0159,2,    209.1,2,   209.2,2,   18.16,2,   15.94,2,    0.01,2,    1.12,2,   3.276,2,   1.812,2,-999.000,1,   1.3984,2,  2115.2,2,  2252.7,2,   7.7234,2,       25,-999.000,9,-999.0000,9, -999.00,9,    0.14,2,    23.7,2,     2.5,-999.000,9,-999.000,     -999.0,9, -999.00,9,   43.43,2,   19.95,2,     -999.0,9,  -999.0,1, 20130523,     1613,  29.9998,-137.2051,    34.1763,2,     -999.0,9,     -999.0,9,     9.6381,2,     -999.0,9,     -999.0,1,-999.0000, -999.00,-999.000
318M20130321,       P02E,     123,          1,         25,         25,2,20130523,       1430,    29.9997,  -137.2051,       4720,   351.4,   8.3579,  34.0031,2,   34.003,2,    179.5,2,   177.5,2,   29.49,2,   21.96,2,    0.01,2,    1.55,2,-999.000,9,-999.000,9,-999.000,9,-999.0000,9,  -999.0,9, -999.00,9,-999.0000,9,  -999.00,-999.000,9,-999.0000,9, -999.00,9,    0.01,2,     8.8,2,     2.6,-999.000,9,-999.000,     -999.0,9, -999.00,9,   43.34,2, -999.00,9,     -999.0,9,  -999.0,1, 20130523,     1611,  29.9999,-137.2052,    34.1633,2,     -999.0,9,     -999.0,9,     8.3832,3,     -999.0,9,     -999.0,1,-999.0000, -999.00,-999.000
318M20130321,       P02E,     123,          1,         24,         24,2,20130523,       1430,    29.9997,  -137.2051,       4720,   401.2,   7.3057,  33.9824,2,   33.984,2,    149.6,2,   141.3,2,   41.41,2,   27.39,2,    0.01,2,    1.93,2,   2.862,2,   1.490,2,-999.000,1,   0.8581,2,  2196.6,2, 2269.01,2,   7.5416,2,       25,-999.000,9,-999.0000,9, -999.00,9,   -0.12,2,   -21.0,2,     2.6,-999.000,9,-999.000,     -999.0,9, -999.00,9,   44.13,2, -999.00,9,     -999.0,9,  -999.0,1, 20130523,     1609,  29.9999, -137.205,    34.1442,2,     -999.0,9,     -999.0,9,     7.3006,2,     -999.0,9,     -999.0,1,-999.0000, -999.00,-999.000
318M20130321,       P02E,     123,          1,         23,         23,2,20130523,       1430,    29.9997,  -137.2051,       4720,     503,   5.9904,  34.0119,2,  34.0134,2,       88,2,    82.4,2,   62.69,2,   35.24,2,    0.01,2,    2.52,2,-999.000,9,-999.000,9,-999.000,9,-999.0000,9,  2257.8,2, 2285.01,2,      7.4,2,       25,-999.000,9,-999.0000,9, -999.00,9,   -0.40,2,   -68.0,2,     2.3,-999.000,9,-999.000,     -999.0,9, -999.00,9,   42.59,2, -999.00,9,     -999.0,9,  -999.0,1, 20130523,     1606,  29.9999,-137.2046,    34.1738,2,     -999.0,9,     -999.0,9,     5.9908,2,     -999.0,9,     -999.0,1,-999.0000, -999.00,-999.000
318M20130321,       P02E,     123,          1,         22,         22,2,20130523,       1430,    29.9997,  -137.2051,       4720,   604.5,    5.106,  34.0939,2,  34.0937,2,     41.2,2,      44,2,   82.51,2,   39.96,2,    0.01,2,    2.89,2,   0.955,2,   0.456,2,-999.000,1,   0.1067,2,  2302.5,2, 2305.92,2,    7.322,2,       25,-999.000,9,-999.0000,9, -999.00,9,   -0.47,2,  -117.0,2,     2.3,-999.000,9,-999.000,     -999.0,9, -999.00,9,    40.8,2, -999.00,9,     -999.0,9,  -999.0,1, 20130523,     1604,       30,-137.2044,    34.2545,2,     -999.0,9,     -999.0,9,     5.1055,2,     -999.0,9,     -999.0,1,-999.0000, -999.00,-999.000
318M20130321,       P02E,     123,          1,         21,         21,2,20130523,       1430,    29.9997,  -137.2051,       4720,   704.5,   4.6463,  34.2178,2,  34.2145,2,     22.7,2,    20.1,2,   97.45,2,   42.24,2,    0.01,2,    3.09,2,-999.000,9,-999.000,9,-999.000,9,-999.0000,9,  2331.7,2, 2327.03,2,   7.2936,2,       25,-999.000,9,-999.0000,9, -999.00,9,   -0.58,2,  -150.1,2,     5.0,-999.000,9,-999.000,     -999.0,9, -999.00,9,   38.01,2, -999.00,9,     -999.0,9,  -999.0,1, 20130523,     1601,       30,-137.2041,    34.3758,2,     -999.0,9,     -999.0,9,     4.6469,2,     -999.0,9,     -999.0,1,-999.0000, -999.00,-999.000
318M20130321,       P02E,     123,          1,         20,         20,2,20130523,       1430,    29.9997,  -137.2051,       4720,   805.8,   4.3106,  34.3026,2,  34.3029,2,     12.9,2,    13.5,2,  108.28,2,   43.26,2,       0,2,    3.16,2,   0.075,2,   0.040,2,-999.000,1,   0.0591,2,  2350.7,2, 2344.03,2,    7.293,2,       25,-999.000,9,-999.0000,9, -999.00,9,   -0.58,2,  -193.0,2,     2.1,-999.000,9,-999.000,     -999.0,9, -999.00,9,   36.54,2, -999.00,9,     -999.0,9,  -999.0,1, 20130523,     1558,  30.0001,-137.2039,    34.4647,2,     -999.0,9,     -999.0,9,     4.3109,2,     -999.0,9,     -999.0,1,-999.0000, -999.00,-999.000
318M20130321,       P02E,     123,          1,         19,         19,2,20130523,       1430,    29.9997,  -137.2051,       4720,   909.9,    3.996,  34.3739,2,  34.3724,2,     12.8,2,    14.8,2,  116.67,2,   43.67,2,       0,2,    3.19,2,-999.000,9,-999.000,9,-999.000,9,-999.0000,9,  -999.0,9, -999.00,9,   7.3028,2,       25,-999.000,9,-999.0000,9, -999.00,9,   -0.62,2,  -200.3,2,     2.1,-999.000,9,-999.000,     -999.0,9, -999.00,9,   37.63,2, -999.00,9,     -999.0,9,  -999.0,1, 20130523,     1555,  30.0003,-137.2037,    34.5345,2,     -999.0,9,     -999.0,9,     3.9963,2,     -999.0,9,     -999.0,1,-999.0000, -999.00,-999.000
318M20130321,       P02E,     123,          1,         18,         18,2,20130523,       1430,    29.9997,  -137.2051,       4720,  1010.6,   3.7438,  34.4201,2,  34.4207,2,     17.4,2,    18.5,2,   123.2,2,   43.75,2,       0,2,    3.19,2,   0.016,2,   0.009,2,-999.000,1,   0.0281,2,  2364.1,2, 2367.74,2,   7.3151,2,       25,-999.000,9,-999.0000,9, -999.00,9,   -0.51,2,  -224.7,2,     2.0,-999.000,9,-999.000,     -999.0,9, -999.00,9,   35.99,2, -999.00,9,     -999.0,9,  -999.0,1, 20130523,     1552,  30.0002,-137.2034,     34.583,2,     -999.0,9,     -999.0,9,     3.7436,2,     -999.0,9,     -999.0,1,-999.0000, -999.00,-999.000
318M20130321,       P02E,     123,          1,         17,         17,2,20130523,       1430,    29.9997,  -137.2051,       4720,  1110.5,   3.5066,  34.4606,2,  34.4609,2,     23.6,2,      25,2,  129.06,2,   43.65,2,       0,2,    3.17,2,-999.000,9,-999.000,9,-999.000,9,-999.0000,9,  -999.0,9, -999.00,9,-999.0000,9,  -999.00,-999.000,9,-999.0000,9, -999.00,9,   -0.46,2,  -216.4,2,     2.1,-999.000,9,-999.000,     -999.0,9, -999.00,9,   35.54,2, -999.00,9,     -999.0,9,  -999.0,1, 20130523,     1549,  30.0002,-137.2034,    34.6234,2,     -999.0,9,     -999.0,9,     3.5064,2,     -999.0,9,     -999.0,1,-999.0000, -999.00,-999.000
318M20130321,       P02E,     123,          1,         16,         16,2,20130523,       1430,    29.9997,  -137.2051,       4720,  1209.5,   3.2937,  34.4915,2,  34.4924,2,       31,2,    31.3,2,  133.74,2,   43.43,2,       0,2,    3.14,2,   0.008,2,   0.006,2,-999.000,1,        0,2,  2369.6,2, 2382.75,2,    7.347,2,       25,-999.000,9,-999.0000,9, -999.00,9,   -0.42,2,  -224.1,2,     2.4,-999.000,9,-999.000,     -999.0,9, -999.00,9,   37.93,2, -999.00,9,     -999.0,9,  -999.0,1, 20130523,     1546,  30.0004,-137.2036,     34.655,2,     -999.0,9,     -999.0,9,     3.2938,2,     -999.0,9,     -999.0,1,-999.0000, -999.00,-999.000
318M20130321,       P02E,     123,          1,         15,         15,2,20130523,       1430,    29.9997,  -137.2051,       4720,    1310,   3.0937,  34.5154,2,  34.5161,2,     37.1,2,    37.6,2,  138.72,2,   43.19,2,       0,2,    3.11,2,-999.000,9,-999.000,9,-999.000,9,-999.0000,9,    2371,2, 2388.15,2,   7.3574,2,       25,-999.000,9,-999.0000,9, -999.00,9,   -0.47,2,  -227.9,2,     1.8,-999.000,9,-999.000,     -999.0,9, -999.00,9,    35.9,2, -999.00,9,     -999.0,9,  -999.0,1, 20130523,     1543,  30.0005,-137.2041,    34.6789,2,     -999.0,9,     -999.0,9,     3.0933,2,     -999.0,9,     -999.0,1,-999.0000, -999.00,-999.000
318M20130321,       P02E,     123,          1,         14,         14,2,20130523,       1430,    29.9997,  -137.2051,       4720,  1411.8,   2.8997,  34.5368,2,  34.5365,2,     45.2,2,    44.3,2,  142.81,2,   42.83,2,       0,2,    3.09,2,   0.010,2,   0.004,2,-999.000,1,        0,2,  -999.0,9, -999.00,9,-999.0000,9,  -999.00,-999.000,9,-999.0000,9, -999.00,9,   -0.37,2,  -233.3,2,     2.9,-999.000,9,-999.000,     -999.0,9, -999.00,9,   35.04,2, -999.00,9,     -999.0,9,  -999.0,1, 20130523,     1540,  30.0004,-137.2047,    34.6994,2,     -999.0,9,     -999.0,9,     2.9005,2,     -999.0,9,     -999.0,1,-999.0000, -999.00,-999.000
318M20130321,       P02E,     123,          1,         13,         13,2,20130523,       1430,    29.9997,  -137.2051,       4720,  1614.5,   2.5149,  34.5748,2,  34.5766,2,     58.8,2,    61.1,2,  152.28,2,   41.99,2,       0,2,    3.01,2,-999.000,9,-999.000,9,-999.000,9,-999.0000,9,  2371.4,2, 2406.25,2,   7.4017,2,       25,-999.000,9,-999.0000,9, -999.00,9,   -0.32,2,  -242.0,2,     1.8,-999.000,9,-999.000,     -999.0,9, -999.00,9,   34.54,2, -999.00,9,     -999.0,9,  -999.0,1, 20130523,     1536,  30.0005,-137.2052,    34.7397,2,     -999.0,9,     -999.0,9,     2.5151,2,     -999.0,9,     -999.0,1,-999.0000, -999.00,-999.000
318M20130321,       P02E,     123,          1,         12,         12,2,20130523,       1430,    29.9997,  -137.2051,       4720,  1819.2,   2.1922,  34.6015,2,   34.602,2,     70.3,2,      70,2,  161.16,2,   41.37,2,       0,2,    2.95,2,   0.004,2,   0.003,2,-999.000,1,    0.017,2,  2374.6,6, 2413.26,2,   7.4249,2,       25,-999.000,9,-999.0000,9, -999.00,9,   -0.31,2,  -245.1,2,     2.2,-999.000,9,-999.000,     -999.0,9, -999.00,9,    35.3,2, -999.00,9,     -999.0,9,  -999.0,1, 20130523,     1531,  30.0007,-137.2052,    34.7651,2,     -999.0,9,     -999.0,9,     2.1925,2,     -999.0,9,     -999.0,1,-999.0000, -999.00,-999.000
318M20130321,       P02E,     123,          1,         11,         11,2,20130523,       1430,    29.9997,  -137.2051,       4720,    2013,   2.0161,  34.6173,2,  34.6181,2,     80.1,2,    78.9,2,  165.84,2,   40.84,2,       0,2,     2.9,2,-999.000,9,-999.000,9,-999.000,9,-999.0000,9,  2371.7,2, 2417.96,2,   7.4415,2,       25,-999.000,9,-999.0000,9, -999.00,9,   -0.28,2,  -246.5,2,     1.8,-999.000,9,-999.000,     -999.0,9, -999.00,9,   34.34,2, -999.00,9,     -999.0,9,  -999.0,1, 20130523,     1527,  30.0009,-137.2053,    34.7813,2,     -999.0,9,     -999.0,9,     2.0156,2,     -999.0,9,     -999.0,1,-999.0000, -999.00,-999.000
318M20130321,       P02E,     123,          1,         10,         10,2,20130523,       1430,    29.9997,  -137.2051,       4720,  2274.4,   1.8366,   34.635,2,   34.635,2,     90.4,2,    91.1,2,  168.38,2,   40.07,2,       0,2,    2.83,2,   0.004,2,   0.003,2,-999.000,1,        0,2,  2368.1,2, 2422.46,2,    7.466,2,       25,-999.000,9,-999.0000,9, -999.00,9,   -0.19,2,  -246.7,2,     1.8,-999.000,9,-999.000,     -999.0,9, -999.00,9, -999.00,9, -999.00,9,     -999.0,9,  -999.0,1, 20130523,     1522,   30.001,-137.2057,    34.7983,2,     -999.0,9,     -999.0,9,     1.8362,2,     -999.0,9,     -999.0,1,-999.0000, -999.00,-999.000
318M20130321,       P02E,     123,          1,          9,          9,2,20130523,       1430,    29.9997,  -137.2051,       4720,  2527.2,   1.7193,  34.6477,2,   34.647,2,    102.1,2,   101.4,2,  170.52,2,   39.46,2,       0,2,    2.78,2,-999.000,9,-999.000,9,-999.000,9,-999.0000,9,  -999.0,9, -999.00,9,-999.0000,9,  -999.00,-999.000,9,-999.0000,9, -999.00,9,   -0.17,2,  -244.6,2,     1.9,-999.000,9,-999.000,     -999.0,9, -999.00,9,   33.89,2, -999.00,9,     -999.0,9,  -999.0,1, 20130523,     1516,  30.0007,-137.2051,    34.8103,2,     -999.0,9,     -999.0,9,     1.7195,2,     -999.0,9,     -999.0,1,-999.0000, -999.00,-999.000
318M20130321,       P02E,     123,          1,          8,          8,2,20130523,       1430,    29.9997,  -137.2051,       4720,  2783.3,   1.6195,  34.6581,2,  34.6596,2,    111.7,2,   110.9,2,  170.42,2,   38.84,2,       0,2,    2.72,2,   0.005,2,   0.004,2,-999.000,1,        0,2,  2358.4,2, 2427.06,2,   7.5049,2,       25,-999.000,9,-999.0000,9, -999.00,9,   -0.07,2,  -229.7,2,     1.8,-999.000,9,-999.000,     -999.0,9, -999.00,9, -999.00,9, -999.00,9,     -999.0,9,  -999.0,1, 20130523,     1511,  30.0003,-137.2044,     34.823,2,     -999.0,9,     -999.0,9,     1.6194,2,     -999.0,9,     -999.0,1,-999.0000, -999.00,-999.000
318M20130321,       P02E,     123,          1,          7,          7,2,20130523,       1430,    29.9997,  -137.2051,       4720,  3037.1,   1.5564,  34.6662,2,  34.6654,2,      121,2,     121,2,  169.06,2,   38.25,2,       0,2,    2.65,2,-999.000,9,-999.000,9,-999.000,9,-999.0000,9,  -999.0,9, -999.00,9,-999.0000,9,  -999.00,-999.000,9,-999.0000,9, -999.00,9,   -0.04,2,  -233.6,2,     1.7,-999.000,9,-999.000,     -999.0,9, -999.00,9,   37.73,2, -999.00,9,     -999.0,9,  -999.0,1, 20130523,     1505,  29.9999,-137.2043,    34.8289,2,     -999.0,9,     -999.0,9,     1.5563,2,     -999.0,9,     -999.0,1,-999.0000, -999.00,-999.000
318M20130321,       P02E,     123,          1,          6,          6,2,20130523,       1430,    29.9997,  -137.2051,       4720,  3343.7,   1.5084,  34.6738,2,  34.6733,2,    129.3,2,   130.3,2,  166.23,2,   37.62,2,       0,2,    2.61,2,   0.006,2,   0.005,2,-999.000,1,        0,2,  2345.1,2, 2426.06,6,   7.5378,2,       25,-999.000,9,-999.0000,9, -999.00,9,    0.07,2,  -232.7,2,     1.8,-999.000,9,-999.000,     -999.0,9, -999.00,9, -999.00,9, -999.00,9,     -999.0,9,  -999.0,1, 20130523,     1459,  29.9999,-137.2047,    34.8368,2,     -999.0,9,     -999.0,9,     1.5084,2,     -999.0,9,     -999.0,1,-999.0000, -999.00,-999.000