BOTTLE,20220817CCHSIOAMB
EXPOCODE,SECT_ID,STNNBR,CASTNO,SAMPNO,BTLNBR,BTLNBR_FLAG_W,DATE,TIME,LATITUDE,LONGITUDE,DEPTH,CTDPRS,CTDTMP,CTDSAL,CTDSAL_FLAG_W,SALNTY,SALNTY_FLAG_W,CTDOXY,CTDOXY_FLAG_W,OXYGEN,OXYGEN_FLAG_W,SILCAT,SILCAT_FLAG_W,NITRAT,NITRAT_FLAG_W,NITRIT,NITRIT_FLAG_W,PHSPHT,PHSPHT_FLAG_W,CFC-11,CFC-11_FLAG_W,CFC-12,CFC-12_FLAG_W,CFC113,CFC113_FLAG_W,SF6,SF6_FLAG_W,TCARBN,TCARBN_FLAG_W,ALKALI,ALKALI_FLAG_W,PH_TOT,PH_TOT_FLAG_W,PH_TMP,TRITUM,TRITUM_FLAG_W,HELIUM,HELIUM_FLAG_W,DELHE3,DELHE3_FLAG_W,DELC13,DELC13_FLAG_W,DELC14,DELC14_FLAG_W,C14ERR,NEON,NEON_FLAG_W,NEONER,I-129,I-129_FLAG_W,SR-90,SR-90_FLAG_W,DOC,DOC_FLAG_W,TDN,TDN_FLAG_W,CALCIUM,CALCIUM_FLAG_W,D15N_NO3,D15N_NO3_FLAG_W,BTL_DATE,BTL_TIME,BTL_LAT,BTL_LON,SALTREF,SALTREF_FLAG_W,CS-137,CS-137_FLAG_W,CS-134,CS-134_FLAG_W,REFTMP,REFTMP_FLAG_W,LAB_DEN,LAB_DEN_FLAG_W,D18O_NO3,D18O_NO3_FLAG_W,HELIER,DELHER,TRITER
,,,,,,,,,,,METERS,DBAR,ITS-90,PSS-78,,PSS-78,,UMOL/KG,,UMOL/KG,,UMOL/KG,,UMOL/KG,,UMOL/KG,,UMOL/KG,,PMOL/KG,,PMOL/KG,,PMOL/KG,,FMOL/KG,,UMOL/KG,,UMOL/KG,,,,DEG C,TU,,NMOL/KG,,PERCNT,,/MILLE,,/MILLE,,/MILLE,NMOL/KG,,NMOL/KG,BQ/M^3,,DM/.1MG,,UMOL/KG,,UMOL/KG,,MMOL/KG,,/MILLE,,,,,,G/KG,,BQ/M^3,,BQ/M^3,,ITS-90,,,,/MILLE,,NMOL/KG,PERCNT,TU
318M20130321,       P02W,      64,          1,          7,          7,2,20130425,       1606,    29.9994,   173.3397,       4384,  2697.9,    1.603,  34.6518,2,  34.6525,2,    114.6,2,   115.2,2,  160.96,2,   38.35,2,       0,2,    2.72,2,-999.000,9,-999.000,9,-999.000,9,-999.0000,9,  2352.5,2, 2416.56,2,   7.5047,2,       25,-999.000,9,-999.0000,9, -999.00,9, -999.00,9,  -999.0,9,  -999.0,-999.000,9,-999.000,     -999.0,9, -999.00,9, -999.00,9, -999.00,9,     -999.0,9,  -999.0,9, 20130425,     1643,  29.9999, 173.3401,    34.8159,2,     -999.0,9,     -999.0,9,     1.6025,2,     -999.0,9,     -999.0,9,-999.0000, -999.00,-999.000
318M20130321,       P02W,      64,          1,          6,          6,2,20130425,       1606,    29.9994,   173.3397,       4384,  2949.5,   1.5406,  34.6624,2,  34.6626,2,    125.4,2,   125.3,2,   159.2,2,   37.71,2,       0,2,    2.66,2,-999.000,9,-999.000,9,-999.000,9,-999.0000,9,  -999.0,9, -999.00,9,-999.0000,9,  -999.00,-999.000,9,-999.0000,9, -999.00,9, -999.00,9,  -999.0,9,  -999.0,-999.000,9,-999.000,     -999.0,9, -999.00,9, -999.00,9, -999.00,9,     -999.0,9,  -999.0,9, 20130425,     1637,       30, 173.3401,     34.826,2,     -999.0,9,     -999.0,9,     1.5408,2,     -999.0,9,     -999.0,9,-999.0000, -999.00,-999.000
318M20130321,       P02W,      64,          1,          5,         37,2,20130425,       1606,    29.9994,   173.3397,       4384,  3242.3,   1.4958,  34.6706,2,  34.6704,2,    134.3,2,   134.5,2,  157.25,2,   37.08,2,       0,2,    2.63,2,   0.001,2,   0.010,2,   0.001,2,     0.02,2,  2336.5,2, 2417.46,6,   7.5384,2,       25,-999.000,9,-999.0000,9, -999.00,9, -999.00,9,  -999.0,9,  -999.0,-999.000,9,-999.000,     -999.0,9, -999.00,9, -999.00,9, -999.00,9,     -999.0,9,  -999.0,9, 20130425,     1631,       30, 173.3401,    34.8339,2,     -999.0,9,     -999.0,9,     1.4963,2,     -999.0,9,     -999.0,9,-999.0000, -999.00,-999.000
318M20130321,       P02W,      64,          1,          4,          4,2,20130425,       1606,    29.9994,   173.3397,       4384,  3548.6,   1.4651,  34.6773,2,  34.6771,2,    141.4,2,   142.1,2,     155,2,   36.59,2,       0,2,    2.59,2,-999.000,9,-999.000,9,-999.000,9,-999.0000,9,  -999.0,9, -999.00,9,-999.0000,9,  -999.00,-999.000,9,-999.0000,9, -999.00,9, -999.00,9,  -999.0,9,  -999.0,-999.000,9,-999.000,     -999.0,9, -999.00,9, -999.00,9, -999.00,9,     -999.0,9,  -999.0,9, 20130425,     1625,  29.9999,   173.34,    34.8406,2,     -999.0,9,     -999.0,9,     1.4648,2,     -999.0,9,     -999.0,9,-999.0000, -999.00,-999.000
318M20130321,       P02W,      64,          1,          3,          3,2,20130425,       1606,    29.9994,   173.3397,       4384,  3858.6,   1.4491,  34.6825,2,  34.6822,2,    147.7,2,   148.5,2,  152.27,2,   36.15,2,       0,2,    2.57,2,   0.000,2,   0.009,2,   0.000,2,     0.05,2,  2325.3,2, 2416.16,2,   7.5633,6,       25,-999.000,9,-999.0000,9, -999.00,9, -999.00,9,  -999.0,9,  -999.0,-999.000,9,-999.000,     -999.0,9, -999.00,9, -999.00,9, -999.00,9,     -999.0,9,  -999.0,9, 20130425,     1618,  29.9997,   173.34,    34.8457,2,     -999.0,9,     -999.0,9,     1.4497,2,     -999.0,9,     -999.0,9,-999.0000, -999.00,-999.000
318M20130321,       P02W,      64,          1,          2,          2,2,20130425,       1606,    29.9994,   173.3397,       4384,  4162.2,   1.4517,  34.6857,2,  34.6855,2,    153.6,2,   153.3,2,  149.73,2,   35.82,2,       0,2,    2.54,2,   0.002,2,   0.011,2,   0.001,2,        0,2,  2320.6,6, 2414.66,2,   7.5714,2,       25,-999.000,9,-999.0000,9, -999.00,9, -999.00,9,  -999.0,9,  -999.0,-999.000,9,-999.000,     -999.0,9, -999.00,9, -999.00,9, -999.00,9,     -999.0,9,  -999.0,9, 20130425,     1612,  29.9996, 173.3398,    34.8491,2,     -999.0,9,     -999.0,9,     1.4515,2,     -999.0,9,     -999.0,9,-999.0000, -999.00,-999.000
318M20130321,       P02W,      64,          1,          1,          1,2,20130425,       1606,    29.9994,   173.3397,       4384,  4402.3,   1.4526,   34.688,2,  34.6889,2,    157.8,2,   157.6,2,  147.97,2,   35.54,2,       0,2,    2.52,2,   0.001,2,   0.013,2,   0.001,2,        0,2,  2317.2,2, 2413.36,2,    7.577,2,       25,-999.000,9,-999.0000,9, -999.00,9, -999.00,9,  -999.0,9,  -999.0,-999.000,9,-999.000,     -999.0,9, -999.00,9, -999.00,9, -999.00,9,     -999.0,9,  -999.0,9, 20130425,     1606,  29.9994, 173.3397,    34.8525,2,     -999.0,9,     -999.0,9,      1.452,2,     -999.0,9,     -999.0,9,-999.0000, -999.00,-999.000