BOTTLE,20220817CCHSIOAMB
EXPOCODE,SECT_ID,STNNBR,CASTNO,SAMPNO,BTLNBR,BTLNBR_FLAG_W,DATE,TIME,LATITUDE,LONGITUDE,DEPTH,CTDPRS,CTDTMP,CTDSAL,CTDSAL_FLAG_W,SALNTY,SALNTY_FLAG_W,CTDOXY,CTDOXY_FLAG_W,OXYGEN,OXYGEN_FLAG_W,SILCAT,SILCAT_FLAG_W,NITRAT,NITRAT_FLAG_W,NITRIT,NITRIT_FLAG_W,PHSPHT,PHSPHT_FLAG_W,CFC-11,CFC-11_FLAG_W,CFC-12,CFC-12_FLAG_W,CFC113,CFC113_FLAG_W,SF6,SF6_FLAG_W,TCARBN,TCARBN_FLAG_W,ALKALI,ALKALI_FLAG_W,PH_TOT,PH_TOT_FLAG_W,PH_TMP,TRITUM,TRITUM_FLAG_W,HELIUM,HELIUM_FLAG_W,DELHE3,DELHE3_FLAG_W,DELC13,DELC13_FLAG_W,DELC14,DELC14_FLAG_W,C14ERR,NEON,NEON_FLAG_W,NEONER,I-129,I-129_FLAG_W,SR-90,SR-90_FLAG_W,DOC,DOC_FLAG_W,TDN,TDN_FLAG_W,CALCIUM,CALCIUM_FLAG_W,D15N_NO3,D15N_NO3_FLAG_W,BTL_DATE,BTL_TIME,BTL_LAT,BTL_LON,SALTREF,SALTREF_FLAG_W,CS-137,CS-137_FLAG_W,CS-134,CS-134_FLAG_W,REFTMP,REFTMP_FLAG_W,LAB_DEN,LAB_DEN_FLAG_W,D18O_NO3,D18O_NO3_FLAG_W,HELIER,DELHER,TRITER
,,,,,,,,,,,METERS,DBAR,ITS-90,PSS-78,,PSS-78,,UMOL/KG,,UMOL/KG,,UMOL/KG,,UMOL/KG,,UMOL/KG,,UMOL/KG,,PMOL/KG,,PMOL/KG,,PMOL/KG,,FMOL/KG,,UMOL/KG,,UMOL/KG,,,,DEG C,TU,,NMOL/KG,,PERCNT,,/MILLE,,/MILLE,,/MILLE,NMOL/KG,,NMOL/KG,BQ/M^3,,DM/.1MG,,UMOL/KG,,UMOL/KG,,MMOL/KG,,/MILLE,,,,,,G/KG,,BQ/M^3,,BQ/M^3,,ITS-90,,,,/MILLE,,NMOL/KG,PERCNT,TU
318M20130321,       P02W,      36,          1,          7,          7,4,20130415,       1152,    29.9998,   148.9466,       6177,  3785.4,    1.502,  34.6784,2,   34.672,4,    145.9,2,   138.7,4,  153.34,4,    37.2,4,       0,4,    2.56,4,-999.000,9,-999.000,9,-999.000,9,-999.0000,9,  2335.1,4, 2420.66,4,   7.5533,2,       25,-999.000,9,-999.0000,9, -999.00,9, -999.00,9,  -999.0,9,  -999.0,-999.000,9,-999.000,     -999.0,9, -999.00,9, -999.00,9, -999.00,9,     -999.0,9,  -999.0,9, 20130415,     1236,  29.9996, 148.9466,    34.8355,4,     -999.0,9,     -999.0,9,     1.5022,2,     -999.0,9,     -999.0,9,-999.0000, -999.00,-999.000
318M20130321,       P02W,      36,          1,          6,          6,2,20130415,       1152,    29.9998,   148.9466,       6177,  4199.4,   1.4895,  34.6838,2,   34.683,2,    152.4,2,   151.7,2,  150.12,2,   36.32,2,       0,2,    2.49,2,   0.001,2,   0.012,2,   0.000,2,        0,2,  2323.5,2, 2412.56,2,   7.5651,2,       25,  -0.008,2,   1.9103,2,   16.24,2, -999.00,9,  -999.0,9,  -999.0,   8.239,2,   0.038,     -999.0,9, -999.00,9, -999.00,9, -999.00,9,     -999.0,9,  -999.0,9, 20130415,     1228,  30.0002, 148.9467,    34.8466,2,     -999.0,9,     -999.0,9,     1.4899,2,     -999.0,9,     -999.0,9,   0.0080,    0.15,   0.006
318M20130321,       P02W,      36,          1,          5,         37,2,20130415,       1152,    29.9998,   148.9466,       6177,  4611.7,   1.4932,   34.688,2,  34.6875,2,      158,2,   157.4,2,  147.39,2,   35.89,2,       0,2,    2.47,2,   0.001,2,   0.013,2,   0.002,2,        0,2,    2318,2, 2411.46,2,   7.5743,2,       25,  -0.006,2,   1.9204,2,   16.08,2, -999.00,9,  -999.0,9,  -999.0,   8.312,2,   0.038,     -999.0,9, -999.00,9, -999.00,9, -999.00,9,     -999.0,9,  -999.0,9, 20130415,     1221,  29.9997, 148.9466,    34.8511,2,     -999.0,9,     -999.0,9,     1.4932,2,     -999.0,9,     -999.0,9,   0.0081,    0.15,   0.006
318M20130321,       P02W,      36,          1,          4,          4,2,20130415,       1152,    29.9998,   148.9466,       6177,  5013.7,    1.514,  34.6907,2,  34.6899,2,    160.9,2,   161.8,2,  145.14,2,   35.62,2,       0,2,    2.43,2,   0.001,2,   0.017,2,   0.000,2,        0,2,    2315,2, 2409.16,2,   7.5802,2,       25,  -0.009,2,   1.9298,2,   15.60,2, -999.00,9,  -999.0,9,  -999.0,   8.389,2,   0.039,     -999.0,9, -999.00,9, -999.00,9, -999.00,9,     -999.0,9,  -999.0,9, 20130415,     1213,  29.9994, 148.9468,    34.8535,2,     -999.0,9,     -999.0,9,     1.5139,2,     -999.0,9,     -999.0,9,   0.0081,    0.15,   0.006
318M20130321,       P02W,      36,          1,          3,          3,2,20130415,       1152,    29.9998,   148.9466,       6177,  5431.5,   1.5463,  34.6926,2,   34.692,2,      164,2,   164.9,2,   142.5,2,   35.35,2,       0,2,    2.42,2,   0.001,2,   0.015,2,   0.001,2,        0,2,  2312.3,2, 2408.06,6,   7.5837,2,       25,  -0.009,2,   1.9336,2,   15.62,2, -999.00,9,  -999.0,9,  -999.0,   8.378,2,   0.039,     -999.0,9, -999.00,9, -999.00,9, -999.00,9,     -999.0,9,  -999.0,9, 20130415,     1205,  30.0004, 148.9466,    34.8556,2,     -999.0,9,     -999.0,9,     1.5462,2,     -999.0,9,     -999.0,9,   0.0081,    0.15,   0.006
318M20130321,       P02W,      36,          1,          2,          2,2,20130415,       1152,    29.9998,   148.9466,       6177,  5811.6,   1.5823,  34.6936,2,  34.6926,2,    166.3,2,   166.4,2,  141.33,2,   35.27,2,       0,2,    2.41,2,-999.000,9,-999.000,9,-999.000,9,-999.0000,9,  2308.5,2, 2406.95,2,   7.5856,6,       25,-999.000,9,-999.0000,9, -999.00,9, -999.00,9,  -999.0,9,  -999.0,-999.000,9,-999.000,     -999.0,9, -999.00,9, -999.00,9, -999.00,9,     -999.0,9,  -999.0,9, 20130415,     1158,  30.0002, 148.9468,    34.8562,2,     -999.0,9,     -999.0,9,     1.5825,2,     -999.0,9,     -999.0,9,-999.0000, -999.00,-999.000
318M20130321,       P02W,      36,          1,          1,          1,2,20130415,       1152,    29.9998,   148.9466,       6177,  6126.1,    1.611,  34.6946,2,  34.6944,2,    170.6,2,   170.3,2,  138.31,2,   34.96,2,       0,2,     2.4,2,-999.000,5,-999.000,5,-999.000,5,-999.0000,5,    2308,6, 2402.65,2,   7.5901,2,       25,  -0.006,2,   1.8689,3,   15.28,2, -999.00,9,  -999.0,9,  -999.0,   7.862,3,   0.036,     -999.0,9, -999.00,9, -999.00,9, -999.00,9,     -999.0,9,  -999.0,9, 20130415,     1151,  29.9998, 148.9466,     34.858,2,     -999.0,9,     -999.0,9,     1.6108,2,     -999.0,9,     -999.0,9,   0.0078,    0.15,   0.006