BOTTLE,20220817CCHSIOAMB
EXPOCODE,SECT_ID,STNNBR,CASTNO,SAMPNO,BTLNBR,BTLNBR_FLAG_W,DATE,TIME,LATITUDE,LONGITUDE,DEPTH,CTDPRS,CTDTMP,CTDSAL,CTDSAL_FLAG_W,SALNTY,SALNTY_FLAG_W,CTDOXY,CTDOXY_FLAG_W,OXYGEN,OXYGEN_FLAG_W,SILCAT,SILCAT_FLAG_W,NITRAT,NITRAT_FLAG_W,NITRIT,NITRIT_FLAG_W,PHSPHT,PHSPHT_FLAG_W,CFC-11,CFC-11_FLAG_W,CFC-12,CFC-12_FLAG_W,CFC113,CFC113_FLAG_W,SF6,SF6_FLAG_W,TCARBN,TCARBN_FLAG_W,ALKALI,ALKALI_FLAG_W,PH_TOT,PH_TOT_FLAG_W,PH_TMP,TRITUM,TRITUM_FLAG_W,HELIUM,HELIUM_FLAG_W,DELHE3,DELHE3_FLAG_W,DELC13,DELC13_FLAG_W,DELC14,DELC14_FLAG_W,C14ERR,NEON,NEON_FLAG_W,NEONER,I-129,I-129_FLAG_W,SR-90,SR-90_FLAG_W,DOC,DOC_FLAG_W,TDN,TDN_FLAG_W,CALCIUM,CALCIUM_FLAG_W,D15N_NO3,D15N_NO3_FLAG_W,BTL_DATE,BTL_TIME,BTL_LAT,BTL_LON,SALTREF,SALTREF_FLAG_W,CS-137,CS-137_FLAG_W,CS-134,CS-134_FLAG_W,REFTMP,REFTMP_FLAG_W,LAB_DEN,LAB_DEN_FLAG_W,D18O_NO3,D18O_NO3_FLAG_W,HELIER,DELHER,TRITER
,,,,,,,,,,,METERS,DBAR,ITS-90,PSS-78,,PSS-78,,UMOL/KG,,UMOL/KG,,UMOL/KG,,UMOL/KG,,UMOL/KG,,UMOL/KG,,PMOL/KG,,PMOL/KG,,PMOL/KG,,FMOL/KG,,UMOL/KG,,UMOL/KG,,,,DEG C,TU,,NMOL/KG,,PERCNT,,/MILLE,,/MILLE,,/MILLE,NMOL/KG,,NMOL/KG,BQ/M^3,,DM/.1MG,,UMOL/KG,,UMOL/KG,,MMOL/KG,,/MILLE,,,,,,G/KG,,BQ/M^3,,BQ/M^3,,ITS-90,,,,/MILLE,,NMOL/KG,PERCNT,TU
318M20130321,       P02W,      75,          1,          6,          6,2,20130428,       1904,         30,  -179.6384,       5386,  4063.2,   1.4556,  34.6851,2,  34.6839,2,    148.6,2,   149.2,2,  155.39,2,   36.09,2,       0,2,    2.52,2,-999.000,9,-999.000,9,-999.000,9,-999.0000,9,  -999.0,9, -999.00,9,-999.0000,9,  -999.00,-999.000,9,-999.0000,9, -999.00,9,    0.16,2,  -223.2,2,     1.8,-999.000,9,-999.000,     -999.0,9, -999.00,9, -999.00,9, -999.00,9,     -999.0,9,  -999.0,9, 20130428,     1933,       30,-179.6386,    34.8474,2,     -999.0,9,     -999.0,9,     1.4556,2,     -999.0,9,     -999.0,9,-999.0000, -999.00,-999.000
318M20130321,       P02W,      75,          1,          5,         37,2,20130428,       1904,         30,  -179.6384,       5386,  4370.1,   1.4694,  34.6874,2,  34.6857,2,    151.6,2,   152.1,2,   154.8,2,   35.93,2,       0,2,    2.51,2,   0.009,2,   0.007,2,   0.000,2,        0,2,  2325.9,2, 2416.86,2,   7.5723,6,       25,-999.000,9,-999.0000,9, -999.00,9,    0.15,2,  -217.1,2,     1.5,-999.000,9,-999.000,     -999.0,9, -999.00,9,   36.37,2, -999.00,9,     -999.0,9,  -999.0,9, 20130428,     1927,  30.0006,-179.6385,    34.8492,2,     -999.0,9,     -999.0,9,     1.4693,2,     -999.0,9,     -999.0,9,-999.0000, -999.00,-999.000
318M20130321,       P02W,      75,          1,          4,          4,2,20130428,       1904,         30,  -179.6384,       5386,  4677.9,   1.4812,  34.6898,2,  34.6882,2,      157,2,   156.9,2,  150.61,2,   35.62,2,       0,2,    2.49,2,-999.000,9,-999.000,9,-999.000,9,-999.0000,9,  -999.0,9, -999.00,9,-999.0000,9,  -999.00,-999.000,9,-999.0000,9, -999.00,9,    0.20,2,  -226.8,3,     2.3,-999.000,9,-999.000,     -999.0,9, -999.00,9, -999.00,9, -999.00,9,     -999.0,9,  -999.0,9, 20130428,     1921,       30,-179.6387,    34.8518,2,     -999.0,9,     -999.0,9,     1.4813,2,     -999.0,9,     -999.0,9,-999.0000, -999.00,-999.000
318M20130321,       P02W,      75,          1,          3,          3,2,20130428,       1904,         30,  -179.6384,       5386,  4985.5,   1.4962,  34.6917,2,  34.6934,2,    161.6,2,   161.5,2,  146.41,2,   35.32,2,       0,2,    2.47,2,   0.011,2,   0.007,2,   0.000,2,     0.01,2,  2317.5,2, 2411.46,6,   7.5829,2,       25,-999.000,9,-999.0000,9, -999.00,9,    0.28,2,  -206.2,2,     1.9,-999.000,9,-999.000,     -999.0,9, -999.00,9,   37.39,2, -999.00,9,     -999.0,9,  -999.0,9, 20130428,     1914,  30.0002,-179.6381,     34.857,2,     -999.0,9,     -999.0,9,     1.4965,2,     -999.0,9,     -999.0,9,-999.0000, -999.00,-999.000
318M20130321,       P02W,      75,          1,          2,          2,2,20130428,       1904,         30,  -179.6384,       5386,  5297.2,   1.5078,  34.6939,2,   34.693,2,    166.8,2,   166.8,2,  142.31,2,   34.95,2,       0,2,    2.45,2,   0.016,2,   0.008,2,   0.000,2,     0.03,2,  2312.2,6, 2409.06,2,   7.5877,2,       25,-999.000,9,-999.0000,9, -999.00,9,    0.32,2,  -204.5,2,     2.4,-999.000,9,-999.000,     -999.0,9, -999.00,9,   41.15,2, -999.00,9,     -999.0,9,  -999.0,9, 20130428,     1908,  29.9997,-179.6383,    34.8566,2,     -999.0,9,     -999.0,9,     1.5079,2,     -999.0,9,     -999.0,9,-999.0000, -999.00,-999.000
318M20130321,       P02W,      75,          1,          1,          1,2,20130428,       1904,         30,  -179.6384,       5386,  5476.1,   1.5225,  34.6947,2,  34.6942,2,    168.4,2,   168.3,2,  140.94,2,   34.82,2,       0,2,    2.43,2,   0.009,2,   0.008,2,   0.001,2,     0.22,4,  2310.9,2, 2406.15,2,   7.5923,2,       25,-999.000,9,-999.0000,9, -999.00,9,    0.34,2,  -210.3,2,     1.9,-999.000,9,-999.000,     -999.0,9, -999.00,9,   41.45,2, -999.00,9,     -999.0,9,  -999.0,9, 20130428,     1903,       30,-179.6384,    34.8578,2,     -999.0,9,     -999.0,9,     1.5221,2,     -999.0,9,     -999.0,9,-999.0000, -999.00,-999.000