BOTTLE,20220817CCHSIOAMB
EXPOCODE,SECT_ID,STNNBR,CASTNO,SAMPNO,BTLNBR,BTLNBR_FLAG_W,DATE,TIME,LATITUDE,LONGITUDE,DEPTH,CTDPRS,CTDTMP,CTDSAL,CTDSAL_FLAG_W,SALNTY,SALNTY_FLAG_W,CTDOXY,CTDOXY_FLAG_W,OXYGEN,OXYGEN_FLAG_W,SILCAT,SILCAT_FLAG_W,NITRAT,NITRAT_FLAG_W,NITRIT,NITRIT_FLAG_W,PHSPHT,PHSPHT_FLAG_W,CFC-11,CFC-11_FLAG_W,CFC-12,CFC-12_FLAG_W,CFC113,CFC113_FLAG_W,SF6,SF6_FLAG_W,TCARBN,TCARBN_FLAG_W,ALKALI,ALKALI_FLAG_W,PH_TOT,PH_TOT_FLAG_W,PH_TMP,TRITUM,TRITUM_FLAG_W,HELIUM,HELIUM_FLAG_W,DELHE3,DELHE3_FLAG_W,DELC13,DELC13_FLAG_W,DELC14,DELC14_FLAG_W,C14ERR,NEON,NEON_FLAG_W,NEONER,I-129,I-129_FLAG_W,SR-90,SR-90_FLAG_W,DOC,DOC_FLAG_W,TDN,TDN_FLAG_W,CALCIUM,CALCIUM_FLAG_W,D15N_NO3,D15N_NO3_FLAG_W,BTL_DATE,BTL_TIME,BTL_LAT,BTL_LON,SALTREF,SALTREF_FLAG_W,CS-137,CS-137_FLAG_W,CS-134,CS-134_FLAG_W,REFTMP,REFTMP_FLAG_W,LAB_DEN,LAB_DEN_FLAG_W,D18O_NO3,D18O_NO3_FLAG_W,HELIER,DELHER,TRITER
,,,,,,,,,,,METERS,DBAR,ITS-90,PSS-78,,PSS-78,,UMOL/KG,,UMOL/KG,,UMOL/KG,,UMOL/KG,,UMOL/KG,,UMOL/KG,,PMOL/KG,,PMOL/KG,,PMOL/KG,,FMOL/KG,,UMOL/KG,,UMOL/KG,,,,DEG C,TU,,NMOL/KG,,PERCNT,,/MILLE,,/MILLE,,/MILLE,NMOL/KG,,NMOL/KG,BQ/M^3,,DM/.1MG,,UMOL/KG,,UMOL/KG,,MMOL/KG,,/MILLE,,,,,,G/KG,,BQ/M^3,,BQ/M^3,,ITS-90,,,,/MILLE,,NMOL/KG,PERCNT,TU
318M20130321,       P02E,     156,          2,         33,         33,2,20130601,       0235,    32.6312,  -118.1547,       2033,     2.9,  17.0704,  33.6538,2,  33.6535,2,      251,2,   250.3,2,    0.88,2,       0,2,       0,2,    0.28,2,   2.419,2,   1.436,2,-999.000,1,    1.605,2,  2015.4,6,  2245.5,2,   7.9392,2,       25,-999.000,9,   1.7477,2,   -1.05,2, -999.00,9,  -999.0,9,  -999.0,   7.118,2,   0.033,     -999.0,9, -999.00,9, -999.00,9, -999.00,9,     -999.0,9,  -999.0,9, 20130601,      341,  32.6319,-118.1549,    33.8122,2,     -999.0,9,     -999.0,9,    17.0631,2,     -999.0,9,     -999.0,9,   0.0073,    0.15,-999.000
318M20130321,       P02E,     156,          2,         32,         32,2,20130601,       0235,    32.6312,  -118.1547,       2033,    35.4,  10.5745,  33.6327,2,  33.6262,2,    156.6,2,   156.4,2,   17.78,2,   18.42,2,    0.08,2,    1.51,2,   2.995,2,   1.700,2,-999.000,1,   1.4579,2,  2139.6,2, 2231.79,2,   7.5989,6,       25,-999.000,9,   1.8019,2,    1.19,2, -999.00,9,  -999.0,9,  -999.0,   7.593,2,   0.035,     -999.0,9, -999.00,9, -999.00,9, -999.00,9,     -999.0,9,  -999.0,9, 20130601,      339,   32.632,-118.1547,    33.7847,2,     -999.0,9,     -999.0,9,    10.5742,2,     -999.0,9,     -999.0,9,   0.0076,    0.15,-999.000
318M20130321,       P02E,     156,          2,         31,         31,2,20130601,       0235,    32.6312,  -118.1547,       2033,    60.9,  10.2568,  33.7338,2,  33.7345,2,    126.9,2,   129.6,2,   21.98,2,   21.69,2,    0.04,2,    1.75,2,-999.000,9,-999.000,9,-999.000,9,-999.0000,9,  2165.7,2,  2238.2,6,   7.5414,2,       25,-999.000,9,-999.0000,9, -999.00,9, -999.00,9,  -999.0,9,  -999.0,-999.000,9,-999.000,     -999.0,9, -999.00,9, -999.00,9, -999.00,9,     -999.0,9,  -999.0,9, 20130601,      337,   32.632,-118.1545,    33.8936,2,     -999.0,9,     -999.0,9,     10.258,2,     -999.0,9,     -999.0,9,-999.0000, -999.00,-999.000
318M20130321,       P02E,     156,          2,         30,         30,2,20130601,       0235,    32.6312,  -118.1547,       2033,    86.2,   9.4403,  33.8318,2,  33.8471,2,    115.8,2,   122.7,2,   26.57,2,   24.47,2,    0.02,2,    1.88,2,   2.911,2,   1.606,2,-999.000,1,   1.1141,2,  2180.1,2,  2245.7,2,   7.5153,2,       25,-999.000,9,-999.0000,9, -999.00,9, -999.00,9,  -999.0,9,  -999.0,-999.000,9,-999.000,     -999.0,9, -999.00,9, -999.00,9, -999.00,9,     -999.0,9,  -999.0,9, 20130601,      335,  32.6318,-118.1546,    34.0067,2,     -999.0,9,     -999.0,9,     9.4451,2,     -999.0,9,     -999.0,9,-999.0000, -999.00,-999.000
318M20130321,       P02E,     156,          2,         29,         29,2,20130601,       0235,    32.6312,  -118.1547,       2033,   110.3,   8.9237,  33.9108,2,  33.9113,2,    116.4,2,   117.7,2,   29.98,2,   26.27,2,    0.02,2,    1.98,2,-999.000,9,-999.000,9,-999.000,9,-999.0000,9,  2191.2,2,  2250.5,2,   7.4998,2,       25,-999.000,9,   1.8212,2,    4.64,2, -999.00,9,  -999.0,9,  -999.0,   7.730,2,   0.036,     -999.0,9, -999.00,9, -999.00,9, -999.00,9,     -999.0,9,  -999.0,9, 20130601,      333,  32.6317,-118.1547,    34.0712,2,     -999.0,9,     -999.0,9,      8.925,2,     -999.0,9,     -999.0,9,   0.0076,    0.15,-999.000
318M20130321,       P02E,     156,          2,         27,         27,2,20130601,       0235,    32.6312,  -118.1547,       2033,   135.7,   8.5479,   33.987,2,  33.9926,2,    106.7,2,   104.8,2,   34.47,2,   28.13,2,    0.01,2,    2.11,2,   2.728,2,   1.464,2,-999.000,1,   0.8238,2,    2208,2,  2257.9,2,   7.4749,2,       25,-999.000,9,-999.0000,9, -999.00,9, -999.00,9,  -999.0,9,  -999.0,-999.000,9,-999.000,     -999.0,9, -999.00,9, -999.00,9, -999.00,9,     -999.0,9,  -999.0,9, 20130601,      332,  32.6316,-118.1548,    34.1529,2,     -999.0,9,     -999.0,9,     8.5468,2,     -999.0,9,     -999.0,9,-999.0000, -999.00,-999.000
318M20130321,       P02E,     156,          2,         26,         26,2,20130601,       0235,    32.6312,  -118.1547,       2033,   160.7,   8.3442,  34.0715,2,  34.0733,2,     90.7,2,      89,2,   38.87,2,   29.47,2,    0.01,2,    2.26,2,-999.000,9,-999.000,9,-999.000,9,-999.0000,9,  2223.1,2, 2266.71,2,   7.4477,2,       25,-999.000,9,-999.0000,9, -999.00,9, -999.00,9,  -999.0,9,  -999.0,-999.000,9,-999.000,     -999.0,9, -999.00,9, -999.00,9, -999.00,9,     -999.0,9,  -999.0,9, 20130601,      331,  32.6315,-118.1548,     34.234,2,     -999.0,9,     -999.0,9,     8.3612,2,     -999.0,9,     -999.0,9,-999.0000, -999.00,-999.000
318M20130321,       P02E,     156,          2,         25,         25,2,20130601,       0235,    32.6312,  -118.1547,       2033,   186.7,   8.2896,   34.119,2,   34.117,2,     76.3,2,    78.2,2,   41.21,2,   30.17,2,    0.01,2,    2.33,2,   2.180,2,   1.140,2,-999.000,1,   0.5412,2,  2232.8,2, 2271.31,2,    7.431,2,       25,-999.000,9,-999.0000,9, -999.00,9, -999.00,9,  -999.0,9,  -999.0,-999.000,9,-999.000,     -999.0,9, -999.00,9, -999.00,9, -999.00,9,     -999.0,9,  -999.0,9, 20130601,      329,  32.6315,-118.1548,    34.2779,2,     -999.0,9,     -999.0,9,     8.2911,2,     -999.0,9,     -999.0,9,-999.0000, -999.00,-999.000
318M20130321,       P02E,     156,          2,         24,         24,2,20130601,       0235,    32.6312,  -118.1547,       2033,   210.8,   8.0962,  34.1343,2,  34.1335,2,     70.1,2,    69.9,2,   43.84,2,   31.08,2,    0.01,2,    2.41,2,-999.000,9,-999.000,9,-999.000,9,-999.0000,9,  -999.0,9, -999.00,9,-999.0000,9,  -999.00,-999.000,9,   1.8475,2,    8.57,2, -999.00,9,  -999.0,9,  -999.0,   7.717,2,   0.036,     -999.0,9, -999.00,9, -999.00,9, -999.00,9,     -999.0,9,  -999.0,9, 20130601,      328,  32.6314,-118.1548,    34.2945,2,     -999.0,9,     -999.0,9,     8.1026,2,     -999.0,9,     -999.0,9,   0.0078,    0.15,-999.000
318M20130321,       P02E,     156,          2,         23,         23,2,20130601,       0235,    32.6312,  -118.1547,       2033,   236.1,   7.9021,  34.1371,2,  34.1367,2,     63.6,2,    65.4,2,   45.99,2,   31.88,2,    0.01,2,    2.46,2,   1.918,2,   0.985,2,-999.000,1,   0.3776,2,  2248.3,2, 2278.01,2,   7.4035,2,       25,-999.000,9,-999.0000,9, -999.00,9, -999.00,9,  -999.0,9,  -999.0,-999.000,9,-999.000,     -999.0,9, -999.00,9, -999.00,9, -999.00,9,     -999.0,9,  -999.0,9, 20130601,      326,  32.6313,-118.1548,    34.2976,2,     -999.0,9,     -999.0,9,      7.902,2,     -999.0,9,     -999.0,9,-999.0000, -999.00,-999.000
318M20130321,       P02E,     156,          2,         22,         22,2,20130601,       0235,    32.6312,  -118.1547,       2033,   266.7,   7.8545,  34.1728,2,  34.1755,2,     53.6,2,      55,2,   48.53,2,   32.58,2,    0.01,2,    2.56,2,-999.000,9,-999.000,9,-999.000,9,-999.0000,9,  2256.3,2, 2281.91,2,   7.3852,2,       25,-999.000,9,-999.0000,9, -999.00,9, -999.00,9,  -999.0,9,  -999.0,-999.000,9,-999.000,     -999.0,9, -999.00,9, -999.00,9, -999.00,9,     -999.0,9,  -999.0,9, 20130601,      325,  32.6312,-118.1548,    34.3367,2,     -999.0,9,     -999.0,9,     7.8522,2,     -999.0,9,     -999.0,9,-999.0000, -999.00,-999.000
318M20130321,       P02E,     156,          2,         21,         21,2,20130601,       0235,    32.6312,  -118.1547,       2033,   315.9,   7.4256,  34.2161,2,  34.2173,2,     38.5,2,      39,2,   55.07,2,   34.46,2,       0,2,    2.73,2,   1.186,2,   0.591,2,-999.000,1,    0.166,2,  -999.0,9, -999.00,9,-999.0000,9,  -999.00,-999.000,9,   1.8339,2,   12.86,2, -999.00,9,  -999.0,9,  -999.0,   7.833,2,   0.036,     -999.0,9, -999.00,9, -999.00,9, -999.00,9,     -999.0,9,  -999.0,9, 20130601,      323,  32.6312,-118.1547,    34.3786,2,     -999.0,9,     -999.0,9,     7.4242,2,     -999.0,9,     -999.0,9,   0.0077,    0.15,-999.000
318M20130321,       P02E,     156,          2,         20,         20,2,20130601,       0235,    32.6312,  -118.1547,       2033,   366.8,   7.2411,  34.2674,2,  34.2677,2,     29.2,2,    27.8,2,   59.46,2,   35.35,2,       0,2,    2.84,2,-999.000,9,-999.000,9,-999.000,9,-999.0000,9,  2287.3,2, 2299.42,2,   7.3408,2,       25,-999.000,9,-999.0000,9, -999.00,9, -999.00,9,  -999.0,9,  -999.0,-999.000,9,-999.000,     -999.0,9, -999.00,9, -999.00,9, -999.00,9,     -999.0,9,  -999.0,9, 20130601,      321,  32.6312,-118.1547,    34.4293,2,     -999.0,9,     -999.0,9,     7.2419,2,     -999.0,9,     -999.0,9,-999.0000, -999.00,-999.000
318M20130321,       P02E,     156,          2,         19,         19,2,20130601,       0235,    32.6312,  -118.1547,       2033,   417.3,   6.8365,  34.2846,2,  34.2838,2,     22.1,2,    21.7,2,   65.32,2,   36.75,2,       0,2,    2.94,2,   0.582,2,   0.291,2,-999.000,1,   0.0784,2,  -999.0,9, -999.00,9,-999.0000,9,  -999.00,-999.000,9,   1.8481,2,   13.67,2, -999.00,9,  -999.0,9,  -999.0,   7.733,2,   0.036,     -999.0,9, -999.00,9, -999.00,9, -999.00,9,     -999.0,9,  -999.0,9, 20130601,      320,  32.6312,-118.1547,    34.4454,2,     -999.0,9,     -999.0,9,     6.8366,2,     -999.0,9,     -999.0,9,   0.0078,    0.15,-999.000
318M20130321,       P02E,     156,          2,         18,         18,2,20130601,       0235,    32.6312,  -118.1547,       2033,   468.6,   6.5928,  34.3204,2,  34.3209,2,     15.8,2,    15.5,2,    70.2,2,   37.62,2,       0,2,    3.02,2,-999.000,9,-999.000,9,-999.000,9,-999.0000,9,  2306.8,2, 2311.62,2,   7.3203,2,       25,-999.000,9,-999.0000,9, -999.00,9, -999.00,9,  -999.0,9,  -999.0,-999.000,9,-999.000,     -999.0,9, -999.00,9, -999.00,9, -999.00,9,     -999.0,9,  -999.0,9, 20130601,      318,  32.6312,-118.1547,    34.4827,2,     -999.0,9,     -999.0,9,     6.5961,2,     -999.0,9,     -999.0,9,-999.0000, -999.00,-999.000
318M20130321,       P02E,     156,          2,         17,         17,2,20130601,       0235,    32.6312,  -118.1547,       2033,   537.2,   6.2399,  34.3405,2,  34.3405,2,     12.4,2,    12.7,2,   75.57,2,    38.8,2,       0,2,    3.09,2,   0.226,2,   0.118,2,-999.000,1,        0,2,  2317.8,2, 2318.52,2,   7.3147,2,       25,-999.000,9,   1.8660,2,   13.59,2, -999.00,9,  -999.0,9,  -999.0,   7.934,2,   0.036,     -999.0,9, -999.00,9, -999.00,9, -999.00,9,     -999.0,9,  -999.0,9, 20130601,      316,  32.6312,-118.1547,    34.5024,2,     -999.0,9,     -999.0,9,     6.2399,2,     -999.0,9,     -999.0,9,   0.0078,    0.15,-999.000
318M20130321,       P02E,     156,          2,         16,         16,2,20130601,       0235,    32.6312,  -118.1547,       2033,   638.1,   5.5784,  34.3752,2,  34.3751,2,     10.6,2,    10.7,2,    86.6,2,   40.71,2,       0,2,    3.16,2,-999.000,9,-999.000,9,-999.000,9,-999.0000,9,  -999.0,9, -999.00,9,   7.3125,2,       25,-999.000,9,   1.8976,2,   14.44,2, -999.00,9,  -999.0,9,  -999.0,   7.970,2,   0.037,     -999.0,9, -999.00,9, -999.00,9, -999.00,9,     -999.0,9,  -999.0,9, 20130601,      313,  32.6312,-118.1547,    34.5372,2,     -999.0,9,     -999.0,9,     5.5805,2,     -999.0,9,     -999.0,9,   0.0080,    0.15,-999.000
318M20130321,       P02E,     156,          2,         15,         15,2,20130601,       0235,    32.6312,  -118.1547,       2033,   739.1,   5.1969,  34.4007,2,  34.4006,2,     11.2,2,    11.1,2,   93.14,2,   41.65,2,       0,2,    3.19,2,   0.054,2,   0.036,2,-999.000,1,        0,2,  2340.2,2, 2341.33,2,   7.3152,6,       25,-999.000,9,   1.8747,2,   15.09,2, -999.00,9,  -999.0,9,  -999.0,   8.018,2,   0.037,     -999.0,9, -999.00,9, -999.00,9, -999.00,9,     -999.0,9,  -999.0,9, 20130601,      310,  32.6312,-118.1547,    34.5628,2,     -999.0,9,     -999.0,9,      5.198,2,     -999.0,9,     -999.0,9,   0.0079,    0.15,-999.000
318M20130321,       P02E,     156,          2,         14,         14,2,20130601,       0235,    32.6312,  -118.1547,       2033,   841.3,   4.6049,  34.4357,2,  34.4349,2,     15.4,2,    15.6,2,  104.46,2,   42.66,2,       0,2,    3.21,2,-999.000,9,-999.000,9,-999.000,9,-999.0000,9,  -999.0,9, -999.00,9,-999.0000,9,  -999.00,-999.000,9,-999.0000,9, -999.00,9, -999.00,9,  -999.0,9,  -999.0,-999.000,9,-999.000,     -999.0,9, -999.00,9, -999.00,9, -999.00,9,     -999.0,9,  -999.0,9, 20130601,      307,  32.6312,-118.1547,    34.5973,2,     -999.0,9,     -999.0,9,     4.6032,2,     -999.0,9,     -999.0,9,-999.0000, -999.00,-999.000
318M20130321,       P02E,     156,          2,         13,         13,2,20130601,       0235,    32.6312,  -118.1547,       2033,   942.8,   4.2986,  34.4645,2,  34.4664,2,     18.3,2,    19.1,2,  112.46,2,   42.72,2,       0,2,    3.21,2,   0.049,2,   0.048,2,-999.000,1,        0,2,  2355.4,2, 2364.14,2,   7.3277,2,       25,-999.000,9,   1.9284,2,   18.57,2, -999.00,9,  -999.0,9,  -999.0,   8.153,2,   0.038,     -999.0,9, -999.00,9, -999.00,9, -999.00,9,     -999.0,9,  -999.0,9, 20130601,      305,  32.6312,-118.1547,    34.6289,2,     -999.0,9,     -999.0,9,     4.2984,2,     -999.0,9,     -999.0,9,   0.0081,    0.15,-999.000
318M20130321,       P02E,     156,          2,         12,         12,2,20130601,       0235,    32.6312,  -118.1547,       2033,  1042.9,    4.071,   34.482,2,  34.4854,2,     20.7,2,      22,2,  118.12,2,    42.7,2,       0,2,    3.21,2,-999.000,9,-999.000,9,-999.000,9,-999.0000,9,  -999.0,9, -999.00,9,-999.0000,9,  -999.00,-999.000,9,   1.9041,2,   19.64,2, -999.00,9,  -999.0,9,  -999.0,   8.033,2,   0.037,     -999.0,9, -999.00,9, -999.00,9, -999.00,9,     -999.0,9,  -999.0,9, 20130601,      302,  32.6312,-118.1547,     34.648,2,     -999.0,9,     -999.0,9,     4.0704,2,     -999.0,9,     -999.0,9,   0.0080,    0.15,-999.000
318M20130321,       P02E,     156,          2,         11,         11,2,20130601,       0235,    32.6312,  -118.1547,       2033,  1144.2,   3.8506,  34.4992,2,  34.5016,2,     26.6,2,      26,2,  123.59,2,    42.8,2,       0,2,    3.19,2,   0.056,2,   0.057,2,-999.000,1,        0,2,  2364.6,2, 2377.74,2,   7.3434,2,       25,-999.000,9,   1.9288,2,   20.58,2, -999.00,9,  -999.0,9,  -999.0,   8.211,2,   0.038,     -999.0,9, -999.00,9, -999.00,9, -999.00,9,     -999.0,9,  -999.0,9, 20130601,      300,  32.6312,-118.1547,    34.6642,2,     -999.0,9,     -999.0,9,     3.8484,2,     -999.0,9,     -999.0,9,   0.0081,    0.15,-999.000
318M20130321,       P02E,     156,          2,         10,         10,2,20130601,       0235,    32.6312,  -118.1547,       2033,  1245.4,   3.5502,  34.5219,2,  34.5234,2,     33.2,2,    32.1,2,  130.03,2,   42.65,2,       0,2,    3.16,2,-999.000,9,-999.000,9,-999.000,9,-999.0000,9,  -999.0,9, -999.00,9,-999.0000,9,  -999.00,-999.000,9,-999.0000,9, -999.00,9, -999.00,9,  -999.0,9,  -999.0,-999.000,9,-999.000,     -999.0,9, -999.00,9, -999.00,9, -999.00,9,     -999.0,9,  -999.0,9, 20130601,      257,  32.6312,-118.1547,    34.6861,2,     -999.0,9,     -999.0,9,     3.5471,2,     -999.0,9,     -999.0,9,-999.0000, -999.00,-999.000
318M20130321,       P02E,     156,          2,          9,          9,2,20130601,       0235,    32.6312,  -118.1547,       2033,  1347.2,   3.2513,   34.544,2,  34.5452,2,     38.5,2,    39.2,2,  136.96,2,   42.41,2,       0,2,    3.13,2,   0.065,2,   0.060,2,-999.000,1,        0,2,  -999.0,9, -999.00,9,-999.0000,9,  -999.00,-999.000,9,   1.9307,2,   22.74,2, -999.00,9,  -999.0,9,  -999.0,   8.142,2,   0.037,     -999.0,9, -999.00,9, -999.00,9, -999.00,9,     -999.0,9,  -999.0,9, 20130601,      255,  32.6312,-118.1547,    34.7081,2,     -999.0,9,     -999.0,9,     3.2482,2,     -999.0,9,     -999.0,9,   0.0081,    0.15,-999.000
318M20130321,       P02E,     156,          2,          8,          8,2,20130601,       0235,    32.6312,  -118.1547,       2033,  1447.5,   3.0771,  34.5572,2,   34.557,2,     44.1,2,    44.1,2,  141.15,2,   42.14,2,       0,2,     3.1,2,-999.000,9,-999.000,9,-999.000,9,-999.0000,9,  2373.2,2, 2398.65,2,   7.3779,2,       25,-999.000,9,-999.0000,9, -999.00,9, -999.00,9,  -999.0,9,  -999.0,-999.000,9,-999.000,     -999.0,9, -999.00,9, -999.00,9, -999.00,9,     -999.0,9,  -999.0,9, 20130601,      252,  32.6312,-118.1547,    34.7199,2,     -999.0,9,     -999.0,9,     3.0795,2,     -999.0,9,     -999.0,9,-999.0000, -999.00,-999.000
318M20130321,       P02E,     156,          2,          7,          7,2,20130601,       0235,    32.6312,  -118.1547,       2033,  1549.3,   2.9579,  34.5661,2,  34.5668,2,       47,2,    46.9,2,  143.88,2,   41.97,2,       0,2,    3.09,2,   0.078,2,   0.066,2,-999.000,1,        0,2,    2375,2, 2402.05,2,   7.3848,2,       25,-999.000,9,   1.9285,2,   23.66,2, -999.00,9,  -999.0,9,  -999.0,   8.086,2,   0.037,     -999.0,9, -999.00,9, -999.00,9, -999.00,9,     -999.0,9,  -999.0,9, 20130601,      249,  32.6312,-118.1547,    34.7298,2,     -999.0,9,     -999.0,9,     2.9587,2,     -999.0,9,     -999.0,9,   0.0081,    0.15,-999.000
318M20130321,       P02E,     156,          2,          6,          6,2,20130601,       0235,    32.6312,  -118.1547,       2033,    1651,   2.7347,  34.5827,2,  34.5833,2,     52.7,2,    53.1,2,  149.84,2,   41.58,2,       0,2,    3.06,2,-999.000,9,-999.000,9,-999.000,9,-999.0000,9,  2376.1,2, 2408.36,2,   7.3971,2,       25,-999.000,9,-999.0000,9, -999.00,9, -999.00,9,  -999.0,9,  -999.0,-999.000,9,-999.000,     -999.0,9, -999.00,9, -999.00,9, -999.00,9,     -999.0,9,  -999.0,9, 20130601,      247,  32.6312,-118.1547,    34.7464,2,     -999.0,9,     -999.0,9,     2.7342,2,     -999.0,9,     -999.0,9,-999.0000, -999.00,-999.000
318M20130321,       P02E,     156,          2,          5,         37,2,20130601,       0235,    32.6312,  -118.1547,       2033,  1752.1,   2.6647,  34.5882,2,  34.5886,2,     54.9,2,    55.8,2,  151.69,2,    41.5,2,       0,2,    3.05,2,   0.055,2,   0.079,2,-999.000,1,        0,2,  -999.0,9, -999.00,9,-999.0000,9,  -999.00,-999.000,9,   1.9478,2,   24.44,2, -999.00,9,  -999.0,9,  -999.0,   8.202,2,   0.038,     -999.0,9, -999.00,9, -999.00,9, -999.00,9,     -999.0,9,  -999.0,9, 20130601,      244,  32.6312,-118.1547,    34.7517,2,     -999.0,9,     -999.0,9,     2.6643,2,     -999.0,9,     -999.0,9,   0.0082,    0.15,-999.000
318M20130321,       P02E,     156,          2,          4,          4,2,20130601,       0235,    32.6312,  -118.1547,       2033,  1853.2,   2.6402,  34.5907,2,  34.5912,2,     56.5,2,    56.4,2,  152.86,2,   41.48,2,       0,2,    3.05,2,-999.000,9,-999.000,9,-999.000,9,-999.0000,9,  2377.5,2, 2413.26,6,    7.405,2,       25,-999.000,9,-999.0000,9, -999.00,9, -999.00,9,  -999.0,9,  -999.0,-999.000,9,-999.000,     -999.0,9, -999.00,9, -999.00,9, -999.00,9,     -999.0,9,  -999.0,9, 20130601,      241,  32.6312,-118.1547,    34.7543,2,     -999.0,9,     -999.0,9,       2.64,2,     -999.0,9,     -999.0,9,-999.0000, -999.00,-999.000