BOTTLE,20220817CCHSIOAMB
EXPOCODE,SECT_ID,STNNBR,CASTNO,SAMPNO,BTLNBR,BTLNBR_FLAG_W,DATE,TIME,LATITUDE,LONGITUDE,DEPTH,CTDPRS,CTDTMP,CTDSAL,CTDSAL_FLAG_W,SALNTY,SALNTY_FLAG_W,CTDOXY,CTDOXY_FLAG_W,OXYGEN,OXYGEN_FLAG_W,SILCAT,SILCAT_FLAG_W,NITRAT,NITRAT_FLAG_W,NITRIT,NITRIT_FLAG_W,PHSPHT,PHSPHT_FLAG_W,CFC-11,CFC-11_FLAG_W,CFC-12,CFC-12_FLAG_W,CFC113,CFC113_FLAG_W,SF6,SF6_FLAG_W,TCARBN,TCARBN_FLAG_W,ALKALI,ALKALI_FLAG_W,PH_TOT,PH_TOT_FLAG_W,PH_TMP,TRITUM,TRITUM_FLAG_W,HELIUM,HELIUM_FLAG_W,DELHE3,DELHE3_FLAG_W,DELC13,DELC13_FLAG_W,DELC14,DELC14_FLAG_W,C14ERR,NEON,NEON_FLAG_W,NEONER,I-129,I-129_FLAG_W,SR-90,SR-90_FLAG_W,DOC,DOC_FLAG_W,TDN,TDN_FLAG_W,CALCIUM,CALCIUM_FLAG_W,D15N_NO3,D15N_NO3_FLAG_W,BTL_DATE,BTL_TIME,BTL_LAT,BTL_LON,SALTREF,SALTREF_FLAG_W,CS-137,CS-137_FLAG_W,CS-134,CS-134_FLAG_W,REFTMP,REFTMP_FLAG_W,LAB_DEN,LAB_DEN_FLAG_W,D18O_NO3,D18O_NO3_FLAG_W,HELIER,DELHER,TRITER
,,,,,,,,,,,METERS,DBAR,ITS-90,PSS-78,,PSS-78,,UMOL/KG,,UMOL/KG,,UMOL/KG,,UMOL/KG,,UMOL/KG,,UMOL/KG,,PMOL/KG,,PMOL/KG,,PMOL/KG,,FMOL/KG,,UMOL/KG,,UMOL/KG,,,,DEG C,TU,,NMOL/KG,,PERCNT,,/MILLE,,/MILLE,,/MILLE,NMOL/KG,,NMOL/KG,BQ/M^3,,DM/.1MG,,UMOL/KG,,UMOL/KG,,MMOL/KG,,/MILLE,,,,,,G/KG,,BQ/M^3,,BQ/M^3,,ITS-90,,,,/MILLE,,NMOL/KG,PERCNT,TU
318M20130321,       P02E,     109,          1,         36,         36,2,20130519,       0355,    30.0002,  -147.9584,       4755,     3.4,  21.1071,  35.2102,2,  35.2122,2,    226.5,2,   226.4,2,    2.24,2,       0,2,       0,2,       0,2,   1.934,2,   1.201,2,-999.000,1,   1.4158,2,  2035.7,2, 2312.82,2,   7.9994,2,       25,-999.000,9,-999.0000,9, -999.00,9,    0.77,2,    45.6,2,     2.7,-999.000,9,-999.000,     -999.0,1, -999.00,9,   63.24,2,    4.38,2,     -999.0,9,  -999.0,1, 20130519,      602,  30.0003,-147.9587,    35.3783,2,     -999.0,9,     -999.0,9,    21.1064,2,     -999.0,9,     -999.0,1,-999.0000, -999.00,-999.000
318M20130321,       P02E,     109,          1,         34,         34,2,20130519,       0355,    30.0002,  -147.9584,       4755,    34.9,  20.8307,  35.2086,2,  35.2126,2,    229.1,2,   228.1,2,    2.15,2,       0,2,       0,2,       0,2,   1.957,2,   1.199,2,-999.000,1,   1.3654,2,  2033.5,2, 2316.02,2,   8.0035,6,       25,-999.000,9,-999.0000,9, -999.00,9,    0.80,2,    40.3,2,     2.6,-999.000,9,-999.000,     -999.0,9, -999.00,9,   63.26,2,    4.71,2,     -999.0,9,  -999.0,1, 20130519,      559,  30.0001,-147.9584,    35.3787,2,     -999.0,9,     -999.0,9,    20.8323,2,     -999.0,9,     -999.0,1,-999.0000, -999.00,-999.000
318M20130321,       P02E,     109,          1,         33,         33,2,20130519,       0355,    30.0002,  -147.9584,       4755,    60.3,  19.9548,  35.1176,2,  35.1151,2,    231.8,2,   231.5,2,    2.24,2,       0,2,       0,2,       0,2,   2.012,2,   1.227,2,-999.000,1,   1.3823,2,  -999.0,9, -999.00,9,-999.0000,9,  -999.00,-999.000,9,-999.0000,9, -999.00,9,    0.83,2,    36.7,2,     2.7,-999.000,9,-999.000,     -999.0,9, -999.00,9,   67.23,2,    4.82,2,     -999.0,9,  -999.0,1, 20130519,      558,  30.0001,-147.9585,    35.2807,2,     -999.0,9,     -999.0,9,    19.9557,2,     -999.0,9,     -999.0,1,-999.0000, -999.00,-999.000
318M20130321,       P02E,     109,          1,         32,         32,2,20130519,       0355,    30.0002,  -147.9584,       4755,    84.3,  19.5695,  35.0923,2,  35.0913,2,    230.8,2,   229.8,2,    2.34,2,       0,2,       0,2,    0.01,2,   2.022,2,   1.241,2,-999.000,1,   1.3846,2,  2028.7,2, 2307.32,6,   8.0012,2,       25,-999.000,9,-999.0000,9, -999.00,9,    0.80,2,    25.5,2,     2.7,-999.000,9,-999.000,     -999.0,9, -999.00,9,   63.99,2,    3.89,2,     -999.0,9,  -999.0,1, 20130519,      556,  30.0001,-147.9585,    35.2568,2,     -999.0,9,     -999.0,9,    19.5671,2,     -999.0,9,     -999.0,1,-999.0000, -999.00,-999.000
318M20130321,       P02E,     109,          1,         31,         31,2,20130519,       0355,    30.0002,  -147.9584,       4755,   114.3,  19.5366,  35.1443,2,  35.1433,2,    229.4,2,   228.5,2,    2.15,2,       0,2,       0,2,       0,2,   2.025,2,   1.248,2,-999.000,1,   1.4191,2,  -999.0,9, -999.00,9,-999.0000,9,  -999.00,-999.000,9,-999.0000,9, -999.00,9, -999.00,9,  -999.0,9,  -999.0,-999.000,9,-999.000,     -999.0,9, -999.00,9,   61.25,2,     4.1,2,     -999.0,9,  -999.0,1, 20130519,      553,  29.9999,-147.9586,     35.309,2,     -999.0,9,     -999.0,9,    19.5404,2,     -999.0,9,     -999.0,1,-999.0000, -999.00,-999.000
318M20130321,       P02E,     109,          1,         30,         30,2,20130519,       0355,    30.0002,  -147.9584,       4755,   164.6,  18.6607,  34.9867,2,  34.9842,2,    225.7,2,   223.5,2,    2.54,2,    0.35,2,    0.13,2,    0.07,2,   2.117,2,   1.289,2,-999.000,1,   1.4349,2,  2041.8,2, 2301.52,2,   7.9699,2,       25,-999.000,9,-999.0000,9, -999.00,9,    0.77,2,    38.5,2,     2.8,-999.000,9,-999.000,     -999.0,9, -999.00,9,   55.89,2,    3.97,2,     -999.0,9,  -999.0,1, 20130519,      551,  29.9999,-147.9586,    35.1492,2,     -999.0,9,     -999.0,9,    18.6642,2,     -999.0,9,     -999.0,1,-999.0000, -999.00,-999.000
318M20130321,       P02E,     109,          1,         29,         29,2,20130519,       0355,    30.0002,  -147.9584,       4755,   216.3,  14.0981,  34.2505,2,  34.2505,2,    221.2,2,   221.9,2,    6.05,2,    4.93,2,    0.03,2,    0.42,2,   2.677,2,   1.568,2,-999.000,1,   1.5209,2,  -999.0,9, -999.00,9,-999.0000,9,  -999.00,-999.000,9,-999.0000,9, -999.00,9, -999.00,9,  -999.0,9,  -999.0,-999.000,9,-999.000,     -999.0,9, -999.00,9,   47.48,2,    8.69,2,     -999.0,9,  -999.0,1, 20130519,      548,       30,-147.9585,     34.412,2,     -999.0,9,     -999.0,9,    14.0778,2,     -999.0,9,     -999.0,1,-999.0000, -999.00,-999.000
318M20130321,       P02E,     109,          1,         28,         28,2,20130519,       0355,    30.0002,  -147.9584,       4755,   266.4,  12.1824,  34.2166,2,  34.2177,2,    217.9,2,   218.1,2,   10.35,2,   10.15,2,    0.01,2,    0.71,2,   2.912,6,   1.669,6,-999.000,1,   1.5174,6,  2078.2,2,  2255.4,2,   7.8127,6,       25,-999.000,9,-999.0000,9, -999.00,9,    0.22,2,    35.4,2,     2.8,-999.000,9,-999.000,     -999.0,9, -999.00,9,   43.79,2,   14.01,2,     -999.0,9,  -999.0,1, 20130519,      546,       30,-147.9584,     34.379,2,     -999.0,9,     -999.0,9,     12.198,3,     -999.0,9,     -999.0,1,-999.0000, -999.00,-999.000
318M20130321,       P02E,     109,          1,         27,         27,2,20130519,       0355,    30.0002,  -147.9584,       4755,   316.2,  11.0939,  34.1778,2,  34.1834,2,    217.9,2,   219.6,2,   13.38,2,   12.28,2,    0.01,2,    0.86,2,   3.037,2,   1.720,2,-999.000,1,   1.4701,2,  -999.0,9, -999.00,9,-999.0000,9,  -999.00,-999.000,9,-999.0000,9, -999.00,9, -999.00,9,  -999.0,9,  -999.0,-999.000,9,-999.000,     -999.0,9, -999.00,9,   45.06,2, -999.00,5,     -999.0,9,  -999.0,1, 20130519,      544,       30,-147.9584,    34.3446,2,     -999.0,9,     -999.0,9,    11.1065,2,     -999.0,9,     -999.0,1,-999.0000, -999.00,-999.000
318M20130321,       P02E,     109,          1,         26,         26,2,20130519,       0355,    30.0002,  -147.9584,       4755,   366.7,  10.2449,  34.1338,2,  34.1353,2,    213.7,2,   214.7,2,   17.19,2,   14.67,2,    0.01,2,    1.03,2,   3.153,2,   1.751,2,-999.000,1,   1.3739,2,  2106.1,2,  2258.5,2,   7.7554,2,       25,-999.000,9,-999.0000,9, -999.00,9,    0.22,2,    26.5,2,     2.7,-999.000,9,-999.000,     -999.0,9, -999.00,9,   43.21,2, -999.00,9,     -999.0,9,  -999.0,1, 20130519,      542,       30,-147.9584,    34.2963,2,     -999.0,9,     -999.0,9,    10.2477,2,     -999.0,9,     -999.0,1,-999.0000, -999.00,-999.000
318M20130321,       P02E,     109,          1,         25,         25,2,20130519,       0355,    30.0002,  -147.9584,       4755,   437.3,   8.8964,  34.0665,2,  34.0671,2,    193.8,2,   193.1,2,   26.27,2,   19.56,2,    0.01,2,    1.36,2,   3.148,2,   1.692,2,-999.000,1,   1.2078,2,  -999.0,9, -999.00,9,-999.0000,9,  -999.00,-999.000,9,-999.0000,9, -999.00,9, -999.00,9,  -999.0,9,  -999.0,-999.000,9,-999.000,     -999.0,9, -999.00,9,   42.72,2, -999.00,9,     -999.0,9,  -999.0,1, 20130519,      539,  30.0001,-147.9584,    34.2278,2,     -999.0,9,     -999.0,9,     8.8884,2,     -999.0,9,     -999.0,1,-999.0000, -999.00,-999.000
318M20130321,       P02E,     109,          1,         24,         24,2,20130519,       0355,    30.0002,  -147.9584,       4755,   538.2,   6.9341,  33.9925,2,  33.9933,2,    140.1,2,   134.8,2,   47.56,2,   28.84,2,    0.01,2,    2.03,2,   2.580,2,   1.323,2,-999.000,1,   0.6721,2,  2204.2,2, 2277.21,2,    7.528,2,       25,-999.000,9,-999.0000,9, -999.00,9,   -0.12,2,   -31.3,2,     2.5,-999.000,9,-999.000,     -999.0,9, -999.00,9, -999.00,5, -999.00,9,     -999.0,9,  -999.0,1, 20130519,      536,       30,-147.9585,    34.1536,2,     -999.0,9,     -999.0,9,     6.9386,2,     -999.0,9,     -999.0,1,-999.0000, -999.00,-999.000
318M20130321,       P02E,     109,          1,         23,         23,2,20130519,       0355,    30.0002,  -147.9584,       4755,   638.9,   5.5879,  34.0205,2,  34.0211,2,     73.4,2,    80.5,2,   69.43,2,   36.15,2,       0,2,    2.58,2,   1.622,2,   0.790,2,-999.000,1,   0.3452,2,  2263.4,2, 2292.81,2,   7.3958,2,       25,-999.000,9,-999.0000,9, -999.00,9,   -0.34,2,   -79.6,2,     3.7,-999.000,9,-999.000,     -999.0,9, -999.00,9,    38.9,2, -999.00,9,     -999.0,9,  -999.0,1, 20130519,      533,       30,-147.9585,    34.1815,2,     -999.0,9,     -999.0,9,     5.5952,2,     -999.0,9,     -999.0,1,-999.0000, -999.00,-999.000
318M20130321,       P02E,     109,          1,         22,         22,2,20130519,       0355,    30.0002,  -147.9584,       4755,   739.9,   4.6667,  34.1286,2,  34.1279,2,       35,2,    36.8,2,   92.37,2,   41.19,2,       0,2,    2.96,2,   0.573,2,   0.272,2,-999.000,1,   0.1078,2,    2316,2, 2316.32,2,   7.3118,2,       25,-999.000,9,-999.0000,9, -999.00,9,   -0.50,2,  -124.2,2,     2.3,-999.000,9,-999.000,     -999.0,9, -999.00,9,    36.9,2, -999.00,9,     -999.0,9,  -999.0,1, 20130519,      531,       30,-147.9585,    34.2888,2,     -999.0,9,     -999.0,9,     4.6658,2,     -999.0,9,     -999.0,1,-999.0000, -999.00,-999.000
318M20130321,       P02E,     109,          1,         21,         21,2,20130519,       0355,    30.0002,  -147.9584,       4755,   840.9,    4.244,  34.2396,2,  34.2455,2,       18,2,    16.5,2,  107.79,2,   43.21,2,       0,2,     3.1,2,   0.118,2,   0.057,2,-999.000,1,   0.1115,2,  2344.2,2, 2336.73,2,   7.2844,2,       25,-999.000,9,-999.0000,9, -999.00,9,   -0.56,2,  -172.3,2,     2.4,-999.000,9,-999.000,     -999.0,9, -999.00,9,   37.35,2, -999.00,9,     -999.0,9,  -999.0,1, 20130519,      528,  30.0001,-147.9584,     34.407,2,     -999.0,9,     -999.0,9,     4.2482,2,     -999.0,9,     -999.0,1,-999.0000, -999.00,-999.000
318M20130321,       P02E,     109,          1,         20,         20,2,20130519,       0355,    30.0002,  -147.9584,       4755,   941.5,    3.946,  34.3225,2,   34.324,2,     12.9,2,    13.2,2,  117.26,2,    43.8,2,       0,2,    3.17,2,   0.028,2,   0.016,2,-999.000,1,   0.0765,2,  2357.2,6, 2351.54,2,     7.29,6,       25,-999.000,9,-999.0000,9, -999.00,9,   -0.54,2,  -185.1,2,     3.0,-999.000,9,-999.000,     -999.0,9, -999.00,9,   34.54,2, -999.00,9,     -999.0,9,  -999.0,1, 20130519,      525,       30,-147.9584,    34.4858,2,     -999.0,9,     -999.0,9,     3.9464,2,     -999.0,9,     -999.0,1,-999.0000, -999.00,-999.000
318M20130321,       P02E,     109,          1,         19,         19,2,20130519,       0355,    30.0002,  -147.9584,       4755,  1043.5,   3.6486,  34.4077,2,  34.4087,2,     17.1,2,    18.4,2,  125.25,2,   43.87,2,       0,2,    3.18,2,   0.003,2,   0.005,2,-999.000,1,        0,2,  2364.7,2, 2366.44,2,   7.3111,2,       25,-999.000,9,-999.0000,9, -999.00,9,   -0.48,2,  -206.2,2,     2.5,-999.000,9,-999.000,     -999.0,9, -999.00,9,   35.12,2, -999.00,9,     -999.0,9,  -999.0,1, 20130519,      522,  30.0001,-147.9584,     34.571,2,     -999.0,9,     -999.0,9,      3.649,2,     -999.0,9,     -999.0,1,-999.0000, -999.00,-999.000
318M20130321,       P02E,     109,          1,         18,         18,2,20130519,       0355,    30.0002,  -147.9584,       4755,  1144.3,   3.4639,  34.4482,2,  34.4486,2,     23.8,2,    24.6,2,  129.25,2,    43.7,2,       0,2,    3.15,2,   0.001,2,   0.003,2,-999.000,1,        0,2,  -999.0,9, -999.00,9,-999.0000,9,  -999.00,-999.000,9,-999.0000,9, -999.00,9, -999.00,9,  -999.0,9,  -999.0,-999.000,9,-999.000,     -999.0,9, -999.00,9,   35.99,2, -999.00,9,     -999.0,9,  -999.0,1, 20130519,      519,       30,-147.9584,     34.611,2,     -999.0,9,     -999.0,9,     3.4646,2,     -999.0,9,     -999.0,1,-999.0000, -999.00,-999.000
318M20130321,       P02E,     109,          1,         17,         17,2,20130519,       0355,    30.0002,  -147.9584,       4755,  1243.7,   3.2461,  34.4873,2,  34.4876,2,     33.1,2,    32.8,2,  134.13,2,   43.34,2,       0,2,    3.12,2,  -0.002,2,   0.001,2,-999.000,1,        0,2,  2368.8,2, 2381.85,2,   7.3462,2,       25,-999.000,9,-999.0000,9, -999.00,9,   -0.46,2,  -233.5,2,     2.0,-999.000,9,-999.000,     -999.0,9, -999.00,9,   37.99,2, -999.00,9,     -999.0,9,  -999.0,1, 20130519,      516,       30,-147.9585,    34.6502,2,     -999.0,9,     -999.0,9,     3.2471,2,     -999.0,9,     -999.0,1,-999.0000, -999.00,-999.000
318M20130321,       P02E,     109,          1,         16,         16,2,20130519,       0355,    30.0002,  -147.9584,       4755,  1347.4,   3.0606,  34.5148,2,  34.5171,2,     40.8,2,    41.6,2,  138.23,2,   42.91,2,       0,2,    3.09,2,  -0.002,2,   0.000,2,-999.000,1,        0,2,  -999.0,9, -999.00,9,-999.0000,9,  -999.00,-999.000,9,-999.0000,9, -999.00,9, -999.00,9,  -999.0,9,  -999.0,-999.000,9,-999.000,     -999.0,9, -999.00,9,   35.75,2, -999.00,9,     -999.0,9,  -999.0,1, 20130519,      512,       30,-147.9584,    34.6798,2,     -999.0,9,     -999.0,9,     3.0597,2,     -999.0,9,     -999.0,1,-999.0000, -999.00,-999.000
318M20130321,       P02E,     109,          1,         15,         15,2,20130519,       0355,    30.0002,  -147.9584,       4755,  1478.8,   2.8145,  34.5436,2,  34.5451,2,     50.6,2,    50.3,2,  144.08,2,   42.41,2,       0,2,    3.04,2,  -0.004,2,  -0.003,2,-999.000,1,        0,2,  2367.9,2, 2396.05,2,   7.3845,2,       25,-999.000,9,-999.0000,9, -999.00,9,   -0.36,2,  -235.2,2,     2.2,-999.000,9,-999.000,     -999.0,9, -999.00,9,   37.76,2, -999.00,9,     -999.0,9,  -999.0,1, 20130519,      509,  29.9999,-147.9584,     34.708,2,     -999.0,9,     -999.0,9,     2.8137,2,     -999.0,9,     -999.0,1,-999.0000, -999.00,-999.000
318M20130321,       P02E,     109,          1,         14,         14,2,20130519,       0355,    30.0002,  -147.9584,       4755,  1681.8,   2.4817,  34.5753,2,   34.576,2,     61.8,2,    63.3,2,  151.99,2,   41.77,2,       0,2,    2.97,2,  -0.002,2,  -0.001,2,-999.000,1,        0,2,  2368.6,2, 2404.45,2,   7.4076,2,       25,-999.000,9,-999.0000,9, -999.00,9,   -0.34,2,  -245.6,2,     2.3,-999.000,9,-999.000,     -999.0,9, -999.00,9,   35.77,2, -999.00,9,     -999.0,9,  -999.0,1, 20130519,      504,  30.0001,-147.9585,     34.739,2,     -999.0,9,     -999.0,9,     2.4823,2,     -999.0,9,     -999.0,1,-999.0000, -999.00,-999.000
318M20130321,       P02E,     109,          1,         13,         13,2,20130519,       0355,    30.0002,  -147.9584,       4755,  1885.9,   2.1903,  34.6005,2,  34.6033,2,     72.5,2,    72.6,2,  159.79,2,   41.16,2,       0,2,    2.96,2,  -0.004,2,  -0.002,2,-999.000,1,        0,2,  -999.0,9, -999.00,9,-999.0000,9,  -999.00,-999.000,9,-999.0000,9, -999.00,9, -999.00,9,  -999.0,9,  -999.0,-999.000,9,-999.000,     -999.0,9, -999.00,9, -999.00,9, -999.00,9,     -999.0,9,  -999.0,1, 20130519,      459,  30.0001,-147.9585,    34.7664,2,     -999.0,9,     -999.0,9,      2.189,2,     -999.0,9,     -999.0,1,-999.0000, -999.00,-999.000
318M20130321,       P02E,     109,          1,         12,         12,2,20130519,       0355,    30.0002,  -147.9584,       4755,  2108.3,   1.9798,  34.6199,2,  34.6213,2,     81.6,2,    82.1,2,  165.65,2,   40.61,2,       0,2,    2.89,2,  -0.004,2,  -0.002,2,-999.000,1,        0,2,    2370,2, 2418.26,2,    7.446,2,       25,-999.000,9,-999.0000,9, -999.00,9, -999.00,9,  -999.0,9,  -999.0,-999.000,9,-999.000,     -999.0,9, -999.00,9,   36.73,2, -999.00,9,     -999.0,9,  -999.0,1, 20130519,      454,       30,-147.9587,    34.7846,2,     -999.0,9,     -999.0,9,     1.9801,2,     -999.0,9,     -999.0,1,-999.0000, -999.00,-999.000
318M20130321,       P02E,     109,          1,         11,         11,2,20130519,       0355,    30.0002,  -147.9584,       4755,    2363,   1.8087,  34.6365,2,  34.6384,2,     92.3,2,    91.7,2,  169.26,2,   39.96,2,       0,2,    2.83,2,  -0.004,2,  -0.002,2,-999.000,1,        0,2,  -999.0,9, -999.00,9,-999.0000,9,  -999.00,-999.000,9,-999.0000,9, -999.00,9, -999.00,9,  -999.0,9,  -999.0,-999.000,9,-999.000,     -999.0,9, -999.00,9, -999.00,9, -999.00,9,     -999.0,9,  -999.0,1, 20130519,      449,  30.0001,-147.9584,    34.8018,2,     -999.0,9,     -999.0,9,     1.8077,2,     -999.0,9,     -999.0,1,-999.0000, -999.00,-999.000
318M20130321,       P02E,     109,          1,         10,         10,2,20130519,       0355,    30.0002,  -147.9584,       4755,    2616,   1.6894,  34.6496,2,  34.6504,2,    102.7,2,     102,2,  170.91,2,   39.34,2,       0,2,    2.77,2,  -0.004,2,  -0.002,2,-999.000,1,        0,2,  2361.8,2, 2425.46,2,   7.4854,2,       25,-999.000,9,-999.0000,9, -999.00,9, -999.00,9,  -999.0,9,  -999.0,-999.000,9,-999.000,     -999.0,9, -999.00,9,   36.97,2, -999.00,9,     -999.0,9,  -999.0,1, 20130519,      443,       30,-147.9586,    34.8138,2,     -999.0,9,     -999.0,9,     1.6891,2,     -999.0,9,     -999.0,1,-999.0000, -999.00,-999.000
318M20130321,       P02E,     109,          1,          9,          9,2,20130519,       0355,    30.0002,  -147.9584,       4755,  2869.8,   1.6004,  34.6597,2,   34.661,2,    112.5,2,   111.9,2,  170.23,2,   38.72,2,       0,2,    2.72,2,  -0.004,2,  -0.002,2,-999.000,1,        0,2,  2356.3,2, 2425.66,2,   7.5051,2,       25,-999.000,9,-999.0000,9, -999.00,9, -999.00,9,  -999.0,9,  -999.0,-999.000,9,-999.000,     -999.0,9, -999.00,9,    36.1,2, -999.00,9,     -999.0,9,  -999.0,1, 20130519,      438,  30.0001,-147.9583,    34.8245,2,     -999.0,9,     -999.0,9,     1.6003,2,     -999.0,9,     -999.0,1,-999.0000, -999.00,-999.000
318M20130321,       P02E,     109,          1,          8,          8,2,20130519,       0355,    30.0002,  -147.9584,       4755,  3139.2,   1.5344,  34.6684,2,  34.6693,2,    122.4,2,   122.8,2,  168.18,2,   38.05,2,       0,2,    2.66,2,  -0.002,2,   0.000,2,-999.000,1,        0,2,  -999.0,9, -999.00,9,-999.0000,9,  -999.00,-999.000,9,-999.0000,9, -999.00,9, -999.00,9,  -999.0,9,  -999.0,-999.000,9,-999.000,     -999.0,9, -999.00,9, -999.00,9, -999.00,9,     -999.0,9,  -999.0,1, 20130519,      432,  30.0001,-147.9586,    34.8328,2,     -999.0,9,     -999.0,9,     1.5341,2,     -999.0,9,     -999.0,1,-999.0000, -999.00,-999.000
318M20130321,       P02E,     109,          1,          7,          7,2,20130519,       0355,    30.0002,  -147.9584,       4755,  3447.1,   1.4908,  34.6763,2,  34.6775,2,    133.6,2,   132.5,2,  165.25,2,   37.42,2,       0,2,    2.61,2,  -0.004,2,  -0.001,2,-999.000,1,        0,2,  2342.6,2, 2424.66,2,   7.5417,2,       25,-999.000,9,-999.0000,9, -999.00,9, -999.00,9,  -999.0,9,  -999.0,-999.000,9,-999.000,     -999.0,9, -999.00,9,   35.54,2, -999.00,9,     -999.0,9,  -999.0,1, 20130519,      425,  30.0001,-147.9584,     34.841,2,     -999.0,9,     -999.0,9,      1.491,2,     -999.0,9,     -999.0,1,-999.0000, -999.00,-999.000