BOTTLE,20220817CCHSIOAMB
EXPOCODE,SECT_ID,STNNBR,CASTNO,SAMPNO,BTLNBR,BTLNBR_FLAG_W,DATE,TIME,LATITUDE,LONGITUDE,DEPTH,CTDPRS,CTDTMP,CTDSAL,CTDSAL_FLAG_W,SALNTY,SALNTY_FLAG_W,CTDOXY,CTDOXY_FLAG_W,OXYGEN,OXYGEN_FLAG_W,SILCAT,SILCAT_FLAG_W,NITRAT,NITRAT_FLAG_W,NITRIT,NITRIT_FLAG_W,PHSPHT,PHSPHT_FLAG_W,CFC-11,CFC-11_FLAG_W,CFC-12,CFC-12_FLAG_W,CFC113,CFC113_FLAG_W,SF6,SF6_FLAG_W,TCARBN,TCARBN_FLAG_W,ALKALI,ALKALI_FLAG_W,PH_TOT,PH_TOT_FLAG_W,PH_TMP,TRITUM,TRITUM_FLAG_W,HELIUM,HELIUM_FLAG_W,DELHE3,DELHE3_FLAG_W,DELC13,DELC13_FLAG_W,DELC14,DELC14_FLAG_W,C14ERR,NEON,NEON_FLAG_W,NEONER,I-129,I-129_FLAG_W,SR-90,SR-90_FLAG_W,DOC,DOC_FLAG_W,TDN,TDN_FLAG_W,CALCIUM,CALCIUM_FLAG_W,D15N_NO3,D15N_NO3_FLAG_W,BTL_DATE,BTL_TIME,BTL_LAT,BTL_LON,SALTREF,SALTREF_FLAG_W,CS-137,CS-137_FLAG_W,CS-134,CS-134_FLAG_W,REFTMP,REFTMP_FLAG_W,LAB_DEN,LAB_DEN_FLAG_W,D18O_NO3,D18O_NO3_FLAG_W,HELIER,DELHER,TRITER
,,,,,,,,,,,METERS,DBAR,ITS-90,PSS-78,,PSS-78,,UMOL/KG,,UMOL/KG,,UMOL/KG,,UMOL/KG,,UMOL/KG,,UMOL/KG,,PMOL/KG,,PMOL/KG,,PMOL/KG,,FMOL/KG,,UMOL/KG,,UMOL/KG,,,,DEG C,TU,,NMOL/KG,,PERCNT,,/MILLE,,/MILLE,,/MILLE,NMOL/KG,,NMOL/KG,BQ/M^3,,DM/.1MG,,UMOL/KG,,UMOL/KG,,MMOL/KG,,/MILLE,,,,,,G/KG,,BQ/M^3,,BQ/M^3,,ITS-90,,,,/MILLE,,NMOL/KG,PERCNT,TU
318M20130321,       P02E,     102,          1,         36,         36,2,20130517,       0404,    30.0001,       -152,       5415,     3.3,   21.058,  35.0666,2,  35.0681,2,    226.5,2,   226.6,2,    2.73,2,       0,2,       0,2,       0,2,   1.964,2,   1.186,2,-999.000,1,   1.3462,2,    2028,2, 2304.82,2,   7.9992,2,       25,-999.000,9,-999.0000,9, -999.00,9, -999.00,9,  -999.0,9,  -999.0,-999.000,9,-999.000,     -999.0,1, -999.00,1, -999.00,9, -999.00,9,     -999.0,9,  -999.0,9, 20130517,      618,       30,     -152,    35.2335,2,     -999.0,1,     -999.0,1,    21.0469,2,     -999.0,9,     -999.0,9,-999.0000, -999.00,-999.000
318M20130321,       P02E,     102,          1,         34,         34,2,20130517,       0404,    30.0001,       -152,       5415,    24.9,  20.7247,  35.0465,2,  35.0486,2,    227.3,2,   227.2,2,    2.63,2,       0,2,       0,2,       0,2,   1.968,2,   1.191,2,-999.000,1,   1.3173,2,  2027.2,2, 2302.62,2,   8.0009,6,       25,-999.000,9,-999.0000,9, -999.00,9, -999.00,9,  -999.0,9,  -999.0,-999.000,9,-999.000,     -999.0,1, -999.00,1, -999.00,9, -999.00,9,     -999.0,9,  -999.0,9, 20130517,      617,  29.9999,     -152,    35.2139,2,     -999.0,1,     -999.0,1,    20.7258,2,     -999.0,9,     -999.0,9,-999.0000, -999.00,-999.000
318M20130321,       P02E,     102,          1,         33,         33,2,20130517,       0404,    30.0001,       -152,       5415,    50.4,  19.9045,  35.0395,2,  35.0331,2,      232,2,     232,2,    2.63,2,       0,2,       0,2,       0,2,   2.030,2,   1.216,2,-999.000,1,   1.4381,2,  -999.0,9, -999.00,9,-999.0000,9,  -999.00,-999.000,9,-999.0000,9, -999.00,9, -999.00,9,  -999.0,9,  -999.0,-999.000,9,-999.000,     -999.0,1, -999.00,1, -999.00,9, -999.00,9,     -999.0,9,  -999.0,9, 20130517,      615,  29.9999,     -152,    35.1982,2,     -999.0,1,     -999.0,1,    19.9359,3,     -999.0,9,     -999.0,9,-999.0000, -999.00,-999.000
318M20130321,       P02E,     102,          1,         32,         32,2,20130517,       0404,    30.0001,       -152,       5415,    75.6,  19.2912,   35.021,2,  35.0236,2,    232.1,2,   231.1,2,    1.07,2,       0,2,       0,2,       0,2,   2.059,2,   1.243,2,-999.000,1,   1.4851,2,  2026.7,2, 2301.12,2,   7.9985,2,       25,-999.000,9,-999.0000,9, -999.00,9, -999.00,9,  -999.0,9,  -999.0,-999.000,9,-999.000,     -999.0,1, -999.00,1, -999.00,9, -999.00,9,     -999.0,9,  -999.0,9, 20130517,      613,  29.9999,     -152,    35.1888,2,     -999.0,1,     -999.0,1,    19.2921,2,     -999.0,9,     -999.0,9,-999.0000, -999.00,-999.000
318M20130321,       P02E,     102,          1,         31,         31,2,20130517,       0404,    30.0001,       -152,       5415,   100.6,  19.2078,  35.0234,2,  35.0256,2,    230.7,2,   229.1,2,    1.17,2,       0,2,       0,2,       0,2,   2.053,6,   1.230,6,-999.000,1,   1.3834,6,  2029.8,2, 2302.52,2,    7.995,2,       25,-999.000,9,-999.0000,9, -999.00,9, -999.00,9,  -999.0,9,  -999.0,-999.000,9,-999.000,     -999.0,1, -999.00,1, -999.00,9, -999.00,9,     -999.0,9,  -999.0,9, 20130517,      611,  29.9999,-152.0001,    35.1907,2,     -999.0,1,     -999.0,1,    19.2061,2,     -999.0,9,     -999.0,9,-999.0000, -999.00,-999.000
318M20130321,       P02E,     102,          1,         30,         30,2,20130517,       0404,    30.0001,       -152,       5415,   150.4,  19.2864,  35.0726,2,  35.0722,2,      225,2,   225.5,2,    1.17,2,       0,2,    0.05,2,       0,2,   2.052,2,   1.234,2,-999.000,1,   1.3811,2,  2035.3,2, 2304.12,2,   7.9904,2,       25,-999.000,9,-999.0000,9, -999.00,9, -999.00,9,  -999.0,9,  -999.0,-999.000,9,-999.000,     -999.0,1, -999.00,1, -999.00,9, -999.00,9,     -999.0,9,  -999.0,9, 20130517,      609,  29.9999,-152.0001,    35.2376,2,     -999.0,1,     -999.0,1,    19.2875,2,     -999.0,9,     -999.0,9,-999.0000, -999.00,-999.000
318M20130321,       P02E,     102,          1,         29,         29,2,20130517,       0404,    30.0001,       -152,       5415,   201.2,  14.1147,  34.2891,2,  34.2897,2,    217.3,2,   216.9,2,    5.08,2,    5.45,2,    0.02,2,    0.41,2,   2.681,2,   1.566,2,-999.000,1,    1.515,2,  2058.3,2,  2255.1,2,    7.864,2,       25,-999.000,9,-999.0000,9, -999.00,9, -999.00,9,  -999.0,9,  -999.0,-999.000,9,-999.000,     -999.0,1, -999.00,1, -999.00,9, -999.00,9,     -999.0,9,  -999.0,9, 20130517,      608,  29.9999,     -152,    34.4514,2,     -999.0,1,     -999.0,1,    14.1144,2,     -999.0,9,     -999.0,9,-999.0000, -999.00,-999.000
318M20130321,       P02E,     102,          1,         28,         28,2,20130517,       0404,    30.0001,       -152,       5415,   251.2,  12.5771,  34.2185,2,  34.2201,2,      217,2,   216.3,2,     8.1,2,    9.22,2,    0.01,2,    0.64,2,   2.893,2,   1.644,2,-999.000,1,   1.5323,2,  -999.0,9, -999.00,9,-999.0000,9,  -999.00,-999.000,9,-999.0000,9, -999.00,9, -999.00,9,  -999.0,9,  -999.0,-999.000,9,-999.000,     -999.0,1, -999.00,1, -999.00,9, -999.00,9,     -999.0,9,  -999.0,9, 20130517,      605,       30,     -152,    34.3814,2,     -999.0,1,     -999.0,1,     12.576,2,     -999.0,9,     -999.0,9,-999.0000, -999.00,-999.000
318M20130321,       P02E,     102,          1,         27,         27,2,20130517,       0404,    30.0001,       -152,       5415,   302.4,  11.5341,  34.1946,2,  34.1961,2,    218.1,2,   218.8,2,   10.94,2,   11.43,2,    0.01,2,    0.79,2,   3.002,2,   1.689,2,-999.000,1,   1.4635,2,  2088.9,2,    2257,2,   7.7942,2,       25,-999.000,9,-999.0000,9, -999.00,9, -999.00,9,  -999.0,9,  -999.0,-999.000,9,-999.000,     -999.0,1, -999.00,1, -999.00,9, -999.00,9,     -999.0,9,  -999.0,9, 20130517,      604,       30,     -152,    34.3574,2,     -999.0,1,     -999.0,1,    11.5224,2,     -999.0,9,     -999.0,9,-999.0000, -999.00,-999.000
318M20130321,       P02E,     102,          1,         26,         26,2,20130517,       0404,    30.0001,       -152,       5415,   354.9,   10.439,   34.146,2,  34.1479,2,    215.4,2,   216.2,2,   15.33,2,   14.12,2,    0.01,2,    0.98,2,   3.116,2,   1.727,2,-999.000,1,   1.4979,2,  -999.0,9, -999.00,9,-999.0000,9,  -999.00,-999.000,9,-999.0000,9, -999.00,9, -999.00,9,  -999.0,9,  -999.0,-999.000,9,-999.000,     -999.0,1, -999.00,1, -999.00,9, -999.00,9,     -999.0,9,  -999.0,9, 20130517,      602,       30,     -152,    34.3089,2,     -999.0,1,     -999.0,1,    10.4504,2,     -999.0,9,     -999.0,9,-999.0000, -999.00,-999.000
318M20130321,       P02E,     102,          1,         25,         25,2,20130517,       0404,    30.0001,       -152,       5415,   402.2,   9.6717,  34.1038,2,  34.1032,2,    200.7,2,   205.2,2,   19.73,2,    16.8,2,    0.01,2,    1.16,2,   3.166,2,   1.727,2,-999.000,1,   1.2482,2,  2121.1,2,  2259.3,2,    7.725,2,       25,-999.000,9,-999.0000,9, -999.00,9, -999.00,9,  -999.0,9,  -999.0,-999.000,9,-999.000,     -999.0,1, -999.00,1, -999.00,9, -999.00,9,     -999.0,9,  -999.0,9, 20130517,      559,       30,     -152,     34.264,2,     -999.0,1,     -999.0,1,     9.6703,2,     -999.0,9,     -999.0,9,-999.0000, -999.00,-999.000
318M20130321,       P02E,     102,          1,         24,         24,2,20130517,       0404,    30.0001,       -152,       5415,     503,   7.4825,  34.0015,2,  34.0036,2,    145.6,2,   154.9,2,   38.77,2,   25.83,2,    0.01,2,    1.81,2,   2.865,2,   1.476,2,-999.000,1,   0.7798,2,    2185,2, 2270.51,2,    7.579,2,       25,-999.000,9,-999.0000,9, -999.00,9, -999.00,9,  -999.0,9,  -999.0,-999.000,9,-999.000,     -999.0,1, -999.00,1, -999.00,9, -999.00,9,     -999.0,9,  -999.0,9, 20130517,      556,       30,     -152,     34.164,2,     -999.0,1,     -999.0,1,     7.4544,2,     -999.0,9,     -999.0,9,-999.0000, -999.00,-999.000
318M20130321,       P02E,     102,          1,         23,         23,2,20130517,       0404,    30.0001,       -152,       5415,     604,   5.7723,  34.0065,2,   34.007,2,     89.2,2,    90.7,2,   64.16,2,   34.92,2,       0,2,    2.48,2,   1.849,2,   0.902,2,-999.000,1,   0.3736,2,  2253.5,2, 2290.01,2,   7.4188,6,       25,-999.000,9,-999.0000,9, -999.00,9, -999.00,9,  -999.0,9,  -999.0,-999.000,9,-999.000,     -999.0,1, -999.00,1, -999.00,9, -999.00,9,     -999.0,9,  -999.0,9, 20130517,      553,       30,     -152,    34.1673,2,     -999.0,1,     -999.0,1,     5.7703,2,     -999.0,9,     -999.0,9,-999.0000, -999.00,-999.000
318M20130321,       P02E,     102,          1,         22,         22,2,20130517,       0404,    30.0001,       -152,       5415,     705,   4.7591,  34.0928,2,  34.0967,2,       47,2,    46.2,2,   87.59,2,   40.35,2,       0,2,    2.89,2,   0.759,2,   0.359,2,-999.000,1,   0.1142,2,  2305.7,2, 2311.82,6,   7.3263,2,       25,-999.000,9,-999.0000,9, -999.00,9, -999.00,9,  -999.0,9,  -999.0,-999.000,9,-999.000,     -999.0,1, -999.00,9, -999.00,9, -999.00,9,     -999.0,9,  -999.0,9, 20130517,      550,       30,-152.0001,    34.2575,2,     -999.0,9,     -999.0,9,     4.7599,2,     -999.0,9,     -999.0,9,-999.0000, -999.00,-999.000
318M20130321,       P02E,     102,          1,         21,         21,2,20130517,       0404,    30.0001,       -152,       5415,   804.9,   4.3364,  34.1955,2,  34.2006,2,     23.2,2,    21.6,2,  102.72,2,   42.76,2,       0,2,    3.09,2,   0.215,2,   0.105,2,-999.000,1,   0.0802,2,  2338.4,6, 2331.43,2,   7.2913,2,       25,-999.000,9,-999.0000,9, -999.00,9, -999.00,9,  -999.0,9,  -999.0,-999.000,9,-999.000,     -999.0,1, -999.00,9, -999.00,9, -999.00,9,     -999.0,9,  -999.0,9, 20130517,      547,  29.9999,     -152,    34.3619,2,     -999.0,9,     -999.0,9,     4.3452,2,     -999.0,9,     -999.0,9,-999.0000, -999.00,-999.000
318M20130321,       P02E,     102,          1,         20,         20,2,20130517,       0404,    30.0001,       -152,       5415,   906.8,    3.962,  34.2818,2,  34.2841,2,     12.9,2,    13.4,2,  114.53,2,   43.78,2,       0,2,    3.17,2,   0.052,2,   0.031,2,-999.000,1,   0.1337,2,  2353.4,2, 2349.43,2,   7.2841,2,       25,-999.000,9,-999.0000,9, -999.00,9, -999.00,9,  -999.0,9,  -999.0,-999.000,9,-999.000,     -999.0,1, -999.00,9, -999.00,9, -999.00,9,     -999.0,9,  -999.0,9, 20130517,      544,  29.9999,     -152,    34.4458,2,     -999.0,9,     -999.0,9,     3.9611,2,     -999.0,9,     -999.0,9,-999.0000, -999.00,-999.000
318M20130321,       P02E,     102,          1,         19,         19,2,20130517,       0404,    30.0001,       -152,       5415,    1006,   3.7287,  34.3608,2,  34.3632,2,     13.2,2,    13.7,2,  122.33,2,   43.96,2,       0,2,    3.18,2,   0.016,2,   0.013,2,-999.000,1,   0.0437,2,  2364.1,2, 2359.84,2,   7.2954,2,       25,-999.000,9,-999.0000,9, -999.00,9, -999.00,9,  -999.0,9,  -999.0,-999.000,9,-999.000,     -999.0,1, -999.00,9, -999.00,9, -999.00,9,     -999.0,9,  -999.0,9, 20130517,      541,  29.9999,     -152,    34.5252,2,     -999.0,9,     -999.0,9,     3.7303,2,     -999.0,9,     -999.0,9,-999.0000, -999.00,-999.000
318M20130321,       P02E,     102,          1,         18,         18,2,20130517,       0404,    30.0001,       -152,       5415,  1107.9,   3.5024,  34.4253,2,  34.4262,2,     20.1,2,      21,2,  128.18,2,   43.84,2,       0,2,    3.17,2,   0.008,2,   0.006,2,-999.000,1,        0,2,  -999.0,9, -999.00,9,-999.0000,9,  -999.00,-999.000,9,-999.0000,9, -999.00,9, -999.00,9,  -999.0,9,  -999.0,-999.000,9,-999.000,     -999.0,1, -999.00,9, -999.00,9, -999.00,9,     -999.0,9,  -999.0,9, 20130517,      538,  29.9999,-152.0001,    34.5885,2,     -999.0,9,     -999.0,9,     3.5036,2,     -999.0,9,     -999.0,9,-999.0000, -999.00,-999.000
318M20130321,       P02E,     102,          1,         17,         17,2,20130517,       0404,    30.0001,       -152,       5415,  1209.5,   3.2992,  34.4706,2,  34.4721,2,     28.9,2,    29.5,2,  132.18,2,    43.5,2,       0,2,    3.14,2,   0.006,2,   0.005,2,-999.000,1,        0,2,  2368.6,2, 2379.35,2,   7.3377,6,       25,-999.000,9,-999.0000,9, -999.00,9, -999.00,9,  -999.0,9,  -999.0,-999.000,9,-999.000,     -999.0,1, -999.00,9, -999.00,9, -999.00,9,     -999.0,9,  -999.0,9, 20130517,      535,       30,     -152,    34.6347,2,     -999.0,9,     -999.0,9,     3.2974,2,     -999.0,9,     -999.0,9,-999.0000, -999.00,-999.000
318M20130321,       P02E,     102,          1,         16,         16,2,20130517,       0404,    30.0001,       -152,       5415,  1412.5,   2.9463,  34.5259,2,  34.5273,2,     46.3,2,    47.8,2,   139.2,2,   42.68,2,       0,2,    3.06,2,   0.004,2,   0.004,2,-999.000,1,        0,2,  -999.0,9, -999.00,9,-999.0000,9,  -999.00,-999.000,9,-999.0000,9, -999.00,9, -999.00,9,  -999.0,9,  -999.0,-999.000,9,-999.000,     -999.0,1, -999.00,9, -999.00,9, -999.00,9,     -999.0,9,  -999.0,9, 20130517,      530,       30,-152.0001,    34.6901,2,     -999.0,9,     -999.0,9,     2.9462,2,     -999.0,9,     -999.0,9,-999.0000, -999.00,-999.000
318M20130321,       P02E,     102,          1,         15,         15,2,20130517,       0404,    30.0001,       -152,       5415,  1614.2,   2.6232,  34.5616,2,  34.5628,2,     59.7,2,    58.1,2,  146.91,2,   41.99,2,       0,2,    3.01,2,   0.003,2,   0.003,2,-999.000,1,        0,2,  2368.6,2, 2401.85,2,      7.4,2,       25,-999.000,9,-999.0000,9, -999.00,9, -999.00,9,  -999.0,9,  -999.0,-999.000,9,-999.000,     -999.0,1, -999.00,9, -999.00,9, -999.00,9,     -999.0,9,  -999.0,9, 20130517,      526,       30,-152.0001,    34.7258,2,     -999.0,9,     -999.0,9,     2.6228,2,     -999.0,9,     -999.0,9,-999.0000, -999.00,-999.000
318M20130321,       P02E,     102,          1,         14,         14,2,20130517,       0404,    30.0001,       -152,       5415,  1819.3,   2.3135,  34.5891,2,  34.5891,2,     70.2,2,    69.7,2,  154.42,2,   41.29,2,       0,2,    2.95,2,   0.004,2,   0.002,2,-999.000,1,        0,2,  -999.0,9, -999.00,9,-999.0000,9,  -999.00,-999.000,9,-999.0000,9, -999.00,9, -999.00,9,  -999.0,9,  -999.0,-999.000,9,-999.000,     -999.0,1, -999.00,9, -999.00,9, -999.00,9,     -999.0,9,  -999.0,9, 20130517,      520,  29.9999,     -152,    34.7523,2,     -999.0,9,     -999.0,9,     2.3133,2,     -999.0,9,     -999.0,9,-999.0000, -999.00,-999.000
318M20130321,       P02E,     102,          1,         13,         13,2,20130517,       0404,    30.0001,       -152,       5415,  2021.7,   2.0801,  34.6102,2,  34.6108,2,     79.7,2,    78.1,2,  160.38,2,   40.77,2,       0,2,    2.91,2,   0.005,2,   0.003,2,-999.000,1,        0,2,  2368.3,2, 2414.66,2,   7.4392,2,       25,-999.000,9,-999.0000,9, -999.00,9, -999.00,9,  -999.0,9,  -999.0,-999.000,9,-999.000,     -999.0,1, -999.00,9, -999.00,9, -999.00,9,     -999.0,9,  -999.0,9, 20130517,      516,  30.0001,-151.9999,     34.774,2,     -999.0,9,     -999.0,9,     2.0808,2,     -999.0,9,     -999.0,9,-999.0000, -999.00,-999.000
318M20130321,       P02E,     102,          1,         12,         12,2,20130517,       0404,    30.0001,       -152,       5415,  2276.5,   1.8847,  34.6281,2,  34.6298,2,     89.6,2,    87.7,2,  166.23,2,    40.2,2,       0,2,    2.86,2,   0.005,2,   0.006,2,-999.000,1,        0,2,  -999.0,9, -999.00,9,-999.0000,9,  -999.00,-999.000,9,-999.0000,9, -999.00,9, -999.00,9,  -999.0,9,  -999.0,-999.000,9,-999.000,     -999.0,1, -999.00,9, -999.00,9, -999.00,9,     -999.0,9,  -999.0,9, 20130517,      510,       30,-152.0001,    34.7931,2,     -999.0,9,     -999.0,9,     1.8857,2,     -999.0,9,     -999.0,9,-999.0000, -999.00,-999.000
318M20130321,       P02E,     102,          1,         11,         11,2,20130517,       0404,    30.0001,       -152,       5415,  2531.2,   1.7376,  34.6434,2,  34.6447,2,     98.2,2,      96,2,  170.62,2,   39.71,2,       0,2,    2.81,2,   0.003,2,   0.002,2,-999.000,1,        0,2,  2365.5,2, 2424.86,2,   7.4742,2,       25,-999.000,9,-999.0000,9, -999.00,9, -999.00,9,  -999.0,9,  -999.0,-999.000,9,-999.000,     -999.0,1, -999.00,9, -999.00,9, -999.00,9,     -999.0,9,  -999.0,9, 20130517,      504,       30,     -152,    34.8081,2,     -999.0,9,     -999.0,9,     1.7375,2,     -999.0,9,     -999.0,9,-999.0000, -999.00,-999.000
318M20130321,       P02E,     102,          1,         10,         10,2,20130517,       0404,    30.0001,       -152,       5415,  2785.5,   1.6243,   34.656,2,  34.6575,2,    108.5,2,   107.9,2,  169.94,2,   38.98,2,       0,2,    2.74,2,   0.002,2,   0.002,2,-999.000,1,        0,2,  -999.0,9, -999.00,9,-999.0000,9,  -999.00,-999.000,9,-999.0000,9, -999.00,9, -999.00,9,  -999.0,9,  -999.0,-999.000,9,-999.000,     -999.0,1, -999.00,9, -999.00,9, -999.00,9,     -999.0,9,  -999.0,9, 20130517,      459,       30,     -152,    34.8209,2,     -999.0,9,     -999.0,9,      1.624,2,     -999.0,9,     -999.0,9,-999.0000, -999.00,-999.000
318M20130321,       P02E,     102,          1,          9,          9,2,20130517,       0404,    30.0001,       -152,       5415,  3038.9,   1.5501,  34.6654,2,  34.6665,2,    118.2,2,   118.3,2,  168.96,2,   38.31,2,       0,2,    2.67,2,   0.002,2,   0.002,2,-999.000,1,        0,2,  2350.9,2, 2426.06,2,    7.516,2,       25,-999.000,9,-999.0000,9, -999.00,9, -999.00,9,  -999.0,9,  -999.0,-999.000,9,-999.000,     -999.0,1, -999.00,9, -999.00,9, -999.00,9,     -999.0,9,  -999.0,9, 20130517,      453,       30,     -152,      34.83,2,     -999.0,9,     -999.0,9,     1.5501,2,     -999.0,9,     -999.0,9,-999.0000, -999.00,-999.000
318M20130321,       P02E,     102,          1,          8,          8,2,20130517,       0404,    30.0001,       -152,       5415,  3340.6,   1.5005,  34.6735,2,  34.6748,2,    127.7,2,   129.5,2,  165.74,2,   37.62,2,       0,2,    2.63,2,   0.003,2,   0.002,2,-999.000,1,        0,2,  -999.0,9, -999.00,9,-999.0000,9,  -999.00,-999.000,9,-999.0000,9, -999.00,9, -999.00,9,  -999.0,9,  -999.0,-999.000,9,-999.000,     -999.0,1, -999.00,9, -999.00,9, -999.00,9,     -999.0,9,  -999.0,9, 20130517,      447,  29.9999,-152.0001,    34.8383,2,     -999.0,9,     -999.0,9,     1.5009,2,     -999.0,9,     -999.0,9,-999.0000, -999.00,-999.000
318M20130321,       P02E,     102,          1,          7,          7,2,20130517,       0404,    30.0001,       -152,       5415,  3651.8,   1.4703,  34.6801,2,  34.6815,2,    137.2,2,     139,2,  161.73,2,   36.94,2,       0,2,    2.58,2,   0.003,2,   0.005,2,-999.000,1,        0,2,  -999.0,9, -999.00,9,-999.0000,9,  -999.00,-999.000,9,-999.0000,9, -999.00,9, -999.00,9,  -999.0,9,  -999.0,-999.000,9,-999.000,     -999.0,1, -999.00,9, -999.00,9, -999.00,9,     -999.0,9,  -999.0,9, 20130517,      441,       30,     -152,     34.845,2,     -999.0,9,     -999.0,9,     1.4709,2,     -999.0,9,     -999.0,9,-999.0000, -999.00,-999.000