BOTTLE,20220817CCHSIOAMB
EXPOCODE,SECT_ID,STNNBR,CASTNO,SAMPNO,BTLNBR,BTLNBR_FLAG_W,DATE,TIME,LATITUDE,LONGITUDE,DEPTH,CTDPRS,CTDTMP,CTDSAL,CTDSAL_FLAG_W,SALNTY,SALNTY_FLAG_W,CTDOXY,CTDOXY_FLAG_W,OXYGEN,OXYGEN_FLAG_W,SILCAT,SILCAT_FLAG_W,NITRAT,NITRAT_FLAG_W,NITRIT,NITRIT_FLAG_W,PHSPHT,PHSPHT_FLAG_W,CFC-11,CFC-11_FLAG_W,CFC-12,CFC-12_FLAG_W,CFC113,CFC113_FLAG_W,SF6,SF6_FLAG_W,TCARBN,TCARBN_FLAG_W,ALKALI,ALKALI_FLAG_W,PH_TOT,PH_TOT_FLAG_W,PH_TMP,TRITUM,TRITUM_FLAG_W,HELIUM,HELIUM_FLAG_W,DELHE3,DELHE3_FLAG_W,DELC13,DELC13_FLAG_W,DELC14,DELC14_FLAG_W,C14ERR,NEON,NEON_FLAG_W,NEONER,I-129,I-129_FLAG_W,SR-90,SR-90_FLAG_W,DOC,DOC_FLAG_W,TDN,TDN_FLAG_W,CALCIUM,CALCIUM_FLAG_W,D15N_NO3,D15N_NO3_FLAG_W,BTL_DATE,BTL_TIME,BTL_LAT,BTL_LON,SALTREF,SALTREF_FLAG_W,CS-137,CS-137_FLAG_W,CS-134,CS-134_FLAG_W,REFTMP,REFTMP_FLAG_W,LAB_DEN,LAB_DEN_FLAG_W,D18O_NO3,D18O_NO3_FLAG_W,HELIER,DELHER,TRITER
,,,,,,,,,,,METERS,DBAR,ITS-90,PSS-78,,PSS-78,,UMOL/KG,,UMOL/KG,,UMOL/KG,,UMOL/KG,,UMOL/KG,,UMOL/KG,,PMOL/KG,,PMOL/KG,,PMOL/KG,,FMOL/KG,,UMOL/KG,,UMOL/KG,,,,DEG C,TU,,NMOL/KG,,PERCNT,,/MILLE,,/MILLE,,/MILLE,NMOL/KG,,NMOL/KG,BQ/M^3,,DM/.1MG,,UMOL/KG,,UMOL/KG,,MMOL/KG,,/MILLE,,,,,,G/KG,,BQ/M^3,,BQ/M^3,,ITS-90,,,,/MILLE,,NMOL/KG,PERCNT,TU
318M20130321,       P02W,      37,          1,          7,          7,2,20130415,       2119,    30.0001,   150.0987,       5868,  3515.1,   1.4899,  34.6763,2,  34.6758,2,    142.6,2,     143,2,  151.97,2,   36.63,2,       0,2,    2.57,2,   0.001,2,   0.006,2,   0.000,2,        0,2,  -999.0,9, -999.00,9,-999.0000,9,  -999.00,-999.000,9,-999.0000,9, -999.00,9, -999.00,9,  -999.0,9,  -999.0,-999.000,9,-999.000,     -999.0,9, -999.00,9,   36.07,2, -999.00,9,     -999.0,9,  -999.0,9, 20130415,     2209,  29.9999, 150.1013,    34.8394,2,     -999.0,9,     -999.0,9,     1.4896,2,     -999.0,9,     -999.0,9,-999.0000, -999.00,-999.000
318M20130321,       P02W,      37,          1,          6,          6,2,20130415,       2119,    30.0001,   150.0987,       5868,  3923.2,   1.4744,  34.6822,2,  34.6818,2,      150,2,   149.9,2,  150.02,2,   36.17,2,       0,2,    2.53,2,-999.000,9,-999.000,9,-999.000,9,-999.0000,9,  2324.6,2, 2413.66,2,   7.5632,2,       25,-999.000,9,-999.0000,9, -999.00,9, -999.00,9,  -999.0,9,  -999.0,-999.000,9,-999.000,     -999.0,9, -999.00,9, -999.00,9, -999.00,9,     -999.0,9,  -999.0,9, 20130415,     2201,  30.0001, 150.1014,    34.8453,2,     -999.0,9,     -999.0,9,      1.475,2,     -999.0,9,     -999.0,9,-999.0000, -999.00,-999.000
318M20130321,       P02W,      37,          1,          5,         37,2,20130415,       2119,    30.0001,   150.0987,       5868,  4328.3,   1.4702,  34.6867,2,  34.6871,2,      156,2,   155.5,2,  148.36,2,   35.78,2,       0,2,    2.53,2,-999.000,9,-999.000,9,-999.000,9,-999.0000,9,  2321.7,2, 2412.96,2,   7.5713,2,       25,-999.000,9,-999.0000,9, -999.00,9, -999.00,9,  -999.0,9,  -999.0,-999.000,9,-999.000,     -999.0,9, -999.00,9,   37.81,2, -999.00,9,     -999.0,9,  -999.0,9, 20130415,     2153,  30.0001, 150.1008,    34.8506,2,     -999.0,9,     -999.0,9,     1.4701,2,     -999.0,9,     -999.0,9,-999.0000, -999.00,-999.000
318M20130321,       P02W,      37,          1,          4,          4,2,20130415,       2119,    30.0001,   150.0987,       5868,  4739.1,   1.4842,  34.6903,2,  34.6894,2,    161.3,2,   161.4,2,  144.75,2,   35.34,2,       0,2,    2.48,2,   0.001,2,   0.006,2,   0.008,2,        0,2,  -999.0,9, -999.00,9,-999.0000,9,  -999.00,-999.000,9,-999.0000,9, -999.00,9, -999.00,9,  -999.0,9,  -999.0,-999.000,9,-999.000,     -999.0,9, -999.00,9, -999.00,9, -999.00,9,     -999.0,9,  -999.0,9, 20130415,     2145,  30.0001, 150.0999,     34.853,2,     -999.0,9,     -999.0,9,     1.4843,2,     -999.0,9,     -999.0,9,-999.0000, -999.00,-999.000
318M20130321,       P02W,      37,          1,          3,          3,2,20130415,       2119,    30.0001,   150.0987,       5868,  5155.6,   1.5108,  34.6927,2,  34.6922,2,    165.3,2,   164.8,2,  142.31,2,    35.1,2,       0,2,    2.45,2,-999.000,9,-999.000,9,-999.000,9,-999.0000,9,  2311.8,2, 2408.66,6,   7.5839,2,       25,-999.000,9,-999.0000,9, -999.00,9, -999.00,9,  -999.0,9,  -999.0,-999.000,9,-999.000,     -999.0,9, -999.00,9,   36.02,2, -999.00,9,     -999.0,9,  -999.0,9, 20130415,     2137,  29.9999, 150.0993,    34.8558,2,     -999.0,9,     -999.0,9,     1.5114,2,     -999.0,9,     -999.0,9,-999.0000, -999.00,-999.000
318M20130321,       P02W,      37,          1,          2,          2,2,20130415,       2119,    30.0001,   150.0987,       5868,  5550.6,   1.5444,  34.6942,2,  34.6938,2,    167.6,2,   169.7,2,   138.7,2,   34.78,2,       0,2,    2.43,2,   0.001,2,   0.011,2,   0.000,2,     0.02,2,  2306.7,2, 2403.95,2,    7.589,6,       25,-999.000,9,-999.0000,9, -999.00,9, -999.00,9,  -999.0,9,  -999.0,-999.000,9,-999.000,     -999.0,9, -999.00,9,    37.3,2, -999.00,9,     -999.0,9,  -999.0,9, 20130415,     2129,       30,  150.099,    34.8574,2,     -999.0,9,     -999.0,9,     1.5448,2,     -999.0,9,     -999.0,9,-999.0000, -999.00,-999.000
318M20130321,       P02W,      37,          1,          1,          1,2,20130415,       2119,    30.0001,   150.0987,       5868,  5964.2,   1.5838,  34.6951,2,  34.6942,2,    171.8,2,   171.3,2,  137.14,2,   34.64,2,       0,2,    2.43,2,   0.001,2,   0.007,2,   0.000,2,        0,2,  2303.4,6, 2404.25,2,   7.5907,2,       25,-999.000,9,-999.0000,9, -999.00,9, -999.00,9,  -999.0,9,  -999.0,-999.000,9,-999.000,     -999.0,9, -999.00,9,   37.64,2, -999.00,9,     -999.0,9,  -999.0,9, 20130415,     2119,  30.0001, 150.0986,    34.8578,2,     -999.0,9,     -999.0,9,     1.5836,2,     -999.0,9,     -999.0,9,-999.0000, -999.00,-999.000