BOTTLE,20220817CCHSIOAMB
EXPOCODE,SECT_ID,STNNBR,CASTNO,SAMPNO,BTLNBR,BTLNBR_FLAG_W,DATE,TIME,LATITUDE,LONGITUDE,DEPTH,CTDPRS,CTDTMP,CTDSAL,CTDSAL_FLAG_W,SALNTY,SALNTY_FLAG_W,CTDOXY,CTDOXY_FLAG_W,OXYGEN,OXYGEN_FLAG_W,SILCAT,SILCAT_FLAG_W,NITRAT,NITRAT_FLAG_W,NITRIT,NITRIT_FLAG_W,PHSPHT,PHSPHT_FLAG_W,CFC-11,CFC-11_FLAG_W,CFC-12,CFC-12_FLAG_W,CFC113,CFC113_FLAG_W,SF6,SF6_FLAG_W,TCARBN,TCARBN_FLAG_W,ALKALI,ALKALI_FLAG_W,PH_TOT,PH_TOT_FLAG_W,PH_TMP,TRITUM,TRITUM_FLAG_W,HELIUM,HELIUM_FLAG_W,DELHE3,DELHE3_FLAG_W,DELC13,DELC13_FLAG_W,DELC14,DELC14_FLAG_W,C14ERR,NEON,NEON_FLAG_W,NEONER,I-129,I-129_FLAG_W,SR-90,SR-90_FLAG_W,DOC,DOC_FLAG_W,TDN,TDN_FLAG_W,CALCIUM,CALCIUM_FLAG_W,D15N_NO3,D15N_NO3_FLAG_W,BTL_DATE,BTL_TIME,BTL_LAT,BTL_LON,SALTREF,SALTREF_FLAG_W,CS-137,CS-137_FLAG_W,CS-134,CS-134_FLAG_W,REFTMP,REFTMP_FLAG_W,LAB_DEN,LAB_DEN_FLAG_W,D18O_NO3,D18O_NO3_FLAG_W,HELIER,DELHER,TRITER
,,,,,,,,,,,METERS,DBAR,ITS-90,PSS-78,,PSS-78,,UMOL/KG,,UMOL/KG,,UMOL/KG,,UMOL/KG,,UMOL/KG,,UMOL/KG,,PMOL/KG,,PMOL/KG,,PMOL/KG,,FMOL/KG,,UMOL/KG,,UMOL/KG,,,,DEG C,TU,,NMOL/KG,,PERCNT,,/MILLE,,/MILLE,,/MILLE,NMOL/KG,,NMOL/KG,BQ/M^3,,DM/.1MG,,UMOL/KG,,UMOL/KG,,MMOL/KG,,/MILLE,,,,,,G/KG,,BQ/M^3,,BQ/M^3,,ITS-90,,,,/MILLE,,NMOL/KG,PERCNT,TU
318M20130321,       P02W,      61,          1,         35,         35,2,20130424,       1520,    30.0004,     170.74,       5572,     3.2,  18.9033,  34.8663,2,  34.8668,2,    234.5,2,   234.3,2,    2.44,2,    0.04,2,    0.01,2,       0,2,   2.473,2,   1.508,2,   0.206,2,     1.65,2,  2016.1,2, 2288.21,2,   8.0041,6,       25,-999.000,9,-999.0000,9, -999.00,9,    0.59,2,    59.4,2,     2.4,-999.000,9,-999.000,     -999.0,9, -999.00,9,   63.22,2,    3.92,2,     -999.0,9,  -999.0,9, 20130424,     1748,  30.0002, 170.7394,    35.0312,2,     -999.0,9,     -999.0,9,    18.9064,2,     -999.0,9,     -999.0,9,-999.0000, -999.00,-999.000
318M20130321,       P02W,      61,          1,         36,         36,2,20130424,       1520,    30.0004,     170.74,       5572,    20.6,  18.8784,  34.8565,2,  34.8668,2,    235.8,2,   234.2,2,    2.44,2,    0.03,2,    0.01,2,    0.01,2,-999.000,9,-999.000,9,-999.000,9,-999.0000,9,    2015,6, 2286.01,2,   8.0038,2,       25,-999.000,9,-999.0000,9, -999.00,9, -999.00,9,  -999.0,9,  -999.0,-999.000,9,-999.000,     -999.0,9, -999.00,9,   62.76,2,    4.56,2,     -999.0,9,  -999.0,9, 20130424,     1746,  30.0002, 170.7394,    35.0312,2,     -999.0,9,     -999.0,9,    18.8811,2,     -999.0,9,     -999.0,9,-999.0000, -999.00,-999.000
318M20130321,       P02W,      61,          1,         34,         34,2,20130424,       1520,    30.0004,     170.74,       5572,    40.6,  18.8056,  34.8529,2,  34.8536,2,    237.7,2,   234.9,2,    2.44,2,    0.07,2,    0.01,2,       0,2,   2.500,2,   1.532,2,   0.226,2,     1.58,2,  2015.5,2, 2286.71,6,    8.003,2,       25,-999.000,9,-999.0000,9, -999.00,9,    0.69,2,    56.9,2,     2.3,-999.000,9,-999.000,     -999.0,9, -999.00,9,   60.65,2,    4.35,2,     -999.0,9,  -999.0,9, 20130424,     1744,  30.0002, 170.7393,     35.018,2,     -999.0,9,     -999.0,9,    18.8074,2,     -999.0,9,     -999.0,9,-999.0000, -999.00,-999.000
318M20130321,       P02W,      61,          1,         33,         33,2,20130424,       1520,    30.0004,     170.74,       5572,    64.2,  18.0922,   34.777,2,  34.7773,2,    240.2,2,   238.2,2,    2.34,2,    0.07,2,    0.01,2,    0.01,2,-999.000,9,-999.000,9,-999.000,9,-999.0000,9,  -999.0,9, -999.00,9,-999.0000,9,  -999.00,-999.000,9,-999.0000,9, -999.00,9, -999.00,9,  -999.0,9,  -999.0,-999.000,9,-999.000,     -999.0,9, -999.00,9,   57.26,2,    3.95,2,     -999.0,9,  -999.0,9, 20130424,     1742,       30, 170.7392,    34.9413,2,     -999.0,9,     -999.0,9,    18.0859,2,     -999.0,9,     -999.0,9,-999.0000, -999.00,-999.000
318M20130321,       P02W,      61,          1,         32,         32,2,20130424,       1520,    30.0004,     170.74,       5572,    89.8,  17.9255,  34.7759,2,  34.7758,2,      239,2,   238.2,2,    2.44,2,    0.02,2,    0.01,2,    0.01,2,   2.565,2,   1.569,2,   0.228,2,     1.51,2,  2015.9,2, 2281.21,2,   7.9954,2,       25,-999.000,9,-999.0000,9, -999.00,9,    0.67,2,    55.7,2,     2.3,-999.000,9,-999.000,     -999.0,9, -999.00,9,   57.75,2,    3.89,2,     -999.0,9,  -999.0,9, 20130424,     1740,  30.0001, 170.7393,    34.9397,2,     -999.0,9,     -999.0,9,    17.9273,2,     -999.0,9,     -999.0,9,-999.0000, -999.00,-999.000
318M20130321,       P02W,      61,          1,         31,         31,2,20130424,       1520,    30.0004,     170.74,       5572,   135.6,   17.507,  34.7317,2,  34.7323,2,    232.9,2,   230.5,2,    2.73,2,    1.09,2,    0.09,2,    0.08,2,-999.000,9,-999.000,9,-999.000,9,-999.0000,9,  -999.0,9, -999.00,9,-999.0000,9,  -999.00,-999.000,9,-999.0000,9, -999.00,9, -999.00,9,  -999.0,9,  -999.0,-999.000,9,-999.000,     -999.0,9, -999.00,9,   50.32,2,     5.8,2,     -999.0,9,  -999.0,9, 20130424,     1738,  30.0002, 170.7395,    34.8961,2,     -999.0,9,     -999.0,9,    17.5083,2,     -999.0,9,     -999.0,9,-999.0000, -999.00,-999.000
318M20130321,       P02W,      61,          1,         30,         30,2,20130424,       1520,    30.0004,     170.74,       5572,   185.6,  16.8019,  34.6643,2,  34.6645,2,    228.3,2,   229.4,2,    3.81,2,    2.65,2,    0.07,2,    0.17,2,   2.672,2,   1.606,2,   0.187,2,     1.83,2,  2027.1,2, 2274.71,2,   7.9644,2,       25,-999.000,9,-999.0000,9, -999.00,9,    0.52,2,    56.0,2,     2.4,-999.000,9,-999.000,     -999.0,9, -999.00,9,   51.69,2,    6.19,2,     -999.0,9,  -999.0,9, 20130424,     1736,  30.0001, 170.7393,     34.828,2,     -999.0,9,     -999.0,9,    16.7968,2,     -999.0,9,     -999.0,9,-999.0000, -999.00,-999.000
318M20130321,       P02W,      61,          1,         29,         29,2,20130424,       1520,    30.0004,     170.74,       5572,   236.8,  16.1508,   34.613,2,  34.6213,4,    220.7,2,   223.5,2,    5.08,2,    4.55,2,    0.03,2,    0.28,2,-999.000,9,-999.000,9,-999.000,9,-999.0000,9,  -999.0,9, -999.00,9,-999.0000,9,  -999.00,-999.000,9,-999.0000,9, -999.00,9, -999.00,9,  -999.0,9,  -999.0,-999.000,9,-999.000,     -999.0,9, -999.00,9,   49.33,2,    7.93,2,     -999.0,9,  -999.0,9, 20130424,     1733,  29.9999, 170.7393,    34.7845,4,     -999.0,9,     -999.0,9,    16.1546,2,     -999.0,9,     -999.0,9,-999.0000, -999.00,-999.000
318M20130321,       P02W,      61,          1,         28,         28,2,20130424,       1520,    30.0004,     170.74,       5572,   288.1,  15.2633,   34.542,2,  34.5419,2,    209.7,2,     211,2,    7.03,2,    6.79,2,    0.02,2,    0.46,2,   2.862,2,   1.690,2,   0.068,2,     1.48,2,  2056.4,2, 2269.71,2,   7.8969,2,       25,-999.000,9,-999.0000,9, -999.00,9,    0.39,2,    52.0,2,     3.6,-999.000,9,-999.000,     -999.0,9, -999.00,9,   46.07,2,   10.13,2,     -999.0,9,  -999.0,9, 20130424,     1731,  29.9998, 170.7395,    34.7048,2,     -999.0,9,     -999.0,9,    15.2621,2,     -999.0,9,     -999.0,9,-999.0000, -999.00,-999.000
318M20130321,       P02W,      61,          1,         27,         27,2,20130424,       1520,    30.0004,     170.74,       5572,   336.6,  14.0705,  34.4589,2,  34.4636,2,    210.2,2,   209.7,2,    9.37,2,    8.84,2,    0.01,2,    0.59,2,   3.036,2,   1.766,2,   0.069,2,     1.34,2,  -999.0,9, -999.00,9,-999.0000,9,  -999.00,-999.000,9,-999.0000,9, -999.00,9, -999.00,9,  -999.0,9,  -999.0,-999.000,9,-999.000,     -999.0,9, -999.00,9,   45.75,2,   11.91,2,     -999.0,9,  -999.0,9, 20130424,     1729,       30, 170.7395,    34.6261,2,     -999.0,9,     -999.0,9,    14.0819,3,     -999.0,9,     -999.0,9,-999.0000, -999.00,-999.000
318M20130321,       P02W,      61,          1,         26,         26,2,20130424,       1520,    30.0004,     170.74,       5572,   386.9,  12.8749,  34.3867,2,  34.3859,2,    208.4,2,   207.4,2,   13.08,2,   11.22,2,    0.01,2,    0.76,2,   3.172,2,   1.821,2,   0.081,2,     1.31,2,  2087.1,2, 2266.91,2,   7.8302,2,       25,-999.000,9,-999.0000,9, -999.00,9,    0.35,2,    42.9,2,     2.3,-999.000,9,-999.000,     -999.0,9, -999.00,9,   44.78,2, -999.00,9,     -999.0,9,  -999.0,9, 20130424,     1727,  30.0001, 170.7394,     34.548,2,     -999.0,9,     -999.0,9,    12.8777,2,     -999.0,9,     -999.0,9,-999.0000, -999.00,-999.000
318M20130321,       P02W,      61,          1,         25,         25,2,20130424,       1520,    30.0004,     170.74,       5572,   467.9,  11.3867,  34.2809,2,  34.2781,2,    202.7,2,   203.4,2,   18.16,2,   14.23,2,    0.01,2,    0.99,2,   3.308,2,   1.869,2,   0.105,2,      1.1,2,  -999.0,9, -999.00,9,-999.0000,9,  -999.00,-999.000,9,-999.0000,9, -999.00,9, -999.00,9,  -999.0,9,  -999.0,-999.000,9,-999.000,     -999.0,9, -999.00,9,    44.1,2, -999.00,9,     -999.0,9,  -999.0,9, 20130424,     1724,       30, 170.7393,    34.4398,2,     -999.0,9,     -999.0,9,    11.3947,2,     -999.0,9,     -999.0,9,-999.0000, -999.00,-999.000
318M20130321,       P02W,      61,          1,         24,         24,2,20130424,       1520,    30.0004,     170.74,       5572,     569,    9.037,  34.1271,2,  34.1283,2,      178,2,     181,2,   31.15,2,   20.57,2,    0.01,2,    1.45,2,   3.292,2,   1.766,2,   0.111,2,     1.01,2,  -999.0,9, -999.00,9,-999.0000,9,  -999.00,-999.000,9,-999.0000,9, -999.00,9,    0.14,2,    -0.8,2,     2.0,-999.000,9,-999.000,     -999.0,9, -999.00,9,    45.1,2, -999.00,9,     -999.0,9,  -999.0,9, 20130424,     1721,  29.9998, 170.7394,    34.2893,2,     -999.0,9,     -999.0,9,     9.0389,2,     -999.0,9,     -999.0,9,-999.0000, -999.00,-999.000
318M20130321,       P02W,      61,          1,         23,         23,2,20130424,       1520,    30.0004,     170.74,       5572,   669.5,   6.4497,  34.0214,2,  34.0213,2,    139.7,2,     138,2,   56.54,2,   29.21,2,    0.01,2,    2.11,2,   2.703,2,   1.422,2,   0.123,2,     0.72,2,  2218.5,2, 2286.61,2,    7.536,2,       25,-999.000,9,-999.0000,9, -999.00,9,   -0.05,2,   -54.8,2,     1.9,-999.000,9,-999.000,     -999.0,9, -999.00,9,   45.21,2, -999.00,9,     -999.0,9,  -999.0,9, 20130424,     1718,  29.9999, 170.7391,    34.1818,2,     -999.0,9,     -999.0,9,     6.4533,2,     -999.0,9,     -999.0,9,-999.0000, -999.00,-999.000
318M20130321,       P02W,      61,          1,         22,         22,2,20130424,       1520,    30.0004,     170.74,       5572,   770.4,   5.1553,  34.0603,2,  34.0601,2,     96.7,2,    93.7,2,      79,2,   35.42,2,    0.01,2,    2.57,2,   1.859,2,   0.960,2,   0.082,2,     0.43,2,  -999.0,9, -999.00,9,-999.0000,9,  -999.00,-999.000,9,-999.0000,9, -999.00,9,   -0.22,2,  -100.9,2,     1.8,-999.000,9,-999.000,     -999.0,9, -999.00,9,    42.9,2, -999.00,9,     -999.0,9,  -999.0,9, 20130424,     1715,  30.0002, 170.7392,    34.2207,2,     -999.0,9,     -999.0,9,     5.1497,2,     -999.0,9,     -999.0,9,-999.0000, -999.00,-999.000
318M20130321,       P02W,      61,          1,         21,         21,2,20130424,       1520,    30.0004,     170.74,       5572,   870.9,   4.3825,  34.1578,2,  34.1568,2,     57.7,2,    58.6,2,    99.3,2,   39.51,2,    0.01,2,    2.88,2,   1.025,2,   0.524,2,   0.048,2,     0.19,2,  2314.6,2, 2325.23,2,   7.3602,2,       25,-999.000,9,-999.0000,9, -999.00,9,   -0.48,2,  -141.7,2,     1.8,-999.000,9,-999.000,     -999.0,9, -999.00,9,   42.69,2, -999.00,9,     -999.0,9,  -999.0,9, 20130424,     1712,  30.0003, 170.7396,    34.3178,2,     -999.0,9,     -999.0,9,     4.3829,2,     -999.0,9,     -999.0,9,-999.0000, -999.00,-999.000
318M20130321,       P02W,      61,          1,         20,         20,2,20130424,       1520,    30.0004,     170.74,       5572,   972.9,   3.8827,  34.2482,2,  34.2556,2,     36.4,2,    38.4,2,  114.53,2,    41.8,2,       0,2,    3.02,2,   0.474,2,   0.243,2,   0.016,2,     0.13,2,  -999.0,9, -999.00,9,-999.0000,9,  -999.00,-999.000,9,-999.0000,9, -999.00,9,   -0.71,3,  -177.0,2,     2.4,-999.000,9,-999.000,     -999.0,9, -999.00,9,   38.26,2, -999.00,9,     -999.0,9,  -999.0,9, 20130424,     1709,  30.0003, 170.7394,    34.4171,2,     -999.0,9,     -999.0,9,     3.8811,2,     -999.0,9,     -999.0,9,-999.0000, -999.00,-999.000
318M20130321,       P02W,      61,          1,         19,         19,2,20130424,       1520,    30.0004,     170.74,       5572,  1073.3,   3.5198,   34.318,2,  34.3168,2,     29.7,2,    29.8,2,  126.34,2,   42.85,2,       0,2,    3.11,2,   0.232,2,   0.123,2,   0.009,2,     0.04,2,    2360,2, 2358.24,2,   7.3165,2,       25,-999.000,9,-999.0000,9, -999.00,9,   -0.54,2,  -192.0,2,     1.8,-999.000,9,-999.000,     -999.0,9, -999.00,9,   38.25,2, -999.00,9,     -999.0,9,  -999.0,9, 20130424,     1706,  30.0002, 170.7393,    34.4786,2,     -999.0,9,     -999.0,9,     3.5181,2,     -999.0,9,     -999.0,9,-999.0000, -999.00,-999.000
318M20130321,       P02W,      61,          1,         18,         18,2,20130424,       1520,    30.0004,     170.74,       5572,  1175.9,   3.2279,  34.3783,2,  34.3788,2,     26.1,2,    26.8,2,  135.61,2,   43.43,2,       0,2,    3.13,2,   0.109,2,   0.062,2,   0.005,2,        0,2,  2371.6,2, 2370.64,2,   7.3187,6,       25,-999.000,9,-999.0000,9, -999.00,9,   -0.50,2,  -210.4,2,     2.0,-999.000,9,-999.000,     -999.0,9, -999.00,9, -999.00,5, -999.00,9,     -999.0,9,  -999.0,9, 20130424,     1703,  30.0003, 170.7394,    34.5409,2,     -999.0,9,     -999.0,9,      3.229,2,     -999.0,9,     -999.0,9,-999.0000, -999.00,-999.000
318M20130321,       P02W,      61,          1,         17,         17,2,20130424,       1520,    30.0004,     170.74,       5572,  1275.9,   2.9938,  34.4312,2,  34.4387,2,     28.7,2,      28,2,  142.24,2,   43.61,2,       0,2,    3.14,2,   0.044,2,   0.033,2,   0.002,2,        0,2,  2378.6,2, 2380.75,2,   7.3257,2,       25,-999.000,9,-999.0000,9, -999.00,9,   -0.48,2,  -222.1,2,     1.6,-999.000,9,-999.000,     -999.0,9, -999.00,9,   39.75,2, -999.00,9,     -999.0,9,  -999.0,9, 20130424,     1700,  30.0005, 170.7394,    34.6011,2,     -999.0,9,     -999.0,9,      2.994,2,     -999.0,9,     -999.0,9,-999.0000, -999.00,-999.000
318M20130321,       P02W,      61,          1,         16,         16,2,20130424,       1520,    30.0004,     170.74,       5572,  1378.5,    2.802,  34.4696,2,  34.4726,2,       33,2,    32.9,2,  147.51,2,   43.58,2,       0,2,    3.13,2,-999.000,9,-999.000,9,-999.000,9,-999.0000,9,  2381.1,2, 2387.25,2,   7.3362,2,       25,-999.000,9,-999.0000,9, -999.00,9,   -0.47,2,  -225.2,2,     1.7,-999.000,9,-999.000,     -999.0,9, -999.00,9,   38.76,2, -999.00,9,     -999.0,9,  -999.0,9, 20130424,     1656,  30.0005, 170.7392,    34.6352,2,     -999.0,9,     -999.0,9,     2.8017,2,     -999.0,9,     -999.0,9,-999.0000, -999.00,-999.000
318M20130321,       P02W,      61,          1,         15,         15,2,20130424,       1520,    30.0004,     170.74,       5572,  1550.7,   2.4754,  34.5225,2,  34.5221,2,     42.7,2,    42.2,2,  155.41,2,   43.11,2,       0,2,    3.08,2,   0.009,2,   0.015,2,   0.002,2,        0,2,    2386,2, 2396.95,2,   7.3588,2,       25,-999.000,9,-999.0000,9, -999.00,9,   -0.39,2,  -234.8,2,     1.6,-999.000,9,-999.000,     -999.0,9, -999.00,9,   37.01,2, -999.00,9,     -999.0,9,  -999.0,9, 20130424,     1652,  30.0007, 170.7393,    34.6849,2,     -999.0,9,     -999.0,9,     2.4746,2,     -999.0,9,     -999.0,9,-999.0000, -999.00,-999.000
318M20130321,       P02W,      61,          1,         14,         14,2,20130424,       1520,    30.0004,     170.74,       5572,  1751.7,   2.1753,   34.566,2,  34.5659,2,     57.5,2,    56.7,2,  161.65,2,   42.25,2,       0,2,    3.02,2,-999.000,9,-999.000,9,-999.000,9,-999.0000,9,  2382.7,2, 2405.65,2,   7.3896,2,       25,-999.000,9,-999.0000,9, -999.00,9, -999.00,9,  -999.0,9,  -999.0,-999.000,9,-999.000,     -999.0,9, -999.00,9,   36.01,2, -999.00,9,     -999.0,9,  -999.0,9, 20130424,     1647,  30.0005, 170.7394,    34.7289,2,     -999.0,9,     -999.0,9,     2.1754,2,     -999.0,9,     -999.0,9,-999.0000, -999.00,-999.000
318M20130321,       P02W,      61,          1,         13,         13,2,20130424,       1520,    30.0004,     170.74,       5572,  1954.3,   1.9703,  34.5956,2,  34.5956,2,     71.4,2,    73.2,2,  163.99,2,    41.3,2,       0,2,    2.94,2,   0.001,2,   0.011,2,   0.001,2,        0,2,  2375.7,2, 2410.36,2,   7.4202,2,       25,-999.000,9,-999.0000,9, -999.00,9, -999.00,9,  -999.0,9,  -999.0,-999.000,9,-999.000,     -999.0,9, -999.00,9,   34.78,2, -999.00,9,     -999.0,9,  -999.0,9, 20130424,     1642,  30.0003, 170.7395,    34.7587,2,     -999.0,9,     -999.0,9,     1.9701,2,     -999.0,9,     -999.0,9,-999.0000, -999.00,-999.000
318M20130321,       P02W,      61,          1,         12,         12,2,20130424,       1520,    30.0004,     170.74,       5572,  2191.5,   1.8086,  34.6201,2,  34.6201,2,     88.6,2,    88.1,2,  164.87,2,   40.26,2,       0,2,    2.85,2,-999.000,9,-999.000,9,-999.000,9,-999.0000,9,  -999.0,9, -999.00,9,-999.0000,9,  -999.00,-999.000,9,-999.0000,9, -999.00,9, -999.00,9,  -999.0,9,  -999.0,-999.000,9,-999.000,     -999.0,9, -999.00,9,   33.31,2, -999.00,9,     -999.0,9,  -999.0,9, 20130424,     1636,  30.0001, 170.7393,    34.7834,2,     -999.0,9,     -999.0,9,     1.8084,2,     -999.0,9,     -999.0,9,-999.0000, -999.00,-999.000
318M20130321,       P02W,      61,          1,         11,         11,2,20130424,       1520,    30.0004,     170.74,       5572,  2441.3,   1.6831,  34.6391,2,  34.6394,2,    103.2,2,     104,2,   163.4,2,   39.28,2,       0,2,    2.77,2,-999.000,9,-999.000,9,-999.000,9,-999.0000,9,  -999.0,5, 2414.96,2,   7.4816,6,       25,-999.000,9,-999.0000,9, -999.00,9, -999.00,9,  -999.0,9,  -999.0,-999.000,9,-999.000,     -999.0,9, -999.00,9,    34.1,2, -999.00,9,     -999.0,9,  -999.0,9, 20130424,     1631,  29.9998, 170.7393,    34.8027,2,     -999.0,9,     -999.0,9,     1.6832,2,     -999.0,9,     -999.0,9,-999.0000, -999.00,-999.000
318M20130321,       P02W,      61,          1,         10,         10,2,20130424,       1520,    30.0004,     170.74,       5572,  2701.4,   1.5911,  34.6532,2,  34.6533,2,    115.8,2,   115.9,2,  161.54,2,   38.42,2,       0,2,    2.71,2,   0.001,2,   0.011,2,   0.001,2,        0,2,  -999.0,9, -999.00,9,-999.0000,9,  -999.00,-999.000,9,-999.0000,9, -999.00,9, -999.00,9,  -999.0,9,  -999.0,-999.000,9,-999.000,     -999.0,9, -999.00,9, -999.00,5, -999.00,9,     -999.0,9,  -999.0,9, 20130424,     1625,       30,  170.739,    34.8167,2,     -999.0,9,     -999.0,9,     1.5914,2,     -999.0,9,     -999.0,9,-999.0000, -999.00,-999.000
318M20130321,       P02W,      61,          1,          9,          9,2,20130424,       1520,    30.0004,     170.74,       5572,  2950.5,   1.5364,  34.6632,2,  34.6631,2,    126.5,2,   126.9,2,   159.2,2,   37.66,2,       0,2,    2.65,2,-999.000,9,-999.000,9,-999.000,9,-999.0000,9,  2343.4,2, 2417.26,2,   7.5247,2,       25,-999.000,9,-999.0000,9, -999.00,9, -999.00,9,  -999.0,9,  -999.0,-999.000,9,-999.000,     -999.0,9, -999.00,9,   36.43,2, -999.00,9,     -999.0,9,  -999.0,9, 20130424,     1619,  30.0002, 170.7385,    34.8266,2,     -999.0,9,     -999.0,9,     1.5358,2,     -999.0,9,     -999.0,9,-999.0000, -999.00,-999.000
318M20130321,       P02W,      61,          1,          8,          8,2,20130424,       1520,    30.0004,     170.74,       5572,  3244.8,   1.4906,  34.6717,2,  34.6712,2,    135.2,2,   134.8,2,  157.44,2,   37.16,2,       0,2,    2.63,2,-999.000,9,-999.000,9,-999.000,9,-999.0000,9,  -999.0,9, -999.00,9,-999.0000,9,  -999.00,-999.000,9,-999.0000,9, -999.00,9, -999.00,9,  -999.0,9,  -999.0,-999.000,9,-999.000,     -999.0,9, -999.00,9,   35.82,2, -999.00,9,     -999.0,9,  -999.0,9, 20130424,     1613,  30.0003, 170.7383,    34.8347,2,     -999.0,9,     -999.0,9,     1.4909,2,     -999.0,9,     -999.0,9,-999.0000, -999.00,-999.000