BOTTLE,20220817CCHSIOAMB
EXPOCODE,SECT_ID,STNNBR,CASTNO,SAMPNO,BTLNBR,BTLNBR_FLAG_W,DATE,TIME,LATITUDE,LONGITUDE,DEPTH,CTDPRS,CTDTMP,CTDSAL,CTDSAL_FLAG_W,SALNTY,SALNTY_FLAG_W,CTDOXY,CTDOXY_FLAG_W,OXYGEN,OXYGEN_FLAG_W,SILCAT,SILCAT_FLAG_W,NITRAT,NITRAT_FLAG_W,NITRIT,NITRIT_FLAG_W,PHSPHT,PHSPHT_FLAG_W,CFC-11,CFC-11_FLAG_W,CFC-12,CFC-12_FLAG_W,CFC113,CFC113_FLAG_W,SF6,SF6_FLAG_W,TCARBN,TCARBN_FLAG_W,ALKALI,ALKALI_FLAG_W,PH_TOT,PH_TOT_FLAG_W,PH_TMP,TRITUM,TRITUM_FLAG_W,HELIUM,HELIUM_FLAG_W,DELHE3,DELHE3_FLAG_W,DELC13,DELC13_FLAG_W,DELC14,DELC14_FLAG_W,C14ERR,NEON,NEON_FLAG_W,NEONER,I-129,I-129_FLAG_W,SR-90,SR-90_FLAG_W,DOC,DOC_FLAG_W,TDN,TDN_FLAG_W,CALCIUM,CALCIUM_FLAG_W,D15N_NO3,D15N_NO3_FLAG_W,BTL_DATE,BTL_TIME,BTL_LAT,BTL_LON,SALTREF,SALTREF_FLAG_W,CS-137,CS-137_FLAG_W,CS-134,CS-134_FLAG_W,REFTMP,REFTMP_FLAG_W,LAB_DEN,LAB_DEN_FLAG_W,D18O_NO3,D18O_NO3_FLAG_W,HELIER,DELHER,TRITER
,,,,,,,,,,,METERS,DBAR,ITS-90,PSS-78,,PSS-78,,UMOL/KG,,UMOL/KG,,UMOL/KG,,UMOL/KG,,UMOL/KG,,UMOL/KG,,PMOL/KG,,PMOL/KG,,PMOL/KG,,FMOL/KG,,UMOL/KG,,UMOL/KG,,,,DEG C,TU,,NMOL/KG,,PERCNT,,/MILLE,,/MILLE,,/MILLE,NMOL/KG,,NMOL/KG,BQ/M^3,,DM/.1MG,,UMOL/KG,,UMOL/KG,,MMOL/KG,,/MILLE,,,,,,G/KG,,BQ/M^3,,BQ/M^3,,ITS-90,,,,/MILLE,,NMOL/KG,PERCNT,TU
318M20130321,       P02E,     125,          1,          5,         37,2,20130524,       0457,    29.9998,  -135.6686,       4529,  3550.9,   1.4811,  34.6787,2,  34.6792,2,    135.5,2,   135.7,2,  165.54,2,   37.28,2,       0,2,    2.62,2,   0.007,2,   0.009,2,-999.000,1,        0,2,  2340.8,2, 2426.86,6,   7.5497,2,       25,-999.000,9,-999.0000,9, -999.00,9, -999.00,9,  -999.0,9,  -999.0,-999.000,9,-999.000,     -999.0,9, -999.00,9,   35.72,2, -999.00,9,     -999.0,9,  -999.0,9, 20130524,      518,  30.0004,-135.6689,    34.8428,2,     -999.0,9,     -999.0,9,     1.4812,2,     -999.0,9,     -999.0,9,-999.0000, -999.00,-999.000
318M20130321,       P02E,     125,          1,          4,          4,2,20130524,       0457,    29.9998,  -135.6686,       4529,    3925,   1.4834,   34.683,2,  34.6836,2,    140.7,2,     143,2,   163.1,2,   36.87,2,       0,2,    2.58,2,-999.000,9,-999.000,9,-999.000,9,-999.0000,9,  -999.0,9, -999.00,9,-999.0000,9,  -999.00,-999.000,9,-999.0000,9, -999.00,9, -999.00,9,  -999.0,9,  -999.0,-999.000,9,-999.000,     -999.0,9, -999.00,9,   34.89,2, -999.00,9,     -999.0,9,  -999.0,9, 20130524,      511,  30.0002,-135.6682,    34.8471,2,     -999.0,9,     -999.0,9,     1.4835,2,     -999.0,9,     -999.0,9,-999.0000, -999.00,-999.000
318M20130321,       P02E,     125,          1,          3,          3,2,20130524,       0457,    29.9998,  -135.6686,       4529,  4337.2,   1.5168,  34.6845,2,  34.6855,2,    144.7,2,   144.1,2,  162.91,2,   36.72,2,       0,2,    2.58,2,   0.006,2,   0.008,2,-999.000,1,        0,2,  2336.3,2, 2427.46,2,    7.565,6,       25,-999.000,9,-999.0000,9, -999.00,9, -999.00,9,  -999.0,9,  -999.0,-999.000,9,-999.000,     -999.0,9, -999.00,9,   35.56,2, -999.00,9,     -999.0,9,  -999.0,9, 20130524,      503,  30.0001,-135.6688,    34.8491,2,     -999.0,9,     -999.0,9,     1.5166,2,     -999.0,9,     -999.0,9,-999.0000, -999.00,-999.000
318M20130321,       P02E,     125,          1,          2,          2,2,20130524,       0457,    29.9998,  -135.6686,       4529,  4583.2,    1.544,  34.6845,2,  34.6861,2,    144.9,2,   144.5,2,  162.22,2,   36.69,2,       0,2,    2.56,2,   0.007,2,   0.004,2,-999.000,1,        0,2,  2336.8,6, 2427.46,2,   7.5664,2,       25,-999.000,9,-999.0000,9, -999.00,9, -999.00,9,  -999.0,9,  -999.0,-999.000,9,-999.000,     -999.0,9, -999.00,9,   36.15,2, -999.00,9,     -999.0,9,  -999.0,9, 20130524,      458,  29.9998,-135.6686,    34.8497,2,     -999.0,9,     -999.0,9,     1.5435,2,     -999.0,9,     -999.0,9,-999.0000, -999.00,-999.000