BOTTLE,20220817CCHSIOAMB
EXPOCODE,SECT_ID,STNNBR,CASTNO,SAMPNO,BTLNBR,BTLNBR_FLAG_W,DATE,TIME,LATITUDE,LONGITUDE,DEPTH,CTDPRS,CTDTMP,CTDSAL,CTDSAL_FLAG_W,SALNTY,SALNTY_FLAG_W,CTDOXY,CTDOXY_FLAG_W,OXYGEN,OXYGEN_FLAG_W,SILCAT,SILCAT_FLAG_W,NITRAT,NITRAT_FLAG_W,NITRIT,NITRIT_FLAG_W,PHSPHT,PHSPHT_FLAG_W,CFC-11,CFC-11_FLAG_W,CFC-12,CFC-12_FLAG_W,CFC113,CFC113_FLAG_W,SF6,SF6_FLAG_W,TCARBN,TCARBN_FLAG_W,ALKALI,ALKALI_FLAG_W,PH_TOT,PH_TOT_FLAG_W,PH_TMP,TRITUM,TRITUM_FLAG_W,HELIUM,HELIUM_FLAG_W,DELHE3,DELHE3_FLAG_W,DELC13,DELC13_FLAG_W,DELC14,DELC14_FLAG_W,C14ERR,NEON,NEON_FLAG_W,NEONER,I-129,I-129_FLAG_W,SR-90,SR-90_FLAG_W,DOC,DOC_FLAG_W,TDN,TDN_FLAG_W,CALCIUM,CALCIUM_FLAG_W,D15N_NO3,D15N_NO3_FLAG_W,BTL_DATE,BTL_TIME,BTL_LAT,BTL_LON,SALTREF,SALTREF_FLAG_W,CS-137,CS-137_FLAG_W,CS-134,CS-134_FLAG_W,REFTMP,REFTMP_FLAG_W,LAB_DEN,LAB_DEN_FLAG_W,D18O_NO3,D18O_NO3_FLAG_W,HELIER,DELHER,TRITER
,,,,,,,,,,,METERS,DBAR,ITS-90,PSS-78,,PSS-78,,UMOL/KG,,UMOL/KG,,UMOL/KG,,UMOL/KG,,UMOL/KG,,UMOL/KG,,PMOL/KG,,PMOL/KG,,PMOL/KG,,FMOL/KG,,UMOL/KG,,UMOL/KG,,,,DEG C,TU,,NMOL/KG,,PERCNT,,/MILLE,,/MILLE,,/MILLE,NMOL/KG,,NMOL/KG,BQ/M^3,,DM/.1MG,,UMOL/KG,,UMOL/KG,,MMOL/KG,,/MILLE,,,,,,G/KG,,BQ/M^3,,BQ/M^3,,ITS-90,,,,/MILLE,,NMOL/KG,PERCNT,TU
318M20130321,       P02E,     117,          1,         36,         36,2,20130521,       1638,    30.0004,  -141.8127,       4919,     3.6,   20.109,  34.7665,2,  34.7663,2,      232,2,   231.8,2,    2.73,2,       0,2,       0,2,       0,2,   2.045,2,   1.249,2,-999.000,1,     1.44,2,    2025,2, 2287.81,2,   7.9806,2,       25,-999.000,9,-999.0000,9, -999.00,9, -999.00,9,  -999.0,9,  -999.0,-999.000,9,-999.000,     -999.0,9, -999.00,9,   61.77,2,    4.76,2,     -999.0,9,  -999.0,9, 20130521,     1839,       30,-141.8135,    34.9303,2,     -999.0,9,     -999.0,9,    20.1049,2,     -999.0,9,     -999.0,9,-999.0000, -999.00,-999.000
318M20130321,       P02E,     117,          1,         34,         34,2,20130521,       1638,    30.0004,  -141.8127,       4919,    25.6,  19.4075,  34.7898,2,  34.8865,3,    236.5,2,   236.8,2,    2.64,2,       0,2,       0,2,       0,2,   2.108,2,   1.277,2,-999.000,1,   1.4596,2,  2028.1,2, 2289.41,2,   7.9785,2,       25,-999.000,9,-999.0000,9, -999.00,9, -999.00,9,  -999.0,9,  -999.0,-999.000,9,-999.000,     -999.0,9, -999.00,9,    60.7,2,    4.45,2,     -999.0,9,  -999.0,9, 20130521,     1837,  29.9999,-141.8134,     35.051,3,     -999.0,9,     -999.0,9,    19.4079,2,     -999.0,9,     -999.0,9,-999.0000, -999.00,-999.000
318M20130321,       P02E,     117,          1,         33,         33,2,20130521,       1638,    30.0004,  -141.8127,       4919,    60.3,  18.8373,  34.9046,2,  34.9046,2,    236.6,2,   234.8,2,    2.24,2,       0,2,       0,2,       0,2,   2.106,2,   1.284,2,-999.000,1,   1.4777,2,  2028.9,2, 2295.82,2,   7.9864,6,       25,-999.000,9,-999.0000,9, -999.00,9, -999.00,9,  -999.0,9,  -999.0,-999.000,9,-999.000,     -999.0,9, -999.00,9,   61.21,2,    3.97,2,     -999.0,9,  -999.0,9, 20130521,     1834,  29.9999,-141.8129,    35.0692,2,     -999.0,9,     -999.0,9,    18.8408,2,     -999.0,9,     -999.0,9,-999.0000, -999.00,-999.000
318M20130321,       P02E,     117,          1,         32,         32,2,20130521,       1638,    30.0004,  -141.8127,       4919,    75.9,  18.6185,  34.8927,2,  34.8924,2,    235.4,2,   234.9,2,    2.24,2,       0,2,       0,2,       0,2,   2.121,2,   1.290,2,-999.000,1,   1.4644,2,  -999.0,9, 2296.32,6,-999.0000,9,  -999.00,-999.000,9,-999.0000,9, -999.00,9, -999.00,9,  -999.0,9,  -999.0,-999.000,9,-999.000,     -999.0,9, -999.00,9,   60.69,2,     4.6,2,     -999.0,9,  -999.0,9, 20130521,     1833,       30,-141.8126,     35.057,2,     -999.0,9,     -999.0,9,    18.6733,3,     -999.0,9,     -999.0,9,-999.0000, -999.00,-999.000
318M20130321,       P02E,     117,          1,         31,         31,2,20130521,       1638,    30.0004,  -141.8127,       4919,   100.7,   18.143,  34.8135,2,  34.8159,2,    234.9,2,   234.9,2,    2.24,2,       0,2,       0,2,       0,2,   2.168,6,   1.315,6,-999.000,1,   1.4874,6,  2034.9,2, 2292.71,2,   7.9701,6,       25,-999.000,9,-999.0000,9, -999.00,9, -999.00,9,  -999.0,9,  -999.0,-999.000,9,-999.000,     -999.0,9, -999.00,9,   59.74,2,    4.04,2,     -999.0,9,  -999.0,9, 20130521,     1831,       30,-141.8127,    34.9801,2,     -999.0,9,     -999.0,9,    18.1409,2,     -999.0,9,     -999.0,9,-999.0000, -999.00,-999.000
318M20130321,       P02E,     117,          1,         30,         30,2,20130521,       1638,    30.0004,  -141.8127,       4919,   150.8,  18.0625,  34.8306,2,  34.8274,2,    229.9,2,     230,2,    2.34,2,    0.06,2,    0.18,2,    0.02,2,   2.175,2,   1.326,2,-999.000,1,   1.5333,2,  2041.4,2, 2294.31,2,   7.9605,2,       25,-999.000,9,-999.0000,9, -999.00,9, -999.00,9,  -999.0,9,  -999.0,-999.000,9,-999.000,     -999.0,9, -999.00,9,   60.51,2,    3.87,2,     -999.0,9,  -999.0,9, 20130521,     1829,  30.0001, -141.813,    34.9916,2,     -999.0,9,     -999.0,9,    18.0559,2,     -999.0,9,     -999.0,9,-999.0000, -999.00,-999.000
318M20130321,       P02E,     117,          1,         29,         29,2,20130521,       1638,    30.0004,  -141.8127,       4919,   200.8,  14.5701,   34.247,2,  34.2496,2,    223.5,2,   224.4,2,     4.3,2,    3.06,2,    0.03,2,    0.25,2,   2.592,2,   1.522,2,-999.000,1,   1.5373,2,  2047.2,2,  2257.5,2,   7.8907,2,       25,-999.000,9,-999.0000,9, -999.00,9, -999.00,9,  -999.0,9,  -999.0,-999.000,9,-999.000,     -999.0,9, -999.00,9,   52.34,2,    7.17,2,     -999.0,9,  -999.0,9, 20130521,     1827,  30.0002,-141.8131,    34.4111,2,     -999.0,9,     -999.0,9,    14.6308,3,     -999.0,9,     -999.0,9,-999.0000, -999.00,-999.000
318M20130321,       P02E,     117,          1,         27,         27,2,20130521,       1638,    30.0004,  -141.8127,       4919,   251.6,   11.829,  34.0895,2,  34.0888,2,    221.3,2,   220.5,2,    9.37,2,    9.76,2,    0.01,2,    0.67,2,   3.005,2,   1.712,2,-999.000,1,   1.5422,2,  -999.0,9,  2248.6,2,-999.0000,9,  -999.00,-999.000,9,-999.0000,9, -999.00,9, -999.00,9,  -999.0,9,  -999.0,-999.000,9,-999.000,     -999.0,9, -999.00,9,   47.02,2,   13.29,2,     -999.0,9,  -999.0,9, 20130521,     1825,  30.0001,-141.8132,    34.2496,2,     -999.0,9,     -999.0,9,    11.8293,2,     -999.0,9,     -999.0,9,-999.0000, -999.00,-999.000
318M20130321,       P02E,     117,          1,         26,         26,2,20130521,       1638,    30.0004,  -141.8127,       4919,   301.3,  10.8335,  34.1013,2,  34.1024,2,    222.3,2,   222.9,2,   12.79,2,   12.35,2,       0,2,    0.83,2,   3.105,2,   1.745,2,-999.000,1,    1.538,2,  2090.6,2,  2252.6,2,   7.7785,2,       25,-999.000,9,-999.0000,9, -999.00,9, -999.00,9,  -999.0,9,  -999.0,-999.000,9,-999.000,     -999.0,9, -999.00,9,   45.88,2,   15.84,2,     -999.0,9,  -999.0,9, 20130521,     1823,  30.0002,-141.8134,    34.2632,2,     -999.0,9,     -999.0,9,    10.8346,2,     -999.0,9,     -999.0,9,-999.0000, -999.00,-999.000
318M20130321,       P02E,     117,          1,         25,         25,2,20130521,       1638,    30.0004,  -141.8127,       4919,   352.6,   9.9414,  34.0879,2,  34.0865,2,    217.2,2,   217.5,2,   17.19,2,   15.06,2,       0,2,    1.02,2,   3.199,2,   1.784,2,-999.000,1,   1.4798,2,  -999.0,9,  2257.4,2,-999.0000,9,  -999.00,-999.000,9,-999.0000,9, -999.00,9, -999.00,9,  -999.0,9,  -999.0,-999.000,9,-999.000,     -999.0,9, -999.00,9,   47.14,2, -999.00,9,     -999.0,9,  -999.0,9, 20130521,     1821,  30.0001,-141.8135,    34.2473,2,     -999.0,9,     -999.0,9,     9.9411,2,     -999.0,9,     -999.0,9,-999.0000, -999.00,-999.000
318M20130321,       P02E,     117,          1,         24,         24,2,20130521,       1638,    30.0004,  -141.8127,       4919,   402.6,   8.7555,  34.0416,2,  34.0444,2,    196.9,2,   195.7,2,   25.29,2,    19.5,2,       0,2,    1.33,2,   3.203,2,   1.753,2,-999.000,1,    1.259,2,  2137.8,2,    2261,2,   7.6821,6,       25,-999.000,9,-999.0000,9, -999.00,9, -999.00,9,  -999.0,9,  -999.0,-999.000,9,-999.000,     -999.0,9, -999.00,9,   47.61,2, -999.00,9,     -999.0,9,  -999.0,9, 20130521,     1819,  30.0001,-141.8136,    34.2049,2,     -999.0,9,     -999.0,9,     8.7766,2,     -999.0,9,     -999.0,9,-999.0000, -999.00,-999.000
318M20130321,       P02E,     117,          1,         23,         23,2,20130521,       1638,    30.0004,  -141.8127,       4919,   503.1,   6.8883,  33.9898,2,  33.9898,2,    127.3,2,   126.6,2,   47.36,2,   29.66,2,       0,2,    2.07,2,   2.567,2,   1.304,2,-999.000,1,     0.65,2,  2210.2,2, 2275.21,2,   7.5082,2,       25,-999.000,9,-999.0000,9, -999.00,9, -999.00,9,  -999.0,9,  -999.0,-999.000,9,-999.000,     -999.0,9, -999.00,9,    43.7,2, -999.00,9,     -999.0,9,  -999.0,9, 20130521,     1817,  29.9999,-141.8136,      34.15,2,     -999.0,9,     -999.0,9,     6.8849,2,     -999.0,9,     -999.0,9,-999.0000, -999.00,-999.000
318M20130321,       P02E,     117,          1,         22,         22,2,20130521,       1638,    30.0004,  -141.8127,       4919,   603.5,   5.4953,   34.027,2,  34.0264,2,     71.9,2,    73.3,2,   70.99,2,   37.01,2,       0,2,    2.64,2,   1.552,2,   0.753,2,-999.000,1,   0.2871,2,  2270.5,2, 2293.51,2,   7.3806,2,       25,-999.000,9,-999.0000,9, -999.00,9, -999.00,9,  -999.0,9,  -999.0,-999.000,9,-999.000,     -999.0,9, -999.00,9,   42.43,2, -999.00,9,     -999.0,9,  -999.0,9, 20130521,     1814,       30,-141.8134,    34.1868,2,     -999.0,9,     -999.0,9,     5.4965,2,     -999.0,9,     -999.0,9,-999.0000, -999.00,-999.000
318M20130321,       P02E,     117,          1,         21,         21,2,20130521,       1638,    30.0004,  -141.8127,       4919,   704.6,   4.8391,  34.1309,2,  34.1297,2,     34.1,2,      35,2,   88.86,2,   41.09,2,       0,2,    2.98,2,   0.623,2,   0.301,2,-999.000,1,   0.1344,2,  2312.5,2, 2315.12,2,   7.3116,2,       25,-999.000,9,-999.0000,9, -999.00,9, -999.00,9,  -999.0,9,  -999.0,-999.000,9,-999.000,     -999.0,9, -999.00,9,   39.77,2, -999.00,9,     -999.0,9,  -999.0,9, 20130521,     1811,  30.0001,-141.8135,    34.2906,2,     -999.0,9,     -999.0,9,     4.8372,2,     -999.0,9,     -999.0,9,-999.0000, -999.00,-999.000
318M20130321,       P02E,     117,          1,         20,         20,2,20130521,       1638,    30.0004,  -141.8127,       4919,   805.2,    4.346,  34.2417,2,  34.2411,2,     16.7,2,    15.9,2,  105.45,2,   43.18,2,       0,2,    3.15,2,   0.143,2,   0.074,2,-999.000,1,   0.0699,2,  2341.4,2, 2336.33,2,   7.2883,2,       25,-999.000,9,-999.0000,9, -999.00,9, -999.00,9,  -999.0,9,  -999.0,-999.000,9,-999.000,     -999.0,9, -999.00,9,   37.71,2, -999.00,9,     -999.0,9,  -999.0,9, 20130521,     1809,  30.0002,-141.8137,    34.4025,2,     -999.0,9,     -999.0,9,     4.3435,2,     -999.0,9,     -999.0,9,-999.0000, -999.00,-999.000
318M20130321,       P02E,     117,          1,         19,         19,2,20130521,       1638,    30.0004,  -141.8127,       4919,   907.7,   4.0491,  34.3187,2,  34.3164,2,     12.2,2,      12,2,  114.13,2,   43.85,2,       0,2,    3.22,2,   0.043,2,   0.024,2,-999.000,1,        0,2,  2354.9,2, 2349.33,2,   7.2906,2,       25,-999.000,9,-999.0000,9, -999.00,9, -999.00,9,  -999.0,9,  -999.0,-999.000,9,-999.000,     -999.0,9, -999.00,9,   35.02,2, -999.00,9,     -999.0,9,  -999.0,9, 20130521,     1806,  30.0003,-141.8138,    34.4782,2,     -999.0,9,     -999.0,9,       4.05,2,     -999.0,9,     -999.0,9,-999.0000, -999.00,-999.000
318M20130321,       P02E,     117,          1,         18,         18,2,20130521,       1638,    30.0004,  -141.8127,       4919,  1008.8,   3.7626,  34.3937,2,  34.3941,2,     15.9,2,    14.8,2,  122.72,2,   44.03,2,       0,2,    3.23,2,   0.019,2,   0.012,2,-999.000,1,        0,2,    2364,2, 2364.94,2,   7.3046,2,       25,-999.000,9,-999.0000,9, -999.00,9, -999.00,9,  -999.0,9,  -999.0,-999.000,9,-999.000,     -999.0,9, -999.00,9,   35.59,2, -999.00,9,     -999.0,9,  -999.0,9, 20130521,     1803,  30.0004,-141.8138,    34.5563,2,     -999.0,9,     -999.0,9,     3.7611,2,     -999.0,9,     -999.0,9,-999.0000, -999.00,-999.000
318M20130321,       P02E,     117,          1,         17,         17,2,20130521,       1638,    30.0004,  -141.8127,       4919,  1110.1,   3.4749,  34.4515,2,  34.4501,2,     23.4,2,    23.2,2,  129.35,2,   43.83,2,       0,2,    3.21,2,   0.012,2,   0.008,2,-999.000,1,        0,2,  -999.0,9, -999.00,9,-999.0000,9,  -999.00,-999.000,9,-999.0000,9, -999.00,9, -999.00,9,  -999.0,9,  -999.0,-999.000,9,-999.000,     -999.0,9, -999.00,9,   37.85,2, -999.00,9,     -999.0,9,  -999.0,9, 20130521,     1800,  30.0004,-141.8139,    34.6125,2,     -999.0,9,     -999.0,9,     3.4743,2,     -999.0,9,     -999.0,9,-999.0000, -999.00,-999.000
318M20130321,       P02E,     117,          1,         16,         16,2,20130521,       1638,    30.0004,  -141.8127,       4919,  1211.8,   3.2367,  34.4921,2,  34.4929,2,     32.4,2,    32.7,2,  134.52,2,   43.47,2,       0,2,    3.17,2,   0.008,2,   0.006,2,-999.000,1,        0,2,  2368.3,2, 2383.95,2,   7.3465,2,       25,-999.000,9,-999.0000,9, -999.00,9, -999.00,9,  -999.0,9,  -999.0,-999.000,9,-999.000,     -999.0,9, -999.00,9,   36.73,2, -999.00,9,     -999.0,9,  -999.0,9, 20130521,     1758,  30.0005, -141.814,    34.6555,2,     -999.0,9,     -999.0,9,     3.2355,2,     -999.0,9,     -999.0,9,-999.0000, -999.00,-999.000
318M20130321,       P02E,     117,          1,         15,         15,2,20130521,       1638,    30.0004,  -141.8127,       4919,  1311.3,   3.0528,  34.5173,2,  34.5166,2,       40,2,    39.1,2,  138.62,2,   43.14,2,       0,2,    3.14,2,   0.009,2,   0.006,2,-999.000,1,        0,2,  -999.0,9, -999.00,9,-999.0000,9,  -999.00,-999.000,9,-999.0000,9, -999.00,9, -999.00,9,  -999.0,9,  -999.0,-999.000,9,-999.000,     -999.0,9, -999.00,9,   35.26,2, -999.00,9,     -999.0,9,  -999.0,9, 20130521,     1755,  30.0007,-141.8141,    34.6794,2,     -999.0,9,     -999.0,9,     3.0532,2,     -999.0,9,     -999.0,9,-999.0000, -999.00,-999.000
318M20130321,       P02E,     117,          1,         14,         14,2,20130521,       1638,    30.0004,  -141.8127,       4919,  1409.6,   2.8418,  34.5402,2,  34.5392,2,     46.1,2,    46.7,2,  143.89,2,   42.78,2,       0,2,     3.1,2,   0.010,2,   0.006,2,-999.000,1,        0,2,  2370.3,2, 2394.85,2,   7.3759,2,       25,-999.000,9,-999.0000,9, -999.00,9, -999.00,9,  -999.0,9,  -999.0,-999.000,9,-999.000,     -999.0,9, -999.00,9,   35.25,2, -999.00,9,     -999.0,9,  -999.0,9, 20130521,     1752,  30.0004,-141.8139,    34.7021,2,     -999.0,9,     -999.0,9,     2.8404,2,     -999.0,9,     -999.0,9,-999.0000, -999.00,-999.000
318M20130321,       P02E,     117,          1,         13,         13,2,20130521,       1638,    30.0004,  -141.8127,       4919,  1613.2,   2.5156,  34.5727,2,  34.5718,2,     59.3,2,    59.4,2,  151.01,2,   42.05,2,       0,2,    3.04,2,   0.006,2,   0.003,2,-999.000,1,        0,2,  -999.0,9, -999.00,9,-999.0000,9,  -999.00,-999.000,9,-999.0000,9, -999.00,9, -999.00,9,  -999.0,9,  -999.0,-999.000,9,-999.000,     -999.0,9, -999.00,9,   34.97,2, -999.00,9,     -999.0,9,  -999.0,9, 20130521,     1748,  30.0001,-141.8133,    34.7349,2,     -999.0,9,     -999.0,9,     2.5155,2,     -999.0,9,     -999.0,9,-999.0000, -999.00,-999.000
318M20130321,       P02E,     117,          1,         12,         12,2,20130521,       1638,    30.0004,  -141.8127,       4919,  1780.1,   2.2938,  34.5927,2,  34.5923,2,     67.6,2,    67.7,2,  156.67,2,   41.58,2,       0,2,    2.99,2,   0.006,2,   0.003,2,-999.000,1,        0,2,  2370.2,2, 2410.06,2,   7.4191,2,       25,-999.000,9,-999.0000,9, -999.00,9, -999.00,9,  -999.0,9,  -999.0,-999.000,9,-999.000,     -999.0,9, -999.00,9,   35.73,2, -999.00,9,     -999.0,9,  -999.0,9, 20130521,     1744,  29.9999,-141.8131,    34.7554,2,     -999.0,9,     -999.0,9,     2.2941,2,     -999.0,9,     -999.0,9,-999.0000, -999.00,-999.000
318M20130321,       P02E,     117,          1,         11,         11,2,20130521,       1638,    30.0004,  -141.8127,       4919,  2020.1,   2.0587,  34.6144,2,  34.6147,2,     78.6,2,    78.2,2,  162.43,2,   40.93,2,       0,2,    2.93,2,   0.008,2,   0.004,2,-999.000,1,        0,2,  2371.4,6, 2416.56,2,   7.4385,2,       25,-999.000,9,-999.0000,9, -999.00,9, -999.00,9,  -999.0,9,  -999.0,-999.000,9,-999.000,     -999.0,9, -999.00,9, -999.00,9, -999.00,9,     -999.0,9,  -999.0,9, 20130521,     1738,  29.9998,-141.8135,    34.7779,2,     -999.0,9,     -999.0,9,     2.0581,2,     -999.0,9,     -999.0,9,-999.0000, -999.00,-999.000
318M20130321,       P02E,     117,          1,         10,         10,2,20130521,       1638,    30.0004,  -141.8127,       4919,  2272.9,   1.8581,   34.633,2,  34.6324,2,     89.2,2,    89.4,2,   167.4,2,   40.25,2,       0,2,    2.88,2,   0.005,2,   0.003,2,-999.000,1,        0,2,  2368.8,2, 2421.86,2,    7.461,2,       25,-999.000,9,-999.0000,9, -999.00,9, -999.00,9,  -999.0,9,  -999.0,-999.000,9,-999.000,     -999.0,9, -999.00,9,   36.39,2, -999.00,9,     -999.0,9,  -999.0,9, 20130521,     1733,  29.9998,-141.8139,    34.7957,2,     -999.0,9,     -999.0,9,     1.8584,2,     -999.0,9,     -999.0,9,-999.0000, -999.00,-999.000
318M20130321,       P02E,     117,          1,          9,          9,2,20130521,       1638,    30.0004,  -141.8127,       4919,    2529,   1.7255,  34.6466,2,  34.6458,2,     99.9,2,    99.8,2,  170.33,2,   39.55,2,       0,2,    2.81,2,   0.006,2,   0.003,2,-999.000,1,        0,2,  -999.0,9, -999.00,9,-999.0000,9,  -999.00,-999.000,9,-999.0000,9, -999.00,9, -999.00,9,  -999.0,9,  -999.0,-999.000,9,-999.000,     -999.0,9, -999.00,9, -999.00,9, -999.00,9,     -999.0,9,  -999.0,9, 20130521,     1727,       30,-141.8139,    34.8091,2,     -999.0,9,     -999.0,9,     1.7254,2,     -999.0,9,     -999.0,9,-999.0000, -999.00,-999.000
318M20130321,       P02E,     117,          1,          8,          8,2,20130521,       1638,    30.0004,  -141.8127,       4919,  2783.3,   1.6273,  34.6569,2,  34.6564,2,    109.3,2,   109.7,2,  171.21,2,   38.97,2,       0,2,    2.76,2,   0.005,2,   0.003,2,-999.000,1,        0,2,  2359.5,2, 2425.66,2,   7.5011,2,       25,-999.000,9,-999.0000,9, -999.00,9, -999.00,9,  -999.0,9,  -999.0,-999.000,9,-999.000,     -999.0,9, -999.00,9,   34.25,2, -999.00,9,     -999.0,9,  -999.0,9, 20130521,     1722,  29.9999, -141.814,    34.8198,2,     -999.0,9,     -999.0,9,     1.6269,2,     -999.0,9,     -999.0,9,-999.0000, -999.00,-999.000
318M20130321,       P02E,     117,          1,          7,          7,2,20130521,       1638,    30.0004,  -141.8127,       4919,  3135.8,   1.5423,  34.6677,2,  34.6666,2,      122,2,   121.4,2,  169.45,2,   38.23,2,       0,2,    2.69,2,   0.006,2,   0.004,2,-999.000,1,        0,2,  -999.0,9, -999.00,9,-999.0000,9,  -999.00,-999.000,9,-999.0000,9, -999.00,9, -999.00,9,  -999.0,9,  -999.0,-999.000,9,-999.000,     -999.0,9, -999.00,9, -999.00,9, -999.00,9,     -999.0,9,  -999.0,9, 20130521,     1714,       30,-141.8141,    34.8301,2,     -999.0,9,     -999.0,9,     1.5421,2,     -999.0,9,     -999.0,9,-999.0000, -999.00,-999.000
318M20130321,       P02E,     117,          1,          6,          6,2,20130521,       1638,    30.0004,  -141.8127,       4919,  3547.6,   1.4814,  34.6783,2,  34.6786,2,    135.8,2,   135.7,2,  165.05,2,   37.32,2,       0,2,    2.63,2,   0.005,2,   0.003,2,-999.000,1,        0,2,  2340.9,2, 2425.16,2,   7.5479,6,       25,-999.000,9,-999.0000,9, -999.00,9, -999.00,9,  -999.0,9,  -999.0,-999.000,9,-999.000,     -999.0,9, -999.00,9,   35.21,2, -999.00,9,     -999.0,9,  -999.0,9, 20130521,     1706,  29.9998,-141.8131,    34.8421,2,     -999.0,9,     -999.0,9,     1.4817,2,     -999.0,9,     -999.0,9,-999.0000, -999.00,-999.000