BOTTLE,20220817CCHSIOAMB
EXPOCODE,SECT_ID,STNNBR,CASTNO,SAMPNO,BTLNBR,BTLNBR_FLAG_W,DATE,TIME,LATITUDE,LONGITUDE,DEPTH,CTDPRS,CTDTMP,CTDSAL,CTDSAL_FLAG_W,SALNTY,SALNTY_FLAG_W,CTDOXY,CTDOXY_FLAG_W,OXYGEN,OXYGEN_FLAG_W,SILCAT,SILCAT_FLAG_W,NITRAT,NITRAT_FLAG_W,NITRIT,NITRIT_FLAG_W,PHSPHT,PHSPHT_FLAG_W,CFC-11,CFC-11_FLAG_W,CFC-12,CFC-12_FLAG_W,CFC113,CFC113_FLAG_W,SF6,SF6_FLAG_W,TCARBN,TCARBN_FLAG_W,ALKALI,ALKALI_FLAG_W,PH_TOT,PH_TOT_FLAG_W,PH_TMP,TRITUM,TRITUM_FLAG_W,HELIUM,HELIUM_FLAG_W,DELHE3,DELHE3_FLAG_W,DELC13,DELC13_FLAG_W,DELC14,DELC14_FLAG_W,C14ERR,NEON,NEON_FLAG_W,NEONER,I-129,I-129_FLAG_W,SR-90,SR-90_FLAG_W,DOC,DOC_FLAG_W,TDN,TDN_FLAG_W,CALCIUM,CALCIUM_FLAG_W,D15N_NO3,D15N_NO3_FLAG_W,BTL_DATE,BTL_TIME,BTL_LAT,BTL_LON,SALTREF,SALTREF_FLAG_W,CS-137,CS-137_FLAG_W,CS-134,CS-134_FLAG_W,REFTMP,REFTMP_FLAG_W,LAB_DEN,LAB_DEN_FLAG_W,D18O_NO3,D18O_NO3_FLAG_W,HELIER,DELHER,TRITER
,,,,,,,,,,,METERS,DBAR,ITS-90,PSS-78,,PSS-78,,UMOL/KG,,UMOL/KG,,UMOL/KG,,UMOL/KG,,UMOL/KG,,UMOL/KG,,PMOL/KG,,PMOL/KG,,PMOL/KG,,FMOL/KG,,UMOL/KG,,UMOL/KG,,,,DEG C,TU,,NMOL/KG,,PERCNT,,/MILLE,,/MILLE,,/MILLE,NMOL/KG,,NMOL/KG,BQ/M^3,,DM/.1MG,,UMOL/KG,,UMOL/KG,,MMOL/KG,,/MILLE,,,,,,G/KG,,BQ/M^3,,BQ/M^3,,ITS-90,,,,/MILLE,,NMOL/KG,PERCNT,TU
318M20130321,       P02E,     148,          1,         36,         36,2,20130530,       1639,    31.7778,  -120.2493,       3978,    11.5,  13.6576,  33.4008,2,  33.3969,2,    203.9,4,   263.2,2,    2.05,2,    1.99,2,    0.15,2,    0.37,2,   2.798,2,   1.634,2,-999.000,1,   1.6743,2,  2032.6,6, 2227.79,2,     7.87,2,       25,-999.000,9,-999.0000,9, -999.00,9, -999.00,9,  -999.0,9,  -999.0,-999.000,9,-999.000,     -999.0,9, -999.00,9, -999.00,9, -999.00,9,     -999.0,1,  -999.0,9, 20130530,     1823,  31.7781,-120.2496,    33.5544,2,     -999.0,9,     -999.0,9,    13.6612,2,     -999.0,9,     -999.0,9,-999.0000, -999.00,-999.000
318M20130321,       P02E,     148,          1,         34,         34,2,20130530,       1639,    31.7778,  -120.2493,       3978,    21.3,  13.6663,  33.4599,2,  33.4582,2,    262.7,2,   262.8,2,    1.37,2,    2.76,2,    0.16,2,    0.38,2,   2.792,2,   1.622,2,-999.000,1,   1.6656,2,  -999.0,9, -999.00,9,-999.0000,9,  -999.00,-999.000,9,-999.0000,9, -999.00,9, -999.00,9,  -999.0,9,  -999.0,-999.000,9,-999.000,     -999.0,9, -999.00,9, -999.00,9, -999.00,9,     -999.0,9,  -999.0,9, 20130530,     1822,   31.778,-120.2496,     33.616,2,     -999.0,9,     -999.0,9,    13.6686,2,     -999.0,9,     -999.0,9,-999.0000, -999.00,-999.000
318M20130321,       P02E,     148,          1,         33,         33,2,20130530,       1639,    31.7778,  -120.2493,       3978,    40.6,  13.6157,   33.454,2,  33.4541,2,    262.4,2,   261.6,2,    1.37,2,    2.82,2,    0.16,2,    0.37,2,-999.000,9,-999.000,9,-999.000,9,-999.0000,9,  2038.8,2, 2230.39,2,   7.8645,6,       25,-999.000,9,-999.0000,9, -999.00,9, -999.00,9,  -999.0,9,  -999.0,-999.000,9,-999.000,     -999.0,9, -999.00,9, -999.00,9, -999.00,9,     -999.0,9,  -999.0,9, 20130530,     1820,  31.7781,-120.2496,    33.6119,2,     -999.0,9,     -999.0,9,    13.6148,2,     -999.0,9,     -999.0,9,-999.0000, -999.00,-999.000
318M20130321,       P02E,     148,          1,         32,         32,2,20130530,       1639,    31.7778,  -120.2493,       3978,    64.7,  12.1857,  33.2189,2,  33.2229,2,      255,2,   252.3,2,    4.79,2,    3.71,2,    0.15,2,     0.6,2,   2.980,2,   1.714,2,-999.000,1,   1.7445,2,  2041.2,2, 2214.69,6,   7.8265,2,       25,-999.000,9,-999.0000,9, -999.00,9, -999.00,9,  -999.0,9,  -999.0,-999.000,9,-999.000,     -999.0,9, -999.00,9, -999.00,9, -999.00,9,     -999.0,1,  -999.0,9, 20130530,     1819,  31.7781,-120.2496,    33.3796,2,     -999.0,9,     -999.0,9,    12.0589,3,     -999.0,9,     -999.0,9,-999.0000, -999.00,-999.000
318M20130321,       P02E,     148,          1,         31,         31,2,20130530,       1639,    31.7778,  -120.2493,       3978,    91.1,  10.5547,  33.4293,2,   33.428,2,    204.6,2,   205.8,2,   11.63,2,   12.55,2,    0.03,2,    1.09,2,-999.000,9,-999.000,9,-999.000,9,-999.0000,9,  2095.3,2, 2219.99,2,   7.7024,2,       25,-999.000,9,-999.0000,9, -999.00,9, -999.00,9,  -999.0,9,  -999.0,-999.000,9,-999.000,     -999.0,9, -999.00,9, -999.00,9, -999.00,9,     -999.0,9,  -999.0,9, 20130530,     1817,  31.7781,-120.2496,    33.5856,2,     -999.0,9,     -999.0,9,    10.5763,2,     -999.0,9,     -999.0,9,-999.0000, -999.00,-999.000
318M20130321,       P02E,     148,          1,         30,         30,2,20130530,       1639,    31.7778,  -120.2493,       3978,   135.8,   9.1315,  33.7819,2,  33.7626,2,    155.9,2,   154.6,2,   23.93,2,    22.2,2,    0.02,2,    1.68,2,   3.157,2,   1.743,2,-999.000,1,   1.2332,2,  2159.8,2,  2240.5,2,   7.5711,6,       25,-999.000,9,-999.0000,9, -999.00,9, -999.00,9,  -999.0,9,  -999.0,-999.000,9,-999.000,     -999.0,9, -999.00,9, -999.00,9, -999.00,9,     -999.0,9,  -999.0,9, 20130530,     1815,  31.7781,-120.2498,    33.9218,2,     -999.0,9,     -999.0,9,     9.1433,2,     -999.0,9,     -999.0,9,-999.0000, -999.00,-999.000
318M20130321,       P02E,     148,          1,         29,         29,2,20130530,       1639,    31.7778,  -120.2493,       3978,   185.5,   8.5167,   33.985,2,  33.9834,2,    110.7,2,   111.2,2,   34.18,2,    27.5,2,       0,2,    2.07,2,-999.000,9,-999.000,9,-999.000,9,-999.0000,9,  2203.6,2,  2258.9,2,   7.4859,2,       25,-999.000,9,-999.0000,9, -999.00,9, -999.00,9,  -999.0,9,  -999.0,-999.000,9,-999.000,     -999.0,9, -999.00,9, -999.00,9, -999.00,9,     -999.0,1,  -999.0,9, 20130530,     1814,   31.778,-120.2498,    34.1437,2,     -999.0,9,     -999.0,9,     8.4817,3,     -999.0,9,     -999.0,9,-999.0000, -999.00,-999.000
318M20130321,       P02E,     148,          1,         27,         27,2,20130530,       1639,    31.7778,  -120.2493,       3978,   238.5,   7.9222,  34.0646,2,  34.0647,2,     81.5,2,    80.8,2,   43.16,2,   31.07,2,       0,2,    2.35,2,   2.308,2,   1.192,2,-999.000,1,   0.6138,2,  2234.7,2, 2269.91,2,   7.4224,2,       25,-999.000,9,-999.0000,9, -999.00,9, -999.00,9,  -999.0,9,  -999.0,-999.000,9,-999.000,     -999.0,9, -999.00,9, -999.00,9, -999.00,9,     -999.0,9,  -999.0,9, 20130530,     1812,   31.778,-120.2496,    34.2254,2,     -999.0,9,     -999.0,9,     7.9263,2,     -999.0,9,     -999.0,9,-999.0000, -999.00,-999.000
318M20130321,       P02E,     148,          1,         26,         26,2,20130530,       1639,    31.7778,  -120.2493,       3978,   285.9,    7.434,  34.1011,2,  34.1008,2,     63.8,2,    63.4,2,   50.29,2,   33.39,2,       0,2,    2.53,2,-999.000,9,-999.000,9,-999.000,9,-999.0000,9,  2254.5,2, 2277.51,2,   7.3867,2,       25,-999.000,9,-999.0000,9, -999.00,9, -999.00,9,  -999.0,9,  -999.0,-999.000,9,-999.000,     -999.0,9, -999.00,9, -999.00,9, -999.00,9,     -999.0,9,  -999.0,9, 20130530,     1810,  31.7779,-120.2496,    34.2616,2,     -999.0,9,     -999.0,9,     7.4362,2,     -999.0,9,     -999.0,9,-999.0000, -999.00,-999.000
318M20130321,       P02E,     148,          1,         25,         25,2,20130530,       1639,    31.7778,  -120.2493,       3978,     338,   7.2548,  34.2079,2,  34.1967,2,     35.7,2,    37.9,2,      58,2,   35.19,2,       0,2,    2.75,2,   1.204,2,   0.599,2,-999.000,1,   0.2507,2,  2280.1,2, 2291.41,2,   7.3468,6,       25,-999.000,9,-999.0000,9, -999.00,9, -999.00,9,  -999.0,9,  -999.0,-999.000,9,-999.000,     -999.0,9, -999.00,9, -999.00,9, -999.00,9,     -999.0,9,  -999.0,9, 20130530,     1808,  31.7778,-120.2493,    34.3579,2,     -999.0,9,     -999.0,9,     7.2638,2,     -999.0,9,     -999.0,9,-999.0000, -999.00,-999.000
318M20130321,       P02E,     148,          1,         24,         24,2,20130530,       1639,    31.7778,  -120.2493,       3978,   388.2,   6.8229,  34.2238,2,  34.2226,2,     28.6,2,    29.8,2,   63.47,2,   36.51,2,       0,2,    2.87,2,-999.000,9,-999.000,9,-999.000,9,-999.0000,9,  2292.9,2, 2298.62,2,   7.3329,2,       25,-999.000,9,-999.0000,9, -999.00,9, -999.00,9,  -999.0,9,  -999.0,-999.000,9,-999.000,     -999.0,9, -999.00,9, -999.00,9, -999.00,9,     -999.0,1,  -999.0,9, 20130530,     1806,  31.7778,-120.2493,     34.384,2,     -999.0,9,     -999.0,9,     6.8265,2,     -999.0,9,     -999.0,9,-999.0000, -999.00,-999.000
318M20130321,       P02E,     148,          1,         23,         23,2,20130530,       1639,    31.7778,  -120.2493,       3978,   468.2,   6.2888,  34.2676,2,  34.2661,2,       18,2,    19.5,2,   72.64,2,   38.33,2,       0,2,    3.01,2,   0.498,6,   0.250,6,-999.000,1,    0.149,6,  -999.0,9, -999.00,9,-999.0000,9,  -999.00,-999.000,9,-999.0000,9, -999.00,9, -999.00,9,  -999.0,9,  -999.0,-999.000,9,-999.000,     -999.0,9, -999.00,9, -999.00,9, -999.00,9,     -999.0,9,  -999.0,9, 20130530,     1804,  31.7778,-120.2493,    34.4277,2,     -999.0,9,     -999.0,9,     6.2885,2,     -999.0,9,     -999.0,9,-999.0000, -999.00,-999.000
318M20130321,       P02E,     148,          1,         22,         22,2,20130530,       1639,    31.7778,  -120.2493,       3978,   567.5,   5.5172,  34.3236,2,  34.3224,2,     12.5,2,    11.5,2,    86.5,2,   40.75,2,       0,2,    3.15,2,-999.000,9,-999.000,9,-999.000,9,-999.0000,9,  2328.1,2, 2326.53,2,   7.3055,2,       25,-999.000,9,-999.0000,9, -999.00,9, -999.00,9,  -999.0,9,  -999.0,-999.000,9,-999.000,     -999.0,9, -999.00,9, -999.00,9, -999.00,9,     -999.0,1,  -999.0,9, 20130530,     1801,  31.7778,-120.2493,    34.4843,2,     -999.0,9,     -999.0,9,     5.5187,2,     -999.0,9,     -999.0,9,-999.0000, -999.00,-999.000
318M20130321,       P02E,     148,          1,         21,         21,2,20130530,       1639,    31.7778,  -120.2493,       3978,   669.9,   4.9852,  34.3728,2,  34.3713,2,     11.2,2,    10.8,2,   96.65,2,   42.07,2,       0,2,     3.2,2,   0.052,2,   0.034,2,-999.000,1,   0.0816,2,  2343.5,2, 2341.33,2,   7.3071,2,       25,-999.000,9,-999.0000,9, -999.00,9, -999.00,9,  -999.0,9,  -999.0,-999.000,9,-999.000,     -999.0,9, -999.00,9, -999.00,9, -999.00,9,     -999.0,9,  -999.0,9, 20130530,     1758,  31.7778,-120.2493,    34.5334,2,     -999.0,9,     -999.0,9,      4.985,2,     -999.0,9,     -999.0,9,-999.0000, -999.00,-999.000
318M20130321,       P02E,     148,          1,         20,         20,2,20130530,       1639,    31.7778,  -120.2493,       3978,   770.6,   4.6765,  34.4081,2,  34.4068,2,     13.8,2,      13,2,  103.09,2,   42.64,2,       0,2,     3.2,2,-999.000,9,-999.000,9,-999.000,9,-999.0000,9,  2349.5,2, 2350.23,2,   7.3137,2,       25,-999.000,9,-999.0000,9, -999.00,9, -999.00,9,  -999.0,9,  -999.0,-999.000,9,-999.000,     -999.0,9, -999.00,9, -999.00,9, -999.00,9,     -999.0,1,  -999.0,9, 20130530,     1755,  31.7778,-120.2493,    34.5691,2,     -999.0,9,     -999.0,9,     4.6773,2,     -999.0,9,     -999.0,9,-999.0000, -999.00,-999.000
318M20130321,       P02E,     148,          1,         19,         19,2,20130530,       1639,    31.7778,  -120.2493,       3978,   871.8,   4.3474,  34.4361,2,  34.4355,2,     17.4,2,    16.2,2,  109.93,2,   43.06,2,       0,2,    3.21,2,   0.024,2,   0.018,2,-999.000,1,   0.1251,2,  -999.0,9, -999.00,9,-999.0000,9,  -999.00,-999.000,9,-999.0000,9, -999.00,9, -999.00,9,  -999.0,9,  -999.0,-999.000,9,-999.000,     -999.0,9, -999.00,9, -999.00,9, -999.00,9,     -999.0,9,  -999.0,9, 20130530,     1752,  31.7778,-120.2493,    34.5979,2,     -999.0,9,     -999.0,9,     4.3484,2,     -999.0,9,     -999.0,9,-999.0000, -999.00,-999.000
318M20130321,       P02E,     148,          1,         18,         18,2,20130530,       1639,    31.7778,  -120.2493,       3978,   969.6,   4.0694,  34.4706,2,  34.4697,2,     22.5,2,    21.4,2,  116.07,2,   43.18,2,       0,2,     3.2,2,-999.000,9,-999.000,9,-999.000,9,-999.0000,9,  2359.9,2, 2366.94,2,   7.3326,2,       25,-999.000,9,-999.0000,9, -999.00,9, -999.00,9,  -999.0,9,  -999.0,-999.000,9,-999.000,     -999.0,9, -999.00,9, -999.00,9, -999.00,9,     -999.0,1,  -999.0,9, 20130530,     1749,  31.7778,-120.2493,    34.6322,2,     -999.0,9,     -999.0,9,     4.0708,2,     -999.0,9,     -999.0,9,-999.0000, -999.00,-999.000
318M20130321,       P02E,     148,          1,         17,         17,2,20130530,       1639,    31.7778,  -120.2493,       3978,  1072.8,   3.7321,  34.4935,2,  34.4929,2,     29.2,2,    27.2,2,   123.2,2,    43.2,2,       0,2,    3.17,2,   0.020,2,   0.015,2,-999.000,1,   0.0618,2,  -999.0,9, -999.00,9,-999.0000,9,  -999.00,-999.000,9,-999.0000,9, -999.00,9, -999.00,9,  -999.0,9,  -999.0,-999.000,9,-999.000,     -999.0,9, -999.00,9, -999.00,9, -999.00,9,     -999.0,9,  -999.0,9, 20130530,     1746,  31.7778,-120.2493,    34.6555,2,     -999.0,9,     -999.0,9,      3.732,2,     -999.0,9,     -999.0,9,-999.0000, -999.00,-999.000
318M20130321,       P02E,     148,          1,         16,         16,2,20130530,       1639,    31.7778,  -120.2493,       3978,  1173.1,   3.4902,  34.5173,2,  34.5164,2,     33.3,2,    32.7,2,  129.25,2,   43.11,2,       0,2,    3.16,2,-999.000,9,-999.000,9,-999.000,9,-999.0000,9,  -999.0,9, -999.00,9,-999.0000,9,  -999.00,-999.000,9,-999.0000,9, -999.00,9, -999.00,9,  -999.0,9,  -999.0,-999.000,9,-999.000,     -999.0,9, -999.00,9, -999.00,9, -999.00,9,     -999.0,1,  -999.0,9, 20130530,     1744,  31.7778,-120.2493,    34.6792,2,     -999.0,9,     -999.0,9,     3.4908,2,     -999.0,9,     -999.0,9,-999.0000, -999.00,-999.000
318M20130321,       P02E,     148,          1,         15,         15,2,20130530,       1639,    31.7778,  -120.2493,       3978,  1275.5,   3.2523,   34.537,2,  34.5363,2,     38.1,2,    38.4,2,  134.71,2,   42.92,2,       0,2,    3.14,2,   0.014,2,   0.012,2,-999.000,1,    0.072,2,  2371.5,2, 2389.25,2,   7.3648,2,       25,-999.000,9,-999.0000,9, -999.00,9, -999.00,9,  -999.0,9,  -999.0,-999.000,9,-999.000,     -999.0,9, -999.00,9, -999.00,9, -999.00,9,     -999.0,9,  -999.0,9, 20130530,     1741,  31.7778,-120.2493,    34.6991,2,     -999.0,9,     -999.0,9,     3.2531,2,     -999.0,9,     -999.0,9,-999.0000, -999.00,-999.000
318M20130321,       P02E,     148,          1,         14,         14,2,20130530,       1639,    31.7778,  -120.2493,       3978,  1376.2,   3.0926,  34.5523,2,  34.5516,2,     43.7,2,    42.4,2,  138.52,2,   42.73,2,       0,2,     3.1,2,-999.000,9,-999.000,9,-999.000,9,-999.0000,9,  -999.0,9, -999.00,9,-999.0000,9,  -999.00,-999.000,9,-999.0000,9, -999.00,9, -999.00,9,  -999.0,9,  -999.0,-999.000,9,-999.000,     -999.0,9, -999.00,9, -999.00,9, -999.00,9,     -999.0,1,  -999.0,9, 20130530,     1738,  31.7778,-120.2493,    34.7145,2,     -999.0,9,     -999.0,9,     3.0912,2,     -999.0,9,     -999.0,9,-999.0000, -999.00,-999.000
318M20130321,       P02E,     148,          1,         13,         13,2,20130530,       1639,    31.7778,  -120.2493,       3978,  1477.3,    2.871,  34.5655,2,  34.5656,2,     49.1,2,    48.3,2,  143.98,2,   42.43,2,       0,2,    3.08,2,   0.011,2,   0.012,2,-999.000,1,  -0.0303,2,  -999.0,9, -999.00,9,-999.0000,9,  -999.00,-999.000,9,-999.0000,9, -999.00,9, -999.00,9,  -999.0,9,  -999.0,-999.000,9,-999.000,     -999.0,9, -999.00,9, -999.00,9, -999.00,9,     -999.0,9,  -999.0,9, 20130530,     1735,  31.7778,-120.2493,    34.7286,2,     -999.0,9,     -999.0,9,     2.8731,2,     -999.0,9,     -999.0,9,-999.0000, -999.00,-999.000
318M20130321,       P02E,     148,          1,         12,         12,2,20130530,       1639,    31.7778,  -120.2493,       3978,  1578.6,   2.7113,  34.5771,2,   34.577,2,     52.7,2,    53.4,2,  148.18,2,    42.2,2,       0,2,    3.07,2,-999.000,9,-999.000,9,-999.000,9,-999.0000,9,    2374,2, 2403.55,2,   7.3941,2,       25,-999.000,9,-999.0000,9, -999.00,9, -999.00,9,  -999.0,9,  -999.0,-999.000,9,-999.000,     -999.0,9, -999.00,9, -999.00,9, -999.00,9,     -999.0,1,  -999.0,9, 20130530,     1732,  31.7778,-120.2493,      34.74,2,     -999.0,9,     -999.0,9,     2.7138,2,     -999.0,9,     -999.0,9,-999.0000, -999.00,-999.000
318M20130321,       P02E,     148,          1,         11,         11,2,20130530,       1639,    31.7778,  -120.2493,       3978,    1753,   2.4389,  34.5991,2,  34.5988,2,     63.1,2,    64.6,2,  154.33,2,   41.58,2,       0,2,       3,2,   0.005,2,   0.006,2,-999.000,1,        0,2,  2372.5,2, 2410.06,2,   7.4174,2,       25,-999.000,9,-999.0000,9, -999.00,9, -999.00,9,  -999.0,9,  -999.0,-999.000,9,-999.000,     -999.0,9, -999.00,9, -999.00,9, -999.00,9,     -999.0,1,  -999.0,9, 20130530,     1728,  31.7778,-120.2493,    34.7619,2,     -999.0,9,     -999.0,9,     2.4395,2,     -999.0,9,     -999.0,9,-999.0000, -999.00,-999.000
318M20130321,       P02E,     148,          1,         10,         10,2,20130530,       1639,    31.7778,  -120.2493,       3978,  1954.3,   2.1801,  34.6168,2,  34.6169,2,     75.3,2,    76.8,2,  160.38,2,   40.92,2,       0,2,    2.93,2,-999.000,9,-999.000,9,-999.000,9,-999.0000,9,    2370,2, 2416.06,2,   7.4383,2,       25,-999.000,9,-999.0000,9, -999.00,9, -999.00,9,  -999.0,9,  -999.0,-999.000,9,-999.000,     -999.0,9, -999.00,9, -999.00,9, -999.00,9,     -999.0,1,  -999.0,9, 20130530,     1724,  31.7778,-120.2493,    34.7801,2,     -999.0,9,     -999.0,9,     2.1802,2,     -999.0,9,     -999.0,9,-999.0000, -999.00,-999.000
318M20130321,       P02E,     148,          1,          9,          9,2,20130530,       1639,    31.7778,  -120.2493,       3978,  2190.1,   1.9774,  34.6345,2,  34.6346,2,     88.9,2,    88.3,2,  163.99,2,   40.18,2,       0,2,    2.87,2,   0.003,2,   0.006,2,-999.000,1,        0,2,  -999.0,9, -999.00,9,-999.0000,9,  -999.00,-999.000,9,-999.0000,9, -999.00,9, -999.00,9,  -999.0,9,  -999.0,-999.000,9,-999.000,     -999.0,9, -999.00,9, -999.00,9, -999.00,9,     -999.0,9,  -999.0,9, 20130530,     1719,  31.7778,-120.2493,    34.7979,2,     -999.0,9,     -999.0,9,      1.979,2,     -999.0,9,     -999.0,9,-999.0000, -999.00,-999.000
318M20130321,       P02E,     148,          1,          8,          8,2,20130530,       1639,    31.7778,  -120.2493,       3978,  2445.4,    1.838,  34.6485,2,  34.6489,2,     99.5,2,      99,2,  165.84,2,   39.54,2,       0,2,     2.8,2,-999.000,9,-999.000,9,-999.000,9,-999.0000,9,  2362.6,2, 2424.96,2,   7.4858,6,       25,-999.000,9,-999.0000,9, -999.00,9, -999.00,9,  -999.0,9,  -999.0,-999.000,9,-999.000,     -999.0,9, -999.00,9, -999.00,9, -999.00,9,     -999.0,1,  -999.0,9, 20130530,     1713,  31.7778,-120.2494,    34.8123,2,     -999.0,9,     -999.0,9,     1.8383,2,     -999.0,9,     -999.0,9,-999.0000, -999.00,-999.000
318M20130321,       P02E,     148,          1,          7,          7,2,20130530,       1639,    31.7778,  -120.2493,       3978,  2699.9,   1.7248,  34.6591,2,  34.6584,2,      110,2,   108.7,2,  166.91,2,   38.94,2,       0,2,    2.74,2,   0.004,2,   0.007,2,-999.000,1,        0,2,  -999.0,9, -999.00,9,-999.0000,9,  -999.00,-999.000,9,-999.0000,9, -999.00,9, -999.00,9,  -999.0,9,  -999.0,-999.000,9,-999.000,     -999.0,9, -999.00,9, -999.00,9, -999.00,9,     -999.0,9,  -999.0,9, 20130530,     1708,  31.7778,-120.2493,    34.8218,2,     -999.0,9,     -999.0,9,     1.7255,2,     -999.0,9,     -999.0,9,-999.0000, -999.00,-999.000
318M20130321,       P02E,     148,          1,          6,          6,2,20130530,       1639,    31.7778,  -120.2493,       3978,  2953.2,     1.66,   34.665,2,  34.6647,2,    115.5,2,   115.4,2,  168.28,2,   38.53,2,       0,2,     2.7,2,-999.000,9,-999.000,9,-999.000,9,-999.0000,9,  -999.0,9, -999.00,9,-999.0000,9,  -999.00,-999.000,9,-999.0000,9, -999.00,9, -999.00,9,  -999.0,9,  -999.0,-999.000,9,-999.000,     -999.0,9, -999.00,9, -999.00,9, -999.00,9,     -999.0,1,  -999.0,9, 20130530,     1702,  31.7778,-120.2493,    34.8281,2,     -999.0,9,     -999.0,9,     1.6601,2,     -999.0,9,     -999.0,9,-999.0000, -999.00,-999.000