BOTTLE,20220817CCHSIOAMB
EXPOCODE,SECT_ID,STNNBR,CASTNO,SAMPNO,BTLNBR,BTLNBR_FLAG_W,DATE,TIME,LATITUDE,LONGITUDE,DEPTH,CTDPRS,CTDTMP,CTDSAL,CTDSAL_FLAG_W,SALNTY,SALNTY_FLAG_W,CTDOXY,CTDOXY_FLAG_W,OXYGEN,OXYGEN_FLAG_W,SILCAT,SILCAT_FLAG_W,NITRAT,NITRAT_FLAG_W,NITRIT,NITRIT_FLAG_W,PHSPHT,PHSPHT_FLAG_W,CFC-11,CFC-11_FLAG_W,CFC-12,CFC-12_FLAG_W,CFC113,CFC113_FLAG_W,SF6,SF6_FLAG_W,TCARBN,TCARBN_FLAG_W,ALKALI,ALKALI_FLAG_W,PH_TOT,PH_TOT_FLAG_W,PH_TMP,TRITUM,TRITUM_FLAG_W,HELIUM,HELIUM_FLAG_W,DELHE3,DELHE3_FLAG_W,DELC13,DELC13_FLAG_W,DELC14,DELC14_FLAG_W,C14ERR,NEON,NEON_FLAG_W,NEONER,I-129,I-129_FLAG_W,SR-90,SR-90_FLAG_W,DOC,DOC_FLAG_W,TDN,TDN_FLAG_W,CALCIUM,CALCIUM_FLAG_W,D15N_NO3,D15N_NO3_FLAG_W,BTL_DATE,BTL_TIME,BTL_LAT,BTL_LON,SALTREF,SALTREF_FLAG_W,CS-137,CS-137_FLAG_W,CS-134,CS-134_FLAG_W,REFTMP,REFTMP_FLAG_W,LAB_DEN,LAB_DEN_FLAG_W,D18O_NO3,D18O_NO3_FLAG_W,HELIER,DELHER,TRITER
,,,,,,,,,,,METERS,DBAR,ITS-90,PSS-78,,PSS-78,,UMOL/KG,,UMOL/KG,,UMOL/KG,,UMOL/KG,,UMOL/KG,,UMOL/KG,,PMOL/KG,,PMOL/KG,,PMOL/KG,,FMOL/KG,,UMOL/KG,,UMOL/KG,,,,DEG C,TU,,NMOL/KG,,PERCNT,,/MILLE,,/MILLE,,/MILLE,NMOL/KG,,NMOL/KG,BQ/M^3,,DM/.1MG,,UMOL/KG,,UMOL/KG,,MMOL/KG,,/MILLE,,,,,,G/KG,,BQ/M^3,,BQ/M^3,,ITS-90,,,,/MILLE,,NMOL/KG,PERCNT,TU
318M20130321,       P02W,       4,          1,         26,         26,2,20130323,       0610,    32.2423,   133.3732,       1197,     3.5,  21.7961,  34.6455,2,  34.6457,2,    217.9,2,   217.6,2,    2.25,2,    0.41,2,    0.07,2,    0.08,2,   2.021,2,   1.199,2,   0.163,2,      1.3,2,  1977.2,6, 2273.94,2,   8.0514,2,       25,-999.000,9,-999.0000,9, -999.00,9, -999.00,9,  -999.0,9,  -999.0,-999.000,9,-999.000,     -999.0,9, -999.00,9, -999.00,9, -999.00,9,     -999.0,9,  -999.0,9, 20130323,      703,  32.2424, 133.3906,     34.809,2,     -999.0,9,     -999.0,9,    21.7963,2,     -999.0,9,     -999.0,9,-999.0000, -999.00,-999.000
318M20130321,       P02W,       4,          1,         25,         25,2,20130323,       0610,    32.2423,   133.3732,       1197,    23.9,  21.6642,  34.6329,2,  34.6343,2,    214.3,2,   216.4,2,    2.34,2,    0.52,2,     0.1,2,    0.09,2,   2.021,2,   1.211,2,   0.135,2,     1.26,2,  1979.2,2, 2273.34,6,   8.0446,2,       25,-999.000,9,-999.0000,9, -999.00,9, -999.00,9,  -999.0,9,  -999.0,-999.000,9,-999.000,     -999.0,9, -999.00,9, -999.00,9, -999.00,9,     -999.0,9,  -999.0,9, 20130323,      701,  32.2423,   133.39,    34.7976,2,     -999.0,9,     -999.0,9,    21.6675,2,     -999.0,9,     -999.0,9,-999.0000, -999.00,-999.000
318M20130321,       P02W,       4,          1,         24,         24,2,20130323,       0610,    32.2423,   133.3732,       1197,    43.3,  21.2822,  34.6286,2,  34.6362,2,    205.6,2,   202.9,2,    3.51,2,    2.03,2,    0.25,2,    0.19,2,   2.087,2,   1.222,2,   0.126,2,     1.26,2,  1996.8,2, 2275.24,2,   8.0155,6,       25,-999.000,9,-999.0000,9, -999.00,9, -999.00,9,  -999.0,9,  -999.0,-999.000,9,-999.000,     -999.0,9, -999.00,9, -999.00,9, -999.00,9,     -999.0,9,  -999.0,9, 20130323,      659,  32.2423, 133.3892,    34.7996,2,     -999.0,9,     -999.0,9,    21.2812,2,     -999.0,9,     -999.0,9,-999.0000, -999.00,-999.000
318M20130321,       P02W,       4,          1,         22,         38,2,20130323,       0610,    32.2423,   133.3732,       1197,    68.3,  20.8874,  34.7301,2,-999.0000,9,    198.9,2,  -999.0,9, -999.00,9, -999.00,9, -999.00,9, -999.00,9,-999.000,9,-999.000,9,-999.000,9,-999.0000,9,  -999.0,9, -999.00,9,-999.0000,9,  -999.00,-999.000,9,-999.0000,9, -999.00,9, -999.00,9,  -999.0,9,  -999.0,-999.000,9,-999.000,     -999.0,1, -999.00,1, -999.00,9, -999.00,9,     -999.0,9,  -999.0,9, 20130323,      657,  32.2423, 133.3884,     -999.0,9,     -999.0,1,     -999.0,1,    20.8805,2,     -999.0,9,     -999.0,9,-999.0000, -999.00,-999.000
318M20130321,       P02W,       4,          1,         21,         21,2,20130323,       0610,    32.2423,   133.3732,       1197,    68.7,  20.8669,  34.7308,2,  34.7306,2,    198.9,2,     197,2,    2.93,2,    2.43,2,    0.04,2,    0.19,2,   2.133,2,   1.241,2,   0.103,2,     1.31,2,  -999.0,9, -999.00,9,-999.0000,9,  -999.00,-999.000,9,-999.0000,9, -999.00,9, -999.00,9,  -999.0,9,  -999.0,-999.000,9,-999.000,     -999.0,9, -999.00,9, -999.00,9, -999.00,9,     -999.0,9,  -999.0,9, 20130323,      656,  32.2423, 133.3883,    34.8943,2,     -999.0,9,     -999.0,9,    20.8668,2,     -999.0,9,     -999.0,9,-999.0000, -999.00,-999.000
318M20130321,       P02W,       4,          1,         23,         23,2,20130323,       0610,    32.2423,   133.3732,       1197,    68.9,   20.891,  34.7298,2,-999.0000,9,    198.9,2,  -999.0,9, -999.00,9, -999.00,9, -999.00,9, -999.00,9,-999.000,9,-999.000,9,-999.000,9,-999.0000,9,  -999.0,9, -999.00,9,-999.0000,9,  -999.00,-999.000,9,-999.0000,9, -999.00,9, -999.00,9,  -999.0,9,  -999.0,-999.000,9,-999.000,     -999.0,9, -999.00,1, -999.00,9, -999.00,9,     -999.0,9,  -999.0,9, 20130323,      657,  32.2423, 133.3886,     -999.0,9,     -999.0,1,     -999.0,1,    20.9008,2,     -999.0,9,     -999.0,9,-999.0000, -999.00,-999.000
318M20130321,       P02W,       4,          1,         20,         20,2,20130323,       0610,    32.2423,   133.3732,       1197,    94.7,  19.6966,  34.6415,2,  34.6412,2,    202.2,2,   202.1,2,    5.08,2,    3.47,2,     0.2,2,    0.29,2,-999.000,9,-999.000,9,-999.000,9,-999.0000,9,  2015.4,2, 2276.14,2,   7.9846,6,       25,-999.000,9,-999.0000,9, -999.00,9, -999.00,9,  -999.0,9,  -999.0,-999.000,9,-999.000,     -999.0,9, -999.00,9, -999.00,9, -999.00,9,     -999.0,9,  -999.0,9, 20130323,      655,  32.2423, 133.3876,    34.8045,2,     -999.0,9,     -999.0,9,    19.6982,2,     -999.0,9,     -999.0,9,-999.0000, -999.00,-999.000
318M20130321,       P02W,       4,          1,         19,         19,2,20130323,       0610,    32.2423,   133.3732,       1197,   119.5,  18.5029,  34.6204,2,  34.6215,2,    205.8,2,   203.3,2,    6.64,2,    4.54,2,    0.19,2,    0.37,2,   2.269,2,   1.360,2,   0.113,2,     1.35,2,  -999.0,9, -999.00,9,-999.0000,9,  -999.00,-999.000,9,-999.0000,9, -999.00,9, -999.00,9,  -999.0,9,  -999.0,-999.000,9,-999.000,     -999.0,9, -999.00,9, -999.00,9, -999.00,9,     -999.0,9,  -999.0,9, 20130323,      653,  32.2424,  133.387,    34.7848,2,     -999.0,9,     -999.0,9,    18.4949,2,     -999.0,9,     -999.0,9,-999.0000, -999.00,-999.000
318M20130321,       P02W,       4,          1,         18,         18,2,20130323,       0610,    32.2423,   133.3732,       1197,   144.8,  18.1064,  34.6494,2,  34.6504,2,    194.9,2,   202.2,2,    6.34,2,    4.72,2,    0.19,2,    0.37,2,-999.000,9,-999.000,9,-999.000,9,-999.0000,9,  2031.1,2, 2277.24,2,   7.9556,2,       25,-999.000,9,-999.0000,9, -999.00,9, -999.00,9,  -999.0,9,  -999.0,-999.000,9,-999.000,     -999.0,9, -999.00,9, -999.00,9, -999.00,9,     -999.0,9,  -999.0,9, 20130323,      652,  32.2424, 133.3865,    34.8138,2,     -999.0,9,     -999.0,9,    18.1014,2,     -999.0,9,     -999.0,9,-999.0000, -999.00,-999.000
318M20130321,       P02W,       4,          1,         17,         17,2,20130323,       0610,    32.2423,   133.3732,       1197,   170.3,  17.0447,  34.6222,2,  34.6204,2,    194.8,2,     192,2,    8.69,2,    7.08,2,    0.02,2,     0.5,2,   2.398,2,   1.367,2,   0.062,2,      1.3,2,  -999.0,9, -999.00,9,-999.0000,9,  -999.00,-999.000,9,-999.0000,9, -999.00,9, -999.00,9,  -999.0,9,  -999.0,-999.000,9,-999.000,     -999.0,9, -999.00,9, -999.00,9, -999.00,9,     -999.0,9,  -999.0,9, 20130323,      650,  32.2424, 133.3858,    34.7837,2,     -999.0,9,     -999.0,9,    17.0642,2,     -999.0,9,     -999.0,9,-999.0000, -999.00,-999.000
318M20130321,       P02W,       4,          1,         16,         16,2,20130323,       0610,    32.2423,   133.3732,       1197,   195.8,  16.3272,  34.5637,2,  34.5652,2,    196.8,2,   197.9,2,   10.05,2,    7.57,2,    0.02,2,    0.54,2,-999.000,9,-999.000,9,-999.000,9,-999.0000,9,  2053.3,2, 2275.14,2,   7.9107,2,       25,-999.000,9,-999.0000,9, -999.00,9, -999.00,9,  -999.0,9,  -999.0,-999.000,9,-999.000,     -999.0,9, -999.00,9, -999.00,9, -999.00,9,     -999.0,9,  -999.0,9, 20130323,      648,  32.2425, 133.3852,    34.7282,2,     -999.0,9,     -999.0,9,    16.3247,2,     -999.0,9,     -999.0,9,-999.0000, -999.00,-999.000
318M20130321,       P02W,       4,          1,         15,         15,2,20130323,       0610,    32.2423,   133.3732,       1197,     221,  15.7886,  34.5946,2,  34.5921,2,    183.4,2,   181.4,2,    12.3,2,    9.46,2,    0.02,2,    0.65,2,   1.430,4,   0.463,4,   0.026,4,     1.17,2,  -999.0,9, -999.00,9,-999.0000,9,  -999.00,-999.000,9,-999.0000,9, -999.00,9, -999.00,9,  -999.0,9,  -999.0,-999.000,9,-999.000,     -999.0,9, -999.00,9, -999.00,9, -999.00,9,     -999.0,9,  -999.0,9, 20130323,      646,  32.2425, 133.3846,    34.7552,2,     -999.0,9,     -999.0,9,    15.7695,2,     -999.0,9,     -999.0,9,-999.0000, -999.00,-999.000
318M20130321,       P02W,       4,          1,         14,         14,2,20130323,       0610,    32.2423,   133.3732,       1197,   246.1,  15.0089,   34.559,2,   34.557,2,    175.7,2,   174.6,2,   14.74,2,   11.21,2,    0.01,2,    0.78,2,-999.000,9,-999.000,9,-999.000,9,-999.0000,9,  2087.8,2, 2279.04,2,   7.8429,2,       25,-999.000,9,-999.0000,9, -999.00,9, -999.00,9,  -999.0,9,  -999.0,-999.000,9,-999.000,     -999.0,9, -999.00,9, -999.00,9, -999.00,9,     -999.0,9,  -999.0,9, 20130323,      644,  32.2426, 133.3841,    34.7199,2,     -999.0,9,     -999.0,9,    14.9923,2,     -999.0,9,     -999.0,9,-999.0000, -999.00,-999.000
318M20130321,       P02W,       4,          1,         13,         13,2,20130323,       0610,    32.2423,   133.3732,       1197,   291.5,  13.5272,  34.4758,2,  34.4761,2,    167.8,2,   167.4,2,   22.26,2,   14.22,2,    0.02,2,    1.02,2,   2.571,4,  -0.005,4,   0.035,2,     0.96,2,  -999.0,9, -999.00,9,-999.0000,9,  -999.00,-999.000,9,-999.0000,9, -999.00,9, -999.00,9,  -999.0,9,  -999.0,-999.000,9,-999.000,     -999.0,9, -999.00,9, -999.00,9, -999.00,9,     -999.0,9,  -999.0,9, 20130323,      642,  32.2426, 133.3834,    34.6386,2,     -999.0,9,     -999.0,9,    13.5277,2,     -999.0,9,     -999.0,9,-999.0000, -999.00,-999.000
318M20130321,       P02W,       4,          1,         12,         12,2,20130323,       0610,    32.2423,   133.3732,       1197,     342,  11.8478,  34.4051,2,  34.4064,2,    152.5,2,     154,2,   30.56,2,   18.01,2,    0.01,2,    1.28,2,-999.000,9,-999.000,9,-999.000,9,-999.0000,9,  2138.6,2, 2280.24,2,   7.7336,2,       25,-999.000,9,-999.0000,9, -999.00,9, -999.00,9,  -999.0,9,  -999.0,-999.000,9,-999.000,     -999.0,9, -999.00,9, -999.00,9, -999.00,9,     -999.0,9,  -999.0,9, 20130323,      640,  32.2426, 133.3827,    34.5686,2,     -999.0,9,     -999.0,9,      11.85,2,     -999.0,9,     -999.0,9,-999.0000, -999.00,-999.000
318M20130321,       P02W,       4,          1,         11,         11,2,20130323,       0610,    32.2423,   133.3732,       1197,   391.1,   9.8645,  34.3201,2,  34.3203,2,    143.4,2,   140.7,2,   41.98,2,   22.49,2,       0,2,     1.6,2,   2.188,2,   1.122,2,   0.042,2,     0.63,2,  -999.0,9, -999.00,9,-999.0000,9,  -999.00,-999.000,9,-999.0000,9, -999.00,9, -999.00,9,  -999.0,9,  -999.0,-999.000,9,-999.000,     -999.0,9, -999.00,9, -999.00,9, -999.00,9,     -999.0,9,  -999.0,9, 20130323,      638,  32.2427, 133.3819,    34.4821,2,     -999.0,9,     -999.0,9,     9.8631,2,     -999.0,9,     -999.0,9,-999.0000, -999.00,-999.000
318M20130321,       P02W,       4,          1,         10,         10,2,20130323,       0610,    32.2423,   133.3732,       1197,   438.4,   8.3574,  34.2858,2,  34.2944,2,    125.1,2,   123.8,2,   54.77,2,   26.32,2,       0,2,    1.88,2,-999.000,9,-999.000,9,-999.000,9,-999.0000,9,  2204.5,2, 2298.84,2,   7.5979,2,       25,-999.000,9,-999.0000,9, -999.00,9, -999.00,9,  -999.0,9,  -999.0,-999.000,9,-999.000,     -999.0,9, -999.00,9, -999.00,9, -999.00,9,     -999.0,9,  -999.0,9, 20130323,      636,  32.2428, 133.3811,    34.4561,2,     -999.0,9,     -999.0,9,     8.3764,2,     -999.0,9,     -999.0,9,-999.0000, -999.00,-999.000
318M20130321,       P02W,       4,          1,          9,          9,2,20130323,       0610,    32.2423,   133.3732,       1197,   483.5,   7.3063,  34.2686,2,    34.27,2,    108.6,2,   110.2,2,   66.69,2,   29.56,2,       0,2,    2.13,2,   1.616,2,   0.790,2,   0.026,2,     0.35,2,  -999.0,9, -999.00,9,-999.0000,9,  -999.00,-999.000,9,-999.0000,9, -999.00,9, -999.00,9,  -999.0,9,  -999.0,-999.000,9,-999.000,     -999.0,9, -999.00,9, -999.00,9, -999.00,9,     -999.0,9,  -999.0,9, 20130323,      633,  32.2429, 133.3803,    34.4316,2,     -999.0,9,     -999.0,9,     7.3059,2,     -999.0,9,     -999.0,9,-999.0000, -999.00,-999.000
318M20130321,       P02W,       4,          1,          8,          8,2,20130323,       0610,    32.2423,   133.3732,       1197,   558.6,   6.1946,  34.2575,2,  34.2587,2,     94.9,2,    95.1,2,    78.4,2,   32.83,2,       0,2,    2.36,2,-999.000,9,-999.000,9,-999.000,9,-999.0000,9,  -999.0,9, -999.00,9,-999.0000,9,  -999.00,-999.000,9,-999.0000,9, -999.00,9, -999.00,9,  -999.0,9,  -999.0,-999.000,9,-999.000,     -999.0,9, -999.00,9, -999.00,9, -999.00,9,     -999.0,9,  -999.0,9, 20130323,      631,  32.2429, 133.3794,    34.4202,2,     -999.0,9,     -999.0,9,     6.1955,2,     -999.0,9,     -999.0,9,-999.0000, -999.00,-999.000
318M20130321,       P02W,       4,          1,          7,          7,2,20130323,       0610,    32.2423,   133.3732,       1197,   652.8,   4.9412,  34.3038,2,  34.3044,2,     78.1,2,    74.9,2,   97.54,2,   36.67,2,       0,2,    2.64,2,   0.779,2,   0.355,2,   0.000,2,     0.17,2,  2297.2,2, 2338.15,2,   7.4337,6,       25,-999.000,9,-999.0000,9, -999.00,9, -999.00,9,  -999.0,9,  -999.0,-999.000,9,-999.000,     -999.0,9, -999.00,9, -999.00,9, -999.00,9,     -999.0,9,  -999.0,9, 20130323,      628,  32.2427, 133.3784,    34.4661,2,     -999.0,9,     -999.0,9,     4.9394,2,     -999.0,9,     -999.0,9,-999.0000, -999.00,-999.000
318M20130321,       P02W,       4,          1,          6,          6,2,20130323,       0610,    32.2423,   133.3732,       1197,   746.5,   4.4858,   34.335,2,  34.3362,2,     68.7,2,    69.2,2,  106.22,2,    37.8,2,       0,2,    2.72,2,-999.000,9,-999.000,9,-999.000,9,-999.0000,9,  -999.0,9, -999.00,9,-999.0000,9,  -999.00,-999.000,9,-999.0000,9, -999.00,9, -999.00,9,  -999.0,9,  -999.0,-999.000,9,-999.000,     -999.0,9, -999.00,9, -999.00,9, -999.00,9,     -999.0,9,  -999.0,9, 20130323,      624,  32.2427, 133.3775,    34.4981,2,     -999.0,9,     -999.0,9,     4.4854,2,     -999.0,9,     -999.0,9,-999.0000, -999.00,-999.000
318M20130321,       P02W,       4,          1,          5,          5,2,20130323,       0610,    32.2423,   133.3732,       1197,   839.9,   4.0239,   34.371,2,  34.3725,2,     64.9,2,    65.7,2,  114.52,2,    38.8,2,       0,2,    2.79,2,-999.000,9,-999.000,9,-999.000,9,-999.0000,9,  2323.2,2, 2356.35,2,   7.4118,2,       25,-999.000,9,-999.0000,9, -999.00,9, -999.00,9,  -999.0,9,  -999.0,-999.000,9,-999.000,     -999.0,9, -999.00,9, -999.00,9, -999.00,9,     -999.0,9,  -999.0,9, 20130323,      621,  32.2426, 133.3766,    34.5346,2,     -999.0,9,     -999.0,9,     4.0246,2,     -999.0,9,     -999.0,9,-999.0000, -999.00,-999.000
318M20130321,       P02W,       4,          1,          4,          4,2,20130323,       0610,    32.2423,   133.3732,       1197,   932.8,   3.6795,   34.398,2,  34.3996,2,     63.4,2,    63.8,2,  122.03,2,   39.41,2,       0,2,    2.83,2,   0.363,2,   0.153,2,   0.002,2,     0.14,2,  2332.7,2, 2363.96,6,   7.4035,2,       25,-999.000,9,-999.0000,9, -999.00,9, -999.00,9,  -999.0,9,  -999.0,-999.000,9,-999.000,     -999.0,9, -999.00,9, -999.00,9, -999.00,9,     -999.0,9,  -999.0,9, 20130323,      618,  32.2424, 133.3757,    34.5618,2,     -999.0,9,     -999.0,9,     3.6801,2,     -999.0,9,     -999.0,9,-999.0000, -999.00,-999.000
318M20130321,       P02W,       4,          1,          3,          3,2,20130323,       0610,    32.2423,   133.3732,       1197,  1026.6,   3.3557,  34.4249,2,  34.4257,2,     63.5,2,      63,2,  128.18,2,   39.92,2,       0,2,    2.86,2,   0.294,2,   0.107,2,   0.027,2,     0.11,2,  2339.8,2, 2370.36,2,   7.4027,6,       25,-999.000,9,-999.0000,9, -999.00,9, -999.00,9,  -999.0,9,  -999.0,-999.000,9,-999.000,     -999.0,9, -999.00,9, -999.00,9, -999.00,9,     -999.0,9,  -999.0,9, 20130323,      616,  32.2423, 133.3749,     34.588,2,     -999.0,9,     -999.0,9,     3.3542,2,     -999.0,9,     -999.0,9,-999.0000, -999.00,-999.000
318M20130321,       P02W,       4,          1,          2,          2,2,20130323,       0610,    32.2423,   133.3732,       1197,  1119.4,   3.1004,  34.4521,2,  34.4526,2,     64.1,2,    64.5,2,  132.77,2,   40.11,2,       0,2,    2.88,2,-999.000,9,-999.000,9,-999.000,9,-999.0000,9,  2344.7,2, 2377.76,2,    7.405,2,       25,-999.000,9,-999.0000,9, -999.00,9, -999.00,9,  -999.0,9,  -999.0,-999.000,9,-999.000,     -999.0,9, -999.00,9, -999.00,9, -999.00,9,     -999.0,9,  -999.0,9, 20130323,      613,  32.2423, 133.3741,     34.615,2,     -999.0,9,     -999.0,9,      3.099,2,     -999.0,9,     -999.0,9,-999.0000, -999.00,-999.000
318M20130321,       P02W,       4,          1,          1,          1,2,20130323,       0610,    32.2423,   133.3732,       1197,  1238.6,   2.9714,  34.4675,2,  34.4685,2,       66,2,    66.4,2,  136.18,2,   40.13,2,       0,2,    2.87,2,   0.227,2,   0.074,2,  -0.004,2,     0.09,2,  2348.3,6, 2381.36,2,   7.4076,2,       25,-999.000,9,-999.0000,9, -999.00,9, -999.00,9,  -999.0,9,  -999.0,-999.000,9,-999.000,     -999.0,9, -999.00,9, -999.00,9, -999.00,9,     -999.0,9,  -999.0,9, 20130323,      609,  32.2423, 133.3731,     34.631,2,     -999.0,9,     -999.0,9,     2.9703,2,     -999.0,9,     -999.0,9,-999.0000, -999.00,-999.000