BOTTLE,20220817CCHSIOAMB
EXPOCODE,SECT_ID,STNNBR,CASTNO,SAMPNO,BTLNBR,BTLNBR_FLAG_W,DATE,TIME,LATITUDE,LONGITUDE,DEPTH,CTDPRS,CTDTMP,CTDSAL,CTDSAL_FLAG_W,SALNTY,SALNTY_FLAG_W,CTDOXY,CTDOXY_FLAG_W,OXYGEN,OXYGEN_FLAG_W,SILCAT,SILCAT_FLAG_W,NITRAT,NITRAT_FLAG_W,NITRIT,NITRIT_FLAG_W,PHSPHT,PHSPHT_FLAG_W,CFC-11,CFC-11_FLAG_W,CFC-12,CFC-12_FLAG_W,CFC113,CFC113_FLAG_W,SF6,SF6_FLAG_W,TCARBN,TCARBN_FLAG_W,ALKALI,ALKALI_FLAG_W,PH_TOT,PH_TOT_FLAG_W,PH_TMP,TRITUM,TRITUM_FLAG_W,HELIUM,HELIUM_FLAG_W,DELHE3,DELHE3_FLAG_W,DELC13,DELC13_FLAG_W,DELC14,DELC14_FLAG_W,C14ERR,NEON,NEON_FLAG_W,NEONER,I-129,I-129_FLAG_W,SR-90,SR-90_FLAG_W,DOC,DOC_FLAG_W,TDN,TDN_FLAG_W,CALCIUM,CALCIUM_FLAG_W,D15N_NO3,D15N_NO3_FLAG_W,BTL_DATE,BTL_TIME,BTL_LAT,BTL_LON,SALTREF,SALTREF_FLAG_W,CS-137,CS-137_FLAG_W,CS-134,CS-134_FLAG_W,REFTMP,REFTMP_FLAG_W,LAB_DEN,LAB_DEN_FLAG_W,D18O_NO3,D18O_NO3_FLAG_W,HELIER,DELHER,TRITER
,,,,,,,,,,,METERS,DBAR,ITS-90,PSS-78,,PSS-78,,UMOL/KG,,UMOL/KG,,UMOL/KG,,UMOL/KG,,UMOL/KG,,UMOL/KG,,PMOL/KG,,PMOL/KG,,PMOL/KG,,FMOL/KG,,UMOL/KG,,UMOL/KG,,,,DEG C,TU,,NMOL/KG,,PERCNT,,/MILLE,,/MILLE,,/MILLE,NMOL/KG,,NMOL/KG,BQ/M^3,,DM/.1MG,,UMOL/KG,,UMOL/KG,,MMOL/KG,,/MILLE,,,,,,G/KG,,BQ/M^3,,BQ/M^3,,ITS-90,,,,/MILLE,,NMOL/KG,PERCNT,TU
318M20130321,       P02E,     135,          1,         36,         36,2,20130527,       0522,    30.0006,  -127.9874,       4486,     3.2,  17.4884,  33.9017,2,  33.9023,2,    243.8,2,   243.8,2,    2.05,2,       0,2,       0,2,    0.17,2,   2.316,2,   1.401,2,-999.000,1,   1.6493,2,  2024.3,2,  2254.3,2,   7.9286,2,       25,-999.000,9,-999.0000,9, -999.00,9, -999.00,9,  -999.0,9,  -999.0,-999.000,9,-999.000,     -999.0,9, -999.00,9,   62.06,2,    4.52,2,     -999.0,9,  -999.0,1, 20130527,      713,  30.0002,-127.9881,    34.0621,2,     -999.0,9,     -999.0,9,    17.4881,2,     -999.0,9,     -999.0,1,-999.0000, -999.00,-999.000
318M20130321,       P02E,     135,          1,         34,         34,2,20130527,       0522,    30.0006,  -127.9874,       4486,    25.5,  17.8633,  34.1218,2,  34.1228,2,    242.9,2,   241.5,2,    1.86,2,       0,2,       0,2,    0.14,2,   2.264,2,   1.375,2,-999.000,1,    1.531,2,  -999.0,9, -999.00,9,-999.0000,9,  -999.00,-999.000,9,-999.0000,9, -999.00,9, -999.00,9,  -999.0,9,  -999.0,-999.000,9,-999.000,     -999.0,9, -999.00,9,   64.36,2,    4.01,2,     -999.0,9,  -999.0,1, 20130527,      711,  29.9999,-127.9883,    34.2838,2,     -999.0,9,     -999.0,9,    17.8656,2,     -999.0,9,     -999.0,1,-999.0000, -999.00,-999.000
318M20130321,       P02E,     135,          1,         33,         33,2,20130527,       0522,    30.0006,  -127.9874,       4486,      52,  18.0212,  34.1941,2,  34.1938,2,    240.4,2,   240.2,2,    1.86,2,       0,2,       0,2,    0.12,2,   2.245,2,   1.359,2,-999.000,1,   1.6409,2,    2030,2, 2268.71,2,   7.9454,6,       25,-999.000,9,-999.0000,9, -999.00,9, -999.00,9,  -999.0,9,  -999.0,-999.000,9,-999.000,     -999.0,9, -999.00,9,   64.26,2,    4.66,2,     -999.0,9,  -999.0,1, 20130527,      709,  29.9998,-127.9884,    34.3551,2,     -999.0,9,     -999.0,9,    18.0191,2,     -999.0,9,     -999.0,1,-999.0000, -999.00,-999.000
318M20130321,       P02E,     135,          1,         32,         32,2,20130527,       0522,    30.0006,  -127.9874,       4486,    77.1,  17.8265,  34.2583,2,  34.2585,2,    241.4,2,     243,2,    1.86,2,       0,2,       0,2,    0.11,2,   2.269,2,   1.365,2,-999.000,1,   1.6028,2,  2029.3,2, 2270.91,6,   7.9508,2,       25,-999.000,9,-999.0000,9, -999.00,9, -999.00,9,  -999.0,9,  -999.0,-999.000,9,-999.000,     -999.0,9, -999.00,9,    66.4,2,    4.75,2,     -999.0,9,  -999.0,1, 20130527,      707,  29.9998,-127.9884,    34.4201,2,     -999.0,9,     -999.0,9,    17.8283,2,     -999.0,9,     -999.0,1,-999.0000, -999.00,-999.000
318M20130321,       P02E,     135,          1,         31,         31,2,20130527,       0522,    30.0006,  -127.9874,       4486,    99.4,  16.6696,   34.164,2,   34.165,2,      245,2,   242.5,2,    2.05,2,       0,2,       0,2,    0.13,2,   2.378,2,   1.434,2,-999.000,1,   1.6082,2,  2028.6,2,  2262.2,2,    7.937,2,       25,-999.000,9,-999.0000,9, -999.00,9, -999.00,9,  -999.0,9,  -999.0,-999.000,9,-999.000,     -999.0,9, -999.00,9,   60.69,2,    4.08,2,     -999.0,9,  -999.0,1, 20130527,      706,       30,-127.9883,    34.3261,2,     -999.0,9,     -999.0,9,    16.6709,2,     -999.0,9,     -999.0,1,-999.0000, -999.00,-999.000
318M20130321,       P02E,     135,          1,         30,         30,2,20130527,       0522,    30.0006,  -127.9874,       4486,   149.8,   12.954,  33.5224,2,  33.5251,2,    237.9,2,   238.7,2,     4.1,2,     2.7,2,    0.12,2,    0.43,2,   2.877,2,   1.679,2,-999.000,1,    1.735,2,    2040,2, 2223.79,2,   7.8444,2,       25,-999.000,9,-999.0000,9, -999.00,9, -999.00,9,  -999.0,9,  -999.0,-999.000,9,-999.000,     -999.0,9, -999.00,9,   54.78,2,    7.52,2,     -999.0,9,  -999.0,1, 20130527,      704,  30.0002, -127.988,    33.6831,2,     -999.0,9,     -999.0,9,    12.9662,2,     -999.0,9,     -999.0,1,-999.0000, -999.00,-999.000
318M20130321,       P02E,     135,          1,         29,         29,2,20130527,       0522,    30.0006,  -127.9874,       4486,   203.2,   9.7156,  33.6269,2,   33.624,2,    183.8,2,   180.6,2,   17.68,2,   18.02,2,    0.01,2,    1.41,2,   3.242,2,   1.823,2,-999.000,1,   1.5698,2,  2127.2,2, 2230.19,2,   7.6348,2,       25,-999.000,9,-999.0000,9, -999.00,9, -999.00,9,  -999.0,9,  -999.0,-999.000,9,-999.000,     -999.0,9, -999.00,9,   48.62,2,   22.64,3,     -999.0,9,  -999.0,1, 20130527,      702,  30.0002,-127.9877,    33.7825,2,     -999.0,9,     -999.0,9,     9.7228,2,     -999.0,9,     -999.0,1,-999.0000, -999.00,-999.000
318M20130321,       P02E,     135,          1,         27,         27,2,20130527,       0522,    30.0006,  -127.9874,       4486,   253.3,   8.7362,  33.9087,2,  33.9048,2,    129.6,2,   132.3,2,    29.3,2,    25.4,2,    0.01,2,    1.89,2,   3.027,2,   1.653,2,-999.000,1,   1.1254,2,  2183.5,2,  2251.4,2,   7.5275,2,       25,-999.000,9,-999.0000,9, -999.00,9, -999.00,9,  -999.0,9,  -999.0,-999.000,9,-999.000,     -999.0,9, -999.00,9,   49.34,2,   30.92,3,     -999.0,9,  -999.0,1, 20130527,      700,  30.0001,-127.9876,    34.0647,2,     -999.0,9,     -999.0,9,     8.7419,2,     -999.0,9,     -999.0,1,-999.0000, -999.00,-999.000
318M20130321,       P02E,     135,          1,         26,         26,2,20130527,       0522,    30.0006,  -127.9874,       4486,   302.3,   7.9248,  34.0188,2,   34.019,2,    103.4,2,   101.9,2,   39.65,2,   29.58,2,    0.01,2,     2.2,2,   2.625,2,   1.411,2,-999.000,1,   0.7929,2,  2217.1,2,  2264.6,2,   7.4624,2,       25,-999.000,9,-999.0000,9, -999.00,9, -999.00,9,  -999.0,9,  -999.0,-999.000,9,-999.000,     -999.0,9, -999.00,9,   47.36,2,   35.81,3,     -999.0,9,  -999.0,1, 20130527,      658,  30.0001,-127.9875,    34.1794,2,     -999.0,9,     -999.0,9,     7.9198,2,     -999.0,9,     -999.0,1,-999.0000, -999.00,-999.000
318M20130321,       P02E,     135,          1,         25,         25,2,20130527,       0522,    30.0006,  -127.9874,       4486,     352,   7.2846,  34.0617,2,  34.0623,2,     75.5,2,    75.6,2,   49.22,2,      33,2,    0.01,2,    2.47,2,   2.138,2,   1.088,2,-999.000,1,   0.5303,2,  -999.0,9, -999.00,9,-999.0000,9,  -999.00,-999.000,9,-999.0000,9, -999.00,9, -999.00,9,  -999.0,9,  -999.0,-999.000,9,-999.000,     -999.0,9, -999.00,9,   45.09,2, -999.00,9,     -999.0,9,  -999.0,1, 20130527,      656,  30.0003,-127.9874,    34.2229,2,     -999.0,9,     -999.0,9,     7.2872,2,     -999.0,9,     -999.0,1,-999.0000, -999.00,-999.000
318M20130321,       P02E,     135,          1,         24,         24,2,20130527,       0522,    30.0006,  -127.9874,       4486,   403.4,   6.7492,  34.1037,2,  34.1042,2,     51.7,2,    50.7,2,   58.49,2,   35.96,2,    0.01,2,    2.71,2,   1.592,2,   0.799,2,-999.000,1,   0.3282,2,  2272.2,2, 2284.31,2,   7.3536,6,       25,-999.000,9,-999.0000,9, -999.00,9, -999.00,9,  -999.0,9,  -999.0,-999.000,9,-999.000,     -999.0,9, -999.00,9,   47.65,2, -999.00,9,     -999.0,9,  -999.0,1, 20130527,      655,  30.0006,-127.9874,     34.265,2,     -999.0,9,     -999.0,9,     6.7488,2,     -999.0,9,     -999.0,1,-999.0000, -999.00,-999.000
318M20130321,       P02E,     135,          1,         23,         23,2,20130527,       0522,    30.0006,  -127.9874,       4486,   504.9,   6.0092,   34.173,2,  34.1734,2,     27.8,2,    28.7,2,   72.45,2,   38.96,2,    0.01,2,    2.99,2,   0.818,2,   0.399,2,-999.000,1,   0.1209,2,  2301.3,2, 2301.02,2,   7.3136,2,       25,-999.000,9,-999.0000,9, -999.00,9, -999.00,9,  -999.0,9,  -999.0,-999.000,9,-999.000,     -999.0,9, -999.00,9,   41.67,2, -999.00,9,     -999.0,9,  -999.0,1, 20130527,      652,  30.0007,-127.9873,    34.3346,2,     -999.0,9,     -999.0,9,     6.0099,2,     -999.0,9,     -999.0,1,-999.0000, -999.00,-999.000
318M20130321,       P02E,     135,          1,         22,         22,2,20130527,       0522,    30.0006,  -127.9874,       4486,   605.5,   5.0964,  34.2081,2,  34.2099,2,     19.4,2,    20.1,2,   88.95,2,    41.4,2,       0,2,    3.12,2,   0.346,2,   0.178,2,-999.000,1,        0,2,  -999.0,9, -999.00,9,-999.0000,9,  -999.00,-999.000,9,-999.0000,9, -999.00,9, -999.00,9,  -999.0,9,  -999.0,-999.000,9,-999.000,     -999.0,9, -999.00,9,   41.31,2, -999.00,9,     -999.0,9,  -999.0,1, 20130527,      649,  30.0008,-127.9871,    34.3712,2,     -999.0,9,     -999.0,9,     5.0961,2,     -999.0,9,     -999.0,1,-999.0000, -999.00,-999.000
318M20130321,       P02E,     135,          1,         21,         21,2,20130527,       0522,    30.0006,  -127.9874,       4486,   705.5,   4.6452,  34.2998,2,  34.2993,2,     13.2,2,    13.1,2,  100.76,2,   42.72,2,       0,2,    3.22,2,   0.088,2,   0.048,2,-999.000,1,   0.0789,2,  2341.7,2, 2336.63,2,   7.2943,2,       25,-999.000,9,-999.0000,9, -999.00,9, -999.00,9,  -999.0,9,  -999.0,-999.000,9,-999.000,     -999.0,9, -999.00,9,   39.18,2, -999.00,9,     -999.0,9,  -999.0,1, 20130527,      646,  30.0011,-127.9871,    34.4611,2,     -999.0,9,     -999.0,9,     4.6448,2,     -999.0,9,     -999.0,1,-999.0000, -999.00,-999.000
318M20130321,       P02E,     135,          1,         20,         20,2,20130527,       0522,    30.0006,  -127.9874,       4486,   803.5,    4.336,  34.3609,2,  34.3617,2,     14.4,2,    14.1,2,  108.47,2,   43.26,2,       0,2,    3.24,2,   0.031,2,   0.021,2,-999.000,1,        0,2,  2351.8,2, 2348.63,2,   7.3049,2,       25,-999.000,9,-999.0000,9, -999.00,9, -999.00,9,  -999.0,9,  -999.0,-999.000,9,-999.000,     -999.0,9, -999.00,9,   40.25,2, -999.00,9,     -999.0,9,  -999.0,1, 20130527,      644,   30.001,-127.9873,    34.5238,2,     -999.0,9,     -999.0,9,     4.3356,2,     -999.0,9,     -999.0,1,-999.0000, -999.00,-999.000
318M20130321,       P02E,     135,          1,         19,         19,2,20130527,       0522,    30.0006,  -127.9874,       4486,   907.5,   4.0489,  34.4189,2,  34.4194,2,     20.3,2,    20.2,2,  114.61,2,   43.41,2,       0,2,    3.22,2,   0.016,2,   0.014,2,-999.000,1,    0.151,2,    2355,6, 2359.74,2,   7.3222,2,       25,-999.000,9,-999.0000,9, -999.00,9, -999.00,9,  -999.0,9,  -999.0,-999.000,9,-999.000,     -999.0,9, -999.00,9, -999.00,5, -999.00,9,     -999.0,9,  -999.0,1, 20130527,      641,  30.0005,-127.9877,    34.5817,2,     -999.0,9,     -999.0,9,     4.0495,2,     -999.0,9,     -999.0,1,-999.0000, -999.00,-999.000
318M20130321,       P02E,     135,          1,         18,         18,2,20130527,       0522,    30.0006,  -127.9874,       4486,  1010.2,   3.8203,  34.4621,2,  34.4636,2,     28.2,2,    26.7,2,  119.39,2,   43.31,2,       0,2,    3.19,2,   0.010,2,   0.011,2,-999.000,1,        0,2,  -999.0,9, -999.00,9,-999.0000,9,  -999.00,-999.000,9,-999.0000,9, -999.00,9, -999.00,9,  -999.0,9,  -999.0,-999.000,9,-999.000,     -999.0,9, -999.00,9,   39.51,2, -999.00,9,     -999.0,9,  -999.0,1, 20130527,      638,       30,-127.9879,    34.6261,2,     -999.0,9,     -999.0,9,      3.818,2,     -999.0,9,     -999.0,1,-999.0000, -999.00,-999.000
318M20130321,       P02E,     135,          1,         17,         17,2,20130527,       0522,    30.0006,  -127.9874,       4486,  1108.8,   3.5899,  34.4944,2,  34.4946,2,     34.1,2,    34.2,2,  124.08,2,   43.07,2,       0,2,    3.17,2,   0.006,2,   0.007,2,-999.000,1,        0,2,  2360.1,2, 2376.04,2,   7.3553,2,       25,-999.000,9,-999.0000,9, -999.00,9, -999.00,9,  -999.0,9,  -999.0,-999.000,9,-999.000,     -999.0,9, -999.00,9,   37.44,2, -999.00,9,     -999.0,9,  -999.0,1, 20130527,      636,  29.9997,-127.9881,    34.6573,2,     -999.0,9,     -999.0,9,     3.5899,2,     -999.0,9,     -999.0,1,-999.0000, -999.00,-999.000
318M20130321,       P02E,     135,          1,         16,         16,2,20130527,       0522,    30.0006,  -127.9874,       4486,  1210.4,   3.3506,  34.5182,2,  34.5182,2,     39.7,2,    40.3,2,  129.34,2,   42.89,2,       0,2,    3.15,2,   0.004,2,   0.005,2,-999.000,1,        0,2,  -999.0,9, -999.00,9,-999.0000,9,  -999.00,-999.000,9,-999.0000,9, -999.00,9, -999.00,9,  -999.0,9,  -999.0,-999.000,9,-999.000,     -999.0,9, -999.00,9,   36.47,2, -999.00,9,     -999.0,9,  -999.0,1, 20130527,      633,  29.9999,-127.9882,    34.6809,2,     -999.0,9,     -999.0,9,     3.3524,2,     -999.0,9,     -999.0,1,-999.0000, -999.00,-999.000
318M20130321,       P02E,     135,          1,         15,         15,2,20130527,       0522,    30.0006,  -127.9874,       4486,  1310.3,   3.1808,  34.5338,2,  34.5337,2,     44.4,2,    44.3,2,  133.44,2,   42.78,2,       0,2,    3.13,2,   0.004,2,   0.008,2,-999.000,1,        0,2,  2364.6,2, 2387.45,2,   7.3774,6,       25,-999.000,9,-999.0000,9, -999.00,9, -999.00,9,  -999.0,9,  -999.0,-999.000,9,-999.000,     -999.0,9, -999.00,9,   38.81,2, -999.00,9,     -999.0,9,  -999.0,1, 20130527,      630,  29.9999,-127.9881,    34.6965,2,     -999.0,9,     -999.0,9,     3.1806,2,     -999.0,9,     -999.0,1,-999.0000, -999.00,-999.000
318M20130321,       P02E,     135,          1,         14,         14,2,20130527,       0522,    30.0006,  -127.9874,       4486,  1410.6,    2.988,  34.5503,2,  34.5508,2,     47.9,2,    48.2,2,  138.52,2,   42.57,2,       0,2,    3.11,2,   0.006,2,   0.012,2,-999.000,1,        0,2,  -999.0,9, -999.00,9,-999.0000,9,  -999.00,-999.000,9,-999.0000,9, -999.00,9, -999.00,9,  -999.0,9,  -999.0,-999.000,9,-999.000,     -999.0,9, -999.00,9, -999.00,5, -999.00,9,     -999.0,9,  -999.0,1, 20130527,      628,  29.9997,-127.9879,    34.7137,2,     -999.0,9,     -999.0,9,     2.9872,2,     -999.0,9,     -999.0,1,-999.0000, -999.00,-999.000
318M20130321,       P02E,     135,          1,         13,         13,2,20130527,       0522,    30.0006,  -127.9874,       4486,    1613,   2.6533,  34.5785,2,  34.5787,2,     57.6,2,    57.5,2,   147.1,2,   42.13,2,       0,2,    3.07,2,   0.002,2,   0.005,2,-999.000,1,        0,2,  2369.9,2, 2401.35,2,   7.4032,2,       25,-999.000,9,-999.0000,9, -999.00,9, -999.00,9,  -999.0,9,  -999.0,-999.000,9,-999.000,     -999.0,9, -999.00,9,   38.34,2, -999.00,9,     -999.0,9,  -999.0,1, 20130527,      623,  29.9995,-127.9876,    34.7417,2,     -999.0,9,     -999.0,9,     2.6533,2,     -999.0,9,     -999.0,1,-999.0000, -999.00,-999.000
318M20130321,       P02E,     135,          1,         12,         12,2,20130527,       0522,    30.0006,  -127.9874,       4486,  1816.3,   2.3322,  34.6037,2,   34.604,2,     67.7,2,    70.5,2,  154.91,2,    41.4,2,       0,2,       3,2,   0.001,2,   0.006,2,-999.000,1,        0,2,  -999.0,9, -999.00,9,-999.0000,9,  -999.00,-999.000,9,-999.0000,9, -999.00,9, -999.00,9,  -999.0,9,  -999.0,-999.000,9,-999.000,     -999.0,9, -999.00,9,    36.5,2, -999.00,9,     -999.0,9,  -999.0,1, 20130527,      619,  29.9996,-127.9874,    34.7672,2,     -999.0,9,     -999.0,9,     2.3318,2,     -999.0,9,     -999.0,1,-999.0000, -999.00,-999.000
318M20130321,       P02E,     135,          1,         11,         11,2,20130527,       0522,    30.0006,  -127.9874,       4486,  2021.9,    2.148,  34.6204,2,  34.6205,2,     78.7,2,    79.4,2,  158.42,2,   40.79,2,       0,2,    2.95,2,   0.000,2,   0.004,2,-999.000,1,        0,2,  2368.3,2, 2415.06,2,    7.446,2,       25,-999.000,9,-999.0000,9, -999.00,9, -999.00,9,  -999.0,9,  -999.0,-999.000,9,-999.000,     -999.0,9, -999.00,9,   38.59,2, -999.00,9,     -999.0,9,  -999.0,1, 20130527,      614,  30.0002,-127.9873,    34.7838,2,     -999.0,9,     -999.0,9,     2.1481,2,     -999.0,9,     -999.0,1,-999.0000, -999.00,-999.000
318M20130321,       P02E,     135,          1,         10,         10,2,20130527,       0522,    30.0006,  -127.9874,       4486,  2273.9,   1.9521,  34.6359,2,  34.6362,2,     91.3,2,    92.2,2,  162.23,2,   40.12,2,       0,2,    2.87,2,   0.000,2,   0.003,2,-999.000,1,        0,2,  -999.0,9, -999.00,9,-999.0000,9,  -999.00,-999.000,9,-999.0000,9, -999.00,9, -999.00,9,  -999.0,9,  -999.0,-999.000,9,-999.000,     -999.0,9, -999.00,9, -999.00,9, -999.00,9,     -999.0,9,  -999.0,1, 20130527,      608,  30.0002,-127.9869,    34.7995,2,     -999.0,9,     -999.0,9,      1.952,2,     -999.0,9,     -999.0,1,-999.0000, -999.00,-999.000
318M20130321,       P02E,     135,          1,          9,          9,2,20130527,       0522,    30.0006,  -127.9874,       4486,    2529,   1.8136,  34.6462,2,  34.6459,2,    100.5,2,    99.5,2,  165.64,2,   39.58,2,       0,2,    2.83,2,  -0.001,2,   0.003,2,-999.000,1,        0,2,  2363.2,2, 2424.46,2,   7.4824,2,       25,-999.000,9,-999.0000,9, -999.00,9, -999.00,9,  -999.0,9,  -999.0,-999.000,9,-999.000,     -999.0,9, -999.00,9,   36.17,2, -999.00,9,     -999.0,9,  -999.0,1, 20130527,      603,  30.0007,-127.9869,    34.8092,2,     -999.0,9,     -999.0,9,     1.8137,2,     -999.0,9,     -999.0,1,-999.0000, -999.00,-999.000
318M20130321,       P02E,     135,          1,          8,          8,2,20130527,       0522,    30.0006,  -127.9874,       4486,  2732.7,   1.6973,  34.6553,2,  34.6557,2,    108.6,2,   108.7,2,  167.79,2,      39,2,       0,2,    2.78,2,   0.000,2,   0.003,2,-999.000,1,        0,2,  -999.0,9, -999.00,9,-999.0000,9,  -999.00,-999.000,9,-999.0000,9, -999.00,9, -999.00,9,  -999.0,9,  -999.0,-999.000,9,-999.000,     -999.0,9, -999.00,9, -999.00,9, -999.00,9,     -999.0,9,  -999.0,1, 20130527,      558,  30.0009,-127.9871,    34.8191,2,     -999.0,9,     -999.0,9,     1.6972,2,     -999.0,9,     -999.0,1,-999.0000, -999.00,-999.000
318M20130321,       P02E,     135,          1,          7,          7,2,20130527,       0522,    30.0006,  -127.9874,       4486,  3040.8,   1.5844,   34.666,2,  34.6659,2,    118.9,2,   118.8,2,  169.06,2,   38.36,2,       0,2,    2.71,2,   0.000,2,   0.006,2,-999.000,1,        0,2,  2353.8,2, 2426.96,2,    7.519,2,       25,-999.000,9,-999.0000,9, -999.00,9, -999.00,9,  -999.0,9,  -999.0,-999.000,9,-999.000,     -999.0,9, -999.00,9,   35.73,2, -999.00,9,     -999.0,9,  -999.0,1, 20130527,      552,  30.0011,-127.9876,    34.8294,2,     -999.0,9,     -999.0,9,     1.5848,2,     -999.0,9,     -999.0,1,-999.0000, -999.00,-999.000
318M20130321,       P02E,     135,          1,          6,          6,2,20130527,       0522,    30.0006,  -127.9874,       4486,  3345.6,   1.5304,  34.6735,2,  34.6732,2,    127.5,2,   126.8,2,  168.67,2,   37.82,2,       0,2,    2.66,2,   0.002,2,   0.006,2,-999.000,1,        0,2,  -999.0,9, -999.00,9,-999.0000,9,  -999.00,-999.000,9,-999.0000,9, -999.00,9, -999.00,9,  -999.0,9,  -999.0,-999.000,9,-999.000,     -999.0,9, -999.00,9, -999.00,9, -999.00,9,     -999.0,9,  -999.0,1, 20130527,      546,  30.0005,-127.9879,    34.8367,2,     -999.0,9,     -999.0,9,     1.5305,2,     -999.0,9,     -999.0,1,-999.0000, -999.00,-999.000