BOTTLE,20220817CCHSIOAMB
EXPOCODE,SECT_ID,STNNBR,CASTNO,SAMPNO,BTLNBR,BTLNBR_FLAG_W,DATE,TIME,LATITUDE,LONGITUDE,DEPTH,CTDPRS,CTDTMP,CTDSAL,CTDSAL_FLAG_W,SALNTY,SALNTY_FLAG_W,CTDOXY,CTDOXY_FLAG_W,OXYGEN,OXYGEN_FLAG_W,SILCAT,SILCAT_FLAG_W,NITRAT,NITRAT_FLAG_W,NITRIT,NITRIT_FLAG_W,PHSPHT,PHSPHT_FLAG_W,CFC-11,CFC-11_FLAG_W,CFC-12,CFC-12_FLAG_W,CFC113,CFC113_FLAG_W,SF6,SF6_FLAG_W,TCARBN,TCARBN_FLAG_W,ALKALI,ALKALI_FLAG_W,PH_TOT,PH_TOT_FLAG_W,PH_TMP,TRITUM,TRITUM_FLAG_W,HELIUM,HELIUM_FLAG_W,DELHE3,DELHE3_FLAG_W,DELC13,DELC13_FLAG_W,DELC14,DELC14_FLAG_W,C14ERR,NEON,NEON_FLAG_W,NEONER,I-129,I-129_FLAG_W,SR-90,SR-90_FLAG_W,DOC,DOC_FLAG_W,TDN,TDN_FLAG_W,CALCIUM,CALCIUM_FLAG_W,D15N_NO3,D15N_NO3_FLAG_W,BTL_DATE,BTL_TIME,BTL_LAT,BTL_LON,SALTREF,SALTREF_FLAG_W,CS-137,CS-137_FLAG_W,CS-134,CS-134_FLAG_W,REFTMP,REFTMP_FLAG_W,LAB_DEN,LAB_DEN_FLAG_W,D18O_NO3,D18O_NO3_FLAG_W,HELIER,DELHER,TRITER
,,,,,,,,,,,METERS,DBAR,ITS-90,PSS-78,,PSS-78,,UMOL/KG,,UMOL/KG,,UMOL/KG,,UMOL/KG,,UMOL/KG,,UMOL/KG,,PMOL/KG,,PMOL/KG,,PMOL/KG,,FMOL/KG,,UMOL/KG,,UMOL/KG,,,,DEG C,TU,,NMOL/KG,,PERCNT,,/MILLE,,/MILLE,,/MILLE,NMOL/KG,,NMOL/KG,BQ/M^3,,DM/.1MG,,UMOL/KG,,UMOL/KG,,MMOL/KG,,/MILLE,,,,,,G/KG,,BQ/M^3,,BQ/M^3,,ITS-90,,,,/MILLE,,NMOL/KG,PERCNT,TU
318M20130321,       P02W,       9,          1,          7,          7,2,20130324,       0451,    31.6349,   133.7585,       4876,  3157.5,   1.5981,  34.6658,2,  34.6651,2,    143.3,2,   142.8,2,  143.97,2,   36.01,2,       0,2,    2.54,2,-999.000,9,-999.000,9,-999.000,9,-999.0000,9,  -999.0,9, -999.00,9,-999.0000,9,  -999.00,-999.000,9,-999.0000,9, -999.00,9, -999.00,9,  -999.0,9,  -999.0,-999.000,9,-999.000,     -999.0,9, -999.00,9,   35.18,2, -999.00,9,     -999.0,9,  -999.0,9, 20130324,      532,  31.6386, 133.7595,    34.8285,2,     -999.0,9,     -999.0,9,     1.5981,2,     -999.0,9,     -999.0,9,-999.0000, -999.00,-999.000
318M20130321,       P02W,       9,          1,          6,          6,2,20130324,       0451,    31.6349,   133.7585,       4876,  3467.4,   1.5464,  34.6746,2,  34.6741,2,    148.8,2,   148.8,2,  142.99,2,   35.66,2,       0,2,    2.51,2,-999.000,9,-999.000,9,-999.000,9,-999.0000,9,  2321.6,2, 2412.76,2,    7.565,2,       25,-999.000,9,-999.0000,9, -999.00,9, -999.00,9,  -999.0,9,  -999.0,-999.000,9,-999.000,     -999.0,9, -999.00,9,   35.16,2, -999.00,9,     -999.0,9,  -999.0,9, 20130324,      525,  31.6379, 133.7594,    34.8376,2,     -999.0,9,     -999.0,9,     1.5465,2,     -999.0,9,     -999.0,9,-999.0000, -999.00,-999.000
318M20130321,       P02W,       9,          1,          5,          5,2,20130324,       0451,    31.6349,   133.7585,       4876,  3777.5,    1.551,  34.6778,2,  34.6763,2,      151,2,   150.8,2,   142.7,2,   35.48,2,       0,2,     2.5,2,-999.000,9,-999.000,9,-999.000,9,-999.0000,9,  -999.0,9, -999.00,9,-999.0000,9,  -999.00,-999.000,9,-999.0000,9, -999.00,9, -999.00,9,  -999.0,9,  -999.0,-999.000,9,-999.000,     -999.0,9, -999.00,9,   34.02,2, -999.00,9,     -999.0,9,  -999.0,9, 20130324,      518,  31.6373, 133.7593,    34.8398,2,     -999.0,9,     -999.0,9,     1.5506,2,     -999.0,9,     -999.0,9,-999.0000, -999.00,-999.000
318M20130321,       P02W,       9,          1,          4,          4,2,20130324,       0451,    31.6349,   133.7585,       4876,  4087.5,   1.5662,  34.6797,2,   34.678,2,    151.6,2,   152.5,2,  142.31,2,    35.4,2,       0,2,     2.5,2,-999.000,9,-999.000,9,-999.000,9,-999.0000,9,  2319.3,2, 2413.66,6,   7.5703,2,       25,-999.000,9,-999.0000,9, -999.00,9, -999.00,9,  -999.0,9,  -999.0,-999.000,9,-999.000,     -999.0,9, -999.00,9,   35.29,2, -999.00,9,     -999.0,9,  -999.0,9, 20130324,      511,  31.6367, 133.7591,    34.8416,2,     -999.0,9,     -999.0,9,     1.5666,2,     -999.0,9,     -999.0,9,-999.0000, -999.00,-999.000
318M20130321,       P02W,       9,          1,          3,          3,2,20130324,       0451,    31.6349,   133.7585,       4876,  4397.6,   1.5839,  34.6816,2,  34.6806,2,    154.1,2,   154.1,2,  141.92,2,   35.34,2,       0,2,    2.49,2,-999.000,9,-999.000,9,-999.000,9,-999.0000,9,  2317.8,2, 2411.36,2,   7.5723,6,       25,-999.000,9,-999.0000,9, -999.00,9, -999.00,9,  -999.0,9,  -999.0,-999.000,9,-999.000,     -999.0,9, -999.00,9,    35.2,2, -999.00,9,     -999.0,9,  -999.0,9, 20130324,      504,  31.6361, 133.7589,    34.8441,2,     -999.0,9,     -999.0,9,     1.5839,2,     -999.0,9,     -999.0,9,-999.0000, -999.00,-999.000
318M20130321,       P02W,       9,          1,          2,          2,2,20130324,       0451,    31.6349,   133.7585,       4876,  4708.5,   1.6096,  34.6826,2,   34.683,2,    154.3,2,   155.4,2,  141.92,2,   35.28,2,       0,2,    2.47,2,-999.000,9,-999.000,9,-999.000,9,-999.0000,9,  2317.1,2, 2420.07,3,-999.0000,9,  -999.00,-999.000,9,-999.0000,9, -999.00,9, -999.00,9,  -999.0,9,  -999.0,-999.000,9,-999.000,     -999.0,9, -999.00,9,   35.59,2, -999.00,9,     -999.0,9,  -999.0,9, 20130324,      458,  31.6355, 133.7587,    34.8465,2,     -999.0,9,     -999.0,9,     1.6093,2,     -999.0,9,     -999.0,9,-999.0000, -999.00,-999.000
318M20130321,       P02W,       9,          1,          1,          1,2,20130324,       0451,    31.6349,   133.7585,       4876,    4973,   1.6335,  34.6833,2,  34.6822,2,    156.7,2,   155.7,2,  141.53,2,   35.26,2,       0,2,    2.48,2,-999.000,9,-999.000,9,-999.000,9,-999.0000,9,  2317.8,6, 2412.16,2,   7.5746,2,       25,-999.000,9,-999.0000,9, -999.00,9, -999.00,9,  -999.0,9,  -999.0,-999.000,9,-999.000,     -999.0,9, -999.00,9,   36.46,2, -999.00,9,     -999.0,9,  -999.0,9, 20130324,      451,  31.6349, 133.7585,    34.8457,2,     -999.0,9,     -999.0,9,     1.6334,2,     -999.0,9,     -999.0,9,-999.0000, -999.00,-999.000