BOTTLE,20220817CCHSIOAMB
EXPOCODE,SECT_ID,STNNBR,CASTNO,SAMPNO,BTLNBR,BTLNBR_FLAG_W,DATE,TIME,LATITUDE,LONGITUDE,DEPTH,CTDPRS,CTDTMP,CTDSAL,CTDSAL_FLAG_W,SALNTY,SALNTY_FLAG_W,CTDOXY,CTDOXY_FLAG_W,OXYGEN,OXYGEN_FLAG_W,SILCAT,SILCAT_FLAG_W,NITRAT,NITRAT_FLAG_W,NITRIT,NITRIT_FLAG_W,PHSPHT,PHSPHT_FLAG_W,CFC-11,CFC-11_FLAG_W,CFC-12,CFC-12_FLAG_W,CFC113,CFC113_FLAG_W,SF6,SF6_FLAG_W,TCARBN,TCARBN_FLAG_W,ALKALI,ALKALI_FLAG_W,PH_TOT,PH_TOT_FLAG_W,PH_TMP,TRITUM,TRITUM_FLAG_W,HELIUM,HELIUM_FLAG_W,DELHE3,DELHE3_FLAG_W,DELC13,DELC13_FLAG_W,DELC14,DELC14_FLAG_W,C14ERR,NEON,NEON_FLAG_W,NEONER,I-129,I-129_FLAG_W,SR-90,SR-90_FLAG_W,DOC,DOC_FLAG_W,TDN,TDN_FLAG_W,CALCIUM,CALCIUM_FLAG_W,D15N_NO3,D15N_NO3_FLAG_W,BTL_DATE,BTL_TIME,BTL_LAT,BTL_LON,SALTREF,SALTREF_FLAG_W,CS-137,CS-137_FLAG_W,CS-134,CS-134_FLAG_W,REFTMP,REFTMP_FLAG_W,LAB_DEN,LAB_DEN_FLAG_W,D18O_NO3,D18O_NO3_FLAG_W,HELIER,DELHER,TRITER
,,,,,,,,,,,METERS,DBAR,ITS-90,PSS-78,,PSS-78,,UMOL/KG,,UMOL/KG,,UMOL/KG,,UMOL/KG,,UMOL/KG,,UMOL/KG,,PMOL/KG,,PMOL/KG,,PMOL/KG,,FMOL/KG,,UMOL/KG,,UMOL/KG,,,,DEG C,TU,,NMOL/KG,,PERCNT,,/MILLE,,/MILLE,,/MILLE,NMOL/KG,,NMOL/KG,BQ/M^3,,DM/.1MG,,UMOL/KG,,UMOL/KG,,MMOL/KG,,/MILLE,,,,,,G/KG,,BQ/M^3,,BQ/M^3,,ITS-90,,,,/MILLE,,NMOL/KG,PERCNT,TU
318M20130321,       P02E,      99,          1,         36,         36,2,20130516,       0212,    30.0004,  -154.8757,       5640,     2.5,  20.6862,  35.0261,2,  35.0274,2,    227.8,2,   227.2,2,    1.95,2,       0,2,       0,2,       0,2,   1.981,2,   1.264,2,-999.000,5,    2.124,4,    2020,2, 2300.52,2,   8.0091,2,       25,-999.000,9,-999.0000,9, -999.00,9,    0.78,2,    42.4,2,     2.8,-999.000,9,-999.000,     -999.0,9, -999.00,9,   66.91,2,    4.28,2,     -999.0,9,  -999.0,9, 20130516,      432,       30,-154.8755,    35.1925,2,     -999.0,9,     -999.0,9,    20.6781,2,     -999.0,9,     -999.0,9,-999.0000, -999.00,-999.000
318M20130321,       P02E,      99,          1,         34,         34,2,20130516,       0212,    30.0004,  -154.8757,       5640,    49.9,  20.5641,  35.0218,2,  35.0234,2,    228.7,2,   227.1,2,    1.85,2,       0,2,       0,2,       0,2,   1.961,2,   1.192,2,-999.000,5,   1.4428,2,    2019,2, 2301.12,2,   8.0097,6,       25,-999.000,9,-999.0000,9, -999.00,9,    0.69,2,    46.8,2,     2.6,-999.000,9,-999.000,     -999.0,9, -999.00,9,   65.03,2,    4.43,2,     -999.0,9,  -999.0,9, 20130516,      428,  29.9999,-154.8755,    35.1886,2,     -999.0,9,     -999.0,9,    20.5649,2,     -999.0,9,     -999.0,9,-999.0000, -999.00,-999.000
318M20130321,       P02E,      99,          1,         33,         33,2,20130516,       0212,    30.0004,  -154.8757,       5640,    74.3,  19.5886,  35.0034,2,  35.0065,2,    233.6,2,   231.9,2,    2.15,2,       0,2,       0,2,       0,2,   2.010,2,   1.237,2,-999.000,5,   1.4676,2,    2020,2, 2298.82,6,   8.0069,2,       25,-999.000,9,-999.0000,9, -999.00,9,    0.72,2,    46.3,2,     2.7,-999.000,9,-999.000,     -999.0,9, -999.00,9,   65.22,2,    3.97,2,     -999.0,9,  -999.0,9, 20130516,      426,  29.9998,-154.8756,    35.1716,2,     -999.0,9,     -999.0,9,    19.5925,2,     -999.0,9,     -999.0,9,-999.0000, -999.00,-999.000
318M20130321,       P02E,      99,          1,         32,         32,2,20130516,       0212,    30.0004,  -154.8757,       5640,    99.5,   19.312,  34.9986,2,  35.0016,2,      231,2,   230.3,2,    2.05,2,       0,2,       0,2,       0,2,   2.031,2,   1.229,2,-999.000,5,   1.4342,2,  -999.0,9, -999.00,9,-999.0000,9,  -999.00,-999.000,9,-999.0000,9, -999.00,9, -999.00,9,  -999.0,9,  -999.0,-999.000,9,-999.000,     -999.0,9, -999.00,9,   63.78,2,    4.09,2,     -999.0,9,  -999.0,9, 20130516,      424,  29.9999,-154.8755,    35.1666,2,     -999.0,9,     -999.0,9,    19.3094,2,     -999.0,9,     -999.0,9,-999.0000, -999.00,-999.000
318M20130321,       P02E,      99,          1,         31,         31,2,20130516,       0212,    30.0004,  -154.8757,       5640,   150.4,  18.6268,  34.8804,2,  34.8894,2,    229.2,2,   227.1,2,    2.44,2,       0,2,    0.04,2,    0.02,2,   2.108,6,   1.270,6,-999.000,5,   1.4925,6,  2026.3,2, 2292.51,2,   7.9861,2,       25,-999.000,9,-999.0000,9, -999.00,9,    0.77,2,    38.6,2,     2.7,-999.000,9,-999.000,     -999.0,9, -999.00,9,   63.41,2,    3.82,2,     -999.0,9,  -999.0,9, 20130516,      422,  29.9999,-154.8755,     35.054,2,     -999.0,9,     -999.0,9,    18.5715,3,     -999.0,9,     -999.0,9,-999.0000, -999.00,-999.000
318M20130321,       P02E,      99,          1,         30,         30,2,20130516,       0212,    30.0004,  -154.8757,       5640,   200.7,  14.2324,  34.3173,2,   34.316,2,    218.8,2,   220.1,2,    6.15,2,    5.49,2,    0.02,2,    0.41,2,   2.648,2,   1.536,2,-999.000,5,   1.6229,2,  -999.0,9, -999.00,9,-999.0000,9,  -999.00,-999.000,9,-999.0000,9, -999.00,9, -999.00,9,  -999.0,9,  -999.0,-999.000,9,-999.000,     -999.0,9, -999.00,9,   52.93,2,    8.67,2,     -999.0,9,  -999.0,9, 20130516,      420,  29.9999,-154.8755,    34.4779,2,     -999.0,9,     -999.0,9,    14.2132,2,     -999.0,9,     -999.0,9,-999.0000, -999.00,-999.000
318M20130321,       P02E,      99,          1,         29,         29,2,20130516,       0212,    30.0004,  -154.8757,       5640,   250.1,  12.9631,  34.2914,2,  34.2941,2,    216.5,2,   215.7,2,    9.08,2,    8.92,2,    0.01,2,    0.62,2,   2.791,2,   1.598,2,-999.000,5,   1.5525,2,  2071.7,2,  2257.2,2,   7.8355,6,       25,-999.000,9,-999.0000,9, -999.00,9,    0.40,2,    46.7,2,     2.7,-999.000,9,-999.000,     -999.0,9, -999.00,9,   48.39,2,   12.92,2,     -999.0,9,  -999.0,9, 20130516,      418,  29.9999,-154.8755,    34.4558,2,     -999.0,9,     -999.0,9,    12.9469,2,     -999.0,9,     -999.0,9,-999.0000, -999.00,-999.000
318M20130321,       P02E,      99,          1,         28,         28,2,20130516,       0212,    30.0004,  -154.8757,       5640,     301,  11.5437,   34.211,2,  34.2111,2,    216.5,2,   216.6,2,    12.5,2,   11.77,2,    0.01,2,    0.82,2,   3.017,2,   1.693,2,-999.000,5,   1.5548,2,  2088.6,2,  2256.7,2,   7.7946,2,       25,-999.000,9,-999.0000,9, -999.00,9,    0.21,2,    39.3,2,     2.7,-999.000,9,-999.000,     -999.0,9, -999.00,9,   46.96,2,   15.51,2,     -999.0,9,  -999.0,9, 20130516,      415,       30,-154.8756,    34.3724,2,     -999.0,9,     -999.0,9,    11.5561,2,     -999.0,9,     -999.0,9,-999.0000, -999.00,-999.000
318M20130321,       P02E,      99,          1,         27,         27,2,20130516,       0212,    30.0004,  -154.8757,       5640,   350.7,  10.8078,  34.1814,2,  34.1823,2,    213.4,2,   214.2,2,   15.13,2,   13.47,2,    0.01,2,    0.95,2,   3.075,2,   1.709,2,-999.000,5,   1.4176,2,  -999.0,9, -999.00,9,-999.0000,9,  -999.00,-999.000,9,-999.0000,9, -999.00,9,    0.22,2,    38.3,2,     3.1,-999.000,9,-999.000,     -999.0,9, -999.00,9,   48.29,2, -999.00,9,     -999.0,9,  -999.0,9, 20130516,      413,  30.0001,-154.8756,    34.3435,2,     -999.0,9,     -999.0,9,    10.8055,2,     -999.0,9,     -999.0,9,-999.0000, -999.00,-999.000
318M20130321,       P02E,      99,          1,         26,         26,2,20130516,       0212,    30.0004,  -154.8757,       5640,     401,   9.7551,  34.1239,2,  34.1239,2,    203.2,2,   203.3,2,    20.8,2,   16.75,2,    0.01,2,    1.17,2,   3.142,2,   1.700,2,-999.000,5,   1.2668,2,  2120.4,2,  2260.3,2,   7.7282,2,       25,-999.000,9,-999.0000,9, -999.00,9,    0.14,2,    21.2,2,     2.5,-999.000,9,-999.000,     -999.0,9, -999.00,9,   45.87,2, -999.00,9,     -999.0,9,  -999.0,9, 20130516,      411,       30,-154.8757,    34.2848,2,     -999.0,9,     -999.0,9,     9.7674,2,     -999.0,9,     -999.0,9,-999.0000, -999.00,-999.000
318M20130321,       P02E,      99,          1,         25,         25,2,20130516,       0212,    30.0004,  -154.8757,       5640,     502,   7.7237,  34.0232,2,  34.0259,2,    163.8,2,   163.4,2,   37.79,2,   24.44,2,    0.01,2,    1.72,2,   2.854,2,   1.477,2,-999.000,5,   0.8187,2,  2174.7,2, 2269.31,2,   7.6061,2,       25,-999.000,9,-999.0000,9, -999.00,9,   -0.03,2,   -10.9,2,     2.4,-999.000,9,-999.000,     -999.0,9, -999.00,9,   42.91,2, -999.00,9,     -999.0,9,  -999.0,9, 20130516,      408,  29.9999,-154.8756,    34.1863,2,     -999.0,9,     -999.0,9,     7.7229,2,     -999.0,9,     -999.0,9,-999.0000, -999.00,-999.000
318M20130321,       P02E,      99,          1,         24,         24,2,20130516,       0212,    30.0004,  -154.8757,       5640,   602.9,    5.942,  33.9999,2,  33.9973,2,    104.3,2,   103.3,2,   63.09,2,   33.42,2,    0.01,2,    2.39,2,   1.926,2,   0.945,2,-999.000,5,   0.3714,2,  2244.2,2, 2287.51,2,   7.4497,2,       25,-999.000,9,-999.0000,9, -999.00,9,   -0.42,2,   -59.0,2,     2.5,-999.000,9,-999.000,     -999.0,9, -999.00,9,   41.43,2, -999.00,9,     -999.0,9,  -999.0,9, 20130516,      405,       30,-154.8757,    34.1576,2,     -999.0,9,     -999.0,9,     5.9455,2,     -999.0,9,     -999.0,9,-999.0000, -999.00,-999.000
318M20130321,       P02E,      99,          1,         23,         23,2,20130516,       0212,    30.0004,  -154.8757,       5640,   704.1,   4.8832,  34.0663,2,  34.0671,2,       58,2,    58.7,2,   83.98,2,   38.93,2,    0.01,2,    2.82,2,   0.960,2,   0.458,2,-999.000,5,   0.1628,2,  2292.9,2, 2307.22,2,   7.3497,2,       25,-999.000,9,-999.0000,9, -999.00,9,   -0.43,2,  -121.2,2,     2.3,-999.000,9,-999.000,     -999.0,9, -999.00,9,   38.65,2, -999.00,9,     -999.0,9,  -999.0,9, 20130516,      402,       30,-154.8759,    34.2277,2,     -999.0,9,     -999.0,9,     4.8828,2,     -999.0,9,     -999.0,9,-999.0000, -999.00,-999.000
318M20130321,       P02E,      99,          1,         22,         22,2,20130516,       0212,    30.0004,  -154.8757,       5640,   805.5,   4.3581,  34.1795,2,  34.1835,2,     24.3,2,    25.1,2,  102.23,2,   42.27,2,    0.01,2,    3.09,2,   0.252,2,   0.126,2,-999.000,5,   0.0365,2,  2332.8,2, 2328.63,2,   7.2944,2,       25,-999.000,9,-999.0000,9, -999.00,9,   -0.57,2,  -161.2,2,     2.2,-999.000,9,-999.000,     -999.0,9, -999.00,9,   39.73,2, -999.00,9,     -999.0,9,  -999.0,9, 20130516,      359,  29.9999,-154.8756,    34.3447,2,     -999.0,9,     -999.0,9,     4.3602,2,     -999.0,9,     -999.0,9,-999.0000, -999.00,-999.000
318M20130321,       P02E,      99,          1,         21,         21,2,20130516,       0212,    30.0004,  -154.8757,       5640,   907.4,   3.9937,  34.2781,2,   34.278,2,     13.2,2,    14.5,2,  114.33,2,   43.44,2,    0.01,2,    3.22,2,   0.056,2,   0.031,2,-999.000,5,        0,2,  2352.1,2, 2344.83,2,   7.2857,2,       25,-999.000,9,-999.0000,9, -999.00,9,   -0.57,2,  -188.5,2,     2.9,-999.000,9,-999.000,     -999.0,9, -999.00,9,   39.67,2, -999.00,9,     -999.0,9,  -999.0,9, 20130516,      356,       30,-154.8757,    34.4397,2,     -999.0,9,     -999.0,9,     3.9941,2,     -999.0,9,     -999.0,9,-999.0000, -999.00,-999.000
318M20130321,       P02E,      99,          1,         20,         20,2,20130516,       0212,    30.0004,  -154.8757,       5640,  1008.6,   3.7303,  34.3591,2,  34.3614,2,     14.8,2,    14.1,2,  123.21,2,   43.75,2,       0,2,    3.23,2,   0.020,2,   0.012,2,-999.000,5,        0,2,  2362.5,2, 2360.34,2,   7.2963,2,       25,-999.000,9,-999.0000,9, -999.00,9,   -0.55,2,  -208.1,2,     2.0,-999.000,9,-999.000,     -999.0,9, -999.00,9,   37.75,2, -999.00,9,     -999.0,9,  -999.0,9, 20130516,      353,       30,-154.8757,    34.5234,2,     -999.0,9,     -999.0,9,     3.7328,2,     -999.0,9,     -999.0,9,-999.0000, -999.00,-999.000
318M20130321,       P02E,      99,          1,         19,         19,2,20130516,       0212,    30.0004,  -154.8757,       5640,  1110.7,    3.509,  34.4205,2,  34.4225,2,     21.2,2,    20.4,2,  129.16,2,   43.66,2,       0,2,     3.2,2,   0.008,2,   0.008,2,-999.000,5,        0,2,  2367.5,2, 2370.34,2,   7.3158,2,       25,-999.000,9,-999.0000,9, -999.00,9, -999.00,5,  -999.0,5,  -999.0,-999.000,9,-999.000,     -999.0,9, -999.00,9,   39.71,2, -999.00,9,     -999.0,9,  -999.0,9, 20130516,      350,  29.9999,-154.8758,    34.5848,2,     -999.0,9,     -999.0,9,     3.5078,2,     -999.0,9,     -999.0,9,-999.0000, -999.00,-999.000
318M20130321,       P02E,      99,          1,         18,         18,2,20130516,       0212,    30.0004,  -154.8757,       5640,  1209.5,   3.3036,  34.4659,2,  34.4668,2,     29.4,2,      29,2,  133.55,2,   43.27,2,       0,2,    3.17,2,   0.009,2,   0.005,2,-999.000,5,   0.0662,2,  -999.0,9, -999.00,9,-999.0000,9,  -999.00,-999.000,9,-999.0000,9, -999.00,9,   -0.44,2,  -229.9,2,     1.9,-999.000,9,-999.000,     -999.0,9, -999.00,9,   42.08,3, -999.00,9,     -999.0,9,  -999.0,9, 20130516,      347,  29.9999,-154.8759,    34.6294,2,     -999.0,9,     -999.0,9,      3.303,2,     -999.0,9,     -999.0,9,-999.0000, -999.00,-999.000
318M20130321,       P02E,      99,          1,         17,         17,2,20130516,       0212,    30.0004,  -154.8757,       5640,  1413.7,   2.8821,   34.527,2,  34.5291,2,     47.1,2,    47.3,2,  142.33,2,    42.3,2,       0,2,    3.07,2,   0.005,2,   0.003,2,-999.000,5,        0,2,  2369.7,6, 2392.45,2,   7.3771,2,       25,-999.000,9,-999.0000,9, -999.00,9,   -0.34,2,  -231.0,2,     2.4,-999.000,9,-999.000,     -999.0,9, -999.00,9,   37.51,2, -999.00,9,     -999.0,9,  -999.0,9, 20130516,      342,  30.0001,-154.8754,    34.6919,2,     -999.0,9,     -999.0,9,     2.8825,2,     -999.0,9,     -999.0,9,-999.0000, -999.00,-999.000
318M20130321,       P02E,      99,          1,         16,         16,2,20130516,       0212,    30.0004,  -154.8757,       5640,  1616.2,   2.5193,  34.5671,2,  34.5686,2,     61.7,2,    62.6,2,  149.64,2,   41.49,2,       0,2,    3.01,2,   0.005,2,   0.004,2,-999.000,5,        0,2,  2367.7,2, 2403.85,2,   7.4073,6,       25,-999.000,9,-999.0000,9, -999.00,9,   -0.28,2,  -241.9,2,     2.4,-999.000,9,-999.000,     -999.0,9, -999.00,9,    38.6,2, -999.00,9,     -999.0,9,  -999.0,9, 20130516,      338,  30.0001,-154.8755,    34.7316,2,     -999.0,9,     -999.0,9,     2.5201,2,     -999.0,9,     -999.0,9,-999.0000, -999.00,-999.000
318M20130321,       P02E,      99,          1,         15,         15,2,20130516,       0212,    30.0004,  -154.8757,       5640,    1818,   2.2565,  34.5916,2,  34.5935,2,     71.6,2,    72.4,2,  155.89,2,   40.94,2,       0,2,    2.97,2,   0.004,2,   0.002,2,-999.000,5,        0,2,  -999.0,9, -999.00,9,-999.0000,9,  -999.00,-999.000,9,-999.0000,9, -999.00,9,   -0.23,2,  -241.4,2,     2.0,-999.000,9,-999.000,     -999.0,9, -999.00,9, -999.00,5, -999.00,9,     -999.0,9,  -999.0,9, 20130516,      333,       30,-154.8756,    34.7566,2,     -999.0,9,     -999.0,9,     2.2558,2,     -999.0,9,     -999.0,9,-999.0000, -999.00,-999.000
318M20130321,       P02E,      99,          1,         14,         14,2,20130516,       0212,    30.0004,  -154.8757,       5640,  2021.9,   2.0492,  34.6122,2,   34.614,2,     80.2,2,    80.4,2,  161.45,2,   40.45,2,       0,2,     2.9,2,   0.006,2,   0.003,2,-999.000,5,        0,2,  -999.0,9, -999.00,9,-999.0000,9,  -999.00,-999.000,9,-999.0000,9, -999.00,9, -999.00,5,  -999.0,5,  -999.0,-999.000,9,-999.000,     -999.0,9, -999.00,9,   38.66,2, -999.00,9,     -999.0,9,  -999.0,9, 20130516,      328,  30.0002,-154.8754,    34.7772,2,     -999.0,9,     -999.0,9,     2.0486,2,     -999.0,9,     -999.0,9,-999.0000, -999.00,-999.000
318M20130321,       P02E,      99,          1,         13,         13,2,20130516,       0212,    30.0004,  -154.8757,       5640,  2275.1,   1.8678,  34.6298,2,   34.631,2,     90.4,2,    89.7,2,  165.84,2,   39.89,2,       0,2,    2.87,2,   0.004,2,   0.002,2,-999.000,5,        0,2,  2365.1,2, 2418.76,2,   7.4613,2,       25,-999.000,9,-999.0000,9, -999.00,9,   -0.18,2,  -241.9,2,     1.9,-999.000,9,-999.000,     -999.0,9, -999.00,9,   36.12,2, -999.00,9,     -999.0,9,  -999.0,9, 20130516,      323,  30.0003,-154.8751,    34.7943,2,     -999.0,9,     -999.0,9,      1.868,2,     -999.0,9,     -999.0,9,-999.0000, -999.00,-999.000
318M20130321,       P02E,      99,          1,         12,         12,2,20130516,       0212,    30.0004,  -154.8757,       5640,  2531.7,   1.7305,  34.6448,2,  34.6466,2,    101.4,2,   101.6,2,   167.6,2,   39.16,2,       0,2,     2.8,2,   0.004,2,   0.003,2,-999.000,5,        0,2,  -999.0,9, -999.00,9,-999.0000,9,  -999.00,-999.000,9,-999.0000,9, -999.00,9,   -0.15,2,  -241.0,2,     2.1,-999.000,9,-999.000,     -999.0,9, -999.00,9, -999.00,9, -999.00,9,     -999.0,9,  -999.0,9, 20130516,      317,  30.0004,-154.8749,    34.8099,2,     -999.0,9,     -999.0,9,     1.7304,2,     -999.0,9,     -999.0,9,-999.0000, -999.00,-999.000
318M20130321,       P02E,      99,          1,         11,         11,2,20130516,       0212,    30.0004,  -154.8757,       5640,  2784.6,   1.6462,  34.6551,2,  34.6568,2,    110.8,2,   110.2,2,   167.4,2,   38.61,2,       0,2,    2.76,2,   0.003,2,   0.001,2,-999.000,5,        0,2,  2355.4,2, 2424.46,2,   7.5001,2,       25,-999.000,9,-999.0000,9, -999.00,9,    0.26,3,  -257.8,2,     2.3,-999.000,9,-999.000,     -999.0,9, -999.00,9,   36.92,2, -999.00,9,     -999.0,9,  -999.0,9, 20130516,      312,  30.0004,-154.8748,    34.8202,2,     -999.0,9,     -999.0,9,     1.6459,2,     -999.0,9,     -999.0,9,-999.0000, -999.00,-999.000
318M20130321,       P02E,      99,          1,         10,         10,2,20130516,       0212,    30.0004,  -154.8757,       5640,  3038.2,    1.569,  34.6652,2,  34.6666,2,      121,2,   121.1,2,  165.64,2,   37.91,2,       0,2,     2.7,2,   0.010,2,   0.006,2,-999.000,5,        0,2,  -999.0,9, -999.00,9,-999.0000,9,  -999.00,-999.000,9,-999.0000,9, -999.00,9,   -0.04,2,  -241.0,2,     2.6,-999.000,9,-999.000,     -999.0,9, -999.00,9, -999.00,9, -999.00,9,     -999.0,9,  -999.0,9, 20130516,      306,  30.0002,-154.8746,    34.8301,2,     -999.0,9,     -999.0,9,     1.5689,2,     -999.0,9,     -999.0,9,-999.0000, -999.00,-999.000
318M20130321,       P02E,      99,          1,          9,          9,2,20130516,       0212,    30.0004,  -154.8757,       5640,  3345.8,   1.5259,  34.6728,2,  34.6745,2,    129.2,2,   129.8,2,  163.39,2,   37.37,2,       0,2,    2.65,2,   0.006,2,   0.005,2,-999.000,5,        0,2,  2343.4,2, 2425.36,2,   7.5344,2,       25,-999.000,9,-999.0000,9, -999.00,9,   -0.01,2,  -238.2,2,     1.9,-999.000,9,-999.000,     -999.0,9, -999.00,9,   35.56,2, -999.00,9,     -999.0,9,  -999.0,9, 20130516,      300,  30.0002,-154.8755,     34.838,2,     -999.0,9,     -999.0,9,     1.5258,2,     -999.0,9,     -999.0,9,-999.0000, -999.00,-999.000
318M20130321,       P02E,      99,          1,          8,          8,2,20130516,       0212,    30.0004,  -154.8757,       5640,  3652.5,   1.5023,  34.6785,2,  34.6792,2,    136.9,2,   136.9,2,  161.25,2,   36.97,2,       0,2,    2.62,2,   0.005,2,   0.004,2,-999.000,5,        0,2,  -999.0,9, -999.00,9,-999.0000,9,  -999.00,-999.000,9,-999.0000,9, -999.00,9,    0.05,2,  -234.4,2,     1.9,-999.000,9,-999.000,     -999.0,9, -999.00,9, -999.00,9, -999.00,9,     -999.0,9,  -999.0,9, 20130516,      254,  30.0002,-154.8758,    34.8427,2,     -999.0,9,     -999.0,9,     1.5026,2,     -999.0,9,     -999.0,9,-999.0000, -999.00,-999.000
318M20130321,       P02E,      99,          1,          7,          7,2,20130516,       0212,    30.0004,  -154.8757,       5640,  4062.4,   1.4919,  34.6833,2,  34.6837,2,      144,2,   144.2,2,  158.61,2,   36.49,2,       0,2,    2.58,2,   0.004,2,   0.004,2,-999.000,5,        0,2,    2334,2, 2424.66,6,   7.5619,2,       25,-999.000,9,-999.0000,9, -999.00,9,    0.09,2,  -226.6,2,     2.0,-999.000,9,-999.000,     -999.0,9, -999.00,9,   34.41,2, -999.00,9,     -999.0,9,  -999.0,9, 20130516,      245,       30,-154.8754,    34.8473,2,     -999.0,9,     -999.0,9,     1.4921,2,     -999.0,9,     -999.0,9,-999.0000, -999.00,-999.000