BOTTLE,20220817CCHSIOAMB
EXPOCODE,SECT_ID,STNNBR,CASTNO,SAMPNO,BTLNBR,BTLNBR_FLAG_W,DATE,TIME,LATITUDE,LONGITUDE,DEPTH,CTDPRS,CTDTMP,CTDSAL,CTDSAL_FLAG_W,SALNTY,SALNTY_FLAG_W,CTDOXY,CTDOXY_FLAG_W,OXYGEN,OXYGEN_FLAG_W,SILCAT,SILCAT_FLAG_W,NITRAT,NITRAT_FLAG_W,NITRIT,NITRIT_FLAG_W,PHSPHT,PHSPHT_FLAG_W,CFC-11,CFC-11_FLAG_W,CFC-12,CFC-12_FLAG_W,CFC113,CFC113_FLAG_W,SF6,SF6_FLAG_W,TCARBN,TCARBN_FLAG_W,ALKALI,ALKALI_FLAG_W,PH_TOT,PH_TOT_FLAG_W,PH_TMP,TRITUM,TRITUM_FLAG_W,HELIUM,HELIUM_FLAG_W,DELHE3,DELHE3_FLAG_W,DELC13,DELC13_FLAG_W,DELC14,DELC14_FLAG_W,C14ERR,NEON,NEON_FLAG_W,NEONER,I-129,I-129_FLAG_W,SR-90,SR-90_FLAG_W,DOC,DOC_FLAG_W,TDN,TDN_FLAG_W,CALCIUM,CALCIUM_FLAG_W,D15N_NO3,D15N_NO3_FLAG_W,BTL_DATE,BTL_TIME,BTL_LAT,BTL_LON,SALTREF,SALTREF_FLAG_W,CS-137,CS-137_FLAG_W,CS-134,CS-134_FLAG_W,REFTMP,REFTMP_FLAG_W,LAB_DEN,LAB_DEN_FLAG_W,D18O_NO3,D18O_NO3_FLAG_W,HELIER,DELHER,TRITER
,,,,,,,,,,,METERS,DBAR,ITS-90,PSS-78,,PSS-78,,UMOL/KG,,UMOL/KG,,UMOL/KG,,UMOL/KG,,UMOL/KG,,UMOL/KG,,PMOL/KG,,PMOL/KG,,PMOL/KG,,FMOL/KG,,UMOL/KG,,UMOL/KG,,,,DEG C,TU,,NMOL/KG,,PERCNT,,/MILLE,,/MILLE,,/MILLE,NMOL/KG,,NMOL/KG,BQ/M^3,,DM/.1MG,,UMOL/KG,,UMOL/KG,,MMOL/KG,,/MILLE,,,,,,G/KG,,BQ/M^3,,BQ/M^3,,ITS-90,,,,/MILLE,,NMOL/KG,PERCNT,TU
318M20130321,       P02W,      73,          1,          6,          6,2,20130428,       0525,    29.9996,   179.0847,       4499,  3240.4,   1.4832,  34.6722,2,  34.6726,2,    134.5,2,   134.7,2,  157.83,2,   37.18,2,       0,2,    2.62,2,   0.000,2,   0.010,2,   0.009,2,     0.06,2,  -999.0,9, -999.00,9,-999.0000,9,  -999.00,-999.000,9,-999.0000,9, -999.00,9, -999.00,9,  -999.0,9,  -999.0,-999.000,9,-999.000,     -999.0,9, -999.00,9,   35.01,2, -999.00,9,     -999.0,9,  -999.0,9, 20130428,      554,  29.9999, 179.0847,    34.8361,2,     -999.0,9,     -999.0,9,     1.4834,2,     -999.0,9,     -999.0,9,-999.0000, -999.00,-999.000
318M20130321,       P02W,      73,          1,          5,         37,2,20130428,       0525,    29.9996,   179.0847,       4499,    3545,   1.4653,  34.6777,2,  34.6787,2,    141.6,2,   141.2,2,  156.66,2,   36.78,2,       0,2,    2.59,2,-999.000,9,-999.000,9,-999.000,9,-999.0000,9,  2333.3,2, 2416.96,2,   7.5521,2,       25,-999.000,9,-999.0000,9, -999.00,9, -999.00,9,  -999.0,9,  -999.0,-999.000,9,-999.000,     -999.0,9, -999.00,9,    34.1,2, -999.00,9,     -999.0,9,  -999.0,9, 20130428,      548,  30.0001,  179.085,    34.8422,2,     -999.0,9,     -999.0,9,     1.4655,2,     -999.0,9,     -999.0,9,-999.0000, -999.00,-999.000
318M20130321,       P02W,      73,          1,          4,          4,2,20130428,       0525,    29.9996,   179.0847,       4499,  3854.1,   1.4586,  34.6818,2,  34.6828,2,    147.3,2,   147.1,2,   154.9,2,   36.46,2,       0,2,    2.55,2,   0.000,2,   0.007,2,   0.001,2,     0.08,2,  -999.0,9, -999.00,9,-999.0000,9,  -999.00,-999.000,9,-999.0000,9, -999.00,9, -999.00,9,  -999.0,9,  -999.0,-999.000,9,-999.000,     -999.0,9, -999.00,9,   35.34,2, -999.00,9,     -999.0,9,  -999.0,9, 20130428,      542,  29.9999,  179.085,    34.8464,2,     -999.0,9,     -999.0,9,     1.4584,2,     -999.0,9,     -999.0,9,-999.0000, -999.00,-999.000
318M20130321,       P02W,      73,          1,          3,          3,2,20130428,       0525,    29.9996,   179.0847,       4499,  4163.1,    1.453,  34.6859,2,  34.6867,2,    151.9,2,   152.2,2,  152.56,2,   36.09,2,       0,2,    2.51,2,   0.000,2,   0.006,2,   0.011,2,     0.03,2,    2323,2, 2416.96,6,   7.5717,2,       25,-999.000,9,-999.0000,9, -999.00,9, -999.00,9,  -999.0,9,  -999.0,-999.000,9,-999.000,     -999.0,9, -999.00,9,   35.17,2, -999.00,9,     -999.0,9,  -999.0,9, 20130428,      535,  29.9999,  179.085,    34.8503,2,     -999.0,9,     -999.0,9,     1.4527,2,     -999.0,9,     -999.0,9,-999.0000, -999.00,-999.000
318M20130321,       P02W,      73,          1,          2,          2,2,20130428,       0525,    29.9996,   179.0847,       4499,    4374,   1.4577,  34.6879,2,  34.6893,2,    155.5,2,     156,2,  150.41,2,   35.88,2,       0,2,     2.5,2,   0.002,2,   0.010,2,   0.000,2,     0.09,2,  2322.9,6, 2414.96,2,   7.5749,2,       25,-999.000,9,-999.0000,9, -999.00,9, -999.00,9,  -999.0,9,  -999.0,-999.000,9,-999.000,     -999.0,9, -999.00,9,   36.25,2, -999.00,9,     -999.0,9,  -999.0,9, 20130428,      530,  29.9998,  179.085,    34.8529,2,     -999.0,9,     -999.0,9,     1.4574,2,     -999.0,9,     -999.0,9,-999.0000, -999.00,-999.000
318M20130321,       P02W,      73,          1,          1,          1,2,20130428,       0525,    29.9996,   179.0847,       4499,  4568.1,   1.4665,  34.6891,2,  34.6907,2,    158.5,2,   158.6,2,  148.46,2,   35.68,2,       0,2,    2.49,2,   0.008,2,   0.011,2,   0.000,2,     0.07,2,  2320.6,2, 2414.76,2,   7.5788,2,       25,-999.000,9,-999.0000,9, -999.00,9, -999.00,9,  -999.0,9,  -999.0,-999.000,9,-999.000,     -999.0,9, -999.00,9,   36.36,2, -999.00,9,     -999.0,9,  -999.0,9, 20130428,      526,  29.9996, 179.0848,    34.8542,2,     -999.0,9,     -999.0,9,     1.4661,2,     -999.0,9,     -999.0,9,-999.0000, -999.00,-999.000