BOTTLE,20220817CCHSIOAMB
EXPOCODE,SECT_ID,STNNBR,CASTNO,SAMPNO,BTLNBR,BTLNBR_FLAG_W,DATE,TIME,LATITUDE,LONGITUDE,DEPTH,CTDPRS,CTDTMP,CTDSAL,CTDSAL_FLAG_W,SALNTY,SALNTY_FLAG_W,CTDOXY,CTDOXY_FLAG_W,OXYGEN,OXYGEN_FLAG_W,SILCAT,SILCAT_FLAG_W,NITRAT,NITRAT_FLAG_W,NITRIT,NITRIT_FLAG_W,PHSPHT,PHSPHT_FLAG_W,CFC-11,CFC-11_FLAG_W,CFC-12,CFC-12_FLAG_W,CFC113,CFC113_FLAG_W,SF6,SF6_FLAG_W,TCARBN,TCARBN_FLAG_W,ALKALI,ALKALI_FLAG_W,PH_TOT,PH_TOT_FLAG_W,PH_TMP,TRITUM,TRITUM_FLAG_W,HELIUM,HELIUM_FLAG_W,DELHE3,DELHE3_FLAG_W,DELC13,DELC13_FLAG_W,DELC14,DELC14_FLAG_W,C14ERR,NEON,NEON_FLAG_W,NEONER,I-129,I-129_FLAG_W,SR-90,SR-90_FLAG_W,DOC,DOC_FLAG_W,TDN,TDN_FLAG_W,CALCIUM,CALCIUM_FLAG_W,D15N_NO3,D15N_NO3_FLAG_W,BTL_DATE,BTL_TIME,BTL_LAT,BTL_LON,SALTREF,SALTREF_FLAG_W,CS-137,CS-137_FLAG_W,CS-134,CS-134_FLAG_W,REFTMP,REFTMP_FLAG_W,LAB_DEN,LAB_DEN_FLAG_W,D18O_NO3,D18O_NO3_FLAG_W,HELIER,DELHER,TRITER
,,,,,,,,,,,METERS,DBAR,ITS-90,PSS-78,,PSS-78,,UMOL/KG,,UMOL/KG,,UMOL/KG,,UMOL/KG,,UMOL/KG,,UMOL/KG,,PMOL/KG,,PMOL/KG,,PMOL/KG,,FMOL/KG,,UMOL/KG,,UMOL/KG,,,,DEG C,TU,,NMOL/KG,,PERCNT,,/MILLE,,/MILLE,,/MILLE,NMOL/KG,,NMOL/KG,BQ/M^3,,DM/.1MG,,UMOL/KG,,UMOL/KG,,MMOL/KG,,/MILLE,,,,,,G/KG,,BQ/M^3,,BQ/M^3,,ITS-90,,,,/MILLE,,NMOL/KG,PERCNT,TU
318M20130321,       P02W,      39,          1,          7,          7,2,20130416,       1733,    30.0002,   152.4118,       5953,  3789.2,   1.4732,  34.6808,2,  34.6802,2,    147.3,2,   147.6,2,  148.95,2,   36.25,2,       0,2,    2.51,2,-999.000,9,-999.000,9,-999.000,9,-999.0000,9,    2327,2, 2414.26,2,   7.5607,2,       25,-999.000,9,-999.0000,9, -999.00,9,    0.14,2,  -228.7,2,     1.8,-999.000,9,-999.000,     -999.0,9, -999.00,9,   34.23,2, -999.00,9,     -999.0,9,  -999.0,9, 20130416,     1834,  29.9996, 152.4114,    34.8437,2,     -999.0,9,     -999.0,9,     1.4735,2,     -999.0,9,     -999.0,9,-999.0000, -999.00,-999.000
318M20130321,       P02W,      39,          1,          6,          6,2,20130416,       1733,    30.0002,   152.4118,       5953,  4201.6,   1.4663,  34.6857,2,  34.6853,2,    154.3,2,   153.9,2,  147.48,2,   35.79,2,       0,2,    2.47,2,-999.000,9,-999.000,9,-999.000,9,-999.0000,9,  2322.3,2, 2411.56,2,   7.5704,2,       25,-999.000,9,-999.0000,9, -999.00,9,    0.18,2,  -222.4,2,     2.0,-999.000,9,-999.000,     -999.0,9, -999.00,9, -999.00,9, -999.00,9,     -999.0,9,  -999.0,9, 20130416,     1826,  30.0006, 152.4109,    34.8489,2,     -999.0,9,     -999.0,9,     1.4663,2,     -999.0,9,     -999.0,9,-999.0000, -999.00,-999.000
318M20130321,       P02W,      39,          1,          5,         37,2,20130416,       1733,    30.0002,   152.4118,       5953,  4603.9,   1.4754,  34.6894,2,  34.6889,2,    157.6,2,   158.8,2,  145.43,2,   35.44,2,       0,2,    2.45,2,   0.001,2,   0.006,2,   0.006,2,        0,2,  2317.3,2, 2411.56,2,   7.5773,2,       25,-999.000,9,-999.0000,9, -999.00,9,    0.23,2,  -214.7,2,     2.5,-999.000,9,-999.000,     -999.0,9, -999.00,9,   35.49,2, -999.00,9,     -999.0,9,  -999.0,9, 20130416,     1817,  29.9998, 152.4089,    34.8524,2,     -999.0,9,     -999.0,9,     1.4754,2,     -999.0,9,     -999.0,9,-999.0000, -999.00,-999.000
318M20130321,       P02W,      39,          1,          4,          4,2,20130416,       1733,    30.0002,   152.4118,       5953,  5016.5,   1.4921,  34.6926,2,  34.6922,2,    165.3,2,   165.6,2,  140.65,2,   35.01,2,       0,2,    2.41,2,-999.000,9,-999.000,9,-999.000,9,-999.0000,9,  2311.3,2, 2406.25,2,   7.5848,2,       25,-999.000,9,-999.0000,9, -999.00,9,    0.23,2,  -206.2,2,     2.0,-999.000,9,-999.000,     -999.0,9, -999.00,9, -999.00,9, -999.00,9,     -999.0,9,  -999.0,9, 20130416,     1809,  29.9993, 152.4096,    34.8558,2,     -999.0,9,     -999.0,9,     1.4925,2,     -999.0,9,     -999.0,9,-999.0000, -999.00,-999.000
318M20130321,       P02W,      39,          1,          3,          3,2,20130416,       1733,    30.0002,   152.4118,       5953,  5434.3,   1.5252,  34.6944,2,  34.6938,2,    169.5,2,   168.2,2,  138.11,2,   34.66,2,       0,2,    2.39,2,   0.001,2,   0.008,2,   0.006,2,     0.03,2,  2306.7,2, 2404.45,6,   7.5882,2,       25,-999.000,9,-999.0000,9, -999.00,9,    0.24,2,  -203.4,2,     2.0,-999.000,9,-999.000,     -999.0,9, -999.00,9,   35.26,2, -999.00,9,     -999.0,9,  -999.0,9, 20130416,     1800,  29.9999, 152.4106,    34.8574,2,     -999.0,9,     -999.0,9,     1.5252,2,     -999.0,9,     -999.0,9,-999.0000, -999.00,-999.000
318M20130321,       P02W,      39,          1,          2,          2,2,20130416,       1733,    30.0002,   152.4118,       5953,  5743.3,   1.5572,  34.6949,2,   34.695,2,    169.3,2,   169.6,2,  137.04,2,   34.64,2,       0,2,    2.39,2,   0.001,2,   0.009,2,   0.000,2,        0,2,  2305.1,2, 2404.15,2,   7.5898,6,       25,-999.000,9,-999.0000,9, -999.00,9,    0.27,2,  -209.6,2,     1.8,-999.000,9,-999.000,     -999.0,9, -999.00,9,   35.24,2, -999.00,9,     -999.0,9,  -999.0,9, 20130416,     1749,  29.9998, 152.4122,    34.8586,2,     -999.0,9,     -999.0,9,     1.5576,2,     -999.0,9,     -999.0,9,-999.0000, -999.00,-999.000
318M20130321,       P02W,      39,          1,          1,          1,2,20130416,       1733,    30.0002,   152.4118,       5953,  6050.5,   1.5938,   34.695,2,  34.6981,4,    171.2,2,   171.4,2,  136.55,2,   34.64,2,       0,2,    2.38,2,   0.001,2,   0.008,2,   0.003,2,     0.06,2,    2306,6, 2402.85,2,   7.5931,2,       25,-999.000,9,-999.0000,9, -999.00,9,    0.29,2,  -200.6,2,     1.9,-999.000,9,-999.000,     -999.0,9, -999.00,9,   35.13,2, -999.00,9,     -999.0,9,  -999.0,9, 20130416,     1733,  30.0001, 152.4118,    34.8617,4,     -999.0,9,     -999.0,9,     1.5938,2,     -999.0,9,     -999.0,9,-999.0000, -999.00,-999.000