BOTTLE,20220817CCHSIOAMB
EXPOCODE,SECT_ID,STNNBR,CASTNO,SAMPNO,BTLNBR,BTLNBR_FLAG_W,DATE,TIME,LATITUDE,LONGITUDE,DEPTH,CTDPRS,CTDTMP,CTDSAL,CTDSAL_FLAG_W,SALNTY,SALNTY_FLAG_W,CTDOXY,CTDOXY_FLAG_W,OXYGEN,OXYGEN_FLAG_W,SILCAT,SILCAT_FLAG_W,NITRAT,NITRAT_FLAG_W,NITRIT,NITRIT_FLAG_W,PHSPHT,PHSPHT_FLAG_W,CFC-11,CFC-11_FLAG_W,CFC-12,CFC-12_FLAG_W,CFC113,CFC113_FLAG_W,SF6,SF6_FLAG_W,TCARBN,TCARBN_FLAG_W,ALKALI,ALKALI_FLAG_W,PH_TOT,PH_TOT_FLAG_W,PH_TMP,TRITUM,TRITUM_FLAG_W,HELIUM,HELIUM_FLAG_W,DELHE3,DELHE3_FLAG_W,DELC13,DELC13_FLAG_W,DELC14,DELC14_FLAG_W,C14ERR,NEON,NEON_FLAG_W,NEONER,I-129,I-129_FLAG_W,SR-90,SR-90_FLAG_W,DOC,DOC_FLAG_W,TDN,TDN_FLAG_W,CALCIUM,CALCIUM_FLAG_W,D15N_NO3,D15N_NO3_FLAG_W,BTL_DATE,BTL_TIME,BTL_LAT,BTL_LON,SALTREF,SALTREF_FLAG_W,CS-137,CS-137_FLAG_W,CS-134,CS-134_FLAG_W,REFTMP,REFTMP_FLAG_W,LAB_DEN,LAB_DEN_FLAG_W,D18O_NO3,D18O_NO3_FLAG_W,HELIER,DELHER,TRITER
,,,,,,,,,,,METERS,DBAR,ITS-90,PSS-78,,PSS-78,,UMOL/KG,,UMOL/KG,,UMOL/KG,,UMOL/KG,,UMOL/KG,,UMOL/KG,,PMOL/KG,,PMOL/KG,,PMOL/KG,,FMOL/KG,,UMOL/KG,,UMOL/KG,,,,DEG C,TU,,NMOL/KG,,PERCNT,,/MILLE,,/MILLE,,/MILLE,NMOL/KG,,NMOL/KG,BQ/M^3,,DM/.1MG,,UMOL/KG,,UMOL/KG,,MMOL/KG,,/MILLE,,,,,,G/KG,,BQ/M^3,,BQ/M^3,,ITS-90,,,,/MILLE,,NMOL/KG,PERCNT,TU
318M20130321,       P02E,      98,          1,          6,          6,2,20130515,       1620,    29.9998,  -156.0185,       5994,  4329.7,   1.4899,  34.6859,2,  34.6863,2,    149.1,2,     149,2,  155.19,2,    36.3,2,       0,2,    2.55,2,   0.004,2,   0.002,2,-999.000,5,        0,2,  2329.2,2, 2420.16,2,   7.5692,2,       25,-999.000,9,-999.0000,9, -999.00,9, -999.00,9,  -999.0,9,  -999.0,-999.000,9,-999.000,     -999.0,9, -999.00,9, -999.00,9, -999.00,9,     -999.0,9,  -999.0,1, 20130515,     1656,       30,-156.0188,    34.8499,2,     -999.0,9,     -999.0,9,     1.4901,2,     -999.0,9,     -999.0,1,-999.0000, -999.00,-999.000
318M20130321,       P02E,      98,          1,          5,         37,2,20130515,       1620,    29.9998,  -156.0185,       5994,  4841.1,   1.5136,  34.6893,2,  34.6898,2,    155.3,2,   155.3,2,  151.39,2,    35.9,2,       0,2,    2.51,2,   0.006,2,   0.006,2,-999.000,5,        0,2,  -999.0,9, -999.00,9,-999.0000,9,  -999.00,-999.000,9,-999.0000,9, -999.00,9, -999.00,9,  -999.0,9,  -999.0,-999.000,9,-999.000,     -999.0,9, -999.00,9, -999.00,9, -999.00,9,     -999.0,9,  -999.0,1, 20130515,     1646,  30.0003,-156.0186,    34.8534,2,     -999.0,9,     -999.0,9,     1.5136,2,     -999.0,9,     -999.0,1,-999.0000, -999.00,-999.000
318M20130321,       P02E,      98,          1,          4,          4,2,20130515,       1620,    29.9998,  -156.0185,       5994,  5360.7,    1.562,  34.6908,2,  34.6912,2,    157.8,2,     158,2,  148.46,2,   35.67,2,       0,2,    2.48,2,   0.006,2,   0.005,2,-999.000,5,        0,2,  2320.6,2, 2417.16,2,   7.5823,2,       25,-999.000,9,-999.0000,9, -999.00,9, -999.00,9,  -999.0,9,  -999.0,-999.000,9,-999.000,     -999.0,9, -999.00,9, -999.00,9, -999.00,9,     -999.0,9,  -999.0,1, 20130515,     1636,  30.0001,-156.0185,    34.8548,2,     -999.0,9,     -999.0,9,     1.5624,2,     -999.0,9,     -999.0,1,-999.0000, -999.00,-999.000
318M20130321,       P02E,      98,          1,          3,          3,2,20130515,       1620,    29.9998,  -156.0185,       5994,  5706.9,   1.6022,  34.6913,2,  34.6918,2,    159.8,2,   159.6,2,  147.29,2,   35.55,2,       0,2,    2.48,2,   0.006,2,   0.005,2,-999.000,5,        0,2,  2316.8,2, 2416.36,6,   7.5817,6,       25,-999.000,9,-999.0000,9, -999.00,9, -999.00,9,  -999.0,9,  -999.0,-999.000,9,-999.000,     -999.0,9, -999.00,9, -999.00,9, -999.00,9,     -999.0,9,  -999.0,1, 20130515,     1628,  30.0001,-156.0184,    34.8554,2,     -999.0,9,     -999.0,9,     1.6022,2,     -999.0,9,     -999.0,1,-999.0000, -999.00,-999.000
318M20130321,       P02E,      98,          1,          2,          2,2,20130515,       1620,    29.9998,  -156.0185,       5994,  6070.2,   1.6474,  34.6914,2,   34.692,2,    161.3,2,   161.1,2,   146.8,2,   35.51,2,       0,2,    2.47,2,   0.000,2,   0.000,2,-999.000,5,        0,2,  2317.1,6, 2416.66,2,   7.5836,2,       25,-999.000,9,-999.0000,9, -999.00,9, -999.00,9,  -999.0,9,  -999.0,-999.000,9,-999.000,     -999.0,9, -999.00,9, -999.00,9, -999.00,9,     -999.0,9,  -999.0,1, 20130515,     1620,  29.9998,-156.0185,    34.8556,2,     -999.0,9,     -999.0,9,     1.6479,2,     -999.0,9,     -999.0,1,-999.0000, -999.00,-999.000