BOTTLE,20220817CCHSIOAMB
EXPOCODE,SECT_ID,STNNBR,CASTNO,SAMPNO,BTLNBR,BTLNBR_FLAG_W,DATE,TIME,LATITUDE,LONGITUDE,DEPTH,CTDPRS,CTDTMP,CTDSAL,CTDSAL_FLAG_W,SALNTY,SALNTY_FLAG_W,CTDOXY,CTDOXY_FLAG_W,OXYGEN,OXYGEN_FLAG_W,SILCAT,SILCAT_FLAG_W,NITRAT,NITRAT_FLAG_W,NITRIT,NITRIT_FLAG_W,PHSPHT,PHSPHT_FLAG_W,CFC-11,CFC-11_FLAG_W,CFC-12,CFC-12_FLAG_W,CFC113,CFC113_FLAG_W,SF6,SF6_FLAG_W,TCARBN,TCARBN_FLAG_W,ALKALI,ALKALI_FLAG_W,PH_TOT,PH_TOT_FLAG_W,PH_TMP,TRITUM,TRITUM_FLAG_W,HELIUM,HELIUM_FLAG_W,DELHE3,DELHE3_FLAG_W,DELC13,DELC13_FLAG_W,DELC14,DELC14_FLAG_W,C14ERR,NEON,NEON_FLAG_W,NEONER,I-129,I-129_FLAG_W,SR-90,SR-90_FLAG_W,DOC,DOC_FLAG_W,TDN,TDN_FLAG_W,CALCIUM,CALCIUM_FLAG_W,D15N_NO3,D15N_NO3_FLAG_W,BTL_DATE,BTL_TIME,BTL_LAT,BTL_LON,SALTREF,SALTREF_FLAG_W,CS-137,CS-137_FLAG_W,CS-134,CS-134_FLAG_W,REFTMP,REFTMP_FLAG_W,LAB_DEN,LAB_DEN_FLAG_W,D18O_NO3,D18O_NO3_FLAG_W,HELIER,DELHER,TRITER
,,,,,,,,,,,METERS,DBAR,ITS-90,PSS-78,,PSS-78,,UMOL/KG,,UMOL/KG,,UMOL/KG,,UMOL/KG,,UMOL/KG,,UMOL/KG,,PMOL/KG,,PMOL/KG,,PMOL/KG,,FMOL/KG,,UMOL/KG,,UMOL/KG,,,,DEG C,TU,,NMOL/KG,,PERCNT,,/MILLE,,/MILLE,,/MILLE,NMOL/KG,,NMOL/KG,BQ/M^3,,DM/.1MG,,UMOL/KG,,UMOL/KG,,MMOL/KG,,/MILLE,,,,,,G/KG,,BQ/M^3,,BQ/M^3,,ITS-90,,,,/MILLE,,NMOL/KG,PERCNT,TU
318M20130321,       P02W,      53,          1,         36,         36,2,20130422,       0218,    30.0001,   165.1952,       5906,     2.5,  18.9197,   34.623,2,  34.6335,2,    239.4,2,     239,2,    2.15,2,       0,2,       0,2,    0.03,2,   2.587,2,   1.572,2,   0.221,2,     1.64,2,  2005.3,2, 2280.11,2,   8.0025,2,       25,-999.000,9,-999.0000,9, -999.00,9, -999.00,9,  -999.0,9,  -999.0,-999.000,9,-999.000,     -999.0,9, -999.00,9,   56.64,2, -999.00,5,     -999.0,9,  -999.0,9, 20130422,      437,  30.0035, 165.1954,    34.7968,2,     -999.0,9,     -999.0,9,    18.9686,2,     -999.0,9,     -999.0,9,-999.0000, -999.00,-999.000
318M20130321,       P02W,      53,          1,         35,         35,9,20130422,       0218,    30.0001,   165.1952,       5906,    23.4,  18.0638,  34.7374,2,-999.0000,9,    239.8,2,  -999.0,9, -999.00,9, -999.00,9, -999.00,9, -999.00,9,-999.000,9,-999.000,9,-999.000,9,-999.0000,9,  -999.0,9, -999.00,9,-999.0000,9,  -999.00,-999.000,9,-999.0000,9, -999.00,9, -999.00,9,  -999.0,9,  -999.0,-999.000,9,-999.000,     -999.0,9, -999.00,9, -999.00,9, -999.00,9,     -999.0,9,  -999.0,9, 20130422,      436,  30.0032, 165.1954,     -999.0,9,     -999.0,9,     -999.0,9,    18.0634,2,     -999.0,9,     -999.0,9,-999.0000, -999.00,-999.000
318M20130321,       P02W,      53,          1,         34,         34,2,20130422,       0218,    30.0001,   165.1952,       5906,    48.1,  17.9257,  34.7399,2,  34.7384,2,    239.8,2,     239,2,    2.05,2,       0,2,    0.01,2,    0.04,2,   0.000,4,   0.000,4,   0.000,4,        0,4,  2012.7,2, 2280.51,2,   8.0014,6,       25,-999.000,9,-999.0000,9, -999.00,9, -999.00,9,  -999.0,9,  -999.0,-999.000,9,-999.000,     -999.0,9, -999.00,9,      59,2, -999.00,5,     -999.0,9,  -999.0,9, 20130422,      434,  30.0029, 165.1954,    34.9022,2,     -999.0,9,     -999.0,9,    17.9314,2,     -999.0,9,     -999.0,9,-999.0000, -999.00,-999.000
318M20130321,       P02W,      53,          1,         33,         33,2,20130422,       0218,    30.0001,   165.1952,       5906,      73,  17.3782,  34.7089,2,  34.7101,2,    235.5,2,   236.6,2,    2.54,2,    0.63,2,    0.16,2,     0.1,2,   2.636,2,   1.593,2,   0.207,2,     1.67,2,  -999.0,9, -999.00,9,-999.0000,9,  -999.00,-999.000,9,-999.0000,9, -999.00,9, -999.00,9,  -999.0,9,  -999.0,-999.000,9,-999.000,     -999.0,9, -999.00,9,   56.57,2, -999.00,5,     -999.0,9,  -999.0,9, 20130422,      432,  30.0024, 165.1954,    34.8738,2,     -999.0,9,     -999.0,9,    17.3735,2,     -999.0,9,     -999.0,9,-999.0000, -999.00,-999.000
318M20130321,       P02W,      53,          1,         32,         32,2,20130422,       0218,    30.0001,   165.1952,       5906,    98.8,  16.9851,  34.6828,2,   34.682,2,      239,2,   240.1,2,    2.83,2,     0.7,2,    0.14,2,    0.11,2,   2.683,2,   1.595,2,   0.231,2,     1.57,2,  2018.7,2, 2277.51,6,   7.9882,2,       25,-999.000,9,-999.0000,9, -999.00,9, -999.00,9,  -999.0,9,  -999.0,-999.000,9,-999.000,     -999.0,9, -999.00,9,   55.36,2, -999.00,5,     -999.0,9,  -999.0,9, 20130422,      430,  30.0021, 165.1954,    34.8456,2,     -999.0,9,     -999.0,9,     16.987,2,     -999.0,9,     -999.0,9,-999.0000, -999.00,-999.000
318M20130321,       P02W,      53,          1,         31,         31,2,20130422,       0218,    30.0001,   165.1952,       5906,   148.8,  16.8151,  34.6739,2,  34.6744,2,    232.3,2,   231.2,2,    3.42,2,    2.27,2,    0.22,2,    0.19,2,-999.000,9,-999.000,9,-999.000,9,-999.0000,9,  -999.0,9, -999.00,9,-999.0000,9,  -999.00,-999.000,9,-999.0000,9, -999.00,9, -999.00,9,  -999.0,9,  -999.0,-999.000,9,-999.000,     -999.0,9, -999.00,9,   55.87,2, -999.00,5,     -999.0,9,  -999.0,9, 20130422,      428,  30.0017, 165.1953,    34.8379,2,     -999.0,9,     -999.0,9,    16.8167,2,     -999.0,9,     -999.0,9,-999.0000, -999.00,-999.000
318M20130321,       P02W,      53,          1,         30,         30,2,20130422,       0218,    30.0001,   165.1952,       5906,   199.6,  16.5262,  34.6789,2,  34.6766,2,      228,2,   231.5,2,     3.9,2,    3.24,2,    0.02,2,    0.23,2,   2.690,2,   1.622,2,   0.195,2,     1.78,2,  2030.3,2, 2276.21,2,   7.9642,2,       25,-999.000,9,-999.0000,9, -999.00,9, -999.00,9,  -999.0,9,  -999.0,-999.000,9,-999.000,     -999.0,9, -999.00,9,   53.94,2, -999.00,5,     -999.0,9,  -999.0,9, 20130422,      426,  30.0014, 165.1952,    34.8401,2,     -999.0,9,     -999.0,9,     16.526,2,     -999.0,9,     -999.0,9,-999.0000, -999.00,-999.000
318M20130321,       P02W,      53,          1,         29,         29,2,20130422,       0218,    30.0001,   165.1952,       5906,   249.8,  16.0397,  34.6308,2,   34.631,2,      230,2,   229.9,2,    4.49,2,    4.13,2,    0.01,2,    0.29,2,-999.000,9,-999.000,9,-999.000,9,-999.0000,9,    2036,2, 2274.51,2,   7.9479,2,       25,-999.000,9,-999.0000,9, -999.00,9, -999.00,9,  -999.0,9,  -999.0,-999.000,9,-999.000,     -999.0,9, -999.00,9,   51.47,2, -999.00,5,     -999.0,9,  -999.0,9, 20130422,      425,  30.0011, 165.1951,    34.7943,2,     -999.0,9,     -999.0,9,    16.0396,2,     -999.0,9,     -999.0,9,-999.0000, -999.00,-999.000
318M20130321,       P02W,      53,          1,         28,         28,2,20130422,       0218,    30.0001,   165.1952,       5906,   301.2,  15.2266,  34.5585,2,  34.5564,2,    211.4,2,   210.6,2,    7.91,2,    7.16,2,    0.01,2,    0.51,2,   2.816,2,   1.660,2,   0.106,2,      1.4,2,  2058.1,2, 2272.01,2,   7.9015,6,       25,-999.000,9,-999.0000,9, -999.00,9, -999.00,9,  -999.0,9,  -999.0,-999.000,9,-999.000,     -999.0,9, -999.00,9, -999.00,5, -999.00,5,     -999.0,9,  -999.0,9, 20130422,      423,  30.0007, 165.1951,    34.7193,2,     -999.0,9,     -999.0,9,     15.221,2,     -999.0,9,     -999.0,9,-999.0000, -999.00,-999.000
318M20130321,       P02W,      53,          1,         27,         27,2,20130422,       0218,    30.0001,   165.1952,       5906,   351.2,  14.1473,  34.4852,2,  34.4829,2,    203.6,2,   203.7,2,   10.93,2,    9.46,2,    0.01,2,    0.66,2,-999.000,9,-999.000,9,-999.000,9,-999.0000,9,  -999.0,9, -999.00,9,-999.0000,9,  -999.00,-999.000,9,-999.0000,9, -999.00,9, -999.00,9,  -999.0,9,  -999.0,-999.000,9,-999.000,     -999.0,9, -999.00,9,   47.36,2, -999.00,9,     -999.0,9,  -999.0,9, 20130422,      421,  30.0004, 165.1951,    34.6455,2,     -999.0,9,     -999.0,9,    14.1998,3,     -999.0,9,     -999.0,9,-999.0000, -999.00,-999.000
318M20130321,       P02W,      53,          1,         26,         26,2,20130422,       0218,    30.0001,   165.1952,       5906,   402.5,  13.0256,  34.4175,2,  34.4199,2,    197.3,2,     196,2,   15.33,2,    11.9,2,    0.01,2,    0.84,2,   2.992,2,   1.707,2,   0.101,2,     1.28,2,  2095.8,2, 2271.21,2,   7.8243,2,       25,-999.000,9,-999.0000,9, -999.00,9, -999.00,9,  -999.0,9,  -999.0,-999.000,9,-999.000,     -999.0,9, -999.00,9,   48.23,2, -999.00,9,     -999.0,9,  -999.0,9, 20130422,      419,  30.0002, 165.1951,    34.5822,2,     -999.0,9,     -999.0,9,    13.0177,2,     -999.0,9,     -999.0,9,-999.0000, -999.00,-999.000
318M20130321,       P02W,      53,          1,         25,         25,2,20130422,       0218,    30.0001,   165.1952,       5906,   503.7,   9.7132,  34.1789,2,  34.1802,2,    185.2,2,   186.7,2,   28.02,2,   18.39,2,    0.01,2,    1.32,2,-999.000,9,-999.000,9,-999.000,9,-999.0000,9,  2140.7,2, 2272.61,2,   7.7144,2,       25,-999.000,9,-999.0000,9, -999.00,9, -999.00,9,  -999.0,9,  -999.0,-999.000,9,-999.000,     -999.0,9, -999.00,9,   44.99,2, -999.00,9,     -999.0,9,  -999.0,9, 20130422,      417,  30.0001, 165.1952,    34.3414,2,     -999.0,9,     -999.0,9,     9.7075,2,     -999.0,9,     -999.0,9,-999.0000, -999.00,-999.000
318M20130321,       P02W,      53,          1,         24,         24,2,20130422,       0218,    30.0001,   165.1952,       5906,     605,   7.1992,  34.0388,2,  34.0389,2,    154.9,2,   154.4,2,   47.17,2,   26.03,2,    0.01,2,    1.87,2,   2.927,2,   1.554,2,   0.128,2,     0.84,2,  -999.0,9, -999.00,9,-999.0000,9,  -999.00,-999.000,9,-999.0000,9, -999.00,9, -999.00,9,  -999.0,9,  -999.0,-999.000,9,-999.000,     -999.0,9, -999.00,9,    42.8,2, -999.00,9,     -999.0,9,  -999.0,9, 20130422,      414,  30.0001, 165.1952,    34.1994,2,     -999.0,9,     -999.0,9,     7.1985,2,     -999.0,9,     -999.0,9,-999.0000, -999.00,-999.000
318M20130321,       P02W,      53,          1,         23,         23,2,20130422,       0218,    30.0001,   165.1952,       5906,   701.3,   5.4833,  34.0277,2,  34.0275,2,    114.2,2,   113.6,2,   70.02,2,   32.82,2,    0.01,2,    2.37,2,-999.000,9,-999.000,9,-999.000,9,-999.0000,9,  2251.1,2, 2296.02,2,   7.4671,2,       25,-999.000,9,-999.0000,9, -999.00,9, -999.00,9,  -999.0,9,  -999.0,-999.000,9,-999.000,     -999.0,9, -999.00,9,    41.2,2, -999.00,9,     -999.0,9,  -999.0,9, 20130422,      412,  30.0001, 165.1952,     34.188,2,     -999.0,9,     -999.0,9,     5.4802,2,     -999.0,9,     -999.0,9,-999.0000, -999.00,-999.000
318M20130321,       P02W,      53,          1,         22,         22,2,20130422,       0218,    30.0001,   165.1952,       5906,   802.9,    4.838,  34.0917,2,  34.0904,2,     82.5,2,    83.4,2,   85.74,2,   36.51,2,    0.01,2,    2.65,2,   1.614,2,   0.837,2,   0.074,2,     0.31,2,  -999.0,9, -999.00,9,-999.0000,9,  -999.00,-999.000,9,-999.0000,9, -999.00,9, -999.00,9,  -999.0,9,  -999.0,-999.000,9,-999.000,     -999.0,9, -999.00,9,    39.6,2, -999.00,9,     -999.0,9,  -999.0,9, 20130422,      409,  30.0001, 165.1952,    34.2512,2,     -999.0,9,     -999.0,9,     4.8357,2,     -999.0,9,     -999.0,9,-999.0000, -999.00,-999.000
318M20130321,       P02W,      53,          1,         21,         21,2,20130422,       0218,    30.0001,   165.1952,       5906,   904.5,   4.0862,  34.2026,2,  34.2016,2,     50.6,2,    51.6,2,  107.31,2,   40.16,2,       0,2,     2.9,2,-999.000,9,-999.000,9,-999.000,9,-999.0000,9,  2325.2,2, 2334.93,2,   7.3477,6,       25,-999.000,9,-999.0000,9, -999.00,9, -999.00,9,  -999.0,9,  -999.0,-999.000,9,-999.000,     -999.0,9, -999.00,9,   38.12,2, -999.00,9,     -999.0,9,  -999.0,9, 20130422,      406,  30.0001, 165.1952,    34.3629,2,     -999.0,9,     -999.0,9,     4.0884,2,     -999.0,9,     -999.0,9,-999.0000, -999.00,-999.000
318M20130321,       P02W,      53,          1,         20,         20,2,20130422,       0218,    30.0001,   165.1952,       5906,  1006.8,   3.6787,  34.2789,2,  34.2789,2,     36.3,2,    38.3,2,  119.99,2,   41.73,2,       0,2,    3.02,2,   0.461,2,   0.237,2,   0.017,2,     0.12,2,  -999.0,9, -999.00,9,-999.0000,9,  -999.00,-999.000,9,-999.0000,9, -999.00,9, -999.00,9,  -999.0,9,  -999.0,-999.000,9,-999.000,     -999.0,9, -999.00,9,   39.57,2, -999.00,9,     -999.0,9,  -999.0,9, 20130422,      404,  30.0001, 165.1952,    34.4405,2,     -999.0,9,     -999.0,9,     3.6779,2,     -999.0,9,     -999.0,9,-999.0000, -999.00,-999.000
318M20130321,       P02W,      53,          1,         19,         19,2,20130422,       0218,    30.0001,   165.1952,       5906,  1108.3,   3.3287,   34.344,2,  34.3432,2,     32.4,2,    32.2,2,  130.34,2,   42.56,2,       0,2,    3.08,2,   0.253,2,   0.124,2,   0.004,2,        0,2,  2365.5,2, 2363.34,2,   7.3243,2,       25,-999.000,9,-999.0000,9, -999.00,9, -999.00,9,  -999.0,9,  -999.0,-999.000,9,-999.000,     -999.0,9, -999.00,9,   40.88,2, -999.00,9,     -999.0,9,  -999.0,9, 20130422,      401,  30.0001, 165.1952,    34.5052,2,     -999.0,9,     -999.0,9,     3.3274,2,     -999.0,9,     -999.0,9,-999.0000, -999.00,-999.000
318M20130321,       P02W,      53,          1,         18,         18,2,20130422,       0218,    30.0001,   165.1952,       5906,  1210.4,   3.0689,  34.3972,2,  34.3966,2,       34,2,    33.5,2,  137.46,2,   42.71,2,       0,2,    3.08,2,   0.151,2,   0.075,2,   0.007,2,        0,2,  -999.0,9, -999.00,9,-999.0000,9,  -999.00,-999.000,9,-999.0000,9, -999.00,9, -999.00,9,  -999.0,9,  -999.0,-999.000,9,-999.000,     -999.0,9, -999.00,9,   37.47,2, -999.00,9,     -999.0,9,  -999.0,9, 20130422,      358,  30.0001, 165.1952,    34.5588,2,     -999.0,9,     -999.0,9,     3.0659,2,     -999.0,9,     -999.0,9,-999.0000, -999.00,-999.000
318M20130321,       P02W,      53,          1,         17,         17,2,20130422,       0218,    30.0001,   165.1952,       5906,  1312.2,   2.8353,  34.4376,2,  34.4365,2,     36.7,2,    36.2,2,  144.29,2,   42.72,2,       0,2,    3.08,2,  -0.014,2,   0.055,2,   0.005,2,        0,2,  2375.8,6, 2380.05,2,   7.3387,2,       25,-999.000,9,-999.0000,9, -999.00,9, -999.00,9,  -999.0,9,  -999.0,-999.000,9,-999.000,     -999.0,9, -999.00,9,   39.93,2, -999.00,9,     -999.0,9,  -999.0,9, 20130422,      356,  30.0001, 165.1952,    34.5989,2,     -999.0,9,     -999.0,9,     2.8351,2,     -999.0,9,     -999.0,9,-999.0000, -999.00,-999.000
318M20130321,       P02W,      53,          1,         16,         16,2,20130422,       0218,    30.0001,   165.1952,       5906,  1408.3,   2.6455,  34.4714,2,  34.4712,2,     37.6,2,    37.7,2,  150.44,2,   42.84,2,       0,2,    3.08,2,   0.068,2,   0.038,2,   0.005,2,        0,2,  -999.0,9, -999.00,9,-999.0000,9,  -999.00,-999.000,9,-999.0000,9, -999.00,9, -999.00,9,  -999.0,9,  -999.0,-999.000,9,-999.000,     -999.0,9, -999.00,9,   41.66,2, -999.00,9,     -999.0,9,  -999.0,9, 20130422,      353,  30.0001, 165.1952,    34.6338,2,     -999.0,9,     -999.0,9,     2.6463,2,     -999.0,9,     -999.0,9,-999.0000, -999.00,-999.000
318M20130321,       P02W,      53,          1,         15,         15,2,20130422,       0218,    30.0001,   165.1952,       5906,  1613.8,    2.346,  34.5301,2,  34.5294,2,     47.9,2,    47.6,2,  157.46,2,   42.43,2,       0,2,    3.05,2,   0.025,2,   0.018,2,   0.007,2,        0,2,  2384.2,2, 2399.15,2,   7.3675,2,       25,-999.000,9,-999.0000,9, -999.00,9, -999.00,9,  -999.0,9,  -999.0,-999.000,9,-999.000,     -999.0,9, -999.00,9,   36.21,2, -999.00,9,     -999.0,9,  -999.0,9, 20130422,      349,  30.0001, 165.1952,    34.6922,2,     -999.0,9,     -999.0,9,     2.3457,2,     -999.0,9,     -999.0,9,-999.0000, -999.00,-999.000
318M20130321,       P02W,      53,          1,         14,         14,2,20130422,       0218,    30.0001,   165.1952,       5906,  1816.6,   2.0945,  34.5706,2,  34.5698,2,       61,2,    61.7,2,  161.55,2,   41.65,2,       0,2,    2.98,2,-999.000,9,-999.000,9,-999.000,9,-999.0000,9,  2383.8,3, 2406.15,2,   7.3963,2,       25,-999.000,9,-999.0000,9, -999.00,9, -999.00,9,  -999.0,9,  -999.0,-999.000,9,-999.000,     -999.0,9, -999.00,9,   35.57,2, -999.00,9,     -999.0,9,  -999.0,9, 20130422,      344,  30.0001, 165.1952,    34.7328,2,     -999.0,9,     -999.0,9,     2.0954,2,     -999.0,9,     -999.0,9,-999.0000, -999.00,-999.000
318M20130321,       P02W,      53,          1,         13,         13,2,20130422,       0218,    30.0001,   165.1952,       5906,  2015.9,   1.9308,  34.5986,2,  34.5981,2,     76.7,2,    75.5,2,  162.53,2,   40.77,2,       0,2,    2.91,2,-999.000,9,-999.000,9,-999.000,9,-999.0000,9,  2374.4,2, 2410.46,2,    7.427,2,       25,-999.000,9,-999.0000,9, -999.00,9, -999.00,9,  -999.0,9,  -999.0,-999.000,9,-999.000,     -999.0,9, -999.00,9,   35.16,2, -999.00,9,     -999.0,9,  -999.0,9, 20130422,      340,  30.0001, 165.1952,    34.7613,2,     -999.0,9,     -999.0,9,     1.9317,2,     -999.0,9,     -999.0,9,-999.0000, -999.00,-999.000
318M20130321,       P02W,      53,          1,         12,         12,2,20130422,       0218,    30.0001,   165.1952,       5906,  2273.2,   1.7667,  34.6265,2,  34.6241,3,     94.9,2,    95.3,2,  160.86,2,   39.47,2,       0,2,    2.82,2,   0.005,2,   0.008,2,   0.003,2,        0,2,  -999.0,9, -999.00,9,-999.0000,9,  -999.00,-999.000,9,-999.0000,9, -999.00,9, -999.00,9,  -999.0,9,  -999.0,-999.000,9,-999.000,     -999.0,9, -999.00,9, -999.00,9, -999.00,9,     -999.0,9,  -999.0,9, 20130422,      335,  30.0001, 165.1952,    34.7873,3,     -999.0,9,     -999.0,9,     1.7669,2,     -999.0,9,     -999.0,9,-999.0000, -999.00,-999.000
318M20130321,       P02W,      53,          1,         11,         11,2,20130422,       0218,    30.0001,   165.1952,       5906,  2529.6,   1.6652,  34.6438,2,  34.6431,2,    110.1,2,   109.6,2,  158.91,2,   38.57,2,       0,2,    2.74,2,-999.000,9,-999.000,9,-999.000,9,-999.0000,9,  2355.3,2, 2414.56,2,   7.4935,2,       25,-999.000,9,-999.0000,9, -999.00,9, -999.00,9,  -999.0,9,  -999.0,-999.000,9,-999.000,     -999.0,9, -999.00,9, -999.00,5, -999.00,9,     -999.0,9,  -999.0,9, 20130422,      329,  30.0001, 165.1952,    34.8065,2,     -999.0,9,     -999.0,9,     1.6664,2,     -999.0,9,     -999.0,9,-999.0000, -999.00,-999.000
318M20130321,       P02W,      53,          1,         10,         10,2,20130422,       0218,    30.0001,   165.1952,       5906,  2780.1,   1.5884,  34.6569,2,  34.6569,2,    120.7,2,   122.7,2,  155.98,2,   37.74,2,       0,2,    2.68,2,   0.006,2,   0.011,2,   0.006,2,        0,2,  -999.0,9, -999.00,9,-999.0000,9,  -999.00,-999.000,9,-999.0000,9, -999.00,9, -999.00,9,  -999.0,9,  -999.0,-999.000,9,-999.000,     -999.0,9, -999.00,9, -999.00,9, -999.00,9,     -999.0,9,  -999.0,9, 20130422,      324,  30.0001, 165.1952,    34.8203,2,     -999.0,9,     -999.0,9,     1.5887,2,     -999.0,9,     -999.0,9,-999.0000, -999.00,-999.000
318M20130321,       P02W,      53,          1,          9,          9,2,20130422,       0218,    30.0001,   165.1952,       5906,  3037.2,   1.5438,   34.665,2,   34.665,2,    130.3,2,   129.7,2,  154.61,2,   37.24,2,       0,2,    2.64,2,-999.000,9,-999.000,9,-999.000,9,-999.0000,9,  2343.1,6, 2415.56,2,    7.531,2,       25,-999.000,9,-999.0000,9, -999.00,9, -999.00,9,  -999.0,9,  -999.0,-999.000,9,-999.000,     -999.0,9, -999.00,9,   33.55,2, -999.00,9,     -999.0,9,  -999.0,9, 20130422,      319,  30.0001, 165.1952,    34.8284,2,     -999.0,9,     -999.0,9,     1.5442,2,     -999.0,9,     -999.0,9,-999.0000, -999.00,-999.000
318M20130321,       P02W,      53,          1,          8,          8,2,20130422,       0218,    30.0001,   165.1952,       5906,  3345.1,   1.5012,  34.6728,2,  34.6726,2,    137.8,2,   138.4,2,  152.66,2,   36.66,2,       0,2,     2.6,2,   0.011,2,   0.007,2,   0.003,2,        0,2,  -999.0,9, -999.00,9,-999.0000,9,  -999.00,-999.000,9,-999.0000,9, -999.00,9, -999.00,9,  -999.0,9,  -999.0,-999.000,9,-999.000,     -999.0,9, -999.00,9, -999.00,9, -999.00,9,     -999.0,9,  -999.0,9, 20130422,      312,  30.0001, 165.1952,    34.8361,2,     -999.0,9,     -999.0,9,     1.5014,2,     -999.0,9,     -999.0,9,-999.0000, -999.00,-999.000