BOTTLE,20220817CCHSIOAMB
EXPOCODE,SECT_ID,STNNBR,CASTNO,SAMPNO,BTLNBR,BTLNBR_FLAG_W,DATE,TIME,LATITUDE,LONGITUDE,DEPTH,CTDPRS,CTDTMP,CTDSAL,CTDSAL_FLAG_W,SALNTY,SALNTY_FLAG_W,CTDOXY,CTDOXY_FLAG_W,OXYGEN,OXYGEN_FLAG_W,SILCAT,SILCAT_FLAG_W,NITRAT,NITRAT_FLAG_W,NITRIT,NITRIT_FLAG_W,PHSPHT,PHSPHT_FLAG_W,CFC-11,CFC-11_FLAG_W,CFC-12,CFC-12_FLAG_W,CFC113,CFC113_FLAG_W,SF6,SF6_FLAG_W,TCARBN,TCARBN_FLAG_W,ALKALI,ALKALI_FLAG_W,PH_TOT,PH_TOT_FLAG_W,PH_TMP,TRITUM,TRITUM_FLAG_W,HELIUM,HELIUM_FLAG_W,DELHE3,DELHE3_FLAG_W,DELC13,DELC13_FLAG_W,DELC14,DELC14_FLAG_W,C14ERR,NEON,NEON_FLAG_W,NEONER,I-129,I-129_FLAG_W,SR-90,SR-90_FLAG_W,DOC,DOC_FLAG_W,TDN,TDN_FLAG_W,CALCIUM,CALCIUM_FLAG_W,D15N_NO3,D15N_NO3_FLAG_W,BTL_DATE,BTL_TIME,BTL_LAT,BTL_LON,SALTREF,SALTREF_FLAG_W,CS-137,CS-137_FLAG_W,CS-134,CS-134_FLAG_W,REFTMP,REFTMP_FLAG_W,LAB_DEN,LAB_DEN_FLAG_W,D18O_NO3,D18O_NO3_FLAG_W,HELIER,DELHER,TRITER
,,,,,,,,,,,METERS,DBAR,ITS-90,PSS-78,,PSS-78,,UMOL/KG,,UMOL/KG,,UMOL/KG,,UMOL/KG,,UMOL/KG,,UMOL/KG,,PMOL/KG,,PMOL/KG,,PMOL/KG,,FMOL/KG,,UMOL/KG,,UMOL/KG,,,,DEG C,TU,,NMOL/KG,,PERCNT,,/MILLE,,/MILLE,,/MILLE,NMOL/KG,,NMOL/KG,BQ/M^3,,DM/.1MG,,UMOL/KG,,UMOL/KG,,MMOL/KG,,/MILLE,,,,,,G/KG,,BQ/M^3,,BQ/M^3,,ITS-90,,,,/MILLE,,NMOL/KG,PERCNT,TU
318M20130321,       P02W,      45,          1,          7,          7,2,20130419,       0624,    30.0002,   159.1331,       5761,  3788.4,   1.4702,   34.681,2,  34.6798,2,      148,2,   148.1,2,  150.31,2,    36.1,2,       0,2,    2.52,2,-999.000,9,-999.000,9,-999.000,9,-999.0000,9,  2326.2,2, 2412.06,2,    7.561,2,       25,-999.000,9,-999.0000,9, -999.00,9, -999.00,9,  -999.0,9,  -999.0,-999.000,9,-999.000,     -999.0,9, -999.00,9,   36.12,2, -999.00,9,     -999.0,9,  -999.0,9, 20130419,      708,  30.0002, 159.1335,    34.8433,2,     -999.0,9,     -999.0,9,     1.4706,2,     -999.0,9,     -999.0,9,-999.0000, -999.00,-999.000
318M20130321,       P02W,      45,          1,          6,          6,2,20130419,       0624,    30.0002,   159.1331,       5761,  4193.8,   1.4605,  34.6863,2,  34.6853,2,      155,2,   156.5,3,  148.36,2,   35.63,2,       0,2,    2.48,2,   0.018,2,   0.014,2,   0.003,2,        0,4,  -999.0,9, -999.00,9,-999.0000,9,  -999.00,-999.000,9,-999.0000,9, -999.00,9, -999.00,9,  -999.0,9,  -999.0,-999.000,9,-999.000,     -999.0,9, -999.00,9,   35.12,2, -999.00,9,     -999.0,9,  -999.0,9, 20130419,      659,  30.0001,  159.133,    34.8489,2,     -999.0,9,     -999.0,9,     1.4609,2,     -999.0,9,     -999.0,9,-999.0000, -999.00,-999.000
318M20130321,       P02W,      45,          1,          5,         37,2,20130419,       0624,    30.0002,   159.1331,       5761,  4607.2,   1.4655,  34.6899,2,  34.6893,2,    160.1,2,   160.6,2,  147.09,2,   35.27,2,       0,2,    2.46,2,-999.000,9,-999.000,9,-999.000,9,-999.0000,9,  2317.4,2, 2408.76,2,   7.5837,2,       25,-999.000,9,-999.0000,9, -999.00,9, -999.00,9,  -999.0,9,  -999.0,-999.000,9,-999.000,     -999.0,9, -999.00,9,   37.68,2, -999.00,9,     -999.0,9,  -999.0,9, 20130419,      651,  30.0002, 159.1333,    34.8528,2,     -999.0,9,     -999.0,9,     1.4655,2,     -999.0,9,     -999.0,9,-999.0000, -999.00,-999.000
318M20130321,       P02W,      45,          1,          4,          4,2,20130419,       0624,    30.0002,   159.1331,       5761,    5022,    1.483,  34.6931,2,  34.6926,2,    166.8,2,   167.1,2,  141.04,2,    34.8,2,       0,2,    2.42,2,   0.021,2,   0.009,2,   0.013,2,        0,4,  -999.0,9, -999.00,9,-999.0000,9,  -999.00,-999.000,9,-999.0000,9, -999.00,9, -999.00,9,  -999.0,9,  -999.0,-999.000,9,-999.000,     -999.0,9, -999.00,9,   37.51,2, -999.00,9,     -999.0,9,  -999.0,9, 20130419,      643,       30, 159.1329,    34.8562,2,     -999.0,9,     -999.0,9,     1.4833,2,     -999.0,9,     -999.0,9,-999.0000, -999.00,-999.000
318M20130321,       P02W,      45,          1,          3,          3,2,20130419,       0624,    30.0002,   159.1331,       5761,  5431.4,   1.5163,  34.6946,2,  34.6946,2,      169,2,   169.9,2,  139.09,2,   34.57,2,       0,2,     2.4,2,-999.000,9,-999.000,9,-999.000,9,-999.0000,9,  2306.8,2, 2404.15,2,   7.5902,2,       25,-999.000,9,-999.0000,9, -999.00,9, -999.00,9,  -999.0,9,  -999.0,-999.000,9,-999.000,     -999.0,9, -999.00,9,   36.56,2, -999.00,9,     -999.0,9,  -999.0,9, 20130419,      635,       30,  159.133,    34.8582,2,     -999.0,9,     -999.0,9,     1.5165,2,     -999.0,9,     -999.0,9,-999.0000, -999.00,-999.000
318M20130321,       P02W,      45,          1,          2,          2,2,20130419,       0624,    30.0002,   159.1331,       5761,  5701.7,   1.5396,  34.6951,2,   34.695,2,      172,2,   171.3,2,  137.92,2,   34.48,2,       0,2,    2.39,2,   0.031,2,   0.107,2,   0.015,2,        0,4,  2308.1,2, 2402.55,2,   7.5909,6,       25,-999.000,9,-999.0000,9, -999.00,9, -999.00,9,  -999.0,9,  -999.0,-999.000,9,-999.000,     -999.0,9, -999.00,9,   35.42,2, -999.00,9,     -999.0,9,  -999.0,9, 20130419,      628,  30.0002, 159.1331,    34.8586,2,     -999.0,9,     -999.0,9,     1.5394,2,     -999.0,9,     -999.0,9,-999.0000, -999.00,-999.000
318M20130321,       P02W,      45,          1,          1,          1,2,20130419,       0624,    30.0002,   159.1331,       5761,  5856.3,   1.5538,  34.6955,2,   34.695,2,    172.1,2,   171.8,2,  137.14,2,   34.46,2,       0,2,    2.39,2,   0.068,2,   0.019,2,   0.005,2,        0,2,  2305.8,6, 2402.45,2,   7.5927,2,       25,-999.000,9,-999.0000,9, -999.00,9, -999.00,9,  -999.0,9,  -999.0,-999.000,9,-999.000,     -999.0,9, -999.00,9,   36.38,2, -999.00,9,     -999.0,9,  -999.0,9, 20130419,      624,  30.0002, 159.1331,    34.8586,2,     -999.0,9,     -999.0,9,     1.5537,2,     -999.0,9,     -999.0,9,-999.0000, -999.00,-999.000