BOTTLE,20220817CCHSIOAMB
EXPOCODE,SECT_ID,STNNBR,CASTNO,SAMPNO,BTLNBR,BTLNBR_FLAG_W,DATE,TIME,LATITUDE,LONGITUDE,DEPTH,CTDPRS,CTDTMP,CTDSAL,CTDSAL_FLAG_W,SALNTY,SALNTY_FLAG_W,CTDOXY,CTDOXY_FLAG_W,OXYGEN,OXYGEN_FLAG_W,SILCAT,SILCAT_FLAG_W,NITRAT,NITRAT_FLAG_W,NITRIT,NITRIT_FLAG_W,PHSPHT,PHSPHT_FLAG_W,CFC-11,CFC-11_FLAG_W,CFC-12,CFC-12_FLAG_W,CFC113,CFC113_FLAG_W,SF6,SF6_FLAG_W,TCARBN,TCARBN_FLAG_W,ALKALI,ALKALI_FLAG_W,PH_TOT,PH_TOT_FLAG_W,PH_TMP,TRITUM,TRITUM_FLAG_W,HELIUM,HELIUM_FLAG_W,DELHE3,DELHE3_FLAG_W,DELC13,DELC13_FLAG_W,DELC14,DELC14_FLAG_W,C14ERR,NEON,NEON_FLAG_W,NEONER,I-129,I-129_FLAG_W,SR-90,SR-90_FLAG_W,DOC,DOC_FLAG_W,TDN,TDN_FLAG_W,CALCIUM,CALCIUM_FLAG_W,D15N_NO3,D15N_NO3_FLAG_W,BTL_DATE,BTL_TIME,BTL_LAT,BTL_LON,SALTREF,SALTREF_FLAG_W,CS-137,CS-137_FLAG_W,CS-134,CS-134_FLAG_W,REFTMP,REFTMP_FLAG_W,LAB_DEN,LAB_DEN_FLAG_W,D18O_NO3,D18O_NO3_FLAG_W,HELIER,DELHER,TRITER
,,,,,,,,,,,METERS,DBAR,ITS-90,PSS-78,,PSS-78,,UMOL/KG,,UMOL/KG,,UMOL/KG,,UMOL/KG,,UMOL/KG,,UMOL/KG,,PMOL/KG,,PMOL/KG,,PMOL/KG,,FMOL/KG,,UMOL/KG,,UMOL/KG,,,,DEG C,TU,,NMOL/KG,,PERCNT,,/MILLE,,/MILLE,,/MILLE,NMOL/KG,,NMOL/KG,BQ/M^3,,DM/.1MG,,UMOL/KG,,UMOL/KG,,MMOL/KG,,/MILLE,,,,,,G/KG,,BQ/M^3,,BQ/M^3,,ITS-90,,,,/MILLE,,NMOL/KG,PERCNT,TU
318M20130321,       P02W,      81,          1,         35,         35,9,20130430,       1844,         30,  -174.3811,       5356,     3.5,  19.6453,  35.0832,2,-999.0000,9,    227.3,2,  -999.0,9, -999.00,9, -999.00,9, -999.00,9, -999.00,9,-999.000,9,-999.000,9,-999.000,9,-999.0000,9,  -999.0,9, -999.00,9,-999.0000,9,  -999.00,-999.000,9,-999.0000,9, -999.00,9, -999.00,9,  -999.0,9,  -999.0,-999.000,9,-999.000,     -999.0,9, -999.00,9, -999.00,9, -999.00,9,     -999.0,9,  -999.0,9, 20130430,     2056,   30.002,-174.3765,     -999.0,9,     -999.0,9,     -999.0,9,    19.6452,2,     -999.0,9,     -999.0,9,-999.0000, -999.00,-999.000
318M20130321,       P02W,      81,          1,         36,         36,2,20130430,       1844,         30,  -174.3811,       5356,    35.5,  19.5572,  35.0618,2,  35.0608,2,    227.8,2,   227.8,2,    1.95,2,       0,2,       0,2,    0.03,2,   2.351,2,   1.453,2,   0.199,2,     1.43,2,  2019.3,6, 2300.92,2,    8.017,2,       25,-999.000,9,-999.0000,9, -999.00,9,    0.65,2,    50.5,2,     2.9,-999.000,9,-999.000,     -999.0,9, -999.00,9,   63.57,2,    4.32,2,     -999.0,9,  -999.0,9, 20130430,     2052,  30.0018,-174.3774,    35.2262,2,     -999.0,9,     -999.0,9,    19.5543,2,     -999.0,9,     -999.0,9,-999.0000, -999.00,-999.000
318M20130321,       P02W,      81,          1,         34,         34,2,20130430,       1844,         30,  -174.3811,       5356,    62.3,  18.6447,  34.8537,2,  34.8566,2,      233,2,   234.1,2,    2.24,2,       0,2,       0,2,    0.03,2,-999.000,9,-999.000,9,-999.000,9,-999.0000,9,  2016.7,2, 2286.11,2,   8.0014,6,       25,-999.000,9,-999.0000,9, -999.00,9,    0.66,2,    50.1,2,     2.6,-999.000,9,-999.000,     -999.0,9, -999.00,9,   61.07,2,    3.63,2,     -999.0,9,  -999.0,9, 20130430,     2050,  30.0016,-174.3779,     35.021,2,     -999.0,9,     -999.0,9,    18.6477,2,     -999.0,9,     -999.0,9,-999.0000, -999.00,-999.000
318M20130321,       P02W,      81,          1,         33,         33,2,20130430,       1844,         30,  -174.3811,       5356,    86.2,  18.5423,  34.8379,2,  34.8407,2,    234.6,2,   234.2,2,    2.24,2,       0,2,       0,2,    0.04,2,   2.516,2,   1.521,2,   0.208,2,     1.46,2,  -999.0,9, -999.00,9,-999.0000,9,  -999.00,-999.000,9,-999.0000,9, -999.00,9, -999.00,9,  -999.0,9,  -999.0,-999.000,9,-999.000,     -999.0,9, -999.00,9,   62.17,2,    3.99,2,     -999.0,9,  -999.0,9, 20130430,     2048,  30.0014,-174.3783,     35.005,2,     -999.0,9,     -999.0,9,    18.5477,2,     -999.0,9,     -999.0,9,-999.0000, -999.00,-999.000
318M20130321,       P02W,      81,          1,         32,         32,2,20130430,       1844,         30,  -174.3811,       5356,   115.7,  17.3752,  34.6739,2,  34.6742,2,    225.6,2,   226.3,2,    3.12,2,    1.08,2,    0.16,2,    0.14,2,-999.000,9,-999.000,9,-999.000,9,-999.0000,9,  2025.6,2, 2275.51,6,   7.9665,2,       25,-999.000,9,-999.0000,9, -999.00,9,    0.52,2,    52.5,2,     3.0,-999.000,9,-999.000,     -999.0,9, -999.00,9,   56.76,2,    4.73,2,     -999.0,9,  -999.0,9, 20130430,     2046,  30.0015, -174.379,    34.8377,2,     -999.0,9,     -999.0,9,      17.37,2,     -999.0,9,     -999.0,9,-999.0000, -999.00,-999.000
318M20130321,       P02W,      81,          1,         31,         31,2,20130430,       1844,         30,  -174.3811,       5356,   166.7,  16.0554,  34.6003,2,  34.6009,2,    206.2,2,   205.3,2,    5.37,2,     5.7,2,    0.02,2,    0.42,2,   2.722,2,   1.618,2,   0.067,2,      1.4,2,  -999.0,9, -999.00,9,-999.0000,9,  -999.00,-999.000,9,-999.0000,9, -999.00,9, -999.00,9,  -999.0,9,  -999.0,-999.000,9,-999.000,     -999.0,9, -999.00,9,   50.23,2,    8.65,2,     -999.0,9,  -999.0,9, 20130430,     2044,  30.0012,-174.3794,     34.764,2,     -999.0,9,     -999.0,9,    16.0551,2,     -999.0,9,     -999.0,9,-999.0000, -999.00,-999.000
318M20130321,       P02W,      81,          1,         30,         30,2,20130430,       1844,         30,  -174.3811,       5356,   217.4,  14.7137,   34.491,2,  34.4943,2,    209.6,2,   209.1,2,    7.32,2,    7.43,2,    0.01,2,    0.53,2,-999.000,9,-999.000,9,-999.000,9,-999.0000,9,  2063.8,2, 2266.31,2,   7.8791,6,       25,-999.000,9,-999.0000,9, -999.00,9,    0.31,2,    56.0,2,     3.0,-999.000,9,-999.000,     -999.0,9, -999.00,9,   48.47,2,   10.66,2,     -999.0,9,  -999.0,9, 20130430,     2042,   30.001,-174.3798,    34.6569,2,     -999.0,9,     -999.0,9,    14.7286,2,     -999.0,9,     -999.0,9,-999.0000, -999.00,-999.000
318M20130321,       P02W,      81,          1,         29,         29,2,20130430,       1844,         30,  -174.3811,       5356,   267.5,  13.7739,  34.4236,2,  34.4273,2,    207.4,2,   207.7,2,    9.47,2,    9.13,2,    0.01,2,    0.62,2,   3.096,2,   1.804,2,   0.055,2,     1.34,2,  2073.6,2,  2265.3,2,   7.8522,2,       25,-999.000,9,-999.0000,9, -999.00,9,    0.29,2,    44.0,2,     3.1,-999.000,9,-999.000,     -999.0,9, -999.00,9,   46.75,2,    11.8,2,     -999.0,9,  -999.0,9, 20130430,     2040,  30.0008,-174.3802,    34.5896,2,     -999.0,9,     -999.0,9,    13.7546,3,     -999.0,9,     -999.0,9,-999.0000, -999.00,-999.000
318M20130321,       P02W,      81,          1,         28,         28,2,20130430,       1844,         30,  -174.3811,       5356,   313.8,  12.6064,   34.353,2,   34.352,2,    206.2,2,   206.9,2,   12.79,2,   11.45,2,       0,2,    0.79,2,   3.280,2,   1.893,2,   0.074,2,     1.37,2,  2087.8,2,    2264,2,   7.8197,2,       25,-999.000,9,-999.0000,9, -999.00,9,    0.25,2,    39.5,2,     2.6,-999.000,9,-999.000,     -999.0,9, -999.00,9,   45.78,2,   15.14,2,     -999.0,9,  -999.0,9, 20130430,     2038,  30.0007,-174.3808,    34.5139,2,     -999.0,9,     -999.0,9,    12.5828,3,     -999.0,9,     -999.0,9,-999.0000, -999.00,-999.000
318M20130321,       P02W,      81,          1,         27,         27,2,20130430,       1844,         30,  -174.3811,       5356,   364.7,   11.633,  34.2894,2,  34.2976,3,    206.3,2,   206.2,2,   15.62,2,   13.15,2,       0,2,    0.92,2,   3.385,2,   1.886,2,   0.101,2,     1.35,2,  2098.3,2,  2264.2,2,    7.795,2,       25,-999.000,9,-999.0000,9, -999.00,9,    0.29,2,    29.6,2,     3.7,-999.000,9,-999.000,     -999.0,9, -999.00,9,   46.22,2, -999.00,9,     -999.0,9,  -999.0,9, 20130430,     2036,  30.0006,-174.3811,    34.4593,3,     -999.0,9,     -999.0,9,    11.6241,2,     -999.0,9,     -999.0,9,-999.0000, -999.00,-999.000
318M20130321,       P02W,      81,          1,         26,         26,2,20130430,       1844,         30,  -174.3811,       5356,   439.2,  10.2801,  34.1929,2,  34.1956,2,    200.8,2,   202.3,2,   21.09,2,   16.23,2,       0,2,    1.14,2,   3.490,2,   1.917,2,   0.112,2,     1.25,2,    2119,2,  2264.7,2,   7.7474,2,       25,-999.000,9,-999.0000,9, -999.00,9,    0.23,2,    13.5,2,     2.7,-999.000,9,-999.000,     -999.0,9, -999.00,9,   45.48,2, -999.00,9,     -999.0,9,  -999.0,9, 20130430,     2033,       30,-174.3811,    34.3569,2,     -999.0,9,     -999.0,9,    10.3062,3,     -999.0,9,     -999.0,9,-999.0000, -999.00,-999.000
318M20130321,       P02W,      81,          1,         25,         25,2,20130430,       1844,         30,  -174.3811,       5356,   538.7,   8.0869,  34.0641,2,  34.0651,2,    170.8,2,   170.3,2,   36.62,2,   23.32,2,       0,2,    1.66,2,   3.297,2,   1.738,2,   0.132,2,     0.93,2,  2167.3,2, 2273.61,2,   7.6349,2,       25,-999.000,9,-999.0000,9, -999.00,9,    0.07,2,   -12.6,2,     2.4,-999.000,9,-999.000,     -999.0,9, -999.00,9,    43.7,2, -999.00,9,     -999.0,9,  -999.0,9, 20130430,     2031,       30,-174.3812,    34.2257,2,     -999.0,9,     -999.0,9,     8.0851,2,     -999.0,9,     -999.0,9,-999.0000, -999.00,-999.000
318M20130321,       P02W,      81,          1,         24,         24,2,20130430,       1844,         30,  -174.3811,       5356,   639.1,    6.179,  34.0306,2,  34.0334,2,      120,2,   119.1,2,   60.64,2,   31.36,2,       0,2,    2.29,2,   2.406,2,   1.236,2,   0.095,2,     0.54,2,  2229.8,2, 2288.31,2,   7.4961,2,       25,-999.000,9,-999.0000,9, -999.00,9,   -0.19,2,   -53.5,2,     2.4,-999.000,9,-999.000,     -999.0,9, -999.00,9,   42.22,2, -999.00,9,     -999.0,9,  -999.0,9, 20130430,     2028,       30,-174.3812,    34.1938,2,     -999.0,9,     -999.0,9,     6.1591,2,     -999.0,9,     -999.0,9,-999.0000, -999.00,-999.000
318M20130321,       P02W,      81,          1,         23,         23,2,20130430,       1844,         30,  -174.3811,       5356,   738.9,   5.1592,  34.0698,2,  34.0682,2,     81.3,2,    81.6,2,    79.1,2,   36.33,2,       0,2,    2.63,2,   1.571,2,   0.784,2,   0.061,2,     0.34,2,  2273.6,2, 2311.62,2,   7.4081,2,       25,-999.000,9,-999.0000,9, -999.00,9,   -0.28,2,  -106.5,2,     3.0,-999.000,9,-999.000,     -999.0,9, -999.00,9,   43.48,2, -999.00,9,     -999.0,9,  -999.0,9, 20130430,     2025,       30,-174.3812,    34.2289,2,     -999.0,9,     -999.0,9,     5.1568,2,     -999.0,9,     -999.0,9,-999.0000, -999.00,-999.000
318M20130321,       P02W,      81,          1,         22,         22,2,20130430,       1844,         30,  -174.3811,       5356,   839.8,   4.3753,  34.1683,2,  34.1672,2,     44.8,2,      45,2,  100.09,2,   40.68,2,       0,2,    2.97,2,   0.787,2,   0.338,2,   0.023,2,     0.17,2,    2319,2, 2331.83,2,    7.336,2,       25,-999.000,9,-999.0000,9, -999.00,9,   -0.46,2,  -149.3,2,     3.3,-999.000,9,-999.000,     -999.0,9, -999.00,9,    41.2,2, -999.00,9,     -999.0,9,  -999.0,9, 20130430,     2022,       30,-174.3811,    34.3283,2,     -999.0,9,     -999.0,9,     4.3737,2,     -999.0,9,     -999.0,9,-999.0000, -999.00,-999.000
318M20130321,       P02W,      81,          1,         21,         21,2,20130430,       1844,         30,  -174.3811,       5356,   940.6,   3.8907,  34.2535,2,  34.2506,2,     28.1,2,    28.3,2,  114.72,2,   42.68,2,       0,2,     3.1,2,   0.288,2,   0.139,2,   0.012,2,     0.27,2,  2345.8,2, 2344.53,2,   7.3095,2,       25,-999.000,9,-999.0000,9, -999.00,9,   -0.56,2,  -173.5,2,     2.2,-999.000,9,-999.000,     -999.0,9, -999.00,9,   38.35,2, -999.00,9,     -999.0,9,  -999.0,9, 20130430,     2019,       30,-174.3811,    34.4121,2,     -999.0,9,     -999.0,9,     3.8914,2,     -999.0,9,     -999.0,9,-999.0000, -999.00,-999.000
318M20130321,       P02W,      81,          1,         20,         20,2,20130430,       1844,         30,  -174.3811,       5356,     968,   3.8024,  34.2808,2,  34.2788,2,     25.4,2,      25,2,  117.94,2,   42.94,2,       0,2,    3.14,2,   0.204,2,   0.112,2,   0.011,2,     0.07,2,  2349.1,2, 2349.03,2,   7.3085,6,       25,-999.000,9,-999.0000,9, -999.00,9,   -0.49,2,  -187.5,2,     2.1,-999.000,9,-999.000,     -999.0,9, -999.00,9,   37.53,2, -999.00,9,     -999.0,9,  -999.0,9, 20130430,     2017,       30,-174.3812,    34.4405,2,     -999.0,9,     -999.0,9,     3.8051,2,     -999.0,9,     -999.0,9,-999.0000, -999.00,-999.000
318M20130321,       P02W,      81,          1,         19,         19,2,20130430,       1844,         30,  -174.3811,       5356,    1145,   3.3437,  34.4081,2,  34.4085,2,     25.6,2,      27,2,   131.6,2,    43.4,2,       0,2,    3.17,2,  -0.024,4,  -0.003,4,  -0.002,4,        0,4,  -999.0,9, -999.00,9,-999.0000,9,  -999.00,-999.000,9,-999.0000,9, -999.00,9,   -0.50,2,  -211.3,2,     3.2,-999.000,9,-999.000,     -999.0,9, -999.00,9,   36.75,2, -999.00,9,     -999.0,9,  -999.0,9, 20130430,     2013,       30,-174.3812,    34.5708,2,     -999.0,9,     -999.0,9,     3.3437,2,     -999.0,9,     -999.0,9,-999.0000, -999.00,-999.000
318M20130321,       P02W,      81,          1,         18,         18,2,20130430,       1844,         30,  -174.3811,       5356,  1247.2,   3.1175,  34.4572,2,  34.4584,2,     33.3,2,    33.9,2,  137.45,2,    43.2,2,       0,2,    3.14,2,  -0.024,4,  -0.003,4,  -0.002,4,        0,4,  2369.9,2, 2380.75,2,   7.3432,2,       25,-999.000,9,-999.0000,9, -999.00,9,   -0.44,2,  -234.9,2,     1.9,-999.000,9,-999.000,     -999.0,9, -999.00,9,   37.79,2, -999.00,9,     -999.0,9,  -999.0,9, 20130430,     2010,       30,-174.3811,    34.6209,2,     -999.0,9,     -999.0,9,     3.1136,2,     -999.0,9,     -999.0,9,-999.0000, -999.00,-999.000
318M20130321,       P02W,      81,          1,         17,         17,2,20130430,       1844,         30,  -174.3811,       5356,  1348.7,   2.9079,  34.4933,2,  34.4931,2,     38.8,2,    39.7,2,  142.33,2,   42.95,2,       0,2,    3.12,2,   0.017,2,   0.015,2,   0.002,2,     0.15,2,  -999.0,9, -999.00,9,-999.0000,9,  -999.00,-999.000,9,-999.0000,9, -999.00,9,   -0.44,6,  -225.3,6,     1.4,-999.000,9,-999.000,     -999.0,9, -999.00,9,   36.65,2, -999.00,9,     -999.0,9,  -999.0,9, 20130430,     2007,       30,-174.3811,    34.6558,2,     -999.0,9,     -999.0,9,     2.9077,2,     -999.0,9,     -999.0,9,-999.0000, -999.00,-999.000
318M20130321,       P02W,      81,          1,         16,         16,2,20130430,       1844,         30,  -174.3811,       5356,  1501.4,   2.6187,  34.5342,2,   34.534,2,     49.1,2,    49.4,2,  149.06,2,   42.44,2,       0,2,    3.07,2,   0.013,2,   0.010,2,   0.002,2,     0.11,2,  2373.5,2, 2396.75,2,   7.3809,2,       25,-999.000,9,-999.0000,9, -999.00,9,   -0.37,2,  -230.4,2,     2.0,-999.000,9,-999.000,     -999.0,9, -999.00,9,   35.77,2, -999.00,9,     -999.0,9,  -999.0,9, 20130430,     2004,       30,-174.3812,    34.6968,2,     -999.0,9,     -999.0,9,     2.6208,2,     -999.0,9,     -999.0,9,-999.0000, -999.00,-999.000
318M20130321,       P02W,      81,          1,         15,         15,2,20130430,       1844,         30,  -174.3811,       5356,  1702.6,   2.3416,  34.5665,2,  34.5811,3,     62.4,2,    60.6,2,   155.4,2,   41.87,2,       0,2,    3.02,2,   0.022,2,   0.016,2,   0.002,2,     0.04,2,  -999.0,9, -999.00,9,-999.0000,9,  -999.00,-999.000,9,-999.0000,9, -999.00,9,   -0.32,2,  -237.7,2,     2.1,-999.000,9,-999.000,     -999.0,9, -999.00,9,   35.52,2, -999.00,9,     -999.0,9,  -999.0,9, 20130430,     1959,       30,-174.3812,    34.7442,3,     -999.0,9,     -999.0,9,     2.3397,2,     -999.0,9,     -999.0,9,-999.0000, -999.00,-999.000
318M20130321,       P02W,      81,          1,         14,         14,2,20130430,       1844,         30,  -174.3811,       5356,  1903.1,    2.065,  34.5975,2,  34.5971,2,     75.6,2,    74.3,2,  160.48,2,   41.03,2,       0,2,    2.96,2,-999.000,9,-999.000,9,-999.000,9,-999.0000,9,  -999.0,9, -999.00,9,-999.0000,9,  -999.00,-999.000,9,-999.0000,9, -999.00,9,   -0.27,2,  -246.1,2,     1.9,-999.000,9,-999.000,     -999.0,9, -999.00,9,   36.22,2, -999.00,9,     -999.0,9,  -999.0,9, 20130430,     1955,       30,-174.3812,    34.7602,2,     -999.0,9,     -999.0,9,     2.0656,2,     -999.0,9,     -999.0,9,-999.0000, -999.00,-999.000
318M20130321,       P02W,      81,          1,         13,         13,2,20130430,       1844,         30,  -174.3811,       5356,  2122.5,     1.89,  34.6179,2,  34.6193,2,     87.9,2,      88,2,  161.64,2,    40.2,2,       0,2,    2.89,2,   0.003,2,   0.008,2,   0.006,2,     0.08,2,  2364.5,2, 2413.46,2,   7.4552,2,       25,-999.000,9,-999.0000,9, -999.00,9,   -0.22,2,  -238.8,2,     1.8,-999.000,9,-999.000,     -999.0,9, -999.00,9,   34.22,2, -999.00,9,     -999.0,9,  -999.0,9, 20130430,     1950,       30,-174.3812,    34.7825,2,     -999.0,9,     -999.0,9,     1.8902,2,     -999.0,9,     -999.0,9,-999.0000, -999.00,-999.000
318M20130321,       P02W,      81,          1,         11,         11,2,20130430,       1844,         30,  -174.3811,       5356,  2425.7,   1.7242,  34.6391,2,  34.6389,2,      103,2,   104.1,2,  161.54,2,   39.15,2,       0,2,    2.79,2,-999.000,9,-999.000,9,-999.000,9,-999.0000,9,  -999.0,9, -999.00,9,-999.0000,9,  -999.00,-999.000,9,-999.0000,9, -999.00,9,   -0.11,2,  -241.5,2,     2.2,-999.000,9,-999.000,     -999.0,9, -999.00,9,   34.69,2, -999.00,9,     -999.0,9,  -999.0,9, 20130430,     1945,       30,-174.3812,    34.8022,2,     -999.0,9,     -999.0,9,     1.7238,2,     -999.0,9,     -999.0,9,-999.0000, -999.00,-999.000
318M20130321,       P02W,      81,          1,         10,         10,2,20130430,       1844,         30,  -174.3811,       5356,  2731.9,   1.6173,  34.6539,2,  34.6535,2,    115.3,2,   116.2,2,  160.76,2,   38.34,2,       0,2,    2.73,2,   0.006,2,   0.009,2,   0.006,2,     0.07,2,  2347.4,2, 2416.36,2,   7.5082,2,       25,-999.000,9,-999.0000,9, -999.00,9,   -0.03,2,  -233.0,2,     2.0,-999.000,9,-999.000,     -999.0,9, -999.00,9, -999.00,9, -999.00,9,     -999.0,9,  -999.0,9, 20130430,     1939,       30,-174.3812,    34.8169,2,     -999.0,9,     -999.0,9,      1.618,2,     -999.0,9,     -999.0,9,-999.0000, -999.00,-999.000
318M20130321,       P02W,      81,          1,          9,          9,2,20130430,       1844,         30,  -174.3811,       5356,  3041.5,   1.5598,  34.6631,2,  34.6625,2,    125.6,2,     125,2,  159.49,2,   37.76,2,       0,2,    2.67,2,-999.000,9,-999.000,9,-999.000,9,-999.0000,9,  -999.0,9, -999.00,9,-999.0000,9,  -999.00,-999.000,9,-999.0000,9, -999.00,9,    0.01,2,  -227.6,2,     2.2,-999.000,9,-999.000,     -999.0,9, -999.00,9,   34.09,2, -999.00,9,     -999.0,9,  -999.0,9, 20130430,     1932,       30,-174.3811,    34.8259,2,     -999.0,9,     -999.0,9,     1.5603,2,     -999.0,9,     -999.0,9,-999.0000, -999.00,-999.000
318M20130321,       P02W,      81,          1,          8,          8,2,20130430,       1844,         30,  -174.3811,       5356,  3344.8,   1.5027,  34.6721,2,  34.6715,2,    133.9,2,   134.1,2,  158.71,2,   37.21,2,       0,2,    2.64,2,-999.000,9,-999.000,9,-999.000,9,-999.0000,9,  2337.6,2, 2418.26,2,    7.539,2,       25,-999.000,9,-999.0000,9, -999.00,9,    0.06,2,  -229.7,2,     2.3,-999.000,9,-999.000,     -999.0,9, -999.00,9, -999.00,9, -999.00,9,     -999.0,9,  -999.0,9, 20130430,     1926,       30,-174.3812,     34.835,2,     -999.0,9,     -999.0,9,     1.5029,2,     -999.0,9,     -999.0,9,-999.0000, -999.00,-999.000
318M20130321,       P02W,      81,          1,          7,          7,2,20130430,       1844,         30,  -174.3811,       5356,  3753.4,   1.4671,  34.6805,2,  34.6808,2,    142.6,2,   143.5,2,  156.66,2,   36.57,2,       0,2,    2.61,2,   0.011,2,   0.008,2,   0.006,2,     0.06,2,  -999.0,9, -999.00,9,-999.0000,9,  -999.00,-999.000,9,-999.0000,9, -999.00,9,    0.15,2,  -221.5,2,     2.6,-999.000,9,-999.000,     -999.0,9, -999.00,9,   35.46,2, -999.00,9,     -999.0,9,  -999.0,9, 20130430,     1918,       30,-174.3812,    34.8443,2,     -999.0,9,     -999.0,9,     1.4668,2,     -999.0,9,     -999.0,9,-999.0000, -999.00,-999.000