BOTTLE,20220817CCHSIOAMB
EXPOCODE,SECT_ID,STNNBR,CASTNO,SAMPNO,BTLNBR,BTLNBR_FLAG_W,DATE,TIME,LATITUDE,LONGITUDE,DEPTH,CTDPRS,CTDTMP,CTDSAL,CTDSAL_FLAG_W,SALNTY,SALNTY_FLAG_W,CTDOXY,CTDOXY_FLAG_W,OXYGEN,OXYGEN_FLAG_W,SILCAT,SILCAT_FLAG_W,NITRAT,NITRAT_FLAG_W,NITRIT,NITRIT_FLAG_W,PHSPHT,PHSPHT_FLAG_W,CFC-11,CFC-11_FLAG_W,CFC-12,CFC-12_FLAG_W,CFC113,CFC113_FLAG_W,SF6,SF6_FLAG_W,TCARBN,TCARBN_FLAG_W,ALKALI,ALKALI_FLAG_W,PH_TOT,PH_TOT_FLAG_W,PH_TMP,TRITUM,TRITUM_FLAG_W,HELIUM,HELIUM_FLAG_W,DELHE3,DELHE3_FLAG_W,DELC13,DELC13_FLAG_W,DELC14,DELC14_FLAG_W,C14ERR,NEON,NEON_FLAG_W,NEONER,I-129,I-129_FLAG_W,SR-90,SR-90_FLAG_W,DOC,DOC_FLAG_W,TDN,TDN_FLAG_W,CALCIUM,CALCIUM_FLAG_W,D15N_NO3,D15N_NO3_FLAG_W,BTL_DATE,BTL_TIME,BTL_LAT,BTL_LON,SALTREF,SALTREF_FLAG_W,CS-137,CS-137_FLAG_W,CS-134,CS-134_FLAG_W,REFTMP,REFTMP_FLAG_W,LAB_DEN,LAB_DEN_FLAG_W,D18O_NO3,D18O_NO3_FLAG_W,HELIER,DELHER,TRITER
,,,,,,,,,,,METERS,DBAR,ITS-90,PSS-78,,PSS-78,,UMOL/KG,,UMOL/KG,,UMOL/KG,,UMOL/KG,,UMOL/KG,,UMOL/KG,,PMOL/KG,,PMOL/KG,,PMOL/KG,,FMOL/KG,,UMOL/KG,,UMOL/KG,,,,DEG C,TU,,NMOL/KG,,PERCNT,,/MILLE,,/MILLE,,/MILLE,NMOL/KG,,NMOL/KG,BQ/M^3,,DM/.1MG,,UMOL/KG,,UMOL/KG,,MMOL/KG,,/MILLE,,,,,,G/KG,,BQ/M^3,,BQ/M^3,,ITS-90,,,,/MILLE,,NMOL/KG,PERCNT,TU
318M20130321,       P02E,     149,          1,          5,         37,2,20130530,       2214,    32.0002,  -119.7702,       3160,  2430.8,   1.8068,  34.6502,2,  34.6508,2,    101.6,2,   101.2,2,  166.13,2,   39.33,2,       0,2,    2.78,2,   0.006,2,   0.007,2,-999.000,1,   0.0391,2,  -999.0,9, -999.00,9,-999.0000,9,  -999.00,-999.000,9,-999.0000,9, -999.00,9,   -0.13,2,  -246.7,2,     1.9,-999.000,9,-999.000,     -999.0,9, -999.00,9,   37.11,2, -999.00,9,     -999.0,9,  -999.0,9, 20130530,     2230,  32.0002,-119.7702,    34.8142,2,     -999.0,9,     -999.0,9,     1.8077,2,     -999.0,9,     -999.0,9,-999.0000, -999.00,-999.000
318M20130321,       P02E,     149,          1,          4,          4,2,20130530,       2214,    32.0002,  -119.7702,       3160,  2683.3,   1.6943,  34.6609,2,  34.6608,2,    110.3,2,     111,2,   167.5,2,   38.71,2,       0,2,    2.73,2,   0.010,2,   0.008,2,-999.000,1,   0.0463,2,  2358.3,2, 2428.06,6,   7.5091,2,       25,-999.000,9,-999.0000,9, -999.00,9,   -0.07,2,  -244.6,2,     1.9,-999.000,9,-999.000,     -999.0,9, -999.00,9,   35.62,2, -999.00,9,     -999.0,9,  -999.0,9, 20130530,     2225,  32.0002,-119.7702,    34.8242,2,     -999.0,9,     -999.0,9,     1.6942,2,     -999.0,9,     -999.0,9,-999.0000, -999.00,-999.000
318M20130321,       P02E,     149,          1,          3,          3,2,20130530,       2214,    32.0002,  -119.7702,       3160,  2938.2,    1.635,  34.6666,2,  34.6667,2,    117.4,2,   117.2,2,  168.28,2,   38.35,2,       0,2,     2.7,2,   0.010,2,   0.010,2,-999.000,1,    0.011,2,  2356.1,2, 2430.26,2,   7.5194,6,       25,-999.000,9,-999.0000,9, -999.00,9,   -0.05,2,  -236.7,2,     2.3,-999.000,9,-999.000,     -999.0,9, -999.00,9,    35.9,2, -999.00,9,     -999.0,9,  -999.0,9, 20130530,     2220,  32.0002,-119.7702,    34.8301,2,     -999.0,9,     -999.0,9,      1.635,2,     -999.0,9,     -999.0,9,-999.0000, -999.00,-999.000
318M20130321,       P02E,     149,          1,          2,          2,2,20130530,       2214,    32.0002,  -119.7702,       3160,  3185.6,   1.6277,  34.6687,2,  34.6692,2,    119.6,2,   119.2,2,  169.06,2,   38.22,2,       0,2,    2.69,2,   0.013,2,   0.014,2,-999.000,1,   0.0101,2,  2356.4,6, 2430.96,2,   7.5256,2,       25,-999.000,9,-999.0000,9, -999.00,9,   -0.11,2,  -235.0,2,     2.9,-999.000,9,-999.000,     -999.0,9, -999.00,9,   34.98,2, -999.00,9,     -999.0,9,  -999.0,9, 20130530,     2214,  32.0002,-119.7702,    34.8327,2,     -999.0,9,     -999.0,9,     1.6264,2,     -999.0,9,     -999.0,9,-999.0000, -999.00,-999.000