BOTTLE,20220817CCHSIOAMB
EXPOCODE,SECT_ID,STNNBR,CASTNO,SAMPNO,BTLNBR,BTLNBR_FLAG_W,DATE,TIME,LATITUDE,LONGITUDE,DEPTH,CTDPRS,CTDTMP,CTDSAL,CTDSAL_FLAG_W,SALNTY,SALNTY_FLAG_W,CTDOXY,CTDOXY_FLAG_W,OXYGEN,OXYGEN_FLAG_W,SILCAT,SILCAT_FLAG_W,NITRAT,NITRAT_FLAG_W,NITRIT,NITRIT_FLAG_W,PHSPHT,PHSPHT_FLAG_W,CFC-11,CFC-11_FLAG_W,CFC-12,CFC-12_FLAG_W,CFC113,CFC113_FLAG_W,SF6,SF6_FLAG_W,TCARBN,TCARBN_FLAG_W,ALKALI,ALKALI_FLAG_W,PH_TOT,PH_TOT_FLAG_W,PH_TMP,TRITUM,TRITUM_FLAG_W,HELIUM,HELIUM_FLAG_W,DELHE3,DELHE3_FLAG_W,DELC13,DELC13_FLAG_W,DELC14,DELC14_FLAG_W,C14ERR,NEON,NEON_FLAG_W,NEONER,I-129,I-129_FLAG_W,SR-90,SR-90_FLAG_W,DOC,DOC_FLAG_W,TDN,TDN_FLAG_W,CALCIUM,CALCIUM_FLAG_W,D15N_NO3,D15N_NO3_FLAG_W,BTL_DATE,BTL_TIME,BTL_LAT,BTL_LON,SALTREF,SALTREF_FLAG_W,CS-137,CS-137_FLAG_W,CS-134,CS-134_FLAG_W,REFTMP,REFTMP_FLAG_W,LAB_DEN,LAB_DEN_FLAG_W,D18O_NO3,D18O_NO3_FLAG_W,HELIER,DELHER,TRITER
,,,,,,,,,,,METERS,DBAR,ITS-90,PSS-78,,PSS-78,,UMOL/KG,,UMOL/KG,,UMOL/KG,,UMOL/KG,,UMOL/KG,,UMOL/KG,,PMOL/KG,,PMOL/KG,,PMOL/KG,,FMOL/KG,,UMOL/KG,,UMOL/KG,,,,DEG C,TU,,NMOL/KG,,PERCNT,,/MILLE,,/MILLE,,/MILLE,NMOL/KG,,NMOL/KG,BQ/M^3,,DM/.1MG,,UMOL/KG,,UMOL/KG,,MMOL/KG,,/MILLE,,,,,,G/KG,,BQ/M^3,,BQ/M^3,,ITS-90,,,,/MILLE,,NMOL/KG,PERCNT,TU
318M20130321,       P02W,       8,          1,          7,          7,2,20130323,       2322,    31.8068,   133.6466,       4229,    2790,   1.6753,  34.6524,2,  34.6539,2,      134,2,   134.2,2,  144.85,2,   36.53,2,       0,2,    2.58,2,   0.054,2,   0.028,2,   0.014,2,        0,2,  -999.0,9, -999.00,9,-999.0000,9,  -999.00,-999.000,9,-999.0000,9, -999.00,9, -999.00,9,  -999.0,9,  -999.0,-999.000,9,-999.000,     -999.0,9, -999.00,9, -999.00,9, -999.00,9,     -999.0,9,  -999.0,9, 20130324,       10,  31.8052, 133.6557,    34.8173,2,     -999.0,9,     -999.0,9,     1.6752,2,     -999.0,9,     -999.0,9,-999.0000, -999.00,-999.000
318M20130321,       P02W,       8,          1,          6,          6,2,20130323,       2322,    31.8068,   133.6466,       4229,  3040.2,   1.5912,  34.6646,2,  34.6657,2,    142.6,2,   142.2,2,  144.56,2,   36.07,2,       0,2,    2.53,2,-999.000,9,-999.000,9,-999.000,9,-999.0000,9,  2323.4,2, 2412.66,6,   7.5522,6,       25,-999.000,9,-999.0000,9, -999.00,9, -999.00,9,  -999.0,9,  -999.0,-999.000,9,-999.000,     -999.0,9, -999.00,9, -999.00,9, -999.00,9,     -999.0,9,  -999.0,9, 20130324,        4,  31.8056, 133.6547,    34.8291,2,     -999.0,9,     -999.0,9,     1.5913,2,     -999.0,9,     -999.0,9,-999.0000, -999.00,-999.000
318M20130321,       P02W,       8,          1,          5,          5,2,20130323,       2322,    31.8068,   133.6466,       4229,  3346.5,   1.5339,  34.6743,2,  34.6755,2,    148.5,2,   148.4,2,  143.97,2,   35.69,2,       0,2,    2.51,2,   0.032,2,   0.015,2,   0.003,2,        0,2,  -999.0,9, -999.00,9,-999.0000,9,  -999.00,-999.000,9,-999.0000,9, -999.00,9, -999.00,9,  -999.0,9,  -999.0,-999.000,9,-999.000,     -999.0,9, -999.00,9, -999.00,9, -999.00,9,     -999.0,9,  -999.0,9, 20130323,     2356,  31.8059, 133.6534,     34.839,2,     -999.0,9,     -999.0,9,     1.5343,2,     -999.0,9,     -999.0,9,-999.0000, -999.00,-999.000
318M20130321,       P02W,       8,          1,          4,          4,2,20130323,       2322,    31.8068,   133.6466,       4229,  3650.2,   1.5211,  34.6789,2,  34.6798,2,      152,2,   152.2,2,  143.48,2,   35.45,2,       0,2,     2.5,2,-999.000,9,-999.000,9,-999.000,9,-999.0000,9,  -999.0,9, -999.00,9,-999.0000,9,  -999.00,-999.000,9,-999.0000,9, -999.00,9, -999.00,9,  -999.0,9,  -999.0,-999.000,9,-999.000,     -999.0,9, -999.00,9, -999.00,9, -999.00,9,     -999.0,9,  -999.0,9, 20130323,     2347,  31.8064, 133.6516,    34.8434,2,     -999.0,9,     -999.0,9,     1.5214,2,     -999.0,9,     -999.0,9,-999.0000, -999.00,-999.000
318M20130321,       P02W,       8,          1,          3,          3,2,20130323,       2322,    31.8068,   133.6466,       4229,  3933.7,   1.5377,  34.6806,2,  34.6818,2,    152.4,2,     153,2,   142.9,2,   35.35,2,       0,2,    2.49,2,   0.000,2,   0.015,2,   0.005,2,        0,2,  -999.0,9, -999.00,9,-999.0000,9,  -999.00,-999.000,9,-999.0000,9, -999.00,9, -999.00,9,  -999.0,9,  -999.0,-999.000,9,-999.000,     -999.0,9, -999.00,9, -999.00,9, -999.00,9,     -999.0,9,  -999.0,9, 20130323,     2335,  31.8068,  133.649,    34.8453,2,     -999.0,9,     -999.0,9,      1.538,2,     -999.0,9,     -999.0,9,-999.0000, -999.00,-999.000
318M20130321,       P02W,       8,          1,          2,          2,2,20130323,       2322,    31.8068,   133.6466,       4229,  4178.4,    1.559,  34.6808,2,   34.682,2,    154.1,2,   154.6,2,   142.8,2,    35.3,2,       0,2,    2.49,2,-999.000,9,-999.000,9,-999.000,9,-999.0000,9,  2318.1,6, 2411.96,2,   7.5721,6,       25,-999.000,9,-999.0000,9, -999.00,9, -999.00,9,  -999.0,9,  -999.0,-999.000,9,-999.000,     -999.0,9, -999.00,9, -999.00,9, -999.00,9,     -999.0,9,  -999.0,9, 20130323,     2326,   31.807, 133.6475,    34.8455,2,     -999.0,9,     -999.0,9,     1.5586,2,     -999.0,9,     -999.0,9,-999.0000, -999.00,-999.000
318M20130321,       P02W,       8,          1,          1,          1,2,20130323,       2322,    31.8068,   133.6466,       4229,  4291.8,   1.5667,  34.6812,2,  34.6836,2,    155.1,2,   154.7,2,   142.7,2,   35.29,2,       0,2,    2.48,2,   0.106,2,   0.034,2,  -0.004,2,        0,2,  2319.5,2, 2414.66,2,   7.5735,2,       25,-999.000,9,-999.0000,9, -999.00,9, -999.00,9,  -999.0,9,  -999.0,-999.000,9,-999.000,     -999.0,9, -999.00,9, -999.00,9, -999.00,9,     -999.0,9,  -999.0,9, 20130323,     2322,  31.8069, 133.6467,    34.8471,2,     -999.0,9,     -999.0,9,     1.5664,2,     -999.0,9,     -999.0,9,-999.0000, -999.00,-999.000