BOTTLE,20220817CCHSIOAMB
EXPOCODE,SECT_ID,STNNBR,CASTNO,SAMPNO,BTLNBR,BTLNBR_FLAG_W,DATE,TIME,LATITUDE,LONGITUDE,DEPTH,CTDPRS,CTDTMP,CTDSAL,CTDSAL_FLAG_W,SALNTY,SALNTY_FLAG_W,CTDOXY,CTDOXY_FLAG_W,OXYGEN,OXYGEN_FLAG_W,SILCAT,SILCAT_FLAG_W,NITRAT,NITRAT_FLAG_W,NITRIT,NITRIT_FLAG_W,PHSPHT,PHSPHT_FLAG_W,CFC-11,CFC-11_FLAG_W,CFC-12,CFC-12_FLAG_W,CFC113,CFC113_FLAG_W,SF6,SF6_FLAG_W,TCARBN,TCARBN_FLAG_W,ALKALI,ALKALI_FLAG_W,PH_TOT,PH_TOT_FLAG_W,PH_TMP,TRITUM,TRITUM_FLAG_W,HELIUM,HELIUM_FLAG_W,DELHE3,DELHE3_FLAG_W,DELC13,DELC13_FLAG_W,DELC14,DELC14_FLAG_W,C14ERR,NEON,NEON_FLAG_W,NEONER,I-129,I-129_FLAG_W,SR-90,SR-90_FLAG_W,DOC,DOC_FLAG_W,TDN,TDN_FLAG_W,CALCIUM,CALCIUM_FLAG_W,D15N_NO3,D15N_NO3_FLAG_W,BTL_DATE,BTL_TIME,BTL_LAT,BTL_LON,SALTREF,SALTREF_FLAG_W,CS-137,CS-137_FLAG_W,CS-134,CS-134_FLAG_W,REFTMP,REFTMP_FLAG_W,LAB_DEN,LAB_DEN_FLAG_W,D18O_NO3,D18O_NO3_FLAG_W,HELIER,DELHER,TRITER
,,,,,,,,,,,METERS,DBAR,ITS-90,PSS-78,,PSS-78,,UMOL/KG,,UMOL/KG,,UMOL/KG,,UMOL/KG,,UMOL/KG,,UMOL/KG,,PMOL/KG,,PMOL/KG,,PMOL/KG,,FMOL/KG,,UMOL/KG,,UMOL/KG,,,,DEG C,TU,,NMOL/KG,,PERCNT,,/MILLE,,/MILLE,,/MILLE,NMOL/KG,,NMOL/KG,BQ/M^3,,DM/.1MG,,UMOL/KG,,UMOL/KG,,MMOL/KG,,/MILLE,,,,,,G/KG,,BQ/M^3,,BQ/M^3,,ITS-90,,,,/MILLE,,NMOL/KG,PERCNT,TU
318M20130321,       P02W,      15,          1,         36,         36,2,20130409,       1230,    30.0008,   134.8604,       4714,     3.8,  19.2307,   34.746,2,  34.7451,2,    223.1,2,   223.3,2,    2.05,2,    0.73,2,    0.03,2,    0.08,2,   2.320,2,   1.401,2,   0.166,2,     1.43,2,  2002.7,6, 2281.11,2,   8.0136,2,       25,-999.000,9,-999.0000,9, -999.00,9, -999.00,9,  -999.0,9,  -999.0,-999.000,9,-999.000,     -999.0,9, -999.00,9,   57.08,2,     4.2,2,     -999.0,9,  -999.0,9, 20130409,     1425,  29.9997, 134.8622,    34.9089,2,     -999.0,9,     -999.0,9,    19.2297,2,     -999.0,9,     -999.0,9,-999.0000, -999.00,-999.000
318M20130321,       P02W,      15,          1,         35,         35,2,20130409,       1230,    30.0008,   134.8604,       4714,    35.2,  19.2403,  34.7461,2,  34.7439,2,    222.6,2,   223.1,2,    1.95,2,    0.73,2,    0.03,2,    0.08,2,   2.366,2,   1.426,2,   0.171,2,      1.5,2,    2003,2, 2280.31,2,   8.0132,2,       25,-999.000,9,-999.0000,9, -999.00,9, -999.00,9,  -999.0,9,  -999.0,-999.000,9,-999.000,     -999.0,9, -999.00,9,   53.07,2,    5.08,2,     -999.0,9,  -999.0,9, 20130409,     1424,       30, 134.8623,    34.9078,2,     -999.0,9,     -999.0,9,    19.2408,2,     -999.0,9,     -999.0,9,-999.0000, -999.00,-999.000
318M20130321,       P02W,      15,          1,         34,         34,2,20130409,       1230,    30.0008,   134.8604,       4714,    60.6,  19.2163,  34.7495,2,  34.7477,2,    217.5,2,   217.8,2,    2.15,2,    1.19,2,    0.04,2,    0.11,2,   2.352,2,   1.406,2,   0.155,2,     1.39,2,  -999.0,9, -999.00,9,-999.0000,9,  -999.00,-999.000,9,-999.0000,9, -999.00,9, -999.00,9,  -999.0,9,  -999.0,-999.000,9,-999.000,     -999.0,9, -999.00,9,   52.38,2,    5.41,2,     -999.0,9,  -999.0,9, 20130409,     1422,  30.0003, 134.8624,    34.9115,2,     -999.0,9,     -999.0,9,    19.2157,2,     -999.0,9,     -999.0,9,-999.0000, -999.00,-999.000
318M20130321,       P02W,      15,          1,         33,         33,2,20130409,       1230,    30.0008,   134.8604,       4714,    89.4,   18.795,  34.7756,2,  34.7746,2,    209.4,2,   200.6,2,    2.93,2,    3.16,2,    0.03,2,    0.23,2,   2.515,2,   1.515,2,   0.093,2,     1.37,2,  2024.1,2, 2280.91,2,   7.9741,6,       25,-999.000,9,-999.0000,9, -999.00,9, -999.00,9,  -999.0,9,  -999.0,-999.000,9,-999.000,     -999.0,9, -999.00,9, -999.00,5,    7.15,2,     -999.0,9,  -999.0,9, 20130409,     1420,  30.0006, 134.8625,    34.9386,2,     -999.0,9,     -999.0,9,    18.7934,2,     -999.0,9,     -999.0,9,-999.0000, -999.00,-999.000
318M20130321,       P02W,      15,          1,         32,         32,2,20130409,       1230,    30.0008,   134.8604,       4714,   121.4,  18.4712,  34.7651,2,  34.7624,2,    214.2,2,   206.7,2,    2.93,2,    2.99,2,    0.02,2,    0.21,2,   2.387,2,   1.312,2,   0.090,2,     1.42,2,  -999.0,9, -999.00,9,-999.0000,9,  -999.00,-999.000,9,-999.0000,9, -999.00,9, -999.00,9,  -999.0,9,  -999.0,-999.000,9,-999.000,     -999.0,9, -999.00,9,   54.48,2,    8.22,2,     -999.0,9,  -999.0,9, 20130409,     1418,  30.0006, 134.8623,    34.9264,2,     -999.0,9,     -999.0,9,    18.4698,2,     -999.0,9,     -999.0,9,-999.0000, -999.00,-999.000
318M20130321,       P02W,      15,          1,         31,         31,2,20130409,       1230,    30.0008,   134.8604,       4714,   174.2,  17.9323,  34.7406,2,  34.7404,2,    198.8,2,     200,2,    3.81,2,    4.28,2,    0.02,2,     0.3,2,   2.500,2,   1.466,2,   0.056,2,     1.37,2,  2034.2,2, 2278.31,6,   7.9556,2,       25,-999.000,9,-999.0000,9, -999.00,9, -999.00,9,  -999.0,9,  -999.0,-999.000,9,-999.000,     -999.0,9, -999.00,9,   52.18,2,    8.01,2,     -999.0,9,  -999.0,9, 20130409,     1416,  30.0003, 134.8622,    34.9043,2,     -999.0,9,     -999.0,9,    17.9285,2,     -999.0,9,     -999.0,9,-999.0000, -999.00,-999.000
318M20130321,       P02W,      15,          1,         30,         30,2,20130409,       1230,    30.0008,   134.8604,       4714,     227,  16.9947,  34.6864,2,  34.6882,2,    194.2,2,   196.2,2,    5.47,2,    6.05,2,    0.01,2,    0.41,2,   2.571,2,   1.490,2,   0.038,2,      1.3,2,  -999.0,9, -999.00,9,-999.0000,9,  -999.00,-999.000,9,-999.0000,9, -999.00,9, -999.00,9,  -999.0,9,  -999.0,-999.000,9,-999.000,     -999.0,9, -999.00,9,   49.56,2,    9.08,2,     -999.0,9,  -999.0,9, 20130409,     1415,  30.0003, 134.8622,    34.8517,2,     -999.0,9,     -999.0,9,    16.9808,2,     -999.0,9,     -999.0,9,-999.0000, -999.00,-999.000
318M20130321,       P02W,      15,          1,         29,         29,2,20130409,       1230,    30.0008,   134.8604,       4714,   274.5,  16.0257,  34.6255,2,  34.6269,2,    184.8,2,   187.9,2,    8.49,2,    8.31,2,    0.01,2,    0.57,2,   2.655,2,   1.527,2,   0.046,2,     1.21,2,  2063.3,2, 2275.61,2,   7.8917,2,       25,-999.000,9,-999.0000,9, -999.00,9, -999.00,9,  -999.0,9,  -999.0,-999.000,9,-999.000,     -999.0,9, -999.00,9,   48.39,2,   12.17,2,     -999.0,9,  -999.0,9, 20130409,     1413,  30.0003, 134.8624,    34.7902,2,     -999.0,9,     -999.0,9,     16.014,2,     -999.0,9,     -999.0,9,-999.0000, -999.00,-999.000
318M20130321,       P02W,      15,          1,         28,         28,2,20130409,       1230,    30.0008,   134.8604,       4714,   311.6,  15.1081,  34.5687,2,  34.5713,2,    180.2,2,   181.9,2,   11.52,2,   10.23,2,    0.01,2,     0.7,2,   2.721,2,   1.549,2,   0.040,2,     1.15,2,  -999.0,9, -999.00,9,-999.0000,9,  -999.00,-999.000,9,-999.0000,9, -999.00,9, -999.00,9,  -999.0,9,  -999.0,-999.000,9,-999.000,     -999.0,9, -999.00,9,   43.85,2,   13.83,2,     -999.0,9,  -999.0,9, 20130409,     1411,  30.0003, 134.8628,    34.7343,2,     -999.0,9,     -999.0,9,    15.0765,3,     -999.0,9,     -999.0,9,-999.0000, -999.00,-999.000
318M20130321,       P02W,      15,          1,         27,         27,2,20130409,       1230,    30.0008,   134.8604,       4714,   363.6,  13.5231,  34.4737,2,  34.4715,2,    174.7,2,   172.6,2,   18.16,2,   13.74,2,    0.01,2,    0.96,2,   2.738,2,   1.516,2,   0.053,2,        1,2,  2104.4,2, 2275.11,2,   7.8033,6,       25,-999.000,9,-999.0000,9, -999.00,9, -999.00,9,  -999.0,9,  -999.0,-999.000,9,-999.000,     -999.0,9, -999.00,9,    45.8,2, -999.00,9,     -999.0,9,  -999.0,9, 20130409,     1410,  30.0001, 134.8625,    34.6341,2,     -999.0,9,     -999.0,9,    13.5275,2,     -999.0,9,     -999.0,9,-999.0000, -999.00,-999.000
318M20130321,       P02W,      15,          1,         26,         26,2,20130409,       1230,    30.0008,   134.8604,       4714,     419,  12.2488,  34.3956,2,  34.3946,2,    169.9,2,   168.7,2,   22.55,2,   16.09,2,    0.01,2,    1.14,2,   2.763,2,   1.328,2,   0.052,2,     0.96,2,  -999.0,9, -999.00,9,-999.0000,9,  -999.00,-999.000,9,-999.0000,9, -999.00,9, -999.00,9,  -999.0,9,  -999.0,-999.000,9,-999.000,     -999.0,9, -999.00,9,   44.15,2, -999.00,9,     -999.0,9,  -999.0,9, 20130409,     1408,  29.9998, 134.8624,    34.5568,2,     -999.0,9,     -999.0,9,    12.2478,2,     -999.0,9,     -999.0,9,-999.0000, -999.00,-999.000
318M20130321,       P02W,      15,          1,         25,         25,2,20130409,       1230,    30.0008,   134.8604,       4714,   468.5,  11.0498,  34.3259,2,   34.325,2,    162.9,2,   162.4,2,    28.8,2,   18.64,2,    0.01,2,    1.32,2,   2.751,2,   1.477,2,   0.055,2,     0.82,2,  2140.8,2, 2278.11,2,   7.7241,2,       25,-999.000,9,-999.0000,9, -999.00,9, -999.00,9,  -999.0,9,  -999.0,-999.000,9,-999.000,     -999.0,9, -999.00,9,   41.16,2, -999.00,9,     -999.0,9,  -999.0,9, 20130409,     1406,  29.9998, 134.8625,    34.4868,2,     -999.0,9,     -999.0,9,    11.0412,2,     -999.0,9,     -999.0,9,-999.0000, -999.00,-999.000
318M20130321,       P02W,      15,          1,         24,         24,4,20130409,       1230,    30.0008,   134.8604,       4714,   535.4,   9.0776,  34.2396,2,  34.3265,4,    143.4,2,   162.7,4,    28.8,4,   18.59,4,    0.01,4,    1.31,4,   2.744,4,   1.465,4,   0.055,4,     0.89,4,  -999.0,9, -999.00,9,-999.0000,9,  -999.00,-999.000,9,-999.0000,9, -999.00,9, -999.00,9,  -999.0,9,  -999.0,-999.000,9,-999.000,     -999.0,9, -999.00,9,      41,2, -999.00,9,     -999.0,9,  -999.0,9, 20130409,     1404,  29.9999, 134.8624,    34.4884,4,     -999.0,9,     -999.0,9,     9.0778,2,     -999.0,9,     -999.0,9,-999.0000, -999.00,-999.000
318M20130321,       P02W,      15,          1,         23,         23,2,20130409,       1230,    30.0008,   134.8604,       4714,   638.9,   6.9775,  34.1938,2,  34.1983,2,    115.8,2,   115.8,2,   65.03,2,   29.93,2,    0.01,2,    2.15,2,   1.932,2,   0.983,2,   0.070,2,     0.51,2,  2231.3,2, 2302.62,2,   7.5344,2,       25,-999.000,9,-999.0000,9, -999.00,9, -999.00,9,  -999.0,9,  -999.0,-999.000,9,-999.000,     -999.0,9, -999.00,9,   40.42,2, -999.00,9,     -999.0,9,  -999.0,9, 20130409,     1402,  30.0001, 134.8623,    34.3595,2,     -999.0,9,     -999.0,9,     6.9735,2,     -999.0,9,     -999.0,9,-999.0000, -999.00,-999.000
318M20130321,       P02W,      15,          1,         22,         38,2,20130409,       1230,    30.0008,   134.8604,       4714,   739.7,   5.3444,  34.2274,2,  34.2267,2,     84.3,2,    84.6,2,   89.05,2,    35.4,2,    0.01,2,    2.55,2,-999.000,9,-999.000,9,-999.000,9,-999.0000,9,  -999.0,9, -999.00,9,-999.0000,9,  -999.00,-999.000,9,-999.0000,9, -999.00,9, -999.00,9,  -999.0,9,  -999.0,-999.000,9,-999.000,     -999.0,9, -999.00,9,   40.06,2, -999.00,9,     -999.0,9,  -999.0,9, 20130409,     1359,       30, 134.8623,    34.3881,2,     -999.0,9,     -999.0,9,     5.3464,2,     -999.0,9,     -999.0,9,-999.0000, -999.00,-999.000
318M20130321,       P02W,      15,          1,         21,         21,2,20130409,       1230,    30.0008,   134.8604,       4714,   842.4,    4.467,  34.2731,2,  34.2736,2,     66.1,2,    66.8,2,  105.15,2,   38.26,2,       0,2,    2.73,2,   0.873,2,   0.410,2,   0.031,2,     0.19,2,  2344.5,3, 2338.93,2,   7.4017,2,       25,-999.000,9,-999.0000,9, -999.00,9, -999.00,9,  -999.0,9,  -999.0,-999.000,9,-999.000,     -999.0,9, -999.00,9,   39.49,2, -999.00,9,     -999.0,9,  -999.0,9, 20130409,     1356,  30.0001, 134.8623,    34.4352,2,     -999.0,9,     -999.0,9,     4.4693,2,     -999.0,9,     -999.0,9,-999.0000, -999.00,-999.000
318M20130321,       P02W,      15,          1,         20,         20,2,20130409,       1230,    30.0008,   134.8604,       4714,   938.8,   3.9034,  34.3225,2,  34.3209,2,     56.4,2,    57.3,2,  117.35,2,   39.85,2,       0,2,    2.84,2,-999.000,9,-999.000,9,-999.000,9,-999.0000,9,  -999.0,9, -999.00,9,-999.0000,9,  -999.00,-999.000,9,-999.0000,9, -999.00,9, -999.00,9,  -999.0,9,  -999.0,-999.000,9,-999.000,     -999.0,9, -999.00,9,   36.08,2, -999.00,9,     -999.0,9,  -999.0,9, 20130409,     1354,  30.0003, 134.8622,    34.4827,2,     -999.0,9,     -999.0,9,     3.9037,2,     -999.0,9,     -999.0,9,-999.0000, -999.00,-999.000
318M20130321,       P02W,      15,          1,         19,         19,2,20130409,       1230,    30.0008,   134.8604,       4714,  1041.4,   3.4642,  34.3838,2,  34.3837,2,     54.4,2,    54.5,2,  127.31,2,   40.67,2,       0,2,    2.91,2,   0.359,2,   0.166,2,   0.024,2,     0.08,2,  2345.8,2, 2370.14,2,   7.3789,2,       25,-999.000,9,-999.0000,9, -999.00,9, -999.00,9,  -999.0,9,  -999.0,-999.000,9,-999.000,     -999.0,9, -999.00,9,   35.99,2, -999.00,9,     -999.0,9,  -999.0,9, 20130409,     1351,  30.0004,  134.862,    34.5458,2,     -999.0,9,     -999.0,9,     3.4644,2,     -999.0,9,     -999.0,9,-999.0000, -999.00,-999.000
318M20130321,       P02W,      15,          1,         18,         18,2,20130409,       1230,    30.0008,   134.8604,       4714,    1145,   3.1605,  34.4199,2,  34.4198,2,     54.9,2,    53.6,2,  134.53,2,   41.16,2,       0,2,    2.94,2,-999.000,9,-999.000,9,-999.000,9,-999.0000,9,  2353.4,2, 2375.14,2,   7.3764,2,       25,-999.000,9,-999.0000,9, -999.00,9, -999.00,9,  -999.0,9,  -999.0,-999.000,9,-999.000,     -999.0,9, -999.00,9,   37.52,2, -999.00,9,     -999.0,9,  -999.0,9, 20130409,     1349,       30,  134.862,    34.5821,2,     -999.0,9,     -999.0,9,     3.1611,2,     -999.0,9,     -999.0,9,-999.0000, -999.00,-999.000
318M20130321,       P02W,      15,          1,         17,         17,9,20130409,       1230,    30.0008,   134.8604,       4714,  1246.1,   2.9133,  34.4638,2,-999.0000,9,     60.2,2,  -999.0,9, -999.00,9, -999.00,9, -999.00,9, -999.00,9,-999.000,9,-999.000,9,-999.000,9,-999.0000,9,  -999.0,9, -999.00,9,-999.0000,9,  -999.00,-999.000,9,-999.0000,9, -999.00,9, -999.00,9,  -999.0,9,  -999.0,-999.000,9,-999.000,     -999.0,9, -999.00,9, -999.00,9, -999.00,9,     -999.0,9,  -999.0,9, 20130409,     1346,  29.9996,  134.862,     -999.0,9,     -999.0,9,     -999.0,9,     2.9135,2,     -999.0,9,     -999.0,9,-999.0000, -999.00,-999.000
318M20130321,       P02W,      15,          1,         16,         16,2,20130409,       1230,    30.0008,   134.8604,       4714,  1347.5,   2.6845,  34.4957,2,  34.4964,2,     65.2,2,    65.6,2,   143.5,2,   40.82,2,       0,2,    2.91,2,-999.000,9,-999.000,9,-999.000,9,-999.0000,9,  -999.0,9, -999.00,9,-999.0000,9,  -999.00,-999.000,9,-999.0000,9, -999.00,9, -999.00,9,  -999.0,9,  -999.0,-999.000,9,-999.000,     -999.0,9, -999.00,9,   37.14,2, -999.00,9,     -999.0,9,  -999.0,9, 20130409,     1343,  29.9995,  134.862,    34.6591,2,     -999.0,9,     -999.0,9,     2.6851,2,     -999.0,9,     -999.0,9,-999.0000, -999.00,-999.000
318M20130321,       P02W,      15,          1,         15,         15,2,20130409,       1230,    30.0008,   134.8604,       4714,    1444,   2.5566,  34.5147,2,  34.5151,2,     70.7,2,    71.1,2,  144.87,2,    40.6,2,       0,2,    2.89,2,   0.100,2,   0.046,2,   0.009,2,     0.09,2,  2357.3,2, 2397.55,2,   7.4145,2,       25,-999.000,9,-999.0000,9, -999.00,9, -999.00,9,  -999.0,9,  -999.0,-999.000,9,-999.000,     -999.0,9, -999.00,9,   37.53,2, -999.00,9,     -999.0,9,  -999.0,9, 20130409,     1341,  29.9996, 134.8619,    34.6778,2,     -999.0,9,     -999.0,9,     2.5575,2,     -999.0,9,     -999.0,9,-999.0000, -999.00,-999.000
318M20130321,       P02W,      15,          1,         14,         14,4,20130409,       1230,    30.0008,   134.8604,       4714,  1547.2,    2.378,  34.5411,2,  34.4405,4,     77.4,2,    55.9,4,  137.05,4,   41.13,4,       0,4,    2.93,4,-999.000,9,-999.000,9,-999.000,9,-999.0000,9,  2354.8,4, 2378.85,4,-999.0000,5,  -999.00,-999.000,9,-999.0000,9, -999.00,9, -999.00,9,  -999.0,9,  -999.0,-999.000,9,-999.000,     -999.0,9, -999.00,9,   37.08,2, -999.00,9,     -999.0,9,  -999.0,9, 20130409,     1338,  29.9997, 134.8618,    34.6029,4,     -999.0,9,     -999.0,9,     2.3784,2,     -999.0,9,     -999.0,9,-999.0000, -999.00,-999.000
318M20130321,       P02W,      15,          1,         13,         13,2,20130409,       1230,    30.0008,   134.8604,       4714,  1679.6,    2.216,  34.5649,2,  34.5652,2,     85.8,2,    85.7,2,  148.77,2,   39.89,2,       0,2,    2.82,2,   0.054,2,   0.023,2,   0.015,2,     0.06,2,  2355.1,2, 2399.95,2,   7.4453,2,       25,-999.000,9,-999.0000,9, -999.00,9, -999.00,9,  -999.0,9,  -999.0,-999.000,9,-999.000,     -999.0,9, -999.00,9,   36.83,2, -999.00,9,     -999.0,9,  -999.0,9, 20130409,     1335,  29.9998, 134.8617,    34.7281,2,     -999.0,9,     -999.0,9,     2.2162,2,     -999.0,9,     -999.0,9,-999.0000, -999.00,-999.000
318M20130321,       P02W,      15,          1,         12,         12,2,20130409,       1230,    30.0008,   134.8604,       4714,  1880.7,   2.0323,   34.595,2,  34.5956,2,    100.6,2,   100.6,2,  148.08,2,   38.98,2,       0,2,    2.75,2,-999.000,9,-999.000,9,-999.000,9,-999.0000,9,  -999.0,9, -999.00,9,-999.0000,9,  -999.00,-999.000,9,-999.0000,9, -999.00,9, -999.00,9,  -999.0,9,  -999.0,-999.000,9,-999.000,     -999.0,9, -999.00,9, -999.00,9, -999.00,9,     -999.0,9,  -999.0,9, 20130409,     1331,  29.9998, 134.8616,    34.7587,2,     -999.0,9,     -999.0,9,     2.0317,2,     -999.0,9,     -999.0,9,-999.0000, -999.00,-999.000
318M20130321,       P02W,      15,          1,         11,         11,2,20130409,       1230,    30.0008,   134.8604,       4714,  2105.2,   1.8846,  34.6191,2,  34.6204,2,      115,2,     114,2,   146.9,2,   38.18,2,       0,2,    2.69,2,   0.034,2,   0.021,2,   0.025,2,     0.06,2,  2342.7,2, 2408.46,2,   7.5008,2,       25,-999.000,9,-999.0000,9, -999.00,9, -999.00,9,  -999.0,9,  -999.0,-999.000,9,-999.000,     -999.0,9, -999.00,9,   36.18,2, -999.00,9,     -999.0,9,  -999.0,9, 20130409,     1326,  29.9999, 134.8615,    34.7836,2,     -999.0,9,     -999.0,9,     1.8842,2,     -999.0,9,     -999.0,9,-999.0000, -999.00,-999.000
318M20130321,       P02W,      15,          1,         10,         10,2,20130409,       1230,    30.0008,   134.8604,       4714,    2362,   1.7626,  34.6378,2,  34.6379,2,    125.5,2,   127.1,2,  145.93,2,   37.49,2,       0,2,    2.64,2,-999.000,9,-999.000,9,-999.000,9,-999.0000,9,  -999.0,9, -999.00,9,-999.0000,9,  -999.00,-999.000,9,-999.0000,9, -999.00,9, -999.00,9,  -999.0,9,  -999.0,-999.000,9,-999.000,     -999.0,9, -999.00,9, -999.00,9, -999.00,9,     -999.0,9,  -999.0,9, 20130409,     1321,  30.0001, 134.8615,    34.8012,2,     -999.0,9,     -999.0,9,     1.7627,2,     -999.0,9,     -999.0,9,-999.0000, -999.00,-999.000
318M20130321,       P02W,      15,          1,          9,          9,2,20130409,       1230,    30.0008,   134.8604,       4714,  2611.7,   1.6679,  34.6522,2,  34.6518,2,    134.4,2,   133.8,2,  144.95,2,   36.95,2,       0,2,    2.59,2,   0.033,2,   0.021,2,   0.010,2,     0.07,2,  2333.4,2, 2411.76,2,   7.5378,6,       25,-999.000,9,-999.0000,9, -999.00,9, -999.00,9,  -999.0,9,  -999.0,-999.000,9,-999.000,     -999.0,9, -999.00,9,   38.92,2, -999.00,9,     -999.0,9,  -999.0,9, 20130409,     1316,       30, 134.8615,    34.8152,2,     -999.0,9,     -999.0,9,     1.6681,2,     -999.0,9,     -999.0,9,-999.0000, -999.00,-999.000
318M20130321,       P02W,      15,          1,          8,          8,2,20130409,       1230,    30.0008,   134.8604,       4714,  2869.1,    1.591,  34.6636,2,  34.6638,2,    141.3,2,   141.1,2,  144.56,2,   36.51,2,       0,2,    2.56,2,-999.000,9,-999.000,9,-999.000,9,-999.0000,9,  -999.0,9, -999.00,9,-999.0000,9,  -999.00,-999.000,9,-999.0000,9, -999.00,9, -999.00,9,  -999.0,9,  -999.0,-999.000,9,-999.000,     -999.0,9, -999.00,9, -999.00,9, -999.00,9,     -999.0,9,  -999.0,9, 20130409,     1311,  30.0001, 134.8614,    34.8273,2,     -999.0,9,     -999.0,9,     1.5912,2,     -999.0,9,     -999.0,9,-999.0000, -999.00,-999.000