BOTTLE,20220817CCHSIOAMB
EXPOCODE,SECT_ID,STNNBR,CASTNO,SAMPNO,BTLNBR,BTLNBR_FLAG_W,DATE,TIME,LATITUDE,LONGITUDE,DEPTH,CTDPRS,CTDTMP,CTDSAL,CTDSAL_FLAG_W,SALNTY,SALNTY_FLAG_W,CTDOXY,CTDOXY_FLAG_W,OXYGEN,OXYGEN_FLAG_W,SILCAT,SILCAT_FLAG_W,NITRAT,NITRAT_FLAG_W,NITRIT,NITRIT_FLAG_W,PHSPHT,PHSPHT_FLAG_W,CFC-11,CFC-11_FLAG_W,CFC-12,CFC-12_FLAG_W,CFC113,CFC113_FLAG_W,SF6,SF6_FLAG_W,TCARBN,TCARBN_FLAG_W,ALKALI,ALKALI_FLAG_W,PH_TOT,PH_TOT_FLAG_W,PH_TMP,TRITUM,TRITUM_FLAG_W,HELIUM,HELIUM_FLAG_W,DELHE3,DELHE3_FLAG_W,DELC13,DELC13_FLAG_W,DELC14,DELC14_FLAG_W,C14ERR,NEON,NEON_FLAG_W,NEONER,I-129,I-129_FLAG_W,SR-90,SR-90_FLAG_W,DOC,DOC_FLAG_W,TDN,TDN_FLAG_W,CALCIUM,CALCIUM_FLAG_W,D15N_NO3,D15N_NO3_FLAG_W,BTL_DATE,BTL_TIME,BTL_LAT,BTL_LON,SALTREF,SALTREF_FLAG_W,CS-137,CS-137_FLAG_W,CS-134,CS-134_FLAG_W,REFTMP,REFTMP_FLAG_W,LAB_DEN,LAB_DEN_FLAG_W,D18O_NO3,D18O_NO3_FLAG_W,HELIER,DELHER,TRITER
,,,,,,,,,,,METERS,DBAR,ITS-90,PSS-78,,PSS-78,,UMOL/KG,,UMOL/KG,,UMOL/KG,,UMOL/KG,,UMOL/KG,,UMOL/KG,,PMOL/KG,,PMOL/KG,,PMOL/KG,,FMOL/KG,,UMOL/KG,,UMOL/KG,,,,DEG C,TU,,NMOL/KG,,PERCNT,,/MILLE,,/MILLE,,/MILLE,NMOL/KG,,NMOL/KG,BQ/M^3,,DM/.1MG,,UMOL/KG,,UMOL/KG,,MMOL/KG,,/MILLE,,,,,,G/KG,,BQ/M^3,,BQ/M^3,,ITS-90,,,,/MILLE,,NMOL/KG,PERCNT,TU
318M20130321,       P02W,      26,          1,          7,          7,4,20130412,       0502,    29.9997,   141.6806,       4278,    2777,   1.6504,  34.6501,2,  34.6417,4,    120.2,2,   113.4,4,  156.47,4,   38.64,4,       0,4,     2.7,4,   0.007,2,   0.018,2,   0.002,2,     0.08,2,  -999.0,9, -999.00,9,-999.0000,9,  -999.00,-999.000,9,-999.0000,9, -999.00,9, -999.00,9,  -999.0,9,  -999.0,-999.000,9,-999.000,     -999.0,9, -999.00,9, -999.00,9, -999.00,9,     -999.0,9,  -999.0,9, 20130412,      535,  29.9996, 141.6798,     34.805,4,     -999.0,9,     -999.0,9,       1.65,2,     -999.0,9,     -999.0,9,-999.0000, -999.00,-999.000
318M20130321,       P02W,      26,          1,          6,          6,2,20130412,       0502,    29.9997,   141.6806,       4278,  3034.5,   1.5898,  34.6598,2,  34.6596,2,    127.6,2,   127.6,2,     155,2,   37.53,2,       0,2,    2.64,2,-999.000,9,-999.000,9,-999.000,9,-999.0000,9,  -999.0,9, -999.00,9,-999.0000,9,  -999.00,-999.000,9,-999.0000,9, -999.00,9, -999.00,9,  -999.0,9,  -999.0,-999.000,9,-999.000,     -999.0,9, -999.00,9, -999.00,9, -999.00,9,     -999.0,9,  -999.0,9, 20130412,      529,  29.9995, 141.6801,     34.823,2,     -999.0,9,     -999.0,9,     1.5897,2,     -999.0,9,     -999.0,9,-999.0000, -999.00,-999.000
318M20130321,       P02W,      26,          1,          5,         37,2,20130412,       0502,    29.9997,   141.6806,       4278,  3344.4,   1.5346,  34.6691,2,  34.6684,2,      135,2,     135,2,  153.93,2,   37.25,2,       0,2,     2.6,2,  -0.002,2,   0.012,2,   0.003,2,     0.11,2,  2334.3,2, 2414.96,6,   7.5379,2,       25,-999.000,9,-999.0000,9, -999.00,9, -999.00,9,  -999.0,9,  -999.0,-999.000,9,-999.000,     -999.0,9, -999.00,9, -999.00,9, -999.00,9,     -999.0,9,  -999.0,9, 20130412,      523,  29.9995, 141.6809,    34.8319,2,     -999.0,9,     -999.0,9,     1.5348,2,     -999.0,9,     -999.0,9,-999.0000, -999.00,-999.000
318M20130321,       P02W,      26,          1,          4,          4,2,20130412,       0502,    29.9997,   141.6806,       4278,  3652.1,   1.4957,  34.6763,2,  34.6757,2,    142.6,2,   142.7,2,  152.07,2,   36.72,2,       0,2,    2.56,2,-999.000,9,-999.000,9,-999.000,9,-999.0000,9,  -999.0,9, -999.00,9,-999.0000,9,  -999.00,-999.000,9,-999.0000,9, -999.00,9, -999.00,9,  -999.0,9,  -999.0,-999.000,9,-999.000,     -999.0,9, -999.00,9, -999.00,9, -999.00,9,     -999.0,9,  -999.0,9, 20130412,      517,  29.9996, 141.6807,    34.8392,2,     -999.0,9,     -999.0,9,     1.4955,2,     -999.0,9,     -999.0,9,-999.0000, -999.00,-999.000
318M20130321,       P02W,      26,          1,          3,          3,2,20130412,       0502,    29.9997,   141.6806,       4278,  3962.1,   1.4634,  34.6828,2,   34.683,2,    148.8,2,   150.6,2,  149.53,2,   36.21,2,       0,2,    2.52,2,   0.010,2,   0.015,2,  -0.002,2,     0.04,2,  2323.1,2, 2412.46,2,   7.5645,6,       25,-999.000,9,-999.0000,9, -999.00,9, -999.00,9,  -999.0,9,  -999.0,-999.000,9,-999.000,     -999.0,9, -999.00,9, -999.00,9, -999.00,9,     -999.0,9,  -999.0,9, 20130412,      511,  29.9997, 141.6804,    34.8465,2,     -999.0,9,     -999.0,9,     1.4635,2,     -999.0,9,     -999.0,9,-999.0000, -999.00,-999.000
318M20130321,       P02W,      26,          1,          2,          2,2,20130412,       0502,    29.9997,   141.6806,       4278,  4198.9,   1.4567,   34.686,2,  34.6853,2,    154.7,2,   155.1,2,  148.26,2,   35.92,2,       0,2,     2.5,2,-999.000,9,-999.000,9,-999.000,9,-999.0000,9,  2321.8,2, 2411.26,2,   7.5709,2,       25,-999.000,9,-999.0000,9, -999.00,9, -999.00,9,  -999.0,9,  -999.0,-999.000,9,-999.000,     -999.0,9, -999.00,9, -999.00,9, -999.00,9,     -999.0,9,  -999.0,9, 20130412,      506,  29.9997, 141.6804,    34.8489,2,     -999.0,9,     -999.0,9,     1.4564,2,     -999.0,9,     -999.0,9,-999.0000, -999.00,-999.000
318M20130321,       P02W,      26,          1,          1,          1,2,20130412,       0502,    29.9997,   141.6806,       4278,  4346.7,   1.4603,  34.6873,2,  34.6873,2,    156.7,2,   156.6,2,  147.97,2,    35.8,2,       0,2,    2.49,2,   0.041,2,   0.033,2,   0.009,2,     0.03,2,  2320.4,6, 2411.46,2,   7.5719,2,       25,-999.000,9,-999.0000,9, -999.00,9, -999.00,9,  -999.0,9,  -999.0,-999.000,9,-999.000,     -999.0,9, -999.00,9, -999.00,9, -999.00,9,     -999.0,9,  -999.0,9, 20130412,      502,  29.9997, 141.6806,    34.8509,2,     -999.0,9,     -999.0,9,       1.46,2,     -999.0,9,     -999.0,9,-999.0000, -999.00,-999.000