BOTTLE,20220817CCHSIOAMB
EXPOCODE,SECT_ID,STNNBR,CASTNO,SAMPNO,BTLNBR,BTLNBR_FLAG_W,DATE,TIME,LATITUDE,LONGITUDE,DEPTH,CTDPRS,CTDTMP,CTDSAL,CTDSAL_FLAG_W,SALNTY,SALNTY_FLAG_W,CTDOXY,CTDOXY_FLAG_W,OXYGEN,OXYGEN_FLAG_W,SILCAT,SILCAT_FLAG_W,NITRAT,NITRAT_FLAG_W,NITRIT,NITRIT_FLAG_W,PHSPHT,PHSPHT_FLAG_W,CFC-11,CFC-11_FLAG_W,CFC-12,CFC-12_FLAG_W,CFC113,CFC113_FLAG_W,SF6,SF6_FLAG_W,TCARBN,TCARBN_FLAG_W,ALKALI,ALKALI_FLAG_W,PH_TOT,PH_TOT_FLAG_W,PH_TMP,TRITUM,TRITUM_FLAG_W,HELIUM,HELIUM_FLAG_W,DELHE3,DELHE3_FLAG_W,DELC13,DELC13_FLAG_W,DELC14,DELC14_FLAG_W,C14ERR,NEON,NEON_FLAG_W,NEONER,I-129,I-129_FLAG_W,SR-90,SR-90_FLAG_W,DOC,DOC_FLAG_W,TDN,TDN_FLAG_W,CALCIUM,CALCIUM_FLAG_W,D15N_NO3,D15N_NO3_FLAG_W,BTL_DATE,BTL_TIME,BTL_LAT,BTL_LON,SALTREF,SALTREF_FLAG_W,CS-137,CS-137_FLAG_W,CS-134,CS-134_FLAG_W,REFTMP,REFTMP_FLAG_W,LAB_DEN,LAB_DEN_FLAG_W,D18O_NO3,D18O_NO3_FLAG_W,HELIER,DELHER,TRITER
,,,,,,,,,,,METERS,DBAR,ITS-90,PSS-78,,PSS-78,,UMOL/KG,,UMOL/KG,,UMOL/KG,,UMOL/KG,,UMOL/KG,,UMOL/KG,,PMOL/KG,,PMOL/KG,,PMOL/KG,,FMOL/KG,,UMOL/KG,,UMOL/KG,,,,DEG C,TU,,NMOL/KG,,PERCNT,,/MILLE,,/MILLE,,/MILLE,NMOL/KG,,NMOL/KG,BQ/M^3,,DM/.1MG,,UMOL/KG,,UMOL/KG,,MMOL/KG,,/MILLE,,,,,,G/KG,,BQ/M^3,,BQ/M^3,,ITS-90,,,,/MILLE,,NMOL/KG,PERCNT,TU
318M20130321,       P02E,     119,          1,          5,         37,2,20130522,       0758,    29.9994,  -140.2775,       4826,  3857.2,   1.4767,  34.6821,2,  34.6818,2,    141.7,2,   141.7,2,  161.34,2,   36.85,2,       0,2,    2.56,2,   0.003,2,   0.003,2,-999.000,1,        0,2,  -999.0,9, -999.00,9,-999.0000,9,  -999.00,-999.000,9,-999.0000,9, -999.00,9, -999.00,9,  -999.0,9,  -999.0,-999.000,9,-999.000,     -999.0,9, -999.00,9,   35.82,2, -999.00,9,     -999.0,9,  -999.0,1, 20130522,      819,  29.9997,-140.2776,    34.8453,2,     -999.0,9,     -999.0,9,     1.4766,2,     -999.0,9,     -999.0,1,-999.0000, -999.00,-999.000
318M20130321,       P02E,     119,          1,          4,          4,2,20130522,       0758,    29.9994,  -140.2775,       4826,  4230.9,    1.493,  34.6848,2,  34.6841,2,    145.3,2,   146.3,2,  158.81,2,   36.54,2,       0,2,    2.54,2,   0.004,2,   0.005,2,-999.000,1,        0,2,  2333.6,2, 2424.56,6,   7.5667,2,       25,-999.000,9,-999.0000,9, -999.00,9, -999.00,9,  -999.0,9,  -999.0,-999.000,9,-999.000,     -999.0,9, -999.00,9,   35.89,2, -999.00,9,     -999.0,9,  -999.0,1, 20130522,      812,  30.0001,-140.2775,    34.8477,2,     -999.0,9,     -999.0,9,      1.493,2,     -999.0,9,     -999.0,1,-999.0000, -999.00,-999.000
318M20130321,       P02E,     119,          1,          3,          3,2,20130522,       0758,    29.9994,  -140.2775,       4826,  4643.6,   1.5172,  34.6873,2,  34.6865,2,    150.8,2,   150.9,2,  155.68,2,   36.23,2,       0,2,    2.52,2,   0.001,2,   0.002,2,-999.000,1,        0,2,  2329.8,2, 2422.26,2,   7.5741,2,       25,-999.000,9,-999.0000,9, -999.00,9, -999.00,9,  -999.0,9,  -999.0,-999.000,9,-999.000,     -999.0,9, -999.00,9, -999.00,5, -999.00,9,     -999.0,9,  -999.0,1, 20130522,      804,  30.0001,-140.2771,    34.8501,2,     -999.0,9,     -999.0,9,     1.5172,2,     -999.0,9,     -999.0,1,-999.0000, -999.00,-999.000
318M20130321,       P02E,     119,          1,          2,          2,2,20130522,       0758,    29.9994,  -140.2775,       4826,  4894.6,   1.5396,  34.6879,2,  34.6877,2,    153.3,2,   152.9,2,  153.63,2,   36.09,2,       0,2,     2.5,2,   0.006,2,   0.008,2,-999.000,1,        0,2,  2328.6,6, 2420.76,2,   7.5758,2,       25,-999.000,9,-999.0000,9, -999.00,9, -999.00,9,  -999.0,9,  -999.0,-999.000,9,-999.000,     -999.0,9, -999.00,9,   35.75,2, -999.00,9,     -999.0,9,  -999.0,1, 20130522,      759,  29.9995,-140.2775,    34.8513,2,     -999.0,9,     -999.0,9,     1.5396,2,     -999.0,9,     -999.0,1,-999.0000, -999.00,-999.000