BOTTLE,20220817CCHSIOAMB
EXPOCODE,SECT_ID,STNNBR,CASTNO,SAMPNO,BTLNBR,BTLNBR_FLAG_W,DATE,TIME,LATITUDE,LONGITUDE,DEPTH,CTDPRS,CTDTMP,CTDSAL,CTDSAL_FLAG_W,SALNTY,SALNTY_FLAG_W,CTDOXY,CTDOXY_FLAG_W,OXYGEN,OXYGEN_FLAG_W,SILCAT,SILCAT_FLAG_W,NITRAT,NITRAT_FLAG_W,NITRIT,NITRIT_FLAG_W,PHSPHT,PHSPHT_FLAG_W,CFC-11,CFC-11_FLAG_W,CFC-12,CFC-12_FLAG_W,CFC113,CFC113_FLAG_W,SF6,SF6_FLAG_W,TCARBN,TCARBN_FLAG_W,ALKALI,ALKALI_FLAG_W,PH_TOT,PH_TOT_FLAG_W,PH_TMP,TRITUM,TRITUM_FLAG_W,HELIUM,HELIUM_FLAG_W,DELHE3,DELHE3_FLAG_W,DELC13,DELC13_FLAG_W,DELC14,DELC14_FLAG_W,C14ERR,NEON,NEON_FLAG_W,NEONER,I-129,I-129_FLAG_W,SR-90,SR-90_FLAG_W,DOC,DOC_FLAG_W,TDN,TDN_FLAG_W,CALCIUM,CALCIUM_FLAG_W,D15N_NO3,D15N_NO3_FLAG_W,BTL_DATE,BTL_TIME,BTL_LAT,BTL_LON,SALTREF,SALTREF_FLAG_W,CS-137,CS-137_FLAG_W,CS-134,CS-134_FLAG_W,REFTMP,REFTMP_FLAG_W,LAB_DEN,LAB_DEN_FLAG_W,D18O_NO3,D18O_NO3_FLAG_W,HELIER,DELHER,TRITER
,,,,,,,,,,,METERS,DBAR,ITS-90,PSS-78,,PSS-78,,UMOL/KG,,UMOL/KG,,UMOL/KG,,UMOL/KG,,UMOL/KG,,UMOL/KG,,PMOL/KG,,PMOL/KG,,PMOL/KG,,FMOL/KG,,UMOL/KG,,UMOL/KG,,,,DEG C,TU,,NMOL/KG,,PERCNT,,/MILLE,,/MILLE,,/MILLE,NMOL/KG,,NMOL/KG,BQ/M^3,,DM/.1MG,,UMOL/KG,,UMOL/KG,,MMOL/KG,,/MILLE,,,,,,G/KG,,BQ/M^3,,BQ/M^3,,ITS-90,,,,/MILLE,,NMOL/KG,PERCNT,TU
318M20130321,       P02E,      93,          1,          6,          6,2,20130513,       1539,    30.0001,  -161.7357,       5727,    3753,   1.4839,  34.6795,2,    34.68,2,      140,2,   140.7,2,   158.9,2,   36.79,2,       0,2,    2.56,2,   0.004,2,   0.006,2,-999.000,5,        0,2,  2335.4,2, 2421.16,2,   7.5524,2,       25,-999.000,9,-999.0000,9, -999.00,9,    0.12,2,  -219.6,2,     2.3,-999.000,9,-999.000,     -999.0,9, -999.00,9, -999.00,9, -999.00,9,     -999.0,9,  -999.0,9, 20130513,     1620,  30.0004,-161.7354,    34.8435,2,     -999.0,9,     -999.0,9,      1.484,2,     -999.0,9,     -999.0,9,-999.0000, -999.00,-999.000
318M20130321,       P02E,      93,          1,          5,         37,2,20130513,       1539,    30.0001,  -161.7357,       5727,  4165.7,   1.4823,  34.6845,2,  34.6855,2,    146.9,2,   147.1,2,  157.05,2,   36.39,2,       0,2,    2.52,2,   0.003,2,   0.005,2,-999.000,5,        0,2,  -999.0,9, -999.00,9,-999.0000,9,  -999.00,-999.000,9,-999.0000,9, -999.00,9,    0.16,2,  -223.4,2,     2.3,-999.000,9,-999.000,     -999.0,9, -999.00,9,   34.99,2, -999.00,9,     -999.0,9,  -999.0,9, 20130513,     1612,  30.0008,-161.7359,    34.8491,2,     -999.0,9,     -999.0,9,     1.4825,2,     -999.0,9,     -999.0,9,-999.0000, -999.00,-999.000
318M20130321,       P02E,      93,          1,          4,          4,2,20130513,       1539,    30.0001,  -161.7357,       5727,  4569.3,   1.4987,  34.6873,2,  34.6891,2,    151.1,2,   151.4,2,  155.49,2,   36.07,2,       0,2,     2.5,2,   0.004,2,   0.008,2,-999.000,5,   0.0798,2,  2327.1,2, 2418.76,2,   7.5725,6,       25,-999.000,9,-999.0000,9, -999.00,9,    0.17,2,  -219.7,2,     2.0,-999.000,9,-999.000,     -999.0,9, -999.00,9,   33.41,2, -999.00,9,     -999.0,9,  -999.0,9, 20130513,     1604,  30.0003,-161.7352,    34.8526,2,     -999.0,9,     -999.0,9,      1.499,2,     -999.0,9,     -999.0,9,-999.0000, -999.00,-999.000
318M20130321,       P02E,      93,          1,          3,          3,2,20130513,       1539,    30.0001,  -161.7357,       5727,  5087.5,   1.5384,  34.6899,2,    34.69,2,    156.8,2,   155.9,2,  151.19,2,   35.72,2,       0,2,    2.46,2,   0.003,2,   0.007,2,-999.000,5,        0,2,  -999.0,9, -999.00,9,-999.0000,9,  -999.00,-999.000,9,-999.0000,9, -999.00,9,    0.17,2,  -216.1,2,     2.4,-999.000,9,-999.000,     -999.0,9, -999.00,9,   34.29,2, -999.00,9,     -999.0,9,  -999.0,9, 20130513,     1554,   30.001,-161.7366,    34.8536,2,     -999.0,9,     -999.0,9,     1.5387,2,     -999.0,9,     -999.0,9,-999.0000, -999.00,-999.000
318M20130321,       P02E,      93,          1,          2,          2,2,20130513,       1539,    30.0001,  -161.7357,       5727,  5499.9,   1.5779,  34.6908,2,  34.6918,2,    157.3,2,   158.6,2,  148.65,2,   35.54,2,       0,2,    2.45,2,   0.003,2,   0.006,2,-999.000,5,        0,2,  2320.8,2, 2417.26,6,   7.5817,2,       25,-999.000,9,-999.0000,9, -999.00,9,    0.23,2,  -215.1,2,     2.1,-999.000,9,-999.000,     -999.0,9, -999.00,9,    33.3,2, -999.00,9,     -999.0,9,  -999.0,9, 20130513,     1546,  30.0004,-161.7357,    34.8554,2,     -999.0,9,     -999.0,9,      1.578,2,     -999.0,9,     -999.0,9,-999.0000, -999.00,-999.000
318M20130321,       P02E,      93,          1,          1,          1,2,20130513,       1539,    30.0001,  -161.7357,       5727,  5840.7,   1.6176,   34.691,2,  34.6924,2,    160.4,2,     160,2,  147.19,2,   35.44,2,       0,2,    2.45,2,   0.004,2,   0.008,2,-999.000,5,        0,2,  2319.4,6, 2413.06,2,    7.584,2,       25,-999.000,9,-999.0000,9, -999.00,9,    0.26,2,  -205.6,2,     2.0,-999.000,9,-999.000,     -999.0,9, -999.00,9,   34.91,2, -999.00,9,     -999.0,9,  -999.0,9, 20130513,     1538,  30.0001,-161.7357,     34.856,2,     -999.0,9,     -999.0,9,     1.6174,2,     -999.0,9,     -999.0,9,-999.0000, -999.00,-999.000