BOTTLE,20220817CCHSIOAMB
EXPOCODE,SECT_ID,STNNBR,CASTNO,SAMPNO,BTLNBR,BTLNBR_FLAG_W,DATE,TIME,LATITUDE,LONGITUDE,DEPTH,CTDPRS,CTDTMP,CTDSAL,CTDSAL_FLAG_W,SALNTY,SALNTY_FLAG_W,CTDOXY,CTDOXY_FLAG_W,OXYGEN,OXYGEN_FLAG_W,SILCAT,SILCAT_FLAG_W,NITRAT,NITRAT_FLAG_W,NITRIT,NITRIT_FLAG_W,PHSPHT,PHSPHT_FLAG_W,CFC-11,CFC-11_FLAG_W,CFC-12,CFC-12_FLAG_W,CFC113,CFC113_FLAG_W,SF6,SF6_FLAG_W,TCARBN,TCARBN_FLAG_W,ALKALI,ALKALI_FLAG_W,PH_TOT,PH_TOT_FLAG_W,PH_TMP,TRITUM,TRITUM_FLAG_W,HELIUM,HELIUM_FLAG_W,DELHE3,DELHE3_FLAG_W,DELC13,DELC13_FLAG_W,DELC14,DELC14_FLAG_W,C14ERR,NEON,NEON_FLAG_W,NEONER,I-129,I-129_FLAG_W,SR-90,SR-90_FLAG_W,DOC,DOC_FLAG_W,TDN,TDN_FLAG_W,CALCIUM,CALCIUM_FLAG_W,D15N_NO3,D15N_NO3_FLAG_W,BTL_DATE,BTL_TIME,BTL_LAT,BTL_LON,SALTREF,SALTREF_FLAG_W,CS-137,CS-137_FLAG_W,CS-134,CS-134_FLAG_W,REFTMP,REFTMP_FLAG_W,LAB_DEN,LAB_DEN_FLAG_W,D18O_NO3,D18O_NO3_FLAG_W,HELIER,DELHER,TRITER
,,,,,,,,,,,METERS,DBAR,ITS-90,PSS-78,,PSS-78,,UMOL/KG,,UMOL/KG,,UMOL/KG,,UMOL/KG,,UMOL/KG,,UMOL/KG,,PMOL/KG,,PMOL/KG,,PMOL/KG,,FMOL/KG,,UMOL/KG,,UMOL/KG,,,,DEG C,TU,,NMOL/KG,,PERCNT,,/MILLE,,/MILLE,,/MILLE,NMOL/KG,,NMOL/KG,BQ/M^3,,DM/.1MG,,UMOL/KG,,UMOL/KG,,MMOL/KG,,/MILLE,,,,,,G/KG,,BQ/M^3,,BQ/M^3,,ITS-90,,,,/MILLE,,NMOL/KG,PERCNT,TU
318M20130321,       P02W,      28,          1,          7,          7,2,20130412,       1817,    30.0002,    142.715,       8556,  3509.9,   1.5194,  34.6734,2,  34.6723,2,    140.4,2,   139.6,2,  152.27,2,   36.58,2,       0,2,    2.58,2,   0.009,2,   0.016,2,   0.000,2,        0,2,    2337,3, 2414.66,2,   7.5457,2,       25,-999.000,9,-999.0000,9, -999.00,9, -999.00,9,  -999.0,9,  -999.0,-999.000,9,-999.000,     -999.0,9, -999.00,9, -999.00,9, -999.00,9,     -999.0,9,  -999.0,9, 20130412,     1916,  29.9974, 142.7154,    34.8358,2,     -999.0,9,     -999.0,9,     1.5192,2,     -999.0,9,     -999.0,9,-999.0000, -999.00,-999.000
318M20130321,       P02W,      28,          1,          6,          6,2,20130412,       1817,    30.0002,    142.715,       8556,  3920.6,   1.4889,  34.6805,2,  34.6792,2,    147.8,2,   147.2,2,  150.51,2,   36.04,2,       0,2,    2.53,2,-999.000,9,-999.000,9,-999.000,9,-999.0000,9,  2327.7,2, 2412.66,2,   7.5595,2,       25,-999.000,9,-999.0000,9, -999.00,9, -999.00,9,  -999.0,9,  -999.0,-999.000,9,-999.000,     -999.0,9, -999.00,9,   35.62,2, -999.00,9,     -999.0,9,  -999.0,9, 20130412,     1907,   29.998, 142.7157,    34.8427,2,     -999.0,9,     -999.0,9,     1.4889,2,     -999.0,9,     -999.0,9,-999.0000, -999.00,-999.000
318M20130321,       P02W,      28,          1,          5,         37,2,20130412,       1817,    30.0002,    142.715,       8556,  4329.9,   1.4806,  34.6858,2,  34.6845,2,    153.8,2,     154,2,  148.85,2,   35.62,2,       0,2,     2.5,2,   0.008,2,   0.021,2,   0.000,2,        0,2,  2323.3,2, 2412.06,2,   7.5688,2,       25,-999.000,9,-999.0000,9, -999.00,9, -999.00,9,  -999.0,9,  -999.0,-999.000,9,-999.000,     -999.0,9, -999.00,9, -999.00,9, -999.00,9,     -999.0,9,  -999.0,9, 20130412,     1859,  29.9987, 142.7157,    34.8481,2,     -999.0,9,     -999.0,9,     1.4804,2,     -999.0,9,     -999.0,9,-999.0000, -999.00,-999.000
318M20130321,       P02W,      28,          1,          4,          4,2,20130412,       1817,    30.0002,    142.715,       8556,  4743.7,   1.4969,   34.689,2,  34.6871,2,    157.5,2,   157.8,2,   146.6,2,   35.33,2,       0,2,    2.48,2,   0.019,2,   0.022,2,   0.000,2,        0,2,  2320.7,2, 2411.36,2,-999.0000,5,  -999.00,-999.000,9,-999.0000,9, -999.00,9, -999.00,9,  -999.0,9,  -999.0,-999.000,9,-999.000,     -999.0,9, -999.00,9,   35.16,2, -999.00,9,     -999.0,9,  -999.0,9, 20130412,     1851,  29.9993, 142.7163,    34.8506,2,     -999.0,9,     -999.0,9,     1.4972,2,     -999.0,9,     -999.0,9,-999.0000, -999.00,-999.000
318M20130321,       P02W,      28,          1,          3,          3,2,20130412,       1817,    30.0002,    142.715,       8556,    5154,   1.5301,  34.6907,2,   34.689,2,    160.5,2,   161.4,2,  145.43,2,   35.15,2,       0,2,    2.46,2,-999.000,9,-999.000,9,-999.000,9,-999.0000,9,  2315.6,2, 2411.06,6,   7.5798,2,       25,-999.000,9,-999.0000,9, -999.00,9, -999.00,9,  -999.0,9,  -999.0,-999.000,9,-999.000,     -999.0,9, -999.00,9,   34.48,2, -999.00,9,     -999.0,9,  -999.0,9, 20130412,     1842,  29.9996, 142.7165,    34.8526,2,     -999.0,9,     -999.0,9,     1.5302,2,     -999.0,9,     -999.0,9,-999.0000, -999.00,-999.000
318M20130321,       P02W,      28,          1,          2,          2,2,20130412,       1817,    30.0002,    142.715,       8556,  5635.4,   1.5821,  34.6915,2,  34.6908,2,    163.1,2,   162.9,2,  144.26,2,   35.02,2,       0,2,    2.45,2,   0.017,2,   0.027,2,   0.000,2,        0,2,  2315.3,2, 2410.06,2,   7.5822,6,       25,-999.000,9,-999.0000,9, -999.00,9, -999.00,9,  -999.0,9,  -999.0,-999.000,9,-999.000,     -999.0,9, -999.00,9,   35.66,2, -999.00,9,     -999.0,9,  -999.0,9, 20130412,     1831,  29.9997, 142.7157,    34.8544,2,     -999.0,9,     -999.0,9,     1.5821,2,     -999.0,9,     -999.0,9,-999.0000, -999.00,-999.000
318M20130321,       P02W,      28,          1,          1,          1,2,20130412,       1817,    30.0002,    142.715,       8556,  6123.9,    1.645,  34.6917,2,  34.6906,2,    163.9,2,   163.7,2,   142.8,2,   35.02,2,       0,2,    2.45,2,   0.059,2,   0.051,2,   0.000,2,        0,2,    2315,6, 2409.76,2,   7.5827,2,       25,-999.000,9,-999.0000,9, -999.00,9, -999.00,9,  -999.0,9,  -999.0,-999.000,9,-999.000,     -999.0,9, -999.00,9,   36.15,2, -999.00,9,     -999.0,9,  -999.0,9, 20130412,     1818,  30.0002,  142.715,    34.8542,2,     -999.0,9,     -999.0,9,     1.6452,2,     -999.0,9,     -999.0,9,-999.0000, -999.00,-999.000