BOTTLE,20220817CCHSIOAMB
EXPOCODE,SECT_ID,STNNBR,CASTNO,SAMPNO,BTLNBR,BTLNBR_FLAG_W,DATE,TIME,LATITUDE,LONGITUDE,DEPTH,CTDPRS,CTDTMP,CTDSAL,CTDSAL_FLAG_W,SALNTY,SALNTY_FLAG_W,CTDOXY,CTDOXY_FLAG_W,OXYGEN,OXYGEN_FLAG_W,SILCAT,SILCAT_FLAG_W,NITRAT,NITRAT_FLAG_W,NITRIT,NITRIT_FLAG_W,PHSPHT,PHSPHT_FLAG_W,CFC-11,CFC-11_FLAG_W,CFC-12,CFC-12_FLAG_W,CFC113,CFC113_FLAG_W,SF6,SF6_FLAG_W,TCARBN,TCARBN_FLAG_W,ALKALI,ALKALI_FLAG_W,PH_TOT,PH_TOT_FLAG_W,PH_TMP,TRITUM,TRITUM_FLAG_W,HELIUM,HELIUM_FLAG_W,DELHE3,DELHE3_FLAG_W,DELC13,DELC13_FLAG_W,DELC14,DELC14_FLAG_W,C14ERR,NEON,NEON_FLAG_W,NEONER,I-129,I-129_FLAG_W,SR-90,SR-90_FLAG_W,DOC,DOC_FLAG_W,TDN,TDN_FLAG_W,CALCIUM,CALCIUM_FLAG_W,D15N_NO3,D15N_NO3_FLAG_W,BTL_DATE,BTL_TIME,BTL_LAT,BTL_LON,SALTREF,SALTREF_FLAG_W,CS-137,CS-137_FLAG_W,CS-134,CS-134_FLAG_W,REFTMP,REFTMP_FLAG_W,LAB_DEN,LAB_DEN_FLAG_W,D18O_NO3,D18O_NO3_FLAG_W,HELIER,DELHER,TRITER
,,,,,,,,,,,METERS,DBAR,ITS-90,PSS-78,,PSS-78,,UMOL/KG,,UMOL/KG,,UMOL/KG,,UMOL/KG,,UMOL/KG,,UMOL/KG,,PMOL/KG,,PMOL/KG,,PMOL/KG,,FMOL/KG,,UMOL/KG,,UMOL/KG,,,,DEG C,TU,,NMOL/KG,,PERCNT,,/MILLE,,/MILLE,,/MILLE,NMOL/KG,,NMOL/KG,BQ/M^3,,DM/.1MG,,UMOL/KG,,UMOL/KG,,MMOL/KG,,/MILLE,,,,,,G/KG,,BQ/M^3,,BQ/M^3,,ITS-90,,,,/MILLE,,NMOL/KG,PERCNT,TU
318M20130321,       P02W,       6,          1,         33,         33,2,20130323,       1322,    32.0024,   133.5171,       2255,     2.8,  22.6985,  34.6785,2,  34.6826,2,    213.4,2,   213.5,2,    1.46,2,       0,2,       0,2,    0.05,2,   1.914,2,   1.161,2,   0.159,2,     1.53,2,  1968.2,6, 2286.44,2,   8.0624,6,       25,   0.430,2,   1.7745,2,   -1.13,2, -999.00,9,  -999.0,9,  -999.0,   7.061,2,   0.032,     -999.0,9, -999.00,9, -999.00,9, -999.00,9,     -999.0,9,  -999.0,9, 20130323,     1438,  32.0015, 133.5334,    34.8461,2,     -999.0,9,     -999.0,9,    22.6999,2,     -999.0,9,     -999.0,9,   0.0075,    0.15,   0.012
318M20130321,       P02W,       6,          1,         32,         32,2,20130323,       1322,    32.0024,   133.5171,       2255,    38.2,  22.7044,  34.6786,2,  34.6793,2,    214.1,2,     214,2,    1.46,2,       0,2,       0,2,    0.04,2,   1.919,2,   1.170,2,   0.146,2,     1.55,2,  1968.8,2, 2274.64,2,   8.0627,2,       25,   0.442,2,   1.7604,2,   -1.11,2, -999.00,9,  -999.0,9,  -999.0,   6.980,2,   0.032,     -999.0,9, -999.00,9, -999.00,9, -999.00,9,     -999.0,9,  -999.0,9, 20130323,     1436,  32.0017, 133.5328,    34.8428,2,     -999.0,9,     -999.0,9,    22.7043,2,     -999.0,9,     -999.0,9,   0.0074,    0.15,   0.012
318M20130321,       P02W,       6,          1,         31,         31,2,20130323,       1322,    32.0024,   133.5171,       2255,    61.6,  22.7049,  34.6786,2,  34.6818,2,    214.1,2,   214.3,2,    1.46,2,       0,2,       0,2,    0.04,2,-999.000,9,-999.000,9,-999.000,9,-999.0000,9,  1969.4,2, 2279.54,6,   8.0591,2,       25,-999.000,9,-999.0000,9, -999.00,9, -999.00,9,  -999.0,9,  -999.0,-999.000,9,-999.000,     -999.0,9, -999.00,9, -999.00,9, -999.00,9,     -999.0,9,  -999.0,9, 20130323,     1434,  32.0018, 133.5323,    34.8453,2,     -999.0,9,     -999.0,9,    22.7049,2,     -999.0,9,     -999.0,9,-999.0000, -999.00,-999.000
318M20130321,       P02W,       6,          1,         30,         30,2,20130323,       1322,    32.0024,   133.5171,       2255,    83.2,  22.7036,  34.6792,2,  34.6798,2,      214,2,   213.1,2,    1.46,2,    0.02,2,    0.03,2,    0.14,2,-999.000,9,-999.000,9,-999.000,9,-999.0000,9,  -999.0,9, -999.00,9,-999.0000,9,  -999.00,-999.000,9,-999.0000,9, -999.00,9, -999.00,9,  -999.0,9,  -999.0,-999.000,9,-999.000,     -999.0,9, -999.00,9, -999.00,9, -999.00,9,     -999.0,9,  -999.0,9, 20130323,     1433,   32.002, 133.5318,    34.8434,2,     -999.0,9,     -999.0,9,    22.7046,2,     -999.0,9,     -999.0,9,-999.0000, -999.00,-999.000
318M20130321,       P02W,       6,          1,         29,         29,2,20130323,       1322,    32.0024,   133.5171,       2255,   104.9,   22.557,  34.6914,2,   34.692,2,    208.8,2,   208.1,2,    1.66,2,     0.4,2,    0.18,2,    0.07,2,   1.941,2,   1.184,2,   0.132,2,     1.58,2,  -999.0,9, -999.00,9,-999.0000,9,  -999.00,   0.437,2,   1.7412,2,   -1.28,2, -999.00,9,  -999.0,9,  -999.0,   6.963,2,   0.032,     -999.0,9, -999.00,9, -999.00,9, -999.00,9,     -999.0,9,  -999.0,9, 20130323,     1431,   32.002, 133.5316,    34.8556,2,     -999.0,9,     -999.0,9,    22.5561,2,     -999.0,9,     -999.0,9,   0.0073,    0.15,   0.013
318M20130321,       P02W,       6,          1,         28,         28,2,20130323,       1322,    32.0024,   133.5171,       2255,   128.7,  22.2469,  34.6937,2,  34.6936,2,      206,2,   205.8,2,    2.05,2,    0.85,2,    0.17,2,    0.11,2,-999.000,9,-999.000,9,-999.000,9,-999.0000,9,  1983.6,2, 2276.94,2,   8.0397,2,       25,-999.000,9,-999.0000,9, -999.00,9, -999.00,9,  -999.0,9,  -999.0,-999.000,9,-999.000,     -999.0,9, -999.00,9, -999.00,9, -999.00,9,     -999.0,9,  -999.0,9, 20130323,     1430,   32.002, 133.5313,    34.8572,2,     -999.0,9,     -999.0,9,    22.2507,2,     -999.0,9,     -999.0,9,-999.0000, -999.00,-999.000
318M20130321,       P02W,       6,          1,         27,         27,2,20130323,       1322,    32.0024,   133.5171,       2255,   154.3,  21.1988,    34.72,2,  34.7195,2,      196,2,   195.3,2,    3.22,2,    2.35,2,     0.1,2,    0.22,2,-999.000,9,-999.000,9,-999.000,9,-999.0000,9,  -999.0,9, -999.00,9,-999.0000,9,  -999.00,-999.000,9,-999.0000,9, -999.00,9, -999.00,9,  -999.0,9,  -999.0,-999.000,9,-999.000,     -999.0,9, -999.00,9, -999.00,9, -999.00,9,     -999.0,9,  -999.0,9, 20130323,     1428,   32.002,  133.531,    34.8833,2,     -999.0,9,     -999.0,9,    21.2011,2,     -999.0,9,     -999.0,9,-999.0000, -999.00,-999.000
318M20130321,       P02W,       6,          1,         26,         26,2,20130323,       1322,    32.0024,   133.5171,       2255,     179,  20.4474,  34.7762,2,  34.7756,2,      192,2,   192.7,2,    3.03,2,    2.79,2,    0.03,2,    0.22,2,-999.000,9,-999.000,9,-999.000,9,-999.0000,9,  -999.0,9, -999.00,9,-999.0000,9,  -999.00,-999.000,9,-999.0000,9, -999.00,9, -999.00,9,  -999.0,9,  -999.0,-999.000,9,-999.000,     -999.0,9, -999.00,9, -999.00,9, -999.00,9,     -999.0,9,  -999.0,9, 20130323,     1427,   32.002, 133.5308,    34.9395,2,     -999.0,9,     -999.0,9,    20.4472,2,     -999.0,9,     -999.0,9,-999.0000, -999.00,-999.000
318M20130321,       P02W,       6,          1,         25,         25,2,20130323,       1322,    32.0024,   133.5171,       2255,   204.3,  19.3866,  34.7647,2,  34.7653,2,    191.6,2,     194,2,    3.42,2,    3.46,2,    0.02,2,    0.25,2,   2.188,2,   1.320,2,   0.057,2,     1.49,2,  -999.0,9, -999.00,9,-999.0000,9,  -999.00,   0.467,2,   1.7971,2,    0.43,2, -999.00,9,  -999.0,9,  -999.0,   7.252,2,   0.033,     -999.0,9, -999.00,9, -999.00,9, -999.00,9,     -999.0,9,  -999.0,9, 20130323,     1425,  32.0021, 133.5306,    34.9293,2,     -999.0,9,     -999.0,9,    19.3906,2,     -999.0,9,     -999.0,9,   0.0075,    0.15,   0.012
318M20130321,       P02W,       6,          1,         24,         24,2,20130323,       1322,    32.0024,   133.5171,       2255,   230.6,   18.184,  34.6723,2,  34.6628,2,      184,2,   184.1,2,    7.81,2,     6.4,2,    0.02,2,    0.47,2,-999.000,9,-999.000,9,-999.000,9,-999.0000,9,  -999.0,9, -999.00,9,-999.0000,9,  -999.00,-999.000,9,-999.0000,9, -999.00,9, -999.00,9,  -999.0,9,  -999.0,-999.000,9,-999.000,     -999.0,9, -999.00,9, -999.00,9, -999.00,9,     -999.0,9,  -999.0,9, 20130323,     1424,  32.0021, 133.5303,    34.8262,2,     -999.0,9,     -999.0,9,    18.2223,3,     -999.0,9,     -999.0,9,-999.0000, -999.00,-999.000
318M20130321,       P02W,       6,          1,         23,         23,2,20130323,       1322,    32.0024,   133.5171,       2255,   261.5,  16.9914,  34.6564,2,  34.6545,2,    182.1,2,   181.4,2,    9.27,2,    7.81,2,    0.01,2,    0.56,2,-999.000,9,-999.000,9,-999.000,9,-999.0000,9,  -999.0,9, -999.00,9,-999.0000,9,  -999.00,-999.000,9,-999.0000,9, -999.00,9, -999.00,9,  -999.0,9,  -999.0,-999.000,9,-999.000,     -999.0,9, -999.00,9, -999.00,9, -999.00,9,     -999.0,9,  -999.0,9, 20130323,     1422,  32.0022,   133.53,    34.8179,2,     -999.0,9,     -999.0,9,    16.9954,2,     -999.0,9,     -999.0,9,-999.0000, -999.00,-999.000
318M20130321,       P02W,       6,          1,         22,         38,2,20130323,       1322,    32.0024,   133.5171,       2255,   312.6,  15.7655,  34.5946,2,  34.5902,2,    175.7,2,   175.3,2,   12.79,2,   10.14,2,    0.01,2,    0.72,2,   2.453,2,   1.392,2,   0.052,2,     1.25,2,  -999.0,9, -999.00,9,-999.0000,9,  -999.00,   0.478,2,   1.8103,2,    3.78,2, -999.00,9,  -999.0,9,  -999.0,   7.518,2,   0.035,     -999.0,9, -999.00,9, -999.00,9, -999.00,9,     -999.0,9,  -999.0,9, 20130323,     1420,  32.0023, 133.5297,    34.7534,2,     -999.0,9,     -999.0,9,    15.7639,2,     -999.0,9,     -999.0,9,   0.0076,    0.15,   0.012
318M20130321,       P02W,       6,          1,         21,         21,2,20130323,       1322,    32.0024,   133.5171,       2255,   363.8,  13.6731,   34.487,2,   34.485,2,    169.3,2,   169.1,2,   18.74,2,   13.69,2,    0.01,2,    0.97,2,-999.000,9,-999.000,9,-999.000,9,-999.0000,9,  -999.0,9, -999.00,9,-999.0000,9,  -999.00,-999.000,9,-999.0000,9, -999.00,9, -999.00,9,  -999.0,9,  -999.0,-999.000,9,-999.000,     -999.0,9, -999.00,9, -999.00,9, -999.00,9,     -999.0,9,  -999.0,9, 20130323,     1418,  32.0023, 133.5293,    34.6476,2,     -999.0,9,     -999.0,9,    13.6747,2,     -999.0,9,     -999.0,9,-999.0000, -999.00,-999.000
318M20130321,       P02W,       6,          1,         20,         20,2,20130323,       1322,    32.0024,   133.5171,       2255,     416,  11.6714,  34.3985,2,  34.3967,2,    154.1,2,   153.6,2,   31.53,2,   18.49,2,    0.01,2,    1.32,2,   2.292,2,   1.240,2,   0.055,2,     0.94,2,  -999.0,9, -999.00,9,-999.0000,9,  -999.00,   0.450,2,   1.8190,2,    8.21,2, -999.00,9,  -999.0,9,  -999.0,   7.569,2,   0.035,     -999.0,9, -999.00,9, -999.00,9, -999.00,9,     -999.0,9,  -999.0,9, 20130323,     1416,  32.0024,  133.529,    34.5588,2,     -999.0,9,     -999.0,9,     11.673,2,     -999.0,9,     -999.0,9,   0.0076,    0.15,   0.013
318M20130321,       P02W,       6,          1,         19,         19,2,20130323,       1322,    32.0024,   133.5171,       2255,   468.1,  10.7511,  34.3515,2,  34.3513,2,    146.4,2,   148.4,2,   36.12,2,   20.44,2,    0.01,2,    1.45,2,-999.000,9,-999.000,9,-999.000,9,-999.0000,9,    2155,2, 2293.14,2,   7.6944,2,       25,-999.000,9,-999.0000,9, -999.00,9, -999.00,9,  -999.0,9,  -999.0,-999.000,9,-999.000,     -999.0,9, -999.00,9, -999.00,9, -999.00,9,     -999.0,9,  -999.0,9, 20130323,     1414,  32.0025, 133.5286,    34.5133,2,     -999.0,9,     -999.0,9,    10.7524,2,     -999.0,9,     -999.0,9,-999.0000, -999.00,-999.000
318M20130321,       P02W,       6,          1,         18,         18,2,20130323,       1322,    32.0024,   133.5171,       2255,   540.2,   8.1159,  34.2492,2,  34.2507,2,    126.4,2,     124,2,   55.56,2,   27.19,2,    0.01,2,    1.94,2,   1.867,2,   0.955,2,   0.044,2,     0.67,2,  -999.0,9, -999.00,9,-999.0000,9,  -999.00,   0.338,2,   1.8928,2,   13.16,2, -999.00,9,  -999.0,9,  -999.0,   7.955,2,   0.037,     -999.0,9, -999.00,9, -999.00,9, -999.00,9,     -999.0,9,  -999.0,9, 20130323,     1412,  32.0025, 133.5281,    34.4122,2,     -999.0,9,     -999.0,9,     8.1203,2,     -999.0,9,     -999.0,9,   0.0079,    0.15,   0.012
318M20130321,       P02W,       6,          1,         17,         17,2,20130323,       1322,    32.0024,   133.5171,       2255,   641.8,   6.1199,  34.3026,2,  34.2997,2,     93.5,2,    94.2,2,   82.11,2,   33.09,2,       0,2,    2.37,2,   1.144,2,   0.560,2,   0.028,2,      0.4,2,  2264.9,2, 2325.55,2,   7.4926,6,       25,   0.221,2,   1.8977,2,   17.12,2, -999.00,9,  -999.0,9,  -999.0,   8.030,2,   0.037,     -999.0,9, -999.00,9, -999.00,9, -999.00,9,     -999.0,9,  -999.0,9, 20130323,     1409,  32.0025, 133.5275,    34.4615,2,     -999.0,9,     -999.0,9,     6.1287,2,     -999.0,9,     -999.0,9,   0.0080,    0.15,   0.011
318M20130321,       P02W,       6,          1,         16,         16,2,20130323,       1322,    32.0024,   133.5171,       2255,   742.9,   4.9469,  34.3256,2,  34.3252,2,       76,2,    76.3,2,   99.19,2,   36.68,2,       0,2,    2.63,2,   0.739,2,   0.350,2,   0.025,2,     0.27,2,  -999.0,9, -999.00,9,-999.0000,9,  -999.00,   0.168,2,   1.9036,2,   18.33,2, -999.00,9,  -999.0,9,  -999.0,   8.116,2,   0.037,     -999.0,9, -999.00,9, -999.00,9, -999.00,9,     -999.0,9,  -999.0,9, 20130323,     1406,  32.0024, 133.5269,    34.4871,2,     -999.0,9,     -999.0,9,     4.9475,2,     -999.0,9,     -999.0,9,   0.0080,    0.15,   0.012
318M20130321,       P02W,       6,          1,         15,         15,2,20130323,       1322,    32.0024,   133.5171,       2255,   845.7,    4.103,   34.336,2,  34.3364,2,     62.8,2,    63.3,2,  112.96,2,   39.14,2,       0,2,    2.79,2,-999.000,9,-999.000,9,-999.000,9,-999.0000,9,  2323.1,2, 2353.55,2,   7.3992,2,       25,-999.000,9,-999.0000,9, -999.00,9, -999.00,9,  -999.0,9,  -999.0,-999.000,9,-999.000,     -999.0,9, -999.00,9, -999.00,9, -999.00,9,     -999.0,9,  -999.0,9, 20130323,     1403,  32.0024, 133.5264,    34.4983,2,     -999.0,9,     -999.0,9,     4.1026,2,     -999.0,9,     -999.0,9,-999.0000, -999.00,-999.000
318M20130321,       P02W,       6,          1,         14,         14,2,20130323,       1322,    32.0024,   133.5171,       2255,   947.6,   3.7593,  34.3993,2,  34.3996,2,     64.1,2,    64.8,2,   119.4,2,   39.45,2,       0,2,    2.82,2,   0.327,2,   0.143,2,   0.024,2,     0.15,2,  -999.0,9, -999.00,9,-999.0000,9,  -999.00,   0.057,2,   1.9398,2,   18.71,2, -999.00,9,  -999.0,9,  -999.0,   8.210,2,   0.038,     -999.0,9, -999.00,9, -999.00,9, -999.00,9,     -999.0,9,  -999.0,9, 20130323,     1401,  32.0024,  133.526,    34.5618,2,     -999.0,9,     -999.0,9,     3.7593,2,     -999.0,9,     -999.0,9,   0.0081,    0.15,   0.012
318M20130321,       P02W,       6,          1,         13,         13,2,20130323,       1322,    32.0024,   133.5171,       2255,  1049.3,   3.2767,  34.4379,2,  34.4383,2,       64,2,    64.5,2,  129.45,2,   40.11,2,       0,2,    2.85,2,   0.207,2,   0.093,2,   0.020,2,     0.15,2,  2340.7,2, 2375.26,2,   7.4046,2,       25,   0.068,2,   1.9589,2,   18.74,2, -999.00,9,  -999.0,9,  -999.0,   8.206,2,   0.038,     -999.0,9, -999.00,9, -999.00,9, -999.00,9,     -999.0,9,  -999.0,9, 20130323,     1358,  32.0025, 133.5256,    34.6007,2,     -999.0,9,     -999.0,9,      3.277,2,     -999.0,9,     -999.0,9,   0.0082,    0.15,   0.011
318M20130321,       P02W,       6,          1,         12,         12,2,20130323,       1322,    32.0024,   133.5171,       2255,  1148.5,   3.0716,  34.4583,2,  34.4587,2,     65.5,2,    66.3,2,  133.94,2,   40.24,2,       0,2,    2.87,2,   0.175,2,   0.073,2,   0.011,2,     0.15,2,  -999.0,9, -999.00,9,-999.0000,9,  -999.00,   0.027,2,   1.9494,2,   19.10,2, -999.00,9,  -999.0,9,  -999.0,   8.240,2,   0.038,     -999.0,9, -999.00,9, -999.00,9, -999.00,9,     -999.0,9,  -999.0,9, 20130323,     1355,  32.0025, 133.5252,    34.6212,2,     -999.0,9,     -999.0,9,     3.0718,2,     -999.0,9,     -999.0,9,   0.0082,    0.15,   0.011
318M20130321,       P02W,       6,          1,         11,         11,2,20130323,       1322,    32.0024,   133.5171,       2255,  1243.8,   2.9219,  34.4754,2,   34.475,2,       69,2,    68.1,2,  136.57,2,   40.29,2,       0,2,    2.87,2,-999.000,9,-999.000,9,-999.000,9,-999.0000,9,  2348.8,2, 2386.56,2,   7.4103,2,       25,-999.000,9,-999.0000,9, -999.00,9, -999.00,9,  -999.0,9,  -999.0,-999.000,9,-999.000,     -999.0,9, -999.00,9, -999.00,9, -999.00,9,     -999.0,9,  -999.0,9, 20130323,     1352,  32.0025, 133.5248,    34.6375,2,     -999.0,9,     -999.0,9,     2.9218,2,     -999.0,9,     -999.0,9,-999.0000, -999.00,-999.000
318M20130321,       P02W,       6,          1,         10,         10,2,20130323,       1322,    32.0024,   133.5171,       2255,  1336.7,   2.8006,  34.4929,2,  34.4924,2,     71.9,2,    72.4,2,  138.13,2,    40.1,2,       0,2,    2.85,2,   0.113,2,   0.051,2,   0.019,2,     0.13,2,  -999.0,9, -999.00,9,-999.0000,9,  -999.00,   0.016,2,   1.9489,2,   18.92,2, -999.00,9,  -999.0,9,  -999.0,   8.163,2,   0.038,     -999.0,9, -999.00,9, -999.00,9, -999.00,9,     -999.0,9,  -999.0,9, 20130323,     1349,  32.0026, 133.5244,    34.6551,2,     -999.0,9,     -999.0,9,     2.7989,2,     -999.0,9,     -999.0,9,   0.0082,    0.15,   0.012
318M20130321,       P02W,       6,          1,          9,          9,2,20130323,       1322,    32.0024,   133.5171,       2255,  1426.6,   2.6586,  34.5081,2,  34.5072,2,     74.6,2,    74.1,2,  140.57,2,   40.14,2,       0,2,    2.85,2,-999.000,9,-999.000,9,-999.000,9,-999.0000,9,  2351.9,2, 2390.06,2,   7.4227,2,       25,-999.000,9,-999.0000,9, -999.00,9, -999.00,9,  -999.0,9,  -999.0,-999.000,9,-999.000,     -999.0,9, -999.00,9, -999.00,9, -999.00,9,     -999.0,9,  -999.0,9, 20130323,     1347,  32.0026, 133.5241,    34.6699,2,     -999.0,9,     -999.0,9,     2.6578,2,     -999.0,9,     -999.0,9,-999.0000, -999.00,-999.000
318M20130321,       P02W,       6,          1,          8,          8,2,20130323,       1322,    32.0024,   133.5171,       2255,  1514.7,   2.5286,  34.5236,2,  34.5223,2,     77.4,2,    76.6,2,  143.21,2,   40.09,2,       0,2,    2.85,2,   0.069,2,   0.039,2,   0.022,2,      0.2,2,  -999.0,9, -999.00,9,-999.0000,9,  -999.00,   0.008,2,   1.9792,2,   18.96,2, -999.00,9,  -999.0,9,  -999.0,   8.361,2,   0.038,     -999.0,9, -999.00,9, -999.00,9, -999.00,9,     -999.0,9,  -999.0,9, 20130323,     1344,  32.0026, 133.5236,    34.6851,2,     -999.0,9,     -999.0,9,     2.5276,2,     -999.0,9,     -999.0,9,   0.0083,    0.15,   0.012
318M20130321,       P02W,       6,          1,          7,          7,2,20130323,       1322,    32.0024,   133.5171,       2255,  1599.7,   2.4178,  34.5403,2,  34.5398,2,     82.1,2,    82.6,2,  143.99,2,   39.77,2,       0,2,    2.82,2,-999.000,9,-999.000,9,-999.000,9,-999.0000,9,    2351,2, 2395.06,2,   7.4389,2,       25,-999.000,9,-999.0000,9, -999.00,9, -999.00,9,  -999.0,9,  -999.0,-999.000,9,-999.000,     -999.0,9, -999.00,9, -999.00,9, -999.00,9,     -999.0,9,  -999.0,9, 20130323,     1342,  32.0026, 133.5231,    34.7026,2,     -999.0,9,     -999.0,9,      2.417,2,     -999.0,9,     -999.0,9,-999.0000, -999.00,-999.000
318M20130321,       P02W,       6,          1,          6,          6,2,20130323,       1322,    32.0024,   133.5171,       2255,  1680.5,   2.3303,  34.5535,2,  34.5545,2,     87.9,2,    86.9,2,  144.57,2,   39.57,2,       0,2,    2.82,2,   0.043,2,   0.027,2,   0.018,2,     0.14,2,  -999.0,9, -999.00,9,-999.0000,9,  -999.00,   0.005,2,   1.9588,2,   19.43,2, -999.00,9,  -999.0,9,  -999.0,   8.188,2,   0.038,     -999.0,9, -999.00,9, -999.00,9, -999.00,9,     -999.0,9,  -999.0,9, 20130323,     1339,  32.0025, 133.5225,    34.7174,2,     -999.0,9,     -999.0,9,     2.3305,2,     -999.0,9,     -999.0,9,   0.0082,    0.15,   0.011
318M20130321,       P02W,       6,          1,          5,          5,2,20130323,       1322,    32.0024,   133.5171,       2255,  1763.5,   2.2407,  34.5648,2,  34.5647,2,     90.8,2,      90,2,  146.03,2,   39.35,2,       0,2,     2.8,2,-999.000,9,-999.000,9,-999.000,9,-999.0000,9,  2349.8,2, 2400.46,2,   7.4549,2,       25,-999.000,9,-999.0000,9, -999.00,9, -999.00,9,  -999.0,9,  -999.0,-999.000,9,-999.000,     -999.0,9, -999.00,9, -999.00,9, -999.00,9,     -999.0,9,  -999.0,9, 20130323,     1336,  32.0024, 133.5219,    34.7277,2,     -999.0,9,     -999.0,9,     2.2402,2,     -999.0,9,     -999.0,9,-999.0000, -999.00,-999.000