BOTTLE,20220817CCHSIOAMB
EXPOCODE,SECT_ID,STNNBR,CASTNO,SAMPNO,BTLNBR,BTLNBR_FLAG_W,DATE,TIME,LATITUDE,LONGITUDE,DEPTH,CTDPRS,CTDTMP,CTDSAL,CTDSAL_FLAG_W,SALNTY,SALNTY_FLAG_W,CTDOXY,CTDOXY_FLAG_W,OXYGEN,OXYGEN_FLAG_W,SILCAT,SILCAT_FLAG_W,NITRAT,NITRAT_FLAG_W,NITRIT,NITRIT_FLAG_W,PHSPHT,PHSPHT_FLAG_W,CFC-11,CFC-11_FLAG_W,CFC-12,CFC-12_FLAG_W,CFC113,CFC113_FLAG_W,SF6,SF6_FLAG_W,TCARBN,TCARBN_FLAG_W,ALKALI,ALKALI_FLAG_W,PH_TOT,PH_TOT_FLAG_W,PH_TMP,TRITUM,TRITUM_FLAG_W,HELIUM,HELIUM_FLAG_W,DELHE3,DELHE3_FLAG_W,DELC13,DELC13_FLAG_W,DELC14,DELC14_FLAG_W,C14ERR,NEON,NEON_FLAG_W,NEONER,I-129,I-129_FLAG_W,SR-90,SR-90_FLAG_W,DOC,DOC_FLAG_W,TDN,TDN_FLAG_W,CALCIUM,CALCIUM_FLAG_W,D15N_NO3,D15N_NO3_FLAG_W,BTL_DATE,BTL_TIME,BTL_LAT,BTL_LON,SALTREF,SALTREF_FLAG_W,CS-137,CS-137_FLAG_W,CS-134,CS-134_FLAG_W,REFTMP,REFTMP_FLAG_W,LAB_DEN,LAB_DEN_FLAG_W,D18O_NO3,D18O_NO3_FLAG_W,HELIER,DELHER,TRITER
,,,,,,,,,,,METERS,DBAR,ITS-90,PSS-78,,PSS-78,,UMOL/KG,,UMOL/KG,,UMOL/KG,,UMOL/KG,,UMOL/KG,,UMOL/KG,,PMOL/KG,,PMOL/KG,,PMOL/KG,,FMOL/KG,,UMOL/KG,,UMOL/KG,,,,DEG C,TU,,NMOL/KG,,PERCNT,,/MILLE,,/MILLE,,/MILLE,NMOL/KG,,NMOL/KG,BQ/M^3,,DM/.1MG,,UMOL/KG,,UMOL/KG,,MMOL/KG,,/MILLE,,,,,,G/KG,,BQ/M^3,,BQ/M^3,,ITS-90,,,,/MILLE,,NMOL/KG,PERCNT,TU
318M20130321,       P02W,      25,          1,         36,         36,2,20130411,       2316,    30.0001,   141.1255,       3588,     3.2,  18.6413,  34.7329,2,   34.736,2,    232.2,2,   234.4,2,    1.76,2,    0.03,2,    0.02,2,    0.04,2,   2.470,2,   1.514,2,   0.210,2,     1.48,2,  1999.6,6, 2276.31,2,   8.0168,2,       25,-999.000,9,-999.0000,9, -999.00,9,    0.61,2,    57.2,2,     2.6,-999.000,9,-999.000,     -999.0,9, -999.00,9,   58.95,2, -999.00,5,     -999.0,9,  -999.0,9, 20130412,       55,  30.0015, 141.1322,    34.8998,2,     -999.0,9,     -999.0,9,    18.6429,2,     -999.0,1,     -999.0,9,-999.0000, -999.00,-999.000
318M20130321,       P02W,      25,          1,         35,         35,2,20130411,       2316,    30.0001,   141.1255,       3588,    19.4,  18.6455,  34.7342,2,  34.7355,2,    234.4,2,   233.7,2,    1.56,2,       0,2,       0,2,    0.04,2,-999.000,9,-999.000,9,-999.000,9,-999.0000,9,  1998.9,2, 2278.61,2,   8.0178,6,       25,-999.000,9,-999.0000,9, -999.00,9, -999.00,9,  -999.0,9,  -999.0,-999.000,9,-999.000,     -999.0,9, -999.00,9,   58.32,2, -999.00,5,     -999.0,9,  -999.0,9, 20130412,       53,  30.0016, 141.1323,    34.8993,2,     -999.0,9,     -999.0,9,    18.6459,2,     -999.0,1,     -999.0,9,-999.0000, -999.00,-999.000
318M20130321,       P02W,      25,          1,         34,         34,2,20130411,       2316,    30.0001,   141.1255,       3588,    40.3,  18.5963,  34.7255,2,  34.7266,2,      234,2,   233.2,2,    2.05,2,    0.02,2,    0.03,2,    0.04,2,   2.485,2,   1.522,2,   0.200,2,     1.57,2,  1999.6,2, 2276.61,6,   8.0156,2,       25,-999.000,9,-999.0000,9, -999.00,9, -999.00,9,  -999.0,9,  -999.0,-999.000,9,-999.000,     -999.0,9, -999.00,9,   58.55,2, -999.00,5,     -999.0,9,  -999.0,9, 20130412,       52,  30.0014, 141.1323,    34.8904,2,     -999.0,9,     -999.0,9,    18.6031,2,     -999.0,1,     -999.0,9,-999.0000, -999.00,-999.000
318M20130321,       P02W,      25,          1,         33,         33,2,20130411,       2316,    30.0001,   141.1255,       3588,    65.1,  18.5033,  34.7164,2,  34.7172,2,      234,2,     232,2,    2.15,2,    0.06,2,    0.06,2,    0.05,2,-999.000,9,-999.000,9,-999.000,9,-999.0000,9,  -999.0,9, -999.00,9,-999.0000,9,  -999.00,-999.000,9,-999.0000,9, -999.00,9, -999.00,9,  -999.0,9,  -999.0,-999.000,9,-999.000,     -999.0,9, -999.00,9,   56.88,2, -999.00,5,     -999.0,9,  -999.0,9, 20130412,       50,  30.0012, 141.1324,    34.8809,2,     -999.0,9,     -999.0,9,    18.5031,2,     -999.0,9,     -999.0,9,-999.0000, -999.00,-999.000
318M20130321,       P02W,      25,          1,         32,         32,2,20130411,       2316,    30.0001,   141.1255,       3588,    90.5,  18.0289,  34.7615,2,   34.761,2,    223.1,2,   224.2,2,    2.64,2,    1.47,2,    0.21,2,    0.15,2,   2.529,2,   1.545,2,   0.186,2,      1.5,2,  2014.5,2, 2278.71,2,   7.9909,2,       25,-999.000,9,-999.0000,9, -999.00,9,    0.51,2,    64.7,2,     3.2,-999.000,9,-999.000,     -999.0,9, -999.00,9,   57.34,2,    5.45,2,     -999.0,9,  -999.0,9, 20130412,       48,  30.0012, 141.1325,    34.9249,2,     -999.0,9,     -999.0,9,    18.0212,2,     -999.0,1,     -999.0,9,-999.0000, -999.00,-999.000
318M20130321,       P02W,      25,          1,         31,         31,2,20130411,       2316,    30.0001,   141.1255,       3588,   115.7,  17.6741,  34.7555,2,  34.7563,2,      218,2,     221,2,    2.93,2,    2.48,2,    0.03,2,     0.2,2,-999.000,9,-999.000,9,-999.000,9,-999.0000,9,  -999.0,9, -999.00,9,-999.0000,9,  -999.00,-999.000,9,-999.0000,9, -999.00,9, -999.00,9,  -999.0,9,  -999.0,-999.000,9,-999.000,     -999.0,9, -999.00,9,   54.36,2,    7.04,2,     -999.0,9,  -999.0,9, 20130412,       46,  30.0013, 141.1325,    34.9202,2,     -999.0,9,     -999.0,9,    17.6738,2,     -999.0,9,     -999.0,9,-999.0000, -999.00,-999.000
318M20130321,       P02W,      25,          1,         30,         30,2,20130411,       2316,    30.0001,   141.1255,       3588,   139.1,  17.4968,  34.7339,2,  34.7331,2,    214.7,2,   212.5,2,    3.51,2,    3.62,2,    0.01,2,    0.25,2,   2.580,2,   1.566,2,   0.098,2,     1.45,2,  2027.1,2, 2277.51,2,   7.9634,2,       25,-999.000,9,-999.0000,9, -999.00,9, -999.00,9,  -999.0,9,  -999.0,-999.000,9,-999.000,     -999.0,9, -999.00,9,   52.69,2,    6.78,2,     -999.0,9,  -999.0,9, 20130412,       45,  30.0014, 141.1325,    34.8969,2,     -999.0,9,     -999.0,9,    17.4969,2,     -999.0,1,     -999.0,9,-999.0000, -999.00,-999.000
318M20130321,       P02W,      25,          1,         29,         29,2,20130411,       2316,    30.0001,   141.1255,       3588,   166.1,  17.3006,  34.7213,2,  34.7207,2,    210.4,2,   211.2,2,    3.81,2,       4,2,    0.01,2,    0.29,2,-999.000,9,-999.000,9,-999.000,9,-999.0000,9,  -999.0,9, -999.00,9,-999.0000,9,  -999.00,-999.000,9,-999.0000,9, -999.00,9, -999.00,9,  -999.0,9,  -999.0,-999.000,9,-999.000,     -999.0,9, -999.00,9,   50.48,2,    8.31,2,     -999.0,9,  -999.0,9, 20130412,       44,  30.0015, 141.1325,    34.8844,2,     -999.0,9,     -999.0,9,    17.3025,2,     -999.0,9,     -999.0,9,-999.0000, -999.00,-999.000
318M20130321,       P02W,      25,          1,         28,         28,2,20130411,       2316,    30.0001,   141.1255,       3588,   190.7,  17.2354,  34.7222,2,  34.7215,2,    218.3,2,   220.7,2,    3.51,2,    3.24,2,       0,2,    0.24,2,   2.599,2,   1.568,2,   0.165,2,     1.47,2,  2023.5,2, 2277.51,2,   7.9706,2,       25,-999.000,9,-999.0000,9, -999.00,9,    0.48,2,    46.8,2,     2.8,-999.000,9,-999.000,     -999.0,9, -999.00,9,   50.31,2,    7.56,2,     -999.0,9,  -999.0,9, 20130412,       42,  30.0015, 141.1324,    34.8852,2,     -999.0,9,     -999.0,9,    17.2356,2,     -999.0,1,     -999.0,9,-999.0000, -999.00,-999.000
318M20130321,       P02W,      25,          1,         27,         27,2,20130411,       2316,    30.0001,   141.1255,       3588,   235.5,  17.0363,  34.7063,2,  34.7064,2,    210.6,2,   212.8,2,    4.39,2,    4.28,2,       0,2,    0.31,2,-999.000,9,-999.000,9,-999.000,9,-999.0000,9,  -999.0,9, -999.00,9,-999.0000,9,  -999.00,-999.000,9,-999.0000,9, -999.00,9, -999.00,9,  -999.0,9,  -999.0,-999.000,9,-999.000,     -999.0,9, -999.00,9,   49.18,2,    8.25,2,     -999.0,9,  -999.0,9, 20130412,       40,  30.0014, 141.1322,      34.87,2,     -999.0,9,     -999.0,9,    17.0366,2,     -999.0,9,     -999.0,9,-999.0000, -999.00,-999.000
318M20130321,       P02W,      25,          1,         26,         26,2,20130411,       2316,    30.0001,   141.1255,       3588,   281.7,  16.4982,  34.6648,2,  34.6663,2,    203.7,2,   201.8,2,    6.34,2,     6.2,2,       0,2,    0.44,2,   2.698,2,   1.610,2,   0.058,2,      1.3,2,  2048.2,2, 2275.51,2,   7.9235,2,       25,-999.000,9,-999.0000,9, -999.00,9,    0.36,2,    47.8,2,     2.6,-999.000,9,-999.000,     -999.0,9, -999.00,9,   49.14,2, -999.00,5,     -999.0,9,  -999.0,9, 20130412,       38,  30.0013, 141.1319,    34.8297,2,     -999.0,9,     -999.0,9,    16.5082,2,     -999.0,1,     -999.0,9,-999.0000, -999.00,-999.000
318M20130321,       P02W,      25,          1,         25,         25,2,20130411,       2316,    30.0001,   141.1255,       3588,   335.7,  15.7687,  34.6122,2,  34.6125,2,    193.6,2,   192.3,2,    8.98,2,    8.14,2,       0,2,    0.59,2,-999.000,9,-999.000,9,-999.000,9,-999.0000,9,  -999.0,9, -999.00,9,-999.0000,9,  -999.00,-999.000,9,-999.0000,9, -999.00,9, -999.00,9,  -999.0,9,  -999.0,-999.000,9,-999.000,     -999.0,9, -999.00,9,   47.55,2, -999.00,5,     -999.0,9,  -999.0,9, 20130412,       36,  30.0013, 141.1316,    34.7757,2,     -999.0,9,     -999.0,9,    15.7647,2,     -999.0,9,     -999.0,9,-999.0000, -999.00,-999.000
318M20130321,       P02W,      25,          1,         24,         24,2,20130411,       2316,    30.0001,   141.1255,       3588,   389.9,  14.6841,  34.5395,2,  34.5392,2,    185.2,2,   185.1,2,    12.2,2,   10.61,2,       0,2,    0.75,2,   2.868,2,   1.624,2,   0.044,2,     1.13,2,  2080.9,2, 2274.21,2,   7.8523,6,       25,-999.000,9,-999.0000,9, -999.00,9,    0.30,2,    39.6,2,     2.7,-999.000,9,-999.000,     -999.0,9, -999.00,9,   46.51,2, -999.00,9,     -999.0,9,  -999.0,9, 20130412,       34,  30.0013, 141.1317,     34.702,2,     -999.0,9,     -999.0,9,    14.6841,2,     -999.0,1,     -999.0,9,-999.0000, -999.00,-999.000
318M20130321,       P02W,      25,          1,         23,         23,2,20130411,       2316,    30.0001,   141.1255,       3588,   439.7,  13.3196,  34.4491,2,  34.4494,2,    181.2,2,   181.7,2,   16.11,2,   13.04,2,       0,2,    0.93,2,-999.000,9,-999.000,9,-999.000,9,-999.0000,9,  -999.0,9, -999.00,9,-999.0000,9,  -999.00,-999.000,9,-999.0000,9, -999.00,9, -999.00,9,  -999.0,9,  -999.0,-999.000,9,-999.000,     -999.0,9, -999.00,9,   45.27,2, -999.00,9,     -999.0,9,  -999.0,9, 20130412,       32,  30.0013, 141.1318,    34.6119,2,     -999.0,9,     -999.0,9,    13.3181,2,     -999.0,9,     -999.0,9,-999.0000, -999.00,-999.000
318M20130321,       P02W,      25,          1,         22,         38,2,20130411,       2316,    30.0001,   141.1255,       3588,   486.8,  11.9365,  34.3591,2,   34.359,2,    177.5,2,   178.1,2,   21.87,2,   15.65,2,       0,2,    1.12,2,   3.007,2,   1.638,2,   0.072,2,     1.04,2,  2117.3,2, 2273.41,2,   7.7684,2,       25,-999.000,9,-999.0000,9, -999.00,9,    0.19,2,    20.3,2,     2.5,-999.000,9,-999.000,     -999.0,9, -999.00,9,    44.7,2, -999.00,9,     -999.0,9,  -999.0,9, 20130412,       30,   30.001, 141.1318,     34.521,2,     -999.0,9,     -999.0,9,    11.9323,2,     -999.0,1,     -999.0,9,-999.0000, -999.00,-999.000
318M20130321,       P02W,      25,          1,         21,         21,2,20130411,       2316,    30.0001,   141.1255,       3588,     568,   9.6803,  34.2035,2,  34.2048,2,    167.7,2,   170.1,2,   32.42,2,   20.16,2,       0,2,    1.45,2,-999.000,9,-999.000,9,-999.000,9,-999.0000,9,  -999.0,9, -999.00,9,-999.0000,9,  -999.00,-999.000,9,-999.0000,9, -999.00,9,    0.14,2,    -6.6,2,     3.0,-999.000,9,-999.000,     -999.0,9, -999.00,9,   42.89,2, -999.00,9,     -999.0,9,  -999.0,9, 20130412,       28,  30.0008, 141.1316,    34.3661,2,     -999.0,9,     -999.0,9,     9.6614,2,     -999.0,9,     -999.0,9,-999.0000, -999.00,-999.000
318M20130321,       P02W,      25,          1,         20,         20,2,20130411,       2316,    30.0001,   141.1255,       3588,   674.4,   7.0953,  34.0617,2,  34.0625,2,    147.9,2,   148.4,2,   52.54,2,   26.79,2,       0,2,    1.96,2,   2.750,2,   1.488,2,   0.140,2,      0.9,2,  2201.1,2, 2283.81,2,   7.5762,2,       25,-999.000,9,-999.0000,9, -999.00,9,   -0.08,2,   -52.6,2,     2.5,-999.000,9,-999.000,     -999.0,9, -999.00,9,   43.89,2, -999.00,9,     -999.0,9,  -999.0,9, 20130412,       26,  30.0007, 141.1313,    34.2231,2,     -999.0,9,     -999.0,9,     7.0877,2,     -999.0,1,     -999.0,9,-999.0000, -999.00,-999.000
318M20130321,       P02W,      25,          1,         19,         19,2,20130411,       2316,    30.0001,   141.1255,       3588,   772.2,   5.4677,  34.0458,2,  34.0458,2,    110.6,2,   112.4,2,   72.85,2,   32.96,2,       0,2,    2.41,2,-999.000,9,-999.000,9,-999.000,9,-999.0000,9,  -999.0,9, -999.00,9,-999.0000,9,  -999.00,-999.000,9,-999.0000,9, -999.00,9,   -0.25,2,   -94.7,2,     2.6,-999.000,9,-999.000,     -999.0,9, -999.00,9,   41.79,2, -999.00,9,     -999.0,9,  -999.0,9, 20130412,       23,  30.0006, 141.1312,    34.2064,2,     -999.0,9,     -999.0,9,     5.4614,2,     -999.0,9,     -999.0,9,-999.0000, -999.00,-999.000
318M20130321,       P02W,      25,          1,         18,         18,2,20130411,       2316,    30.0001,   141.1255,       3588,   865.5,   4.6317,  34.1426,2,   34.143,2,     72.7,2,    72.3,2,   93.35,2,   37.73,2,       0,2,    2.75,2,   1.225,2,   0.666,2,   0.055,2,     0.27,2,  2297.7,2, 2318.72,2,   7.3887,2,       25,-999.000,9,-999.0000,9, -999.00,9,   -0.37,2,  -135.0,2,     2.1,-999.000,9,-999.000,     -999.0,9, -999.00,9,   40.12,2, -999.00,9,     -999.0,9,  -999.0,9, 20130412,       20,  30.0006, 141.1309,     34.304,2,     -999.0,9,     -999.0,9,     4.6315,2,     -999.0,1,     -999.0,9,-999.0000, -999.00,-999.000
318M20130321,       P02W,      25,          1,         17,         17,2,20130411,       2316,    30.0001,   141.1255,       3588,   970.1,   4.1913,  34.2238,2,  34.2242,2,     52.9,2,    53.3,2,  106.13,2,   39.97,2,       0,2,    2.91,2,-999.000,9,-999.000,9,-999.000,9,-999.0000,9,  -999.0,9, -999.00,9,-999.0000,9,  -999.00,-999.000,9,-999.0000,9, -999.00,9,   -0.45,2,  -161.2,2,     2.2,-999.000,9,-999.000,     -999.0,9, -999.00,9,    38.8,2, -999.00,9,     -999.0,9,  -999.0,9, 20130412,       18,  30.0004, 141.1303,    34.3856,2,     -999.0,9,     -999.0,9,     4.1914,2,     -999.0,9,     -999.0,9,-999.0000, -999.00,-999.000
318M20130321,       P02W,      25,          1,         16,         16,2,20130411,       2316,    30.0001,   141.1255,       3588,    1073,   3.6928,   34.308,2,  34.3111,2,     42.8,2,    42.7,2,  120.97,2,   41.46,2,       0,2,    3.01,2,   0.361,2,   0.197,2,   0.022,2,     0.16,2,    2345,2, 2351.64,2,   7.3432,2,       25,-999.000,9,-999.0000,9, -999.00,9,   -0.47,2,  -182.8,2,     2.0,-999.000,9,-999.000,     -999.0,9, -999.00,9,   40.19,2, -999.00,9,     -999.0,9,  -999.0,9, 20130412,       15,  30.0004, 141.1299,    34.4729,2,     -999.0,9,     -999.0,9,     3.6926,2,     -999.0,1,     -999.0,9,-999.0000, -999.00,-999.000
318M20130321,       P02W,      25,          1,         15,         15,2,20130411,       2316,    30.0001,   141.1255,       3588,    1169,   3.3597,  34.3659,2,  34.3655,2,     39.9,2,    40.8,2,  130.63,2,   41.93,2,       0,2,    3.05,2,-999.000,9,-999.000,9,-999.000,9,-999.0000,9,  2356.1,2, 2364.44,2,   7.3431,2,       25,-999.000,9,-999.0000,9, -999.00,9,   -0.50,2,  -193.5,2,     2.3,-999.000,9,-999.000,     -999.0,9, -999.00,9,   37.64,2, -999.00,9,     -999.0,9,  -999.0,9, 20130412,       13,  30.0003, 141.1295,    34.5275,2,     -999.0,9,     -999.0,9,     3.3608,2,     -999.0,1,     -999.0,9,-999.0000, -999.00,-999.000
318M20130321,       P02W,      25,          1,         14,         14,2,20130411,       2316,    30.0001,   141.1255,       3588,  1272.2,   3.0688,  34.4087,2,  34.4108,2,     39.5,2,    39.8,2,  138.43,2,   42.17,2,       0,2,    3.06,2,   0.170,2,   0.088,2,   0.021,2,     0.09,2,  2364.8,2, 2374.44,2,   7.3444,2,       25,-999.000,9,-999.0000,9, -999.00,9,   -0.50,2,  -206.5,2,     2.0,-999.000,9,-999.000,     -999.0,9, -999.00,9, -999.00,9, -999.00,9,     -999.0,9,  -999.0,9, 20130412,       10,  30.0002, 141.1289,     34.573,2,     -999.0,9,     -999.0,9,     3.0693,2,     -999.0,1,     -999.0,9,-999.0000, -999.00,-999.000
318M20130321,       P02W,      25,          1,         13,         13,2,20130411,       2316,    30.0001,   141.1255,       3588,  1374.7,   2.8656,  34.4471,2,  34.4477,2,     42.6,2,    42.8,2,  144.39,2,   42.28,2,       0,2,    3.06,2,-999.000,9,-999.000,9,-999.000,9,-999.0000,9,  2369.2,2, 2380.45,2,   7.3526,2,       25,-999.000,9,-999.0000,9, -999.00,9,   -0.45,2,  -213.7,2,     2.1,-999.000,9,-999.000,     -999.0,9, -999.00,9,   38.44,2, -999.00,9,     -999.0,9,  -999.0,9, 20130412,        7,  30.0002, 141.1285,    34.6101,2,     -999.0,9,     -999.0,9,     2.8656,2,     -999.0,1,     -999.0,9,-999.0000, -999.00,-999.000
318M20130321,       P02W,      25,          1,         12,         12,2,20130411,       2316,    30.0001,   141.1255,       3588,  1478.2,   2.6603,  34.4869,2,  34.4868,2,     49.4,2,    49.5,2,   147.6,2,      42,2,       0,2,    3.03,2,   0.066,2,   0.038,2,   0.023,2,     0.04,2,  2369.5,2, 2387.95,2,   7.3703,6,       25,-999.000,9,-999.0000,9, -999.00,9,   -0.43,2,  -217.9,2,     2.4,-999.000,9,-999.000,     -999.0,9, -999.00,9, -999.00,9, -999.00,9,     -999.0,9,  -999.0,9, 20130412,        4,  30.0001, 141.1283,    34.6494,2,     -999.0,9,     -999.0,9,     2.6629,2,     -999.0,1,     -999.0,9,-999.0000, -999.00,-999.000
318M20130321,       P02W,      25,          1,         11,         11,2,20130411,       2316,    30.0001,   141.1255,       3588,  1579.3,   2.4904,  34.5114,2,  34.5152,2,       54,2,    52.7,2,  152.09,2,   41.93,2,       0,2,    3.02,2,-999.000,9,-999.000,9,-999.000,9,-999.0000,9,  2372.2,2, 2391.85,2,   7.3781,2,       25,-999.000,9,-999.0000,9, -999.00,9, -999.00,9,  -999.0,9,  -999.0,-999.000,9,-999.000,     -999.0,9, -999.00,9,   36.38,2, -999.00,9,     -999.0,9,  -999.0,9, 20130412,        2,  30.0002, 141.1283,     34.678,2,     -999.0,9,     -999.0,9,     2.4897,2,     -999.0,1,     -999.0,9,-999.0000, -999.00,-999.000
318M20130321,       P02W,      25,          1,         10,         10,2,20130411,       2316,    30.0001,   141.1255,       3588,  1681.3,   2.3615,   34.536,2,  34.5368,2,     63.5,2,    63.5,2,  152.19,2,   41.29,2,       0,2,    2.96,2,   0.037,2,   0.038,2,   0.023,2,     0.04,2,  -999.0,9, -999.00,9,-999.0000,9,  -999.00,-999.000,9,-999.0000,9, -999.00,9, -999.00,9,  -999.0,9,  -999.0,-999.000,9,-999.000,     -999.0,9, -999.00,9, -999.00,9, -999.00,9,     -999.0,9,  -999.0,9, 20130411,     2359,  30.0002, 141.1282,    34.6997,2,     -999.0,9,     -999.0,9,     2.3614,2,     -999.0,9,     -999.0,9,-999.0000, -999.00,-999.000
318M20130321,       P02W,      25,          1,          9,          9,2,20130411,       2316,    30.0001,   141.1255,       3588,  1784.7,   2.2382,  34.5557,2,  34.5561,2,     69.3,2,    69.5,2,  154.53,2,   40.94,2,       0,2,    2.94,2,-999.000,9,-999.000,9,-999.000,9,-999.0000,9,  2366.6,2, 2400.15,2,   7.4129,2,       25,-999.000,9,-999.0000,9, -999.00,9, -999.00,9,  -999.0,9,  -999.0,-999.000,9,-999.000,     -999.0,9, -999.00,9,   35.07,2, -999.00,9,     -999.0,9,  -999.0,9, 20130411,     2356,  30.0001,  141.128,     34.719,2,     -999.0,9,     -999.0,9,     2.2378,2,     -999.0,1,     -999.0,9,-999.0000, -999.00,-999.000
318M20130321,       P02W,      25,          1,          8,          8,2,20130411,       2316,    30.0001,   141.1255,       3588,  1955.8,   2.0824,  34.5799,2,  34.5804,2,     77.5,2,      78,2,  156.77,2,   40.49,2,       0,2,     2.9,2,   0.019,2,   0.018,2,   0.006,2,     0.07,2,  -999.0,9, -999.00,9,-999.0000,9,  -999.00,-999.000,9,-999.0000,9, -999.00,9, -999.00,9,  -999.0,9,  -999.0,-999.000,9,-999.000,     -999.0,9, -999.00,9, -999.00,9, -999.00,9,     -999.0,9,  -999.0,9, 20130411,     2352,  29.9999, 141.1277,    34.7435,2,     -999.0,9,     -999.0,9,     2.0824,2,     -999.0,9,     -999.0,9,-999.0000, -999.00,-999.000