BOTTLE,20220817CCHSIOAMB
EXPOCODE,SECT_ID,STNNBR,CASTNO,SAMPNO,BTLNBR,BTLNBR_FLAG_W,DATE,TIME,LATITUDE,LONGITUDE,DEPTH,CTDPRS,CTDTMP,CTDSAL,CTDSAL_FLAG_W,SALNTY,SALNTY_FLAG_W,CTDOXY,CTDOXY_FLAG_W,OXYGEN,OXYGEN_FLAG_W,SILCAT,SILCAT_FLAG_W,NITRAT,NITRAT_FLAG_W,NITRIT,NITRIT_FLAG_W,PHSPHT,PHSPHT_FLAG_W,CFC-11,CFC-11_FLAG_W,CFC-12,CFC-12_FLAG_W,CFC113,CFC113_FLAG_W,SF6,SF6_FLAG_W,TCARBN,TCARBN_FLAG_W,ALKALI,ALKALI_FLAG_W,PH_TOT,PH_TOT_FLAG_W,PH_TMP,TRITUM,TRITUM_FLAG_W,HELIUM,HELIUM_FLAG_W,DELHE3,DELHE3_FLAG_W,DELC13,DELC13_FLAG_W,DELC14,DELC14_FLAG_W,C14ERR,NEON,NEON_FLAG_W,NEONER,I-129,I-129_FLAG_W,SR-90,SR-90_FLAG_W,DOC,DOC_FLAG_W,TDN,TDN_FLAG_W,CALCIUM,CALCIUM_FLAG_W,D15N_NO3,D15N_NO3_FLAG_W,BTL_DATE,BTL_TIME,BTL_LAT,BTL_LON,SALTREF,SALTREF_FLAG_W,CS-137,CS-137_FLAG_W,CS-134,CS-134_FLAG_W,REFTMP,REFTMP_FLAG_W,LAB_DEN,LAB_DEN_FLAG_W,D18O_NO3,D18O_NO3_FLAG_W,HELIER,DELHER,TRITER
,,,,,,,,,,,METERS,DBAR,ITS-90,PSS-78,,PSS-78,,UMOL/KG,,UMOL/KG,,UMOL/KG,,UMOL/KG,,UMOL/KG,,UMOL/KG,,PMOL/KG,,PMOL/KG,,PMOL/KG,,FMOL/KG,,UMOL/KG,,UMOL/KG,,,,DEG C,TU,,NMOL/KG,,PERCNT,,/MILLE,,/MILLE,,/MILLE,NMOL/KG,,NMOL/KG,BQ/M^3,,DM/.1MG,,UMOL/KG,,UMOL/KG,,MMOL/KG,,/MILLE,,,,,,G/KG,,BQ/M^3,,BQ/M^3,,ITS-90,,,,/MILLE,,NMOL/KG,PERCNT,TU
318M20130321,       P02E,     118,          1,         36,         36,2,20130522,       0019,    30.0003,  -141.0452,       4966,     2.7,   19.812,  34.7837,2,  34.7852,2,    233.1,2,   233.7,2,    2.44,2,       0,2,       0,2,       0,2,   2.087,2,   1.261,2,-999.000,1,   1.4559,2,  2034.4,2, 2290.41,2,   7.9757,2,       25,-999.000,9,-999.0000,9, -999.00,9, -999.00,9,  -999.0,9,  -999.0,-999.000,9,-999.000,     -999.0,9, -999.00,9, -999.00,9, -999.00,9,     -999.0,9,  -999.0,9, 20130522,      220,       30,-141.0451,    34.9492,2,     -999.0,9,     -999.0,9,    19.8114,2,     -999.0,9,     -999.0,9,-999.0000, -999.00,-999.000
318M20130321,       P02E,     118,          1,         34,         34,2,20130522,       0019,    30.0003,  -141.0452,       4966,    35.4,  18.6744,  34.6557,2,  34.6771,3,    238.9,2,   239.5,2,    2.54,2,       0,2,       0,2,       0,2,   2.173,2,   1.306,2,-999.000,1,   1.5194,2,  2028.6,2, 2282.81,2,    7.974,6,       25,-999.000,9,-999.0000,9, -999.00,9, -999.00,9,  -999.0,9,  -999.0,-999.000,9,-999.000,     -999.0,9, -999.00,9, -999.00,9, -999.00,9,     -999.0,9,  -999.0,9, 20130522,      218,  29.9999,-141.0452,    34.8406,3,     -999.0,9,     -999.0,9,    18.7519,3,     -999.0,9,     -999.0,9,-999.0000, -999.00,-999.000
318M20130321,       P02E,     118,          1,         33,         33,2,20130522,       0019,    30.0003,  -141.0452,       4966,    60.9,  18.6795,  34.7677,2,  34.7644,2,    240.4,2,   239.1,2,    2.34,2,       0,2,       0,2,       0,2,   2.169,2,   1.304,2,-999.000,1,   1.5103,2,  2034.8,2, 2289.61,6,   7.9729,2,       25,-999.000,9,-999.0000,9, -999.00,9, -999.00,9,  -999.0,9,  -999.0,-999.000,9,-999.000,     -999.0,9, -999.00,9, -999.00,9, -999.00,9,     -999.0,9,  -999.0,9, 20130522,      216,  30.0001,-141.0453,    34.9283,2,     -999.0,9,     -999.0,9,    18.6781,2,     -999.0,9,     -999.0,9,-999.0000, -999.00,-999.000
318M20130321,       P02E,     118,          1,         32,         32,2,20130522,       0019,    30.0003,  -141.0452,       4966,    85.8,  18.8055,  34.8756,2,  34.8739,2,    239.6,2,   237.3,2,    2.05,2,       0,2,       0,2,       0,2,   2.143,2,   1.292,2,-999.000,1,   1.4399,2,  2038.3,2, 2297.52,6,   7.9773,6,       25,-999.000,9,-999.0000,9, -999.00,9, -999.00,9,  -999.0,9,  -999.0,-999.000,9,-999.000,     -999.0,9, -999.00,9, -999.00,9, -999.00,9,     -999.0,9,  -999.0,9, 20130522,      215,  30.0001,-141.0455,    35.0383,2,     -999.0,9,     -999.0,9,    18.8046,2,     -999.0,9,     -999.0,9,-999.0000, -999.00,-999.000
318M20130321,       P02E,     118,          1,         31,         31,2,20130522,       0019,    30.0003,  -141.0452,       4966,   115.5,  18.1667,  34.7843,2,  34.7856,2,    238.9,2,   237.5,2,    2.15,2,       0,2,       0,2,       0,2,   2.183,2,   1.312,2,-999.000,1,   1.5275,2,  -999.0,9, 2291.01,2,-999.0000,9,  -999.00,-999.000,9,-999.0000,9, -999.00,9, -999.00,9,  -999.0,9,  -999.0,-999.000,9,-999.000,     -999.0,9, -999.00,9, -999.00,9, -999.00,9,     -999.0,9,  -999.0,9, 20130522,      213,  30.0001,-141.0456,    34.9496,2,     -999.0,9,     -999.0,9,    18.1698,2,     -999.0,9,     -999.0,9,-999.0000, -999.00,-999.000
318M20130321,       P02E,     118,          1,         30,         30,2,20130522,       0019,    30.0003,  -141.0452,       4966,   166.7,  17.7946,  34.7391,2,  34.7418,2,    233.7,2,   230.9,2,    2.24,2,    0.04,2,    0.13,2,    0.03,2,   2.216,2,   1.332,2,-999.000,1,   1.4722,2,    2040,2, 2288.11,2,   7.9574,2,       25,-999.000,9,-999.0000,9, -999.00,9, -999.00,9,  -999.0,9,  -999.0,-999.000,9,-999.000,     -999.0,9, -999.00,9, -999.00,9, -999.00,9,     -999.0,9,  -999.0,9, 20130522,      211,       30,-141.0455,    34.9056,2,     -999.0,9,     -999.0,9,    17.7887,2,     -999.0,9,     -999.0,9,-999.0000, -999.00,-999.000
318M20130321,       P02E,     118,          1,         29,         29,2,20130522,       0019,    30.0003,  -141.0452,       4966,   217.3,  13.0693,  34.0196,2,  34.0211,2,    224.2,2,   223.2,2,    5.96,2,    5.55,2,    0.02,2,    0.45,2,   2.842,2,   1.635,2,-999.000,1,    1.578,2,  -999.0,9,  2243.2,2,-999.0000,9,  -999.00,-999.000,9,-999.0000,9, -999.00,9, -999.00,9,  -999.0,9,  -999.0,-999.000,9,-999.000,     -999.0,9, -999.00,9, -999.00,9, -999.00,9,     -999.0,9,  -999.0,9, 20130522,      209,       30,-141.0455,    34.1816,2,     -999.0,9,     -999.0,9,    13.0755,2,     -999.0,9,     -999.0,9,-999.0000, -999.00,-999.000
318M20130321,       P02E,     118,          1,         27,         27,2,20130522,       0019,    30.0003,  -141.0452,       4966,   268.4,  10.9007,  33.9642,2,  33.9667,2,    216.3,2,   215.3,2,   11.72,2,   11.82,2,    0.01,2,    0.84,2,   3.156,2,   1.765,2,-999.000,1,   1.5061,2,  2092.1,2,  2243.6,2,   7.7641,2,       25,-999.000,9,-999.0000,9, -999.00,9, -999.00,9,  -999.0,9,  -999.0,-999.000,9,-999.000,     -999.0,9, -999.00,9, -999.00,9, -999.00,9,     -999.0,9,  -999.0,9, 20130522,      207,       30,-141.0454,    34.1268,2,     -999.0,9,     -999.0,9,    10.9019,2,     -999.0,9,     -999.0,9,-999.0000, -999.00,-999.000
318M20130321,       P02E,     118,          1,         26,         26,2,20130522,       0019,    30.0003,  -141.0452,       4966,   317.2,   9.8478,  34.0285,2,  34.0311,2,    206.2,2,   208.4,2,   17.38,2,   15.74,2,       0,2,    1.08,2,   3.233,2,   1.778,2,-999.000,1,   1.4409,2,  -999.0,9, -999.00,9,-999.0000,9,  -999.00,-999.000,9,-999.0000,9, -999.00,9, -999.00,9,  -999.0,9,  -999.0,-999.000,9,-999.000,     -999.0,9, -999.00,9, -999.00,9, -999.00,9,     -999.0,9,  -999.0,9, 20130522,      205,       30,-141.0454,    34.1916,2,     -999.0,9,     -999.0,9,     9.8484,2,     -999.0,9,     -999.0,9,-999.0000, -999.00,-999.000
318M20130321,       P02E,     118,          1,         25,         25,2,20130522,       0019,    30.0003,  -141.0452,       4966,   367.6,   8.7664,   34.022,2,  34.0225,2,    187.7,2,   187.1,2,   25.78,2,   20.27,2,       0,2,     1.4,2,   3.202,2,   1.722,2,-999.000,1,   1.1912,2,  2145.3,2,    2258,2,   7.6631,2,       25,-999.000,9,-999.0000,9, -999.00,9, -999.00,9,  -999.0,9,  -999.0,-999.000,9,-999.000,     -999.0,9, -999.00,9, -999.00,9, -999.00,9,     -999.0,9,  -999.0,9, 20130522,      203,       30,-141.0454,    34.1829,2,     -999.0,9,     -999.0,9,     8.7677,2,     -999.0,9,     -999.0,9,-999.0000, -999.00,-999.000
318M20130321,       P02E,     118,          1,         24,         24,2,20130522,       0019,    30.0003,  -141.0452,       4966,   437.5,   7.5881,  33.9953,2,  33.9967,2,    149.4,2,   150.5,2,   38.09,2,   26.14,2,       0,2,    1.84,2,   2.902,2,   1.508,2,-999.000,1,   0.8859,2,  2187.9,2, 2266.61,2,   7.5645,2,       25,-999.000,9,-999.0000,9, -999.00,9, -999.00,9,  -999.0,9,  -999.0,-999.000,9,-999.000,     -999.0,9, -999.00,9, -999.00,9, -999.00,9,     -999.0,9,  -999.0,9, 20130522,      201,  29.9999,-141.0455,     34.157,2,     -999.0,9,     -999.0,9,     7.5863,2,     -999.0,9,     -999.0,9,-999.0000, -999.00,-999.000
318M20130321,       P02E,     118,          1,         23,         23,2,20130522,       0019,    30.0003,  -141.0452,       4966,   538.1,   6.0754,  34.0208,2,  34.0209,2,     84.7,2,    83.6,2,   61.72,2,      35,2,       0,2,     2.5,2,   1.877,6,   0.933,6,-999.000,1,   0.3871,6,  2256.1,2, 2285.01,2,    7.407,2,       25,-999.000,9,-999.0000,9, -999.00,9, -999.00,9,  -999.0,9,  -999.0,-999.000,9,-999.000,     -999.0,9, -999.00,9, -999.00,9, -999.00,9,     -999.0,9,  -999.0,9, 20130522,      159,  29.9999,-141.0457,    34.1814,2,     -999.0,9,     -999.0,9,     6.0739,2,     -999.0,9,     -999.0,9,-999.0000, -999.00,-999.000
318M20130321,       P02E,     118,          1,         22,         22,2,20130522,       0019,    30.0003,  -141.0452,       4966,   639.1,   4.9988,  34.0891,2,  34.0909,2,     45.5,2,    46.3,2,    83.3,2,   40.03,2,       0,2,    2.89,2,   0.926,2,   0.446,2,-999.000,1,   0.1536,2,  2301.2,2, 2305.62,2,   7.3278,2,       25,-999.000,9,-999.0000,9, -999.00,9, -999.00,9,  -999.0,9,  -999.0,-999.000,9,-999.000,     -999.0,9, -999.00,9, -999.00,9, -999.00,9,     -999.0,9,  -999.0,9, 20130522,      156,  29.9997,-141.0457,    34.2517,2,     -999.0,9,     -999.0,9,     4.9994,2,     -999.0,9,     -999.0,9,-999.0000, -999.00,-999.000
318M20130321,       P02E,     118,          1,         21,         21,2,20130522,       0019,    30.0003,  -141.0452,       4966,   739.2,   4.4483,  34.1801,2,  34.1789,2,       25,2,      25,2,   99.11,2,   42.49,2,       0,2,    3.07,2,   0.334,2,   0.168,2,-999.000,1,   0.0605,2,  2334.4,2, 2325.03,2,   7.2936,2,       25,-999.000,9,-999.0000,9, -999.00,9, -999.00,9,  -999.0,9,  -999.0,-999.000,9,-999.000,     -999.0,9, -999.00,9, -999.00,9, -999.00,9,     -999.0,9,  -999.0,9, 20130522,      153,  29.9998,-141.0455,    34.3401,2,     -999.0,9,     -999.0,9,     4.4576,2,     -999.0,9,     -999.0,9,-999.0000, -999.00,-999.000
318M20130321,       P02E,     118,          1,         20,         20,2,20130522,       0019,    30.0003,  -141.0452,       4966,   841.2,   4.1251,  34.2714,2,  34.2713,2,     13.8,2,    14.6,2,  111.01,2,   43.67,2,       0,2,    3.18,2,   0.081,2,   0.046,2,-999.000,1,        0,2,  2351.8,2, 2341.43,2,   7.2833,2,       25,-999.000,9,-999.0000,9, -999.00,9, -999.00,9,  -999.0,9,  -999.0,-999.000,9,-999.000,     -999.0,9, -999.00,9, -999.00,9, -999.00,9,     -999.0,9,  -999.0,9, 20130522,      150,       30,-141.0455,    34.4329,2,     -999.0,9,     -999.0,9,     4.1291,2,     -999.0,9,     -999.0,9,-999.0000, -999.00,-999.000
318M20130321,       P02E,     118,          1,         19,         19,2,20130522,       0019,    30.0003,  -141.0452,       4966,   942.7,   3.8989,  34.3701,2,  34.3749,2,     13.7,2,    14.1,2,   119.4,2,   43.98,2,       0,2,    3.22,2,   0.023,2,   0.014,2,-999.000,1,        0,2,  2363.7,6, 2357.74,2,   7.2985,6,       25,-999.000,9,-999.0000,9, -999.00,9, -999.00,9,  -999.0,9,  -999.0,-999.000,9,-999.000,     -999.0,9, -999.00,9, -999.00,9, -999.00,9,     -999.0,9,  -999.0,9, 20130522,      147,       30,-141.0455,     34.537,2,     -999.0,9,     -999.0,9,     3.8999,2,     -999.0,9,     -999.0,9,-999.0000, -999.00,-999.000
318M20130321,       P02E,     118,          1,         18,         18,2,20130522,       0019,    30.0003,  -141.0452,       4966,  1043.2,   3.6234,  34.4315,2,   34.433,2,     20.4,2,    20.4,2,  125.64,2,   43.94,2,       0,2,    3.23,2,   0.013,2,   0.009,2,-999.000,1,        0,2,  -999.0,9, -999.00,9,-999.0000,9,  -999.00,-999.000,9,-999.0000,9, -999.00,9, -999.00,9,  -999.0,9,  -999.0,-999.000,9,-999.000,     -999.0,9, -999.00,9, -999.00,9, -999.00,9,     -999.0,9,  -999.0,9, 20130522,      144,  29.9999,-141.0457,    34.5953,2,     -999.0,9,     -999.0,9,     3.6249,2,     -999.0,9,     -999.0,9,-999.0000, -999.00,-999.000
318M20130321,       P02E,     118,          1,         17,         17,2,20130522,       0019,    30.0003,  -141.0452,       4966,  1143.8,   3.3928,  34.4753,2,  34.4761,2,     28.8,2,    27.9,2,  131.11,2,   43.61,2,       0,2,    3.19,2,   0.009,2,   0.007,2,-999.000,1,        0,2,  2370.8,2, 2378.85,2,   7.3362,2,       25,-999.000,9,-999.0000,9, -999.00,9, -999.00,9,  -999.0,9,  -999.0,-999.000,9,-999.000,     -999.0,9, -999.00,9, -999.00,9, -999.00,9,     -999.0,9,  -999.0,9, 20130522,      141,       30,-141.0457,    34.6387,2,     -999.0,9,     -999.0,9,     3.3928,2,     -999.0,9,     -999.0,9,-999.0000, -999.00,-999.000
318M20130321,       P02E,     118,          1,         16,         16,2,20130522,       0019,    30.0003,  -141.0452,       4966,  1291.3,   3.0822,  34.5175,2,  34.5186,2,     39.8,2,      40,2,  137.84,2,   43.09,2,       0,2,    3.14,2,   0.000,2,   0.004,2,-999.000,1,        0,2,  -999.0,9, -999.00,9,-999.0000,9,  -999.00,-999.000,9,-999.0000,9, -999.00,9, -999.00,9,  -999.0,9,  -999.0,-999.000,9,-999.000,     -999.0,9, -999.00,9, -999.00,9, -999.00,9,     -999.0,9,  -999.0,9, 20130522,      137,       30,-141.0461,    34.6813,2,     -999.0,9,     -999.0,9,     3.0826,2,     -999.0,9,     -999.0,9,-999.0000, -999.00,-999.000
318M20130321,       P02E,     118,          1,         15,         15,2,20130522,       0019,    30.0003,  -141.0452,       4966,  1479.3,   2.7012,  34.5568,2,  34.5573,2,     53.7,2,    52.8,2,  146.03,2,   42.38,2,       0,2,    3.08,2,   0.004,2,   0.002,2,-999.000,1,        0,2,  -999.0,9, -999.00,9,-999.0000,9,  -999.00,-999.000,9,-999.0000,9, -999.00,9, -999.00,9,  -999.0,9,  -999.0,-999.000,9,-999.000,     -999.0,9, -999.00,9, -999.00,9, -999.00,9,     -999.0,9,  -999.0,9, 20130522,      133,  29.9998,-141.0457,    34.7202,2,     -999.0,9,     -999.0,9,     2.7013,2,     -999.0,9,     -999.0,9,-999.0000, -999.00,-999.000
318M20130321,       P02E,     118,          1,         14,         14,2,20130522,       0019,    30.0003,  -141.0452,       4966,    1680,   2.3943,  34.5843,2,  34.5855,2,       65,2,    64.5,2,  153.84,2,    41.7,2,       0,2,    3.02,2,   0.005,2,   0.003,2,-999.000,1,        0,2,    2373,2, 2406.75,2,   7.4128,2,       25,-999.000,9,-999.0000,9, -999.00,9, -999.00,9,  -999.0,9,  -999.0,-999.000,9,-999.000,     -999.0,9, -999.00,9, -999.00,9, -999.00,9,     -999.0,9,  -999.0,9, 20130522,      128,  29.9998,-141.0457,    34.7486,2,     -999.0,9,     -999.0,9,     2.3941,2,     -999.0,9,     -999.0,9,-999.0000, -999.00,-999.000
318M20130321,       P02E,     118,          1,         13,         13,2,20130522,       0019,    30.0003,  -141.0452,       4966,  1884.2,    2.161,  34.6048,2,  34.6081,3,     73.4,2,    72.5,2,  160.57,2,   41.19,2,       0,2,    2.97,2,   0.003,2,   0.001,2,-999.000,1,        0,2,  -999.0,9, -999.00,9,-999.0000,9,  -999.00,-999.000,9,-999.0000,9, -999.00,9, -999.00,9,  -999.0,9,  -999.0,-999.000,9,-999.000,     -999.0,9, -999.00,9, -999.00,9, -999.00,9,     -999.0,9,  -999.0,9, 20130522,      124,       30, -141.046,    34.7713,3,     -999.0,9,     -999.0,9,     2.1613,2,     -999.0,9,     -999.0,9,-999.0000, -999.00,-999.000
318M20130321,       P02E,     118,          1,         12,         12,2,20130522,       0019,    30.0003,  -141.0452,       4966,  2107.8,   1.9535,  34.6241,2,  34.6256,2,     82.6,2,    83.1,2,  166.43,2,   40.49,2,       0,2,    2.91,2,   0.003,2,   0.001,2,-999.000,1,        0,2,  -999.0,9, -999.00,9,-999.0000,9,  -999.00,-999.000,9,-999.0000,9, -999.00,9, -999.00,9,  -999.0,9,  -999.0,-999.000,9,-999.000,     -999.0,9, -999.00,9, -999.00,9, -999.00,9,     -999.0,9,  -999.0,9, 20130522,      119,  29.9998, -141.046,    34.7889,2,     -999.0,9,     -999.0,9,     1.9534,2,     -999.0,9,     -999.0,9,-999.0000, -999.00,-999.000
318M20130321,       P02E,     118,          1,         11,         11,2,20130522,       0019,    30.0003,  -141.0452,       4966,  2361.2,   1.7786,  34.6411,2,  34.6417,2,     95.8,2,    95.5,2,  168.77,2,    39.7,2,       0,2,    2.84,2,   0.003,2,   0.002,2,-999.000,1,        0,2,  2368.6,2, 2422.16,2,   7.4733,2,       25,-999.000,9,-999.0000,9, -999.00,9, -999.00,9,  -999.0,9,  -999.0,-999.000,9,-999.000,     -999.0,9, -999.00,9, -999.00,9, -999.00,9,     -999.0,9,  -999.0,9, 20130522,      113,  29.9997,-141.0459,    34.8051,2,     -999.0,9,     -999.0,9,      1.778,2,     -999.0,9,     -999.0,9,-999.0000, -999.00,-999.000
318M20130321,       P02E,     118,          1,         10,         10,2,20130522,       0019,    30.0003,  -141.0452,       4966,  2617.5,   1.6746,   34.652,2,  34.6537,2,    105.3,2,   105.2,2,  169.55,2,   39.13,2,       0,2,    2.76,2,   0.004,2,   0.002,2,-999.000,1,        0,2,  2362.7,2, 2423.76,2,   7.4936,2,       25,-999.000,9,-999.0000,9, -999.00,9, -999.00,9,  -999.0,9,  -999.0,-999.000,9,-999.000,     -999.0,9, -999.00,9, -999.00,9, -999.00,9,     -999.0,9,  -999.0,9, 20130522,      108,  29.9998,-141.0457,    34.8171,2,     -999.0,9,     -999.0,9,      1.674,2,     -999.0,9,     -999.0,9,-999.0000, -999.00,-999.000
318M20130321,       P02E,     118,          1,          9,          9,2,20130522,       0019,    30.0003,  -141.0452,       4966,  2871.7,   1.5917,  34.6612,2,  34.6624,2,    114.7,2,   114.7,2,  168.76,2,   38.54,2,       0,2,    2.72,2,   0.004,2,   0.001,2,-999.000,1,        0,2,  -999.0,9, -999.00,9,-999.0000,9,  -999.00,-999.000,9,-999.0000,9, -999.00,9, -999.00,9,  -999.0,9,  -999.0,-999.000,9,-999.000,     -999.0,9, -999.00,9, -999.00,9, -999.00,9,     -999.0,9,  -999.0,9, 20130522,      102,       30,-141.0457,    34.8258,2,     -999.0,9,     -999.0,9,     1.5917,2,     -999.0,9,     -999.0,9,-999.0000, -999.00,-999.000
318M20130321,       P02E,     118,          1,          8,          8,2,20130522,       0019,    30.0003,  -141.0452,       4966,  3142.2,    1.531,  34.6691,2,  34.6696,2,    123.6,2,   123.7,2,   167.2,2,   37.97,2,       0,2,    2.67,2,   0.005,2,   0.001,2,-999.000,1,        0,2,  2351.8,2, 2424.66,2,   7.5263,2,       25,-999.000,9,-999.0000,9, -999.00,9, -999.00,9,  -999.0,9,  -999.0,-999.000,9,-999.000,     -999.0,9, -999.00,9, -999.00,9, -999.00,9,     -999.0,9,  -999.0,9, 20130522,       57,  29.9999,-141.0458,    34.8331,2,     -999.0,9,     -999.0,9,      1.531,2,     -999.0,9,     -999.0,9,-999.0000, -999.00,-999.000
318M20130321,       P02E,     118,          1,          7,          7,2,20130522,       0019,    30.0003,  -141.0452,       4966,  3447.4,   1.4857,  34.6768,2,  34.6773,2,    133.6,2,   133.6,2,  164.96,2,   37.36,2,       0,2,    2.62,2,   0.005,2,   0.002,2,-999.000,1,        0,2,  -999.0,9, -999.00,9,-999.0000,9,  -999.00,-999.000,9,-999.0000,9, -999.00,9, -999.00,9,  -999.0,9,  -999.0,-999.000,9,-999.000,     -999.0,9, -999.00,9, -999.00,9, -999.00,9,     -999.0,9,  -999.0,9, 20130522,       51,  30.0001,-141.0457,    34.8408,2,     -999.0,9,     -999.0,9,     1.4861,2,     -999.0,9,     -999.0,9,-999.0000, -999.00,-999.000
318M20130321,       P02E,     118,          1,          6,          6,2,20130522,       0019,    30.0003,  -141.0452,       4966,  3755.5,   1.4721,  34.6817,2,  34.6818,2,    141.4,2,     141,2,  161.34,2,   36.88,2,       0,2,    2.57,2,   0.005,2,   0.004,2,-999.000,1,        0,2,  2339.6,2, 2424.16,2,   7.5577,2,       25,-999.000,9,-999.0000,9, -999.00,9, -999.00,9,  -999.0,9,  -999.0,-999.000,9,-999.000,     -999.0,9, -999.00,9, -999.00,9, -999.00,9,     -999.0,9,  -999.0,9, 20130522,       45,       30,-141.0453,    34.8453,2,     -999.0,9,     -999.0,9,     1.4723,2,     -999.0,9,     -999.0,9,-999.0000, -999.00,-999.000