BOTTLE,20220817CCHSIOAMB
EXPOCODE,SECT_ID,STNNBR,CASTNO,SAMPNO,BTLNBR,BTLNBR_FLAG_W,DATE,TIME,LATITUDE,LONGITUDE,DEPTH,CTDPRS,CTDTMP,CTDSAL,CTDSAL_FLAG_W,SALNTY,SALNTY_FLAG_W,CTDOXY,CTDOXY_FLAG_W,OXYGEN,OXYGEN_FLAG_W,SILCAT,SILCAT_FLAG_W,NITRAT,NITRAT_FLAG_W,NITRIT,NITRIT_FLAG_W,PHSPHT,PHSPHT_FLAG_W,CFC-11,CFC-11_FLAG_W,CFC-12,CFC-12_FLAG_W,CFC113,CFC113_FLAG_W,SF6,SF6_FLAG_W,TCARBN,TCARBN_FLAG_W,ALKALI,ALKALI_FLAG_W,PH_TOT,PH_TOT_FLAG_W,PH_TMP,TRITUM,TRITUM_FLAG_W,HELIUM,HELIUM_FLAG_W,DELHE3,DELHE3_FLAG_W,DELC13,DELC13_FLAG_W,DELC14,DELC14_FLAG_W,C14ERR,NEON,NEON_FLAG_W,NEONER,I-129,I-129_FLAG_W,SR-90,SR-90_FLAG_W,DOC,DOC_FLAG_W,TDN,TDN_FLAG_W,CALCIUM,CALCIUM_FLAG_W,D15N_NO3,D15N_NO3_FLAG_W,BTL_DATE,BTL_TIME,BTL_LAT,BTL_LON,SALTREF,SALTREF_FLAG_W,CS-137,CS-137_FLAG_W,CS-134,CS-134_FLAG_W,REFTMP,REFTMP_FLAG_W,LAB_DEN,LAB_DEN_FLAG_W,D18O_NO3,D18O_NO3_FLAG_W,HELIER,DELHER,TRITER
,,,,,,,,,,,METERS,DBAR,ITS-90,PSS-78,,PSS-78,,UMOL/KG,,UMOL/KG,,UMOL/KG,,UMOL/KG,,UMOL/KG,,UMOL/KG,,PMOL/KG,,PMOL/KG,,PMOL/KG,,FMOL/KG,,UMOL/KG,,UMOL/KG,,,,DEG C,TU,,NMOL/KG,,PERCNT,,/MILLE,,/MILLE,,/MILLE,NMOL/KG,,NMOL/KG,BQ/M^3,,DM/.1MG,,UMOL/KG,,UMOL/KG,,MMOL/KG,,/MILLE,,,,,,G/KG,,BQ/M^3,,BQ/M^3,,ITS-90,,,,/MILLE,,NMOL/KG,PERCNT,TU
318M20130321,       P02W,      46,          1,         36,         36,2,20130419,       1731,    29.9997,   160.0016,       5723,     6.2,   19.368,  34.8795,2,  34.8789,2,    230.6,2,   231.1,2,    1.76,2,       0,2,    0.01,2,    0.03,2,   2.441,2,   1.501,2,   0.215,2,     1.33,2,  2003.8,2, 2288.61,2,   8.0156,2,       25,-999.000,9,-999.0000,9, -999.00,9, -999.00,9,  -999.0,9,  -999.0,-999.000,9,-999.000,     -999.0,1, -999.00,1, -999.00,9, -999.00,9,     -999.0,9,  -999.0,1, 20130419,     2011,  29.9998, 160.0355,    35.0433,2,     -999.0,1,     -999.0,1,    19.3643,2,     -999.0,9,     -999.0,1,-999.0000, -999.00,-999.000
318M20130321,       P02W,      46,          1,         35,         35,2,20130419,       1731,    29.9997,   160.0016,       5723,      26,   19.334,  34.8795,2,  34.8783,2,    231.5,2,   231.4,2,    1.76,2,       0,2,    0.01,2,    0.03,2,-999.000,9,-999.000,9,-999.000,9,-999.0000,9,  2003.7,6, 2288.81,2,   8.0152,2,       25,-999.000,9,-999.0000,9, -999.00,9, -999.00,9,  -999.0,9,  -999.0,-999.000,9,-999.000,     -999.0,1, -999.00,1, -999.00,9, -999.00,9,     -999.0,9,  -999.0,1, 20130419,     2009,  29.9994, 160.0342,    35.0427,2,     -999.0,1,     -999.0,1,    19.3334,2,     -999.0,9,     -999.0,1,-999.0000, -999.00,-999.000
318M20130321,       P02W,      46,          1,         34,         34,2,20130419,       1731,    29.9997,   160.0016,       5723,    47.7,  19.2028,  34.8739,2,  34.8728,2,    232.5,2,   231.3,2,    1.76,2,    0.03,2,    0.02,2,    0.03,2,   2.430,2,   1.458,2,   0.203,2,     1.42,2,  -999.0,9, -999.00,9,-999.0000,9,  -999.00,-999.000,9,-999.0000,9, -999.00,9, -999.00,9,  -999.0,9,  -999.0,-999.000,9,-999.000,     -999.0,1, -999.00,1, -999.00,9, -999.00,9,     -999.0,9,  -999.0,1, 20130419,     2007,  29.9991,  160.033,    35.0372,2,     -999.0,1,     -999.0,1,    19.2057,2,     -999.0,9,     -999.0,1,-999.0000, -999.00,-999.000
318M20130321,       P02W,      46,          1,         33,         33,2,20130419,       1731,    29.9997,   160.0016,       5723,    66.6,  18.1984,  34.7852,2,  34.7908,2,    226.1,2,   239.2,2,    2.05,2,    0.18,2,    0.04,2,    0.06,2,   2.527,2,   1.520,2,   0.210,2,      1.4,2,  2006.4,2, 2283.61,2,   8.0057,2,       25,-999.000,9,-999.0000,9, -999.00,9, -999.00,9,  -999.0,9,  -999.0,-999.000,9,-999.000,     -999.0,1, -999.00,1, -999.00,9, -999.00,9,     -999.0,9,  -999.0,1, 20130419,     2006,  29.9989, 160.0319,    34.9549,2,     -999.0,1,     -999.0,1,    18.2499,3,     -999.0,9,     -999.0,1,-999.0000, -999.00,-999.000
318M20130321,       P02W,      46,          1,         32,         32,2,20130419,       1731,    29.9997,   160.0016,       5723,    85.3,  17.4525,  34.7168,2,  34.7187,2,      224,2,   225.2,2,    2.73,2,    2.18,2,     0.1,2,    0.19,2,   2.566,2,   1.503,2,   0.165,2,     1.43,2,  -999.0,9, -999.00,9,-999.0000,9,  -999.00,-999.000,9,-999.0000,9, -999.00,9, -999.00,9,  -999.0,9,  -999.0,-999.000,9,-999.000,     -999.0,1, -999.00,1, -999.00,9, -999.00,9,     -999.0,9,  -999.0,1, 20130419,     2004,  29.9986,  160.031,    34.8824,2,     -999.0,1,     -999.0,1,    17.4492,2,     -999.0,9,     -999.0,1,-999.0000, -999.00,-999.000
318M20130321,       P02W,      46,          1,         31,         31,2,20130419,       1731,    29.9997,   160.0016,       5723,   131.3,  16.9436,   34.708,2,  34.7067,2,    234.2,2,   234.9,2,    2.73,2,    2.06,2,    0.34,2,    0.19,2,-999.000,9,-999.000,9,-999.000,9,-999.0000,9,  2017.4,2, 2283.41,2,   7.9778,2,       25,-999.000,9,-999.0000,9, -999.00,9, -999.00,9,  -999.0,9,  -999.0,-999.000,9,-999.000,     -999.0,1, -999.00,1, -999.00,9, -999.00,9,     -999.0,9,  -999.0,1, 20130419,     2002,  29.9982, 160.0298,    34.8704,2,     -999.0,1,     -999.0,1,    16.9439,2,     -999.0,9,     -999.0,1,-999.0000, -999.00,-999.000
318M20130321,       P02W,      46,          1,         30,         30,2,20130419,       1731,    29.9997,   160.0016,       5723,   187.1,  16.8597,  34.7085,2,  34.7075,2,    230.7,2,   234.4,2,    2.93,2,    2.37,2,     0.2,2,     0.2,2,   2.627,2,   1.551,2,   0.211,2,     1.49,2,  -999.0,9, -999.00,9,-999.0000,9,  -999.00,-999.000,9,-999.0000,9, -999.00,9, -999.00,9,  -999.0,9,  -999.0,-999.000,9,-999.000,     -999.0,1, -999.00,1, -999.00,9, -999.00,9,     -999.0,9,  -999.0,1, 20130419,     2000,  29.9979, 160.0287,    34.8712,2,     -999.0,1,     -999.0,1,    16.8595,2,     -999.0,9,     -999.0,1,-999.0000, -999.00,-999.000
318M20130321,       P02W,      46,          1,         29,         29,2,20130419,       1731,    29.9997,   160.0016,       5723,   239.6,  16.6797,  34.7014,2,  34.7002,2,    226.8,2,   227.6,2,    3.81,2,    3.54,2,    0.02,2,    0.25,2,-999.000,9,-999.000,9,-999.000,9,-999.0000,9,  2023.7,2, 2277.41,2,    7.965,2,       25,-999.000,9,-999.0000,9, -999.00,9, -999.00,9,  -999.0,9,  -999.0,-999.000,9,-999.000,     -999.0,1, -999.00,1, -999.00,9, -999.00,9,     -999.0,9,  -999.0,1, 20130419,     1958,  29.9976, 160.0282,    34.8639,2,     -999.0,1,     -999.0,1,    16.6802,2,     -999.0,9,     -999.0,1,-999.0000, -999.00,-999.000
318M20130321,       P02W,      46,          1,         28,         28,2,20130419,       1731,    29.9997,   160.0016,       5723,     290,  16.5189,  34.6858,2,  34.6845,2,      227,2,   226.8,2,     4.2,2,    3.86,2,    0.02,2,    0.27,2,   2.319,2,   1.541,2,   0.161,2,     1.31,2,  -999.0,9, -999.00,9,-999.0000,9,  -999.00,-999.000,9,-999.0000,9, -999.00,9, -999.00,9,  -999.0,9,  -999.0,-999.000,9,-999.000,     -999.0,1, -999.00,1, -999.00,9, -999.00,9,     -999.0,9,  -999.0,1, 20130419,     1955,  29.9974, 160.0276,    34.8481,2,     -999.0,1,     -999.0,1,    16.5188,2,     -999.0,9,     -999.0,1,-999.0000, -999.00,-999.000
318M20130321,       P02W,      46,          1,         27,         27,2,20130419,       1731,    29.9997,   160.0016,       5723,   335.2,  15.9065,  34.6259,2,  34.6258,2,    211.5,2,   212.4,2,    6.64,2,    6.18,2,    0.02,2,    0.45,2,   2.368,2,   1.626,2,   0.112,2,     1.39,2,  2042.6,2, 2275.61,2,    7.923,2,       25,-999.000,9,-999.0000,9, -999.00,9, -999.00,9,  -999.0,9,  -999.0,-999.000,9,-999.000,     -999.0,1, -999.00,1, -999.00,9, -999.00,9,     -999.0,9,  -999.0,1, 20130419,     1953,  29.9974, 160.0268,    34.7891,2,     -999.0,1,     -999.0,1,    15.9063,2,     -999.0,9,     -999.0,1,-999.0000, -999.00,-999.000
318M20130321,       P02W,      46,          1,         26,         26,2,20130419,       1731,    29.9997,   160.0016,       5723,   396.5,  14.2782,  34.5006,2,  34.5021,2,    195.7,2,   195.1,2,   11.32,2,   10.11,2,    0.01,2,    0.71,2,-999.000,9,-999.000,9,-999.000,9,-999.0000,9,  -999.0,9, -999.00,9,-999.0000,9,  -999.00,-999.000,9,-999.0000,9, -999.00,9, -999.00,9,  -999.0,9,  -999.0,-999.000,9,-999.000,     -999.0,1, -999.00,1, -999.00,9, -999.00,9,     -999.0,9,  -999.0,1, 20130419,     1950,  29.9972, 160.0259,    34.6648,2,     -999.0,1,     -999.0,1,    14.2889,2,     -999.0,9,     -999.0,1,-999.0000, -999.00,-999.000
318M20130321,       P02W,      46,          1,         25,         25,2,20130419,       1731,    29.9997,   160.0016,       5723,   471.8,  12.0289,  34.3574,2,  34.3576,2,    189.7,2,   189.1,2,   19.72,2,   14.46,2,    0.01,2,    1.03,2,   2.931,2,   1.550,2,   0.086,2,     1.13,2,  2103.4,2, 2273.61,2,   7.7852,2,       25,-999.000,9,-999.0000,9, -999.00,9, -999.00,9,  -999.0,9,  -999.0,-999.000,9,-999.000,     -999.0,1, -999.00,1, -999.00,9, -999.00,9,     -999.0,9,  -999.0,1, 20130419,     1947,  29.9972,  160.025,    34.5196,2,     -999.0,1,     -999.0,1,    12.0194,2,     -999.0,9,     -999.0,1,-999.0000, -999.00,-999.000
318M20130321,       P02W,      46,          1,         24,         24,2,20130419,       1731,    29.9997,   160.0016,       5723,   575.1,   8.5452,  34.1068,2,   34.106,2,    176.6,2,   177.9,2,   36.42,2,   21.41,2,    0.01,2,    1.55,2,   3.087,2,   1.578,2,   0.145,2,     0.96,2,  -999.0,9, -999.00,9,-999.0000,9,  -999.00,-999.000,9,-999.0000,9, -999.00,9, -999.00,9,  -999.0,9,  -999.0,-999.000,9,-999.000,     -999.0,1, -999.00,1, -999.00,9, -999.00,9,     -999.0,9,  -999.0,1, 20130419,     1944,  29.9973,  160.024,    34.2669,2,     -999.0,1,     -999.0,1,     8.5474,2,     -999.0,9,     -999.0,1,-999.0000, -999.00,-999.000
318M20130321,       P02W,      46,          1,         23,         23,2,20130419,       1731,    29.9997,   160.0016,       5723,   676.4,   5.9343,  34.0148,2,  34.0141,2,    130.5,2,   129.7,2,   63.28,2,   30.82,2,    0.01,2,    2.24,2,   2.530,2,   1.286,2,   0.117,2,     0.72,2,  2226.1,2, 2292.01,2,   7.5028,2,       25,-999.000,9,-999.0000,9, -999.00,9, -999.00,9,  -999.0,9,  -999.0,-999.000,9,-999.000,     -999.0,1, -999.00,1, -999.00,9, -999.00,9,     -999.0,9,  -999.0,1, 20130419,     1941,  29.9974, 160.0228,    34.1745,2,     -999.0,1,     -999.0,1,     5.9434,2,     -999.0,9,     -999.0,1,-999.0000, -999.00,-999.000
318M20130321,       P02W,      46,          1,         22,         22,2,20130419,       1731,    29.9997,   160.0016,       5723,   767.8,   4.9087,   34.079,2,  34.0784,2,     91.5,2,    88.8,2,   84.37,2,   36.22,2,       0,2,    2.62,2,   1.708,2,   0.820,2,   0.077,2,      0.3,2,  -999.0,9, -999.00,9,-999.0000,9,  -999.00,-999.000,9,-999.0000,9, -999.00,9, -999.00,9,  -999.0,9,  -999.0,-999.000,9,-999.000,     -999.0,1, -999.00,1, -999.00,9, -999.00,9,     -999.0,9,  -999.0,1, 20130419,     1938,  29.9976, 160.0218,    34.2391,2,     -999.0,1,     -999.0,1,     4.9103,2,     -999.0,9,     -999.0,1,-999.0000, -999.00,-999.000
318M20130321,       P02W,      46,          1,         21,         21,2,20130419,       1731,    29.9997,   160.0016,       5723,   880.6,   4.2493,  34.1981,2,  34.1968,2,     55.7,2,    56.6,2,  104.57,2,   39.94,2,       0,2,    2.88,2,   0.836,2,   0.408,2,   0.036,2,     0.17,2,  2313.5,2, 2333.23,6,   7.3644,2,       25,-999.000,9,-999.0000,9, -999.00,9, -999.00,9,  -999.0,9,  -999.0,-999.000,9,-999.000,     -999.0,1, -999.00,9, -999.00,9, -999.00,9,     -999.0,9,  -999.0,1, 20130419,     1934,   29.998, 160.0205,    34.3581,2,     -999.0,9,     -999.0,9,     4.2484,2,     -999.0,9,     -999.0,1,-999.0000, -999.00,-999.000
318M20130321,       P02W,      46,          1,         20,         20,2,20130419,       1731,    29.9997,   160.0016,       5723,   970.7,   3.8957,  34.2637,2,  34.2633,2,     42.3,2,    44.5,2,   115.5,2,   41.33,2,       0,2,    2.98,2,   0.492,2,   0.217,2,   0.018,2,     0.12,2,  -999.0,9, -999.00,9,-999.0000,9,  -999.00,-999.000,9,-999.0000,9, -999.00,9, -999.00,9,  -999.0,9,  -999.0,-999.000,9,-999.000,     -999.0,1, -999.00,9, -999.00,9, -999.00,9,     -999.0,9,  -999.0,1, 20130419,     1931,  29.9981, 160.0195,    34.4249,2,     -999.0,9,     -999.0,9,     3.8901,2,     -999.0,9,     -999.0,1,-999.0000, -999.00,-999.000
318M20130321,       P02W,      46,          1,         19,         19,2,20130419,       1731,    29.9997,   160.0016,       5723,  1075.2,   3.5297,  34.3347,2,  34.3342,2,     34.6,2,    36.4,2,  126.34,2,   42.36,2,       0,2,    3.04,2,   0.224,2,   0.083,2,   0.014,2,     0.09,2,  2348.6,2, 2359.94,2,   7.3338,6,       25,-999.000,9,-999.0000,9, -999.00,9, -999.00,9,  -999.0,9,  -999.0,-999.000,9,-999.000,     -999.0,1, -999.00,9, -999.00,9, -999.00,9,     -999.0,9,  -999.0,1, 20130419,     1927,  29.9983, 160.0185,    34.4961,2,     -999.0,9,     -999.0,9,     3.5308,2,     -999.0,9,     -999.0,1,-999.0000, -999.00,-999.000
318M20130321,       P02W,      46,          1,         18,         18,2,20130419,       1731,    29.9997,   160.0016,       5723,  1177.2,   3.2513,  34.3892,2,  34.3889,2,     34.5,2,    35.5,2,  133.65,2,   42.82,2,       0,2,    3.08,2,   0.119,2,   0.056,2,   0.008,2,     0.05,2,  2357.7,2, 2370.54,2,    7.335,6,       25,-999.000,9,-999.0000,9, -999.00,9, -999.00,9,  -999.0,9,  -999.0,-999.000,9,-999.000,     -999.0,1, -999.00,9, -999.00,9, -999.00,9,     -999.0,9,  -999.0,1, 20130419,     1924,  29.9985, 160.0174,    34.5511,2,     -999.0,9,     -999.0,9,     3.2509,2,     -999.0,9,     -999.0,1,-999.0000, -999.00,-999.000
318M20130321,       P02W,      46,          1,         17,         17,2,20130419,       1731,    29.9997,   160.0016,       5723,  1257.2,   3.1005,  34.4193,2,  34.4184,2,     36.4,2,    37.6,2,  137.46,2,   42.97,2,       0,2,    3.08,2,   0.090,2,   0.036,2,   0.008,2,     0.04,2,  2359.7,2, 2377.24,2,   7.3394,2,       25,-999.000,9,-999.0000,9, -999.00,9, -999.00,9,  -999.0,9,  -999.0,-999.000,9,-999.000,     -999.0,1, -999.00,9, -999.00,9, -999.00,9,     -999.0,9,  -999.0,1, 20130419,     1921,  29.9985, 160.0167,    34.5807,2,     -999.0,9,     -999.0,9,     3.1008,2,     -999.0,9,     -999.0,1,-999.0000, -999.00,-999.000
318M20130321,       P02W,      46,          1,         16,         16,2,20130419,       1731,    29.9997,   160.0016,       5723,    1367,   2.8267,  34.4554,2,  34.4549,2,     38.1,2,    36.7,2,  146.24,2,   43.13,2,       0,2,    3.08,2,   0.062,2,   0.030,2,   0.007,2,        0,2,  2368.2,2, 2386.35,2,   7.3441,2,       25,-999.000,9,-999.0000,9, -999.00,9, -999.00,9,  -999.0,9,  -999.0,-999.000,9,-999.000,     -999.0,1, -999.00,9, -999.00,9, -999.00,9,     -999.0,9,  -999.0,1, 20130419,     1917,  29.9989, 160.0156,    34.6174,2,     -999.0,9,     -999.0,9,      2.827,2,     -999.0,9,     -999.0,1,-999.0000, -999.00,-999.000
318M20130321,       P02W,      46,          1,         15,         15,2,20130419,       1731,    29.9997,   160.0016,       5723,    1540,   2.4973,  34.5145,2,  34.5142,2,     47.4,2,    46.9,2,  154.43,2,   42.67,2,       0,2,    3.04,2,-999.000,9,-999.000,9,-999.000,9,-999.0000,9,  2370.2,2, 2396.75,2,   7.3659,2,       25,-999.000,9,-999.0000,9, -999.00,9, -999.00,9,  -999.0,9,  -999.0,-999.000,9,-999.000,     -999.0,1, -999.00,9, -999.00,9, -999.00,9,     -999.0,9,  -999.0,1, 20130419,     1913,  29.9993, 160.0142,     34.677,2,     -999.0,9,     -999.0,9,     2.4973,2,     -999.0,9,     -999.0,1,-999.0000, -999.00,-999.000
318M20130321,       P02W,      46,          1,         14,         14,2,20130419,       1731,    29.9997,   160.0016,       5723,  1742.4,   2.1852,  34.5571,2,   34.557,2,     56.5,2,    55.7,2,  162.82,2,   42.22,2,       0,2,       3,2,   0.014,2,   0.007,2,   0.007,2,        0,2,  2375.6,2, 2405.25,2,   7.3852,2,       25,-999.000,9,-999.0000,9, -999.00,9, -999.00,9,  -999.0,9,  -999.0,-999.000,9,-999.000,     -999.0,1, -999.00,9, -999.00,9, -999.00,9,     -999.0,9,  -999.0,1, 20130419,     1908,  29.9997, 160.0128,      34.72,2,     -999.0,9,     -999.0,9,     2.1857,2,     -999.0,9,     -999.0,1,-999.0000, -999.00,-999.000
318M20130321,       P02W,      46,          1,         13,         13,2,20130419,       1731,    29.9997,   160.0016,       5723,  1947.8,   1.9981,  34.5888,2,  34.5887,2,     72.7,2,    71.8,2,  164.48,2,   41.23,2,       0,2,    2.92,2,-999.000,9,-999.000,9,-999.000,9,-999.0000,9,  2369.4,2, 2409.76,2,   7.4169,6,       25,-999.000,9,-999.0000,9, -999.00,9, -999.00,9,  -999.0,9,  -999.0,-999.000,9,-999.000,     -999.0,1, -999.00,9, -999.00,9, -999.00,9,     -999.0,9,  -999.0,1, 20130419,     1903,  30.0001, 160.0114,    34.7518,2,     -999.0,9,     -999.0,9,     1.9974,2,     -999.0,9,     -999.0,1,-999.0000, -999.00,-999.000
318M20130321,       P02W,      46,          1,         12,         12,2,20130419,       1731,    29.9997,   160.0016,       5723,  2188.5,   1.8137,  34.6179,2,  34.6184,2,       88,2,    88.6,2,  164.57,2,   40.08,2,       0,2,    2.83,2,-999.000,9,-999.000,9,-999.000,9,-999.0000,9,  -999.0,9, -999.00,9,-999.0000,9,  -999.00,-999.000,9,-999.0000,9, -999.00,9, -999.00,9,  -999.0,9,  -999.0,-999.000,9,-999.000,     -999.0,1, -999.00,9, -999.00,9, -999.00,9,     -999.0,9,  -999.0,1, 20130419,     1858,  30.0002, 160.0101,    34.7816,2,     -999.0,9,     -999.0,9,     1.8137,2,     -999.0,9,     -999.0,1,-999.0000, -999.00,-999.000
318M20130321,       P02W,      46,          1,         11,         11,2,20130419,       1731,    29.9997,   160.0016,       5723,  2432.5,   1.6935,  34.6379,2,  34.6382,2,    103.4,2,     106,2,  162.42,2,   39.09,2,       0,2,    2.75,2,   0.007,2,   0.007,2,   0.004,2,     0.02,2,  2350.1,2, 2415.86,2,   7.4834,2,       25,-999.000,9,-999.0000,9, -999.00,9, -999.00,9,  -999.0,9,  -999.0,-999.000,9,-999.000,     -999.0,1, -999.00,9, -999.00,9, -999.00,9,     -999.0,9,  -999.0,1, 20130419,     1853,  30.0003, 160.0093,    34.8016,2,     -999.0,9,     -999.0,9,     1.6929,2,     -999.0,9,     -999.0,1,-999.0000, -999.00,-999.000
318M20130321,       P02W,      46,          1,         10,         10,2,20130419,       1731,    29.9997,   160.0016,       5723,  2694.2,   1.6065,  34.6528,2,  34.6526,2,    117.4,2,   117.8,2,   159.3,2,    38.2,2,       0,2,    2.68,2,-999.000,9,-999.000,9,-999.000,9,-999.0000,9,  -999.0,9, -999.00,9,-999.0000,9,  -999.00,-999.000,9,-999.0000,9, -999.00,9, -999.00,9,  -999.0,9,  -999.0,-999.000,9,-999.000,     -999.0,1, -999.00,9, -999.00,9, -999.00,9,     -999.0,9,  -999.0,1, 20130419,     1847,  30.0004, 160.0078,     34.816,2,     -999.0,9,     -999.0,9,      1.606,2,     -999.0,9,     -999.0,1,-999.0000, -999.00,-999.000
318M20130321,       P02W,      46,          1,          9,          9,2,20130419,       1731,    29.9997,   160.0016,       5723,  2949.3,   1.5481,  34.6626,2,  34.6632,2,    127.9,2,   127.2,2,  157.44,2,   37.59,2,       0,2,    2.64,2,-999.000,9,-999.000,9,-999.000,9,-999.0000,9,  2337.9,2, 2416.46,2,   7.5258,2,       25,-999.000,9,-999.0000,9, -999.00,9, -999.00,9,  -999.0,9,  -999.0,-999.000,9,-999.000,     -999.0,1, -999.00,9, -999.00,9, -999.00,9,     -999.0,9,  -999.0,1, 20130419,     1841,  29.9998, 160.0069,    34.8267,2,     -999.0,9,     -999.0,9,     1.5481,2,     -999.0,9,     -999.0,1,-999.0000, -999.00,-999.000
318M20130321,       P02W,      46,          1,          8,          8,2,20130419,       1731,    29.9997,   160.0016,       5723,  3235.3,   1.5029,  34.6711,2,  34.6705,2,    135.9,2,   135.9,2,  155.88,2,   37.03,2,       0,2,    2.59,2,   0.006,2,   0.007,2,   0.003,2,     0.01,2,  -999.0,9, -999.00,9,-999.0000,9,  -999.00,-999.000,9,-999.0000,9, -999.00,9, -999.00,9,  -999.0,9,  -999.0,-999.000,9,-999.000,     -999.0,1, -999.00,9, -999.00,9, -999.00,9,     -999.0,9,  -999.0,1, 20130419,     1835,  29.9998, 160.0058,     34.834,2,     -999.0,9,     -999.0,9,      1.503,2,     -999.0,9,     -999.0,1,-999.0000, -999.00,-999.000