BOTTLE,20220817CCHSIOAMB
EXPOCODE,SECT_ID,STNNBR,CASTNO,SAMPNO,BTLNBR,BTLNBR_FLAG_W,DATE,TIME,LATITUDE,LONGITUDE,DEPTH,CTDPRS,CTDTMP,CTDSAL,CTDSAL_FLAG_W,SALNTY,SALNTY_FLAG_W,CTDOXY,CTDOXY_FLAG_W,OXYGEN,OXYGEN_FLAG_W,SILCAT,SILCAT_FLAG_W,NITRAT,NITRAT_FLAG_W,NITRIT,NITRIT_FLAG_W,PHSPHT,PHSPHT_FLAG_W,CFC-11,CFC-11_FLAG_W,CFC-12,CFC-12_FLAG_W,CFC113,CFC113_FLAG_W,SF6,SF6_FLAG_W,TCARBN,TCARBN_FLAG_W,ALKALI,ALKALI_FLAG_W,PH_TOT,PH_TOT_FLAG_W,PH_TMP,TRITUM,TRITUM_FLAG_W,HELIUM,HELIUM_FLAG_W,DELHE3,DELHE3_FLAG_W,DELC13,DELC13_FLAG_W,DELC14,DELC14_FLAG_W,C14ERR,NEON,NEON_FLAG_W,NEONER,I-129,I-129_FLAG_W,SR-90,SR-90_FLAG_W,DOC,DOC_FLAG_W,TDN,TDN_FLAG_W,CALCIUM,CALCIUM_FLAG_W,D15N_NO3,D15N_NO3_FLAG_W,BTL_DATE,BTL_TIME,BTL_LAT,BTL_LON,SALTREF,SALTREF_FLAG_W,CS-137,CS-137_FLAG_W,CS-134,CS-134_FLAG_W,REFTMP,REFTMP_FLAG_W,LAB_DEN,LAB_DEN_FLAG_W,D18O_NO3,D18O_NO3_FLAG_W,HELIER,DELHER,TRITER
,,,,,,,,,,,METERS,DBAR,ITS-90,PSS-78,,PSS-78,,UMOL/KG,,UMOL/KG,,UMOL/KG,,UMOL/KG,,UMOL/KG,,UMOL/KG,,PMOL/KG,,PMOL/KG,,PMOL/KG,,FMOL/KG,,UMOL/KG,,UMOL/KG,,,,DEG C,TU,,NMOL/KG,,PERCNT,,/MILLE,,/MILLE,,/MILLE,NMOL/KG,,NMOL/KG,BQ/M^3,,DM/.1MG,,UMOL/KG,,UMOL/KG,,MMOL/KG,,/MILLE,,,,,,G/KG,,BQ/M^3,,BQ/M^3,,ITS-90,,,,/MILLE,,NMOL/KG,PERCNT,TU
318M20130321,       P02E,     112,          1,          6,          6,2,20130520,       0207,    29.9998,  -145.6541,       5120,  3753.2,   1.4649,  34.6821,2,  34.6825,2,    140.1,2,   139.8,2,  164.76,2,   36.97,2,       0,2,    2.57,2,   0.004,2,   0.004,2,-999.000,1,        0,2,  -999.0,9, -999.00,9,-999.0000,9,  -999.00,-999.000,9,-999.0000,9, -999.00,9, -999.00,9,  -999.0,9,  -999.0,-999.000,9,-999.000,     -999.0,9, -999.00,9, -999.00,9, -999.00,9,     -999.0,9,  -999.0,9, 20130520,      236,  29.9998,-145.6543,    34.8461,2,     -999.0,9,     -999.0,9,     1.4646,2,     -999.0,9,     -999.0,9,-999.0000, -999.00,-999.000
318M20130321,       P02E,     112,          1,          5,         37,2,20130520,       0207,    29.9998,  -145.6541,       5120,  4096.6,   1.4728,  34.6854,2,  34.6867,2,    146.3,2,   145.8,2,  160.17,2,   36.54,2,       0,2,    2.53,2,   0.005,2,   0.005,2,-999.000,1,        0,2,  2332.6,2, 2425.16,2,   7.5665,6,       25,-999.000,9,-999.0000,9, -999.00,9, -999.00,9,  -999.0,9,  -999.0,-999.000,9,-999.000,     -999.0,9, -999.00,9, -999.00,9, -999.00,9,     -999.0,9,  -999.0,9, 20130520,      229,  30.0001,-145.6546,    34.8502,2,     -999.0,9,     -999.0,9,     1.4725,2,     -999.0,9,     -999.0,9,-999.0000, -999.00,-999.000
318M20130321,       P02E,     112,          1,          4,          4,2,20130520,       0207,    29.9998,  -145.6541,       5120,  4504.3,   1.4972,  34.6879,2,  34.6881,2,    150.5,2,     151,2,  155.97,2,   36.19,2,       0,2,     2.5,2,   0.006,2,   0.006,2,-999.000,1,        0,2,  -999.0,9, -999.00,9,-999.0000,9,  -999.00,-999.000,9,-999.0000,9, -999.00,9, -999.00,9,  -999.0,9,  -999.0,-999.000,9,-999.000,     -999.0,9, -999.00,9, -999.00,9, -999.00,9,     -999.0,9,  -999.0,9, 20130520,      221,  30.0002,-145.6547,    34.8516,2,     -999.0,9,     -999.0,9,     1.4971,2,     -999.0,9,     -999.0,9,-999.0000, -999.00,-999.000
318M20130321,       P02E,     112,          1,          3,          3,2,20130520,       0207,    29.9998,  -145.6541,       5120,    4918,   1.5344,  34.6889,2,  34.6898,2,      154,2,   154.3,2,  152.95,2,   35.96,2,       0,2,    2.49,2,   0.006,2,   0.007,2,-999.000,1,        0,2,    2328,6, 2420.66,2,   7.5759,2,       25,-999.000,9,-999.0000,9, -999.00,9, -999.00,9,  -999.0,9,  -999.0,-999.000,9,-999.000,     -999.0,9, -999.00,9, -999.00,9, -999.00,9,     -999.0,9,  -999.0,9, 20130520,      213,  29.9997,-145.6541,    34.8534,2,     -999.0,9,     -999.0,9,     1.5345,2,     -999.0,9,     -999.0,9,-999.0000, -999.00,-999.000
318M20130321,       P02E,     112,          1,          2,          2,2,20130520,       0207,    29.9998,  -145.6541,       5120,  5192.7,   1.5638,  34.6892,2,  34.6897,2,    156.5,2,   156.2,2,  151.58,2,   35.86,2,       0,2,    2.48,2,   0.006,2,   0.007,2,-999.000,1,        0,2,  2325.6,2, 2420.16,2,   7.5791,2,       25,-999.000,9,-999.0000,9, -999.00,9, -999.00,9,  -999.0,9,  -999.0,-999.000,9,-999.000,     -999.0,9, -999.00,9, -999.00,9, -999.00,9,     -999.0,9,  -999.0,9, 20130520,      207,  29.9998,-145.6541,    34.8532,2,     -999.0,9,     -999.0,9,     1.5636,2,     -999.0,9,     -999.0,9,-999.0000, -999.00,-999.000