BOTTLE,20220817CCHSIOAMB
EXPOCODE,SECT_ID,STNNBR,CASTNO,SAMPNO,BTLNBR,BTLNBR_FLAG_W,DATE,TIME,LATITUDE,LONGITUDE,DEPTH,CTDPRS,CTDTMP,CTDSAL,CTDSAL_FLAG_W,SALNTY,SALNTY_FLAG_W,CTDOXY,CTDOXY_FLAG_W,OXYGEN,OXYGEN_FLAG_W,SILCAT,SILCAT_FLAG_W,NITRAT,NITRAT_FLAG_W,NITRIT,NITRIT_FLAG_W,PHSPHT,PHSPHT_FLAG_W,CFC-11,CFC-11_FLAG_W,CFC-12,CFC-12_FLAG_W,CFC113,CFC113_FLAG_W,SF6,SF6_FLAG_W,TCARBN,TCARBN_FLAG_W,ALKALI,ALKALI_FLAG_W,PH_TOT,PH_TOT_FLAG_W,PH_TMP,TRITUM,TRITUM_FLAG_W,HELIUM,HELIUM_FLAG_W,DELHE3,DELHE3_FLAG_W,DELC13,DELC13_FLAG_W,DELC14,DELC14_FLAG_W,C14ERR,NEON,NEON_FLAG_W,NEONER,I-129,I-129_FLAG_W,SR-90,SR-90_FLAG_W,DOC,DOC_FLAG_W,TDN,TDN_FLAG_W,CALCIUM,CALCIUM_FLAG_W,D15N_NO3,D15N_NO3_FLAG_W,BTL_DATE,BTL_TIME,BTL_LAT,BTL_LON,SALTREF,SALTREF_FLAG_W,CS-137,CS-137_FLAG_W,CS-134,CS-134_FLAG_W,REFTMP,REFTMP_FLAG_W,LAB_DEN,LAB_DEN_FLAG_W,D18O_NO3,D18O_NO3_FLAG_W,HELIER,DELHER,TRITER
,,,,,,,,,,,METERS,DBAR,ITS-90,PSS-78,,PSS-78,,UMOL/KG,,UMOL/KG,,UMOL/KG,,UMOL/KG,,UMOL/KG,,UMOL/KG,,PMOL/KG,,PMOL/KG,,PMOL/KG,,FMOL/KG,,UMOL/KG,,UMOL/KG,,,,DEG C,TU,,NMOL/KG,,PERCNT,,/MILLE,,/MILLE,,/MILLE,NMOL/KG,,NMOL/KG,BQ/M^3,,DM/.1MG,,UMOL/KG,,UMOL/KG,,MMOL/KG,,/MILLE,,,,,,G/KG,,BQ/M^3,,BQ/M^3,,ITS-90,,,,/MILLE,,NMOL/KG,PERCNT,TU
318M20130321,       P02W,      46,          1,          7,          7,2,20130419,       1731,    29.9997,   160.0016,       5723,  3543.6,   1.4729,  34.6771,2,  34.6754,2,    142.6,2,   141.6,2,  155.29,2,   36.67,2,       0,2,    2.56,2,-999.000,9,-999.000,9,-999.000,9,-999.0000,9,  2328.4,2, 2416.16,2,   7.5502,2,       25,-999.000,9,-999.0000,9, -999.00,9, -999.00,9,  -999.0,9,  -999.0,-999.000,9,-999.000,     -999.0,1, -999.00,9, -999.00,9, -999.00,9,     -999.0,9,  -999.0,1, 20130419,     1828,  29.9999, 160.0044,    34.8389,2,     -999.0,9,     -999.0,9,     1.4728,2,     -999.0,9,     -999.0,1,-999.0000, -999.00,-999.000
318M20130321,       P02W,      46,          1,          6,          6,2,20130419,       1731,    29.9997,   160.0016,       5723,    3853,   1.4512,  34.6826,2,  34.6819,2,    149.7,2,   150.6,2,  152.75,2,   36.11,2,       0,2,    2.52,2,   0.008,2,   0.007,2,   0.005,2,     0.04,2,  -999.0,9, -999.00,9,-999.0000,9,  -999.00,-999.000,9,-999.0000,9, -999.00,9, -999.00,9,  -999.0,9,  -999.0,-999.000,9,-999.000,     -999.0,1, -999.00,9, -999.00,9, -999.00,9,     -999.0,9,  -999.0,1, 20130419,     1821,       30, 160.0031,    34.8455,2,     -999.0,9,     -999.0,9,      1.451,2,     -999.0,9,     -999.0,1,-999.0000, -999.00,-999.000
318M20130321,       P02W,      46,          1,          5,         37,2,20130419,       1731,    29.9997,   160.0016,       5723,  4235.1,   1.4504,  34.6869,2,  34.6867,2,    155.3,2,   155.7,2,  150.61,2,   35.71,2,       0,2,    2.48,2,-999.000,9,-999.000,9,-999.000,9,-999.0000,9,  2318.4,2, 2413.36,6,   7.5718,2,       25,-999.000,9,-999.0000,9, -999.00,9, -999.00,9,  -999.0,9,  -999.0,-999.000,9,-999.000,     -999.0,1, -999.00,9, -999.00,9, -999.00,9,     -999.0,9,  -999.0,1, 20130419,     1813,  30.0005, 160.0017,    34.8502,2,     -999.0,9,     -999.0,9,     1.4503,2,     -999.0,9,     -999.0,1,-999.0000, -999.00,-999.000
318M20130321,       P02W,      46,          1,          4,          4,2,20130419,       1731,    29.9997,   160.0016,       5723,  4646.6,   1.4663,  34.6904,2,  34.6898,2,    161.7,2,   161.4,2,  145.53,2,   35.28,2,       0,2,    2.44,2,-999.000,9,-999.000,9,-999.000,9,-999.0000,9,  -999.0,9, -999.00,9,-999.0000,9,  -999.00,-999.000,9,-999.0000,9, -999.00,9, -999.00,9,  -999.0,9,  -999.0,-999.000,9,-999.000,     -999.0,1, -999.00,9, -999.00,9, -999.00,9,     -999.0,9,  -999.0,1, 20130419,     1805,  30.0011, 160.0005,    34.8534,2,     -999.0,9,     -999.0,9,     1.4664,2,     -999.0,9,     -999.0,1,-999.0000, -999.00,-999.000
318M20130321,       P02W,      46,          1,          3,          3,2,20130419,       1731,    29.9997,   160.0016,       5723,    5045,   1.4835,   34.693,2,  34.6916,2,    166.5,2,   166.7,2,  141.43,2,   34.72,2,       0,2,    2.42,2,   0.007,2,   0.011,2,   0.006,2,        0,2,  2306.5,2, 2406.05,2,   7.5856,6,       25,-999.000,9,-999.0000,9, -999.00,9, -999.00,9,  -999.0,9,  -999.0,-999.000,9,-999.000,     -999.0,1, -999.00,9, -999.00,9, -999.00,9,     -999.0,9,  -999.0,1, 20130419,     1756,  30.0005, 159.9998,    34.8552,2,     -999.0,9,     -999.0,9,     1.4834,2,     -999.0,9,     -999.0,1,-999.0000, -999.00,-999.000
318M20130321,       P02W,      46,          1,          2,          2,2,20130419,       1731,    29.9997,   160.0016,       5723,  5413.1,   1.5091,  34.6948,2,  34.6942,2,    170.6,2,   170.4,2,  138.01,2,   34.64,2,       0,2,     2.4,2,   0.009,2,   0.012,2,   0.005,2,     0.04,2,  2302.5,6, 2405.55,2,   7.5916,2,       25,-999.000,9,-999.0000,9, -999.00,9, -999.00,9,  -999.0,9,  -999.0,-999.000,9,-999.000,     -999.0,1, -999.00,9, -999.00,9, -999.00,9,     -999.0,9,  -999.0,1, 20130419,     1746,  29.9995,  160.001,    34.8578,2,     -999.0,9,     -999.0,9,     1.5096,2,     -999.0,9,     -999.0,1,-999.0000, -999.00,-999.000
318M20130321,       P02W,      46,          1,          1,          1,2,20130419,       1731,    29.9997,   160.0016,       5723,  5823.7,   1.5442,  34.6958,2,   34.695,2,    172.5,2,   172.7,2,  137.14,2,   34.46,2,       0,2,    2.38,2,   0.003,2,   0.006,2,   0.005,2,     0.08,2,  2301.5,2, 2404.85,2,   7.5934,2,       25,-999.000,9,-999.0000,9, -999.00,9, -999.00,9,  -999.0,9,  -999.0,-999.000,9,-999.000,     -999.0,1, -999.00,9, -999.00,9, -999.00,9,     -999.0,9,  -999.0,1, 20130419,     1732,  29.9996, 160.0016,    34.8586,2,     -999.0,9,     -999.0,9,     1.5441,2,     -999.0,9,     -999.0,1,-999.0000, -999.00,-999.000