BOTTLE,20220817CCHSIOAMB
EXPOCODE,SECT_ID,STNNBR,CASTNO,SAMPNO,BTLNBR,BTLNBR_FLAG_W,DATE,TIME,LATITUDE,LONGITUDE,DEPTH,CTDPRS,CTDTMP,CTDSAL,CTDSAL_FLAG_W,SALNTY,SALNTY_FLAG_W,CTDOXY,CTDOXY_FLAG_W,OXYGEN,OXYGEN_FLAG_W,SILCAT,SILCAT_FLAG_W,NITRAT,NITRAT_FLAG_W,NITRIT,NITRIT_FLAG_W,PHSPHT,PHSPHT_FLAG_W,CFC-11,CFC-11_FLAG_W,CFC-12,CFC-12_FLAG_W,CFC113,CFC113_FLAG_W,SF6,SF6_FLAG_W,TCARBN,TCARBN_FLAG_W,ALKALI,ALKALI_FLAG_W,PH_TOT,PH_TOT_FLAG_W,PH_TMP,TRITUM,TRITUM_FLAG_W,HELIUM,HELIUM_FLAG_W,DELHE3,DELHE3_FLAG_W,DELC13,DELC13_FLAG_W,DELC14,DELC14_FLAG_W,C14ERR,NEON,NEON_FLAG_W,NEONER,I-129,I-129_FLAG_W,SR-90,SR-90_FLAG_W,DOC,DOC_FLAG_W,TDN,TDN_FLAG_W,CALCIUM,CALCIUM_FLAG_W,D15N_NO3,D15N_NO3_FLAG_W,BTL_DATE,BTL_TIME,BTL_LAT,BTL_LON,SALTREF,SALTREF_FLAG_W,CS-137,CS-137_FLAG_W,CS-134,CS-134_FLAG_W,REFTMP,REFTMP_FLAG_W,LAB_DEN,LAB_DEN_FLAG_W,D18O_NO3,D18O_NO3_FLAG_W,HELIER,DELHER,TRITER
,,,,,,,,,,,METERS,DBAR,ITS-90,PSS-78,,PSS-78,,UMOL/KG,,UMOL/KG,,UMOL/KG,,UMOL/KG,,UMOL/KG,,UMOL/KG,,PMOL/KG,,PMOL/KG,,PMOL/KG,,FMOL/KG,,UMOL/KG,,UMOL/KG,,,,DEG C,TU,,NMOL/KG,,PERCNT,,/MILLE,,/MILLE,,/MILLE,NMOL/KG,,NMOL/KG,BQ/M^3,,DM/.1MG,,UMOL/KG,,UMOL/KG,,MMOL/KG,,/MILLE,,,,,,G/KG,,BQ/M^3,,BQ/M^3,,ITS-90,,,,/MILLE,,NMOL/KG,PERCNT,TU
318M20130321,       P02W,      36,          1,         36,         36,2,20130415,       1152,    29.9998,   148.9466,       6177,     3.1,  18.5771,  34.7782,2,  34.7775,2,    235.4,2,   235.5,2,    1.76,2,       0,2,       0,2,    0.04,2,   2.496,2,   1.554,2,   0.226,2,     1.47,2,  2004.6,6, 2282.81,2,   8.0107,2,       25,   0.493,2,   1.7356,2,   -1.04,2, -999.00,9,  -999.0,9,  -999.0,   7.171,2,   0.033,     -999.0,9, -999.00,9, -999.00,9, -999.00,9,     -999.0,9,  -999.0,9, 20130415,     1410,  29.9985,  148.947,    34.9415,2,     -999.0,9,     -999.0,9,    18.5767,2,     -999.0,9,     -999.0,9,   0.0073,    0.15,   0.010
318M20130321,       P02W,      36,          1,         35,         35,2,20130415,       1152,    29.9998,   148.9466,       6177,    35.2,  18.5707,  34.7771,2,  34.7761,2,    235.3,2,   235.8,2,    1.76,2,       0,2,       0,2,    0.03,2,   2.482,2,   1.541,2,   0.204,2,     1.46,2,  2005.2,2, 2282.91,2,   8.0116,6,       25,   0.504,2,   1.7204,2,   -1.31,2, -999.00,9,  -999.0,9,  -999.0,   7.034,2,   0.032,     -999.0,9, -999.00,9, -999.00,9, -999.00,9,     -999.0,9,  -999.0,9, 20130415,     1408,  29.9986, 148.9469,    34.9401,2,     -999.0,9,     -999.0,9,    18.5701,2,     -999.0,9,     -999.0,9,   0.0072,    0.15,   0.009
318M20130321,       P02W,      36,          1,         34,         34,2,20130415,       1152,    29.9998,   148.9466,       6177,    60.8,  18.1977,  34.7675,2,  34.7661,2,    236.3,2,   230.3,2,    2.15,2,     0.6,2,    0.28,2,    0.09,2,-999.000,9,-999.000,9,-999.000,9,-999.0000,9,  2011.2,2, 2280.61,6,   7.9964,2,       25,-999.000,9,-999.0000,9, -999.00,9, -999.00,9,  -999.0,9,  -999.0,-999.000,9,-999.000,     -999.0,9, -999.00,9, -999.00,9, -999.00,9,     -999.0,9,  -999.0,9, 20130415,     1406,  29.9989, 148.9467,      34.93,2,     -999.0,9,     -999.0,9,     18.201,2,     -999.0,9,     -999.0,9,-999.0000, -999.00,-999.000
318M20130321,       P02W,      36,          1,         33,         33,2,20130415,       1152,    29.9998,   148.9466,       6177,    85.4,  17.5072,   34.737,2,  34.7354,2,    229.9,2,     227,2,    2.73,2,    2.13,2,    0.12,2,    0.18,2,-999.000,9,-999.000,9,-999.000,9,-999.0000,9,  2020.7,2, 2281.51,2,   7.9812,2,       25,-999.000,9,-999.0000,9, -999.00,9, -999.00,9,  -999.0,9,  -999.0,-999.000,9,-999.000,     -999.0,9, -999.00,9, -999.00,9, -999.00,9,     -999.0,9,  -999.0,9, 20130415,     1404,  29.9991, 148.9466,    34.8992,2,     -999.0,9,     -999.0,9,     17.504,2,     -999.0,9,     -999.0,9,-999.0000, -999.00,-999.000
318M20130321,       P02W,      36,          1,         32,         32,2,20130415,       1152,    29.9998,   148.9466,       6177,   116.2,  17.2514,  34.7155,2,   34.715,2,    224.3,2,   221.8,2,    3.22,2,    3.06,2,    0.04,2,    0.22,2,   2.598,2,   1.591,2,   0.149,2,     1.45,2,  2025.4,2, 2277.71,2,   7.9682,2,       25,   0.486,2,   1.7472,2,   -1.07,2, -999.00,9,  -999.0,9,  -999.0,   7.110,2,   0.033,     -999.0,9, -999.00,9, -999.00,9, -999.00,9,     -999.0,9,  -999.0,9, 20130415,     1402,  29.9992, 148.9465,    34.8787,2,     -999.0,9,     -999.0,9,    17.2511,2,     -999.0,9,     -999.0,9,   0.0073,    0.15,   0.009
318M20130321,       P02W,      36,          1,         31,         31,2,20130415,       1152,    29.9998,   148.9466,       6177,   165.7,  16.9997,  34.6962,2,  34.6953,2,    225.7,2,   219.9,2,    3.71,2,    3.68,2,    0.03,2,    0.26,2,-999.000,9,-999.000,9,-999.000,9,-999.0000,9,  2027.7,2, 2276.51,2,   7.9603,3,       25,-999.000,9,-999.0000,9, -999.00,9, -999.00,9,  -999.0,9,  -999.0,-999.000,9,-999.000,     -999.0,9, -999.00,9, -999.00,9, -999.00,9,     -999.0,9,  -999.0,9, 20130415,     1400,  29.9991, 148.9466,    34.8589,2,     -999.0,9,     -999.0,9,         17,2,     -999.0,9,     -999.0,9,-999.0000, -999.00,-999.000
318M20130321,       P02W,      36,          1,         30,         30,2,20130415,       1152,    29.9998,   148.9466,       6177,   218.9,  16.8383,   34.701,2,  34.6998,2,    222.3,2,   228.3,2,    3.51,2,    3.27,2,    0.02,2,    0.23,2,   2.640,2,   1.610,2,   0.160,2,     1.49,2,  2024.9,2, 2277.91,2,   7.9694,2,       25,   0.498,2,   1.7482,2,   -0.95,2, -999.00,9,  -999.0,9,  -999.0,   7.209,2,   0.033,     -999.0,9, -999.00,9, -999.00,9, -999.00,9,     -999.0,9,  -999.0,9, 20130415,     1359,  29.9991, 148.9469,    34.8635,2,     -999.0,9,     -999.0,9,    16.8381,2,     -999.0,9,     -999.0,9,   0.0073,    0.15,   0.011
318M20130321,       P02W,      36,          1,         29,         29,2,20130415,       1152,    29.9998,   148.9466,       6177,   265.4,  16.6558,  34.6855,2,  34.6851,2,    221.7,2,   226.4,2,     4.1,2,    3.63,2,    0.01,2,    0.26,2,-999.000,9,-999.000,9,-999.000,9,-999.0000,9,  2025.4,2, 2276.51,2,    7.966,2,       25,-999.000,9,-999.0000,9, -999.00,9, -999.00,9,  -999.0,9,  -999.0,-999.000,9,-999.000,     -999.0,9, -999.00,9, -999.00,9, -999.00,9,     -999.0,9,  -999.0,9, 20130415,     1356,  29.9992, 148.9469,    34.8487,2,     -999.0,9,     -999.0,9,    16.6569,2,     -999.0,9,     -999.0,9,-999.0000, -999.00,-999.000
318M20130321,       P02W,      36,          1,         28,         28,2,20130415,       1152,    29.9998,   148.9466,       6177,   316.1,  16.2659,  34.6436,2,  34.6432,2,    220.1,2,   206.7,2,    5.86,2,     6.1,2,    0.02,2,    0.42,2,   2.701,2,   1.617,2,   0.074,2,     1.42,2,  2045.4,2, 2276.41,2,   7.9247,2,       25,   0.498,2,   1.7675,2,   -0.07,2, -999.00,9,  -999.0,9,  -999.0,   7.286,2,   0.034,     -999.0,9, -999.00,9, -999.00,9, -999.00,9,     -999.0,9,  -999.0,9, 20130415,     1354,  29.9994, 148.9467,    34.8066,2,     -999.0,9,     -999.0,9,    16.2645,2,     -999.0,9,     -999.0,9,   0.0074,    0.15,   0.010
318M20130321,       P02W,      36,          1,         27,         27,2,20130415,       1152,    29.9998,   148.9466,       6177,   365.8,  15.4739,  34.5845,2,  34.5833,2,    206.6,2,   199.6,2,     8.3,2,       8,2,    0.02,2,    0.56,2,-999.000,9,-999.000,9,-999.000,9,-999.0000,9,  2058.4,2, 2273.61,2,   7.8933,6,       25,-999.000,9,-999.0000,9, -999.00,9, -999.00,9,  -999.0,9,  -999.0,-999.000,9,-999.000,     -999.0,9, -999.00,9, -999.00,9, -999.00,9,     -999.0,9,  -999.0,9, 20130415,     1353,  29.9995, 148.9466,    34.7464,2,     -999.0,9,     -999.0,9,     15.473,2,     -999.0,9,     -999.0,9,-999.0000, -999.00,-999.000
318M20130321,       P02W,      36,          1,         26,         26,2,20130415,       1152,    29.9998,   148.9466,       6177,   437.1,  13.8573,  34.4777,2,  34.4777,2,    191.2,2,   190.4,2,   13.76,2,   11.48,2,    0.01,2,     0.8,2,   2.921,2,   1.674,2,   0.061,2,     1.19,2,  2086.2,2, 2273.61,2,   7.8374,2,       25,   0.486,2,   1.7726,2,    2.23,2, -999.00,9,  -999.0,9,  -999.0,   7.408,2,   0.034,     -999.0,9, -999.00,9, -999.00,9, -999.00,9,     -999.0,9,  -999.0,9, 20130415,     1350,  29.9995, 148.9466,    34.6402,2,     -999.0,9,     -999.0,9,     13.874,2,     -999.0,9,     -999.0,9,   0.0074,    0.15,   0.009
318M20130321,       P02W,      36,          1,         25,         25,2,20130415,       1152,    29.9998,   148.9466,       6177,   536.5,  11.3731,   34.305,2,  34.3032,2,    184.3,2,   187.1,2,   21.97,2,   15.96,2,    0.01,2,    1.12,2,   3.176,2,   1.734,2,   0.091,2,     1.06,2,  2117.8,2, 2271.31,2,   7.7616,2,       25,   0.508,2,   1.7902,2,    4.05,2, -999.00,9,  -999.0,9,  -999.0,   7.461,2,   0.034,     -999.0,9, -999.00,9, -999.00,9, -999.00,9,     -999.0,9,  -999.0,9, 20130415,     1348,  29.9995, 148.9467,    34.4649,2,     -999.0,9,     -999.0,9,    11.3715,2,     -999.0,9,     -999.0,9,   0.0075,    0.15,   0.010
318M20130321,       P02W,      36,          1,         24,         24,2,20130415,       1152,    29.9998,   148.9466,       6177,   638.8,   8.0921,   34.079,2,  34.0793,2,    173.1,2,   172.4,2,   40.04,2,   22.95,2,    0.01,2,    1.64,2,   3.165,2,   1.671,2,   0.137,2,     1.02,2,  2169.3,2, 2278.01,2,   7.6435,2,       25,   0.470,2,   1.8293,2,    7.14,2, -999.00,9,  -999.0,9,  -999.0,   7.723,2,   0.036,     -999.0,9, -999.00,9, -999.00,9, -999.00,9,     -999.0,9,  -999.0,9, 20130415,     1345,  29.9997, 148.9466,      34.24,2,     -999.0,9,     -999.0,9,     8.0922,2,     -999.0,9,     -999.0,9,   0.0077,    0.15,   0.010
318M20130321,       P02W,      36,          1,         23,         23,2,20130415,       1152,    29.9998,   148.9466,       6177,   740.7,    5.817,  34.0214,2,  34.0217,2,    124.3,2,   126.4,2,   66.11,2,   31.46,2,    0.01,2,    2.27,2,   2.436,2,   1.302,2,   0.109,2,      0.7,2,  2235.4,2, 2294.31,2,   7.4981,2,       25,   0.360,2,   1.8469,2,   11.40,2, -999.00,9,  -999.0,9,  -999.0,   7.957,2,   0.037,     -999.0,9, -999.00,9, -999.00,9, -999.00,9,     -999.0,9,  -999.0,9, 20130415,     1342,  29.9997, 148.9465,    34.1821,2,     -999.0,9,     -999.0,9,     5.8201,2,     -999.0,9,     -999.0,9,   0.0078,    0.15,   0.010
318M20130321,       P02W,      36,          1,         22,         38,2,20130415,       1152,    29.9998,   148.9466,       6177,   842.4,   4.7453,  34.1078,2,  34.1085,2,     80.4,2,    81.9,2,   90.03,2,   37.23,2,    0.01,2,    2.67,2,-999.000,9,-999.000,9,-999.000,9,-999.0000,9,  2290.7,2, 2333.93,2,   7.4007,2,       25,-999.000,9,-999.0000,9, -999.00,9, -999.00,9,  -999.0,9,  -999.0,-999.000,9,-999.000,     -999.0,9, -999.00,9, -999.00,9, -999.00,9,     -999.0,9,  -999.0,9, 20130415,     1340,  29.9997, 148.9464,    34.2693,2,     -999.0,9,     -999.0,9,     4.7453,2,     -999.0,9,     -999.0,9,-999.0000, -999.00,-999.000
318M20130321,       P02W,      36,          1,         21,         21,2,20130415,       1152,    29.9998,   148.9466,       6177,   941.9,   4.1828,  34.2059,2,  34.2061,2,     56.5,2,    56.9,2,  107.11,2,   40.03,2,    0.01,2,    2.84,2,   0.893,2,   0.508,2,   0.029,2,     0.29,2,  2321.5,2, 2334.33,2,     7.36,2,       25,   0.167,2,   1.8759,2,   15.93,2, -999.00,9,  -999.0,9,  -999.0,   8.134,2,   0.037,     -999.0,9, -999.00,9, -999.00,9, -999.00,9,     -999.0,9,  -999.0,9, 20130415,     1337,  29.9996, 148.9467,    34.3674,2,     -999.0,9,     -999.0,9,     4.1827,2,     -999.0,9,     -999.0,9,   0.0079,    0.15,   0.009
318M20130321,       P02W,      36,          1,         20,         20,2,20130415,       1152,    29.9998,   148.9466,       6177,  1036.2,   3.7471,  34.2832,2,   34.283,2,     45.1,2,    44.8,2,   119.7,2,   41.63,2,       0,2,    2.95,2,   0.487,2,   0.276,2,   0.016,2,      0.1,2,  2340.3,2, 2350.43,2,   7.3436,2,       25,   0.107,2,   1.8735,2,   16.70,2, -999.00,9,  -999.0,9,  -999.0,   8.123,2,   0.037,     -999.0,9, -999.00,9, -999.00,9, -999.00,9,     -999.0,9,  -999.0,9, 20130415,     1334,  29.9996, 148.9466,    34.4446,2,     -999.0,9,     -999.0,9,     3.7472,2,     -999.0,9,     -999.0,9,   0.0079,    0.15,   0.009
318M20130321,       P02W,      36,          1,         19,         19,2,20130415,       1152,    29.9998,   148.9466,       6177,  1141.7,   3.4098,  34.3447,2,  34.3438,2,     40.7,2,      40,2,  129.85,2,   42.31,2,       0,2,       3,2,   0.308,2,   0.175,2,   0.009,2,     0.05,2,  2355.3,2, 2362.04,2,   7.3399,6,       25,-999.000,9,   1.8791,2,   16.87,2, -999.00,9,  -999.0,9,  -999.0,   8.129,2,   0.037,     -999.0,9, -999.00,9, -999.00,9, -999.00,9,     -999.0,9,  -999.0,9, 20130415,     1332,  29.9999, 148.9462,    34.5057,2,     -999.0,9,     -999.0,9,     3.4096,2,     -999.0,9,     -999.0,9,   0.0079,    0.15,-999.000
318M20130321,       P02W,      36,          1,         18,         18,2,20130415,       1152,    29.9998,   148.9466,       6177,  1244.4,   3.1404,  34.3906,2,  34.3909,2,     37.3,2,    37.9,2,  137.75,2,   42.82,2,       0,2,    3.04,2,-999.000,9,-999.000,9,-999.000,9,-999.0000,9,  2366.6,2, 2371.94,2,   7.3392,2,       25,-999.000,9,-999.0000,9, -999.00,9, -999.00,9,  -999.0,9,  -999.0,-999.000,9,-999.000,     -999.0,9, -999.00,9, -999.00,9, -999.00,9,     -999.0,9,  -999.0,9, 20130415,     1329,       30, 148.9461,     34.553,2,     -999.0,9,     -999.0,9,     3.1402,2,     -999.0,9,     -999.0,9,-999.0000, -999.00,-999.000
318M20130321,       P02W,      36,          1,         17,         17,2,20130415,       1152,    29.9998,   148.9466,       6177,  1344.8,   2.9344,  34.4256,2,   34.426,2,     36.5,2,    37.2,2,   143.8,2,    43.1,2,       0,2,    3.05,2,   0.111,2,   0.069,2,   0.009,2,        0,2,  2370.7,6, 2379.75,2,   7.3395,2,       25,   0.025,2,   1.9248,2,   17.50,2, -999.00,9,  -999.0,9,  -999.0,   8.256,2,   0.038,     -999.0,9, -999.00,9, -999.00,9, -999.00,9,     -999.0,9,  -999.0,9, 20130415,     1326,  29.9998, 148.9463,    34.5883,2,     -999.0,9,     -999.0,9,     2.9341,2,     -999.0,9,     -999.0,9,   0.0081,    0.15,   0.006
318M20130321,       P02W,      36,          1,         16,         16,2,20130415,       1152,    29.9998,   148.9466,       6177,  1478.8,   2.7208,  34.4695,2,  34.4692,2,     40.5,2,    39.8,2,  149.46,2,    43.2,2,       0,2,    3.05,2,   0.047,2,   0.045,2,   0.001,2,        0,2,  2375.4,2, 2388.15,2,   7.3492,2,       25,   0.010,2,   1.8974,2,   18.35,2, -999.00,9,  -999.0,9,  -999.0,   8.210,2,   0.038,     -999.0,9, -999.00,9, -999.00,9, -999.00,9,     -999.0,9,  -999.0,9, 20130415,     1323,       30, 148.9463,    34.6317,2,     -999.0,9,     -999.0,9,     2.7203,2,     -999.0,9,     -999.0,9,   0.0080,    0.15,   0.006
318M20130321,       P02W,      36,          1,         15,         15,4,20130415,       1152,    29.9998,   148.9466,       6177,  1677.3,    2.364,  34.5295,2,  34.4666,4,     50.2,2,    39.4,4,  148.77,4,   43.19,4,       0,4,    3.05,4,   0.045,4,   0.039,4,   0.001,4,     0.06,4,  2374.9,4, 2387.65,4,    7.374,2,       25,   0.011,6,   1.9049,2,   18.18,2, -999.00,9,  -999.0,9,  -999.0,   8.165,2,   0.038,     -999.0,9, -999.00,9, -999.00,9, -999.00,9,     -999.0,9,  -999.0,9, 20130415,     1319,  30.0002, 148.9464,    34.6291,4,     -999.0,9,     -999.0,9,     2.3639,2,     -999.0,9,     -999.0,9,   0.0080,    0.15,   0.004
318M20130321,       P02W,      36,          1,         14,         14,2,20130415,       1152,    29.9998,   148.9466,       6177,  1881.1,   2.1268,  34.5712,2,  34.5711,2,     63.3,2,    65.6,2,  160.77,2,   41.89,2,       0,2,    2.93,2,-999.000,9,-999.000,9,-999.000,9,-999.0000,9,  2374.6,2, 2406.25,2,    7.405,2,       25,-999.000,9,-999.0000,9, -999.00,9, -999.00,9,  -999.0,9,  -999.0,-999.000,9,-999.000,     -999.0,9, -999.00,9, -999.00,9, -999.00,9,     -999.0,9,  -999.0,9, 20130415,     1315,       30, 148.9464,    34.7341,2,     -999.0,9,     -999.0,9,     2.1267,2,     -999.0,9,     -999.0,9,-999.0000, -999.00,-999.000
318M20130321,       P02W,      36,          1,         13,         13,4,20130415,       1152,    29.9998,   148.9466,       6177,  2107.8,   1.9162,  34.6072,2,  34.5713,4,     84.9,2,    65.1,4,  161.26,4,   41.88,4,       0,4,    2.94,4,   0.001,4,   0.014,4,   0.001,4,        0,4,  2375.6,4, 2406.05,4,-999.0000,5,  -999.00,   0.003,2,-999.0000,9, -999.00,9, -999.00,9,  -999.0,9,  -999.0,-999.000,9,-999.000,     -999.0,9, -999.00,9, -999.00,9, -999.00,9,     -999.0,9,  -999.0,9, 20130415,     1310,       30, 148.9458,    34.7343,4,     -999.0,9,     -999.0,9,     1.9155,2,     -999.0,9,     -999.0,9,-999.0000, -999.00,   0.006
318M20130321,       P02W,      36,          1,         12,         12,2,20130415,       1152,    29.9998,   148.9466,       6177,  2357.4,   1.7917,  34.6296,2,    34.63,2,    105.1,2,   105.9,2,  156.57,2,   39.25,2,       0,2,    2.71,2,-999.000,9,-999.000,9,-999.000,9,-999.0000,9,    2352,2, 2412.46,2,   7.4857,2,       25,-999.000,9,-999.0000,9, -999.00,9, -999.00,9,  -999.0,9,  -999.0,-999.000,9,-999.000,     -999.0,9, -999.00,9, -999.00,9, -999.00,9,     -999.0,9,  -999.0,9, 20130415,     1305,  29.9995, 148.9461,    34.7933,2,     -999.0,9,     -999.0,9,     1.7915,2,     -999.0,9,     -999.0,9,-999.0000, -999.00,-999.000
318M20130321,       P02W,      36,          1,         11,         11,2,20130415,       1152,    29.9998,   148.9466,       6177,  2624.2,   1.6879,  34.6462,2,  34.6459,2,    118.6,2,   118.1,2,     155,2,   38.46,2,       0,2,    2.66,2,   0.001,2,   0.014,2,   0.000,2,     0.06,2,  2346.8,6, 2413.66,2,   7.5095,2,       25,  -0.009,2,   1.9302,2,   19.07,2, -999.00,9,  -999.0,9,  -999.0,   8.301,2,   0.038,     -999.0,9, -999.00,9, -999.00,9, -999.00,9,     -999.0,9,  -999.0,9, 20130415,     1259,  29.9996, 148.9462,    34.8093,2,     -999.0,9,     -999.0,9,     1.6877,2,     -999.0,9,     -999.0,9,   0.0081,    0.15,   0.006
318M20130321,       P02W,      36,          1,         10,         10,2,20130415,       1152,    29.9998,   148.9466,       6177,  2868.7,   1.6213,  34.6567,2,  34.6565,2,    126.3,2,   126.3,2,  153.93,2,   37.94,2,       0,2,    2.63,2,-999.000,9,-999.000,9,-999.000,9,-999.0000,9,  2340.2,2, 2414.66,2,   7.5247,2,       25,-999.000,9,-999.0000,9, -999.00,9, -999.00,9,  -999.0,9,  -999.0,-999.000,9,-999.000,     -999.0,9, -999.00,9, -999.00,9, -999.00,9,     -999.0,9,  -999.0,9, 20130415,     1254,  29.9991, 148.9462,    34.8199,2,     -999.0,9,     -999.0,9,     1.6215,2,     -999.0,9,     -999.0,9,-999.0000, -999.00,-999.000
318M20130321,       P02W,      36,          1,          9,          9,2,20130415,       1152,    29.9998,   148.9466,       6177,    3142,   1.5703,  34.6648,2,  34.6646,2,    131.1,2,     131,2,  154.42,2,   37.68,2,       0,2,    2.59,2,   0.001,2,   0.013,2,   0.000,2,        0,2,  2337.5,2, 2414.76,2,   7.5339,2,       25,  -0.003,2,   1.9144,2,   18.01,2, -999.00,9,  -999.0,9,  -999.0,   8.355,2,   0.038,     -999.0,9, -999.00,9, -999.00,9, -999.00,9,     -999.0,9,  -999.0,9, 20130415,     1249,  29.9993, 148.9454,     34.828,2,     -999.0,9,     -999.0,9,     1.5703,2,     -999.0,9,     -999.0,9,   0.0080,    0.15,   0.006
318M20130321,       P02W,      36,          1,          8,          8,2,20130415,       1152,    29.9998,   148.9466,       6177,  3438.8,   1.5298,   34.672,2,  34.6712,2,    138.1,2,   138.2,2,  152.95,2,   37.22,2,       0,2,    2.57,2,   0.001,2,   0.013,2,   0.005,2,        0,2,    2334,2, 2415.36,2,   7.5453,2,       25,  -0.008,2,   1.9278,2,   17.67,2, -999.00,9,  -999.0,9,  -999.0,   8.249,2,   0.038,     -999.0,9, -999.00,9, -999.00,9, -999.00,9,     -999.0,9,  -999.0,9, 20130415,     1242,  29.9986, 148.9466,    34.8347,2,     -999.0,9,     -999.0,9,     1.5297,2,     -999.0,9,     -999.0,9,   0.0081,    0.15,   0.006