BOTTLE,20220817CCHSIOAMB
EXPOCODE,SECT_ID,STNNBR,CASTNO,SAMPNO,BTLNBR,BTLNBR_FLAG_W,DATE,TIME,LATITUDE,LONGITUDE,DEPTH,CTDPRS,CTDTMP,CTDSAL,CTDSAL_FLAG_W,SALNTY,SALNTY_FLAG_W,CTDOXY,CTDOXY_FLAG_W,OXYGEN,OXYGEN_FLAG_W,SILCAT,SILCAT_FLAG_W,NITRAT,NITRAT_FLAG_W,NITRIT,NITRIT_FLAG_W,PHSPHT,PHSPHT_FLAG_W,CFC-11,CFC-11_FLAG_W,CFC-12,CFC-12_FLAG_W,CFC113,CFC113_FLAG_W,SF6,SF6_FLAG_W,TCARBN,TCARBN_FLAG_W,ALKALI,ALKALI_FLAG_W,PH_TOT,PH_TOT_FLAG_W,PH_TMP,TRITUM,TRITUM_FLAG_W,HELIUM,HELIUM_FLAG_W,DELHE3,DELHE3_FLAG_W,DELC13,DELC13_FLAG_W,DELC14,DELC14_FLAG_W,C14ERR,NEON,NEON_FLAG_W,NEONER,I-129,I-129_FLAG_W,SR-90,SR-90_FLAG_W,DOC,DOC_FLAG_W,TDN,TDN_FLAG_W,CALCIUM,CALCIUM_FLAG_W,D15N_NO3,D15N_NO3_FLAG_W,BTL_DATE,BTL_TIME,BTL_LAT,BTL_LON,SALTREF,SALTREF_FLAG_W,CS-137,CS-137_FLAG_W,CS-134,CS-134_FLAG_W,REFTMP,REFTMP_FLAG_W,LAB_DEN,LAB_DEN_FLAG_W,D18O_NO3,D18O_NO3_FLAG_W,HELIER,DELHER,TRITER
,,,,,,,,,,,METERS,DBAR,ITS-90,PSS-78,,PSS-78,,UMOL/KG,,UMOL/KG,,UMOL/KG,,UMOL/KG,,UMOL/KG,,UMOL/KG,,PMOL/KG,,PMOL/KG,,PMOL/KG,,FMOL/KG,,UMOL/KG,,UMOL/KG,,,,DEG C,TU,,NMOL/KG,,PERCNT,,/MILLE,,/MILLE,,/MILLE,NMOL/KG,,NMOL/KG,BQ/M^3,,DM/.1MG,,UMOL/KG,,UMOL/KG,,MMOL/KG,,/MILLE,,,,,,G/KG,,BQ/M^3,,BQ/M^3,,ITS-90,,,,/MILLE,,NMOL/KG,PERCNT,TU
318M20130321,       P02W,      51,          1,          7,          7,2,20130421,       0931,    29.9922,   163.4645,       5977,  3794.4,   1.4825,  34.6795,2,  34.6776,2,      145,2,   143.5,2,  152.36,2,   36.51,2,       0,2,    2.56,2,-999.000,9,-999.000,9,-999.000,9,-999.0000,9,  2331.2,2, 2412.76,2,    7.555,2,       25,-999.000,9,-999.0000,9, -999.00,9, -999.00,9,  -999.0,9,  -999.0,-999.000,9,-999.000,     -999.0,9, -999.00,9,   34.77,2, -999.00,9,     -999.0,9,  -999.0,1, 20130421,     1018,   29.986, 163.4693,    34.8412,2,     -999.0,9,     -999.0,9,     1.4825,2,     -999.0,9,     -999.0,1,-999.0000, -999.00,-999.000
318M20130321,       P02W,      51,          1,          6,          6,2,20130421,       0931,    29.9922,   163.4645,       5977,  4211.1,   1.4695,  34.6849,2,  34.6859,2,    152.7,2,   152.5,2,  149.92,2,   35.92,2,       0,2,    2.51,2,   0.000,2,   0.004,2,   0.004,2,        0,2,  -999.0,9, -999.00,9,-999.0000,9,  -999.00,-999.000,9,-999.0000,9, -999.00,9, -999.00,9,  -999.0,9,  -999.0,-999.000,9,-999.000,     -999.0,9, -999.00,9, -999.00,9, -999.00,9,     -999.0,9,  -999.0,1, 20130421,     1010,  29.9871, 163.4699,    34.8495,2,     -999.0,9,     -999.0,9,     1.4693,2,     -999.0,9,     -999.0,1,-999.0000, -999.00,-999.000
318M20130321,       P02W,      51,          1,          5,         37,2,20130421,       0931,    29.9922,   163.4645,       5977,  4611.9,   1.4761,   34.689,2,  34.6891,2,    158.5,2,   158.6,2,  147.09,2,   35.49,2,       0,2,    2.48,2,-999.000,9,-999.000,9,-999.000,9,-999.0000,9,  2318.4,2, 2408.56,2,   7.5777,2,       25,-999.000,9,-999.0000,9, -999.00,9, -999.00,9,  -999.0,9,  -999.0,-999.000,9,-999.000,     -999.0,9, -999.00,9,    34.9,2, -999.00,9,     -999.0,9,  -999.0,1, 20130421,     1002,  29.9882, 163.4699,    34.8526,2,     -999.0,9,     -999.0,9,     1.4759,2,     -999.0,9,     -999.0,1,-999.0000, -999.00,-999.000
318M20130321,       P02W,      51,          1,          4,          4,2,20130421,       0931,    29.9922,   163.4645,       5977,  4994.1,   1.4865,  34.6922,2,  34.6922,2,      164,2,   164.7,2,  142.41,2,   35.03,2,       0,2,    2.44,2,   0.007,2,   0.004,2,   0.006,2,     0.06,2,  2311.6,2, 2404.65,2,   7.5859,2,       25,-999.000,9,-999.0000,9, -999.00,9, -999.00,9,  -999.0,9,  -999.0,-999.000,9,-999.000,     -999.0,9, -999.00,9, -999.00,9, -999.00,9,     -999.0,9,  -999.0,1, 20130421,      955,  29.9893, 163.4686,    34.8558,2,     -999.0,9,     -999.0,9,     1.4865,2,     -999.0,9,     -999.0,1,-999.0000, -999.00,-999.000
318M20130321,       P02W,      51,          1,          3,          3,2,20130421,       0931,    29.9922,   163.4645,       5977,  5434.8,   1.5109,  34.6949,2,  34.6944,2,    169.7,2,   169.5,2,  138.11,2,   34.74,2,       0,2,    2.41,2,   0.009,2,   0.008,2,   0.004,2,     0.04,2,  2305.3,2, 2403.25,6,   7.5899,2,       25,-999.000,9,-999.0000,9, -999.00,9, -999.00,9,  -999.0,9,  -999.0,-999.000,9,-999.000,     -999.0,9, -999.00,9,   35.25,2, -999.00,9,     -999.0,9,  -999.0,1, 20130421,      946,  29.9904, 163.4662,     34.858,2,     -999.0,9,     -999.0,9,     1.5112,2,     -999.0,9,     -999.0,1,-999.0000, -999.00,-999.000
318M20130321,       P02W,      51,          1,          2,          2,2,20130421,       0931,    29.9922,   163.4645,       5977,  5817.2,   1.5428,  34.6962,2,  34.6963,2,    173.6,2,   172.6,2,  136.65,2,   34.54,2,       0,2,     2.4,2,   0.012,2,   0.008,2,   0.003,2,     0.06,2,  2303.7,6, 2401.25,2,    7.592,2,       25,-999.000,9,-999.0000,9, -999.00,9, -999.00,9,  -999.0,9,  -999.0,-999.000,9,-999.000,     -999.0,9, -999.00,9,   36.15,2, -999.00,9,     -999.0,9,  -999.0,1, 20130421,      937,  29.9915, 163.4657,    34.8599,2,     -999.0,9,     -999.0,9,     1.5426,2,     -999.0,9,     -999.0,1,-999.0000, -999.00,-999.000
318M20130321,       P02W,      51,          1,          1,          1,2,20130421,       0931,    29.9922,   163.4645,       5977,  6084.3,   1.5726,  34.6964,2,  34.6969,2,    173.4,2,   173.4,2,  136.36,2,   34.47,2,       0,2,    2.39,2,   0.033,2,   0.022,2,   0.000,2,     0.05,2,  2302.5,2, 2400.35,2,   7.5937,6,       25,-999.000,9,-999.0000,9, -999.00,9, -999.00,9,  -999.0,9,  -999.0,-999.000,9,-999.000,     -999.0,9, -999.00,9,   37.89,2, -999.00,9,     -999.0,9,  -999.0,1, 20130421,      932,  29.9921, 163.4646,    34.8605,2,     -999.0,9,     -999.0,9,     1.5728,2,     -999.0,9,     -999.0,1,-999.0000, -999.00,-999.000