BOTTLE,20220817CCHSIOAMB
EXPOCODE,SECT_ID,STNNBR,CASTNO,SAMPNO,BTLNBR,BTLNBR_FLAG_W,DATE,TIME,LATITUDE,LONGITUDE,DEPTH,CTDPRS,CTDTMP,CTDSAL,CTDSAL_FLAG_W,SALNTY,SALNTY_FLAG_W,CTDOXY,CTDOXY_FLAG_W,OXYGEN,OXYGEN_FLAG_W,SILCAT,SILCAT_FLAG_W,NITRAT,NITRAT_FLAG_W,NITRIT,NITRIT_FLAG_W,PHSPHT,PHSPHT_FLAG_W,CFC-11,CFC-11_FLAG_W,CFC-12,CFC-12_FLAG_W,CFC113,CFC113_FLAG_W,SF6,SF6_FLAG_W,TCARBN,TCARBN_FLAG_W,ALKALI,ALKALI_FLAG_W,PH_TOT,PH_TOT_FLAG_W,PH_TMP,TRITUM,TRITUM_FLAG_W,HELIUM,HELIUM_FLAG_W,DELHE3,DELHE3_FLAG_W,DELC13,DELC13_FLAG_W,DELC14,DELC14_FLAG_W,C14ERR,NEON,NEON_FLAG_W,NEONER,I-129,I-129_FLAG_W,SR-90,SR-90_FLAG_W,DOC,DOC_FLAG_W,TDN,TDN_FLAG_W,CALCIUM,CALCIUM_FLAG_W,D15N_NO3,D15N_NO3_FLAG_W,BTL_DATE,BTL_TIME,BTL_LAT,BTL_LON,SALTREF,SALTREF_FLAG_W,CS-137,CS-137_FLAG_W,CS-134,CS-134_FLAG_W,REFTMP,REFTMP_FLAG_W,LAB_DEN,LAB_DEN_FLAG_W,D18O_NO3,D18O_NO3_FLAG_W,HELIER,DELHER,TRITER
,,,,,,,,,,,METERS,DBAR,ITS-90,PSS-78,,PSS-78,,UMOL/KG,,UMOL/KG,,UMOL/KG,,UMOL/KG,,UMOL/KG,,UMOL/KG,,PMOL/KG,,PMOL/KG,,PMOL/KG,,FMOL/KG,,UMOL/KG,,UMOL/KG,,,,DEG C,TU,,NMOL/KG,,PERCNT,,/MILLE,,/MILLE,,/MILLE,NMOL/KG,,NMOL/KG,BQ/M^3,,DM/.1MG,,UMOL/KG,,UMOL/KG,,MMOL/KG,,/MILLE,,,,,,G/KG,,BQ/M^3,,BQ/M^3,,ITS-90,,,,/MILLE,,NMOL/KG,PERCNT,TU
318M20130321,       P02W,      59,          1,         35,         35,2,20130424,       0126,    30.0006,   169.4033,       5694,     2.5,  21.3636,  35.1859,2,  35.1865,2,    222.2,2,   222.6,2,    1.37,2,       0,2,       0,2,       0,2,   2.210,2,   1.379,2,   0.194,2,     1.28,2,  2009.6,2, 2308.92,2,   8.0422,6,       25,-999.000,9,-999.0000,9, -999.00,9, -999.00,9,  -999.0,9,  -999.0,-999.000,9,-999.000,     -999.0,9, -999.00,9,   67.24,2,    4.33,2,     -999.0,9,  -999.0,1, 20130424,      343,  29.9971, 169.4014,    35.3524,2,     -999.0,9,     -999.0,9,    21.3599,2,     -999.0,9,     -999.0,1,-999.0000, -999.00,-999.000
318M20130321,       P02W,      59,          1,         36,         36,2,20130424,       0126,    30.0006,   169.4033,       5694,    22.1,  21.2185,  35.1767,2,  35.1772,2,    224.1,2,     223,2,    1.37,2,       0,2,       0,2,    0.01,2,   2.233,2,   1.379,2,   0.199,2,     1.45,2,  -999.0,9, -999.00,9,-999.0000,9,  -999.00,-999.000,9,-999.0000,9, -999.00,9, -999.00,9,  -999.0,9,  -999.0,-999.000,9,-999.000,     -999.0,9, -999.00,9,   66.82,2,    4.36,2,     -999.0,9,  -999.0,1, 20130424,      341,  29.9971, 169.4014,    35.3431,2,     -999.0,9,     -999.0,9,    21.2192,2,     -999.0,9,     -999.0,1,-999.0000, -999.00,-999.000
318M20130321,       P02W,      59,          1,         34,         34,2,20130424,       0126,    30.0006,   169.4033,       5694,    47.4,  20.9837,  35.1501,2,  35.1536,2,    225.7,2,   223.7,2,    1.37,2,       0,2,       0,2,       0,2,   2.240,2,   1.402,2,   0.182,2,     1.22,2,  2009.7,2, 2305.42,6,   8.0396,2,       25,-999.000,9,-999.0000,9, -999.00,9, -999.00,9,  -999.0,9,  -999.0,-999.000,9,-999.000,     -999.0,9, -999.00,9,   67.12,2,    4.17,2,     -999.0,9,  -999.0,1, 20130424,      339,   29.997, 169.4014,    35.3193,2,     -999.0,9,     -999.0,9,     20.984,2,     -999.0,9,     -999.0,1,-999.0000, -999.00,-999.000
318M20130321,       P02W,      59,          1,         33,         33,2,20130424,       0126,    30.0006,   169.4033,       5694,    72.6,  20.6938,  35.1125,2,  35.1154,2,    225.6,2,   224.1,2,    1.46,2,       0,2,       0,2,    0.01,2,-999.000,9,-999.000,9,-999.000,9,-999.0000,9,  -999.0,9, -999.00,9,-999.0000,9,  -999.00,-999.000,9,-999.0000,9, -999.00,9, -999.00,9,  -999.0,9,  -999.0,-999.000,9,-999.000,     -999.0,9, -999.00,9,   62.75,2,    3.67,2,     -999.0,9,  -999.0,1, 20130424,      337,  29.9969, 169.4014,     35.281,2,     -999.0,9,     -999.0,9,    20.6934,2,     -999.0,9,     -999.0,1,-999.0000, -999.00,-999.000
318M20130321,       P02W,      59,          1,         32,         32,2,20130424,       0126,    30.0006,   169.4033,       5694,    98.3,  18.4323,  34.7746,2,  34.7823,2,    232.4,2,   233.5,2,    2.15,2,    0.03,2,    0.01,2,    0.05,2,   2.563,2,   1.563,2,   0.197,2,     1.28,2,  2015.8,2, 2282.51,2,   8.0016,6,       25,-999.000,9,-999.0000,9, -999.00,9, -999.00,9,  -999.0,9,  -999.0,-999.000,9,-999.000,     -999.0,9, -999.00,9,   58.73,2,    3.58,2,     -999.0,9,  -999.0,1, 20130424,      336,  29.9969, 169.4015,    34.9463,2,     -999.0,9,     -999.0,9,    18.4427,2,     -999.0,9,     -999.0,1,-999.0000, -999.00,-999.000
318M20130321,       P02W,      59,          1,         31,         31,2,20130424,       0126,    30.0006,   169.4033,       5694,     149,  17.1223,  34.6834,2,  34.6832,2,    217.8,2,   217.3,2,    3.42,2,    3.34,2,    0.06,2,    0.25,2,-999.000,9,-999.000,9,-999.000,9,-999.0000,9,  -999.0,9, -999.00,9,-999.0000,9,  -999.00,-999.000,9,-999.0000,9, -999.00,9, -999.00,9,  -999.0,9,  -999.0,-999.000,9,-999.000,     -999.0,9, -999.00,9,   51.62,2,    7.07,2,     -999.0,9,  -999.0,1, 20130424,      334,  29.9969, 169.4015,    34.8468,2,     -999.0,9,     -999.0,9,    17.1232,2,     -999.0,9,     -999.0,1,-999.0000, -999.00,-999.000
318M20130321,       P02W,      59,          1,         30,         30,2,20130424,       0126,    30.0006,   169.4033,       5694,   199.2,  16.6155,  34.6472,2,  34.6471,2,    211.5,2,   211.1,2,    4.39,2,    4.79,2,    0.01,2,    0.35,2,   2.741,2,   1.650,2,   0.103,2,     1.54,2,  2042.3,3, 2274.71,2,   7.9334,2,       25,-999.000,9,-999.0000,9, -999.00,9, -999.00,9,  -999.0,9,  -999.0,-999.000,9,-999.000,     -999.0,9, -999.00,9,   47.62,2,    8.39,2,     -999.0,9,  -999.0,1, 20130424,      332,  29.9968, 169.4016,    34.8104,2,     -999.0,9,     -999.0,9,    16.6154,2,     -999.0,9,     -999.0,1,-999.0000, -999.00,-999.000
318M20130321,       P02W,      59,          1,         29,         29,2,20130424,       0126,    30.0006,   169.4033,       5694,   249.3,   16.181,   34.623,2,  34.6223,2,    211.3,2,   211.3,2,    5.56,2,    5.69,2,    0.01,2,    0.41,2,-999.000,9,-999.000,9,-999.000,9,-999.0000,9,  -999.0,9, -999.00,9,-999.0000,9,  -999.00,-999.000,9,-999.0000,9, -999.00,9, -999.00,9,  -999.0,9,  -999.0,-999.000,9,-999.000,     -999.0,9, -999.00,9,   48.34,2, -999.00,5,     -999.0,9,  -999.0,1, 20130424,      330,  29.9968, 169.4016,    34.7856,2,     -999.0,9,     -999.0,9,    16.1803,2,     -999.0,9,     -999.0,1,-999.0000, -999.00,-999.000
318M20130321,       P02W,      59,          1,         28,         28,2,20130424,       0126,    30.0006,   169.4033,       5694,   299.7,  15.2414,  34.5571,2,  34.5571,2,    204.8,2,   203.9,2,    7.91,2,    7.71,2,    0.01,2,    0.56,2,   2.908,2,   1.727,2,   0.049,2,      1.4,2,  2060.6,2, 2271.51,2,   7.8904,2,       25,-999.000,9,-999.0000,9, -999.00,9, -999.00,9,  -999.0,9,  -999.0,-999.000,9,-999.000,     -999.0,9, -999.00,9,   44.13,2,   10.87,2,     -999.0,9,  -999.0,1, 20130424,      328,  29.9967, 169.4016,    34.7201,2,     -999.0,9,     -999.0,9,    15.2206,3,     -999.0,9,     -999.0,1,-999.0000, -999.00,-999.000
318M20130321,       P02W,      59,          1,         27,         27,2,20130424,       0126,    30.0006,   169.4033,       5694,   350.9,  14.1009,   34.473,2,  34.4727,2,    205.9,2,   204.8,2,   10.25,2,    9.33,2,    0.01,2,    0.67,2,-999.000,9,-999.000,9,-999.000,9,-999.0000,9,  -999.0,9, -999.00,9,-999.0000,9,  -999.00,-999.000,9,-999.0000,9, -999.00,9, -999.00,9,  -999.0,9,  -999.0,-999.000,9,-999.000,     -999.0,9, -999.00,9,   41.77,2, -999.00,9,     -999.0,9,  -999.0,1, 20130424,      327,  29.9968, 169.4016,    34.6352,2,     -999.0,9,     -999.0,9,    14.1007,2,     -999.0,9,     -999.0,1,-999.0000, -999.00,-999.000
318M20130321,       P02W,      59,          1,         26,         26,2,20130424,       0126,    30.0006,   169.4033,       5694,   401.1,  13.0879,  34.4081,2,  34.4071,2,    205.1,2,   206.4,2,   12.79,2,   10.92,2,    0.01,2,    0.79,2,   3.160,2,   1.827,2,   0.077,2,      1.4,2,  2084.3,2, 2268.21,2,   7.8355,2,       25,-999.000,9,-999.0000,9, -999.00,9, -999.00,9,  -999.0,9,  -999.0,-999.000,9,-999.000,     -999.0,9, -999.00,9,    43.8,2, -999.00,9,     -999.0,9,  -999.0,1, 20130424,      325,  29.9968, 169.4016,    34.5694,2,     -999.0,9,     -999.0,9,     13.096,2,     -999.0,9,     -999.0,1,-999.0000, -999.00,-999.000
318M20130321,       P02W,      59,          1,         25,         25,2,20130424,       0126,    30.0006,   169.4033,       5694,   502.9,  11.0288,    34.27,2,  34.2692,2,    196.5,2,     198,2,   21.48,2,   15.28,2,    0.01,2,    1.11,2,-999.000,9,-999.000,9,-999.000,9,-999.0000,9,  2114.9,2, 2271.01,2,   7.7678,2,       25,-999.000,9,   1.7994,2,    2.98,2, -999.00,9,  -999.0,9,  -999.0,   7.657,2,   0.035,     -999.0,9, -999.00,9,    43.9,2, -999.00,9,     -999.0,9,  -999.0,1, 20130424,      322,  29.9969, 169.4017,    34.4308,2,     -999.0,9,     -999.0,9,     11.065,3,     -999.0,9,     -999.0,1,   0.0076,    0.15,-999.000
318M20130321,       P02W,      59,          1,         24,         24,2,20130424,       0126,    30.0006,   169.4033,       5694,   604.3,    8.172,    34.07,2,  34.0677,2,    173.8,2,   174.6,2,   38.38,2,   22.62,2,    0.01,2,    1.65,2,   3.221,2,   1.730,2,   0.150,2,     1.05,2,  -999.0,9, -999.00,9,-999.0000,9,  -999.00,-999.000,9,-999.0000,9, -999.00,9, -999.00,9,  -999.0,9,  -999.0,-999.000,9,-999.000,     -999.0,9, -999.00,9,   42.59,2, -999.00,9,     -999.0,9,  -999.0,1, 20130424,      320,   29.997, 169.4017,    34.2283,2,     -999.0,9,     -999.0,9,     8.1601,2,     -999.0,9,     -999.0,1,-999.0000, -999.00,-999.000
318M20130321,       P02W,      59,          1,         23,         23,2,20130424,       0126,    30.0006,   169.4033,       5694,   705.5,   5.8124,  34.0118,2,  34.0132,2,      125,2,   126.1,2,   64.75,2,   31.24,2,    0.01,2,    2.29,2,-999.000,9,-999.000,9,-999.000,9,-999.0000,9,  2235.7,2, 2298.22,2,   7.4964,2,       25,-999.000,9,-999.0000,9, -999.00,9, -999.00,9,  -999.0,9,  -999.0,-999.000,9,-999.000,     -999.0,9, -999.00,9,   40.84,2, -999.00,9,     -999.0,9,  -999.0,1, 20130424,      317,  29.9971, 169.4017,    34.1736,2,     -999.0,9,     -999.0,9,     5.8177,2,     -999.0,9,     -999.0,1,-999.0000, -999.00,-999.000
318M20130321,       P02W,      59,          1,         22,         22,2,20130424,       0126,    30.0006,   169.4033,       5694,   805.6,    4.739,  34.0958,2,  34.0959,2,       85,2,    81.4,2,   88.28,2,   36.85,2,       0,2,     2.7,2,   1.631,2,   0.840,2,   0.081,2,     0.39,2,  -999.0,9, -999.00,9,-999.0000,9,  -999.00,-999.000,9,-999.0000,9, -999.00,9, -999.00,9,  -999.0,9,  -999.0,-999.000,9,-999.000,     -999.0,9, -999.00,9,   41.28,2, -999.00,9,     -999.0,9,  -999.0,1, 20130424,      315,  29.9972, 169.4017,    34.2567,2,     -999.0,9,     -999.0,9,     4.7394,2,     -999.0,9,     -999.0,1,-999.0000, -999.00,-999.000
318M20130321,       P02W,      59,          1,         21,         21,2,20130424,       0126,    30.0006,   169.4033,       5694,     907,   4.1569,  34.1952,2,  34.1953,2,     51.1,2,    53.2,2,  105.75,2,   39.99,2,       0,2,     2.9,2,-999.000,9,-999.000,9,-999.000,9,-999.0000,9,  2321.4,6, 2333.03,2,   7.3524,2,       25,-999.000,9,-999.0000,9, -999.00,9, -999.00,9,  -999.0,9,  -999.0,-999.000,9,-999.000,     -999.0,9, -999.00,9,    40.1,2, -999.00,9,     -999.0,9,  -999.0,1, 20130424,      312,  29.9974, 169.4019,    34.3565,2,     -999.0,9,     -999.0,9,     4.1602,2,     -999.0,9,     -999.0,1,-999.0000, -999.00,-999.000
318M20130321,       P02W,      59,          1,         20,         20,2,20130424,       0126,    30.0006,   169.4033,       5694,  1008.1,   3.7024,  34.2793,2,  34.2808,2,     39.7,2,    39.3,2,   119.9,2,   41.65,2,       0,2,    3.02,2,   0.462,2,   0.239,2,   0.021,2,     0.09,2,  -999.0,9, -999.00,9,-999.0000,9,  -999.00,-999.000,9,-999.0000,9, -999.00,9, -999.00,9,  -999.0,9,  -999.0,-999.000,9,-999.000,     -999.0,9, -999.00,9,   37.25,2, -999.00,9,     -999.0,9,  -999.0,1, 20130424,      309,  29.9975, 169.4022,    34.4424,2,     -999.0,9,     -999.0,9,     3.7025,2,     -999.0,9,     -999.0,1,-999.0000, -999.00,-999.000
318M20130321,       P02W,      59,          1,         19,         19,2,20130424,       0126,    30.0006,   169.4033,       5694,  1109.6,   3.3574,  34.3395,2,  34.3451,3,     33.9,2,    34.5,2,  129.95,2,   42.38,2,       0,2,    3.08,2,   0.285,2,   0.150,2,   0.012,2,     0.11,2,  2358.2,2, 2363.24,2,   7.3267,2,       25,-999.000,9,-999.0000,9, -999.00,9, -999.00,9,  -999.0,9,  -999.0,-999.000,9,-999.000,     -999.0,9, -999.00,9,   37.84,2, -999.00,9,     -999.0,9,  -999.0,1, 20130424,      307,  29.9976, 169.4024,    34.5071,3,     -999.0,9,     -999.0,9,     3.3607,2,     -999.0,9,     -999.0,1,-999.0000, -999.00,-999.000
318M20130321,       P02W,      59,          1,         18,         18,2,20130424,       0126,    30.0006,   169.4033,       5694,  1210.7,   3.1149,    34.39,2,  34.3909,2,     29.6,2,    28.9,2,  138.34,2,   43.13,2,       0,2,    3.12,2,   0.123,2,   0.068,2,   0.004,2,     0.06,2,  2370.1,2, 2374.04,2,   7.3212,2,       25,-999.000,9,-999.0000,9, -999.00,9, -999.00,9,  -999.0,9,  -999.0,-999.000,9,-999.000,     -999.0,9, -999.00,9,   35.14,2, -999.00,9,     -999.0,9,  -999.0,1, 20130424,      304,  29.9977, 169.4026,     34.553,2,     -999.0,9,     -999.0,9,     3.1156,2,     -999.0,9,     -999.0,1,-999.0000, -999.00,-999.000
318M20130321,       P02W,      59,          1,         17,         17,2,20130424,       0126,    30.0006,   169.4033,       5694,    1306,    2.872,  34.4327,2,  34.4344,2,     28.6,2,    28.9,2,  145.17,2,   43.38,2,       0,2,    3.13,2,   0.069,2,   0.046,2,   0.006,2,     0.13,2,  2376.8,2, 2382.25,2,   7.3256,2,       25,-999.000,9,-999.0000,9, -999.00,9, -999.00,9,  -999.0,9,  -999.0,-999.000,9,-999.000,     -999.0,9, -999.00,9,   37.21,2, -999.00,9,     -999.0,9,  -999.0,1, 20130424,      301,  29.9978,  169.403,    34.5968,2,     -999.0,9,     -999.0,9,     2.8719,2,     -999.0,9,     -999.0,1,-999.0000, -999.00,-999.000
318M20130321,       P02W,      59,          1,         16,         16,2,20130424,       0126,    30.0006,   169.4033,       5694,  1410.1,   2.6853,  34.4677,2,  34.4692,2,     31.3,2,    32.4,2,  151.02,2,   43.36,2,       0,2,    3.13,2,   0.044,2,   0.029,2,   0.006,2,        0,2,  2382.4,2, 2387.85,2,   7.3337,2,       25,-999.000,9,-999.0000,9, -999.00,9, -999.00,9,  -999.0,9,  -999.0,-999.000,9,-999.000,     -999.0,9, -999.00,9,   34.92,2, -999.00,9,     -999.0,9,  -999.0,1, 20130424,      258,   29.998, 169.4034,    34.6317,2,     -999.0,9,     -999.0,9,     2.6846,2,     -999.0,9,     -999.0,1,-999.0000, -999.00,-999.000
318M20130321,       P02W,      59,          1,         15,         15,2,20130424,       0126,    30.0006,   169.4033,       5694,  1614.9,   2.3609,  34.5216,2,  34.5228,2,       43,2,    42.3,2,  159.41,2,   42.86,2,       0,2,    3.08,2,   0.026,2,   0.021,2,   0.012,2,        0,2,  2383.9,2, 2399.45,2,   7.3564,2,       25,-999.000,9,-999.0000,9, -999.00,9, -999.00,9,  -999.0,9,  -999.0,-999.000,9,-999.000,     -999.0,9, -999.00,9,   35.57,2, -999.00,9,     -999.0,9,  -999.0,1, 20130424,      254,  29.9982,  169.404,    34.6856,2,     -999.0,9,     -999.0,9,     2.3619,2,     -999.0,9,     -999.0,1,-999.0000, -999.00,-999.000
318M20130321,       P02W,      59,          1,         14,         14,2,20130424,       0126,    30.0006,   169.4033,       5694,  1812.7,   2.1472,  34.5661,2,  34.5672,2,     57.1,2,    57.4,2,  162.53,2,   41.96,2,       0,2,    3.01,2,   0.007,2,   0.014,2,   0.008,2,        0,2,  2378.9,2, 2406.45,2,   7.3908,2,       25,-999.000,9,-999.0000,9, -999.00,9, -999.00,9,  -999.0,9,  -999.0,-999.000,9,-999.000,     -999.0,9, -999.00,9, -999.00,9, -999.00,9,     -999.0,9,  -999.0,1, 20130424,      249,  29.9983, 169.4045,    34.7302,2,     -999.0,9,     -999.0,9,     2.1467,2,     -999.0,9,     -999.0,1,-999.0000, -999.00,-999.000
318M20130321,       P02W,      59,          1,         13,         13,2,20130424,       0126,    30.0006,   169.4033,       5694,  2020.8,   1.9387,  34.5974,2,  34.5984,2,     72.9,2,      73,2,  165.06,2,   41.05,2,       0,2,    2.93,2,-999.000,9,-999.000,9,-999.000,9,-999.0000,9,  2372.7,2, 2411.56,2,   7.4217,6,       25,-999.000,9,-999.0000,9, -999.00,9, -999.00,9,  -999.0,9,  -999.0,-999.000,9,-999.000,     -999.0,9, -999.00,9,   35.08,2, -999.00,9,     -999.0,9,  -999.0,1, 20130424,      245,  29.9989, 169.4048,    34.7616,2,     -999.0,9,     -999.0,9,     1.9386,2,     -999.0,9,     -999.0,1,-999.0000, -999.00,-999.000
318M20130321,       P02W,      59,          1,         12,         12,2,20130424,       0126,    30.0006,   169.4033,       5694,  2272.4,   1.7815,  34.6244,2,  34.6265,2,     91.7,2,    91.5,2,  163.99,2,   39.91,2,       0,2,    2.84,2,   0.001,2,   0.013,2,   0.005,2,        0,2,  2362.9,2, 2414.26,2,   7.4583,2,       25,-999.000,9,   1.9651,2,   19.35,2, -999.00,9,  -999.0,9,  -999.0,   8.330,2,   0.038,     -999.0,9, -999.00,9, -999.00,9, -999.00,9,     -999.0,9,  -999.0,1, 20130424,      239,  29.9992, 169.4049,    34.7898,2,     -999.0,9,     -999.0,9,     1.7815,2,     -999.0,9,     -999.0,1,   0.0083,    0.15,-999.000
318M20130321,       P02W,      59,          1,         11,         11,2,20130424,       0126,    30.0006,   169.4033,       5694,    2528,   1.6518,   34.643,2,   34.644,2,    106.1,2,   106.6,2,  162.03,2,   38.85,2,       0,2,    2.76,2,-999.000,9,-999.000,9,-999.000,9,-999.0000,9,  2353.7,2, 2415.66,2,   7.4874,2,       25,-999.000,9,-999.0000,9, -999.00,9, -999.00,9,  -999.0,9,  -999.0,-999.000,9,-999.000,     -999.0,9, -999.00,9,    35.5,2, -999.00,9,     -999.0,9,  -999.0,1, 20130424,      234,  29.9992,  169.405,    34.8074,2,     -999.0,9,     -999.0,9,     1.6519,2,     -999.0,9,     -999.0,1,-999.0000, -999.00,-999.000
318M20130321,       P02W,      59,          1,         10,         10,2,20130424,       0126,    30.0006,   169.4033,       5694,  2778.2,   1.5767,  34.6556,2,  34.6564,2,    118.6,2,   118.2,2,  160.76,2,   38.12,2,       0,2,    2.69,2,   0.001,2,   0.009,2,   0.005,2,     0.12,2,  -999.0,9, -999.00,9,-999.0000,9,  -999.00,-999.000,9,-999.0000,9, -999.00,9, -999.00,9,  -999.0,9,  -999.0,-999.000,9,-999.000,     -999.0,9, -999.00,9, -999.00,9, -999.00,9,     -999.0,9,  -999.0,1, 20130424,      229,  29.9993, 169.4051,    34.8198,2,     -999.0,9,     -999.0,9,      1.577,2,     -999.0,9,     -999.0,1,-999.0000, -999.00,-999.000
318M20130321,       P02W,      59,          1,          9,          9,2,20130424,       0126,    30.0006,   169.4033,       5694,  3034.6,   1.5264,  34.6648,2,  34.6654,2,    127.4,2,   127.3,2,  158.42,2,   37.46,2,       0,2,    2.65,2,-999.000,9,-999.000,9,-999.000,9,-999.0000,9,  2340.6,2, 2416.16,2,   7.5268,2,       25,-999.000,9,-999.0000,9, -999.00,9, -999.00,9,  -999.0,9,  -999.0,-999.000,9,-999.000,     -999.0,9, -999.00,9,   34.71,2, -999.00,9,     -999.0,9,  -999.0,1, 20130424,      223,  29.9995,  169.405,    34.8289,2,     -999.0,9,     -999.0,9,     1.5271,2,     -999.0,9,     -999.0,1,-999.0000, -999.00,-999.000
318M20130321,       P02W,      59,          1,          8,          8,2,20130424,       0126,    30.0006,   169.4033,       5694,  3344.4,   1.4831,  34.6731,2,  34.6749,2,    136.7,2,   137.1,2,  156.17,2,   36.85,2,       0,2,    2.61,2,   0.046,2,   0.025,2,   0.006,2,     0.08,2,  -999.0,9, -999.00,9,-999.0000,9,  -999.00,-999.000,9,-999.0000,9, -999.00,9, -999.00,9,  -999.0,9,  -999.0,-999.000,9,-999.000,     -999.0,9, -999.00,9, -999.00,9, -999.00,9,     -999.0,9,  -999.0,1, 20130424,      217,  29.9999,  169.405,    34.8384,2,     -999.0,9,     -999.0,9,     1.4835,2,     -999.0,9,     -999.0,1,-999.0000, -999.00,-999.000