BOTTLE,20220817CCHSIOAMB
EXPOCODE,SECT_ID,STNNBR,CASTNO,SAMPNO,BTLNBR,BTLNBR_FLAG_W,DATE,TIME,LATITUDE,LONGITUDE,DEPTH,CTDPRS,CTDTMP,CTDSAL,CTDSAL_FLAG_W,SALNTY,SALNTY_FLAG_W,CTDOXY,CTDOXY_FLAG_W,OXYGEN,OXYGEN_FLAG_W,SILCAT,SILCAT_FLAG_W,NITRAT,NITRAT_FLAG_W,NITRIT,NITRIT_FLAG_W,PHSPHT,PHSPHT_FLAG_W,CFC-11,CFC-11_FLAG_W,CFC-12,CFC-12_FLAG_W,CFC113,CFC113_FLAG_W,SF6,SF6_FLAG_W,TCARBN,TCARBN_FLAG_W,ALKALI,ALKALI_FLAG_W,PH_TOT,PH_TOT_FLAG_W,PH_TMP,TRITUM,TRITUM_FLAG_W,HELIUM,HELIUM_FLAG_W,DELHE3,DELHE3_FLAG_W,DELC13,DELC13_FLAG_W,DELC14,DELC14_FLAG_W,C14ERR,NEON,NEON_FLAG_W,NEONER,I-129,I-129_FLAG_W,SR-90,SR-90_FLAG_W,DOC,DOC_FLAG_W,TDN,TDN_FLAG_W,CALCIUM,CALCIUM_FLAG_W,D15N_NO3,D15N_NO3_FLAG_W,BTL_DATE,BTL_TIME,BTL_LAT,BTL_LON,SALTREF,SALTREF_FLAG_W,CS-137,CS-137_FLAG_W,CS-134,CS-134_FLAG_W,REFTMP,REFTMP_FLAG_W,LAB_DEN,LAB_DEN_FLAG_W,D18O_NO3,D18O_NO3_FLAG_W,HELIER,DELHER,TRITER
,,,,,,,,,,,METERS,DBAR,ITS-90,PSS-78,,PSS-78,,UMOL/KG,,UMOL/KG,,UMOL/KG,,UMOL/KG,,UMOL/KG,,UMOL/KG,,PMOL/KG,,PMOL/KG,,PMOL/KG,,FMOL/KG,,UMOL/KG,,UMOL/KG,,,,DEG C,TU,,NMOL/KG,,PERCNT,,/MILLE,,/MILLE,,/MILLE,NMOL/KG,,NMOL/KG,BQ/M^3,,DM/.1MG,,UMOL/KG,,UMOL/KG,,MMOL/KG,,/MILLE,,,,,,G/KG,,BQ/M^3,,BQ/M^3,,ITS-90,,,,/MILLE,,NMOL/KG,PERCNT,TU
318M20130321,       P02W,      74,          1,         35,         35,2,20130428,       1201,    30.0001,    179.723,       5347,     3.4,  18.5411,  34.9024,2,   34.903,2,    233.9,2,     234,2,    2.05,2,       0,2,       0,2,    0.03,2,   2.439,2,   1.507,2,   0.202,2,     1.71,2,  2015.4,2, 2289.71,2,   8.0036,2,       25,-999.000,9,-999.0000,9, -999.00,9, -999.00,9,  -999.0,9,  -999.0,-999.000,9,-999.000,     -999.0,9, -999.00,9, -999.00,9, -999.00,9,     -999.0,9,  -999.0,9, 20130428,     1416,  29.9997, 179.7228,    35.0676,2,     -999.0,9,     -999.0,9,    18.5395,2,     -999.0,9,     -999.0,9,-999.0000, -999.00,-999.000
318M20130321,       P02W,      74,          1,         36,         36,2,20130428,       1201,    30.0001,    179.723,       5347,    25.7,  18.5445,  34.9034,2,  34.9022,2,    234.6,2,   234.1,2,    2.05,2,       0,2,       0,2,    0.03,2,   2.479,2,   1.531,2,   0.198,2,     1.65,2,  -999.0,9, -999.00,9,-999.0000,9,  -999.00,-999.000,9,-999.0000,9, -999.00,9, -999.00,9,  -999.0,9,  -999.0,-999.000,9,-999.000,     -999.0,9, -999.00,9, -999.00,9, -999.00,9,     -999.0,9,  -999.0,9, 20130428,     1414,  29.9998, 179.7228,    35.0668,2,     -999.0,9,     -999.0,9,    18.5451,2,     -999.0,9,     -999.0,9,-999.0000, -999.00,-999.000
318M20130321,       P02W,      74,          1,         33,         33,2,20130428,       1201,    30.0001,    179.723,       5347,    50.9,  18.5416,  34.9001,2,  34.9017,2,    234.3,2,  -999.0,9,    2.05,2,       0,2,       0,2,    0.03,2,-999.000,9,-999.000,9,-999.000,9,-999.0000,9,  -999.0,9, -999.00,9,-999.0000,9,  -999.00,-999.000,9,-999.0000,9, -999.00,9, -999.00,9,  -999.0,9,  -999.0,-999.000,9,-999.000,     -999.0,1, -999.00,1, -999.00,9, -999.00,9,     -999.0,9,  -999.0,9, 20130428,     1412,  29.9998, 179.7228,    35.0663,2,     -999.0,1,     -999.0,1,    18.5403,2,     -999.0,9,     -999.0,9,-999.0000, -999.00,-999.000
318M20130321,       P02W,      74,          1,         32,         32,2,20130428,       1201,    30.0001,    179.723,       5347,    50.9,  18.5442,  34.9004,2,  34.9007,2,    234.3,2,   233.9,2,    1.95,2,       0,2,       0,2,    0.01,2,   2.469,2,   1.522,2,   0.205,2,     1.51,2,  2014.8,2, 2290.31,2,   8.0041,6,       25,-999.000,9,-999.0000,9, -999.00,9, -999.00,9,  -999.0,9,  -999.0,-999.000,9,-999.000,     -999.0,9, -999.00,9, -999.00,9, -999.00,9,     -999.0,9,  -999.0,9, 20130428,     1412,  29.9998, 179.7228,    35.0653,2,     -999.0,9,     -999.0,9,    18.5456,2,     -999.0,9,     -999.0,9,-999.0000, -999.00,-999.000
318M20130321,       P02W,      74,          1,         34,         34,2,20130428,       1201,    30.0001,    179.723,       5347,    51.1,  18.5499,  34.9024,2,  34.9021,2,    234.3,2,  -999.0,9,    2.05,2,       0,2,       0,2,    0.02,2,-999.000,9,-999.000,9,-999.000,9,-999.0000,9,  -999.0,9, -999.00,9,-999.0000,9,  -999.00,-999.000,9,-999.0000,9, -999.00,9, -999.00,9,  -999.0,9,  -999.0,-999.000,9,-999.000,     -999.0,9, -999.00,1, -999.00,9, -999.00,9,     -999.0,9,  -999.0,9, 20130428,     1412,  29.9999, 179.7228,    35.0667,2,     -999.0,1,     -999.0,1,     18.552,2,     -999.0,9,     -999.0,9,-999.0000, -999.00,-999.000
318M20130321,       P02W,      74,          1,         31,         31,2,20130428,       1201,    30.0001,    179.723,       5347,    74.9,   18.418,  34.8726,2,  34.8752,2,    235.7,2,   234.6,2,    2.15,2,    0.07,2,    0.01,2,    0.02,2,   2.487,2,   0.000,4,   0.203,2,     1.37,2,  -999.0,9, -999.00,9,-999.0000,9,  -999.00,-999.000,9,-999.0000,9, -999.00,9, -999.00,9,  -999.0,9,  -999.0,-999.000,9,-999.000,     -999.0,9, -999.00,9, -999.00,9, -999.00,9,     -999.0,9,  -999.0,9, 20130428,     1410,  29.9999, 179.7229,    35.0396,2,     -999.0,9,     -999.0,9,    18.4292,2,     -999.0,9,     -999.0,9,-999.0000, -999.00,-999.000
318M20130321,       P02W,      74,          1,         30,         30,2,20130428,       1201,    30.0001,    179.723,       5347,   100.7,  18.3634,  34.8605,2,  34.8608,2,    232.2,2,   233.6,2,    2.24,2,       0,2,       0,2,    0.02,2,   2.493,2,   1.526,2,   0.205,2,     1.52,2,  2016.6,2, 2287.01,6,   7.9996,2,       25,-999.000,9,-999.0000,9, -999.00,9, -999.00,9,  -999.0,9,  -999.0,-999.000,9,-999.000,     -999.0,9, -999.00,9, -999.00,9, -999.00,9,     -999.0,9,  -999.0,9, 20130428,     1408,  29.9999,  179.723,    35.0252,2,     -999.0,9,     -999.0,9,    18.3618,2,     -999.0,9,     -999.0,9,-999.0000, -999.00,-999.000
318M20130321,       P02W,      74,          1,         29,         29,2,20130428,       1201,    30.0001,    179.723,       5347,   150.6,  16.9239,  34.6565,2,   34.655,2,    224.6,2,     218,2,     3.9,2,    3.07,2,     0.1,2,    0.21,2,   2.689,2,   1.526,2,   0.132,2,     1.45,2,  -999.0,9, -999.00,9,-999.0000,9,  -999.00,-999.000,9,-999.0000,9, -999.00,9, -999.00,9,  -999.0,9,  -999.0,-999.000,9,-999.000,     -999.0,9, -999.00,9, -999.00,9, -999.00,9,     -999.0,9,  -999.0,9, 20130428,     1406,       30, 179.7231,    34.8184,2,     -999.0,9,     -999.0,9,    16.9241,2,     -999.0,9,     -999.0,9,-999.0000, -999.00,-999.000
318M20130321,       P02W,      74,          1,         28,         28,2,20130428,       1201,    30.0001,    179.723,       5347,   200.2,  16.3254,  34.6283,2,  34.6267,2,    207.8,2,   207.5,2,    5.27,2,    5.37,2,    0.02,2,    0.36,2,   2.732,2,   1.650,2,   0.067,2,     1.41,2,  2045.7,2, 2273.31,2,   7.9207,2,       25,-999.000,9,-999.0000,9, -999.00,9, -999.00,9,  -999.0,9,  -999.0,-999.000,9,-999.000,     -999.0,9, -999.00,9, -999.00,9, -999.00,9,     -999.0,9,  -999.0,9, 20130428,     1404,       30, 179.7234,      34.79,2,     -999.0,9,     -999.0,9,    16.3209,2,     -999.0,9,     -999.0,9,-999.0000, -999.00,-999.000
318M20130321,       P02W,      74,          1,         27,         27,2,20130428,       1201,    30.0001,    179.723,       5347,   250.5,  15.2626,  34.5415,2,  34.5401,2,    210.2,2,     211,2,    7.03,2,    6.67,2,    0.01,2,    0.46,2,   2.864,2,   1.712,2,   0.077,2,     1.43,2,  -999.0,9, -999.00,9,-999.0000,9,  -999.00,-999.000,9,-999.0000,9, -999.00,9, -999.00,9,  -999.0,9,  -999.0,-999.000,9,-999.000,     -999.0,9, -999.00,9, -999.00,9, -999.00,9,     -999.0,9,  -999.0,9, 20130428,     1401,  29.9999, 179.7236,     34.703,2,     -999.0,9,     -999.0,9,    15.2766,2,     -999.0,9,     -999.0,9,-999.0000, -999.00,-999.000
318M20130321,       P02W,      74,          1,         26,         26,2,20130428,       1201,    30.0001,    179.723,       5347,   301.7,  13.8946,  34.4499,2,  34.4481,2,    210.3,2,   209.7,2,   10.15,2,    9.35,2,    0.01,2,    0.62,2,   3.029,2,   1.772,2,   0.069,2,     1.35,2,  2070.5,2, 2268.71,2,   7.8611,2,       25,-999.000,9,-999.0000,9, -999.00,9, -999.00,9,  -999.0,9,  -999.0,-999.000,9,-999.000,     -999.0,9, -999.00,9, -999.00,9, -999.00,9,     -999.0,9,  -999.0,9, 20130428,     1359,  29.9999, 179.7237,    34.6105,2,     -999.0,9,     -999.0,9,    13.8946,2,     -999.0,9,     -999.0,9,-999.0000, -999.00,-999.000
318M20130321,       P02W,      74,          1,         25,         25,2,20130428,       1201,    30.0001,    179.723,       5347,   351.2,  12.8878,  34.3884,2,  34.3904,2,    207.4,2,     208,2,   12.98,2,   11.21,2,    0.01,2,    0.76,2,   3.109,2,   1.811,2,   0.075,2,     1.58,2,  -999.0,9, -999.00,9,-999.0000,9,  -999.00,-999.000,9,-999.0000,9, -999.00,9, -999.00,9,  -999.0,9,  -999.0,-999.000,9,-999.000,     -999.0,9, -999.00,9, -999.00,9, -999.00,9,     -999.0,9,  -999.0,9, 20130428,     1357,  29.9999, 179.7238,    34.5525,2,     -999.0,9,     -999.0,9,    12.8994,2,     -999.0,9,     -999.0,9,-999.0000, -999.00,-999.000
318M20130321,       P02W,      74,          1,         24,         24,2,20130428,       1201,    30.0001,    179.723,       5347,   402.4,  11.7188,  34.3031,2,  34.2997,2,      207,2,   205.9,2,    16.5,2,   13.49,2,    0.01,2,    0.93,2,   3.295,2,   1.876,2,   0.100,2,     1.35,2,  2098.7,2,    2266,2,   7.7945,2,       25,-999.000,9,-999.0000,9, -999.00,9, -999.00,9,  -999.0,9,  -999.0,-999.000,9,-999.000,     -999.0,9, -999.00,9, -999.00,9, -999.00,9,     -999.0,9,  -999.0,9, 20130428,     1354,  29.9999,  179.724,    34.4615,2,     -999.0,9,     -999.0,9,    11.7142,2,     -999.0,9,     -999.0,9,-999.0000, -999.00,-999.000
318M20130321,       P02W,      74,          1,         23,         23,2,20130428,       1201,    30.0001,    179.723,       5347,   502.3,   9.2453,   34.137,2,  34.1364,2,    183.1,2,   183.6,2,      29,2,   19.81,2,    0.01,2,    1.41,2,   3.320,2,   1.795,2,   0.109,2,     1.28,2,  2144.9,2, 2268.91,2,   7.6909,2,       25,-999.000,9,-999.0000,9, -999.00,9, -999.00,9,  -999.0,9,  -999.0,-999.000,9,-999.000,     -999.0,9, -999.00,9, -999.00,9, -999.00,9,     -999.0,9,  -999.0,9, 20130428,     1351,  29.9999, 179.7241,    34.2974,2,     -999.0,9,     -999.0,9,     9.2431,2,     -999.0,9,     -999.0,9,-999.0000, -999.00,-999.000
318M20130321,       P02W,      74,          1,         22,         22,2,20130428,       1201,    30.0001,    179.723,       5347,   603.8,   7.3139,  34.0503,2,  34.0496,2,    148.9,2,   149.3,2,   46.87,2,   26.53,2,       0,2,    1.92,2,-999.000,9,-999.000,9,-999.000,9,-999.0000,9,  2193.7,2, 2279.11,2,   7.5789,2,       25,-999.000,9,-999.0000,9, -999.00,9, -999.00,9,  -999.0,9,  -999.0,-999.000,9,-999.000,     -999.0,9, -999.00,9, -999.00,9, -999.00,9,     -999.0,9,  -999.0,9, 20130428,     1348,       30, 179.7241,    34.2102,2,     -999.0,9,     -999.0,9,     7.3142,2,     -999.0,9,     -999.0,9,-999.0000, -999.00,-999.000
318M20130321,       P02W,      74,          1,         21,         21,2,20130428,       1201,    30.0001,    179.723,       5347,   705.5,   5.6213,  34.0346,2,  34.0341,2,    107.3,2,     108,2,   69.53,2,    33.3,2,       0,2,    2.42,2,   2.143,2,   1.116,2,   0.083,2,     0.43,2,  2249.8,2, 2295.32,2,   7.4626,2,       25,-999.000,9,-999.0000,9, -999.00,9, -999.00,9,  -999.0,9,  -999.0,-999.000,9,-999.000,     -999.0,9, -999.00,9, -999.00,9, -999.00,9,     -999.0,9,  -999.0,9, 20130428,     1345,       30, 179.7239,    34.1946,2,     -999.0,9,     -999.0,9,     5.6186,2,     -999.0,9,     -999.0,9,-999.0000, -999.00,-999.000
318M20130321,       P02W,      74,          1,         20,         20,2,20130428,       1201,    30.0001,    179.723,       5347,   807.3,   4.5882,   34.126,2,  34.1237,2,     64.5,2,    63.9,2,   93.45,2,    38.8,2,       0,2,    2.82,2,-999.000,9,-999.000,9,-999.000,9,-999.0000,9,  2301.9,2, 2319.12,2,   7.3692,2,       25,-999.000,9,-999.0000,9, -999.00,9, -999.00,9,  -999.0,9,  -999.0,-999.000,9,-999.000,     -999.0,9, -999.00,9, -999.00,9, -999.00,9,     -999.0,9,  -999.0,9, 20130428,     1342,       30, 179.7239,    34.2846,2,     -999.0,9,     -999.0,9,     4.5871,2,     -999.0,9,     -999.0,9,-999.0000, -999.00,-999.000
318M20130321,       P02W,      74,          1,         19,         19,2,20130428,       1201,    30.0001,    179.723,       5347,   908.5,   4.0042,  34.2151,2,  34.2141,2,       42,2,    40.6,2,  110.92,2,   41.79,2,       0,2,    3.02,2,   0.564,2,   0.286,2,   0.024,2,      0.1,2,    2334,2, 2339.73,2,   7.3283,6,       25,-999.000,9,-999.0000,9, -999.00,9, -999.00,9,  -999.0,9,  -999.0,-999.000,9,-999.000,     -999.0,9, -999.00,9, -999.00,9, -999.00,9,     -999.0,9,  -999.0,9, 20130428,     1339,       30, 179.7238,    34.3754,2,     -999.0,9,     -999.0,9,     4.0038,2,     -999.0,9,     -999.0,9,-999.0000, -999.00,-999.000
318M20130321,       P02W,      74,          1,         18,         18,2,20130428,       1201,    30.0001,    179.723,       5347,  1006.7,   3.6577,  34.2871,2,  34.2873,2,     29.8,2,    29.1,2,  122.24,2,   42.86,2,       0,2,     3.1,2,-999.000,9,-999.000,9,-999.000,9,-999.0000,9,  2352.6,6, 2353.44,2,   7.3201,2,       25,-999.000,9,-999.0000,9, -999.00,9, -999.00,9,  -999.0,9,  -999.0,-999.000,9,-999.000,     -999.0,9, -999.00,9, -999.00,9, -999.00,9,     -999.0,9,  -999.0,9, 20130428,     1337,  29.9999, 179.7237,     34.449,2,     -999.0,9,     -999.0,9,     3.6571,2,     -999.0,9,     -999.0,9,-999.0000, -999.00,-999.000
318M20130321,       P02W,      74,          1,         17,         17,2,20130428,       1201,    30.0001,    179.723,       5347,  1210.6,   3.0727,   34.423,2,  34.4231,2,     26.6,2,    27.1,2,  140.09,2,   43.73,2,       0,2,    3.15,2,   0.046,2,   0.021,2,   0.000,2,     0.01,2,  2376.2,2, 2379.65,2,   7.3245,2,       25,-999.000,9,-999.0000,9, -999.00,9, -999.00,9,  -999.0,9,  -999.0,-999.000,9,-999.000,     -999.0,9, -999.00,9, -999.00,9, -999.00,9,     -999.0,9,  -999.0,9, 20130428,     1332,  29.9997, 179.7235,    34.5854,2,     -999.0,9,     -999.0,9,     3.0695,2,     -999.0,9,     -999.0,9,-999.0000, -999.00,-999.000
318M20130321,       P02W,      74,          1,         16,         16,2,20130428,       1201,    30.0001,    179.723,       5347,  1412.2,    2.667,  34.4983,2,  34.4981,2,     33.1,2,    34.4,2,  150.92,2,   43.59,2,       0,2,    3.13,2,-999.000,9,-999.000,9,-999.000,9,-999.0000,9,  2384.3,2, 2393.85,2,   7.3446,2,       25,-999.000,9,-999.0000,9, -999.00,9, -999.00,9,  -999.0,9,  -999.0,-999.000,9,-999.000,     -999.0,9, -999.00,9, -999.00,9, -999.00,9,     -999.0,9,  -999.0,9, 20130428,     1327,  29.9998, 179.7232,    34.6608,2,     -999.0,9,     -999.0,9,     2.6682,2,     -999.0,9,     -999.0,9,-999.0000, -999.00,-999.000
318M20130321,       P02W,      74,          1,         15,         15,2,20130428,       1201,    30.0001,    179.723,       5347,  1614.3,   2.3704,   34.544,2,  34.5435,2,     48.2,2,    48.3,2,  157.55,2,   42.84,2,       0,2,    3.06,2,   0.000,2,   0.008,2,   0.000,2,        0,2,  2379.4,2, 2402.45,2,   7.3727,2,       25,-999.000,9,-999.0000,9, -999.00,9, -999.00,9,  -999.0,9,  -999.0,-999.000,9,-999.000,     -999.0,9, -999.00,9, -999.00,9, -999.00,9,     -999.0,9,  -999.0,9, 20130428,     1323,  29.9997,  179.723,    34.7064,2,     -999.0,9,     -999.0,9,     2.3708,2,     -999.0,9,     -999.0,9,-999.0000, -999.00,-999.000
318M20130321,       P02W,      74,          1,         14,         14,2,20130428,       1201,    30.0001,    179.723,       5347,  1818.1,    2.126,  34.5811,2,  34.5806,2,     63.9,2,    64.2,2,  161.36,2,   41.79,2,       0,2,    2.98,2,-999.000,9,-999.000,9,-999.000,9,-999.0000,9,  2375.9,2, 2408.36,2,   7.4081,6,       25,-999.000,9,-999.0000,9, -999.00,9, -999.00,9,  -999.0,9,  -999.0,-999.000,9,-999.000,     -999.0,9, -999.00,9, -999.00,9, -999.00,9,     -999.0,9,  -999.0,9, 20130428,     1318,  29.9996, 179.7229,    34.7437,2,     -999.0,9,     -999.0,9,     2.1261,2,     -999.0,9,     -999.0,9,-999.0000, -999.00,-999.000
318M20130321,       P02W,      74,          1,         13,         13,2,20130428,       1201,    30.0001,    179.723,       5347,  2020.1,   1.9318,  34.6072,2,  34.6064,2,     79.6,2,    79.4,2,   163.5,2,   40.97,2,       0,2,     2.9,2,   0.000,2,   0.007,2,   0.000,2,        0,2,  -999.0,9, -999.00,9,-999.0000,9,  -999.00,-999.000,9,-999.0000,9, -999.00,9, -999.00,9,  -999.0,9,  -999.0,-999.000,9,-999.000,     -999.0,9, -999.00,9, -999.00,9, -999.00,9,     -999.0,9,  -999.0,9, 20130428,     1313,  29.9996, 179.7228,    34.7695,2,     -999.0,9,     -999.0,9,     1.9322,2,     -999.0,9,     -999.0,9,-999.0000, -999.00,-999.000
318M20130321,       P02W,      74,          1,         11,         11,2,20130428,       1201,    30.0001,    179.723,       5347,  2275.2,   1.7712,  34.6283,2,  34.6284,2,     93.5,2,    92.9,2,  164.77,2,   40.02,2,       0,2,    2.82,2,   0.002,2,   0.008,2,   0.000,2,     0.01,2,  2361.6,2, 2415.96,2,   7.4627,2,       25,-999.000,9,-999.0000,9, -999.00,9, -999.00,9,  -999.0,9,  -999.0,-999.000,9,-999.000,     -999.0,9, -999.00,9, -999.00,9, -999.00,9,     -999.0,9,  -999.0,9, 20130428,     1308,  29.9995, 179.7227,    34.7917,2,     -999.0,9,     -999.0,9,       1.77,2,     -999.0,9,     -999.0,9,-999.0000, -999.00,-999.000
318M20130321,       P02W,      74,          1,         10,         10,2,20130428,       1201,    30.0001,    179.723,       5347,  2527.8,   1.6533,   34.645,2,  34.6439,2,    106.2,2,   106.7,2,  163.98,2,   39.18,2,       0,2,    2.76,2,-999.000,9,-999.000,9,-999.000,9,-999.0000,9,  -999.0,9, -999.00,9,-999.0000,9,  -999.00,-999.000,9,-999.0000,9, -999.00,9, -999.00,9,  -999.0,9,  -999.0,-999.000,9,-999.000,     -999.0,9, -999.00,9, -999.00,9, -999.00,9,     -999.0,9,  -999.0,9, 20130428,     1303,  29.9994, 179.7229,    34.8073,2,     -999.0,9,     -999.0,9,     1.6536,2,     -999.0,9,     -999.0,9,-999.0000, -999.00,-999.000
318M20130321,       P02W,      74,          1,          9,          9,2,20130428,       1201,    30.0001,    179.723,       5347,  2782.9,   1.5682,  34.6573,2,  34.6567,2,    118.5,2,     118,2,  162.32,2,   38.39,2,       0,2,     2.7,2,   0.000,2,   0.010,2,   0.000,2,        0,2,  2347.4,2, 2417.86,2,   7.5104,2,       25,-999.000,9,-999.0000,9, -999.00,9, -999.00,9,  -999.0,9,  -999.0,-999.000,9,-999.000,     -999.0,9, -999.00,9, -999.00,9, -999.00,9,     -999.0,9,  -999.0,9, 20130428,     1257,  29.9993, 179.7231,    34.8201,2,     -999.0,9,     -999.0,9,     1.5681,2,     -999.0,9,     -999.0,9,-999.0000, -999.00,-999.000
318M20130321,       P02W,      74,          1,          8,          8,2,20130428,       1201,    30.0001,    179.723,       5347,  3038.2,   1.5142,  34.6667,2,  34.6658,2,    127.7,2,   128.4,2,  160.17,2,   37.76,2,       0,2,    2.65,2,-999.000,9,-999.000,9,-999.000,9,-999.0000,9,  -999.0,9, -999.00,9,-999.0000,9,  -999.00,-999.000,9,-999.0000,9, -999.00,9, -999.00,9,  -999.0,9,  -999.0,-999.000,9,-999.000,     -999.0,9, -999.00,9, -999.00,9, -999.00,9,     -999.0,9,  -999.0,9, 20130428,     1251,  29.9994, 179.7231,    34.8292,2,     -999.0,9,     -999.0,9,     1.5141,2,     -999.0,9,     -999.0,9,-999.0000, -999.00,-999.000
318M20130321,       P02W,      74,          1,          7,          7,2,20130428,       1201,    30.0001,    179.723,       5347,  3344.3,   1.4689,  34.6752,2,  34.6742,2,    137.1,2,   137.6,2,  157.83,2,   37.11,2,       0,2,    2.61,2,   0.000,2,   0.010,2,   0.000,2,        0,2,  2336.6,2, 2418.06,2,   7.5456,2,       25,-999.000,9,-999.0000,9, -999.00,9, -999.00,9,  -999.0,9,  -999.0,-999.000,9,-999.000,     -999.0,9, -999.00,9, -999.00,9, -999.00,9,     -999.0,9,  -999.0,9, 20130428,     1245,  29.9996, 179.7231,    34.8377,2,     -999.0,9,     -999.0,9,     1.4688,2,     -999.0,9,     -999.0,9,-999.0000, -999.00,-999.000