BOTTLE,20220817CCHSIOAMB
EXPOCODE,SECT_ID,STNNBR,CASTNO,SAMPNO,BTLNBR,BTLNBR_FLAG_W,DATE,TIME,LATITUDE,LONGITUDE,DEPTH,CTDPRS,CTDTMP,CTDSAL,CTDSAL_FLAG_W,SALNTY,SALNTY_FLAG_W,CTDOXY,CTDOXY_FLAG_W,OXYGEN,OXYGEN_FLAG_W,SILCAT,SILCAT_FLAG_W,NITRAT,NITRAT_FLAG_W,NITRIT,NITRIT_FLAG_W,PHSPHT,PHSPHT_FLAG_W,CFC-11,CFC-11_FLAG_W,CFC-12,CFC-12_FLAG_W,CFC113,CFC113_FLAG_W,SF6,SF6_FLAG_W,TCARBN,TCARBN_FLAG_W,ALKALI,ALKALI_FLAG_W,PH_TOT,PH_TOT_FLAG_W,PH_TMP,TRITUM,TRITUM_FLAG_W,HELIUM,HELIUM_FLAG_W,DELHE3,DELHE3_FLAG_W,DELC13,DELC13_FLAG_W,DELC14,DELC14_FLAG_W,C14ERR,NEON,NEON_FLAG_W,NEONER,I-129,I-129_FLAG_W,SR-90,SR-90_FLAG_W,DOC,DOC_FLAG_W,TDN,TDN_FLAG_W,CALCIUM,CALCIUM_FLAG_W,D15N_NO3,D15N_NO3_FLAG_W,BTL_DATE,BTL_TIME,BTL_LAT,BTL_LON,SALTREF,SALTREF_FLAG_W,CS-137,CS-137_FLAG_W,CS-134,CS-134_FLAG_W,REFTMP,REFTMP_FLAG_W,LAB_DEN,LAB_DEN_FLAG_W,D18O_NO3,D18O_NO3_FLAG_W,HELIER,DELHER,TRITER
,,,,,,,,,,,METERS,DBAR,ITS-90,PSS-78,,PSS-78,,UMOL/KG,,UMOL/KG,,UMOL/KG,,UMOL/KG,,UMOL/KG,,UMOL/KG,,PMOL/KG,,PMOL/KG,,PMOL/KG,,FMOL/KG,,UMOL/KG,,UMOL/KG,,,,DEG C,TU,,NMOL/KG,,PERCNT,,/MILLE,,/MILLE,,/MILLE,NMOL/KG,,NMOL/KG,BQ/M^3,,DM/.1MG,,UMOL/KG,,UMOL/KG,,MMOL/KG,,/MILLE,,,,,,G/KG,,BQ/M^3,,BQ/M^3,,ITS-90,,,,/MILLE,,NMOL/KG,PERCNT,TU
318M20130321,       P02W,      42,          1,         36,         36,2,20130417,       2339,    30.0002,   155.8748,       5797,     3.5,  20.6158,  34.9717,2,  34.9713,2,    225.9,2,   225.9,2,    1.56,2,       0,2,       0,2,    0.01,2,   2.363,2,   1.453,2,   0.201,2,     1.38,2,  2002.9,2, 2294.31,2,   8.0307,2,       25,-999.000,9,-999.0000,9, -999.00,9, -999.00,9,  -999.0,9,  -999.0,-999.000,9,-999.000,     -999.0,9, -999.00,9, -999.00,9, -999.00,9,     -999.0,9,  -999.0,9, 20130418,      205,  30.0007, 155.8743,    35.1362,2,     -999.0,9,     -999.0,9,    20.6149,2,     -999.0,9,     -999.0,9,-999.0000, -999.00,-999.000
318M20130321,       P02W,      42,          1,         35,         35,2,20130417,       2339,    30.0002,   155.8748,       5797,    37.4,  19.6279,  34.8835,2,  34.8847,2,    227.7,2,   230.2,2,    1.76,2,       0,2,       0,2,    0.01,2,   2.418,2,   1.460,2,   0.211,2,     1.74,2,  2003.5,6, 2288.41,2,   8.0206,6,       25,-999.000,9,-999.0000,9, -999.00,9, -999.00,9,  -999.0,9,  -999.0,-999.000,9,-999.000,     -999.0,9, -999.00,9, -999.00,9, -999.00,9,     -999.0,9,  -999.0,9, 20130418,      202,  30.0005, 155.8742,    35.0492,2,     -999.0,9,     -999.0,9,    19.6311,2,     -999.0,9,     -999.0,9,-999.0000, -999.00,-999.000
318M20130321,       P02W,      42,          1,         34,         34,2,20130417,       2339,    30.0002,   155.8748,       5797,    61.8,  18.8918,  34.8447,2,  34.8444,2,    231.2,2,   234.1,2,    1.95,2,       0,2,       0,2,    0.02,2,   2.567,2,   1.594,2,   0.205,2,     1.81,2,  -999.0,9, -999.00,9,-999.0000,9,  -999.00,-999.000,9,-999.0000,9, -999.00,9, -999.00,9,  -999.0,9,  -999.0,-999.000,9,-999.000,     -999.0,9, -999.00,9, -999.00,9, -999.00,9,     -999.0,9,  -999.0,9, 20130418,      200,  30.0005, 155.8741,    35.0087,2,     -999.0,9,     -999.0,9,      18.89,2,     -999.0,9,     -999.0,9,-999.0000, -999.00,-999.000
318M20130321,       P02W,      42,          1,         33,         33,2,20130417,       2339,    30.0002,   155.8748,       5797,    87.9,  18.1677,  34.7752,2,  34.7746,2,    237.6,2,   232.9,2,    2.15,2,    0.37,2,    0.08,2,    0.07,2,   2.600,2,   1.534,2,   0.194,2,     1.44,2,  2010.6,2, 2282.31,6,   8.0014,2,       25,-999.000,9,-999.0000,9, -999.00,9, -999.00,9,  -999.0,9,  -999.0,-999.000,9,-999.000,     -999.0,9, -999.00,9, -999.00,9, -999.00,9,     -999.0,9,  -999.0,9, 20130418,      158,  30.0005,  155.874,    34.9386,2,     -999.0,9,     -999.0,9,    18.1688,2,     -999.0,9,     -999.0,9,-999.0000, -999.00,-999.000
318M20130321,       P02W,      42,          1,         32,         32,2,20130417,       2339,    30.0002,   155.8748,       5797,   117.6,  17.5483,  34.7282,2,  34.7274,2,    218.2,2,   217.9,2,    3.12,2,    2.73,2,    0.11,2,     0.2,2,   2.649,2,   1.572,2,   0.121,2,     1.49,2,  -999.0,9, -999.00,9,-999.0000,9,  -999.00,-999.000,9,-999.0000,9, -999.00,9, -999.00,9,  -999.0,9,  -999.0,-999.000,9,-999.000,     -999.0,9, -999.00,9, -999.00,9, -999.00,9,     -999.0,9,  -999.0,9, 20130418,      156,  30.0004, 155.8741,    34.8912,2,     -999.0,9,     -999.0,9,    17.5456,2,     -999.0,9,     -999.0,9,-999.0000, -999.00,-999.000
318M20130321,       P02W,      42,          1,         31,         31,2,20130417,       2339,    30.0002,   155.8748,       5797,   148.1,  16.9782,  34.6981,2,  34.6974,2,    220.7,2,   219.7,2,    3.61,2,    3.62,2,    0.04,2,    0.25,2,   2.670,2,   1.596,2,   0.126,2,     1.57,2,  2027.6,2, 2276.61,2,   7.9592,2,       25,-999.000,9,-999.0000,9, -999.00,9, -999.00,9,  -999.0,9,  -999.0,-999.000,9,-999.000,     -999.0,9, -999.00,9, -999.00,9, -999.00,9,     -999.0,9,  -999.0,9, 20130418,      155,  30.0004, 155.8741,     34.861,2,     -999.0,9,     -999.0,9,    16.9771,2,     -999.0,9,     -999.0,9,-999.0000, -999.00,-999.000
318M20130321,       P02W,      42,          1,         30,         30,2,20130417,       2339,    30.0002,   155.8748,       5797,   188.5,  16.6867,  34.6842,2,  34.6832,2,    226.2,2,   227.7,2,    3.71,2,    3.43,2,    0.02,2,    0.23,2,   2.695,2,   1.618,2,   0.157,2,     1.54,2,  -999.0,9, -999.00,9,-999.0000,9,  -999.00,-999.000,9,-999.0000,9, -999.00,9, -999.00,9,  -999.0,9,  -999.0,-999.000,9,-999.000,     -999.0,9, -999.00,9, -999.00,9, -999.00,9,     -999.0,9,  -999.0,9, 20130418,      153,  30.0003, 155.8742,    34.8468,2,     -999.0,9,     -999.0,9,    16.6852,2,     -999.0,9,     -999.0,9,-999.0000, -999.00,-999.000
318M20130321,       P02W,      42,          1,         29,         29,2,20130417,       2339,    30.0002,   155.8748,       5797,     236,  16.4136,  34.6624,2,  34.6616,2,    216.9,2,   210.7,2,    5.27,2,    5.41,2,    0.02,2,    0.38,2,   2.738,2,   1.654,2,   0.079,2,     1.39,2,  2039.6,2, 2275.51,2,    7.934,2,       25,-999.000,9,-999.0000,9, -999.00,9, -999.00,9,  -999.0,9,  -999.0,-999.000,9,-999.000,     -999.0,9, -999.00,9, -999.00,9, -999.00,9,     -999.0,9,  -999.0,9, 20130418,      151,  30.0002, 155.8744,    34.8251,2,     -999.0,9,     -999.0,9,    16.4134,2,     -999.0,9,     -999.0,9,-999.0000, -999.00,-999.000
318M20130321,       P02W,      42,          1,         28,         28,2,20130417,       2339,    30.0002,   155.8748,       5797,   314.1,  15.2338,  34.5757,2,  34.5746,2,    200.1,2,   196.5,2,    9.76,2,    8.74,2,    0.02,2,    0.61,2,-999.000,9,-999.000,9,-999.000,9,-999.0000,9,  -999.0,9, -999.00,9,-999.0000,9,  -999.00,-999.000,9,-999.0000,9, -999.00,9, -999.00,9,  -999.0,9,  -999.0,-999.000,9,-999.000,     -999.0,9, -999.00,9, -999.00,9, -999.00,9,     -999.0,9,  -999.0,9, 20130418,      148,  30.0001, 155.8746,    34.7376,2,     -999.0,9,     -999.0,9,     15.232,2,     -999.0,9,     -999.0,9,-999.0000, -999.00,-999.000
318M20130321,       P02W,      42,          1,         27,         27,2,20130417,       2339,    30.0002,   155.8748,       5797,   365.3,  14.0452,  34.4912,2,  34.4901,2,    186.7,2,   187.6,2,   13.47,2,   11.27,2,       0,2,    0.79,2,   2.925,2,   1.664,2,   0.044,2,     1.13,2,    2086,2, 2273.81,2,   7.8387,6,       25,-999.000,9,-999.0000,9, -999.00,9, -999.00,9,  -999.0,9,  -999.0,-999.000,9,-999.000,     -999.0,9, -999.00,9, -999.00,9, -999.00,9,     -999.0,9,  -999.0,9, 20130418,      147,  30.0001, 155.8748,    34.6528,2,     -999.0,9,     -999.0,9,    14.0433,2,     -999.0,9,     -999.0,9,-999.0000, -999.00,-999.000
318M20130321,       P02W,      42,          1,         26,         26,2,20130417,       2339,    30.0002,   155.8748,       5797,   437.1,   12.173,  34.3546,2,  34.3543,2,    193.6,2,   196.2,2,   17.09,2,   13.42,2,       0,2,    0.95,2,-999.000,9,-999.000,9,-999.000,9,-999.0000,9,  2101.9,2, 2270.11,2,   7.7975,2,       25,-999.000,9,-999.0000,9, -999.00,9, -999.00,9,  -999.0,9,  -999.0,-999.000,9,-999.000,     -999.0,9, -999.00,9, -999.00,9, -999.00,9,     -999.0,9,  -999.0,9, 20130418,      145,       30,  155.875,    34.5163,2,     -999.0,9,     -999.0,9,    12.1725,2,     -999.0,9,     -999.0,9,-999.0000, -999.00,-999.000
318M20130321,       P02W,      42,          1,         25,         25,2,20130417,       2339,    30.0002,   155.8748,       5797,   537.5,   9.2741,  34.1466,2,  34.1464,2,    180.7,2,   181.6,2,   30.66,2,   19.78,2,       0,2,    1.43,2,   3.271,2,   1.753,2,   0.117,2,     1.14,2,  2147.2,2, 2273.41,2,   7.6933,2,       25,-999.000,9,-999.0000,9, -999.00,9, -999.00,9,  -999.0,9,  -999.0,-999.000,9,-999.000,     -999.0,9, -999.00,9, -999.00,9, -999.00,9,     -999.0,9,  -999.0,9, 20130418,      142,  29.9999, 155.8749,    34.3074,2,     -999.0,9,     -999.0,9,     9.2725,2,     -999.0,9,     -999.0,9,-999.0000, -999.00,-999.000
318M20130321,       P02W,      42,          1,         24,         24,2,20130417,       2339,    30.0002,   155.8748,       5797,   639.2,   6.8828,  34.0301,2,  34.0296,2,    150.7,2,   148.8,2,   51.27,2,   27.18,2,       0,2,    1.98,2,-999.000,9,-999.000,9,-999.000,9,-999.0000,9,  2201.9,2, 2282.81,2,   7.5672,6,       25,-999.000,9,-999.0000,9, -999.00,9, -999.00,9,  -999.0,9,  -999.0,-999.000,9,-999.000,     -999.0,9, -999.00,9, -999.00,9, -999.00,9,     -999.0,9,  -999.0,9, 20130418,      139,       30, 155.8748,    34.1901,2,     -999.0,9,     -999.0,9,     6.8772,2,     -999.0,9,     -999.0,9,-999.0000, -999.00,-999.000
318M20130321,       P02W,      42,          1,         23,         23,2,20130417,       2339,    30.0002,   155.8748,       5797,   740.9,   5.2254,  34.0401,2,  34.0498,3,    104.8,2,   105.3,2,   75.97,2,   34.08,2,       0,2,    2.49,2,   2.144,2,   1.123,2,   0.079,2,     0.58,2,  2258.6,2, 2302.52,2,   7.4466,2,       25,-999.000,9,-999.0000,9, -999.00,9, -999.00,9,  -999.0,9,  -999.0,-999.000,9,-999.000,     -999.0,9, -999.00,9, -999.00,9, -999.00,9,     -999.0,9,  -999.0,9, 20130418,      136,       30, 155.8749,    34.2104,3,     -999.0,9,     -999.0,9,     5.2255,2,     -999.0,9,     -999.0,9,-999.0000, -999.00,-999.000
318M20130321,       P02W,      42,          1,         22,         22,2,20130417,       2339,    30.0002,   155.8748,       5797,   837.8,   4.5575,  34.1285,2,  34.1292,2,     71.8,2,    71.7,2,   94.62,2,   37.97,2,       0,2,    2.75,2,-999.000,9,-999.000,9,-999.000,9,-999.0000,9,  2296.6,2, 2320.82,2,   7.3817,2,       25,-999.000,9,-999.0000,9, -999.00,9, -999.00,9,  -999.0,9,  -999.0,-999.000,9,-999.000,     -999.0,9, -999.00,9, -999.00,9, -999.00,9,     -999.0,9,  -999.0,9, 20130418,      134,  29.9999, 155.8748,    34.2901,2,     -999.0,9,     -999.0,9,     4.5553,2,     -999.0,9,     -999.0,9,-999.0000, -999.00,-999.000
318M20130321,       P02W,      42,          1,         21,         21,2,20130417,       2339,    30.0002,   155.8748,       5797,   941.3,   4.0535,  34.2272,2,  34.2288,2,     53.6,2,    53.9,2,  110.53,2,   39.96,2,       0,2,     2.9,2,  -0.033,4,  -0.001,4,  -0.005,4,        0,4,  2323.9,2, 2338.63,2,   7.3556,2,       25,-999.000,9,-999.0000,9, -999.00,9, -999.00,9,  -999.0,9,  -999.0,-999.000,9,-999.000,     -999.0,9, -999.00,9, -999.00,9, -999.00,9,     -999.0,9,  -999.0,9, 20130418,      131,       30, 155.8747,    34.3902,2,     -999.0,9,     -999.0,9,     4.0523,2,     -999.0,9,     -999.0,9,-999.0000, -999.00,-999.000
318M20130321,       P02W,      42,          1,         20,         20,2,20130417,       2339,    30.0002,   155.8748,       5797,  1042.4,   3.6353,  34.3011,2,  34.3008,2,     44.5,2,    45.4,2,  122.63,2,   41.17,2,       0,2,    2.98,2,-999.000,9,-999.000,9,-999.000,9,-999.0000,9,  2341.5,2, 2353.74,2,   7.3443,2,       25,-999.000,9,-999.0000,9, -999.00,9, -999.00,9,  -999.0,9,  -999.0,-999.000,9,-999.000,     -999.0,9, -999.00,9, -999.00,9, -999.00,9,     -999.0,9,  -999.0,9, 20130418,      128,  30.0001, 155.8748,    34.4625,2,     -999.0,9,     -999.0,9,     3.6337,2,     -999.0,9,     -999.0,9,-999.0000, -999.00,-999.000
318M20130321,       P02W,      42,          1,         19,         19,2,20130417,       2339,    30.0002,   155.8748,       5797,  1143.6,   3.2817,  34.3592,2,  34.3622,2,     40.3,2,    40.2,2,  133.26,2,   41.98,2,       0,2,    3.04,2,   0.303,2,   0.152,2,   0.020,2,      0.1,2,  2355.3,2, 2366.24,2,     7.34,2,       25,-999.000,9,-999.0000,9, -999.00,9, -999.00,9,  -999.0,9,  -999.0,-999.000,9,-999.000,     -999.0,9, -999.00,9, -999.00,9, -999.00,9,     -999.0,9,  -999.0,9, 20130418,      125,       30,  155.875,    34.5242,2,     -999.0,9,     -999.0,9,     3.2839,2,     -999.0,9,     -999.0,9,-999.0000, -999.00,-999.000
318M20130321,       P02W,      42,          1,         18,         18,2,20130417,       2339,    30.0002,   155.8748,       5797,  1244.7,   2.9636,  34.4113,2,  34.4117,2,     38.3,2,    37.6,2,  142.34,2,    42.5,2,       0,2,    3.08,2,   0.177,2,   0.088,2,   0.009,2,      0.1,2,  2366.7,2, 2377.74,2,   7.3386,2,       25,-999.000,9,-999.0000,9, -999.00,9, -999.00,9,  -999.0,9,  -999.0,-999.000,9,-999.000,     -999.0,9, -999.00,9, -999.00,9, -999.00,9,     -999.0,9,  -999.0,9, 20130418,      122,  29.9999, 155.8748,    34.5739,2,     -999.0,9,     -999.0,9,     2.9633,2,     -999.0,9,     -999.0,9,-999.0000, -999.00,-999.000
318M20130321,       P02W,      42,          1,         17,         17,2,20130417,       2339,    30.0002,   155.8748,       5797,  1345.5,   2.7617,   34.452,2,  34.4513,2,     35.9,2,    35.6,2,   147.9,2,   43.02,2,       0,2,    3.09,2,   0.083,2,   0.045,2,  -0.001,2,     0.07,2,  2374.2,2, 2385.55,2,   7.3383,2,       25,-999.000,9,-999.0000,9, -999.00,9, -999.00,9,  -999.0,9,  -999.0,-999.000,9,-999.000,     -999.0,9, -999.00,9, -999.00,9, -999.00,9,     -999.0,9,  -999.0,9, 20130418,      120,       30, 155.8747,    34.6138,2,     -999.0,9,     -999.0,9,     2.7625,2,     -999.0,9,     -999.0,9,-999.0000, -999.00,-999.000
318M20130321,       P02W,      42,          1,         16,         16,2,20130417,       2339,    30.0002,   155.8748,       5797,  1479.4,   2.5708,  34.4871,2,  34.4869,2,     38.8,2,    38.7,2,  153.17,2,   43.04,2,       0,2,    3.08,2,   0.048,2,   0.031,2,   0.012,2,     0.08,2,  2379.1,2, 2392.95,2,   7.3464,2,       25,-999.000,9,-999.0000,9, -999.00,9, -999.00,9,  -999.0,9,  -999.0,-999.000,9,-999.000,     -999.0,9, -999.00,9, -999.00,9, -999.00,9,     -999.0,9,  -999.0,9, 20130418,      116,       30, 155.8749,    34.6495,2,     -999.0,9,     -999.0,9,     2.5708,2,     -999.0,9,     -999.0,9,-999.0000, -999.00,-999.000
318M20130321,       P02W,      42,          1,         15,         15,2,20130417,       2339,    30.0002,   155.8748,       5797,  1678.8,   2.2593,  34.5415,2,  34.5419,2,     51.1,2,      51,2,  160.29,2,   42.39,2,       0,2,    3.04,2,   0.022,2,   0.018,2,   0.001,2,     0.05,2,  2378.9,2, 2402.95,2,    7.375,2,       25,-999.000,9,-999.0000,9, -999.00,9, -999.00,9,  -999.0,9,  -999.0,-999.000,9,-999.000,     -999.0,9, -999.00,9, -999.00,9, -999.00,9,     -999.0,9,  -999.0,9, 20130418,      112,  29.9999, 155.8749,    34.7047,2,     -999.0,9,     -999.0,9,     2.2593,2,     -999.0,9,     -999.0,9,-999.0000, -999.00,-999.000
318M20130321,       P02W,      42,          1,         14,         14,2,20130417,       2339,    30.0002,   155.8748,       5797,  1883.3,   2.0819,  34.5794,2,  34.5796,2,     68.1,2,    68.7,2,  160.48,2,    41.3,2,       0,2,    2.94,2,-999.000,9,-999.000,9,-999.000,9,-999.0000,9,  2372.5,2, 2407.86,2,   7.4119,2,       25,-999.000,9,-999.0000,9, -999.00,9, -999.00,9,  -999.0,9,  -999.0,-999.000,9,-999.000,     -999.0,9, -999.00,9, -999.00,9, -999.00,9,     -999.0,9,  -999.0,9, 20130418,      107,  30.0001, 155.8749,    34.7426,2,     -999.0,9,     -999.0,9,     2.0819,2,     -999.0,9,     -999.0,9,-999.0000, -999.00,-999.000
318M20130321,       P02W,      42,          1,         13,         13,2,20130417,       2339,    30.0002,   155.8748,       5797,  2105.2,   1.8978,  34.6094,2,  34.6094,2,       86,2,    86.1,2,  161.16,2,   40.25,2,       0,2,    2.85,2,   0.033,2,   0.020,2,   0.014,2,     0.06,2,  2362.8,2, 2411.86,2,   7.4465,2,       25,-999.000,9,-999.0000,9, -999.00,9, -999.00,9,  -999.0,9,  -999.0,-999.000,9,-999.000,     -999.0,9, -999.00,9, -999.00,9, -999.00,9,     -999.0,9,  -999.0,9, 20130418,      102,  30.0002, 155.8748,    34.7726,2,     -999.0,9,     -999.0,9,      1.898,2,     -999.0,9,     -999.0,9,-999.0000, -999.00,-999.000
318M20130321,       P02W,      42,          1,         12,         12,2,20130417,       2339,    30.0002,   155.8748,       5797,  2360.6,   1.7369,  34.6344,2,  34.6348,2,    103.1,2,   103.7,2,  159.79,2,   39.05,2,       0,2,    2.76,2,-999.000,9,-999.000,9,-999.000,9,-999.0000,9,  -999.0,9, -999.00,9,-999.0000,9,  -999.00,-999.000,9,-999.0000,9, -999.00,9, -999.00,9,  -999.0,9,  -999.0,-999.000,9,-999.000,     -999.0,9, -999.00,9, -999.00,9, -999.00,9,     -999.0,9,  -999.0,9, 20130418,       56,  30.0003, 155.8745,    34.7981,2,     -999.0,9,     -999.0,9,     1.7366,2,     -999.0,9,     -999.0,9,-999.0000, -999.00,-999.000
318M20130321,       P02W,      42,          1,         11,         11,2,20130417,       2339,    30.0002,   155.8748,       5797,  2615.2,   1.6406,  34.6486,2,  34.6487,2,    114.1,2,     115,2,  158.71,2,   38.37,2,       0,2,    2.71,2,   0.025,2,   0.022,2,   0.003,2,     0.04,2,  2347.6,2, 2415.36,2,   7.5028,2,       25,-999.000,9,-999.0000,9, -999.00,9, -999.00,9,  -999.0,9,  -999.0,-999.000,9,-999.000,     -999.0,9, -999.00,9, -999.00,9, -999.00,9,     -999.0,9,  -999.0,9, 20130418,       51,  30.0004, 155.8748,    34.8121,2,     -999.0,9,     -999.0,9,     1.6404,2,     -999.0,9,     -999.0,9,-999.0000, -999.00,-999.000
318M20130321,       P02W,      42,          1,         10,         10,2,20130417,       2339,    30.0002,   155.8748,       5797,  2868.8,   1.5715,  34.6596,2,  34.6596,2,    124.9,2,   124.7,2,  157.05,2,   37.72,2,       0,2,    2.65,2,-999.000,9,-999.000,9,-999.000,9,-999.0000,9,  -999.0,9, -999.00,9,-999.0000,9,  -999.00,-999.000,9,-999.0000,9, -999.00,9, -999.00,9,  -999.0,9,  -999.0,-999.000,9,-999.000,     -999.0,9, -999.00,9, -999.00,9, -999.00,9,     -999.0,9,  -999.0,9, 20130418,       46,       30, 155.8745,     34.823,2,     -999.0,9,     -999.0,9,     1.5713,2,     -999.0,9,     -999.0,9,-999.0000, -999.00,-999.000
318M20130321,       P02W,      42,          1,          9,          9,2,20130417,       2339,    30.0002,   155.8748,       5797,  3138.4,   1.5239,  34.6681,2,  34.6678,2,    133.3,2,   132.8,2,  154.81,2,   37.15,2,       0,2,    2.62,2,   0.016,2,   0.014,2,  -0.001,2,     0.05,2,  -999.0,9, -999.00,9,-999.0000,9,  -999.00,-999.000,9,-999.0000,9, -999.00,9, -999.00,9,  -999.0,9,  -999.0,-999.000,9,-999.000,     -999.0,9, -999.00,9, -999.00,9, -999.00,9,     -999.0,9,  -999.0,9, 20130418,       40,  30.0002, 155.8747,    34.8313,2,     -999.0,9,     -999.0,9,     1.5239,2,     -999.0,9,     -999.0,9,-999.0000, -999.00,-999.000
318M20130321,       P02W,      42,          1,          8,          8,2,20130417,       2339,    30.0002,   155.8748,       5797,  3445.9,   1.4919,  34.6741,2,  34.6737,2,    139.1,2,   138.9,2,  154.81,2,   36.79,2,       0,2,    2.59,2,-999.000,9,-999.000,9,-999.000,9,-999.0000,9,  2333.6,2, 2415.86,2,    7.545,2,       25,-999.000,9,-999.0000,9, -999.00,9, -999.00,9,  -999.0,9,  -999.0,-999.000,9,-999.000,     -999.0,9, -999.00,9, -999.00,9, -999.00,9,     -999.0,9,  -999.0,9, 20130418,       34,  30.0001,  155.875,    34.8372,2,     -999.0,9,     -999.0,9,     1.4925,2,     -999.0,9,     -999.0,9,-999.0000, -999.00,-999.000