BOTTLE,20220817CCHSIOAMB
EXPOCODE,SECT_ID,STNNBR,CASTNO,SAMPNO,BTLNBR,BTLNBR_FLAG_W,DATE,TIME,LATITUDE,LONGITUDE,DEPTH,CTDPRS,CTDTMP,CTDSAL,CTDSAL_FLAG_W,SALNTY,SALNTY_FLAG_W,CTDOXY,CTDOXY_FLAG_W,OXYGEN,OXYGEN_FLAG_W,SILCAT,SILCAT_FLAG_W,NITRAT,NITRAT_FLAG_W,NITRIT,NITRIT_FLAG_W,PHSPHT,PHSPHT_FLAG_W,CFC-11,CFC-11_FLAG_W,CFC-12,CFC-12_FLAG_W,CFC113,CFC113_FLAG_W,SF6,SF6_FLAG_W,TCARBN,TCARBN_FLAG_W,ALKALI,ALKALI_FLAG_W,PH_TOT,PH_TOT_FLAG_W,PH_TMP,TRITUM,TRITUM_FLAG_W,HELIUM,HELIUM_FLAG_W,DELHE3,DELHE3_FLAG_W,DELC13,DELC13_FLAG_W,DELC14,DELC14_FLAG_W,C14ERR,NEON,NEON_FLAG_W,NEONER,I-129,I-129_FLAG_W,SR-90,SR-90_FLAG_W,DOC,DOC_FLAG_W,TDN,TDN_FLAG_W,CALCIUM,CALCIUM_FLAG_W,D15N_NO3,D15N_NO3_FLAG_W,BTL_DATE,BTL_TIME,BTL_LAT,BTL_LON,SALTREF,SALTREF_FLAG_W,CS-137,CS-137_FLAG_W,CS-134,CS-134_FLAG_W,REFTMP,REFTMP_FLAG_W,LAB_DEN,LAB_DEN_FLAG_W,D18O_NO3,D18O_NO3_FLAG_W,HELIER,DELHER,TRITER
,,,,,,,,,,,METERS,DBAR,ITS-90,PSS-78,,PSS-78,,UMOL/KG,,UMOL/KG,,UMOL/KG,,UMOL/KG,,UMOL/KG,,UMOL/KG,,PMOL/KG,,PMOL/KG,,PMOL/KG,,FMOL/KG,,UMOL/KG,,UMOL/KG,,,,DEG C,TU,,NMOL/KG,,PERCNT,,/MILLE,,/MILLE,,/MILLE,NMOL/KG,,NMOL/KG,BQ/M^3,,DM/.1MG,,UMOL/KG,,UMOL/KG,,MMOL/KG,,/MILLE,,,,,,G/KG,,BQ/M^3,,BQ/M^3,,ITS-90,,,,/MILLE,,NMOL/KG,PERCNT,TU
318M20130321,       P02E,     117,          1,          5,         37,2,20130521,       1638,    30.0004,  -141.8127,       4919,  3959.9,   1.4709,  34.6837,2,  34.6831,2,    144.6,2,   144.3,2,  160.86,2,   36.73,2,       0,2,    2.58,2,   0.006,2,   0.007,2,-999.000,1,        0,2,  -999.0,9, -999.00,9,-999.0000,9,  -999.00,-999.000,9,-999.0000,9, -999.00,9, -999.00,9,  -999.0,9,  -999.0,-999.000,9,-999.000,     -999.0,9, -999.00,9,   35.88,2, -999.00,9,     -999.0,9,  -999.0,9, 20130521,     1659,  29.9996,-141.8133,    34.8467,2,     -999.0,9,     -999.0,9,      1.471,2,     -999.0,9,     -999.0,9,-999.0000, -999.00,-999.000
318M20130321,       P02E,     117,          1,          4,          4,2,20130521,       1638,    30.0004,  -141.8127,       4919,  4367.3,   1.4908,  34.6865,2,  34.6855,2,    149.5,2,   149.6,2,  155.98,2,   36.39,2,       0,2,    2.55,2,   0.008,2,   0.005,2,-999.000,1,        0,2,  2330.9,2, 2424.16,6,   7.5715,2,       25,-999.000,9,-999.0000,9, -999.00,9, -999.00,9,  -999.0,9,  -999.0,-999.000,9,-999.000,     -999.0,9, -999.00,9,   35.15,2, -999.00,9,     -999.0,9,  -999.0,9, 20130521,     1651,  29.9995,-141.8122,    34.8491,2,     -999.0,9,     -999.0,9,     1.4908,2,     -999.0,9,     -999.0,9,-999.0000, -999.00,-999.000
318M20130321,       P02E,     117,          1,          3,          3,2,20130521,       1638,    30.0004,  -141.8127,       4919,  4779.9,   1.5243,  34.6881,2,  34.6875,2,    153.3,2,   153.1,2,  153.93,2,   36.11,2,       0,2,    2.53,2,   0.013,2,   0.011,2,-999.000,1,        0,2,  -999.0,9, -999.00,9,-999.0000,9,  -999.00,-999.000,9,-999.0000,9, -999.00,9, -999.00,9,  -999.0,9,  -999.0,-999.000,9,-999.000,     -999.0,9, -999.00,9,   35.47,2, -999.00,9,     -999.0,9,  -999.0,9, 20130521,     1643,  30.0007,-141.8127,     34.851,2,     -999.0,9,     -999.0,9,      1.524,2,     -999.0,9,     -999.0,9,-999.0000, -999.00,-999.000
318M20130321,       P02E,     117,          1,          2,          2,2,20130521,       1638,    30.0004,  -141.8127,       4919,  4988.5,   1.5497,  34.6881,2,  34.6875,2,    153.5,2,   153.3,2,  153.14,2,   36.09,2,       0,2,    2.52,2,   0.007,2,   0.009,2,-999.000,1,        0,2,  2327.5,6, 2421.66,2,   7.5759,2,       25,-999.000,9,-999.0000,9, -999.00,9, -999.00,9,  -999.0,9,  -999.0,-999.000,9,-999.000,     -999.0,9, -999.00,9,   34.63,2, -999.00,9,     -999.0,9,  -999.0,9, 20130521,     1638,  30.0004,-141.8127,    34.8511,2,     -999.0,9,     -999.0,9,     1.5494,2,     -999.0,9,     -999.0,9,-999.0000, -999.00,-999.000