BOTTLE,20220817CCHSIOAMB
EXPOCODE,SECT_ID,STNNBR,CASTNO,SAMPNO,BTLNBR,BTLNBR_FLAG_W,DATE,TIME,LATITUDE,LONGITUDE,DEPTH,CTDPRS,CTDTMP,CTDSAL,CTDSAL_FLAG_W,SALNTY,SALNTY_FLAG_W,CTDOXY,CTDOXY_FLAG_W,OXYGEN,OXYGEN_FLAG_W,SILCAT,SILCAT_FLAG_W,NITRAT,NITRAT_FLAG_W,NITRIT,NITRIT_FLAG_W,PHSPHT,PHSPHT_FLAG_W,CFC-11,CFC-11_FLAG_W,CFC-12,CFC-12_FLAG_W,CFC113,CFC113_FLAG_W,SF6,SF6_FLAG_W,TCARBN,TCARBN_FLAG_W,ALKALI,ALKALI_FLAG_W,PH_TOT,PH_TOT_FLAG_W,PH_TMP,TRITUM,TRITUM_FLAG_W,HELIUM,HELIUM_FLAG_W,DELHE3,DELHE3_FLAG_W,DELC13,DELC13_FLAG_W,DELC14,DELC14_FLAG_W,C14ERR,NEON,NEON_FLAG_W,NEONER,I-129,I-129_FLAG_W,SR-90,SR-90_FLAG_W,DOC,DOC_FLAG_W,TDN,TDN_FLAG_W,CALCIUM,CALCIUM_FLAG_W,D15N_NO3,D15N_NO3_FLAG_W,BTL_DATE,BTL_TIME,BTL_LAT,BTL_LON,SALTREF,SALTREF_FLAG_W,CS-137,CS-137_FLAG_W,CS-134,CS-134_FLAG_W,REFTMP,REFTMP_FLAG_W,LAB_DEN,LAB_DEN_FLAG_W,D18O_NO3,D18O_NO3_FLAG_W,HELIER,DELHER,TRITER
,,,,,,,,,,,METERS,DBAR,ITS-90,PSS-78,,PSS-78,,UMOL/KG,,UMOL/KG,,UMOL/KG,,UMOL/KG,,UMOL/KG,,UMOL/KG,,PMOL/KG,,PMOL/KG,,PMOL/KG,,FMOL/KG,,UMOL/KG,,UMOL/KG,,,,DEG C,TU,,NMOL/KG,,PERCNT,,/MILLE,,/MILLE,,/MILLE,NMOL/KG,,NMOL/KG,BQ/M^3,,DM/.1MG,,UMOL/KG,,UMOL/KG,,MMOL/KG,,/MILLE,,,,,,G/KG,,BQ/M^3,,BQ/M^3,,ITS-90,,,,/MILLE,,NMOL/KG,PERCNT,TU
318M20130321,       P02W,      72,          1,          6,          6,2,20130427,       2253,    30.0002,   178.4468,       5060,  3650.3,     1.46,  34.6797,2,  34.6804,2,    143.2,2,   143.5,2,  155.29,2,   36.59,2,       0,2,    2.59,2,   0.000,2,   0.011,2,   0.000,2,     0.12,2,  -999.0,9, -999.00,9,-999.0000,9,  -999.00,-999.000,9,-999.0000,9, -999.00,9, -999.00,9,  -999.0,9,  -999.0,-999.000,9,-999.000,     -999.0,9, -999.00,9, -999.00,9, -999.00,9,     -999.0,9,  -999.0,1, 20130427,     2323,  29.9998, 178.4465,     34.844,2,     -999.0,9,     -999.0,9,     1.4597,2,     -999.0,9,     -999.0,1,-999.0000, -999.00,-999.000
318M20130321,       P02W,      72,          1,          5,         37,2,20130427,       2253,    30.0002,   178.4468,       5060,  3956.9,   1.4508,   34.684,2,  34.6848,2,      149,2,   150.5,2,  153.54,2,   36.26,2,       0,2,    2.56,2,-999.000,9,-999.000,9,-999.000,9,-999.0000,9,  2325.2,2, 2417.76,2,   7.5662,6,       25,-999.000,9,-999.0000,9, -999.00,9, -999.00,9,  -999.0,9,  -999.0,-999.000,9,-999.000,     -999.0,9, -999.00,9, -999.00,9, -999.00,9,     -999.0,9,  -999.0,1, 20130427,     2317,  29.9997, 178.4466,    34.8483,2,     -999.0,9,     -999.0,9,     1.4505,2,     -999.0,9,     -999.0,1,-999.0000, -999.00,-999.000
318M20130321,       P02W,      72,          1,          4,          4,2,20130427,       2253,    30.0002,   178.4468,       5060,  4244.6,   1.4568,  34.6868,2,  34.6877,2,      152,2,   151.9,2,  152.27,2,      36,2,       0,2,    2.53,2,   0.000,2,   0.009,2,   0.000,2,      0.1,2,  -999.0,9, -999.00,9,-999.0000,9,  -999.00,-999.000,9,-999.0000,9, -999.00,9, -999.00,9,  -999.0,9,  -999.0,-999.000,9,-999.000,     -999.0,9, -999.00,9, -999.00,9, -999.00,9,     -999.0,9,  -999.0,1, 20130427,     2312,  29.9996, 178.4471,    34.8513,2,     -999.0,9,     -999.0,9,     1.4565,2,     -999.0,9,     -999.0,1,-999.0000, -999.00,-999.000
318M20130321,       P02W,      72,          1,          3,          3,2,20130427,       2253,    30.0002,   178.4468,       5060,  4676.9,   1.4651,  34.6908,2,  34.6912,2,    159.7,2,   159.7,2,  147.19,2,   35.48,2,       0,2,    2.51,2,   0.000,2,   0.009,2,   0.000,2,     0.04,2,  2314.9,2, 2411.76,6,   7.5852,2,       25,-999.000,9,-999.0000,9, -999.00,9, -999.00,9,  -999.0,9,  -999.0,-999.000,9,-999.000,     -999.0,9, -999.00,9, -999.00,9, -999.00,9,     -999.0,9,  -999.0,1, 20130427,     2303,       30, 178.4464,    34.8548,2,     -999.0,9,     -999.0,9,      1.465,2,     -999.0,9,     -999.0,1,-999.0000, -999.00,-999.000
318M20130321,       P02W,      72,          1,          2,          2,2,20130427,       2253,    30.0002,   178.4468,       5060,  4930.9,    1.471,  34.6929,2,  34.6936,2,    165.4,2,   164.5,2,  143.38,2,   35.17,2,       0,2,    2.47,2,   0.000,2,   0.006,2,   0.000,2,     0.06,2,  2311.9,2, 2410.16,2,   7.5855,2,       25,-999.000,9,-999.0000,9, -999.00,9, -999.00,9,  -999.0,9,  -999.0,-999.000,9,-999.000,     -999.0,9, -999.00,9, -999.00,9, -999.00,9,     -999.0,9,  -999.0,1, 20130427,     2258,       30, 178.4465,    34.8572,2,     -999.0,9,     -999.0,9,     1.4714,2,     -999.0,9,     -999.0,1,-999.0000, -999.00,-999.000
318M20130321,       P02W,      72,          1,          1,          1,2,20130427,       2253,    30.0002,   178.4468,       5060,  5143.8,   1.4858,  34.6938,2,  34.6944,2,      167,2,   166.3,2,  141.72,2,   34.99,2,       0,2,    2.44,2,   0.000,2,   0.012,2,   0.000,2,        0,2,  2311.5,6, 2409.36,2,   7.5879,2,       25,-999.000,9,-999.0000,9, -999.00,9, -999.00,9,  -999.0,9,  -999.0,-999.000,9,-999.000,     -999.0,9, -999.00,9, -999.00,9, -999.00,9,     -999.0,9,  -999.0,1, 20130427,     2253,  30.0002, 178.4468,     34.858,2,     -999.0,9,     -999.0,9,     1.4858,2,     -999.0,9,     -999.0,1,-999.0000, -999.00,-999.000