BOTTLE,20220817CCHSIOAMB
EXPOCODE,SECT_ID,STNNBR,CASTNO,SAMPNO,BTLNBR,BTLNBR_FLAG_W,DATE,TIME,LATITUDE,LONGITUDE,DEPTH,CTDPRS,CTDTMP,CTDSAL,CTDSAL_FLAG_W,SALNTY,SALNTY_FLAG_W,CTDOXY,CTDOXY_FLAG_W,OXYGEN,OXYGEN_FLAG_W,SILCAT,SILCAT_FLAG_W,NITRAT,NITRAT_FLAG_W,NITRIT,NITRIT_FLAG_W,PHSPHT,PHSPHT_FLAG_W,CFC-11,CFC-11_FLAG_W,CFC-12,CFC-12_FLAG_W,CFC113,CFC113_FLAG_W,SF6,SF6_FLAG_W,TCARBN,TCARBN_FLAG_W,ALKALI,ALKALI_FLAG_W,PH_TOT,PH_TOT_FLAG_W,PH_TMP,TRITUM,TRITUM_FLAG_W,HELIUM,HELIUM_FLAG_W,DELHE3,DELHE3_FLAG_W,DELC13,DELC13_FLAG_W,DELC14,DELC14_FLAG_W,C14ERR,NEON,NEON_FLAG_W,NEONER,I-129,I-129_FLAG_W,SR-90,SR-90_FLAG_W,DOC,DOC_FLAG_W,TDN,TDN_FLAG_W,CALCIUM,CALCIUM_FLAG_W,D15N_NO3,D15N_NO3_FLAG_W,BTL_DATE,BTL_TIME,BTL_LAT,BTL_LON,SALTREF,SALTREF_FLAG_W,CS-137,CS-137_FLAG_W,CS-134,CS-134_FLAG_W,REFTMP,REFTMP_FLAG_W,LAB_DEN,LAB_DEN_FLAG_W,D18O_NO3,D18O_NO3_FLAG_W,HELIER,DELHER,TRITER
,,,,,,,,,,,METERS,DBAR,ITS-90,PSS-78,,PSS-78,,UMOL/KG,,UMOL/KG,,UMOL/KG,,UMOL/KG,,UMOL/KG,,UMOL/KG,,PMOL/KG,,PMOL/KG,,PMOL/KG,,FMOL/KG,,UMOL/KG,,UMOL/KG,,,,DEG C,TU,,NMOL/KG,,PERCNT,,/MILLE,,/MILLE,,/MILLE,NMOL/KG,,NMOL/KG,BQ/M^3,,DM/.1MG,,UMOL/KG,,UMOL/KG,,MMOL/KG,,/MILLE,,,,,,G/KG,,BQ/M^3,,BQ/M^3,,ITS-90,,,,/MILLE,,NMOL/KG,PERCNT,TU
318M20130321,       P02W,      72,          1,         36,         36,2,20130427,       2253,    30.0002,   178.4468,       5060,     3.2,  19.2054,  35.0056,2,  35.0069,2,    231.6,2,   231.2,2,    1.95,2,       0,2,       0,2,       0,2,-999.000,9,-999.000,9,-999.000,9,-999.0000,9,  2016.7,2, 2298.32,2,   8.0135,2,       25,-999.000,9,-999.0000,9, -999.00,9, -999.00,9,  -999.0,9,  -999.0,-999.000,9,-999.000,     -999.0,9, -999.00,1, -999.00,9, -999.00,9,     -999.0,9,  -999.0,1, 20130428,       56,  29.9996, 178.4475,     35.172,2,     -999.0,1,     -999.0,1,    19.2057,2,     -999.0,9,     -999.0,1,-999.0000, -999.00,-999.000
318M20130321,       P02W,      72,          1,         35,         35,2,20130427,       2253,    30.0002,   178.4468,       5060,     3.3,  19.2059,  35.0058,2,  35.0065,2,    231.8,2,   231.4,2,    2.05,2,       0,2,       0,2,       0,2,   2.885,2,   1.484,2,   0.199,2,     2.08,2,  -999.0,9, -999.00,9,-999.0000,9,  -999.00,-999.000,9,-999.0000,9, -999.00,9, -999.00,9,  -999.0,9,  -999.0,-999.000,9,-999.000,     -999.0,9, -999.00,9, -999.00,9, -999.00,9,     -999.0,9,  -999.0,1, 20130428,       56,  29.9996, 178.4475,    35.1716,2,     -999.0,9,     -999.0,9,    19.2046,2,     -999.0,9,     -999.0,1,-999.0000, -999.00,-999.000
318M20130321,       P02W,      72,          1,         34,         34,2,20130427,       2253,    30.0002,   178.4468,       5060,    32.6,  19.1295,  34.9895,2,  34.9909,2,      233,2,   231.7,2,    1.95,2,       0,2,       0,2,       0,2,   2.414,2,   1.478,2,   0.204,2,     1.56,2,  -999.0,9, -999.00,9,-999.0000,9,  -999.00,-999.000,9,-999.0000,9, -999.00,9, -999.00,9,  -999.0,9,  -999.0,-999.000,9,-999.000,     -999.0,9, -999.00,1, -999.00,9, -999.00,9,     -999.0,9,  -999.0,1, 20130428,       54,  29.9997, 178.4473,    35.1559,2,     -999.0,1,     -999.0,1,    19.1303,2,     -999.0,9,     -999.0,1,-999.0000, -999.00,-999.000
318M20130321,       P02W,      72,          1,         33,         33,2,20130427,       2253,    30.0002,   178.4468,       5060,    57.7,  18.5744,  34.8841,2,  34.8934,3,    234.6,2,   234.2,2,    2.15,2,       0,2,       0,2,       0,2,-999.000,9,-999.000,9,-999.000,9,-999.0000,9,  2015.3,2, 2289.71,2,   8.0057,2,       25,-999.000,9,-999.0000,9, -999.00,9, -999.00,9,  -999.0,9,  -999.0,-999.000,9,-999.000,     -999.0,1, -999.00,1, -999.00,9, -999.00,9,     -999.0,9,  -999.0,1, 20130428,       52,  29.9997, 178.4472,    35.0579,3,     -999.0,1,     -999.0,1,    18.5544,2,     -999.0,9,     -999.0,1,-999.0000, -999.00,-999.000
318M20130321,       P02W,      72,          1,         32,         32,2,20130427,       2253,    30.0002,   178.4468,       5060,    82.5,  17.7356,   34.747,2,  34.7475,2,    217.9,2,   234.1,3,    2.24,2,    0.58,2,    0.04,2,    0.04,2,   2.579,2,   1.568,2,   0.197,2,     1.58,2,  2017.1,2, 2281.71,2,   7.9889,6,       25,-999.000,9,-999.0000,9, -999.00,9, -999.00,9,  -999.0,9,  -999.0,-999.000,9,-999.000,     -999.0,9, -999.00,1, -999.00,9, -999.00,9,     -999.0,9,  -999.0,1, 20130428,       50,  29.9997, 178.4471,    34.9113,2,     -999.0,1,     -999.0,1,    17.7376,2,     -999.0,9,     -999.0,1,-999.0000, -999.00,-999.000
318M20130321,       P02W,      72,          1,         31,         31,2,20130427,       2253,    30.0002,   178.4468,       5060,   112.9,   17.185,  34.6929,2,  34.6946,2,    238.5,2,   238.8,2,    1.66,2,    0.03,2,    0.04,2,    0.03,2,-999.000,9,-999.000,9,-999.000,9,-999.0000,9,  -999.0,9, -999.00,9,-999.0000,9,  -999.00,-999.000,9,-999.0000,9, -999.00,9, -999.00,9,  -999.0,9,  -999.0,-999.000,9,-999.000,     -999.0,9, -999.00,1, -999.00,9, -999.00,9,     -999.0,9,  -999.0,1, 20130428,       48,  29.9998, 178.4469,    34.8582,2,     -999.0,1,     -999.0,1,     17.184,2,     -999.0,9,     -999.0,1,-999.0000, -999.00,-999.000
318M20130321,       P02W,      72,          1,         30,         30,2,20130427,       2253,    30.0002,   178.4468,       5060,   163.5,   16.487,  34.6394,2,  34.6403,2,    207.5,2,   207.9,2,    5.08,2,    5.27,2,    0.02,2,    0.32,2,   2.717,2,   1.642,2,   0.076,2,     1.54,2,    2043,2, 2274.01,2,   7.9263,2,       25,-999.000,9,-999.0000,9, -999.00,9, -999.00,9,  -999.0,9,  -999.0,-999.000,9,-999.000,     -999.0,9, -999.00,1, -999.00,9, -999.00,9,     -999.0,9,  -999.0,1, 20130428,       47,  29.9999, 178.4467,    34.8037,2,     -999.0,1,     -999.0,1,    16.4862,2,     -999.0,9,     -999.0,1,-999.0000, -999.00,-999.000
318M20130321,       P02W,      72,          1,         29,         29,2,20130427,       2253,    30.0002,   178.4468,       5060,   214.7,  15.4301,    34.56,2,   34.561,2,    205.1,2,   205.2,2,    6.93,2,    6.97,2,    0.01,2,    0.45,2,-999.000,9,-999.000,9,-999.000,9,-999.0000,9,  -999.0,9, -999.00,9,-999.0000,9,  -999.00,-999.000,9,-999.0000,9, -999.00,9, -999.00,9,  -999.0,9,  -999.0,-999.000,9,-999.000,     -999.0,9, -999.00,1, -999.00,9, -999.00,9,     -999.0,9,  -999.0,1, 20130428,       45,       30, 178.4465,    34.7239,2,     -999.0,1,     -999.0,1,    15.4297,2,     -999.0,9,     -999.0,1,-999.0000, -999.00,-999.000
318M20130321,       P02W,      72,          1,         28,         28,2,20130427,       2253,    30.0002,   178.4468,       5060,   264.8,  14.3106,   34.489,2,  34.4895,2,    203.1,2,   203.5,2,   10.15,2,    9.12,2,    0.01,2,     0.6,2,   2.960,2,   1.727,2,   0.060,2,     1.72,2,  2068.6,2, 2270.61,2,   7.8642,2,       25,-999.000,9,-999.0000,9, -999.00,9, -999.00,9,  -999.0,9,  -999.0,-999.000,9,-999.000,     -999.0,9, -999.00,1, -999.00,9, -999.00,9,     -999.0,9,  -999.0,1, 20130428,       43,       30, 178.4464,    34.6521,2,     -999.0,1,     -999.0,1,    14.3044,2,     -999.0,9,     -999.0,1,-999.0000, -999.00,-999.000
318M20130321,       P02W,      72,          1,         27,         27,2,20130427,       2253,    30.0002,   178.4468,       5060,     316,  13.2872,  34.4225,2,  34.4241,2,    205.7,2,   205.1,2,   12.69,2,   10.69,2,    0.01,2,    0.71,2,-999.000,9,-999.000,9,-999.000,9,-999.0000,9,  -999.0,9, -999.00,9,-999.0000,9,  -999.00,-999.000,9,-999.0000,9, -999.00,9, -999.00,9,  -999.0,9,  -999.0,-999.000,9,-999.000,     -999.0,9, -999.00,1, -999.00,9, -999.00,9,     -999.0,9,  -999.0,1, 20130428,       41,  30.0002, 178.4463,    34.5865,2,     -999.0,1,     -999.0,1,    13.2981,2,     -999.0,9,     -999.0,1,-999.0000, -999.00,-999.000
318M20130321,       P02W,      72,          1,         26,         26,2,20130427,       2253,    30.0002,   178.4468,       5060,   366.6,   12.206,   34.344,2,  34.3407,2,      210,2,   208.9,2,   15.33,2,   12.27,2,    0.01,2,    0.83,2,   3.198,2,   1.844,2,   0.087,2,     1.51,2,    2091,2, 2268.41,2,   7.8132,2,       25,-999.000,9,-999.0000,9, -999.00,9, -999.00,9,  -999.0,9,  -999.0,-999.000,9,-999.000,     -999.0,9, -999.00,1, -999.00,9, -999.00,9,     -999.0,9,  -999.0,1, 20130428,       39,  30.0002, 178.4463,    34.5027,2,     -999.0,1,     -999.0,1,    12.2156,2,     -999.0,9,     -999.0,1,-999.0000, -999.00,-999.000
318M20130321,       P02W,      72,          1,         25,         25,2,20130427,       2253,    30.0002,   178.4468,       5060,   436.6,  10.5599,    34.22,2,  34.2193,2,    203.4,2,   202.1,2,   21.77,2,    15.8,2,       0,2,    1.07,2,-999.000,9,-999.000,9,-999.000,9,-999.0000,9,  -999.0,9, -999.00,9,-999.0000,9,  -999.00,-999.000,9,-999.0000,9, -999.00,9, -999.00,9,  -999.0,9,  -999.0,-999.000,9,-999.000,     -999.0,9, -999.00,1, -999.00,9, -999.00,9,     -999.0,9,  -999.0,1, 20130428,       37,  30.0001, 178.4462,    34.3807,2,     -999.0,1,     -999.0,1,    10.5589,2,     -999.0,9,     -999.0,1,-999.0000, -999.00,-999.000
318M20130321,       P02W,      72,          1,         24,         24,2,20130427,       2253,    30.0002,   178.4468,       5060,   538.7,   8.3234,  34.0885,2,  34.0878,2,    169.6,2,   170.3,2,   37.01,2,   22.82,2,       0,2,    1.59,2,   3.174,2,   1.707,2,   0.112,2,     3.53,2,  2164.3,2, 2274.01,2,   7.6408,2,       25,-999.000,9,-999.0000,9, -999.00,9, -999.00,9,  -999.0,9,  -999.0,-999.000,9,-999.000,     -999.0,9, -999.00,1, -999.00,9, -999.00,9,     -999.0,9,  -999.0,1, 20130428,       35,       30, 178.4461,    34.2485,2,     -999.0,1,     -999.0,1,     8.3243,2,     -999.0,9,     -999.0,1,-999.0000, -999.00,-999.000
318M20130321,       P02W,      72,          1,         23,         23,2,20130427,       2253,    30.0002,   178.4468,       5060,   639.9,   6.0908,  34.0192,2,  34.0202,2,    124.3,2,   125.8,2,   62.21,2,   30.92,2,       0,2,    2.21,2,-999.000,9,-999.000,9,-999.000,9,-999.0000,9,  -999.0,9, -999.00,9,-999.0000,9,  -999.00,-999.000,9,-999.0000,9, -999.00,9, -999.00,9,  -999.0,9,  -999.0,-999.000,9,-999.000,     -999.0,9, -999.00,1, -999.00,9, -999.00,9,     -999.0,9,  -999.0,1, 20130428,       32,  29.9998, 178.4461,    34.1806,2,     -999.0,1,     -999.0,1,     6.1018,2,     -999.0,9,     -999.0,1,-999.0000, -999.00,-999.000
318M20130321,       P02W,      72,          1,         22,         22,2,20130427,       2253,    30.0002,   178.4468,       5060,   741.3,   5.1566,  34.0823,2,  34.0833,2,     82.4,2,    83.6,2,   80.76,2,   36.07,2,       0,2,    2.61,2,   1.571,2,   0.809,2,   0.057,2,     0.34,2,  2276.2,2, 2301.72,2,   7.4135,6,       25,-999.000,9,-999.0000,9, -999.00,9, -999.00,9,  -999.0,9,  -999.0,-999.000,9,-999.000,     -999.0,9, -999.00,9, -999.00,9, -999.00,9,     -999.0,9,  -999.0,1, 20130428,       29,  29.9998, 178.4459,     34.244,2,     -999.0,9,     -999.0,9,      5.168,2,     -999.0,9,     -999.0,1,-999.0000, -999.00,-999.000
318M20130321,       P02W,      72,          1,         21,         21,2,20130427,       2253,    30.0002,   178.4468,       5060,   838.4,   4.3602,  34.1688,2,  34.1697,2,     52.1,2,    51.4,2,  100.57,2,   40.05,2,       0,2,    2.87,2,-999.000,9,-999.000,9,-999.000,9,-999.0000,9,  2316.1,2, 2328.03,2,   7.3497,2,       25,-999.000,9,-999.0000,9, -999.00,9, -999.00,9,  -999.0,9,  -999.0,-999.000,9,-999.000,     -999.0,9, -999.00,9, -999.00,9, -999.00,9,     -999.0,9,  -999.0,1, 20130428,       26,  29.9999, 178.4458,    34.3308,2,     -999.0,9,     -999.0,9,      4.357,2,     -999.0,9,     -999.0,1,-999.0000, -999.00,-999.000
318M20130321,       P02W,      72,          1,         20,         20,2,20130427,       2253,    30.0002,   178.4468,       5060,   940.2,   3.7664,  34.2702,2,  34.2707,2,     35.4,2,    32.9,2,  118.04,2,    42.3,2,       0,2,    3.07,2,   0.368,2,   0.199,2,   0.015,2,     0.08,2,    2346,6, 2350.13,2,   7.3196,2,       25,-999.000,9,-999.0000,9, -999.00,9, -999.00,9,  -999.0,9,  -999.0,-999.000,9,-999.000,     -999.0,9, -999.00,9, -999.00,9, -999.00,9,     -999.0,9,  -999.0,1, 20130428,       24,  29.9999, 178.4458,    34.4323,2,     -999.0,9,     -999.0,9,     3.7682,2,     -999.0,9,     -999.0,1,-999.0000, -999.00,-999.000
318M20130321,       P02W,      72,          1,         19,         19,2,20130427,       2253,    30.0002,   178.4468,       5060,  1041.8,   3.4587,   34.332,2,  34.3344,2,     26.8,2,      26,2,   127.9,2,   43.13,2,       0,2,    3.12,2,-999.000,9,-999.000,9,-999.000,9,-999.0000,9,  -999.0,9, -999.00,9,-999.0000,9,  -999.00,-999.000,9,-999.0000,9, -999.00,9, -999.00,9,  -999.0,9,  -999.0,-999.000,9,-999.000,     -999.0,9, -999.00,9, -999.00,9, -999.00,9,     -999.0,9,  -999.0,1, 20130428,       21,  29.9996, 178.4459,    34.4964,2,     -999.0,9,     -999.0,9,     3.4604,2,     -999.0,9,     -999.0,1,-999.0000, -999.00,-999.000
318M20130321,       P02W,      72,          1,         18,         18,2,20130427,       2253,    30.0002,   178.4468,       5060,  1143.7,   3.2263,  34.3875,2,   34.389,2,     24.3,2,    25.7,2,  135.12,2,   43.48,2,       0,2,    3.17,2,   0.084,2,   0.057,2,   0.012,2,     0.06,2,  2370.2,2, 2372.34,6,   7.3178,2,       25,-999.000,9,-999.0000,9, -999.00,9, -999.00,9,  -999.0,9,  -999.0,-999.000,9,-999.000,     -999.0,9, -999.00,9, -999.00,9, -999.00,9,     -999.0,9,  -999.0,1, 20130428,       18,  29.9996,  178.446,    34.5512,2,     -999.0,9,     -999.0,9,      3.226,2,     -999.0,9,     -999.0,1,-999.0000, -999.00,-999.000
318M20130321,       P02W,      72,          1,         17,         17,2,20130427,       2253,    30.0002,   178.4468,       5060,  1243.5,    3.002,  34.4334,2,  34.4343,2,     24.7,2,    26.4,2, -999.00,5, -999.00,5, -999.00,5, -999.00,5,   0.031,2,   0.028,2,   0.002,2,     0.12,2,  2375.2,2, 2380.55,2,   7.3243,2,       25,-999.000,9,-999.0000,9, -999.00,9, -999.00,9,  -999.0,9,  -999.0,-999.000,9,-999.000,     -999.0,9, -999.00,9, -999.00,9, -999.00,9,     -999.0,9,  -999.0,1, 20130428,       15,  29.9996, 178.4459,    34.5967,2,     -999.0,9,     -999.0,9,     3.0016,2,     -999.0,9,     -999.0,1,-999.0000, -999.00,-999.000
318M20130321,       P02W,      72,          1,         16,         16,2,20130427,       2253,    30.0002,   178.4468,       5060,  1346.4,    2.798,  34.4736,2,  34.4746,2,     31.3,2,    32.9,2,  147.21,2,   43.48,2,       0,2,    3.13,2,   0.031,2,   0.032,2,   0.013,2,     0.08,2,  2379.2,2, 2387.75,2,   7.3383,6,       25,-999.000,9,-999.0000,9, -999.00,9, -999.00,9,  -999.0,9,  -999.0,-999.000,9,-999.000,     -999.0,9, -999.00,9, -999.00,9, -999.00,9,     -999.0,9,  -999.0,1, 20130428,       12,  29.9998, 178.4462,    34.6371,2,     -999.0,9,     -999.0,9,     2.7979,2,     -999.0,9,     -999.0,1,-999.0000, -999.00,-999.000
318M20130321,       P02W,      72,          1,         15,         15,2,20130427,       2253,    30.0002,   178.4468,       5060,  1478.5,   2.5682,  34.5127,2,  34.5129,2,     39.5,2,    39.3,2,  153.95,2,   43.12,2,       0,2,    3.11,2,   0.009,2,   0.023,2,   0.006,2,     0.17,2,  2379.4,2, 2392.15,2,   7.3555,2,       25,-999.000,9,-999.0000,9, -999.00,9, -999.00,9,  -999.0,9,  -999.0,-999.000,9,-999.000,     -999.0,9, -999.00,9, -999.00,9, -999.00,9,     -999.0,9,  -999.0,1, 20130428,        9,  29.9999, 178.4465,    34.6756,2,     -999.0,9,     -999.0,9,     2.5657,2,     -999.0,9,     -999.0,1,-999.0000, -999.00,-999.000
318M20130321,       P02W,      72,          1,         14,         14,2,20130427,       2253,    30.0002,   178.4468,       5060,  1677.9,   2.3126,  34.5575,2,  34.5584,2,     58.2,2,    56.6,2,  156.58,2,   42.18,2,       0,2,    3.05,2,   0.090,2,   0.025,2,   0.007,2,        0,2,  2375.4,2, 2404.25,2,   7.3924,2,       25,-999.000,9,-999.0000,9, -999.00,9, -999.00,9,  -999.0,9,  -999.0,-999.000,9,-999.000,     -999.0,9, -999.00,9, -999.00,9, -999.00,9,     -999.0,9,  -999.0,1, 20130428,        4,  30.0002, 178.4468,    34.7214,2,     -999.0,9,     -999.0,9,     2.3124,2,     -999.0,9,     -999.0,1,-999.0000, -999.00,-999.000
318M20130321,       P02W,      72,          1,         13,         13,2,20130427,       2253,    30.0002,   178.4468,       5060,  1882.6,   2.0537,  34.5882,2,  34.5893,2,     67.8,2,    67.1,2,  163.21,2,   41.66,2,       0,2,    2.99,2,-999.000,9,-999.000,9,-999.000,9,-999.0000,9,  2374.1,2, 2410.36,2,   7.4109,2,       25,-999.000,9,-999.0000,9, -999.00,9, -999.00,9,  -999.0,9,  -999.0,-999.000,9,-999.000,     -999.0,9, -999.00,9, -999.00,9, -999.00,9,     -999.0,9,  -999.0,1, 20130428,        0,  30.0002, 178.4472,    34.7524,2,     -999.0,9,     -999.0,9,     2.0534,2,     -999.0,9,     -999.0,1,-999.0000, -999.00,-999.000
318M20130321,       P02W,      72,          1,         11,         11,2,20130427,       2253,    30.0002,   178.4468,       5060,  2120.3,   1.8649,  34.6157,2,  34.6166,2,     85.1,2,    84.9,2,  163.89,2,   40.54,2,       0,2,    2.89,2,   0.000,2,   0.017,2,   0.000,2,     0.38,2,  2365.3,2, 2415.06,2,   7.4469,2,       25,-999.000,9,-999.0000,9, -999.00,9, -999.00,9,  -999.0,9,  -999.0,-999.000,9,-999.000,     -999.0,9, -999.00,9, -999.00,9, -999.00,9,     -999.0,9,  -999.0,1, 20130427,     2354,  29.9999, 178.4473,    34.7798,2,     -999.0,9,     -999.0,9,     1.8653,2,     -999.0,9,     -999.0,1,-999.0000, -999.00,-999.000
318M20130321,       P02W,      72,          1,         10,         10,2,20130427,       2253,    30.0002,   178.4468,       5060,  2424.6,   1.6964,  34.6387,2,  34.6392,2,    101.9,2,   100.8,2,  163.89,2,   39.41,2,       0,2,    2.81,2,   0.009,2,   0.019,2,   0.014,2,      0.1,2,  -999.0,9, -999.00,9,-999.0000,9,  -999.00,-999.000,9,-999.0000,9, -999.00,9, -999.00,9,  -999.0,9,  -999.0,-999.000,9,-999.000,     -999.0,9, -999.00,9, -999.00,9, -999.00,9,     -999.0,9,  -999.0,1, 20130427,     2348,  30.0002, 178.4467,    34.8025,2,     -999.0,9,     -999.0,9,     1.6966,2,     -999.0,9,     -999.0,1,-999.0000, -999.00,-999.000
318M20130321,       P02W,      72,          1,          9,          9,2,20130427,       2253,    30.0002,   178.4468,       5060,  2732.7,   1.5913,  34.6541,2,  34.6545,2,    116.5,2,     116,2,  161.54,2,   38.38,2,       0,2,    2.74,2,-999.000,9,-999.000,9,-999.000,9,-999.0000,9,  2347.8,2, 2418.36,2,   7.5059,2,       25,-999.000,9,-999.0000,9, -999.00,9, -999.00,9,  -999.0,9,  -999.0,-999.000,9,-999.000,     -999.0,9, -999.00,9, -999.00,9, -999.00,9,     -999.0,9,  -999.0,1, 20130427,     2342,       30, 178.4464,    34.8179,2,     -999.0,9,     -999.0,9,     1.5908,2,     -999.0,9,     -999.0,1,-999.0000, -999.00,-999.000
318M20130321,       P02W,      72,          1,          8,          8,2,20130427,       2253,    30.0002,   178.4468,       5060,    3038,   1.5171,  34.6662,2,  34.6684,2,    128.4,2,   128.4,2,  158.71,2,   37.56,2,       0,2,    2.65,2,   0.000,2,   0.008,2,   0.009,2,     0.05,2,  -999.0,9, -999.00,9,-999.0000,9,  -999.00,-999.000,9,-999.0000,9, -999.00,9, -999.00,9,  -999.0,9,  -999.0,-999.000,9,-999.000,     -999.0,9, -999.00,9, -999.00,9, -999.00,9,     -999.0,9,  -999.0,1, 20130427,     2336,  29.9995, 178.4467,    34.8319,2,     -999.0,9,     -999.0,9,     1.5169,2,     -999.0,9,     -999.0,1,-999.0000, -999.00,-999.000
318M20130321,       P02W,      72,          1,          7,          7,2,20130427,       2253,    30.0002,   178.4468,       5060,  3343.7,   1.4829,  34.6735,2,  34.6745,2,    136.5,2,   136.5,2,  156.85,2,   37.05,2,       0,2,    2.63,2,-999.000,9,-999.000,9,-999.000,9,-999.0000,9,  2333.3,2, 2417.36,2,   7.5439,2,       25,-999.000,9,-999.0000,9, -999.00,9, -999.00,9,  -999.0,9,  -999.0,-999.000,9,-999.000,     -999.0,9, -999.00,9, -999.00,9, -999.00,9,     -999.0,9,  -999.0,1, 20130427,     2330,  29.9993, 178.4469,     34.838,2,     -999.0,9,     -999.0,9,     1.4825,2,     -999.0,9,     -999.0,1,-999.0000, -999.00,-999.000