BOTTLE,20220817CCHSIOAMB
EXPOCODE,SECT_ID,STNNBR,CASTNO,SAMPNO,BTLNBR,BTLNBR_FLAG_W,DATE,TIME,LATITUDE,LONGITUDE,DEPTH,CTDPRS,CTDTMP,CTDSAL,CTDSAL_FLAG_W,SALNTY,SALNTY_FLAG_W,CTDOXY,CTDOXY_FLAG_W,OXYGEN,OXYGEN_FLAG_W,SILCAT,SILCAT_FLAG_W,NITRAT,NITRAT_FLAG_W,NITRIT,NITRIT_FLAG_W,PHSPHT,PHSPHT_FLAG_W,CFC-11,CFC-11_FLAG_W,CFC-12,CFC-12_FLAG_W,CFC113,CFC113_FLAG_W,SF6,SF6_FLAG_W,TCARBN,TCARBN_FLAG_W,ALKALI,ALKALI_FLAG_W,PH_TOT,PH_TOT_FLAG_W,PH_TMP,TRITUM,TRITUM_FLAG_W,HELIUM,HELIUM_FLAG_W,DELHE3,DELHE3_FLAG_W,DELC13,DELC13_FLAG_W,DELC14,DELC14_FLAG_W,C14ERR,NEON,NEON_FLAG_W,NEONER,I-129,I-129_FLAG_W,SR-90,SR-90_FLAG_W,DOC,DOC_FLAG_W,TDN,TDN_FLAG_W,CALCIUM,CALCIUM_FLAG_W,D15N_NO3,D15N_NO3_FLAG_W,BTL_DATE,BTL_TIME,BTL_LAT,BTL_LON,SALTREF,SALTREF_FLAG_W,CS-137,CS-137_FLAG_W,CS-134,CS-134_FLAG_W,REFTMP,REFTMP_FLAG_W,LAB_DEN,LAB_DEN_FLAG_W,D18O_NO3,D18O_NO3_FLAG_W,HELIER,DELHER,TRITER
,,,,,,,,,,,METERS,DBAR,ITS-90,PSS-78,,PSS-78,,UMOL/KG,,UMOL/KG,,UMOL/KG,,UMOL/KG,,UMOL/KG,,UMOL/KG,,PMOL/KG,,PMOL/KG,,PMOL/KG,,FMOL/KG,,UMOL/KG,,UMOL/KG,,,,DEG C,TU,,NMOL/KG,,PERCNT,,/MILLE,,/MILLE,,/MILLE,NMOL/KG,,NMOL/KG,BQ/M^3,,DM/.1MG,,UMOL/KG,,UMOL/KG,,MMOL/KG,,/MILLE,,,,,,G/KG,,BQ/M^3,,BQ/M^3,,ITS-90,,,,/MILLE,,NMOL/KG,PERCNT,TU
318M20130321,       P02W,      22,          1,         33,         33,2,20130411,       0735,    29.9953,   139.3711,       2279,     3.7,  19.3476,  34.7433,2,  34.7417,2,    231.1,2,   230.6,2,    1.46,2,       0,2,       0,2,    0.02,2,   2.368,2,   1.471,2,   0.212,2,     1.56,2,  1996.2,6, 2278.31,2,    8.029,2,       25,   0.488,2,   1.7492,2,   -1.33,2, -999.00,9,  -999.0,9,  -999.0,   7.058,2,   0.032,     -999.0,9, -999.00,9, -999.00,9, -999.00,9,     -999.0,9,  -999.0,9, 20130411,      852,  29.9967, 139.3708,    34.9056,2,     -999.0,9,     -999.0,9,    19.3463,2,     -999.0,9,     -999.0,9,   0.0073,    0.15,   0.012
318M20130321,       P02W,      22,          1,         32,         32,2,20130411,       0735,    29.9953,   139.3711,       2279,    19.2,  19.3394,  34.7412,2,  34.7404,2,    230.4,2,   230.7,2,    1.46,2,       0,2,       0,2,    0.01,2,-999.000,9,-999.000,9,-999.000,9,-999.0000,9,  -999.0,9, -999.00,9,-999.0000,9,  -999.00,-999.000,9,-999.0000,9, -999.00,9, -999.00,9,  -999.0,9,  -999.0,-999.000,9,-999.000,     -999.0,9, -999.00,9, -999.00,9, -999.00,9,     -999.0,9,  -999.0,9, 20130411,      851,  29.9966, 139.3708,    34.9042,2,     -999.0,9,     -999.0,9,    19.3391,2,     -999.0,9,     -999.0,9,-999.0000, -999.00,-999.000
318M20130321,       P02W,      22,          1,         31,         31,2,20130411,       0735,    29.9953,   139.3711,       2279,      39,  19.2255,   34.745,2,  34.7443,2,    230.8,2,   231.4,2,    1.46,2,       0,2,       0,2,    0.01,2,   2.411,2,   1.482,2,   0.221,2,     1.55,2,    1997,2, 2279.11,2,   8.0268,6,       25,   0.514,2,   1.7592,2,   -1.40,2, -999.00,9,  -999.0,9,  -999.0,   7.161,2,   0.033,     -999.0,9, -999.00,9, -999.00,9, -999.00,9,     -999.0,9,  -999.0,9, 20130411,      849,  29.9965, 139.3707,    34.9081,2,     -999.0,9,     -999.0,9,     19.225,2,     -999.0,9,     -999.0,9,   0.0074,    0.15,   0.013
318M20130321,       P02W,      22,          1,         30,         30,2,20130411,       0735,    29.9953,   139.3711,       2279,    64.7,   19.175,   34.745,2,  34.7455,2,      231,2,   231.2,2,    1.46,2,       0,2,       0,2,    0.02,2,-999.000,9,-999.000,9,-999.000,9,-999.0000,9,  -999.0,9, -999.00,9,-999.0000,9,  -999.00,-999.000,9,-999.0000,9, -999.00,9, -999.00,9,  -999.0,9,  -999.0,-999.000,9,-999.000,     -999.0,9, -999.00,9, -999.00,9, -999.00,9,     -999.0,9,  -999.0,9, 20130411,      848,  29.9963, 139.3706,    34.9093,2,     -999.0,9,     -999.0,9,    19.1775,2,     -999.0,9,     -999.0,9,-999.0000, -999.00,-999.000
318M20130321,       P02W,      22,          1,         29,         29,2,20130411,       0735,    29.9953,   139.3711,       2279,    89.7,  18.9315,  34.7585,2,  34.7574,2,    229.8,2,   229.6,2,    1.66,2,    0.11,2,    0.19,2,    0.04,2,   2.404,2,   1.496,2,   0.195,2,     1.58,2,    2002,2, 2283.81,2,   8.0188,2,       25,   0.497,2,   1.7463,2,   -1.42,2, -999.00,9,  -999.0,9,  -999.0,   6.992,2,   0.032,     -999.0,9, -999.00,9, -999.00,9, -999.00,9,     -999.0,9,  -999.0,9, 20130411,      846,  29.9962, 139.3706,    34.9213,2,     -999.0,9,     -999.0,9,    18.9196,2,     -999.0,9,     -999.0,9,   0.0073,    0.15,   0.013
318M20130321,       P02W,      22,          1,         28,         28,2,20130411,       0735,    29.9953,   139.3711,       2279,   115.7,  18.4901,   34.796,2,   34.795,2,      226,2,     225,2,    1.85,2,    1.02,2,    0.16,2,     0.1,2,-999.000,9,-999.000,9,-999.000,9,-999.0000,9,  -999.0,9, -999.00,9,-999.0000,9,  -999.00,-999.000,9,-999.0000,9, -999.00,9, -999.00,9,  -999.0,9,  -999.0,-999.000,9,-999.000,     -999.0,9, -999.00,9, -999.00,9, -999.00,9,     -999.0,9,  -999.0,9, 20130411,      845,  29.9962, 139.3706,    34.9591,2,     -999.0,9,     -999.0,9,    18.4921,2,     -999.0,9,     -999.0,9,-999.0000, -999.00,-999.000
318M20130321,       P02W,      22,          1,         27,         27,2,20130411,       0735,    29.9953,   139.3711,       2279,   139.9,  18.4069,  34.7943,2,  34.7942,2,    223.8,2,   223.9,2,    2.05,2,    1.31,2,    0.03,2,     0.1,2,-999.000,9,-999.000,9,-999.000,9,-999.0000,9,  2013.2,2, 2281.61,2,   8.0031,2,       25,-999.000,9,-999.0000,9, -999.00,9, -999.00,9,  -999.0,9,  -999.0,-999.000,9,-999.000,     -999.0,9, -999.00,9, -999.00,9, -999.00,9,     -999.0,9,  -999.0,9, 20130411,      843,  29.9962, 139.3707,    34.9583,2,     -999.0,9,     -999.0,9,      18.41,2,     -999.0,9,     -999.0,9,-999.0000, -999.00,-999.000
318M20130321,       P02W,      22,          1,         26,         26,2,20130411,       0735,    29.9953,   139.3711,       2279,   165.7,  18.2883,  34.7854,2,  34.7848,2,    222.2,2,     223,2,    2.15,2,    1.57,2,    0.02,2,    0.12,2,-999.000,9,-999.000,9,-999.000,9,-999.0000,9,  -999.0,9, -999.00,9,-999.0000,9,  -999.00,-999.000,9,-999.0000,9, -999.00,9, -999.00,9,  -999.0,9,  -999.0,-999.000,9,-999.000,     -999.0,9, -999.00,9, -999.00,9, -999.00,9,     -999.0,9,  -999.0,9, 20130411,      842,  29.9962, 139.3706,    34.9488,2,     -999.0,9,     -999.0,9,    18.2892,2,     -999.0,9,     -999.0,9,-999.0000, -999.00,-999.000
318M20130321,       P02W,      22,          1,         25,         25,2,20130411,       0735,    29.9953,   139.3711,       2279,     191,   18.239,  34.7862,2,  34.7859,2,    222.9,2,   223.1,2,    1.95,2,    1.61,2,    0.02,2,    0.13,2,   2.458,2,   1.524,2,   0.185,2,     1.55,2,  2015.3,2, 2280.01,2,   7.9979,2,       25,   0.500,2,   1.7791,2,   -0.68,2, -999.00,9,  -999.0,9,  -999.0,   7.188,2,   0.033,     -999.0,9, -999.00,9, -999.00,9, -999.00,9,     -999.0,9,  -999.0,9, 20130411,      841,  29.9962, 139.3706,      34.95,2,     -999.0,9,     -999.0,9,    18.2391,2,     -999.0,9,     -999.0,9,   0.0075,    0.15,   0.014
318M20130321,       P02W,      22,          1,         24,         24,2,20130411,       0735,    29.9953,   139.3711,       2279,   217.3,  18.1346,   34.776,2,  34.7765,2,    221.7,2,   220.3,2,    2.44,2,       2,2,    0.01,2,    0.15,2,-999.000,9,-999.000,9,-999.000,9,-999.0000,9,  -999.0,9, -999.00,9,-999.0000,9,  -999.00,-999.000,9,-999.0000,9, -999.00,9, -999.00,9,  -999.0,9,  -999.0,-999.000,9,-999.000,     -999.0,9, -999.00,9, -999.00,9, -999.00,9,     -999.0,9,  -999.0,9, 20130411,      839,  29.9962, 139.3706,    34.9405,2,     -999.0,9,     -999.0,9,    18.1389,2,     -999.0,9,     -999.0,9,-999.0000, -999.00,-999.000
318M20130321,       P02W,      22,          1,         23,         23,2,20130411,       0735,    29.9953,   139.3711,       2279,   241.6,  17.7121,  34.7419,2,  34.7431,2,    215.9,2,   211.4,2,    3.32,2,    3.45,2,    0.01,2,    0.24,2,   2.551,2,   1.557,2,   0.106,2,     1.41,2,  2030.2,2, 2277.91,2,   7.9689,2,       25,   0.474,2,   1.7975,2,   -0.39,2, -999.00,9,  -999.0,9,  -999.0,   7.213,2,   0.033,     -999.0,9, -999.00,9, -999.00,9, -999.00,9,     -999.0,9,  -999.0,9, 20130411,      838,  29.9961, 139.3705,    34.9069,2,     -999.0,9,     -999.0,9,    17.7146,2,     -999.0,9,     -999.0,9,   0.0075,    0.15,   0.006
318M20130321,       P02W,      22,          1,         22,         38,4,20130411,       0735,    29.9953,   139.3711,       2279,   287.4,  17.3485,  34.7284,2,  34.7273,2,    209.2,2,  -999.0,9,    2.93,2,    2.78,2,    0.01,2,     0.2,2,-999.000,9,-999.000,9,-999.000,9,-999.0000,9,  -999.0,9, -999.00,9,-999.0000,9,  -999.00,-999.000,9,-999.0000,9, -999.00,9, -999.00,9,  -999.0,9,  -999.0,-999.000,9,-999.000,     -999.0,9, -999.00,9, -999.00,9, -999.00,9,     -999.0,9,  -999.0,9, 20130411,      836,   29.996, 139.3704,    34.8911,2,     -999.0,9,     -999.0,9,    17.3478,2,     -999.0,9,     -999.0,9,-999.0000, -999.00,-999.000
318M20130321,       P02W,      22,          1,         21,         21,2,20130411,       0735,    29.9953,   139.3711,       2279,   337.9,  16.9444,  34.6988,2,  34.6969,2,    207.9,2,   205.8,2,    4.78,2,    5.19,2,    0.01,2,    0.36,2,-999.000,9,-999.000,9,-999.000,9,-999.0000,9,  -999.0,9, -999.00,9,-999.0000,9,  -999.00,-999.000,9,-999.0000,9, -999.00,9, -999.00,9,  -999.0,9,  -999.0,-999.000,9,-999.000,     -999.0,9, -999.00,9, -999.00,9, -999.00,9,     -999.0,9,  -999.0,9, 20130411,      833,  29.9959, 139.3703,    34.8605,2,     -999.0,9,     -999.0,9,    16.9437,2,     -999.0,9,     -999.0,9,-999.0000, -999.00,-999.000
318M20130321,       P02W,      22,          1,         20,         20,2,20130411,       0735,    29.9953,   139.3711,       2279,   388.6,  16.4259,  34.6605,2,  34.6607,2,    201.9,2,   200.2,2,    6.05,2,    6.49,2,    0.01,2,    0.45,2,   2.726,2,   1.602,2,   0.051,2,     1.36,2,  2052.3,2, 2275.81,2,   7.9202,6,       25,   0.475,2,   1.7597,2,   -0.06,2, -999.00,9,  -999.0,9,  -999.0,   7.235,2,   0.033,     -999.0,9, -999.00,9, -999.00,9, -999.00,9,     -999.0,9,  -999.0,9, 20130411,      831,  29.9959, 139.3701,    34.8241,2,     -999.0,9,     -999.0,9,    16.4276,2,     -999.0,9,     -999.0,9,   0.0074,    0.15,   0.006
318M20130321,       P02W,      22,          1,         19,         19,2,20130411,       0735,    29.9953,   139.3711,       2279,   438.7,  15.2823,  34.5801,2,  34.5813,2,    189.2,2,   189.5,2,    9.86,2,    9.31,2,    0.01,2,    0.64,2,-999.000,9,-999.000,9,-999.000,9,-999.0000,9,  -999.0,9, -999.00,9,-999.0000,9,  -999.00,-999.000,9,-999.0000,9, -999.00,9, -999.00,9,  -999.0,9,  -999.0,-999.000,9,-999.000,     -999.0,9, -999.00,9, -999.00,9, -999.00,9,     -999.0,9,  -999.0,9, 20130411,      829,  29.9957,   139.37,    34.7444,2,     -999.0,9,     -999.0,9,    15.2845,2,     -999.0,9,     -999.0,9,-999.0000, -999.00,-999.000
318M20130321,       P02W,      22,          1,         18,         18,2,20130411,       0735,    29.9953,   139.3711,       2279,   488.1,  13.8759,   34.489,2,  34.4884,2,    188.9,2,   194.4,2,   12.89,2,   11.01,2,    0.01,2,    0.77,2,   3.011,2,   1.670,2,   0.076,2,     1.22,2,  2084.4,2, 2274.31,2,    7.844,2,       25,   0.482,6,   1.7899,2,    1.59,2, -999.00,9,  -999.0,9,  -999.0,   7.439,2,   0.034,     -999.0,9, -999.00,9, -999.00,9, -999.00,9,     -999.0,9,  -999.0,9, 20130411,      827,  29.9957,   139.37,    34.6511,2,     -999.0,9,     -999.0,9,    13.8723,2,     -999.0,9,     -999.0,9,   0.0075,    0.15,   0.007
318M20130321,       P02W,      22,          1,         17,         17,2,20130411,       0735,    29.9953,   139.3711,       2279,   569.1,  12.0355,  34.3691,2,  34.3708,2,    174.3,2,     175,2,   22.06,2,   15.81,2,       0,2,    1.11,2,-999.000,9,-999.000,9,-999.000,9,-999.0000,9,  -999.0,9, -999.00,9,-999.0000,9,  -999.00,-999.000,9,-999.0000,9, -999.00,9, -999.00,9,  -999.0,9,  -999.0,-999.000,9,-999.000,     -999.0,9, -999.00,9, -999.00,9, -999.00,9,     -999.0,9,  -999.0,9, 20130411,      824,  29.9956, 139.3699,    34.5329,2,     -999.0,9,     -999.0,9,     12.055,2,     -999.0,9,     -999.0,9,-999.0000, -999.00,-999.000
318M20130321,       P02W,      22,          1,         16,         16,2,20130411,       0735,    29.9953,   139.3711,       2279,   670.7,   9.6653,  34.2125,2,  34.2153,2,    167.2,2,   166.3,2,   33.78,2,   20.56,2,       0,2,    1.47,2,   2.910,2,   1.550,2,   0.095,2,     0.91,2,  2154.5,2, 2277.91,2,   7.6863,2,       25,   0.447,2,   1.7863,2,    6.90,2, -999.00,9,  -999.0,9,  -999.0,   7.608,2,   0.035,     -999.0,9, -999.00,9, -999.00,9, -999.00,9,     -999.0,9,  -999.0,9, 20130411,      821,  29.9953, 139.3698,    34.3766,2,     -999.0,9,     -999.0,9,      9.676,2,     -999.0,9,     -999.0,9,   0.0075,    0.15,   0.006
318M20130321,       P02W,      22,          1,         15,         15,2,20130411,       0735,    29.9953,   139.3711,       2279,   772.6,   7.1218,  34.1178,2,  34.1131,2,    125.2,2,   133.3,2,   55.76,2,   28.23,2,       0,2,    2.04,2,-999.000,9,-999.000,9,-999.000,9,-999.0000,9,  -999.0,9, -999.00,9,-999.0000,9,  -999.00,-999.000,9,-999.0000,9, -999.00,9, -999.00,9,  -999.0,9,  -999.0,-999.000,9,-999.000,     -999.0,9, -999.00,9, -999.00,9, -999.00,9,     -999.0,9,  -999.0,9, 20130411,      818,  29.9951, 139.3696,     34.274,2,     -999.0,9,     -999.0,9,     7.1229,2,     -999.0,9,     -999.0,9,-999.0000, -999.00,-999.000
318M20130321,       P02W,      22,          1,         14,         14,2,20130411,       0735,    29.9953,   139.3711,       2279,   869.4,    5.883,  34.1793,2,  34.1802,2,     96.6,2,    97.4,2,   77.24,2,   33.54,2,       0,2,    2.42,2,   1.525,2,   0.823,2,   0.063,2,     0.34,2,  2263.2,2, 2312.12,2,   7.4727,2,       25,   0.258,2,   1.8646,2,   13.97,2, -999.00,9,  -999.0,9,  -999.0,   8.020,2,   0.037,     -999.0,9, -999.00,9, -999.00,9, -999.00,9,     -999.0,9,  -999.0,9, 20130411,      815,  29.9949, 139.3695,    34.3414,2,     -999.0,9,     -999.0,9,     5.8823,2,     -999.0,9,     -999.0,9,   0.0078,    0.15,   0.006
318M20130321,       P02W,      22,          1,         13,         13,2,20130411,       0735,    29.9953,   139.3711,       2279,   970.1,   5.0209,  34.2377,2,  34.2378,2,     78.5,2,    78.3,2,   93.25,2,   36.54,2,       0,2,    2.63,2,   1.023,2,   0.549,2,   0.046,2,     0.26,2,  -999.0,9, -999.00,9,-999.0000,9,  -999.00,   0.192,2,   1.8925,2,   15.25,2, -999.00,9,  -999.0,9,  -999.0,   8.024,2,   0.037,     -999.0,9, -999.00,9, -999.00,9, -999.00,9,     -999.0,9,  -999.0,9, 20130411,      813,  29.9947, 139.3694,    34.3993,2,     -999.0,9,     -999.0,9,     5.0321,2,     -999.0,9,     -999.0,9,   0.0079,    0.15,   0.006
318M20130321,       P02W,      22,          1,         12,         12,2,20130411,       0735,    29.9953,   139.3711,       2279,  1073.2,   4.1647,  34.2882,2,  34.2874,2,     60.8,2,    60.8,2,  110.33,2,   39.32,2,       0,2,    2.82,2,-999.000,9,-999.000,9,-999.000,9,-999.0000,9,  -999.0,9, -999.00,9,-999.0000,9,  -999.00,-999.000,9,-999.0000,9, -999.00,9, -999.00,9,  -999.0,9,  -999.0,-999.000,9,-999.000,     -999.0,9, -999.00,9, -999.00,9, -999.00,9,     -999.0,9,  -999.0,9, 20130411,      810,  29.9946, 139.3692,    34.4491,2,     -999.0,9,     -999.0,9,      4.166,2,     -999.0,9,     -999.0,9,-999.0000, -999.00,-999.000
318M20130321,       P02W,      22,          1,         11,         11,2,20130411,       0735,    29.9953,   139.3711,       2279,  1173.8,   3.5592,  34.3693,2,  34.3722,2,     55.1,2,    55.4,2,  125.45,2,   40.55,2,       0,2,    2.91,2,   0.397,2,   0.201,2,   0.021,2,     0.13,2,  2343.5,2, 2365.24,2,   7.3774,6,       25,   0.074,2,   1.9349,2,   17.09,2, -999.00,9,  -999.0,9,  -999.0,   8.213,2,   0.038,     -999.0,9, -999.00,9, -999.00,9, -999.00,9,     -999.0,9,  -999.0,9, 20130411,      808,  29.9944,  139.369,    34.5343,2,     -999.0,9,     -999.0,9,     3.5588,2,     -999.0,9,     -999.0,9,   0.0081,    0.15,   0.006
318M20130321,       P02W,      22,          1,         10,         10,2,20130411,       0735,    29.9953,   139.3711,       2279,  1276.6,   3.2763,  34.4074,2,  34.4087,2,     53.8,2,    55.2,2,  131.89,2,   40.92,2,       0,2,    2.92,2,   0.292,2,   0.149,2,   0.012,2,     0.14,2,  -999.0,9, -999.00,9,-999.0000,9,  -999.00,   0.065,2,   1.9169,2,   17.89,2, -999.00,9,  -999.0,9,  -999.0,   8.140,2,   0.037,     -999.0,9, -999.00,9, -999.00,9, -999.00,9,     -999.0,9,  -999.0,9, 20130411,      805,  29.9943, 139.3692,    34.5709,2,     -999.0,9,     -999.0,9,     3.2763,2,     -999.0,9,     -999.0,9,   0.0081,    0.15,   0.006
318M20130321,       P02W,      22,          1,          9,          9,2,20130411,       0735,    29.9953,   139.3711,       2279,  1380.3,   2.9906,  34.4448,2,  34.4442,2,     55.7,2,    55.5,2,  137.85,2,   41.15,2,       0,2,    2.95,2,-999.000,9,-999.000,9,-999.000,9,-999.0000,9,  -999.0,9, -999.00,9,-999.0000,9,  -999.00,-999.000,9,-999.0000,9, -999.00,9, -999.00,9,  -999.0,9,  -999.0,-999.000,9,-999.000,     -999.0,9, -999.00,9, -999.00,9, -999.00,9,     -999.0,9,  -999.0,9, 20130411,      803,  29.9943, 139.3694,    34.6066,2,     -999.0,9,     -999.0,9,     2.9904,2,     -999.0,9,     -999.0,9,-999.0000, -999.00,-999.000
318M20130321,       P02W,      22,          1,          8,          8,2,20130411,       0735,    29.9953,   139.3711,       2279,  1486.4,   2.8231,  34.4674,2,  34.4674,2,     57.1,2,    56.4,2,  142.43,2,   41.36,2,       0,2,    2.96,2,   0.164,2,   0.078,2,   0.006,2,     0.14,2,  2359.5,2, 2383.75,2,   7.3831,2,       25,   0.023,2,   1.9435,2,   17.93,2, -999.00,9,  -999.0,9,  -999.0,   8.331,2,   0.038,     -999.0,9, -999.00,9, -999.00,9, -999.00,9,     -999.0,9,  -999.0,9, 20130411,      800,  29.9944, 139.3692,    34.6299,2,     -999.0,9,     -999.0,9,     2.8235,2,     -999.0,9,     -999.0,9,   0.0082,    0.15,   0.006
318M20130321,       P02W,      22,          1,          7,          7,2,20130411,       0735,    29.9953,   139.3711,       2279,  1585.8,   2.6147,  34.4973,2,  34.4878,2,     60.8,2,    58.7,2,  145.65,2,    41.4,2,       0,2,    2.95,2,-999.000,9,-999.000,9,-999.000,9,-999.0000,9,  2361.9,2, 2388.25,2,   7.3874,2,       25,-999.000,9,-999.0000,9, -999.00,9, -999.00,9,  -999.0,9,  -999.0,-999.000,9,-999.000,     -999.0,9, -999.00,9, -999.00,9, -999.00,9,     -999.0,9,  -999.0,9, 20130411,      757,  29.9945,  139.369,    34.6504,2,     -999.0,9,     -999.0,9,     2.6165,2,     -999.0,9,     -999.0,9,-999.0000, -999.00,-999.000
318M20130321,       P02W,      22,          1,          6,          6,2,20130411,       0735,    29.9953,   139.3711,       2279,    1687,    2.462,  34.5248,2,  34.5253,2,     70.9,2,    69.4,2,  148.18,2,   40.89,2,       0,2,    2.91,2,-999.000,9,-999.000,9,-999.000,9,-999.0000,9,  -999.0,9, -999.00,9,-999.0000,9,  -999.00,-999.000,9,-999.0000,9, -999.00,9, -999.00,9,  -999.0,9,  -999.0,-999.000,9,-999.000,     -999.0,9, -999.00,9, -999.00,9, -999.00,9,     -999.0,9,  -999.0,9, 20130411,      754,  29.9945, 139.3694,    34.6881,2,     -999.0,9,     -999.0,9,     2.4619,2,     -999.0,9,     -999.0,9,-999.0000, -999.00,-999.000
318M20130321,       P02W,      22,          1,          5,         37,4,20130411,       0735,    29.9953,   139.3711,       2279,  1788.4,   2.3151,  34.5461,2,  34.5182,4,     74.8,2,    66.4,4,  147.79,4,   41.11,4,       0,4,    2.92,4,   0.125,2,   0.051,2,   0.000,2,     0.04,2,  2360.7,4, 2393.15,4,   7.4048,2,       25,   0.010,2,   1.9472,2,   19.03,2, -999.00,9,  -999.0,9,  -999.0,   8.215,2,   0.038,     -999.0,9, -999.00,9, -999.00,9, -999.00,9,     -999.0,9,  -999.0,9, 20130411,      751,  29.9946, 139.3697,     34.681,4,     -999.0,9,     -999.0,9,     2.3145,2,     -999.0,9,     -999.0,9,   0.0082,    0.15,   0.006