BOTTLE,20220817CCHSIOAMB
EXPOCODE,SECT_ID,STNNBR,CASTNO,SAMPNO,BTLNBR,BTLNBR_FLAG_W,DATE,TIME,LATITUDE,LONGITUDE,DEPTH,CTDPRS,CTDTMP,CTDSAL,CTDSAL_FLAG_W,SALNTY,SALNTY_FLAG_W,CTDOXY,CTDOXY_FLAG_W,OXYGEN,OXYGEN_FLAG_W,SILCAT,SILCAT_FLAG_W,NITRAT,NITRAT_FLAG_W,NITRIT,NITRIT_FLAG_W,PHSPHT,PHSPHT_FLAG_W,CFC-11,CFC-11_FLAG_W,CFC-12,CFC-12_FLAG_W,CFC113,CFC113_FLAG_W,SF6,SF6_FLAG_W,TCARBN,TCARBN_FLAG_W,ALKALI,ALKALI_FLAG_W,PH_TOT,PH_TOT_FLAG_W,PH_TMP,TRITUM,TRITUM_FLAG_W,HELIUM,HELIUM_FLAG_W,DELHE3,DELHE3_FLAG_W,DELC13,DELC13_FLAG_W,DELC14,DELC14_FLAG_W,C14ERR,NEON,NEON_FLAG_W,NEONER,I-129,I-129_FLAG_W,SR-90,SR-90_FLAG_W,DOC,DOC_FLAG_W,TDN,TDN_FLAG_W,CALCIUM,CALCIUM_FLAG_W,D15N_NO3,D15N_NO3_FLAG_W,BTL_DATE,BTL_TIME,BTL_LAT,BTL_LON,SALTREF,SALTREF_FLAG_W,CS-137,CS-137_FLAG_W,CS-134,CS-134_FLAG_W,REFTMP,REFTMP_FLAG_W,LAB_DEN,LAB_DEN_FLAG_W,D18O_NO3,D18O_NO3_FLAG_W,HELIER,DELHER,TRITER
,,,,,,,,,,,METERS,DBAR,ITS-90,PSS-78,,PSS-78,,UMOL/KG,,UMOL/KG,,UMOL/KG,,UMOL/KG,,UMOL/KG,,UMOL/KG,,PMOL/KG,,PMOL/KG,,PMOL/KG,,FMOL/KG,,UMOL/KG,,UMOL/KG,,,,DEG C,TU,,NMOL/KG,,PERCNT,,/MILLE,,/MILLE,,/MILLE,NMOL/KG,,NMOL/KG,BQ/M^3,,DM/.1MG,,UMOL/KG,,UMOL/KG,,MMOL/KG,,/MILLE,,,,,,G/KG,,BQ/M^3,,BQ/M^3,,ITS-90,,,,/MILLE,,NMOL/KG,PERCNT,TU
318M20130321,       P02W,      71,          1,         36,         36,2,20130427,       1556,    30.0007,    177.808,       5328,     3.3,  18.5856,  34.9012,2,  34.9016,2,    233.3,2,   234.2,2,    3.22,2,       0,2,       0,2,    0.04,2,   0.000,4,   0.000,4,   0.000,4,     1.71,2,  2017.6,6, 2291.11,2,   8.0031,2,       25,-999.000,9,-999.0000,9, -999.00,9, -999.00,5,  -999.0,5,  -999.0,-999.000,9,-999.000,     -999.0,9, -999.00,9,    60.3,2,    3.79,2,     -999.0,9,  -999.0,9, 20130427,     1807,       30, 177.8082,    35.0662,2,     -999.0,9,     -999.0,9,    18.5857,2,     -999.0,9,     -999.0,9,-999.0000, -999.00,-999.000
318M20130321,       P02W,      71,          1,         35,         35,2,20130427,       1556,    30.0007,    177.808,       5328,     3.3,  18.5856,  34.9013,2,   34.902,2,    233.3,2,   233.3,2,    2.54,2,       0,2,       0,2,    0.04,2,-999.000,9,-999.000,9,-999.000,9,-999.0000,9,  -999.0,9, -999.00,9,-999.0000,9,  -999.00,-999.000,9,-999.0000,9, -999.00,9, -999.00,9,  -999.0,9,  -999.0,-999.000,9,-999.000,     -999.0,9, -999.00,9, -999.00,9, -999.00,9,     -999.0,9,  -999.0,9, 20130427,     1807,  29.9999, 177.8082,    35.0666,2,     -999.0,9,     -999.0,9,    18.5844,2,     -999.0,9,     -999.0,9,-999.0000, -999.00,-999.000
318M20130321,       P02W,      71,          1,         34,         34,2,20130427,       1556,    30.0007,    177.808,       5328,    26.6,  18.5889,  34.9003,2,  34.9012,2,    233.8,2,   233.3,2,    3.32,2,       0,2,       0,2,    0.03,2,   2.477,2,   1.524,2,   0.210,2,     1.58,2,  -999.0,9, -999.00,9,-999.0000,9,  -999.00,-999.000,9,-999.0000,9, -999.00,9, -999.00,9,  -999.0,9,  -999.0,-999.000,9,-999.000,     -999.0,9, -999.00,9,   59.09,2,    3.25,2,     -999.0,9,  -999.0,9, 20130427,     1805,       30, 177.8081,    35.0658,2,     -999.0,9,     -999.0,9,    18.5884,2,     -999.0,9,     -999.0,9,-999.0000, -999.00,-999.000
318M20130321,       P02W,      71,          1,         33,         33,2,20130427,       1556,    30.0007,    177.808,       5328,    49.7,  18.5913,  34.8999,2,  34.8996,2,    234.4,2,   232.8,2,    3.32,2,    0.03,2,    0.01,2,    0.02,2,-999.000,9,-999.000,9,-999.000,9,-999.0000,9,  -999.0,9, -999.00,9,-999.0000,9,  -999.00,-999.000,9,-999.0000,9, -999.00,9, -999.00,9,  -999.0,9,  -999.0,-999.000,9,-999.000,     -999.0,9, -999.00,9,   61.29,2,    3.51,2,     -999.0,9,  -999.0,9, 20130427,     1803,  29.9999, 177.8082,    35.0642,2,     -999.0,9,     -999.0,9,    18.5914,2,     -999.0,9,     -999.0,9,-999.0000, -999.00,-999.000
318M20130321,       P02W,      71,          1,         32,         32,2,20130427,       1556,    30.0007,    177.808,       5328,    74.7,  18.6024,  34.9016,2,  34.9024,2,    234.9,2,   233.8,2,    3.32,2,       0,2,       0,2,    0.01,2,   2.464,2,   1.516,2,   0.204,2,     1.68,2,  2017.8,2, 2290.21,2,   8.0035,6,       25,-999.000,9,-999.0000,9, -999.00,9, -999.00,5,  -999.0,5,  -999.0,-999.000,9,-999.000,     -999.0,9, -999.00,9,   60.56,2,    3.59,2,     -999.0,9,  -999.0,9, 20130427,     1802,       30, 177.8082,    35.0669,2,     -999.0,9,     -999.0,9,    18.6037,2,     -999.0,9,     -999.0,9,-999.0000, -999.00,-999.000
318M20130321,       P02W,      71,          1,         31,         31,2,20130427,       1556,    30.0007,    177.808,       5328,   101.7,  17.6759,  34.7186,2,  34.7175,2,    233.1,2,   223.9,2,       4,2,    1.44,2,    0.18,2,    0.13,2,-999.000,9,-999.000,9,-999.000,9,-999.0000,9,  -999.0,9, -999.00,9,-999.0000,9,  -999.00,-999.000,9,-999.0000,9, -999.00,9, -999.00,9,  -999.0,9,  -999.0,-999.000,9,-999.000,     -999.0,9, -999.00,9,   57.89,2,    5.24,2,     -999.0,9,  -999.0,9, 20130427,     1800,  30.0002, 177.8082,    34.8812,2,     -999.0,9,     -999.0,9,    17.6661,2,     -999.0,9,     -999.0,9,-999.0000, -999.00,-999.000
318M20130321,       P02W,      71,          1,         30,         30,2,20130427,       1556,    30.0007,    177.808,       5328,   149.4,  16.7658,  34.6429,2,  34.6444,2,    217.2,2,   217.2,2,    5.17,2,    3.78,2,    0.03,2,    0.26,2,   2.653,2,   1.620,2,   0.128,2,     1.61,2,  2035.2,2, 2273.61,6,   7.9475,2,       25,-999.000,9,-999.0000,9, -999.00,9, -999.00,9,  -999.0,9,  -999.0,-999.000,9,-999.000,     -999.0,9, -999.00,9,   53.92,2,    7.31,2,     -999.0,9,  -999.0,9, 20130427,     1758,  30.0001, 177.8081,    34.8078,2,     -999.0,9,     -999.0,9,    16.7628,2,     -999.0,9,     -999.0,9,-999.0000, -999.00,-999.000
318M20130321,       P02W,      71,          1,         29,         29,2,20130427,       1556,    30.0007,    177.808,       5328,   200.7,  15.8831,  34.5807,2,  34.5839,2,    221.1,2,     218,2,    6.54,2,    5.25,2,    0.02,2,    0.36,2,-999.000,9,-999.000,9,-999.000,9,-999.0000,9,  2042.1,2, 2271.11,2,    7.927,2,       25,-999.000,9,-999.0000,9, -999.00,9, -999.00,5,  -999.0,5,  -999.0,-999.000,9,-999.000,     -999.0,9, -999.00,9,   49.32,2,    8.65,2,     -999.0,9,  -999.0,9, 20130427,     1756,  30.0001, 177.8078,     34.747,2,     -999.0,9,     -999.0,9,    15.8919,2,     -999.0,9,     -999.0,9,-999.0000, -999.00,-999.000
318M20130321,       P02W,      71,          1,         28,         28,2,20130427,       1556,    30.0007,    177.808,       5328,   250.9,  14.9742,  34.5304,2,  34.5301,2,    207.4,2,   207.5,2,    9.08,2,    7.63,2,    0.02,2,    0.53,2,   2.834,2,   1.680,2,   0.081,2,      1.5,2,  -999.0,9, -999.00,9,-999.0000,9,  -999.00,-999.000,9,-999.0000,9, -999.00,9, -999.00,9,  -999.0,9,  -999.0,-999.000,9,-999.000,     -999.0,9, -999.00,9,   46.28,2,   11.33,2,     -999.0,9,  -999.0,9, 20130427,     1754,  30.0001, 177.8076,    34.6929,2,     -999.0,9,     -999.0,9,    14.9632,2,     -999.0,9,     -999.0,9,-999.0000, -999.00,-999.000
318M20130321,       P02W,      71,          1,         27,         27,2,20130427,       1556,    30.0007,    177.808,       5328,   301.4,  13.7871,  34.4555,2,  34.4549,2,    206.1,2,   206.1,2,    12.2,2,    9.91,2,    0.01,2,    0.67,2,-999.000,9,-999.000,9,-999.000,9,-999.0000,9,  2074.9,2, 2269.61,2,   7.8555,2,       25,-999.000,9,-999.0000,9, -999.00,9, -999.00,5,  -999.0,5,  -999.0,-999.000,9,-999.000,     -999.0,9, -999.00,9,   45.66,2,   13.49,2,     -999.0,9,  -999.0,9, 20130427,     1752,  30.0001, 177.8076,    34.6174,2,     -999.0,9,     -999.0,9,     13.785,2,     -999.0,9,     -999.0,9,-999.0000, -999.00,-999.000
318M20130321,       P02W,      71,          1,         26,         26,2,20130427,       1556,    30.0007,    177.808,       5328,   353.1,  12.6006,  34.3785,2,  34.3781,2,    205.6,2,   206.2,2,   15.33,2,   11.82,2,    0.01,2,    0.83,2,   3.081,2,   1.787,2,   0.094,2,     1.31,2,  -999.0,9, -999.00,9,-999.0000,9,  -999.00,-999.000,9,-999.0000,9, -999.00,9, -999.00,9,  -999.0,9,  -999.0,-999.000,9,-999.000,     -999.0,9, -999.00,9,   46.57,2, -999.00,9,     -999.0,9,  -999.0,9, 20130427,     1750,  30.0003, 177.8078,    34.5402,2,     -999.0,9,     -999.0,9,    12.5944,2,     -999.0,9,     -999.0,9,-999.0000, -999.00,-999.000
318M20130321,       P02W,      71,          1,         25,         25,2,20130427,       1556,    30.0007,    177.808,       5328,   403.5,  11.6239,  34.3049,2,  34.3061,2,    205.5,2,   205.4,2,   18.55,2,   13.51,2,    0.01,2,    0.96,2,   3.204,2,   1.827,2,   0.100,2,     1.25,2,  2102.7,2, 2268.51,2,   7.7943,2,       25,-999.000,9,-999.0000,9, -999.00,9, -999.00,5,  -999.0,5,  -999.0,-999.000,9,-999.000,     -999.0,9, -999.00,9,   45.59,2, -999.00,9,     -999.0,9,  -999.0,9, 20130427,     1748,  30.0004, 177.8079,    34.4679,2,     -999.0,9,     -999.0,9,    11.6217,2,     -999.0,9,     -999.0,9,-999.0000, -999.00,-999.000
318M20130321,       P02W,      71,          1,         24,         24,2,20130427,       1556,    30.0007,    177.808,       5328,   504.7,   9.2548,  34.1341,2,  34.1345,2,    191.1,2,   189.1,2,   30.56,2,   19.29,2,    0.01,2,    1.39,2,   3.297,2,   1.818,2,   0.125,2,     1.22,2,  2143.9,2, 2272.31,2,   7.7016,2,       25,-999.000,9,-999.0000,9, -999.00,9, -999.00,5,  -999.0,5,  -999.0,-999.000,9,-999.000,     -999.0,9, -999.00,9,   45.79,2, -999.00,9,     -999.0,9,  -999.0,9, 20130427,     1745,  30.0006, 177.8081,    34.2955,2,     -999.0,9,     -999.0,9,     9.2561,2,     -999.0,9,     -999.0,9,-999.0000, -999.00,-999.000
318M20130321,       P02W,      71,          1,         23,         23,2,20130427,       1556,    30.0007,    177.808,       5328,   600.2,   7.2575,  34.0329,2,  34.0342,2,    157.7,2,   158.2,2,   47.56,2,   25.83,2,    0.01,2,    1.88,2,   3.010,2,   1.612,2,   0.132,2,     0.86,2,    2190,2, 2279.01,2,   7.5923,6,       25,-999.000,9,-999.0000,9, -999.00,9, -999.00,5,  -999.0,5,  -999.0,-999.000,9,-999.000,     -999.0,9, -999.00,9,   41.98,2, -999.00,9,     -999.0,9,  -999.0,9, 20130427,     1742,  30.0007,  177.808,    34.1947,2,     -999.0,9,     -999.0,9,     7.2598,2,     -999.0,9,     -999.0,9,-999.0000, -999.00,-999.000
318M20130321,       P02W,      71,          1,         22,         22,2,20130427,       1556,    30.0007,    177.808,       5328,   704.5,   5.3126,  34.0284,2,  34.0271,2,    105.5,2,   105.4,2,    74.9,2,   34.09,2,       0,2,     2.5,2,   2.128,2,   1.112,2,   0.095,2,     0.51,2,  2257.9,2, 2299.42,2,   7.4482,2,       25,-999.000,9,-999.0000,9, -999.00,9, -999.00,5,  -999.0,5,  -999.0,-999.000,9,-999.000,     -999.0,9, -999.00,9,   39.15,2, -999.00,9,     -999.0,9,  -999.0,9, 20130427,     1739,  30.0003, 177.8077,    34.1876,2,     -999.0,9,     -999.0,9,     5.3119,2,     -999.0,9,     -999.0,9,-999.0000, -999.00,-999.000
318M20130321,       P02W,      71,          1,         21,         21,2,20130427,       1556,    30.0007,    177.808,       5328,   806.1,   4.5306,  34.1235,2,  34.1237,2,     60.4,2,    62.5,2,   95.11,2,      39,2,       0,2,    2.82,2,   1.109,2,   0.571,2,   0.048,2,     0.17,2,  2304.2,2, 2320.12,2,   7.3652,2,       25,-999.000,9,-999.0000,9, -999.00,9, -999.00,9,  -999.0,9,  -999.0,-999.000,9,-999.000,     -999.0,9, -999.00,9,   38.13,2, -999.00,9,     -999.0,9,  -999.0,9, 20130427,     1736,  29.9999, 177.8077,    34.2846,2,     -999.0,9,     -999.0,9,     4.5282,2,     -999.0,9,     -999.0,9,-999.0000, -999.00,-999.000
318M20130321,       P02W,      71,          1,         20,         20,2,20130427,       1556,    30.0007,    177.808,       5328,   906.9,   4.0509,  34.2322,2,  34.2308,2,     40.3,2,      39,2,  110.24,2,   41.55,2,       0,2,    3.02,2,   0.563,2,   0.254,2,   0.020,2,     0.11,2,  2332.7,2, 2340.23,2,   7.3323,2,       25,-999.000,9,-999.0000,9, -999.00,9, -999.00,5,  -999.0,5,  -999.0,-999.000,9,-999.000,     -999.0,9, -999.00,9,   36.78,2, -999.00,9,     -999.0,9,  -999.0,9, 20130427,     1733,  29.9999, 177.8076,    34.3922,2,     -999.0,9,     -999.0,9,     4.0546,2,     -999.0,9,     -999.0,9,-999.0000, -999.00,-999.000
318M20130321,       P02W,      71,          1,         19,         19,2,20130427,       1556,    30.0007,    177.808,       5328,  1009.1,   3.6472,  34.3184,2,  34.3184,2,     31.1,2,    30.2,2,  122.53,2,   42.85,2,       0,2,    3.11,2,   0.210,2,   0.098,2,   0.007,2,     0.03,2,  2354.8,2, 2357.14,2,   7.3234,2,       25,-999.000,9,-999.0000,9, -999.00,9, -999.00,5,  -999.0,5,  -999.0,-999.000,9,-999.000,     -999.0,9, -999.00,9,   39.08,2, -999.00,9,     -999.0,9,  -999.0,9, 20130427,     1730,  30.0001, 177.8078,    34.4803,2,     -999.0,9,     -999.0,9,     3.6475,2,     -999.0,9,     -999.0,9,-999.0000, -999.00,-999.000
318M20130321,       P02W,      71,          1,         18,         18,2,20130427,       1556,    30.0007,    177.808,       5328,  1108.1,   3.4212,  34.3713,2,  34.3718,2,     28.7,2,    28.9,2,  129.26,2,   43.14,2,       0,2,    3.14,2,   0.107,2,   0.053,2,   0.001,2,     0.04,2,  2361.2,2, 2366.44,2,   7.3266,2,       25,-999.000,9,-999.0000,9, -999.00,9,   -0.49,2,  -201.4,2,     1.8,-999.000,9,-999.000,     -999.0,9, -999.00,9,    40.8,2, -999.00,9,     -999.0,9,  -999.0,9, 20130427,     1728,  30.0004, 177.8078,    34.5339,2,     -999.0,9,     -999.0,9,     3.4215,2,     -999.0,9,     -999.0,9,-999.0000, -999.00,-999.000
318M20130321,       P02W,      71,          1,         17,         17,2,20130427,       1556,    30.0007,    177.808,       5328,  1213.7,   3.2014,  34.4139,2,  34.4138,2,     29.5,2,    30.5,2,  136.09,2,   43.31,2,       0,2,    3.14,2,   0.056,2,   0.031,2,   0.000,2,        0,2,  -999.0,9, -999.00,9,-999.0000,9,  -999.00,-999.000,9,-999.0000,9, -999.00,9, -999.00,9,  -999.0,9,  -999.0,-999.000,9,-999.000,     -999.0,9, -999.00,9,   38.89,2, -999.00,9,     -999.0,9,  -999.0,9, 20130427,     1724,  30.0006, 177.8083,    34.5761,2,     -999.0,9,     -999.0,9,     3.2025,2,     -999.0,9,     -999.0,9,-999.0000, -999.00,-999.000
318M20130321,       P02W,      71,          1,         16,         16,2,20130427,       1556,    30.0007,    177.808,       5328,  1312.3,   2.9963,  34.4531,2,  34.4531,2,     34.3,2,    34.7,2,  141.26,2,   43.31,2,       0,2,    3.14,2,   0.030,2,   0.022,2,   0.000,2,        0,2,  2371.8,2, 2383.65,2,   7.3406,2,       25,-999.000,9,-999.0000,9, -999.00,9,   -0.45,2,  -217.4,2,     1.8,-999.000,9,-999.000,     -999.0,9, -999.00,9,   36.33,2, -999.00,9,     -999.0,9,  -999.0,9, 20130427,     1722,  30.0005, 177.8088,    34.6155,2,     -999.0,9,     -999.0,9,     2.9963,2,     -999.0,9,     -999.0,9,-999.0000, -999.00,-999.000
318M20130321,       P02W,      71,          1,         15,         15,2,20130427,       1556,    30.0007,    177.808,       5328,  1413.2,   2.7881,  34.4882,2,  34.4876,2,     39.2,2,    38.4,2,  146.43,2,   43.18,2,       0,2,    3.12,2,-999.000,9,-999.000,9,-999.000,9,-999.0000,9,  2374.6,2, 2390.45,2,   7.3551,6,       25,-999.000,9,-999.0000,9, -999.00,9,   -0.42,2,  -225.6,2,     2.2,-999.000,9,-999.000,     -999.0,9, -999.00,9,   38.23,2, -999.00,9,     -999.0,9,  -999.0,9, 20130427,     1719,  30.0004, 177.8087,    34.6502,2,     -999.0,9,     -999.0,9,     2.7891,2,     -999.0,9,     -999.0,9,-999.0000, -999.00,-999.000
318M20130321,       P02W,      71,          1,         14,         14,2,20130427,       1556,    30.0007,    177.808,       5328,  1615.5,   2.4012,  34.5421,2,  34.5422,2,     50.9,2,    49.1,2,  156.38,2,   42.64,2,       0,2,    3.06,2,-999.000,9,-999.000,9,-999.000,9,-999.0000,9,  2379.2,2, 2402.35,2,   7.3771,2,       25,-999.000,9,-999.0000,9, -999.00,9,   -0.39,2,  -234.7,2,     2.0,-999.000,9,-999.000,     -999.0,9, -999.00,9,      37,2, -999.00,9,     -999.0,9,  -999.0,9, 20130427,     1714,  30.0002, 177.8084,    34.7051,2,     -999.0,9,     -999.0,9,     2.4013,2,     -999.0,9,     -999.0,9,-999.0000, -999.00,-999.000
318M20130321,       P02W,      71,          1,         13,         13,2,20130427,       1556,    30.0007,    177.808,       5328,  1820.8,   2.1158,  34.5824,2,  34.5829,2,     65.5,2,    66.2,2,  160.87,2,   41.62,2,       0,2,    2.98,2,   0.008,2,   0.009,2,   0.000,2,        0,2,  2373.9,2, 2408.66,2,    7.411,2,       25,-999.000,9,-999.0000,9, -999.00,9,   -0.28,2,  -237.9,2,     1.8,-999.000,9,-999.000,     -999.0,9, -999.00,9,   35.51,2, -999.00,9,     -999.0,9,  -999.0,9, 20130427,     1709,       30, 177.8082,    34.7459,2,     -999.0,9,     -999.0,9,     2.1158,2,     -999.0,9,     -999.0,9,-999.0000, -999.00,-999.000
318M20130321,       P02W,      71,          1,         11,         11,2,20130427,       1556,    30.0007,    177.808,       5328,  2123.3,    1.866,  34.6161,2,  34.6162,2,     84.7,2,      86,2,  163.01,2,    40.4,2,       0,2,    2.87,2,   0.001,2,   0.007,2,   0.000,2,        0,2,  2363.9,2, 2414.16,2,   7.4497,2,       25,-999.000,9,-999.0000,9, -999.00,9,   -0.21,2,  -240.9,2,     2.3,-999.000,9,-999.000,     -999.0,9, -999.00,9,   36.46,2, -999.00,9,     -999.0,9,  -999.0,9, 20130427,     1703,       30, 177.8082,    34.7795,2,     -999.0,9,     -999.0,9,     1.8657,2,     -999.0,9,     -999.0,9,-999.0000, -999.00,-999.000
318M20130321,       P02W,      71,          1,         10,         10,2,20130427,       1556,    30.0007,    177.808,       5328,  2428.2,   1.7066,  34.6373,2,  34.6373,2,      101,2,   100.8,2,  163.11,2,   39.45,2,       0,2,    2.79,2,-999.000,9,-999.000,9,-999.000,9,-999.0000,9,  -999.0,9, -999.00,9,-999.0000,9,  -999.00,-999.000,9,-999.0000,9, -999.00,9, -999.00,9,  -999.0,9,  -999.0,-999.000,9,-999.000,     -999.0,9, -999.00,9, -999.00,9, -999.00,9,     -999.0,9,  -999.0,9, 20130427,     1656,  30.0001, 177.8081,    34.8006,2,     -999.0,9,     -999.0,9,     1.7066,2,     -999.0,9,     -999.0,9,-999.0000, -999.00,-999.000
318M20130321,       P02W,      71,          1,          9,          9,2,20130427,       1556,    30.0007,    177.808,       5328,  2731.5,   1.5931,  34.6543,2,  34.6538,2,    116.1,2,   116.6,2,  160.57,2,   38.41,2,       0,2,    2.72,2,   0.000,2,   0.007,2,   0.000,2,        0,2,  2348.1,2, 2417.66,2,   7.5077,2,       25,-999.000,9,-999.0000,9, -999.00,9, -999.00,9,  -999.0,9,  -999.0,-999.000,9,-999.000,     -999.0,9, -999.00,9,   35.41,2, -999.00,9,     -999.0,9,  -999.0,9, 20130427,     1650,  30.0001, 177.8082,    34.8172,2,     -999.0,9,     -999.0,9,      1.593,2,     -999.0,9,     -999.0,9,-999.0000, -999.00,-999.000
318M20130321,       P02W,      71,          1,          8,          8,2,20130427,       1556,    30.0007,    177.808,       5328,  3039.1,   1.5296,  34.6647,2,  34.6644,2,      127,2,   126.7,2,   159.2,2,   37.72,2,       0,2,    2.67,2,-999.000,9,-999.000,9,-999.000,9,-999.0000,9,  -999.0,9, -999.00,9,-999.0000,9,  -999.00,-999.000,9,-999.0000,9, -999.00,9, -999.00,9,  -999.0,9,  -999.0,-999.000,9,-999.000,     -999.0,9, -999.00,9, -999.00,9, -999.00,9,     -999.0,9,  -999.0,9, 20130427,     1644,  30.0003, 177.8079,    34.8278,2,     -999.0,9,     -999.0,9,     1.5297,2,     -999.0,9,     -999.0,9,-999.0000, -999.00,-999.000
318M20130321,       P02W,      71,          1,          7,          7,2,20130427,       1556,    30.0007,    177.808,       5328,  3343.9,   1.4852,  34.6734,2,   34.673,2,    136.3,2,     136,2,  157.25,2,    37.1,2,       0,2,    2.63,2,-999.000,9,-999.000,9,-999.000,9,-999.0000,9,  2335.1,2, 2417.66,6,   7.5432,2,       25,-999.000,9,-999.0000,9, -999.00,9, -999.00,9,  -999.0,9,  -999.0,-999.000,9,-999.000,     -999.0,9, -999.00,9, -999.00,5, -999.00,9,     -999.0,9,  -999.0,9, 20130427,     1638,  30.0002, 177.8073,    34.8365,2,     -999.0,9,     -999.0,9,     1.4853,2,     -999.0,9,     -999.0,9,-999.0000, -999.00,-999.000