BOTTLE,20220817CCHSIOAMB
EXPOCODE,SECT_ID,STNNBR,CASTNO,SAMPNO,BTLNBR,BTLNBR_FLAG_W,DATE,TIME,LATITUDE,LONGITUDE,DEPTH,CTDPRS,CTDTMP,CTDSAL,CTDSAL_FLAG_W,SALNTY,SALNTY_FLAG_W,CTDOXY,CTDOXY_FLAG_W,OXYGEN,OXYGEN_FLAG_W,SILCAT,SILCAT_FLAG_W,NITRAT,NITRAT_FLAG_W,NITRIT,NITRIT_FLAG_W,PHSPHT,PHSPHT_FLAG_W,CFC-11,CFC-11_FLAG_W,CFC-12,CFC-12_FLAG_W,CFC113,CFC113_FLAG_W,SF6,SF6_FLAG_W,TCARBN,TCARBN_FLAG_W,ALKALI,ALKALI_FLAG_W,PH_TOT,PH_TOT_FLAG_W,PH_TMP,TRITUM,TRITUM_FLAG_W,HELIUM,HELIUM_FLAG_W,DELHE3,DELHE3_FLAG_W,DELC13,DELC13_FLAG_W,DELC14,DELC14_FLAG_W,C14ERR,NEON,NEON_FLAG_W,NEONER,I-129,I-129_FLAG_W,SR-90,SR-90_FLAG_W,DOC,DOC_FLAG_W,TDN,TDN_FLAG_W,CALCIUM,CALCIUM_FLAG_W,D15N_NO3,D15N_NO3_FLAG_W,BTL_DATE,BTL_TIME,BTL_LAT,BTL_LON,SALTREF,SALTREF_FLAG_W,CS-137,CS-137_FLAG_W,CS-134,CS-134_FLAG_W,REFTMP,REFTMP_FLAG_W,LAB_DEN,LAB_DEN_FLAG_W,D18O_NO3,D18O_NO3_FLAG_W,HELIER,DELHER,TRITER
,,,,,,,,,,,METERS,DBAR,ITS-90,PSS-78,,PSS-78,,UMOL/KG,,UMOL/KG,,UMOL/KG,,UMOL/KG,,UMOL/KG,,UMOL/KG,,PMOL/KG,,PMOL/KG,,PMOL/KG,,FMOL/KG,,UMOL/KG,,UMOL/KG,,,,DEG C,TU,,NMOL/KG,,PERCNT,,/MILLE,,/MILLE,,/MILLE,NMOL/KG,,NMOL/KG,BQ/M^3,,DM/.1MG,,UMOL/KG,,UMOL/KG,,MMOL/KG,,/MILLE,,,,,,G/KG,,BQ/M^3,,BQ/M^3,,ITS-90,,,,/MILLE,,NMOL/KG,PERCNT,TU
318M20130321,       P02W,      40,          1,         36,         36,2,20130417,       0333,    30.0009,   153.5649,       5801,       3,  20.6525,  34.9537,2,  34.9549,2,    225.8,2,   226.5,2,    1.66,2,       0,2,       0,2,    0.01,2,   2.309,2,   1.420,2,   0.179,2,     1.31,2,  2000.5,6, 2291.91,2,   8.0321,2,       25,   0.489,2,-999.0000,9, -999.00,9, -999.00,9,  -999.0,9,  -999.0,-999.000,9,-999.000,     -999.0,9, -999.00,9, -999.00,9, -999.00,9,     -999.0,9,  -999.0,1, 20130417,      550,  29.9996, 153.5663,    35.1198,2,     -999.0,9,     -999.0,9,    20.6528,2,     -999.0,9,     -999.0,1,-999.0000, -999.00,   0.012
318M20130321,       P02W,      40,          1,         35,         35,2,20130417,       0333,    30.0009,   153.5649,       5801,    19.2,  20.3855,  34.9401,2,  34.9412,2,    227.5,2,   227.3,2,    1.46,2,       0,2,       0,2,    0.01,2,   2.339,2,   1.441,2,   0.193,2,     1.28,2,  2001.6,2, 2292.71,6,   8.0316,2,       25,-999.000,9,-999.0000,9, -999.00,9, -999.00,9,  -999.0,9,  -999.0,-999.000,9,-999.000,     -999.0,9, -999.00,9, -999.00,9, -999.00,9,     -999.0,9,  -999.0,1, 20130417,      548,  29.9997, 153.5663,    35.1059,2,     -999.0,9,     -999.0,9,    20.3868,2,     -999.0,9,     -999.0,1,-999.0000, -999.00,-999.000
318M20130321,       P02W,      40,          1,         34,         34,2,20130417,       0333,    30.0009,   153.5649,       5801,      40,   20.059,  34.9063,2,  34.9101,2,    230.6,2,   229.2,2,    1.76,2,       0,2,       0,2,    0.01,2,   2.324,2,   1.419,2,   0.187,2,     1.37,2,  -999.0,9, -999.00,9,-999.0000,9,  -999.00,   0.490,2,   1.7392,2,   -1.37,2, -999.00,9,  -999.0,9,  -999.0,   7.058,2,   0.032,     -999.0,9, -999.00,9, -999.00,9, -999.00,9,     -999.0,9,  -999.0,1, 20130417,      547,  29.9997, 153.5661,    35.0747,2,     -999.0,9,     -999.0,9,     20.063,2,     -999.0,9,     -999.0,1,   0.0073,    0.15,   0.011
318M20130321,       P02W,      40,          1,         33,         33,2,20130417,       0333,    30.0009,   153.5649,       5801,    65.6,  19.2199,  34.8423,2,  34.8466,2,    220.1,2,     227,2,    2.15,2,    0.06,2,    0.03,2,    0.04,2,   2.389,2,   1.469,2,   0.167,2,     1.28,2,  2006.5,2, 2287.31,2,   8.0123,6,       25,-999.000,9,-999.0000,9, -999.00,9, -999.00,9,  -999.0,9,  -999.0,-999.000,9,-999.000,     -999.0,9, -999.00,9, -999.00,9, -999.00,9,     -999.0,9,  -999.0,1, 20130417,      545,  29.9998, 153.5659,    35.0109,2,     -999.0,9,     -999.0,9,    19.2263,2,     -999.0,9,     -999.0,1,-999.0000, -999.00,-999.000
318M20130321,       P02W,      40,          1,         32,         32,2,20130417,       0333,    30.0009,   153.5649,       5801,    90.7,  18.3479,   34.776,2,  34.7766,2,      219,2,   215.9,2,    2.73,2,    1.68,2,    0.23,2,    0.16,2,-999.000,9,-999.000,9,-999.000,9,-999.0000,9,  -999.0,9, -999.00,9,-999.0000,9,  -999.00,-999.000,9,-999.0000,9, -999.00,9, -999.00,9,  -999.0,9,  -999.0,-999.000,9,-999.000,     -999.0,9, -999.00,9, -999.00,9, -999.00,9,     -999.0,9,  -999.0,1, 20130417,      543,  29.9999, 153.5658,    34.9405,2,     -999.0,9,     -999.0,9,    18.3467,2,     -999.0,9,     -999.0,1,-999.0000, -999.00,-999.000
318M20130321,       P02W,      40,          1,         31,         31,2,20130417,       0333,    30.0009,   153.5649,       5801,   135.3,  17.6818,  34.7249,2,   34.726,2,    220.9,2,   224.9,2,    3.03,2,    2.22,2,    0.09,2,    0.17,2,-999.000,5,-999.000,5,-999.000,5,-999.0000,5,    2017,2, 2279.81,2,   7.9826,2,       25,   0.529,2,   1.7634,2,   -1.05,2, -999.00,9,  -999.0,9,  -999.0,   7.230,2,   0.033,     -999.0,9, -999.00,9, -999.00,9, -999.00,9,     -999.0,9,  -999.0,1, 20130417,      542,  29.9999, 153.5659,    34.8898,2,     -999.0,9,     -999.0,9,    17.6812,2,     -999.0,9,     -999.0,1,   0.0074,    0.15,   0.011
318M20130321,       P02W,      40,          1,         30,         30,2,20130417,       0333,    30.0009,   153.5649,       5801,   187.2,  17.2475,  34.7135,2,  34.7125,2,    212.5,2,   209.7,2,       4,2,     4.2,2,    0.02,2,    0.28,2,-999.000,9,-999.000,9,-999.000,9,-999.0000,9,  -999.0,9, -999.00,9,-999.0000,9,  -999.00,-999.000,9,-999.0000,9, -999.00,9, -999.00,9,  -999.0,9,  -999.0,-999.000,9,-999.000,     -999.0,9, -999.00,9, -999.00,9, -999.00,9,     -999.0,9,  -999.0,1, 20130417,      540,  29.9999,  153.566,    34.8761,2,     -999.0,9,     -999.0,9,    17.2402,2,     -999.0,9,     -999.0,1,-999.0000, -999.00,-999.000
318M20130321,       P02W,      40,          1,         29,         29,2,20130417,       0333,    30.0009,   153.5649,       5801,     237,  16.7318,  34.6806,2,  34.6802,2,    210.8,2,     210,2,    4.78,2,    5.03,2,    0.02,2,    0.35,2,-999.000,5,-999.000,5,-999.000,5,-999.0000,5,  2036.7,2, 2277.81,2,   7.9425,2,       25,   0.478,2,   1.7699,2,   -0.43,2, -999.00,9,  -999.0,9,  -999.0,   7.339,2,   0.034,     -999.0,9, -999.00,9, -999.00,9, -999.00,9,     -999.0,9,  -999.0,1, 20130417,      538,       30, 153.5659,    34.8438,2,     -999.0,9,     -999.0,9,    16.7298,2,     -999.0,9,     -999.0,1,   0.0074,    0.15,   0.011
318M20130321,       P02W,      40,          1,         28,         28,2,20130417,       0333,    30.0009,   153.5649,       5801,   287.7,  16.1883,  34.6403,2,  34.6405,2,    206.4,2,   204.4,2,    6.44,2,    6.39,2,    0.01,2,    0.45,2,-999.000,9,-999.000,9,-999.000,9,-999.0000,9,  -999.0,9, -999.00,9,-999.0000,9,  -999.00,-999.000,9,-999.0000,9, -999.00,9, -999.00,9,  -999.0,9,  -999.0,-999.000,9,-999.000,     -999.0,9, -999.00,9, -999.00,9, -999.00,9,     -999.0,9,  -999.0,1, 20130417,      536,  30.0001, 153.5656,    34.8039,2,     -999.0,9,     -999.0,9,    16.1892,2,     -999.0,9,     -999.0,1,-999.0000, -999.00,-999.000
318M20130321,       P02W,      40,          1,         27,         27,2,20130417,       0333,    30.0009,   153.5649,       5801,   338.3,  15.4415,  34.5839,2,  34.5844,2,    197.2,2,   197.3,2,    8.69,2,    8.19,2,    0.01,2,    0.58,2,   2.724,2,-999.000,5,   0.046,2,     1.22,2,  2060.9,2, 2274.81,2,   7.8894,6,       25,   0.491,2,   1.7754,2,    0.59,2, -999.00,9,  -999.0,9,  -999.0,   7.422,2,   0.034,     -999.0,9, -999.00,9, -999.00,9, -999.00,9,     -999.0,9,  -999.0,1, 20130417,      535,  30.0002, 153.5652,    34.7474,2,     -999.0,9,     -999.0,9,    15.4367,2,     -999.0,9,     -999.0,1,   0.0075,    0.15,   0.014
318M20130321,       P02W,      40,          1,         26,         26,2,20130417,       0333,    30.0009,   153.5649,       5801,   383.8,  14.4394,  34.5147,2,  34.5146,2,    192.4,2,     192,2,   11.81,2,   10.29,2,    0.01,2,    0.72,2,   2.846,2,   1.629,2,   0.047,2,     1.18,2,  -999.0,9, -999.00,9,-999.0000,9,  -999.00,   0.490,2,   1.7807,2,    1.52,2, -999.00,9,  -999.0,9,  -999.0,   7.411,2,   0.034,     -999.0,9, -999.00,9, -999.00,9, -999.00,9,     -999.0,9,  -999.0,1, 20130417,      533,  30.0003, 153.5651,    34.6774,2,     -999.0,9,     -999.0,9,    14.4336,2,     -999.0,9,     -999.0,1,   0.0075,    0.15,   0.013
318M20130321,       P02W,      40,          1,         25,         25,2,20130417,       0333,    30.0009,   153.5649,       5801,   464.4,  12.1189,  34.3612,2,  34.3609,2,    190.6,2,     188,2,   19.43,2,   14.39,2,    0.01,2,    1.03,2,   3.005,2,   1.599,2,   0.092,2,        1,2,  2107.6,2, 2273.01,2,   7.7855,2,       25,   0.490,2,   1.7593,2,    3.29,2, -999.00,9,  -999.0,9,  -999.0,   7.402,2,   0.034,     -999.0,9, -999.00,9, -999.00,9, -999.00,9,     -999.0,9,  -999.0,1, 20130417,      531,  30.0004, 153.5651,     34.523,2,     -999.0,9,     -999.0,9,    12.1249,2,     -999.0,9,     -999.0,1,   0.0074,    0.15,   0.013
318M20130321,       P02W,      40,          1,         24,         24,2,20130417,       0333,    30.0009,   153.5649,       5801,   566.2,   9.2289,  34.1478,2,  34.1474,2,    180.4,2,     180,2,   31.73,2,   20.03,2,    0.01,2,    1.45,2,-999.000,9,-999.000,9,-999.000,9,-999.0000,9,  -999.0,9, -999.00,9,-999.0000,9,  -999.00,-999.000,9,-999.0000,9, -999.00,9, -999.00,9,  -999.0,9,  -999.0,-999.000,9,-999.000,     -999.0,9, -999.00,9, -999.00,9, -999.00,9,     -999.0,9,  -999.0,1, 20130417,      528,  30.0006, 153.5652,    34.3084,2,     -999.0,9,     -999.0,9,     9.2404,2,     -999.0,9,     -999.0,1,-999.0000, -999.00,-999.000
318M20130321,       P02W,      40,          1,         23,         23,2,20130417,       0333,    30.0009,   153.5649,       5801,   667.3,   6.4564,  34.0047,2,  34.0049,2,    150.8,2,   150.5,2,   55.57,2,   27.85,2,       0,2,    2.04,2,   2.838,2,   1.407,2,   0.146,2,     0.86,2,  2207.2,2, 2286.31,2,   7.5536,2,       25,   0.398,2,   1.8678,2,    9.15,2, -999.00,9,  -999.0,9,  -999.0,   8.129,2,   0.037,     -999.0,9, -999.00,9, -999.00,9, -999.00,9,     -999.0,9,  -999.0,1, 20130417,      525,  30.0007, 153.5654,    34.1652,2,     -999.0,9,     -999.0,9,     6.4507,2,     -999.0,9,     -999.0,1,   0.0078,    0.15,   0.013
318M20130321,       P02W,      40,          1,         22,         22,2,20130417,       0333,    30.0009,   153.5649,       5801,   769.4,   5.1362,  34.0508,2,  34.0523,2,     97.1,2,   103.3,2,   78.81,2,   34.45,2,       0,2,    2.52,2,   2.036,2,   1.068,2,   0.112,2,     0.53,2,  -999.0,9, -999.00,9,-999.0000,9,  -999.00,   0.284,2,   1.9031,2,   12.59,2, -999.00,9,  -999.0,9,  -999.0,   8.182,2,   0.038,     -999.0,9, -999.00,9, -999.00,9, -999.00,9,     -999.0,9,  -999.0,1, 20130417,      522,  30.0007, 153.5655,    34.2129,2,     -999.0,9,     -999.0,9,     5.1351,2,     -999.0,9,     -999.0,1,   0.0080,    0.15,   0.013
318M20130321,       P02W,      40,          1,         21,         21,2,20130417,       0333,    30.0009,   153.5649,       5801,     871,   4.3494,  34.1693,2,  34.1713,2,     65.8,2,      65,2,  101.16,2,   38.85,2,       0,2,    2.81,2,   1.164,2,   0.566,2,   0.054,2,     0.33,2,  2308.1,2, 2328.23,2,   7.3707,6,       25,   0.195,2,   1.9045,2,   15.26,2, -999.00,9,  -999.0,9,  -999.0,   8.113,2,   0.037,     -999.0,9, -999.00,9, -999.00,9, -999.00,9,     -999.0,9,  -999.0,1, 20130417,      519,  30.0007, 153.5655,    34.3324,2,     -999.0,9,     -999.0,9,     4.3496,2,     -999.0,9,     -999.0,1,   0.0080,    0.15,   0.013
318M20130321,       P02W,      40,          1,         20,         20,2,20130417,       0333,    30.0009,   153.5649,       5801,   972.7,   3.8759,  34.2567,2,  34.2581,2,     48.1,2,      47,2,  115.31,2,   40.84,2,       0,2,    2.95,2,-999.000,9,-999.000,9,-999.000,9,-999.0000,9,  -999.0,9, -999.00,9,-999.0000,9,  -999.00,-999.000,9,-999.0000,9, -999.00,9, -999.00,9,  -999.0,9,  -999.0,-999.000,9,-999.000,     -999.0,9, -999.00,9, -999.00,9, -999.00,9,     -999.0,9,  -999.0,1, 20130417,      517,  30.0008, 153.5655,    34.4197,2,     -999.0,9,     -999.0,9,     3.8756,2,     -999.0,9,     -999.0,1,-999.0000, -999.00,-999.000
318M20130321,       P02W,      40,          1,         19,         19,2,20130417,       0333,    30.0009,   153.5649,       5801,  1069.8,   3.5149,  34.3201,2,  34.3207,2,     41.1,2,    40.5,2,  125.95,2,   41.75,2,       0,2,    3.05,2,   0.381,2,   0.181,2,   0.011,2,     0.08,2,  2348.7,2, 2357.14,2,   7.3373,2,       25,   0.081,2,   1.9257,2,   16.72,2, -999.00,9,  -999.0,9,  -999.0,   8.214,2,   0.038,     -999.0,9, -999.00,9, -999.00,9, -999.00,9,     -999.0,9,  -999.0,1, 20130417,      514,  30.0008, 153.5659,    34.4825,2,     -999.0,9,     -999.0,9,     3.5159,2,     -999.0,9,     -999.0,1,   0.0081,    0.15,   0.012
318M20130321,       P02W,      40,          1,         18,         18,2,20130417,       0333,    30.0009,   153.5649,       5801,  1171.8,   3.2084,  34.3732,2,  34.3743,2,     38.3,2,    38.1,2,  134.73,2,   42.25,2,       0,2,    3.06,2,   0.234,2,   0.118,2,   0.010,2,     0.03,2,  2358.4,2, 2368.94,2,   7.3351,2,       25,   0.089,2,   1.9175,2,   17.46,2, -999.00,9,  -999.0,9,  -999.0,   8.255,2,   0.038,     -999.0,9, -999.00,9, -999.00,9, -999.00,9,     -999.0,9,  -999.0,1, 20130417,      511,  30.0008, 153.5661,    34.5364,2,     -999.0,9,     -999.0,9,     3.2086,2,     -999.0,9,     -999.0,1,   0.0081,    0.15,   0.013
318M20130321,       P02W,      40,          1,         17,         17,2,20130417,       0333,    30.0009,   153.5649,       5801,  1272.8,   2.9665,  34.4164,2,  34.4177,2,     35.9,2,    35.4,2,  141.46,2,   42.76,2,       0,2,    3.08,2,   0.129,2,   0.065,2,   0.010,2,     0.04,2,    2367,2, 2378.04,2,   7.3348,2,       25,   0.031,2,   1.9306,2,   17.76,2, -999.00,9,  -999.0,9,  -999.0,   8.217,2,   0.038,     -999.0,9, -999.00,9, -999.00,9, -999.00,9,     -999.0,9,  -999.0,1, 20130417,      509,  30.0008,  153.566,    34.5799,2,     -999.0,9,     -999.0,9,     2.9669,2,     -999.0,9,     -999.0,1,   0.0081,    0.15,   0.013
318M20130321,       P02W,      40,          1,         16,         16,2,20130417,       0333,    30.0009,   153.5649,       5801,  1375.5,   2.7287,  34.4593,2,  34.4605,2,     37.3,2,    36.7,2,  148.39,2,   42.94,2,       0,2,    3.09,2,-999.000,9,-999.000,9,-999.000,9,-999.0000,9,  2373.4,2, 2388.15,2,    7.341,2,       25,-999.000,9,-999.0000,9, -999.00,9, -999.00,9,  -999.0,9,  -999.0,-999.000,9,-999.000,     -999.0,9, -999.00,9, -999.00,9, -999.00,9,     -999.0,9,  -999.0,1, 20130417,      506,   30.001, 153.5656,    34.6229,2,     -999.0,9,     -999.0,9,     2.7288,2,     -999.0,9,     -999.0,1,-999.0000, -999.00,-999.000
318M20130321,       P02W,      40,          1,         15,         15,2,20130417,       0333,    30.0009,   153.5649,       5801,  1549.2,   2.4342,  34.5129,2,   34.514,2,     43.5,2,    43.9,2,  156.19,2,   42.73,2,       0,2,    3.06,2,   0.024,2,   0.022,2,   0.004,2,        0,2,  -999.0,9, -999.00,9,-999.0000,9,  -999.00,   0.001,2,   1.9910,3,   18.62,2, -999.00,9,  -999.0,9,  -999.0,   8.511,3,   0.039,     -999.0,9, -999.00,9, -999.00,9, -999.00,9,     -999.0,9,  -999.0,1, 20130417,      502,  30.0011, 153.5657,    34.6768,2,     -999.0,9,     -999.0,9,     2.4343,2,     -999.0,9,     -999.0,1,   0.0084,    0.15,   0.012
318M20130321,       P02W,      40,          1,         14,         14,2,20130417,       0333,    30.0009,   153.5649,       5801,  1549.4,   2.4335,   34.513,2,   34.514,2,     43.5,2,    43.9,2,   155.6,2,   42.67,2,       0,2,    3.07,2,-999.000,9,-999.000,9,-999.000,9,-999.0000,9,  2379.7,2, 2397.15,2,    7.359,2,       25,-999.000,9,-999.0000,9, -999.00,9, -999.00,9,  -999.0,9,  -999.0,-999.000,9,-999.000,     -999.0,9, -999.00,9, -999.00,9, -999.00,9,     -999.0,9,  -999.0,1, 20130417,      502,  30.0011, 153.5657,    34.6768,2,     -999.0,9,     -999.0,9,     2.4332,2,     -999.0,9,     -999.0,1,-999.0000, -999.00,-999.000
318M20130321,       P02W,      40,          1,         13,         13,2,20130417,       0333,    30.0009,   153.5649,       5801,  1778.3,   2.1521,   34.563,2,  34.5655,2,     60.6,2,    60.5,2,  160.58,2,   41.79,2,       0,2,    2.98,2,   0.006,2,   0.013,2,   0.004,2,     0.03,2,  2374.4,2, 2405.45,2,   7.3937,2,       25,  -0.002,2,   1.9687,2,   19.04,2, -999.00,9,  -999.0,9,  -999.0,   8.348,2,   0.038,     -999.0,9, -999.00,9, -999.00,9, -999.00,9,     -999.0,9,  -999.0,1, 20130417,      457,  30.0013, 153.5662,    34.7285,2,     -999.0,9,     -999.0,9,     2.1518,2,     -999.0,9,     -999.0,1,   0.0083,    0.15,   0.014
318M20130321,       P02W,      40,          1,         12,         12,2,20130417,       0333,    30.0009,   153.5649,       5801,  2033.3,   1.9297,  34.6024,2,  34.6038,2,       81,2,    81.3,2,  161.26,2,   40.51,2,       0,2,    2.88,2,   0.002,2,   0.010,2,   0.005,2,     0.04,2,    2367,2, 2411.76,2,   7.4384,2,       25,  -0.002,2,   1.8469,3,   18.78,2, -999.00,9,  -999.0,9,  -999.0,   7.996,2,   0.037,     -999.0,9, -999.00,9, -999.00,9, -999.00,9,     -999.0,9,  -999.0,1, 20130417,      451,  30.0014, 153.5658,     34.767,2,     -999.0,9,     -999.0,9,     1.9299,2,     -999.0,9,     -999.0,1,   0.0078,    0.15,   0.012
318M20130321,       P02W,      40,          1,         11,         11,2,20130417,       0333,    30.0009,   153.5649,       5801,  2319.6,   1.7504,  34.6305,2,  34.6319,2,      100,2,     100,2,  160.47,2,   39.33,2,       0,2,    2.78,2,-999.000,9,-999.000,9,-999.000,9,-999.0000,9,    2357,2, 2414.76,2,    7.475,2,       25,-999.000,9,-999.0000,9, -999.00,9, -999.00,9,  -999.0,9,  -999.0,-999.000,9,-999.000,     -999.0,9, -999.00,9, -999.00,9, -999.00,9,     -999.0,9,  -999.0,1, 20130417,      445,  30.0016, 153.5653,    34.7952,2,     -999.0,9,     -999.0,9,     1.7504,2,     -999.0,9,     -999.0,1,-999.0000, -999.00,-999.000
318M20130321,       P02W,      40,          1,         10,         10,2,20130417,       0333,    30.0009,   153.5649,       5801,  2628.4,   1.6362,  34.6506,2,  34.6515,2,    118.1,2,   118.4,2,  156.66,2,   38.14,2,       0,2,    2.69,2,   0.001,2,   0.005,2,   0.004,2,     0.03,2,  -999.0,9, -999.00,9,-999.0000,9,  -999.00,-999.000,9,-999.0000,9, -999.00,9, -999.00,9,  -999.0,9,  -999.0,-999.000,9,-999.000,     -999.0,9, -999.00,9, -999.00,9, -999.00,9,     -999.0,9,  -999.0,1, 20130417,      439,  30.0015, 153.5656,    34.8149,2,     -999.0,9,     -999.0,9,     1.6365,2,     -999.0,9,     -999.0,1,-999.0000, -999.00,-999.000
318M20130321,       P02W,      40,          1,          9,          9,2,20130417,       0333,    30.0009,   153.5649,       5801,  2930.1,    1.566,  34.6625,2,  34.6631,2,    130.4,2,   128.4,2,  154.32,2,   37.42,2,       0,2,    2.64,2,-999.000,9,-999.000,9,-999.000,9,-999.0000,9,  2338.1,2, 2415.06,2,   7.5283,2,       25,-999.000,9,-999.0000,9, -999.00,9, -999.00,9,  -999.0,9,  -999.0,-999.000,9,-999.000,     -999.0,9, -999.00,9, -999.00,9, -999.00,9,     -999.0,9,  -999.0,1, 20130417,      434,  30.0013, 153.5654,    34.8266,2,     -999.0,9,     -999.0,9,     1.5661,2,     -999.0,9,     -999.0,1,-999.0000, -999.00,-999.000
318M20130321,       P02W,      40,          1,          8,          8,2,20130417,       0333,    30.0009,   153.5649,       5801,  3238.9,   1.5177,  34.6709,2,  34.6716,2,    137.3,2,   137.7,2,  152.37,2,   36.85,2,       0,2,    2.59,2,   0.001,2,   0.009,2,   0.006,2,     0.05,2,  -999.0,9, -999.00,9,-999.0000,9,  -999.00,-999.000,9,-999.0000,9, -999.00,9, -999.00,9,  -999.0,9,  -999.0,-999.000,9,-999.000,     -999.0,9, -999.00,9, -999.00,9, -999.00,9,     -999.0,9,  -999.0,1, 20130417,      427,  30.0013, 153.5656,    34.8351,2,     -999.0,9,     -999.0,9,     1.5177,2,     -999.0,9,     -999.0,1,-999.0000, -999.00,-999.000