BOTTLE,20220817CCHSIOAMB
EXPOCODE,SECT_ID,STNNBR,CASTNO,SAMPNO,BTLNBR,BTLNBR_FLAG_W,DATE,TIME,LATITUDE,LONGITUDE,DEPTH,CTDPRS,CTDTMP,CTDSAL,CTDSAL_FLAG_W,SALNTY,SALNTY_FLAG_W,CTDOXY,CTDOXY_FLAG_W,OXYGEN,OXYGEN_FLAG_W,SILCAT,SILCAT_FLAG_W,NITRAT,NITRAT_FLAG_W,NITRIT,NITRIT_FLAG_W,PHSPHT,PHSPHT_FLAG_W,CFC-11,CFC-11_FLAG_W,CFC-12,CFC-12_FLAG_W,CFC113,CFC113_FLAG_W,SF6,SF6_FLAG_W,TCARBN,TCARBN_FLAG_W,ALKALI,ALKALI_FLAG_W,PH_TOT,PH_TOT_FLAG_W,PH_TMP,TRITUM,TRITUM_FLAG_W,HELIUM,HELIUM_FLAG_W,DELHE3,DELHE3_FLAG_W,DELC13,DELC13_FLAG_W,DELC14,DELC14_FLAG_W,C14ERR,NEON,NEON_FLAG_W,NEONER,I-129,I-129_FLAG_W,SR-90,SR-90_FLAG_W,DOC,DOC_FLAG_W,TDN,TDN_FLAG_W,CALCIUM,CALCIUM_FLAG_W,D15N_NO3,D15N_NO3_FLAG_W,BTL_DATE,BTL_TIME,BTL_LAT,BTL_LON,SALTREF,SALTREF_FLAG_W,CS-137,CS-137_FLAG_W,CS-134,CS-134_FLAG_W,REFTMP,REFTMP_FLAG_W,LAB_DEN,LAB_DEN_FLAG_W,D18O_NO3,D18O_NO3_FLAG_W,HELIER,DELHER,TRITER
,,,,,,,,,,,METERS,DBAR,ITS-90,PSS-78,,PSS-78,,UMOL/KG,,UMOL/KG,,UMOL/KG,,UMOL/KG,,UMOL/KG,,UMOL/KG,,PMOL/KG,,PMOL/KG,,PMOL/KG,,FMOL/KG,,UMOL/KG,,UMOL/KG,,,,DEG C,TU,,NMOL/KG,,PERCNT,,/MILLE,,/MILLE,,/MILLE,NMOL/KG,,NMOL/KG,BQ/M^3,,DM/.1MG,,UMOL/KG,,UMOL/KG,,MMOL/KG,,/MILLE,,,,,,G/KG,,BQ/M^3,,BQ/M^3,,ITS-90,,,,/MILLE,,NMOL/KG,PERCNT,TU
318M20130321,       P02W,      65,          1,         35,         35,2,20130425,       2252,    30.0003,   173.9782,       4474,     2.7,  20.6991,  35.2002,2,  35.1999,2,    223.1,2,   224.3,2,    1.27,2,       0,2,       0,2,       0,2,   2.240,2,   1.396,2,   0.189,2,     1.41,2,  2012.4,2, 2310.82,2,   8.0355,6,       25,-999.000,9,-999.0000,9, -999.00,9,    0.69,2,    51.0,2,     2.8,-999.000,9,-999.000,     -999.0,9, -999.00,9,   62.98,2,    4.09,2,     -999.0,9,  -999.0,9, 20130426,       54,  30.0008, 173.9814,    35.3658,2,     -999.0,9,     -999.0,9,    20.7001,2,     -999.0,9,     -999.0,9,-999.0000, -999.00,-999.000
318M20130321,       P02W,      65,          1,         36,         36,2,20130425,       2252,    30.0003,   173.9782,       4474,    23.4,   20.663,  35.1972,2,  35.1977,2,    223.2,2,   224.4,2,    1.46,2,       0,2,       0,2,    0.01,2,   2.231,2,   1.401,2,   0.181,2,     1.26,2,  -999.0,9, -999.00,9,-999.0000,9,  -999.00,-999.000,9,-999.0000,9, -999.00,9, -999.00,9,  -999.0,9,  -999.0,-999.000,9,-999.000,     -999.0,9, -999.00,9,   63.66,2,    3.39,2,     -999.0,9,  -999.0,9, 20130426,       52,  30.0007, 173.9806,    35.3637,2,     -999.0,9,     -999.0,9,    20.6635,2,     -999.0,9,     -999.0,9,-999.0000, -999.00,-999.000
318M20130321,       P02W,      65,          1,         34,         34,2,20130425,       2252,    30.0003,   173.9782,       4474,    49.7,  20.6404,  35.1914,2,  35.1942,2,    223.9,2,   224.2,2,    1.37,2,       0,2,       0,2,       0,2,   2.249,2,   1.388,2,   0.170,2,     1.49,2,  2012.7,2, 2309.22,2,    8.035,2,       25,-999.000,9,-999.0000,9, -999.00,9, -999.00,9,  -999.0,9,  -999.0,-999.000,9,-999.000,     -999.0,9, -999.00,9,   62.51,2,    3.94,2,     -999.0,9,  -999.0,9, 20130426,       49,  30.0008, 173.9799,    35.3601,2,     -999.0,9,     -999.0,9,    20.6404,2,     -999.0,9,     -999.0,9,-999.0000, -999.00,-999.000
318M20130321,       P02W,      65,          1,         33,         33,2,20130425,       2252,    30.0003,   173.9782,       4474,    72.8,  18.8533,  34.8168,2,  34.8188,2,    226.5,2,   226.7,2,    2.05,2,       0,2,       0,2,    0.02,2,-999.000,9,-999.000,9,-999.000,9,-999.0000,9,  -999.0,9, -999.00,9,-999.0000,9,  -999.00,-999.000,9,-999.0000,9, -999.00,9,    0.78,2,    49.4,2,     2.5,-999.000,9,-999.000,     -999.0,9, -999.00,9,    59.5,2,    4.89,2,     -999.0,9,  -999.0,9, 20130426,       47,  30.0008, 173.9793,     34.983,2,     -999.0,9,     -999.0,9,    18.8146,3,     -999.0,9,     -999.0,9,-999.0000, -999.00,-999.000
318M20130321,       P02W,      65,          1,         32,         32,2,20130425,       2252,    30.0003,   173.9782,       4474,    98.6,  17.9476,  34.7584,2,  34.7563,2,    215.8,2,   205.8,3,    3.03,2,    2.68,2,    0.06,2,     0.2,2,   2.568,2,   1.565,2,   0.102,2,     1.46,2,  2037.1,2, 2281.51,6,   7.9484,2,       25,-999.000,9,-999.0000,9, -999.00,9, -999.00,5,  -999.0,5,  -999.0,-999.000,9,-999.000,     -999.0,9, -999.00,9,   48.42,2,    6.03,2,     -999.0,9,  -999.0,9, 20130426,       45,  30.0005, 173.9789,    34.9202,2,     -999.0,9,     -999.0,9,    17.9408,2,     -999.0,9,     -999.0,9,-999.0000, -999.00,-999.000
318M20130321,       P02W,      65,          1,         31,         31,2,20130425,       2252,    30.0003,   173.9782,       4474,   125.1,  17.2764,  34.7048,2,  34.7033,2,    204.6,2,   204.2,2,    3.71,2,    4.09,2,    0.03,2,    0.27,2,-999.000,9,-999.000,9,-999.000,9,-999.0000,9,  -999.0,9, -999.00,9,-999.0000,9,  -999.00,-999.000,9,-999.0000,9, -999.00,9, -999.00,9,  -999.0,9,  -999.0,-999.000,9,-999.000,     -999.0,9, -999.00,9,    47.8,2,     7.7,2,     -999.0,9,  -999.0,9, 20130426,       43,  30.0003, 173.9783,    34.8669,2,     -999.0,9,     -999.0,9,    17.2779,2,     -999.0,9,     -999.0,9,-999.0000, -999.00,-999.000
318M20130321,       P02W,      65,          1,         30,         30,2,20130425,       2252,    30.0003,   173.9782,       4474,   150.4,  16.8547,  34.6734,2,  34.6724,2,    205.7,2,   206.1,2,    4.29,2,    4.85,2,    0.02,2,    0.32,2,   2.691,2,   1.611,2,   0.059,2,     1.42,2,  2042.7,2, 2276.01,2,   7.9321,2,       25,-999.000,9,-999.0000,9, -999.00,9,    0.35,2,    53.1,2,     3.5,-999.000,9,-999.000,     -999.0,9, -999.00,9,   45.46,2,    8.06,2,     -999.0,9,  -999.0,9, 20130426,       41,  30.0003, 173.9782,    34.8359,2,     -999.0,9,     -999.0,9,    16.8551,2,     -999.0,9,     -999.0,9,-999.0000, -999.00,-999.000
318M20130321,       P02W,      65,          1,         29,         29,2,20130425,       2252,    30.0003,   173.9782,       4474,   200.4,  16.0313,  34.6149,2,  34.6139,2,    202.7,2,   203.1,2,    5.66,2,     6.3,2,    0.02,2,    0.43,2,-999.000,9,-999.000,9,-999.000,9,-999.0000,9,  2059.7,2, 2273.81,2,   7.9063,2,       25,-999.000,9,-999.0000,9, -999.00,9,    0.29,2,    48.1,2,     3.5,-999.000,9,-999.000,     -999.0,9, -999.00,9,   46.13,2,    9.79,2,     -999.0,9,  -999.0,9, 20130426,       39,  30.0003, 173.9782,    34.7771,2,     -999.0,9,     -999.0,9,    16.0364,2,     -999.0,9,     -999.0,9,-999.0000, -999.00,-999.000
318M20130321,       P02W,      65,          1,         28,         28,2,20130425,       2252,    30.0003,   173.9782,       4474,     253,  15.0606,  34.5333,2,  34.5349,2,    203.3,2,     203,2,    7.42,2,    7.72,2,    0.01,2,    0.54,2,   2.911,2,   1.711,2,   0.040,2,     1.43,2,  -999.0,9, -999.00,9,-999.0000,9,  -999.00,-999.000,9,   1.7786,2,    0.18,2,    0.38,2,    54.4,2,     2.8,   7.390,2,   0.034,     -999.0,9, -999.00,9,   44.84,2,    11.6,2,     -999.0,9,  -999.0,9, 20130426,       37,  30.0003, 173.9782,    34.6978,2,     -999.0,9,     -999.0,9,    15.0865,2,     -999.0,9,     -999.0,9,   0.0075,    0.15,-999.000
318M20130321,       P02W,      65,          1,         27,         27,2,20130425,       2252,    30.0003,   173.9782,       4474,   302.3,  14.0441,  34.4606,2,   34.457,2,      203,2,   202.6,2,    9.76,2,    9.44,2,    0.01,2,    0.65,2,-999.000,9,-999.000,9,-999.000,9,-999.0000,9,  2073.9,2, 2270.21,2,   7.8542,2,       25,-999.000,9,-999.0000,9, -999.00,9,    0.36,2,    54.4,2,     2.8,-999.000,9,-999.000,     -999.0,9, -999.00,9, -999.00,5,   12.96,2,     -999.0,9,  -999.0,9, 20130426,       34,  30.0003, 173.9782,    34.6194,2,     -999.0,9,     -999.0,9,    14.0533,2,     -999.0,9,     -999.0,9,-999.0000, -999.00,-999.000
318M20130321,       P02W,      65,          1,         26,         26,2,20130425,       2252,    30.0003,   173.9782,       4474,   346.1,  13.2754,  34.4101,2,  34.4097,2,    204.1,2,   203.5,2,   11.81,2,   10.73,2,    0.01,2,    0.75,2,   3.109,2,   1.795,2,   0.048,2,     1.34,2,  2082.4,2, 2268.61,2,   7.8345,2,       25,-999.000,9,-999.0000,9, -999.00,9,    0.34,2,    43.8,2,     2.4,-999.000,9,-999.000,     -999.0,9, -999.00,9,   44.87,2, -999.00,9,     -999.0,9,  -999.0,9, 20130426,       33,  30.0002, 173.9781,    34.5719,2,     -999.0,9,     -999.0,9,    13.2708,2,     -999.0,9,     -999.0,9,-999.0000, -999.00,-999.000
318M20130321,       P02W,      65,          1,         25,         25,9,20130425,       2252,    30.0003,   173.9782,       4474,   398.1,  12.3314,  34.3512,2,-999.0000,9,    203.9,2,  -999.0,9, -999.00,9, -999.00,9, -999.00,9, -999.00,9,-999.000,9,-999.000,9,-999.000,9,-999.0000,9,  -999.0,9, -999.00,9,-999.0000,9,  -999.00,-999.000,9,-999.0000,9, -999.00,9, -999.00,9,  -999.0,9,  -999.0,-999.000,9,-999.000,     -999.0,9, -999.00,9, -999.00,9, -999.00,9,     -999.0,9,  -999.0,9, 20130426,       31,  30.0003, 173.9781,     -999.0,9,     -999.0,9,     -999.0,9,     12.331,2,     -999.0,9,     -999.0,9,-999.0000, -999.00,-999.000
318M20130321,       P02W,      65,          1,         24,         24,2,20130425,       2252,    30.0003,   173.9782,       4474,   449.7,  11.0755,  34.2627,2,  34.2621,2,    202.4,2,   202.1,2,   19.23,2,   14.77,2,    0.01,2,    1.04,2,-999.000,9,-999.000,9,-999.000,9,-999.0000,9,  2111.7,6, 2270.81,2,   7.7731,2,       25,-999.000,9,-999.0000,9, -999.00,9,    0.25,2,    33.5,2,     2.4,-999.000,9,-999.000,     -999.0,9, -999.00,9,   44.95,2, -999.00,9,     -999.0,9,  -999.0,9, 20130426,       28,  30.0003, 173.9782,    34.4237,2,     -999.0,9,     -999.0,9,    11.0551,2,     -999.0,9,     -999.0,9,-999.0000, -999.00,-999.000
318M20130321,       P02W,      65,          1,         23,         23,2,20130425,       2252,    30.0003,   173.9782,       4474,   499.8,   9.8352,  34.1738,2,  34.1786,2,    191.6,2,   192.9,2,   25.09,2,   17.83,2,    0.01,2,    1.28,2,   3.328,2,   1.818,2,   0.112,2,     1.11,2,  2129.2,2, 2271.01,2,   7.7241,2,       25,-999.000,9,-999.0000,9, -999.00,9,    0.21,2,    16.1,2,     2.8,-999.000,9,-999.000,     -999.0,9, -999.00,9,    45.2,2, -999.00,9,     -999.0,9,  -999.0,9, 20130426,       26,  30.0003, 173.9782,    34.3398,2,     -999.0,9,     -999.0,9,     9.8562,2,     -999.0,9,     -999.0,9,-999.0000, -999.00,-999.000
318M20130321,       P02W,      65,          1,         22,         22,2,20130425,       2252,    30.0003,   173.9782,       4474,   599.9,    7.497,  34.0567,2,  34.0575,2,    155.1,2,   154.4,2,   44.33,2,   25.68,2,    0.01,2,    1.89,2,-999.000,9,-999.000,9,-999.000,9,-999.0000,9,  2186.4,2, 2278.81,2,   7.5945,6,       25,-999.000,9,-999.0000,9, -999.00,9,    0.01,2,   -19.9,2,     2.9,-999.000,9,-999.000,     -999.0,9, -999.00,9,   43.72,2, -999.00,9,     -999.0,9,  -999.0,9, 20130426,       23,  30.0002, 173.9781,    34.2181,2,     -999.0,9,     -999.0,9,     7.5006,2,     -999.0,9,     -999.0,9,-999.0000, -999.00,-999.000
318M20130321,       P02W,      65,          1,         21,         21,2,20130425,       2252,    30.0003,   173.9782,       4474,   702.8,   5.8896,  34.0526,2,  34.0504,2,    105.7,2,   110.1,2,   65.82,2,   32.49,2,    0.01,2,     2.4,2,   2.101,2,   1.075,2,   0.090,2,     0.41,2,  2242.5,2, 2294.42,2,   7.4769,2,       25,-999.000,9,-999.0000,9, -999.00,9,   -0.19,2,   -72.7,2,     4.0,-999.000,9,-999.000,     -999.0,9, -999.00,9,   42.51,2, -999.00,9,     -999.0,9,  -999.0,9, 20130426,       20,  30.0002, 173.9781,     34.211,2,     -999.0,9,     -999.0,9,     5.8915,2,     -999.0,9,     -999.0,9,-999.0000, -999.00,-999.000
318M20130321,       P02W,      65,          1,         20,         20,2,20130425,       2252,    30.0003,   173.9782,       4474,   804.7,    4.847,  34.1221,2,   34.122,2,       71,2,    70.3,2,   88.18,2,   37.86,2,    0.01,2,    2.74,2,-999.000,9,-999.000,9,-999.000,9,-999.0000,9,  2291.5,2, 2327.93,2,   7.3871,2,       25,-999.000,9,-999.0000,9, -999.00,9,   -0.35,2,  -121.6,2,     3.0,-999.000,9,-999.000,     -999.0,9, -999.00,9,   42.25,2, -999.00,9,     -999.0,9,  -999.0,9, 20130426,       17,  30.0002, 173.9782,    34.2829,2,     -999.0,9,     -999.0,9,     4.8444,2,     -999.0,9,     -999.0,9,-999.0000, -999.00,-999.000
318M20130321,       P02W,      65,          1,         19,         19,2,20130425,       2252,    30.0003,   173.9782,       4474,   908.8,   4.2339,  34.2096,2,  34.2092,2,     45.4,2,    45.9,2,  104.48,2,   40.76,2,       0,2,    2.98,2,   0.634,2,   0.326,2,   0.025,2,      0.2,2,  2325.5,2, 2335.03,2,   7.3444,6,       25,-999.000,9,-999.0000,9, -999.00,9,   -0.42,2,  -154.6,2,     2.8,-999.000,9,-999.000,     -999.0,9, -999.00,9,   42.01,2, -999.00,9,     -999.0,9,  -999.0,9, 20130426,       15,  30.0002, 173.9782,    34.3705,2,     -999.0,9,     -999.0,9,     4.2398,2,     -999.0,9,     -999.0,9,-999.0000, -999.00,-999.000
318M20130321,       P02W,      65,          1,         18,         18,2,20130425,       2252,    30.0003,   173.9782,       4474,  1006.4,   3.7623,  34.2884,2,   34.289,2,     33.2,2,    32.9,2,  118.53,2,   42.32,2,       0,2,    3.09,2,-999.000,9,-999.000,9,-999.000,9,-999.0000,9,  2347.3,2, 2352.64,2,   7.3247,2,       25,-999.000,9,-999.0000,9, -999.00,9,   -0.50,2,  -184.5,2,     2.8,-999.000,9,-999.000,     -999.0,9, -999.00,9,   38.78,2, -999.00,9,     -999.0,9,  -999.0,9, 20130426,       12,  30.0002, 173.9781,    34.4507,2,     -999.0,9,     -999.0,9,     3.7678,2,     -999.0,9,     -999.0,9,-999.0000, -999.00,-999.000
318M20130321,       P02W,      65,          1,         17,         17,2,20130425,       2252,    30.0003,   173.9782,       4474,    1109,   3.4433,  34.3509,2,  34.3503,2,     28.3,2,    28.3,2,   127.9,2,   43.05,2,       0,2,    3.14,2,   0.145,2,   0.071,2,   0.006,2,     0.03,2,  2360.7,2, 2366.74,2,    7.321,2,       25,-999.000,9,-999.0000,9, -999.00,9,   -0.46,2,  -195.4,2,     2.0,-999.000,9,-999.000,     -999.0,9, -999.00,9,   38.12,2, -999.00,9,     -999.0,9,  -999.0,9, 20130426,        9,  30.0003, 173.9781,    34.5122,2,     -999.0,9,     -999.0,9,     3.4392,2,     -999.0,9,     -999.0,9,-999.0000, -999.00,-999.000
318M20130321,       P02W,      65,          1,         16,         16,2,20130425,       2252,    30.0003,   173.9782,       4474,  1210.6,   3.1685,  34.4011,2,  34.3997,2,     26.6,2,    27.8,2,  136.19,2,   43.47,2,       0,2,    3.17,2,   0.082,2,   0.040,2,   0.008,2,        0,2,  -999.0,9, -999.00,9,-999.0000,9,  -999.00,-999.000,9,-999.0000,9, -999.00,9,   -0.59,2,  -213.4,2,     2.6,-999.000,9,-999.000,     -999.0,9, -999.00,9,   37.59,2, -999.00,9,     -999.0,9,  -999.0,9, 20130426,        6,  30.0002, 173.9781,    34.5619,2,     -999.0,9,     -999.0,9,     3.1676,2,     -999.0,9,     -999.0,9,-999.0000, -999.00,-999.000
318M20130321,       P02W,      65,          1,         15,         15,2,20130425,       2252,    30.0003,   173.9782,       4474,  1307.4,   2.9597,  34.4414,2,  34.4403,2,     28.8,2,    28.1,2,  141.95,2,    43.7,2,       0,2,    3.17,2,   0.040,2,   0.022,2,   0.011,2,     0.08,2,  2376.6,2, 2380.65,2,   7.3304,2,       25,-999.000,9,-999.0000,9, -999.00,9,   -0.60,2,  -222.3,2,     2.0,-999.000,9,-999.000,     -999.0,9, -999.00,9,   38.31,2, -999.00,9,     -999.0,9,  -999.0,9, 20130426,        3,  30.0002, 173.9782,    34.6027,2,     -999.0,9,     -999.0,9,     2.9611,2,     -999.0,9,     -999.0,9,-999.0000, -999.00,-999.000
318M20130321,       P02W,      65,          1,         14,         14,2,20130425,       2252,    30.0003,   173.9782,       4474,  1409.3,   2.7366,  34.4788,2,  34.4792,2,       32,2,    31.9,2,  149.56,2,   43.58,2,       0,2,    3.14,2,   0.023,2,   0.021,2,   0.007,2,     0.13,2,  -999.0,9, -999.00,9,-999.0000,9,  -999.00,-999.000,9,   1.9470,2,   18.47,2,   -0.57,2,  -222.8,2,     2.4,   8.244,2,   0.038,     -999.0,9, -999.00,9,   38.49,2, -999.00,9,     -999.0,9,  -999.0,9, 20130426,        0,  30.0002, 173.9781,    34.6418,2,     -999.0,9,     -999.0,9,     2.7364,2,     -999.0,9,     -999.0,9,   0.0082,    0.15,-999.000
318M20130321,       P02W,      65,          1,         13,         13,2,20130425,       2252,    30.0003,   173.9782,       4474,  1511.2,   2.5281,  34.5093,2,  34.5087,2,     37.6,2,    37.4,2,  154.73,2,   43.26,2,       0,2,     3.1,2,   0.020,2,   0.014,2,   0.008,2,        0,2,  2383.6,2, 2397.65,2,   7.3493,2,       25,-999.000,9,-999.0000,9, -999.00,9,   -0.56,2,  -234.4,2,     2.1,-999.000,9,-999.000,     -999.0,9, -999.00,9, -999.00,5, -999.00,9,     -999.0,9,  -999.0,9, 20130425,     2357,  30.0003, 173.9782,    34.6714,2,     -999.0,9,     -999.0,9,     2.5281,2,     -999.0,9,     -999.0,9,-999.0000, -999.00,-999.000
318M20130321,       P02W,      65,          1,         12,         12,2,20130425,       2252,    30.0003,   173.9782,       4474,  1614.2,   2.3616,  34.5344,2,  34.5344,2,     44.3,2,    44.3,2,  158.63,2,   42.94,2,       0,2,    3.09,2,   0.022,2,   0.021,2,   0.000,2,     0.04,2,  2382.8,2, 2405.15,2,   7.3635,2,       25,-999.000,9,-999.0000,9, -999.00,9,   -0.51,2,  -237.6,2,     2.4,-999.000,9,-999.000,     -999.0,9, -999.00,9, -999.00,9, -999.00,9,     -999.0,9,  -999.0,9, 20130425,     2354,  30.0002, 173.9782,    34.6972,2,     -999.0,9,     -999.0,9,     2.3618,2,     -999.0,9,     -999.0,9,-999.0000, -999.00,-999.000
318M20130321,       P02W,      65,          1,         11,         11,2,20130425,       2252,    30.0003,   173.9782,       4474,  1811.2,   2.1412,  34.5735,2,  34.5721,2,     59.7,2,    58.8,2,  161.94,2,   42.05,2,       0,2,    3.03,2,-999.000,9,-999.000,9,-999.000,9,-999.0000,9,  2377.2,2, 2409.06,2,    7.396,2,       25,-999.000,9,-999.0000,9, -999.00,9,   -0.41,2,  -245.2,2,     2.1,-999.000,9,-999.000,     -999.0,9, -999.00,9,   36.74,2, -999.00,9,     -999.0,9,  -999.0,9, 20130425,     2350,  30.0003, 173.9781,    34.7351,2,     -999.0,9,     -999.0,9,     2.1393,2,     -999.0,9,     -999.0,9,-999.0000, -999.00,-999.000
318M20130321,       P02W,      65,          1,         10,         10,2,20130425,       2252,    30.0003,   173.9782,       4474,  2021.4,    1.918,  34.6033,2,  34.6028,2,     74.7,2,    75.1,2,  164.67,2,   41.04,2,       0,2,    2.94,2,   0.012,2,   0.008,2,   0.002,2,     0.01,2,  2371.7,2, 2413.86,2,   7.4318,2,       25,-999.000,9,-999.0000,9, -999.00,9,   -0.26,2,  -246.4,2,     2.1,-999.000,9,-999.000,     -999.0,9, -999.00,9, -999.00,9, -999.00,9,     -999.0,9,  -999.0,9, 20130425,     2345,  30.0002, 173.9781,    34.7659,2,     -999.0,9,     -999.0,9,     1.9203,2,     -999.0,9,     -999.0,9,-999.0000, -999.00,-999.000
318M20130321,       P02W,      65,          1,          9,          9,2,20130425,       2252,    30.0003,   173.9782,       4474,  2273.4,   1.7566,  34.6276,2,  34.6289,2,     92.4,2,      93,2,  163.99,2,   39.88,2,       0,2,    2.83,2,-999.000,9,-999.000,9,-999.000,9,-999.0000,9,  2361.5,2, 2417.16,2,   7.4621,2,       25,-999.000,9,-999.0000,9, -999.00,9,   -0.16,2,  -237.3,2,     2.8,-999.000,9,-999.000,     -999.0,9, -999.00,9,   37.42,2, -999.00,9,     -999.0,9,  -999.0,9, 20130425,     2340,  30.0002, 173.9781,    34.7922,2,     -999.0,9,     -999.0,9,     1.7564,2,     -999.0,9,     -999.0,9,-999.0000, -999.00,-999.000
318M20130321,       P02W,      65,          1,          8,          8,2,20130425,       2252,    30.0003,   173.9782,       4474,  2529.3,   1.6443,   34.644,2,   34.644,2,    106.7,2,   106.8,2,  162.03,2,   39.04,2,       0,2,    2.78,2,   0.010,2,   0.011,2,   0.000,2,        0,2,  -999.0,9, -999.00,9,-999.0000,9,  -999.00,-999.000,9,-999.0000,9, -999.00,9,   -0.08,2,  -229.2,2,     2.0,-999.000,9,-999.000,     -999.0,9, -999.00,9, -999.00,9, -999.00,9,     -999.0,9,  -999.0,9, 20130425,     2335,  30.0002, 173.9782,    34.8074,2,     -999.0,9,     -999.0,9,     1.6442,2,     -999.0,9,     -999.0,9,-999.0000, -999.00,-999.000