BOTTLE,20220817CCHSIOAMB
EXPOCODE,SECT_ID,STNNBR,CASTNO,SAMPNO,BTLNBR,BTLNBR_FLAG_W,DATE,TIME,LATITUDE,LONGITUDE,DEPTH,CTDPRS,CTDTMP,CTDSAL,CTDSAL_FLAG_W,SALNTY,SALNTY_FLAG_W,CTDOXY,CTDOXY_FLAG_W,OXYGEN,OXYGEN_FLAG_W,SILCAT,SILCAT_FLAG_W,NITRAT,NITRAT_FLAG_W,NITRIT,NITRIT_FLAG_W,PHSPHT,PHSPHT_FLAG_W,CFC-11,CFC-11_FLAG_W,CFC-12,CFC-12_FLAG_W,CFC113,CFC113_FLAG_W,SF6,SF6_FLAG_W,TCARBN,TCARBN_FLAG_W,ALKALI,ALKALI_FLAG_W,PH_TOT,PH_TOT_FLAG_W,PH_TMP,TRITUM,TRITUM_FLAG_W,HELIUM,HELIUM_FLAG_W,DELHE3,DELHE3_FLAG_W,DELC13,DELC13_FLAG_W,DELC14,DELC14_FLAG_W,C14ERR,NEON,NEON_FLAG_W,NEONER,I-129,I-129_FLAG_W,SR-90,SR-90_FLAG_W,DOC,DOC_FLAG_W,TDN,TDN_FLAG_W,CALCIUM,CALCIUM_FLAG_W,D15N_NO3,D15N_NO3_FLAG_W,BTL_DATE,BTL_TIME,BTL_LAT,BTL_LON,SALTREF,SALTREF_FLAG_W,CS-137,CS-137_FLAG_W,CS-134,CS-134_FLAG_W,REFTMP,REFTMP_FLAG_W,LAB_DEN,LAB_DEN_FLAG_W,D18O_NO3,D18O_NO3_FLAG_W,HELIER,DELHER,TRITER
,,,,,,,,,,,METERS,DBAR,ITS-90,PSS-78,,PSS-78,,UMOL/KG,,UMOL/KG,,UMOL/KG,,UMOL/KG,,UMOL/KG,,UMOL/KG,,PMOL/KG,,PMOL/KG,,PMOL/KG,,FMOL/KG,,UMOL/KG,,UMOL/KG,,,,DEG C,TU,,NMOL/KG,,PERCNT,,/MILLE,,/MILLE,,/MILLE,NMOL/KG,,NMOL/KG,BQ/M^3,,DM/.1MG,,UMOL/KG,,UMOL/KG,,MMOL/KG,,/MILLE,,,,,,G/KG,,BQ/M^3,,BQ/M^3,,ITS-90,,,,/MILLE,,NMOL/KG,PERCNT,TU
318M20130321,       P02W,      29,          1,         36,         36,2,20130413,       0111,    30.0002,   143.1775,       6005,     4.1,  18.3803,  34.7273,2,   34.728,2,    235.5,2,   236.3,2,    2.44,2,    0.14,2,    0.07,2,    0.07,2,   2.460,2,   1.538,2,   0.215,2,     1.64,2,    2003,2, 2280.21,2,   8.0182,6,       25,-999.000,9,-999.0000,9, -999.00,9,    0.62,2,    51.5,2,     2.8,-999.000,9,-999.000,     -999.0,9, -999.00,9,   56.77,2,    3.93,2,     -999.0,9,  -999.0,9, 20130413,      332,  30.0001, 143.1765,    34.8917,2,     -999.0,9,     -999.0,9,    18.3811,2,     -999.0,9,     -999.0,9,-999.0000, -999.00,-999.000
318M20130321,       P02W,      29,          1,         35,         35,2,20130413,       0111,    30.0002,   143.1775,       6005,    22.8,  18.3372,  34.7261,2,  34.7262,2,    236.2,2,   236.7,2,    1.85,2,    0.12,2,    0.06,2,    0.07,2,   2.464,2,   1.531,2,   0.199,2,      1.6,2,  -999.0,9, -999.00,9,-999.0000,9,  -999.00,-999.000,9,-999.0000,9, -999.00,9, -999.00,9,  -999.0,9,  -999.0,-999.000,9,-999.000,     -999.0,9, -999.00,9,   56.05,2,    5.05,2,     -999.0,9,  -999.0,9, 20130413,      330,  30.0001, 143.1765,      34.89,2,     -999.0,9,     -999.0,9,    18.3455,2,     -999.0,9,     -999.0,9,-999.0000, -999.00,-999.000
318M20130321,       P02W,      29,          1,         34,         34,2,20130413,       0111,    30.0002,   143.1775,       6005,    48.3,  18.2947,  34.7262,2,  34.7264,2,    236.5,2,   236.6,2,    2.05,2,    0.08,2,    0.06,2,    0.05,2,   2.449,2,   1.536,2,   0.207,2,     1.51,2,  -999.0,9, -999.00,9,-999.0000,9,  -999.00,-999.000,9,-999.0000,9, -999.00,9, -999.00,9,  -999.0,9,  -999.0,-999.000,9,-999.000,     -999.0,9, -999.00,9,   56.21,2,    4.65,2,     -999.0,9,  -999.0,9, 20130413,      328,       30, 143.1766,    34.8902,2,     -999.0,9,     -999.0,9,    18.2947,2,     -999.0,9,     -999.0,9,-999.0000, -999.00,-999.000
318M20130321,       P02W,      29,          1,         33,         33,2,20130413,       0111,    30.0002,   143.1775,       6005,    73.1,  18.2875,  34.7265,2,  34.7264,2,    237.2,2,   235.5,2,    2.05,2,    0.17,2,    0.07,2,    0.06,2,   2.469,2,   1.536,2,   0.203,2,     1.61,2,  -999.0,9, -999.00,9,-999.0000,9,  -999.00,-999.000,9,-999.0000,9, -999.00,9, -999.00,9,  -999.0,9,  -999.0,-999.000,9,-999.000,     -999.0,9, -999.00,9,   56.13,2,    4.32,2,     -999.0,9,  -999.0,9, 20130413,      326,       30, 143.1767,    34.8901,2,     -999.0,9,     -999.0,9,    18.2869,2,     -999.0,9,     -999.0,9,-999.0000, -999.00,-999.000
318M20130321,       P02W,      29,          1,         32,         32,2,20130413,       0111,    30.0002,   143.1775,       6005,    97.8,  17.9573,  34.7578,2,   34.758,2,    229.5,2,   219.1,2,    2.93,2,    2.47,2,    0.05,2,     0.2,2,   2.476,2,   1.535,2,   0.159,2,     1.56,2,  2019.8,2, 2279.11,6,   7.9856,2,       25,-999.000,9,-999.0000,9, -999.00,9,    0.46,2,    52.0,2,     3.5,-999.000,9,-999.000,     -999.0,9, -999.00,9,   51.95,2,    6.15,2,     -999.0,9,  -999.0,9, 20130413,      325,  30.0001, 143.1767,    34.9219,2,     -999.0,9,     -999.0,9,     17.956,2,     -999.0,9,     -999.0,9,-999.0000, -999.00,-999.000
318M20130321,       P02W,      29,          1,         31,         31,2,20130413,       0111,    30.0002,   143.1775,       6005,   148.6,  17.6475,  34.7446,2,  34.7443,2,    228.3,2,     225,2,    3.03,2,    2.48,2,    0.06,2,     0.2,2,   2.521,2,   1.523,2,   0.182,2,     1.52,2,  -999.0,9, -999.00,9,-999.0000,9,  -999.00,-999.000,9,-999.0000,9, -999.00,9, -999.00,9,  -999.0,9,  -999.0,-999.000,9,-999.000,     -999.0,9, -999.00,9,   52.58,2,    6.45,2,     -999.0,9,  -999.0,9, 20130413,      323,  30.0002, 143.1767,    34.9081,2,     -999.0,9,     -999.0,9,    17.6481,2,     -999.0,9,     -999.0,9,-999.0000, -999.00,-999.000
318M20130321,       P02W,      29,          1,         30,         30,2,20130413,       0111,    30.0002,   143.1775,       6005,   199.6,  17.4172,  34.7318,2,  34.7309,2,    228.2,2,   217.4,2,    3.51,2,    3.41,2,    0.02,2,    0.25,2,   2.525,2,   1.581,2,   0.136,2,     1.44,2,  2025.9,2, 2277.41,2,   7.9707,2,       25,-999.000,9,-999.0000,9, -999.00,9,    0.42,2,    55.0,2,     3.1,-999.000,9,-999.000,     -999.0,9, -999.00,9,   51.41,2,    7.08,2,     -999.0,9,  -999.0,9, 20130413,      321,  30.0001, 143.1767,    34.8947,2,     -999.0,9,     -999.0,9,    17.4174,2,     -999.0,9,     -999.0,9,-999.0000, -999.00,-999.000
318M20130321,       P02W,      29,          1,         29,         29,2,20130413,       0111,    30.0002,   143.1775,       6005,   249.1,  17.1706,  34.7118,2,  34.7124,2,    226.9,2,  -999.0,5,     4.1,2,    4.27,2,    0.02,2,     0.3,2,   2.575,2,   1.582,2,   0.124,2,     1.44,2,  -999.0,9, -999.00,9,-999.0000,9,  -999.00,-999.000,9,-999.0000,9, -999.00,9,    0.43,2,    64.0,2,     2.9,-999.000,9,-999.000,     -999.0,9, -999.00,9,   49.47,2,    8.35,2,     -999.0,9,  -999.0,9, 20130413,      319,  30.0001, 143.1767,    34.8761,2,     -999.0,9,     -999.0,9,    17.1691,2,     -999.0,9,     -999.0,9,-999.0000, -999.00,-999.000
318M20130321,       P02W,      29,          1,         28,         28,2,20130413,       0111,    30.0002,   143.1775,       6005,     300,  16.8782,  34.6916,2,   34.694,2,    221.4,2,  -999.0,5,    4.98,2,    5.25,2,    0.02,2,    0.37,2,   0.000,4,   0.000,4,   0.000,4,        0,4,  2040.9,2, 2277.81,2,   7.9397,2,       25,-999.000,9,-999.0000,9, -999.00,9,    0.37,6,    51.7,6,     2.4,-999.000,9,-999.000,     -999.0,9, -999.00,9,   47.57,2, -999.00,5,     -999.0,9,  -999.0,9, 20130413,      318,  29.9999, 143.1768,    34.8575,2,     -999.0,9,     -999.0,9,    16.8778,2,     -999.0,9,     -999.0,9,-999.0000, -999.00,-999.000
318M20130321,       P02W,      29,          1,         27,         27,2,20130413,       0111,    30.0002,   143.1775,       6005,     351,  16.5116,  34.6624,2,  34.6636,2,    206.8,2,   199.8,2,    6.54,2,    6.43,2,    0.02,2,    0.47,2,-999.000,9,-999.000,9,-999.000,9,-999.0000,9,  -999.0,9, -999.00,9,-999.0000,9,  -999.00,-999.000,9,-999.0000,9, -999.00,9,    0.36,2,    54.8,2,     2.8,-999.000,9,-999.000,     -999.0,9, -999.00,9,    48.8,2, -999.00,9,     -999.0,9,  -999.0,9, 20130413,      316,  29.9999, 143.1768,    34.8271,2,     -999.0,9,     -999.0,9,    16.5168,2,     -999.0,9,     -999.0,9,-999.0000, -999.00,-999.000
318M20130321,       P02W,      29,          1,         26,         26,2,20130413,       0111,    30.0002,   143.1775,       6005,   400.4,  15.5754,  34.6004,2,  34.6016,2,    191.3,2,   197.1,2,    9.47,2,     8.4,2,    0.02,2,    0.61,2,   0.000,4,   0.000,4,   0.000,4,        0,4,  2065.5,2, 2276.11,2,   7.8923,2,       25,-999.000,9,-999.0000,9, -999.00,9,    0.33,2,    50.1,2,     3.5,-999.000,9,-999.000,     -999.0,9, -999.00,9,   47.69,2, -999.00,9,     -999.0,9,  -999.0,9, 20130413,      314,  29.9998, 143.1768,    34.7647,2,     -999.0,9,     -999.0,9,    15.5758,2,     -999.0,9,     -999.0,9,-999.0000, -999.00,-999.000
318M20130321,       P02W,      29,          1,         25,         25,2,20130413,       0111,    30.0002,   143.1775,       6005,   503.2,    12.21,  34.3882,2,  34.3846,2,    172.3,2,   172.7,2,   22.55,2,   15.87,2,    0.01,2,    1.13,2,   2.828,2,   1.581,2,   0.051,2,     1.06,2,  2119.5,2, 2275.61,2,    7.767,2,       25,-999.000,9,-999.0000,9, -999.00,9,    0.19,2,    24.6,2,     3.1,-999.000,9,-999.000,     -999.0,9, -999.00,9,   45.33,2, -999.00,9,     -999.0,9,  -999.0,9, 20130413,      311,  29.9999, 143.1768,    34.5467,2,     -999.0,9,     -999.0,9,    12.1962,2,     -999.0,9,     -999.0,9,-999.0000, -999.00,-999.000
318M20130321,       P02W,      29,          1,         24,         24,2,20130413,       0111,    30.0002,   143.1775,       6005,   598.8,   9.7498,  34.2203,2,  34.2196,2,    164.1,2,   165.9,2,    33.2,2,   20.52,2,    0.01,2,    1.48,2,-999.000,9,-999.000,9,-999.000,9,-999.0000,9,  -999.0,9, -999.00,9,-999.0000,9,  -999.00,-999.000,9,-999.0000,9, -999.00,9,    0.10,2,    -4.6,2,     2.8,-999.000,9,-999.000,     -999.0,9, -999.00,9,   42.95,2, -999.00,9,     -999.0,9,  -999.0,9, 20130413,      308,       30, 143.1769,     34.381,2,     -999.0,9,     -999.0,9,     9.7497,2,     -999.0,9,     -999.0,9,-999.0000, -999.00,-999.000
318M20130321,       P02W,      29,          1,         23,         23,2,20130413,       0111,    30.0002,   143.1775,       6005,   701.4,    6.952,   34.068,2,  34.0749,2,    145.4,2,   144.3,2,   54.59,2,   27.48,2,    0.01,2,    2.01,2,   2.626,2,   1.327,2,   0.115,2,     0.84,2,  2207.3,2, 2288.21,2,   7.5662,2,       25,-999.000,9,-999.0000,9, -999.00,9,   -0.06,2,   -55.6,2,     2.5,-999.000,9,-999.000,     -999.0,9, -999.00,9,   41.11,2, -999.00,9,     -999.0,9,  -999.0,9, 20130413,      306,  30.0001, 143.1768,    34.2356,2,     -999.0,9,     -999.0,9,     6.9491,2,     -999.0,9,     -999.0,9,-999.0000, -999.00,-999.000
318M20130321,       P02W,      29,          1,         22,         38,2,20130413,       0111,    30.0002,   143.1775,       6005,     803,   5.1056,   34.084,2,  34.0822,2,     98.4,2,    98.1,2,   80.17,2,   34.85,2,    0.01,2,    2.55,2,-999.000,9,-999.000,9,-999.000,9,-999.0000,9,  -999.0,9, -999.00,9,-999.0000,9,  -999.00,-999.000,9,-999.0000,9, -999.00,9,   -0.33,2,  -103.9,2,     3.5,-999.000,9,-999.000,     -999.0,9, -999.00,9,   39.49,2, -999.00,9,     -999.0,9,  -999.0,9, 20130413,      303,       30, 143.1768,    34.2429,2,     -999.0,9,     -999.0,9,     5.1033,2,     -999.0,9,     -999.0,9,-999.0000, -999.00,-999.000
318M20130321,       P02W,      29,          1,         21,         21,2,20130413,       0111,    30.0002,   143.1775,       6005,   904.2,   4.4515,  34.1807,2,  34.1804,2,     67.1,2,    68.3,2,    99.5,2,   38.32,2,    0.01,2,    2.78,2,   1.154,2,   0.643,2,   0.063,2,     0.34,2,  2305.5,2, 2326.73,2,   7.3798,2,       25,-999.000,9,-999.0000,9, -999.00,9,   -0.39,2,  -146.9,2,     2.3,-999.000,9,-999.000,     -999.0,9, -999.00,9,   39.23,2, -999.00,9,     -999.0,9,  -999.0,9, 20130413,      300,  29.9999, 143.1769,    34.3415,2,     -999.0,9,     -999.0,9,     4.4531,2,     -999.0,9,     -999.0,9,-999.0000, -999.00,-999.000
318M20130321,       P02W,      29,          1,         20,         20,2,20130413,       0111,    30.0002,   143.1775,       6005,  1006.3,   3.9202,  34.2579,2,  34.2596,2,       49,2,    49.1,2,  114.63,2,   40.65,2,    0.01,2,    2.95,2,-999.000,9,-999.000,9,-999.000,9,-999.0000,9,  2333.8,6, 2345.83,2,   7.3491,6,       25,-999.000,9,-999.0000,9, -999.00,9,   -0.47,2,  -172.0,2,     2.2,-999.000,9,-999.000,     -999.0,9, -999.00,9,   39.47,2, -999.00,9,     -999.0,9,  -999.0,9, 20130413,      257,  29.9996, 143.1771,    34.4211,2,     -999.0,9,     -999.0,9,     3.9199,2,     -999.0,9,     -999.0,9,-999.0000, -999.00,-999.000
318M20130321,       P02W,      29,          1,         19,         19,2,20130413,       0111,    30.0002,   143.1775,       6005,  1107.5,    3.509,  34.3309,2,   34.332,2,     41.2,2,    41.6,2,  126.24,2,    41.8,2,    0.01,2,    3.04,2,   0.341,2,   0.178,2,   0.017,2,     0.07,2,  2349.1,2, 2360.54,2,   7.3403,2,       25,-999.000,9,-999.0000,9, -999.00,9,   -0.51,2,  -177.2,2,     2.2,-999.000,9,-999.000,     -999.0,9, -999.00,9,   36.99,2, -999.00,9,     -999.0,9,  -999.0,9, 20130413,      254,  29.9995, 143.1773,    34.4939,2,     -999.0,9,     -999.0,9,     3.5081,2,     -999.0,9,     -999.0,9,-999.0000, -999.00,-999.000
318M20130321,       P02W,      29,          1,         18,         18,2,20130413,       0111,    30.0002,   143.1775,       6005,  1206.5,   3.2078,  34.3836,2,  34.3855,2,     39.7,2,    39.6,2,  134.92,2,   42.22,2,    0.01,2,    3.07,2,-999.000,9,-999.000,9,-999.000,9,-999.0000,9,    2360,2, 2370.64,2,   7.3415,2,       25,-999.000,9,-999.0000,9, -999.00,9,   -0.48,2,  -201.6,2,     2.2,-999.000,9,-999.000,     -999.0,9, -999.00,9,   36.04,2, -999.00,9,     -999.0,9,  -999.0,9, 20130413,      251,  29.9995, 143.1774,    34.5477,2,     -999.0,9,     -999.0,9,     3.2068,2,     -999.0,9,     -999.0,9,-999.0000, -999.00,-999.000
318M20130321,       P02W,      29,          1,         17,         17,2,20130413,       0111,    30.0002,   143.1775,       6005,  1305.1,   2.9439,   34.427,2,  34.4287,2,     39.4,2,    39.1,2,  141.36,2,   42.51,2,    0.01,2,    3.08,2,   0.130,2,   0.071,2,   0.008,2,     0.11,2,  2368.8,2, 2378.85,2,   7.3432,2,       25,-999.000,9,-999.0000,9, -999.00,9,   -0.42,2,  -212.5,2,     2.3,-999.000,9,-999.000,     -999.0,9, -999.00,9,    37.6,2, -999.00,9,     -999.0,9,  -999.0,9, 20130413,      249,  29.9997, 143.1771,    34.5911,2,     -999.0,9,     -999.0,9,     2.9437,2,     -999.0,9,     -999.0,9,-999.0000, -999.00,-999.000
318M20130321,       P02W,      29,          1,         16,         16,2,20130413,       0111,    30.0002,   143.1775,       6005,  1408.1,   2.7602,  34.4622,2,  34.4689,2,     42.4,2,    41.7,2,  146.63,2,   42.59,2,    0.01,2,    3.08,2,-999.000,9,-999.000,9,-999.000,9,-999.0000,9,    2373,2, 2385.65,2,    7.351,2,       25,-999.000,9,-999.0000,9, -999.00,9,   -0.45,2,  -219.6,2,     2.4,-999.000,9,-999.000,     -999.0,9, -999.00,9,   37.23,2, -999.00,9,     -999.0,9,  -999.0,9, 20130413,      246,  29.9999,  143.177,    34.6315,2,     -999.0,9,     -999.0,9,     2.7598,2,     -999.0,9,     -999.0,9,-999.0000, -999.00,-999.000
318M20130321,       P02W,      29,          1,         15,         15,4,20130413,       0111,    30.0002,   143.1775,       6005,  1608.4,    2.446,  34.5185,2,  34.1994,4,     53.5,2,    63.3,4,  103.38,4,   38.92,4,    0.01,4,    2.83,4,-999.000,9,-999.000,9,-999.000,9,-999.0000,9,  -999.0,9, -999.00,9,-999.0000,9,  -999.00,-999.000,9,-999.0000,9, -999.00,9, -999.00,9,  -999.0,9,  -999.0,-999.000,9,-999.000,     -999.0,9, -999.00,9, -999.00,9, -999.00,9,     -999.0,9,  -999.0,9, 20130413,      241,       30, 143.1771,    34.3606,4,     -999.0,9,     -999.0,9,     2.4464,2,     -999.0,9,     -999.0,9,-999.0000, -999.00,-999.000
318M20130321,       P02W,      29,          1,         14,         14,2,20130413,       0111,    30.0002,   143.1775,       6005,  1812.5,   2.2009,  34.5614,2,  34.5626,2,     68.4,2,    67.8,2,   155.6,2,   41.24,2,    0.01,2,    2.95,2,-999.000,9,-999.000,9,-999.000,9,-999.0000,9,  2371.4,2, 2402.05,2,   7.4081,2,       25,-999.000,9,-999.0000,9, -999.00,9,   -0.27,2,  -236.3,2,     2.6,-999.000,9,-999.000,     -999.0,9, -999.00,9,   37.38,2, -999.00,9,     -999.0,9,  -999.0,9, 20130413,      237,  30.0001, 143.1771,    34.7256,2,     -999.0,9,     -999.0,9,     2.2018,2,     -999.0,9,     -999.0,9,-999.0000, -999.00,-999.000
318M20130321,       P02W,      29,          1,         13,         13,2,20130413,       0111,    30.0002,   143.1775,       6005,  2016.4,   1.9814,  34.5973,2,  34.5993,2,     86.6,2,    86.9,2,  156.77,2,   40.12,2,    0.01,2,    2.84,2,   0.057,2,   0.034,2,   0.017,2,     0.09,2,  2362.9,2, 2408.06,2,   7.4471,2,       25,-999.000,9,-999.0000,9, -999.00,9,   -0.17,2,  -234.4,2,     2.2,-999.000,9,-999.000,     -999.0,9, -999.00,9,   36.25,2, -999.00,9,     -999.0,9,  -999.0,9, 20130413,      233,       30, 143.1769,    34.7625,2,     -999.0,9,     -999.0,9,     1.9808,2,     -999.0,9,     -999.0,9,-999.0000, -999.00,-999.000
318M20130321,       P02W,      29,          1,         12,         12,2,20130413,       0111,    30.0002,   143.1775,       6005,  2271.6,   1.8098,   34.623,2,  34.6241,2,     97.2,2,    98.8,2,  158.32,2,   39.38,2,    0.01,2,    2.79,2,-999.000,9,-999.000,9,-999.000,9,-999.0000,9,  2357.6,2, 2411.16,2,    7.471,6,       25,-999.000,9,-999.0000,9, -999.00,9,   -0.11,2,  -241.2,2,     2.1,-999.000,9,-999.000,     -999.0,9, -999.00,9, -999.00,9, -999.00,9,     -999.0,9,  -999.0,9, 20130413,      227,  29.9999, 143.1772,    34.7874,2,     -999.0,9,     -999.0,9,     1.8095,2,     -999.0,9,     -999.0,9,-999.0000, -999.00,-999.000
318M20130321,       P02W,      29,          1,         11,         11,2,20130413,       0111,    30.0002,   143.1775,       6005,  2522.6,   1.7057,  34.6412,2,  34.6429,2,    113.6,2,   114.2,2,  155.49,2,   38.35,2,    0.01,2,    2.71,2,   0.000,2,   0.020,2,   0.008,2,        0,2,  2348.9,2, 2412.66,2,   7.5012,2,       25,-999.000,9,-999.0000,9, -999.00,9,   -0.03,2,  -237.6,2,     2.1,-999.000,9,-999.000,     -999.0,9, -999.00,9,   37.44,2, -999.00,9,     -999.0,9,  -999.0,9, 20130413,      222,  29.9998, 143.1777,    34.8063,2,     -999.0,9,     -999.0,9,     1.7056,2,     -999.0,9,     -999.0,9,-999.0000, -999.00,-999.000
318M20130321,       P02W,      29,          1,         10,         10,2,20130413,       0111,    30.0002,   143.1775,       6005,  2778.9,   1.6361,  34.6527,2,  34.6538,2,    123.6,2,   123.4,2,  153.73,2,   37.49,2,    0.01,2,    2.67,2,-999.000,9,-999.000,9,-999.000,9,-999.0000,9,  2341.9,2, 2411.76,2,   7.5181,2,       25,-999.000,9,-999.0000,9, -999.00,9,    0.08,2,  -237.0,2,     1.8,-999.000,9,-999.000,     -999.0,9, -999.00,9, -999.00,9, -999.00,9,     -999.0,9,  -999.0,9, 20130413,      217,  29.9995, 143.1776,    34.8172,2,     -999.0,9,     -999.0,9,     1.6361,2,     -999.0,9,     -999.0,9,-999.0000, -999.00,-999.000
318M20130321,       P02W,      29,          1,          9,          9,2,20130413,       0111,    30.0002,   143.1775,       6005,  3035.4,   1.5911,  34.6608,2,  34.6618,2,    129.7,2,   129.3,2,  153.24,2,   37.32,2,    0.01,2,    2.65,2,   0.011,2,   0.020,2,   0.000,2,      0.1,2,  2339.6,2, 2414.16,2,   7.5282,2,       25,-999.000,9,-999.0000,9, -999.00,9,    0.11,2,  -230.6,2,     1.8,-999.000,9,-999.000,     -999.0,9, -999.00,9,   35.91,2, -999.00,9,     -999.0,9,  -999.0,9, 20130413,      212,  29.9999, 143.1774,    34.8252,2,     -999.0,9,     -999.0,9,     1.5913,2,     -999.0,9,     -999.0,9,-999.0000, -999.00,-999.000
318M20130321,       P02W,      29,          1,          8,          8,2,20130413,       0111,    30.0002,   143.1775,       6005,  3344.8,   1.5422,  34.6691,2,  34.6701,2,    136.8,2,   136.2,2,  152.95,2,   36.94,2,    0.01,2,    2.61,2,-999.000,9,-999.000,9,-999.000,9,-999.0000,9,  -999.0,9, -999.00,9,-999.0000,9,  -999.00,-999.000,9,-999.0000,9, -999.00,9,    0.12,2,  -225.5,2,     1.7,-999.000,9,-999.000,     -999.0,9, -999.00,9, -999.00,9, -999.00,9,     -999.0,9,  -999.0,9, 20130413,      206,  30.0002, 143.1777,    34.8335,2,     -999.0,9,     -999.0,9,     1.5423,2,     -999.0,9,     -999.0,9,-999.0000, -999.00,-999.000