BOTTLE,20220817CCHSIOAMB
EXPOCODE,SECT_ID,STNNBR,CASTNO,SAMPNO,BTLNBR,BTLNBR_FLAG_W,DATE,TIME,LATITUDE,LONGITUDE,DEPTH,CTDPRS,CTDTMP,CTDSAL,CTDSAL_FLAG_W,SALNTY,SALNTY_FLAG_W,CTDOXY,CTDOXY_FLAG_W,OXYGEN,OXYGEN_FLAG_W,SILCAT,SILCAT_FLAG_W,NITRAT,NITRAT_FLAG_W,NITRIT,NITRIT_FLAG_W,PHSPHT,PHSPHT_FLAG_W,CFC-11,CFC-11_FLAG_W,CFC-12,CFC-12_FLAG_W,CFC113,CFC113_FLAG_W,SF6,SF6_FLAG_W,TCARBN,TCARBN_FLAG_W,ALKALI,ALKALI_FLAG_W,PH_TOT,PH_TOT_FLAG_W,PH_TMP,TRITUM,TRITUM_FLAG_W,HELIUM,HELIUM_FLAG_W,DELHE3,DELHE3_FLAG_W,DELC13,DELC13_FLAG_W,DELC14,DELC14_FLAG_W,C14ERR,NEON,NEON_FLAG_W,NEONER,I-129,I-129_FLAG_W,SR-90,SR-90_FLAG_W,DOC,DOC_FLAG_W,TDN,TDN_FLAG_W,CALCIUM,CALCIUM_FLAG_W,D15N_NO3,D15N_NO3_FLAG_W,BTL_DATE,BTL_TIME,BTL_LAT,BTL_LON,SALTREF,SALTREF_FLAG_W,CS-137,CS-137_FLAG_W,CS-134,CS-134_FLAG_W,REFTMP,REFTMP_FLAG_W,LAB_DEN,LAB_DEN_FLAG_W,D18O_NO3,D18O_NO3_FLAG_W,HELIER,DELHER,TRITER
,,,,,,,,,,,METERS,DBAR,ITS-90,PSS-78,,PSS-78,,UMOL/KG,,UMOL/KG,,UMOL/KG,,UMOL/KG,,UMOL/KG,,UMOL/KG,,PMOL/KG,,PMOL/KG,,PMOL/KG,,FMOL/KG,,UMOL/KG,,UMOL/KG,,,,DEG C,TU,,NMOL/KG,,PERCNT,,/MILLE,,/MILLE,,/MILLE,NMOL/KG,,NMOL/KG,BQ/M^3,,DM/.1MG,,UMOL/KG,,UMOL/KG,,MMOL/KG,,/MILLE,,,,,,G/KG,,BQ/M^3,,BQ/M^3,,ITS-90,,,,/MILLE,,NMOL/KG,PERCNT,TU
318M20130321,       P02W,       3,          1,         20,         20,2,20130323,       0304,    32.4131,    133.291,        960,       4,  19.4573,  34.6979,2,  34.6989,2,    226.7,2,   226.5,2,    3.51,2,    0.87,2,    0.11,2,    0.14,2,   2.459,2,   1.289,2,   0.156,2,     1.59,2,  1997.6,6, 2279.84,2,   8.0226,2,       25,-999.000,9,-999.0000,9, -999.00,9, -999.00,9,  -999.0,9,  -999.0,-999.000,9,-999.000,     -999.0,9, -999.00,9,   60.05,2,    5.64,2,     -999.0,9,  -999.0,9, 20130323,      356,  32.4138, 133.2917,    34.8625,2,     -999.0,9,     -999.0,9,    19.4568,2,     -999.0,9,     -999.0,9,-999.0000, -999.00,-999.000
318M20130321,       P02W,       3,          1,         19,         19,2,20130323,       0304,    32.4131,    133.291,        960,    35.3,  19.3676,   34.695,2,  34.6953,2,      225,2,   225.8,2,    3.61,2,    0.99,2,    0.12,2,    0.14,2,   2.697,2,   1.293,2,   0.152,2,     1.36,2,  1997.7,2, 2279.24,2,   8.0186,2,       25,-999.000,9,-999.0000,9, -999.00,9, -999.00,9,  -999.0,9,  -999.0,-999.000,9,-999.000,     -999.0,9, -999.00,9,   58.19,2,    5.51,2,     -999.0,9,  -999.0,9, 20130323,      353,  32.4137, 133.2919,    34.8589,2,     -999.0,9,     -999.0,9,    19.3683,2,     -999.0,9,     -999.0,9,-999.0000, -999.00,-999.000
318M20130321,       P02W,       3,          1,         18,         18,2,20130323,       0304,    32.4131,    133.291,        960,    60.5,  19.1709,  34.6868,2,  34.6875,2,    221.6,2,   222.1,2,    3.81,2,    1.43,2,    0.18,2,    0.18,2,   2.561,2,   1.294,2,   0.146,2,     1.48,2,    2003,2, 2279.04,2,   8.0113,6,       25,-999.000,9,-999.0000,9, -999.00,9, -999.00,9,  -999.0,9,  -999.0,-999.000,9,-999.000,     -999.0,9, -999.00,9,   57.08,2,    6.74,2,     -999.0,9,  -999.0,9, 20130323,      351,  32.4138, 133.2918,     34.851,2,     -999.0,9,     -999.0,9,    19.1694,2,     -999.0,9,     -999.0,9,-999.0000, -999.00,-999.000
318M20130321,       P02W,       3,          1,         17,         17,2,20130323,       0304,    32.4131,    133.291,        960,    85.9,  18.7673,  34.6798,2,   34.679,2,    214.7,2,   208.1,2,    5.17,2,    3.28,2,    0.22,2,    0.28,2,   2.548,2,   1.345,2,   0.124,2,     1.47,2,    2023,2, 2278.54,2,   7.9784,2,       25,-999.000,9,-999.0000,9, -999.00,9, -999.00,9,  -999.0,9,  -999.0,-999.000,9,-999.000,     -999.0,9, -999.00,9,   54.39,2,    7.23,2,     -999.0,9,  -999.0,9, 20130323,      349,  32.4139, 133.2913,    34.8425,2,     -999.0,9,     -999.0,9,    18.7671,2,     -999.0,9,     -999.0,9,-999.0000, -999.00,-999.000
318M20130321,       P02W,       3,          1,         16,         16,2,20130323,       0304,    32.4131,    133.291,        960,   110.4,  17.7683,  34.6283,2,  34.6279,2,    205.3,2,   204.1,2,    6.83,2,    4.93,2,    0.19,2,    0.38,2,   2.754,2,   1.360,2,   0.106,2,     1.48,2,  -999.0,9, -999.00,9,-999.0000,9,  -999.00,-999.000,9,-999.0000,9, -999.00,9, -999.00,9,  -999.0,9,  -999.0,-999.000,9,-999.000,     -999.0,9, -999.00,9,   51.54,2,   10.12,2,     -999.0,9,  -999.0,9, 20130323,      346,  32.4139, 133.2909,    34.7912,2,     -999.0,9,     -999.0,9,    17.7672,2,     -999.0,9,     -999.0,9,-999.0000, -999.00,-999.000
318M20130321,       P02W,       3,          1,         15,         15,2,20130323,       0304,    32.4131,    133.291,        960,   135.7,   16.901,  34.6047,2,  34.5975,2,    197.7,2,     196,2,    9.66,2,    7.01,2,    0.13,2,    0.53,2,   2.724,2,   1.375,2,   0.075,2,     1.31,2,  2051.3,2, 2276.34,6,   7.9176,2,       25,-999.000,9,-999.0000,9, -999.00,9, -999.00,9,  -999.0,9,  -999.0,-999.000,9,-999.000,     -999.0,9, -999.00,9,   52.27,2,   11.94,2,     -999.0,9,  -999.0,9, 20130323,      343,  32.4139, 133.2909,    34.7606,2,     -999.0,9,     -999.0,9,    16.8203,3,     -999.0,9,     -999.0,9,-999.0000, -999.00,-999.000
318M20130321,       P02W,       3,          1,         14,         14,3,20130323,       0304,    32.4131,    133.291,        960,   161.4,  15.7435,   34.558,2,   34.558,2,    183.5,2,   186.2,2,   12.98,2,    9.29,2,    0.05,2,    0.66,2,   2.791,2,   1.378,2,   0.065,2,      1.2,2,  -999.0,9, -999.00,9,-999.0000,9,  -999.00,-999.000,9,-999.0000,9, -999.00,9, -999.00,9,  -999.0,9,  -999.0,-999.000,9,-999.000,     -999.0,9, -999.00,9,   50.08,2,   13.75,2,     -999.0,9,  -999.0,9, 20130323,      341,  32.4138,  133.291,    34.7209,2,     -999.0,9,     -999.0,9,     15.744,2,     -999.0,9,     -999.0,9,-999.0000, -999.00,-999.000
318M20130321,       P02W,       3,          1,         13,         13,2,20130323,       0304,    32.4131,    133.291,        960,   186.6,  14.3648,  34.5123,2,  34.5118,2,    175.7,2,   174.7,2,   18.35,2,   12.18,2,    0.02,2,    0.88,2,   2.813,2,   1.367,2,   0.056,2,     1.14,2,    2092,2, 2278.24,2,   7.8318,2,       25,-999.000,9,-999.0000,9, -999.00,9, -999.00,9,  -999.0,9,  -999.0,-999.000,9,-999.000,     -999.0,9, -999.00,9,   51.28,2,   17.04,2,     -999.0,9,  -999.0,9, 20130323,      339,  32.4137,  133.291,    34.6745,2,     -999.0,9,     -999.0,9,    14.3696,2,     -999.0,9,     -999.0,9,-999.0000, -999.00,-999.000
318M20130321,       P02W,       3,          1,         12,         12,2,20130323,       0304,    32.4131,    133.291,        960,   212.1,  13.8146,  34.4876,2,  34.4871,2,    169.7,2,   170.4,2,   20.89,2,    13.4,2,    0.02,2,    0.97,2,-999.000,9,-999.000,9,-999.000,9,-999.0000,9,  -999.0,9, -999.00,9,-999.0000,9,  -999.00,-999.000,9,-999.0000,9, -999.00,9, -999.00,9,  -999.0,9,  -999.0,-999.000,9,-999.000,     -999.0,9, -999.00,9,   47.65,2,   18.28,2,     -999.0,9,  -999.0,9, 20130323,      337,  32.4136, 133.2911,    34.6497,2,     -999.0,9,     -999.0,9,    13.8157,2,     -999.0,9,     -999.0,9,-999.0000, -999.00,-999.000
318M20130321,       P02W,       3,          1,         11,         11,2,20130323,       0304,    32.4131,    133.291,        960,   236.8,  13.6121,  34.4812,2,  34.4816,2,    167.1,2,   167.6,2,   21.67,2,   13.97,2,    0.03,2,    1.01,2,   3.980,4,   1.367,2,   0.043,2,     0.98,2,  -999.0,9, -999.00,9,-999.0000,9,  -999.00,-999.000,9,-999.0000,9, -999.00,9, -999.00,9,  -999.0,9,  -999.0,-999.000,9,-999.000,     -999.0,9, -999.00,9,   44.57,2,    17.9,2,     -999.0,9,  -999.0,9, 20130323,      335,  32.4136, 133.2912,    34.6442,2,     -999.0,9,     -999.0,9,    13.6074,2,     -999.0,9,     -999.0,9,-999.0000, -999.00,-999.000
318M20130321,       P02W,       3,          1,         10,         10,2,20130323,       0304,    32.4131,    133.291,        960,   266.1,  12.4496,  34.4305,2,  34.4301,2,    159.4,2,   159.8,2,   26.85,2,   16.53,2,       0,2,    1.19,2,-999.000,9,-999.000,9,-999.000,9,-999.0000,9,  2129.4,2, 2280.84,2,   7.7588,6,       25,-999.000,9,-999.0000,9, -999.00,9, -999.00,9,  -999.0,9,  -999.0,-999.000,9,-999.000,     -999.0,9, -999.00,9,   43.63,2,   20.33,2,     -999.0,9,  -999.0,9, 20130323,      332,  32.4135, 133.2913,    34.5925,2,     -999.0,9,     -999.0,9,      12.45,2,     -999.0,9,     -999.0,9,-999.0000, -999.00,-999.000
318M20130321,       P02W,       3,          1,          9,          9,2,20130323,       0304,    32.4131,    133.291,        960,   317.4,  10.4515,  34.3263,2,    34.33,2,      148,2,   149.2,2,   36.22,2,   20.64,2,       0,2,    1.51,2,   2.614,2,   1.231,2,   0.045,2,     0.74,2,  -999.0,9, -999.00,9,-999.0000,9,  -999.00,-999.000,9,-999.0000,9, -999.00,9, -999.00,9,  -999.0,9,  -999.0,-999.000,9,-999.000,     -999.0,9, -999.00,9,   44.98,2, -999.00,5,     -999.0,9,  -999.0,9, 20130323,      330,  32.4133, 133.2916,    34.4919,2,     -999.0,9,     -999.0,9,     10.454,2,     -999.0,9,     -999.0,9,-999.0000, -999.00,-999.000
318M20130321,       P02W,       3,          1,          8,          8,2,20130323,       0304,    32.4131,    133.291,        960,   371.7,   9.2527,  34.2742,2,  34.2735,2,    141.2,2,   139.6,2,   44.23,2,   23.61,2,       0,2,    1.71,2,-999.000,9,-999.000,9,-999.000,9,-999.0000,9,  2179.7,2, 2287.64,2,   7.6389,2,       25,-999.000,9,-999.0000,9, -999.00,9, -999.00,9,  -999.0,9,  -999.0,-999.000,9,-999.000,     -999.0,9, -999.00,9,   42.02,2, -999.00,9,     -999.0,9,  -999.0,9, 20130323,      325,  32.4132, 133.2917,    34.4351,2,     -999.0,9,     -999.0,9,      9.253,2,     -999.0,9,     -999.0,9,-999.0000, -999.00,-999.000
318M20130321,       P02W,       3,          1,          7,          7,2,20130323,       0304,    32.4131,    133.291,        960,   421.3,   8.2632,  34.2881,2,  34.2884,2,    120.9,2,   121.6,2,   57.12,2,   26.97,2,       0,2,    1.95,2,   2.188,2,   0.918,2,   0.039,2,     0.54,2,  -999.0,9, -999.00,9,-999.0000,9,  -999.00,-999.000,9,-999.0000,9, -999.00,9, -999.00,9,  -999.0,9,  -999.0,-999.000,9,-999.000,     -999.0,9, -999.00,9,   41.93,2, -999.00,9,     -999.0,9,  -999.0,9, 20130323,      323,  32.4133, 133.2913,    34.4501,2,     -999.0,9,     -999.0,9,     8.2658,2,     -999.0,9,     -999.0,9,-999.0000, -999.00,-999.000
318M20130321,       P02W,       3,          1,          6,          6,2,20130323,       0304,    32.4131,    133.291,        960,   470.5,   7.4653,  34.2703,2,  34.2706,2,      111,2,   111.5,2,   64.73,2,   29.16,2,       0,2,    2.11,2,-999.000,9,-999.000,9,-999.000,9,-999.0000,9,  -999.0,9, -999.00,9,-999.0000,9,  -999.00,-999.000,9,-999.0000,9, -999.00,9, -999.00,9,  -999.0,9,  -999.0,-999.000,9,-999.000,     -999.0,9, -999.00,9,   41.75,2, -999.00,9,     -999.0,9,  -999.0,9, 20130323,      320,  32.4133, 133.2913,    34.4322,2,     -999.0,9,     -999.0,9,     7.4654,2,     -999.0,9,     -999.0,9,-999.0000, -999.00,-999.000
318M20130321,       P02W,       3,          1,          5,          5,2,20130323,       0304,    32.4131,    133.291,        960,   543.5,   6.1579,  34.2706,2,  34.2715,2,     93.1,2,    93.2,2,   79.96,2,   32.92,2,       0,2,     2.4,2,   1.805,2,   0.596,2,   0.029,2,     0.31,2,  2262.2,2, 2319.95,2,   7.4886,2,       25,-999.000,9,-999.0000,9, -999.00,9, -999.00,9,  -999.0,9,  -999.0,-999.000,9,-999.000,     -999.0,9, -999.00,9,   39.48,2, -999.00,9,     -999.0,9,  -999.0,9, 20130323,      317,  32.4132, 133.2917,    34.4331,2,     -999.0,9,     -999.0,9,     6.1587,2,     -999.0,9,     -999.0,9,-999.0000, -999.00,-999.000
318M20130321,       P02W,       3,          1,          4,          4,2,20130323,       0304,    32.4131,    133.291,        960,   645.1,   5.0139,  34.2933,2,  34.2933,2,     76.4,2,    76.2,2,   95.98,2,   36.38,2,       0,2,    2.65,2,-999.000,9,-999.000,9,-999.000,9,-999.0000,9,  -999.0,9, -999.00,9,-999.0000,9,  -999.00,-999.000,9,-999.0000,9, -999.00,9, -999.00,9,  -999.0,9,  -999.0,-999.000,9,-999.000,     -999.0,9, -999.00,9,    38.6,2, -999.00,9,     -999.0,9,  -999.0,9, 20130323,      314,  32.4132, 133.2914,     34.455,2,     -999.0,9,     -999.0,9,     5.0127,2,     -999.0,9,     -999.0,9,-999.0000, -999.00,-999.000
318M20130321,       P02W,       3,          1,          3,          3,2,20130323,       0304,    32.4131,    133.291,        960,   746.1,   4.2347,  34.3484,2,  34.3482,2,     66.8,2,    66.9,2,  110.71,2,   38.31,2,       0,2,    2.78,2,   1.034,2,   0.247,2,  -0.008,2,     0.12,2,  2317.2,2, 2350.75,6,    7.413,2,       25,-999.000,9,-999.0000,9, -999.00,9, -999.00,9,  -999.0,9,  -999.0,-999.000,9,-999.000,     -999.0,9, -999.00,9,   38.24,2, -999.00,9,     -999.0,9,  -999.0,9, 20130323,      310,  32.4132, 133.2911,    34.5102,2,     -999.0,9,     -999.0,9,     4.2352,2,     -999.0,9,     -999.0,9,-999.0000, -999.00,-999.000
318M20130321,       P02W,       3,          1,          2,          2,2,20130323,       0304,    32.4131,    133.291,        960,     849,   3.7803,  34.3869,2,  34.3873,2,     63.6,2,    63.8,2,  119.79,2,   39.14,2,       0,2,    2.84,2,-999.000,9,-999.000,9,-999.000,9,-999.0000,9,  2330.3,2, 2361.85,2,   7.4063,6,       25,-999.000,9,-999.0000,9, -999.00,9, -999.00,9,  -999.0,9,  -999.0,-999.000,9,-999.000,     -999.0,9, -999.00,9,   37.79,2, -999.00,9,     -999.0,9,  -999.0,9, 20130323,      307,  32.4131, 133.2913,    34.5494,2,     -999.0,9,     -999.0,9,     3.7803,2,     -999.0,9,     -999.0,9,-999.0000, -999.00,-999.000
318M20130321,       P02W,       3,          1,          1,          1,2,20130323,       0304,    32.4131,    133.291,        960,   954.8,   3.5146,  34.4121,2,  34.4145,2,     62.7,2,    63.2,2,  125.74,2,   39.52,2,       0,2,    2.87,2,   0.761,2,   0.141,2,  -0.006,2,     0.08,2,  2338.8,6, 2368.06,2,   7.4041,2,       25,-999.000,9,-999.0000,9, -999.00,9, -999.00,9,  -999.0,9,  -999.0,-999.000,9,-999.000,     -999.0,9, -999.00,9,   37.15,2, -999.00,9,     -999.0,9,  -999.0,9, 20130323,      303,  32.4131,  133.291,    34.5768,2,     -999.0,9,     -999.0,9,     3.5154,2,     -999.0,9,     -999.0,9,-999.0000, -999.00,-999.000