BOTTLE,20220817CCHSIOAMB
EXPOCODE,SECT_ID,STNNBR,CASTNO,SAMPNO,BTLNBR,BTLNBR_FLAG_W,DATE,TIME,LATITUDE,LONGITUDE,DEPTH,CTDPRS,CTDTMP,CTDSAL,CTDSAL_FLAG_W,SALNTY,SALNTY_FLAG_W,CTDOXY,CTDOXY_FLAG_W,OXYGEN,OXYGEN_FLAG_W,SILCAT,SILCAT_FLAG_W,NITRAT,NITRAT_FLAG_W,NITRIT,NITRIT_FLAG_W,PHSPHT,PHSPHT_FLAG_W,CFC-11,CFC-11_FLAG_W,CFC-12,CFC-12_FLAG_W,CFC113,CFC113_FLAG_W,SF6,SF6_FLAG_W,TCARBN,TCARBN_FLAG_W,ALKALI,ALKALI_FLAG_W,PH_TOT,PH_TOT_FLAG_W,PH_TMP,TRITUM,TRITUM_FLAG_W,HELIUM,HELIUM_FLAG_W,DELHE3,DELHE3_FLAG_W,DELC13,DELC13_FLAG_W,DELC14,DELC14_FLAG_W,C14ERR,NEON,NEON_FLAG_W,NEONER,I-129,I-129_FLAG_W,SR-90,SR-90_FLAG_W,DOC,DOC_FLAG_W,TDN,TDN_FLAG_W,CALCIUM,CALCIUM_FLAG_W,D15N_NO3,D15N_NO3_FLAG_W,BTL_DATE,BTL_TIME,BTL_LAT,BTL_LON,SALTREF,SALTREF_FLAG_W,CS-137,CS-137_FLAG_W,CS-134,CS-134_FLAG_W,REFTMP,REFTMP_FLAG_W,LAB_DEN,LAB_DEN_FLAG_W,D18O_NO3,D18O_NO3_FLAG_W,HELIER,DELHER,TRITER
,,,,,,,,,,,METERS,DBAR,ITS-90,PSS-78,,PSS-78,,UMOL/KG,,UMOL/KG,,UMOL/KG,,UMOL/KG,,UMOL/KG,,UMOL/KG,,PMOL/KG,,PMOL/KG,,PMOL/KG,,FMOL/KG,,UMOL/KG,,UMOL/KG,,,,DEG C,TU,,NMOL/KG,,PERCNT,,/MILLE,,/MILLE,,/MILLE,NMOL/KG,,NMOL/KG,BQ/M^3,,DM/.1MG,,UMOL/KG,,UMOL/KG,,MMOL/KG,,/MILLE,,,,,,G/KG,,BQ/M^3,,BQ/M^3,,ITS-90,,,,/MILLE,,NMOL/KG,PERCNT,TU
318M20130321,       P02W,      23,          1,          7,          7,4,20130411,       1222,    30.0003,   139.9287,       2914,  1913.6,    2.087,  34.5771,2,  34.5657,4,     83.1,2,    76.2,4,  154.82,4,   40.75,4,       0,4,    2.93,4,   0.032,2,   0.027,2,   0.009,2,     0.08,2,  2362.5,4, 2402.35,4,    7.426,2,       25,-999.000,9,-999.0000,9, -999.00,9,   -0.23,2,  -234.8,2,     2.8,-999.000,9,-999.000,     -999.0,9, -999.00,9,   35.32,2, -999.00,9,     -999.0,9,  -999.0,9, 20130411,     1245,  30.0005, 139.9286,    34.7287,4,     -999.0,9,     -999.0,9,     2.0846,2,     -999.0,9,     -999.0,9,-999.0000, -999.00,-999.000
318M20130321,       P02W,      23,          1,          6,          6,4,20130411,       1222,    30.0003,   139.9287,       2914,  2016.5,   2.0072,  34.5913,2,  34.5125,4,     92.2,2,    61.6,4,  148.96,4,   41.36,4,       0,4,    2.98,4,-999.000,9,-999.000,9,-999.000,9,-999.0000,9,  2364.7,4, 2392.45,4,-999.0000,5,  -999.00,-999.000,9,-999.0000,9, -999.00,9,   -0.28,2,  -229.8,2,     1.8,-999.000,9,-999.000,     -999.0,9, -999.00,9, -999.00,9, -999.00,9,     -999.0,9,  -999.0,9, 20130411,     1242,  30.0006, 139.9285,    34.6752,4,     -999.0,9,     -999.0,9,     2.0077,2,     -999.0,9,     -999.0,9,-999.0000, -999.00,-999.000
318M20130321,       P02W,      23,          1,          5,         37,9,20130411,       1222,    30.0003,   139.9287,       2914,  2221.4,   1.8589,  34.6156,2,-999.0000,9,    105.7,2,  -999.0,9, -999.00,9, -999.00,9, -999.00,9, -999.00,9,-999.000,9,-999.000,9,-999.000,9,-999.0000,9,  -999.0,9, -999.00,9,-999.0000,9,  -999.00,-999.000,9,-999.0000,9, -999.00,9, -999.00,9,  -999.0,9,  -999.0,-999.000,9,-999.000,     -999.0,9, -999.00,9, -999.00,9, -999.00,9,     -999.0,9,  -999.0,9, 20130411,     1238,  30.0005, 139.9284,     -999.0,9,     -999.0,9,     -999.0,9,     1.8583,2,     -999.0,9,     -999.0,9,-999.0000, -999.00,-999.000
318M20130321,       P02W,      23,          1,          4,          4,2,20130411,       1222,    30.0003,   139.9287,       2914,  2426.9,   1.7902,  34.6284,2,  34.6295,2,    111.1,2,   110.8,2,  152.27,2,   38.53,2,       0,2,    2.74,2,-999.000,9,-999.000,9,-999.000,9,-999.0000,9,  2345.5,2, 2411.66,6,   7.4938,2,       25,-999.000,9,-999.0000,9, -999.00,9,   -0.04,2,  -230.8,2,     1.7,-999.000,9,-999.000,     -999.0,9, -999.00,9,   35.23,2, -999.00,9,     -999.0,9,  -999.0,9, 20130411,     1234,  30.0002, 139.9284,    34.7928,2,     -999.0,9,     -999.0,9,     1.7899,2,     -999.0,9,     -999.0,9,-999.0000, -999.00,-999.000
318M20130321,       P02W,      23,          1,          3,          3,2,20130411,       1222,    30.0003,   139.9287,       2914,  2632.3,   1.7723,  34.6343,2,  34.6348,2,    115.9,2,   116.7,2,  150.51,2,   38.19,2,       0,2,    2.71,2,   0.017,2,   0.019,2,   0.005,2,     0.11,2,  -999.0,9, -999.00,9,-999.0000,9,  -999.00,-999.000,9,-999.0000,9, -999.00,9,    0.00,2,  -227.0,2,     1.7,-999.000,9,-999.000,     -999.0,9, -999.00,9,   35.36,2, -999.00,9,     -999.0,9,  -999.0,9, 20130411,     1229,  30.0001, 139.9285,    34.7981,2,     -999.0,9,     -999.0,9,     1.7724,2,     -999.0,9,     -999.0,9,-999.0000, -999.00,-999.000
318M20130321,       P02W,      23,          1,          2,          2,2,20130411,       1222,    30.0003,   139.9287,       2914,  2807.2,    1.777,  34.6362,2,  34.6354,2,    118.9,2,   119.2,2,  149.64,2,   38.08,2,       0,2,    2.71,2,-999.000,9,-999.000,9,-999.000,9,-999.0000,9,    2342,2, 2409.66,2,   7.5085,6,       25,-999.000,9,-999.0000,9, -999.00,9,    0.00,2,  -231.3,2,     1.8,-999.000,9,-999.000,     -999.0,9, -999.00,9,   35.97,2, -999.00,9,     -999.0,9,  -999.0,9, 20130411,     1226,  29.9999, 139.9287,    34.7987,2,     -999.0,9,     -999.0,9,      1.777,2,     -999.0,9,     -999.0,9,-999.0000, -999.00,-999.000
318M20130321,       P02W,      23,          1,          1,          1,2,20130411,       1222,    30.0003,   139.9287,       2914,  2937.3,   1.7855,  34.6371,2,  34.6384,2,    119.9,2,   119.5,2,  149.54,2,   38.07,2,       0,2,     2.7,2,   0.052,2,   0.036,2,   0.013,2,      0.1,2,  2343.2,6, 2411.76,2,   7.5107,2,       25,-999.000,9,-999.0000,9, -999.00,9,   -0.03,2,  -224.5,2,     2.0,-999.000,9,-999.000,     -999.0,9, -999.00,9,   36.16,2, -999.00,9,     -999.0,9,  -999.0,9, 20130411,     1222,  30.0002, 139.9287,    34.8017,2,     -999.0,9,     -999.0,9,     1.7848,2,     -999.0,9,     -999.0,9,-999.0000, -999.00,-999.000