BOTTLE,20220817CCHSIOAMB
EXPOCODE,SECT_ID,STNNBR,CASTNO,SAMPNO,BTLNBR,BTLNBR_FLAG_W,DATE,TIME,LATITUDE,LONGITUDE,DEPTH,CTDPRS,CTDTMP,CTDSAL,CTDSAL_FLAG_W,SALNTY,SALNTY_FLAG_W,CTDOXY,CTDOXY_FLAG_W,OXYGEN,OXYGEN_FLAG_W,SILCAT,SILCAT_FLAG_W,NITRAT,NITRAT_FLAG_W,NITRIT,NITRIT_FLAG_W,PHSPHT,PHSPHT_FLAG_W,CFC-11,CFC-11_FLAG_W,CFC-12,CFC-12_FLAG_W,CFC113,CFC113_FLAG_W,SF6,SF6_FLAG_W,TCARBN,TCARBN_FLAG_W,ALKALI,ALKALI_FLAG_W,PH_TOT,PH_TOT_FLAG_W,PH_TMP,TRITUM,TRITUM_FLAG_W,HELIUM,HELIUM_FLAG_W,DELHE3,DELHE3_FLAG_W,DELC13,DELC13_FLAG_W,DELC14,DELC14_FLAG_W,C14ERR,NEON,NEON_FLAG_W,NEONER,I-129,I-129_FLAG_W,SR-90,SR-90_FLAG_W,DOC,DOC_FLAG_W,TDN,TDN_FLAG_W,CALCIUM,CALCIUM_FLAG_W,D15N_NO3,D15N_NO3_FLAG_W,BTL_DATE,BTL_TIME,BTL_LAT,BTL_LON,SALTREF,SALTREF_FLAG_W,CS-137,CS-137_FLAG_W,CS-134,CS-134_FLAG_W,REFTMP,REFTMP_FLAG_W,LAB_DEN,LAB_DEN_FLAG_W,D18O_NO3,D18O_NO3_FLAG_W,HELIER,DELHER,TRITER
,,,,,,,,,,,METERS,DBAR,ITS-90,PSS-78,,PSS-78,,UMOL/KG,,UMOL/KG,,UMOL/KG,,UMOL/KG,,UMOL/KG,,UMOL/KG,,PMOL/KG,,PMOL/KG,,PMOL/KG,,FMOL/KG,,UMOL/KG,,UMOL/KG,,,,DEG C,TU,,NMOL/KG,,PERCNT,,/MILLE,,/MILLE,,/MILLE,NMOL/KG,,NMOL/KG,BQ/M^3,,DM/.1MG,,UMOL/KG,,UMOL/KG,,MMOL/KG,,/MILLE,,,,,,G/KG,,BQ/M^3,,BQ/M^3,,ITS-90,,,,/MILLE,,NMOL/KG,PERCNT,TU
318M20130321,       P02W,      43,          1,          7,          7,2,20130418,       0940,         30,   157.0292,       5328,  3546.3,   1.4789,  34.6763,2,  34.6767,2,    141.6,2,   141.8,2,  154.32,2,   36.62,2,       0,2,    2.56,2,   0.006,2,   0.013,2,   0.008,2,     0.03,2,  2330.6,2, 2415.86,2,   7.5499,2,       25,-999.000,9,-999.0000,9, -999.00,9, -999.00,9,  -999.0,9,  -999.0,-999.000,9,-999.000,     -999.0,9, -999.00,9,   34.72,2, -999.00,9,     -999.0,9,  -999.0,1, 20130418,     1019,  29.9998, 157.0297,    34.8402,2,     -999.0,9,     -999.0,9,     1.4788,2,     -999.0,9,     -999.0,1,-999.0000, -999.00,-999.000
318M20130321,       P02W,      43,          1,          6,          6,2,20130418,       0940,         30,   157.0292,       5328,  3856.1,   1.4574,  34.6821,2,   34.682,2,    148.5,2,   148.7,2,  151.97,2,   36.17,2,       0,2,    2.51,2,-999.000,9,-999.000,9,-999.000,9,-999.0000,9,  -999.0,9, -999.00,9,-999.0000,9,  -999.00,-999.000,9,-999.0000,9, -999.00,9, -999.00,9,  -999.0,9,  -999.0,-999.000,9,-999.000,     -999.0,9, -999.00,9, -999.00,9, -999.00,9,     -999.0,9,  -999.0,1, 20130418,     1013,  29.9999, 157.0296,    34.8455,2,     -999.0,9,     -999.0,9,     1.4575,2,     -999.0,9,     -999.0,1,-999.0000, -999.00,-999.000
318M20130321,       P02W,      43,          1,          5,         37,2,20130418,       0940,         30,   157.0292,       5328,  4164.9,    1.459,  34.6857,2,  34.6852,2,    152.4,2,     153,2,  151.09,2,   35.88,2,       0,2,     2.5,2,   0.009,2,   0.014,2,   0.005,2,     0.06,2,  2321.8,2, 2412.86,2,   7.5689,2,       25,-999.000,9,-999.0000,9, -999.00,9, -999.00,9,  -999.0,9,  -999.0,-999.000,9,-999.000,     -999.0,9, -999.00,9,   34.35,2, -999.00,9,     -999.0,9,  -999.0,1, 20130418,     1006,  29.9999, 157.0293,    34.8487,2,     -999.0,9,     -999.0,9,      1.459,2,     -999.0,9,     -999.0,1,-999.0000, -999.00,-999.000
318M20130321,       P02W,      43,          1,          4,          4,2,20130418,       0940,         30,   157.0292,       5328,  4469.4,   1.4744,  34.6876,2,  34.6873,2,    155.1,2,   155.2,2,  150.02,2,   35.71,2,       0,2,    2.48,2,-999.000,9,-999.000,9,-999.000,9,-999.0000,9,  -999.0,9, -999.00,9,-999.0000,9,  -999.00,-999.000,9,-999.0000,9, -999.00,9, -999.00,9,  -999.0,9,  -999.0,-999.000,9,-999.000,     -999.0,9, -999.00,9, -999.00,9, -999.00,9,     -999.0,9,  -999.0,1, 20130418,     1000,  29.9999, 157.0294,    34.8509,2,     -999.0,9,     -999.0,9,     1.4743,2,     -999.0,9,     -999.0,1,-999.0000, -999.00,-999.000
318M20130321,       P02W,      43,          1,          3,          3,2,20130418,       0940,         30,   157.0292,       5328,  4842.1,   1.4969,  34.6897,2,  34.6912,3,    159.6,2,     159,2,  147.68,2,   35.47,2,       0,2,    2.46,2,   0.011,2,   0.015,2,   0.002,2,     0.06,2,  2317.6,6, 2411.86,2,   7.5771,2,       25,-999.000,9,-999.0000,9, -999.00,9, -999.00,9,  -999.0,9,  -999.0,-999.000,9,-999.000,     -999.0,9, -999.00,9,   36.27,2, -999.00,9,     -999.0,9,  -999.0,1, 20130418,      954,  30.0001, 157.0292,    34.8548,3,     -999.0,9,     -999.0,9,     1.4966,2,     -999.0,9,     -999.0,1,-999.0000, -999.00,-999.000
318M20130321,       P02W,      43,          1,          2,          2,2,20130418,       0940,         30,   157.0292,       5328,  5205.7,   1.5176,  34.6918,2,   34.692,2,    161.8,2,   163.3,2,  144.55,2,   35.17,2,       0,2,    2.43,2,-999.000,9,-999.000,9,-999.000,9,-999.0000,9,  2313.5,2, 2409.56,6,   7.5825,2,       25,-999.000,9,-999.0000,9, -999.00,9, -999.00,9,  -999.0,9,  -999.0,-999.000,9,-999.000,     -999.0,9, -999.00,9,   36.56,2, -999.00,9,     -999.0,9,  -999.0,1, 20130418,      947,  29.9999, 157.0291,    34.8556,2,     -999.0,9,     -999.0,9,     1.5184,2,     -999.0,9,     -999.0,1,-999.0000, -999.00,-999.000
318M20130321,       P02W,      43,          1,          1,          1,2,20130418,       0940,         30,   157.0292,       5328,  5515.1,   1.5494,  34.6923,2,   34.694,3,    164.5,2,   164.2,2,  142.99,2,   35.05,2,       0,2,    2.42,2,   0.028,2,   0.017,2,   0.002,2,        0,2,  2312.3,2, 2408.86,2,   7.5845,6,       25,-999.000,9,-999.0000,9, -999.00,9, -999.00,9,  -999.0,9,  -999.0,-999.000,9,-999.000,     -999.0,9, -999.00,9,      37,2, -999.00,9,     -999.0,9,  -999.0,1, 20130418,      940,       30, 157.0292,    34.8576,3,     -999.0,9,     -999.0,9,     1.5498,2,     -999.0,9,     -999.0,1,-999.0000, -999.00,-999.000