BOTTLE,20220817CCHSIOAMB
EXPOCODE,SECT_ID,STNNBR,CASTNO,SAMPNO,BTLNBR,BTLNBR_FLAG_W,DATE,TIME,LATITUDE,LONGITUDE,DEPTH,CTDPRS,CTDTMP,CTDSAL,CTDSAL_FLAG_W,SALNTY,SALNTY_FLAG_W,CTDOXY,CTDOXY_FLAG_W,OXYGEN,OXYGEN_FLAG_W,SILCAT,SILCAT_FLAG_W,NITRAT,NITRAT_FLAG_W,NITRIT,NITRIT_FLAG_W,PHSPHT,PHSPHT_FLAG_W,CFC-11,CFC-11_FLAG_W,CFC-12,CFC-12_FLAG_W,CFC113,CFC113_FLAG_W,SF6,SF6_FLAG_W,TCARBN,TCARBN_FLAG_W,ALKALI,ALKALI_FLAG_W,PH_TOT,PH_TOT_FLAG_W,PH_TMP,TRITUM,TRITUM_FLAG_W,HELIUM,HELIUM_FLAG_W,DELHE3,DELHE3_FLAG_W,DELC13,DELC13_FLAG_W,DELC14,DELC14_FLAG_W,C14ERR,NEON,NEON_FLAG_W,NEONER,I-129,I-129_FLAG_W,SR-90,SR-90_FLAG_W,DOC,DOC_FLAG_W,TDN,TDN_FLAG_W,CALCIUM,CALCIUM_FLAG_W,D15N_NO3,D15N_NO3_FLAG_W,BTL_DATE,BTL_TIME,BTL_LAT,BTL_LON,SALTREF,SALTREF_FLAG_W,CS-137,CS-137_FLAG_W,CS-134,CS-134_FLAG_W,REFTMP,REFTMP_FLAG_W,LAB_DEN,LAB_DEN_FLAG_W,D18O_NO3,D18O_NO3_FLAG_W,HELIER,DELHER,TRITER
,,,,,,,,,,,METERS,DBAR,ITS-90,PSS-78,,PSS-78,,UMOL/KG,,UMOL/KG,,UMOL/KG,,UMOL/KG,,UMOL/KG,,UMOL/KG,,PMOL/KG,,PMOL/KG,,PMOL/KG,,FMOL/KG,,UMOL/KG,,UMOL/KG,,,,DEG C,TU,,NMOL/KG,,PERCNT,,/MILLE,,/MILLE,,/MILLE,NMOL/KG,,NMOL/KG,BQ/M^3,,DM/.1MG,,UMOL/KG,,UMOL/KG,,MMOL/KG,,/MILLE,,,,,,G/KG,,BQ/M^3,,BQ/M^3,,ITS-90,,,,/MILLE,,NMOL/KG,PERCNT,TU
318M20130321,       P02W,      84,          1,          6,          6,2,20130501,       2221,    30.0004,   -170.917,       5410,  4163.9,   1.4725,  34.6845,2,  34.6857,2,    149.1,2,   149.3,2,  154.32,2,   36.16,2,       0,2,    2.54,2,   0.005,2,   0.009,2,   0.006,2,     0.08,2,  -999.0,9, -999.00,9,-999.0000,9,  -999.00,-999.000,9,-999.0000,9, -999.00,9, -999.00,9,  -999.0,9,  -999.0,-999.000,9,-999.000,     -999.0,9, -999.00,9, -999.00,9, -999.00,9,     -999.0,1,  -999.0,9, 20130501,     2248,  29.9996, -170.917,    34.8493,2,     -999.0,9,     -999.0,9,     1.4725,2,     -999.0,9,     -999.0,9,-999.0000, -999.00,-999.000
318M20130321,       P02W,      84,          1,          5,         37,2,20130501,       2221,    30.0004,   -170.917,       5410,  4573.6,   1.4863,  34.6882,2,  34.6889,2,    153.6,2,   153.8,2,  152.07,2,   35.83,2,       0,2,    2.52,2,-999.000,9,-999.000,9,-999.000,9,-999.0000,9,  2324.9,2, 2417.56,6,   7.5735,2,       25,-999.000,9,-999.0000,9, -999.00,9, -999.00,9,  -999.0,9,  -999.0,-999.000,9,-999.000,     -999.0,9, -999.00,9, -999.00,9, -999.00,9,     -999.0,1,  -999.0,9, 20130501,     2240,  29.9996,-170.9171,    34.8525,2,     -999.0,9,     -999.0,9,     1.4865,2,     -999.0,9,     -999.0,9,-999.0000, -999.00,-999.000
318M20130321,       P02W,      84,          1,          4,          4,2,20130501,       2221,    30.0004,   -170.917,       5410,  4987.7,   1.5066,  34.6908,2,   34.692,2,    157.8,2,   159.3,2,  147.39,2,   35.46,2,       0,2,    2.49,2,   0.009,2,   0.012,2,   0.001,2,     0.07,2,  2317.7,2, 2413.56,2,   7.5811,6,       25,-999.000,9,-999.0000,9, -999.00,9, -999.00,9,  -999.0,9,  -999.0,-999.000,9,-999.000,     -999.0,9, -999.00,9, -999.00,9, -999.00,9,     -999.0,1,  -999.0,9, 20130501,     2232,  30.0002,-170.9169,    34.8556,2,     -999.0,9,     -999.0,9,      1.507,2,     -999.0,9,     -999.0,9,-999.0000, -999.00,-999.000
318M20130321,       P02W,      84,          1,          3,          3,2,20130501,       2221,    30.0004,   -170.917,       5410,  5294.6,   1.5249,  34.6924,2,  34.6928,2,    163.8,2,   163.1,2,  143.87,2,   35.17,2,       0,2,    2.45,2,   0.009,2,   0.011,2,   0.004,2,     0.09,2,  2315.2,2, 2409.46,2,   7.5866,2,       25,-999.000,9,-999.0000,9, -999.00,9, -999.00,9,  -999.0,9,  -999.0,-999.000,9,-999.000,     -999.0,9, -999.00,9, -999.00,9, -999.00,9,     -999.0,1,  -999.0,9, 20130501,     2226,  30.0003,-170.9168,    34.8564,2,     -999.0,9,     -999.0,9,     1.5251,2,     -999.0,9,     -999.0,9,-999.0000, -999.00,-999.000
318M20130321,       P02W,      84,          1,          1,          1,2,20130501,       2221,    30.0004,   -170.917,       5410,  5510.6,   1.5497,  34.6924,2,  34.6936,2,    164.1,2,   163.8,2,   142.8,2,   35.14,2,       0,2,    2.46,2,   0.021,2,   0.019,2,   0.003,2,        0,4,  -999.0,9, -999.00,9,-999.0000,9,  -999.00,-999.000,9,-999.0000,9, -999.00,9, -999.00,9,  -999.0,9,  -999.0,-999.000,9,-999.000,     -999.0,9, -999.00,9, -999.00,9, -999.00,9,     -999.0,9,  -999.0,9, 20130501,     2221,  30.0003, -170.917,    34.8572,2,     -999.0,9,     -999.0,9,     1.5497,2,     -999.0,9,     -999.0,9,-999.0000, -999.00,-999.000
318M20130321,       P02W,      84,          1,          2,          2,2,20130501,       2221,    30.0004,   -170.917,       5410,  5510.8,   1.5494,  34.6925,2,   34.694,2,    164.1,2,   163.9,2,   142.8,2,   35.11,2,       0,2,    2.46,2,   0.011,2,   0.014,2,   0.003,2,     0.08,2,  2315.2,6, 2410.26,2,   7.5864,2,       25,-999.000,9,-999.0000,9, -999.00,9, -999.00,9,  -999.0,9,  -999.0,-999.000,9,-999.000,     -999.0,9, -999.00,9, -999.00,9, -999.00,9,     -999.0,9,  -999.0,9, 20130501,     2222,  30.0003, -170.917,    34.8576,2,     -999.0,9,     -999.0,9,     1.5495,2,     -999.0,9,     -999.0,9,-999.0000, -999.00,-999.000