BOTTLE,20220817CCHSIOAMB
EXPOCODE,SECT_ID,STNNBR,CASTNO,SAMPNO,BTLNBR,BTLNBR_FLAG_W,DATE,TIME,LATITUDE,LONGITUDE,DEPTH,CTDPRS,CTDTMP,CTDSAL,CTDSAL_FLAG_W,SALNTY,SALNTY_FLAG_W,CTDOXY,CTDOXY_FLAG_W,OXYGEN,OXYGEN_FLAG_W,SILCAT,SILCAT_FLAG_W,NITRAT,NITRAT_FLAG_W,NITRIT,NITRIT_FLAG_W,PHSPHT,PHSPHT_FLAG_W,CFC-11,CFC-11_FLAG_W,CFC-12,CFC-12_FLAG_W,CFC113,CFC113_FLAG_W,SF6,SF6_FLAG_W,TCARBN,TCARBN_FLAG_W,ALKALI,ALKALI_FLAG_W,PH_TOT,PH_TOT_FLAG_W,PH_TMP,TRITUM,TRITUM_FLAG_W,HELIUM,HELIUM_FLAG_W,DELHE3,DELHE3_FLAG_W,DELC13,DELC13_FLAG_W,DELC14,DELC14_FLAG_W,C14ERR,NEON,NEON_FLAG_W,NEONER,I-129,I-129_FLAG_W,SR-90,SR-90_FLAG_W,DOC,DOC_FLAG_W,TDN,TDN_FLAG_W,CALCIUM,CALCIUM_FLAG_W,D15N_NO3,D15N_NO3_FLAG_W,BTL_DATE,BTL_TIME,BTL_LAT,BTL_LON,SALTREF,SALTREF_FLAG_W,CS-137,CS-137_FLAG_W,CS-134,CS-134_FLAG_W,REFTMP,REFTMP_FLAG_W,LAB_DEN,LAB_DEN_FLAG_W,D18O_NO3,D18O_NO3_FLAG_W,HELIER,DELHER,TRITER
,,,,,,,,,,,METERS,DBAR,ITS-90,PSS-78,,PSS-78,,UMOL/KG,,UMOL/KG,,UMOL/KG,,UMOL/KG,,UMOL/KG,,UMOL/KG,,PMOL/KG,,PMOL/KG,,PMOL/KG,,FMOL/KG,,UMOL/KG,,UMOL/KG,,,,DEG C,TU,,NMOL/KG,,PERCNT,,/MILLE,,/MILLE,,/MILLE,NMOL/KG,,NMOL/KG,BQ/M^3,,DM/.1MG,,UMOL/KG,,UMOL/KG,,MMOL/KG,,/MILLE,,,,,,G/KG,,BQ/M^3,,BQ/M^3,,ITS-90,,,,/MILLE,,NMOL/KG,PERCNT,TU
318M20130321,       P02E,     140,          1,         36,         36,2,20130528,       1516,    30.0003,  -124.3381,       4522,     3.4,  16.7299,   33.528,2,  33.5278,2,    246.4,2,   246.4,2,    2.44,2,       0,2,       0,2,    0.26,2,   2.394,2,   1.425,2,-999.000,1,   1.6297,2,  2021.1,6, 2236.99,2,    7.913,2,       25,-999.000,9,-999.0000,9, -999.00,9, -999.00,9,  -999.0,9,  -999.0,-999.000,9,-999.000,     -999.0,9, -999.00,9, -999.00,9, -999.00,9,     -999.0,9,  -999.0,9, 20130528,     1715,  30.0003,-124.3382,    33.6859,2,     -999.0,9,     -999.0,9,    16.7307,2,     -999.0,9,     -999.0,9,-999.0000, -999.00,-999.000
318M20130321,       P02E,     140,          1,         34,         34,2,20130528,       1516,    30.0003,  -124.3381,       4522,    25.4,   16.703,   33.527,2,  33.5266,2,    246.6,2,   246.1,2,    2.34,2,       0,2,       0,2,    0.25,2,   2.406,2,   1.428,2,-999.000,1,   1.7492,2,  -999.0,9, -999.00,9,-999.0000,9,  -999.00,-999.000,9,-999.0000,9, -999.00,9, -999.00,9,  -999.0,9,  -999.0,-999.000,9,-999.000,     -999.0,9, -999.00,9, -999.00,9, -999.00,9,     -999.0,9,  -999.0,9, 20130528,     1712,  30.0003,-124.3381,    33.6847,2,     -999.0,9,     -999.0,9,    16.7047,2,     -999.0,9,     -999.0,9,-999.0000, -999.00,-999.000
318M20130321,       P02E,     140,          1,         33,         33,2,20130528,       1516,    30.0003,  -124.3381,       4522,      51,  16.2821,  33.4853,2,  33.4862,2,    250.3,2,   250.1,2,    2.44,2,       0,2,       0,2,    0.25,2,-999.000,9,-999.000,9,-999.000,9,-999.0000,9,  2018.7,2, 2233.19,6,   7.9136,2,       25,-999.000,9,-999.0000,9, -999.00,9, -999.00,9,  -999.0,9,  -999.0,-999.000,9,-999.000,     -999.0,9, -999.00,9, -999.00,9, -999.00,9,     -999.0,9,  -999.0,9, 20130528,     1711,  30.0001,-124.3379,    33.6441,2,     -999.0,9,     -999.0,9,     16.292,2,     -999.0,9,     -999.0,9,-999.0000, -999.00,-999.000
318M20130321,       P02E,     140,          1,         32,         32,2,20130528,       1516,    30.0003,  -124.3381,       4522,    75.2,  14.5736,  33.3455,2,  33.3439,2,      263,2,   262.5,2,    2.64,2,       0,2,       0,2,    0.28,2,   2.675,2,   1.576,2,-999.000,1,   1.7889,2,  2013.7,2, 2224.49,2,   7.9059,6,       25,-999.000,9,-999.0000,9, -999.00,9, -999.00,9,  -999.0,9,  -999.0,-999.000,9,-999.000,     -999.0,9, -999.00,9, -999.00,9, -999.00,9,     -999.0,9,  -999.0,9, 20130528,     1709,       30,-124.3377,    33.5012,2,     -999.0,9,     -999.0,9,    14.5713,2,     -999.0,9,     -999.0,9,-999.0000, -999.00,-999.000
318M20130321,       P02E,     140,          1,         31,         31,2,20130528,       1516,    30.0003,  -124.3381,       4522,     100,  13.4444,  33.3347,2,  33.3316,2,    249.3,2,   249.4,2,    3.42,2,    0.97,2,    0.14,2,     0.4,2,-999.000,9,-999.000,9,-999.000,9,-999.0000,9,  2029.5,2, 2221.49,2,   7.8659,2,       25,-999.000,9,-999.0000,9, -999.00,9, -999.00,9,  -999.0,9,  -999.0,-999.000,9,-999.000,     -999.0,9, -999.00,9, -999.00,9, -999.00,9,     -999.0,9,  -999.0,9, 20130528,     1707,       30,-124.3377,    33.4888,2,     -999.0,9,     -999.0,9,    13.4286,2,     -999.0,9,     -999.0,9,-999.0000, -999.00,-999.000
318M20130321,       P02E,     140,          1,         30,         30,2,20130528,       1516,    30.0003,  -124.3381,       4522,   151.2,  10.5935,  33.4563,2,  33.4615,2,    199.1,2,   194.5,2,    12.9,2,   14.15,2,    0.02,2,     1.2,2,   3.145,2,   1.784,2,-999.000,1,   1.6193,2,  2105.4,2, 2222.19,2,   7.6788,6,       25,-999.000,9,-999.0000,9, -999.00,9, -999.00,9,  -999.0,9,  -999.0,-999.000,9,-999.000,     -999.0,9, -999.00,9, -999.00,9, -999.00,9,     -999.0,9,  -999.0,9, 20130528,     1705,  30.0001,-124.3377,    33.6193,2,     -999.0,9,     -999.0,9,    10.5763,2,     -999.0,9,     -999.0,9,-999.0000, -999.00,-999.000
318M20130321,       P02E,     140,          1,         29,         29,2,20130528,       1516,    30.0003,  -124.3381,       4522,   201.8,     9.21,  33.7891,2,  33.7868,2,    140.9,2,     143,2,   24.81,2,   23.24,2,    0.01,2,    1.79,2,-999.000,9,-999.000,9,-999.000,9,-999.0000,9,  2168.1,2,  2243.1,2,   7.5497,2,       25,-999.000,9,-999.0000,9, -999.00,9, -999.00,9,  -999.0,9,  -999.0,-999.000,9,-999.000,     -999.0,9, -999.00,9, -999.00,9, -999.00,9,     -999.0,9,  -999.0,9, 20130528,     1703,  30.0001,-124.3378,    33.9461,2,     -999.0,9,     -999.0,9,      9.222,2,     -999.0,9,     -999.0,9,-999.0000, -999.00,-999.000
318M20130321,       P02E,     140,          1,         27,         27,2,20130528,       1516,    30.0003,  -124.3381,       4522,   251.2,   8.4766,  33.9659,2,  33.9712,2,      126,2,     126,2,   32.72,2,   26.34,2,       0,2,    1.96,2,   2.910,2,   1.558,2,-999.000,1,   0.8828,2,  2193.3,2,  2256.7,2,    7.518,2,       25,-999.000,9,-999.0000,9, -999.00,9, -999.00,9,  -999.0,9,  -999.0,-999.000,9,-999.000,     -999.0,9, -999.00,9, -999.00,9, -999.00,9,     -999.0,9,  -999.0,9, 20130528,     1701,  30.0003,-124.3379,    34.1314,2,     -999.0,9,     -999.0,9,     8.4596,2,     -999.0,9,     -999.0,9,-999.0000, -999.00,-999.000
318M20130321,       P02E,     140,          1,         26,         26,2,20130528,       1516,    30.0003,  -124.3381,       4522,   301.8,   7.6599,  34.0254,2,  34.0251,2,    102.7,2,   103.9,2,   42.38,2,   29.79,2,       0,2,    2.22,2,-999.000,9,-999.000,9,-999.000,9,-999.0000,9,  2221.7,2, 2268.21,2,   7.4664,2,       25,-999.000,9,-999.0000,9, -999.00,9, -999.00,9,  -999.0,9,  -999.0,-999.000,9,-999.000,     -999.0,9, -999.00,9, -999.00,9, -999.00,9,     -999.0,9,  -999.0,9, 20130528,     1659,  30.0004, -124.338,    34.1855,2,     -999.0,9,     -999.0,9,     7.6598,2,     -999.0,9,     -999.0,9,-999.0000, -999.00,-999.000
318M20130321,       P02E,     140,          1,         25,         25,2,20130528,       1516,    30.0003,  -124.3381,       4522,   353.2,   7.0013,   34.058,2,   34.057,2,     77.7,2,    77.1,2,   51.95,2,   33.24,2,       0,2,     2.5,2,   2.041,2,   1.020,2,-999.000,1,   0.5415,2,  2249.5,2, 2277.81,2,   7.4056,2,       25,-999.000,9,-999.0000,9, -999.00,9, -999.00,9,  -999.0,9,  -999.0,-999.000,9,-999.000,     -999.0,9, -999.00,9, -999.00,9, -999.00,9,     -999.0,9,  -999.0,9, 20130528,     1656,  30.0005, -124.338,    34.2176,2,     -999.0,9,     -999.0,9,     7.0119,2,     -999.0,9,     -999.0,9,-999.0000, -999.00,-999.000
318M20130321,       P02E,     140,          1,         24,         24,2,20130528,       1516,    30.0003,  -124.3381,       4522,   402.2,   6.5843,  34.1014,2,  34.1017,2,     58.1,2,    55.6,2,   60.44,2,   35.77,2,       0,2,    2.71,2,-999.000,9,-999.000,9,-999.000,9,-999.0000,9,  2271.7,2, 2286.91,2,   7.3634,2,       25,-999.000,9,-999.0000,9, -999.00,9, -999.00,9,  -999.0,9,  -999.0,-999.000,9,-999.000,     -999.0,9, -999.00,9, -999.00,9, -999.00,9,     -999.0,9,  -999.0,9, 20130528,     1654,  30.0005,-124.3381,    34.2625,2,     -999.0,9,     -999.0,9,     6.5828,2,     -999.0,9,     -999.0,9,-999.0000, -999.00,-999.000
318M20130321,       P02E,     140,          1,         23,         23,2,20130528,       1516,    30.0003,  -124.3381,       4522,   502.4,   5.7962,  34.1823,2,  34.1817,2,     29.7,2,    28.9,2,   75.87,2,   39.12,2,       0,2,       3,2,   0.649,2,   0.318,2,-999.000,1,     0.07,2,  2305.1,2, 2305.92,2,   7.3168,2,       25,-999.000,9,-999.0000,9, -999.00,9, -999.00,9,  -999.0,9,  -999.0,-999.000,9,-999.000,     -999.0,9, -999.00,9, -999.00,9, -999.00,9,     -999.0,9,  -999.0,9, 20130528,     1651,  30.0004,-124.3381,    34.3428,2,     -999.0,9,     -999.0,9,      5.796,2,     -999.0,9,     -999.0,9,-999.0000, -999.00,-999.000
318M20130321,       P02E,     140,          1,         22,         22,2,20130528,       1516,    30.0003,  -124.3381,       4522,     604,   5.3199,  34.2813,2,  34.2807,2,       16,2,    15.1,2,   87.87,2,      41,2,       0,2,    3.16,2,-999.000,9,-999.000,9,-999.000,9,-999.0000,9,  2328.3,2, 2324.93,2,    7.302,2,       25,-999.000,9,-999.0000,9, -999.00,9, -999.00,9,  -999.0,9,  -999.0,-999.000,9,-999.000,     -999.0,9, -999.00,9, -999.00,9, -999.00,9,     -999.0,9,  -999.0,9, 20130528,     1648,  30.0003,-124.3382,    34.4423,2,     -999.0,9,     -999.0,9,     5.3216,2,     -999.0,9,     -999.0,9,-999.0000, -999.00,-999.000
318M20130321,       P02E,     140,          1,         21,         21,2,20130528,       1516,    30.0003,  -124.3381,       4522,     705,   4.8875,  34.3492,2,  34.3476,2,     12.8,2,    13.2,2,   96.95,2,   42.11,2,       0,2,    3.22,2,   0.055,2,   0.035,2,-999.000,1,        0,2,  2340.2,2, 2338.83,2,   7.3054,2,       25,-999.000,9,-999.0000,9, -999.00,9, -999.00,9,  -999.0,9,  -999.0,-999.000,9,-999.000,     -999.0,9, -999.00,9, -999.00,9, -999.00,9,     -999.0,9,  -999.0,9, 20130528,     1645,  30.0003, -124.338,    34.5096,2,     -999.0,9,     -999.0,9,     4.8872,2,     -999.0,9,     -999.0,9,-999.0000, -999.00,-999.000
318M20130321,       P02E,     140,          1,         20,         20,2,20130528,       1516,    30.0003,  -124.3381,       4522,   805.5,   4.5643,  34.3955,2,  34.3951,2,     14.3,2,    14.7,2,  104.07,2,   42.73,2,       0,2,    3.24,2,-999.000,9,-999.000,9,-999.000,9,-999.0000,9,  -999.0,9, -999.00,9,   7.3144,2,       25,-999.000,9,-999.0000,9, -999.00,9, -999.00,9,  -999.0,9,  -999.0,-999.000,9,-999.000,     -999.0,9, -999.00,9, -999.00,9, -999.00,9,     -999.0,9,  -999.0,9, 20130528,     1642,  30.0002,-124.3379,    34.5573,2,     -999.0,9,     -999.0,9,     4.5649,2,     -999.0,9,     -999.0,9,-999.0000, -999.00,-999.000
318M20130321,       P02E,     140,          1,         19,         19,2,20130528,       1516,    30.0003,  -124.3381,       4522,   907.4,   4.2322,    34.44,2,  34.4398,2,       19,2,    19.6,2,  111.49,2,   43.04,2,       0,2,    3.24,2,   0.016,2,   0.013,2,-999.000,1,        0,2,  2354.8,2, 2359.94,2,    7.326,6,       25,-999.000,9,-999.0000,9, -999.00,9, -999.00,9,  -999.0,9,  -999.0,-999.000,9,-999.000,     -999.0,9, -999.00,9, -999.00,9, -999.00,9,     -999.0,9,  -999.0,9, 20130528,     1639,  30.0001,-124.3379,    34.6022,2,     -999.0,9,     -999.0,9,     4.2315,2,     -999.0,9,     -999.0,9,-999.0000, -999.00,-999.000
318M20130321,       P02E,     140,          1,         18,         18,2,20130528,       1516,    30.0003,  -124.3381,       4522,  1009.1,    3.944,  34.4722,2,   34.472,2,     24.6,2,    24.7,2,  117.83,2,    43.1,2,       0,2,    3.21,2,-999.000,9,-999.000,9,-999.000,9,-999.0000,9,  -999.0,9, -999.00,9,-999.0000,9,  -999.00,-999.000,9,-999.0000,9, -999.00,9, -999.00,9,  -999.0,9,  -999.0,-999.000,9,-999.000,     -999.0,9, -999.00,9, -999.00,9, -999.00,9,     -999.0,9,  -999.0,9, 20130528,     1636,  30.0003,-124.3379,    34.6346,2,     -999.0,9,     -999.0,9,     3.9452,2,     -999.0,9,     -999.0,9,-999.0000, -999.00,-999.000
318M20130321,       P02E,     140,          1,         17,         17,2,20130528,       1516,    30.0003,  -124.3381,       4522,  1109.4,   3.6871,  34.5024,2,  34.5027,2,     29.4,2,    30.8,2,  123.39,2,   42.99,2,       0,2,    3.19,2,   0.014,2,   0.012,2,-999.000,1,        0,2,  -999.0,9, -999.00,9,-999.0000,9,  -999.00,-999.000,9,-999.0000,9, -999.00,9, -999.00,9,  -999.0,9,  -999.0,-999.000,9,-999.000,     -999.0,9, -999.00,9, -999.00,9, -999.00,9,     -999.0,9,  -999.0,9, 20130528,     1633,  30.0006,-124.3381,    34.6654,2,     -999.0,9,     -999.0,9,     3.6871,2,     -999.0,9,     -999.0,9,-999.0000, -999.00,-999.000
318M20130321,       P02E,     140,          1,         16,         16,2,20130528,       1516,    30.0003,  -124.3381,       4522,  1211.6,   3.4737,  34.5198,2,  34.5205,2,     35.3,2,    35.2,2,  128.66,2,   42.83,2,       0,2,    3.18,2,-999.000,9,-999.000,9,-999.000,9,-999.0000,9,  -999.0,9, -999.00,9,-999.0000,9,  -999.00,-999.000,9,-999.0000,9, -999.00,9, -999.00,9,  -999.0,9,  -999.0,-999.000,9,-999.000,     -999.0,9, -999.00,9, -999.00,9, -999.00,9,     -999.0,9,  -999.0,9, 20130528,     1630,  30.0006,-124.3382,    34.6833,2,     -999.0,9,     -999.0,9,     3.4695,2,     -999.0,9,     -999.0,9,-999.0000, -999.00,-999.000
318M20130321,       P02E,     140,          1,         15,         15,2,20130528,       1516,    30.0003,  -124.3381,       4522,  1312.3,   3.2343,  34.5405,2,  34.5402,2,     40.6,2,    41.9,2,  133.93,2,   42.66,2,       0,2,    3.15,2,   0.010,2,   0.010,2,-999.000,1,        0,2,  2367.8,2, 2389.05,2,   7.3708,2,       25,-999.000,9,-999.0000,9, -999.00,9, -999.00,9,  -999.0,9,  -999.0,-999.000,9,-999.000,     -999.0,9, -999.00,9, -999.00,9, -999.00,9,     -999.0,9,  -999.0,9, 20130528,     1627,  30.0005,-124.3383,     34.703,2,     -999.0,9,     -999.0,9,     3.2339,2,     -999.0,9,     -999.0,9,-999.0000, -999.00,-999.000
318M20130321,       P02E,     140,          1,         14,         14,2,20130528,       1516,    30.0003,  -124.3381,       4522,  1412.6,   3.0229,  34.5544,2,  34.5537,2,     45.6,2,    45.3,2,   139.3,2,   42.39,2,       0,2,    3.12,2,-999.000,9,-999.000,9,-999.000,9,-999.0000,9,  -999.0,9, -999.00,9,-999.0000,9,  -999.00,-999.000,9,-999.0000,9, -999.00,9, -999.00,9,  -999.0,9,  -999.0,-999.000,9,-999.000,     -999.0,9, -999.00,9, -999.00,9, -999.00,9,     -999.0,9,  -999.0,9, 20130528,     1624,  30.0006,-124.3382,    34.7167,2,     -999.0,9,     -999.0,9,      3.023,2,     -999.0,9,     -999.0,9,-999.0000, -999.00,-999.000
318M20130321,       P02E,     140,          1,         13,         13,2,20130528,       1516,    30.0003,  -124.3381,       4522,  1615.3,   2.7024,  34.5796,2,  34.5795,2,     55.1,2,    54.6,2,  147.69,2,   41.98,2,       0,2,    3.07,2,-999.000,9,-999.000,9,-999.000,9,-999.0000,9,  2373.1,2, 2402.35,2,   7.3979,2,       25,-999.000,9,-999.0000,9, -999.00,9, -999.00,9,  -999.0,9,  -999.0,-999.000,9,-999.000,     -999.0,9, -999.00,9, -999.00,9, -999.00,9,     -999.0,9,  -999.0,9, 20130528,     1619,  30.0006,-124.3381,    34.7425,2,     -999.0,9,     -999.0,9,     2.7026,2,     -999.0,9,     -999.0,9,-999.0000, -999.00,-999.000
318M20130321,       P02E,     140,          1,         12,         12,2,20130528,       1516,    30.0003,  -124.3381,       4522,  1818.3,   2.4197,  34.6017,2,  34.6022,2,     66.8,2,    67.5,2,  153.64,2,   41.32,2,       0,2,    3.01,2,   0.007,2,   0.008,2,-999.000,1,        0,2,  2372.3,2, 2410.26,2,   7.4212,2,       25,-999.000,9,-999.0000,9, -999.00,9, -999.00,9,  -999.0,9,  -999.0,-999.000,9,-999.000,     -999.0,9, -999.00,9, -999.00,9, -999.00,9,     -999.0,9,  -999.0,9, 20130528,     1614,  30.0004,-124.3381,    34.7654,2,     -999.0,9,     -999.0,9,     2.4193,2,     -999.0,9,     -999.0,9,-999.0000, -999.00,-999.000
318M20130321,       P02E,     140,          1,         11,         11,2,20130528,       1516,    30.0003,  -124.3381,       4522,  2021.2,    2.175,  34.6213,2,  34.6217,2,     79.7,2,    78.9,2,  158.91,2,   40.62,2,       0,2,    2.93,2,-999.000,9,-999.000,9,-999.000,9,-999.0000,9,  2368.6,2, 2415.76,2,   7.4454,2,       25,-999.000,9,-999.0000,9, -999.00,9, -999.00,9,  -999.0,9,  -999.0,-999.000,9,-999.000,     -999.0,9, -999.00,9, -999.00,9, -999.00,9,     -999.0,9,  -999.0,9, 20130528,     1609,  30.0005,-124.3381,    34.7849,2,     -999.0,9,     -999.0,9,     2.1748,2,     -999.0,9,     -999.0,9,-999.0000, -999.00,-999.000
318M20130321,       P02E,     140,          1,         10,         10,2,20130528,       1516,    30.0003,  -124.3381,       4522,  2276.3,   1.9646,  34.6381,2,  34.6382,2,     90.9,2,    90.7,2,  161.74,2,    39.9,2,       0,2,    2.87,2,   0.002,2,   0.002,2,-999.000,1,        0,2,  2366.3,2, 2421.66,2,     7.47,2,       25,-999.000,9,-999.0000,9, -999.00,9, -999.00,9,  -999.0,9,  -999.0,-999.000,9,-999.000,     -999.0,9, -999.00,9, -999.00,9, -999.00,9,     -999.0,9,  -999.0,9, 20130528,     1604,  30.0002,-124.3385,    34.8015,2,     -999.0,9,     -999.0,9,     1.9648,2,     -999.0,9,     -999.0,9,-999.0000, -999.00,-999.000
318M20130321,       P02E,     140,          1,          9,          9,2,20130528,       1516,    30.0003,  -124.3381,       4522,  2529.8,   1.8351,  34.6488,2,  34.6484,2,     99.8,2,    99.7,2,  164.47,2,    39.4,2,       0,2,    2.81,2,-999.000,9,-999.000,9,-999.000,9,-999.0000,9,  -999.0,9, -999.00,9,-999.0000,9,  -999.00,-999.000,9,-999.0000,9, -999.00,9, -999.00,9,  -999.0,9,  -999.0,-999.000,9,-999.000,     -999.0,9, -999.00,9, -999.00,9, -999.00,9,     -999.0,9,  -999.0,9, 20130528,     1558,  30.0004,-124.3384,    34.8118,2,     -999.0,9,     -999.0,9,     1.8353,2,     -999.0,9,     -999.0,9,-999.0000, -999.00,-999.000
318M20130321,       P02E,     140,          1,          8,          8,2,20130528,       1516,    30.0003,  -124.3381,       4522,    2784,   1.7097,  34.6573,2,  34.6572,2,    108.8,2,     109,2,  167.79,2,   38.84,2,       0,2,    2.76,2,   0.002,2,   0.003,2,-999.000,1,        0,2,  2359.6,2, 2426.46,2,   7.5007,2,       25,-999.000,9,-999.0000,9, -999.00,9, -999.00,9,  -999.0,9,  -999.0,-999.000,9,-999.000,     -999.0,9, -999.00,9, -999.00,9, -999.00,9,     -999.0,9,  -999.0,9, 20130528,     1553,  30.0006,-124.3379,    34.8207,2,     -999.0,9,     -999.0,9,     1.7101,2,     -999.0,9,     -999.0,9,-999.0000, -999.00,-999.000
318M20130321,       P02E,     140,          1,          7,          7,2,20130528,       1516,    30.0003,  -124.3381,       4522,  3040.5,   1.6199,  34.6649,2,  34.6645,2,    116.1,2,   116.3,2,  168.86,2,   38.38,2,       0,2,    2.71,2,-999.000,9,-999.000,9,-999.000,9,-999.0000,9,  -999.0,9, -999.00,9,-999.0000,9,  -999.00,-999.000,9,-999.0000,9, -999.00,9, -999.00,9,  -999.0,9,  -999.0,-999.000,9,-999.000,     -999.0,9, -999.00,9, -999.00,9, -999.00,9,     -999.0,9,  -999.0,9, 20130528,     1547,  30.0005,-124.3378,     34.828,2,     -999.0,9,     -999.0,9,     1.6201,2,     -999.0,9,     -999.0,9,-999.0000, -999.00,-999.000
318M20130321,       P02E,     140,          1,          6,          6,2,20130528,       1516,    30.0003,  -124.3381,       4522,  3346.4,   1.5509,  34.6724,2,   34.672,2,    124.5,2,   124.7,2,  169.06,2,   37.85,2,       0,2,    2.67,2,   0.004,2,   0.006,2,-999.000,1,        0,2,  2351.6,2, 2429.06,2,   7.5318,6,       25,-999.000,9,-999.0000,9, -999.00,9, -999.00,9,  -999.0,9,  -999.0,-999.000,9,-999.000,     -999.0,9, -999.00,9, -999.00,9, -999.00,9,     -999.0,9,  -999.0,9, 20130528,     1541,       30,-124.3382,    34.8355,2,     -999.0,9,     -999.0,9,     1.5514,2,     -999.0,9,     -999.0,9,-999.0000, -999.00,-999.000