BOTTLE,20220817CCHSIOAMB
EXPOCODE,SECT_ID,STNNBR,CASTNO,SAMPNO,BTLNBR,BTLNBR_FLAG_W,DATE,TIME,LATITUDE,LONGITUDE,DEPTH,CTDPRS,CTDTMP,CTDSAL,CTDSAL_FLAG_W,SALNTY,SALNTY_FLAG_W,CTDOXY,CTDOXY_FLAG_W,OXYGEN,OXYGEN_FLAG_W,SILCAT,SILCAT_FLAG_W,NITRAT,NITRAT_FLAG_W,NITRIT,NITRIT_FLAG_W,PHSPHT,PHSPHT_FLAG_W,CFC-11,CFC-11_FLAG_W,CFC-12,CFC-12_FLAG_W,CFC113,CFC113_FLAG_W,SF6,SF6_FLAG_W,TCARBN,TCARBN_FLAG_W,ALKALI,ALKALI_FLAG_W,PH_TOT,PH_TOT_FLAG_W,PH_TMP,TRITUM,TRITUM_FLAG_W,HELIUM,HELIUM_FLAG_W,DELHE3,DELHE3_FLAG_W,DELC13,DELC13_FLAG_W,DELC14,DELC14_FLAG_W,C14ERR,NEON,NEON_FLAG_W,NEONER,I-129,I-129_FLAG_W,SR-90,SR-90_FLAG_W,DOC,DOC_FLAG_W,TDN,TDN_FLAG_W,CALCIUM,CALCIUM_FLAG_W,D15N_NO3,D15N_NO3_FLAG_W,BTL_DATE,BTL_TIME,BTL_LAT,BTL_LON,SALTREF,SALTREF_FLAG_W,CS-137,CS-137_FLAG_W,CS-134,CS-134_FLAG_W,REFTMP,REFTMP_FLAG_W,LAB_DEN,LAB_DEN_FLAG_W,D18O_NO3,D18O_NO3_FLAG_W,HELIER,DELHER,TRITER
,,,,,,,,,,,METERS,DBAR,ITS-90,PSS-78,,PSS-78,,UMOL/KG,,UMOL/KG,,UMOL/KG,,UMOL/KG,,UMOL/KG,,UMOL/KG,,PMOL/KG,,PMOL/KG,,PMOL/KG,,FMOL/KG,,UMOL/KG,,UMOL/KG,,,,DEG C,TU,,NMOL/KG,,PERCNT,,/MILLE,,/MILLE,,/MILLE,NMOL/KG,,NMOL/KG,BQ/M^3,,DM/.1MG,,UMOL/KG,,UMOL/KG,,MMOL/KG,,/MILLE,,,,,,G/KG,,BQ/M^3,,BQ/M^3,,ITS-90,,,,/MILLE,,NMOL/KG,PERCNT,TU
318M20130321,       P02E,     104,          1,         36,         36,2,20130517,       1744,    29.9998,  -150.8456,       5768,     3.8,  21.0813,  35.0639,2,  35.0652,2,    226.4,2,   226.5,2,    1.95,2,       0,2,       0,2,       0,2,   1.960,6,   1.193,6,-999.000,1,   1.3947,6,  2028.1,2, 2304.12,2,   8.0005,2,       25,-999.000,9,-999.0000,9, -999.00,9, -999.00,9,  -999.0,9,  -999.0,-999.000,9,-999.000,     -999.0,9, -999.00,9, -999.00,9, -999.00,9,     -999.0,9,  -999.0,9, 20130517,     2004,       30,-150.8447,    35.2305,2,     -999.0,9,     -999.0,9,    21.0829,2,     -999.0,1,     -999.0,9,-999.0000, -999.00,-999.000
318M20130321,       P02E,     104,          1,         34,         34,2,20130517,       1744,    29.9998,  -150.8456,       5768,    40.3,  20.5299,  35.0229,2,  35.0254,2,    228.6,2,   228.2,2,    1.95,2,       0,2,       0,2,       0,2,   1.983,2,   1.208,2,-999.000,1,   1.4142,2,  2025.6,2, 2301.72,2,   8.0011,2,       25,-999.000,9,-999.0000,9, -999.00,9, -999.00,9,  -999.0,9,  -999.0,-999.000,9,-999.000,     -999.0,9, -999.00,9, -999.00,9, -999.00,9,     -999.0,9,  -999.0,9, 20130517,     2002,       30,-150.8452,    35.1905,2,     -999.0,9,     -999.0,9,    20.5284,2,     -999.0,1,     -999.0,9,-999.0000, -999.00,-999.000
318M20130321,       P02E,     104,          1,         33,         33,2,20130517,       1744,    29.9998,  -150.8456,       5768,    65.5,  19.4388,  35.0004,2,  35.0033,2,    233.9,2,   232.1,2,    2.05,2,       0,2,       0,2,       0,2,   2.051,2,   1.243,2,-999.000,1,   1.4228,2,  2023.7,2, 2300.22,2,   8.0008,2,       25,-999.000,9,-999.0000,9, -999.00,9, -999.00,9,  -999.0,9,  -999.0,-999.000,9,-999.000,     -999.0,9, -999.00,9, -999.00,9, -999.00,9,     -999.0,9,  -999.0,9, 20130517,     2000,       30,-150.8454,    35.1684,2,     -999.0,9,     -999.0,9,    19.4463,2,     -999.0,1,     -999.0,9,-999.0000, -999.00,-999.000
318M20130321,       P02E,     104,          1,         32,         32,2,20130517,       1744,    29.9998,  -150.8456,       5768,    90.4,  19.2591,  34.9967,2,  34.9994,2,      231,2,   230.8,2,    1.95,2,       0,2,       0,2,       0,2,   2.059,2,   1.248,2,-999.000,1,   1.4094,2,  -999.0,9, -999.00,9,-999.0000,9,  -999.00,-999.000,9,-999.0000,9, -999.00,9, -999.00,9,  -999.0,9,  -999.0,-999.000,9,-999.000,     -999.0,9, -999.00,9, -999.00,9, -999.00,9,     -999.0,9,  -999.0,9, 20130517,     1958,  29.9999,-150.8455,    35.1644,2,     -999.0,9,     -999.0,9,    19.2569,2,     -999.0,9,     -999.0,9,-999.0000, -999.00,-999.000
318M20130321,       P02E,     104,          1,         31,         31,2,20130517,       1744,    29.9998,  -150.8456,       5768,   134.7,  19.0361,  34.9731,2,   34.975,2,    228.2,2,   228.1,2,    2.05,2,       0,2,       0,2,       0,2,   2.078,2,   1.258,2,-999.000,1,   1.4427,2,  2030.6,2, 2298.72,6,   7.9896,2,       25,-999.000,9,-999.0000,9, -999.00,9, -999.00,9,  -999.0,9,  -999.0,-999.000,9,-999.000,     -999.0,9, -999.00,9, -999.00,9, -999.00,9,     -999.0,9,  -999.0,9, 20130517,     1956,  29.9999,-150.8453,    35.1399,2,     -999.0,9,     -999.0,9,    19.0353,2,     -999.0,1,     -999.0,9,-999.0000, -999.00,-999.000
318M20130321,       P02E,     104,          1,         30,         30,2,20130517,       1744,    29.9998,  -150.8456,       5768,   186.3,  15.2213,  34.3666,2,  34.3704,2,      221,2,   220.7,2,     4.2,2,    2.94,2,    0.03,2,    0.25,2,   2.530,2,   1.482,2,-999.000,1,   1.4625,2,  -999.0,9, -999.00,9,-999.0000,9,  -999.00,-999.000,9,-999.0000,9, -999.00,9, -999.00,9,  -999.0,9,  -999.0,-999.000,9,-999.000,     -999.0,9, -999.00,9, -999.00,9, -999.00,9,     -999.0,9,  -999.0,9, 20130517,     1954,       30,-150.8452,    34.5324,2,     -999.0,9,     -999.0,9,    15.2232,2,     -999.0,9,     -999.0,9,-999.0000, -999.00,-999.000
318M20130321,       P02E,     104,          1,         29,         29,2,20130517,       1744,    29.9998,  -150.8456,       5768,   236.4,  12.6855,  34.2258,2,  34.2264,2,    216.2,2,   215.7,2,    8.49,2,    8.99,2,    0.01,2,    0.62,2,   2.904,2,   1.651,2,-999.000,1,    1.509,2,  2073.4,2,  2255.3,2,   7.8262,2,       25,-999.000,9,-999.0000,9, -999.00,9, -999.00,9,  -999.0,9,  -999.0,-999.000,9,-999.000,     -999.0,9, -999.00,9, -999.00,9, -999.00,9,     -999.0,9,  -999.0,9, 20130517,     1952,  30.0001,-150.8452,    34.3878,2,     -999.0,9,     -999.0,9,    12.6865,2,     -999.0,1,     -999.0,9,-999.0000, -999.00,-999.000
318M20130321,       P02E,     104,          1,         28,         28,2,20130517,       1744,    29.9998,  -150.8456,       5768,   286.1,  11.5774,  34.1996,2,  34.2007,2,    218.4,2,   218.9,2,   11.42,2,   11.35,2,    0.01,2,    0.78,2,   3.052,2,   1.706,2,-999.000,1,   1.5301,2,  -999.0,9, -999.00,9,-999.0000,9,  -999.00,-999.000,9,-999.0000,9, -999.00,9, -999.00,9,  -999.0,9,  -999.0,-999.000,9,-999.000,     -999.0,9, -999.00,9, -999.00,9, -999.00,9,     -999.0,9,  -999.0,9, 20130517,     1950,  30.0001,-150.8453,     34.362,2,     -999.0,9,     -999.0,9,    11.5757,2,     -999.0,9,     -999.0,9,-999.0000, -999.00,-999.000
318M20130321,       P02E,     104,          1,         27,         27,2,20130517,       1744,    29.9998,  -150.8456,       5768,   336.2,  10.7387,  34.1623,2,  34.1624,2,    217.3,2,   217.5,2,   14.55,2,   13.37,2,       0,2,    0.93,2,   3.127,2,   1.725,2,-999.000,1,   1.4564,2,    2099,2,  2259.4,2,   7.7742,6,       25,-999.000,9,-999.0000,9, -999.00,9, -999.00,9,  -999.0,9,  -999.0,-999.000,9,-999.000,     -999.0,9, -999.00,9, -999.00,9, -999.00,9,     -999.0,9,  -999.0,9, 20130517,     1947,       30,-150.8454,    34.3235,2,     -999.0,9,     -999.0,9,    10.7381,2,     -999.0,1,     -999.0,9,-999.0000, -999.00,-999.000
318M20130321,       P02E,     104,          1,         26,         26,2,20130517,       1744,    29.9998,  -150.8456,       5768,   386.4,   9.9465,  34.1248,2,  34.1219,2,    210.1,2,   210.2,2,   18.85,2,   15.87,2,       0,2,     1.1,2,   3.215,2,   1.745,2,-999.000,1,   1.4539,2,  -999.0,9, -999.00,9,-999.0000,9,  -999.00,-999.000,9,-999.0000,9, -999.00,9, -999.00,9,  -999.0,9,  -999.0,-999.000,9,-999.000,     -999.0,9, -999.00,9, -999.00,9, -999.00,9,     -999.0,9,  -999.0,9, 20130517,     1945,  29.9999,-150.8452,    34.2828,2,     -999.0,9,     -999.0,9,     9.9537,2,     -999.0,9,     -999.0,9,-999.0000, -999.00,-999.000
318M20130321,       P02E,     104,          1,         25,         25,2,20130517,       1744,    29.9998,  -150.8456,       5768,   467.4,   8.2059,  34.0327,2,  34.0327,2,    177.2,2,   178.3,2,   31.64,2,   22.31,2,       0,2,    1.55,2,   2.988,2,   1.496,2,-999.000,1,   0.9119,2,  2158.1,2,  2266.2,2,   7.6419,2,       25,-999.000,9,-999.0000,9, -999.00,9, -999.00,9,  -999.0,9,  -999.0,-999.000,9,-999.000,     -999.0,9, -999.00,9, -999.00,9, -999.00,9,     -999.0,9,  -999.0,9, 20130517,     1943,  29.9999,-150.8452,    34.1932,2,     -999.0,9,     -999.0,9,     8.2065,2,     -999.0,1,     -999.0,9,-999.0000, -999.00,-999.000
318M20130321,       P02E,     104,          1,         24,         24,2,20130517,       1744,    29.9998,  -150.8456,       5768,   569.4,   6.4322,  33.9919,2,  33.9923,2,    116.6,2,   115.1,2,    54.2,2,   31.56,2,       0,2,    2.25,2,   2.355,2,   1.153,2,-999.000,1,   0.5974,2,  2226.4,2, 2280.91,2,   7.4794,2,       25,-999.000,9,-999.0000,9, -999.00,9, -999.00,9,  -999.0,9,  -999.0,-999.000,9,-999.000,     -999.0,9, -999.00,9, -999.00,9, -999.00,9,     -999.0,9,  -999.0,9, 20130517,     1940,  29.9999,-150.8453,    34.1526,2,     -999.0,9,     -999.0,9,     6.4212,2,     -999.0,1,     -999.0,9,-999.0000, -999.00,-999.000
318M20130321,       P02E,     104,          1,         23,         23,2,20130517,       1744,    29.9998,  -150.8456,       5768,   669.6,   5.1664,  34.0436,2,  34.0425,2,     68.4,2,    66.6,2,   77.15,2,   38.07,2,       0,2,    2.72,2,   1.268,2,   0.601,2,-999.000,1,   0.1714,2,  2282.5,2, 2300.52,2,   7.3662,6,       25,-999.000,9,-999.0000,9, -999.00,9, -999.00,9,  -999.0,9,  -999.0,-999.000,9,-999.000,     -999.0,9, -999.00,9, -999.00,9, -999.00,9,     -999.0,9,  -999.0,9, 20130517,     1937,       30,-150.8454,     34.203,2,     -999.0,9,     -999.0,9,     5.1681,2,     -999.0,1,     -999.0,9,-999.0000, -999.00,-999.000
318M20130321,       P02E,     104,          1,         22,         22,2,20130517,       1744,    29.9998,  -150.8456,       5768,   771.2,   4.5485,  34.1503,2,  34.1503,2,     32.8,2,    30.6,2,   95.89,2,   41.88,2,       0,2,    3.03,2,   0.430,2,   0.207,2,-999.000,1,   0.0759,2,  2321.5,2, 2321.82,2,    7.302,2,       25,-999.000,9,-999.0000,9, -999.00,9, -999.00,9,  -999.0,9,  -999.0,-999.000,9,-999.000,     -999.0,9, -999.00,9, -999.00,9, -999.00,9,     -999.0,9,  -999.0,9, 20130517,     1934,  30.0002,-150.8454,    34.3113,2,     -999.0,9,     -999.0,9,     4.5483,2,     -999.0,1,     -999.0,9,-999.0000, -999.00,-999.000
318M20130321,       P02E,     104,          1,         21,         21,2,20130517,       1744,    29.9998,  -150.8456,       5768,   871.6,   4.1558,  34.2601,2,  34.2597,2,     15.3,2,    14.7,2,  109.55,2,   43.47,2,       0,2,    3.17,2,   0.094,2,   0.051,2,-999.000,1,    0.062,2,  2348.9,2, 2341.23,2,   7.2844,2,       25,-999.000,9,-999.0000,9, -999.00,9, -999.00,9,  -999.0,9,  -999.0,-999.000,9,-999.000,     -999.0,9, -999.00,9, -999.00,9, -999.00,9,     -999.0,9,  -999.0,9, 20130517,     1931,  30.0003,-150.8451,    34.4213,2,     -999.0,9,     -999.0,9,     4.1596,2,     -999.0,1,     -999.0,9,-999.0000, -999.00,-999.000
318M20130321,       P02E,     104,          1,         20,         20,2,20130517,       1744,    29.9998,  -150.8456,       5768,   972.4,    3.847,   34.343,2,  34.3445,2,     12.8,2,    12.6,2,   119.4,2,   43.96,2,       0,2,    3.22,2,   0.029,2,   0.017,2,-999.000,1,   0.0439,2,  2361.5,2, 2356.44,2,   7.2923,2,       25,-999.000,9,-999.0000,9, -999.00,9, -999.00,9,  -999.0,9,  -999.0,-999.000,9,-999.000,     -999.0,9, -999.00,9, -999.00,9, -999.00,9,     -999.0,9,  -999.0,9, 20130517,     1928,  30.0003,-150.8451,    34.5064,2,     -999.0,9,     -999.0,9,     3.8487,2,     -999.0,1,     -999.0,9,-999.0000, -999.00,-999.000
318M20130321,       P02E,     104,          1,         19,         19,2,20130517,       1744,    29.9998,  -150.8456,       5768,  1073.6,   3.5636,  34.4124,2,  34.4122,2,     17.1,2,    17.6,2,  126.91,2,   44.01,2,       0,2,    3.22,2,   0.015,2,   0.011,2,-999.000,1,        0,2,  2366.8,2, 2369.74,2,   7.3078,2,       25,-999.000,9,-999.0000,9, -999.00,9, -999.00,9,  -999.0,9,  -999.0,-999.000,9,-999.000,     -999.0,9, -999.00,9, -999.00,9, -999.00,9,     -999.0,9,  -999.0,9, 20130517,     1925,  30.0005,-150.8449,    34.5744,2,     -999.0,9,     -999.0,9,     3.5636,2,     -999.0,1,     -999.0,9,-999.0000, -999.00,-999.000
318M20130321,       P02E,     104,          1,         18,         18,2,20130517,       1744,    29.9998,  -150.8456,       5768,    1174,   3.3285,  34.4619,2,  34.4608,2,     24.4,2,    25.5,2,  132.57,2,   43.76,2,       0,2,    3.18,2,   0.006,2,   0.008,2,-999.000,1,   0.0453,2,  -999.0,9, -999.00,9,-999.0000,9,  -999.00,-999.000,9,-999.0000,9, -999.00,9, -999.00,9,  -999.0,9,  -999.0,-999.000,9,-999.000,     -999.0,9, -999.00,9, -999.00,9, -999.00,9,     -999.0,9,  -999.0,9, 20130517,     1923,  30.0003,-150.8446,    34.6233,2,     -999.0,9,     -999.0,9,     3.3295,2,     -999.0,9,     -999.0,9,-999.0000, -999.00,-999.000
318M20130321,       P02E,     104,          1,         17,         17,2,20130517,       1744,    29.9998,  -150.8456,       5768,  1274.6,   3.1407,  34.4952,2,  34.4948,2,     33.2,2,    34.2,2,  136.47,2,    43.3,2,       0,2,    3.14,2,   0.009,2,   0.009,2,-999.000,1,        0,2,  2369.5,2, 2385.75,2,   7.3497,2,       25,-999.000,9,-999.0000,9, -999.00,9, -999.00,9,  -999.0,9,  -999.0,-999.000,9,-999.000,     -999.0,9, -999.00,9, -999.00,9, -999.00,9,     -999.0,9,  -999.0,9, 20130517,     1920,  30.0001, -150.845,    34.6575,2,     -999.0,9,     -999.0,9,     3.1404,2,     -999.0,1,     -999.0,9,-999.0000, -999.00,-999.000
318M20130321,       P02E,     104,          1,         16,         16,2,20130517,       1744,    29.9998,  -150.8456,       5768,    1452,   2.8161,  34.5385,2,   34.538,2,     47.3,2,    48.5,2,  142.91,2,   42.51,2,       0,2,    3.08,2,   0.002,2,   0.004,2,-999.000,1,        0,2,  2370.7,6, 2394.05,2,   7.3807,2,       25,-999.000,9,-999.0000,9, -999.00,9, -999.00,9,  -999.0,9,  -999.0,-999.000,9,-999.000,     -999.0,9, -999.00,9, -999.00,9, -999.00,9,     -999.0,9,  -999.0,9, 20130517,     1916,  29.9999,-150.8457,    34.7009,2,     -999.0,9,     -999.0,9,     2.8162,2,     -999.0,1,     -999.0,9,-999.0000, -999.00,-999.000
318M20130321,       P02E,     104,          1,         15,         15,2,20130517,       1744,    29.9998,  -150.8456,       5768,  1662.9,   2.5067,  34.5722,2,  34.5716,2,     61.3,2,    61.5,2,  150.03,2,   41.83,2,       0,2,    3.01,2,   0.007,2,   0.005,2,-999.000,1,        0,2,  2369.7,2, 2404.55,2,   7.4056,2,       25,-999.000,9,-999.0000,9, -999.00,9, -999.00,9,  -999.0,9,  -999.0,-999.000,9,-999.000,     -999.0,9, -999.00,9, -999.00,9, -999.00,9,     -999.0,9,  -999.0,9, 20130517,     1911,  29.9998,-150.8456,    34.7346,2,     -999.0,9,     -999.0,9,     2.5071,2,     -999.0,1,     -999.0,9,-999.0000, -999.00,-999.000
318M20130321,       P02E,     104,          1,         14,         14,2,20130517,       1744,    29.9998,  -150.8456,       5768,    1917,   2.1718,  34.6014,2,  34.6003,2,     73.4,2,    73.3,2,  158.62,2,   41.13,2,       0,2,    2.94,2,   0.003,2,   0.004,2,-999.000,1,   0.0636,3,  -999.0,9, -999.00,9,-999.0000,9,  -999.00,-999.000,9,-999.0000,9, -999.00,9, -999.00,9,  -999.0,9,  -999.0,-999.000,9,-999.000,     -999.0,9, -999.00,9, -999.00,9, -999.00,9,     -999.0,9,  -999.0,9, 20130517,     1905,       30, -150.845,    34.7634,2,     -999.0,9,     -999.0,9,     2.1723,2,     -999.0,9,     -999.0,9,-999.0000, -999.00,-999.000
318M20130321,       P02E,     104,          1,         13,         13,2,20130517,       1744,    29.9998,  -150.8456,       5768,  2187.8,   1.9457,  34.6228,2,  34.6219,2,       84,2,    83.5,2,  164.47,2,   40.48,2,       0,2,     2.9,2,   0.003,2,   0.004,2,-999.000,1,   0.1026,3,  2368.9,2, 2418.86,2,   7.4504,2,       25,-999.000,9,-999.0000,9, -999.00,9, -999.00,9,  -999.0,9,  -999.0,-999.000,9,-999.000,     -999.0,9, -999.00,9, -999.00,9, -999.00,9,     -999.0,9,  -999.0,9, 20130517,     1859,       30,-150.8452,    34.7851,2,     -999.0,9,     -999.0,9,      1.946,2,     -999.0,1,     -999.0,9,-999.0000, -999.00,-999.000
318M20130321,       P02E,     104,          1,         12,         12,2,20130517,       1744,    29.9998,  -150.8456,       5768,  2439.6,   1.7748,  34.6397,2,  34.6423,2,     94.3,2,    94.1,2,  168.77,2,    39.9,2,       0,2,    2.84,2,   0.002,2,   0.002,2,-999.000,1,        0,2,  -999.0,9, -999.00,9,-999.0000,9,  -999.00,-999.000,9,-999.0000,9, -999.00,9, -999.00,9,  -999.0,9,  -999.0,-999.000,9,-999.000,     -999.0,9, -999.00,9, -999.00,9, -999.00,9,     -999.0,9,  -999.0,9, 20130517,     1854,  30.0003,-150.8455,    34.8057,2,     -999.0,9,     -999.0,9,     1.7748,2,     -999.0,9,     -999.0,9,-999.0000, -999.00,-999.000
318M20130321,       P02E,     104,          1,         11,         11,2,20130517,       1744,    29.9998,  -150.8456,       5768,  2694.3,   1.6674,  34.6518,2,   34.651,2,    103.5,2,   103.5,2,  170.03,2,   39.31,2,       0,2,    2.78,2,   0.003,2,   0.002,2,-999.000,1,        0,2,  2362.7,2, 2423.66,2,   7.4903,2,       25,-999.000,9,-999.0000,9, -999.00,9, -999.00,9,  -999.0,9,  -999.0,-999.000,9,-999.000,     -999.0,9, -999.00,9, -999.00,9, -999.00,9,     -999.0,9,  -999.0,9, 20130517,     1848,  30.0005,-150.8458,    34.8144,2,     -999.0,9,     -999.0,9,     1.6675,2,     -999.0,1,     -999.0,9,-999.0000, -999.00,-999.000
318M20130321,       P02E,     104,          1,         10,         10,2,20130517,       1744,    29.9998,  -150.8456,       5768,  2950.2,   1.5839,  34.6619,2,  34.6606,2,    114.8,2,   114.5,2,  168.37,2,   38.57,2,       0,2,    2.72,2,   0.002,2,   0.002,2,-999.000,1,        0,2,  -999.0,9, -999.00,9,-999.0000,9,  -999.00,-999.000,9,-999.0000,9, -999.00,9, -999.00,9,  -999.0,9,  -999.0,-999.000,9,-999.000,     -999.0,9, -999.00,9, -999.00,9, -999.00,9,     -999.0,9,  -999.0,9, 20130517,     1843,  29.9996,-150.8455,     34.824,2,     -999.0,9,     -999.0,9,     1.5839,2,     -999.0,9,     -999.0,9,-999.0000, -999.00,-999.000
318M20130321,       P02E,     104,          1,          9,          9,2,20130517,       1744,    29.9998,  -150.8456,       5768,  3239.5,   1.5116,  34.6719,2,  34.6708,2,    126.7,2,   126.7,2,  165.44,2,   37.82,2,       0,2,    2.67,2,   0.002,2,   0.002,2,-999.000,1,        0,2,  -999.0,9, -999.00,9,-999.0000,9,  -999.00,-999.000,9,-999.0000,9, -999.00,9, -999.00,9,  -999.0,9,  -999.0,-999.000,9,-999.000,     -999.0,9, -999.00,9, -999.00,9, -999.00,9,     -999.0,9,  -999.0,9, 20130517,     1836,  29.9998,-150.8449,    34.8343,2,     -999.0,9,     -999.0,9,     1.5115,2,     -999.0,9,     -999.0,9,-999.0000, -999.00,-999.000
318M20130321,       P02E,     104,          1,          8,          8,2,20130517,       1744,    29.9998,  -150.8456,       5768,  3544.7,   1.4851,  34.6783,2,  34.6767,2,    135.6,2,   135.3,2,  162.13,2,   37.27,2,       0,2,    2.62,2,   0.002,2,   0.002,2,-999.000,1,        0,2,  2339.3,2, 2424.26,2,   7.5484,2,       25,-999.000,9,-999.0000,9, -999.00,9, -999.00,9,  -999.0,9,  -999.0,-999.000,9,-999.000,     -999.0,9, -999.00,9, -999.00,9, -999.00,9,     -999.0,9,  -999.0,9, 20130517,     1830,  30.0003, -150.845,    34.8402,2,     -999.0,9,     -999.0,9,     1.4854,2,     -999.0,1,     -999.0,9,-999.0000, -999.00,-999.000
318M20130321,       P02E,     104,          1,          7,          7,2,20130517,       1744,    29.9998,  -150.8456,       5768,  3920.4,   1.4719,  34.6835,2,  34.6828,2,      144,2,   143.8,2,  158.42,2,   36.68,2,       0,2,    2.56,2,   0.001,2,   0.003,2,-999.000,1,        0,2,  -999.0,9, -999.00,9,-999.0000,9,  -999.00,-999.000,9,-999.0000,9, -999.00,9, -999.00,9,  -999.0,9,  -999.0,-999.000,9,-999.000,     -999.0,9, -999.00,9, -999.00,9, -999.00,9,     -999.0,9,  -999.0,9, 20130517,     1822,  29.9996,-150.8447,    34.8463,2,     -999.0,9,     -999.0,9,     1.4718,2,     -999.0,9,     -999.0,9,-999.0000, -999.00,-999.000