BOTTLE,20220817CCHSIOAMB
EXPOCODE,SECT_ID,STNNBR,CASTNO,SAMPNO,BTLNBR,BTLNBR_FLAG_W,DATE,TIME,LATITUDE,LONGITUDE,DEPTH,CTDPRS,CTDTMP,CTDSAL,CTDSAL_FLAG_W,SALNTY,SALNTY_FLAG_W,CTDOXY,CTDOXY_FLAG_W,OXYGEN,OXYGEN_FLAG_W,SILCAT,SILCAT_FLAG_W,NITRAT,NITRAT_FLAG_W,NITRIT,NITRIT_FLAG_W,PHSPHT,PHSPHT_FLAG_W,CFC-11,CFC-11_FLAG_W,CFC-12,CFC-12_FLAG_W,CFC113,CFC113_FLAG_W,SF6,SF6_FLAG_W,TCARBN,TCARBN_FLAG_W,ALKALI,ALKALI_FLAG_W,PH_TOT,PH_TOT_FLAG_W,PH_TMP,TRITUM,TRITUM_FLAG_W,HELIUM,HELIUM_FLAG_W,DELHE3,DELHE3_FLAG_W,DELC13,DELC13_FLAG_W,DELC14,DELC14_FLAG_W,C14ERR,NEON,NEON_FLAG_W,NEONER,I-129,I-129_FLAG_W,SR-90,SR-90_FLAG_W,DOC,DOC_FLAG_W,TDN,TDN_FLAG_W,CALCIUM,CALCIUM_FLAG_W,D15N_NO3,D15N_NO3_FLAG_W,BTL_DATE,BTL_TIME,BTL_LAT,BTL_LON,SALTREF,SALTREF_FLAG_W,CS-137,CS-137_FLAG_W,CS-134,CS-134_FLAG_W,REFTMP,REFTMP_FLAG_W,LAB_DEN,LAB_DEN_FLAG_W,D18O_NO3,D18O_NO3_FLAG_W,HELIER,DELHER,TRITER
,,,,,,,,,,,METERS,DBAR,ITS-90,PSS-78,,PSS-78,,UMOL/KG,,UMOL/KG,,UMOL/KG,,UMOL/KG,,UMOL/KG,,UMOL/KG,,PMOL/KG,,PMOL/KG,,PMOL/KG,,FMOL/KG,,UMOL/KG,,UMOL/KG,,,,DEG C,TU,,NMOL/KG,,PERCNT,,/MILLE,,/MILLE,,/MILLE,NMOL/KG,,NMOL/KG,BQ/M^3,,DM/.1MG,,UMOL/KG,,UMOL/KG,,MMOL/KG,,/MILLE,,,,,,G/KG,,BQ/M^3,,BQ/M^3,,ITS-90,,,,/MILLE,,NMOL/KG,PERCNT,TU
318M20130321,       P02W,      31,          1,         36,         36,2,20130413,       1501,    30.0002,   144.3192,       5709,     2.1,  18.6434,  34.7343,2,  34.7329,2,    230.7,2,   231.6,2,    2.05,2,    0.37,2,    0.14,2,     0.1,2,   2.464,2,   1.513,2,   0.203,2,     1.59,2,  2000.6,6, 2279.51,2,   8.0162,2,       25,-999.000,9,-999.0000,9, -999.00,9,    0.67,2,    50.2,2,     3.0,-999.000,9,-999.000,     -999.0,9, -999.00,9,   56.23,2,    4.94,2,     -999.0,9,  -999.0,9, 20130413,     1753,  30.0003, 144.3192,    34.8967,2,     -999.0,9,     -999.0,9,    18.6433,2,     -999.0,9,     -999.0,9,-999.0000, -999.00,-999.000
318M20130321,       P02W,      31,          1,         35,         35,2,20130413,       1501,    30.0002,   144.3192,       5709,    19.8,   18.657,  34.7341,2,  34.7331,2,    231.8,2,   231.2,2,    2.05,2,    0.34,2,    0.14,2,    0.09,2,   2.358,2,   0.000,4,   0.192,2,      1.6,2,  2001.6,2, 2279.61,6,   8.0166,2,       25,-999.000,9,-999.0000,9, -999.00,9, -999.00,9,  -999.0,9,  -999.0,-999.000,9,-999.000,     -999.0,9, -999.00,9,    56.9,2,    4.26,2,     -999.0,9,  -999.0,9, 20130413,     1751,  30.0004, 144.3192,    34.8969,2,     -999.0,9,     -999.0,9,    18.6571,2,     -999.0,9,     -999.0,9,-999.0000, -999.00,-999.000
318M20130321,       P02W,      31,          1,         34,         34,2,20130413,       1501,    30.0002,   144.3192,       5709,    39.8,  18.6573,  34.7341,2,  34.7327,2,      232,2,   231.3,2,    2.24,2,    0.34,2,    0.14,2,    0.15,2,   2.439,2,   1.515,2,   0.193,2,     1.57,2,  -999.0,9, -999.00,9,-999.0000,9,  -999.00,-999.000,9,-999.0000,9, -999.00,9, -999.00,9,  -999.0,9,  -999.0,-999.000,9,-999.000,     -999.0,9, -999.00,9,   56.59,2,    4.29,2,     -999.0,9,  -999.0,9, 20130413,     1749,  30.0004, 144.3192,    34.8965,2,     -999.0,9,     -999.0,9,    18.6588,2,     -999.0,9,     -999.0,9,-999.0000, -999.00,-999.000
318M20130321,       P02W,      31,          1,         33,         33,2,20130413,       1501,    30.0002,   144.3192,       5709,    65.2,  18.6626,  34.7341,2,  34.7329,2,    231.3,2,   231.2,2,    2.15,2,    0.34,2,    0.14,2,    0.13,2,   2.449,2,   1.521,2,   0.195,2,     1.62,2,    2001,2, 2279.31,2,   8.0168,2,       25,-999.000,9,-999.0000,9, -999.00,9, -999.00,9,  -999.0,9,  -999.0,-999.000,9,-999.000,     -999.0,9, -999.00,9,   58.64,2,    4.96,2,     -999.0,9,  -999.0,9, 20130413,     1747,  30.0002, 144.3192,    34.8967,2,     -999.0,9,     -999.0,9,    18.6633,2,     -999.0,9,     -999.0,9,-999.0000, -999.00,-999.000
318M20130321,       P02W,      31,          1,         32,         32,2,20130413,       1501,    30.0002,   144.3192,       5709,    90.7,  18.6473,  34.7337,2,  34.7339,2,    230.3,2,   230.6,2,    2.34,2,    0.41,2,    0.15,2,    0.09,2,   2.448,2,   1.493,2,   0.207,2,     1.53,2,  2002.5,2, -999.00,9,-999.0000,9,  -999.00,-999.000,9,-999.0000,9, -999.00,9,    0.67,2,    46.8,2,     2.8,-999.000,9,-999.000,     -999.0,9, -999.00,9,   57.48,2,    4.54,2,     -999.0,9,  -999.0,9, 20130413,     1745,  30.0002, 144.3191,    34.8977,2,     -999.0,9,     -999.0,9,    18.6483,2,     -999.0,9,     -999.0,9,-999.0000, -999.00,-999.000
318M20130321,       P02W,      31,          1,         31,         31,2,20130413,       1501,    30.0002,   144.3192,       5709,     136,  17.9009,  34.7437,2,  34.7445,2,    215.2,2,   216.6,2,    3.32,2,    2.83,2,    0.05,2,    0.22,2,   2.513,2,   1.433,2,   0.148,2,     1.54,2,  2019.8,2, 2280.01,2,   7.9809,2,       25,-999.000,9,-999.0000,9, -999.00,9,    0.55,2,    48.7,2,     2.1,-999.000,9,-999.000,     -999.0,9, -999.00,9,    53.9,2,    6.73,2,     -999.0,9,  -999.0,9, 20130413,     1743,  30.0003,  144.319,    34.9083,2,     -999.0,9,     -999.0,9,    17.9027,2,     -999.0,9,     -999.0,9,-999.0000, -999.00,-999.000
318M20130321,       P02W,      31,          1,         30,         30,2,20130413,       1501,    30.0002,   144.3192,       5709,   184.7,  17.7483,   34.762,2,  34.7612,2,    222.5,2,   222.6,2,    2.44,2,    2.26,2,    0.03,2,    0.19,2,   2.527,2,   1.609,2,   0.165,2,     1.56,2,  -999.0,9, -999.00,9,-999.0000,9,  -999.00,-999.000,9,-999.0000,9, -999.00,9, -999.00,9,  -999.0,9,  -999.0,-999.000,9,-999.000,     -999.0,9, -999.00,9,   50.91,2,    5.85,2,     -999.0,9,  -999.0,9, 20130413,     1740,  30.0003,  144.319,    34.9251,2,     -999.0,9,     -999.0,9,     17.748,2,     -999.0,9,     -999.0,9,-999.0000, -999.00,-999.000
318M20130321,       P02W,      31,          1,         29,         29,2,20130413,       1501,    30.0002,   144.3192,       5709,   235.5,   17.369,  34.7406,2,  34.7396,2,    220.6,2,   226.9,2,    3.12,2,    2.53,2,    0.05,2,     0.2,2,   2.615,2,   1.585,2,   0.174,2,     1.59,2,  2019.8,2, 2279.51,2,   7.9799,2,       25,-999.000,9,-999.0000,9, -999.00,9,    0.51,2,    57.4,2,     3.2,-999.000,9,-999.000,     -999.0,9, -999.00,9,   49.71,2, -999.00,5,     -999.0,9,  -999.0,9, 20130413,     1737,       30, 144.3189,    34.9034,2,     -999.0,9,     -999.0,9,    17.3675,2,     -999.0,9,     -999.0,9,-999.0000, -999.00,-999.000
318M20130321,       P02W,      31,          1,         28,         28,2,20130413,       1501,    30.0002,   144.3192,       5709,   286.8,  17.1632,  34.7248,2,  34.7233,2,    225.4,2,   226.2,2,    3.12,2,    2.85,2,    0.02,2,    0.21,2,   2.627,2,   1.593,2,   0.194,2,     1.56,2,  -999.0,9, -999.00,9,-999.0000,9,  -999.00,-999.000,9,-999.0000,9, -999.00,9, -999.00,9,  -999.0,9,  -999.0,-999.000,9,-999.000,     -999.0,9, -999.00,9,   50.71,2,    6.84,2,     -999.0,9,  -999.0,9, 20130413,     1735,  30.0002, 144.3189,     34.887,2,     -999.0,9,     -999.0,9,    17.1631,2,     -999.0,9,     -999.0,9,-999.0000, -999.00,-999.000
318M20130321,       P02W,      31,          1,         27,         27,2,20130413,       1501,    30.0002,   144.3192,       5709,   337.3,  16.9442,  34.7029,2,  34.7005,2,    213.8,2,   215.5,2,     4.1,2,    4.23,2,    0.02,2,    0.31,2,  -0.046,4,  -0.002,4,  -0.001,4,     0.06,4,  2031.6,2, 2278.81,2,   7.9566,2,       25,-999.000,9,-999.0000,9, -999.00,9,    0.43,2,    53.1,2,     2.2,-999.000,9,-999.000,     -999.0,9, -999.00,9,   49.44,2, -999.00,5,     -999.0,9,  -999.0,9, 20130413,     1732,       30,  144.319,    34.8641,2,     -999.0,9,     -999.0,9,     16.946,2,     -999.0,9,     -999.0,9,-999.0000, -999.00,-999.000
318M20130321,       P02W,      31,          1,         26,         26,2,20130413,       1501,    30.0002,   144.3192,       5709,   385.8,  15.9432,  34.6212,2,  34.6166,2,    192.2,2,   189.9,2,    8.69,2,    8.23,2,    0.02,2,     0.2,2,   2.708,2,   1.604,2,   0.034,2,     1.26,2,  -999.0,9, -999.00,9,-999.0000,9,  -999.00,-999.000,9,-999.0000,9, -999.00,9, -999.00,9,  -999.0,9,  -999.0,-999.000,9,-999.000,     -999.0,9, -999.00,9,      45,2, -999.00,9,     -999.0,9,  -999.0,9, 20130413,     1730,  29.9998, 144.3192,    34.7798,2,     -999.0,9,     -999.0,9,    15.9507,2,     -999.0,9,     -999.0,9,-999.0000, -999.00,-999.000
318M20130321,       P02W,      31,          1,         25,         25,2,20130413,       1501,    30.0002,   144.3192,       5709,   467.2,  13.7149,  34.4809,2,  34.4824,2,    177.5,2,   176.6,2,    16.3,2,   12.93,2,       0,2,    0.88,2,   2.784,2,   1.574,2,   0.041,2,      1.1,2,  2096.6,2, 2274.61,2,   7.8156,2,       25,-999.000,9,-999.0000,9, -999.00,9,    0.24,2,    38.8,2,     2.2,-999.000,9,-999.000,     -999.0,9, -999.00,9,   43.03,2, -999.00,9,     -999.0,9,  -999.0,9, 20130413,     1726,  29.9998, 144.3195,     34.645,2,     -999.0,9,     -999.0,9,    13.7246,2,     -999.0,9,     -999.0,9,-999.0000, -999.00,-999.000
318M20130321,       P02W,      31,          1,         24,         24,2,20130413,       1501,    30.0002,   144.3192,       5709,   568.6,  10.8742,  34.3052,2,  34.3044,2,    167.4,2,   167.4,2,      29,2,   18.36,2,       0,2,     1.3,2,-999.000,9,-999.000,9,-999.000,9,-999.0000,9,  2138.1,2, 2278.31,2,   7.7249,2,       25,-999.000,9,-999.0000,9, -999.00,9,    0.17,2,     4.4,2,     2.1,-999.000,9,-999.000,     -999.0,9, -999.00,9,   42.06,2, -999.00,9,     -999.0,9,  -999.0,9, 20130413,     1722,  30.0001, 144.3194,    34.4662,2,     -999.0,9,     -999.0,9,    10.8758,2,     -999.0,9,     -999.0,9,-999.0000, -999.00,-999.000
318M20130321,       P02W,      31,          1,         23,         23,2,20130413,       1501,    30.0002,   144.3192,       5709,   669.4,   7.2415,  34.0584,2,   34.059,2,    156.4,2,   157.8,2,   49.31,2,   25.46,2,       0,2,    1.87,2,   2.864,2,   1.535,2,   0.136,2,     1.03,2,  2192.5,2, 2285.21,2,   7.5984,2,       25,-999.000,9,-999.0000,9, -999.00,9,    0.02,2,   -43.8,2,     2.2,-999.000,9,-999.000,     -999.0,9, -999.00,9,   41.36,2, -999.00,9,     -999.0,9,  -999.0,9, 20130413,     1719,  29.9999, 144.3195,    34.2196,2,     -999.0,9,     -999.0,9,     7.2822,3,     -999.0,9,     -999.0,9,-999.0000, -999.00,-999.000
318M20130321,       P02W,      31,          1,         22,         38,2,20130413,       1501,    30.0002,   144.3192,       5709,   769.9,   5.8253,   34.088,2,  34.0885,2,    114.1,2,   112.7,2,   70.99,2,   32.23,2,       0,2,    2.33,2,-999.000,9,-999.000,9,-999.000,9,-999.0000,9,  -999.0,9, -999.00,9,-999.0000,9,  -999.00,-999.000,9,-999.0000,9, -999.00,9, -999.00,9,  -999.0,9,  -999.0,-999.000,9,-999.000,     -999.0,9, -999.00,9,      40,2, -999.00,9,     -999.0,9,  -999.0,9, 20130413,     1715,  29.9997, 144.3195,    34.2493,2,     -999.0,9,     -999.0,9,     5.8361,2,     -999.0,9,     -999.0,9,-999.0000, -999.00,-999.000
318M20130321,       P02W,      31,          1,         21,         21,2,20130413,       1501,    30.0002,   144.3192,       5709,     870,   4.9164,  34.1675,2,  34.1679,2,     78.9,2,    79.6,2,   89.73,2,   36.55,2,       0,2,    2.64,2,   1.231,2,   0.684,2,   0.052,2,     0.33,2,  2288.3,2, 2321.42,2,   7.4145,2,       25,-999.000,9,-999.0000,9, -999.00,9,   -0.28,2,  -123.6,2,     1.9,-999.000,9,-999.000,     -999.0,9, -999.00,9,   41.03,2, -999.00,9,     -999.0,9,  -999.0,9, 20130413,     1711,  29.9999, 144.3194,    34.3291,2,     -999.0,9,     -999.0,9,     4.9319,2,     -999.0,9,     -999.0,9,-999.0000, -999.00,-999.000
318M20130321,       P02W,      31,          1,         20,         20,2,20130413,       1501,    30.0002,   144.3192,       5709,     970,   4.1347,  34.2244,2,  34.2228,2,     55.1,2,    55.4,2,   107.5,2,   39.75,2,       0,2,    2.87,2,-999.000,9,-999.000,9,-999.000,9,-999.0000,9,    2322,2, 2338.53,2,   7.3593,6,       25,-999.000,9,-999.0000,9, -999.00,9,   -0.39,2,  -154.3,2,     1.7,-999.000,9,-999.000,     -999.0,9, -999.00,9,   38.67,2, -999.00,9,     -999.0,9,  -999.0,9, 20130413,     1708,  30.0003, 144.3195,    34.3842,2,     -999.0,9,     -999.0,9,     4.1332,2,     -999.0,9,     -999.0,9,-999.0000, -999.00,-999.000
318M20130321,       P02W,      31,          1,         19,         19,2,20130413,       1501,    30.0002,   144.3192,       5709,  1073.3,   3.6841,  34.3042,2,  34.3031,2,     42.8,2,    43.5,2,  119.99,2,   41.29,2,       0,2,    2.97,2,   0.416,2,   0.229,2,   0.016,2,     0.09,2,  2342.6,2, 2355.34,2,   7.3441,2,       25,-999.000,9,-999.0000,9, -999.00,9,   -0.41,2,  -178.8,2,     1.7,-999.000,9,-999.000,     -999.0,9, -999.00,9,   36.31,2, -999.00,9,     -999.0,9,  -999.0,9, 20130413,     1704,  30.0004, 144.3197,    34.4648,2,     -999.0,9,     -999.0,9,     3.6825,2,     -999.0,9,     -999.0,9,-999.0000, -999.00,-999.000
318M20130321,       P02W,      31,          1,         18,         18,2,20130413,       1501,    30.0002,   144.3192,       5709,  1172.9,   3.3759,  34.3583,2,  34.3576,2,     38.7,2,    39.3,2,  129.26,2,   42.05,2,       0,2,    3.04,2,-999.000,9,-999.000,9,-999.000,9,-999.0000,9,  2355.7,2, 2365.04,2,   7.3394,2,       25,-999.000,9,-999.0000,9, -999.00,9, -999.00,9,  -999.0,9,  -999.0,-999.000,9,-999.000,     -999.0,9, -999.00,9,   36.66,2, -999.00,9,     -999.0,9,  -999.0,9, 20130413,     1701,  30.0002, 144.3199,    34.5196,2,     -999.0,9,     -999.0,9,     3.3754,2,     -999.0,9,     -999.0,9,-999.0000, -999.00,-999.000
318M20130321,       P02W,      31,          1,         17,         17,2,20130413,       1501,    30.0002,   144.3192,       5709,  1345.6,   2.9254,  34.4362,2,  34.4357,2,     39.5,2,    39.4,2,  142.14,2,   42.54,2,       0,2,    3.06,2,   0.092,2,   0.056,2,   0.002,2,     0.03,2,  2368.6,2, 2380.75,2,   7.3461,2,       25,-999.000,9,-999.0000,9, -999.00,9,   -0.43,2,  -216.5,2,     1.8,-999.000,9,-999.000,     -999.0,9, -999.00,9,   37.54,2, -999.00,9,     -999.0,9,  -999.0,9, 20130413,     1656,  30.0007, 144.3199,    34.5981,2,     -999.0,9,     -999.0,9,     2.9257,2,     -999.0,9,     -999.0,9,-999.0000, -999.00,-999.000
318M20130321,       P02W,      31,          1,         16,         16,2,20130413,       1501,    30.0002,   144.3192,       5709,    1547,   2.5781,  34.5005,2,  34.4995,2,     49.8,2,    48.9,2,  149.85,2,   42.22,2,       0,2,    3.03,2,-999.000,9,-999.000,9,-999.000,9,-999.0000,9,  2372.6,2, 2393.45,2,   7.3673,2,       25,-999.000,9,-999.0000,9, -999.00,9,   -0.39,2,  -228.0,2,     1.6,-999.000,9,-999.000,     -999.0,9, -999.00,9,    36.7,2, -999.00,9,     -999.0,9,  -999.0,9, 20130413,     1650,  30.0005, 144.3199,    34.6622,2,     -999.0,9,     -999.0,9,     2.5787,2,     -999.0,9,     -999.0,9,-999.0000, -999.00,-999.000
318M20130321,       P02W,      31,          1,         15,         15,4,20130413,       1501,    30.0002,   144.3192,       5709,  1749.7,   2.2897,  34.5457,2,  34.6248,4,       64,2,   192.6,4,    9.08,4,    7.95,4,    0.02,4,    0.58,4,-999.000,9,-999.000,9,-999.000,9,-999.0000,9,  -999.0,9, -999.00,9,-999.0000,9,  -999.00,-999.000,9,-999.0000,9, -999.00,9, -999.00,9,  -999.0,9,  -999.0,-999.000,9,-999.000,     -999.0,9, -999.00,9, -999.00,9, -999.00,9,     -999.0,9,  -999.0,9, 20130413,     1645,  30.0002, 144.3198,    34.7881,4,     -999.0,9,     -999.0,9,     2.2897,2,     -999.0,9,     -999.0,9,-999.0000, -999.00,-999.000
318M20130321,       P02W,      31,          1,         14,         14,2,20130413,       1501,    30.0002,   144.3192,       5709,  1749.8,   2.2894,  34.5459,2,  34.5459,2,       64,2,    60.2,2,  155.41,2,   41.56,2,       0,2,    2.98,2,   0.022,2,   0.025,2,   0.005,2,     0.05,2,  2372.1,2, 2401.75,2,   7.3933,2,       25,-999.000,9,-999.0000,9, -999.00,9,   -0.38,2,  -235.4,2,     1.8,-999.000,9,-999.000,     -999.0,9, -999.00,9,   33.53,2, -999.00,9,     -999.0,9,  -999.0,9, 20130413,     1645,  30.0002, 144.3198,    34.7088,2,     -999.0,9,     -999.0,9,     2.2895,2,     -999.0,9,     -999.0,9,-999.0000, -999.00,-999.000
318M20130321,       P02W,      31,          1,         13,         13,2,20130413,       1501,    30.0002,   144.3192,       5709,    1954,   2.0638,  34.5829,2,   34.583,2,       77,2,    78.2,2,  157.35,2,   40.61,2,       0,2,    2.89,2,   0.049,2,   0.048,2,   0.008,2,     0.11,2,    2366,2, 2407.36,2,   7.4274,2,       25,-999.000,9,-999.0000,9, -999.00,9,   -0.30,2,  -237.9,2,     2.3,-999.000,9,-999.000,     -999.0,9, -999.00,9,    34.7,2, -999.00,9,     -999.0,9,  -999.0,9, 20130413,     1639,  30.0005, 144.3197,    34.7461,2,     -999.0,9,     -999.0,9,     2.0634,2,     -999.0,9,     -999.0,9,-999.0000, -999.00,-999.000
318M20130321,       P02W,      31,          1,         12,         12,2,20130413,       1501,    30.0002,   144.3192,       5709,  2186.4,   1.8844,  34.6125,2,  34.6125,2,     94.6,2,    94.3,2,  156.86,2,   39.64,2,       0,2,    2.81,2,-999.000,9,-999.000,9,-999.000,9,-999.0000,9,  2358.2,2, 2410.46,2,   7.4602,6,       25,-999.000,9,-999.0000,9, -999.00,9,   -0.46,3,  -245.1,2,     1.6,-999.000,9,-999.000,     -999.0,9, -999.00,9, -999.00,9, -999.00,9,     -999.0,9,  -999.0,9, 20130413,     1633,  30.0004, 144.3197,    34.7757,2,     -999.0,9,     -999.0,9,     1.8846,2,     -999.0,9,     -999.0,9,-999.0000, -999.00,-999.000
318M20130321,       P02W,      31,          1,         11,         11,2,20130413,       1501,    30.0002,   144.3192,       5709,  2440.5,   1.7446,  34.6348,2,  34.6345,2,    108.2,2,   107.6,2,  155.98,2,   38.74,2,       0,2,    2.74,2,   0.017,2,   0.022,2,   0.002,2,     0.06,2,  -999.0,9, -999.00,9,-999.0000,9,  -999.00,-999.000,9,-999.0000,9, -999.00,9, -999.00,9,  -999.0,9,  -999.0,-999.000,9,-999.000,     -999.0,9, -999.00,9,   36.25,2, -999.00,9,     -999.0,9,  -999.0,9, 20130413,     1627,  30.0007, 144.3204,    34.7978,2,     -999.0,9,     -999.0,9,     1.7447,2,     -999.0,9,     -999.0,9,-999.0000, -999.00,-999.000
318M20130321,       P02W,      31,          1,         10,         10,2,20130413,       1501,    30.0002,   144.3192,       5709,  2693.2,   1.6428,  34.6504,2,    34.65,2,    118.4,2,   119.3,2,     155,2,   38.01,2,       0,2,    2.69,2,-999.000,9,-999.000,9,-999.000,9,-999.0000,9,  2344.1,2, 2415.16,2,     7.51,2,       25,-999.000,9,-999.0000,9, -999.00,9, -999.00,9,  -999.0,9,  -999.0,-999.000,9,-999.000,     -999.0,9, -999.00,9, -999.00,9, -999.00,9,     -999.0,9,  -999.0,9, 20130413,     1621,  30.0012, 144.3208,    34.8134,2,     -999.0,9,     -999.0,9,     1.6425,2,     -999.0,9,     -999.0,9,-999.0000, -999.00,-999.000
318M20130321,       P02W,      31,          1,          9,          9,2,20130413,       1501,    30.0002,   144.3192,       5709,  2951.2,   1.5873,  34.6595,2,   34.659,2,    126.2,2,     126,2,  154.32,2,   37.53,2,       0,2,    2.66,2,   0.002,2,   0.012,2,   0.004,2,     0.06,2,  2340.4,2, 2416.46,2,   7.5237,2,       25,-999.000,9,-999.0000,9, -999.00,9, -999.00,9,  -999.0,9,  -999.0,-999.000,9,-999.000,     -999.0,9, -999.00,9,   37.42,2, -999.00,9,     -999.0,9,  -999.0,9, 20130413,     1615,  30.0017, 144.3209,    34.8224,2,     -999.0,9,     -999.0,9,     1.5872,2,     -999.0,9,     -999.0,9,-999.0000, -999.00,-999.000
318M20130321,       P02W,      31,          1,          8,          8,2,20130413,       1501,    30.0002,   144.3192,       5709,  3242.2,   1.5364,  34.6685,2,  34.6688,2,    134.9,2,   134.8,2,  153.24,2,   36.98,2,       0,2,    2.62,2,-999.000,9,-999.000,9,-999.000,9,-999.0000,9,  -999.0,9, -999.00,9,-999.0000,9,  -999.00,-999.000,9,-999.0000,9, -999.00,9, -999.00,9,  -999.0,9,  -999.0,-999.000,9,-999.000,     -999.0,9, -999.00,9, -999.00,9, -999.00,9,     -999.0,9,  -999.0,9, 20130413,     1608,  30.0019, 144.3211,    34.8323,2,     -999.0,9,     -999.0,9,     1.5362,2,     -999.0,9,     -999.0,9,-999.0000, -999.00,-999.000