BOTTLE,20220817CCHSIOAMB
EXPOCODE,SECT_ID,STNNBR,CASTNO,SAMPNO,BTLNBR,BTLNBR_FLAG_W,DATE,TIME,LATITUDE,LONGITUDE,DEPTH,CTDPRS,CTDTMP,CTDSAL,CTDSAL_FLAG_W,SALNTY,SALNTY_FLAG_W,CTDOXY,CTDOXY_FLAG_W,OXYGEN,OXYGEN_FLAG_W,SILCAT,SILCAT_FLAG_W,NITRAT,NITRAT_FLAG_W,NITRIT,NITRIT_FLAG_W,PHSPHT,PHSPHT_FLAG_W,CFC-11,CFC-11_FLAG_W,CFC-12,CFC-12_FLAG_W,CFC113,CFC113_FLAG_W,SF6,SF6_FLAG_W,TCARBN,TCARBN_FLAG_W,ALKALI,ALKALI_FLAG_W,PH_TOT,PH_TOT_FLAG_W,PH_TMP,TRITUM,TRITUM_FLAG_W,HELIUM,HELIUM_FLAG_W,DELHE3,DELHE3_FLAG_W,DELC13,DELC13_FLAG_W,DELC14,DELC14_FLAG_W,C14ERR,NEON,NEON_FLAG_W,NEONER,I-129,I-129_FLAG_W,SR-90,SR-90_FLAG_W,DOC,DOC_FLAG_W,TDN,TDN_FLAG_W,CALCIUM,CALCIUM_FLAG_W,D15N_NO3,D15N_NO3_FLAG_W,BTL_DATE,BTL_TIME,BTL_LAT,BTL_LON,SALTREF,SALTREF_FLAG_W,CS-137,CS-137_FLAG_W,CS-134,CS-134_FLAG_W,REFTMP,REFTMP_FLAG_W,LAB_DEN,LAB_DEN_FLAG_W,D18O_NO3,D18O_NO3_FLAG_W,HELIER,DELHER,TRITER
,,,,,,,,,,,METERS,DBAR,ITS-90,PSS-78,,PSS-78,,UMOL/KG,,UMOL/KG,,UMOL/KG,,UMOL/KG,,UMOL/KG,,UMOL/KG,,PMOL/KG,,PMOL/KG,,PMOL/KG,,FMOL/KG,,UMOL/KG,,UMOL/KG,,,,DEG C,TU,,NMOL/KG,,PERCNT,,/MILLE,,/MILLE,,/MILLE,NMOL/KG,,NMOL/KG,BQ/M^3,,DM/.1MG,,UMOL/KG,,UMOL/KG,,MMOL/KG,,/MILLE,,,,,,G/KG,,BQ/M^3,,BQ/M^3,,ITS-90,,,,/MILLE,,NMOL/KG,PERCNT,TU
318M20130321,       P02W,      27,          1,         36,         36,2,20130412,       1138,    30.0003,   142.2545,       5849,     3.9,  18.3533,  34.7251,2,  34.7256,2,    236.9,2,   236.6,2,    2.15,2,    0.01,2,    0.02,2,    0.04,2,   2.487,2,   1.542,2,   0.211,2,     1.56,2,  1996.8,6, 2277.51,2,   8.0201,2,       25,   0.479,2,   1.7314,2,   -1.53,2, -999.00,9,  -999.0,9,  -999.0,   7.148,2,   0.033,     -999.0,9, -999.00,9,   58.62,2,    4.57,2,     -999.0,9,  -999.0,1, 20130412,     1406,  29.9997,  142.254,    34.8894,2,     -999.0,9,     -999.0,9,    18.3539,2,     -999.0,9,     -999.0,1,   0.0073,    0.15,   0.013
318M20130321,       P02W,      27,          1,         35,         35,2,20130412,       1138,    30.0003,   142.2545,       5849,    36.9,  18.3558,  34.7243,2,   34.724,2,    236.8,2,   236.6,2,    2.05,2,       0,2,    0.03,2,    0.03,2,   2.474,2,   1.525,2,   0.209,2,     1.58,2,  1997.2,2, 2277.71,2,   8.0205,2,       25,   0.489,2,   1.7347,2,   -1.58,2, -999.00,9,  -999.0,9,  -999.0,   7.173,2,   0.033,     -999.0,9, -999.00,9,    54.9,2,    3.61,2,     -999.0,9,  -999.0,1, 20130412,     1404,  29.9997, 142.2541,    34.8878,2,     -999.0,9,     -999.0,9,    18.3559,2,     -999.0,9,     -999.0,1,   0.0073,    0.15,   0.011
318M20130321,       P02W,      27,          1,         34,         34,2,20130412,       1138,    30.0003,   142.2545,       5849,    62.1,    18.36,   34.724,2,  34.7234,2,    236.3,2,   236.5,2,    1.95,2,       0,2,    0.03,2,    0.03,2,   2.458,2,   1.438,2,   0.207,2,     1.53,2,  1997.8,2, 2277.91,2,   8.0193,6,       25,-999.000,9,-999.0000,9, -999.00,9, -999.00,9,  -999.0,9,  -999.0,-999.000,9,-999.000,     -999.0,9, -999.00,9,   56.47,2,    5.11,2,     -999.0,9,  -999.0,1, 20130412,     1403,  29.9997, 142.2542,    34.8872,2,     -999.0,9,     -999.0,9,    18.3603,2,     -999.0,9,     -999.0,1,-999.0000, -999.00,-999.000
318M20130321,       P02W,      27,          1,         33,         33,2,20130412,       1138,    30.0003,   142.2545,       5849,    87.5,  18.3516,  34.7234,2,  34.7234,2,    234.5,2,   235.6,2,    1.76,2,    0.02,2,    0.04,2,    0.03,2,   2.484,2,   1.540,2,   0.194,2,     1.54,2,  1999.1,2, 2279.61,2,   8.0183,2,       25,-999.000,9,-999.0000,9, -999.00,9, -999.00,9,  -999.0,9,  -999.0,-999.000,9,-999.000,     -999.0,9, -999.00,9,    54.4,2,    4.49,2,     -999.0,9,  -999.0,1, 20130412,     1401,  29.9997, 142.2544,    34.8872,2,     -999.0,9,     -999.0,9,    18.3517,2,     -999.0,9,     -999.0,1,-999.0000, -999.00,-999.000
318M20130321,       P02W,      27,          1,         32,         32,2,20130412,       1138,    30.0003,   142.2545,       5849,   117.8,  18.1796,   34.744,2,  34.7419,2,    231.2,2,   230.3,2,    2.05,2,    0.68,2,     0.2,2,    0.08,2,   2.482,2,   1.538,2,   0.201,2,     1.54,2,  2006.4,2, 2278.91,2,   8.0069,2,       25,   0.476,2,   1.7521,2,   -1.31,2, -999.00,9,  -999.0,9,  -999.0,   7.202,2,   0.033,     -999.0,9, -999.00,9,   54.89,2,    5.17,2,     -999.0,9,  -999.0,1, 20130412,     1359,  29.9996, 142.2547,    34.9057,2,     -999.0,9,     -999.0,9,    18.1801,2,     -999.0,9,     -999.0,1,   0.0074,    0.15,   0.010
318M20130321,       P02W,      27,          1,         31,         31,2,20130412,       1138,    30.0003,   142.2545,       5849,   167.4,  18.0199,  34.7904,2,  34.7899,2,    227.6,2,   226.9,2,    2.54,2,    1.52,2,    0.03,2,    0.13,2,-999.000,9,-999.000,9,-999.000,9,-999.0000,9,  2011.7,2, 2281.81,6,   7.9983,2,       25,-999.000,9,-999.0000,9, -999.00,9, -999.00,9,  -999.0,9,  -999.0,-999.000,9,-999.000,     -999.0,9, -999.00,9,   53.07,2,     5.9,2,     -999.0,9,  -999.0,1, 20130412,     1357,  29.9996, 142.2548,    34.9539,2,     -999.0,9,     -999.0,9,    18.0206,2,     -999.0,9,     -999.0,1,-999.0000, -999.00,-999.000
318M20130321,       P02W,      27,          1,         30,         30,2,20130412,       1138,    30.0003,   142.2545,       5849,   218.2,  17.8119,  34.7676,2,  34.7664,2,      226,2,   224.5,2,    2.73,2,    2.05,2,    0.02,2,    0.15,2,   2.505,2,   1.540,2,   0.169,2,     1.52,2,  -999.0,9, -999.00,9,-999.0000,9,  -999.00,   0.485,2,   1.7790,2,   -0.59,2, -999.00,9,  -999.0,9,  -999.0,   7.186,2,   0.033,     -999.0,9, -999.00,9,   53.76,2,    6.57,2,     -999.0,9,  -999.0,1, 20130412,     1356,  29.9998, 142.2547,    34.9304,2,     -999.0,9,     -999.0,9,    17.8115,2,     -999.0,9,     -999.0,1,   0.0075,    0.15,   0.011
318M20130321,       P02W,      27,          1,         29,         29,2,20130412,       1138,    30.0003,   142.2545,       5849,   269.2,  17.4947,  34.7402,2,   34.739,2,    224.6,2,   224.5,2,    3.12,2,    2.58,2,    0.01,2,    0.19,2,-999.000,9,-999.000,9,-999.000,9,-999.0000,9,  2017.5,2, 2279.01,2,   7.9825,2,       25,-999.000,9,-999.0000,9, -999.00,9, -999.00,9,  -999.0,9,  -999.0,-999.000,9,-999.000,     -999.0,9, -999.00,9,   54.98,2,    5.61,2,     -999.0,9,  -999.0,1, 20130412,     1354,  29.9998, 142.2547,    34.9029,2,     -999.0,9,     -999.0,9,    17.4975,2,     -999.0,9,     -999.0,1,-999.0000, -999.00,-999.000
318M20130321,       P02W,      27,          1,         28,         28,2,20130412,       1138,    30.0003,   142.2545,       5849,   319.6,  17.2817,  34.7235,2,  34.7229,2,    226.6,2,     227,2,    3.22,2,     2.7,2,    0.01,2,     0.2,2,   2.555,2,   1.581,2,   0.176,2,     1.61,2,  2016.6,2, 2277.01,2,   7.9804,2,       25,   0.485,2,   1.7953,2,   -0.58,2, -999.00,9,  -999.0,9,  -999.0,   7.240,2,   0.033,     -999.0,9, -999.00,9,   55.67,2,    6.48,2,     -999.0,9,  -999.0,1, 20130412,     1352,  29.9997, 142.2547,    34.8867,2,     -999.0,9,     -999.0,9,    17.2813,2,     -999.0,9,     -999.0,1,   0.0075,    0.15,   0.010
318M20130321,       P02W,      27,          1,         27,         27,2,20130412,       1138,    30.0003,   142.2545,       5849,     370,  17.1515,  34.7233,2,  34.7226,2,      227,2,     227,2,    3.22,2,    2.85,2,    0.01,2,     0.2,2,   2.598,2,   1.573,2,   0.158,2,     1.53,2,  2019.2,2, 2276.21,2,   7.9775,2,       25,   0.477,2,   1.7782,2,   -0.68,2, -999.00,9,  -999.0,9,  -999.0,   7.234,2,   0.033,     -999.0,9, -999.00,9,   51.76,2, -999.00,9,     -999.0,9,  -999.0,1, 20130412,     1350,  29.9998, 142.2546,    34.8863,2,     -999.0,9,     -999.0,9,     17.154,2,     -999.0,9,     -999.0,1,   0.0075,    0.15,   0.010
318M20130321,       P02W,      27,          1,         26,         26,2,20130412,       1138,    30.0003,   142.2545,       5849,   434.9,   15.897,  34.6216,2,  34.6221,2,    193.3,2,   194.3,2,    8.39,2,    7.89,2,    0.01,2,    0.55,2,-999.000,9,-999.000,9,-999.000,9,-999.0000,9,  2057.5,2, 2275.51,2,   7.8982,2,       25,-999.000,9,-999.0000,9, -999.00,9, -999.00,9,  -999.0,9,  -999.0,-999.000,9,-999.000,     -999.0,9, -999.00,9,   47.64,2, -999.00,9,     -999.0,9,  -999.0,1, 20130412,     1348,  29.9998, 142.2545,    34.7854,2,     -999.0,9,     -999.0,9,    15.9017,2,     -999.0,9,     -999.0,1,-999.0000, -999.00,-999.000
318M20130321,       P02W,      27,          1,         25,         25,2,20130412,       1138,    30.0003,   142.2545,       5849,     538,  12.9942,    34.43,2,  34.4272,2,    177.8,2,   179.1,2,   18.45,2,   14.03,2,    0.01,2,    0.98,2,   2.935,2,   1.638,2,   0.054,2,     1.11,2,  2102.8,2, 2273.41,2,   7.7965,6,       25,   0.473,2,   1.8246,2,    3.94,2, -999.00,9,  -999.0,9,  -999.0,   7.553,2,   0.035,     -999.0,9, -999.00,9,   42.72,2, -999.00,9,     -999.0,9,  -999.0,1, 20130412,     1346,  29.9999, 142.2543,    34.5895,2,     -999.0,9,     -999.0,9,    12.9107,3,     -999.0,9,     -999.0,1,   0.0077,    0.15,   0.010
318M20130321,       P02W,      27,          1,         24,         24,2,20130412,       1138,    30.0003,   142.2545,       5849,   634.6,   9.7522,  34.2472,2,  34.2472,2,    159.6,2,   157.3,2,   36.42,2,   21.37,2,    0.01,2,    1.53,2,   2.685,2,   1.465,2,   0.072,2,     0.86,2,  2160.1,2, 2280.71,2,   7.6778,2,       25,   0.432,2,   1.8107,2,    7.78,2, -999.00,9,  -999.0,9,  -999.0,   7.702,2,   0.035,     -999.0,9, -999.00,9,   40.77,2, -999.00,9,     -999.0,9,  -999.0,1, 20130412,     1343,       30, 142.2542,    34.4087,2,     -999.0,9,     -999.0,9,     9.7492,2,     -999.0,9,     -999.0,1,   0.0076,    0.15,   0.010
318M20130321,       P02W,      27,          1,         23,         23,2,20130412,       1138,    30.0003,   142.2545,       5849,   735.5,   6.9603,  34.1017,2,  34.1015,2,    131.5,2,     131,2,    58.1,2,   28.87,2,    0.01,2,    2.07,2,   2.349,2,   1.270,2,   0.084,2,     0.65,2,    2216,2, 2291.01,2,   7.5459,2,       25,   0.390,2,   1.8428,2,   11.44,2, -999.00,9,  -999.0,9,  -999.0,   7.847,2,   0.036,     -999.0,9, -999.00,9,   40.95,2, -999.00,9,     -999.0,9,  -999.0,1, 20130412,     1340,       30, 142.2543,    34.2623,2,     -999.0,9,     -999.0,9,     6.9722,2,     -999.0,9,     -999.0,1,   0.0077,    0.15,   0.012
318M20130321,       P02W,      27,          1,         22,         38,2,20130412,       1138,    30.0003,   142.2545,       5849,   837.2,   5.4003,  34.0516,2,  34.0529,2,    101.1,2,   109.2,2,   74.61,2,   33.65,2,    0.01,2,    2.43,2,-999.000,9,-999.000,9,-999.000,9,-999.0000,9,  2253.1,2, 2301.02,2,   7.4593,2,       25,-999.000,9,-999.0000,9, -999.00,9, -999.00,9,  -999.0,9,  -999.0,-999.000,9,-999.000,     -999.0,9, -999.00,9,   42.27,2, -999.00,9,     -999.0,9,  -999.0,1, 20130412,     1337,  29.9999, 142.2544,    34.2135,2,     -999.0,9,     -999.0,9,     5.4253,3,     -999.0,9,     -999.0,1,-999.0000, -999.00,-999.000
318M20130321,       P02W,      27,          1,         21,         21,2,20130412,       1138,    30.0003,   142.2545,       5849,   938.6,   4.5823,  34.1483,2,  34.1497,2,     66.3,2,    72.1,2,    95.3,2,   38.18,2,    0.01,2,    2.74,2,   1.227,2,   0.643,2,   0.066,2,      0.3,2,  2296.8,2, 2321.32,2,    7.386,2,       25,   0.211,2,   1.9371,2,   14.77,2, -999.00,9,  -999.0,9,  -999.0,   8.263,2,   0.038,     -999.0,9, -999.00,9,   41.22,2, -999.00,9,     -999.0,9,  -999.0,1, 20130412,     1335,       30, 142.2545,    34.3107,2,     -999.0,9,     -999.0,9,     4.5831,2,     -999.0,9,     -999.0,1,   0.0081,    0.15,   0.011
318M20130321,       P02W,      27,          1,         20,         20,2,20130412,       1138,    30.0003,   142.2545,       5849,  1040.2,   4.0751,  34.2341,2,  34.2346,2,     48.1,2,    51.3,2,  110.23,2,   40.53,2,    0.01,2,    2.91,2,   0.695,2,   0.381,2,   0.032,2,      0.2,2,  2324.6,2, 2339.93,2,   7.3536,2,       25,   0.133,2,   1.9144,2,   16.31,2, -999.00,9,  -999.0,9,  -999.0,   8.259,2,   0.038,     -999.0,9, -999.00,9,   38.92,2, -999.00,9,     -999.0,9,  -999.0,1, 20130412,     1332,  30.0001, 142.2542,     34.396,2,     -999.0,9,     -999.0,9,     4.0793,2,     -999.0,9,     -999.0,1,   0.0080,    0.15,   0.011
318M20130321,       P02W,      27,          1,         19,         19,2,20130412,       1138,    30.0003,   142.2545,       5849,  1142.5,     3.65,  34.3224,2,  34.3215,2,       41,2,    41.7,2,  122.63,2,   41.92,2,    0.01,2,    3.01,2,   0.306,2,   0.170,2,   0.005,2,     0.06,2,  2344.8,2, 2356.44,2,    7.342,2,       25,   0.075,2,   1.8999,2,   16.19,2, -999.00,9,  -999.0,9,  -999.0,   8.129,2,   0.037,     -999.0,9, -999.00,9,   36.18,2, -999.00,9,     -999.0,9,  -999.0,1, 20130412,     1329,  30.0001, 142.2543,    34.4833,2,     -999.0,9,     -999.0,9,     3.6501,2,     -999.0,9,     -999.0,1,   0.0080,    0.15,   0.012
318M20130321,       P02W,      27,          1,         18,         18,2,20130412,       1138,    30.0003,   142.2545,       5849,  1244.6,   3.2729,  34.3865,2,  34.3868,2,     39.3,2,    38.7,2,  133.26,2,   42.58,2,    0.01,2,    3.05,2,-999.000,9,-999.000,9,-999.000,9,-999.0000,9,  2357.5,2, 2369.64,2,   7.3418,2,       25,-999.000,9,-999.0000,9, -999.00,9, -999.00,9,  -999.0,9,  -999.0,-999.000,9,-999.000,     -999.0,9, -999.00,9,   35.81,2, -999.00,9,     -999.0,9,  -999.0,1, 20130412,     1327,       30, 142.2546,     34.549,2,     -999.0,9,     -999.0,9,     3.2724,2,     -999.0,9,     -999.0,1,-999.0000, -999.00,-999.000
318M20130321,       P02W,      27,          1,         17,         17,2,20130412,       1138,    30.0003,   142.2545,       5849,  1345.1,   2.9955,  34.4306,2,  34.4306,2,     40.7,2,    39.8,2,  140.97,2,   42.81,2,       0,2,    3.06,2,   0.082,2,   0.055,2,   0.001,2,        0,2,    2366,2, 2379.55,2,   7.3466,6,       25,   0.018,2,   1.9232,2,   17.27,2, -999.00,9,  -999.0,9,  -999.0,   8.321,2,   0.038,     -999.0,9, -999.00,9,   36.26,2, -999.00,9,     -999.0,9,  -999.0,1, 20130412,     1324,       30, 142.2547,    34.5929,2,     -999.0,9,     -999.0,9,     2.9968,2,     -999.0,9,     -999.0,1,   0.0081,    0.15,   0.011
318M20130321,       P02W,      27,          1,         16,         16,2,20130412,       1138,    30.0003,   142.2545,       5849,  1473.8,    2.711,  34.4776,2,  34.4777,2,     44.4,2,    43.9,2,  147.21,2,    42.8,2,       0,2,    3.05,2,   0.035,2,   0.033,2,   0.001,2,     0.03,2,    2372,2, 2389.65,2,   7.3576,2,       25,   0.012,2,   1.9371,2,   18.01,2, -999.00,9,  -999.0,9,  -999.0,   8.272,2,   0.038,     -999.0,9, -999.00,9,   36.81,2, -999.00,9,     -999.0,9,  -999.0,1, 20130412,     1321,  29.9999, 142.2548,    34.6403,2,     -999.0,9,     -999.0,9,     2.7112,2,     -999.0,9,     -999.0,1,   0.0081,    0.15,   0.011
318M20130321,       P02W,      27,          1,         15,         15,9,20130412,       1138,    30.0003,   142.2545,       5849,    1676,   2.4128,  34.5287,2,-999.0000,9,     55.4,2,  -999.0,9, -999.00,9, -999.00,9, -999.00,9, -999.00,9,-999.000,9,-999.000,9,-999.000,9,-999.0000,9,  -999.0,9, -999.00,9,-999.0000,9,  -999.00,-999.000,9,-999.0000,9, -999.00,9, -999.00,9,  -999.0,9,  -999.0,-999.000,9,-999.000,     -999.0,9, -999.00,9, -999.00,9, -999.00,9,     -999.0,9,  -999.0,9, 20130412,     1316,  29.9998, 142.2549,     -999.0,9,     -999.0,9,     -999.0,9,     2.4128,2,     -999.0,9,     -999.0,9,-999.0000, -999.00,-999.000
318M20130321,       P02W,      27,          1,         14,         14,2,20130412,       1138,    30.0003,   142.2545,       5849,  1871.5,   2.1829,  34.5672,2,  34.5668,2,       70,2,    70.4,2,  155.89,2,   41.36,2,       0,2,    2.92,2,   0.006,2,   0.017,2,   0.001,2,        0,2,  2368.9,2, 2404.65,2,   7.4128,2,       25,  -0.005,2,   1.9335,2,   18.75,2, -999.00,9,  -999.0,9,  -999.0,   8.265,2,   0.038,     -999.0,9, -999.00,9,    35.1,2, -999.00,9,     -999.0,9,  -999.0,1, 20130412,     1312,  29.9998, 142.2543,    34.7298,2,     -999.0,9,     -999.0,9,     2.1839,2,     -999.0,9,     -999.0,1,   0.0081,    0.15,   0.011
318M20130321,       P02W,      27,          1,         13,         13,2,20130412,       1138,    30.0003,   142.2545,       5849,  2102.7,   1.9703,  34.6011,2,  34.6012,2,     86.9,2,    88.2,2,  156.96,2,   40.26,2,       0,2,    2.83,2,   0.000,2,   0.018,2,   0.001,2,     0.08,2,  2360.6,2, 2409.56,2,   7.4497,2,       25,   0.011,2,-999.0000,9, -999.00,9, -999.00,9,  -999.0,9,  -999.0,-999.000,9,-999.000,     -999.0,9, -999.00,9,   36.31,2, -999.00,9,     -999.0,9,  -999.0,1, 20130412,     1307,  29.9995, 142.2542,    34.7643,2,     -999.0,9,     -999.0,9,     1.9708,2,     -999.0,9,     -999.0,1,-999.0000, -999.00,   0.011
318M20130321,       P02W,      27,          1,         12,         12,2,20130412,       1138,    30.0003,   142.2545,       5849,  2357.9,   1.8101,  34.6245,2,   34.624,2,     99.1,2,    99.6,2,  158.42,2,   39.56,2,       0,2,    2.77,2,-999.000,9,-999.000,9,-999.000,9,-999.0000,9,  2355.4,2, 2412.16,2,   7.4719,2,       25,-999.000,9,-999.0000,9, -999.00,9, -999.00,9,  -999.0,9,  -999.0,-999.000,9,-999.000,     -999.0,9, -999.00,9, -999.00,9, -999.00,9,     -999.0,9,  -999.0,1, 20130412,     1301,  29.9994, 142.2543,    34.7872,2,     -999.0,9,     -999.0,9,     1.8104,2,     -999.0,9,     -999.0,1,-999.0000, -999.00,-999.000
318M20130321,       P02W,      27,          1,         11,         11,2,20130412,       1138,    30.0003,   142.2545,       5849,  2609.8,   1.7143,  34.6403,2,  34.6477,3,    110.8,2,   111.4,2,  157.35,2,   38.83,2,       0,2,    2.73,2,   0.005,2,   0.016,2,   0.001,2,      0.1,2,  2351.2,2, 2413.76,2,   7.4945,2,       25,-999.000,9,-999.0000,9, -999.00,9, -999.00,9,  -999.0,9,  -999.0,-999.000,9,-999.000,     -999.0,9, -999.00,9,    36.4,2, -999.00,9,     -999.0,9,  -999.0,1, 20130412,     1256,  29.9995, 142.2541,    34.8111,3,     -999.0,9,     -999.0,9,     1.7145,2,     -999.0,9,     -999.0,1,-999.0000, -999.00,-999.000
318M20130321,       P02W,      27,          1,         10,         10,2,20130412,       1138,    30.0003,   142.2545,       5849,    2968,   1.6136,  34.6572,2,  34.6579,2,    125.9,2,   124.7,2,  155.39,2,   37.95,2,       0,2,    2.65,2,-999.000,9,-999.000,9,-999.000,9,-999.0000,9,  2341.6,6, 2415.16,2,    7.519,2,       25,-999.000,9,-999.0000,9, -999.00,9, -999.00,9,  -999.0,9,  -999.0,-999.000,9,-999.000,     -999.0,9, -999.00,9, -999.00,9, -999.00,9,     -999.0,9,  -999.0,1, 20130412,     1249,  29.9994, 142.2544,    34.8214,2,     -999.0,9,     -999.0,9,     1.6134,2,     -999.0,9,     -999.0,1,-999.0000, -999.00,-999.000
318M20130321,       P02W,      27,          1,          9,          9,2,20130412,       1138,    30.0003,   142.2545,       5849,  3380.3,   1.5423,  34.6695,2,  34.6695,2,    136.6,2,   135.7,2,  152.76,2,   37.24,2,       0,2,    2.61,2,   0.001,2,   0.014,2,   0.001,2,     0.06,2,  2335.9,2, 2415.46,2,   7.5399,2,       25,-999.000,9,-999.0000,9, -999.00,9, -999.00,9,  -999.0,9,  -999.0,-999.000,9,-999.000,     -999.0,9, -999.00,9, -999.00,9, -999.00,9,     -999.0,9,  -999.0,1, 20130412,     1241,  29.9996, 142.2546,     34.833,2,     -999.0,9,     -999.0,9,     1.5423,2,     -999.0,9,     -999.0,1,-999.0000, -999.00,-999.000
318M20130321,       P02W,      27,          1,          8,          8,2,20130412,       1138,    30.0003,   142.2545,       5849,  3792.3,   1.4986,  34.6779,2,  34.6772,2,    144.1,2,   144.3,2,  152.07,2,   36.72,2,       0,2,    2.56,2,-999.000,9,-999.000,9,-999.000,9,-999.0000,9,  2328.4,2, 2413.66,2,   7.5545,2,       25,-999.000,9,-999.0000,9, -999.00,9, -999.00,9,  -999.0,9,  -999.0,-999.000,9,-999.000,     -999.0,9, -999.00,9, -999.00,9, -999.00,9,     -999.0,9,  -999.0,1, 20130412,     1233,       30, 142.2548,    34.8407,2,     -999.0,9,     -999.0,9,     1.4984,2,     -999.0,9,     -999.0,1,-999.0000, -999.00,-999.000