BOTTLE,20220817CCHSIOAMB
EXPOCODE,SECT_ID,STNNBR,CASTNO,SAMPNO,BTLNBR,BTLNBR_FLAG_W,DATE,TIME,LATITUDE,LONGITUDE,DEPTH,CTDPRS,CTDTMP,CTDSAL,CTDSAL_FLAG_W,SALNTY,SALNTY_FLAG_W,CTDOXY,CTDOXY_FLAG_W,OXYGEN,OXYGEN_FLAG_W,SILCAT,SILCAT_FLAG_W,NITRAT,NITRAT_FLAG_W,NITRIT,NITRIT_FLAG_W,PHSPHT,PHSPHT_FLAG_W,CFC-11,CFC-11_FLAG_W,CFC-12,CFC-12_FLAG_W,CFC113,CFC113_FLAG_W,SF6,SF6_FLAG_W,TCARBN,TCARBN_FLAG_W,ALKALI,ALKALI_FLAG_W,PH_TOT,PH_TOT_FLAG_W,PH_TMP,TRITUM,TRITUM_FLAG_W,HELIUM,HELIUM_FLAG_W,DELHE3,DELHE3_FLAG_W,DELC13,DELC13_FLAG_W,DELC14,DELC14_FLAG_W,C14ERR,NEON,NEON_FLAG_W,NEONER,I-129,I-129_FLAG_W,SR-90,SR-90_FLAG_W,DOC,DOC_FLAG_W,TDN,TDN_FLAG_W,CALCIUM,CALCIUM_FLAG_W,D15N_NO3,D15N_NO3_FLAG_W,BTL_DATE,BTL_TIME,BTL_LAT,BTL_LON,SALTREF,SALTREF_FLAG_W,CS-137,CS-137_FLAG_W,CS-134,CS-134_FLAG_W,REFTMP,REFTMP_FLAG_W,LAB_DEN,LAB_DEN_FLAG_W,D18O_NO3,D18O_NO3_FLAG_W,HELIER,DELHER,TRITER
,,,,,,,,,,,METERS,DBAR,ITS-90,PSS-78,,PSS-78,,UMOL/KG,,UMOL/KG,,UMOL/KG,,UMOL/KG,,UMOL/KG,,UMOL/KG,,PMOL/KG,,PMOL/KG,,PMOL/KG,,FMOL/KG,,UMOL/KG,,UMOL/KG,,,,DEG C,TU,,NMOL/KG,,PERCNT,,/MILLE,,/MILLE,,/MILLE,NMOL/KG,,NMOL/KG,BQ/M^3,,DM/.1MG,,UMOL/KG,,UMOL/KG,,MMOL/KG,,/MILLE,,,,,,G/KG,,BQ/M^3,,BQ/M^3,,ITS-90,,,,/MILLE,,NMOL/KG,PERCNT,TU
318M20130321,       P02E,     122,          1,          5,         37,2,20130523,       0702,    29.9996,  -137.9731,       4661,    3550,   1.5122,  34.6756,2,  34.6757,2,    132.6,2,   132.2,2,  164.86,2,   37.52,2,       0,2,    2.62,2,   0.006,2,   0.004,2,-999.000,1,        0,2,  2344.4,2, 2425.66,2,   7.5431,6,       25,-999.000,9,-999.0000,9, -999.00,9, -999.00,9,  -999.0,9,  -999.0,-999.000,9,-999.000,     -999.0,9, -999.00,9, -999.00,9, -999.00,9,     -999.0,9,  -999.0,9, 20130523,      725,  30.0002,-137.9732,    34.8392,2,     -999.0,9,     -999.0,9,     1.5119,2,     -999.0,9,     -999.0,9,-999.0000, -999.00,-999.000
318M20130321,       P02E,     122,          1,          4,          4,2,20130523,       0702,    29.9996,  -137.9731,       4661,  3926.6,   1.5084,  34.6802,2,  34.6796,2,    138.5,2,   138.5,2,  162.13,2,   37.12,2,       0,2,    2.59,2,   0.004,2,   0.004,2,-999.000,1,        0,2,  -999.0,9, -999.00,9,-999.0000,9,  -999.00,-999.000,9,-999.0000,9, -999.00,9, -999.00,9,  -999.0,9,  -999.0,-999.000,9,-999.000,     -999.0,9, -999.00,9, -999.00,9, -999.00,9,     -999.0,9,  -999.0,9, 20130523,      718,  29.9999,-137.9739,    34.8431,2,     -999.0,9,     -999.0,9,     1.5086,2,     -999.0,9,     -999.0,9,-999.0000, -999.00,-999.000
318M20130321,       P02E,     122,          1,          3,          3,2,20130523,       0702,    29.9996,  -137.9731,       4661,  4335.1,   1.5309,  34.6828,2,  34.6832,2,    140.9,2,   141.7,2,  160.86,2,    36.9,2,       0,2,    2.56,2,   0.006,6,   0.004,6,-999.000,1,        0,6,  2339.4,6, 2428.06,2,   7.5612,2,       25,-999.000,9,-999.0000,9, -999.00,9, -999.00,9,  -999.0,9,  -999.0,-999.000,9,-999.000,     -999.0,9, -999.00,9, -999.00,9, -999.00,9,     -999.0,9,  -999.0,9, 20130523,      710,  30.0003,-137.9736,    34.8467,2,     -999.0,9,     -999.0,9,     1.5305,2,     -999.0,9,     -999.0,9,-999.0000, -999.00,-999.000
318M20130321,       P02E,     122,          1,          2,          2,2,20130523,       0702,    29.9996,  -137.9731,       4661,  4757.1,   1.5732,  34.6835,2,  34.6836,2,    142.2,2,  -999.0,5,  160.76,2,   36.81,2,       0,2,    2.54,2,   0.005,2,   0.005,2,-999.000,1,        0,2,  2339.4,2, 2425.96,2,   7.5653,2,       25,-999.000,9,-999.0000,9, -999.00,9, -999.00,9,  -999.0,9,  -999.0,-999.000,9,-999.000,     -999.0,9, -999.00,9, -999.00,9, -999.00,9,     -999.0,9,  -999.0,9, 20130523,      702,  29.9995,-137.9731,    34.8471,2,     -999.0,9,     -999.0,9,      1.573,2,     -999.0,9,     -999.0,9,-999.0000, -999.00,-999.000