BOTTLE,20220817CCHSIOAMB
EXPOCODE,SECT_ID,STNNBR,CASTNO,SAMPNO,BTLNBR,BTLNBR_FLAG_W,DATE,TIME,LATITUDE,LONGITUDE,DEPTH,CTDPRS,CTDTMP,CTDSAL,CTDSAL_FLAG_W,SALNTY,SALNTY_FLAG_W,CTDOXY,CTDOXY_FLAG_W,OXYGEN,OXYGEN_FLAG_W,SILCAT,SILCAT_FLAG_W,NITRAT,NITRAT_FLAG_W,NITRIT,NITRIT_FLAG_W,PHSPHT,PHSPHT_FLAG_W,CFC-11,CFC-11_FLAG_W,CFC-12,CFC-12_FLAG_W,CFC113,CFC113_FLAG_W,SF6,SF6_FLAG_W,TCARBN,TCARBN_FLAG_W,ALKALI,ALKALI_FLAG_W,PH_TOT,PH_TOT_FLAG_W,PH_TMP,TRITUM,TRITUM_FLAG_W,HELIUM,HELIUM_FLAG_W,DELHE3,DELHE3_FLAG_W,DELC13,DELC13_FLAG_W,DELC14,DELC14_FLAG_W,C14ERR,NEON,NEON_FLAG_W,NEONER,I-129,I-129_FLAG_W,SR-90,SR-90_FLAG_W,DOC,DOC_FLAG_W,TDN,TDN_FLAG_W,CALCIUM,CALCIUM_FLAG_W,D15N_NO3,D15N_NO3_FLAG_W,BTL_DATE,BTL_TIME,BTL_LAT,BTL_LON,SALTREF,SALTREF_FLAG_W,CS-137,CS-137_FLAG_W,CS-134,CS-134_FLAG_W,REFTMP,REFTMP_FLAG_W,LAB_DEN,LAB_DEN_FLAG_W,D18O_NO3,D18O_NO3_FLAG_W,HELIER,DELHER,TRITER
,,,,,,,,,,,METERS,DBAR,ITS-90,PSS-78,,PSS-78,,UMOL/KG,,UMOL/KG,,UMOL/KG,,UMOL/KG,,UMOL/KG,,UMOL/KG,,PMOL/KG,,PMOL/KG,,PMOL/KG,,FMOL/KG,,UMOL/KG,,UMOL/KG,,,,DEG C,TU,,NMOL/KG,,PERCNT,,/MILLE,,/MILLE,,/MILLE,NMOL/KG,,NMOL/KG,BQ/M^3,,DM/.1MG,,UMOL/KG,,UMOL/KG,,MMOL/KG,,/MILLE,,,,,,G/KG,,BQ/M^3,,BQ/M^3,,ITS-90,,,,/MILLE,,NMOL/KG,PERCNT,TU
318M20130321,       P02E,     124,          1,         36,         36,2,20130523,       2150,    29.9997,  -136.4359,       4564,     2.7,  18.9844,  34.6585,2,  34.6594,2,    236.8,2,   236.5,2,    2.15,2,       0,2,       0,2,    0.04,2,   2.146,2,   1.300,2,-999.000,1,    1.501,2,  2034.5,2, 2288.11,2,   7.9644,2,       25,-999.000,9,-999.0000,9, -999.00,9, -999.00,9,  -999.0,9,  -999.0,-999.000,9,-999.000,     -999.0,9, -999.00,9, -999.00,9, -999.00,9,     -999.0,9,  -999.0,9, 20130523,     2345,  29.9999,-136.4378,    34.8228,2,     -999.0,9,     -999.0,9,    18.9887,2,     -999.0,9,     -999.0,9,-999.0000, -999.00,-999.000
318M20130321,       P02E,     124,          1,         34,         34,2,20130523,       2150,    29.9997,  -136.4359,       4564,    35.9,  18.9604,  34.6552,2,  34.6565,2,    237.2,2,   236.5,2,    2.15,2,       0,2,       0,2,    0.04,2,   2.152,2,   1.302,2,-999.000,1,   1.5091,2,  2034.8,2, 2287.71,2,   7.9648,6,       25,-999.000,9,-999.0000,9, -999.00,9, -999.00,9,  -999.0,9,  -999.0,-999.000,9,-999.000,     -999.0,9, -999.00,9, -999.00,9, -999.00,9,     -999.0,9,  -999.0,9, 20130523,     2343,  29.9999,-136.4377,    34.8199,2,     -999.0,9,     -999.0,9,    18.9628,2,     -999.0,9,     -999.0,9,-999.0000, -999.00,-999.000
318M20130321,       P02E,     124,          1,         33,         33,2,20130523,       2150,    29.9997,  -136.4359,       4564,    61.4,  18.0303,  34.5649,2,  34.5885,3,    243.7,2,   241.2,2,    2.25,2,       0,2,       0,2,    0.05,2,   2.230,2,   1.340,2,-999.000,1,    1.538,2,  2030.3,2, 2281.51,6,   7.9648,2,       25,-999.000,9,-999.0000,9, -999.00,9, -999.00,9,  -999.0,9,  -999.0,-999.000,9,-999.000,     -999.0,9, -999.00,9, -999.00,9, -999.00,9,     -999.0,9,  -999.0,9, 20130523,     2341,  29.9999,-136.4376,    34.7516,3,     -999.0,9,     -999.0,9,    18.0235,2,     -999.0,9,     -999.0,9,-999.0000, -999.00,-999.000
318M20130321,       P02E,     124,          1,         32,         32,2,20130523,       2150,    29.9997,  -136.4359,       4564,    85.8,  17.8796,  34.6692,2,   34.671,2,      239,2,   239.2,2,    2.15,2,       0,2,       0,2,    0.05,2,   2.223,2,   1.345,2,-999.000,1,   1.5516,2,  2032.1,2, 2286.01,2,   7.9656,2,       25,-999.000,9,-999.0000,9, -999.00,9, -999.00,9,  -999.0,9,  -999.0,-999.000,9,-999.000,     -999.0,9, -999.00,9, -999.00,9, -999.00,9,     -999.0,9,  -999.0,9, 20130523,     2339,  29.9999,-136.4375,    34.8345,2,     -999.0,9,     -999.0,9,    17.8782,2,     -999.0,9,     -999.0,9,-999.0000, -999.00,-999.000
318M20130321,       P02E,     124,          1,         31,         31,2,20130523,       2150,    29.9997,  -136.4359,       4564,   114.6,  17.6901,  34.6841,2,  34.6859,2,    234.8,2,   234.3,2,    2.24,2,       0,2,       0,2,    0.06,2,   2.224,2,   1.342,2,-999.000,1,   1.5538,2,  -999.0,9, -999.00,9,-999.0000,9,  -999.00,-999.000,9,-999.0000,9, -999.00,9, -999.00,9,  -999.0,9,  -999.0,-999.000,9,-999.000,     -999.0,9, -999.00,9, -999.00,9, -999.00,9,     -999.0,9,  -999.0,9, 20130523,     2337,  29.9999,-136.4373,    34.8495,2,     -999.0,9,     -999.0,9,    17.6877,2,     -999.0,9,     -999.0,9,-999.0000, -999.00,-999.000
318M20130321,       P02E,     124,          1,         30,         30,2,20130523,       2150,    29.9997,  -136.4359,       4564,   164.5,  13.3789,   33.991,2,  33.9949,2,    225.4,2,   226.8,2,    4.88,2,    4.07,2,    0.03,2,    0.41,2,   2.791,2,   1.623,2,-999.000,1,   1.6607,2,    2051,2,  2243.2,2,   7.8567,6,       25,-999.000,9,-999.0000,9, -999.00,9, -999.00,9,  -999.0,9,  -999.0,-999.000,9,-999.000,     -999.0,9, -999.00,9, -999.00,9, -999.00,9,     -999.0,9,  -999.0,9, 20130523,     2336,  29.9999,-136.4374,    34.1552,2,     -999.0,9,     -999.0,9,    13.3525,3,     -999.0,9,     -999.0,9,-999.0000, -999.00,-999.000
318M20130321,       P02E,     124,          1,         29,         29,2,20130523,       2150,    29.9997,  -136.4359,       4564,     215,  11.0503,  33.9241,2,  33.9271,2,    221.6,2,  -999.0,5,   10.55,2,   10.75,2,    0.01,2,    0.82,2,   3.157,2,   1.783,2,-999.000,1,   1.6178,2,  -999.0,9, -999.00,9,-999.0000,9,  -999.00,-999.000,9,-999.0000,9, -999.00,9, -999.00,9,  -999.0,9,  -999.0,-999.000,9,-999.000,     -999.0,9, -999.00,9, -999.00,9, -999.00,9,     -999.0,9,  -999.0,9, 20130523,     2334,  29.9998,-136.4375,    34.0871,2,     -999.0,9,     -999.0,9,    11.0601,2,     -999.0,9,     -999.0,9,-999.0000, -999.00,-999.000
318M20130321,       P02E,     124,          1,         27,         27,2,20130523,       2150,    29.9997,  -136.4359,       4564,   267.2,   9.7247,  34.0252,2,  34.0268,2,    209.8,2,   210.6,2,   17.38,2,   15.59,2,    0.01,2,    1.12,2,   3.260,2,   1.815,2,-999.000,1,   1.5473,2,  2113.2,2,  2252.4,2,   7.7284,2,       25,-999.000,9,-999.0000,9, -999.00,9, -999.00,9,  -999.0,9,  -999.0,-999.000,9,-999.000,     -999.0,9, -999.00,9, -999.00,9, -999.00,9,     -999.0,9,  -999.0,9, 20130523,     2332,  29.9998,-136.4376,    34.1873,2,     -999.0,9,     -999.0,9,     9.7226,2,     -999.0,9,     -999.0,9,-999.0000, -999.00,-999.000
318M20130321,       P02E,     124,          1,         26,         26,2,20130523,       2150,    29.9997,  -136.4359,       4564,   317.1,   8.8399,  34.0213,2,  34.0227,2,      194,2,     193,2,   24.41,2,   19.49,2,       0,2,     1.4,2,   3.253,2,   1.771,2,-999.000,1,   1.2985,2,  -999.0,9, -999.00,9,-999.0000,9,  -999.00,-999.000,9,-999.0000,9, -999.00,9, -999.00,9,  -999.0,9,  -999.0,-999.000,9,-999.000,     -999.0,9, -999.00,9, -999.00,9, -999.00,9,     -999.0,9,  -999.0,9, 20130523,     2330,  29.9998,-136.4375,    34.1831,2,     -999.0,9,     -999.0,9,     8.8392,2,     -999.0,9,     -999.0,9,-999.0000, -999.00,-999.000
318M20130321,       P02E,     124,          1,         25,         25,2,20130523,       2150,    29.9997,  -136.4359,       4564,   366.2,   8.0991,  33.9994,2,  34.0006,2,    173.1,2,   170.9,2,   31.64,2,   23.14,2,       0,2,    1.65,2,   3.123,2,   1.669,2,-999.000,1,    1.114,2,  2163.1,2,  2262.8,2,   7.6165,2,       25,-999.000,9,-999.0000,9, -999.00,9, -999.00,9,  -999.0,9,  -999.0,-999.000,9,-999.000,     -999.0,9, -999.00,9, -999.00,9, -999.00,9,     -999.0,9,  -999.0,9, 20130523,     2328,  29.9998,-136.4373,    34.1609,2,     -999.0,9,     -999.0,9,     8.0974,2,     -999.0,9,     -999.0,9,-999.0000, -999.00,-999.000
318M20130321,       P02E,     124,          1,         24,         24,2,20130523,       2150,    29.9997,  -136.4359,       4564,   437.4,      7.1,  33.9842,2,  33.9857,2,    123.3,2,   134.5,2,   44.24,2,   28.56,2,       0,2,    2.06,2,   2.743,2,   1.408,2,-999.000,1,   0.7607,2,  2204.1,2, 2272.11,2,   7.5236,2,       25,-999.000,9,-999.0000,9, -999.00,9, -999.00,9,  -999.0,9,  -999.0,-999.000,9,-999.000,     -999.0,9, -999.00,9, -999.00,9, -999.00,9,     -999.0,9,  -999.0,9, 20130523,     2326,  29.9999,-136.4371,    34.1459,2,     -999.0,9,     -999.0,9,     7.1036,2,     -999.0,9,     -999.0,9,-999.0000, -999.00,-999.000
318M20130321,       P02E,     124,          1,         23,         23,2,20130523,       2150,    29.9997,  -136.4359,       4564,   538.3,   5.7766,  34.0253,2,  34.0258,2,       68,2,    71.1,2,    66.8,2,   36.62,2,       0,2,    2.68,2,   1.703,2,   0.837,2,-999.000,1,   0.2768,2,  2268.6,2, 2290.11,2,   7.3753,2,       25,-999.000,9,-999.0000,9, -999.00,9, -999.00,9,  -999.0,9,  -999.0,-999.000,9,-999.000,     -999.0,9, -999.00,9, -999.00,9, -999.00,9,     -999.0,9,  -999.0,9, 20130523,     2323,       30, -136.437,    34.1863,2,     -999.0,9,     -999.0,9,     5.7778,2,     -999.0,9,     -999.0,9,-999.0000, -999.00,-999.000
318M20130321,       P02E,     124,          1,         22,         22,2,20130523,       2150,    29.9997,  -136.4359,       4564,   638.3,   4.8879,  34.1137,2,  34.1152,2,     36.7,2,    37.8,2,      87,2,   40.78,2,       0,2,       3,2,   0.753,2,   0.360,2,-999.000,1,   0.1309,2,  2310.3,2, 2311.72,2,    7.312,2,       25,-999.000,9,-999.0000,9, -999.00,9, -999.00,9,  -999.0,9,  -999.0,-999.000,9,-999.000,     -999.0,9, -999.00,9, -999.00,9, -999.00,9,     -999.0,9,  -999.0,9, 20130523,     2321,  30.0001,-136.4368,    34.2761,2,     -999.0,9,     -999.0,9,     4.8874,2,     -999.0,9,     -999.0,9,-999.0000, -999.00,-999.000
318M20130321,       P02E,     124,          1,         21,         21,2,20130523,       2150,    29.9997,  -136.4359,       4564,   739.3,   4.4636,  34.2427,2,  34.2448,2,     18.1,2,    16.4,2,  102.23,2,   42.79,2,       0,2,    3.17,2,   0.170,2,   0.086,2,-999.000,1,   0.0573,2,  2339.7,2, 2333.63,2,   7.2885,2,       25,-999.000,9,-999.0000,9, -999.00,9, -999.00,9,  -999.0,9,  -999.0,-999.000,9,-999.000,     -999.0,9, -999.00,9, -999.00,9, -999.00,9,     -999.0,9,  -999.0,9, 20130523,     2318,  30.0001,-136.4368,    34.4063,2,     -999.0,9,     -999.0,9,     4.4605,2,     -999.0,9,     -999.0,9,-999.0000, -999.00,-999.000
318M20130321,       P02E,     124,          1,         20,         20,2,20130523,       2150,    29.9997,  -136.4359,       4564,   840.1,     4.14,  34.3317,2,  34.3323,2,     13.5,2,    12.8,2,  112.47,2,   43.52,2,       0,2,    3.24,2,   0.045,2,   0.025,2,-999.000,1,        0,2,  2355.1,2, 2349.73,2,   7.2928,2,       25,-999.000,9,-999.0000,9, -999.00,9, -999.00,9,  -999.0,9,  -999.0,-999.000,9,-999.000,     -999.0,9, -999.00,9, -999.00,9, -999.00,9,     -999.0,9,  -999.0,9, 20130523,     2315,       30,-136.4369,    34.4942,2,     -999.0,9,     -999.0,9,     4.1418,2,     -999.0,9,     -999.0,9,-999.0000, -999.00,-999.000
318M20130321,       P02E,     124,          1,         19,         19,2,20130523,       2150,    29.9997,  -136.4359,       4564,     941,   3.8798,  34.3995,2,  34.4012,2,     17.5,2,    17.7,2,  118.91,2,   43.62,2,       0,2,    3.22,2,   0.025,2,   0.014,2,-999.000,1,        0,2,  2361.5,2, 2362.64,2,   7.3108,2,       25,-999.000,9,-999.0000,9, -999.00,9, -999.00,9,  -999.0,9,  -999.0,-999.000,9,-999.000,     -999.0,9, -999.00,9, -999.00,9, -999.00,9,     -999.0,9,  -999.0,9, 20130523,     2313,  30.0001,-136.4369,    34.5634,2,     -999.0,9,     -999.0,9,     3.8795,2,     -999.0,9,     -999.0,9,-999.0000, -999.00,-999.000
318M20130321,       P02E,     124,          1,         18,         18,2,20130523,       2150,    29.9997,  -136.4359,       4564,  1043.7,   3.6228,   34.447,2,  34.4481,2,     23.7,2,    24.1,2,  125.06,2,   43.57,2,       0,2,    3.21,2,   0.014,2,   0.009,2,-999.000,1,        0,2,  -999.0,9, -999.00,9,-999.0000,9,  -999.00,-999.000,9,-999.0000,9, -999.00,9, -999.00,9,  -999.0,9,  -999.0,-999.000,9,-999.000,     -999.0,9, -999.00,9, -999.00,9, -999.00,9,     -999.0,9,  -999.0,9, 20130523,     2310,  30.0001,-136.4368,    34.6105,2,     -999.0,9,     -999.0,9,     3.6232,2,     -999.0,9,     -999.0,9,-999.0000, -999.00,-999.000
318M20130321,       P02E,     124,          1,         17,         17,2,20130523,       2150,    29.9997,  -136.4359,       4564,  1144.9,   3.3935,  34.4803,2,  34.4809,2,     29.4,2,    29.7,2,  130.23,2,   43.33,2,       0,2,    3.17,2,   0.010,2,   0.009,2,-999.000,1,        0,2,    2367,2, 2379.75,2,   7.3411,2,       25,-999.000,9,-999.0000,9, -999.00,9, -999.00,9,  -999.0,9,  -999.0,-999.000,9,-999.000,     -999.0,9, -999.00,9, -999.00,9, -999.00,9,     -999.0,9,  -999.0,9, 20130523,     2307,  30.0002,-136.4368,    34.6435,2,     -999.0,9,     -999.0,9,     3.3939,2,     -999.0,9,     -999.0,9,-999.0000, -999.00,-999.000
318M20130321,       P02E,     124,          1,         16,         16,2,20130523,       2150,    29.9997,  -136.4359,       4564,    1247,   3.2117,  34.5098,2,  34.5115,2,     38.1,2,    40.1,2,  134.32,2,   42.97,2,       0,2,    3.14,2,   0.010,2,   0.007,2,-999.000,1,        0,2,  -999.0,9, -999.00,9,-999.0000,9,  -999.00,-999.000,9,-999.0000,9, -999.00,9, -999.00,9,  -999.0,9,  -999.0,-999.000,9,-999.000,     -999.0,9, -999.00,9, -999.00,9, -999.00,9,     -999.0,9,  -999.0,9, 20130523,     2305,  30.0003,-136.4369,    34.6742,2,     -999.0,9,     -999.0,9,     3.2113,2,     -999.0,9,     -999.0,9,-999.0000, -999.00,-999.000
318M20130321,       P02E,     124,          1,         15,         15,2,20130523,       2150,    29.9997,  -136.4359,       4564,  1348.7,   3.0028,  34.5348,2,  34.5356,2,     45.1,2,      47,2,  138.81,2,   42.56,2,       0,2,     3.1,2,   0.006,6,   0.004,6,-999.000,1,        0,6,    2368,2, 2391.75,2,   7.3774,6,       25,-999.000,9,-999.0000,9, -999.00,9, -999.00,9,  -999.0,9,  -999.0,-999.000,9,-999.000,     -999.0,9, -999.00,9, -999.00,9, -999.00,9,     -999.0,9,  -999.0,9, 20130523,     2302,  30.0003,-136.4369,    34.6985,2,     -999.0,9,     -999.0,9,      3.003,2,     -999.0,9,     -999.0,9,-999.0000, -999.00,-999.000
318M20130321,       P02E,     124,          1,         14,         14,2,20130523,       2150,    29.9997,  -136.4359,       4564,  1478.2,    2.775,  34.5556,2,  34.5567,2,     52.7,2,    54.8,2,  144.76,2,   42.21,2,       0,2,    3.07,2,   0.007,2,   0.004,2,-999.000,1,        0,2,  -999.0,9, -999.00,9,-999.0000,9,  -999.00,-999.000,9,-999.0000,9, -999.00,9, -999.00,9,  -999.0,9,  -999.0,-999.000,9,-999.000,     -999.0,9, -999.00,9, -999.00,9, -999.00,9,     -999.0,9,  -999.0,9, 20130523,     2258,  30.0004, -136.437,    34.7196,2,     -999.0,9,     -999.0,9,     2.7763,2,     -999.0,9,     -999.0,9,-999.0000, -999.00,-999.000
318M20130321,       P02E,     124,          1,         13,         13,2,20130523,       2150,    29.9997,  -136.4359,       4564,  1680.7,   2.4403,  34.5811,2,  34.5846,2,     62.1,2,    61.3,2,  153.84,2,    41.8,2,       0,2,    3.02,2,   0.003,2,   0.002,2,-999.000,1,        0,2,  2373.2,2, 2407.56,2,   7.4067,2,       25,-999.000,9,-999.0000,9, -999.00,9, -999.00,9,  -999.0,9,  -999.0,-999.000,9,-999.000,     -999.0,9, -999.00,9, -999.00,9, -999.00,9,     -999.0,9,  -999.0,9, 20130523,     2254,  30.0003,-136.4371,    34.7476,2,     -999.0,9,     -999.0,9,     2.4398,2,     -999.0,9,     -999.0,9,-999.0000, -999.00,-999.000
318M20130321,       P02E,     124,          1,         12,         12,2,20130523,       2150,    29.9997,  -136.4359,       4564,  1877.7,   2.1852,  34.6018,2,  34.6028,2,       71,2,    70.9,2,  161.35,2,   41.31,2,       0,2,    2.99,2,   0.004,2,   0.003,2,-999.000,1,        0,2,  2372.8,2, 2413.46,2,   7.4254,2,       25,-999.000,9,-999.0000,9, -999.00,9, -999.00,9,  -999.0,9,  -999.0,-999.000,9,-999.000,     -999.0,9, -999.00,9, -999.00,9, -999.00,9,     -999.0,9,  -999.0,9, 20130523,     2249,  30.0001,-136.4373,     34.766,2,     -999.0,9,     -999.0,9,     2.1856,2,     -999.0,9,     -999.0,9,-999.0000, -999.00,-999.000
318M20130321,       P02E,     124,          1,         11,         11,2,20130523,       2150,    29.9997,  -136.4359,       4564,  2103.4,   1.9395,  34.6241,2,  34.6252,2,     81.9,2,    82.4,2,   167.5,2,   40.54,2,       0,2,     2.9,2,   0.004,2,   0.002,2,-999.000,1,        0,2,  2372.4,6, 2420.86,2,   7.4494,2,       25,-999.000,9,-999.0000,9, -999.00,9, -999.00,9,  -999.0,9,  -999.0,-999.000,9,-999.000,     -999.0,9, -999.00,9, -999.00,9, -999.00,9,     -999.0,9,  -999.0,9, 20130523,     2244,  30.0001,-136.4371,    34.7885,2,     -999.0,9,     -999.0,9,     1.9393,2,     -999.0,9,     -999.0,9,-999.0000, -999.00,-999.000
318M20130321,       P02E,     124,          1,         10,         10,2,20130523,       2150,    29.9997,  -136.4359,       4564,  2359.7,    1.799,  34.6386,2,  34.6396,2,     94.2,2,    92.6,2,  169.84,2,   39.92,2,       0,2,    2.85,2,   0.006,2,   0.002,2,-999.000,1,        0,2,  -999.0,9, -999.00,9,-999.0000,9,  -999.00,-999.000,9,-999.0000,9, -999.00,9, -999.00,9,  -999.0,9,  -999.0,-999.000,9,-999.000,     -999.0,9, -999.00,9, -999.00,9, -999.00,9,     -999.0,9,  -999.0,9, 20130523,     2238,  30.0001, -136.437,    34.8029,2,     -999.0,9,     -999.0,9,      1.799,2,     -999.0,9,     -999.0,9,-999.0000, -999.00,-999.000
318M20130321,       P02E,     124,          1,          9,          9,2,20130523,       2150,    29.9997,  -136.4359,       4564,  2614.3,   1.6894,  34.6504,2,  34.6515,2,    104.4,2,   103.7,2,  170.52,2,   39.29,2,       0,2,    2.78,2,   0.004,2,   0.003,2,-999.000,1,        0,2,  2363.1,2, 2425.26,2,   7.4897,2,       25,-999.000,9,-999.0000,9, -999.00,9, -999.00,9,  -999.0,9,  -999.0,-999.000,9,-999.000,     -999.0,9, -999.00,9, -999.00,9, -999.00,9,     -999.0,9,  -999.0,9, 20130523,     2232,       30,-136.4371,    34.8149,2,     -999.0,9,     -999.0,9,     1.6895,2,     -999.0,9,     -999.0,9,-999.0000, -999.00,-999.000
318M20130321,       P02E,     124,          1,          8,          8,2,20130523,       2150,    29.9997,  -136.4359,       4564,  2869.7,   1.5932,  34.6611,2,  34.6618,2,    115.1,2,   114.4,2,  169.74,2,   38.62,2,       0,2,    2.73,2,   0.004,2,   0.004,2,-999.000,1,        0,2,  -999.0,9, -999.00,9,-999.0000,9,  -999.00,-999.000,9,-999.0000,9, -999.00,9, -999.00,9,  -999.0,9,  -999.0,-999.000,9,-999.000,     -999.0,9, -999.00,9, -999.00,9, -999.00,9,     -999.0,9,  -999.0,9, 20130523,     2227,  30.0001, -136.437,    34.8252,2,     -999.0,9,     -999.0,9,     1.5929,2,     -999.0,9,     -999.0,9,-999.0000, -999.00,-999.000
318M20130321,       P02E,     124,          1,          7,          7,2,20130523,       2150,    29.9997,  -136.4359,       4564,  3139.9,   1.5272,  34.6697,2,  34.6708,2,    123.6,2,   124.1,2,  168.08,2,   37.95,2,       0,2,    2.65,2,   0.003,2,   0.002,2,-999.000,1,        0,2,  2348.4,2, 2426.66,6,   7.5286,2,       25,-999.000,9,-999.0000,9, -999.00,9, -999.00,9,  -999.0,9,  -999.0,-999.000,9,-999.000,     -999.0,9, -999.00,9, -999.00,9, -999.00,9,     -999.0,9,  -999.0,9, 20130523,     2221,  30.0001,-136.4364,    34.8343,2,     -999.0,9,     -999.0,9,     1.5269,2,     -999.0,9,     -999.0,9,-999.0000, -999.00,-999.000
318M20130321,       P02E,     124,          1,          6,          6,2,20130523,       2150,    29.9997,  -136.4359,       4564,  3448.6,   1.4841,  34.6772,2,  34.6791,2,    133.9,2,   134.3,2,  165.44,2,   37.32,2,       0,2,    2.62,2,   0.005,2,   0.006,2,-999.000,1,   0.0437,2,  -999.0,9, -999.00,9,-999.0000,9,  -999.00,-999.000,9,-999.0000,9, -999.00,9, -999.00,9,  -999.0,9,  -999.0,-999.000,9,-999.000,     -999.0,9, -999.00,9, -999.00,9, -999.00,9,     -999.0,9,  -999.0,9, 20130523,     2215,  29.9996,-136.4357,    34.8426,2,     -999.0,9,     -999.0,9,     1.4836,2,     -999.0,9,     -999.0,9,-999.0000, -999.00,-999.000