BOTTLE,20220817CCHSIOAMB
EXPOCODE,SECT_ID,STNNBR,CASTNO,SAMPNO,BTLNBR,BTLNBR_FLAG_W,DATE,TIME,LATITUDE,LONGITUDE,DEPTH,CTDPRS,CTDTMP,CTDSAL,CTDSAL_FLAG_W,SALNTY,SALNTY_FLAG_W,CTDOXY,CTDOXY_FLAG_W,OXYGEN,OXYGEN_FLAG_W,SILCAT,SILCAT_FLAG_W,NITRAT,NITRAT_FLAG_W,NITRIT,NITRIT_FLAG_W,PHSPHT,PHSPHT_FLAG_W,CFC-11,CFC-11_FLAG_W,CFC-12,CFC-12_FLAG_W,CFC113,CFC113_FLAG_W,SF6,SF6_FLAG_W,TCARBN,TCARBN_FLAG_W,ALKALI,ALKALI_FLAG_W,PH_TOT,PH_TOT_FLAG_W,PH_TMP,TRITUM,TRITUM_FLAG_W,HELIUM,HELIUM_FLAG_W,DELHE3,DELHE3_FLAG_W,DELC13,DELC13_FLAG_W,DELC14,DELC14_FLAG_W,C14ERR,NEON,NEON_FLAG_W,NEONER,I-129,I-129_FLAG_W,SR-90,SR-90_FLAG_W,DOC,DOC_FLAG_W,TDN,TDN_FLAG_W,CALCIUM,CALCIUM_FLAG_W,D15N_NO3,D15N_NO3_FLAG_W,BTL_DATE,BTL_TIME,BTL_LAT,BTL_LON,SALTREF,SALTREF_FLAG_W,CS-137,CS-137_FLAG_W,CS-134,CS-134_FLAG_W,REFTMP,REFTMP_FLAG_W,LAB_DEN,LAB_DEN_FLAG_W,D18O_NO3,D18O_NO3_FLAG_W,HELIER,DELHER,TRITER
,,,,,,,,,,,METERS,DBAR,ITS-90,PSS-78,,PSS-78,,UMOL/KG,,UMOL/KG,,UMOL/KG,,UMOL/KG,,UMOL/KG,,UMOL/KG,,PMOL/KG,,PMOL/KG,,PMOL/KG,,FMOL/KG,,UMOL/KG,,UMOL/KG,,,,DEG C,TU,,NMOL/KG,,PERCNT,,/MILLE,,/MILLE,,/MILLE,NMOL/KG,,NMOL/KG,BQ/M^3,,DM/.1MG,,UMOL/KG,,UMOL/KG,,MMOL/KG,,/MILLE,,,,,,G/KG,,BQ/M^3,,BQ/M^3,,ITS-90,,,,/MILLE,,NMOL/KG,PERCNT,TU
318M20130321,       P02W,      24,          1,          7,          7,2,20130411,       1726,    29.9994,   140.5257,       2489,  1751.5,    2.228,  34.5554,2,  34.5559,2,       74,2,    73.7,2,  153.26,2,   40.69,2,       0,2,    2.91,2,   0.032,2,   0.034,2,   0.000,2,     0.05,2,  2360.2,2, 2400.65,2,   7.4214,2,       25,-999.000,9,-999.0000,9, -999.00,9, -999.00,9,  -999.0,9,  -999.0,-999.000,9,-999.000,     -999.0,9, -999.00,9, -999.00,9, -999.00,9,     -999.0,9,  -999.0,9, 20130411,     1751,  30.0001,  140.524,    34.7189,2,     -999.0,9,     -999.0,9,     2.2276,2,     -999.0,9,     -999.0,9,-999.0000, -999.00,-999.000
318M20130321,       P02W,      24,          1,          6,          6,2,20130411,       1726,    29.9994,   140.5257,       2489,  1850.3,   2.1586,  34.5667,2,  34.5663,2,     78.2,2,    79.3,2,  153.55,2,   40.57,2,       0,2,     2.9,2,-999.000,9,-999.000,9,-999.000,9,-999.0000,9,  -999.0,9, -999.00,9,-999.0000,9,  -999.00,-999.000,9,-999.0000,9, -999.00,9, -999.00,9,  -999.0,9,  -999.0,-999.000,9,-999.000,     -999.0,9, -999.00,9, -999.00,9, -999.00,9,     -999.0,9,  -999.0,9, 20130411,     1747,  30.0001, 140.5244,    34.7293,2,     -999.0,9,     -999.0,9,     2.1582,2,     -999.0,9,     -999.0,9,-999.0000, -999.00,-999.000
318M20130321,       P02W,      24,          1,          5,         37,2,20130411,       1726,    29.9994,   140.5257,       2489,  1952.8,    2.043,  34.5845,2,  34.5846,2,     84.7,2,    83.7,2,   155.3,2,    40.3,2,       0,2,    2.86,2,   0.018,2,   0.025,2,   0.002,2,     0.07,2,  2358.8,2, 2404.05,2,   7.4406,2,       25,-999.000,9,-999.0000,9, -999.00,9, -999.00,9,  -999.0,9,  -999.0,-999.000,9,-999.000,     -999.0,9, -999.00,9, -999.00,9, -999.00,9,     -999.0,9,  -999.0,9, 20130411,     1743,  29.9999, 140.5249,    34.7477,2,     -999.0,9,     -999.0,9,     2.0426,2,     -999.0,9,     -999.0,9,-999.0000, -999.00,-999.000
318M20130321,       P02W,      24,          1,          4,          4,2,20130411,       1726,    29.9994,   140.5257,       2489,  2083.8,   1.9203,  34.6045,2,   34.604,2,     89.9,2,      91,2,  155.59,2,    39.2,2,       0,2,    2.77,2,-999.000,9,-999.000,9,-999.000,9,-999.0000,9,  -999.0,9, -999.00,9,-999.0000,9,  -999.00,-999.000,9,-999.0000,9, -999.00,9, -999.00,9,  -999.0,9,  -999.0,-999.000,9,-999.000,     -999.0,9, -999.00,9, -999.00,9, -999.00,9,     -999.0,9,  -999.0,9, 20130411,     1738,  29.9996, 140.5253,    34.7672,2,     -999.0,9,     -999.0,9,     1.9205,2,     -999.0,9,     -999.0,9,-999.0000, -999.00,-999.000
318M20130321,       P02W,      24,          1,          3,          3,2,20130411,       1726,    29.9994,   140.5257,       2489,  2288.1,   1.8119,  34.6221,2,  34.6221,2,    102.9,2,   103.1,2,  156.08,2,   39.23,2,       0,2,    2.77,2,   0.023,2,   0.036,2,   0.007,2,     0.13,2,  2351.4,2, 2408.26,6,   7.4794,2,       25,-999.000,9,-999.0000,9, -999.00,9, -999.00,9,  -999.0,9,  -999.0,-999.000,9,-999.000,     -999.0,9, -999.00,9, -999.00,9, -999.00,9,     -999.0,9,  -999.0,9, 20130411,     1733,  29.9996, 140.5256,    34.7853,2,     -999.0,9,     -999.0,9,     1.8117,2,     -999.0,9,     -999.0,9,-999.0000, -999.00,-999.000
318M20130321,       P02W,      24,          1,          2,          2,2,20130411,       1726,    29.9994,   140.5257,       2489,  2420.8,   1.7202,  34.6358,2,   34.637,2,    111.4,2,   111.9,2,  155.59,2,   38.67,2,       0,2,    2.74,2,-999.000,9,-999.000,9,-999.000,9,-999.0000,9,  2346.4,2, 2411.96,2,   7.4947,6,       25,-999.000,9,-999.0000,9, -999.00,9, -999.00,9,  -999.0,9,  -999.0,-999.000,9,-999.000,     -999.0,9, -999.00,9, -999.00,9, -999.00,9,     -999.0,9,  -999.0,9, 20130411,     1729,  29.9995, 140.5256,    34.8003,2,     -999.0,9,     -999.0,9,     1.7198,2,     -999.0,9,     -999.0,9,-999.0000, -999.00,-999.000
318M20130321,       P02W,      24,          1,          1,          1,2,20130411,       1726,    29.9994,   140.5257,       2489,  2508.5,   1.6634,  34.6439,2,  34.6443,2,    117.6,2,   117.5,2,     155,2,   38.31,2,       0,2,     2.7,2,   0.036,2,   0.038,2,   0.014,2,     0.15,2,  2345.9,6, 2413.36,2,   7.5063,2,       25,-999.000,9,-999.0000,9, -999.00,9, -999.00,9,  -999.0,9,  -999.0,-999.000,9,-999.000,     -999.0,9, -999.00,9, -999.00,9, -999.00,9,     -999.0,9,  -999.0,9, 20130411,     1725,  29.9994, 140.5258,    34.8076,2,     -999.0,9,     -999.0,9,     1.6633,2,     -999.0,9,     -999.0,9,-999.0000, -999.00,-999.000