BOTTLE,20220817CCHSIOAMB
EXPOCODE,SECT_ID,STNNBR,CASTNO,SAMPNO,BTLNBR,BTLNBR_FLAG_W,DATE,TIME,LATITUDE,LONGITUDE,DEPTH,CTDPRS,CTDTMP,CTDSAL,CTDSAL_FLAG_W,SALNTY,SALNTY_FLAG_W,CTDOXY,CTDOXY_FLAG_W,OXYGEN,OXYGEN_FLAG_W,SILCAT,SILCAT_FLAG_W,NITRAT,NITRAT_FLAG_W,NITRIT,NITRIT_FLAG_W,PHSPHT,PHSPHT_FLAG_W,CFC-11,CFC-11_FLAG_W,CFC-12,CFC-12_FLAG_W,CFC113,CFC113_FLAG_W,SF6,SF6_FLAG_W,TCARBN,TCARBN_FLAG_W,ALKALI,ALKALI_FLAG_W,PH_TOT,PH_TOT_FLAG_W,PH_TMP,TRITUM,TRITUM_FLAG_W,HELIUM,HELIUM_FLAG_W,DELHE3,DELHE3_FLAG_W,DELC13,DELC13_FLAG_W,DELC14,DELC14_FLAG_W,C14ERR,NEON,NEON_FLAG_W,NEONER,I-129,I-129_FLAG_W,SR-90,SR-90_FLAG_W,DOC,DOC_FLAG_W,TDN,TDN_FLAG_W,CALCIUM,CALCIUM_FLAG_W,D15N_NO3,D15N_NO3_FLAG_W,BTL_DATE,BTL_TIME,BTL_LAT,BTL_LON,SALTREF,SALTREF_FLAG_W,CS-137,CS-137_FLAG_W,CS-134,CS-134_FLAG_W,REFTMP,REFTMP_FLAG_W,LAB_DEN,LAB_DEN_FLAG_W,D18O_NO3,D18O_NO3_FLAG_W,HELIER,DELHER,TRITER
,,,,,,,,,,,METERS,DBAR,ITS-90,PSS-78,,PSS-78,,UMOL/KG,,UMOL/KG,,UMOL/KG,,UMOL/KG,,UMOL/KG,,UMOL/KG,,PMOL/KG,,PMOL/KG,,PMOL/KG,,FMOL/KG,,UMOL/KG,,UMOL/KG,,,,DEG C,TU,,NMOL/KG,,PERCNT,,/MILLE,,/MILLE,,/MILLE,NMOL/KG,,NMOL/KG,BQ/M^3,,DM/.1MG,,UMOL/KG,,UMOL/KG,,MMOL/KG,,/MILLE,,,,,,G/KG,,BQ/M^3,,BQ/M^3,,ITS-90,,,,/MILLE,,NMOL/KG,PERCNT,TU
318M20130321,       P02E,     139,          1,          5,         37,2,20130528,       0908,    30.0002,  -124.9149,       4245,    3550,   1.5189,   34.677,2,  34.6777,2,    131.2,2,   130.3,2,  168.86,2,   37.64,2,       0,2,    2.65,2,   0.007,2,   0.008,2,-999.000,1,        0,2,  2345.6,2, 2429.36,2,   7.5428,6,       25,-999.000,9,-999.0000,9, -999.00,9, -999.00,9,  -999.0,9,  -999.0,-999.000,9,-999.000,     -999.0,9, -999.00,9,   36.24,2, -999.00,9,     -999.0,9,  -999.0,9, 20130528,      927,  30.0001,-124.9147,    34.8412,2,     -999.0,9,     -999.0,9,     1.5188,2,     -999.0,9,     -999.0,9,-999.0000, -999.00,-999.000
318M20130321,       P02E,     139,          1,          4,          4,2,20130528,       0908,    30.0002,  -124.9149,       4245,  3857.4,   1.5107,  34.6809,2,  34.6804,2,      135,2,   135.8,2,  167.49,2,   37.33,2,       0,2,    2.62,2,   0.008,2,   0.011,2,-999.000,1,        0,2,  -999.0,9, -999.00,9,-999.0000,9,  -999.00,-999.000,9,-999.0000,9, -999.00,9, -999.00,9,  -999.0,9,  -999.0,-999.000,9,-999.000,     -999.0,9, -999.00,9,   36.65,2, -999.00,9,     -999.0,9,  -999.0,9, 20130528,      920,  30.0003,-124.9147,     34.844,2,     -999.0,9,     -999.0,9,     1.5106,2,     -999.0,9,     -999.0,9,-999.0000, -999.00,-999.000
318M20130321,       P02E,     139,          1,          3,          3,2,20130528,       0908,    30.0002,  -124.9149,       4245,  4165.4,   1.5288,  34.6823,2,   34.683,2,    137.7,2,   137.8,2,   167.2,2,   37.18,2,       0,2,    2.61,2,   0.006,2,   0.013,2,-999.000,1,        0,2,  2342.2,2, 2427.96,2,   7.5562,2,       25,-999.000,9,-999.0000,9, -999.00,9, -999.00,9,  -999.0,9,  -999.0,-999.000,9,-999.000,     -999.0,9, -999.00,9,   35.24,2, -999.00,9,     -999.0,9,  -999.0,9, 20130528,      913,  30.0004, -124.915,    34.8465,2,     -999.0,9,     -999.0,9,     1.5291,2,     -999.0,9,     -999.0,9,-999.0000, -999.00,-999.000
318M20130321,       P02E,     139,          1,          2,          2,2,20130528,       0908,    30.0002,  -124.9149,       4245,  4366.3,   1.5421,  34.6831,2,  34.6834,2,    139.4,2,   139.3,2,  166.22,2,   37.03,2,       0,2,    2.62,2,   0.008,2,   0.012,2,-999.000,1,        0,2,    2341,6, 2430.26,2,    7.561,2,       25,-999.000,9,-999.0000,9, -999.00,9, -999.00,9,  -999.0,9,  -999.0,-999.000,9,-999.000,     -999.0,9, -999.00,9,   37.41,2, -999.00,9,     -999.0,9,  -999.0,9, 20130528,      908,  30.0002,-124.9149,    34.8469,2,     -999.0,9,     -999.0,9,     1.5424,2,     -999.0,9,     -999.0,9,-999.0000, -999.00,-999.000