BOTTLE,20220817CCHSIOAMB
EXPOCODE,SECT_ID,STNNBR,CASTNO,SAMPNO,BTLNBR,BTLNBR_FLAG_W,DATE,TIME,LATITUDE,LONGITUDE,DEPTH,CTDPRS,CTDTMP,CTDSAL,CTDSAL_FLAG_W,SALNTY,SALNTY_FLAG_W,CTDOXY,CTDOXY_FLAG_W,OXYGEN,OXYGEN_FLAG_W,SILCAT,SILCAT_FLAG_W,NITRAT,NITRAT_FLAG_W,NITRIT,NITRIT_FLAG_W,PHSPHT,PHSPHT_FLAG_W,CFC-11,CFC-11_FLAG_W,CFC-12,CFC-12_FLAG_W,CFC113,CFC113_FLAG_W,SF6,SF6_FLAG_W,TCARBN,TCARBN_FLAG_W,ALKALI,ALKALI_FLAG_W,PH_TOT,PH_TOT_FLAG_W,PH_TMP,TRITUM,TRITUM_FLAG_W,HELIUM,HELIUM_FLAG_W,DELHE3,DELHE3_FLAG_W,DELC13,DELC13_FLAG_W,DELC14,DELC14_FLAG_W,C14ERR,NEON,NEON_FLAG_W,NEONER,I-129,I-129_FLAG_W,SR-90,SR-90_FLAG_W,DOC,DOC_FLAG_W,TDN,TDN_FLAG_W,CALCIUM,CALCIUM_FLAG_W,D15N_NO3,D15N_NO3_FLAG_W,BTL_DATE,BTL_TIME,BTL_LAT,BTL_LON,SALTREF,SALTREF_FLAG_W,CS-137,CS-137_FLAG_W,CS-134,CS-134_FLAG_W,REFTMP,REFTMP_FLAG_W,LAB_DEN,LAB_DEN_FLAG_W,D18O_NO3,D18O_NO3_FLAG_W,HELIER,DELHER,TRITER
,,,,,,,,,,,METERS,DBAR,ITS-90,PSS-78,,PSS-78,,UMOL/KG,,UMOL/KG,,UMOL/KG,,UMOL/KG,,UMOL/KG,,UMOL/KG,,PMOL/KG,,PMOL/KG,,PMOL/KG,,FMOL/KG,,UMOL/KG,,UMOL/KG,,,,DEG C,TU,,NMOL/KG,,PERCNT,,/MILLE,,/MILLE,,/MILLE,NMOL/KG,,NMOL/KG,BQ/M^3,,DM/.1MG,,UMOL/KG,,UMOL/KG,,MMOL/KG,,/MILLE,,,,,,G/KG,,BQ/M^3,,BQ/M^3,,ITS-90,,,,/MILLE,,NMOL/KG,PERCNT,TU
318M20130321,       P02W,       7,          1,          7,          7,2,20130323,       1801,    31.8805,   133.5805,       2971,    1967,    2.086,  34.5888,2,  34.5883,2,    100.5,2,   100.7,2,  146.62,2,   38.88,2,       0,2,    2.75,2,   0.042,2,   0.022,2,   0.014,2,        0,2,    2352,2, 2404.06,2,   7.4751,2,       25,-999.000,9,-999.0000,9, -999.00,9,   -0.12,2,  -225.8,2,     2.0,-999.000,9,-999.000,     -999.0,9, -999.00,9,   36.39,2, -999.00,9,     -999.0,9,  -999.0,9, 20130323,     1826,  31.8815, 133.5853,    34.7514,2,     -999.0,9,     -999.0,9,     2.0859,2,     -999.0,9,     -999.0,9,-999.0000, -999.00,-999.000
318M20130321,       P02W,       7,          1,          6,          6,2,20130323,       1801,    31.8805,   133.5805,       2971,    2170,   1.9324,  34.6123,2,  34.6117,2,    111.1,2,     112,2,  146.22,2,   38.17,2,       0,2,     2.7,2,-999.000,9,-999.000,9,-999.000,9,-999.0000,9,  -999.0,9, -999.00,9,-999.0000,9,  -999.00,-999.000,9,-999.0000,9, -999.00,9,   -0.04,2,  -224.2,2,     1.9,-999.000,9,-999.000,     -999.0,9, -999.00,9, -999.00,9, -999.00,9,     -999.0,9,  -999.0,9, 20130323,     1822,  31.8815, 133.5845,    34.7749,2,     -999.0,9,     -999.0,9,     1.9324,2,     -999.0,9,     -999.0,9,-999.0000, -999.00,-999.000
318M20130321,       P02W,       7,          1,          5,          5,2,20130323,       1801,    31.8805,   133.5805,       2971,  2372.9,   1.8476,   34.626,2,  34.6252,2,    120.2,2,   119.5,2,  145.73,2,   37.77,2,       0,2,    2.66,2,   0.038,2,   0.017,2,   0.015,2,        0,2,  2341.6,2, 2408.66,2,   7.5119,2,       25,-999.000,9,-999.0000,9, -999.00,9,    0.00,2,  -224.1,2,     2.0,-999.000,9,-999.000,     -999.0,9, -999.00,9,   35.03,2, -999.00,9,     -999.0,9,  -999.0,9, 20130323,     1817,  31.8814, 133.5836,    34.7885,2,     -999.0,9,     -999.0,9,     1.8476,2,     -999.0,9,     -999.0,9,-999.0000, -999.00,-999.000
318M20130321,       P02W,       7,          1,          4,          4,2,20130323,       1801,    31.8805,   133.5805,       2971,  2575.8,   1.7163,  34.6446,2,   34.646,2,    130.6,2,   130.1,2,  144.85,2,   37.06,2,       0,2,    2.61,2,-999.000,9,-999.000,9,-999.000,9,-999.0000,9,  -999.0,9, -999.00,9,-999.0000,9,  -999.00,-999.000,9,-999.0000,9, -999.00,9,    0.05,2,  -223.1,2,     2.0,-999.000,9,-999.000,     -999.0,9, -999.00,9, -999.00,9, -999.00,9,     -999.0,9,  -999.0,9, 20130323,     1812,  31.8813, 133.5828,    34.8094,2,     -999.0,9,     -999.0,9,     1.7173,2,     -999.0,9,     -999.0,9,-999.0000, -999.00,-999.000
318M20130321,       P02W,       7,          1,          3,          3,2,20130323,       1801,    31.8805,   133.5805,       2971,  2780.1,    1.641,  34.6556,2,  34.6563,2,    136.6,2,     137,2,  144.27,2,   36.67,2,       0,2,    2.58,2,   0.030,2,   0.015,2,   0.014,2,        0,2,  2332.3,2, 2411.66,6,   7.5429,2,       25,-999.000,9,-999.0000,9, -999.00,9,    0.12,2,  -223.1,2,     2.0,-999.000,9,-999.000,     -999.0,9, -999.00,9, -999.00,5, -999.00,9,     -999.0,9,  -999.0,9, 20130323,     1807,   31.881, 133.5819,    34.8197,2,     -999.0,9,     -999.0,9,     1.6404,2,     -999.0,9,     -999.0,9,-999.0000, -999.00,-999.000
318M20130321,       P02W,       7,          1,          2,          2,2,20130323,       1801,    31.8805,   133.5805,       2971,    2899,   1.6008,  34.6612,2,  34.6606,2,    140.6,2,   140.6,2,  143.87,2,   36.52,2,       0,2,    2.56,2,-999.000,9,-999.000,9,-999.000,9,-999.0000,9,  2330.9,2, 2412.06,2,   7.5506,6,       25,-999.000,9,-999.0000,9, -999.00,9,    0.12,2,  -219.5,2,     2.4,-999.000,9,-999.000,     -999.0,9, -999.00,9,   34.69,2, -999.00,9,     -999.0,9,  -999.0,9, 20130323,     1804,  31.8807, 133.5811,     34.824,2,     -999.0,9,     -999.0,9,     1.5994,2,     -999.0,9,     -999.0,9,-999.0000, -999.00,-999.000
318M20130321,       P02W,       7,          1,          1,          1,2,20130323,       1801,    31.8805,   133.5805,       2971,  3012.5,   1.5459,  34.6684,2,  34.6683,2,    146.3,2,   146.8,2,  143.19,2,   36.21,2,       0,2,    2.54,2,   0.050,2,   0.019,2,   0.015,2,        0,2,  2329.5,6, 2412.36,2,   7.5594,2,       25,-999.000,9,-999.0000,9, -999.00,9,    0.14,2,  -220.0,2,     2.0,-999.000,9,-999.000,     -999.0,9, -999.00,9,   35.12,2, -999.00,9,     -999.0,9,  -999.0,9, 20130323,     1800,  31.8804, 133.5804,    34.8317,2,     -999.0,9,     -999.0,9,     1.5458,2,     -999.0,9,     -999.0,9,-999.0000, -999.00,-999.000