BOTTLE,20220817CCHSIOAMB
EXPOCODE,SECT_ID,STNNBR,CASTNO,SAMPNO,BTLNBR,BTLNBR_FLAG_W,DATE,TIME,LATITUDE,LONGITUDE,DEPTH,CTDPRS,CTDTMP,CTDSAL,CTDSAL_FLAG_W,SALNTY,SALNTY_FLAG_W,CTDOXY,CTDOXY_FLAG_W,OXYGEN,OXYGEN_FLAG_W,SILCAT,SILCAT_FLAG_W,NITRAT,NITRAT_FLAG_W,NITRIT,NITRIT_FLAG_W,PHSPHT,PHSPHT_FLAG_W,CFC-11,CFC-11_FLAG_W,CFC-12,CFC-12_FLAG_W,CFC113,CFC113_FLAG_W,SF6,SF6_FLAG_W,TCARBN,TCARBN_FLAG_W,ALKALI,ALKALI_FLAG_W,PH_TOT,PH_TOT_FLAG_W,PH_TMP,TRITUM,TRITUM_FLAG_W,HELIUM,HELIUM_FLAG_W,DELHE3,DELHE3_FLAG_W,DELC13,DELC13_FLAG_W,DELC14,DELC14_FLAG_W,C14ERR,NEON,NEON_FLAG_W,NEONER,I-129,I-129_FLAG_W,SR-90,SR-90_FLAG_W,DOC,DOC_FLAG_W,TDN,TDN_FLAG_W,CALCIUM,CALCIUM_FLAG_W,D15N_NO3,D15N_NO3_FLAG_W,BTL_DATE,BTL_TIME,BTL_LAT,BTL_LON,SALTREF,SALTREF_FLAG_W,CS-137,CS-137_FLAG_W,CS-134,CS-134_FLAG_W,REFTMP,REFTMP_FLAG_W,LAB_DEN,LAB_DEN_FLAG_W,D18O_NO3,D18O_NO3_FLAG_W,HELIER,DELHER,TRITER
,,,,,,,,,,,METERS,DBAR,ITS-90,PSS-78,,PSS-78,,UMOL/KG,,UMOL/KG,,UMOL/KG,,UMOL/KG,,UMOL/KG,,UMOL/KG,,PMOL/KG,,PMOL/KG,,PMOL/KG,,FMOL/KG,,UMOL/KG,,UMOL/KG,,,,DEG C,TU,,NMOL/KG,,PERCNT,,/MILLE,,/MILLE,,/MILLE,NMOL/KG,,NMOL/KG,BQ/M^3,,DM/.1MG,,UMOL/KG,,UMOL/KG,,MMOL/KG,,/MILLE,,,,,,G/KG,,BQ/M^3,,BQ/M^3,,ITS-90,,,,/MILLE,,NMOL/KG,PERCNT,TU
318M20130321,       P02E,      90,          1,         36,         36,2,20130512,       1140,    29.9996,  -165.1653,       5360,     3.6,  18.2986,  34.7539,2,  34.7543,2,    236.7,2,   236.5,2,    2.44,2,       0,2,       0,2,    0.03,2,-999.000,9,-999.000,9,-999.000,9,-999.0000,9,  -999.0,9, -999.00,9,-999.0000,9,  -999.00,-999.000,9,-999.0000,9, -999.00,9, -999.00,9,  -999.0,9,  -999.0,-999.000,9,-999.000,     -999.0,9, -999.00,9, -999.00,9, -999.00,9,     -999.0,9,  -999.0,9, 20130512,     1405,  30.0002,-165.1659,    34.9182,2,     -999.0,9,     -999.0,9,    18.2982,2,     -999.0,9,     -999.0,9,-999.0000, -999.00,-999.000
318M20130321,       P02E,      90,          1,         34,         34,2,20130512,       1140,    29.9996,  -165.1653,       5360,    25.3,  18.2933,  34.7478,2,  34.7482,2,      237,2,   236.6,2,    2.34,2,       0,2,       0,2,    0.02,2,   2.181,2,   1.308,2,-999.000,5,   1.4307,2,  2013.6,2, 2280.41,2,    7.992,2,       25,-999.000,9,-999.0000,9, -999.00,9, -999.00,9,  -999.0,9,  -999.0,-999.000,9,-999.000,     -999.0,9, -999.00,9, -999.00,9, -999.00,9,     -999.0,9,  -999.0,9, 20130512,     1403,  30.0001,-165.1661,    34.9121,2,     -999.0,9,     -999.0,9,    18.2936,2,     -999.0,9,     -999.0,9,-999.0000, -999.00,-999.000
318M20130321,       P02E,      90,          1,         33,         33,2,20130512,       1140,    29.9996,  -165.1653,       5360,    50.5,  18.1637,  34.7311,2,  34.7262,2,    238.2,2,   237.4,2,    2.34,2,       0,2,       0,2,    0.02,2,   2.191,2,   1.310,2,-999.000,5,   1.5349,2,  2010.8,2, 2280.51,2,   7.9894,2,       25,-999.000,9,-999.0000,9, -999.00,9, -999.00,9,  -999.0,9,  -999.0,-999.000,9,-999.000,     -999.0,9, -999.00,9, -999.00,9, -999.00,9,     -999.0,9,  -999.0,9, 20130512,     1401,       30,-165.1663,      34.89,2,     -999.0,9,     -999.0,9,    18.1729,2,     -999.0,9,     -999.0,9,-999.0000, -999.00,-999.000
318M20130321,       P02E,      90,          1,         32,         32,2,20130512,       1140,    29.9996,  -165.1653,       5360,    75.5,  17.7832,  34.6721,2,  34.6741,2,    241.2,2,   238.6,2,    2.64,2,       0,2,       0,2,    0.04,2,   2.223,2,   1.322,2,-999.000,5,   1.4983,2,  2012.7,2, 2275.91,2,   7.9876,6,       25,-999.000,9,-999.0000,9, -999.00,9, -999.00,9,  -999.0,9,  -999.0,-999.000,9,-999.000,     -999.0,9, -999.00,9, -999.00,9, -999.00,9,     -999.0,9,  -999.0,9, 20130512,     1400,  29.9999,-165.1663,    34.8376,2,     -999.0,9,     -999.0,9,     17.778,2,     -999.0,9,     -999.0,9,-999.0000, -999.00,-999.000
318M20130321,       P02E,      90,          1,         31,         31,2,20130512,       1140,    29.9996,  -165.1653,       5360,   100.3,   17.476,  34.6403,2,  34.6421,2,    246.7,2,   238.6,3,    2.73,2,       0,2,       0,2,    0.06,2,   2.247,2,   1.346,2,-999.000,5,   1.4625,2,  -999.0,9, -999.00,9,-999.0000,9,  -999.00,-999.000,9,-999.0000,9, -999.00,9, -999.00,9,  -999.0,9,  -999.0,-999.000,9,-999.000,     -999.0,9, -999.00,9, -999.00,9, -999.00,9,     -999.0,9,  -999.0,9, 20130512,     1358,  29.9999,-165.1662,    34.8054,2,     -999.0,9,     -999.0,9,    17.4604,2,     -999.0,9,     -999.0,9,-999.0000, -999.00,-999.000
318M20130321,       P02E,      90,          1,         30,         30,2,20130512,       1140,    29.9996,  -165.1653,       5360,   151.3,  16.0939,  34.4919,2,  34.4924,2,    237.6,2,   239.1,2,    3.42,2,    0.26,2,    0.56,2,    0.14,2,   2.373,2,   1.417,2,-999.000,5,   1.5917,2,  2019.2,2, 2267.51,2,   7.9524,2,       25,-999.000,9,-999.0000,9, -999.00,9, -999.00,9,  -999.0,9,  -999.0,-999.000,9,-999.000,     -999.0,9, -999.00,9, -999.00,9, -999.00,9,     -999.0,9,  -999.0,9, 20130512,     1356,       30,-165.1662,    34.6551,2,     -999.0,9,     -999.0,9,    16.0946,2,     -999.0,9,     -999.0,9,-999.0000, -999.00,-999.000
318M20130321,       P02E,      90,          1,         29,         29,2,20130512,       1140,    29.9996,  -165.1653,       5360,   201.3,   15.133,   34.444,2,  34.4465,2,      230,2,   230.5,2,    5.27,2,    4.06,2,    0.01,2,    0.33,2,   2.498,2,   1.475,2,-999.000,5,   1.5767,2,  -999.0,9, -999.00,9,-999.0000,9,  -999.00,-999.000,9,-999.0000,9, -999.00,9, -999.00,9,  -999.0,9,  -999.0,-999.000,9,-999.000,     -999.0,9, -999.00,9, -999.00,9, -999.00,9,     -999.0,9,  -999.0,9, 20130512,     1354,  30.0001,-165.1661,    34.6089,2,     -999.0,9,     -999.0,9,    15.1198,2,     -999.0,9,     -999.0,9,-999.0000, -999.00,-999.000
318M20130321,       P02E,      90,          1,         28,         28,2,20130512,       1140,    29.9996,  -165.1653,       5360,   251.9,  14.0838,  34.4139,2,  34.4137,2,    218.3,2,   217.7,2,    8.01,2,     7.5,2,    0.01,2,    0.56,2,   2.615,2,   1.530,2,-999.000,5,   1.5418,2,  2058.2,2,  2263.4,2,   7.8713,6,       25,-999.000,9,-999.0000,9, -999.00,9, -999.00,9,  -999.0,9,  -999.0,-999.000,9,-999.000,     -999.0,9, -999.00,9, -999.00,9, -999.00,9,     -999.0,9,  -999.0,9, 20130512,     1352,  30.0002, -165.166,     34.576,2,     -999.0,9,     -999.0,9,    14.0744,2,     -999.0,9,     -999.0,9,-999.0000, -999.00,-999.000
318M20130321,       P02E,      90,          1,         27,         27,2,20130512,       1140,    29.9996,  -165.1653,       5360,   302.3,  12.7162,  34.3333,2,  34.3326,2,    215.4,2,   214.4,2,   11.13,2,    10.2,2,    0.01,2,    0.74,2,   2.822,2,   1.607,2,-999.000,5,   1.4198,2,  2077.4,2,  2262.3,6,   7.8292,2,       25,-999.000,9,-999.0000,9, -999.00,9, -999.00,9,  -999.0,9,  -999.0,-999.000,9,-999.000,     -999.0,9, -999.00,9, -999.00,9, -999.00,9,     -999.0,9,  -999.0,9, 20130512,     1349,  30.0003,-165.1659,    34.4945,2,     -999.0,9,     -999.0,9,    12.7103,2,     -999.0,9,     -999.0,9,-999.0000, -999.00,-999.000
318M20130321,       P02E,      90,          1,         26,         26,2,20130512,       1140,    29.9996,  -165.1653,       5360,   335.8,  12.0891,  34.2989,2,  34.2981,2,    214.9,2,     215,2,   12.89,2,   11.43,2,    0.01,2,    0.82,2,   2.891,2,   1.626,2,-999.000,5,   1.2846,2,  -999.0,9, -999.00,9,-999.0000,9,  -999.00,-999.000,9,-999.0000,9, -999.00,9, -999.00,9,  -999.0,9,  -999.0,-999.000,9,-999.000,     -999.0,9, -999.00,9, -999.00,9, -999.00,9,     -999.0,9,  -999.0,9, 20130512,     1347,  30.0004,-165.1659,    34.4598,2,     -999.0,9,     -999.0,9,    12.0862,2,     -999.0,9,     -999.0,9,-999.0000, -999.00,-999.000
318M20130321,       P02E,      90,          1,         25,         25,2,20130512,       1140,    29.9996,  -165.1653,       5360,   402.1,  10.8843,  34.2221,2,  34.2226,2,    210.3,2,   212.1,2,   17.18,2,      14,2,    0.01,2,       1,2,   2.992,2,   1.658,2,-999.000,5,    1.348,2,  2100.2,2,  2264.1,2,   7.7751,2,       25,-999.000,9,-999.0000,9, -999.00,9, -999.00,9,  -999.0,9,  -999.0,-999.000,9,-999.000,     -999.0,9, -999.00,9, -999.00,9, -999.00,9,     -999.0,9,  -999.0,9, 20130512,     1345,  30.0005,-165.1658,     34.384,2,     -999.0,9,     -999.0,9,    10.8815,2,     -999.0,9,     -999.0,9,-999.0000, -999.00,-999.000
318M20130321,       P02E,      90,          1,         24,         24,2,20130512,       1140,    29.9996,  -165.1653,       5360,   501.5,   8.7985,  34.0908,2,  34.0911,2,    187.2,2,   188.7,2,   29.59,2,    20.2,2,    0.01,2,    1.45,2,   2.968,2,   1.594,2,-999.000,5,   1.0211,2,  2143.6,2, 2267.61,2,   7.6825,2,       25,-999.000,9,-999.0000,9, -999.00,9, -999.00,9,  -999.0,9,  -999.0,-999.000,9,-999.000,     -999.0,9, -999.00,9, -999.00,9, -999.00,9,     -999.0,9,  -999.0,9, 20130512,     1341,  30.0004,-165.1658,    34.2518,2,     -999.0,9,     -999.0,9,     8.7984,2,     -999.0,9,     -999.0,9,-999.0000, -999.00,-999.000
318M20130321,       P02E,      90,          1,         23,         23,2,20130512,       1140,    29.9996,  -165.1653,       5360,   603.5,   6.6248,  34.0068,2,   34.007,2,      134,2,   132.8,2,   52.83,2,   29.39,2,       0,2,    2.11,2,   2.341,2,   1.214,2,-999.000,5,   0.5986,2,  2208.4,2, 2283.31,2,   7.5267,2,       25,-999.000,9,-999.0000,9, -999.00,9, -999.00,9,  -999.0,9,  -999.0,-999.000,9,-999.000,     -999.0,9, -999.00,9, -999.00,9, -999.00,9,     -999.0,9,  -999.0,9, 20130512,     1338,  30.0002,-165.1659,    34.1673,2,     -999.0,9,     -999.0,9,     6.6397,2,     -999.0,9,     -999.0,9,-999.0000, -999.00,-999.000
318M20130321,       P02E,      90,          1,         22,         22,2,20130512,       1140,    29.9996,  -165.1653,       5360,   705.4,   5.1758,  34.0394,2,  34.0403,2,       83,2,    80.6,2,   77.63,2,   36.62,2,       0,2,    2.64,2,   1.372,2,   0.674,2,-999.000,5,    0.257,2,  -999.0,9, -999.00,9,-999.0000,9,  -999.00,-999.000,9,-999.0000,9, -999.00,9, -999.00,9,  -999.0,9,  -999.0,-999.000,9,-999.000,     -999.0,9, -999.00,9, -999.00,9, -999.00,9,     -999.0,9,  -999.0,9, 20130512,     1335,  30.0003,-165.1658,    34.2008,2,     -999.0,9,     -999.0,9,     5.1757,2,     -999.0,9,     -999.0,9,-999.0000, -999.00,-999.000
318M20130321,       P02E,      90,          1,         21,         21,2,20130512,       1140,    29.9996,  -165.1653,       5360,   803.4,   4.4734,  34.1128,2,  34.1125,2,     45.8,2,    46.9,2,    95.3,2,   40.55,2,       0,2,    2.92,2,   0.664,2,   0.321,2,-999.000,5,   0.0925,2,  2309.4,2, 2323.83,2,   7.2924,2,       25,-999.000,9,-999.0000,9, -999.00,9, -999.00,9,  -999.0,9,  -999.0,-999.000,9,-999.000,     -999.0,9, -999.00,9, -999.00,9, -999.00,9,     -999.0,9,  -999.0,9, 20130512,     1332,  30.0004,-165.1658,    34.2734,2,     -999.0,9,     -999.0,9,     4.4727,2,     -999.0,9,     -999.0,9,-999.0000, -999.00,-999.000
318M20130321,       P02E,      90,          1,         20,         20,2,20130512,       1140,    29.9996,  -165.1653,       5360,   904.5,    3.983,  34.2169,2,  34.2129,2,     20.6,2,    21.6,2,  111.41,2,    43.1,2,       0,2,    3.11,2,   0.176,2,   0.084,2,-999.000,5,        0,2,  2342.5,2, 2338.83,2,   7.2848,2,       25,-999.000,9,-999.0000,9, -999.00,9, -999.00,9,  -999.0,9,  -999.0,-999.000,9,-999.000,     -999.0,9, -999.00,9, -999.00,9, -999.00,9,     -999.0,9,  -999.0,9, 20130512,     1328,  30.0005, -165.166,    34.3742,2,     -999.0,9,     -999.0,9,      3.984,2,     -999.0,9,     -999.0,9,-999.0000, -999.00,-999.000
318M20130321,       P02E,      90,          1,         19,         19,2,20130512,       1140,    29.9996,  -165.1653,       5360,  1007.5,   3.6957,  34.2976,2,  34.2951,2,     12.8,2,    12.8,2,  121.85,2,   43.99,2,       0,2,    3.18,2,   0.045,2,   0.024,2,-999.000,5,        0,2,    2361,6, 2352.74,2,   7.2906,2,       25,-999.000,9,-999.0000,9, -999.00,9, -999.00,9,  -999.0,9,  -999.0,-999.000,9,-999.000,     -999.0,9, -999.00,9, -999.00,9, -999.00,9,     -999.0,9,  -999.0,9, 20130512,     1325,  30.0006,-165.1661,    34.4568,2,     -999.0,9,     -999.0,9,     3.6963,2,     -999.0,9,     -999.0,9,-999.0000, -999.00,-999.000
318M20130321,       P02E,      90,          1,         18,         18,2,20130512,       1140,    29.9996,  -165.1653,       5360,  1107.8,   3.4545,  34.3646,2,  34.3642,2,       13,2,      12,2,  130.34,2,   44.27,2,       0,2,    3.21,2,   0.017,2,   0.008,2,-999.000,5,        0,2,  2369.7,2, 2365.64,2,   7.2892,2,       25,-999.000,9,-999.0000,9, -999.00,9, -999.00,9,  -999.0,9,  -999.0,-999.000,9,-999.000,     -999.0,9, -999.00,9, -999.00,9, -999.00,9,     -999.0,9,  -999.0,9, 20130512,     1322,  30.0008, -165.166,    34.5262,2,     -999.0,9,     -999.0,9,     3.4557,2,     -999.0,9,     -999.0,9,-999.0000, -999.00,-999.000
318M20130321,       P02E,      90,          1,         17,         17,2,20130512,       1140,    29.9996,  -165.1653,       5360,  1209.7,   3.2534,  34.4264,2,  34.4265,2,     17.7,2,      16,2,  137.16,2,   44.25,2,       0,2,    3.22,2,   0.008,2,   0.006,2,-999.000,5,   0.0486,2,  2376.9,2, 2376.14,2,   7.3053,2,       25,-999.000,9,-999.0000,9, -999.00,9, -999.00,9,  -999.0,9,  -999.0,-999.000,9,-999.000,     -999.0,9, -999.00,9, -999.00,9, -999.00,9,     -999.0,9,  -999.0,9, 20130512,     1319,  30.0008,-165.1662,    34.5889,2,     -999.0,9,     -999.0,9,     3.2544,2,     -999.0,9,     -999.0,9,-999.0000, -999.00,-999.000
318M20130321,       P02E,      90,          1,         16,         16,2,20130512,       1140,    29.9996,  -165.1653,       5360,  1310.3,   3.0225,   34.474,2,  34.4731,2,       22,2,    23.7,2,  143.21,2,   43.97,2,       0,2,    3.16,2,   0.006,2,   0.004,2,-999.000,5,        0,2,  2378.6,2, 2386.35,2,   7.3331,6,       25,-999.000,9,-999.0000,9, -999.00,9, -999.00,9,  -999.0,9,  -999.0,-999.000,9,-999.000,     -999.0,9, -999.00,9, -999.00,9, -999.00,9,     -999.0,9,  -999.0,9, 20130512,     1315,  30.0011,-165.1663,    34.6356,2,     -999.0,9,     -999.0,9,      3.022,2,     -999.0,9,     -999.0,9,-999.0000, -999.00,-999.000
318M20130321,       P02E,      90,          1,         15,         15,2,20130512,       1140,    29.9996,  -165.1653,       5360,  1410.7,   2.8441,  34.5081,2,  34.5072,2,     32.3,2,    32.6,2,  146.82,2,   43.52,2,       0,2,    3.13,2,   0.007,2,   0.005,2,-999.000,5,        0,2,  -999.0,9, -999.00,9,-999.0000,9,  -999.00,-999.000,9,-999.0000,9, -999.00,9, -999.00,9,  -999.0,9,  -999.0,-999.000,9,-999.000,     -999.0,9, -999.00,9, -999.00,9, -999.00,9,     -999.0,9,  -999.0,9, 20130512,     1312,  30.0014,-165.1662,    34.6699,2,     -999.0,9,     -999.0,9,     2.8441,2,     -999.0,9,     -999.0,9,-999.0000, -999.00,-999.000
318M20130321,       P02E,      90,          1,         14,         14,2,20130512,       1140,    29.9996,  -165.1653,       5360,  1611.5,   2.5122,  34.5597,2,  34.5593,2,     57.2,2,      59,2,  150.43,2,   41.95,2,       0,2,       3,2,   0.005,2,   0.003,2,-999.000,5,        0,2,  2368.8,2, 2400.55,2,      7.4,2,       25,-999.000,9,-999.0000,9, -999.00,9, -999.00,9,  -999.0,9,  -999.0,-999.000,9,-999.000,     -999.0,9, -999.00,9, -999.00,9, -999.00,9,     -999.0,9,  -999.0,9, 20130512,     1307,  30.0013,-165.1666,    34.7222,2,     -999.0,9,     -999.0,9,      2.512,2,     -999.0,9,     -999.0,9,-999.0000, -999.00,-999.000
318M20130321,       P02E,      90,          1,         13,         13,2,20130512,       1140,    29.9996,  -165.1653,       5360,  1816.5,   2.1991,  34.5905,2,  34.5901,2,     70.1,2,    70.1,2,  157.74,2,   41.26,2,       0,2,    2.94,2,-999.000,9,-999.000,9,-999.000,9,-999.0000,9,  -999.0,9, -999.00,9,-999.0000,9,  -999.00,-999.000,9,-999.0000,9, -999.00,9, -999.00,9,  -999.0,9,  -999.0,-999.000,9,-999.000,     -999.0,9, -999.00,9, -999.00,9, -999.00,9,     -999.0,9,  -999.0,9, 20130512,     1302,  30.0011, -165.167,    34.7532,2,     -999.0,9,     -999.0,9,     2.1992,2,     -999.0,9,     -999.0,9,-999.0000, -999.00,-999.000
318M20130321,       P02E,      90,          1,         12,         12,2,20130512,       1140,    29.9996,  -165.1653,       5360,    2021,   1.9971,  34.6112,2,  34.6111,2,     81.5,2,    81.4,2,  161.06,2,    40.6,2,       0,2,    2.91,2,   0.006,2,   0.003,2,-999.000,5,   0.0331,2,  2366.8,2, 2413.36,2,   7.4439,2,       25,-999.000,9,-999.0000,9, -999.00,9, -999.00,9,  -999.0,9,  -999.0,-999.000,9,-999.000,     -999.0,9, -999.00,9, -999.00,9, -999.00,9,     -999.0,9,  -999.0,9, 20130512,     1257,  30.0011,-165.1669,    34.7743,2,     -999.0,9,     -999.0,9,     1.9972,2,     -999.0,9,     -999.0,9,-999.0000, -999.00,-999.000
318M20130321,       P02E,      90,          1,         11,         11,2,20130512,       1140,    29.9996,  -165.1653,       5360,  2272.2,   1.8292,  34.6287,2,  34.6288,2,     92.5,2,    91.5,2,  164.28,2,   39.93,2,       0,2,    2.84,2,-999.000,9,-999.000,9,-999.000,9,-999.0000,9,  -999.0,9, -999.00,9,-999.0000,9,  -999.00,-999.000,9,-999.0000,9, -999.00,9, -999.00,9,  -999.0,9,  -999.0,-999.000,9,-999.000,     -999.0,9, -999.00,9, -999.00,9, -999.00,9,     -999.0,9,  -999.0,9, 20130512,     1251,  30.0011,-165.1669,    34.7921,2,     -999.0,9,     -999.0,9,     1.8294,2,     -999.0,9,     -999.0,9,-999.0000, -999.00,-999.000
318M20130321,       P02E,      90,          1,         10,         10,2,20130512,       1140,    29.9996,  -165.1653,       5360,  2529.9,   1.6911,  34.6445,2,  34.6445,2,    103.3,2,   103.6,2,  165.55,2,   39.19,2,       0,2,    2.79,2,   0.005,2,   0.004,2,-999.000,5,        0,2,  -999.0,9, -999.00,9,-999.0000,9,  -999.00,-999.000,9,-999.0000,9, -999.00,9, -999.00,9,  -999.0,9,  -999.0,-999.000,9,-999.000,     -999.0,9, -999.00,9, -999.00,9, -999.00,9,     -999.0,9,  -999.0,9, 20130512,     1245,   30.001,-165.1677,    34.8079,2,     -999.0,9,     -999.0,9,      1.691,2,     -999.0,9,     -999.0,9,-999.0000, -999.00,-999.000
318M20130321,       P02E,      90,          1,          9,          9,2,20130512,       1140,    29.9996,  -165.1653,       5360,  2783.3,   1.6026,  34.6562,2,  34.6555,2,    113.7,2,   114.3,2,  164.08,2,   38.43,2,       0,2,    2.71,2,-999.000,9,-999.000,9,-999.000,9,-999.0000,9,  2350.4,2, 2421.06,2,   7.5042,2,       25,-999.000,9,-999.0000,9, -999.00,9, -999.00,9,  -999.0,9,  -999.0,-999.000,9,-999.000,     -999.0,9, -999.00,9, -999.00,9, -999.00,9,     -999.0,9,  -999.0,9, 20130512,     1239,  30.0016,-165.1673,    34.8189,2,     -999.0,9,     -999.0,9,      1.603,2,     -999.0,9,     -999.0,9,-999.0000, -999.00,-999.000
318M20130321,       P02E,      90,          1,          8,          8,2,20130512,       1140,    29.9996,  -165.1653,       5360,  3036.7,   1.5415,  34.6651,2,  34.6643,2,    124.4,2,   123.8,2,  162.32,2,   37.82,2,       0,2,    2.66,2,   0.000,2,   0.004,2,-999.000,5,        0,2,  -999.0,9, -999.00,9,-999.0000,9,  -999.00,-999.000,9,-999.0000,9, -999.00,9, -999.00,9,  -999.0,9,  -999.0,-999.000,9,-999.000,     -999.0,9, -999.00,9, -999.00,9, -999.00,9,     -999.0,9,  -999.0,9, 20130512,     1233,  30.0012,-165.1676,    34.8278,2,     -999.0,9,     -999.0,9,     1.5413,2,     -999.0,9,     -999.0,9,-999.0000, -999.00,-999.000
318M20130321,       P02E,      90,          1,          7,          7,2,20130512,       1140,    29.9996,  -165.1653,       5360,  3340.9,   1.5033,  34.6723,2,  34.6722,2,      132,2,   132.4,2,  160.66,2,   37.27,2,       0,2,    2.61,2,-999.000,9,-999.000,9,-999.000,9,-999.0000,9,    2338,2, 2421.06,2,   7.5395,2,       25,-999.000,9,-999.0000,9, -999.00,9, -999.00,9,  -999.0,9,  -999.0,-999.000,9,-999.000,     -999.0,9, -999.00,9, -999.00,9, -999.00,9,     -999.0,9,  -999.0,9, 20130512,     1226,   30.001,-165.1671,    34.8357,2,     -999.0,9,     -999.0,9,     1.5033,2,     -999.0,9,     -999.0,9,-999.0000, -999.00,-999.000