BOTTLE,20220817CCHSIOAMB
EXPOCODE,SECT_ID,STNNBR,CASTNO,SAMPNO,BTLNBR,BTLNBR_FLAG_W,DATE,TIME,LATITUDE,LONGITUDE,DEPTH,CTDPRS,CTDTMP,CTDSAL,CTDSAL_FLAG_W,SALNTY,SALNTY_FLAG_W,CTDOXY,CTDOXY_FLAG_W,OXYGEN,OXYGEN_FLAG_W,SILCAT,SILCAT_FLAG_W,NITRAT,NITRAT_FLAG_W,NITRIT,NITRIT_FLAG_W,PHSPHT,PHSPHT_FLAG_W,CFC-11,CFC-11_FLAG_W,CFC-12,CFC-12_FLAG_W,CFC113,CFC113_FLAG_W,SF6,SF6_FLAG_W,TCARBN,TCARBN_FLAG_W,ALKALI,ALKALI_FLAG_W,PH_TOT,PH_TOT_FLAG_W,PH_TMP,TRITUM,TRITUM_FLAG_W,HELIUM,HELIUM_FLAG_W,DELHE3,DELHE3_FLAG_W,DELC13,DELC13_FLAG_W,DELC14,DELC14_FLAG_W,C14ERR,NEON,NEON_FLAG_W,NEONER,I-129,I-129_FLAG_W,SR-90,SR-90_FLAG_W,DOC,DOC_FLAG_W,TDN,TDN_FLAG_W,CALCIUM,CALCIUM_FLAG_W,D15N_NO3,D15N_NO3_FLAG_W,BTL_DATE,BTL_TIME,BTL_LAT,BTL_LON,SALTREF,SALTREF_FLAG_W,CS-137,CS-137_FLAG_W,CS-134,CS-134_FLAG_W,REFTMP,REFTMP_FLAG_W,LAB_DEN,LAB_DEN_FLAG_W,D18O_NO3,D18O_NO3_FLAG_W,HELIER,DELHER,TRITER
,,,,,,,,,,,METERS,DBAR,ITS-90,PSS-78,,PSS-78,,UMOL/KG,,UMOL/KG,,UMOL/KG,,UMOL/KG,,UMOL/KG,,UMOL/KG,,PMOL/KG,,PMOL/KG,,PMOL/KG,,FMOL/KG,,UMOL/KG,,UMOL/KG,,,,DEG C,TU,,NMOL/KG,,PERCNT,,/MILLE,,/MILLE,,/MILLE,NMOL/KG,,NMOL/KG,BQ/M^3,,DM/.1MG,,UMOL/KG,,UMOL/KG,,MMOL/KG,,/MILLE,,,,,,G/KG,,BQ/M^3,,BQ/M^3,,ITS-90,,,,/MILLE,,NMOL/KG,PERCNT,TU
318M20130321,       P02W,      39,          1,         36,         36,2,20130416,       1733,    30.0002,   152.4118,       5953,     2.8,  18.3161,  34.7388,2,  34.7382,2,    237.4,2,     237,2,    1.66,2,       0,2,    0.01,2,    0.04,2,   2.482,2,   1.446,2,   0.199,2,     1.47,2,  2004.8,6, 2277.21,2,   8.0086,2,       25,-999.000,9,-999.0000,9, -999.00,9,    0.67,2,    56.7,2,     2.5,-999.000,9,-999.000,     -999.0,9, -999.00,9,   59.43,2,    3.98,2,     -999.0,9,  -999.0,9, 20130416,     2012,  30.0009, 152.4115,     34.902,2,     -999.0,9,     -999.0,9,    18.3164,2,     -999.0,9,     -999.0,9,-999.0000, -999.00,-999.000
318M20130321,       P02W,      39,          1,         35,         35,2,20130416,       1733,    30.0002,   152.4118,       5953,    34.9,  18.1107,  34.7427,2,  34.7388,2,    237.7,2,   236.5,2,    1.66,2,    0.07,2,    0.07,2,    0.05,2,   2.520,2,   1.528,2,   0.202,2,     1.46,2,  -999.0,9, -999.00,9,-999.0000,9,  -999.00,-999.000,9,-999.0000,9, -999.00,9, -999.00,9,  -999.0,9,  -999.0,-999.000,9,-999.000,     -999.0,9, -999.00,9,   58.42,2,    4.26,2,     -999.0,9,  -999.0,9, 20130416,     2010,  30.0005,  152.411,    34.9026,2,     -999.0,9,     -999.0,9,    18.1158,2,     -999.0,9,     -999.0,9,-999.0000, -999.00,-999.000
318M20130321,       P02W,      39,          1,         34,         34,2,20130416,       1733,    30.0002,   152.4118,       5953,    59.4,  17.5188,  34.7315,2,    34.73,2,    227.1,2,  -999.0,9,    3.03,2,    2.59,2,    0.06,2,    0.21,2,-999.000,9,-999.000,9,-999.000,9,-999.0000,9,  -999.0,9, -999.00,9,-999.0000,9,  -999.00,-999.000,9,-999.0000,9, -999.00,9, -999.00,9,  -999.0,9,  -999.0,-999.000,9,-999.000,     -999.0,9, -999.00,1, -999.00,9, -999.00,9,     -999.0,9,  -999.0,9, 20130416,     2008,  30.0002, 152.4106,    34.8937,2,     -999.0,1,     -999.0,1,    17.5194,2,     -999.0,9,     -999.0,9,-999.0000, -999.00,-999.000
318M20130321,       P02W,      39,          1,         32,         32,2,20130416,       1733,    30.0002,   152.4118,       5953,    59.8,  17.5183,  34.7314,2,  34.7302,2,    227.1,2,   226.1,2,    2.93,2,    2.57,2,    0.06,2,     0.2,2,   2.528,2,   1.530,2,   0.179,2,     1.43,2,  2020.3,2, 2277.71,2,   7.9826,6,       25,-999.000,9,-999.0000,9, -999.00,9,    0.48,2,    59.1,2,     1.7,-999.000,9,-999.000,     -999.0,9, -999.00,9,   53.93,2,    7.58,2,     -999.0,9,  -999.0,9, 20130416,     2008,  30.0002, 152.4105,    34.8939,2,     -999.0,9,     -999.0,9,     17.519,2,     -999.0,9,     -999.0,9,-999.0000, -999.00,-999.000
318M20130321,       P02W,      39,          1,         33,         33,2,20130416,       1733,    30.0002,   152.4118,       5953,      60,  17.5189,  34.7314,2,  34.7314,2,    227.1,2,  -999.0,9,    2.93,2,    2.57,2,    0.06,2,    0.21,2,-999.000,9,-999.000,9,-999.000,9,-999.0000,9,  -999.0,9, -999.00,9,-999.0000,9,  -999.00,-999.000,9,-999.0000,9, -999.00,9, -999.00,9,  -999.0,9,  -999.0,-999.000,9,-999.000,     -999.0,1, -999.00,1, -999.00,9, -999.00,9,     -999.0,9,  -999.0,9, 20130416,     2008,  30.0002, 152.4105,    34.8951,2,     -999.0,1,     -999.0,1,     17.519,2,     -999.0,9,     -999.0,9,-999.0000, -999.00,-999.000
318M20130321,       P02W,      39,          1,         31,         31,2,20130416,       1733,    30.0002,   152.4118,       5953,    84.4,  17.3281,  34.7177,2,  34.7158,2,    227.2,2,   228.7,2,    2.83,2,    2.32,2,    0.11,2,    0.19,2,  -0.044,4,  -0.006,4,   0.000,4,        0,4,  2019.5,2, 2277.61,6,   7.9807,2,       25,-999.000,9,-999.0000,9, -999.00,9,    0.50,2,    55.0,2,     2.5,-999.000,9,-999.000,     -999.0,9, -999.00,9,   53.97,2,    6.78,2,     -999.0,9,  -999.0,9, 20130416,     2006,  29.9999, 152.4102,    34.8795,2,     -999.0,9,     -999.0,9,    17.3278,2,     -999.0,9,     -999.0,9,-999.0000, -999.00,-999.000
318M20130321,       P02W,      39,          1,         30,         30,2,20130416,       1733,    30.0002,   152.4118,       5953,   115.3,  17.2467,  34.7222,2,  34.7212,2,    227.9,2,   228.2,2,    2.83,2,    2.56,2,    0.06,2,     0.2,2,   2.566,2,   1.554,2,   0.180,2,      1.5,2,  2021.1,2, 2277.21,2,   7.9793,2,       25,-999.000,9,-999.0000,9, -999.00,9,    0.55,2,    58.4,2,     1.7,-999.000,9,-999.000,     -999.0,9, -999.00,9,   53.42,2,    6.84,2,     -999.0,9,  -999.0,9, 20130416,     2004,  29.9997, 152.4099,    34.8849,2,     -999.0,9,     -999.0,9,    17.2473,2,     -999.0,9,     -999.0,9,-999.0000, -999.00,-999.000
318M20130321,       P02W,      39,          1,         29,         29,2,20130416,       1733,    30.0002,   152.4118,       5953,   165.4,  17.1077,  34.7236,2,  34.7225,2,    227.2,2,   228.4,2,    3.03,2,    2.79,2,    0.03,2,    0.21,2,   2.533,2,   1.543,2,   0.175,2,     1.49,2,  2020.4,2, 2276.91,2,   7.9769,2,       25,-999.000,9,-999.0000,9, -999.00,9,    0.53,2,    53.7,2,     1.8,-999.000,9,-999.000,     -999.0,9, -999.00,9,   51.41,2,    5.92,2,     -999.0,9,  -999.0,9, 20130416,     2002,  29.9995, 152.4097,    34.8863,2,     -999.0,9,     -999.0,9,    17.1085,2,     -999.0,9,     -999.0,9,-999.0000, -999.00,-999.000
318M20130321,       P02W,      39,          1,         28,         28,2,20130416,       1733,    30.0002,   152.4118,       5953,   215.2,  16.9771,  34.7124,2,  34.7117,2,    225.1,2,   223.7,2,    3.12,2,    3.44,2,    0.02,2,    0.25,2,-999.000,9,-999.000,9,-999.000,9,-999.0000,9,  2024.9,2, 2276.11,2,     7.97,2,       25,-999.000,9,-999.0000,9, -999.00,9,    0.48,2,    56.1,2,     1.9,-999.000,9,-999.000,     -999.0,9, -999.00,9,   52.22,2,    6.81,2,     -999.0,9,  -999.0,9, 20130416,     2000,  29.9994, 152.4096,    34.8754,2,     -999.0,9,     -999.0,9,    16.9758,2,     -999.0,9,     -999.0,9,-999.0000, -999.00,-999.000
318M20130321,       P02W,      39,          1,         27,         27,2,20130416,       1733,    30.0002,   152.4118,       5953,   266.5,  16.5642,  34.6767,2,  34.6762,2,    214.2,2,   209.7,2,    5.27,2,    5.42,2,    0.02,2,    0.39,2,   2.612,2,   1.551,2,   0.111,2,     1.34,2,  2040.4,2, 2275.61,2,   7.9366,2,       25,-999.000,9,-999.0000,9, -999.00,9,    0.42,2,    53.7,2,     1.8,-999.000,9,-999.000,     -999.0,9, -999.00,9,   48.34,2,    9.04,2,     -999.0,9,  -999.0,9, 20130416,     1958,  29.9996, 152.4096,    34.8397,2,     -999.0,9,     -999.0,9,    16.5641,2,     -999.0,9,     -999.0,9,-999.0000, -999.00,-999.000
318M20130321,       P02W,      39,          1,         26,         26,2,20130416,       1733,    30.0002,   152.4118,       5953,   318.3,  15.6823,  34.6065,2,  34.6058,2,    199.8,2,   202.2,2,       8,2,    7.49,2,    0.02,2,    0.54,2,   2.692,2,   1.549,2,   0.076,2,     1.25,2,  2053.7,2, 2275.51,2,   7.9037,2,       25,-999.000,9,-999.0000,9, -999.00,9,    0.35,2,    52.2,2,     1.7,-999.000,9,-999.000,     -999.0,9, -999.00,9, -999.00,5, -999.00,5,     -999.0,9,  -999.0,9, 20130416,     1956,  29.9998, 152.4097,     34.769,2,     -999.0,9,     -999.0,9,    15.6818,2,     -999.0,9,     -999.0,9,-999.0000, -999.00,-999.000
318M20130321,       P02W,      39,          1,         25,         25,2,20130416,       1733,    30.0002,   152.4118,       5953,   368.6,    14.48,  34.5239,2,  34.5226,2,    194.3,2,   187.8,2,    12.5,2,   10.67,2,    0.02,2,    0.75,2,   2.769,2,   1.605,2,   0.055,2,     1.14,2,  2079.1,2, 2275.01,2,   7.8504,2,       25,-999.000,9,-999.0000,9, -999.00,9,    0.27,2,    44.6,2,     1.7,-999.000,9,-999.000,     -999.0,9, -999.00,9,   45.88,2, -999.00,9,     -999.0,9,  -999.0,9, 20130416,     1954,       30, 152.4097,    34.6853,2,     -999.0,9,     -999.0,9,    14.4709,2,     -999.0,9,     -999.0,9,-999.0000, -999.00,-999.000
318M20130321,       P02W,      39,          1,         24,         24,2,20130416,       1733,    30.0002,   152.4118,       5953,   440.6,  12.2265,  34.3353,2,  34.3367,2,    194.3,2,   195.7,2,   17.87,2,   13.12,2,    0.02,2,    0.94,2,   2.959,2,   1.683,2,   0.102,2,     1.13,2,  2098.5,6, 2272.11,2,   7.8053,2,       25,-999.000,9,-999.0000,9, -999.00,9,    0.22,2,    27.4,2,     1.7,-999.000,9,-999.000,     -999.0,9, -999.00,9, -999.00,5, -999.00,9,     -999.0,9,  -999.0,9, 20130416,     1951,  30.0002, 152.4097,    34.4986,2,     -999.0,9,     -999.0,9,    12.2226,2,     -999.0,9,     -999.0,9,-999.0000, -999.00,-999.000
318M20130321,       P02W,      39,          1,         23,         23,2,20130416,       1733,    30.0002,   152.4118,       5953,   535.7,   9.5821,  34.1752,2,  34.1808,2,    181.7,2,   181.9,2,   29.98,2,   18.95,2,    0.01,2,    1.37,2,   3.043,2,   1.663,2,   0.117,2,     1.05,2,  2140.9,2, 2275.51,2,   7.7082,6,       25,-999.000,9,-999.0000,9, -999.00,9,    0.13,2,     6.2,2,     1.6,-999.000,9,-999.000,     -999.0,9, -999.00,9,   46.75,2, -999.00,9,     -999.0,9,  -999.0,9, 20130416,     1948,  30.0002, 152.4095,    34.3419,2,     -999.0,9,     -999.0,9,     9.5655,2,     -999.0,9,     -999.0,9,-999.0000, -999.00,-999.000
318M20130321,       P02W,      39,          1,         22,         38,3,20130416,       1733,    30.0002,   152.4118,       5953,   636.9,   7.0816,   34.048,2,  34.0473,2,    152.7,2,   156.7,4,    50.1,2,   26.06,2,    0.01,2,    1.89,2,-999.000,9,-999.000,9,-999.000,9,-999.0000,9,  2195.1,2, 2283.91,2,   7.5885,2,       25,-999.000,9,-999.0000,9, -999.00,9,    0.05,2,   -51.1,2,     1.6,-999.000,9,-999.000,     -999.0,9, -999.00,9,    42.5,2, -999.00,9,     -999.0,9,  -999.0,9, 20130416,     1946,  29.9999, 152.4089,    34.2078,2,     -999.0,9,     -999.0,9,     7.0805,2,     -999.0,9,     -999.0,9,-999.0000, -999.00,-999.000
318M20130321,       P02W,      39,          1,         21,         21,2,20130416,       1733,    30.0002,   152.4118,       5953,   742.5,   5.0301,   34.048,2,  34.0481,2,     99.8,2,   102.5,2,    79.1,2,   34.78,2,    0.01,2,    2.52,2,   2.076,2,   1.084,2,   0.102,2,     0.57,2,  2266.7,2, 2305.12,2,   7.4347,2,       25,-999.000,9,-999.0000,9, -999.00,9,   -0.29,2,  -102.8,2,     1.7,-999.000,9,-999.000,     -999.0,9, -999.00,9,   41.74,2, -999.00,9,     -999.0,9,  -999.0,9, 20130416,     1942,  29.9996, 152.4083,    34.2086,2,     -999.0,9,     -999.0,9,     5.0256,2,     -999.0,9,     -999.0,9,-999.0000, -999.00,-999.000
318M20130321,       P02W,      39,          1,         20,         20,2,20130416,       1733,    30.0002,   152.4118,       5953,   841.8,   4.3321,  34.1682,2,  34.1686,2,     66.3,2,    64.6,2,  100.57,2,   38.94,2,       0,2,    2.78,2,   1.193,2,   0.620,2,   0.054,2,     0.29,2,  2309.3,2, 2328.03,2,     7.37,2,       25,-999.000,9,-999.0000,9, -999.00,9,   -0.43,2,  -140.2,2,     1.4,-999.000,9,-999.000,     -999.0,9, -999.00,9,   39.17,2, -999.00,9,     -999.0,9,  -999.0,9, 20130416,     1939,  29.9994, 152.4079,    34.3297,2,     -999.0,9,     -999.0,9,     4.3317,2,     -999.0,9,     -999.0,9,-999.0000, -999.00,-999.000
318M20130321,       P02W,      39,          1,         19,         19,2,20130416,       1733,    30.0002,   152.4118,       5953,   942.6,   3.8573,  34.2574,2,  34.2569,2,     49.6,2,    48.8,2,  115.21,2,   40.74,2,       0,2,    2.91,2,   0.680,2,   0.343,2,   0.037,2,     0.16,2,  2333.9,2, 2343.83,2,   7.3468,2,       25,-999.000,9,-999.0000,9, -999.00,9,   -0.41,2,  -158.3,2,     1.4,-999.000,9,-999.000,     -999.0,9, -999.00,9,   38.25,2, -999.00,9,     -999.0,9,  -999.0,9, 20130416,     1936,  29.9997, 152.4081,    34.4184,2,     -999.0,9,     -999.0,9,     3.8571,2,     -999.0,9,     -999.0,9,-999.0000, -999.00,-999.000
318M20130321,       P02W,      39,          1,         18,         18,2,20130416,       1733,    30.0002,   152.4118,       5953,  1042.2,    3.553,  34.3133,2,  34.3137,2,     39.5,2,      40,2,  123.99,2,   41.86,2,       0,2,       3,2,   0.369,2,   0.188,2,   0.021,2,     0.07,2,  2348.1,2, 2354.84,2,   7.3366,2,       25,-999.000,9,-999.0000,9, -999.00,9,   -0.44,2,  -181.2,2,     1.7,-999.000,9,-999.000,     -999.0,9, -999.00,9,   37.48,2, -999.00,9,     -999.0,9,  -999.0,9, 20130416,     1933,  30.0001, 152.4083,    34.4756,2,     -999.0,9,     -999.0,9,      3.551,2,     -999.0,9,     -999.0,9,-999.0000, -999.00,-999.000
318M20130321,       P02W,      39,          1,         17,         17,2,20130416,       1733,    30.0002,   152.4118,       5953,  1139.6,   3.2215,  34.3744,2,   34.375,2,     35.4,2,    34.4,2,  134.04,2,   42.64,2,       0,2,    3.04,2,   0.185,2,   0.087,2,   0.012,2,     0.06,2,    2363,2, 2367.94,2,    7.332,2,       25,-999.000,9,-999.0000,9, -999.00,9,   -0.17,4,  -195.0,2,     1.4,-999.000,9,-999.000,     -999.0,9, -999.00,9,   38.74,2, -999.00,9,     -999.0,9,  -999.0,9, 20130416,     1930,  30.0002, 152.4087,    34.5371,2,     -999.0,9,     -999.0,9,     3.2213,2,     -999.0,9,     -999.0,9,-999.0000, -999.00,-999.000
318M20130321,       P02W,      39,          1,         16,         16,2,20130416,       1733,    30.0002,   152.4118,       5953,  1244.3,   2.9632,   34.426,2,  34.4254,2,     33.8,2,    34.3,2,  141.26,2,   43.01,2,       0,2,    3.06,2,   0.086,2,   0.047,2,   0.004,2,     0.04,2,  2371.3,2, 2380.65,2,   7.3357,6,       25,-999.000,9,-999.0000,9, -999.00,9,   -0.48,2,  -214.0,2,     2.4,-999.000,9,-999.000,     -999.0,9, -999.00,9,   36.91,2, -999.00,9,     -999.0,9,  -999.0,9, 20130416,     1927,  29.9998, 152.4094,    34.5878,2,     -999.0,9,     -999.0,9,     2.9623,2,     -999.0,9,     -999.0,9,-999.0000, -999.00,-999.000
318M20130321,       P02W,      39,          1,         15,         15,2,20130416,       1733,    30.0002,   152.4118,       5953,  1345.7,   2.7889,  34.4567,2,  34.4553,2,     35.4,2,    35.7,2,  146.34,2,   43.11,2,       0,2,    3.06,2,   0.047,2,   0.031,2,   0.003,2,     0.02,2,  -999.0,9, 2383.95,2,   7.3419,2,       25,-999.000,9,-999.0000,9, -999.00,9, -999.00,9,  -999.0,9,  -999.0,-999.000,9,-999.000,     -999.0,9, -999.00,9, -999.00,9, -999.00,9,     -999.0,9,  -999.0,9, 20130416,     1924,  29.9997, 152.4098,    34.6177,2,     -999.0,9,     -999.0,9,     2.7903,2,     -999.0,9,     -999.0,9,-999.0000, -999.00,-999.000
318M20130321,       P02W,      39,          1,         14,         14,2,20130416,       1733,    30.0002,   152.4118,       5953,  1345.9,   2.7862,   34.457,2,  34.4555,2,     35.4,2,    36.2,2,  145.75,2,   43.04,2,       0,2,    3.06,2,-999.000,9,-999.000,9,-999.000,9,-999.0000,9,  2374.9,2, 2385.65,2,   7.3414,2,       25,-999.000,9,-999.0000,9, -999.00,9,   -0.46,2,  -221.0,2,     3.1,-999.000,9,-999.000,     -999.0,9, -999.00,9,   37.24,2, -999.00,9,     -999.0,9,  -999.0,9, 20130416,     1924,  29.9997, 152.4098,    34.6179,2,     -999.0,9,     -999.0,9,     2.7881,2,     -999.0,9,     -999.0,9,-999.0000, -999.00,-999.000
318M20130321,       P02W,      39,          1,         13,         13,2,20130416,       1733,    30.0002,   152.4118,       5953,  1479.8,   2.5648,  34.4981,2,  34.4983,2,     42.7,2,    42.9,2,  151.51,2,   42.81,2,       0,2,    3.03,2,   0.019,2,   0.020,2,   0.003,2,     0.03,2,    2378,2, 2392.45,2,   7.3569,2,       25,-999.000,9,-999.0000,9, -999.00,9,   -0.41,2,  -232.2,2,     1.8,-999.000,9,-999.000,     -999.0,9, -999.00,9,   35.45,2, -999.00,9,     -999.0,9,  -999.0,9, 20130416,     1920,  30.0002, 152.4097,    34.6609,2,     -999.0,9,     -999.0,9,      2.565,2,     -999.0,9,     -999.0,9,-999.0000, -999.00,-999.000
318M20130321,       P02W,      39,          1,         12,         12,2,20130416,       1733,    30.0002,   152.4118,       5953,  1754.2,   2.1711,  34.5624,2,  34.5627,2,     60.5,2,    60.6,2,  159.31,2,   41.83,2,       0,2,    2.94,2,-999.000,9,-999.000,9,-999.000,9,-999.0000,9,  2376.2,6, 2403.75,2,   7.3955,2,       25,-999.000,9,-999.0000,9, -999.00,9,   -0.54,2,  -232.8,2,     1.8,-999.000,9,-999.000,     -999.0,9, -999.00,9,    36.3,2, -999.00,9,     -999.0,9,  -999.0,9, 20130416,     1914,  30.0006, 152.4098,    34.7257,2,     -999.0,9,     -999.0,9,     2.1712,2,     -999.0,9,     -999.0,9,-999.0000, -999.00,-999.000
318M20130321,       P02W,      39,          1,         11,         11,2,20130416,       1733,    30.0002,   152.4118,       5953,  2155.1,   1.8493,  34.6163,2,  34.6163,2,     93.3,2,    90.5,2,  159.79,2,   39.96,2,       0,2,     2.8,2,   0.001,2,   0.006,2,   0.000,2,     0.04,2,  2363.3,2, 2410.96,2,   7.4566,2,       25,-999.000,9,-999.0000,9, -999.00,9,   -0.20,2,  -240.9,2,     2.9,-999.000,9,-999.000,     -999.0,9, -999.00,9,   35.38,2, -999.00,9,     -999.0,9,  -999.0,9, 20130416,     1906,  30.0009, 152.4103,    34.7796,2,     -999.0,9,     -999.0,9,     1.8494,2,     -999.0,9,     -999.0,9,-999.0000, -999.00,-999.000
318M20130321,       P02W,      39,          1,         10,         10,2,20130416,       1733,    30.0002,   152.4118,       5953,  2575.9,    1.663,  34.6464,2,  34.6462,2,    113.8,2,   113.5,2,  156.86,2,   38.48,2,       0,2,    2.68,2,-999.000,9,-999.000,9,-999.000,9,-999.0000,9,  2349.1,2, 2413.86,2,   7.5018,2,       25,-999.000,9,-999.0000,9, -999.00,9,   -0.04,2,  -242.2,2,     2.3,-999.000,9,-999.000,     -999.0,9, -999.00,9,   36.86,2, -999.00,9,     -999.0,9,  -999.0,9, 20130416,     1858,  30.0008, 152.4113,    34.8096,2,     -999.0,9,     -999.0,9,      1.663,2,     -999.0,9,     -999.0,9,-999.0000, -999.00,-999.000
318M20130321,       P02W,      39,          1,          9,          9,2,20130416,       1733,    30.0002,   152.4118,       5953,  2970.7,   1.5604,  34.6633,2,  34.6625,2,    129.3,2,   128.6,2,  153.54,2,   37.44,2,       0,2,     2.6,2,-999.000,9,-999.000,9,-999.000,9,-999.0000,9,  2339.6,2, 2414.56,2,   7.5295,6,       25,-999.000,9,-999.0000,9, -999.00,9,    0.03,2,  -231.4,2,     2.2,-999.000,9,-999.000,     -999.0,9, -999.00,9,   35.54,2, -999.00,9,     -999.0,9,  -999.0,9, 20130416,     1850,  30.0002,  152.413,    34.8259,2,     -999.0,9,     -999.0,9,     1.5606,2,     -999.0,9,     -999.0,9,-999.0000, -999.00,-999.000
318M20130321,       P02W,      39,          1,          8,          8,2,20130416,       1733,    30.0002,   152.4118,       5953,  3373.6,   1.4975,  34.6743,2,  34.6749,2,    139.7,2,   140.5,2,  150.61,2,   36.69,2,       0,2,    2.55,2,   0.001,2,   0.004,2,   0.006,2,     0.02,2,  2331.8,2, 2414.66,2,   7.5472,2,       25,-999.000,9,-999.0000,9, -999.00,9,    0.11,2,  -232.2,2,     2.1,-999.000,9,-999.000,     -999.0,9, -999.00,9, -999.00,9, -999.00,9,     -999.0,9,  -999.0,9, 20130416,     1842,  29.9997, 152.4127,    34.8384,2,     -999.0,9,     -999.0,9,     1.4973,2,     -999.0,9,     -999.0,9,-999.0000, -999.00,-999.000