BOTTLE,20220817CCHSIOAMB
EXPOCODE,SECT_ID,STNNBR,CASTNO,SAMPNO,BTLNBR,BTLNBR_FLAG_W,DATE,TIME,LATITUDE,LONGITUDE,DEPTH,CTDPRS,CTDTMP,CTDSAL,CTDSAL_FLAG_W,SALNTY,SALNTY_FLAG_W,CTDOXY,CTDOXY_FLAG_W,OXYGEN,OXYGEN_FLAG_W,SILCAT,SILCAT_FLAG_W,NITRAT,NITRAT_FLAG_W,NITRIT,NITRIT_FLAG_W,PHSPHT,PHSPHT_FLAG_W,CFC-11,CFC-11_FLAG_W,CFC-12,CFC-12_FLAG_W,CFC113,CFC113_FLAG_W,SF6,SF6_FLAG_W,TCARBN,TCARBN_FLAG_W,ALKALI,ALKALI_FLAG_W,PH_TOT,PH_TOT_FLAG_W,PH_TMP,TRITUM,TRITUM_FLAG_W,HELIUM,HELIUM_FLAG_W,DELHE3,DELHE3_FLAG_W,DELC13,DELC13_FLAG_W,DELC14,DELC14_FLAG_W,C14ERR,NEON,NEON_FLAG_W,NEONER,I-129,I-129_FLAG_W,SR-90,SR-90_FLAG_W,DOC,DOC_FLAG_W,TDN,TDN_FLAG_W,CALCIUM,CALCIUM_FLAG_W,D15N_NO3,D15N_NO3_FLAG_W,BTL_DATE,BTL_TIME,BTL_LAT,BTL_LON,SALTREF,SALTREF_FLAG_W,CS-137,CS-137_FLAG_W,CS-134,CS-134_FLAG_W,REFTMP,REFTMP_FLAG_W,LAB_DEN,LAB_DEN_FLAG_W,D18O_NO3,D18O_NO3_FLAG_W,HELIER,DELHER,TRITER
,,,,,,,,,,,METERS,DBAR,ITS-90,PSS-78,,PSS-78,,UMOL/KG,,UMOL/KG,,UMOL/KG,,UMOL/KG,,UMOL/KG,,UMOL/KG,,PMOL/KG,,PMOL/KG,,PMOL/KG,,FMOL/KG,,UMOL/KG,,UMOL/KG,,,,DEG C,TU,,NMOL/KG,,PERCNT,,/MILLE,,/MILLE,,/MILLE,NMOL/KG,,NMOL/KG,BQ/M^3,,DM/.1MG,,UMOL/KG,,UMOL/KG,,MMOL/KG,,/MILLE,,,,,,G/KG,,BQ/M^3,,BQ/M^3,,ITS-90,,,,/MILLE,,NMOL/KG,PERCNT,TU
318M20130321,       P02E,     154,          1,         26,         26,2,20130531,       1855,    32.4664,  -118.8307,       1324,     2.8,  16.1354,  33.5432,2,  33.5444,2,    256.4,2,   256.6,2,    3.22,2,    0.27,2,    0.04,2,    0.32,2,   2.552,2,   1.510,2,-999.000,1,   1.5744,2,  2019.2,6, 2236.59,2,    7.913,2,       25,-999.000,9,-999.0000,9, -999.00,9, -999.00,9,  -999.0,9,  -999.0,-999.000,9,-999.000,     -999.0,9, -999.00,9, -999.00,9, -999.00,9,     -999.0,9,  -999.0,1, 20130531,     1950,  32.4675,  -118.83,    33.7026,2,     -999.0,9,     -999.0,9,    16.1275,2,     -999.0,1,     -999.0,1,-999.0000, -999.00,-999.000
318M20130321,       P02E,     154,          1,         25,         25,2,20130531,       1855,    32.4664,  -118.8307,       1324,    21.2,  12.2648,  33.5546,2,  33.5446,2,    256.3,2,   230.7,2,    6.94,2,    6.65,2,    0.23,2,    0.75,2,-999.000,9,-999.000,9,-999.000,9,-999.0000,9,  2065.5,2, 2232.09,2,   7.8009,2,       25,-999.000,9,-999.0000,9, -999.00,9, -999.00,9,  -999.0,9,  -999.0,-999.000,9,-999.000,     -999.0,9, -999.00,9, -999.00,9, -999.00,9,     -999.0,9,  -999.0,1, 20130531,     1948,   32.467,-118.8303,    33.7028,2,     -999.0,9,     -999.0,9,    12.4414,3,     -999.0,1,     -999.0,1,-999.0000, -999.00,-999.000
318M20130321,       P02E,     154,          1,         24,         24,2,20130531,       1855,    32.4664,  -118.8307,       1324,    41.3,  10.2675,  33.6756,2,  33.6643,2,    160.8,2,   145.2,2,   19.73,2,   20.18,2,    0.06,2,    1.63,2,   3.014,2,   1.702,2,-999.000,1,   1.3363,2,  -999.0,9, -999.00,9,-999.0000,9,  -999.00,-999.000,9,-999.0000,9, -999.00,9, -999.00,9,  -999.0,9,  -999.0,-999.000,9,-999.000,     -999.0,9, -999.00,9, -999.00,9, -999.00,9,     -999.0,9,  -999.0,1, 20130531,     1946,  32.4667,-118.8305,     33.823,2,     -999.0,9,     -999.0,9,    10.2844,2,     -999.0,9,     -999.0,1,-999.0000, -999.00,-999.000
318M20130321,       P02E,     154,          1,         23,         23,2,20130531,       1855,    32.4664,  -118.8307,       1324,      65,   9.7741,  33.8624,2,  33.8635,2,    114.6,2,   115.2,2,   26.27,2,      24,2,    0.03,2,    1.89,2,-999.000,9,-999.000,9,-999.000,9,-999.0000,9,  2184.7,2,  2246.8,2,   7.5095,2,       25,-999.000,9,-999.0000,9, -999.00,9, -999.00,9,  -999.0,9,  -999.0,-999.000,9,-999.000,     -999.0,9, -999.00,9, -999.00,9, -999.00,9,     -999.0,9,  -999.0,1, 20130531,     1944,  32.4665,-118.8308,    34.0232,2,     -999.0,9,     -999.0,9,     9.7743,2,     -999.0,1,     -999.0,1,-999.0000, -999.00,-999.000
318M20130321,       P02E,     154,          1,         22,         22,2,20130531,       1855,    32.4664,  -118.8307,       1324,      91,   9.5608,  33.9301,2,  33.9213,2,    109.6,2,   109.4,2,   28.13,2,   24.94,2,    0.02,2,    1.98,2,   2.804,2,   1.538,2,-999.000,1,   1.0383,2,  -999.0,9,  2250.3,2,-999.0000,9,  -999.00,-999.000,9,-999.0000,9, -999.00,9, -999.00,9,  -999.0,9,  -999.0,-999.000,9,-999.000,     -999.0,9, -999.00,9, -999.00,9, -999.00,9,     -999.0,9,  -999.0,1, 20130531,     1942,  32.4663, -118.831,    34.0812,2,     -999.0,9,     -999.0,9,     9.5649,2,     -999.0,1,     -999.0,1,-999.0000, -999.00,-999.000
318M20130321,       P02E,     154,          1,         21,         21,2,20130531,       1855,    32.4664,  -118.8307,       1324,   116.6,    9.161,  34.0201,2,  34.0206,2,    101.3,2,   100.7,2,   31.93,2,   26.54,2,    0.02,2,    2.09,2,-999.000,9,-999.000,9,-999.000,9,-999.0000,9,  2203.5,2,  2258.4,2,   7.4823,6,       25,-999.000,9,-999.0000,9, -999.00,9, -999.00,9,  -999.0,9,  -999.0,-999.000,9,-999.000,     -999.0,9, -999.00,9, -999.00,9, -999.00,9,     -999.0,9,  -999.0,1, 20130531,     1940,  32.4663, -118.831,     34.181,2,     -999.0,9,     -999.0,9,     9.1613,2,     -999.0,1,     -999.0,1,-999.0000, -999.00,-999.000
318M20130321,       P02E,     154,          1,         20,         20,2,20130531,       1855,    32.4664,  -118.8307,       1324,   141.1,   9.1056,  34.1083,2,  34.1095,2,     80.5,2,    81.6,2,   35.25,2,   27.86,2,       0,2,    2.25,2,   2.337,2,   1.246,2,-999.000,1,   0.7211,2,  -999.0,9, -999.00,9,-999.0000,9,  -999.00,-999.000,9,-999.0000,9, -999.00,9, -999.00,9,  -999.0,9,  -999.0,-999.000,9,-999.000,     -999.0,9, -999.00,9, -999.00,9, -999.00,9,     -999.0,9,  -999.0,1, 20130531,     1938,  32.4663, -118.831,    34.2704,2,     -999.0,9,     -999.0,9,     9.1041,2,     -999.0,9,     -999.0,1,-999.0000, -999.00,-999.000
318M20130321,       P02E,     154,          1,         19,         19,2,20130531,       1855,    32.4664,  -118.8307,       1324,   166.1,   9.0249,  34.1544,2,  34.1619,2,     70.2,2,    70.2,2,   37.89,2,   28.74,2,       0,2,    2.34,2,-999.000,9,-999.000,9,-999.000,9,-999.0000,9,  2231.2,2, 2271.51,2,   7.4295,2,       25,-999.000,9,-999.0000,9, -999.00,9, -999.00,9,  -999.0,9,  -999.0,-999.000,9,-999.000,     -999.0,9, -999.00,9, -999.00,9, -999.00,9,     -999.0,9,  -999.0,1, 20130531,     1937,  32.4663, -118.831,    34.3229,2,     -999.0,9,     -999.0,9,     9.0257,2,     -999.0,1,     -999.0,1,-999.0000, -999.00,-999.000
318M20130321,       P02E,     154,          1,         18,         18,2,20130531,       1855,    32.4664,  -118.8307,       1324,   192.1,   8.7341,  34.1944,2,  34.1685,3,     63.9,2,    66.5,2,    41.3,2,   30.06,2,       0,2,    2.41,2,   1.997,2,   1.042,2,-999.000,1,   0.5318,2,  -999.0,9, -999.00,9,-999.0000,9,  -999.00,-999.000,9,-999.0000,9, -999.00,9, -999.00,9,  -999.0,9,  -999.0,-999.000,9,-999.000,     -999.0,9, -999.00,9, -999.00,9, -999.00,9,     -999.0,9,  -999.0,1, 20130531,     1935,  32.4663, -118.831,    34.3296,3,     -999.0,9,     -999.0,9,     8.6939,3,     -999.0,9,     -999.0,1,-999.0000, -999.00,-999.000
318M20130321,       P02E,     154,          1,         17,         17,2,20130531,       1855,    32.4664,  -118.8307,       1324,   215.6,   7.9019,   34.097,2,  34.1042,2,     71.2,2,    73.7,2,   44.53,2,   31.49,2,       0,2,    2.41,2,-999.000,9,-999.000,9,-999.000,9,-999.0000,9,  -999.0,9, -999.00,9,-999.0000,9,  -999.00,-999.000,9,-999.0000,9, -999.00,9, -999.00,9,  -999.0,9,  -999.0,-999.000,9,-999.000,     -999.0,9, -999.00,9, -999.00,9, -999.00,9,     -999.0,9,  -999.0,1, 20130531,     1934,  32.4663, -118.831,     34.265,2,     -999.0,9,     -999.0,9,     7.8835,2,     -999.0,9,     -999.0,1,-999.0000, -999.00,-999.000
318M20130321,       P02E,     154,          1,         16,         16,2,20130531,       1855,    32.4664,  -118.8307,       1324,   241.3,   7.7466,  34.1556,2,   34.157,2,     60.2,2,      58,2,   48.72,2,   32.73,2,       0,2,    2.54,2,   1.730,2,   0.875,2,-999.000,1,   0.4022,2,  2254.9,2, 2280.71,2,   7.3872,2,       25,-999.000,9,-999.0000,9, -999.00,9, -999.00,9,  -999.0,9,  -999.0,-999.000,9,-999.000,     -999.0,9, -999.00,9, -999.00,9, -999.00,9,     -999.0,9,  -999.0,1, 20130531,     1932,  32.4663, -118.831,     34.318,2,     -999.0,9,     -999.0,9,     7.7474,2,     -999.0,1,     -999.0,1,-999.0000, -999.00,-999.000
318M20130321,       P02E,     154,          1,         15,         15,2,20130531,       1855,    32.4664,  -118.8307,       1324,   286.6,   7.5602,  34.1966,2,  34.1972,2,     44.5,2,    43.8,2,   53.12,2,   34.01,2,       0,2,    2.68,2,-999.000,9,-999.000,9,-999.000,9,-999.0000,9,  -999.0,9, -999.00,9,-999.0000,9,  -999.00,-999.000,9,-999.0000,9, -999.00,9, -999.00,9,  -999.0,9,  -999.0,-999.000,9,-999.000,     -999.0,9, -999.00,9, -999.00,9, -999.00,9,     -999.0,9,  -999.0,1, 20130531,     1930,  32.4663, -118.831,    34.3584,2,     -999.0,9,     -999.0,9,     7.5564,2,     -999.0,9,     -999.0,1,-999.0000, -999.00,-999.000
318M20130321,       P02E,     154,          1,         14,         14,2,20130531,       1855,    32.4664,  -118.8307,       1324,   338.2,    6.781,  34.1882,2,  34.1889,2,     35.1,2,    37.7,2,    62.1,2,   36.45,2,       0,2,    2.83,2,   1.063,2,   0.522,2,-999.000,1,   0.1544,2,  -999.0,9, -999.00,9,-999.0000,9,  -999.00,-999.000,9,-999.0000,9, -999.00,9, -999.00,9,  -999.0,9,  -999.0,-999.000,9,-999.000,     -999.0,9, -999.00,9, -999.00,9, -999.00,9,     -999.0,9,  -999.0,1, 20130531,     1928,  32.4663, -118.831,    34.3501,2,     -999.0,9,     -999.0,9,     6.7778,2,     -999.0,9,     -999.0,1,-999.0000, -999.00,-999.000
318M20130321,       P02E,     154,          1,         13,         13,2,20130531,       1855,    32.4664,  -118.8307,       1324,   388.2,   6.4485,  34.2062,2,  34.2058,2,     30.1,2,    30.2,2,   67.27,2,    37.6,2,       0,2,    2.92,2,-999.000,9,-999.000,9,-999.000,9,-999.0000,9,  2295.9,2, 2300.62,6,   7.3257,2,       25,-999.000,9,-999.0000,9, -999.00,9, -999.00,9,  -999.0,9,  -999.0,-999.000,9,-999.000,     -999.0,9, -999.00,9, -999.00,9, -999.00,9,     -999.0,9,  -999.0,1, 20130531,     1926,  32.4663, -118.831,    34.3671,2,     -999.0,9,     -999.0,9,     6.4459,2,     -999.0,1,     -999.0,1,-999.0000, -999.00,-999.000
318M20130321,       P02E,     154,          1,         12,         12,2,20130531,       1855,    32.4664,  -118.8307,       1324,   437.8,   6.1349,  34.2439,2,  34.2432,2,     22.7,2,    23.7,2,   73.42,2,   38.71,2,       0,2,       3,2,   0.521,2,   0.258,2,-999.000,1,   0.1168,2,  -999.0,9, -999.00,9,-999.0000,9,  -999.00,-999.000,9,-999.0000,9, -999.00,9, -999.00,9,  -999.0,9,  -999.0,-999.000,9,-999.000,     -999.0,9, -999.00,9, -999.00,9, -999.00,9,     -999.0,9,  -999.0,1, 20130531,     1924,  32.4663, -118.831,    34.4047,2,     -999.0,9,     -999.0,9,     6.1373,2,     -999.0,9,     -999.0,1,-999.0000, -999.00,-999.000
318M20130321,       P02E,     154,          1,         11,         11,2,20130531,       1855,    32.4664,  -118.8307,       1324,   488.6,   5.9263,  34.2894,2,  34.2889,2,     17.9,2,    15.9,2,    78.4,2,   39.55,2,       0,2,    3.08,2,-999.000,9,-999.000,9,-999.000,9,-999.0000,9,  -999.0,9, -999.00,9,-999.0000,9,  -999.00,-999.000,9,-999.0000,9, -999.00,9, -999.00,9,  -999.0,9,  -999.0,-999.000,9,-999.000,     -999.0,9, -999.00,9, -999.00,9, -999.00,9,     -999.0,9,  -999.0,1, 20130531,     1922,  32.4663, -118.831,    34.4506,2,     -999.0,9,     -999.0,9,     5.9215,2,     -999.0,9,     -999.0,1,-999.0000, -999.00,-999.000
318M20130321,       P02E,     154,          1,         10,         10,2,20130531,       1855,    32.4664,  -118.8307,       1324,     568,   5.6855,  34.3474,2,  34.3468,2,     12.8,2,      12,2,   83.87,2,   40.34,2,       0,2,    3.14,2,   0.152,2,   0.079,2,-999.000,1,   0.1201,2,  2326.3,2, 2327.63,2,   7.3103,2,       25,-999.000,9,-999.0000,9, -999.00,9, -999.00,9,  -999.0,9,  -999.0,-999.000,9,-999.000,     -999.0,9, -999.00,9, -999.00,9, -999.00,9,     -999.0,9,  -999.0,1, 20130531,     1920,  32.4663, -118.831,    34.5088,2,     -999.0,9,     -999.0,9,     5.6862,2,     -999.0,1,     -999.0,1,-999.0000, -999.00,-999.000
318M20130321,       P02E,     154,          1,          9,          9,2,20130531,       1855,    32.4664,  -118.8307,       1324,   669.5,   5.2908,  34.3736,2,  34.3735,2,     12.2,2,    11.7,2,   91.28,2,   41.44,2,       0,2,    3.19,2,-999.000,9,-999.000,9,-999.000,9,-999.0000,9,  -999.0,9, -999.00,9,    7.311,2,       25,-999.000,9,-999.0000,9, -999.00,9, -999.00,9,  -999.0,9,  -999.0,-999.000,9,-999.000,     -999.0,9, -999.00,9, -999.00,9, -999.00,9,     -999.0,9,  -999.0,1, 20130531,     1917,  32.4663, -118.831,    34.5356,2,     -999.0,9,     -999.0,9,     5.2906,2,     -999.0,9,     -999.0,1,-999.0000, -999.00,-999.000
318M20130321,       P02E,     154,          1,          8,          8,2,20130531,       1855,    32.4664,  -118.8307,       1324,   771.4,   4.7143,  34.4314,2,  34.4339,2,     14.5,2,    14.6,2,  104.17,2,   42.31,2,       0,2,    3.23,2,   0.055,2,   0.048,2,-999.000,1,     0.21,2,  -999.0,9, -999.00,9,-999.0000,9,  -999.00,-999.000,9,-999.0000,9, -999.00,9, -999.00,9,  -999.0,9,  -999.0,-999.000,9,-999.000,     -999.0,9, -999.00,9, -999.00,9, -999.00,9,     -999.0,9,  -999.0,1, 20130531,     1913,  32.4663, -118.831,    34.5963,2,     -999.0,9,     -999.0,9,      4.714,2,     -999.0,9,     -999.0,1,-999.0000, -999.00,-999.000
318M20130321,       P02E,     154,          1,          7,          7,2,20130531,       1855,    32.4664,  -118.8307,       1324,     871,    4.429,  34.4534,2,  34.4524,2,     16.5,2,    16.2,2,  111.58,2,    42.2,2,       0,2,    3.24,2,-999.000,9,-999.000,9,-999.000,9,-999.0000,9,  2357.3,2, 2361.64,2,    7.323,6,       25,-999.000,9,-999.0000,9, -999.00,9, -999.00,9,  -999.0,9,  -999.0,-999.000,9,-999.000,     -999.0,9, -999.00,9, -999.00,9, -999.00,9,     -999.0,9,  -999.0,1, 20130531,     1911,  32.4663, -118.831,    34.6149,2,     -999.0,9,     -999.0,9,     4.4259,2,     -999.0,1,     -999.0,1,-999.0000, -999.00,-999.000
318M20130321,       P02E,     154,          1,          6,          6,2,20130531,       1855,    32.4664,  -118.8307,       1324,   973.1,   4.1513,  34.4744,2,  34.4761,2,     19.2,2,    20.9,2,  117.34,2,   42.49,2,       0,2,    3.23,2,   0.061,2,   0.068,2,-999.000,1,   0.1333,2,  -999.0,9, -999.00,9,-999.0000,9,  -999.00,-999.000,9,-999.0000,9, -999.00,9, -999.00,9,  -999.0,9,  -999.0,-999.000,9,-999.000,     -999.0,9, -999.00,9, -999.00,9, -999.00,9,     -999.0,9,  -999.0,1, 20130531,     1908,  32.4663, -118.831,    34.6387,2,     -999.0,9,     -999.0,9,     4.1515,2,     -999.0,9,     -999.0,1,-999.0000, -999.00,-999.000
318M20130321,       P02E,     154,          1,          5,         37,2,20130531,       1855,    32.4664,  -118.8307,       1324,  1075.6,     3.88,  34.4946,2,  34.4909,2,     24.6,2,    24.5,2,  122.32,2,   42.83,2,       0,2,    3.21,2,-999.000,9,-999.000,9,-999.000,9,-999.0000,9,  -999.0,9, -999.00,9,-999.0000,9,  -999.00,-999.000,9,-999.0000,9, -999.00,9, -999.00,9,  -999.0,9,  -999.0,-999.000,9,-999.000,     -999.0,9, -999.00,9, -999.00,9, -999.00,9,     -999.0,9,  -999.0,1, 20130531,     1905,  32.4663, -118.831,    34.6535,2,     -999.0,9,     -999.0,9,       3.88,2,     -999.0,9,     -999.0,1,-999.0000, -999.00,-999.000
318M20130321,       P02E,     154,          1,          4,          4,2,20130531,       1855,    32.4664,  -118.8307,       1324,  1175.1,   3.6796,  34.5096,2,  34.5097,2,       29,2,      29,2,  126.71,2,   42.91,2,       0,2,     3.2,2,   0.052,2,   0.057,2,-999.000,1,   0.1086,2,  -999.0,9, -999.00,9,-999.0000,9,  -999.00,-999.000,9,-999.0000,9, -999.00,9, -999.00,9,  -999.0,9,  -999.0,-999.000,9,-999.000,     -999.0,9, -999.00,9, -999.00,9, -999.00,9,     -999.0,9,  -999.0,1, 20130531,     1902,  32.4663, -118.831,    34.6725,2,     -999.0,9,     -999.0,9,     3.6793,2,     -999.0,9,     -999.0,1,-999.0000, -999.00,-999.000
318M20130321,       P02E,     154,          1,          3,          3,2,20130531,       1855,    32.4664,  -118.8307,       1324,  1276.4,   3.3971,  34.5307,2,  34.5301,2,       34,2,      34,2,  134.42,2,   42.63,2,       0,2,    3.18,2,   0.064,2,   0.114,2,-999.000,1,   0.0799,2,  2372.3,2, 2389.85,2,   7.3593,2,       25,-999.000,9,-999.0000,9, -999.00,9, -999.00,9,  -999.0,9,  -999.0,-999.000,9,-999.000,     -999.0,9, -999.00,9, -999.00,9, -999.00,9,     -999.0,9,  -999.0,1, 20130531,     1858,  32.4663, -118.831,     34.693,2,     -999.0,9,     -999.0,9,     3.3953,2,     -999.0,1,     -999.0,1,-999.0000, -999.00,-999.000
318M20130321,       P02E,     154,          1,          2,          2,2,20130531,       1855,    32.4664,  -118.8307,       1324,  1327.2,   3.3359,  34.5357,2,  34.5356,2,     35.3,2,    35.2,2,  136.27,2,   42.52,2,       0,2,    3.18,2,   0.064,2,   0.135,2,-999.000,1,        0,2,  2373.5,2, 2393.05,2,   7.3626,2,       25,-999.000,9,-999.0000,9, -999.00,9, -999.00,9,  -999.0,9,  -999.0,-999.000,9,-999.000,     -999.0,9, -999.00,9, -999.00,9, -999.00,9,     -999.0,9,  -999.0,1, 20130531,     1856,  32.4664,-118.8307,    34.6985,2,     -999.0,9,     -999.0,9,     3.3364,2,     -999.0,1,     -999.0,1,-999.0000, -999.00,-999.000