BOTTLE,20220817CCHSIOAMB
EXPOCODE,SECT_ID,STNNBR,CASTNO,SAMPNO,BTLNBR,BTLNBR_FLAG_W,DATE,TIME,LATITUDE,LONGITUDE,DEPTH,CTDPRS,CTDTMP,CTDSAL,CTDSAL_FLAG_W,SALNTY,SALNTY_FLAG_W,CTDOXY,CTDOXY_FLAG_W,OXYGEN,OXYGEN_FLAG_W,SILCAT,SILCAT_FLAG_W,NITRAT,NITRAT_FLAG_W,NITRIT,NITRIT_FLAG_W,PHSPHT,PHSPHT_FLAG_W,CFC-11,CFC-11_FLAG_W,CFC-12,CFC-12_FLAG_W,CFC113,CFC113_FLAG_W,SF6,SF6_FLAG_W,TCARBN,TCARBN_FLAG_W,ALKALI,ALKALI_FLAG_W,PH_TOT,PH_TOT_FLAG_W,PH_TMP,TRITUM,TRITUM_FLAG_W,HELIUM,HELIUM_FLAG_W,DELHE3,DELHE3_FLAG_W,DELC13,DELC13_FLAG_W,DELC14,DELC14_FLAG_W,C14ERR,NEON,NEON_FLAG_W,NEONER,I-129,I-129_FLAG_W,SR-90,SR-90_FLAG_W,DOC,DOC_FLAG_W,TDN,TDN_FLAG_W,CALCIUM,CALCIUM_FLAG_W,D15N_NO3,D15N_NO3_FLAG_W,BTL_DATE,BTL_TIME,BTL_LAT,BTL_LON,SALTREF,SALTREF_FLAG_W,CS-137,CS-137_FLAG_W,CS-134,CS-134_FLAG_W,REFTMP,REFTMP_FLAG_W,LAB_DEN,LAB_DEN_FLAG_W,D18O_NO3,D18O_NO3_FLAG_W,HELIER,DELHER,TRITER
,,,,,,,,,,,METERS,DBAR,ITS-90,PSS-78,,PSS-78,,UMOL/KG,,UMOL/KG,,UMOL/KG,,UMOL/KG,,UMOL/KG,,UMOL/KG,,PMOL/KG,,PMOL/KG,,PMOL/KG,,FMOL/KG,,UMOL/KG,,UMOL/KG,,,,DEG C,TU,,NMOL/KG,,PERCNT,,/MILLE,,/MILLE,,/MILLE,NMOL/KG,,NMOL/KG,BQ/M^3,,DM/.1MG,,UMOL/KG,,UMOL/KG,,MMOL/KG,,/MILLE,,,,,,G/KG,,BQ/M^3,,BQ/M^3,,ITS-90,,,,/MILLE,,NMOL/KG,PERCNT,TU
318M20130321,       P02E,      99,          1,          6,          6,2,20130516,       0212,    30.0004,  -154.8757,       5640,  4471.9,   1.4964,   34.687,2,  34.6875,2,    150.8,2,   150.6,2,   154.8,2,      36,2,       0,2,    2.53,2,   0.013,2,   0.013,2,-999.000,5,        0,2,  -999.0,9, -999.00,9,-999.0000,9,  -999.00,-999.000,9,-999.0000,9, -999.00,9,    0.16,2,  -218.8,2,     2.4,-999.000,9,-999.000,     -999.0,9, -999.00,9, -999.00,9, -999.00,9,     -999.0,9,  -999.0,9, 20130516,      237,  30.0001,-154.8758,     34.851,2,     -999.0,9,     -999.0,9,     1.4961,2,     -999.0,9,     -999.0,9,-999.0000, -999.00,-999.000
318M20130321,       P02E,      99,          1,          5,         37,2,20130516,       0212,    30.0004,  -154.8757,       5640,  4882.6,   1.5171,  34.6896,2,  34.6904,2,    155.9,2,   155.4,2,  151.39,2,   35.68,2,       0,2,     2.5,2,   0.005,2,   0.004,2,-999.000,5,        0,2,    2324,2, 2418.06,2,   7.5784,6,       25,-999.000,9,-999.0000,9, -999.00,9,    0.18,2,  -210.5,2,     2.0,-999.000,9,-999.000,     -999.0,9, -999.00,9,   36.35,2, -999.00,9,     -999.0,9,  -999.0,9, 20130516,      229,       30,-154.8758,     34.854,2,     -999.0,9,     -999.0,9,     1.5169,2,     -999.0,9,     -999.0,9,-999.0000, -999.00,-999.000
318M20130321,       P02E,      99,          1,          4,          4,2,20130516,       0212,    30.0004,  -154.8757,       5640,  5304.6,   1.5514,  34.6913,2,  34.6918,2,    158.1,2,   159.2,2,  148.26,2,   35.39,2,       0,2,     2.5,2,   0.006,2,   0.006,2,-999.000,5,        0,2,  -999.0,9, -999.00,9,-999.0000,9,  -999.00,-999.000,9,-999.0000,9, -999.00,9,    0.24,2,  -207.1,2,     2.1,-999.000,9,-999.000,     -999.0,9, -999.00,9,   37.23,2, -999.00,9,     -999.0,9,  -999.0,9, 20130516,      221,       30,-154.8757,    34.8554,2,     -999.0,9,     -999.0,9,     1.5512,2,     -999.0,9,     -999.0,9,-999.0000, -999.00,-999.000
318M20130321,       P02E,      99,          1,          3,          3,2,20130516,       0212,    30.0004,  -154.8757,       5640,  5504.9,   1.5734,  34.6913,2,  34.6924,2,      160,2,   160.3,2,  147.48,2,   35.31,2,       0,2,    2.49,2,   0.006,2,   0.007,2,-999.000,5,        0,2,  2319.2,6, 2416.06,2,    7.582,2,       25,-999.000,9,-999.0000,9, -999.00,9,    0.23,2,  -208.0,2,     2.1,-999.000,9,-999.000,     -999.0,9, -999.00,9,   36.43,2, -999.00,9,     -999.0,9,  -999.0,9, 20130516,      216,  30.0002,-154.8756,     34.856,2,     -999.0,9,     -999.0,9,     1.5735,2,     -999.0,9,     -999.0,9,-999.0000, -999.00,-999.000
318M20130321,       P02E,      99,          1,          2,          2,2,20130516,       0212,    30.0004,  -154.8757,       5640,  5671.2,   1.5943,  34.6916,2,  34.6926,2,      161,2,   160.4,2,   146.7,2,   35.33,2,       0,2,    2.49,2,   0.006,2,   0.007,2,-999.000,5,        0,2,  2318.8,2, 2415.06,2,   7.5838,2,       25,-999.000,9,-999.0000,9, -999.00,9,    0.25,2,  -215.1,2,     2.1,-999.000,9,-999.000,     -999.0,9, -999.00,9,   37.21,2, -999.00,9,     -999.0,9,  -999.0,9, 20130516,      212,  30.0004,-154.8757,    34.8562,2,     -999.0,9,     -999.0,9,     1.5943,2,     -999.0,9,     -999.0,9,-999.0000, -999.00,-999.000