BOTTLE,20220817CCHSIOAMB
EXPOCODE,SECT_ID,STNNBR,CASTNO,SAMPNO,BTLNBR,BTLNBR_FLAG_W,DATE,TIME,LATITUDE,LONGITUDE,DEPTH,CTDPRS,CTDTMP,CTDSAL,CTDSAL_FLAG_W,SALNTY,SALNTY_FLAG_W,CTDOXY,CTDOXY_FLAG_W,OXYGEN,OXYGEN_FLAG_W,SILCAT,SILCAT_FLAG_W,NITRAT,NITRAT_FLAG_W,NITRIT,NITRIT_FLAG_W,PHSPHT,PHSPHT_FLAG_W,CFC-11,CFC-11_FLAG_W,CFC-12,CFC-12_FLAG_W,CFC113,CFC113_FLAG_W,SF6,SF6_FLAG_W,TCARBN,TCARBN_FLAG_W,ALKALI,ALKALI_FLAG_W,PH_TOT,PH_TOT_FLAG_W,PH_TMP,TRITUM,TRITUM_FLAG_W,HELIUM,HELIUM_FLAG_W,DELHE3,DELHE3_FLAG_W,DELC13,DELC13_FLAG_W,DELC14,DELC14_FLAG_W,C14ERR,NEON,NEON_FLAG_W,NEONER,I-129,I-129_FLAG_W,SR-90,SR-90_FLAG_W,DOC,DOC_FLAG_W,TDN,TDN_FLAG_W,CALCIUM,CALCIUM_FLAG_W,D15N_NO3,D15N_NO3_FLAG_W,BTL_DATE,BTL_TIME,BTL_LAT,BTL_LON,SALTREF,SALTREF_FLAG_W,CS-137,CS-137_FLAG_W,CS-134,CS-134_FLAG_W,REFTMP,REFTMP_FLAG_W,LAB_DEN,LAB_DEN_FLAG_W,D18O_NO3,D18O_NO3_FLAG_W,HELIER,DELHER,TRITER
,,,,,,,,,,,METERS,DBAR,ITS-90,PSS-78,,PSS-78,,UMOL/KG,,UMOL/KG,,UMOL/KG,,UMOL/KG,,UMOL/KG,,UMOL/KG,,PMOL/KG,,PMOL/KG,,PMOL/KG,,FMOL/KG,,UMOL/KG,,UMOL/KG,,,,DEG C,TU,,NMOL/KG,,PERCNT,,/MILLE,,/MILLE,,/MILLE,NMOL/KG,,NMOL/KG,BQ/M^3,,DM/.1MG,,UMOL/KG,,UMOL/KG,,MMOL/KG,,/MILLE,,,,,,G/KG,,BQ/M^3,,BQ/M^3,,ITS-90,,,,/MILLE,,NMOL/KG,PERCNT,TU
318M20130321,       P02E,     109,          1,          6,          6,2,20130519,       0355,    30.0002,  -147.9584,       4755,  3755.6,   1.4717,  34.6816,2,  34.6812,2,    141.3,2,   141.6,2,  161.54,2,   36.88,2,       0,2,    2.57,2,  -0.004,2,   0.002,2,-999.000,1,        0,2,  -999.0,9, -999.00,9,-999.0000,9,  -999.00,-999.000,9,-999.0000,9, -999.00,9, -999.00,9,  -999.0,9,  -999.0,-999.000,9,-999.000,     -999.0,9, -999.00,9, -999.00,9, -999.00,9,     -999.0,9,  -999.0,1, 20130519,      419,  30.0001,-147.9586,    34.8448,2,     -999.0,9,     -999.0,9,     1.4715,2,     -999.0,9,     -999.0,1,-999.0000, -999.00,-999.000
318M20130321,       P02E,     109,          1,          5,         37,2,20130519,       0355,    30.0002,  -147.9584,       4755,  4062.3,   1.4659,  34.6855,2,  34.6867,2,    145.6,2,   147.6,2,  158.12,2,   36.43,2,       0,2,    2.53,2,  -0.004,2,   0.000,2,-999.000,1,        0,2,  2331.6,2, 2424.56,6,   7.5682,2,       25,-999.000,9,-999.0000,9, -999.00,9, -999.00,9,  -999.0,9,  -999.0,-999.000,9,-999.000,     -999.0,9, -999.00,9,   36.68,2, -999.00,9,     -999.0,9,  -999.0,1, 20130519,      412,       30,-147.9585,    34.8503,2,     -999.0,9,     -999.0,9,     1.4657,2,     -999.0,9,     -999.0,1,-999.0000, -999.00,-999.000
318M20130321,       P02E,     109,          1,          4,          4,2,20130519,       0355,    30.0002,  -147.9584,       4755,  4367.4,   1.4759,  34.6881,2,  34.6891,2,    151.9,2,   152.3,2,  154.12,2,   36.09,2,       0,2,    2.51,2,  -0.002,2,   0.003,2,-999.000,1,        0,2,  -999.0,9, -999.00,9,-999.0000,9,  -999.00,-999.000,9,-999.0000,9, -999.00,9, -999.00,9,  -999.0,9,  -999.0,-999.000,9,-999.000,     -999.0,9, -999.00,9,   35.03,2, -999.00,9,     -999.0,9,  -999.0,1, 20130519,      406,       30,-147.9585,    34.8527,2,     -999.0,9,     -999.0,9,     1.4757,2,     -999.0,9,     -999.0,1,-999.0000, -999.00,-999.000
318M20130321,       P02E,     109,          1,          3,          3,2,20130519,       0355,    30.0002,  -147.9584,       4755,    4677,   1.4922,  34.6895,2,  34.6903,2,    156.6,2,   156.2,2,   150.7,2,   35.79,2,       0,2,    2.49,2,  -0.002,2,   0.000,2,-999.000,1,        0,2,  2323.4,2, 2420.06,2,   7.5792,6,       25,-999.000,9,-999.0000,9, -999.00,9, -999.00,9,  -999.0,9,  -999.0,-999.000,9,-999.000,     -999.0,9, -999.00,9,   35.39,2, -999.00,9,     -999.0,9,  -999.0,1, 20130519,      359,       30,-147.9583,    34.8538,2,     -999.0,9,     -999.0,9,     1.4923,2,     -999.0,9,     -999.0,1,-999.0000, -999.00,-999.000
318M20130321,       P02E,     109,          1,          2,          2,2,20130519,       0355,    30.0002,  -147.9584,       4755,  4836.8,   1.5078,  34.6898,2,  34.6903,2,    157.6,2,     157,2,  149.44,2,   35.73,2,       0,2,    2.46,2,   0.000,2,   0.002,2,-999.000,1,        0,2,  2323.2,6, 2419.76,2,   7.5778,2,       25,-999.000,9,-999.0000,9, -999.00,9, -999.00,9,  -999.0,9,  -999.0,-999.000,9,-999.000,     -999.0,9, -999.00,9,   35.78,2, -999.00,9,     -999.0,9,  -999.0,1, 20130519,      355,  30.0002,-147.9584,    34.8538,2,     -999.0,9,     -999.0,9,     1.5072,2,     -999.0,9,     -999.0,1,-999.0000, -999.00,-999.000