BOTTLE,20220817CCHSIOAMB
EXPOCODE,SECT_ID,STNNBR,CASTNO,SAMPNO,BTLNBR,BTLNBR_FLAG_W,DATE,TIME,LATITUDE,LONGITUDE,DEPTH,CTDPRS,CTDTMP,CTDSAL,CTDSAL_FLAG_W,SALNTY,SALNTY_FLAG_W,CTDOXY,CTDOXY_FLAG_W,OXYGEN,OXYGEN_FLAG_W,SILCAT,SILCAT_FLAG_W,NITRAT,NITRAT_FLAG_W,NITRIT,NITRIT_FLAG_W,PHSPHT,PHSPHT_FLAG_W,CFC-11,CFC-11_FLAG_W,CFC-12,CFC-12_FLAG_W,CFC113,CFC113_FLAG_W,SF6,SF6_FLAG_W,TCARBN,TCARBN_FLAG_W,ALKALI,ALKALI_FLAG_W,PH_TOT,PH_TOT_FLAG_W,PH_TMP,TRITUM,TRITUM_FLAG_W,HELIUM,HELIUM_FLAG_W,DELHE3,DELHE3_FLAG_W,DELC13,DELC13_FLAG_W,DELC14,DELC14_FLAG_W,C14ERR,NEON,NEON_FLAG_W,NEONER,I-129,I-129_FLAG_W,SR-90,SR-90_FLAG_W,DOC,DOC_FLAG_W,TDN,TDN_FLAG_W,CALCIUM,CALCIUM_FLAG_W,D15N_NO3,D15N_NO3_FLAG_W,BTL_DATE,BTL_TIME,BTL_LAT,BTL_LON,SALTREF,SALTREF_FLAG_W,CS-137,CS-137_FLAG_W,CS-134,CS-134_FLAG_W,REFTMP,REFTMP_FLAG_W,LAB_DEN,LAB_DEN_FLAG_W,D18O_NO3,D18O_NO3_FLAG_W,HELIER,DELHER,TRITER
,,,,,,,,,,,METERS,DBAR,ITS-90,PSS-78,,PSS-78,,UMOL/KG,,UMOL/KG,,UMOL/KG,,UMOL/KG,,UMOL/KG,,UMOL/KG,,PMOL/KG,,PMOL/KG,,PMOL/KG,,FMOL/KG,,UMOL/KG,,UMOL/KG,,,,DEG C,TU,,NMOL/KG,,PERCNT,,/MILLE,,/MILLE,,/MILLE,NMOL/KG,,NMOL/KG,BQ/M^3,,DM/.1MG,,UMOL/KG,,UMOL/KG,,MMOL/KG,,/MILLE,,,,,,G/KG,,BQ/M^3,,BQ/M^3,,ITS-90,,,,/MILLE,,NMOL/KG,PERCNT,TU
318M20130321,       P02E,     136,          1,         36,         36,2,20130527,       1216,    29.9999,  -127.2192,       4391,     2.7,  17.6565,  33.9382,2,  33.9385,2,    241.4,2,   241.8,2,    2.05,2,       0,2,       0,2,    0.18,2,   2.266,2,   1.358,2,-999.000,1,   1.5434,2,  2028.2,6,  2257.6,2,   7.9335,2,       25,   0.649,2,   1.7467,2,   -1.05,2, -999.00,9,  -999.0,9,  -999.0,   7.144,2,   0.033,     -999.0,9, -999.00,9, -999.00,9, -999.00,9,     -999.0,9,  -999.0,9, 20130527,     1408,  30.0001,-127.2188,    34.0985,2,     -999.0,9,     -999.0,9,    17.6563,2,     -999.0,9,     -999.0,9,   0.0073,    0.15,   0.010
318M20130321,       P02E,     136,          1,         34,         34,2,20130527,       1216,    29.9999,  -127.2192,       4391,    34.8,  17.6788,  33.9427,2,  33.9461,2,    241.7,2,   241.4,2,    2.05,2,       0,2,       0,2,    0.18,2,-999.000,9,-999.000,9,-999.000,9,-999.0000,9,    2028,2,  2256.5,6,   7.9342,2,       25,   0.646,2,   1.7389,2,   -1.07,2, -999.00,9,  -999.0,9,  -999.0,   7.244,2,   0.033,     -999.0,9, -999.00,9, -999.00,9, -999.00,9,     -999.0,9,  -999.0,9, 20130527,     1406,  29.9998,-127.2187,    34.1062,2,     -999.0,9,     -999.0,9,    17.6761,2,     -999.0,9,     -999.0,9,   0.0073,    0.15,   0.011
318M20130321,       P02E,     136,          1,         33,         33,2,20130527,       1216,    29.9999,  -127.2192,       4391,    60.1,  17.8133,  34.0627,2,  34.0713,2,    241.9,2,   241.7,2,    1.95,2,       0,2,       0,2,    0.15,2,   2.267,2,   1.358,2,-999.000,1,   1.5287,2,  2030.2,2,  2262.6,2,     7.94,2,       25,-999.000,9,-999.0000,9, -999.00,9, -999.00,9,  -999.0,9,  -999.0,-999.000,9,-999.000,     -999.0,9, -999.00,9, -999.00,9, -999.00,9,     -999.0,9,  -999.0,9, 20130527,     1404,  29.9996,-127.2187,    34.2319,2,     -999.0,9,     -999.0,9,     17.813,2,     -999.0,9,     -999.0,9,-999.0000, -999.00,-999.000
318M20130321,       P02E,     136,          1,         32,         32,2,20130527,       1216,    29.9999,  -127.2192,       4391,    84.7,   17.206,  34.1093,2,   34.095,2,    244.1,2,   245.2,2,    1.95,2,       0,2,       0,2,    0.14,2,-999.000,9,-999.000,9,-999.000,9,-999.0000,9,  2030.8,2,  2263.8,2,   7.9435,6,       25,-999.000,9,-999.0000,9, -999.00,9, -999.00,9,  -999.0,9,  -999.0,-999.000,9,-999.000,     -999.0,9, -999.00,9, -999.00,9, -999.00,9,     -999.0,9,  -999.0,9, 20130527,     1402,  29.9995,-127.2188,    34.2557,2,     -999.0,9,     -999.0,9,    17.2223,2,     -999.0,9,     -999.0,9,-999.0000, -999.00,-999.000
318M20130321,       P02E,     136,          1,         31,         31,2,20130527,       1216,    29.9999,  -127.2192,       4391,   115.2,  17.2407,  34.2684,2,  34.2771,2,      240,2,   240.8,2,    1.86,2,       0,2,       0,2,    0.12,2,   2.293,2,   1.376,2,-999.000,1,   1.4731,2,  -999.0,9, 2272.01,2,-999.0000,9,  -999.00,   0.633,2,   1.7629,2,   -1.00,2, -999.00,9,  -999.0,9,  -999.0,   7.253,2,   0.033,     -999.0,9, -999.00,9, -999.00,9, -999.00,9,     -999.0,9,  -999.0,9, 20130527,     1400,  29.9995,-127.2191,    34.4387,2,     -999.0,9,     -999.0,9,    17.2249,2,     -999.0,9,     -999.0,9,   0.0074,    0.15,   0.011
318M20130321,       P02E,     136,          1,         30,         30,2,20130527,       1216,    29.9999,  -127.2192,       4391,   164.9,  14.3966,   33.889,2,  33.9067,2,    234.3,2,   232.6,2,    3.42,2,    1.73,2,    0.11,2,    0.31,2,-999.000,9,-999.000,9,-999.000,9,-999.0000,9,  2044.7,2,  2243.6,2,   7.8789,2,       25,-999.000,9,-999.0000,9, -999.00,9, -999.00,9,  -999.0,9,  -999.0,-999.000,9,-999.000,     -999.0,9, -999.00,9, -999.00,9, -999.00,9,     -999.0,9,  -999.0,9, 20130527,     1358,  29.9998,-127.2193,    34.0666,2,     -999.0,9,     -999.0,9,    14.4348,3,     -999.0,9,     -999.0,9,-999.0000, -999.00,-999.000
318M20130321,       P02E,     136,          1,         29,         29,2,20130527,       1216,    29.9999,  -127.2192,       4391,   215.2,  10.7969,  33.6863,2,  33.6855,2,    214.3,2,   213.6,2,   10.45,2,   10.82,2,    0.01,2,    0.89,2,   3.180,2,   1.813,2,-999.000,1,   1.6233,2,    2084,2, 2228.89,2,   7.7496,2,       25,   0.563,2,   1.7594,2,   -0.25,2, -999.00,9,  -999.0,9,  -999.0,   7.531,2,   0.035,     -999.0,9, -999.00,9, -999.00,9, -999.00,9,     -999.0,9,  -999.0,9, 20130527,     1356,  30.0002,-127.2193,    33.8444,2,     -999.0,9,     -999.0,9,    10.7944,2,     -999.0,9,     -999.0,9,   0.0074,    0.15,   0.011
318M20130321,       P02E,     136,          1,         27,         27,2,20130527,       1216,    29.9999,  -127.2192,       4391,   265.9,   9.4039,  33.8685,2,  33.8689,2,    191.2,2,     192,2,   19.44,2,   17.69,2,    0.01,2,    1.31,2,-999.000,9,-999.000,9,-999.000,9,-999.0000,9,  2127.2,2,  2242.9,2,   7.6742,2,       25,-999.000,9,-999.0000,9, -999.00,9, -999.00,9,  -999.0,9,  -999.0,-999.000,9,-999.000,     -999.0,9, -999.00,9, -999.00,9, -999.00,9,     -999.0,9,  -999.0,9, 20130527,     1355,  30.0006,-127.2193,    34.0286,2,     -999.0,9,     -999.0,9,     9.4044,2,     -999.0,9,     -999.0,9,-999.0000, -999.00,-999.000
318M20130321,       P02E,     136,          1,         26,         26,2,20130527,       1216,    29.9999,  -127.2192,       4391,   316.7,   8.4536,  33.9753,2,  33.9764,2,    155.3,2,   157.7,2,   29.88,2,   23.54,2,    0.01,2,    1.72,2,   3.104,2,   1.688,2,-999.000,1,   1.0627,2,  -999.0,9, -999.00,9,-999.0000,9,  -999.00,   0.497,6,   1.7914,2,    4.41,2, -999.00,9,  -999.0,9,  -999.0,   7.684,2,   0.035,     -999.0,9, -999.00,9, -999.00,9, -999.00,9,     -999.0,9,  -999.0,9, 20130527,     1353,  30.0008,-127.2192,    34.1366,2,     -999.0,9,     -999.0,9,     8.4532,2,     -999.0,9,     -999.0,9,   0.0075,    0.15,   0.008
318M20130321,       P02E,     136,          1,         25,         25,2,20130527,       1216,    29.9999,  -127.2192,       4391,   367.5,   7.5784,  33.9952,2,   33.996,2,    122.7,2,   122.9,2,   40.72,2,   28.51,2,    0.01,2,    2.08,2,-999.000,9,-999.000,9,-999.000,9,-999.0000,9,  2205.8,2,  2265.1,2,   7.5027,2,       25,-999.000,9,-999.0000,9, -999.00,9, -999.00,9,  -999.0,9,  -999.0,-999.000,9,-999.000,     -999.0,9, -999.00,9, -999.00,9, -999.00,9,     -999.0,9,  -999.0,9, 20130527,     1351,  30.0009,-127.2193,    34.1563,2,     -999.0,9,     -999.0,9,      7.576,2,     -999.0,9,     -999.0,9,-999.0000, -999.00,-999.000
318M20130321,       P02E,     136,          1,         24,         24,2,20130527,       1216,    29.9999,  -127.2192,       4391,   437.1,   6.4576,  34.0386,2,  34.0386,2,     78.3,2,    75.6,2,    58.4,2,   34.84,2,    0.01,2,    2.57,2,   1.905,2,   0.956,2,-999.000,1,   0.4676,2,  2256.7,2, 2282.01,2,   7.3931,2,       25,   0.378,2,   1.8389,2,   12.79,2, -999.00,9,  -999.0,9,  -999.0,   7.889,2,   0.036,     -999.0,9, -999.00,9, -999.00,9, -999.00,9,     -999.0,9,  -999.0,9, 20130527,     1349,  30.0007,-127.2195,    34.1991,2,     -999.0,9,     -999.0,9,     6.4577,2,     -999.0,9,     -999.0,9,   0.0077,    0.15,   0.011
318M20130321,       P02E,     136,          1,         23,         23,2,20130527,       1216,    29.9999,  -127.2192,       4391,   538.8,   5.6308,  34.1181,2,   34.118,2,     39.5,2,    40.5,2,   75.19,2,   39.02,2,    0.01,2,    2.91,2,-999.000,9,-999.000,9,-999.000,9,-999.0000,9,    2298,2, 2300.62,2,    7.326,6,       25,-999.000,9,-999.0000,9, -999.00,9, -999.00,9,  -999.0,9,  -999.0,-999.000,9,-999.000,     -999.0,9, -999.00,9, -999.00,9, -999.00,9,     -999.0,9,  -999.0,9, 20130527,     1346,  30.0005,-127.2198,    34.2788,2,     -999.0,9,     -999.0,9,     5.6315,2,     -999.0,9,     -999.0,9,-999.0000, -999.00,-999.000
318M20130321,       P02E,     136,          1,         22,         22,2,20130527,       1216,    29.9999,  -127.2192,       4391,   640.3,    4.976,  34.2176,2,  34.2213,2,     19.4,2,    19.6,2,   91.68,2,   41.68,2,    0.01,2,    3.13,2,   0.280,2,   0.144,2,-999.000,1,   0.0772,2,  2328.3,2, 2321.82,2,   7.2958,2,       25,   0.123,2,   1.8546,2,   15.82,2, -999.00,9,  -999.0,9,  -999.0,   7.952,2,   0.037,     -999.0,9, -999.00,9, -999.00,9, -999.00,9,     -999.0,9,  -999.0,9, 20130527,     1343,  30.0002,-127.2201,    34.3826,2,     -999.0,9,     -999.0,9,     4.9778,2,     -999.0,9,     -999.0,9,   0.0078,    0.15,   0.010
318M20130321,       P02E,     136,          1,         21,         21,2,20130527,       1216,    29.9999,  -127.2192,       4391,   742.5,   4.5591,  34.3127,2,  34.3127,2,     13.2,2,    13.2,2,  102.71,2,   42.82,2,       0,2,     3.2,2,   0.068,2,   0.041,2,-999.000,1,        0,2,  2345.8,2, 2338.53,2,    7.297,2,       25,   0.063,2,   1.8770,2,   15.36,2, -999.00,9,  -999.0,9,  -999.0,   8.022,2,   0.037,     -999.0,9, -999.00,9, -999.00,9, -999.00,9,     -999.0,9,  -999.0,9, 20130527,     1341,  29.9999,-127.2204,    34.4745,2,     -999.0,9,     -999.0,9,     4.5643,2,     -999.0,9,     -999.0,9,   0.0079,    0.15,   0.010
318M20130321,       P02E,     136,          1,         20,         20,2,20130527,       1216,    29.9999,  -127.2192,       4391,   841.1,   4.2129,  34.3819,2,  34.3837,2,     15.9,2,      16,2,   111.2,2,    43.3,2,       0,2,    3.23,2,-999.000,9,-999.000,9,-999.000,9,-999.0000,9,  2354.6,2, 2352.84,2,   7.3109,2,       25,-999.000,9,-999.0000,9, -999.00,9, -999.00,9,  -999.0,9,  -999.0,-999.000,9,-999.000,     -999.0,9, -999.00,9, -999.00,9, -999.00,9,     -999.0,9,  -999.0,9, 20130527,     1338,       30,-127.2204,    34.5458,2,     -999.0,9,     -999.0,9,     4.2127,2,     -999.0,9,     -999.0,9,-999.0000, -999.00,-999.000
318M20130321,       P02E,     136,          1,         19,         19,2,20130527,       1216,    29.9999,  -127.2192,       4391,   942.4,   3.9813,  34.4338,2,  34.4323,2,     22.5,2,    22.5,2,  115.98,2,   43.33,2,       0,2,     3.2,2,   0.012,2,   0.012,2,-999.000,1,        0,2,  -999.0,9, -999.00,9,-999.0000,9,  -999.00,   0.015,2,   1.8870,2,   18.11,2, -999.00,9,  -999.0,9,  -999.0,   7.938,2,   0.037,     -999.0,9, -999.00,9, -999.00,9, -999.00,9,     -999.0,9,  -999.0,9, 20130527,     1336,  30.0004,-127.2201,    34.5947,2,     -999.0,9,     -999.0,9,     3.9786,2,     -999.0,9,     -999.0,9,   0.0079,    0.15,   0.010
318M20130321,       P02E,     136,          1,         18,         18,2,20130527,       1216,    29.9999,  -127.2192,       4391,  1042.2,   3.7714,  34.4712,2,   34.471,2,     29.1,2,    28.7,2,  120.17,2,   43.17,2,       0,2,    3.18,2,-999.000,9,-999.000,9,-999.000,9,-999.0000,9,  2361.2,2, 2369.94,2,    7.344,2,       25,   0.018,2,   1.8881,2,   19.99,2, -999.00,9,  -999.0,9,  -999.0,   7.935,2,   0.037,     -999.0,9, -999.00,9, -999.00,9, -999.00,9,     -999.0,9,  -999.0,9, 20130527,     1333,  30.0003,-127.2198,    34.6336,2,     -999.0,9,     -999.0,9,     3.7737,2,     -999.0,9,     -999.0,9,   0.0079,    0.15,   0.010
318M20130321,       P02E,     136,          1,         17,         17,2,20130527,       1216,    29.9999,  -127.2192,       4391,  1142.2,   3.5527,   34.498,2,  34.4973,2,     35.3,2,    34.6,2,  124.86,2,   43.03,2,       0,2,    3.16,2,   0.006,2,   0.007,2,-999.000,1,        0,2,  -999.0,9, -999.00,9,-999.0000,9,  -999.00,   0.016,2,   1.9109,2,   20.91,2, -999.00,9,  -999.0,9,  -999.0,   8.124,2,   0.037,     -999.0,9, -999.00,9, -999.00,9, -999.00,9,     -999.0,9,  -999.0,9, 20130527,     1330,       30,-127.2195,      34.66,2,     -999.0,9,     -999.0,9,     3.5534,2,     -999.0,9,     -999.0,9,   0.0080,    0.15,   0.010
318M20130321,       P02E,     136,          1,         16,         16,2,20130527,       1216,    29.9999,  -127.2192,       4391,  1243.7,   3.3321,  34.5215,2,  34.5211,2,     40.5,2,      41,2,  130.22,2,   42.83,2,       0,2,    3.14,2,-999.000,9,-999.000,9,-999.000,9,-999.0000,9,  2362.6,2, 2383.65,2,   7.3692,2,       25,-999.000,9,-999.0000,9, -999.00,9, -999.00,9,  -999.0,9,  -999.0,-999.000,9,-999.000,     -999.0,9, -999.00,9, -999.00,9, -999.00,9,     -999.0,9,  -999.0,9, 20130527,     1328,  29.9997,-127.2192,    34.6838,2,     -999.0,9,     -999.0,9,     3.3318,2,     -999.0,9,     -999.0,9,-999.0000, -999.00,-999.000
318M20130321,       P02E,     136,          1,         15,         15,2,20130527,       1216,    29.9999,  -127.2192,       4391,  1349.4,   3.1154,  34.5416,2,  34.5415,2,     45.6,2,    46.2,2,  135.69,2,   42.61,2,       0,2,    3.11,2,   0.004,2,   0.006,2,-999.000,1,        0,2,  -999.0,9, -999.00,9,-999.0000,9,  -999.00,   0.012,2,   1.9137,2,   22.20,2, -999.00,9,  -999.0,9,  -999.0,   8.082,2,   0.037,     -999.0,9, -999.00,9, -999.00,9, -999.00,9,     -999.0,9,  -999.0,9, 20130527,     1324,  29.9994,-127.2189,    34.7044,2,     -999.0,9,     -999.0,9,     3.1143,2,     -999.0,9,     -999.0,9,   0.0080,    0.15,   0.010
318M20130321,       P02E,     136,          1,         14,         14,2,20130527,       1216,    29.9999,  -127.2192,       4391,  1477.7,   2.8601,   34.563,2,  34.5617,2,     50.8,2,      51,2,  142.03,2,   42.35,2,       0,2,    3.09,2,-999.000,9,-999.000,9,-999.000,9,-999.0000,9,  2369.9,2, 2395.85,2,   7.3896,2,       25,   0.017,2,   1.9441,2,   22.79,2, -999.00,9,  -999.0,9,  -999.0,   8.123,2,   0.037,     -999.0,9, -999.00,9, -999.00,9, -999.00,9,     -999.0,9,  -999.0,9, 20130527,     1321,  29.9991,-127.2188,    34.7247,2,     -999.0,9,     -999.0,9,     2.8592,2,     -999.0,9,     -999.0,9,   0.0082,    0.15,   0.010
318M20130321,       P02E,     136,          1,         13,         13,2,20130527,       1216,    29.9999,  -127.2192,       4391,  1678.5,   2.5771,  34.5859,2,  34.5876,2,     59.7,2,    59.9,2,  149.35,2,   41.87,2,       0,2,    3.05,2,   0.003,2,   0.005,2,-999.000,1,        0,2,  2371.5,2, 2404.85,2,   7.4072,2,       25,   0.008,2,   1.9433,2,   24.21,2, -999.00,9,  -999.0,9,  -999.0,   8.038,2,   0.037,     -999.0,9, -999.00,9, -999.00,9, -999.00,9,     -999.0,9,  -999.0,9, 20130527,     1316,  29.9994,-127.2192,    34.7507,2,     -999.0,9,     -999.0,9,      2.577,2,     -999.0,9,     -999.0,9,   0.0082,    0.15,   0.010
318M20130321,       P02E,     136,          1,         12,         12,2,20130527,       1216,    29.9999,  -127.2192,       4391,  1884.2,   2.3373,  34.6052,2,  34.6049,2,     70.7,2,    70.2,2,   155.2,2,   41.27,2,       0,2,    2.98,2,-999.000,9,-999.000,9,-999.000,9,-999.0000,9,  2372.1,2, 2410.76,2,   7.4267,2,       25,-999.000,9,-999.0000,9, -999.00,9, -999.00,9,  -999.0,9,  -999.0,-999.000,9,-999.000,     -999.0,9, -999.00,9, -999.00,9, -999.00,9,     -999.0,9,  -999.0,9, 20130527,     1312,  30.0004,-127.2196,    34.7681,2,     -999.0,9,     -999.0,9,     2.3368,2,     -999.0,9,     -999.0,9,-999.0000, -999.00,-999.000
318M20130321,       P02E,     136,          1,         11,         11,2,20130527,       1216,    29.9999,  -127.2192,       4391,  2003.2,   2.1888,  34.6168,2,  34.6163,2,     77.1,2,    77.4,2,  158.13,2,   40.84,2,       0,2,    2.94,2,   0.000,2,   0.002,2,-999.000,1,        0,2,  -999.0,9, -999.00,9,-999.0000,9,  -999.00,   0.006,2,   1.9285,2,   24.63,2, -999.00,9,  -999.0,9,  -999.0,   8.083,2,   0.037,     -999.0,9, -999.00,9, -999.00,9, -999.00,9,     -999.0,9,  -999.0,9, 20130527,     1308,  30.0008,-127.2199,    34.7795,2,     -999.0,9,     -999.0,9,     2.1884,2,     -999.0,9,     -999.0,9,   0.0081,    0.15,   0.010
318M20130321,       P02E,     136,          1,         10,         10,2,20130527,       1216,    29.9999,  -127.2192,       4391,  2359.7,    1.892,  34.6407,2,  34.6398,2,     93.8,2,    93.3,2,  164.47,2,    39.8,2,       0,2,    2.85,2,-999.000,9,-999.000,9,-999.000,9,-999.0000,9,  2367.3,2, 2422.86,2,    7.474,2,       25,-999.000,9,-999.0000,9, -999.00,9, -999.00,9,  -999.0,9,  -999.0,-999.000,9,-999.000,     -999.0,9, -999.00,9, -999.00,9, -999.00,9,     -999.0,9,  -999.0,9, 20130527,     1301,  30.0005,-127.2195,    34.8032,2,     -999.0,9,     -999.0,9,     1.8921,2,     -999.0,9,     -999.0,9,-999.0000, -999.00,-999.000
318M20130321,       P02E,     136,          1,          9,          9,2,20130527,       1216,    29.9999,  -127.2192,       4391,  2616.5,   1.7541,  34.6515,2,  34.6506,2,    103.5,2,   103.2,2,   167.5,2,    39.2,2,       0,2,    2.79,2,-999.000,9,-999.000,9,-999.000,9,-999.0000,9,  -999.0,9, -999.00,9,-999.0000,9,  -999.00,-999.000,9,-999.0000,9, -999.00,9, -999.00,9,  -999.0,9,  -999.0,-999.000,9,-999.000,     -999.0,9, -999.00,9, -999.00,9, -999.00,9,     -999.0,9,  -999.0,9, 20130527,     1255,  30.0004,-127.2196,     34.814,2,     -999.0,9,     -999.0,9,     1.7545,2,     -999.0,9,     -999.0,9,-999.0000, -999.00,-999.000
318M20130321,       P02E,     136,          1,          8,          8,2,20130527,       1216,    29.9999,  -127.2192,       4391,  2871.2,   1.6423,   34.661,2,  34.6605,2,    112.5,2,   112.4,2,  169.25,2,   38.67,2,       0,2,    2.74,2,   0.002,2,   0.004,2,-999.000,1,        0,2,  2359.8,2, 2427.16,2,   7.5075,2,       25,-999.000,9,-999.0000,9, -999.00,9, -999.00,9,  -999.0,9,  -999.0,-999.000,9,-999.000,     -999.0,9, -999.00,9, -999.00,9, -999.00,9,     -999.0,9,  -999.0,9, 20130527,     1250,  30.0003,-127.2198,    34.8239,2,     -999.0,9,     -999.0,9,     1.6419,2,     -999.0,9,     -999.0,9,-999.0000, -999.00,-999.000
318M20130321,       P02E,     136,          1,          7,          7,2,20130527,       1216,    29.9999,  -127.2192,       4391,    3143,   1.5691,  34.6686,2,  34.6681,2,      120,2,   120.6,2,  169.45,2,   38.17,2,       0,2,    2.69,2,-999.000,9,-999.000,9,-999.000,9,-999.0000,9,  -999.0,9, -999.00,9,-999.0000,9,  -999.00,-999.000,9,-999.0000,9, -999.00,9, -999.00,9,  -999.0,9,  -999.0,-999.000,9,-999.000,     -999.0,9, -999.00,9, -999.00,9, -999.00,9,     -999.0,9,  -999.0,9, 20130527,     1244,  30.0002,-127.2199,    34.8316,2,     -999.0,9,     -999.0,9,     1.5694,2,     -999.0,9,     -999.0,9,-999.0000, -999.00,-999.000
318M20130321,       P02E,     136,          1,          6,          6,2,20130527,       1216,    29.9999,  -127.2192,       4391,  3449.1,    1.526,  34.6749,2,  34.6742,2,    127.5,2,   127.8,2,  169.45,2,   37.72,2,       0,2,    2.65,2,   0.004,2,   0.008,2,-999.000,1,        0,2,  2351.8,2, 2429.16,2,   7.5375,6,       25,-999.000,9,-999.0000,9, -999.00,9, -999.00,9,  -999.0,9,  -999.0,-999.000,9,-999.000,     -999.0,9, -999.00,9, -999.00,9, -999.00,9,     -999.0,9,  -999.0,9, 20130527,     1238,       30,  -127.22,    34.8377,2,     -999.0,9,     -999.0,9,     1.5261,2,     -999.0,9,     -999.0,9,-999.0000, -999.00,-999.000