BOTTLE,20220817CCHSIOAMB
EXPOCODE,SECT_ID,STNNBR,CASTNO,SAMPNO,BTLNBR,BTLNBR_FLAG_W,DATE,TIME,LATITUDE,LONGITUDE,DEPTH,CTDPRS,CTDTMP,CTDSAL,CTDSAL_FLAG_W,SALNTY,SALNTY_FLAG_W,CTDOXY,CTDOXY_FLAG_W,OXYGEN,OXYGEN_FLAG_W,SILCAT,SILCAT_FLAG_W,NITRAT,NITRAT_FLAG_W,NITRIT,NITRIT_FLAG_W,PHSPHT,PHSPHT_FLAG_W,CFC-11,CFC-11_FLAG_W,CFC-12,CFC-12_FLAG_W,CFC113,CFC113_FLAG_W,SF6,SF6_FLAG_W,TCARBN,TCARBN_FLAG_W,ALKALI,ALKALI_FLAG_W,PH_TOT,PH_TOT_FLAG_W,PH_TMP,TRITUM,TRITUM_FLAG_W,HELIUM,HELIUM_FLAG_W,DELHE3,DELHE3_FLAG_W,DELC13,DELC13_FLAG_W,DELC14,DELC14_FLAG_W,C14ERR,NEON,NEON_FLAG_W,NEONER,I-129,I-129_FLAG_W,SR-90,SR-90_FLAG_W,DOC,DOC_FLAG_W,TDN,TDN_FLAG_W,CALCIUM,CALCIUM_FLAG_W,D15N_NO3,D15N_NO3_FLAG_W,BTL_DATE,BTL_TIME,BTL_LAT,BTL_LON,SALTREF,SALTREF_FLAG_W,CS-137,CS-137_FLAG_W,CS-134,CS-134_FLAG_W,REFTMP,REFTMP_FLAG_W,LAB_DEN,LAB_DEN_FLAG_W,D18O_NO3,D18O_NO3_FLAG_W,HELIER,DELHER,TRITER
,,,,,,,,,,,METERS,DBAR,ITS-90,PSS-78,,PSS-78,,UMOL/KG,,UMOL/KG,,UMOL/KG,,UMOL/KG,,UMOL/KG,,UMOL/KG,,PMOL/KG,,PMOL/KG,,PMOL/KG,,FMOL/KG,,UMOL/KG,,UMOL/KG,,,,DEG C,TU,,NMOL/KG,,PERCNT,,/MILLE,,/MILLE,,/MILLE,NMOL/KG,,NMOL/KG,BQ/M^3,,DM/.1MG,,UMOL/KG,,UMOL/KG,,MMOL/KG,,/MILLE,,,,,,G/KG,,BQ/M^3,,BQ/M^3,,ITS-90,,,,/MILLE,,NMOL/KG,PERCNT,TU
318M20130321,       P02E,     151,          1,         30,         30,2,20130531,       0758,    32.0578,  -119.6497,       1624,    10.2,  14.1726,  33.6637,2,  33.6639,2,    259.1,2,     259,2,    3.13,2,    3.66,2,    0.14,2,    0.58,2,   2.729,2,   1.590,2,-999.000,1,   1.6627,2,  2045.6,6,  2244.6,2,   7.8677,2,       25,-999.000,9,-999.0000,9, -999.00,9, -999.00,9,  -999.0,9,  -999.0,-999.000,9,-999.000,     -999.0,9, -999.00,9,   60.94,2,    8.82,2,     -999.0,1,  -999.0,9, 20130531,      903,  32.0578,-119.6497,    33.8226,2,     -999.0,9,     -999.0,9,    14.1734,2,     -999.0,9,     -999.0,9,-999.0000, -999.00,-999.000
318M20130321,       P02E,     151,          1,         29,         29,2,20130531,       0758,    32.0578,  -119.6497,       1624,      20,  14.1793,  33.6636,2,  33.6637,2,    258.5,2,   259.2,2,    3.03,2,    3.69,2,    0.14,2,    0.56,2,-999.000,9,-999.000,9,-999.000,9,-999.0000,9,  2045.4,2,  2243.9,2,   7.8683,2,       25,-999.000,9,-999.0000,9, -999.00,9, -999.00,9,  -999.0,9,  -999.0,-999.000,9,-999.000,     -999.0,9, -999.00,9,   62.11,2,    9.71,2,     -999.0,9,  -999.0,9, 20130531,      901,  32.0578,-119.6497,    33.8224,2,     -999.0,9,     -999.0,9,    14.1798,2,     -999.0,9,     -999.0,9,-999.0000, -999.00,-999.000
318M20130321,       P02E,     151,          1,         27,         27,2,20130531,       0758,    32.0578,  -119.6497,       1624,    40.5,  13.3127,   33.675,2,  33.6762,2,    250.2,2,   249.6,2,    4.49,2,    6.95,2,    0.17,2,    0.79,2,   0.624,3,   0.316,4,-999.000,1,   0.2037,4,  -999.0,9, -999.00,9,-999.0000,9,  -999.00,-999.000,9,-999.0000,9, -999.00,9, -999.00,9,  -999.0,9,  -999.0,-999.000,9,-999.000,     -999.0,9, -999.00,9,   56.71,2,   13.04,2,     -999.0,9,  -999.0,9, 20130531,      900,  32.0578,-119.6497,     33.835,2,     -999.0,9,     -999.0,9,    13.3182,2,     -999.0,9,     -999.0,9,-999.0000, -999.00,-999.000
318M20130321,       P02E,     151,          1,         26,         26,2,20130531,       0758,    32.0578,  -119.6497,       1624,    66.2,  11.6369,  33.5715,2,  33.5653,2,    201.7,2,   204.7,2,   11.43,2,   12.71,2,    0.18,2,    1.21,2,-999.000,9,-999.000,9,-999.000,9,-999.0000,9,  2102.5,2, 2232.29,2,   7.7039,6,       25,-999.000,9,-999.0000,9, -999.00,9, -999.00,9,  -999.0,9,  -999.0,-999.000,9,-999.000,     -999.0,9, -999.00,9,   52.83,2,   18.28,2,     -999.0,9,  -999.0,9, 20130531,      858,  32.0578,-119.6497,    33.7236,2,     -999.0,9,     -999.0,9,    11.6571,2,     -999.0,9,     -999.0,9,-999.0000, -999.00,-999.000
318M20130321,       P02E,     151,          1,         25,         25,2,20130531,       0758,    32.0578,  -119.6497,       1624,    90.4,   9.9917,  33.7346,2,  33.7148,2,    150.3,2,   150.7,2,   22.17,2,   21.43,2,    0.05,2,    1.72,2,   2.962,2,   1.693,2,-999.000,1,   1.3765,2,  -999.0,9,  2238.5,6,-999.0000,9,  -999.00,-999.000,9,-999.0000,9, -999.00,9, -999.00,9,  -999.0,9,  -999.0,-999.000,9,-999.000,     -999.0,9, -999.00,9,   48.83,2,   26.13,3,     -999.0,1,  -999.0,9, 20130531,      856,  32.0578,-119.6497,    33.8737,2,     -999.0,9,     -999.0,9,     9.9931,2,     -999.0,9,     -999.0,9,-999.0000, -999.00,-999.000
318M20130321,       P02E,     151,          1,         24,         24,2,20130531,       0758,    32.0578,  -119.6497,       1624,   116.8,   9.1162,  33.9499,2,  33.9404,2,    103.5,2,    99.8,2,   32.13,2,   27.17,2,    0.03,2,    2.12,2,-999.000,9,-999.000,9,-999.000,9,-999.0000,9,  2202.5,2,  2253.8,6,   7.4665,6,       25,-999.000,9,-999.0000,9, -999.00,9, -999.00,9,  -999.0,9,  -999.0,-999.000,9,-999.000,     -999.0,9, -999.00,9,   47.54,2,   31.57,3,     -999.0,9,  -999.0,9, 20130531,      855,  32.0578,-119.6497,    34.1005,2,     -999.0,9,     -999.0,9,     9.1228,2,     -999.0,9,     -999.0,9,-999.0000, -999.00,-999.000
318M20130321,       P02E,     151,          1,         23,         23,2,20130531,       0758,    32.0578,  -119.6497,       1624,   140.6,   8.9534,  34.0009,2,       34,2,     87.2,2,      86,2,   35.16,2,   28.51,2,    0.02,2,    2.23,2,-999.000,9,-999.000,9,-999.000,9,-999.0000,9,  -999.0,9, -999.00,9,-999.0000,9,  -999.00,-999.000,9,-999.0000,9, -999.00,9, -999.00,9,  -999.0,9,  -999.0,-999.000,9,-999.000,     -999.0,9, -999.00,9,   46.19,2,   34.08,3,     -999.0,9,  -999.0,9, 20130531,      853,  32.0578,-119.6497,    34.1603,2,     -999.0,9,     -999.0,9,     8.9551,2,     -999.0,9,     -999.0,9,-999.0000, -999.00,-999.000
318M20130321,       P02E,     151,          1,         22,         22,2,20130531,       0758,    32.0578,  -119.6497,       1624,   165.8,    8.363,  33.9949,2,  33.9937,2,      109,2,   109.2,2,   35.45,2,    28.1,2,    0.03,2,    2.12,2,   2.784,2,   1.490,2,-999.000,1,   0.8993,2,  -999.0,9, -999.00,9,-999.0000,9,  -999.00,-999.000,9,-999.0000,9, -999.00,9, -999.00,9,  -999.0,9,  -999.0,-999.000,9,-999.000,     -999.0,9, -999.00,9,   47.44,2,   33.04,3,     -999.0,9,  -999.0,9, 20130531,      851,  32.0578,-119.6497,     34.154,2,     -999.0,9,     -999.0,9,     8.3627,2,     -999.0,9,     -999.0,9,-999.0000, -999.00,-999.000
318M20130321,       P02E,     151,          1,         21,         21,2,20130531,       0758,    32.0578,  -119.6497,       1624,     191,   8.1908,  34.0411,2,  34.0394,2,     90.5,2,    91.2,2,   39.26,2,   29.87,2,    0.02,2,    2.27,2,-999.000,9,-999.000,9,-999.000,9,-999.0000,9,  2219.7,2,  2264.9,2,   7.4453,2,       25,-999.000,9,-999.0000,9, -999.00,9, -999.00,9,  -999.0,9,  -999.0,-999.000,9,-999.000,     -999.0,9, -999.00,9,   49.31,2,   34.97,3,     -999.0,1,  -999.0,9, 20130531,      850,  32.0578,-119.6497,    34.1999,2,     -999.0,9,     -999.0,9,     8.1874,2,     -999.0,9,     -999.0,9,-999.0000, -999.00,-999.000
318M20130321,       P02E,     151,          1,         20,         20,2,20130531,       0758,    32.0578,  -119.6497,       1624,   216.1,   7.9698,  34.0673,2,  34.0664,2,     79.4,2,    80.4,2,   42.58,2,   31.07,2,    0.02,2,    2.36,2,-999.000,9,-999.000,9,-999.000,9,-999.0000,9,  -999.0,9, -999.00,9,-999.0000,9,  -999.00,-999.000,9,-999.0000,9, -999.00,9, -999.00,9,  -999.0,9,  -999.0,-999.000,9,-999.000,     -999.0,9, -999.00,9,   45.86,2,   36.36,3,     -999.0,9,  -999.0,9, 20130531,      848,  32.0578,-119.6497,     34.227,2,     -999.0,9,     -999.0,9,     7.9684,2,     -999.0,9,     -999.0,9,-999.0000, -999.00,-999.000
318M20130321,       P02E,     151,          1,         19,         19,2,20130531,       0758,    32.0578,  -119.6497,       1624,   242.6,   7.6732,   34.094,2,  34.0934,2,     70.3,2,    68.3,2,   46.68,2,   32.51,2,    0.02,2,    2.48,2,   2.083,2,   1.069,2,-999.000,1,   0.5792,2,  -999.0,9, -999.00,9,-999.0000,9,  -999.00,-999.000,9,-999.0000,9, -999.00,9, -999.00,9,  -999.0,9,  -999.0,-999.000,9,-999.000,     -999.0,9, -999.00,9, -999.00,5,   37.49,3,     -999.0,9,  -999.0,9, 20130531,      846,  32.0578,-119.6497,    34.2542,2,     -999.0,9,     -999.0,9,       7.68,2,     -999.0,9,     -999.0,9,-999.0000, -999.00,-999.000
318M20130321,       P02E,     151,          1,         18,         18,2,20130531,       0758,    32.0578,  -119.6497,       1624,   286.2,   7.4771,  34.2033,2,  34.2013,2,     41.7,2,    41.3,2,   54.19,2,   34.28,2,    0.01,2,    2.72,2,-999.000,9,-999.000,9,-999.000,9,-999.0000,9,    2270,2, 2288.91,2,   7.3575,2,       25,-999.000,9,-999.0000,9, -999.00,9, -999.00,9,  -999.0,9,  -999.0,-999.000,9,-999.000,     -999.0,9, -999.00,9,   45.04,2,    39.7,3,     -999.0,1,  -999.0,9, 20130531,      844,  32.0578,-119.6497,    34.3625,2,     -999.0,9,     -999.0,9,     7.4794,2,     -999.0,9,     -999.0,9,-999.0000, -999.00,-999.000
318M20130321,       P02E,     151,          1,         17,         17,2,20130531,       0758,    32.0578,  -119.6497,       1624,   337.8,   7.1352,  34.2517,2,  34.2493,2,       28,2,    27.5,2,   60.63,2,   35.74,2,       0,2,    2.88,2,-999.000,9,-999.000,9,-999.000,9,-999.0000,9,  -999.0,9, -999.00,9,-999.0000,9,  -999.00,-999.000,9,-999.0000,9, -999.00,9, -999.00,9,  -999.0,9,  -999.0,-999.000,9,-999.000,     -999.0,9, -999.00,9,   44.73,2, -999.00,9,     -999.0,9,  -999.0,9, 20130531,      842,  32.0578,-119.6497,    34.4108,2,     -999.0,9,     -999.0,9,     7.1399,2,     -999.0,9,     -999.0,9,-999.0000, -999.00,-999.000
318M20130321,       P02E,     151,          1,         16,         16,2,20130531,       0758,    32.0578,  -119.6497,       1624,   386.9,   6.8513,  34.2818,2,  34.2809,2,     20.5,2,    21.3,2,   65.51,2,    36.8,2,       0,2,    2.96,2,    -999,5,    -999,5,-999.000,1,     -999,5,  2296.8,2, 2304.12,2,   7.3252,6,       25,-999.000,9,-999.0000,9, -999.00,9, -999.00,9,  -999.0,9,  -999.0,-999.000,9,-999.000,     -999.0,9, -999.00,9,   41.86,2, -999.00,9,     -999.0,1,  -999.0,9, 20130531,      840,  32.0578,-119.6497,    34.4425,2,     -999.0,9,     -999.0,9,     6.8515,2,     -999.0,9,     -999.0,9,-999.0000, -999.00,-999.000
318M20130321,       P02E,     151,          1,         15,         15,2,20130531,       0758,    32.0578,  -119.6497,       1624,   437.4,   6.5576,  34.2999,2,  34.2993,2,     16.5,2,    16.1,2,   70.59,2,    37.8,2,       0,2,    3.04,2,-999.000,9,-999.000,9,-999.000,9,-999.0000,9,  -999.0,9, -999.00,9,-999.0000,9,  -999.00,-999.000,9,-999.0000,9, -999.00,9, -999.00,9,  -999.0,9,  -999.0,-999.000,9,-999.000,     -999.0,9, -999.00,9,   41.69,2, -999.00,9,     -999.0,9,  -999.0,9, 20130531,      838,  32.0578,-119.6497,    34.4611,2,     -999.0,9,     -999.0,9,     6.5587,2,     -999.0,9,     -999.0,9,-999.0000, -999.00,-999.000
318M20130321,       P02E,     151,          1,         14,         14,2,20130531,       0758,    32.0578,  -119.6497,       1624,   488.8,   6.3092,  34.3182,2,  34.3168,2,       13,2,    13.8,2,   75.18,2,   38.44,2,       0,2,    3.09,2,-999.000,9,-999.000,9,-999.000,9,-999.0000,9,  2311.5,2, 2316.42,2,   7.3125,2,       25,-999.000,9,-999.0000,9, -999.00,9, -999.00,9,  -999.0,9,  -999.0,-999.000,9,-999.000,     -999.0,9, -999.00,9,   42.67,2, -999.00,9,     -999.0,1,  -999.0,9, 20130531,      835,  32.0578,-119.6497,    34.4786,2,     -999.0,9,     -999.0,9,     6.3097,2,     -999.0,9,     -999.0,9,-999.0000, -999.00,-999.000
318M20130321,       P02E,     151,          1,         13,         13,2,20130531,       0758,    32.0578,  -119.6497,       1624,   568.7,   5.8535,  34.3455,2,  34.3452,2,     11.3,2,    10.8,2,    82.6,2,   39.83,2,       0,2,    3.15,2,   0.198,2,   0.106,2,-999.000,1,   0.1794,2,  -999.0,9, -999.00,9,   7.3092,2,       25,-999.000,9,-999.0000,9, -999.00,9, -999.00,9,  -999.0,9,  -999.0,-999.000,9,-999.000,     -999.0,9, -999.00,9,   45.73,2, -999.00,9,     -999.0,9,  -999.0,9, 20130531,      832,  32.0578,-119.6497,    34.5072,2,     -999.0,9,     -999.0,9,     5.8534,2,     -999.0,9,     -999.0,9,-999.0000, -999.00,-999.000
318M20130321,       P02E,     151,          1,         12,         12,2,20130531,       0758,    32.0578,  -119.6497,       1624,   668.9,    5.286,  34.3868,2,   34.386,2,     11.2,2,    11.2,2,   92.65,2,   41.25,2,       0,2,    3.21,2,-999.000,9,-999.000,9,-999.000,9,-999.0000,9,  2334.1,2, 2338.43,2,   7.3118,2,       25,-999.000,9,-999.0000,9, -999.00,9, -999.00,9,  -999.0,9,  -999.0,-999.000,9,-999.000,     -999.0,9, -999.00,9,   46.87,2, -999.00,9,     -999.0,1,  -999.0,9, 20130531,      829,  32.0578,-119.6497,    34.5482,2,     -999.0,9,     -999.0,9,     5.2863,2,     -999.0,9,     -999.0,9,-999.0000, -999.00,-999.000
318M20130321,       P02E,     151,          1,         11,         11,2,20130531,       0758,    32.0578,  -119.6497,       1624,   770.4,   4.7574,   34.427,2,  34.4267,2,     12.6,2,    13.6,2,   102.8,2,   42.31,2,       0,2,    3.24,2,-999.000,9,-999.000,9,-999.000,9,-999.0000,9,  -999.0,9, -999.00,9,-999.0000,9,  -999.00,-999.000,9,-999.0000,9, -999.00,9, -999.00,9,  -999.0,9,  -999.0,-999.000,9,-999.000,     -999.0,9, -999.00,9,    48.7,2, -999.00,9,     -999.0,9,  -999.0,9, 20130531,      826,  32.0578,-119.6497,     34.589,2,     -999.0,9,     -999.0,9,     4.7577,2,     -999.0,9,     -999.0,9,-999.0000, -999.00,-999.000
318M20130321,       P02E,     151,          1,         10,         10,2,20130531,       0758,    32.0578,  -119.6497,       1624,   870.6,   4.4541,  34.4507,2,  34.4504,2,     17.2,2,    16.4,2,  108.75,2,   42.74,2,       0,2,    3.26,2,   0.041,2,   0.035,2,-999.000,1,   0.1381,2,    2352,2, 2358.64,2,   7.3246,2,       25,-999.000,9,-999.0000,9, -999.00,9, -999.00,9,  -999.0,9,  -999.0,-999.000,9,-999.000,     -999.0,9, -999.00,9,   45.14,2, -999.00,9,     -999.0,1,  -999.0,9, 20130531,      823,  32.0578,-119.6497,    34.6129,2,     -999.0,9,     -999.0,9,      4.454,2,     -999.0,9,     -999.0,9,-999.0000, -999.00,-999.000
318M20130321,       P02E,     151,          1,          9,          9,2,20130531,       0758,    32.0578,  -119.6497,       1624,   973.1,   4.1846,  34.4731,2,  34.4738,2,     21.4,2,    20.5,2,  114.71,2,   43.02,2,       0,2,    3.24,2,-999.000,9,-999.000,9,-999.000,9,-999.0000,9,  -999.0,9, -999.00,9,-999.0000,9,  -999.00,-999.000,9,-999.0000,9, -999.00,9, -999.00,9,  -999.0,9,  -999.0,-999.000,9,-999.000,     -999.0,9, -999.00,9,    39.5,2, -999.00,9,     -999.0,9,  -999.0,9, 20130531,      819,  32.0578,-119.6497,    34.6364,2,     -999.0,9,     -999.0,9,     4.1841,2,     -999.0,9,     -999.0,9,-999.0000, -999.00,-999.000
318M20130321,       P02E,     151,          1,          8,          8,2,20130531,       0758,    32.0578,  -119.6497,       1624,  1074.1,    3.902,  34.4898,2,  34.4917,2,     26.5,2,      25,2,  120.46,2,   43.23,2,       0,2,    3.22,2,-999.000,9,-999.000,9,-999.000,9,-999.0000,9,  -999.0,9, -999.00,9,-999.0000,9,  -999.00,-999.000,9,-999.0000,9, -999.00,9, -999.00,9,  -999.0,9,  -999.0,-999.000,9,-999.000,     -999.0,9, -999.00,9,   40.48,2, -999.00,9,     -999.0,1,  -999.0,9, 20130531,      816,  32.0578,-119.6497,    34.6543,2,     -999.0,9,     -999.0,9,     3.9027,2,     -999.0,9,     -999.0,9,-999.0000, -999.00,-999.000
318M20130321,       P02E,     151,          1,          7,          7,2,20130531,       0758,    32.0578,  -119.6497,       1624,  1175.3,   3.6596,   34.509,2,  34.5089,2,       31,2,    29.9,2,  125.83,2,   43.19,2,       0,2,     3.2,2,   0.030,2,   0.028,2,-999.000,1,    0.107,2,  -999.0,9, -999.00,9,-999.0000,9,  -999.00,-999.000,9,-999.0000,9, -999.00,9, -999.00,9,  -999.0,9,  -999.0,-999.000,9,-999.000,     -999.0,9, -999.00,9, -999.00,5, -999.00,9,     -999.0,9,  -999.0,9, 20130531,      813,  32.0578,-119.6497,    34.6717,2,     -999.0,9,     -999.0,9,     3.6628,2,     -999.0,9,     -999.0,9,-999.0000, -999.00,-999.000
318M20130321,       P02E,     151,          1,          6,          6,2,20130531,       0758,    32.0578,  -119.6497,       1624,  1276.7,   3.3856,  34.5286,2,  34.5296,2,     35.8,2,    36.4,2,  132.37,2,   43.07,2,       0,2,    3.19,2,-999.000,9,-999.000,9,-999.000,9,-999.0000,9,  2367.2,2, 2386.95,6,    7.362,2,       25,-999.000,9,-999.0000,9, -999.00,9, -999.00,9,  -999.0,9,  -999.0,-999.000,9,-999.000,     -999.0,9, -999.00,9,   40.27,2, -999.00,9,     -999.0,1,  -999.0,9, 20130531,      810,  32.0578,-119.6497,    34.6924,2,     -999.0,9,     -999.0,9,     3.3872,2,     -999.0,9,     -999.0,9,-999.0000, -999.00,-999.000
318M20130321,       P02E,     151,          1,          5,         37,2,20130531,       0758,    32.0578,  -119.6497,       1624,  1377.2,   3.1489,  34.5461,2,  34.5461,2,     40.9,2,    41.4,2,  137.35,2,   42.85,2,       0,2,    3.14,2,-999.000,9,-999.000,9,-999.000,9,-999.0000,9,  -999.0,9, -999.00,9,-999.0000,9,  -999.00,-999.000,9,-999.0000,9, -999.00,9, -999.00,9,  -999.0,9,  -999.0,-999.000,9,-999.000,     -999.0,9, -999.00,9,   39.89,2, -999.00,9,     -999.0,9,  -999.0,9, 20130531,      807,  32.0578,-119.6497,     34.709,2,     -999.0,9,     -999.0,9,       3.15,2,     -999.0,9,     -999.0,9,-999.0000, -999.00,-999.000
318M20130321,       P02E,     151,          1,          4,          4,2,20130531,       0758,    32.0578,  -119.6497,       1624,  1478.1,   2.9676,  34.5602,2,    34.56,2,     46.6,2,    46.5,2,  141.64,2,   42.57,2,       0,2,    3.12,2,   0.022,2,   0.020,2,-999.000,1,    0.133,2,  -999.0,9, -999.00,9,-999.0000,9,  -999.00,-999.000,9,-999.0000,9, -999.00,9, -999.00,9,  -999.0,9,  -999.0,-999.000,9,-999.000,     -999.0,9, -999.00,9,   38.44,2, -999.00,9,     -999.0,9,  -999.0,9, 20130531,      804,  32.0578,-119.6497,     34.723,2,     -999.0,9,     -999.0,9,      2.968,2,     -999.0,9,     -999.0,9,-999.0000, -999.00,-999.000
318M20130321,       P02E,     151,          1,          3,          3,2,20130531,       0758,    32.0578,  -119.6497,       1624,  1580.8,   2.7523,  34.5754,2,  34.5761,2,     53.6,2,    53.6,2,  147.59,2,   42.18,2,       0,2,    3.08,2,-999.000,9,-999.000,9,-999.000,9,-999.0000,9,  2373.7,2, 2403.15,2,   7.3952,6,       25,-999.000,9,-999.0000,9, -999.00,9, -999.00,9,  -999.0,9,  -999.0,-999.000,9,-999.000,     -999.0,9, -999.00,9,   38.79,2, -999.00,9,     -999.0,1,  -999.0,9, 20130531,      801,  32.0578,-119.6497,    34.7392,2,     -999.0,9,     -999.0,9,      2.752,2,     -999.0,9,     -999.0,9,-999.0000, -999.00,-999.000
318M20130321,       P02E,     151,          1,          2,          2,2,20130531,       0758,    32.0578,  -119.6497,       1624,    1629,    2.662,  34.5816,2,   34.581,2,       56,2,    55.6,2,  149.06,2,   42.12,2,       0,2,    3.07,2,   0.018,2,   0.019,2,-999.000,1,   0.0751,2,  2374.3,2, 2406.45,2,   7.4004,2,       25,-999.000,9,-999.0000,9, -999.00,9, -999.00,9,  -999.0,9,  -999.0,-999.000,9,-999.000,     -999.0,9, -999.00,9,   40.92,2, -999.00,9,     -999.0,1,  -999.0,9, 20130531,      759,  32.0578,-119.6497,    34.7441,2,     -999.0,9,     -999.0,9,     2.6643,2,     -999.0,9,     -999.0,9,-999.0000, -999.00,-999.000