BOTTLE,20220817CCHSIOAMB
EXPOCODE,SECT_ID,STNNBR,CASTNO,SAMPNO,BTLNBR,BTLNBR_FLAG_W,DATE,TIME,LATITUDE,LONGITUDE,DEPTH,CTDPRS,CTDTMP,CTDSAL,CTDSAL_FLAG_W,SALNTY,SALNTY_FLAG_W,CTDOXY,CTDOXY_FLAG_W,OXYGEN,OXYGEN_FLAG_W,SILCAT,SILCAT_FLAG_W,NITRAT,NITRAT_FLAG_W,NITRIT,NITRIT_FLAG_W,PHSPHT,PHSPHT_FLAG_W,CFC-11,CFC-11_FLAG_W,CFC-12,CFC-12_FLAG_W,CFC113,CFC113_FLAG_W,SF6,SF6_FLAG_W,TCARBN,TCARBN_FLAG_W,ALKALI,ALKALI_FLAG_W,PH_TOT,PH_TOT_FLAG_W,PH_TMP,TRITUM,TRITUM_FLAG_W,HELIUM,HELIUM_FLAG_W,DELHE3,DELHE3_FLAG_W,DELC13,DELC13_FLAG_W,DELC14,DELC14_FLAG_W,C14ERR,NEON,NEON_FLAG_W,NEONER,I-129,I-129_FLAG_W,SR-90,SR-90_FLAG_W,DOC,DOC_FLAG_W,TDN,TDN_FLAG_W,CALCIUM,CALCIUM_FLAG_W,D15N_NO3,D15N_NO3_FLAG_W,BTL_DATE,BTL_TIME,BTL_LAT,BTL_LON,SALTREF,SALTREF_FLAG_W,CS-137,CS-137_FLAG_W,CS-134,CS-134_FLAG_W,REFTMP,REFTMP_FLAG_W,LAB_DEN,LAB_DEN_FLAG_W,D18O_NO3,D18O_NO3_FLAG_W,HELIER,DELHER,TRITER
,,,,,,,,,,,METERS,DBAR,ITS-90,PSS-78,,PSS-78,,UMOL/KG,,UMOL/KG,,UMOL/KG,,UMOL/KG,,UMOL/KG,,UMOL/KG,,PMOL/KG,,PMOL/KG,,PMOL/KG,,FMOL/KG,,UMOL/KG,,UMOL/KG,,,,DEG C,TU,,NMOL/KG,,PERCNT,,/MILLE,,/MILLE,,/MILLE,NMOL/KG,,NMOL/KG,BQ/M^3,,DM/.1MG,,UMOL/KG,,UMOL/KG,,MMOL/KG,,/MILLE,,,,,,G/KG,,BQ/M^3,,BQ/M^3,,ITS-90,,,,/MILLE,,NMOL/KG,PERCNT,TU
318M20130321,       P02W,      78,          1,          6,          6,2,20130429,       1817,         30,  -177.2689,       5349,  4163.2,   1.4661,  34.6851,2,   34.684,2,    148.7,2,   148.9,2,  157.54,2,   36.42,2,       0,2,    2.55,2,   0.002,2,   0.009,2,   0.002,2,      0.1,2,  2328.7,2, 2418.06,2,   7.5721,2,       25,-999.000,9,-999.0000,9, -999.00,9, -999.00,9,  -999.0,9,  -999.0,-999.000,9,-999.000,     -999.0,9, -999.00,9, -999.00,9, -999.00,9,     -999.0,9,  -999.0,9, 20130429,     1844,       30,-177.2677,    34.8475,2,     -999.0,9,     -999.0,9,     1.4661,2,     -999.0,9,     -999.0,9,-999.0000, -999.00,-999.000
318M20130321,       P02W,      78,          1,          5,         37,2,20130429,       1817,         30,  -177.2689,       5349,    4575,   1.4914,  34.6878,2,  34.6867,2,    151.9,2,   152.5,2,  156.37,2,   36.25,2,       0,2,    2.54,2,-999.000,9,-999.000,9,-999.000,9,-999.0000,9,  -999.0,9, -999.00,9,-999.0000,9,  -999.00,-999.000,9,-999.0000,9, -999.00,9, -999.00,9,  -999.0,9,  -999.0,-999.000,9,-999.000,     -999.0,9, -999.00,9, -999.00,9, -999.00,9,     -999.0,9,  -999.0,9, 20130429,     1836,  30.0004,-177.2682,    34.8503,2,     -999.0,9,     -999.0,9,     1.4911,2,     -999.0,9,     -999.0,9,-999.0000, -999.00,-999.000
318M20130321,       P02W,      78,          1,          4,          4,2,20130429,       1817,         30,  -177.2689,       5349,  4966.2,   1.5135,  34.6899,2,  34.6887,2,    156.5,2,   157.1,2,  150.51,2,   35.89,2,       0,2,    2.51,2,-999.000,9,-999.000,9,-999.000,9,-999.0000,9,  2322.2,2, 2415.36,6,   7.5794,2,       25,-999.000,9,-999.0000,9, -999.00,9, -999.00,9,  -999.0,9,  -999.0,-999.000,9,-999.000,     -999.0,9, -999.00,9, -999.00,9, -999.00,9,     -999.0,9,  -999.0,9, 20130429,     1829,  30.0006,-177.2687,    34.8523,2,     -999.0,9,     -999.0,9,     1.5135,2,     -999.0,9,     -999.0,9,-999.0000, -999.00,-999.000
318M20130321,       P02W,      78,          1,          3,          3,2,20130429,       1817,         30,  -177.2689,       5349,  5246.3,   1.5338,  34.6913,2,  34.6901,2,    161.1,2,   160.6,2,  147.78,2,   35.62,2,       0,2,    2.49,2,   0.006,2,   0.013,2,   0.006,2,     0.03,2,  2316.5,2, 2411.56,2,   7.5826,6,       25,-999.000,9,-999.0000,9, -999.00,9, -999.00,9,  -999.0,9,  -999.0,-999.000,9,-999.000,     -999.0,9, -999.00,9, -999.00,9, -999.00,9,     -999.0,9,  -999.0,9, 20130429,     1823,  30.0005,-177.2687,    34.8536,2,     -999.0,9,     -999.0,9,     1.5335,2,     -999.0,9,     -999.0,9,-999.0000, -999.00,-999.000
318M20130321,       P02W,      78,          1,          2,          2,2,20130429,       1817,         30,  -177.2689,       5349,  5442.6,   1.5467,  34.6923,2,  34.6922,2,    163.5,2,     163,2,  145.53,2,   35.43,2,       0,2,    2.46,2,   0.008,2,   0.012,2,   0.006,2,     0.04,2,  2315.8,6, 2411.56,2,   7.5859,2,       25,-999.000,9,-999.0000,9, -999.00,9, -999.00,9,  -999.0,9,  -999.0,-999.000,9,-999.000,     -999.0,9, -999.00,9, -999.00,9, -999.00,9,     -999.0,9,  -999.0,9, 20130429,     1818,  30.0001,-177.2689,    34.8558,2,     -999.0,9,     -999.0,9,     1.5461,2,     -999.0,9,     -999.0,9,-999.0000, -999.00,-999.000