BOTTLE,20220817CCHSIOAMB
EXPOCODE,SECT_ID,STNNBR,CASTNO,SAMPNO,BTLNBR,BTLNBR_FLAG_W,DATE,TIME,LATITUDE,LONGITUDE,DEPTH,CTDPRS,CTDTMP,CTDSAL,CTDSAL_FLAG_W,SALNTY,SALNTY_FLAG_W,CTDOXY,CTDOXY_FLAG_W,OXYGEN,OXYGEN_FLAG_W,SILCAT,SILCAT_FLAG_W,NITRAT,NITRAT_FLAG_W,NITRIT,NITRIT_FLAG_W,PHSPHT,PHSPHT_FLAG_W,CFC-11,CFC-11_FLAG_W,CFC-12,CFC-12_FLAG_W,CFC113,CFC113_FLAG_W,SF6,SF6_FLAG_W,TCARBN,TCARBN_FLAG_W,ALKALI,ALKALI_FLAG_W,PH_TOT,PH_TOT_FLAG_W,PH_TMP,TRITUM,TRITUM_FLAG_W,HELIUM,HELIUM_FLAG_W,DELHE3,DELHE3_FLAG_W,DELC13,DELC13_FLAG_W,DELC14,DELC14_FLAG_W,C14ERR,NEON,NEON_FLAG_W,NEONER,I-129,I-129_FLAG_W,SR-90,SR-90_FLAG_W,DOC,DOC_FLAG_W,TDN,TDN_FLAG_W,CALCIUM,CALCIUM_FLAG_W,D15N_NO3,D15N_NO3_FLAG_W,BTL_DATE,BTL_TIME,BTL_LAT,BTL_LON,SALTREF,SALTREF_FLAG_W,CS-137,CS-137_FLAG_W,CS-134,CS-134_FLAG_W,REFTMP,REFTMP_FLAG_W,LAB_DEN,LAB_DEN_FLAG_W,D18O_NO3,D18O_NO3_FLAG_W,HELIER,DELHER,TRITER
,,,,,,,,,,,METERS,DBAR,ITS-90,PSS-78,,PSS-78,,UMOL/KG,,UMOL/KG,,UMOL/KG,,UMOL/KG,,UMOL/KG,,UMOL/KG,,PMOL/KG,,PMOL/KG,,PMOL/KG,,FMOL/KG,,UMOL/KG,,UMOL/KG,,,,DEG C,TU,,NMOL/KG,,PERCNT,,/MILLE,,/MILLE,,/MILLE,NMOL/KG,,NMOL/KG,BQ/M^3,,DM/.1MG,,UMOL/KG,,UMOL/KG,,MMOL/KG,,/MILLE,,,,,,G/KG,,BQ/M^3,,BQ/M^3,,ITS-90,,,,/MILLE,,NMOL/KG,PERCNT,TU
318M20130321,       P02E,     155,          1,         23,         23,2,20130531,       2225,    32.6122,  -118.5423,       1104,     2.5,  16.6377,  33.6399,2,  33.6414,2,    260.8,2,   257.9,2,    0.39,2,    0.07,2,    0.02,2,    0.23,2,   2.439,2,   1.451,2,-999.000,1,   1.5492,2,  2008.3,2,  2246.4,2,   7.9467,2,       25,-999.000,9,-999.0000,9, -999.00,9, -999.00,9,  -999.0,9,  -999.0,-999.000,9,-999.000,     -999.0,9, -999.00,9, -999.00,5,    5.98,2,     -999.0,9,  -999.0,9, 20130531,     2307,  32.6129, -118.542,       33.8,2,     -999.0,9,     -999.0,9,    16.6391,2,     -999.0,9,     -999.0,9,-999.0000, -999.00,-999.000
318M20130321,       P02E,     155,          1,         22,         22,2,20130531,       2225,    32.6122,  -118.5423,       1104,    25.4,  10.9101,  33.5712,2,  33.5767,2,    172.2,2,   170.3,2,   14.75,2,   15.95,2,    0.38,2,    1.37,2,-999.000,9,-999.000,9,-999.000,9,-999.0000,9,  2125.5,2, 2230.99,2,   7.6334,6,       25,-999.000,9,-999.0000,9, -999.00,9, -999.00,9,  -999.0,9,  -999.0,-999.000,9,-999.000,     -999.0,9, -999.00,9,   65.11,2,    18.7,2,     -999.0,9,  -999.0,9, 20130531,     2305,  32.6129,-118.5421,     33.735,2,     -999.0,9,     -999.0,9,    10.9075,2,     -999.0,9,     -999.0,9,-999.0000, -999.00,-999.000
318M20130321,       P02E,     155,          1,         21,         21,2,20130531,       2225,    32.6122,  -118.5423,       1104,    50.5,  10.0547,  33.7896,2,  33.7936,2,    120.7,2,   121.5,2,   23.93,2,   22.86,2,    0.04,2,    1.82,2,   2.908,2,   1.629,2,-999.000,1,   1.1293,2,  2173.3,2,  2241.3,2,   7.5236,2,       25,-999.000,9,-999.0000,9, -999.00,9, -999.00,9,  -999.0,9,  -999.0,-999.000,9,-999.000,     -999.0,9, -999.00,9,   55.71,2,   27.67,3,     -999.0,9,  -999.0,9, 20130531,     2303,  32.6127,-118.5421,    33.9529,2,     -999.0,9,     -999.0,9,      10.05,2,     -999.0,9,     -999.0,9,-999.0000, -999.00,-999.000
318M20130321,       P02E,     155,          1,         20,         20,2,20130531,       2225,    32.6122,  -118.5423,       1104,    75.3,    9.549,  33.9102,2,  33.9118,2,      114,2,   112.2,2,   27.83,2,   24.76,2,    0.04,2,    1.94,2,-999.000,9,-999.000,9,-999.000,9,-999.0000,9,  -999.0,9,  2250.4,2,-999.0000,9,  -999.00,-999.000,9,-999.0000,9, -999.00,9, -999.00,9,  -999.0,9,  -999.0,-999.000,9,-999.000,     -999.0,9, -999.00,9, -999.00,5,    29.9,3,     -999.0,9,  -999.0,9, 20130531,     2301,  32.6126,-118.5419,    34.0717,2,     -999.0,9,     -999.0,9,     9.5458,2,     -999.0,9,     -999.0,9,-999.0000, -999.00,-999.000
318M20130321,       P02E,     155,          1,         19,         19,2,20130531,       2225,    32.6122,  -118.5423,       1104,   101.8,   9.2912,  34.0036,2,  34.0035,2,    100.6,2,   100.8,2,   31.05,2,   26.23,2,    0.03,2,    2.05,2,   2.660,2,   1.453,2,-999.000,1,   0.9138,2,  2201.1,2,  2256.7,2,   7.4821,2,       25,-999.000,9,-999.0000,9, -999.00,9, -999.00,9,  -999.0,9,  -999.0,-999.000,9,-999.000,     -999.0,9, -999.00,9, -999.00,5,   31.21,3,     -999.0,9,  -999.0,9, 20130531,     2259,  32.6126,-118.5419,    34.1638,2,     -999.0,9,     -999.0,9,     9.2913,2,     -999.0,9,     -999.0,9,-999.0000, -999.00,-999.000
318M20130321,       P02E,     155,          1,         18,         18,2,20130531,       2225,    32.6122,  -118.5423,       1104,   125.9,   9.1038,  34.0434,2,  34.0436,2,    104.5,2,    95.8,2,   33.01,2,   27.07,2,    0.03,2,    2.12,2,-999.000,9,-999.000,9,-999.000,9,-999.0000,9,  -999.0,9, -999.00,9,-999.0000,9,  -999.00,-999.000,9,-999.0000,9, -999.00,9, -999.00,9,  -999.0,9,  -999.0,-999.000,9,-999.000,     -999.0,9, -999.00,9,   47.24,2,   33.51,3,     -999.0,9,  -999.0,9, 20130531,     2257,  32.6126,-118.5419,    34.2042,2,     -999.0,9,     -999.0,9,     9.1044,2,     -999.0,9,     -999.0,9,-999.0000, -999.00,-999.000
318M20130321,       P02E,     155,          1,         17,         17,2,20130531,       2225,    32.6122,  -118.5423,       1104,   152.5,    8.793,  34.0727,2,  34.0712,2,     92.4,2,    91.6,2,   35.55,2,   28.02,2,    0.03,2,    2.16,2,   2.472,2,   1.329,2,-999.000,1,   0.7298,2,    2214,2,  2263.4,2,   7.4617,2,       25,-999.000,9,-999.0000,9, -999.00,9, -999.00,9,  -999.0,9,  -999.0,-999.000,9,-999.000,     -999.0,9, -999.00,9,   44.26,2,   34.92,3,     -999.0,9,  -999.0,9, 20130531,     2256,  32.6125, -118.542,    34.2319,2,     -999.0,9,     -999.0,9,     8.7978,2,     -999.0,9,     -999.0,9,-999.0000, -999.00,-999.000
318M20130321,       P02E,     155,          1,         16,         16,2,20130531,       2225,    32.6122,  -118.5423,       1104,   176.8,   8.3899,  34.1054,2,   34.105,2,     83.7,2,    83.4,2,   39.84,2,   29.49,2,    0.03,2,    2.27,2,-999.000,9,-999.000,9,-999.000,9,-999.0000,9,  -999.0,9, -999.00,9,-999.0000,9,  -999.00,-999.000,9,-999.0000,9, -999.00,9, -999.00,9,  -999.0,9,  -999.0,-999.000,9,-999.000,     -999.0,9, -999.00,9,   43.01,2,   35.27,3,     -999.0,9,  -999.0,9, 20130531,     2254,  32.6125,-118.5421,    34.2658,2,     -999.0,9,     -999.0,9,      8.388,2,     -999.0,9,     -999.0,9,-999.0000, -999.00,-999.000
318M20130321,       P02E,     155,          1,         15,         15,2,20130531,       2225,    32.6122,  -118.5423,       1104,   201.3,   8.3071,  34.1529,2,  34.1536,2,     70.8,2,    68.9,2,   42.67,2,   30.48,2,    0.02,2,    2.38,2,   1.990,2,   1.041,2,-999.000,1,   0.5331,2,  2239.8,2, 2275.41,6,   7.4175,2,       25,-999.000,9,-999.0000,9, -999.00,9, -999.00,9,  -999.0,9,  -999.0,-999.000,9,-999.000,     -999.0,9, -999.00,9,   44.97,2,    36.9,3,     -999.0,9,  -999.0,9, 20130531,     2253,  32.6123,-118.5422,    34.3146,2,     -999.0,9,     -999.0,9,     8.3056,2,     -999.0,9,     -999.0,9,-999.0000, -999.00,-999.000
318M20130321,       P02E,     155,          1,         14,         14,2,20130531,       2225,    32.6122,  -118.5423,       1104,     227,   7.9295,  34.1464,2,  34.1496,2,     67.7,2,    66.1,2,   45.99,2,   31.62,2,       0,2,    2.45,2,-999.000,9,-999.000,9,-999.000,9,-999.0000,9,  -999.0,9, -999.00,9,-999.0000,9,  -999.00,-999.000,9,-999.0000,9, -999.00,9, -999.00,9,  -999.0,9,  -999.0,-999.000,9,-999.000,     -999.0,9, -999.00,9, -999.00,5,   39.39,3,     -999.0,9,  -999.0,9, 20130531,     2252,  32.6123,-118.5423,    34.3107,2,     -999.0,9,     -999.0,9,     7.9362,2,     -999.0,9,     -999.0,9,-999.0000, -999.00,-999.000
318M20130321,       P02E,     155,          1,         13,         13,2,20130531,       2225,    32.6122,  -118.5423,       1104,     252,   7.6824,  34.1566,2,  34.1563,2,     60.8,2,    58.2,2,   49.31,2,    32.7,2,       0,2,    2.52,2,   1.690,2,   0.865,2,-999.000,1,   0.3587,2,  -999.0,9, -999.00,9,-999.0000,9,  -999.00,-999.000,9,-999.0000,9, -999.00,9, -999.00,9,  -999.0,9,  -999.0,-999.000,9,-999.000,     -999.0,9, -999.00,9,   40.84,2,   39.28,3,     -999.0,9,  -999.0,9, 20130531,     2250,  32.6122,-118.5423,    34.3174,2,     -999.0,9,     -999.0,9,     7.6858,2,     -999.0,9,     -999.0,9,-999.0000, -999.00,-999.000
318M20130321,       P02E,     155,          1,         12,         12,2,20130531,       2225,    32.6122,  -118.5423,       1104,   301.9,   7.3446,  34.2082,2,  34.2079,2,     42.1,2,    41.5,2,   55.66,2,   34.44,2,       0,2,     2.7,2,-999.000,9,-999.000,9,-999.000,9,-999.0000,9,  2273.7,2, 2289.91,2,   7.3567,2,       25,-999.000,9,-999.0000,9, -999.00,9, -999.00,9,  -999.0,9,  -999.0,-999.000,9,-999.000,     -999.0,9, -999.00,9,   40.41,2,   40.85,3,     -999.0,9,  -999.0,9, 20130531,     2249,  32.6122,-118.5423,    34.3692,2,     -999.0,9,     -999.0,9,     7.3451,2,     -999.0,9,     -999.0,9,-999.0000, -999.00,-999.000
318M20130321,       P02E,     155,          1,         11,         11,2,20130531,       2225,    32.6122,  -118.5423,       1104,   352.1,   7.2451,  34.2671,2,  34.2665,2,     29.5,2,    28.1,2,   59.56,2,   35.19,2,       0,2,    2.82,2,   0.839,2,   0.421,2,-999.000,1,   0.1214,2,  -999.0,9, -999.00,9,-999.0000,9,  -999.00,-999.000,9,-999.0000,9, -999.00,9, -999.00,9,  -999.0,9,  -999.0,-999.000,9,-999.000,     -999.0,9, -999.00,9,   41.53,2, -999.00,9,     -999.0,9,  -999.0,9, 20130531,     2247,  32.6122,-118.5423,    34.4281,2,     -999.0,9,     -999.0,9,     7.2365,2,     -999.0,9,     -999.0,9,-999.0000, -999.00,-999.000
318M20130321,       P02E,     155,          1,         10,         10,2,20130531,       2225,    32.6122,  -118.5423,       1104,   402.4,      6.7,  34.2734,2,  34.2721,2,     24.4,2,      22,2,   66.69,2,   37.01,2,       0,2,    2.94,2,-999.000,9,-999.000,9,-999.000,9,-999.0000,9,  2297.9,2, 2304.52,2,   7.3266,2,       25,-999.000,9,-999.0000,9, -999.00,9, -999.00,9,  -999.0,9,  -999.0,-999.000,9,-999.000,     -999.0,9, -999.00,9,   42.68,2, -999.00,9,     -999.0,9,  -999.0,9, 20130531,     2245,  32.6122,-118.5423,    34.4337,2,     -999.0,9,     -999.0,9,     6.7057,2,     -999.0,9,     -999.0,9,-999.0000, -999.00,-999.000
318M20130321,       P02E,     155,          1,          9,          9,2,20130531,       2225,    32.6122,  -118.5423,       1104,   453.6,   6.2907,  34.2944,2,  34.2945,2,     18.8,2,    16.8,2,   73.13,2,   38.38,2,       0,2,    3.03,2,   0.376,2,   0.191,2,-999.000,1,   0.0769,2,  -999.0,9, -999.00,9,-999.0000,9,  -999.00,-999.000,9,-999.0000,9, -999.00,9, -999.00,9,  -999.0,9,  -999.0,-999.000,9,-999.000,     -999.0,9, -999.00,9,   42.48,2, -999.00,9,     -999.0,9,  -999.0,9, 20130531,     2243,  32.6122,-118.5423,    34.4562,2,     -999.0,9,     -999.0,9,     6.2906,2,     -999.0,9,     -999.0,9,-999.0000, -999.00,-999.000
318M20130321,       P02E,     155,          1,          8,          8,2,20130531,       2225,    32.6122,  -118.5423,       1104,   504.9,   5.9976,  34.3317,2,  34.3306,2,     13.3,2,    14.3,2,   78.98,2,   39.43,2,       0,2,    3.09,2,-999.000,9,-999.000,9,-999.000,9,-999.0000,9,  -999.0,9, -999.00,9,   7.3126,2,       25,-999.000,9,-999.0000,9, -999.00,9, -999.00,9,  -999.0,9,  -999.0,-999.000,9,-999.000,     -999.0,9, -999.00,9,   39.29,2, -999.00,9,     -999.0,9,  -999.0,9, 20130531,     2242,  32.6122,-118.5423,    34.4925,2,     -999.0,9,     -999.0,9,     6.0067,2,     -999.0,9,     -999.0,9,-999.0000, -999.00,-999.000
318M20130321,       P02E,     155,          1,          7,          7,2,20130531,       2225,    32.6122,  -118.5423,       1104,   605.5,   5.4226,  34.3613,2,   34.361,2,     13.2,2,    11.5,2,   88.55,2,   40.99,2,       0,2,    3.15,2,   0.104,2,   0.056,2,-999.000,1,   0.0088,2,  2330.9,2, 2331.83,2,    7.309,2,       25,-999.000,9,-999.0000,9, -999.00,9, -999.00,9,  -999.0,9,  -999.0,-999.000,9,-999.000,     -999.0,9, -999.00,9,   39.14,2, -999.00,9,     -999.0,9,  -999.0,9, 20130531,     2239,  32.6122,-118.5423,     34.523,2,     -999.0,9,     -999.0,9,     5.4233,2,     -999.0,9,     -999.0,9,-999.0000, -999.00,-999.000
318M20130321,       P02E,     155,          1,          6,          6,2,20130531,       2225,    32.6122,  -118.5423,       1104,   705.7,   4.9167,  34.4037,2,  34.4032,2,     13.2,2,    14.7,2,   98.21,2,   42.05,2,       0,2,    3.18,2,-999.000,9,-999.000,9,-999.000,9,-999.0000,9,  -999.0,9, -999.00,9,-999.0000,9,  -999.00,-999.000,9,-999.0000,9, -999.00,9, -999.00,9,  -999.0,9,  -999.0,-999.000,9,-999.000,     -999.0,9, -999.00,9,   38.04,2, -999.00,9,     -999.0,9,  -999.0,9, 20130531,     2236,  32.6122,-118.5423,    34.5654,2,     -999.0,9,     -999.0,9,     4.9167,2,     -999.0,9,     -999.0,9,-999.0000, -999.00,-999.000
318M20130321,       P02E,     155,          1,          5,         37,2,20130531,       2225,    32.6122,  -118.5423,       1104,   807.8,   4.7203,   34.429,2,  34.4283,2,     14.4,2,      14,2,  102.99,2,   42.23,2,       0,2,    3.18,2,   0.049,2,   0.041,2,-999.000,1,   0.1346,2,  2347.1,2, 2352.44,2,   7.3187,6,       25,-999.000,9,-999.0000,9, -999.00,9, -999.00,9,  -999.0,9,  -999.0,-999.000,9,-999.000,     -999.0,9, -999.00,9,   37.46,2, -999.00,9,     -999.0,9,  -999.0,9, 20130531,     2233,  32.6122,-118.5423,    34.5906,2,     -999.0,9,     -999.0,9,     4.7196,2,     -999.0,9,     -999.0,9,-999.0000, -999.00,-999.000
318M20130321,       P02E,     155,          1,          4,          4,2,20130531,       2225,    32.6122,  -118.5423,       1104,   908.7,   4.3886,  34.4574,2,  34.4575,2,     18.8,2,    17.9,2,   110.7,2,   42.51,2,       0,2,     3.2,2,-999.000,9,-999.000,9,-999.000,9,-999.0000,9,  -999.0,9, -999.00,9,-999.0000,9,  -999.00,-999.000,9,-999.0000,9, -999.00,9, -999.00,9,  -999.0,9,  -999.0,-999.000,9,-999.000,     -999.0,9, -999.00,9,   37.11,2, -999.00,9,     -999.0,9,  -999.0,9, 20130531,     2231,  32.6122,-118.5423,      34.62,2,     -999.0,9,     -999.0,9,     4.3886,2,     -999.0,9,     -999.0,9,-999.0000, -999.00,-999.000
318M20130321,       P02E,     155,          1,          3,          3,2,20130531,       2225,    32.6122,  -118.5423,       1104,  1010.3,   4.1203,  34.4786,2,  34.4797,2,     22.2,2,    21.3,2,  117.24,2,   42.57,2,       0,2,     3.2,2,   0.058,2,   0.056,2,-999.000,1,   0.0524,2,  2360.2,2, 2385.55,4,    7.334,2,       25,-999.000,9,-999.0000,9, -999.00,9, -999.00,9,  -999.0,9,  -999.0,-999.000,9,-999.000,     -999.0,9, -999.00,9,   36.86,2, -999.00,9,     -999.0,9,  -999.0,9, 20130531,     2228,  32.6122,-118.5422,    34.6423,2,     -999.0,9,     -999.0,9,     4.1199,2,     -999.0,9,     -999.0,9,-999.0000, -999.00,-999.000
318M20130321,       P02E,     155,          1,          2,          2,2,20130531,       2225,    32.6122,  -118.5423,       1104,  1102.2,   3.8327,  34.5006,2,  34.5015,2,     27.8,2,    26.2,2,  123.49,2,   42.69,2,       0,2,    3.17,2,   0.065,2,   0.064,2,-999.000,1,   0.0961,2,  2364.6,6, 2377.84,2,   7.3441,2,       25,-999.000,9,-999.0000,9, -999.00,9, -999.00,9,  -999.0,9,  -999.0,-999.000,9,-999.000,     -999.0,9, -999.00,9,    36.3,2, -999.00,9,     -999.0,9,  -999.0,9, 20130531,     2225,  32.6122,-118.5423,    34.6642,2,     -999.0,9,     -999.0,9,     3.8348,2,     -999.0,9,     -999.0,9,-999.0000, -999.00,-999.000