BOTTLE,20220817CCHSIOAMB
EXPOCODE,SECT_ID,STNNBR,CASTNO,SAMPNO,BTLNBR,BTLNBR_FLAG_W,DATE,TIME,LATITUDE,LONGITUDE,DEPTH,CTDPRS,CTDTMP,CTDSAL,CTDSAL_FLAG_W,SALNTY,SALNTY_FLAG_W,CTDOXY,CTDOXY_FLAG_W,OXYGEN,OXYGEN_FLAG_W,SILCAT,SILCAT_FLAG_W,NITRAT,NITRAT_FLAG_W,NITRIT,NITRIT_FLAG_W,PHSPHT,PHSPHT_FLAG_W,CFC-11,CFC-11_FLAG_W,CFC-12,CFC-12_FLAG_W,CFC113,CFC113_FLAG_W,SF6,SF6_FLAG_W,TCARBN,TCARBN_FLAG_W,ALKALI,ALKALI_FLAG_W,PH_TOT,PH_TOT_FLAG_W,PH_TMP,TRITUM,TRITUM_FLAG_W,HELIUM,HELIUM_FLAG_W,DELHE3,DELHE3_FLAG_W,DELC13,DELC13_FLAG_W,DELC14,DELC14_FLAG_W,C14ERR,NEON,NEON_FLAG_W,NEONER,I-129,I-129_FLAG_W,SR-90,SR-90_FLAG_W,DOC,DOC_FLAG_W,TDN,TDN_FLAG_W,CALCIUM,CALCIUM_FLAG_W,D15N_NO3,D15N_NO3_FLAG_W,BTL_DATE,BTL_TIME,BTL_LAT,BTL_LON,SALTREF,SALTREF_FLAG_W,CS-137,CS-137_FLAG_W,CS-134,CS-134_FLAG_W,REFTMP,REFTMP_FLAG_W,LAB_DEN,LAB_DEN_FLAG_W,D18O_NO3,D18O_NO3_FLAG_W,HELIER,DELHER,TRITER
,,,,,,,,,,,METERS,DBAR,ITS-90,PSS-78,,PSS-78,,UMOL/KG,,UMOL/KG,,UMOL/KG,,UMOL/KG,,UMOL/KG,,UMOL/KG,,PMOL/KG,,PMOL/KG,,PMOL/KG,,FMOL/KG,,UMOL/KG,,UMOL/KG,,,,DEG C,TU,,NMOL/KG,,PERCNT,,/MILLE,,/MILLE,,/MILLE,NMOL/KG,,NMOL/KG,BQ/M^3,,DM/.1MG,,UMOL/KG,,UMOL/KG,,MMOL/KG,,/MILLE,,,,,,G/KG,,BQ/M^3,,BQ/M^3,,ITS-90,,,,/MILLE,,NMOL/KG,PERCNT,TU
318M20130321,       P02E,     121,          1,         36,         36,2,20130522,       2332,    29.9997,  -138.7416,       4780,     3.8,  19.3908,   34.759,2,  34.7587,2,    234.7,2,     235,2,    2.34,2,       0,2,       0,2,    0.07,2,   2.119,2,   1.274,2,-999.000,1,   1.5312,2,  2035.2,2, 2290.81,2,   7.9703,2,       25,-999.000,9,-999.0000,9, -999.00,9, -999.00,9,  -999.0,9,  -999.0,-999.000,9,-999.000,     -999.0,9, -999.00,9, -999.00,9, -999.00,9,     -999.0,9,  -999.0,9, 20130523,      130,  29.9996,-138.7416,    34.9226,2,     -999.0,9,     -999.0,9,    19.3953,2,     -999.0,9,     -999.0,9,-999.0000, -999.00,-999.000
318M20130321,       P02E,     121,          1,         34,         34,2,20130522,       2332,    29.9997,  -138.7416,       4780,    35.4,  18.4074,  34.6193,2,  34.6178,2,    240.4,2,   240.8,2,    2.73,2,       0,2,       0,2,    0.06,2,   2.198,2,   1.309,2,-999.000,1,     1.49,2,  2027.9,2, 2281.21,2,    7.967,6,       25,-999.000,9,-999.0000,9, -999.00,9, -999.00,9,  -999.0,9,  -999.0,-999.000,9,-999.000,     -999.0,9, -999.00,9,   65.03,2,    4.27,2,     -999.0,9,  -999.0,9, 20130523,      128,  29.9996,-138.7414,     34.781,2,     -999.0,9,     -999.0,9,    18.4125,2,     -999.0,9,     -999.0,9,-999.0000, -999.00,-999.000
318M20130321,       P02E,     121,          1,         33,         33,2,20130522,       2332,    29.9997,  -138.7416,       4780,    61.3,  18.2404,  34.6988,2,  34.7276,3,    240.4,2,   238.9,2,    2.54,2,       0,2,       0,2,    0.08,2,   2.207,2,   1.321,2,-999.000,1,   1.4631,2,  2031.2,2, 2288.11,6,   7.9706,2,       25,-999.000,9,-999.0000,9, -999.00,9, -999.00,9,  -999.0,9,  -999.0,-999.000,9,-999.000,     -999.0,9, -999.00,9,   62.17,2,    4.77,2,     -999.0,9,  -999.0,9, 20130523,      126,  29.9997,-138.7414,    34.8914,3,     -999.0,9,     -999.0,9,    18.2379,2,     -999.0,9,     -999.0,9,-999.0000, -999.00,-999.000
318M20130321,       P02E,     121,          1,         32,         32,2,20130522,       2332,    29.9997,  -138.7416,       4780,    87.1,  17.8775,  34.6764,2,  34.6812,2,      239,2,   238.8,2,    2.54,2,       0,2,       0,2,    0.07,2,   2.235,2,   1.339,2,-999.000,1,   1.5004,2,  -999.0,9, -999.00,9,-999.0000,9,  -999.00,-999.000,9,-999.0000,9, -999.00,9, -999.00,9,  -999.0,9,  -999.0,-999.000,9,-999.000,     -999.0,9, -999.00,9,   61.91,2,    4.55,2,     -999.0,9,  -999.0,9, 20130523,      124,  29.9998,-138.7413,    34.8448,2,     -999.0,9,     -999.0,9,    17.8826,2,     -999.0,9,     -999.0,9,-999.0000, -999.00,-999.000
318M20130321,       P02E,     121,          1,         31,         31,2,20130522,       2332,    29.9997,  -138.7416,       4780,   115.7,  17.7644,   34.692,2,  34.6944,2,    235.6,2,   235.5,2,    2.54,2,       0,2,       0,2,    0.06,2,   2.193,2,   1.274,2,-999.000,1,   1.3717,2,  -999.0,9, -999.00,9,-999.0000,9,  -999.00,-999.000,9,-999.0000,9, -999.00,9, -999.00,9,  -999.0,9,  -999.0,-999.000,9,-999.000,     -999.0,9, -999.00,9,   62.98,2,       4,2,     -999.0,9,  -999.0,9, 20130523,      122,  29.9998,-138.7413,     34.858,2,     -999.0,9,     -999.0,9,    17.7633,2,     -999.0,9,     -999.0,9,-999.0000, -999.00,-999.000
318M20130321,       P02E,     121,          1,         30,         30,2,20130522,       2332,    29.9997,  -138.7416,       4780,   164.6,  16.8722,  34.5356,2,  34.5408,2,    231.9,2,   231.1,2,    2.93,2,    0.53,2,    0.12,2,    0.15,2,   2.352,2,   1.397,2,-999.000,1,   1.5337,2,  2039.7,2, 2276.61,2,    7.938,2,       25,-999.000,9,-999.0000,9, -999.00,9, -999.00,9,  -999.0,9,  -999.0,-999.000,9,-999.000,     -999.0,9, -999.00,9,   55.05,2,    4.28,2,     -999.0,9,  -999.0,9, 20130523,      120,  29.9997,-138.7413,    34.7036,2,     -999.0,9,     -999.0,9,    16.8435,3,     -999.0,9,     -999.0,9,-999.0000, -999.00,-999.000
318M20130321,       P02E,     121,          1,         29,         29,2,20130522,       2332,    29.9997,  -138.7416,       4780,   215.9,  12.6097,   33.986,2,  33.9853,2,    222.1,2,   223.2,2,    7.03,2,    6.79,2,    0.01,2,    0.62,2,   2.933,2,   1.683,2,-999.000,1,   1.6168,2,  -999.0,9, -999.00,9,-999.0000,9,  -999.00,-999.000,9,-999.0000,9, -999.00,9, -999.00,9,  -999.0,9,  -999.0,-999.000,9,-999.000,     -999.0,9, -999.00,9,   49.03,2, -999.00,5,     -999.0,9,  -999.0,9, 20130523,      118,  29.9997,-138.7415,    34.1455,2,     -999.0,9,     -999.0,9,    12.6112,2,     -999.0,9,     -999.0,9,-999.0000, -999.00,-999.000
318M20130321,       P02E,     121,          1,         27,         27,2,20130522,       2332,    29.9997,  -138.7416,       4780,   265.5,  10.6911,  33.9862,2,  33.9871,2,    219.5,2,   219.6,2,   12.11,2,   11.92,2,    0.01,2,    0.92,2,   2.878,2,   1.742,2,-999.000,1,   1.6624,2,  2089.4,2,  2244.5,2,   7.7698,2,       25,-999.000,9,-999.0000,9, -999.00,9, -999.00,9,  -999.0,9,  -999.0,-999.000,9,-999.000,     -999.0,9, -999.00,9,   49.36,2,   15.36,2,     -999.0,9,  -999.0,9, 20130523,      116,  29.9998,-138.7415,    34.1473,2,     -999.0,9,     -999.0,9,    10.6787,2,     -999.0,9,     -999.0,9,-999.0000, -999.00,-999.000
318M20130321,       P02E,     121,          1,         26,         26,2,20130522,       2332,    29.9997,  -138.7416,       4780,   317.2,   9.6678,   34.036,2,  33.9945,4,      211,2,   210.1,2,   18.26,2,   15.92,2,    0.01,2,    1.15,2,   3.092,2,   1.794,2,-999.000,1,   1.4851,2,  -999.0,9, -999.00,9,-999.0000,9,  -999.00,-999.000,9,-999.0000,9, -999.00,9, -999.00,9,  -999.0,9,  -999.0,-999.000,9,-999.000,     -999.0,9, -999.00,9,   44.76,2,   19.62,2,     -999.0,9,  -999.0,9, 20130523,      114,  29.9999,-138.7413,    34.1548,4,     -999.0,9,     -999.0,9,     9.6677,2,     -999.0,9,     -999.0,9,-999.0000, -999.00,-999.000
318M20130321,       P02E,     121,          1,         25,         25,2,20130522,       2332,    29.9997,  -138.7416,       4780,   367.9,   8.8778,  34.0258,2,  34.0272,2,    190.3,2,   191.6,2,   24.61,2,   19.53,2,    0.01,2,    1.43,2,   3.210,6,   1.753,6,-999.000,1,   1.2516,6,  2137.2,2,  2257.8,2,   7.6749,6,       25,-999.000,9,-999.0000,9, -999.00,9, -999.00,9,  -999.0,9,  -999.0,-999.000,9,-999.000,     -999.0,9, -999.00,9,   46.21,2, -999.00,9,     -999.0,9,  -999.0,9, 20130523,      112,  29.9999,-138.7412,    34.1877,2,     -999.0,9,     -999.0,9,     8.8805,2,     -999.0,9,     -999.0,9,-999.0000, -999.00,-999.000
318M20130321,       P02E,     121,          1,         24,         24,2,20130522,       2332,    29.9997,  -138.7416,       4780,   438.2,   7.4876,  33.9933,2,  33.9933,2,    139.9,2,   145.2,2,   39.75,2,   26.75,2,    0.01,2,    1.95,2,   2.845,2,   1.492,2,-999.000,1,    0.902,2,  2189.8,2, 2267.61,2,   7.5542,2,       25,-999.000,9,-999.0000,9, -999.00,9, -999.00,9,  -999.0,9,  -999.0,-999.000,9,-999.000,     -999.0,9, -999.00,9,   43.68,2, -999.00,9,     -999.0,9,  -999.0,9, 20130523,      110,  29.9999,-138.7412,    34.1536,2,     -999.0,9,     -999.0,9,      7.484,2,     -999.0,9,     -999.0,9,-999.0000, -999.00,-999.000
318M20130321,       P02E,     121,          1,         23,         23,2,20130522,       2332,    29.9997,  -138.7416,       4780,   539.5,   5.9696,   34.021,2,  34.0206,2,     77.5,2,    79.7,2,   63.48,2,   35.59,2,    0.01,2,    2.63,2,   1.835,2,   0.908,2,-999.000,1,   0.4175,2,  2259.1,2, 2287.01,2,   7.3955,2,       25,-999.000,9,-999.0000,9, -999.00,9, -999.00,9,  -999.0,9,  -999.0,-999.000,9,-999.000,     -999.0,9, -999.00,9,   41.81,2, -999.00,9,     -999.0,9,  -999.0,9, 20130523,      107,  29.9999,-138.7411,     34.181,2,     -999.0,9,     -999.0,9,      5.975,2,     -999.0,9,     -999.0,9,-999.0000, -999.00,-999.000
318M20130321,       P02E,     121,          1,         22,         22,2,20130522,       2332,    29.9997,  -138.7416,       4780,   640.2,   5.0939,  34.1113,2,  34.1119,2,     48.3,2,    41.2,2,   83.39,2,   40.13,2,    0.01,2,    2.99,2,   0.828,2,   0.397,2,-999.000,1,   0.1735,2,  2303.8,2, 2307.12,2,   7.3212,2,       25,-999.000,9,-999.0000,9, -999.00,9, -999.00,9,  -999.0,9,  -999.0,-999.000,9,-999.000,     -999.0,9, -999.00,9,   39.95,2, -999.00,9,     -999.0,9,  -999.0,9, 20130523,      103,  30.0002,-138.7413,    34.2727,2,     -999.0,9,     -999.0,9,     5.1038,2,     -999.0,9,     -999.0,9,-999.0000, -999.00,-999.000
318M20130321,       P02E,     121,          1,         21,         21,2,20130522,       2332,    29.9997,  -138.7416,       4780,   740.8,   4.6376,  34.2028,2,  34.2028,2,     23.2,2,    22.1,2,   96.96,2,   42.28,2,       0,2,    3.17,2,   0.307,2,   0.153,2,-999.000,1,   0.0299,2,  2330.1,2, 2324.83,2,   7.2933,2,       25,-999.000,9,-999.0000,9, -999.00,9, -999.00,9,  -999.0,9,  -999.0,-999.000,9,-999.000,     -999.0,9, -999.00,9,   40.58,2, -999.00,9,     -999.0,9,  -999.0,9, 20130523,      100,  30.0001,-138.7414,    34.3641,2,     -999.0,9,     -999.0,9,      4.634,2,     -999.0,9,     -999.0,9,-999.0000, -999.00,-999.000
318M20130321,       P02E,     121,          1,         20,         20,2,20130522,       2332,    29.9997,  -138.7416,       4780,     841,   4.2497,  34.3083,2,  34.3074,2,     14.4,2,    13.8,2,  109.35,2,   43.38,2,       0,2,    3.23,2,   0.068,2,   0.037,2,-999.000,1,   0.1143,2,  2350.9,2, 2344.63,2,   7.2919,2,       25,-999.000,9,-999.0000,9, -999.00,9, -999.00,9,  -999.0,9,  -999.0,-999.000,9,-999.000,     -999.0,9, -999.00,9,   37.69,2, -999.00,9,     -999.0,9,  -999.0,9, 20130523,       58,  30.0001,-138.7414,    34.4691,2,     -999.0,9,     -999.0,9,     4.2502,2,     -999.0,9,     -999.0,9,-999.0000, -999.00,-999.000
318M20130321,       P02E,     121,          1,         19,         19,2,20130522,       2332,    29.9997,  -138.7416,       4780,   941.3,   3.9288,  34.3731,2,   34.376,2,     15.3,2,    14.7,2,  118.33,2,   43.77,2,       0,2,    3.26,2,   0.026,2,   0.016,2,-999.000,1,        0,2,  2360.6,2, 2357.24,2,   7.3004,2,       25,-999.000,9,-999.0000,9, -999.00,9, -999.00,9,  -999.0,9,  -999.0,-999.000,9,-999.000,     -999.0,9, -999.00,9,   37.54,2, -999.00,9,     -999.0,9,  -999.0,9, 20130523,       55,       30,-138.7413,    34.5381,2,     -999.0,9,     -999.0,9,     3.9318,2,     -999.0,9,     -999.0,9,-999.0000, -999.00,-999.000
318M20130321,       P02E,     121,          1,         18,         18,2,20130522,       2332,    29.9997,  -138.7416,       4780,  1043.5,   3.6632,  34.4272,2,  34.4281,2,     20.4,2,    20.4,2,  125.25,2,   43.83,2,       0,2,    3.25,2,   0.015,2,   0.011,2,-999.000,1,        0,2,  2365.2,2, 2368.84,2,   7.3156,2,       25,-999.000,9,-999.0000,9, -999.00,9, -999.00,9,  -999.0,9,  -999.0,-999.000,9,-999.000,     -999.0,9, -999.00,9,   35.34,2, -999.00,9,     -999.0,9,  -999.0,9, 20130523,       52,  29.9997,-138.7413,    34.5904,2,     -999.0,9,     -999.0,9,     3.6624,2,     -999.0,9,     -999.0,9,-999.0000, -999.00,-999.000
318M20130321,       P02E,     121,          1,         17,         17,2,20130522,       2332,    29.9997,  -138.7416,       4780,  1144.8,   3.3827,  34.4779,2,  34.4787,2,     29.3,2,    29.4,2,  131.59,2,   43.55,2,       0,2,    3.22,2,   0.010,2,   0.006,2,-999.000,1,        0,2,  -999.0,9, -999.00,9,-999.0000,9,  -999.00,-999.000,9,-999.0000,9, -999.00,9, -999.00,9,  -999.0,9,  -999.0,-999.000,9,-999.000,     -999.0,9, -999.00,9,   38.54,2, -999.00,9,     -999.0,9,  -999.0,9, 20130523,       50,  29.9996,-138.7414,    34.6413,2,     -999.0,9,     -999.0,9,     3.3832,2,     -999.0,9,     -999.0,9,-999.0000, -999.00,-999.000
318M20130321,       P02E,     121,          1,         16,         16,2,20130522,       2332,    29.9997,  -138.7416,       4780,  1247.9,   3.1488,  34.5089,2,  34.5107,2,       37,2,    38.1,2,  136.47,2,   43.17,2,       0,2,    3.16,2,   0.008,2,   0.008,2,-999.000,1,        0,2,  2369.2,2, 2386.05,2,   7.3583,6,       25,-999.000,9,-999.0000,9, -999.00,9, -999.00,9,  -999.0,9,  -999.0,-999.000,9,-999.000,     -999.0,9, -999.00,9,   36.97,2, -999.00,9,     -999.0,9,  -999.0,9, 20130523,       47,  29.9997,-138.7414,    34.6734,2,     -999.0,9,     -999.0,9,     3.1495,2,     -999.0,9,     -999.0,9,-999.0000, -999.00,-999.000
318M20130321,       P02E,     121,          1,         15,         15,2,20130522,       2332,    29.9997,  -138.7416,       4780,  1348.3,    2.973,  34.5299,2,  34.5307,2,     44.4,2,    43.9,2,  140.18,2,    42.8,2,       0,2,    3.11,2,   0.005,2,   0.002,2,-999.000,1,        0,2,  -999.0,9, -999.00,9,-999.0000,9,  -999.00,-999.000,9,-999.0000,9, -999.00,9, -999.00,9,  -999.0,9,  -999.0,-999.000,9,-999.000,     -999.0,9, -999.00,9, -999.00,5, -999.00,9,     -999.0,9,  -999.0,9, 20130523,       44,  29.9997,-138.7414,    34.6936,2,     -999.0,9,     -999.0,9,     2.9726,2,     -999.0,9,     -999.0,9,-999.0000, -999.00,-999.000
318M20130321,       P02E,     121,          1,         14,         14,2,20130522,       2332,    29.9997,  -138.7416,       4780,  1478.2,   2.7101,  34.5566,2,  34.5576,2,     52.4,2,    53.9,2,  146.42,2,   42.33,2,       0,2,    3.06,2,   0.006,2,   0.003,2,-999.000,1,        0,2,  2370.2,2, 2398.45,2,   7.3902,2,       25,-999.000,9,-999.0000,9, -999.00,9, -999.00,9,  -999.0,9,  -999.0,-999.000,9,-999.000,     -999.0,9, -999.00,9,   37.88,2, -999.00,9,     -999.0,9,  -999.0,9, 20130523,       41,  29.9999,-138.7412,    34.7206,2,     -999.0,9,     -999.0,9,      2.711,2,     -999.0,9,     -999.0,9,-999.0000, -999.00,-999.000
318M20130321,       P02E,     121,          1,         13,         13,2,20130522,       2332,    29.9997,  -138.7416,       4780,  1681.2,   2.4135,  34.5846,2,  34.5863,2,     64.4,2,    64.6,2,  153.16,2,   41.69,2,       0,2,    3.02,2,   0.007,2,   0.000,2,-999.000,1,        0,2,  2371.8,2, 2406.55,2,   7.4135,2,       25,-999.000,9,-999.0000,9, -999.00,9, -999.00,9,  -999.0,9,  -999.0,-999.000,9,-999.000,     -999.0,9, -999.00,9,   36.79,2, -999.00,9,     -999.0,9,  -999.0,9, 20130523,       36,       30,-138.7412,    34.7494,2,     -999.0,9,     -999.0,9,     2.4131,2,     -999.0,9,     -999.0,9,-999.0000, -999.00,-999.000
318M20130321,       P02E,     121,          1,         12,         12,2,20130522,       2332,    29.9997,  -138.7416,       4780,  1884.4,   2.1638,  34.6062,2,  34.6069,2,     74.5,2,    73.9,2,  160.47,2,   41.12,2,       0,2,    2.99,2,   0.013,2,   0.001,2,-999.000,1,        0,2,  2372.2,6, 2413.76,2,   7.4303,2,       25,-999.000,9,-999.0000,9, -999.00,9, -999.00,9,  -999.0,9,  -999.0,-999.000,9,-999.000,     -999.0,9, -999.00,9,    36.5,2, -999.00,9,     -999.0,9,  -999.0,9, 20130523,       31,  30.0002,-138.7415,    34.7701,2,     -999.0,9,     -999.0,9,      2.164,2,     -999.0,9,     -999.0,9,-999.0000, -999.00,-999.000
318M20130321,       P02E,     121,          1,         11,         11,2,20130522,       2332,    29.9997,  -138.7416,       4780,  2110.6,   1.9537,  34.6243,2,  34.6254,2,     84.5,2,    83.6,2,  166.13,2,   40.53,2,       0,2,    2.92,2,   0.006,2,   0.002,2,-999.000,1,        0,2,  2370.5,2, 2418.56,2,     7.45,2,       25,-999.000,9,-999.0000,9, -999.00,9, -999.00,9,  -999.0,9,  -999.0,-999.000,9,-999.000,     -999.0,9, -999.00,9,   38.93,2, -999.00,9,     -999.0,9,  -999.0,9, 20130523,       26,  30.0003,-138.7414,    34.7887,2,     -999.0,9,     -999.0,9,     1.9533,2,     -999.0,9,     -999.0,9,-999.0000, -999.00,-999.000
318M20130321,       P02E,     121,          1,         10,         10,2,20130522,       2332,    29.9997,  -138.7416,       4780,  2363.1,   1.7851,   34.641,2,  34.6421,2,     96.3,2,    96.2,2,  168.77,2,   39.76,2,       0,2,    2.86,2,   0.004,2,   0.002,2,-999.000,1,        0,2,  2365.1,2, 2422.86,2,   7.4741,2,       25,-999.000,9,-999.0000,9, -999.00,9, -999.00,9,  -999.0,9,  -999.0,-999.000,9,-999.000,     -999.0,9, -999.00,9, -999.00,9, -999.00,9,     -999.0,9,  -999.0,9, 20130523,       21,  30.0007, -138.741,    34.8055,2,     -999.0,9,     -999.0,9,     1.7858,2,     -999.0,9,     -999.0,9,-999.0000, -999.00,-999.000
318M20130321,       P02E,     121,          1,          9,          9,2,20130522,       2332,    29.9997,  -138.7416,       4780,    2618,   1.6822,  34.6523,2,  34.6531,2,    105.6,2,   105.6,2,  169.25,2,   39.13,2,       0,2,     2.8,2,   0.004,2,   0.003,2,-999.000,1,        0,2,  2360.6,2, 2424.46,2,   7.4997,2,       25,-999.000,9,-999.0000,9, -999.00,9, -999.00,9,  -999.0,9,  -999.0,-999.000,9,-999.000,     -999.0,9, -999.00,9,   37.28,2, -999.00,9,     -999.0,9,  -999.0,9, 20130523,       16,  30.0006,-138.7407,    34.8165,2,     -999.0,9,     -999.0,9,     1.6825,2,     -999.0,9,     -999.0,9,-999.0000, -999.00,-999.000
318M20130321,       P02E,     121,          1,          8,          8,2,20130522,       2332,    29.9997,  -138.7416,       4780,  2872.5,   1.6059,   34.661,2,   34.662,2,    114.7,2,   114.9,2,  168.47,2,   38.57,2,       0,2,    2.75,2,   0.004,2,   0.004,2,-999.000,1,        0,2,  -999.0,9, -999.00,9,-999.0000,9,  -999.00,-999.000,9,-999.0000,9, -999.00,9, -999.00,9,  -999.0,9,  -999.0,-999.000,9,-999.000,     -999.0,9, -999.00,9, -999.00,9, -999.00,9,     -999.0,9,  -999.0,9, 20130523,       11,  30.0002,-138.7408,    34.8254,2,     -999.0,9,     -999.0,9,     1.6059,2,     -999.0,9,     -999.0,9,-999.0000, -999.00,-999.000
318M20130321,       P02E,     121,          1,          7,          7,2,20130522,       2332,    29.9997,  -138.7416,       4780,  3141.3,   1.5514,  34.6683,2,  34.6692,2,    123.2,2,   123.2,2,   167.1,2,   37.99,2,       0,2,    2.68,2,   0.007,2,   0.007,2,-999.000,1,        0,2,  2349.7,2, 2426.86,6,    7.526,2,       25,-999.000,9,-999.0000,9, -999.00,9, -999.00,9,  -999.0,9,  -999.0,-999.000,9,-999.000,     -999.0,9, -999.00,9,   35.14,2, -999.00,9,     -999.0,9,  -999.0,9, 20130523,        5,  30.0001,-138.7407,    34.8327,2,     -999.0,9,     -999.0,9,     1.5513,2,     -999.0,9,     -999.0,9,-999.0000, -999.00,-999.000
318M20130321,       P02E,     121,          1,          6,          6,2,20130522,       2332,    29.9997,  -138.7416,       4780,  3448.6,   1.5172,  34.6744,2,  34.6741,2,    130.9,2,     131,2,  165.54,2,    37.5,2,       0,2,    2.64,2,   0.005,2,   0.005,2,-999.000,1,        0,2,  -999.0,9, -999.00,9,-999.0000,9,  -999.00,-999.000,9,-999.0000,9, -999.00,9, -999.00,9,  -999.0,9,  -999.0,-999.000,9,-999.000,     -999.0,9, -999.00,9, -999.00,9, -999.00,9,     -999.0,9,  -999.0,9, 20130522,     2359,  29.9999, -138.741,    34.8376,2,     -999.0,9,     -999.0,9,      1.517,2,     -999.0,9,     -999.0,9,-999.0000, -999.00,-999.000