BOTTLE,20220817CCHSIOAMB
EXPOCODE,SECT_ID,STNNBR,CASTNO,SAMPNO,BTLNBR,BTLNBR_FLAG_W,DATE,TIME,LATITUDE,LONGITUDE,DEPTH,CTDPRS,CTDTMP,CTDSAL,CTDSAL_FLAG_W,SALNTY,SALNTY_FLAG_W,CTDOXY,CTDOXY_FLAG_W,OXYGEN,OXYGEN_FLAG_W,SILCAT,SILCAT_FLAG_W,NITRAT,NITRAT_FLAG_W,NITRIT,NITRIT_FLAG_W,PHSPHT,PHSPHT_FLAG_W,CFC-11,CFC-11_FLAG_W,CFC-12,CFC-12_FLAG_W,CFC113,CFC113_FLAG_W,SF6,SF6_FLAG_W,TCARBN,TCARBN_FLAG_W,ALKALI,ALKALI_FLAG_W,PH_TOT,PH_TOT_FLAG_W,PH_TMP,TRITUM,TRITUM_FLAG_W,HELIUM,HELIUM_FLAG_W,DELHE3,DELHE3_FLAG_W,DELC13,DELC13_FLAG_W,DELC14,DELC14_FLAG_W,C14ERR,NEON,NEON_FLAG_W,NEONER,I-129,I-129_FLAG_W,SR-90,SR-90_FLAG_W,DOC,DOC_FLAG_W,TDN,TDN_FLAG_W,CALCIUM,CALCIUM_FLAG_W,D15N_NO3,D15N_NO3_FLAG_W,BTL_DATE,BTL_TIME,BTL_LAT,BTL_LON,SALTREF,SALTREF_FLAG_W,CS-137,CS-137_FLAG_W,CS-134,CS-134_FLAG_W,REFTMP,REFTMP_FLAG_W,LAB_DEN,LAB_DEN_FLAG_W,D18O_NO3,D18O_NO3_FLAG_W,HELIER,DELHER,TRITER
,,,,,,,,,,,METERS,DBAR,ITS-90,PSS-78,,PSS-78,,UMOL/KG,,UMOL/KG,,UMOL/KG,,UMOL/KG,,UMOL/KG,,UMOL/KG,,PMOL/KG,,PMOL/KG,,PMOL/KG,,FMOL/KG,,UMOL/KG,,UMOL/KG,,,,DEG C,TU,,NMOL/KG,,PERCNT,,/MILLE,,/MILLE,,/MILLE,NMOL/KG,,NMOL/KG,BQ/M^3,,DM/.1MG,,UMOL/KG,,UMOL/KG,,MMOL/KG,,/MILLE,,,,,,G/KG,,BQ/M^3,,BQ/M^3,,ITS-90,,,,/MILLE,,NMOL/KG,PERCNT,TU
318M20130321,       P02E,      97,          1,          6,          6,2,20130515,       0647,    30.0002,  -157.1623,       5992,  4198.9,   1.4826,  34.6847,2,  34.6849,2,    145.8,2,   147.4,2,  155.68,2,   36.26,2,       0,2,    2.55,2,   0.004,2,   0.004,2,-999.000,5,        0,2,  -999.0,9, -999.00,9,-999.0000,9,  -999.00,-999.000,9,-999.0000,9, -999.00,9, -999.00,9,  -999.0,9,  -999.0,-999.000,9,-999.000,     -999.0,9, -999.00,9,   34.91,2, -999.00,9,     -999.0,9,  -999.0,9, 20130515,      723,  30.0002,-157.1622,    34.8485,2,     -999.0,9,     -999.0,9,     1.4826,2,     -999.0,9,     -999.0,9,-999.0000, -999.00,-999.000
318M20130321,       P02E,      97,          1,          5,         37,2,20130515,       0647,    30.0002,  -157.1623,       5992,  4607.8,   1.4989,  34.6882,2,  34.6873,2,      152,2,   152.6,2,  153.05,2,   35.91,2,       0,2,    2.52,2,   0.004,2,   0.006,2,-999.000,5,        0,2,    2327,2, 2420.56,6,   7.5737,2,       25,-999.000,9,-999.0000,9, -999.00,9, -999.00,9,  -999.0,9,  -999.0,-999.000,9,-999.000,     -999.0,9, -999.00,9,   34.43,2, -999.00,9,     -999.0,9,  -999.0,9, 20130515,      715,  29.9999,-157.1625,    34.8508,2,     -999.0,9,     -999.0,9,     1.4991,2,     -999.0,9,     -999.0,9,-999.0000, -999.00,-999.000
318M20130321,       P02E,      97,          1,          4,          4,2,20130515,       0647,    30.0002,  -157.1623,       5992,  5086.9,   1.5335,  34.6902,2,  34.6896,2,    156.1,2,   157.3,2,  149.24,2,   35.56,2,       0,2,    2.48,2,   0.004,2,   0.008,2,-999.000,5,        0,2,  2324.2,2, 2418.66,2,   7.5808,6,       25,-999.000,9,-999.0000,9, -999.00,9, -999.00,9,  -999.0,9,  -999.0,-999.000,9,-999.000,     -999.0,9, -999.00,9,   34.91,2, -999.00,9,     -999.0,9,  -999.0,9, 20130515,      707,  30.0002,-157.1624,    34.8532,2,     -999.0,9,     -999.0,9,     1.5337,2,     -999.0,9,     -999.0,9,-999.0000, -999.00,-999.000
318M20130321,       P02E,      97,          1,          3,          3,2,20130515,       0647,    30.0002,  -157.1623,       5992,  5601.1,   1.5914,  34.6911,2,  34.6904,2,      160,2,   158.9,2,  147.78,2,   35.48,2,       0,2,    2.48,2,   0.005,2,   0.006,2,-999.000,5,        0,2,  2320.9,6, 2414.86,2,   7.5838,2,       25,-999.000,9,-999.0000,9, -999.00,9, -999.00,9,  -999.0,9,  -999.0,-999.000,9,-999.000,     -999.0,9, -999.00,9,   34.28,2, -999.00,9,     -999.0,9,  -999.0,9, 20130515,      657,  29.9999,-157.1625,     34.854,2,     -999.0,9,     -999.0,9,     1.5915,2,     -999.0,9,     -999.0,9,-999.0000, -999.00,-999.000
318M20130321,       P02E,      97,          1,          2,          2,2,20130515,       0647,    30.0002,  -157.1623,       5992,    6111,   1.6558,  34.6912,2,  34.6912,2,    160.6,2,   160.3,2,  146.41,2,   35.44,2,       0,2,    2.46,2,   0.005,6,   0.006,6,-999.000,5,        0,6,  2319.9,2, 2414.36,2,   7.5829,2,       25,-999.000,9,-999.0000,9, -999.00,9, -999.00,9,  -999.0,9,  -999.0,-999.000,9,-999.000,     -999.0,9, -999.00,9,   34.74,2, -999.00,9,     -999.0,9,  -999.0,9, 20130515,      648,  30.0002,-157.1623,    34.8548,2,     -999.0,9,     -999.0,9,     1.6556,2,     -999.0,9,     -999.0,9,-999.0000, -999.00,-999.000