BOTTLE,20220817CCHSIOAMB
EXPOCODE,SECT_ID,STNNBR,CASTNO,SAMPNO,BTLNBR,BTLNBR_FLAG_W,DATE,TIME,LATITUDE,LONGITUDE,DEPTH,CTDPRS,CTDTMP,CTDSAL,CTDSAL_FLAG_W,SALNTY,SALNTY_FLAG_W,CTDOXY,CTDOXY_FLAG_W,OXYGEN,OXYGEN_FLAG_W,SILCAT,SILCAT_FLAG_W,NITRAT,NITRAT_FLAG_W,NITRIT,NITRIT_FLAG_W,PHSPHT,PHSPHT_FLAG_W,CFC-11,CFC-11_FLAG_W,CFC-12,CFC-12_FLAG_W,CFC113,CFC113_FLAG_W,SF6,SF6_FLAG_W,TCARBN,TCARBN_FLAG_W,ALKALI,ALKALI_FLAG_W,PH_TOT,PH_TOT_FLAG_W,PH_TMP,TRITUM,TRITUM_FLAG_W,HELIUM,HELIUM_FLAG_W,DELHE3,DELHE3_FLAG_W,DELC13,DELC13_FLAG_W,DELC14,DELC14_FLAG_W,C14ERR,NEON,NEON_FLAG_W,NEONER,I-129,I-129_FLAG_W,SR-90,SR-90_FLAG_W,DOC,DOC_FLAG_W,TDN,TDN_FLAG_W,CALCIUM,CALCIUM_FLAG_W,D15N_NO3,D15N_NO3_FLAG_W,BTL_DATE,BTL_TIME,BTL_LAT,BTL_LON,SALTREF,SALTREF_FLAG_W,CS-137,CS-137_FLAG_W,CS-134,CS-134_FLAG_W,REFTMP,REFTMP_FLAG_W,LAB_DEN,LAB_DEN_FLAG_W,D18O_NO3,D18O_NO3_FLAG_W,HELIER,DELHER,TRITER
,,,,,,,,,,,METERS,DBAR,ITS-90,PSS-78,,PSS-78,,UMOL/KG,,UMOL/KG,,UMOL/KG,,UMOL/KG,,UMOL/KG,,UMOL/KG,,PMOL/KG,,PMOL/KG,,PMOL/KG,,FMOL/KG,,UMOL/KG,,UMOL/KG,,,,DEG C,TU,,NMOL/KG,,PERCNT,,/MILLE,,/MILLE,,/MILLE,NMOL/KG,,NMOL/KG,BQ/M^3,,DM/.1MG,,UMOL/KG,,UMOL/KG,,MMOL/KG,,/MILLE,,,,,,G/KG,,BQ/M^3,,BQ/M^3,,ITS-90,,,,/MILLE,,NMOL/KG,PERCNT,TU
318M20130321,       P02W,      11,          1,          7,          7,2,20130324,       1546,    31.3132,   133.9384,       4588,  3034.8,   1.6043,  34.6637,2,  34.6639,2,    141.4,2,   141.6,2,  143.97,2,   36.18,2,       0,2,    2.55,2,   0.007,2,   0.009,2,   0.010,2,        0,2,  2326.3,2, 2412.06,2,   7.5524,2,       25,-999.000,9,-999.0000,9, -999.00,9, -999.00,9,  -999.0,9,  -999.0,-999.000,9,-999.000,     -999.0,9, -999.00,9, -999.00,9, -999.00,9,     -999.0,9,  -999.0,9, 20130324,     1622,  31.3142, 133.9407,    34.8274,2,     -999.0,9,     -999.0,9,     1.6043,2,     -999.0,9,     -999.0,9,-999.0000, -999.00,-999.000
318M20130321,       P02W,      11,          1,          6,          6,2,20130324,       1546,    31.3132,   133.9384,       4588,  3343.8,   1.5463,  34.6732,2,   34.674,2,    147.7,2,   147.9,2,  143.29,2,   35.79,2,       0,2,    2.52,2,-999.000,9,-999.000,9,-999.000,9,-999.0000,9,  -999.0,9, -999.00,9,-999.0000,9,  -999.00,-999.000,9,-999.0000,9, -999.00,9, -999.00,9,  -999.0,9,  -999.0,-999.000,9,-999.000,     -999.0,9, -999.00,9,   35.39,2, -999.00,9,     -999.0,9,  -999.0,9, 20130324,     1615,  31.3139, 133.9404,    34.8375,2,     -999.0,9,     -999.0,9,     1.5462,2,     -999.0,9,     -999.0,9,-999.0000, -999.00,-999.000
318M20130321,       P02W,      11,          1,          5,          5,2,20130324,       1546,    31.3132,   133.9384,       4588,  3651.2,   1.5389,  34.6776,2,  34.6773,2,    150.8,2,   150.4,2,  143.09,2,   35.65,2,       0,2,    2.51,2,   0.002,2,   0.012,2,   0.011,2,     0.04,2,  2322.8,2, 2413.06,2,   7.5658,2,       25,-999.000,9,-999.0000,9, -999.00,9, -999.00,9,  -999.0,9,  -999.0,-999.000,9,-999.000,     -999.0,9, -999.00,9, -999.00,9, -999.00,9,     -999.0,9,  -999.0,9, 20130324,     1608,  31.3136, 133.9399,    34.8408,2,     -999.0,9,     -999.0,9,     1.5391,2,     -999.0,9,     -999.0,9,-999.0000, -999.00,-999.000
318M20130321,       P02W,      11,          1,          4,          4,2,20130324,       1546,    31.3132,   133.9384,       4588,  3959.4,   1.5522,  34.6795,2,  34.6795,2,    152.6,2,   152.7,2,   142.8,2,   35.54,2,       0,2,     2.5,2,-999.000,9,-999.000,9,-999.000,9,-999.0000,9,  -999.0,9, -999.00,9,-999.0000,9,  -999.00,-999.000,9,-999.0000,9, -999.00,9, -999.00,9,  -999.0,9,  -999.0,-999.000,9,-999.000,     -999.0,9, -999.00,9,   35.49,2, -999.00,9,     -999.0,9,  -999.0,9, 20130324,     1602,  31.3135, 133.9395,     34.843,2,     -999.0,9,     -999.0,9,     1.5522,2,     -999.0,9,     -999.0,9,-999.0000, -999.00,-999.000
318M20130321,       P02W,      11,          1,          3,          3,2,20130324,       1546,    31.3132,   133.9384,       4588,  4272.9,   1.5705,  34.6813,2,  34.6814,2,    153.4,2,   153.6,2,  142.21,2,   35.44,2,       0,2,    2.49,2,   0.013,2,   0.009,2,   0.010,2,     0.07,2,  2320.2,2, 2412.76,6,   7.5722,2,       25,-999.000,9,-999.0000,9, -999.00,9, -999.00,9,  -999.0,9,  -999.0,-999.000,9,-999.000,     -999.0,9, -999.00,9,   35.69,2, -999.00,9,     -999.0,9,  -999.0,9, 20130324,     1555,  31.3133, 133.9391,     34.845,2,     -999.0,9,     -999.0,9,     1.5707,2,     -999.0,9,     -999.0,9,-999.0000, -999.00,-999.000
318M20130321,       P02W,      11,          1,          2,          2,2,20130324,       1546,    31.3132,   133.9384,       4588,  4477.7,   1.5847,  34.6822,2,  34.6822,2,    154.8,2,   155.3,2,   142.6,2,   35.36,2,       0,2,    2.49,2,-999.000,9,-999.000,9,-999.000,9,-999.0000,9,    2319,2, 2412.76,6,   7.5726,6,       25,-999.000,9,-999.0000,9, -999.00,9, -999.00,9,  -999.0,9,  -999.0,-999.000,9,-999.000,     -999.0,9, -999.00,9,    37.2,2, -999.00,9,     -999.0,9,  -999.0,9, 20130324,     1551,  31.3131, 133.9389,    34.8458,2,     -999.0,9,     -999.0,9,     1.5846,2,     -999.0,9,     -999.0,9,-999.0000, -999.00,-999.000
318M20130321,       P02W,      11,          1,          1,          1,2,20130324,       1546,    31.3132,   133.9384,       4588,  4659.7,   1.6019,  34.6826,2,  34.6824,2,    155.2,2,   155.3,2,  141.92,2,   35.36,2,       0,2,    2.48,2,   0.027,2,   0.030,2,   0.010,2,     0.06,2,  2320.3,6, 2411.56,2,   7.5725,2,       25,-999.000,9,-999.0000,9, -999.00,9, -999.00,9,  -999.0,9,  -999.0,-999.000,9,-999.000,     -999.0,9, -999.00,9,    37.5,2, -999.00,9,     -999.0,9,  -999.0,9, 20130324,     1546,  31.3132, 133.9384,    34.8459,2,     -999.0,9,     -999.0,9,     1.6014,2,     -999.0,9,     -999.0,9,-999.0000, -999.00,-999.000