BOTTLE,20220817CCHSIOAMB
EXPOCODE,SECT_ID,STNNBR,CASTNO,SAMPNO,BTLNBR,BTLNBR_FLAG_W,DATE,TIME,LATITUDE,LONGITUDE,DEPTH,CTDPRS,CTDTMP,CTDSAL,CTDSAL_FLAG_W,SALNTY,SALNTY_FLAG_W,CTDOXY,CTDOXY_FLAG_W,OXYGEN,OXYGEN_FLAG_W,SILCAT,SILCAT_FLAG_W,NITRAT,NITRAT_FLAG_W,NITRIT,NITRIT_FLAG_W,PHSPHT,PHSPHT_FLAG_W,CFC-11,CFC-11_FLAG_W,CFC-12,CFC-12_FLAG_W,CFC113,CFC113_FLAG_W,SF6,SF6_FLAG_W,TCARBN,TCARBN_FLAG_W,ALKALI,ALKALI_FLAG_W,PH_TOT,PH_TOT_FLAG_W,PH_TMP,TRITUM,TRITUM_FLAG_W,HELIUM,HELIUM_FLAG_W,DELHE3,DELHE3_FLAG_W,DELC13,DELC13_FLAG_W,DELC14,DELC14_FLAG_W,C14ERR,NEON,NEON_FLAG_W,NEONER,I-129,I-129_FLAG_W,SR-90,SR-90_FLAG_W,DOC,DOC_FLAG_W,TDN,TDN_FLAG_W,CALCIUM,CALCIUM_FLAG_W,D15N_NO3,D15N_NO3_FLAG_W,BTL_DATE,BTL_TIME,BTL_LAT,BTL_LON,SALTREF,SALTREF_FLAG_W,CS-137,CS-137_FLAG_W,CS-134,CS-134_FLAG_W,REFTMP,REFTMP_FLAG_W,LAB_DEN,LAB_DEN_FLAG_W,D18O_NO3,D18O_NO3_FLAG_W,HELIER,DELHER,TRITER
,,,,,,,,,,,METERS,DBAR,ITS-90,PSS-78,,PSS-78,,UMOL/KG,,UMOL/KG,,UMOL/KG,,UMOL/KG,,UMOL/KG,,UMOL/KG,,PMOL/KG,,PMOL/KG,,PMOL/KG,,FMOL/KG,,UMOL/KG,,UMOL/KG,,,,DEG C,TU,,NMOL/KG,,PERCNT,,/MILLE,,/MILLE,,/MILLE,NMOL/KG,,NMOL/KG,BQ/M^3,,DM/.1MG,,UMOL/KG,,UMOL/KG,,MMOL/KG,,/MILLE,,,,,,G/KG,,BQ/M^3,,BQ/M^3,,ITS-90,,,,/MILLE,,NMOL/KG,PERCNT,TU
318M20130321,       P02W,      79,          1,          6,          6,2,20130430,       0213,    30.0003,  -176.4016,       5339,  3920.6,   1.4554,  34.6835,2,  34.6844,2,      147,2,   146.9,2,  156.27,2,    36.4,2,       0,2,    2.58,2,   0.000,2,   0.009,2,   0.006,2,     0.04,2,  2326.5,2, 2418.46,6,   7.5637,2,       25,-999.000,9,-999.0000,9, -999.00,9, -999.00,9,  -999.0,9,  -999.0,-999.000,9,-999.000,     -999.0,9, -999.00,9, -999.00,9, -999.00,9,     -999.0,9,  -999.0,9, 20130430,      243,       30,-176.4016,    34.8479,2,     -999.0,9,     -999.0,9,     1.4554,2,     -999.0,9,     -999.0,9,-999.0000, -999.00,-999.000
318M20130321,       P02W,      79,          1,          5,         37,2,20130430,       0213,    30.0003,  -176.4016,       5339,  4328.7,   1.4738,  34.6865,2,  34.6871,2,    150.9,2,   150.8,2,  155.39,2,   36.13,2,       0,2,    2.57,2,-999.000,9,-999.000,9,-999.000,9,-999.0000,9,  -999.0,9, -999.00,9,-999.0000,9,  -999.00,-999.000,9,-999.0000,9, -999.00,9, -999.00,9,  -999.0,9,  -999.0,-999.000,9,-999.000,     -999.0,9, -999.00,9,   36.48,2, -999.00,9,     -999.0,9,  -999.0,9, 20130430,      235,       30,-176.4017,    34.8507,2,     -999.0,9,     -999.0,9,     1.4736,2,     -999.0,9,     -999.0,9,-999.0000, -999.00,-999.000
318M20130321,       P02W,      79,          1,          4,          4,2,20130430,       0213,    30.0003,  -176.4016,       5339,  4740.5,   1.5034,  34.6888,2,  34.6889,2,    154.4,2,   154.2,2,  153.14,2,   35.95,2,       0,2,    2.54,2,   0.000,2,   0.006,2,   0.005,2,     0.13,2,  2322.3,2, 2416.86,2,   7.5758,6,       25,-999.000,9,-999.0000,9, -999.00,9, -999.00,9,  -999.0,9,  -999.0,-999.000,9,-999.000,     -999.0,9, -999.00,9, -999.00,9, -999.00,9,     -999.0,9,  -999.0,9, 20130430,      228,  30.0001,-176.4018,    34.8525,2,     -999.0,9,     -999.0,9,      1.503,2,     -999.0,9,     -999.0,9,-999.0000, -999.00,-999.000
318M20130321,       P02W,      79,          1,          3,          3,2,20130430,       0213,    30.0003,  -176.4016,       5339,  5156.1,   1.5288,  34.6907,2,  34.6912,2,    158.7,2,   158.9,2,  147.29,2,    35.6,2,       0,2,     2.5,2,   0.000,2,   0.020,2,   0.004,2,     0.09,2,  2316.5,2, 2415.36,2,   7.5818,2,       25,-999.000,9,-999.0000,9, -999.00,9, -999.00,9,  -999.0,9,  -999.0,-999.000,9,-999.000,     -999.0,9, -999.00,9,   36.46,2, -999.00,9,     -999.0,9,  -999.0,9, 20130430,      219,  30.0002,-176.4017,    34.8548,2,     -999.0,9,     -999.0,9,     1.5286,2,     -999.0,9,     -999.0,9,-999.0000, -999.00,-999.000
318M20130321,       P02W,      79,          1,          2,          2,2,20130430,       0213,    30.0003,  -176.4016,       5339,  5425.3,   1.5471,  34.6921,2,  34.6962,3,    162.8,2,     163,2,  144.36,2,   35.32,2,       0,2,    2.46,2,   0.006,4,   0.014,4,   0.004,4,     0.12,4,  2313.9,6, 2411.16,2,   7.5857,2,       25,-999.000,9,-999.0000,9, -999.00,9, -999.00,9,  -999.0,9,  -999.0,-999.000,9,-999.000,     -999.0,9, -999.00,9,    36.3,2, -999.00,9,     -999.0,9,  -999.0,9, 20130430,      214,  30.0003,-176.4016,    34.8598,3,     -999.0,9,     -999.0,9,     1.5468,2,     -999.0,9,     -999.0,9,-999.0000, -999.00,-999.000