BOTTLE,20220817CCHSIOAMB
EXPOCODE,SECT_ID,STNNBR,CASTNO,SAMPNO,BTLNBR,BTLNBR_FLAG_W,DATE,TIME,LATITUDE,LONGITUDE,DEPTH,CTDPRS,CTDTMP,CTDSAL,CTDSAL_FLAG_W,SALNTY,SALNTY_FLAG_W,CTDOXY,CTDOXY_FLAG_W,OXYGEN,OXYGEN_FLAG_W,SILCAT,SILCAT_FLAG_W,NITRAT,NITRAT_FLAG_W,NITRIT,NITRIT_FLAG_W,PHSPHT,PHSPHT_FLAG_W,CFC-11,CFC-11_FLAG_W,CFC-12,CFC-12_FLAG_W,CFC113,CFC113_FLAG_W,SF6,SF6_FLAG_W,TCARBN,TCARBN_FLAG_W,ALKALI,ALKALI_FLAG_W,PH_TOT,PH_TOT_FLAG_W,PH_TMP,TRITUM,TRITUM_FLAG_W,HELIUM,HELIUM_FLAG_W,DELHE3,DELHE3_FLAG_W,DELC13,DELC13_FLAG_W,DELC14,DELC14_FLAG_W,C14ERR,NEON,NEON_FLAG_W,NEONER,I-129,I-129_FLAG_W,SR-90,SR-90_FLAG_W,DOC,DOC_FLAG_W,TDN,TDN_FLAG_W,CALCIUM,CALCIUM_FLAG_W,D15N_NO3,D15N_NO3_FLAG_W,BTL_DATE,BTL_TIME,BTL_LAT,BTL_LON,SALTREF,SALTREF_FLAG_W,CS-137,CS-137_FLAG_W,CS-134,CS-134_FLAG_W,REFTMP,REFTMP_FLAG_W,LAB_DEN,LAB_DEN_FLAG_W,D18O_NO3,D18O_NO3_FLAG_W,HELIER,DELHER,TRITER
,,,,,,,,,,,METERS,DBAR,ITS-90,PSS-78,,PSS-78,,UMOL/KG,,UMOL/KG,,UMOL/KG,,UMOL/KG,,UMOL/KG,,UMOL/KG,,PMOL/KG,,PMOL/KG,,PMOL/KG,,FMOL/KG,,UMOL/KG,,UMOL/KG,,,,DEG C,TU,,NMOL/KG,,PERCNT,,/MILLE,,/MILLE,,/MILLE,NMOL/KG,,NMOL/KG,BQ/M^3,,DM/.1MG,,UMOL/KG,,UMOL/KG,,MMOL/KG,,/MILLE,,,,,,G/KG,,BQ/M^3,,BQ/M^3,,ITS-90,,,,/MILLE,,NMOL/KG,PERCNT,TU
318M20130321,       P02E,     114,          1,          6,          6,2,20130520,       1745,    29.9999,  -144.1177,       5174,  4266.9,   1.4851,  34.6863,2,  34.6853,2,    146.3,2,   147.4,2,   158.9,2,   36.43,2,       0,2,     2.5,2,   0.004,2,   0.005,2,-999.000,1,        0,2,  2335.1,2, 2424.56,6,   7.5699,2,       25,-999.000,9,-999.0000,9, -999.00,9, -999.00,9,  -999.0,9,  -999.0,-999.000,9,-999.000,     -999.0,9, -999.00,9, -999.00,9, -999.00,9,     -999.0,9,  -999.0,1, 20130520,     1806,  29.9997,-144.1178,    34.8488,2,     -999.0,9,     -999.0,9,     1.4852,2,     -999.0,9,     -999.0,1,-999.0000, -999.00,-999.000
318M20130321,       P02E,     114,          1,          5,         37,2,20130520,       1745,    29.9999,  -144.1177,       5174,  4573.5,   1.5035,  34.6881,2,  34.6867,2,    150.8,2,   151.4,2,  154.71,2,   36.11,2,       0,2,    2.49,2,   0.006,2,   0.006,2,-999.000,1,        0,2,  -999.0,9, -999.00,9,-999.0000,9,  -999.00,-999.000,9,-999.0000,9, -999.00,9, -999.00,9,  -999.0,9,  -999.0,-999.000,9,-999.000,     -999.0,9, -999.00,9, -999.00,9, -999.00,9,     -999.0,9,  -999.0,1, 20130520,     1800,  30.0001,-144.1179,    34.8502,2,     -999.0,9,     -999.0,9,     1.5034,2,     -999.0,9,     -999.0,1,-999.0000, -999.00,-999.000
318M20130321,       P02E,     114,          1,          4,          4,2,20130520,       1745,    29.9999,  -144.1177,       5174,  4881.9,    1.531,  34.6888,2,  34.6875,2,    153.1,2,   153.6,2,  152.46,2,   35.92,2,       0,2,    2.47,2,   0.005,2,   0.003,2,-999.000,1,        0,2,  -999.0,9, -999.00,9,-999.0000,9,  -999.00,-999.000,9,-999.0000,9, -999.00,9, -999.00,9,  -999.0,9,  -999.0,-999.000,9,-999.000,     -999.0,9, -999.00,9, -999.00,9, -999.00,9,     -999.0,9,  -999.0,1, 20130520,     1754,  29.9997,-144.1179,     34.851,2,     -999.0,9,     -999.0,9,     1.5308,2,     -999.0,9,     -999.0,1,-999.0000, -999.00,-999.000
318M20130321,       P02E,     114,          1,          3,          3,2,20130520,       1745,    29.9999,  -144.1177,       5174,  5089.1,    1.552,  34.6894,2,  34.6877,2,      155,2,   154.6,2,  151.68,2,   35.84,2,       0,2,    2.46,2,   0.006,2,   0.009,2,-999.000,1,   0.0358,2,  2325.1,2, 2418.96,2,   7.5778,6,       25,-999.000,9,-999.0000,9, -999.00,9, -999.00,9,  -999.0,9,  -999.0,-999.000,9,-999.000,     -999.0,9, -999.00,9, -999.00,9, -999.00,9,     -999.0,9,  -999.0,1, 20130520,     1749,  29.9998,-144.1177,    34.8512,2,     -999.0,9,     -999.0,9,     1.5523,2,     -999.0,9,     -999.0,1,-999.0000, -999.00,-999.000
318M20130321,       P02E,     114,          1,          2,          2,2,20130520,       1745,    29.9999,  -144.1177,       5174,  5257.2,   1.5739,  34.6891,2,  34.6887,2,      155,2,     155,2,  151.88,2,    35.9,2,       0,2,    2.48,2,   0.006,2,   0.006,2,-999.000,1,   0.0552,2,  2326.7,6, 2419.76,2,   7.5783,2,       25,-999.000,9,-999.0000,9, -999.00,9, -999.00,9,  -999.0,9,  -999.0,-999.000,9,-999.000,     -999.0,9, -999.00,9, -999.00,9, -999.00,9,     -999.0,9,  -999.0,1, 20130520,     1745,  29.9999,-144.1177,    34.8522,2,     -999.0,9,     -999.0,9,     1.5736,2,     -999.0,9,     -999.0,1,-999.0000, -999.00,-999.000