BOTTLE,20220817CCHSIOAMB
EXPOCODE,SECT_ID,STNNBR,CASTNO,SAMPNO,BTLNBR,BTLNBR_FLAG_W,DATE,TIME,LATITUDE,LONGITUDE,DEPTH,CTDPRS,CTDTMP,CTDSAL,CTDSAL_FLAG_W,SALNTY,SALNTY_FLAG_W,CTDOXY,CTDOXY_FLAG_W,OXYGEN,OXYGEN_FLAG_W,SILCAT,SILCAT_FLAG_W,NITRAT,NITRAT_FLAG_W,NITRIT,NITRIT_FLAG_W,PHSPHT,PHSPHT_FLAG_W,CFC-11,CFC-11_FLAG_W,CFC-12,CFC-12_FLAG_W,CFC113,CFC113_FLAG_W,SF6,SF6_FLAG_W,TCARBN,TCARBN_FLAG_W,ALKALI,ALKALI_FLAG_W,PH_TOT,PH_TOT_FLAG_W,PH_TMP,TRITUM,TRITUM_FLAG_W,HELIUM,HELIUM_FLAG_W,DELHE3,DELHE3_FLAG_W,DELC13,DELC13_FLAG_W,DELC14,DELC14_FLAG_W,C14ERR,NEON,NEON_FLAG_W,NEONER,I-129,I-129_FLAG_W,SR-90,SR-90_FLAG_W,DOC,DOC_FLAG_W,TDN,TDN_FLAG_W,CALCIUM,CALCIUM_FLAG_W,D15N_NO3,D15N_NO3_FLAG_W,BTL_DATE,BTL_TIME,BTL_LAT,BTL_LON,SALTREF,SALTREF_FLAG_W,CS-137,CS-137_FLAG_W,CS-134,CS-134_FLAG_W,REFTMP,REFTMP_FLAG_W,LAB_DEN,LAB_DEN_FLAG_W,D18O_NO3,D18O_NO3_FLAG_W,HELIER,DELHER,TRITER
,,,,,,,,,,,METERS,DBAR,ITS-90,PSS-78,,PSS-78,,UMOL/KG,,UMOL/KG,,UMOL/KG,,UMOL/KG,,UMOL/KG,,UMOL/KG,,PMOL/KG,,PMOL/KG,,PMOL/KG,,FMOL/KG,,UMOL/KG,,UMOL/KG,,,,DEG C,TU,,NMOL/KG,,PERCNT,,/MILLE,,/MILLE,,/MILLE,NMOL/KG,,NMOL/KG,BQ/M^3,,DM/.1MG,,UMOL/KG,,UMOL/KG,,MMOL/KG,,/MILLE,,,,,,G/KG,,BQ/M^3,,BQ/M^3,,ITS-90,,,,/MILLE,,NMOL/KG,PERCNT,TU
318M20130321,       P02W,      75,          1,         35,         35,2,20130428,       1904,         30,  -179.6384,       5386,     4.5,  17.9042,  34.8187,2,  34.8177,2,    238.4,2,   239.1,2,    2.05,2,       0,2,       0,2,    0.02,2,   2.541,2,   1.561,2,   0.203,2,     1.46,2,    2016,6, 2286.41,2,    7.999,2,       25,   0.514,2,   1.7241,2,   -1.09,2,    0.74,2,    51.7,2,     2.5,   7.082,2,   0.033,     -999.0,9, -999.00,9,   56.38,2,    4.24,2,     -999.0,9,  -999.0,9, 20130428,     2117,  30.0002,-179.6383,    34.9818,2,     -999.0,9,     -999.0,9,    17.9043,2,     -999.0,9,     -999.0,9,   0.0072,    0.15,   0.012
318M20130321,       P02W,      75,          1,         36,         36,2,20130428,       1904,         30,  -179.6384,       5386,    34.4,  17.9019,  34.8149,2,  34.8151,2,    239.3,2,     239,2,    2.05,2,       0,2,       0,2,    0.03,2,   2.535,2,   1.561,2,   0.213,2,     1.23,2,  -999.0,9, -999.00,9,-999.0000,9,  -999.00,   0.500,2,   1.7457,2,   -1.07,2, -999.00,9,  -999.0,9,  -999.0,   7.072,2,   0.033,     -999.0,9, -999.00,9,   57.16,2,    4.52,2,     -999.0,9,  -999.0,9, 20130428,     2114,  30.0006,-179.6383,    34.9793,2,     -999.0,9,     -999.0,9,    17.9066,2,     -999.0,9,     -999.0,9,   0.0073,    0.15,   0.012
318M20130321,       P02W,      75,          1,         34,         34,2,20130428,       1904,         30,  -179.6384,       5386,    59.7,  17.3083,  34.6935,2,  34.6934,2,    241.9,2,   243.1,2,    1.85,2,       0,2,       0,2,    0.03,2,-999.000,9,-999.000,9,-999.000,9,-999.0000,9,  -999.0,9, -999.00,9,-999.0000,9,  -999.00,-999.000,9,-999.0000,9, -999.00,9, -999.00,9,  -999.0,9,  -999.0,-999.000,9,-999.000,     -999.0,9, -999.00,9,   56.64,2,    4.12,2,     -999.0,9,  -999.0,9, 20130428,     2112,  30.0006,-179.6384,     34.857,2,     -999.0,9,     -999.0,9,    17.3055,2,     -999.0,9,     -999.0,9,-999.0000, -999.00,-999.000
318M20130321,       P02W,      75,          1,         33,         33,2,20130428,       1904,         30,  -179.6384,       5386,    84.9,  17.0705,  34.6667,2,  34.6663,2,      238,2,   238.4,2,    2.44,2,     0.3,2,    0.11,2,    0.07,2,-999.000,9,-999.000,9,-999.000,9,-999.0000,9,  -999.0,9, -999.00,9,-999.0000,9,  -999.00,-999.000,9,-999.0000,9, -999.00,9,    0.68,2,    54.7,2,     2.4,-999.000,9,-999.000,     -999.0,9, -999.00,9,   55.29,2,    4.53,2,     -999.0,9,  -999.0,9, 20130428,     2110,  30.0005,-179.6386,    34.8298,2,     -999.0,9,     -999.0,9,    17.0602,2,     -999.0,9,     -999.0,9,-999.0000, -999.00,-999.000
318M20130321,       P02W,      75,          1,         32,         32,2,20130428,       1904,         30,  -179.6384,       5386,   109.2,  16.5688,  34.6226,2,  34.6215,2,      233,2,   231.3,2,    3.81,2,    2.16,2,    0.39,2,    0.17,2,   2.679,2,   1.621,2,   0.198,2,     1.58,2,  2026.5,2, 2272.61,2,   7.9588,6,       25,   0.507,2,   1.7469,2,   -0.75,2,    0.56,2,    54.3,2,     2.8,   7.130,2,   0.033,     -999.0,9, -999.00,9,   54.02,2,    6.61,2,     -999.0,9,  -999.0,9, 20130428,     2108,  30.0002,-179.6386,    34.7848,2,     -999.0,9,     -999.0,9,    16.5682,2,     -999.0,9,     -999.0,9,   0.0073,    0.15,   0.011
318M20130321,       P02W,      75,          1,         31,         31,2,20130428,       1904,         30,  -179.6384,       5386,   166.3,  16.1893,  34.5979,2,  34.5988,2,    229.4,2,   229.5,2,    4.49,2,    3.44,2,    0.04,2,    0.22,2,-999.000,9,-999.000,9,-999.000,9,-999.0000,9,  -999.0,9, -999.00,9,-999.0000,9,  -999.00,-999.000,9,-999.0000,9, -999.00,9, -999.00,9,  -999.0,9,  -999.0,-999.000,9,-999.000,     -999.0,9, -999.00,9,   53.43,2,     6.8,2,     -999.0,9,  -999.0,9, 20130428,     2106,  30.0001,-179.6384,    34.7619,2,     -999.0,9,     -999.0,9,    16.2001,2,     -999.0,9,     -999.0,9,-999.0000, -999.00,-999.000
318M20130321,       P02W,      75,          1,         30,         30,2,20130428,       1904,         30,  -179.6384,       5386,   214.5,  15.6185,  34.5522,2,  34.5528,2,    231.6,2,     233,2,    4.98,2,    3.75,2,    0.02,2,    0.25,2,-999.000,9,-999.000,9,-999.000,9,-999.0000,9,  2036.4,2, 2268.71,6,   7.9386,2,       25,-999.000,9,-999.0000,9, -999.00,9,    0.53,2,    54.8,2,     2.4,-999.000,9,-999.000,     -999.0,9, -999.00,9,   52.79,2,    7.47,2,     -999.0,9,  -999.0,9, 20130428,     2104,  29.9999,-179.6383,    34.7157,2,     -999.0,9,     -999.0,9,    15.6009,2,     -999.0,9,     -999.0,9,-999.0000, -999.00,-999.000
318M20130321,       P02W,      75,          1,         29,         29,2,20130428,       1904,         30,  -179.6384,       5386,   265.9,  14.6702,  34.4886,2,  34.4858,2,    219.7,2,   215.2,2,    7.81,2,     7.3,2,    0.02,2,    0.49,2,   2.923,2,   1.746,2,   0.088,2,     1.31,2,  -999.0,9, -999.00,9,-999.0000,9,  -999.00,   0.521,2,   1.7702,2,   -0.12,2, -999.00,9,  -999.0,9,  -999.0,   7.327,2,   0.034,     -999.0,9, -999.00,9,   50.74,2,    11.5,2,     -999.0,9,  -999.0,9, 20130428,     2102,  29.9998, -179.638,    34.6485,2,     -999.0,9,     -999.0,9,    14.6694,2,     -999.0,9,     -999.0,9,   0.0074,    0.15,   0.011
318M20130321,       P02W,      75,          1,         28,         28,2,20130428,       1904,         30,  -179.6384,       5386,   316.8,  13.4551,  34.4127,2,  34.4119,2,    210.4,2,   213.3,2,   10.74,2,    9.47,2,    0.02,2,    0.64,2,   3.065,2,   1.808,2,   0.086,2,     1.35,2,  2075.5,2, 2266.61,2,    7.855,2,       25,-999.000,9,-999.0000,9, -999.00,9,    0.32,2,    50.5,2,     2.4,-999.000,9,-999.000,     -999.0,9, -999.00,9,   47.24,2,   13.42,2,     -999.0,9,  -999.0,9, 20130428,     2100,  29.9999, -179.638,    34.5741,2,     -999.0,9,     -999.0,9,     13.453,2,     -999.0,9,     -999.0,9,-999.0000, -999.00,-999.000
318M20130321,       P02W,      75,          1,         27,         27,2,20130428,       1904,         30,  -179.6384,       5386,   367.6,  12.3887,  34.3458,2,  34.3463,2,    206.4,2,   209.6,2,   13.86,2,   11.66,2,    0.02,2,     0.8,2,   3.219,2,   1.854,2,   0.083,2,     1.18,2,  -999.0,9, -999.00,9,-999.0000,9,  -999.00,   0.490,6,   1.7907,2,    1.46,2,    0.22,2,    43.3,2,     2.5,   7.482,2,   0.034,     -999.0,9, -999.00,9,    48.5,2, -999.00,9,     -999.0,9,  -999.0,9, 20130428,     2058,  29.9998,-179.6382,    34.5083,2,     -999.0,9,     -999.0,9,    12.3841,2,     -999.0,9,     -999.0,9,   0.0075,    0.15,   0.009
318M20130321,       P02W,      75,          1,         26,         26,2,20130428,       1904,         30,  -179.6384,       5386,   438.8,  10.6484,  34.2219,2,  34.2241,2,    199.5,2,   203.9,2,   20.41,2,   15.39,2,       0,2,    1.07,2,   3.359,2,   1.899,2,   0.109,2,     0.98,2,  2115.9,2, 2267.31,2,   7.7618,2,       25,-999.000,9,-999.0000,9, -999.00,9,    0.17,2,    24.7,2,     2.3,-999.000,9,-999.000,     -999.0,9, -999.00,9,   46.24,2, -999.00,9,     -999.0,9,  -999.0,9, 20130428,     2056,  29.9999,-179.6384,    34.3855,2,     -999.0,9,     -999.0,9,    10.6747,2,     -999.0,9,     -999.0,9,-999.0000, -999.00,-999.000
318M20130321,       P02W,      75,          1,         25,         25,2,20130428,       1904,         30,  -179.6384,       5386,   538.7,   8.2426,  34.0729,2,  34.0753,2,    172.4,2,   174.4,2,   36.23,2,   22.57,2,       0,2,     1.6,2,   3.246,2,   1.751,2,   0.132,2,     0.96,2,  -999.0,9, -999.00,9,-999.0000,9,  -999.00,   0.459,2,   1.8254,2,    6.67,2,    0.02,2,   -12.9,2,     2.9,   7.821,2,   0.036,     -999.0,9, -999.00,9,   48.15,2, -999.00,9,     -999.0,9,  -999.0,9, 20130428,     2053,  29.9998,-179.6384,     34.236,2,     -999.0,9,     -999.0,9,     8.2619,2,     -999.0,9,     -999.0,9,   0.0077,    0.15,   0.012
318M20130321,       P02W,      75,          1,         24,         24,2,20130428,       1904,         30,  -179.6384,       5386,     639,   6.4282,  34.0265,2,  34.0266,2,    131.5,2,   132.1,2,   57.23,2,   29.74,2,       0,2,    2.14,2,   2.600,2,   1.354,2,   0.111,2,     0.54,2,  2220.7,2, 2287.81,2,   7.5251,2,       25,   0.376,2,   1.8504,2,   10.99,2,   -0.15,2,   -48.1,2,     2.1,   7.973,2,   0.037,     -999.0,9, -999.00,9,   41.58,2, -999.00,9,     -999.0,9,  -999.0,9, 20130428,     2050,  29.9998,-179.6382,     34.187,2,     -999.0,9,     -999.0,9,     6.4276,2,     -999.0,9,     -999.0,9,   0.0078,    0.15,   0.012
318M20130321,       P02W,      75,          1,         23,         23,2,20130428,       1904,         30,  -179.6384,       5386,     741,   4.9315,  34.0766,2,  34.0759,2,     82.6,2,    82.6,2,    87.1,2,   36.62,2,       0,2,    2.65,2,   1.637,2,   0.831,2,   0.075,2,     0.26,2,  2281.5,2, 2308.82,2,   7.4053,2,       25,   0.274,2,   1.8532,2,   14.51,2,   -0.33,2,  -117.9,2,     2.1,   7.946,2,   0.037,     -999.0,9, -999.00,9,    41.3,2, -999.00,9,     -999.0,9,  -999.0,9, 20130428,     2047,  29.9999,-179.6379,    34.2366,2,     -999.0,9,     -999.0,9,     4.9309,2,     -999.0,9,     -999.0,9,   0.0078,    0.15,   0.012
318M20130321,       P02W,      75,          1,         22,         22,2,20130428,       1904,         30,  -179.6384,       5386,   838.9,   4.4053,  34.1635,2,  34.1634,2,     52.2,2,    52.2,2,    99.5,2,      40,2,       0,2,    2.88,2,   0.857,2,   0.425,2,   0.024,2,     0.16,2,  2316.8,2, 2339.03,2,   7.3519,2,       25,-999.000,9,-999.0000,9, -999.00,9,   -0.43,2,  -141.9,2,     1.9,-999.000,9,-999.000,     -999.0,9, -999.00,9,   41.32,2, -999.00,9,     -999.0,9,  -999.0,9, 20130428,     2044,       30,-179.6379,    34.3245,2,     -999.0,9,     -999.0,9,     4.4068,2,     -999.0,9,     -999.0,9,-999.0000, -999.00,-999.000
318M20130321,       P02W,      75,          1,         21,         21,2,20130428,       1904,         30,  -179.6384,       5386,   941.7,    3.902,  34.2529,2,  34.2516,2,     35.4,2,    34.8,2,  114.14,2,      42,2,       0,2,    3.04,2,   0.399,2,   0.206,2,   0.012,2,     0.13,2,  2341.8,2, 2344.63,2,   7.3244,2,       25,   0.099,2,   1.8866,2,   16.20,2,   -0.52,2,  -171.0,2,     1.8,   8.102,2,   0.037,     -999.0,9, -999.00,9,   41.59,2, -999.00,9,     -999.0,9,  -999.0,9, 20130428,     2041,  30.0004,-179.6382,    34.4132,2,     -999.0,9,     -999.0,9,     3.9058,2,     -999.0,9,     -999.0,9,   0.0079,    0.15,   0.013
318M20130321,       P02W,      75,          1,         20,         20,2,20130428,       1904,         30,  -179.6384,       5386,  1041.6,   3.5046,   34.336,2,  34.3387,2,     27.7,2,    26.3,2,  126.04,2,    43.1,2,       0,2,     3.1,2,   0.159,2,   0.085,2,   0.000,2,     0.06,2,  2361.3,2, 2362.44,2,   7.3171,2,       25,   0.041,2,   1.8794,2,   16.60,2,   -0.55,2,  -196.9,2,     1.9,   7.991,2,   0.037,     -999.0,9, -999.00,9,   37.38,2, -999.00,9,     -999.0,9,  -999.0,9, 20130428,     2038,  30.0005,-179.6384,    34.5007,2,     -999.0,9,     -999.0,9,     3.5002,2,     -999.0,9,     -999.0,9,   0.0079,    0.15,   0.012
318M20130321,       P02W,      75,          1,         19,         19,2,20130428,       1904,         30,  -179.6384,       5386,  1144.8,   3.2457,  34.3985,2,  34.3986,2,     26.8,2,    26.9,2,  133.65,2,   43.42,2,       0,2,    3.12,2,   0.067,2,   0.038,2,   0.000,2,     0.15,2,  2372.7,2, 2379.05,2,   7.3219,2,       25,   0.020,2,   1.8920,2,   17.64,2,   -0.51,2,  -208.6,2,     1.8,   8.055,2,   0.037,     -999.0,9, -999.00,9,    38.4,2, -999.00,9,     -999.0,9,  -999.0,9, 20130428,     2035,  30.0005,-179.6383,    34.5608,2,     -999.0,9,     -999.0,9,     3.2456,2,     -999.0,9,     -999.0,9,   0.0079,    0.15,   0.011
318M20130321,       P02W,      75,          1,         18,         18,2,20130428,       1904,         30,  -179.6384,       5386,  1246.7,   3.0268,  34.4402,2,  34.4406,2,     30.1,2,      30,2,  140.09,2,   43.46,2,       0,2,    3.11,2,   0.044,2,   0.029,2,   0.000,2,        0,2,  2374.8,2, 2380.85,2,   7.3331,2,       25,-999.000,9,-999.0000,9, -999.00,9,   -0.64,2,  -218.8,2,     1.8,-999.000,9,-999.000,     -999.0,9, -999.00,9,   36.61,2, -999.00,9,     -999.0,9,  -999.0,9, 20130428,     2032,  30.0004,-179.6381,     34.603,2,     -999.0,9,     -999.0,9,     3.0263,2,     -999.0,9,     -999.0,9,-999.0000, -999.00,-999.000
318M20130321,       P02W,      75,          1,         17,         17,2,20130428,       1904,         30,  -179.6384,       5386,  1348.4,   2.8402,  34.4814,2,  34.4811,2,       33,2,    36.2,2,  144.77,2,   43.19,2,       0,2,    3.09,2,   0.021,2,   0.013,2,   0.000,2,     0.06,2,  2377.4,2, 2387.45,2,   7.3483,6,       25,   0.013,2,   1.9004,2,   18.95,2,   -0.60,2,  -222.9,2,     1.7,   8.028,2,   0.037,     -999.0,9, -999.00,9,   38.64,2, -999.00,9,     -999.0,9,  -999.0,9, 20130428,     2029,  30.0004,-179.6384,    34.6437,2,     -999.0,9,     -999.0,9,     2.8397,2,     -999.0,9,     -999.0,9,   0.0080,    0.15,   0.012
318M20130321,       P02W,      75,          1,         16,         16,2,20130428,       1904,         30,  -179.6384,       5386,  1479.1,    2.574,  34.5137,2,  34.5153,2,     40.8,2,    39.2,2,  152.97,2,      43,2,       0,2,    3.05,2,   0.018,2,   0.011,2,   0.000,2,     0.07,2,  2382.5,2, 2394.95,2,   7.3552,2,       25,   0.001,2,   1.9083,2,   19.45,2,   -0.41,2,  -230.8,2,     2.6,   8.029,2,   0.037,     -999.0,9, -999.00,9,   38.13,2, -999.00,9,     -999.0,9,  -999.0,9, 20130428,     2026,  30.0005,-179.6385,     34.678,2,     -999.0,9,     -999.0,9,     2.5754,2,     -999.0,9,     -999.0,9,   0.0080,    0.15,   0.011
318M20130321,       P02W,      75,          1,         15,         15,2,20130428,       1904,         30,  -179.6384,       5386,  1681.7,   2.2752,  34.5605,2,  34.5604,2,     52.5,2,    53.8,2,  159.31,2,   42.29,2,       0,2,    2.98,2,-999.000,9,-999.000,9,-999.000,9,-999.0000,9,  2379.6,2, 2403.35,2,   7.3874,2,       25,   0.016,2,   1.9172,2,   20.31,2,   -0.34,2,  -238.2,2,     2.5,   8.089,2,   0.037,     -999.0,9, -999.00,9,   38.01,2, -999.00,9,     -999.0,9,  -999.0,9, 20130428,     2021,  30.0001,-179.6386,    34.7234,2,     -999.0,9,     -999.0,9,     2.2758,2,     -999.0,9,     -999.0,9,   0.0081,    0.15,   0.012
318M20130321,       P02W,      75,          1,         14,         14,2,20130428,       1904,         30,  -179.6384,       5386,  1949.3,   1.9792,  34.6005,2,  34.6005,2,     75.2,2,      74,2,  163.31,2,   41.06,2,       0,2,    2.91,2,   0.005,2,   0.008,2,   0.000,2,     0.04,2,  2374.5,2, 2410.66,2,   7.4294,2,       25,   0.007,2,   1.9120,2,   20.07,2,   -0.26,2,  -235.0,2,     2.3,   8.175,2,   0.038,     -999.0,9, -999.00,9, -999.00,9, -999.00,9,     -999.0,9,  -999.0,9, 20130428,     2015,  29.9999,-179.6383,    34.7637,2,     -999.0,9,     -999.0,9,     1.9788,2,     -999.0,9,     -999.0,9,   0.0080,    0.15,   0.012
318M20130321,       P02W,      75,          1,         13,         13,2,20130428,       1904,         30,  -179.6384,       5386,  2223.1,     1.79,  34.6262,2,  34.6255,2,     91.9,2,    91.2,2,  163.69,2,   39.92,2,       0,2,    2.82,2,-999.000,9,-999.000,9,-999.000,9,-999.0000,9,  -999.0,9, -999.00,9,-999.0000,9,  -999.00,-999.000,9,-999.0000,9, -999.00,9,   -0.22,2,  -239.4,2,     1.8,-999.000,9,-999.000,     -999.0,9, -999.00,9,   37.72,2, -999.00,9,     -999.0,9,  -999.0,9, 20130428,     2009,       30,-179.6381,    34.7887,2,     -999.0,9,     -999.0,9,     1.7919,2,     -999.0,9,     -999.0,9,-999.0000, -999.00,-999.000
318M20130321,       P02W,      75,          1,         11,         11,2,20130428,       1904,         30,  -179.6384,       5386,  2529.6,   1.6538,  34.6456,2,  34.6459,2,    108.4,2,   107.5,2,   163.2,2,   38.92,2,       0,2,    2.73,2,   0.005,2,   0.006,2,   0.001,2,     0.07,2,  2355.6,2, 2417.36,2,   7.4909,6,       25,-999.000,9,-999.0000,9, -999.00,9,   -0.13,2,  -241.3,2,     1.6,-999.000,9,-999.000,     -999.0,9, -999.00,9,   39.21,2, -999.00,9,     -999.0,9,  -999.0,9, 20130428,     2003,  30.0002,-179.6388,    34.8093,2,     -999.0,9,     -999.0,9,     1.6535,2,     -999.0,9,     -999.0,9,-999.0000, -999.00,-999.000
318M20130321,       P02W,      75,          1,         10,         10,2,20130428,       1904,         30,  -179.6384,       5386,  2833.5,   1.5675,  34.6582,2,  34.6426,4,    120.1,2,   120.1,2,  161.44,2,   38.05,2,       0,2,    2.66,2,-999.000,9,-999.000,9,-999.000,9,-999.0000,9,  -999.0,9, -999.00,9,-999.0000,9,  -999.00,-999.000,9,-999.0000,9, -999.00,9,   -0.03,2,  -238.8,2,     2.1,-999.000,9,-999.000,     -999.0,9, -999.00,9, -999.00,9, -999.00,9,     -999.0,9,  -999.0,9, 20130428,     1957,  30.0003,-179.6384,    34.8059,4,     -999.0,9,     -999.0,9,     1.5672,2,     -999.0,9,     -999.0,9,-999.0000, -999.00,-999.000
318M20130321,       P02W,      75,          1,          9,          9,2,20130428,       1904,         30,  -179.6384,       5386,  3138.2,   1.5001,  34.6696,2,  34.6681,2,    130.1,2,     131,2,   159.1,2,   37.32,2,       0,2,    2.61,2,-999.000,9,-999.000,9,-999.000,9,-999.0000,9,  2340.1,2, 2417.36,2,   7.5349,2,       25,-999.000,9,-999.0000,9, -999.00,9,    0.03,2,  -234.2,2,     1.7,-999.000,9,-999.000,     -999.0,9, -999.00,9,   36.99,2, -999.00,9,     -999.0,9,  -999.0,9, 20130428,     1951,       30, -179.638,    34.8316,2,     -999.0,9,     -999.0,9,     1.5004,2,     -999.0,9,     -999.0,9,-999.0000, -999.00,-999.000
318M20130321,       P02W,      75,          1,          8,          8,2,20130428,       1904,         30,  -179.6384,       5386,  3445.8,   1.4654,  34.6766,2,   34.676,2,    139.8,2,   139.8,2,  156.85,2,   36.72,2,       0,2,    2.58,2,   0.010,2,   0.010,2,   0.000,2,     0.04,2,  -999.0,9, -999.00,9,-999.0000,9,  -999.00,-999.000,9,-999.0000,9, -999.00,9,    0.09,2,  -234.3,2,     1.4,-999.000,9,-999.000,     -999.0,9, -999.00,9, -999.00,9, -999.00,9,     -999.0,9,  -999.0,9, 20130428,     1946,  30.0003,-179.6382,    34.8395,2,     -999.0,9,     -999.0,9,     1.4652,2,     -999.0,9,     -999.0,9,-999.0000, -999.00,-999.000
318M20130321,       P02W,      75,          1,          7,          7,2,20130428,       1904,         30,  -179.6384,       5386,  3755.2,    1.453,  34.6816,2,  34.6811,2,    143.9,2,     145,2,  155.98,2,   36.37,2,       0,2,    2.54,2,-999.000,9,-999.000,9,-999.000,9,-999.0000,9,  2331.6,2, 2417.26,2,   7.5597,2,       25,-999.000,9,-999.0000,9, -999.00,9,    0.11,6,  -230.8,6,    10.5,-999.000,9,-999.000,     -999.0,9, -999.00,9,   37.26,2, -999.00,9,     -999.0,9,  -999.0,9, 20130428,     1939,  30.0004,-179.6385,    34.8447,2,     -999.0,9,     -999.0,9,      1.453,2,     -999.0,9,     -999.0,9,-999.0000, -999.00,-999.000