BOTTLE,20220817CCHSIOAMB
EXPOCODE,SECT_ID,STNNBR,CASTNO,SAMPNO,BTLNBR,BTLNBR_FLAG_W,DATE,TIME,LATITUDE,LONGITUDE,DEPTH,CTDPRS,CTDTMP,CTDSAL,CTDSAL_FLAG_W,SALNTY,SALNTY_FLAG_W,CTDOXY,CTDOXY_FLAG_W,OXYGEN,OXYGEN_FLAG_W,SILCAT,SILCAT_FLAG_W,NITRAT,NITRAT_FLAG_W,NITRIT,NITRIT_FLAG_W,PHSPHT,PHSPHT_FLAG_W,CFC-11,CFC-11_FLAG_W,CFC-12,CFC-12_FLAG_W,CFC113,CFC113_FLAG_W,SF6,SF6_FLAG_W,TCARBN,TCARBN_FLAG_W,ALKALI,ALKALI_FLAG_W,PH_TOT,PH_TOT_FLAG_W,PH_TMP,TRITUM,TRITUM_FLAG_W,HELIUM,HELIUM_FLAG_W,DELHE3,DELHE3_FLAG_W,DELC13,DELC13_FLAG_W,DELC14,DELC14_FLAG_W,C14ERR,NEON,NEON_FLAG_W,NEONER,I-129,I-129_FLAG_W,SR-90,SR-90_FLAG_W,DOC,DOC_FLAG_W,TDN,TDN_FLAG_W,CALCIUM,CALCIUM_FLAG_W,D15N_NO3,D15N_NO3_FLAG_W,BTL_DATE,BTL_TIME,BTL_LAT,BTL_LON,SALTREF,SALTREF_FLAG_W,CS-137,CS-137_FLAG_W,CS-134,CS-134_FLAG_W,REFTMP,REFTMP_FLAG_W,LAB_DEN,LAB_DEN_FLAG_W,D18O_NO3,D18O_NO3_FLAG_W,HELIER,DELHER,TRITER
,,,,,,,,,,,METERS,DBAR,ITS-90,PSS-78,,PSS-78,,UMOL/KG,,UMOL/KG,,UMOL/KG,,UMOL/KG,,UMOL/KG,,UMOL/KG,,PMOL/KG,,PMOL/KG,,PMOL/KG,,FMOL/KG,,UMOL/KG,,UMOL/KG,,,,DEG C,TU,,NMOL/KG,,PERCNT,,/MILLE,,/MILLE,,/MILLE,NMOL/KG,,NMOL/KG,BQ/M^3,,DM/.1MG,,UMOL/KG,,UMOL/KG,,MMOL/KG,,/MILLE,,,,,,G/KG,,BQ/M^3,,BQ/M^3,,ITS-90,,,,/MILLE,,NMOL/KG,PERCNT,TU
318M20130321,       P02E,      92,          1,          6,          6,2,20130513,       0621,         30,   -162.879,       5758,    3549,   1.5163,  34.6738,2,  34.6725,2,    133.6,2,   133.6,2,  161.25,2,    37.2,2,       0,2,     2.6,2,   0.006,2,   0.003,2,-999.000,5,        0,2,  -999.0,9, -999.00,9,-999.0000,9,  -999.00,-999.000,9,-999.0000,9, -999.00,9, -999.00,9,  -999.0,9,  -999.0,-999.000,9,-999.000,     -999.0,9, -999.00,9, -999.00,9, -999.00,9,     -999.0,9,  -999.0,9, 20130513,      704,       30,-162.8794,     34.836,2,     -999.0,9,     -999.0,9,     1.5162,2,     -999.0,9,     -999.0,9,-999.0000, -999.00,-999.000
318M20130321,       P02E,      92,          1,          5,         37,2,20130513,       0621,         30,   -162.879,       5758,  3956.7,   1.4823,  34.6818,2,  34.6808,2,    141.8,2,   143.4,2,  158.32,2,   36.52,2,       0,2,    2.55,2,   0.003,2,   0.003,2,-999.000,5,        0,2,  2332.8,2, 2420.86,6,   7.5589,2,       25,-999.000,9,-999.0000,9, -999.00,9, -999.00,9,  -999.0,9,  -999.0,-999.000,9,-999.000,     -999.0,9, -999.00,9, -999.00,9, -999.00,9,     -999.0,9,  -999.0,9, 20130513,      656,  29.9996,-162.8792,    34.8443,2,     -999.0,9,     -999.0,9,      1.482,2,     -999.0,9,     -999.0,9,-999.0000, -999.00,-999.000
318M20130321,       P02E,      92,          1,          4,          4,2,20130513,       0621,         30,   -162.879,       5758,  4383.6,    1.494,  34.6856,2,  34.6843,2,    148.6,2,   149.2,2,  156.46,2,    36.2,2,       0,2,    2.52,2,   0.001,2,   0.002,2,-999.000,5,        0,2,  -999.0,9, -999.00,9,-999.0000,9,  -999.00,-999.000,9,-999.0000,9, -999.00,9, -999.00,9,  -999.0,9,  -999.0,-999.000,9,-999.000,     -999.0,9, -999.00,9, -999.00,9, -999.00,9,     -999.0,9,  -999.0,9, 20130513,      648,  29.9999,-162.8791,    34.8479,2,     -999.0,9,     -999.0,9,     1.4938,2,     -999.0,9,     -999.0,9,-999.0000, -999.00,-999.000
318M20130321,       P02E,      92,          1,          3,          3,2,20130513,       0621,         30,   -162.879,       5758,  4845.7,   1.5193,  34.6889,2,  34.6869,2,    152.9,2,   153.2,2,  154.41,2,   35.87,2,       0,2,     2.5,2,   0.002,2,   0.004,2,-999.000,5,        0,2,    2325,2, 2418.96,2,   7.5756,6,       25,-999.000,9,-999.0000,9, -999.00,9, -999.00,9,  -999.0,9,  -999.0,-999.000,9,-999.000,     -999.0,9, -999.00,9, -999.00,9, -999.00,9,     -999.0,9,  -999.0,9, 20130513,      640,  30.0006,-162.8792,    34.8504,2,     -999.0,9,     -999.0,9,     1.5195,2,     -999.0,9,     -999.0,9,-999.0000, -999.00,-999.000
318M20130321,       P02E,      92,          1,          2,          2,2,20130513,       0621,         30,   -162.879,       5758,  5329.7,   1.5583,  34.6909,2,  34.6896,2,    158.1,2,   158.5,2,  149.63,2,   35.55,2,       0,2,    2.47,2,   0.003,2,   0.004,2,-999.000,5,        0,2,  2320.4,6, 2416.76,2,   7.5807,2,       25,-999.000,9,-999.0000,9, -999.00,9, -999.00,9,  -999.0,9,  -999.0,-999.000,9,-999.000,     -999.0,9, -999.00,9, -999.00,9, -999.00,9,     -999.0,9,  -999.0,9, 20130513,      631,  30.0008,-162.8797,    34.8532,2,     -999.0,9,     -999.0,9,     1.5588,2,     -999.0,9,     -999.0,9,-999.0000, -999.00,-999.000
318M20130321,       P02E,      92,          1,          1,          1,2,20130513,       0621,         30,   -162.879,       5758,  5890.8,   1.6191,  34.6917,2,  34.6904,2,    161.8,2,   161.4,2,  146.31,2,   35.28,2,       0,2,    2.45,2,   0.003,2,   0.004,2,-999.000,5,        0,2,  2317.7,2, 2414.06,2,   7.5827,2,       25,-999.000,9,-999.0000,9, -999.00,9, -999.00,9,  -999.0,9,  -999.0,-999.000,9,-999.000,     -999.0,9, -999.00,9, -999.00,9, -999.00,9,     -999.0,9,  -999.0,9, 20130513,      621,       30, -162.879,     34.854,2,     -999.0,9,     -999.0,9,     1.6185,2,     -999.0,9,     -999.0,9,-999.0000, -999.00,-999.000