BOTTLE,20220817CCHSIOAMB
EXPOCODE,SECT_ID,STNNBR,CASTNO,SAMPNO,BTLNBR,BTLNBR_FLAG_W,DATE,TIME,LATITUDE,LONGITUDE,DEPTH,CTDPRS,CTDTMP,CTDSAL,CTDSAL_FLAG_W,SALNTY,SALNTY_FLAG_W,CTDOXY,CTDOXY_FLAG_W,OXYGEN,OXYGEN_FLAG_W,SILCAT,SILCAT_FLAG_W,NITRAT,NITRAT_FLAG_W,NITRIT,NITRIT_FLAG_W,PHSPHT,PHSPHT_FLAG_W,CFC-11,CFC-11_FLAG_W,CFC-12,CFC-12_FLAG_W,CFC113,CFC113_FLAG_W,SF6,SF6_FLAG_W,TCARBN,TCARBN_FLAG_W,ALKALI,ALKALI_FLAG_W,PH_TOT,PH_TOT_FLAG_W,PH_TMP,TRITUM,TRITUM_FLAG_W,HELIUM,HELIUM_FLAG_W,DELHE3,DELHE3_FLAG_W,DELC13,DELC13_FLAG_W,DELC14,DELC14_FLAG_W,C14ERR,NEON,NEON_FLAG_W,NEONER,I-129,I-129_FLAG_W,SR-90,SR-90_FLAG_W,DOC,DOC_FLAG_W,TDN,TDN_FLAG_W,CALCIUM,CALCIUM_FLAG_W,D15N_NO3,D15N_NO3_FLAG_W,BTL_DATE,BTL_TIME,BTL_LAT,BTL_LON,SALTREF,SALTREF_FLAG_W,CS-137,CS-137_FLAG_W,CS-134,CS-134_FLAG_W,REFTMP,REFTMP_FLAG_W,LAB_DEN,LAB_DEN_FLAG_W,D18O_NO3,D18O_NO3_FLAG_W,HELIER,DELHER,TRITER
,,,,,,,,,,,METERS,DBAR,ITS-90,PSS-78,,PSS-78,,UMOL/KG,,UMOL/KG,,UMOL/KG,,UMOL/KG,,UMOL/KG,,UMOL/KG,,PMOL/KG,,PMOL/KG,,PMOL/KG,,FMOL/KG,,UMOL/KG,,UMOL/KG,,,,DEG C,TU,,NMOL/KG,,PERCNT,,/MILLE,,/MILLE,,/MILLE,NMOL/KG,,NMOL/KG,BQ/M^3,,DM/.1MG,,UMOL/KG,,UMOL/KG,,MMOL/KG,,/MILLE,,,,,,G/KG,,BQ/M^3,,BQ/M^3,,ITS-90,,,,/MILLE,,NMOL/KG,PERCNT,TU
318M20130321,       P02E,     130,          1,          5,         37,2,20130525,       1741,    29.9997,  -131.8281,       4461,  3753.2,   1.4797,   34.682,2,  34.6812,2,    138.4,2,   138.7,2,  165.15,2,   37.16,2,       0,2,    2.59,2,-999.000,9,-999.000,9,-999.000,9,-999.0000,9,  -999.0,9, -999.00,9,-999.0000,9,  -999.00,-999.000,9,-999.0000,9, -999.00,9, -999.00,9,  -999.0,9,  -999.0,-999.000,9,-999.000,     -999.0,9, -999.00,9, -999.00,9, -999.00,9,     -999.0,9,  -999.0,9, 20130525,     1759,  30.0002,-131.8286,    34.8447,2,     -999.0,9,     -999.0,9,     1.4803,2,     -999.0,9,     -999.0,9,-999.0000, -999.00,-999.000
318M20130321,       P02E,     130,          1,          4,          4,2,20130525,       1741,    29.9997,  -131.8281,       4461,  4062.6,   1.4934,  34.6845,2,   34.684,2,    142.3,2,   143.2,2,   163.1,2,   36.91,2,       0,2,    2.57,2,   0.007,2,   0.007,2,-999.000,1,        0,2,    2337,2, 2427.56,6,   7.5637,6,       25,-999.000,9,-999.0000,9, -999.00,9, -999.00,9,  -999.0,9,  -999.0,-999.000,9,-999.000,     -999.0,9, -999.00,9, -999.00,9, -999.00,9,     -999.0,9,  -999.0,9, 20130525,     1753,  30.0001,-131.8279,    34.8475,2,     -999.0,9,     -999.0,9,     1.4934,2,     -999.0,9,     -999.0,9,-999.0000, -999.00,-999.000
318M20130321,       P02E,     130,          1,          3,          3,2,20130525,       1741,    29.9997,  -131.8281,       4461,  4368.1,   1.5241,  34.6851,2,  34.6849,2,    143.7,2,   143.2,2,  162.32,2,   36.86,2,       0,2,    2.55,2,   0.008,2,   0.008,2,-999.000,1,        0,2,  2338.9,6, 2427.96,2,   7.5659,2,       25,-999.000,9,-999.0000,9, -999.00,9, -999.00,9,  -999.0,9,  -999.0,-999.000,9,-999.000,     -999.0,9, -999.00,9, -999.00,9, -999.00,9,     -999.0,9,  -999.0,9, 20130525,     1746,  29.9998, -131.828,    34.8485,2,     -999.0,9,     -999.0,9,     1.5239,2,     -999.0,9,     -999.0,9,-999.0000, -999.00,-999.000
318M20130321,       P02E,     130,          1,          2,          2,2,20130525,       1741,    29.9997,  -131.8281,       4461,  4568.4,   1.5473,  34.6852,2,  34.6853,2,    143.6,2,   143.9,2,  162.61,2,   36.85,2,       0,2,    2.56,2,   0.007,2,   0.007,2,-999.000,1,        0,2,  2336.2,2, 2427.96,2,    7.565,2,       25,-999.000,9,-999.0000,9, -999.00,9, -999.00,9,  -999.0,9,  -999.0,-999.000,9,-999.000,     -999.0,9, -999.00,9, -999.00,9, -999.00,9,     -999.0,9,  -999.0,9, 20130525,     1741,  29.9997,-131.8281,    34.8489,2,     -999.0,9,     -999.0,9,     1.5474,2,     -999.0,9,     -999.0,9,-999.0000, -999.00,-999.000