BOTTLE,20220817CCHSIOAMB
EXPOCODE,SECT_ID,STNNBR,CASTNO,SAMPNO,BTLNBR,BTLNBR_FLAG_W,DATE,TIME,LATITUDE,LONGITUDE,DEPTH,CTDPRS,CTDTMP,CTDSAL,CTDSAL_FLAG_W,SALNTY,SALNTY_FLAG_W,CTDOXY,CTDOXY_FLAG_W,OXYGEN,OXYGEN_FLAG_W,SILCAT,SILCAT_FLAG_W,NITRAT,NITRAT_FLAG_W,NITRIT,NITRIT_FLAG_W,PHSPHT,PHSPHT_FLAG_W,CFC-11,CFC-11_FLAG_W,CFC-12,CFC-12_FLAG_W,CFC113,CFC113_FLAG_W,SF6,SF6_FLAG_W,TCARBN,TCARBN_FLAG_W,ALKALI,ALKALI_FLAG_W,PH_TOT,PH_TOT_FLAG_W,PH_TMP,TRITUM,TRITUM_FLAG_W,HELIUM,HELIUM_FLAG_W,DELHE3,DELHE3_FLAG_W,DELC13,DELC13_FLAG_W,DELC14,DELC14_FLAG_W,C14ERR,NEON,NEON_FLAG_W,NEONER,I-129,I-129_FLAG_W,SR-90,SR-90_FLAG_W,DOC,DOC_FLAG_W,TDN,TDN_FLAG_W,CALCIUM,CALCIUM_FLAG_W,D15N_NO3,D15N_NO3_FLAG_W,BTL_DATE,BTL_TIME,BTL_LAT,BTL_LON,SALTREF,SALTREF_FLAG_W,CS-137,CS-137_FLAG_W,CS-134,CS-134_FLAG_W,REFTMP,REFTMP_FLAG_W,LAB_DEN,LAB_DEN_FLAG_W,D18O_NO3,D18O_NO3_FLAG_W,HELIER,DELHER,TRITER
,,,,,,,,,,,METERS,DBAR,ITS-90,PSS-78,,PSS-78,,UMOL/KG,,UMOL/KG,,UMOL/KG,,UMOL/KG,,UMOL/KG,,UMOL/KG,,PMOL/KG,,PMOL/KG,,PMOL/KG,,FMOL/KG,,UMOL/KG,,UMOL/KG,,,,DEG C,TU,,NMOL/KG,,PERCNT,,/MILLE,,/MILLE,,/MILLE,NMOL/KG,,NMOL/KG,BQ/M^3,,DM/.1MG,,UMOL/KG,,UMOL/KG,,MMOL/KG,,/MILLE,,,,,,G/KG,,BQ/M^3,,BQ/M^3,,ITS-90,,,,/MILLE,,NMOL/KG,PERCNT,TU
318M20130321,       P02E,     106,          1,          6,          6,2,20130518,       0729,    29.9997,  -149.6903,       5733,  4200.4,   1.4905,  34.6852,2,  34.6853,2,    147.1,2,     147,2,  156.17,2,    36.4,2,       0,2,    2.55,2,   0.005,2,   0.006,2,-999.000,1,        0,2,  -999.0,9, -999.00,9,-999.0000,9,  -999.00,-999.000,9,-999.0000,9, -999.00,9, -999.00,9,  -999.0,9,  -999.0,-999.000,9,-999.000,     -999.0,9, -999.00,9, -999.00,9, -999.00,9,     -999.0,9,  -999.0,9, 20130518,      802,  29.9998,-149.6906,    34.8489,2,     -999.0,9,     -999.0,9,     1.4905,2,     -999.0,9,     -999.0,9,-999.0000, -999.00,-999.000
318M20130321,       P02E,     106,          1,          5,         37,2,20130518,       0729,    29.9997,  -149.6903,       5733,  4609.2,   1.5033,  34.6884,2,  34.6869,2,    153.2,2,   152.8,2,  151.97,2,   35.98,2,       0,2,    2.52,2,   0.004,2,   0.004,2,-999.000,1,        0,2,    2326,2, 2419.26,6,   7.5738,2,       25,-999.000,9,-999.0000,9, -999.00,9, -999.00,9,  -999.0,9,  -999.0,-999.000,9,-999.000,     -999.0,9, -999.00,9, -999.00,9, -999.00,9,     -999.0,9,  -999.0,9, 20130518,      754,       30,-149.6903,    34.8505,2,     -999.0,9,     -999.0,9,     1.5036,2,     -999.0,9,     -999.0,9,-999.0000, -999.00,-999.000
318M20130321,       P02E,     106,          1,          4,          4,2,20130518,       0729,    29.9997,  -149.6903,       5733,  5020.8,   1.5266,  34.6906,2,  34.6895,2,    156.9,2,     157,2,  148.85,2,   35.64,2,       0,2,    2.49,2,   0.005,2,   0.004,2,-999.000,1,        0,2,  -999.0,9, -999.00,9,-999.0000,9,  -999.00,-999.000,9,-999.0000,9, -999.00,9, -999.00,9,  -999.0,9,  -999.0,-999.000,9,-999.000,     -999.0,9, -999.00,9, -999.00,9, -999.00,9,     -999.0,9,  -999.0,9, 20130518,      747,  29.9998,-149.6904,     34.853,2,     -999.0,9,     -999.0,9,     1.5265,2,     -999.0,9,     -999.0,9,-999.0000, -999.00,-999.000
318M20130321,       P02E,     106,          1,          3,          3,2,20130518,       0729,    29.9997,  -149.6903,       5733,  5501.8,   1.5657,  34.6923,2,  34.6912,2,    160.8,2,   161.1,2,  145.43,2,   35.36,2,       0,2,    2.48,2,   0.006,2,   0.005,2,-999.000,1,        0,2,  2316.1,2, 2413.76,2,   7.5839,6,       25,-999.000,9,-999.0000,9, -999.00,9, -999.00,9,  -999.0,9,  -999.0,-999.000,9,-999.000,     -999.0,9, -999.00,9, -999.00,9, -999.00,9,     -999.0,9,  -999.0,9, 20130518,      738,  29.9998,-149.6904,    34.8548,2,     -999.0,9,     -999.0,9,     1.5661,2,     -999.0,9,     -999.0,9,-999.0000, -999.00,-999.000
318M20130321,       P02E,     106,          1,          2,          2,2,20130518,       0729,    29.9997,  -149.6903,       5733,  5952.4,    1.623,  34.6922,2,  34.6922,2,    162.6,2,     162,2,  144.75,2,   35.26,2,       0,2,    2.47,2,   0.006,2,   0.007,2,-999.000,1,        0,2,  2317.1,6, 2414.36,2,   7.5859,2,       25,-999.000,9,-999.0000,9, -999.00,9, -999.00,9,  -999.0,9,  -999.0,-999.000,9,-999.000,     -999.0,9, -999.00,9, -999.00,9, -999.00,9,     -999.0,9,  -999.0,9, 20130518,      729,  29.9997,-149.6904,    34.8558,2,     -999.0,9,     -999.0,9,     1.6228,2,     -999.0,9,     -999.0,9,-999.0000, -999.00,-999.000