BOTTLE,20220817CCHSIOAMB
EXPOCODE,SECT_ID,STNNBR,CASTNO,SAMPNO,BTLNBR,BTLNBR_FLAG_W,DATE,TIME,LATITUDE,LONGITUDE,DEPTH,CTDPRS,CTDTMP,CTDSAL,CTDSAL_FLAG_W,SALNTY,SALNTY_FLAG_W,CTDOXY,CTDOXY_FLAG_W,OXYGEN,OXYGEN_FLAG_W,SILCAT,SILCAT_FLAG_W,NITRAT,NITRAT_FLAG_W,NITRIT,NITRIT_FLAG_W,PHSPHT,PHSPHT_FLAG_W,CFC-11,CFC-11_FLAG_W,CFC-12,CFC-12_FLAG_W,CFC113,CFC113_FLAG_W,SF6,SF6_FLAG_W,TCARBN,TCARBN_FLAG_W,ALKALI,ALKALI_FLAG_W,PH_TOT,PH_TOT_FLAG_W,PH_TMP,TRITUM,TRITUM_FLAG_W,HELIUM,HELIUM_FLAG_W,DELHE3,DELHE3_FLAG_W,DELC13,DELC13_FLAG_W,DELC14,DELC14_FLAG_W,C14ERR,NEON,NEON_FLAG_W,NEONER,I-129,I-129_FLAG_W,SR-90,SR-90_FLAG_W,DOC,DOC_FLAG_W,TDN,TDN_FLAG_W,CALCIUM,CALCIUM_FLAG_W,D15N_NO3,D15N_NO3_FLAG_W,BTL_DATE,BTL_TIME,BTL_LAT,BTL_LON,SALTREF,SALTREF_FLAG_W,CS-137,CS-137_FLAG_W,CS-134,CS-134_FLAG_W,REFTMP,REFTMP_FLAG_W,LAB_DEN,LAB_DEN_FLAG_W,D18O_NO3,D18O_NO3_FLAG_W,HELIER,DELHER,TRITER
,,,,,,,,,,,METERS,DBAR,ITS-90,PSS-78,,PSS-78,,UMOL/KG,,UMOL/KG,,UMOL/KG,,UMOL/KG,,UMOL/KG,,UMOL/KG,,PMOL/KG,,PMOL/KG,,PMOL/KG,,FMOL/KG,,UMOL/KG,,UMOL/KG,,,,DEG C,TU,,NMOL/KG,,PERCNT,,/MILLE,,/MILLE,,/MILLE,NMOL/KG,,NMOL/KG,BQ/M^3,,DM/.1MG,,UMOL/KG,,UMOL/KG,,MMOL/KG,,/MILLE,,,,,,G/KG,,BQ/M^3,,BQ/M^3,,ITS-90,,,,/MILLE,,NMOL/KG,PERCNT,TU
318M20130321,       P02W,      41,          1,         36,         36,2,20130417,       1335,    29.9999,     154.72,       5468,     3.4,   19.959,  34.9289,2,  34.9288,2,    227.3,2,   227.3,2,    1.76,2,    0.02,2,    0.01,2,    0.03,2,   2.392,2,   1.459,2,   0.201,2,      1.4,2,  2003.8,6, 2291.71,2,   8.0231,2,       25,-999.000,9,-999.0000,9, -999.00,9, -999.00,9,  -999.0,9,  -999.0,-999.000,9,-999.000,     -999.0,9, -999.00,1,   60.03,2,    4.09,2,     -999.0,9,  -999.0,9, 20130417,     1601,  29.9995, 154.7213,    35.0935,2,     -999.0,1,     -999.0,1,    19.9585,2,     -999.0,9,     -999.0,9,-999.0000, -999.00,-999.000
318M20130321,       P02W,      41,          1,         35,         35,2,20130417,       1335,    29.9999,     154.72,       5468,    25.8,  19.9064,  34.9289,2,   34.929,2,      228,2,   227.2,2,    1.76,2,       0,2,       0,2,    0.02,2,   2.386,2,   1.467,2,   0.190,2,     1.51,2,  2003.9,2, 2292.81,2,   8.0289,2,       25,-999.000,9,-999.0000,9, -999.00,9, -999.00,9,  -999.0,9,  -999.0,-999.000,9,-999.000,     -999.0,9, -999.00,1,   61.71,2,    4.35,2,     -999.0,9,  -999.0,9, 20130417,     1559,  29.9995, 154.7212,    35.0937,2,     -999.0,1,     -999.0,1,    19.9066,2,     -999.0,9,     -999.0,9,-999.0000, -999.00,-999.000
318M20130321,       P02W,      41,          1,         34,         34,2,20130417,       1335,    29.9999,     154.72,       5468,    50.5,  19.4793,  34.8869,2,  34.8855,2,    230.3,2,   229.5,2,    1.76,2,       0,2,       0,2,    0.03,2,   2.450,2,   1.498,2,   0.196,2,     1.55,2,  2005.2,2, 2289.31,2,    8.022,2,       25,-999.000,9,-999.0000,9, -999.00,9, -999.00,9,  -999.0,9,  -999.0,-999.000,9,-999.000,     -999.0,9, -999.00,1,   62.02,2,    5.08,2,     -999.0,9,  -999.0,9, 20130417,     1557,  29.9995, 154.7211,      35.05,2,     -999.0,1,     -999.0,1,    19.4781,2,     -999.0,9,     -999.0,9,-999.0000, -999.00,-999.000
318M20130321,       P02W,      41,          1,         33,         33,2,20130417,       1335,    29.9999,     154.72,       5468,    74.9,  19.1217,  34.8555,2,   34.855,2,    229.4,2,   227.3,2,    2.05,2,    0.12,2,    0.06,2,    0.05,2,   2.467,2,   1.434,2,   0.197,2,      1.4,2,  2007.8,2, 2286.61,2,   8.0127,6,       25,-999.000,9,-999.0000,9, -999.00,9, -999.00,9,  -999.0,9,  -999.0,-999.000,9,-999.000,     -999.0,1, -999.00,1,   57.49,2,    4.51,2,     -999.0,9,  -999.0,9, 20130417,     1556,  29.9996, 154.7211,    35.0194,2,     -999.0,1,     -999.0,1,    19.1218,2,     -999.0,9,     -999.0,9,-999.0000, -999.00,-999.000
318M20130321,       P02W,      41,          1,         32,         32,2,20130417,       1335,    29.9999,     154.72,       5468,   100.2,  18.9464,  34.8415,2,  34.8413,2,    229.5,2,   229.1,2,    2.05,2,       0,2,    0.04,2,    0.05,2,   2.522,2,   1.513,2,   0.194,2,     1.59,2,  2008.7,2, 2286.41,2,   8.0119,2,       25,-999.000,9,-999.0000,9, -999.00,9, -999.00,9,  -999.0,9,  -999.0,-999.000,9,-999.000,     -999.0,9, -999.00,1,   61.34,2,    4.52,2,     -999.0,9,  -999.0,9, 20130417,     1554,  29.9997,  154.721,    35.0056,2,     -999.0,1,     -999.0,1,    18.9459,2,     -999.0,9,     -999.0,9,-999.0000, -999.00,-999.000
318M20130321,       P02W,      41,          1,         31,         31,2,20130417,       1335,    29.9999,     154.72,       5468,   150.8,  17.6558,  34.7383,2,  34.7394,2,    226.6,2,   225.6,2,    2.73,2,    2.06,2,    0.04,2,    0.17,2,   2.660,2,   1.613,2,   0.180,2,     1.55,2,  2018.7,2, 2279.01,2,   7.9829,2,       25,-999.000,9,-999.0000,9, -999.00,9, -999.00,9,  -999.0,9,  -999.0,-999.000,9,-999.000,     -999.0,9, -999.00,1,   56.13,2, -999.00,5,     -999.0,9,  -999.0,9, 20130417,     1551,  29.9998,  154.721,    34.9032,2,     -999.0,1,     -999.0,1,     17.656,2,     -999.0,9,     -999.0,9,-999.0000, -999.00,-999.000
318M20130321,       P02W,      41,          1,         30,         30,2,20130417,       1335,    29.9999,     154.72,       5468,   200.8,   17.235,  34.7139,2,  34.7125,2,    219.9,2,   222.4,2,    3.32,2,    3.04,2,    0.02,2,    0.22,2,   2.664,2,   1.503,2,   0.148,2,     1.43,2,  2022.5,6, 2279.21,2,   7.9701,2,       25,-999.000,9,-999.0000,9, -999.00,9, -999.00,9,  -999.0,9,  -999.0,-999.000,9,-999.000,     -999.0,9, -999.00,1,   51.21,2, -999.00,5,     -999.0,9,  -999.0,9, 20130417,     1548,  29.9997, 154.7211,    34.8762,2,     -999.0,1,     -999.0,1,    17.2363,2,     -999.0,9,     -999.0,9,-999.0000, -999.00,-999.000
318M20130321,       P02W,      41,          1,         29,         29,2,20130417,       1335,    29.9999,     154.72,       5468,   251.1,  16.8423,  34.6929,2,  34.6921,2,    215.1,2,   212.8,2,    4.39,2,    4.56,2,    0.02,2,    0.32,2,   2.702,2,   1.512,2,   0.074,2,     1.38,2,  2035.3,2, 2277.61,2,   7.9476,2,       25,-999.000,9,-999.0000,9, -999.00,9, -999.00,9,  -999.0,9,  -999.0,-999.000,9,-999.000,     -999.0,9, -999.00,1,   50.59,2, -999.00,5,     -999.0,9,  -999.0,9, 20130417,     1545,  29.9997, 154.7211,    34.8557,2,     -999.0,1,     -999.0,1,    16.8425,2,     -999.0,9,     -999.0,9,-999.0000, -999.00,-999.000
318M20130321,       P02W,      41,          1,         28,         28,2,20130417,       1335,    29.9999,     154.72,       5468,   301.5,  16.2333,  34.6432,2,  34.6427,2,    204.7,2,   202.7,2,    6.15,2,    6.41,2,    0.01,2,    0.45,2,   2.793,2,   1.621,2,   0.036,2,      1.3,2,  2048.7,2, 2276.01,2,   7.9167,2,       25,-999.000,9,-999.0000,9, -999.00,9, -999.00,9,  -999.0,9,  -999.0,-999.000,9,-999.000,     -999.0,9, -999.00,1,   48.57,2, -999.00,5,     -999.0,9,  -999.0,9, 20130417,     1543,  29.9996,  154.721,    34.8061,2,     -999.0,1,     -999.0,1,    16.2323,2,     -999.0,9,     -999.0,9,-999.0000, -999.00,-999.000
318M20130321,       P02W,      41,          1,         27,         27,2,20130417,       1335,    29.9999,     154.72,       5468,     342,  15.5363,  34.5901,2,  34.5885,2,    196.2,2,   198.8,2,    8.49,2,    7.93,2,    0.01,2,    0.56,2,   2.828,2,   1.652,2,   0.069,2,     1.24,2,  2058.5,2, 2274.81,2,    7.894,2,       25,-999.000,9,-999.0000,9, -999.00,9, -999.00,9,  -999.0,9,  -999.0,-999.000,9,-999.000,     -999.0,9, -999.00,1,   49.32,2, -999.00,9,     -999.0,9,  -999.0,9, 20130417,     1541,  29.9996, 154.7211,    34.7516,2,     -999.0,1,     -999.0,1,    15.5351,2,     -999.0,9,     -999.0,9,-999.0000, -999.00,-999.000
318M20130321,       P02W,      41,          1,         26,         26,2,20130417,       1335,    29.9999,     154.72,       5468,   402.6,  14.0584,  34.4925,2,  34.4925,2,    187.3,2,   187.8,2,   13.57,2,   11.32,2,    0.01,2,     0.8,2,   2.930,2,   1.682,2,   0.048,2,     1.11,2,  2082.7,2, 2274.01,2,   7.8375,2,       25,-999.000,9,-999.0000,9, -999.00,9, -999.00,9,  -999.0,9,  -999.0,-999.000,9,-999.000,     -999.0,9, -999.00,1,   46.76,2, -999.00,9,     -999.0,9,  -999.0,9, 20130417,     1538,  29.9996,  154.721,    34.6551,2,     -999.0,1,     -999.0,1,    14.0528,2,     -999.0,9,     -999.0,9,-999.0000, -999.00,-999.000
318M20130321,       P02W,      41,          1,         25,         25,2,20130417,       1335,    29.9999,     154.72,       5468,   502.7,  11.1866,  34.2947,2,  34.2947,2,    189.6,2,   188.8,2,   23.04,2,   15.88,2,       0,2,    1.14,2,   3.133,2,   1.710,2,   0.105,2,     1.11,2,    2117,2, 2274.61,2,   7.7615,2,       25,-999.000,9,-999.0000,9, -999.00,9, -999.00,9,  -999.0,9,  -999.0,-999.000,9,-999.000,     -999.0,9, -999.00,1,   47.21,2, -999.00,9,     -999.0,9,  -999.0,9, 20130417,     1535,  29.9995,  154.721,    34.4564,2,     -999.0,1,     -999.0,1,    11.1858,2,     -999.0,9,     -999.0,9,-999.0000, -999.00,-999.000
318M20130321,       P02W,      41,          1,         24,         24,2,20130417,       1335,    29.9999,     154.72,       5468,   603.3,   8.4778,  34.0932,2,  34.0966,2,    177.5,2,   177.8,2,   35.84,2,   21.49,2,       0,2,    1.55,2,-999.000,9,-999.000,9,-999.000,9,-999.0000,9,  2157.7,2, 2276.81,2,   7.6656,2,       25,-999.000,9,-999.0000,9, -999.00,9, -999.00,9,  -999.0,9,  -999.0,-999.000,9,-999.000,     -999.0,9, -999.00,1,   46.94,2, -999.00,9,     -999.0,9,  -999.0,9, 20130417,     1531,  29.9995,  154.721,    34.2574,2,     -999.0,1,     -999.0,1,     8.4775,2,     -999.0,9,     -999.0,9,-999.0000, -999.00,-999.000
318M20130321,       P02W,      41,          1,         23,         23,2,20130417,       1335,    29.9999,     154.72,       5468,   704.9,   5.8647,  34.0085,2,  34.0063,2,    133.6,2,   133.7,2,   62.01,2,   30.37,2,       0,2,     2.2,2,   2.691,2,   1.416,2,   0.122,2,     0.73,2,  2224.4,2, 2290.61,2,   7.5122,6,       25,-999.000,9,   1.8378,2,   10.63,2, -999.00,9,  -999.0,9,  -999.0,   7.969,2,   0.037,     -999.0,9, -999.00,9,    43.2,2, -999.00,9,     -999.0,9,  -999.0,9, 20130417,     1528,  29.9996, 154.7208,    34.1667,2,     -999.0,9,     -999.0,9,     5.8634,2,     -999.0,9,     -999.0,9,   0.0077,    0.15,-999.000
318M20130321,       P02W,      41,          1,         22,         22,2,20130417,       1335,    29.9999,     154.72,       5468,   806.4,   4.9194,  34.0686,2,  34.0677,2,     94.1,2,    92.4,2,      83,2,   35.78,2,       0,2,    2.58,2,-999.000,9,-999.000,9,-999.000,9,-999.0000,9,  2273.1,2, 2307.12,6,   7.4194,2,       25,-999.000,9,-999.0000,9, -999.00,9, -999.00,9,  -999.0,9,  -999.0,-999.000,9,-999.000,     -999.0,9, -999.00,9,   42.86,2, -999.00,9,     -999.0,9,  -999.0,9, 20130417,     1525,  29.9996, 154.7207,    34.2283,2,     -999.0,9,     -999.0,9,     4.9174,2,     -999.0,9,     -999.0,9,-999.0000, -999.00,-999.000
318M20130321,       P02W,      41,          1,         21,         21,2,20130417,       1335,    29.9999,     154.72,       5468,   906.2,   4.3442,  34.1704,2,  34.1725,2,       63,2,    63.9,2,  101.35,2,   39.03,2,       0,2,     2.8,2,   1.175,2,   0.602,2,   0.055,2,     0.27,2,    2308,2, 2328.23,2,   7.3699,2,       25,-999.000,9,-999.0000,9, -999.00,9, -999.00,9,  -999.0,9,  -999.0,-999.000,9,-999.000,     -999.0,9, -999.00,9,   40.66,2, -999.00,9,     -999.0,9,  -999.0,9, 20130417,     1521,  29.9996, 154.7207,    34.3337,2,     -999.0,9,     -999.0,9,     4.3435,2,     -999.0,9,     -999.0,9,-999.0000, -999.00,-999.000
318M20130321,       P02W,      41,          1,         20,         20,2,20130417,       1335,    29.9999,     154.72,       5468,    1008,   3.8589,  34.2582,2,   34.259,2,     46.4,2,    46.8,2,  116.09,2,   40.94,2,       0,2,    2.94,2,-999.000,9,-999.000,9,-999.000,9,-999.0000,9,  2333.5,2, 2346.13,2,   7.3455,2,       25,-999.000,9,-999.0000,9, -999.00,9, -999.00,9,  -999.0,9,  -999.0,-999.000,9,-999.000,     -999.0,9, -999.00,9,   38.56,2, -999.00,9,     -999.0,9,  -999.0,9, 20130417,     1518,  29.9995, 154.7207,    34.4206,2,     -999.0,9,     -999.0,9,     3.8584,2,     -999.0,9,     -999.0,9,-999.0000, -999.00,-999.000
318M20130321,       P02W,      41,          1,         19,         19,2,20130417,       1335,    29.9999,     154.72,       5468,  1107.7,   3.4807,   34.324,2,  34.3237,2,     39.7,2,    40.5,2,  161.97,4,   42.21,2,       0,2,    2.97,2,   0.401,2,   0.196,2,   0.020,2,     0.07,2,  2348.8,2, 2360.64,2,   7.3376,2,       25,-999.000,9,-999.0000,9, -999.00,9, -999.00,9,  -999.0,9,  -999.0,-999.000,9,-999.000,     -999.0,9, -999.00,9,   40.23,2, -999.00,9,     -999.0,9,  -999.0,9, 20130417,     1515,  29.9996, 154.7206,    34.4856,2,     -999.0,9,     -999.0,9,     3.4818,2,     -999.0,9,     -999.0,9,-999.0000, -999.00,-999.000
318M20130321,       P02W,      41,          1,         18,         18,2,20130417,       1335,    29.9999,     154.72,       5468,  1209.2,   3.2065,  34.3699,2,  34.3683,2,     36.2,2,    36.7,2,  135.12,2,   42.44,2,       0,2,    3.03,2,-999.000,9,-999.000,9,-999.000,9,-999.0000,9,  2358.8,2, 2369.14,2,   7.3348,2,       25,-999.000,9,-999.0000,9, -999.00,9, -999.00,9,  -999.0,9,  -999.0,-999.000,9,-999.000,     -999.0,9, -999.00,9,   39.87,2, -999.00,9,     -999.0,9,  -999.0,9, 20130417,     1512,  29.9997, 154.7204,    34.5304,2,     -999.0,9,     -999.0,9,     3.2111,2,     -999.0,9,     -999.0,9,-999.0000, -999.00,-999.000
318M20130321,       P02W,      41,          1,         17,         17,2,20130417,       1335,    29.9999,     154.72,       5468,  1411.9,   2.7368,   34.452,2,  34.4519,2,     35.5,2,    35.4,2,  149.17,2,   43.08,2,       0,2,    3.06,2,   0.095,2,   0.053,2,   0.012,2,     0.07,2,  2376.2,6, 2387.85,2,   7.3379,2,       25,-999.000,9,-999.0000,9, -999.00,9, -999.00,9,  -999.0,9,  -999.0,-999.000,9,-999.000,     -999.0,9, -999.00,9,   37.25,2, -999.00,9,     -999.0,9,  -999.0,9, 20130417,     1507,  29.9997, 154.7206,    34.6144,2,     -999.0,9,     -999.0,9,     2.7371,2,     -999.0,9,     -999.0,9,-999.0000, -999.00,-999.000
318M20130321,       P02W,      41,          1,         15,         15,2,20130417,       1335,    29.9999,     154.72,       5468,  1615.4,   2.4017,  34.5152,2,  34.5144,2,     43.7,2,    43.4,2,  157.85,2,   42.83,2,       0,2,    3.03,2,   0.046,2,   0.030,2,   0.002,2,     0.04,2,  -999.0,9, -999.00,9,-999.0000,9,  -999.00,-999.000,9,-999.0000,9, -999.00,9, -999.00,9,  -999.0,9,  -999.0,-999.000,9,-999.000,     -999.0,9, -999.00,9, -999.00,9, -999.00,9,     -999.0,9,  -999.0,9, 20130417,     1502,  29.9998, 154.7204,    34.6771,2,     -999.0,9,     -999.0,9,     2.4017,2,     -999.0,9,     -999.0,9,-999.0000, -999.00,-999.000
318M20130321,       P02W,      41,          1,         16,         16,2,20130417,       1335,    29.9999,     154.72,       5468,  1615.5,    2.402,  34.5151,2,  34.5145,2,     43.7,2,    43.7,2,  157.85,2,   42.85,2,       0,2,    3.03,2,-999.000,9,-999.000,9,-999.000,9,-999.0000,9,  2381.7,2, 2398.75,2,   7.3579,2,       25,-999.000,9,-999.0000,9, -999.00,9, -999.00,9,  -999.0,9,  -999.0,-999.000,9,-999.000,     -999.0,9, -999.00,9,   38.88,2, -999.00,9,     -999.0,9,  -999.0,9, 20130417,     1502,  29.9997, 154.7204,    34.6773,2,     -999.0,9,     -999.0,9,     2.4018,2,     -999.0,9,     -999.0,9,-999.0000, -999.00,-999.000
318M20130321,       P02W,      41,          1,         14,         14,2,20130417,       1335,    29.9999,     154.72,       5468,  1818.9,   2.1818,  34.5555,2,   34.555,2,     56.6,2,    55.4,2,  161.94,2,   42.18,2,       0,2,    2.97,2,-999.000,9,-999.000,9,-999.000,9,-999.0000,9,  2378.8,2, 2405.55,2,   7.3849,2,       25,-999.000,9,-999.0000,9, -999.00,9, -999.00,9,  -999.0,9,  -999.0,-999.000,9,-999.000,     -999.0,9, -999.00,9,   37.59,2, -999.00,9,     -999.0,9,  -999.0,9, 20130417,     1457,  29.9998, 154.7201,     34.718,2,     -999.0,9,     -999.0,9,     2.1812,2,     -999.0,9,     -999.0,9,-999.0000, -999.00,-999.000
318M20130321,       P02W,      41,          1,         13,         13,2,20130417,       1335,    29.9999,     154.72,       5468,  2021.3,   1.9755,  34.5914,2,  34.5914,2,       71,2,    71.8,2,   163.8,2,   41.14,2,       0,2,    2.89,2,   0.015,2,   0.014,2,   0.002,2,     0.05,2,  2373.4,2, 2411.26,2,   7.4192,2,       25,-999.000,9,-999.0000,9, -999.00,9, -999.00,9,  -999.0,9,  -999.0,-999.000,9,-999.000,     -999.0,9, -999.00,9,   35.07,2, -999.00,9,     -999.0,9,  -999.0,9, 20130417,     1452,  29.9997, 154.7203,    34.7545,2,     -999.0,9,     -999.0,9,     1.9745,2,     -999.0,9,     -999.0,9,-999.0000, -999.00,-999.000
318M20130321,       P02W,      41,          1,         12,         12,2,20130417,       1335,    29.9999,     154.72,       5468,  2274.8,   1.8216,  34.6195,2,  34.6197,2,       92,2,    90.6,2,  162.33,2,   39.95,2,       0,2,    2.79,2,-999.000,9,-999.000,9,-999.000,9,-999.0000,9,  2361.6,2, 2414.26,2,   7.4567,2,       25,-999.000,9,-999.0000,9, -999.00,9, -999.00,9,  -999.0,9,  -999.0,-999.000,9,-999.000,     -999.0,9, -999.00,9, -999.00,9, -999.00,9,     -999.0,9,  -999.0,9, 20130417,     1446,  29.9996, 154.7204,    34.7829,2,     -999.0,9,     -999.0,9,     1.8214,2,     -999.0,9,     -999.0,9,-999.0000, -999.00,-999.000
318M20130321,       P02W,      41,          1,         11,         11,2,20130417,       1335,    29.9999,     154.72,       5468,  2525.4,    1.688,   34.641,2,  34.6411,2,    107.7,2,   107.7,2,  160.28,2,   38.85,2,       0,2,    2.71,2,   0.014,2,   0.011,2,   0.000,2,        0,2,  2351.7,2, 2415.46,2,   7.4901,6,       25,-999.000,9,-999.0000,9, -999.00,9, -999.00,9,  -999.0,9,  -999.0,-999.000,9,-999.000,     -999.0,9, -999.00,9,   37.39,2, -999.00,9,     -999.0,9,  -999.0,9, 20130417,     1440,  29.9998,   154.72,    34.8044,2,     -999.0,9,     -999.0,9,     1.6877,2,     -999.0,9,     -999.0,9,-999.0000, -999.00,-999.000
318M20130321,       P02W,      41,          1,         10,         10,2,20130417,       1335,    29.9999,     154.72,       5468,  2781.5,   1.5866,  34.6566,2,  34.6562,2,    120.7,2,     122,2,  158.13,2,   37.98,2,       0,2,    2.65,2,-999.000,9,-999.000,9,-999.000,9,-999.0000,9,  2348.4,2, 2416.56,2,   7.5179,2,       25,-999.000,9,   1.9492,2,   17.87,2, -999.00,9,  -999.0,9,  -999.0,   8.311,2,   0.038,     -999.0,9, -999.00,9, -999.00,9, -999.00,9,     -999.0,9,  -999.0,9, 20130417,     1435,  29.9999, 154.7196,    34.8196,2,     -999.0,9,     -999.0,9,     1.5866,2,     -999.0,9,     -999.0,9,   0.0082,    0.15,-999.000
318M20130321,       P02W,      41,          1,          9,          9,2,20130417,       1335,    29.9999,     154.72,       5468,  3038.6,   1.5389,  34.6654,2,  34.6654,2,    129.8,2,   130.3,2,  155.78,2,   37.39,2,       0,2,     2.6,2,   0.011,2,   0.009,2,   0.002,2,        0,2,  2337.8,2, 2417.46,2,   7.5335,2,       25,-999.000,9,-999.0000,9, -999.00,9, -999.00,9,  -999.0,9,  -999.0,-999.000,9,-999.000,     -999.0,9, -999.00,9,   37.82,2, -999.00,9,     -999.0,9,  -999.0,9, 20130417,     1429,  30.0001, 154.7192,    34.8289,2,     -999.0,9,     -999.0,9,     1.5391,2,     -999.0,9,     -999.0,9,-999.0000, -999.00,-999.000
318M20130321,       P02W,      41,          1,          8,          8,2,20130417,       1335,    29.9999,     154.72,       5468,  3343.7,   1.4989,  34.6732,2,  34.6778,3,      139,2,   138.7,2,  153.54,2,   36.81,2,       0,2,    2.56,2,-999.000,9,-999.000,9,-999.000,9,-999.0000,9,    2333,2, 2416.36,2,   7.5472,2,       25,-999.000,9,-999.0000,9, -999.00,9, -999.00,9,  -999.0,9,  -999.0,-999.000,9,-999.000,     -999.0,9, -999.00,9, -999.00,9, -999.00,9,     -999.0,9,  -999.0,9, 20130417,     1422,       30, 154.7196,    34.8414,3,     -999.0,9,     -999.0,9,      1.499,2,     -999.0,9,     -999.0,9,-999.0000, -999.00,-999.000