BOTTLE,20220817CCHSIOAMB
EXPOCODE,SECT_ID,STNNBR,CASTNO,SAMPNO,BTLNBR,BTLNBR_FLAG_W,DATE,TIME,LATITUDE,LONGITUDE,DEPTH,CTDPRS,CTDTMP,CTDSAL,CTDSAL_FLAG_W,SALNTY,SALNTY_FLAG_W,CTDOXY,CTDOXY_FLAG_W,OXYGEN,OXYGEN_FLAG_W,SILCAT,SILCAT_FLAG_W,NITRAT,NITRAT_FLAG_W,NITRIT,NITRIT_FLAG_W,PHSPHT,PHSPHT_FLAG_W,CFC-11,CFC-11_FLAG_W,CFC-12,CFC-12_FLAG_W,CFC113,CFC113_FLAG_W,SF6,SF6_FLAG_W,TCARBN,TCARBN_FLAG_W,ALKALI,ALKALI_FLAG_W,PH_TOT,PH_TOT_FLAG_W,PH_TMP,TRITUM,TRITUM_FLAG_W,HELIUM,HELIUM_FLAG_W,DELHE3,DELHE3_FLAG_W,DELC13,DELC13_FLAG_W,DELC14,DELC14_FLAG_W,C14ERR,NEON,NEON_FLAG_W,NEONER,I-129,I-129_FLAG_W,SR-90,SR-90_FLAG_W,DOC,DOC_FLAG_W,TDN,TDN_FLAG_W,CALCIUM,CALCIUM_FLAG_W,D15N_NO3,D15N_NO3_FLAG_W,BTL_DATE,BTL_TIME,BTL_LAT,BTL_LON,SALTREF,SALTREF_FLAG_W,CS-137,CS-137_FLAG_W,CS-134,CS-134_FLAG_W,REFTMP,REFTMP_FLAG_W,LAB_DEN,LAB_DEN_FLAG_W,D18O_NO3,D18O_NO3_FLAG_W,HELIER,DELHER,TRITER
,,,,,,,,,,,METERS,DBAR,ITS-90,PSS-78,,PSS-78,,UMOL/KG,,UMOL/KG,,UMOL/KG,,UMOL/KG,,UMOL/KG,,UMOL/KG,,PMOL/KG,,PMOL/KG,,PMOL/KG,,FMOL/KG,,UMOL/KG,,UMOL/KG,,,,DEG C,TU,,NMOL/KG,,PERCNT,,/MILLE,,/MILLE,,/MILLE,NMOL/KG,,NMOL/KG,BQ/M^3,,DM/.1MG,,UMOL/KG,,UMOL/KG,,MMOL/KG,,/MILLE,,,,,,G/KG,,BQ/M^3,,BQ/M^3,,ITS-90,,,,/MILLE,,NMOL/KG,PERCNT,TU
318M20130321,       P02W,      27,          1,          7,          7,2,20130412,       1138,    30.0003,   142.2545,       5849,  4203.6,    1.475,  34.6849,2,  34.6835,2,    151.8,2,   152.5,2,  150.12,2,    36.2,2,       0,2,    2.52,2,   0.001,2,   0.018,2,   0.001,2,        0,2,  -999.0,9, -999.00,9,-999.0000,9,  -999.00,-999.000,9,-999.0000,9, -999.00,9, -999.00,9,  -999.0,9,  -999.0,-999.000,9,-999.000,     -999.0,9, -999.00,9, -999.00,9, -999.00,9,     -999.0,9,  -999.0,1, 20130412,     1225,  30.0001,  142.255,     34.847,2,     -999.0,9,     -999.0,9,     1.4749,2,     -999.0,9,     -999.0,1,-999.0000, -999.00,-999.000
318M20130321,       P02W,      27,          1,          6,          6,2,20130412,       1138,    30.0003,   142.2545,       5849,  4616.4,   1.4807,  34.6893,2,  34.6885,2,    157.7,2,   157.7,2,  148.07,2,   35.82,2,       0,2,    2.48,2,-999.000,9,-999.000,9,-999.000,9,-999.0000,9,  2318.4,2, 2413.86,2,   7.5754,2,       25,-999.000,9,-999.0000,9, -999.00,9, -999.00,9,  -999.0,9,  -999.0,-999.000,9,-999.000,     -999.0,9, -999.00,9,   35.48,2, -999.00,9,     -999.0,9,  -999.0,1, 20130412,     1217,  29.9997,  142.255,    34.8521,2,     -999.0,9,     -999.0,9,      1.481,2,     -999.0,9,     -999.0,1,-999.0000, -999.00,-999.000
318M20130321,       P02W,      27,          1,          5,         37,4,20130412,       1138,    30.0003,   142.2545,       5849,  5031.9,   1.5138,  34.6909,2,  34.6834,4,    159.9,2,   151.6,4,  150.31,4,   36.23,4,       0,4,    2.53,4,   0.001,4,   0.017,4,   0.001,4,        0,4,  2323.8,4, 2413.06,4,   7.5695,2,       25,-999.000,9,-999.0000,9, -999.00,9, -999.00,9,  -999.0,9,  -999.0,-999.000,9,-999.000,     -999.0,9, -999.00,9,   35.67,2, -999.00,9,     -999.0,9,  -999.0,1, 20130412,     1208,       30, 142.2545,     34.847,4,     -999.0,9,     -999.0,9,     1.5138,2,     -999.0,9,     -999.0,1,-999.0000, -999.00,-999.000
318M20130321,       P02W,      27,          1,          4,          4,2,20130412,       1138,    30.0003,   142.2545,       5849,  5465.2,    1.559,  34.6917,2,  34.6909,2,    161.6,2,   162.3,2,  145.24,2,   35.49,2,       0,2,    2.46,2,-999.000,9,-999.000,9,-999.000,9,-999.0000,9,  -999.0,9, -999.00,9,-999.0000,9,  -999.00,-999.000,9,-999.0000,9, -999.00,9, -999.00,9,  -999.0,9,  -999.0,-999.000,9,-999.000,     -999.0,9, -999.00,9,    36.2,2, -999.00,9,     -999.0,9,  -999.0,9, 20130412,     1159,  30.0001,  142.254,    34.8545,2,     -999.0,9,     -999.0,9,      1.559,2,     -999.0,9,     -999.0,9,-999.0000, -999.00,-999.000
318M20130321,       P02W,      27,          1,          3,          3,2,20130412,       1138,    30.0003,   142.2545,       5849,  5483.1,    1.561,  34.6918,2,  34.6909,2,    161.1,2,   162.6,2,  145.34,2,   35.49,2,       0,2,    2.46,2,   0.004,2,   0.020,2,   0.001,2,        0,2,  2313.2,2, 2409.76,6,   7.5798,2,       25,-999.000,9,-999.0000,9, -999.00,9, -999.00,9,  -999.0,9,  -999.0,-999.000,9,-999.000,     -999.0,9, -999.00,9,    36.9,2, -999.00,9,     -999.0,9,  -999.0,1, 20130412,     1157,  30.0001, 142.2538,    34.8545,2,     -999.0,9,     -999.0,9,     1.5612,2,     -999.0,9,     -999.0,1,-999.0000, -999.00,-999.000
318M20130321,       P02W,      27,          1,          2,          2,2,20130412,       1138,    30.0003,   142.2545,       5849,  5758.8,   1.5953,  34.6918,2,  34.6917,2,    163.5,2,   162.9,2,  144.46,2,   35.53,2,       0,2,    2.45,2,-999.000,9,-999.000,9,-999.000,9,-999.0000,9,  2312.8,2, 2409.16,2,   7.5821,6,       25,-999.000,9,-999.0000,9, -999.00,9, -999.00,9,  -999.0,9,  -999.0,-999.000,9,-999.000,     -999.0,9, -999.00,9,   37.76,2, -999.00,9,     -999.0,9,  -999.0,1, 20130412,     1148,  30.0003, 142.2544,    34.8552,2,     -999.0,9,     -999.0,9,     1.5951,2,     -999.0,9,     -999.0,1,-999.0000, -999.00,-999.000
318M20130321,       P02W,      27,          1,          1,          1,2,20130412,       1138,    30.0003,   142.2545,       5849,  6016.4,     1.63,  34.6918,2,  34.6977,4,    163.4,2,   163.2,2,  144.26,2,   35.41,2,       0,2,    2.46,2,   0.044,2,   0.046,2,   0.001,2,     0.03,2,  2314.7,6, 2409.86,2,   7.5827,2,       25,-999.000,9,-999.0000,9, -999.00,9, -999.00,9,  -999.0,9,  -999.0,-999.000,9,-999.000,     -999.0,9, -999.00,9,   35.58,2, -999.00,9,     -999.0,9,  -999.0,1, 20130412,     1138,  30.0003, 142.2545,    34.8614,4,     -999.0,9,     -999.0,9,     1.6298,2,     -999.0,9,     -999.0,1,-999.0000, -999.00,-999.000