BOTTLE,20220817CCHSIOAMB
EXPOCODE,SECT_ID,STNNBR,CASTNO,SAMPNO,BTLNBR,BTLNBR_FLAG_W,DATE,TIME,LATITUDE,LONGITUDE,DEPTH,CTDPRS,CTDTMP,CTDSAL,CTDSAL_FLAG_W,SALNTY,SALNTY_FLAG_W,CTDOXY,CTDOXY_FLAG_W,OXYGEN,OXYGEN_FLAG_W,SILCAT,SILCAT_FLAG_W,NITRAT,NITRAT_FLAG_W,NITRIT,NITRIT_FLAG_W,PHSPHT,PHSPHT_FLAG_W,CFC-11,CFC-11_FLAG_W,CFC-12,CFC-12_FLAG_W,CFC113,CFC113_FLAG_W,SF6,SF6_FLAG_W,TCARBN,TCARBN_FLAG_W,ALKALI,ALKALI_FLAG_W,PH_TOT,PH_TOT_FLAG_W,PH_TMP,TRITUM,TRITUM_FLAG_W,HELIUM,HELIUM_FLAG_W,DELHE3,DELHE3_FLAG_W,DELC13,DELC13_FLAG_W,DELC14,DELC14_FLAG_W,C14ERR,NEON,NEON_FLAG_W,NEONER,I-129,I-129_FLAG_W,SR-90,SR-90_FLAG_W,DOC,DOC_FLAG_W,TDN,TDN_FLAG_W,CALCIUM,CALCIUM_FLAG_W,D15N_NO3,D15N_NO3_FLAG_W,BTL_DATE,BTL_TIME,BTL_LAT,BTL_LON,SALTREF,SALTREF_FLAG_W,CS-137,CS-137_FLAG_W,CS-134,CS-134_FLAG_W,REFTMP,REFTMP_FLAG_W,LAB_DEN,LAB_DEN_FLAG_W,D18O_NO3,D18O_NO3_FLAG_W,HELIER,DELHER,TRITER
,,,,,,,,,,,METERS,DBAR,ITS-90,PSS-78,,PSS-78,,UMOL/KG,,UMOL/KG,,UMOL/KG,,UMOL/KG,,UMOL/KG,,UMOL/KG,,PMOL/KG,,PMOL/KG,,PMOL/KG,,FMOL/KG,,UMOL/KG,,UMOL/KG,,,,DEG C,TU,,NMOL/KG,,PERCNT,,/MILLE,,/MILLE,,/MILLE,NMOL/KG,,NMOL/KG,BQ/M^3,,DM/.1MG,,UMOL/KG,,UMOL/KG,,MMOL/KG,,/MILLE,,,,,,G/KG,,BQ/M^3,,BQ/M^3,,ITS-90,,,,/MILLE,,NMOL/KG,PERCNT,TU
318M20130321,       P02W,      73,          1,         35,         35,2,20130428,       0525,    29.9996,   179.0847,       4499,     2.5,  18.8297,  34.9232,2,   34.925,2,    232.9,2,   233.2,2,    2.15,2,    0.02,2,    0.01,2,    0.01,2,-999.000,9,-999.000,9,-999.000,9,-999.0000,9,  -999.0,9, -999.00,9,-999.0000,9,  -999.00,-999.000,9,-999.0000,9, -999.00,9, -999.00,9,  -999.0,9,  -999.0,-999.000,9,-999.000,     -999.0,9, -999.00,9,   59.88,2,    4.15,2,     -999.0,9,  -999.0,9, 20130428,      723,  29.9998, 179.0849,    35.0897,2,     -999.0,9,     -999.0,9,    18.8311,2,     -999.0,9,     -999.0,9,-999.0000, -999.00,-999.000
318M20130321,       P02W,      73,          1,         36,         36,2,20130428,       0525,    29.9996,   179.0847,       4499,    20.2,  18.8358,  34.9222,2,  34.9237,2,    234.2,2,   233.2,2,    2.05,2,       0,2,    0.01,2,    0.01,2,   2.455,2,   1.513,2,   0.190,2,     1.58,2,  2015.6,2, 2291.61,2,   8.0077,2,       25,   0.508,2,   1.7265,2,   -1.51,2, -999.00,9,  -999.0,9,  -999.0,   6.991,2,   0.032,     -999.0,9, -999.00,9,    58.5,2,    4.07,2,     -999.0,9,  -999.0,9, 20130428,      721,  29.9999,  179.085,    35.0883,2,     -999.0,9,     -999.0,9,    18.8374,2,     -999.0,9,     -999.0,9,   0.0073,    0.15,   0.011
318M20130321,       P02W,      73,          1,         34,         34,2,20130428,       0525,    29.9996,   179.0847,       4499,    40.6,  18.8381,  34.9219,2,  34.9238,2,    234.2,2,   233.3,2,    2.05,2,    0.03,2,    0.01,2,    0.01,2,   2.470,2,   1.526,2,   0.189,2,     1.62,2,  -999.0,9, -999.00,9,-999.0000,9,  -999.00,   0.500,2,   1.7302,2,   -1.23,2, -999.00,9,  -999.0,9,  -999.0,   7.014,2,   0.032,     -999.0,9, -999.00,9,   59.64,2,    3.54,2,     -999.0,9,  -999.0,9, 20130428,      720,  29.9999, 179.0849,    35.0885,2,     -999.0,9,     -999.0,9,    18.8379,2,     -999.0,9,     -999.0,9,   0.0073,    0.15,   0.011
318M20130321,       P02W,      73,          1,         33,         33,2,20130428,       0525,    29.9996,   179.0847,       4499,    66.3,  18.7512,  34.9021,2,  34.8959,2,    234.2,2,   232.9,2,    2.15,2,    0.09,2,    0.01,2,       0,2,-999.000,9,-999.000,9,-999.000,9,-999.0000,9,  2015.6,2, 2290.71,6,   8.0043,2,       25,-999.000,9,-999.0000,9, -999.00,9, -999.00,9,  -999.0,9,  -999.0,-999.000,9,-999.000,     -999.0,9, -999.00,9,   58.93,2,    3.41,2,     -999.0,9,  -999.0,9, 20130428,      718,  29.9998, 179.0847,    35.0604,2,     -999.0,9,     -999.0,9,    18.7576,2,     -999.0,9,     -999.0,9,-999.0000, -999.00,-999.000
318M20130321,       P02W,      73,          1,         32,         32,2,20130428,       0525,    29.9996,   179.0847,       4499,    92.1,  17.2437,  34.6676,2,  34.6698,2,    225.2,2,   223.7,2,    3.32,2,    2.24,2,     0.2,2,    0.16,2,   2.626,2,   1.592,2,   0.156,2,     1.43,2,  2025.5,2, 2275.81,6,   7.9647,6,       25,   0.514,2,   1.7403,2,   -1.09,2, -999.00,9,  -999.0,9,  -999.0,   7.147,2,   0.033,     -999.0,9, -999.00,9,   52.21,2,    6.09,2,     -999.0,9,  -999.0,9, 20130428,      717,  29.9997, 179.0845,    34.8333,2,     -999.0,9,     -999.0,9,    17.2474,2,     -999.0,9,     -999.0,9,   0.0073,    0.15,   0.012
318M20130321,       P02W,      73,          1,         31,         31,2,20130428,       0525,    29.9996,   179.0847,       4499,   137.6,  16.5504,  34.6519,2,  34.6537,2,    202.4,2,   203.6,2,    4.88,2,     5.4,2,    0.02,2,    0.35,2,-999.000,9,-999.000,9,-999.000,9,-999.0000,9,  2049.8,2, 2276.11,2,   7.9142,2,       25,-999.000,9,-999.0000,9, -999.00,9, -999.00,9,  -999.0,9,  -999.0,-999.000,9,-999.000,     -999.0,9, -999.00,9,   45.36,2,    8.53,2,     -999.0,9,  -999.0,9, 20130428,      715,  29.9997, 179.0846,    34.8171,2,     -999.0,9,     -999.0,9,    16.5498,2,     -999.0,9,     -999.0,9,-999.0000, -999.00,-999.000
318M20130321,       P02W,      73,          1,         30,         30,2,20130428,       0525,    29.9996,   179.0847,       4499,   187.7,   15.735,  34.5827,2,  34.5845,2,    203.7,2,     204,2,    6.05,2,    6.55,2,    0.02,2,    0.43,2,   2.850,2,   1.702,2,   0.044,2,     1.35,2,  2057.4,2, 2274.01,2,   7.8968,6,       25,   0.527,2,-999.0000,9, -999.00,9, -999.00,9,  -999.0,9,  -999.0,-999.000,9,-999.000,     -999.0,9, -999.00,9,   46.42,2,    9.95,2,     -999.0,9,  -999.0,9, 20130428,      713,  29.9996, 179.0848,    34.7476,2,     -999.0,9,     -999.0,9,     15.734,2,     -999.0,9,     -999.0,9,-999.0000, -999.00,   0.013
318M20130321,       P02W,      73,          1,         29,         29,9,20130428,       0525,    29.9996,   179.0847,       4499,   237.1,  14.8102,  34.5142,2,-999.0000,9,    205.2,2,  -999.0,9, -999.00,9, -999.00,9, -999.00,9, -999.00,9,-999.000,9,-999.000,9,-999.000,9,-999.0000,9,  -999.0,9, -999.00,9,-999.0000,9,  -999.00,-999.000,9,-999.0000,9, -999.00,9, -999.00,9,  -999.0,9,  -999.0,-999.000,9,-999.000,     -999.0,9, -999.00,9, -999.00,9, -999.00,9,     -999.0,9,  -999.0,9, 20130428,      711,  29.9998, 179.0849,     -999.0,9,     -999.0,9,     -999.0,9,    14.8085,2,     -999.0,9,     -999.0,9,-999.0000, -999.00,-999.000
318M20130321,       P02W,      73,          1,         28,         28,2,20130428,       0525,    29.9996,   179.0847,       4499,   288.9,  13.8014,   34.451,2,   34.452,2,    203.5,2,   204.4,2,   10.84,2,   10.04,2,    0.01,2,    0.66,2,   3.047,2,   1.765,2,   0.061,2,     1.27,2,  2076.6,2, 2269.91,2,    7.854,2,       25,   0.483,2,   1.7872,2,    0.72,2, -999.00,9,  -999.0,9,  -999.0,   7.464,2,   0.034,     -999.0,9, -999.00,9,   45.49,2,   13.31,2,     -999.0,9,  -999.0,9, 20130428,      708,       30, 179.0851,    34.6144,2,     -999.0,9,     -999.0,9,    13.8021,2,     -999.0,9,     -999.0,9,   0.0075,    0.15,   0.011
318M20130321,       P02W,      73,          1,         27,         27,2,20130428,       0525,    29.9996,   179.0847,       4499,   334.1,  13.1385,    34.41,2,  34.4115,2,    205.3,2,   206.5,2,   12.79,2,   10.89,2,       0,2,    0.74,2,   3.078,2,   1.765,2,   0.074,2,     1.39,2,  2082.2,2, 2269.01,2,   7.8373,2,       25,   0.493,2,   1.8001,2,    1.22,2, -999.00,9,  -999.0,9,  -999.0,   7.377,2,   0.034,     -999.0,9, -999.00,9,   43.12,2,   14.35,2,     -999.0,9,  -999.0,9, 20130428,      706,  30.0003,  179.085,    34.5738,2,     -999.0,9,     -999.0,9,    13.1328,2,     -999.0,9,     -999.0,9,   0.0076,    0.15,   0.011
318M20130321,       P02W,      73,          1,         26,         26,2,20130428,       0525,    29.9996,   179.0847,       4499,   385.9,  12.2309,  34.3413,2,  34.3432,2,    203.9,2,   206.3,2,   14.84,2,   12.39,2,       0,2,    0.86,2,   3.240,2,   1.851,2,   0.089,2,     1.17,2,  -999.0,9, -999.00,9,-999.0000,9,  -999.00,   0.518,2,   1.7759,2,    1.41,2, -999.00,9,  -999.0,9,  -999.0,   7.444,2,   0.034,     -999.0,9, -999.00,9,    44.8,2, -999.00,9,     -999.0,9,  -999.0,9, 20130428,      704,  30.0003, 179.0851,    34.5052,2,     -999.0,9,     -999.0,9,    12.2343,2,     -999.0,9,     -999.0,9,   0.0075,    0.15,   0.011
318M20130321,       P02W,      73,          1,         25,         25,2,20130428,       0525,    29.9996,   179.0847,       4499,   465.7,   10.364,  34.2074,2,  34.2112,2,    198.3,2,   196.6,2,   22.26,2,   16.61,2,       0,2,    1.16,2,   3.363,2,   1.866,2,   0.100,2,     1.37,2,  2120.8,2, 2268.01,2,   7.7445,2,       25,   0.504,2,   1.8168,2,    3.40,2, -999.00,9,  -999.0,9,  -999.0,   7.636,2,   0.035,     -999.0,9, -999.00,9,   42.52,2, -999.00,9,     -999.0,9,  -999.0,9, 20130428,      701,  30.0002,  179.085,    34.3725,2,     -999.0,9,     -999.0,9,    10.3533,2,     -999.0,9,     -999.0,9,   0.0076,    0.15,   0.012
318M20130321,       P02W,      73,          1,         24,         24,2,20130428,       0525,    29.9996,   179.0847,       4499,   568.3,   7.7711,  34.0693,2,  34.0699,2,      159,2,   158.2,2,   42.38,2,   25.03,2,       0,2,     1.8,2,-999.000,9,-999.000,9,-999.000,9,-999.0000,9,  -999.0,9, -999.00,9,-999.0000,9,  -999.00,-999.000,9,-999.0000,9, -999.00,9, -999.00,9,  -999.0,9,  -999.0,-999.000,9,-999.000,     -999.0,9, -999.00,9,   42.16,2, -999.00,9,     -999.0,9,  -999.0,9, 20130428,      659,  30.0002, 179.0848,    34.2305,2,     -999.0,9,     -999.0,9,     7.7636,2,     -999.0,9,     -999.0,9,-999.0000, -999.00,-999.000
318M20130321,       P02W,      73,          1,         23,         23,2,20130428,       0525,    29.9996,   179.0847,       4499,   669.1,   5.9523,  34.0243,2,  34.0266,2,    119.1,2,   120.4,2,   63.96,2,   31.78,2,       0,2,     2.3,2,   2.363,2,   1.238,2,   0.105,2,     0.54,2,  2234.6,2, 2292.01,2,   7.4891,2,       25,   0.355,2,   1.8544,2,   12.11,2, -999.00,9,  -999.0,9,  -999.0,   7.819,2,   0.036,     -999.0,9, -999.00,9,   41.83,2, -999.00,9,     -999.0,9,  -999.0,9, 20130428,      656,  30.0001, 179.0846,     34.187,2,     -999.0,9,     -999.0,9,     5.9562,2,     -999.0,9,     -999.0,9,   0.0078,    0.15,   0.011
318M20130321,       P02W,      73,          1,         22,         22,2,20130428,       0525,    29.9996,   179.0847,       4499,   770.2,   4.8373,  34.1034,2,  34.1069,2,     71.9,2,    73.2,2,    87.2,2,   37.62,2,       0,2,    2.73,2,   1.306,2,   0.675,2,   0.046,2,     0.27,2,  -999.0,9, -999.00,9,-999.0000,9,  -999.00,   0.172,2,   1.8635,2,   15.17,2, -999.00,9,  -999.0,9,  -999.0,   7.997,2,   0.037,     -999.0,9, -999.00,9,   39.34,2, -999.00,9,     -999.0,9,  -999.0,9, 20130428,      653,       30, 179.0847,    34.2677,2,     -999.0,9,     -999.0,9,     4.8388,2,     -999.0,9,     -999.0,9,   0.0078,    0.15,   0.011
318M20130321,       P02W,      73,          1,         21,         21,2,20130428,       0525,    29.9996,   179.0847,       4499,   866.8,   4.2509,  34.1837,2,  34.1847,2,     48.6,2,    48.1,2,   103.5,2,   40.55,2,       0,2,    2.93,2,   0.727,2,   0.377,2,   0.031,2,     0.15,2,  2321.4,2, 2331.53,2,   7.3439,2,       25,-999.000,9,-999.0000,9, -999.00,9, -999.00,9,  -999.0,9,  -999.0,-999.000,9,-999.000,     -999.0,9, -999.00,9,   42.65,2, -999.00,9,     -999.0,9,  -999.0,9, 20130428,      650,  30.0001, 179.0847,    34.3459,2,     -999.0,9,     -999.0,9,     4.2508,2,     -999.0,9,     -999.0,9,-999.0000, -999.00,-999.000
318M20130321,       P02W,      73,          1,         20,         20,2,20130428,       0525,    29.9996,   179.0847,       4499,   969.5,   3.7892,  34.2661,2,  34.2665,2,     33.2,2,    33.7,2,  117.46,2,   42.29,2,       0,2,    3.07,2,-999.000,9,-999.000,9,-999.000,9,-999.0000,9,  -999.0,9, -999.00,9,-999.0000,9,  -999.00,-999.000,9,-999.0000,9, -999.00,9, -999.00,9,  -999.0,9,  -999.0,-999.000,9,-999.000,     -999.0,9, -999.00,9,   41.06,2, -999.00,9,     -999.0,9,  -999.0,9, 20130428,      648,  30.0001, 179.0847,    34.4281,2,     -999.0,9,     -999.0,9,     3.7887,2,     -999.0,9,     -999.0,9,-999.0000, -999.00,-999.000
318M20130321,       P02W,      73,          1,         19,         19,2,20130428,       0525,    29.9996,   179.0847,       4499,  1071.2,   3.4299,  34.3423,2,  34.3444,2,     27.3,2,    27.3,2,  128.87,2,   43.18,2,       0,2,     3.1,2,   0.167,2,   0.086,2,   0.000,2,     0.05,2,  2360.9,2, 2357.54,2,   7.3177,2,       25,   0.036,2,   1.8950,2,   16.66,2, -999.00,9,  -999.0,9,  -999.0,   8.076,2,   0.037,     -999.0,9, -999.00,9,   37.66,2, -999.00,9,     -999.0,9,  -999.0,9, 20130428,      645,  30.0002, 179.0846,    34.5063,2,     -999.0,9,     -999.0,9,       3.43,2,     -999.0,9,     -999.0,9,   0.0080,    0.15,   0.010
318M20130321,       P02W,      73,          1,         18,         18,2,20130428,       0525,    29.9996,   179.0847,       4499,  1172.3,   3.2108,  34.3956,2,  34.3981,2,     26.9,2,    27.2,2,   135.6,2,   43.51,2,       0,2,    3.14,2,   0.068,2,   0.039,2,   0.004,2,     0.06,2,  -999.0,9, -999.00,9,-999.0000,9,  -999.00,   0.026,2,   1.8961,2,   16.86,2, -999.00,9,  -999.0,9,  -999.0,   8.104,2,   0.037,     -999.0,9, -999.00,9,   38.96,2, -999.00,9,     -999.0,9,  -999.0,9, 20130428,      642,  30.0003, 179.0846,    34.5603,2,     -999.0,9,     -999.0,9,     3.2106,2,     -999.0,9,     -999.0,9,   0.0080,    0.15,   0.010
318M20130321,       P02W,      73,          1,         17,         17,2,20130428,       0525,    29.9996,   179.0847,       4499,  1273.9,   2.9916,  34.4403,2,  34.4409,2,     29.4,2,      29,2,  141.56,2,   43.48,2,       0,2,    3.14,2,   0.031,2,   0.026,2,   0.001,2,     0.01,2,  2376.3,6, 2383.55,2,   7.3309,2,       25,   0.007,2,   1.9243,2,   18.06,2, -999.00,9,  -999.0,9,  -999.0,   8.162,2,   0.038,     -999.0,9, -999.00,9,   34.19,2, -999.00,9,     -999.0,9,  -999.0,9, 20130428,      639,  30.0003, 179.0843,    34.6033,2,     -999.0,9,     -999.0,9,     2.9941,2,     -999.0,9,     -999.0,9,   0.0081,    0.15,   0.010
318M20130321,       P02W,      73,          1,         16,         16,2,20130428,       0525,    29.9996,   179.0847,       4499,  1376.9,   2.8194,  34.4726,2,  34.4786,2,     34.5,2,    33.5,2,  146.14,2,   43.35,2,       0,2,    3.11,2,   0.015,2,   0.019,2,   0.003,2,     0.09,2,  -999.0,9, -999.00,9,-999.0000,9,  -999.00,-999.000,9,-999.0000,9, -999.00,9, -999.00,9,  -999.0,9,  -999.0,-999.000,9,-999.000,     -999.0,9, -999.00,9,   34.88,2, -999.00,9,     -999.0,9,  -999.0,9, 20130428,      636,  30.0002,  179.084,    34.6412,2,     -999.0,9,     -999.0,9,     2.8191,2,     -999.0,9,     -999.0,9,-999.0000, -999.00,-999.000
318M20130321,       P02W,      73,          1,         15,         15,2,20130428,       0525,    29.9996,   179.0847,       4499,    1478,    2.634,  34.5017,2,  34.5023,2,     36.2,2,      36,2,  151.41,2,   43.34,2,       0,2,     3.1,2,   0.006,2,   0.012,2,   0.000,2,     0.06,2,    2384,2, 2394.55,2,   7.3483,2,       25,   0.015,2,   1.9169,2,   18.83,2, -999.00,9,  -999.0,9,  -999.0,   8.052,2,   0.037,     -999.0,9, -999.00,9,   35.48,2, -999.00,9,     -999.0,9,  -999.0,9, 20130428,      633,  29.9999, 179.0841,     34.665,2,     -999.0,9,     -999.0,9,     2.6339,2,     -999.0,9,     -999.0,9,   0.0081,    0.15,   0.010
318M20130321,       P02W,      73,          1,         14,         14,2,20130428,       0525,    29.9996,   179.0847,       4499,    1579,   2.4529,  34.5307,2,  34.5318,2,     43.5,2,    43.6,2,   155.9,2,   42.97,2,       0,2,    3.07,2,-999.000,9,-999.000,9,-999.000,9,-999.0000,9,  2381.7,2, 2401.55,2,   7.3644,6,       25,-999.000,9,-999.0000,9, -999.00,9, -999.00,9,  -999.0,9,  -999.0,-999.000,9,-999.000,     -999.0,9, -999.00,9,   34.94,2, -999.00,9,     -999.0,9,  -999.0,9, 20130428,      630,       30, 179.0843,    34.6946,2,     -999.0,9,     -999.0,9,     2.4525,2,     -999.0,9,     -999.0,9,-999.0000, -999.00,-999.000
318M20130321,       P02W,      73,          1,         13,         13,2,20130428,       0525,    29.9996,   179.0847,       4499,  1749.4,   2.1871,  34.5715,2,  34.5722,2,     58.2,2,    59.5,2,  160.19,2,   42.08,2,       0,2,    2.99,2,   0.000,2,   0.010,2,   0.002,2,     0.05,2,  2377.1,2, 2409.76,2,    7.397,2,       25,   0.011,2,   1.8758,2,   19.72,2, -999.00,9,  -999.0,9,  -999.0,   8.063,2,   0.037,     -999.0,9, -999.00,9,   35.73,2, -999.00,9,     -999.0,9,  -999.0,9, 20130428,      626,  30.0003, 179.0848,    34.7353,2,     -999.0,9,     -999.0,9,     2.1919,2,     -999.0,9,     -999.0,9,   0.0079,    0.15,   0.009
318M20130321,       P02W,      73,          1,         11,         11,2,20130428,       0525,    29.9996,   179.0847,       4499,    1953,   1.9833,  34.5993,2,  34.6015,2,     73.3,2,    73.6,2,  163.01,2,    41.1,2,       0,2,    2.92,2,   0.002,2,   0.012,2,   0.000,2,     0.04,2,  2371.9,2, 2412.46,2,    7.425,2,       25,  -0.008,2,   1.9158,2,   19.91,2, -999.00,9,  -999.0,9,  -999.0,   8.114,2,   0.037,     -999.0,9, -999.00,9,   34.19,2, -999.00,9,     -999.0,9,  -999.0,9, 20130428,      622,  29.9999, 179.0848,    34.7647,2,     -999.0,9,     -999.0,9,     1.9844,2,     -999.0,9,     -999.0,9,   0.0080,    0.15,   0.009
318M20130321,       P02W,      73,          1,         10,         10,2,20130428,       0525,    29.9996,   179.0847,       4499,  2188.6,   1.8182,  34.6215,2,  34.6219,2,     88.2,2,    87.7,2,  164.47,2,   40.28,2,       0,2,    2.86,2,-999.000,9,-999.000,9,-999.000,9,-999.0000,9,    2365,2, 2416.76,2,   7.4521,2,       25,-999.000,9,-999.0000,9, -999.00,9, -999.00,9,  -999.0,9,  -999.0,-999.000,9,-999.000,     -999.0,9, -999.00,9,   35.49,2, -999.00,9,     -999.0,9,  -999.0,9, 20130428,      617,       30, 179.0845,    34.7852,2,     -999.0,9,     -999.0,9,     1.8182,2,     -999.0,9,     -999.0,9,-999.0000, -999.00,-999.000
318M20130321,       P02W,      73,          1,          9,          9,2,20130428,       0525,    29.9996,   179.0847,       4499,  2437.8,    1.688,  34.6399,2,  34.6408,2,    101.5,2,   101.9,2,  163.89,2,   39.34,2,       0,2,    2.78,2,-999.000,9,-999.000,9,-999.000,9,-999.0000,9,  2356.3,2, 2416.86,2,   7.4805,2,       25,-999.000,9,-999.0000,9, -999.00,9, -999.00,9,  -999.0,9,  -999.0,-999.000,9,-999.000,     -999.0,9, -999.00,9,   35.17,2, -999.00,9,     -999.0,9,  -999.0,9, 20130428,      611,  29.9994, 179.0847,    34.8041,2,     -999.0,9,     -999.0,9,     1.6883,2,     -999.0,9,     -999.0,9,-999.0000, -999.00,-999.000
318M20130321,       P02W,      73,          1,          8,          8,2,20130428,       0525,    29.9996,   179.0847,       4499,  2696.6,   1.5921,  34.6534,2,  34.6545,2,    114.4,2,   114.7,2,  162.32,2,   38.57,2,       0,2,    2.71,2,   0.000,2,   0.003,2,   0.000,2,     0.05,2,  -999.0,9, -999.00,9,-999.0000,9,  -999.00,-999.000,9,-999.0000,9, -999.00,9, -999.00,9,  -999.0,9,  -999.0,-999.000,9,-999.000,     -999.0,9, -999.00,9, -999.00,5, -999.00,9,     -999.0,9,  -999.0,9, 20130428,      606,  30.0002, 179.0844,     34.818,2,     -999.0,9,     -999.0,9,     1.5919,2,     -999.0,9,     -999.0,9,-999.0000, -999.00,-999.000
318M20130321,       P02W,      73,          1,          7,          7,2,20130428,       0525,    29.9996,   179.0847,       4499,  2946.6,   1.5292,  34.6634,2,  34.6649,2,    124.9,2,   125.1,2,  160.08,2,   37.88,2,       0,2,    2.65,2,-999.000,9,-999.000,9,-999.000,9,-999.0000,9,  2342.5,2, 2417.86,2,   7.5227,6,       25,-999.000,9,-999.0000,9, -999.00,9, -999.00,9,  -999.0,9,  -999.0,-999.000,9,-999.000,     -999.0,9, -999.00,9,    34.4,2, -999.00,9,     -999.0,9,  -999.0,9, 20130428,      601,  30.0004, 179.0843,    34.8284,2,     -999.0,9,     -999.0,9,     1.5289,2,     -999.0,9,     -999.0,9,-999.0000, -999.00,-999.000