BOTTLE,20220817CCHSIOAMB
EXPOCODE,SECT_ID,STNNBR,CASTNO,SAMPNO,BTLNBR,BTLNBR_FLAG_W,DATE,TIME,LATITUDE,LONGITUDE,DEPTH,CTDPRS,CTDTMP,CTDSAL,CTDSAL_FLAG_W,SALNTY,SALNTY_FLAG_W,CTDOXY,CTDOXY_FLAG_W,OXYGEN,OXYGEN_FLAG_W,SILCAT,SILCAT_FLAG_W,NITRAT,NITRAT_FLAG_W,NITRIT,NITRIT_FLAG_W,PHSPHT,PHSPHT_FLAG_W,CFC-11,CFC-11_FLAG_W,CFC-12,CFC-12_FLAG_W,CFC113,CFC113_FLAG_W,SF6,SF6_FLAG_W,TCARBN,TCARBN_FLAG_W,ALKALI,ALKALI_FLAG_W,PH_TOT,PH_TOT_FLAG_W,PH_TMP,TRITUM,TRITUM_FLAG_W,HELIUM,HELIUM_FLAG_W,DELHE3,DELHE3_FLAG_W,DELC13,DELC13_FLAG_W,DELC14,DELC14_FLAG_W,C14ERR,NEON,NEON_FLAG_W,NEONER,I-129,I-129_FLAG_W,SR-90,SR-90_FLAG_W,DOC,DOC_FLAG_W,TDN,TDN_FLAG_W,CALCIUM,CALCIUM_FLAG_W,D15N_NO3,D15N_NO3_FLAG_W,BTL_DATE,BTL_TIME,BTL_LAT,BTL_LON,SALTREF,SALTREF_FLAG_W,CS-137,CS-137_FLAG_W,CS-134,CS-134_FLAG_W,REFTMP,REFTMP_FLAG_W,LAB_DEN,LAB_DEN_FLAG_W,D18O_NO3,D18O_NO3_FLAG_W,HELIER,DELHER,TRITER
,,,,,,,,,,,METERS,DBAR,ITS-90,PSS-78,,PSS-78,,UMOL/KG,,UMOL/KG,,UMOL/KG,,UMOL/KG,,UMOL/KG,,UMOL/KG,,PMOL/KG,,PMOL/KG,,PMOL/KG,,FMOL/KG,,UMOL/KG,,UMOL/KG,,,,DEG C,TU,,NMOL/KG,,PERCNT,,/MILLE,,/MILLE,,/MILLE,NMOL/KG,,NMOL/KG,BQ/M^3,,DM/.1MG,,UMOL/KG,,UMOL/KG,,MMOL/KG,,/MILLE,,,,,,G/KG,,BQ/M^3,,BQ/M^3,,ITS-90,,,,/MILLE,,NMOL/KG,PERCNT,TU
318M20130321,       P02W,      70,          1,          6,          6,2,20130427,       0922,    30.0002,   177.1698,       4675,  3240.4,   1.4896,  34.6712,2,  34.6729,2,    132.9,2,   134.2,2,  158.42,2,   37.24,2,       0,2,    2.61,2,   0.000,2,   0.005,2,   0.004,2,     0.05,2,  -999.0,9, -999.00,9,-999.0000,9,  -999.00,-999.000,9,-999.0000,9, -999.00,9, -999.00,9,  -999.0,9,  -999.0,-999.000,9,-999.000,     -999.0,9, -999.00,9, -999.00,9, -999.00,9,     -999.0,9,  -999.0,9, 20130427,      953,  30.0001, 177.1702,    34.8364,2,     -999.0,9,     -999.0,9,     1.4895,2,     -999.0,9,     -999.0,9,-999.0000, -999.00,-999.000
318M20130321,       P02W,      70,          1,          5,         37,2,20130427,       0922,    30.0002,   177.1698,       4675,  3549.1,   1.4606,   34.678,2,  34.6792,2,    141.1,2,   141.9,2,  156.17,2,   36.68,2,       0,2,    2.57,2,-999.000,9,-999.000,9,-999.000,9,-999.0000,9,  2331.8,2, 2417.46,2,   7.5536,6,       25,-999.000,9,-999.0000,9, -999.00,9, -999.00,9,  -999.0,9,  -999.0,-999.000,9,-999.000,     -999.0,9, -999.00,9, -999.00,9, -999.00,9,     -999.0,9,  -999.0,9, 20130427,      947,  30.0002, 177.1701,    34.8427,2,     -999.0,9,     -999.0,9,     1.4603,2,     -999.0,9,     -999.0,9,-999.0000, -999.00,-999.000
318M20130321,       P02W,      70,          1,          4,          4,2,20130427,       0922,    30.0002,   177.1698,       4675,  3919.6,    1.452,  34.6835,2,  34.6841,2,    147.9,2,   148.3,2,  154.32,2,    36.3,2,       0,2,    2.53,2,   0.000,2,   0.009,2,   0.004,2,      0.1,2,  -999.0,9, -999.00,9,-999.0000,9,  -999.00,-999.000,9,-999.0000,9, -999.00,9, -999.00,9,  -999.0,9,  -999.0,-999.000,9,-999.000,     -999.0,9, -999.00,9, -999.00,9, -999.00,9,     -999.0,9,  -999.0,9, 20130427,      940,  30.0002,   177.17,    34.8477,2,     -999.0,9,     -999.0,9,      1.452,2,     -999.0,9,     -999.0,9,-999.0000, -999.00,-999.000
318M20130321,       P02W,      70,          1,          3,          3,2,20130427,       0922,    30.0002,   177.1698,       4675,  4332.9,   1.4523,  34.6879,2,  34.6885,2,    154.7,2,   155.5,2,  150.51,2,   35.84,2,       0,2,    2.52,2,   0.000,2,   0.004,2,   0.004,2,     0.07,2,  -999.0,9, -999.00,9,-999.0000,9,  -999.00,-999.000,9,-999.0000,9, -999.00,9, -999.00,9,  -999.0,9,  -999.0,-999.000,9,-999.000,     -999.0,9, -999.00,9, -999.00,9, -999.00,9,     -999.0,9,  -999.0,9, 20130427,      932,  30.0003,   177.17,     34.852,2,     -999.0,9,     -999.0,9,     1.4518,2,     -999.0,9,     -999.0,9,-999.0000, -999.00,-999.000
318M20130321,       P02W,      70,          1,          2,          2,2,20130427,       0922,    30.0002,   177.1698,       4675,  4613.1,   1.4557,  34.6905,2,  34.6914,2,    160.6,2,   160.5,2,   146.6,2,   35.45,2,       0,2,    2.48,2,   0.000,2,   0.008,2,   0.003,2,     0.05,2,  2316.6,6, 2411.86,2,   7.5817,2,       25,-999.000,9,-999.0000,9, -999.00,9, -999.00,9,  -999.0,9,  -999.0,-999.000,9,-999.000,     -999.0,9, -999.00,9, -999.00,9, -999.00,9,     -999.0,9,  -999.0,9, 20130427,      927,  30.0003, 177.1698,     34.855,2,     -999.0,9,     -999.0,9,     1.4556,2,     -999.0,9,     -999.0,9,-999.0000, -999.00,-999.000
318M20130321,       P02W,      70,          1,          1,          1,2,20130427,       0922,    30.0002,   177.1698,       4675,  4814.6,     1.46,  34.6922,2,  34.6936,2,    164.8,2,   163.6,2,  143.77,2,   35.25,2,       0,2,    2.46,2,   0.000,2,   0.015,2,   0.011,2,     0.14,2,  2314.7,2, 2410.16,2,   7.5856,2,       25,-999.000,9,-999.0000,9, -999.00,9, -999.00,9,  -999.0,9,  -999.0,-999.000,9,-999.000,     -999.0,9, -999.00,9, -999.00,9, -999.00,9,     -999.0,9,  -999.0,9, 20130427,      922,  30.0002, 177.1698,    34.8572,2,     -999.0,9,     -999.0,9,       1.46,2,     -999.0,9,     -999.0,9,-999.0000, -999.00,-999.000