BOTTLE,20220817CCHSIOAMB
EXPOCODE,SECT_ID,STNNBR,CASTNO,SAMPNO,BTLNBR,BTLNBR_FLAG_W,DATE,TIME,LATITUDE,LONGITUDE,DEPTH,CTDPRS,CTDTMP,CTDSAL,CTDSAL_FLAG_W,SALNTY,SALNTY_FLAG_W,CTDOXY,CTDOXY_FLAG_W,OXYGEN,OXYGEN_FLAG_W,SILCAT,SILCAT_FLAG_W,NITRAT,NITRAT_FLAG_W,NITRIT,NITRIT_FLAG_W,PHSPHT,PHSPHT_FLAG_W,CFC-11,CFC-11_FLAG_W,CFC-12,CFC-12_FLAG_W,CFC113,CFC113_FLAG_W,SF6,SF6_FLAG_W,TCARBN,TCARBN_FLAG_W,ALKALI,ALKALI_FLAG_W,PH_TOT,PH_TOT_FLAG_W,PH_TMP,TRITUM,TRITUM_FLAG_W,HELIUM,HELIUM_FLAG_W,DELHE3,DELHE3_FLAG_W,DELC13,DELC13_FLAG_W,DELC14,DELC14_FLAG_W,C14ERR,NEON,NEON_FLAG_W,NEONER,I-129,I-129_FLAG_W,SR-90,SR-90_FLAG_W,DOC,DOC_FLAG_W,TDN,TDN_FLAG_W,CALCIUM,CALCIUM_FLAG_W,D15N_NO3,D15N_NO3_FLAG_W,BTL_DATE,BTL_TIME,BTL_LAT,BTL_LON,SALTREF,SALTREF_FLAG_W,CS-137,CS-137_FLAG_W,CS-134,CS-134_FLAG_W,REFTMP,REFTMP_FLAG_W,LAB_DEN,LAB_DEN_FLAG_W,D18O_NO3,D18O_NO3_FLAG_W,HELIER,DELHER,TRITER
,,,,,,,,,,,METERS,DBAR,ITS-90,PSS-78,,PSS-78,,UMOL/KG,,UMOL/KG,,UMOL/KG,,UMOL/KG,,UMOL/KG,,UMOL/KG,,PMOL/KG,,PMOL/KG,,PMOL/KG,,FMOL/KG,,UMOL/KG,,UMOL/KG,,,,DEG C,TU,,NMOL/KG,,PERCNT,,/MILLE,,/MILLE,,/MILLE,NMOL/KG,,NMOL/KG,BQ/M^3,,DM/.1MG,,UMOL/KG,,UMOL/KG,,MMOL/KG,,/MILLE,,,,,,G/KG,,BQ/M^3,,BQ/M^3,,ITS-90,,,,/MILLE,,NMOL/KG,PERCNT,TU
318M20130321,       P02E,     116,          1,         36,         36,2,20130521,       0844,         30,  -142.5819,       4958,     2.9,  20.3086,  34.8648,2,  34.8648,2,    228.6,2,   230.3,2,    2.54,2,       0,2,       0,2,       0,2,   2.017,2,   1.226,2,-999.000,1,   1.4067,2,  2023.3,2, 2292.91,2,   7.9923,2,       25,-999.000,9,-999.0000,9, -999.00,9, -999.00,9,  -999.0,9,  -999.0,-999.000,9,-999.000,     -999.0,1, -999.00,1, -999.00,9, -999.00,9,     -999.0,9,  -999.0,9, 20130521,     1054,  29.9999,-142.5817,    35.0292,2,     -999.0,1,     -999.0,1,    20.3071,2,     -999.0,9,     -999.0,9,-999.0000, -999.00,-999.000
318M20130321,       P02E,     116,          1,         34,         34,2,20130521,       0844,         30,  -142.5819,       4958,      19,  20.3156,  34.8645,2,  34.8638,2,    230.8,2,   230.3,2,    2.54,2,       0,2,       0,2,       0,2,-999.000,9,-999.000,9,-999.000,9,-999.0000,9,  2022.4,2, 2291.71,2,   7.9919,6,       25,-999.000,9,-999.0000,9, -999.00,9, -999.00,9,  -999.0,9,  -999.0,-999.000,9,-999.000,     -999.0,9, -999.00,1, -999.00,9, -999.00,9,     -999.0,9,  -999.0,9, 20130521,     1053,       30,-142.5817,    35.0282,2,     -999.0,1,     -999.0,1,    20.3173,2,     -999.0,9,     -999.0,9,-999.0000, -999.00,-999.000
318M20130321,       P02E,     116,          1,         33,         33,2,20130521,       0844,         30,  -142.5819,       4958,    39.9,   19.438,  34.8536,2,  34.8622,2,    237.3,2,   236.4,2,    2.54,2,       0,2,       0,2,       0,2,   2.106,2,   1.276,2,-999.000,1,   1.4441,2,  -999.0,9, 2292.21,2,-999.0000,9,  -999.00,-999.000,9,-999.0000,9, -999.00,9, -999.00,9,  -999.0,9,  -999.0,-999.000,9,-999.000,     -999.0,9, -999.00,1, -999.00,9, -999.00,9,     -999.0,9,  -999.0,9, 20130521,     1051,       30,-142.5817,    35.0266,2,     -999.0,1,     -999.0,1,    19.4387,2,     -999.0,9,     -999.0,9,-999.0000, -999.00,-999.000
318M20130321,       P02E,     116,          1,         32,         32,2,20130521,       0844,         30,  -142.5819,       4958,      65,  19.2085,   34.878,2,   34.866,2,    238.9,2,   236.7,2,    2.44,2,       0,2,       0,2,       0,2,-999.000,9,-999.000,9,-999.000,9,-999.0000,9,  2025.3,2, 2292.71,2,   7.9898,2,       25,-999.000,9,-999.0000,9, -999.00,9, -999.00,9,  -999.0,9,  -999.0,-999.000,9,-999.000,     -999.0,9, -999.00,1, -999.00,9, -999.00,9,     -999.0,9,  -999.0,9, 20130521,     1049,  29.9999,-142.5817,    35.0304,2,     -999.0,1,     -999.0,1,    19.2168,2,     -999.0,9,     -999.0,9,-999.0000, -999.00,-999.000
318M20130321,       P02E,     116,          1,         31,         31,2,20130521,       0844,         30,  -142.5819,       4958,      89,  18.5305,  34.7639,2,  34.7541,2,    238.4,2,   237.2,2,    2.64,2,       0,2,       0,2,    0.02,2,   2.168,2,   1.302,2,-999.000,1,   1.4906,2,  -999.0,9, 2287.31,2,-999.0000,9,  -999.00,-999.000,9,-999.0000,9, -999.00,9, -999.00,9,  -999.0,9,  -999.0,-999.000,9,-999.000,     -999.0,9, -999.00,1, -999.00,9, -999.00,9,     -999.0,9,  -999.0,9, 20130521,     1047,  29.9999,-142.5818,     34.918,2,     -999.0,1,     -999.0,1,    18.5412,2,     -999.0,9,     -999.0,9,-999.0000, -999.00,-999.000
318M20130321,       P02E,     116,          1,         30,         30,2,20130521,       0844,         30,  -142.5819,       4958,   135.4,  17.7742,  34.7318,2,  34.6572,3,    236.6,2,     233,2,    2.83,2,    0.05,2,    0.08,2,    0.07,2,-999.000,9,-999.000,9,-999.000,9,-999.0000,9,  2032.7,2, 2281.21,2,   7.9604,2,       25,-999.000,9,-999.0000,9, -999.00,9, -999.00,9,  -999.0,9,  -999.0,-999.000,9,-999.000,     -999.0,9, -999.00,1, -999.00,9, -999.00,9,     -999.0,9,  -999.0,9, 20130521,     1045,       30,-142.5816,    34.8206,3,     -999.0,1,     -999.0,1,    17.7219,3,     -999.0,9,     -999.0,9,-999.0000, -999.00,-999.000
318M20130321,       P02E,     116,          1,         29,         29,2,20130521,       0844,         30,  -142.5819,       4958,   186.2,  13.8871,  34.2151,2,  34.2161,2,    223.5,2,   221.5,2,    5.96,2,    5.08,2,    0.02,2,    0.41,2,   2.718,2,   1.579,2,-999.000,1,   1.5526,2,  2055.1,2,  2252.4,2,   7.8631,2,       25,-999.000,9,-999.0000,9, -999.00,9, -999.00,9,  -999.0,9,  -999.0,-999.000,9,-999.000,     -999.0,9, -999.00,1, -999.00,9, -999.00,9,     -999.0,9,  -999.0,9, 20130521,     1043,  29.9999,-142.5815,    34.3774,2,     -999.0,1,     -999.0,1,    13.8862,2,     -999.0,9,     -999.0,9,-999.0000, -999.00,-999.000
318M20130321,       P02E,     116,          1,         27,         27,2,20130521,       0844,         30,  -142.5819,       4958,   235.8,  12.0005,  34.0903,2,  34.0918,2,    220.6,2,   221.6,2,    9.18,2,    9.28,2,    0.01,2,    0.67,2,-999.000,9,-999.000,9,-999.000,9,-999.0000,9,    2075,2,  2246.7,2,   7.8098,2,       25,-999.000,9,-999.0000,9, -999.00,9, -999.00,9,  -999.0,9,  -999.0,-999.000,9,-999.000,     -999.0,9, -999.00,1, -999.00,9, -999.00,9,     -999.0,9,  -999.0,9, 20130521,     1041,  29.9998,-142.5815,    34.2525,2,     -999.0,1,     -999.0,1,    12.0017,2,     -999.0,9,     -999.0,9,-999.0000, -999.00,-999.000
318M20130321,       P02E,     116,          1,         26,         26,2,20130521,       0844,         30,  -142.5819,       4958,   286.4,  10.6097,  34.1008,2,  34.1002,2,      216,2,   218.4,2,   14.26,2,   13.19,2,       0,2,    0.94,2,   3.173,2,   1.756,2,-999.000,1,   1.5062,2,  -999.0,9,  2253.5,2,-999.0000,9,  -999.00,-999.000,9,-999.0000,9, -999.00,9, -999.00,9,  -999.0,9,  -999.0,-999.000,9,-999.000,     -999.0,9, -999.00,1, -999.00,9, -999.00,9,     -999.0,9,  -999.0,9, 20130521,     1039,  29.9998,-142.5817,     34.261,2,     -999.0,1,     -999.0,1,    10.6101,2,     -999.0,9,     -999.0,9,-999.0000, -999.00,-999.000
318M20130321,       P02E,     116,          1,         25,         25,2,20130521,       0844,         30,  -142.5819,       4958,   335.9,   9.7547,  34.0865,2,   34.091,2,      208,2,   208.1,2,   19.14,2,   16.11,2,       0,2,    1.14,2,-999.000,9,-999.000,9,-999.000,9,-999.0000,9,  2116.3,2,  2257.5,2,   7.7308,2,       25,-999.000,9,-999.0000,9, -999.00,9, -999.00,9,  -999.0,9,  -999.0,-999.000,9,-999.000,     -999.0,9, -999.00,1, -999.00,9, -999.00,9,     -999.0,9,  -999.0,9, 20130521,     1037,  29.9999,-142.5817,    34.2517,2,     -999.0,1,     -999.0,1,     9.7535,2,     -999.0,9,     -999.0,9,-999.0000, -999.00,-999.000
318M20130321,       P02E,     116,          1,         24,         24,2,20130521,       0844,         30,  -142.5819,       4958,   386.8,    8.569,  34.0305,2,    34.03,2,    185.8,2,   182.2,2,   28.42,2,   21.08,2,       0,2,     1.5,2,   3.162,2,   1.690,2,-999.000,1,   1.1322,2,  -999.0,9, -999.00,9,-999.0000,9,  -999.00,-999.000,9,-999.0000,9, -999.00,9, -999.00,9,  -999.0,9,  -999.0,-999.000,9,-999.000,     -999.0,9, -999.00,1, -999.00,9, -999.00,9,     -999.0,9,  -999.0,9, 20130521,     1034,       30,-142.5818,    34.1905,2,     -999.0,1,     -999.0,1,     8.5725,2,     -999.0,9,     -999.0,9,-999.0000, -999.00,-999.000
318M20130321,       P02E,     116,          1,         23,         23,2,20130521,       0844,         30,  -142.5819,       4958,   466.4,    7.007,  33.9734,2,  33.9732,2,    146.9,2,   144.3,2,   44.34,2,   27.74,2,       0,2,    1.99,2,-999.000,9,-999.000,9,-999.000,9,-999.0000,9,  2199.1,2, 2271.21,2,   7.5416,2,       25,-999.000,9,-999.0000,9, -999.00,9, -999.00,9,  -999.0,9,  -999.0,-999.000,9,-999.000,     -999.0,9, -999.00,1, -999.00,9, -999.00,9,     -999.0,9,  -999.0,9, 20130521,     1031,  30.0002,-142.5818,    34.1334,2,     -999.0,1,     -999.0,1,     7.0084,2,     -999.0,9,     -999.0,9,-999.0000, -999.00,-999.000
318M20130321,       P02E,     116,          1,         22,         22,2,20130521,       0844,         30,  -142.5819,       4958,   566.9,   5.4742,   33.997,2,  33.9941,2,     88.5,2,    86.9,2,   68.95,2,   35.71,2,       0,2,    2.62,2,   1.893,2,   0.929,2,-999.000,1,     0.34,2,  2260.9,2, 2291.31,2,   7.4028,6,       25,-999.000,9,-999.0000,9, -999.00,9, -999.00,9,  -999.0,9,  -999.0,-999.000,9,-999.000,     -999.0,9, -999.00,1, -999.00,9, -999.00,9,     -999.0,9,  -999.0,9, 20130521,     1028,  30.0003,-142.5817,    34.1544,2,     -999.0,1,     -999.0,1,     5.4919,2,     -999.0,9,     -999.0,9,-999.0000, -999.00,-999.000
318M20130321,       P02E,     116,          1,         21,         21,2,20130521,       0844,         30,  -142.5819,       4958,   668.9,    4.608,  34.1043,2,  34.1035,2,     41.3,2,    39.3,2,   92.18,2,   41.04,2,       0,2,    3.04,2,-999.000,9,-999.000,9,-999.000,9,-999.0000,9,  2313.9,2, 2313.72,2,   7.3092,2,       25,-999.000,9,-999.0000,9, -999.00,9, -999.00,9,  -999.0,9,  -999.0,-999.000,9,-999.000,     -999.0,9, -999.00,9, -999.00,9, -999.00,9,     -999.0,9,  -999.0,9, 20130521,     1024,  30.0003,-142.5817,    34.2643,2,     -999.0,9,     -999.0,9,     4.6079,2,     -999.0,9,     -999.0,9,-999.0000, -999.00,-999.000
318M20130321,       P02E,     116,          1,         20,         20,2,20130521,       0844,         30,  -142.5819,       4958,   770.7,    4.252,   34.212,2,  34.2091,2,       19,2,    19.2,2,  105.55,2,   42.91,2,       0,2,     3.2,2,   0.202,2,   0.102,2,-999.000,1,        0,2,  2340.4,2, 2333.23,6,   7.2862,2,       25,-999.000,9,-999.0000,9, -999.00,9, -999.00,9,  -999.0,9,  -999.0,-999.000,9,-999.000,     -999.0,9, -999.00,9, -999.00,9, -999.00,9,     -999.0,9,  -999.0,9, 20130521,     1021,  30.0002,-142.5816,    34.3704,2,     -999.0,9,     -999.0,9,     4.2525,2,     -999.0,9,     -999.0,9,-999.0000, -999.00,-999.000
318M20130321,       P02E,     116,          1,         19,         19,2,20130521,       0844,         30,  -142.5819,       4958,   870.5,   4.0115,  34.3245,2,  34.3235,2,     13.5,2,    13.2,2,   115.5,2,   43.57,2,       0,2,    3.28,2,-999.000,9,-999.000,9,-999.000,9,-999.0000,9,    2357,2, 2350.84,2,   7.2906,6,       25,-999.000,9,-999.0000,9, -999.00,9, -999.00,9,  -999.0,9,  -999.0,-999.000,9,-999.000,     -999.0,9, -999.00,9, -999.00,9, -999.00,9,     -999.0,9,  -999.0,9, 20130521,     1018,  30.0001,-142.5817,    34.4853,2,     -999.0,9,     -999.0,9,     4.0117,2,     -999.0,9,     -999.0,9,-999.0000, -999.00,-999.000
318M20130321,       P02E,     116,          1,         18,         18,2,20130521,       0844,         30,  -142.5819,       4958,   972.9,   3.7395,  34.4023,2,   34.401,2,     17.8,2,    18.1,2,  122.91,2,   43.64,2,       0,2,     3.3,2,   0.015,2,   0.010,2,-999.000,1,        0,2,  -999.0,9, -999.00,9,   7.3101,2,       25,-999.000,9,-999.0000,9, -999.00,9, -999.00,9,  -999.0,9,  -999.0,-999.000,9,-999.000,     -999.0,9, -999.00,9, -999.00,9, -999.00,9,     -999.0,9,  -999.0,9, 20130521,     1015,       30,-142.5819,    34.5632,2,     -999.0,9,     -999.0,9,     3.7395,2,     -999.0,9,     -999.0,9,-999.0000, -999.00,-999.000
318M20130321,       P02E,     116,          1,         17,         17,2,20130521,       0844,         30,  -142.5819,       4958,  1075.9,   3.4872,  34.4568,2,  34.4563,2,     25.9,2,    27.1,2,  128.47,2,   43.36,2,       0,2,    3.26,2,-999.000,9,-999.000,9,-999.000,9,-999.0000,9,  2365.5,2, 2374.84,2,   7.3333,2,       25,-999.000,9,-999.0000,9, -999.00,9, -999.00,9,  -999.0,9,  -999.0,-999.000,9,-999.000,     -999.0,9, -999.00,9, -999.00,9, -999.00,9,     -999.0,9,  -999.0,9, 20130521,     1012,  29.9999,-142.5818,    34.6188,2,     -999.0,9,     -999.0,9,     3.4868,2,     -999.0,9,     -999.0,9,-999.0000, -999.00,-999.000
318M20130321,       P02E,     116,          1,         16,         16,2,20130521,       0844,         30,  -142.5819,       4958,  1177.5,   3.2877,  34.4913,2,  34.4905,2,     35.2,2,    35.6,2,  132.57,2,   43.02,2,       0,2,    3.22,2,   0.007,2,   0.006,2,-999.000,1,        0,2,  -999.0,9, -999.00,9,-999.0000,9,  -999.00,-999.000,9,-999.0000,9, -999.00,9, -999.00,9,  -999.0,9,  -999.0,-999.000,9,-999.000,     -999.0,9, -999.00,9, -999.00,9, -999.00,9,     -999.0,9,  -999.0,9, 20130521,     1009,  29.9999,-142.5818,    34.6531,2,     -999.0,9,     -999.0,9,      3.287,2,     -999.0,9,     -999.0,9,-999.0000, -999.00,-999.000
318M20130321,       P02E,     116,          1,         15,         15,2,20130521,       0844,         30,  -142.5819,       4958,  1279.8,   3.0974,  34.5167,2,  34.5183,2,     42.8,2,    42.2,2,  136.76,2,   42.73,2,       0,2,    3.19,2,-999.000,9,-999.000,9,-999.000,9,-999.0000,9,  2367.5,2, 2388.55,2,   7.3675,2,       25,-999.000,9,-999.0000,9, -999.00,9, -999.00,9,  -999.0,9,  -999.0,-999.000,9,-999.000,     -999.0,9, -999.00,9, -999.00,9, -999.00,9,     -999.0,9,  -999.0,9, 20130521,     1006,       30,-142.5818,    34.6811,2,     -999.0,9,     -999.0,9,     3.0964,2,     -999.0,9,     -999.0,9,-999.0000, -999.00,-999.000
318M20130321,       P02E,     116,          1,         14,         14,2,20130521,       0844,         30,  -142.5819,       4958,    1442,   2.8111,  34.5481,2,  34.5472,2,     52.9,2,    53.7,2,  143.11,2,   42.16,2,       0,2,    3.14,2,   0.005,2,   0.002,2,-999.000,1,        0,2,  2367.7,2, 2396.55,2,   7.3885,2,       25,-999.000,9,-999.0000,9, -999.00,9, -999.00,9,  -999.0,9,  -999.0,-999.000,9,-999.000,     -999.0,9, -999.00,9, -999.00,9, -999.00,9,     -999.0,9,  -999.0,9, 20130521,     1001,       30,-142.5818,    34.7101,2,     -999.0,9,     -999.0,9,     2.8111,2,     -999.0,9,     -999.0,9,-999.0000, -999.00,-999.000
318M20130321,       P02E,     116,          1,         13,         13,2,20130521,       0844,         30,  -142.5819,       4958,  1665.1,   2.4171,  34.5809,2,  34.5806,2,     63.7,2,    63.3,2,  153.55,2,    41.6,2,       0,2,    3.07,2,-999.000,9,-999.000,9,-999.000,9,-999.0000,9,  -999.0,9, -999.00,9,-999.0000,9,  -999.00,-999.000,9,-999.0000,9, -999.00,9, -999.00,9,  -999.0,9,  -999.0,-999.000,9,-999.000,     -999.0,9, -999.00,9, -999.00,9, -999.00,9,     -999.0,9,  -999.0,9, 20130521,      956,  29.9999,-142.5817,    34.7436,2,     -999.0,9,     -999.0,9,     2.4156,2,     -999.0,9,     -999.0,9,-999.0000, -999.00,-999.000
318M20130321,       P02E,     116,          1,         12,         12,2,20130521,       0844,         30,  -142.5819,       4958,  1918.5,   2.1261,  34.6087,2,  34.6086,2,     76.1,2,    75.7,2,  161.65,2,   40.88,2,       0,2,    3.02,2,   0.005,2,   0.004,2,-999.000,1,        0,2,  2371.4,6, 2415.66,2,    7.434,2,       25,-999.000,9,-999.0000,9, -999.00,9, -999.00,9,  -999.0,9,  -999.0,-999.000,9,-999.000,     -999.0,9, -999.00,9, -999.00,9, -999.00,9,     -999.0,9,  -999.0,9, 20130521,      950,  29.9999,-142.5817,    34.7718,2,     -999.0,9,     -999.0,9,     2.1263,2,     -999.0,9,     -999.0,9,-999.0000, -999.00,-999.000
318M20130321,       P02E,     116,          1,         11,         11,2,20130521,       0844,         30,  -142.5819,       4958,  2188.8,   1.8951,  34.6297,2,    34.63,2,     87.7,2,    87.4,2,  167.11,2,   40.12,2,       0,2,    2.95,2,-999.000,9,-999.000,9,-999.000,9,-999.0000,9,  2369.2,2, 2421.06,2,   7.4585,2,       25,-999.000,9,-999.0000,9, -999.00,9, -999.00,9,  -999.0,9,  -999.0,-999.000,9,-999.000,     -999.0,9, -999.00,9, -999.00,9, -999.00,9,     -999.0,9,  -999.0,9, 20130521,      944,       30,-142.5817,    34.7933,2,     -999.0,9,     -999.0,9,     1.8953,2,     -999.0,9,     -999.0,9,-999.0000, -999.00,-999.000
318M20130321,       P02E,     116,          1,         10,         10,2,20130521,       0844,         30,  -142.5819,       4958,  2442.1,   1.7522,  34.6442,2,  34.6432,2,     98.4,2,    97.9,2,  169.65,2,   39.41,2,       0,2,    2.88,2,   0.004,2,   0.000,2,-999.000,1,        0,2,  -999.0,9, -999.00,9,-999.0000,9,  -999.00,-999.000,9,-999.0000,9, -999.00,9, -999.00,9,  -999.0,9,  -999.0,-999.000,9,-999.000,     -999.0,9, -999.00,9, -999.00,9, -999.00,9,     -999.0,9,  -999.0,9, 20130521,      938,       30,-142.5816,    34.8065,2,     -999.0,9,     -999.0,9,     1.7524,2,     -999.0,9,     -999.0,9,-999.0000, -999.00,-999.000
318M20130321,       P02E,     116,          1,          9,          9,2,20130521,       0844,         30,  -142.5819,       4958,  2696.8,   1.6599,  34.6541,2,  34.6536,2,    107.9,2,   106.6,2,  169.74,2,   38.88,2,       0,2,    2.83,2,-999.000,9,-999.000,9,-999.000,9,-999.0000,9,  2357.8,2, 2424.66,2,   7.4966,2,       25,-999.000,9,-999.0000,9, -999.00,9, -999.00,9,  -999.0,9,  -999.0,-999.000,9,-999.000,     -999.0,9, -999.00,9, -999.00,9, -999.00,9,     -999.0,9,  -999.0,9, 20130521,      932,  30.0001,-142.5816,     34.817,2,     -999.0,9,     -999.0,9,     1.6603,2,     -999.0,9,     -999.0,9,-999.0000, -999.00,-999.000
318M20130321,       P02E,     116,          1,          8,          8,2,20130521,       0844,         30,  -142.5819,       4958,  2952.9,   1.5746,  34.6632,2,  34.6634,2,    116.7,2,   117.1,2,  169.06,2,   38.27,2,       0,2,    2.78,2,   0.006,2,   0.000,2,-999.000,1,        0,2,  -999.0,9, -999.00,9,-999.0000,9,  -999.00,-999.000,9,-999.0000,9, -999.00,9, -999.00,9,  -999.0,9,  -999.0,-999.000,9,-999.000,     -999.0,9, -999.00,9, -999.00,9, -999.00,9,     -999.0,9,  -999.0,9, 20130521,      927,  30.0002,-142.5818,    34.8269,2,     -999.0,9,     -999.0,9,     1.5743,2,     -999.0,9,     -999.0,9,-999.0000, -999.00,-999.000
318M20130321,       P02E,     116,          1,          7,          7,2,20130521,       0844,         30,  -142.5819,       4958,  3244.8,   1.5246,  34.6705,2,  34.6701,2,    126.2,2,     126,2,  166.91,2,    37.7,2,       0,2,    2.73,2,-999.000,9,-999.000,9,-999.000,9,-999.0000,9,  2345.5,2, 2425.86,2,   7.5311,2,       25,-999.000,9,-999.0000,9, -999.00,9, -999.00,9,  -999.0,9,  -999.0,-999.000,9,-999.000,     -999.0,9, -999.00,9, -999.00,9, -999.00,9,     -999.0,9,  -999.0,9, 20130521,      920,  30.0003,-142.5818,    34.8336,2,     -999.0,9,     -999.0,9,     1.5247,2,     -999.0,9,     -999.0,9,-999.0000, -999.00,-999.000
318M20130321,       P02E,     116,          1,          6,          6,2,20130521,       0844,         30,  -142.5819,       4958,  3548.6,   1.4841,   34.678,2,  34.6775,2,    134.6,2,   135.2,2,  164.66,2,   37.11,2,       0,2,    2.67,2,   0.004,2,   0.004,2,-999.000,1,        0,2,  -999.0,9, -999.00,9,-999.0000,9,  -999.00,-999.000,9,-999.0000,9, -999.00,9, -999.00,9,  -999.0,9,  -999.0,-999.000,9,-999.000,     -999.0,9, -999.00,9, -999.00,9, -999.00,9,     -999.0,9,  -999.0,9, 20130521,      913,  30.0003,-142.5814,     34.841,2,     -999.0,9,     -999.0,9,      1.484,2,     -999.0,9,     -999.0,9,-999.0000, -999.00,-999.000