BOTTLE,20220817CCHSIOAMB
EXPOCODE,SECT_ID,STNNBR,CASTNO,SAMPNO,BTLNBR,BTLNBR_FLAG_W,DATE,TIME,LATITUDE,LONGITUDE,DEPTH,CTDPRS,CTDTMP,CTDSAL,CTDSAL_FLAG_W,SALNTY,SALNTY_FLAG_W,CTDOXY,CTDOXY_FLAG_W,OXYGEN,OXYGEN_FLAG_W,SILCAT,SILCAT_FLAG_W,NITRAT,NITRAT_FLAG_W,NITRIT,NITRIT_FLAG_W,PHSPHT,PHSPHT_FLAG_W,CFC-11,CFC-11_FLAG_W,CFC-12,CFC-12_FLAG_W,CFC113,CFC113_FLAG_W,SF6,SF6_FLAG_W,TCARBN,TCARBN_FLAG_W,ALKALI,ALKALI_FLAG_W,PH_TOT,PH_TOT_FLAG_W,PH_TMP,TRITUM,TRITUM_FLAG_W,HELIUM,HELIUM_FLAG_W,DELHE3,DELHE3_FLAG_W,DELC13,DELC13_FLAG_W,DELC14,DELC14_FLAG_W,C14ERR,NEON,NEON_FLAG_W,NEONER,I-129,I-129_FLAG_W,SR-90,SR-90_FLAG_W,DOC,DOC_FLAG_W,TDN,TDN_FLAG_W,CALCIUM,CALCIUM_FLAG_W,D15N_NO3,D15N_NO3_FLAG_W,BTL_DATE,BTL_TIME,BTL_LAT,BTL_LON,SALTREF,SALTREF_FLAG_W,CS-137,CS-137_FLAG_W,CS-134,CS-134_FLAG_W,REFTMP,REFTMP_FLAG_W,LAB_DEN,LAB_DEN_FLAG_W,D18O_NO3,D18O_NO3_FLAG_W,HELIER,DELHER,TRITER
,,,,,,,,,,,METERS,DBAR,ITS-90,PSS-78,,PSS-78,,UMOL/KG,,UMOL/KG,,UMOL/KG,,UMOL/KG,,UMOL/KG,,UMOL/KG,,PMOL/KG,,PMOL/KG,,PMOL/KG,,FMOL/KG,,UMOL/KG,,UMOL/KG,,,,DEG C,TU,,NMOL/KG,,PERCNT,,/MILLE,,/MILLE,,/MILLE,NMOL/KG,,NMOL/KG,BQ/M^3,,DM/.1MG,,UMOL/KG,,UMOL/KG,,MMOL/KG,,/MILLE,,,,,,G/KG,,BQ/M^3,,BQ/M^3,,ITS-90,,,,/MILLE,,NMOL/KG,PERCNT,TU
318M20130321,       P02E,     147,          1,         36,         36,2,20130530,       0949,    31.5297,  -120.7555,       3909,    10.6,  15.5109,   33.379,2,  33.3797,2,    252.3,2,   253.3,2,    2.83,2,       0,2,       0,2,    0.31,2,   2.547,2,   1.479,2,-999.000,1,    1.588,2,  2013.9,6, 2226.09,2,   7.9053,2,       25,   0.623,2,   1.7634,2,   -0.79,2, -999.00,9,  -999.0,9,  -999.0,   7.322,2,   0.034,     -999.0,1, -999.00,9,   63.05,2,    4.88,2,     -999.0,9,  -999.0,9, 20130530,     1136,  31.5296,-120.7548,    33.5371,2,     -999.0,9,     -999.0,9,     15.511,2,     -999.0,9,     -999.0,9,   0.0074,    0.15,   0.011
318M20130321,       P02E,     147,          1,         34,         34,2,20130530,       0949,    31.5297,  -120.7555,       3909,    36.4,  15.5166,  33.3778,2,  33.3789,2,    252.6,2,   253.3,2,    2.83,2,       0,2,       0,2,    0.31,2,   2.542,2,   1.506,2,-999.000,1,   1.5755,2,  2014.1,2, 2225.89,6,   7.9052,2,       25,   0.636,2,   1.7643,2,   -0.57,2, -999.00,9,  -999.0,9,  -999.0,   7.223,2,   0.033,     -999.0,9, -999.00,9,   63.94,2,    4.41,2,     -999.0,9,  -999.0,9, 20130530,     1134,  31.5292,-120.7542,    33.5363,2,     -999.0,9,     -999.0,9,    15.5159,2,     -999.0,9,     -999.0,9,   0.0074,    0.15,   0.011
318M20130321,       P02E,     147,          1,         33,         33,2,20130530,       0949,    31.5297,  -120.7555,       3909,    60.5,  12.2516,  33.2666,2,  33.2705,2,    276.6,2,   255.2,2,    5.18,2,    3.57,2,    0.19,2,     0.6,2,-999.000,9,-999.000,9,-999.000,9,-999.0000,9,  2040.1,2, 2218.39,2,   7.8274,6,       25,-999.000,9,-999.0000,9, -999.00,9, -999.00,9,  -999.0,9,  -999.0,-999.000,9,-999.000,     -999.0,9, -999.00,9,   55.88,2,    8.63,2,     -999.0,9,  -999.0,9, 20130530,     1133,  31.5291, -120.754,    33.4274,2,     -999.0,9,     -999.0,9,    12.2676,2,     -999.0,9,     -999.0,9,-999.0000, -999.00,-999.000
318M20130321,       P02E,     147,          1,         32,         32,2,20130530,       0949,    31.5297,  -120.7555,       3909,    86.1,  11.5415,   33.468,2,  33.4815,2,    234.7,2,   225.7,2,    8.99,2,   10.52,2,    0.03,2,    1.02,2,   3.027,2,   1.745,2,-999.000,1,   1.6411,2,  2083.8,2, 2227.19,2,   7.7424,6,       25,-999.000,9,-999.0000,9, -999.00,9, -999.00,9,  -999.0,9,  -999.0,-999.000,9,-999.000,     -999.0,9, -999.00,9,   56.28,2,   15.64,2,     -999.0,9,  -999.0,9, 20130530,     1131,   31.529,-120.7541,    33.6393,2,     -999.0,9,     -999.0,9,    11.6516,3,     -999.0,9,     -999.0,9,-999.0000, -999.00,-999.000
318M20130321,       P02E,     147,          1,         31,         31,2,20130530,       0949,    31.5297,  -120.7555,       3909,   111.6,  10.2392,   33.541,2,  33.5327,2,    186.6,2,     181,2,   15.92,2,   17.09,2,    0.02,2,     1.4,2,-999.000,9,-999.000,9,-999.000,9,-999.0000,9,  2122.8,2, 2227.19,2,   7.6344,2,       25,   0.526,2,   1.7930,2,    0.50,2, -999.00,9,  -999.0,9,  -999.0,   7.552,2,   0.035,     -999.0,9, -999.00,9,   50.69,2,   22.04,2,     -999.0,9,  -999.0,9, 20130530,     1129,  31.5294,-120.7545,    33.6908,2,     -999.0,9,     -999.0,9,    10.2021,3,     -999.0,9,     -999.0,9,   0.0075,    0.15,   0.010
318M20130321,       P02E,     147,          1,         30,         30,2,20130530,       0949,    31.5297,  -120.7555,       3909,   165.1,   9.0572,  33.9013,2,  33.9013,2,    112.1,2,   110.4,2,   30.47,2,   26.67,2,    0.01,2,    2.02,2,   2.886,2,   1.574,2,-999.000,1,   0.9455,2,  2195.5,2,  2250.5,2,   7.4816,2,       25,-999.000,9,-999.0000,9, -999.00,9, -999.00,9,  -999.0,9,  -999.0,-999.000,9,-999.000,     -999.0,9, -999.00,9,   51.67,2,   31.92,3,     -999.0,9,  -999.0,9, 20130530,     1127,  31.5297,-120.7551,    34.0611,2,     -999.0,9,     -999.0,9,     9.0582,2,     -999.0,9,     -999.0,9,-999.0000, -999.00,-999.000
318M20130321,       P02E,     147,          1,         29,         29,2,20130530,       0949,    31.5297,  -120.7555,       3909,   215.7,   8.3107,  34.0173,2,  34.0178,2,     90.4,2,    93.3,2,    37.5,2,   29.51,2,    0.02,2,    2.21,2,-999.000,9,-999.000,9,-999.000,9,-999.0000,9,  2215.5,2,  2262.6,2,   7.4477,2,       25,   0.440,2,   1.8077,2,    6.90,2, -999.00,9,  -999.0,9,  -999.0,   7.744,2,   0.036,     -999.0,9, -999.00,9, -999.00,5,   36.59,3,     -999.0,9,  -999.0,9, 20130530,     1125,  31.5297,-120.7555,    34.1782,2,     -999.0,9,     -999.0,9,     8.3112,2,     -999.0,9,     -999.0,9,   0.0076,    0.15,   0.010
318M20130321,       P02E,     147,          1,         27,         27,2,20130530,       0949,    31.5297,  -120.7555,       3909,   265.9,   7.6674,  34.0655,2,  34.0639,2,     76.7,2,    75.7,2,   45.41,2,   32.17,2,    0.01,2,    2.39,2,   2.292,2,   1.186,2,-999.000,1,   0.5768,2,  2238.8,2, 2270.41,2,   7.4078,2,       25,-999.000,9,-999.0000,9, -999.00,9, -999.00,9,  -999.0,9,  -999.0,-999.000,9,-999.000,     -999.0,9, -999.00,9, -999.00,5,   38.73,3,     -999.0,9,  -999.0,9, 20130530,     1123,  31.5297,-120.7555,    34.2245,2,     -999.0,9,     -999.0,9,      7.656,2,     -999.0,9,     -999.0,9,-999.0000, -999.00,-999.000
318M20130321,       P02E,     147,          1,         26,         26,2,20130530,       0949,    31.5297,  -120.7555,       3909,   315.4,   7.2996,  34.1435,2,  34.1446,2,     49.9,2,    46.6,2,   54.29,2,   34.86,2,    0.01,2,    2.67,2,-999.000,9,-999.000,9,-999.000,9,-999.0000,9,  2267.5,2, 2283.31,2,   7.3562,2,       25,   0.343,2,   1.8182,2,   12.03,2, -999.00,9,  -999.0,9,  -999.0,   7.779,2,   0.036,     -999.0,9, -999.00,9, -999.00,5,   41.96,3,     -999.0,9,  -999.0,9, 20130530,     1121,  31.5297,-120.7555,    34.3056,2,     -999.0,9,     -999.0,9,     7.2977,2,     -999.0,9,     -999.0,9,   0.0076,    0.15,   0.010
318M20130321,       P02E,     147,          1,         25,         25,2,20130530,       0949,    31.5297,  -120.7555,       3909,   367.3,   6.5267,  34.1155,2,  34.1152,2,     42.9,2,    44.9,2,    62.4,2,    36.9,2,    0.01,2,    2.75,2,   1.412,2,   0.698,2,-999.000,1,   0.1751,2,  2277.6,2, 2289.71,2,   7.3413,2,       25,-999.000,9,-999.0000,9, -999.00,9, -999.00,9,  -999.0,9,  -999.0,-999.000,9,-999.000,     -999.0,9, -999.00,9, -999.00,5, -999.00,9,     -999.0,9,  -999.0,9, 20130530,     1119,  31.5297,-120.7555,    34.2761,2,     -999.0,9,     -999.0,9,     6.5271,2,     -999.0,9,     -999.0,9,-999.0000, -999.00,-999.000
318M20130321,       P02E,     147,          1,         24,         24,2,20130530,       0949,    31.5297,  -120.7555,       3909,   418.5,   6.1736,   34.162,2,  34.1611,2,       30,2,    32.1,2,   69.82,2,   38.47,2,       0,2,     2.9,2,-999.000,9,-999.000,9,-999.000,9,-999.0000,9,  -999.0,9, -999.00,9,-999.0000,9,  -999.00,   0.269,2,   1.8370,2,   14.50,2, -999.00,9,  -999.0,9,  -999.0,   7.827,2,   0.036,     -999.0,9, -999.00,9, -999.00,5, -999.00,9,     -999.0,9,  -999.0,9, 20130530,     1118,  31.5297,-120.7555,    34.3222,2,     -999.0,9,     -999.0,9,     6.1706,2,     -999.0,9,     -999.0,9,   0.0077,    0.15,   0.011
318M20130321,       P02E,     147,          1,         23,         23,2,20130530,       0949,    31.5297,  -120.7555,       3909,   468.1,   6.1286,  34.2615,2,  34.2609,2,     22.1,2,    18.3,2,   74.69,2,   39.02,2,       0,2,    3.03,2,   0.444,2,   0.219,2,-999.000,1,   0.0481,2,  2309.2,2, 2310.92,2,   7.3118,2,       25,-999.000,9,-999.0000,9, -999.00,9, -999.00,9,  -999.0,9,  -999.0,-999.000,9,-999.000,     -999.0,9, -999.00,9,   40.11,2, -999.00,9,     -999.0,9,  -999.0,9, 20130530,     1116,  31.5297,-120.7554,    34.4224,2,     -999.0,9,     -999.0,9,     6.1282,2,     -999.0,9,     -999.0,9,-999.0000, -999.00,-999.000
318M20130321,       P02E,     147,          1,         22,         22,2,20130530,       0949,    31.5297,  -120.7555,       3909,   538.8,    5.758,  34.3167,2,   34.316,2,       12,2,    12.9,2,    82.3,2,   40.26,2,       0,2,    3.12,2,-999.000,9,-999.000,9,-999.000,9,-999.0000,9,  2321.7,2, 2322.42,2,   7.3073,6,       25,   0.101,2,   1.8571,2,   14.28,2, -999.00,9,  -999.0,9,  -999.0,   7.826,2,   0.036,     -999.0,9, -999.00,9,   40.96,2, -999.00,9,     -999.0,9,  -999.0,9, 20130530,     1113,  31.5297,-120.7555,    34.4778,2,     -999.0,9,     -999.0,9,     5.7588,2,     -999.0,9,     -999.0,9,   0.0078,    0.15,   0.011
318M20130321,       P02E,     147,          1,         21,         21,2,20130530,       0949,    31.5297,  -120.7555,       3909,   639.6,   5.2537,  34.3678,2,  34.3678,2,     10.4,2,    10.8,2,   91.87,2,   41.62,2,       0,2,    3.19,2,   0.075,2,   0.043,2,-999.000,1,        0,2,  2333.5,2, 2335.33,2,   7.3066,2,       25,   0.042,2,   1.8584,2,   14.33,2, -999.00,9,  -999.0,9,  -999.0,   7.935,2,   0.036,     -999.0,9, -999.00,9,    38.7,2, -999.00,9,     -999.0,9,  -999.0,9, 20130530,     1110,  31.5297,-120.7555,    34.5299,2,     -999.0,9,     -999.0,9,     5.2546,2,     -999.0,9,     -999.0,9,   0.0078,    0.15,   0.010
318M20130321,       P02E,     147,          1,         20,         20,2,20130530,       0949,    31.5297,  -120.7555,       3909,   741.7,   4.9067,  34.4021,2,  34.4014,2,     11.5,2,    11.8,2,    98.6,2,   42.37,2,       0,2,    3.21,2,-999.000,9,-999.000,9,-999.000,9,-999.0000,9,  2340.8,2, 2347.03,2,   7.3135,2,       25,   0.016,2,   1.8520,2,   15.40,2, -999.00,9,  -999.0,9,  -999.0,   8.034,2,   0.037,     -999.0,9, -999.00,9,   38.77,2, -999.00,9,     -999.0,9,  -999.0,9, 20130530,     1108,  31.5297,-120.7555,    34.5636,2,     -999.0,9,     -999.0,9,     4.9078,2,     -999.0,9,     -999.0,9,   0.0078,    0.15,   0.010
318M20130321,       P02E,     147,          1,         19,         19,2,20130530,       0949,    31.5297,  -120.7555,       3909,   841.9,   4.5398,  34.4325,2,  34.4324,2,     14.8,2,    15.1,2,  106.02,2,   42.97,2,       0,2,    3.22,2,   0.026,2,   0.021,2,-999.000,1,  -0.0134,2,  2348.4,2, 2354.14,2,   7.3192,2,       25,-999.000,9,-999.0000,9, -999.00,9, -999.00,9,  -999.0,9,  -999.0,-999.000,9,-999.000,     -999.0,9, -999.00,9, -999.00,5, -999.00,9,     -999.0,9,  -999.0,9, 20130530,     1105,  31.5297,-120.7555,    34.5947,2,     -999.0,9,     -999.0,9,     4.5397,2,     -999.0,9,     -999.0,9,-999.0000, -999.00,-999.000
318M20130321,       P02E,     147,          1,         18,         18,2,20130530,       0949,    31.5297,  -120.7555,       3909,   943.7,   4.2086,  34.4607,2,  34.4608,2,     19.2,2,      19,2,  113.14,2,   43.29,2,       0,2,    3.22,2,-999.000,9,-999.000,9,-999.000,9,-999.0000,9,  -999.0,9, -999.00,9,-999.0000,9,  -999.00,   0.013,2,   1.8657,2,   18.49,2, -999.00,9,  -999.0,9,  -999.0,   8.008,2,   0.037,     -999.0,9, -999.00,9,   37.57,2, -999.00,9,     -999.0,9,  -999.0,9, 20130530,     1102,  31.5297,-120.7555,    34.6233,2,     -999.0,9,     -999.0,9,     4.2087,2,     -999.0,9,     -999.0,9,   0.0078,    0.15,   0.010
318M20130321,       P02E,     147,          1,         17,         17,2,20130530,       0949,    31.5297,  -120.7555,       3909,  1044.1,   3.8652,  34.4893,2,  34.4913,2,     25.8,2,    25.4,2,  121.05,2,   43.36,2,       0,2,    3.19,2,   0.020,2,   0.016,2,-999.000,1,  -0.0035,2,  2359.4,2, 2372.94,2,   7.3358,2,       25,   0.011,2,   1.8762,2,   20.12,2, -999.00,9,  -999.0,9,  -999.0,   8.040,2,   0.037,     -999.0,9, -999.00,9, -999.00,5, -999.00,9,     -999.0,9,  -999.0,9, 20130530,     1059,  31.5297,-120.7555,    34.6539,2,     -999.0,9,     -999.0,9,     3.8616,2,     -999.0,9,     -999.0,9,   0.0079,    0.15,   0.010
318M20130321,       P02E,     147,          1,         16,         16,2,20130530,       0949,    31.5297,  -120.7555,       3909,  1143.8,   3.6196,  34.5084,2,  34.5084,2,     30.8,2,    30.7,2,  126.32,2,   43.28,2,       0,2,    3.18,2,-999.000,9,-999.000,9,-999.000,9,-999.0000,9,  -999.0,9, -999.00,9,-999.0000,9,  -999.00,   0.012,2,   1.9045,2,   20.87,2, -999.00,9,  -999.0,9,  -999.0,   8.002,2,   0.037,     -999.0,9, -999.00,9,   39.51,2, -999.00,9,     -999.0,9,  -999.0,9, 20130530,     1056,  31.5297,-120.7555,    34.6711,2,     -999.0,9,     -999.0,9,      3.621,2,     -999.0,9,     -999.0,9,   0.0080,    0.15,   0.010
318M20130321,       P02E,     147,          1,         15,         15,2,20130530,       0949,    31.5297,  -120.7555,       3909,  1247.9,   3.3601,  34.5273,2,  34.5272,2,     35.6,2,    34.9,2,  133.05,2,   43.18,2,       0,2,    3.16,2,   0.021,2,   0.019,2,-999.000,1,        0,2,  -999.0,9, -999.00,9,-999.0000,9,  -999.00,-999.000,9,-999.0000,9, -999.00,9, -999.00,9,  -999.0,9,  -999.0,-999.000,9,-999.000,     -999.0,9, -999.00,9,   39.14,2, -999.00,9,     -999.0,9,  -999.0,9, 20130530,     1053,  31.5297,-120.7555,      34.69,2,     -999.0,9,     -999.0,9,     3.3599,2,     -999.0,9,     -999.0,9,-999.0000, -999.00,-999.000
318M20130321,       P02E,     147,          1,         14,         14,2,20130530,       0949,    31.5297,  -120.7555,       3909,  1346.1,   3.1139,  34.5435,2,  34.5431,2,     41.1,2,    40.7,2,  138.81,2,   42.93,2,       0,2,    3.13,2,-999.000,9,-999.000,9,-999.000,9,-999.0000,9,  2370.7,2, 2392.55,2,   7.3694,2,       25,  -0.004,2,   1.9236,2,   22.13,2, -999.00,9,  -999.0,9,  -999.0,   8.211,2,   0.038,     -999.0,9, -999.00,9,   35.21,2, -999.00,9,     -999.0,9,  -999.0,9, 20130530,     1050,  31.5297,-120.7555,     34.706,2,     -999.0,9,     -999.0,9,     3.1144,2,     -999.0,9,     -999.0,9,   0.0081,    0.15,   0.010
318M20130321,       P02E,     147,          1,         13,         13,2,20130530,       0949,    31.5297,  -120.7555,       3909,  1448.4,   2.9015,  34.5587,2,  34.5588,2,     46.4,2,    45.9,2,  144.47,2,   42.63,2,       0,2,    3.09,2,   0.017,2,   0.021,2,-999.000,1,        0,2,  2371.1,2, 2397.55,2,   7.3805,2,       25,  -0.004,2,   1.9388,2,   22.83,2, -999.00,9,  -999.0,9,  -999.0,   8.186,2,   0.038,     -999.0,9, -999.00,9,    36.1,2, -999.00,9,     -999.0,9,  -999.0,9, 20130530,     1047,  31.5297,-120.7555,    34.7218,2,     -999.0,9,     -999.0,9,     2.9012,2,     -999.0,9,     -999.0,9,   0.0081,    0.15,   0.010
318M20130321,       P02E,     147,          1,         12,         12,2,20130530,       0949,    31.5297,  -120.7555,       3909,  1550.4,   2.7384,  34.5692,2,  34.5669,2,     50.9,2,    50.6,2,  148.18,2,   42.44,2,       0,2,    3.07,2,-999.000,9,-999.000,9,-999.000,9,-999.0000,9,  -999.0,9, -999.00,9,-999.0000,9,  -999.00,-999.000,9,-999.0000,9, -999.00,9, -999.00,9,  -999.0,9,  -999.0,-999.000,9,-999.000,     -999.0,9, -999.00,9,   36.36,2, -999.00,9,     -999.0,9,  -999.0,9, 20130530,     1044,  31.5297,-120.7555,    34.7299,2,     -999.0,9,     -999.0,9,      2.739,2,     -999.0,9,     -999.0,9,-999.0000, -999.00,-999.000
318M20130321,       P02E,     147,          1,         11,         11,2,20130530,       0949,    31.5297,  -120.7555,       3909,  1681.5,   2.4903,  34.5879,2,  34.5891,2,     59.2,2,    59.2,2,  154.72,2,   41.95,2,       0,2,    3.02,2,   0.008,2,   0.012,2,-999.000,1,        0,2,  2373.2,2, 2408.26,2,   7.4049,2,       25,   0.022,2,   1.9177,2,   23.52,2, -999.00,9,  -999.0,9,  -999.0,   8.230,2,   0.038,     -999.0,9, -999.00,9,    35.9,2, -999.00,9,     -999.0,9,  -999.0,9, 20130530,     1040,  31.5297,-120.7555,    34.7522,2,     -999.0,9,     -999.0,9,     2.4908,2,     -999.0,9,     -999.0,9,   0.0081,    0.15,   0.010
318M20130321,       P02E,     147,          1,         10,         10,2,20130530,       0949,    31.5297,  -120.7555,       3909,  1884.2,   2.2163,  34.6102,2,  34.6111,2,     72.1,2,    72.7,2,  160.57,2,   41.22,2,       0,2,    2.94,2,-999.000,9,-999.000,9,-999.000,9,-999.0000,9,  -999.0,9, -999.00,9,-999.0000,9,  -999.00,-999.000,9,-999.0000,9, -999.00,9, -999.00,9,  -999.0,9,  -999.0,-999.000,9,-999.000,     -999.0,9, -999.00,9,   36.27,2, -999.00,9,     -999.0,9,  -999.0,9, 20130530,     1035,  31.5297,-120.7555,    34.7743,2,     -999.0,9,     -999.0,9,     2.2169,2,     -999.0,9,     -999.0,9,-999.0000, -999.00,-999.000
318M20130321,       P02E,     147,          1,          9,          9,2,20130530,       0949,    31.5297,  -120.7555,       3909,    2106,   2.0052,  34.6323,2,  34.6327,2,     85.9,2,    86.5,2,  162.81,2,   40.39,2,       0,2,    2.86,2,   0.002,2,   0.007,2,-999.000,1,        0,2,  2368.3,2, 2420.36,2,     7.46,2,       25,   0.013,2,   1.9270,2,   24.41,2, -999.00,9,  -999.0,9,  -999.0,   8.193,2,   0.038,     -999.0,9, -999.00,9,    35.9,2, -999.00,9,     -999.0,9,  -999.0,9, 20130530,     1030,  31.5297,-120.7555,     34.796,2,     -999.0,9,     -999.0,9,     2.0051,2,     -999.0,9,     -999.0,9,   0.0081,    0.15,   0.010
318M20130321,       P02E,     147,          1,          8,          8,2,20130530,       0949,    31.5297,  -120.7555,       3909,  2361.7,   1.8688,   34.646,2,  34.6457,2,     97.4,2,    97.8,2,  164.47,2,   39.75,2,       0,2,     2.8,2,-999.000,9,-999.000,9,-999.000,9,-999.0000,9,  -999.0,9, -999.00,9,-999.0000,9,  -999.00,-999.000,9,-999.0000,9, -999.00,9, -999.00,9,  -999.0,9,  -999.0,-999.000,9,-999.000,     -999.0,9, -999.00,9,   36.84,2, -999.00,9,     -999.0,9,  -999.0,9, 20130530,     1025,  31.5296,-120.7554,     34.809,2,     -999.0,9,     -999.0,9,     1.8687,2,     -999.0,9,     -999.0,9,-999.0000, -999.00,-999.000
318M20130321,       P02E,     147,          1,          7,          7,2,20130530,       0949,    31.5297,  -120.7555,       3909,    2617,   1.7558,   34.656,2,  34.6568,2,      107,2,   106.2,2,  166.03,2,   39.17,2,       0,2,    2.75,2,   0.004,2,   0.005,2,-999.000,1,        0,2,  2361.1,2, 2426.96,2,   7.4994,6,       25,-999.000,9,-999.0000,9, -999.00,9, -999.00,9,  -999.0,9,  -999.0,-999.000,9,-999.000,     -999.0,9, -999.00,9,   39.22,2, -999.00,9,     -999.0,9,  -999.0,9, 20130530,     1019,  31.5297,-120.7555,    34.8203,2,     -999.0,9,     -999.0,9,     1.7558,2,     -999.0,9,     -999.0,9,-999.0000, -999.00,-999.000
318M20130321,       P02E,     147,          1,          6,          6,2,20130530,       0949,    31.5297,  -120.7555,       3909,  2871.9,   1.6776,   34.663,2,  34.6635,2,    114.3,2,   113.4,2,   167.3,2,   38.72,2,       0,2,     2.7,2,-999.000,9,-999.000,9,-999.000,9,-999.0000,9,  -999.0,9, -999.00,9,-999.0000,9,  -999.00,-999.000,9,-999.0000,9, -999.00,9, -999.00,9,  -999.0,9,  -999.0,-999.000,9,-999.000,     -999.0,9, -999.00,9,   35.89,2, -999.00,9,     -999.0,9,  -999.0,9, 20130530,     1013,  31.5297,-120.7555,     34.827,2,     -999.0,9,     -999.0,9,     1.6774,2,     -999.0,9,     -999.0,9,-999.0000, -999.00,-999.000