BOTTLE,20220817CCHSIOAMB
EXPOCODE,SECT_ID,STNNBR,CASTNO,SAMPNO,BTLNBR,BTLNBR_FLAG_W,DATE,TIME,LATITUDE,LONGITUDE,DEPTH,CTDPRS,CTDTMP,CTDSAL,CTDSAL_FLAG_W,SALNTY,SALNTY_FLAG_W,CTDOXY,CTDOXY_FLAG_W,OXYGEN,OXYGEN_FLAG_W,SILCAT,SILCAT_FLAG_W,NITRAT,NITRAT_FLAG_W,NITRIT,NITRIT_FLAG_W,PHSPHT,PHSPHT_FLAG_W,CFC-11,CFC-11_FLAG_W,CFC-12,CFC-12_FLAG_W,CFC113,CFC113_FLAG_W,SF6,SF6_FLAG_W,TCARBN,TCARBN_FLAG_W,ALKALI,ALKALI_FLAG_W,PH_TOT,PH_TOT_FLAG_W,PH_TMP,TRITUM,TRITUM_FLAG_W,HELIUM,HELIUM_FLAG_W,DELHE3,DELHE3_FLAG_W,DELC13,DELC13_FLAG_W,DELC14,DELC14_FLAG_W,C14ERR,NEON,NEON_FLAG_W,NEONER,I-129,I-129_FLAG_W,SR-90,SR-90_FLAG_W,DOC,DOC_FLAG_W,TDN,TDN_FLAG_W,CALCIUM,CALCIUM_FLAG_W,D15N_NO3,D15N_NO3_FLAG_W,BTL_DATE,BTL_TIME,BTL_LAT,BTL_LON,SALTREF,SALTREF_FLAG_W,CS-137,CS-137_FLAG_W,CS-134,CS-134_FLAG_W,REFTMP,REFTMP_FLAG_W,LAB_DEN,LAB_DEN_FLAG_W,D18O_NO3,D18O_NO3_FLAG_W,HELIER,DELHER,TRITER
,,,,,,,,,,,METERS,DBAR,ITS-90,PSS-78,,PSS-78,,UMOL/KG,,UMOL/KG,,UMOL/KG,,UMOL/KG,,UMOL/KG,,UMOL/KG,,PMOL/KG,,PMOL/KG,,PMOL/KG,,FMOL/KG,,UMOL/KG,,UMOL/KG,,,,DEG C,TU,,NMOL/KG,,PERCNT,,/MILLE,,/MILLE,,/MILLE,NMOL/KG,,NMOL/KG,BQ/M^3,,DM/.1MG,,UMOL/KG,,UMOL/KG,,MMOL/KG,,/MILLE,,,,,,G/KG,,BQ/M^3,,BQ/M^3,,ITS-90,,,,/MILLE,,NMOL/KG,PERCNT,TU
318M20130321,       P02W,      29,          1,          7,          7,2,20130413,       0111,    30.0002,   143.1775,       6005,  3652.2,   1.5139,  34.6754,2,  34.6758,2,    142.2,2,   142.2,2,  151.68,2,   36.53,2,    0.01,2,    2.57,2,   0.004,2,   0.015,2,   0.000,2,        0,2,    2331,2, 2413.76,2,   7.5507,2,       25,-999.000,9,-999.0000,9, -999.00,9,    0.15,2,  -228.6,2,     2.2,-999.000,9,-999.000,     -999.0,9, -999.00,9,   34.57,2, -999.00,9,     -999.0,9,  -999.0,9, 20130413,      200,  30.0003, 143.1781,    34.8393,2,     -999.0,9,     -999.0,9,     1.5138,2,     -999.0,9,     -999.0,9,-999.0000, -999.00,-999.000
318M20130321,       P02W,      29,          1,          6,          6,2,20130413,       0111,    30.0002,   143.1775,       6005,  4056.1,    1.494,  34.6816,2,  34.6818,2,    148.7,2,   148.5,2,  150.31,2,   36.09,2,    0.01,2,    2.54,2,-999.000,9,-999.000,9,-999.000,9,-999.0000,9,  -999.0,9, -999.00,9,-999.0000,9,  -999.00,-999.000,9,-999.0000,9, -999.00,9,    0.20,2,  -222.8,2,     2.4,-999.000,9,-999.000,     -999.0,9, -999.00,9, -999.00,9, -999.00,9,     -999.0,9,  -999.0,9, 20130413,      152,  30.0001, 143.1772,    34.8454,2,     -999.0,9,     -999.0,9,      1.494,2,     -999.0,9,     -999.0,9,-999.0000, -999.00,-999.000
318M20130321,       P02W,      29,          1,          5,         37,2,20130413,       0111,    30.0002,   143.1775,       6005,  4469.2,    1.492,  34.6864,2,  34.6869,2,    154.6,2,     155,2,  148.65,2,   35.71,2,    0.01,2,     2.5,2,   0.003,2,   0.014,2,   0.004,2,        0,2,  2321.6,2, 2412.66,6,   7.5715,2,       25,-999.000,9,-999.0000,9, -999.00,9,    0.25,2,  -217.3,2,     1.8,-999.000,9,-999.000,     -999.0,9, -999.00,9,   36.21,2, -999.00,9,     -999.0,9,  -999.0,9, 20130413,      144,  30.0006, 143.1772,    34.8505,2,     -999.0,9,     -999.0,9,     1.4923,2,     -999.0,9,     -999.0,9,-999.0000, -999.00,-999.000
318M20130321,       P02W,      29,          1,          4,          4,2,20130413,       0111,    30.0002,   143.1775,       6005,  4880.9,   1.5053,    34.69,2,  34.6893,2,    158.3,2,   159.6,2,  146.41,2,   35.32,2,    0.01,2,    2.47,2,-999.000,9,-999.000,9,-999.000,9,-999.0000,9,  -999.0,9, -999.00,9,-999.0000,9,  -999.00,-999.000,9,-999.0000,9, -999.00,9,    0.28,2,  -213.7,2,     2.0,-999.000,9,-999.000,     -999.0,9, -999.00,9, -999.00,9, -999.00,9,     -999.0,9,  -999.0,9, 20130413,      136,  30.0006, 143.1771,    34.8529,2,     -999.0,9,     -999.0,9,     1.5057,2,     -999.0,9,     -999.0,9,-999.0000, -999.00,-999.000
318M20130321,       P02W,      29,          1,          3,          3,2,20130413,       0111,    30.0002,   143.1775,       6005,  5292.4,    1.537,  34.6917,2,  34.6918,2,    161.8,2,   162.7,2,  144.26,2,   35.09,2,    0.01,2,    2.45,2,   0.005,2,   0.019,2,   0.000,2,     0.05,2,  2313.6,2, 2408.96,2,    7.582,2,       25,-999.000,9,-999.0000,9, -999.00,9,    0.29,2,  -212.4,2,     1.8,-999.000,9,-999.000,     -999.0,9, -999.00,9,   35.52,2, -999.00,9,     -999.0,9,  -999.0,9, 20130413,      129,  30.0002, 143.1776,    34.8554,2,     -999.0,9,     -999.0,9,     1.5372,2,     -999.0,9,     -999.0,9,-999.0000, -999.00,-999.000
318M20130321,       P02W,      29,          1,          2,          2,2,20130413,       0111,    30.0002,   143.1775,       6005,  5703.1,    1.579,  34.6929,2,  34.6926,2,    164.8,2,   165.1,2,   142.7,2,   34.93,2,    0.01,2,    2.44,2,-999.000,9,-999.000,9,-999.000,9,-999.0000,9,  2312.8,6, 2407.66,2,   7.5848,2,       25,-999.000,9,-999.0000,9, -999.00,9,    0.30,2,  -205.5,2,     2.4,-999.000,9,-999.000,     -999.0,9, -999.00,9, -999.00,5, -999.00,9,     -999.0,9,  -999.0,9, 20130413,      120,  29.9998, 143.1772,    34.8562,2,     -999.0,9,     -999.0,9,     1.5793,2,     -999.0,9,     -999.0,9,-999.0000, -999.00,-999.000
318M20130321,       P02W,      29,          1,          1,          1,2,20130413,       0111,    30.0002,   143.1775,       6005,    6117,   1.6293,  34.6931,2,  34.6944,2,    167.1,2,   166.3,2,  141.24,2,    34.8,2,    0.01,2,    2.43,2,   0.001,2,   0.015,2,   0.008,2,     0.06,2,  2309.9,2, 2406.05,2,   7.5862,6,       25,-999.000,9,-999.0000,9, -999.00,9,    0.42,2,  -207.5,2,     1.6,-999.000,9,-999.000,     -999.0,9, -999.00,9,   36.25,2, -999.00,9,     -999.0,9,  -999.0,9, 20130413,      111,  30.0002, 143.1775,     34.858,2,     -999.0,9,     -999.0,9,     1.6293,2,     -999.0,9,     -999.0,9,-999.0000, -999.00,-999.000