BOTTLE,20220817CCHSIOAMB
EXPOCODE,SECT_ID,STNNBR,CASTNO,SAMPNO,BTLNBR,BTLNBR_FLAG_W,DATE,TIME,LATITUDE,LONGITUDE,DEPTH,CTDPRS,CTDTMP,CTDSAL,CTDSAL_FLAG_W,SALNTY,SALNTY_FLAG_W,CTDOXY,CTDOXY_FLAG_W,OXYGEN,OXYGEN_FLAG_W,SILCAT,SILCAT_FLAG_W,NITRAT,NITRAT_FLAG_W,NITRIT,NITRIT_FLAG_W,PHSPHT,PHSPHT_FLAG_W,CFC-11,CFC-11_FLAG_W,CFC-12,CFC-12_FLAG_W,CFC113,CFC113_FLAG_W,SF6,SF6_FLAG_W,TCARBN,TCARBN_FLAG_W,ALKALI,ALKALI_FLAG_W,PH_TOT,PH_TOT_FLAG_W,PH_TMP,TRITUM,TRITUM_FLAG_W,HELIUM,HELIUM_FLAG_W,DELHE3,DELHE3_FLAG_W,DELC13,DELC13_FLAG_W,DELC14,DELC14_FLAG_W,C14ERR,NEON,NEON_FLAG_W,NEONER,I-129,I-129_FLAG_W,SR-90,SR-90_FLAG_W,DOC,DOC_FLAG_W,TDN,TDN_FLAG_W,CALCIUM,CALCIUM_FLAG_W,D15N_NO3,D15N_NO3_FLAG_W,BTL_DATE,BTL_TIME,BTL_LAT,BTL_LON,SALTREF,SALTREF_FLAG_W,CS-137,CS-137_FLAG_W,CS-134,CS-134_FLAG_W,REFTMP,REFTMP_FLAG_W,LAB_DEN,LAB_DEN_FLAG_W,D18O_NO3,D18O_NO3_FLAG_W,HELIER,DELHER,TRITER
,,,,,,,,,,,METERS,DBAR,ITS-90,PSS-78,,PSS-78,,UMOL/KG,,UMOL/KG,,UMOL/KG,,UMOL/KG,,UMOL/KG,,UMOL/KG,,PMOL/KG,,PMOL/KG,,PMOL/KG,,FMOL/KG,,UMOL/KG,,UMOL/KG,,,,DEG C,TU,,NMOL/KG,,PERCNT,,/MILLE,,/MILLE,,/MILLE,NMOL/KG,,NMOL/KG,BQ/M^3,,DM/.1MG,,UMOL/KG,,UMOL/KG,,MMOL/KG,,/MILLE,,,,,,G/KG,,BQ/M^3,,BQ/M^3,,ITS-90,,,,/MILLE,,NMOL/KG,PERCNT,TU
318M20130321,       P02W,      33,          1,          7,          7,2,20130414,       0814,    30.0016,   146.0208,       6160,  3788.3,   1.4977,   34.679,2,  34.6787,2,    146.4,2,     146,2,  150.61,2,    36.4,2,       0,2,    2.55,2,-999.000,9,-999.000,9,-999.000,9,-999.0000,9,    2327,2, 2415.26,2,   7.5568,2,       25,-999.000,9,-999.0000,9, -999.00,9,    0.01,2,  -209.1,2,     2.9,-999.000,9,-999.000,     -999.0,9, -999.00,9, -999.00,9, -999.00,9,     -999.0,9,  -999.0,9, 20130414,      903,  30.0014, 146.0208,    34.8422,2,     -999.0,9,     -999.0,9,      1.498,2,     -999.0,9,     -999.0,9,-999.0000, -999.00,-999.000
318M20130321,       P02W,      33,          1,          6,          6,2,20130414,       0814,    30.0016,   146.0208,       6160,  4195.3,    1.483,  34.6843,2,  34.6852,2,    151.8,2,     152,2,  149.44,2,   36.01,2,       0,2,    2.51,2,   0.004,2,   0.009,2,   0.000,2,        0,2,  2322.5,2, 2414.26,2,   7.5666,2,       25,-999.000,9,-999.0000,9, -999.00,9,    0.02,2,  -210.6,2,     2.7,-999.000,9,-999.000,     -999.0,9, -999.00,9,   37.12,2, -999.00,9,     -999.0,9,  -999.0,9, 20130414,      855,  30.0015,  146.021,    34.8487,2,     -999.0,9,     -999.0,9,     1.4829,2,     -999.0,9,     -999.0,9,-999.0000, -999.00,-999.000
318M20130321,       P02W,      33,          1,          5,         37,9,20130414,       0814,    30.0016,   146.0208,       6160,  4609.7,   1.4872,  34.6884,2,-999.0000,9,    157.7,2,  -999.0,9, -999.00,9, -999.00,9, -999.00,9, -999.00,9,-999.000,9,-999.000,9,-999.000,9,-999.0000,9,  -999.0,9, -999.00,9,-999.0000,9,  -999.00,-999.000,9,-999.0000,9, -999.00,9, -999.00,9,  -999.0,9,  -999.0,-999.000,9,-999.000,     -999.0,9, -999.00,9, -999.00,9, -999.00,9,     -999.0,9,  -999.0,9, 20130414,      846,  30.0017, 146.0207,     -999.0,9,     -999.0,9,     -999.0,9,     1.4875,2,     -999.0,9,     -999.0,9,-999.0000, -999.00,-999.000
318M20130321,       P02W,      33,          1,          4,          4,2,20130414,       0814,    30.0016,   146.0208,       6160,  5023.5,   1.5083,  34.6913,2,  34.6924,2,    161.2,2,   162.1,2,  144.26,2,    35.3,2,       0,2,    2.46,2,   0.025,2,   0.007,2,   0.000,2,        0,2,    2313,2, 2408.26,6,   7.5809,2,       25,-999.000,9,-999.0000,9, -999.00,9,    0.18,2,  -211.7,2,     2.3,-999.000,9,-999.000,     -999.0,9, -999.00,9, -999.00,5, -999.00,9,     -999.0,9,  -999.0,9, 20130414,      838,  30.0014, 146.0207,     34.856,2,     -999.0,9,     -999.0,9,     1.5087,2,     -999.0,9,     -999.0,9,-999.0000, -999.00,-999.000
318M20130321,       P02W,      33,          1,          3,          3,2,20130414,       0814,    30.0016,   146.0208,       6160,  5438.8,   1.5446,  34.6927,2,  34.6932,2,    163.2,2,   164.4,2,   142.6,2,   35.14,2,       0,2,    2.44,2,-999.000,9,-999.000,9,-999.000,9,-999.0000,9,    2312,6, 2407.76,2,   7.5844,2,       25,-999.000,9,-999.0000,9, -999.00,9,    0.15,2,  -214.0,2,     2.3,-999.000,9,-999.000,     -999.0,9, -999.00,9, -999.00,9, -999.00,9,     -999.0,9,  -999.0,9, 20130414,      830,  30.0015, 146.0206,    34.8568,2,     -999.0,9,     -999.0,9,     1.5447,2,     -999.0,9,     -999.0,9,-999.0000, -999.00,-999.000
318M20130321,       P02W,      33,          1,          2,          2,2,20130414,       0814,    30.0016,   146.0208,       6160,  5854.6,   1.5947,  34.6929,2,  34.6944,2,    164.9,2,   165.3,2,  141.92,2,   35.02,2,       0,2,    2.44,2,   0.093,2,   0.053,2,   0.015,2,     0.14,2,  2311.9,2, 2406.85,2,   7.5845,6,       25,-999.000,9,-999.0000,9, -999.00,9,    0.16,2,  -212.7,2,     3.2,-999.000,9,-999.000,     -999.0,9, -999.00,9,   38.06,2, -999.00,9,     -999.0,9,  -999.0,9, 20130414,      821,  30.0016, 146.0207,     34.858,2,     -999.0,9,     -999.0,9,     1.5949,2,     -999.0,9,     -999.0,9,-999.0000, -999.00,-999.000
318M20130321,       P02W,      33,          1,          1,          1,2,20130414,       0814,    30.0016,   146.0208,       6160,  6123.8,   1.6265,  34.6933,2,  34.6942,2,    167.2,2,   166.5,2,  140.75,2,   34.93,2,       0,2,    2.43,2,-999.000,9,-999.000,9,-999.000,9,-999.0000,9,  2310.6,2, 2406.25,2,   7.5863,2,       25,-999.000,9,-999.0000,9, -999.00,9,    0.19,2,  -210.5,2,     3.2,-999.000,9,-999.000,     -999.0,9, -999.00,9,   38.18,2, -999.00,9,     -999.0,9,  -999.0,9, 20130414,      814,  30.0016, 146.0209,    34.8578,2,     -999.0,9,     -999.0,9,     1.6259,2,     -999.0,9,     -999.0,9,-999.0000, -999.00,-999.000