BOTTLE,20220817CCHSIOAMB
EXPOCODE,SECT_ID,STNNBR,CASTNO,SAMPNO,BTLNBR,BTLNBR_FLAG_W,DATE,TIME,LATITUDE,LONGITUDE,DEPTH,CTDPRS,CTDTMP,CTDSAL,CTDSAL_FLAG_W,SALNTY,SALNTY_FLAG_W,CTDOXY,CTDOXY_FLAG_W,OXYGEN,OXYGEN_FLAG_W,SILCAT,SILCAT_FLAG_W,NITRAT,NITRAT_FLAG_W,NITRIT,NITRIT_FLAG_W,PHSPHT,PHSPHT_FLAG_W,CFC-11,CFC-11_FLAG_W,CFC-12,CFC-12_FLAG_W,CFC113,CFC113_FLAG_W,SF6,SF6_FLAG_W,TCARBN,TCARBN_FLAG_W,ALKALI,ALKALI_FLAG_W,PH_TOT,PH_TOT_FLAG_W,PH_TMP,TRITUM,TRITUM_FLAG_W,HELIUM,HELIUM_FLAG_W,DELHE3,DELHE3_FLAG_W,DELC13,DELC13_FLAG_W,DELC14,DELC14_FLAG_W,C14ERR,NEON,NEON_FLAG_W,NEONER,I-129,I-129_FLAG_W,SR-90,SR-90_FLAG_W,DOC,DOC_FLAG_W,TDN,TDN_FLAG_W,CALCIUM,CALCIUM_FLAG_W,D15N_NO3,D15N_NO3_FLAG_W,BTL_DATE,BTL_TIME,BTL_LAT,BTL_LON,SALTREF,SALTREF_FLAG_W,CS-137,CS-137_FLAG_W,CS-134,CS-134_FLAG_W,REFTMP,REFTMP_FLAG_W,LAB_DEN,LAB_DEN_FLAG_W,D18O_NO3,D18O_NO3_FLAG_W,HELIER,DELHER,TRITER
,,,,,,,,,,,METERS,DBAR,ITS-90,PSS-78,,PSS-78,,UMOL/KG,,UMOL/KG,,UMOL/KG,,UMOL/KG,,UMOL/KG,,UMOL/KG,,PMOL/KG,,PMOL/KG,,PMOL/KG,,FMOL/KG,,UMOL/KG,,UMOL/KG,,,,DEG C,TU,,NMOL/KG,,PERCNT,,/MILLE,,/MILLE,,/MILLE,NMOL/KG,,NMOL/KG,BQ/M^3,,DM/.1MG,,UMOL/KG,,UMOL/KG,,MMOL/KG,,/MILLE,,,,,,G/KG,,BQ/M^3,,BQ/M^3,,ITS-90,,,,/MILLE,,NMOL/KG,PERCNT,TU
318M20130321,       P02E,     121,          1,          5,         37,2,20130522,       2332,    29.9997,  -138.7416,       4780,  3754.7,   1.4988,  34.6792,2,  34.6796,2,    136.9,2,   136.9,2,   163.3,2,   37.08,2,       0,2,     2.6,2,   0.006,2,   0.005,2,-999.000,1,        0,2,  -999.0,9, -999.00,9,-999.0000,9,  -999.00,-999.000,9,-999.0000,9, -999.00,9, -999.00,9,  -999.0,9,  -999.0,-999.000,9,-999.000,     -999.0,9, -999.00,9,   36.69,2, -999.00,9,     -999.0,9,  -999.0,9, 20130522,     2353,  29.9998,-138.7411,    34.8432,2,     -999.0,9,     -999.0,9,     1.4987,2,     -999.0,9,     -999.0,9,-999.0000, -999.00,-999.000
318M20130321,       P02E,     121,          1,          4,          4,2,20130522,       2332,    29.9997,  -138.7416,       4780,  4097.3,   1.5033,  34.6828,2,  34.6834,2,      142,2,   142.5,2,  162.03,2,   36.79,2,       0,2,    2.59,2,   0.006,2,   0.007,2,-999.000,1,        0,2,  2336.9,2, 2425.86,2,   7.5607,6,       25,-999.000,9,-999.0000,9, -999.00,9, -999.00,9,  -999.0,9,  -999.0,-999.000,9,-999.000,     -999.0,9, -999.00,9,   35.58,2, -999.00,9,     -999.0,9,  -999.0,9, 20130522,     2346,  29.9998,-138.7412,    34.8469,2,     -999.0,9,     -999.0,9,     1.5028,2,     -999.0,9,     -999.0,9,-999.0000, -999.00,-999.000
318M20130321,       P02E,     121,          1,          3,          3,2,20130522,       2332,    29.9997,  -138.7416,       4780,  4512.1,   1.5281,   34.685,2,  34.6855,2,    145.5,2,   145.7,2,  160.47,2,   36.55,2,       0,2,    2.57,2,   0.006,2,   0.005,2,-999.000,1,        0,2,  -999.0,9, -999.00,9,-999.0000,9,  -999.00,-999.000,9,-999.0000,9, -999.00,9, -999.00,9,  -999.0,9,  -999.0,-999.000,9,-999.000,     -999.0,9, -999.00,9,   36.08,2, -999.00,9,     -999.0,9,  -999.0,9, 20130522,     2338,  29.9997,-138.7415,    34.8491,2,     -999.0,9,     -999.0,9,     1.5279,2,     -999.0,9,     -999.0,9,-999.0000, -999.00,-999.000
318M20130321,       P02E,     121,          1,          2,          2,2,20130522,       2332,    29.9997,  -138.7416,       4780,  4847.1,   1.5535,  34.6865,2,  34.6908,3,    148.9,2,   148.7,2,  158.22,2,   36.33,2,       0,2,    2.55,2,   0.006,2,   0.007,2,-999.000,1,        0,2,  2331.9,6, 2424.06,2,   7.5717,2,       25,-999.000,9,-999.0000,9, -999.00,9, -999.00,9,  -999.0,9,  -999.0,-999.000,9,-999.000,     -999.0,9, -999.00,9,   36.23,2, -999.00,9,     -999.0,9,  -999.0,9, 20130522,     2332,  29.9997,-138.7416,    34.8544,3,     -999.0,9,     -999.0,9,     1.5529,2,     -999.0,9,     -999.0,9,-999.0000, -999.00,-999.000