BOTTLE,20220817CCHSIOAMB
EXPOCODE,SECT_ID,STNNBR,CASTNO,SAMPNO,BTLNBR,BTLNBR_FLAG_W,DATE,TIME,LATITUDE,LONGITUDE,DEPTH,CTDPRS,CTDTMP,CTDSAL,CTDSAL_FLAG_W,SALNTY,SALNTY_FLAG_W,CTDOXY,CTDOXY_FLAG_W,OXYGEN,OXYGEN_FLAG_W,SILCAT,SILCAT_FLAG_W,NITRAT,NITRAT_FLAG_W,NITRIT,NITRIT_FLAG_W,PHSPHT,PHSPHT_FLAG_W,CFC-11,CFC-11_FLAG_W,CFC-12,CFC-12_FLAG_W,CFC113,CFC113_FLAG_W,SF6,SF6_FLAG_W,TCARBN,TCARBN_FLAG_W,ALKALI,ALKALI_FLAG_W,PH_TOT,PH_TOT_FLAG_W,PH_TMP,TRITUM,TRITUM_FLAG_W,HELIUM,HELIUM_FLAG_W,DELHE3,DELHE3_FLAG_W,DELC13,DELC13_FLAG_W,DELC14,DELC14_FLAG_W,C14ERR,NEON,NEON_FLAG_W,NEONER,I-129,I-129_FLAG_W,SR-90,SR-90_FLAG_W,DOC,DOC_FLAG_W,TDN,TDN_FLAG_W,CALCIUM,CALCIUM_FLAG_W,D15N_NO3,D15N_NO3_FLAG_W,BTL_DATE,BTL_TIME,BTL_LAT,BTL_LON,SALTREF,SALTREF_FLAG_W,CS-137,CS-137_FLAG_W,CS-134,CS-134_FLAG_W,REFTMP,REFTMP_FLAG_W,LAB_DEN,LAB_DEN_FLAG_W,D18O_NO3,D18O_NO3_FLAG_W,HELIER,DELHER,TRITER
,,,,,,,,,,,METERS,DBAR,ITS-90,PSS-78,,PSS-78,,UMOL/KG,,UMOL/KG,,UMOL/KG,,UMOL/KG,,UMOL/KG,,UMOL/KG,,PMOL/KG,,PMOL/KG,,PMOL/KG,,FMOL/KG,,UMOL/KG,,UMOL/KG,,,,DEG C,TU,,NMOL/KG,,PERCNT,,/MILLE,,/MILLE,,/MILLE,NMOL/KG,,NMOL/KG,BQ/M^3,,DM/.1MG,,UMOL/KG,,UMOL/KG,,MMOL/KG,,/MILLE,,,,,,G/KG,,BQ/M^3,,BQ/M^3,,ITS-90,,,,/MILLE,,NMOL/KG,PERCNT,TU
318M20130321,       P02W,      35,          1,          7,          7,2,20130415,       0212,    30.0001,   147.7915,       6181,  3646.6,    1.505,  34.6767,2,  34.6755,2,    143.1,2,   142.4,2,  151.29,2,   36.73,2,       0,2,    2.54,2,-999.000,9,-999.000,9,-999.000,9,-999.0000,9,  -999.0,9, -999.00,9,-999.0000,9,  -999.00,-999.000,9,-999.0000,9, -999.00,9, -999.00,9,  -999.0,9,  -999.0,-999.000,9,-999.000,     -999.0,9, -999.00,9,   35.91,2, -999.00,9,     -999.0,9,  -999.0,1, 20130415,      301,  30.0008, 147.7923,     34.839,2,     -999.0,9,     -999.0,9,     1.5049,2,     -999.0,9,     -999.0,1,-999.0000, -999.00,-999.000
318M20130321,       P02W,      35,          1,          6,          6,2,20130415,       0212,    30.0001,   147.7915,       6181,  4054.1,   1.4844,  34.6828,2,  34.6831,2,    150.4,2,     151,2,  148.75,2,   36.15,2,       0,2,    2.49,2,  -0.001,2,   0.011,2,   0.006,2,        0,2,  2322.8,2, 2412.26,6,   7.5647,2,       25,-999.000,9,-999.0000,9, -999.00,9, -999.00,9,  -999.0,9,  -999.0,-999.000,9,-999.000,     -999.0,9, -999.00,9,   36.85,2, -999.00,9,     -999.0,9,  -999.0,1, 20130415,      253,  30.0009,  147.792,    34.8467,2,     -999.0,9,     -999.0,9,     1.4844,2,     -999.0,9,     -999.0,1,-999.0000, -999.00,-999.000
318M20130321,       P02W,      35,          1,          5,         37,2,20130415,       0212,    30.0001,   147.7915,       6181,    4468,   1.4843,  34.6872,2,  34.6869,2,    156.1,2,   156.7,2,   146.9,2,   35.82,2,       0,2,    2.46,2,-999.000,9,-999.000,9,-999.000,9,-999.0000,9,  -999.0,9, -999.00,9,-999.0000,9,  -999.00,-999.000,9,-999.0000,9, -999.00,9, -999.00,9,  -999.0,9,  -999.0,-999.000,9,-999.000,     -999.0,9, -999.00,9,   36.67,2, -999.00,9,     -999.0,9,  -999.0,1, 20130415,      245,  30.0005,  147.792,    34.8505,2,     -999.0,9,     -999.0,9,     1.4843,2,     -999.0,9,     -999.0,1,-999.0000, -999.00,-999.000
318M20130321,       P02W,      35,          1,          4,          4,2,20130415,       0212,    30.0001,   147.7915,       6181,  4876.5,   1.5027,  34.6902,2,  34.6897,2,      161,2,   160.7,2,  144.65,2,    35.5,2,       0,2,    2.44,2,   0.002,2,  -0.002,2,   0.006,2,     0.06,2,  -999.0,9, -999.00,9,-999.0000,9,  -999.00,-999.000,9,-999.0000,9, -999.00,9, -999.00,9,  -999.0,9,  -999.0,-999.000,9,-999.000,     -999.0,9, -999.00,9,   36.67,2, -999.00,9,     -999.0,9,  -999.0,1, 20130415,      237,  30.0001, 147.7918,    34.8532,2,     -999.0,9,     -999.0,9,     1.5027,2,     -999.0,9,     -999.0,1,-999.0000, -999.00,-999.000
318M20130321,       P02W,      35,          1,          3,          3,2,20130415,       0212,    30.0001,   147.7915,       6181,  5291.8,   1.5286,  34.6926,2,  34.6922,2,    164.4,2,   165.3,2,  141.43,2,   35.18,2,       0,2,    2.42,2,-999.000,9,-999.000,9,-999.000,9,-999.0000,9,  2310.5,6, 2408.76,2,   7.5826,2,       25,-999.000,9,-999.0000,9, -999.00,9, -999.00,9,  -999.0,9,  -999.0,-999.000,9,-999.000,     -999.0,9, -999.00,9,    36.5,2, -999.00,9,     -999.0,9,  -999.0,1, 20130415,      229,  29.9998, 147.7917,    34.8558,2,     -999.0,9,     -999.0,9,     1.5287,2,     -999.0,9,     -999.0,1,-999.0000, -999.00,-999.000
318M20130321,       P02W,      35,          1,          2,          2,2,20130415,       0212,    30.0001,   147.7915,       6181,  5707.1,   1.5663,   34.694,2,  34.6938,2,    168.6,2,   168.3,2,  139.19,2,   34.95,2,       0,2,     2.4,2,   0.005,2,   0.015,2,  -0.002,2,        0,2,  2306.2,2, 2405.75,2,   7.5874,6,       25,-999.000,9,-999.0000,9, -999.00,9, -999.00,9,  -999.0,9,  -999.0,-999.000,9,-999.000,     -999.0,9, -999.00,9,   37.61,2, -999.00,9,     -999.0,9,  -999.0,1, 20130415,      221,  29.9997, 147.7916,    34.8574,2,     -999.0,9,     -999.0,9,     1.5661,2,     -999.0,9,     -999.0,1,-999.0000, -999.00,-999.000
318M20130321,       P02W,      35,          1,          1,          1,2,20130415,       0212,    30.0001,   147.7915,       6181,    6123,   1.6142,  34.6944,2,  34.6944,2,    170.4,2,   169.8,2,  137.92,2,   34.81,2,       0,2,    2.39,2,  -0.001,2,   0.008,2,  -0.003,2,     0.06,2,  2305.5,2, 2405.75,2,   7.5894,2,       25,-999.000,9,-999.0000,9, -999.00,9, -999.00,9,  -999.0,9,  -999.0,-999.000,9,-999.000,     -999.0,9, -999.00,9,   38.17,2, -999.00,9,     -999.0,9,  -999.0,1, 20130415,      212,  30.0001, 147.7915,     34.858,2,     -999.0,9,     -999.0,9,     1.6138,2,     -999.0,9,     -999.0,1,-999.0000, -999.00,-999.000