BOTTLE,20220817CCHSIOAMB
EXPOCODE,SECT_ID,STNNBR,CASTNO,SAMPNO,BTLNBR,BTLNBR_FLAG_W,DATE,TIME,LATITUDE,LONGITUDE,DEPTH,CTDPRS,CTDTMP,CTDSAL,CTDSAL_FLAG_W,SALNTY,SALNTY_FLAG_W,CTDOXY,CTDOXY_FLAG_W,OXYGEN,OXYGEN_FLAG_W,SILCAT,SILCAT_FLAG_W,NITRAT,NITRAT_FLAG_W,NITRIT,NITRIT_FLAG_W,PHSPHT,PHSPHT_FLAG_W,CFC-11,CFC-11_FLAG_W,CFC-12,CFC-12_FLAG_W,CFC113,CFC113_FLAG_W,SF6,SF6_FLAG_W,TCARBN,TCARBN_FLAG_W,ALKALI,ALKALI_FLAG_W,PH_TOT,PH_TOT_FLAG_W,PH_TMP,TRITUM,TRITUM_FLAG_W,HELIUM,HELIUM_FLAG_W,DELHE3,DELHE3_FLAG_W,DELC13,DELC13_FLAG_W,DELC14,DELC14_FLAG_W,C14ERR,NEON,NEON_FLAG_W,NEONER,I-129,I-129_FLAG_W,SR-90,SR-90_FLAG_W,DOC,DOC_FLAG_W,TDN,TDN_FLAG_W,CALCIUM,CALCIUM_FLAG_W,D15N_NO3,D15N_NO3_FLAG_W,BTL_DATE,BTL_TIME,BTL_LAT,BTL_LON,SALTREF,SALTREF_FLAG_W,CS-137,CS-137_FLAG_W,CS-134,CS-134_FLAG_W,REFTMP,REFTMP_FLAG_W,LAB_DEN,LAB_DEN_FLAG_W,D18O_NO3,D18O_NO3_FLAG_W,HELIER,DELHER,TRITER
,,,,,,,,,,,METERS,DBAR,ITS-90,PSS-78,,PSS-78,,UMOL/KG,,UMOL/KG,,UMOL/KG,,UMOL/KG,,UMOL/KG,,UMOL/KG,,PMOL/KG,,PMOL/KG,,PMOL/KG,,FMOL/KG,,UMOL/KG,,UMOL/KG,,,,DEG C,TU,,NMOL/KG,,PERCNT,,/MILLE,,/MILLE,,/MILLE,NMOL/KG,,NMOL/KG,BQ/M^3,,DM/.1MG,,UMOL/KG,,UMOL/KG,,MMOL/KG,,/MILLE,,,,,,G/KG,,BQ/M^3,,BQ/M^3,,ITS-90,,,,/MILLE,,NMOL/KG,PERCNT,TU
318M20130321,       P02E,     107,          1,          6,          6,2,20130518,       1414,         30,  -149.1135,       5662,  4329.4,   1.4827,  34.6871,2,  34.6861,2,    150.4,2,   150.1,2,  154.41,2,   36.31,2,       0,2,     2.5,2,-999.000,9,-999.000,9,-999.000,9,-999.0000,9,  2330.7,2, 2421.56,6,   7.5714,2,       25,-999.000,9,-999.0000,9, -999.00,9,    0.06,2,  -228.3,2,     2.0,-999.000,9,-999.000,     -999.0,9, -999.00,9, -999.00,9, -999.00,9,     -999.0,1,  -999.0,9, 20130518,     1443,  30.0001,-149.1138,    34.8497,2,     -999.0,9,     -999.0,9,     1.4827,2,     -999.0,9,     -999.0,9,-999.0000, -999.00,-999.000
318M20130321,       P02E,     107,          1,          5,         37,2,20130518,       1414,         30,  -149.1135,       5662,  4741.2,   1.5011,  34.6898,2,  34.6966,3,      156,2,   156.1,2,  150.51,2,   35.93,2,       0,2,    2.46,2,-999.000,9,-999.000,9,-999.000,9,-999.0000,9,  -999.0,9, -999.00,9,-999.0000,9,  -999.00,-999.000,9,-999.0000,9, -999.00,9,    0.11,2,  -219.8,2,     2.8,-999.000,9,-999.000,     -999.0,9, -999.00,9,    37.7,2, -999.00,9,     -999.0,9,  -999.0,9, 20130518,     1435,  30.0002,-149.1126,    34.8602,3,     -999.0,9,     -999.0,9,      1.501,2,     -999.0,9,     -999.0,9,-999.0000, -999.00,-999.000
318M20130321,       P02E,     107,          1,          4,          4,2,20130518,       1414,         30,  -149.1135,       5662,  5155.1,   1.5317,  34.6914,2,   34.691,2,      160,2,   159.3,2,  147.48,2,   35.67,2,       0,2,    2.44,2,   0.003,2,   0.004,2,-999.000,1,        0,2,  2321.6,2, 2415.56,2,   7.5825,2,       25,-999.000,9,-999.0000,9, -999.00,9,   -0.80,4,  -242.0,3,     2.0,-999.000,9,-999.000,     -999.0,9, -999.00,9,   35.94,2, -999.00,9,     -999.0,1,  -999.0,9, 20130518,     1427,       30,-149.1139,    34.8546,2,     -999.0,9,     -999.0,9,     1.5317,2,     -999.0,9,     -999.0,9,-999.0000, -999.00,-999.000
318M20130321,       P02E,     107,          1,          3,          3,2,20130518,       1414,         30,  -149.1135,       5662,  5497.4,   1.5654,  34.6922,2,   34.691,2,    161.3,2,   161.3,2,  145.63,2,   35.48,2,       0,2,    2.43,2,   0.002,2,   0.003,2,-999.000,1,        0,2,  2318.8,2, 2413.06,2,   7.5845,6,       25,-999.000,9,-999.0000,9, -999.00,9,    0.13,2,  -214.6,2,     2.5,-999.000,9,-999.000,     -999.0,9, -999.00,9,   36.06,2, -999.00,9,     -999.0,9,  -999.0,9, 20130518,     1420,  30.0003,-149.1144,    34.8546,2,     -999.0,9,     -999.0,9,     1.5655,2,     -999.0,9,     -999.0,9,-999.0000, -999.00,-999.000
318M20130321,       P02E,     107,          1,          2,          2,2,20130518,       1414,         30,  -149.1135,       5662,  5773.3,   1.6005,  34.6923,2,  34.6918,2,    162.2,2,   161.9,2,  145.34,2,   35.44,2,       0,2,    2.43,2,   0.003,2,   0.004,2,-999.000,1,        0,2,  2319.3,6, 2413.46,2,   7.5856,2,       25,-999.000,9,-999.0000,9, -999.00,9,    0.11,2,  -214.3,2,     3.1,-999.000,9,-999.000,     -999.0,9, -999.00,9,   37.48,2, -999.00,9,     -999.0,1,  -999.0,9, 20130518,     1414,       30,-149.1135,    34.8554,2,     -999.0,9,     -999.0,9,     1.6002,2,     -999.0,9,     -999.0,9,-999.0000, -999.00,-999.000