BOTTLE,20220817CCHSIOAMB
EXPOCODE,SECT_ID,STNNBR,CASTNO,SAMPNO,BTLNBR,BTLNBR_FLAG_W,DATE,TIME,LATITUDE,LONGITUDE,DEPTH,CTDPRS,CTDTMP,CTDSAL,CTDSAL_FLAG_W,SALNTY,SALNTY_FLAG_W,CTDOXY,CTDOXY_FLAG_W,OXYGEN,OXYGEN_FLAG_W,SILCAT,SILCAT_FLAG_W,NITRAT,NITRAT_FLAG_W,NITRIT,NITRIT_FLAG_W,PHSPHT,PHSPHT_FLAG_W,CFC-11,CFC-11_FLAG_W,CFC-12,CFC-12_FLAG_W,CFC113,CFC113_FLAG_W,SF6,SF6_FLAG_W,TCARBN,TCARBN_FLAG_W,ALKALI,ALKALI_FLAG_W,PH_TOT,PH_TOT_FLAG_W,PH_TMP,TRITUM,TRITUM_FLAG_W,HELIUM,HELIUM_FLAG_W,DELHE3,DELHE3_FLAG_W,DELC13,DELC13_FLAG_W,DELC14,DELC14_FLAG_W,C14ERR,NEON,NEON_FLAG_W,NEONER,I-129,I-129_FLAG_W,SR-90,SR-90_FLAG_W,DOC,DOC_FLAG_W,TDN,TDN_FLAG_W,CALCIUM,CALCIUM_FLAG_W,D15N_NO3,D15N_NO3_FLAG_W,BTL_DATE,BTL_TIME,BTL_LAT,BTL_LON,SALTREF,SALTREF_FLAG_W,CS-137,CS-137_FLAG_W,CS-134,CS-134_FLAG_W,REFTMP,REFTMP_FLAG_W,LAB_DEN,LAB_DEN_FLAG_W,D18O_NO3,D18O_NO3_FLAG_W,HELIER,DELHER,TRITER
,,,,,,,,,,,METERS,DBAR,ITS-90,PSS-78,,PSS-78,,UMOL/KG,,UMOL/KG,,UMOL/KG,,UMOL/KG,,UMOL/KG,,UMOL/KG,,PMOL/KG,,PMOL/KG,,PMOL/KG,,FMOL/KG,,UMOL/KG,,UMOL/KG,,,,DEG C,TU,,NMOL/KG,,PERCNT,,/MILLE,,/MILLE,,/MILLE,NMOL/KG,,NMOL/KG,BQ/M^3,,DM/.1MG,,UMOL/KG,,UMOL/KG,,MMOL/KG,,/MILLE,,,,,,G/KG,,BQ/M^3,,BQ/M^3,,ITS-90,,,,/MILLE,,NMOL/KG,PERCNT,TU
318M20130321,       P02E,      96,          2,          6,          6,3,20130514,       2112,    30.0002,  -158.3032,       5865,  3754.1,    1.487,  34.6795,2,   34.679,2,    140.2,2,     140,2,  158.81,2,   36.76,2,       0,2,    2.56,2,-999.000,9,-999.000,9,-999.000,9,-999.0000,9,  -999.0,9, -999.00,9,-999.0000,9,  -999.00,-999.000,9,-999.0000,9, -999.00,9, -999.00,9,  -999.0,9,  -999.0,-999.000,9,-999.000,     -999.0,9, -999.00,9, -999.00,9, -999.00,9,     -999.0,9,  -999.0,9, 20130514,     2155,  30.0003,-158.3059,    34.8425,2,     -999.0,9,     -999.0,9,     1.4873,2,     -999.0,9,     -999.0,9,-999.0000, -999.00,-999.000
318M20130321,       P02E,      96,          2,          5,         37,2,20130514,       2112,    30.0002,  -158.3032,       5865,  4159.8,   1.4819,  34.6847,2,  34.6843,2,    145.7,2,   146.8,2,  156.46,2,   36.36,2,       0,2,    2.53,2,   0.004,2,   0.000,2,-999.000,5,        0,2,  2332.6,2, 2421.96,2,    7.566,6,       25,-999.000,9,-999.0000,9, -999.00,9, -999.00,9,  -999.0,9,  -999.0,-999.000,9,-999.000,     -999.0,9, -999.00,9, -999.00,9, -999.00,9,     -999.0,9,  -999.0,9, 20130514,     2148,  30.0001,-158.3057,    34.8479,2,     -999.0,9,     -999.0,9,     1.4818,2,     -999.0,9,     -999.0,9,-999.0000, -999.00,-999.000
318M20130321,       P02E,      96,          2,          4,          4,2,20130514,       2112,    30.0002,  -158.3032,       5865,  4566.6,   1.4962,  34.6878,2,  34.6871,2,      152,2,   152.1,2,  153.44,2,   36.03,2,       0,2,     2.5,2,-999.000,9,-999.000,9,-999.000,5,-999.0000,9,  -999.0,9, -999.00,9,-999.0000,9,  -999.00,-999.000,9,-999.0000,9, -999.00,9, -999.00,9,  -999.0,9,  -999.0,-999.000,9,-999.000,     -999.0,9, -999.00,9, -999.00,9, -999.00,9,     -999.0,9,  -999.0,9, 20130514,     2140,  29.9999,-158.3053,    34.8506,2,     -999.0,9,     -999.0,9,     1.4964,2,     -999.0,9,     -999.0,9,-999.0000, -999.00,-999.000
318M20130321,       P02E,      96,          2,          1,          1,9,20130514,       2112,    30.0002,  -158.3032,       5865,  5091.8,   1.5317,  34.6906,2,-999.0000,9,    156.9,2,  -999.0,9, -999.00,9, -999.00,9, -999.00,9, -999.00,9,-999.000,9,-999.000,9,-999.000,9,-999.0000,9,  -999.0,9, -999.00,9,-999.0000,9,  -999.00,-999.000,9,-999.0000,9, -999.00,9, -999.00,9,  -999.0,9,  -999.0,-999.000,9,-999.000,     -999.0,9, -999.00,9, -999.00,9, -999.00,9,     -999.0,9,  -999.0,9, 20130514,     2130,       30,-158.3038,     -999.0,9,     -999.0,9,     -999.0,9,     1.5316,2,     -999.0,9,     -999.0,9,-999.0000, -999.00,-999.000
318M20130321,       P02E,      96,          2,          3,          3,2,20130514,       2112,    30.0002,  -158.3032,       5865,  5495.9,   1.5761,  34.6912,2,  34.6904,2,    158.6,2,   158.9,2,  147.68,2,   35.52,2,       0,2,    2.46,2,   0.006,2,   0.001,2,-999.000,5,        0,2,  2321.7,2, 2416.86,6,   7.5811,2,       25,-999.000,9,-999.0000,9, -999.00,9, -999.00,9,  -999.0,9,  -999.0,-999.000,9,-999.000,     -999.0,9, -999.00,9, -999.00,9, -999.00,9,     -999.0,9,  -999.0,9, 20130514,     2122,  30.0003,-158.3027,     34.854,2,     -999.0,9,     -999.0,9,     1.5764,2,     -999.0,9,     -999.0,9,-999.0000, -999.00,-999.000
318M20130321,       P02E,      96,          2,          2,          2,2,20130514,       2112,    30.0002,  -158.3032,       5865,    5984,   1.6394,  34.6913,2,  34.6906,2,    160.6,2,   160.5,2,   146.8,2,   35.44,2,       0,2,    2.46,2,   0.008,2,   0.003,2,-999.000,5,        0,2,  2318.5,6, 2415.96,2,   7.5842,2,       25,-999.000,9,-999.0000,9, -999.00,9, -999.00,9,  -999.0,9,  -999.0,-999.000,9,-999.000,     -999.0,9, -999.00,9, -999.00,9, -999.00,9,     -999.0,9,  -999.0,9, 20130514,     2113,  30.0002,-158.3031,    34.8542,2,     -999.0,9,     -999.0,9,     1.6392,2,     -999.0,9,     -999.0,9,-999.0000, -999.00,-999.000