BOTTLE,20220817CCHSIOAMB
EXPOCODE,SECT_ID,STNNBR,CASTNO,SAMPNO,BTLNBR,BTLNBR_FLAG_W,DATE,TIME,LATITUDE,LONGITUDE,DEPTH,CTDPRS,CTDTMP,CTDSAL,CTDSAL_FLAG_W,SALNTY,SALNTY_FLAG_W,CTDOXY,CTDOXY_FLAG_W,OXYGEN,OXYGEN_FLAG_W,SILCAT,SILCAT_FLAG_W,NITRAT,NITRAT_FLAG_W,NITRIT,NITRIT_FLAG_W,PHSPHT,PHSPHT_FLAG_W,CFC-11,CFC-11_FLAG_W,CFC-12,CFC-12_FLAG_W,CFC113,CFC113_FLAG_W,SF6,SF6_FLAG_W,TCARBN,TCARBN_FLAG_W,ALKALI,ALKALI_FLAG_W,PH_TOT,PH_TOT_FLAG_W,PH_TMP,TRITUM,TRITUM_FLAG_W,HELIUM,HELIUM_FLAG_W,DELHE3,DELHE3_FLAG_W,DELC13,DELC13_FLAG_W,DELC14,DELC14_FLAG_W,C14ERR,NEON,NEON_FLAG_W,NEONER,I-129,I-129_FLAG_W,SR-90,SR-90_FLAG_W,DOC,DOC_FLAG_W,TDN,TDN_FLAG_W,CALCIUM,CALCIUM_FLAG_W,D15N_NO3,D15N_NO3_FLAG_W,BTL_DATE,BTL_TIME,BTL_LAT,BTL_LON,SALTREF,SALTREF_FLAG_W,CS-137,CS-137_FLAG_W,CS-134,CS-134_FLAG_W,REFTMP,REFTMP_FLAG_W,LAB_DEN,LAB_DEN_FLAG_W,D18O_NO3,D18O_NO3_FLAG_W,HELIER,DELHER,TRITER
,,,,,,,,,,,METERS,DBAR,ITS-90,PSS-78,,PSS-78,,UMOL/KG,,UMOL/KG,,UMOL/KG,,UMOL/KG,,UMOL/KG,,UMOL/KG,,PMOL/KG,,PMOL/KG,,PMOL/KG,,FMOL/KG,,UMOL/KG,,UMOL/KG,,,,DEG C,TU,,NMOL/KG,,PERCNT,,/MILLE,,/MILLE,,/MILLE,NMOL/KG,,NMOL/KG,BQ/M^3,,DM/.1MG,,UMOL/KG,,UMOL/KG,,MMOL/KG,,/MILLE,,,,,,G/KG,,BQ/M^3,,BQ/M^3,,ITS-90,,,,/MILLE,,NMOL/KG,PERCNT,TU
318M20130321,       P02W,      16,          1,         36,         36,2,20130409,       1839,    29.9923,    135.393,       4361,     2.8,  19.6104,  34.7588,2,  34.7555,2,    223.6,2,   223.1,2,    1.76,2,    0.43,2,    0.04,2,    0.07,2,   2.310,2,   1.387,2,   0.163,2,     1.45,2,  1997.6,6, 2280.01,2,   8.0213,2,       25,-999.000,9,-999.0000,9, -999.00,9, -999.00,9,  -999.0,9,  -999.0,-999.000,9,-999.000,     -999.0,9, -999.00,9, -999.00,9, -999.00,9,     -999.0,9,  -999.0,9, 20130409,     2041,  29.9885, 135.4037,    34.9194,2,     -999.0,9,     -999.0,9,    19.6105,2,     -999.0,9,     -999.0,9,-999.0000, -999.00,-999.000
318M20130321,       P02W,      16,          1,         35,         35,2,20130409,       1839,    29.9923,    135.393,       4361,    20.4,  19.6163,   34.759,2,  34.7585,2,    223.3,2,   223.1,2,    1.76,2,    0.46,2,    0.04,2,    0.07,2,   2.266,2,   1.371,2,   0.158,2,     1.47,2,  1998.5,2, 2280.41,6,   8.0208,2,       25,-999.000,9,-999.0000,9, -999.00,9, -999.00,9,  -999.0,9,  -999.0,-999.000,9,-999.000,     -999.0,9, -999.00,9, -999.00,9, -999.00,9,     -999.0,9,  -999.0,9, 20130409,     2037,  29.9884, 135.4032,    34.9224,2,     -999.0,9,     -999.0,9,    19.6167,2,     -999.0,9,     -999.0,9,-999.0000, -999.00,-999.000
318M20130321,       P02W,      16,          1,         34,         34,2,20130409,       1839,    29.9923,    135.393,       4361,    38.5,   19.625,  34.7595,2,  34.7589,2,    222.7,2,     223,2,    1.76,2,    0.44,2,    0.04,2,    0.07,2,   2.293,2,   1.371,2,   0.156,2,     1.46,2,  1996.4,2, 2280.31,2,   8.0217,6,       25,-999.000,9,-999.0000,9, -999.00,9, -999.00,9,  -999.0,9,  -999.0,-999.000,9,-999.000,     -999.0,9, -999.00,9, -999.00,9, -999.00,9,     -999.0,9,  -999.0,9, 20130409,     2036,  29.9884, 135.4029,    34.9228,2,     -999.0,9,     -999.0,9,    19.6245,2,     -999.0,9,     -999.0,9,-999.0000, -999.00,-999.000
318M20130321,       P02W,      16,          1,         32,         32,2,20130409,       1839,    29.9923,    135.393,       4361,    66.2,  19.6223,  34.7619,2,-999.0000,9,    220.9,2,  -999.0,9, -999.00,9, -999.00,9, -999.00,9, -999.00,9,-999.000,9,-999.000,9,-999.000,9,-999.0000,9,  -999.0,9, -999.00,9,-999.0000,9,  -999.00,-999.000,9,-999.0000,9, -999.00,9, -999.00,9,  -999.0,9,  -999.0,-999.000,9,-999.000,     -999.0,1, -999.00,1, -999.00,9, -999.00,9,     -999.0,9,  -999.0,9, 20130409,     2033,  29.9883, 135.4024,     -999.0,9,     -999.0,1,     -999.0,1,    19.6232,2,     -999.0,9,     -999.0,9,-999.0000, -999.00,-999.000
318M20130321,       P02W,      16,          1,         33,         33,2,20130409,       1839,    29.9923,    135.393,       4361,    66.8,  19.6255,  34.7618,2,-999.0000,9,    220.9,2,  -999.0,9, -999.00,9, -999.00,9, -999.00,9, -999.00,9,-999.000,9,-999.000,9,-999.000,9,-999.0000,9,  -999.0,9, -999.00,9,-999.0000,9,  -999.00,-999.000,9,-999.0000,9, -999.00,9, -999.00,9,  -999.0,9,  -999.0,-999.000,9,-999.000,     -999.0,9, -999.00,1, -999.00,9, -999.00,9,     -999.0,9,  -999.0,9, 20130409,     2034,  29.9883, 135.4024,     -999.0,9,     -999.0,1,     -999.0,1,    19.6272,2,     -999.0,9,     -999.0,9,-999.0000, -999.00,-999.000
318M20130321,       P02W,      16,          1,         31,         31,2,20130409,       1839,    29.9923,    135.393,       4361,      67,  19.6196,  34.7619,2,  34.7616,2,    220.9,2,   221.5,2,    1.95,2,    0.61,2,    0.04,2,    0.08,2,   2.317,2,   1.387,2,   0.157,2,     1.44,2,    2000,2, 2282.11,2,   8.0205,2,       25,-999.000,9,-999.0000,9, -999.00,9, -999.00,9,  -999.0,9,  -999.0,-999.000,9,-999.000,     -999.0,9, -999.00,9, -999.00,9, -999.00,9,     -999.0,9,  -999.0,9, 20130409,     2033,  29.9883, 135.4024,    34.9255,2,     -999.0,9,     -999.0,9,    19.6203,2,     -999.0,9,     -999.0,9,-999.0000, -999.00,-999.000
318M20130321,       P02W,      16,          1,         30,         30,2,20130409,       1839,    29.9923,    135.393,       4361,    91.8,  19.0832,   34.774,2,   34.776,2,    200.4,2,   196.5,2,    3.32,2,    3.37,2,    0.06,2,    0.26,2,   2.339,2,   1.394,2,   0.082,2,     1.32,2,  -999.0,9, -999.00,9,-999.0000,9,  -999.00,-999.000,9,-999.0000,9, -999.00,9, -999.00,9,  -999.0,9,  -999.0,-999.000,9,-999.000,     -999.0,9, -999.00,9, -999.00,9, -999.00,9,     -999.0,9,  -999.0,9, 20130409,     2031,  29.9882,  135.402,    34.9399,2,     -999.0,9,     -999.0,9,     19.081,2,     -999.0,9,     -999.0,9,-999.0000, -999.00,-999.000
318M20130321,       P02W,      16,          1,         29,         29,2,20130409,       1839,    29.9923,    135.393,       4361,   136.5,  18.4881,  34.7686,2,  34.7677,2,      224,2,   223.5,2,    2.15,2,    1.29,2,    0.06,2,    0.12,2,   2.398,2,   1.450,2,   0.180,2,     1.44,2,  2005.6,2, 2281.41,2,   8.0032,2,       25,-999.000,9,-999.0000,9, -999.00,9, -999.00,9,  -999.0,9,  -999.0,-999.000,9,-999.000,     -999.0,9, -999.00,9, -999.00,9, -999.00,9,     -999.0,9,  -999.0,9, 20130409,     2029,  29.9882, 135.4016,    34.9316,2,     -999.0,9,     -999.0,9,     18.485,2,     -999.0,9,     -999.0,9,-999.0000, -999.00,-999.000
318M20130321,       P02W,      16,          1,         28,         28,2,20130409,       1839,    29.9923,    135.393,       4361,   186.7,  18.3368,  34.7489,2,  34.7475,2,    222.1,2,   223.4,2,    2.44,2,    1.51,2,    0.02,2,    0.13,2,   2.409,2,   1.439,2,   0.166,2,     1.48,2,  -999.0,9, -999.00,9,-999.0000,9,  -999.00,-999.000,9,-999.0000,9, -999.00,9, -999.00,9,  -999.0,9,  -999.0,-999.000,9,-999.000,     -999.0,9, -999.00,9, -999.00,9, -999.00,9,     -999.0,9,  -999.0,9, 20130409,     2027,  29.9881, 135.4011,    34.9113,2,     -999.0,9,     -999.0,9,    18.3368,2,     -999.0,9,     -999.0,9,-999.0000, -999.00,-999.000
318M20130321,       P02W,      16,          1,         27,         27,2,20130409,       1839,    29.9923,    135.393,       4361,   239.7,  17.9536,  34.7322,2,  34.7311,2,    209.3,2,   206.1,2,    3.71,2,     3.7,2,    0.02,2,    0.27,2,   2.461,2,   1.470,2,   0.099,2,     1.35,2,  2025.2,2, 2277.61,2,   7.9655,2,       25,-999.000,9,-999.0000,9, -999.00,9, -999.00,9,  -999.0,9,  -999.0,-999.000,9,-999.000,     -999.0,9, -999.00,9, -999.00,9, -999.00,9,     -999.0,9,  -999.0,9, 20130409,     2025,   29.988, 135.4007,    34.8949,2,     -999.0,9,     -999.0,9,    17.9474,2,     -999.0,9,     -999.0,9,-999.0000, -999.00,-999.000
318M20130321,       P02W,      16,          1,         26,         26,2,20130409,       1839,    29.9923,    135.393,       4361,   286.8,  16.7588,  34.6758,2,  34.6761,2,    197.3,2,   194.9,2,    6.05,2,    6.48,2,    0.01,2,    0.45,2,   2.621,2,   1.413,2,   0.050,2,     1.33,2,  -999.0,9, -999.00,9,-999.0000,9,  -999.00,-999.000,9,-999.0000,9, -999.00,9, -999.00,9,  -999.0,9,  -999.0,-999.000,9,-999.000,     -999.0,9, -999.00,9, -999.00,9, -999.00,9,     -999.0,9,  -999.0,9, 20130409,     2022,  29.9879, 135.4003,    34.8396,2,     -999.0,9,     -999.0,9,    16.7567,2,     -999.0,9,     -999.0,9,-999.0000, -999.00,-999.000
318M20130321,       P02W,      16,          1,         25,         25,2,20130409,       1839,    29.9923,    135.393,       4361,   333.9,  15.9665,  34.6263,2,  34.6252,2,    187.7,2,   188.3,2,    8.49,2,    8.35,2,    0.01,2,    0.58,2,   2.672,2,   1.535,2,   0.031,2,     1.23,2,  2061.4,2, 2276.91,2,   7.8904,2,       25,-999.000,9,-999.0000,9, -999.00,9, -999.00,9,  -999.0,9,  -999.0,-999.000,9,-999.000,     -999.0,9, -999.00,9, -999.00,9, -999.00,9,     -999.0,9,  -999.0,9, 20130409,     2020,   29.988,    135.4,    34.7885,2,     -999.0,9,     -999.0,9,    15.9654,2,     -999.0,9,     -999.0,9,-999.0000, -999.00,-999.000
318M20130321,       P02W,      16,          1,         24,         24,2,20130409,       1839,    29.9923,    135.393,       4361,     387,  14.7408,  34.5453,2,  34.5455,2,    180.9,2,   180.8,2,   12.01,2,   10.85,2,    0.01,2,    0.76,2,   2.796,2,   1.588,2,   0.034,2,      1.1,2,  -999.0,9, -999.00,9,-999.0000,9,  -999.00,-999.000,9,-999.0000,9, -999.00,9, -999.00,9,  -999.0,9,  -999.0,-999.000,9,-999.000,     -999.0,9, -999.00,9, -999.00,9, -999.00,9,     -999.0,9,  -999.0,9, 20130409,     2018,  29.9883, 135.3998,    34.7084,2,     -999.0,9,     -999.0,9,    14.7276,2,     -999.0,9,     -999.0,9,-999.0000, -999.00,-999.000
318M20130321,       P02W,      16,          1,         23,         23,2,20130409,       1839,    29.9923,    135.393,       4361,   467.9,  12.4447,  34.4055,2,  34.4072,2,    168.9,2,   169.9,2,   21.77,2,   15.61,2,    0.01,2,     1.1,2,   2.791,2,   1.529,2,   0.033,2,     0.97,2,  2116.1,2, 2276.71,2,   7.7713,6,       25,-999.000,9,-999.0000,9, -999.00,9, -999.00,9,  -999.0,9,  -999.0,-999.000,9,-999.000,     -999.0,9, -999.00,9, -999.00,9, -999.00,9,     -999.0,9,  -999.0,9, 20130409,     2016,  29.9886, 135.3995,    34.5695,2,     -999.0,9,     -999.0,9,    12.4316,2,     -999.0,9,     -999.0,9,-999.0000, -999.00,-999.000
318M20130321,       P02W,      16,          1,         22,         38,2,20130409,       1839,    29.9923,    135.393,       4361,   566.4,   9.4347,  34.2525,2,  34.2538,2,    145.8,2,   148.3,2,   40.52,2,   22.63,2,    0.01,2,    1.62,2,   2.535,2,   1.354,2,   0.046,2,     0.76,2,  -999.0,9, -999.00,9,-999.0000,9,  -999.00,-999.000,9,-999.0000,9, -999.00,9, -999.00,9,  -999.0,9,  -999.0,-999.000,9,-999.000,     -999.0,9, -999.00,9, -999.00,9, -999.00,9,     -999.0,9,  -999.0,9, 20130409,     2013,  29.9889, 135.3993,    34.4153,2,     -999.0,9,     -999.0,9,     9.4309,2,     -999.0,9,     -999.0,9,-999.0000, -999.00,-999.000
318M20130321,       P02W,      16,          1,         21,         21,2,20130409,       1839,    29.9923,    135.393,       4361,   667.8,   7.1962,  34.2034,2,  34.2036,2,    116.8,2,   117.9,2,   62.88,2,   29.27,2,    0.01,2,     2.1,2,   1.987,2,   1.013,2,   0.047,2,     0.55,2,    2225,2, 2302.22,2,   7.5456,2,       25,-999.000,9,-999.0000,9, -999.00,9, -999.00,9,  -999.0,9,  -999.0,-999.000,9,-999.000,     -999.0,9, -999.00,9, -999.00,9, -999.00,9,     -999.0,9,  -999.0,9, 20130409,     2010,  29.9891,  135.399,    34.3649,2,     -999.0,9,     -999.0,9,     7.1903,2,     -999.0,9,     -999.0,9,-999.0000, -999.00,-999.000
318M20130321,       P02W,      16,          1,         20,         20,2,20130409,       1839,    29.9923,    135.393,       4361,   768.2,   5.6064,  34.2268,2,  34.2266,2,     87.7,2,    89.4,2,   85.24,2,   34.54,2,    0.01,2,    2.49,2,   1.429,2,   0.712,2,   0.033,2,     0.35,2,  -999.0,9, -999.00,9,-999.0000,9,  -999.00,-999.000,9,-999.0000,9, -999.00,9, -999.00,9,  -999.0,9,  -999.0,-999.000,9,-999.000,     -999.0,9, -999.00,9, -999.00,9, -999.00,9,     -999.0,9,  -999.0,9, 20130409,     2007,  29.9893, 135.3987,     34.388,2,     -999.0,9,     -999.0,9,     5.6054,2,     -999.0,9,     -999.0,9,-999.0000, -999.00,-999.000
318M20130321,       P02W,      16,          1,         19,         19,2,20130409,       1839,    29.9923,    135.393,       4361,   871.9,   4.4875,  34.2842,2,  34.2844,2,     66.9,2,      68,2,  104.67,2,   38.04,2,    0.01,2,    2.73,2,   0.857,2,   0.405,2,   0.024,2,     0.18,2,  2309.6,2, 2340.13,2,   7.4059,2,       25,-999.000,9,-999.0000,9, -999.00,9, -999.00,9,  -999.0,9,  -999.0,-999.000,9,-999.000,     -999.0,9, -999.00,9, -999.00,9, -999.00,9,     -999.0,9,  -999.0,9, 20130409,     2004,  29.9895, 135.3985,    34.4461,2,     -999.0,9,     -999.0,9,     4.4845,2,     -999.0,9,     -999.0,9,-999.0000, -999.00,-999.000
318M20130321,       P02W,      16,          1,         18,         18,2,20130409,       1839,    29.9923,    135.393,       4361,   973.9,   3.9822,   34.357,2,  34.3558,2,     62.9,2,    62.9,2,   115.5,2,   39.26,2,    0.01,2,    2.81,2,-999.000,9,-999.000,9,-999.000,9,-999.0000,9,  -999.0,9, -999.00,9,-999.0000,9,  -999.00,-999.000,9,-999.0000,9, -999.00,9, -999.00,9,  -999.0,9,  -999.0,-999.000,9,-999.000,     -999.0,9, -999.00,9, -999.00,9, -999.00,9,     -999.0,9,  -999.0,9, 20130409,     2000,  29.9898, 135.3986,    34.5178,2,     -999.0,9,     -999.0,9,     3.9826,2,     -999.0,9,     -999.0,9,-999.0000, -999.00,-999.000
318M20130321,       P02W,      16,          1,         17,         17,2,20130409,       1839,    29.9923,    135.393,       4361,  1069.5,   3.5116,  34.3999,2,  34.3988,2,     60.6,2,    59.8,2,  125.16,2,   40.14,2,       0,2,    2.87,2,   0.359,2,   0.151,2,   0.010,2,     0.09,2,  2337.8,2, 2372.34,2,   7.3931,2,       25,-999.000,9,-999.0000,9, -999.00,9, -999.00,9,  -999.0,9,  -999.0,-999.000,9,-999.000,     -999.0,9, -999.00,9, -999.00,9, -999.00,9,     -999.0,9,  -999.0,9, 20130409,     1957,    29.99, 135.3985,     34.561,2,     -999.0,9,     -999.0,9,     3.5113,2,     -999.0,9,     -999.0,9,-999.0000, -999.00,-999.000
318M20130321,       P02W,      16,          1,         16,         16,2,20130409,       1839,    29.9923,    135.393,       4361,  1172.4,   3.1723,  34.4289,2,  34.4277,2,     58.2,2,    57.4,2,  132.87,2,   40.84,2,       0,2,    2.92,2,-999.000,9,-999.000,9,-999.000,9,-999.0000,9,  -999.0,9, -999.00,9,-999.0000,9,  -999.00,-999.000,9,-999.0000,9, -999.00,9, -999.00,9,  -999.0,9,  -999.0,-999.000,9,-999.000,     -999.0,9, -999.00,9, -999.00,9, -999.00,9,     -999.0,9,  -999.0,9, 20130409,     1954,  29.9901, 135.3982,      34.59,2,     -999.0,9,     -999.0,9,      3.173,2,     -999.0,9,     -999.0,9,-999.0000, -999.00,-999.000
318M20130321,       P02W,      16,          1,         15,         15,2,20130409,       1839,    29.9923,    135.393,       4361,  1274.1,   2.9541,  34.4574,2,  34.4575,2,     59.7,2,    59.4,2,  137.55,2,   40.92,2,       0,2,    2.92,2,   0.181,2,   0.087,2,   0.007,2,     0.05,2,    2352,2, 2380.95,2,    7.392,2,       25,-999.000,9,-999.0000,9, -999.00,9, -999.00,9,  -999.0,9,  -999.0,-999.000,9,-999.000,     -999.0,9, -999.00,9, -999.00,9, -999.00,9,     -999.0,9,  -999.0,9, 20130409,     1951,  29.9902,  135.398,      34.62,2,     -999.0,9,     -999.0,9,     2.9544,2,     -999.0,9,     -999.0,9,-999.0000, -999.00,-999.000
318M20130321,       P02W,      16,          1,         14,         14,2,20130409,       1839,    29.9923,    135.393,       4361,  1375.8,   2.6537,  34.4997,2,  34.4997,2,     65.9,2,    66.7,2,  143.21,2,    40.7,2,       0,2,     2.9,2,-999.000,9,-999.000,9,-999.000,9,-999.0000,9,    2356,2, 2392.75,2,   7.4062,2,       25,-999.000,9,-999.0000,9, -999.00,9, -999.00,9,  -999.0,9,  -999.0,-999.000,9,-999.000,     -999.0,9, -999.00,9, -999.00,9, -999.00,9,     -999.0,9,  -999.0,9, 20130409,     1949,  29.9903, 135.3977,    34.6624,2,     -999.0,9,     -999.0,9,     2.6537,2,     -999.0,9,     -999.0,9,-999.0000, -999.00,-999.000
318M20130321,       P02W,      16,          1,         13,         13,2,20130409,       1839,    29.9923,    135.393,       4361,  1478.4,   2.4895,  34.5261,2,  34.5254,2,     74.2,2,    74.7,2,  144.96,2,    40.3,2,       0,2,    2.87,2,-999.000,9,-999.000,9,-999.000,9,-999.0000,9,  2356.3,2, 2393.85,2,   7.4221,2,       25,-999.000,9,-999.0000,9, -999.00,9, -999.00,9,  -999.0,9,  -999.0,-999.000,9,-999.000,     -999.0,9, -999.00,9, -999.00,9, -999.00,9,     -999.0,9,  -999.0,9, 20130409,     1946,  29.9905, 135.3976,    34.6882,2,     -999.0,9,     -999.0,9,     2.4899,2,     -999.0,9,     -999.0,9,-999.0000, -999.00,-999.000
318M20130321,       P02W,      16,          1,         12,         12,2,20130409,       1839,    29.9923,    135.393,       4361,    1579,    2.389,  34.5413,2,  34.5413,2,     80.4,2,    79.2,2,  146.13,2,   40.03,2,       0,2,    2.85,2,   0.073,2,   0.035,2,   0.006,2,     0.06,2,  2354.1,2, 2395.85,2,   7.4331,6,       25,-999.000,9,-999.0000,9, -999.00,9, -999.00,9,  -999.0,9,  -999.0,-999.000,9,-999.000,     -999.0,9, -999.00,9, -999.00,9, -999.00,9,     -999.0,9,  -999.0,9, 20130409,     1942,  29.9907, 135.3974,    34.7042,2,     -999.0,9,     -999.0,9,     2.3892,2,     -999.0,9,     -999.0,9,-999.0000, -999.00,-999.000
318M20130321,       P02W,      16,          1,         11,         11,2,20130409,       1839,    29.9923,    135.393,       4361,  1753.2,   2.1591,  34.5764,2,  34.5749,2,     91.7,2,    92.9,2,  147.11,2,   39.28,2,       0,2,    2.79,2,-999.000,9,-999.000,9,-999.000,9,-999.0000,9,  -999.0,9, -999.00,9,-999.0000,9,  -999.00,-999.000,9,-999.0000,9, -999.00,9, -999.00,9,  -999.0,9,  -999.0,-999.000,9,-999.000,     -999.0,9, -999.00,9, -999.00,9, -999.00,9,     -999.0,9,  -999.0,9, 20130409,     1938,  29.9909, 135.3972,     34.738,2,     -999.0,9,     -999.0,9,     2.1591,2,     -999.0,9,     -999.0,9,-999.0000, -999.00,-999.000
318M20130321,       P02W,      16,          1,         10,         10,2,20130409,       1839,    29.9923,    135.393,       4361,    1955,   1.9736,  34.6048,2,  34.6044,2,    105.3,2,   106.1,2,  147.49,2,   38.58,2,       0,2,    2.72,2,-999.000,9,-999.000,9,-999.000,9,-999.0000,9,  -999.0,9, -999.00,9,-999.0000,9,  -999.00,-999.000,9,-999.0000,9, -999.00,9, -999.00,9,  -999.0,9,  -999.0,-999.000,9,-999.000,     -999.0,9, -999.00,9, -999.00,9, -999.00,9,     -999.0,9,  -999.0,9, 20130409,     1934,  29.9911, 135.3971,    34.7676,2,     -999.0,9,     -999.0,9,      1.973,2,     -999.0,9,     -999.0,9,-999.0000, -999.00,-999.000
318M20130321,       P02W,      16,          1,          9,          9,2,20130409,       1839,    29.9923,    135.393,       4361,  2187.1,   1.8405,  34.6256,2,  34.6256,2,      116,2,   116.7,2,  146.71,2,   37.97,2,       0,2,    2.68,2,   0.038,2,   0.019,2,   0.005,2,     0.03,2,  2340.8,2, 2407.16,2,   7.5068,2,       25,-999.000,9,-999.0000,9, -999.00,9, -999.00,9,  -999.0,9,  -999.0,-999.000,9,-999.000,     -999.0,9, -999.00,9, -999.00,9, -999.00,9,     -999.0,9,  -999.0,9, 20130409,     1929,  29.9912, 135.3968,    34.7889,2,     -999.0,9,     -999.0,9,     1.8403,2,     -999.0,9,     -999.0,9,-999.0000, -999.00,-999.000
318M20130321,       P02W,      16,          1,          8,          8,2,20130409,       1839,    29.9923,    135.393,       4361,  2441.7,   1.7271,  34.6439,2,  34.6441,2,      129,2,   128.5,2,  145.24,2,   37.25,2,       0,2,    2.63,2,-999.000,9,-999.000,9,-999.000,9,-999.0000,9,  -999.0,9, -999.00,9,-999.0000,9,  -999.00,-999.000,9,-999.0000,9, -999.00,9, -999.00,9,  -999.0,9,  -999.0,-999.000,9,-999.000,     -999.0,9, -999.00,9, -999.00,9, -999.00,9,     -999.0,9,  -999.0,9, 20130409,     1923,  29.9916, 135.3965,    34.8074,2,     -999.0,9,     -999.0,9,     1.7273,2,     -999.0,9,     -999.0,9,-999.0000, -999.00,-999.000