BOTTLE,20220817CCHSIOAMB
EXPOCODE,SECT_ID,STNNBR,CASTNO,SAMPNO,BTLNBR,BTLNBR_FLAG_W,DATE,TIME,LATITUDE,LONGITUDE,DEPTH,CTDPRS,CTDTMP,CTDSAL,CTDSAL_FLAG_W,SALNTY,SALNTY_FLAG_W,CTDOXY,CTDOXY_FLAG_W,OXYGEN,OXYGEN_FLAG_W,SILCAT,SILCAT_FLAG_W,NITRAT,NITRAT_FLAG_W,NITRIT,NITRIT_FLAG_W,PHSPHT,PHSPHT_FLAG_W,CFC-11,CFC-11_FLAG_W,CFC-12,CFC-12_FLAG_W,CFC113,CFC113_FLAG_W,SF6,SF6_FLAG_W,TCARBN,TCARBN_FLAG_W,ALKALI,ALKALI_FLAG_W,PH_TOT,PH_TOT_FLAG_W,PH_TMP,TRITUM,TRITUM_FLAG_W,HELIUM,HELIUM_FLAG_W,DELHE3,DELHE3_FLAG_W,DELC13,DELC13_FLAG_W,DELC14,DELC14_FLAG_W,C14ERR,NEON,NEON_FLAG_W,NEONER,I-129,I-129_FLAG_W,SR-90,SR-90_FLAG_W,DOC,DOC_FLAG_W,TDN,TDN_FLAG_W,CALCIUM,CALCIUM_FLAG_W,D15N_NO3,D15N_NO3_FLAG_W,BTL_DATE,BTL_TIME,BTL_LAT,BTL_LON,SALTREF,SALTREF_FLAG_W,CS-137,CS-137_FLAG_W,CS-134,CS-134_FLAG_W,REFTMP,REFTMP_FLAG_W,LAB_DEN,LAB_DEN_FLAG_W,D18O_NO3,D18O_NO3_FLAG_W,HELIER,DELHER,TRITER
,,,,,,,,,,,METERS,DBAR,ITS-90,PSS-78,,PSS-78,,UMOL/KG,,UMOL/KG,,UMOL/KG,,UMOL/KG,,UMOL/KG,,UMOL/KG,,PMOL/KG,,PMOL/KG,,PMOL/KG,,FMOL/KG,,UMOL/KG,,UMOL/KG,,,,DEG C,TU,,NMOL/KG,,PERCNT,,/MILLE,,/MILLE,,/MILLE,NMOL/KG,,NMOL/KG,BQ/M^3,,DM/.1MG,,UMOL/KG,,UMOL/KG,,MMOL/KG,,/MILLE,,,,,,G/KG,,BQ/M^3,,BQ/M^3,,ITS-90,,,,/MILLE,,NMOL/KG,PERCNT,TU
318M20130321,       P02W,      83,          1,         36,         36,2,20130501,       1302,    30.0007,  -172.0714,       5434,     3.1,  18.7625,  34.8998,2,  34.8987,2,    232.4,2,   232.3,2,    2.15,2,       0,2,       0,2,    0.03,2,   2.404,2,   1.486,2,   0.190,2,     1.39,2,  2019.1,2, 2289.51,2,    8.004,6,       25,-999.000,9,-999.0000,9, -999.00,9, -999.00,9,  -999.0,9,  -999.0,-999.000,9,-999.000,     -999.0,9, -999.00,9,    58.9,2,     3.5,2,     -999.0,9,  -999.0,1, 20130501,     1519,  29.9991,-172.0708,    35.0632,2,     -999.0,9,     -999.0,9,    18.7617,2,     -999.0,9,     -999.0,1,-999.0000, -999.00,-999.000
318M20130321,       P02W,      83,          1,         34,         34,2,20130501,       1302,    30.0007,  -172.0714,       5434,    25.3,  18.6337,  34.8783,2,  34.8766,2,    233.5,2,   233.1,2,    2.24,2,       0,2,       0,2,    0.03,2,   2.477,2,   1.518,2,   0.196,2,     1.36,2,  -999.0,9, -999.00,9,-999.0000,9,  -999.00,-999.000,9,-999.0000,9, -999.00,9, -999.00,9,  -999.0,9,  -999.0,-999.000,9,-999.000,     -999.0,9, -999.00,9,   58.43,2,    4.04,2,     -999.0,9,  -999.0,1, 20130501,     1517,   29.999,-172.0708,    35.0411,2,     -999.0,9,     -999.0,9,    18.6244,2,     -999.0,9,     -999.0,1,-999.0000, -999.00,-999.000
318M20130321,       P02W,      83,          1,         33,         33,2,20130501,       1302,    30.0007,  -172.0714,       5434,    51.2,  18.2038,  34.8022,2,  34.8025,2,    236.2,2,   235.5,2,    2.34,2,       0,2,       0,2,    0.04,2,   2.524,2,   1.550,2,   0.195,2,     1.47,2,  2018.3,2, 2283.61,6,    7.997,2,       25,-999.000,9,-999.0000,9, -999.00,9, -999.00,9,  -999.0,9,  -999.0,-999.000,9,-999.000,     -999.0,9, -999.00,9,   56.91,2,     4.2,2,     -999.0,9,  -999.0,1, 20130501,     1516,  29.9991,-172.0709,    34.9666,2,     -999.0,9,     -999.0,9,    18.2028,2,     -999.0,9,     -999.0,1,-999.0000, -999.00,-999.000
318M20130321,       P02W,      83,          1,         32,         32,2,20130501,       1302,    30.0007,  -172.0714,       5434,    75.5,  17.3928,  34.6937,2,  34.6954,2,    221.7,2,   236.8,2,    2.73,2,    0.11,2,    0.04,2,    0.04,2,   2.613,2,   1.598,2,   0.204,2,     1.61,2,  -999.0,9, -999.00,9,-999.0000,9,  -999.00,-999.000,9,-999.0000,9, -999.00,9, -999.00,9,  -999.0,9,  -999.0,-999.000,9,-999.000,     -999.0,9, -999.00,9,   54.89,2,    3.57,2,     -999.0,9,  -999.0,1, 20130501,     1514,  29.9992, -172.071,     34.859,2,     -999.0,9,     -999.0,9,    17.3952,2,     -999.0,9,     -999.0,1,-999.0000, -999.00,-999.000
318M20130321,       P02W,      83,          1,         31,         31,2,20130501,       1302,    30.0007,  -172.0714,       5434,   102.9,  16.5422,  34.5941,2,  34.5948,2,      230,2,   232.8,2,    3.42,2,    1.37,2,    0.18,2,    0.15,2,   2.725,2,   1.667,2,   0.205,2,     1.45,2,    2028,2, 2270.81,2,   7.9566,2,       25,-999.000,9,-999.0000,9, -999.00,9, -999.00,9,  -999.0,9,  -999.0,-999.000,9,-999.000,     -999.0,9, -999.00,9,   52.28,2,    5.76,2,     -999.0,9,  -999.0,1, 20130501,     1513,  29.9994, -172.071,    34.7579,2,     -999.0,9,     -999.0,9,    16.5213,2,     -999.0,9,     -999.0,1,-999.0000, -999.00,-999.000
318M20130321,       P02W,      83,          1,         30,         30,2,20130501,       1302,    30.0007,  -172.0714,       5434,   151.1,  15.3705,  34.5068,2,  34.5066,2,    229.4,2,   228.5,2,    4.98,2,     4.2,2,    0.02,2,    0.32,2,   2.852,2,   1.722,2,   0.174,2,     1.43,2,  -999.0,9, -999.00,9,-999.0000,9,  -999.00,-999.000,9,-999.0000,9, -999.00,9, -999.00,9,  -999.0,9,  -999.0,-999.000,9,-999.000,     -999.0,9, -999.00,9,   49.89,2,    7.54,2,     -999.0,9,  -999.0,1, 20130501,     1510,  29.9998,-172.0711,    34.6693,2,     -999.0,9,     -999.0,9,    15.3704,2,     -999.0,9,     -999.0,1,-999.0000, -999.00,-999.000
318M20130321,       P02W,      83,          1,         29,         29,2,20130501,       1302,    30.0007,  -172.0714,       5434,   201.3,  14.3791,  34.4648,2,  34.4648,2,    220.5,2,   219.1,2,    7.81,2,    7.25,2,    0.01,2,    0.53,2,   2.961,2,   1.771,2,   0.110,2,     1.53,2,  2059.2,2, 2266.61,2,    7.886,2,       25,-999.000,9,-999.0000,9, -999.00,9, -999.00,9,  -999.0,9,  -999.0,-999.000,9,-999.000,     -999.0,9, -999.00,9,   47.27,2,   10.73,2,     -999.0,9,  -999.0,1, 20130501,     1508,  30.0003,-172.0711,    34.6273,2,     -999.0,9,     -999.0,9,    14.3801,2,     -999.0,9,     -999.0,1,-999.0000, -999.00,-999.000
318M20130321,       P02W,      83,          1,         28,         28,2,20130501,       1302,    30.0007,  -172.0714,       5434,   252.6,  13.4748,  34.4095,2,  34.4104,2,    211.9,2,   212.4,2,   10.15,2,    9.38,2,    0.01,2,    0.66,2,   3.085,2,   1.811,2,   0.075,2,     1.39,2,  -999.0,9, -999.00,9,-999.0000,9,  -999.00,-999.000,9,-999.0000,9, -999.00,9, -999.00,9,  -999.0,9,  -999.0,-999.000,9,-999.000,     -999.0,9, -999.00,9,   47.71,2,   12.78,2,     -999.0,9,  -999.0,1, 20130501,     1506,  30.0007,-172.0711,    34.5726,2,     -999.0,9,     -999.0,9,    13.4761,2,     -999.0,9,     -999.0,1,-999.0000, -999.00,-999.000
318M20130321,       P02W,      83,          1,         27,         27,2,20130501,       1302,    30.0007,  -172.0714,       5434,   306.3,   12.553,  34.3485,2,  34.3501,2,    209.9,2,     210,2,    12.4,2,   11.14,2,    0.01,2,    0.79,2,   3.227,2,   1.862,2,   0.073,2,     1.36,2,  2087.4,2,    2265,2,   7.8243,2,       25,-999.000,9,-999.0000,9, -999.00,9, -999.00,9,  -999.0,9,  -999.0,-999.000,9,-999.000,     -999.0,9, -999.00,9,   44.32,2, -999.00,5,     -999.0,9,  -999.0,1, 20130501,     1503,  30.0011,-172.0712,    34.5121,2,     -999.0,9,     -999.0,9,    12.5551,2,     -999.0,9,     -999.0,1,-999.0000, -999.00,-999.000
318M20130321,       P02W,      83,          1,         26,         26,2,20130501,       1302,    30.0007,  -172.0714,       5434,   349.8,  11.6983,  34.2919,2,  34.2925,2,    208.6,2,   209.9,2,   15.13,2,   12.87,2,    0.01,2,    0.92,2,   3.304,2,   1.899,2,   0.092,2,      1.4,2,  -999.0,9, -999.00,9,-999.0000,9,  -999.00,-999.000,9,-999.0000,9, -999.00,9, -999.00,9,  -999.0,9,  -999.0,-999.000,9,-999.000,     -999.0,9, -999.00,9,   45.13,2, -999.00,9,     -999.0,9,  -999.0,1, 20130501,     1502,   30.001,-172.0714,    34.4542,2,     -999.0,9,     -999.0,9,    11.7046,2,     -999.0,9,     -999.0,1,-999.0000, -999.00,-999.000
318M20130321,       P02W,      83,          1,         25,         25,2,20130501,       1302,    30.0007,  -172.0714,       5434,   400.3,  10.6053,  34.2174,2,   34.216,2,    203.2,2,   202.6,2,   19.72,2,   15.54,2,    0.01,2,    1.09,2,   3.400,2,   1.905,2,   0.101,2,     1.13,2,  2115.9,2,  2264.3,2,    7.758,2,       25,-999.000,9,-999.0000,9, -999.00,9, -999.00,9,  -999.0,9,  -999.0,-999.000,9,-999.000,     -999.0,9, -999.00,9,   42.98,2, -999.00,9,     -999.0,9,  -999.0,1, 20130501,     1500,  30.0004,-172.0716,    34.3773,2,     -999.0,9,     -999.0,9,    10.6026,2,     -999.0,9,     -999.0,1,-999.0000, -999.00,-999.000
318M20130321,       P02W,      83,          1,         24,         24,2,20130501,       1302,    30.0007,  -172.0714,       5434,   501.8,   8.8117,  34.1057,2,  34.1048,2,      182,2,   180.5,2,   30.86,2,   20.96,2,    0.01,2,    1.51,2,-999.000,9,-999.000,9,-999.000,9,-999.0000,9,  2152.3,2, 2268.41,2,    7.673,2,       25,-999.000,9,-999.0000,9, -999.00,9, -999.00,9,  -999.0,9,  -999.0,-999.000,9,-999.000,     -999.0,9, -999.00,9,   43.08,2, -999.00,9,     -999.0,9,  -999.0,1, 20130501,     1457,       30,-172.0717,    34.2656,2,     -999.0,9,     -999.0,9,     8.7909,2,     -999.0,9,     -999.0,1,-999.0000, -999.00,-999.000
318M20130321,       P02W,      83,          1,         23,         23,2,20130501,       1302,    30.0007,  -172.0714,       5434,   604.4,   6.8197,  34.0277,2,  34.0282,2,    137.6,2,   138.1,2,   50.78,2,    28.5,2,       0,2,    2.08,2,   2.754,2,   1.436,2,   0.105,2,     0.66,2,  2208.7,2, 2281.11,2,   7.5461,2,       25,-999.000,9,-999.0000,9, -999.00,9, -999.00,9,  -999.0,9,  -999.0,-999.000,9,-999.000,     -999.0,9, -999.00,9,   40.99,2, -999.00,9,     -999.0,9,  -999.0,1, 20130501,     1454,       30,-172.0717,    34.1887,2,     -999.0,9,     -999.0,9,     6.8214,2,     -999.0,9,     -999.0,1,-999.0000, -999.00,-999.000
318M20130321,       P02W,      83,          1,         22,         22,2,20130501,       1302,    30.0007,  -172.0714,       5434,     704,   5.4003,  34.0423,2,  34.0417,2,       91,2,    93.1,2,   73.14,2,   35.07,2,       0,2,    2.57,2,-999.000,9,-999.000,9,-999.000,9,-999.0000,9,  2263.5,2, 2298.82,2,   7.4323,2,       25,-999.000,9,-999.0000,9, -999.00,9, -999.00,9,  -999.0,9,  -999.0,-999.000,9,-999.000,     -999.0,9, -999.00,9,   39.88,2, -999.00,9,     -999.0,9,  -999.0,1, 20130501,     1451,       30,-172.0717,    34.2022,2,     -999.0,9,     -999.0,9,     5.4103,2,     -999.0,9,     -999.0,1,-999.0000, -999.00,-999.000
318M20130321,       P02W,      83,          1,         21,         21,2,20130501,       1302,    30.0007,  -172.0714,       5434,   805.7,   4.5059,  34.1244,2,  34.1244,2,     52.1,2,    54.3,2,   94.82,2,   39.87,2,       0,2,     2.9,2,   0.935,2,   0.473,2,   0.029,2,     0.16,2,  2309.2,2, 2319.72,2,   7.3509,2,       25,-999.000,9,-999.0000,9, -999.00,9, -999.00,9,  -999.0,9,  -999.0,-999.000,9,-999.000,     -999.0,9, -999.00,9,   37.37,2, -999.00,9,     -999.0,9,  -999.0,1, 20130501,     1448,       30,-172.0717,    34.2853,2,     -999.0,9,     -999.0,9,     4.5056,2,     -999.0,9,     -999.0,1,-999.0000, -999.00,-999.000
318M20130321,       P02W,      83,          1,         20,         20,2,20130501,       1302,    30.0007,  -172.0714,       5434,   907.4,   4.0342,  34.2043,2,  34.2028,2,     31.7,2,    33.5,2,  109.07,2,   42.23,2,       0,2,    3.09,2,-999.000,9,-999.000,9,-999.000,9,-999.0000,9,  2339.6,6, 2335.93,2,   7.3142,6,       25,-999.000,9,-999.0000,9, -999.00,9, -999.00,9,  -999.0,9,  -999.0,-999.000,9,-999.000,     -999.0,9, -999.00,9,   37.35,2, -999.00,9,     -999.0,9,  -999.0,1, 20130501,     1445,       30,-172.0717,    34.3641,2,     -999.0,9,     -999.0,9,     4.0343,2,     -999.0,9,     -999.0,1,-999.0000, -999.00,-999.000
318M20130321,       P02W,      83,          1,         19,         19,2,20130501,       1302,    30.0007,  -172.0714,       5434,    1006,   3.6313,   34.293,2,  34.2919,2,       20,2,    18.5,2,  122.92,2,   43.76,2,       0,2,    3.17,2,   0.146,2,   0.080,2,   0.001,2,     0.04,2,  2361.8,2, 2353.94,2,   7.2965,2,       25,-999.000,9,-999.0000,9, -999.00,9, -999.00,9,  -999.0,9,  -999.0,-999.000,9,-999.000,     -999.0,9, -999.00,9,   35.54,2, -999.00,9,     -999.0,9,  -999.0,1, 20130501,     1442,       30,-172.0717,    34.4536,2,     -999.0,9,     -999.0,9,     3.6326,2,     -999.0,9,     -999.0,1,-999.0000, -999.00,-999.000
318M20130321,       P02W,      83,          1,         18,         18,2,20130501,       1302,    30.0007,  -172.0714,       5434,  1208.1,   3.1932,  34.4359,2,  34.4347,2,     28.7,2,    27.5,2,  135.31,2,   43.72,2,       0,2,    3.18,2,-999.000,9,-999.000,9,-999.000,9,-999.0000,9,  2373.4,2, 2377.94,2,   7.3293,2,       25,-999.000,9,-999.0000,9, -999.00,9, -999.00,9,  -999.0,9,  -999.0,-999.000,9,-999.000,     -999.0,9, -999.00,9,   34.39,2, -999.00,9,     -999.0,9,  -999.0,1, 20130501,     1437,       30,-172.0717,    34.5971,2,     -999.0,9,     -999.0,9,     3.1941,2,     -999.0,9,     -999.0,1,-999.0000, -999.00,-999.000
318M20130321,       P02W,      83,          1,         17,         17,2,20130501,       1302,    30.0007,  -172.0714,       5434,  1412.9,   2.8149,  34.5086,2,  34.5078,2,       43,2,    41.8,2,  143.79,2,   42.96,2,       0,2,    3.14,2,   0.021,2,   0.017,2,   0.000,2,        0,2,    2375,2, 2391.95,2,   7.3694,2,       25,-999.000,9,-999.0000,9, -999.00,9, -999.00,9,  -999.0,9,  -999.0,-999.000,9,-999.000,     -999.0,9, -999.00,9,   36.26,2, -999.00,9,     -999.0,9,  -999.0,1, 20130501,     1432,       30,-172.0717,    34.6705,2,     -999.0,9,     -999.0,9,      2.815,2,     -999.0,9,     -999.0,1,-999.0000, -999.00,-999.000
318M20130321,       P02W,      83,          1,         16,         16,2,20130501,       1302,    30.0007,  -172.0714,       5434,  1613.7,   2.4605,  34.5509,2,  34.5506,2,     53.3,2,    53.2,2,  152.57,2,   42.42,2,       0,2,    3.06,2,-999.000,9,-999.000,9,-999.000,9,-999.0000,9,  2376.9,2, 2402.15,2,    7.387,2,       25,-999.000,9,-999.0000,9, -999.00,9, -999.00,9,  -999.0,9,  -999.0,-999.000,9,-999.000,     -999.0,9, -999.00,9,    35.3,2, -999.00,9,     -999.0,9,  -999.0,1, 20130501,     1427,       30,-172.0717,    34.7135,2,     -999.0,9,     -999.0,9,     2.4624,2,     -999.0,9,     -999.0,1,-999.0000, -999.00,-999.000
318M20130321,       P02W,      83,          1,         15,         15,2,20130501,       1302,    30.0007,  -172.0714,       5434,  1817.4,   2.1887,  34.5834,2,  34.5828,2,     66.2,2,    66.7,2,  158.43,2,   41.59,2,       0,2,    2.98,2,   0.016,2,   0.015,2,   0.000,2,     0.01,2,  2374.4,2, 2408.26,2,   7.4143,2,       25,-999.000,9,-999.0000,9, -999.00,9, -999.00,9,  -999.0,9,  -999.0,-999.000,9,-999.000,     -999.0,9, -999.00,9,   34.68,2, -999.00,9,     -999.0,9,  -999.0,1, 20130501,     1423,  29.9999,-172.0718,    34.7459,2,     -999.0,9,     -999.0,9,      2.189,2,     -999.0,9,     -999.0,1,-999.0000, -999.00,-999.000
318M20130321,       P02W,      83,          1,         14,         14,2,20130501,       1302,    30.0007,  -172.0714,       5434,    2020,   1.9608,  34.6093,2,  34.6091,2,     78.9,2,    79.6,2,  162.13,2,    40.8,2,       0,2,    2.89,2,-999.000,9,-999.000,9,-999.000,9,-999.0000,9,  2371.4,2, 2413.56,2,   7.4395,6,       25,-999.000,9,-999.0000,9, -999.00,9, -999.00,9,  -999.0,9,  -999.0,-999.000,9,-999.000,     -999.0,9, -999.00,9,   34.89,2, -999.00,9,     -999.0,9,  -999.0,1, 20130501,     1418,       30,-172.0717,    34.7723,2,     -999.0,9,     -999.0,9,      1.962,2,     -999.0,9,     -999.0,1,-999.0000, -999.00,-999.000
318M20130321,       P02W,      83,          1,         13,         13,2,20130501,       1302,    30.0007,  -172.0714,       5434,  2275.9,   1.7931,  34.6301,2,  34.6297,2,     93.7,2,    93.9,2,  163.01,2,   39.86,2,       0,2,    2.84,2,   0.018,2,   0.012,2,   0.000,2,     0.02,2,  2364.8,2, 2416.76,2,   7.4676,2,       25,-999.000,9,-999.0000,9, -999.00,9, -999.00,9,  -999.0,9,  -999.0,-999.000,9,-999.000,     -999.0,9, -999.00,9,   35.75,2, -999.00,9,     -999.0,9,  -999.0,1, 20130501,     1412,       30,-172.0717,     34.793,2,     -999.0,9,     -999.0,9,     1.7938,2,     -999.0,9,     -999.0,1,-999.0000, -999.00,-999.000
318M20130321,       P02W,      83,          1,         11,         11,2,20130501,       1302,    30.0007,  -172.0714,       5434,  2526.5,   1.6777,  34.6446,2,  34.6451,2,    106.2,2,   106.3,2,  162.62,2,   39.08,2,       0,2,    2.78,2,   0.008,2,   0.010,2,   0.000,2,        0,2,  -999.0,9, -999.00,9,-999.0000,9,  -999.00,-999.000,9,-999.0000,9, -999.00,9, -999.00,9,  -999.0,9,  -999.0,-999.000,9,-999.000,     -999.0,9, -999.00,9,   35.09,2, -999.00,9,     -999.0,9,  -999.0,1, 20130501,     1407,       30,-172.0717,    34.8084,2,     -999.0,9,     -999.0,9,     1.6774,2,     -999.0,9,     -999.0,1,-999.0000, -999.00,-999.000
318M20130321,       P02W,      83,          1,         10,         10,2,20130501,       1302,    30.0007,  -172.0714,       5434,  2783.6,   1.6059,   34.655,2,  34.6547,2,    115.2,2,   115.4,2,  161.25,2,   38.45,2,       0,2,    2.73,2,-999.000,9,-999.000,9,-999.000,9,-999.0000,9,  2351.8,2, 2420.56,3,   7.5091,2,       25,-999.000,9,-999.0000,9, -999.00,9, -999.00,9,  -999.0,9,  -999.0,-999.000,9,-999.000,     -999.0,9, -999.00,9, -999.00,5, -999.00,9,     -999.0,9,  -999.0,1, 20130501,     1401,       30,-172.0717,    34.8181,2,     -999.0,9,     -999.0,9,     1.6057,2,     -999.0,9,     -999.0,1,-999.0000, -999.00,-999.000
318M20130321,       P02W,      83,          1,          9,          9,2,20130501,       1302,    30.0007,  -172.0714,       5434,  3038.3,   1.5422,  34.6642,2,  34.6631,2,    124.3,2,   124.2,2,  160.66,2,   37.88,2,       0,2,    2.67,2,   0.015,2,   0.013,2,   0.000,2,        0,2,  -999.0,9, -999.00,9,-999.0000,9,  -999.00,-999.000,9,-999.0000,9, -999.00,9, -999.00,9,  -999.0,9,  -999.0,-999.000,9,-999.000,     -999.0,9, -999.00,9, -999.00,9, -999.00,9,     -999.0,9,  -999.0,1, 20130501,     1355,       30,-172.0717,    34.8266,2,     -999.0,9,     -999.0,9,     1.5421,2,     -999.0,9,     -999.0,1,-999.0000, -999.00,-999.000
318M20130321,       P02W,      83,          1,          8,          8,2,20130501,       1302,    30.0007,  -172.0714,       5434,  3345.4,   1.4956,  34.6728,2,  34.6724,2,      135,2,   135.2,2,  157.25,2,   37.19,2,       0,2,    2.61,2,-999.000,9,-999.000,9,-999.000,9,-999.0000,9,  2339.5,2, 2416.86,2,   7.5421,2,       25,-999.000,9,-999.0000,9, -999.00,9, -999.00,9,  -999.0,9,  -999.0,-999.000,9,-999.000,     -999.0,9, -999.00,9,    36.1,2, -999.00,9,     -999.0,9,  -999.0,1, 20130501,     1348,       30,-172.0717,    34.8359,2,     -999.0,9,     -999.0,9,      1.496,2,     -999.0,9,     -999.0,1,-999.0000, -999.00,-999.000
318M20130321,       P02W,      83,          1,          7,          7,2,20130501,       1302,    30.0007,  -172.0714,       5434,  3652.4,   1.4734,  34.6786,2,  34.6777,2,    142.1,2,   141.7,2,  156.27,2,   36.76,2,       0,2,    2.57,2,   0.018,2,   0.009,2,   0.000,2,     0.02,2,  -999.0,9, -999.00,9,-999.0000,9,  -999.00,-999.000,9,-999.0000,9, -999.00,9, -999.00,9,  -999.0,9,  -999.0,-999.000,9,-999.000,     -999.0,9, -999.00,9, -999.00,9, -999.00,9,     -999.0,9,  -999.0,1, 20130501,     1342,       30,-172.0717,    34.8412,2,     -999.0,9,     -999.0,9,      1.473,2,     -999.0,9,     -999.0,1,-999.0000, -999.00,-999.000
318M20130321,       P02W,      83,          1,          6,          6,2,20130501,       1302,    30.0007,  -172.0714,       5434,  4062.6,   1.4648,  34.6844,2,  34.6832,2,    148.3,2,   147.7,2,     155,2,   36.33,2,       0,2,    2.57,2,-999.000,9,-999.000,9,-999.000,9,-999.0000,9,  2329.2,2, 2417.16,2,   7.5676,2,       25,-999.000,9,-999.0000,9, -999.00,9, -999.00,9,  -999.0,9,  -999.0,-999.000,9,-999.000,     -999.0,9, -999.00,9,   36.59,2, -999.00,9,     -999.0,9,  -999.0,1, 20130501,     1333,       30,-172.0717,    34.8467,2,     -999.0,9,     -999.0,9,     1.4651,2,     -999.0,9,     -999.0,1,-999.0000, -999.00,-999.000