BOTTLE,20220817CCHSIOAMB
EXPOCODE,SECT_ID,STNNBR,CASTNO,SAMPNO,BTLNBR,BTLNBR_FLAG_W,DATE,TIME,LATITUDE,LONGITUDE,DEPTH,CTDPRS,CTDTMP,CTDSAL,CTDSAL_FLAG_W,SALNTY,SALNTY_FLAG_W,CTDOXY,CTDOXY_FLAG_W,OXYGEN,OXYGEN_FLAG_W,SILCAT,SILCAT_FLAG_W,NITRAT,NITRAT_FLAG_W,NITRIT,NITRIT_FLAG_W,PHSPHT,PHSPHT_FLAG_W,CFC-11,CFC-11_FLAG_W,CFC-12,CFC-12_FLAG_W,CFC113,CFC113_FLAG_W,SF6,SF6_FLAG_W,TCARBN,TCARBN_FLAG_W,ALKALI,ALKALI_FLAG_W,PH_TOT,PH_TOT_FLAG_W,PH_TMP,TRITUM,TRITUM_FLAG_W,HELIUM,HELIUM_FLAG_W,DELHE3,DELHE3_FLAG_W,DELC13,DELC13_FLAG_W,DELC14,DELC14_FLAG_W,C14ERR,NEON,NEON_FLAG_W,NEONER,I-129,I-129_FLAG_W,SR-90,SR-90_FLAG_W,DOC,DOC_FLAG_W,TDN,TDN_FLAG_W,CALCIUM,CALCIUM_FLAG_W,D15N_NO3,D15N_NO3_FLAG_W,BTL_DATE,BTL_TIME,BTL_LAT,BTL_LON,SALTREF,SALTREF_FLAG_W,CS-137,CS-137_FLAG_W,CS-134,CS-134_FLAG_W,REFTMP,REFTMP_FLAG_W,LAB_DEN,LAB_DEN_FLAG_W,D18O_NO3,D18O_NO3_FLAG_W,HELIER,DELHER,TRITER
,,,,,,,,,,,METERS,DBAR,ITS-90,PSS-78,,PSS-78,,UMOL/KG,,UMOL/KG,,UMOL/KG,,UMOL/KG,,UMOL/KG,,UMOL/KG,,PMOL/KG,,PMOL/KG,,PMOL/KG,,FMOL/KG,,UMOL/KG,,UMOL/KG,,,,DEG C,TU,,NMOL/KG,,PERCNT,,/MILLE,,/MILLE,,/MILLE,NMOL/KG,,NMOL/KG,BQ/M^3,,DM/.1MG,,UMOL/KG,,UMOL/KG,,MMOL/KG,,/MILLE,,,,,,G/KG,,BQ/M^3,,BQ/M^3,,ITS-90,,,,/MILLE,,NMOL/KG,PERCNT,TU
318M20130321,       P02W,      20,          1,         36,         36,2,20130410,       2225,    29.9997,   138.3611,       3678,     3.2,  19.0496,  34.7277,2,  34.7264,2,    230.8,2,   231.7,2,    1.76,2,       0,2,       0,2,    0.02,2,   2.424,2,   1.507,2,   0.265,2,     1.46,2,  1999.2,6, 2279.71,2,   8.0249,2,       25,-999.000,9,-999.0000,9, -999.00,9, -999.00,9,  -999.0,9,  -999.0,-999.000,9,-999.000,     -999.0,9, -999.00,9, -999.00,9, -999.00,9,     -999.0,9,  -999.0,9, 20130411,        9,   30.001,  138.364,    34.8902,2,     -999.0,9,     -999.0,9,      19.05,2,     -999.0,9,     -999.0,9,-999.0000, -999.00,-999.000
318M20130321,       P02W,      20,          1,         35,         35,2,20130410,       2225,    29.9997,   138.3611,       3678,    25.4,  19.0479,  34.7275,2,  34.7263,2,    232.6,2,   231.6,2,    1.95,2,       0,2,       0,2,    0.03,2,-999.000,9,-999.000,9,-999.000,9,-999.0000,9,  1998.8,2, 2277.11,2,   8.0244,6,       25,-999.000,9,-999.0000,9, -999.00,9, -999.00,9,  -999.0,9,  -999.0,-999.000,9,-999.000,     -999.0,9, -999.00,9, -999.00,9, -999.00,9,     -999.0,9,  -999.0,9, 20130411,        7,  30.0009, 138.3639,      34.89,2,     -999.0,9,     -999.0,9,    19.0491,2,     -999.0,9,     -999.0,9,-999.0000, -999.00,-999.000
318M20130321,       P02W,      20,          1,         34,         34,2,20130410,       2225,    29.9997,   138.3611,       3678,    51.1,   19.052,  34.7276,2,  34.7266,2,    231.6,2,   231.6,2,    1.56,2,       0,2,       0,2,    0.02,2,   2.449,2,   1.501,2,   0.220,2,     1.48,2,  1997.5,2, 2277.91,6,    8.024,2,       25,-999.000,9,-999.0000,9, -999.00,9, -999.00,9,  -999.0,9,  -999.0,-999.000,9,-999.000,     -999.0,9, -999.00,9, -999.00,9, -999.00,9,     -999.0,9,  -999.0,9, 20130411,        6,  30.0009, 138.3638,    34.8904,2,     -999.0,9,     -999.0,9,    19.0525,2,     -999.0,9,     -999.0,9,-999.0000, -999.00,-999.000
318M20130321,       P02W,      20,          1,         33,         33,2,20130410,       2225,    29.9997,   138.3611,       3678,    75.4,   18.972,  34.7246,2,  34.7231,2,    231.6,2,     230,2,    1.85,2,    0.04,2,    0.07,2,    0.04,2,-999.000,9,-999.000,9,-999.000,9,-999.0000,9,  -999.0,9, -999.00,9,-999.0000,9,  -999.00,-999.000,9,-999.0000,9, -999.00,9, -999.00,9,  -999.0,9,  -999.0,-999.000,9,-999.000,     -999.0,9, -999.00,9, -999.00,9, -999.00,9,     -999.0,9,  -999.0,9, 20130411,        4,  30.0008, 138.3636,    34.8869,2,     -999.0,9,     -999.0,9,    18.9728,2,     -999.0,9,     -999.0,9,-999.0000, -999.00,-999.000
318M20130321,       P02W,      20,          1,         32,         32,2,20130410,       2225,    29.9997,   138.3611,       3678,   100.6,  18.6076,  34.8062,2,  34.8034,2,      227,2,   222.7,2,    2.15,2,    1.11,2,    0.06,2,     0.1,2,   2.470,2,   1.506,2,   0.187,2,      1.5,2,  2012.1,2, 2282.81,6,   8.0031,2,       25,-999.000,9,-999.0000,9, -999.00,9, -999.00,9,  -999.0,9,  -999.0,-999.000,9,-999.000,     -999.0,9, -999.00,9, -999.00,9, -999.00,9,     -999.0,9,  -999.0,9, 20130411,        2,  30.0009, 138.3634,    34.9675,2,     -999.0,9,     -999.0,9,      18.61,2,     -999.0,9,     -999.0,9,-999.0000, -999.00,-999.000
318M20130321,       P02W,      20,          1,         31,         31,4,20130410,       2225,    29.9997,   138.3611,       3678,     124,  18.3982,  34.7949,2,  34.7271,4,    222.7,2,   231.5,4,    1.76,4,       0,4,       0,4,    0.02,4,-999.000,9,-999.000,9,-999.000,9,-999.0000,9,  -999.0,9, -999.00,9,-999.0000,9,  -999.00,-999.000,9,-999.0000,9, -999.00,9, -999.00,9,  -999.0,9,  -999.0,-999.000,9,-999.000,     -999.0,9, -999.00,9, -999.00,9, -999.00,9,     -999.0,9,  -999.0,9, 20130411,        1,  30.0009, 138.3632,    34.8908,4,     -999.0,9,     -999.0,9,    18.3995,2,     -999.0,9,     -999.0,9,-999.0000, -999.00,-999.000
318M20130321,       P02W,      20,          1,         30,         30,2,20130410,       2225,    29.9997,   138.3611,       3678,   149.9,  18.3108,  34.7894,2,  34.7876,2,      223,2,   223.1,2,    2.44,2,    1.51,2,    0.02,2,    0.12,2,   2.500,2,   1.523,2,   0.186,2,     1.53,2,  2011.3,2, 2280.71,2,   8.0001,2,       25,-999.000,9,-999.0000,9, -999.00,9, -999.00,9,  -999.0,9,  -999.0,-999.000,9,-999.000,     -999.0,9, -999.00,9, -999.00,9, -999.00,9,     -999.0,9,  -999.0,9, 20130410,     2359,  30.0009, 138.3632,    34.9517,2,     -999.0,9,     -999.0,9,    18.3111,2,     -999.0,9,     -999.0,9,-999.0000, -999.00,-999.000
318M20130321,       P02W,      20,          1,         29,         29,2,20130410,       2225,    29.9997,   138.3611,       3678,   175.2,  18.2771,  34.7948,2,  34.7931,2,      223,2,     223,2,    2.34,2,    1.47,2,    0.02,2,    0.12,2,-999.000,9,-999.000,9,-999.000,9,-999.0000,9,  -999.0,9, -999.00,9,-999.0000,9,  -999.00,-999.000,9,-999.0000,9, -999.00,9, -999.00,9,  -999.0,9,  -999.0,-999.000,9,-999.000,     -999.0,9, -999.00,9, -999.00,9, -999.00,9,     -999.0,9,  -999.0,9, 20130410,     2358,  30.0008, 138.3631,    34.9572,2,     -999.0,9,     -999.0,9,     18.277,2,     -999.0,9,     -999.0,9,-999.0000, -999.00,-999.000
318M20130321,       P02W,      20,          1,         28,         28,2,20130410,       2225,    29.9997,   138.3611,       3678,   201.2,  18.1389,  34.7817,2,  34.7804,2,    222.6,2,   221.9,2,    2.54,2,    1.79,2,    0.02,2,    0.14,2,   2.505,2,   1.521,2,   0.194,2,     1.49,2,  2014.8,2, 2280.61,2,   7.9943,2,       25,-999.000,9,-999.0000,9, -999.00,9, -999.00,9,  -999.0,9,  -999.0,-999.000,9,-999.000,     -999.0,9, -999.00,9, -999.00,9, -999.00,9,     -999.0,9,  -999.0,9, 20130410,     2357,  30.0007, 138.3631,    34.9444,2,     -999.0,9,     -999.0,9,    18.1432,2,     -999.0,9,     -999.0,9,-999.0000, -999.00,-999.000
318M20130321,       P02W,      20,          1,         27,         27,2,20130410,       2225,    29.9997,   138.3611,       3678,   250.7,  17.8189,   34.761,2,  34.7596,2,      222,2,   220.5,2,    2.73,2,    2.36,2,    0.02,2,    0.18,2,-999.000,9,-999.000,9,-999.000,9,-999.0000,9,  -999.0,9, -999.00,9,-999.0000,9,  -999.00,-999.000,9,-999.0000,9, -999.00,9, -999.00,9,  -999.0,9,  -999.0,-999.000,9,-999.000,     -999.0,9, -999.00,9, -999.00,9, -999.00,9,     -999.0,9,  -999.0,9, 20130410,     2355,  30.0006, 138.3629,    34.9235,2,     -999.0,9,     -999.0,9,     17.819,2,     -999.0,9,     -999.0,9,-999.0000, -999.00,-999.000
318M20130321,       P02W,      20,          1,         26,         26,2,20130410,       2225,    29.9997,   138.3611,       3678,   303.2,  17.5007,   34.741,2,  34.7401,2,    220.1,2,   224.7,2,    2.93,2,    2.56,2,    0.02,2,    0.19,2,   2.613,2,   1.594,2,   0.185,2,     1.58,2,  2019.9,2, 2276.91,2,   7.9823,2,       25,-999.000,9,-999.0000,9, -999.00,9, -999.00,9,  -999.0,9,  -999.0,-999.000,9,-999.000,     -999.0,9, -999.00,9, -999.00,9, -999.00,9,     -999.0,9,  -999.0,9, 20130410,     2353,  30.0005, 138.3628,    34.9039,2,     -999.0,9,     -999.0,9,    17.4996,2,     -999.0,9,     -999.0,9,-999.0000, -999.00,-999.000
318M20130321,       P02W,      20,          1,         25,         25,2,20130410,       2225,    29.9997,   138.3611,       3678,   352.2,  17.2646,  34.7209,2,  34.7197,2,      215,2,   221.3,2,    3.22,2,    3.23,2,    0.01,2,    0.22,2,-999.000,9,-999.000,9,-999.000,9,-999.0000,9,  -999.0,9, -999.00,9,-999.0000,9,  -999.00,-999.000,9,-999.0000,9, -999.00,9, -999.00,9,  -999.0,9,  -999.0,-999.000,9,-999.000,     -999.0,9, -999.00,9, -999.00,9, -999.00,9,     -999.0,9,  -999.0,9, 20130410,     2351,  30.0005, 138.3627,    34.8834,2,     -999.0,9,     -999.0,9,    17.2613,2,     -999.0,9,     -999.0,9,-999.0000, -999.00,-999.000
318M20130321,       P02W,      20,          1,         24,         24,2,20130410,       2225,    29.9997,   138.3611,       3678,   400.1,  16.9374,  34.6996,2,  34.6987,2,    209.9,2,   211.1,2,    4.39,2,    4.67,2,    0.01,2,    0.32,2,   2.708,2,   1.621,2,   0.085,2,     1.35,2,  2034.2,2, 2275.91,2,   7.9489,6,       25,-999.000,9,-999.0000,9, -999.00,9, -999.00,9,  -999.0,9,  -999.0,-999.000,9,-999.000,     -999.0,9, -999.00,9, -999.00,9, -999.00,9,     -999.0,9,  -999.0,9, 20130410,     2349,  30.0004, 138.3626,    34.8623,2,     -999.0,9,     -999.0,9,    16.9355,2,     -999.0,9,     -999.0,9,-999.0000, -999.00,-999.000
318M20130321,       P02W,      20,          1,         23,         23,2,20130410,       2225,    29.9997,   138.3611,       3678,   454.5,  16.1542,  34.6389,2,  34.6389,2,    199.2,2,   197.1,2,    7.32,2,    7.18,2,    0.01,2,     0.5,2,-999.000,9,-999.000,9,-999.000,9,-999.0000,9,  -999.0,9, -999.00,9,-999.0000,9,  -999.00,-999.000,9,-999.0000,9, -999.00,9, -999.00,9,  -999.0,9,  -999.0,-999.000,9,-999.000,     -999.0,9, -999.00,9, -999.00,9, -999.00,9,     -999.0,9,  -999.0,9, 20130410,     2346,  30.0001, 138.3626,    34.8023,2,     -999.0,9,     -999.0,9,    16.1543,2,     -999.0,9,     -999.0,9,-999.0000, -999.00,-999.000
318M20130321,       P02W,      20,          1,         22,         38,2,20130410,       2225,    29.9997,   138.3611,       3678,   504.4,  14.8106,  34.5448,2,  34.5442,2,      185,2,   184.9,2,   11.91,2,   10.44,2,       0,2,    0.72,2,   2.897,2,   1.632,2,   0.049,2,     1.18,2,  2078.7,2, 2272.81,2,   7.8547,2,       25,-999.000,9,-999.0000,9, -999.00,9, -999.00,9,  -999.0,9,  -999.0,-999.000,9,-999.000,     -999.0,9, -999.00,9, -999.00,9, -999.00,9,     -999.0,9,  -999.0,9, 20130410,     2344,       30, 138.3624,    34.7071,2,     -999.0,9,     -999.0,9,    14.8094,2,     -999.0,9,     -999.0,9,-999.0000, -999.00,-999.000
318M20130321,       P02W,      20,          1,         21,         21,2,20130410,       2225,    29.9997,   138.3611,       3678,   611.4,  11.4446,  34.3207,2,  34.3211,2,    180.1,2,   180.4,2,   23.33,2,    16.2,2,       0,2,    1.15,2,-999.000,9,-999.000,9,-999.000,9,-999.0000,9,  -999.0,9, -999.00,9,-999.0000,9,  -999.00,-999.000,9,-999.0000,9, -999.00,9, -999.00,9,  -999.0,9,  -999.0,-999.000,9,-999.000,     -999.0,9, -999.00,9, -999.00,9, -999.00,9,     -999.0,9,  -999.0,9, 20130410,     2341,       30, 138.3622,    34.4829,2,     -999.0,9,     -999.0,9,    11.4384,2,     -999.0,9,     -999.0,9,-999.0000, -999.00,-999.000
318M20130321,       P02W,      20,          1,         20,         20,2,20130410,       2225,    29.9997,   138.3611,       3678,   698.7,   9.1138,   34.168,2,  34.1715,2,    166.4,2,   166.5,2,   35.84,2,   21.24,2,       0,2,    1.53,2,   3.006,2,   1.589,2,   0.109,2,     0.95,2,  2159.2,2, 2276.61,2,   7.6719,2,       25,-999.000,9,-999.0000,9, -999.00,9, -999.00,9,  -999.0,9,  -999.0,-999.000,9,-999.000,     -999.0,9, -999.00,9, -999.00,9, -999.00,9,     -999.0,9,  -999.0,9, 20130410,     2339,  30.0002, 138.3618,    34.3326,2,     -999.0,9,     -999.0,9,     9.1179,2,     -999.0,9,     -999.0,9,-999.0000, -999.00,-999.000
318M20130321,       P02W,      20,          1,         19,         19,2,20130410,       2225,    29.9997,   138.3611,       3678,   798.9,   7.0508,  34.0952,2,  34.0954,2,    136.3,2,   136.9,2,   55.46,2,   27.89,2,       0,2,    2.03,2,-999.000,9,-999.000,9,-999.000,9,-999.0000,9,  -999.0,9, -999.00,9,-999.0000,9,  -999.00,-999.000,9,-999.0000,9, -999.00,9, -999.00,9,  -999.0,9,  -999.0,-999.000,9,-999.000,     -999.0,9, -999.00,9, -999.00,9, -999.00,9,     -999.0,9,  -999.0,9, 20130410,     2336,  30.0004, 138.3617,    34.2562,2,     -999.0,9,     -999.0,9,     7.0455,2,     -999.0,9,     -999.0,9,-999.0000, -999.00,-999.000
318M20130321,       P02W,      20,          1,         18,         18,2,20130410,       2225,    29.9997,   138.3611,       3678,   902.7,   5.9632,  34.1696,2,  34.1693,2,      100,2,    99.5,2,   75.77,2,   33.02,2,       0,2,    2.41,2,   1.606,2,   0.879,2,   0.065,2,     0.44,2,  2257.5,2, 2307.12,2,    7.478,2,       25,-999.000,9,-999.0000,9, -999.00,9, -999.00,9,  -999.0,9,  -999.0,-999.000,9,-999.000,     -999.0,9, -999.00,9, -999.00,9, -999.00,9,     -999.0,9,  -999.0,9, 20130410,     2333,  30.0001, 138.3618,    34.3304,2,     -999.0,9,     -999.0,9,     5.9657,2,     -999.0,9,     -999.0,9,-999.0000, -999.00,-999.000
318M20130321,       P02W,      20,          1,         17,         17,2,20130410,       2225,    29.9997,   138.3611,       3678,  1003.8,   4.8064,  34.2379,2,  34.2364,2,     75.7,2,    73.3,2,   96.66,2,    37.2,2,       0,2,    2.69,2,-999.000,9,-999.000,9,-999.000,9,-999.0000,9,  -999.0,9, -999.00,9,-999.0000,9,  -999.00,-999.000,9,-999.0000,9, -999.00,9, -999.00,9,  -999.0,9,  -999.0,-999.000,9,-999.000,     -999.0,9, -999.00,9, -999.00,9, -999.00,9,     -999.0,9,  -999.0,9, 20130410,     2330,  29.9998, 138.3618,    34.3978,2,     -999.0,9,     -999.0,9,     4.8067,2,     -999.0,9,     -999.0,9,-999.0000, -999.00,-999.000
318M20130321,       P02W,      20,          1,         16,         16,2,20130410,       2225,    29.9997,   138.3611,       3678,  1104.7,   4.2477,  34.3011,2,  34.3019,2,     62.3,2,    63.7,2,  110.03,2,   38.88,2,       0,2,    2.81,2,   0.685,2,   0.380,2,   0.036,2,     0.19,2,    2320,2, 2346.13,2,   7.3935,2,       25,-999.000,9,-999.0000,9, -999.00,9, -999.00,9,  -999.0,9,  -999.0,-999.000,9,-999.000,     -999.0,9, -999.00,9, -999.00,9, -999.00,9,     -999.0,9,  -999.0,9, 20130410,     2328,  29.9997, 138.3619,    34.4637,2,     -999.0,9,     -999.0,9,     4.2464,2,     -999.0,9,     -999.0,9,-999.0000, -999.00,-999.000
318M20130321,       P02W,      20,          1,         15,         15,2,20130410,       2225,    29.9997,   138.3611,       3678,  1206.1,   3.7548,  34.3475,2,  34.3466,2,     55.7,2,    56.3,2,  120.77,2,   40.03,2,       0,2,     2.9,2,-999.000,9,-999.000,9,-999.000,9,-999.0000,9,  2335.1,2, 2357.04,2,   7.3796,2,       25,-999.000,9,-999.0000,9, -999.00,9, -999.00,9,  -999.0,9,  -999.0,-999.000,9,-999.000,     -999.0,9, -999.00,9, -999.00,9, -999.00,9,     -999.0,9,  -999.0,9, 20130410,     2325,  29.9998, 138.3622,    34.5086,2,     -999.0,9,     -999.0,9,     3.7566,2,     -999.0,9,     -999.0,9,-999.0000, -999.00,-999.000
318M20130321,       P02W,      20,          1,         14,         14,2,20130410,       2225,    29.9997,   138.3611,       3678,    1310,   3.3382,  34.3974,2,  34.3977,2,     52.8,2,    53.8,2,  130.14,2,   40.87,2,       0,2,    2.95,2,   0.324,2,   0.175,2,   0.027,2,     0.09,2,  2348.8,2, 2368.74,2,   7.3757,2,       25,-999.000,9,-999.0000,9, -999.00,9, -999.00,9,  -999.0,9,  -999.0,-999.000,9,-999.000,     -999.0,9, -999.00,9, -999.00,9, -999.00,9,     -999.0,9,  -999.0,9, 20130410,     2322,  29.9998, 138.3624,    34.5599,2,     -999.0,9,     -999.0,9,     3.3382,2,     -999.0,9,     -999.0,9,-999.0000, -999.00,-999.000
318M20130321,       P02W,      20,          1,         13,         13,2,20130410,       2225,    29.9997,   138.3611,       3678,  1412.8,   3.0441,  34.4388,2,  34.4387,2,     55.3,2,    55.4,2,  136.67,2,   41.16,2,       0,2,    2.96,2,-999.000,9,-999.000,9,-999.000,9,-999.0000,9,  -999.0,9, -999.00,9,-999.0000,9,  -999.00,-999.000,9,-999.0000,9, -999.00,9, -999.00,9,  -999.0,9,  -999.0,-999.000,9,-999.000,     -999.0,9, -999.00,9, -999.00,9, -999.00,9,     -999.0,9,  -999.0,9, 20130410,     2319,       30, 138.3623,    34.6011,2,     -999.0,9,     -999.0,9,     3.0444,2,     -999.0,9,     -999.0,9,-999.0000, -999.00,-999.000
318M20130321,       P02W,      20,          1,         12,         12,2,20130410,       2225,    29.9997,   138.3611,       3678,  1512.5,   2.8266,  34.4688,2,  34.4688,2,     57.2,2,      57,2,  141.94,2,   41.27,2,       0,2,    2.98,2,   0.146,2,   0.077,2,   0.017,2,      0.1,2,  2362.8,2, 2383.15,2,   7.3852,2,       25,-999.000,9,-999.0000,9, -999.00,9, -999.00,9,  -999.0,9,  -999.0,-999.000,9,-999.000,     -999.0,9, -999.00,9, -999.00,9, -999.00,9,     -999.0,9,  -999.0,9, 20130410,     2317,  30.0001, 138.3622,    34.6313,2,     -999.0,9,     -999.0,9,     2.8265,2,     -999.0,9,     -999.0,9,-999.0000, -999.00,-999.000
318M20130321,       P02W,      20,          1,         11,         11,2,20130410,       2225,    29.9997,   138.3611,       3678,  1614.2,   2.5972,  34.5007,2,     34.5,2,       62,2,    60.6,2,  146.53,2,   41.14,2,       0,2,    2.96,2,-999.000,9,-999.000,9,-999.000,9,-999.0000,9,  2363.6,2, 2392.55,2,   7.3927,6,       25,-999.000,9,-999.0000,9, -999.00,9, -999.00,9,  -999.0,9,  -999.0,-999.000,9,-999.000,     -999.0,9, -999.00,9, -999.00,9, -999.00,9,     -999.0,9,  -999.0,9, 20130410,     2314,  30.0003,  138.362,    34.6627,2,     -999.0,9,     -999.0,9,     2.5971,2,     -999.0,9,     -999.0,9,-999.0000, -999.00,-999.000
318M20130321,       P02W,      20,          1,         10,         10,2,20130410,       2225,    29.9997,   138.3611,       3678,  1715.9,   2.4449,   34.524,2,  34.5239,2,       66,2,    65.7,2,  149.36,2,   41.04,2,       0,2,    2.95,2,   0.071,2,   0.039,2,   0.020,2,     0.05,2,  -999.0,9, -999.00,9,-999.0000,9,  -999.00,-999.000,9,-999.0000,9, -999.00,9, -999.00,9,  -999.0,9,  -999.0,-999.000,9,-999.000,     -999.0,9, -999.00,9, -999.00,9, -999.00,9,     -999.0,9,  -999.0,9, 20130410,     2311,  30.0003,  138.362,    34.6867,2,     -999.0,9,     -999.0,9,      2.445,2,     -999.0,9,     -999.0,9,-999.0000, -999.00,-999.000
318M20130321,       P02W,      20,          1,          9,          9,2,20130410,       2225,    29.9997,   138.3611,       3678,  1816.2,   2.2958,  34.5483,2,  34.5489,2,     73.6,2,    73.6,2,  150.52,2,   40.58,2,       0,2,     2.9,2,-999.000,9,-999.000,9,-999.000,9,-999.0000,9,  2364.9,2, 2399.65,2,   7.4209,2,       25,-999.000,9,-999.0000,9, -999.00,9, -999.00,9,  -999.0,9,  -999.0,-999.000,9,-999.000,     -999.0,9, -999.00,9, -999.00,9, -999.00,9,     -999.0,9,  -999.0,9, 20130410,     2308,  30.0003, 138.3619,    34.7118,2,     -999.0,9,     -999.0,9,     2.2965,2,     -999.0,9,     -999.0,9,-999.0000, -999.00,-999.000
318M20130321,       P02W,      20,          1,          8,          8,2,20130410,       2225,    29.9997,   138.3611,       3678,  2020.4,    2.057,  34.5902,2,  34.5913,2,     95.8,2,    96.2,2,  148.67,2,   39.21,2,       0,2,    2.79,2,   0.034,2,   0.026,2,   0.020,2,     0.07,2,  -999.0,9, -999.00,9,-999.0000,9,  -999.00,-999.000,9,-999.0000,9, -999.00,9, -999.00,9,  -999.0,9,  -999.0,-999.000,9,-999.000,     -999.0,9, -999.00,9, -999.00,9, -999.00,9,     -999.0,9,  -999.0,9, 20130410,     2304,  30.0003, 138.3614,    34.7545,2,     -999.0,9,     -999.0,9,     2.0568,2,     -999.0,9,     -999.0,9,-999.0000, -999.00,-999.000