BOTTLE,20220817CCHSIOAMB
EXPOCODE,SECT_ID,STNNBR,CASTNO,SAMPNO,BTLNBR,BTLNBR_FLAG_W,DATE,TIME,LATITUDE,LONGITUDE,DEPTH,CTDPRS,CTDTMP,CTDSAL,CTDSAL_FLAG_W,SALNTY,SALNTY_FLAG_W,CTDOXY,CTDOXY_FLAG_W,OXYGEN,OXYGEN_FLAG_W,SILCAT,SILCAT_FLAG_W,NITRAT,NITRAT_FLAG_W,NITRIT,NITRIT_FLAG_W,PHSPHT,PHSPHT_FLAG_W,CFC-11,CFC-11_FLAG_W,CFC-12,CFC-12_FLAG_W,CFC113,CFC113_FLAG_W,SF6,SF6_FLAG_W,TCARBN,TCARBN_FLAG_W,ALKALI,ALKALI_FLAG_W,PH_TOT,PH_TOT_FLAG_W,PH_TMP,TRITUM,TRITUM_FLAG_W,HELIUM,HELIUM_FLAG_W,DELHE3,DELHE3_FLAG_W,DELC13,DELC13_FLAG_W,DELC14,DELC14_FLAG_W,C14ERR,NEON,NEON_FLAG_W,NEONER,I-129,I-129_FLAG_W,SR-90,SR-90_FLAG_W,DOC,DOC_FLAG_W,TDN,TDN_FLAG_W,CALCIUM,CALCIUM_FLAG_W,D15N_NO3,D15N_NO3_FLAG_W,BTL_DATE,BTL_TIME,BTL_LAT,BTL_LON,SALTREF,SALTREF_FLAG_W,CS-137,CS-137_FLAG_W,CS-134,CS-134_FLAG_W,REFTMP,REFTMP_FLAG_W,LAB_DEN,LAB_DEN_FLAG_W,D18O_NO3,D18O_NO3_FLAG_W,HELIER,DELHER,TRITER
,,,,,,,,,,,METERS,DBAR,ITS-90,PSS-78,,PSS-78,,UMOL/KG,,UMOL/KG,,UMOL/KG,,UMOL/KG,,UMOL/KG,,UMOL/KG,,PMOL/KG,,PMOL/KG,,PMOL/KG,,FMOL/KG,,UMOL/KG,,UMOL/KG,,,,DEG C,TU,,NMOL/KG,,PERCNT,,/MILLE,,/MILLE,,/MILLE,NMOL/KG,,NMOL/KG,BQ/M^3,,DM/.1MG,,UMOL/KG,,UMOL/KG,,MMOL/KG,,/MILLE,,,,,,G/KG,,BQ/M^3,,BQ/M^3,,ITS-90,,,,/MILLE,,NMOL/KG,PERCNT,TU
318M20130321,       P02W,      19,          1,          7,          7,2,20130410,       1617,    30.0006,   137.7591,       3995,  2437.7,   1.7755,  34.6363,2,  34.6363,2,    122.4,2,   122.3,2,  146.61,2,   37.57,2,       0,2,    2.66,2,-999.000,9,-999.000,9,-999.000,9,-999.0000,9,  2337.3,2, 2408.06,2,   7.5164,2,       25,-999.000,9,-999.0000,9, -999.00,9, -999.00,9,  -999.0,9,  -999.0,-999.000,9,-999.000,     -999.0,9, -999.00,9,   37.26,2, -999.00,9,     -999.0,9,  -999.0,9, 20130410,     1656,  29.9997, 137.7598,    34.7996,2,     -999.0,9,     -999.0,9,     1.7753,2,     -999.0,9,     -999.0,9,-999.0000, -999.00,-999.000
318M20130321,       P02W,      19,          1,          6,          6,2,20130410,       1617,    30.0006,   137.7591,       3995,  2693.5,   1.6941,  34.6498,2,  34.6502,2,    131.9,2,   131.8,2,  144.66,2,   37.03,2,       0,2,    2.63,2,-999.000,9,-999.000,9,-999.000,9,-999.0000,9,  -999.0,9, -999.00,9,-999.0000,9,  -999.00,-999.000,9,-999.0000,9, -999.00,9, -999.00,9,  -999.0,9,  -999.0,-999.000,9,-999.000,     -999.0,9, -999.00,9,   34.54,2, -999.00,9,     -999.0,9,  -999.0,9, 20130410,     1650,       30, 137.7596,    34.8136,2,     -999.0,9,     -999.0,9,     1.6939,2,     -999.0,9,     -999.0,9,-999.0000, -999.00,-999.000
318M20130321,       P02W,      19,          1,          5,         37,2,20130410,       1617,    30.0006,   137.7591,       3995,  2948.9,   1.6142,  34.6619,2,  34.6622,2,    138.8,2,   139.6,2,  143.78,2,    36.5,2,       0,2,    2.59,2,-999.000,9,-999.000,9,-999.000,9,-999.0000,9,  2328.3,2, 2410.86,2,   7.5458,2,       25,-999.000,9,-999.0000,9, -999.00,9, -999.00,9,  -999.0,9,  -999.0,-999.000,9,-999.000,     -999.0,9, -999.00,9,   33.89,2, -999.00,9,     -999.0,9,  -999.0,9, 20130410,     1644,  30.0003, 137.7595,    34.8257,2,     -999.0,9,     -999.0,9,     1.6143,2,     -999.0,9,     -999.0,9,-999.0000, -999.00,-999.000
318M20130321,       P02W,      19,          1,          4,          4,2,20130410,       1617,    30.0006,   137.7591,       3995,  3239.4,   1.5626,  34.6708,2,  34.6707,2,    147.4,2,   146.8,2,  143.09,2,   36.15,2,       0,2,    2.57,2,-999.000,9,-999.000,9,-999.000,9,-999.0000,9,  -999.0,9, -999.00,9,-999.0000,9,  -999.00,-999.000,9,-999.0000,9, -999.00,9, -999.00,9,  -999.0,9,  -999.0,-999.000,9,-999.000,     -999.0,9, -999.00,9,   34.62,2, -999.00,9,     -999.0,9,  -999.0,9, 20130410,     1637,  30.0008, 137.7591,    34.8342,2,     -999.0,9,     -999.0,9,     1.5623,2,     -999.0,9,     -999.0,9,-999.0000, -999.00,-999.000
318M20130321,       P02W,      19,          1,          3,          3,2,20130410,       1617,    30.0006,   137.7591,       3995,  3548.8,   1.5212,  34.6788,2,  34.6788,2,    150.9,2,   151.5,2,  142.41,2,   35.82,2,       0,2,    2.53,2,-999.000,9,-999.000,9,-999.000,9,-999.0000,9,  2322.4,2, 2412.96,2,   7.5674,2,       25,-999.000,9,-999.0000,9, -999.00,9, -999.00,9,  -999.0,9,  -999.0,-999.000,9,-999.000,     -999.0,9, -999.00,9,   37.01,2, -999.00,9,     -999.0,9,  -999.0,9, 20130410,     1630,  30.0007, 137.7595,    34.8423,2,     -999.0,9,     -999.0,9,     1.5212,2,     -999.0,9,     -999.0,9,-999.0000, -999.00,-999.000
318M20130321,       P02W,      19,          1,          2,          2,2,20130410,       1617,    30.0006,   137.7591,       3995,  3837.2,   1.5251,  34.6815,2,  34.6815,2,    154.1,2,   153.5,2,  142.21,2,    35.7,2,       0,2,    2.52,2,-999.000,9,-999.000,9,-999.000,9,-999.0000,9,  2321.2,2, 2410.96,6,   7.5726,6,       25,-999.000,9,-999.0000,9, -999.00,9, -999.00,9,  -999.0,9,  -999.0,-999.000,9,-999.000,     -999.0,9, -999.00,9,   36.02,2, -999.00,9,     -999.0,9,  -999.0,9, 20130410,     1624,  30.0006, 137.7593,     34.845,2,     -999.0,9,     -999.0,9,     1.5246,2,     -999.0,9,     -999.0,9,-999.0000, -999.00,-999.000
318M20130321,       P02W,      19,          1,          1,          1,2,20130410,       1617,    30.0006,   137.7591,       3995,  4057.9,   1.5402,  34.6822,2,  34.6831,2,    153.8,2,   154.3,2,  141.63,2,   35.67,2,       0,2,    2.51,2,-999.000,9,-999.000,9,-999.000,9,-999.0000,9,  2321.1,6, 2411.96,2,   7.5732,2,       25,-999.000,9,-999.0000,9, -999.00,9, -999.00,9,  -999.0,9,  -999.0,-999.000,9,-999.000,     -999.0,9, -999.00,9,   35.39,2, -999.00,9,     -999.0,9,  -999.0,9, 20130410,     1618,  30.0006, 137.7592,    34.8466,2,     -999.0,9,     -999.0,9,     1.5401,2,     -999.0,9,     -999.0,9,-999.0000, -999.00,-999.000