BOTTLE,20220817CCHSIOAMB
EXPOCODE,SECT_ID,STNNBR,CASTNO,SAMPNO,BTLNBR,BTLNBR_FLAG_W,DATE,TIME,LATITUDE,LONGITUDE,DEPTH,CTDPRS,CTDTMP,CTDSAL,CTDSAL_FLAG_W,SALNTY,SALNTY_FLAG_W,CTDOXY,CTDOXY_FLAG_W,OXYGEN,OXYGEN_FLAG_W,SILCAT,SILCAT_FLAG_W,NITRAT,NITRAT_FLAG_W,NITRIT,NITRIT_FLAG_W,PHSPHT,PHSPHT_FLAG_W,CFC-11,CFC-11_FLAG_W,CFC-12,CFC-12_FLAG_W,CFC113,CFC113_FLAG_W,SF6,SF6_FLAG_W,TCARBN,TCARBN_FLAG_W,ALKALI,ALKALI_FLAG_W,PH_TOT,PH_TOT_FLAG_W,PH_TMP,TRITUM,TRITUM_FLAG_W,HELIUM,HELIUM_FLAG_W,DELHE3,DELHE3_FLAG_W,DELC13,DELC13_FLAG_W,DELC14,DELC14_FLAG_W,C14ERR,NEON,NEON_FLAG_W,NEONER,I-129,I-129_FLAG_W,SR-90,SR-90_FLAG_W,DOC,DOC_FLAG_W,TDN,TDN_FLAG_W,CALCIUM,CALCIUM_FLAG_W,D15N_NO3,D15N_NO3_FLAG_W,BTL_DATE,BTL_TIME,BTL_LAT,BTL_LON,SALTREF,SALTREF_FLAG_W,CS-137,CS-137_FLAG_W,CS-134,CS-134_FLAG_W,REFTMP,REFTMP_FLAG_W,LAB_DEN,LAB_DEN_FLAG_W,D18O_NO3,D18O_NO3_FLAG_W,HELIER,DELHER,TRITER
,,,,,,,,,,,METERS,DBAR,ITS-90,PSS-78,,PSS-78,,UMOL/KG,,UMOL/KG,,UMOL/KG,,UMOL/KG,,UMOL/KG,,UMOL/KG,,PMOL/KG,,PMOL/KG,,PMOL/KG,,FMOL/KG,,UMOL/KG,,UMOL/KG,,,,DEG C,TU,,NMOL/KG,,PERCNT,,/MILLE,,/MILLE,,/MILLE,NMOL/KG,,NMOL/KG,BQ/M^3,,DM/.1MG,,UMOL/KG,,UMOL/KG,,MMOL/KG,,/MILLE,,,,,,G/KG,,BQ/M^3,,BQ/M^3,,ITS-90,,,,/MILLE,,NMOL/KG,PERCNT,TU
318M20130321,       P02W,      84,          1,         36,         36,2,20130501,       2221,    30.0004,   -170.917,       5410,     2.6,  18.3682,  34.7498,2,  34.7496,2,    234.7,2,   235.4,2,    2.34,2,       0,2,       0,2,    0.01,2,   2.514,2,   1.540,2,   0.226,2,     1.42,2,  2011.9,2, 2281.91,6,   7.9987,2,       25,   0.519,2,   1.7212,2,   -1.36,2, -999.00,9,  -999.0,9,  -999.0,   7.031,2,   0.032,     -999.0,9, -999.00,9, -999.00,9, -999.00,9,     -999.0,1,  -999.0,9, 20130502,       32,  29.9938, -170.915,    34.9135,2,     -999.0,9,     -999.0,9,    18.3674,2,     -999.0,9,     -999.0,9,   0.0072,    0.15,   0.014
318M20130321,       P02W,      84,          1,         34,         34,2,20130501,       2221,    30.0004,   -170.917,       5410,    38.5,  18.2241,  34.8215,2,  34.8218,2,    236.2,2,   235.9,2,    2.34,2,       0,2,       0,2,    0.01,2,   2.524,2,   1.532,2,   0.216,2,     1.43,2,  -999.0,9, -999.00,9,-999.0000,9,  -999.00,   0.512,2,   1.7299,2,   -1.35,2, -999.00,9,  -999.0,9,  -999.0,   7.155,2,   0.033,     -999.0,9, -999.00,9, -999.00,9, -999.00,9,     -999.0,9,  -999.0,9, 20130502,       29,  29.9942,-170.9151,     34.986,2,     -999.0,9,     -999.0,9,    18.2241,2,     -999.0,9,     -999.0,9,   0.0073,    0.15,   0.012
318M20130321,       P02W,      84,          1,         32,         32,2,20130501,       2221,    30.0004,   -170.917,       5410,    63.2,  18.1634,  34.8134,2,-999.0000,9,    236.3,2,  -999.0,9,    2.34,2,       0,2,       0,2,    0.02,2,-999.000,9,-999.000,9,-999.000,9,-999.0000,9,  -999.0,9, -999.00,9,-999.0000,9,  -999.00,-999.000,9,-999.0000,9, -999.00,9, -999.00,9,  -999.0,9,  -999.0,-999.000,9,-999.000,     -999.0,1, -999.00,1, -999.00,9, -999.00,9,     -999.0,9,  -999.0,9, 20130502,       27,  29.9944,-170.9151,     -999.0,9,     -999.0,1,     -999.0,1,    18.1671,2,     -999.0,9,     -999.0,9,-999.0000, -999.00,-999.000
318M20130321,       P02W,      84,          1,         31,         31,2,20130501,       2221,    30.0004,   -170.917,       5410,    63.3,  18.1665,  34.8133,2,  34.8131,2,    236.3,2,   235.9,2,    2.34,2,       0,2,       0,2,    0.02,2,   2.549,2,   1.576,2,   0.211,2,     1.75,2,  2013.7,2, 2285.61,6,-999.0000,9,  -999.00,-999.000,9,-999.0000,9, -999.00,9, -999.00,9,  -999.0,9,  -999.0,-999.000,9,-999.000,     -999.0,9, -999.00,9, -999.00,9, -999.00,9,     -999.0,1,  -999.0,9, 20130502,       27,  29.9944,-170.9151,    34.9773,2,     -999.0,9,     -999.0,9,    18.1676,2,     -999.0,9,     -999.0,9,-999.0000, -999.00,-999.000
318M20130321,       P02W,      84,          1,         33,         33,2,20130501,       2221,    30.0004,   -170.917,       5410,      64,  18.1683,  34.8135,2,-999.0000,9,    236.4,2,  -999.0,9,    2.34,2,       0,2,       0,2,    0.01,2,-999.000,9,-999.000,9,-999.000,9,-999.0000,9,  -999.0,9, -999.00,9,   7.9964,2,       25,-999.000,9,-999.0000,9, -999.00,9, -999.00,9,  -999.0,9,  -999.0,-999.000,9,-999.000,     -999.0,9, -999.00,1, -999.00,9, -999.00,9,     -999.0,9,  -999.0,9, 20130502,       27,  29.9944,-170.9151,     -999.0,9,     -999.0,1,     -999.0,1,    18.1686,2,     -999.0,9,     -999.0,9,-999.0000, -999.00,-999.000
318M20130321,       P02W,      84,          1,         30,         30,2,20130501,       2221,    30.0004,   -170.917,       5410,    89.1,  17.7353,  34.7321,2,  34.7347,2,    237.1,2,   236.7,2,    2.54,2,       0,2,       0,2,    0.02,2,-999.000,9,-999.000,9,-999.000,9,-999.0000,9,  2017.7,2, 2279.21,2,   7.9893,6,       25,-999.000,9,-999.0000,9, -999.00,9, -999.00,9,  -999.0,9,  -999.0,-999.000,9,-999.000,     -999.0,9, -999.00,9, -999.00,9, -999.00,9,     -999.0,9,  -999.0,9, 20130502,       25,  29.9944,-170.9152,    34.8985,2,     -999.0,9,     -999.0,9,    17.7408,2,     -999.0,9,     -999.0,9,-999.0000, -999.00,-999.000
318M20130321,       P02W,      84,          1,         29,         29,2,20130501,       2221,    30.0004,   -170.917,       5410,   119.2,  17.5029,  34.6994,2,  34.7005,2,    233.9,2,   234.3,2,    2.64,2,       0,2,    0.16,2,    0.04,2,   2.598,2,   1.574,2,   0.216,2,     1.55,2,  -999.0,9, -999.00,9,-999.0000,9,  -999.00,   0.515,2,   1.7493,2,   -1.24,2, -999.00,9,  -999.0,9,  -999.0,   7.096,2,   0.033,     -999.0,9, -999.00,9, -999.00,9, -999.00,9,     -999.0,1,  -999.0,9, 20130502,       23,  29.9946,-170.9151,    34.8641,2,     -999.0,9,     -999.0,9,    17.5038,2,     -999.0,9,     -999.0,9,   0.0073,    0.15,   0.013
318M20130321,       P02W,      84,          1,         28,         28,2,20130501,       2221,    30.0004,   -170.917,       5410,   168.8,  16.8526,  34.6198,2,  34.6217,2,    232.1,2,   230.4,2,    3.12,2,    1.25,2,    0.07,2,     0.1,2,-999.000,9,-999.000,9,-999.000,9,-999.0000,9,    2027,2, 2271.51,2,   7.9633,6,       25,-999.000,9,-999.0000,9, -999.00,9, -999.00,9,  -999.0,9,  -999.0,-999.000,9,-999.000,     -999.0,9, -999.00,9, -999.00,9, -999.00,9,     -999.0,9,  -999.0,9, 20130502,       21,  29.9948, -170.915,    34.7849,2,     -999.0,9,     -999.0,9,    16.8415,2,     -999.0,9,     -999.0,9,-999.0000, -999.00,-999.000
318M20130321,       P02W,      84,          1,         27,         27,2,20130501,       2221,    30.0004,   -170.917,       5410,   219.9,  15.9088,  34.5414,2,  34.5433,2,    222.2,2,   222.9,2,    4.49,2,     3.8,2,    0.01,2,    0.27,2,   2.797,2,   1.686,2,   0.161,2,     1.74,2,  -999.0,9, -999.00,9,-999.0000,9,  -999.00,   0.515,2,   1.7554,2,   -1.08,2, -999.00,9,  -999.0,9,  -999.0,   7.178,2,   0.033,     -999.0,9, -999.00,9, -999.00,9, -999.00,9,     -999.0,1,  -999.0,9, 20130502,       19,   29.995,-170.9149,    34.7062,2,     -999.0,9,     -999.0,9,    15.9103,2,     -999.0,9,     -999.0,9,   0.0074,    0.15,   0.012
318M20130321,       P02W,      84,          1,         26,         26,2,20130501,       2221,    30.0004,   -170.917,       5410,   270.4,  14.7421,  34.4702,2,  34.4712,2,    216.2,2,   215.9,2,    6.83,2,    6.65,2,    0.01,2,    0.46,2,-999.000,9,-999.000,9,-999.000,9,-999.0000,9,  2056.5,2,  2265.9,2,   7.8896,6,       25,-999.000,9,-999.0000,9, -999.00,9, -999.00,9,  -999.0,9,  -999.0,-999.000,9,-999.000,     -999.0,9, -999.00,9, -999.00,9, -999.00,9,     -999.0,9,  -999.0,9, 20130502,       17,  29.9953,-170.9149,    34.6338,2,     -999.0,9,     -999.0,9,    14.7399,2,     -999.0,9,     -999.0,9,-999.0000, -999.00,-999.000
318M20130321,       P02W,      84,          1,         25,         25,2,20130501,       2221,    30.0004,   -170.917,       5410,   320.2,  13.6686,  34.4168,2,  34.4175,2,    212.7,2,     213,2,    9.66,2,    8.96,2,    0.01,2,    0.62,2,   3.105,2,   1.805,2,   0.077,2,     1.54,2,  -999.0,9, -999.00,9,-999.0000,9,  -999.00,   0.489,2,   1.7685,2,    0.07,2, -999.00,9,  -999.0,9,  -999.0,   7.353,2,   0.034,     -999.0,9, -999.00,9, -999.00,9, -999.00,9,     -999.0,1,  -999.0,9, 20130502,       15,  29.9956,-170.9149,    34.5798,2,     -999.0,9,     -999.0,9,    13.6699,2,     -999.0,9,     -999.0,9,   0.0074,    0.15,   0.013
318M20130321,       P02W,      84,          1,         24,         24,2,20130501,       2221,    30.0004,   -170.917,       5410,   370.7,  12.7674,  34.3636,2,  34.3657,2,    210.8,2,     211,2,   12.01,2,   10.76,2,    0.01,2,    0.73,2,-999.000,9,-999.000,9,-999.000,9,-999.0000,9,  2084.1,2,  2265.2,2,   7.8298,2,       25,-999.000,9,-999.0000,9, -999.00,9, -999.00,9,  -999.0,9,  -999.0,-999.000,9,-999.000,     -999.0,9, -999.00,9, -999.00,9, -999.00,9,     -999.0,9,  -999.0,9, 20130502,       13,  29.9958,-170.9148,    34.5277,2,     -999.0,9,     -999.0,9,    12.7654,2,     -999.0,9,     -999.0,9,-999.0000, -999.00,-999.000
318M20130321,       P02W,      84,          1,         23,         23,2,20130501,       2221,    30.0004,   -170.917,       5410,   435.5,  11.3917,  34.2719,2,   34.273,2,    208.3,2,   207.6,2,    16.4,2,   13.61,2,    0.01,2,    0.95,2,   3.381,2,   1.911,2,   0.089,2,     1.35,2,  2103.1,2,  2265.5,2,   7.7887,2,       25,   0.502,2,   1.7911,2,    1.68,2, -999.00,9,  -999.0,9,  -999.0,   7.528,2,   0.035,     -999.0,9, -999.00,9, -999.00,9, -999.00,9,     -999.0,9,  -999.0,9, 20130502,       11,  29.9962,-170.9149,    34.4347,2,     -999.0,9,     -999.0,9,     11.391,2,     -999.0,9,     -999.0,9,   0.0075,    0.15,   0.014
318M20130321,       P02W,      84,          1,         22,         22,2,20130501,       2221,    30.0004,   -170.917,       5410,   536.8,   9.1546,   34.117,2,  34.1191,2,    190.6,2,   191.9,2,   27.54,2,   19.27,2,    0.01,2,    1.37,2,   3.451,2,   1.876,2,   0.147,2,     1.16,2,  -999.0,9, -999.00,9,-999.0000,9,  -999.00,   0.497,2,   1.8207,2,    4.42,2, -999.00,9,  -999.0,9,  -999.0,   7.753,2,   0.036,     -999.0,9, -999.00,9, -999.00,9, -999.00,9,     -999.0,1,  -999.0,9, 20130502,        8,  29.9966,-170.9152,      34.28,2,     -999.0,9,     -999.0,9,     9.1523,2,     -999.0,9,     -999.0,9,   0.0076,    0.15,   0.013
318M20130321,       P02W,      84,          1,         21,         21,2,20130501,       2221,    30.0004,   -170.917,       5410,   637.1,   6.8997,  34.0144,2,  34.0153,2,    146.6,2,   146.9,2,   48.83,2,   27.61,2,    0.01,2,    2.01,2,   2.960,2,   1.532,2,   0.135,2,      0.7,2,  2201.2,2, 2280.01,2,   7.5616,2,       25,   0.442,2,   1.8257,2,    9.69,2, -999.00,9,  -999.0,9,  -999.0,   7.883,2,   0.036,     -999.0,9, -999.00,9, -999.00,9, -999.00,9,     -999.0,9,  -999.0,9, 20130502,        5,   29.997,-170.9153,    34.1757,2,     -999.0,9,     -999.0,9,     6.8978,2,     -999.0,9,     -999.0,9,   0.0077,    0.15,   0.012
318M20130321,       P02W,      84,          1,         20,         20,2,20130501,       2221,    30.0004,   -170.917,       5410,   738.1,   5.2506,  34.0508,2,  34.0521,2,     91.8,2,    84.5,2,   76.46,2,   36.05,2,       0,2,    2.63,2,   1.634,2,   0.814,2,   0.062,2,     0.32,2,  2269.6,2, 2302.52,2,   7.4142,2,       25,   0.301,2,   1.8457,2,   15.34,2, -999.00,9,  -999.0,9,  -999.0,   7.912,2,   0.036,     -999.0,9, -999.00,9, -999.00,9, -999.00,9,     -999.0,1,  -999.0,9, 20130502,        2,  29.9974,-170.9155,    34.2127,2,     -999.0,9,     -999.0,9,     5.2492,2,     -999.0,9,     -999.0,9,   0.0078,    0.15,   0.012
318M20130321,       P02W,      84,          1,         19,         19,2,20130501,       2221,    30.0004,   -170.917,       5410,   834.2,   4.5004,  34.1379,2,  34.1377,2,     53.4,2,    49.3,2,    95.6,2,   40.14,2,       0,2,    2.93,2,-999.000,9,-999.000,9,-999.000,9,-999.0000,9,  2312.2,2, 2321.52,2,   7.3434,2,       25,-999.000,9,-999.0000,9, -999.00,9, -999.00,9,  -999.0,9,  -999.0,-999.000,9,-999.000,     -999.0,9, -999.00,9, -999.00,9, -999.00,9,     -999.0,9,  -999.0,9, 20130501,     2359,  29.9979,-170.9155,    34.2987,2,     -999.0,9,     -999.0,9,     4.4964,2,     -999.0,9,     -999.0,9,-999.0000, -999.00,-999.000
318M20130321,       P02W,      84,          1,         18,         18,2,20130501,       2221,    30.0004,   -170.917,       5410,   938.3,   3.9733,  34.2246,2,  34.2264,2,       32,2,    28.6,2,   111.7,2,   42.53,2,       0,2,     3.1,2,   0.302,2,   0.149,2,   0.012,2,     0.08,2,  2343.3,2, 2341.43,2,   7.3086,2,       25,-999.000,9,   1.8844,2,   15.93,2, -999.00,9,  -999.0,9,  -999.0,   8.117,2,   0.037,     -999.0,9, -999.00,9, -999.00,9, -999.00,9,     -999.0,9,  -999.0,9, 20130501,     2356,  29.9984,-170.9158,    34.3878,2,     -999.0,9,     -999.0,9,      3.972,2,     -999.0,9,     -999.0,9,   0.0079,    0.15,-999.000
318M20130321,       P02W,      84,          1,         17,         17,2,20130501,       2221,    30.0004,   -170.917,       5410,  1041.7,    3.596,  34.3129,2,  34.3133,2,     20.4,2,    18.6,2,  124.09,2,   43.68,2,       0,2,    3.19,2,   0.094,2,   0.053,2,   0.005,2,     0.08,2,  2362.5,2, 2358.44,2,   7.3004,2,       25,   0.026,2,   1.8894,2,   16.14,2, -999.00,9,  -999.0,9,  -999.0,   7.998,2,   0.037,     -999.0,9, -999.00,9, -999.00,9, -999.00,9,     -999.0,1,  -999.0,9, 20130501,     2353,  29.9989,-170.9163,    34.4751,2,     -999.0,9,     -999.0,9,     3.5964,2,     -999.0,9,     -999.0,9,   0.0079,    0.15,   0.011
318M20130321,       P02W,      84,          1,         16,         16,2,20130501,       2221,    30.0004,   -170.917,       5410,  1144.6,   3.2841,  34.3908,2,  34.3918,2,     20.1,2,    20.4,2,  133.75,2,   43.95,2,       0,2,     3.2,2,   0.040,2,   0.024,2,   0.007,2,     0.04,2,  2373.6,2, 2372.44,2,   7.3068,2,       25,   0.005,2,   1.9192,2,   17.24,2, -999.00,9,  -999.0,9,  -999.0,   8.242,2,   0.038,     -999.0,9, -999.00,9, -999.00,9, -999.00,9,     -999.0,9,  -999.0,9, 20130501,     2350,   29.999,-170.9164,    34.5539,2,     -999.0,9,     -999.0,9,     3.2841,2,     -999.0,9,     -999.0,9,   0.0081,    0.15,   0.011
318M20130321,       P02W,      84,          1,         15,         15,2,20130501,       2221,    30.0004,   -170.917,       5410,  1240.6,   3.0914,   34.447,2,  34.4483,2,     23.7,2,    24.3,2,  139.02,2,   43.81,2,       0,2,     3.2,2,   0.016,2,   0.014,2,   0.003,2,     0.07,2,  2376.1,2, 2381.05,2,   7.3244,2,       25,   0.004,2,   1.9110,2,   18.30,2, -999.00,9,  -999.0,9,  -999.0,   8.249,2,   0.038,     -999.0,9, -999.00,9, -999.00,9, -999.00,9,     -999.0,1,  -999.0,9, 20130501,     2346,  29.9991,-170.9165,    34.6107,2,     -999.0,9,     -999.0,9,     3.0918,2,     -999.0,9,     -999.0,9,   0.0080,    0.15,   0.012
318M20130321,       P02W,      84,          1,         14,         14,2,20130501,       2221,    30.0004,   -170.917,       5410,  1512.1,   2.6461,  34.5296,2,  34.5298,2,     41.1,2,    42.1,2,  150.23,2,      43,2,       0,2,    3.11,2,   0.008,2,   0.009,2,   0.002,2,     0.07,2,  2378.2,2, 2397.65,2,   7.3638,2,       25,  -0.009,2,   1.9115,2,   20.44,2, -999.00,9,  -999.0,9,  -999.0,   8.148,2,   0.037,     -999.0,9, -999.00,9, -999.00,9, -999.00,9,     -999.0,1,  -999.0,9, 20130501,     2341,  29.9991,-170.9167,    34.6926,2,     -999.0,9,     -999.0,9,      2.646,2,     -999.0,9,     -999.0,9,   0.0080,    0.15,   0.012
318M20130321,       P02W,      84,          1,         13,         13,2,20130501,       2221,    30.0004,   -170.917,       5410,  1817.5,   2.2146,  34.5841,2,  34.5863,2,     64.7,2,      65,2,  158.72,2,   41.66,2,       0,2,    2.99,2,   0.006,2,   0.010,2,   0.011,2,     0.07,2,  2376.9,6, 2410.36,2,    7.412,2,       25,-999.000,9,   1.9237,2,   21.46,2, -999.00,9,  -999.0,9,  -999.0,   8.184,2,   0.038,     -999.0,9, -999.00,9, -999.00,9, -999.00,9,     -999.0,1,  -999.0,9, 20130501,     2334,   29.999,-170.9168,    34.7494,2,     -999.0,9,     -999.0,9,     2.2148,2,     -999.0,9,     -999.0,9,   0.0081,    0.15,-999.000
318M20130321,       P02W,      84,          1,         11,         11,2,20130501,       2221,    30.0004,   -170.917,       5410,  2117.5,   1.9193,  34.6146,2,   34.615,2,     81.6,2,    81.7,2,  163.79,2,    40.6,2,       0,2,     2.9,2,   0.012,2,   0.009,2,   0.001,2,     0.06,2,  2370.7,2, 2415.86,2,   7.4431,2,       25,  -0.005,2,   1.9148,2,   20.85,2, -999.00,9,  -999.0,9,  -999.0,   8.057,2,   0.037,     -999.0,9, -999.00,9, -999.00,9, -999.00,9,     -999.0,9,  -999.0,9, 20130501,     2328,  29.9991,-170.9165,    34.7782,2,     -999.0,9,     -999.0,9,     1.9189,2,     -999.0,9,     -999.0,9,   0.0080,    0.15,   0.012
318M20130321,       P02W,      84,          1,         12,         12,2,20130501,       2221,    30.0004,   -170.917,       5410,  2119.7,   1.9187,  34.6147,2,  34.6148,2,     81.7,2,    81.7,2,  164.09,2,    40.6,2,       0,2,     2.9,2,-999.000,9,-999.000,9,-999.000,9,-999.0000,9,  -999.0,9, -999.00,9,-999.0000,9,  -999.00,-999.000,9,-999.0000,9, -999.00,9, -999.00,9,  -999.0,9,  -999.0,-999.000,9,-999.000,     -999.0,9, -999.00,9, -999.00,9, -999.00,9,     -999.0,9,  -999.0,9, 20130501,     2328,  29.9991,-170.9166,     34.778,2,     -999.0,9,     -999.0,9,     1.9192,2,     -999.0,9,     -999.0,9,-999.0000, -999.00,-999.000
318M20130321,       P02W,      84,          1,         10,         10,2,20130501,       2221,    30.0004,   -170.917,       5410,  2528.5,   1.6902,  34.6436,2,  34.6431,2,    106.1,2,   105.5,2,  162.52,2,   38.99,2,       0,2,    2.77,2,-999.000,9,-999.000,9,-999.000,9,-999.0000,9,  2355.4,2, 2417.96,2,    7.489,2,       25,-999.000,9,-999.0000,9, -999.00,9, -999.00,9,  -999.0,9,  -999.0,-999.000,9,-999.000,     -999.0,9, -999.00,9, -999.00,9, -999.00,9,     -999.0,1,  -999.0,9, 20130501,     2320,  29.9989,-170.9163,    34.8065,2,     -999.0,9,     -999.0,9,     1.6907,2,     -999.0,9,     -999.0,9,-999.0000, -999.00,-999.000
318M20130321,       P02W,      84,          1,          9,          9,2,20130501,       2221,    30.0004,   -170.917,       5410,  2934.1,   1.5683,  34.6607,2,  34.6606,2,    122.6,2,   121.7,2,  159.69,2,   37.95,2,       0,2,    2.66,2,-999.000,9,-999.000,9,-999.000,9,-999.0000,9,  -999.0,9, -999.00,9,-999.0000,9,  -999.00,-999.000,9,-999.0000,9, -999.00,9, -999.00,9,  -999.0,9,  -999.0,-999.000,9,-999.000,     -999.0,9, -999.00,9, -999.00,9, -999.00,9,     -999.0,1,  -999.0,9, 20130501,     2311,  29.9994,-170.9161,     34.824,2,     -999.0,9,     -999.0,9,     1.5679,2,     -999.0,9,     -999.0,9,-999.0000, -999.00,-999.000
318M20130321,       P02W,      84,          1,          8,          8,2,20130501,       2221,    30.0004,   -170.917,       5410,  3340.1,   1.5129,  34.6709,2,  34.6718,2,    132.9,2,   133.1,2,  158.12,2,   37.27,2,       0,2,    2.63,2,   0.008,2,   0.010,2,   0.003,2,     0.08,2,  -999.0,9, -999.00,9,-999.0000,9,  -999.00,-999.000,9,-999.0000,9, -999.00,9, -999.00,9,  -999.0,9,  -999.0,-999.000,9,-999.000,     -999.0,9, -999.00,9, -999.00,9, -999.00,9,     -999.0,9,  -999.0,9, 20130501,     2304,  29.9995,-170.9164,    34.8353,2,     -999.0,9,     -999.0,9,     1.5128,2,     -999.0,9,     -999.0,9,-999.0000, -999.00,-999.000
318M20130321,       P02W,      84,          1,          7,          7,2,20130501,       2221,    30.0004,   -170.917,       5410,  3752.4,    1.482,  34.6788,2,  34.6793,2,    141.8,2,   141.8,2,  155.88,2,   36.63,2,       0,2,    2.57,2,-999.000,9,-999.000,9,-999.000,9,-999.0000,9,  2334.5,2, 2418.06,2,   7.5548,2,       25,-999.000,9,-999.0000,9, -999.00,9, -999.00,9,  -999.0,9,  -999.0,-999.000,9,-999.000,     -999.0,9, -999.00,9, -999.00,9, -999.00,9,     -999.0,1,  -999.0,9, 20130501,     2256,  29.9995,-170.9167,    34.8428,2,     -999.0,9,     -999.0,9,     1.4821,2,     -999.0,9,     -999.0,9,-999.0000, -999.00,-999.000