BOTTLE,20220817CCHSIOAMB
EXPOCODE,SECT_ID,STNNBR,CASTNO,SAMPNO,BTLNBR,BTLNBR_FLAG_W,DATE,TIME,LATITUDE,LONGITUDE,DEPTH,CTDPRS,CTDTMP,CTDSAL,CTDSAL_FLAG_W,SALNTY,SALNTY_FLAG_W,CTDOXY,CTDOXY_FLAG_W,OXYGEN,OXYGEN_FLAG_W,SILCAT,SILCAT_FLAG_W,NITRAT,NITRAT_FLAG_W,NITRIT,NITRIT_FLAG_W,PHSPHT,PHSPHT_FLAG_W,CFC-11,CFC-11_FLAG_W,CFC-12,CFC-12_FLAG_W,CFC113,CFC113_FLAG_W,SF6,SF6_FLAG_W,TCARBN,TCARBN_FLAG_W,ALKALI,ALKALI_FLAG_W,PH_TOT,PH_TOT_FLAG_W,PH_TMP,TRITUM,TRITUM_FLAG_W,HELIUM,HELIUM_FLAG_W,DELHE3,DELHE3_FLAG_W,DELC13,DELC13_FLAG_W,DELC14,DELC14_FLAG_W,C14ERR,NEON,NEON_FLAG_W,NEONER,I-129,I-129_FLAG_W,SR-90,SR-90_FLAG_W,DOC,DOC_FLAG_W,TDN,TDN_FLAG_W,CALCIUM,CALCIUM_FLAG_W,D15N_NO3,D15N_NO3_FLAG_W,BTL_DATE,BTL_TIME,BTL_LAT,BTL_LON,SALTREF,SALTREF_FLAG_W,CS-137,CS-137_FLAG_W,CS-134,CS-134_FLAG_W,REFTMP,REFTMP_FLAG_W,LAB_DEN,LAB_DEN_FLAG_W,D18O_NO3,D18O_NO3_FLAG_W,HELIER,DELHER,TRITER
,,,,,,,,,,,METERS,DBAR,ITS-90,PSS-78,,PSS-78,,UMOL/KG,,UMOL/KG,,UMOL/KG,,UMOL/KG,,UMOL/KG,,UMOL/KG,,PMOL/KG,,PMOL/KG,,PMOL/KG,,FMOL/KG,,UMOL/KG,,UMOL/KG,,,,DEG C,TU,,NMOL/KG,,PERCNT,,/MILLE,,/MILLE,,/MILLE,NMOL/KG,,NMOL/KG,BQ/M^3,,DM/.1MG,,UMOL/KG,,UMOL/KG,,MMOL/KG,,/MILLE,,,,,,G/KG,,BQ/M^3,,BQ/M^3,,ITS-90,,,,/MILLE,,NMOL/KG,PERCNT,TU
318M20130321,       P02W,      57,          1,          7,          7,2,20130423,       0927,    29.9999,   168.0658,       5873,  3786.5,   1.4705,  34.6813,2,  34.6818,2,    148.7,2,   148.3,2,  149.92,2,   36.17,2,       0,2,    2.55,2,   0.009,2,   0.011,2,   0.010,2,        0,2,  2325.1,2, 2413.66,2,   7.5616,2,       25,-999.000,9,-999.0000,9, -999.00,9,    0.05,2,  -214.6,2,     2.4,-999.000,9,-999.000,     -999.0,9, -999.00,9,   34.51,2, -999.00,9,     -999.0,9,  -999.0,9, 20130423,     1009,  30.0002, 168.0654,    34.8453,2,     -999.0,9,     -999.0,9,     1.4709,2,     -999.0,9,     -999.0,9,-999.0000, -999.00,-999.000
318M20130321,       P02W,      57,          1,          6,          6,2,20130423,       0927,    29.9999,   168.0658,       5873,  4199.4,   1.4533,  34.6869,2,  34.6871,2,      156,2,   155.8,2,  147.39,2,   35.59,2,       0,2,    2.51,2,-999.000,9,-999.000,9,-999.000,9,-999.0000,9,  -999.0,9, -999.00,9,-999.0000,9,  -999.00,-999.000,9,-999.0000,9, -999.00,9,    0.12,2,  -220.0,2,     2.0,-999.000,9,-999.000,     -999.0,9, -999.00,9, -999.00,9, -999.00,9,     -999.0,9,  -999.0,9, 20130423,     1001,  30.0001,  168.066,    34.8507,2,     -999.0,9,     -999.0,9,     1.4535,2,     -999.0,9,     -999.0,9,-999.0000, -999.00,-999.000
318M20130321,       P02W,      57,          1,          5,         37,2,20130423,       0927,    29.9999,   168.0658,       5873,  4607.3,   1.4494,  34.6914,2,  34.6926,2,    163.5,2,   163.6,2,  142.11,2,   35.03,2,       0,2,    2.46,2,   0.009,2,   0.012,2,   0.013,2,        0,2,  2311.3,2, 2408.66,2,   7.5828,2,       25,-999.000,9,-999.0000,9, -999.00,9,    0.15,2,  -207.7,2,     2.4,-999.000,9,-999.000,     -999.0,9, -999.00,9,   36.41,2, -999.00,9,     -999.0,9,  -999.0,9, 20130423,      953,  30.0001, 168.0663,    34.8562,2,     -999.0,9,     -999.0,9,     1.4494,2,     -999.0,9,     -999.0,9,-999.0000, -999.00,-999.000
318M20130321,       P02W,      57,          1,          4,          4,2,20130423,       0927,    29.9999,   168.0658,       5873,  5018.2,   1.4578,  34.6951,2,   34.695,2,    169.9,2,   170.2,2,  137.92,2,   34.52,2,       0,2,    2.42,2,-999.000,9,-999.000,9,-999.000,9,-999.0000,9,  -999.0,9, -999.00,9,-999.0000,9,  -999.00,-999.000,9,-999.0000,9, -999.00,9,    0.20,2,  -201.3,2,     2.7,-999.000,9,-999.000,     -999.0,9, -999.00,9, -999.00,9, -999.00,9,     -999.0,9,  -999.0,9, 20130423,      946,  29.9995, 168.0662,    34.8586,2,     -999.0,9,     -999.0,9,     1.4585,2,     -999.0,9,     -999.0,9,-999.0000, -999.00,-999.000
318M20130321,       P02W,      57,          1,          3,          3,2,20130423,       0927,    29.9999,   168.0658,       5873,  5432.9,   1.4832,  34.6968,2,  34.6975,2,    172.7,2,   173.7,2,  135.57,2,   34.26,2,       0,2,    2.39,2,   0.019,2,   0.018,2,   0.006,2,        0,2,  2299.4,2, 2399.85,6,   7.5929,2,       25,-999.000,9,-999.0000,9, -999.00,9,    0.27,2,  -195.1,2,     2.0,-999.000,9,-999.000,     -999.0,9, -999.00,9,   33.99,2, -999.00,9,     -999.0,9,  -999.0,9, 20130423,      938,  29.9997,  168.066,    34.8611,2,     -999.0,9,     -999.0,9,     1.4838,2,     -999.0,9,     -999.0,9,-999.0000, -999.00,-999.000
318M20130321,       P02W,      57,          1,          2,          2,2,20130423,       0927,    29.9999,   168.0658,       5873,  5775.6,   1.5222,   34.697,2,  34.6975,2,      176,2,   175.4,2,  134.89,2,    34.2,2,       0,2,     2.4,2,-999.000,9,-999.000,9,-999.000,9,-999.0000,9,  2298.4,2, 2398.35,2,    7.594,6,       25,-999.000,9,-999.0000,9, -999.00,9,    0.19,3,  -209.2,2,     2.1,-999.000,9,-999.000,     -999.0,9, -999.00,9,   34.76,2, -999.00,9,     -999.0,9,  -999.0,9, 20130423,      931,  29.9997, 168.0658,    34.8611,2,     -999.0,9,     -999.0,9,     1.5224,2,     -999.0,9,     -999.0,9,-999.0000, -999.00,-999.000
318M20130321,       P02W,      57,          1,          1,          1,2,20130423,       0927,    29.9999,   168.0658,       5873,  5975.8,     1.54,  34.6975,2,  34.6981,2,    176.6,2,   176.4,2,  133.91,2,   34.11,2,       0,2,    2.38,2,   0.034,2,   0.026,2,   0.016,2,        0,2,  2299.3,2, 2396.75,2,   7.5957,2,       25,-999.000,9,-999.0000,9, -999.00,9,    0.30,2,  -210.9,2,     2.1,-999.000,9,-999.000,     -999.0,9, -999.00,9,    35.1,2, -999.00,9,     -999.0,9,  -999.0,9, 20130423,      927,  29.9999, 168.0657,    34.8617,2,     -999.0,9,     -999.0,9,     1.5404,2,     -999.0,9,     -999.0,9,-999.0000, -999.00,-999.000