BOTTLE,20220817CCHSIOAMB
EXPOCODE,SECT_ID,STNNBR,CASTNO,SAMPNO,BTLNBR,BTLNBR_FLAG_W,DATE,TIME,LATITUDE,LONGITUDE,DEPTH,CTDPRS,CTDTMP,CTDSAL,CTDSAL_FLAG_W,SALNTY,SALNTY_FLAG_W,CTDOXY,CTDOXY_FLAG_W,OXYGEN,OXYGEN_FLAG_W,SILCAT,SILCAT_FLAG_W,NITRAT,NITRAT_FLAG_W,NITRIT,NITRIT_FLAG_W,PHSPHT,PHSPHT_FLAG_W,CFC-11,CFC-11_FLAG_W,CFC-12,CFC-12_FLAG_W,CFC113,CFC113_FLAG_W,SF6,SF6_FLAG_W,TCARBN,TCARBN_FLAG_W,ALKALI,ALKALI_FLAG_W,PH_TOT,PH_TOT_FLAG_W,PH_TMP,TRITUM,TRITUM_FLAG_W,HELIUM,HELIUM_FLAG_W,DELHE3,DELHE3_FLAG_W,DELC13,DELC13_FLAG_W,DELC14,DELC14_FLAG_W,C14ERR,NEON,NEON_FLAG_W,NEONER,I-129,I-129_FLAG_W,SR-90,SR-90_FLAG_W,DOC,DOC_FLAG_W,TDN,TDN_FLAG_W,CALCIUM,CALCIUM_FLAG_W,D15N_NO3,D15N_NO3_FLAG_W,BTL_DATE,BTL_TIME,BTL_LAT,BTL_LON,SALTREF,SALTREF_FLAG_W,CS-137,CS-137_FLAG_W,CS-134,CS-134_FLAG_W,REFTMP,REFTMP_FLAG_W,LAB_DEN,LAB_DEN_FLAG_W,D18O_NO3,D18O_NO3_FLAG_W,HELIER,DELHER,TRITER
,,,,,,,,,,,METERS,DBAR,ITS-90,PSS-78,,PSS-78,,UMOL/KG,,UMOL/KG,,UMOL/KG,,UMOL/KG,,UMOL/KG,,UMOL/KG,,PMOL/KG,,PMOL/KG,,PMOL/KG,,FMOL/KG,,UMOL/KG,,UMOL/KG,,,,DEG C,TU,,NMOL/KG,,PERCNT,,/MILLE,,/MILLE,,/MILLE,NMOL/KG,,NMOL/KG,BQ/M^3,,DM/.1MG,,UMOL/KG,,UMOL/KG,,MMOL/KG,,/MILLE,,,,,,G/KG,,BQ/M^3,,BQ/M^3,,ITS-90,,,,/MILLE,,NMOL/KG,PERCNT,TU
318M20130321,       P02W,      86,          1,         36,         36,2,20130502,       1629,    30.0001,  -168.6079,       5488,     3.1,  19.0674,  34.9139,2,  34.9154,2,    231.1,2,   231.4,2,    2.05,2,       0,2,       0,2,    0.09,2,   2.367,2,   1.446,2,   0.206,2,     1.53,2,  2017.9,2, 2290.71,2,   8.0065,6,       25,-999.000,9,-999.0000,9, -999.00,9, -999.00,9,  -999.0,9,  -999.0,-999.000,9,-999.000,     -999.0,9, -999.00,1, -999.00,9, -999.00,9,     -999.0,9,  -999.0,1, 20130502,     1846,  30.0005,-168.6078,      35.08,2,     -999.0,1,     -999.0,1,     19.069,2,     -999.0,9,     -999.0,1,-999.0000, -999.00,-999.000
318M20130321,       P02W,      86,          1,         34,         34,2,20130502,       1629,    30.0001,  -168.6079,       5488,    25.7,  19.0719,  34.9136,2,   34.914,2,    231.5,2,   231.2,2,    2.05,2,       0,2,       0,2,    0.07,2,-999.000,9,-999.000,9,-999.000,9,-999.0000,9,  -999.0,9, -999.00,9,-999.0000,9,  -999.00,-999.000,9,-999.0000,9, -999.00,9, -999.00,9,  -999.0,9,  -999.0,-999.000,9,-999.000,     -999.0,9, -999.00,1, -999.00,9, -999.00,9,     -999.0,9,  -999.0,1, 20130502,     1844,  30.0005,-168.6078,    35.0787,2,     -999.0,1,     -999.0,1,    19.0709,2,     -999.0,9,     -999.0,1,-999.0000, -999.00,-999.000
318M20130321,       P02W,      86,          1,         33,         33,2,20130502,       1629,    30.0001,  -168.6079,       5488,    50.8,  19.0714,  34.9126,2,  34.9119,2,    232.9,2,   231.5,2,    2.05,2,       0,2,       0,2,    0.07,2,   2.368,2,   1.444,2,   0.203,2,     1.64,2,  2017.4,2, 2290.41,6,   8.0078,2,       25,-999.000,9,-999.0000,9, -999.00,9, -999.00,9,  -999.0,9,  -999.0,-999.000,9,-999.000,     -999.0,1, -999.00,1, -999.00,9, -999.00,9,     -999.0,9,  -999.0,1, 20130502,     1842,  30.0005,-168.6078,    35.0765,2,     -999.0,1,     -999.0,1,    19.0692,2,     -999.0,9,     -999.0,1,-999.0000, -999.00,-999.000
318M20130321,       P02W,      86,          1,         32,         32,2,20130502,       1629,    30.0001,  -168.6079,       5488,    75.4,     18.4,  34.8045,2,  34.8061,2,    238.9,2,   235.1,2,    2.34,2,       0,2,       0,2,    0.04,2,   2.448,2,   1.500,2,   0.214,2,      1.4,2,  2018.9,2, 2282.61,2,   8.0055,2,       25,-999.000,9,-999.0000,9, -999.00,9, -999.00,9,  -999.0,9,  -999.0,-999.000,9,-999.000,     -999.0,9, -999.00,1, -999.00,9, -999.00,9,     -999.0,9,  -999.0,1, 20130502,     1840,  30.0005,-168.6077,    34.9702,2,     -999.0,1,     -999.0,1,    18.4032,2,     -999.0,9,     -999.0,1,-999.0000, -999.00,-999.000
318M20130321,       P02W,      86,          1,         31,         31,2,20130502,       1629,    30.0001,  -168.6079,       5488,   100.2,  17.5512,  34.6789,2,  34.6864,2,    234.4,2,   234.1,2,    2.73,2,       0,2,    0.01,2,    0.07,2,-999.000,9,-999.000,9,-999.000,9,-999.0000,9,  -999.0,9, -999.00,9,-999.0000,9,  -999.00,-999.000,9,-999.0000,9, -999.00,9, -999.00,9,  -999.0,9,  -999.0,-999.000,9,-999.000,     -999.0,9, -999.00,1, -999.00,9, -999.00,9,     -999.0,9,  -999.0,1, 20130502,     1839,  30.0006,-168.6075,    34.8499,2,     -999.0,1,     -999.0,1,    17.5543,2,     -999.0,9,     -999.0,1,-999.0000, -999.00,-999.000
318M20130321,       P02W,      86,          1,         30,         30,2,20130502,       1629,    30.0001,  -168.6079,       5488,     151,  15.3303,  34.4759,2,  34.4795,2,    218.6,2,   217.1,2,    5.27,2,    4.96,2,    0.03,2,    0.36,2,   2.870,2,   1.696,2,   0.141,2,     1.55,2,  2050.7,2,    2266,2,   7.9034,6,       25,-999.000,9,-999.0000,9, -999.00,9, -999.00,9,  -999.0,9,  -999.0,-999.000,9,-999.000,     -999.0,9, -999.00,1, -999.00,9, -999.00,9,     -999.0,9,  -999.0,1, 20130502,     1837,  30.0007,-168.6071,    34.6421,2,     -999.0,1,     -999.0,1,    15.3361,2,     -999.0,9,     -999.0,1,-999.0000, -999.00,-999.000
318M20130321,       P02W,      86,          1,         29,         29,2,20130502,       1629,    30.0001,  -168.6079,       5488,   200.9,  14.2042,  34.4233,2,  34.4255,2,    210.1,2,   212.9,2,    7.52,2,    7.48,2,    0.01,2,    0.53,2,   2.992,2,   1.767,2,   0.082,2,     1.43,2,  -999.0,9, -999.00,9,-999.0000,9,  -999.00,-999.000,9,-999.0000,9, -999.00,9, -999.00,9,  -999.0,9,  -999.0,-999.000,9,-999.000,     -999.0,9, -999.00,1, -999.00,9, -999.00,9,     -999.0,9,  -999.0,1, 20130502,     1835,  30.0008,-168.6067,    34.5879,2,     -999.0,1,     -999.0,1,    14.2037,2,     -999.0,9,     -999.0,1,-999.0000, -999.00,-999.000
318M20130321,       P02W,      86,          1,         28,         28,2,20130502,       1629,    30.0001,  -168.6079,       5488,     253,  13.1869,  34.3761,2,  34.3763,2,    213.9,2,   212.6,2,   10.25,2,    9.61,2,    0.01,2,    0.65,2,   3.145,2,   1.816,2,   0.081,2,     1.55,2,  2077.7,2,    2263,2,    7.843,2,       25,-999.000,9,-999.0000,9, -999.00,9, -999.00,9,  -999.0,9,  -999.0,-999.000,9,-999.000,     -999.0,9, -999.00,1, -999.00,9, -999.00,9,     -999.0,9,  -999.0,1, 20130502,     1833,  30.0009,-168.6065,    34.5384,2,     -999.0,1,     -999.0,1,     13.182,2,     -999.0,9,     -999.0,1,-999.0000, -999.00,-999.000
318M20130321,       P02W,      86,          1,         27,         27,2,20130502,       1629,    30.0001,  -168.6079,       5488,   303.5,  12.2139,  34.3109,2,  34.3135,2,    214.4,2,   214.1,2,    12.3,2,   11.21,2,    0.01,2,    0.75,2,   3.298,2,   1.888,2,   0.075,2,     1.41,2,  -999.0,9, -999.00,9,-999.0000,9,  -999.00,-999.000,9,-999.0000,9, -999.00,9, -999.00,9,  -999.0,9,  -999.0,-999.000,9,-999.000,     -999.0,9, -999.00,1, -999.00,9, -999.00,9,     -999.0,9,  -999.0,1, 20130502,     1830,  30.0009,-168.6063,    34.4753,2,     -999.0,1,     -999.0,1,    12.2144,2,     -999.0,9,     -999.0,1,-999.0000, -999.00,-999.000
318M20130321,       P02W,      86,          1,         26,         26,2,20130502,       1629,    30.0001,  -168.6079,       5488,   353.1,   11.356,  34.2512,2,  34.2523,2,    214.1,2,   214.9,2,   14.74,2,   12.79,2,    0.01,2,    0.85,2,   3.457,2,   1.994,2,   0.083,2,      1.5,2,  2098.7,2,  2260.6,2,   7.7916,2,       25,-999.000,9,-999.0000,9, -999.00,9, -999.00,9,  -999.0,9,  -999.0,-999.000,9,-999.000,     -999.0,9, -999.00,1, -999.00,9, -999.00,9,     -999.0,9,  -999.0,1, 20130502,     1829,  30.0009,-168.6064,    34.4138,2,     -999.0,1,     -999.0,1,    11.3515,2,     -999.0,9,     -999.0,1,-999.0000, -999.00,-999.000
318M20130321,       P02W,      86,          1,         25,         25,2,20130502,       1629,    30.0001,  -168.6079,       5488,   400.5,  10.4272,  34.1877,2,   34.188,2,    209.5,2,   210.1,2,   18.45,2,   14.99,2,    0.01,2,    1.04,2,   3.464,2,   1.934,2,   0.112,2,     1.53,2,  2111.2,2,  2261.7,2,   7.7598,2,       25,-999.000,9,-999.0000,9, -999.00,9, -999.00,9,  -999.0,9,  -999.0,-999.000,9,-999.000,     -999.0,9, -999.00,1, -999.00,9, -999.00,9,     -999.0,9,  -999.0,1, 20130502,     1826,  30.0009,-168.6068,    34.3492,2,     -999.0,1,     -999.0,1,    10.4258,2,     -999.0,9,     -999.0,1,-999.0000, -999.00,-999.000
318M20130321,       P02W,      86,          1,         24,         24,2,20130502,       1629,    30.0001,  -168.6079,       5488,   503.6,   8.3463,  34.0745,2,  34.0765,2,    173.9,2,   172.2,2,   34.08,2,   22.48,2,       0,2,    1.58,2,   3.265,2,   1.740,2,   0.108,2,     1.02,2,    2164,2, 2268.71,2,   7.6448,2,       25,-999.000,9,-999.0000,9, -999.00,9, -999.00,9,  -999.0,9,  -999.0,-999.000,9,-999.000,     -999.0,9, -999.00,1, -999.00,9, -999.00,9,     -999.0,9,  -999.0,1, 20130502,     1824,  30.0009,-168.6072,    34.2371,2,     -999.0,1,     -999.0,1,     8.3435,2,     -999.0,9,     -999.0,1,-999.0000, -999.00,-999.000
318M20130321,       P02W,      86,          1,         23,         23,2,20130502,       1629,    30.0001,  -168.6079,       5488,   605.3,   6.5283,  34.0184,2,  34.0177,2,    131.4,2,   127.6,2,   54.98,2,    30.1,2,       0,2,    2.13,2,   2.562,2,   1.315,2,   0.103,2,     0.61,2,  2219.6,2, 2283.41,2,   7.5161,2,       25,-999.000,9,-999.0000,9, -999.00,9, -999.00,9,  -999.0,9,  -999.0,-999.000,9,-999.000,     -999.0,9, -999.00,1, -999.00,9, -999.00,9,     -999.0,9,  -999.0,1, 20130502,     1821,  30.0009,-168.6072,    34.1781,2,     -999.0,1,     -999.0,1,     6.5313,2,     -999.0,9,     -999.0,1,-999.0000, -999.00,-999.000
318M20130321,       P02W,      86,          1,         22,         22,2,20130502,       1629,    30.0001,  -168.6079,       5488,   704.1,   5.1425,  34.0464,2,  34.0463,2,     82.2,2,    79.7,2,   78.12,2,   36.76,2,       0,2,    2.63,2,   1.567,2,   0.795,2,   0.062,2,     0.24,2,  2277.3,2, 2302.62,2,   7.3993,2,       25,-999.000,9,-999.0000,9, -999.00,9, -999.00,9,  -999.0,9,  -999.0,-999.000,9,-999.000,     -999.0,9, -999.00,9, -999.00,9, -999.00,9,     -999.0,9,  -999.0,1, 20130502,     1818,  30.0009,-168.6072,    34.2068,2,     -999.0,9,     -999.0,9,     5.1405,2,     -999.0,9,     -999.0,1,-999.0000, -999.00,-999.000
318M20130321,       P02W,      86,          1,         21,         21,2,20130502,       1629,    30.0001,  -168.6079,       5488,   805.5,   4.3962,  34.1265,2,  34.1212,2,     44.3,2,    47.4,2,   96.48,2,   40.67,2,       0,2,    2.89,2,   0.762,2,   0.370,2,   0.021,2,     0.13,2,  2315.5,2, 2318.72,2,   7.3325,2,       25,-999.000,9,-999.0000,9, -999.00,9, -999.00,9,  -999.0,9,  -999.0,-999.000,9,-999.000,     -999.0,9, -999.00,9, -999.00,9, -999.00,9,     -999.0,9,  -999.0,1, 20130502,     1815,   30.001,-168.6075,    34.2821,2,     -999.0,9,     -999.0,9,     4.3956,2,     -999.0,9,     -999.0,1,-999.0000, -999.00,-999.000
318M20130321,       P02W,      86,          1,         20,         20,2,20130502,       1629,    30.0001,  -168.6079,       5488,   908.2,   3.9443,  34.2146,2,  34.2153,2,     22.7,2,    22.1,2,  112.87,2,   43.11,2,       0,2,    3.08,2,   0.220,2,   0.117,2,   0.000,2,     0.01,2,  2346.6,6, 2339.03,2,   7.2938,2,       25,-999.000,9,-999.0000,9, -999.00,9, -999.00,9,  -999.0,9,  -999.0,-999.000,9,-999.000,     -999.0,9, -999.00,9, -999.00,9, -999.00,9,     -999.0,9,  -999.0,1, 20130502,     1812,   30.001,-168.6076,    34.3766,2,     -999.0,9,     -999.0,9,     3.9424,2,     -999.0,9,     -999.0,1,-999.0000, -999.00,-999.000
318M20130321,       P02W,      86,          1,         19,         19,2,20130502,       1629,    30.0001,  -168.6079,       5488,  1008.4,   3.6349,   34.311,2,  34.3088,2,     17.2,2,    15.7,2,  124.19,2,   43.96,2,       0,2,    3.17,2,   0.062,2,   0.038,2,   0.000,2,     0.01,2,  2361.3,2, 2355.04,2,   7.2919,2,       25,-999.000,9,-999.0000,9, -999.00,9, -999.00,9,  -999.0,9,  -999.0,-999.000,9,-999.000,     -999.0,9, -999.00,9, -999.00,9, -999.00,9,     -999.0,9,  -999.0,1, 20130502,     1809,   30.001,-168.6075,    34.4706,2,     -999.0,9,     -999.0,9,     3.6341,2,     -999.0,9,     -999.0,1,-999.0000, -999.00,-999.000
318M20130321,       P02W,      86,          1,         18,         18,2,20130502,       1629,    30.0001,  -168.6079,       5488,  1109.4,   3.3859,  34.3888,2,  34.3877,2,     18.5,2,    17.9,2,   131.8,2,   44.02,2,       0,2,    3.16,2,   0.022,2,   0.017,2,   0.002,2,        0,2,  2370.3,2, 2368.34,2,   7.3061,6,       25,-999.000,9,-999.0000,9, -999.00,9, -999.00,9,  -999.0,9,  -999.0,-999.000,9,-999.000,     -999.0,9, -999.00,9, -999.00,9, -999.00,9,     -999.0,9,  -999.0,1, 20130502,     1806,  30.0012,-168.6073,    34.5499,2,     -999.0,9,     -999.0,9,     3.3887,2,     -999.0,9,     -999.0,1,-999.0000, -999.00,-999.000
318M20130321,       P02W,      86,          1,         17,         17,2,20130502,       1629,    30.0001,  -168.6079,       5488,    1213,   3.1772,  34.4483,2,  34.4486,2,     25.8,2,    27.5,2,  136.67,2,   43.67,2,       0,2,    3.14,2,   0.008,2,   0.013,2,   0.000,2,        0,2,  -999.0,9, -999.00,9,-999.0000,9,  -999.00,-999.000,9,-999.0000,9, -999.00,9, -999.00,9,  -999.0,9,  -999.0,-999.000,9,-999.000,     -999.0,9, -999.00,9, -999.00,9, -999.00,9,     -999.0,9,  -999.0,1, 20130502,     1803,  30.0014,-168.6072,     34.611,2,     -999.0,9,     -999.0,9,     3.1761,2,     -999.0,9,     -999.0,1,-999.0000, -999.00,-999.000
318M20130321,       P02W,      86,          1,         16,         16,2,20130502,       1629,    30.0001,  -168.6079,       5488,  1311.6,   2.9976,   34.484,2,  34.4849,2,     32.9,2,    34.1,2,  140.96,2,   43.36,2,       0,2,    3.11,2,   0.027,2,   0.024,2,   0.001,2,     0.05,2,  -999.0,9, -999.00,9,-999.0000,9,  -999.00,-999.000,9,-999.0000,9, -999.00,9, -999.00,9,  -999.0,9,  -999.0,-999.000,9,-999.000,     -999.0,9, -999.00,9, -999.00,9, -999.00,9,     -999.0,9,  -999.0,1, 20130502,     1800,  30.0016, -168.607,    34.6475,2,     -999.0,9,     -999.0,9,     2.9964,2,     -999.0,9,     -999.0,1,-999.0000, -999.00,-999.000
318M20130321,       P02W,      86,          1,         15,         15,2,20130502,       1629,    30.0001,  -168.6079,       5488,  1413.5,   2.8163,  34.5163,2,  34.5159,2,     41.5,2,    43.6,2,  144.67,2,   42.86,2,       0,2,    3.07,2,   0.011,2,   0.011,2,   0.000,2,     0.01,2,  2373.8,2, 2391.85,2,   7.3669,2,       25,-999.000,9,-999.0000,9, -999.00,9, -999.00,9,  -999.0,9,  -999.0,-999.000,9,-999.000,     -999.0,9, -999.00,9, -999.00,9, -999.00,9,     -999.0,9,  -999.0,1, 20130502,     1757,  30.0017,-168.6069,    34.6787,2,     -999.0,9,     -999.0,9,     2.8169,2,     -999.0,9,     -999.0,1,-999.0000, -999.00,-999.000
318M20130321,       P02W,      86,          1,         14,         14,2,20130502,       1629,    30.0001,  -168.6079,       5488,  1612.7,   2.4705,   34.556,2,  34.5562,2,       54,2,      55,2,  152.96,2,   42.31,2,       0,2,       3,2,-999.000,9,-999.000,9,-999.000,9,-999.0000,9,  2374.8,2, 2401.65,2,   7.3914,2,       25,-999.000,9,-999.0000,9, -999.00,9, -999.00,9,  -999.0,9,  -999.0,-999.000,9,-999.000,     -999.0,9, -999.00,9, -999.00,9, -999.00,9,     -999.0,9,  -999.0,1, 20130502,     1752,  30.0015,-168.6069,    34.7191,2,     -999.0,9,     -999.0,9,     2.4705,2,     -999.0,9,     -999.0,1,-999.0000, -999.00,-999.000
318M20130321,       P02W,      86,          1,         13,         13,2,20130502,       1629,    30.0001,  -168.6079,       5488,  1817.4,   2.1867,  34.5864,2,  34.5859,2,     66.2,2,    66.3,2,  159.79,2,   41.64,2,       0,2,    2.92,2,   0.004,2,   0.008,2,   0.000,2,        0,2,  -999.0,9, -999.00,9,-999.0000,9,  -999.00,-999.000,9,-999.0000,9, -999.00,9, -999.00,9,  -999.0,9,  -999.0,-999.000,9,-999.000,     -999.0,9, -999.00,9, -999.00,9, -999.00,9,     -999.0,9,  -999.0,1, 20130502,     1748,  30.0013,-168.6077,    34.7489,2,     -999.0,9,     -999.0,9,     2.1869,2,     -999.0,9,     -999.0,1,-999.0000, -999.00,-999.000
318M20130321,       P02W,      86,          1,         12,         12,2,20130502,       1629,    30.0001,  -168.6079,       5488,  2020.6,   1.9934,  34.6079,2,  34.6082,2,     78.1,2,    76.4,2,   163.5,2,   41.01,2,       0,2,     2.9,2,-999.000,9,-999.000,9,-999.000,9,-999.0000,9,  -999.0,9, -999.00,9,-999.0000,9,  -999.00,-999.000,9,-999.0000,9, -999.00,9, -999.00,9,  -999.0,9,  -999.0,-999.000,9,-999.000,     -999.0,9, -999.00,9, -999.00,9, -999.00,9,     -999.0,9,  -999.0,1, 20130502,     1743,  30.0012,-168.6083,    34.7714,2,     -999.0,9,     -999.0,9,      1.993,2,     -999.0,9,     -999.0,1,-999.0000, -999.00,-999.000
318M20130321,       P02W,      86,          1,         11,         11,2,20130502,       1629,    30.0001,  -168.6079,       5488,  2276.7,   1.8099,    34.63,2,  34.6301,2,       91,2,    90.8,2,  166.13,2,   40.11,2,       0,2,    2.84,2,-999.000,9,-999.000,9,-999.000,9,-999.0000,9,  2365.4,2, 2418.06,2,   7.4616,2,       25,-999.000,9,-999.0000,9, -999.00,9, -999.00,9,  -999.0,9,  -999.0,-999.000,9,-999.000,     -999.0,9, -999.00,9, -999.00,9, -999.00,9,     -999.0,9,  -999.0,1, 20130502,     1738,  30.0012,-168.6083,    34.7934,2,     -999.0,9,     -999.0,9,     1.8095,2,     -999.0,9,     -999.0,1,-999.0000, -999.00,-999.000
318M20130321,       P02W,      86,          1,         10,         10,2,20130502,       1629,    30.0001,  -168.6079,       5488,  2529.9,   1.6883,  34.6445,2,   34.644,2,    103.5,2,   102.9,2,  165.45,2,   39.28,2,       0,2,    2.76,2,   0.007,2,   0.009,2,   0.000,2,        0,2,  -999.0,9, -999.00,9,-999.0000,9,  -999.00,-999.000,9,-999.0000,9, -999.00,9, -999.00,9,  -999.0,9,  -999.0,-999.000,9,-999.000,     -999.0,9, -999.00,9, -999.00,9, -999.00,9,     -999.0,9,  -999.0,1, 20130502,     1732,  30.0011,-168.6082,    34.8074,2,     -999.0,9,     -999.0,9,     1.6875,2,     -999.0,9,     -999.0,1,-999.0000, -999.00,-999.000
318M20130321,       P02W,      86,          1,          9,          9,2,20130502,       1629,    30.0001,  -168.6079,       5488,    2786,   1.6071,  34.6553,2,  34.6546,2,    114.5,2,     114,2,  163.49,2,   38.54,2,       0,2,     2.7,2,-999.000,9,-999.000,9,-999.000,9,-999.0000,9,  2350.1,2, 2418.46,2,   7.5063,2,       25,-999.000,9,-999.0000,9, -999.00,9, -999.00,9,  -999.0,9,  -999.0,-999.000,9,-999.000,     -999.0,9, -999.00,9, -999.00,9, -999.00,9,     -999.0,9,  -999.0,1, 20130502,     1727,  30.0007,-168.6077,    34.8181,2,     -999.0,9,     -999.0,9,     1.6074,2,     -999.0,9,     -999.0,1,-999.0000, -999.00,-999.000
318M20130321,       P02W,      86,          1,          8,          8,2,20130502,       1629,    30.0001,  -168.6079,       5488,  3041.1,   1.5461,  34.6643,2,  34.6629,2,    123.3,2,   124.1,2,  161.25,2,    37.9,2,       0,2,    2.67,2,-999.000,9,-999.000,9,-999.000,9,-999.0000,9,  -999.0,9, -999.00,9,-999.0000,9,  -999.00,-999.000,9,-999.0000,9, -999.00,9, -999.00,9,  -999.0,9,  -999.0,-999.000,9,-999.000,     -999.0,9, -999.00,9, -999.00,9, -999.00,9,     -999.0,9,  -999.0,1, 20130502,     1721,  30.0005,-168.6073,    34.8264,2,     -999.0,9,     -999.0,9,      1.546,2,     -999.0,9,     -999.0,1,-999.0000, -999.00,-999.000
318M20130321,       P02W,      86,          1,          7,          7,2,20130502,       1629,    30.0001,  -168.6079,       5488,  3346.6,   1.5031,  34.6722,2,  34.6719,2,    133.3,2,   133.4,2,   159.1,2,    37.3,2,       0,2,     2.6,2,   0.003,2,   0.009,2,   0.014,2,        0,2,  2338.6,2, 2418.46,2,   7.5386,2,       25,-999.000,9,-999.0000,9, -999.00,9, -999.00,9,  -999.0,9,  -999.0,-999.000,9,-999.000,     -999.0,9, -999.00,9, -999.00,9, -999.00,9,     -999.0,9,  -999.0,1, 20130502,     1715,  30.0005,-168.6071,    34.8354,2,     -999.0,9,     -999.0,9,      1.503,2,     -999.0,9,     -999.0,1,-999.0000, -999.00,-999.000