BOTTLE,20220817CCHSIOAMB
EXPOCODE,SECT_ID,STNNBR,CASTNO,SAMPNO,BTLNBR,BTLNBR_FLAG_W,DATE,TIME,LATITUDE,LONGITUDE,DEPTH,CTDPRS,CTDTMP,CTDSAL,CTDSAL_FLAG_W,SALNTY,SALNTY_FLAG_W,CTDOXY,CTDOXY_FLAG_W,OXYGEN,OXYGEN_FLAG_W,SILCAT,SILCAT_FLAG_W,NITRAT,NITRAT_FLAG_W,NITRIT,NITRIT_FLAG_W,PHSPHT,PHSPHT_FLAG_W,CFC-11,CFC-11_FLAG_W,CFC-12,CFC-12_FLAG_W,CFC113,CFC113_FLAG_W,SF6,SF6_FLAG_W,TCARBN,TCARBN_FLAG_W,ALKALI,ALKALI_FLAG_W,PH_TOT,PH_TOT_FLAG_W,PH_TMP,TRITUM,TRITUM_FLAG_W,HELIUM,HELIUM_FLAG_W,DELHE3,DELHE3_FLAG_W,DELC13,DELC13_FLAG_W,DELC14,DELC14_FLAG_W,C14ERR,NEON,NEON_FLAG_W,NEONER,I-129,I-129_FLAG_W,SR-90,SR-90_FLAG_W,DOC,DOC_FLAG_W,TDN,TDN_FLAG_W,CALCIUM,CALCIUM_FLAG_W,D15N_NO3,D15N_NO3_FLAG_W,BTL_DATE,BTL_TIME,BTL_LAT,BTL_LON,SALTREF,SALTREF_FLAG_W,CS-137,CS-137_FLAG_W,CS-134,CS-134_FLAG_W,REFTMP,REFTMP_FLAG_W,LAB_DEN,LAB_DEN_FLAG_W,D18O_NO3,D18O_NO3_FLAG_W,HELIER,DELHER,TRITER
,,,,,,,,,,,METERS,DBAR,ITS-90,PSS-78,,PSS-78,,UMOL/KG,,UMOL/KG,,UMOL/KG,,UMOL/KG,,UMOL/KG,,UMOL/KG,,PMOL/KG,,PMOL/KG,,PMOL/KG,,FMOL/KG,,UMOL/KG,,UMOL/KG,,,,DEG C,TU,,NMOL/KG,,PERCNT,,/MILLE,,/MILLE,,/MILLE,NMOL/KG,,NMOL/KG,BQ/M^3,,DM/.1MG,,UMOL/KG,,UMOL/KG,,MMOL/KG,,/MILLE,,,,,,G/KG,,BQ/M^3,,BQ/M^3,,ITS-90,,,,/MILLE,,NMOL/KG,PERCNT,TU
318M20130321,       P02W,      22,          1,          4,          4,2,20130411,       0735,    29.9953,   139.3711,       2279,  1894.8,   2.1628,  34.5685,2,  34.5677,2,     83.7,2,    81.3,2,  151.79,2,   40.35,2,       0,2,    2.85,2,-999.000,9,-999.000,9,-999.000,9,-999.0000,9,  -999.0,9, -999.00,9,-999.0000,9,  -999.00,-999.000,9,-999.0000,9, -999.00,9, -999.00,9,  -999.0,9,  -999.0,-999.000,9,-999.000,     -999.0,9, -999.00,9, -999.00,9, -999.00,9,     -999.0,9,  -999.0,9, 20130411,      748,  29.9945,   139.37,    34.7307,2,     -999.0,9,     -999.0,9,     2.1635,2,     -999.0,9,     -999.0,9,-999.0000, -999.00,-999.000
318M20130321,       P02W,      22,          1,          3,          3,2,20130411,       0735,    29.9953,   139.3711,       2279,  2031.8,   1.9801,  34.5958,2,  34.5962,2,     90.2,2,    93.1,2,  152.96,2,   39.73,2,       0,2,    2.79,2,   0.118,2,   0.058,2,   0.017,2,     0.13,2,  2354.2,2, 2407.16,2,   7.4599,2,       25,  -0.001,2,   1.9754,2,   19.06,2, -999.00,9,  -999.0,9,  -999.0,   8.363,2,   0.038,     -999.0,9, -999.00,9, -999.00,9, -999.00,9,     -999.0,9,  -999.0,9, 20130411,      744,  29.9947, 139.3702,    34.7593,2,     -999.0,9,     -999.0,9,     1.9827,2,     -999.0,9,     -999.0,9,   0.0083,    0.15,   0.006
318M20130321,       P02W,      22,          1,          2,          2,2,20130411,       0735,    29.9953,   139.3711,       2279,  2182.1,    1.958,  34.6013,2,  34.6028,2,     96.3,2,    97.6,2,  151.98,2,   39.42,2,       0,2,    2.77,2,-999.000,9,-999.000,9,-999.000,9,-999.0000,9,  2352.4,2, 2407.06,2,   7.4682,6,       25,-999.000,9,-999.0000,9, -999.00,9, -999.00,9,  -999.0,9,  -999.0,-999.000,9,-999.000,     -999.0,9, -999.00,9, -999.00,9, -999.00,9,     -999.0,9,  -999.0,9, 20130411,      740,  29.9949, 139.3705,     34.766,2,     -999.0,9,     -999.0,9,     1.9458,3,     -999.0,9,     -999.0,9,-999.0000, -999.00,-999.000
318M20130321,       P02W,      22,          1,          1,          1,2,20130411,       0735,    29.9953,   139.3711,       2279,  2337.4,   1.6979,  34.6419,2,  34.6421,2,    124.6,2,   124.5,2,  147.59,2,   37.65,2,       0,2,    2.64,2,-999.000,9,-999.000,9,-999.000,9,-999.0000,9,  2339.9,6, 2409.16,2,   7.5204,2,       25,-999.000,9,-999.0000,9, -999.00,9, -999.00,9,  -999.0,9,  -999.0,-999.000,9,-999.000,     -999.0,9, -999.00,9, -999.00,9, -999.00,9,     -999.0,9,  -999.0,9, 20130411,      736,  29.9952,  139.371,    34.8055,2,     -999.0,9,     -999.0,9,     1.6968,2,     -999.0,9,     -999.0,9,-999.0000, -999.00,-999.000