BOTTLE,20220817CCHSIOAMB
EXPOCODE,SECT_ID,STNNBR,CASTNO,SAMPNO,BTLNBR,BTLNBR_FLAG_W,DATE,TIME,LATITUDE,LONGITUDE,DEPTH,CTDPRS,CTDTMP,CTDSAL,CTDSAL_FLAG_W,SALNTY,SALNTY_FLAG_W,CTDOXY,CTDOXY_FLAG_W,OXYGEN,OXYGEN_FLAG_W,SILCAT,SILCAT_FLAG_W,NITRAT,NITRAT_FLAG_W,NITRIT,NITRIT_FLAG_W,PHSPHT,PHSPHT_FLAG_W,CFC-11,CFC-11_FLAG_W,CFC-12,CFC-12_FLAG_W,CFC113,CFC113_FLAG_W,SF6,SF6_FLAG_W,TCARBN,TCARBN_FLAG_W,ALKALI,ALKALI_FLAG_W,PH_TOT,PH_TOT_FLAG_W,PH_TMP,TRITUM,TRITUM_FLAG_W,HELIUM,HELIUM_FLAG_W,DELHE3,DELHE3_FLAG_W,DELC13,DELC13_FLAG_W,DELC14,DELC14_FLAG_W,C14ERR,NEON,NEON_FLAG_W,NEONER,I-129,I-129_FLAG_W,SR-90,SR-90_FLAG_W,DOC,DOC_FLAG_W,TDN,TDN_FLAG_W,CALCIUM,CALCIUM_FLAG_W,D15N_NO3,D15N_NO3_FLAG_W,BTL_DATE,BTL_TIME,BTL_LAT,BTL_LON,SALTREF,SALTREF_FLAG_W,CS-137,CS-137_FLAG_W,CS-134,CS-134_FLAG_W,REFTMP,REFTMP_FLAG_W,LAB_DEN,LAB_DEN_FLAG_W,D18O_NO3,D18O_NO3_FLAG_W,HELIER,DELHER,TRITER
,,,,,,,,,,,METERS,DBAR,ITS-90,PSS-78,,PSS-78,,UMOL/KG,,UMOL/KG,,UMOL/KG,,UMOL/KG,,UMOL/KG,,UMOL/KG,,PMOL/KG,,PMOL/KG,,PMOL/KG,,FMOL/KG,,UMOL/KG,,UMOL/KG,,,,DEG C,TU,,NMOL/KG,,PERCNT,,/MILLE,,/MILLE,,/MILLE,NMOL/KG,,NMOL/KG,BQ/M^3,,DM/.1MG,,UMOL/KG,,UMOL/KG,,MMOL/KG,,/MILLE,,,,,,G/KG,,BQ/M^3,,BQ/M^3,,ITS-90,,,,/MILLE,,NMOL/KG,PERCNT,TU
318M20130321,       P02E,      94,          1,          6,          6,2,20130514,       0105,    29.9997,  -160.5927,       5706,  3789.6,   1.4789,  34.6808,2,  34.6824,2,    141.1,2,   141.5,2,  158.81,2,   36.63,2,       0,2,     2.5,2,-999.000,9,-999.000,9,-999.000,9,-999.0000,9,  -999.0,9, -999.00,9,-999.0000,9,  -999.00,-999.000,9,-999.0000,9, -999.00,9, -999.00,9,  -999.0,9,  -999.0,-999.000,9,-999.000,     -999.0,9, -999.00,9, -999.00,9, -999.00,9,     -999.0,9,  -999.0,9, 20130514,      144,  29.9997,-160.5919,    34.8459,2,     -999.0,9,     -999.0,9,     1.4788,2,     -999.0,9,     -999.0,9,-999.0000, -999.00,-999.000
318M20130321,       P02E,      94,          1,          5,         37,2,20130514,       0105,    29.9997,  -160.5927,       5706,  4197.2,   1.4808,  34.6851,2,  34.6865,2,    148.1,2,   147.6,2,  156.17,2,   36.24,2,       0,2,    2.47,2,   0.004,2,   0.004,2,-999.000,5,        0,2,  2332.1,2, 2420.56,6,   7.5674,2,       25,-999.000,9,-999.0000,9, -999.00,9, -999.00,9,  -999.0,9,  -999.0,-999.000,9,-999.000,     -999.0,9, -999.00,9, -999.00,9, -999.00,9,     -999.0,9,  -999.0,9, 20130514,      136,  29.9997,-160.5922,    34.8501,2,     -999.0,9,     -999.0,9,     1.4809,2,     -999.0,9,     -999.0,9,-999.0000, -999.00,-999.000
318M20130321,       P02E,      94,          1,          4,          4,2,20130514,       0105,    29.9997,  -160.5927,       5706,  4609.7,   1.4977,  34.6883,2,  34.6895,2,    153.4,2,   152.6,2,  153.14,2,   35.88,2,       0,2,    2.48,2,   0.006,2,   0.004,2,-999.000,5,    0.059,2,  -999.0,9, -999.00,9,-999.0000,9,  -999.00,-999.000,9,-999.0000,9, -999.00,9, -999.00,9,  -999.0,9,  -999.0,-999.000,9,-999.000,     -999.0,9, -999.00,9, -999.00,9, -999.00,9,     -999.0,9,  -999.0,9, 20130514,      128,  29.9997,-160.5932,     34.853,2,     -999.0,9,     -999.0,9,     1.4978,2,     -999.0,9,     -999.0,9,-999.0000, -999.00,-999.000
318M20130321,       P02E,      94,          1,          3,          3,2,20130514,       0105,    29.9997,  -160.5927,       5706,  5021.3,   1.5286,  34.6901,2,   34.692,2,    155.9,2,   156.4,2,  150.12,2,   35.63,2,       0,2,    2.47,2,   0.006,2,   0.004,2,-999.000,5,        0,2,  2325.2,2, 2418.76,2,   7.5793,6,       25,-999.000,9,-999.0000,9, -999.00,9, -999.00,9,  -999.0,9,  -999.0,-999.000,9,-999.000,     -999.0,9, -999.00,9, -999.00,9, -999.00,9,     -999.0,9,  -999.0,9, 20130514,      120,  29.9996,-160.5931,    34.8556,2,     -999.0,9,     -999.0,9,     1.5285,2,     -999.0,9,     -999.0,9,-999.0000, -999.00,-999.000
318M20130321,       P02E,      94,          1,          2,          2,2,20130514,       0105,    29.9997,  -160.5927,       5706,  5432.2,    1.572,  34.6913,2,  34.6916,2,      158,2,   158.9,2,  148.36,2,   35.48,2,       0,2,    2.44,2,   0.007,2,   0.005,2,-999.000,5,        0,2,    2322,6, 2417.16,2,   7.5829,2,       25,-999.000,9,-999.0000,9, -999.00,9, -999.00,9,  -999.0,9,  -999.0,-999.000,9,-999.000,     -999.0,9, -999.00,9, -999.00,9, -999.00,9,     -999.0,9,  -999.0,9, 20130514,      113,  29.9996,-160.5932,    34.8552,2,     -999.0,9,     -999.0,9,     1.5721,2,     -999.0,9,     -999.0,9,-999.0000, -999.00,-999.000
318M20130321,       P02E,      94,          1,          1,          1,9,20130514,       0105,    29.9997,  -160.5927,       5706,  5794.6,   1.6198,  34.6912,2,-999.0000,9,    158.9,2,  -999.0,9, -999.00,9, -999.00,9, -999.00,9, -999.00,9,-999.000,9,-999.000,9,-999.000,9,-999.0000,9,  -999.0,9, -999.00,9,-999.0000,9,  -999.00,-999.000,9,-999.0000,9, -999.00,9, -999.00,9,  -999.0,9,  -999.0,-999.000,9,-999.000,     -999.0,9, -999.00,9, -999.00,9, -999.00,9,     -999.0,9,  -999.0,9, 20130514,      106,  29.9997,-160.5927,     -999.0,9,     -999.0,9,     -999.0,9,     1.6199,2,     -999.0,9,     -999.0,9,-999.0000, -999.00,-999.000