BOTTLE,20220817CCHSIOAMB
EXPOCODE,SECT_ID,STNNBR,CASTNO,SAMPNO,BTLNBR,BTLNBR_FLAG_W,DATE,TIME,LATITUDE,LONGITUDE,DEPTH,CTDPRS,CTDTMP,CTDSAL,CTDSAL_FLAG_W,SALNTY,SALNTY_FLAG_W,CTDOXY,CTDOXY_FLAG_W,OXYGEN,OXYGEN_FLAG_W,SILCAT,SILCAT_FLAG_W,NITRAT,NITRAT_FLAG_W,NITRIT,NITRIT_FLAG_W,PHSPHT,PHSPHT_FLAG_W,CFC-11,CFC-11_FLAG_W,CFC-12,CFC-12_FLAG_W,CFC113,CFC113_FLAG_W,SF6,SF6_FLAG_W,TCARBN,TCARBN_FLAG_W,ALKALI,ALKALI_FLAG_W,PH_TOT,PH_TOT_FLAG_W,PH_TMP,TRITUM,TRITUM_FLAG_W,HELIUM,HELIUM_FLAG_W,DELHE3,DELHE3_FLAG_W,DELC13,DELC13_FLAG_W,DELC14,DELC14_FLAG_W,C14ERR,NEON,NEON_FLAG_W,NEONER,I-129,I-129_FLAG_W,SR-90,SR-90_FLAG_W,DOC,DOC_FLAG_W,TDN,TDN_FLAG_W,CALCIUM,CALCIUM_FLAG_W,D15N_NO3,D15N_NO3_FLAG_W,BTL_DATE,BTL_TIME,BTL_LAT,BTL_LON,SALTREF,SALTREF_FLAG_W,CS-137,CS-137_FLAG_W,CS-134,CS-134_FLAG_W,REFTMP,REFTMP_FLAG_W,LAB_DEN,LAB_DEN_FLAG_W,D18O_NO3,D18O_NO3_FLAG_W,HELIER,DELHER,TRITER
,,,,,,,,,,,METERS,DBAR,ITS-90,PSS-78,,PSS-78,,UMOL/KG,,UMOL/KG,,UMOL/KG,,UMOL/KG,,UMOL/KG,,UMOL/KG,,PMOL/KG,,PMOL/KG,,PMOL/KG,,FMOL/KG,,UMOL/KG,,UMOL/KG,,,,DEG C,TU,,NMOL/KG,,PERCNT,,/MILLE,,/MILLE,,/MILLE,NMOL/KG,,NMOL/KG,BQ/M^3,,DM/.1MG,,UMOL/KG,,UMOL/KG,,MMOL/KG,,/MILLE,,,,,,G/KG,,BQ/M^3,,BQ/M^3,,ITS-90,,,,/MILLE,,NMOL/KG,PERCNT,TU
318M20130321,       P02E,     112,          1,         36,         36,2,20130520,       0207,    29.9998,  -145.6541,       5120,     2.7,  20.9632,   35.041,2,  35.0414,2,    228.4,2,   228.4,2,    2.24,2,       0,2,       0,2,    0.01,2,   1.967,6,   1.193,6,-999.000,1,   1.3499,6,  2037.5,2, 2306.12,2,   7.9883,2,       25,-999.000,9,-999.0000,9, -999.00,9, -999.00,9,  -999.0,9,  -999.0,-999.000,9,-999.000,     -999.0,9, -999.00,9, -999.00,9, -999.00,9,     -999.0,9,  -999.0,9, 20130520,      414,  30.0004,-145.6548,    35.2066,2,     -999.0,9,     -999.0,9,    20.9632,2,     -999.0,9,     -999.0,9,-999.0000, -999.00,-999.000
318M20130321,       P02E,     112,          1,         34,         34,2,20130520,       0207,    29.9998,  -145.6541,       5120,    35.6,  20.0165,  34.9833,2,  34.9863,2,    237.7,2,   234.4,2,    2.34,2,       0,2,       0,2,    0.02,2,   2.071,2,   1.256,2,-999.000,1,   1.4463,2,  2033.5,2, 2302.42,2,   7.9886,6,       25,-999.000,9,-999.0000,9, -999.00,9, -999.00,9,  -999.0,9,  -999.0,-999.000,9,-999.000,     -999.0,9, -999.00,9, -999.00,9, -999.00,9,     -999.0,9,  -999.0,9, 20130520,      412,  30.0002,-145.6546,    35.1512,2,     -999.0,9,     -999.0,9,    20.0074,2,     -999.0,9,     -999.0,9,-999.0000, -999.00,-999.000
318M20130321,       P02E,     112,          1,         33,         33,2,20130520,       0207,    29.9998,  -145.6541,       5120,    61.2,  19.4343,  34.9559,2,  34.9691,3,    236.6,2,   236.1,2,    2.24,2,       0,2,       0,2,    0.04,2,   2.093,2,   1.279,2,-999.000,1,   1.4827,2,  2032.6,2, 2301.72,6,   7.9888,2,       25,-999.000,9,-999.0000,9, -999.00,9, -999.00,9,  -999.0,9,  -999.0,-999.000,9,-999.000,     -999.0,9, -999.00,9, -999.00,9, -999.00,9,     -999.0,9,  -999.0,9, 20130520,      410,       30,-145.6544,     35.134,3,     -999.0,9,     -999.0,9,    19.4406,2,     -999.0,9,     -999.0,9,-999.0000, -999.00,-999.000
318M20130321,       P02E,     112,          1,         32,         32,2,20130520,       0207,    29.9998,  -145.6541,       5120,    84.5,  19.0555,  34.9594,2,  34.9597,2,    236.3,2,   235.2,2,    2.24,2,       0,2,       0,2,    0.04,2,   2.106,2,   1.277,2,-999.000,1,   1.3723,2,  -999.0,9, -999.00,9,-999.0000,9,  -999.00,-999.000,9,-999.0000,9, -999.00,9, -999.00,9,  -999.0,9,  -999.0,-999.000,9,-999.000,     -999.0,9, -999.00,9, -999.00,9, -999.00,9,     -999.0,9,  -999.0,9, 20130520,      408,  29.9999,-145.6544,    35.1246,2,     -999.0,9,     -999.0,9,    19.0559,2,     -999.0,9,     -999.0,9,-999.0000, -999.00,-999.000
318M20130321,       P02E,     112,          1,         31,         31,2,20130520,       0207,    29.9998,  -145.6541,       5120,   115.9,  18.7762,  34.9761,2,  34.9802,2,    233.3,2,   232.2,2,    2.24,2,       0,2,       0,2,    0.04,2,   2.109,2,   1.284,2,-999.000,1,   1.4983,2,  2039.2,2, 2301.32,2,   7.9808,2,       25,-999.000,9,-999.0000,9, -999.00,9, -999.00,9,  -999.0,9,  -999.0,-999.000,9,-999.000,     -999.0,9, -999.00,9, -999.00,9, -999.00,9,     -999.0,9,  -999.0,9, 20130520,      406,  30.0001,-145.6544,    35.1451,2,     -999.0,9,     -999.0,9,    18.7792,2,     -999.0,9,     -999.0,9,-999.0000, -999.00,-999.000
318M20130321,       P02E,     112,          1,         30,         30,2,20130520,       0207,    29.9998,  -145.6541,       5120,   165.6,  18.5694,  34.9577,2,  34.9589,2,    226.8,2,   225.8,2,    1.95,2,    0.04,2,     0.2,2,    0.06,2,   2.121,2,   1.286,2,-999.000,1,   1.4734,2,  2046.5,2, 2301.92,2,   7.9668,2,       25,-999.000,9,-999.0000,9, -999.00,9, -999.00,9,  -999.0,9,  -999.0,-999.000,9,-999.000,     -999.0,9, -999.00,9, -999.00,9, -999.00,9,     -999.0,9,  -999.0,9, 20130520,      404,  30.0002,-145.6543,    35.1238,2,     -999.0,9,     -999.0,9,     18.565,2,     -999.0,9,     -999.0,9,-999.0000, -999.00,-999.000
318M20130321,       P02E,     112,          1,         29,         29,2,20130520,       0207,    29.9998,  -145.6541,       5120,   215.9,  14.3251,  34.2791,2,   34.281,2,    220.8,2,   219.5,2,    5.27,2,    4.39,2,    0.02,2,     0.4,2,   2.644,2,   1.559,2,-999.000,1,     1.45,2,  -999.0,9, -999.00,9,-999.0000,9,  -999.00,-999.000,9,-999.0000,9, -999.00,9, -999.00,9,  -999.0,9,  -999.0,-999.000,9,-999.000,     -999.0,9, -999.00,9, -999.00,9, -999.00,9,     -999.0,9,  -999.0,9, 20130520,      401,  30.0001,-145.6541,    34.4426,2,     -999.0,9,     -999.0,9,    14.3205,2,     -999.0,9,     -999.0,9,-999.0000, -999.00,-999.000
318M20130321,       P02E,     112,          1,         28,         28,2,20130520,       0207,    29.9998,  -145.6541,       5120,   266.5,  12.3372,  34.1546,2,  34.1563,2,    219.4,2,   218.3,2,    9.08,2,    9.06,2,    0.01,2,    0.67,2,   2.926,2,   1.684,2,-999.000,1,   1.5123,2,  2075.5,2,  2251.5,2,   7.8173,2,       25,-999.000,9,-999.0000,9, -999.00,9, -999.00,9,  -999.0,9,  -999.0,-999.000,9,-999.000,     -999.0,9, -999.00,9, -999.00,9, -999.00,9,     -999.0,9,  -999.0,9, 20130520,      359,       30,-145.6542,    34.3173,2,     -999.0,9,     -999.0,9,    12.3385,2,     -999.0,9,     -999.0,9,-999.0000, -999.00,-999.000
318M20130321,       P02E,     112,          1,         27,         27,2,20130520,       0207,    29.9998,  -145.6541,       5120,   316.6,  10.9072,  34.1137,2,  34.1145,2,    217.8,2,   219.3,2,   12.99,2,   12.33,2,       0,2,    0.91,2,   3.106,6,   1.767,6,-999.000,1,   1.5162,6,  -999.0,9, -999.00,9,-999.0000,9,  -999.00,-999.000,9,-999.0000,9, -999.00,9, -999.00,9,  -999.0,9,  -999.0,-999.000,9,-999.000,     -999.0,9, -999.00,9, -999.00,9, -999.00,9,     -999.0,9,  -999.0,9, 20130520,      357,  30.0001,-145.6542,    34.2754,2,     -999.0,9,     -999.0,9,    10.9092,2,     -999.0,9,     -999.0,9,-999.0000, -999.00,-999.000
318M20130321,       P02E,     112,          1,         26,         26,2,20130520,       0207,    29.9998,  -145.6541,       5120,   367.1,   9.9372,  34.0881,2,  34.0887,2,    208.5,2,   211.2,2,   18.16,2,   15.51,2,       0,2,     1.1,2,   3.226,2,   1.787,2,-999.000,1,   1.3917,2,  2111.9,2,  2256.7,2,   7.7378,2,       25,-999.000,9,-999.0000,9, -999.00,9, -999.00,9,  -999.0,9,  -999.0,-999.000,9,-999.000,     -999.0,9, -999.00,9, -999.00,9, -999.00,9,     -999.0,9,  -999.0,9, 20130520,      355,  30.0002,-145.6543,    34.2494,2,     -999.0,9,     -999.0,9,     9.9343,2,     -999.0,9,     -999.0,9,-999.0000, -999.00,-999.000
318M20130321,       P02E,     112,          1,         25,         25,2,20130520,       0207,    29.9998,  -145.6541,       5120,   436.9,   8.4965,  34.0258,2,  34.0258,2,    178.6,2,   179.8,2,    29.1,2,   21.52,2,       0,2,    1.51,2,   3.123,2,   1.672,2,-999.000,1,    1.064,2,  2152.9,2,  2262.3,2,   7.6469,2,       25,-999.000,9,-999.0000,9, -999.00,9, -999.00,9,  -999.0,9,  -999.0,-999.000,9,-999.000,     -999.0,9, -999.00,9, -999.00,9, -999.00,9,     -999.0,9,  -999.0,9, 20130520,      352,  29.9999,-145.6541,    34.1862,2,     -999.0,9,     -999.0,9,     8.4946,2,     -999.0,9,     -999.0,9,-999.0000, -999.00,-999.000
318M20130321,       P02E,     112,          1,         24,         24,2,20130520,       0207,    29.9998,  -145.6541,       5120,     538,   6.6646,  33.9976,2,  33.9976,2,    119.6,2,   113.7,2,   51.66,2,    31.2,2,       0,2,    2.24,2,   2.397,2,   1.209,2,-999.000,1,   0.5795,2,  2225.4,2, 2277.91,2,   7.4781,2,       25,-999.000,9,-999.0000,9, -999.00,9, -999.00,9,  -999.0,9,  -999.0,-999.000,9,-999.000,     -999.0,9, -999.00,9, -999.00,9, -999.00,9,     -999.0,9,  -999.0,9, 20130520,      349,       30,-145.6542,    34.1579,2,     -999.0,9,     -999.0,9,     6.6615,2,     -999.0,9,     -999.0,9,-999.0000, -999.00,-999.000
318M20130321,       P02E,     112,          1,         23,         23,2,20130520,       0207,    29.9998,  -145.6541,       5120,   638.5,   5.4772,   34.044,2,  34.0442,2,     65.4,2,    67.3,2,   72.17,2,   37.47,2,       0,2,    2.71,2,   1.400,2,   0.676,2,-999.000,1,   0.1779,2,  2276.2,2, 2294.72,2,   7.3676,2,       25,-999.000,9,-999.0000,9, -999.00,9, -999.00,9,  -999.0,9,  -999.0,-999.000,9,-999.000,     -999.0,9, -999.00,9, -999.00,9, -999.00,9,     -999.0,9,  -999.0,9, 20130520,      347,       30,-145.6543,    34.2047,2,     -999.0,9,     -999.0,9,     5.4777,2,     -999.0,9,     -999.0,9,-999.0000, -999.00,-999.000
318M20130321,       P02E,     112,          1,         22,         22,2,20130520,       0207,    29.9998,  -145.6541,       5120,   739.2,   4.6511,  34.1432,2,  34.1438,2,     34.7,2,    32.5,2,   93.15,2,   41.52,2,       0,2,    3.01,2,   0.498,2,   0.241,2,-999.000,1,   0.0405,2,  2325.4,2, 2318.02,2,   7.3056,6,       25,-999.000,9,-999.0000,9, -999.00,9, -999.00,9,  -999.0,9,  -999.0,-999.000,9,-999.000,     -999.0,9, -999.00,9, -999.00,9, -999.00,9,     -999.0,9,  -999.0,9, 20130520,      344,       30,-145.6542,    34.3048,2,     -999.0,9,     -999.0,9,     4.6519,2,     -999.0,9,     -999.0,9,-999.0000, -999.00,-999.000
318M20130321,       P02E,     112,          1,         21,         21,2,20130520,       0207,    29.9998,  -145.6541,       5120,   840.6,   4.1755,  34.2368,2,  34.2391,2,     17.5,2,    16.7,2,  108.67,2,   43.33,2,       0,2,    3.15,2,   0.123,2,   0.064,2,-999.000,1,        0,2,  2346.8,2, 2338.63,2,   7.2846,2,       25,-999.000,9,-999.0000,9, -999.00,9, -999.00,9,  -999.0,9,  -999.0,-999.000,9,-999.000,     -999.0,9, -999.00,9, -999.00,9, -999.00,9,     -999.0,9,  -999.0,9, 20130520,      341,       30,-145.6543,    34.4005,2,     -999.0,9,     -999.0,9,     4.1837,2,     -999.0,9,     -999.0,9,-999.0000, -999.00,-999.000
318M20130321,       P02E,     112,          1,         20,         20,2,20130520,       0207,    29.9998,  -145.6541,       5120,   941.6,    3.919,   34.318,2,  34.3183,2,     12.3,2,    12.6,2,  117.45,2,   43.86,2,       0,2,    3.19,2,   0.035,2,   0.020,2,-999.000,1,        0,2,  2358.9,6, 2352.44,2,   7.2874,2,       25,-999.000,9,-999.0000,9, -999.00,9, -999.00,9,  -999.0,9,  -999.0,-999.000,9,-999.000,     -999.0,9, -999.00,9, -999.00,9, -999.00,9,     -999.0,9,  -999.0,9, 20130520,      338,  30.0001,-145.6542,    34.4802,2,     -999.0,9,     -999.0,9,     3.9219,2,     -999.0,9,     -999.0,9,-999.0000, -999.00,-999.000
318M20130321,       P02E,     112,          1,         19,         19,2,20130520,       0207,    29.9998,  -145.6541,       5120,  1043.1,   3.6582,  34.3934,2,  34.3916,2,     15.1,2,    15.6,2,  124.67,2,   43.98,2,       0,2,    3.18,2,   0.013,2,   0.009,2,-999.000,1,        0,2,  2364.4,2, 2364.04,2,   7.3037,2,       25,-999.000,9,-999.0000,9, -999.00,9, -999.00,9,  -999.0,9,  -999.0,-999.000,9,-999.000,     -999.0,9, -999.00,9, -999.00,9, -999.00,9,     -999.0,9,  -999.0,9, 20130520,      335,  30.0001,-145.6542,    34.5537,2,     -999.0,9,     -999.0,9,     3.6649,2,     -999.0,9,     -999.0,9,-999.0000, -999.00,-999.000
318M20130321,       P02E,     112,          1,         18,         18,2,20130520,       0207,    29.9998,  -145.6541,       5120,  1144.5,     3.43,  34.4498,2,  34.4499,2,     22.9,2,    24.5,2,  130.62,2,   43.77,2,       0,2,    3.13,2,   0.008,2,   0.007,2,-999.000,1,        0,2,  -999.0,9, -999.00,9,-999.0000,9,  -999.00,-999.000,9,-999.0000,9, -999.00,9, -999.00,9,  -999.0,9,  -999.0,-999.000,9,-999.000,     -999.0,9, -999.00,9, -999.00,9, -999.00,9,     -999.0,9,  -999.0,9, 20130520,      332,       30,-145.6542,    34.6123,2,     -999.0,9,     -999.0,9,     3.4316,2,     -999.0,9,     -999.0,9,-999.0000, -999.00,-999.000
318M20130321,       P02E,     112,          1,         17,         17,2,20130520,       0207,    29.9998,  -145.6541,       5120,    1246,    3.229,  34.4904,2,  34.4925,2,     32.3,2,    34.3,2,  134.52,2,   43.31,2,       0,2,    3.11,2,   0.007,2,   0.006,2,-999.000,1,        0,2,  -999.0,9, -999.00,9,-999.0000,9,  -999.00,-999.000,9,-999.0000,9, -999.00,9, -999.00,9,  -999.0,9,  -999.0,-999.000,9,-999.000,     -999.0,9, -999.00,9, -999.00,9, -999.00,9,     -999.0,9,  -999.0,9, 20130520,      329,       30,-145.6543,    34.6551,2,     -999.0,9,     -999.0,9,     3.2277,2,     -999.0,9,     -999.0,9,-999.0000, -999.00,-999.000
318M20130321,       P02E,     112,          1,         16,         16,2,20130520,       0207,    29.9998,  -145.6541,       5120,  1345.9,   3.0333,  34.5196,2,  34.5204,2,     42.4,2,    42.2,2,  138.13,2,   42.86,2,       0,2,    3.08,2,   0.007,2,   0.006,2,-999.000,1,        0,2,  2367.6,2, 2389.15,2,   7.3669,6,       25,-999.000,9,-999.0000,9, -999.00,9, -999.00,9,  -999.0,9,  -999.0,-999.000,9,-999.000,     -999.0,9, -999.00,9, -999.00,9, -999.00,9,     -999.0,9,  -999.0,9, 20130520,      326,  30.0002,-145.6543,    34.6831,2,     -999.0,9,     -999.0,9,     3.0376,2,     -999.0,9,     -999.0,9,-999.0000, -999.00,-999.000
318M20130321,       P02E,     112,          1,         15,         15,2,20130520,       0207,    29.9998,  -145.6541,       5120,  1478.4,   2.7916,  34.5469,2,  34.5485,2,     51.4,2,    51.3,2,  143.59,2,   42.37,2,       0,2,    3.05,2,   0.004,2,   0.004,2,-999.000,1,        0,2,  -999.0,9, -999.00,9,-999.0000,9,  -999.00,-999.000,9,-999.0000,9, -999.00,9, -999.00,9,  -999.0,9,  -999.0,-999.000,9,-999.000,     -999.0,9, -999.00,9, -999.00,9, -999.00,9,     -999.0,9,  -999.0,9, 20130520,      323,  29.9999,-145.6542,    34.7114,2,     -999.0,9,     -999.0,9,     2.7901,2,     -999.0,9,     -999.0,9,-999.0000, -999.00,-999.000
318M20130321,       P02E,     112,          1,         14,         14,2,20130520,       0207,    29.9998,  -145.6541,       5120,  1681.8,   2.4901,  34.5767,2,  34.5785,2,     62.5,2,    62.7,2,   151.3,2,   41.76,2,       0,2,    2.99,2,   0.004,2,   0.004,2,-999.000,1,        0,2,  2367.4,2, 2405.75,2,   7.4076,2,       25,-999.000,9,-999.0000,9, -999.00,9, -999.00,9,  -999.0,9,  -999.0,-999.000,9,-999.000,     -999.0,9, -999.00,9, -999.00,9, -999.00,9,     -999.0,9,  -999.0,9, 20130520,      319,  30.0001,-145.6542,    34.7416,2,     -999.0,9,     -999.0,9,     2.4907,2,     -999.0,9,     -999.0,9,-999.0000, -999.00,-999.000
318M20130321,       P02E,     112,          1,         13,         13,2,20130520,       0207,    29.9998,  -145.6541,       5120,  1886.1,   2.2387,  34.5987,2,  34.6007,2,     71.4,2,    70.4,2,  158.43,2,   41.26,2,       0,2,    2.95,2,   0.005,2,   0.003,2,-999.000,1,        0,2,  -999.0,9, -999.00,9,-999.0000,9,  -999.00,-999.000,9,-999.0000,9, -999.00,9, -999.00,9,  -999.0,9,  -999.0,-999.000,9,-999.000,     -999.0,9, -999.00,9, -999.00,9, -999.00,9,     -999.0,9,  -999.0,9, 20130520,      314,       30,-145.6541,    34.7639,2,     -999.0,9,     -999.0,9,     2.2388,2,     -999.0,9,     -999.0,9,-999.0000, -999.00,-999.000
318M20130321,       P02E,     112,          1,         12,         12,2,20130520,       0207,    29.9998,  -145.6541,       5120,  2107.6,   2.0071,  34.6197,2,  34.6212,2,     81.8,2,    81.6,2,  164.77,2,   40.62,2,       0,2,    2.89,2,   0.004,2,   0.004,2,-999.000,1,        0,2,  2373.2,2, 2418.56,2,   7.4449,2,       25,-999.000,9,-999.0000,9, -999.00,9, -999.00,9,  -999.0,9,  -999.0,-999.000,9,-999.000,     -999.0,9, -999.00,9, -999.00,9, -999.00,9,     -999.0,9,  -999.0,9, 20130520,      309,  29.9999,-145.6541,    34.7844,2,     -999.0,9,     -999.0,9,     2.0073,2,     -999.0,9,     -999.0,9,-999.0000, -999.00,-999.000
318M20130321,       P02E,     112,          1,         11,         11,2,20130520,       0207,    29.9998,  -145.6541,       5120,  2361.9,   1.8174,  34.6372,2,  34.6381,2,     92.3,2,    91.9,2,  169.06,2,   39.96,2,       0,2,    2.82,2,   0.027,2,   0.070,3,-999.000,1,   0.6026,4,  -999.0,9, -999.00,9,-999.0000,9,  -999.00,-999.000,9,-999.0000,9, -999.00,9, -999.00,9,  -999.0,9,  -999.0,-999.000,9,-999.000,     -999.0,9, -999.00,9, -999.00,9, -999.00,9,     -999.0,9,  -999.0,9, 20130520,      304,       30,-145.6542,    34.8014,2,     -999.0,9,     -999.0,9,     1.8172,2,     -999.0,9,     -999.0,9,-999.0000, -999.00,-999.000
318M20130321,       P02E,     112,          1,         10,         10,2,20130520,       0207,    29.9998,  -145.6541,       5120,  2616.6,   1.6919,  34.6494,2,  34.6507,2,    101.3,2,   101.7,2,   171.4,2,   39.41,2,       0,2,    2.77,2,   0.006,2,   0.004,2,-999.000,1,        0,2,  -999.0,9, -999.00,9,-999.0000,9,  -999.00,-999.000,9,-999.0000,9, -999.00,9, -999.00,9,  -999.0,9,  -999.0,-999.000,9,-999.000,     -999.0,9, -999.00,9, -999.00,9, -999.00,9,     -999.0,9,  -999.0,9, 20130520,      259,  30.0002,-145.6542,    34.8141,2,     -999.0,9,     -999.0,9,      1.692,2,     -999.0,9,     -999.0,9,-999.0000, -999.00,-999.000
318M20130321,       P02E,     112,          1,          9,          9,2,20130520,       0207,    29.9998,  -145.6541,       5120,  2870.7,   1.6016,  34.6595,2,  34.6607,2,    111.6,2,   111.2,2,   171.6,2,   38.79,2,       0,2,     2.7,2,   0.004,2,   0.004,2,-999.000,1,        0,2,  2359.4,2, 2425.46,2,   7.5038,2,       25,-999.000,9,-999.0000,9, -999.00,9, -999.00,9,  -999.0,9,  -999.0,-999.000,9,-999.000,     -999.0,9, -999.00,9, -999.00,9, -999.00,9,     -999.0,9,  -999.0,9, 20130520,      254,  30.0001,-145.6542,    34.8241,2,     -999.0,9,     -999.0,9,     1.6014,2,     -999.0,9,     -999.0,9,-999.0000, -999.00,-999.000
318M20130321,       P02E,     112,          1,          8,          8,2,20130520,       0207,    29.9998,  -145.6541,       5120,  3141.4,   1.5245,  34.6693,2,  34.6707,2,    121.6,2,   122.5,2,  170.03,2,    38.1,2,       0,2,    2.66,2,   0.006,2,   0.003,2,-999.000,1,   0.1054,3,  -999.0,9, -999.00,9,-999.0000,9,  -999.00,-999.000,9,-999.0000,9, -999.00,9, -999.00,9,  -999.0,9,  -999.0,-999.000,9,-999.000,     -999.0,9, -999.00,9, -999.00,9, -999.00,9,     -999.0,9,  -999.0,9, 20130520,      248,       30,-145.6543,    34.8342,2,     -999.0,9,     -999.0,9,     1.5247,2,     -999.0,9,     -999.0,9,-999.0000, -999.00,-999.000
318M20130321,       P02E,     112,          1,          7,          7,2,20130520,       0207,    29.9998,  -145.6541,       5120,  3449.9,   1.4806,  34.6769,2,  34.6784,2,    132.2,2,   132.7,2,  166.81,2,   37.42,2,       0,2,    2.61,2,   0.004,2,   0.004,2,-999.000,1,        0,2,  2339.1,2, 2426.86,6,   7.5444,2,       25,-999.000,9,-999.0000,9, -999.00,9, -999.00,9,  -999.0,9,  -999.0,-999.000,9,-999.000,     -999.0,9, -999.00,9, -999.00,9, -999.00,9,     -999.0,9,  -999.0,9, 20130520,      242,  29.9999,-145.6544,    34.8419,2,     -999.0,9,     -999.0,9,     1.4808,2,     -999.0,9,     -999.0,9,-999.0000, -999.00,-999.000