BOTTLE,20220817CCHSIOAMB
EXPOCODE,SECT_ID,STNNBR,CASTNO,SAMPNO,BTLNBR,BTLNBR_FLAG_W,DATE,TIME,LATITUDE,LONGITUDE,DEPTH,CTDPRS,CTDTMP,CTDSAL,CTDSAL_FLAG_W,SALNTY,SALNTY_FLAG_W,CTDOXY,CTDOXY_FLAG_W,OXYGEN,OXYGEN_FLAG_W,SILCAT,SILCAT_FLAG_W,NITRAT,NITRAT_FLAG_W,NITRIT,NITRIT_FLAG_W,PHSPHT,PHSPHT_FLAG_W,CFC-11,CFC-11_FLAG_W,CFC-12,CFC-12_FLAG_W,CFC113,CFC113_FLAG_W,SF6,SF6_FLAG_W,TCARBN,TCARBN_FLAG_W,ALKALI,ALKALI_FLAG_W,PH_TOT,PH_TOT_FLAG_W,PH_TMP,TRITUM,TRITUM_FLAG_W,HELIUM,HELIUM_FLAG_W,DELHE3,DELHE3_FLAG_W,DELC13,DELC13_FLAG_W,DELC14,DELC14_FLAG_W,C14ERR,NEON,NEON_FLAG_W,NEONER,I-129,I-129_FLAG_W,SR-90,SR-90_FLAG_W,DOC,DOC_FLAG_W,TDN,TDN_FLAG_W,CALCIUM,CALCIUM_FLAG_W,D15N_NO3,D15N_NO3_FLAG_W,BTL_DATE,BTL_TIME,BTL_LAT,BTL_LON,SALTREF,SALTREF_FLAG_W,CS-137,CS-137_FLAG_W,CS-134,CS-134_FLAG_W,REFTMP,REFTMP_FLAG_W,LAB_DEN,LAB_DEN_FLAG_W,D18O_NO3,D18O_NO3_FLAG_W,HELIER,DELHER,TRITER
,,,,,,,,,,,METERS,DBAR,ITS-90,PSS-78,,PSS-78,,UMOL/KG,,UMOL/KG,,UMOL/KG,,UMOL/KG,,UMOL/KG,,UMOL/KG,,PMOL/KG,,PMOL/KG,,PMOL/KG,,FMOL/KG,,UMOL/KG,,UMOL/KG,,,,DEG C,TU,,NMOL/KG,,PERCNT,,/MILLE,,/MILLE,,/MILLE,NMOL/KG,,NMOL/KG,BQ/M^3,,DM/.1MG,,UMOL/KG,,UMOL/KG,,MMOL/KG,,/MILLE,,,,,,G/KG,,BQ/M^3,,BQ/M^3,,ITS-90,,,,/MILLE,,NMOL/KG,PERCNT,TU
318M20130321,       P02W,      20,          1,          7,          7,2,20130410,       2225,    29.9997,   138.3611,       3678,  2224.4,    1.889,  34.6161,2,  34.6159,2,    108.7,2,   108.9,2,  148.86,2,   38.49,2,       0,2,    2.73,2,-999.000,9,-999.000,9,-999.000,9,-999.0000,9,  2346.7,2, 2406.55,2,   7.4915,2,       25,-999.000,9,-999.0000,9, -999.00,9, -999.00,9,  -999.0,9,  -999.0,-999.000,9,-999.000,     -999.0,9, -999.00,9, -999.00,9, -999.00,9,     -999.0,9,  -999.0,9, 20130410,     2259,  30.0002, 138.3608,    34.7791,2,     -999.0,9,     -999.0,9,      1.889,2,     -999.0,9,     -999.0,9,-999.0000, -999.00,-999.000
318M20130321,       P02W,      20,          1,          6,          6,2,20130410,       2225,    29.9997,   138.3611,       3678,  2426.2,   1.7747,  34.6355,2,   34.635,2,    122.7,2,   122.3,2,  146.51,2,   37.62,2,       0,2,    2.67,2,   0.019,2,   0.016,2,   0.008,2,     0.06,2,  -999.0,9, -999.00,9,-999.0000,9,  -999.00,-999.000,9,-999.0000,9, -999.00,9, -999.00,9,  -999.0,9,  -999.0,-999.000,9,-999.000,     -999.0,9, -999.00,9, -999.00,9, -999.00,9,     -999.0,9,  -999.0,9, 20130410,     2254,  30.0002, 138.3607,    34.7983,2,     -999.0,9,     -999.0,9,     1.7744,2,     -999.0,9,     -999.0,9,-999.0000, -999.00,-999.000
318M20130321,       P02W,      20,          1,          5,         37,2,20130410,       2225,    29.9997,   138.3611,       3678,  2629.3,    1.683,  34.6497,2,  34.6501,2,    132.3,2,   131.6,2,  145.14,2,   37.05,2,       0,2,    2.63,2,-999.000,9,-999.000,9,-999.000,9,-999.0000,9,  2333.1,2, 2410.26,2,   7.5334,2,       25,-999.000,9,-999.0000,9, -999.00,9, -999.00,9,  -999.0,9,  -999.0,-999.000,9,-999.000,     -999.0,9, -999.00,9, -999.00,9, -999.00,9,     -999.0,9,  -999.0,9, 20130410,     2249,  30.0005, 138.3608,    34.8135,2,     -999.0,9,     -999.0,9,     1.6826,2,     -999.0,9,     -999.0,9,-999.0000, -999.00,-999.000
318M20130321,       P02W,      20,          1,          4,          4,2,20130410,       2225,    29.9997,   138.3611,       3678,  2837.2,   1.6022,  34.6619,2,  34.6621,2,    139.7,2,   139.8,2,  143.97,2,    36.5,2,       0,2,    2.58,2,   0.023,2,   0.015,2,   0.007,2,     0.04,2,  -999.0,9, -999.00,9,-999.0000,9,  -999.00,-999.000,9,-999.0000,9, -999.00,9, -999.00,9,  -999.0,9,  -999.0,-999.000,9,-999.000,     -999.0,9, -999.00,9, -999.00,9, -999.00,9,     -999.0,9,  -999.0,9, 20130410,     2245,  30.0004, 138.3611,    34.8256,2,     -999.0,9,     -999.0,9,     1.6024,2,     -999.0,9,     -999.0,9,-999.0000, -999.00,-999.000
318M20130321,       P02W,      20,          1,          3,          3,2,20130410,       2225,    29.9997,   138.3611,       3678,  3033.4,   1.5789,  34.6664,2,   34.667,2,    142.9,2,   143.4,2,  143.29,2,   36.35,2,       0,2,     2.6,2,-999.000,9,-999.000,9,-999.000,9,-999.0000,9,  2327.7,2, 2411.66,2,   7.5531,6,       25,-999.000,9,-999.0000,9, -999.00,9, -999.00,9,  -999.0,9,  -999.0,-999.000,9,-999.000,     -999.0,9, -999.00,9, -999.00,9, -999.00,9,     -999.0,9,  -999.0,9, 20130410,     2240,  30.0007, 138.3612,    34.8305,2,     -999.0,9,     -999.0,9,     1.5788,2,     -999.0,9,     -999.0,9,-999.0000, -999.00,-999.000
318M20130321,       P02W,      20,          1,          2,          2,2,20130410,       2225,    29.9997,   138.3611,       3678,  3341.1,   1.5119,   34.677,2,  34.6782,2,    149.7,2,   150.5,2,  142.02,2,   35.84,2,       0,2,    2.54,2,   0.022,2,   0.014,2,   0.008,2,        0,2,    2326,2, 2412.26,6,   7.5666,2,       25,-999.000,9,-999.0000,9, -999.00,9, -999.00,9,  -999.0,9,  -999.0,-999.000,9,-999.000,     -999.0,9, -999.00,9, -999.00,9, -999.00,9,     -999.0,9,  -999.0,9, 20130410,     2233,  30.0006, 138.3614,    34.8418,2,     -999.0,9,     -999.0,9,     1.5116,2,     -999.0,9,     -999.0,9,-999.0000, -999.00,-999.000
318M20130321,       P02W,      20,          1,          1,          1,2,20130410,       2225,    29.9997,   138.3611,       3678,  3724.5,   1.5096,  34.6814,2,  34.6818,2,    154.6,2,   154.1,2,  141.53,2,   35.71,2,       0,2,    2.51,2,   0.074,2,   0.043,2,   0.013,2,     0.07,2,  2321.5,6, 2412.46,2,   7.5717,2,       25,-999.000,9,-999.0000,9, -999.00,9, -999.00,9,  -999.0,9,  -999.0,-999.000,9,-999.000,     -999.0,9, -999.00,9, -999.00,9, -999.00,9,     -999.0,9,  -999.0,9, 20130410,     2225,  29.9997, 138.3611,    34.8453,2,     -999.0,9,     -999.0,9,     1.5095,2,     -999.0,9,     -999.0,9,-999.0000, -999.00,-999.000