BOTTLE,20220817CCHSIOAMB
EXPOCODE,SECT_ID,STNNBR,CASTNO,SAMPNO,BTLNBR,BTLNBR_FLAG_W,DATE,TIME,LATITUDE,LONGITUDE,DEPTH,CTDPRS,CTDTMP,CTDSAL,CTDSAL_FLAG_W,SALNTY,SALNTY_FLAG_W,CTDOXY,CTDOXY_FLAG_W,OXYGEN,OXYGEN_FLAG_W,SILCAT,SILCAT_FLAG_W,NITRAT,NITRAT_FLAG_W,NITRIT,NITRIT_FLAG_W,PHSPHT,PHSPHT_FLAG_W,CFC-11,CFC-11_FLAG_W,CFC-12,CFC-12_FLAG_W,CFC113,CFC113_FLAG_W,SF6,SF6_FLAG_W,TCARBN,TCARBN_FLAG_W,ALKALI,ALKALI_FLAG_W,PH_TOT,PH_TOT_FLAG_W,PH_TMP,TRITUM,TRITUM_FLAG_W,HELIUM,HELIUM_FLAG_W,DELHE3,DELHE3_FLAG_W,DELC13,DELC13_FLAG_W,DELC14,DELC14_FLAG_W,C14ERR,NEON,NEON_FLAG_W,NEONER,I-129,I-129_FLAG_W,SR-90,SR-90_FLAG_W,DOC,DOC_FLAG_W,TDN,TDN_FLAG_W,CALCIUM,CALCIUM_FLAG_W,D15N_NO3,D15N_NO3_FLAG_W,BTL_DATE,BTL_TIME,BTL_LAT,BTL_LON,SALTREF,SALTREF_FLAG_W,CS-137,CS-137_FLAG_W,CS-134,CS-134_FLAG_W,REFTMP,REFTMP_FLAG_W,LAB_DEN,LAB_DEN_FLAG_W,D18O_NO3,D18O_NO3_FLAG_W,HELIER,DELHER,TRITER
,,,,,,,,,,,METERS,DBAR,ITS-90,PSS-78,,PSS-78,,UMOL/KG,,UMOL/KG,,UMOL/KG,,UMOL/KG,,UMOL/KG,,UMOL/KG,,PMOL/KG,,PMOL/KG,,PMOL/KG,,FMOL/KG,,UMOL/KG,,UMOL/KG,,,,DEG C,TU,,NMOL/KG,,PERCNT,,/MILLE,,/MILLE,,/MILLE,NMOL/KG,,NMOL/KG,BQ/M^3,,DM/.1MG,,UMOL/KG,,UMOL/KG,,MMOL/KG,,/MILLE,,,,,,G/KG,,BQ/M^3,,BQ/M^3,,ITS-90,,,,/MILLE,,NMOL/KG,PERCNT,TU
318M20130321,       P02W,      31,          1,          7,          7,4,20130413,       1501,    30.0002,   144.3192,       5709,  3549.4,   1.5037,  34.6751,2,  34.5288,4,    141.6,2,      54,4,  155.29,4,   42.03,4,       0,4,    3.03,4,   0.021,4,   0.027,4,   0.002,4,     0.05,4,  2373.5,4, 2399.05,4,-999.0000,5,  -999.00,-999.000,9,-999.0000,9, -999.00,9, -999.00,9,  -999.0,9,  -999.0,-999.000,9,-999.000,     -999.0,9, -999.00,9,   35.77,2, -999.00,9,     -999.0,9,  -999.0,9, 20130413,     1601,   30.002,  144.321,    34.6916,4,     -999.0,9,     -999.0,9,     1.5042,2,     -999.0,9,     -999.0,9,-999.0000, -999.00,-999.000
318M20130321,       P02W,      31,          1,          6,          6,4,20130413,       1501,    30.0002,   144.3192,       5709,  3922.9,   1.4774,  34.6818,2,  34.7333,4,    148.2,2,   231.2,4,    2.44,4,    0.37,4,    0.14,4,    0.14,4,-999.000,9,-999.000,9,-999.000,9,-999.0000,9,  -999.0,9, -999.00,9,-999.0000,9,  -999.00,-999.000,9,-999.0000,9, -999.00,9, -999.00,9,  -999.0,9,  -999.0,-999.000,9,-999.000,     -999.0,9, -999.00,9, -999.00,9, -999.00,9,     -999.0,9,  -999.0,9, 20130413,     1553,  30.0021,  144.321,    34.8971,4,     -999.0,9,     -999.0,9,     1.4776,2,     -999.0,9,     -999.0,9,-999.0000, -999.00,-999.000
318M20130321,       P02W,      31,          1,          5,         37,2,20130413,       1501,    30.0002,   144.3192,       5709,  4333.3,   1.4681,  34.6868,2,  34.6867,2,    155.8,2,   155.1,2,  147.58,2,    35.6,2,       0,2,    2.53,2,   0.009,2,   0.016,2,   0.000,2,        0,2,  2319.3,2, 2412.86,6,   7.5717,2,       25,-999.000,9,-999.0000,9, -999.00,9, -999.00,9,  -999.0,9,  -999.0,-999.000,9,-999.000,     -999.0,9, -999.00,9,   35.12,2, -999.00,9,     -999.0,9,  -999.0,9, 20130413,     1544,  30.0023, 144.3208,    34.8503,2,     -999.0,9,     -999.0,9,      1.468,2,     -999.0,9,     -999.0,9,-999.0000, -999.00,-999.000
318M20130321,       P02W,      31,          1,          4,          4,2,20130413,       1501,    30.0002,   144.3192,       5709,  4738.7,   1.4836,  34.6901,2,  34.6893,2,    159.2,2,   160.3,2,  145.63,2,   35.31,2,       0,2,     2.5,2,-999.000,9,-999.000,9,-999.000,9,-999.0000,9,  -999.0,9, -999.00,9,-999.0000,9,  -999.00,-999.000,9,-999.0000,9, -999.00,9, -999.00,9,  -999.0,9,  -999.0,-999.000,9,-999.000,     -999.0,9, -999.00,9, -999.00,9, -999.00,9,     -999.0,9,  -999.0,9, 20130413,     1535,  30.0024, 144.3205,    34.8528,2,     -999.0,9,     -999.0,9,     1.4835,2,     -999.0,9,     -999.0,9,-999.0000, -999.00,-999.000
318M20130321,       P02W,      31,          1,          3,          3,2,20130413,       1501,    30.0002,   144.3192,       5709,  5152.1,   1.5143,   34.692,2,  34.6918,2,    162.7,2,     163,2,  143.29,2,   35.08,2,       0,2,    2.48,2,   0.001,2,   0.012,2,   0.004,2,     0.05,2,  2312.7,2, 2409.76,2,   7.5828,6,       25,-999.000,9,-999.0000,9, -999.00,9, -999.00,9,  -999.0,9,  -999.0,-999.000,9,-999.000,     -999.0,9, -999.00,9,   36.03,2, -999.00,9,     -999.0,9,  -999.0,9, 20130413,     1526,  30.0017,   144.32,    34.8554,2,     -999.0,9,     -999.0,9,     1.5146,2,     -999.0,9,     -999.0,9,-999.0000, -999.00,-999.000
318M20130321,       P02W,      31,          1,          2,          2,2,20130413,       1501,    30.0002,   144.3192,       5709,  5506.4,     1.55,  34.6928,2,   34.692,2,    165.2,2,   165.3,2,  142.02,2,   34.94,2,       0,2,    2.49,2,-999.000,9,-999.000,9,-999.000,9,-999.0000,9,  2312.7,6, 2408.96,2,   7.5846,2,       25,-999.000,9,-999.0000,9, -999.00,9, -999.00,9,  -999.0,9,  -999.0,-999.000,9,-999.000,     -999.0,9, -999.00,9,   35.16,2, -999.00,9,     -999.0,9,  -999.0,9, 20130413,     1516,  30.0011, 144.3197,    34.8556,2,     -999.0,9,     -999.0,9,     1.5498,2,     -999.0,9,     -999.0,9,-999.0000, -999.00,-999.000
318M20130321,       P02W,      31,          1,          1,          1,4,20130413,       1501,    30.0002,   144.3192,       5709,  5826.5,   1.5843,  34.6936,2,   34.225,4,    167.7,2,    55.8,4,  108.15,4,   39.82,4,    0.01,4,    2.91,4,-999.000,5,-999.000,5,-999.000,5,-999.0000,5,    2319,4, 2336.93,4,-999.0000,5,  -999.00,-999.000,9,-999.0000,9, -999.00,9, -999.00,9,  -999.0,9,  -999.0,-999.000,9,-999.000,     -999.0,9, -999.00,9,   37.89,2, -999.00,9,     -999.0,9,  -999.0,9, 20130413,     1502,  30.0003, 144.3192,    34.3864,4,     -999.0,9,     -999.0,9,     1.5843,2,     -999.0,9,     -999.0,9,-999.0000, -999.00,-999.000