BOTTLE,20220817CCHSIOAMB
EXPOCODE,SECT_ID,STNNBR,CASTNO,SAMPNO,BTLNBR,BTLNBR_FLAG_W,DATE,TIME,LATITUDE,LONGITUDE,DEPTH,CTDPRS,CTDTMP,CTDSAL,CTDSAL_FLAG_W,SALNTY,SALNTY_FLAG_W,CTDOXY,CTDOXY_FLAG_W,OXYGEN,OXYGEN_FLAG_W,SILCAT,SILCAT_FLAG_W,NITRAT,NITRAT_FLAG_W,NITRIT,NITRIT_FLAG_W,PHSPHT,PHSPHT_FLAG_W,CFC-11,CFC-11_FLAG_W,CFC-12,CFC-12_FLAG_W,CFC113,CFC113_FLAG_W,SF6,SF6_FLAG_W,TCARBN,TCARBN_FLAG_W,ALKALI,ALKALI_FLAG_W,PH_TOT,PH_TOT_FLAG_W,PH_TMP,TRITUM,TRITUM_FLAG_W,HELIUM,HELIUM_FLAG_W,DELHE3,DELHE3_FLAG_W,DELC13,DELC13_FLAG_W,DELC14,DELC14_FLAG_W,C14ERR,NEON,NEON_FLAG_W,NEONER,I-129,I-129_FLAG_W,SR-90,SR-90_FLAG_W,DOC,DOC_FLAG_W,TDN,TDN_FLAG_W,CALCIUM,CALCIUM_FLAG_W,D15N_NO3,D15N_NO3_FLAG_W,BTL_DATE,BTL_TIME,BTL_LAT,BTL_LON,SALTREF,SALTREF_FLAG_W,CS-137,CS-137_FLAG_W,CS-134,CS-134_FLAG_W,REFTMP,REFTMP_FLAG_W,LAB_DEN,LAB_DEN_FLAG_W,D18O_NO3,D18O_NO3_FLAG_W,HELIER,DELHER,TRITER
,,,,,,,,,,,METERS,DBAR,ITS-90,PSS-78,,PSS-78,,UMOL/KG,,UMOL/KG,,UMOL/KG,,UMOL/KG,,UMOL/KG,,UMOL/KG,,PMOL/KG,,PMOL/KG,,PMOL/KG,,FMOL/KG,,UMOL/KG,,UMOL/KG,,,,DEG C,TU,,NMOL/KG,,PERCNT,,/MILLE,,/MILLE,,/MILLE,NMOL/KG,,NMOL/KG,BQ/M^3,,DM/.1MG,,UMOL/KG,,UMOL/KG,,MMOL/KG,,/MILLE,,,,,,G/KG,,BQ/M^3,,BQ/M^3,,ITS-90,,,,/MILLE,,NMOL/KG,PERCNT,TU
318M20130321,       P02W,      34,          1,          7,          7,2,20130414,       1717,    30.0007,    146.927,       6240,    3547,   1.5243,  34.6734,2,  34.6724,2,    139.7,2,   140.1,2,  153.44,2,   36.96,2,       0,2,    2.56,2,   0.001,2,   0.009,2,   0.004,2,        0,2,  -999.0,9, -999.00,9,-999.0000,9,  -999.00,-999.000,9,-999.0000,9, -999.00,9, -999.00,9,  -999.0,9,  -999.0,-999.000,9,-999.000,     -999.0,9, -999.00,9, -999.00,9, -999.00,9,     -999.0,9,  -999.0,9, 20130414,     1819,  29.9999, 146.9259,    34.8359,2,     -999.0,9,     -999.0,9,     1.5241,2,     -999.0,9,     -999.0,9,-999.0000, -999.00,-999.000
318M20130321,       P02W,      34,          1,          6,          6,2,20130414,       1717,    30.0007,    146.927,       6240,  3957.3,   1.4955,  34.6807,2,  34.6795,2,    148.2,2,   148.2,2,  150.61,2,   36.38,2,       0,2,    2.51,2,-999.000,9,-999.000,9,-999.000,9,-999.0000,9,  2321.8,2, 2412.46,2,   7.5608,2,       25,-999.000,9,-999.0000,9, -999.00,9, -999.00,9,  -999.0,9,  -999.0,-999.000,9,-999.000,     -999.0,9, -999.00,9, -999.00,9, -999.00,9,     -999.0,9,  -999.0,9, 20130414,     1811,       30, 146.9257,     34.843,2,     -999.0,9,     -999.0,9,     1.4955,2,     -999.0,9,     -999.0,9,-999.0000, -999.00,-999.000
318M20130321,       P02W,      34,          1,          5,         37,2,20130414,       1717,    30.0007,    146.927,       6240,  4367.9,   1.4939,  34.6853,2,  34.6844,2,    154.1,2,   153.5,2,  148.65,2,   35.96,2,       0,2,    2.48,2,   0.000,2,   0.010,2,   0.007,2,     0.07,2,  -999.0,9, -999.00,9,-999.0000,9,  -999.00,-999.000,9,-999.0000,9, -999.00,9, -999.00,9,  -999.0,9,  -999.0,-999.000,9,-999.000,     -999.0,9, -999.00,9, -999.00,9, -999.00,9,     -999.0,9,  -999.0,9, 20130414,     1802,  29.9999, 146.9258,    34.8479,2,     -999.0,9,     -999.0,9,     1.4937,2,     -999.0,9,     -999.0,9,-999.0000, -999.00,-999.000
318M20130321,       P02W,      34,          1,          4,          4,2,20130414,       1717,    30.0007,    146.927,       6240,  4727.4,   1.5013,  34.6885,2,  34.6877,2,    157.3,2,   157.7,2,  147.68,2,   35.67,2,       0,2,    2.45,2,   0.004,2,   0.013,2,   0.000,2,        0,2,  2313.8,2, 2410.46,6,   7.5756,2,       25,-999.000,9,-999.0000,9, -999.00,9, -999.00,9,  -999.0,9,  -999.0,-999.000,9,-999.000,     -999.0,9, -999.00,9, -999.00,9, -999.00,9,     -999.0,9,  -999.0,9, 20130414,     1754,  29.9999,  146.926,    34.8513,2,     -999.0,9,     -999.0,9,     1.5018,2,     -999.0,9,     -999.0,9,-999.0000, -999.00,-999.000
318M20130321,       P02W,      34,          1,          3,          3,2,20130414,       1717,    30.0007,    146.927,       6240,  5085.3,   1.5214,  34.6909,2,  34.6889,3,    160.5,2,   161.7,2,  145.14,2,   35.37,2,       0,2,    2.44,2,-999.000,9,-999.000,9,-999.000,9,-999.0000,9,  2312.4,6, 2409.66,2,   7.5806,2,       25,-999.000,9,-999.0000,9, -999.00,9, -999.00,9,  -999.0,9,  -999.0,-999.000,9,-999.000,     -999.0,9, -999.00,9, -999.00,9, -999.00,9,     -999.0,9,  -999.0,9, 20130414,     1747,  29.9997, 146.9262,    34.8525,3,     -999.0,9,     -999.0,9,     1.5216,2,     -999.0,9,     -999.0,9,-999.0000, -999.00,-999.000
318M20130321,       P02W,      34,          1,          2,          2,2,20130414,       1717,    30.0007,    146.927,       6240,  5653.7,   1.5654,  34.6936,2,  34.6928,2,    167.3,2,   167.5,2,  141.63,2,   35.02,2,       0,2,    2.41,2,   0.000,2,   0.011,2,   0.000,2,        0,2,  2305.4,2, 2405.95,2,   7.5858,6,       25,-999.000,9,-999.0000,9, -999.00,9, -999.00,9,  -999.0,9,  -999.0,-999.000,9,-999.000,     -999.0,9, -999.00,9, -999.00,9, -999.00,9,     -999.0,9,  -999.0,9, 20130414,     1735,       30, 146.9262,    34.8564,2,     -999.0,9,     -999.0,9,     1.5652,2,     -999.0,9,     -999.0,9,-999.0000, -999.00,-999.000
318M20130321,       P02W,      34,          1,          1,          1,2,20130414,       1717,    30.0007,    146.927,       6240,  6123.9,   1.6161,  34.6943,2,  34.6934,2,    169.5,2,   169.6,2,  138.99,2,   34.84,2,       0,2,     2.4,2,   0.001,2,   0.015,2,   0.000,2,        0,2,  2303.2,2, 2406.15,2,   7.5926,2,       25,-999.000,9,-999.0000,9, -999.00,9, -999.00,9,  -999.0,9,  -999.0,-999.000,9,-999.000,     -999.0,9, -999.00,9, -999.00,9, -999.00,9,     -999.0,9,  -999.0,9, 20130414,     1717,  30.0007,  146.927,     34.857,2,     -999.0,9,     -999.0,9,      1.616,2,     -999.0,9,     -999.0,9,-999.0000, -999.00,-999.000