BOTTLE,20220817CCHSIOAMB
EXPOCODE,SECT_ID,STNNBR,CASTNO,SAMPNO,BTLNBR,BTLNBR_FLAG_W,DATE,TIME,LATITUDE,LONGITUDE,DEPTH,CTDPRS,CTDTMP,CTDSAL,CTDSAL_FLAG_W,SALNTY,SALNTY_FLAG_W,CTDOXY,CTDOXY_FLAG_W,OXYGEN,OXYGEN_FLAG_W,SILCAT,SILCAT_FLAG_W,NITRAT,NITRAT_FLAG_W,NITRIT,NITRIT_FLAG_W,PHSPHT,PHSPHT_FLAG_W,CFC-11,CFC-11_FLAG_W,CFC-12,CFC-12_FLAG_W,CFC113,CFC113_FLAG_W,SF6,SF6_FLAG_W,TCARBN,TCARBN_FLAG_W,ALKALI,ALKALI_FLAG_W,PH_TOT,PH_TOT_FLAG_W,PH_TMP,TRITUM,TRITUM_FLAG_W,HELIUM,HELIUM_FLAG_W,DELHE3,DELHE3_FLAG_W,DELC13,DELC13_FLAG_W,DELC14,DELC14_FLAG_W,C14ERR,NEON,NEON_FLAG_W,NEONER,I-129,I-129_FLAG_W,SR-90,SR-90_FLAG_W,DOC,DOC_FLAG_W,TDN,TDN_FLAG_W,CALCIUM,CALCIUM_FLAG_W,D15N_NO3,D15N_NO3_FLAG_W,BTL_DATE,BTL_TIME,BTL_LAT,BTL_LON,SALTREF,SALTREF_FLAG_W,CS-137,CS-137_FLAG_W,CS-134,CS-134_FLAG_W,REFTMP,REFTMP_FLAG_W,LAB_DEN,LAB_DEN_FLAG_W,D18O_NO3,D18O_NO3_FLAG_W,HELIER,DELHER,TRITER
,,,,,,,,,,,METERS,DBAR,ITS-90,PSS-78,,PSS-78,,UMOL/KG,,UMOL/KG,,UMOL/KG,,UMOL/KG,,UMOL/KG,,UMOL/KG,,PMOL/KG,,PMOL/KG,,PMOL/KG,,FMOL/KG,,UMOL/KG,,UMOL/KG,,,,DEG C,TU,,NMOL/KG,,PERCNT,,/MILLE,,/MILLE,,/MILLE,NMOL/KG,,NMOL/KG,BQ/M^3,,DM/.1MG,,UMOL/KG,,UMOL/KG,,MMOL/KG,,/MILLE,,,,,,G/KG,,BQ/M^3,,BQ/M^3,,ITS-90,,,,/MILLE,,NMOL/KG,PERCNT,TU
318M20130321,       P02W,      16,          1,          7,          7,2,20130409,       1839,    29.9923,    135.393,       4361,    2695,   1.6384,   34.657,2,  34.6565,2,      138,2,   136.5,2,  144.36,2,   36.74,2,       0,2,    2.58,2,-999.000,9,-999.000,9,-999.000,9,-999.0000,9,  2329.3,2, 2410.56,2,   7.5436,2,       25,-999.000,9,-999.0000,9, -999.00,9, -999.00,9,  -999.0,9,  -999.0,-999.000,9,-999.000,     -999.0,9, -999.00,9, -999.00,9, -999.00,9,     -999.0,9,  -999.0,9, 20130409,     1918,   29.992, 135.3961,    34.8199,2,     -999.0,9,     -999.0,9,     1.6381,2,     -999.0,9,     -999.0,9,-999.0000, -999.00,-999.000
318M20130321,       P02W,      16,          1,          6,          6,2,20130409,       1839,    29.9923,    135.393,       4361,  2948.8,   1.5732,  34.6666,2,  34.6669,2,    143.1,2,   143.5,2,  143.78,2,   36.25,2,       0,2,    2.55,2,   0.031,2,   0.025,2,   0.006,2,     0.04,2,  -999.0,9, -999.00,9,-999.0000,9,  -999.00,-999.000,9,-999.0000,9, -999.00,9, -999.00,9,  -999.0,9,  -999.0,-999.000,9,-999.000,     -999.0,9, -999.00,9, -999.00,9, -999.00,9,     -999.0,9,  -999.0,9, 20130409,     1912,   29.992, 135.3957,    34.8303,2,     -999.0,9,     -999.0,9,     1.5726,2,     -999.0,9,     -999.0,9,-999.0000, -999.00,-999.000
318M20130321,       P02W,      16,          1,          5,         37,2,20130409,       1839,    29.9923,    135.393,       4361,  3245.8,   1.5311,  34.6743,2,  34.6732,2,    147.7,2,   148.3,2,  143.48,2,   36.05,2,       0,2,    2.52,2,-999.000,9,-999.000,9,-999.000,9,-999.0000,9,  2324.6,2, 2411.56,2,   7.5626,2,       25,-999.000,9,-999.0000,9, -999.00,9, -999.00,9,  -999.0,9,  -999.0,-999.000,9,-999.000,     -999.0,9, -999.00,9, -999.00,9, -999.00,9,     -999.0,9,  -999.0,9, 20130409,     1906,  29.9923,  135.395,    34.8367,2,     -999.0,9,     -999.0,9,     1.5313,2,     -999.0,9,     -999.0,9,-999.0000, -999.00,-999.000
318M20130321,       P02W,      16,          1,          4,          4,2,20130409,       1839,    29.9923,    135.393,       4361,    3550,   1.5144,  34.6795,2,  34.6787,2,    152.1,2,   151.9,2,   142.8,2,   35.86,2,       0,2,     2.5,2,-999.000,9,-999.000,9,-999.000,9,-999.0000,9,  -999.0,9, -999.00,9,-999.0000,9,  -999.00,-999.000,9,-999.0000,9, -999.00,9, -999.00,9,  -999.0,9,  -999.0,-999.000,9,-999.000,     -999.0,9, -999.00,9, -999.00,9, -999.00,9,     -999.0,9,  -999.0,9, 20130409,     1859,  29.9924, 135.3949,    34.8422,2,     -999.0,9,     -999.0,9,     1.5144,2,     -999.0,9,     -999.0,9,-999.0000, -999.00,-999.000
318M20130321,       P02W,      16,          1,          3,          3,2,20130409,       1839,    29.9923,    135.393,       4361,  3856.7,   1.5301,  34.6815,2,   34.681,2,    152.7,2,   153.4,2,   142.7,2,    35.8,2,       0,2,    2.51,2,   0.026,2,   0.014,2,   0.005,2,     0.03,2,  2321.3,2, 2411.46,2,   7.5714,6,       25,-999.000,9,-999.0000,9, -999.00,9, -999.00,9,  -999.0,9,  -999.0,-999.000,9,-999.000,     -999.0,9, -999.00,9, -999.00,9, -999.00,9,     -999.0,9,  -999.0,9, 20130409,     1852,  29.9925, 135.3945,    34.8446,2,     -999.0,9,     -999.0,9,     1.5299,2,     -999.0,9,     -999.0,9,-999.0000, -999.00,-999.000
318M20130321,       P02W,      16,          1,          2,          2,2,20130409,       1839,    29.9923,    135.393,       4361,    4129,   1.5477,  34.6826,2,  34.6824,2,    153.8,2,   154.1,2,  142.41,2,   35.79,2,       0,2,    2.49,2,-999.000,9,-999.000,9,-999.000,9,-999.0000,9,  2319.7,2, 2412.86,2,   7.5726,2,       25,-999.000,9,-999.0000,9, -999.00,9, -999.00,9,  -999.0,9,  -999.0,-999.000,9,-999.000,     -999.0,9, -999.00,9, -999.00,9, -999.00,9,     -999.0,9,  -999.0,9, 20130409,     1846,  29.9925,  135.394,    34.8459,2,     -999.0,9,     -999.0,9,     1.5475,2,     -999.0,9,     -999.0,9,-999.0000, -999.00,-999.000
318M20130321,       P02W,      16,          1,          1,          1,2,20130409,       1839,    29.9923,    135.393,       4361,  4445.6,    1.573,  34.6834,2,   34.683,2,    155.2,2,   154.8,2,  141.53,2,   35.69,2,       0,2,     2.5,2,   0.029,2,   0.018,2,   0.006,2,     0.04,2,  2319.6,6, 2412.16,2,   7.5743,2,       25,-999.000,9,-999.0000,9, -999.00,9, -999.00,9,  -999.0,9,  -999.0,-999.000,9,-999.000,     -999.0,9, -999.00,9, -999.00,9, -999.00,9,     -999.0,9,  -999.0,9, 20130409,     1839,  29.9922,  135.393,    34.8465,2,     -999.0,9,     -999.0,9,     1.5727,2,     -999.0,9,     -999.0,9,-999.0000, -999.00,-999.000