BOTTLE,20220817CCHSIOAMB
EXPOCODE,SECT_ID,STNNBR,CASTNO,SAMPNO,BTLNBR,BTLNBR_FLAG_W,DATE,TIME,LATITUDE,LONGITUDE,DEPTH,CTDPRS,CTDTMP,CTDSAL,CTDSAL_FLAG_W,SALNTY,SALNTY_FLAG_W,CTDOXY,CTDOXY_FLAG_W,OXYGEN,OXYGEN_FLAG_W,SILCAT,SILCAT_FLAG_W,NITRAT,NITRAT_FLAG_W,NITRIT,NITRIT_FLAG_W,PHSPHT,PHSPHT_FLAG_W,CFC-11,CFC-11_FLAG_W,CFC-12,CFC-12_FLAG_W,CFC113,CFC113_FLAG_W,SF6,SF6_FLAG_W,TCARBN,TCARBN_FLAG_W,ALKALI,ALKALI_FLAG_W,PH_TOT,PH_TOT_FLAG_W,PH_TMP,TRITUM,TRITUM_FLAG_W,HELIUM,HELIUM_FLAG_W,DELHE3,DELHE3_FLAG_W,DELC13,DELC13_FLAG_W,DELC14,DELC14_FLAG_W,C14ERR,NEON,NEON_FLAG_W,NEONER,I-129,I-129_FLAG_W,SR-90,SR-90_FLAG_W,DOC,DOC_FLAG_W,TDN,TDN_FLAG_W,CALCIUM,CALCIUM_FLAG_W,D15N_NO3,D15N_NO3_FLAG_W,BTL_DATE,BTL_TIME,BTL_LAT,BTL_LON,SALTREF,SALTREF_FLAG_W,CS-137,CS-137_FLAG_W,CS-134,CS-134_FLAG_W,REFTMP,REFTMP_FLAG_W,LAB_DEN,LAB_DEN_FLAG_W,D18O_NO3,D18O_NO3_FLAG_W,HELIER,DELHER,TRITER
,,,,,,,,,,,METERS,DBAR,ITS-90,PSS-78,,PSS-78,,UMOL/KG,,UMOL/KG,,UMOL/KG,,UMOL/KG,,UMOL/KG,,UMOL/KG,,PMOL/KG,,PMOL/KG,,PMOL/KG,,FMOL/KG,,UMOL/KG,,UMOL/KG,,,,DEG C,TU,,NMOL/KG,,PERCNT,,/MILLE,,/MILLE,,/MILLE,NMOL/KG,,NMOL/KG,BQ/M^3,,DM/.1MG,,UMOL/KG,,UMOL/KG,,MMOL/KG,,/MILLE,,,,,,G/KG,,BQ/M^3,,BQ/M^3,,ITS-90,,,,/MILLE,,NMOL/KG,PERCNT,TU
318M20130321,       P02W,      34,          1,         36,         36,2,20130414,       1717,    30.0007,    146.927,       6240,     2.8,  17.7548,   34.724,2,  34.7229,2,    242.3,2,   242.4,2,    2.64,2,    0.01,2,    0.04,2,    0.03,2,   2.586,2,   1.567,2,   0.216,2,      1.5,2,  2003.7,2, 2277.41,2,   8.0102,2,       25,-999.000,9,-999.0000,9, -999.00,9, -999.00,9,  -999.0,9,  -999.0,-999.000,9,-999.000,     -999.0,9, -999.00,9, -999.00,9, -999.00,9,     -999.0,9,  -999.0,9, 20130414,     2002,  29.9998, 146.9265,    34.8866,2,     -999.0,9,     -999.0,9,     17.755,2,     -999.0,9,     -999.0,9,-999.0000, -999.00,-999.000
318M20130321,       P02W,      34,          1,         35,         35,2,20130414,       1717,    30.0007,    146.927,       6240,    19.3,  17.7572,  34.7186,2,  34.7229,2,      242,2,   242.4,2,    2.54,2,    0.01,2,    0.04,2,    0.03,2,-999.000,9,-999.000,9,-999.000,9,-999.0000,9,  2000.1,6, 2277.51,2,   8.0104,2,       25,-999.000,9,-999.0000,9, -999.00,9, -999.00,9,  -999.0,9,  -999.0,-999.000,9,-999.000,     -999.0,9, -999.00,9, -999.00,9, -999.00,9,     -999.0,9,  -999.0,9, 20130414,     2000,  29.9999, 146.9263,    34.8866,2,     -999.0,9,     -999.0,9,    17.7571,2,     -999.0,9,     -999.0,9,-999.0000, -999.00,-999.000
318M20130321,       P02W,      34,          1,         34,         34,2,20130414,       1717,    30.0007,    146.927,       6240,    39.7,    17.76,   34.724,2,  34.7223,2,    238.6,2,     242,2,    2.44,2,    0.05,2,    0.05,2,    0.04,2,   2.558,2,   1.560,2,   0.215,2,     1.68,2,  -999.0,9, -999.00,9,-999.0000,9,  -999.00,-999.000,9,-999.0000,9, -999.00,9, -999.00,9,  -999.0,9,  -999.0,-999.000,9,-999.000,     -999.0,9, -999.00,9, -999.00,9, -999.00,9,     -999.0,9,  -999.0,9, 20130414,     1958,       30, 146.9263,     34.886,2,     -999.0,9,     -999.0,9,    17.7596,2,     -999.0,9,     -999.0,9,-999.0000, -999.00,-999.000
318M20130321,       P02W,      34,          1,         33,         33,2,20130414,       1717,    30.0007,    146.927,       6240,    65.1,  17.6235,  34.7256,2,  34.7244,2,    234.3,2,   232.7,2,    2.73,2,    0.88,2,     0.3,2,    0.11,2,   2.568,2,   1.572,2,   0.194,2,      1.5,2,  2010.3,2, 2277.41,2,   7.9938,6,       25,-999.000,9,-999.0000,9, -999.00,9, -999.00,9,  -999.0,9,  -999.0,-999.000,9,-999.000,     -999.0,9, -999.00,9, -999.00,9, -999.00,9,     -999.0,9,  -999.0,9, 20130414,     1956,       30, 146.9264,    34.8882,2,     -999.0,9,     -999.0,9,    17.6234,2,     -999.0,9,     -999.0,9,-999.0000, -999.00,-999.000
318M20130321,       P02W,      34,          1,         32,         32,2,20130414,       1717,    30.0007,    146.927,       6240,    90.6,  17.6096,  34.7292,2,   34.728,2,    233.9,2,   232.4,2,    3.03,2,    1.01,2,    0.33,2,    0.12,2,   2.570,2,   1.576,2,   0.212,2,     1.51,2,  -999.0,9, -999.00,9,-999.0000,9,  -999.00,-999.000,9,-999.0000,9, -999.00,9, -999.00,9,  -999.0,9,  -999.0,-999.000,9,-999.000,     -999.0,9, -999.00,9, -999.00,9, -999.00,9,     -999.0,9,  -999.0,9, 20130414,     1954,       30, 146.9266,    34.8917,2,     -999.0,9,     -999.0,9,    17.6095,2,     -999.0,9,     -999.0,9,-999.0000, -999.00,-999.000
318M20130321,       P02W,      34,          1,         31,         31,2,20130414,       1717,    30.0007,    146.927,       6240,   136.4,  17.3327,  34.7337,2,  34.7337,2,    231.5,2,   230.9,2,    2.93,2,       2,2,    0.15,2,    0.17,2,   2.559,2,   1.586,2,   0.211,2,     1.55,2,  2016.9,2, 2277.61,6,   7.9842,6,       25,-999.000,9,-999.0000,9, -999.00,9, -999.00,9,  -999.0,9,  -999.0,-999.000,9,-999.000,     -999.0,9, -999.00,9, -999.00,9, -999.00,9,     -999.0,9,  -999.0,9, 20130414,     1952,       30, 146.9264,    34.8975,2,     -999.0,9,     -999.0,9,    17.3331,2,     -999.0,9,     -999.0,9,-999.0000, -999.00,-999.000
318M20130321,       P02W,      34,          1,         30,         30,2,20130414,       1717,    30.0007,    146.927,       6240,   186.5,  17.2197,  34.7347,2,  34.7327,2,    230.2,2,   231.7,2,    3.61,2,    2.24,2,    0.15,2,    0.18,2,-999.000,9,-999.000,9,-999.000,9,-999.0000,9,  -999.0,9, -999.00,9,-999.0000,9,  -999.00,-999.000,9,-999.0000,9, -999.00,9, -999.00,9,  -999.0,9,  -999.0,-999.000,9,-999.000,     -999.0,9, -999.00,9, -999.00,9, -999.00,9,     -999.0,9,  -999.0,9, 20130414,     1949,  30.0001, 146.9261,    34.8965,2,     -999.0,9,     -999.0,9,    17.2191,2,     -999.0,9,     -999.0,9,-999.0000, -999.00,-999.000
318M20130321,       P02W,      34,          1,         29,         29,2,20130414,       1717,    30.0007,    146.927,       6240,   235.9,  17.1555,  34.7294,2,  34.7274,2,    228.1,2,   228.1,2,    3.42,2,    2.75,2,    0.02,2,     0.2,2,   2.562,2,   1.589,2,   0.193,2,     1.57,2,  2017.4,2, 2273.21,3,   7.9799,2,       25,-999.000,9,-999.0000,9, -999.00,9, -999.00,9,  -999.0,9,  -999.0,-999.000,9,-999.000,     -999.0,9, -999.00,9, -999.00,9, -999.00,9,     -999.0,9,  -999.0,9, 20130414,     1947,  29.9999,  146.926,    34.8912,2,     -999.0,9,     -999.0,9,    17.1558,2,     -999.0,9,     -999.0,9,-999.0000, -999.00,-999.000
318M20130321,       P02W,      34,          1,         28,         28,2,20130414,       1717,    30.0007,    146.927,       6240,   286.3,  17.0734,  34.7236,2,  34.7219,2,    226.2,2,   226.6,2,    3.81,2,    3.06,2,    0.02,2,    0.21,2,   2.579,2,   1.585,2,   0.161,2,     1.55,2,  -999.0,9, -999.00,9,-999.0000,9,  -999.00,-999.000,9,-999.0000,9, -999.00,9, -999.00,9,  -999.0,9,  -999.0,-999.000,9,-999.000,     -999.0,9, -999.00,9, -999.00,9, -999.00,9,     -999.0,9,  -999.0,9, 20130414,     1945,  29.9997, 146.9262,    34.8856,2,     -999.0,9,     -999.0,9,    17.0735,2,     -999.0,9,     -999.0,9,-999.0000, -999.00,-999.000
318M20130321,       P02W,      34,          1,         27,         27,2,20130414,       1717,    30.0007,    146.927,       6240,   338.6,  16.9099,  34.7036,2,  34.7022,2,    218.3,2,   218.9,2,    4.49,2,    3.97,2,    0.02,2,    0.27,2,   2.597,2,   1.584,2,   0.115,2,     1.49,2,  2027.9,2, 2277.11,2,   7.9608,2,       25,-999.000,9,-999.0000,9, -999.00,9, -999.00,9,  -999.0,9,  -999.0,-999.000,9,-999.000,     -999.0,9, -999.00,9, -999.00,9, -999.00,9,     -999.0,9,  -999.0,9, 20130414,     1943,  29.9994, 146.9266,    34.8659,2,     -999.0,9,     -999.0,9,    16.9101,2,     -999.0,9,     -999.0,9,-999.0000, -999.00,-999.000
318M20130321,       P02W,      34,          1,         26,         26,2,20130414,       1717,    30.0007,    146.927,       6240,     386,   16.262,  34.6456,2,  34.6445,2,    197.5,2,   197.2,2,    7.81,2,    7.07,2,    0.02,2,    0.48,2,-999.000,9,-999.000,9,-999.000,9,-999.0000,9,  -999.0,9, -999.00,9,-999.0000,9,  -999.00,-999.000,9,-999.0000,9, -999.00,9, -999.00,9,  -999.0,9,  -999.0,-999.000,9,-999.000,     -999.0,9, -999.00,9, -999.00,9, -999.00,9,     -999.0,9,  -999.0,9, 20130414,     1941,  29.9993, 146.9268,    34.8078,2,     -999.0,9,     -999.0,9,     16.261,2,     -999.0,9,     -999.0,9,-999.0000, -999.00,-999.000
318M20130321,       P02W,      34,          1,         25,         25,2,20130414,       1717,    30.0007,    146.927,       6240,   467.5,  14.2758,  34.5205,2,  34.5166,2,    184.1,2,   184.6,2,   15.33,2,   11.64,2,    0.01,2,    0.81,2,   2.788,2,   1.614,2,   0.070,2,      1.1,2,  2086.4,2, 2274.61,2,   7.8394,2,       25,-999.000,9,-999.0000,9, -999.00,9, -999.00,9,  -999.0,9,  -999.0,-999.000,9,-999.000,     -999.0,9, -999.00,9, -999.00,9, -999.00,9,     -999.0,9,  -999.0,9, 20130414,     1938,  29.9993, 146.9265,    34.6794,2,     -999.0,9,     -999.0,9,    14.2665,2,     -999.0,9,     -999.0,9,-999.0000, -999.00,-999.000
318M20130321,       P02W,      34,          1,         24,         24,2,20130414,       1717,    30.0007,    146.927,       6240,   574.5,  10.9358,  34.2726,2,   34.275,2,    184.4,2,     184,2,   25.48,2,   16.39,2,    0.01,2,    1.16,2,   2.977,2,   1.655,2,   0.117,2,     1.12,2,  2120.6,2, 2274.61,2,   7.7533,2,       25,-999.000,9,-999.0000,9, -999.00,9, -999.00,9,  -999.0,9,  -999.0,-999.000,9,-999.000,     -999.0,9, -999.00,9, -999.00,9, -999.00,9,     -999.0,9,  -999.0,9, 20130414,     1935,  29.9993, 146.9263,    34.4366,2,     -999.0,9,     -999.0,9,    10.9364,2,     -999.0,9,     -999.0,9,-999.0000, -999.00,-999.000
318M20130321,       P02W,      34,          1,         23,         23,2,20130414,       1717,    30.0007,    146.927,       6240,   671.9,   7.8077,  34.0718,2,  34.0711,2,    165.4,2,   165.9,2,   43.85,2,   23.87,2,    0.01,2,    1.71,2,   2.980,2,   1.596,2,   0.126,2,     0.94,2,  2175.9,2, 2279.11,2,   7.6268,2,       25,-999.000,9,-999.0000,9, -999.00,9, -999.00,9,  -999.0,9,  -999.0,-999.000,9,-999.000,     -999.0,9, -999.00,9, -999.00,9, -999.00,9,     -999.0,9,  -999.0,9, 20130414,     1932,  29.9994, 146.9268,    34.2318,2,     -999.0,9,     -999.0,9,     7.8063,2,     -999.0,9,     -999.0,9,-999.0000, -999.00,-999.000
318M20130321,       P02W,      34,          1,         22,         38,4,20130414,       1717,    30.0007,    146.927,       6240,   765.6,   5.7028,  33.9963,2,  33.9943,2,    138.7,2,   135.7,2,   65.53,2,   30.67,2,    0.01,2,    2.21,2,-999.000,9,-999.000,9,-999.000,9,-999.0000,9,  -999.0,9, -999.00,9,-999.0000,9,  -999.00,-999.000,9,-999.0000,9, -999.00,9, -999.00,9,  -999.0,9,  -999.0,-999.000,9,-999.000,     -999.0,9, -999.00,9, -999.00,9, -999.00,9,     -999.0,9,  -999.0,9, 20130414,     1928,  29.9999,  146.927,    34.1546,2,     -999.0,9,     -999.0,9,     5.7028,2,     -999.0,9,     -999.0,9,-999.0000, -999.00,-999.000
318M20130321,       P02W,      34,          1,         21,         21,2,20130414,       1717,    30.0007,    146.927,       6240,   867.7,   4.8134,  34.1013,2,  34.1003,2,     85.4,2,    85.1,2,   88.37,2,   36.65,2,    0.01,2,    2.61,2,   1.582,2,   0.870,2,   0.079,2,     0.39,2,  2281.2,2, 2312.82,2,    7.407,2,       25,-999.000,9,-999.0000,9, -999.00,9, -999.00,9,  -999.0,9,  -999.0,-999.000,9,-999.000,     -999.0,9, -999.00,9, -999.00,9, -999.00,9,     -999.0,9,  -999.0,9, 20130414,     1925,  30.0006, 146.9269,    34.2611,2,     -999.0,9,     -999.0,9,     4.8142,2,     -999.0,9,     -999.0,9,-999.0000, -999.00,-999.000
318M20130321,       P02W,      34,          1,         20,         20,2,20130414,       1717,    30.0007,    146.927,       6240,   972.2,   4.2123,  34.2041,2,  34.2036,2,     60.6,2,    58.3,2,  106.53,2,    39.7,2,    0.01,2,    2.82,2,   0.917,2,   0.492,2,   0.045,2,      0.2,2,  -999.0,9, -999.00,9,-999.0000,9,  -999.00,-999.000,9,-999.0000,9, -999.00,9, -999.00,9,  -999.0,9,  -999.0,-999.000,9,-999.000,     -999.0,9, -999.00,9, -999.00,9, -999.00,9,     -999.0,9,  -999.0,9, 20130414,     1922,  30.0012, 146.9267,    34.3649,2,     -999.0,9,     -999.0,9,     4.2114,2,     -999.0,9,     -999.0,9,-999.0000, -999.00,-999.000
318M20130321,       P02W,      34,          1,         19,         19,2,20130414,       1717,    30.0007,    146.927,       6240,  1075.9,   3.7507,   34.287,2,  34.2866,2,     47.6,2,    46.8,2,  120.38,2,   41.18,2,       0,2,    2.92,2,   0.534,2,   0.293,2,   0.027,2,     0.16,2,  2336.3,2, 2349.33,2,   7.3476,2,       25,-999.000,9,-999.0000,9, -999.00,9, -999.00,9,  -999.0,9,  -999.0,-999.000,9,-999.000,     -999.0,9, -999.00,9, -999.00,9, -999.00,9,     -999.0,9,  -999.0,9, 20130414,     1919,  30.0017, 146.9262,    34.4483,2,     -999.0,9,     -999.0,9,     3.7447,2,     -999.0,9,     -999.0,9,-999.0000, -999.00,-999.000
318M20130321,       P02W,      34,          1,         18,         18,2,20130414,       1717,    30.0007,    146.927,       6240,  1170.8,   3.3974,  34.3456,2,  34.3447,2,     41.5,2,    41.9,2,  129.85,2,   41.99,2,       0,2,    2.98,2,   0.322,2,   0.182,2,   0.017,2,      0.1,2,  2350.6,2, 2361.94,2,   7.3425,2,       25,-999.000,9,-999.0000,9, -999.00,9, -999.00,9,  -999.0,9,  -999.0,-999.000,9,-999.000,     -999.0,9, -999.00,9, -999.00,9, -999.00,9,     -999.0,9,  -999.0,9, 20130414,     1916,  30.0015, 146.9263,    34.5066,2,     -999.0,9,     -999.0,9,     3.3984,2,     -999.0,9,     -999.0,9,-999.0000, -999.00,-999.000
318M20130321,       P02W,      34,          1,         17,         17,2,20130414,       1717,    30.0007,    146.927,       6240,  1275.2,   3.0728,  34.3989,2,  34.3984,2,     39.4,2,    39.6,2,  139.61,2,   42.48,2,       0,2,    3.01,2,   0.188,2,   0.111,2,   0.007,2,     0.09,2,  2362.8,6, 2373.74,2,   7.3424,2,       25,-999.000,9,-999.0000,9, -999.00,9, -999.00,9,  -999.0,9,  -999.0,-999.000,9,-999.000,     -999.0,9, -999.00,9, -999.00,9, -999.00,9,     -999.0,9,  -999.0,9, 20130414,     1912,  30.0009, 146.9268,    34.5606,2,     -999.0,9,     -999.0,9,     3.0703,2,     -999.0,9,     -999.0,9,-999.0000, -999.00,-999.000
318M20130321,       P02W,      34,          1,         16,         16,2,20130414,       1717,    30.0007,    146.927,       6240,  1380.1,    2.831,  34.4428,2,  34.4422,2,     39.1,2,    39.6,2,  146.73,2,   42.87,2,       0,2,    3.03,2,-999.000,9,-999.000,9,-999.000,9,-999.0000,9,    2369,2, 2382.75,2,    7.345,2,       25,-999.000,9,-999.0000,9, -999.00,9, -999.00,9,  -999.0,9,  -999.0,-999.000,9,-999.000,     -999.0,9, -999.00,9, -999.00,9, -999.00,9,     -999.0,9,  -999.0,9, 20130414,     1909,  30.0006, 146.9274,    34.6046,2,     -999.0,9,     -999.0,9,     2.8304,2,     -999.0,9,     -999.0,9,-999.0000, -999.00,-999.000
318M20130321,       P02W,      34,          1,         15,         15,2,20130414,       1717,    30.0007,    146.927,       6240,  1545.4,   2.5673,  34.4948,2,   34.494,2,       44,2,    44.5,2,  152.97,2,   42.76,2,       0,2,    3.02,2,   0.039,2,   0.042,2,   0.005,2,     0.06,2,  -999.0,9, -999.00,9,-999.0000,9,  -999.00,-999.000,9,-999.0000,9, -999.00,9, -999.00,9,  -999.0,9,  -999.0,-999.000,9,-999.000,     -999.0,9, -999.00,9, -999.00,9, -999.00,9,     -999.0,9,  -999.0,9, 20130414,     1905,  30.0003, 146.9279,    34.6567,2,     -999.0,9,     -999.0,9,     2.5669,2,     -999.0,9,     -999.0,9,-999.0000, -999.00,-999.000
318M20130321,       P02W,      34,          1,         14,         14,2,20130414,       1717,    30.0007,    146.927,       6240,  1750.5,   2.3022,  34.5471,2,  34.5463,2,     61.9,2,    60.7,2,  156.48,2,   41.85,2,       0,2,    2.94,2,-999.000,9,-999.000,9,-999.000,9,-999.0000,9,  2369.2,2, 2400.55,2,   7.3948,2,       25,-999.000,9,-999.0000,9, -999.00,9, -999.00,9,  -999.0,9,  -999.0,-999.000,9,-999.000,     -999.0,9, -999.00,9, -999.00,9, -999.00,9,     -999.0,9,  -999.0,9, 20130414,     1900,  30.0002, 146.9273,    34.7092,2,     -999.0,9,     -999.0,9,     2.3023,2,     -999.0,9,     -999.0,9,-999.0000, -999.00,-999.000
318M20130321,       P02W,      34,          1,         13,         13,2,20130414,       1717,    30.0007,    146.927,       6240,    1952,   2.0732,  34.5838,2,   34.584,2,     75.4,2,    76.9,2,  158.82,2,    40.9,2,       0,2,    2.85,2,   0.002,2,   0.016,2,   0.003,2,     0.06,2,  -999.0,9, -999.00,9,-999.0000,9,  -999.00,-999.000,9,-999.0000,9, -999.00,9, -999.00,9,  -999.0,9,  -999.0,-999.000,9,-999.000,     -999.0,9, -999.00,9, -999.00,9, -999.00,9,     -999.0,9,  -999.0,9, 20130414,     1856,  30.0002, 146.9269,     34.747,2,     -999.0,9,     -999.0,9,      2.073,2,     -999.0,9,     -999.0,9,-999.0000, -999.00,-999.000
318M20130321,       P02W,      34,          1,         12,         12,2,20130414,       1717,    30.0007,    146.927,       6240,  2182.6,   1.9058,  34.6109,2,  34.6105,2,     91.9,2,    91.6,2,  158.72,2,   40.04,2,       0,2,    2.79,2,-999.000,9,-999.000,9,-999.000,9,-999.0000,9,  2354.7,2, 2409.96,2,   7.4573,2,       25,-999.000,9,-999.0000,9, -999.00,9, -999.00,9,  -999.0,9,  -999.0,-999.000,9,-999.000,     -999.0,9, -999.00,9, -999.00,9, -999.00,9,     -999.0,9,  -999.0,9, 20130414,     1850,  30.0001, 146.9266,    34.7737,2,     -999.0,9,     -999.0,9,     1.9055,2,     -999.0,9,     -999.0,9,-999.0000, -999.00,-999.000
318M20130321,       P02W,      34,          1,         11,         11,2,20130414,       1717,    30.0007,    146.927,       6240,  2440.7,   1.7604,  34.6324,2,  34.6323,2,    103.1,2,   103.9,2,   159.3,2,    39.3,2,       0,2,    2.73,2,-999.000,9,-999.000,9,-999.000,9,-999.0000,9,  -999.0,9, -999.00,9,-999.0000,9,  -999.00,-999.000,9,-999.0000,9, -999.00,9, -999.00,9,  -999.0,9,  -999.0,-999.000,9,-999.000,     -999.0,9, -999.00,9, -999.00,9, -999.00,9,     -999.0,9,  -999.0,9, 20130414,     1844,  30.0001, 146.9261,    34.7956,2,     -999.0,9,     -999.0,9,     1.7601,2,     -999.0,9,     -999.0,9,-999.0000, -999.00,-999.000
318M20130321,       P02W,      34,          1,         10,         10,2,20130414,       1717,    30.0007,    146.927,       6240,  2696.6,   1.6695,  34.6481,2,  34.6476,2,    118.2,2,   118.3,2,  156.17,2,   38.39,2,       0,2,    2.65,2,   0.001,2,   0.007,2,   0.000,2,     0.08,2,    2342,2, 2413.06,2,   7.5086,6,       25,-999.000,9,-999.0000,9, -999.00,9, -999.00,9,  -999.0,9,  -999.0,-999.000,9,-999.000,     -999.0,9, -999.00,9, -999.00,9, -999.00,9,     -999.0,9,  -999.0,9, 20130414,     1838,  30.0001, 146.9256,     34.811,2,     -999.0,9,     -999.0,9,     1.6696,2,     -999.0,9,     -999.0,9,-999.0000, -999.00,-999.000
318M20130321,       P02W,      34,          1,          9,          9,2,20130414,       1717,    30.0007,    146.927,       6240,  2949.9,   1.6117,  34.6574,2,  34.6561,2,    125.4,2,   125.4,2,  155.69,2,   37.73,2,       0,2,    2.63,2,-999.000,9,-999.000,9,-999.000,9,-999.0000,9,  -999.0,9, -999.00,9,-999.0000,9,  -999.00,-999.000,9,-999.0000,9, -999.00,9, -999.00,9,  -999.0,9,  -999.0,-999.000,9,-999.000,     -999.0,9, -999.00,9, -999.00,9, -999.00,9,     -999.0,9,  -999.0,9, 20130414,     1833,  29.9996, 146.9257,    34.8195,2,     -999.0,9,     -999.0,9,     1.6115,2,     -999.0,9,     -999.0,9,-999.0000, -999.00,-999.000
318M20130321,       P02W,      34,          1,          8,          8,2,20130414,       1717,    30.0007,    146.927,       6240,    3242,   1.5595,  34.6667,2,  34.6659,2,    133.1,2,   133.2,2,  154.61,2,   37.43,2,       0,2,    2.59,2,-999.000,9,-999.000,9,-999.000,9,-999.0000,9,  2332.7,2, 2414.06,2,   7.5362,2,       25,-999.000,9,-999.0000,9, -999.00,9, -999.00,9,  -999.0,9,  -999.0,-999.000,9,-999.000,     -999.0,9, -999.00,9, -999.00,9, -999.00,9,     -999.0,9,  -999.0,9, 20130414,     1826,  29.9997, 146.9259,    34.8294,2,     -999.0,9,     -999.0,9,     1.5595,2,     -999.0,9,     -999.0,9,-999.0000, -999.00,-999.000