BOTTLE,20220817CCHSIOAMB
EXPOCODE,SECT_ID,STNNBR,CASTNO,SAMPNO,BTLNBR,BTLNBR_FLAG_W,DATE,TIME,LATITUDE,LONGITUDE,DEPTH,CTDPRS,CTDTMP,CTDSAL,CTDSAL_FLAG_W,SALNTY,SALNTY_FLAG_W,CTDOXY,CTDOXY_FLAG_W,OXYGEN,OXYGEN_FLAG_W,SILCAT,SILCAT_FLAG_W,NITRAT,NITRAT_FLAG_W,NITRIT,NITRIT_FLAG_W,PHSPHT,PHSPHT_FLAG_W,CFC-11,CFC-11_FLAG_W,CFC-12,CFC-12_FLAG_W,CFC113,CFC113_FLAG_W,SF6,SF6_FLAG_W,TCARBN,TCARBN_FLAG_W,ALKALI,ALKALI_FLAG_W,PH_TOT,PH_TOT_FLAG_W,PH_TMP,TRITUM,TRITUM_FLAG_W,HELIUM,HELIUM_FLAG_W,DELHE3,DELHE3_FLAG_W,DELC13,DELC13_FLAG_W,DELC14,DELC14_FLAG_W,C14ERR,NEON,NEON_FLAG_W,NEONER,I-129,I-129_FLAG_W,SR-90,SR-90_FLAG_W,DOC,DOC_FLAG_W,TDN,TDN_FLAG_W,CALCIUM,CALCIUM_FLAG_W,D15N_NO3,D15N_NO3_FLAG_W,BTL_DATE,BTL_TIME,BTL_LAT,BTL_LON,SALTREF,SALTREF_FLAG_W,CS-137,CS-137_FLAG_W,CS-134,CS-134_FLAG_W,REFTMP,REFTMP_FLAG_W,LAB_DEN,LAB_DEN_FLAG_W,D18O_NO3,D18O_NO3_FLAG_W,HELIER,DELHER,TRITER
,,,,,,,,,,,METERS,DBAR,ITS-90,PSS-78,,PSS-78,,UMOL/KG,,UMOL/KG,,UMOL/KG,,UMOL/KG,,UMOL/KG,,UMOL/KG,,PMOL/KG,,PMOL/KG,,PMOL/KG,,FMOL/KG,,UMOL/KG,,UMOL/KG,,,,DEG C,TU,,NMOL/KG,,PERCNT,,/MILLE,,/MILLE,,/MILLE,NMOL/KG,,NMOL/KG,BQ/M^3,,DM/.1MG,,UMOL/KG,,UMOL/KG,,MMOL/KG,,/MILLE,,,,,,G/KG,,BQ/M^3,,BQ/M^3,,ITS-90,,,,/MILLE,,NMOL/KG,PERCNT,TU
318M20130321,       P02E,     105,          1,         36,         36,2,20130518,       0041,    30.0003,   -150.267,       5866,       2,  21.1994,  34.8921,2,  34.8943,2,    227.2,2,   227.4,2,    2.44,2,       0,2,       0,2,       0,2,   1.950,2,   1.199,2,-999.000,1,   1.4251,2,  2016.2,2, 2292.61,2,   8.0018,2,       25,-999.000,9,-999.0000,9, -999.00,9, -999.00,9,  -999.0,9,  -999.0,-999.000,9,-999.000,     -999.0,9, -999.00,9,   69.91,2,     4.1,2,     -999.0,9,  -999.0,9, 20130518,      302,  30.0001, -150.268,    35.0589,2,     -999.0,9,     -999.0,9,    21.1973,2,     -999.0,9,     -999.0,9,-999.0000, -999.00,-999.000
318M20130321,       P02E,     105,          1,         34,         34,2,20130518,       0041,    30.0003,   -150.267,       5866,    25.6,  20.6766,  34.8522,2,  34.8554,2,    228.9,2,     229,2,    2.44,2,       0,2,       0,2,       0,2,-999.000,9,-999.000,9,-999.000,9,-999.0000,9,  2015.2,2, 2289.61,2,   7.9997,6,       25,-999.000,9,-999.0000,9, -999.00,9, -999.00,9,  -999.0,9,  -999.0,-999.000,9,-999.000,     -999.0,9, -999.00,9, -999.00,5,    4.48,2,     -999.0,9,  -999.0,9, 20130518,      300,  30.0002, -150.268,    35.0197,2,     -999.0,9,     -999.0,9,    20.6765,2,     -999.0,9,     -999.0,9,-999.0000, -999.00,-999.000
318M20130321,       P02E,     105,          1,         33,         33,2,20130518,       0041,    30.0003,   -150.267,       5866,      51,  20.5114,  34.8962,2,  34.9038,2,    230.4,2,     229,2,    2.34,2,       0,2,       0,2,       0,2,   1.979,2,   1.210,2,-999.000,1,   1.3621,2,  -999.0,9, -999.00,9,-999.0000,9,  -999.00,-999.000,9,-999.0000,9, -999.00,9, -999.00,9,  -999.0,9,  -999.0,-999.000,9,-999.000,     -999.0,9, -999.00,9,   69.04,2,    4.37,2,     -999.0,9,  -999.0,9, 20130518,      258,  30.0001, -150.268,    35.0684,2,     -999.0,9,     -999.0,9,    20.5166,2,     -999.0,9,     -999.0,9,-999.0000, -999.00,-999.000
318M20130321,       P02E,     105,          1,         32,         32,2,20130518,       0041,    30.0003,   -150.267,       5866,    75.3,  18.9695,  34.7812,2,  34.7738,2,    236.9,2,   236.6,2,    2.64,2,       0,2,       0,2,       0,2,-999.000,9,-999.000,9,-999.000,9,-999.0000,9,  -999.0,9, -999.00,9,-999.0000,9,  -999.00,-999.000,9,-999.0000,9, -999.00,9, -999.00,9,  -999.0,9,  -999.0,-999.000,9,-999.000,     -999.0,9, -999.00,9,   70.07,2,    4.26,2,     -999.0,9,  -999.0,9, 20130518,      256,       30, -150.268,    34.9378,2,     -999.0,9,     -999.0,9,    18.9665,2,     -999.0,9,     -999.0,9,-999.0000, -999.00,-999.000
318M20130321,       P02E,     105,          1,         31,         31,2,20130518,       0041,    30.0003,   -150.267,       5866,   100.2,  18.8451,  34.8217,2,  34.8164,2,    234.8,2,   234.2,2,    2.64,2,       0,2,       0,2,       0,2,-999.000,9,-999.000,9,-999.000,9,-999.0000,9,  2016.2,2, 2287.51,6,   7.9937,2,       25,-999.000,9,-999.0000,9, -999.00,9, -999.00,9,  -999.0,9,  -999.0,-999.000,9,-999.000,     -999.0,9, -999.00,9,   70.86,2,    4.71,2,     -999.0,9,  -999.0,9, 20130518,      255,  29.9999, -150.268,    34.9806,2,     -999.0,9,     -999.0,9,    18.8457,2,     -999.0,9,     -999.0,9,-999.0000, -999.00,-999.000
318M20130321,       P02E,     105,          1,         30,         30,2,20130518,       0041,    30.0003,   -150.267,       5866,   149.7,  17.2439,  34.5904,2,  34.6061,2,    236.4,2,   233.3,2,    3.32,2,       0,2,    0.03,2,    0.03,2,-999.000,9,-999.000,9,-999.000,9,-999.0000,9,  -999.0,9, -999.00,9,-999.0000,9,  -999.00,-999.000,9,-999.0000,9, -999.00,9, -999.00,9,  -999.0,9,  -999.0,-999.000,9,-999.000,     -999.0,9, -999.00,9,   56.58,2,     4.3,2,     -999.0,9,  -999.0,9, 20130518,      252,  29.9999,-150.2679,    34.7693,2,     -999.0,9,     -999.0,9,    17.2398,2,     -999.0,9,     -999.0,9,-999.0000, -999.00,-999.000
318M20130321,       P02E,     105,          1,         29,         29,2,20130518,       0041,    30.0003,   -150.267,       5866,   201.1,  13.8063,  34.2478,2,  34.2514,2,    223.4,2,   217.1,2,    6.25,2,    5.72,2,    0.02,2,    0.43,2,   2.700,2,   1.577,2,-999.000,1,   1.4956,2,  2058.2,2,  2260.1,2,   7.8579,2,       25,-999.000,9,-999.0000,9, -999.00,9, -999.00,9,  -999.0,9,  -999.0,-999.000,9,-999.000,     -999.0,9, -999.00,9,   48.64,2,   10.24,2,     -999.0,9,  -999.0,9, 20130518,      250,  29.9999, -150.268,     34.413,2,     -999.0,9,     -999.0,9,      13.81,2,     -999.0,9,     -999.0,9,-999.0000, -999.00,-999.000
318M20130321,       P02E,     105,          1,         28,         28,2,20130518,       0041,    30.0003,   -150.267,       5866,     251,  12.3604,  34.1804,2,  34.1844,2,    217.4,2,   216.5,2,    9.47,2,    9.42,2,    0.01,2,    0.65,2,   2.917,2,   1.666,2,-999.000,1,   1.4897,2,  -999.0,9, -999.00,9,-999.0000,9,  -999.00,-999.000,9,-999.0000,9, -999.00,9, -999.00,9,  -999.0,9,  -999.0,-999.000,9,-999.000,     -999.0,9, -999.00,9,   44.02,2,   12.64,2,     -999.0,9,  -999.0,9, 20130518,      248,  30.0001, -150.268,    34.3456,2,     -999.0,9,     -999.0,9,    12.3619,2,     -999.0,9,     -999.0,9,-999.0000, -999.00,-999.000
318M20130321,       P02E,     105,          1,         27,         27,2,20130518,       0041,    30.0003,   -150.267,       5866,   301.6,  11.3215,  34.1832,2,  34.1857,2,    217.8,2,   218.3,2,    12.5,2,   11.85,2,       0,2,    0.81,2,-999.000,9,-999.000,9,-999.000,9,-999.0000,9,  2089.1,2,  2256.4,2,   7.7917,2,       25,-999.000,9,-999.0000,9, -999.00,9, -999.00,9,  -999.0,9,  -999.0,-999.000,9,-999.000,     -999.0,9, -999.00,9,    43.4,2,   15.38,2,     -999.0,9,  -999.0,9, 20130518,      245,       30, -150.268,    34.3469,2,     -999.0,9,     -999.0,9,    11.3138,2,     -999.0,9,     -999.0,9,-999.0000, -999.00,-999.000
318M20130321,       P02E,     105,          1,         26,         26,2,20130518,       0041,    30.0003,   -150.267,       5866,   401.7,   9.5748,  34.0954,2,  34.0975,2,    203.8,2,   205.5,2,   20.99,2,   16.96,2,       0,2,    1.17,2,-999.000,9,-999.000,9,-999.000,9,-999.0000,9,  2120.8,2,  2259.2,2,   7.7227,2,       25,-999.000,9,-999.0000,9, -999.00,9, -999.00,9,  -999.0,9,  -999.0,-999.000,9,-999.000,     -999.0,9, -999.00,9, -999.00,5, -999.00,9,     -999.0,9,  -999.0,9, 20130518,      242,       30, -150.268,    34.2583,2,     -999.0,9,     -999.0,9,     9.5889,2,     -999.0,9,     -999.0,9,-999.0000, -999.00,-999.000
318M20130321,       P02E,     105,          1,         25,         25,2,20130518,       0041,    30.0003,   -150.267,       5866,   503.5,   7.6486,  34.0078,2,  34.0054,2,    164.4,2,   162.9,2,   38.18,2,   24.88,2,       0,2,    1.72,2,-999.000,9,-999.000,9,-999.000,9,-999.0000,9,  2175.6,2, 2269.71,2,   7.5981,6,       25,-999.000,9,-999.0000,9, -999.00,9, -999.00,9,  -999.0,9,  -999.0,-999.000,9,-999.000,     -999.0,9, -999.00,9,   45.04,2, -999.00,9,     -999.0,9,  -999.0,9, 20130518,      239,  30.0001, -150.268,    34.1657,2,     -999.0,9,     -999.0,9,     7.6477,2,     -999.0,9,     -999.0,9,-999.0000, -999.00,-999.000
318M20130321,       P02E,     105,          1,         24,         24,2,20130518,       0041,    30.0003,   -150.267,       5866,     604,   5.8264,  34.0043,2,  34.0056,2,       95,2,    94.5,2,   64.55,2,   34.52,2,       0,2,    2.42,2,   1.868,2,   0.932,2,-999.000,1,   0.2302,2,  2249.8,2, 2289.01,2,   7.4293,2,       25,-999.000,9,-999.0000,9, -999.00,9, -999.00,9,  -999.0,9,  -999.0,-999.000,9,-999.000,     -999.0,9, -999.00,9,   45.24,2, -999.00,9,     -999.0,9,  -999.0,9, 20130518,      236,       30, -150.268,    34.1659,2,     -999.0,9,     -999.0,9,     5.8402,2,     -999.0,9,     -999.0,9,-999.0000, -999.00,-999.000
318M20130321,       P02E,     105,          1,         23,         23,2,20130518,       0041,    30.0003,   -150.267,       5866,   704.4,   4.8245,   34.089,2,  34.0883,2,     48.5,2,    48.4,2,   86.62,2,   40.07,2,       0,2,    2.85,2,-999.000,9,-999.000,9,-999.000,9,-999.0000,9,  2301.5,2, 2309.22,2,   7.3318,2,       25,-999.000,9,-999.0000,9, -999.00,9, -999.00,9,  -999.0,9,  -999.0,-999.000,9,-999.000,     -999.0,9, -999.00,9,   41.46,2, -999.00,9,     -999.0,9,  -999.0,9, 20130518,      233,       30, -150.268,     34.249,2,     -999.0,9,     -999.0,9,     4.8247,2,     -999.0,9,     -999.0,9,-999.0000, -999.00,-999.000
318M20130321,       P02E,     105,          1,         22,         22,2,20130518,       0041,    30.0003,   -150.267,       5866,   805.9,   4.3477,  34.2174,2,  34.2192,2,       21,2,      19,2,  104.18,2,   42.92,2,       0,2,     3.1,2,-999.000,9,-999.000,9,-999.000,9,-999.0000,9,  2338.4,2, 2332.33,2,   7.2883,2,       25,-999.000,9,-999.0000,9, -999.00,9, -999.00,9,  -999.0,9,  -999.0,-999.000,9,-999.000,     -999.0,9, -999.00,9,   37.97,2, -999.00,9,     -999.0,9,  -999.0,9, 20130518,      230,  29.9999, -150.268,    34.3806,2,     -999.0,9,     -999.0,9,     4.3473,2,     -999.0,9,     -999.0,9,-999.0000, -999.00,-999.000
318M20130321,       P02E,     105,          1,         21,         21,2,20130518,       0041,    30.0003,   -150.267,       5866,   906.6,   4.0138,  34.2976,2,  34.2986,2,     12.7,2,      13,2,  115.01,2,   43.76,2,       0,2,    3.16,2,-999.000,9,-999.000,9,-999.000,9,-999.0000,9,  2355.2,2, 2347.73,2,   7.2857,2,       25,-999.000,9,-999.0000,9, -999.00,9, -999.00,9,  -999.0,9,  -999.0,-999.000,9,-999.000,     -999.0,9, -999.00,9,   39.81,2, -999.00,9,     -999.0,9,  -999.0,9, 20130518,      227,  29.9998, -150.268,    34.4604,2,     -999.0,9,     -999.0,9,     4.0139,2,     -999.0,9,     -999.0,9,-999.0000, -999.00,-999.000
318M20130321,       P02E,     105,          1,         20,         20,2,20130518,       0041,    30.0003,   -150.267,       5866,  1009.5,   3.7134,  34.3681,2,  34.3697,2,       13,2,    13.4,2,  124.09,2,   44.09,2,       0,2,    3.19,2,   0.016,2,   0.010,2,-999.000,1,        0,2,  2364.8,2, 2363.04,2,   7.2955,2,       25,-999.000,9,-999.0000,9, -999.00,9, -999.00,9,  -999.0,9,  -999.0,-999.000,9,-999.000,     -999.0,9, -999.00,9,   38.45,2, -999.00,9,     -999.0,9,  -999.0,9, 20130518,      224,       30, -150.268,    34.5317,2,     -999.0,9,     -999.0,9,     3.7121,2,     -999.0,9,     -999.0,9,-999.0000, -999.00,-999.000
318M20130321,       P02E,     105,          1,         19,         19,2,20130518,       0041,    30.0003,   -150.267,       5866,    1110,   3.4515,  34.4303,2,  34.4317,2,       19,2,    20.2,2,  130.52,2,   43.91,2,       0,2,    3.17,2,-999.000,9,-999.000,9,-999.000,9,-999.0000,9,  2369.7,6, 2373.04,2,   7.3144,2,       25,-999.000,9,-999.0000,9, -999.00,9, -999.00,9,  -999.0,9,  -999.0,-999.000,9,-999.000,     -999.0,9, -999.00,9,   37.46,2, -999.00,9,     -999.0,9,  -999.0,9, 20130518,      221,  30.0001,-150.2681,     34.594,2,     -999.0,9,     -999.0,9,     3.4521,2,     -999.0,9,     -999.0,9,-999.0000, -999.00,-999.000
318M20130321,       P02E,     105,          1,         18,         18,2,20130518,       0041,    30.0003,   -150.267,       5866,  1211.8,   3.2541,  34.4748,2,  34.4764,2,     28.4,2,    29.4,2,  135.01,2,   43.58,2,       0,2,    3.14,2,-999.000,9,-999.000,9,-999.000,9,-999.0000,9,  -999.0,9, -999.00,9,-999.0000,9,  -999.00,-999.000,9,-999.0000,9, -999.00,9, -999.00,9,  -999.0,9,  -999.0,-999.000,9,-999.000,     -999.0,9, -999.00,9,   39.19,2, -999.00,9,     -999.0,9,  -999.0,9, 20130518,      218,  30.0001,-150.2681,     34.639,2,     -999.0,9,     -999.0,9,     3.2529,2,     -999.0,9,     -999.0,9,-999.0000, -999.00,-999.000
318M20130321,       P02E,     105,          1,         17,         17,2,20130518,       0041,    30.0003,   -150.267,       5866,  1413.5,   2.8857,  34.5297,2,  34.5302,2,     45.3,2,    44.7,2,  142.52,2,   42.75,2,       0,2,    3.07,2,   0.005,2,   0.004,2,-999.000,1,        0,2,    2371,2, 2393.25,2,    7.374,2,       25,-999.000,9,-999.0000,9, -999.00,9, -999.00,9,  -999.0,9,  -999.0,-999.000,9,-999.000,     -999.0,9, -999.00,9,   39.06,2, -999.00,9,     -999.0,9,  -999.0,9, 20130518,      213,  30.0002,-150.2682,    34.6931,2,     -999.0,9,     -999.0,9,     2.8853,2,     -999.0,9,     -999.0,9,-999.0000, -999.00,-999.000
318M20130321,       P02E,     105,          1,         16,         16,2,20130518,       0041,    30.0003,   -150.267,       5866,  1616.3,   2.5489,  34.5661,2,  34.5677,2,     59.2,2,    59.6,2,  150.03,2,   41.95,2,       0,2,       3,2,-999.000,9,-999.000,9,-999.000,9,-999.0000,9,  2370.3,2, 2403.15,2,    7.403,2,       25,-999.000,9,-999.0000,9, -999.00,9, -999.00,9,  -999.0,9,  -999.0,-999.000,9,-999.000,     -999.0,9, -999.00,9,   35.96,2, -999.00,9,     -999.0,9,  -999.0,9, 20130518,      208,  29.9999, -150.268,    34.7307,2,     -999.0,9,     -999.0,9,     2.5485,2,     -999.0,9,     -999.0,9,-999.0000, -999.00,-999.000
318M20130321,       P02E,     105,          1,         15,         15,2,20130518,       0041,    30.0003,   -150.267,       5866,  1816.4,   2.2863,  34.5917,2,  34.5939,2,     69.8,2,    69.7,2,  156.47,2,   41.33,2,       0,2,    2.95,2,-999.000,9,-999.000,9,-999.000,9,-999.0000,9,  -999.0,9, -999.00,9,-999.0000,9,  -999.00,-999.000,9,-999.0000,9, -999.00,9, -999.00,9,  -999.0,9,  -999.0,-999.000,9,-999.000,     -999.0,9, -999.00,9,   37.19,2, -999.00,9,     -999.0,9,  -999.0,9, 20130518,      203,  29.9997,-150.2678,     34.757,2,     -999.0,9,     -999.0,9,      2.286,2,     -999.0,9,     -999.0,9,-999.0000, -999.00,-999.000
318M20130321,       P02E,     105,          1,         14,         14,2,20130518,       0041,    30.0003,   -150.267,       5866,  2021.6,   2.0459,  34.6134,2,  34.6147,2,     79.4,2,    79.3,2,  162.82,2,   40.73,2,       0,2,     2.9,2,-999.000,9,-999.000,9,-999.000,9,-999.0000,9,  2369.3,2, 2415.46,2,   7.4414,6,       25,-999.000,9,-999.0000,9, -999.00,9, -999.00,9,  -999.0,9,  -999.0,-999.000,9,-999.000,     -999.0,9, -999.00,9,   35.25,2, -999.00,9,     -999.0,9,  -999.0,9, 20130518,      159,  30.0002,-150.2676,    34.7779,2,     -999.0,9,     -999.0,9,     2.0458,2,     -999.0,9,     -999.0,9,-999.0000, -999.00,-999.000
318M20130321,       P02E,     105,          1,         13,         13,2,20130518,       0041,    30.0003,   -150.267,       5866,  2276.7,   1.8609,  34.6307,2,  34.6329,2,     90.1,2,    88.7,2,  167.69,2,    40.2,2,       0,2,    2.84,2,   0.003,2,   0.001,2,-999.000,1,        0,2,  -999.0,9, -999.00,9,-999.0000,9,  -999.00,-999.000,9,-999.0000,9, -999.00,9, -999.00,9,  -999.0,9,  -999.0,-999.000,9,-999.000,     -999.0,9, -999.00,9,   36.72,2, -999.00,9,     -999.0,9,  -999.0,9, 20130518,      153,       30,-150.2672,    34.7962,2,     -999.0,9,     -999.0,9,     1.8603,2,     -999.0,9,     -999.0,9,-999.0000, -999.00,-999.000
318M20130321,       P02E,     105,          1,         12,         12,2,20130518,       0041,    30.0003,   -150.267,       5866,  2529.9,   1.7193,  34.6461,2,  34.6479,2,     98.9,2,   100.4,2,  169.64,2,   39.49,2,       0,2,    2.77,2,-999.000,9,-999.000,9,-999.000,9,-999.0000,9,  -999.0,9, -999.00,9,-999.0000,9,  -999.00,-999.000,9,-999.0000,9, -999.00,9, -999.00,9,  -999.0,9,  -999.0,-999.000,9,-999.000,     -999.0,9, -999.00,9,   37.32,2, -999.00,9,     -999.0,9,  -999.0,9, 20130518,      148,  30.0002,-150.2669,    34.8112,2,     -999.0,9,     -999.0,9,     1.7194,2,     -999.0,9,     -999.0,9,-999.0000, -999.00,-999.000
318M20130321,       P02E,     105,          1,         11,         11,2,20130518,       0041,    30.0003,   -150.267,       5866,  2784.6,   1.6329,  34.6556,2,  34.6657,4,      109,2,   107.9,2,  170.62,2,   39.03,2,       0,2,    2.73,2,-999.000,9,-999.000,9,-999.000,9,-999.0000,9,  2358.3,2, 2425.46,2,   7.4959,2,       25,-999.000,9,-999.0000,9, -999.00,9, -999.00,9,  -999.0,9,  -999.0,-999.000,9,-999.000,     -999.0,9, -999.00,9,    34.9,2, -999.00,9,     -999.0,9,  -999.0,9, 20130518,      143,  30.0001,-150.2667,    34.8292,4,     -999.0,9,     -999.0,9,     1.6329,2,     -999.0,9,     -999.0,9,-999.0000, -999.00,-999.000
318M20130321,       P02E,     105,          1,         10,         10,2,20130518,       0041,    30.0003,   -150.267,       5866,    3040,   1.5597,  34.6651,2,  34.6665,2,    117.4,2,   118.3,2,  168.86,2,   38.36,2,       0,2,    2.68,2,-999.000,9,-999.000,9,-999.000,9,-999.0000,9,  -999.0,9, -999.00,9,-999.0000,9,  -999.00,-999.000,9,-999.0000,9, -999.00,9, -999.00,9,  -999.0,9,  -999.0,-999.000,9,-999.000,     -999.0,9, -999.00,9,   35.73,2, -999.00,9,     -999.0,9,  -999.0,9, 20130518,      137,       30,-150.2665,      34.83,2,     -999.0,9,     -999.0,9,     1.5598,2,     -999.0,9,     -999.0,9,-999.0000, -999.00,-999.000
318M20130321,       P02E,     105,          1,          9,          9,2,20130518,       0041,    30.0003,   -150.267,       5866,  3346.4,   1.5006,  34.6742,2,  34.6746,2,    130.5,2,   130.3,2,  165.05,2,    37.6,2,       0,2,    2.62,2,   0.014,2,   0.034,3,-999.000,1,   0.3447,4,  2343.7,2, 2424.76,2,   7.5386,2,       25,-999.000,9,-999.0000,9, -999.00,9, -999.00,9,  -999.0,9,  -999.0,-999.000,9,-999.000,     -999.0,9, -999.00,9,   34.26,2, -999.00,9,     -999.0,9,  -999.0,9, 20130518,      131,  30.0001,-150.2666,    34.8381,2,     -999.0,9,     -999.0,9,     1.5005,2,     -999.0,9,     -999.0,9,-999.0000, -999.00,-999.000
318M20130321,       P02E,     105,          1,          8,          8,2,20130518,       0041,    30.0003,   -150.267,       5866,  3653.3,    1.481,  34.6798,2,  34.6808,2,    138.8,2,   138.5,2,  161.93,2,   37.03,2,       0,2,    2.58,2,-999.000,9,-999.000,9,-999.000,9,-999.0000,9,  -999.0,9, -999.00,9,-999.0000,9,  -999.00,-999.000,9,-999.0000,9, -999.00,9, -999.00,9,  -999.0,9,  -999.0,-999.000,9,-999.000,     -999.0,9, -999.00,9,   36.14,2, -999.00,9,     -999.0,9,  -999.0,9, 20130518,      125,  30.0002,-150.2666,    34.8444,2,     -999.0,9,     -999.0,9,     1.4808,2,     -999.0,9,     -999.0,9,-999.0000, -999.00,-999.000
318M20130321,       P02E,     105,          1,          7,          7,2,20130518,       0041,    30.0003,   -150.267,       5866,  4064.4,   1.4788,  34.6848,2,  34.6854,2,    146.1,2,   146.2,2,  157.83,2,    36.5,2,       0,2,    2.53,2,-999.000,9,-999.000,9,-999.000,9,-999.0000,9,  2332.4,2, 2422.46,6,    7.565,2,       25,-999.000,9,-999.0000,9, -999.00,9, -999.00,9,  -999.0,9,  -999.0,-999.000,9,-999.000,     -999.0,9, -999.00,9,   37.24,2, -999.00,9,     -999.0,9,  -999.0,9, 20130518,      117,  30.0005,-150.2667,    34.8489,2,     -999.0,9,     -999.0,9,     1.4792,2,     -999.0,9,     -999.0,9,-999.0000, -999.00,-999.000