BOTTLE,20220817CCHSIOAMB
EXPOCODE,SECT_ID,STNNBR,CASTNO,SAMPNO,BTLNBR,BTLNBR_FLAG_W,DATE,TIME,LATITUDE,LONGITUDE,DEPTH,CTDPRS,CTDTMP,CTDSAL,CTDSAL_FLAG_W,SALNTY,SALNTY_FLAG_W,CTDOXY,CTDOXY_FLAG_W,OXYGEN,OXYGEN_FLAG_W,SILCAT,SILCAT_FLAG_W,NITRAT,NITRAT_FLAG_W,NITRIT,NITRIT_FLAG_W,PHSPHT,PHSPHT_FLAG_W,CFC-11,CFC-11_FLAG_W,CFC-12,CFC-12_FLAG_W,CFC113,CFC113_FLAG_W,SF6,SF6_FLAG_W,TCARBN,TCARBN_FLAG_W,ALKALI,ALKALI_FLAG_W,PH_TOT,PH_TOT_FLAG_W,PH_TMP,TRITUM,TRITUM_FLAG_W,HELIUM,HELIUM_FLAG_W,DELHE3,DELHE3_FLAG_W,DELC13,DELC13_FLAG_W,DELC14,DELC14_FLAG_W,C14ERR,NEON,NEON_FLAG_W,NEONER,I-129,I-129_FLAG_W,SR-90,SR-90_FLAG_W,DOC,DOC_FLAG_W,TDN,TDN_FLAG_W,CALCIUM,CALCIUM_FLAG_W,D15N_NO3,D15N_NO3_FLAG_W,BTL_DATE,BTL_TIME,BTL_LAT,BTL_LON,SALTREF,SALTREF_FLAG_W,CS-137,CS-137_FLAG_W,CS-134,CS-134_FLAG_W,REFTMP,REFTMP_FLAG_W,LAB_DEN,LAB_DEN_FLAG_W,D18O_NO3,D18O_NO3_FLAG_W,HELIER,DELHER,TRITER
,,,,,,,,,,,METERS,DBAR,ITS-90,PSS-78,,PSS-78,,UMOL/KG,,UMOL/KG,,UMOL/KG,,UMOL/KG,,UMOL/KG,,UMOL/KG,,PMOL/KG,,PMOL/KG,,PMOL/KG,,FMOL/KG,,UMOL/KG,,UMOL/KG,,,,DEG C,TU,,NMOL/KG,,PERCNT,,/MILLE,,/MILLE,,/MILLE,NMOL/KG,,NMOL/KG,BQ/M^3,,DM/.1MG,,UMOL/KG,,UMOL/KG,,MMOL/KG,,/MILLE,,,,,,G/KG,,BQ/M^3,,BQ/M^3,,ITS-90,,,,/MILLE,,NMOL/KG,PERCNT,TU
318M20130321,       P02E,     158,          1,         23,         23,2,20130601,       0843,    32.6378,  -117.5233,       1173,     2.5,   17.936,  33.5464,2,  33.5501,2,    250.4,2,   250.5,2,    3.22,2,       0,2,       0,2,     0.3,2,   2.544,2,   1.524,2,-999.000,1,   1.6625,2,  2015.5,6, 2234.39,2,   7.9201,2,       25,-999.000,9,-999.0000,9, -999.00,9, -999.00,9,  -999.0,9,  -999.0,-999.000,9,-999.000,     -999.0,9, -999.00,9, -999.00,9, -999.00,9,     -999.0,1,  -999.0,9, 20130601,      931,  32.6385,-117.5238,    33.7083,2,     -999.0,9,     -999.0,9,     17.948,2,     -999.0,1,     -999.0,9,-999.0000, -999.00,-999.000
318M20130321,       P02E,     158,          1,         22,         22,2,20130601,       0843,    32.6378,  -117.5233,       1173,    25.5,  13.0557,  33.4863,2,  33.4891,2,      267,2,   267.5,2,    4.98,2,    2.43,2,     0.1,2,     0.5,2,    -999,5,    -999,5,-999.000,1,     -999,5,  2038.2,2, 2229.59,2,    7.862,2,       25,-999.000,9,-999.0000,9, -999.00,9, -999.00,9,  -999.0,9,  -999.0,-999.000,9,-999.000,     -999.0,9, -999.00,9, -999.00,9, -999.00,9,     -999.0,9,  -999.0,9, 20130601,      929,  32.6384,-117.5237,    33.6471,2,     -999.0,9,     -999.0,9,    13.0662,2,     -999.0,1,     -999.0,9,-999.0000, -999.00,-999.000
318M20130321,       P02E,     158,          1,         21,         21,2,20130601,       0843,    32.6378,  -117.5233,       1173,    50.6,  11.0164,  33.4982,2,  33.5013,2,    187.4,2,   187.1,2,   13.09,2,   14.32,2,    0.11,2,    1.21,2,-999.000,9,-999.000,9,-999.000,9,-999.0000,9,  2110.4,2, 2225.79,2,    7.671,2,       25,-999.000,9,-999.0000,9, -999.00,9, -999.00,9,  -999.0,9,  -999.0,-999.000,9,-999.000,     -999.0,9, -999.00,9, -999.00,9, -999.00,9,     -999.0,1,  -999.0,9, 20130601,      927,  32.6383,-117.5236,    33.6592,2,     -999.0,9,     -999.0,9,    11.0155,2,     -999.0,1,     -999.0,9,-999.0000, -999.00,-999.000
318M20130321,       P02E,     158,          1,         20,         20,2,20130601,       0843,    32.6378,  -117.5233,       1173,      75,  10.2697,  33.7188,2,  33.7214,2,    126.8,2,   128.5,2,   22.17,2,   21.73,2,    0.03,2,    1.77,2,   2.936,2,   1.664,2,-999.000,1,     1.33,2,  -999.0,9, -999.00,9,-999.0000,9,  -999.00,-999.000,9,-999.0000,9, -999.00,9, -999.00,9,  -999.0,9,  -999.0,-999.000,9,-999.000,     -999.0,9, -999.00,9, -999.00,9, -999.00,9,     -999.0,9,  -999.0,9, 20130601,      925,  32.6383,-117.5237,    33.8805,2,     -999.0,9,     -999.0,9,    10.2682,2,     -999.0,9,     -999.0,9,-999.0000, -999.00,-999.000
318M20130321,       P02E,     158,          1,         19,         19,2,20130601,       0843,    32.6378,  -117.5233,       1173,    99.9,    9.801,  33.9042,2,  33.9103,2,    102.4,2,   102.2,2,   28.32,2,   24.97,2,    0.02,2,    2.02,2,-999.000,9,-999.000,9,-999.000,9,-999.0000,9,  2197.2,2,  2249.4,2,    7.484,6,       25,-999.000,9,-999.0000,9, -999.00,9, -999.00,9,  -999.0,9,  -999.0,-999.000,9,-999.000,     -999.0,9, -999.00,9, -999.00,9, -999.00,9,     -999.0,1,  -999.0,9, 20130601,      924,  32.6382,-117.5237,    34.0702,2,     -999.0,9,     -999.0,9,     9.8016,2,     -999.0,1,     -999.0,9,-999.0000, -999.00,-999.000
318M20130321,       P02E,     158,          1,         18,         18,2,20130601,       0843,    32.6378,  -117.5233,       1173,   125.5,   9.5693,  34.0232,2,  34.0212,2,     87.7,2,    87.9,2,   31.54,2,   26.36,2,    0.01,2,    2.14,2,   2.514,2,   1.396,2,-999.000,1,     0.91,2,  -999.0,9, -999.00,9,-999.0000,9,  -999.00,-999.000,9,-999.0000,9, -999.00,9, -999.00,9,  -999.0,9,  -999.0,-999.000,9,-999.000,     -999.0,9, -999.00,9, -999.00,9, -999.00,9,     -999.0,9,  -999.0,9, 20130601,      922,  32.6382,-117.5237,    34.1816,2,     -999.0,9,     -999.0,9,     9.5695,2,     -999.0,9,     -999.0,9,-999.0000, -999.00,-999.000
318M20130321,       P02E,     158,          1,         17,         17,2,20130601,       0843,    32.6378,  -117.5233,       1173,   150.9,   9.3947,  34.0787,2,  34.0757,2,     80.8,2,    82.1,2,   33.49,2,   27.15,2,    0.01,2,     2.2,2,-999.000,9,-999.000,9,-999.000,9,-999.0000,9,  2218.2,2,  2263.6,2,    7.452,6,       25,-999.000,9,-999.0000,9, -999.00,9, -999.00,9,  -999.0,9,  -999.0,-999.000,9,-999.000,     -999.0,9, -999.00,9, -999.00,9, -999.00,9,     -999.0,1,  -999.0,9, 20130601,      921,  32.6382,-117.5238,    34.2364,2,     -999.0,9,     -999.0,9,     9.3987,2,     -999.0,1,     -999.0,9,-999.0000, -999.00,-999.000
318M20130321,       P02E,     158,          1,         16,         16,2,20130601,       0843,    32.6378,  -117.5233,       1173,     176,   8.8286,  34.0535,2,  34.0539,2,     95.2,2,    93.4,2,   35.15,2,   27.89,2,    0.01,2,    2.17,2,   2.481,2,   1.350,2,-999.000,1,    0.772,2,  2213.6,2,  2264.7,2,   7.4668,2,       25,-999.000,9,-999.0000,9, -999.00,9, -999.00,9,  -999.0,9,  -999.0,-999.000,9,-999.000,     -999.0,9, -999.00,9, -999.00,9, -999.00,9,     -999.0,9,  -999.0,9, 20130601,      919,   32.638,-117.5238,    34.2145,2,     -999.0,9,     -999.0,9,     8.8285,2,     -999.0,1,     -999.0,9,-999.0000, -999.00,-999.000
318M20130321,       P02E,     158,          1,         15,         15,2,20130601,       0843,    32.6378,  -117.5233,       1173,   201.4,   8.5639,  34.0672,2,  34.0737,2,     89.2,2,    88.8,2,    37.4,2,   28.78,2,    0.02,2,    2.23,2,-999.000,9,-999.000,9,-999.000,9,-999.0000,9,  2221.3,2, 2266.51,2,   7.4534,2,       25,-999.000,9,-999.0000,9, -999.00,9, -999.00,9,  -999.0,9,  -999.0,-999.000,9,-999.000,     -999.0,9, -999.00,9, -999.00,9, -999.00,9,     -999.0,1,  -999.0,9, 20130601,      917,  32.6379,-117.5236,    34.2344,2,     -999.0,9,     -999.0,9,     8.5665,2,     -999.0,1,     -999.0,9,-999.0000, -999.00,-999.000
318M20130321,       P02E,     158,          1,         14,         14,2,20130601,       0843,    32.6378,  -117.5233,       1173,   226.9,   8.4524,  34.0934,2,  34.0933,2,     82.8,2,    82.5,2,   39.26,2,   29.48,2,    0.02,2,    2.28,2,   2.295,2,   1.228,2,-999.000,1,   0.6451,2,  -999.0,9, -999.00,9,-999.0000,9,  -999.00,-999.000,9,-999.0000,9, -999.00,9, -999.00,9,  -999.0,9,  -999.0,-999.000,9,-999.000,     -999.0,9, -999.00,9, -999.00,9, -999.00,9,     -999.0,9,  -999.0,9, 20130601,      916,  32.6378,-117.5235,    34.2541,2,     -999.0,9,     -999.0,9,     8.4516,2,     -999.0,9,     -999.0,9,-999.0000, -999.00,-999.000
318M20130321,       P02E,     158,          1,         13,         13,2,20130601,       0843,    32.6378,  -117.5233,       1173,   252.3,   8.2698,  34.1215,2,  34.1249,2,     73.5,2,    73.4,2,   41.99,2,   30.44,2,    0.01,2,    2.37,2,-999.000,9,-999.000,9,-999.000,9,-999.0000,9,  2237.3,2, 2272.51,2,   7.4228,2,       25,-999.000,9,-999.0000,9, -999.00,9, -999.00,9,  -999.0,9,  -999.0,-999.000,9,-999.000,     -999.0,9, -999.00,9, -999.00,9, -999.00,9,     -999.0,9,  -999.0,9, 20130601,      914,  32.6378,-117.5234,    34.2858,2,     -999.0,9,     -999.0,9,     8.2738,2,     -999.0,1,     -999.0,9,-999.0000, -999.00,-999.000
318M20130321,       P02E,     158,          1,         12,         12,2,20130601,       0843,    32.6378,  -117.5233,       1173,   301.8,   8.1174,  34.2294,2,  34.2372,2,       45,2,      43,2,   48.92,2,   32.26,2,    0.01,2,    2.63,2,   1.407,2,   0.728,2,-999.000,1,   0.2835,2,  2265.8,2, 2285.81,2,   7.3751,6,       25,-999.000,9,-999.0000,9, -999.00,9, -999.00,9,  -999.0,9,  -999.0,-999.000,9,-999.000,     -999.0,9, -999.00,9, -999.00,9, -999.00,9,     -999.0,1,  -999.0,9, 20130601,      912,  32.6378,-117.5233,    34.3987,2,     -999.0,9,     -999.0,9,     8.1103,2,     -999.0,1,     -999.0,9,-999.0000, -999.00,-999.000
318M20130321,       P02E,     158,          1,         11,         11,2,20130601,       0843,    32.6378,  -117.5233,       1173,   352.3,    7.657,   34.245,2,  34.2488,2,     35.4,2,    35.5,2,   53.99,2,   33.77,2,    0.01,2,    2.72,2,-999.000,9,-999.000,9,-999.000,9,-999.0000,9,  -999.0,9, -999.00,9,-999.0000,9,  -999.00,-999.000,9,-999.0000,9, -999.00,9, -999.00,9,  -999.0,9,  -999.0,-999.000,9,-999.000,     -999.0,9, -999.00,9, -999.00,9, -999.00,9,     -999.0,9,  -999.0,9, 20130601,      910,  32.6378,-117.5233,    34.4103,2,     -999.0,9,     -999.0,9,     7.6541,2,     -999.0,9,     -999.0,9,-999.0000, -999.00,-999.000
318M20130321,       P02E,     158,          1,         10,         10,2,20130601,       0843,    32.6378,  -117.5233,       1173,   402.6,   7.2316,  34.2613,2,  34.2574,2,     27.6,2,    29.1,2,   59.95,2,   35.49,2,    0.01,2,    2.84,2,   0.854,2,   0.426,2,-999.000,1,   0.1601,2,  2287.3,2, 2296.42,6,   7.3404,2,       25,-999.000,9,-999.0000,9, -999.00,9, -999.00,9,  -999.0,9,  -999.0,-999.000,9,-999.000,     -999.0,9, -999.00,9, -999.00,9, -999.00,9,     -999.0,1,  -999.0,9, 20130601,      908,  32.6379,-117.5233,     34.419,2,     -999.0,9,     -999.0,9,     7.2313,2,     -999.0,1,     -999.0,9,-999.0000, -999.00,-999.000
318M20130321,       P02E,     158,          1,          9,          9,2,20130601,       0843,    32.6378,  -117.5233,       1173,     453,    6.835,  34.2728,2,  34.2731,2,     22.8,2,    22.5,2,   65.12,2,   36.75,2,       0,2,    2.93,2,-999.000,9,-999.000,9,-999.000,9,-999.0000,9,  -999.0,9, -999.00,9,-999.0000,9,  -999.00,-999.000,9,-999.0000,9, -999.00,9, -999.00,9,  -999.0,9,  -999.0,-999.000,9,-999.000,     -999.0,9, -999.00,9, -999.00,9, -999.00,9,     -999.0,9,  -999.0,9, 20130601,      906,  32.6378,-117.5233,    34.4347,2,     -999.0,9,     -999.0,9,     6.8342,2,     -999.0,9,     -999.0,9,-999.0000, -999.00,-999.000
318M20130321,       P02E,     158,          1,          8,          8,2,20130601,       0843,    32.6378,  -117.5233,       1173,   502.6,   6.6239,  34.3071,2,  34.3057,2,     17.9,2,    16.9,2,   69.42,2,   37.59,2,       0,2,       3,2,   0.431,2,   0.220,2,-999.000,1,   0.0835,2,  2306.2,2, 2309.32,2,   7.3201,2,       25,-999.000,9,-999.0000,9, -999.00,9, -999.00,9,  -999.0,9,  -999.0,-999.000,9,-999.000,     -999.0,9, -999.00,9, -999.00,9, -999.00,9,     -999.0,1,  -999.0,9, 20130601,      903,  32.6378,-117.5233,    34.4675,2,     -999.0,9,     -999.0,9,     6.6244,2,     -999.0,1,     -999.0,9,-999.0000, -999.00,-999.000
318M20130321,       P02E,     158,          1,          7,          7,2,20130601,       0843,    32.6378,  -117.5233,       1173,   602.8,   5.8882,  34.3218,2,  34.3208,2,     13.2,2,    12.8,2,   79.96,2,   39.82,2,       0,2,    3.12,2,-999.000,9,-999.000,9,-999.000,9,-999.0000,9,  2320.9,2, 2320.62,2,     7.31,2,       25,-999.000,9,-999.0000,9, -999.00,9, -999.00,9,  -999.0,9,  -999.0,-999.000,9,-999.000,     -999.0,9, -999.00,9, -999.00,9, -999.00,9,     -999.0,1,  -999.0,9, 20130601,      900,  32.6378,-117.5233,    34.4826,2,     -999.0,9,     -999.0,9,     5.8912,2,     -999.0,1,     -999.0,9,-999.0000, -999.00,-999.000
318M20130321,       P02E,     158,          1,          6,          6,2,20130601,       0843,    32.6378,  -117.5233,       1173,   704.8,   5.4103,  34.3669,2,  34.3665,2,     11.5,2,    10.6,2,   89.33,2,   41.11,2,       0,2,    3.18,2,   0.110,2,   0.055,2,-999.000,1,   0.0721,2,  -999.0,9, -999.00,9,-999.0000,9,  -999.00,-999.000,9,-999.0000,9, -999.00,9, -999.00,9,  -999.0,9,  -999.0,-999.000,9,-999.000,     -999.0,9, -999.00,9, -999.00,9, -999.00,9,     -999.0,1,  -999.0,9, 20130601,      857,  32.6378,-117.5233,    34.5286,2,     -999.0,9,     -999.0,9,     5.4106,2,     -999.0,9,     -999.0,9,-999.0000, -999.00,-999.000
318M20130321,       P02E,     158,          1,          5,         37,2,20130601,       0843,    32.6378,  -117.5233,       1173,   806.3,    4.994,  34.4097,2,  34.4097,2,     12.1,2,    12.1,2,   97.53,2,      42,2,       0,2,    3.21,2,-999.000,9,-999.000,9,-999.000,9,-999.0000,9,  2342.7,2, 2344.93,2,   7.3161,2,       25,-999.000,9,-999.0000,9, -999.00,9, -999.00,9,  -999.0,9,  -999.0,-999.000,9,-999.000,     -999.0,9, -999.00,9, -999.00,9, -999.00,9,     -999.0,1,  -999.0,9, 20130601,      854,  32.6378,-117.5233,     34.572,2,     -999.0,9,     -999.0,9,      4.994,2,     -999.0,1,     -999.0,9,-999.0000, -999.00,-999.000
318M20130321,       P02E,     158,          1,          4,          4,2,20130601,       0843,    32.6378,  -117.5233,       1173,   906.8,   4.5899,  34.4418,2,  34.4423,2,     15.3,2,    15.5,2,  106.02,2,   42.54,2,       0,2,    3.22,2,   0.041,2,   0.031,2,-999.000,1,   0.0621,2,  -999.0,9, -999.00,9,-999.0000,9,  -999.00,-999.000,9,-999.0000,9, -999.00,9, -999.00,9,  -999.0,9,  -999.0,-999.000,9,-999.000,     -999.0,9, -999.00,9, -999.00,9, -999.00,9,     -999.0,9,  -999.0,9, 20130601,      851,  32.6378,-117.5233,    34.6047,2,     -999.0,9,     -999.0,9,     4.5917,2,     -999.0,9,     -999.0,9,-999.0000, -999.00,-999.000
318M20130321,       P02E,     158,          1,          3,          3,2,20130601,       0843,    32.6378,  -117.5233,       1173,  1007.5,   4.2164,  34.4723,2,  34.4716,2,     20.4,2,    20.3,2,  113.73,2,   42.73,2,       0,2,    3.23,2,-999.000,9,-999.000,9,-999.000,9,-999.0000,9,  2358.6,2, 2366.24,2,   7.3342,2,       25,-999.000,9,-999.0000,9, -999.00,9, -999.00,9,  -999.0,9,  -999.0,-999.000,9,-999.000,     -999.0,9, -999.00,9, -999.00,9, -999.00,9,     -999.0,1,  -999.0,9, 20130601,      848,  32.6378,-117.5233,    34.6341,2,     -999.0,9,     -999.0,9,     4.2159,2,     -999.0,1,     -999.0,9,-999.0000, -999.00,-999.000
318M20130321,       P02E,     158,          1,          2,          2,2,20130601,       0843,    32.6378,  -117.5233,       1173,  1170.1,   3.7611,  34.5068,2,  34.5069,2,     27.9,2,    27.5,2,  125.05,2,   42.64,2,       0,2,    3.21,2,   0.070,2,   0.062,2,-999.000,1,        0,2,  2367.6,6, 2378.54,2,   7.3448,2,       25,-999.000,9,-999.0000,9, -999.00,9, -999.00,9,  -999.0,9,  -999.0,-999.000,9,-999.000,     -999.0,9, -999.00,9, -999.00,9, -999.00,9,     -999.0,1,  -999.0,9, 20130601,      843,  32.6378,-117.5233,    34.6696,2,     -999.0,9,     -999.0,9,     3.7592,2,     -999.0,1,     -999.0,9,-999.0000, -999.00,-999.000