BOTTLE,20220817CCHSIOAMB
EXPOCODE,SECT_ID,STNNBR,CASTNO,SAMPNO,BTLNBR,BTLNBR_FLAG_W,DATE,TIME,LATITUDE,LONGITUDE,DEPTH,CTDPRS,CTDTMP,CTDSAL,CTDSAL_FLAG_W,SALNTY,SALNTY_FLAG_W,CTDOXY,CTDOXY_FLAG_W,OXYGEN,OXYGEN_FLAG_W,SILCAT,SILCAT_FLAG_W,NITRAT,NITRAT_FLAG_W,NITRIT,NITRIT_FLAG_W,PHSPHT,PHSPHT_FLAG_W,CFC-11,CFC-11_FLAG_W,CFC-12,CFC-12_FLAG_W,CFC113,CFC113_FLAG_W,SF6,SF6_FLAG_W,TCARBN,TCARBN_FLAG_W,ALKALI,ALKALI_FLAG_W,PH_TOT,PH_TOT_FLAG_W,PH_TMP,TRITUM,TRITUM_FLAG_W,HELIUM,HELIUM_FLAG_W,DELHE3,DELHE3_FLAG_W,DELC13,DELC13_FLAG_W,DELC14,DELC14_FLAG_W,C14ERR,NEON,NEON_FLAG_W,NEONER,I-129,I-129_FLAG_W,SR-90,SR-90_FLAG_W,DOC,DOC_FLAG_W,TDN,TDN_FLAG_W,CALCIUM,CALCIUM_FLAG_W,D15N_NO3,D15N_NO3_FLAG_W,BTL_DATE,BTL_TIME,BTL_LAT,BTL_LON,SALTREF,SALTREF_FLAG_W,CS-137,CS-137_FLAG_W,CS-134,CS-134_FLAG_W,REFTMP,REFTMP_FLAG_W,LAB_DEN,LAB_DEN_FLAG_W,D18O_NO3,D18O_NO3_FLAG_W,HELIER,DELHER,TRITER
,,,,,,,,,,,METERS,DBAR,ITS-90,PSS-78,,PSS-78,,UMOL/KG,,UMOL/KG,,UMOL/KG,,UMOL/KG,,UMOL/KG,,UMOL/KG,,PMOL/KG,,PMOL/KG,,PMOL/KG,,FMOL/KG,,UMOL/KG,,UMOL/KG,,,,DEG C,TU,,NMOL/KG,,PERCNT,,/MILLE,,/MILLE,,/MILLE,NMOL/KG,,NMOL/KG,BQ/M^3,,DM/.1MG,,UMOL/KG,,UMOL/KG,,MMOL/KG,,/MILLE,,,,,,G/KG,,BQ/M^3,,BQ/M^3,,ITS-90,,,,/MILLE,,NMOL/KG,PERCNT,TU
318M20130321,       P02E,     110,          1,          6,          6,2,20130519,       1121,    29.9996,  -147.1905,       4999,  3548.7,   1.4769,  34.6788,2,  34.6777,2,    134.8,2,     135,2,  164.66,2,   37.23,2,       0,2,     2.6,2,   0.004,2,   0.003,2,-999.000,1,        0,2,  -999.0,9, -999.00,9,-999.0000,9,  -999.00,-999.000,9,-999.0000,9, -999.00,9, -999.00,9,  -999.0,9,  -999.0,-999.000,9,-999.000,     -999.0,9, -999.00,9, -999.00,9, -999.00,9,     -999.0,9,  -999.0,9, 20130519,     1155,  30.0004,-147.1897,    34.8412,2,     -999.0,9,     -999.0,9,     1.4774,2,     -999.0,9,     -999.0,9,-999.0000, -999.00,-999.000
318M20130321,       P02E,     110,          1,          5,         37,2,20130519,       1121,    29.9996,  -147.1905,       4999,    3920,   1.4654,  34.6842,2,  34.6834,2,    143.4,2,     143,2,  161.05,2,   36.66,2,       0,2,    2.55,2,-999.000,9,-999.000,9,-999.000,9,-999.0000,9,  2333.7,2, 2426.36,6,   7.5637,2,       25,-999.000,9,-999.0000,9, -999.00,9, -999.00,9,  -999.0,9,  -999.0,-999.000,9,-999.000,     -999.0,9, -999.00,9, -999.00,9, -999.00,9,     -999.0,9,  -999.0,9, 20130519,     1147,  30.0008,-147.1895,    34.8469,2,     -999.0,9,     -999.0,9,     1.4653,2,     -999.0,9,     -999.0,9,-999.0000, -999.00,-999.000
318M20130321,       P02E,     110,          1,          4,          4,2,20130519,       1121,    29.9996,  -147.1905,       4999,  4330.8,   1.4799,  34.6879,2,  34.6859,2,    149.9,2,   149.7,2,  156.27,2,   36.26,2,       0,2,    2.52,2,   0.004,2,   0.002,2,-999.000,1,        0,2,  -999.0,9, -999.00,9,-999.0000,9,  -999.00,-999.000,9,-999.0000,9, -999.00,9, -999.00,9,  -999.0,9,  -999.0,-999.000,9,-999.000,     -999.0,9, -999.00,9, -999.00,9, -999.00,9,     -999.0,9,  -999.0,9, 20130519,     1137,  30.0006,-147.1898,    34.8495,2,     -999.0,9,     -999.0,9,     1.4799,2,     -999.0,9,     -999.0,9,-999.0000, -999.00,-999.000
318M20130321,       P02E,     110,          1,          3,          3,2,20130519,       1121,    29.9996,  -147.1905,       4999,    4727,   1.5046,  34.6893,2,  34.6889,2,    153.6,2,   154.8,2,  151.29,2,   35.89,2,       0,2,    2.48,2,   0.009,2,   0.006,2,-999.000,1,        0,2,    2323,2, 2419.66,2,   7.5782,2,       25,-999.000,9,-999.0000,9, -999.00,9, -999.00,9,  -999.0,9,  -999.0,-999.000,9,-999.000,     -999.0,9, -999.00,9, -999.00,9, -999.00,9,     -999.0,9,  -999.0,9, 20130519,     1129,  30.0002,-147.1898,    34.8525,2,     -999.0,9,     -999.0,9,     1.5045,2,     -999.0,9,     -999.0,9,-999.0000, -999.00,-999.000
318M20130321,       P02E,     110,          1,          2,          2,2,20130519,       1121,    29.9996,  -147.1905,       4999,  5067.2,   1.5413,  34.6896,2,  34.6897,2,      157,2,   156.3,2,  149.83,2,   35.78,2,       0,2,     2.5,2,   0.006,2,   0.006,2,-999.000,1,        0,2,  2322.9,6, 2421.06,2,   7.5803,2,       25,-999.000,9,-999.0000,9, -999.00,9, -999.00,9,  -999.0,9,  -999.0,-999.000,9,-999.000,     -999.0,9, -999.00,9, -999.00,9, -999.00,9,     -999.0,9,  -999.0,9, 20130519,     1120,  29.9996,-147.1905,    34.8532,2,     -999.0,9,     -999.0,9,     1.5409,2,     -999.0,9,     -999.0,9,-999.0000, -999.00,-999.000