BOTTLE,20220817CCHSIOAMB
EXPOCODE,SECT_ID,STNNBR,CASTNO,SAMPNO,BTLNBR,BTLNBR_FLAG_W,DATE,TIME,LATITUDE,LONGITUDE,DEPTH,CTDPRS,CTDTMP,CTDSAL,CTDSAL_FLAG_W,SALNTY,SALNTY_FLAG_W,CTDOXY,CTDOXY_FLAG_W,OXYGEN,OXYGEN_FLAG_W,SILCAT,SILCAT_FLAG_W,NITRAT,NITRAT_FLAG_W,NITRIT,NITRIT_FLAG_W,PHSPHT,PHSPHT_FLAG_W,CFC-11,CFC-11_FLAG_W,CFC-12,CFC-12_FLAG_W,CFC113,CFC113_FLAG_W,SF6,SF6_FLAG_W,TCARBN,TCARBN_FLAG_W,ALKALI,ALKALI_FLAG_W,PH_TOT,PH_TOT_FLAG_W,PH_TMP,TRITUM,TRITUM_FLAG_W,HELIUM,HELIUM_FLAG_W,DELHE3,DELHE3_FLAG_W,DELC13,DELC13_FLAG_W,DELC14,DELC14_FLAG_W,C14ERR,NEON,NEON_FLAG_W,NEONER,I-129,I-129_FLAG_W,SR-90,SR-90_FLAG_W,DOC,DOC_FLAG_W,TDN,TDN_FLAG_W,CALCIUM,CALCIUM_FLAG_W,D15N_NO3,D15N_NO3_FLAG_W,BTL_DATE,BTL_TIME,BTL_LAT,BTL_LON,SALTREF,SALTREF_FLAG_W,CS-137,CS-137_FLAG_W,CS-134,CS-134_FLAG_W,REFTMP,REFTMP_FLAG_W,LAB_DEN,LAB_DEN_FLAG_W,D18O_NO3,D18O_NO3_FLAG_W,HELIER,DELHER,TRITER
,,,,,,,,,,,METERS,DBAR,ITS-90,PSS-78,,PSS-78,,UMOL/KG,,UMOL/KG,,UMOL/KG,,UMOL/KG,,UMOL/KG,,UMOL/KG,,PMOL/KG,,PMOL/KG,,PMOL/KG,,FMOL/KG,,UMOL/KG,,UMOL/KG,,,,DEG C,TU,,NMOL/KG,,PERCNT,,/MILLE,,/MILLE,,/MILLE,NMOL/KG,,NMOL/KG,BQ/M^3,,DM/.1MG,,UMOL/KG,,UMOL/KG,,MMOL/KG,,/MILLE,,,,,,G/KG,,BQ/M^3,,BQ/M^3,,ITS-90,,,,/MILLE,,NMOL/KG,PERCNT,TU
318M20130321,       P02E,     114,          1,         36,         36,2,20130520,       1745,    29.9999,  -144.1177,       5174,     4.2,  20.7451,   34.988,2,  34.9894,2,    228.7,2,   228.5,2,    2.63,2,       0,2,       0,2,    0.06,2,   1.989,2,   1.215,2,-999.000,1,   1.3884,2,  2028.9,2, 2300.12,2,    7.998,2,       25,   0.552,2,   1.7323,2,   -0.95,2, -999.00,9,  -999.0,9,  -999.0,   7.061,2,   0.032,     -999.0,9, -999.00,9, -999.00,9, -999.00,9,     -999.0,9,  -999.0,1, 20130520,     1952,       30, -144.118,    35.1544,2,     -999.0,9,     -999.0,9,    20.7478,2,     -999.0,9,     -999.0,1,   0.0073,    0.15,   0.011
318M20130321,       P02E,     114,          1,         34,         34,2,20130520,       1745,    29.9999,  -144.1177,       5174,    49.9,  19.4288,  34.7942,2,   34.801,2,    233.7,2,   236.9,2,    2.93,2,       0,2,       0,2,    0.01,2,   2.100,2,   1.280,2,-999.000,1,   1.4594,2,    2019,2, 2287.71,2,   7.9966,6,       25,   0.557,2,   1.7382,2,   -1.24,2, -999.00,9,  -999.0,9,  -999.0,   7.034,2,   0.032,     -999.0,9, -999.00,9, -999.00,9, -999.00,9,     -999.0,9,  -999.0,1, 20130520,     1949,  30.0002,-144.1181,    34.9651,2,     -999.0,9,     -999.0,9,    19.4303,2,     -999.0,9,     -999.0,1,   0.0073,    0.15,   0.011
318M20130321,       P02E,     114,          1,         33,         33,2,20130520,       1745,    29.9999,  -144.1177,       5174,    74.8,  18.9411,  34.8093,2,  34.8096,2,    235.6,2,   235.1,2,    2.83,2,       0,2,       0,2,    0.01,2,   2.103,2,   1.278,2,-999.000,1,   1.4399,2,  -999.0,9, 2287.01,2,-999.0000,9,  -999.00,-999.000,9,-999.0000,9, -999.00,9, -999.00,9,  -999.0,9,  -999.0,-999.000,9,-999.000,     -999.0,9, -999.00,9, -999.00,9, -999.00,9,     -999.0,9,  -999.0,1, 20130520,     1947,  30.0002,-144.1181,    34.9738,2,     -999.0,9,     -999.0,9,    18.9446,2,     -999.0,9,     -999.0,1,-999.0000, -999.00,-999.000
318M20130321,       P02E,     114,          1,         32,         32,2,20130520,       1745,    29.9999,  -144.1177,       5174,   100.2,   18.923,  34.8654,2,  34.8651,2,    232.3,2,   233.5,2,    2.83,2,       0,2,       0,2,    0.02,2,   2.091,2,   1.267,2,-999.000,1,   1.5219,2,  2023.2,2, 2291.11,6,   7.9957,2,       25,   0.562,2,   1.7534,2,   -1.21,2, -999.00,9,  -999.0,9,  -999.0,   7.164,2,   0.033,     -999.0,9, -999.00,9, -999.00,9, -999.00,9,     -999.0,9,  -999.0,1, 20130520,     1946,  30.0001,-144.1182,    35.0295,2,     -999.0,9,     -999.0,9,    18.9234,2,     -999.0,9,     -999.0,1,   0.0074,    0.15,   0.011
318M20130321,       P02E,     114,          1,         31,         31,2,20130520,       1745,    29.9999,  -144.1177,       5174,   151.2,  16.8673,  34.6059,2,  34.6225,3,    232.4,2,   227.8,2,    3.51,2,    0.62,2,    0.14,2,    0.14,2,   2.318,2,   1.384,2,-999.000,1,    1.434,2,    2041,2, 2278.61,2,   7.9436,2,       25,-999.000,9,-999.0000,9, -999.00,9, -999.00,9,  -999.0,9,  -999.0,-999.000,9,-999.000,     -999.0,9, -999.00,9, -999.00,9, -999.00,9,     -999.0,9,  -999.0,1, 20130520,     1944,       30,-144.1182,    34.7858,3,     -999.0,9,     -999.0,9,     16.917,3,     -999.0,9,     -999.0,1,-999.0000, -999.00,-999.000
318M20130321,       P02E,     114,          1,         30,         30,2,20130520,       1745,    29.9999,  -144.1177,       5174,   200.1,  13.5052,  34.1764,2,  34.1772,2,    226.4,2,   226.4,2,    6.64,2,    5.64,2,    0.02,2,    0.45,2,   2.753,2,   1.603,2,-999.000,1,   1.5881,2,  2057.6,2,  2251.2,2,   7.8625,2,       25,-999.000,9,   1.7735,2,   -0.98,2, -999.00,9,  -999.0,9,  -999.0,   7.322,2,   0.034,     -999.0,9, -999.00,9, -999.00,9, -999.00,9,     -999.0,9,  -999.0,1, 20130520,     1942,  29.9999,-144.1182,    34.3384,2,     -999.0,9,     -999.0,9,    13.5063,2,     -999.0,9,     -999.0,1,   0.0074,    0.15,-999.000
318M20130321,       P02E,     114,          1,         29,         29,2,20130520,       1745,    29.9999,  -144.1177,       5174,   250.8,  11.8746,  34.1876,2,  34.1874,2,    218.8,2,   219.3,2,   10.74,2,   10.56,2,    0.01,2,    0.75,2,   2.962,2,   1.698,2,-999.000,1,   1.5972,2,  2085.1,2,    2255,2,   7.8056,6,       25,-999.000,9,-999.0000,9, -999.00,9, -999.00,9,  -999.0,9,  -999.0,-999.000,9,-999.000,     -999.0,9, -999.00,9, -999.00,9, -999.00,9,     -999.0,9,  -999.0,1, 20130520,     1940,  29.9998,-144.1182,    34.3486,2,     -999.0,9,     -999.0,9,    11.8754,2,     -999.0,9,     -999.0,1,-999.0000, -999.00,-999.000
318M20130321,       P02E,     114,          1,         28,         28,2,20130520,       1745,    29.9999,  -144.1177,       5174,   301.5,  10.9758,  34.1662,2,  34.1647,2,    221.1,2,   220.4,2,   13.67,2,   12.56,2,    0.01,2,    0.88,2,   3.075,2,   1.734,2,-999.000,1,   1.4437,2,  2098.2,2,  2256.4,2,   7.7837,2,       25,   0.526,2,   1.7949,2,    0.48,2, -999.00,9,  -999.0,9,  -999.0,   7.567,2,   0.035,     -999.0,9, -999.00,9, -999.00,9, -999.00,9,     -999.0,9,  -999.0,1, 20130520,     1938,  29.9998,-144.1182,    34.3258,2,     -999.0,9,     -999.0,9,    10.9733,2,     -999.0,9,     -999.0,1,   0.0075,    0.15,   0.006
318M20130321,       P02E,     114,          1,         27,         27,2,20130520,       1745,    29.9999,  -144.1177,       5174,   350.7,  10.1543,   34.108,2,  34.1083,2,    209.7,2,   210.4,2,   17.09,2,      15,2,       0,2,    1.05,2,   3.176,6,   1.756,6,-999.000,1,   1.3299,6,  -999.0,9,  2256.3,2,-999.0000,9,  -999.00,-999.000,9,-999.0000,9, -999.00,9, -999.00,9,  -999.0,9,  -999.0,-999.000,9,-999.000,     -999.0,9, -999.00,9, -999.00,9, -999.00,9,     -999.0,9,  -999.0,1, 20130520,     1936,  29.9999,-144.1181,    34.2691,2,     -999.0,9,     -999.0,9,    10.1542,2,     -999.0,9,     -999.0,1,-999.0000, -999.00,-999.000
318M20130321,       P02E,     114,          1,         26,         26,2,20130520,       1745,    29.9999,  -144.1177,       5174,   402.4,   9.1502,  34.0688,2,  34.0681,2,    198.4,2,   196.1,2,   23.92,2,   18.68,2,       0,2,    1.31,2,   3.184,2,   1.732,2,-999.000,1,   1.1594,2,  2136.2,2,  2261.5,2,   7.6958,2,       25,   0.516,2,   1.8016,2,    3.18,2, -999.00,9,  -999.0,9,  -999.0,   7.734,2,   0.036,     -999.0,9, -999.00,9, -999.00,9, -999.00,9,     -999.0,9,  -999.0,1, 20130520,     1935,  29.9999,-144.1181,    34.2287,2,     -999.0,9,     -999.0,9,     9.1479,2,     -999.0,9,     -999.0,1,   0.0076,    0.15,   0.006
318M20130321,       P02E,     114,          1,         25,         25,2,20130520,       1745,    29.9999,  -144.1177,       5174,   504.4,   7.0887,  33.9942,2,  33.9925,2,    149.2,2,   145.5,2,   44.82,2,    27.6,2,       0,2,    1.94,2,   2.714,2,   1.397,2,-999.000,1,   0.8049,2,    2199,2, 2274.41,2,   7.5526,2,       25,   0.458,2,   1.8277,2,    9.24,2, -999.00,9,  -999.0,9,  -999.0,   7.764,2,   0.036,     -999.0,9, -999.00,9, -999.00,9, -999.00,9,     -999.0,9,  -999.0,1, 20130520,     1932,       30,-144.1179,    34.1528,2,     -999.0,9,     -999.0,9,     7.0831,2,     -999.0,9,     -999.0,1,   0.0077,    0.15,   0.006
318M20130321,       P02E,     114,          1,         24,         24,2,20130520,       1745,    29.9999,  -144.1177,       5174,   605.5,   5.4936,  34.0152,2,  34.0134,2,     84.4,2,      79,2,   70.21,2,   36.45,2,       0,2,    2.61,2,   1.668,2,   0.820,2,-999.000,1,   0.3698,2,  2269.3,2, 2292.31,2,   7.3911,2,       25,   0.356,2,   1.8636,2,   14.60,2, -999.00,9,  -999.0,9,  -999.0,   8.061,2,   0.037,     -999.0,9, -999.00,9, -999.00,9, -999.00,9,     -999.0,9,  -999.0,1, 20130520,     1929,  30.0002, -144.118,    34.1738,2,     -999.0,9,     -999.0,9,     5.4854,2,     -999.0,9,     -999.0,1,   0.0078,    0.15,   0.007
318M20130321,       P02E,     114,          1,         23,         23,2,20130520,       1745,    29.9999,  -144.1177,       5174,   705.2,   4.7784,  34.1463,2,  34.1457,2,     40.9,2,    31.5,2,    91.4,2,   41.36,2,       0,2,    3.01,2,   0.518,2,   0.248,2,-999.000,1,   0.1066,2,    2321,2, 2316.62,2,   7.3041,2,       25,-999.000,9,-999.0000,9, -999.00,9, -999.00,9,  -999.0,9,  -999.0,-999.000,9,-999.000,     -999.0,9, -999.00,9, -999.00,9, -999.00,9,     -999.0,9,  -999.0,1, 20130520,     1926,  30.0004,-144.1181,    34.3068,2,     -999.0,9,     -999.0,9,     4.7776,2,     -999.0,9,     -999.0,1,-999.0000, -999.00,-999.000
318M20130321,       P02E,     114,          1,         22,         22,2,20130520,       1745,    29.9999,  -144.1177,       5174,   803.8,   4.3303,  34.2376,2,  34.2361,2,     19.5,2,    16.6,2,  104.86,2,   43.04,2,       0,2,    3.13,2,   0.145,2,   0.075,2,-999.000,1,   0.0917,2,  2343.6,2, 2335.43,2,   7.2873,2,       25,   0.087,2,   1.8605,2,   15.71,2, -999.00,9,  -999.0,9,  -999.0,   7.997,2,   0.037,     -999.0,9, -999.00,9, -999.00,9, -999.00,9,     -999.0,9,  -999.0,1, 20130520,     1923,  30.0003, -144.118,    34.3976,2,     -999.0,9,     -999.0,9,     4.3307,2,     -999.0,9,     -999.0,1,   0.0078,    0.15,   0.005
318M20130321,       P02E,     114,          1,         21,         21,2,20130520,       1745,    29.9999,  -144.1177,       5174,   907.6,   4.0156,   34.332,2,  34.3297,2,     12.8,2,    13.5,2,  115.21,2,   43.65,2,       0,2,    3.19,2,   0.038,2,   0.022,2,-999.000,1,   0.0406,2,  -999.0,9, -999.00,9,   7.2933,2,       25,   0.020,2,-999.0000,9, -999.00,9, -999.00,9,  -999.0,9,  -999.0,-999.000,9,-999.000,     -999.0,9, -999.00,9, -999.00,9, -999.00,9,     -999.0,9,  -999.0,1, 20130520,     1921,       30,-144.1176,    34.4916,2,     -999.0,9,     -999.0,9,     4.0174,2,     -999.0,9,     -999.0,1,-999.0000, -999.00,   0.005
318M20130321,       P02E,     114,          1,         20,         20,2,20130520,       1745,    29.9999,  -144.1177,       5174,    1007,   3.7928,  34.4001,2,  34.3994,2,     18.1,2,    19.3,2,  120.57,2,   43.67,2,       0,2,    3.19,2,   0.018,2,   0.012,2,-999.000,1,        0,2,  2364.4,2, 2363.94,2,   7.3137,2,       25,   0.011,2,   1.9274,2,   16.81,2, -999.00,9,  -999.0,9,  -999.0,   8.235,2,   0.038,     -999.0,9, -999.00,9, -999.00,9, -999.00,9,     -999.0,9,  -999.0,1, 20130520,     1918,  29.9997,-144.1175,    34.5616,2,     -999.0,9,     -999.0,9,     3.7927,2,     -999.0,9,     -999.0,1,   0.0081,    0.15,   0.005
318M20130321,       P02E,     114,          1,         19,         19,2,20130520,       1745,    29.9999,  -144.1177,       5174,  1109.5,   3.5473,  34.4493,2,  34.4479,2,     24.2,2,    26.8,2,  125.93,2,   43.44,2,       0,2,    3.13,2,   0.010,2,   0.006,2,-999.000,1,        0,2,  -999.0,9, -999.00,9,-999.0000,9,  -999.00,-999.000,9,-999.0000,9, -999.00,9, -999.00,9,  -999.0,9,  -999.0,-999.000,9,-999.000,     -999.0,9, -999.00,9, -999.00,9, -999.00,9,     -999.0,9,  -999.0,1, 20130520,     1915,  29.9997,-144.1179,    34.6103,2,     -999.0,9,     -999.0,9,     3.5471,2,     -999.0,9,     -999.0,1,-999.0000, -999.00,-999.000
318M20130321,       P02E,     114,          1,         18,         18,2,20130520,       1745,    29.9999,  -144.1177,       5174,  1210.6,   3.3311,  34.4845,2,  34.4858,2,     32.5,2,    34.1,2,   131.2,2,    43.2,2,       0,2,    3.12,2,   0.008,2,   0.007,2,-999.000,1,        0,2,  2368.6,2, 2380.95,2,   7.3502,2,       25,-999.000,9,   1.8852,2,   20.51,2, -999.00,9,  -999.0,9,  -999.0,   7.994,2,   0.037,     -999.0,9, -999.00,9, -999.00,9, -999.00,9,     -999.0,9,  -999.0,1, 20130520,     1912,  29.9997, -144.118,    34.6484,2,     -999.0,9,     -999.0,9,     3.3293,2,     -999.0,9,     -999.0,1,   0.0079,    0.15,-999.000
318M20130321,       P02E,     114,          1,         17,         17,2,20130520,       1745,    29.9999,  -144.1177,       5174,  1309.4,   3.1031,  34.5164,2,  34.5145,2,       41,2,    42.3,2,  135.59,2,   42.84,2,       0,2,    3.08,2,   0.006,2,   0.006,2,-999.000,1,        0,2,  -999.0,9, -999.00,9,-999.0000,9,  -999.00,   0.007,2,   1.8977,2,   21.08,2, -999.00,9,  -999.0,9,  -999.0,   8.065,2,   0.037,     -999.0,9, -999.00,9, -999.00,9, -999.00,9,     -999.0,9,  -999.0,1, 20130520,     1909,  29.9998,-144.1179,    34.6772,2,     -999.0,9,     -999.0,9,     3.1065,2,     -999.0,9,     -999.0,1,   0.0080,    0.15,   0.005
318M20130321,       P02E,     114,          1,         16,         16,2,20130520,       1745,    29.9999,  -144.1177,       5174,  1512.3,   2.7662,  34.5533,2,   34.553,2,     53.5,2,    55.1,2,  143.69,2,   42.19,2,       0,2,    3.04,2,   0.005,2,   0.005,2,-999.000,1,        0,2,  2369.7,2, 2396.85,2,   7.3932,2,       25,   0.007,2,   1.9209,2,   21.92,2, -999.00,9,  -999.0,9,  -999.0,   8.205,2,   0.038,     -999.0,9, -999.00,9, -999.00,9, -999.00,9,     -999.0,9,  -999.0,1, 20130520,     1905,  29.9999,-144.1177,    34.7159,2,     -999.0,9,     -999.0,9,      2.765,2,     -999.0,9,     -999.0,1,   0.0081,    0.15,   0.005
318M20130321,       P02E,     114,          1,         15,         15,2,20130520,       1745,    29.9999,  -144.1177,       5174,  1714.3,   2.4423,  34.5807,2,  34.5803,2,     63.3,2,    63.9,2,  152.28,2,   41.71,2,       0,2,    2.97,2,   0.007,2,   0.004,2,-999.000,1,        0,2,  -999.0,9, -999.00,9,-999.0000,9,  -999.00,   0.002,2,   1.9143,2,   22.16,2, -999.00,9,  -999.0,9,  -999.0,   8.201,2,   0.038,     -999.0,9, -999.00,9, -999.00,9, -999.00,9,     -999.0,9,  -999.0,1, 20130520,     1901,       30,-144.1176,    34.7433,2,     -999.0,9,     -999.0,9,     2.4424,2,     -999.0,9,     -999.0,1,   0.0080,    0.15,   0.005
318M20130321,       P02E,     114,          1,         14,         14,2,20130520,       1745,    29.9999,  -144.1177,       5174,  1917.9,   2.2092,  34.6013,2,  34.6011,2,     72.4,2,    71.8,2,  158.43,2,   41.17,2,       0,2,    2.92,2,   0.006,2,   0.002,2,-999.000,1,        0,2,  2374.5,2, 2412.56,2,   7.4278,2,       25,   0.004,2,   1.8966,2,   22.83,2, -999.00,9,  -999.0,9,  -999.0,   8.143,2,   0.037,     -999.0,9, -999.00,9, -999.00,9, -999.00,9,     -999.0,9,  -999.0,1, 20130520,     1856,  29.9998,-144.1175,    34.7643,2,     -999.0,9,     -999.0,9,     2.2108,2,     -999.0,9,     -999.0,1,   0.0080,    0.15,   0.005
318M20130321,       P02E,     114,          1,         13,         13,2,20130520,       1745,    29.9999,  -144.1177,       5174,  2221.7,   1.9102,   34.628,2,  34.6272,2,     85.8,2,    85.3,2,  166.72,2,   40.33,2,       0,2,    2.83,2,   0.006,2,   0.004,2,-999.000,1,        0,2,  2371.4,2, 2419.16,2,   7.4542,2,       25,-999.000,9,-999.0000,9, -999.00,9, -999.00,9,  -999.0,9,  -999.0,-999.000,9,-999.000,     -999.0,9, -999.00,9, -999.00,9, -999.00,9,     -999.0,9,  -999.0,1, 20130520,     1850,  29.9999,-144.1178,    34.7905,2,     -999.0,9,     -999.0,9,       1.91,2,     -999.0,9,     -999.0,1,-999.0000, -999.00,-999.000
318M20130321,       P02E,     114,          1,         12,         12,2,20130520,       1745,    29.9999,  -144.1177,       5174,  2530.6,   1.7423,  34.6452,2,  34.6449,2,    100.4,2,      99,2,  168.86,2,   39.47,2,       0,2,    2.78,2,   0.006,2,   0.003,2,-999.000,1,        0,2,  -999.0,9, -999.00,9,-999.0000,9,  -999.00,-999.000,9,-999.0000,9, -999.00,9, -999.00,9,  -999.0,9,  -999.0,-999.000,9,-999.000,     -999.0,9, -999.00,9, -999.00,9, -999.00,9,     -999.0,9,  -999.0,1, 20130520,     1844,  29.9999,-144.1181,    34.8083,2,     -999.0,9,     -999.0,9,     1.7425,2,     -999.0,9,     -999.0,1,-999.0000, -999.00,-999.000
318M20130321,       P02E,     114,          1,         11,         11,2,20130520,       1745,    29.9999,  -144.1177,       5174,  2782.3,    1.638,  34.6561,2,  34.6558,2,    109.1,2,   108.9,2,  169.06,2,   38.89,2,       0,2,    2.74,2,   0.005,2,   0.003,2,-999.000,1,        0,2,  -999.0,9, -999.00,9,-999.0000,9,  -999.00,-999.000,9,-999.0000,9, -999.00,9, -999.00,9,  -999.0,9,  -999.0,-999.000,9,-999.000,     -999.0,9, -999.00,9, -999.00,9, -999.00,9,     -999.0,9,  -999.0,1, 20130520,     1838,  30.0001,-144.1183,    34.8192,2,     -999.0,9,     -999.0,9,     1.6382,2,     -999.0,9,     -999.0,1,-999.0000, -999.00,-999.000
318M20130321,       P02E,     114,          1,         10,         10,2,20130520,       1745,    29.9999,  -144.1177,       5174,  3038.3,   1.5604,  34.6651,2,  34.6646,2,    117.9,2,     118,2,  169.15,2,   38.36,2,       0,2,    2.68,2,   0.003,2,   0.002,2,-999.000,1,        0,2,  2355.8,2, 2426.16,2,   7.5145,6,       25,-999.000,9,-999.0000,9, -999.00,9, -999.00,9,  -999.0,9,  -999.0,-999.000,9,-999.000,     -999.0,9, -999.00,9, -999.00,9, -999.00,9,     -999.0,9,  -999.0,1, 20130520,     1832,       30, -144.118,    34.8281,2,     -999.0,9,     -999.0,9,     1.5605,2,     -999.0,9,     -999.0,1,-999.0000, -999.00,-999.000
318M20130321,       P02E,     114,          1,          9,          9,2,20130520,       1745,    29.9999,  -144.1177,       5174,  3342.4,   1.5043,  34.6736,2,  34.6725,2,    128.1,2,    -0.6,4,   167.1,2,   37.73,2,       0,2,    2.63,2,   0.003,2,   0.002,2,-999.000,1,        0,2,  -999.0,9, -999.00,9,-999.0000,9,  -999.00,-999.000,9,-999.0000,9, -999.00,9, -999.00,9,  -999.0,9,  -999.0,-999.000,9,-999.000,     -999.0,9, -999.00,9, -999.00,9, -999.00,9,     -999.0,9,  -999.0,1, 20130520,     1826,       30, -144.118,     34.836,2,     -999.0,9,     -999.0,9,     1.5039,2,     -999.0,9,     -999.0,1,-999.0000, -999.00,-999.000
318M20130321,       P02E,     114,          1,          8,          8,2,20130520,       1745,    29.9999,  -144.1177,       5174,  3650.8,   1.4815,  34.6793,2,  34.6782,2,    137.5,2,   136.7,2,  163.98,2,   37.18,2,       0,2,    2.58,2,   0.004,2,   0.003,2,-999.000,1,        0,2,  2341.6,2, 2427.06,2,   7.5491,2,       25,-999.000,9,-999.0000,9, -999.00,9, -999.00,9,  -999.0,9,  -999.0,-999.000,9,-999.000,     -999.0,9, -999.00,9, -999.00,9, -999.00,9,     -999.0,9,  -999.0,1, 20130520,     1820,  30.0001,-144.1178,    34.8417,2,     -999.0,9,     -999.0,9,     1.4818,2,     -999.0,9,     -999.0,1,-999.0000, -999.00,-999.000
318M20130321,       P02E,     114,          1,          7,          7,2,20130520,       1745,    29.9999,  -144.1177,       5174,    3883,   1.4756,  34.6827,2,  34.6814,2,    140.3,2,   140.7,2,   163.1,2,    36.9,2,       0,2,    2.53,2,   0.004,2,   0.003,2,-999.000,1,        0,2,  -999.0,9, -999.00,9,-999.0000,9,  -999.00,-999.000,9,-999.0000,9, -999.00,9, -999.00,9,  -999.0,9,  -999.0,-999.000,9,-999.000,     -999.0,9, -999.00,9, -999.00,9, -999.00,9,     -999.0,9,  -999.0,1, 20130520,     1814,  29.9999,-144.1175,    34.8449,2,     -999.0,9,     -999.0,9,     1.4755,2,     -999.0,9,     -999.0,1,-999.0000, -999.00,-999.000