BOTTLE,20220817CCHSIOAMB
EXPOCODE,SECT_ID,STNNBR,CASTNO,SAMPNO,BTLNBR,BTLNBR_FLAG_W,DATE,TIME,LATITUDE,LONGITUDE,DEPTH,CTDPRS,CTDTMP,CTDSAL,CTDSAL_FLAG_W,SALNTY,SALNTY_FLAG_W,CTDOXY,CTDOXY_FLAG_W,OXYGEN,OXYGEN_FLAG_W,SILCAT,SILCAT_FLAG_W,NITRAT,NITRAT_FLAG_W,NITRIT,NITRIT_FLAG_W,PHSPHT,PHSPHT_FLAG_W,CFC-11,CFC-11_FLAG_W,CFC-12,CFC-12_FLAG_W,CFC113,CFC113_FLAG_W,SF6,SF6_FLAG_W,TCARBN,TCARBN_FLAG_W,ALKALI,ALKALI_FLAG_W,PH_TOT,PH_TOT_FLAG_W,PH_TMP,TRITUM,TRITUM_FLAG_W,HELIUM,HELIUM_FLAG_W,DELHE3,DELHE3_FLAG_W,DELC13,DELC13_FLAG_W,DELC14,DELC14_FLAG_W,C14ERR,NEON,NEON_FLAG_W,NEONER,I-129,I-129_FLAG_W,SR-90,SR-90_FLAG_W,DOC,DOC_FLAG_W,TDN,TDN_FLAG_W,CALCIUM,CALCIUM_FLAG_W,D15N_NO3,D15N_NO3_FLAG_W,BTL_DATE,BTL_TIME,BTL_LAT,BTL_LON,SALTREF,SALTREF_FLAG_W,CS-137,CS-137_FLAG_W,CS-134,CS-134_FLAG_W,REFTMP,REFTMP_FLAG_W,LAB_DEN,LAB_DEN_FLAG_W,D18O_NO3,D18O_NO3_FLAG_W,HELIER,DELHER,TRITER
,,,,,,,,,,,METERS,DBAR,ITS-90,PSS-78,,PSS-78,,UMOL/KG,,UMOL/KG,,UMOL/KG,,UMOL/KG,,UMOL/KG,,UMOL/KG,,PMOL/KG,,PMOL/KG,,PMOL/KG,,FMOL/KG,,UMOL/KG,,UMOL/KG,,,,DEG C,TU,,NMOL/KG,,PERCNT,,/MILLE,,/MILLE,,/MILLE,NMOL/KG,,NMOL/KG,BQ/M^3,,DM/.1MG,,UMOL/KG,,UMOL/KG,,MMOL/KG,,/MILLE,,,,,,G/KG,,BQ/M^3,,BQ/M^3,,ITS-90,,,,/MILLE,,NMOL/KG,PERCNT,TU
318M20130321,       P02E,     103,          1,          6,          6,2,20130517,       1042,         30,  -151.4227,       5169,  3790.5,    1.471,  34.6819,2,   34.682,2,    141.4,2,   141.9,2,  160.17,2,   36.78,2,       0,2,    2.58,2,-999.000,9,-999.000,9,-999.000,9,-999.0000,9,  2336.3,2, 2424.16,2,   7.5582,6,       25,-999.000,9,-999.0000,9, -999.00,9, -999.00,9,  -999.0,9,  -999.0,-999.000,9,-999.000,     -999.0,9, -999.00,9,   36.05,2, -999.00,9,     -999.0,9,  -999.0,9, 20130517,     1116,  29.9999,-151.4227,    34.8455,2,     -999.0,9,     -999.0,9,     1.4708,2,     -999.0,9,     -999.0,9,-999.0000, -999.00,-999.000
318M20130321,       P02E,     103,          1,          5,         37,2,20130517,       1042,         30,  -151.4227,       5169,  4198.6,   1.4773,  34.6859,2,  34.6896,3,    147.9,2,   147.9,2,  156.76,2,   36.34,2,       0,2,    2.54,2,-999.000,9,-999.000,9,-999.000,9,-999.0000,9,  -999.0,9, -999.00,9,-999.0000,9,  -999.00,-999.000,9,-999.0000,9, -999.00,9, -999.00,9,  -999.0,9,  -999.0,-999.000,9,-999.000,     -999.0,9, -999.00,9,   34.33,2, -999.00,9,     -999.0,9,  -999.0,9, 20130517,     1107,       30, -151.423,    34.8532,3,     -999.0,9,     -999.0,9,     1.4773,2,     -999.0,9,     -999.0,9,-999.0000, -999.00,-999.000
318M20130321,       P02E,     103,          1,          4,          4,2,20130517,       1042,         30,  -151.4227,       5169,  4608.9,   1.4983,  34.6887,2,  34.6881,2,    152.7,2,   152.7,2,  153.34,2,      36,2,       0,2,    2.52,2,   0.004,2,   0.008,2,-999.000,1,        0,2,  2326.8,2, 2420.66,6,    7.576,2,       25,-999.000,9,-999.0000,9, -999.00,9, -999.00,9,  -999.0,9,  -999.0,-999.000,9,-999.000,     -999.0,9, -999.00,9,    35.8,2, -999.00,9,     -999.0,9,  -999.0,9, 20130517,     1057,       30,-151.4226,    34.8516,2,     -999.0,9,     -999.0,9,     1.4985,2,     -999.0,9,     -999.0,9,-999.0000, -999.00,-999.000
318M20130321,       P02E,     103,          1,          3,          3,2,20130517,       1042,         30,  -151.4227,       5169,    5021,   1.5249,  34.6906,2,  34.6895,2,    157.5,2,   157.3,2,  148.65,2,   35.66,2,       0,2,     2.5,2,   0.289,4,   0.006,2,-999.000,1,        0,2,  -999.0,9, -999.00,9,-999.0000,9,  -999.00,-999.000,9,-999.0000,9, -999.00,9, -999.00,9,  -999.0,9,  -999.0,-999.000,9,-999.000,     -999.0,9, -999.00,9,    36.7,2, -999.00,9,     -999.0,9,  -999.0,9, 20130517,     1049,  30.0001,-151.4226,     34.853,2,     -999.0,9,     -999.0,9,     1.5251,2,     -999.0,9,     -999.0,9,-999.0000, -999.00,-999.000
318M20130321,       P02E,     103,          1,          2,          2,2,20130517,       1042,         30,  -151.4227,       5169,  5267.8,   1.5446,  34.6912,2,    34.69,2,    160.2,2,   159.9,2,   146.8,2,   35.51,2,       0,2,    2.49,2,   0.004,2,   0.005,2,-999.000,1,        0,2,  2320.4,6, 2417.06,2,   7.5835,2,       25,-999.000,9,-999.0000,9, -999.00,9, -999.00,9,  -999.0,9,  -999.0,-999.000,9,-999.000,     -999.0,9, -999.00,9,   35.98,2, -999.00,9,     -999.0,9,  -999.0,9, 20130517,     1041,       30,-151.4227,    34.8536,2,     -999.0,9,     -999.0,9,     1.5448,2,     -999.0,9,     -999.0,9,-999.0000, -999.00,-999.000