BOTTLE,20220817CCHSIOAMB
EXPOCODE,SECT_ID,STNNBR,CASTNO,SAMPNO,BTLNBR,BTLNBR_FLAG_W,DATE,TIME,LATITUDE,LONGITUDE,DEPTH,CTDPRS,CTDTMP,CTDSAL,CTDSAL_FLAG_W,SALNTY,SALNTY_FLAG_W,CTDOXY,CTDOXY_FLAG_W,OXYGEN,OXYGEN_FLAG_W,SILCAT,SILCAT_FLAG_W,NITRAT,NITRAT_FLAG_W,NITRIT,NITRIT_FLAG_W,PHSPHT,PHSPHT_FLAG_W,CFC-11,CFC-11_FLAG_W,CFC-12,CFC-12_FLAG_W,CFC113,CFC113_FLAG_W,SF6,SF6_FLAG_W,TCARBN,TCARBN_FLAG_W,ALKALI,ALKALI_FLAG_W,PH_TOT,PH_TOT_FLAG_W,PH_TMP,TRITUM,TRITUM_FLAG_W,HELIUM,HELIUM_FLAG_W,DELHE3,DELHE3_FLAG_W,DELC13,DELC13_FLAG_W,DELC14,DELC14_FLAG_W,C14ERR,NEON,NEON_FLAG_W,NEONER,I-129,I-129_FLAG_W,SR-90,SR-90_FLAG_W,DOC,DOC_FLAG_W,TDN,TDN_FLAG_W,CALCIUM,CALCIUM_FLAG_W,D15N_NO3,D15N_NO3_FLAG_W,BTL_DATE,BTL_TIME,BTL_LAT,BTL_LON,SALTREF,SALTREF_FLAG_W,CS-137,CS-137_FLAG_W,CS-134,CS-134_FLAG_W,REFTMP,REFTMP_FLAG_W,LAB_DEN,LAB_DEN_FLAG_W,D18O_NO3,D18O_NO3_FLAG_W,HELIER,DELHER,TRITER
,,,,,,,,,,,METERS,DBAR,ITS-90,PSS-78,,PSS-78,,UMOL/KG,,UMOL/KG,,UMOL/KG,,UMOL/KG,,UMOL/KG,,UMOL/KG,,PMOL/KG,,PMOL/KG,,PMOL/KG,,FMOL/KG,,UMOL/KG,,UMOL/KG,,,,DEG C,TU,,NMOL/KG,,PERCNT,,/MILLE,,/MILLE,,/MILLE,NMOL/KG,,NMOL/KG,BQ/M^3,,DM/.1MG,,UMOL/KG,,UMOL/KG,,MMOL/KG,,/MILLE,,,,,,G/KG,,BQ/M^3,,BQ/M^3,,ITS-90,,,,/MILLE,,NMOL/KG,PERCNT,TU
318M20130321,       P02W,       6,          1,          4,          4,2,20130323,       1322,    32.0024,   133.5171,       2255,    1847,   2.1481,  34.5785,2,  34.5787,2,     95.8,2,    96.7,2,  146.23,2,   39.02,2,       0,2,    2.76,2,   0.074,2,   0.033,2,   0.021,2,     0.17,2,  -999.0,9, -999.00,9,-999.0000,9,  -999.00,  -0.006,2,   1.9411,2,   20.17,2, -999.00,9,  -999.0,9,  -999.0,   8.194,2,   0.038,     -999.0,9, -999.00,9, -999.00,9, -999.00,9,     -999.0,9,  -999.0,9, 20130323,     1333,  32.0023, 133.5213,    34.7417,2,     -999.0,9,     -999.0,9,     2.1482,2,     -999.0,9,     -999.0,9,   0.0082,    0.15,   0.011
318M20130321,       P02W,       6,          1,          3,          3,2,20130323,       1322,    32.0024,   133.5171,       2255,  1957.6,   2.0297,  34.5961,2,  34.5958,2,    102.1,2,   103.8,2,   147.2,2,   38.63,2,       0,2,    2.72,2,-999.000,9,-999.000,9,-999.000,9,-999.0000,9,  2344.1,2, 2405.76,2,   7.4827,6,       25,-999.000,9,-999.0000,9, -999.00,9, -999.00,9,  -999.0,9,  -999.0,-999.000,9,-999.000,     -999.0,9, -999.00,9, -999.00,9, -999.00,9,     -999.0,9,  -999.0,9, 20130323,     1330,  32.0023, 133.5204,    34.7589,2,     -999.0,9,     -999.0,9,     2.0292,2,     -999.0,9,     -999.0,9,-999.0000, -999.00,-999.000
318M20130321,       P02W,       6,          1,          2,          2,2,20130323,       1322,    32.0024,   133.5171,       2255,  2150.3,   1.8699,  34.6197,2,  34.6199,2,    116.7,2,   116.5,2,  146.61,2,   37.91,2,       0,2,    2.67,2,-999.000,9,-999.000,9,-999.000,9,-999.0000,9,  2340.2,2, 2407.56,6,   7.5078,2,       25,-999.000,9,-999.0000,9, -999.00,9, -999.00,9,  -999.0,9,  -999.0,-999.000,9,-999.000,     -999.0,9, -999.00,9, -999.00,9, -999.00,9,     -999.0,9,  -999.0,9, 20130323,     1326,  32.0023,  133.519,    34.7832,2,     -999.0,9,     -999.0,9,     1.8695,2,     -999.0,9,     -999.0,9,-999.0000, -999.00,-999.000
318M20130321,       P02W,       6,          1,          1,          1,2,20130323,       1322,    32.0024,   133.5171,       2255,  2285.2,   1.7964,  34.6308,2,  34.6315,2,    122.7,2,   122.5,2,  146.42,2,    37.5,2,       0,2,    2.64,2,-999.000,9,-999.000,9,-999.000,9,-999.0000,9,  2337.5,6, 2410.16,2,    7.517,2,       25,-999.000,9,-999.0000,9, -999.00,9, -999.00,9,  -999.0,9,  -999.0,-999.000,9,-999.000,     -999.0,9, -999.00,9, -999.00,9, -999.00,9,     -999.0,9,  -999.0,9, 20130323,     1323,  32.0024, 133.5173,    34.7948,2,     -999.0,9,     -999.0,9,      1.797,2,     -999.0,9,     -999.0,9,-999.0000, -999.00,-999.000