BOTTLE,20220817CCHSIOAMB
EXPOCODE,SECT_ID,STNNBR,CASTNO,SAMPNO,BTLNBR,BTLNBR_FLAG_W,DATE,TIME,LATITUDE,LONGITUDE,DEPTH,CTDPRS,CTDTMP,CTDSAL,CTDSAL_FLAG_W,SALNTY,SALNTY_FLAG_W,CTDOXY,CTDOXY_FLAG_W,OXYGEN,OXYGEN_FLAG_W,SILCAT,SILCAT_FLAG_W,NITRAT,NITRAT_FLAG_W,NITRIT,NITRIT_FLAG_W,PHSPHT,PHSPHT_FLAG_W,CFC-11,CFC-11_FLAG_W,CFC-12,CFC-12_FLAG_W,CFC113,CFC113_FLAG_W,SF6,SF6_FLAG_W,TCARBN,TCARBN_FLAG_W,ALKALI,ALKALI_FLAG_W,PH_TOT,PH_TOT_FLAG_W,PH_TMP,TRITUM,TRITUM_FLAG_W,HELIUM,HELIUM_FLAG_W,DELHE3,DELHE3_FLAG_W,DELC13,DELC13_FLAG_W,DELC14,DELC14_FLAG_W,C14ERR,NEON,NEON_FLAG_W,NEONER,I-129,I-129_FLAG_W,SR-90,SR-90_FLAG_W,DOC,DOC_FLAG_W,TDN,TDN_FLAG_W,CALCIUM,CALCIUM_FLAG_W,D15N_NO3,D15N_NO3_FLAG_W,BTL_DATE,BTL_TIME,BTL_LAT,BTL_LON,SALTREF,SALTREF_FLAG_W,CS-137,CS-137_FLAG_W,CS-134,CS-134_FLAG_W,REFTMP,REFTMP_FLAG_W,LAB_DEN,LAB_DEN_FLAG_W,D18O_NO3,D18O_NO3_FLAG_W,HELIER,DELHER,TRITER
,,,,,,,,,,,METERS,DBAR,ITS-90,PSS-78,,PSS-78,,UMOL/KG,,UMOL/KG,,UMOL/KG,,UMOL/KG,,UMOL/KG,,UMOL/KG,,PMOL/KG,,PMOL/KG,,PMOL/KG,,FMOL/KG,,UMOL/KG,,UMOL/KG,,,,DEG C,TU,,NMOL/KG,,PERCNT,,/MILLE,,/MILLE,,/MILLE,NMOL/KG,,NMOL/KG,BQ/M^3,,DM/.1MG,,UMOL/KG,,UMOL/KG,,MMOL/KG,,/MILLE,,,,,,G/KG,,BQ/M^3,,BQ/M^3,,ITS-90,,,,/MILLE,,NMOL/KG,PERCNT,TU
318M20130321,       P02E,     105,          1,          6,          6,2,20130518,       0041,    30.0003,   -150.267,       5866,  4471.4,   1.4877,  34.6883,2,  34.6885,2,    152.2,2,   152.4,2,  153.44,2,   36.09,2,       0,2,    2.51,2,-999.000,9,-999.000,9,-999.000,9,-999.0000,9,  -999.0,9, -999.00,9,-999.0000,9,  -999.00,-999.000,9,-999.0000,9, -999.00,9, -999.00,9,  -999.0,9,  -999.0,-999.000,9,-999.000,     -999.0,9, -999.00,9,   36.85,2, -999.00,9,     -999.0,9,  -999.0,9, 20130518,      109,  30.0004,-150.2668,    34.8521,2,     -999.0,9,     -999.0,9,     1.4876,2,     -999.0,9,     -999.0,9,-999.0000, -999.00,-999.000
318M20130321,       P02E,     105,          1,          5,         37,2,20130518,       0041,    30.0003,   -150.267,       5866,  4883.1,   1.5135,  34.6904,2,  34.6915,2,    156.7,2,   156.5,2,  150.41,2,   35.75,2,       0,2,    2.47,2,-999.000,9,-999.000,9,-999.000,9,-999.0000,9,  2322.9,2, 2419.06,2,   7.5807,6,       25,-999.000,9,-999.0000,9, -999.00,9, -999.00,9,  -999.0,9,  -999.0,-999.000,9,-999.000,     -999.0,9, -999.00,9,   42.44,3, -999.00,9,     -999.0,9,  -999.0,9, 20130518,      101,  30.0004,-150.2669,     34.855,2,     -999.0,9,     -999.0,9,     1.5133,2,     -999.0,9,     -999.0,9,-999.0000, -999.00,-999.000
318M20130321,       P02E,     105,          1,          4,          4,2,20130518,       0041,    30.0003,   -150.267,       5866,  5296.3,   1.5479,  34.6917,2,  34.6918,2,    159.4,2,   159.8,2,  147.68,2,   35.55,2,       0,2,    2.46,2,   0.005,2,   0.007,2,-999.000,1,        0,2,  -999.0,9, -999.00,9,-999.0000,9,  -999.00,-999.000,9,-999.0000,9, -999.00,9, -999.00,9,  -999.0,9,  -999.0,-999.000,9,-999.000,     -999.0,9, -999.00,9,   39.01,2, -999.00,9,     -999.0,9,  -999.0,9, 20130518,       54,  30.0003, -150.267,    34.8554,2,     -999.0,9,     -999.0,9,      1.548,2,     -999.0,9,     -999.0,9,-999.0000, -999.00,-999.000
318M20130321,       P02E,     105,          1,          3,          3,2,20130518,       0041,    30.0003,   -150.267,       5866,  5607.3,   1.5809,  34.6922,2,  34.6922,2,    161.4,2,   160.9,2,   146.6,2,   35.49,2,       0,2,    2.46,2,   0.004,2,   0.005,2,-999.000,1,        0,2,  2317.7,6, 2414.66,2,   7.5843,2,       25,-999.000,9,-999.0000,9, -999.00,9, -999.00,9,  -999.0,9,  -999.0,-999.000,9,-999.000,     -999.0,9, -999.00,9,   36.51,2, -999.00,9,     -999.0,9,  -999.0,9, 20130518,       47,  30.0003,-150.2671,    34.8558,2,     -999.0,9,     -999.0,9,     1.5811,2,     -999.0,9,     -999.0,9,-999.0000, -999.00,-999.000
318M20130321,       P02E,     105,          1,          2,          2,2,20130518,       0041,    30.0003,   -150.267,       5866,  5856.8,   1.6131,  34.6919,2,  34.6932,2,    162.3,2,   161.8,2,  146.12,2,   35.44,2,       0,2,    2.46,2,   0.006,2,   0.006,2,-999.000,1,        0,2,  2317.2,2, 2413.96,2,   7.5846,2,       25,-999.000,9,-999.0000,9, -999.00,9, -999.00,9,  -999.0,9,  -999.0,-999.000,9,-999.000,     -999.0,9, -999.00,9,   39.89,2, -999.00,9,     -999.0,9,  -999.0,9, 20130518,       42,  30.0003, -150.267,    34.8568,2,     -999.0,9,     -999.0,9,     1.6132,2,     -999.0,9,     -999.0,9,-999.0000, -999.00,-999.000