BOTTLE,20220817CCHSIOAMB
EXPOCODE,SECT_ID,STNNBR,CASTNO,SAMPNO,BTLNBR,BTLNBR_FLAG_W,DATE,TIME,LATITUDE,LONGITUDE,DEPTH,CTDPRS,CTDTMP,CTDSAL,CTDSAL_FLAG_W,SALNTY,SALNTY_FLAG_W,CTDOXY,CTDOXY_FLAG_W,OXYGEN,OXYGEN_FLAG_W,SILCAT,SILCAT_FLAG_W,NITRAT,NITRAT_FLAG_W,NITRIT,NITRIT_FLAG_W,PHSPHT,PHSPHT_FLAG_W,CFC-11,CFC-11_FLAG_W,CFC-12,CFC-12_FLAG_W,CFC113,CFC113_FLAG_W,SF6,SF6_FLAG_W,TCARBN,TCARBN_FLAG_W,ALKALI,ALKALI_FLAG_W,PH_TOT,PH_TOT_FLAG_W,PH_TMP,TRITUM,TRITUM_FLAG_W,HELIUM,HELIUM_FLAG_W,DELHE3,DELHE3_FLAG_W,DELC13,DELC13_FLAG_W,DELC14,DELC14_FLAG_W,C14ERR,NEON,NEON_FLAG_W,NEONER,I-129,I-129_FLAG_W,SR-90,SR-90_FLAG_W,DOC,DOC_FLAG_W,TDN,TDN_FLAG_W,CALCIUM,CALCIUM_FLAG_W,D15N_NO3,D15N_NO3_FLAG_W,BTL_DATE,BTL_TIME,BTL_LAT,BTL_LON,SALTREF,SALTREF_FLAG_W,CS-137,CS-137_FLAG_W,CS-134,CS-134_FLAG_W,REFTMP,REFTMP_FLAG_W,LAB_DEN,LAB_DEN_FLAG_W,D18O_NO3,D18O_NO3_FLAG_W,HELIER,DELHER,TRITER
,,,,,,,,,,,METERS,DBAR,ITS-90,PSS-78,,PSS-78,,UMOL/KG,,UMOL/KG,,UMOL/KG,,UMOL/KG,,UMOL/KG,,UMOL/KG,,PMOL/KG,,PMOL/KG,,PMOL/KG,,FMOL/KG,,UMOL/KG,,UMOL/KG,,,,DEG C,TU,,NMOL/KG,,PERCNT,,/MILLE,,/MILLE,,/MILLE,NMOL/KG,,NMOL/KG,BQ/M^3,,DM/.1MG,,UMOL/KG,,UMOL/KG,,MMOL/KG,,/MILLE,,,,,,G/KG,,BQ/M^3,,BQ/M^3,,ITS-90,,,,/MILLE,,NMOL/KG,PERCNT,TU
318M20130321,       P02E,     131,          1,          5,         37,2,20130526,       0105,    30.0003,    -131.06,       4913,    3925,   1.4923,  34.6831,2,  34.6826,2,    140.1,2,   139.3,2,  166.32,2,   37.07,2,       0,2,     2.6,2,   0.005,2,   0.009,2,-999.000,1,        0,2,  2340.1,2, 2428.76,2,   7.5588,6,       25,-999.000,9,-999.0000,9, -999.00,9,    0.08,2,  -228.4,2,     1.6,-999.000,9,-999.000,     -999.0,9, -999.00,9, -999.00,9, -999.00,9,     -999.0,9,  -999.0,1, 20130526,      128,       30,-131.0603,    34.8461,2,     -999.0,9,     -999.0,9,     1.4926,2,     -999.0,9,     -999.0,1,-999.0000, -999.00,-999.000
318M20130321,       P02E,     131,          1,          4,          4,2,20130526,       0105,    30.0003,    -131.06,       4913,  4335.1,   1.5226,  34.6851,2,  34.6849,2,    142.9,2,   142.7,2,  164.56,2,   36.89,2,       0,2,    2.59,2,   0.006,2,   0.011,2,-999.000,1,        0,2,  -999.0,9, -999.00,9,-999.0000,9,  -999.00,-999.000,9,-999.0000,9, -999.00,9,    0.06,2,  -228.8,2,     1.9,-999.000,9,-999.000,     -999.0,9, -999.00,9,   35.68,2, -999.00,9,     -999.0,9,  -999.0,1, 20130526,      120,  30.0004,-131.0606,    34.8485,2,     -999.0,9,     -999.0,9,     1.5226,2,     -999.0,9,     -999.0,1,-999.0000, -999.00,-999.000
318M20130321,       P02E,     131,          1,          3,          3,2,20130526,       0105,    30.0003,    -131.06,       4913,  4747.5,   1.5695,  34.6855,2,  34.6851,2,    142.8,2,   143.6,2,  164.37,2,   36.85,2,       0,2,    2.59,2,   0.005,2,   0.009,2,-999.000,1,        0,2,  -999.0,9, -999.00,9,-999.0000,9,  -999.00,-999.000,9,-999.0000,9, -999.00,9,    0.08,2,  -224.3,2,     1.7,-999.000,9,-999.000,     -999.0,9, -999.00,9,    34.2,2, -999.00,9,     -999.0,9,  -999.0,1, 20130526,      111,  30.0002,-131.0602,    34.8487,2,     -999.0,9,     -999.0,9,     1.5692,2,     -999.0,9,     -999.0,1,-999.0000, -999.00,-999.000
318M20130321,       P02E,     131,          1,          2,          2,2,20130526,       0105,    30.0003,    -131.06,       4913,  4988.3,   1.5998,  34.6854,2,  34.6851,2,    143.7,2,   143.4,2,  164.47,2,   36.85,2,       0,2,    2.59,2,   0.006,6,   0.010,6,-999.000,1,        0,6,  2337.6,6, 2427.66,2,   7.5636,2,       25,-999.000,9,-999.0000,9, -999.00,9,    0.05,2,  -225.9,2,     1.7,-999.000,9,-999.000,     -999.0,9, -999.00,9,   35.46,2, -999.00,9,     -999.0,9,  -999.0,1, 20130526,      106,  30.0003,  -131.06,    34.8487,2,     -999.0,9,     -999.0,9,     1.5999,2,     -999.0,9,     -999.0,1,-999.0000, -999.00,-999.000