BOTTLE,20220817CCHSIOAMB
EXPOCODE,SECT_ID,STNNBR,CASTNO,SAMPNO,BTLNBR,BTLNBR_FLAG_W,DATE,TIME,LATITUDE,LONGITUDE,DEPTH,CTDPRS,CTDTMP,CTDSAL,CTDSAL_FLAG_W,SALNTY,SALNTY_FLAG_W,CTDOXY,CTDOXY_FLAG_W,OXYGEN,OXYGEN_FLAG_W,SILCAT,SILCAT_FLAG_W,NITRAT,NITRAT_FLAG_W,NITRIT,NITRIT_FLAG_W,PHSPHT,PHSPHT_FLAG_W,CFC-11,CFC-11_FLAG_W,CFC-12,CFC-12_FLAG_W,CFC113,CFC113_FLAG_W,SF6,SF6_FLAG_W,TCARBN,TCARBN_FLAG_W,ALKALI,ALKALI_FLAG_W,PH_TOT,PH_TOT_FLAG_W,PH_TMP,TRITUM,TRITUM_FLAG_W,HELIUM,HELIUM_FLAG_W,DELHE3,DELHE3_FLAG_W,DELC13,DELC13_FLAG_W,DELC14,DELC14_FLAG_W,C14ERR,NEON,NEON_FLAG_W,NEONER,I-129,I-129_FLAG_W,SR-90,SR-90_FLAG_W,DOC,DOC_FLAG_W,TDN,TDN_FLAG_W,CALCIUM,CALCIUM_FLAG_W,D15N_NO3,D15N_NO3_FLAG_W,BTL_DATE,BTL_TIME,BTL_LAT,BTL_LON,SALTREF,SALTREF_FLAG_W,CS-137,CS-137_FLAG_W,CS-134,CS-134_FLAG_W,REFTMP,REFTMP_FLAG_W,LAB_DEN,LAB_DEN_FLAG_W,D18O_NO3,D18O_NO3_FLAG_W,HELIER,DELHER,TRITER
,,,,,,,,,,,METERS,DBAR,ITS-90,PSS-78,,PSS-78,,UMOL/KG,,UMOL/KG,,UMOL/KG,,UMOL/KG,,UMOL/KG,,UMOL/KG,,PMOL/KG,,PMOL/KG,,PMOL/KG,,FMOL/KG,,UMOL/KG,,UMOL/KG,,,,DEG C,TU,,NMOL/KG,,PERCNT,,/MILLE,,/MILLE,,/MILLE,NMOL/KG,,NMOL/KG,BQ/M^3,,DM/.1MG,,UMOL/KG,,UMOL/KG,,MMOL/KG,,/MILLE,,,,,,G/KG,,BQ/M^3,,BQ/M^3,,ITS-90,,,,/MILLE,,NMOL/KG,PERCNT,TU
318M20130321,       P02W,      87,          1,         36,         36,2,20130503,       0142,    29.9981,  -167.4533,       5501,     2.4,  19.0505,  34.8653,2,  34.8655,2,    232.4,2,   232.9,2,    2.15,2,       0,2,       0,2,    0.04,2,   2.427,2,   1.462,2,   0.205,2,     1.58,2,  2010.8,2, 2288.11,2,   8.0043,6,       25,   0.515,2,   1.7286,2,   -1.43,2, -999.00,9,  -999.0,9,  -999.0,   6.997,2,   0.032,     -999.0,9, -999.00,9,   59.38,2,    4.72,2,     -999.0,9,  -999.0,9, 20130503,      353,  29.9984, -167.452,    35.0299,2,     -999.0,9,     -999.0,9,    19.0519,2,     -999.0,9,     -999.0,9,   0.0073,    0.15,   0.011
318M20130321,       P02W,      87,          1,         34,         34,2,20130503,       0142,    29.9981,  -167.4533,       5501,    32.3,  18.9096,  34.8559,2,   34.856,2,    235.8,2,   233.2,2,    2.15,2,       0,2,       0,2,    0.07,2,   2.413,2,   1.463,2,   0.205,2,     1.59,2,  2011.1,2, -999.00,9,-999.0000,9,  -999.00,   0.532,2,   1.7343,2,   -1.43,2, -999.00,9,  -999.0,9,  -999.0,   7.148,2,   0.033,     -999.0,9, -999.00,9,   60.35,2,    3.89,2,     -999.0,9,  -999.0,9, 20130503,      351,  29.9984,-167.4521,    35.0204,2,     -999.0,9,     -999.0,9,    18.9099,2,     -999.0,9,     -999.0,9,   0.0073,    0.15,   0.011
318M20130321,       P02W,      87,          1,         33,         33,2,20130503,       0142,    29.9981,  -167.4533,       5501,    58.1,  18.0506,  34.7478,2,  34.7481,2,    240.5,2,   236.8,2,    2.54,2,       0,2,       0,2,     0.1,2,-999.000,9,-999.000,9,-999.000,9,-999.0000,9,  2011.4,2, 2279.61,2,   7.9927,6,       25,-999.000,9,-999.0000,9, -999.00,9, -999.00,9,  -999.0,9,  -999.0,-999.000,9,-999.000,     -999.0,9, -999.00,9,   56.78,2,    3.89,2,     -999.0,9,  -999.0,9, 20130503,      349,  29.9985,-167.4522,    34.9119,2,     -999.0,9,     -999.0,9,    18.0533,2,     -999.0,9,     -999.0,9,-999.0000, -999.00,-999.000
318M20130321,       P02W,      87,          1,         32,         32,2,20130503,       0142,    29.9981,  -167.4533,       5501,    82.9,  17.4598,  34.6757,2,   34.672,2,    237.7,2,   233.8,2,    2.73,2,    0.18,2,    0.08,2,    0.18,2,   2.609,2,   1.552,2,   0.210,2,     1.55,2,  2017.6,2, 2274.91,6,   7.9744,2,       25,   0.517,2,   1.7373,2,   -1.33,2, -999.00,9,  -999.0,9,  -999.0,   7.173,2,   0.033,     -999.0,9, -999.00,9,   55.93,2,    4.82,2,     -999.0,9,  -999.0,9, 20130503,      348,  29.9985,-167.4523,    34.8355,2,     -999.0,9,     -999.0,9,    17.4791,2,     -999.0,9,     -999.0,9,   0.0073,    0.15,   0.011
318M20130321,       P02W,      87,          1,         31,         31,2,20130503,       0142,    29.9981,  -167.4533,       5501,     113,    16.72,  34.6121,2,  34.6144,2,    227.1,2,  -999.0,9,    3.51,2,    1.98,2,    0.12,2,     0.3,2,-999.000,9,-999.000,9,-999.000,9,-999.0000,9,  -999.0,9, -999.00,9,-999.0000,9,  -999.00,-999.000,9,-999.0000,9, -999.00,9, -999.00,9,  -999.0,9,  -999.0,-999.000,9,-999.000,     -999.0,9, -999.00,9,   53.72,2,     5.6,2,     -999.0,9,  -999.0,9, 20130503,      346,  29.9985,-167.4523,    34.7777,2,     -999.0,9,     -999.0,9,    16.7205,2,     -999.0,9,     -999.0,9,-999.0000, -999.00,-999.000
318M20130321,       P02W,      87,          1,         30,         30,2,20130503,       0142,    29.9981,  -167.4533,       5501,   164.1,  15.2663,  34.4979,2,  34.4962,2,    215.6,2,   216.2,2,    5.86,2,    5.69,2,    0.01,2,    0.56,2,-999.000,9,-999.000,9,-999.000,9,-999.0000,9,  -999.0,9, -999.00,9,-999.0000,9,  -999.00,-999.000,9,-999.0000,9, -999.00,9, -999.00,9,  -999.0,9,  -999.0,-999.000,9,-999.000,     -999.0,9, -999.00,9,   48.39,2,    9.41,2,     -999.0,9,  -999.0,9, 20130503,      344,  29.9986,-167.4524,    34.6589,2,     -999.0,9,     -999.0,9,    15.2599,2,     -999.0,9,     -999.0,9,-999.0000, -999.00,-999.000
318M20130321,       P02W,      87,          1,         29,         29,2,20130503,       0142,    29.9981,  -167.4533,       5501,   214.5,  14.1546,  34.4369,2,  34.4354,2,    212.4,2,   213.3,2,     8.2,2,    7.97,2,    0.01,2,    0.68,2,   3.042,2,   1.773,2,   0.075,2,     1.49,2,  2060.9,2,  2264.9,2,   7.8695,6,       25,   0.526,2,   1.7601,2,   -0.24,2, -999.00,9,  -999.0,9,  -999.0,   7.395,2,   0.034,     -999.0,9, -999.00,9,      45,2,   11.57,2,     -999.0,9,  -999.0,9, 20130503,      342,  29.9986,-167.4525,    34.5977,2,     -999.0,9,     -999.0,9,     14.161,2,     -999.0,9,     -999.0,9,   0.0074,    0.15,   0.013
318M20130321,       P02W,      87,          1,         28,         28,2,20130503,       0142,    29.9981,  -167.4533,       5501,   265.2,  13.0867,  34.3661,2,  34.3661,2,    211.7,2,   212.9,2,   10.35,2,    9.78,2,    0.01,2,    0.79,2,-999.000,9,-999.000,9,-999.000,9,-999.0000,9,  -999.0,9, -999.00,9,-999.0000,9,  -999.00,-999.000,9,-999.0000,9, -999.00,9, -999.00,9,  -999.0,9,  -999.0,-999.000,9,-999.000,     -999.0,9, -999.00,9,   44.01,2, -999.00,5,     -999.0,9,  -999.0,9, 20130503,      340,  29.9986,-167.4527,    34.5281,2,     -999.0,9,     -999.0,9,    13.0768,2,     -999.0,9,     -999.0,9,-999.0000, -999.00,-999.000
318M20130321,       P02W,      87,          1,         27,         27,2,20130503,       0142,    29.9981,  -167.4533,       5501,   316.5,  12.0849,  34.3081,2,  34.3112,2,    211.2,2,   211.6,2,   13.08,2,   11.75,2,    0.01,2,    0.95,2,   3.286,2,   1.880,2,   0.092,2,     1.42,2,  2086.2,2,    2263,2,   7.8123,2,       25,   0.497,2,   1.7812,2,    0.74,2, -999.00,9,  -999.0,9,  -999.0,   7.531,2,   0.035,     -999.0,9, -999.00,9,   46.11,2,   14.96,2,     -999.0,9,  -999.0,9, 20130503,      338,  29.9985,-167.4528,     34.473,2,     -999.0,9,     -999.0,9,    12.0967,2,     -999.0,9,     -999.0,9,   0.0075,    0.15,   0.011
318M20130321,       P02W,      87,          1,         26,         26,2,20130503,       0142,    29.9981,  -167.4533,       5501,   366.4,   11.212,  34.2518,2,  34.2494,2,    207.6,2,   209.7,2,   16.21,2,   13.69,2,    0.01,2,    1.07,2,   3.402,2,   1.906,2,   0.085,2,     1.38,2,  -999.0,9, -999.00,9,-999.0000,9,  -999.00,   0.508,2,   1.7891,2,    1.62,2, -999.00,9,  -999.0,9,  -999.0,   7.525,2,   0.035,     -999.0,9, -999.00,9,   44.44,2, -999.00,9,     -999.0,9,  -999.0,9, 20130503,      336,  29.9985,-167.4528,    34.4109,2,     -999.0,9,     -999.0,9,    11.2091,2,     -999.0,9,     -999.0,9,   0.0075,    0.15,   0.010
318M20130321,       P02W,      87,          1,         25,         25,2,20130503,       0142,    29.9981,  -167.4533,       5501,   437.4,   9.7768,   34.146,2,  34.1409,2,    201.7,2,   204.4,2,   22.26,2,   17.01,2,       0,2,    1.27,2,-999.000,9,-999.000,9,-999.000,9,-999.0000,9,  2120.5,2,  2263.4,2,   7.7299,2,       25,-999.000,9,-999.0000,9, -999.00,9, -999.00,9,  -999.0,9,  -999.0,-999.000,9,-999.000,     -999.0,9, -999.00,9,   42.18,2, -999.00,9,     -999.0,9,  -999.0,9, 20130503,      334,  29.9985,-167.4527,    34.3019,2,     -999.0,9,     -999.0,9,     9.7907,2,     -999.0,9,     -999.0,9,-999.0000, -999.00,-999.000
318M20130321,       P02W,      87,          1,         24,         24,2,20130503,       0142,    29.9981,  -167.4533,       5501,   539.5,   7.5925,  34.0283,2,  34.0294,2,    165.2,2,   164.1,2,   39.55,2,   24.77,2,       0,2,    1.82,2,   3.222,2,   1.678,2,   0.139,2,     0.91,2,  -999.0,9, -999.00,9,-999.0000,9,  -999.00,   0.450,2,   1.8402,2,    7.95,2, -999.00,9,  -999.0,9,  -999.0,   7.871,2,   0.036,     -999.0,9, -999.00,9,   41.73,2, -999.00,9,     -999.0,9,  -999.0,9, 20130503,      331,  29.9985,-167.4527,    34.1899,2,     -999.0,9,     -999.0,9,     7.5903,2,     -999.0,9,     -999.0,9,   0.0077,    0.15,   0.011
318M20130321,       P02W,      87,          1,         23,         23,2,20130503,       0142,    29.9981,  -167.4533,       5501,   639.5,   5.9226,  34.0046,2,   34.005,2,    119.7,2,   114.6,2,   62.21,2,   32.37,2,       0,2,    2.38,2,   2.352,2,   1.182,2,   0.092,2,     0.54,2,  2235.6,2, 2289.01,2,   7.4748,2,       25,   0.366,2,   1.8426,2,   12.71,2, -999.00,9,  -999.0,9,  -999.0,   7.936,2,   0.037,     -999.0,9, -999.00,9,   40.53,2, -999.00,9,     -999.0,9,  -999.0,9, 20130503,      328,  29.9984,-167.4528,    34.1653,2,     -999.0,9,     -999.0,9,     5.9216,2,     -999.0,9,     -999.0,9,   0.0077,    0.15,   0.010
318M20130321,       P02W,      87,          1,         22,         22,2,20130503,       0142,    29.9981,  -167.4533,       5501,   737.1,   5.0066,  34.0624,2,  34.0632,2,     76.4,2,    74.2,2,   81.83,2,   37.42,2,       0,2,    2.72,2,   1.366,2,   0.668,2,   0.045,2,     0.28,2,  -999.0,9, -999.00,9,-999.0000,9,  -999.00,   0.281,2,   1.8578,2,   15.89,2, -999.00,9,  -999.0,9,  -999.0,   8.029,2,   0.037,     -999.0,9, -999.00,9,    39.4,2, -999.00,9,     -999.0,9,  -999.0,9, 20130503,      325,  29.9984, -167.453,    34.2238,2,     -999.0,9,     -999.0,9,     5.0088,2,     -999.0,9,     -999.0,9,   0.0078,    0.15,   0.011
318M20130321,       P02W,      87,          1,         21,         21,2,20130503,       0142,    29.9981,  -167.4533,       5501,   838.5,   4.3427,  34.1519,2,  34.1508,2,       41,2,    42.3,2,    99.6,2,   41.03,2,       0,2,    2.96,2,-999.000,9,-999.000,9,-999.000,9,-999.0000,9,  2318.4,2, 2325.83,2,   7.3296,2,       25,-999.000,9,-999.0000,9, -999.00,9, -999.00,9,  -999.0,9,  -999.0,-999.000,9,-999.000,     -999.0,9, -999.00,9,   37.35,2, -999.00,9,     -999.0,9,  -999.0,9, 20130503,      322,  29.9983,-167.4531,    34.3118,2,     -999.0,9,     -999.0,9,     4.3419,2,     -999.0,9,     -999.0,9,-999.0000, -999.00,-999.000
318M20130321,       P02W,      87,          1,         20,         20,2,20130503,       0142,    29.9981,  -167.4533,       5501,   940.9,   3.9135,  34.2368,2,  34.2365,2,     22.7,2,    23.2,2,  114.04,2,   43.08,2,       0,2,     3.1,2,   0.191,2,   0.097,2,   0.007,2,     0.05,2,  -999.0,9, -999.00,9,-999.0000,9,  -999.00,   0.082,6,   1.8818,2,   15.78,2, -999.00,9,  -999.0,9,  -999.0,   7.960,2,   0.037,     -999.0,9, -999.00,9,   37.61,2, -999.00,9,     -999.0,9,  -999.0,9, 20130503,      319,  29.9982,-167.4531,    34.3979,2,     -999.0,9,     -999.0,9,     3.9128,2,     -999.0,9,     -999.0,9,   0.0079,    0.15,   0.010
318M20130321,       P02W,      87,          1,         19,         19,2,20130503,       0142,    29.9981,  -167.4533,       5501,  1042.8,   3.6357,  34.3338,2,  34.3336,2,     19.2,2,    19.3,2,  123.41,2,   43.67,2,       0,2,    3.28,2,   0.047,2,   0.031,2,   0.000,2,     0.06,2,  2359.9,2, 2359.04,2,   7.3023,2,       25,-999.000,9,-999.0000,9, -999.00,9, -999.00,9,  -999.0,9,  -999.0,-999.000,9,-999.000,     -999.0,9, -999.00,9,   35.61,2, -999.00,9,     -999.0,9,  -999.0,9, 20130503,      317,   29.998,-167.4533,    34.4955,2,     -999.0,9,     -999.0,9,      3.635,2,     -999.0,9,     -999.0,9,-999.0000, -999.00,-999.000
318M20130321,       P02W,      87,          1,         18,         18,2,20130503,       0142,    29.9981,  -167.4533,       5501,  1143.4,   3.4203,  34.3935,2,  34.3938,2,     21.8,2,      22,2,  129.75,2,   43.76,2,       0,2,     3.3,2,   0.022,2,   0.017,2,   0.000,2,     0.01,2,  2366.7,2, 2369.54,2,   7.3138,2,       25,   0.006,2,   1.8910,2,   17.17,2, -999.00,9,  -999.0,9,  -999.0,   8.082,2,   0.037,     -999.0,9, -999.00,9,   35.24,2, -999.00,9,     -999.0,9,  -999.0,9, 20130503,      314,  29.9979,-167.4534,     34.556,2,     -999.0,9,     -999.0,9,     3.4207,2,     -999.0,9,     -999.0,9,   0.0079,    0.15,   0.010
318M20130321,       P02W,      87,          1,         17,         17,2,20130503,       0142,    29.9981,  -167.4533,       5501,  1245.7,   3.1792,  34.4488,2,  34.4486,2,     26.5,2,    27.7,2,  135.99,2,   43.59,2,       0,2,     3.2,2,   0.011,2,   0.010,2,   0.000,2,     0.05,2,  2370.1,2, 2378.04,2,   7.3298,2,       25,-999.000,9,-999.0000,9, -999.00,9, -999.00,9,  -999.0,9,  -999.0,-999.000,9,-999.000,     -999.0,9, -999.00,9,   34.21,2, -999.00,9,     -999.0,9,  -999.0,9, 20130503,      311,  29.9979,-167.4536,     34.611,2,     -999.0,9,     -999.0,9,     3.1807,2,     -999.0,9,     -999.0,9,-999.0000, -999.00,-999.000
318M20130321,       P02W,      87,          1,         16,         16,2,20130503,       0142,    29.9981,  -167.4533,       5501,  1347.3,    2.975,  34.4888,2,  34.4908,2,     35.3,2,    36.3,2,  140.18,2,   43.17,2,       0,2,    3.16,2,   0.002,2,   0.009,2,   0.000,2,     0.09,2,  2369.2,6, 2385.35,2,   7.3506,2,       25,  -0.007,2,   1.9223,2,   19.13,2, -999.00,9,  -999.0,9,  -999.0,   8.084,2,   0.037,     -999.0,9, -999.00,9,   34.59,2, -999.00,9,     -999.0,9,  -999.0,9, 20130503,      308,  29.9978,-167.4536,    34.6534,2,     -999.0,9,     -999.0,9,     2.9762,2,     -999.0,9,     -999.0,9,   0.0081,    0.15,   0.012
318M20130321,       P02W,      87,          1,         15,         15,2,20130503,       0142,    29.9981,  -167.4533,       5501,  1479.5,   2.7477,  34.5208,2,   34.521,2,     44.4,2,    44.3,2,  146.33,2,   42.78,2,       0,2,    3.12,2,   0.000,4,  -0.004,4,  -0.007,4,    -0.04,4,  2370.2,2, 2392.55,2,   7.3737,2,       25,   0.004,2,   1.9144,2,   20.16,2, -999.00,9,  -999.0,9,  -999.0,   8.162,2,   0.038,     -999.0,9, -999.00,9,   33.53,2, -999.00,9,     -999.0,9,  -999.0,9, 20130503,      304,  29.9977,-167.4536,    34.6838,2,     -999.0,9,     -999.0,9,     2.7486,2,     -999.0,9,     -999.0,9,   0.0080,    0.15,   0.012
318M20130321,       P02W,      87,          1,         14,         14,2,20130503,       0142,    29.9981,  -167.4533,       5501,  1679.8,   2.3922,  34.5596,2,  34.5603,2,       55,2,    55.5,2,  155.31,2,   42.26,2,       0,2,    3.06,2,   0.004,2,   0.006,2,   0.000,2,     0.01,2,  2374.4,2, 2402.95,2,   7.3916,2,       25,   0.000,2,   1.9176,2,   20.77,2, -999.00,9,  -999.0,9,  -999.0,   8.139,2,   0.037,     -999.0,9, -999.00,9,   33.25,2, -999.00,9,     -999.0,9,  -999.0,9, 20130503,      300,  29.9978,-167.4534,    34.7233,2,     -999.0,9,     -999.0,9,      2.392,2,     -999.0,9,     -999.0,9,   0.0081,    0.15,   0.012
318M20130321,       P02W,      87,          1,         13,         13,2,20130503,       0142,    29.9981,  -167.4533,       5501,  1882.5,   2.1463,  34.5907,2,    34.59,2,     68.1,2,    67.5,2,  160.28,2,   41.48,2,       0,2,    2.99,2,-999.000,9,-999.000,9,-999.000,9,-999.0000,9,  2371.3,2, 2409.46,2,   7.4155,2,       25,-999.000,9,-999.0000,9, -999.00,9, -999.00,9,  -999.0,9,  -999.0,-999.000,9,-999.000,     -999.0,9, -999.00,9,   33.85,2, -999.00,9,     -999.0,9,  -999.0,9, 20130503,      256,  29.9976,-167.4536,    34.7531,2,     -999.0,9,     -999.0,9,     2.1467,2,     -999.0,9,     -999.0,9,-999.0000, -999.00,-999.000
318M20130321,       P02W,      87,          1,         12,         12,2,20130503,       0142,    29.9981,  -167.4533,       5501,  2106.9,    1.934,  34.6163,2,  34.6169,2,     82.3,2,    81.9,2,  163.79,2,   40.56,2,       0,2,     2.9,2,   0.001,2,   0.006,2,   0.000,2,     0.04,2,  2366.1,2, 2415.06,2,   7.4434,2,       25,  -0.007,2,   1.9282,2,   21.06,2, -999.00,9,  -999.0,9,  -999.0,   8.103,2,   0.037,     -999.0,9, -999.00,9,   34.18,2, -999.00,9,     -999.0,9,  -999.0,9, 20130503,      251,  29.9975,-167.4538,    34.7801,2,     -999.0,9,     -999.0,9,     1.9342,2,     -999.0,9,     -999.0,9,   0.0081,    0.15,   0.012
318M20130321,       P02W,      87,          1,         11,         11,2,20130503,       0142,    29.9981,  -167.4533,       5501,  2358.5,   1.7713,  34.6343,2,  34.6338,2,     94.2,2,    93.2,2,  165.74,2,   39.87,2,       0,2,    2.85,2,-999.000,9,-999.000,9,-999.000,9,-999.0000,9,  -999.0,9, -999.00,9,-999.0000,9,  -999.00,-999.000,9,-999.0000,9, -999.00,9, -999.00,9,  -999.0,9,  -999.0,-999.000,9,-999.000,     -999.0,9, -999.00,9,   34.25,2, -999.00,9,     -999.0,9,  -999.0,9, 20130503,      246,  29.9973,-167.4536,    34.7971,2,     -999.0,9,     -999.0,9,     1.7714,2,     -999.0,9,     -999.0,9,-999.0000, -999.00,-999.000
318M20130321,       P02W,      87,          1,         10,         10,2,20130503,       0142,    29.9981,  -167.4533,       5501,  2615.5,   1.6583,  34.6486,2,  34.6484,2,    105.8,2,   106.1,2,  165.15,2,   39.02,2,       0,2,    2.78,2,   0.003,2,   0.005,2,   0.006,2,        0,2,  2355.1,2, 2419.86,2,   7.4904,2,       25,-999.000,9,-999.0000,9, -999.00,9, -999.00,9,  -999.0,9,  -999.0,-999.000,9,-999.000,     -999.0,9, -999.00,9,   34.52,2, -999.00,9,     -999.0,9,  -999.0,9, 20130503,      240,  29.9973,-167.4534,    34.8117,2,     -999.0,9,     -999.0,9,     1.6581,2,     -999.0,9,     -999.0,9,-999.0000, -999.00,-999.000
318M20130321,       P02W,      87,          1,          9,          9,2,20130503,       0142,    29.9981,  -167.4533,       5501,  2872.2,   1.5888,  34.6586,2,  34.6582,2,    115.8,2,   115.6,2,  164.08,2,   38.43,2,       0,2,    2.73,2,-999.000,9,-999.000,9,-999.000,9,-999.0000,9,  -999.0,9, -999.00,9,-999.0000,9,  -999.00,-999.000,9,-999.0000,9, -999.00,9, -999.00,9,  -999.0,9,  -999.0,-999.000,9,-999.000,     -999.0,9, -999.00,9,   35.34,2, -999.00,9,     -999.0,9,  -999.0,9, 20130503,      235,  29.9974,-167.4535,    34.8216,2,     -999.0,9,     -999.0,9,     1.5885,2,     -999.0,9,     -999.0,9,-999.0000, -999.00,-999.000
318M20130321,       P02W,      87,          1,          8,          8,2,20130503,       0142,    29.9981,  -167.4533,       5501,  3137.7,   1.5274,  34.6678,2,  34.6676,2,    125.7,2,   126.2,2,  161.74,2,   37.76,2,       0,2,    2.67,2,   0.002,2,   0.007,2,   0.000,2,        0,2,  2343.5,2, 2419.76,2,   7.5305,2,       25,-999.000,9,-999.0000,9, -999.00,9, -999.00,9,  -999.0,9,  -999.0,-999.000,9,-999.000,     -999.0,9, -999.00,9,   35.23,2, -999.00,9,     -999.0,9,  -999.0,9, 20130503,      230,  29.9972,-167.4539,    34.8311,2,     -999.0,9,     -999.0,9,     1.5271,2,     -999.0,9,     -999.0,9,-999.0000, -999.00,-999.000
318M20130321,       P02W,      87,          1,          7,          7,4,20130503,       0142,    29.9981,  -167.4533,       5501,  3445.7,   1.4952,  34.6743,2,  34.2522,4,    134.4,2,   209.6,4,   16.11,4,   13.67,4,       0,4,    0.99,4,-999.000,9,-999.000,9,-999.000,9,-999.0000,9,  -999.0,9, -999.00,9,-999.0000,9,  -999.00,-999.000,9,-999.0000,9, -999.00,9, -999.00,9,  -999.0,9,  -999.0,-999.000,9,-999.000,     -999.0,9, -999.00,9, -999.00,5, -999.00,9,     -999.0,9,  -999.0,9, 20130503,      224,   29.997,-167.4537,    34.4137,4,     -999.0,9,     -999.0,9,     1.4949,2,     -999.0,9,     -999.0,9,-999.0000, -999.00,-999.000