BOTTLE,20220817CCHSIOAMB
EXPOCODE,SECT_ID,STNNBR,CASTNO,SAMPNO,BTLNBR,BTLNBR_FLAG_W,DATE,TIME,LATITUDE,LONGITUDE,DEPTH,CTDPRS,CTDTMP,CTDSAL,CTDSAL_FLAG_W,SALNTY,SALNTY_FLAG_W,CTDOXY,CTDOXY_FLAG_W,OXYGEN,OXYGEN_FLAG_W,SILCAT,SILCAT_FLAG_W,NITRAT,NITRAT_FLAG_W,NITRIT,NITRIT_FLAG_W,PHSPHT,PHSPHT_FLAG_W,CFC-11,CFC-11_FLAG_W,CFC-12,CFC-12_FLAG_W,CFC113,CFC113_FLAG_W,SF6,SF6_FLAG_W,TCARBN,TCARBN_FLAG_W,ALKALI,ALKALI_FLAG_W,PH_TOT,PH_TOT_FLAG_W,PH_TMP,TRITUM,TRITUM_FLAG_W,HELIUM,HELIUM_FLAG_W,DELHE3,DELHE3_FLAG_W,DELC13,DELC13_FLAG_W,DELC14,DELC14_FLAG_W,C14ERR,NEON,NEON_FLAG_W,NEONER,I-129,I-129_FLAG_W,SR-90,SR-90_FLAG_W,DOC,DOC_FLAG_W,TDN,TDN_FLAG_W,CALCIUM,CALCIUM_FLAG_W,D15N_NO3,D15N_NO3_FLAG_W,BTL_DATE,BTL_TIME,BTL_LAT,BTL_LON,SALTREF,SALTREF_FLAG_W,CS-137,CS-137_FLAG_W,CS-134,CS-134_FLAG_W,REFTMP,REFTMP_FLAG_W,LAB_DEN,LAB_DEN_FLAG_W,D18O_NO3,D18O_NO3_FLAG_W,HELIER,DELHER,TRITER
,,,,,,,,,,,METERS,DBAR,ITS-90,PSS-78,,PSS-78,,UMOL/KG,,UMOL/KG,,UMOL/KG,,UMOL/KG,,UMOL/KG,,UMOL/KG,,PMOL/KG,,PMOL/KG,,PMOL/KG,,FMOL/KG,,UMOL/KG,,UMOL/KG,,,,DEG C,TU,,NMOL/KG,,PERCNT,,/MILLE,,/MILLE,,/MILLE,NMOL/KG,,NMOL/KG,BQ/M^3,,DM/.1MG,,UMOL/KG,,UMOL/KG,,MMOL/KG,,/MILLE,,,,,,G/KG,,BQ/M^3,,BQ/M^3,,ITS-90,,,,/MILLE,,NMOL/KG,PERCNT,TU
318M20130321,       P02W,      55,          1,          7,          7,2,20130422,       1717,         30,   166.7287,       6070,  3547.8,   1.4959,  34.6765,2,  34.6759,2,    143.7,2,   143.9,2,   151.1,2,   36.51,2,       0,2,     2.6,2,   0.001,2,   0.007,2,   0.000,2,        0,2,  2327.8,2, 2414.76,2,   7.5556,2,       25,  -0.012,2,   1.9275,2,   17.26,2, -999.00,9,  -999.0,9,  -999.0,   8.323,2,   0.038,     -999.0,9, -999.00,9,   37.23,2, -999.00,9,     -999.0,1,  -999.0,1, 20130422,     1820,       30, 166.7287,    34.8394,2,     -999.0,9,     -999.0,9,     1.4958,2,     -999.0,9,     -999.0,1,   0.0081,    0.15,   0.010
318M20130321,       P02W,      55,          1,          6,          6,2,20130422,       1717,         30,   166.7287,       6070,  3913.9,   1.4769,  34.6819,2,  34.6808,2,      150,2,   149.8,2,  149.05,2,   36.12,2,       0,2,    2.56,2,   0.001,2,   0.000,2,   0.000,2,        0,2,  -999.0,9, -999.00,9,-999.0000,9,  -999.00,  -0.015,2,   1.9334,2,   16.55,2, -999.00,9,  -999.0,9,  -999.0,   8.323,2,   0.038,     -999.0,9, -999.00,9, -999.00,9, -999.00,9,     -999.0,1,  -999.0,1, 20130422,     1813,       30, 166.7287,    34.8443,2,     -999.0,9,     -999.0,9,     1.4774,2,     -999.0,9,     -999.0,1,   0.0081,    0.15,   0.010
318M20130321,       P02W,      55,          1,          5,         37,2,20130422,       1717,         30,   166.7287,       6070,  4333.1,   1.4714,  34.6862,2,  34.6857,2,    155.4,2,   155.5,2,  147.19,2,   35.75,2,       0,2,    2.54,2,-999.000,9,-999.000,9,-999.000,9,-999.0000,9,  2319.6,2, 2412.36,2,   7.5741,2,       25,-999.000,9,-999.0000,9, -999.00,9, -999.00,9,  -999.0,9,  -999.0,-999.000,9,-999.000,     -999.0,9, -999.00,9,   37.02,2, -999.00,9,     -999.0,9,  -999.0,1, 20130422,     1804,       30, 166.7287,    34.8493,2,     -999.0,9,     -999.0,9,     1.4718,2,     -999.0,9,     -999.0,1,-999.0000, -999.00,-999.000
318M20130321,       P02W,      55,          1,          4,          4,2,20130422,       1717,         30,   166.7287,       6070,  4742.1,   1.4803,  34.6903,2,  34.6902,2,    161.1,2,   161.4,2,  144.36,2,   35.35,2,       0,2,    2.49,2,   0.006,2,   0.011,2,   0.000,2,        0,2,  -999.0,9, -999.00,9,-999.0000,9,  -999.00,  -0.013,2,   1.9375,2,   16.02,2, -999.00,9,  -999.0,9,  -999.0,   8.378,2,   0.039,     -999.0,9, -999.00,9, -999.00,9, -999.00,9,     -999.0,1,  -999.0,1, 20130422,     1755,       30, 166.7287,    34.8538,2,     -999.0,9,     -999.0,9,     1.4804,2,     -999.0,9,     -999.0,1,   0.0081,    0.15,   0.010
318M20130321,       P02W,      55,          1,          3,          3,2,20130422,       1717,         30,   166.7287,       6070,  5051.6,     1.49,   34.693,2,  34.6918,2,    165.9,2,   166.7,2,  140.16,2,   34.96,2,       0,2,    2.46,2,   0.001,2,   0.008,2,   0.000,2,        0,2,  2308.1,2, 2405.25,6,    7.587,2,       25,   0.009,2,   1.9226,2,   14.97,2, -999.00,9,  -999.0,9,  -999.0,   8.301,2,   0.038,     -999.0,9, -999.00,9,   35.59,2, -999.00,9,     -999.0,1,  -999.0,1, 20130422,     1748,       30, 166.7287,    34.8554,2,     -999.0,9,     -999.0,9,     1.4905,2,     -999.0,9,     -999.0,1,   0.0081,    0.15,   0.010
318M20130321,       P02W,      55,          1,          2,          2,2,20130422,       1717,         30,   166.7287,       6070,  5706.3,    1.537,  34.6956,2,  34.6948,2,    171.8,2,     172,2,  136.65,2,   34.51,2,       0,2,    2.44,2,   0.000,2,   0.008,2,   0.002,2,        0,2,  2304.7,2, 2401.85,2,   7.5935,6,       25,  -0.010,2,   1.8992,2,   14.44,2, -999.00,9,  -999.0,9,  -999.0,   8.320,2,   0.038,     -999.0,9, -999.00,9,   35.92,2, -999.00,9,     -999.0,1,  -999.0,1, 20130422,     1732,       30, 166.7287,    34.8584,2,     -999.0,9,     -999.0,9,      1.537,2,     -999.0,9,     -999.0,1,   0.0080,    0.15,   0.010
318M20130321,       P02W,      55,          1,          1,          1,2,20130422,       1717,         30,   166.7287,       6070,  6122.6,   1.5725,  34.6969,2,  34.6965,2,    175.4,2,     175,2,  134.31,2,   34.35,2,       0,2,    2.41,2,   0.005,2,   0.013,2,   0.000,2,        0,2,  2300.8,6, 2399.75,2,    7.596,2,       25,  -0.002,2,   1.9074,2,   14.25,2, -999.00,9,  -999.0,9,  -999.0,   8.379,2,   0.039,     -999.0,9, -999.00,9,   35.32,2, -999.00,9,     -999.0,9,  -999.0,1, 20130422,     1717,       30, 166.7287,    34.8601,2,     -999.0,9,     -999.0,9,     1.5721,2,     -999.0,9,     -999.0,1,   0.0080,    0.15,   0.010