BOTTLE,20220817CCHSIOAMB
EXPOCODE,SECT_ID,STNNBR,CASTNO,SAMPNO,BTLNBR,BTLNBR_FLAG_W,DATE,TIME,LATITUDE,LONGITUDE,DEPTH,CTDPRS,CTDTMP,CTDSAL,CTDSAL_FLAG_W,SALNTY,SALNTY_FLAG_W,CTDOXY,CTDOXY_FLAG_W,OXYGEN,OXYGEN_FLAG_W,SILCAT,SILCAT_FLAG_W,NITRAT,NITRAT_FLAG_W,NITRIT,NITRIT_FLAG_W,PHSPHT,PHSPHT_FLAG_W,CFC-11,CFC-11_FLAG_W,CFC-12,CFC-12_FLAG_W,CFC113,CFC113_FLAG_W,SF6,SF6_FLAG_W,TCARBN,TCARBN_FLAG_W,ALKALI,ALKALI_FLAG_W,PH_TOT,PH_TOT_FLAG_W,PH_TMP,TRITUM,TRITUM_FLAG_W,HELIUM,HELIUM_FLAG_W,DELHE3,DELHE3_FLAG_W,DELC13,DELC13_FLAG_W,DELC14,DELC14_FLAG_W,C14ERR,NEON,NEON_FLAG_W,NEONER,I-129,I-129_FLAG_W,SR-90,SR-90_FLAG_W,DOC,DOC_FLAG_W,TDN,TDN_FLAG_W,CALCIUM,CALCIUM_FLAG_W,D15N_NO3,D15N_NO3_FLAG_W,BTL_DATE,BTL_TIME,BTL_LAT,BTL_LON,SALTREF,SALTREF_FLAG_W,CS-137,CS-137_FLAG_W,CS-134,CS-134_FLAG_W,REFTMP,REFTMP_FLAG_W,LAB_DEN,LAB_DEN_FLAG_W,D18O_NO3,D18O_NO3_FLAG_W,HELIER,DELHER,TRITER
,,,,,,,,,,,METERS,DBAR,ITS-90,PSS-78,,PSS-78,,UMOL/KG,,UMOL/KG,,UMOL/KG,,UMOL/KG,,UMOL/KG,,UMOL/KG,,PMOL/KG,,PMOL/KG,,PMOL/KG,,FMOL/KG,,UMOL/KG,,UMOL/KG,,,,DEG C,TU,,NMOL/KG,,PERCNT,,/MILLE,,/MILLE,,/MILLE,NMOL/KG,,NMOL/KG,BQ/M^3,,DM/.1MG,,UMOL/KG,,UMOL/KG,,MMOL/KG,,/MILLE,,,,,,G/KG,,BQ/M^3,,BQ/M^3,,ITS-90,,,,/MILLE,,NMOL/KG,PERCNT,TU
318M20130321,       P02W,      56,          1,         36,         36,2,20130423,       0225,    29.9997,   167.3986,       6018,     3.3,  20.1458,  34.9057,2,  34.9071,2,    229.7,2,   230.2,2,    1.76,2,       0,2,       0,2,    0.02,2,   2.553,2,   1.583,2,   0.207,2,     1.64,2,  2010.1,2, 2289.21,6,   8.0164,2,       25,-999.000,9,-999.0000,9, -999.00,9, -999.00,9,  -999.0,9,  -999.0,-999.000,9,-999.000,     -999.0,9, -999.00,9, -999.00,9, -999.00,9,     -999.0,9,  -999.0,9, 20130423,      441,  29.9989, 167.3981,    35.0717,2,     -999.0,9,     -999.0,9,    20.1505,2,     -999.0,9,     -999.0,9,-999.0000, -999.00,-999.000
318M20130321,       P02W,      56,          1,         35,         35,2,20130423,       0225,    29.9997,   167.3986,       6018,    23.1,  18.5364,  34.8341,2,  34.8711,3,      236,2,     236,2,    1.85,2,       0,2,       0,2,    0.03,2,   2.656,2,   1.652,2,   0.211,2,     2.05,2,  2010.4,2, 2288.81,2,   8.0126,6,       25,-999.000,9,-999.0000,9, -999.00,9, -999.00,9,  -999.0,9,  -999.0,-999.000,9,-999.000,     -999.0,9, -999.00,9, -999.00,9, -999.00,9,     -999.0,9,  -999.0,9, 20130423,      440,   29.999, 167.3981,    35.0356,3,     -999.0,9,     -999.0,9,    18.3997,3,     -999.0,9,     -999.0,9,-999.0000, -999.00,-999.000
318M20130321,       P02W,      56,          1,         34,         34,2,20130423,       0225,    29.9997,   167.3986,       6018,    48.6,  17.5806,  34.7205,2,  34.7211,2,    240.3,2,   240.8,2,    1.85,2,    0.14,2,    0.05,2,    0.06,2,   2.790,2,   1.703,2,   0.227,2,     1.89,2,  2008.7,2, 2279.31,2,   8.0002,2,       25,-999.000,9,-999.0000,9, -999.00,9, -999.00,9,  -999.0,9,  -999.0,-999.000,9,-999.000,     -999.0,9, -999.00,9, -999.00,9, -999.00,9,     -999.0,9,  -999.0,9, 20130423,      437,   29.999, 167.3982,    34.8848,2,     -999.0,9,     -999.0,9,     17.583,2,     -999.0,9,     -999.0,9,-999.0000, -999.00,-999.000
318M20130321,       P02W,      56,          1,         32,         32,2,20130423,       0225,    29.9997,   167.3986,       6018,    73.9,  17.5658,  34.7262,2,-999.0000,9,    238.9,2,  -999.0,9,    1.95,2,    0.19,2,    0.06,2,    0.07,2,-999.000,9,-999.000,9,-999.000,9,-999.0000,9,  -999.0,9, -999.00,9,-999.0000,9,  -999.00,-999.000,9,-999.0000,9, -999.00,9, -999.00,9,  -999.0,9,  -999.0,-999.000,9,-999.000,     -999.0,1, -999.00,1, -999.00,9, -999.00,9,     -999.0,9,  -999.0,9, 20130423,      436,  29.9988, 167.3983,     -999.0,9,     -999.0,1,     -999.0,1,    17.5662,2,     -999.0,9,     -999.0,9,-999.0000, -999.00,-999.000
318M20130321,       P02W,      56,          1,         31,         31,2,20130423,       0225,    29.9997,   167.3986,       6018,      74,  17.5653,   34.726,2,   34.726,2,    239.3,2,     239,2,    1.95,2,    0.17,2,    0.06,2,    0.06,2,   2.791,2,   1.708,2,   0.219,2,     1.76,2,  -999.0,9, -999.00,9,-999.0000,9,  -999.00,-999.000,9,-999.0000,9, -999.00,9, -999.00,9,  -999.0,9,  -999.0,-999.000,9,-999.000,     -999.0,9, -999.00,9, -999.00,9, -999.00,9,     -999.0,9,  -999.0,9, 20130423,      435,  29.9988, 167.3983,    34.8897,2,     -999.0,9,     -999.0,9,    17.5657,2,     -999.0,9,     -999.0,9,-999.0000, -999.00,-999.000
318M20130321,       P02W,      56,          1,         33,         33,2,20130423,       0225,    29.9997,   167.3986,       6018,    74.1,  17.5659,  34.7261,2,-999.0000,9,    239.3,2,  -999.0,9,    1.95,2,    0.21,2,    0.06,2,    0.07,2,-999.000,9,-999.000,9,-999.000,9,-999.0000,9,  -999.0,9, -999.00,9,-999.0000,9,  -999.00,-999.000,9,-999.0000,9, -999.00,9, -999.00,9,  -999.0,9,  -999.0,-999.000,9,-999.000,     -999.0,9, -999.00,1, -999.00,9, -999.00,9,     -999.0,9,  -999.0,9, 20130423,      436,  29.9989, 167.3983,     -999.0,9,     -999.0,1,     -999.0,1,    17.5671,2,     -999.0,9,     -999.0,9,-999.0000, -999.00,-999.000
318M20130321,       P02W,      56,          1,         30,         30,2,20130423,       0225,    29.9997,   167.3986,       6018,      99,  17.4214,  34.7184,2,  34.7189,2,    237.4,2,   236.3,2,    2.15,2,     0.5,2,     0.1,2,     0.1,2,   2.789,2,   1.672,2,   0.224,2,      1.9,2,  2016.1,2, 2278.21,2,   7.9907,2,       25,-999.000,9,-999.0000,9, -999.00,9, -999.00,9,  -999.0,9,  -999.0,-999.000,9,-999.000,     -999.0,9, -999.00,9, -999.00,9, -999.00,9,     -999.0,9,  -999.0,9, 20130423,      434,  29.9988, 167.3983,    34.8826,2,     -999.0,9,     -999.0,9,    17.4215,2,     -999.0,9,     -999.0,9,-999.0000, -999.00,-999.000
318M20130321,       P02W,      56,          1,         29,         29,2,20130423,       0225,    29.9997,   167.3986,       6018,   149.2,  16.9445,  34.6814,2,  34.6818,2,    230.8,2,   231.5,2,    2.83,2,    1.99,2,     0.2,2,    0.18,2,   2.804,2,   1.692,2,   0.207,2,     1.92,2,  -999.0,9, -999.00,9,-999.0000,9,  -999.00,-999.000,9,-999.0000,9, -999.00,9, -999.00,9,  -999.0,9,  -999.0,-999.000,9,-999.000,     -999.0,9, -999.00,9, -999.00,9, -999.00,9,     -999.0,9,  -999.0,9, 20130423,      432,  29.9989, 167.3983,    34.8453,2,     -999.0,9,     -999.0,9,    16.9449,2,     -999.0,9,     -999.0,9,-999.0000, -999.00,-999.000
318M20130321,       P02W,      56,          1,         28,         28,2,20130423,       0225,    29.9997,   167.3986,       6018,   199.7,   16.564,  34.6648,2,  34.6647,2,    223.6,2,   223.9,2,     3.9,2,    3.84,2,    0.02,2,    0.26,2,-999.000,9,-999.000,9,-999.000,9,-999.0000,9,  2030.6,2, 2274.51,2,   7.9547,6,       25,-999.000,9,-999.0000,9, -999.00,9, -999.00,9,  -999.0,9,  -999.0,-999.000,9,-999.000,     -999.0,9, -999.00,9, -999.00,9, -999.00,9,     -999.0,9,  -999.0,9, 20130423,      430,  29.9989, 167.3983,    34.8281,2,     -999.0,9,     -999.0,9,    16.5629,2,     -999.0,9,     -999.0,9,-999.0000, -999.00,-999.000
318M20130321,       P02W,      56,          1,         27,         27,2,20130423,       0225,    29.9997,   167.3986,       6018,   250.6,  16.1728,  34.6376,2,  34.6385,2,    218.3,2,   220.3,2,    4.88,2,     4.8,2,    0.02,2,    0.32,2,   2.859,2,   1.726,2,   0.126,2,     1.75,2,  -999.0,9, -999.00,9,-999.0000,9,  -999.00,-999.000,9,-999.0000,9, -999.00,9, -999.00,9,  -999.0,9,  -999.0,-999.000,9,-999.000,     -999.0,9, -999.00,9, -999.00,9, -999.00,9,     -999.0,9,  -999.0,9, 20130423,      429,   29.999, 167.3983,    34.8019,2,     -999.0,9,     -999.0,9,    16.1706,2,     -999.0,9,     -999.0,9,-999.0000, -999.00,-999.000
318M20130321,       P02W,      56,          1,         26,         26,2,20130423,       0225,    29.9997,   167.3986,       6018,   300.8,  15.7856,  34.6028,2,  34.6026,2,    219.6,2,   219.3,2,    5.95,2,    5.63,2,    0.02,2,    0.39,2,-999.000,9,-999.000,9,-999.000,9,-999.0000,9,  2043.6,2, 2273.01,2,   7.9279,2,       25,-999.000,9,-999.0000,9, -999.00,9, -999.00,9,  -999.0,9,  -999.0,-999.000,9,-999.000,     -999.0,9, -999.00,9, -999.00,9, -999.00,9,     -999.0,9,  -999.0,9, 20130423,      427,   29.999, 167.3984,    34.7657,2,     -999.0,9,     -999.0,9,    15.7827,2,     -999.0,9,     -999.0,9,-999.0000, -999.00,-999.000
318M20130321,       P02W,      56,          1,         25,         25,2,20130423,       0225,    29.9997,   167.3986,       6018,   352.6,  14.8821,  34.5352,2,   34.535,2,    208.4,2,   208.5,2,    8.88,2,    7.92,2,    0.02,2,    0.56,2,   2.645,2,   1.763,2,   0.103,2,     1.57,2,  -999.0,9, -999.00,9,-999.0000,9,  -999.00,-999.000,9,-999.0000,9, -999.00,9, -999.00,9,  -999.0,9,  -999.0,-999.000,9,-999.000,     -999.0,9, -999.00,9, -999.00,9, -999.00,9,     -999.0,9,  -999.0,9, 20130423,      425,  29.9991, 167.3984,    34.6979,2,     -999.0,9,     -999.0,9,      14.88,2,     -999.0,9,     -999.0,9,-999.0000, -999.00,-999.000
318M20130321,       P02W,      56,          1,         24,         24,2,20130423,       0225,    29.9997,   167.3986,       6018,   402.2,  13.4219,  34.4442,2,  34.4441,2,    197.8,2,   198.4,2,   13.67,2,   11.14,2,    0.02,2,    0.78,2,-999.000,9,-999.000,9,-999.000,9,-999.0000,9,  2084.2,2, 2270.51,2,   7.8379,2,       25,-999.000,9,-999.0000,9, -999.00,9, -999.00,9,  -999.0,9,  -999.0,-999.000,9,-999.000,     -999.0,9, -999.00,9, -999.00,9, -999.00,9,     -999.0,9,  -999.0,9, 20130423,      423,  29.9991, 167.3984,    34.6065,2,     -999.0,9,     -999.0,9,    13.4391,2,     -999.0,9,     -999.0,9,-999.0000, -999.00,-999.000
318M20130321,       P02W,      56,          1,         23,         23,2,20130423,       0225,    29.9997,   167.3986,       6018,   503.5,  10.7015,  34.2367,2,  34.2379,2,    193.3,2,     193,2,   21.38,2,   16.12,2,    0.02,2,    1.14,2,   3.456,2,   1.932,2,   0.106,2,     2.16,2,  -999.0,9, -999.00,9,-999.0000,9,  -999.00,-999.000,9,-999.0000,9, -999.00,9, -999.00,9,  -999.0,9,  -999.0,-999.000,9,-999.000,     -999.0,9, -999.00,9, -999.00,9, -999.00,9,     -999.0,9,  -999.0,9, 20130423,      421,  29.9992, 167.3986,    34.3993,2,     -999.0,9,     -999.0,9,    10.6937,2,     -999.0,9,     -999.0,9,-999.0000, -999.00,-999.000
318M20130321,       P02W,      56,          1,         22,         22,2,20130423,       0225,    29.9997,   167.3986,       6018,   600.1,   8.1434,  34.0678,2,   34.074,3,      176,2,   176.4,2,    37.6,2,   22.29,2,    0.01,2,    1.61,2,-999.000,9,-999.000,9,-999.000,9,-999.0000,9,  2161.2,2, 2273.71,2,   7.6499,2,       25,-999.000,9,-999.0000,9, -999.00,9, -999.00,9,  -999.0,9,  -999.0,-999.000,9,-999.000,     -999.0,9, -999.00,9, -999.00,9, -999.00,9,     -999.0,9,  -999.0,9, 20130423,      418,  29.9993, 167.3986,    34.2347,3,     -999.0,9,     -999.0,9,     8.1486,2,     -999.0,9,     -999.0,9,-999.0000, -999.00,-999.000
318M20130321,       P02W,      56,          1,         21,         21,2,20130423,       0225,    29.9997,   167.3986,       6018,   701.2,   5.8812,  34.0109,2,  34.0134,2,    129.3,2,   129.5,2,   63.48,2,   30.77,2,       0,2,    2.25,2,   2.793,2,   1.428,2,   0.140,2,     0.88,2,  -999.0,9, -999.00,9,-999.0000,9,  -999.00,-999.000,9,-999.0000,9, -999.00,9, -999.00,9,  -999.0,9,  -999.0,-999.000,9,-999.000,     -999.0,9, -999.00,9, -999.00,9, -999.00,9,     -999.0,9,  -999.0,9, 20130423,      416,  29.9993, 167.3986,    34.1738,2,     -999.0,9,     -999.0,9,     5.8808,2,     -999.0,9,     -999.0,9,-999.0000, -999.00,-999.000
318M20130321,       P02W,      56,          1,         20,         20,2,20130423,       0225,    29.9997,   167.3986,       6018,     804,   4.7127,  34.0901,2,  34.0904,2,     81.3,2,    81.5,2,   87.88,2,   36.95,2,       0,2,    2.68,2,-999.000,9,-999.000,9,-999.000,9,-999.0000,9,  2281.8,2, 2313.62,2,   7.3963,2,       25,-999.000,9,-999.0000,9, -999.00,9, -999.00,9,  -999.0,9,  -999.0,-999.000,9,-999.000,     -999.0,9, -999.00,9, -999.00,9, -999.00,9,     -999.0,9,  -999.0,9, 20130423,      413,  29.9994, 167.3987,    34.2512,2,     -999.0,9,     -999.0,9,     4.7146,2,     -999.0,9,     -999.0,9,-999.0000, -999.00,-999.000
318M20130321,       P02W,      56,          1,         19,         19,2,20130423,       0225,    29.9997,   167.3986,       6018,   905.4,    4.116,  34.1936,2,  34.1973,2,     52.6,2,    52.4,2,  106.43,2,   40.15,2,       0,2,     2.9,2,   0.943,2,   0.485,2,   0.054,2,     0.19,2,  -999.0,9, -999.00,9,-999.0000,9,  -999.00,-999.000,9,-999.0000,9, -999.00,9, -999.00,9,  -999.0,9,  -999.0,-999.000,9,-999.000,     -999.0,9, -999.00,9, -999.00,9, -999.00,9,     -999.0,9,  -999.0,9, 20130423,      411,  29.9994, 167.3988,    34.3585,2,     -999.0,9,     -999.0,9,     4.1176,2,     -999.0,9,     -999.0,9,-999.0000, -999.00,-999.000
318M20130321,       P02W,      56,          1,         18,         18,2,20130423,       0225,    29.9997,   167.3986,       6018,  1006.8,   3.7611,  34.2795,2,    34.28,2,     37.8,2,    36.4,2,  118.14,2,   41.91,2,       0,2,    3.04,2,-999.000,9,-999.000,9,-999.000,9,-999.0000,9,  2343.2,2, 2349.93,2,   7.3291,6,       25,-999.000,9,-999.0000,9, -999.00,9, -999.00,9,  -999.0,9,  -999.0,-999.000,9,-999.000,     -999.0,9, -999.00,9, -999.00,9, -999.00,9,     -999.0,9,  -999.0,9, 20130423,      408,  29.9994, 167.3989,    34.4417,2,     -999.0,9,     -999.0,9,      3.764,2,     -999.0,9,     -999.0,9,-999.0000, -999.00,-999.000
318M20130321,       P02W,      56,          1,         17,         17,2,20130423,       0225,    29.9997,   167.3986,       6018,  1108.2,   3.4327,  34.3403,2,   34.341,2,     32.3,2,    31.1,2,  128.39,2,   42.67,2,       0,2,     3.1,2,   0.212,2,   0.117,2,   0.016,2,     0.02,2,  -999.0,9, -999.00,9,-999.0000,9,  -999.00,-999.000,9,-999.0000,9, -999.00,9, -999.00,9,  -999.0,9,  -999.0,-999.000,9,-999.000,     -999.0,9, -999.00,9, -999.00,9, -999.00,9,     -999.0,9,  -999.0,9, 20130423,      405,  29.9993,  167.399,    34.5029,2,     -999.0,9,     -999.0,9,     3.4299,2,     -999.0,9,     -999.0,9,-999.0000, -999.00,-999.000
318M20130321,       P02W,      56,          1,         16,         16,2,20130423,       0225,    29.9997,   167.3986,       6018,  1210.3,   3.1447,  34.3982,2,  34.3977,2,     28.8,2,    29.9,2,  137.07,2,   43.16,2,       0,2,    3.13,2,   0.102,2,   0.065,2,   0.006,2,     0.06,2,  2366.7,2, 2372.74,2,   7.3254,2,       25,-999.000,9,-999.0000,9, -999.00,9, -999.00,9,  -999.0,9,  -999.0,-999.000,9,-999.000,     -999.0,9, -999.00,9, -999.00,9, -999.00,9,     -999.0,9,  -999.0,9, 20130423,      403,  29.9992, 167.3992,    34.5599,2,     -999.0,9,     -999.0,9,     3.1443,2,     -999.0,9,     -999.0,9,-999.0000, -999.00,-999.000
318M20130321,       P02W,      56,          1,         15,         15,2,20130423,       0225,    29.9997,   167.3986,       6018,  1311.6,   2.8665,   34.446,2,  34.4458,2,     31.4,2,    31.6,2,  144.97,2,   43.25,2,       0,2,    3.11,2,   0.058,2,   0.036,2,   0.008,2,        0,2,  -999.0,9, -999.00,9,-999.0000,9,  -999.00,-999.000,9,-999.0000,9, -999.00,9, -999.00,9,  -999.0,9,  -999.0,-999.000,9,-999.000,     -999.0,9, -999.00,9, -999.00,9, -999.00,9,     -999.0,9,  -999.0,9, 20130423,      400,  29.9993, 167.3992,    34.6082,2,     -999.0,9,     -999.0,9,     2.8673,2,     -999.0,9,     -999.0,9,-999.0000, -999.00,-999.000
318M20130321,       P02W,      56,          1,         14,         14,2,20130423,       0225,    29.9997,   167.3986,       6018,  1407.5,    2.691,  34.4787,2,  34.4794,2,     35.3,2,    35.7,2,  149.07,2,   43.13,2,       0,2,    3.11,2,   0.037,2,   0.028,2,   0.004,2,        0,4,  2375.7,6, 2390.25,2,    7.343,2,       25,-999.000,9,-999.0000,9, -999.00,9, -999.00,9,  -999.0,9,  -999.0,-999.000,9,-999.000,     -999.0,9, -999.00,9, -999.00,9, -999.00,9,     -999.0,9,  -999.0,9, 20130423,      357,  29.9994, 167.3992,     34.642,2,     -999.0,9,     -999.0,9,     2.6904,2,     -999.0,9,     -999.0,9,-999.0000, -999.00,-999.000
318M20130321,       P02W,      56,          1,         13,         13,2,20130423,       0225,    29.9997,   167.3986,       6018,  1613.1,   2.3407,  34.5403,2,  34.5406,2,     48.7,2,    49.7,2,  157.07,2,   42.38,2,       0,2,    3.06,2,   0.011,2,   0.015,2,   0.005,2,     0.04,2,  2377.1,2, 2399.25,2,   7.3763,2,       25,-999.000,9,-999.0000,9, -999.00,9, -999.00,9,  -999.0,9,  -999.0,-999.000,9,-999.000,     -999.0,9, -999.00,9, -999.00,9, -999.00,9,     -999.0,9,  -999.0,9, 20130423,      353,  29.9997, 167.3992,    34.7035,2,     -999.0,9,     -999.0,9,     2.3408,2,     -999.0,9,     -999.0,9,-999.0000, -999.00,-999.000
318M20130321,       P02W,      56,          1,         12,         12,2,20130423,       0225,    29.9997,   167.3986,       6018,  1812.8,   2.1261,  34.5731,2,  34.5738,2,     63.3,2,    63.1,2,  160.48,2,    41.7,2,       0,2,    2.97,2,   0.006,2,   0.010,2,   0.005,2,        0,2,  2373.9,2, 2406.35,2,   7.4018,2,       25,-999.000,9,-999.0000,9, -999.00,9, -999.00,9,  -999.0,9,  -999.0,-999.000,9,-999.000,     -999.0,9, -999.00,9, -999.00,9, -999.00,9,     -999.0,9,  -999.0,9, 20130423,      349,  29.9999, 167.3992,    34.7369,2,     -999.0,9,     -999.0,9,     2.1268,2,     -999.0,9,     -999.0,9,-999.0000, -999.00,-999.000
318M20130321,       P02W,      56,          1,         11,         11,2,20130423,       0225,    29.9997,   167.3986,       6018,  2119.5,   1.8806,  34.6118,2,  34.6131,2,     86.8,2,    85.2,2,  161.74,2,   40.26,2,       0,2,    2.85,2,-999.000,9,-999.000,9,-999.000,9,-999.0000,9,  -999.0,9, -999.00,9,-999.0000,9,  -999.00,-999.000,9,-999.0000,9, -999.00,9, -999.00,9,  -999.0,9,  -999.0,-999.000,9,-999.000,     -999.0,9, -999.00,9, -999.00,9, -999.00,9,     -999.0,9,  -999.0,9, 20130423,      343,  29.9999, 167.3991,    34.7763,2,     -999.0,9,     -999.0,9,     1.8805,2,     -999.0,9,     -999.0,9,-999.0000, -999.00,-999.000
318M20130321,       P02W,      56,          1,         10,         10,2,20130423,       0225,    29.9997,   167.3986,       6018,  2473.2,   1.7018,  34.6411,2,  34.6412,2,    109.2,2,   108.9,2,  157.93,2,   38.72,2,       0,2,    2.74,2,   0.013,2,   0.013,2,   0.002,2,        0,2,  2350.2,2, 2413.06,2,   7.4932,2,       25,-999.000,9,-999.0000,9, -999.00,9, -999.00,9,  -999.0,9,  -999.0,-999.000,9,-999.000,     -999.0,9, -999.00,9, -999.00,9, -999.00,9,     -999.0,9,  -999.0,9, 20130423,      336,  29.9997, 167.3991,    34.8045,2,     -999.0,9,     -999.0,9,     1.7016,2,     -999.0,9,     -999.0,9,-999.0000, -999.00,-999.000
318M20130321,       P02W,      56,          1,          9,          9,2,20130423,       0225,    29.9997,   167.3986,       6018,    2858,   1.5808,  34.6602,2,    34.66,2,    125.6,2,   125.5,2,  155.39,2,   37.65,2,       0,2,    2.66,2,-999.000,9,-999.000,9,-999.000,9,-999.0000,9,  -999.0,9, -999.00,9,-999.0000,9,  -999.00,-999.000,9,-999.0000,9, -999.00,9, -999.00,9,  -999.0,9,  -999.0,-999.000,9,-999.000,     -999.0,9, -999.00,9, -999.00,9, -999.00,9,     -999.0,9,  -999.0,9, 20130423,      328,  29.9992, 167.3991,    34.8235,2,     -999.0,9,     -999.0,9,     1.5808,2,     -999.0,9,     -999.0,9,-999.0000, -999.00,-999.000
318M20130321,       P02W,      56,          1,          8,          8,2,20130423,       0225,    29.9997,   167.3986,       6018,  3236.8,   1.5189,    34.67,2,  34.6701,2,    134.3,2,   134.9,2,  154.32,2,   37.07,2,       0,2,    2.61,2,   0.002,2,   0.007,2,   0.011,2,        0,2,  2334.2,6, 2415.46,2,   7.5406,2,       25,-999.000,9,-999.0000,9, -999.00,9, -999.00,9,  -999.0,9,  -999.0,-999.000,9,-999.000,     -999.0,9, -999.00,9, -999.00,9, -999.00,9,     -999.0,9,  -999.0,9, 20130423,      320,  29.9989,  167.399,    34.8335,2,     -999.0,9,     -999.0,9,     1.5188,2,     -999.0,9,     -999.0,9,-999.0000, -999.00,-999.000