BOTTLE,20220817CCHSIOAMB
EXPOCODE,SECT_ID,STNNBR,CASTNO,SAMPNO,BTLNBR,BTLNBR_FLAG_W,DATE,TIME,LATITUDE,LONGITUDE,DEPTH,CTDPRS,CTDTMP,CTDSAL,CTDSAL_FLAG_W,SALNTY,SALNTY_FLAG_W,CTDOXY,CTDOXY_FLAG_W,OXYGEN,OXYGEN_FLAG_W,SILCAT,SILCAT_FLAG_W,NITRAT,NITRAT_FLAG_W,NITRIT,NITRIT_FLAG_W,PHSPHT,PHSPHT_FLAG_W,CFC-11,CFC-11_FLAG_W,CFC-12,CFC-12_FLAG_W,CFC113,CFC113_FLAG_W,SF6,SF6_FLAG_W,TCARBN,TCARBN_FLAG_W,ALKALI,ALKALI_FLAG_W,PH_TOT,PH_TOT_FLAG_W,PH_TMP,TRITUM,TRITUM_FLAG_W,HELIUM,HELIUM_FLAG_W,DELHE3,DELHE3_FLAG_W,DELC13,DELC13_FLAG_W,DELC14,DELC14_FLAG_W,C14ERR,NEON,NEON_FLAG_W,NEONER,I-129,I-129_FLAG_W,SR-90,SR-90_FLAG_W,DOC,DOC_FLAG_W,TDN,TDN_FLAG_W,CALCIUM,CALCIUM_FLAG_W,D15N_NO3,D15N_NO3_FLAG_W,BTL_DATE,BTL_TIME,BTL_LAT,BTL_LON,SALTREF,SALTREF_FLAG_W,CS-137,CS-137_FLAG_W,CS-134,CS-134_FLAG_W,REFTMP,REFTMP_FLAG_W,LAB_DEN,LAB_DEN_FLAG_W,D18O_NO3,D18O_NO3_FLAG_W,HELIER,DELHER,TRITER
,,,,,,,,,,,METERS,DBAR,ITS-90,PSS-78,,PSS-78,,UMOL/KG,,UMOL/KG,,UMOL/KG,,UMOL/KG,,UMOL/KG,,UMOL/KG,,PMOL/KG,,PMOL/KG,,PMOL/KG,,FMOL/KG,,UMOL/KG,,UMOL/KG,,,,DEG C,TU,,NMOL/KG,,PERCNT,,/MILLE,,/MILLE,,/MILLE,NMOL/KG,,NMOL/KG,BQ/M^3,,DM/.1MG,,UMOL/KG,,UMOL/KG,,MMOL/KG,,/MILLE,,,,,,G/KG,,BQ/M^3,,BQ/M^3,,ITS-90,,,,/MILLE,,NMOL/KG,PERCNT,TU
318M20130321,       P02W,      50,          1,          7,          7,2,20130421,       0104,    29.9997,   162.5996,       6024,  3653.1,   1.4922,  34.6771,2,  34.6759,2,    142.1,2,   143.4,2,  150.41,2,   36.54,2,       0,2,    2.57,2,-999.000,9,-999.000,9,-999.000,9,-999.0000,9,  -999.0,9, -999.00,9,-999.0000,9,  -999.00,-999.000,9,-999.0000,9, -999.00,9, -999.00,9,  -999.0,9,  -999.0,-999.000,9,-999.000,     -999.0,9, -999.00,9, -999.00,9, -999.00,9,     -999.0,9,  -999.0,9, 20130421,      155,  30.0004, 162.6003,    34.8394,2,     -999.0,9,     -999.0,9,     1.4922,2,     -999.0,9,     -999.0,9,-999.0000, -999.00,-999.000
318M20130321,       P02W,      50,          1,          6,          6,2,20130421,       0104,    29.9997,   162.5996,       6024,  4052.8,   1.4774,  34.6829,2,  34.6814,2,    150.3,2,   150.5,2,  148.56,2,   36.09,2,       0,2,    2.53,2,   0.012,2,   0.009,2,   0.007,2,    -0.05,2,  -999.0,9, -999.00,9,-999.0000,9,  -999.00,-999.000,9,-999.0000,9, -999.00,9, -999.00,9,  -999.0,9,  -999.0,-999.000,9,-999.000,     -999.0,9, -999.00,9, -999.00,9, -999.00,9,     -999.0,9,  -999.0,9, 20130421,      147,  30.0009, 162.6002,    34.8449,2,     -999.0,9,     -999.0,9,     1.4773,2,     -999.0,9,     -999.0,9,-999.0000, -999.00,-999.000
318M20130321,       P02W,      50,          1,          5,         37,2,20130421,       0104,    29.9997,   162.5996,       6024,  4470.4,   1.4747,  34.6875,2,  34.6867,2,    156.6,2,   156.2,2,  147.39,2,   35.66,2,       0,2,     2.5,2,-999.000,9,-999.000,9,-999.000,9,-999.0000,9,  2318.9,6, 2411.66,2,   7.5745,2,       25,-999.000,9,-999.0000,9, -999.00,9, -999.00,9,  -999.0,9,  -999.0,-999.000,9,-999.000,     -999.0,9, -999.00,9, -999.00,9, -999.00,9,     -999.0,9,  -999.0,9, 20130421,      139,   30.001,    162.6,    34.8503,2,     -999.0,9,     -999.0,9,      1.475,2,     -999.0,9,     -999.0,9,-999.0000, -999.00,-999.000
318M20130321,       P02W,      50,          1,          4,          4,2,20130421,       0104,    29.9997,   162.5996,       6024,  4877.6,   1.4888,  34.6908,2,  34.6895,2,    162.2,2,   161.8,2,  143.87,2,   35.23,2,       0,2,    2.47,2,   0.010,2,   0.012,2,   0.007,2,    -0.02,2,  -999.0,9, -999.00,9,-999.0000,9,  -999.00,-999.000,9,-999.0000,9, -999.00,9, -999.00,9,  -999.0,9,  -999.0,-999.000,9,-999.000,     -999.0,9, -999.00,9, -999.00,9, -999.00,9,     -999.0,9,  -999.0,9, 20130421,      131,  30.0007, 162.6003,     34.853,2,     -999.0,9,     -999.0,9,     1.4892,2,     -999.0,9,     -999.0,9,-999.0000, -999.00,-999.000
318M20130321,       P02W,      50,          1,          3,          3,2,20130421,       0104,    29.9997,   162.5996,       6024,  5293.2,   1.5034,   34.694,2,  34.6932,2,    168.1,2,   168.6,2,   138.8,2,   34.73,2,       0,2,    2.41,2,-999.000,9,-999.000,9,-999.000,9,-999.0000,9,  2306.7,2, 2404.95,2,    7.589,6,       25,-999.000,9,-999.0000,9, -999.00,9, -999.00,9,  -999.0,9,  -999.0,-999.000,9,-999.000,     -999.0,9, -999.00,9, -999.00,9, -999.00,9,     -999.0,9,  -999.0,9, 20130421,      123,  30.0005,    162.6,    34.8568,2,     -999.0,9,     -999.0,9,     1.5036,2,     -999.0,9,     -999.0,9,-999.0000, -999.00,-999.000
318M20130321,       P02W,      50,          1,          2,          2,2,20130421,       0104,    29.9997,   162.5996,       6024,  5702.7,   1.5364,  34.6956,2,  34.6954,2,      171,2,   171.6,2,  136.45,2,   34.48,2,       0,2,    2.39,2,   0.013,2,   0.012,2,   0.004,2,    -0.06,2,  2301.4,6, 2402.85,2,    7.592,2,       25,-999.000,9,-999.0000,9, -999.00,9, -999.00,9,  -999.0,9,  -999.0,-999.000,9,-999.000,     -999.0,9, -999.00,9, -999.00,9, -999.00,9,     -999.0,9,  -999.0,9, 20130421,      115,  30.0003,    162.6,     34.859,2,     -999.0,9,     -999.0,9,     1.5362,2,     -999.0,9,     -999.0,9,-999.0000, -999.00,-999.000
318M20130321,       P02W,      50,          1,          1,          1,2,20130421,       0104,    29.9997,   162.5996,       6024,  6123.2,   1.5846,   34.696,2,  34.6967,2,    172.8,2,   172.5,2,  135.77,2,   34.36,2,       0,2,    2.38,2,   0.033,2,   0.018,2,   0.004,2,        0,4,  2303.2,2, 2401.25,6,   7.5937,2,       25,-999.000,9,-999.0000,9, -999.00,9, -999.00,9,  -999.0,9,  -999.0,-999.000,9,-999.000,     -999.0,9, -999.00,9, -999.00,9, -999.00,9,     -999.0,9,  -999.0,9, 20130421,      104,  29.9997, 162.5996,    34.8603,2,     -999.0,9,     -999.0,9,     1.5845,2,     -999.0,9,     -999.0,9,-999.0000, -999.00,-999.000