BOTTLE,20220817CCHSIOAMB
EXPOCODE,SECT_ID,STNNBR,CASTNO,SAMPNO,BTLNBR,BTLNBR_FLAG_W,DATE,TIME,LATITUDE,LONGITUDE,DEPTH,CTDPRS,CTDTMP,CTDSAL,CTDSAL_FLAG_W,SALNTY,SALNTY_FLAG_W,CTDOXY,CTDOXY_FLAG_W,OXYGEN,OXYGEN_FLAG_W,SILCAT,SILCAT_FLAG_W,NITRAT,NITRAT_FLAG_W,NITRIT,NITRIT_FLAG_W,PHSPHT,PHSPHT_FLAG_W,CFC-11,CFC-11_FLAG_W,CFC-12,CFC-12_FLAG_W,CFC113,CFC113_FLAG_W,SF6,SF6_FLAG_W,TCARBN,TCARBN_FLAG_W,ALKALI,ALKALI_FLAG_W,PH_TOT,PH_TOT_FLAG_W,PH_TMP,TRITUM,TRITUM_FLAG_W,HELIUM,HELIUM_FLAG_W,DELHE3,DELHE3_FLAG_W,DELC13,DELC13_FLAG_W,DELC14,DELC14_FLAG_W,C14ERR,NEON,NEON_FLAG_W,NEONER,I-129,I-129_FLAG_W,SR-90,SR-90_FLAG_W,DOC,DOC_FLAG_W,TDN,TDN_FLAG_W,CALCIUM,CALCIUM_FLAG_W,D15N_NO3,D15N_NO3_FLAG_W,BTL_DATE,BTL_TIME,BTL_LAT,BTL_LON,SALTREF,SALTREF_FLAG_W,CS-137,CS-137_FLAG_W,CS-134,CS-134_FLAG_W,REFTMP,REFTMP_FLAG_W,LAB_DEN,LAB_DEN_FLAG_W,D18O_NO3,D18O_NO3_FLAG_W,HELIER,DELHER,TRITER
,,,,,,,,,,,METERS,DBAR,ITS-90,PSS-78,,PSS-78,,UMOL/KG,,UMOL/KG,,UMOL/KG,,UMOL/KG,,UMOL/KG,,UMOL/KG,,PMOL/KG,,PMOL/KG,,PMOL/KG,,FMOL/KG,,UMOL/KG,,UMOL/KG,,,,DEG C,TU,,NMOL/KG,,PERCNT,,/MILLE,,/MILLE,,/MILLE,NMOL/KG,,NMOL/KG,BQ/M^3,,DM/.1MG,,UMOL/KG,,UMOL/KG,,MMOL/KG,,/MILLE,,,,,,G/KG,,BQ/M^3,,BQ/M^3,,ITS-90,,,,/MILLE,,NMOL/KG,PERCNT,TU
318M20130321,       P02W,      61,          1,          7,          7,2,20130424,       1520,    30.0004,     170.74,       5572,  3549.6,   1.4679,  34.6774,2,  34.6771,2,    142.1,2,     142,2,  155.49,2,   36.64,2,       0,2,    2.59,2,   0.001,2,   0.013,2,   0.002,2,        0,2,  2333.6,2, 2417.06,2,   7.5517,2,       25,-999.000,9,-999.0000,9, -999.00,9, -999.00,9,  -999.0,9,  -999.0,-999.000,9,-999.000,     -999.0,9, -999.00,9,   37.37,2, -999.00,9,     -999.0,9,  -999.0,9, 20130424,     1606,  30.0005, 170.7383,    34.8406,2,     -999.0,9,     -999.0,9,     1.4677,2,     -999.0,9,     -999.0,9,-999.0000, -999.00,-999.000
318M20130321,       P02W,      61,          1,          6,          6,2,20130424,       1520,    30.0004,     170.74,       5572,  3855.3,   1.4573,  34.6823,2,  34.6822,2,      148,2,   147.6,2,  153.54,2,   36.28,2,       0,2,    2.56,2,-999.000,9,-999.000,9,-999.000,9,-999.0000,9,  -999.0,9, -999.00,9,-999.0000,9,  -999.00,-999.000,9,-999.0000,9, -999.00,9, -999.00,9,  -999.0,9,  -999.0,-999.000,9,-999.000,     -999.0,9, -999.00,9,   37.85,2, -999.00,9,     -999.0,9,  -999.0,9, 20130424,     1559,  30.0006, 170.7385,    34.8457,2,     -999.0,9,     -999.0,9,     1.4577,2,     -999.0,9,     -999.0,9,-999.0000, -999.00,-999.000
318M20130321,       P02W,      61,          1,          5,         37,2,20130424,       1520,    30.0004,     170.74,       5572,  4230.5,   1.4552,  34.6868,2,  34.6861,2,    153.9,2,   154.1,2,  151.97,2,   35.86,2,       0,2,    2.52,2,-999.000,9,-999.000,9,-999.000,9,-999.0000,9,  2324.9,2, 2413.76,6,    7.571,2,       25,-999.000,9,-999.0000,9, -999.00,9, -999.00,9,  -999.0,9,  -999.0,-999.000,9,-999.000,     -999.0,9, -999.00,9,   36.83,2, -999.00,9,     -999.0,9,  -999.0,9, 20130424,     1551,  30.0005, 170.7389,    34.8497,2,     -999.0,9,     -999.0,9,     1.4553,2,     -999.0,9,     -999.0,9,-999.0000, -999.00,-999.000
318M20130321,       P02W,      61,          1,          4,          4,2,20130424,       1520,    30.0004,     170.74,       5572,  4641.1,   1.4582,  34.6909,2,  34.6903,2,      161,2,   161.3,2,  146.31,2,   35.26,2,       0,2,    2.48,2,   0.001,2,   0.013,2,   0.002,2,        0,2,  -999.0,9, -999.00,9,-999.0000,9,  -999.00,-999.000,9,-999.0000,9, -999.00,9, -999.00,9,  -999.0,9,  -999.0,-999.000,9,-999.000,     -999.0,9, -999.00,9,   39.23,2, -999.00,9,     -999.0,9,  -999.0,9, 20130424,     1543,  30.0008, 170.7394,    34.8538,2,     -999.0,9,     -999.0,9,      1.458,2,     -999.0,9,     -999.0,9,-999.0000, -999.00,-999.000
318M20130321,       P02W,      61,          1,          3,          3,2,20130424,       1520,    30.0004,     170.74,       5572,  5052.7,   1.4676,  34.6944,2,  34.6934,2,    168.4,2,   168.6,2,  140.75,2,   34.79,2,       0,2,    2.44,2,   0.001,2,   0.012,2,   0.007,2,        0,2,    2310,2, 2404.55,2,   7.5882,6,       25,-999.000,9,-999.0000,9, -999.00,9, -999.00,9,  -999.0,9,  -999.0,-999.000,9,-999.000,     -999.0,9, -999.00,9,    37.7,2, -999.00,9,     -999.0,9,  -999.0,9, 20130424,     1534,  30.0009, 170.7395,     34.857,2,     -999.0,9,     -999.0,9,     1.4675,2,     -999.0,9,     -999.0,9,-999.0000, -999.00,-999.000
318M20130321,       P02W,      61,          1,          2,          2,2,20130424,       1520,    30.0004,     170.74,       5572,  5412.9,   1.4881,  34.6963,2,  34.6962,2,    172.6,2,   172.8,2,  137.23,2,    34.6,2,       0,2,    2.41,2,   0.001,2,   0.012,2,   0.000,2,        0,2,  2304.4,2, 2401.85,2,   7.5917,2,       25,-999.000,9,-999.0000,9, -999.00,9, -999.00,9,  -999.0,9,  -999.0,-999.000,9,-999.000,     -999.0,9, -999.00,9,   38.49,2, -999.00,9,     -999.0,9,  -999.0,9, 20130424,     1527,  30.0009, 170.7399,    34.8598,2,     -999.0,9,     -999.0,9,     1.4882,2,     -999.0,9,     -999.0,9,-999.0000, -999.00,-999.000
318M20130321,       P02W,      61,          1,          1,          1,2,20130424,       1520,    30.0004,     170.74,       5572,  5648.9,   1.5037,  34.6974,2,  34.6975,2,    175.2,2,     175,2,  135.38,2,   34.37,2,       0,2,     2.4,2,   0.001,2,   0.010,2,   0.000,2,        0,2,  2302.6,2, 2398.85,2,   7.5937,2,       25,-999.000,9,-999.0000,9, -999.00,9, -999.00,9,  -999.0,9,  -999.0,-999.000,9,-999.000,     -999.0,9, -999.00,9,   37.68,2, -999.00,9,     -999.0,9,  -999.0,9, 20130424,     1520,  30.0005,   170.74,    34.8611,2,     -999.0,9,     -999.0,9,     1.5035,2,     -999.0,9,     -999.0,9,-999.0000, -999.00,-999.000