BOTTLE,20220817CCHSIOAMB
EXPOCODE,SECT_ID,STNNBR,CASTNO,SAMPNO,BTLNBR,BTLNBR_FLAG_W,DATE,TIME,LATITUDE,LONGITUDE,DEPTH,CTDPRS,CTDTMP,CTDSAL,CTDSAL_FLAG_W,SALNTY,SALNTY_FLAG_W,CTDOXY,CTDOXY_FLAG_W,OXYGEN,OXYGEN_FLAG_W,SILCAT,SILCAT_FLAG_W,NITRAT,NITRAT_FLAG_W,NITRIT,NITRIT_FLAG_W,PHSPHT,PHSPHT_FLAG_W,CFC-11,CFC-11_FLAG_W,CFC-12,CFC-12_FLAG_W,CFC113,CFC113_FLAG_W,SF6,SF6_FLAG_W,TCARBN,TCARBN_FLAG_W,ALKALI,ALKALI_FLAG_W,PH_TOT,PH_TOT_FLAG_W,PH_TMP,TRITUM,TRITUM_FLAG_W,HELIUM,HELIUM_FLAG_W,DELHE3,DELHE3_FLAG_W,DELC13,DELC13_FLAG_W,DELC14,DELC14_FLAG_W,C14ERR,NEON,NEON_FLAG_W,NEONER,I-129,I-129_FLAG_W,SR-90,SR-90_FLAG_W,DOC,DOC_FLAG_W,TDN,TDN_FLAG_W,CALCIUM,CALCIUM_FLAG_W,D15N_NO3,D15N_NO3_FLAG_W,BTL_DATE,BTL_TIME,BTL_LAT,BTL_LON,SALTREF,SALTREF_FLAG_W,CS-137,CS-137_FLAG_W,CS-134,CS-134_FLAG_W,REFTMP,REFTMP_FLAG_W,LAB_DEN,LAB_DEN_FLAG_W,D18O_NO3,D18O_NO3_FLAG_W,HELIER,DELHER,TRITER
,,,,,,,,,,,METERS,DBAR,ITS-90,PSS-78,,PSS-78,,UMOL/KG,,UMOL/KG,,UMOL/KG,,UMOL/KG,,UMOL/KG,,UMOL/KG,,PMOL/KG,,PMOL/KG,,PMOL/KG,,FMOL/KG,,UMOL/KG,,UMOL/KG,,,,DEG C,TU,,NMOL/KG,,PERCNT,,/MILLE,,/MILLE,,/MILLE,NMOL/KG,,NMOL/KG,BQ/M^3,,DM/.1MG,,UMOL/KG,,UMOL/KG,,MMOL/KG,,/MILLE,,,,,,G/KG,,BQ/M^3,,BQ/M^3,,ITS-90,,,,/MILLE,,NMOL/KG,PERCNT,TU
318M20130321,       P02E,      89,          1,         36,         36,2,20130512,       0211,         30,  -166.3097,       5449,     2.7,  19.5785,  34.9854,2,  34.9874,2,    231.1,2,   231.2,2,    1.85,2,       0,2,       0,2,    0.01,2,   2.051,2,   1.242,2,-999.000,5,   1.4621,2,  2016.7,2, 2294.72,2,   8.0117,2,       25,-999.000,9,-999.0000,9, -999.00,9,    0.74,2,    51.1,2,     2.8,-999.000,9,-999.000,     -999.0,9, -999.00,9,    61.2,2,    4.38,2,     -999.0,9,  -999.0,9, 20130512,      435,  29.9996,-166.3098,    35.1524,2,     -999.0,9,     -999.0,9,    19.5766,2,     -999.0,9,     -999.0,9,-999.0000, -999.00,-999.000
318M20130321,       P02E,      89,          1,         34,         34,2,20130512,       0211,         30,  -166.3097,       5449,    20.3,  19.5952,   34.986,2,  34.9906,2,    231.4,2,   231.2,2,    1.85,2,       0,2,       0,2,    0.01,2,   2.046,2,   1.238,2,-999.000,5,    1.455,2,  2016.4,2, 2295.32,2,   8.0105,6,       25,-999.000,9,-999.0000,9, -999.00,9,    0.73,2,    47.2,2,     2.9,-999.000,9,-999.000,     -999.0,9, -999.00,9,   63.55,2,    3.43,2,     -999.0,9,  -999.0,9, 20130512,      432,  29.9995,-166.3101,    35.1556,2,     -999.0,9,     -999.0,9,    19.5963,2,     -999.0,9,     -999.0,9,-999.0000, -999.00,-999.000
318M20130321,       P02E,      89,          1,         33,         33,2,20130512,       0211,         30,  -166.3097,       5449,    40.7,  19.6059,   35.011,2,  35.0126,2,    231.1,2,   230.2,2,    1.85,2,       0,2,       0,2,    0.01,2,   2.006,2,   1.225,2,-999.000,5,   1.4263,2,  -999.0,9, -999.00,9,-999.0000,9,  -999.00,-999.000,9,-999.0000,9, -999.00,9,    0.70,2,    50.9,2,     5.2,-999.000,9,-999.000,     -999.0,9, -999.00,9,   63.36,2,    3.97,2,     -999.0,9,  -999.0,9, 20130512,      431,  29.9996,-166.3101,    35.1777,2,     -999.0,9,     -999.0,9,    19.6087,2,     -999.0,9,     -999.0,9,-999.0000, -999.00,-999.000
318M20130321,       P02E,      89,          1,         32,         32,2,20130512,       0211,         30,  -166.3097,       5449,      67,  19.4007,   34.993,2,  34.9886,2,    232.5,2,   230.3,2,    1.95,2,       0,2,       0,2,    0.02,2,   2.011,2,   1.231,2,-999.000,5,   1.4325,2,  2015.4,2, 2295.52,6,   8.0108,2,       25,-999.000,9,-999.0000,9, -999.00,9,    0.74,2,    54.6,2,     2.8,-999.000,9,-999.000,     -999.0,9, -999.00,9,   62.82,2,    3.37,2,     -999.0,9,  -999.0,9, 20130512,      429,  29.9997,-166.3102,    35.1536,2,     -999.0,9,     -999.0,9,    19.3895,2,     -999.0,9,     -999.0,9,-999.0000, -999.00,-999.000
318M20130321,       P02E,      89,          1,         31,         31,2,20130512,       0211,         30,  -166.3097,       5449,    92.1,   18.904,  34.9159,2,  34.9147,2,    231.6,2,   229.2,2,    2.15,2,       0,2,       0,2,    0.03,2,   2.120,6,   1.266,6,-999.000,5,   1.4245,6,  2018.4,2, 2290.61,2,   8.0005,2,       25,-999.000,9,-999.0000,9, -999.00,9,    0.69,2,    48.7,2,     2.8,-999.000,9,-999.000,     -999.0,9, -999.00,9,   60.96,2,    3.51,2,     -999.0,9,  -999.0,9, 20130512,      427,  29.9997,-166.3103,    35.0793,2,     -999.0,9,     -999.0,9,    18.9014,2,     -999.0,9,     -999.0,9,-999.0000, -999.00,-999.000
318M20130321,       P02E,      89,          1,         30,         30,2,20130512,       0211,         30,  -166.3097,       5449,   135.2,  16.9256,  34.6325,2,  34.6339,2,    231.2,2,   220.9,3,    3.51,2,    2.13,2,    0.11,2,     0.2,2,   2.318,2,   1.376,2,-999.000,5,   1.4026,2,  -999.0,9, -999.00,9,-999.0000,9,  -999.00,-999.000,9,-999.0000,9, -999.00,9, -999.00,9,  -999.0,9,  -999.0,-999.000,9,-999.000,     -999.0,9, -999.00,9,   53.69,2,    5.02,2,     -999.0,9,  -999.0,9, 20130512,      425,  29.9998,-166.3101,    34.7972,2,     -999.0,9,     -999.0,9,    16.9135,2,     -999.0,9,     -999.0,9,-999.0000, -999.00,-999.000
318M20130321,       P02E,      89,          1,         29,         29,2,20130512,       0211,         30,  -166.3097,       5449,   186.1,  15.2651,  34.4847,2,  34.4882,2,    214.4,2,   214.3,2,    5.66,2,    5.24,2,    0.01,2,    0.42,2,   2.491,2,   1.462,2,-999.000,5,   1.4211,2,  2051.3,2,    2265,2,   7.8938,6,       25,-999.000,9,-999.0000,9, -999.00,9,    0.33,2,    49.3,2,     4.5,-999.000,9,-999.000,     -999.0,9, -999.00,9,    50.4,2,    8.84,2,     -999.0,9,  -999.0,9, 20130512,      422,  30.0001,-166.3097,    34.6508,2,     -999.0,9,     -999.0,9,    15.2766,2,     -999.0,9,     -999.0,9,-999.0000, -999.00,-999.000
318M20130321,       P02E,      89,          1,         28,         28,2,20130512,       0211,         30,  -166.3097,       5449,   235.4,  13.8698,  34.3804,2,  34.3814,2,    214.2,2,     214,2,    8.01,2,    7.85,2,    0.01,2,    0.58,2,   2.662,2,   1.532,2,-999.000,5,   1.4297,2,  -999.0,9, -999.00,9,-999.0000,9,  -999.00,-999.000,9,-999.0000,9, -999.00,9, -999.00,9,  -999.0,9,  -999.0,-999.000,9,-999.000,     -999.0,9, -999.00,9,   48.68,2,   11.78,2,     -999.0,9,  -999.0,9, 20130512,      420,  29.9998,-166.3097,    34.5435,2,     -999.0,9,     -999.0,9,    13.8872,2,     -999.0,9,     -999.0,9,-999.0000, -999.00,-999.000
318M20130321,       P02E,      89,          1,         27,         27,2,20130512,       0211,         30,  -166.3097,       5449,   285.4,  12.9551,  34.3552,2,  34.3575,2,    214.4,2,     214,2,   10.54,2,     9.8,2,    0.01,2,    0.69,2,    -999,5,    -999,5,-999.000,5,     -999,5,  2075.7,2,  2262.4,2,   7.8386,2,       25,-999.000,9,-999.0000,9, -999.00,9,    0.16,2,    37.5,2,     3.8,-999.000,9,-999.000,     -999.0,9, -999.00,9,   45.06,2,   13.47,2,     -999.0,9,  -999.0,9, 20130512,      418,  29.9997,-166.3097,    34.5195,2,     -999.0,9,     -999.0,9,    12.9599,2,     -999.0,9,     -999.0,9,-999.0000, -999.00,-999.000
318M20130321,       P02E,      89,          1,         26,         26,2,20130512,       0211,         30,  -166.3097,       5449,   335.9,  11.7619,  34.2786,2,  34.2802,2,    211.8,2,   213.1,2,   13.67,2,   12.18,2,    0.01,2,    0.86,2,    -999,5,    -999,5,-999.000,5,     -999,5,  -999.0,9, -999.00,9,-999.0000,9,  -999.00,-999.000,9,-999.0000,9, -999.00,9, -999.00,9,  -999.0,9,  -999.0,-999.000,9,-999.000,     -999.0,9, -999.00,9,   46.65,2,   14.58,2,     -999.0,9,  -999.0,9, 20130512,      416,  29.9998,-166.3096,    34.4418,2,     -999.0,9,     -999.0,9,    11.7671,2,     -999.0,9,     -999.0,9,-999.0000, -999.00,-999.000
318M20130321,       P02E,      89,          1,         25,         25,2,20130512,       0211,         30,  -166.3097,       5449,   386.8,  10.8176,  34.2186,2,  34.2169,2,    207.5,2,   209.7,2,   17.48,2,   14.41,2,       0,2,    1.02,2,    -999,5,    -999,5,-999.000,5,     -999,5,    2105,2,    2262,2,   7.7692,2,       25,-999.000,9,-999.0000,9, -999.00,9,    0.23,2,    25.7,2,     2.7,-999.000,9,-999.000,     -999.0,9, -999.00,9,   44.64,2, -999.00,9,     -999.0,9,  -999.0,9, 20130512,      413,  29.9999,-166.3099,    34.3782,2,     -999.0,9,     -999.0,9,     10.813,2,     -999.0,9,     -999.0,9,-999.0000, -999.00,-999.000
318M20130321,       P02E,      89,          1,         24,         24,2,20130512,       0211,         30,  -166.3097,       5449,   466.4,   8.9727,  34.1019,2,  34.1043,2,    186.3,2,   187.8,2,   28.03,2,   19.85,2,       0,2,    1.41,2,   3.011,2,   1.603,2,-999.000,5,   1.0586,2,  -999.0,9, -999.00,9,-999.0000,9,  -999.00,-999.000,9,-999.0000,9, -999.00,9,    0.12,2,     9.8,2,     2.6,-999.000,9,-999.000,     -999.0,9, -999.00,9, -999.00,5, -999.00,9,     -999.0,9,  -999.0,9, 20130512,      410,  29.9999,  -166.31,    34.2652,2,     -999.0,9,     -999.0,9,     8.9712,2,     -999.0,9,     -999.0,9,-999.0000, -999.00,-999.000
318M20130321,       P02E,      89,          1,         23,         23,2,20130512,       0211,         30,  -166.3097,       5449,   567.9,   6.7668,  34.0129,2,   34.015,2,    141.3,2,   136.3,3,   51.17,2,   28.92,2,       0,2,    2.06,2,    -999,5,    -999,5,-999.000,5,     -999,5,  2206.4,2, 2280.01,2,   7.5363,2,       25,-999.000,9,-999.0000,9, -999.00,9,   -0.11,2,   -32.5,2,     2.4,-999.000,9,-999.000,     -999.0,9, -999.00,9,   42.34,2, -999.00,9,     -999.0,9,  -999.0,9, 20130512,      407,  29.9997,  -166.31,    34.1754,2,     -999.0,9,     -999.0,9,     6.7606,2,     -999.0,9,     -999.0,9,-999.0000, -999.00,-999.000
318M20130321,       P02E,      89,          1,         22,         22,2,20130512,       0211,         30,  -166.3097,       5449,   668.6,   5.5907,  34.0224,2,  34.0244,2,     96.9,2,    98.5,2,   69.24,2,   34.37,2,       0,2,    2.47,2,   1.715,2,   0.860,2,-999.000,5,   0.3749,2,  -999.0,9, -999.00,9,-999.0000,9,  -999.00,-999.000,9,-999.0000,9, -999.00,9,   -0.27,2,   -79.3,2,     2.4,-999.000,9,-999.000,     -999.0,9, -999.00,9,   41.96,2, -999.00,9,     -999.0,9,  -999.0,9, 20130512,      404,  29.9998,-166.3097,    34.1848,2,     -999.0,9,     -999.0,9,     5.5902,2,     -999.0,9,     -999.0,9,-999.0000, -999.00,-999.000
318M20130321,       P02E,      89,          1,         21,         21,2,20130512,       0211,         30,  -166.3097,       5449,   769.9,   4.6621,  34.1065,2,  34.1061,2,     55.9,2,    56.3,2,   90.72,2,    39.5,2,       0,2,    2.85,2,   0.812,2,   0.386,2,-999.000,5,   0.1375,2,  2300.6,2, 2315.82,2,   7.3541,2,       25,-999.000,9,-999.0000,9, -999.00,9,   -0.46,2,  -129.3,2,     2.6,-999.000,9,-999.000,     -999.0,9, -999.00,9,   38.09,2, -999.00,9,     -999.0,9,  -999.0,9, 20130512,      401,  29.9998,-166.3098,     34.267,2,     -999.0,9,     -999.0,9,     4.6624,2,     -999.0,9,     -999.0,9,-999.0000, -999.00,-999.000
318M20130321,       P02E,      89,          1,         20,         20,2,20130512,       0211,         30,  -166.3097,       5449,   870.3,   4.1424,  34.1985,2,  34.2004,2,       30,2,    31.7,2,  106.82,2,   42.16,2,       0,2,    3.06,2,   0.303,2,   0.147,2,-999.000,5,    0.075,2,  -999.0,9, -999.00,9,-999.0000,9,  -999.00,-999.000,9,-999.0000,9, -999.00,9,   -0.50,2,  -163.4,2,     2.1,-999.000,9,-999.000,     -999.0,9, -999.00,9,   36.32,2, -999.00,9,     -999.0,9,  -999.0,9, 20130512,      358,  29.9998,  -166.31,    34.3617,2,     -999.0,9,     -999.0,9,     4.1432,2,     -999.0,9,     -999.0,9,-999.0000, -999.00,-999.000
318M20130321,       P02E,      89,          1,         19,         19,2,20130512,       0211,         30,  -166.3097,       5449,   971.4,   3.8246,  34.2776,2,  34.2844,2,     19.8,2,    20.7,2,  117.46,2,   43.34,2,       0,2,    3.14,2,   0.100,2,   0.053,2,-999.000,5,        0,2,  2352.9,2, 2348.83,2,   7.2989,2,       25,-999.000,9,-999.0000,9, -999.00,9,   -0.57,2,  -190.0,2,     2.1,-999.000,9,-999.000,     -999.0,9, -999.00,9,   35.84,2, -999.00,9,     -999.0,9,  -999.0,9, 20130512,      355,  29.9998,-166.3103,     34.446,2,     -999.0,9,     -999.0,9,      3.825,2,     -999.0,9,     -999.0,9,-999.0000, -999.00,-999.000
318M20130321,       P02E,      89,          1,         18,         18,2,20130512,       0211,         30,  -166.3097,       5449,  1067.3,     3.56,  34.3565,2,  34.3566,2,     18.3,2,    17.6,2,  126.63,2,   43.86,2,       0,2,    3.18,2,   0.030,2,   0.017,2,-999.000,5,        0,2,  2364.3,2, 2362.14,2,   7.3016,6,       25,-999.000,9,-999.0000,9, -999.00,9,   -0.54,2,  -207.9,2,     2.2,-999.000,9,-999.000,     -999.0,9, -999.00,9,   34.69,2, -999.00,9,     -999.0,9,  -999.0,9, 20130512,      351,  29.9999,  -166.31,    34.5186,2,     -999.0,9,     -999.0,9,     3.5598,2,     -999.0,9,     -999.0,9,-999.0000, -999.00,-999.000
318M20130321,       P02E,      89,          1,         17,         17,2,20130512,       0211,         30,  -166.3097,       5449,  1171.4,   3.3517,   34.423,2,  34.4243,2,     24.9,2,    23.6,2,  132.18,2,   43.65,2,       0,2,    3.17,2,   0.014,2,   0.000,2,-999.000,5,        0,2,  2368.8,6, 2373.54,2,   7.3215,2,       25,-999.000,9,-999.0000,9, -999.00,9,   -0.57,2,  -214.0,2,     3.3,-999.000,9,-999.000,     -999.0,9, -999.00,9,   36.82,2, -999.00,9,     -999.0,9,  -999.0,9, 20130512,      348,  29.9999,-166.3098,    34.5866,2,     -999.0,9,     -999.0,9,     3.3514,2,     -999.0,9,     -999.0,9,-999.0000, -999.00,-999.000
318M20130321,       P02E,      89,          1,         16,         16,2,20130512,       0211,         30,  -166.3097,       5449,  1272.6,   3.1494,  34.4734,2,  34.4738,2,     34.9,2,    34.6,2,  136.08,2,   43.17,2,       0,2,    3.11,2,   0.008,2,   0.000,2,-999.000,5,        0,2,    2368,2, 2381.05,2,   7.3471,2,       25,-999.000,9,-999.0000,9, -999.00,9,   -0.39,2,  -223.1,2,     1.9,-999.000,9,-999.000,     -999.0,9, -999.00,9,   36.55,2, -999.00,9,     -999.0,9,  -999.0,9, 20130512,      344,  29.9997,-166.3099,    34.6363,2,     -999.0,9,     -999.0,9,     3.1495,2,     -999.0,9,     -999.0,9,-999.0000, -999.00,-999.000
318M20130321,       P02E,      89,          1,         15,         15,2,20130512,       0211,         30,  -166.3097,       5449,  1374.8,   2.9955,  34.5065,2,  34.5066,2,     45.1,2,    45.5,2,  138.03,2,   42.56,2,       0,2,    3.07,2,   0.009,2,   0.007,2,-999.000,5,        0,2,  2365.3,2, 2387.65,2,   7.3707,2,       25,-999.000,9,-999.0000,9, -999.00,9,   -0.33,2,  -227.0,2,     1.9,-999.000,9,-999.000,     -999.0,9, -999.00,9,   36.19,2, -999.00,9,     -999.0,9,  -999.0,9, 20130512,      341,  29.9997,-166.3101,    34.6693,2,     -999.0,9,     -999.0,9,     2.9952,2,     -999.0,9,     -999.0,9,-999.0000, -999.00,-999.000
318M20130321,       P02E,      89,          1,         14,         14,2,20130512,       0211,         30,  -166.3097,       5449,  1548.3,   2.6417,  34.5489,2,  34.5502,2,     57.7,2,    58.8,2,  145.84,2,   41.87,2,       0,2,       3,2,   0.007,2,   0.009,2,-999.000,5,        0,2,  2366.4,2, 2397.65,2,   7.3993,2,       25,-999.000,9,-999.0000,9, -999.00,9,   -0.29,2,  -236.7,2,     2.0,-999.000,9,-999.000,     -999.0,9, -999.00,9,   36.83,2, -999.00,9,     -999.0,9,  -999.0,9, 20130512,      336,       30,  -166.31,    34.7131,2,     -999.0,9,     -999.0,9,     2.6425,2,     -999.0,9,     -999.0,9,-999.0000, -999.00,-999.000
318M20130321,       P02E,      89,          1,         13,         13,2,20130512,       0211,         30,  -166.3097,       5449,    1750,   2.3253,  34.5771,2,  34.5779,2,     66.9,2,    69.3,2,  153.25,2,   41.35,2,       0,2,    2.96,2,   0.000,2,   0.000,2,-999.000,5,        0,2,  2368.1,2, 2405.95,2,   7.4169,2,       25,-999.000,9,-999.0000,9, -999.00,9,   -0.24,2,  -243.2,2,     2.3,-999.000,9,-999.000,     -999.0,9, -999.00,9,   34.45,2, -999.00,9,     -999.0,9,  -999.0,9, 20130512,      331,  30.0001,-166.3099,     34.741,2,     -999.0,9,     -999.0,9,     2.3265,2,     -999.0,9,     -999.0,9,-999.0000, -999.00,-999.000
318M20130321,       P02E,      89,          1,         12,         12,2,20130512,       0211,         30,  -166.3097,       5449,  1953.2,   2.0947,  34.5988,2,  34.5998,2,     76.1,2,      77,2,   159.3,2,   40.93,2,       0,2,    2.91,2,   0.004,2,   0.000,2,-999.000,5,        0,2,  2367.7,2, 2410.96,2,   7.4317,2,       25,-999.000,9,-999.0000,9, -999.00,9,   -0.24,2,  -240.8,2,     2.2,-999.000,9,-999.000,     -999.0,9, -999.00,9, -999.00,9, -999.00,9,     -999.0,9,  -999.0,9, 20130512,      326,  30.0002,-166.3096,    34.7629,2,     -999.0,9,     -999.0,9,     2.0948,2,     -999.0,9,     -999.0,9,-999.0000, -999.00,-999.000
318M20130321,       P02E,      89,          1,         11,         11,2,20130512,       0211,         30,  -166.3097,       5449,  2187.4,   1.8803,   34.621,2,  34.6249,3,       86,2,    86.3,2,  164.18,2,   40.33,2,       0,2,    2.86,2,   0.004,2,   0.002,2,-999.000,5,        0,2,  -999.0,9, -999.00,9,-999.0000,9,  -999.00,-999.000,9,-999.0000,9, -999.00,9,   -0.20,2,  -244.7,2,     2.0,-999.000,9,-999.000,     -999.0,9, -999.00,9,   35.72,2, -999.00,9,     -999.0,9,  -999.0,9, 20130512,      321,  29.9999,-166.3097,    34.7882,3,     -999.0,9,     -999.0,9,      1.881,2,     -999.0,9,     -999.0,9,-999.0000, -999.00,-999.000
318M20130321,       P02E,      89,          1,         10,         10,2,20130512,       0211,         30,  -166.3097,       5449,  2441.2,   1.7411,  34.6374,2,  34.6391,2,     99.8,2,    98.9,2,  164.38,2,    39.5,2,       0,2,    2.79,2,   0.005,2,   0.002,2,-999.000,5,        0,2,  2360.2,2, 2419.06,2,   7.4755,2,       25,-999.000,9,-999.0000,9, -999.00,9,   -0.13,2,  -249.3,2,     2.0,-999.000,9,-999.000,     -999.0,9, -999.00,9, -999.00,9, -999.00,9,     -999.0,9,  -999.0,9, 20130512,      315,  29.9998,-166.3098,    34.8024,2,     -999.0,9,     -999.0,9,     1.7409,2,     -999.0,9,     -999.0,9,-999.0000, -999.00,-999.000
318M20130321,       P02E,      89,          1,          9,          9,2,20130512,       0211,         30,  -166.3097,       5449,  2695.8,   1.6495,  34.6503,2,  34.6536,3,    110.3,2,   108.9,2,  165.06,2,   38.86,2,       0,2,    2.74,2,   0.004,2,   0.002,2,-999.000,5,        0,2,  -999.0,9, -999.00,9,-999.0000,9,  -999.00,-999.000,9,-999.0000,9, -999.00,9,   -0.08,2,  -253.6,2,     3.8,-999.000,9,-999.000,     -999.0,9, -999.00,9,   33.34,2, -999.00,9,     -999.0,9,  -999.0,9, 20130512,      309,  30.0002,-166.3095,     34.817,3,     -999.0,9,     -999.0,9,     1.6499,2,     -999.0,9,     -999.0,9,-999.0000, -999.00,-999.000
318M20130321,       P02E,      89,          1,          8,          8,2,20130512,       0211,         30,  -166.3097,       5449,  2951.8,    1.581,  34.6601,2,  34.6607,2,    119.7,2,   118.9,2,   163.3,2,   38.21,2,       0,2,    2.68,2,   0.000,2,   0.000,2,-999.000,5,        0,2,  2348.7,2, 2420.66,2,   7.5127,2,       25,-999.000,9,-999.0000,9, -999.00,9,   -0.03,2,  -239.6,2,     2.0,-999.000,9,-999.000,     -999.0,9, -999.00,9, -999.00,9, -999.00,9,     -999.0,9,  -999.0,9, 20130512,      304,  30.0002,-166.3096,    34.8242,2,     -999.0,9,     -999.0,9,     1.5811,2,     -999.0,9,     -999.0,9,-999.0000, -999.00,-999.000
318M20130321,       P02E,      89,          1,          7,          7,2,20130512,       0211,         30,  -166.3097,       5449,  3238.7,   1.5269,  34.6689,2,    34.67,2,    128.8,2,   128.5,2,  161.15,2,   37.56,2,       0,2,    2.64,2,   0.004,2,   0.000,2,-999.000,5,        0,2,  -999.0,9, -999.00,9,-999.0000,9,  -999.00,-999.000,9,-999.0000,9, -999.00,9,    0.03,2,  -237.0,2,     1.9,-999.000,9,-999.000,     -999.0,9, -999.00,9,   33.82,2, -999.00,9,     -999.0,9,  -999.0,9, 20130512,      257,  29.9999,  -166.31,    34.8334,2,     -999.0,9,     -999.0,9,     1.5271,2,     -999.0,9,     -999.0,9,-999.0000, -999.00,-999.000