BOTTLE,20220817CCHSIOAMB
EXPOCODE,SECT_ID,STNNBR,CASTNO,SAMPNO,BTLNBR,BTLNBR_FLAG_W,DATE,TIME,LATITUDE,LONGITUDE,DEPTH,CTDPRS,CTDTMP,CTDSAL,CTDSAL_FLAG_W,SALNTY,SALNTY_FLAG_W,CTDOXY,CTDOXY_FLAG_W,OXYGEN,OXYGEN_FLAG_W,SILCAT,SILCAT_FLAG_W,NITRAT,NITRAT_FLAG_W,NITRIT,NITRIT_FLAG_W,PHSPHT,PHSPHT_FLAG_W,CFC-11,CFC-11_FLAG_W,CFC-12,CFC-12_FLAG_W,CFC113,CFC113_FLAG_W,SF6,SF6_FLAG_W,TCARBN,TCARBN_FLAG_W,ALKALI,ALKALI_FLAG_W,PH_TOT,PH_TOT_FLAG_W,PH_TMP,TRITUM,TRITUM_FLAG_W,HELIUM,HELIUM_FLAG_W,DELHE3,DELHE3_FLAG_W,DELC13,DELC13_FLAG_W,DELC14,DELC14_FLAG_W,C14ERR,NEON,NEON_FLAG_W,NEONER,I-129,I-129_FLAG_W,SR-90,SR-90_FLAG_W,DOC,DOC_FLAG_W,TDN,TDN_FLAG_W,CALCIUM,CALCIUM_FLAG_W,D15N_NO3,D15N_NO3_FLAG_W,BTL_DATE,BTL_TIME,BTL_LAT,BTL_LON,SALTREF,SALTREF_FLAG_W,CS-137,CS-137_FLAG_W,CS-134,CS-134_FLAG_W,REFTMP,REFTMP_FLAG_W,LAB_DEN,LAB_DEN_FLAG_W,D18O_NO3,D18O_NO3_FLAG_W,HELIER,DELHER,TRITER
,,,,,,,,,,,METERS,DBAR,ITS-90,PSS-78,,PSS-78,,UMOL/KG,,UMOL/KG,,UMOL/KG,,UMOL/KG,,UMOL/KG,,UMOL/KG,,PMOL/KG,,PMOL/KG,,PMOL/KG,,FMOL/KG,,UMOL/KG,,UMOL/KG,,,,DEG C,TU,,NMOL/KG,,PERCNT,,/MILLE,,/MILLE,,/MILLE,NMOL/KG,,NMOL/KG,BQ/M^3,,DM/.1MG,,UMOL/KG,,UMOL/KG,,MMOL/KG,,/MILLE,,,,,,G/KG,,BQ/M^3,,BQ/M^3,,ITS-90,,,,/MILLE,,NMOL/KG,PERCNT,TU
318M20130321,       P02W,      48,          1,          7,          7,4,20130420,       0825,    29.9997,   161.1564,       5948,  3782.5,   1.4907,  34.6795,2,  34.6763,4,    148.4,2,   144.2,4,  149.24,4,   36.15,4,       0,4,     2.6,4,-999.000,9,-999.000,9,-999.000,9,-999.0000,9,  -999.0,9, -999.00,9,-999.0000,9,  -999.00,-999.000,9,-999.0000,9, -999.00,9, -999.00,9,  -999.0,9,  -999.0,-999.000,9,-999.000,     -999.0,9, -999.00,9, -999.00,9, -999.00,9,     -999.0,9,  -999.0,9, 20130420,      916,  29.9997, 161.1563,    34.8398,4,     -999.0,9,     -999.0,9,     1.4909,2,     -999.0,9,     -999.0,9,-999.0000, -999.00,-999.000
318M20130321,       P02W,      48,          1,          6,          6,2,20130420,       0825,    29.9997,   161.1564,       5948,  4195.7,    1.468,  34.6846,2,  34.6852,2,    151.2,2,   151.1,2,  151.88,2,   35.69,2,       0,2,    2.54,2,   0.007,2,   0.010,2,   0.006,2,        0,2,  2325.5,2, 2414.96,2,   7.5678,2,       25,-999.000,9,-999.0000,9, -999.00,9, -999.00,9,  -999.0,9,  -999.0,-999.000,9,-999.000,     -999.0,9, -999.00,9, -999.00,9, -999.00,9,     -999.0,9,  -999.0,9, 20130420,      909,  29.9997, 161.1563,    34.8487,2,     -999.0,9,     -999.0,9,     1.4682,2,     -999.0,9,     -999.0,9,-999.0000, -999.00,-999.000
318M20130321,       P02W,      48,          1,          5,         37,2,20130420,       0825,    29.9997,   161.1564,       5948,  4603.7,   1.4893,  34.6875,2,  34.6871,2,    155.3,2,   155.5,2,  148.65,2,   35.43,2,       0,2,    2.53,2,-999.000,9,-999.000,9,-999.000,9,-999.0000,9,  -999.0,9, -999.00,9,-999.0000,9,  -999.00,-999.000,9,-999.0000,9, -999.00,9, -999.00,9,  -999.0,9,  -999.0,-999.000,9,-999.000,     -999.0,9, -999.00,9, -999.00,9, -999.00,9,     -999.0,9,  -999.0,9, 20130420,      901,  29.9997, 161.1563,    34.8507,2,     -999.0,9,     -999.0,9,     1.4894,2,     -999.0,9,     -999.0,9,-999.0000, -999.00,-999.000
318M20130321,       P02W,      48,          1,          4,          4,2,20130420,       0825,    29.9997,   161.1564,       5948,  5018.6,   1.5018,  34.6914,2,   34.691,2,    162.8,2,   163.3,2,  141.82,2,   34.86,2,       0,2,    2.47,2,   0.010,2,   0.009,2,   0.004,2,     0.07,2,  2310.4,2, 2409.96,2,   7.5821,6,       25,-999.000,9,-999.0000,9, -999.00,9, -999.00,9,  -999.0,9,  -999.0,-999.000,9,-999.000,     -999.0,9, -999.00,9, -999.00,9, -999.00,9,     -999.0,9,  -999.0,9, 20130420,      853,  29.9997, 161.1563,    34.8546,2,     -999.0,9,     -999.0,9,     1.5022,2,     -999.0,9,     -999.0,9,-999.0000, -999.00,-999.000
318M20130321,       P02W,      48,          1,          3,          3,2,20130420,       0825,    29.9997,   161.1564,       5948,  5432.4,   1.5234,   34.694,2,  34.6932,2,    167.2,2,   168.2,2,  137.92,2,   34.55,2,       0,2,    2.44,2,-999.000,9,-999.000,9,-999.000,9,-999.0000,9,  -999.0,9, -999.00,9,-999.0000,9,  -999.00,-999.000,9,-999.0000,9, -999.00,9, -999.00,9,  -999.0,9,  -999.0,-999.000,9,-999.000,     -999.0,9, -999.00,9, -999.00,9, -999.00,9,     -999.0,9,  -999.0,9, 20130420,      844,  29.9997, 161.1563,    34.8568,2,     -999.0,9,     -999.0,9,     1.5236,2,     -999.0,9,     -999.0,9,-999.0000, -999.00,-999.000
318M20130321,       P02W,      48,          1,          2,          2,2,20130420,       0825,    29.9997,   161.1564,       5948,  5894.5,   1.5625,  34.6954,2,   34.695,2,      172,2,   171.6,2,  135.38,2,   34.38,2,       0,2,    2.42,2,   0.040,2,   0.025,2,   0.009,2,     0.06,2,  2304.4,2, 2403.15,6,   7.5914,2,       25,-999.000,9,-999.0000,9, -999.00,9, -999.00,9,  -999.0,9,  -999.0,-999.000,9,-999.000,     -999.0,9, -999.00,9, -999.00,9, -999.00,9,     -999.0,9,  -999.0,9, 20130420,      831,  29.9997, 161.1563,    34.8586,2,     -999.0,9,     -999.0,9,     1.5626,2,     -999.0,9,     -999.0,9,-999.0000, -999.00,-999.000
318M20130321,       P02W,      48,          1,          1,          1,2,20130420,       0825,    29.9997,   161.1564,       5948,  6058.3,   1.5786,  34.6957,2,   34.696,2,    172.1,2,   172.1,2,  135.67,2,   34.37,2,       0,2,     2.4,2,-999.000,9,-999.000,9,-999.000,9,-999.0000,9,  2302.9,6, 2403.55,2,   7.5935,2,       25,-999.000,9,-999.0000,9, -999.00,9, -999.00,9,  -999.0,9,  -999.0,-999.000,9,-999.000,     -999.0,9, -999.00,9, -999.00,9, -999.00,9,     -999.0,9,  -999.0,9, 20130420,      824,  29.9997, 161.1564,    34.8596,2,     -999.0,9,     -999.0,9,     1.5786,2,     -999.0,9,     -999.0,9,-999.0000, -999.00,-999.000