BOTTLE,20220817CCHSIOAMB
EXPOCODE,SECT_ID,STNNBR,CASTNO,SAMPNO,BTLNBR,BTLNBR_FLAG_W,DATE,TIME,LATITUDE,LONGITUDE,DEPTH,CTDPRS,CTDTMP,CTDSAL,CTDSAL_FLAG_W,SALNTY,SALNTY_FLAG_W,CTDOXY,CTDOXY_FLAG_W,OXYGEN,OXYGEN_FLAG_W,SILCAT,SILCAT_FLAG_W,NITRAT,NITRAT_FLAG_W,NITRIT,NITRIT_FLAG_W,PHSPHT,PHSPHT_FLAG_W,CFC-11,CFC-11_FLAG_W,CFC-12,CFC-12_FLAG_W,CFC113,CFC113_FLAG_W,SF6,SF6_FLAG_W,TCARBN,TCARBN_FLAG_W,ALKALI,ALKALI_FLAG_W,PH_TOT,PH_TOT_FLAG_W,PH_TMP,TRITUM,TRITUM_FLAG_W,HELIUM,HELIUM_FLAG_W,DELHE3,DELHE3_FLAG_W,DELC13,DELC13_FLAG_W,DELC14,DELC14_FLAG_W,C14ERR,NEON,NEON_FLAG_W,NEONER,I-129,I-129_FLAG_W,SR-90,SR-90_FLAG_W,DOC,DOC_FLAG_W,TDN,TDN_FLAG_W,CALCIUM,CALCIUM_FLAG_W,D15N_NO3,D15N_NO3_FLAG_W,BTL_DATE,BTL_TIME,BTL_LAT,BTL_LON,SALTREF,SALTREF_FLAG_W,CS-137,CS-137_FLAG_W,CS-134,CS-134_FLAG_W,REFTMP,REFTMP_FLAG_W,LAB_DEN,LAB_DEN_FLAG_W,D18O_NO3,D18O_NO3_FLAG_W,HELIER,DELHER,TRITER
,,,,,,,,,,,METERS,DBAR,ITS-90,PSS-78,,PSS-78,,UMOL/KG,,UMOL/KG,,UMOL/KG,,UMOL/KG,,UMOL/KG,,UMOL/KG,,PMOL/KG,,PMOL/KG,,PMOL/KG,,FMOL/KG,,UMOL/KG,,UMOL/KG,,,,DEG C,TU,,NMOL/KG,,PERCNT,,/MILLE,,/MILLE,,/MILLE,NMOL/KG,,NMOL/KG,BQ/M^3,,DM/.1MG,,UMOL/KG,,UMOL/KG,,MMOL/KG,,/MILLE,,,,,,G/KG,,BQ/M^3,,BQ/M^3,,ITS-90,,,,/MILLE,,NMOL/KG,PERCNT,TU
318M20130321,       P02E,     106,          1,         36,         36,2,20130518,       0729,    29.9997,  -149.6903,       5733,     2.4,  21.4051,  35.1455,2,  35.1451,2,    225.2,2,   225.7,2,    2.05,2,       0,2,       0,2,       0,2,   1.919,2,   1.177,2,-999.000,1,   1.3898,2,  2033.3,2, 2310.62,2,   8.0023,2,       25,-999.000,9,-999.0000,9, -999.00,9, -999.00,9,  -999.0,9,  -999.0,-999.000,9,-999.000,     -999.0,9, -999.00,9, -999.00,9, -999.00,9,     -999.0,9,  -999.0,9, 20130518,      943,  29.9997, -149.691,    35.3108,2,     -999.0,9,     -999.0,9,    21.4052,2,     -999.0,9,     -999.0,9,-999.0000, -999.00,-999.000
318M20130321,       P02E,     106,          1,         34,         34,2,20130518,       0729,    29.9997,  -149.6903,       5733,    36.5,    21.16,  35.1754,2,  35.1752,2,    227.9,2,   226.5,2,    1.95,2,       0,2,       0,2,       0,2,   1.926,2,   1.176,2,-999.000,1,   1.4033,2,    2032,2, 2312.32,2,   8.0065,6,       25,-999.000,9,-999.0000,9, -999.00,9, -999.00,9,  -999.0,9,  -999.0,-999.000,9,-999.000,     -999.0,9, -999.00,9, -999.00,9, -999.00,9,     -999.0,9,  -999.0,9, 20130518,      941,  29.9997,-149.6912,    35.3411,2,     -999.0,9,     -999.0,9,    21.1593,2,     -999.0,9,     -999.0,9,-999.0000, -999.00,-999.000
318M20130321,       P02E,     106,          1,         33,         33,2,20130518,       0729,    29.9997,  -149.6903,       5733,    60.2,  20.5324,  35.1331,2,  35.1349,2,    232.2,2,   230.9,2,    1.85,2,       0,2,       0,2,       0,2,   1.973,2,   1.204,2,-999.000,1,   1.3469,2,  2030.5,2, 2310.02,6,    8.009,2,       25,-999.000,9,-999.0000,9, -999.00,9, -999.00,9,  -999.0,9,  -999.0,-999.000,9,-999.000,     -999.0,9, -999.00,9, -999.00,9, -999.00,9,     -999.0,9,  -999.0,9, 20130518,      939,  29.9997, -149.691,    35.3005,2,     -999.0,9,     -999.0,9,    20.5273,2,     -999.0,9,     -999.0,9,-999.0000, -999.00,-999.000
318M20130321,       P02E,     106,          1,         32,         32,2,20130518,       0729,    29.9997,  -149.6903,       5733,    85.8,  19.3652,  34.9878,2,  34.9888,2,    232.2,2,     233,2,    2.15,2,       0,2,       0,2,       0,2,   2.044,2,   1.238,2,-999.000,1,   1.4104,2,  2025.4,2, 2298.12,2,   8.0024,2,       25,-999.000,9,-999.0000,9, -999.00,9, -999.00,9,  -999.0,9,  -999.0,-999.000,9,-999.000,     -999.0,9, -999.00,9, -999.00,9, -999.00,9,     -999.0,9,  -999.0,9, 20130518,      937,  29.9998,-149.6907,    35.1538,2,     -999.0,9,     -999.0,9,    19.3641,2,     -999.0,9,     -999.0,9,-999.0000, -999.00,-999.000
318M20130321,       P02E,     106,          1,         31,         31,2,20130518,       0729,    29.9997,  -149.6903,       5733,   116.4,  19.2987,  35.0407,2,  35.0354,2,    230.9,2,     229,2,    2.05,2,       0,2,       0,2,       0,2,   2.055,2,   1.248,2,-999.000,1,   1.4544,2,  -999.0,9, -999.00,9,-999.0000,9,  -999.00,-999.000,9,-999.0000,9, -999.00,9, -999.00,9,  -999.0,9,  -999.0,-999.000,9,-999.000,     -999.0,9, -999.00,9, -999.00,9, -999.00,9,     -999.0,9,  -999.0,9, 20130518,      935,  29.9998,-149.6904,    35.2006,2,     -999.0,9,     -999.0,9,    19.2943,2,     -999.0,9,     -999.0,9,-999.0000, -999.00,-999.000
318M20130321,       P02E,     106,          1,         30,         30,2,20130518,       0729,    29.9997,  -149.6903,       5733,   162.7,  15.7051,  34.4901,2,   34.483,2,    208.9,2,   211.6,2,     4.3,2,     3.6,2,    0.03,2,    0.28,2,   2.492,2,   1.456,2,-999.000,1,   1.4954,2,  2053.7,2, 2267.41,2,   7.8933,6,       25,-999.000,9,-999.0000,9, -999.00,9, -999.00,9,  -999.0,9,  -999.0,-999.000,9,-999.000,     -999.0,9, -999.00,9, -999.00,9, -999.00,9,     -999.0,9,  -999.0,9, 20130518,      933,  29.9998,-149.6902,    34.6456,2,     -999.0,9,     -999.0,9,    15.6946,3,     -999.0,9,     -999.0,9,-999.0000, -999.00,-999.000
318M20130321,       P02E,     106,          1,         29,         29,2,20130518,       0729,    29.9997,  -149.6903,       5733,   216.7,  13.0516,  34.2313,2,  34.2311,2,    216.1,2,   215.6,2,    7.81,2,    8.02,2,    0.01,2,    0.57,2,   2.818,6,   1.623,6,-999.000,1,   1.5856,6,  -999.0,9, -999.00,9,-999.0000,9,  -999.00,-999.000,9,-999.0000,9, -999.00,9, -999.00,9,  -999.0,9,  -999.0,-999.000,9,-999.000,     -999.0,9, -999.00,9, -999.00,9, -999.00,9,     -999.0,9,  -999.0,9, 20130518,      931,  29.9999,-149.6901,    34.3925,2,     -999.0,9,     -999.0,9,    13.0488,2,     -999.0,9,     -999.0,9,-999.0000, -999.00,-999.000
318M20130321,       P02E,     106,          1,         28,         28,2,20130518,       0729,    29.9997,  -149.6903,       5733,   267.1,  11.7609,   34.197,2,  34.1958,2,    218.7,2,   219.1,2,   11.03,2,   10.92,2,    0.01,2,    0.75,2,   2.969,2,   1.685,2,-999.000,1,   1.5622,2,  2085.8,2,  2255.6,2,   7.8031,2,       25,-999.000,9,-999.0000,9, -999.00,9, -999.00,9,  -999.0,9,  -999.0,-999.000,9,-999.000,     -999.0,9, -999.00,9, -999.00,9, -999.00,9,     -999.0,9,  -999.0,9, 20130518,      930,  30.0002,-149.6902,     34.357,2,     -999.0,9,     -999.0,9,    11.7581,2,     -999.0,9,     -999.0,9,-999.0000, -999.00,-999.000
318M20130321,       P02E,     106,          1,         27,         27,2,20130518,       0729,    29.9997,  -149.6903,       5733,   316.8,  10.8756,  34.1655,2,  34.1654,2,    219.1,2,   219.4,2,   13.96,2,   12.86,2,    0.01,2,    0.89,2,   3.084,2,   1.733,2,-999.000,1,   1.5437,2,  -999.0,9, -999.00,9,-999.0000,9,  -999.00,-999.000,9,-999.0000,9, -999.00,9, -999.00,9,  -999.0,9,  -999.0,-999.000,9,-999.000,     -999.0,9, -999.00,9, -999.00,9, -999.00,9,     -999.0,9,  -999.0,9, 20130518,      928,  30.0004,-149.6903,    34.3265,2,     -999.0,9,     -999.0,9,    10.8726,2,     -999.0,9,     -999.0,9,-999.0000, -999.00,-999.000
318M20130321,       P02E,     106,          1,         26,         26,2,20130518,       0729,    29.9997,  -149.6903,       5733,   366.6,   9.9213,  34.1169,2,  34.1174,2,    208.2,2,   210.1,2,   18.55,2,   15.76,2,    0.01,2,    1.09,2,   3.149,2,   1.732,2,-999.000,1,    1.334,2,  2115.9,2,  2259.3,2,   7.7404,2,       25,-999.000,9,-999.0000,9, -999.00,9, -999.00,9,  -999.0,9,  -999.0,-999.000,9,-999.000,     -999.0,9, -999.00,9, -999.00,9, -999.00,9,     -999.0,9,  -999.0,9, 20130518,      926,  30.0002,-149.6905,    34.2782,2,     -999.0,9,     -999.0,9,     9.9102,2,     -999.0,9,     -999.0,9,-999.0000, -999.00,-999.000
318M20130321,       P02E,     106,          1,         25,         25,2,20130518,       0729,    29.9997,  -149.6903,       5733,     438,   8.5709,   34.047,2,  34.0468,2,    186.5,2,   185.3,2,   28.32,2,   20.81,2,    0.01,2,    1.45,2,   3.136,2,   1.665,2,-999.000,1,   1.0668,2,  2147.1,2,    2264,2,   7.6628,2,       25,-999.000,9,-999.0000,9, -999.00,9, -999.00,9,  -999.0,9,  -999.0,-999.000,9,-999.000,     -999.0,9, -999.00,9, -999.00,9, -999.00,9,     -999.0,9,  -999.0,9, 20130518,      924,  30.0001,-149.6909,    34.2074,2,     -999.0,9,     -999.0,9,     8.5772,2,     -999.0,9,     -999.0,9,-999.0000, -999.00,-999.000
318M20130321,       P02E,     106,          1,         24,         24,2,20130518,       0729,    29.9997,  -149.6903,       5733,   539.1,   6.6093,  33.9895,2,  33.9896,2,      125,2,   125.6,2,   51.17,2,   30.19,2,    0.01,2,    2.13,2,   2.446,2,   1.242,2,-999.000,1,   0.5804,2,  2216.4,2, 2277.31,2,   7.5042,2,       25,-999.000,9,-999.0000,9, -999.00,9, -999.00,9,  -999.0,9,  -999.0,-999.000,9,-999.000,     -999.0,9, -999.00,9, -999.00,9, -999.00,9,     -999.0,9,  -999.0,9, 20130518,      921,  29.9999, -149.691,    34.1499,2,     -999.0,9,     -999.0,9,     6.6103,2,     -999.0,9,     -999.0,9,-999.0000, -999.00,-999.000
318M20130321,       P02E,     106,          1,         23,         23,2,20130518,       0729,    29.9997,  -149.6903,       5733,   639.8,   5.3251,  34.0263,2,  34.0243,2,     78.6,2,    75.3,2,   73.44,2,   36.99,2,       0,2,    2.65,2,   1.471,2,   0.714,2,-999.000,1,    0.278,2,  2271.8,2, 2296.52,2,   7.3833,2,       25,-999.000,9,-999.0000,9, -999.00,9, -999.00,9,  -999.0,9,  -999.0,-999.000,9,-999.000,     -999.0,9, -999.00,9, -999.00,9, -999.00,9,     -999.0,9,  -999.0,9, 20130518,      918,  29.9996,-149.6908,    34.1847,2,     -999.0,9,     -999.0,9,     5.3266,2,     -999.0,9,     -999.0,9,-999.0000, -999.00,-999.000
318M20130321,       P02E,     106,          1,         22,         22,2,20130518,       0729,    29.9997,  -149.6903,       5733,   740.8,   4.6548,  34.1255,2,  34.1248,2,     36.7,2,    36.9,2,   92.08,2,   41.21,2,       0,2,    2.97,2,   0.568,2,   0.272,2,-999.000,1,   0.0796,2,    2318,2, 2316.52,2,   7.3111,2,       25,-999.000,9,-999.0000,9, -999.00,9, -999.00,9,  -999.0,9,  -999.0,-999.000,9,-999.000,     -999.0,9, -999.00,9, -999.00,9, -999.00,9,     -999.0,9,  -999.0,9, 20130518,      916,  29.9993,-149.6907,    34.2857,2,     -999.0,9,     -999.0,9,     4.6538,2,     -999.0,9,     -999.0,9,-999.0000, -999.00,-999.000
318M20130321,       P02E,     106,          1,         21,         21,2,20130518,       0729,    29.9997,  -149.6903,       5733,   841.3,   4.2122,  34.2281,2,  34.2275,2,     17.5,2,    17.5,2,  107.01,2,    43.1,2,       0,2,    3.13,2,   0.134,2,   0.066,2,-999.000,1,        0,2,    2344,2, 2335.23,2,   7.2875,2,       25,-999.000,9,-999.0000,9, -999.00,9, -999.00,9,  -999.0,9,  -999.0,-999.000,9,-999.000,     -999.0,9, -999.00,9, -999.00,9, -999.00,9,     -999.0,9,  -999.0,9, 20130518,      913,  29.9992,-149.6906,    34.3889,2,     -999.0,9,     -999.0,9,     4.2121,2,     -999.0,9,     -999.0,9,-999.0000, -999.00,-999.000
318M20130321,       P02E,     106,          1,         20,         20,2,20130518,       0729,    29.9997,  -149.6903,       5733,     940,   3.8668,  34.3224,2,  34.3217,2,     12.7,2,    12.4,2,  118.53,2,   43.89,2,       0,2,     3.2,2,   0.028,2,   0.015,2,-999.000,1,        0,2,  2360.3,2, 2354.64,2,    7.288,2,       25,-999.000,9,-999.0000,9, -999.00,9, -999.00,9,  -999.0,9,  -999.0,-999.000,9,-999.000,     -999.0,9, -999.00,9, -999.00,9, -999.00,9,     -999.0,9,  -999.0,9, 20130518,      910,  29.9992,-149.6903,    34.4835,2,     -999.0,9,     -999.0,9,     3.8658,2,     -999.0,9,     -999.0,9,-999.0000, -999.00,-999.000
318M20130321,       P02E,     106,          1,         19,         19,2,20130518,       0729,    29.9997,  -149.6903,       5733,  1042.2,   3.6763,  34.3908,2,    34.39,2,     15.8,2,    15.4,2,  124.18,2,   43.92,2,       0,2,    3.22,2,   0.012,2,   0.008,2,-999.000,1,        0,2,    2366,2, 2364.54,2,   7.3024,2,       25,-999.000,9,-999.0000,9, -999.00,9, -999.00,9,  -999.0,9,  -999.0,-999.000,9,-999.000,     -999.0,9, -999.00,9, -999.00,9, -999.00,9,     -999.0,9,  -999.0,9, 20130518,      908,  29.9993,  -149.69,    34.5521,2,     -999.0,9,     -999.0,9,     3.6764,2,     -999.0,9,     -999.0,9,-999.0000, -999.00,-999.000
318M20130321,       P02E,     106,          1,         18,         18,2,20130518,       0729,    29.9997,  -149.6903,       5733,  1144.7,   3.4223,  34.4541,2,  34.4542,2,       23,2,    24.6,2,  130.42,2,   43.63,2,       0,2,    3.18,2,   0.007,2,   0.006,2,-999.000,1,        0,2,  -999.0,9, -999.00,9,-999.0000,9,  -999.00,-999.000,9,-999.0000,9, -999.00,9, -999.00,9,  -999.0,9,  -999.0,-999.000,9,-999.000,     -999.0,9, -999.00,9, -999.00,9, -999.00,9,     -999.0,9,  -999.0,9, 20130518,      905,  29.9996,-149.6899,    34.6166,2,     -999.0,9,     -999.0,9,     3.4225,2,     -999.0,9,     -999.0,9,-999.0000, -999.00,-999.000
318M20130321,       P02E,     106,          1,         17,         17,2,20130518,       0729,    29.9997,  -149.6903,       5733,  1245.5,   3.2246,  34.4892,2,  34.4883,2,     32.2,2,    32.6,2,  134.52,2,   43.33,2,       0,2,    3.15,2,   0.005,2,   0.004,2,-999.000,1,        0,2,  2370.7,6, 2382.75,2,   7.3457,2,       25,-999.000,9,-999.0000,9, -999.00,9, -999.00,9,  -999.0,9,  -999.0,-999.000,9,-999.000,     -999.0,9, -999.00,9, -999.00,9, -999.00,9,     -999.0,9,  -999.0,9, 20130518,      902,       30,-149.6901,    34.6509,2,     -999.0,9,     -999.0,9,     3.2243,2,     -999.0,9,     -999.0,9,-999.0000, -999.00,-999.000
318M20130321,       P02E,     106,          1,         16,         16,2,20130518,       0729,    29.9997,  -149.6903,       5733,  1347.5,   3.0101,   34.519,2,  34.5182,2,     40.6,2,    41.7,2,  138.81,2,   42.84,2,       0,2,    3.11,2,   0.005,2,   0.004,2,-999.000,1,        0,2,  -999.0,9, -999.00,9,-999.0000,9,  -999.00,-999.000,9,-999.0000,9, -999.00,9, -999.00,9,  -999.0,9,  -999.0,-999.000,9,-999.000,     -999.0,9, -999.00,9, -999.00,9, -999.00,9,     -999.0,9,  -999.0,9, 20130518,      859,  29.9999,-149.6902,    34.6809,2,     -999.0,9,     -999.0,9,     3.0094,2,     -999.0,9,     -999.0,9,-999.0000, -999.00,-999.000
318M20130321,       P02E,     106,          1,         15,         15,2,20130518,       0729,    29.9997,  -149.6903,       5733,  1479.1,    2.785,  34.5466,2,  34.5451,2,     51.7,2,      52,2,  142.81,2,   42.21,2,       0,2,    3.05,2,   0.000,2,   0.000,2,-999.000,1,        0,2,  2367.9,2, 2397.95,2,   7.3879,2,       25,-999.000,9,-999.0000,9, -999.00,9, -999.00,9,  -999.0,9,  -999.0,-999.000,9,-999.000,     -999.0,9, -999.00,9, -999.00,9, -999.00,9,     -999.0,9,  -999.0,9, 20130518,      856,  29.9994,-149.6901,     34.708,2,     -999.0,9,     -999.0,9,     2.7852,2,     -999.0,9,     -999.0,9,-999.0000, -999.00,-999.000
318M20130321,       P02E,     106,          1,         14,         14,2,20130518,       0729,    29.9997,  -149.6903,       5733,    1681,   2.4494,  34.5792,2,  34.5781,2,     63.8,2,    64.5,2,   151.3,2,   41.53,2,       0,2,    2.99,2,   0.004,2,   0.003,2,-999.000,1,        0,2,    2369,2, 2405.45,2,   7.4135,2,       25,-999.000,9,-999.0000,9, -999.00,9, -999.00,9,  -999.0,9,  -999.0,-999.000,9,-999.000,     -999.0,9, -999.00,9, -999.00,9, -999.00,9,     -999.0,9,  -999.0,9, 20130518,      852,  29.9992,-149.6901,    34.7411,2,     -999.0,9,     -999.0,9,     2.4489,2,     -999.0,9,     -999.0,9,-999.0000, -999.00,-999.000
318M20130321,       P02E,     106,          1,         13,         13,2,20130518,       0729,    29.9997,  -149.6903,       5733,    1885,   2.2169,  34.5996,2,  34.5989,2,     72.7,2,    72.1,2,  157.45,2,    41.1,2,       0,2,    2.96,2,   0.004,2,   0.004,2,-999.000,1,        0,2,  -999.0,9, -999.00,9,-999.0000,9,  -999.00,-999.000,9,-999.0000,9, -999.00,9, -999.00,9,  -999.0,9,  -999.0,-999.000,9,-999.000,     -999.0,9, -999.00,9, -999.00,9, -999.00,9,     -999.0,9,  -999.0,9, 20130518,      847,  29.9993,-149.6906,     34.762,2,     -999.0,9,     -999.0,9,     2.2174,2,     -999.0,9,     -999.0,9,-999.0000, -999.00,-999.000
318M20130321,       P02E,     106,          1,         12,         12,2,20130518,       0729,    29.9997,  -149.6903,       5733,    2127,   1.9795,  34.6202,2,  34.6197,2,     83.2,2,    82.5,2,  163.99,2,   40.55,2,       0,2,    2.89,2,   0.003,2,   0.001,2,-999.000,1,        0,2,  -999.0,9, -999.00,9,-999.0000,9,  -999.00,-999.000,9,-999.0000,9, -999.00,9, -999.00,9,  -999.0,9,  -999.0,-999.000,9,-999.000,     -999.0,9, -999.00,9, -999.00,9, -999.00,9,     -999.0,9,  -999.0,9, 20130518,      842,  29.9995,-149.6904,     34.783,2,     -999.0,9,     -999.0,9,     1.9794,2,     -999.0,9,     -999.0,9,-999.0000, -999.00,-999.000
318M20130321,       P02E,     106,          1,         11,         11,2,20130518,       0729,    29.9997,  -149.6903,       5733,  2427.9,   1.7709,  34.6412,2,  34.6405,2,     96.5,2,    95.6,2,  167.79,2,   39.66,2,       0,2,    2.81,2,   0.003,2,   0.002,2,-999.000,1,        0,2,  2363.5,2, 2422.26,2,   7.4729,2,       25,-999.000,9,-999.0000,9, -999.00,9, -999.00,9,  -999.0,9,  -999.0,-999.000,9,-999.000,     -999.0,9, -999.00,9, -999.00,9, -999.00,9,     -999.0,9,  -999.0,9, 20130518,      836,       30,-149.6902,    34.8039,2,     -999.0,9,     -999.0,9,     1.7712,2,     -999.0,9,     -999.0,9,-999.0000, -999.00,-999.000
318M20130321,       P02E,     106,          1,         10,         10,2,20130518,       0729,    29.9997,  -149.6903,       5733,  2733.8,    1.639,  34.6555,2,  34.6549,2,      109,2,   108.9,2,  168.08,2,   38.92,2,       0,2,    2.75,2,   0.003,2,   0.002,2,-999.000,1,        0,2,  -999.0,9, -999.00,9,-999.0000,9,  -999.00,-999.000,9,-999.0000,9, -999.00,9, -999.00,9,  -999.0,9,  -999.0,-999.000,9,-999.000,     -999.0,9, -999.00,9, -999.00,9, -999.00,9,     -999.0,9,  -999.0,9, 20130518,      830,       30,-149.6906,    34.8183,2,     -999.0,9,     -999.0,9,     1.6395,2,     -999.0,9,     -999.0,9,-999.0000, -999.00,-999.000
318M20130321,       P02E,     106,          1,          9,          9,2,20130518,       0729,    29.9997,  -149.6903,       5733,  3039.6,   1.5578,  34.6662,2,  34.6655,2,    120.4,2,   120.9,2,  165.54,2,   38.09,2,       0,2,    2.67,2,   0.002,2,   0.002,2,-999.000,1,        0,2,  2349.5,2, 2424.96,2,   7.5227,2,       25,-999.000,9,-999.0000,9, -999.00,9, -999.00,9,  -999.0,9,  -999.0,-999.000,9,-999.000,     -999.0,9, -999.00,9, -999.00,9, -999.00,9,     -999.0,9,  -999.0,9, 20130518,      824,  29.9998,-149.6905,     34.829,2,     -999.0,9,     -999.0,9,     1.5577,2,     -999.0,9,     -999.0,9,-999.0000, -999.00,-999.000
318M20130321,       P02E,     106,          1,          8,          8,2,20130518,       0729,    29.9997,  -149.6903,       5733,    3344,   1.5193,  34.6734,2,  34.6728,2,    129.4,2,   129.7,2,   163.3,2,   37.47,2,       0,2,    2.64,2,   0.007,2,   0.004,2,-999.000,1,        0,2,  -999.0,9, -999.00,9,-999.0000,9,  -999.00,-999.000,9,-999.0000,9, -999.00,9, -999.00,9,  -999.0,9,  -999.0,-999.000,9,-999.000,     -999.0,9, -999.00,9, -999.00,9, -999.00,9,     -999.0,9,  -999.0,9, 20130518,      818,  29.9999,-149.6904,    34.8363,2,     -999.0,9,     -999.0,9,      1.519,2,     -999.0,9,     -999.0,9,-999.0000, -999.00,-999.000
318M20130321,       P02E,     106,          1,          7,          7,2,20130518,       0729,    29.9997,  -149.6903,       5733,  3789.8,   1.4902,  34.6809,2,  34.6802,2,    139.9,2,   139.9,2,  159.78,2,   36.84,2,       0,2,    2.59,2,   0.004,2,   0.003,2,-999.000,1,        0,2,  2337.9,2, 2423.46,2,   7.5559,2,       25,-999.000,9,-999.0000,9, -999.00,9, -999.00,9,  -999.0,9,  -999.0,-999.000,9,-999.000,     -999.0,9, -999.00,9, -999.00,9, -999.00,9,     -999.0,9,  -999.0,9, 20130518,      809,  29.9999,-149.6903,    34.8438,2,     -999.0,9,     -999.0,9,     1.4901,2,     -999.0,9,     -999.0,9,-999.0000, -999.00,-999.000