BOTTLE,20220817CCHSIOAMB
EXPOCODE,SECT_ID,STNNBR,CASTNO,SAMPNO,BTLNBR,BTLNBR_FLAG_W,DATE,TIME,LATITUDE,LONGITUDE,DEPTH,CTDPRS,CTDTMP,CTDSAL,CTDSAL_FLAG_W,SALNTY,SALNTY_FLAG_W,CTDOXY,CTDOXY_FLAG_W,OXYGEN,OXYGEN_FLAG_W,SILCAT,SILCAT_FLAG_W,NITRAT,NITRAT_FLAG_W,NITRIT,NITRIT_FLAG_W,PHSPHT,PHSPHT_FLAG_W,CFC-11,CFC-11_FLAG_W,CFC-12,CFC-12_FLAG_W,CFC113,CFC113_FLAG_W,SF6,SF6_FLAG_W,TCARBN,TCARBN_FLAG_W,ALKALI,ALKALI_FLAG_W,PH_TOT,PH_TOT_FLAG_W,PH_TMP,TRITUM,TRITUM_FLAG_W,HELIUM,HELIUM_FLAG_W,DELHE3,DELHE3_FLAG_W,DELC13,DELC13_FLAG_W,DELC14,DELC14_FLAG_W,C14ERR,NEON,NEON_FLAG_W,NEONER,I-129,I-129_FLAG_W,SR-90,SR-90_FLAG_W,DOC,DOC_FLAG_W,TDN,TDN_FLAG_W,CALCIUM,CALCIUM_FLAG_W,D15N_NO3,D15N_NO3_FLAG_W,BTL_DATE,BTL_TIME,BTL_LAT,BTL_LON,SALTREF,SALTREF_FLAG_W,CS-137,CS-137_FLAG_W,CS-134,CS-134_FLAG_W,REFTMP,REFTMP_FLAG_W,LAB_DEN,LAB_DEN_FLAG_W,D18O_NO3,D18O_NO3_FLAG_W,HELIER,DELHER,TRITER
,,,,,,,,,,,METERS,DBAR,ITS-90,PSS-78,,PSS-78,,UMOL/KG,,UMOL/KG,,UMOL/KG,,UMOL/KG,,UMOL/KG,,UMOL/KG,,PMOL/KG,,PMOL/KG,,PMOL/KG,,FMOL/KG,,UMOL/KG,,UMOL/KG,,,,DEG C,TU,,NMOL/KG,,PERCNT,,/MILLE,,/MILLE,,/MILLE,NMOL/KG,,NMOL/KG,BQ/M^3,,DM/.1MG,,UMOL/KG,,UMOL/KG,,MMOL/KG,,/MILLE,,,,,,G/KG,,BQ/M^3,,BQ/M^3,,ITS-90,,,,/MILLE,,NMOL/KG,PERCNT,TU
318M20130321,       P02W,      85,          1,          6,          6,2,20130502,       0723,    30.0002,  -169.7624,       5467,  3550.2,   1.4748,  34.6779,2,  34.6786,2,    138.9,2,   138.2,2,     159,2,   36.99,2,       0,2,     2.6,2,-999.000,9,-999.000,9,-999.000,9,-999.0000,9,  -999.0,9, -999.00,9,-999.0000,9,  -999.00,-999.000,9,-999.0000,9, -999.00,9, -999.00,9,  -999.0,9,  -999.0,-999.000,9,-999.000,     -999.0,9, -999.00,9, -999.00,9, -999.00,9,     -999.0,9,  -999.0,9, 20130502,      801,  30.0003,-169.7624,    34.8422,2,     -999.0,9,     -999.0,9,     1.4747,2,     -999.0,9,     -999.0,9,-999.0000, -999.00,-999.000
318M20130321,       P02W,      85,          1,          5,         37,2,20130502,       0723,    30.0002,  -169.7624,       5467,  3920.4,   1.4602,  34.6836,2,  34.6837,2,    145.5,2,   145.8,2,  156.66,2,   36.44,2,       0,2,    2.56,2,   0.000,4,   0.000,4,   0.000,4,        0,2,    2329,2, 2420.46,6,   7.5641,2,       25,-999.000,9,-999.0000,9, -999.00,9, -999.00,9,  -999.0,9,  -999.0,-999.000,9,-999.000,     -999.0,9, -999.00,9, -999.00,5, -999.00,9,     -999.0,9,  -999.0,9, 20130502,      754,  30.0003,-169.7624,    34.8473,2,     -999.0,9,     -999.0,9,       1.46,2,     -999.0,1,     -999.0,9,-999.0000, -999.00,-999.000
318M20130321,       P02W,      85,          1,          4,          4,2,20130502,       0723,    30.0002,  -169.7624,       5467,  4329.1,   1.4748,  34.6868,2,  34.6871,2,    150.6,2,   150.1,2,  156.56,2,   36.13,2,       0,2,    2.56,2,-999.000,9,-999.000,9,-999.000,9,-999.0000,9,  -999.0,9, -999.00,9,-999.0000,9,  -999.00,-999.000,9,-999.0000,9, -999.00,9, -999.00,9,  -999.0,9,  -999.0,-999.000,9,-999.000,     -999.0,9, -999.00,9, -999.00,9, -999.00,9,     -999.0,9,  -999.0,9, 20130502,      746,  30.0002,-169.7624,    34.8507,2,     -999.0,9,     -999.0,9,     1.4751,2,     -999.0,9,     -999.0,9,-999.0000, -999.00,-999.000
318M20130321,       P02W,      85,          1,          3,          3,2,20130502,       0723,    30.0002,  -169.7624,       5467,  4742.8,   1.5084,  34.6885,2,  34.6893,2,      153,2,   152.4,2,  156.07,2,   35.93,2,       0,2,    2.53,2,   0.000,4,   0.000,4,   0.000,4,        0,2,  2324.6,2, 2419.46,2,   7.5737,6,       25,-999.000,9,-999.0000,9, -999.00,9, -999.00,9,  -999.0,9,  -999.0,-999.000,9,-999.000,     -999.0,9, -999.00,9,   35.45,2, -999.00,9,     -999.0,9,  -999.0,9, 20130502,      738,  30.0003,-169.7624,    34.8528,2,     -999.0,9,     -999.0,9,     1.5087,2,     -999.0,1,     -999.0,9,-999.0000, -999.00,-999.000
318M20130321,       P02W,      85,          1,          2,          2,2,20130502,       0723,    30.0002,  -169.7624,       5467,  5156.9,   1.5451,    34.69,2,  34.6908,2,    155.6,2,   156.2,2,  151.29,2,   35.72,2,       0,2,    2.48,2,-999.000,9,-999.000,9,-999.000,9,-999.0000,9,  2322.9,6, 2418.86,2,   7.5795,2,       25,-999.000,9,-999.0000,9, -999.00,9, -999.00,9,  -999.0,9,  -999.0,-999.000,9,-999.000,     -999.0,9, -999.00,9,   33.25,2, -999.00,9,     -999.0,9,  -999.0,9, 20130502,      731,  30.0002,-169.7624,    34.8544,2,     -999.0,9,     -999.0,9,     1.5453,2,     -999.0,1,     -999.0,9,-999.0000, -999.00,-999.000
318M20130321,       P02W,      85,          1,          1,          1,2,20130502,       0723,    30.0002,  -169.7624,       5467,  5545.8,   1.5656,  34.6921,2,  34.6928,2,    161.7,2,   161.6,2,  145.34,2,    35.3,2,       0,2,    2.47,2,   0.000,4,   0.000,4,   0.000,4,     0.02,4,  2315.5,2, 2414.36,2,   7.5842,2,       25,-999.000,9,-999.0000,9, -999.00,9, -999.00,9,  -999.0,9,  -999.0,-999.000,9,-999.000,     -999.0,9, -999.00,9,   33.51,2, -999.00,9,     -999.0,9,  -999.0,9, 20130502,      723,  30.0002,-169.7624,    34.8564,2,     -999.0,9,     -999.0,9,     1.5658,2,     -999.0,1,     -999.0,9,-999.0000, -999.00,-999.000