BOTTLE,20220817CCHSIOAMB
EXPOCODE,SECT_ID,STNNBR,CASTNO,SAMPNO,BTLNBR,BTLNBR_FLAG_W,DATE,TIME,LATITUDE,LONGITUDE,DEPTH,CTDPRS,CTDTMP,CTDSAL,CTDSAL_FLAG_W,SALNTY,SALNTY_FLAG_W,CTDOXY,CTDOXY_FLAG_W,OXYGEN,OXYGEN_FLAG_W,SILCAT,SILCAT_FLAG_W,NITRAT,NITRAT_FLAG_W,NITRIT,NITRIT_FLAG_W,PHSPHT,PHSPHT_FLAG_W,CFC-11,CFC-11_FLAG_W,CFC-12,CFC-12_FLAG_W,CFC113,CFC113_FLAG_W,SF6,SF6_FLAG_W,TCARBN,TCARBN_FLAG_W,ALKALI,ALKALI_FLAG_W,PH_TOT,PH_TOT_FLAG_W,PH_TMP,TRITUM,TRITUM_FLAG_W,HELIUM,HELIUM_FLAG_W,DELHE3,DELHE3_FLAG_W,DELC13,DELC13_FLAG_W,DELC14,DELC14_FLAG_W,C14ERR,NEON,NEON_FLAG_W,NEONER,I-129,I-129_FLAG_W,SR-90,SR-90_FLAG_W,DOC,DOC_FLAG_W,TDN,TDN_FLAG_W,CALCIUM,CALCIUM_FLAG_W,D15N_NO3,D15N_NO3_FLAG_W,BTL_DATE,BTL_TIME,BTL_LAT,BTL_LON,SALTREF,SALTREF_FLAG_W,CS-137,CS-137_FLAG_W,CS-134,CS-134_FLAG_W,REFTMP,REFTMP_FLAG_W,LAB_DEN,LAB_DEN_FLAG_W,D18O_NO3,D18O_NO3_FLAG_W,HELIER,DELHER,TRITER
,,,,,,,,,,,METERS,DBAR,ITS-90,PSS-78,,PSS-78,,UMOL/KG,,UMOL/KG,,UMOL/KG,,UMOL/KG,,UMOL/KG,,UMOL/KG,,PMOL/KG,,PMOL/KG,,PMOL/KG,,FMOL/KG,,UMOL/KG,,UMOL/KG,,,,DEG C,TU,,NMOL/KG,,PERCNT,,/MILLE,,/MILLE,,/MILLE,NMOL/KG,,NMOL/KG,BQ/M^3,,DM/.1MG,,UMOL/KG,,UMOL/KG,,MMOL/KG,,/MILLE,,,,,,G/KG,,BQ/M^3,,BQ/M^3,,ITS-90,,,,/MILLE,,NMOL/KG,PERCNT,TU
318M20130321,       P02W,      62,          1,          7,          7,2,20130424,       2333,    30.0002,   171.6106,       5243,  3648.1,   1.4638,  34.6787,2,  34.6794,2,    143.7,2,   143.6,2,  154.12,2,   36.57,2,       0,2,    2.58,2,-999.000,9,-999.000,9,-999.000,9,-999.0000,9,  2329.4,2, 2415.26,2,   7.5547,2,       25,-999.000,9,-999.0000,9, -999.00,9, -999.00,9,  -999.0,9,  -999.0,-999.000,9,-999.000,     -999.0,9, -999.00,9, -999.00,9, -999.00,9,     -999.0,9,  -999.0,9, 20130425,        7,  30.0007, 171.6098,    34.8429,2,     -999.0,9,     -999.0,9,     1.4636,2,     -999.0,9,     -999.0,9,-999.0000, -999.00,-999.000
318M20130321,       P02W,      62,          1,          6,          6,2,20130424,       2333,    30.0002,   171.6106,       5243,  3958.3,   1.4551,  34.6833,2,  34.6839,2,    149.2,2,   149.4,2,  152.75,2,   36.17,2,       0,2,    2.55,2,   0.003,2,   0.013,2,   0.003,2,     0.06,2,  -999.0,9, -999.00,9,-999.0000,9,  -999.00,-999.000,9,-999.0000,9, -999.00,9, -999.00,9,  -999.0,9,  -999.0,-999.000,9,-999.000,     -999.0,9, -999.00,9, -999.00,9, -999.00,9,     -999.0,9,  -999.0,9, 20130425,        1,  29.9997, 171.6102,    34.8475,2,     -999.0,9,     -999.0,9,     1.4549,2,     -999.0,9,     -999.0,9,-999.0000, -999.00,-999.000
318M20130321,       P02W,      62,          1,          5,         37,2,20130424,       2333,    30.0002,   171.6106,       5243,  4266.2,   1.4579,  34.6868,2,  34.6869,2,    154.2,2,   154.1,2,   150.8,2,   35.84,2,       0,2,    2.52,2,-999.000,9,-999.000,9,-999.000,9,-999.0000,9,  2322.1,2, 2413.66,2,   7.5708,2,       25,-999.000,9,-999.0000,9, -999.00,9, -999.00,9,  -999.0,9,  -999.0,-999.000,9,-999.000,     -999.0,9, -999.00,9, -999.00,9, -999.00,9,     -999.0,9,  -999.0,9, 20130424,     2355,  29.9999, 171.6104,    34.8505,2,     -999.0,9,     -999.0,9,     1.4583,2,     -999.0,9,     -999.0,9,-999.0000, -999.00,-999.000
318M20130321,       P02W,      62,          1,          4,          4,2,20130424,       2333,    30.0002,   171.6106,       5243,  4572.7,   1.4637,  34.6895,2,  34.6906,2,    159.3,2,     159,2,  148.26,2,   35.56,2,       0,2,     2.5,2,   0.003,2,   0.012,2,   0.005,2,     0.03,2,  -999.0,9, -999.00,9,-999.0000,9,  -999.00,-999.000,9,-999.0000,9, -999.00,9, -999.00,9,  -999.0,9,  -999.0,-999.000,9,-999.000,     -999.0,9, -999.00,9, -999.00,9, -999.00,9,     -999.0,9,  -999.0,9, 20130424,     2349,  30.0003, 171.6106,    34.8542,2,     -999.0,9,     -999.0,9,     1.4634,2,     -999.0,9,     -999.0,9,-999.0000, -999.00,-999.000
318M20130321,       P02W,      62,          1,          3,          3,2,20130424,       2333,    30.0002,   171.6106,       5243,  4882.2,   1.4621,  34.6929,2,  34.6938,2,    164.6,2,   165.4,2,   142.7,2,   35.05,2,       0,2,    2.45,2,   0.001,2,   0.010,2,   0.011,2,     0.04,2,  2310.1,6, 2406.75,2,   7.5849,2,       25,-999.000,9,-999.0000,9, -999.00,9, -999.00,9,  -999.0,9,  -999.0,-999.000,9,-999.000,     -999.0,9, -999.00,9, -999.00,9, -999.00,9,     -999.0,9,  -999.0,9, 20130424,     2342,  30.0006, 171.6105,    34.8574,2,     -999.0,9,     -999.0,9,     1.4617,2,     -999.0,9,     -999.0,9,-999.0000, -999.00,-999.000
318M20130321,       P02W,      62,          1,          2,          2,2,20130424,       2333,    30.0002,   171.6106,       5243,  5138.1,   1.4695,  34.6948,2,  34.6955,2,    170.1,2,   170.3,2,  139.58,2,   34.68,2,       0,2,    2.42,2,   0.001,2,   0.009,2,   0.006,2,     0.03,2,  2305.4,2, 2405.05,6,   7.5902,2,       25,-999.000,9,-999.0000,9, -999.00,9, -999.00,9,  -999.0,9,  -999.0,-999.000,9,-999.000,     -999.0,9, -999.00,9, -999.00,9, -999.00,9,     -999.0,9,  -999.0,9, 20130424,     2337,  30.0005, 171.6105,    34.8592,2,     -999.0,9,     -999.0,9,      1.469,2,     -999.0,9,     -999.0,9,-999.0000, -999.00,-999.000
318M20130321,       P02W,      62,          1,          1,          1,2,20130424,       2333,    30.0002,   171.6106,       5243,  5309.8,   1.4736,  34.6966,2,  34.6971,2,      173,2,   172.8,2,  137.53,2,    34.5,2,       0,2,     2.4,2,   0.003,2,   0.011,2,   0.004,2,     0.05,2,    2304,2, 2403.95,2,   7.5923,6,       25,-999.000,9,-999.0000,9, -999.00,9, -999.00,9,  -999.0,9,  -999.0,-999.000,9,-999.000,     -999.0,9, -999.00,9, -999.00,9, -999.00,9,     -999.0,9,  -999.0,9, 20130424,     2333,  30.0002, 171.6106,    34.8607,2,     -999.0,9,     -999.0,9,     1.4734,2,     -999.0,9,     -999.0,9,-999.0000, -999.00,-999.000