BOTTLE,20220817CCHSIOAMB
EXPOCODE,SECT_ID,STNNBR,CASTNO,SAMPNO,BTLNBR,BTLNBR_FLAG_W,DATE,TIME,LATITUDE,LONGITUDE,DEPTH,CTDPRS,CTDTMP,CTDSAL,CTDSAL_FLAG_W,SALNTY,SALNTY_FLAG_W,CTDOXY,CTDOXY_FLAG_W,OXYGEN,OXYGEN_FLAG_W,SILCAT,SILCAT_FLAG_W,NITRAT,NITRAT_FLAG_W,NITRIT,NITRIT_FLAG_W,PHSPHT,PHSPHT_FLAG_W,CFC-11,CFC-11_FLAG_W,CFC-12,CFC-12_FLAG_W,CFC113,CFC113_FLAG_W,SF6,SF6_FLAG_W,TCARBN,TCARBN_FLAG_W,ALKALI,ALKALI_FLAG_W,PH_TOT,PH_TOT_FLAG_W,PH_TMP,TRITUM,TRITUM_FLAG_W,HELIUM,HELIUM_FLAG_W,DELHE3,DELHE3_FLAG_W,DELC13,DELC13_FLAG_W,DELC14,DELC14_FLAG_W,C14ERR,NEON,NEON_FLAG_W,NEONER,I-129,I-129_FLAG_W,SR-90,SR-90_FLAG_W,DOC,DOC_FLAG_W,TDN,TDN_FLAG_W,CALCIUM,CALCIUM_FLAG_W,D15N_NO3,D15N_NO3_FLAG_W,BTL_DATE,BTL_TIME,BTL_LAT,BTL_LON,SALTREF,SALTREF_FLAG_W,CS-137,CS-137_FLAG_W,CS-134,CS-134_FLAG_W,REFTMP,REFTMP_FLAG_W,LAB_DEN,LAB_DEN_FLAG_W,D18O_NO3,D18O_NO3_FLAG_W,HELIER,DELHER,TRITER
,,,,,,,,,,,METERS,DBAR,ITS-90,PSS-78,,PSS-78,,UMOL/KG,,UMOL/KG,,UMOL/KG,,UMOL/KG,,UMOL/KG,,UMOL/KG,,PMOL/KG,,PMOL/KG,,PMOL/KG,,FMOL/KG,,UMOL/KG,,UMOL/KG,,,,DEG C,TU,,NMOL/KG,,PERCNT,,/MILLE,,/MILLE,,/MILLE,NMOL/KG,,NMOL/KG,BQ/M^3,,DM/.1MG,,UMOL/KG,,UMOL/KG,,MMOL/KG,,/MILLE,,,,,,G/KG,,BQ/M^3,,BQ/M^3,,ITS-90,,,,/MILLE,,NMOL/KG,PERCNT,TU
318M20130321,       P02E,     142,          1,         36,         36,2,20130529,       0331,    30.2598,  -123.2685,       4251,     2.4,  16.8226,   33.512,2,   33.512,2,    244.8,2,   245.6,2,    2.34,2,       0,2,       0,2,    0.26,2,   2.388,2,   1.459,2,-999.000,1,   1.5898,2,    2021,6, 2234.79,2,   7.9138,2,       25,   0.618,2,   1.7503,2,   -1.18,2, -999.00,9,  -999.0,9,  -999.0,   7.280,2,   0.033,     -999.0,9, -999.00,9, -999.00,9, -999.00,9,     -999.0,9,  -999.0,9, 20130529,      519,  30.2596, -123.268,      33.67,2,     -999.0,9,     -999.0,9,    16.8216,2,     -999.0,9,     -999.0,9,   0.0074,    0.15,   0.010
318M20130321,       P02E,     142,          1,         34,         34,2,20130529,       0331,    30.2598,  -123.2685,       4251,    20.2,  16.8255,  33.5118,2,  33.5122,2,      247,2,   245.5,2,    2.44,2,       0,2,       0,2,    0.27,2,   2.388,2,   1.455,2,-999.000,1,   1.5249,2,  -999.0,9, -999.00,9,-999.0000,9,  -999.00,-999.000,9,-999.0000,9, -999.00,9, -999.00,9,  -999.0,9,  -999.0,-999.000,9,-999.000,     -999.0,9, -999.00,9, -999.00,9, -999.00,9,     -999.0,9,  -999.0,9, 20130529,      517,  30.2594,-123.2682,    33.6702,2,     -999.0,9,     -999.0,9,    16.8267,2,     -999.0,9,     -999.0,9,-999.0000, -999.00,-999.000
318M20130321,       P02E,     142,          1,         33,         33,2,20130529,       0331,    30.2598,  -123.2685,       4251,    40.7,  16.7672,  33.5121,2,  33.5131,2,    247.5,2,   245.4,2,    2.44,2,       0,2,       0,2,    0.26,2,-999.000,9,-999.000,9,-999.000,9,-999.0000,9,  2022.1,2, 2234.09,2,   7.9131,6,       25,   0.630,2,   1.7522,2,   -0.96,2, -999.00,9,  -999.0,9,  -999.0,   7.167,2,   0.033,     -999.0,9, -999.00,9, -999.00,9, -999.00,9,     -999.0,9,  -999.0,9, 20130529,      515,  30.2591,-123.2682,    33.6712,2,     -999.0,9,     -999.0,9,    16.7659,2,     -999.0,9,     -999.0,9,   0.0074,    0.15,   0.010
318M20130321,       P02E,     142,          1,         32,         32,2,20130529,       0331,    30.2598,  -123.2685,       4251,    64.9,  15.1375,  33.3872,2,   33.384,2,    258.3,2,   261.8,2,    2.54,2,       0,2,       0,2,    0.27,2,   2.631,2,   1.587,2,-999.000,1,   1.6158,2,  2014.9,2, 2227.19,6,    7.911,2,       25,-999.000,9,-999.0000,9, -999.00,9, -999.00,9,  -999.0,9,  -999.0,-999.000,9,-999.000,     -999.0,9, -999.00,9, -999.00,9, -999.00,9,     -999.0,9,  -999.0,9, 20130529,      513,  30.2591,-123.2682,    33.5414,2,     -999.0,9,     -999.0,9,    15.1423,2,     -999.0,9,     -999.0,9,-999.0000, -999.00,-999.000
318M20130321,       P02E,     142,          1,         31,         31,2,20130529,       0331,    30.2598,  -123.2685,       4251,      90,  12.9213,  33.3494,2,  33.3508,2,    255.8,2,   249.6,2,     4.4,2,     2.4,2,    0.12,2,    0.51,2,-999.000,9,-999.000,9,-999.000,9,-999.0000,9,  2042.8,2, 2222.29,2,    7.843,2,       25,   0.615,2,   1.7696,2,   -1.16,2, -999.00,9,  -999.0,9,  -999.0,   7.454,2,   0.034,     -999.0,9, -999.00,9, -999.00,9, -999.00,9,     -999.0,9,  -999.0,9, 20130529,      511,  30.2591,-123.2681,     33.508,2,     -999.0,9,     -999.0,9,    12.9221,2,     -999.0,9,     -999.0,9,   0.0074,    0.15,   0.010
318M20130321,       P02E,     142,          1,         30,         30,2,20130529,       0331,    30.2598,  -123.2685,       4251,   135.7,  10.6286,  33.4492,2,  33.4469,2,      200,2,   198.3,2,   12.02,2,   13.56,2,    0.03,2,    1.15,2,   3.154,2,   1.849,2,-999.000,1,    1.615,2,    2102,2, 2220.89,2,    7.689,2,       25,-999.000,9,-999.0000,9, -999.00,9, -999.00,9,  -999.0,9,  -999.0,-999.000,9,-999.000,     -999.0,9, -999.00,9, -999.00,9, -999.00,9,     -999.0,9,  -999.0,9, 20130529,      509,   30.259,-123.2683,    33.6046,2,     -999.0,9,     -999.0,9,    10.6373,2,     -999.0,9,     -999.0,9,-999.0000, -999.00,-999.000
318M20130321,       P02E,     142,          1,         29,         29,2,20130529,       0331,    30.2598,  -123.2685,       4251,   186.1,   9.0555,  33.8467,2,  33.8478,2,    133.5,2,   135.3,2,   26.66,2,   24.36,2,    0.01,2,    1.83,2,-999.000,9,-999.000,9,-999.000,9,-999.0000,9,    2179,2,  2246.1,2,   7.5349,6,       25,   0.468,2,   1.7934,2,    3.61,2, -999.00,9,  -999.0,9,  -999.0,   7.678,2,   0.035,     -999.0,9, -999.00,9, -999.00,9, -999.00,9,     -999.0,9,  -999.0,9, 20130529,      507,  30.2588,-123.2684,    34.0074,2,     -999.0,9,     -999.0,9,     9.0557,2,     -999.0,9,     -999.0,9,   0.0075,    0.15,   0.011
318M20130321,       P02E,     142,          1,         27,         27,2,20130529,       0331,    30.2598,  -123.2685,       4251,   237.2,   8.2989,  34.0116,2,  34.0112,2,    100.1,2,   101.9,2,   36.62,2,    28.9,2,    0.01,2,    2.14,2,   2.670,2,   1.425,2,-999.000,1,   0.7878,2,  2214.7,2,  2260.4,2,   7.4681,2,       25,-999.000,9,-999.0000,9, -999.00,9, -999.00,9,  -999.0,9,  -999.0,-999.000,9,-999.000,     -999.0,9, -999.00,9, -999.00,9, -999.00,9,     -999.0,9,  -999.0,9, 20130529,      505,  30.2586,-123.2684,    34.1715,2,     -999.0,9,     -999.0,9,     8.2955,2,     -999.0,9,     -999.0,9,-999.0000, -999.00,-999.000
318M20130321,       P02E,     142,          1,         26,         26,2,20130529,       0331,    30.2598,  -123.2685,       4251,   285.1,   7.6895,  34.0752,2,  34.0737,2,     76.2,2,    75.3,2,   45.41,2,   32.11,2,    0.01,2,    2.39,2,-999.000,9,-999.000,9,-999.000,9,-999.0000,9,  2243.4,2, 2270.81,2,   7.4122,2,       25,   0.384,2,   1.8187,2,    9.66,2, -999.00,9,  -999.0,9,  -999.0,   7.821,2,   0.036,     -999.0,9, -999.00,9, -999.00,9, -999.00,9,     -999.0,9,  -999.0,9, 20130529,      503,  30.2586,-123.2683,    34.2343,2,     -999.0,9,     -999.0,9,     7.6895,2,     -999.0,9,     -999.0,9,   0.0076,    0.15,   0.010
318M20130321,       P02E,     142,          1,         25,         25,2,20130529,       0331,    30.2598,  -123.2685,       4251,   335.4,   7.2156,  34.0987,2,  34.0991,2,     61.7,2,    60.8,2,   52.63,2,   34.27,2,    0.01,2,    2.56,2,   1.822,2,   0.917,2,-999.000,1,   0.3254,2,  2260.6,2, 2279.01,2,   7.3775,2,       25,-999.000,9,-999.0000,9, -999.00,9, -999.00,9,  -999.0,9,  -999.0,-999.000,9,-999.000,     -999.0,9, -999.00,9, -999.00,9, -999.00,9,     -999.0,9,  -999.0,9, 20130529,      501,  30.2591,-123.2682,    34.2599,2,     -999.0,9,     -999.0,9,     7.2183,2,     -999.0,9,     -999.0,9,-999.0000, -999.00,-999.000
318M20130321,       P02E,     142,          1,         24,         24,2,20130529,       0331,    30.2598,  -123.2685,       4251,     387,   6.5196,  34.1203,2,  34.1227,2,     45.3,2,    44.4,2,   63.47,2,   37.05,2,       0,2,    2.78,2,-999.000,9,-999.000,9,-999.000,9,-999.0000,9,  2283.6,2, 2289.71,2,   7.3412,2,       25,   0.305,2,   1.8335,2,   13.89,2, -999.00,9,  -999.0,9,  -999.0,   7.807,2,   0.036,     -999.0,9, -999.00,9, -999.00,9, -999.00,9,     -999.0,9,  -999.0,9, 20130529,      459,  30.2596,-123.2685,    34.2836,2,     -999.0,9,     -999.0,9,     6.5209,2,     -999.0,9,     -999.0,9,   0.0077,    0.15,   0.011
318M20130321,       P02E,     142,          1,         23,         23,2,20130529,       0331,    30.2598,  -123.2685,       4251,   467.9,   5.7734,  34.1731,2,   34.172,2,     30.5,2,    28.7,2,   75.87,2,   39.45,2,       0,2,    2.97,2,   0.698,2,   0.345,2,-999.000,1,   0.0672,2,  -999.0,9, -999.00,9,-999.0000,9,  -999.00,   0.224,2,   1.8317,2,   15.30,2, -999.00,9,  -999.0,9,  -999.0,   7.931,2,   0.036,     -999.0,9, -999.00,9, -999.00,9, -999.00,9,     -999.0,9,  -999.0,9, 20130529,      457,  30.2598,-123.2685,    34.3332,2,     -999.0,9,     -999.0,9,     5.7777,2,     -999.0,9,     -999.0,9,   0.0077,    0.15,   0.010
318M20130321,       P02E,     142,          1,         22,         22,2,20130529,       0331,    30.2598,  -123.2685,       4251,   568.7,    5.392,  34.2657,2,  34.2689,2,     16.5,2,    15.5,2,   86.41,2,   40.98,2,       0,2,    3.12,2,-999.000,9,-999.000,9,-999.000,9,-999.0000,9,    2327,2, 2322.02,2,   7.3011,2,       25,-999.000,9,-999.0000,9, -999.00,9, -999.00,9,  -999.0,9,  -999.0,-999.000,9,-999.000,     -999.0,9, -999.00,9, -999.00,9, -999.00,9,     -999.0,9,  -999.0,9, 20130529,      454,  30.2598,-123.2685,    34.4305,2,     -999.0,9,     -999.0,9,     5.3916,2,     -999.0,9,     -999.0,9,-999.0000, -999.00,-999.000
318M20130321,       P02E,     142,          1,         21,         21,2,20130529,       0331,    30.2598,  -123.2685,       4251,   669.3,   5.0651,  34.3527,2,  34.3503,2,     11.2,2,    11.5,2,    94.6,2,   41.99,2,       0,2,    3.19,2,   0.070,2,   0.045,2,-999.000,1,        0,2,  2339.5,2, 2335.93,2,   7.3058,2,       25,   0.032,2,   1.8793,2,   14.64,2, -999.00,9,  -999.0,9,  -999.0,   7.928,2,   0.036,     -999.0,9, -999.00,9, -999.00,9, -999.00,9,     -999.0,9,  -999.0,9, 20130529,      451,  30.2598,-123.2685,    34.5123,2,     -999.0,9,     -999.0,9,     5.0648,2,     -999.0,9,     -999.0,9,   0.0079,    0.15,   0.010
318M20130321,       P02E,     142,          1,         20,         20,2,20130529,       0331,    30.2598,  -123.2685,       4251,   770.5,     4.69,  34.3999,2,  34.4031,2,     13.5,2,    13.9,2,  102.61,2,   42.87,2,       0,2,    3.22,2,-999.000,9,-999.000,9,-999.000,9,-999.0000,9,  2348.5,2, 2347.43,2,   7.3138,2,       25,   0.030,2,   1.8653,2,   15.76,2, -999.00,9,  -999.0,9,  -999.0,   7.958,2,   0.037,     -999.0,9, -999.00,9, -999.00,9, -999.00,9,     -999.0,9,  -999.0,9, 20130529,      448,  30.2598,-123.2685,    34.5654,2,     -999.0,9,     -999.0,9,     4.6895,2,     -999.0,9,     -999.0,9,   0.0078,    0.15,   0.009
318M20130321,       P02E,     142,          1,         19,         19,2,20130529,       0331,    30.2598,  -123.2685,       4251,   871.4,   4.3578,  34.4472,2,  34.4491,2,     17.5,2,    17.6,2,  109.73,2,    43.2,2,       0,2,    3.21,2,   0.020,2,   0.021,2,-999.000,1,        0,2,  -999.0,9, -999.00,9,-999.0000,9,  -999.00,  -0.001,2,   1.8600,2,   17.88,2, -999.00,9,  -999.0,9,  -999.0,   8.044,2,   0.037,     -999.0,9, -999.00,9, -999.00,9, -999.00,9,     -999.0,9,  -999.0,9, 20130529,      446,  30.2598,-123.2685,    34.6115,2,     -999.0,9,     -999.0,9,     4.3556,2,     -999.0,9,     -999.0,9,   0.0078,    0.15,   0.009
318M20130321,       P02E,     142,          1,         18,         18,2,20130529,       0331,    30.2598,  -123.2685,       4251,   972.9,   4.0112,  34.4731,2,  34.4726,2,     23.3,2,      25,2,  116.17,2,    43.4,2,       0,2,    3.19,2,-999.000,9,-999.000,9,-999.000,9,-999.0000,9,  2359.7,2, 2367.74,2,   7.3365,2,       25,-999.000,9,-999.0000,9, -999.00,9, -999.00,9,  -999.0,9,  -999.0,-999.000,9,-999.000,     -999.0,9, -999.00,9, -999.00,9, -999.00,9,     -999.0,9,  -999.0,9, 20130529,      443,  30.2598,-123.2685,    34.6352,2,     -999.0,9,     -999.0,9,     4.0093,2,     -999.0,9,     -999.0,9,-999.0000, -999.00,-999.000
318M20130321,       P02E,     142,          1,         17,         17,2,20130529,       0331,    30.2598,  -123.2685,       4251,  1072.9,   3.7587,  34.4966,2,   34.497,2,     28.7,2,    29.5,2,  122.03,2,   43.36,2,       0,2,    3.18,2,   0.013,2,   0.015,2,-999.000,1,        0,2,  -999.0,9, -999.00,9,-999.0000,9,  -999.00,   0.016,2,   1.8842,2,   20.28,2, -999.00,9,  -999.0,9,  -999.0,   8.047,2,   0.037,     -999.0,9, -999.00,9, -999.00,9, -999.00,9,     -999.0,9,  -999.0,9, 20130529,      440,  30.2598,-123.2685,    34.6596,2,     -999.0,9,     -999.0,9,     3.7579,2,     -999.0,9,     -999.0,9,   0.0079,    0.15,   0.009
318M20130321,       P02E,     142,          1,         16,         16,2,20130529,       0331,    30.2598,  -123.2685,       4251,  1175.5,   3.5303,  34.5164,2,  34.5162,2,     33.6,2,    34.5,2,  127.39,2,   43.27,2,       0,2,    3.16,2,-999.000,9,-999.000,9,-999.000,9,-999.0000,9,  2367.3,2, 2380.55,2,   7.3561,2,       25,   0.001,2,   1.8846,2,   21.44,2, -999.00,9,  -999.0,9,  -999.0,   8.110,2,   0.037,     -999.0,9, -999.00,9, -999.00,9, -999.00,9,     -999.0,9,  -999.0,9, 20130529,      437,  30.2598,-123.2685,     34.679,2,     -999.0,9,     -999.0,9,      3.531,2,     -999.0,9,     -999.0,9,   0.0079,    0.15,   0.009
318M20130321,       P02E,     142,          1,         15,         15,2,20130529,       0331,    30.2598,  -123.2685,       4251,  1275.6,   3.3145,  34.5309,2,  34.5307,2,     38.5,2,    36.8,2,  132.76,2,   43.12,2,       0,2,    3.14,2,   0.014,2,   0.015,2,-999.000,1,   0.0903,2,  -999.0,9, -999.00,9,-999.0000,9,  -999.00,  -0.002,2,   1.8904,2,   22.14,2, -999.00,9,  -999.0,9,  -999.0,   8.075,2,   0.037,     -999.0,9, -999.00,9, -999.00,9, -999.00,9,     -999.0,9,  -999.0,9, 20130529,      435,  30.2598,-123.2685,    34.6936,2,     -999.0,9,     -999.0,9,     3.3153,2,     -999.0,9,     -999.0,9,   0.0079,    0.15,   0.010
318M20130321,       P02E,     142,          1,         14,         14,2,20130529,       0331,    30.2598,  -123.2685,       4251,    1376,   3.1267,  34.5457,2,  34.5457,2,     43.8,2,    46.5,2,  137.44,2,   42.94,2,       0,2,    3.12,2,-999.000,9,-999.000,9,-999.000,9,-999.0000,9,    2369,2, 2392.05,2,   7.3725,2,       25,-999.000,9,-999.0000,9, -999.00,9, -999.00,9,  -999.0,9,  -999.0,-999.000,9,-999.000,     -999.0,9, -999.00,9, -999.00,9, -999.00,9,     -999.0,9,  -999.0,9, 20130529,      432,  30.2598,-123.2685,    34.7086,2,     -999.0,9,     -999.0,9,     3.1288,2,     -999.0,9,     -999.0,9,-999.0000, -999.00,-999.000
318M20130321,       P02E,     142,          1,         13,         13,2,20130529,       0331,    30.2598,  -123.2685,       4251,  1545.9,   2.7638,  34.5712,2,  34.5712,2,     53.5,2,    52.8,2,  146.52,2,   42.42,2,       0,2,    3.07,2,   0.011,2,   0.013,2,-999.000,1,   0.0996,2,  2374.5,2, 2401.65,2,   7.3905,2,       25,   0.017,2,   1.9072,2,   23.21,2, -999.00,9,  -999.0,9,  -999.0,   8.189,2,   0.038,     -999.0,9, -999.00,9, -999.00,9, -999.00,9,     -999.0,9,  -999.0,9, 20130529,      428,  30.2598,-123.2685,    34.7342,2,     -999.0,9,     -999.0,9,     2.7635,2,     -999.0,9,     -999.0,9,   0.0080,    0.15,   0.010
318M20130321,       P02E,     142,          1,         12,         12,2,20130529,       0331,    30.2598,  -123.2685,       4251,  1748.7,   2.4347,  34.5961,2,  34.5965,2,     66.1,2,    63.8,2,  154.13,2,   41.72,2,       0,2,    2.99,2,-999.000,9,-999.000,9,-999.000,9,-999.0000,9,  2372.9,2, 2409.06,2,   7.4137,2,       25,  -0.011,2,   1.9210,2,   24.31,2, -999.00,9,  -999.0,9,  -999.0,   8.097,2,   0.037,     -999.0,9, -999.00,9, -999.00,9, -999.00,9,     -999.0,9,  -999.0,9, 20130529,      424,  30.2598,-123.2685,    34.7597,2,     -999.0,9,     -999.0,9,     2.4352,2,     -999.0,9,     -999.0,9,   0.0081,    0.15,   0.010
318M20130321,       P02E,     142,          1,         11,         11,2,20130529,       0331,    30.2598,  -123.2685,       4251,  1951.5,   2.1816,  34.6167,2,  34.6168,2,     77.8,2,    76.2,2,   159.4,2,   40.97,2,       0,2,    2.92,2,   0.000,2,   0.006,2,-999.000,1,        0,2,  -999.0,9, -999.00,9,-999.0000,9,  -999.00,  -0.008,2,   1.9291,2,   25.04,2, -999.00,9,  -999.0,9,  -999.0,   8.096,2,   0.037,     -999.0,9, -999.00,9, -999.00,9, -999.00,9,     -999.0,9,  -999.0,9, 20130529,      419,  30.2598,-123.2685,      34.78,2,     -999.0,9,     -999.0,9,      2.182,2,     -999.0,9,     -999.0,9,   0.0081,    0.15,   0.009
318M20130321,       P02E,     142,          1,         10,         10,2,20130529,       0331,    30.2598,  -123.2685,       4251,  2188.2,   1.9811,  34.6361,2,  34.6364,2,     90.1,2,    89.4,2,  161.74,2,   40.12,2,       0,2,    2.84,2,-999.000,9,-999.000,9,-999.000,9,-999.0000,9,  -999.0,9, -999.00,9,-999.0000,9,  -999.00,-999.000,9,-999.0000,9, -999.00,9, -999.00,9,  -999.0,9,  -999.0,-999.000,9,-999.000,     -999.0,9, -999.00,9, -999.00,9, -999.00,9,     -999.0,9,  -999.0,9, 20130529,      414,  30.2598,-123.2685,    34.7997,2,     -999.0,9,     -999.0,9,     1.9813,2,     -999.0,9,     -999.0,9,-999.0000, -999.00,-999.000
318M20130321,       P02E,     142,          1,          9,          9,2,20130529,       0331,    30.2598,  -123.2685,       4251,  2442.4,   1.8437,  34.6483,2,  34.6484,2,      100,2,      99,2,  164.08,2,   39.54,2,       0,2,    2.79,2,  -0.001,2,   0.005,2,-999.000,1,        0,2,  -999.0,9, -999.00,9,-999.0000,9,  -999.00,-999.000,9,-999.0000,9, -999.00,9, -999.00,9,  -999.0,9,  -999.0,-999.000,9,-999.000,     -999.0,9, -999.00,9, -999.00,9, -999.00,9,     -999.0,9,  -999.0,9, 20130529,      409,  30.2598,-123.2685,    34.8118,2,     -999.0,9,     -999.0,9,     1.8435,2,     -999.0,9,     -999.0,9,-999.0000, -999.00,-999.000
318M20130321,       P02E,     142,          1,          8,          8,2,20130529,       0331,    30.2598,  -123.2685,       4251,  2698.2,   1.7416,  34.6571,2,  34.6576,2,    107.8,2,     109,2,  165.25,2,   39.02,2,       0,2,    2.74,2,-999.000,9,-999.000,9,-999.000,9,-999.0000,9,  2361.2,2, 2426.36,2,   7.5015,2,       25,-999.000,9,-999.0000,9, -999.00,9, -999.00,9,  -999.0,9,  -999.0,-999.000,9,-999.000,     -999.0,9, -999.00,9, -999.00,9, -999.00,9,     -999.0,9,  -999.0,9, 20130529,      404,  30.2598,-123.2685,    34.8211,2,     -999.0,9,     -999.0,9,     1.7416,2,     -999.0,9,     -999.0,9,-999.0000, -999.00,-999.000
318M20130321,       P02E,     142,          1,          7,          7,2,20130529,       0331,    30.2598,  -123.2685,       4251,  2952.5,   1.6424,  34.6646,2,  34.6645,2,    115.4,2,   116.8,2,   167.3,2,   38.53,2,       0,2,    2.69,2,   0.001,2,   0.006,2,-999.000,1,        0,2,  -999.0,9, -999.00,9,-999.0000,9,  -999.00,-999.000,9,-999.0000,9, -999.00,9, -999.00,9,  -999.0,9,  -999.0,-999.000,9,-999.000,     -999.0,9, -999.00,9, -999.00,9, -999.00,9,     -999.0,9,  -999.0,9, 20130529,      359,  30.2598,-123.2685,     34.828,2,     -999.0,9,     -999.0,9,     1.6437,2,     -999.0,9,     -999.0,9,-999.0000, -999.00,-999.000
318M20130321,       P02E,     142,          1,          6,          6,2,20130529,       0331,    30.2598,  -123.2685,       4251,  3244.3,    1.585,  34.6703,2,    34.67,2,    122.1,2,   121.9,2,  168.28,2,   38.12,2,       0,2,    2.65,2,-999.000,9,-999.000,9,-999.000,9,-999.0000,9,  2354.2,2, 2427.96,6,   7.5272,2,       25,-999.000,9,-999.0000,9, -999.00,9, -999.00,9,  -999.0,9,  -999.0,-999.000,9,-999.000,     -999.0,9, -999.00,9, -999.00,9, -999.00,9,     -999.0,9,  -999.0,9, 20130529,      353,  30.2598,-123.2685,    34.8335,2,     -999.0,9,     -999.0,9,     1.5851,2,     -999.0,9,     -999.0,9,-999.0000, -999.00,-999.000