BOTTLE,20220817CCHSIOAMB
EXPOCODE,SECT_ID,STNNBR,CASTNO,SAMPNO,BTLNBR,BTLNBR_FLAG_W,DATE,TIME,LATITUDE,LONGITUDE,DEPTH,CTDPRS,CTDTMP,CTDSAL,CTDSAL_FLAG_W,SALNTY,SALNTY_FLAG_W,CTDOXY,CTDOXY_FLAG_W,OXYGEN,OXYGEN_FLAG_W,SILCAT,SILCAT_FLAG_W,NITRAT,NITRAT_FLAG_W,NITRIT,NITRIT_FLAG_W,PHSPHT,PHSPHT_FLAG_W,CFC-11,CFC-11_FLAG_W,CFC-12,CFC-12_FLAG_W,CFC113,CFC113_FLAG_W,SF6,SF6_FLAG_W,TCARBN,TCARBN_FLAG_W,ALKALI,ALKALI_FLAG_W,PH_TOT,PH_TOT_FLAG_W,PH_TMP,TRITUM,TRITUM_FLAG_W,HELIUM,HELIUM_FLAG_W,DELHE3,DELHE3_FLAG_W,DELC13,DELC13_FLAG_W,DELC14,DELC14_FLAG_W,C14ERR,NEON,NEON_FLAG_W,NEONER,I-129,I-129_FLAG_W,SR-90,SR-90_FLAG_W,DOC,DOC_FLAG_W,TDN,TDN_FLAG_W,CALCIUM,CALCIUM_FLAG_W,D15N_NO3,D15N_NO3_FLAG_W,BTL_DATE,BTL_TIME,BTL_LAT,BTL_LON,SALTREF,SALTREF_FLAG_W,CS-137,CS-137_FLAG_W,CS-134,CS-134_FLAG_W,REFTMP,REFTMP_FLAG_W,LAB_DEN,LAB_DEN_FLAG_W,D18O_NO3,D18O_NO3_FLAG_W,HELIER,DELHER,TRITER
,,,,,,,,,,,METERS,DBAR,ITS-90,PSS-78,,PSS-78,,UMOL/KG,,UMOL/KG,,UMOL/KG,,UMOL/KG,,UMOL/KG,,UMOL/KG,,PMOL/KG,,PMOL/KG,,PMOL/KG,,FMOL/KG,,UMOL/KG,,UMOL/KG,,,,DEG C,TU,,NMOL/KG,,PERCNT,,/MILLE,,/MILLE,,/MILLE,NMOL/KG,,NMOL/KG,BQ/M^3,,DM/.1MG,,UMOL/KG,,UMOL/KG,,MMOL/KG,,/MILLE,,,,,,G/KG,,BQ/M^3,,BQ/M^3,,ITS-90,,,,/MILLE,,NMOL/KG,PERCNT,TU
318M20130321,       P02W,      47,          1,          7,          7,2,20130420,       0119,    30.0019,   160.6026,       5683,  3652.6,   1.4755,  34.6785,2,  34.6778,2,    143.9,2,   144.8,2,  152.46,2,   36.37,2,       0,2,    2.54,2,-999.000,9,-999.000,9,-999.000,9,-999.0000,9,  2329.1,2, 2414.86,2,   7.5553,6,       25,-999.000,9,-999.0000,9, -999.00,9,    0.11,2,  -223.8,2,     2.2,-999.000,9,-999.000,     -999.0,9, -999.00,9,   38.39,2, -999.00,9,     -999.0,9,  -999.0,9, 20130420,      205,  30.0027, 160.6054,    34.8413,2,     -999.0,9,     -999.0,9,     1.4753,2,     -999.0,9,     -999.0,9,-999.0000, -999.00,-999.000
318M20130321,       P02W,      47,          1,          6,          6,2,20130420,       0119,    30.0019,   160.6026,       5683,  3958.3,   1.4602,  34.6832,2,  34.6819,2,    150.1,2,   150.4,2,   150.7,2,   35.96,2,       0,2,    2.51,2,   0.009,2,   0.009,2,   0.006,2,        0,2,  -999.0,9, -999.00,9,-999.0000,9,  -999.00,-999.000,9,-999.0000,9, -999.00,9,    0.14,2,  -221.6,2,     2.2,-999.000,9,-999.000,     -999.0,9, -999.00,9, -999.00,9, -999.00,9,     -999.0,9,  -999.0,9, 20130420,      159,  30.0026, 160.6052,    34.8455,2,     -999.0,9,     -999.0,9,     1.4601,2,     -999.0,9,     -999.0,9,-999.0000, -999.00,-999.000
318M20130321,       P02W,      47,          1,          5,         37,2,20130420,       0119,    30.0019,   160.6026,       5683,  4369.1,   1.4584,  34.6876,2,  34.6868,2,    156.8,2,   156.8,2,  148.56,2,   35.55,2,       0,2,    2.47,2,-999.000,9,-999.000,9,-999.000,9,-999.0000,9,  -999.0,9, -999.00,9,-999.0000,9,  -999.00,-999.000,9,-999.0000,9, -999.00,9,    0.17,2,  -220.8,2,     3.2,-999.000,9,-999.000,     -999.0,9, -999.00,9,   38.22,2, -999.00,9,     -999.0,9,  -999.0,9, 20130420,      151,  30.0025, 160.6046,    34.8504,2,     -999.0,9,     -999.0,9,     1.4586,2,     -999.0,9,     -999.0,9,-999.0000, -999.00,-999.000
318M20130321,       P02W,      47,          1,          4,          4,2,20130420,       0119,    30.0019,   160.6026,       5683,  4784.2,   1.4672,  34.6915,2,  34.6906,2,    163.8,2,   163.9,2,  144.07,2,   35.05,2,       0,2,    2.43,2,   0.018,2,   0.012,2,   0.012,2,        0,2,  -999.0,9, -999.00,9,-999.0000,9,  -999.00,-999.000,9,-999.0000,9, -999.00,9,    0.18,2,  -213.4,2,     2.3,-999.000,9,-999.000,     -999.0,9, -999.00,9, -999.00,9, -999.00,9,     -999.0,9,  -999.0,9, 20130420,      143,  30.0025, 160.6041,    34.8542,2,     -999.0,9,     -999.0,9,     1.4673,2,     -999.0,9,     -999.0,9,-999.0000, -999.00,-999.000
318M20130321,       P02W,      47,          1,          3,          3,2,20130420,       0119,    30.0019,   160.6026,       5683,  5198.4,    1.488,  34.6945,2,  34.6937,2,    168.7,2,   169.8,2,  137.92,2,   34.61,2,       0,2,    2.39,2,-999.000,9,-999.000,9,-999.000,9,-999.0000,9,  2306.6,6, 2402.85,2,   7.5892,2,       25,-999.000,9,-999.0000,9, -999.00,9,    0.21,2,  -207.8,2,     2.2,-999.000,9,-999.000,     -999.0,9, -999.00,9,   35.49,2, -999.00,9,     -999.0,9,  -999.0,9, 20130420,      135,  30.0022, 160.6036,    34.8573,2,     -999.0,9,     -999.0,9,     1.4882,2,     -999.0,9,     -999.0,9,-999.0000, -999.00,-999.000
318M20130321,       P02W,      47,          1,          2,          2,2,20130420,       0119,    30.0019,   160.6026,       5683,  5568.9,   1.5118,  34.6959,2,  34.6951,2,    173.4,2,   172.3,2,  136.75,2,   34.44,2,       0,2,    2.38,2,   0.014,2,   0.010,2,   0.004,2,        0,2,  2304.6,6, 2401.55,2,   7.5916,2,       25,-999.000,9,-999.0000,9, -999.00,9,    0.26,2,  -199.2,2,     2.1,-999.000,9,-999.000,     -999.0,9, -999.00,9,   38.86,2, -999.00,9,     -999.0,9,  -999.0,9, 20130420,      127,  30.0019, 160.6033,    34.8587,2,     -999.0,9,     -999.0,9,     1.5116,2,     -999.0,9,     -999.0,9,-999.0000, -999.00,-999.000
318M20130321,       P02W,      47,          1,          1,          1,2,20130420,       0119,    30.0019,   160.6026,       5683,  5802.2,   1.5298,  34.6965,2,  34.6965,2,    174.8,2,   174.6,2,  134.79,2,   34.27,2,       0,2,    2.37,2,   0.012,2,   0.013,2,   0.010,2,        0,2,  2302.1,6, 2398.95,2,   7.5921,2,       25,-999.000,9,-999.0000,9, -999.00,9,    0.26,2,  -204.7,2,     2.0,-999.000,9,-999.000,     -999.0,9, -999.00,9,    37.1,2, -999.00,9,     -999.0,9,  -999.0,9, 20130420,      119,   30.002, 160.6026,    34.8601,2,     -999.0,9,     -999.0,9,       1.53,2,     -999.0,9,     -999.0,9,-999.0000, -999.00,-999.000