BOTTLE,20220817CCHSIOAMB
EXPOCODE,SECT_ID,STNNBR,CASTNO,SAMPNO,BTLNBR,BTLNBR_FLAG_W,DATE,LATITUDE,LONGITUDE,DEPTH,CTDPRS,CTDTMP,CTDSAL,CTDSAL_FLAG_W,SALNTY,SALNTY_FLAG_W,CTDOXY,CTDOXY_FLAG_W,OXYGEN,OXYGEN_FLAG_W,SILCAT,SILCAT_FLAG_W,NITRAT,NITRAT_FLAG_W,PHSPHT,PHSPHT_FLAG_W,CFC-11,CFC-11_FLAG_W,CFC-12,CFC-12_FLAG_W,CFC113,CFC113_FLAG_W,CCL4,CCL4_FLAG_W,MCHFRM,MCHFRM_FLAG_W,TCARBN,TCARBN_FLAG_W,THETA
,,,,,,,,,,METERS,DBAR,ITS-90,PSS-78,,PSS-78,,UMOL/KG,,UMOL/KG,,UMOL/KG,,UMOL/KG,,UMOL/KG,,PMOL/KG,,PMOL/KG,,PMOL/KG,,PMOL/KG,,PMOL/KG,,UMOL/KG,,DEG C
  18HU19950419, AR13d,    72,  1, 154267,     53,2,19950510, 45.4350, -43.1933, 4702,     31.9,  16.2758,  36.2303,2,  36.2400,2,    204.4,2,    238.5,2,     1.34,6,     3.10,6,     0.19,6,    2.082,2,    0.869,2,    0.127,2,    6.195,2,    5.495,2,   2084.1,2,  16.2707
  18HU19950419, AR13d,    72,  1, 154266,     70,2,19950510, 45.4350, -43.1933, 4702,    247.1,  13.8966,  35.7101,2,  35.7262,2,    229.4,2,    237.1,2,     2.98,6,     6.55,6,     0.41,6,    2.253,2,    0.855,2,    0.137,2,    2.616,2,    9.230,2,   2100.1,2,  13.8608
  18HU19950419, AR13d,    72,  1, 154265,     51,2,19950510, 45.4350, -43.1933, 4702,    553.8,   7.6012,  34.8720,2,  34.8815,2,    196.8,2,    200.8,2,    11.36,6,    19.10,6,     1.29,6,    1.880,2,    0.000,4, -999.000,5,    4.182,2,    7.723,2,   2163.2,2,   7.5456
  18HU19950419, AR13d,    72,  1, 154264,     50,2,19950510, 45.4350, -43.1933, 4702,    754.0,   6.5515,  35.0271,2,  35.0375,2,    201.9,2,    200.7,2,    12.99,6,    20.71,6,     1.29,6,    1.286,2,    0.695,2,    0.067,2,    4.928,2,    4.381,2,   2176.0,2,   6.4805
  18HU19950419, AR13d,    72,  1, 154263,     49,2,19950510, 45.4350, -43.1933, 4702,   1002.7,   5.1249,  35.0324,2,  35.0405,2,    238.1,2,    239.8,2,    12.08,6,    19.35,6,     1.18,6,    1.416,2,    0.661,2,    0.048,2,    2.265,2,    4.588,2,   2170.6,2,   5.0395
  18HU19950419, AR13d,    72,  1, 154262,     48,2,19950510, 45.4350, -43.1933, 4702,   1260.3,   4.2431,  34.9608,2,  34.9716,2,    260.0,2,    260.8,2,    11.65,6,    18.24,6,     1.18,6,    1.518,2,    0.766,2, -999.000,5,    4.527,2,    6.599,2,   2163.5,2,   4.1420
  18HU19950419, AR13d,    72,  1, 154261,     47,2,19950510, 45.4350, -43.1933, 4702,   1531.8,   3.7781,  34.9246,2,  34.9332,2,    272.9,2,    272.7,2,    11.69,6,    17.88,6,     1.12,6,    1.599,6,    0.788,6,    0.060,6,    4.126,6,    5.201,6,   2158.7,2,   3.6576
  18HU19950419, AR13d,    72,  1, 154260,     46,2,19950510, 45.4350, -43.1933, 4702,   1808.9,   3.4459,  34.8901,2,  34.8995,2,    281.3,2,    281.2,2,    11.30,6,    17.79,6,     1.12,6,    1.858,2,    1.034,2,    0.096,2,    5.257,2,    6.220,2,   2156.0,2,   3.3045
  18HU19950419, AR13d,    72,  1, 154259,     45,2,19950510, 45.4350, -43.1933, 4702,   2003.9,   3.3138,  34.8795,2,  34.8871,2,    283.9,2,    284.6,2,    11.12,6,    17.45,6,     1.10,6,    1.928,2,    0.000,4, -999.000,5,    5.692,2,    8.069,2,   2155.7,2,   3.1563
  18HU19950419, AR13d,    72,  1, 154258,     44,2,19950510, 45.4350, -43.1933, 4702,   2250.4,   3.2742,  34.8888,2,  34.8980,2,    284.4,2,    284.3,2,    12.05,6,    17.20,6,     1.10,6,    1.851,2,    0.648,2,    0.061,2,    4.099,2,    6.541,2,   2156.0,2,   3.0939
  18HU19950419, AR13d,    72,  1, 154257,     43,2,19950510, 45.4350, -43.1933, 4702,   2505.7,   3.3159,  34.9183,2,  34.9274,2,    276.8,2,    275.5,2,    13.37,6,    17.70,6,     1.11,6,    0.986,2,    0.713,2,    0.062,2,    2.365,2,    3.170,2,   2157.5,2,   3.1096
  18HU19950419, AR13d,    72,  1, 154256,     42,2,19950510, 45.4350, -43.1933, 4702,   2610.6,   3.2762,  34.9260,2,  34.9355,2,    273.9,2,    273.3,2,    14.41,6,    17.49,6,     1.13,6,    0.949,2,    0.801,2, -999.000,5,    3.866,2,    3.115,2,   2157.1,2,   3.0600
  18HU19950419, AR13d,    72,  1, 154255,     41,2,19950510, 45.4350, -43.1933, 4702,   2711.6,   3.1615,  34.9199,2,  34.9272,2,    274.8,2,    274.8,2,    16.07,6,    17.12,6,     1.12,6,    0.850,2,    0.035,4,    0.045,2,    2.475,2,    3.733,2,   2159.9,2,   2.9373
  18HU19950419, AR13d,    72,  1, 154254,     40,2,19950510, 45.4350, -43.1933, 4702,   2806.1,   3.1079,  34.9219,2,  34.9347,2,    275.5,2,    275.3,2,    14.55,6,    17.39,6,     1.10,6,    0.861,2,    0.621,2,    0.038,2,    2.284,2,    2.973,2,   2156.8,2,   2.8750
  18HU19950419, AR13d,    72,  1, 154253,     39,2,19950510, 45.4350, -43.1933, 4702,   3109.4,   2.9245,  34.9223,2,  34.9351,2,    276.3,2,    274.6,2,    16.51,6,    17.36,6,     1.14,6,    0.833,2,    0.000,4, -999.000,5,    3.848,2,    2.760,2,   2160.2,2,   2.6638
  18HU19950419, AR13d,    72,  1, 154252,     38,2,19950510, 45.4350, -43.1933, 4702,   3302.3,   2.7699,  34.9184,2,  34.9296,2,    274.2,2,    273.8,2,    18.64,6,    17.69,6,     1.15,6,    0.566,2,    0.000,4,    0.000,2,    7.130,2,    1.459,2,   2161.3,2,   2.4922
  18HU19950419, AR13d,    72,  1, 154251,     37,2,19950510, 45.4350, -43.1933, 4702,   3517.0,   2.6165,  34.9104,2,  34.9185,2,    273.9,2,    274.9,2,    19.62,6,    17.38,6,     1.15,6,    0.635,2,    0.677,2,    0.074,2,    8.883,2,    2.004,2,   2161.6,2,   2.3192
  18HU19950419, AR13d,    72,  1, 154250,     36,2,19950510, 45.4350, -43.1933, 4702,   3817.2,   2.4483,  34.9013,2,  34.9101,2,    274.9,2,    276.6,2,    21.25,6,    17.73,6,     1.16,6,    0.850,2,    0.502,2,    0.016,2,    3.513,2,    2.951,2,   2163.9,2,   2.1221
  18HU19950419, AR13d,    72,  1, 154249,     35,2,19950510, 45.4350, -43.1933, 4702,   4099.2,   2.3609,  34.8951,2,  34.9063,2,    274.9,2,    274.6,2,    22.76,6,    17.89,6,     1.19,6,    0.575,2,    0.205,2, -999.000,5,    2.734,2,    3.113,2,   2162.4,2,   2.0050
  18HU19950419, AR13d,    72,  1, 154248,     34,2,19950510, 45.4350, -43.1933, 4702,   4303.1,   2.3301,  34.8921,2,  34.9010,2,    274.9,2,    275.4,2,    23.28,6,    17.75,6,     1.18,6,    0.771,2,    0.569,2,    0.033,2,    2.404,2,    2.777,2,   2166.9,6,   1.9514
  18HU19950419, AR13d,    72,  1, 154247,     33,2,19950510, 45.4350, -43.1933, 4702,   4483.5,   2.3121,  34.8896,2,  34.8991,2,    275.0,2,    275.1,2,    24.16,6,    17.60,6,     1.17,6,    0.845,2,    0.511,2,    0.026,2,    4.109,2,    3.092,2,   2169.0,2,   1.9125
  18HU19950419, AR13d,    72,  1, 154246,     31,2,19950510, 45.4350, -43.1933, 4702,   4691.2,   2.3004,  34.8865,2,  34.8951,0,    273.8,2,    273.9,2,    25.73,6,    18.38,6,     1.18,6,    0.733,2,    0.344,2, -999.000,5,    1.772,2,    3.280,2,   2170.6,2,   1.8760
  18HU19950419, AR13d,    72,  1, 154245,     32,2,19950510, 45.4350, -43.1933, 4702,   4804.4,   2.2861,  34.8847,2,  34.8949,2,    274.8,2,    274.1,6,    24.95,6,    17.77,6,     1.20,6,    0.901,2,    0.655,2,    0.109,2,    4.710,2,    3.266,2,   2170.9,2,   1.8482
  18HU19950419, AR13d,    73,  1, 154290,     53,2,19950511, 45.8138, -43.5645, 4649,     13.8,  16.0244,  36.1902,2,  36.2000,2,    212.8,2,    244.0,2,     1.93,6,     3.57,6,     0.21,6,    2.228,2,    1.018,2,    0.187,2,    9.305,2,    5.629,2,   2086.2,2,  16.0222
  18HU19950419, AR13d,    73,  1, 154289,     70,2,19950511, 45.8138, -43.5645, 4649,    112.0,  15.9283,  36.2060,2,  36.2166,2,    235.5,2,    234.8,2,     1.99,6,     4.31,6,     0.25,6,    2.203,2,    1.291,2,    0.245,3, -999.000,5,    9.883,2,   2092.6,2,  15.9105
  18HU19950419, AR13d,    73,  1, 154288,     51,3,19950511, 45.8138, -43.5645, 4649,    216.1,  15.8116,  36.1683,2,  36.1905,0,    233.7,2,   -999.0,5,     2.22,6,     5.11,6,     0.28,6,    2.150,6,    1.107,6,    0.140,6,    5.401,2,    5.705,6,   2097.5,2,  15.7773
  18HU19950419, AR13d,    73,  1, 154287,     50,2,19950511, 45.8138, -43.5645, 4649,    426.3,  11.1782,  35.4279,2,  35.4389,2,    180.7,2,    174.5,2,     8.91,6,    18.25,6,     1.09,6,    1.371,2,    0.668,2,    0.065,2,    3.831,2,    3.043,2,   -999.0,5,  11.1243
  18HU19950419, AR13d,    73,  1, 154286,     49,2,19950511, 45.8138, -43.5645, 4649,    627.2,   6.9633,  34.9741,2,  34.9809,2,    195.5,2,    189.2,2,    13.35,6,    21.33,6,     1.34,6,    1.337,2,    0.777,2,    0.098,2,    2.960,2,    4.234,2,   2174.9,2,   6.9029
  18HU19950419, AR13d,    73,  1, 154285,     48,2,19950511, 45.8138, -43.5645, 4649,    810.8,   5.3106,  34.9609,2,  34.9698,2,    229.9,2,    228.6,2,    12.46,6,    19.57,6,     1.23,6,    1.793,2,    1.101,2,    0.103,2,    5.720,2,    5.625,2,   2169.7,2,   5.2416
  18HU19950419, AR13d,    73,  1, 154284,     47,2,19950511, 45.8138, -43.5645, 4649,   1003.9,   4.6010,  34.9689,2,  34.9777,2,    254.8,2,    252.4,2,    11.72,6,    18.96,6,     1.17,6,    1.950,2,    0.833,2,    0.229,3,    5.659,2,    6.169,2,   2164.5,2,   4.5196
  18HU19950419, AR13d,    73,  1, 154283,     46,2,19950511, 45.8138, -43.5645, 4649,   1187.5,   4.2667,  34.9651,2,  34.9741,2,    262.6,2,    261.7,2,    11.48,6,    18.65,6,     1.15,6,    1.704,2,    0.700,2,    0.087,2,    3.853,2,    5.296,2,   2161.2,2,   4.1718
  18HU19950419, AR13d,    73,  1, 154282,     45,2,19950511, 45.8138, -43.5645, 4649,   1403.3,   3.8312,  34.9245,2,  34.9342,2,    269.8,2,    272.6,2,    11.48,6,    17.84,6,     1.11,6,    1.813,2,    0.901,2,    0.090,2,    4.047,2,    5.827,2,   2157.0,2,   3.7216
  18HU19950419, AR13d,    73,  1, 154281,     44,2,19950511, 45.8138, -43.5645, 4649,   1589.0,   3.5866,  34.9018,2,  34.9112,2,    276.2,2,    278.3,2,    11.43,6,    17.84,6,     1.11,6,    1.926,2,    1.105,2,    0.135,2,    5.235,2,    6.437,2,   2157.7,2,   3.4633
  18HU19950419, AR13d,    73,  1, 154280,     43,2,19950511, 45.8138, -43.5645, 4649,   1786.3,   3.4274,  34.8927,2,  34.9021,2,    279.0,2,    278.6,2,    11.40,6,    17.77,6,     1.10,6,    1.929,2,    0.927,2,    0.127,2,    6.458,2,    6.144,2,   2154.3,2,   3.2884
  18HU19950419, AR13d,    73,  1, 154279,     42,2,19950511, 45.8138, -43.5645, 4649,   2015.2,   3.2749,  34.8829,2,  34.8925,2,    282.8,2,    284.8,2,    11.57,6,    17.25,6,     1.08,6,    2.079,2,    1.184,2,    0.117,2,   10.807,3,    6.573,2,   2153.1,2,   3.1169
  18HU19950419, AR13d,    73,  1, 154278,     41,2,19950511, 45.8138, -43.5645, 4649,   2201.7,   3.2318,  34.8863,2,  34.9111,3,    284.6,2,    279.0,2,    15.43,3,    17.52,6,     1.10,6,    1.343,2,    0.596,2,    0.081,2,    4.945,2,    5.552,2,   2156.1,2,   3.0568
  18HU19950419, AR13d,    73,  1, 154277,     40,2,19950511, 45.8138, -43.5645, 4649,   2396.9,   3.2908,  34.9156,2,  34.9251,2,    280.6,2,    275.9,6,    13.28,6,    17.65,6,     1.12,6,    1.210,2,    0.000,4, -999.000,5,    5.724,2,    4.450,2,   2156.1,2,   3.0958
  18HU19950419, AR13d,    73,  1, 154276,     39,2,19950511, 45.8138, -43.5645, 4649,   2664.6,   3.2019,  34.9248,2,  34.9337,2,    274.6,2,    274.7,2,    14.53,6,    17.56,6,     1.10,6,    0.886,2,    0.412,2,    0.045,2,    4.461,2,    2.642,2,   2154.3,2,   2.9817
  18HU19950419, AR13d,    73,  1, 154275,     38,2,19950511, 45.8138, -43.5645, 4649,   2916.3,   2.9955,  34.9191,2,  34.9288,0,    274.6,2,    276.0,2,    15.19,6,    17.30,6,     1.09,6,    0.939,2,    0.532,2,    0.055,2,    6.702,2,    2.361,2,   2154.2,2,   2.7536
  18HU19950419, AR13d,    73,  1, 154274,     37,2,19950511, 45.8138, -43.5645, 4649,   3249.3,   2.7696,  34.9137,2,  34.9221,2,    276.2,2,    276.2,2,    16.24,6,    17.38,6,     1.11,6,    0.897,2,    0.441,2, -999.000,5,    2.751,2,    2.799,2,   2158.2,2,   2.4976
  18HU19950419, AR13d,    73,  1, 154273,     36,2,19950511, 45.8138, -43.5645, 4649,   3507.6,   2.5646,  34.9068,2,  34.9156,2,    275.6,2,    275.2,2,    19.03,6,    17.30,6,     1.11,6,    0.782,2,    0.281,2,    0.062,2,   10.121,3,    2.191,2,   2160.9,6,   2.2697
  18HU19950419, AR13d,    73,  1, 154272,     35,2,19950511, 45.8138, -43.5645, 4649,   3779.4,   2.4150,  34.8993,2,  34.9085,2,    275.0,2,    275.2,2,    20.84,6,    17.61,6,     1.12,6,    0.764,2,    0.311,2,    0.036,2, -999.000,5,    1.985,2,   2166.4,2,   2.0940
  18HU19950419, AR13d,    73,  1, 154271,     34,2,19950511, 45.8138, -43.5645, 4649,   4021.4,   2.3409,  34.8945,2,  34.9260,3,    274.5,2,    276.2,2,    21.73,6,    17.63,6,     1.13,6,    0.855,2,    0.280,2,    0.027,2,    3.790,2,    2.698,2,   2165.4,2,   1.9944
  18HU19950419, AR13d,    73,  1, 154270,     33,2,19950511, 45.8138, -43.5645, 4649,   4378.7,   2.2932,  34.8888,2,  34.8967,2,    271.9,2,    272.3,2,    25.33,6,    17.94,6,     1.16,6,    0.709,2,    0.187,2,    0.055,2,    6.203,2,    1.866,2,   2170.5,2,   1.9067
  18HU19950419, AR13d,    73,  1, 154269,     31,2,19950511, 45.8138, -43.5645, 4649,   4651.9,   2.2736,  34.8848,2,  34.8959,2,    270.8,2,    272.5,2,    26.00,6,    18.32,6,     1.18,6,    0.804,2,    0.468,2,    0.047,2,    3.562,2,    2.162,2,   2170.7,2,   1.8548
  18HU19950419, AR13d,    73,  1, 154268,     32,2,19950511, 45.8138, -43.5645, 4649,   4740.8,   2.2550,  34.8850,2,  34.8953,2,    275.3,2,    279.9,2,    20.93,6,    17.36,6,     1.10,6,    1.280,2,    0.540,2,    0.055,2,    2.570,2,    4.340,2,   2166.7,2,   1.8259
  18HU19950419, AR13d,    74,  1, 154313,     53,2,19950511, 46.2053, -43.8828, 4067,     15.1,   8.0012,  34.2539,2,  34.2628,2,    270.9,2,    306.4,2,     3.33,6,     4.39,6,     0.49,6, -999.000,9, -999.000,9, -999.000,9, -999.000,9, -999.000,9,   -999.0,9,   7.9997
  18HU19950419, AR13d,    74,  1, 154312,     70,2,19950511, 46.2053, -43.8828, 4067,    202.5,   5.7324,  34.6120,2,  34.6215,2,    251.5,2,    226.5,2,    11.46,6,    17.70,6,     1.22,6, -999.000,9, -999.000,9, -999.000,9, -999.000,9, -999.000,9,   -999.0,9,   5.7155
  18HU19950419, AR13d,    74,  1, 154311,     51,2,19950511, 46.2053, -43.8828, 4067,    421.9,   3.3419,  34.6821,2,  34.6881,2,    285.5,2,    283.6,2,    10.24,6,    16.26,6,     1.08,6, -999.000,9, -999.000,9, -999.000,9, -999.000,9, -999.000,9,   -999.0,9,   3.3139
  18HU19950419, AR13d,    74,  1, 154310,     50,2,19950511, 46.2053, -43.8828, 4067,    702.9,   3.3858,  34.8216,2,  34.8308,2,    296.3,2,    305.5,2,     9.41,6,    16.70,6,     1.07,6, -999.000,9, -999.000,9, -999.000,9, -999.000,9, -999.000,9,   -999.0,9,   3.3372
  18HU19950419, AR13d,    74,  1, 154309,     49,2,19950511, 46.2053, -43.8828, 4067,    926.4,   3.3022,  34.8449,2,  34.8532,2,    275.5,2,    298.6,2,     9.76,6,    17.18,6,     1.06,6, -999.000,9, -999.000,9, -999.000,9, -999.000,9, -999.000,9,   -999.0,9,   3.2371
  18HU19950419, AR13d,    74,  1, 154308,     48,2,19950511, 46.2053, -43.8828, 4067,   1172.0,   3.1351,  34.8492,2,  34.8587,0,    290.2,2,    299.8,2,     9.76,6,    17.08,6,     1.06,6, -999.000,9, -999.000,9, -999.000,9, -999.000,9, -999.000,9,   2161.5,3,   3.0520
  18HU19950419, AR13d,    74,  1, 154307,     47,2,19950511, 46.2053, -43.8828, 4067,   1365.4,   3.0540,  34.8481,2,  34.8566,2,    294.1,2,    296.8,2,    10.01,6,    16.76,6,     1.06,6, -999.000,9, -999.000,9, -999.000,9, -999.000,9, -999.000,9,   -999.0,9,   2.9560
  18HU19950419, AR13d,    74,  1, 154306,     46,2,19950511, 46.2053, -43.8828, 4067,   1535.3,   2.9792,  34.8437,2,  34.8524,2,    295.7,2,    301.7,2,    10.02,6,    17.10,6,     1.07,6, -999.000,9, -999.000,9, -999.000,9, -999.000,9, -999.000,9,   -999.0,9,   2.8679
  18HU19950419, AR13d,    74,  1, 154305,     45,2,19950511, 46.2053, -43.8828, 4067,   1659.3,   2.9462,  34.8436,2,  34.8519,2,    296.7,2,    301.8,2,    10.00,6,    16.92,6,     1.07,6, -999.000,9, -999.000,9, -999.000,9, -999.000,9, -999.000,9,   -999.0,9,   2.8248
  18HU19950419, AR13d,    74,  1, 154304,     44,2,19950511, 46.2053, -43.8828, 4067,   1815.9,   2.9539,  34.8519,2,  34.8607,2,    295.6,2,    302.6,2,    10.30,6,    16.70,6,     1.07,6, -999.000,9, -999.000,9, -999.000,9, -999.000,9, -999.000,9,   -999.0,9,   2.8187
  18HU19950419, AR13d,    74,  1, 154303,     43,2,19950511, 46.2053, -43.8828, 4067,   1955.3,   2.9745,  34.8642,2,  34.8731,2,    292.4,2,    296.2,6,    10.52,6,    16.90,6,     1.06,6, -999.000,9, -999.000,9, -999.000,9, -999.000,9, -999.000,9,   -999.0,9,   2.8266
  18HU19950419, AR13d,    74,  1, 154302,     42,2,19950511, 46.2053, -43.8828, 4067,   2080.6,   3.0113,  34.8819,2,  34.8906,2,    286.3,2,    287.7,2,    11.44,6,    16.72,6,     1.10,6, -999.000,9, -999.000,9, -999.000,9, -999.000,9, -999.000,9,   -999.0,9,   2.8513
  18HU19950419, AR13d,    74,  1, 154301,     41,2,19950511, 46.2053, -43.8828, 4067,   2204.9,   3.0650,  34.9059,2,  34.9117,2,    284.2,2,    280.3,2,    14.67,3,    17.23,6,     1.09,6, -999.000,9, -999.000,9, -999.000,9, -999.000,9, -999.000,9,   -999.0,9,   2.8925
  18HU19950419, AR13d,    74,  1, 154300,     40,2,19950511, 46.2053, -43.8828, 4067,   2406.8,   2.9791,  34.9113,2,  34.9199,2,    283.0,2,    279.0,2,    13.23,6,    17.22,6,     1.07,6, -999.000,9, -999.000,9, -999.000,9, -999.000,9, -999.000,9,   -999.0,9,   2.7887
  18HU19950419, AR13d,    74,  1, 154299,     39,2,19950511, 46.2053, -43.8828, 4067,   2614.7,   2.8094,  34.9120,2,  34.9207,2,    282.5,2,    278.8,2,    14.13,6,    16.79,6,     1.07,6, -999.000,9, -999.000,9, -999.000,9, -999.000,9, -999.000,9,   -999.0,9,   2.6018
  18HU19950419, AR13d,    74,  1, 154298,     38,2,19950511, 46.2053, -43.8828, 4067,   2827.8,   2.6460,  34.9047,2,  34.9132,2,    279.0,2,    281.9,2,    14.22,6,    16.81,6,     1.07,6, -999.000,9, -999.000,9, -999.000,9, -999.000,9, -999.000,9,   -999.0,9,   2.4205
  18HU19950419, AR13d,    74,  1, 154297,     37,2,19950511, 46.2053, -43.8828, 4067,   2995.6,   2.5427,  34.9096,2,  34.9178,2,    279.1,2,    274.8,2,    19.76,3,    17.68,6,     1.13,6, -999.000,9, -999.000,9, -999.000,9, -999.000,9, -999.000,9,   -999.0,9,   2.3023
  18HU19950419, AR13d,    74,  1, 154296,     36,2,19950511, 46.2053, -43.8828, 4067,   3298.5,   2.3487,  34.8987,2,  34.9067,2,    274.5,2,    276.0,2,    20.71,6,    17.41,6,     1.13,6, -999.000,9, -999.000,9, -999.000,9, -999.000,9, -999.000,9,   -999.0,9,   2.0814
  18HU19950419, AR13d,    74,  1, 154295,     35,4,19950511, 46.2053, -43.8828, 4067,   3506.2,   2.2742,  34.8942,2,-999.0000,9,    275.6,2,   -999.0,5,  -999.00,9,  -999.00,9,  -999.00,9, -999.000,9, -999.000,9, -999.000,9, -999.000,9, -999.000,9,   -999.0,9,   1.9868
  18HU19950419, AR13d,    74,  1, 154294,     34,2,19950511, 46.2053, -43.8828, 4067,   3710.9,   2.2329,  34.8908,2,  34.8989,2,    274.6,2,    276.0,2,    22.70,6,    17.90,6,     1.15,6, -999.000,9, -999.000,9, -999.000,9, -999.000,9, -999.000,9,   -999.0,9,   1.9243
  18HU19950419, AR13d,    74,  1, 154293,     33,2,19950511, 46.2053, -43.8828, 4067,   3811.2,   2.2164,  34.8887,2,  34.8977,2,    274.3,2,    275.1,2,    23.83,6,    17.72,6,     1.14,6, -999.000,9, -999.000,9, -999.000,9, -999.000,9, -999.000,9,   -999.0,9,   1.8972
  18HU19950419, AR13d,    74,  1, 154292,     31,2,19950511, 46.2053, -43.8828, 4067,   3937.1,   2.1884,  34.8849,2,  34.8938,2,    271.9,2,    273.6,2,    26.04,6,    18.13,6,     1.18,6, -999.000,9, -999.000,9, -999.000,9, -999.000,9, -999.000,9,   -999.0,9,   1.8559
  18HU19950419, AR13d,    74,  1, 154291,     32,2,19950511, 46.2053, -43.8828, 4067,   4118.1,   2.0996,  34.8825,2,  34.8932,2,    287.3,2,    288.5,2,    13.95,6,    15.93,6,     1.00,6, -999.000,9, -999.000,9, -999.000,9, -999.000,9, -999.000,9,   -999.0,9,   1.7491