BOTTLE,20220817CCHSIOAMB
EXPOCODE,SECT_ID,STNNBR,CASTNO,SAMPNO,BTLNBR,BTLNBR_FLAG_W,DATE,LATITUDE,LONGITUDE,DEPTH,CTDPRS,CTDTMP,CTDSAL,CTDSAL_FLAG_W,SALNTY,SALNTY_FLAG_W,CTDOXY,CTDOXY_FLAG_W,OXYGEN,OXYGEN_FLAG_W,SILCAT,SILCAT_FLAG_W,NITRAT,NITRAT_FLAG_W,PHSPHT,PHSPHT_FLAG_W,CFC-11,CFC-11_FLAG_W,CFC-12,CFC-12_FLAG_W,CFC113,CFC113_FLAG_W,CCL4,CCL4_FLAG_W,MCHFRM,MCHFRM_FLAG_W,TCARBN,TCARBN_FLAG_W,THETA
,,,,,,,,,,METERS,DBAR,ITS-90,PSS-78,,PSS-78,,UMOL/KG,,UMOL/KG,,UMOL/KG,,UMOL/KG,,UMOL/KG,,PMOL/KG,,PMOL/KG,,PMOL/KG,,PMOL/KG,,PMOL/KG,,UMOL/KG,,DEG C
  18HU19950419, AR13d,    38,  1, 153667,     53,2,19950502, 42.1877, -45.4875, 4724,     12.6,  16.4170,  36.2733,2,  36.2834,2,    218.7,2,    232.9,2,     1.63,6,     3.51,6,     0.23,6,    2.115,2,    1.241,2,    0.187,2,    5.584,2,    5.154,2,   -999.0,5,  16.4150
  18HU19950419, AR13d,    38,  1, 153666,     52,2,19950502, 42.1877, -45.4875, 4724,    151.1,  16.4334,  36.2725,2,  36.2830,2,    226.5,2,    231.8,2,     1.66,6,     3.52,6,     0.25,6,    2.110,2,    1.300,2,    0.157,2,    6.034,2,    4.799,2,   -999.0,5,  16.4088
  18HU19950419, AR13d,    38,  1, 153665,     51,2,19950502, 42.1877, -45.4875, 4724,    266.6,  16.4380,  36.2688,2,  36.2804,2,    229.6,2,    232.1,2,     1.69,6,     3.58,6,     0.24,6,    2.089,2,    1.496,2,    0.172,2,   13.425,3,    4.222,2,   -999.0,5,  16.3945
  18HU19950419, AR13d,    38,  1, 153664,     50,2,19950502, 42.1877, -45.4875, 4724,    596.0,  12.7976,  35.6636,2,  35.6745,2,    198.6,2,    197.4,2,     5.70,6,    12.76,6,     0.82,6,    1.830,2,    1.085,2,    0.075,2,    4.539,2,    4.272,2,   -999.0,5,  12.7147
  18HU19950419, AR13d,    38,  1, 153663,     49,2,19950502, 42.1877, -45.4875, 4724,    698.8,  11.0739,  35.4182,2,  35.4283,2,    181.4,2,    179.2,2,     8.66,6,    17.52,6,     1.14,6,    1.458,2,    1.008,2,    0.094,2,    1.190,2,    3.159,2,   -999.0,5,  10.9850
  18HU19950419, AR13d,    38,  1, 153662,     48,2,19950502, 42.1877, -45.4875, 4724,    798.1,   9.3180,  35.2027,2,  35.2127,2,    172.8,2,    173.8,2,    11.16,6,    20.51,6,     1.29,6,    1.263,2,    0.529,2,    0.106,2,    3.936,2,    2.846,2,   -999.0,5,   9.2262
  18HU19950419, AR13d,    38,  1, 153661,     47,2,19950502, 42.1877, -45.4875, 4724,   1097.5,   6.2150,  35.1167,2,  35.1251,2,    217.5,2,    216.3,2,    12.14,6,    19.12,6,     1.31,6,    1.262,2,    0.761,2,    0.134,2,    1.782,2,    3.323,2,   -999.0,5,   6.1117
  18HU19950419, AR13d,    38,  1, 153660,     46,2,19950502, 42.1877, -45.4875, 4724,   1247.6,   4.7570,  34.9657,2,  34.9745,2,    246.9,2,    247.1,2,    11.76,6,    18.63,6,     1.24,6,    1.905,3,    0.712,2,    0.133,2,    6.493,2,    5.799,2,   -999.0,5,   4.6522
  18HU19950419, AR13d,    38,  1, 153659,     45,2,19950502, 42.1877, -45.4875, 4724,   1497.7,   4.3207,  34.9743,2,  34.9820,2,    261.6,2,    257.2,2,    11.71,6,    18.03,6,     1.21,6,    1.479,2,    0.911,2,    0.126,2,    4.043,2,    4.007,2,   -999.0,5,   4.1970
  18HU19950419, AR13d,    38,  1, 153658,     44,2,19950502, 42.1877, -45.4875, 4724,   1698.2,   3.9618,  34.9439,2,  34.9523,2,    266.0,2,    268.0,2,    11.73,6,    17.80,6,     1.16,6,    1.474,2,    0.970,2,    0.105,2,    3.212,2,    4.071,2,   -999.0,5,   3.8238
  18HU19950419, AR13d,    38,  1, 153657,     43,2,19950502, 42.1877, -45.4875, 4724,   1899.2,   3.6992,  34.9207,2,  34.9296,2,    273.7,2,    278.6,2,    11.78,6,    17.77,6,     1.14,6,    1.520,2,    0.751,2,    0.132,2,    3.425,2,    4.466,2,   -999.0,5,   3.5458
  18HU19950419, AR13d,    38,  1, 153656,     42,2,19950502, 42.1877, -45.4875, 4724,   2191.0,   3.4662,  34.9040,2,  34.9127,2,    277.4,2,    273.2,2,    12.02,6,    17.19,6,     1.12,6,    1.602,2,    0.654,2,    0.085,2,    3.741,2,    4.572,2,   -999.0,5,   3.2885
  18HU19950419, AR13d,    38,  1, 153655,     41,2,19950502, 42.1877, -45.4875, 4724,   2392.6,   3.3670,  34.9038,2,  34.9125,2,    277.7,2,    279.1,2,    12.43,6,    17.20,6,     1.12,6,    1.527,2,    0.872,2,    0.097,2,    3.136,2,    4.388,2,   -999.0,5,   3.1712
  18HU19950419, AR13d,    38,  1, 153654,     40,2,19950502, 42.1877, -45.4875, 4724,   2702.6,   3.3097,  34.9252,2,  34.9342,2,    272.7,2,    273.7,2,    14.18,6,    17.48,6,     1.18,6,    0.950,2,    0.395,2,    0.066,2,    5.207,2,    2.078,2,   -999.0,5,   3.0835
  18HU19950419, AR13d,    38,  1, 153653,     39,2,19950502, 42.1877, -45.4875, 4724,   2907.2,   3.2370,  34.9366,2,  34.9462,2,    270.0,2,    271.1,2,    16.07,6,    17.86,6,     1.22,6,    0.637,2,    0.335,2,    0.088,2,    1.885,2,    0.981,2,   -999.0,5,   2.9909
  18HU19950419, AR13d,    38,  1, 153652,     38,2,19950502, 42.1877, -45.4875, 4724,   3112.1,   3.0577,  34.9267,2,  34.9377,2,    271.0,2,    271.4,2,    16.50,6,    17.61,6,     1.18,6,    0.747,2,    0.406,2,    0.088,2,    4.636,2,    1.584,2,   -999.0,5,   2.7938
  18HU19950419, AR13d,    38,  1, 153651,     37,2,19950502, 42.1877, -45.4875, 4724,   3388.4,   2.8141,  34.9177,2,  34.9271,2,    273.3,2,    274.0,2,    17.49,6,    17.38,6,     1.17,6,    0.777,6,    0.477,6,    0.049,6,    3.638,6,    1.020,6,   -999.0,5,   2.5260
  18HU19950419, AR13d,    38,  1, 153650,     36,2,19950502, 42.1877, -45.4875, 4724,   3686.0,   2.5416,  34.9057,2,  34.9147,0,    274.4,2,    274.0,2,    19.83,6,    17.63,6,     1.17,6,    0.795,2,    0.535,2,    0.063,2,    3.948,2,    1.711,2,   -999.0,5,   2.2277
  18HU19950419, AR13d,    38,  1, 153649,     35,2,19950502, 42.1877, -45.4875, 4724,   4006.0,   2.3864,  34.8968,2,  34.9055,2,    273.4,2,    273.4,2,    23.40,6,    18.01,6,     1.22,6,    0.693,2,    0.578,2,    0.043,2,    3.098,2,    1.277,2,   -999.0,5,   2.0405
  18HU19950419, AR13d,    38,  1, 153648,     34,2,19950502, 42.1877, -45.4875, 4724,   4190.1,   2.3410,  34.8932,2,  34.9012,2,    271.6,2,    225.5,3,    24.26,6,    17.84,6,     1.22,6,    0.714,2,    0.515,2,    0.099,2,    3.262,2,    1.731,2,   -999.0,5,   1.9752
  18HU19950419, AR13d,    38,  1, 153647,     33,2,19950502, 42.1877, -45.4875, 4724,   4506.4,   2.2953,  34.8880,2,  34.8961,2,    272.0,2,    272.1,2,    25.53,6,    18.16,6,     1.22,6,    0.773,2,    0.607,2,    0.054,2,    3.448,2,    1.717,2,   -999.0,5,   1.8935
  18HU19950419, AR13d,    38,  1, 153646,     31,2,19950502, 42.1877, -45.4875, 4724,   4746.9,   2.2717,  34.8813,2,  34.8900,2,    267.8,2,    266.6,2,    31.75,6,    19.32,6,     1.30,6,    0.534,2,    0.440,2,    0.052,2,    4.515,2,    0.701,2,   -999.0,5,   1.8414
  18HU19950419, AR13d,    38,  1, 153645,     32,2,19950502, 42.1877, -45.4875, 4724,   4830.3,   2.2802,  34.8810,2,  34.8888,2,    266.3,2,    267.6,2,    31.60,6,    19.09,6,     1.28,6,    0.545,2,    0.546,2,    0.071,2,    2.660,2,    0.937,2,   -999.0,5,   1.8393
  18HU19950419, AR13d,    41,  1, 153690,     53,2,19950503, 42.4388, -46.1605, 4677,      7.0,  16.7325,  36.3203,2,-999.0000,9,    227.3,2,   -999.0,5,  -999.00,5,  -999.00,5,  -999.00,5, -999.000,5, -999.000,5, -999.000,5, -999.000,5, -999.000,5,   -999.0,5,  16.7314
  18HU19950419, AR13d,    41,  1, 153689,     52,2,19950503, 42.4388, -46.1605, 4677,    104.2,  16.4743,  36.2672,2,  36.2781,2,    231.0,2,    231.4,2,     1.42,6,     3.22,6,     0.25,6,    2.161,2,    1.222,2,    0.149,2,    6.655,2,    2.794,2,   2090.1,2,  16.4574
  18HU19950419, AR13d,    41,  1, 153688,     51,2,19950503, 42.4388, -46.1605, 4677,    204.4,  16.4060,  36.2511,2,  36.2601,2,    230.9,2,    229.6,2,     1.57,6,     3.60,6,     0.26,6,    2.232,2,    1.348,2,    0.154,2,    4.545,2,    4.069,2,   2089.8,2,  16.3728
  18HU19950419, AR13d,    41,  1, 153687,     50,2,19950503, 42.4388, -46.1605, 4677,    432.4,  12.0391,  35.4697,2,  35.8717,0,    180.9,2,    179.4,2,     7.10,6,    14.83,6,     1.01,6,    1.682,2,    0.849,2,    0.068,2,    3.484,2,    1.487,2,   2145.3,2,  11.9817
  18HU19950419, AR13d,    41,  1, 153686,     49,2,19950503, 42.4388, -46.1605, 4677,    662.8,   8.2889,  35.1367,2,  35.1460,2,    168.5,2,    168.8,2,    13.25,6,    22.33,6,     1.48,6,    0.911,2,    0.580,2,    0.030,2,    2.096,2,    0.000,2,   2177.5,2,   8.2182
  18HU19950419, AR13d,    41,  1, 153685,     48,2,19950503, 42.4388, -46.1605, 4677,    847.6,   6.3402,  35.0951,2,  35.1022,2,    209.3,2,    209.9,2,    12.35,6,    19.75,6,     1.33,6,    1.317,2,    0.729,2,    0.058,2,    1.920,2,    1.255,2,   2172.9,2,   6.2611
  18HU19950419, AR13d,    41,  1, 153684,     47,2,19950503, 42.4388, -46.1605, 4677,   1017.4,   5.5630,  35.1028,2,  35.1129,2,    236.7,2,    229.4,2,    12.16,6,    19.32,6,     1.29,6,    1.155,2,    0.520,2,    0.052,2,    2.410,2,    0.386,2,   2168.5,2,   5.4728
  18HU19950419, AR13d,    41,  1, 153683,     46,2,19950503, 42.4388, -46.1605, 4677,   1231.6,   4.5377,  34.9928,2,  35.0014,2,    256.4,2,    252.5,2,    11.67,6,    18.36,6,     1.24,6,    1.610,2,    0.773,2,    0.055,2,    4.881,2,    2.190,2,   2162.0,2,   4.4363
  18HU19950419, AR13d,    41,  1, 153682,     45,2,19950503, 42.4388, -46.1605, 4677,   1430.6,   4.1140,  34.9569,2,  34.9648,2,    264.0,2,    262.7,2,    11.72,6,    17.71,6,     1.23,6,    1.582,2,    0.909,2,    0.060,2,    4.893,2,    1.981,2,   2158.4,2,   3.9988
  18HU19950419, AR13d,    41,  1, 153681,     44,2,19950503, 42.4388, -46.1605, 4677,   1626.6,   4.0305,  34.9668,2,  35.5035,3,    263.5,2,    244.6,6,     7.91,4,    12.84,4,     0.89,4,    1.285,2,    0.712,2,    0.045,2,    5.103,2,    0.729,2,   2136.3,4,   3.8983
  18HU19950419, AR13d,    41,  1, 153680,     43,2,19950503, 42.4388, -46.1605, 4677,   1816.8,   3.6227,  34.9155,2,  34.9243,0,    273.6,2,    274.8,2,    11.87,6,    17.63,6,     1.21,6,    1.657,2,    0.879,2,    0.071,2,    4.259,2,    2.343,2,   2153.8,2,   3.4782
  18HU19950419, AR13d,    41,  1, 153679,     42,2,19950503, 42.4388, -46.1605, 4677,   2000.4,   3.4988,  34.9099,2,  34.9294,2,    276.3,2,    276.2,2,    12.15,6,    17.43,6,     1.20,6,    1.512,2,    0.682,2,    0.061,2,    6.593,2,    1.674,2,   2154.3,2,   3.3388
  18HU19950419, AR13d,    41,  1, 153678,     41,2,19950503, 42.4388, -46.1605, 4677,   2219.2,   3.3698,  34.9075,2,  34.9154,2,    279.1,2,    277.7,2,    12.67,6,    17.20,6,     1.18,6,    1.506,2,    0.648,2,    0.081,2,    5.032,2,    1.979,2,   2153.8,2,   3.1909
  18HU19950419, AR13d,    41,  1, 153677,     40,2,19950503, 42.4388, -46.1605, 4677,   2409.8,   3.3038,  34.9130,2,  34.9209,2,    276.8,2,    277.0,2,    13.22,6,    17.04,6,     1.18,6,    1.318,2,    0.691,2,    0.053,2,    5.208,2,    1.106,2,   2154.0,2,   3.1073
  18HU19950419, AR13d,    41,  1, 153676,     39,2,19950503, 42.4388, -46.1605, 4677,   2607.8,   3.2359,  34.9253,2,-999.0000,9,    273.6,2,   -999.0,5,  -999.00,5,  -999.00,5,  -999.00,5,    0.934,2,    0.521,2,    0.044,2,    2.377,2,    0.000,2,   -999.0,5,   3.0208
  18HU19950419, AR13d,    41,  1, 153675,     38,2,19950503, 42.4388, -46.1605, 4677,   2789.8,   3.1164,  34.9261,2,  34.9347,2,    272.3,2,    270.7,3,    15.39,6,    17.10,6,     1.20,6,    0.811,6,    0.471,6,    0.064,6,    6.032,6,    0.742,6,   2155.2,2,   2.8850
  18HU19950419, AR13d,    41,  1, 153674,     37,2,19950503, 42.4388, -46.1605, 4677,   3082.7,   2.9009,  34.9221,2,  34.9300,2,    272.9,2,    272.8,2,    17.09,6,    17.31,6,     1.20,6,    0.704,2,    0.351,2,    0.037,2,    2.035,2,    0.000,2,   2157.3,6,   2.6436
  18HU19950419, AR13d,    41,  1, 153673,     36,2,19950503, 42.4388, -46.1605, 4677,   3362.3,   2.6801,  34.9129,2,  34.9207,2,    274.0,2,    274.3,2,    18.40,6,    17.45,6,     1.21,6,    0.743,2,    0.379,2,    0.038,2,    3.569,2,    0.000,2,   2159.0,2,   2.3981
  18HU19950419, AR13d,    41,  1, 153672,     35,2,19950503, 42.4388, -46.1605, 4677,   3687.8,   2.4671,  34.9026,2,  34.9107,2,    274.1,2,    275.4,2,    20.73,6,    17.35,6,     1.18,6,    0.680,2,    0.428,2,    0.031,2,    2.952,2,    0.000,2,   2163.5,2,   2.1549
  18HU19950419, AR13d,    41,  1, 153671,     34,2,19950503, 42.4388, -46.1605, 4677,   3975.6,   2.3531,  34.8953,2,  34.9036,2,    273.5,2,    272.9,2,    22.47,6,    17.35,6,     1.19,6,    0.758,2,    0.309,2,    0.034,2,    1.907,2,    0.000,2,   -999.0,5,   2.0116
  18HU19950419, AR13d,    41,  1, 153670,     33,2,19950503, 42.4388, -46.1605, 4677,   4283.8,   2.3008,  34.8907,2,  34.8979,2,    274.3,2,    274.4,2,    23.23,6,    17.41,6,     1.24,6,    0.907,3,    0.217,3,    0.092,3,    3.297,3,    0.130,3,   2166.8,2,   1.9252
  18HU19950419, AR13d,    41,  1, 153669,     31,2,19950503, 42.4388, -46.1605, 4677,   4606.5,   2.2730,  34.8845,2,  34.8928,2,    272.8,2,    272.5,2,    27.61,6,    18.44,6,     1.26,6,    0.624,2,    0.384,2,    0.042,2,    3.797,2,    0.000,2,   2170.4,2,   1.8598
  18HU19950419, AR13d,    41,  1, 153668,     32,2,19950503, 42.4388, -46.1605, 4677,   4772.3,   2.2820,  34.8834,2,  34.9001,2,    269.4,2,    270.8,2,    28.17,6,    18.23,6,     1.26,6,    0.683,2,    0.404,2,    0.029,2,    2.909,2,    0.000,2,   2174.1,2,   1.8482
  18HU19950419, AR13d,    42,  1, 153713,     53,2,19950503, 42.5673, -46.8505, 4212,      6.3,  12.4794,  35.3567,2,  35.3652,2,    251.5,2,    257.5,2,     2.88,6,     4.87,6,     0.43,6,    2.585,2,    2.194,2,    0.138,2,    4.503,2,    6.552,2,   2086.8,2,  12.4786
  18HU19950419, AR13d,    42,  1, 153712,     52,2,19950503, 42.5673, -46.8505, 4212,     37.8,  12.5781,  35.3818,2,  35.3827,2,    251.7,2,    255.9,2,     2.84,6,     4.88,6,     0.44,6,    2.587,2,    2.472,3,    0.134,2,    6.121,2,    6.912,2,   2089.2,2,  12.5730
  18HU19950419, AR13d,    42,  1, 153711,     51,2,19950503, 42.5673, -46.8505, 4212,    150.5,   9.8906,  35.0166,2,  35.0230,2,    234.8,2,    215.0,2,     6.64,6,    12.96,6,     0.95,6,    2.331,2,    1.777,2,    0.140,2,    4.722,2,    6.212,2,   2131.4,2,   9.8733
  18HU19950419, AR13d,    42,  1, 153710,     50,2,19950503, 42.5673, -46.8505, 4212,    241.1,   9.5904,  35.1678,2,  35.1817,2,    183.7,2,    161.7,2,    11.75,6,    21.37,6,     1.39,6,    1.097,2,    0.944,2,    0.028,2,    2.939,2,    2.902,2,   2171.8,2,   9.5630
  18HU19950419, AR13d,    42,  1, 153709,     49,2,19950503, 42.5673, -46.8505, 4212,    541.1,   5.6810,  34.9981,2,  35.0059,2,    224.7,2,    217.6,2,    12.65,6,    19.94,6,     1.33,6,    1.466,2,    1.158,2,    0.071,2,    2.102,2,    4.432,2,   2171.0,2,   5.6344
  18HU19950419, AR13d,    42,  1, 153708,     48,2,19950503, 42.5673, -46.8505, 4212,    749.0,   4.7424,  34.9891,2,  34.9984,2,    244.8,2,    246.4,2,    11.80,6,    18.51,6,     1.25,6,    1.693,2,    0.894,2,    0.071,2,    4.756,2,    5.300,2,   2165.8,2,   4.6822
  18HU19950419, AR13d,    42,  1, 153707,     47,2,19950503, 42.5673, -46.8505, 4212,    901.1,   4.0807,  34.9317,2,  34.9394,2,    261.0,2,   -999.0,5,    11.48,6,    17.65,6,     1.22,6,    2.166,2,    1.924,2,    0.097,2,    3.351,2,    6.826,2,   2160.4,2,   4.0120
  18HU19950419, AR13d,    42,  1, 153706,     46,2,19950503, 42.5673, -46.8505, 4212,   1051.0,   4.0048,  34.9411,2,  34.9470,2,    265.9,2,    268.4,6,    11.47,6,    17.60,6,     1.22,6,    1.896,2,    1.266,2,    0.079,2,    5.990,2,    5.956,2,   2159.5,2,   3.9241
  18HU19950419, AR13d,    42,  1, 153705,     45,2,19950503, 42.5673, -46.8505, 4212,   1305.1,   3.5921,  34.9056,2,  34.9136,2,    276.8,2,    278.2,2,    11.42,6,    17.57,6,     1.19,6,    1.937,2,    1.233,2,    0.078,2,    4.687,2,    6.529,2,   2156.7,2,   3.4935
  18HU19950419, AR13d,    42,  1, 153704,     44,2,19950503, 42.5673, -46.8505, 4212,   1515.0,   3.3509,  34.8806,2,  34.8894,2,    280.4,2,    285.0,2,    11.13,6,    17.21,6,     1.17,6,    2.316,6,    1.334,6,    0.117,6,    4.202,6,    6.868,6,   2153.4,2,   3.2369
  18HU19950419, AR13d,    42,  1, 153703,     43,2,19950503, 42.5673, -46.8505, 4212,   1804.6,   3.2016,  34.8722,2,  34.8807,2,    287.6,2,    288.4,2,    11.51,6,    16.76,6,     1.17,6,    2.313,2,    1.656,2,    0.068,2,    4.056,2,    7.368,2,   2150.1,2,   3.0640
  18HU19950419, AR13d,    42,  1, 153702,     42,2,19950503, 42.5673, -46.8505, 4212,   2045.3,   3.1816,  34.8805,2,  34.8894,2,    284.6,2,    293.1,3,    11.62,6,    16.98,6,     1.17,6,    2.034,2,    1.573,2,    0.097,2,    6.139,2,    6.477,2,   2152.8,2,   3.0223
  18HU19950419, AR13d,    42,  1, 153701,     41,2,19950503, 42.5673, -46.8505, 4212,   2297.2,   3.1592,  34.8929,2,  34.9010,2,    281.1,2,    283.9,2,    12.19,6,    16.62,6,     1.16,6,    1.719,2,    1.263,2,    0.107,2,    3.347,2,    5.494,2,   2155.8,2,   2.9763
  18HU19950419, AR13d,    42,  1, 153700,     40,2,19950503, 42.5673, -46.8505, 4212,   2511.4,   3.1269,  34.9066,2,  34.9147,2,    278.2,2,    277.9,2,    13.00,6,    16.90,6,     1.16,6,    1.421,2, -999.000,5,    0.051,2,    5.000,2,    4.599,2,   2154.4,2,   2.9236
  18HU19950419, AR13d,    42,  1, 153699,     39,2,19950503, 42.5673, -46.8505, 4212,   2712.5,   3.0313,  34.9107,2,  34.9193,2,    278.1,2,    278.5,2,    13.44,6,    16.88,6,     1.15,6,    1.279,2,    0.965,2,    0.035,2,    3.102,2,    3.971,2,   2155.4,2,   2.8096
  18HU19950419, AR13d,    42,  1, 153698,     38,2,19950503, 42.5673, -46.8505, 4212,   2914.4,   2.9097,  34.9148,2,  34.9232,2,    276.1,2,    275.8,2,    14.70,6,    16.78,6,     1.17,6,    1.080,2,    0.704,2,    0.060,2,    4.463,2,    3.310,2,   2156.0,6,   2.6698
  18HU19950419, AR13d,    42,  1, 153697,     37,2,19950503, 42.5673, -46.8505, 4212,   3090.7,   2.7669,  34.9144,2,  34.9234,2,    277.1,2,    282.6,3,    16.65,6,    16.84,6,     1.20,6,    0.915,2, -999.000,5,    0.036,2,    2.955,2,    2.889,2,   2158.4,2,   2.5117
  18HU19950419, AR13d,    42,  1, 153696,     36,2,19950503, 42.5673, -46.8505, 4212,   3334.6,   2.5542,  34.9044,2,  34.9143,2,    281.0,2,    279.0,2,    16.91,6,    17.12,6,     1.20,6,    1.297,2, -999.000,5,    0.100,2,    4.273,2,    4.365,2,   2157.5,2,   2.2782
  18HU19950419, AR13d,    42,  1, 153695,     35,2,19950503, 42.5673, -46.8505, 4212,   3557.0,   2.3915,  34.8986,2,  34.9072,0,    280.8,2,    277.9,2,    19.35,6,    17.09,6,     1.18,6,    0.977,2,    0.794,2,    0.025,2,    3.539,2,    2.973,2,   2161.4,2,   2.0956
  18HU19950419, AR13d,    42,  1, 153694,     34,2,19950503, 42.5673, -46.8505, 4212,   3785.0,   2.3120,  34.8940,2,  34.9025,2,    277.9,2,    278.6,2,    20.84,6,    16.82,6,     1.18,6,    1.021,2,    0.928,2,    0.097,2,    3.110,2,    3.192,2,   2163.6,2,   1.9931
  18HU19950419, AR13d,    42,  1, 153693,     33,2,19950503, 42.5673, -46.8505, 4212,   3984.0,   2.2619,  34.8903,2,  34.8988,2,    277.3,2,    277.9,2,    20.67,6,    17.01,6,     1.20,6,    1.126,2,    1.014,2,    0.064,2,    2.806,2,    3.577,2,   2163.9,2,   1.9220
  18HU19950419, AR13d,    42,  1, 153692,     31,2,19950503, 42.5673, -46.8505, 4212,   4114.5,   2.2346,  34.8882,2,  34.8970,2,    278.2,2,    278.7,6,    20.79,6,    16.61,6,     1.19,6,    1.184,2,    0.719,2,    0.056,2,    4.070,2,    3.872,2,   2163.8,2,   1.8806
  18HU19950419, AR13d,    42,  1, 153691,     32,2,19950503, 42.5673, -46.8505, 4212,   4257.1,   2.2076,  34.8860,2,  34.8970,2,    278.8,2,    279.8,2,    19.38,6,    16.50,6,     1.16,6,    1.531,2,    1.089,2,    0.060,2,    4.159,2,    5.175,2,   2157.9,2,   1.8379