BOTTLE,20220817CCHSIOAMB
EXPOCODE,SECT_ID,STNNBR,CASTNO,SAMPNO,BTLNBR,BTLNBR_FLAG_W,DATE,LATITUDE,LONGITUDE,DEPTH,CTDPRS,CTDTMP,CTDSAL,CTDSAL_FLAG_W,SALNTY,SALNTY_FLAG_W,CTDOXY,CTDOXY_FLAG_W,OXYGEN,OXYGEN_FLAG_W,SILCAT,SILCAT_FLAG_W,NITRAT,NITRAT_FLAG_W,PHSPHT,PHSPHT_FLAG_W,CFC-11,CFC-11_FLAG_W,CFC-12,CFC-12_FLAG_W,CFC113,CFC113_FLAG_W,CCL4,CCL4_FLAG_W,MCHFRM,MCHFRM_FLAG_W,TCARBN,TCARBN_FLAG_W,THETA
,,,,,,,,,,METERS,DBAR,ITS-90,PSS-78,,PSS-78,,UMOL/KG,,UMOL/KG,,UMOL/KG,,UMOL/KG,,UMOL/KG,,PMOL/KG,,PMOL/KG,,PMOL/KG,,PMOL/KG,,PMOL/KG,,UMOL/KG,,DEG C
  18HU19950419, AR13d,    15,  2, 153184,     53,2,19950424, 38.6477, -50.2908, 5362,      8.6,  18.3527,  36.5455,2,  36.5606,2,   -999.0,9,    227.8,2,     0.95,6,     0.92,6,     0.11,6,    2.028,2,    1.162,2,    0.198,2,    3.216,2,    6.957,2,   2064.0,2,  18.3512
  18HU19950419, AR13d,    15,  2, 153183,     52,2,19950424, 38.6477, -50.2908, 5362,     99.9,  18.2729,  36.5256,2,  36.5364,2,   -999.0,9,    225.9,2,     1.13,6,     1.25,6,     0.13,6,    1.997,2,    1.476,2,    0.163,2,    7.561,2,    6.746,2,   2066.5,2,  18.2554
  18HU19950419, AR13d,    15,  2, 153182,     51,2,19950424, 38.6477, -50.2908, 5362,    302.1,  17.7811,  36.4066,2,  36.4163,2,   -999.0,9,    226.3,2,     0.99,6,     1.56,6,     0.14,6,    2.054,2,    1.089,2,    0.160,2,    5.850,2,    7.575,2,   2067.5,2,  17.7290
  18HU19950419, AR13d,    15,  2, 153181,     50,2,19950424, 38.6477, -50.2908, 5362,    535.4,  15.2086,  36.0281,2,  36.0429,2,   -999.0,9,    189.0,2,     3.87,6,     9.54,6,     0.61,6,    1.711,2,    0.920,2,    0.049,2,    5.653,2,    4.210,2,   2119.8,2,  15.1252
  18HU19950419, AR13d,    15,  2, 153180,     49,2,19950424, 38.6477, -50.2908, 5362,    774.4,  10.8228,  35.3837,2,  35.3956,2,   -999.0,9,    158.0,2,    10.37,6,    19.56,6,     1.30,6,    0.997,2,    0.510,2,    0.041,2,    1.470,2,    2.432,2,   2161.3,2,  10.7254
  18HU19950419, AR13d,    15,  2, 153179,     48,2,19950424, 38.6477, -50.2908, 5362,    948.4,   7.6834,  35.1434,2,  35.1509,2,   -999.0,9,    180.0,2,    13.04,6,    20.75,6,     1.45,6,    0.819,2,    0.384,2,    0.042,2,    5.822,2,    2.426,2,   2171.8,2,   7.5848
  18HU19950419, AR13d,    15,  2, 153178,     47,2,19950424, 38.6477, -50.2908, 5362,   1193.1,   5.4979,  35.0816,2,  35.0898,2,   -999.0,9,    228.8,2,    12.53,6,    18.84,6,     1.30,6,    1.029,2,    0.492,2,    0.046,2,    3.803,2,    3.306,2,   2163.3,2,   5.3913
  18HU19950419, AR13d,    15,  2, 153177,     46,3,19950424, 38.6477, -50.2908, 5362,   1515.6,   4.5800,  35.0298,2,-999.0000,9,   -999.0,9,    250.5,2,    12.18,6,    18.10,6,     1.23,6,    0.974,2,    0.440,2, -999.000,5,    6.781,2,    2.974,2,   2154.0,2,   4.4516
  18HU19950419, AR13d,    15,  2, 153176,     45,2,19950424, 38.6477, -50.2908, 5362,   1803.8,   3.9797,  34.9689,2,  34.9790,2,   -999.0,9,    264.3,2,    12.40,6,    17.29,6,     1.20,6,    0.910,2,    0.407,2,    0.052,2,    7.095,2,    2.586,2,   2149.6,2,   3.8314
  18HU19950419, AR13d,    15,  2, 153175,     44,2,19950424, 38.6477, -50.2908, 5362,   2100.9,   3.6900,  34.9494,2,  34.9591,2,   -999.0,9,    268.7,2,    13.27,6,    17.00,6,     1.22,6,    0.797,2,    0.340,2,    0.037,2,    4.455,2,    2.302,2,   2151.0,2,   3.5173
  18HU19950419, AR13d,    15,  2, 153174,     43,2,19950424, 38.6477, -50.2908, 5362,   2393.6,   3.5457,  34.9573,2,  34.9609,0,   -999.0,9,    265.1,2,    17.25,6,    17.45,6,     1.25,6,    0.308,2,    0.118,2,    0.049,2,    4.657,2,    0.596,2,   2152.3,2,   3.3465
  18HU19950419, AR13d,    15,  2, 153173,     42,2,19950424, 38.6477, -50.2908, 5362,   2699.9,   3.2963,  34.9486,2,  34.9576,2,   -999.0,9,    265.0,2,    17.62,6,    17.95,6,     1.25,6,    0.277,2,    0.179,2,    0.026,2,    3.000,2,    0.638,2,   2152.7,6,   3.0705
  18HU19950419, AR13d,    15,  2, 153172,     41,2,19950424, 38.6477, -50.2908, 5362,   3001.5,   3.0448,  34.9371,2,  34.9454,0,   -999.0,9,    266.8,2,    19.66,6,    17.80,6,     1.25,6,    0.209,2,    0.134,2,    0.018,2, -999.000,5,    0.418,2,   -999.0,5,   2.7929
  18HU19950419, AR13d,    15,  2, 153171,     40,2,19950424, 38.6477, -50.2908, 5362,   3320.2,   2.7830,  34.9227,2,  34.9312,2,   -999.0,9,    269.7,2,    21.71,6,    17.48,6,     1.26,6,    0.211,2,    0.118,2,    0.019,2,    2.732,2,    0.319,2,   2151.2,2,   2.5030
  18HU19950419, AR13d,    15,  2, 153170,     39,2,19950424, 38.6477, -50.2908, 5362,   3607.7,   2.5693,  34.9095,2,  34.9176,2,   -999.0,9,    266.9,2,    24.44,6,    17.99,6,     1.27,6,    0.164,2,    0.127,2,    0.019,2,    4.239,2,    0.488,2,   2158.7,2,   2.2633
  18HU19950419, AR13d,    15,  2, 153169,     38,2,19950424, 38.6477, -50.2908, 5362,   3886.7,   2.4082,  34.8982,2,  34.9071,2,   -999.0,9,    269.6,2,    27.05,6,    18.13,6,     1.29,6,    0.187,2,    0.103,2,    0.016,2,    2.077,2,    0.073,2,   2160.1,2,   2.0753
  18HU19950419, AR13d,    15,  2, 153168,     37,2,19950424, 38.6477, -50.2908, 5362,   4152.9,   2.3319,  34.8905,2,  34.9000,2,   -999.0,9,    267.5,2,    29.36,6,    18.29,6,     1.31,6,    0.235,2,    0.136,2,    0.011,2,    3.871,2,    0.511,2,   2165.1,2,   1.9707
  18HU19950419, AR13d,    15,  2, 153167,     36,2,19950424, 38.6477, -50.2908, 5362,   4491.6,   2.2797,  34.8828,2,  34.8921,2,   -999.0,9,    266.3,2,    32.55,6,    18.62,6,     1.37,6,    0.194,2,    0.076,2,    0.018,2,    1.415,2,    0.076,2,   2167.0,2,   1.8801
  18HU19950419, AR13d,    15,  2, 153166,     35,2,19950424, 38.6477, -50.2908, 5362,   4676.9,   2.2694,  34.8795,2,  34.8876,2,   -999.0,9,    263.8,6,    34.07,6,    19.04,6,     1.33,6,    0.214,2,    0.159,2,    0.025,2,    3.061,2,    0.565,2,   2169.3,2,   1.8478
  18HU19950419, AR13d,    15,  2, 153165,     33,2,19950424, 38.6477, -50.2908, 5362,   4769.5,   2.2652,  34.8779,2,  34.8870,2,   -999.0,9,    260.6,2,    35.18,6,    19.10,6,     1.34,6,    0.187,6,    0.119,6,    0.025,6,    5.719,6,    0.826,6,   2170.3,2,   1.8323
  18HU19950419, AR13d,    15,  2, 153164,     34,2,19950424, 38.6477, -50.2908, 5362,   4974.8,   2.2667,  34.8749,2,  34.8844,2,   -999.0,9,    262.0,2,    37.18,6,    19.63,6,     1.36,6,    0.137,2,    0.098,2,    0.035,2,    4.099,2,    1.754,2,   2174.0,2,   1.8083
  18HU19950419, AR13d,    15,  2, 153163,     32,2,19950424, 38.6477, -50.2908, 5362,   5249.9,   2.2734,  34.8715,2,  34.8802,2,   -999.0,9,    259.6,2,    38.75,6,    19.70,6,     1.40,6,    0.121,2,    0.116,2,    0.029,2,    6.959,2,    0.815,2,   2173.0,6,   1.7797
  18HU19950419, AR13d,    15,  2, 153162,     31,2,19950424, 38.6477, -50.2908, 5362,   5481.4,   2.2330,  34.8619,2,  34.8710,2,   -999.0,9,    254.1,2,    44.29,6,    20.68,6,     1.48,6,    0.000,2,    0.000,2,    0.012,2,    6.442,2,    0.335,2,   2182.5,2,   1.7107
  18HU19950419, AR13d,    16,  1, 153207,     53,2,19950425, 38.1853, -50.2745, 5375,      7.6,  18.1901,  36.4911,2,  36.5018,2,    236.7,2,    233.7,2,     0.34,6,     0.00,6,     0.07,6,    1.956,2,    0.923,2,    0.128,2,   11.000,3,    6.509,2,   2062.7,2,  18.1888
  18HU19950419, AR13d,    16,  1, 153206,     52,2,19950425, 38.1853, -50.2745, 5375,    195.7,  17.8815,  36.4264,2,  36.4364,2,    229.6,2,    226.5,2,     0.92,6,     1.43,6,     0.13,6,    2.094,2,    1.492,2,    0.120,2,   11.473,3,    7.395,2,   2071.1,2,  17.8477
  18HU19950419, AR13d,    16,  1, 153205,     51,2,19950425, 38.1853, -50.2745, 5375,    397.5,  16.4443,  36.2311,2,  36.2396,2,    195.1,2,    186.8,2,     2.92,6,     7.89,6,     0.49,6,    1.602,2,    1.493,3,    0.051,2,    2.190,2,    3.234,2,   2109.9,2,  16.3793
  18HU19950419, AR13d,    16,  1, 153204,     50,2,19950425, 38.1853, -50.2745, 5375,    708.4,  10.8997,  35.3936,2,  35.4016,2,    161.9,2,    155.2,2,    10.57,6,    20.05,6,     1.32,6,    0.892,2,    0.459,2,    0.032,2,    2.240,2,    2.068,2,   2165.2,2,  10.8104
  18HU19950419, AR13d,    16,  1, 153203,     49,2,19950425, 38.1853, -50.2745, 5375,    999.7,   6.4163,  35.0723,2,  35.0797,2,    202.6,2,    200.6,2,    13.30,6,    20.05,6,     1.40,6,    0.961,6,    0.505,6,    0.056,6,    4.049,6,    2.964,6,   2171.6,2,   6.3215
  18HU19950419, AR13d,    16,  1, 153202,     48,2,19950425, 38.1853, -50.2745, 5375,   1098.2,   5.9119,  35.0970,2,  35.1006,2,    220.2,2,    224.3,2,    12.61,6,    19.06,6,     1.33,6,    1.103,2,    0.000,4, -999.000,5,    4.238,2,    3.483,2,   2169.2,2,   5.8111
  18HU19950419, AR13d,    16,  1, 153201,     47,2,19950425, 38.1853, -50.2745, 5375,   1356.2,   4.6926,  35.0167,2,  35.0232,2,    253.3,2,    248.0,2,    12.17,6,    18.05,6,     1.26,6,    1.061,2,    0.599,2,    0.042,2,    2.762,2,    2.878,2,   2051.9,4,   4.5781
  18HU19950419, AR13d,    16,  1, 153200,     46,3,19950425, 38.1853, -50.2745, 5375,   1655.2,   4.1335,  34.9803,2,-999.0000,9,    262.2,2,    260.7,2,  -999.00,5,  -999.00,5,  -999.00,5,    0.950,2,    0.431,2,    0.050,2,    4.142,2,    2.733,2,   2038.7,4,   3.9973
  18HU19950419, AR13d,    16,  1, 153199,     45,2,19950425, 38.1853, -50.2745, 5375,   1798.3,   4.0678,  34.9925,2,  35.0006,2,    261.6,2,    259.8,2,    13.24,6,    17.29,6,     1.28,6,    0.714,2,    0.177,3,    0.034,2,    4.508,2,    2.046,2,   2089.1,4,   3.9188
  18HU19950419, AR13d,    16,  1, 153198,     44,2,19950425, 38.1853, -50.2745, 5375,   2017.6,   3.6423,  34.9410,2,  34.9484,2,    268.1,2,    273.4,2,    13.21,6,    17.21,6,     1.22,6,    0.911,2,    0.582,2,    0.090,2,    2.406,2,    2.459,2,   2017.3,4,   3.4784
  18HU19950419, AR13d,    16,  1, 153197,     43,2,19950425, 38.1853, -50.2745, 5375,   2371.3,   3.4569,  34.9545,2,  34.9626,2,    264.1,2,    265.1,2,    15.97,6,    17.37,6,     1.23,6,    0.387,2,    0.076,2,    0.020,2,    4.386,2,    0.631,2,   2155.0,2,   3.2614
  18HU19950419, AR13d,    16,  1, 153196,     42,2,19950425, 38.1853, -50.2745, 5375,   2562.5,   3.3007,  34.9515,2,  34.9597,2,    263.7,2,    264.1,2,    17.93,6,    17.94,6,     1.24,6,    0.265,2,    0.192,2,    0.041,2,    4.268,2,    0.423,2,   2157.7,2,   3.0889
  18HU19950419, AR13d,    16,  1, 153195,     41,2,19950425, 38.1853, -50.2745, 5375,   2992.1,   2.8861,  34.9295,2,  34.9386,2,    266.1,2,    266.1,6,    20.93,6,    17.85,6,     1.26,6,    0.287,2,    0.147,2,    0.038,2,    3.224,2,    0.432,2,   2160.4,2,   2.6386
  18HU19950419, AR13d,    16,  1, 153194,     40,2,19950425, 38.1853, -50.2745, 5375,   3244.2,   2.6370,  34.9156,2,  34.9239,2,    267.9,2,    266.3,2,    22.55,6,    17.34,6,     1.25,6,    0.268,2,    0.209,2,    0.042,2,    3.545,2,    0.000,2,   2159.0,2,   2.3686
  18HU19950419, AR13d,    16,  1, 153193,     39,2,19950425, 38.1853, -50.2745, 5375,   3488.6,   2.4311,  34.9022,2,  34.9105,2,    267.8,2,    268.1,2,    26.04,6,    17.90,6,     1.26,6,    0.248,2,    0.138,2,    0.034,2,    0.968,2,    0.295,2,   2162.9,2,   2.1416
  18HU19950419, AR13d,    16,  1, 153192,     38,2,19950425, 38.1853, -50.2745, 5375,   3800.3,   2.2569,  34.8879,2,  34.8977,2,    266.7,2,    265.4,2,    30.52,6,    18.30,6,     1.33,6,    0.266,2,    0.232,2,    0.047,2,    6.584,2,    0.418,2,   2169.7,2,   1.9378
  18HU19950419, AR13d,    16,  1, 153191,     37,2,19950425, 38.1853, -50.2745, 5375,   4006.1,   2.2276,  34.8833,2,  34.8922,2,    264.6,2,    264.9,2,    32.01,6,    18.34,6,     1.38,6,    0.253,2,    0.271,2,    0.039,2,    2.962,2,    1.006,2,   2170.4,2,   1.8862
  18HU19950419, AR13d,    16,  1, 153190,     36,3,19950425, 38.1853, -50.2745, 5375,   4202.7,   2.2250,  34.8808,2,  34.8890,2,    264.1,2,    264.6,2,    33.77,6,    18.89,6,     1.35,6,    0.260,2,    0.053,2,    0.045,2,    0.996,2,    0.241,2,   2173.0,2,   1.8612
  18HU19950419, AR13d,    16,  1, 153189,     35,3,19950425, 38.1853, -50.2745, 5375,   4496.1,   2.2327,  34.8779,2,  34.8865,2,    263.3,2,    263.0,2,    35.64,6,    19.31,6,     1.35,6,    0.228,2,    0.209,2,    0.051,2, -999.000,5,    0.317,2,   2174.5,2,   1.8341
  18HU19950419, AR13d,    16,  1, 153188,     33,2,19950425, 38.1853, -50.2745, 5375,   4793.0,   2.2493,  34.8755,2,  34.8835,0,    262.6,2,    262.0,2,    36.99,6,    19.64,6,     1.39,6,    0.203,2,    0.097,2,    0.026,2,    1.285,2,    0.455,2,   2175.9,2,   1.8141
  18HU19950419, AR13d,    16,  1, 153187,     34,2,19950425, 38.1853, -50.2745, 5375,   5090.3,   2.2659,  34.8730,2,  34.8814,2,    261.7,2,    261.0,2,    38.01,6,    19.42,6,     1.40,6,    0.192,2,    0.219,2,    0.022,2,    4.376,2,    0.583,2,   2177.3,2,   1.7929
  18HU19950419, AR13d,    16,  1, 153186,     32,2,19950425, 38.1853, -50.2745, 5375,   5404.5,   2.2866,  34.8705,2,  34.8788,2,    261.7,2,    259.5,2,    39.46,6,    19.67,6,     1.40,6,    0.165,2,    0.214,2,    0.040,2,    2.800,2,    0.329,2,   2179.0,2,   1.7724
  18HU19950419, AR13d,    16,  1, 153185,     31,2,19950425, 38.1853, -50.2745, 5375,   5519.0,   2.2897,  34.8688,2,  34.8772,2,    260.9,2,    258.6,2,    40.67,6,    20.10,6,     1.44,6,    0.160,2,    0.058,2,    0.016,2,    0.908,2,    0.819,2,   2180.1,2,   1.7603
  18HU19950419, AR13d,    17,  1, 153230,     53,2,19950425, 38.1882, -49.5658, 5362,      7.3,  18.1205,  36.4265,2,  36.4402,2,    133.7,2,    231.5,2,     0.37,6,     0.00,6,     0.06,6,    2.153,2,    1.046,2,    0.172,2,    5.799,2,    5.307,2,   -999.0,9,  18.1192
  18HU19950419, AR13d,    17,  1, 153229,     52,2,19950425, 38.1882, -49.5658, 5362,    199.4,  18.0063,  36.4450,2,  36.4545,2,    227.1,2,    222.1,2,     1.09,6,     2.11,6,     0.15,6,    2.121,2,    1.058,2,    0.128,2,    6.454,2,    7.066,2,   -999.0,9,  17.9717
  18HU19950419, AR13d,    17,  1, 153228,     51,2,19950425, 38.1882, -49.5658, 5362,    414.4,  16.9989,  36.3273,2,  36.3394,2,    197.1,2,    192.5,2,     2.38,6,     6.52,6,     0.40,6,    1.815,2,    0.923,2,    0.051,2,    5.775,2,    3.006,2,   -999.0,9,  16.9295
  18HU19950419, AR13d,    17,  1, 153227,     50,2,19950425, 38.1882, -49.5658, 5362,    616.5,  14.1540,  35.8608,2,  35.8738,2,    193.2,2,    191.0,2,     4.50,6,    11.08,6,     0.73,6,    1.852,2,    0.889,2,    0.048,2,    3.447,2,    4.262,2,   -999.0,9,  14.0623
  18HU19950419, AR13d,    17,  1, 153226,     49,2,19950425, 38.1882, -49.5658, 5362,    700.1,  12.4795,  35.6148,2,  35.6230,2,    184.2,2,    184.1,2,     6.69,6,    14.77,6,     0.98,6,    1.688,2,    0.750,2,    0.047,2,    1.339,2,    3.794,2,   -999.0,9,  12.3834
  18HU19950419, AR13d,    17,  1, 153225,     48,2,19950425, 38.1882, -49.5658, 5362,    824.9,  10.2648,  35.3426,2,  35.3544,2,    173.7,2,    173.3,2,     9.97,6,    18.88,6,     1.27,6,    1.269,2,    0.595,2,    0.053,2,    1.416,2,    2.312,2,   -999.0,9,  10.1641
  18HU19950419, AR13d,    17,  1, 153224,     47,2,19950425, 38.1882, -49.5658, 5362,   1018.2,   7.2996,  35.1376,2,  35.1483,2,    189.9,2,    187.5,2,    13.09,6,    20.49,6,     1.46,6,    0.849,2,    0.364,2,    0.028,2,    4.517,2,    1.872,2,   -999.0,9,   7.1961
  18HU19950419, AR13d,    17,  1, 153223,     46,2,19950425, 38.1882, -49.5658, 5362,   1213.1,   6.3958,  35.2244,2,  35.2141,2,    222.5,2,    206.7,2,    12.46,6,    19.15,6,     1.35,6,    0.831,2,    0.371,2,    0.031,2,    3.206,2,    2.356,2,   -999.0,9,   6.2789
  18HU19950419, AR13d,    17,  1, 153222,     45,4,19950425, 38.1882, -49.5658, 5362,   1413.2,   5.3844,  35.1296,2,  35.7223,3,    242.5,2,    202.8,3,     8.38,3,    13.49,4,     0.94,4,    1.102,2,    0.484,2,    0.057,2,    2.074,2,    2.281,2,   -999.0,9,   5.2570
  18HU19950419, AR13d,    17,  1, 153221,     44,2,19950425, 38.1882, -49.5658, 5362,   1701.8,   4.2003,  34.9833,2,  34.9908,2,    262.3,2,    260.5,2,    12.34,6,    17.81,6,     1.25,6,    1.096,2,    0.489,2,    0.054,2,    8.110,2,    2.927,2,   -999.0,9,   4.0588
  18HU19950419, AR13d,    17,  1, 153220,     43,2,19950425, 38.1882, -49.5658, 5362,   2001.8,   3.7981,  34.9521,2,  34.9745,3,    263.6,2,    264.5,2,    12.52,6,    17.44,6,     1.24,6,    0.998,6,    0.578,6,    0.047,6,    6.936,6,    2.362,6,   -999.0,9,   3.6334
  18HU19950419, AR13d,    17,  1, 153219,     42,2,19950425, 38.1882, -49.5658, 5362,   2318.1,   3.5772,  34.9548,2,  34.9625,2,    265.9,2,   -999.0,5,    14.91,6,    17.65,6,     1.22,6,    0.561,2,    0.267,2,    0.025,2,    5.442,2,    0.877,2,   -999.0,9,   3.3849
  18HU19950419, AR13d,    17,  1, 153218,     41,2,19950425, 38.1882, -49.5658, 5362,   2603.9,   3.3432,  34.9494,2,  34.9574,2,    263.9,2,    265.5,2,    17.07,6,    17.64,6,     1.25,6,    0.331,2,    0.179,2,    0.026,2,    2.911,2,    0.140,2,   -999.0,9,   3.1264
  18HU19950419, AR13d,    17,  1, 153217,     40,2,19950425, 38.1882, -49.5658, 5362,   2892.1,   3.0855,  34.9412,2,  34.9493,2,    263.2,2,    264.2,2,    20.02,6,    17.73,6,     1.28,6,    0.185,2,    0.099,2,    0.024,2,    2.770,2,    0.000,2,   -999.0,9,   2.8441
  18HU19950419, AR13d,    17,  1, 153216,     39,2,19950425, 38.1882, -49.5658, 5362,   3193.1,   2.8040,  34.9250,2,  34.9332,2,    265.7,2,    266.5,2,    22.21,6,    18.17,6,     1.31,6,    0.208,2,    0.091,2,    0.026,2,    2.497,2,    0.000,2,   -999.0,9,   2.5372
  18HU19950419, AR13d,    17,  1, 153215,     38,2,19950425, 38.1882, -49.5658, 5362,   3510.9,   2.5765,  34.9108,2,  34.9189,2,    266.9,2,    268.3,2,    24.32,6,    17.98,6,     1.29,6,    0.161,2,    0.118,2,    0.036,2,    3.257,2,    0.000,2,   -999.0,9,   2.2809
  18HU19950419, AR13d,    17,  1, 153214,     37,2,19950425, 38.1882, -49.5658, 5362,   3806.4,   2.3798,  34.8968,2,  34.9067,2,    267.0,2,    268.3,2,    27.69,6,    18.23,6,     1.31,6,    0.194,2,    0.111,2,    0.026,2,    7.146,2,    0.062,2,   -999.0,9,   2.0567
  18HU19950419, AR13d,    17,  1, 153213,     36,2,19950425, 38.1882, -49.5658, 5362,   4095.6,   2.3059,  34.8892,2,  34.8978,2,    266.7,2,    266.9,2,    30.46,6,    18.47,6,     1.34,6,    0.184,2,    0.129,2,    0.000,2,    5.661,2,    0.000,2,   -999.0,9,   1.9521
  18HU19950419, AR13d,    17,  1, 153212,     35,2,19950425, 38.1882, -49.5658, 5362,   4405.4,   2.2638,  34.8824,2,  34.8908,2,    264.8,2,    265.3,2,    32.68,6,    18.97,6,     1.35,6,    0.202,2,    0.107,2,    0.028,2,    8.447,2,    0.000,2,   -999.0,9,   1.8750
  18HU19950419, AR13d,    17,  1, 153211,     33,2,19950425, 38.1882, -49.5658, 5362,   4700.2,   2.2410,  34.8761,2,  34.8841,2,    263.1,2,    262.3,2,    36.90,6,    19.79,6,     1.41,6,    0.162,2,    0.099,2,    0.030,2,    1.496,2,    0.000,2,   -999.0,9,   1.8174
  18HU19950419, AR13d,    17,  1, 153210,     34,2,19950425, 38.1882, -49.5658, 5362,   4994.7,   2.2310,  34.8703,2,  34.8788,2,    261.1,2,    260.3,2,    39.67,6,    19.56,6,     1.44,6,    0.089,2,    0.079,2,    0.025,2,    5.171,2,    0.000,2,   -999.0,9,   1.7713
  18HU19950419, AR13d,    17,  1, 153209,     32,2,19950425, 38.1882, -49.5658, 5362,   5300.7,   2.2297,  34.8650,2,  34.8745,2,    258.8,2,    257.0,6,    42.35,6,    20.49,6,     1.46,6,    0.036,2,    0.054,2,    0.037,2,    3.950,2,    0.000,2,   -999.0,9,   1.7310
  18HU19950419, AR13d,    17,  1, 153208,     31,2,19950425, 38.1882, -49.5658, 5362,   5504.2,   2.2106,  34.8589,2,  34.8680,2,    256.3,2,    254.8,2,    46.34,6,    20.95,6,     1.55,6,    0.000,2,    0.048,2,    0.024,2,    4.945,2,    0.086,2,   -999.0,9,   1.6861