BOTTLE,20220817CCHSIOAMB
EXPOCODE,SECT_ID,STNNBR,CASTNO,SAMPNO,BTLNBR,BTLNBR_FLAG_W,DATE,LATITUDE,LONGITUDE,DEPTH,CTDPRS,CTDTMP,CTDSAL,CTDSAL_FLAG_W,SALNTY,SALNTY_FLAG_W,CTDOXY,CTDOXY_FLAG_W,OXYGEN,OXYGEN_FLAG_W,SILCAT,SILCAT_FLAG_W,NITRAT,NITRAT_FLAG_W,PHSPHT,PHSPHT_FLAG_W,CFC-11,CFC-11_FLAG_W,CFC-12,CFC-12_FLAG_W,CFC113,CFC113_FLAG_W,CCL4,CCL4_FLAG_W,MCHFRM,MCHFRM_FLAG_W,TCARBN,TCARBN_FLAG_W,THETA
,,,,,,,,,,METERS,DBAR,ITS-90,PSS-78,,PSS-78,,UMOL/KG,,UMOL/KG,,UMOL/KG,,UMOL/KG,,UMOL/KG,,PMOL/KG,,PMOL/KG,,PMOL/KG,,PMOL/KG,,PMOL/KG,,UMOL/KG,,DEG C
  18HU19950419, AR13d,    51,  1, 153787,     53,2,19950504, 42.9098, -48.1653, 3318,     18.0,  10.6166,  34.8811,2,  34.8940,2,    261.0,2,    269.1,2,     2.52,6,     4.31,6,     0.48,6,    2.869,2,    1.629,2,    0.461,3, -999.000,5,    9.051,2,   2083.4,2,  10.6145
  18HU19950419, AR13d,    51,  1, 153786,     52,2,19950504, 42.9098, -48.1653, 3318,     99.7,   9.6327,  34.9197,2,  34.9310,2,    276.5,2,    221.7,2,     6.30,6,    11.43,6,     0.89,6,    2.418,2,    1.151,2,    0.208,2,    4.693,2,    7.162,2,   2127.0,2,   9.6215
  18HU19950419, AR13d,    51,  1, 153785,     51,2,19950504, 42.9098, -48.1653, 3318,    194.7,   7.5756,  34.8266,2,  34.8201,2,    229.8,2,    192.9,2,    11.53,6,    18.27,6,     1.28,6,    2.020,6,    1.038,6,    0.180,6,    4.519,6,    5.500,6,   2161.7,2,   7.5566
  18HU19950419, AR13d,    51,  1, 153784,     50,2,19950504, 42.9098, -48.1653, 3318,    297.0,   5.9211,  34.8135,2,  34.8607,2,    194.6,2,    204.5,2,    12.68,6,    19.24,6,     1.34,6,    1.695,2,    0.882,2,    0.116,2,    7.504,2,    5.536,2,   2169.4,2,   5.8956
  18HU19950419, AR13d,    51,  1, 153783,     49,2,19950504, 42.9098, -48.1653, 3318,    499.2,   3.6864,  34.7850,2,  34.7935,2,    282.4,2,    273.9,2,    10.57,6,    16.69,6,     1.15,6,    3.201,2,    1.607,2,    0.302,2,    7.024,2,   10.705,2,   2154.1,2,   3.6515
  18HU19950419, AR13d,    51,  1, 153782,     48,2,19950504, 42.9098, -48.1653, 3318,    702.0,   3.6480,  34.8530,2,  34.8614,2,    291.1,2,    284.6,2,    10.28,6,    16.78,6,     1.15,6, -999.000,5, -999.000,5, -999.000,5, -999.000,5, -999.000,5,   2154.5,2,   3.5980
  18HU19950419, AR13d,    51,  1, 153781,     47,2,19950504, 42.9098, -48.1653, 3318,    993.2,   3.6652,  34.9026,2,  34.9118,2,    279.5,2,    276.0,2,    11.15,6,    17.05,6,     1.16,6,    2.152,2,    0.868,2,    0.118,2,    5.518,2,    7.398,2,   2154.9,2,   3.5920
  18HU19950419, AR13d,    51,  1, 153780,     46,2,19950504, 42.9098, -48.1653, 3318,   1098.4,   3.4490,  34.8804,2,  34.8890,2,    280.6,2,    282.1,2,    11.03,6,    16.98,6,     1.16,6,    2.429,2,    1.239,2,    0.215,2, -999.000,5,    8.545,2,   2154.6,2,   3.3690
  18HU19950419, AR13d,    51,  1, 153779,     45,2,19950504, 42.9098, -48.1653, 3318,   1249.6,   3.3764,  34.8809,2,  34.8900,0,    283.4,2,    279.3,3,    11.14,6,    16.86,6,     1.15,6, -999.000,5, -999.000,5, -999.000,5, -999.000,5, -999.000,5,   2153.2,2,   3.2847
  18HU19950419, AR13d,    51,  1, 153778,     44,2,19950504, 42.9098, -48.1653, 3318,   1498.0,   3.1978,  34.8671,2,  34.8754,2,    289.7,2,    285.7,2,    11.22,6,    16.96,6,     1.14,6,    2.344,2,    0.956,2,    0.131,2,    5.416,2,    8.283,2,   2150.9,6,   3.0871
  18HU19950419, AR13d,    51,  1, 153777,     43,2,19950504, 42.9098, -48.1653, 3318,   1600.0,   3.1861,  34.8706,2,  34.8796,2,    287.7,2,    286.0,2,    11.33,6,    16.61,6,     1.13,6,    2.228,2,    1.280,2,    0.147,2,    7.911,2,    7.955,2,   2150.5,2,   3.0668
  18HU19950419, AR13d,    51,  1, 153776,     42,2,19950504, 42.9098, -48.1653, 3318,   1802.6,   3.1164,  34.8685,2,  34.8769,2,    288.9,2,    287.5,2,    11.48,6,    16.81,6,     1.13,6,    2.201,2,    0.961,2,    0.121,2,    6.891,2,    7.788,2,   2150.2,2,   2.9802
  18HU19950419, AR13d,    51,  1, 153775,     41,2,19950504, 42.9098, -48.1653, 3318,   1900.7,   3.1774,  34.8855,2,  34.8940,2,    287.2,2,    283.2,2,    11.91,6,    16.68,6,     1.15,6,    1.824,2,    0.968,2,    0.129,2,    3.163,2,    6.464,2,   2151.6,2,   3.0314
  18HU19950419, AR13d,    51,  1, 153774,     40,2,19950504, 42.9098, -48.1653, 3318,   1977.9,   3.1764,  34.8914,2,  34.9029,2,    283.5,2,    282.0,2,    12.19,6,    16.70,6,     1.13,6,    1.681,2,    1.537,2,    0.093,2,    5.524,2,    6.236,2,   2152.2,2,   3.0233
  18HU19950419, AR13d,    51,  1, 153773,     39,2,19950504, 42.9098, -48.1653, 3318,   2169.8,   3.1848,  34.9086,2,  34.9169,2,    279.2,2,    277.8,2,    13.25,6,    16.65,6,     1.17,6,    1.263,2,    0.361,3,    0.071,2,    2.789,2,    4.645,2,   2155.7,2,   3.0136
  18HU19950419, AR13d,    51,  1, 153772,     38,2,19950504, 42.9098, -48.1653, 3318,   2349.8,   3.1090,  34.9143,2,  34.9229,2,    275.7,2,    276.1,2,    13.50,6,    16.61,6,     1.15,6,    1.092,2,    0.756,2,    0.060,2,    6.142,2,    3.832,2,   2153.4,2,   2.9218
  18HU19950419, AR13d,    51,  1, 153771,     37,2,19950504, 42.9098, -48.1653, 3318,   2498.5,   3.0404,  34.9191,2,  34.9294,2,    274.6,2,    273.7,6,    14.80,6,    16.91,6,     1.13,6,    0.872,2,    0.650,2,    0.079,2,    1.978,2,    3.108,2,   2153.7,2,   2.8399
  18HU19950419, AR13d,    51,  1, 153770,     36,2,19950504, 42.9098, -48.1653, 3318,   2651.0,   2.9310,  34.9168,2,  34.9255,2,    275.5,2,    275.5,2,    14.58,6,    16.46,6,     1.10,6,    1.091,2, -999.000,5, -999.000,5,    7.425,2,    4.237,2,   2154.1,2,   2.7174
  18HU19950419, AR13d,    51,  1, 153769,     35,2,19950504, 42.9098, -48.1653, 3318,   2801.3,   2.8264,  34.9148,2,  34.9244,2,    275.0,2,    275.6,2,    15.40,6,    16.83,6,     1.12,6,    0.934,2,    0.565,2,    0.000,2,    3.820,2,    3.402,2,   2158.6,2,   2.5998
  18HU19950419, AR13d,    51,  1, 153768,     34,2,19950504, 42.9098, -48.1653, 3318,   3002.9,   2.5912,  34.9071,2,  34.8625,4,    277.4,2,    263.6,3,     6.70,4,    10.18,4,     0.77,4,    2.578,3,    1.552,3,    0.321,3,   10.926,3,    7.863,4,   2114.4,4,   2.3493
  18HU19950419, AR13d,    51,  1, 153767,     33,2,19950504, 42.9098, -48.1653, 3318,   3145.8,   2.3766,  34.8985,2,  34.9068,2,    278.5,2,    279.6,2,    16.70,6,    16.41,6,     1.10,6,    1.302,2,    0.888,2,    0.000,2,    3.272,2,    5.085,2,   2156.5,2,   2.1246
  18HU19950419, AR13d,    51,  1, 153766,     31,2,19950504, 42.9098, -48.1653, 3318,   3233.4,   2.3070,  34.8955,2,  34.9045,2,    278.8,2,    279.7,2,    17.10,6,    16.19,6,     1.09,6,    1.186,2,    0.597,2,    0.088,2,    5.605,2,    4.354,2,   2157.9,2,   2.0475
  18HU19950419, AR13d,    51,  1, 153765,     32,2,19950504, 42.9098, -48.1653, 3318,   3335.4,   2.2349,  34.8916,2,  34.9014,2,    279.5,2,    279.9,2,    17.64,6,    16.17,6,     1.12,6,    1.309,2,    0.879,2,    0.101,2,    2.898,2,    4.980,2,   2158.5,6,   1.9665
  18HU19950419, AR13d,    52,  1, 153810,     53,2,19950505, 42.7387, -47.4952, 3759,     11.7,  13.5049,  35.6509,2,  35.6607,2,    208.8,2,    245.2,2,     2.73,6,     5.41,6,     0.42,6,    2.577,2,    1.464,2,    0.195,2,    3.714,2,    4.849,2,   2091.4,2,  13.5032
  18HU19950419, AR13d,    52,  1, 153809,     52,2,19950505, 42.7387, -47.4952, 3759,    100.1,   8.5756,  34.6070,2,  34.6142,2,    284.2,2,    284.3,2,     3.02,6,     4.69,6,     0.54,6,    3.723,2,    1.887,2,    0.339,2,    8.545,2,   10.598,2,   2087.3,2,   8.5652
  18HU19950419, AR13d,    52,  1, 153808,     51,2,19950505, 42.7387, -47.4952, 3759,    200.8,   6.0557,  34.5029,2,  34.5152,2,    275.3,2,    229.0,6,    10.21,6,    15.08,6,     1.14,6,    3.137,2,    1.732,2,    0.238,2,    6.148,2,    7.746,2,   -999.0,5,   6.0385
  18HU19950419, AR13d,    52,  1, 153807,     50,2,19950505, 42.7387, -47.4952, 3759,    301.5,   7.8475,  35.0515,2,  35.0581,2,    167.4,2,    166.2,2,    14.20,6,    22.46,6,     1.52,6,    0.974,2,    0.672,2,    0.044,2,    5.270,2,    0.564,2,   2183.3,2,   7.8171
  18HU19950419, AR13d,    52,  1, 153806,     49,2,19950505, 42.7387, -47.4952, 3759,    401.2,   6.6523,  35.0425,2,  35.0531,2,    195.5,2,    198.3,2,    13.11,6,    20.34,6,     1.33,6,    1.364,2,    0.609,2,    0.044,2,    5.394,2,    2.313,2,   2172.9,6,   6.6152
  18HU19950419, AR13d,    52,  1, 153805,     48,2,19950505, 42.7387, -47.4952, 3759,    501.4,   5.8659,  35.0457,2,  35.0579,2,    214.9,2,    214.0,2,    12.65,6,    19.43,6,     1.35,6,    1.422,2,    0.986,2,    0.054,2,    7.198,2,    2.415,2,   2173.0,2,   5.8221
  18HU19950419, AR13d,    52,  1, 153804,     47,2,19950505, 42.7387, -47.4952, 3759,    705.5,   4.7073,  34.9906,2,  35.0002,2,    247.7,2,    248.5,2,    11.87,6,    18.00,6,     1.23,6,    1.848,2,    1.020,2,    0.089,2,    3.265,2,    3.317,2,   2163.8,2,   4.6510
  18HU19950419, AR13d,    52,  1, 153803,     46,2,19950505, 42.7387, -47.4952, 3759,    903.9,   4.0639,  34.9344,2,  34.9595,2,    263.7,2,    260.1,2,    11.70,6,    17.61,6,     1.19,6,    2.069,2,    0.970,2,    0.134,2,    5.203,2,    5.148,2,   2160.6,2,   3.9950
  18HU19950419, AR13d,    52,  1, 153802,     45,2,19950505, 42.7387, -47.4952, 3759,   1100.6,   3.5410,  34.8844,2,  34.8922,2,    283.0,2,    282.1,2,    10.80,6,    16.60,6,     1.20,6,    2.851,2,    1.603,2,    0.184,2,    5.986,2,    7.791,2,   2153.3,2,   3.4601
  18HU19950419, AR13d,    52,  1, 153801,     44,2,19950505, 42.7387, -47.4952, 3759,   1295.7,   3.4315,  34.8842,2,  34.8932,2,    287.1,2,    282.2,2,    11.13,6,    17.19,6,     1.15,6,    2.620,2,    1.350,2,    0.163,2,    7.867,2,    6.396,2,   2156.0,2,   3.3354
  18HU19950419, AR13d,    52,  1, 153800,     43,2,19950505, 42.7387, -47.4952, 3759,   1499.6,   3.2858,  34.8746,2,  34.8837,2,    284.9,2,    284.4,2,    11.19,6,    16.71,6,     1.16,6,    2.542,2,    1.297,2,    0.224,2,    9.149,2,    6.840,2,   2150.3,2,   3.1739
  18HU19950419, AR13d,    52,  1, 153799,     42,2,19950505, 42.7387, -47.4952, 3759,   1696.7,   3.1796,  34.8680,2,  34.8737,2,    290.3,2,    287.8,2,    11.26,6,    16.85,6,     1.13,6,    2.675,2,    1.428,2,    0.165,2,   11.276,3,    6.610,2,   2152.8,2,   3.0519
  18HU19950419, AR13d,    52,  1, 153798,     41,2,19950505, 42.7387, -47.4952, 3759,   1901.1,   3.1514,  34.8746,2,  34.8837,2,    287.2,2,    285.7,2,    11.39,6,    16.47,6,     1.14,6,    2.310,3,    1.388,3,    0.296,3,   13.121,3,    6.160,3,   2151.5,2,   3.0058
  18HU19950419, AR13d,    52,  1, 153797,     40,2,19950505, 42.7387, -47.4952, 3759,   2093.1,   3.2251,  34.8989,2,  34.9087,2,    280.2,2,    279.8,2,    12.58,6,    16.65,6,     1.18,6,    1.702,2,    0.927,2,    0.077,2,    4.958,2,    3.577,2,   2151.1,2,   3.0606
  18HU19950419, AR13d,    52,  1, 153796,     39,2,19950505, 42.7387, -47.4952, 3759,   2296.0,   3.1587,  34.9033,2,  34.9128,2,    278.2,2,    278.8,2,    12.92,6,    16.95,6,     1.16,6,    1.573,2,    1.004,2,    0.063,2,    3.163,2,    2.559,2,   2153.8,2,   2.9759
  18HU19950419, AR13d,    52,  1, 153795,     38,2,19950505, 42.7387, -47.4952, 3759,   2496.0,   3.0545,  34.9141,2,  34.9227,2,    276.1,2,    275.9,2,    14.84,6,    16.46,6,     1.14,6,    1.254,2,    0.751,2,    0.052,2,    5.230,2,    1.333,2,   2153.7,2,   2.8540
  18HU19950419, AR13d,    52,  1, 153794,     37,2,19950505, 42.7387, -47.4952, 3759,   2692.0,   2.9537,  34.9120,2,  34.9210,0,    276.8,2,    276.8,2,    14.95,6,    16.71,6,     1.14,6,    1.181,2,    0.555,2,    0.040,2,    2.836,2,    1.499,2,   2156.1,2,   2.7356
  18HU19950419, AR13d,    52,  1, 153793,     36,3,19950505, 42.7387, -47.4952, 3759,   2896.0,   2.8188,  34.9129,2,  34.9225,2,    276.1,2,    276.1,2,    15.10,6,    16.38,6,     1.14,6,    1.142,2,    0.780,2,    0.045,2,    4.154,2,    0.864,2,   2155.4,2,   2.5827
  18HU19950419, AR13d,    52,  1, 153792,     35,2,19950505, 42.7387, -47.4952, 3759,   3093.6,   2.6421,  34.9058,2,  34.9160,2,    277.8,2,    278.7,2,    15.52,6,    16.22,6,     1.16,6,    1.249,6,    0.663,6,    0.068,6,    3.303,6,    2.430,6,   2156.4,2,   2.3895
  18HU19950419, AR13d,    52,  1, 153791,     34,2,19950505, 42.7387, -47.4952, 3759,   3295.0,   2.4581,  34.9007,2,  34.9109,2,    278.8,2,    277.6,2,    17.46,6,    16.08,6,     1.15,6,    1.134,2,    0.538,2,    0.030,2,    3.249,2,    1.463,2,   2154.9,6,   2.1886
  18HU19950419, AR13d,    52,  1, 153790,     33,2,19950505, 42.7387, -47.4952, 3759,   3502.3,   2.2940,  34.8937,2,  34.9002,2,    278.0,2,    278.9,2,    18.98,6,    16.25,6,     1.15,6,    1.340,3,    0.915,3,    0.176,3,    3.021,3,    3.433,3,   2160.9,2,   2.0065
  18HU19950419, AR13d,    52,  1, 153789,     31,2,19950505, 42.7387, -47.4952, 3759,   3740.8,   2.1497,  34.8854,2,  34.8955,2,    280.2,2,    280.4,2,    19.07,6,    16.38,6,     1.18,6,    1.528,2,    0.988,2,    0.078,2,    6.944,2,    2.846,2,   2159.7,2,   1.8400
  18HU19950419, AR13d,    52,  1, 153788,     32,2,19950505, 42.7387, -47.4952, 3759,   3817.4,   2.1181,  34.8839,2,  34.8928,2,    282.6,2,    282.8,2,    17.58,6,    15.73,6,     1.13,6,    1.677,2,    0.750,2,    0.066,2,    5.017,2,    3.271,2,   2158.7,2,   1.8008
  18HU19950419, AR13d,    53,  1, 153830,     50,2,19950506, 45.7070, -46.3025, 2362,     21.1,   3.6455,  33.8510,2,  33.8607,2,    348.6,2,    330.4,2,     0.96,6,     4.71,6,     0.52,3,    4.585,2,    2.365,2,    0.404,2,    7.282,2,   11.470,2,   2081.8,2,   3.6441
  18HU19950419, AR13d,    53,  1, 153829,     49,2,19950506, 45.7070, -46.3025, 2362,    117.0,   2.3258,  34.4075,2,  34.4188,2,    315.4,2,    298.7,2,     9.05,6,    14.12,6,     1.03,6,    4.339,6,    2.600,6,    0.381,6,    8.402,6,   11.280,6,   2135.4,2,   2.3193
  18HU19950419, AR13d,    53,  1, 153828,     48,3,19950506, 45.7070, -46.3025, 2362,    246.1,   3.9270,  34.8066,2,  35.1490,0,    273.3,2,   -999.0,5,  -999.00,5,  -999.00,5,  -999.00,5, -999.000,9, -999.000,9, -999.000,9, -999.000,9, -999.000,9,   -999.0,5,   3.9098
  18HU19950419, AR13d,    53,  1, 153827,     47,2,19950506, 45.7070, -46.3025, 2362,    353.5,   3.4994,  34.8187,2,  34.8288,2,    282.1,2,    281.3,2,    10.47,6,    16.73,6,     1.08,6,    3.302,2,    1.772,2,    0.267,2,    6.986,2,    8.903,2,   2160.4,2,   3.4756
  18HU19950419, AR13d,    53,  1, 153826,     46,2,19950506, 45.7070, -46.3025, 2362,    496.7,   3.4928,  34.8652,2,  34.8752,2,    285.2,2,    287.7,2,     9.96,6,    16.51,6,     1.06,6,    3.093,2,    1.672,2,    0.239,2,    6.725,2,    8.681,2,   2155.6,2,   3.4588
  18HU19950419, AR13d,    53,  1, 153825,     45,2,19950506, 45.7070, -46.3025, 2362,    599.6,   3.3905,  34.8672,2,  34.8608,2,    286.9,2,    285.8,2,    10.16,6,    17.09,6,     1.07,6,    3.029,2,    1.579,2,    0.135,2,    5.058,2,    8.314,2,   2154.9,2,   3.3495
  18HU19950419, AR13d,    53,  1, 153824,     44,2,19950506, 45.7070, -46.3025, 2362,    682.0,   3.3487,  34.8669,2,  34.8768,2,    288.5,2,    288.9,2,    10.21,6,    16.76,6,     1.08,6,    2.932,2,    1.566,2,    0.157,2,    5.532,2,    7.951,2,   2153.3,2,   3.3018
  18HU19950419, AR13d,    53,  1, 153823,     43,2,19950506, 45.7070, -46.3025, 2362,    784.8,   3.2350,  34.8596,2,  34.8695,2,    292.6,2,    293.8,2,    10.13,6,    16.52,6,     1.08,6,    3.050,2,    1.575,2,    0.202,2,    7.136,2,    8.397,2,   2153.3,2,   3.1811
  18HU19950419, AR13d,    53,  1, 153822,     42,2,19950506, 45.7070, -46.3025, 2362,    874.9,   3.1518,  34.8550,2,  34.8640,2,    295.7,2,    295.2,2,     9.90,6,    16.73,6,     1.05,6,    3.089,2,    2.148,2,    0.230,2,    7.700,2,    8.423,2,   2150.4,2,   3.0917
  18HU19950419, AR13d,    53,  1, 153821,     41,2,19950506, 45.7070, -46.3025, 2362,    978.6,   3.0907,  34.8523,2,  34.8618,2,    300.1,2,    295.2,6,     9.91,6,    16.71,6,     1.02,6,    3.031,2,    1.723,2,    0.223,2,    5.406,2,    8.250,2,   -999.0,5,   3.0231
  18HU19950419, AR13d,    53,  1, 153820,     40,2,19950506, 45.7070, -46.3025, 2362,   1088.0,   2.9899,  34.8469,2,  34.8557,2,    303.9,2,    296.6,2,    10.11,6,    16.36,6,     1.08,6,    3.039,2,    1.677,2,    0.142,2,    5.009,2,    8.224,2,   2152.6,2,   2.9147
  18HU19950419, AR13d,    53,  1, 153819,     39,3,19950506, 45.7070, -46.3025, 2362,   1183.4,   2.9644,  34.8448,2,-999.0000,9,    304.5,2,   -999.0,5,  -999.00,5,  -999.00,5,  -999.00,5, -999.000,9, -999.000,9, -999.000,9, -999.000,9, -999.000,9,   -999.0,9,   2.8820
  18HU19950419, AR13d,    53,  1, 153818,     38,2,19950506, 45.7070, -46.3025, 2362,   1337.8,   2.9573,  34.8447,2,  34.8533,2,    299.5,2,    296.9,2,    10.12,6,    16.30,6,     1.05,6,    3.001,2,    1.829,2,    0.231,2,    5.603,2,    8.258,2,   2152.7,2,   2.8626
  18HU19950419, AR13d,    53,  1, 153817,     37,2,19950506, 45.7070, -46.3025, 2362,   1491.2,   2.9608,  34.8444,2,  34.8541,2,    294.0,2,    296.4,2,    10.10,6,    16.28,6,     1.05,6,    2.995,2,    1.618,2,    0.221,2,    4.749,2,    8.203,2,   2152.7,2,   2.8534
  18HU19950419, AR13d,    53,  1, 153816,     36,2,19950506, 45.7070, -46.3025, 2362,   1642.2,   2.9594,  34.8443,2,  34.8538,0,    291.5,2,    298.1,2,     9.93,6,    16.35,6,     1.05,6,    2.985,2,    1.743,2,    0.191,2,    4.515,2,    8.024,2,   2152.0,6,   2.8393
  18HU19950419, AR13d,    53,  1, 153815,     35,2,19950506, 45.7070, -46.3025, 2362,   1800.2,   2.9623,  34.8448,2,  34.8568,2,    290.4,2,    296.3,2,     9.98,6,    16.42,6,     1.04,6,    2.954,2,    1.596,2,    0.244,2,    6.524,2,    8.139,2,   2153.3,2,   2.8284
  18HU19950419, AR13d,    53,  1, 153814,     34,2,19950506, 45.7070, -46.3025, 2362,   1959.5,   2.9719,  34.8466,2,  34.8556,2,    289.6,2,    295.5,2,    10.19,6,    16.08,6,     1.07,6,    2.892,2,    1.452,2,    0.260,2,    6.782,2,    7.732,2,   2152.5,2,   2.8237
  18HU19950419, AR13d,    53,  1, 153813,     33,2,19950506, 45.7070, -46.3025, 2362,   2115.9,   2.9802,  34.8521,2,  34.8607,2,    289.1,2,    294.9,2,    10.20,6,    15.93,6,     1.06,6,    2.836,2,    1.319,2,    0.149,2,    6.508,2,    7.400,2,   2153.5,2,   2.8175
  18HU19950419, AR13d,    53,  1, 153812,     31,2,19950506, 45.7070, -46.3025, 2362,   2238.2,   3.0054,  34.8607,2,  34.8696,2,    286.8,2,    292.1,2,    10.44,6,    16.44,6,     1.06,6,    2.550,2,    1.156,2,    0.133,2,    4.058,2,    6.749,2,   2152.9,6,   2.8308
  18HU19950419, AR13d,    53,  1, 153811,     32,2,19950506, 45.7070, -46.3025, 2362,   2342.9,   3.0204,  34.8651,2,  34.8755,2,    285.4,2,    290.3,2,    10.50,6,    16.01,6,     1.09,6,    2.440,2,    1.056,2,    0.151,2,    5.155,2,    6.321,2,   2151.5,2,   2.8356