BOTTLE,20220817CCHSIOAMB
EXPOCODE,SECT_ID,STNNBR,CASTNO,SAMPNO,BTLNBR,BTLNBR_FLAG_W,DATE,LATITUDE,LONGITUDE,DEPTH,CTDPRS,CTDTMP,CTDSAL,CTDSAL_FLAG_W,SALNTY,SALNTY_FLAG_W,CTDOXY,CTDOXY_FLAG_W,OXYGEN,OXYGEN_FLAG_W,SILCAT,SILCAT_FLAG_W,NITRAT,NITRAT_FLAG_W,PHSPHT,PHSPHT_FLAG_W,CFC-11,CFC-11_FLAG_W,CFC-12,CFC-12_FLAG_W,CFC113,CFC113_FLAG_W,CCL4,CCL4_FLAG_W,MCHFRM,MCHFRM_FLAG_W,TCARBN,TCARBN_FLAG_W,THETA
,,,,,,,,,,METERS,DBAR,ITS-90,PSS-78,,PSS-78,,UMOL/KG,,UMOL/KG,,UMOL/KG,,UMOL/KG,,UMOL/KG,,PMOL/KG,,PMOL/KG,,PMOL/KG,,PMOL/KG,,PMOL/KG,,UMOL/KG,,DEG C
  18HU19950419, AR13d,     8,  1, 153045,     54,2,19950422, 41.4885, -50.2838, 3928,      8.5,   1.4492,  33.1472,2,  33.1612,2,    399.7,2,    385.6,2,     2.10,6,     0.94,6,     0.50,6,    5.671,2,    2.910,2,    0.491,2,   12.919,3,   16.459,2,   2053.4,2,   1.4488
  18HU19950419, AR13d,     8,  1, 153044,     53,2,19950422, 41.4885, -50.2838, 3928,    100.6,   5.7428,  34.3484,2,  34.3555,2,    188.1,2,    242.5,2,     9.32,6,    13.43,6,     1.00,6,    3.504,2,    1.859,2,    0.268,2,    5.934,2,   11.861,2,   2137.8,2,   5.7345
  18HU19950419, AR13d,     8,  1, 153043,     52,2,19950422, 41.4885, -50.2838, 3928,    201.2,   7.3278,  34.8589,2,  34.8641,2,    172.2,2,    181.1,2,    12.92,6,    20.47,6,     1.36,6,    1.740,2,    0.799,2,    0.119,2, -999.000,5,    6.094,2,   2173.7,2,   7.3085
  18HU19950419, AR13d,     8,  1, 153042,     51,2,19950422, 41.4885, -50.2838, 3928,    400.9,   4.8965,  34.8805,2,  34.9037,2,    243.1,2,    232.3,2,    12.19,6,    18.66,6,     1.29,6,    2.038,2,    1.108,2,    0.141,2, -999.000,5,    6.682,2,   2168.2,6,   4.8649
  18HU19950419, AR13d,     8,  1, 153041,     50,2,19950422, 41.4885, -50.2838, 3928,    620.3,   4.7047,  34.9779,2,  34.9826,2,    236.2,2,    246.9,2,    11.84,6,    18.75,6,     1.22,6,    1.836,2,    1.008,2,    0.128,2,    7.621,2,    6.897,2,   2166.1,2,   4.6556
  18HU19950419, AR13d,     8,  1, 153040,     49,2,19950422, 41.4885, -50.2838, 3928,    803.7,   4.3367,  34.9692,2,  34.9775,2,    247.6,2,    256.7,2,    11.57,6,    17.79,6,     1.19,6,    1.727,2,    0.920,2,    0.112,2,    9.055,2,    6.765,2,   2160.2,2,   4.2743
  18HU19950419, AR13d,     8,  1, 153039,     48,3,19950422, 41.4885, -50.2838, 3928,    905.5,   4.0222,  34.9373,2,-999.0000,9,    261.5,2,   -999.0,5,  -999.00,9,  -999.00,9,  -999.00,9, -999.000,9, -999.000,9, -999.000,9, -999.000,9, -999.000,9,   -999.0,9,   3.9535
  18HU19950419, AR13d,     8,  1, 153038,     47,2,19950422, 41.4885, -50.2838, 3928,    978.6,   3.5055,  34.8688,2,  34.8780,2,    272.4,2,    282.7,2,    10.56,6,    17.15,6,     1.13,6,    3.079,2,    1.589,2,    0.224,2,    9.034,2,   11.046,2,   2154.2,2,   3.4347
  18HU19950419, AR13d,     8,  1, 153037,     46,2,19950422, 41.4885, -50.2838, 3928,   1087.6,   3.6461,  34.9026,2,  34.9114,2,    271.5,2,    276.4,2,    11.48,6,    17.51,6,     1.14,6,    2.276,2,    1.237,2,    0.149,2,    5.981,2,    7.658,2,   2155.5,2,   3.5653
  18HU19950419, AR13d,     8,  1, 153036,     45,2,19950422, 41.4885, -50.2838, 3928,   1292.5,   3.6468,  34.9216,2,  34.9295,2,    268.8,2,    273.8,2,    11.98,6,    17.73,6,     1.15,6,    1.565,2,    0.853,2,    0.117,2, -999.000,5,    4.865,2,   2156.5,2,   3.5487
  18HU19950419, AR13d,     8,  1, 153035,     44,2,19950422, 41.4885, -50.2838, 3928,   1496.7,   3.4214,  34.8967,2,  34.9055,2,    277.0,2,    279.4,2,    11.82,6,    17.11,6,     1.14,6,    1.859,2,    1.039,2,    0.130,2, -999.000,5,    6.753,2,   -999.0,5,   3.3082
  18HU19950419, AR13d,     8,  1, 153034,     43,2,19950422, 41.4885, -50.2838, 3928,   1691.3,   3.3295,  34.8929,2,  34.9006,2,    282.0,2,    280.8,2,    12.01,6,    17.13,6,     1.11,6,    1.913,2,    1.012,2,    0.110,2,    9.646,2,    6.685,2,   2154.6,6,   3.2003
  18HU19950419, AR13d,     8,  1, 153033,     42,2,19950422, 41.4885, -50.2838, 3928,   1894.8,   3.2855,  34.8982,2,  34.9069,2,    284.0,2,    280.1,2,    12.47,6,    17.37,6,     1.19,6,    1.703,2,    0.729,2,    0.100,2,    5.356,2,    5.449,2,   2154.8,2,   3.1385
  18HU19950419, AR13d,     8,  1, 153032,     41,2,19950422, 41.4885, -50.2838, 3928,   2092.2,   3.1968,  34.8951,2,  34.9040,0,    284.8,2,    280.8,2,    12.40,6,    17.06,6,     1.13,6,    1.679,2,    0.900,2,    0.128,2,   10.075,3,    6.495,2,   2152.0,2,   3.0328
  18HU19950419, AR13d,     8,  1, 153031,     40,3,19950422, 41.4885, -50.2838, 3928,   2293.9,   3.1921,  34.9150,2,  34.9229,2,    278.2,2,    277.3,2,    13.67,6,    17.48,6,     1.11,6,    1.135,2,    0.558,2,    0.064,2,    8.779,2,    3.301,2,   2153.9,2,   3.0089
  18HU19950419, AR13d,     8,  1, 153030,     39,2,19950422, 41.4885, -50.2838, 3928,   2507.4,   3.1489,  34.9303,2,  34.9385,2,    269.3,2,    270.5,2,    15.96,6,    17.52,6,     1.14,6,    0.632,6,    0.292,6,    0.044,6,    6.695,6,    2.255,6,   2157.6,2,   2.9455
  18HU19950419, AR13d,     8,  1, 153029,     38,2,19950422, 41.4885, -50.2838, 3928,   2713.2,   2.9482,  34.9208,2,  34.9288,2,    270.8,2,    244.6,3,    15.81,6,    17.29,6,     1.11,6,    0.753,2,    0.443,2,    0.071,2,    2.503,2,    2.464,2,   2156.3,2,   2.7280
  18HU19950419, AR13d,     8,  1, 153028,     37,2,19950422, 41.4885, -50.2838, 3928,   2953.5,   2.7297,  34.9132,2,  34.9209,2,    273.1,2,    270.8,2,    16.63,6,    17.26,6,     1.12,6,    0.840,2,    0.445,2,    0.071,2,   11.690,3,    2.707,2,   2158.0,2,   2.4896
  18HU19950419, AR13d,     8,  1, 153027,     36,2,19950422, 41.4885, -50.2838, 3928,   3177.2,   2.5573,  34.9064,2,  34.9150,2,    274.1,2,    275.4,6,    17.52,6,    16.94,6,     1.11,6,    0.864,2,    0.487,2,    0.087,2,    3.048,2,    3.350,2,   2158.3,2,   2.2979
  18HU19950419, AR13d,     8,  1, 153026,     35,2,19950422, 41.4885, -50.2838, 3928,   3393.7,   2.4150,  34.8998,2,  34.9081,2,    274.2,2,    275.2,2,    20.41,6,    17.41,6,     1.13,6,    0.757,2,    0.444,2,    0.077,2,    3.342,2,    2.313,2,   2161.4,2,   2.1361
  18HU19950419, AR13d,     8,  1, 153025,     33,2,19950422, 41.4885, -50.2838, 3928,   3591.9,   2.3338,  34.8949,2,  34.9032,2,    273.4,2,    272.3,2,    21.40,6,    17.15,6,     1.21,6,    0.766,2,    0.408,2,    0.176,3,    2.515,2,    3.770,2,   2160.9,2,   2.0356
  18HU19950419, AR13d,     8,  1, 153024,     34,2,19950422, 41.4885, -50.2838, 3928,   3800.8,   2.2802,  34.8910,2,  34.8992,2,    272.9,2,    272.9,2,    23.34,6,    17.84,6,     1.15,6,    0.689,2,    0.374,2,    0.069,2,    4.760,2,    2.511,2,   2164.5,2,   1.9604
  18HU19950419, AR13d,     8,  1, 153023,     32,2,19950422, 41.4885, -50.2838, 3928,   3903.3,   2.2577,  34.8887,2,  34.8968,2,    272.2,2,    274.8,2,    25.33,6,    17.96,6,     1.18,6,    0.607,2,    0.369,2,    0.060,2,    3.591,2,    2.730,2,   -999.0,5,   1.9271
  18HU19950419, AR13d,     8,  1, 153022,     31,2,19950422, 41.4885, -50.2838, 3928,   3967.2,   2.2450,  34.8872,2,  34.8952,2,    271.3,2,    271.1,2,    25.41,6,    18.00,6,     1.22,6,    0.634,2,    0.354,2,    0.124,2,    3.316,2,    3.264,2,   2169.6,6,   1.9075
  18HU19950419, AR13d,     9,  1, 153069,     54,4,19950423, 40.9842, -50.2828, 4036,      8.0,   4.9676,  33.0004,2,-999.0000,9,    164.0,2,   -999.0,5,  -999.00,5,  -999.00,5,  -999.00,5, -999.000,9, -999.000,9, -999.000,9, -999.000,9, -999.000,9,   -999.0,9,   4.9670
  18HU19950419, AR13d,     9,  1, 153068,     53,2,19950423, 40.9842, -50.2828, 4036,    105.5,   8.3950,  34.6769,2,  34.6594,2,    221.1,2,    219.4,2,     7.89,6,    12.76,6,     0.99,6,    2.715,2,    1.363,2,    0.223,2,    6.464,2,    8.820,2,   -999.0,9,   8.3841
  18HU19950419, AR13d,     9,  1, 153067,     52,2,19950423, 40.9842, -50.2828, 4036,    206.0,   7.0650,  34.8177,2,  34.8198,2,    200.4,2,    188.6,2,    12.50,6,    19.89,6,     1.36,6,    1.776,2,    0.784,2,    0.118,2,    4.428,2,    6.797,2,   -999.0,9,   7.0456
  18HU19950419, AR13d,     9,  1, 153066,     51,2,19950423, 40.9842, -50.2828, 4036,    293.7,   5.0415,  34.6843,2,  34.6911,2,    198.2,2,    224.3,2,    12.79,6,    18.86,6,     1.32,6,    2.282,2,    1.297,2,    0.175,2,    5.201,2,    8.547,2,   -999.0,9,   5.0184
  18HU19950419, AR13d,     9,  1, 153065,     50,3,19950423, 40.9842, -50.2828, 4036,    436.2,   5.7345,  35.0188,2,  35.0093,2,    211.8,2,    216.1,2,  -999.00,5,  -999.00,5,  -999.00,5,    1.321,2,    0.641,2,    0.105,2,    3.944,2,    4.933,2,   -999.0,9,   5.6971
  18HU19950419, AR13d,     9,  1, 153064,     49,2,19950423, 40.9842, -50.2828, 4036,    638.8,   3.9409,  34.8701,2,  34.8787,2,    262.3,2,    272.9,2,    10.64,6,    17.36,6,     1.15,6,    2.903,2,    1.055,2,    0.227,2,    5.359,2,   10.292,2,   -999.0,9,   3.8942
  18HU19950419, AR13d,     9,  1, 153063,     48,2,19950423, 40.9842, -50.2828, 4036,    814.4,   3.7164,  34.8754,2,  34.8838,2,    265.0,2,    280.0,2,    10.45,6,    17.06,6,     1.15,6,    2.850,2,    1.141,2,    0.291,3,    7.038,2,    9.927,2,   -999.0,9,   3.6572
  18HU19950419, AR13d,     9,  1, 153062,     47,2,19950423, 40.9842, -50.2828, 4036,    993.8,   3.8331,  34.9230,2,  34.9295,2,    266.9,2,    269.9,2,    11.32,6,    17.48,6,     1.16,6,    1.866,2,    1.078,2,    0.108,2,    7.155,2,    6.371,2,   -999.0,9,   3.7585
  18HU19950419, AR13d,     9,  1, 153061,     46,2,19950423, 40.9842, -50.2828, 4036,   1234.9,   3.5986,  34.9096,2,  34.9242,2,    272.4,2,    272.9,2,    11.50,6,    17.69,6,     1.17,6,    1.821,2,    0.807,2,    0.154,2,   10.973,3,    6.115,2,   -999.0,9,   3.5059
  18HU19950419, AR13d,     9,  1, 153060,     45,3,19950423, 40.9842, -50.2828, 4036,   1442.7,   3.3141,  34.8765,2,-999.0000,9,    281.7,2,   -999.0,5,  -999.00,9,  -999.00,9,  -999.00,9, -999.000,9, -999.000,9, -999.000,9, -999.000,9, -999.000,9,   -999.0,9,   3.2068
  18HU19950419, AR13d,     9,  1, 153059,     44,2,19950423, 40.9842, -50.2828, 4036,   1616.0,   3.3003,  34.8838,2,  34.8931,2,    287.5,2,    282.3,2,    11.71,6,    16.94,6,     1.15,6,    2.088,6,    1.336,6,    0.159,6,    6.647,6,    7.203,6,   -999.0,9,   3.1781
  18HU19950419, AR13d,     9,  1, 153058,     43,2,19950423, 40.9842, -50.2828, 4036,   1835.9,   3.2678,  34.8905,2,  34.8994,2,    285.5,2,    281.5,2,    11.90,6,    16.95,6,     1.20,6,    1.765,2,    1.056,2,    0.179,2,    3.863,2,    6.129,2,   -999.0,9,   3.1264
  18HU19950419, AR13d,     9,  1, 153057,     42,2,19950423, 40.9842, -50.2828, 4036,   2031.4,   3.2821,  34.9079,2,-999.0000,9,    281.4,2,    278.4,2,    12.63,6,    17.10,6,     1.15,6,    1.652,2,    0.567,2,    0.155,2,    3.157,2,    5.823,2,   -999.0,9,   3.1225
  18HU19950419, AR13d,     9,  1, 153056,     41,2,19950423, 40.9842, -50.2828, 4036,   2206.3,   3.2278,  34.9150,2,  34.9234,2,    275.3,2,    275.7,2,    13.53,6,    17.21,6,     1.13,6,    1.188,2,    0.826,2,    0.088,2,    3.439,2,    4.461,2,   -999.0,9,   3.0524
  18HU19950419, AR13d,     9,  1, 153055,     40,2,19950423, 40.9842, -50.2828, 4036,   2344.7,   3.2212,  34.9269,2,  34.9347,2,    270.8,2,    271.8,2,    14.84,6,    17.56,6,     1.16,6,    0.853,2,    0.727,2,    0.077,2,   13.573,3,    2.867,2,   -999.0,9,   3.0325
  18HU19950419, AR13d,     9,  1, 153054,     39,2,19950423, 40.9842, -50.2828, 4036,   2623.7,   3.0487,  34.9270,2,  34.9361,2,    269.4,2,    270.7,2,    15.98,6,    17.18,6,     1.14,6,    0.836,2,    0.452,2,    0.079,2,    3.350,2,    2.340,2,   -999.0,9,   2.8356
  18HU19950419, AR13d,     9,  1, 153053,     38,2,19950423, 40.9842, -50.2828, 4036,   2803.1,   2.8456,  34.9180,2,  34.9270,2,    272.7,2,    273.8,2,    15.95,6,    17.13,6,     1.14,6,    0.836,2,    0.553,2,    0.137,3,    1.988,2,    2.759,2,   -999.0,9,   2.6184
  18HU19950419, AR13d,     9,  1, 153052,     37,2,19950423, 40.9842, -50.2828, 4036,   3016.8,   2.6342,  34.9099,2,  34.9194,2,    275.2,2,    277.1,2,    16.92,6,    16.77,6,     1.14,6,    0.881,2,    0.529,2,    0.075,2,    6.012,2,    3.178,2,   -999.0,9,   2.3897
  18HU19950419, AR13d,     9,  1, 153051,     36,2,19950423, 40.9842, -50.2828, 4036,   3177.6,   2.5158,  34.9044,2,  34.9129,2,    276.6,2,    276.0,2,    17.64,6,    17.01,6,     1.12,6,    1.006,2,    0.675,2,    0.099,2, -999.000,5,    3.386,2,   -999.0,9,   2.2573
  18HU19950419, AR13d,     9,  1, 153050,     35,2,19950423, 40.9842, -50.2828, 4036,   3418.7,   2.3497,  34.8967,2,  34.9045,2,    276.6,2,    273.6,2,    20.14,6,    16.81,6,     1.21,6,    0.911,2,    0.439,2,    0.128,3,    9.595,2,    3.543,2,   -999.0,9,   2.0697
  18HU19950419, AR13d,     9,  1, 153049,     33,2,19950423, 40.9842, -50.2828, 4036,   3625.9,   2.3049,  34.8934,2,  34.9014,0,    276.0,2,    275.5,2,    20.49,6,    17.13,6,     1.16,6,    0.922,2,    0.358,2,    0.054,2,    8.040,2,    3.426,2,   -999.0,9,   2.0038
  18HU19950419, AR13d,     9,  1, 153048,     34,2,19950423, 40.9842, -50.2828, 4036,   3771.1,   2.2964,  34.8924,2,  34.9016,2,    275.9,2,    275.9,2,    21.36,6,    17.25,6,     1.15,6,    0.942,2,    0.627,2,    0.067,2,    4.376,2,    3.882,2,   -999.0,9,   1.9795
  18HU19950419, AR13d,     9,  1, 153047,     32,2,19950423, 40.9842, -50.2828, 4036,   3890.3,   2.2378,  34.8883,2,  34.8965,2,    275.2,2,    274.8,2,    22.98,6,    17.31,6,     1.18,6,    0.939,2,    0.636,2,    0.095,2,    3.505,2,    4.378,2,   -999.0,9,   1.9092
  18HU19950419, AR13d,     9,  1, 153046,     31,2,19950423, 40.9842, -50.2828, 4036,   4067.7,   2.1895,  34.8808,2,  34.8908,2,    267.8,2,    267.3,2,    30.29,6,    18.84,6,     1.31,6,    0.552,2,    0.389,2,    0.084,2,    3.247,2,    2.998,2,   -999.0,9,   1.8422
  18HU19950419, AR13d,    11,  1, 153092,     53,2,19950423, 40.3367, -50.2662, 4325,     16.0,   6.6702,  33.2769,2,  33.2974,2,    181.8,2,    330.9,3,     1.23,6,     0.13,6,     0.41,6,    4.314,2,    2.264,2,    0.404,2,   12.645,3, -999.000,5,   2037.8,2,   6.6688
  18HU19950419, AR13d,    11,  1, 153091,     52,2,19950423, 40.3367, -50.2662, 4325,    219.1,  12.4791,  35.5697,2,  35.5851,2,    159.0,2,    157.5,2,     8.49,6,    17.70,6,     1.09,6,    1.108,2,    0.581,2,    0.060,2,    9.126,2,   16.501,2,   2145.4,2,  12.4496
  18HU19950419, AR13d,    11,  1, 153090,     51,2,19950423, 40.3367, -50.2662, 4325,    366.9,   6.6929,  34.6646,2,  34.6759,2,    213.5,2,    210.9,2,    11.00,6,    17.49,6,     1.23,6,    2.482,2,    1.147,2,    0.202,2,    3.609,2,   12.408,2,   2150.5,2,   6.6591
  18HU19950419, AR13d,    11,  1, 153089,     50,2,19950423, 40.3367, -50.2662, 4325,    530.3,   3.7019,  34.5151,2,  34.4959,2,    235.2,2,    250.9,2,    11.94,6,    17.02,6,     1.22,6,    3.358,2,    1.603,2,    0.257,2,    7.503,2,   12.727,2,   2147.1,2,   3.6649
  18HU19950419, AR13d,    11,  1, 153088,     49,2,19950423, 40.3367, -50.2662, 4325,    717.1,   4.4564,  34.8782,2,  34.8929,2,    231.4,2,    247.9,2,    12.00,6,    18.58,6,     1.26,6,    2.349,2,    1.162,2,    0.172,2,   12.722,3,    9.778,2,   2159.2,2,   4.4007
  18HU19950419, AR13d,    11,  1, 153087,     48,2,19950423, 40.3367, -50.2662, 4325,   1003.0,   4.0406,  34.9137,2,  34.9226,2,    267.6,2,    269.8,2,    11.08,6,    17.81,6,     1.17,6,    2.517,2,    1.143,2,    0.180,2,   17.574,4,    9.461,2,   2148.7,2,   3.9637
  18HU19950419, AR13d,    11,  1, 153086,     47,2,19950423, 40.3367, -50.2662, 4325,   1205.4,   3.9758,  34.9429,2,  34.9511,2,    264.8,2,    265.9,2,    11.95,6,    18.49,6,     1.19,6,    1.568,2,    0.752,2,    0.097,2,    3.939,2,   10.653,2,   2147.6,2,   3.8821
  18HU19950419, AR13d,    11,  1, 153085,     46,2,19950423, 40.3367, -50.2662, 4325,   1536.5,   3.5971,  34.9099,2,  34.9200,2,    273.4,2,    270.1,2,    11.67,6,    17.66,6,     1.14,6,    1.782,6,    0.888,6,    0.136,6,    5.844,6,   10.788,6,   2147.9,2,   3.4783
  18HU19950419, AR13d,    11,  1, 153084,     45,2,19950423, 40.3367, -50.2662, 4325,   1760.9,   3.4293,  34.9008,2,  34.9099,2,    282.0,2,    273.4,2,    11.94,6,    17.56,6,     1.13,6,    1.668,2,    0.755,2,    0.128,2,    4.854,2,    6.137,2,   2150.1,2,   3.2925
  18HU19950419, AR13d,    11,  1, 153083,     44,2,19950423, 40.3367, -50.2662, 4325,   2005.3,   3.4624,  34.9281,2,  34.9366,0,    277.3,2,    273.6,2,    13.52,6,    17.75,6,     1.19,6,    0.943,2,    0.476,2,    0.065,2,    9.547,2,    7.646,2,   2152.6,2,   3.3025
  18HU19950419, AR13d,    11,  1, 153082,     43,2,19950423, 40.3367, -50.2662, 4325,   2271.1,   3.3387,  34.9360,2,  34.9453,2,    271.0,2,    267.3,6,    15.01,6,    17.79,6,     1.18,6,    0.586,2,    0.379,2,    0.062,2,    6.082,2,    2.641,2,   2150.8,2,   3.1552
  18HU19950419, AR13d,    11,  1, 153081,     42,2,19950423, 40.3367, -50.2662, 4325,   2445.2,   3.2534,  34.9401,2,  34.9488,2,    269.7,2,    268.1,2,    16.37,6,    18.20,6,     1.18,6,    0.368,2,    0.190,2,    0.062,2,   10.775,3,    2.720,2,   2148.8,2,   3.0542
  18HU19950419, AR13d,    11,  1, 153080,     41,2,19950423, 40.3367, -50.2662, 4325,   2653.9,   3.0945,  34.9369,2,  34.9459,2,    264.9,2,    267.0,2,    17.81,6,    17.97,6,     1.19,6,    0.262,2,    0.000,2, -999.000,5,    6.057,2,    2.371,2,   2156.7,2,   2.8774
  18HU19950419, AR13d,    11,  1, 153079,     40,2,19950423, 40.3367, -50.2662, 4325,   2849.4,   2.9099,  34.9250,2,  34.9341,2,    268.5,2,    270.5,2,    17.50,6,    17.48,6,     1.21,6,    0.422,2,    0.302,2,    0.047,2,   12.238,3,    2.421,2,   2157.2,2,   2.6766
  18HU19950419, AR13d,    11,  1, 153078,     39,2,19950423, 40.3367, -50.2662, 4325,   2951.9,   2.8385,  34.9228,2,  34.9319,2,    267.3,2,    269.7,2,    18.94,6,    18.15,6,     1.18,6,    0.357,2,    0.245,2,    0.045,2,    3.723,2,    2.258,2,   2149.3,2,   2.5962
  18HU19950419, AR13d,    11,  1, 153077,     38,2,19950423, 40.3367, -50.2662, 4325,   3184.1,   2.6549,  34.9147,2,  34.9226,2,    268.3,2,    270.3,2,    20.66,6,    17.82,6,     1.18,6,    0.308,2,    0.235,2,    0.058,2,   14.237,3,    6.838,2,   2157.1,2,   2.3925
  18HU19950419, AR13d,    11,  1, 153076,     37,2,19950423, 40.3367, -50.2662, 4325,   3386.4,   2.4998,  34.9057,2,  34.9151,2,    269.9,2,    273.6,2,    22.05,6,    17.81,6,     1.18,6,    0.341,2,    0.222,2,    0.057,2,    6.097,2,    4.529,2,   2159.7,2,   2.2196
  18HU19950419, AR13d,    11,  1, 153075,     36,2,19950423, 40.3367, -50.2662, 4325,   3589.8,   2.3955,  34.8990,2,  34.9222,2,    270.2,2,    271.6,2,    23.35,6,    17.83,6,     1.18,6,    0.385,2,    0.234,2,    0.062,2,    3.051,2,    5.989,2,   2159.7,2,   2.0958
  18HU19950419, AR13d,    11,  1, 153074,     35,2,19950423, 40.3367, -50.2662, 4325,   3804.3,   2.3193,  34.8935,2,  34.9021,2,    271.0,2,    271.9,2,    23.90,6,    17.82,6,     1.24,6,    0.487,2,    0.266,2,    0.063,2,    6.418,2,    8.252,2,   2161.3,2,   1.9981
  18HU19950419, AR13d,    11,  1, 153073,     33,2,19950423, 40.3367, -50.2662, 4325,   3982.2,   2.2792,  34.8903,2,  34.8993,2,    271.8,2,    271.0,2,    24.06,6,    17.80,6,     1.18,6,    0.621,2,    0.344,2,    0.059,2,    2.370,2,   13.805,2,   2161.2,2,   1.9391
  18HU19950419, AR13d,    11,  1, 153072,     34,2,19950423, 40.3367, -50.2662, 4325,   4170.2,   2.2393,  34.8856,2,  34.8938,2,    272.4,2,    272.7,2,    25.68,6,    17.84,6,     1.18,6,    0.619,2,    0.344,2,    0.055,2,    5.583,2,   16.476,2,   2163.4,2,   1.8788
  18HU19950419, AR13d,    11,  1, 153071,     32,2,19950423, 40.3367, -50.2662, 4325,   4281.1,   2.2080,  34.8802,2,  34.8895,2,    269.2,2,    267.5,2,    30.07,6,    18.17,6,     1.25,6,    0.425,2,    0.253,2,    0.059,2,    1.648,2, -999.000,5,   -999.0,5,   1.8355
  18HU19950419, AR13d,    11,  1, 153070,     31,2,19950423, 40.3367, -50.2662, 4325,   4380.5,   2.2194,  34.8802,2,  34.8893,2,    267.2,2,    270.1,2,    30.49,6,    18.55,6,     1.29,6,    0.422,2,    0.256,2,    0.058,2,    7.551,2,    8.896,2,   -999.0,5,   1.8349