BOTTLE,20220817CCHSIOAMB
EXPOCODE,SECT_ID,STNNBR,CASTNO,SAMPNO,BTLNBR,BTLNBR_FLAG_W,DATE,LATITUDE,LONGITUDE,DEPTH,CTDPRS,CTDTMP,CTDSAL,CTDSAL_FLAG_W,SALNTY,SALNTY_FLAG_W,CTDOXY,CTDOXY_FLAG_W,OXYGEN,OXYGEN_FLAG_W,SILCAT,SILCAT_FLAG_W,NITRAT,NITRAT_FLAG_W,PHSPHT,PHSPHT_FLAG_W,CFC-11,CFC-11_FLAG_W,CFC-12,CFC-12_FLAG_W,CFC113,CFC113_FLAG_W,CCL4,CCL4_FLAG_W,MCHFRM,MCHFRM_FLAG_W,TCARBN,TCARBN_FLAG_W,THETA
,,,,,,,,,,METERS,DBAR,ITS-90,PSS-78,,PSS-78,,UMOL/KG,,UMOL/KG,,UMOL/KG,,UMOL/KG,,UMOL/KG,,PMOL/KG,,PMOL/KG,,PMOL/KG,,PMOL/KG,,PMOL/KG,,UMOL/KG,,DEG C
  18HU19950419, AR13d,    85,  1, 154386,     38,2,19950512, 46.6120, -45.9342,  354,     18.3,   4.5233,  33.8812,2,  33.8900,2,    323.8,2,    333.8,2,     0.21,6,     4.54,6,     0.43,6,    4.471,2,    2.086,2,    0.473,2,    7.363,2,   12.644,2,   2074.9,2,   4.5220
  18HU19950419, AR13d,    85,  1, 154385,     37,2,19950512, 46.6120, -45.9342,  354,    130.8,   2.8842,  34.3609,2,  34.3699,2,    307.6,2,    294.2,2,     8.62,6,    13.93,6,     1.01,6,    4.070,2,    1.711,2,    0.305,2,    6.907,2,   12.406,2,   2141.0,6,   2.8764
  18HU19950419, AR13d,    85,  1, 154384,     36,2,19950512, 46.6120, -45.9342,  354,    240.2,   3.4041,  34.7952,2,  34.8036,2,    272.7,2,    275.5,6,    11.33,6,    17.39,6,     1.17,6,    3.232,2,    1.211,2,    0.237,2,    5.090,2,   10.593,2,   2161.1,2,   3.3883
  18HU19950419, AR13d,    85,  1, 154383,     35,2,19950512, 46.6120, -45.9342,  354,    338.6,   3.1447,  34.8372,2,  34.8469,2,    285.3,2,    289.8,2,    10.59,6,    16.92,6,     1.13,6,    3.123,2,    1.390,2,    0.212,2,    5.852,2,    9.917,2,   2157.5,2,   3.1229
  18HU19950419, AR13d,    86,  1, 154390,     42,2,19950512, 46.4578, -46.0887,  468,     64.1,   2.1609,  34.1843,2,  34.1827,2,    309.8,2,    319.2,2,     7.19,6,    11.24,6,     0.93,6,    4.645,2,    1.874,2,    0.255,2,    7.321,2,   13.852,2,   2125.2,2,   2.1575
  18HU19950419, AR13d,    86,  1, 154389,     41,2,19950512, 46.4578, -46.0887,  468,    174.2,   3.2690,  34.6893,2,  34.7005,2,    270.6,2,    284.9,2,     9.92,6,    16.34,6,     1.09,6,    3.606,2,    1.205,2,    0.282,2,    6.859,2,   11.538,2,   2153.5,2,   3.2579
  18HU19950419, AR13d,    86,  1, 154388,     40,2,19950512, 46.4578, -46.0887,  468,    276.7,   3.7443,  34.8307,2,  34.8393,2,    280.4,2,    277.8,2,    10.53,6,    17.26,6,     1.13,6,    3.260,2,    1.149,2,    0.248,2,    6.601,2,    9.781,2,   2154.9,2,   3.7253
  18HU19950419, AR13d,    86,  1, 154387,     39,2,19950512, 46.4578, -46.0887,  468,    448.0,   3.2340,  34.8539,2,  34.8639,2,    282.1,2,    286.3,2,    12.08,6,    17.19,6,     1.13,6,    3.215,3,    2.162,3,    0.458,3,    5.699,3,   11.641,3,   2158.5,2,   3.2044
  18HU19950419, AR13d,    87,  1, 154397,     49,2,19950512, 46.3027, -46.2345, 1105,     10.0,   4.6485,  33.6934,2,  33.7033,2,    327.1,2,    330.6,2,     1.94,6,     3.16,6,     0.51,6,    4.724,6,    2.212,6,    0.449,6,    8.143,6,   14.194,6,   2004.5,2,   4.6478
  18HU19950419, AR13d,    87,  1, 154396,     48,2,19950512, 46.3027, -46.2345, 1105,     48.5,   2.2021,  34.1856,2,  34.9556,0,    301.9,2,    304.1,2,     7.78,6,    11.98,6,     0.98,6,    4.720,2,    2.175,2,    0.395,2,    8.033,2,   14.745,2,   2099.9,2,   2.1995
  18HU19950419, AR13d,    87,  1, 154395,     47,2,19950512, 46.3027, -46.2345, 1105,    270.2,   3.9209,  34.8564,2,  34.8651,2,    266.3,2,    272.3,2,    10.83,6,    17.80,6,     1.17,6,    3.107,2,    1.529,2,    0.190,2,    8.327,2,   10.212,2,   2099.7,2,   3.9020
  18HU19950419, AR13d,    87,  1, 154394,     46,2,19950512, 46.3027, -46.2345, 1105,    541.5,   3.5091,  34.8772,2,  34.8794,2,    279.3,2,    277.5,2,    10.78,6,    17.65,6,     1.15,6,    3.002,2,    1.759,2,    0.169,2,    4.824,2,   10.545,2,   2028.0,3,   3.4718
  18HU19950419, AR13d,    87,  1, 154393,     45,2,19950512, 46.3027, -46.2345, 1105,    742.2,   3.3636,  34.8707,2,  34.8790,2,    285.1,2,    287.3,2,    10.67,6,    17.30,6,     1.13,6,    2.940,2,    1.698,2,    0.180,2,    4.829,2,   10.415,2,   2059.9,3,   3.3121
  18HU19950419, AR13d,    87,  1, 154392,     44,2,19950512, 46.3027, -46.2345, 1105,    943.7,   3.1672,  34.8560,2,  34.8690,2,    291.7,2,    291.5,2,    10.53,6,    17.05,6,     1.11,6,    3.105,2,    1.779,2,    0.176,2,    5.688,2,   10.766,2,   2049.2,3,   3.1017
  18HU19950419, AR13d,    87,  1, 154391,     43,2,19950512, 46.3027, -46.2345, 1105,   1088.8,   3.0417,  34.8509,2,  34.8593,2,    294.6,2,    295.1,2,    11.05,6,    16.81,6,     1.12,6,    3.171,2,    1.763,2,    0.183,2,    6.025,2,   10.448,2,   2139.9,2,   2.9660
  18HU19950419, AR13d,    88,  1, 154403,     36,3,19950512, 46.1548, -46.3868,  535,      8.4,   4.6364,  33.6536,2,  33.6747,0,    293.6,2,    336.8,4,     2.06,4,     2.75,4,     0.55,4,    4.882,4,    2.363,4,    0.491,4,    9.479,4,   15.602,4,   1887.6,4,   4.6358
  18HU19950419, AR13d,    88,  1, 154402,     35,2,19950512, 46.1548, -46.3868,  535,     99.8,   3.4393,  34.5530,2,  34.5642,2,    282.1,2,    269.9,2,    10.60,6,    16.33,6,     1.17,6,    3.710,2,    1.754,2,    0.253,2,    8.016,2,   12.556,2,   2002.3,2,   3.4329
  18HU19950419, AR13d,    88,  1, 154401,     34,2,19950512, 46.1548, -46.3868,  535,    203.5,   4.2303,  34.8564,2,  34.8653,2,    251.9,2,    254.3,2,    11.24,6,    18.43,6,     1.21,6,    2.780,3,    1.426,2,    0.134,3,    4.415,2,    9.098,2,   2072.5,2,   4.2156
  18HU19950419, AR13d,    88,  1, 154400,     33,2,19950512, 46.1548, -46.3868,  535,    296.6,   3.8189,  34.8596,2,  34.8736,2,    273.2,2,    274.3,2,    10.56,6,    17.52,6,     1.17,6,    3.221,2,    1.793,2,    0.248,2,    5.739,2,   11.457,2,   2078.6,2,   3.7983
  18HU19950419, AR13d,    88,  1, 154399,     31,2,19950512, 46.1548, -46.3868,  535,    425.2,   3.6850,  34.8852,2,  34.8924,2,    274.1,2,    275.5,2,    11.13,6,    17.71,6,     1.18,6,    2.877,2,    1.373,2,    0.198,2,    6.636,2,   10.179,2,   2064.1,6,   3.6555
  18HU19950419, AR13d,    88,  1, 154398,     32,2,19950512, 46.1548, -46.3868,  535,    514.8,   3.5509,  34.8808,2,  34.8895,2,    276.9,2,    277.7,6,    12.03,6,    17.80,6,     1.18,6,    2.876,2,    1.522,2,    0.223,2,    8.433,2,   10.473,2,   2031.6,3,   3.5153
  18HU19950419, AR13d,    89,  1, 154411,     44,4,19950512, 45.8555, -46.4210, 1247,     20.3,   4.3895,  33.7523,2,-999.0000,9,    335.5,2,   -999.0,9,  -999.00,5,  -999.00,5,  -999.00,5, -999.000,9, -999.000,9, -999.000,9, -999.000,9, -999.000,9,   -999.0,9,   4.3881
  18HU19950419, AR13d,    89,  1, 154410,     43,2,19950512, 45.8555, -46.4210, 1247,    148.7,   3.2105,  34.5891,2,  34.5984,2,    277.9,2,    279.0,2,    10.03,6,    15.62,6,     1.08,6,    3.600,2,    1.436,2,    0.293,2,    6.359,2,   10.450,2,   2093.5,2,   3.2011
  18HU19950419, AR13d,    89,  1, 154409,     42,2,19950512, 45.8555, -46.4210, 1247,    357.9,   3.9423,  34.8822,2,  34.8911,2,    270.2,2,    269.9,2,    10.81,6,    17.20,6,     1.13,6,    2.751,2,    0.997,2,    0.187,2,    5.067,2,    8.261,2,   2106.0,2,   3.9169
  18HU19950419, AR13d,    89,  1, 154408,     41,2,19950512, 45.8555, -46.4210, 1247,    484.3,   3.5978,  34.8758,2,  34.8844,2,    277.7,2,    280.9,2,    10.57,6,    16.81,6,     1.10,6,    2.873,2,    1.119,2,    0.220,2,    4.372,2,   10.408,2,   2090.3,2,   3.5643
  18HU19950419, AR13d,    89,  1, 154407,     40,2,19950512, 45.8555, -46.4210, 1247,    657.0,   3.2872,  34.8609,2,  34.8693,2,    285.8,2,    286.1,2,    10.53,6,    16.49,6,     1.09,6,    2.977,2,    1.159,2,    0.185,2,    4.396,2,    9.195,2,   2091.3,3,   3.2425
  18HU19950419, AR13d,    89,  1, 154406,     39,2,19950512, 45.8555, -46.4210, 1247,    876.6,   3.1086,  34.8530,2,  34.8616,2,    291.5,2,    293.1,2,    10.30,6,    16.26,6,     1.09,6,    3.088,2,    1.270,2,    0.182,2,    5.435,2,    9.790,2,   2090.8,3,   3.0486
  18HU19950419, AR13d,    89,  1, 154405,     38,2,19950512, 45.8555, -46.4210, 1247,   1140.7,   2.9941,  34.8466,2,  34.8608,2,    295.4,2,    295.7,2,    10.11,6,    16.14,6,     1.07,6,    3.042,2,    1.169,2,    0.206,2,    5.549,2,    9.698,2,   2075.8,3,   2.9147
  18HU19950419, AR13d,    89,  1, 154404,     37,2,19950512, 45.8555, -46.4210, 1247,   1245.1,   3.0110,  34.8504,2,  34.8588,2,    294.2,2,    294.1,2,    10.61,6,    16.33,6,     1.08,6,    2.932,2,    1.375,2,    0.187,2,    4.797,2,    9.228,2,   2071.9,3,   2.9232
  18HU19950419, AR13d,    90,  1, 154413,     46,2,19950512, 46.0012, -46.5388,  546,    202.2,   4.0591,  34.8105,2,  34.8186,0,    263.9,2,    256.9,2,    11.37,6,    17.53,6,     1.14,6,    2.951,2,    1.832,2,    0.341,3,    4.494,2,   11.531,2,   2095.1,2,   4.0448
  18HU19950419, AR13d,    90,  1, 154412,     45,2,19950512, 46.0012, -46.5388,  546,    535.8,   3.5033,  34.8778,2,  34.8870,2,    276.8,2,    278.2,2,    12.04,6,    17.03,6,     1.14,6,    2.889,2,    1.368,2,    0.150,2,    6.410,2,    9.873,2,   2098.0,6,   3.4664
  18HU19950419, AR13d,    91,  1, 154423,     38,2,19950512, 46.0782, -46.7477, 1214,     19.8,   3.1357,  33.8682,2,  33.8678,2,    377.1,2,    373.9,2,     1.24,6,     0.49,6,     0.37,6,    5.137,2,    2.251,2,    0.498,2,    9.571,2,   14.984,2,   1776.5,2,   3.1345
  18HU19950419, AR13d,    91,  1, 154422,     37,2,19950512, 46.0782, -46.7477, 1214,     94.8,   1.9736,  34.3911,2,  34.3994,2,    308.9,2,    308.9,2,    10.08,6,    13.73,6,     1.02,6,    4.681,2,    2.429,2,    0.403,2,    6.906,2,   14.105,2,   1857.2,2,   1.9687
  18HU19950419, AR13d,    91,  1, 154421,     36,2,19950512, 46.0782, -46.7477, 1214,    188.1,   2.4143,  34.5780,2,  34.9146,0,    305.0,2,    309.2,2,     8.97,6,    14.03,6,     1.00,6,    4.607,2,    2.165,2,    0.365,2,    8.824,2,   14.518,2,   -999.0,5,   2.4036
  18HU19950419, AR13d,    91,  1, 154420,     35,2,19950512, 46.0782, -46.7477, 1214,    309.9,   3.9460,  34.8574,2,  34.8651,2,    278.8,2,    266.6,2,    11.09,6,    17.54,6,     1.16,6,    3.070,2,    1.653,2,    0.186,2,    5.334,2,   10.273,2,   2160.4,6,   3.9241
  18HU19950419, AR13d,    91,  1, 154419,     34,2,19950512, 46.0782, -46.7477, 1214,    607.7,   3.5874,  34.8887,2,  34.8969,2,    277.8,2,    280.1,6,    11.05,6,    17.17,6,     1.13,6,    2.736,2,    1.339,2,    0.127,2,    8.448,2,    9.213,2,   2158.4,2,   3.5448
  18HU19950419, AR13d,    91,  1, 154418,     33,2,19950512, 46.0782, -46.7477, 1214,    796.3,   3.3302,  34.8674,2,  34.8755,2,    286.2,2,    287.8,2,    10.70,6,    16.89,6,     1.11,6,    3.036,2,    1.593,2,    0.161,2,    4.886,2,   10.197,2,   2156.1,2,   3.2748
  18HU19950419, AR13d,    91,  1, 154417,     31,2,19950512, 46.0782, -46.7477, 1214,   1079.4,   3.1985,  34.8654,2,  34.8767,0,    293.4,2,    291.1,2,    10.86,6,    16.72,6,     1.11,6,    2.839,2,    1.528,2,    0.150,2,    5.568,2,    9.731,2,   2154.1,2,   3.1222
  18HU19950419, AR13d,    91,  1, 154416,     32,2,19950512, 46.0782, -46.7477, 1214,   1185.0,   3.0750,  34.8504,2,  34.8605,2,    295.5,2,    294.5,2,    10.80,6,    16.58,6,     1.09,6,    3.173,2,    1.731,2,    0.188,2,    5.127,2,   10.998,2,   2153.0,2,   2.9914
  18HU19950419, AR13d,    92,  1, 154431,     46,2,19950512, 46.1645, -46.9583, 1288,    108.3,   2.2226,  34.4706,2,  34.4780,2,    318.4,2,    309.4,2,     9.60,6,    13.69,6,     1.00,6,    4.411,2,    2.211,2,    0.262,2,    7.635,2,   12.927,2,   2138.5,2,   2.2167
  18HU19950419, AR13d,    92,  1, 154430,     45,2,19950512, 46.1645, -46.9583, 1288,    270.8,   3.1132,  34.7278,2,  34.7354,2,    303.8,2,    298.4,6,     9.31,6,    14.99,6,     1.04,6,    3.842,2,    1.962,2,    0.214,2,    6.668,2,   11.802,2,   2148.9,2,   3.0960
  18HU19950419, AR13d,    92,  1, 154429,     44,2,19950512, 46.1645, -46.9583, 1288,    411.0,   3.2050,  34.7828,2,  34.7914,2,    298.0,2,    297.6,2,     9.24,6,    15.43,6,     1.06,6,    3.763,2,    2.532,2,    0.174,2,    6.635,2,   11.847,2,   2150.3,2,   3.1781
  18HU19950419, AR13d,    92,  1, 154428,     43,2,19950512, 46.1645, -46.9583, 1288,    607.7,   3.4243,  34.8554,2,  34.8635,2,    294.6,2,    293.6,2,     9.95,6,    16.25,6,     1.08,6,    3.321,2,    1.822,2,    0.143,2,    6.116,2,   10.729,2,   2153.8,2,   3.3825
  18HU19950419, AR13d,    92,  1, 154427,     42,2,19950512, 46.1645, -46.9583, 1288,    797.8,   3.2435,  34.8551,2,  34.8630,2,    295.4,2,    294.8,2,    10.15,6,    16.37,6,     1.09,6,    3.274,6,    1.732,6,    0.187,6,    6.260,6,   11.065,6,   2153.9,2,   3.1886
  18HU19950419, AR13d,    92,  1, 154426,     41,2,19950512, 46.1645, -46.9583, 1288,    995.2,   3.1327,  34.8517,2,  34.8608,2,    296.7,2,    297.5,2,    10.34,6,    16.36,6,     1.08,6,    3.090,2,    1.681,2,    0.139,2,    6.082,2,   11.259,2,   2153.1,2,   3.0635
  18HU19950419, AR13d,    92,  1, 154425,     40,3,19950512, 46.1645, -46.9583, 1288,   1187.3,   2.9873,  34.8436,2,  34.8537,2,    297.5,2,    295.6,2,    11.14,6,    16.29,6,     1.09,6,    3.005,2,    1.645,2,    0.100,2,    5.652,2,    9.813,2,   2154.6,2,   2.9044
  18HU19950419, AR13d,    92,  1, 154424,     39,2,19950512, 46.1645, -46.9583, 1288,   1293.1,   2.9815,  34.8456,2,  34.8540,0,    297.4,2,    295.2,2,    11.31,6,    16.17,6,     1.08,6,    3.012,2,    1.799,2,    0.138,2,    6.464,2,   10.124,2,   2155.4,2,   2.8902
  18HU19950419, AR13d,    93,  1, 154440,     38,2,19950513, 46.2528, -47.1742,  832,      9.5,   1.8494,  33.2866,2,  33.3156,2,    198.5,2,    419.1,2,     1.12,6,     0.00,6,     0.30,2,    4.901,2,    2.519,2,    0.779,3,   10.095,3,   17.683,2,   2005.5,2,   1.8489
  18HU19950419, AR13d,    93,  1, 154439,     37,2,19950513, 46.2528, -47.1742,  832,    103.1,   1.3777,  34.1393,2,  34.1432,2,    325.3,2,    307.3,2,    10.60,6,    12.62,6,     0.99,6,    4.697,2,    2.849,2,    0.431,2,    7.752,2,   16.206,2,   2132.9,6,   1.3729
  18HU19950419, AR13d,    93,  1, 154438,     36,2,19950513, 46.2528, -47.1742,  832,    203.7,   2.5550,  34.5938,2,  34.6010,2,    315.9,2,    307.4,2,     9.01,6,    14.38,6,     1.01,6,    4.246,6,    2.530,6,    0.281,6,    8.148,6,   13.862,6,   2143.0,2,   2.5432
  18HU19950419, AR13d,    93,  1, 154437,     35,2,19950513, 46.2528, -47.1742,  832,    298.1,   3.1744,  34.7399,2,  34.7498,2,    298.5,2,    296.5,2,     9.26,6,    15.55,6,     1.04,6,    3.667,2,    2.051,2,    0.610,3,    6.818,2,   13.654,2,   2150.0,2,   3.1553
  18HU19950419, AR13d,    93,  1, 154436,     34,3,19950513, 46.2528, -47.1742,  832,    371.4,   3.3444,  34.8056,2,  34.8136,2,    296.5,2,    295.2,2,     9.30,6,    15.95,6,     1.07,6,    3.879,2,    3.844,4,    0.342,2,   14.125,3,   13.199,2,   2149.2,2,   3.3198
  18HU19950419, AR13d,    93,  1, 154435,     33,2,19950513, 46.2528, -47.1742,  832,    497.9,   3.3441,  34.8354,2,  34.8441,2,    294.0,2,    295.7,2,     9.46,6,    16.25,6,     1.07,6,    3.226,2,    1.967,2,    0.526,3,    5.598,2,   12.412,2,   2152.6,2,   3.3106
  18HU19950419, AR13d,    93,  1, 154434,     31,2,19950513, 46.2528, -47.1742,  832,    706.4,   3.3082,  34.8582,2,  34.8673,0,    294.4,2,    294.3,2,    10.23,6,    16.66,6,     1.10,6,    3.077,2,    2.180,2,    0.486,3,    5.666,2,   12.764,2,   2154.0,2,   3.2597
  18HU19950419, AR13d,    93,  1, 154433,     32,2,19950513, 46.2528, -47.1742,  832,    796.5,   3.2113,  34.8558,2,  34.8646,2,    294.1,2,    293.6,6,    10.73,6,    16.53,6,     1.11,6,    3.334,2,    1.810,2,    0.093,2,    5.410,2,   11.637,2,   2152.2,2,   3.1567
  18HU19950419, AR13d,    94,  1, 154444,     42,2,19950513, 46.3465, -47.3757,  311,     10.4,   1.0393,  32.9978,2,  33.0018,2,    414.4,2,    413.6,2,     1.70,6,     0.00,6,     0.40,6,    6.007,2,    2.696,2,    0.546,3,   12.079,3,   16.932,2,   2021.2,2,   1.0389
  18HU19950419, AR13d,    94,  1, 154443,     41,2,19950513, 46.3465, -47.3757,  311,    100.7,   1.0260,  33.8299,2,  33.8384,2,    343.1,2,    328.2,2,     9.39,6,     9.70,6,     0.91,6,    5.163,2,    2.463,2,    0.470,2,    9.597,2,   16.765,2,   2116.4,2,   1.0216
  18HU19950419, AR13d,    94,  1, 154442,     40,2,19950513, 46.3465, -47.3757,  311,    200.0,   1.9705,  34.3672,2,  34.3741,2,    296.4,2,    296.0,2,    12.01,6,    13.74,6,     1.05,6,    4.657,2,    2.089,2,    0.406,2,    8.527,2,   13.555,2,   2143.8,2,   1.9599
  18HU19950419, AR13d,    94,  1, 154441,     39,2,19950513, 46.3465, -47.3757,  311,    290.3,   2.3006,  34.5004,2,  34.5081,2,    297.1,2,    304.4,2,    10.20,6,    13.88,6,     1.02,6,    4.596,2,    2.307,2,    0.345,2,    6.931,2,   13.618,2,   2142.0,2,   2.2842
  18HU19950419, AR13d,    95,  1, 154447,     33,2,19950513, 46.4360, -47.5823,  167,     15.2,  -0.2257,  32.7321,2,  32.7392,2,    402.0,2,    390.0,2,     2.95,6,     0.93,2,     0.55,6,    6.212,2,    2.871,2,    0.548,3,   10.610,3,   17.567,2,   2050.5,2,  -0.2262
  18HU19950419, AR13d,    95,  1, 154446,     31,2,19950513, 46.4360, -47.5823,  167,     48.9,  -1.6382,  33.0111,2,  33.0206,2,    350.8,2,    344.7,2,     9.64,6,     7.97,6,     0.97,6,    5.872,2,    2.555,2,    0.483,2,    9.967,2,   17.838,2,   2111.6,2,  -1.6391
  18HU19950419, AR13d,    95,  1, 154445,     32,2,19950513, 46.4360, -47.5823,  167,    151.6,   0.0727,  33.6110,2,  33.6203,2,    301.8,2,    307.1,6,    12.13,6,    10.88,6,     1.03,6,    5.195,2,    2.521,2,    0.411,2,    7.799,2,   16.140,2,   2128.5,2,   0.0674
  18HU19950419, AR13d,    96,  1, 154450,     36,2,19950513, 46.5270, -47.7905,  132,     14.9,   0.5518,  32.5121,2,  32.5198,0,    406.5,2,    404.3,3,     0.51,6,     0.00,6,     0.40,6,    4.981,2,    1.919,2,    0.620,3,    9.403,2,   18.724,2,   2013.9,2,   0.5513
  18HU19950419, AR13d,    96,  1, 154449,     35,2,19950513, 46.5270, -47.7905,  132,     67.7,  -1.6133,  33.0143,2,  33.0206,2,    343.4,2,    344.6,2,     9.35,6,     8.34,6,     0.97,6,    4.704,2,    1.991,2,    0.595,3,    8.531,2,   17.614,2,   2109.5,6,  -1.6146
  18HU19950419, AR13d,    96,  1, 154448,     34,2,19950513, 46.5270, -47.7905,  132,    123.7,  -0.9559,  33.2608,2,  33.2676,2,    322.4,2,    323.2,6,    11.91,6,     9.88,6,     1.04,6,    4.605,2,    2.773,2,    0.612,3,    7.676,2,   17.705,2,   2126.3,2,  -0.9590
  18HU19950419, AR13d,    97,  1, 154453,     39,9,19950513, 46.6170, -47.9957,  121,      9.3,   1.1198,  32.5709,2,-999.0000,9,    401.8,2,   -999.0,5,  -999.00,9,  -999.00,9,  -999.00,9, -999.000,9, -999.000,9, -999.000,9, -999.000,9, -999.000,9,   -999.0,9,   1.1194
  18HU19950419, AR13d,    97,  1, 154452,     38,2,19950513, 46.6170, -47.9957,  121,     59.5,  -0.1433,  32.6908,2,-999.0000,9,    378.3,2,    377.3,6,     2.63,6,     1.48,6,     0.64,6,    5.229,2,    2.737,2,    0.660,3,    9.218,2,   19.247,2,   2063.4,2,  -0.1451
  18HU19950419, AR13d,    97,  1, 154451,     37,2,19950513, 46.6170, -47.9957,  121,    111.2,  -0.8276,  33.3243,2,-999.0000,9,    306.9,2,    303.3,2,    12.91,6,    10.02,6,     1.19,6,    4.938,2,    2.848,2,    0.569,3,    9.452,2,   18.038,2,   2143.3,6,  -0.8306