BOTTLE,20220817CCHSIOAMB
EXPOCODE,SECT_ID,STNNBR,CASTNO,SAMPNO,BTLNBR,BTLNBR_FLAG_W,DATE,LATITUDE,LONGITUDE,DEPTH,CTDPRS,CTDTMP,CTDSAL,CTDSAL_FLAG_W,SALNTY,SALNTY_FLAG_W,CTDOXY,CTDOXY_FLAG_W,OXYGEN,OXYGEN_FLAG_W,SILCAT,SILCAT_FLAG_W,NITRAT,NITRAT_FLAG_W,PHSPHT,PHSPHT_FLAG_W,CFC-11,CFC-11_FLAG_W,CFC-12,CFC-12_FLAG_W,CFC113,CFC113_FLAG_W,CCL4,CCL4_FLAG_W,MCHFRM,MCHFRM_FLAG_W,TCARBN,TCARBN_FLAG_W,THETA
,,,,,,,,,,METERS,DBAR,ITS-90,PSS-78,,PSS-78,,UMOL/KG,,UMOL/KG,,UMOL/KG,,UMOL/KG,,UMOL/KG,,PMOL/KG,,PMOL/KG,,PMOL/KG,,PMOL/KG,,PMOL/KG,,UMOL/KG,,DEG C
  18HU19950419, AR13d,    57,  1, 153922,     53,2,19950507, 44.2075, -44.9538, 4359,      6.8,   5.7610,  33.8347,2,  34.6299,0,    301.5,2,    311.2,2,     2.25,6,     3.66,6,     0.54,6,    4.347,2, -999.000,5,    0.520,3,   11.108,3,   13.684,2,   -999.0,9,   5.7604
  18HU19950419, AR13d,    57,  1, 153921,     70,2,19950507, 44.2075, -44.9538, 4359,     73.4,   9.0610,  34.7709,2,  34.7480,2,    283.1,2,    274.8,2,     3.55,6,     6.29,6,     0.55,6,    3.188,2,    2.017,2,    0.303,2,    5.222,2, -999.000,5,   -999.0,9,   9.0531
  18HU19950419, AR13d,    57,  1, 153920,     51,2,19950507, 44.2075, -44.9538, 4359,    179.5,   5.8096,  34.5802,2,  34.5926,2,    235.5,2,    225.6,2,    10.63,6,    16.13,6,     1.15,6,    2.659,2,    2.094,2,    0.183,2,    5.867,2,    8.020,2,   -999.0,9,   5.7946
  18HU19950419, AR13d,    57,  1, 153919,     50,2,19950507, 44.2075, -44.9538, 4359,    403.3,   6.2024,  35.0604,2,  35.0697,2,    205.1,2,    209.2,2,    12.59,6,    19.53,6,     1.26,6,    1.190,2,    0.851,2,    0.098,2,    5.055,2,    4.034,2,   -999.0,9,   6.1664
  18HU19950419, AR13d,    57,  1, 153918,     49,2,19950507, 44.2075, -44.9538, 4359,    605.5,   5.3559,  35.0678,2,  35.0776,2,    225.2,2,    233.2,2,    11.96,6,    18.02,6,     1.19,6,    1.234,2,    1.255,2,    0.073,2,    5.364,2,    4.462,2,   -999.0,9,   5.3050
  18HU19950419, AR13d,    57,  1, 153917,     48,2,19950507, 44.2075, -44.9538, 4359,    797.7,   4.4138,  34.9735,2,  34.9821,2,    253.3,2,    255.1,2,    11.51,6,    17.84,6,     1.22,6,    1.629,2,    1.090,2,    0.093,2,    3.630,2,    5.607,2,   -999.0,9,   4.3515
  18HU19950419, AR13d,    57,  1, 153916,     47,2,19950507, 44.2075, -44.9538, 4359,   1002.4,   3.9076,  34.9289,2,  34.9376,2,    267.6,2,    268.9,2,    11.37,6,    17.26,6,     1.17,6,    1.778,2,    1.074,2,    0.082,2,    5.585,2,    6.307,2,   -999.0,9,   3.8317
  18HU19950419, AR13d,    57,  1, 153915,     46,2,19950507, 44.2075, -44.9538, 4359,   1182.5,   3.6988,  34.9152,2,  34.9278,2,    274.8,2,    270.4,2,    11.18,6,    16.82,6,     1.18,6,    1.745,2,    1.108,2,    0.094,2,    5.193,2,    5.977,2,   -999.0,9,   3.6096
  18HU19950419, AR13d,    57,  1, 153914,     45,2,19950507, 44.2075, -44.9538, 4359,   1490.0,   3.4507,  34.8997,2,  34.9105,2,    284.3,2,    277.9,2,    11.63,6,    17.04,6,     1.15,6,    1.633,2,    1.099,2,    0.071,2,    5.393,2,    5.572,2,   -999.0,9,   3.3377
  18HU19950419, AR13d,    57,  1, 153913,     44,2,19950507, 44.2075, -44.9538, 4359,   1609.7,   3.3816,  34.8948,2,  34.9032,2,    281.3,2,    279.6,3,    11.66,6,    16.65,6,     1.14,6,    1.765,2,    1.417,2,    0.130,2,    4.389,2,    6.259,2,   -999.0,9,   3.2590
  18HU19950419, AR13d,    57,  1, 153912,     43,2,19950507, 44.2075, -44.9538, 4359,   1799.4,   3.2794,  34.8887,2,  34.8977,2,    279.6,2,    281.8,2,    11.53,6,    16.76,6,     1.15,6,    1.854,2,    1.565,2,    0.071,2,   10.268,3,    6.226,2,   -999.0,9,   3.1412
  18HU19950419, AR13d,    57,  1, 153911,     42,2,19950507, 44.2075, -44.9538, 4359,   2020.9,   3.2436,  34.8978,2,  34.9071,2,    281.3,2,    279.2,2,    12.42,6,    16.65,6,     1.18,6,    1.576,2,    1.189,2,    0.075,2,    4.926,2,    5.557,2,   -999.0,9,   3.0855
  18HU19950419, AR13d,    57,  1, 153910,     41,2,19950507, 44.2075, -44.9538, 4359,   2206.2,   3.2260,  34.9098,2,  34.9187,2,    278.2,2,    277.8,2,    12.82,6,    16.81,6,     1.14,6,    1.220,2,    1.063,2,    0.056,2,    2.374,2,    8.262,2,   -999.0,9,   3.0507
  18HU19950419, AR13d,    57,  1, 153909,     40,2,19950507, 44.2075, -44.9538, 4359,   2411.3,   3.1594,  34.9203,2,  34.9290,2,    273.4,2,    274.8,2,    14.09,6,    16.51,6,     1.16,6,    0.923,2,    0.765,2,    0.058,2,    3.352,2,    3.219,2,   -999.0,9,   2.9653
  18HU19950419, AR13d,    57,  1, 153908,     39,2,19950507, 44.2075, -44.9538, 4359,   2523.6,   3.1017,  34.9225,2,  34.9311,2,    273.4,2,    274.5,2,    14.60,6,    16.66,6,     1.14,6,    0.826,2,    0.477,2,    0.067,2,    1.883,2,    2.669,2,   -999.0,9,   2.8976
  18HU19950419, AR13d,    57,  1, 153907,     38,2,19950507, 44.2075, -44.9538, 4359,   2780.4,   2.9003,  34.9176,2,  34.9262,2,    274.9,2,    274.3,2,    15.53,6,    16.29,6,     1.14,6,    1.034,2,    0.684,2,    0.000,2,    4.046,2,    3.136,2,   -999.0,9,   2.6743
  18HU19950419, AR13d,    57,  1, 153906,     37,2,19950507, 44.2075, -44.9538, 4359,   2977.6,   2.7075,  34.9090,2,  34.9176,2,    278.2,2,    277.3,2,    15.54,6,    15.87,6,     1.12,6,    1.098,6,    0.635,6,    0.067,6,    3.599,6,    3.543,6,   -999.0,9,   2.4654
  18HU19950419, AR13d,    57,  1, 153905,     36,2,19950507, 44.2075, -44.9538, 4359,   3274.7,   2.4873,  34.9045,2,  34.9168,2,    275.2,2,    275.2,2,    19.31,6,    16.80,6,     1.16,6,    0.754,2,    0.655,2,    0.033,2,    3.362,2,    2.776,2,   -999.0,9,   2.2192
  18HU19950419, AR13d,    57,  1, 153904,     35,2,19950507, 44.2075, -44.9538, 4359,   3575.8,   2.3712,  34.8982,2,  34.9061,2,    273.9,2,    274.2,6,    22.06,6,    16.66,6,     1.17,6,    0.681,2,    0.498,2,    0.045,2,    3.264,2,    2.285,2,   -999.0,9,   2.0737
  18HU19950419, AR13d,    57,  1, 153903,     34,2,19950507, 44.2075, -44.9538, 4359,   3868.2,   2.2914,  34.8924,2,  34.9014,2,    275.1,2,    275.3,2,    22.46,6,    16.96,6,     1.18,6,    0.785,2,    0.649,2,    0.000,2,    2.040,2,    2.833,2,   -999.0,9,   1.9638
  18HU19950419, AR13d,    57,  1, 153902,     33,2,19950507, 44.2075, -44.9538, 4359,   4205.3,   2.2319,  34.8856,2,  34.8952,0,    274.3,2,    276.0,2,    22.81,6,    16.56,6,     1.15,6,    0.993,2,    0.842,2,    0.022,2,    4.831,2,    3.179,2,   -999.0,9,   1.8676
  18HU19950419, AR13d,    57,  1, 153901,     31,2,19950507, 44.2075, -44.9538, 4359,   4302.9,   2.1993,  34.8845,2,  34.8926,2,    277.8,2,    278.1,2,    20.59,6,    16.20,6,     1.18,6,    1.239,2,    0.832,2,    0.041,2,    3.970,2,    4.296,2,   -999.0,9,   1.8245
  18HU19950419, AR13d,    57,  1, 153900,     32,2,19950507, 44.2075, -44.9538, 4359,   4391.8,   2.1767,  34.8833,2,  34.8916,2,    283.4,2,    283.2,2,    17.90,6,    15.66,6,     1.11,6,    1.483,2,    1.129,2,    0.088,2,    3.442,2,    4.907,2,   -999.0,9,   1.7921
  18HU19950419, AR13d,    58,  1, 153945,     53,2,19950507, 43.7957, -44.5450, 4771,     13.7,  13.6927,  35.6813,2,  35.6923,2,    240.8,2,    254.8,2,     2.39,6,     5.12,6,     0.35,6, -999.000,9, -999.000,9, -999.000,9, -999.000,9, -999.000,9,   2088.5,2,  13.6907
  18HU19950419, AR13d,    58,  1, 153944,     70,2,19950507, 43.7957, -44.5450, 4771,    100.4,  13.5667,  35.6709,2,  35.6840,2,    241.6,2,    250.0,2,     2.57,6,     5.70,6,     0.38,2, -999.000,9, -999.000,9, -999.000,9, -999.000,9, -999.000,9,   2091.9,2,  13.5524
  18HU19950419, AR13d,    58,  1, 153943,     51,2,19950507, 43.7957, -44.5450, 4771,    248.9,  10.5348,  35.2342,2,  35.2323,2,    193.1,2,    184.6,2,     8.59,6,    16.88,6,     1.06,6, -999.000,9, -999.000,9, -999.000,9, -999.000,9, -999.000,9,   2153.1,2,  10.5048
  18HU19950419, AR13d,    58,  1, 153942,     50,2,19950507, 43.7957, -44.5450, 4771,    404.9,   7.4401,  34.9283,2,  34.9860,2,    179.8,2,    184.9,2,    12.70,6,    20.78,6,     1.40,6, -999.000,9, -999.000,9, -999.000,9, -999.000,9, -999.000,9,   2172.0,2,   7.4003
  18HU19950419, AR13d,    58,  1, 153941,     49,2,19950507, 43.7957, -44.5450, 4771,    550.5,   4.8272,  34.7695,2,  34.8383,2,    231.6,2,    227.6,2,    12.64,6,    19.12,6,     1.28,6, -999.000,9, -999.000,9, -999.000,9, -999.000,9, -999.000,9,   2166.6,6,   4.7836
  18HU19950419, AR13d,    58,  1, 153940,     48,2,19950507, 43.7957, -44.5450, 4771,    656.6,   4.5464,  34.8422,2,  34.8526,2,    264.6,2,    244.9,2,    12.22,6,    18.39,6,     1.22,6, -999.000,9, -999.000,9, -999.000,9, -999.000,9, -999.000,9,   2167.3,6,   4.4952
  18HU19950419, AR13d,    58,  1, 153939,     47,2,19950507, 43.7957, -44.5450, 4771,    758.8,   5.0038,  34.9966,2,  35.0057,2,    245.0,2,    238.5,2,    12.33,6,    18.94,6,     1.22,6, -999.000,9, -999.000,9, -999.000,9, -999.000,9, -999.000,9,   -999.0,5,   4.9413
  18HU19950419, AR13d,    58,  1, 153938,     46,2,19950507, 43.7957, -44.5450, 4771,    913.1,   4.6079,  34.9906,2,  35.0008,2,    255.7,2,    246.9,2,    12.07,6,    18.30,6,     1.21,6, -999.000,9, -999.000,9, -999.000,9, -999.000,9, -999.000,9,   2166.1,2,   4.5344
  18HU19950419, AR13d,    58,  1, 153937,     45,2,19950507, 43.7957, -44.5450, 4771,   1101.5,   4.1919,  34.9538,2,  35.2227,3,    261.9,2,    253.5,2,     8.73,3,    14.11,4,     0.93,4, -999.000,9, -999.000,9, -999.000,9, -999.000,9, -999.000,9,   2144.8,4,   4.1048
  18HU19950419, AR13d,    58,  1, 153936,     44,2,19950507, 43.7957, -44.5450, 4771,   1337.9,   3.8196,  34.9323,2,  34.9410,2,    271.8,2,    271.6,2,    11.95,6,    17.81,6,     1.16,6, -999.000,9, -999.000,9, -999.000,9, -999.000,9, -999.000,9,   2157.5,2,   3.7159
  18HU19950419, AR13d,    58,  1, 153935,     43,2,19950507, 43.7957, -44.5450, 4771,   1591.7,   3.4018,  34.8886,2,  34.8981,2,    278.2,2,    281.6,2,    11.63,6,    17.35,6,     1.13,6, -999.000,9, -999.000,9, -999.000,9, -999.000,9, -999.000,9,   -999.0,5,   3.2805
  18HU19950419, AR13d,    58,  1, 153934,     42,2,19950507, 43.7957, -44.5450, 4771,   1844.0,   3.3066,  34.8855,2,  34.8947,2,    284.4,2,    283.9,2,    11.63,6,    17.14,6,     1.16,6, -999.000,9, -999.000,9, -999.000,9, -999.000,9, -999.000,9,   2153.6,2,   3.1640
  18HU19950419, AR13d,    58,  1, 153933,     41,2,19950507, 43.7957, -44.5450, 4771,   2108.1,   3.1163,  34.8753,2,  34.8833,2,    282.3,2,    286.8,2,    11.42,6,    16.67,6,     1.13,6, -999.000,9, -999.000,9, -999.000,9, -999.000,9, -999.000,9,   2153.4,2,   2.9521
  18HU19950419, AR13d,    58,  1, 153932,     40,2,19950507, 43.7957, -44.5450, 4771,   2415.4,   3.1103,  34.8919,2,  34.9014,2,    275.5,2,    283.3,2,    12.04,6,    16.08,6,     1.13,6, -999.000,9, -999.000,9, -999.000,9, -999.000,9, -999.000,9,   2152.3,2,   2.9168
  18HU19950419, AR13d,    58,  1, 153931,     39,2,19950507, 43.7957, -44.5450, 4771,   2710.8,   3.0133,  34.9198,2,  34.9305,2,    274.3,2,    275.2,2,    14.84,6,    16.42,6,     1.14,6, -999.000,9, -999.000,9, -999.000,9, -999.000,9, -999.000,9,   2156.4,2,   2.7921
  18HU19950419, AR13d,    58,  1, 153930,     38,2,19950507, 43.7957, -44.5450, 4771,   2973.0,   2.8200,  34.9174,2,  34.9262,2,    275.6,2,    274.6,2,    16.61,6,    16.50,6,     1.15,6, -999.000,9, -999.000,9, -999.000,9, -999.000,9, -999.000,9,   2158.4,2,   2.5759
  18HU19950419, AR13d,    58,  1, 153929,     37,2,19950507, 43.7957, -44.5450, 4771,   3166.1,   2.7672,  34.9150,2,  34.9239,2,    275.5,2,    275.0,2,    16.78,6,    16.00,6,     1.15,6, -999.000,9, -999.000,9, -999.000,9, -999.000,9, -999.000,9,   2159.6,2,   2.5041
  18HU19950419, AR13d,    58,  1, 153928,     36,2,19950507, 43.7957, -44.5450, 4771,   3497.7,   2.4543,  34.9022,2,  34.9109,2,    276.2,2,    275.6,2,    20.28,6,    16.60,6,     1.17,6, -999.000,9, -999.000,9, -999.000,9, -999.000,9, -999.000,9,   2163.8,2,   2.1632
  18HU19950419, AR13d,    58,  1, 153927,     35,2,19950507, 43.7957, -44.5450, 4771,   3770.6,   2.3232,  34.8942,2,  34.9032,0,    276.2,2,    275.1,2,    22.15,6,    16.90,6,     1.18,6, -999.000,9, -999.000,9, -999.000,9, -999.000,9, -999.000,9,   2157.7,2,   2.0057
  18HU19950419, AR13d,    58,  1, 153926,     34,2,19950507, 43.7957, -44.5450, 4771,   4131.4,   2.2922,  34.8903,2,  34.9008,2,    275.2,2,    275.2,2,    22.73,6,    17.11,6,     1.18,6, -999.000,9, -999.000,9, -999.000,9, -999.000,9, -999.000,9,   2166.8,2,   1.9346
  18HU19950419, AR13d,    58,  1, 153925,     33,2,19950507, 43.7957, -44.5450, 4771,   4392.3,   2.3066,  34.8892,2,  34.8983,2,    275.2,2,    275.1,2,    23.28,6,    16.87,6,     1.21,6, -999.000,9, -999.000,9, -999.000,9, -999.000,9, -999.000,9,   2166.9,2,   1.9180
  18HU19950419, AR13d,    58,  1, 153924,     31,2,19950507, 43.7957, -44.5450, 4771,   4658.8,   2.3280,  34.8885,2,  34.8971,2,    276.3,2,    275.2,2,    23.25,6,    17.29,6,     1.17,6, -999.000,9, -999.000,9, -999.000,9, -999.000,9, -999.000,9,   2167.4,2,   1.9067
  18HU19950419, AR13d,    58,  1, 153923,     32,2,19950507, 43.7957, -44.5450, 4771,   4788.2,   2.3143,  34.8869,2,  34.8951,2,   -999.0,9,    275.1,6,    23.55,6,    16.79,6,     1.18,6, -999.000,9, -999.000,9, -999.000,9, -999.000,9, -999.000,9,   2166.3,2,   1.8775
  18HU19950419, AR13d,    59,  1, 153968,     53,2,19950507, 43.3620, -44.2230, 4809,     17.4,  16.5924,  36.2704,2,  36.2840,2,    224.6,2,    242.4,2,     0.56,6,     2.03,6,     0.16,6,    2.208,2,    1.088,2,    0.166,2,    4.629,2,    5.413,2,   2075.8,2,  16.5896
  18HU19950419, AR13d,    59,  1, 153967,     70,3,19950507, 43.3620, -44.2230, 4809,     92.1,  16.4046,  36.2679,2,  36.2787,2,    228.3,2,    234.4,2,     1.61,6,     3.44,6,     0.24,6,    2.233,2,    0.979,2,    0.159,2,    5.577,2,   17.606,2,   2086.3,2,  16.3897
  18HU19950419, AR13d,    59,  1, 153966,     51,2,19950507, 43.3620, -44.2230, 4809,    315.0,  15.5741,  36.1051,2,  36.1202,2,    225.7,2,    223.9,2,     2.45,6,     5.85,6,     0.38,6,    2.187,2,    0.975,2,    0.121,2,    9.642,2,    5.205,2,   2098.7,2,  15.5246
  18HU19950419, AR13d,    59,  1, 153965,     50,2,19950507, 43.3620, -44.2230, 4809,    500.5,  13.0372,  35.7042,2,  35.7135,2,    199.1,2,    197.2,2,     5.37,6,    12.41,6,     0.78,6,    1.940,2,    0.850,2,    0.087,2,    2.080,2,    4.494,2,   2135.5,2,  12.9670
  18HU19950419, AR13d,    59,  1, 153964,     49,2,19950507, 43.3620, -44.2230, 4809,    688.4,   9.7944,  35.2814,2,  35.2918,2,    184.0,2,    179.9,2,    10.16,6,    18.91,6,     1.20,6,    1.414,2,    0.672,2,    0.057,2,    2.715,2,    3.036,2,   2166.6,2,   9.7132
  18HU19950419, AR13d,    59,  1, 153963,     48,2,19950507, 43.3620, -44.2230, 4809,    890.4,   6.8959,  35.1225,2,  35.1301,2,    200.1,2,    200.1,2,    12.60,6,    19.78,6,     1.30,6,    1.186,2,    0.516,2,    0.062,2,    4.717,2,    2.843,2,   2175.6,2,   6.8088
  18HU19950419, AR13d,    59,  1, 153962,     47,2,19950507, 43.3620, -44.2230, 4809,   1094.1,   5.0675,  34.9935,2,  34.9996,2,    235.2,2,    237.9,2,    12.33,6,    18.72,6,     1.27,6,    1.676,2,    0.787,2,    0.098,2,    3.966,2,    4.742,2,   2169.0,2,   4.9742
  18HU19950419, AR13d,    59,  1, 153961,     46,2,19950507, 43.3620, -44.2230, 4809,   1247.8,   4.7728,  35.0167,2,  35.4469,3,    249.1,2,    237.3,2,     8.52,3,    13.65,4,     0.89,4,    1.697,2,    0.776,2,    0.097,2,    4.954,2,    4.702,2,   2144.0,4,   4.6677
  18HU19950419, AR13d,    59,  1, 153960,     45,4,19950507, 43.3620, -44.2230, 4809,   1497.1,   4.1666,  34.9658,2,  35.6321,3,    260.9,2,    242.6,4,     6.80,4,    11.14,4,     0.70,4,    1.566,4,    0.597,4,    0.083,4,    3.840,4,    4.131,4,   2132.9,4,   4.0448
  18HU19950419, AR13d,    59,  1, 153959,     44,4,19950507, 43.3620, -44.2230, 4809,   1707.6,   3.8452,  34.9355,2,  34.9551,0,    269.0,2,    266.8,4,    11.92,4,    17.91,4,     1.16,4,    1.492,4,    0.627,4,    0.068,4,    5.176,4,    3.949,4,   2158.3,4,   3.7078
  18HU19950419, AR13d,    59,  1, 153958,     43,2,19950507, 43.3620, -44.2230, 4809,   1891.8,   3.6152,  34.9145,2,  34.9236,2,    273.7,2,    267.2,2,    11.99,6,    17.29,6,     1.14,6,    1.665,2,    0.840,2,    0.070,2,    3.112,2,    4.732,2,   2154.7,2,   3.4637
  18HU19950419, AR13d,    59,  1, 153957,     42,2,19950507, 43.3620, -44.2230, 4809,   2094.0,   3.4892,  34.9106,2,  34.9189,2,    278.3,2,    275.1,2,    12.42,6,    17.28,6,     1.13,6,    1.607,2,    0.690,2,    0.086,2,    3.081,2,    4.318,2,   2155.5,2,   3.3204
  18HU19950419, AR13d,    59,  1, 153956,     41,2,19950507, 43.3620, -44.2230, 4809,   2197.4,   3.2839,  34.8819,2,  34.8928,2,    284.8,2,    283.7,2,    11.68,6,    17.06,6,     1.10,6,    2.135,2,    0.784,2,    0.122,2,    5.529,2,    9.659,4,   2154.5,2,   3.1086
  18HU19950419, AR13d,    59,  1, 153955,     40,2,19950507, 43.3620, -44.2230, 4809,   2500.5,   3.1763,  34.8788,2,  34.8901,2,    278.3,2,    286.1,2,    11.71,6,    16.98,6,     1.11,6,    2.180,2,    1.016,2,    0.161,2,    6.274,2,    7.518,4,   2153.6,2,   2.9733
  18HU19950419, AR13d,    59,  1, 153954,     39,2,19950507, 43.3620, -44.2230, 4809,   2793.0,   3.1765,  34.9168,2,  34.9263,2,    274.1,2,    275.3,2,    13.77,6,    16.98,6,     1.11,6,    1.154,2,    0.621,2,    0.054,2,    4.775,2,    2.735,2,   2155.5,2,   2.9436
  18HU19950419, AR13d,    59,  1, 153953,     38,2,19950507, 43.3620, -44.2230, 4809,   3098.0,   2.9941,  34.9214,2,  34.9305,2,    274.7,2,    273.8,2,    15.79,6,    17.04,6,     1.12,6,    0.864,2,    0.126,3,    0.038,2,    3.147,2,    1.870,2,   2157.8,2,   2.7331
  18HU19950419, AR13d,    59,  1, 153952,     37,2,19950507, 43.3620, -44.2230, 4809,   3400.8,   2.7766,  34.9143,2,  34.9236,2,    274.5,2,    274.8,2,    17.12,6,    16.97,6,     1.13,6,    0.839,2,    0.580,2, -999.000,5,    1.796,2,    2.144,2,   2158.5,2,   2.4881
  18HU19950419, AR13d,    59,  1, 153951,     36,2,19950507, 43.3620, -44.2230, 4809,   3700.9,   2.5498,  34.9041,2,  34.9132,2,    276.0,2,    275.9,2,    18.17,6,    16.65,6,     1.13,6,    0.961,2,    0.580,2,    0.049,2,    2.437,2,    2.140,2,   2161.4,2,   2.2339
  18HU19950419, AR13d,    59,  1, 153950,     35,2,19950507, 43.3620, -44.2230, 4809,   3997.5,   2.3799,  34.8960,2,  34.9062,2,    274.2,2,    275.1,2,    21.30,6,    17.07,6,     1.15,6,    0.827,6,    0.434,6,    0.038,6,    3.861,6,    2.277,6,   2165.3,2,   2.0352
  18HU19950419, AR13d,    59,  1, 153949,     34,2,19950507, 43.3620, -44.2230, 4809,   4302.2,   2.3316,  34.8918,2,  34.9060,2,    274.0,2,    275.2,2,    23.65,2,    18.81,2,     1.27,2,    0.912,2,    0.302,2,    0.047,2,    4.405,2,    2.029,2,   2165.5,6,   1.9529
  18HU19950419, AR13d,    59,  1, 153948,     33,2,19950507, 43.3620, -44.2230, 4809,   4591.9,   2.2997,  34.8872,2,  34.8964,2,    271.4,2,    273.6,2,    25.27,6,    17.79,6,     1.21,6,    0.798,2,    0.445,2,    0.027,2,    3.296,2,    1.356,2,   2168.4,2,   1.8874
  18HU19950419, AR13d,    59,  1, 153947,     31,2,19950507, 43.3620, -44.2230, 4809,   4837.6,   2.2618,  34.8846,2,  34.8935,2,    276.2,2,    279.0,2,    20.40,6,    16.53,6,     1.17,6,    1.355,2,    0.522,2,    0.055,2,    5.024,2,    3.777,2,   2164.3,2,   1.8206
  18HU19950419, AR13d,    59,  1, 153946,     32,2,19950507, 43.3620, -44.2230, 4809,   4929.0,   2.2527,  34.8836,2,  34.8928,0,    281.1,2,    281.9,2,    18.63,6,    15.77,6,     1.15,6,    1.581,2,    0.490,2,    0.104,2,    7.544,2,    4.855,2,   2164.1,2,   1.8005