BOTTLE,20220817CCHSIOAMB
EXPOCODE,SECT_ID,STNNBR,CASTNO,SAMPNO,BTLNBR,BTLNBR_FLAG_W,DATE,LATITUDE,LONGITUDE,DEPTH,CTDPRS,CTDTMP,CTDSAL,CTDSAL_FLAG_W,SALNTY,SALNTY_FLAG_W,CTDOXY,CTDOXY_FLAG_W,OXYGEN,OXYGEN_FLAG_W,SILCAT,SILCAT_FLAG_W,NITRAT,NITRAT_FLAG_W,PHSPHT,PHSPHT_FLAG_W,CFC-11,CFC-11_FLAG_W,CFC-12,CFC-12_FLAG_W,CFC113,CFC113_FLAG_W,CCL4,CCL4_FLAG_W,MCHFRM,MCHFRM_FLAG_W,TCARBN,TCARBN_FLAG_W,THETA
,,,,,,,,,,METERS,DBAR,ITS-90,PSS-78,,PSS-78,,UMOL/KG,,UMOL/KG,,UMOL/KG,,UMOL/KG,,UMOL/KG,,PMOL/KG,,PMOL/KG,,PMOL/KG,,PMOL/KG,,PMOL/KG,,UMOL/KG,,DEG C
  18HU19950419, AR13d,    63,  1, 154060,     53,3,19950508, 41.6070, -42.1388, 4888,     20.6,  16.9180,  36.3244,2,  36.3354,0,    240.8,2,    246.2,3,     0.94,3,     1.44,3,     0.11,3,    2.233,3,    1.196,3,    0.113,3,    7.215,3,    6.120,3,   -999.0,9,  16.9146
  18HU19950419, AR13d,    63,  1, 154059,     70,3,19950508, 41.6070, -42.1388, 4888,    240.7,  16.4516,  36.2623,2,  36.2721,0,    233.6,2,    232.0,3,     1.70,3,     3.14,3,     0.16,3,    2.246,3,    1.026,3,    0.143,3,   12.616,4,   13.090,4,   -999.0,9,  16.4124
  18HU19950419, AR13d,    63,  1, 154058,     51,2,19950508, 41.6070, -42.1388, 4888,    596.1,  13.3284,  35.7210,2,  35.7292,2,    186.6,2,    182.0,2,     6.09,6,    12.37,6,     0.77,6,    1.679,2,    0.868,2,    0.063,2,    4.471,2,    3.979,2,   -999.0,9,  13.2433
  18HU19950419, AR13d,    63,  1, 154057,     50,2,19950508, 41.6070, -42.1388, 4888,    699.4,  11.6921,  35.5239,2,  35.5316,2,    196.4,2,    188.9,2,     7.28,6,    14.54,6,     0.88,6,    1.755,2,    0.934,2,    0.077,2,    1.210,2,    4.593,2,   -999.0,9,  11.6000
  18HU19950419, AR13d,    63,  1, 154056,     49,2,19950508, 41.6070, -42.1388, 4888,    905.4,   8.3355,  35.1917,2,  35.1996,2,    181.5,2,    183.7,2,    12.11,6,    19.21,6,     1.25,6,    1.150,2,    0.510,2,    0.089,2,    4.760,2,    3.794,2,   -999.0,9,   8.2372
  18HU19950419, AR13d,    63,  1, 154055,     48,2,19950508, 41.6070, -42.1388, 4888,   1006.4,   7.2267,  35.1517,2,  35.1606,2,    195.7,2,    196.8,2,    12.52,6,    18.86,6,     1.24,6,    1.114,2,    0.474,2, -999.000,5,    5.412,2,    5.001,2,   -999.0,9,   7.1250
  18HU19950419, AR13d,    63,  1, 154054,     47,2,19950508, 41.6070, -42.1388, 4888,   1410.0,   4.8055,  35.0237,2,  35.0276,2,    249.8,2,   -999.0,5,    11.99,6,    17.12,6,     1.14,6,    1.485,2,    0.777,2,    0.074,2,    8.467,2,    4.712,2,   -999.0,9,   4.6848
  18HU19950419, AR13d,    63,  1, 154053,     46,2,19950508, 41.6070, -42.1388, 4888,   1506.2,   4.4041,  34.9820,2,  35.0016,2,    256.9,2,    254.7,2,    11.79,6,    16.99,6,     1.22,6,    1.522,2,    0.786,2,    0.099,2,    3.849,2,    5.279,2,   -999.0,9,   4.2787
  18HU19950419, AR13d,    63,  1, 154052,     45,2,19950508, 41.6070, -42.1388, 4888,   1780.0,   3.9216,  34.9404,2,  34.9490,2,    268.9,2,    268.2,2,    11.97,6,    16.66,6,     1.10,6,    1.486,3,    0.668,3,    0.151,3,    6.498,3,    5.710,3,   -999.0,9,   3.7764
  18HU19950419, AR13d,    63,  1, 154051,     44,2,19950508, 41.6070, -42.1388, 4888,   1980.7,   3.6663,  34.9170,2,  34.9260,2,    274.1,2,    274.5,6,    11.99,6,    16.39,6,     1.06,6,    1.593,2,    0.818,2,    0.084,2,    7.218,2,    4.706,2,   -999.0,9,   3.5057
  18HU19950419, AR13d,    63,  1, 154050,     43,2,19950508, 41.6070, -42.1388, 4888,   2146.3,   3.5273,  34.9109,2,  34.9201,2,    277.1,2,    276.6,2,    12.27,6,    16.47,6,     1.06,6,    1.496,2,    0.809,2,    0.086,2,    4.244,2,    5.347,2,   -999.0,9,   3.3529
  18HU19950419, AR13d,    63,  1, 154049,     42,2,19950508, 41.6070, -42.1388, 4888,   2360.1,   3.3584,  34.8957,2,  34.9061,2,    278.2,2,    280.4,2,    12.42,6,    16.40,6,     1.04,6,    1.765,2,    0.801,2,    0.143,2,   11.132,3,    5.802,2,   -999.0,9,   3.1659
  18HU19950419, AR13d,    63,  1, 154048,     41,2,19950508, 41.6070, -42.1388, 4888,   2502.0,   3.3086,  34.8997,2,  34.9079,2,    276.4,2,    279.9,2,    12.65,6,    16.52,6,     1.07,6,    1.674,2,    0.880,2,    0.058,2,   13.628,3,    8.754,4,   -999.0,9,   3.1029
  18HU19950419, AR13d,    63,  1, 154047,     40,2,19950508, 41.6070, -42.1388, 4888,   2693.7,   3.3125,  34.9195,2,  34.9290,2,    273.5,2,    274.5,2,    13.92,6,    16.73,6,     1.10,6,    1.120,2,    0.514,2,    0.066,2,    2.422,2,    3.734,2,   -999.0,9,   3.0872
  18HU19950419, AR13d,    63,  1, 154046,     39,2,19950508, 41.6070, -42.1388, 4888,   2943.8,   3.1505,  34.9229,2,  34.9307,2,    274.8,2,    273.8,2,    14.72,6,    16.13,6,     1.07,6,    0.927,2,    0.621,2,    0.050,2,    4.814,2,    2.605,2,   -999.0,9,   2.9024
  18HU19950419, AR13d,    63,  1, 154045,     38,2,19950508, 41.6070, -42.1388, 4888,   3200.1,   2.9948,  34.9227,2,  34.9337,2,    274.6,2,    273.6,2,    16.06,6,    16.37,6,     1.17,6,    0.790,2,    0.479,2,    0.061,2,    2.289,2,    2.603,2,   -999.0,9,   2.7228
  18HU19950419, AR13d,    63,  1, 154044,     37,2,19950508, 41.6070, -42.1388, 4888,   3395.7,   2.8640,  34.9203,2,  34.9287,0,    273.1,2,    272.0,2,    18.03,6,    16.83,6,     1.12,6,    0.663,2,    0.270,2,    0.044,2,    3.143,2,    1.887,2,   -999.0,9,   2.5740
  18HU19950419, AR13d,    63,  1, 154043,     36,3,19950508, 41.6070, -42.1388, 4888,   3700.9,   2.5920,  34.9079,2,  34.9176,0,    274.9,2,    274.0,2,    20.13,6,    16.70,6,     1.12,6,    0.703,2,    0.297,2,    0.041,2,    3.162,2,    1.959,2,   -999.0,9,   2.2751
  18HU19950419, AR13d,    63,  1, 154042,     35,2,19950508, 41.6070, -42.1388, 4888,   4092.0,   2.3836,  34.8962,2,  34.9059,2,    272.5,2,    273.2,2,    24.10,6,    17.07,6,     1.13,6,    0.629,2,    0.430,2,    0.058,2,    1.837,2,    2.086,2,   -999.0,9,   2.0279
  18HU19950419, AR13d,    63,  1, 154041,     34,2,19950508, 41.6070, -42.1388, 4888,   4395.8,   2.3240,  34.8908,2,  34.8991,2,    272.9,2,    273.4,2,    24.61,6,    17.10,6,     1.13,6,    0.786,2,    0.459,2,    0.038,2,    4.625,2,    2.187,2,   -999.0,9,   1.9345
  18HU19950419, AR13d,    63,  1, 154040,     33,2,19950508, 41.6070, -42.1388, 4888,   4696.4,   2.3056,  34.8862,2,  34.8955,2,    272.9,2,    271.9,2,    26.85,6,    17.37,6,     1.16,6,    0.738,6,    0.427,6,    0.060,6,    3.295,6,    2.467,6,   -999.0,9,   1.8804
  18HU19950419, AR13d,    63,  1, 154039,     31,2,19950508, 41.6070, -42.1388, 4888,   4899.3,   2.2971,  34.8821,2,  34.8908,2,    269.6,2,    268.8,2,    30.57,6,    18.03,6,     1.20,6,    0.589,2,    0.215,2,    0.031,2,    3.156,2,    1.400,2,   -999.0,9,   1.8471
  18HU19950419, AR13d,    63,  1, 154038,     32,2,19950508, 41.6070, -42.1388, 4888,   5008.5,   2.3003,  34.8803,2,  34.8906,2,    267.3,2,    266.7,2,    32.32,6,    18.33,6,     1.30,6,    0.492,2,    0.298,2,    0.051,2,    3.466,2,    1.713,2,   -999.0,9,   1.8364
  18HU19950419, AR13d,    64,  1, 154083,     53,2,19950508, 43.0602, -41.7678, 4855,     12.0,  16.1634,  36.1246,2,  36.1359,2,    250.3,2,    255.3,2,     1.72,6,     1.83,6,     0.15,6,    2.160,2,    1.251,2,    0.159,2,    6.780,2,    3.678,2,   2072.5,2,  16.1615
  18HU19950419, AR13d,    64,  1, 154082,     52,2,19950508, 43.0602, -41.7678, 4855,    202.3,  15.7782,  36.1630,2,  36.1802,2,    236.1,2,    234.2,2,     2.20,6,     4.25,6,     0.21,6,    2.111,2,    1.464,2,    0.157,2,    6.646,2,    9.608,2,   2091.0,2,  15.7462
  18HU19950419, AR13d,    64,  1, 154081,     51,2,19950508, 43.0602, -41.7678, 4855,    404.6,  14.3765,  35.8681,2,  35.8773,2,    216.4,2,    207.3,2,     4.12,6,     8.56,6,     0.56,6,    1.863,2,    0.969,2,    0.127,2,    6.927,2,    2.256,2,   2117.7,2,  14.3161
  18HU19950419, AR13d,    64,  1, 154080,     50,2,19950508, 43.0602, -41.7678, 4855,    508.9,  13.0474,  35.6885,2,  35.6986,2,    211.8,2,    221.0,2,     4.71,6,     9.53,6,     0.56,6,    2.122,6,    1.094,6,    0.146,6,    4.260,6,    4.342,6,   2120.8,6,  12.9760
  18HU19950419, AR13d,    64,  1, 154079,     49,2,19950508, 43.0602, -41.7678, 4855,    761.6,   8.9246,  35.1344,2,  35.1435,2,    180.1,2,    175.0,2,    11.68,6,    19.64,6,     1.25,6,    1.318,2,    0.752,2,    0.062,2,    1.419,2,    1.975,2,   2170.0,2,   8.8394
  18HU19950419, AR13d,    64,  1, 154078,     48,2,19950508, 43.0602, -41.7678, 4855,    907.2,   6.9396,  35.0232,2,  35.0405,2,    196.7,2,    192.2,2,    13.22,6,    19.90,6,     1.29,6,    1.218,2,    0.688,2,    0.105,2,    4.083,2,    1.536,2,   2173.7,2,   6.8506
  18HU19950419, AR13d,    64,  1, 154077,     47,2,19950508, 43.0602, -41.7678, 4855,   1041.9,   5.8678,  35.0273,2,  35.0354,2,    217.3,2,    216.8,2,    12.79,6,    18.55,6,     1.31,6,    1.372,2,    1.019,2,    0.090,2,    9.446,2,    1.942,2,   2171.4,2,   5.7730
  18HU19950419, AR13d,    64,  1, 154076,     46,2,19950508, 43.0602, -41.7678, 4855,   1193.9,   5.1863,  35.0353,2,  35.0429,2,    237.3,2,    237.4,2,    12.44,6,    18.13,6,     1.15,6,    1.448,2,    0.668,2,    0.073,2,    3.249,2,    2.274,2,   2168.1,2,   5.0825
  18HU19950419, AR13d,    64,  1, 154075,     45,2,19950508, 43.0602, -41.7678, 4855,   1394.7,   4.5015,  34.9848,2,  34.9955,2,    255.7,2,    254.6,2,    12.09,6,    17.42,6,     1.12,6,    1.538,2,    0.761,2,    0.123,2,    4.250,2,    3.137,2,   2161.2,2,   4.3855
  18HU19950419, AR13d,    64,  1, 154074,     44,2,19950508, 43.0602, -41.7678, 4855,   1605.8,   4.0277,  34.9445,2,  34.9597,2,    266.0,2,    266.1,2,    11.91,6,    16.79,6,     1.11,6,    1.584,2,    0.836,2,    0.099,2,    2.720,2,    2.892,2,   2157.6,2,   3.8974
  18HU19950419, AR13d,    64,  1, 154073,     43,2,19950508, 43.0602, -41.7678, 4855,   1903.4,   3.6544,  34.9170,2,  34.9248,2,    273.0,2,    274.2,2,    12.07,6,    16.43,6,     1.08,6,    1.126,3,    0.516,2,    0.064,2,   15.386,4,   10.321,4,   2154.9,2,   3.5013
  18HU19950419, AR13d,    64,  1, 154072,     42,2,19950508, 43.0602, -41.7678, 4855,   2201.7,   3.4360,  34.9055,2,  34.9142,2,    278.3,2,    278.9,2,    12.47,6,    16.55,6,     1.08,6,    1.494,2,    0.991,2,    0.139,2,    2.813,2,    2.592,4,   2153.8,2,   3.2577
  18HU19950419, AR13d,    64,  1, 154071,     41,2,19950508, 43.0602, -41.7678, 4855,   2345.1,   3.3361,  34.8999,2,  34.9091,2,    277.9,2,    276.5,2,    12.54,6,    16.61,6,     1.06,6,    1.572,2,    1.157,2,    0.115,2,    6.444,2,    4.891,2,   2155.5,2,   3.1455
  18HU19950419, AR13d,    64,  1, 154070,     40,2,19950508, 43.0602, -41.7678, 4855,   2498.7,   3.1656,  34.8763,2,  34.8855,2,    286.3,2,    286.8,2,    11.82,6,    16.13,6,     1.00,6, -999.000,5, -999.000,5, -999.000,5, -999.000,5, -999.000,5,   2158.2,2,   2.9629
  18HU19950419, AR13d,    64,  1, 154069,     39,2,19950508, 43.0602, -41.7678, 4855,   2794.2,   3.1951,  34.9070,2,  34.9171,0,    279.4,2,   -999.0,9,    13.26,6,    16.00,6,     1.18,6,    1.342,2,    0.761,2,    0.116,2,    3.980,2,    1.930,2,   2153.4,2,   2.9618
  18HU19950419, AR13d,    64,  1, 154068,     38,2,19950508, 43.0602, -41.7678, 4855,   3099.8,   3.0820,  34.9243,2,  34.9345,2,    275.6,2,    276.2,3,    15.92,6,    16.59,6,     1.07,6,    0.742,2,    0.589,2,    0.057,2,    3.556,2,    0.000,2,   2155.3,2,   2.8188
  18HU19950419, AR13d,    64,  1, 154067,     37,2,19950508, 43.0602, -41.7678, 4855,   3398.9,   2.8181,  34.9175,2,  34.9264,2,    275.2,2,    274.3,2,    17.88,6,    16.53,6,     1.08,6,    0.745,2,    0.520,2,    0.106,2,    1.944,2,    0.000,2,   2157.1,2,   2.5288
  18HU19950419, AR13d,    64,  1, 154066,     36,2,19950508, 43.0602, -41.7678, 4855,   3688.0,   2.6021,  34.9087,2,  34.9176,2,    275.3,2,    273.7,2,    20.21,6,    16.49,6,     1.09,6,    0.672,2,    0.474,2,    0.086,2,    4.307,2,    0.000,2,   2160.1,2,   2.2863
  18HU19950419, AR13d,    64,  1, 154065,     35,2,19950508, 43.0602, -41.7678, 4855,   3992.5,   2.4438,  34.8998,2,  34.9075,2,    274.7,2,    274.7,2,    21.93,6,    16.62,6,     1.10,6,    0.730,2,    0.449,2,    0.093,2,    3.000,2,    0.000,2,   2161.7,2,   2.0979
  18HU19950419, AR13d,    64,  1, 154064,     34,2,19950508, 43.0602, -41.7678, 4855,   4294.4,   2.3724,  34.8943,2,  34.9030,2,    274.2,2,    274.2,2,    22.86,6,    16.50,6,     1.12,6,    0.774,2,    0.356,2,    0.079,2,    4.557,2,    0.032,2,   -999.0,5,   1.9934
  18HU19950419, AR13d,    64,  1, 154063,     33,2,19950508, 43.0602, -41.7678, 4855,   4600.4,   2.3420,  34.8902,2,  34.8989,2,    273.7,2,    274.5,6,    25.07,6,    16.63,6,     1.14,6,    0.704,2,    0.590,2,    0.090,2,    6.067,2,    0.000,2,   2166.7,2,   1.9273
  18HU19950419, AR13d,    64,  1, 154062,     31,2,19950508, 43.0602, -41.7678, 4855,   4894.3,   2.3112,  34.8852,2,  34.8934,2,    272.9,2,    271.6,2,    26.09,6,    16.61,6,     1.15,6,    0.807,2,    0.652,2,    0.061,2,    5.105,2,    0.228,2,   2168.4,2,   1.8613
  18HU19950419, AR13d,    64,  1, 154061,     32,2,19950508, 43.0602, -41.7678, 4855,   4968.8,   2.3214,  34.8852,2,  34.8926,2,    273.1,2,    274.2,2,    26.10,6,    16.42,6,     1.24,6,    0.831,2,    0.506,2,    0.071,2,    1.975,2,    0.585,2,   2170.0,6,   1.8618
  18HU19950419, AR13d,    65,  1, 154106,     53,2,19950509, 42.5265, -41.4002, 4840,      9.5,  16.0025,  36.1349,2,  36.1450,2,    141.9,2,    256.2,2,     0.33,6,     1.44,6,     0.11,6, -999.000,9, -999.000,9, -999.000,9, -999.000,9, -999.000,9,   2063.9,2,  16.0010
  18HU19950419, AR13d,    65,  1, 154105,     70,2,19950509, 42.5265, -41.4002, 4840,    104.3,  15.1924,  36.0182,2,  36.0335,2,    233.8,2,    234.8,2,     2.17,6,     4.80,6,     0.29,6, -999.000,9, -999.000,9, -999.000,9, -999.000,9, -999.000,9,   2089.3,2,  15.1764
  18HU19950419, AR13d,    65,  1, 154104,     51,2,19950509, 42.5265, -41.4002, 4840,    313.0,  12.5583,  35.6161,2,  35.6287,2,    216.6,2,    219.0,2,     5.08,6,    10.67,6,     0.66,6, -999.000,9, -999.000,9, -999.000,9, -999.000,9, -999.000,9,   2125.7,2,  12.5158
  18HU19950419, AR13d,    65,  1, 154103,     50,2,19950509, 42.5265, -41.4002, 4840,    605.6,   8.2041,  35.0662,2,  35.0776,2,    178.8,2,    177.2,2,    12.49,6,    19.86,6,     1.25,6, -999.000,9, -999.000,9, -999.000,9, -999.000,9, -999.000,9,   2171.6,2,   8.1402
  18HU19950419, AR13d,    65,  1, 154102,     49,2,19950509, 42.5265, -41.4002, 4840,    806.3,   6.1200,  34.9981,2,  35.0069,2,    207.1,2,    208.9,2,    12.75,6,    19.18,6,     1.28,6, -999.000,9, -999.000,9, -999.000,9, -999.000,9, -999.000,9,   2173.2,2,   6.0464
  18HU19950419, AR13d,    65,  1, 154101,     48,2,19950509, 42.5265, -41.4002, 4840,   1015.9,   5.2005,  35.0333,2,  35.0425,2,    234.2,2,    235.5,2,    12.15,6,    18.07,6,     1.25,6, -999.000,9, -999.000,9, -999.000,9, -999.000,9, -999.000,9,   2167.8,2,   5.1133
  18HU19950419, AR13d,    65,  1, 154100,     47,2,19950509, 42.5265, -41.4002, 4840,   1216.4,   4.5763,  34.9928,2,  35.5004,3,    249.7,2,    238.0,2,     7.12,4,    11.14,4,     0.72,4, -999.000,9, -999.000,9, -999.000,9, -999.000,9, -999.000,9,   2132.8,4,   4.4760
  18HU19950419, AR13d,    65,  1, 154099,     46,2,19950509, 42.5265, -41.4002, 4840,   1510.9,   3.9412,  34.9332,2,  34.9695,3,    267.2,2,    261.7,2,    11.79,6,    16.86,6,     1.12,6, -999.000,9, -999.000,9, -999.000,9, -999.000,9, -999.000,9,   2161.7,2,   3.8207
  18HU19950419, AR13d,    65,  1, 154098,     45,2,19950509, 42.5265, -41.4002, 4840,   1706.1,   3.7059,  34.9132,2,  34.9213,2,    274.5,2,    274.8,2,    11.53,6,    16.38,6,     1.10,6, -999.000,9, -999.000,9, -999.000,9, -999.000,9, -999.000,9,   2156.7,2,   3.5705
  18HU19950419, AR13d,    65,  1, 154097,     44,2,19950509, 42.5265, -41.4002, 4840,   2047.4,   3.4142,  34.8927,2,  34.9016,2,    277.6,2,    280.8,2,    11.67,6,    16.46,6,     1.08,6, -999.000,9, -999.000,9, -999.000,9, -999.000,9, -999.000,9,   2155.5,2,   3.2511
  18HU19950419, AR13d,    65,  1, 154096,     43,2,19950509, 42.5265, -41.4002, 4840,   2251.8,   3.3818,  34.9012,2,  34.9107,2,    279.9,2,    277.2,2,    12.49,6,    16.14,6,     1.07,6, -999.000,9, -999.000,9, -999.000,9, -999.000,9, -999.000,9,   2154.2,2,   3.1995
  18HU19950419, AR13d,    65,  1, 154095,     42,2,19950509, 42.5265, -41.4002, 4840,   2452.8,   3.2317,  34.8881,2,  34.8973,2,    283.5,2,    282.6,2,    12.06,6,    15.89,6,     1.06,6, -999.000,9, -999.000,9, -999.000,9, -999.000,9, -999.000,9,   2153.5,2,   3.0324
  18HU19950419, AR13d,    65,  1, 154094,     41,2,19950509, 42.5265, -41.4002, 4840,   2708.0,   3.2662,  34.9153,2,  34.9258,2,    277.1,2,    274.3,2,    13.59,6,    16.63,6,     1.09,6, -999.000,9, -999.000,9, -999.000,9, -999.000,9, -999.000,9,   2156.0,2,   3.0403
  18HU19950419, AR13d,    65,  1, 154093,     40,2,19950509, 42.5265, -41.4002, 4840,   3007.3,   3.1416,  34.9253,2,  34.9357,2,    272.8,2,    272.7,2,    15.45,6,    16.50,6,     1.18,6, -999.000,9, -999.000,9, -999.000,9, -999.000,9, -999.000,9,   2158.1,2,   2.8870
  18HU19950419, AR13d,    65,  1, 154092,     39,2,19950509, 42.5265, -41.4002, 4840,   3297.7,   2.9015,  34.9205,2,  34.9292,2,    273.1,2,    273.1,2,    17.27,6,    16.45,6,     1.09,6, -999.000,9, -999.000,9, -999.000,9, -999.000,9, -999.000,9,   2169.9,4,   2.6212
  18HU19950419, AR13d,    65,  1, 154091,     38,2,19950509, 42.5265, -41.4002, 4840,   3549.7,   2.7019,  34.9130,2,  34.9225,2,    272.8,2,    274.5,2,    18.98,6,    16.22,6,     1.11,6, -999.000,9, -999.000,9, -999.000,9, -999.000,9, -999.000,9,   2142.5,4,   2.3989
  18HU19950419, AR13d,    65,  1, 154090,     37,2,19950509, 42.5265, -41.4002, 4840,   3799.7,   2.5287,  34.9047,2,  34.9138,2,    273.4,2,    274.0,2,    20.49,6,    16.65,6,     1.11,6, -999.000,9, -999.000,9, -999.000,9, -999.000,9, -999.000,9,   2162.4,2,   2.2023
  18HU19950419, AR13d,    65,  1, 154089,     36,2,19950509, 42.5265, -41.4002, 4840,   3999.4,   2.4489,  34.8998,2,-999.0000,9,    273.6,2,    274.5,2,    21.67,6,    16.60,6,     1.10,6, -999.000,9, -999.000,9, -999.000,9, -999.000,9, -999.000,9,   2164.0,2,   2.1021
  18HU19950419, AR13d,    65,  1, 154088,     35,2,19950509, 42.5265, -41.4002, 4840,   4181.7,   2.3884,  34.8958,2,  34.9048,2,    273.5,2,    274.5,2,    22.63,6,    16.37,6,     1.10,6, -999.000,9, -999.000,9, -999.000,9, -999.000,9, -999.000,9,   2165.2,2,   2.0222
  18HU19950419, AR13d,    65,  1, 154087,     34,2,19950509, 42.5265, -41.4002, 4840,   4413.4,   2.3384,  34.8916,2,  34.9012,2,    273.5,2,    274.2,2,    23.53,6,    16.79,6,     1.12,6, -999.000,9, -999.000,9, -999.000,9, -999.000,9, -999.000,9,   2168.1,6,   1.9463
  18HU19950419, AR13d,    65,  1, 154086,     33,2,19950509, 42.5265, -41.4002, 4840,   4652.2,   2.3197,  34.8882,2,  34.8963,2,    272.8,2,    270.2,2,    25.33,6,    17.09,6,     1.13,6, -999.000,9, -999.000,9, -999.000,9, -999.000,9, -999.000,9,   2168.4,2,   1.8994
  18HU19950419, AR13d,    65,  1, 154085,     31,2,19950509, 42.5265, -41.4002, 4840,   4831.7,   2.3015,  34.8851,2,  34.8946,0,    271.8,2,    272.5,2,    26.56,6,    16.84,6,     1.23,6, -999.000,9, -999.000,9, -999.000,9, -999.000,9, -999.000,9,   2170.3,2,   1.8598
  18HU19950419, AR13d,    65,  1, 154084,     32,2,19950509, 42.5265, -41.4002, 4840,   4949.7,   2.3143,  34.8851,2,  34.8941,2,    272.5,2,    273.3,6,    25.92,6,    16.59,6,     1.22,6, -999.000,9, -999.000,9, -999.000,9, -999.000,9, -999.000,9,   2167.9,2,   1.8574