BOTTLE,20220817CCHSIOAMB
EXPOCODE,SECT_ID,STNNBR,CASTNO,SAMPNO,BTLNBR,BTLNBR_FLAG_W,DATE,LATITUDE,LONGITUDE,DEPTH,CTDPRS,CTDTMP,CTDSAL,CTDSAL_FLAG_W,SALNTY,SALNTY_FLAG_W,CTDOXY,CTDOXY_FLAG_W,OXYGEN,OXYGEN_FLAG_W,SILCAT,SILCAT_FLAG_W,NITRAT,NITRAT_FLAG_W,PHSPHT,PHSPHT_FLAG_W,CFC-11,CFC-11_FLAG_W,CFC-12,CFC-12_FLAG_W,CFC113,CFC113_FLAG_W,CCL4,CCL4_FLAG_W,MCHFRM,MCHFRM_FLAG_W,TCARBN,TCARBN_FLAG_W,THETA
,,,,,,,,,,METERS,DBAR,ITS-90,PSS-78,,PSS-78,,UMOL/KG,,UMOL/KG,,UMOL/KG,,UMOL/KG,,UMOL/KG,,PMOL/KG,,PMOL/KG,,PMOL/KG,,PMOL/KG,,PMOL/KG,,UMOL/KG,,DEG C
  18HU19950419, AR13d,    30,  1, 153527,     51,2,19950429, 40.7345, -42.8268, 4921,     23.1,  16.5704,  36.2997,2,  36.3160,2,    233.0,2,    234.5,2,     1.71,6,     3.15,6,     0.20,6,    2.046,2,    1.842,3,    0.068,2,    7.446,2,    5.031,2,   2084.1,2,  16.5666
  18HU19950419, AR13d,    30,  1, 153526,     50,2,19950429, 40.7345, -42.8268, 4921,    395.3,  15.3292,  36.0566,2,  36.0683,2,    227.4,2,    231.0,2,     2.51,6,     5.86,6,     0.30,6,    2.287,2,    0.000,3, -999.000,5,    8.300,2,    6.608,2,   2098.2,2,  15.2676
  18HU19950419, AR13d,    30,  1, 153525,     49,2,19950429, 40.7345, -42.8268, 4921,    792.4,   9.9509,  35.2838,2,  35.1922,2,    176.4,2,    184.8,2,    11.81,6,    20.47,6,     1.25,6,    1.172,2,    0.591,2,    0.000,3,    1.814,2,    2.774,2,   2168.0,2,   9.8562
  18HU19950419, AR13d,    30,  1, 153524,     48,2,19950429, 40.7345, -42.8268, 4921,    896.4,   7.8444,  35.0600,2,  35.1944,2,    180.1,2,    180.2,2,    13.04,6,    21.37,6,     1.36,6,    1.194,2,    0.917,2,    0.000,3,    8.492,2,    3.264,2,   2173.1,2,   7.7504
  18HU19950419, AR13d,    30,  1, 153523,     47,2,19950429, 40.7345, -42.8268, 4921,   1004.6,   7.4971,  35.1970,2,  35.2103,2,    192.3,2,    193.0,2,    12.70,6,    20.96,6,     1.35,6,    1.145,2,    0.000,3, -999.000,5,    1.382,2,    4.219,2,   2176.1,2,   7.3936
  18HU19950419, AR13d,    30,  1, 153522,     46,3,19950429, 40.7345, -42.8268, 4921,   1201.1,   6.0770,  35.1703,2,  35.1804,2,    220.3,2,    223.9,2,    12.43,6,    20.00,6,     1.16,6,    1.060,2,    0.789,2,    0.000,3,    6.462,2,    2.811,2,   2172.1,2,   5.9642
  18HU19950419, AR13d,    30,  1, 153521,     45,2,19950429, 40.7345, -42.8268, 4921,   1403.1,   4.9554,  35.0484,2,  35.0565,2,    246.1,2,    245.1,2,    12.20,6,    19.31,6,     1.14,6,    1.270,2,    0.796,2,    0.000,3,    3.768,2,    3.833,2,   2167.4,2,   4.8337
  18HU19950419, AR13d,    30,  1, 153520,     44,2,19950429, 40.7345, -42.8268, 4921,   1611.1,   4.4266,  35.0004,2,  35.0123,2,    255.2,2,    256.6,2,    12.28,6,    18.63,6,     1.13,6,    1.242,6,    0.628,6,    0.033,6,    2.982,6,    2.388,6,   2158.2,2,   4.2909
  18HU19950419, AR13d,    30,  1, 153519,     43,2,19950429, 40.7345, -42.8268, 4921,   1812.1,   3.9807,  34.9501,2,  34.9598,0,    264.0,2,    263.5,2,    12.24,6,    18.35,6,     1.12,6,    1.300,2,    0.591,2,    0.000,3,    2.640,2,    3.824,2,   2153.0,2,   3.8317
  18HU19950419, AR13d,    30,  1, 153518,     42,2,19950429, 40.7345, -42.8268, 4921,   2110.6,   3.6742,  34.9258,2,  34.9357,2,    269.6,2,    273.1,2,    12.61,6,    18.48,6,     1.13,6,    1.209,2,    0.571,2,    0.000,3,    6.733,2,    3.090,2,   2154.8,2,   3.5009
  18HU19950419, AR13d,    30,  1, 153517,     41,2,19950429, 40.7345, -42.8268, 4921,   2391.6,   3.5078,  34.9248,2,  34.9342,2,    270.5,2,    273.4,2,    13.39,6,    18.23,6,     1.11,6,    1.026,2,    0.842,2,    0.000,3,    4.288,2,    2.988,2,   2155.5,2,   3.3095
  18HU19950419, AR13d,    30,  1, 153516,     40,2,19950429, 40.7345, -42.8268, 4921,   2700.9,   3.4001,  34.9404,2,  34.9503,2,    268.1,2,    268.3,2,    15.85,6,    18.21,6,     1.15,6,    0.624,2,    0.501,2,    0.000,3,    2.011,2,    1.250,2,   2156.4,2,   3.1722
  18HU19950419, AR13d,    30,  1, 153515,     39,2,19950429, 40.7345, -42.8268, 4921,   3002.1,   3.2312,  34.9496,2,  34.9580,2,    259.5,2,    259.6,3,    21.30,6,    19.45,6,     1.27,3, -999.000,5, -999.000,5, -999.000,5, -999.000,5, -999.000,5,   2163.1,2,   2.9751
  18HU19950419, AR13d,    30,  1, 153514,     38,2,19950429, 40.7345, -42.8268, 4921,   3308.3,   2.9843,  34.9309,2,  34.9395,0,    268.3,2,    266.7,2,    20.79,6,    18.67,6,     1.18,6,    0.385,2,    0.446,2,    0.000,3,    5.245,2,    0.733,2,   2161.1,2,   2.7009
  18HU19950419, AR13d,    30,  1, 153513,     37,2,19950429, 40.7345, -42.8268, 4921,   3501.9,   2.7991,  34.9196,2,  34.9224,2,    268.6,2,    270.8,2,    21.42,6,    18.12,6,     1.16,6,    0.566,2,    0.467,2,    0.000,3,    2.349,2,    1.699,2,   2162.2,2,   2.4989
  18HU19950419, AR13d,    30,  1, 153512,     36,2,19950429, 40.7345, -42.8268, 4921,   3800.2,   2.5637,  34.9052,2,  34.9140,2,    273.1,2,    274.1,2,    19.75,6,    18.11,6,     1.15,6,    0.770,2,    0.107,2,    0.000,3,    4.079,2,    2.198,2,   2159.4,2,   2.2363
  18HU19950419, AR13d,    30,  1, 153511,     35,2,19950429, 40.7345, -42.8268, 4921,   4103.8,   2.4155,  34.8972,2,  34.9059,2,    273.5,2,    274.5,2,    21.77,6,    18.22,6,     1.15,6,    0.738,2,    0.623,2,    0.000,3,    2.746,2,    2.003,2,   2163.5,2,   2.0575
  18HU19950419, AR13d,    30,  1, 153510,     34,2,19950429, 40.7345, -42.8268, 4921,   4404.9,   2.3422,  34.8912,2,  34.9016,2,    273.9,2,    273.7,6,    23.77,6,    18.04,6,     1.16,6,    0.806,2,    0.558,2,    0.000,3,    3.569,2,    2.018,2,   2164.3,2,   1.9510
  18HU19950419, AR13d,    30,  1, 153509,     33,2,19950429, 40.7345, -42.8268, 4921,   4701.8,   2.3219,  34.8880,2,  34.8975,2,    274.5,2,    274.2,2,    24.25,6,    17.89,6,     1.18,6,    0.875,2,    0.241,2,    0.000,3,    8.434,2,    2.754,2,   2165.6,2,   1.8955
  18HU19950419, AR13d,    30,  1, 153508,     31,2,19950429, 40.7345, -42.8268, 4921,   4895.7,   2.2984,  34.8827,2,  34.8924,2,    271.9,2,    270.2,2,    28.40,6,    18.66,6,     1.24,6,    0.708,2,    0.686,3,    0.000,3,    2.151,2,    2.089,2,   2171.7,2,   1.8488
  18HU19950419, AR13d,    30,  1, 153507,     32,2,19950429, 40.7345, -42.8268, 4921,   4984.7,   2.2790,  34.8775,2,  34.8873,2,    267.0,2,    263.9,2,    33.40,6,    19.89,6,     1.42,6,    0.488,2,    0.193,2,    0.000,3,    2.432,2,    1.183,2,   2178.3,6,   1.8189
  18HU19950419, AR13d,    31,  1, 153552,     53,2,19950430, 41.1593, -42.4797, 4888,     16.7,  16.6966,  36.3179,2,  36.3299,2,    226.9,2,    233.3,2,     1.54,6,     3.07,6,     0.19,6,    2.210,2,    0.914,2,    0.087,2, -999.000,5,    1.454,2,   2082.6,2,  16.6939
  18HU19950419, AR13d,    31,  1, 153551,     52,2,19950430, 41.1593, -42.4797, 4888,    196.4,  16.7080,  36.3120,2,  36.3237,2,    231.9,2,    233.2,2,     1.62,6,     3.18,6,     0.20,6,    2.242,2,    1.083,2,    0.147,2,    3.225,2,    0.442,2,   2083.2,2,  16.6757
  18HU19950419, AR13d,    31,  1, 153550,     51,2,19950430, 41.1593, -42.4797, 4888,    431.2,  15.8332,  36.1582,2,  36.2400,2,    224.4,2,    231.9,2,     1.92,6,     4.07,6,     0.25,6,    2.236,2,    0.967,2,    0.087,2,    5.366,2,    1.364,2,   2090.2,2,  15.7643
  18HU19950419, AR13d,    31,  1, 153549,     50,2,19950430, 41.1593, -42.4797, 4888,    677.6,  13.4285,  35.7496,2,  35.7598,2,    193.8,2,    229.7,2,     3.89,6,     8.90,6,     0.60,6,    2.308,2,    1.136,2,    0.073,2,    7.635,2,    1.445,2,   2114.2,2,  13.3310
  18HU19950419, AR13d,    31,  1, 153548,     49,2,19950430, 41.1593, -42.4797, 4888,    827.3,  10.5560,  35.3410,2,  35.2182,2,    155.5,2,    178.4,2,    11.29,6,    19.90,6,     1.23,6,    1.307,2,    0.635,2,    0.115,2,    3.133,2,    0.000,4,   2166.0,2,  10.4534
  18HU19950419, AR13d,    31,  1, 153547,     48,2,19950430, 41.1593, -42.4797, 4888,    999.5,   7.9151,  35.1504,2,  35.1293,2,    183.4,2,    190.0,2,    12.52,6,    20.92,6,     1.30,6,    1.200,2,    0.474,2,    0.041,2,    2.401,2,    0.000,4,   2173.7,2,   7.8092
  18HU19950419, AR13d,    31,  1, 153546,     47,2,19950430, 41.1593, -42.4797, 4888,   1124.7,   6.4471,  35.0713,2,  35.0795,2,    201.4,2,    206.7,2,    12.66,6,    20.28,6,     1.28,6,    1.327,2,    0.475,2,    0.032,2,    5.107,2,    0.000,4,   2172.0,2,   6.3392
  18HU19950419, AR13d,    31,  1, 153545,     46,2,19950430, 41.1593, -42.4797, 4888,   1295.6,   5.6544,  35.0967,2,  35.1067,2,    226.8,2,    220.8,2,    12.63,6,    19.58,6,     1.27,6,    1.305,2,    0.527,2,    0.090,2,    2.756,2,    0.000,4,   2172.4,2,   5.5361
  18HU19950419, AR13d,    31,  1, 153544,     45,4,19950430, 41.1593, -42.4797, 4888,   1701.7,   4.2608,  34.9777,2,  35.6905,3,    259.2,2,    246.3,4,     6.94,4,    10.82,4,     0.66,4,    1.557,4,    0.591,4,    0.067,4,    3.178,4,    0.140,4,   2128.5,4,   4.1186
  18HU19950419, AR13d,    31,  1, 153543,     44,2,19950430, 41.1593, -42.4797, 4888,   2007.6,   3.6673,  34.9146,2,  34.9557,3,    272.4,2,    268.8,2,    12.07,6,    18.29,6,     1.13,6,    1.477,2,    0.619,2,    0.067,2,    4.300,2,    0.000,4,   2157.3,2,   3.5040
  18HU19950419, AR13d,    31,  1, 153542,     43,2,19950430, 41.1593, -42.4797, 4888,   2263.3,   3.4616,  34.9022,2,  34.9138,2,    276.9,2,    278.7,2,    12.42,6,    17.62,6,     1.12,6,    1.673,2,    0.681,2,    0.090,2,    6.525,2,    0.072,4,   2153.7,2,   3.2769
  18HU19950419, AR13d,    31,  1, 153541,     42,2,19950430, 41.1593, -42.4797, 4888,   2473.3,   3.3849,  34.9094,2,  34.9199,2,    277.1,2,    276.6,2,    13.07,6,    17.42,6,     1.17,6,    1.398,2,    0.533,2,    0.064,2,    8.757,2,    0.000,4,   2153.6,2,   3.1807
  18HU19950419, AR13d,    31,  1, 153540,     41,2,19950430, 41.1593, -42.4797, 4888,   2811.1,   3.3107,  34.9336,2,  34.9453,2,    270.1,2,    269.3,2,    15.85,6,    17.87,6,     1.14,6,    0.558,2, -999.000,5, -999.000,5,    6.074,2,    0.000,4,   2157.2,2,   3.0732
  18HU19950419, AR13d,    31,  1, 153539,     40,2,19950430, 41.1593, -42.4797, 4888,   2992.7,   3.1718,  34.9338,2,  34.9445,2,    267.9,2,    268.8,2,    17.19,6,    18.36,6,     1.14,6,    0.428,2,    0.267,2,    0.016,2,    5.565,2,    0.000,2,   2158.4,2,   2.9180
  18HU19950419, AR13d,    31,  1, 153538,     39,2,19950430, 41.1593, -42.4797, 4888,   3200.6,   3.0000,  34.9281,2,  34.9388,2,    268.4,2,    269.3,2,    18.48,6,    18.15,6,     1.17,6,    0.438,6,    0.213,6,    0.005,6,    3.547,6,    0.278,6,   2160.0,2,   2.7278
  18HU19950419, AR13d,    31,  1, 153537,     38,2,19950430, 41.1593, -42.4797, 4888,   3545.5,   2.7022,  34.9130,2,  34.9229,2,    272.3,2,    273.6,2,    19.48,6,    17.70,6,     1.14,6,    0.640,2,    0.223,2,    0.060,2,    5.136,2,    0.000,2,   2159.4,2,   2.3996
  18HU19950419, AR13d,    31,  1, 153536,     37,2,19950430, 41.1593, -42.4797, 4888,   3770.4,   2.5411,  34.9057,2,  34.9119,2,    271.5,2,    272.0,2,    23.26,6,    18.61,6,     1.17,6,    0.512,2,    0.217,2,    0.000,2,    2.450,2,    0.000,2,   2163.6,2,   2.2177
  18HU19950419, AR13d,    31,  1, 153535,     36,2,19950430, 41.1593, -42.4797, 4888,   3997.5,   2.4221,  34.8980,2,  34.9089,2,    272.1,2,    272.0,2,    23.40,6,    18.30,6,     1.19,6,    0.567,2,    0.318,2,    0.011,2,    4.758,2,    0.000,4,   2166.2,2,   2.0762
  18HU19950419, AR13d,    31,  1, 153534,     35,2,19950430, 41.1593, -42.4797, 4888,   4196.1,   2.3577,  34.8931,2,  34.9052,2,    272.1,2,    271.9,2,    25.12,6,    18.07,6,     1.18,6,    0.567,2,    0.142,2,    0.039,2,    4.917,2,    0.000,4,   2161.7,6,   1.9907
  18HU19950419, AR13d,    31,  1, 153533,     34,2,19950430, 41.1593, -42.4797, 4888,   4405.0,   2.3239,  34.8894,2,  34.8995,2,    271.6,2,    271.8,2,    26.14,6,    18.49,6,     1.31,6,    0.635,2,    0.208,2,    0.043,2,    1.586,2,    0.000,4,   2167.6,2,   1.9333
  18HU19950419, AR13d,    31,  1, 153532,     33,2,19950430, 41.1593, -42.4797, 4888,   4698.4,   2.3096,  34.8858,2,  34.8953,2,    271.1,2,    271.0,2,    27.82,6,    18.73,6,     1.19,6,    0.649,2,    0.288,2,    0.000,2,    3.145,2,    0.000,2,   2169.9,2,   1.8840
  18HU19950419, AR13d,    31,  1, 153531,     31,2,19950430, 41.1593, -42.4797, 4888,   4893.3,   2.2980,  34.8812,2,  34.8908,2,    269.6,2,    268.1,6,    30.92,6,    19.69,6,     1.23,6,    0.494,2,    0.156,2,    0.055,2,    4.328,2,    0.000,2,   2175.2,2,   1.8487
  18HU19950419, AR13d,    31,  1, 153530,     32,2,19950430, 41.1593, -42.4797, 4888,   5003.5,   2.3045,  34.8802,2,  34.8904,0,    268.1,2,    267.0,2,    31.44,6,    19.21,6,     1.31,6,    0.482,2,    0.202,2,    0.050,2,    5.654,2,    0.000,2,   2176.7,2,   1.8412
  18HU19950419, AR13d,    32,  1, 153575,     53,2,19950430, 41.3560, -43.0503, 4893,      9.4,  16.4773,  36.2630,2,  36.2745,2,    230.0,2,    234.6,2,     1.53,6,     3.30,6,     0.20,6,    2.028,2,    0.637,2,    0.124,2,    3.044,2,    5.911,2,   2081.5,2,  16.4758
  18HU19950419, AR13d,    32,  1, 153574,     52,2,19950430, 41.3560, -43.0503, 4893,     97.4,  16.4843,  36.2624,2,  36.2732,2,    231.3,2,    233.7,2,     1.58,6,     3.31,6,     0.20,6,    2.044,2,    0.842,2,    0.144,2,    2.467,2,    5.567,2,   2082.2,2,  16.4685
  18HU19950419, AR13d,    32,  1, 153573,     51,2,19950430, 41.3560, -43.0503, 4893,    298.1,  16.4726,  36.2545,2,  36.2645,2,    234.7,2,    233.2,6,     1.59,6,     3.41,6,     0.23,6,    2.005,2,    0.817,2,    0.147,2,    3.307,2,    5.698,2,   2084.4,2,  16.4239
  18HU19950419, AR13d,    32,  1, 153572,     50,2,19950430, 41.3560, -43.0503, 4893,    494.0,  15.4939,  36.0834,2,  36.0990,2,    227.0,2,    226.4,2,     2.50,6,     5.94,6,     0.37,6,    2.110,6,    1.107,6,    0.130,6,    2.761,6,    4.444,6,   2095.9,2,  15.4161
  18HU19950419, AR13d,    32,  1, 153571,     49,2,19950430, 41.3560, -43.0503, 4893,    692.4,  12.4377,  35.6236,2,  35.4225,2,    199.7,2,    198.8,2,     8.48,6,    16.36,6,     1.05,6,    1.330,2,    0.370,2,    0.073,2,    5.619,2,    3.451,2,   2152.3,2,  12.3430
  18HU19950419, AR13d,    32,  1, 153570,     48,2,19950430, 41.3560, -43.0503, 4893,    898.4,   9.5350,  35.2944,2,  35.3064,2,    180.6,2,    179.5,2,    10.54,6,    19.29,6,     1.23,6,    1.136,2,    0.254,2,    0.042,2,    0.664,2,    2.639,2,   2167.3,2,   9.4296
  18HU19950419, AR13d,    32,  1, 153569,     47,2,19950430, 41.3560, -43.0503, 4893,    998.8,   8.0253,  35.1531,2,  35.1600,2,    180.7,2,    181.2,2,    12.56,6,    21.34,6,     1.37,6,    0.981,2,    0.254,2,    0.086,2,    3.879,2,    2.750,2,   2174.3,2,   7.9186
  18HU19950419, AR13d,    32,  1, 153568,     46,2,19950430, 41.3560, -43.0503, 4893,   1203.6,   6.2487,  35.1325,2,  35.1539,2,    215.0,2,    203.4,2,    12.34,6,    19.77,6,     1.27,6,    1.087,2,    0.197,2,    0.086,2,    1.693,2,    3.345,2,   2171.9,2,   6.1342
  18HU19950419, AR13d,    32,  1, 153567,     45,2,19950430, 41.3560, -43.0503, 4893,   1404.6,   4.8138,  35.0045,2,  35.0141,2,    246.8,2,    245.9,2,    11.97,6,    19.04,6,     1.21,6,    1.473,2,    0.379,2,    0.098,2,    3.864,2,    4.348,2,   2162.5,2,   4.6935
  18HU19950419, AR13d,    32,  1, 153566,     44,2,19950430, 41.3560, -43.0503, 4893,   1612.4,   4.3728,  34.9805,2,  34.9986,2,    257.9,2,    253.1,2,    11.86,6,    18.55,6,     1.19,6,    1.417,2,    0.516,2,    0.085,2,    5.007,2,    4.447,2,   2166.4,2,   4.2377
  18HU19950419, AR13d,    32,  1, 153565,     43,3,19950430, 41.3560, -43.0503, 4893,   1796.5,   4.0144,  34.9492,2,  34.9626,2,    263.9,2,    266.5,2,    11.91,6,    17.85,6,     1.18,6,    1.514,2,    0.857,2,    0.086,2,    6.189,2,    5.411,2,   2161.6,2,   3.8664
  18HU19950419, AR13d,    32,  1, 153564,     42,2,19950430, 41.3560, -43.0503, 4893,   2001.9,   3.7349,  34.9231,2,  34.9323,0,    270.5,2,    272.2,2,    12.02,6,    17.76,6,     1.17,6,    1.369,2,    0.608,2,    0.062,2,    5.970,2,    3.980,2,   2156.2,2,   3.5712
  18HU19950419, AR13d,    32,  1, 153563,     41,2,19950430, 41.3560, -43.0503, 4893,   2212.3,   3.5418,  34.9085,2,  34.9169,2,    275.1,2,    276.1,2,    12.08,6,    17.87,6,     1.15,6,    1.440,2,    0.625,2,    0.071,2,    3.953,2,    4.554,2,   2154.2,2,   3.3607
  18HU19950419, AR13d,    32,  1, 153562,     40,2,19950430, 41.3560, -43.0503, 4893,   2507.7,   3.3494,  34.8974,2,  34.9091,2,    280.7,2,    279.9,2,    12.14,6,    17.47,6,     1.12,6,    1.563,2,    0.491,2,    0.074,2,    3.621,2,    4.995,2,   2153.4,2,   3.1424
  18HU19950419, AR13d,    32,  1, 153561,     39,2,19950430, 41.3560, -43.0503, 4893,   2790.8,   3.2596,  34.9078,2,  34.9163,2,    276.1,2,    277.5,2,    13.29,6,    17.14,6,     1.16,6,    1.284,2,    0.499,2,    0.069,2,    6.059,2,    3.842,2,   2152.6,2,   3.0253
  18HU19950419, AR13d,    32,  1, 153560,     38,2,19950430, 41.3560, -43.0503, 4893,   3085.9,   3.1385,  34.9253,2,  34.9346,2,    272.9,2,    272.2,2,    15.36,6,    17.58,6,     1.14,6,    0.724,2,    0.233,2,    0.065,2,    4.507,2,    2.013,2,   2154.8,2,   2.8756
  18HU19950419, AR13d,    32,  1, 153559,     37,2,19950430, 41.3560, -43.0503, 4893,   3392.8,   2.9587,  34.9284,2,  34.9276,2,    268.0,2,    271.6,2,    19.24,6,    17.55,6,     1.18,6,    0.584,2,    0.000,2,    0.022,2,    2.822,2,    1.506,2,   2159.3,2,   2.6667
  18HU19950419, AR13d,    32,  1, 153558,     36,2,19950430, 41.3560, -43.0503, 4893,   3708.1,   2.6732,  34.9107,2,  34.9197,2,    273.9,2,    273.2,2,    19.09,6,    17.85,6,     1.16,6,    0.691,2,    0.153,2,    0.061,2,    1.920,2,    1.731,2,   2158.9,2,   2.3533
  18HU19950419, AR13d,    32,  1, 153557,     35,2,19950430, 41.3560, -43.0503, 4893,   4013.9,   2.4796,  34.9006,2,  34.9089,2,    273.4,2,    273.2,2,    21.28,6,    17.90,6,     1.19,6,    0.672,2,    0.286,2,    0.077,2,    3.097,2,    1.842,2,   2159.6,2,   2.1302
  18HU19950419, AR13d,    32,  1, 153556,     34,2,19950430, 41.3560, -43.0503, 4893,   4284.3,   2.3815,  34.8944,2,  34.9032,2,    273.2,2,    273.8,2,    22.60,6,    17.74,6,     1.18,6,    0.987,3,    0.647,3,    0.123,2,    3.791,2,    2.650,2,   2161.1,2,   2.0034
  18HU19950419, AR13d,    32,  1, 153555,     33,2,19950430, 41.3560, -43.0503, 4893,   4585.8,   2.3349,  34.8889,2,  34.8971,2,    272.2,2,    271.8,2,    25.75,6,    17.87,6,     1.22,6,    0.644,2,    0.091,2,    0.077,2,    3.749,2,    1.708,2,   2166.3,2,   1.9222
  18HU19950419, AR13d,    32,  1, 153554,     31,2,19950430, 41.3560, -43.0503, 4893,   4907.7,   2.3133,  34.8837,2,  34.8930,2,    271.1,2,    270.4,2,    28.00,6,    18.56,6,     1.22,6,    0.657,2,    0.369,2,    0.074,2,    1.861,2,    1.982,2,   2169.0,2,   1.8617
  18HU19950419, AR13d,    32,  1, 153553,     32,2,19950430, 41.3560, -43.0503, 4893,   5017.1,   2.3117,  34.8816,2,  34.8939,2,    268.7,2,    267.9,2,    29.97,6,    18.85,6,     1.28,6,    0.766,2,    1.097,3,    0.145,3,    4.850,2,    2.134,2,   2171.6,6,   1.8464