BOTTLE,20220817CCHSIOAMB
EXPOCODE,SECT_ID,STNNBR,CASTNO,SAMPNO,BTLNBR,BTLNBR_FLAG_W,DATE,LATITUDE,LONGITUDE,DEPTH,CTDPRS,CTDTMP,CTDSAL,CTDSAL_FLAG_W,SALNTY,SALNTY_FLAG_W,CTDOXY,CTDOXY_FLAG_W,OXYGEN,OXYGEN_FLAG_W,SILCAT,SILCAT_FLAG_W,NITRAT,NITRAT_FLAG_W,PHSPHT,PHSPHT_FLAG_W,CFC-11,CFC-11_FLAG_W,CFC-12,CFC-12_FLAG_W,CFC113,CFC113_FLAG_W,CCL4,CCL4_FLAG_W,MCHFRM,MCHFRM_FLAG_W,TCARBN,TCARBN_FLAG_W,THETA
,,,,,,,,,,METERS,DBAR,ITS-90,PSS-78,,PSS-78,,UMOL/KG,,UMOL/KG,,UMOL/KG,,UMOL/KG,,UMOL/KG,,PMOL/KG,,PMOL/KG,,PMOL/KG,,PMOL/KG,,PMOL/KG,,UMOL/KG,,DEG C
  18HU19950419, AR13d,    33,  1, 153598,     53,2,19950501, 41.5577, -43.5928, 4888,     10.8,  16.9305,  36.3658,2,  36.3772,0,    218.7,2,    230.9,2,     1.38,6,     2.84,6,     0.19,6,    2.168,2,    1.262,2,    0.182,2, -999.000,5,    7.330,2,   2083.0,2,  16.9287
  18HU19950419, AR13d,    33,  1, 153597,     52,2,19950501, 41.5577, -43.5928, 4888,    102.7,  16.9475,  36.3667,2,  36.3778,2,    222.1,2,    231.0,2,     1.33,6,     2.74,6,     0.19,6,    2.147,2,    1.305,2,    0.129,2, -999.000,5,    5.759,2,   2081.4,2,  16.9305
  18HU19950419, AR13d,    33,  1, 153596,     51,2,19950501, 41.5577, -43.5928, 4888,    202.0,  16.9626,  36.3668,2,  36.3784,2,    226.4,2,    230.6,2,     1.42,6,     2.76,6,     0.19,6,    2.175,2,    1.036,2,    0.191,2, -999.000,5,    7.812,2,   2084.0,2,  16.9290
  18HU19950419, AR13d,    33,  1, 153595,     50,2,19950501, 41.5577, -43.5928, 4888,    402.8,  15.9309,  36.1531,2,  36.1650,2,    218.8,2,    219.0,2,     2.44,6,     5.89,6,     0.36,6,    2.136,2,    1.330,2,    0.117,2,    8.754,2,    5.865,2,   2096.8,2,  15.8664
  18HU19950419, AR13d,    33,  1, 153594,     49,2,19950501, 41.5577, -43.5928, 4888,    603.5,  13.7831,  35.7965,2,  35.5383,2,    195.3,2,    188.1,2,     7.73,6,    15.43,6,     0.99,6,    1.511,2,    0.777,2,    0.050,2,    2.583,2,    4.030,2,   2147.8,2,  13.6952
  18HU19950419, AR13d,    33,  1, 153593,     48,2,19950501, 41.5577, -43.5928, 4888,    800.1,  10.1141,  35.2914,2,  35.1894,2,    167.7,2,    180.5,2,    11.55,6,    19.69,6,     1.33,6,    1.354,2,    0.691,2,    0.057,2,    2.783,2,    4.492,2,   2168.0,2,  10.0176
  18HU19950419, AR13d,    33,  1, 153592,     47,2,19950501, 41.5577, -43.5928, 4888,    901.4,   8.0639,  35.0864,2,  35.0949,0,    170.5,2,    179.4,2,    12.92,6,    20.98,6,     1.38,6,    1.202,2,    0.638,2,    0.052,2,    2.562,2,    4.394,2,   2174.6,2,   7.9680
  18HU19950419, AR13d,    33,  1, 153591,     46,2,19950501, 41.5577, -43.5928, 4888,    992.0,   6.8550,  35.0303,2,  35.0408,2,    195.9,2,    194.1,2,    12.93,6,    20.91,6,     1.36,6,    1.278,2,    0.563,2, -999.000,5,    4.887,2,    5.652,4,   2177.3,2,   6.7578
  18HU19950419, AR13d,    33,  1, 153590,     45,2,19950501, 41.5577, -43.5928, 4888,   1197.7,   5.7170,  35.0775,2,  35.0912,2,    219.5,2,    224.6,2,    12.24,6,    19.08,6,     1.27,6,    1.329,2,    0.692,2,    0.057,2,    3.829,2,    5.129,2,   2170.8,2,   5.6080
  18HU19950419, AR13d,    33,  1, 153589,     44,2,19950501, 41.5577, -43.5928, 4888,   1413.5,   4.7156,  35.0094,2,  35.0225,2,    248.8,2,    250.1,6,    11.97,6,    18.46,6,     1.21,6,    1.572,2,    0.847,2,    0.077,2,    8.129,2,    5.416,2,   2162.7,6,   4.5955
  18HU19950419, AR13d,    33,  1, 153588,     43,2,19950501, 41.5577, -43.5928, 4888,   1613.4,   4.2179,  34.9683,2,  34.9804,2,    258.8,2,    261.2,2,    11.97,6,    18.44,6,     1.19,6,    1.484,2,    0.715,2,    0.069,2,    3.105,2,    5.501,2,   2160.8,2,   4.0846
  18HU19950419, AR13d,    33,  1, 153587,     42,2,19950501, 41.5577, -43.5928, 4888,   1912.1,   3.7750,  34.9286,2,  34.9404,2,    268.2,2,    271.8,2,    12.00,6,    18.04,6,     1.17,6,    1.481,2,    0.748,2,    0.058,2,    6.696,2,    4.638,2,   2156.3,2,   3.6193
  18HU19950419, AR13d,    33,  1, 153586,     41,2,19950501, 41.5577, -43.5928, 4888,   2212.7,   3.5940,  34.9248,2,  34.9335,2,    276.7,2,    273.1,2,    12.68,6,    17.73,6,     1.17,6,    1.277,2,    0.648,2,    0.073,2,    5.397,2,    4.178,2,   2156.1,2,   3.4120
  18HU19950419, AR13d,    33,  1, 153585,     40,2,19950501, 41.5577, -43.5928, 4888,   2508.0,   3.3910,  34.9109,2,  34.9198,2,    281.1,2,    276.6,2,    13.13,6,    17.30,6,     1.17,6,    1.389,2,    0.622,2,    0.054,2,    3.695,2,    4.746,2,   2155.3,2,   3.1832
  18HU19950419, AR13d,    33,  1, 153584,     39,2,19950501, 41.5577, -43.5928, 4888,   2799.8,   3.3317,  34.9267,2,  34.9359,2,    274.2,2,    273.0,2,    14.53,6,    17.48,6,     1.16,6,    0.862,2,    0.614,2,    0.043,2,    8.352,2,    2.954,2,   2154.2,2,   3.0950
  18HU19950419, AR13d,    33,  1, 153583,     38,2,19950501, 41.5577, -43.5928, 4888,   3088.0,   3.1217,  34.9267,2,  34.9357,2,    272.1,2,    272.4,2,    15.97,6,    17.40,6,     1.16,6,    0.710,2,    0.403,2,    0.037,2,    4.697,2,    2.244,2,   2156.2,2,   2.8589
  18HU19950419, AR13d,    33,  1, 153582,     37,2,19950501, 41.5577, -43.5928, 4888,   3400.2,   2.8656,  34.9167,2,  34.9220,2,    273.9,2,    274.3,2,    17.93,6,    17.53,6,     1.16,6,    0.803,2,    0.403,2,    0.051,2,    4.694,2,    2.679,2,   2158.0,2,   2.5750
  18HU19950419, AR13d,    33,  1, 153581,     36,2,19950501, 41.5577, -43.5928, 4888,   3709.4,   2.6378,  34.9090,2,  34.9186,2,    274.0,2,    274.9,2,    19.19,6,    17.51,6,     1.18,6,    0.716,2,    0.484,2,    0.039,2,    3.872,2,    2.615,2,   2158.5,2,   2.3187
  18HU19950419, AR13d,    33,  1, 153580,     35,2,19950501, 41.5577, -43.5928, 4888,   4013.8,   2.4514,  34.8996,2,  34.9090,0,    271.1,2,    271.4,2,    23.59,6,    17.80,6,     1.23,6,    0.517,2,    0.363,2,    0.033,2,    1.854,2,    1.517,2,   2162.4,2,   2.1029
  18HU19950419, AR13d,    33,  1, 153579,     34,2,19950501, 41.5577, -43.5928, 4888,   4214.6,   2.3608,  34.8932,2,  34.9019,2,    270.6,2,    271.9,2,    25.30,6,    18.27,6,     1.24,6,    0.564,2,    0.235,2,    0.042,2,    2.708,2,    1.949,2,   2165.8,2,   1.9915
  18HU19950419, AR13d,    33,  1, 153578,     33,2,19950501, 41.5577, -43.5928, 4888,   4549.3,   2.3165,  34.8882,2,  34.8974,2,    272.5,2,    274.4,2,    25.12,6,    18.20,6,     1.21,6,    0.765,6,    0.324,6,    0.048,6,    4.321,6,    2.444,6,   2166.2,2,   1.9088
  18HU19950419, AR13d,    33,  1, 153577,     31,2,19950501, 41.5577, -43.5928, 4888,   4858.7,   2.3179,  34.8850,2,  34.8948,2,    270.9,2,    271.5,2,    26.78,6,    18.05,6,     1.26,6,    0.733,2,    0.358,2,    0.036,2,    4.243,2,    2.322,2,   2169.4,6,   1.8722
  18HU19950419, AR13d,    33,  1, 153576,     32,2,19950501, 41.5577, -43.5928, 4888,   4998.2,   2.3106,  34.8812,2,  34.8907,2,    267.5,2,    268.4,2,    30.73,6,    19.20,6,     1.29,6,    0.476,2,    0.238,2,    0.039,2,    3.962,2,    1.676,2,   2171.3,2,   1.8477
  18HU19950419, AR13d,    34,  1, 153621,     53,2,19950501, 41.7532, -44.1683, 4872,      6.4,  16.8979,  36.3605,2,  36.3722,2,    225.6,2,    230.1,2,     1.19,6,     2.69,6,     0.20,6,    1.912,4,    0.678,4,    0.076,4,    0.000,4,    2.252,4,   2083.2,2,  16.8968
  18HU19950419, AR13d,    34,  1, 153620,     52,2,19950501, 41.7532, -44.1683, 4872,    278.0,  16.8755,  36.3467,2,  36.3582,2,    230.4,2,    229.8,2,     1.27,6,     2.94,6,     0.20,6,    1.906,4,    0.502,4,    0.054,4,    0.000,4,    1.583,4,   -999.0,5,  16.8293
  18HU19950419, AR13d,    34,  1, 153619,     51,2,19950501, 41.7532, -44.1683, 4872,    507.3,  14.8085,  35.9635,2,  35.9759,2,    202.3,2,    197.6,2,     3.65,6,     9.28,6,     0.64,6,    1.705,2,    0.692,2,    0.046,2,    4.267,2,    1.332,2,   2118.5,2,  14.7310
  18HU19950419, AR13d,    34,  1, 153618,     50,2,19950501, 41.7532, -44.1683, 4872,    620.1,  10.8013,  35.0973,2,  35.1108,2,    225.8,2,    228.7,2,     4.79,6,    10.19,6,     0.75,6,    2.431,3,    0.909,2,    0.090,2,    6.504,2,    4.057,2,   2115.4,2,  10.7241
  18HU19950419, AR13d,    34,  1, 153617,     49,2,19950501, 41.7532, -44.1683, 4872,    655.6,  12.5654,  35.6190,2,  35.6295,2,    195.4,2,    186.2,2,     6.45,6,    14.31,6,     0.90,6,    1.588,6,    0.649,6,    0.119,6,    4.635,6,    2.111,6,   -999.0,5,  12.4751
  18HU19950419, AR13d,    34,  1, 153616,     48,2,19950501, 41.7532, -44.1683, 4872,    870.3,   9.0464,  35.1857,2,  35.1644,2,    170.3,2,    180.7,2,    12.14,6,    20.59,6,     1.36,6,    1.006,2,    0.200,2,    0.024,2,    3.122,2,    0.000,4,   2175.0,2,   8.9477
  18HU19950419, AR13d,    34,  1, 153615,     47,2,19950501, 41.7532, -44.1683, 4872,   1013.0,   7.3160,  35.1256,2,  35.1358,2,    188.2,2,    191.6,2,    12.64,6,    20.63,6,     1.37,6,    0.974,2,    0.339,2,    0.042,2,    3.358,2,    0.000,2,   2176.7,2,   7.2130
  18HU19950419, AR13d,    34,  1, 153614,     46,2,19950501, 41.7532, -44.1683, 4872,   1237.8,   5.3687,  35.0329,2,  35.0720,3,    230.4,2,    213.2,2,    12.51,6,    19.72,6,     1.31,6,    1.166,2,    0.405,2,    0.035,2,    3.266,2,    0.529,2,   2173.7,2,   5.2589
  18HU19950419, AR13d,    34,  1, 153613,     45,2,19950501, 41.7532, -44.1683, 4872,   1388.2,   4.8584,  35.0188,2,  35.0285,2,    244.5,2,    245.2,2,    12.07,6,    18.80,6,     1.25,6,    1.299,2,    0.895,2,    0.183,3,    4.418,2,    3.343,2,   2164.0,2,   4.7392
  18HU19950419, AR13d,    34,  1, 153612,     44,2,19950501, 41.7532, -44.1683, 4872,   1699.2,   4.0457,  34.9505,2,  34.9604,2,    263.4,2,    266.1,2,    11.71,6,    17.68,6,     1.19,6,    1.302,2,    0.370,2,    0.047,2,    4.193,2,    1.296,2,   2156.5,2,   3.9065
  18HU19950419, AR13d,    34,  1, 153611,     43,2,19950501, 41.7532, -44.1683, 4872,   1998.6,   3.6792,  34.9200,2,  34.9303,2,    272.3,2,    272.8,2,    12.06,6,    17.62,6,     1.20,6,    1.233,2,    0.284,2,    0.050,2,    3.986,2,    0.813,2,   2155.4,6,   3.5167
  18HU19950419, AR13d,    34,  1, 153610,     42,2,19950501, 41.7532, -44.1683, 4872,   2302.5,   3.4374,  34.9038,2,  34.9144,2,    277.3,2,    277.5,2,    12.46,6,    17.60,6,     1.16,6,    1.395,2,    0.208,2,    0.042,2,    2.964,2,    1.593,2,   2156.3,2,   3.2492
  18HU19950419, AR13d,    34,  1, 153609,     41,2,19950501, 41.7532, -44.1683, 4872,   2512.8,   3.3366,  34.9041,2,  34.9144,2,    277.1,2,    276.4,2,    12.72,6,    17.37,6,     1.16,6,    1.337,2,    0.324,2,    0.050,2,    3.714,2,    1.605,2,   2156.6,2,   3.1293
  18HU19950419, AR13d,    34,  1, 153608,     40,2,19950501, 41.7532, -44.1683, 4872,   2806.2,   3.2663,  34.9281,2,  34.9384,2,    271.2,2,    271.7,2,    14.98,6,    17.62,6,     1.19,6,    0.672,2,    0.317,2,    0.049,2,    2.190,2,    0.000,4,   2156.9,2,   3.0302
  18HU19950419, AR13d,    34,  1, 153607,     39,3,19950501, 41.7532, -44.1683, 4872,   3094.9,   3.0453,  34.9254,2,  34.9565,3,    271.9,2,   -999.0,5,  -999.00,5,  -999.00,5,  -999.00,5, -999.000,9, -999.000,9, -999.000,9, -999.000,9, -999.000,9,   -999.0,9,   2.7834
  18HU19950419, AR13d,    34,  1, 153606,     38,2,19950501, 41.7532, -44.1683, 4872,   3287.1,   2.9369,  34.9241,2,  34.9339,2,    270.5,2,    270.8,2,    17.97,6,    17.69,6,     1.19,6,    0.467,2,    0.089,2,    0.032,2,    3.308,2,    0.000,2,   2158.8,2,   2.6569
  18HU19950419, AR13d,    34,  1, 153605,     37,2,19950501, 41.7532, -44.1683, 4872,   3495.5,   2.7649,  34.9180,2,  34.9276,2,    269.8,2,    270.4,2,    20.49,6,    18.20,6,     1.22,6,    0.370,2,    0.216,2,    0.032,2,    5.914,2,    0.000,4,   2159.0,2,   2.4663
  18HU19950419, AR13d,    34,  1, 153604,     36,2,19950501, 41.7532, -44.1683, 4872,   3798.3,   2.5353,  34.9055,2,  34.9154,2,    269.6,2,    269.9,2,    23.51,6,    18.07,6,     1.23,6,    0.338,2,    0.000,2,    0.037,2,    1.117,2,    0.000,2,   2165.1,2,   2.2089
  18HU19950419, AR13d,    34,  1, 153603,     35,4,19950501, 41.7532, -44.1683, 4872,   4091.2,   2.3623,  34.8938,2,-999.0000,9,    268.8,2,   -999.0,5,  -999.00,5,  -999.00,5,  -999.00,5, -999.000,9, -999.000,9, -999.000,9, -999.000,9, -999.000,9,   -999.0,9,   2.0074
  18HU19950419, AR13d,    34,  1, 153602,     34,2,19950501, 41.7532, -44.1683, 4872,   4374.3,   2.3109,  34.8886,2,  34.8981,2,    267.9,2,    269.6,2,    27.88,6,    18.76,6,     1.26,6,    0.421,2,    0.029,2,    0.032,2,    1.648,2,    0.000,4,   2168.7,2,   1.9243
  18HU19950419, AR13d,    34,  1, 153601,     33,2,19950501, 41.7532, -44.1683, 4872,   4589.0,   2.3023,  34.8853,2,  34.8945,2,    266.8,2,    262.2,2,    29.18,6,    18.48,6,     1.30,6,    0.373,2,    0.000,2,    0.053,2,    3.419,2,    0.000,4,   2170.4,2,   1.8903
  18HU19950419, AR13d,    34,  1, 153600,     31,2,19950501, 41.7532, -44.1683, 4872,   4910.7,   2.3053,  34.8812,2,  34.8916,0,    265.8,2,    266.3,2,    31.82,6,    19.19,6,     1.30,6,    0.327,2,    0.103,2,    0.027,2,    4.384,2,    0.000,2,   2173.6,2,   1.8536
  18HU19950419, AR13d,    34,  1, 153599,     32,2,19950501, 41.7532, -44.1683, 4872,   4992.1,   2.3125,  34.8809,2,  34.8908,2,    265.2,2,    265.7,6,    32.09,6,    18.97,6,     1.35,6,    0.322,2,    0.000,2,    0.051,2,    3.830,2,    0.000,2,   2175.3,2,   1.8503
  18HU19950419, AR13d,    37,  1, 153644,     53,2,19950502, 41.9648, -44.8340, 4807,     12.0,  16.8786,  36.3606,2,  36.3703,2,    228.3,2,    231.8,2,     1.13,6,     2.46,6,     0.17,6,    2.133,2,    1.268,2, -999.000,5,    8.974,2,    3.248,2,   -999.0,5,  16.8766
  18HU19950419, AR13d,    37,  1, 153643,     52,2,19950502, 41.9648, -44.8340, 4807,    104.0,  16.8901,  36.3603,2,  36.3707,2,    231.4,2,    231.4,2,     1.11,6,     2.48,6,     0.18,6,    2.196,2,    1.135,2,    0.159,2,    6.230,2,    1.687,2,   -999.0,5,  16.8729
  18HU19950419, AR13d,    37,  1, 153642,     51,2,19950502, 41.9648, -44.8340, 4807,    338.8,  16.8487,  36.3499,2,  36.3600,2,    232.5,2,    231.3,2,     1.39,6,     2.89,6,     0.20,6,    2.236,2,    1.329,2,    0.172,2,    5.846,2,    1.021,2,   -999.0,5,  16.7924
  18HU19950419, AR13d,    37,  1, 153641,     50,2,19950502, 41.9648, -44.8340, 4807,    501.7,  15.5328,  36.0850,2,  36.0946,2,    221.8,2,    217.0,2,     2.68,6,     6.58,6,     0.42,6,    2.157,2,    1.255,2,    0.111,2,    5.258,2,    0.740,2,   -999.0,5,  15.4536
  18HU19950419, AR13d,    37,  1, 153640,     49,2,19950502, 41.9648, -44.8340, 4807,    681.4,  13.0595,  35.7084,2,  35.7175,2,    198.0,2,    199.1,2,     5.16,6,    12.37,6,     0.75,6,    2.012,2,    0.986,2,    0.069,2,    2.760,2,    1.117,2,   -999.0,5,  12.9632
  18HU19950419, AR13d,    37,  1, 153639,     48,3,19950502, 41.9648, -44.8340, 4807,    868.2,   9.5196,  35.2230,2,  35.2318,2,    178.7,2,    171.8,2,    11.04,6,    20.63,6,     1.28,6,    1.301,2,    0.834,2,    0.054,2,    2.414,2,    0.000,2,   -999.0,5,   9.4181
  18HU19950419, AR13d,    37,  1, 153638,     47,2,19950502, 41.9648, -44.8340, 4807,   1078.8,   6.9478,  35.1209,2,  35.1295,2,    199.4,2,    199.6,2,    12.22,6,    20.39,6,     1.28,6,    1.253,2,    0.617,2,    0.048,2,    3.102,2,    0.000,4,   -999.0,5,   6.8406
  18HU19950419, AR13d,    37,  1, 153637,     46,2,19950502, 41.9648, -44.8340, 4807,   1291.2,   5.0257,  34.9854,2,  35.0545,3,    242.2,2,    223.9,6,    12.40,6,    19.78,6,     1.26,6,    1.508,2,    0.737,2,    0.095,2,    3.658,2,    0.477,2,   -999.0,5,   4.9140
  18HU19950419, AR13d,    37,  1, 153636,     45,2,19950502, 41.9648, -44.8340, 4807,   1494.5,   4.6787,  35.0178,2,  35.7337,3,    252.3,2,    237.2,2,     6.16,4,    10.40,4,     0.64,4,    1.586,2,    0.876,2,    0.067,2,    3.800,2,    0.233,4,   -999.0,5,   4.5513
  18HU19950419, AR13d,    37,  1, 153635,     44,2,19950502, 41.9648, -44.8340, 4807,   1701.3,   4.1375,  34.9596,2,  34.9994,3,    263.1,2,    259.0,2,    11.68,6,    18.32,6,     1.17,6,    1.497,3,    0.724,3,    0.134,3,    5.330,3,    1.160,3,   -999.0,5,   3.9968
  18HU19950419, AR13d,    37,  1, 153634,     43,2,19950502, 41.9648, -44.8340, 4807,   1899.4,   3.7391,  34.9234,2,  34.9315,2,    271.2,2,    272.4,2,    11.73,6,    17.79,6,     1.13,6,    1.573,6,    0.767,6,    0.136,6,    5.613,6,    1.922,6,   -999.0,5,   3.5852
  18HU19950419, AR13d,    37,  1, 153633,     42,2,19950502, 41.9648, -44.8340, 4807,   2099.7,   3.5318,  34.9086,2,  34.9168,2,    275.8,2,    275.8,2,    11.99,6,    17.72,6,     1.12,6,    1.617,2,    0.781,2,    0.079,2,    6.255,2,    0.103,2,   -999.0,5,   3.3618
  18HU19950419, AR13d,    37,  1, 153632,     41,2,19950502, 41.9648, -44.8340, 4807,   2295.0,   3.4314,  34.9079,2,  34.9151,2,    278.8,2,    276.5,2,    12.29,6,    17.88,6,     1.12,6,    1.559,2,    0.811,2,    0.076,2,    3.171,2,    1.265,2,   -999.0,5,   3.2441
  18HU19950419, AR13d,    37,  1, 153631,     40,2,19950502, 41.9648, -44.8340, 4807,   2502.9,   3.3052,  34.8991,2,  34.9077,2,    280.2,2,    281.2,2,    12.36,6,    17.36,6,     1.13,6,    1.673,2,    0.685,2,    0.073,2,    5.858,2,    1.001,2,   -999.0,5,   3.0995
  18HU19950419, AR13d,    37,  1, 153630,     39,2,19950502, 41.9648, -44.8340, 4807,   2703.2,   3.2427,  34.9050,2,-999.0000,9,    278.9,2,   -999.0,5,  -999.00,5,  -999.00,5,  -999.00,5,    1.544,2,    0.786,2,    0.083,2,    3.203,2,    0.430,2,   -999.0,5,   3.0179
  18HU19950419, AR13d,    37,  1, 153629,     38,2,19950502, 41.9648, -44.8340, 4807,   2997.3,   3.1422,  34.9231,2,  34.9303,0,    274.0,2,    274.7,2,    14.64,6,    17.46,6,     1.13,6,    0.918,2,    0.464,2,    0.023,2,    6.819,2,    0.000,2,   -999.0,5,   2.8887
  18HU19950419, AR13d,    37,  1, 153628,     37,2,19950502, 41.9648, -44.8340, 4807,   3286.2,   2.9344,  34.9217,2,  34.9293,0,    272.7,2,    273.3,2,    16.65,6,    17.43,6,     1.14,6,    0.735,2,    0.323,2,    0.031,2,    9.778,2,    0.000,4,   -999.0,5,   2.6546
  18HU19950419, AR13d,    37,  1, 153627,     36,2,19950502, 41.9648, -44.8340, 4807,   3602.4,   2.6567,  34.9113,2,  34.9200,2,    273.4,2,    273.9,2,    19.11,6,    17.78,6,     1.14,6,    0.700,2,    0.474,2,    0.031,2,    2.216,2,    0.000,2,   -999.0,5,   2.3490
  18HU19950419, AR13d,    37,  1, 153626,     35,2,19950502, 41.9648, -44.8340, 4807,   3895.6,   2.4647,  34.9017,2,  34.9102,2,    273.7,2,    272.6,2,    21.91,6,    17.90,6,     1.17,6,    0.627,2,    0.321,2,    0.010,2,    2.713,2,    0.000,2,   -999.0,5,   2.1292
  18HU19950419, AR13d,    37,  1, 153625,     34,2,19950502, 41.9648, -44.8340, 4807,   4203.6,   2.3721,  34.8953,2,  34.9038,0,    273.4,2,    273.3,2,    22.77,6,    17.67,6,     1.17,6,    0.746,2,    0.390,2,    0.061,2,    3.048,2,    0.000,2,   -999.0,5,   2.0038
  18HU19950419, AR13d,    37,  1, 153624,     33,2,19950502, 41.9648, -44.8340, 4807,   4522.8,   2.3173,  34.8897,2,  34.8984,2,    273.0,2,    273.2,2,    24.34,6,    18.11,6,     1.19,6,    0.800,2,    0.555,2,    0.032,2,    3.580,2,    0.000,4,   -999.0,5,   1.9128
  18HU19950419, AR13d,    37,  1, 153623,     31,2,19950502, 41.9648, -44.8340, 4807,   4807.6,   2.2990,  34.8832,2,  34.8918,2,    267.5,2,    268.3,2,    30.33,6,    18.93,6,     1.27,6,    0.468,2,    0.336,2,    0.015,2,    3.422,2,    0.000,2,   -999.0,5,   1.8603
  18HU19950419, AR13d,    37,  1, 153622,     32,2,19950502, 41.9648, -44.8340, 4807,   4942.3,   2.2941,  34.8815,2,  34.8903,2,    266.2,2,    266.6,2,    31.04,6,    18.77,6,     1.30,6,    0.549,2,    0.268,2,    0.043,2,    2.488,2,    0.000,2,   -999.0,5,   1.8388