BOTTLE,20220817CCHSIOAMB
EXPOCODE,SECT_ID,STNNBR,CASTNO,SAMPNO,BTLNBR,BTLNBR_FLAG_W,DATE,LATITUDE,LONGITUDE,DEPTH,CTDPRS,CTDTMP,CTDSAL,CTDSAL_FLAG_W,SALNTY,SALNTY_FLAG_W,CTDOXY,CTDOXY_FLAG_W,OXYGEN,OXYGEN_FLAG_W,SILCAT,SILCAT_FLAG_W,NITRAT,NITRAT_FLAG_W,PHSPHT,PHSPHT_FLAG_W,CFC-11,CFC-11_FLAG_W,CFC-12,CFC-12_FLAG_W,CFC113,CFC113_FLAG_W,CCL4,CCL4_FLAG_W,MCHFRM,MCHFRM_FLAG_W,TCARBN,TCARBN_FLAG_W,THETA
,,,,,,,,,,METERS,DBAR,ITS-90,PSS-78,,PSS-78,,UMOL/KG,,UMOL/KG,,UMOL/KG,,UMOL/KG,,UMOL/KG,,PMOL/KG,,PMOL/KG,,PMOL/KG,,PMOL/KG,,PMOL/KG,,UMOL/KG,,DEG C
  18HU19950419, AR13d,    45,  1, 153733,     50,2,19950503, 43.0733, -48.8443, 2092,      6.5,   3.1277,  33.5396,2,  33.5496,2,    336.6,2,    334.2,2,     1.73,6,     3.42,6,     0.63,6,    5.179,2,    2.622,2,    0.469,2,    8.828,2,   14.651,2,   2076.2,2,   3.1273
  18HU19950419, AR13d,    45,  1, 153732,     49,2,19950503, 43.0733, -48.8443, 2092,     69.3,   3.7864,  33.6796,2,  33.6871,2,    325.5,2,    321.9,2,     2.17,6,     4.26,6,     0.68,6,    4.943,2,    2.461,2,    0.415,2,    9.989,2,   14.084,2,   2082.5,2,   3.7819
  18HU19950419, AR13d,    45,  1, 153731,     48,3,19950503, 43.0733, -48.8443, 2092,    163.3,   2.1299,  34.3753,2,-999.0000,9,    317.0,2,   -999.0,5,  -999.00,5,  -999.00,5,  -999.00,5, -999.000,9, -999.000,9, -999.000,9, -999.000,9, -999.000,9,   -999.0,9,   2.1211
  18HU19950419, AR13d,    45,  1, 153730,     47,2,19950503, 43.0733, -48.8443, 2092,    263.0,   2.8492,  34.6170,2,  34.6270,2,    303.2,2,    294.6,2,     9.23,6,    15.06,6,     1.12,6,    4.278,2,    2.062,2,    0.348,2,    8.201,2,   12.812,2,   2144.4,2,   2.8331
  18HU19950419, AR13d,    45,  1, 153729,     46,2,19950503, 43.0733, -48.8443, 2092,    406.0,   4.2859,  34.9120,2,  34.7578,2,    260.9,2,    271.6,2,    10.32,6,    16.46,6,     1.18,6,    2.926,2,    1.439,2,    0.202,2,    6.892,2,    9.127,2,   2154.7,2,   4.2559
  18HU19950419, AR13d,    45,  1, 153728,     45,2,19950503, 43.0733, -48.8443, 2092,    416.7,   4.2651,  34.9126,2,  34.9215,2,    260.3,2,    256.8,2,    11.50,6,    17.73,6,     1.26,6,    2.391,2,    0.995,2,    0.143,2,    3.591,2,    8.083,2,   2161.5,2,   4.2343
  18HU19950419, AR13d,    45,  1, 153727,     44,2,19950503, 43.0733, -48.8443, 2092,    520.1,   4.0487,  34.9147,2,  34.9240,2,    266.9,2,    268.3,6,    10.76,6,    17.18,6,     1.24,6,    2.675,2,    1.177,2,    0.187,2,    5.380,2,    8.268,2,   2158.8,2,   4.0107
  18HU19950419, AR13d,    45,  1, 153726,     43,2,19950503, 43.0733, -48.8443, 2092,    605.5,   3.8923,  34.9143,2,  34.9250,2,    272.8,2,    271.2,2,    10.82,6,    17.49,6,     1.24,6,    2.545,2,    1.173,2,    0.150,2,    5.022,2,    7.817,2,   2157.6,2,   3.8484
  18HU19950419, AR13d,    45,  1, 153725,     42,2,19950503, 43.0733, -48.8443, 2092,    821.5,   3.4392,  34.8682,2,  34.8785,2,    287.4,2,    285.6,2,    10.33,6,    16.76,6,     1.19,6,    3.183,2,    1.446,2,    0.224,2,   10.391,3,    9.997,2,   2153.6,2,   3.3812
  18HU19950419, AR13d,    45,  1, 153724,     41,2,19950503, 43.0733, -48.8443, 2092,    955.7,   3.4849,  34.8872,2,  34.8961,2,    288.7,2,    281.5,2,    10.67,6,    17.09,6,     1.22,6,    2.520,3,    1.059,3,    0.289,3,    7.226,3,    8.802,3,   2155.0,2,   3.4161
  18HU19950419, AR13d,    45,  1, 153723,     40,2,19950503, 43.0733, -48.8443, 2092,   1005.7,   3.3750,  34.8750,2,  34.8854,0,    287.5,2,    284.4,2,    10.63,6,    16.90,6,     1.19,6,    2.733,2,    1.269,2,    0.181,2,    6.029,2,    8.888,2,   2154.6,2,   3.3031
  18HU19950419, AR13d,    45,  1, 153722,     39,2,19950503, 43.0733, -48.8443, 2092,   1229.1,   3.2909,  34.8760,2,  34.8857,2,    286.3,2,    286.0,2,    10.81,6,    16.44,6,     1.20,6,    2.504,2,    1.009,2,    0.150,2,    4.501,2,    7.505,2,   2153.9,2,   3.2017
  18HU19950419, AR13d,    45,  1, 153721,     38,2,19950503, 43.0733, -48.8443, 2092,   1289.4,   3.2749,  34.8756,2,  34.8848,2,    282.1,2,    284.3,2,    10.85,6,    16.62,6,     1.21,6,    2.403,6,    1.156,6,    0.178,6,    7.798,6,    7.838,6,   2152.4,2,   3.1809
  18HU19950419, AR13d,    45,  1, 153720,     37,2,19950503, 43.0733, -48.8443, 2092,   1400.5,   3.1589,  34.8628,2,  34.8725,2,    283.7,2,    288.8,2,    10.74,6,    16.97,6,     1.19,6,    2.780,2,    1.195,2,    0.149,2,    7.107,2,    9.047,2,   2151.3,6,   3.0569
  18HU19950419, AR13d,    45,  1, 153719,     36,3,19950503, 43.0733, -48.8443, 2092,   1504.8,   3.1776,  34.8712,2,  34.8812,2,    283.7,2,    286.6,2,    11.02,6,    16.74,6,     1.19,6,    2.428,2,    1.168,2,    0.144,2,    3.925,2,    7.814,2,   2152.0,2,   3.0665
  18HU19950419, AR13d,    45,  1, 153718,     35,2,19950503, 43.0733, -48.8443, 2092,   1596.1,   3.0802,  34.8609,2,  34.8707,2,    285.1,2,    287.5,2,    10.64,6,    16.30,6,     1.19,6,    2.700,2,    1.091,2,    0.172,2,    5.710,2,    8.733,2,   2152.4,2,   2.9625
  18HU19950419, AR13d,    45,  1, 153717,     34,4,19950503, 43.0733, -48.8443, 2092,   1668.1,   3.0911,  34.8643,2,  34.5170,3,    284.7,2,    281.4,4,     8.76,4,    13.82,4,     1.09,4,    2.744,4,    1.242,4,    0.160,4,    4.543,4,    9.364,4,   2144.3,4,   2.9671
  18HU19950419, AR13d,    45,  1, 153716,     33,2,19950503, 43.0733, -48.8443, 2092,   1793.5,   3.0747,  34.8653,2,  34.8750,2,    283.3,2,    288.8,2,    10.85,6,    16.22,6,     1.16,6,    2.552,2,    1.254,2,    0.168,2,    5.457,2,    8.168,2,   2153.2,2,   2.9398
  18HU19950419, AR13d,    45,  1, 153715,     31,2,19950503, 43.0733, -48.8443, 2092,   1948.6,   3.0541,  34.8661,2,  34.8763,2,    284.9,2,    289.7,2,    10.89,6,    16.41,6,     1.18,6,    2.573,2,    1.063,2,    0.136,2,    4.526,2,    8.529,2,   2156.4,2,   2.9056
  18HU19950419, AR13d,    45,  1, 153714,     32,2,19950503, 43.0733, -48.8443, 2092,   2076.9,   3.0585,  34.8669,2,  34.8766,2,    284.4,2,    288.3,2,    11.39,6,    16.49,6,     1.21,6,    2.537,2,    1.112,2,    0.129,2,    5.494,2,    8.018,2,   2154.8,2,   2.8982
  18HU19950419, AR13d,    46,  1, 153745,     42,2,19950504, 43.1588, -49.1818, 1028,      6.6,   0.1479,  32.8951,2,  32.9033,2,    429.4,2,    410.1,2,     0.86,2,     0.00,6,     0.41,2,    5.737,2,    3.304,2,    0.745,3,   10.523,3,   17.273,2,   2034.8,2,   0.1477
  18HU19950419, AR13d,    46,  1, 153744,     41,2,19950504, 43.1588, -49.1818, 1028,     55.2,  -0.7053,  33.0264,2,  33.0322,0,    392.7,2,    360.7,3,     5.75,6,     5.34,6,     0.85,6,    5.669,2, -999.000,5,    0.664,3,    9.969,2,   17.711,2,   2088.9,2,  -0.7068
  18HU19950419, AR13d,    46,  1, 153743,     40,3,19950504, 43.1588, -49.1818, 1028,    128.0,   0.2822,  33.6646,2,  33.6614,2,    343.5,2,    325.4,2,     9.32,6,     9.91,6,     0.99,6,    5.100,6,    2.576,6,    0.459,6,    8.614,6,   15.246,6,   2116.7,2,   0.2775
  18HU19950419, AR13d,    46,  1, 153742,     39,2,19950504, 43.1588, -49.1818, 1028,    234.6,   1.7410,  34.2508,2,  34.2312,2,    313.0,2,    301.3,2,    10.30,6,    13.53,6,     1.06,6,    4.437,2,    1.926,2,    0.311,2,    7.245,2,   14.149,2,   2137.8,2,   1.7290
  18HU19950419, AR13d,    46,  1, 153741,     38,2,19950504, 43.1588, -49.1818, 1028,    309.8,   2.4620,  34.4956,2,  34.5023,2,    303.2,2,    296.3,2,     9.76,6,    14.57,6,     1.10,6,    4.261,2,    3.142,3,    0.430,2,    6.438,2,   13.705,2,   2145.4,2,   2.4440
  18HU19950419, AR13d,    46,  1, 153740,     37,2,19950504, 43.1588, -49.1818, 1028,    394.1,   3.1090,  34.6815,2,  34.7407,2,    290.5,2,    284.7,2,    10.00,6,    15.88,6,     1.15,6,    3.307,2,    1.895,2,    0.264,2,    6.823,2,   11.142,2,   2153.2,2,   3.0836
  18HU19950419, AR13d,    46,  1, 153739,     36,2,19950504, 43.1588, -49.1818, 1028,    502.7,   3.6121,  34.8257,2,  34.8324,2,    277.2,2,    282.3,2,    10.16,6,    16.94,6,     1.17,6,    3.389,2, -999.000,5,    0.462,3,    4.908,2,   12.340,2,   2155.5,2,   3.5772
  18HU19950419, AR13d,    46,  1, 153738,     35,2,19950504, 43.1588, -49.1818, 1028,    606.9,   3.5243,  34.8530,2,  34.8625,2,    282.4,2,    285.8,2,    10.09,6,    16.71,6,     1.19,6,    3.316,2,    1.825,2,    0.221,2,    7.454,2,   11.281,2,   2153.9,2,   3.4821
  18HU19950419, AR13d,    46,  1, 153737,     34,2,19950504, 43.1588, -49.1818, 1028,    676.9,   3.4932,  34.8554,2,  34.8646,2,    285.9,2,    285.8,6,    10.12,6,    16.58,6,     1.20,6,    3.212,2,    1.901,2,    0.209,2,    4.960,2,   10.736,2,   2155.4,6,   3.4459
  18HU19950419, AR13d,    46,  1, 153736,     33,2,19950504, 43.1588, -49.1818, 1028,    784.4,   3.3811,  34.8542,2,  34.8637,2,    288.5,2,    288.7,2,    10.27,6,    16.70,6,     1.20,6,    3.325,2,    1.870,2, -999.000,5,    6.273,2,   11.857,2,   2154.2,2,   3.3263
  18HU19950419, AR13d,    46,  1, 153735,     31,2,19950504, 43.1588, -49.1818, 1028,    915.0,   3.3458,  34.8568,2,  34.8667,2,    290.6,2,    288.2,2,    10.45,6,    17.04,6,     1.19,6,    3.129,2,    1.898,2,    0.224,2,    6.724,2,   10.636,2,   2154.4,2,   3.2812
  18HU19950419, AR13d,    46,  1, 153734,     32,2,19950504, 43.1588, -49.1818, 1028,    992.3,   3.3308,  34.8577,2,  34.8663,2,    290.1,2,    288.7,2,    10.50,6,    16.76,6,     1.19,6,    3.017,2,    1.169,2,    0.205,2,    6.734,2,    9.936,2,   2155.0,2,   3.2603
  18HU19950419, AR13d,    47,  1, 153753,     38,2,19950504, 43.2073, -49.3377, 1073,      4.5,   0.1925,  32.8481,2,  32.8569,2,    424.6,2,    402.1,2,     0.84,6,     0.00,6,     0.47,6,    6.048,6,    2.649,6,    0.624,3,   11.436,3,   17.686,6,   2042.3,6,   0.1923
  18HU19950419, AR13d,    47,  1, 153752,     37,2,19950504, 43.2073, -49.3377, 1073,     84.0,  -1.0342,  33.0448,2,  33.3765,2,    390.7,2,    297.9,2,     9.00,6,     9.68,6,     1.01,6,    3.562,2,    1.695,2,    0.302,2,    6.682,2,   11.325,2,   2129.8,2,  -1.0363
  18HU19950419, AR13d,    47,  1, 153751,     36,3,19950504, 43.2073, -49.3377, 1073,    194.9,   0.0961,  33.6464,2,  33.6563,2,    335.4,2,    318.9,2,    10.41,6,    10.66,6,     1.03,6,    4.920,2,    2.360,2,    0.415,2,    7.690,2,   14.866,2,   2122.0,2,   0.0891
  18HU19950419, AR13d,    47,  1, 153750,     35,2,19950504, 43.2073, -49.3377, 1073,    305.0,   3.2431,  34.5561,2,  34.5640,2,    273.6,2,    276.3,6,    10.23,6,    15.36,6,     1.15,6,    3.512,2,    1.808,2,    0.444,3,    7.456,2,   11.193,2,   2148.5,2,   3.2234
  18HU19950419, AR13d,    47,  1, 153749,     34,2,19950504, 43.2073, -49.3377, 1073,    503.7,   3.5782,  34.8102,2,  34.8174,2,    275.7,2,    283.1,2,    10.10,6,    16.68,6,     1.16,6,    3.447,2,    1.393,2,    0.206,2,    6.312,2,   11.238,2,   2155.2,2,   3.5434
  18HU19950419, AR13d,    47,  1, 153748,     33,2,19950504, 43.2073, -49.3377, 1073,    684.7,   3.5209,  34.8381,2,  34.8454,2,    281.9,2,    286.4,2,    10.40,6,    16.87,6,     1.15,6,    3.332,2,    1.722,2,    0.227,2,    8.915,2,   11.110,2,   2154.4,2,   3.4729
  18HU19950419, AR13d,    47,  1, 153747,     31,2,19950504, 43.2073, -49.3377, 1073,    955.0,   3.4609,  34.8537,2,  34.8617,0,    285.1,2,    286.7,2,    10.41,6,    16.66,6,     1.17,6,    3.171,2,    1.436,2,    0.449,3,   10.981,3,   10.351,2,   2156.5,2,   3.3924
  18HU19950419, AR13d,    47,  1, 153746,     32,2,19950504, 43.2073, -49.3377, 1073,   1046.5,   3.4495,  34.8554,2,  34.8613,2,    285.5,2,    287.0,2,    10.43,6,    16.59,6,     1.17,6,    3.196,2,    1.582,2,    0.186,2,    6.975,2,   10.146,2,   2154.3,2,   3.3738
  18HU19950419, AR13d,    48,  1, 153760,     37,2,19950504, 43.2483, -49.4698,  525,     15.0,   0.1530,  32.8617,2,  33.0660,2,    426.5,2,    320.7,2,     3.41,6,     3.45,6,     0.65,6, -999.000,5, -999.000,5, -999.000,5, -999.000,5, -999.000,5,   2098.7,2,   0.1525
  18HU19950419, AR13d,    48,  1, 153759,     36,2,19950504, 43.2483, -49.4698,  525,     92.1,  -1.0786,  33.1438,2,  33.1431,2,    381.4,2,    336.8,6,     9.26,6,     8.71,6,     1.04,6,    5.866,2,    2.801,2,    0.522,3,    9.204,2,   21.267,2,   2112.5,2,  -1.0808
  18HU19950419, AR13d,    48,  1, 153758,     35,2,19950504, 43.2483, -49.4698,  525,    209.5,   0.6254,  33.8368,2,  34.9189,0,    331.9,2,    315.6,2,    10.23,6,    11.19,6,     1.02,6,    5.220,2,    2.108,2,    0.419,2,    8.744,2,   17.074,2,   2125.3,2,   0.6168
  18HU19950419, AR13d,    48,  1, 153757,     34,2,19950504, 43.2483, -49.4698,  525,    328.8,   3.3453,  34.4242,2,  34.4334,2,    273.9,2,    264.6,2,    11.22,6,    15.59,6,     1.20,6,    3.790,2,    1.695,2,    0.279,2,    5.656,2,   11.236,2,   2150.0,6,   3.3239
  18HU19950419, AR13d,    48,  1, 153756,     33,2,19950504, 43.2483, -49.4698,  525,    416.2,   2.9646,  34.6591,2,  34.6675,2,    286.5,2,    291.0,2,    10.26,6,    15.34,6,     1.12,6,    4.134,2,    1.956,2,    0.312,2,    7.529,2,   13.039,2,   2150.8,2,   2.9383
  18HU19950419, AR13d,    48,  1, 153755,     31,2,19950504, 43.2483, -49.4698,  525,    495.2,   3.2467,  34.7514,2,  34.7611,0,    284.9,2,    288.5,2,    10.52,6,    16.40,6,     1.14,6,    3.950,2,    1.928,2,    0.313,2,    6.006,2,   12.976,2,   2151.5,2,   3.2139
  18HU19950419, AR13d,    48,  1, 153754,     32,2,19950504, 43.2483, -49.4698,  525,    495.2,   3.2467,  34.7514,2,  34.7614,2,    284.9,2,    288.6,2,    10.41,6,    16.01,6,     1.14,6,    3.936,2,    2.023,2,    0.285,2,    6.664,2,   12.640,2,   2152.2,2,   3.2139
  18HU19950419, AR13d,    49,  1, 153764,     34,2,19950504, 43.2790, -49.5868,  181,     13.9,   0.8143,  32.8553,2,  32.8640,0,    377.1,2,    370.0,6,     1.20,6,     0.68,6,     0.54,6,    6.080,2,    2.683,2,    0.576,3,   13.405,3,   18.653,2,   2059.7,2,   0.8138
  18HU19950419, AR13d,    49,  1, 153763,     33,3,19950504, 43.2790, -49.5868,  181,     73.4,  -0.1378,  33.0333,2,  33.0352,2,    374.9,2,    356.0,2,     4.68,6,     4.16,6,     0.85,6,    6.058,2,    2.952,2,    0.547,3,   11.738,3,   17.402,2,   2087.4,6,  -0.1401
  18HU19950419, AR13d,    49,  1, 153762,     31,2,19950504, 43.2790, -49.5868,  181,    115.1,  -0.2991,  33.3594,2,-999.0000,9,    362.6,2,   -999.0,5,  -999.00,5,  -999.00,5,  -999.00,5, -999.000,9, -999.000,9, -999.000,9, -999.000,9, -999.000,9,   -999.0,9,  -0.3027
  18HU19950419, AR13d,    49,  1, 153761,     32,2,19950504, 43.2790, -49.5868,  181,    165.4,   1.1331,  33.7847,2,  33.7746,2,    327.3,2,    310.3,2,     9.65,6,    10.61,6,     0.99,6,    5.140,2,    2.501,2,    0.409,2,   11.163,3,   16.218,2,   2124.4,2,   1.1257