BOTTLE,20220817CCHSIOAMB
# Removed empty rows:
#   STN 30, cast 1, sample 153529
#   STN 30, cast 1, sample 153528
#   STN 70, cast 1, sample 154221
#   STN 77, cast 1, sample 154357
#   STN 90, cast 1, sample 154415
#   STN 90, cast 1, sample 154414
#   STN 92, cast 1, sample 154432
# Set OXYGEN flag from 4 to 5, STN 29, cast 1, sample 153498
# Set CFC-12 flag from 3 to 5, STN 57, cast 1, sample 153922
# Remove TIME column containing only "0"
#BOTTLE,20150204PRINUNIVRMK
# File initialized 4/6/07 
# Ship: Hudson 
# Cruise: 18HU95003, WOCE AR13d 
# EXPOCODE 18HU19950419 
# Cruise dates: 4/19-5/17/1995 
# Region:Labrador Sea vicinity 
# Chief Scientist:R. Clarke 
# 97 stations; 24 place Rosette 
# Hydro: Who - A. Clarke; Status - final 
# 	Notes: Additional Salinity QC by Key 4/2006; 2/2015) 
# 	SEABIRD model  
# Nuts/O2: Who - P. Clement; Status - final 
# 	Notes: Nitrate is really NO3+NO2 
# 	Additional Salinity QC by Key 4/2006) 
# 	Nutrient precision estimated to be better than 2% 
# TCO2: Who - R. Gershey; Status - final  
# 	Notes: mean difference of replicates of 3.6+/-9.4umol/kg for 82 pairs 
# 	CRM not used. 
# 	Data compare well with 18HU93039 results 
# TA: Who - F. Zemlyak; Status - measured 
# 	Notes: no results in data set 
# CFC: Who - P.Jones/R. Gershey; Status - final; S Plus - up to date  
# 	Notes:  Includes CFC-113, CCl4 and Cl3Et 
# 	CC4 data too noisy to QC; Cl3Et very noisy 
# 
EXPOCODE,SECT_ID,STNNBR,CASTNO,SAMPNO,BTLNBR,BTLNBR_FLAG_W,DATE,LATITUDE,LONGITUDE,DEPTH,CTDPRS,CTDTMP,CTDSAL,CTDSAL_FLAG_W,SALNTY,SALNTY_FLAG_W,CTDOXY,CTDOXY_FLAG_W,OXYGEN,OXYGEN_FLAG_W,SILCAT,SILCAT_FLAG_W,NITRAT,NITRAT_FLAG_W,PHSPHT,PHSPHT_FLAG_W,CFC-11,CFC-11_FLAG_W,CFC-12,CFC-12_FLAG_W,CFC113,CFC113_FLAG_W,CCL4,CCL4_FLAG_W,MCHFRM,MCHFRM_FLAG_W,TCARBN,TCARBN_FLAG_W,THETA
,,,,,,,,,,METERS,DBAR,ITS-90,PSS-78,,PSS-78,,UMOL/KG,,UMOL/KG,,UMOL/KG,,UMOL/KG,,UMOL/KG,,PMOL/KG,,PMOL/KG,,PMOL/KG,,PMOL/KG,,PMOL/KG,,UMOL/KG,,DEG C
  18HU19950419, AR13d,     1,  1, 152924,     45,4,19950419, 44.6852, -63.6263,   52,     23.9,   1.0174,  30.6586,2,-999.0000,9,   -999.0,9,   -999.0,9,  -999.00,9,  -999.00,9,  -999.00,9, -999.000,5, -999.000,5, -999.000,5, -999.000,5, -999.000,5,   -999.0,9,   1.0165
  18HU19950419, AR13d,     1,  1, 152923,     44,2,19950419, 44.6852, -63.6263,   52,     23.9,   1.0164,  30.6595,2,-999.0000,9,   -999.0,9,   -999.0,9,  -999.00,9,  -999.00,9,  -999.00,9, -999.000,5, -999.000,5, -999.000,5, -999.000,5, -999.000,5,   -999.0,9,   1.0155
  18HU19950419, AR13d,     1,  1, 152922,     43,2,19950419, 44.6852, -63.6263,   52,     23.9,   1.0165,  30.6596,2,-999.0000,9,   -999.0,9,   -999.0,9,  -999.00,9,  -999.00,9,  -999.00,9, -999.000,5, -999.000,5, -999.000,5, -999.000,5, -999.000,5,   -999.0,9,   1.0156
  18HU19950419, AR13d,     1,  1, 152921,     42,2,19950419, 44.6852, -63.6263,   52,     23.9,   1.0135,  30.6613,2,-999.0000,9,   -999.0,9,   -999.0,9,  -999.00,9,  -999.00,9,  -999.00,9, -999.000,5, -999.000,5, -999.000,5, -999.000,5, -999.000,5,   -999.0,9,   1.0126
  18HU19950419, AR13d,     1,  1, 152920,     41,4,19950419, 44.6852, -63.6263,   52,     23.9,   1.0060,  30.6658,2,-999.0000,9,   -999.0,9,   -999.0,9,  -999.00,9,  -999.00,9,  -999.00,9, -999.000,5, -999.000,5, -999.000,5, -999.000,5, -999.000,5,   -999.0,9,   1.0051
  18HU19950419, AR13d,     1,  1, 152919,     40,4,19950419, 44.6852, -63.6263,   52,     23.9,   0.9758,  30.6954,2,-999.0000,9,   -999.0,9,   -999.0,9,  -999.00,9,  -999.00,9,  -999.00,9, -999.000,5, -999.000,5, -999.000,5, -999.000,5, -999.000,5,   -999.0,9,   0.9749
  18HU19950419, AR13d,     1,  1, 152918,     39,2,19950419, 44.6852, -63.6263,   52,     23.9,   0.9795,  30.6827,2,-999.0000,9,   -999.0,9,   -999.0,9,  -999.00,9,  -999.00,9,  -999.00,9, -999.000,5, -999.000,5, -999.000,5, -999.000,5, -999.000,5,   -999.0,9,   0.9786
  18HU19950419, AR13d,     1,  1, 152917,     38,2,19950419, 44.6852, -63.6263,   52,     23.9,   1.0037,  30.6679,2,-999.0000,9,   -999.0,9,   -999.0,9,  -999.00,9,  -999.00,9,  -999.00,9, -999.000,5, -999.000,5, -999.000,5, -999.000,5, -999.000,5,   -999.0,9,   1.0028
  18HU19950419, AR13d,     1,  1, 152916,     37,2,19950419, 44.6852, -63.6263,   52,     23.9,   1.0188,  30.6615,2,-999.0000,9,   -999.0,9,   -999.0,9,  -999.00,9,  -999.00,9,  -999.00,9, -999.000,5, -999.000,5, -999.000,5, -999.000,5, -999.000,5,   -999.0,9,   1.0179
  18HU19950419, AR13d,     1,  1, 152915,     36,2,19950419, 44.6852, -63.6263,   52,     24.0,   1.0082,  30.6654,2,-999.0000,9,   -999.0,9,   -999.0,9,  -999.00,9,  -999.00,9,  -999.00,9, -999.000,5, -999.000,5, -999.000,5, -999.000,5, -999.000,5,   -999.0,9,   1.0073
  18HU19950419, AR13d,     1,  1, 152914,     35,2,19950419, 44.6852, -63.6263,   52,     24.0,   1.0048,  30.6657,2,-999.0000,9,   -999.0,9,   -999.0,9,  -999.00,9,  -999.00,9,  -999.00,9, -999.000,5, -999.000,5, -999.000,5, -999.000,5, -999.000,5,   -999.0,9,   1.0039
  18HU19950419, AR13d,     1,  1, 152913,     34,3,19950419, 44.6852, -63.6263,   52,     24.0,   1.0070,  30.6644,2,-999.0000,9,   -999.0,9,   -999.0,9,  -999.00,9,  -999.00,9,  -999.00,9, -999.000,5, -999.000,5, -999.000,5, -999.000,5, -999.000,5,   -999.0,9,   1.0061
  18HU19950419, AR13d,     1,  1, 152912,     33,2,19950419, 44.6852, -63.6263,   52,     24.0,   1.0129,  30.6605,2,-999.0000,9,   -999.0,9,   -999.0,9,  -999.00,9,  -999.00,9,  -999.00,9, -999.000,5, -999.000,5, -999.000,5, -999.000,5, -999.000,5,   -999.0,9,   1.0120
  18HU19950419, AR13d,     1,  1, 152911,     32,2,19950419, 44.6852, -63.6263,   52,     24.0,   1.0043,  30.6650,2,-999.0000,9,   -999.0,9,   -999.0,9,  -999.00,9,  -999.00,9,  -999.00,9, -999.000,5, -999.000,5, -999.000,5, -999.000,5, -999.000,5,   -999.0,9,   1.0034
  18HU19950419, AR13d,     1,  1, 152910,     31,3,19950419, 44.6852, -63.6263,   52,     24.0,   1.0163,  30.6573,2,-999.0000,9,   -999.0,9,   -999.0,9,  -999.00,9,  -999.00,9,  -999.00,9, -999.000,5, -999.000,5, -999.000,5, -999.000,5, -999.000,5,   -999.0,9,   1.0154
  18HU19950419, AR13d,     1,  1, 152909,     54,2,19950419, 44.6852, -63.6263,   52,     24.0,   1.0107,  30.6613,2,-999.0000,9,   -999.0,9,   -999.0,9,  -999.00,9,  -999.00,9,  -999.00,9, -999.000,5, -999.000,5, -999.000,5, -999.000,5, -999.000,5,   -999.0,9,   1.0098
  18HU19950419, AR13d,     1,  1, 152907,     52,2,19950419, 44.6852, -63.6263,   52,     24.0,   1.0232,  30.6557,2,-999.0000,9,   -999.0,9,   -999.0,9,  -999.00,9,  -999.00,9,  -999.00,9, -999.000,5, -999.000,5, -999.000,5, -999.000,5, -999.000,5,   -999.0,9,   1.0223
  18HU19950419, AR13d,     1,  1, 152906,     51,2,19950419, 44.6852, -63.6263,   52,     24.0,   1.0248,  30.6525,2,-999.0000,9,   -999.0,9,   -999.0,9,  -999.00,9,  -999.00,9,  -999.00,9, -999.000,5, -999.000,5, -999.000,5, -999.000,5, -999.000,5,   -999.0,9,   1.0239
  18HU19950419, AR13d,     1,  1, 152905,     50,2,19950419, 44.6852, -63.6263,   52,     24.0,   0.9938,  30.6796,2,-999.0000,9,   -999.0,9,   -999.0,9,  -999.00,9,  -999.00,9,  -999.00,9, -999.000,5, -999.000,5, -999.000,5, -999.000,5, -999.000,5,   -999.0,9,   0.9929
  18HU19950419, AR13d,     1,  1, 152908,     53,2,19950419, 44.6852, -63.6263,   52,     24.1,   1.0255,  30.6554,2,-999.0000,9,   -999.0,9,   -999.0,9,  -999.00,9,  -999.00,9,  -999.00,9, -999.000,5, -999.000,5, -999.000,5, -999.000,5, -999.000,5,   -999.0,9,   1.0246
  18HU19950419, AR13d,     1,  1, 152904,     49,2,19950419, 44.6852, -63.6263,   52,     24.1,   0.9833,  30.6927,2,-999.0000,9,   -999.0,9,   -999.0,9,  -999.00,9,  -999.00,9,  -999.00,9, -999.000,5, -999.000,5, -999.000,5, -999.000,5, -999.000,5,   -999.0,9,   0.9824
  18HU19950419, AR13d,     1,  1, 152903,     48,2,19950419, 44.6852, -63.6263,   52,     24.1,   0.9792,  30.7157,2,-999.0000,9,   -999.0,9,   -999.0,9,  -999.00,9,  -999.00,9,  -999.00,9, -999.000,5, -999.000,5, -999.000,5, -999.000,5, -999.000,5,   -999.0,9,   0.9783
  18HU19950419, AR13d,     1,  1, 152902,     47,2,19950419, 44.6852, -63.6263,   52,     24.1,   1.0015,  30.7393,2,-999.0000,9,   -999.0,9,   -999.0,9,  -999.00,9,  -999.00,9,  -999.00,9, -999.000,5, -999.000,5, -999.000,5, -999.000,5, -999.000,5,   -999.0,9,   1.0006
  18HU19950419, AR13d,     1,  1, 152901,     46,3,19950419, 44.6852, -63.6263,   52,     24.1,   1.0007,  30.7366,2,-999.0000,9,   -999.0,9,   -999.0,9,  -999.00,9,  -999.00,9,  -999.00,9, -999.000,5, -999.000,5, -999.000,5, -999.000,5, -999.000,5,   -999.0,9,   0.9998
  18HU19950419, AR13d,     2,  1, 152925,     31,2,19950421, 43.3268, -52.7025, 2799,    520.6,   6.4185,  35.0047,2,  35.0083,2,    191.0,2,    188.8,2,    13.55,6,    20.98,6,     1.45,6, -999.000,5, -999.000,5, -999.000,5, -999.000,5, -999.000,5,   2247.4,4,   6.3709
  18HU19950419, AR13d,     2,  1, 152926,     32,2,19950421, 43.3268, -52.7025, 2799,    531.2,   6.3172,  35.0076,2,  35.0057,2,    193.4,2,    189.4,2,    13.32,6,    21.45,6,     1.51,6, -999.000,5, -999.000,5, -999.000,5, -999.000,5, -999.000,5,   2243.7,4,   6.2690
  18HU19950419, AR13d,     2,  1, 152935,     41,2,19950421, 43.3268, -52.7025, 2799,    534.2,   6.3008,  35.0068,2,  35.0069,2,    193.4,2,    193.8,2,    13.96,6,    22.00,6,     1.48,6, -999.000,5, -999.000,5, -999.000,5, -999.000,5, -999.000,5,   2242.7,4,   6.2523
  18HU19950419, AR13d,     2,  1, 152936,     42,2,19950421, 43.3268, -52.7025, 2799,    534.4,   6.3002,  35.0058,2,  35.0075,2,    193.4,2,    194.0,2,    14.13,6,    21.74,6,     1.44,6, -999.000,5, -999.000,5, -999.000,5, -999.000,5, -999.000,5,   2242.0,4,   6.2517
  18HU19950419, AR13d,     2,  1, 152937,     43,2,19950421, 43.3268, -52.7025, 2799,    534.8,   6.2953,  35.0049,2,  35.0061,2,    193.4,2,    196.8,2,    14.22,6,    21.83,6,     1.44,6, -999.000,5, -999.000,5, -999.000,5, -999.000,5, -999.000,5,   2242.5,4,   6.2468
  18HU19950419, AR13d,     2,  1, 152934,     40,2,19950421, 43.3268, -52.7025, 2799,    534.9,   6.2981,  35.0067,2,  35.0036,2,    193.4,2,    195.2,2,    14.00,6,    21.46,6,     1.43,6, -999.000,5, -999.000,5, -999.000,5, -999.000,5, -999.000,5,   2246.8,4,   6.2496
  18HU19950419, AR13d,     2,  1, 152933,     39,2,19950421, 43.3268, -52.7025, 2799,    535.4,   6.2576,  35.0026,2,  35.0015,2,    194.1,2,    195.2,2,    13.77,6,    21.33,6,     1.45,6, -999.000,5, -999.000,5, -999.000,5, -999.000,5, -999.000,5,   2245.6,4,   6.2092
  18HU19950419, AR13d,     2,  1, 152927,     34,3,19950421, 43.3268, -52.7025, 2799,    535.5,   6.2347,  35.0010,2,-999.0000,9,    194.6,2,   -999.0,5,  -999.00,9,  -999.00,9,  -999.00,9, -999.000,5, -999.000,5, -999.000,5, -999.000,5, -999.000,5,   -999.0,9,   6.1864
  18HU19950419, AR13d,     2,  1, 152938,     44,2,19950421, 43.3268, -52.7025, 2799,    535.6,   6.2928,  35.0051,2,  35.0047,2,    193.4,2,    195.7,2,    13.96,6,    21.99,6,     1.45,6, -999.000,5, -999.000,5, -999.000,5, -999.000,5, -999.000,5,   2248.2,4,   6.2442
  18HU19950419, AR13d,     2,  1, 152932,     38,2,19950421, 43.3268, -52.7025, 2799,    536.5,   6.2354,  35.0004,2,  34.9997,2,    194.6,2,    199.4,2,    13.68,6,    21.75,6,     1.47,6, -999.000,5, -999.000,5, -999.000,5, -999.000,5, -999.000,5,   -999.0,5,   6.1870
  18HU19950419, AR13d,     2,  1, 152939,     45,2,19950421, 43.3268, -52.7025, 2799,    537.1,   6.2650,  35.0043,2,  35.0047,2,    194.1,2,    194.8,2,    14.14,6,    21.97,6,     1.44,6, -999.000,5, -999.000,5, -999.000,5, -999.000,5, -999.000,5,   2245.0,4,   6.2164
  18HU19950419, AR13d,     2,  1, 152941,     47,2,19950421, 43.3268, -52.7025, 2799,    537.6,   6.2408,  35.0021,2,  35.0023,2,    194.6,2,    194.8,2,    14.20,6,    21.99,6,     1.45,6, -999.000,5, -999.000,5, -999.000,5, -999.000,5, -999.000,5,   2246.2,4,   6.1923
  18HU19950419, AR13d,     2,  1, 152940,     46,2,19950421, 43.3268, -52.7025, 2799,    537.7,   6.2464,  35.0019,2,  35.0051,2,    194.1,2,    195.0,2,    14.28,6,    22.04,6,     1.44,6, -999.000,5, -999.000,5, -999.000,5, -999.000,5, -999.000,5,   2247.7,4,   6.1978
  18HU19950419, AR13d,     2,  1, 152945,     51,2,19950421, 43.3268, -52.7025, 2799,    537.8,   6.2244,  35.0008,2,  35.0011,2,    194.6,2,    195.2,2,    14.22,6,    21.84,6,     1.43,6, -999.000,5, -999.000,5, -999.000,5, -999.000,5, -999.000,5,   2245.2,4,   6.1759
  18HU19950419, AR13d,     2,  1, 152944,     50,2,19950421, 43.3268, -52.7025, 2799,    537.8,   6.2213,  35.0005,2,  35.0029,2,    194.6,2,    196.5,2,    14.07,6,    22.24,6,     1.42,6, -999.000,5, -999.000,5, -999.000,5, -999.000,5, -999.000,5,   2248.7,4,   6.1728
  18HU19950419, AR13d,     2,  1, 152943,     49,2,19950421, 43.3268, -52.7025, 2799,    537.8,   6.2063,  34.9996,2,  35.0043,2,    194.6,2,    195.6,2,    14.32,6,    21.86,6,     1.43,6, -999.000,5, -999.000,5, -999.000,5, -999.000,5, -999.000,5,   2244.1,4,   6.1579
  18HU19950419, AR13d,     2,  1, 152928,     33,2,19950421, 43.3268, -52.7025, 2799,    538.1,   6.1928,  34.9974,2,  35.0068,2,    195.4,2,    194.1,2,    13.42,6,    21.02,6,     1.46,6, -999.000,5, -999.000,5, -999.000,5, -999.000,5, -999.000,5,   2245.2,4,   6.1444
  18HU19950419, AR13d,     2,  1, 152942,     48,2,19950421, 43.3268, -52.7025, 2799,    538.2,   6.2113,  35.0010,2,  35.0027,2,    194.6,2,    195.3,2,    14.18,6,    21.78,6,     1.41,6, -999.000,5, -999.000,5, -999.000,5, -999.000,5, -999.000,5,   2246.8,4,   6.1628
  18HU19950419, AR13d,     2,  1, 152931,     37,2,19950421, 43.3268, -52.7025, 2799,    538.3,   6.2166,  34.9993,2,  34.9974,2,    194.6,2,    196.3,2,    13.73,6,    21.18,6,     1.45,6, -999.000,5, -999.000,5, -999.000,5, -999.000,5, -999.000,5,   2246.9,4,   6.1681
  18HU19950419, AR13d,     2,  1, 152930,     36,2,19950421, 43.3268, -52.7025, 2799,    538.5,   6.1719,  34.9972,2,  34.9974,2,    195.4,2,    196.1,2,    13.51,6,    21.41,6,     1.44,6, -999.000,5, -999.000,5, -999.000,5, -999.000,5, -999.000,5,   2245.3,4,   6.1236
  18HU19950419, AR13d,     2,  1, 152946,     52,3,19950421, 43.3268, -52.7025, 2799,    538.6,   6.2036,  34.9992,2,  35.0586,2,    195.4,2,    194.8,2,    14.19,6,    22.21,6,     1.44,6, -999.000,5, -999.000,5, -999.000,5, -999.000,5, -999.000,5,   -999.0,9,   6.1551
  18HU19950419, AR13d,     2,  1, 152947,     53,2,19950421, 43.3268, -52.7025, 2799,    538.7,   6.1743,  34.9956,2,  35.0011,2,    195.4,2,    195.6,2,    14.32,6,    21.79,6,     1.44,6, -999.000,5, -999.000,5, -999.000,5, -999.000,5, -999.000,5,   2243.3,4,   6.1259
  18HU19950419, AR13d,     2,  1, 152948,     54,2,19950421, 43.3268, -52.7025, 2799,    538.8,   6.1745,  34.9950,2,  34.9993,2,    195.4,2,    195.5,2,    14.26,6,    22.08,6,     1.43,6, -999.000,5, -999.000,5, -999.000,5, -999.000,5, -999.000,5,   2247.5,4,   6.1261
  18HU19950419, AR13d,     2,  1, 152929,     35,2,19950421, 43.3268, -52.7025, 2799,    539.1,   6.1639,  34.9973,2,  35.0011,2,    196.1,2,    195.0,2,    13.52,6,    21.33,6,     1.44,6, -999.000,5, -999.000,5, -999.000,5, -999.000,5, -999.000,5,   2243.5,4,   6.1155
  18HU19950419, AR13d,     3,  1, 152952,     33,2,19950421, 42.9960, -50.2892,   83,     13.9,   0.3443,  32.8939,2,  32.8931,2,    385.6,2,    381.6,2,     4.31,6,     2.95,6,     0.64,6, -999.000,5, -999.000,5, -999.000,5, -999.000,5, -999.000,5,   2083.0,2,   0.3438
  18HU19950419, AR13d,     3,  1, 152951,     34,2,19950421, 42.9960, -50.2892,   83,     43.2,  -0.9316,  32.9454,2,  32.9447,2,    370.3,2,    360.2,2,     6.93,6,     6.48,6,     0.86,6, -999.000,9, -999.000,9, -999.000,9, -999.000,9, -999.000,9,   2105.4,6,  -0.9326
  18HU19950419, AR13d,     3,  1, 152950,     32,2,19950421, 42.9960, -50.2892,   83,     68.4,  -0.8108,  33.0323,2,  33.0339,2,    356.2,2,    354.6,2,     8.57,6,     7.07,6,     0.90,6, -999.000,9, -999.000,9, -999.000,9, -999.000,9, -999.000,9,   2111.2,2,  -0.8126
  18HU19950419, AR13d,     3,  1, 152949,     31,2,19950421, 42.9960, -50.2892,   83,     68.4,  -0.8108,  33.0323,2,  33.0338,0,    356.2,2,    353.3,6,     7.83,6,     6.91,6,     0.93,6, -999.000,5, -999.000,5, -999.000,5, -999.000,5, -999.000,5,   2111.2,2,  -0.8126
  18HU19950419, AR13d,     4,  1, 152958,     40,3,19950422, 42.7470, -50.2903, 1133,     40.6,  -0.7603,  32.9186,2,  32.9206,2,    371.2,2,    376.4,2,     5.56,6,     4.19,6,     0.69,6, -999.000,5, -999.000,5, -999.000,5, -999.000,5, -999.000,5,   2092.3,2,  -0.7613
  18HU19950419, AR13d,     4,  1, 152957,     39,2,19950422, 42.7470, -50.2903, 1133,    209.2,   8.6575,  34.8114,2,  34.8136,2,    237.0,2,    201.6,2,     8.63,6,    14.76,6,     1.05,6,    2.498,2,    1.356,2,    0.205,2,    6.399,2,    8.044,2,   2158.4,2,   8.6353
  18HU19950419, AR13d,     4,  1, 152956,     38,2,19950422, 42.7470, -50.2903, 1133,    402.9,   4.0907,  34.7617,2,  34.7787,0,    244.9,2,    251.0,2,    11.69,6,    17.84,6,     1.23,6,    2.661,6,    1.411,6,    0.180,6,    6.447,6,   11.407,6,   2171.4,2,   4.0616
  18HU19950419, AR13d,     4,  1, 152955,     37,2,19950422, 42.7470, -50.2903, 1133,    596.4,   3.5734,  34.8537,2,  34.8522,2,    278.2,2,    281.1,2,    10.77,6,    17.36,6,     1.12,6, -999.000,5, -999.000,5, -999.000,5, -999.000,5, -999.000,5,   2164.6,2,   3.5317
  18HU19950419, AR13d,     4,  1, 152954,     36,2,19950422, 42.7470, -50.2903, 1133,    806.5,   3.4630,  34.8645,2,  34.8644,2,    284.3,2,    283.9,2,    10.93,6,    17.10,6,     1.13,6,    3.135,2,    1.766,2,    0.225,2,   10.341,3,   12.069,2,   2164.4,6,   3.4060
  18HU19950419, AR13d,     4,  1, 152953,     35,2,19950422, 42.7470, -50.2903, 1133,   1031.0,   3.4282,  34.8677,2,  34.8676,2,    289.7,2,    284.5,2,    10.69,6,    16.64,6,     1.11,6,    3.120,2,    1.629,2,    0.196,2,    6.251,2,   12.139,2,   2163.5,2,   3.3539