BOTTLE,20220817CCHSIOAMB
EXPOCODE,SECT_ID,STNNBR,CASTNO,SAMPNO,BTLNBR,BTLNBR_FLAG_W,DATE,LATITUDE,LONGITUDE,DEPTH,CTDPRS,CTDTMP,CTDSAL,CTDSAL_FLAG_W,SALNTY,SALNTY_FLAG_W,CTDOXY,CTDOXY_FLAG_W,OXYGEN,OXYGEN_FLAG_W,SILCAT,SILCAT_FLAG_W,NITRAT,NITRAT_FLAG_W,PHSPHT,PHSPHT_FLAG_W,CFC-11,CFC-11_FLAG_W,CFC-12,CFC-12_FLAG_W,CFC113,CFC113_FLAG_W,CCL4,CCL4_FLAG_W,MCHFRM,MCHFRM_FLAG_W,TCARBN,TCARBN_FLAG_W,THETA
,,,,,,,,,,METERS,DBAR,ITS-90,PSS-78,,PSS-78,,UMOL/KG,,UMOL/KG,,UMOL/KG,,UMOL/KG,,UMOL/KG,,PMOL/KG,,PMOL/KG,,PMOL/KG,,PMOL/KG,,PMOL/KG,,UMOL/KG,,DEG C
  18HU19950419, AR13d,    66,  1, 154129,     53,2,19950509, 42.9728, -41.0958, 4809,     12.4,  15.2955,  35.9816,2,  35.9922,2,    168.5,2,    258.4,2,     1.95,6,     2.57,6,     0.21,6,    2.445,2,    1.527,2,    0.195,2,    5.922,2,    6.781,2,   -999.0,5,  15.2936
  18HU19950419, AR13d,    66,  1, 154128,     70,2,19950509, 42.9728, -41.0958, 4809,    103.3,  14.6802,  35.9410,2,  35.9509,2,    243.4,2,    241.9,2,     2.40,6,     4.91,6,     0.30,6,    2.415,2,    1.512,2,    0.158,2,    5.288,2,   11.548,2,   2092.8,2,  14.6647
  18HU19950419, AR13d,    66,  1, 154127,     51,2,19950509, 42.9728, -41.0958, 4809,    301.4,  12.2406,  35.5749,2,  35.5874,2,    221.6,2,    220.6,2,     5.55,6,    11.29,6,     0.72,6,    2.193,2,    1.265,2,    0.120,2,    8.452,2,    6.439,2,   2126.2,2,  12.2004
  18HU19950419, AR13d,    66,  1, 154126,     50,2,19950509, 42.9728, -41.0958, 4809,    402.7,  10.5039,  35.3169,2,  35.3273,2,    187.5,2,    184.8,2,     8.87,6,    16.50,6,     1.04,6,    1.699,2,    1.031,2,    0.102,2,    2.192,2,    6.251,2,   2117.9,6,  10.4550
  18HU19950419, AR13d,    66,  1, 154125,     49,2,19950509, 42.9728, -41.0958, 4809,    504.3,   9.1713,  35.1600,2,  35.1721,2,    181.8,2,    179.6,2,    11.00,6,    18.43,6,     1.29,6,    1.480,2,    0.842,2,    0.101,2,    3.540,2,    5.421,2,   2164.8,2,   9.1148
  18HU19950419, AR13d,    66,  1, 154124,     48,2,19950509, 42.9728, -41.0958, 4809,    704.2,   6.6321,  34.9794,2,  34.9895,2,    195.5,2,    197.9,2,    12.94,6,    18.91,6,     1.28,6,    1.509,2,    0.814,2,    0.095,2,    4.967,2,    5.118,2,   2174.4,2,   6.5657
  18HU19950419, AR13d,    66,  1, 154123,     47,2,19950509, 42.9728, -41.0958, 4809,    897.8,   5.5009,  35.0142,2,  35.0222,2,    225.8,2,    226.7,2,    12.29,6,    18.11,6,     1.21,6,    1.592,2,    1.008,2,    0.195,3,    3.751,2,    5.676,2,   2168.7,2,   5.4226
  18HU19950419, AR13d,    66,  1, 154122,     46,2,19950509, 42.9728, -41.0958, 4809,   1147.7,   4.6232,  34.9868,2,  34.9976,2,    251.7,2,    250.7,2,    11.76,6,    17.39,6,     1.18,6,    1.738,2,    0.949,2,    0.112,2,    5.185,2,    5.402,2,   2163.5,2,   4.5287
  18HU19950419, AR13d,    66,  1, 154121,     45,2,19950509, 42.9728, -41.0958, 4809,   1401.9,   4.0149,  34.9392,2,  34.9479,2,    266.8,2,    266.6,2,    11.69,6,    16.66,6,     1.11,6,    1.840,2,    1.086,2,    0.080,2,    6.289,2,    6.914,2,   2157.5,2,   3.9034
  18HU19950419, AR13d,    66,  1, 154120,     44,2,19950509, 42.9728, -41.0958, 4809,   1603.4,   3.7063,  34.9113,2,  34.9206,2,    273.2,2,    275.1,2,    11.53,6,    16.55,6,     1.05,6,    1.877,2,    1.128,2, -999.000,5,    5.846,2,    7.047,2,   2155.1,2,   3.5802
  18HU19950419, AR13d,    66,  1, 154119,     43,2,19950509, 42.9728, -41.0958, 4809,   1804.6,   3.5228,  34.8962,2,  34.9096,2,    277.8,2,    279.4,2,    11.45,6,    16.87,6,     1.11,6,    1.962,2,    1.066,2,    0.062,2,    3.535,2,    6.607,2,   2153.4,2,   3.3808
  18HU19950419, AR13d,    66,  1, 154118,     42,2,19950509, 42.9728, -41.0958, 4809,   1999.8,   3.3704,  34.8855,2,  34.8949,2,    282.1,2,    282.5,2,    11.64,6,    16.17,6,     1.08,6,    2.087,2,    1.220,2,    0.092,2,    5.571,2,    7.473,2,   2154.1,2,   3.2125
  18HU19950419, AR13d,    66,  1, 154117,     41,2,19950509, 42.9728, -41.0958, 4809,   2202.1,   3.2570,  34.8796,2,  34.8887,2,    284.8,2,    285.0,2,    11.50,6,    15.62,6,     1.16,6,    2.142,2,    1.266,2,    0.064,2,    4.979,2,    9.428,4,   2151.6,2,   3.0817
  18HU19950419, AR13d,    66,  1, 154116,     40,2,19950509, 42.9728, -41.0958, 4809,   2395.7,   3.2171,  34.8847,2,  34.8940,2,    285.2,2,    283.8,2,    11.87,6,    15.72,6,     1.02,6,    2.005,2,    1.118,2,    0.104,2,    5.355,2,    5.898,2,   2152.7,2,   3.0237
  18HU19950419, AR13d,    66,  1, 154115,     39,2,19950509, 42.9728, -41.0958, 4809,   2700.3,   3.2389,  34.9116,2,  34.9204,2,    278.3,2,    277.2,2,    13.24,6,    16.29,6,     1.13,6,    1.287,2,    0.205,3,    0.060,2,    4.439,2,    4.006,2,   2156.2,2,   3.0144
  18HU19950419, AR13d,    66,  1, 154114,     38,2,19950509, 42.9728, -41.0958, 4809,   3003.7,   3.0938,  34.9249,2,  34.9340,2,    275.6,2,    273.7,2,    15.70,6,    16.19,6,     1.08,6,    0.797,2,    0.000,3,    0.028,2,    3.036,2,    1.814,2,   2157.3,2,   2.8406
  18HU19950419, AR13d,    66,  1, 154113,     37,2,19950509, 42.9728, -41.0958, 4809,   3297.2,   2.8791,  34.9215,2,  34.9302,2,    274.2,2,    272.5,2,    17.80,6,    16.12,6,     1.11,6,    0.672,2,    0.148,3,    0.017,2,    3.430,2,    1.677,2,   2159.7,2,   2.5994
  18HU19950419, AR13d,    66,  1, 154112,     36,2,19950509, 42.9728, -41.0958, 4809,   3602.2,   2.6252,  34.9098,2,  34.9188,2,    274.1,2,    274.6,2,    19.44,6,    16.48,6,     1.11,6,    0.699,2,    0.423,2,    0.038,2,    3.612,2,    2.255,2,   2160.3,2,   2.3183
  18HU19950419, AR13d,    66,  1, 154111,     35,2,19950509, 42.9728, -41.0958, 4809,   3896.5,   2.4743,  34.9014,2,  34.9108,2,    275.9,2,    275.3,2,    20.70,6,    16.22,6,     1.06,6,    0.797,2,    0.028,3,    0.043,2,    3.954,2,    1.870,2,   2158.9,2,   2.1385
  18HU19950419, AR13d,    66,  1, 154110,     34,2,19950509, 42.9728, -41.0958, 4809,   4191.1,   2.3653,  34.8947,2,  34.9035,2,    275.8,2,    276.4,6,    22.09,6,    16.30,6,     1.15,6,    0.861,6,    0.377,6,    0.057,6,    2.264,6,    1.726,6,   2164.2,2,   1.9987
  18HU19950419, AR13d,    66,  1, 154109,     33,2,19950509, 42.9728, -41.0958, 4809,   4498.0,   2.3158,  34.8899,2,  34.8995,0,    275.0,2,    276.9,2,    23.05,6,    16.68,6,     1.22,6,    0.929,2,    0.505,2,    0.045,2,    2.891,2,    2.858,2,   2165.1,2,   1.9144
  18HU19950419, AR13d,    66,  1, 154108,     31,2,19950509, 42.9728, -41.0958, 4809,   4802.6,   2.2930,  34.8861,2,  34.8954,2,    275.7,2,    278.2,2,    22.72,6,    16.48,6,     1.13,6,    1.119,2,    0.549,2,    0.050,2,    3.933,2,    3.590,2,   2166.8,2,   1.8551
  18HU19950419, AR13d,    66,  1, 154107,     32,2,19950509, 42.9728, -41.0958, 4809,   4916.2,   2.3009,  34.8857,2,  34.8945,2,    277.2,2,    277.5,2,    22.90,6,    16.42,6,     1.21,6,    1.138,2,    0.569,2,    0.053,2,    2.073,2,    3.211,2,   2167.3,6,   1.8486
  18HU19950419, AR13d,    67,  1, 154152,     53,2,19950509, 43.3808, -41.4715, 4775,     23.7,  15.8908,  36.1125,2,  36.1226,2,   -999.0,9,    256.4,2,     0.10,2,     0.00,2,     0.00,2,    2.260,2,    1.338,2,    0.485,3,    9.640,2,    9.162,2,   2076.2,2,  15.8871
  18HU19950419, AR13d,    67,  1, 154151,     70,2,19950509, 43.3808, -41.4715, 4775,    109.2,  15.7075,  36.1307,2,  36.1406,2,   -999.0,9,    234.8,2,     1.85,6,     4.46,6,     0.28,6,    2.201,2,    0.959,2,    0.160,2,    3.110,2,   10.027,2,   2093.1,2,  15.6903
  18HU19950419, AR13d,    67,  1, 154150,     51,2,19950509, 43.3808, -41.4715, 4775,    208.2,  15.1099,  36.0124,2,  36.0215,2,   -999.0,9,    223.0,2,     2.69,6,     6.67,6,     0.45,6,    2.130,2,    1.293,2,    0.092,2,    5.701,2,    5.388,2,   2103.8,2,  15.0779
  18HU19950419, AR13d,    67,  1, 154149,     50,2,19950509, 43.3808, -41.4715, 4775,    409.5,  12.2602,  35.5616,2,  35.5716,2,   -999.0,9,    187.5,2,     6.85,6,    14.91,6,     0.92,6,    1.845,3,    1.245,3,    0.326,3,    6.366,3,    6.606,3,   2140.7,2,  12.2052
  18HU19950419, AR13d,    67,  1, 154148,     49,2,19950509, 43.3808, -41.4715, 4775,    602.7,   8.7180,  35.1402,2,  35.1488,2,   -999.0,9,    176.7,2,    11.72,6,    19.22,6,     1.28,6,    1.251,2,    0.519,2,    0.073,2,    3.868,2,    4.175,2,   2173.2,2,   8.6521
  18HU19950419, AR13d,    67,  1, 154147,     48,2,19950509, 43.3808, -41.4715, 4775,    798.4,   6.3566,  35.0019,2,  35.0098,2,   -999.0,9,    203.9,2,    12.47,6,    18.92,6,     1.29,6,    1.399,2,    0.590,2,    0.066,2,    4.195,2,    4.584,2,   2174.3,2,   6.2824
  18HU19950419, AR13d,    67,  1, 154146,     47,2,19950509, 43.3808, -41.4715, 4775,    998.3,   5.1182,  35.0058,2,  35.0145,2,   -999.0,9,    236.7,2,    12.04,6,    17.24,6,     1.20,6,    1.794,3,    1.266,3,    0.206,3,    5.208,3,    6.913,3,   2169.3,2,   5.0333
  18HU19950419, AR13d,    67,  1, 154145,     46,2,19950509, 43.3808, -41.4715, 4775,   1199.4,   4.4990,  34.9812,2,  34.9999,2,   -999.0,9,    248.1,2,    11.70,6,    16.85,6,     1.15,6,    1.628,2,    0.647,2,    0.105,2,    3.072,2,    5.596,2,   2165.4,2,   4.4009
  18HU19950419, AR13d,    67,  1, 154144,     45,2,19950509, 43.3808, -41.4715, 4775,   1399.4,   4.1054,  34.9476,2,  34.9553,2,   -999.0,9,    264.2,2,    11.44,6,    17.23,6,     1.12,6,    1.744,6,    0.870,6,    0.094,6,    5.849,6,    5.605,6,   2160.4,6,   3.9932
  18HU19950419, AR13d,    67,  1, 154143,     44,2,19950509, 43.3808, -41.4715, 4775,   1602.3,   3.7554,  34.9149,2,  34.9224,2,   -999.0,9,    274.0,2,    11.40,6,    16.47,6,     1.11,6,    1.852,2,    1.019,2,    0.111,2,    5.401,2,    6.190,2,   2155.7,2,   3.6288
  18HU19950419, AR13d,    67,  1, 154142,     43,2,19950509, 43.3808, -41.4715, 4775,   1796.6,   3.5583,  34.9025,2,  34.9110,2,   -999.0,9,    277.5,2,    11.45,6,    15.82,6,     1.10,6,    1.960,2,    0.945,2,    0.150,2,    3.579,2,    7.145,2,   2156.7,2,   3.4165
  18HU19950419, AR13d,    67,  1, 154141,     42,2,19950509, 43.3808, -41.4715, 4775,   1996.5,   3.4870,  34.9075,2,  34.9158,2,   -999.0,9,    278.2,2,    11.86,6,    16.22,6,     1.18,6,    1.601,2,    0.878,2,    0.126,2,    6.366,2,    5.367,2,   2154.9,2,   3.3276
  18HU19950419, AR13d,    67,  1, 154140,     41,2,19950509, 43.3808, -41.4715, 4775,   2189.5,   3.3306,  34.8911,2,  34.9047,2,   -999.0,9,    281.1,2,    12.45,6,    15.87,6,     1.10,6,    1.652,2,    0.790,2,    0.135,2,    3.310,2,    7.634,2,   2154.8,2,   3.1552
  18HU19950419, AR13d,    67,  1, 154139,     40,2,19950509, 43.3808, -41.4715, 4775,   2498.6,   3.2412,  34.9011,2,  34.9099,2,   -999.0,9,    280.0,2,    12.69,6,    15.58,6,     1.08,6,    1.582,2,    0.819,2,    0.044,2,    3.240,2,    5.632,2,   2151.8,2,   3.0371
  18HU19950419, AR13d,    67,  1, 154138,     39,2,19950509, 43.3808, -41.4715, 4775,   2802.6,   3.1887,  34.9206,2,  34.9293,2,   -999.0,9,    275.0,2,    14.21,6,    15.83,6,     1.12,6,    0.978,2,    0.562,2,    0.074,2,    5.889,2,    3.426,2,   2155.1,2,   2.9546
  18HU19950419, AR13d,    67,  1, 154137,     38,2,19950509, 43.3808, -41.4715, 4775,   3204.0,   2.9186,  34.9206,2,  34.9292,2,   -999.0,9,    273.8,2,    16.45,6,    16.51,6,     1.09,6,    0.803,2,    0.445,2,    0.059,2,    3.797,2,    2.532,2,   2157.1,2,   2.6480
  18HU19950419, AR13d,    67,  1, 154136,     37,2,19950509, 43.3808, -41.4715, 4775,   3386.6,   2.8192,  34.9175,2,  34.9274,2,   -999.0,9,    274.0,6,    17.30,6,    16.01,6,     1.13,6,    0.776,2,    0.492,2,    0.056,2,    1.932,2,    2.883,2,   2157.7,2,   2.5312
  18HU19950419, AR13d,    67,  1, 154135,     36,3,19950509, 43.3808, -41.4715, 4775,   3691.6,   2.5504,  34.9063,2,  34.9149,2,   -999.0,9,    274.6,2,    20.00,6,    15.66,6,     1.12,6,    0.728,2,    0.454,2,    0.065,2,    4.098,2,    2.610,2,   2163.0,2,   2.2356
  18HU19950419, AR13d,    67,  1, 154134,     35,2,19950509, 43.3808, -41.4715, 4775,   3986.9,   2.4050,  34.8978,2,  34.9063,2,   -999.0,9,    274.4,2,    21.70,6,    16.38,6,     1.11,6,    0.758,2,    0.426,2,    0.065,2,    4.010,2,    2.558,2,   2163.8,2,   2.0608
  18HU19950419, AR13d,    67,  1, 154133,     34,2,19950509, 43.3808, -41.4715, 4775,   4295.1,   2.3435,  34.8928,2,  34.9020,2,   -999.0,9,    275.0,2,    23.00,6,    16.55,6,     1.20,6,    0.831,2,    0.342,2,    0.050,2,    3.602,2,    3.176,2,   2164.9,2,   1.9653
  18HU19950419, AR13d,    67,  1, 154132,     33,2,19950509, 43.3808, -41.4715, 4775,   4602.1,   2.3192,  34.8886,2,  34.8965,2,   -999.0,9,    273.7,2,    24.76,6,    16.51,6,     1.13,6,    0.823,2,    0.637,2,    0.053,2,    3.991,2,    3.012,2,   2166.4,2,   1.9050
  18HU19950419, AR13d,    67,  1, 154131,     31,2,19950509, 43.3808, -41.4715, 4775,   4756.0,   2.3070,  34.8861,2,  34.8948,0,   -999.0,9,    272.3,2,    26.34,6,    16.63,6,     1.16,6,    0.793,2,    0.433,2,    0.057,2,    1.580,2,    2.736,2,   2169.2,2,   1.8745
  18HU19950419, AR13d,    67,  1, 154130,     32,2,19950509, 43.3808, -41.4715, 4775,   4885.7,   2.3055,  34.8845,2,  34.8939,2,   -999.0,9,    273.0,2,    26.47,6,    17.05,6,     1.23,6,    0.832,2,    0.372,2,    0.051,2,    5.969,2,    3.086,2,   2170.0,2,   1.8569
  18HU19950419, AR13d,    68,  1, 154175,     53,2,19950509, 43.8082, -41.7920, 4741,      9.6,  16.1004,  36.1392,2,  36.1496,2,    203.9,2,    255.6,2,     1.52,6,     2.58,6,     0.17,6,    2.329,2,    1.248,2,    0.170,2,    7.372,2,    6.196,2,   -999.0,9,  16.0989
  18HU19950419, AR13d,    68,  1, 154174,     70,2,19950509, 43.8082, -41.7920, 4741,    195.9,  15.8167,  36.1627,2,  36.1731,2,    220.7,2,    234.6,2,     2.06,6,     4.78,6,     0.27,6,    2.312,2,    1.198,2,    0.131,2,    3.301,2,   12.144,2,   -999.0,9,  15.7857
  18HU19950419, AR13d,    68,  1, 154173,     51,2,19950509, 43.8082, -41.7920, 4741,    371.7,  13.8264,  35.7717,2,  35.7831,2,    221.9,2,    192.5,2,     5.03,6,    11.79,6,     0.74,6,    1.811,2,    0.926,2,    0.082,2,    4.183,2,    4.253,2,   -999.0,9,  13.7724
  18HU19950419, AR13d,    68,  1, 154172,     50,3,19950509, 43.8082, -41.7920, 4741,    497.1,  12.2176,  35.5662,2,  35.5916,0,    220.1,2,    206.9,2,     6.12,6,    13.31,6,     0.76,6,    2.016,2,    0.816,2,    0.072,2,    5.164,2,    5.363,2,   -999.0,9,  12.1508
  18HU19950419, AR13d,    68,  1, 154171,     49,2,19950509, 43.8082, -41.7920, 4741,    703.0,   7.7017,  34.9903,2,  35.0002,0,    183.0,2,    188.3,2,    12.30,6,    21.28,6,     1.24,6,    1.603,2,    0.728,2,    0.063,2,    3.339,2,    6.095,2,   -999.0,9,   7.6298
  18HU19950419, AR13d,    68,  1, 154170,     48,2,19950509, 43.8082, -41.7920, 4741,    860.2,   6.4229,  35.0321,2,  35.0407,2,    200.9,2,    203.4,2,    12.87,6,    20.88,6,     1.28,6,    1.321,2,    0.329,2,    0.044,2,    5.502,2,    4.278,2,   -999.0,9,   6.3421
  18HU19950419, AR13d,    68,  1, 154169,     47,2,19950509, 43.8082, -41.7920, 4741,   1005.1,   5.4042,  35.0011,2,  35.0081,2,    230.2,2,    229.0,2,    12.45,6,    19.96,6,     1.21,6,    1.644,2,    0.456,2, -999.000,5,    6.855,2,    6.095,2,   -999.0,9,   5.3165
  18HU19950419, AR13d,    68,  1, 154168,     46,2,19950509, 43.8082, -41.7920, 4741,   1211.0,   4.6717,  34.9928,2,  35.0031,2,    253.0,2,    250.9,2,    11.88,6,    18.96,6,     1.13,6,    1.725,2,    0.814,2,    0.086,2,    3.381,2,    5.748,2,   -999.0,9,   4.5710
  18HU19950419, AR13d,    68,  1, 154167,     45,2,19950509, 43.8082, -41.7920, 4741,   1409.0,   4.1251,  34.9473,2,  34.9551,2,    265.6,2,    264.8,2,    11.52,6,    18.26,6,     1.09,6,    1.783,2,    0.684,2,    0.070,2,    5.070,2,    5.544,2,   -999.0,9,   4.0118
  18HU19950419, AR13d,    68,  1, 154166,     44,2,19950509, 43.8082, -41.7920, 4741,   1606.6,   3.7694,  34.9187,2,  34.9274,2,    273.3,2,    273.0,2,    11.68,6,    18.37,6,     1.07,6, -999.000,5, -999.000,5, -999.000,5, -999.000,5, -999.000,5,   -999.0,9,   3.6423
  18HU19950419, AR13d,    68,  1, 154165,     43,2,19950509, 43.8082, -41.7920, 4741,   1820.2,   3.5129,  34.8948,2,  34.9032,2,    277.9,2,    280.4,2,    11.34,6,    17.93,6,     1.06,6,    2.001,2,    0.945,2,    0.092,2,    5.167,2,    6.871,2,   -999.0,9,   3.3696
  18HU19950419, AR13d,    68,  1, 154164,     42,2,19950509, 43.8082, -41.7920, 4741,   2045.2,   3.3680,  34.8889,2,  34.8979,2,    282.3,2,    281.8,2,    11.66,6,    17.60,6,     1.08,6,    1.960,2,    0.703,2,    0.083,2,    5.204,2,    5.938,2,   -999.0,9,   3.2058
  18HU19950419, AR13d,    68,  1, 154163,     41,2,19950509, 43.8082, -41.7920, 4741,   2270.4,   3.1912,  34.8701,2,  34.8837,2,    285.4,2,    285.5,2,    11.26,6,    17.65,6,     1.07,6,    2.438,3,    0.997,2, -999.000,5,    5.613,2,   10.346,4,   -999.0,9,   3.0104
  18HU19950419, AR13d,    68,  1, 154162,     40,2,19950509, 43.8082, -41.7920, 4741,   2504.9,   3.2045,  34.8888,2,  34.8975,2,    283.9,2,    288.2,3,    11.97,6,    17.25,6,     1.06,6,    1.900,2,    0.923,2,    0.086,2,    5.754,2,    6.226,2,   -999.0,9,   3.0005
  18HU19950419, AR13d,    68,  1, 154161,     39,2,19950509, 43.8082, -41.7920, 4741,   2704.3,   3.1888,  34.9076,2,  34.9168,2,    278.0,2,    278.2,6,    13.17,6,    17.74,6,     1.09,6,    1.403,2,    0.598,2,    0.055,2,    5.302,2,    3.970,2,   -999.0,9,   2.9649
  18HU19950419, AR13d,    68,  1, 154160,     38,2,19950509, 43.8082, -41.7920, 4741,   2888.6,   3.1307,  34.9159,2,  34.9241,2,    276.2,2,    275.7,2,    13.77,6,    17.41,6,     1.08,6,    1.152,2,    0.509,2,    0.047,2,    2.805,2,    3.556,2,   -999.0,9,   2.8889
  18HU19950419, AR13d,    68,  1, 154159,     37,2,19950509, 43.8082, -41.7920, 4741,   3309.7,   2.8472,  34.9184,2,  34.9270,2,    274.0,2,    273.3,2,    17.04,6,    17.66,6,     1.10,6,    0.756,2,    0.369,2,    0.037,2,    4.932,2,    1.982,2,   -999.0,9,   2.5669
  18HU19950419, AR13d,    68,  1, 154158,     36,2,19950509, 43.8082, -41.7920, 4741,   3601.9,   2.6158,  34.9091,2,  34.9178,2,    274.1,2,    275.0,2,    19.10,6,    17.70,6,     1.11,6,    0.729,2,    0.167,2,    0.013,2,    5.031,2,    1.853,2,   -999.0,9,   2.3092
  18HU19950419, AR13d,    68,  1, 154157,     35,2,19950509, 43.8082, -41.7920, 4741,   3910.4,   2.4478,  34.9003,2,  34.9090,2,    275.9,2,    274.6,2,    21.02,6,    17.70,6,     1.15,6,    0.730,2,    0.186,2,    0.024,2,    4.789,2,    2.114,2,   -999.0,9,   2.1111
  18HU19950419, AR13d,    68,  1, 154156,     34,2,19950509, 43.8082, -41.7920, 4741,   4191.4,   2.3603,  34.8944,2,  34.9027,2,    275.8,2,    275.9,2,    21.85,6,    17.83,6,     1.15,6,    0.837,2,    0.395,2,    0.026,2,    4.039,2,    1.959,2,   -999.0,9,   1.9938
  18HU19950419, AR13d,    68,  1, 154155,     33,2,19950509, 43.8082, -41.7920, 4741,   4498.9,   2.3234,  34.8901,2,  34.8983,2,    275.0,2,    275.6,2,    22.92,6,    17.59,6,     1.14,6,    0.895,2,    0.360,2,    0.027,2,    6.782,2,    2.236,2,   -999.0,9,   1.9216
  18HU19950419, AR13d,    68,  1, 154154,     31,2,19950509, 43.8082, -41.7920, 4741,   4725.1,   2.3020,  34.8863,2,  34.8956,2,    274.3,2,    273.3,2,    25.54,6,    18.25,6,     1.17,6,    0.832,6,    0.114,6,    0.034,6,    4.091,6,    2.462,6,   -999.0,9,   1.8734
  18HU19950419, AR13d,    68,  1, 154153,     32,2,19950509, 43.8082, -41.7920, 4741,   4846.7,   2.2896,  34.8821,2,  34.8907,2,    276.4,2,    269.6,2,    29.40,6,    18.81,6,     1.23,6,    0.618,2,    0.079,2,    0.022,2,    5.932,2,    1.332,2,   -999.0,9,   1.8464