BOTTLE,20220817CCHSIOAMB
EXPOCODE,SECT_ID,STNNBR,CASTNO,SAMPNO,BTLNBR,BTLNBR_FLAG_W,DATE,LATITUDE,LONGITUDE,DEPTH,CTDPRS,CTDTMP,CTDSAL,CTDSAL_FLAG_W,SALNTY,SALNTY_FLAG_W,CTDOXY,CTDOXY_FLAG_W,OXYGEN,OXYGEN_FLAG_W,SILCAT,SILCAT_FLAG_W,NITRAT,NITRAT_FLAG_W,PHSPHT,PHSPHT_FLAG_W,CFC-11,CFC-11_FLAG_W,CFC-12,CFC-12_FLAG_W,CFC113,CFC113_FLAG_W,CCL4,CCL4_FLAG_W,MCHFRM,MCHFRM_FLAG_W,TCARBN,TCARBN_FLAG_W,THETA
,,,,,,,,,,METERS,DBAR,ITS-90,PSS-78,,PSS-78,,UMOL/KG,,UMOL/KG,,UMOL/KG,,UMOL/KG,,UMOL/KG,,PMOL/KG,,PMOL/KG,,PMOL/KG,,PMOL/KG,,PMOL/KG,,UMOL/KG,,DEG C
  18HU19950419, AR13d,    54,  1, 153853,     53,2,19950506, 45.4553, -46.0875, 3486,     13.5,   3.1704,  33.6402,2,  33.6518,2,    359.6,2,    340.8,2,     2.13,6,     2.80,6,     0.49,6,    5.164,2,    2.606,2,    0.477,2,   10.619,3,   13.154,2,   2068.4,2,   3.1696
  18HU19950419, AR13d,    54,  1, 153852,     52,2,19950506, 45.4553, -46.0875, 3486,    152.1,   2.0042,  34.3592,2,  34.9546,0,    326.9,2,    300.2,2,    10.25,6,    13.67,6,     1.00,6,    4.711,2,    2.302,2,    0.379,2,   10.503,3,   12.456,2,   2141.6,2,   1.9962
  18HU19950419, AR13d,    54,  1, 153851,     51,2,19950506, 45.4553, -46.0875, 3486,    353.6,   5.1265,  35.0161,2,  35.0241,2,    234.6,2,    231.5,3,    12.17,6,    18.61,6,     1.18,6,    1.633,2,    1.162,2,    0.097,2,    6.180,2,    3.792,2,   2166.0,2,   5.0981
  18HU19950419, AR13d,    54,  1, 153850,     50,2,19950506, 45.4553, -46.0875, 3486,    454.5,   4.7391,  35.0045,2,  35.0173,2,    241.7,2,    247.2,2,    11.86,6,    18.24,6,     1.14,6,    1.707,2,    1.299,2,    0.093,2,    5.434,2,    4.379,2,   2164.5,2,   4.7036
  18HU19950419, AR13d,    54,  1, 153849,     49,2,19950506, 45.4553, -46.0875, 3486,    553.8,   3.7367,  34.8831,2,  34.8926,2,    274.2,2,    277.7,2,    10.45,6,    17.20,6,     1.09,6,    3.075,2,    1.835,2,    0.219,2,    5.154,2,    8.435,2,   2160.1,2,   3.6974
  18HU19950419, AR13d,    54,  1, 153848,     48,2,19950506, 45.4553, -46.0875, 3486,    669.4,   3.8067,  34.9131,2,  34.9227,2,    282.1,2,    274.4,2,    11.16,6,    17.53,6,     1.10,6,    2.484,2,    1.494,2,    0.170,2,    8.596,2,    6.775,2,   2160.2,2,   3.7583
  18HU19950419, AR13d,    54,  1, 153847,     47,2,19950506, 45.4553, -46.0875, 3486,    827.3,   3.2946,  34.8577,2,  34.8671,2,    280.8,2,    291.0,2,    10.14,6,    16.55,6,     1.05,6,    3.478,2,    2.126,2,    0.258,2,    9.686,2,    9.870,2,   2155.0,2,   3.2371
  18HU19950419, AR13d,    54,  1, 153846,     46,2,19950506, 45.4553, -46.0875, 3486,    904.3,   3.3853,  34.8775,2,  34.8864,2,    280.8,2,    285.8,2,    10.51,6,    16.71,6,     1.05,6,    2.862,2,    1.624,2,    0.193,2,   10.775,3,    7.838,2,   2156.6,2,   3.3213
  18HU19950419, AR13d,    54,  1, 153845,     45,2,19950506, 45.4553, -46.0875, 3486,    987.7,   3.2764,  34.8700,2,  34.8787,2,    286.5,2,    288.4,2,    10.64,6,    17.05,6,     1.08,6,    2.945,2,    1.733,2,    0.212,2,    5.992,2,    8.253,2,   2155.6,2,   3.2067
  18HU19950419, AR13d,    54,  1, 153844,     44,2,19950506, 45.4553, -46.0875, 3486,   1205.9,   3.0623,  34.8490,2,  34.8575,2,    297.8,2,    294.6,2,    10.07,6,    16.28,6,     1.08,6,    3.385,2,    2.136,2,    0.241,2,    7.563,2,    9.463,2,   2152.7,2,   2.9772
  18HU19950419, AR13d,    54,  1, 153843,     43,2,19950506, 45.4553, -46.0875, 3486,   1435.9,   3.0121,  34.8460,2,  34.8552,2,    297.3,2,    295.2,2,    10.27,6,    16.49,6,     1.04,6,    3.333,2,    1.772,2,    0.221,2,    6.211,2,    8.653,2,   2153.6,2,   2.9088
  18HU19950419, AR13d,    54,  1, 153842,     42,2,19950506, 45.4553, -46.0875, 3486,   1537.6,   3.0156,  34.8473,2,  34.8563,2,    296.1,2,    292.6,2,    10.21,6,    16.20,6,     1.04,6,    3.233,2,    1.631,2,    0.213,2,    8.635,2,    8.667,2,   2153.9,6,   2.9037
  18HU19950419, AR13d,    54,  1, 153841,     41,2,19950506, 45.4553, -46.0875, 3486,   1609.5,   3.0402,  34.8548,2,  34.8640,2,    295.0,2,    293.2,2,    10.32,6,    16.53,6,     1.04,6,    3.011,2,    1.814,2,    0.212,2,    6.032,2,    8.394,2,   2153.8,2,   2.9219
  18HU19950419, AR13d,    54,  1, 153840,     40,2,19950506, 45.4553, -46.0875, 3486,   1760.2,   2.9797,  34.8504,2,  34.8597,2,    294.7,2,    294.7,2,    10.44,6,    16.36,6,     1.06,6,    2.987,6,    1.665,6,    0.200,6,    6.112,6,    8.096,6,   2153.3,2,   2.8491
  18HU19950419, AR13d,    54,  1, 153839,     39,2,19950506, 45.4553, -46.0875, 3486,   1914.6,   3.0065,  34.8617,2,  34.8697,2,    290.2,2,    292.4,2,    10.60,6,    16.12,6,     1.04,6,    2.826,2,    1.698,2,    0.187,2,    4.758,2,    7.516,2,   2149.6,2,   2.8618
  18HU19950419, AR13d,    54,  1, 153838,     38,2,19950506, 45.4553, -46.0875, 3486,   2106.5,   3.1060,  34.8944,2,  34.9030,2,    283.8,2,    283.1,2,    12.11,6,    16.88,6,     1.05,6,    1.856,2,    1.120,2,    0.094,2,    5.962,2,    4.845,2,   2155.4,2,   2.9421
  18HU19950419, AR13d,    54,  1, 153837,     37,2,19950506, 45.4553, -46.0875, 3486,   2335.2,   3.0664,  34.9068,2,  34.9161,2,    279.8,2,    279.5,2,    13.01,6,    16.72,6,     1.06,6,    1.499,2,    1.063,2,    0.088,2,    5.257,2,    3.659,2,   2156.6,2,   2.8814
  18HU19950419, AR13d,    54,  1, 153836,     36,2,19950506, 45.4553, -46.0875, 3486,   2519.7,   2.9371,  34.9075,2,  34.9167,0,    279.0,2,    281.1,2,    13.31,6,    16.23,6,     1.07,6,    1.458,2,    1.187,2,    0.072,2,    6.219,2,    3.359,2,   2155.2,2,   2.7365
  18HU19950419, AR13d,    54,  1, 153835,     35,2,19950506, 45.4553, -46.0875, 3486,   2651.6,   2.8580,  34.9088,2,  34.9177,2,    279.7,2,    279.5,2,    14.05,6,    16.11,6,     1.03,6,    1.364,2,    0.958,2,    0.056,2,    3.189,2,    3.011,2,   2156.1,6,   2.6458
  18HU19950419, AR13d,    54,  1, 153834,     34,2,19950506, 45.4553, -46.0875, 3486,   2878.1,   2.6874,  34.9067,2,  34.9192,2,    280.9,2,    279.7,6,    14.28,6,    16.01,6,     1.03,6,    1.384,2,    0.988,2,    0.079,2,    2.631,2,    3.426,2,   2156.2,2,   2.4559
  18HU19950419, AR13d,    54,  1, 153833,     33,2,19950506, 45.4553, -46.0875, 3486,   3195.5,   2.3415,  34.8956,2,  34.9023,0,    283.5,2,    278.9,3,    16.42,6,    16.35,6,     1.04,6,    1.444,2,    0.819,2,    0.080,2,    2.878,2,    3.633,2,   2158.1,2,   2.0852
  18HU19950419, AR13d,    54,  1, 153832,     31,2,19950506, 45.4553, -46.0875, 3486,   3393.0,   2.2055,  34.8900,2,  34.8984,0,    283.6,2,    282.3,2,    17.26,6,    16.10,6,     1.04,6,    1.471,2,    1.028,2,    0.077,2,    2.727,2,    3.738,2,   2159.4,2,   1.9318
  18HU19950419, AR13d,    54,  1, 153831,     32,2,19950506, 45.4553, -46.0875, 3486,   3501.0,   2.1211,  34.8857,2,  34.8939,0,    283.0,2,    282.9,2,    17.32,6,    15.72,6,     1.03,6,    1.680,2,    0.927,2,    0.087,2,    3.254,2,    3.954,2,   2160.0,2,   1.8381
  18HU19950419, AR13d,    55,  1, 153876,     53,2,19950506, 45.0457, -45.6965, 3641,      7.7,   4.4179,  33.8041,2,  33.8131,2,    318.7,2,    330.1,2,     2.00,6,     2.84,6,     0.52,6,    4.256,2,    2.112,2,    0.692,3,    9.048,2,   15.222,2,   2073.0,2,   4.4174
  18HU19950419, AR13d,    55,  1, 153875,     52,2,19950506, 45.0457, -45.6965, 3641,     98.4,   7.4868,  34.6894,2,  34.6998,2,    251.4,2,    229.4,2,     8.35,6,    14.36,6,     1.00,6,    2.671,2,    1.402,2,    0.228,2,    3.666,2,    8.300,2,   2141.7,2,   7.4773
  18HU19950419, AR13d,    55,  1, 153874,     51,2,19950506, 45.0457, -45.6965, 3641,    178.2,   6.2986,  34.7599,2,  34.7578,2,    214.4,2,    209.0,2,    11.87,6,    18.51,6,     1.26,6,    2.387,2,    1.378,2, -999.000,5,    3.702,2,    8.707,2,   2167.8,2,   6.2830
  18HU19950419, AR13d,    55,  1, 153873,     50,2,19950506, 45.0457, -45.6965, 3641,    360.5,   5.4175,  34.9441,2,  34.9533,2,    217.0,2,    221.4,2,    12.32,6,    19.19,6,     1.26,6,    1.679,2,    0.995,2,    0.118,2,    6.596,2,    5.767,2,   2173.7,2,   5.3877
  18HU19950419, AR13d,    55,  1, 153872,     49,2,19950506, 45.0457, -45.6965, 3641,    495.1,   4.6799,  34.9481,2,  34.9567,2,    240.8,2,    244.3,2,    11.92,6,    18.41,6,     1.18,6,    2.200,2,    1.159,2,    0.152,2,    6.943,2,    7.833,2,   2169.6,2,   4.6413
  18HU19950419, AR13d,    55,  1, 153871,     48,2,19950506, 45.0457, -45.6965, 3641,    594.0,   4.5091,  34.9641,2,  34.9732,2,    248.8,2,    253.3,2,    11.69,6,    17.79,6,     1.15,6,    1.956,2, -999.000,5, -999.000,5,   11.863,3,    7.308,2,   2165.2,2,   4.4632
  18HU19950419, AR13d,    55,  1, 153870,     47,2,19950506, 45.0457, -45.6965, 3641,    795.5,   3.9334,  34.9200,2,  34.9301,2,    264.0,2,    269.1,2,    11.08,6,    17.60,6,     1.13,6,    2.272,6,    1.278,6,    0.136,6,    6.232,6,    7.329,6,   2161.2,2,   3.8743
  18HU19950419, AR13d,    55,  1, 153869,     46,2,19950506, 45.0457, -45.6965, 3641,   1002.0,   3.5783,  34.8954,2,  34.9160,2,    274.2,2,    274.6,2,    10.98,6,    17.57,6,     1.12,6,    2.194,2,    1.289,2,    0.460,3,    5.628,2,    7.429,2,   2158.9,2,   3.5050
  18HU19950419, AR13d,    55,  1, 153868,     45,2,19950506, 45.0457, -45.6965, 3641,   1101.5,   3.5224,  34.8962,2,  34.9053,2,    276.5,2,    277.1,2,    11.19,6,    17.13,6,     1.12,6,    1.983,2,    1.160,2,    0.110,2,    3.879,2,    6.726,2,   2154.8,2,   3.4415
  18HU19950419, AR13d,    55,  1, 153867,     44,2,19950506, 45.0457, -45.6965, 3641,   1359.9,   3.2408,  34.8701,2,  34.8788,2,    285.6,2,    286.6,2,    10.96,6,    17.05,6,     1.08,6,    2.539,2,    1.296,2,    0.140,2,    7.664,2,    9.103,2,   2154.5,2,   3.1413
  18HU19950419, AR13d,    55,  1, 153866,     43,2,19950506, 45.0457, -45.6965, 3641,   1518.6,   3.1586,  34.8657,2,  34.8745,2,    286.5,2,    288.8,2,    10.91,6,    16.59,6,     1.08,6,    2.333,2,    1.164,2,    0.128,2,    5.417,2,    7.849,2,   2166.7,6,   3.0466
  18HU19950419, AR13d,    55,  1, 153865,     42,2,19950506, 45.0457, -45.6965, 3641,   1679.7,   3.0935,  34.8615,2,  34.8708,2,    289.1,2,    289.6,2,    10.78,6,    16.89,6,     1.08,6,    2.427,2,    1.277,2,    0.177,2,    8.410,2,    8.408,2,   2153.8,2,   2.9684
  18HU19950419, AR13d,    55,  1, 153864,     41,2,19950506, 45.0457, -45.6965, 3641,   1755.7,   3.0630,  34.8600,2,  34.8691,2,    289.4,2,    287.7,2,    10.82,6,    16.75,6,     1.07,6,    2.445,2,    1.585,2,    0.123,2,    4.033,2,    8.327,2,   2152.4,2,   2.9316
  18HU19950419, AR13d,    55,  1, 153863,     40,2,19950506, 45.0457, -45.6965, 3641,   1868.1,   3.0281,  34.8570,2,  34.8662,2,    290.1,2,    291.7,2,    10.71,6,    16.38,6,     1.05,6,    2.599,2,    1.058,2,    0.118,2,    9.219,2,    9.141,2,   2152.8,2,   2.8873
  18HU19950419, AR13d,    55,  1, 153862,     39,2,19950506, 45.0457, -45.6965, 3641,   2001.1,   3.0204,  34.8628,2,  34.8719,2,    288.3,2,    290.7,2,    10.76,6,    16.62,6,     1.06,6,    2.398,2,    1.397,2,    0.172,2,    6.442,2,    8.324,2,   2152.1,2,   2.8676
  18HU19950419, AR13d,    55,  1, 153861,     38,2,19950506, 45.0457, -45.6965, 3641,   2218.8,   3.0564,  34.8824,2,  34.8910,2,    286.2,2,    285.9,2,    11.47,6,    16.67,6,     1.06,6,    1.972,2,    0.994,2,    0.139,2,    5.902,2,    6.713,2,   2155.7,2,   2.8828
  18HU19950419, AR13d,    55,  1, 153860,     37,2,19950506, 45.0457, -45.6965, 3641,   2400.2,   3.0491,  34.8974,2,  34.9151,2,    281.5,2,    279.5,2,    13.16,6,    16.34,6,     1.08,6,    1.445,2,    0.821,2,    0.114,2,    2.781,2,    5.282,2,   2156.3,6,   2.8581
  18HU19950419, AR13d,    55,  1, 153859,     36,3,19950506, 45.0457, -45.6965, 3641,   2625.1,   3.0016,  34.9179,2,  34.9269,0,    277.3,2,    275.2,3,    14.51,3,    16.62,3,     1.07,3,    0.990,3,    0.492,3,    0.066,3,    2.297,3,    3.627,3,   2158.3,3,   2.7893
  18HU19950419, AR13d,    55,  1, 153858,     35,2,19950506, 45.0457, -45.6965, 3641,   2853.6,   2.7944,  34.9097,2,  34.9189,2,    277.2,2,    278.4,2,    14.11,6,    16.11,6,     1.05,6,    1.216,2,    0.639,2,    0.080,2,    3.299,2,    4.049,2,   2157.9,2,   2.5632
  18HU19950419, AR13d,    55,  1, 153857,     34,2,19950506, 45.0457, -45.6965, 3641,   3099.9,   2.5929,  34.9040,2,  34.9130,0,    280.6,2,    279.6,2,    14.70,6,    16.46,6,     1.06,6,    1.284,2,    0.661,2,    0.102,2,   10.339,3,    4.548,2,   2160.0,2,   2.3408
  18HU19950419, AR13d,    55,  1, 153856,     33,2,19950506, 45.0457, -45.6965, 3641,   3361.5,   2.3343,  34.8949,2,  34.9009,2,    282.4,2,    281.0,2,    15.91,6,    16.04,6,     1.05,6,    1.432,2,    0.863,2,    0.077,2,    3.113,2,    5.171,2,   2161.1,2,   2.0608
  18HU19950419, AR13d,    55,  1, 153855,     31,2,19950506, 45.0457, -45.6965, 3641,   3510.5,   2.2257,  34.8895,2,  34.9000,2,    282.9,2,    282.6,2,    16.18,6,    15.84,6,     1.03,6,    1.476,2,    0.817,2,    0.118,2,    4.815,2,    5.189,2,   2160.5,2,   1.9390
  18HU19950419, AR13d,    55,  1, 153854,     32,2,19950506, 45.0457, -45.6965, 3641,   3668.0,   2.1063,  34.8847,2,  34.8965,2,    285.5,2,    285.0,6,    14.95,6,    15.39,6,     1.02,6,    1.725,2,    0.958,2,    0.090,2,    6.193,2,    6.306,2,   2159.5,2,   1.8057
  18HU19950419, AR13d,    56,  1, 153899,     53,2,19950506, 44.6085, -45.3062, 4058,     19.7,  12.2203,  35.4221,2,  35.4344,2,    247.0,2,    253.8,2,     3.08,6,     6.18,6,     0.46,6,    2.668,6,    1.273,6,    0.277,6,    6.237,6,    7.891,6,   2099.1,2,  12.2177
  18HU19950419, AR13d,    56,  1, 153898,     52,4,19950506, 44.6085, -45.3062, 4058,    206.7,  10.7758,  35.3406,2,-999.0000,9,    193.2,2,   -999.0,5,  -999.00,5,  -999.00,5,  -999.00,5, -999.000,9, -999.000,9, -999.000,9, -999.000,9, -999.000,9,   -999.0,9,  10.7505
  18HU19950419, AR13d,    56,  1, 153897,     51,2,19950506, 44.6085, -45.3062, 4058,    299.3,   8.5700,  35.1342,2,  35.1455,2,    164.2,2,    161.0,6,    13.70,6,    22.20,6,     1.47,6,    0.819,2,    0.348,2,    0.037,2,    9.537,2,    2.351,2,   2183.9,2,   8.5382
  18HU19950419, AR13d,    56,  1, 153896,     50,2,19950506, 44.6085, -45.3062, 4058,    392.3,   6.4230,  34.9905,2,  35.0016,2,    204.8,2,    201.4,2,    12.91,6,    20.00,6,     1.33,6,    1.440,2,    0.717,2,    0.075,2,    6.316,2,    4.079,2,   2177.6,2,   6.3874
  18HU19950419, AR13d,    56,  1, 153895,     49,2,19950506, 44.6085, -45.3062, 4058,    509.8,   5.5973,  35.0114,2,  35.0209,2,    219.3,2,    223.3,2,    12.41,6,    18.93,6,     1.28,6,    1.546,2,    0.729,2,    0.103,2,    4.755,2,    4.790,2,   2172.0,2,   5.5539
  18HU19950419, AR13d,    56,  1, 153894,     48,2,19950506, 44.6085, -45.3062, 4058,    706.5,   4.9645,  35.0262,2,  35.0362,2,    244.0,2,    246.0,2,    11.98,6,    17.77,6,     1.20,6,    1.518,2,    0.745,2,    0.066,2,    6.224,2,    4.118,2,   2166.8,2,   4.9067
  18HU19950419, AR13d,    56,  1, 153893,     47,2,19950506, 44.6085, -45.3062, 4058,    910.1,   4.2762,  34.9705,2,  34.9813,2,    256.7,2,    264.3,2,    11.61,6,    17.92,6,     1.18,6,    1.696,2,    0.783,2,    0.084,2,    4.003,2,    4.758,2,   2162.8,6,   4.2053
  18HU19950419, AR13d,    56,  1, 153892,     46,2,19950506, 44.6085, -45.3062, 4058,   1011.8,   4.0163,  34.9422,2,  34.9491,2,    274.0,2,    267.5,2,    11.49,6,    17.02,6,     1.18,6,    1.921,2,    1.046,2,    0.087,2,    3.977,2,    5.540,2,   2158.6,2,   3.9388
  18HU19950419, AR13d,    56,  1, 153891,     45,2,19950506, 44.6085, -45.3062, 4058,   1108.4,   3.8632,  34.9297,2,  34.9388,2,    272.3,2,    270.1,2,    11.31,6,    16.98,6,     1.15,6,    1.901,2,    0.981,2,    0.100,2,   10.564,3,    6.050,2,   2158.7,2,   3.7788
  18HU19950419, AR13d,    56,  1, 153890,     44,2,19950506, 44.6085, -45.3062, 4058,   1322.5,   3.4459,  34.8848,2,  34.8940,2,    280.3,2,    281.9,2,    10.98,6,    17.00,6,     1.11,6,    2.455,2,    1.058,2,    0.142,2,    6.432,2,    7.567,2,   2157.0,2,   3.3474
  18HU19950419, AR13d,    56,  1, 153889,     43,2,19950506, 44.6085, -45.3062, 4058,   1521.4,   3.2340,  34.8658,2,  34.8747,2,    281.3,2,    288.4,2,    10.60,6,    16.42,6,     1.09,6,    2.747,2,    1.190,2,    0.159,2,    8.749,2,    8.387,2,   2155.4,2,   3.1209
  18HU19950419, AR13d,    56,  1, 153888,     42,2,19950506, 44.6085, -45.3062, 4058,   1600.5,   3.1797,  34.8610,2,  34.8712,2,    284.5,2,    290.0,2,    10.58,6,    16.69,6,     1.10,6,    2.797,2,    1.268,2,    0.160,2,   10.930,3,    9.153,2,   2155.8,2,   3.0604
  18HU19950419, AR13d,    56,  1, 153887,     41,2,19950506, 44.6085, -45.3062, 4058,   1800.3,   3.0744,  34.8545,2,  34.8633,2,    285.6,2,    291.8,2,    10.60,6,    16.29,6,     1.08,6,    2.863,2,    1.205,2,    0.186,2,   15.838,4,    8.875,2,   2153.4,6,   2.9390
  18HU19950419, AR13d,    56,  1, 153886,     40,2,19950506, 44.6085, -45.3062, 4058,   2003.8,   3.0278,  34.8556,2,  34.8653,2,    289.1,2,    293.3,2,    10.53,6,    16.36,6,     1.09,6,    2.783,2,    1.180,2,    0.172,2,    7.398,2,    8.952,2,   2153.1,2,   2.8747
  18HU19950419, AR13d,    56,  1, 153885,     39,2,19950506, 44.6085, -45.3062, 4058,   2260.7,   3.0816,  34.8840,2,  34.8930,2,    286.3,2,    285.6,2,    11.68,6,    16.32,6,     1.08,6,    2.121,2,    1.047,2,    0.119,2,    4.008,2,    6.489,2,   2154.3,2,   2.9036
  18HU19950419, AR13d,    56,  1, 153884,     38,2,19950506, 44.6085, -45.3062, 4058,   2490.8,   3.0837,  34.9059,2,  34.9147,0,    281.2,2,    280.3,2,    12.66,6,    16.49,6,     1.12,6,    1.520,2,    0.820,2,    0.068,2,    6.871,2,    4.232,2,   2155.5,2,   2.8832
  18HU19950419, AR13d,    56,  1, 153883,     37,2,19950506, 44.6085, -45.3062, 4058,   2767.5,   2.9010,  34.9086,2,  34.9175,2,    277.8,2,    280.0,2,    13.61,6,    16.34,6,     1.07,6,    1.408,2,    0.654,2,    0.054,2,    5.922,2,    3.665,2,   2157.4,2,   2.6763
  18HU19950419, AR13d,    56,  1, 153882,     36,2,19950506, 44.6085, -45.3062, 4058,   2985.3,   2.7197,  34.9014,2,  34.9108,2,    281.7,2,    281.9,2,    13.06,6,    15.83,6,     1.07,6,    1.659,2,    0.729,2,    0.083,2,    6.871,2,    4.994,2,   2156.9,2,   2.4766
  18HU19950419, AR13d,    56,  1, 153881,     35,2,19950506, 44.6085, -45.3062, 4058,   3190.6,   2.5774,  34.9018,2,  34.9104,2,    283.5,2,    279.2,2,    14.49,6,    16.13,6,     1.07,6,    1.452,2,    0.811,2,    0.069,2,    4.841,2,    4.415,2,   2159.6,2,   2.3161
  18HU19950419, AR13d,    56,  1, 153880,     34,2,19950506, 44.6085, -45.3062, 4058,   3382.0,   2.4204,  34.8986,2,  34.9076,2,    283.9,2,    279.2,2,    17.35,6,    16.54,6,     1.08,6,    1.213,2,    0.574,2,    0.050,2,    3.481,2,    3.293,2,   2161.1,2,   2.1426
  18HU19950419, AR13d,    56,  1, 153879,     33,2,19950506, 44.6085, -45.3062, 4058,   3733.6,   2.2608,  34.8916,2,  34.8990,2,    276.2,2,    276.6,2,    23.03,6,    17.00,6,     1.14,6,    0.887,2,    0.424,2,    0.035,2,    2.766,2,    2.136,2,   2166.9,2,   1.9490
  18HU19950419, AR13d,    56,  1, 153878,     31,2,19950506, 44.6085, -45.3062, 4058,   4031.8,   2.2117,  34.8860,2,  34.8951,2,    274.2,2,    274.3,2,    24.87,6,    17.35,6,     1.17,6,    0.920,2,    0.559,2,    0.038,2,    2.140,2,    2.152,2,   2168.4,2,   1.8678
  18HU19950419, AR13d,    56,  1, 153877,     32,2,19950506, 44.6085, -45.3062, 4058,   4114.3,   2.1335,  34.8835,2,  34.8951,2,    279.2,2,    283.5,2,    15.71,6,    15.82,6,     1.05,6,    1.853,2,    0.825,2,    0.088,2,    3.989,2,    5.818,2,   2159.9,6,   1.7824