BOTTLE,20220817CCHSIOAMB
EXPOCODE,SECT_ID,STNNBR,CASTNO,SAMPNO,BTLNBR,BTLNBR_FLAG_W,DATE,LATITUDE,LONGITUDE,DEPTH,CTDPRS,CTDTMP,CTDSAL,CTDSAL_FLAG_W,SALNTY,SALNTY_FLAG_W,CTDOXY,CTDOXY_FLAG_W,OXYGEN,OXYGEN_FLAG_W,SILCAT,SILCAT_FLAG_W,NITRAT,NITRAT_FLAG_W,PHSPHT,PHSPHT_FLAG_W,CFC-11,CFC-11_FLAG_W,CFC-12,CFC-12_FLAG_W,CFC113,CFC113_FLAG_W,CCL4,CCL4_FLAG_W,MCHFRM,MCHFRM_FLAG_W,TCARBN,TCARBN_FLAG_W,THETA
,,,,,,,,,,METERS,DBAR,ITS-90,PSS-78,,PSS-78,,UMOL/KG,,UMOL/KG,,UMOL/KG,,UMOL/KG,,UMOL/KG,,PMOL/KG,,PMOL/KG,,PMOL/KG,,PMOL/KG,,PMOL/KG,,UMOL/KG,,DEG C
  18HU19950419, AR13d,     5,  1, 152974,     46,2,19950422, 42.4905, -50.2988, 2297,     12.4,  -0.2710,  32.7713,2,  32.7703,2,    381.0,2,    401.2,2,     2.66,6,     0.39,6,     0.56,6,    5.749,2,    2.543,2,    0.531,3,   12.669,3,   16.498,2,   2058.9,6,  -0.2714
  18HU19950419, AR13d,     5,  1, 152973,     45,2,19950422, 42.4905, -50.2988, 2297,     51.8,  -0.9772,  32.9848,2,  32.9849,2,    363.7,2,    361.0,2,     6.52,6,     6.10,6,     0.86,6,    5.557,2,    2.507,2,    0.406,2,   10.000,3,   15.611,2,   2096.4,2,  -0.9784
  18HU19950419, AR13d,     5,  1, 152972,     44,2,19950422, 42.4905, -50.2988, 2297,     99.1,  -0.2061,  33.2339,2,  33.2403,2,    349.1,2,    353.0,2,     5.38,6,     5.33,6,     0.84,6,    5.346,2,    2.597,2,    0.465,2,   11.332,3,   15.319,2,   2098.2,2,  -0.2092
  18HU19950419, AR13d,     5,  1, 152971,     43,2,19950422, 42.4905, -50.2988, 2297,    194.8,  -0.1098,  33.5745,2,  33.5758,2,    322.2,2,    321.5,2,    10.10,6,    10.14,6,     0.98,6,    4.850,2,    2.863,2,    0.336,2,    8.485,2,   14.799,2,   2124.7,2,  -0.1164
  18HU19950419, AR13d,     5,  1, 152970,     42,2,19950422, 42.4905, -50.2988, 2297,    296.9,   1.3182,  34.1169,2,  34.1153,2,    298.9,2,    300.4,2,    10.53,3,    11.61,3,     1.00,6,    4.369,2,    2.041,2,    0.314,2,    6.520,2,   13.392,2,   1998.7,4,   1.3040
  18HU19950419, AR13d,     5,  1, 152969,     41,3,19950422, 42.4905, -50.2988, 2297,    396.8,   3.4273,  34.6194,2,  34.6151,2,    273.2,2,    269.2,2,    11.49,6,    16.61,6,     1.17,6,    3.134,2,    1.550,2,    0.216,2,    5.680,2,    9.868,2,   2019.6,4,   3.4008
  18HU19950419, AR13d,     5,  1, 152968,     40,2,19950422, 42.4905, -50.2988, 2297,    596.9,   3.8208,  34.8484,2,  34.8502,2,    268.3,2,    274.6,2,    10.69,6,    17.05,6,     1.17,6,    3.079,6,    1.626,6,    0.204,6,    6.360,6,   10.951,6,   2021.6,4,   3.7779
  18HU19950419, AR13d,     5,  1, 152967,     39,2,19950422, 42.4905, -50.2988, 2297,    798.3,   3.7189,  34.8921,2,  34.8903,2,    276.1,2,    279.3,2,    10.37,6,    16.91,6,     1.15,6,    2.721,2,    1.391,2,    0.189,2,    5.590,2,    9.446,2,   -999.0,5,   3.6609
  18HU19950419, AR13d,     5,  1, 152966,     38,2,19950422, 42.4905, -50.2988, 2297,    990.2,   3.5161,  34.8894,2,  34.8892,2,    294.6,2,    280.9,2,    10.56,6,    17.20,6,     1.14,6,    2.524,2,    2.294,3,    0.139,2, -999.000,5,    9.418,2,   -999.0,5,   3.4443
  18HU19950419, AR13d,     5,  1, 152965,     37,2,19950422, 42.4905, -50.2988, 2297,   1196.9,   3.2592,  34.8697,2,  34.8695,2,    299.2,2,    286.3,2,    10.76,6,    16.84,6,     1.14,6,    2.807,3,    2.004,3,    0.238,3,    5.724,3,   11.310,3,   -999.0,5,   3.1729
  18HU19950419, AR13d,     5,  1, 152964,     36,2,19950422, 42.4905, -50.2988, 2297,   1394.6,   3.1613,  34.8625,2,  34.8617,2,    295.0,2,    289.4,2,    10.74,6,    16.78,6,     1.16,6,    2.734,2,    1.648,3,    0.132,2,    5.781,2,    9.331,2,   -999.0,5,   3.0598
  18HU19950419, AR13d,     5,  1, 152963,     35,2,19950422, 42.4905, -50.2988, 2297,   1598.3,   3.1241,  34.8653,2,  34.8660,2,    288.5,2,    288.9,2,    10.67,6,    16.53,6,     1.14,6,    2.562,2,    1.466,3,    0.171,2,    9.293,2,    9.146,2,   -999.0,5,   3.0057
  18HU19950419, AR13d,     5,  1, 152962,     33,2,19950422, 42.4905, -50.2988, 2297,   1807.6,   3.0930,  34.8737,2,  34.8745,0,    285.4,2,    287.7,2,    11.12,6,    16.95,6,     1.15,6,    2.403,2,    0.748,2,    0.178,2,    6.447,2,    9.225,2,   -999.0,5,   2.9566
  18HU19950419, AR13d,     5,  1, 152961,     34,2,19950422, 42.4905, -50.2988, 2297,   1989.3,   3.1646,  34.8990,2,  34.9005,2,    278.1,2,    281.3,2,    12.15,6,    16.79,6,     1.16,6,    1.703,2,    1.117,2,    0.174,2,    6.149,2,    6.978,2,   -999.0,5,   3.0107
  18HU19950419, AR13d,     5,  1, 152960,     32,2,19950422, 42.4905, -50.2988, 2297,   2227.0,   3.1522,  34.9167,2,  33.3485,3,    273.4,2,    276.7,6,    13.39,6,    16.95,6,     1.13,6,    1.286,2,    0.760,2,    0.078,2,    4.420,2,    8.096,2,   -999.0,5,   2.9761
  18HU19950419, AR13d,     5,  1, 152959,     31,4,19950422, 42.4905, -50.2988, 2297,   2338.7,   3.0189,  34.9212,2,  33.3346,3,    268.9,2,    295.0,3,     7.45,4,     7.83,4,     0.85,4, -999.000,9, -999.000,9, -999.000,9, -999.000,9, -999.000,9,   -999.0,5,   2.8343
  18HU19950419, AR13d,     6,  1, 152997,     53,2,19950422, 42.2445, -50.2917, 3080,      9.6,   0.8361,  33.1743,2,  33.1756,2,    360.5,2,    379.7,2,     2.14,6,     1.25,6,     0.48,6,    5.768,2,    2.967,2,    0.541,3,   11.979,3,   17.798,2,   -999.0,5,   0.8357
  18HU19950419, AR13d,     6,  1, 152996,     52,2,19950422, 42.2445, -50.2917, 3080,    146.9,   0.6299,  33.8564,2,  33.8560,2,    314.2,2,    279.0,2,    10.54,6,    11.67,6,     0.98,6,    5.016,2,    2.556,2,    0.366,2,   10.114,3,   16.417,2,   2018.3,4,   0.6240
  18HU19950419, AR13d,     6,  1, 152995,     51,2,19950422, 42.2445, -50.2917, 3080,    277.0,   4.8295,  34.7755,2,  34.7749,2,    257.7,2,    228.1,2,    12.82,6,    19.02,6,     1.29,6,    2.369,2,    1.133,2,    0.140,2, -999.000,5,    8.785,2,   2061.2,2,   4.8081
  18HU19950419, AR13d,     6,  1, 152994,     50,2,19950422, 42.2445, -50.2917, 3080,    388.3,   3.1156,  34.6423,2,  34.6413,2,    277.5,2,    285.8,2,    10.19,6,    15.92,6,     1.07,6,    3.818,2,    1.916,2,    0.244,2,    7.152,2,   15.000,2,   2053.9,3,   3.0907
  18HU19950419, AR13d,     6,  1, 152993,     49,2,19950422, 42.2445, -50.2917, 3080,    504.8,   4.2137,  34.8773,2,  34.8789,2,    267.6,2,    261.0,2,    10.98,6,    17.99,6,     1.17,6,    2.777,2,    1.362,2,    0.168,2,    4.461,2,    9.898,2,   2066.7,3,   4.1762
  18HU19950419, AR13d,     6,  1, 152992,     48,2,19950422, 42.2445, -50.2917, 3080,    601.1,   3.8834,  34.8706,2,  34.8693,2,    277.2,2,    274.9,2,    10.34,6,    17.03,6,     1.13,6,    3.301,2,    1.700,2,    0.199,2,    5.964,2,   10.915,2,   -999.0,5,   3.8399
  18HU19950419, AR13d,     6,  1, 152991,     47,2,19950422, 42.2445, -50.2917, 3080,    697.5,   4.1139,  34.9286,2,  34.9297,2,    272.7,2,    267.3,2,    10.89,6,    17.83,6,     1.14,6,    2.486,2,    1.258,2,    0.132,2,    4.635,2,    8.561,2,   2163.1,2,   4.0616
  18HU19950419, AR13d,     6,  1, 152990,     46,2,19950422, 42.2445, -50.2917, 3080,    794.7,   4.0896,  34.9407,2,  34.9401,2,    269.8,2,    266.2,6,    11.11,6,    17.94,6,     1.15,6,    2.217,2,    1.157,2,    0.127,2,    5.318,2,    7.541,2,   2163.0,2,   4.0296
  18HU19950419, AR13d,     6,  1, 152989,     45,2,19950422, 42.2445, -50.2917, 3080,    895.6,   3.8371,  34.9203,2,  34.9186,2,    275.9,2,    274.0,2,    11.01,6,    17.33,6,     1.19,6,    2.453,2,    1.196,2,    0.122,2,    4.159,2,    8.905,2,   2163.0,6,   3.7705
  18HU19950419, AR13d,     6,  1, 152988,     44,2,19950422, 42.2445, -50.2917, 3080,    992.1,   3.8408,  34.9353,2,  34.9352,2,    273.1,2,    270.5,2,    11.20,6,    17.17,6,     1.15,6,    1.848,2,    0.953,2,    0.112,2,   12.160,3,   10.300,2,   2161.6,2,   3.7663
  18HU19950419, AR13d,     6,  1, 152987,     43,2,19950422, 42.2445, -50.2917, 3080,   1115.2,   3.4646,  34.8942,2,  34.8917,2,    280.8,2,    281.1,2,    10.92,6,    17.09,6,     1.14,6,    2.432,6,    1.259,6,    0.128,6,    8.081,6,    8.052,6,   2157.9,2,   3.3831
  18HU19950419, AR13d,     6,  1, 152986,     42,2,19950422, 42.2445, -50.2917, 3080,   1217.1,   3.6383,  34.9317,2,  34.9306,2,    276.7,2,    272.2,2,    11.70,6,    17.58,6,     1.15,6,    1.444,2,    0.760,2,    0.060,2,    6.374,2,    5.306,2,   -999.0,5,   3.5467
  18HU19950419, AR13d,     6,  1, 152985,     41,2,19950422, 42.2445, -50.2917, 3080,   1288.1,   3.5300,  34.9188,2,  34.9186,2,    277.3,2,    276.0,2,    11.87,6,    17.36,6,     1.14,6,    1.665,2,    0.784,2,    0.108,2, -999.000,5,    5.676,2,   2159.6,2,   3.4335
  18HU19950419, AR13d,     6,  1, 152984,     40,3,19950422, 42.2445, -50.2917, 3080,   1487.6,   3.3363,  34.9000,2,  34.8997,2,    282.7,2,    280.5,2,    11.82,6,    17.12,6,     1.13,6,    1.930,2,    0.987,2,    0.099,2, -999.000,5,    6.949,2,   2156.3,2,   3.2249
  18HU19950419, AR13d,     6,  1, 152983,     39,2,19950422, 42.2445, -50.2917, 3080,   1641.9,   3.2920,  34.9020,2,  34.9025,2,    282.9,2,    280.4,2,    11.90,6,    17.35,6,     1.13,6,    1.815,2,    0.855,2,    0.073,2,    5.091,2,    6.880,2,   2012.0,4,   3.1676
  18HU19950419, AR13d,     6,  1, 152982,     38,2,19950422, 42.2445, -50.2917, 3080,   1794.4,   3.3404,  34.9221,2,  34.9233,2,    278.8,2,    275.5,2,    12.90,6,    17.21,6,     1.13,6,    1.303,2,    0.692,2,    0.122,2,    3.799,2,    4.814,2,   2023.6,4,   3.2017
  18HU19950419, AR13d,     6,  1, 152981,     37,2,19950422, 42.2445, -50.2917, 3080,   2041.8,   3.3069,  34.9383,2,  34.9385,2,    273.5,2,    271.4,2,    14.32,6,    17.29,6,     1.21,6,    0.721,2,    0.400,2,    0.033,2,    4.854,2,    3.438,2,   2026.4,4,   3.1458
  18HU19950419, AR13d,     6,  1, 152980,     36,2,19950422, 42.2445, -50.2917, 3080,   2288.1,   3.0692,  34.9245,2,  34.9246,0,    275.0,2,    275.1,2,    13.58,6,    16.51,6,     1.12,6,    1.000,2,    0.490,2,    0.029,2,    5.502,2,    3.703,2,   2033.2,4,   2.8886
  18HU19950419, AR13d,     6,  1, 152979,     35,2,19950422, 42.2445, -50.2917, 3080,   2497.0,   2.9109,  34.9316,2,  34.9304,2,    271.4,2,    271.7,2,    16.20,6,    17.24,6,     1.15,6,    0.561,2,    0.346,2,    0.031,2,    8.470,2,    2.255,2,   2034.0,4,   2.7129
  18HU19950419, AR13d,     6,  1, 152978,     33,2,19950422, 42.2445, -50.2917, 3080,   2704.6,   2.6582,  34.9187,2,  34.9186,2,    273.0,2,    273.5,2,    16.10,6,    16.53,6,     1.11,6,    0.830,2,    0.475,2,    0.030,2,    7.981,2,    5.638,2,   2052.1,4,   2.4447
  18HU19950419, AR13d,     6,  1, 152977,     34,2,19950422, 42.2445, -50.2917, 3080,   2900.8,   2.4026,  34.9085,2,  34.9083,2,    272.6,2,    276.7,2,    17.93,6,    16.90,6,     1.13,6,    0.939,2,    0.505,2,    0.039,2,    4.366,2,    3.483,2,   2007.3,4,   2.1748
  18HU19950419, AR13d,     6,  1, 152976,     32,2,19950422, 42.2445, -50.2917, 3080,   3006.0,   2.2924,  34.9030,2,  34.9034,2,    272.0,2,    276.5,2,    18.50,6,    16.54,6,     1.16,6,    0.986,2,    0.492,2,    0.040,2,    2.732,2,    4.936,2,   2022.6,4,   2.0565
  18HU19950419, AR13d,     6,  1, 152975,     31,4,19950422, 42.2445, -50.2917, 3080,   3092.5,   2.2653,  34.9014,2,-999.0000,9,    271.9,2,   -999.0,5,  -999.00,9,  -999.00,9,  -999.00,9, -999.000,9, -999.000,9, -999.000,9, -999.000,9, -999.000,9,   -999.0,9,   2.0212
  18HU19950419, AR13d,     7,  1, 153021,     54,2,19950422, 41.9780, -50.2762, 3562,      9.2,   1.3809,  33.0938,2,-999.0000,9,    415.8,2,    405.6,2,     0.98,6,     0.00,6,     0.35,6,    5.532,2,    2.910,2,    0.691,3,   11.847,3,   16.428,2,   2028.9,2,   1.3805
  18HU19950419, AR13d,     7,  1, 153020,     53,2,19950422, 41.9780, -50.2762, 3562,    102.3,   1.0756,  33.6448,2,-999.0000,9,    356.0,2,    327.2,2,     7.18,6,     8.09,6,     0.81,6,    4.763,2,    2.773,2,    0.378,2,    9.049,2,   14.597,2,   2108.3,2,   1.0712
  18HU19950419, AR13d,     7,  1, 153019,     52,2,19950422, 41.9780, -50.2762, 3562,    201.6,   1.8427,  34.1493,2,-999.0000,9,    313.6,2,    286.8,2,    11.52,6,    13.99,6,     1.06,6,    4.108,2,    2.314,2,    0.308,2,    7.994,2,   14.846,2,   2144.9,2,   1.8323
  18HU19950419, AR13d,     7,  1, 153018,     51,2,19950422, 41.9780, -50.2762, 3562,    301.4,   2.7681,  34.5189,2,-999.0000,9,    293.2,2,    288.3,2,    10.41,6,    15.19,6,     1.03,6,    3.896,2,    1.793,2,    0.307,2,    6.190,2,   14.467,2,   2150.6,2,   2.7499
  18HU19950419, AR13d,     7,  1, 153017,     50,2,19950422, 41.9780, -50.2762, 3562,    406.9,   4.9060,  34.9271,2,-999.0000,9,    251.1,2,    233.9,2,    12.53,6,    19.18,6,     1.33,6, -999.000,5, -999.000,5, -999.000,5, -999.000,5, -999.000,5,   2173.0,2,   4.8739
  18HU19950419, AR13d,     7,  1, 153016,     49,2,19950422, 41.9780, -50.2762, 3562,    498.6,   4.7937,  34.9732,2,-999.0000,9,    257.9,2,    241.5,2,    12.33,6,    18.73,6,     1.23,6,    1.645,2,    0.934,2,    0.094,2,    4.804,2,   11.300,2,   2170.4,2,   4.7544
  18HU19950419, AR13d,     7,  1, 153015,     48,2,19950422, 41.9780, -50.2762, 3562,    599.7,   4.3416,  34.9319,2,-999.0000,9,    257.9,2,    255.3,2,    11.65,6,    18.47,6,     1.19,6,    2.038,2,    1.400,2,    0.196,2,    7.088,2,    9.055,2,   2167.3,2,   4.2960
  18HU19950419, AR13d,     7,  1, 153014,     47,2,19950422, 41.9780, -50.2762, 3562,    704.7,   4.2794,  34.9538,2,-999.0000,9,    253.4,2,    257.8,2,    11.73,6,    18.01,6,     1.18,6,    1.820,2,    0.691,2,    0.089,2,    4.314,2,    8.790,2,   2162.8,2,   4.2256
  18HU19950419, AR13d,     7,  1, 153013,     46,2,19950422, 41.9780, -50.2762, 3562,    815.8,   4.0572,  34.9408,2,-999.0000,9,    259.9,2,    264.3,2,    11.56,6,    18.12,6,     1.21,6,    1.746,2,    0.815,2,    0.107,2,    5.503,2,    6.669,2,   2161.5,2,   3.9956
  18HU19950419, AR13d,     7,  1, 153012,     45,2,19950422, 41.9780, -50.2762, 3562,    928.1,   3.5447,  34.8760,2,-999.0000,9,    268.5,2,    281.4,2,    10.65,6,    17.01,6,     1.12,6,    2.785,2,    1.394,2,    0.323,3,   12.509,3,   11.078,2,   2160.2,2,   3.4777
  18HU19950419, AR13d,     7,  1, 153011,     44,2,19950422, 41.9780, -50.2762, 3562,   1051.5,   3.5155,  34.8832,2,  34.8907,2,    272.1,2,    281.4,2,    10.81,6,    17.41,6,     1.11,6,    2.545,2,    1.092,2,    0.129,2, -999.000,5,   10.067,2,   2159.2,2,   3.4388
  18HU19950419, AR13d,     7,  1, 153010,     43,2,19950422, 41.9780, -50.2762, 3562,   1248.8,   3.4817,  34.8951,2,  34.9029,2,    279.4,2,    279.1,2,    11.45,6,    17.24,6,     1.11,6,    2.120,6,    0.942,6,    0.103,6,    6.543,6,    7.841,6,   2160.1,2,   3.3890
  18HU19950419, AR13d,     7,  1, 153009,     42,2,19950422, 41.9780, -50.2762, 3562,   1422.4,   3.3273,  34.8799,2,  34.8883,2,    280.8,2,    282.5,2,    12.22,6,    17.36,6,     1.19,6,    2.220,2,    0.959,2,    0.191,3,    4.465,2,    8.241,2,   2158.5,2,   3.2216
  18HU19950419, AR13d,     7,  1, 153008,     41,2,19950422, 41.9780, -50.2762, 3562,   1635.3,   3.3711,  34.9027,2,  34.9115,2,    287.2,2,    277.4,2,    12.33,6,    17.30,6,     1.13,6,    1.664,2,    0.861,2,    0.086,2,    5.954,2,    6.154,2,   2160.4,2,   3.2463
  18HU19950419, AR13d,     7,  1, 153007,     40,4,19950422, 41.9780, -50.2762, 3562,   1886.7,   3.3400,  34.9150,2,-999.0000,9,    282.3,2,   -999.0,5,  -999.00,9,  -999.00,9,  -999.00,9, -999.000,9, -999.000,9, -999.000,9, -999.000,9, -999.000,9,   -999.0,9,   3.1929
  18HU19950419, AR13d,     7,  1, 153006,     39,4,19950422, 41.9780, -50.2762, 3562,   2134.9,   3.3194,  34.9394,2,-999.0000,9,    271.7,2,   -999.0,5,  -999.00,9,  -999.00,9,  -999.00,9, -999.000,9, -999.000,9, -999.000,9, -999.000,9, -999.000,9,   -999.0,9,   3.1493
  18HU19950419, AR13d,     7,  1, 153005,     38,4,19950422, 41.9780, -50.2762, 3562,   2253.5,   3.2563,  34.9396,2,-999.0000,9,    268.3,2,   -999.0,5,  -999.00,9,  -999.00,9,  -999.00,9, -999.000,9, -999.000,9, -999.000,9, -999.000,9, -999.000,9,   -999.0,9,   3.0759
  18HU19950419, AR13d,     7,  1, 153004,     37,2,19950422, 41.9780, -50.2762, 3562,   2465.4,   3.0719,  34.9283,2,  34.9372,2,    273.0,2,    175.0,4,    15.85,6,    17.59,6,     1.14,6,    0.711,2,    0.385,2,    0.068,2,    1.861,2,    2.800,2,   2160.0,2,   2.8740
  18HU19950419, AR13d,     7,  1, 153003,     36,2,19950422, 41.9780, -50.2762, 3562,   2593.9,   2.9195,  34.9200,2,  34.9286,2,    272.3,2,    272.6,2,    16.00,6,    17.20,6,     1.12,6,    0.928,2,    0.306,2,    0.077,2,    7.424,2,    3.988,2,   2159.2,2,   2.7118
  18HU19950419, AR13d,     7,  1, 153002,     35,2,19950422, 41.9780, -50.2762, 3562,   2801.4,   2.7048,  34.9122,2,  34.9207,2,    274.7,2,    275.0,6,    16.18,6,    16.79,6,     1.10,6,    0.972,2,    0.539,2,    0.062,2,    9.283,2,    4.296,2,   2161.6,2,   2.4807
  18HU19950419, AR13d,     7,  1, 153001,     33,2,19950422, 41.9780, -50.2762, 3562,   3002.2,   2.4924,  34.9037,2,  34.9124,2,    277.0,2,    276.0,2,    17.60,6,    16.93,6,     1.12,6,    0.989,2,    0.586,2,    0.091,2,    2.166,2,    3.793,2,   2163.4,2,   2.2525
  18HU19950419, AR13d,     7,  1, 153000,     34,2,19950422, 41.9780, -50.2762, 3562,   3211.9,   2.3555,  34.8975,2,  34.9059,2,    276.8,2,    276.2,2,    18.94,6,    16.82,6,     1.11,6,    1.216,2,    0.544,2,    0.075,2,    4.182,2,    5.531,2,   2163.8,6,   2.0971
  18HU19950419, AR13d,     7,  1, 152999,     32,2,19950422, 41.9780, -50.2762, 3562,   3490.2,   2.2530,  34.8915,2,  34.8994,2,    275.2,2,    275.4,2,    21.01,6,    16.98,6,     1.19,6,    0.984,2,    0.438,2,    0.066,2,    7.871,2,    6.040,2,   2164.6,2,   1.9678
  18HU19950419, AR13d,     7,  1, 152998,     31,2,19950422, 41.9780, -50.2762, 3562,   3572.4,   2.2257,  34.8892,2,  34.8971,2,    273.8,2,    274.7,2,     0.90,4,     0.00,3,     0.40,4,    0.938,2,    0.346,2,    0.060,2,    4.095,2,    4.631,2,   2169.7,2,   1.9323