BOTTLE,20220817CCHSIOAMB
EXPOCODE,SECT_ID,STNNBR,CASTNO,SAMPNO,BTLNBR,BTLNBR_FLAG_W,DATE,LATITUDE,LONGITUDE,DEPTH,CTDPRS,CTDTMP,CTDSAL,CTDSAL_FLAG_W,SALNTY,SALNTY_FLAG_W,CTDOXY,CTDOXY_FLAG_W,OXYGEN,OXYGEN_FLAG_W,SILCAT,SILCAT_FLAG_W,NITRAT,NITRAT_FLAG_W,PHSPHT,PHSPHT_FLAG_W,CFC-11,CFC-11_FLAG_W,CFC-12,CFC-12_FLAG_W,CFC113,CFC113_FLAG_W,CCL4,CCL4_FLAG_W,MCHFRM,MCHFRM_FLAG_W,TCARBN,TCARBN_FLAG_W,THETA
,,,,,,,,,,METERS,DBAR,ITS-90,PSS-78,,PSS-78,,UMOL/KG,,UMOL/KG,,UMOL/KG,,UMOL/KG,,UMOL/KG,,PMOL/KG,,PMOL/KG,,PMOL/KG,,PMOL/KG,,PMOL/KG,,UMOL/KG,,DEG C
  18HU19950419, AR13d,    24,  1, 153391,     53,2,19950427, 38.2522, -44.5715, 5146,      6.6,  18.2518,  36.5123,2,  36.5233,2,    227.1,2,    229.1,2,     0.84,2,     1.05,6,     0.11,6,    2.015,2,    1.231,2,    0.087,2,    7.169,2,    4.491,2,   2068.4,2,  18.2506
  18HU19950419, AR13d,    24,  1, 153390,     52,2,19950427, 38.2522, -44.5715, 5146,     98.5,  18.2648,  36.5139,2,  36.5249,2,    231.1,2,    224.9,2,     0.86,6,     1.18,6,     0.09,6,    2.010,2,    1.253,2,    0.086,2,    5.050,2,    5.736,2,   2071.0,2,  18.2476
  18HU19950419, AR13d,    24,  1, 153389,     51,2,19950427, 38.2522, -44.5715, 5146,    188.3,  18.2477,  36.5364,2,  36.5507,2,    224.1,2,    219.4,2,     1.39,6,     2.26,6,     0.11,6,    2.030,2,    1.270,2,    0.114,2,    3.876,2,    5.741,2,   2075.2,2,  18.2147
  18HU19950419, AR13d,    24,  1, 153388,     50,2,19950427, 38.2522, -44.5715, 5146,    406.5,  14.8491,  35.9077,2,  35.9229,2,    209.7,2,    201.6,2,     3.88,6,     9.46,6,     0.52,6,    1.885,2,    1.100,2,    0.075,2,    4.459,2,    4.879,2,   2115.0,2,  14.7871
  18HU19950419, AR13d,    24,  1, 153387,     49,2,19950427, 38.2522, -44.5715, 5146,    715.7,   8.4079,  35.1236,2,  35.1334,2,    148.2,2,    148.2,2,    15.84,6,    25.39,6,     1.56,6,    0.288,2,    0.165,2,    0.011,2,    4.134,2,    0.638,2,   2190.1,2,   8.3308
  18HU19950419, AR13d,    24,  1, 153386,     48,2,19950427, 38.2522, -44.5715, 5146,   1069.9,   5.2994,  35.0680,2,  35.0781,2,    233.7,2,    234.7,2,    12.10,6,    19.10,6,     1.21,6,    1.194,2,    0.589,2,    0.048,2,    6.074,2,    3.952,2,   2168.3,2,   5.2063
  18HU19950419, AR13d,    24,  1, 153385,     47,2,19950427, 38.2522, -44.5715, 5146,   1211.3,   4.3409,  34.9465,2,  35.7027,3,    258.0,2,    240.7,2,     6.43,4,    10.67,4,     0.66,4,    1.931,6,    0.934,6,    0.108,6,    6.620,6,    5.969,6,   2122.8,4,   4.2433
  18HU19950419, AR13d,    24,  1, 153384,     46,4,19950427, 38.2522, -44.5715, 5146,   1298.2,   4.1817,  34.9388,2,  34.9518,0,    261.8,2,    262.1,4,    11.33,4,    18.23,4,     1.14,4,    2.112,4,    1.143,4,    0.091,4,    4.362,4,    7.458,4,   2161.1,4,   4.0779
  18HU19950419, AR13d,    24,  1, 153383,     45,2,19950427, 38.2522, -44.5715, 5146,   1400.6,   4.1780,  34.9610,2,  34.9707,2,    263.3,2,    262.2,2,    11.73,6,    18.44,6,     1.15,6,    1.471,2,    0.723,2,    0.046,2,    3.807,2,    3.863,2,   2158.0,2,   4.0649
  18HU19950419, AR13d,    24,  1, 153382,     44,2,19950427, 38.2522, -44.5715, 5146,   1622.6,   3.8791,  34.9406,2,  34.9460,2,    269.3,2,    269.0,2,    11.78,6,    18.27,6,     1.17,6,    1.365,2,    0.662,2,    0.048,2,    7.582,2,    4.173,2,   2157.4,2,   3.7491
  18HU19950419, AR13d,    24,  1, 153381,     43,2,19950427, 38.2522, -44.5715, 5146,   1818.0,   3.6706,  34.9296,2,  34.9369,2,    269.4,2,    271.3,2,    12.23,6,    18.19,6,     1.13,6,    1.271,2,    0.644,2,    0.046,2,    5.478,2,    3.677,2,   2154.4,2,   3.5252
  18HU19950419, AR13d,    24,  1, 153380,     42,2,19950427, 38.2522, -44.5715, 5146,   2035.8,   3.5686,  34.9337,2,  34.9417,2,    269.1,2,    271.1,2,    13.11,6,    18.01,6,     1.14,6,    0.965,2,    0.482,2,    0.040,2,    5.925,2,    3.258,2,   2156.6,2,   3.4041
  18HU19950419, AR13d,    24,  1, 153379,     41,2,19950427, 38.2522, -44.5715, 5146,   2208.2,   3.4978,  34.9401,2,  34.9488,2,    267.5,2,    270.0,2,    13.94,6,    18.06,6,     1.15,6,    0.686,2,    0.348,2,    0.026,2,    5.169,2,    2.040,2,   2156.8,2,   3.3178
  18HU19950419, AR13d,    24,  1, 153378,     40,2,19950427, 38.2522, -44.5715, 5146,   2544.8,   3.3220,  34.9454,2,  34.9531,2,    266.1,2,    266.3,2,    16.15,6,    18.41,6,     1.18,6,    0.289,2,    0.218,2,    0.000,3,    2.885,2,    0.178,2,   2159.3,2,   3.1116
  18HU19950419, AR13d,    24,  1, 153377,     39,2,19950427, 38.2522, -44.5715, 5146,   2798.1,   3.1003,  34.9393,2,  34.9476,2,    266.1,2,    266.1,2,    18.85,6,    18.47,6,     1.19,6,    0.175,2,    0.052,2, -999.000,5,    2.589,2,    0.721,2,   2159.6,2,   2.8684
  18HU19950419, AR13d,    24,  1, 153376,     38,2,19950427, 38.2522, -44.5715, 5146,   3039.2,   2.8826,  34.9286,2,  34.9370,2,    267.7,2,    266.8,2,    20.46,6,    18.36,6,     1.19,6,    0.113,2,    0.074,2,    0.000,3,    5.590,2,    0.209,2,   2161.0,2,   2.6302
  18HU19950419, AR13d,    24,  1, 153375,     37,2,19950427, 38.2522, -44.5715, 5146,   3253.7,   2.7350,  34.9201,2,  34.9288,2,    269.3,2,    268.3,2,    21.06,6,    18.48,6,     1.19,6,    0.163,2,    0.139,2,    0.012,2,    1.190,2,    0.113,2,   2160.9,2,   2.4633
  18HU19950419, AR13d,    24,  1, 153374,     36,2,19950427, 38.2522, -44.5715, 5146,   3528.9,   2.4935,  34.9057,2,  34.9143,2,    270.0,2,    268.8,2,    24.23,6,    18.61,6,     1.24,6,    0.161,2,    0.045,2, -999.000,5,    1.268,2,    0.486,2,   2164.4,2,   2.1980
  18HU19950419, AR13d,    24,  1, 153373,     35,2,19950427, 38.2522, -44.5715, 5146,   3801.5,   2.3530,  34.8954,2,  34.9042,2,    269.6,2,    268.5,2,    26.43,6,    18.24,6,     1.23,6,    0.162,2,    0.109,2,    0.011,2,    2.959,2,    0.133,2,   2168.0,2,   2.0312
  18HU19950419, AR13d,    24,  1, 153372,     34,2,19950427, 38.2522, -44.5715, 5146,   4073.6,   2.2925,  34.8891,2,  34.8974,0,    268.2,2,    267.8,2,    28.73,6,    19.08,6,     1.24,6,    0.178,2,    0.141,2,    0.013,2,    5.052,2,    0.000,2,   2171.5,2,   1.9416
  18HU19950419, AR13d,    24,  1, 153371,     33,2,19950427, 38.2522, -44.5715, 5146,   4389.4,   2.2645,  34.8836,2,  34.8915,2,    266.1,2,    266.4,2,    31.48,6,    19.48,6,     1.25,6,    0.205,2,    0.075,2,    0.000,2,    3.036,2,    0.000,2,   2175.0,2,   1.8776
  18HU19950419, AR13d,    24,  1, 153370,     31,2,19950427, 38.2522, -44.5715, 5146,   4706.1,   2.2507,  34.8779,2,  34.8856,2,    263.8,2,    263.7,6,    34.14,6,    19.89,6,     1.26,6,    0.125,2,    0.113,2,    0.000,3,    6.503,2,    0.217,2,   2178.9,2,   1.8261
  18HU19950419, AR13d,    24,  1, 153369,     32,2,19950427, 38.2522, -44.5715, 5146,   4903.4,   2.2432,  34.8737,2,  34.8821,2,    260.7,2,    261.4,2,    37.46,6,    19.94,6,     1.41,2,    0.109,2,    0.077,2,    0.016,2,    1.423,2,    0.000,2,   2180.1,6,   1.7945
  18HU19950419, AR13d,    25,  1, 153414,     53,2,19950427, 38.6540, -44.3118, 5121,     20.0,  18.3137,  36.5197,2,  36.5287,2,    228.6,2,    227.5,2,     0.95,6,     1.05,6,     0.11,6,    1.887,2,    0.840,2,    0.119,2,    5.128,2,    5.087,2,   2066.4,2,  18.3102
  18HU19950419, AR13d,    25,  1, 153413,     52,2,19950427, 38.6540, -44.3118, 5121,    195.0,  18.2494,  36.5420,2,  36.5509,2,    220.5,2,    216.1,2,     1.39,6,     2.39,6,     0.15,6,    1.869,2,    0.764,2,    0.055,2,   14.961,3,    4.221,2,   2076.7,2,  18.2152
  18HU19950419, AR13d,    25,  1, 153412,     51,2,19950427, 38.6540, -44.3118, 5121,    354.6,  16.3572,  36.1360,2,  36.1428,2,    201.6,2,    199.0,2,     2.68,6,     6.75,6,     0.40,6,    1.777,2,    0.947,2,    0.032,2,    7.605,2,    3.566,2,   2103.1,2,  16.2995
  18HU19950419, AR13d,    25,  1, 153411,     50,2,19950427, 38.6540, -44.3118, 5121,    488.5,  14.1765,  35.8366,2,  35.7878,2,    191.7,2,    194.3,2,     4.82,6,    11.47,6,     0.67,6,    1.679,2,    0.982,2,    0.064,2,    3.700,2,    3.505,2,   -999.0,5,  14.1041
  18HU19950419, AR13d,    25,  1, 153410,     49,2,19950427, 38.6540, -44.3118, 5121,    635.4,  10.9107,  35.3826,2,  35.3910,2,    143.5,2,    141.8,2,    11.78,6,    22.19,6,     1.36,6,    0.684,2,    0.000,3,    0.000,3,    0.864,2,    1.070,2,   2177.1,2,  10.8308
  18HU19950419, AR13d,    25,  1, 153409,     48,2,19950427, 38.6540, -44.3118, 5121,    822.5,   7.1000,  35.0879,2,  35.0954,2,    201.0,2,    190.6,2,    12.68,6,    21.29,6,     1.34,6,    1.071,2,    0.640,2,    0.053,2,    5.380,2,    3.047,2,   2176.2,2,   7.0187
  18HU19950419, AR13d,    25,  1, 153408,     47,2,19950427, 38.6540, -44.3118, 5121,   1053.6,   4.6723,  34.9483,2,  34.9882,3,    250.2,2,    240.4,2,    12.24,6,    19.06,6,     1.22,6,    1.645,2,    0.686,2,    0.128,3,    2.337,2,    5.007,2,   2165.5,2,   4.5859
  18HU19950419, AR13d,    25,  1, 153407,     46,2,19950427, 38.6540, -44.3118, 5121,   1159.8,   4.4755,  34.9449,2,  35.0057,3,    262.2,2,    241.7,2,    12.21,6,    18.95,6,     1.22,6,    1.735,3,    0.000,3,    0.287,3,    8.434,3,    7.397,3,   2166.1,2,   4.3812
  18HU19950419, AR13d,    25,  1, 153406,     45,2,19950427, 38.6540, -44.3118, 5121,   1326.0,   4.4686,  34.9878,2,  34.9954,2,    258.4,2,    252.3,2,    12.13,6,    18.93,6,     1.22,6,    1.190,2,    0.578,2,    0.047,2,    4.226,2,    3.298,2,   2161.2,2,   4.3593
  18HU19950419, AR13d,    25,  1, 153405,     44,2,19950427, 38.6540, -44.3118, 5121,   1696.2,   3.8927,  34.9479,2,  34.9559,2,    266.6,2,    266.8,2,    12.09,6,    18.31,6,     1.16,6,    1.131,2,    0.534,2,    0.053,2,    2.159,2,    3.159,2,   -999.0,5,   3.7557
  18HU19950419, AR13d,    25,  1, 153404,     43,2,19950427, 38.6540, -44.3118, 5121,   1969.1,   3.6902,  34.9404,2,  34.9480,2,    267.7,2,    269.2,2,    13.03,6,    18.15,6,     1.15,6,    1.164,3,    0.000,3,    0.017,3,    2.806,3,    4.114,3,   2155.4,2,   3.5303
  18HU19950419, AR13d,    25,  1, 153403,     42,2,19950427, 38.6540, -44.3118, 5121,   2082.7,   3.6867,  34.9534,2,  34.9614,2,    265.8,2,    265.4,2,    14.02,6,    18.45,6,     1.19,6,    0.696,2,    0.424,2,    0.023,2,    6.812,2,    1.977,2,   2157.1,2,   3.5158
  18HU19950419, AR13d,    25,  1, 153402,     41,2,19950427, 38.6540, -44.3118, 5121,   2301.0,   3.5541,  34.9551,2,  34.9632,2,    265.5,2,    265.9,2,    15.15,6,    18.68,6,     1.20,6,    0.512,2,    0.291,2,    0.067,2,    1.511,2,    1.228,2,   2157.8,2,   3.3639
  18HU19950419, AR13d,    25,  1, 153401,     40,2,19950427, 38.6540, -44.3118, 5121,   2494.2,   3.3968,  34.9489,2,  34.9575,2,    266.0,2,    265.7,2,    16.36,6,    18.46,6,     1.18,6,    0.427,2,    0.294,2,    0.054,2,    5.697,2,    0.681,2,   2157.7,2,   3.1901
  18HU19950419, AR13d,    25,  1, 153400,     39,2,19950427, 38.6540, -44.3118, 5121,   2783.4,   3.1151,  34.9339,2,  34.9428,2,    269.1,2,    269.2,2,    17.05,6,    17.91,6,     1.16,6,    0.544,2,    0.376,2,    0.015,2,   10.287,3,    1.327,2,   2159.0,2,   2.8844
  18HU19950419, AR13d,    25,  1, 153399,     38,2,19950427, 38.6540, -44.3118, 5121,   3090.4,   2.8628,  34.9242,2,  34.9334,2,    271.3,2,    269.8,2,    18.76,6,    18.23,6,     1.18,6,    0.479,6,    0.187,6,    0.058,6,    2.735,6,    1.190,6,   2160.5,2,   2.6055
  18HU19950419, AR13d,    25,  1, 153398,     37,2,19950427, 38.6540, -44.3118, 5121,   3481.0,   2.5622,  34.9087,2,  34.9172,2,    271.8,2,    272.9,2,    22.02,6,    18.01,6,     1.21,6,    0.461,2,    0.166,2,    0.049,2,    3.155,2,    1.367,2,   2161.5,2,   2.2702
  18HU19950419, AR13d,    25,  1, 153397,     36,2,19950427, 38.6540, -44.3118, 5121,   3751.5,   2.4007,  34.8986,2,  34.9066,2,    270.5,2,    269.8,2,    25.35,6,    18.60,6,     1.22,6,    0.441,2,    0.158,2,    0.033,2,    1.990,2,    1.020,2,   2167.5,2,   2.0832
  18HU19950419, AR13d,    25,  1, 153396,     35,2,19950427, 38.6540, -44.3118, 5121,   4115.6,   2.3027,  34.8896,2,  34.8982,2,    268.5,2,    269.5,2,    27.59,6,    18.62,6,     1.24,6,    0.489,2,    0.334,2,    0.037,2,    4.377,2,    1.246,2,   2168.6,2,   1.9466
  18HU19950419, AR13d,    25,  1, 153395,     34,2,19950427, 38.6540, -44.3118, 5121,   4295.1,   2.2786,  34.8864,2,  34.8941,2,    268.2,2,    269.4,2,    28.04,6,    18.96,6,     1.25,6,    0.536,2,    0.319,2,    0.000,2,    4.369,2,    1.515,2,   2170.9,2,   1.9024
  18HU19950419, AR13d,    25,  1, 153394,     33,2,19950427, 38.6540, -44.3118, 5121,   4582.8,   2.2550,  34.8802,2,  34.8890,2,    266.9,2,    268.3,2,    32.25,6,    19.42,6,     1.28,6,    0.403,2,    0.281,2,    0.049,2,    2.611,2,    1.245,2,   2174.0,2,   1.8452
  18HU19950419, AR13d,    25,  1, 153393,     31,2,19950427, 38.6540, -44.3118, 5121,   4767.6,   2.2493,  34.8770,2,  34.8861,2,    265.0,2,    264.0,6,    34.45,6,    19.88,6,     1.30,6,    0.359,2,    0.251,2,    0.030,2,    2.541,2,    1.277,2,   2177.1,2,   1.8172
  18HU19950419, AR13d,    25,  1, 153392,     32,2,19950427, 38.6540, -44.3118, 5121,   4885.2,   2.2407,  34.8737,2,  34.8823,0,    263.1,2,    262.8,2,    36.71,2,    20.32,6,     1.35,6,    0.296,2,    0.135,2,    0.045,2,    1.326,2,    0.842,2,   2180.0,2,   1.7944
  18HU19950419, AR13d,    26,  1, 153437,     53,2,19950428, 39.0392, -44.0287, 4831,     11.5,  18.1371,  36.4956,2,  36.5070,2,    121.8,2,    227.4,2,     0.91,6,     1.22,6,     0.09,6,    2.072,2,    1.108,2,    0.134,2,    7.854,2,    4.986,2,   2067.6,2,  18.1351
  18HU19950419, AR13d,    26,  1, 153436,     52,2,19950428, 39.0392, -44.0287, 4831,    112.9,  18.1749,  36.5005,2,  36.5093,2,    229.0,2,    227.0,2,     0.93,6,     1.29,6,     0.10,6,    2.073,2,    1.144,2,    0.172,2,    3.046,2,    6.380,2,   2071.1,2,  18.1552
  18HU19950419, AR13d,    26,  1, 153435,     51,2,19950428, 39.0392, -44.0287, 4831,    252.1,  17.5980,  36.4127,2,  36.4176,2,    208.9,2,    198.0,2,     2.13,6,     5.36,6,     0.28,6,    1.924,2,    1.019,2,    0.084,2,    5.196,2,    2.719,2,   2093.6,2,  17.5549
  18HU19950419, AR13d,    26,  1, 153434,     50,2,19950428, 39.0392, -44.0287, 4831,    501.8,  13.2770,  35.6848,2,  35.6960,2,    179.8,2,    180.7,2,     6.22,6,    14.22,6,     0.85,6,    1.550,2,    0.805,2,    0.100,2,    4.093,2,    2.985,2,   2137.1,2,  13.2058
  18HU19950419, AR13d,    26,  1, 153433,     49,2,19950428, 39.0392, -44.0287, 4831,    687.7,   9.2339,  35.1991,2,  35.2121,2,    149.4,2,    160.5,2,    12.48,6,    22.82,6,     1.37,6,    0.922,2,    0.431,2,    0.038,2,    4.358,2,    2.983,2,   2179.3,2,   9.1557
  18HU19950419, AR13d,    26,  1, 153432,     48,2,19950428, 39.0392, -44.0287, 4831,    926.6,   5.7621,  35.0187,2,  34.9951,2,    212.0,2,    216.3,2,    13.37,6,    20.60,6,     1.30,6,    1.249,2,    0.535,2,    0.069,2,    3.922,2,    3.102,2,   2174.7,2,   5.6793
  18HU19950419, AR13d,    26,  1, 153431,     47,2,19950428, 39.0392, -44.0287, 4831,   1138.1,   4.5359,  34.9541,2,  34.9632,2,    247.4,2,    253.3,2,    11.65,6,    18.50,6,     1.21,6,    2.038,3,    0.920,2,    0.144,3,    4.932,2,    6.410,4,   2164.1,2,   4.4431
  18HU19950419, AR13d,    26,  1, 153430,     46,2,19950428, 39.0392, -44.0287, 4831,   1342.7,   4.2856,  34.9731,2,  34.9760,2,    257.9,2,    253.7,2,    11.61,6,    18.62,6,     1.18,6,    1.697,2,    0.820,2,    0.107,3,    2.945,2,    5.419,2,   2162.6,2,   4.1766
  18HU19950419, AR13d,    26,  1, 153429,     45,2,19950428, 39.0392, -44.0287, 4831,   1458.8,   4.1346,  34.9645,2,  34.9733,2,    259.0,2,    260.6,2,    12.12,6,    18.71,6,     1.17,6,    1.127,6,    0.540,6,    0.035,6,    5.070,6,    3.005,6,   2158.4,2,   4.0166
  18HU19950419, AR13d,    26,  1, 153428,     44,2,19950428, 39.0392, -44.0287, 4831,   1584.8,   3.8841,  34.9385,2,  34.9467,2,    263.1,2,    269.2,2,    11.89,6,    17.94,6,     1.15,6,    1.501,2,    0.677,2,    0.060,2,    6.530,2,    4.367,2,   2156.4,2,   3.7575
  18HU19950419, AR13d,    26,  1, 153427,     43,2,19950428, 39.0392, -44.0287, 4831,   1750.6,   3.5265,  34.8954,2,  34.9038,2,    268.9,2,    278.9,2,    11.38,6,    17.66,6,     1.13,6,    2.174,3,    1.022,3,    0.139,3,    4.954,2,    6.994,4,   2153.9,2,   3.3894
  18HU19950419, AR13d,    26,  1, 153426,     42,2,19950428, 39.0392, -44.0287, 4831,   1975.1,   3.6459,  34.9383,2,-999.0000,9,    274.1,2,    269.6,2,    12.80,6,    18.33,6,     1.14,6,    1.008,2,    0.446,2,    0.063,2,    4.703,2,    2.648,2,   2159.0,2,   3.4861
  18HU19950419, AR13d,    26,  1, 153425,     41,2,19950428, 39.0392, -44.0287, 4831,   2166.4,   3.4002,  34.9131,2,  34.9214,2,    275.2,2,    275.3,2,    13.01,6,    17.64,6,     1.13,6,    1.439,3,    0.600,3,    0.165,3,    5.318,3,    4.930,3,   2157.2,2,   3.2259
  18HU19950419, AR13d,    26,  1, 153424,     40,2,19950428, 39.0392, -44.0287, 4831,   2363.6,   3.4494,  34.9442,2,  34.9530,2,    267.4,2,    268.2,2,    15.02,6,    18.15,6,     1.16,6,    0.607,2,    0.335,2,    0.045,2,    5.344,2,    1.618,2,   2158.2,2,   3.2548
  18HU19950419, AR13d,    26,  1, 153423,     39,3,19950428, 39.0392, -44.0287, 4831,   2636.8,   3.2716,  34.9472,2,-999.0000,9,    265.4,2,   -999.0,5,  -999.00,5,  -999.00,5,  -999.00,5, -999.000,9, -999.000,9, -999.000,9, -999.000,9, -999.000,9,   -999.0,9,   3.0528
  18HU19950419, AR13d,    26,  1, 153422,     38,2,19950428, 39.0392, -44.0287, 4831,   2796.3,   3.1348,  34.9415,2,  34.9499,2,    265.0,2,    265.3,6,    18.42,6,    18.73,6,     1.20,6,    0.285,2,    0.166,2,    0.025,2, -999.000,5,    0.113,2,   2160.5,2,   2.9023
  18HU19950419, AR13d,    26,  1, 153421,     37,2,19950428, 39.0392, -44.0287, 4831,   2958.2,   2.9849,  34.9344,2,  34.9430,2,    266.3,2,    266.5,2,    20.46,6,    18.99,6,     1.22,6,    0.187,2,    0.154,2,    0.027,2,    4.456,2,    0.000,4,   2161.3,2,   2.7388
  18HU19950419, AR13d,    26,  1, 153420,     36,2,19950428, 39.0392, -44.0287, 4831,   3277.7,   2.7370,  34.9205,2,  34.9285,2,    266.4,2,    267.3,2,    22.33,6,    18.57,6,     1.22,6,    0.194,2,    0.136,2,    0.028,2, -999.000,5, -999.000,5,   2163.7,6,   2.4627
  18HU19950419, AR13d,    26,  1, 153419,     35,2,19950428, 39.0392, -44.0287, 4831,   3584.4,   2.4746,  34.9037,2,  34.9118,0,    269.4,2,    269.8,2,    24.12,6,    18.82,6,     1.20,6,    0.338,2,    0.157,2,    0.037,2,    6.123,2,    0.605,2,   2164.1,2,   2.1736
  18HU19950419, AR13d,    26,  1, 153418,     34,2,19950428, 39.0392, -44.0287, 4831,   3840.8,   2.3369,  34.8942,2,  34.9021,2,    270.1,2,    271.0,2,    25.51,6,    18.64,6,     1.19,6,    0.492,2,    0.255,2,    0.032,2,    3.795,2,    0.833,2,   2162.8,2,   2.0111
  18HU19950419, AR13d,    26,  1, 153417,     33,2,19950428, 39.0392, -44.0287, 4831,   4040.8,   2.2787,  34.8883,2,  34.8968,2,    269.0,2,    267.7,2,    28.08,6,    18.80,6,     1.24,6,    0.424,2,    0.194,2,    0.033,2,    5.093,2,    0.657,2,   2169.6,2,   1.9319
  18HU19950419, AR13d,    26,  1, 153416,     31,2,19950428, 39.0392, -44.0287, 4831,   4427.2,   2.2533,  34.8824,2,  34.8909,2,    267.0,2,    267.3,2,    30.04,6,    19.34,6,     1.25,6,    0.437,2,    0.290,2,    0.039,2,    5.678,2,    1.001,2,   2173.5,2,   1.8622
  18HU19950419, AR13d,    26,  1, 153415,     32,2,19950428, 39.0392, -44.0287, 4831,   4640.9,   2.2524,  34.8794,2,  34.8876,2,    264.4,2,    265.9,2,    33.02,6,    19.50,6,     1.27,6,    0.369,2,    0.206,2,    0.036,2,    2.081,2,    0.955,2,   2176.1,2,   1.8357