BOTTLE,20220817CCHSIOAMB
EXPOCODE,SECT_ID,STNNBR,CASTNO,SAMPNO,BTLNBR,BTLNBR_FLAG_W,DATE,LATITUDE,LONGITUDE,DEPTH,CTDPRS,CTDTMP,CTDSAL,CTDSAL_FLAG_W,SALNTY,SALNTY_FLAG_W,CTDOXY,CTDOXY_FLAG_W,OXYGEN,OXYGEN_FLAG_W,SILCAT,SILCAT_FLAG_W,NITRAT,NITRAT_FLAG_W,PHSPHT,PHSPHT_FLAG_W,CFC-11,CFC-11_FLAG_W,CFC-12,CFC-12_FLAG_W,CFC113,CFC113_FLAG_W,CCL4,CCL4_FLAG_W,MCHFRM,MCHFRM_FLAG_W,TCARBN,TCARBN_FLAG_W,THETA
,,,,,,,,,,METERS,DBAR,ITS-90,PSS-78,,PSS-78,,UMOL/KG,,UMOL/KG,,UMOL/KG,,UMOL/KG,,UMOL/KG,,PMOL/KG,,PMOL/KG,,PMOL/KG,,PMOL/KG,,PMOL/KG,,UMOL/KG,,DEG C
  18HU19950419, AR13d,    69,  1, 154198,     53,2,19950510, 44.2077, -42.1680, 4752,     16.6,  16.2808,  36.2021,2,  36.2119,2,    226.4,2,    243.5,2,     0.68,6,     2.66,6,     0.18,6,    2.289,3,    1.578,3,    0.000,3,    5.202,3,    7.272,3,   2079.9,2,  16.2781
  18HU19950419, AR13d,    69,  1, 154197,     70,2,19950510, 44.2077, -42.1680, 4752,    121.3,  15.9478,  36.1920,2,  36.2077,2,    228.3,2,    231.7,2,     1.79,6,     4.48,6,     0.29,6,    2.092,2,    1.209,2,    0.125,2,    2.328,2,   10.026,2,   2089.4,2,  15.9285
  18HU19950419, AR13d,    69,  1, 154196,     51,2,19950510, 44.2077, -42.1680, 4752,    198.9,  15.7399,  36.1424,2,  36.1537,2,    229.5,2,    225.8,2,     2.25,6,     5.59,6,     0.33,6,    2.066,2,    1.020,2,    0.097,2,    7.430,2,    4.397,2,   2099.6,2,  15.7085
  18HU19950419, AR13d,    69,  1, 154195,     50,2,19950510, 44.2077, -42.1680, 4752,    284.7,  14.4818,  35.8909,2,  35.9022,2,    203.5,2,    210.2,2,     3.74,6,     9.02,6,     0.53,6,    1.976,2,    1.243,2,    0.082,2, -999.000,5,    4.174,2,   2115.6,2,  14.4393
  18HU19950419, AR13d,    69,  1, 154194,     49,2,19950510, 44.2077, -42.1680, 4752,    364.1,  13.2371,  35.7100,2,  35.7212,2,    196.9,2,    202.2,2,     5.19,6,    12.13,6,     0.70,6,    1.839,2,    1.063,2,    0.041,2,    1.525,2,    4.173,2,   2130.4,2,  13.1858
  18HU19950419, AR13d,    69,  1, 154193,     48,2,19950510, 44.2077, -42.1680, 4752,    574.3,   9.8656,  35.2469,2,  35.2583,2,    181.0,2,    163.6,2,    11.43,6,    21.55,6,     1.30,6,    1.120,2,    0.619,2,    0.000,2,    4.426,2,    2.200,2,   2172.4,2,   9.7980
  18HU19950419, AR13d,    69,  1, 154192,     47,2,19950510, 44.2077, -42.1680, 4752,    799.4,   6.3059,  34.9918,2,  35.0013,2,    203.2,2,    204.8,2,    12.81,6,    20.79,6,     1.29,6,    1.435,2,    0.636,2,    0.061,2,    4.771,2,    4.156,2,   2175.1,2,   6.2319
  18HU19950419, AR13d,    69,  1, 154191,     46,2,19950510, 44.2077, -42.1680, 4752,   1071.7,   5.4075,  35.0765,2,  35.0545,2,    233.5,2,    220.5,2,    12.64,6,    20.30,6,     1.23,6,    1.331,2,    0.737,2,    0.116,2,    4.012,2,    3.521,2,   2172.9,2,   5.3134
  18HU19950419, AR13d,    69,  1, 154190,     45,2,19950510, 44.2077, -42.1680, 4752,   1201.1,   4.9248,  35.0443,2,  35.0535,2,    244.5,2,    245.7,2,    11.92,6,    19.22,6,     1.18,6,    1.284,2,    0.568,2,    0.076,2,    2.961,2,    3.322,2,   2166.0,2,   4.8226
  18HU19950419, AR13d,    69,  1, 154189,     44,2,19950510, 44.2077, -42.1680, 4752,   1395.2,   4.3690,  34.9903,2,  35.0013,2,    257.6,2,    258.4,2,    11.87,6,    18.42,6,     1.17,6,    1.358,2,    0.789,2,    0.018,2,    5.756,2,    3.438,2,   2161.1,2,   4.2543
  18HU19950419, AR13d,    69,  1, 154188,     43,2,19950510, 44.2077, -42.1680, 4752,   1540.6,   3.9514,  34.9390,2,  34.9480,2,    267.2,2,    268.5,2,    11.89,6,    18.29,6,     1.15,6,    1.596,2,    0.907,2,    0.025,2,    5.186,2,    4.355,2,   2159.0,2,   3.8281
  18HU19950419, AR13d,    69,  1, 154187,     42,2,19950510, 44.2077, -42.1680, 4752,   1788.2,   3.5827,  34.9018,2,  34.9114,2,    276.9,2,    278.3,2,    11.54,6,    18.23,6,     1.15,6,    1.837,2,    1.017,2,    0.045,2,    3.771,2,    5.186,2,   2156.0,2,   3.4414
  18HU19950419, AR13d,    69,  1, 154186,     41,2,19950510, 44.2077, -42.1680, 4752,   2121.1,   3.3526,  34.8888,2,  34.8982,2,    280.9,2,   -999.0,5,    11.69,6,    17.94,6,     1.11,6,    1.876,2,    0.954,2,    0.022,2,    4.159,2,    7.478,2,   2154.7,2,   3.1835
  18HU19950419, AR13d,    69,  1, 154185,     40,2,19950510, 44.2077, -42.1680, 4752,   2349.5,   3.3063,  34.8971,2,  34.9076,2,    281.1,2,    280.8,2,    12.35,6,    17.56,6,     1.10,6,    1.662,2,    0.748,2,    0.013,2,    5.217,2,    4.345,2,   2155.0,2,   3.1158
  18HU19950419, AR13d,    69,  1, 154184,     39,2,19950510, 44.2077, -42.1680, 4752,   2674.0,   3.2542,  34.9173,2,  34.9261,2,    276.3,2,    275.7,2,    13.62,6,    17.98,6,     1.10,6,    1.140,2,    0.564,2,    0.000,2,    2.514,2,    2.686,2,   2156.4,2,   3.0320
  18HU19950419, AR13d,    69,  1, 154183,     38,2,19950510, 44.2077, -42.1680, 4752,   2973.7,   3.0914,  34.9226,2,  34.9322,2,    274.8,2,   -999.0,5,    14.87,6,    17.75,6,     1.13,6,    0.908,2,    0.597,2,    0.039,2,    2.337,2,    2.355,2,   2156.2,2,   2.8414
  18HU19950419, AR13d,    69,  1, 154182,     37,2,19950510, 44.2077, -42.1680, 4752,   3373.1,   2.8031,  34.9166,2,  34.9263,2,    275.3,2,    274.3,2,    17.37,6,    17.65,6,     1.11,6,    1.035,2, -999.000,5,    0.058,2,    3.878,2,    2.551,2,   2156.5,2,   2.5169
  18HU19950419, AR13d,    69,  1, 154181,     36,2,19950510, 44.2077, -42.1680, 4752,   3590.2,   2.6281,  34.9096,2,  34.9192,2,    275.6,2,    274.7,2,    18.91,6,    17.96,6,     1.13,6,    0.776,2,    0.510,2,    0.000,2,    3.919,2,    1.590,2,   2159.7,6,   2.3225
  18HU19950419, AR13d,    69,  1, 154180,     35,2,19950510, 44.2077, -42.1680, 4752,   3934.4,   2.4276,  34.8995,2,  34.9089,2,    274.5,2,    273.5,2,    21.19,6,    18.27,6,     1.14,6,    0.781,6,    0.414,6,    0.018,6,    6.121,6,    2.033,6,   2164.5,2,   2.0887
  18HU19950419, AR13d,    69,  1, 154179,     34,2,19950510, 44.2077, -42.1680, 4752,   4268.6,   2.3402,  34.8928,2,  34.9017,2,    273.4,2,    274.8,2,    22.82,6,    18.15,6,     1.20,6,    0.837,2,    0.496,2,    0.020,2,    3.283,2,    2.180,2,   2166.1,2,   1.9652
  18HU19950419, AR13d,    69,  1, 154178,     33,2,19950510, 44.2077, -42.1680, 4752,   4490.5,   2.3171,  34.8894,2,  34.8991,2,    272.8,2,    273.6,2,    25.12,6,    18.36,6,     1.17,6,    0.776,2,    0.690,2,    0.000,2, -999.000,5,    1.845,2,   2169.6,2,   1.9165
  18HU19950419, AR13d,    69,  1, 154177,     31,2,19950510, 44.2077, -42.1680, 4752,   4744.6,   2.2992,  34.8859,2,  34.8950,0,    272.5,2,    273.2,2,    25.69,6,    18.81,6,     1.16,6,    0.863,2,    0.344,2,    0.000,2,    1.850,2,    1.971,2,   2171.2,2,   1.8683
  18HU19950419, AR13d,    69,  1, 154176,     32,2,19950510, 44.2077, -42.1680, 4752,   4858.5,   2.2932,  34.8826,2,  34.8928,2,    268.7,2,    269.4,2,    29.48,6,    19.04,6,     1.22,6,    0.686,2,    0.391,2,    0.000,2,    4.743,2,    1.478,2,   2174.8,2,   1.8484
  18HU19950419, AR13d,    70,  1, 154220,     70,2,19950510, 44.6403, -42.5413, 4743,     11.8,  16.0520,  36.1673,2,  36.1769,2,    232.5,2,    248.0,2,     0.90,6,     2.61,6,     0.20,6, -999.000,9, -999.000,9, -999.000,9, -999.000,9, -999.000,9,   2079.1,2,  16.0501
  18HU19950419, AR13d,    70,  1, 154219,     51,2,19950510, 44.6403, -42.5413, 4743,    202.8,  15.6645,  36.1225,2,  36.1346,2,    235.7,2,    236.8,2,     2.06,6,     4.62,6,     0.33,6, -999.000,9, -999.000,9, -999.000,9, -999.000,9, -999.000,9,   -999.0,5,  15.6326
  18HU19950419, AR13d,    70,  1, 154218,     50,2,19950510, 44.6403, -42.5413, 4743,    400.1,  12.8924,  35.6314,2,  35.6432,2,    188.1,2,    200.4,2,     5.56,6,    12.46,6,     0.82,6, -999.000,9, -999.000,9, -999.000,9, -999.000,9, -999.000,9,   2133.3,2,  12.8369
  18HU19950419, AR13d,    70,  1, 154217,     49,2,19950510, 44.6403, -42.5413, 4743,    646.4,   8.9329,  35.1592,2,  35.1734,2,    178.3,2,    179.4,2,    11.27,6,    20.72,6,     1.30,6, -999.000,9, -999.000,9, -999.000,9, -999.000,9, -999.000,9,   2169.9,2,   8.8610
  18HU19950419, AR13d,    70,  1, 154216,     48,2,19950510, 44.6403, -42.5413, 4743,    808.9,   6.3984,  34.9934,2,  35.0034,2,    203.3,2,    205.7,2,    12.56,6,    20.53,6,     1.33,6, -999.000,9, -999.000,9, -999.000,9, -999.000,9, -999.000,9,   2173.8,2,   6.3229
  18HU19950419, AR13d,    70,  1, 154215,     47,2,19950510, 44.6403, -42.5413, 4743,    980.8,   5.3139,  35.0071,2,  35.0158,2,    232.7,2,    232.3,2,    12.31,6,    19.28,6,     1.26,6, -999.000,9, -999.000,9, -999.000,9, -999.000,9, -999.000,9,   2171.1,2,   5.2292
  18HU19950419, AR13d,    70,  1, 154214,     46,3,19950510, 44.6403, -42.5413, 4743,   1199.6,   4.8167,  35.0244,2,  35.0330,2,    247.6,2,    249.6,2,    11.84,6,    19.01,6,     1.22,6, -999.000,9, -999.000,9, -999.000,9, -999.000,9, -999.000,9,   2166.8,2,   4.7157
  18HU19950419, AR13d,    70,  1, 154213,     45,2,19950510, 44.6403, -42.5413, 4743,   1410.7,   4.2734,  34.9741,2,  34.9840,2,    260.2,2,    262.3,2,    11.74,6,    18.27,6,     1.19,6, -999.000,9, -999.000,9, -999.000,9, -999.000,9, -999.000,9,   -999.0,5,   4.1583
  18HU19950419, AR13d,    70,  1, 154212,     44,2,19950510, 44.6403, -42.5413, 4743,   1624.7,   3.8375,  34.9287,2,  34.9394,2,    270.7,2,    272.9,2,    11.61,6,    17.99,6,     1.16,6, -999.000,9, -999.000,9, -999.000,9, -999.000,9, -999.000,9,   2158.9,6,   3.7079
  18HU19950419, AR13d,    70,  1, 154211,     43,2,19950510, 44.6403, -42.5413, 4743,   1810.4,   3.5914,  34.9079,2,  34.9188,2,    277.0,2,    279.2,2,    11.61,6,    17.75,6,     1.17,6, -999.000,9, -999.000,9, -999.000,9, -999.000,9, -999.000,9,   2155.7,2,   3.4479
  18HU19950419, AR13d,    70,  1, 154210,     42,2,19950510, 44.6403, -42.5413, 4743,   1999.8,   3.5664,  34.9204,2,  34.9280,2,    276.0,2,    277.6,2,    12.22,6,    18.07,6,     1.18,6, -999.000,9, -999.000,9, -999.000,9, -999.000,9, -999.000,9,   2156.6,2,   3.4054
  18HU19950419, AR13d,    70,  1, 154209,     41,2,19950510, 44.6403, -42.5413, 4743,   2204.7,   3.4942,  34.9282,2,  34.9377,2,    276.1,2,    274.2,2,    13.24,6,    17.88,6,     1.16,6, -999.000,9, -999.000,9, -999.000,9, -999.000,9, -999.000,9,   2156.8,2,   3.3146
  18HU19950419, AR13d,    70,  1, 154208,     40,2,19950510, 44.6403, -42.5413, 4743,   2299.9,   3.4503,  34.9288,2,  34.9378,2,    275.7,2,    273.7,2,    13.65,6,    17.93,6,     1.14,6, -999.000,9, -999.000,9, -999.000,9, -999.000,9, -999.000,9,   2155.9,2,   3.2621
  18HU19950419, AR13d,    70,  1, 154207,     39,2,19950510, 44.6403, -42.5413, 4743,   2494.0,   3.2404,  34.9060,2,  34.9150,2,    278.8,2,    279.7,2,    12.83,6,    17.71,6,     1.13,6, -999.000,9, -999.000,9, -999.000,9, -999.000,9, -999.000,9,   2155.7,2,   3.0367
  18HU19950419, AR13d,    70,  1, 154206,     38,2,19950510, 44.6403, -42.5413, 4743,   2745.8,   3.1912,  34.9259,2,  34.9343,2,    275.5,2,    273.5,2,    14.80,6,    17.59,6,     1.14,6, -999.000,9, -999.000,9, -999.000,9, -999.000,9, -999.000,9,   2155.8,2,   2.9629
  18HU19950419, AR13d,    70,  1, 154205,     37,2,19950510, 44.6403, -42.5413, 4743,   3008.6,   3.0135,  34.9262,2,  34.9351,2,    276.0,2,    273.6,2,    16.72,6,    17.71,6,     1.16,6, -999.000,9, -999.000,9, -999.000,9, -999.000,9, -999.000,9,   2158.2,6,   2.7615
  18HU19950419, AR13d,    70,  1, 154204,     36,2,19950510, 44.6403, -42.5413, 4743,   3297.1,   2.7932,  34.9182,2,  34.9283,2,    275.6,2,    273.2,2,    18.26,6,    18.00,6,     1.17,6, -999.000,9, -999.000,9, -999.000,9, -999.000,9, -999.000,9,   2159.7,2,   2.5155
  18HU19950419, AR13d,    70,  1, 154203,     35,2,19950510, 44.6403, -42.5413, 4743,   3598.4,   2.5634,  34.9081,2,  34.9183,2,    273.8,2,    271.7,2,    21.15,6,    18.27,6,     1.17,6, -999.000,9, -999.000,9, -999.000,9, -999.000,9, -999.000,9,   2163.3,2,   2.2585
  18HU19950419, AR13d,    70,  1, 154202,     34,2,19950510, 44.6403, -42.5413, 4743,   3905.7,   2.4093,  34.8984,2,  34.9088,0,    275.0,2,    275.4,2,    21.88,6,    17.84,6,     1.16,6, -999.000,9, -999.000,9, -999.000,9, -999.000,9, -999.000,9,   2164.6,2,   2.0743
  18HU19950419, AR13d,    70,  1, 154201,     33,2,19950510, 44.6403, -42.5413, 4743,   4204.3,   2.3211,  34.8912,2,  34.9041,2,    271.5,2,    271.2,2,    26.32,6,    18.69,6,     1.20,6, -999.000,9, -999.000,9, -999.000,9, -999.000,9, -999.000,9,   2167.8,2,   1.9542
  18HU19950419, AR13d,    70,  1, 154200,     31,2,19950510, 44.6403, -42.5413, 4743,   4512.1,   2.2953,  34.8864,2,  34.8960,2,    268.4,2,    271.1,6,    27.83,6,    19.19,6,     1.24,6, -999.000,9, -999.000,9, -999.000,9, -999.000,9, -999.000,9,   2171.6,2,   1.8928
  18HU19950419, AR13d,    70,  1, 154199,     32,2,19950510, 44.6403, -42.5413, 4743,   4761.0,   2.2956,  34.8847,2,  34.8949,2,    268.8,2,    273.1,2,    26.97,6,    18.53,6,     1.21,6, -999.000,9, -999.000,9, -999.000,9, -999.000,9, -999.000,9,   2174.1,2,   1.8628
  18HU19950419, AR13d,    71,  1, 154244,     53,2,19950510, 45.0485, -42.8582, 4730,     16.6,  16.7666,  36.3297,2,  36.3402,2,    210.6,2,    238.7,2,     1.05,6,     2.41,6,     0.21,6,    2.168,2,    1.243,2,    0.154,2,    5.489,2,    5.576,2,   -999.0,9,  16.7639
  18HU19950419, AR13d,    71,  1, 154243,     70,2,19950510, 45.0485, -42.8582, 4730,     97.9,  16.2591,  36.2385,2,  36.2505,2,    237.8,2,    232.7,2,     1.11,6,     3.19,6,     0.28,6,    2.136,3,    1.468,3,    0.259,3,    2.367,3,    9.628,3,   -999.0,9,  16.2433
  18HU19950419, AR13d,    71,  1, 154242,     51,2,19950510, 45.0485, -42.8582, 4730,    206.9,  15.2784,  36.0065,2,  36.0224,2,    226.8,2,    213.7,2,     2.92,6,     6.93,6,     0.49,6,    2.073,2,    1.168,2,    0.106,2,    5.139,2,    5.339,2,   -999.0,9,  15.2464
  18HU19950419, AR13d,    71,  1, 154241,     50,2,19950510, 45.0485, -42.8582, 4730,    416.4,  13.3011,  35.7312,2,  35.7412,2,    201.4,2,    189.4,2,     5.53,6,    13.03,6,     0.83,6,    1.768,2,    1.087,2,    0.079,2,    5.758,2,    4.575,2,   -999.0,9,  13.2421
  18HU19950419, AR13d,    71,  1, 154240,     49,2,19950510, 45.0485, -42.8582, 4730,    611.7,   9.5003,  35.1908,2,  35.1991,2,    172.7,2,    170.1,2,    11.26,6,    20.40,6,     1.34,6,    1.247,2,    0.698,2, -999.000,5,    1.639,2,    4.829,2,   -999.0,9,   9.4298
  18HU19950419, AR13d,    71,  1, 154239,     48,2,19950510, 45.0485, -42.8582, 4730,    720.5,   7.8673,  35.0480,2,  35.0589,2,    183.1,2,    183.3,2,    12.19,6,    20.47,6,     1.40,6,    1.398,2,    0.745,2,    0.069,2,    2.799,2,    4.326,2,   -999.0,9,   7.7926
  18HU19950419, AR13d,    71,  1, 154238,     47,2,19950510, 45.0485, -42.8582, 4730,    907.1,   5.9102,  35.0375,2,  35.0451,2,    217.8,2,    215.3,2,    12.27,6,    19.86,6,     1.34,6,    1.421,2,    0.810,2,    0.061,2,    4.135,2,    4.321,2,   -999.0,9,   5.8282
  18HU19950419, AR13d,    71,  1, 154237,     46,2,19950510, 45.0485, -42.8582, 4730,   1100.4,   5.2249,  35.0502,2,  35.0600,2,    237.3,2,    275.5,3,    11.77,6,    18.94,6,     1.25,6,    1.449,2,    0.574,2,    0.055,2,    2.373,2,    3.825,2,   -999.0,9,   5.1296
  18HU19950419, AR13d,    71,  1, 154236,     45,2,19950510, 45.0485, -42.8582, 4730,   1312.4,   4.2689,  34.9575,2,  34.9656,2,    258.6,2,    260.8,2,    11.27,6,    18.17,6,     1.21,6,    1.858,2,    0.928,2,    0.091,2,    4.725,2,    6.497,2,   -999.0,9,   4.1629
  18HU19950419, AR13d,    71,  1, 154235,     44,2,19950510, 45.0485, -42.8582, 4730,   1505.9,   3.8435,  34.9185,2,  34.9252,2,    271.5,2,    272.3,2,    11.07,6,    17.48,6,     1.20,6,    2.070,2,    1.295,2,    0.102,2,    5.925,2,    7.296,2,   -999.0,9,   3.7246
  18HU19950419, AR13d,    71,  1, 154234,     43,2,19950510, 45.0485, -42.8582, 4730,   1716.9,   3.7034,  34.9188,2,  34.9284,2,    277.1,2,    274.9,2,    11.36,6,    17.82,6,     1.19,6,    1.707,2,    0.921,2,    0.066,2,    4.485,2,    5.166,2,   -999.0,9,   3.5670
  18HU19950419, AR13d,    71,  1, 154233,     42,2,19950510, 45.0485, -42.8582, 4730,   1851.6,   3.4786,  34.8917,2,  34.8993,2,    275.6,2,    278.5,2,    11.04,6,    17.49,6,     1.15,6,    2.023,2,    1.032,2,    0.103,2,    5.297,2,    6.676,2,   -999.0,9,   3.3329
  18HU19950419, AR13d,    71,  1, 154232,     41,2,19950510, 45.0485, -42.8582, 4730,   2112.3,   3.3121,  34.8795,2,  34.8973,2,    284.3,2,    278.9,2,    12.25,6,    16.97,6,     1.19,6,    1.909,2,    1.156,2,    0.183,3,    7.107,2, -999.000,5,   -999.0,9,   3.1444
  18HU19950419, AR13d,    71,  1, 154231,     40,2,19950510, 45.0485, -42.8582, 4730,   2433.7,   3.2146,  34.8816,2,  34.8896,2,    285.2,2,    285.4,2,    11.43,6,    17.18,6,     1.14,6,    2.071,2,    0.929,2,    0.100,2,    7.411,2,    6.276,2,   -999.0,9,   3.0175
  18HU19950419, AR13d,    71,  1, 154230,     39,2,19950510, 45.0485, -42.8582, 4730,   2763.7,   3.2159,  34.9113,2,  34.9203,2,    278.7,2,    277.9,2,    13.10,6,    17.13,6,     1.16,6,    1.284,2,    0.683,2,    0.060,2,    4.243,2,    3.883,2,   -999.0,9,   2.9853
  18HU19950419, AR13d,    71,  1, 154229,     38,2,19950510, 45.0485, -42.8582, 4730,   3018.2,   3.1159,  34.9225,2,  34.9305,2,    275.5,2,    274.3,2,    14.70,6,    17.25,6,     1.16,6,    0.896,2,    0.469,2,    0.026,2,    2.831,2,    2.194,2,   -999.0,9,   2.8607
  18HU19950419, AR13d,    71,  1, 154228,     37,2,19950510, 45.0485, -42.8582, 4730,   3300.5,   2.9204,  34.9172,2,  34.9254,2,    274.6,2,    275.3,2,    15.15,6,    16.98,6,     1.15,6,    0.939,2,    0.455,2,    0.029,2,    6.301,2,    2.374,2,   -999.0,9,   2.6394
  18HU19950419, AR13d,    71,  1, 154227,     36,2,19950510, 45.0485, -42.8582, 4730,   3610.7,   2.6773,  34.9105,2,  34.9183,2,    276.7,2,    276.2,2,    17.36,6,    17.38,6,     1.17,6,    0.855,6,    0.470,6,    0.017,6,    2.919,6,    2.057,6,   -999.0,9,   2.3682
  18HU19950419, AR13d,    71,  1, 154226,     35,4,19950510, 45.0485, -42.8582, 4730,   3891.3,   2.4606,  34.9010,2,  35.7914,3,    276.9,2,    220.1,4,     5.20,4,     9.71,4,     0.65,4,    1.677,4,    0.848,4,    0.084,4,    4.776,4,    4.569,4,   -999.0,9,   2.1258
  18HU19950419, AR13d,    71,  1, 154225,     34,2,19950510, 45.0485, -42.8582, 4730,   4179.3,   2.3497,  34.8942,2,  34.9020,2,    275.2,2,    277.1,2,    20.51,6,    17.42,6,     1.18,6,    0.937,2,    0.481,2,    0.056,2,    4.019,2,    3.158,2,   -999.0,9,   1.9849
  18HU19950419, AR13d,    71,  1, 154224,     33,2,19950510, 45.0485, -42.8582, 4730,   4495.2,   2.2973,  34.8888,2,  34.9014,2,    275.9,2,    276.4,2,    22.22,6,    17.74,6,     1.18,6,    0.977,2,    0.376,2,    0.035,2,   10.340,3,    2.752,2,   -999.0,9,   1.8967
  18HU19950419, AR13d,    71,  1, 154223,     31,2,19950510, 45.0485, -42.8582, 4730,   4731.5,   2.2721,  34.8856,2,  34.8954,0,    277.8,2,    277.0,2,    22.39,6,    17.30,6,     1.16,6,    1.184,2,    0.616,2,    0.044,2,    3.581,2,    3.680,2,   -999.0,9,   1.8437
  18HU19950419, AR13d,    71,  1, 154222,     32,2,19950510, 45.0485, -42.8582, 4730,   4820.8,   2.2345,  34.8839,2,  34.8916,2,    281.9,2,    282.5,6,    18.44,6,    16.66,6,     1.14,6,    1.602,2,    0.790,2,    0.083,2,    3.742,2,    5.381,2,   -999.0,9,   1.7963