BOTTLE,20220817CCHSIOAMB
EXPOCODE,SECT_ID,STNNBR,CASTNO,SAMPNO,BTLNBR,BTLNBR_FLAG_W,DATE,LATITUDE,LONGITUDE,DEPTH,CTDPRS,CTDTMP,CTDSAL,CTDSAL_FLAG_W,SALNTY,SALNTY_FLAG_W,CTDOXY,CTDOXY_FLAG_W,OXYGEN,OXYGEN_FLAG_W,SILCAT,SILCAT_FLAG_W,NITRAT,NITRAT_FLAG_W,PHSPHT,PHSPHT_FLAG_W,CFC-11,CFC-11_FLAG_W,CFC-12,CFC-12_FLAG_W,CFC113,CFC113_FLAG_W,CCL4,CCL4_FLAG_W,MCHFRM,MCHFRM_FLAG_W,TCARBN,TCARBN_FLAG_W,THETA
,,,,,,,,,,METERS,DBAR,ITS-90,PSS-78,,PSS-78,,UMOL/KG,,UMOL/KG,,UMOL/KG,,UMOL/KG,,UMOL/KG,,PMOL/KG,,PMOL/KG,,PMOL/KG,,PMOL/KG,,PMOL/KG,,UMOL/KG,,DEG C
  18HU19950419, AR13d,    18,  1, 153253,     53,2,19950425, 38.1662, -48.8697, 5315,      6.3,  18.1417,  36.4757,2,  36.4864,2,    239.8,2,    241.3,2,     0.73,6,     0.00,6,     0.05,6,    2.046,2,    0.881,2,    0.080,2,    5.450,2,    5.367,2,   1952.3,4,  18.1406
  18HU19950419, AR13d,    18,  1, 153252,     52,2,19950425, 38.1662, -48.8697, 5315,    146.4,  18.0714,  36.5033,2,  36.5145,2,    227.1,2,    223.6,2,     1.62,6,     1.94,6,     0.14,6,    2.022,2,    0.865,2,    0.112,2,   10.509,3,    7.025,2,   1996.6,4,  18.0460
  18HU19950419, AR13d,    18,  1, 153251,     51,2,19950425, 38.1662, -48.8697, 5315,    318.9,  18.0701,  36.4994,2,  36.5094,2,    228.6,2,    223.6,2,     1.64,6,     2.07,6,     0.15,6,    2.185,2,    0.860,2,    0.190,2,    8.631,2,    7.349,2,   2017.8,4,  18.0145
  18HU19950419, AR13d,    18,  1, 153250,     50,2,19950425, 38.1662, -48.8697, 5315,    577.9,  16.2303,  36.1863,2,  36.1962,2,    204.7,2,    203.9,2,     3.11,6,     6.66,6,     0.41,6,    1.862,2,    0.965,2,    0.082,2,    2.077,2,    4.212,2,   2025.6,4,  16.1362
  18HU19950419, AR13d,    18,  1, 153249,     49,2,19950425, 38.1662, -48.8697, 5315,    715.8,  13.7515,  35.8192,2,  35.8286,2,    200.1,2,    196.8,2,     4.89,6,    10.75,6,     0.69,6,    1.875,2,    0.805,2,    0.045,2,    4.733,2,    5.195,2,   2054.6,4,  13.6467
  18HU19950419, AR13d,    18,  1, 153248,     48,2,19950425, 38.1662, -48.8697, 5315,    900.0,   9.7792,  35.2572,2,  35.2715,2,    157.1,2,    150.3,2,    13.11,6,    22.61,6,     1.45,6,    0.979,2,    0.000,4, -999.000,5,    9.711,2,    4.247,2,   2100.5,4,   9.6721
  18HU19950419, AR13d,    18,  1, 153247,     47,2,19950425, 38.1662, -48.8697, 5315,   1256.8,   6.5358,  35.2281,2,  35.2374,2,    216.6,2,    214.8,2,    12.22,6,    18.51,6,     1.26,6,    0.900,2,    0.422,2,    0.038,2,    2.157,2,    3.152,2,   2091.1,4,   6.4130
  18HU19950419, AR13d,    18,  1, 153246,     46,3,19950425, 38.1662, -48.8697, 5315,   1407.0,   5.0076,  35.0288,2,  35.0374,2,    242.1,2,    239.7,2,    12.68,6,    18.35,6,     1.27,6,    1.152,2,    0.568,2,    0.029,2,    3.476,2,    4.163,2,   -999.0,9,   4.8850
  18HU19950419, AR13d,    18,  1, 153245,     45,2,19950425, 38.1662, -48.8697, 5315,   1805.9,   4.0728,  34.9642,2,  34.9738,2,    261.9,2,    262.8,2,    12.56,6,    17.67,6,     1.21,6,    1.136,2,    0.406,2,    0.038,2,    4.855,2,    3.997,2,   2089.5,4,   3.9231
  18HU19950419, AR13d,    18,  1, 153244,     44,2,19950425, 38.1662, -48.8697, 5315,   2003.5,   3.8345,  34.9455,2,  34.9605,2,    264.9,2,    266.3,2,    12.56,6,    17.60,6,     1.23,6,    1.113,2,    0.663,2,    0.039,2,    2.637,2,    3.939,2,   2081.4,4,   3.6691
  18HU19950419, AR13d,    18,  1, 153243,     43,2,19950425, 38.1662, -48.8697, 5315,   2151.1,   3.7049,  34.9407,2,  34.9495,2,    267.5,2,    270.7,2,    13.39,6,    17.55,6,     1.19,6,    0.987,2,    0.501,2,    0.062,2,   10.953,3,    3.726,2,   2077.9,4,   3.5271
  18HU19950419, AR13d,    18,  1, 153242,     42,2,19950425, 38.1662, -48.8697, 5315,   2498.2,   3.5219,  34.9530,2,  34.9613,2,    264.8,2,    266.0,2,    15.75,6,    18.08,6,     1.23,6,    0.503,2,    0.000,4,    0.021,2,    4.041,2,    1.656,2,   2093.1,4,   3.3125
  18HU19950419, AR13d,    18,  1, 153241,     41,2,19950425, 38.1662, -48.8697, 5315,   2698.8,   3.3956,  34.9512,2,  34.9602,2,    264.4,2,    265.3,2,    16.99,6,    17.88,6,     1.29,6,    0.364,2,    0.237,2,    0.029,2,    5.806,2,    1.729,2,   2087.3,4,   3.1680
  18HU19950419, AR13d,    18,  1, 153240,     40,2,19950425, 38.1662, -48.8697, 5315,   2991.9,   3.1631,  34.9441,2,  34.9531,2,    264.4,2,    264.5,2,    19.76,6,    18.32,6,     1.25,6,    0.211,6,    0.144,6,    0.027,6,    4.463,6,    0.436,6,   -999.0,5,   2.9096
  18HU19950419, AR13d,    18,  1, 153239,     39,2,19950425, 38.1662, -48.8697, 5315,   3400.2,   2.8148,  34.9245,2,  34.9338,2,    266.7,2,    266.3,2,    22.58,6,    17.70,6,     1.30,6,    0.209,2,    0.216,2,    0.031,2,    3.182,2,    0.813,2,   2087.0,4,   2.5254
  18HU19950419, AR13d,    18,  1, 153238,     38,2,19950425, 38.1662, -48.8697, 5315,   3700.2,   2.6098,  34.9110,2,  34.9199,2,    268.7,2,    266.9,2,    24.14,6,    18.03,6,     1.26,6,    0.273,2,    0.186,2,    0.000,2,    5.138,2,    1.272,2,   2149.5,2,   2.2924
  18HU19950419, AR13d,    18,  1, 153237,     37,2,19950425, 38.1662, -48.8697, 5315,   3950.7,   2.4538,  34.9001,2,  34.9085,0,    267.8,2,    267.8,2,    26.74,6,    18.30,6,     1.30,6,    0.280,2,    0.220,2,    0.044,2,    4.029,2,    1.229,2,   2147.8,2,   2.1124
  18HU19950419, AR13d,    18,  1, 153236,     36,2,19950425, 38.1662, -48.8697, 5315,   4197.4,   2.3503,  34.8910,2,  34.8997,2,    267.1,2,    264.5,2,    29.53,6,    18.37,6,     1.28,6,    0.284,2,    0.284,2,    0.045,2,    2.455,2,    1.406,2,   2153.8,2,   1.9834
  18HU19950419, AR13d,    18,  1, 153235,     35,2,19950425, 38.1662, -48.8697, 5315,   4497.5,   2.2735,  34.8816,2,  34.8914,2,    264.8,2,    264.2,2,    34.23,6,    19.22,6,     1.32,6,    0.276,2,    0.283,2,    0.018,2,    1.766,2,    0.952,2,   2139.2,4,   1.8734
  18HU19950419, AR13d,    18,  1, 153234,     34,2,19950425, 38.1662, -48.8697, 5315,   4796.7,   2.2346,  34.8734,2,  34.8820,2,    261.2,2,    261.0,2,    38.47,6,    20.31,6,     1.38,6,    0.206,2,    0.206,2,    0.030,2,    6.588,2,    0.944,2,   2151.5,4,   1.7994
  18HU19950419, AR13d,    18,  1, 153233,     33,2,19950425, 38.1662, -48.8697, 5315,   5099.0,   2.2092,  34.8655,2,  34.8744,2,    257.4,2,    254.8,2,    42.25,6,    20.50,6,     1.46,6,    0.132,2,    0.204,2,    0.040,2,    2.882,2,    1.553,2,   2128.4,4,   1.7371
  18HU19950419, AR13d,    18,  1, 153232,     31,2,19950425, 38.1662, -48.8697, 5315,   5357.3,   2.2273,  34.8633,2,  34.8723,0,    255.9,2,    256.7,2,    43.45,6,    20.27,6,     1.47,6,    0.118,2,    0.143,2,    0.000,2,    0.881,2,    0.688,2,   2169.3,4,   1.7215
  18HU19950419, AR13d,    18,  1, 153231,     32,2,19950425, 38.1662, -48.8697, 5315,   5457.1,   2.2399,  34.8632,2,  34.8729,2,    256.0,2,    256.9,6,    43.98,6,    20.75,6,     1.53,6,    0.110,2,    0.049,2,    0.000,2,    7.184,2,    1.039,2,   2111.4,4,   1.7205
  18HU19950419, AR13d,    19,  1, 153276,     53,2,19950426, 38.1602, -48.1562, 5306,     97.7,  17.9925,  36.4477,2,  36.4588,2,    232.4,2,    226.0,2,     1.23,6,     1.40,6,     0.13,6,    2.158,2,    1.159,2,    0.148,2,    7.801,2,    8.172,2,   2070.8,2,  17.9756
  18HU19950419, AR13d,    19,  1, 153275,     52,2,19950426, 38.1602, -48.1562, 5306,    191.2,  17.9510,  36.4440,2,-999.0000,9,    229.3,2,    224.3,2,     1.29,6,     1.63,6,     0.14,6,    2.129,2,    1.185,2,    0.117,2,   10.151,3,    8.787,2,   2069.9,2,  17.9179
  18HU19950419, AR13d,    19,  1, 153274,     51,2,19950426, 38.1602, -48.1562, 5306,    394.8,  17.2319,  36.3351,2,  36.3468,2,    208.2,2,    197.6,2,     2.50,6,     5.42,6,     0.35,6,    1.927,2,    0.975,2,    0.000,3,    5.920,2,    7.615,2,   2097.1,2,  17.1652
  18HU19950419, AR13d,    19,  1, 153273,     50,2,19950426, 38.1602, -48.1562, 5306,    598.7,  15.5245,  36.0893,2,-999.0000,9,    203.4,2,    202.4,2,     3.43,6,     7.63,6,     0.48,6,    2.005,2,    1.049,2,    0.038,2,    3.082,2,    6.585,2,   2108.3,2,  15.4298
  18HU19950419, AR13d,    19,  1, 153272,     49,2,19950426, 38.1602, -48.1562, 5306,    801.5,  11.3542,  35.4603,2,  35.4698,2,    176.1,2,    175.1,2,     8.79,6,    16.94,6,     1.07,6,    1.442,2,    0.648,2,    0.028,2,    4.860,2,    5.603,2,   2154.0,2,  11.2501
  18HU19950419, AR13d,    19,  1, 153271,     48,2,19950426, 38.1602, -48.1562, 5306,    901.3,   9.8539,  35.3039,2,  35.3136,2,    175.3,2,    174.9,2,    10.50,6,    19.32,6,     1.27,6,    1.260,2,    0.508,2,    0.014,2,    2.874,2,    5.633,2,   2163.7,2,   9.7461
  18HU19950419, AR13d,    19,  1, 153270,     47,2,19950426, 38.1602, -48.1562, 5306,   1002.7,   8.4958,  35.2530,2,  35.2635,2,    178.2,2,    179.6,2,    12.28,6,    20.42,6,     1.34,6,    0.900,2,    0.419,2,    0.018,2,    4.814,2,    3.689,2,   2172.7,2,   8.3851
  18HU19950419, AR13d,    19,  1, 153269,     46,2,19950426, 38.1602, -48.1562, 5306,   1203.7,   6.4244,  35.1532,2,  35.1602,2,    209.3,2,    209.8,6,    12.71,6,    19.09,6,     1.30,6,    0.953,2,    0.416,2,    0.011,2,    5.122,2,    4.501,2,   2170.6,2,   6.3083
  18HU19950419, AR13d,    19,  1, 153268,     45,2,19950426, 38.1602, -48.1562, 5306,   1391.0,   4.9524,  35.0155,2,  35.0243,2,    240.4,2,    238.6,2,    12.77,6,    18.63,6,     1.26,6,    1.210,2,    0.496,2,    0.014,2,    3.085,2,    6.142,2,   2162.6,2,   4.8319
  18HU19950419, AR13d,    19,  1, 153267,     44,2,19950426, 38.1602, -48.1562, 5306,   1700.0,   4.2210,  34.9701,2,-999.0000,9,    259.6,2,    262.7,2,    12.19,6,    17.57,6,     1.22,6,    1.265,2,    0.542,2,    0.035,2, -999.000,5,    5.489,2,   2156.4,2,   4.0795
  18HU19950419, AR13d,    19,  1, 153266,     43,2,19950426, 38.1602, -48.1562, 5306,   1993.5,   3.8038,  34.9383,2,  34.9466,2,    267.8,2,    269.7,2,    12.81,6,    17.51,6,     1.20,6,    1.244,2,    0.579,2,    0.030,2,    6.204,2,    5.029,2,   2150.2,2,   3.6399
  18HU19950419, AR13d,    19,  1, 153265,     42,2,19950426, 38.1602, -48.1562, 5306,   2299.6,   3.6307,  34.9415,2,  34.9505,2,    269.1,2,    269.8,2,    13.90,6,    17.63,6,     1.19,6,    0.928,2,    0.417,2,    0.012,2,    6.140,2,    3.868,2,   2152.9,2,   3.4394
  18HU19950419, AR13d,    19,  1, 153264,     41,2,19950426, 38.1602, -48.1562, 5306,   2603.7,   3.4811,  34.9522,2,  34.9609,2,    264.6,2,    266.1,2,    16.31,6,    17.71,6,     1.20,6,    0.389,2,    0.176,2,    0.000,2,    6.923,2,    2.172,2,   2154.1,2,   3.2617
  18HU19950419, AR13d,    19,  1, 153263,     40,2,19950426, 38.1602, -48.1562, 5306,   2888.7,   3.2549,  34.9497,2,  34.9602,2,    261.6,2,    264.4,2,    19.01,6,    17.90,6,     1.26,6,    0.187,2,    0.035,2,    0.012,2,    4.745,2,    1.300,2,   -999.0,5,   3.0103
  18HU19950419, AR13d,    19,  1, 153262,     39,2,19950426, 38.1602, -48.1562, 5306,   3195.6,   2.9898,  34.9352,2,  34.9418,0,    263.0,2,    264.7,2,    22.03,6,    18.12,6,     1.26,6,    0.128,2,    0.075,2,    0.000,2,    3.473,2,    1.669,2,   2085.6,4,   2.7184
  18HU19950419, AR13d,    19,  1, 153261,     38,2,19950426, 38.1602, -48.1562, 5306,   3492.5,   2.7490,  34.9207,2,  34.9300,0,    265.9,2,    262.2,2,    23.58,6,    18.38,6,     1.25,6,    0.155,2,    0.095,2,    0.000,2,    3.309,2,    1.518,2,   2066.3,4,   2.4511
  18HU19950419, AR13d,    19,  1, 153260,     37,2,19950426, 38.1602, -48.1562, 5306,   3795.2,   2.5224,  34.9057,2,  34.9154,2,    267.6,2,    267.5,2,    25.59,6,    17.91,6,     1.25,6,    0.212,6,    0.132,6,    0.009,6,    4.932,6,    1.375,6,   2077.1,4,   2.1967
  18HU19950419, AR13d,    19,  1, 153259,     36,2,19950426, 38.1602, -48.1562, 5306,   4098.4,   2.3828,  34.8946,2,  34.9016,2,    267.1,2,    266.8,2,    28.38,6,    18.15,6,     1.27,6,    0.188,2,    0.062,2,    0.000,2, -999.000,5,    1.595,2,   2100.8,4,   2.0264
  18HU19950419, AR13d,    19,  1, 153258,     35,2,19950426, 38.1602, -48.1562, 5306,   4395.9,   2.3208,  34.8875,2,-999.0000,9,    266.2,2,    266.1,2,    30.72,6,    18.15,6,     1.28,6,    0.221,2,    0.081,2,    0.000,2,    7.263,2,    1.811,2,   2089.8,4,   1.9314
  18HU19950419, AR13d,    19,  1, 153257,     34,2,19950426, 38.1602, -48.1562, 5306,   4677.5,   2.2896,  34.8817,2,  34.8908,2,    264.9,2,    265.0,2,    33.63,6,    19.15,6,     1.34,6,    0.242,2,    0.000,2, -999.000,5,    1.396,2,    1.986,2,   2072.9,4,   1.8672
  18HU19950419, AR13d,    19,  1, 153256,     33,2,19950426, 38.1602, -48.1562, 5306,   4991.8,   2.2788,  34.8761,2,  34.8848,2,    262.9,2,    262.6,2,    36.51,6,    19.51,6,     1.34,6,    0.188,2,    0.088,2,    0.000,2,    5.259,2,    1.755,2,   2077.6,4,   1.8178
  18HU19950419, AR13d,    19,  1, 153255,     31,2,19950426, 38.1602, -48.1562, 5306,   5238.1,   2.2642,  34.8703,2,  34.8781,0,    260.7,2,    260.1,2,    40.57,6,    20.11,6,     1.42,6,    0.112,2,    0.038,2,    0.000,2,    5.774,2,    2.223,2,   2075.0,4,   1.7725
  18HU19950419, AR13d,    19,  1, 153254,     32,2,19950426, 38.1602, -48.1562, 5306,   5429.9,   2.2421,  34.8638,2,  34.8727,2,    258.0,2,    256.5,2,    43.39,6,    20.42,6,     1.42,6,    0.079,2,    0.000,2,    0.000,2, -999.000,5,    1.050,2,   2184.5,6,   1.7262
  18HU19950419, AR13d,    20,  1, 153299,     53,2,19950426, 38.1652, -47.4573, 5274,      8.0,  18.1185,  36.4626,2,  36.4804,2,    165.7,2,    241.4,2,     0.36,6,     0.28,6,     0.08,6,    2.139,2,    1.096,2,    0.248,2,   12.121,3,    6.209,2,   -999.0,9,  18.1171
  18HU19950419, AR13d,    20,  1, 153298,     52,2,19950426, 38.1652, -47.4573, 5274,    200.2,  18.0215,  36.4872,2,  36.4976,2,    226.2,2,    224.9,2,     1.29,2,     2.21,6,     0.16,6,    1.949,2,    0.871,2,    0.115,2,    2.275,2,    6.162,2,   -999.0,9,  17.9867
  18HU19950419, AR13d,    20,  1, 153297,     51,2,19950426, 38.1652, -47.4573, 5274,    598.2,  14.9685,  35.9864,2,  36.0883,2,    181.9,2,    183.4,2,     4.44,6,    10.76,6,     0.68,6,    1.528,2,    0.818,2,    0.070,2,    4.373,2,    3.955,2,   -999.0,9,  14.8761
  18HU19950419, AR13d,    20,  1, 153296,     50,2,19950426, 38.1652, -47.4573, 5274,    701.2,  13.2509,  35.7238,2,  35.7321,2,    177.8,2,    181.3,2,     6.09,6,    13.79,6,     0.87,6,    1.484,2,    1.040,2,    0.064,2,    2.111,2,    4.476,2,   -999.0,9,  13.1508
  18HU19950419, AR13d,    20,  1, 153295,     49,2,19950426, 38.1652, -47.4573, 5274,    965.7,   8.2836,  35.1162,2,  35.1256,2,    151.9,2,    151.3,2,    15.94,3,    24.39,6,     1.67,6,    0.435,2,    0.149,2,    0.031,2,    1.647,2,    2.004,2,   -999.0,9,   8.1789
  18HU19950419, AR13d,    20,  1, 153294,     48,2,19950426, 38.1652, -47.4573, 5274,   1153.2,   5.9272,  35.0580,2,  35.0642,2,    214.6,2,    213.5,2,    12.92,6,    19.25,6,     1.30,6,    1.064,2,    0.784,2,    0.056,2,   10.911,3,    3.209,2,   -999.0,9,   5.8208
  18HU19950419, AR13d,    20,  1, 153293,     47,2,19950426, 38.1652, -47.4573, 5274,   1453.2,   4.6303,  34.9983,2,  35.0043,2,    248.4,2,    246.4,2,    12.36,6,    17.63,6,     1.23,6,    0.995,2,    0.603,2,    0.023,2,    3.723,2,    4.031,2,   -999.0,9,   4.5074
  18HU19950419, AR13d,    20,  1, 153292,     46,2,19950426, 38.1652, -47.4573, 5274,   1700.3,   4.0889,  34.9540,2,  34.9780,3,    261.3,2,    257.6,2,    11.90,6,    17.01,6,     1.27,6,    1.263,2,    0.705,2,    0.062,2,    2.415,2,    4.547,2,   -999.0,9,   3.9490
  18HU19950419, AR13d,    20,  1, 153291,     45,2,19950426, 38.1652, -47.4573, 5274,   1996.0,   3.6354,  34.9138,2,  34.9211,2,    269.8,2,    273.8,2,    11.84,6,    16.70,6,     1.19,6,    1.611,2,    0.691,2,    0.136,2,    5.357,2,    5.749,2,   -999.0,9,   3.4738
  18HU19950419, AR13d,    20,  1, 153290,     44,2,19950426, 38.1652, -47.4573, 5274,   2198.7,   3.5364,  34.9172,2,  34.9254,2,    273.9,2,    275.1,2,    12.47,6,    16.71,6,     1.21,6,    1.375,2,    0.815,2,    0.045,2,    3.418,2,    5.234,2,   -999.0,9,   3.3567
  18HU19950419, AR13d,    20,  1, 153289,     43,2,19950426, 38.1652, -47.4573, 5274,   2472.7,   3.3856,  34.9108,2,  34.9164,2,    277.4,2,    276.4,2,    13.00,6,    16.76,6,     1.19,6,    1.381,2,    0.727,2,    0.085,2,    6.499,2,    4.855,2,   -999.0,9,   3.1814
  18HU19950419, AR13d,    20,  1, 153288,     42,2,19950426, 38.1652, -47.4573, 5274,   2802.2,   3.3390,  34.9405,2,  34.9484,2,    268.3,2,    268.3,2,    15.89,6,    17.29,6,     1.22,6,    0.569,2,    0.439,2,    0.033,2,    3.490,2,    2.094,2,   -999.0,9,   3.1018
  18HU19950419, AR13d,    20,  1, 153287,     41,2,19950426, 38.1652, -47.4573, 5274,   2995.5,   3.1609,  34.9351,2,  34.9433,2,    269.7,2,    268.4,2,    17.24,6,    16.79,6,     1.23,6,    0.616,2,    0.289,2,    0.050,2,    5.892,2,    2.759,2,   -999.0,9,   2.9071
  18HU19950419, AR13d,    20,  1, 153286,     40,2,19950426, 38.1652, -47.4573, 5274,   3248.9,   2.9786,  34.9314,2,  34.9396,2,    266.5,2,    268.0,2,    19.98,6,    17.13,6,     1.22,6,    0.462,2,    0.445,2,    0.064,2,    4.259,2,    1.747,2,   -999.0,9,   2.7017
  18HU19950419, AR13d,    20,  1, 153285,     39,2,19950426, 38.1652, -47.4573, 5274,   3496.5,   2.7335,  34.9164,2,  34.9213,2,    270.4,2,    270.7,2,    20.58,6,    16.95,6,     1.20,6,    0.529,2,    0.352,2,    0.032,2,    5.144,2,    1.817,2,   -999.0,9,   2.4356
  18HU19950419, AR13d,    20,  1, 153284,     38,2,19950426, 38.1652, -47.4573, 5274,   3752.6,   2.5463,  34.9068,2,  34.9150,2,    269.6,2,    270.5,2,    24.06,6,    17.90,6,     1.26,6,    0.378,2,    0.370,2,    0.062,2, -999.000,5,    1.146,2,   -999.0,9,   2.2247
  18HU19950419, AR13d,    20,  1, 153283,     37,2,19950426, 38.1652, -47.4573, 5274,   3997.9,   2.4044,  34.8971,2,  34.9054,2,    268.3,2,    268.3,2,    26.94,6,    17.24,6,     1.26,6,    0.314,6,    0.206,6,    0.017,6,    3.033,6,    1.576,6,   -999.0,9,   2.0590
  18HU19950419, AR13d,    20,  1, 153282,     36,2,19950426, 38.1652, -47.4573, 5274,   4298.5,   2.3273,  34.8896,2,  34.8922,2,    269.2,2,    268.6,2,    28.47,6,    17.69,6,     1.28,6,    0.447,2,    0.150,2,    0.017,2,    6.037,2,    1.437,2,   -999.0,9,   1.9492
  18HU19950419, AR13d,    20,  1, 153281,     35,2,19950426, 38.1652, -47.4573, 5274,   4497.0,   2.3003,  34.8859,2,  34.8934,2,    267.9,2,    266.6,2,    29.55,6,    18.03,6,     1.28,6,    0.471,2,    0.298,2,    0.041,2,    1.675,2,    1.717,2,   -999.0,9,   1.8994
  18HU19950419, AR13d,    20,  1, 153280,     34,2,19950426, 38.1652, -47.4573, 5274,   4800.3,   2.2876,  34.8817,2,  34.8894,2,    269.1,2,    267.9,2,    30.84,6,    18.09,6,     1.30,6,    0.522,2,    0.485,2,    0.033,2,    3.665,2,    2.112,2,   -999.0,9,   1.8502
  18HU19950419, AR13d,    20,  1, 153279,     33,2,19950426, 38.1652, -47.4573, 5274,   5096.4,   2.2696,  34.8740,2,  34.8820,2,    262.6,2,    262.0,2,    37.02,6,    18.55,6,     1.39,6,    0.295,2,    0.298,2,    0.032,2,    3.512,2,    1.488,2,   -999.0,9,   1.7957
  18HU19950419, AR13d,    20,  1, 153278,     31,2,19950426, 38.1652, -47.4573, 5274,   5313.4,   2.2532,  34.8676,2,  34.8756,0,    258.2,2,    258.6,2,    41.39,6,    19.50,6,     1.42,6,    0.185,2,    0.059,2,    0.030,2,    0.872,2,    1.421,2,   -999.0,9,   1.7521
  18HU19950419, AR13d,    20,  1, 153277,     32,2,19950426, 38.1652, -47.4573, 5274,   5420.1,   2.2455,  34.8645,2,  34.8727,2,    256.3,2,    256.1,6,    43.42,6,    19.75,6,     1.47,6,    0.167,2,    0.183,2,    0.041,2,    7.261,2,    1.259,2,   -999.0,9,   1.7308