BOTTLE,20220817CCHSIOAMB
EXPOCODE,SECT_ID,STNNBR,CASTNO,SAMPNO,BTLNBR,BTLNBR_FLAG_W,DATE,LATITUDE,LONGITUDE,DEPTH,CTDPRS,CTDTMP,CTDSAL,CTDSAL_FLAG_W,SALNTY,SALNTY_FLAG_W,CTDOXY,CTDOXY_FLAG_W,OXYGEN,OXYGEN_FLAG_W,SILCAT,SILCAT_FLAG_W,NITRAT,NITRAT_FLAG_W,PHSPHT,PHSPHT_FLAG_W,CFC-11,CFC-11_FLAG_W,CFC-12,CFC-12_FLAG_W,CFC113,CFC113_FLAG_W,CCL4,CCL4_FLAG_W,MCHFRM,MCHFRM_FLAG_W,TCARBN,TCARBN_FLAG_W,THETA
,,,,,,,,,,METERS,DBAR,ITS-90,PSS-78,,PSS-78,,UMOL/KG,,UMOL/KG,,UMOL/KG,,UMOL/KG,,UMOL/KG,,PMOL/KG,,PMOL/KG,,PMOL/KG,,PMOL/KG,,PMOL/KG,,UMOL/KG,,DEG C
  18HU19950419, AR13d,    27,  1, 153460,     53,2,19950428, 39.4448, -43.7475, 4555,     13.9,  17.5877,  36.3195,2,  36.3322,2,    234.6,2,    232.0,2,     0.70,6,     1.17,6,     0.12,6,    1.890,2,    0.970,2,    0.071,2,   14.227,3,    4.953,2,   -999.0,9,  17.5853
  18HU19950419, AR13d,    27,  1, 153459,     52,2,19950428, 39.4448, -43.7475, 4555,    102.8,  17.7324,  36.3898,2,  36.3984,2,    215.8,2,    217.5,2,     1.36,6,     2.89,6,     0.19,6,    1.853,2,    0.587,2,    0.083,2,    2.133,2,    5.331,2,   -999.0,9,  17.7148
  18HU19950419, AR13d,    27,  1, 153458,     51,2,19950428, 39.4448, -43.7475, 4555,    354.7,  14.3614,  35.8308,2,  35.8414,2,    206.5,2,    212.1,2,     3.94,6,     8.98,6,     0.57,6,    1.850,2, -999.000,5,    0.117,2,    3.120,2,    5.046,2,   -999.0,9,  14.3086
  18HU19950419, AR13d,    27,  1, 153457,     50,2,19950428, 39.4448, -43.7475, 4555,    511.7,  12.4983,  35.6294,2,  35.6374,2,    170.4,2,    184.7,6,     6.64,6,    14.70,6,     0.91,6,    1.499,2,    0.624,2,    0.063,2,    2.010,2,    4.247,2,   -999.0,9,  12.4284
  18HU19950419, AR13d,    27,  1, 153456,     49,2,19950428, 39.4448, -43.7475, 4555,    709.0,   8.2377,  35.0638,2,  35.0783,2,    168.8,2,    167.9,2,    13.33,6,    22.60,6,     1.45,6,    0.997,2,    0.377,2,    0.104,3,    1.274,2,    3.326,2,   -999.0,9,   8.1623
  18HU19950419, AR13d,    27,  1, 153455,     48,2,19950428, 39.4448, -43.7475, 4555,    797.8,   7.2892,  35.0531,2,  35.0628,2,    176.8,2,    183.7,2,    13.21,6,    22.10,6,     1.39,6,    0.977,2,    0.389,2,    0.065,2,    2.972,2,    3.748,2,   -999.0,9,   7.2094
  18HU19950419, AR13d,    27,  1, 153454,     47,2,19950428, 39.4448, -43.7475, 4555,    997.8,   5.5264,  35.0414,2,  35.0557,2,    226.9,2,    224.3,2,    12.59,6,    19.59,6,     1.28,6,    1.199,2,    0.864,2,    0.085,2,   12.490,3,    4.155,2,   -999.0,9,   5.4384
  18HU19950419, AR13d,    27,  1, 153453,     46,3,19950428, 39.4448, -43.7475, 4555,   1091.2,   5.5377,  35.1111,2,  35.1215,2,    234.6,2,    231.7,2,    12.21,6,    18.92,6,     1.23,6,    1.067,2,    0.379,2,    0.037,2,    1.923,2,    3.565,2,   -999.0,9,   5.4406
  18HU19950419, AR13d,    27,  1, 153452,     45,2,19950428, 39.4448, -43.7475, 4555,   1357.0,   4.6224,  35.0291,2,  35.0376,2,    254.2,2,    252.5,2,    11.86,6,    18.58,6,     1.18,6,    1.133,2,    0.571,2,    0.039,2,    5.053,2,    4.239,2,   -999.0,9,   4.5085
  18HU19950419, AR13d,    27,  1, 153451,     44,2,19950428, 39.4448, -43.7475, 4555,   1697.7,   3.8380,  34.9416,2,  34.9494,2,    272.9,2,    269.7,2,    11.99,6,    18.12,6,     1.14,6,    1.188,2,    0.756,2,    0.085,2,    6.270,2,    3.809,2,   -999.0,9,   3.7016
  18HU19950419, AR13d,    27,  1, 153450,     43,2,19950428, 39.4448, -43.7475, 4555,   1904.4,   3.6409,  34.9252,2,  34.9337,2,    272.5,2,    272.0,2,  -999.00,5,  -999.00,5,  -999.00,5,    1.114,2,    0.580,2,    0.074,2,    5.585,2,    3.622,2,   -999.0,9,   3.4879
  18HU19950419, AR13d,    27,  1, 153449,     42,2,19950428, 39.4448, -43.7475, 4555,   2086.6,   3.5063,  34.9202,2,  34.9286,2,    274.4,2,    273.8,2,    12.74,6,    17.62,6,     1.16,6,    1.188,2,    0.759,2,    0.040,2,    5.886,2,    4.083,2,   -999.0,9,   3.3379
  18HU19950419, AR13d,    27,  1, 153448,     41,2,19950428, 39.4448, -43.7475, 4555,   2386.2,   3.3597,  34.9249,2,  34.9331,2,    275.1,2,    272.4,2,    13.67,6,    17.75,6,     1.14,6,    0.849,2,    0.408,2,    0.059,2,    4.259,2,    3.041,2,   -999.0,9,   3.1645
  18HU19950419, AR13d,    27,  1, 153447,     40,2,19950428, 39.4448, -43.7475, 4555,   2588.4,   3.2488,  34.9275,2,  34.9362,2,    272.9,2,    269.3,2,    14.68,6,    17.55,6,     1.17,6,    0.803,6,    0.409,6,    0.061,6,    5.095,6,    2.521,6,   -999.0,9,   3.0354
  18HU19950419, AR13d,    27,  1, 153446,     39,2,19950428, 39.4448, -43.7475, 4555,   2793.9,   3.0745,  34.9201,2,  34.9288,2,    274.8,2,    273.5,2,    14.71,6,    17.61,6,     1.13,6,    0.889,2,    0.443,2,    0.058,2,    3.452,2,    3.245,2,   -999.0,9,   2.8436
  18HU19950419, AR13d,    27,  1, 153445,     38,2,19950428, 39.4448, -43.7475, 4555,   2997.9,   2.9323,  34.9185,2,  34.9274,2,    274.2,2,    273.6,2,    15.79,6,    17.35,6,     1.13,6,    0.829,2,    0.508,2,    0.037,2,    3.930,2,    2.756,2,   -999.0,9,   2.6832
  18HU19950419, AR13d,    27,  1, 153444,     37,2,19950428, 39.4448, -43.7475, 4555,   3315.8,   2.6386,  34.9106,2,  34.9135,0,    274.2,2,    275.0,2,    20.50,6,    17.55,6,     1.15,6,    0.791,2,    0.000,3, -999.000,5,    4.992,2,    2.888,2,   -999.0,9,   2.3626
  18HU19950419, AR13d,    27,  1, 153443,     36,2,19950428, 39.4448, -43.7475, 4555,   3505.4,   2.4691,  34.9027,2,  34.9117,2,    273.4,2,    274.2,2,    20.98,6,    18.18,6,     1.16,6,    0.652,2,    0.298,2,    0.037,2,    3.357,2,    2.196,2,   -999.0,9,   2.1768
  18HU19950419, AR13d,    27,  1, 153442,     35,2,19950428, 39.4448, -43.7475, 4555,   3791.8,   2.3487,  34.8951,2,  34.9036,2,    273.2,2,    275.4,2,    22.31,6,    17.77,6,     1.17,6,    0.719,2,    0.537,2,    0.042,2,    3.563,2,    2.511,2,   -999.0,9,   2.0281
  18HU19950419, AR13d,    27,  1, 153441,     34,2,19950428, 39.4448, -43.7475, 4555,   3989.0,   2.3183,  34.8924,2,  34.9010,2,    273.5,2,    275.4,2,    22.88,6,    17.83,6,     1.21,6,    0.746,2,    0.416,2,    0.072,3,    6.159,2,    2.712,2,   -999.0,9,   1.9763
  18HU19950419, AR13d,    27,  1, 153440,     33,2,19950428, 39.4448, -43.7475, 4555,   4285.7,   2.3091,  34.8899,2,  34.8983,2,    273.1,2,    274.2,2,    23.25,6,    18.15,6,     1.16,6,    0.784,2,    0.561,2,    0.015,2,    8.452,2,    2.817,2,   -999.0,9,   1.9331
  18HU19950419, AR13d,    27,  1, 153439,     31,2,19950428, 39.4448, -43.7475, 4555,   4519.3,   2.2963,  34.8872,2,  34.8961,2,    272.2,2,    273.5,2,    25.26,6,    17.97,6,     1.20,6,    0.745,2,    0.515,2,    0.055,2,    6.788,2,    2.787,2,   -999.0,9,   1.8929
  18HU19950419, AR13d,    27,  1, 153438,     32,2,19950428, 39.4448, -43.7475, 4555,   4628.2,   2.2769,  34.8835,2,  34.8951,2,    270.5,2,    271.6,2,    28.14,6,    18.46,6,     1.22,6,    0.641,2,    0.305,2,    0.018,2,    2.352,2,    2.383,2,   -999.0,9,   1.8609
  18HU19950419, AR13d,    28,  1, 153483,     53,2,19950428, 39.8773, -43.4295, 4658,     11.4,  16.8147,  36.2332,2,  36.2446,2,    234.5,2,    236.1,2,     1.11,6,     2.01,6,  -999.00,5,    2.245,2,    1.235,2,    0.192,2,    4.405,2,    7.283,2,   2074.5,2,  16.8128
  18HU19950419, AR13d,    28,  1, 153482,     52,2,19950428, 39.8773, -43.4295, 4658,    102.6,  16.5634,  36.2324,2,  36.2420,2,    226.0,2,    212.6,2,     2.47,6,     5.63,6,  -999.00,5,    2.066,2,    1.159,2,    0.124,2,    2.546,2,    5.657,2,   2093.5,6,  16.5467
  18HU19950419, AR13d,    28,  1, 153481,     51,2,19950428, 39.8773, -43.4295, 4658,    203.3,  16.2605,  36.2049,2,  36.2151,2,    232.1,2,    220.9,2,     2.11,6,     5.15,6,  -999.00,5,    2.162,2,    1.164,2,    0.129,2,    7.730,2,    5.367,2,   2093.7,2,  16.2277
  18HU19950419, AR13d,    28,  1, 153480,     50,2,19950428, 39.8773, -43.4295, 4658,    401.0,  14.5967,  35.9399,2,  35.9505,2,    206.6,2,    198.5,2,     4.24,6,     9.92,6,  -999.00,5,    1.944,2,    1.000,2,    0.082,2,    3.349,2,    5.855,2,   -999.0,5,  14.5362
  18HU19950419, AR13d,    28,  1, 153479,     49,2,19950428, 39.8773, -43.4295, 4658,    590.8,  11.4676,  35.4720,2,  34.9630,0,    180.7,2,    179.2,2,     8.27,6,    17.33,6,  -999.00,5,    1.583,2,    0.824,2,    0.057,2,    4.478,2,    5.084,2,   2153.4,2,  11.3911
  18HU19950419, AR13d,    28,  1, 153478,     48,2,19950428, 39.8773, -43.4295, 4658,    697.1,   9.3638,  35.2142,2,  34.9172,0,    169.5,2,    167.1,2,    11.55,6,    21.22,6,     1.32,3,    1.139,2,    0.543,2,    0.061,2,    2.402,2,    3.331,2,   2172.9,2,   9.2838
  18HU19950419, AR13d,    28,  1, 153477,     47,2,19950428, 39.8773, -43.4295, 4658,    796.1,   7.7665,  35.0937,2,  34.9343,0,    175.7,2,    178.5,2,    12.99,6,    21.68,6,     1.39,3,    1.064,2,    0.501,2,    0.069,2,    1.565,2,    4.007,2,   2176.8,2,   7.6841
  18HU19950419, AR13d,    28,  1, 153476,     46,9,19950428, 39.8773, -43.4295, 4658,    896.1,   6.4079,  35.0385,2,-999.0000,9,    201.0,2,   -999.0,5,  -999.00,5,  -999.00,5,  -999.00,5, -999.000,9, -999.000,9, -999.000,9, -999.000,9, -999.000,9,   -999.0,9,   6.3236
  18HU19950419, AR13d,    28,  1, 153475,     45,2,19950428, 39.8773, -43.4295, 4658,   1000.7,   5.7178,  35.0294,2,  35.0386,2,    221.2,2,    218.7,2,    12.69,6,    19.61,6,     1.25,3,    1.355,6,    0.670,6,    0.093,6,    3.201,6,    5.075,6,   2170.7,2,   5.6281
  18HU19950419, AR13d,    28,  1, 153474,     44,2,19950428, 39.8773, -43.4295, 4658,   1202.0,   4.8725,  35.0146,2,  35.0233,2,    244.4,2,    243.7,2,    11.94,6,    19.00,6,     1.17,3,    1.509,2,    0.775,2,    0.077,2,   10.222,3,    5.233,2,   2165.5,2,   4.7708
  18HU19950419, AR13d,    28,  1, 153473,     43,2,19950428, 39.8773, -43.4295, 4658,   1495.6,   4.0773,  34.9528,2,  34.9613,2,    261.7,2,    264.3,2,    11.74,6,    18.33,6,     1.16,3,    1.533,2,    0.756,2,    0.082,2,    5.790,2,    5.003,2,   2159.0,2,   3.9566
  18HU19950419, AR13d,    28,  1, 153472,     42,2,19950428, 39.8773, -43.4295, 4658,   1789.3,   3.6970,  34.9217,2,  34.9304,2,    271.3,2,    272.0,2,    12.13,6,    17.91,6,     1.16,3,    1.517,2,    0.715,2,    0.073,2,    6.595,2,    4.577,2,   -999.0,5,   3.5540
  18HU19950419, AR13d,    28,  1, 153471,     41,2,19950428, 39.8773, -43.4295, 4658,   2099.5,   3.4381,  34.9031,2,  34.9112,2,    277.8,2,    277.7,2,    12.03,6,    17.39,6,     1.11,3,    1.667,3,    0.747,3,    0.171,3,    6.422,3,    6.021,3,   2153.5,2,   3.2696
  18HU19950419, AR13d,    28,  1, 153470,     40,2,19950428, 39.8773, -43.4295, 4658,   2402.8,   3.3414,  34.9185,2,  34.9268,0,    273.4,2,    274.6,2,    13.66,6,    17.67,6,     1.10,3,    1.187,2,    0.608,2,    0.059,2,    5.222,2,    3.800,2,   2156.5,2,   3.1450
  18HU19950419, AR13d,    28,  1, 153469,     39,2,19950428, 39.8773, -43.4295, 4658,   2706.2,   3.2059,  34.9293,2,  34.9379,2,    270.7,2,    270.7,2,    15.11,6,    17.51,6,     1.19,6,    0.732,2,    0.375,2,    0.045,2,    4.830,2,    2.168,2,   2153.6,2,   2.9813
  18HU19950419, AR13d,    28,  1, 153468,     38,2,19950428, 39.8773, -43.4295, 4658,   2886.8,   3.0795,  34.9274,2,  34.9352,2,    270.8,2,    271.0,2,    15.99,6,    17.51,6,     1.18,6,    0.611,2, -999.000,5, -999.000,5,    5.108,2,    2.419,2,   2157.2,2,   2.8389
  18HU19950419, AR13d,    28,  1, 153467,     37,2,19950428, 39.8773, -43.4295, 4658,   3133.9,   2.9016,  34.9216,2,  34.9250,2,    273.7,2,    272.9,2,    18.12,6,    17.73,6,     1.17,6,    0.672,2,    0.418,2,    0.034,2,    9.376,2,    1.961,2,   2157.1,2,   2.6389
  18HU19950419, AR13d,    28,  1, 153466,     36,2,19950428, 39.8773, -43.4295, 4658,   3438.1,   2.6510,  34.9101,2,  34.9191,2,    274.6,2,    273.2,2,    18.40,6,    17.57,6,     1.18,6,    0.751,2,    0.427,2,    0.051,2,    9.397,2,    2.276,2,   2158.2,2,   2.3615
  18HU19950419, AR13d,    28,  1, 153465,     35,2,19950428, 39.8773, -43.4295, 4658,   3737.7,   2.4406,  34.9000,2,  34.9079,2,    274.4,2,    273.9,2,    20.85,6,    17.41,6,     1.19,6,    0.795,2,    0.345,2,    0.042,2,    3.734,2,    2.266,2,   2161.0,2,   2.1235
  18HU19950419, AR13d,    28,  1, 153464,     34,2,19950428, 39.8773, -43.4295, 4658,   4036.6,   2.3473,  34.8938,2,  34.8973,2,    274.7,2,    273.5,2,    22.50,6,    17.84,6,     1.19,6,    0.788,2,    0.339,2,    0.036,2,    2.215,2,    2.574,2,   2163.7,2,   1.9991
  18HU19950419, AR13d,    28,  1, 153463,     33,2,19950428, 39.8773, -43.4295, 4658,   4317.2,   2.3038,  34.8894,2,  34.8941,2,    273.5,2,    273.6,6,    23.53,6,    17.92,6,     1.19,6,    0.815,2,    0.276,2,    0.042,2,    5.396,2,    2.683,2,   2165.3,2,   1.9242
  18HU19950419, AR13d,    28,  1, 153462,     31,2,19950428, 39.8773, -43.4295, 4658,   4656.0,   2.2727,  34.8831,2,  34.8874,2,    270.9,2,    269.8,2,    27.81,6,    18.32,6,     1.27,6,    0.697,2,    0.383,2,    0.046,2,    5.593,2,    2.049,2,   2171.0,2,   1.8535
  18HU19950419, AR13d,    28,  1, 153461,     32,2,19950428, 39.8773, -43.4295, 4658,   4765.2,   2.2669,  34.8803,2,  34.8853,2,    267.1,2,    267.3,2,    30.76,6,    19.01,6,     1.28,6,    0.566,2,    0.340,2,    0.043,2,    3.743,2,    2.011,2,   2175.5,6,   1.8345
  18HU19950419, AR13d,    29,  1, 153506,     53,2,19950428, 40.3242, -43.1478, 4769,     10.9,  17.6033,  36.3913,2,  36.4031,2,    228.5,2,    233.4,2,     1.13,6,     1.16,6,  -999.00,5,    1.976,2,    1.021,2,    0.116,2,    9.262,2,    5.982,2,   -999.0,5,  17.6014
  18HU19950419, AR13d,    29,  1, 153505,     52,2,19950428, 40.3242, -43.1478, 4769,     98.5,  17.2551,  36.3205,2,  36.3445,2,    228.3,2,    232.2,2,     0.98,6,     1.71,6,     0.30,3,    1.972,2,    0.983,2,    0.095,2,    2.739,2,    5.933,2,   1985.8,2,  17.2386
  18HU19950419, AR13d,    29,  1, 153504,     51,2,19950428, 40.3242, -43.1478, 4769,    217.9,  16.4838,  36.2254,2,  36.2361,2,    207.7,2,    230.3,2,     1.59,6,     3.54,6,     0.58,3,    2.029,2,    1.608,3,    0.198,2,    3.870,2,    6.423,2,   1995.6,2,  16.4483
  18HU19950419, AR13d,    29,  1, 153503,     50,2,19950428, 40.3242, -43.1478, 4769,    407.7,  14.3426,  35.8834,2,  35.8943,2,    207.6,2,    199.9,6,     4.08,6,    10.20,6,     0.65,3,    1.784,2,    1.189,2,    0.000,3,    2.356,2,    4.670,2,   2031.9,3,  14.2818
  18HU19950419, AR13d,    29,  1, 153502,     49,2,19950428, 40.3242, -43.1478, 4769,    607.4,  11.1163,  35.4207,2,  35.4334,2,    177.2,2,    167.4,2,     9.63,6,    19.11,6,  -999.00,5,    1.161,2,    0.368,2,    0.010,2,    0.788,2,    3.913,2,   2155.0,2,  11.0391
  18HU19950419, AR13d,    29,  1, 153501,     48,2,19950428, 40.3242, -43.1478, 4769,    795.3,   8.7694,  35.2630,2,  35.2744,2,    180.1,2,    182.8,2,    11.04,6,    19.65,6,     1.28,3,    1.071,2,    0.722,2,    0.039,2,    3.425,2,    3.573,2,   2167.0,2,   8.6810
  18HU19950419, AR13d,    29,  1, 153500,     47,2,19950428, 40.3242, -43.1478, 4769,   1012.4,   6.5992,  35.1683,2,  35.1869,2,    198.9,2,    207.3,2,    12.23,6,    20.02,6,     1.27,3,    1.009,2,    0.367,2,    0.000,3,    6.785,2,    3.493,2,   2172.3,2,   6.5015
  18HU19950419, AR13d,    29,  1, 153499,     46,2,19950428, 40.3242, -43.1478, 4769,   1097.5,   5.4894,  35.0423,2,  35.0524,2,    224.5,2,    225.3,2,    12.59,6,    19.49,6,     1.28,3,    1.193,2,    0.672,2,    0.025,2,    1.941,2,    4.399,2,   2149.2,4,   5.3922
  18HU19950419, AR13d,    29,  1, 153498,     45,2,19950428, 40.3242, -43.1478, 4769,   1312.4,   5.0212,  35.0571,2,  35.0666,2,    243.0,2,   -999.0,5,    12.23,6,    18.93,6,     1.29,3,    1.148,2,    0.795,2,    0.000,3,    6.549,2,    3.833,2,   2103.6,4,   4.9075
  18HU19950419, AR13d,    29,  1, 153497,     44,2,19950428, 40.3242, -43.1478, 4769,   1492.4,   4.4051,  34.9951,2,  35.0066,2,    254.6,2,    258.5,2,    11.98,6,    18.90,6,     1.26,3,    1.279,2,    0.598,2,    0.000,3,    2.933,2,    4.205,2,   2097.8,4,   4.2809
  18HU19950419, AR13d,    29,  1, 153496,     43,2,19950428, 40.3242, -43.1478, 4769,   1699.4,   4.0379,  34.9598,2,  34.9684,2,    263.9,2,    266.6,2,    12.21,6,    18.30,6,     1.27,3,    1.194,2,    0.437,2,    0.054,2,    4.968,2,    4.248,2,   2081.1,4,   3.8987
  18HU19950419, AR13d,    29,  1, 153495,     42,2,19950428, 40.3242, -43.1478, 4769,   1903.4,   3.6927,  34.9258,2,  34.9346,2,    271.4,2,    275.1,2,    12.11,6,    17.56,6,     1.40,3,    1.254,2,    0.655,2,    0.025,2,    6.593,2,    4.356,2,   2093.5,4,   3.5390
  18HU19950419, AR13d,    29,  1, 153494,     41,2,19950428, 40.3242, -43.1478, 4769,   2103.5,   3.5662,  34.9224,2,  34.9316,2,    273.1,2,    274.2,2,    12.92,6,    17.95,6,     1.25,3,    1.132,2,    0.806,2,    0.051,2,    5.262,2,    4.342,2,   2085.7,4,   3.3953
  18HU19950419, AR13d,    29,  1, 153493,     40,2,19950428, 40.3242, -43.1478, 4769,   2287.2,   3.4968,  34.9257,2,  34.9370,2,    273.1,2,    275.0,2,    13.57,6,    18.55,6,  -999.00,5,    0.999,2,    0.680,2,    0.000,3,    8.296,2,    3.597,2,   2150.4,2,   3.3091
  18HU19950419, AR13d,    29,  1, 153492,     39,2,19950428, 40.3242, -43.1478, 4769,   2512.2,   3.4352,  34.9377,2,  34.9472,2,    269.7,2,    271.1,2,    15.32,6,    18.65,6,  -999.00,5,    0.681,2,    0.402,2,    0.000,3,    3.608,2,    2.424,2,   2153.8,6,   3.2260
  18HU19950419, AR13d,    29,  1, 153491,     38,2,19950428, 40.3242, -43.1478, 4769,   2704.5,   3.3628,  34.9481,2,  34.9574,2,    264.6,2,    266.3,2,    17.32,6,    18.21,6,     1.24,3,    0.415,2,    0.410,2,    0.000,3,    2.560,2,    1.877,2,   2158.7,2,   3.1353
  18HU19950419, AR13d,    29,  1, 153490,     37,2,19950428, 40.3242, -43.1478, 4769,   2992.8,   3.0408,  34.9252,2,  34.9328,2,    273.3,2,    272.5,2,    17.06,6,    17.68,6,     1.18,3,    0.655,6,    0.420,6,    0.019,6,    3.595,6,    2.364,6,   2157.6,2,   2.7899
  18HU19950419, AR13d,    29,  1, 153489,     36,2,19950428, 40.3242, -43.1478, 4769,   3281.0,   2.8183,  34.9196,2,  34.9289,2,    271.9,2,    270.9,2,    18.88,6,    18.26,6,     1.20,3,    0.573,2,    0.405,2,    0.000,3,    4.941,2,    2.419,2,   2160.5,2,   2.5417
  18HU19950419, AR13d,    29,  1, 153488,     35,2,19950428, 40.3242, -43.1478, 4769,   3607.2,   2.5924,  34.9082,2,  34.9171,2,    273.1,2,    273.4,2,    20.81,6,    17.63,6,     1.20,3,    0.593,2,    0.416,2,    0.000,3,    6.965,2,    2.272,2,   2162.8,2,   2.2858
  18HU19950419, AR13d,    29,  1, 153487,     34,2,19950428, 40.3242, -43.1478, 4769,   3899.4,   2.4033,  34.8975,2,  34.9065,2,    275.1,2,    273.9,2,    22.87,6,    17.61,6,     1.25,3,    0.630,2,    0.484,2,    0.000,3,    3.058,2,    2.601,2,   2165.0,2,   2.0691
  18HU19950419, AR13d,    29,  1, 153486,     33,2,19950428, 40.3242, -43.1478, 4769,   4148.9,   2.3286,  34.8920,2,  34.9026,2,    274.7,2,    274.3,2,    24.29,6,    18.09,6,  -999.00,5,    0.713,2,    0.492,2,    0.000,3,    6.771,2,    2.795,2,   2165.1,2,   1.9679
  18HU19950419, AR13d,    29,  1, 153485,     31,2,19950428, 40.3242, -43.1478, 4769,   4431.0,   2.2896,  34.8865,2,  34.8951,0,    273.1,2,    271.6,2,    27.84,6,    19.13,6,  -999.00,5,    0.623,2,    0.174,2,    0.020,2,    4.234,2,    2.351,2,   2169.2,2,   1.8970
  18HU19950419, AR13d,    29,  1, 153484,     32,2,19950428, 40.3242, -43.1478, 4769,   4556.4,   2.2853,  34.8854,2,  34.8947,2,    272.9,2,    271.0,2,    27.82,6,    18.67,6,  -999.00,5,    0.666,2,    0.596,2,    0.041,2,    2.002,2,    3.005,2,   2169.9,2,   1.8777