BOTTLE,20220817CCHSIOAMB
EXPOCODE,SECT_ID,STNNBR,CASTNO,SAMPNO,BTLNBR,BTLNBR_FLAG_W,DATE,LATITUDE,LONGITUDE,DEPTH,CTDPRS,CTDTMP,CTDSAL,CTDSAL_FLAG_W,SALNTY,SALNTY_FLAG_W,CTDOXY,CTDOXY_FLAG_W,OXYGEN,OXYGEN_FLAG_W,SILCAT,SILCAT_FLAG_W,NITRAT,NITRAT_FLAG_W,PHSPHT,PHSPHT_FLAG_W,CFC-11,CFC-11_FLAG_W,CFC-12,CFC-12_FLAG_W,CFC113,CFC113_FLAG_W,CCL4,CCL4_FLAG_W,MCHFRM,MCHFRM_FLAG_W,TCARBN,TCARBN_FLAG_W,THETA
,,,,,,,,,,METERS,DBAR,ITS-90,PSS-78,,PSS-78,,UMOL/KG,,UMOL/KG,,UMOL/KG,,UMOL/KG,,UMOL/KG,,PMOL/KG,,PMOL/KG,,PMOL/KG,,PMOL/KG,,PMOL/KG,,UMOL/KG,,DEG C
  18HU19950419, AR13d,    21,  1, 153322,     53,2,19950426, 38.1613, -46.7042, 5240,      7.2,  18.1726,  36.4570,2,  36.4676,2,    180.1,2,    235.2,2,     0.58,6,     0.33,6,     0.08,6,    2.071,2,    1.076,2,    0.204,2, -999.000,5,    6.550,2,   2057.5,2,  18.1713
  18HU19950419, AR13d,    21,  1, 153321,     52,2,19950426, 38.1613, -46.7042, 5240,    107.4,  18.0869,  36.4693,2,  36.4785,2,    236.0,2,    230.3,2,     0.93,6,     1.04,6,     0.11,6,    1.887,2,    1.026,2, -999.000,5,    7.562,2,    7.426,2,   2064.8,2,  18.0683
  18HU19950419, AR13d,    21,  1, 153320,     51,2,19950426, 38.1613, -46.7042, 5240,    246.1,  17.9431,  36.4534,2,  36.4586,2,    226.6,2,    223.9,2,     1.18,6,     2.28,6,     0.15,6,    2.048,2,    1.155,2,    0.125,2,    4.274,2,    6.164,2,   2071.8,2,  17.9005
  18HU19950419, AR13d,    21,  1, 153319,     50,2,19950426, 38.1613, -46.7042, 5240,    492.5,  16.3823,  36.2088,2,  36.2086,2,    186.1,2,    179.5,2,     3.34,6,     9.35,6,     0.51,6,    1.607,2,    0.772,2,    0.052,2,    0.821,2,    2.374,2,   2113.3,2,  16.3017
  18HU19950419, AR13d,    21,  1, 153318,     49,2,19950426, 38.1613, -46.7042, 5240,    585.9,  14.3344,  35.8136,2,  35.8231,2,    221.0,2,    205.6,2,     4.11,6,     9.80,6,     0.59,6,    1.882,2,    0.843,2, -999.000,5,    5.228,2,    6.074,2,   2108.5,2,  14.2467
  18HU19950419, AR13d,    21,  1, 153317,     48,2,19950426, 38.1613, -46.7042, 5240,    695.1,  12.5558,  35.6107,2,  35.6255,2,    160.9,2,    162.1,2,     7.97,6,    17.27,6,     1.04,6,    1.162,2,    0.561,2,    0.057,2,    4.404,2,    2.007,2,   2148.3,2,  12.4600
  18HU19950419, AR13d,    21,  1, 153316,     47,2,19950426, 38.1613, -46.7042, 5240,    880.0,   8.9867,  35.1933,2,  35.2028,2,    165.3,2,    157.9,2,    13.44,6,    23.30,6,     1.41,2,    0.718,2,    0.311,2,    0.028,2,    0.815,2,    2.596,2,   2175.4,2,   8.8872
  18HU19950419, AR13d,    21,  1, 153315,     46,2,19950426, 38.1613, -46.7042, 5240,   1197.5,   4.8012,  34.9464,2,  35.0841,3,    246.3,2,    196.3,2,    13.26,6,    21.47,6,     1.35,6,    1.203,2,    0.467,2,    0.084,2,    3.880,2,    4.905,2,   2171.8,2,   4.7004
  18HU19950419, AR13d,    21,  1, 153314,     45,2,19950426, 38.1613, -46.7042, 5240,   1400.2,   4.3020,  34.9438,2,  34.9528,2,    267.3,2,    261.8,2,    11.55,6,    18.11,6,     1.17,6,    2.106,3,    1.011,3,    0.135,3,    4.566,2,    7.661,4,   2157.2,2,   4.1876
  18HU19950419, AR13d,    21,  1, 153313,     44,2,19950426, 38.1613, -46.7042, 5240,   1618.5,   4.1271,  34.9558,2,  34.9637,2,    263.5,2,    262.8,2,    11.84,6,    18.23,6,     1.17,6,    1.455,2,    0.649,2,    0.067,2,    5.918,2,    5.024,2,   2156.3,2,   3.9945
  18HU19950419, AR13d,    21,  1, 153312,     43,2,19950426, 38.1613, -46.7042, 5240,   1915.8,   3.6180,  34.9065,2,  34.9360,0,    272.5,2,    270.7,6,    11.62,6,    18.30,6,     1.15,6,    1.734,2,    0.717,2,    0.085,2,    6.203,2,    5.842,4,   2152.7,6,   3.4643
  18HU19950419, AR13d,    21,  1, 153311,     42,2,19950426, 38.1613, -46.7042, 5240,   2181.0,   3.4786,  34.9135,2,  34.9215,2,    274.3,2,    276.4,2,    12.75,6,    17.85,6,     1.12,6,    1.317,2,    0.604,2,    0.069,2,    6.389,2,    3.979,2,   -999.0,5,   3.3016
  18HU19950419, AR13d,    21,  1, 153310,     41,2,19950426, 38.1613, -46.7042, 5240,   2476.7,   3.3444,  34.9183,2,  34.9270,2,    277.3,2,    274.4,2,    13.51,6,    17.78,6,     1.12,6,    1.115,2,    0.532,2,    0.058,2,    3.098,2,    4.181,2,   -999.0,5,   3.1405
  18HU19950419, AR13d,    21,  1, 153309,     40,2,19950426, 38.1613, -46.7042, 5240,   2812.5,   3.1920,  34.9342,2,  34.9430,2,    270.3,2,    269.7,2,    16.35,6,    17.78,6,     1.15,6,    0.529,2,    0.241,2,    0.030,2,    5.359,2,    1.523,2,   -999.0,5,   2.9567
  18HU19950419, AR13d,    21,  1, 153308,     39,2,19950426, 38.1613, -46.7042, 5240,   3103.2,   2.9539,  34.9255,2,  34.9342,2,    270.6,2,    271.3,2,    17.74,6,    17.55,6,     1.22,6,    0.504,2,    0.265,2,    0.036,2,    4.747,2,    1.451,2,   2155.2,2,   2.6932
  18HU19950419, AR13d,    21,  1, 153307,     38,2,19950426, 38.1613, -46.7042, 5240,   3397.2,   2.7205,  34.9173,2,  34.9266,2,    269.9,2,    270.6,2,    20.85,6,    18.22,6,     1.19,6,    0.393,2,    0.179,2,    0.030,2,    3.339,2,    1.511,2,   2155.1,2,   2.4337
  18HU19950419, AR13d,    21,  1, 153306,     37,2,19950426, 38.1613, -46.7042, 5240,   3684.8,   2.5379,  34.9073,2,  34.9152,0,    269.9,2,    268.8,2,    25.04,6,    18.45,6,     1.23,6,    0.199,2,    0.109,2,    0.026,2,    3.469,2,    0.400,2,   2160.3,2,   2.2242
  18HU19950419, AR13d,    21,  1, 153305,     36,3,19950426, 38.1613, -46.7042, 5240,   4013.0,   2.3714,  34.8947,2,  34.9039,2,    268.9,2,    267.9,2,    27.92,6,    18.70,6,     1.25,6,    0.224,2,    0.123,2,    0.031,2,    4.602,2,    0.729,2,   2163.5,2,   2.0252
  18HU19950419, AR13d,    21,  1, 153304,     35,2,19950426, 38.1613, -46.7042, 5240,   4304.8,   2.3142,  34.8880,2,  34.8969,2,    267.9,2,    270.4,2,    30.24,6,    19.22,6,     1.26,6,    0.222,2,    0.110,2,    0.029,2, -999.000,5,    0.736,2,   2168.8,2,   1.9358
  18HU19950419, AR13d,    21,  1, 153303,     34,2,19950426, 38.1613, -46.7042, 5240,   4614.4,   2.2754,  34.8813,2,  34.8896,2,    266.2,2,    266.0,2,    33.07,6,    19.80,6,     1.33,6,    0.265,6,    0.134,6,    0.025,6,    4.428,6,    0.989,6,   2172.6,2,   1.8612
  18HU19950419, AR13d,    21,  1, 153302,     33,2,19950426, 38.1613, -46.7042, 5240,   4910.8,   2.2623,  34.8756,2,  34.8842,2,    263.5,2,    262.9,2,    36.64,6,    20.20,6,     1.34,6,    0.164,2,    0.109,2,    0.026,2, -999.000,5,    0.349,2,   2175.9,2,   1.8120
  18HU19950419, AR13d,    21,  1, 153301,     31,3,19950426, 38.1613, -46.7042, 5240,   5208.9,   2.2678,  34.8712,2,  35.0314,3,    261.9,2,    250.2,3,    31.04,4,    18.51,6,     1.22,6,    0.358,3,    0.160,3,    0.032,3,    2.664,3,    1.343,3,   2170.4,6,   1.7797
  18HU19950419, AR13d,    21,  1, 153300,     32,2,19950426, 38.1613, -46.7042, 5240,   5386.7,   2.2643,  34.8677,2,  34.8770,2,    259.1,2,    258.9,2,    41.39,6,    20.43,6,     1.35,2,    0.079,2,    0.041,2,    0.035,2,    5.531,2,    0.617,2,   2182.6,2,   1.7532
  18HU19950419, AR13d,    22,  1, 153345,     53,2,19950426, 38.1555, -46.0228, 5221,      5.9,  17.6035,  36.2941,2,  36.3033,2,    233.0,2,    238.0,2,     0.67,6,     0.91,6,     0.12,6, -999.000,9, -999.000,9, -999.000,9, -999.000,9, -999.000,9,   2062.2,2,  17.6025
  18HU19950419, AR13d,    22,  1, 153344,     52,2,19950426, 38.1555, -46.0228, 5221,    241.1,  14.2712,  35.8109,2,  35.8982,2,    213.4,2,    219.6,2,     3.34,6,     7.62,6,     0.47,6, -999.000,9, -999.000,9, -999.000,9, -999.000,9, -999.000,9,   2099.3,2,  14.2356
  18HU19950419, AR13d,    22,  1, 153343,     51,2,19950426, 38.1555, -46.0228, 5221,    449.5,  10.5710,  35.1988,2,  35.2084,2,    190.9,2,    190.3,2,     8.14,6,    16.07,6,     1.02,6, -999.000,9, -999.000,9, -999.000,9, -999.000,9, -999.000,9,   2142.4,2,  10.5162
  18HU19950419, AR13d,    22,  1, 153342,     50,2,19950426, 38.1555, -46.0228, 5221,    544.5,   9.4706,  35.1394,2,  35.1477,2,    149.1,2,    162.5,2,    11.68,6,    21.49,6,     1.34,6, -999.000,9, -999.000,9, -999.000,9, -999.000,9, -999.000,9,   2167.4,2,   9.4083
  18HU19950419, AR13d,    22,  1, 153341,     49,2,19950426, 38.1555, -46.0228, 5221,    647.3,   8.2066,  35.1148,2,  35.1256,2,    151.5,2,    164.6,2,    14.39,6,    23.61,6,     1.44,6, -999.000,9, -999.000,9, -999.000,9, -999.000,9, -999.000,9,   2179.2,2,   8.1381
  18HU19950419, AR13d,    22,  1, 153340,     48,2,19950426, 38.1555, -46.0228, 5221,    912.1,   5.6840,  35.0745,2,  35.0791,2,    216.1,2,    225.4,2,    12.42,6,    19.49,6,     1.26,6, -999.000,9, -999.000,9, -999.000,9, -999.000,9, -999.000,9,   2167.0,2,   5.6030
  18HU19950419, AR13d,    22,  1, 153339,     47,2,19950426, 38.1555, -46.0228, 5221,   1297.7,   4.3676,  34.9888,2,  34.9978,2,    253.0,2,    257.7,2,    11.79,6,    18.74,6,     1.17,6, -999.000,9, -999.000,9, -999.000,9, -999.000,9, -999.000,9,   2156.7,2,   4.2618
  18HU19950419, AR13d,    22,  1, 153338,     46,3,19950426, 38.1555, -46.0228, 5221,   1546.3,   3.9577,  34.9543,2,  34.9628,2,    264.5,2,    267.7,2,  -999.00,9,  -999.00,9,  -999.00,9, -999.000,9, -999.000,9, -999.000,9, -999.000,9, -999.000,9,   2152.4,2,   3.8338
  18HU19950419, AR13d,    22,  1, 153337,     45,4,19950426, 38.1555, -46.0228, 5221,   1705.8,   3.6617,  34.9217,2,-999.0000,9,    267.4,2,   -999.0,5,  -999.00,9,  -999.00,9,  -999.00,9, -999.000,9, -999.000,9, -999.000,9, -999.000,9, -999.000,9,   -999.0,9,   3.5269
  18HU19950419, AR13d,    22,  1, 153336,     44,2,19950426, 38.1555, -46.0228, 5221,   2001.4,   3.4935,  34.9216,2,  35.4619,3,    272.4,2,    211.6,4,     7.46,4,    14.29,4,     0.85,4, -999.000,9, -999.000,9, -999.000,9, -999.000,9, -999.000,9,   2141.0,4,   3.3335
  18HU19950419, AR13d,    22,  1, 153335,     43,2,19950426, 38.1555, -46.0228, 5221,   2110.8,   3.4593,  34.9244,2,  34.9322,2,    272.7,2,    275.4,2,    13.34,6,    18.01,6,     1.14,6, -999.000,9, -999.000,9, -999.000,9, -999.000,9, -999.000,9,   2150.6,2,   3.2893
  18HU19950419, AR13d,    22,  1, 153334,     42,2,19950426, 38.1555, -46.0228, 5221,   2316.6,   3.3805,  34.9281,2,  34.9365,2,    272.2,2,    273.6,2,    14.27,6,    17.86,6,     1.15,2, -999.000,9, -999.000,9, -999.000,9, -999.000,9, -999.000,9,   2152.2,6,   3.1918
  18HU19950419, AR13d,    22,  1, 153333,     41,2,19950426, 38.1555, -46.0228, 5221,   2497.1,   3.3025,  34.9342,2,  34.9416,2,    269.0,2,    270.7,2,    15.24,6,    17.89,6,     1.15,6, -999.000,9, -999.000,9, -999.000,9, -999.000,9, -999.000,9,   2152.9,2,   3.0973
  18HU19950419, AR13d,    22,  1, 153332,     40,2,19950426, 38.1555, -46.0228, 5221,   2811.3,   3.1009,  34.9324,2,  34.9398,2,    269.5,2,    269.3,2,    17.07,6,    18.10,6,     1.20,6, -999.000,9, -999.000,9, -999.000,9, -999.000,9, -999.000,9,   2154.0,2,   2.8676
  18HU19950419, AR13d,    22,  1, 153331,     39,2,19950426, 38.1555, -46.0228, 5221,   3104.0,   2.8990,  34.9249,2,  34.9315,2,    269.9,2,    270.2,2,    18.81,6,    17.86,6,     1.15,2, -999.000,9, -999.000,9, -999.000,9, -999.000,9, -999.000,9,   2155.4,2,   2.6395
  18HU19950419, AR13d,    22,  1, 153330,     38,2,19950426, 38.1555, -46.0228, 5221,   3407.7,   2.6525,  34.9135,2,  34.9200,2,    270.9,2,    269.5,2,    21.17,6,    18.02,6,     1.16,6, -999.000,9, -999.000,9, -999.000,9, -999.000,9, -999.000,9,   2169.2,3,   2.3662
  18HU19950419, AR13d,    22,  1, 153329,     37,2,19950426, 38.1555, -46.0228, 5221,   3789.2,   2.4337,  34.9005,2,  34.9064,2,    269.4,2,    267.9,6,    26.15,6,    19.00,6,     1.21,6, -999.000,9, -999.000,9, -999.000,9, -999.000,9, -999.000,9,   2163.3,2,   2.1111
  18HU19950419, AR13d,    22,  1, 153328,     36,2,19950426, 38.1555, -46.0228, 5221,   4141.5,   2.3229,  34.8903,2,  34.8976,2,    270.0,2,    269.7,2,    27.86,6,    19.14,6,     1.22,6, -999.000,9, -999.000,9, -999.000,9, -999.000,9, -999.000,9,   2164.2,2,   1.9633
  18HU19950419, AR13d,    22,  1, 153327,     35,2,19950426, 38.1555, -46.0228, 5221,   4325.7,   2.3028,  34.8877,2,  34.8942,2,    270.1,2,    269.2,2,    28.10,6,    18.89,6,     1.21,6, -999.000,9, -999.000,9, -999.000,9, -999.000,9, -999.000,9,   2165.9,2,   1.9223
  18HU19950419, AR13d,    22,  1, 153326,     34,2,19950426, 38.1555, -46.0228, 5221,   4696.8,   2.2812,  34.8815,2,  34.8901,2,    267.5,2,    266.5,2,    32.35,6,    19.28,6,     1.27,6, -999.000,9, -999.000,9, -999.000,9, -999.000,9, -999.000,9,   2169.1,2,   1.8567
  18HU19950419, AR13d,    22,  1, 153325,     33,2,19950426, 38.1555, -46.0228, 5221,   4992.5,   2.2836,  34.8777,2,  34.8844,2,    265.1,2,    265.0,2,    34.19,6,    19.54,6,     1.29,6, -999.000,9, -999.000,9, -999.000,9, -999.000,9, -999.000,9,   2172.6,2,   1.8224
  18HU19950419, AR13d,    22,  1, 153324,     31,2,19950426, 38.1555, -46.0228, 5221,   5218.2,   2.2910,  34.8749,2,  34.8817,2,    264.9,2,    262.6,2,    36.37,6,    20.15,6,     1.31,2, -999.000,9, -999.000,9, -999.000,9, -999.000,9, -999.000,9,   2175.4,2,   1.8008
  18HU19950419, AR13d,    22,  1, 153323,     32,2,19950426, 38.1555, -46.0228, 5221,   5332.4,   2.2554,  34.8674,2,  34.8751,0,    259.9,2,    198.3,4,    41.61,6,    20.81,6,     1.42,6, -999.000,9, -999.000,9, -999.000,9, -999.000,9, -999.000,9,   2181.3,2,   1.7518
  18HU19950419, AR13d,    23,  2, 153368,     53,2,19950427, 38.2072, -45.3158, 5182,     11.5,  16.3448,  35.4003,2,  35.4099,2,    250.9,2,    251.9,2,     0.52,6,     0.00,6,     0.12,6,    2.205,2,    1.434,2,    0.215,2,    3.680,2,    7.225,2,   2041.4,2,  16.3430
  18HU19950419, AR13d,    23,  2, 153367,     52,2,19950427, 38.2072, -45.3158, 5182,    100.3,  14.7020,  35.7369,2,  35.7460,2,    213.3,2,    209.9,2,     3.11,6,     7.49,6,     0.46,6,    2.012,2,    0.915,2,    0.115,2,    5.383,2,    5.900,2,   2114.4,2,  14.6870
  18HU19950419, AR13d,    23,  2, 153366,     51,2,19950427, 38.2072, -45.3158, 5182,    291.4,   7.8678,  34.9699,2,  34.9715,2,    181.1,2,    174.9,2,    12.29,3,    21.30,6,     1.42,6,    1.370,3,    0.638,2,    0.128,2,    3.389,2,    5.688,2,   2166.6,2,   7.8384
  18HU19950419, AR13d,    23,  2, 153365,     50,2,19950427, 38.2072, -45.3158, 5182,    506.4,   6.2524,  35.0537,2,  35.0624,2,    205.8,2,    206.3,2,    12.52,6,    19.97,6,     1.28,6,    1.221,2,    0.799,2,    0.059,2,    2.572,2,    4.177,2,   2172.2,2,   6.2067
  18HU19950419, AR13d,    23,  2, 153364,     49,2,19950427, 38.2072, -45.3158, 5182,    707.7,   5.2413,  35.0410,2,  35.0490,2,    229.0,2,    233.0,2,    12.13,6,    19.34,6,     1.22,6,    1.275,2,    0.686,2,    0.033,2,    4.575,2,    4.604,2,   2165.7,2,   5.1819
  18HU19950419, AR13d,    23,  2, 153363,     48,2,19950427, 38.2072, -45.3158, 5182,    907.9,   4.6776,  35.0132,2,  35.0219,2,    245.2,2,    248.4,2,    11.70,6,    18.82,6,     1.18,6,    1.309,2,    0.692,2,    0.091,2,    5.230,2,    4.828,2,   2162.2,2,   4.6040
  18HU19950419, AR13d,    23,  2, 153362,     47,2,19950427, 38.2072, -45.3158, 5182,   1107.9,   4.2103,  34.9706,2,  34.9798,2,    254.8,2,    259.0,2,    11.93,6,    18.43,6,     1.19,6,    1.287,2,    0.624,2,    0.065,2,    3.119,2,    4.563,2,   2159.9,2,   4.1229
  18HU19950419, AR13d,    23,  2, 153361,     46,2,19950427, 38.2072, -45.3158, 5182,   1307.1,   3.9299,  34.9496,2,  34.9587,2,    261.2,2,    265.5,6,    11.84,6,    17.82,6,     1.18,6,    1.203,2,    0.524,2,    0.085,2,    5.584,2,    4.036,2,   2156.7,2,   3.8277
  18HU19950419, AR13d,    23,  2, 153360,     45,2,19950427, 38.2072, -45.3158, 5182,   1499.3,   3.7744,  34.9396,2,  34.9489,2,    266.5,2,    268.8,2,    12.01,6,    17.62,6,     1.15,6,    1.236,2,    0.658,2,    0.043,2,    4.942,2,    4.508,2,   2156.5,2,   3.6568
  18HU19950419, AR13d,    23,  2, 153359,     44,2,19950427, 38.2072, -45.3158, 5182,   1697.7,   3.6351,  34.9333,2,  34.9418,2,    270.7,2,    271.3,2,    13.06,6,    18.00,6,     1.18,6,    1.237,6,    0.467,6,    0.095,6,    4.825,2,    4.386,6,   2155.1,2,   3.5013
  18HU19950419, AR13d,    23,  2, 153358,     43,2,19950427, 38.2072, -45.3158, 5182,   1879.1,   3.5368,  34.9326,2,  34.9411,2,    269.4,2,    271.3,2,    13.00,6,    17.90,6,     1.20,6,    1.029,2,    0.633,2,    0.052,2,    7.250,2,    3.626,2,   2156.6,2,   3.3876
  18HU19950419, AR13d,    23,  2, 153357,     42,2,19950427, 38.2072, -45.3158, 5182,   2051.9,   3.5039,  34.9440,2,  34.9527,2,    268.0,2,    268.3,2,    14.40,6,    17.80,6,     1.15,6,    0.709,2,    0.378,2,    0.065,2,    4.504,2,    2.260,2,   2158.1,2,   3.3388
  18HU19950419, AR13d,    23,  2, 153356,     41,2,19950427, 38.2072, -45.3158, 5182,   2261.6,   3.3821,  34.9442,2,  34.9535,2,    266.8,2,    267.5,2,    15.36,6,    17.95,6,     1.15,6,    0.782,2,    0.000,3, -999.000,5,    5.418,2,    2.927,2,   2158.1,2,   3.1987
  18HU19950419, AR13d,    23,  2, 153355,     40,2,19950427, 38.2072, -45.3158, 5182,   2538.3,   3.2276,  34.9428,2,  34.9507,2,    265.4,2,    266.3,2,    16.76,6,    18.33,6,     1.16,6,    0.429,2,    0.378,2,    0.033,2,    5.582,2,    1.425,2,   2157.1,2,   3.0196
  18HU19950419, AR13d,    23,  2, 153354,     39,2,19950427, 38.2072, -45.3158, 5182,   2829.7,   2.9468,  34.9257,2,  34.9344,0,    269.9,2,    270.0,2,    17.10,6,    17.67,6,     1.14,6,    0.605,2,    0.209,2,    0.038,2,    1.900,2,    2.147,2,   2156.9,2,   2.7148
  18HU19950419, AR13d,    23,  2, 153353,     38,2,19950427, 38.2072, -45.3158, 5182,   3134.1,   2.7388,  34.9165,2,  34.9250,2,    273.9,2,    271.9,2,    18.63,6,    17.47,6,     1.15,6,    0.797,2,    0.543,2, -999.000,5,    6.597,2,    3.222,2,   2158.8,2,   2.4797
  18HU19950419, AR13d,    23,  2, 153352,     37,2,19950427, 38.2072, -45.3158, 5182,   3532.7,   2.4491,  34.9027,2,  34.9112,2,    271.9,2,    270.3,2,    23.32,6,    17.92,6,     1.19,6,    0.492,2,    0.414,2,    0.021,2,    1.476,2,    1.938,2,   2163.1,2,   2.1543
  18HU19950419, AR13d,    23,  2, 153351,     36,2,19950427, 38.2072, -45.3158, 5182,   3713.5,   2.3607,  34.8967,2,  34.9049,2,    271.2,2,    271.8,2,    25.05,6,    18.25,6,     1.19,6,    0.444,2,    0.298,2,    0.010,2,    2.451,2,    1.709,2,   2164.6,6,   2.0484
  18HU19950419, AR13d,    23,  2, 153350,     35,2,19950427, 38.2072, -45.3158, 5182,   3975.3,   2.2852,  34.8897,2,  34.8975,2,    270.3,2,    269.4,2,    26.30,6,    18.66,6,     1.25,6,    0.517,2,    0.144,2,    0.031,2,    5.010,2,    1.660,2,   2166.8,2,   1.9457
  18HU19950419, AR13d,    23,  2, 153349,     34,2,19950427, 38.2072, -45.3158, 5182,   4245.8,   2.2627,  34.8853,2,  34.8935,2,    268.9,2,    268.1,2,    29.68,6,    18.64,6,     1.23,6,    0.456,2,    0.398,2,    0.037,2,    1.536,2,    1.874,2,   2169.6,2,   1.8927
  18HU19950419, AR13d,    23,  2, 153348,     33,2,19950427, 38.2072, -45.3158, 5182,   4643.6,   2.2543,  34.8795,2,  34.8878,2,    266.8,2,    264.8,2,    33.40,6,    19.41,6,     1.27,6,    0.358,2,    0.469,2,    0.061,2,    1.251,2,    1.887,2,   2174.6,2,   1.8372
  18HU19950419, AR13d,    23,  2, 153347,     31,2,19950427, 38.2072, -45.3158, 5182,   4910.6,   2.2389,  34.8733,2,  34.8811,2,    263.0,2,    261.0,2,    36.91,6,    20.35,6,     1.31,6,    0.279,2,    0.154,2,    0.022,2,    3.302,2,    1.650,2,   2180.2,2,   1.7894
  18HU19950419, AR13d,    23,  2, 153346,     32,2,19950427, 38.2072, -45.3158, 5182,   5052.7,   2.2362,  34.8703,2,  34.8788,2,    258.7,2,    266.2,2,    37.59,6,    20.33,6,     1.37,6,    0.245,2,    0.285,2,    0.059,2,    1.226,2,    1.261,2,   2177.9,2,   1.7690