BOTTLE,20220817CCHSIOAMB
EXPOCODE,SECT_ID,STNNBR,CASTNO,SAMPNO,BTLNBR,BTLNBR_FLAG_W,DATE,LATITUDE,LONGITUDE,DEPTH,CTDPRS,CTDTMP,CTDSAL,CTDSAL_FLAG_W,SALNTY,SALNTY_FLAG_W,CTDOXY,CTDOXY_FLAG_W,OXYGEN,OXYGEN_FLAG_W,SILCAT,SILCAT_FLAG_W,NITRAT,NITRAT_FLAG_W,PHSPHT,PHSPHT_FLAG_W,CFC-11,CFC-11_FLAG_W,CFC-12,CFC-12_FLAG_W,CFC113,CFC113_FLAG_W,CCL4,CCL4_FLAG_W,MCHFRM,MCHFRM_FLAG_W,TCARBN,TCARBN_FLAG_W,THETA
,,,,,,,,,,METERS,DBAR,ITS-90,PSS-78,,PSS-78,,UMOL/KG,,UMOL/KG,,UMOL/KG,,UMOL/KG,,UMOL/KG,,PMOL/KG,,PMOL/KG,,PMOL/KG,,PMOL/KG,,PMOL/KG,,UMOL/KG,,DEG C
  18HU19950419, AR13d,    12,  1, 153115,     53,2,19950423, 39.9523, -50.2107, 5361,    102.4,  18.4795,  36.5676,2,  36.5791,2,    175.0,2,    199.8,2,     1.50,6,     3.48,6,     0.18,6,    2.065,2,    2.101,3,    0.098,2,    0.873,2,    9.027,2,   2087.9,2,  18.4614
  18HU19950419, AR13d,    12,  1, 153114,     52,2,19950423, 39.9523, -50.2107, 5361,    244.6,  17.0184,  36.2765,2,  36.2770,2,    209.2,2,    198.1,2,     2.45,6,     7.17,6,     0.36,6,    1.729,2,    0.966,2,    0.108,2,    6.282,2,    7.617,2,   2093.7,2,  16.9776
  18HU19950419, AR13d,    12,  1, 153113,     51,2,19950423, 39.9523, -50.2107, 5361,    431.7,  13.2815,  35.6157,2,  35.6337,2,    197.8,2,    197.2,2,     5.45,6,    12.19,6,     0.78,6,    1.760,2,    0.758,2,    0.117,2,    5.816,2,   12.413,2,   2118.5,2,  13.2204
  18HU19950419, AR13d,    12,  1, 153112,     50,2,19950423, 39.9523, -50.2107, 5361,    605.4,   9.2743,  35.2037,2,  35.2139,2,    139.6,2,    145.7,2,    14.74,6,    24.85,6,     1.52,6,    0.558,2,    0.434,2,    0.096,2,    3.760,2,    3.988,2,   -999.0,5,   9.2056
  18HU19950419, AR13d,    12,  1, 153111,     49,2,19950423, 39.9523, -50.2107, 5361,    808.7,   6.6181,  35.0947,2,  35.1040,2,    197.0,2,    196.6,2,    13.54,6,    21.58,6,     1.41,6,    0.860,2,    0.597,2,    0.076,2,    9.875,2,    3.795,2,   2170.3,2,   6.5412
  18HU19950419, AR13d,    12,  1, 153110,     48,2,19950423, 39.9523, -50.2107, 5361,   1022.0,   5.1684,  35.0461,2,  35.0568,2,    229.9,2,    234.4,2,    12.58,6,    19.44,6,     1.29,6,    1.045,2,    0.696,2,    0.098,2,    4.700,2,    3.481,2,   2158.5,2,   5.0809
  18HU19950419, AR13d,    12,  1, 153109,     47,2,19950423, 39.9523, -50.2107, 5361,   1213.6,   4.4691,  34.9882,2,  34.9974,2,    246.4,2,    251.8,2,    12.30,6,    18.68,6,     1.24,6,    1.212,2,    0.822,2,    0.086,2,    4.978,2,    4.628,2,   2156.2,2,   4.3700
  18HU19950419, AR13d,    12,  1, 153108,     46,2,19950423, 39.9523, -50.2107, 5361,   1426.7,   4.1230,  34.9638,2,  34.9740,2,    257.5,2,    261.4,2,    12.48,6,    18.89,6,     1.18,6,    1.074,2,    0.585,2,    0.098,2, -999.000,5,    4.204,2,   2152.5,2,   4.0081
  18HU19950419, AR13d,    12,  1, 153107,     45,2,19950423, 39.9523, -50.2107, 5361,   1633.9,   3.8522,  34.9408,2,  34.9519,2,    263.8,2,    263.4,2,    12.22,6,    19.33,6,     1.21,6,    1.159,2,    0.411,2,    0.082,2,    2.281,2,    4.628,2,   2153.3,2,   3.7215
  18HU19950419, AR13d,    12,  1, 153106,     44,2,19950423, 39.9523, -50.2107, 5361,   1840.6,   3.7252,  34.9384,2,  34.9488,2,    269.3,2,    268.1,2,    12.89,6,    19.35,6,     1.18,6,    1.224,2,    0.842,2,    0.102,2,    4.043,2,    4.422,2,   2149.1,2,   3.5769
  18HU19950419, AR13d,    12,  1, 153105,     43,2,19950423, 39.9523, -50.2107, 5361,   2189.1,   3.5548,  34.9450,2,  34.9551,2,    265.8,2,    264.4,2,    14.64,6,    18.56,6,     1.19,6,    0.660,2,    0.308,2,    0.081,2,    5.117,2,    2.462,2,   2144.2,2,   3.3757
  18HU19950419, AR13d,    12,  1, 153104,     42,2,19950423, 39.9523, -50.2107, 5361,   2441.9,   3.4160,  34.9501,2,  34.9599,2,    264.9,2,    265.4,2,    16.19,6,    18.28,6,     1.24,6,    0.441,2,    0.000,4,    0.068,2,    1.729,2,    1.772,2,   2154.4,2,   3.2142
  18HU19950419, AR13d,    12,  1, 153103,     41,2,19950423, 39.9523, -50.2107, 5361,   2689.4,   3.2207,  34.9443,2,  34.9538,2,    265.3,2,    265.4,2,    17.64,6,    18.39,6,     1.27,6,    0.365,2,    0.744,3,    0.061,2,    1.927,2,    2.057,2,   2146.7,2,   2.9975
  18HU19950419, AR13d,    12,  1, 153102,     40,2,19950423, 39.9523, -50.2107, 5361,   2933.0,   3.0363,  34.9355,2,  34.9459,2,    265.6,2,    266.2,2,    19.69,6,    18.98,6,     1.23,6,    0.344,2,    0.370,2,    0.067,2,    1.941,2,    1.929,2,   2154.6,2,   2.7917
  18HU19950419, AR13d,    12,  1, 153101,     39,2,19950423, 39.9523, -50.2107, 5361,   3208.1,   2.8090,  34.9233,2,-999.0000,9,    267.0,2,    267.9,2,    21.53,6,    18.59,6,     1.24,6,    0.336,2,    0.114,2,    0.050,2,    5.892,2,    1.417,2,   2152.8,2,   2.5405
  18HU19950419, AR13d,    12,  1, 153100,     38,2,19950423, 39.9523, -50.2107, 5361,   3509.4,   2.5839,  34.9106,2,  34.9198,0,    268.0,2,    266.3,2,    24.64,6,    19.03,6,     1.20,6,    0.172,6,    0.295,6,    0.059,6,    3.702,6,    0.840,6,   2156.3,2,   2.2883
  18HU19950419, AR13d,    12,  1, 153099,     37,2,19950423, 39.9523, -50.2107, 5361,   3797.7,   2.4244,  34.8992,2,  34.9086,2,    267.7,2,    267.7,2,    27.35,6,    18.89,6,     1.29,6,    0.313,2,    0.191,2,    0.067,2,    1.984,2,    1.326,2,   2161.9,2,   2.1011
  18HU19950419, AR13d,    12,  1, 153098,     36,2,19950423, 39.9523, -50.2107, 5361,   4090.7,   2.3340,  34.8906,2,  34.8995,2,    267.0,2,    266.9,2,    29.30,6,    19.17,6,     1.31,6,    0.279,2,    0.109,2,    0.055,2,    5.040,2,    1.719,2,   2162.3,2,   1.9799
  18HU19950419, AR13d,    12,  1, 153097,     35,2,19950423, 39.9523, -50.2107, 5361,   4347.7,   2.2928,  34.8848,2,  34.8956,2,    265.5,2,    265.7,2,    32.24,6,    19.86,6,     1.33,6,    0.288,2,    0.277,2,    0.056,2,    7.576,2,    1.773,2,   2168.2,2,   1.9099
  18HU19950419, AR13d,    12,  1, 153096,     33,2,19950423, 39.9523, -50.2107, 5361,   4712.8,   2.2698,  34.8785,2,  34.8943,2,    264.2,2,    263.4,2,    35.35,6,    20.27,6,     1.33,6,    0.279,2,    0.428,2,    0.078,2,    2.047,2,    2.870,2,   2166.9,2,   1.8437
  18HU19950419, AR13d,    12,  1, 153095,     34,2,19950423, 39.9523, -50.2107, 5361,   4968.9,   2.2643,  34.8742,2,  34.8839,2,    262.3,2,    261.5,2,    37.09,6,    20.21,6,     1.35,6,    0.249,2,    0.225,2,    0.072,2,    3.158,2,    3.953,2,   2176.4,6,   1.8067
  18HU19950419, AR13d,    12,  1, 153094,     32,2,19950423, 39.9523, -50.2107, 5361,   5216.7,   2.2569,  34.8691,2,  34.8796,0,    259.1,2,    260.0,2,    40.02,6,    20.80,6,     1.40,6,    0.206,2,    0.345,2,    0.088,2,    3.071,2,   11.635,2,   2178.9,2,   1.7682
  18HU19950419, AR13d,    12,  1, 153093,     31,2,19950423, 39.9523, -50.2107, 5361,   5451.6,   2.2318,  34.8617,2,  34.8717,2,    256.0,2,    256.6,6,    44.89,6,    21.78,6,     1.49,6,    0.137,2,    0.274,2,    0.077,2, -999.000,5,   10.675,2,   2184.7,2,   1.7134
  18HU19950419, AR13d,    13,  1, 153138,     53,2,19950424, 39.6480, -50.2710, 5352,      7.0,  18.5119,  36.5490,2,  36.5605,2,    133.5,2,    227.1,2,     0.73,6,     0.70,6,     0.08,6,    2.024,2,    1.038,2,    0.169,2,    4.764,2,    6.479,2,   2068.5,2,  18.5107
  18HU19950419, AR13d,    13,  1, 153137,     52,2,19950424, 39.6480, -50.2710, 5352,    150.7,  18.4840,  36.5563,2,  36.5676,2,    219.4,2,    219.1,2,     1.23,6,     1.83,6,     0.13,6,    2.022,2,    0.954,2,    0.120,2,   10.066,3,    7.098,2,   2071.1,2,  18.4574
  18HU19950419, AR13d,    13,  1, 153136,     51,2,19950424, 39.6480, -50.2710, 5352,    281.5,  18.3837,  36.5486,2,  36.5585,2,    215.3,2,    207.5,2,     1.41,6,     2.99,6,     0.18,6,    1.962,2,    1.041,2,    0.091,2,    7.814,2,    6.507,2,   2081.7,2,  18.3341
  18HU19950419, AR13d,    13,  1, 153135,     50,2,19950424, 39.6480, -50.2710, 5352,    588.8,  14.1884,  35.8062,2,  35.8420,2,    189.6,2,    193.4,2,     4.16,6,    10.98,6,     0.74,6,    1.782,2,    0.771,2,    0.084,2,    8.550,2,    5.398,2,   2115.3,2,  14.1008
  18HU19950419, AR13d,    13,  1, 153134,     49,2,19950424, 39.6480, -50.2710, 5352,    730.2,  10.9389,  35.3888,2,  35.3968,2,    145.3,2,    147.1,2,    11.39,6,    21.63,6,     1.38,6,    0.744,2,    0.310,2,    0.035,2,    9.449,2,    1.658,2,   2168.0,2,  10.8466
  18HU19950419, AR13d,    13,  1, 153133,     48,2,19950424, 39.6480, -50.2710, 5352,   1088.6,   5.5475,  35.0494,2,  35.0587,2,    226.2,2,    222.1,2,    13.10,6,    20.44,6,     1.34,6,    0.953,2,    0.428,2,    0.048,2,    7.545,2,    2.833,2,   2174.8,2,   5.4506
  18HU19950419, AR13d,    13,  1, 153132,     47,2,19950424, 39.6480, -50.2710, 5352,   1500.3,   4.2219,  34.9696,2,  34.9790,2,    261.2,2,    258.6,2,    12.10,6,    18.59,6,     1.23,6,    1.232,2,    0.508,2,    0.054,2,    2.644,2,    6.224,2,   2164.0,2,   4.0991
  18HU19950419, AR13d,    13,  1, 153131,     46,2,19950424, 39.6480, -50.2710, 5352,   1838.6,   3.8200,  34.9426,2,  34.9509,2,    265.2,2,    267.4,2,    12.61,6,    18.22,6,     1.24,6,    1.062,2,    0.436,2,    0.041,2,    4.835,2,    4.253,2,   2164.9,2,   3.6706
  18HU19950419, AR13d,    13,  1, 153130,     45,2,19950424, 39.6480, -50.2710, 5352,   2147.3,   3.4800,  34.9136,2,  34.9225,2,    272.6,2,    275.1,2,    12.73,6,    18.06,6,     1.21,6,    1.422,2,    0.567,2,    0.084,2,    5.748,2,    5.458,2,   2161.5,2,   3.3062
  18HU19950419, AR13d,    13,  1, 153129,     44,2,19950424, 39.6480, -50.2710, 5352,   2357.8,   3.5158,  34.9448,2,  34.9556,2,    266.4,2,    268.2,6,    14.69,6,    18.45,6,     1.22,6,    0.651,2,    0.274,2,    0.035,2,   12.088,3,    2.134,2,   2163.5,2,   3.3207
  18HU19950419, AR13d,    13,  1, 153128,     43,2,19950424, 39.6480, -50.2710, 5352,   2596.1,   3.3801,  34.9469,2,  34.9570,2,    264.8,2,    267.4,2,    16.32,6,    18.48,6,     1.25,6,    0.382,2,    0.207,2,    0.038,2,    6.631,2,    1.126,2,   2161.3,2,   3.1634
  18HU19950419, AR13d,    13,  1, 153127,     42,2,19950424, 39.6480, -50.2710, 5352,   2798.0,   3.2241,  34.9442,2,  34.9541,2,    264.0,2,    267.3,2,    18.04,6,    18.34,6,     1.25,6,    0.290,2,    0.254,2,    0.038,2,    9.995,2,    0.731,2,   2168.5,2,   2.9896
  18HU19950419, AR13d,    13,  1, 153126,     41,2,19950424, 39.6480, -50.2710, 5352,   3070.9,   3.0241,  34.9356,2,  34.9454,2,    264.7,2,    266.3,2,    20.46,6,    18.63,6,     1.27,6,    0.242,2,    0.146,2,    0.045,2,    4.284,2,    1.315,2,   -999.0,5,   2.7652
  18HU19950419, AR13d,    13,  1, 153125,     40,2,19950424, 39.6480, -50.2710, 5352,   3297.8,   2.8136,  34.9228,2,  34.9326,2,    267.7,2,    268.8,2,    21.11,6,    18.56,6,     1.25,6,    0.306,2,    0.151,2,    0.021,2,    5.193,2,    0.686,2,   -999.0,5,   2.5353
  18HU19950419, AR13d,    13,  1, 153124,     39,2,19950424, 39.6480, -50.2710, 5352,   3598.9,   2.5765,  34.9087,2,  34.9189,2,    271.0,2,    270.4,2,    23.18,6,    18.61,6,     1.24,6,    0.344,2,    0.175,2,    0.029,2,    5.028,2,    1.047,2,   2156.3,6,   2.2712
  18HU19950419, AR13d,    13,  1, 153123,     38,2,19950424, 39.6480, -50.2710, 5352,   3993.7,   2.3737,  34.8948,2,  34.9043,2,    270.3,2,    270.3,2,    26.59,6,    18.69,6,     1.32,6,    0.326,2,    0.134,2,    0.035,2,    8.162,2,    1.187,2,   2159.0,2,   2.0296
  18HU19950419, AR13d,    13,  1, 153122,     37,2,19950424, 39.6480, -50.2710, 5352,   4298.0,   2.3099,  34.8878,2,  34.8953,2,    269.6,2,    269.0,2,    28.76,6,    19.05,6,     1.29,6,    0.348,2,    0.141,2,    0.030,2,    3.443,2,    1.150,2,   2162.8,2,   1.9324
  18HU19950419, AR13d,    13,  1, 153121,     36,2,19950424, 39.6480, -50.2710, 5352,   4498.7,   2.2869,  34.8841,2,  34.8975,0,    268.6,2,    266.3,2,    30.65,6,    19.48,6,     1.29,6,    0.400,6,    0.171,6,    0.051,6,    3.679,6,    1.904,6,   2159.0,2,   1.8863
  18HU19950419, AR13d,    13,  1, 153120,     35,2,19950424, 39.6480, -50.2710, 5352,   4742.9,   2.2769,  34.8801,2,  34.8896,2,    267.6,2,    266.7,2,    32.35,6,    19.49,6,     1.30,6,    0.351,2,    0.184,2,    0.047,2,    1.950,2,    1.594,2,   2164.9,2,   1.8469
  18HU19950419, AR13d,    13,  1, 153119,     33,2,19950424, 39.6480, -50.2710, 5352,   4993.2,   2.2773,  34.8760,2,  34.8845,2,    265.4,2,    265.7,2,    34.89,6,    19.83,6,     1.37,6,    0.255,2,    0.132,2,    0.031,2,    1.549,2,    2.208,2,   2178.5,2,   1.8162
  18HU19950419, AR13d,    13,  1, 153118,     34,2,19950424, 39.6480, -50.2710, 5352,   5205.0,   2.2728,  34.8718,2,  34.8815,2,    263.7,2,    254.7,2,    37.87,6,    20.07,6,     1.37,6,    0.176,2,    0.081,2,    0.038,2,    1.891,2,    3.453,2,   2183.1,2,   1.7849
  18HU19950419, AR13d,    13,  1, 153117,     32,2,19950424, 39.6480, -50.2710, 5352,   5384.3,   2.2665,  34.8678,2,  34.8766,2,    261.9,2,    260.6,2,    40.41,6,    20.83,6,     1.41,6,    0.133,2,    0.067,2,    0.070,2,    5.159,2,    2.829,2,   2178.7,2,   1.7557
  18HU19950419, AR13d,    13,  1, 153116,     31,4,19950424, 39.6480, -50.2710, 5352,   5486.5,   2.2471,  34.8631,2,-999.0000,9,    258.2,2,   -999.0,5,  -999.00,9,  -999.00,9,  -999.00,9, -999.000,5, -999.000,5, -999.000,5, -999.000,5, -999.000,5,   -999.0,9,   1.7237
  18HU19950419, AR13d,    14,  1, 153161,     53,2,19950424, 39.1673, -50.2717, 5352,     12.8,  18.3402,  36.5507,2,  36.5619,2,    220.6,2,    224.8,2,     1.12,6,     1.53,6,     0.13,6,    1.916,2,    1.039,2,    0.143,2,    4.226,2,    6.984,2,   2070.0,2,  18.3380
  18HU19950419, AR13d,    14,  1, 153160,     52,2,19950424, 39.1673, -50.2717, 5352,    102.3,  18.3292,  36.5499,2,  36.5604,2,    220.5,2,    222.3,2,     1.09,6,     1.51,6,     0.15,6,    1.956,6,    1.034,6,    0.128,6,    4.656,6,    8.895,6,   2073.7,2,  18.3113
  18HU19950419, AR13d,    14,  1, 153159,     51,2,19950424, 39.1673, -50.2717, 5352,    300.5,  18.3279,  36.5477,2,  36.5578,2,    218.3,2,    221.8,2,     1.09,6,     1.54,6,     0.15,6,    1.904,2,    1.128,2,    0.132,2,    1.948,2,    7.454,2,   2070.5,2,  18.2750
  18HU19950419, AR13d,    14,  1, 153158,     50,2,19950424, 39.1673, -50.2717, 5352,    580.2,  16.5084,  36.2363,2,  36.2539,2,    181.8,2,    178.8,2,     3.16,6,     8.56,6,     0.52,6,    1.521,2,    0.694,2,    0.039,2,   10.870,3,    3.251,2,   2121.0,2,  16.4128
  18HU19950419, AR13d,    14,  1, 153157,     49,2,19950424, 39.1673, -50.2717, 5352,    716.7,  13.6675,  35.7713,2,  35.7810,2,    159.3,2,    162.9,2,     6.56,6,    15.00,6,     0.93,6,    1.194,2,    0.868,2,    0.000,3,    1.001,2,    2.455,2,   2151.2,2,  13.5630
  18HU19950419, AR13d,    14,  1, 153156,     48,2,19950424, 39.1673, -50.2717, 5352,    898.0,   9.9894,  35.2685,2,  35.2746,2,    137.2,2,    140.7,2,    13.64,6,    23.50,6,     1.51,6,    0.566,2,    0.581,2,    0.000,3,    0.494,2,    1.776,2,   2188.6,4,   9.8812
  18HU19950419, AR13d,    14,  1, 153155,     47,2,19950424, 39.1673, -50.2717, 5352,   1206.7,   5.4909,  35.0429,2,  35.0520,2,    219.6,2,    221.5,2,    13.10,6,    19.72,6,     1.34,6,    0.917,2,    0.418,2,    0.068,2,    4.318,2,    3.562,2,   2171.6,2,   5.3831
  18HU19950419, AR13d,    14,  1, 153154,     46,2,19950424, 39.1673, -50.2717, 5352,   1491.3,   4.5393,  35.0000,2,  35.0093,2,    250.7,2,    250.3,2,    12.01,6,    18.03,6,     1.23,6,    1.118,2,    0.616,2,    0.020,2,    2.447,2,    3.380,2,   2160.6,2,   4.4137
  18HU19950419, AR13d,    14,  1, 153153,     45,2,19950424, 39.1673, -50.2717, 5352,   1802.2,   4.0042,  34.9560,2,  34.9653,2,    261.7,2,    264.1,2,    12.09,6,    17.64,6,     1.18,6,    1.102,2,    0.792,2,    0.028,2,   10.098,3,    3.975,2,   2159.3,2,   3.8557
  18HU19950419, AR13d,    14,  1, 153152,     44,2,19950424, 39.1673, -50.2717, 5352,   2091.1,   3.8051,  34.9540,2,  34.9620,2,    265.6,2,    266.8,2,    13.00,6,    17.42,6,     1.18,6,    0.847,2,    0.609,2,    0.018,2,    4.669,2,    2.819,2,   2158.1,2,   3.6316
  18HU19950419, AR13d,    14,  1, 153151,     43,2,19950424, 39.1673, -50.2717, 5352,   2399.3,   3.5732,  34.9496,2,  34.9581,2,    263.4,2,    265.9,2,    14.67,6,    17.20,6,     1.23,6,    0.563,2,    0.453,2,    0.052,2,    2.149,2,    1.627,2,   2160.3,2,   3.3729
  18HU19950419, AR13d,    14,  1, 153150,     42,2,19950424, 39.1673, -50.2717, 5352,   2696.2,   3.3573,  34.9447,2,  34.9534,2,    263.9,2,    266.5,2,    16.13,6,    17.69,6,     1.20,6,    0.655,2,    0.000,4, -999.000,5,    6.136,2,    2.471,2,   2161.0,2,   3.1307
  18HU19950419, AR13d,    14,  1, 153149,     41,2,19950424, 39.1673, -50.2717, 5352,   2998.7,   3.1408,  34.9362,2,  34.9447,0,    266.3,2,    267.1,2,    17.54,6,    17.32,6,     1.19,6,    0.477,2,    0.543,2,    0.042,2,    1.509,2,    1.822,2,   2159.0,2,   2.8871
  18HU19950419, AR13d,    14,  1, 153148,     40,2,19950424, 39.1673, -50.2717, 5352,   3297.8,   2.8959,  34.9268,2,  34.9359,2,    267.3,2,    267.7,2,    20.31,6,    17.82,6,     1.20,6,    0.342,2,    0.456,2,    0.023,2,    3.129,2,    0.885,2,   2168.3,2,   2.6157
  18HU19950419, AR13d,    14,  1, 153147,     39,2,19950424, 39.1673, -50.2717, 5352,   3592.6,   2.6546,  34.9132,2,  34.9228,2,    269.4,2,    269.5,2,    22.09,6,    17.64,6,     1.22,6,    0.373,2,    0.452,2,    0.022,2,    6.737,2,    1.324,2,   2162.7,2,   2.3480
  18HU19950419, AR13d,    14,  1, 153146,     38,2,19950424, 39.1673, -50.2717, 5352,   3905.0,   2.4446,  34.9000,2,  34.9085,2,    269.6,2,    269.4,2,    24.99,6,    17.90,6,     1.24,6,    0.389,2,    0.602,2,    0.020,2,    2.049,2,    1.766,2,   2167.0,2,   2.1086
  18HU19950419, AR13d,    14,  1, 153145,     37,2,19950424, 39.1673, -50.2717, 5352,   4193.8,   2.3413,  34.8910,2,  34.9003,2,    269.1,2,    268.4,2,    27.95,6,    18.49,6,     1.25,6,    0.386,2,    0.670,2,    0.028,2,    2.618,2,    1.348,2,   2171.6,2,   1.9751
  18HU19950419, AR13d,    14,  1, 153144,     36,3,19950424, 39.1673, -50.2717, 5352,   4497.9,   2.2967,  34.8849,2,  34.8942,2,    268.7,2,    266.8,2,    30.21,6,    18.51,6,     1.31,6,    0.403,2,    0.302,2,    0.036,2,    5.742,2,    1.897,2,   2175.5,2,   1.8958
  18HU19950419, AR13d,    14,  1, 153143,     35,2,19950424, 39.1673, -50.2717, 5352,   4723.0,   2.2856,  34.8814,2,  34.8907,2,    267.0,2,    266.9,2,    31.32,6,    18.32,6,     1.34,6,    0.432,2,    0.620,2,    0.061,2,    2.494,2,    1.600,2,   2176.9,2,   1.8578
  18HU19950419, AR13d,    14,  1, 153142,     33,2,19950424, 39.1673, -50.2717, 5352,   4917.9,   2.2777,  34.8775,2,  34.8878,2,    265.4,2,    264.3,2,    33.83,6,    19.38,6,     1.34,6,    0.368,2,    0.452,2,    0.015,2,    7.208,2,    1.656,2,   2178.9,2,   1.8260
  18HU19950419, AR13d,    14,  1, 153141,     34,2,19950424, 39.1673, -50.2717, 5352,   5210.7,   2.2639,  34.8708,2,  34.8802,2,    262.3,2,    260.4,2,    38.82,6,    20.69,6,     1.39,6,    0.261,2,    0.606,2,    0.030,2,    5.754,2,    2.059,2,   2185.0,2,   1.7756
  18HU19950419, AR13d,    14,  1, 153140,     32,2,19950424, 39.1673, -50.2717, 5352,   5386.2,   2.2510,  34.8657,2,  34.8755,2,    258.8,2,    258.6,2,    40.87,6,    20.93,6,     1.47,6,    0.178,2,    0.375,2,    0.000,2,    1.632,2,    1.487,2,   2189.3,6,   1.7405
  18HU19950419, AR13d,    14,  1, 153139,     31,2,19950424, 39.1673, -50.2717, 5352,   5479.6,   2.2330,  34.8614,2,  34.8717,2,    257.2,2,    256.7,6,    43.16,6,    20.87,6,     1.49,6,    0.127,2,    0.402,2,    0.030,2,    1.674,2,    3.194,2,   2188.4,2,   1.7109