BOTTLE,20220817CCHSIOAMB
EXPOCODE,SECT_ID,STNNBR,CASTNO,SAMPNO,BTLNBR,BTLNBR_FLAG_W,DATE,LATITUDE,LONGITUDE,DEPTH,CTDPRS,CTDTMP,CTDSAL,CTDSAL_FLAG_W,SALNTY,SALNTY_FLAG_W,CTDOXY,CTDOXY_FLAG_W,OXYGEN,OXYGEN_FLAG_W,SILCAT,SILCAT_FLAG_W,NITRAT,NITRAT_FLAG_W,PHSPHT,PHSPHT_FLAG_W,CFC-11,CFC-11_FLAG_W,CFC-12,CFC-12_FLAG_W,CFC113,CFC113_FLAG_W,CCL4,CCL4_FLAG_W,MCHFRM,MCHFRM_FLAG_W,TCARBN,TCARBN_FLAG_W,THETA
,,,,,,,,,,METERS,DBAR,ITS-90,PSS-78,,PSS-78,,UMOL/KG,,UMOL/KG,,UMOL/KG,,UMOL/KG,,UMOL/KG,,PMOL/KG,,PMOL/KG,,PMOL/KG,,PMOL/KG,,PMOL/KG,,UMOL/KG,,DEG C
  18HU19950419, AR13d,    75,  1, 154336,     53,2,19950511, 46.3362, -44.0715, 3852,     10.0,   4.9181,  34.0609,2,  34.0746,2,    180.5,2,    327.6,2,     3.10,6,     7.43,6,     0.60,6,    4.325,2,    2.428,2,    0.292,2,    9.604,2,   11.969,2,   2091.4,2,   4.9174
  18HU19950419, AR13d,    75,  1, 154335,     70,2,19950511, 46.3362, -44.0715, 3852,     50.0,   3.8238,  34.2559,2,  34.2674,2,    323.4,2,    313.3,2,     6.32,6,    10.14,6,     0.83,6,    4.314,2,    2.074,2,    0.403,2,    8.287,2,   15.084,2,   2116.7,2,   3.8205
  18HU19950419, AR13d,    75,  1, 154334,     51,2,19950511, 46.3362, -44.0715, 3852,    100.4,   3.5497,  34.3807,2,  34.3947,2,    336.4,2,    315.4,2,     6.55,6,    10.54,6,     0.86,6,    4.344,2,    2.917,2,    0.298,2,    6.960,2,   12.613,2,   2121.3,2,   3.5432
  18HU19950419, AR13d,    75,  1, 154333,     50,2,19950511, 46.3362, -44.0715, 3852,    201.1,   3.0465,  34.5678,2,  34.5802,2,    326.8,2,    306.4,2,     8.02,6,    13.64,6,     0.97,6,    4.146,2,    2.481,2,    0.301,2,    6.697,2,   12.849,2,   2139.4,2,   3.0340
  18HU19950419, AR13d,    75,  1, 154332,     49,2,19950511, 46.3362, -44.0715, 3852,    302.4,   3.0946,  34.6634,2,  34.6785,2,    311.5,2,    300.7,2,     8.73,6,    15.29,6,     1.02,6,    3.939,2,    1.900,2,    0.349,2,    7.089,2,   11.945,2,   2144.3,2,   3.0754
  18HU19950419, AR13d,    75,  1, 154331,     48,2,19950511, 46.3362, -44.0715, 3852,    403.1,   3.2623,  34.7462,2,  34.7553,2,    302.3,2,    293.3,3,     9.20,6,    16.09,6,     1.06,6,    3.713,2,    2.083,2,    0.220,2,    6.896,2,   11.690,2,   2148.2,2,   3.2358
  18HU19950419, AR13d,    75,  1, 154330,     47,2,19950511, 46.3362, -44.0715, 3852,    503.6,   3.3560,  34.7917,2,  34.8007,2,    296.6,2,    293.2,2,     9.56,6,    16.22,6,     1.09,6,    3.615,2,    2.201,2,    0.201,2,    6.083,2,   12.197,2,   2151.7,2,   3.3221
  18HU19950419, AR13d,    75,  1, 154329,     46,2,19950511, 46.3362, -44.0715, 3852,    602.1,   3.4330,  34.8432,2,  34.8536,2,    293.0,2,    292.2,2,     9.81,6,    16.92,6,     1.10,6,    3.338,2,    1.679,2,    0.240,2,    5.162,2,   10.851,2,   2153.4,2,   3.3916
  18HU19950419, AR13d,    75,  1, 154328,     45,2,19950511, 46.3362, -44.0715, 3852,    802.5,   3.3324,  34.8600,2,  34.8696,2,    292.1,2,    292.3,2,    10.05,6,    17.22,6,     1.09,6,    3.125,2,    1.863,2,    0.197,2,    6.634,2,   10.483,2,   2153.4,2,   3.2766
  18HU19950419, AR13d,    75,  1, 154327,     44,2,19950511, 46.3362, -44.0715, 3852,   1003.0,   3.1717,  34.8568,2,  34.8658,2,    293.6,2,    293.7,2,    10.04,6,    17.04,6,     1.11,6,    3.120,6,    1.713,6,    0.256,6,    6.897,6,   10.475,6,   2153.4,2,   3.1016
  18HU19950419, AR13d,    75,  1, 154326,     43,2,19950511, 46.3362, -44.0715, 3852,   1200.7,   3.0484,  34.8498,2,  34.8603,2,    294.6,2,    296.4,2,    10.21,6,    16.64,6,     1.11,6,    2.972,2,    1.661,2,    0.140,2,    6.011,2,    9.539,2,   2153.4,2,   2.9638
  18HU19950419, AR13d,    75,  1, 154325,     42,2,19950511, 46.3362, -44.0715, 3852,   1399.4,   2.9572,  34.8460,2,  34.8572,2,    296.0,2,    296.3,2,     9.98,6,    16.89,6,     1.10,6,    2.913,2,    1.648,2,    0.141,2,    4.531,2,    9.880,2,   2152.8,2,   2.8575
  18HU19950419, AR13d,    75,  1, 154324,     41,2,19950511, 46.3362, -44.0715, 3852,   1598.4,   2.9453,  34.8495,2,  34.8786,3,    296.0,2,    291.0,2,    11.28,6,    16.59,6,     1.09,6,    2.444,2,    1.272,2,    0.073,2,    5.586,2,    9.100,2,   2152.6,2,   2.8290
  18HU19950419, AR13d,    75,  1, 154323,     40,2,19950511, 46.3362, -44.0715, 3852,   1800.3,   2.9930,  34.8696,2,  34.8786,2,    291.8,2,    290.9,2,    10.92,6,    16.47,6,     1.09,6,    2.343,2,    1.299,2,    0.139,2,    4.989,2,    7.782,2,   2153.2,2,   2.8586
  18HU19950419, AR13d,    75,  1, 154322,     39,2,19950511, 46.3362, -44.0715, 3852,   2003.2,   3.0073,  34.8928,2,  34.9019,0,    285.5,2,    284.1,2,    11.65,6,    16.71,6,     1.09,6,    1.773,2,    1.077,2,    0.116,2,    3.158,2,    5.985,2,   2153.7,2,   2.8545
  18HU19950419, AR13d,    75,  1, 154321,     38,2,19950511, 46.3362, -44.0715, 3852,   2247.3,   2.9255,  34.9000,2,  34.9079,2,    283.3,2,    283.4,2,    12.03,6,    16.66,6,     1.07,6,    1.629,2,    1.105,2,    0.022,2,    4.448,2,    5.374,2,   2155.8,6,   2.7513
  18HU19950419, AR13d,    75,  1, 154320,     37,2,19950511, 46.3362, -44.0715, 3852,   2493.9,   2.7601,  34.9035,2,  34.9124,2,    282.9,2,    282.3,2,    12.72,6,    16.43,6,     1.08,6,    1.505,2,    1.098,2,    0.074,2,    4.409,2,    4.995,2,   -999.0,5,   2.5652
  18HU19950419, AR13d,    75,  1, 154319,     36,2,19950511, 46.3362, -44.0715, 3852,   2751.9,   2.6478,  34.9122,2,  34.9195,2,    277.7,2,    277.3,2,    16.29,6,    16.76,6,     1.12,6,    0.937,2,    0.786,2,    0.045,2,    2.395,2,    3.050,2,   2160.3,2,   2.4298
  18HU19950419, AR13d,    75,  1, 154318,     35,2,19950511, 46.3362, -44.0715, 3852,   2996.7,   2.4619,  34.9054,2,  34.9134,2,    278.2,2,    277.6,2,    18.01,6,    17.10,6,     1.15,6,    0.877,2,    0.630,2,    0.011,2,    2.513,2,    2.945,2,   -999.0,5,   2.2232
  18HU19950419, AR13d,    75,  1, 154317,     34,2,19950511, 46.3362, -44.0715, 3852,   3293.7,   2.2987,  34.8964,2,  34.9040,2,    280.1,2,    281.4,6,    17.53,6,    16.66,6,     1.10,6,    1.160,2,    0.896,2,    0.029,2,    4.573,2,    3.965,2,   2159.9,2,   2.0331
  18HU19950419, AR13d,    75,  1, 154316,     33,2,19950511, 46.3362, -44.0715, 3852,   3602.3,   2.1776,  34.8895,2,  34.8967,2,    283.8,2,    283.3,2,    17.48,6,    16.43,6,     1.08,6,    1.358,2,    0.877,2,    0.081,2,    3.735,2,    4.733,2,   2160.3,2,   1.8822
  18HU19950419, AR13d,    75,  1, 154315,     31,2,19950511, 46.3362, -44.0715, 3852,   3848.7,   2.1046,  34.8846,2,  34.8930,2,    286.3,2,    286.3,2,    14.97,6,    16.21,6,     1.04,6,    1.774,2,    1.086,2,    0.062,2,    4.109,2,    5.975,2,   2158.7,6,   1.7843
  18HU19950419, AR13d,    75,  1, 154314,     32,2,19950511, 46.3362, -44.0715, 3852,   3924.2,   2.1101,  34.8840,2,  34.8930,2,    287.2,2,    287.5,2,    14.32,6,    15.96,6,     1.04,6,    1.797,2,    1.206,2,    0.118,2,    3.260,2,    6.156,2,   2157.2,2,   1.7812
  18HU19950419, AR13d,    76,  1, 154351,     45,2,19950511, 46.4785, -44.2148, 2730,     12.1,   4.5144,  34.2326,2,  34.2422,2,    315.2,2,    319.9,2,     5.77,6,     9.36,6,     0.73,6,    4.562,2,    2.305,2,    0.442,2,   11.406,3,   13.835,2,   2104.6,2,   4.5135
  18HU19950419, AR13d,    76,  1, 154350,     44,2,19950511, 46.4785, -44.2148, 2730,    100.1,   3.2583,  34.4606,2,  34.4706,2,    316.8,2,    312.3,2,     7.05,6,    12.14,6,     0.92,6,    4.510,2,    2.240,2,    0.393,2,   14.704,3,   13.536,2,   2129.1,2,   3.2520
  18HU19950419, AR13d,    76,  1, 154349,     43,2,19950511, 46.4785, -44.2148, 2730,    298.9,   3.3460,  34.7771,2,  34.7853,2,    288.2,2,    293.2,2,     9.42,6,    15.92,6,     1.09,6,    3.831,2,    1.962,2,    0.279,2,    7.335,2,   12.225,2,   2150.9,2,   3.3264
  18HU19950419, AR13d,    76,  1, 154348,     42,2,19950511, 46.4785, -44.2148, 2730,    501.4,   3.9492,  34.9118,2,  34.9216,2,    268.8,2,    271.8,2,    10.82,6,    17.73,6,     1.16,6,    2.627,2,    1.293,2,    0.184,2,    4.630,2,    9.265,2,   2161.5,2,   3.9130
  18HU19950419, AR13d,    76,  1, 154347,     41,2,19950511, 46.4785, -44.2148, 2730,    696.2,   3.4429,  34.8666,2,  34.8697,2,    278.6,2,    292.1,2,    10.05,6,    16.88,6,     1.10,6,    3.145,2,    1.561,2,    0.206,2,    5.062,2,   12.557,2,   2154.2,2,   3.3944
  18HU19950419, AR13d,    76,  1, 154346,     40,2,19950511, 46.4785, -44.2148, 2730,    897.1,   3.3175,  34.8649,2,  34.8732,2,    288.1,2,    291.4,2,    10.10,6,    16.61,6,     1.13,6,    3.188,2,    1.594,2,    0.213,2,    6.525,2,   11.071,2,   2155.8,2,   3.2545
  18HU19950419, AR13d,    76,  1, 154345,     39,2,19950511, 46.4785, -44.2148, 2730,   1097.2,   3.1443,  34.8542,2,  34.8632,2,    292.3,2,    295.4,2,    10.07,6,    17.00,6,     1.12,6,    3.239,6,    1.630,6,    0.210,6,    6.984,6,   10.811,6,   2152.5,2,   3.0671
  18HU19950419, AR13d,    76,  1, 154344,     38,2,19950511, 46.4785, -44.2148, 2730,   1300.1,   3.1954,  34.8735,2,  34.8813,2,    292.1,2,    287.1,2,    10.94,6,    17.09,6,     1.12,6,    2.418,2,    1.191,2,    0.120,2,    6.838,2,    8.343,2,   2153.7,2,   3.1013
  18HU19950419, AR13d,    76,  1, 154343,     37,2,19950511, 46.4785, -44.2148, 2730,   1500.2,   3.1227,  34.8721,2,  34.8803,2,    284.0,2,    287.9,2,    11.12,6,    16.68,6,     1.14,6,    2.302,2,    0.786,2,    0.262,3,    5.415,2,    8.686,2,   2153.2,2,   3.0127
  18HU19950419, AR13d,    76,  1, 154342,     36,2,19950511, 46.4785, -44.2148, 2730,   1694.6,   2.9523,  34.8547,2,  34.8630,2,    289.5,2,    294.6,2,    10.48,6,    16.67,6,     1.10,6,    2.884,2,    1.555,2,    0.189,2,    5.905,2,    9.925,2,   2152.5,2,   2.8277
  18HU19950419, AR13d,    76,  1, 154341,     35,4,19950511, 46.4785, -44.2148, 2730,   2006.6,   3.0627,  34.9010,2,  34.5217,3,    278.7,2,    293.1,2,     7.93,4,    12.91,4,     0.94,4,    3.351,4,    1.604,4,    0.276,4,    9.549,4,   11.670,4,   2142.4,4,   2.9087
  18HU19950419, AR13d,    76,  1, 154340,     34,2,19950511, 46.4785, -44.2148, 2730,   2304.9,   2.8650,  34.9049,2,  34.9138,2,    280.0,2,    281.1,2,    12.55,6,    16.62,6,     1.09,6,    1.605,2,    0.896,2,    0.114,2,    7.682,2,    5.538,2,   2156.9,6,   2.6863
  18HU19950419, AR13d,    76,  1, 154339,     33,2,19950511, 46.4785, -44.2148, 2730,   2482.9,   2.8108,  34.9018,2,  34.9108,2,    281.4,2,    282.3,2,    12.35,6,    16.23,6,     1.08,6, -999.000,5, -999.000,5, -999.000,5, -999.000,5, -999.000,5,   2156.8,2,   2.6161
  18HU19950419, AR13d,    76,  1, 154338,     31,2,19950511, 46.4785, -44.2148, 2730,   2808.6,   2.7681,  34.9026,2,  34.9112,2,    281.4,2,    282.7,6,    12.88,6,    15.99,6,     1.10,6,    1.659,2,    0.563,2,    0.092,2,    4.971,2,    5.958,2,   2154.3,2,   2.5420
  18HU19950419, AR13d,    76,  1, 154337,     32,2,19950511, 46.4785, -44.2148, 2730,   2907.9,   2.7398,  34.9022,2,  34.9113,0,    280.2,2,    282.8,2,    12.72,6,    16.14,6,     1.08,6,    1.650,2,    0.860,2,    0.076,2,    5.279,2,    5.205,2,   2155.3,2,   2.5042
  18HU19950419, AR13d,    77,  1, 154356,     50,2,19950511, 46.6255, -44.3035,  541,    117.7,   3.0713,  34.5930,2,  34.0930,0,    314.9,2,    328.0,2,     2.44,6,     7.13,6,     0.62,6,    4.563,2,    2.403,2,    0.413,2,    9.981,2,   14.251,2,   -999.0,9,   3.0640
  18HU19950419, AR13d,    77,  1, 154355,     49,2,19950511, 46.6255, -44.3035,  541,    264.5,   3.6047,  34.8237,2,  34.6019,2,    283.7,2,    303.9,2,     8.17,6,    14.16,6,     1.00,6,    4.306,2,    2.033,2,    0.373,2,    8.766,2,   13.466,2,   -999.0,9,   3.5870
  18HU19950419, AR13d,    77,  1, 154354,     48,2,19950511, 46.6255, -44.3035,  541,    309.7,   3.5897,  34.8416,2,  34.8327,2,    285.0,2,    280.3,2,    10.19,6,    17.45,6,     1.14,6,    3.504,2,    1.654,2,    0.259,2,    6.410,2,   11.458,2,   -999.0,9,   3.5687
  18HU19950419, AR13d,    77,  1, 154353,     47,2,19950511, 46.6255, -44.3035,  541,    432.2,   3.3390,  34.8556,2,  34.8516,2,    279.3,2,    284.6,6,     9.91,6,    17.23,6,     1.14,6,    3.522,2,    1.747,2,    0.265,2,    9.708,2,   11.468,2,   -999.0,9,   3.3102
  18HU19950419, AR13d,    77,  1, 154352,     46,2,19950511, 46.6255, -44.3035,  541,    533.9,   3.3451,  34.8556,2,  34.8673,2,    278.6,2,    283.2,2,    11.35,6,    17.49,6,     1.14,6,    3.265,2,    1.611,2,    0.218,2,    6.826,2,   11.005,2,   -999.0,9,   3.3090
  18HU19950419, AR13d,    78,  1, 154361,     34,2,19950511, 46.7695, -44.4708,  222,     20.0,   4.8420,  33.9231,2,  33.9330,2,    346.3,2,    348.7,2,     0.23,6,     3.94,6,     0.32,6,    4.755,2,    2.340,2,    0.414,2,    8.431,2,   15.691,2,   -999.0,9,   4.8405
  18HU19950419, AR13d,    78,  1, 154360,     33,2,19950511, 46.7695, -44.4708,  222,     60.0,   2.8430,  34.1019,2,  34.1107,2,    326.8,2,    319.5,6,     6.83,6,    10.80,6,     0.87,6,    4.911,2,    2.426,2,    0.425,2,    9.519,2,   15.661,2,   -999.0,9,   2.8395
  18HU19950419, AR13d,    78,  1, 154359,     31,2,19950511, 46.7695, -44.4708,  222,    128.0,   2.6516,  34.4737,2,  34.4784,0,    301.6,2,    300.7,2,     9.13,6,    14.54,6,     1.04,6,    4.476,2,    2.163,2,    0.387,2,   11.347,3,   14.520,2,   -999.0,9,   2.6442
  18HU19950419, AR13d,    78,  1, 154358,     32,2,19950511, 46.7695, -44.4708,  222,    206.9,   3.3950,  34.8369,2,  34.8464,2,   -999.0,9,    230.4,3,    10.79,6,    17.42,6,     1.15,6,    3.425,2,    1.631,2,    0.221,2,   14.832,3,   11.345,2,   -999.0,9,   3.3815
  18HU19950419, AR13d,    79,  1, 154364,     37,2,19950511, 46.9140, -44.6075,  132,     19.2,   4.7338,  33.8963,2,  33.9070,2,    344.7,2,    339.4,2,     0.26,6,     4.36,6,     0.39,6,    4.742,2,    2.229,2,    0.430,2,    9.613,2,   15.200,2,   2068.6,2,   4.7324
  18HU19950419, AR13d,    79,  1, 154363,     36,2,19950511, 46.9140, -44.6075,  132,     59.4,   2.7119,  34.1497,2,  34.1550,0,    322.3,2,    315.7,2,     7.17,6,    11.56,6,     0.90,6,    4.831,2,    2.308,2,    0.425,2,    9.477,2,   15.185,2,   2123.7,2,   2.7085
  18HU19950419, AR13d,    79,  1, 154362,     35,2,19950511, 46.9140, -44.6075,  132,    118.4,   2.7708,  34.4032,2,  34.4138,2,    284.9,2,    284.8,6,    10.58,6,    15.25,6,     1.10,6,    4.321,2,    2.063,2,    0.349,2,   10.222,3,   13.910,2,   2149.9,6,   2.7638
  18HU19950419, AR13d,    80,  1, 154367,     40,2,19950511, 46.9145, -44.8607,  144,     19.2,   4.9480,  33.8737,2,  33.8877,2,    349.7,2,    340.7,2,     0.22,6,     3.73,6,     0.35,6,    4.454,2,    2.179,2,    0.350,2,    8.312,2,   12.893,2,   2066.9,2,   4.9466
  18HU19950419, AR13d,    80,  1, 154366,     39,2,19950511, 46.9145, -44.8607,  144,     69.9,   2.9309,  34.1052,2,  34.1152,2,    331.4,2,    321.3,2,     6.93,6,    10.78,6,     0.86,6,    4.611,2,    2.683,2,    0.379,2,    7.518,2,   13.129,2,   2120.9,2,   2.9268
  18HU19950419, AR13d,    80,  1, 154365,     38,2,19950511, 46.9145, -44.8607,  144,    132.9,   2.7621,  34.4293,2,  34.4455,2,    298.0,2,    290.3,2,    10.42,6,    15.12,6,     1.09,6,    4.152,2,    2.324,2,    0.331,2,    7.151,2,   12.548,2,   2151.4,2,   2.7543
  18HU19950419, AR13d,    81,  1, 154370,     43,2,19950512, 46.9135, -45.1215,  183,      9.6,   4.7788,  33.8875,2,  33.8966,2,    341.1,2,    335.1,2,     0.25,6,     4.07,6,     0.41,6,    4.442,2,    2.368,2,    0.281,2,    7.233,2,   12.308,2,   2072.2,2,   4.7781
  18HU19950419, AR13d,    81,  1, 154369,     42,2,19950512, 46.9135, -45.1215,  183,     51.1,   2.8025,  34.0761,2,  34.0781,2,    330.1,2,    325.1,2,     6.31,6,     9.60,6,     0.84,6,    4.775,2,    2.437,2,    0.402,2,   10.192,3,   13.408,2,   2117.2,2,   2.7995
  18HU19950419, AR13d,    81,  1, 154368,     41,2,19950512, 46.9135, -45.1215,  183,    166.1,   2.9851,  34.5659,2,  34.5762,2,    268.7,2,    272.4,2,    12.32,6,    17.02,6,     1.20,6,    3.754,2,    2.364,2,    0.288,2,    5.881,2,   13.027,2,   2162.8,2,   2.9749
  18HU19950419, AR13d,    82,  1, 154374,     47,2,19950512, 46.9117, -45.3768,  234,      9.1,   4.9897,  33.8771,2,  33.8870,0,   -999.0,9,    329.2,2,     0.31,6,     4.10,6,     0.42,6, -999.000,5, -999.000,5, -999.000,5, -999.000,5, -999.000,5,   2071.1,2,   4.9890
  18HU19950419, AR13d,    82,  1, 154372,     45,2,19950512, 46.9117, -45.3768,  234,    107.0,   2.5586,  34.2303,2,  34.2378,2,   -999.0,9,    315.4,2,     7.04,6,    11.65,6,     0.91,6,    4.560,2,    2.695,2,    0.395,2,    8.130,2,   13.503,2,   2124.6,2,   2.5525
  18HU19950419, AR13d,    82,  1, 154371,     44,2,19950512, 46.9117, -45.3768,  234,    213.0,   3.3092,  34.7203,2,  34.7176,2,    313.5,2,    263.6,2,    13.07,6,    18.01,6,     1.25,6,    3.334,2,    2.044,2,    0.218,2,    4.758,2,   10.979,2,   2169.7,2,   3.2955
  18HU19950419, AR13d,    82,  1, 154373,     46,2,19950512, 46.9117, -45.3768,  234,    215.9,   3.3419,  34.7203,2,  34.7272,2,    314.3,2,    264.7,3,    13.42,6,    18.28,6,     1.25,6,    3.303,2,    2.140,2,    0.204,2,    4.907,2,   11.053,2,   2171.2,2,   3.3279
  18HU19950419, AR13d,    83,  1, 154378,     51,2,19950512, 46.9162, -45.6303,  266,     19.7,   4.6994,  33.8624,2,  33.8716,2,    325.9,2,    332.5,6,     0.33,6,     4.30,6,     0.43,6,    4.450,2,    1.844,2,    0.463,2,    7.869,2,   12.429,2,   2074.6,2,   4.6980
  18HU19950419, AR13d,    83,  1, 154377,     50,2,19950512, 46.9162, -45.6303,  266,     69.4,   2.9157,  33.9969,2,  34.0058,2,    320.2,2,    324.2,2,     6.29,6,     9.82,6,     0.84,6,    4.721,2,    2.199,2,    0.381,2,    8.707,2,   13.351,2,   2115.6,2,   2.9116
  18HU19950419, AR13d,    83,  1, 154376,     49,2,19950512, 46.9162, -45.6303,  266,    145.4,   2.3519,  34.3153,2,  34.3210,2,    302.3,2,    309.7,2,     8.36,6,    13.28,6,     0.98,6,    4.415,2,    1.788,2,    0.391,2,    8.352,2,   12.801,2,   2135.0,2,   2.3438
  18HU19950419, AR13d,    83,  1, 154375,     48,2,19950512, 46.9162, -45.6303,  266,    250.0,   3.4279,  34.7549,2,  34.7645,2,    252.0,2,    254.7,2,    14.55,6,    18.89,6,     1.30,6,    3.176,2,    1.492,2,    0.298,2,   15.672,4,   10.018,2,   2175.6,2,   3.4114
  18HU19950419, AR13d,    84,  1, 154382,     34,2,19950512, 46.7600, -45.7840,  280,     25.0,   4.4533,  33.8547,2,  33.8635,2,    328.1,2,    333.2,2,     0.29,6,     4.66,6,     0.44,6,    4.496,2,    1.901,2,    0.454,2,    7.948,2,   12.657,2,   -999.0,5,   4.4515
  18HU19950419, AR13d,    84,  1, 154381,     33,2,19950512, 46.7600, -45.7840,  280,    138.9,   2.7311,  34.3285,2,  34.3364,2,    303.9,2,    298.5,2,     8.86,6,    13.78,6,     1.01,6, -999.000,5, -999.000,5, -999.000,5, -999.000,5, -999.000,5,   2141.1,2,   2.7230
  18HU19950419, AR13d,    84,  1, 154380,     31,2,19950512, 46.7600, -45.7840,  280,    187.6,   3.2901,  34.5978,2,  34.6054,2,    275.5,2,    268.6,2,    11.05,6,    16.96,6,     1.15,6,    3.630,6,    1.528,6,    0.243,6,    6.103,6,   11.747,6,   2159.3,6,   3.2781
  18HU19950419, AR13d,    84,  1, 154379,     32,2,19950512, 46.7600, -45.7840,  280,    266.5,   3.3279,  34.8119,2,  34.8222,2,    270.1,2,    277.5,6,    11.85,6,    17.56,6,     1.18,6,    3.188,2,    1.387,2,    0.202,2,    4.949,2,   10.336,2,   2162.0,2,   3.3105