BOTTLE,20220817CCHSIOAMB
EXPOCODE,SECT_ID,STNNBR,CASTNO,SAMPNO,BTLNBR,BTLNBR_FLAG_W,DATE,LATITUDE,LONGITUDE,DEPTH,CTDPRS,CTDTMP,CTDSAL,CTDSAL_FLAG_W,SALNTY,SALNTY_FLAG_W,CTDOXY,CTDOXY_FLAG_W,OXYGEN,OXYGEN_FLAG_W,SILCAT,SILCAT_FLAG_W,NITRAT,NITRAT_FLAG_W,PHSPHT,PHSPHT_FLAG_W,CFC-11,CFC-11_FLAG_W,CFC-12,CFC-12_FLAG_W,CFC113,CFC113_FLAG_W,CCL4,CCL4_FLAG_W,MCHFRM,MCHFRM_FLAG_W,TCARBN,TCARBN_FLAG_W,THETA
,,,,,,,,,,METERS,DBAR,ITS-90,PSS-78,,PSS-78,,UMOL/KG,,UMOL/KG,,UMOL/KG,,UMOL/KG,,UMOL/KG,,PMOL/KG,,PMOL/KG,,PMOL/KG,,PMOL/KG,,PMOL/KG,,UMOL/KG,,DEG C
  18HU19950419, AR13d,    60,  1, 153991,     53,2,19950507, 42.9462, -43.8982, 4789,     14.4,  16.2931,  36.2606,2,  36.2718,2,    233.6,2,    233.5,2,     1.64,6,     3.66,6,     0.26,6,    2.080,2,    1.069,2,    0.097,2,   10.416,3,    4.283,2,   -999.0,9,  16.2908
  18HU19950419, AR13d,    60,  1, 153990,     70,2,19950507, 42.9462, -43.8982, 4789,    105.2,  16.2425,  36.2449,2,  36.2572,2,    232.2,2,    234.3,2,     1.64,6,     3.57,6,     0.27,6,    2.066,2,    1.291,2,    0.127,2,    8.625,2,   10.903,2,   -999.0,9,  16.2256
  18HU19950419, AR13d,    60,  1, 153989,     51,2,19950507, 42.9462, -43.8982, 4789,    192.5,  16.2066,  36.2335,2,  36.2439,2,    234.2,2,    236.3,2,     1.63,6,     3.45,6,     0.27,6,    2.082,2,    1.134,2,    0.226,3,   15.918,4,    5.506,2,   -999.0,9,  16.1756
  18HU19950419, AR13d,    60,  1, 153988,     50,2,19950507, 42.9462, -43.8982, 4789,    395.0,  15.3436,  36.0539,2,  36.0650,2,    225.6,2,    223.0,2,     2.66,6,     6.26,6,     0.41,6,    2.049,2,    1.054,2,    0.128,2,   11.892,3,    4.223,2,   -999.0,9,  15.2820
  18HU19950419, AR13d,    60,  1, 153987,     49,2,19950507, 42.9462, -43.8982, 4789,    546.2,  13.4976,  35.7474,2,  35.7581,2,    202.4,2,    201.2,2,     4.85,6,    10.95,6,     0.71,6,    1.810,2,    1.263,2,    0.053,2,    4.272,2,    3.822,2,   -999.0,9,  13.4191
  18HU19950419, AR13d,    60,  1, 153986,     48,2,19950507, 42.9462, -43.8982, 4789,    647.5,  11.9348,  35.5331,2,  35.5475,2,    187.0,2,    183.7,2,     7.35,6,    15.28,6,     0.99,6,    1.507,2,    0.876,2,    0.099,2,    6.472,2,    3.159,2,   -999.0,9,  11.8486
  18HU19950419, AR13d,    60,  1, 153985,     47,2,19950507, 42.9462, -43.8982, 4789,    798.7,   9.2214,  35.1747,2,  35.1854,2,    180.8,2,    176.2,2,    11.38,6,    19.44,6,     1.28,6,    1.248,2, -999.000,5, -999.000,5,    3.961,2,    5.390,2,   -999.0,9,   9.1301
  18HU19950419, AR13d,    60,  1, 153984,     46,2,19950507, 42.9462, -43.8982, 4789,   1001.5,   6.7042,  35.1089,2,  35.1363,2,    203.1,2,    192.1,2,    12.55,6,    20.24,6,     1.33,6,    1.071,2,    0.739,2,    0.055,2,    3.386,2,    2.841,2,   -999.0,9,   6.6069
  18HU19950419, AR13d,    60,  1, 153983,     45,2,19950507, 42.9462, -43.8982, 4789,   1202.1,   5.0827,  35.0033,2,  35.0119,2,    238.8,2,    239.0,2,    12.12,6,    17.95,6,     1.23,6,    1.561,2,    0.840,2,    0.076,2,    4.934,2,    5.483,2,   -999.0,9,   4.9791
  18HU19950419, AR13d,    60,  1, 153982,     44,2,19950507, 42.9462, -43.8982, 4789,   1343.5,   4.7830,  35.0227,2,  35.0335,2,    252.6,2,    250.0,2,    11.88,6,    17.80,6,     1.21,6,    1.377,2, -999.000,5, -999.000,5,    4.692,2,    4.917,2,   -999.0,9,   4.6688
  18HU19950419, AR13d,    60,  1, 153981,     43,2,19950507, 42.9462, -43.8982, 4789,   1496.1,   4.3014,  34.9662,2,  34.9762,2,    262.8,2,    261.2,2,    11.57,6,    17.21,6,     1.21,6,    1.554,2,    1.080,2,    0.068,2,    6.726,2,    4.421,2,   -999.0,9,   4.1781
  18HU19950419, AR13d,    60,  1, 153980,     42,2,19950507, 42.9462, -43.8982, 4789,   1798.6,   3.7399,  34.9147,2,  34.9246,2,    274.1,2,    275.7,2,    11.71,6,    17.24,6,     1.16,6,    1.732,2,    0.863,2,    0.115,2,    7.239,2,    5.247,2,   -999.0,9,   3.5955
  18HU19950419, AR13d,    60,  1, 153979,     41,2,19950507, 42.9462, -43.8982, 4789,   2099.6,   3.5528,  34.9120,2,  34.9209,2,    280.2,2,    278.4,2,    12.17,6,    16.85,6,     1.15,6,    1.666,3,    1.525,3,    0.039,3,    3.103,3,    7.511,3,   -999.0,9,   3.3825
  18HU19950419, AR13d,    60,  1, 153978,     40,4,19950507, 42.9462, -43.8982, 4789,   2392.3,   3.4328,  34.9156,2,  35.6903,3,    275.6,2,    255.5,4,     8.00,4,    11.81,4,     0.74,4,    1.509,3,    0.709,3,    0.081,3,    4.335,3,    3.769,3,   -999.0,9,   3.2358
  18HU19950419, AR13d,    60,  1, 153977,     39,2,19950507, 42.9462, -43.8982, 4789,   2699.4,   3.3488,  34.9292,2,  34.9384,2,    271.4,2,    275.3,2,    14.57,6,    16.98,6,     1.13,6,    0.850,2,    0.685,2,    0.045,2,    2.085,2,    2.077,2,   -999.0,9,   3.1221
  18HU19950419, AR13d,    60,  1, 153976,     38,2,19950507, 42.9462, -43.8982, 4789,   2995.8,   3.1436,  34.9314,2,  34.9401,2,    271.1,2,    272.9,2,    16.74,6,    17.16,6,     1.17,6,    0.533,2,    0.433,2,    0.054,2,    4.180,2,    1.034,2,   -999.0,9,   2.8901
  18HU19950419, AR13d,    60,  1, 153975,     37,2,19950507, 42.9462, -43.8982, 4789,   3291.2,   2.9055,  34.9232,2,  34.9313,2,    270.7,2,    273.0,2,    18.26,6,    17.10,6,     1.16,6,    0.553,6,    0.286,6,    0.032,6,    3.685,6,    0.899,6,   -999.0,9,   2.6258
  18HU19950419, AR13d,    60,  1, 153974,     36,2,19950507, 42.9462, -43.8982, 4789,   3593.0,   2.6374,  34.9093,2,  34.9177,2,    274.9,2,    277.4,2,    18.91,6,    16.74,6,     1.15,6,    0.759,2,    0.584,2,    0.058,2,    2.761,2,    2.125,2,   -999.0,9,   2.3313
  18HU19950419, AR13d,    60,  1, 153973,     35,2,19950507, 42.9462, -43.8982, 4789,   3899.1,   2.4465,  34.8999,2,  34.9078,2,    273.8,2,    276.8,2,    21.68,6,    17.18,6,     1.20,6,    0.705,2,    0.481,2,    0.024,2,    3.539,2,    1.256,2,   -999.0,9,   2.1111
  18HU19950419, AR13d,    60,  1, 153972,     34,2,19950507, 42.9462, -43.8982, 4789,   4194.9,   2.3227,  34.8915,2,  34.9001,2,    272.9,2,    243.1,3,    24.25,6,    17.26,6,     1.20,6,    0.690,2,    0.426,2,    0.000,2,    2.571,2,    1.554,2,   -999.0,9,   1.9569
  18HU19950419, AR13d,    60,  1, 153971,     33,2,19950507, 42.9462, -43.8982, 4789,   4492.5,   2.2973,  34.8872,2,  34.8958,2,    271.4,2,    275.6,2,    26.47,6,    17.69,6,     1.22,6,    0.688,2,    0.590,2,    0.030,2,    2.535,2,    1.570,2,   -999.0,9,   1.8971
  18HU19950419, AR13d,    60,  1, 153970,     31,2,19950507, 42.9462, -43.8982, 4789,   4794.2,   2.2965,  34.8834,2,  34.8922,0,    269.6,2,    271.4,2,    28.70,6,    18.17,6,     1.23,6,    0.622,2,    0.393,2,    0.018,2,    2.979,2,    1.279,2,   -999.0,9,   1.8596
  18HU19950419, AR13d,    60,  1, 153969,     32,2,19950507, 42.9462, -43.8982, 4789,   4909.6,   2.2990,  34.8820,2,  34.8902,2,    268.5,2,    267.4,2,    30.23,6,    18.45,6,     1.26,6,    0.591,2,    0.325,2,    0.079,2,    3.036,2,    1.192,2,   -999.0,9,   1.8476
  18HU19950419, AR13d,    61,  1, 154014,     53,2,19950508, 42.5002, -43.5773, 4844,     15.5,  16.6013,  36.3078,2,  36.3154,2,    167.5,2,    235.8,2,     1.11,6,     2.74,6,     0.23,6,    2.164,2,    1.008,2,    0.128,2,    9.614,2,    5.521,2,   2083.0,2,  16.5988
  18HU19950419, AR13d,    61,  1, 154013,     70,2,19950508, 42.5002, -43.5773, 4844,    102.2,  16.4616,  36.2739,2,  36.2842,2,    211.2,2,    232.4,2,     1.35,6,     3.17,6,     0.28,6,    2.190,2,    1.168,2,    0.134,2,    9.924,2,   11.328,2,   2086.2,2,  16.4450
  18HU19950419, AR13d,    61,  1, 154012,     51,2,19950508, 42.5002, -43.5773, 4844,    303.5,  16.0986,  36.1955,2,  36.2125,2,    216.1,2,    225.2,2,     2.01,6,     4.53,6,     0.32,6,    2.176,2,    1.224,2,    0.143,2,   11.976,3,    6.016,2,   2094.3,2,  16.0498
  18HU19950419, AR13d,    61,  1, 154011,     50,2,19950508, 42.5002, -43.5773, 4844,    490.4,  14.0516,  35.8476,2,  35.8582,2,    203.9,2,    197.9,2,     4.38,6,    10.22,6,     0.68,6,    1.961,2,    0.912,2,    0.065,2,    2.745,2,    5.414,2,   2123.1,2,  13.9793
  18HU19950419, AR13d,    61,  1, 154010,     49,2,19950508, 42.5002, -43.5773, 4844,    697.6,  10.5307,  35.3287,2,  35.3402,2,    191.5,2,    176.2,2,     9.48,6,    17.15,6,     1.18,6,    1.662,6,    0.787,6,    0.050,6,    4.217,6,    4.361,6,   2165.1,2,  10.4447
  18HU19950419, AR13d,    61,  1, 154009,     48,2,19950508, 42.5002, -43.5773, 4844,    913.4,   7.6917,  35.1367,2,  35.1337,2,    194.2,2,    186.6,2,    12.63,6,    20.06,6,     1.34,6,    1.161,2,    0.815,2, -999.000,5,    4.653,2,    4.491,2,   2178.8,2,   7.5969
  18HU19950419, AR13d,    61,  1, 154008,     47,2,19950508, 42.5002, -43.5773, 4844,   1064.3,   5.5872,  34.9938,2,  35.0024,2,    236.8,2,    220.2,2,    12.61,6,    18.90,6,     1.29,6,    1.611,2,    0.830,2,    0.083,2,    3.963,2,    5.691,2,   2174.1,2,   5.4925
  18HU19950419, AR13d,    61,  1, 154007,     46,2,19950508, 42.5002, -43.5773, 4844,   1291.8,   4.8314,  35.0130,2,  35.0174,2,    260.8,2,    238.4,2,    11.92,6,    17.65,6,     1.25,6,    1.624,2,    0.918,2,    0.070,2,    8.192,2,    5.264,2,   2168.8,2,   4.7216
  18HU19950419, AR13d,    61,  1, 154006,     45,2,19950508, 42.5002, -43.5773, 4844,   1496.9,   4.3320,  34.9738,2,  34.9828,2,    268.9,2,    257.8,2,    11.84,6,    17.05,6,     1.20,6,    1.535,2,    0.920,2,    0.061,2,    4.502,2,    4.833,2,   2162.4,2,   4.2083
  18HU19950419, AR13d,    61,  1, 154005,     44,2,19950508, 42.5002, -43.5773, 4844,   1737.5,   3.8876,  34.9355,2,  34.9448,2,    272.7,2,    269.2,2,    11.77,6,    16.99,6,     1.20,6,    1.557,2,    0.759,2,    0.072,2,    3.061,2,    5.291,2,   2156.9,2,   3.7469
  18HU19950419, AR13d,    61,  1, 154004,     43,2,19950508, 42.5002, -43.5773, 4844,   1901.5,   3.6959,  34.9203,2,  34.9292,2,    272.1,2,    273.1,2,    11.76,6,    16.71,6,     1.18,6,    1.561,2,    1.020,2,    0.111,2,    3.121,2,    5.552,2,   2151.8,2,   3.5424
  18HU19950419, AR13d,    61,  1, 154003,     42,2,19950508, 42.5002, -43.5773, 4844,   2082.6,   3.4700,  34.8980,2,  34.9084,2,    274.2,2,    278.9,2,    11.80,6,    16.43,6,     1.15,6,    1.803,2,    0.963,2,    0.089,2,    4.826,2,    6.094,2,   2164.5,4,   3.3027
  18HU19950419, AR13d,    61,  1, 154002,     41,2,19950508, 42.5002, -43.5773, 4844,   2289.4,   3.3538,  34.8907,2,  34.8990,2,    275.1,2,    281.7,2,    11.53,6,    16.23,6,     1.14,6,    1.930,2,    1.014,2,    0.096,2,    5.353,2,    9.567,4,   2155.3,2,   3.1684
  18HU19950419, AR13d,    61,  1, 154001,     40,2,19950508, 42.5002, -43.5773, 4844,   2478.0,   3.3950,  34.9180,2,  34.9287,2,    275.3,2,    275.2,2,    13.39,6,    16.87,6,     1.18,6,    1.178,2,    0.842,2,    0.049,2,    5.752,2,    3.903,2,   2159.1,2,   3.1901
  18HU19950419, AR13d,    61,  1, 154000,     39,2,19950508, 42.5002, -43.5773, 4844,   2724.8,   3.3118,  34.9299,2,  34.9397,2,    271.8,2,    272.2,2,    14.62,6,    16.67,6,     1.17,6,    0.823,2,    0.468,2,    0.053,2,    3.595,2,    2.858,2,   2162.9,2,   3.0832
  18HU19950419, AR13d,    61,  1, 153999,     38,2,19950508, 42.5002, -43.5773, 4844,   3027.5,   3.1121,  34.9279,2,  34.9381,2,    271.3,2,    271.7,2,    15.80,6,    16.72,6,     1.18,6,    0.678,2,    0.660,2,    0.057,2,    2.795,2,    2.142,2,   2158.5,2,   2.8560
  18HU19950419, AR13d,    61,  1, 153998,     37,2,19950508, 42.5002, -43.5773, 4844,   3282.2,   2.9168,  34.9234,2,  34.9130,3,    269.7,2,    271.3,2,    17.36,6,    16.55,6,     1.17,6,    0.538,2,    0.886,3,    0.035,2,    5.906,2,    1.445,2,   2160.5,2,   2.6379
  18HU19950419, AR13d,    61,  1, 153997,     36,2,19950508, 42.5002, -43.5773, 4844,   3589.1,   2.6192,  34.9078,2,  34.9165,2,    272.3,2,    275.7,2,    18.24,6,    16.54,6,     1.19,6,    0.883,2,    0.593,2,    0.036,2,    2.556,2,    3.289,2,   2161.4,2,   2.3140
  18HU19950419, AR13d,    61,  1, 153996,     35,2,19950508, 42.5002, -43.5773, 4844,   3876.4,   2.4506,  34.9002,2,  34.9096,2,    275.4,2,    273.6,2,    21.94,6,    16.88,6,     1.20,6,    0.631,2,    0.404,2,    0.025,2,    5.877,2,    2.173,2,   2165.0,2,   2.1177
  18HU19950419, AR13d,    61,  1, 153995,     34,2,19950508, 42.5002, -43.5773, 4844,   4198.4,   2.3295,  34.8917,2,  34.9012,2,    271.7,2,    275.8,2,    24.53,6,    17.36,6,     1.21,6,    0.657,2,    0.587,2,    0.041,2,    1.821,2,    1.768,2,   2168.9,6,   1.9631
  18HU19950419, AR13d,    61,  1, 153994,     33,2,19950508, 42.5002, -43.5773, 4844,   4512.8,   2.3117,  34.8871,2,  34.8967,2,    271.7,2,    270.7,2,    27.15,6,    17.52,6,     1.23,6,    0.597,2,    0.656,2,    0.030,2,    1.392,2,    2.216,2,   2172.7,2,   1.9086
  18HU19950419, AR13d,    61,  1, 153993,     31,2,19950508, 42.5002, -43.5773, 4844,   4793.4,   2.3044,  34.8827,2,  34.8924,0,    268.2,2,    269.5,2,    29.04,6,    18.12,6,     1.25,6,    0.543,2,    0.380,2,    0.038,2,    4.070,2,    1.846,2,   2175.0,2,   1.8674
  18HU19950419, AR13d,    61,  1, 153992,     32,2,19950508, 42.5002, -43.5773, 4844,   4961.8,   2.3129,  34.8819,2,  34.8918,2,    263.1,2,    268.4,6,    30.20,6,    18.16,6,     1.28,6,    0.531,2,    0.309,2,    0.036,2,    2.083,2,    1.412,2,   2175.8,2,   1.8545
  18HU19950419, AR13d,    62,  1, 154037,     53,2,19950508, 42.0567, -43.2127, 4883,     15.8,  16.6181,  36.2862,2,  36.2974,2,    238.5,2,    239.0,2,     0.80,6,     2.41,6,     0.16,6,    2.040,2,    1.245,2,    0.077,2,    6.556,2,    5.998,2,   2078.7,2,  16.6155
  18HU19950419, AR13d,    62,  1, 154036,     70,2,19950508, 42.0567, -43.2127, 4883,    105.0,  16.5746,  36.2958,2,  36.3069,2,    234.3,2,    237.1,2,     0.90,6,     2.69,6,     0.17,6,    2.015,2,    1.107,2,    0.117,2,    4.311,2,   11.842,2,   2084.5,2,  16.5574
  18HU19950419, AR13d,    62,  1, 154035,     51,2,19950508, 42.0567, -43.2127, 4883,    206.4,  16.0695,  36.1803,2,  36.1907,2,    230.5,2,    228.0,2,     1.86,6,     4.63,6,     0.26,6,    1.993,2,    1.294,2,    0.160,2,    4.972,2,    5.815,2,   2091.9,2,  16.0364
  18HU19950419, AR13d,    62,  1, 154034,     50,2,19950508, 42.0567, -43.2127, 4883,    404.6,  14.2890,  35.8380,2,  35.8447,2,    198.3,2,    192.0,2,     4.70,6,    10.71,6,     0.63,6,    1.694,2,    0.959,2,    0.000,2,    5.563,2,    3.841,2,   2128.8,2,  14.2289
  18HU19950419, AR13d,    62,  1, 154033,     49,2,19950508, 42.0567, -43.2127, 4883,    603.5,  11.1733,  35.4043,2,  35.4139,2,    162.7,2,    163.0,2,     9.81,6,    18.47,6,     1.15,6,    1.124,2,    0.650,2,    0.036,2,    2.907,2,    3.380,2,   -999.0,5,  11.0964
  18HU19950419, AR13d,    62,  1, 154032,     48,2,19950508, 42.0567, -43.2127, 4883,    747.8,   9.1151,  35.2013,2,  35.2126,2,    172.9,2,    174.3,2,    11.70,6,    20.21,6,     1.27,6,    1.117,2,    0.864,2,    0.037,2,   11.463,3,    3.535,2,   2173.3,2,   9.0304
  18HU19950419, AR13d,    62,  1, 154031,     47,2,19950508, 42.0567, -43.2127, 4883,    895.2,   7.4141,  35.1297,2,  35.1417,2,    190.7,2,    192.3,2,    12.65,6,    20.18,6,     1.29,6,    1.119,2,    0.582,2,    0.017,2,    4.254,2,    3.644,2,   2176.9,2,   7.3231
  18HU19950419, AR13d,    62,  1, 154030,     46,2,19950508, 42.0567, -43.2127, 4883,   1099.9,   5.7604,  35.0752,2,  35.0888,2,    226.5,2,    224.7,2,    12.32,6,    18.73,6,     1.23,6,    1.317,6,    0.810,6,    0.060,6,    3.093,6,    4.352,6,   2172.1,2,   5.6606
  18HU19950419, AR13d,    62,  1, 154029,     45,2,19950508, 42.0567, -43.2127, 4883,   1293.9,   4.7796,  35.0063,2,  35.0148,2,    250.0,2,    248.6,2,    11.71,6,    17.56,6,     1.27,6,    1.545,2,    0.978,2,    0.062,2,    5.503,2,    5.327,2,   2164.8,2,   4.6701
  18HU19950419, AR13d,    62,  1, 154028,     44,2,19950508, 42.0567, -43.2127, 4883,   1499.7,   4.2670,  34.9663,2,  34.9754,2,    262.0,2,    261.8,2,    11.73,6,    17.24,6,     1.20,6,    1.491,2,    0.772,2,    0.071,2,    4.695,2,    5.184,2,   2162.3,2,   4.1438
  18HU19950419, AR13d,    62,  1, 154027,     43,2,19950508, 42.0567, -43.2127, 4883,   1693.8,   3.9124,  34.9361,2,  34.9439,2,    270.5,2,    270.3,2,    11.79,6,    17.18,6,     1.19,6,    1.542,2,    0.732,2,    0.013,2,    2.804,2,    5.053,2,   2158.8,2,   3.7754
  18HU19950419, AR13d,    62,  1, 154026,     42,2,19950508, 42.0567, -43.2127, 4883,   1896.2,   3.6237,  34.9059,2,  34.9187,2,    278.2,2,    277.9,2,    11.57,6,    16.82,6,     1.16,6,    1.935,2,    0.000,3, -999.000,5,    7.758,2,    7.509,2,   2157.6,2,   3.4717
  18HU19950419, AR13d,    62,  1, 154025,     41,2,19950508, 42.0567, -43.2127, 4883,   2197.3,   3.5321,  34.9173,2,  34.9262,2,    274.7,2,    275.4,2,    12.83,6,    16.80,6,     1.17,6,    1.241,2,    0.750,2,    0.050,2,    5.561,2,    5.783,2,   2156.5,2,   3.3526
  18HU19950419, AR13d,    62,  1, 154024,     40,2,19950508, 42.0567, -43.2127, 4883,   2495.5,   3.4088,  34.9236,2,  34.9334,0,    276.1,2,    274.1,2,    13.73,6,    16.69,6,     1.16,6,    0.962,2,    0.697,2,    0.000,2,    2.378,2,    3.232,2,   2155.9,2,   3.2019
  18HU19950419, AR13d,    62,  1, 154023,     39,2,19950508, 42.0567, -43.2127, 4883,   2795.6,   3.2980,  34.9367,2,  34.9449,2,    272.1,2,    269.8,2,    15.73,6,    16.78,6,     1.17,6,    0.730,2,    0.000,3, -999.000,5,    4.316,2,    2.507,2,   2160.3,2,   3.0623
  18HU19950419, AR13d,    62,  1, 154022,     38,2,19950508, 42.0567, -43.2127, 4883,   3085.6,   3.0556,  34.9270,2,  34.9366,2,    274.4,2,    271.8,2,    16.83,6,    16.70,6,     1.15,6,    0.614,2,    0.616,2,    0.000,2,    2.891,2,    2.069,2,   2157.9,2,   2.7945
  18HU19950419, AR13d,    62,  1, 154021,     37,2,19950508, 42.0567, -43.2127, 4883,   3393.2,   2.8181,  34.9210,2,  34.9301,2,    272.9,2,    270.9,2,    20.28,6,    17.15,6,     1.22,6,    0.432,2,    0.471,2,    0.000,2,    1.350,2,    1.441,2,   2164.2,2,   2.5294
  18HU19950419, AR13d,    62,  1, 154020,     36,2,19950508, 42.0567, -43.2127, 4883,   3697.4,   2.6019,  34.9098,2,  34.9193,2,    272.1,2,    269.7,2,    23.01,6,    16.79,6,     1.23,6,    0.411,2,    0.500,2,    0.028,2,    3.220,2,    1.695,2,   2166.4,2,   2.2850
  18HU19950419, AR13d,    62,  1, 154019,     35,2,19950508, 42.0567, -43.2127, 4883,   3999.8,   2.4491,  34.8994,2,  34.9087,2,    267.9,2,    271.6,2,    24.53,6,    16.74,6,     1.24,6,    0.449,2,    0.453,2,    0.000,2,    5.682,2,    1.484,2,   2167.3,2,   2.1022
  18HU19950419, AR13d,    62,  1, 154018,     34,2,19950508, 42.0567, -43.2127, 4883,   4301.9,   2.3477,  34.8919,2,  34.9006,2,    269.6,2,    273.5,2,    24.97,6,    16.73,6,     1.23,6,    0.641,2,    0.556,2,    0.029,2,    2.617,2,    2.177,2,   2167.3,2,   1.9686
  18HU19950419, AR13d,    62,  1, 154017,     33,2,19950508, 42.0567, -43.2127, 4883,   4602.1,   2.3299,  34.8888,2,  34.8983,2,    271.5,2,    274.1,2,    24.67,6,    17.00,6,     1.19,6,    0.782,2,    0.740,2,    0.078,2,   13.558,3,    2.545,2,   2168.4,2,   1.9154
  18HU19950419, AR13d,    62,  1, 154016,     31,2,19950508, 42.0567, -43.2127, 4883,   4902.1,   2.3128,  34.8832,2,  34.8922,2,    268.1,2,    270.3,6,    29.27,6,    18.05,6,     1.22,6,    0.597,2,    0.500,2,    0.014,2,    1.331,2,    2.140,2,   2174.8,2,   1.8619
  18HU19950419, AR13d,    62,  1, 154015,     32,2,19950508, 42.0567, -43.2127, 4883,   5010.7,   2.3189,  34.8820,2,  34.8914,2,    266.3,2,    272.0,2,    30.24,6,    17.78,6,     1.33,6,    0.547,2,    0.477,2,    0.022,2,    2.532,2,    1.963,2,   2174.7,2,   1.8541