BOTTLE,20220817CCHSIOAMB
EXPOCODE,SECT_ID,STNNBR,CASTNO,SAMPNO,BTLNBR,BTLNBR_FLAG_W,DATE,LATITUDE,LONGITUDE,DEPTH,CTDPRS,CTDTMP,CTDSAL,CTDSAL_FLAG_W,SALNTY,SALNTY_FLAG_W,CTDOXY,CTDOXY_FLAG_W,OXYGEN,OXYGEN_FLAG_W,SILCAT,SILCAT_FLAG_W,NITRAT,NITRAT_FLAG_W,PHSPHT,PHSPHT_FLAG_W,CFC-11,CFC-11_FLAG_W,CFC-12,CFC-12_FLAG_W,CFC113,CFC113_FLAG_W,CCL4,CCL4_FLAG_W,MCHFRM,MCHFRM_FLAG_W,TCARBN,TCARBN_FLAG_W,THETA
,,,,,,,,,,METERS,DBAR,ITS-90,PSS-78,,PSS-78,,UMOL/KG,,UMOL/KG,,UMOL/KG,,UMOL/KG,,UMOL/KG,,PMOL/KG,,PMOL/KG,,PMOL/KG,,PMOL/KG,,PMOL/KG,,UMOL/KG,,DEG C
  18HU19950419, AR13d,   100,  1, 154465,     42,2,19950515, 43.7630, -57.8378, 2868,     20.2,   8.3325,  34.0186,2,  34.0188,2,    289.1,2,    304.4,2,     1.68,6,     0.66,6,     0.35,6, -999.000,9, -999.000,9, -999.000,9, -999.000,9, -999.000,9,   -999.0,9,   8.3305
  18HU19950419, AR13d,   100,  1, 154464,     41,2,19950515, 43.7630, -57.8378, 2868,    116.6,  12.1403,  35.3872,2,  35.3851,2,    202.9,2,    240.6,2,     4.04,6,     8.32,6,     0.57,6, -999.000,9, -999.000,9, -999.000,9, -999.000,9, -999.000,9,   -999.0,9,  12.1250
  18HU19950419, AR13d,   100,  1, 154463,     40,2,19950515, 43.7630, -57.8378, 2868,    220.3,  11.3954,  35.2898,2,  35.2999,2,    195.1,2,    213.2,2,     6.24,6,    11.67,6,     0.76,6, -999.000,9, -999.000,9, -999.000,9, -999.000,9, -999.000,9,   -999.0,9,  11.3675
  18HU19950419, AR13d,   100,  1, 154462,     39,2,19950515, 43.7630, -57.8378, 2868,    315.9,   9.2686,  35.1448,2,  35.1453,2,    147.6,2,    155.5,6,    13.31,6,    21.96,6,     1.31,6, -999.000,9, -999.000,9, -999.000,9, -999.000,9, -999.000,9,   -999.0,9,   9.2333
  18HU19950419, AR13d,   100,  1, 154461,     38,2,19950515, 43.7630, -57.8378, 2868,    405.1,   7.3934,  35.0334,2,  35.0327,2,    169.3,2,    171.3,2,    16.23,6,    21.70,6,     1.37,6, -999.000,9, -999.000,9, -999.000,9, -999.000,9, -999.000,9,   -999.0,9,   7.3537
  18HU19950419, AR13d,   100,  1, 154460,     37,2,19950515, 43.7630, -57.8378, 2868,    699.6,   4.8290,  34.9842,2,  34.9852,2,    245.8,2,    242.6,2,    10.37,6,    16.00,6,     1.10,6, -999.000,9, -999.000,9, -999.000,9, -999.000,9, -999.000,9,   -999.0,9,   4.7726
  18HU19950419, AR13d,   100,  1, 154459,     36,2,19950515, 43.7630, -57.8378, 2868,   1126.1,   3.9135,  34.9428,2,  34.9435,2,    267.0,2,    268.2,2,    11.67,6,    16.96,6,     1.10,6, -999.000,9, -999.000,9, -999.000,9, -999.000,9, -999.000,9,   -999.0,9,   3.8271
  18HU19950419, AR13d,   100,  1, 154458,     35,2,19950515, 43.7630, -57.8378, 2868,   1511.3,   3.5834,  34.9226,2,  34.9225,2,    271.8,2,    272.1,2,    11.52,6,    15.59,6,     1.05,6, -999.000,9, -999.000,9, -999.000,9, -999.000,9, -999.000,9,   -999.0,9,   3.4670
  18HU19950419, AR13d,   100,  1, 154457,     34,2,19950515, 43.7630, -57.8378, 2868,   1915.7,   3.4376,  34.9323,2,  34.9323,0,    270.3,2,    276.2,2,    13.18,6,    16.82,6,     1.05,6, -999.000,9, -999.000,9, -999.000,9, -999.000,9, -999.000,9,   -999.0,9,   3.2864
  18HU19950419, AR13d,   100,  1, 154456,     33,2,19950515, 43.7630, -57.8378, 2868,   2298.7,   3.2491,  34.9429,2,  34.9425,2,    265.8,2,    272.4,2,    13.92,6,    15.79,6,     1.06,6, -999.000,9, -999.000,9, -999.000,9, -999.000,9, -999.000,9,   -999.0,9,   3.0644
  18HU19950419, AR13d,   100,  1, 154455,     31,2,19950515, 43.7630, -57.8378, 2868,   2772.2,   3.1383,  34.9431,2,  34.9437,2,    264.0,2,    270.6,2,    16.11,6,    17.61,6,     1.07,6, -999.000,9, -999.000,9, -999.000,9, -999.000,9, -999.000,9,   -999.0,9,   2.9083
  18HU19950419, AR13d,   100,  1, 154454,     32,2,19950515, 43.7630, -57.8378, 2868,   2947.6,   2.9445,  34.9346,2,  34.9386,2,    265.0,2,    233.5,2,    16.48,6,    17.25,6,     1.05,6, -999.000,9, -999.000,9, -999.000,9, -999.000,9, -999.000,9,   -999.0,9,   2.7004
  18HU19950419, AR13d,   101,  1, 154472,     49,2,19950516, 44.1322, -58.1745,  777,     10.4,   6.3125,  33.3065,2,  33.3080,2,    306.5,2,    319.8,2,     1.26,6,     0.33,6,     0.40,6, -999.000,9, -999.000,9, -999.000,9, -999.000,9, -999.000,9,   -999.0,9,   6.3116
  18HU19950419, AR13d,   101,  1, 154471,     48,2,19950516, 44.1322, -58.1745,  777,    100.4,   9.1464,  34.6748,2,  34.6824,2,    226.8,2,    220.7,2,     6.03,6,    10.03,6,     0.79,6, -999.000,9, -999.000,9, -999.000,9, -999.000,9, -999.000,9,   -999.0,9,   9.1355
  18HU19950419, AR13d,   101,  1, 154470,     47,2,19950516, 44.1322, -58.1745,  777,    198.3,   9.0837,  35.0581,2,  35.0659,2,    162.7,2,    161.7,2,    11.86,6,    20.35,6,     1.26,6, -999.000,9, -999.000,9, -999.000,9, -999.000,9, -999.000,9,   -999.0,9,   9.0620
  18HU19950419, AR13d,   101,  1, 154469,     46,2,19950516, 44.1322, -58.1745,  777,    298.7,   7.5579,  35.0416,2,  35.0407,2,    165.0,2,    165.0,2,    13.41,6,    21.54,6,     1.36,6, -999.000,9, -999.000,9, -999.000,9, -999.000,9, -999.000,9,   -999.0,9,   7.5284
  18HU19950419, AR13d,   101,  1, 154468,     45,2,19950516, 44.1322, -58.1745,  777,    448.4,   5.2456,  34.9325,2,  34.9313,2,    216.8,2,    218.4,2,    13.34,6,    19.76,6,  -999.00,5, -999.000,9, -999.000,9, -999.000,9, -999.000,9, -999.000,9,   -999.0,9,   5.2089
  18HU19950419, AR13d,   101,  1, 154467,     44,2,19950516, 44.1322, -58.1745,  777,    685.6,   4.2469,  34.9578,2,  34.9567,2,    257.7,2,    257.2,2,    10.91,6,    16.44,6,     1.07,6, -999.000,9, -999.000,9, -999.000,9, -999.000,9, -999.000,9,   -999.0,9,   4.1948
  18HU19950419, AR13d,   101,  1, 154466,     43,2,19950516, 44.1322, -58.1745,  777,    750.0,   4.1533,  34.9536,2,  34.9526,2,    260.9,2,    260.0,2,    11.46,6,    17.29,6,     1.05,6, -999.000,9, -999.000,9, -999.000,9, -999.000,9, -999.000,9,   -999.0,9,   4.0965
  18HU19950419, AR13d,   102,  1, 154475,     70,2,19950516, 44.4730, -58.5067,   69,     10.8,   2.3547,  32.2745,2,  32.2781,2,    348.4,2,    358.7,6,     0.42,6,     0.00,6,     0.41,6, -999.000,9, -999.000,9, -999.000,9, -999.000,9, -999.000,9,   -999.0,9,   2.3542
  18HU19950419, AR13d,   102,  1, 154474,     51,2,19950516, 44.4730, -58.5067,   69,     31.3,   1.9002,  32.3830,2,  32.4112,2,    357.2,2,    354.8,2,     0.81,6,     0.00,6,     0.51,6, -999.000,9, -999.000,9, -999.000,9, -999.000,9, -999.000,9,   -999.0,9,   1.8987
  18HU19950419, AR13d,   102,  1, 154473,     50,2,19950516, 44.4730, -58.5067,   69,     53.2,   2.1382,  32.5190,2,  32.5204,2,    345.9,2,    342.8,2,     1.20,6,     0.25,6,     0.49,6, -999.000,9, -999.000,9, -999.000,9, -999.000,9, -999.000,9,   -999.0,9,   2.1356
  18HU19950419, AR13d,   103,  1, 154479,     34,2,19950516, 44.8123, -58.8507,  259,     21.7,   1.8340,  31.6948,2,  31.6879,2,    369.2,2,    362.7,2,     2.07,6,     0.00,6,     0.36,6, -999.000,9, -999.000,9, -999.000,9, -999.000,9, -999.000,9,   -999.0,9,   1.8330
  18HU19950419, AR13d,   103,  1, 154478,     33,2,19950516, 44.8123, -58.8507,  259,     78.5,   0.6976,  32.3897,2,  32.3869,2,    317.5,2,    298.1,2,     6.82,6,     7.52,6,     0.99,6, -999.000,9, -999.000,9, -999.000,9, -999.000,9, -999.000,9,   -999.0,9,   0.6947
  18HU19950419, AR13d,   103,  1, 154477,     31,2,19950516, 44.8123, -58.8507,  259,    176.8,   0.9245,  32.6925,2,  32.6807,2,    290.4,2,    282.3,2,     9.69,6,     9.24,6,     1.06,6, -999.000,9, -999.000,9, -999.000,9, -999.000,9, -999.000,9,   -999.0,9,   0.9173
  18HU19950419, AR13d,   103,  1, 154476,     32,2,19950516, 44.8123, -58.8507,  259,    246.2,   1.0355,  32.8311,2,  32.8303,2,    277.7,2,    275.6,2,    10.25,6,    10.01,6,     1.08,6, -999.000,9, -999.000,9, -999.000,9, -999.000,9, -999.000,9,   -999.0,9,   1.0250
  18HU19950419, AR13d,   104,  2, 154482,     37,2,19950516, 45.1565, -59.1743,  108,     10.6,   2.8859,  31.1463,2,  31.1466,2,    345.4,2,    353.9,6,     0.73,6,     0.00,6,     0.37,6, -999.000,9, -999.000,9, -999.000,9, -999.000,9, -999.000,9,   -999.0,9,   2.8853
  18HU19950419, AR13d,   104,  2, 154481,     36,2,19950516, 45.1565, -59.1743,  108,     50.1,  -0.3351,  31.8148,2,  31.7973,2,    348.5,2,    356.5,2,     2.01,6,     2.00,6,     0.69,6, -999.000,9, -999.000,9, -999.000,9, -999.000,9, -999.000,9,   -999.0,9,  -0.3365
  18HU19950419, AR13d,   104,  2, 154480,     35,2,19950516, 45.1565, -59.1743,  108,     95.5,   0.7093,  32.3431,2,  32.3403,0,    298.9,2,    290.4,2,     8.51,6,     7.94,6,     1.02,6, -999.000,9, -999.000,9, -999.000,9, -999.000,9, -999.000,9,   -999.0,9,   0.7057
  18HU19950419, AR13d,   105,  2, 154486,     41,2,19950516, 45.4875, -59.5192,  169,     10.8,   1.0043,  30.5428,2,  30.5307,2,    202.5,2,    400.4,2,     1.46,6,     0.00,6,     0.39,6, -999.000,9, -999.000,9, -999.000,9, -999.000,9, -999.000,9,   -999.0,9,   1.0039
  18HU19950419, AR13d,   105,  2, 154485,     40,2,19950516, 45.4875, -59.5192,  169,     46.2,  -0.2312,  31.6293,2,  31.5957,2,    361.5,2,    367.2,2,     2.09,6,     1.65,6,     0.61,6, -999.000,9, -999.000,9, -999.000,9, -999.000,9, -999.000,9,   -999.0,9,  -0.2325
  18HU19950419, AR13d,   105,  2, 154484,     39,2,19950516, 45.4875, -59.5192,  169,     89.5,   0.0507,  32.3116,2,  32.3102,2,    340.4,2,    346.6,2,     2.13,6,     3.06,6,     0.71,6, -999.000,9, -999.000,9, -999.000,9, -999.000,9, -999.000,9,   -999.0,9,   0.0478
  18HU19950419, AR13d,   105,  2, 154483,     38,2,19950516, 45.4875, -59.5192,  169,    140.4,   1.0977,  32.8446,2,  32.8414,2,    289.5,2,    271.2,2,    11.69,6,    10.55,6,     1.08,6, -999.000,9, -999.000,9, -999.000,9, -999.000,9, -999.000,9,   -999.0,9,   1.0918
  18HU19950419, AR13d,   106,  1, 154490,     45,2,19950516, 45.6568, -59.7063,  147,     10.5,   2.3518,  31.0671,2,  31.0589,2,    350.2,2,    384.0,2,     0.83,6,     0.00,6,     0.33,6, -999.000,9, -999.000,9, -999.000,9, -999.000,9, -999.000,9,   -999.0,9,   2.3513
  18HU19950419, AR13d,   106,  1, 154489,     44,2,19950516, 45.6568, -59.7063,  147,     36.3,   1.1940,  31.5478,2,  31.5475,2,    372.2,2,    383.2,2,     0.81,6,     0.00,6,     0.38,6, -999.000,9, -999.000,9, -999.000,9, -999.000,9, -999.000,9,   -999.0,9,   1.1926
  18HU19950419, AR13d,   106,  1, 154488,     43,2,19950516, 45.6568, -59.7063,  147,     81.3,  -0.1273,  32.2544,2,  32.2466,2,    343.6,2,    355.0,2,     3.43,6,     3.46,6,     0.67,6, -999.000,9, -999.000,9, -999.000,9, -999.000,9, -999.000,9,   -999.0,9,  -0.1298
  18HU19950419, AR13d,   106,  1, 154487,     42,2,19950516, 45.6568, -59.7063,  147,    126.9,   0.5911,  32.7691,2,  32.7682,2,    305.2,2,    300.4,2,     8.34,6,     8.18,6,     0.97,6, -999.000,9, -999.000,9, -999.000,9, -999.000,9, -999.000,9,   -999.0,9,   0.5863
  18HU19950419, AR13d,   107,  1, 154493,     48,2,19950516, 45.8237, -59.7065,   96,     10.6,   0.7957,  30.5923,2,  30.5884,2,    253.2,2,    416.2,2,     1.98,6,     0.00,6,     0.36,6, -999.000,9, -999.000,9, -999.000,9, -999.000,9, -999.000,9,   -999.0,9,   0.7953
  18HU19950419, AR13d,   107,  1, 154492,     47,2,19950516, 45.8237, -59.7065,   96,     41.6,   0.2412,  31.3477,2,  31.3446,2,    365.9,2,    380.1,2,     1.61,6,     0.63,6,     0.50,6, -999.000,9, -999.000,9, -999.000,9, -999.000,9, -999.000,9,   -999.0,9,   0.2399
  18HU19950419, AR13d,   107,  1, 154491,     46,2,19950516, 45.8237, -59.7065,   96,     76.3,  -0.1622,  31.7550,2,  31.6771,2,    343.7,2,    363.3,2,     2.55,6,     2.13,6,     0.65,6, -999.000,9, -999.000,9, -999.000,9, -999.000,9, -999.000,9,   -999.0,9,  -0.1644