BOTTLE,20220817CCHSIOAMB
EXPOCODE,SECT_ID,STNNBR,CASTNO,SAMPNO,BTLNBR,BTLNBR_FLAG_W,DATE,TIME,LATITUDE,LONGITUDE,DEPTH,CTDPRS,CTDTMP,CTDTMP_FLAG_W,CTDSAL,CTDSAL_FLAG_W,SALNTY,SALNTY_FLAG_W,CTDOXY,CTDOXY_FLAG_W,OXYGEN,OXYGEN_FLAG_W,SILCAT,SILCAT_FLAG_W,NITRAT,NITRAT_FLAG_W,NITRIT,NITRIT_FLAG_W,PHSPHT,PHSPHT_FLAG_W,CFC-11,CFC-11_FLAG_W,CFC-12,CFC-12_FLAG_W,CFC113,CFC113_FLAG_W,TCARBN,TCARBN_FLAG_W,ALKALI,ALKALI_FLAG_W,PH_TOT,PH_TMP,DELC13,DELC13_FLAG_W,C13ERR,DELC14,DELC14_FLAG_W,C14ERR,THETA,THETA_FLAG_W
,,,,,,,,,,,METERS,DBAR,ITS-90,,PSS-78,,PSS-78,,UMOL/KG,,UMOL/KG,,UMOL/KG,,UMOL/KG,,UMOL/KG,,UMOL/KG,,PMOL/KG,,PMOL/KG,,PMOL/KG,,UMOL/KG,,UMOL/KG,,,DEG C,/MILLE,,/MILLE,/MILLE,,/MILLE,DEG C,
49NZ200107_1,       P17N,      59,          1,          0,        -99,9,20010815,       1735,    45.2657,  -141.7322,       4505,     4.5,-999.0000,9,-999.0000,9,  32.4358,2,  -999.00,9,  264.01,2,    3.95,2,    4.33,2,    0.08,2,    0.71,2,-999.000,9,-999.000,9,-999.000,9,  -999.0,9,  -999.0,9, -999.000,  -999.00, -999.00,9, -999.00,  -999.0,9,  -999.0,-999.0000,9
49NZ200107_1,       P17N,      59,          1,         36,         36,2,20010815,       1735,    45.2657,  -141.7322,       4505,    10.9,  15.1927,2,  32.4410,2,  32.4351,2,   255.06,1,  265.43,2,    4.42,2,    4.36,2,    0.08,2,    0.66,2,-999.000,9,-999.000,9,-999.000,9,  -999.0,9,  -999.0,9, -999.000,  -999.00, -999.00,9, -999.00,  -999.0,9,  -999.0,  23.9586,2
49NZ200107_1,       P17N,      59,          1,         35,         35,2,20010815,       1735,    45.2657,  -141.7322,       4505,    26.1,  12.4862,2,  32.4334,2,  32.4376,2,   286.60,1,  297.69,2,    4.41,2,    4.91,2,    0.08,2,    0.72,2,-999.000,9,-999.000,9,-999.000,9,  -999.0,9,  -999.0,9, -999.000,  -999.00, -999.00,9, -999.00,  -999.0,9,  -999.0,  24.5053,2
49NZ200107_1,       P17N,      59,          1,         34,         34,2,20010815,       1735,    45.2657,  -141.7322,       4505,    51.1,   8.8057,2,  32.5893,2,  32.5867,2,   276.00,1,  291.21,2,    4.47,2,    7.61,2,    0.31,2,    0.91,2,-999.000,9,-999.000,9,-999.000,9,  -999.0,9,  -999.0,9, -999.000,  -999.00, -999.00,9, -999.00,  -999.0,9,  -999.0,  25.2617,2
49NZ200107_1,       P17N,      59,          1,         33,         33,2,20010815,       1735,    45.2657,  -141.7322,       4505,    76.7,   7.6048,2,  32.5541,2,  32.5499,2,   276.06,1,  290.12,2,    6.38,2,   11.24,2,    0.90,2,    1.09,2,-999.000,9,-999.000,9,-999.000,9,  -999.0,9,  -999.0,9, -999.000,  -999.00, -999.00,9, -999.00,  -999.0,9,  -999.0,  25.4106,2
49NZ200107_1,       P17N,      59,          1,         32,         32,2,20010815,       1735,    45.2657,  -141.7322,       4505,   101.6,   7.1663,2,  32.6029,2,  32.6033,2,   271.32,1,  285.40,2,    8.28,2,   12.78,2,    0.03,2,    1.16,2,-999.000,9,-999.000,9,-999.000,9,  -999.0,9,  -999.0,9, -999.000,  -999.00, -999.00,9, -999.00,  -999.0,9,  -999.0,  25.5097,2
49NZ200107_1,       P17N,      59,          1,         31,         31,2,20010815,       1735,    45.2657,  -141.7322,       4505,   152.0,   5.8458,2,  32.9513,2,  32.9699,2,   253.72,1,  269.34,2,   18.05,2,   18.30,2,    0.03,2,    1.46,2,-999.000,9,-999.000,9,-999.000,9,  -999.0,9,  -999.0,9, -999.000,  -999.00, -999.00,9, -999.00,  -999.0,9,  -999.0,  25.9543,2
49NZ200107_1,       P17N,      59,          1,         30,         30,2,20010815,       1735,    45.2657,  -141.7322,       4505,   202.8,   6.4597,2,  33.6467,2,  33.6695,2,   203.47,1,  214.93,2,   25.92,2,   21.92,2,    0.02,2,    1.59,2,-999.000,9,-999.000,9,-999.000,9,  -999.0,9,  -999.0,9, -999.000,  -999.00, -999.00,9, -999.00,  -999.0,9,  -999.0,  26.4270,2
49NZ200107_1,       P17N,      59,          1,         29,         29,2,20010815,       1735,    45.2657,  -141.7322,       4505,   253.4,   6.2908,2,  33.8744,2,  33.8691,2,   157.51,1,  163.55,2,   39.12,2,   27.72,2,    0.02,2,    1.96,2,-999.000,9,-999.000,9,-999.000,9,  -999.0,9,  -999.0,9, -999.000,  -999.00, -999.00,9, -999.00,  -999.0,9,  -999.0,  26.6290,2
49NZ200107_1,       P17N,      59,          1,         28,         28,2,20010815,       1735,    45.2657,  -141.7322,       4505,   303.6,   5.5957,2,  33.8930,2,  33.8869,2,   125.99,1,  130.07,2,   51.49,2,   32.39,2,    0.02,2,    2.25,2,-999.000,9,-999.000,9,-999.000,9,  -999.0,9,  -999.0,9, -999.000,  -999.00, -999.00,9, -999.00,  -999.0,9,  -999.0,  26.7307,2
49NZ200107_1,       P17N,      59,          1,         27,         27,2,20010815,       1735,    45.2657,  -141.7322,       4505,   354.3,   4.8662,2,  33.9006,2,  33.8975,2,   100.65,1,  101.81,2,   62.17,2,   36.37,2,    0.02,2,    2.54,2,-999.000,9,-999.000,9,-999.000,9,  -999.0,9,  -999.0,9, -999.000,  -999.00, -999.00,9, -999.00,  -999.0,9,  -999.0,  26.8218,2
49NZ200107_1,       P17N,      59,          1,         26,         26,2,20010815,       1735,    45.2657,  -141.7322,       4505,   404.6,   4.5786,2,  33.9397,2,  33.9470,2,    83.89,1,   81.29,2,   71.37,2,   38.82,2,    0.02,2,    2.71,2,-999.000,9,-999.000,9,-999.000,9,  -999.0,9,  -999.0,9, -999.000,  -999.00, -999.00,9, -999.00,  -999.0,9,  -999.0,  26.8849,2
49NZ200107_1,       P17N,      59,          1,         25,         25,2,20010815,       1735,    45.2657,  -141.7322,       4505,   505.0,   4.2875,2,  34.0503,2,  34.0556,2,    58.50,1,   54.66,2,   85.18,2,   40.93,2,    0.02,2,    2.89,2,-999.000,9,-999.000,9,-999.000,9,  -999.0,9,  -999.0,9, -999.000,  -999.00, -999.00,9, -999.00,  -999.0,9,  -999.0,  27.0046,2
49NZ200107_1,       P17N,      59,          1,         24,         24,2,20010815,       1735,    45.2657,  -141.7322,       4505,   607.0,   4.0587,2,  34.1306,2,  34.1377,2,    41.86,1,   36.04,2,   95.84,2,   42.46,2,    0.02,2,    2.99,2,-999.000,9,-999.000,9,-999.000,9,  -999.0,9,  -999.0,9, -999.000,  -999.00, -999.00,9, -999.00,  -999.0,9,  -999.0,  27.0930,2
49NZ200107_1,       P17N,      59,          1,         23,         23,2,20010815,       1735,    45.2657,  -141.7322,       4505,   707.8,   3.7495,2,  34.2058,2,  34.2132,2,    30.45,1,   23.48,2,  107.83,2,   43.80,2,    0.01,2,    3.10,2,-999.000,9,-999.000,9,-999.000,9,  -999.0,9,  -999.0,9, -999.000,  -999.00, -999.00,9, -999.00,  -999.0,9,  -999.0,  27.1847,2
49NZ200107_1,       P17N,      59,          1,         22,         22,2,20010815,       1735,    45.2657,  -141.7322,       4505,   809.1,   3.4540,2,  34.2657,2,  34.2665,2,    24.41,1,   17.87,2,  116.95,2,   44.26,2,    0.02,2,    3.14,2,-999.000,9,-999.000,9,-999.000,9,  -999.0,9,  -999.0,9, -999.000,  -999.00, -999.00,9, -999.00,  -999.0,9,  -999.0,  27.2619,2
49NZ200107_1,       P17N,      59,          1,         21,         21,2,20010815,       1735,    45.2657,  -141.7322,       4505,   910.3,   3.2318,2,  34.3132,2,  34.3133,2,    21.70,1,   14.69,2,  124.37,2,   44.65,2,    0.02,2,    3.15,2,-999.000,9,-999.000,9,-999.000,9,  -999.0,9,  -999.0,9, -999.000,  -999.00, -999.00,9, -999.00,  -999.0,9,  -999.0,  27.3213,2
49NZ200107_1,       P17N,      59,          1,         20,         20,2,20010815,       1735,    45.2657,  -141.7322,       4505,  1011.9,   3.0617,2,  34.3527,2,  34.3534,3,    19.08,1,   11.54,2,  130.28,2,   45.05,2,    0.01,2,    3.19,2,-999.000,9,-999.000,9,-999.000,9,  -999.0,9,  -999.0,9, -999.000,  -999.00, -999.00,9, -999.00,  -999.0,9,  -999.0,  27.3690,2
49NZ200107_1,       P17N,      59,          1,         19,         19,2,20010815,       1735,    45.2657,  -141.7322,       4505,  1113.2,   2.9174,2,  34.3929,2,  34.3942,2,    18.12,1,   10.62,2,  133.98,2,   45.22,2,    0.02,2,    3.17,2,-999.000,9,-999.000,9,-999.000,9,  -999.0,9,  -999.0,9, -999.000,  -999.00, -999.00,9, -999.00,  -999.0,9,  -999.0,  27.4147,2
49NZ200107_1,       P17N,      59,          1,         18,         18,2,20010815,       1735,    45.2657,  -141.7322,       4505,  1214.5,   2.7663,2,  34.4293,2,  34.4284,2,    18.85,1,   11.21,2,  139.02,2,   45.19,2,    0.01,2,    3.19,2,-999.000,9,-999.000,9,-999.000,9,  -999.0,9,  -999.0,9, -999.000,  -999.00, -999.00,9, -999.00,  -999.0,9,  -999.0,  27.4577,2
49NZ200107_1,       P17N,      59,          1,         17,         17,2,20010815,       1735,    45.2657,  -141.7322,       4505,  1315.8,   2.6125,2,  34.4576,2,  34.4581,2,    21.09,1,   13.44,2,  143.51,2,   45.29,2,    0.01,2,    3.18,2,-999.000,9,-999.000,9,-999.000,9,  -999.0,9,  -999.0,9, -999.000,  -999.00, -999.00,9, -999.00,  -999.0,9,  -999.0,  27.4941,2
49NZ200107_1,       P17N,      59,          1,         16,         16,2,20010815,       1735,    45.2657,  -141.7322,       4505,  1417.3,   2.4823,2,  34.4896,2,  34.4876,2,    24.80,1,   17.13,2,  147.44,2,   45.15,2,    0.01,2,    3.14,2,-999.000,9,-999.000,9,-999.000,9,  -999.0,9,  -999.0,9, -999.000,  -999.00, -999.00,9, -999.00,  -999.0,9,  -999.0,  27.5313,2
49NZ200107_1,       P17N,      59,          1,         15,         15,2,20010815,       1735,    45.2657,  -141.7322,       4505,  1518.8,   2.3449,2,  34.5105,2,  34.5108,2,    29.85,1,   23.01,2,  150.92,2,   44.87,2,    0.02,2,    3.15,2,-999.000,9,-999.000,9,-999.000,9,  -999.0,9,  -999.0,9, -999.000,  -999.00, -999.00,9, -999.00,  -999.0,9,  -999.0,  27.5599,2
49NZ200107_1,       P17N,      59,          1,         14,         14,2,20010815,       1735,    45.2657,  -141.7322,       4505,  1620.2,   2.2302,2,  34.5299,2,  34.5299,2,    36.00,1,   28.87,2,  152.66,2,   44.44,2,    0.02,2,    3.11,2,-999.000,9,-999.000,9,-999.000,9,  -999.0,9,  -999.0,9, -999.000,  -999.00, -999.00,9, -999.00,  -999.0,9,  -999.0,  27.5853,2
49NZ200107_1,       P17N,      59,          1,         13,         13,2,20010815,       1735,    45.2657,  -141.7322,       4505,  1823.6,   2.0475,2,  34.5670,2,  34.5672,2,    49.61,1,   43.11,2,  156.54,3,   43.64,2,    0.01,2,    3.06,2,-999.000,9,-999.000,9,-999.000,9,  -999.0,9,  -999.0,9, -999.000,  -999.00, -999.00,9, -999.00,  -999.0,9,  -999.0,  27.6306,2
49NZ200107_1,       P17N,      59,          1,         12,         12,2,20010815,       1735,    45.2657,  -141.7322,       4505,  2027.5,   1.9271,2,  34.5914,2,  34.5917,2,    61.33,1,   56.25,2,  158.83,3,   42.83,2,    0.01,2,    3.01,2,-999.000,9,-999.000,9,-999.000,9,  -999.0,9,  -999.0,9, -999.000,  -999.00, -999.00,9, -999.00,  -999.0,9,  -999.0,  27.6606,2
49NZ200107_1,       P17N,      59,          1,         11,         11,2,20010815,       1735,    45.2657,  -141.7322,       4505,  2230.5,   1.8345,2,  34.6127,2,  34.6127,2,    72.40,1,   67.90,2,  162.45,2,   42.05,2,    0.01,2,    2.92,2,-999.000,9,-999.000,9,-999.000,9,  -999.0,9,  -999.0,9, -999.000,  -999.00, -999.00,9, -999.00,  -999.0,9,  -999.0,  27.6860,2
49NZ200107_1,       P17N,      59,          1,         10,         10,2,20010815,       1735,    45.2657,  -141.7322,       4505,  2434.1,   1.7379,2,  34.6281,2,  34.6281,2,    83.57,1,   80.14,2,  161.66,2,   41.23,2,    0.02,2,    2.88,2,-999.000,9,-999.000,9,-999.000,9,  -999.0,9,  -999.0,9, -999.000,  -999.00, -999.00,9, -999.00,  -999.0,9,  -999.0,  27.7067,2
49NZ200107_1,       P17N,      59,          1,          9,          9,2,20010815,       1735,    45.2657,  -141.7322,       4505,  2638.9,   1.6603,2,  34.6412,2,  34.6443,4,    94.66,1,   91.51,2,  161.03,2,   40.48,2,    0.02,2,    2.83,2,-999.000,9,-999.000,9,-999.000,9,  -999.0,9,  -999.0,9, -999.000,  -999.00, -999.00,9, -999.00,  -999.0,9,  -999.0,  27.7241,2
49NZ200107_1,       P17N,      59,          1,          8,          8,2,20010815,       1735,    45.2657,  -141.7322,       4505,  2842.7,   1.5917,2,  34.6518,2,  34.6517,4,   105.68,1,  103.62,2,  159.51,2,   39.79,2,    0.02,2,    2.76,2,-999.000,9,-999.000,9,-999.000,9,  -999.0,9,  -999.0,9, -999.000,  -999.00, -999.00,9, -999.00,  -999.0,9,  -999.0,  27.7388,2
49NZ200107_1,       P17N,      59,          1,          7,          7,2,20010815,       1735,    45.2657,  -141.7322,       4505,  3047.6,   1.5528,2,  34.6597,2,  34.6589,2,   114.29,1,  112.26,2,  158.69,2,   39.25,2,    0.02,2,    2.72,2,-999.000,9,-999.000,9,-999.000,9,  -999.0,9,  -999.0,9, -999.000,  -999.00, -999.00,9, -999.00,  -999.0,9,  -999.0,  27.7492,2
49NZ200107_1,       P17N,      59,          1,          6,          6,2,20010815,       1735,    45.2657,  -141.7322,       4505,  3303.6,   1.5140,2,  34.6684,2,  34.6707,2,   123.88,1,  122.08,2,  157.96,2,   38.53,2,    0.01,2,    2.70,2,-999.000,9,-999.000,9,-999.000,9,  -999.0,9,  -999.0,9, -999.000,  -999.00, -999.00,9, -999.00,  -999.0,9,  -999.0,  27.7607,2
49NZ200107_1,       P17N,      59,          1,          5,          5,2,20010815,       1735,    45.2657,  -141.7322,       4505,  3559.1,   1.4967,2,  34.6749,2,  34.6750,2,   130.53,1,  129.00,2,  158.25,2,   38.12,2,    0.01,2,    2.64,2,-999.000,9,-999.000,9,-999.000,9,  -999.0,9,  -999.0,9, -999.000,  -999.00, -999.00,9, -999.00,  -999.0,9,  -999.0,  27.7689,2
49NZ200107_1,       P17N,      59,          1,          4,          4,2,20010815,       1735,    45.2657,  -141.7322,       4505,  3815.4,   1.4978,2,  34.6790,2,  34.6783,2,   135.59,1,  132.98,2,  158.40,2,   37.91,2,    0.01,2,    2.63,2,-999.000,9,-999.000,9,-999.000,9,  -999.0,9,  -999.0,9, -999.000,  -999.00, -999.00,9, -999.00,  -999.0,9,  -999.0,  27.7740,2
49NZ200107_1,       P17N,      59,          1,          3,          3,2,20010815,       1735,    45.2657,  -141.7322,       4505,  4072.2,   1.5139,2,  34.6817,2,  34.6817,2,   138.07,1,  134.75,2,  160.53,2,   37.90,2,    0.02,2,    2.65,2,-999.000,9,-999.000,9,-999.000,9,  -999.0,9,  -999.0,9, -999.000,  -999.00, -999.00,9, -999.00,  -999.0,9,  -999.0,  27.7769,2
49NZ200107_1,       P17N,      59,          1,          2,          2,2,20010815,       1735,    45.2657,  -141.7322,       4505,  4329.5,   1.5306,2,  34.6836,2,  34.6827,2,   141.21,1,  136.57,2,  162.91,2,   37.59,2,    0.02,2,    2.58,2,-999.000,9,-999.000,9,-999.000,9,  -999.0,9,  -999.0,9, -999.000,  -999.00, -999.00,9, -999.00,  -999.0,9,  -999.0,  27.7793,2
49NZ200107_1,       P17N,      59,          1,          1,          1,2,20010815,       1735,    45.2657,  -141.7322,       4505,  4565.2,   1.5553,2,  34.6850,2,  34.6854,2,   142.98,1,  135.54,2,  163.67,2,   37.66,2,    0.02,2,    2.60,2,-999.000,9,-999.000,9,-999.000,9,  -999.0,9,  -999.0,9, -999.000,  -999.00, -999.00,9, -999.00,  -999.0,9,  -999.0,  27.7807,2