BOTTLE,20220817CCHSIOAMB
EXPOCODE,SECT_ID,STNNBR,CASTNO,SAMPNO,BTLNBR,BTLNBR_FLAG_W,DATE,TIME,LATITUDE,LONGITUDE,DEPTH,CTDPRS,CTDTMP,CTDTMP_FLAG_W,CTDSAL,CTDSAL_FLAG_W,SALNTY,SALNTY_FLAG_W,CTDOXY,CTDOXY_FLAG_W,OXYGEN,OXYGEN_FLAG_W,SILCAT,SILCAT_FLAG_W,NITRAT,NITRAT_FLAG_W,NITRIT,NITRIT_FLAG_W,PHSPHT,PHSPHT_FLAG_W,CFC-11,CFC-11_FLAG_W,CFC-12,CFC-12_FLAG_W,CFC113,CFC113_FLAG_W,TCARBN,TCARBN_FLAG_W,ALKALI,ALKALI_FLAG_W,PH_TOT,PH_TMP,DELC13,DELC13_FLAG_W,C13ERR,DELC14,DELC14_FLAG_W,C14ERR,THETA,THETA_FLAG_W
,,,,,,,,,,,METERS,DBAR,ITS-90,,PSS-78,,PSS-78,,UMOL/KG,,UMOL/KG,,UMOL/KG,,UMOL/KG,,UMOL/KG,,UMOL/KG,,PMOL/KG,,PMOL/KG,,PMOL/KG,,UMOL/KG,,UMOL/KG,,,DEG C,/MILLE,,/MILLE,/MILLE,,/MILLE,DEG C,
49NZ200107_1,       P17N,      71,          3,          0,        -99,9,20010819,       0547,    49.2032,  -148.3888,       4715,     4.5,-999.0000,9,-999.0000,9,  32.4283,2,  -999.00,9,  277.97,2,   13.67,2,    9.73,2,    0.14,2,    1.02,2,-999.000,9,-999.000,9,-999.000,9,  -999.0,9,  -999.0,9, -999.000,  -999.00, -999.00,9, -999.00,  -999.0,9,  -999.0,-999.0000,9
49NZ200107_1,       P17N,      71,          3,         36,         36,2,20010819,       0547,    49.2032,  -148.3888,       4715,    11.7,  12.4163,2,  32.4323,2,  32.4345,2,   267.82,1,  281.13,2,   13.74,2,    9.71,2,    0.15,2,    0.98,2,-999.000,9,-999.000,9,-999.000,9,  -999.0,9,  -999.0,9, -999.000,  -999.00, -999.00,9, -999.00,  -999.0,9,  -999.0,  24.5174,2
49NZ200107_1,       P17N,      71,          3,         35,         35,2,20010819,       0547,    49.2032,  -148.3888,       4715,    26.1,   9.9560,2,  32.5057,2,  32.5553,2,   285.31,1,  305.25,2,   15.41,2,   11.92,2,    0.16,2,    1.15,2,-999.000,9,-999.000,9,-999.000,9,  -999.0,9,  -999.0,9, -999.000,  -999.00, -999.00,9, -999.00,  -999.0,9,  -999.0,  25.0125,2
49NZ200107_1,       P17N,      71,          3,         34,         34,3,20010819,       0547,    49.2032,  -148.3888,       4715,    51.3,   5.6556,2,  32.5969,2,  32.5930,2,   286.28,1,  306.15,2,   18.45,2,   15.54,2,    0.88,2,    1.37,2,-999.000,9,-999.000,9,-999.000,9,  -999.0,9,  -999.0,9, -999.000,  -999.00, -999.00,9, -999.00,  -999.0,9,  -999.0,  25.6959,2
49NZ200107_1,       P17N,      71,          3,         33,         33,2,20010819,       0547,    49.2032,  -148.3888,       4715,    76.2,   5.3146,2,  32.6795,2,  32.6739,2,   285.56,1,  305.47,2,   21.36,2,   17.41,2,    0.53,2,    1.45,2,-999.000,9,-999.000,9,-999.000,9,  -999.0,9,  -999.0,9, -999.000,  -999.00, -999.00,9, -999.00,  -999.0,9,  -999.0,  25.8011,2
49NZ200107_1,       P17N,      71,          3,         32,         32,2,20010819,       0547,    49.2032,  -148.3888,       4715,   102.0,   4.6997,2,  32.7217,2,  32.7338,2,   278.01,1,  300.29,2,   23.72,2,   18.58,2,    0.04,2,    1.54,2,-999.000,9,-999.000,9,-999.000,9,  -999.0,9,  -999.0,9, -999.000,  -999.00, -999.00,9, -999.00,  -999.0,9,  -999.0,  25.9028,2
49NZ200107_1,       P17N,      71,          3,         31,         31,2,20010819,       0547,    49.2032,  -148.3888,       4715,   152.0,   4.3840,2,  33.3516,2,  33.3576,2,   179.67,1,  196.22,2,   44.28,2,   28.76,2,    0.03,2,    2.08,2,-999.000,9,-999.000,9,-999.000,9,  -999.0,9,  -999.0,9, -999.000,  -999.00, -999.00,9, -999.00,  -999.0,9,  -999.0,  26.4366,2
49NZ200107_1,       P17N,      71,          3,         30,         30,2,20010819,       0547,    49.2032,  -148.3888,       4715,   202.4,   4.2264,2,  33.8035,2,  33.7987,2,    80.61,1,   83.48,2,   69.44,2,   39.79,2,    0.03,2,    2.76,2,-999.000,9,-999.000,9,-999.000,9,  -999.0,9,  -999.0,9, -999.000,  -999.00, -999.00,9, -999.00,  -999.0,9,  -999.0,  26.8126,2
49NZ200107_1,       P17N,      71,          3,         29,         29,2,20010819,       0547,    49.2032,  -148.3888,       4715,   253.3,   4.0432,2,  33.8688,2,  33.8683,2,    59.69,1,   60.09,2,   77.36,2,   42.22,2,    0.03,2,    2.93,2,-999.000,9,-999.000,9,-999.000,9,  -999.0,9,  -999.0,9, -999.000,  -999.00, -999.00,9, -999.00,  -999.0,9,  -999.0,  26.8837,2
49NZ200107_1,       P17N,      71,          3,         28,         28,2,20010819,       0547,    49.2032,  -148.3888,       4715,   303.8,   3.9598,2,  33.9326,2,  33.9292,2,    47.46,1,   44.95,2,   84.41,2,   43.18,2,    0.03,2,    2.96,2,-999.000,9,-999.000,9,-999.000,9,  -999.0,9,  -999.0,9, -999.000,  -999.00, -999.00,9, -999.00,  -999.0,9,  -999.0,  26.9433,2
49NZ200107_1,       P17N,      71,          3,         27,         27,3,20010819,       0547,    49.2032,  -148.3888,       4715,   354.5,   3.9040,2,  33.9947,2,  33.9920,2,    40.82,1,   37.62,2,   90.52,2,   43.66,2,    0.03,2,    3.05,2,-999.000,9,-999.000,9,-999.000,9,  -999.0,9,  -999.0,9, -999.000,  -999.00, -999.00,9, -999.00,  -999.0,9,  -999.0,  26.9987,2
49NZ200107_1,       P17N,      71,          3,         26,         26,2,20010819,       0547,    49.2032,  -148.3888,       4715,   404.8,   3.8665,2,  34.0468,2,  34.0524,2,    37.04,1,   32.86,2,   96.29,2,   43.77,2,    0.03,2,    3.03,2,-999.000,9,-999.000,9,-999.000,9,  -999.0,9,  -999.0,9, -999.000,  -999.00, -999.00,9, -999.00,  -999.0,9,  -999.0,  27.0443,2
49NZ200107_1,       P17N,      71,          3,         25,         25,3,20010819,       0547,    49.2032,  -148.3888,       4715,   505.7,   3.7200,2,  34.1354,2,  34.1434,2,    31.06,1,   26.09,2,  106.24,2,   43.97,2,    0.03,2,    3.07,2,-999.000,9,-999.000,9,-999.000,9,  -999.0,9,  -999.0,9, -999.000,  -999.00, -999.00,9, -999.00,  -999.0,9,  -999.0,  27.1301,2
49NZ200107_1,       P17N,      71,          3,         24,         24,2,20010819,       0547,    49.2032,  -148.3888,       4715,   606.9,   3.5645,2,  34.2048,2,  34.2061,2,    29.51,1,   24.70,2,  112.95,2,   43.88,2,    0.03,2,    3.09,2,-999.000,9,-999.000,9,-999.000,9,  -999.0,9,  -999.0,9, -999.000,  -999.00, -999.00,9, -999.00,  -999.0,9,  -999.0,  27.2013,2
49NZ200107_1,       P17N,      71,          3,         23,         23,2,20010819,       0547,    49.2032,  -148.3888,       4715,   708.2,   3.3761,2,  34.2658,2,  34.2710,2,    27.70,1,   22.39,2,  120.19,2,   44.25,2,    0.02,2,    3.10,2,-999.000,9,-999.000,9,-999.000,9,  -999.0,9,  -999.0,9, -999.000,  -999.00, -999.00,9, -999.00,  -999.0,9,  -999.0,  27.2685,2
49NZ200107_1,       P17N,      71,          3,         22,         22,2,20010819,       0547,    49.2032,  -148.3888,       4715,   809.7,   3.1604,2,  34.3156,2,  34.3160,2,    27.71,1,   22.22,2,  126.80,2,   44.22,2,    0.02,2,    3.13,2,-999.000,9,-999.000,9,-999.000,9,  -999.0,9,  -999.0,9, -999.000,  -999.00, -999.00,9, -999.00,  -999.0,9,  -999.0,  27.3291,2
49NZ200107_1,       P17N,      71,          3,         21,         21,2,20010819,       0547,    49.2032,  -148.3888,       4715,   910.7,   2.9897,2,  34.3548,2,  34.3556,2,    27.33,1,   21.42,2,  132.12,2,   44.36,2,    0.02,2,    3.13,2,-999.000,9,-999.000,9,-999.000,9,  -999.0,9,  -999.0,9, -999.000,  -999.00, -999.00,9, -999.00,  -999.0,9,  -999.0,  27.3764,2
49NZ200107_1,       P17N,      71,          3,         20,         20,2,20010819,       0547,    49.2032,  -148.3888,       4715,  1012.0,   2.8283,2,  34.3931,2,  34.3931,2,    25.59,1,   19.24,2,  137.57,2,   44.81,2,    0.03,2,    3.13,2,-999.000,9,-999.000,9,-999.000,9,  -999.0,9,  -999.0,9, -999.000,  -999.00, -999.00,9, -999.00,  -999.0,9,  -999.0,  27.4220,2
49NZ200107_1,       P17N,      71,          3,         19,         19,3,20010819,       0547,    49.2032,  -148.3888,       4715,  1113.0,   2.7013,2,  34.4229,2,  34.4219,2,    24.84,1,   18.06,2,  142.25,2,   44.85,2,    0.03,2,    3.13,2,-999.000,9,-999.000,9,-999.000,9,  -999.0,9,  -999.0,9, -999.000,  -999.00, -999.00,9, -999.00,  -999.0,9,  -999.0,  27.4575,2
49NZ200107_1,       P17N,      71,          3,         18,         18,2,20010819,       0547,    49.2032,  -148.3888,       4715,  1214.6,   2.5993,2,  34.4445,2,  34.4444,2,    25.48,1,   19.16,2,  145.33,2,   44.90,2,    0.02,2,    3.15,2,-999.000,9,-999.000,9,-999.000,9,  -999.0,9,  -999.0,9, -999.000,  -999.00, -999.00,9, -999.00,  -999.0,9,  -999.0,  27.4841,2
49NZ200107_1,       P17N,      71,          3,         17,         17,2,20010819,       0547,    49.2032,  -148.3888,       4715,  1315.9,   2.4724,2,  34.4711,2,  34.4729,2,    27.63,1,   21.47,2,  150.04,2,   44.87,2,    0.02,2,    3.16,2,-999.000,9,-999.000,9,-999.000,9,  -999.0,9,  -999.0,9, -999.000,  -999.00, -999.00,9, -999.00,  -999.0,9,  -999.0,  27.5167,2
49NZ200107_1,       P17N,      71,          3,         16,         16,2,20010819,       0547,    49.2032,  -148.3888,       4715,  1418.2,   2.3818,2,  34.4917,2,  34.4907,2,    29.73,1,   22.86,2,  151.84,2,   44.84,2,    0.03,2,    3.14,2,-999.000,9,-999.000,9,-999.000,9,  -999.0,9,  -999.0,9, -999.000,  -999.00, -999.00,9, -999.00,  -999.0,9,  -999.0,  27.5412,2
49NZ200107_1,       P17N,      71,          3,         15,         15,2,20010819,       0547,    49.2032,  -148.3888,       4715,  1621.2,   2.1879,2,  34.5335,2,  34.5325,2,    38.02,1,   31.81,2,  156.56,2,   44.49,2,    0.02,2,    3.11,2,-999.000,9,-999.000,9,-999.000,9,  -999.0,9,  -999.0,9, -999.000,  -999.00, -999.00,9, -999.00,  -999.0,9,  -999.0,  27.5916,2
49NZ200107_1,       P17N,      71,          3,         14,         14,2,20010819,       0547,    49.2032,  -148.3888,       4715,  1824.5,   2.0459,2,  34.5643,2,  34.5639,2,    47.45,1,   41.44,2,  159.98,2,   43.95,2,    0.02,2,    3.08,2,-999.000,9,-999.000,9,-999.000,9,  -999.0,9,  -999.0,9, -999.000,  -999.00, -999.00,9, -999.00,  -999.0,9,  -999.0,  27.6286,2
49NZ200107_1,       P17N,      71,          3,         13,         13,2,20010819,       0547,    49.2032,  -148.3888,       4715,  2027.6,   1.9197,2,  34.5896,2,  34.5896,2,    59.19,1,   54.28,2,  161.84,2,   43.12,2,    0.02,2,    3.02,2,-999.000,9,-999.000,9,-999.000,9,  -999.0,9,  -999.0,9, -999.000,  -999.00, -999.00,9, -999.00,  -999.0,9,  -999.0,  27.6598,2
49NZ200107_1,       P17N,      71,          3,         12,         12,2,20010819,       0547,    49.2032,  -148.3888,       4715,  2231.5,   1.8201,2,  34.6096,2,  34.6100,2,    70.81,1,   66.17,2,  162.10,2,   42.38,2,    0.04,2,    2.95,2,-999.000,9,-999.000,9,-999.000,9,  -999.0,9,  -999.0,9, -999.000,  -999.00, -999.00,9, -999.00,  -999.0,9,  -999.0,  27.6845,2
49NZ200107_1,       P17N,      71,          3,         11,         11,2,20010819,       0547,    49.2032,  -148.3888,       4715,  2435.5,   1.7404,2,  34.6246,2,  34.6246,2,    82.41,1,   78.95,2,  162.31,2,   41.44,2,    0.02,2,    2.87,2,-999.000,9,-999.000,9,-999.000,9,  -999.0,9,  -999.0,9, -999.000,  -999.00, -999.00,9, -999.00,  -999.0,9,  -999.0,  27.7037,2
49NZ200107_1,       P17N,      71,          3,         10,         10,2,20010819,       0547,    49.2032,  -148.3888,       4715,  2639.7,   1.6701,2,  34.6379,2,  34.6374,2,    93.64,1,   90.38,2,  161.45,2,   40.67,2,    0.02,2,    2.83,2,-999.000,9,-999.000,9,-999.000,9,  -999.0,9,  -999.0,9, -999.000,  -999.00, -999.00,9, -999.00,  -999.0,9,  -999.0,  27.7207,2
49NZ200107_1,       P17N,      71,          3,          9,          9,2,20010819,       0547,    49.2032,  -148.3888,       4715,  2844.0,   1.6097,2,  34.6493,2,  34.6489,2,   104.58,1,  102.29,2,  160.64,2,   39.95,2,    0.02,2,    2.79,2,-999.000,9,-999.000,9,-999.000,9,  -999.0,9,  -999.0,9, -999.000,  -999.00, -999.00,9, -999.00,  -999.0,9,  -999.0,  27.7355,2
49NZ200107_1,       P17N,      71,          3,          8,          8,2,20010819,       0547,    49.2032,  -148.3888,       4715,  3048.8,   1.5645,2,  34.6582,2,  34.6582,2,   114.04,1,  112.19,2,  159.22,2,   39.34,2,    0.02,2,    2.74,2,-999.000,9,-999.000,9,-999.000,9,  -999.0,9,  -999.0,9, -999.000,  -999.00, -999.00,9, -999.00,  -999.0,9,  -999.0,  27.7473,2
49NZ200107_1,       P17N,      71,          3,          7,          7,2,20010819,       0547,    49.2032,  -148.3888,       4715,  3304.4,   1.5178,2,  34.6679,2,  34.6679,2,   124.75,1,  122.98,2,  157.28,2,   38.54,2,    0.02,2,    2.68,2,-999.000,9,-999.000,9,-999.000,9,  -999.0,9,  -999.0,9, -999.000,  -999.00, -999.00,9, -999.00,  -999.0,9,  -999.0,  27.7600,2
49NZ200107_1,       P17N,      71,          3,          6,          6,2,20010819,       0547,    49.2032,  -148.3888,       4715,  3560.5,   1.4917,2,  34.6748,2,  34.6745,2,   133.34,1,  131.06,2,  156.15,2,   37.98,2,    0.02,2,    2.63,2,-999.000,9,-999.000,9,-999.000,9,  -999.0,9,  -999.0,9, -999.000,  -999.00, -999.00,9, -999.00,  -999.0,9,  -999.0,  27.7691,2
49NZ200107_1,       P17N,      71,          3,          5,          5,2,20010819,       0547,    49.2032,  -148.3888,       4715,  3816.9,   1.4907,2,  34.6785,2,  34.6787,2,   138.48,1,  135.19,2,  155.64,2,   37.68,2,    0.02,2,    2.62,2,-999.000,9,-999.000,9,-999.000,9,  -999.0,9,  -999.0,9, -999.000,  -999.00, -999.00,9, -999.00,  -999.0,9,  -999.0,  27.7740,2
49NZ200107_1,       P17N,      71,          3,          4,          4,2,20010819,       0547,    49.2032,  -148.3888,       4715,  4073.7,   1.4955,2,  34.6818,2,  34.6817,2,   142.94,1,  139.27,2,  156.15,2,   37.45,2,    0.03,2,    2.60,2,-999.000,9,-999.000,9,-999.000,9,  -999.0,9,  -999.0,9, -999.000,  -999.00, -999.00,9, -999.00,  -999.0,9,  -999.0,  27.7782,2
49NZ200107_1,       P17N,      71,          3,          3,          3,2,20010819,       0547,    49.2032,  -148.3888,       4715,  4330.7,   1.5127,2,  34.6840,2,  34.6840,2,   145.78,1,  140.77,2,  158.71,2,   37.47,2,    0.02,2,    2.59,2,-999.000,9,-999.000,9,-999.000,9,  -999.0,9,  -999.0,9, -999.000,  -999.00, -999.00,9, -999.00,  -999.0,9,  -999.0,  27.7809,2
49NZ200107_1,       P17N,      71,          3,          2,          2,2,20010819,       0547,    49.2032,  -148.3888,       4715,  4588.3,   1.5382,2,  34.6851,2,  34.6855,2,   148.31,1,  141.92,2,  160.94,2,   37.26,2,    0.02,2,    2.55,2,-999.000,9,-999.000,9,-999.000,9,  -999.0,9,  -999.0,9, -999.000,  -999.00, -999.00,9, -999.00,  -999.0,9,  -999.0,  27.7821,2
49NZ200107_1,       P17N,      71,          3,          1,          1,2,20010819,       0547,    49.2032,  -148.3888,       4715,  4798.0,   1.5612,2,  34.6853,2,  34.6854,2,   150.33,1,  141.92,2,  161.34,2,   37.32,2,    0.03,2,    2.55,2,-999.000,9,-999.000,9,-999.000,9,  -999.0,9,  -999.0,9, -999.000,  -999.00, -999.00,9, -999.00,  -999.0,9,  -999.0,  27.7824,2