BOTTLE,20220817CCHSIOAMB
EXPOCODE,SECT_ID,STNNBR,CASTNO,SAMPNO,BTLNBR,BTLNBR_FLAG_W,DATE,TIME,LATITUDE,LONGITUDE,DEPTH,CTDPRS,CTDTMP,CTDTMP_FLAG_W,CTDSAL,CTDSAL_FLAG_W,SALNTY,SALNTY_FLAG_W,CTDOXY,CTDOXY_FLAG_W,OXYGEN,OXYGEN_FLAG_W,SILCAT,SILCAT_FLAG_W,NITRAT,NITRAT_FLAG_W,NITRIT,NITRIT_FLAG_W,PHSPHT,PHSPHT_FLAG_W,CFC-11,CFC-11_FLAG_W,CFC-12,CFC-12_FLAG_W,CFC113,CFC113_FLAG_W,TCARBN,TCARBN_FLAG_W,ALKALI,ALKALI_FLAG_W,PH_TOT,PH_TMP,DELC13,DELC13_FLAG_W,C13ERR,DELC14,DELC14_FLAG_W,C14ERR,THETA,THETA_FLAG_W
,,,,,,,,,,,METERS,DBAR,ITS-90,,PSS-78,,PSS-78,,UMOL/KG,,UMOL/KG,,UMOL/KG,,UMOL/KG,,UMOL/KG,,UMOL/KG,,PMOL/KG,,PMOL/KG,,PMOL/KG,,UMOL/KG,,UMOL/KG,,,DEG C,/MILLE,,/MILLE,/MILLE,,/MILLE,DEG C,
49NZ200107_1,       P17C,      23,          1,          0,        -99,9,20010807,       1142,    31.5325,  -134.9972,       4571,     4.5,-999.0000,9,-999.0000,9,  34.0066,2,  -999.00,9,  227.35,2,    2.28,2,    0.14,2,    0.01,2,    0.19,2,-999.000,9,-999.000,9,-999.000,9,  -999.0,9,  -999.0,9, -999.000,  -999.00, -999.00,9, -999.00,  -999.0,9,  -999.0,-999.0000,9
49NZ200107_1,       P17C,      23,          1,         36,         36,2,20010807,       1142,    31.5325,  -134.9972,       4571,    11.5,  20.4356,2,  33.9766,2,  33.9691,2,   222.00,1,  233.34,2,    2.57,2,    0.07,2,    0.00,2,    0.15,2,-999.000,9,-999.000,9,-999.000,9,  -999.0,9,  -999.0,9, -999.000,  -999.00, -999.00,9, -999.00,  -999.0,9,  -999.0,  23.8669,2
49NZ200107_1,       P17C,      23,          1,         35,         35,2,20010807,       1142,    31.5325,  -134.9972,       4571,    25.9,  20.2554,2,  33.9586,2,  33.8996,2,   222.87,1,  253.08,2,    2.49,2,    0.02,2,    0.00,2,    0.14,2,-999.000,9,-999.000,9,-999.000,9,  -999.0,9,  -999.0,9, -999.000,  -999.00, -999.00,9, -999.00,  -999.0,9,  -999.0,  23.9016,2
49NZ200107_1,       P17C,      23,          1,         34,         34,3,20010807,       1142,    31.5325,  -134.9972,       4571,    51.2,  17.0011,2,  33.7846,2,  33.8255,2,   249.85,1,  260.25,2,    2.68,2,    0.01,2,    0.01,2,    0.15,2,-999.000,9,-999.000,9,-999.000,9,  -999.0,9,  -999.0,9, -999.000,  -999.00, -999.00,9, -999.00,  -999.0,9,  -999.0,  24.5832,2
49NZ200107_1,       P17C,      23,          1,         33,         33,2,20010807,       1142,    31.5325,  -134.9972,       4571,    76.3,  16.5507,2,  33.9910,2,  34.0042,2,   244.60,1,  255.52,2,    2.76,2,    0.01,2,    0.00,2,    0.14,2,-999.000,9,-999.000,9,-999.000,9,  -999.0,9,  -999.0,9, -999.000,  -999.00, -999.00,9, -999.00,  -999.0,9,  -999.0,  24.8479,2
49NZ200107_1,       P17C,      23,          1,         32,         32,2,20010807,       1142,    31.5325,  -134.9972,       4571,   101.3,  16.3847,2,  34.1232,2,  34.1650,2,   239.84,1,  248.20,2,    2.79,2,    0.01,2,    0.00,2,    0.13,2,-999.000,9,-999.000,9,-999.000,9,  -999.0,9,  -999.0,9, -999.000,  -999.00, -999.00,9, -999.00,  -999.0,9,  -999.0,  24.9888,2
49NZ200107_1,       P17C,      23,          1,         31,         31,2,20010807,       1142,    31.5325,  -134.9972,       4571,   152.1,  13.6087,2,  33.8819,2,  33.8558,2,   227.34,1,  237.65,2,    4.19,2,    2.66,2,    0.02,2,    0.36,2,-999.000,9,-999.000,9,-999.000,9,  -999.0,9,  -999.0,9, -999.000,  -999.00, -999.00,9, -999.00,  -999.0,9,  -999.0,  25.4083,2
49NZ200107_1,       P17C,      23,          1,         30,         30,2,20010807,       1142,    31.5325,  -134.9972,       4571,   202.5,  10.5576,2,  33.7214,2,  33.7443,2,   224.30,1,  232.99,2,    8.58,2,    8.96,2,    0.00,2,    0.72,2,-999.000,9,-999.000,9,-999.000,9,  -999.0,9,  -999.0,9, -999.000,  -999.00, -999.00,9, -999.00,  -999.0,9,  -999.0,  25.8622,2
49NZ200107_1,       P17C,      23,          1,         29,         29,2,20010807,       1142,    31.5325,  -134.9972,       4571,   252.7,   9.5798,2,  33.9167,2,  33.9403,2,   205.83,1,  211.48,2,   16.24,2,   15.30,2,    0.00,2,    1.09,2,-999.000,9,-999.000,9,-999.000,9,  -999.0,9,  -999.0,9, -999.000,  -999.00, -999.00,9, -999.00,  -999.0,9,  -999.0,  26.1808,2
49NZ200107_1,       P17C,      23,          1,         28,         28,2,20010807,       1142,    31.5325,  -134.9972,       4571,   303.5,   8.8611,2,  34.0304,2,  34.0304,2,   178.61,1,  185.09,2,   24.42,2,   20.69,2,    0.01,2,    1.40,2,-999.000,9,-999.000,9,-999.000,9,  -999.0,9,  -999.0,9, -999.000,  -999.00, -999.00,9, -999.00,  -999.0,9,  -999.0,  26.3859,2
49NZ200107_1,       P17C,      23,          1,         27,         27,2,20010807,       1142,    31.5325,  -134.9972,       4571,   353.1,   8.0558,2,  34.0292,2,  34.0259,2,   153.96,1,  161.10,2,   31.76,2,   24.68,2,    0.00,2,    1.68,2,-999.000,9,-999.000,9,-999.000,9,  -999.0,9,  -999.0,9, -999.000,  -999.00, -999.00,9, -999.00,  -999.0,9,  -999.0,  26.5084,2
49NZ200107_1,       P17C,      23,          1,         26,         26,2,20010807,       1142,    31.5325,  -134.9972,       4571,   404.2,   7.0789,2,  34.0005,2,  33.9994,2,   128.87,1,  135.06,2,   40.58,2,   28.90,2,    0.00,2,    2.01,2,-999.000,9,-999.000,9,-999.000,9,  -999.0,9,  -999.0,9, -999.000,  -999.00, -999.00,9, -999.00,  -999.0,9,  -999.0,  26.6258,2
49NZ200107_1,       P17C,      23,          1,         25,         25,2,20010807,       1142,    31.5325,  -134.9972,       4571,   504.6,   5.8494,2,  34.0040,2,  34.0042,2,    87.99,1,   89.47,2,   57.81,2,   35.30,2,    0.01,2,    2.49,2,-999.000,9,-999.000,9,-999.000,9,  -999.0,9,  -999.0,9, -999.000,  -999.00, -999.00,9, -999.00,  -999.0,9,  -999.0,  26.7898,2
49NZ200107_1,       P17C,      23,          1,         24,         24,2,20010807,       1142,    31.5325,  -134.9972,       4571,   605.5,   5.0074,2,  34.1051,2,  34.1054,2,    42.50,1,   40.50,2,   77.64,2,   40.84,2,   -0.01,2,    2.90,2,-999.000,9,-999.000,9,-999.000,9,  -999.0,9,  -999.0,9, -999.000,  -999.00, -999.00,9, -999.00,  -999.0,9,  -999.0,  26.9704,2
49NZ200107_1,       P17C,      23,          1,         23,         23,2,20010807,       1142,    31.5325,  -134.9972,       4571,   707.0,   4.5803,2,  34.2158,2,  34.2172,2,    22.11,1,   16.85,2,   92.00,2,   43.12,2,    0.00,2,    3.14,2,-999.000,9,-999.000,9,-999.000,9,  -999.0,9,  -999.0,9, -999.000,  -999.00, -999.00,9, -999.00,  -999.0,9,  -999.0,  27.1066,2
49NZ200107_1,       P17C,      23,          1,         22,         22,2,20010807,       1142,    31.5325,  -134.9972,       4571,   808.3,   4.2173,2,  34.3077,2,  34.3068,2,    16.87,1,   11.30,3,  102.24,2,   44.13,2,    0.00,2,    3.21,2,-999.000,9,-999.000,9,-999.000,9,  -999.0,9,  -999.0,9, -999.000,  -999.00, -999.00,9, -999.00,  -999.0,9,  -999.0,  27.2192,2
49NZ200107_1,       P17C,      23,          1,         21,         21,2,20010807,       1142,    31.5325,  -134.9972,       4571,   909.0,   3.8689,2,  34.3756,2,  34.3756,2,    19.49,1,   13.56,2,  110.85,2,   44.62,2,    0.00,2,    3.25,2,-999.000,9,-999.000,9,-999.000,9,  -999.0,9,  -999.0,9, -999.000,  -999.00, -999.00,9, -999.00,  -999.0,9,  -999.0,  27.3097,2
49NZ200107_1,       P17C,      23,          1,         20,         20,2,20010807,       1142,    31.5325,  -134.9972,       4571,  1010.1,   3.6601,2,  34.4299,2,  34.4303,2,    25.55,1,   19.47,2,  115.94,2,   44.60,2,    0.01,2,    3.25,2,-999.000,9,-999.000,9,-999.000,9,  -999.0,9,  -999.0,9, -999.000,  -999.00, -999.00,9, -999.00,  -999.0,9,  -999.0,  27.3744,2
49NZ200107_1,       P17C,      23,          1,         19,         19,2,20010807,       1142,    31.5325,  -134.9972,       4571,  1111.4,   3.4345,2,  34.4717,2,  34.4707,2,    32.37,1,   27.00,2,  120.74,2,   44.22,2,    0.01,2,    3.18,2,-999.000,9,-999.000,9,-999.000,9,  -999.0,9,  -999.0,9, -999.000,  -999.00, -999.00,9, -999.00,  -999.0,9,  -999.0,  27.4302,2
49NZ200107_1,       P17C,      23,          1,         18,         18,2,20010807,       1142,    31.5325,  -134.9972,       4571,  1212.8,   3.2010,2,  34.5060,2,  34.5053,2,    40.01,1,   35.05,2,  125.87,2,   43.93,2,    0.00,2,    3.18,2,-999.000,9,-999.000,9,-999.000,9,  -999.0,9,  -999.0,9, -999.000,  -999.00, -999.00,9, -999.00,  -999.0,9,  -999.0,  27.4802,2
49NZ200107_1,       P17C,      23,          1,         17,         17,2,20010807,       1142,    31.5325,  -134.9972,       4571,  1313.5,   3.0229,2,  34.5283,2,  34.5273,2,    45.86,1,   41.06,2,  130.23,2,   43.60,2,    0.00,2,    3.15,2,-999.000,9,-999.000,9,-999.000,9,  -999.0,9,  -999.0,9, -999.000,  -999.00, -999.00,9, -999.00,  -999.0,9,  -999.0,  27.5149,2
49NZ200107_1,       P17C,      23,          1,         16,         16,2,20010807,       1142,    31.5325,  -134.9972,       4571,  1415.2,   2.8459,2,  34.5473,2,  34.5475,2,    51.56,1,   48.18,3,  134.34,2,   43.29,2,    0.00,2,    3.13,2,-999.000,9,-999.000,9,-999.000,9,  -999.0,9,  -999.0,9, -999.000,  -999.00, -999.00,9, -999.00,  -999.0,9,  -999.0,  27.5465,2
49NZ200107_1,       P17C,      23,          1,         15,         15,2,20010807,       1142,    31.5325,  -134.9972,       4571,  1618.1,   2.5058,2,  34.5775,2,  34.5769,2,    61.80,1,   58.21,2,  142.99,2,   42.69,2,    0.01,2,    3.08,2,-999.000,9,-999.000,9,-999.000,9,  -999.0,9,  -999.0,9, -999.000,  -999.00, -999.00,9, -999.00,  -999.0,9,  -999.0,  27.6011,2
49NZ200107_1,       P17C,      23,          1,         14,         14,2,20010807,       1142,    31.5325,  -134.9972,       4571,  1821.6,   2.2460,2,  34.6024,2,  34.6024,2,    71.83,1,   69.45,2,  149.20,2,   41.89,2,   -0.01,2,    3.00,2,-999.000,9,-999.000,9,-999.000,9,  -999.0,9,  -999.0,9, -999.000,  -999.00, -999.00,9, -999.00,  -999.0,9,  -999.0,  27.6434,2
49NZ200107_1,       P17C,      23,          1,         13,         13,2,20010807,       1142,    31.5325,  -134.9972,       4571,  2024.7,   2.0546,2,  34.6180,2,  34.6180,2,    79.45,1,   77.43,2,  153.70,2,   41.54,2,   -0.01,2,    2.95,2,-999.000,9,-999.000,9,-999.000,9,  -999.0,9,  -999.0,9, -999.000,  -999.00, -999.00,9, -999.00,  -999.0,9,  -999.0,  27.6723,2
49NZ200107_1,       P17C,      23,          1,         12,         12,2,20010807,       1142,    31.5325,  -134.9972,       4571,  2227.7,   1.9034,2,  34.6334,2,  34.6334,2,    88.58,1, -999.00,5,  156.84,2,   40.98,2,    0.00,2,    2.88,2,-999.000,9,-999.000,9,-999.000,9,  -999.0,9,  -999.0,9, -999.000,  -999.00, -999.00,9, -999.00,  -999.0,9,  -999.0,  27.6975,2
49NZ200107_1,       P17C,      23,          1,         11,         11,2,20010807,       1142,    31.5325,  -134.9972,       4571,  2431.5,   1.7897,2,  34.6445,2,  34.6443,2,    96.62,1,   95.65,2,  156.70,2,   40.29,2,    0.00,2,    2.81,2,-999.000,9,-999.000,9,-999.000,9,  -999.0,9,  -999.0,9, -999.000,  -999.00, -999.00,9, -999.00,  -999.0,9,  -999.0,  27.7161,2
49NZ200107_1,       P17C,      23,          1,         10,         10,2,20010807,       1142,    31.5325,  -134.9972,       4571,  2635.3,   1.6968,2,  34.6532,2,  34.6533,2,   104.19,1,  103.80,2,  158.27,2,   39.71,2,   -0.01,2,    2.79,2,-999.000,9,-999.000,9,-999.000,9,  -999.0,9,  -999.0,9, -999.000,  -999.00, -999.00,9, -999.00,  -999.0,9,  -999.0,  27.7311,2
49NZ200107_1,       P17C,      23,          1,          9,          9,2,20010807,       1142,    31.5325,  -134.9972,       4571,  2839.2,   1.6182,2,  34.6606,2,  34.6607,2,   110.71,1,  110.65,2,  159.22,2,   39.31,2,   -0.01,2,    2.76,2,-999.000,9,-999.000,9,-999.000,9,  -999.0,9,  -999.0,9, -999.000,  -999.00, -999.00,9, -999.00,  -999.0,9,  -999.0,  27.7440,2
49NZ200107_1,       P17C,      23,          1,          8,          8,2,20010807,       1142,    31.5325,  -134.9972,       4571,  3044.0,   1.5638,2,  34.6668,2,  34.6669,2,   117.32,1,  117.14,2,  159.25,2,   39.02,2,    0.00,2,    2.73,2,-999.000,9,-999.000,9,-999.000,9,  -999.0,9,  -999.0,9, -999.000,  -999.00, -999.00,9, -999.00,  -999.0,9,  -999.0,  27.7542,2
49NZ200107_1,       P17C,      23,          1,          7,          7,2,20010807,       1142,    31.5325,  -134.9972,       4571,  3299.3,   1.5109,2,  34.6737,2,  34.6736,2,   125.99,1,  126.41,2,  158.16,2,   38.34,2,    0.00,2,    2.69,2,-999.000,9,-999.000,9,-999.000,9,  -999.0,9,  -999.0,9, -999.000,  -999.00, -999.00,9, -999.00,  -999.0,9,  -999.0,  27.7651,2
49NZ200107_1,       P17C,      23,          1,          6,          6,2,20010807,       1142,    31.5325,  -134.9972,       4571,  3555.1,   1.4829,2,  34.6791,2,  34.6791,2,   133.74,1,  133.92,2,  155.57,2,   37.90,2,    0.01,2,    2.66,2,-999.000,9,-999.000,9,-999.000,9,  -999.0,9,  -999.0,9, -999.000,  -999.00, -999.00,9, -999.00,  -999.0,9,  -999.0,  27.7731,2
49NZ200107_1,       P17C,      23,          1,          5,          5,2,20010807,       1142,    31.5325,  -134.9972,       4571,  3811.2,   1.4790,2,  34.6825,2,  34.6823,2,   139.76,1,  139.24,2,  153.19,2,   37.45,2,    0.01,2,    2.65,2,-999.000,9,-999.000,9,-999.000,9,  -999.0,9,  -999.0,9, -999.000,  -999.00, -999.00,9, -999.00,  -999.0,9,  -999.0,  27.7780,2
49NZ200107_1,       P17C,      23,          1,          4,          4,2,20010807,       1142,    31.5325,  -134.9972,       4571,  4067.6,   1.4912,2,  34.6842,2,  34.6843,2,   143.56,1,  142.49,2,  151.54,2,   37.26,2,    0.00,2,    2.62,2,-999.000,9,-999.000,9,-999.000,9,  -999.0,9,  -999.0,9, -999.000,  -999.00, -999.00,9, -999.00,  -999.0,9,  -999.0,  27.7804,2
49NZ200107_1,       P17C,      23,          1,          3,          3,2,20010807,       1142,    31.5325,  -134.9972,       4571,  4323.6,   1.5130,2,  34.6850,2,  34.6849,2,   146.39,1,  144.25,2,  150.56,2,   37.22,2,    0.00,2,    2.61,2,-999.000,9,-999.000,9,-999.000,9,  -999.0,9,  -999.0,9, -999.000,  -999.00, -999.00,9, -999.00,  -999.0,9,  -999.0,  27.7816,2
49NZ200107_1,       P17C,      23,          1,          2,          2,3,20010807,       1142,    31.5325,  -134.9972,       4571,  4580.7,   1.5397,2,  34.6853,2,  34.6849,2,   148.96,1,  144.66,2,  150.24,2,   36.88,2,    0.00,2,    2.58,2,-999.000,9,-999.000,9,-999.000,9,  -999.0,9,  -999.0,9, -999.000,  -999.00, -999.00,9, -999.00,  -999.0,9,  -999.0,  27.7821,2
49NZ200107_1,       P17C,      23,          1,          1,          1,2,20010807,       1142,    31.5325,  -134.9972,       4571,  4655.1,   1.5464,2,  34.6854,2,  34.6854,2,   150.07,1,  145.43,2,  150.50,2,   37.14,2,    0.01,2,    2.60,2,-999.000,9,-999.000,9,-999.000,9,  -999.0,9,  -999.0,9, -999.000,  -999.00, -999.00,9, -999.00,  -999.0,9,  -999.0,  27.7823,2