BOTTLE,20220817CCHSIOAMB
EXPOCODE,SECT_ID,STNNBR,CASTNO,SAMPNO,BTLNBR,BTLNBR_FLAG_W,DATE,TIME,LATITUDE,LONGITUDE,DEPTH,CTDPRS,CTDTMP,CTDTMP_FLAG_W,CTDSAL,CTDSAL_FLAG_W,SALNTY,SALNTY_FLAG_W,CTDOXY,CTDOXY_FLAG_W,OXYGEN,OXYGEN_FLAG_W,SILCAT,SILCAT_FLAG_W,NITRAT,NITRAT_FLAG_W,NITRIT,NITRIT_FLAG_W,PHSPHT,PHSPHT_FLAG_W,CFC-11,CFC-11_FLAG_W,CFC-12,CFC-12_FLAG_W,CFC113,CFC113_FLAG_W,TCARBN,TCARBN_FLAG_W,ALKALI,ALKALI_FLAG_W,PH_TOT,PH_TMP,DELC13,DELC13_FLAG_W,C13ERR,DELC14,DELC14_FLAG_W,C14ERR,THETA,THETA_FLAG_W
,,,,,,,,,,,METERS,DBAR,ITS-90,,PSS-78,,PSS-78,,UMOL/KG,,UMOL/KG,,UMOL/KG,,UMOL/KG,,UMOL/KG,,UMOL/KG,,PMOL/KG,,PMOL/KG,,PMOL/KG,,UMOL/KG,,UMOL/KG,,,DEG C,/MILLE,,/MILLE,/MILLE,,/MILLE,DEG C,
49NZ200107_1,       P17N,      61,          1,          0,        -99,9,20010816,       1026,    45.9182,  -142.8028,       4581,     4.5,-999.0000,9,-999.0000,9,  32.3945,2,  -999.00,9,  270.48,2,   12.92,2,    4.27,2,    0.08,2,    0.68,2,-999.000,9,-999.000,9,-999.000,9,  -999.0,9,  -999.0,9, -999.000,  -999.00, -999.00,9, -999.00,  -999.0,9,  -999.0,-999.0000,9
49NZ200107_1,       P17N,      61,          1,         36,         36,3,20010816,       1026,    45.9182,  -142.8028,       4581,    10.9,  14.4193,2,  32.3999,2,  32.3973,2,   260.76,1,  271.01,2,   12.17,2,    4.23,2,    0.08,2,    0.65,2,-999.000,9,-999.000,9,-999.000,9,  -999.0,9,  -999.0,9, -999.000,  -999.00, -999.00,9, -999.00,  -999.0,9,  -999.0,  24.0918,2
49NZ200107_1,       P17N,      61,          1,         35,         35,2,20010816,       1026,    45.9182,  -142.8028,       4581,    26.5,  13.5591,2,  32.4229,2,  32.4520,2,   283.01,1,  292.96,2,   12.55,2,    5.04,2,    0.08,2,    0.73,2,-999.000,9,-999.000,9,-999.000,9,  -999.0,9,  -999.0,9, -999.000,  -999.00, -999.00,9, -999.00,  -999.0,9,  -999.0,  24.2867,2
49NZ200107_1,       P17N,      61,          1,         34,         34,2,20010816,       1026,    45.9182,  -142.8028,       4581,    51.3,   8.4516,2,  32.5055,2,  32.5120,2,   284.88,1,  302.83,2,   15.38,2,    9.02,2,    0.10,2,    1.01,2,-999.000,9,-999.000,9,-999.000,9,  -999.0,9,  -999.0,9, -999.000,  -999.00, -999.00,9, -999.00,  -999.0,9,  -999.0,  25.2496,2
49NZ200107_1,       P17N,      61,          1,         33,         33,2,20010816,       1026,    45.9182,  -142.8028,       4581,    76.5,   7.4377,2,  32.5679,2,  32.5679,2,   276.00,1,  290.24,2,   16.00,2,   11.69,2,    0.83,2,    1.13,2,-999.000,9,-999.000,9,-999.000,9,  -999.0,9,  -999.0,9, -999.000,  -999.00, -999.00,9, -999.00,  -999.0,9,  -999.0,  25.4448,2
49NZ200107_1,       P17N,      61,          1,         32,         32,2,20010816,       1026,    45.9182,  -142.8028,       4581,   102.3,   6.7270,2,  32.5661,2,  32.5689,2,   276.22,1,  291.90,2,   17.89,2,   13.41,2,    0.02,2,    1.23,2,-999.000,9,-999.000,9,-999.000,9,  -999.0,9,  -999.0,9, -999.000,  -999.00, -999.00,9, -999.00,  -999.0,9,  -999.0,  25.5391,2
49NZ200107_1,       P17N,      61,          1,         31,         31,2,20010816,       1026,    45.9182,  -142.8028,       4581,   152.4,   5.7761,2,  32.9532,2,  32.9714,2,   252.55,1,  268.71,2,   26.52,2,   18.40,2,    0.02,2,    1.48,2,-999.000,9,-999.000,9,-999.000,9,  -999.0,9,  -999.0,9, -999.000,  -999.00, -999.00,9, -999.00,  -999.0,9,  -999.0,  25.9642,2
49NZ200107_1,       P17N,      61,          1,         30,         30,3,20010816,       1026,    45.9182,  -142.8028,       4581,   202.6,   6.2655,2,  33.7207,2,  33.7256,2,   190.21,1,  203.70,2,   37.81,2,   23.70,2,    0.01,2,    1.71,2,-999.000,9,-999.000,9,-999.000,9,  -999.0,9,  -999.0,9, -999.000,  -999.00, -999.00,9, -999.00,  -999.0,9,  -999.0,  26.5104,2
49NZ200107_1,       P17N,      61,          1,         29,         29,2,20010816,       1026,    45.9182,  -142.8028,       4581,   253.3,   5.4995,2,  33.8307,2,  33.8302,2,   140.03,1,  146.11,2,   54.04,2,   30.99,2,    0.02,2,    2.20,2,-999.000,9,-999.000,9,-999.000,9,  -999.0,9,  -999.0,9, -999.000,  -999.00, -999.00,9, -999.00,  -999.0,9,  -999.0,  26.6924,2
49NZ200107_1,       P17N,      61,          1,         28,         28,2,20010816,       1026,    45.9182,  -142.8028,       4581,   303.6,   4.9776,2,  33.8629,2,  33.8626,2,   110.99,1,  115.77,2,   63.59,2,   34.94,2,    0.01,2,    2.42,2,-999.000,9,-999.000,9,-999.000,9,  -999.0,9,  -999.0,9, -999.000,  -999.00, -999.00,9, -999.00,  -999.0,9,  -999.0,  26.7789,2
49NZ200107_1,       P17N,      61,          1,         27,         27,2,20010816,       1026,    45.9182,  -142.8028,       4581,   354.2,   4.6217,2,  33.9021,2,  33.9022,2,    90.69,1,   92.50,2,   71.79,2,   37.74,2,    0.01,2,    2.63,2,-999.000,9,-999.000,9,-999.000,9,  -999.0,9,  -999.0,9, -999.000,  -999.00, -999.00,9, -999.00,  -999.0,9,  -999.0,  26.8499,2
49NZ200107_1,       P17N,      61,          1,         26,         26,2,20010816,       1026,    45.9182,  -142.8028,       4581,   404.5,   4.4975,2,  33.9583,2,  33.9590,2,    77.56,1,   77.29,2,   78.70,2,   39.11,2,    0.01,2,    2.74,2,-999.000,9,-999.000,9,-999.000,9,  -999.0,9,  -999.0,9, -999.000,  -999.00, -999.00,9, -999.00,  -999.0,9,  -999.0,  26.9084,2
49NZ200107_1,       P17N,      61,          1,         25,         25,2,20010816,       1026,    45.9182,  -142.8028,       4581,   505.5,   4.2395,2,  34.0684,2,  34.0674,2,    55.19,1,   53.02,2,   91.54,2,   41.05,2,    0.01,2,    2.88,2,-999.000,9,-999.000,9,-999.000,9,  -999.0,9,  -999.0,9, -999.000,  -999.00, -999.00,9, -999.00,  -999.0,9,  -999.0,  27.0241,2
49NZ200107_1,       P17N,      61,          1,         24,         24,2,20010816,       1026,    45.9182,  -142.8028,       4581,   606.7,   3.9510,2,  34.1553,2,  34.1548,2,    38.96,1,   34.57,2,  103.77,2,   42.71,2,    0.00,2,    2.99,2,-999.000,9,-999.000,9,-999.000,9,  -999.0,9,  -999.0,9, -999.000,  -999.00, -999.00,9, -999.00,  -999.0,9,  -999.0,  27.1237,2
49NZ200107_1,       P17N,      61,          1,         23,         23,2,20010816,       1026,    45.9182,  -142.8028,       4581,   708.1,   3.6567,2,  34.2246,2,  34.2272,2,    28.91,1,   22.90,2,  115.09,2,   43.77,2,    0.00,2,    3.08,2,-999.000,9,-999.000,9,-999.000,9,  -999.0,9,  -999.0,9, -999.000,  -999.00, -999.00,9, -999.00,  -999.0,9,  -999.0,  27.2088,2
49NZ200107_1,       P17N,      61,          1,         22,         22,2,20010816,       1026,    45.9182,  -142.8028,       4581,   809.2,   3.3968,2,  34.2806,2,  34.2797,2,    20.32,1,   13.21,2,  123.61,2,   44.67,2,    0.00,2,    3.15,2,-999.000,9,-999.000,9,-999.000,9,  -999.0,9,  -999.0,9, -999.000,  -999.00, -999.00,9, -999.00,  -999.0,9,  -999.0,  27.2791,2
49NZ200107_1,       P17N,      61,          1,         21,         21,2,20010816,       1026,    45.9182,  -142.8028,       4581,   910.2,   3.1747,2,  34.3286,2,  34.3297,2,    18.21,1,   10.84,2,  130.91,2,   45.02,2,    0.00,2,    3.18,2,-999.000,9,-999.000,9,-999.000,9,  -999.0,9,  -999.0,9, -999.000,  -999.00, -999.00,9, -999.00,  -999.0,9,  -999.0,  27.3388,2
49NZ200107_1,       P17N,      61,          1,         20,         20,2,20010816,       1026,    45.9182,  -142.8028,       4581,  1011.3,   3.0188,2,  34.3688,2,  34.3687,2,    17.52,1,   10.06,2,  136.04,2,   45.26,2,    0.00,2,    3.19,2,-999.000,9,-999.000,9,-999.000,9,  -999.0,9,  -999.0,9, -999.000,  -999.00, -999.00,9, -999.00,  -999.0,9,  -999.0,  27.3857,2
49NZ200107_1,       P17N,      61,          1,         19,         19,2,20010816,       1026,    45.9182,  -142.8028,       4581,  1113.1,   2.8536,2,  34.4092,2,  34.4075,2,    18.00,1,   10.35,2,  141.94,2,   45.16,2,    0.01,2,    3.18,2,-999.000,9,-999.000,9,-999.000,9,  -999.0,9,  -999.0,9, -999.000,  -999.00, -999.00,9, -999.00,  -999.0,9,  -999.0,  27.4333,2
49NZ200107_1,       P17N,      61,          1,         18,         18,2,20010816,       1026,    45.9182,  -142.8028,       4581,  1214.5,   2.7203,2,  34.4325,2,  34.4324,2,    19.53,1,   11.74,2,  144.86,2,   45.26,2,    0.00,2,    3.18,2,-999.000,9,-999.000,9,-999.000,9,  -999.0,9,  -999.0,9, -999.000,  -999.00, -999.00,9, -999.00,  -999.0,9,  -999.0,  27.4642,2
49NZ200107_1,       P17N,      61,          1,         17,         17,2,20010816,       1026,    45.9182,  -142.8028,       4581,  1315.6,   2.5723,2,  34.4606,2,  34.4611,2,    21.65,1,   13.89,2,  149.47,2,   45.30,2,    0.01,2,    3.19,2,-999.000,9,-999.000,9,-999.000,9,  -999.0,9,  -999.0,9, -999.000,  -999.00, -999.00,9, -999.00,  -999.0,9,  -999.0,  27.4999,2
49NZ200107_1,       P17N,      61,          1,         16,         16,2,20010816,       1026,    45.9182,  -142.8028,       4581,  1417.1,   2.4509,2,  34.4857,2,  34.4853,2,    24.64,1,   16.66,2,  152.38,2,   45.19,2,    0.00,2,    3.17,2,-999.000,9,-999.000,9,-999.000,9,  -999.0,9,  -999.0,9, -999.000,  -999.00, -999.00,9, -999.00,  -999.0,9,  -999.0,  27.5308,2
49NZ200107_1,       P17N,      61,          1,         15,         15,2,20010816,       1026,    45.9182,  -142.8028,       4581,  1620.3,   2.2462,2,  34.5294,2,  34.5299,2,    35.49,1,   28.34,2,  157.12,2,   44.48,2,    0.00,2,    3.12,2,-999.000,9,-999.000,9,-999.000,9,  -999.0,9,  -999.0,9, -999.000,  -999.00, -999.00,9, -999.00,  -999.0,9,  -999.0,  27.5836,2
49NZ200107_1,       P17N,      61,          1,         14,         14,2,20010816,       1026,    45.9182,  -142.8028,       4581,  1823.8,   2.0725,2,  34.5654,2,  34.5651,2,    48.62,1,   42.24,2,  160.80,2,   43.65,2,    0.00,2,    3.07,2,-999.000,9,-999.000,9,-999.000,9,  -999.0,9,  -999.0,9, -999.000,  -999.00, -999.00,9, -999.00,  -999.0,9,  -999.0,  27.6274,2
49NZ200107_1,       P17N,      61,          1,         13,         13,2,20010816,       1026,    45.9182,  -142.8028,       4581,  2026.8,   1.9376,2,  34.5920,2,  34.5918,2,    60.84,1,   55.80,2,  163.36,2,   42.80,2,    0.00,2,    3.01,2,-999.000,9,-999.000,9,-999.000,9,  -999.0,9,  -999.0,9, -999.000,  -999.00, -999.00,9, -999.00,  -999.0,9,  -999.0,  27.6603,2
49NZ200107_1,       P17N,      61,          1,         12,         12,2,20010816,       1026,    45.9182,  -142.8028,       4581,  2231.2,   1.8393,2,  34.6119,2,  34.6120,2,    71.64,1,   66.88,2,  164.17,2,   42.10,2,    0.00,2,    2.97,2,-999.000,9,-999.000,9,-999.000,9,  -999.0,9,  -999.0,9, -999.000,  -999.00, -999.00,9, -999.00,  -999.0,9,  -999.0,  27.6850,2
49NZ200107_1,       P17N,      61,          1,         11,         11,2,20010816,       1026,    45.9182,  -142.8028,       4581,  2434.7,   1.7508,2,  34.6276,2,  34.6278,2,    82.68,1,   78.70,2,  163.28,2,   41.31,2,    0.01,2,    2.90,2,-999.000,9,-999.000,9,-999.000,9,  -999.0,9,  -999.0,9, -999.000,  -999.00, -999.00,9, -999.00,  -999.0,9,  -999.0,  27.7054,2
49NZ200107_1,       P17N,      61,          1,         10,         10,2,20010816,       1026,    45.9182,  -142.8028,       4581,  2639.1,   1.6688,2,  34.6411,2,  34.6411,2,    93.91,1,   91.05,2,  162.55,2,   40.56,2,    0.01,2,    2.84,2,-999.000,9,-999.000,9,-999.000,9,  -999.0,9,  -999.0,9, -999.000,  -999.00, -999.00,9, -999.00,  -999.0,9,  -999.0,  27.7234,2
49NZ200107_1,       P17N,      61,          1,          9,          9,2,20010816,       1026,    45.9182,  -142.8028,       4581,  2843.3,   1.6076,2,  34.6509,2,  34.6509,2,   103.61,1,  101.42,2,  161.69,2,   39.95,2,    0.01,2,    2.80,2,-999.000,9,-999.000,9,-999.000,9,  -999.0,9,  -999.0,9, -999.000,  -999.00, -999.00,9, -999.00,  -999.0,9,  -999.0,  27.7370,2
49NZ200107_1,       P17N,      61,          1,          8,          8,2,20010816,       1026,    45.9182,  -142.8028,       4581,  3047.3,   1.5639,2,  34.6590,2,  34.6594,2,   112.24,1,  110.43,2,  161.05,2,   39.34,2,    0.00,2,    2.77,2,-999.000,9,-999.000,9,-999.000,9,  -999.0,9,  -999.0,9, -999.000,  -999.00, -999.00,9, -999.00,  -999.0,9,  -999.0,  27.7479,2
49NZ200107_1,       P17N,      61,          1,          7,          7,2,20010816,       1026,    45.9182,  -142.8028,       4581,  3303.3,   1.5238,2,  34.6675,2,  34.6669,2,   122.16,1,  120.25,2,  160.25,2,   38.64,2,    0.01,2,    2.71,2,-999.000,9,-999.000,9,-999.000,9,  -999.0,9,  -999.0,9, -999.000,  -999.00, -999.00,9, -999.00,  -999.0,9,  -999.0,  27.7593,2
49NZ200107_1,       P17N,      61,          1,          6,          6,2,20010816,       1026,    45.9182,  -142.8028,       4581,  3559.7,   1.5004,2,  34.6743,2,  34.6745,2,   130.17,1,  128.10,2,  159.84,2,   38.15,2,    0.01,2,    2.67,2,-999.000,9,-999.000,9,-999.000,9,  -999.0,9,  -999.0,9, -999.000,  -999.00, -999.00,9, -999.00,  -999.0,9,  -999.0,  27.7681,2
49NZ200107_1,       P17N,      61,          1,          5,          5,2,20010816,       1026,    45.9182,  -142.8028,       4581,  3815.5,   1.4965,2,  34.6782,2,  34.6782,2,   136.13,1,  133.35,2,  159.74,2,   37.82,2,    0.00,2,    2.65,2,-999.000,9,-999.000,9,-999.000,9,  -999.0,9,  -999.0,9, -999.000,  -999.00, -999.00,9, -999.00,  -999.0,9,  -999.0,  27.7734,2
49NZ200107_1,       P17N,      61,          1,          4,          4,2,20010816,       1026,    45.9182,  -142.8028,       4581,  4072.7,   1.5103,2,  34.6815,2,  34.6817,2,   138.63,1,  134.90,2,  163.19,2,   37.75,2,    0.00,2,    2.64,2,-999.000,9,-999.000,9,-999.000,9,  -999.0,9,  -999.0,9, -999.000,  -999.00, -999.00,9, -999.00,  -999.0,9,  -999.0,  27.7770,2
49NZ200107_1,       P17N,      61,          1,          3,          3,2,20010816,       1026,    45.9182,  -142.8028,       4581,  4329.5,   1.5265,2,  34.6830,2,  34.6830,2,   142.31,1,  137.22,2,  162.83,2,   37.64,2,    0.00,2,    2.62,2,-999.000,9,-999.000,9,-999.000,9,  -999.0,9,  -999.0,9, -999.000,  -999.00, -999.00,9, -999.00,  -999.0,9,  -999.0,  27.7791,2
49NZ200107_1,       P17N,      61,          1,          2,          2,2,20010816,       1026,    45.9182,  -142.8028,       4581,  4586.9,   1.5532,2,  34.6845,2,  34.6846,2,   143.97,1,  137.41,2,  163.76,2,   37.56,2,    0.00,2,    2.59,2,-999.000,9,-999.000,9,-999.000,9,  -999.0,9,  -999.0,9, -999.000,  -999.00, -999.00,9, -999.00,  -999.0,9,  -999.0,  27.7806,2
49NZ200107_1,       P17N,      61,          1,          1,          1,2,20010816,       1026,    45.9182,  -142.8028,       4581,  4653.8,   1.5603,2,  34.6850,2,  34.6847,2,   144.52,1,  136.96,2,  164.13,2,   37.59,2,    0.01,2,    2.60,2,-999.000,9,-999.000,9,-999.000,9,  -999.0,9,  -999.0,9, -999.000,  -999.00, -999.00,9, -999.00,  -999.0,9,  -999.0,  27.7811,2