BOTTLE,20220817CCHSIOAMB
EXPOCODE,SECT_ID,STNNBR,CASTNO,SAMPNO,BTLNBR,BTLNBR_FLAG_W,DATE,TIME,LATITUDE,LONGITUDE,DEPTH,CTDPRS,CTDTMP,CTDTMP_FLAG_W,CTDSAL,CTDSAL_FLAG_W,SALNTY,SALNTY_FLAG_W,CTDOXY,CTDOXY_FLAG_W,OXYGEN,OXYGEN_FLAG_W,SILCAT,SILCAT_FLAG_W,NITRAT,NITRAT_FLAG_W,NITRIT,NITRIT_FLAG_W,PHSPHT,PHSPHT_FLAG_W,CFC-11,CFC-11_FLAG_W,CFC-12,CFC-12_FLAG_W,CFC113,CFC113_FLAG_W,TCARBN,TCARBN_FLAG_W,ALKALI,ALKALI_FLAG_W,PH_TOT,PH_TMP,DELC13,DELC13_FLAG_W,C13ERR,DELC14,DELC14_FLAG_W,C14ERR,THETA,THETA_FLAG_W
,,,,,,,,,,,METERS,DBAR,ITS-90,,PSS-78,,PSS-78,,UMOL/KG,,UMOL/KG,,UMOL/KG,,UMOL/KG,,UMOL/KG,,UMOL/KG,,PMOL/KG,,PMOL/KG,,PMOL/KG,,UMOL/KG,,UMOL/KG,,,DEG C,/MILLE,,/MILLE,/MILLE,,/MILLE,DEG C,
49NZ200107_1,       P17N,      73,          1,          0,        -99,9,20010819,       1659,    49.8123,  -149.5722,       4791,     4.5,-999.0000,9,-999.0000,9,  32.5342,2,  -999.00,9,  281.10,2,    6.44,2,    9.70,2,    0.17,2,    0.99,2,-999.000,9,-999.000,9,-999.000,9,  -999.0,9,  -999.0,9, -999.000,  -999.00, -999.00,9, -999.00,  -999.0,9,  -999.0,-999.0000,9
49NZ200107_1,       P17N,      73,          1,         36,         36,2,20010819,       1659,    49.8123,  -149.5722,       4791,    10.9,  12.3348,2,  32.5324,2,  32.5324,2,   270.10,1,  282.40,2,    6.07,2,    9.58,2,    0.17,2,    0.97,2,-999.000,9,-999.000,9,-999.000,9,  -999.0,9,  -999.0,9, -999.000,  -999.00, -999.00,9, -999.00,  -999.0,9,  -999.0,  24.6105,2
49NZ200107_1,       P17N,      73,          1,         35,         35,2,20010819,       1659,    49.8123,  -149.5722,       4791,    25.9,   8.2834,2,  32.6190,2,  32.6137,2,   291.86,1,  312.50,2,    9.53,2,   11.77,2,    0.19,2,    1.17,2,-999.000,9,-999.000,9,-999.000,9,  -999.0,9,  -999.0,9, -999.000,  -999.00, -999.00,9, -999.00,  -999.0,9,  -999.0,  25.3632,2
49NZ200107_1,       P17N,      73,          1,         34,         34,2,20010819,       1659,    49.8123,  -149.5722,       4791,    51.2,   5.3591,2,  32.6794,2,  32.6839,2,   287.78,1,  308.90,2,   20.43,2,   16.40,2,    0.69,2,    1.43,2,-999.000,9,-999.000,9,-999.000,9,  -999.0,9,  -999.0,9, -999.000,  -999.00, -999.00,9, -999.00,  -999.0,9,  -999.0,  25.7958,2
49NZ200107_1,       P17N,      73,          1,         33,         33,3,20010819,       1659,    49.8123,  -149.5722,       4791,    76.7,   4.8194,2,  32.7535,2,  32.7562,2,   286.01,1,  307.10,2,   24.64,2,   18.73,2,    0.05,2,    1.55,2,-999.000,9,-999.000,9,-999.000,9,  -999.0,9,  -999.0,9, -999.000,  -999.00, -999.00,9, -999.00,  -999.0,9,  -999.0,  25.9149,2
49NZ200107_1,       P17N,      73,          1,         32,         32,2,20010819,       1659,    49.8123,  -149.5722,       4791,   101.5,   4.4755,2,  32.8230,2,  32.8356,2,   280.99,1,  301.60,2,   28.81,2,   20.19,2,    0.05,2,    1.64,2,-999.000,9,-999.000,9,-999.000,9,  -999.0,9,  -999.0,9, -999.000,  -999.00, -999.00,9, -999.00,  -999.0,9,  -999.0,  26.0069,2
49NZ200107_1,       P17N,      73,          1,         31,         31,2,20010819,       1659,    49.8123,  -149.5722,       4791,   152.4,   4.1357,2,  33.5967,2,  33.5991,2,   128.29,1,  139.20,2,   57.93,2,   34.63,2,    0.04,2,    2.48,2,-999.000,9,-999.000,9,-999.000,9,  -999.0,9,  -999.0,9, -999.000,  -999.00, -999.00,9, -999.00,  -999.0,9,  -999.0,  26.6571,2
49NZ200107_1,       P17N,      73,          1,         30,         30,2,20010819,       1659,    49.8123,  -149.5722,       4791,   202.7,   4.0029,2,  33.8065,2,  33.8066,2,    80.35,1,   83.20,2,   72.78,2,   39.93,2,    0.04,2,    2.78,2,-999.000,9,-999.000,9,-999.000,9,  -999.0,9,  -999.0,9, -999.000,  -999.00, -999.00,9, -999.00,  -999.0,9,  -999.0,  26.8379,2
49NZ200107_1,       P17N,      73,          1,         29,         29,2,20010819,       1659,    49.8123,  -149.5722,       4791,   253.3,   3.9170,2,  33.8858,2,  33.8892,2,    59.41,1,   59.10,2,   81.85,2,   42.20,2,    0.04,2,    2.92,2,-999.000,9,-999.000,9,-999.000,9,  -999.0,9,  -999.0,9, -999.000,  -999.00, -999.00,9, -999.00,  -999.0,9,  -999.0,  26.9100,2
49NZ200107_1,       P17N,      73,          1,         28,         28,2,20010819,       1659,    49.8123,  -149.5722,       4791,   303.7,   3.9016,2,  33.9568,2,  33.9562,2,    51.75,1,   50.50,2,   86.00,2,   42.57,2,    0.04,2,    2.91,2,-999.000,9,-999.000,9,-999.000,9,  -999.0,9,  -999.0,9, -999.000,  -999.00, -999.00,9, -999.00,  -999.0,9,  -999.0,  26.9684,2
49NZ200107_1,       P17N,      73,          1,         27,         27,2,20010819,       1659,    49.8123,  -149.5722,       4791,   354.4,   3.8471,2,  34.0023,2,  34.0019,2,    43.74,1,   41.20,2,   90.42,2,   43.21,2,    0.04,2,    2.99,2,-999.000,9,-999.000,9,-999.000,9,  -999.0,9,  -999.0,9, -999.000,  -999.00, -999.00,9, -999.00,  -999.0,9,  -999.0,  27.0104,2
49NZ200107_1,       P17N,      73,          1,         26,         26,2,20010819,       1659,    49.8123,  -149.5722,       4791,   404.7,   3.8053,2,  34.0566,2,  34.0584,2,    37.29,1,   33.90,2,   95.56,2,   43.61,2,    0.03,2,    3.04,2,-999.000,9,-999.000,9,-999.000,9,  -999.0,9,  -999.0,9, -999.000,  -999.00, -999.00,9, -999.00,  -999.0,9,  -999.0,  27.0582,2
49NZ200107_1,       P17N,      73,          1,         25,         25,2,20010819,       1659,    49.8123,  -149.5722,       4791,   505.8,   3.6300,2,  34.1463,2,  34.1455,2,    28.25,1,   23.50,2,  105.73,2,   44.06,2,    0.03,2,    3.08,2,-999.000,9,-999.000,9,-999.000,9,  -999.0,9,  -999.0,9, -999.000,  -999.00, -999.00,9, -999.00,  -999.0,9,  -999.0,  27.1476,2
49NZ200107_1,       P17N,      73,          1,         24,         24,2,20010819,       1659,    49.8123,  -149.5722,       4791,   607.1,   3.4610,2,  34.2145,2,  34.2138,2,    26.46,1,   21.00,2,  113.62,2,   44.23,2,    0.03,2,    3.07,2,-999.000,9,-999.000,9,-999.000,9,  -999.0,9,  -999.0,9, -999.000,  -999.00, -999.00,9, -999.00,  -999.0,9,  -999.0,  27.2189,2
49NZ200107_1,       P17N,      73,          1,         23,         23,2,20010819,       1659,    49.8123,  -149.5722,       4791,   708.2,   3.2800,2,  34.2711,2,  34.2719,2,    26.44,1,   20.90,2,  121.55,2,   44.30,2,    0.03,2,    3.11,2,-999.000,9,-999.000,9,-999.000,9,  -999.0,9,  -999.0,9, -999.000,  -999.00, -999.00,9, -999.00,  -999.0,9,  -999.0,  27.2818,2
49NZ200107_1,       P17N,      73,          1,         22,         22,2,20010819,       1659,    49.8123,  -149.5722,       4791,   809.5,   3.1141,2,  34.3240,2,  34.3240,2,    27.21,1,   21.70,2,  127.17,2,   44.25,2,    0.03,2,    3.10,2,-999.000,9,-999.000,9,-999.000,9,  -999.0,9,  -999.0,9, -999.000,  -999.00, -999.00,9, -999.00,  -999.0,9,  -999.0,  27.3399,2
49NZ200107_1,       P17N,      73,          1,         21,         21,2,20010819,       1659,    49.8123,  -149.5722,       4791,   910.8,   2.9396,2,  34.3641,2,  34.3638,2,    27.00,1,   21.20,2,  132.79,2,   44.41,2,    0.03,2,    3.09,2,-999.000,9,-999.000,9,-999.000,9,  -999.0,9,  -999.0,9, -999.000,  -999.00, -999.00,9, -999.00,  -999.0,9,  -999.0,  27.3884,2
49NZ200107_1,       P17N,      73,          1,         20,         20,2,20010819,       1659,    49.8123,  -149.5722,       4791,  1012.1,   2.8062,2,  34.3956,2,  34.3968,2,    25.94,1,   19.70,2,  138.15,2,   44.79,2,    0.03,2,    3.13,2,-999.000,9,-999.000,9,-999.000,9,  -999.0,9,  -999.0,9, -999.000,  -999.00, -999.00,9, -999.00,  -999.0,9,  -999.0,  27.4260,2
49NZ200107_1,       P17N,      73,          1,         19,         19,2,20010819,       1659,    49.8123,  -149.5722,       4791,  1113.6,   2.6783,2,  34.4267,2,  34.4266,2,    24.32,1,   17.60,2,  142.52,2,   44.90,2,    0.03,2,    3.13,2,-999.000,9,-999.000,9,-999.000,9,  -999.0,9,  -999.0,9, -999.000,  -999.00, -999.00,9, -999.00,  -999.0,9,  -999.0,  27.4625,2
49NZ200107_1,       P17N,      73,          1,         18,         18,2,20010819,       1659,    49.8123,  -149.5722,       4791,  1215.2,   2.5517,2,  34.4553,2,  34.4557,2,    24.33,1,   17.40,2,  146.79,2,   45.09,2,    0.03,2,    3.14,2,-999.000,9,-999.000,9,-999.000,9,  -999.0,9,  -999.0,9, -999.000,  -999.00, -999.00,9, -999.00,  -999.0,9,  -999.0,  27.4968,2
49NZ200107_1,       P17N,      73,          1,         17,         17,2,20010819,       1659,    49.8123,  -149.5722,       4791,  1417.8,   2.3344,2,  34.5004,2,  34.5002,2,    31.04,1,   24.30,2,  152.73,2,   44.68,2,    0.03,2,    3.12,2,-999.000,9,-999.000,9,-999.000,9,  -999.0,9,  -999.0,9, -999.000,  -999.00, -999.00,9, -999.00,  -999.0,9,  -999.0,  27.5521,2
49NZ200107_1,       P17N,      73,          1,         16,         16,2,20010819,       1659,    49.8123,  -149.5722,       4791,  1621.1,   2.1796,2,  34.5349,2,  34.5356,2,    39.25,1,   32.70,2,  156.37,2,   44.37,2,    0.03,2,    3.07,2,-999.000,9,-999.000,9,-999.000,9,  -999.0,9,  -999.0,9, -999.000,  -999.00, -999.00,9, -999.00,  -999.0,9,  -999.0,  27.5933,2
49NZ200107_1,       P17N,      73,          1,         15,         15,2,20010819,       1659,    49.8123,  -149.5722,       4791,  1824.4,   2.0227,2,  34.5685,2,  34.5694,2,    49.91,1,   44.10,2,  159.79,2,   43.78,2,    0.03,2,    3.04,2,-999.000,9,-999.000,9,-999.000,9,  -999.0,9,  -999.0,9, -999.000,  -999.00, -999.00,9, -999.00,  -999.0,9,  -999.0,  27.6337,2
49NZ200107_1,       P17N,      73,          1,         14,         14,2,20010819,       1659,    49.8123,  -149.5722,       4791,  2028.2,   1.9140,2,  34.5911,2,  34.5917,2,    59.95,1,   54.80,2,  161.48,2,   43.00,2,    0.04,2,    3.00,2,-999.000,9,-999.000,9,-999.000,9,  -999.0,9,  -999.0,9, -999.000,  -999.00, -999.00,9, -999.00,  -999.0,9,  -999.0,  27.6614,2
49NZ200107_1,       P17N,      73,          1,         13,         13,2,20010819,       1659,    49.8123,  -149.5722,       4791,  2231.7,   1.8182,2,  34.6100,2,  34.6100,2,    70.95,1,   66.40,2,  161.90,2,   42.32,2,    0.03,2,    2.94,2,-999.000,9,-999.000,9,-999.000,9,  -999.0,9,  -999.0,9, -999.000,  -999.00, -999.00,9, -999.00,  -999.0,9,  -999.0,  27.6850,2
49NZ200107_1,       P17N,      73,          1,         12,         12,2,20010819,       1659,    49.8123,  -149.5722,       4791,  2435.8,   1.7304,2,  34.6259,2,  34.6261,2,    83.88,1,   80.80,2,  160.92,2,   41.43,2,    0.03,2,    2.87,2,-999.000,9,-999.000,9,-999.000,9,  -999.0,9,  -999.0,9, -999.000,  -999.00, -999.00,9, -999.00,  -999.0,9,  -999.0,  27.7055,2
49NZ200107_1,       P17N,      73,          1,         11,         11,2,20010819,       1659,    49.8123,  -149.5722,       4791,  2639.9,   1.6667,2,  34.6382,2,  34.6382,2,    94.47,1,   91.30,2,  161.25,2,   40.55,2,    0.04,2,    2.81,2,-999.000,9,-999.000,9,-999.000,9,  -999.0,9,  -999.0,9, -999.000,  -999.00, -999.00,9, -999.00,  -999.0,9,  -999.0,  27.7213,2
49NZ200107_1,       P17N,      73,          1,         10,         10,2,20010819,       1659,    49.8123,  -149.5722,       4791,  2844.3,   1.6133,2,  34.6488,2,  34.6486,2,   104.14,1,  101.50,2,  160.48,2,   39.93,2,    0.03,2,    2.77,2,-999.000,9,-999.000,9,-999.000,9,  -999.0,9,  -999.0,9, -999.000,  -999.00, -999.00,9, -999.00,  -999.0,9,  -999.0,  27.7349,2
49NZ200107_1,       P17N,      73,          1,          9,          9,2,20010819,       1659,    49.8123,  -149.5722,       4791,  3048.9,   1.5736,2,  34.6571,2,  34.6570,2,   112.92,1,  111.20,2,  160.20,2,   39.37,2,    0.03,2,    2.74,2,-999.000,9,-999.000,9,-999.000,9,  -999.0,9,  -999.0,9, -999.000,  -999.00, -999.00,9, -999.00,  -999.0,9,  -999.0,  27.7457,2
49NZ200107_1,       P17N,      73,          1,          8,          8,2,20010819,       1659,    49.8123,  -149.5722,       4791,  3304.6,   1.5284,2,  34.6665,2,  34.6666,2,   123.63,1,  121.50,2,  158.66,2,   38.51,2,    0.03,2,    2.68,2,-999.000,9,-999.000,9,-999.000,9,  -999.0,9,  -999.0,9, -999.000,  -999.00, -999.00,9, -999.00,  -999.0,9,  -999.0,  27.7582,2
49NZ200107_1,       P17N,      73,          1,          7,          7,2,20010819,       1659,    49.8123,  -149.5722,       4791,  3561.0,   1.5025,2,  34.6733,2,  34.6734,2,   131.99,1,  129.90,2,  157.65,2,   38.07,2,    0.03,2,    2.63,2,-999.000,9,-999.000,9,-999.000,9,  -999.0,9,  -999.0,9, -999.000,  -999.00, -999.00,9, -999.00,  -999.0,9,  -999.0,  27.7672,2
49NZ200107_1,       P17N,      73,          1,          6,          6,2,20010819,       1659,    49.8123,  -149.5722,       4791,  3817.4,   1.4920,2,  34.6783,2,  34.6781,2,   138.33,1,  135.50,2,  157.86,2,   37.70,2,    0.03,2,    2.59,2,-999.000,9,-999.000,9,-999.000,9,  -999.0,9,  -999.0,9, -999.000,  -999.00, -999.00,9, -999.00,  -999.0,9,  -999.0,  27.7737,2
49NZ200107_1,       P17N,      73,          1,          5,          5,2,20010819,       1659,    49.8123,  -149.5722,       4791,  4073.7,   1.4971,2,  34.6813,2,  34.6810,2,   142.71,1,  139.20,2,  158.82,2,   37.34,2,    0.03,2,    2.57,2,-999.000,9,-999.000,9,-999.000,9,  -999.0,9,  -999.0,9, -999.000,  -999.00, -999.00,9, -999.00,  -999.0,9,  -999.0,  27.7778,2
49NZ200107_1,       P17N,      73,          1,          4,          4,2,20010819,       1659,    49.8123,  -149.5722,       4791,  4331.3,   1.5114,2,  34.6838,2,  34.6839,2,   146.01,1,  141.30,2,  160.09,2,   37.30,2,    0.03,2,    2.55,2,-999.000,9,-999.000,9,-999.000,9,  -999.0,9,  -999.0,9, -999.000,  -999.00, -999.00,9, -999.00,  -999.0,9,  -999.0,  27.7808,2
49NZ200107_1,       P17N,      73,          1,          3,          3,2,20010819,       1659,    49.8123,  -149.5722,       4791,  4588.6,   1.5347,2,  34.6854,2,  34.6854,2,   148.12,1,  142.20,2,  162.14,2,   37.35,2,    0.03,2,    2.55,2,-999.000,9,-999.000,9,-999.000,9,  -999.0,9,  -999.0,9, -999.000,  -999.00, -999.00,9, -999.00,  -999.0,9,  -999.0,  27.7825,2
49NZ200107_1,       P17N,      73,          1,          2,          2,2,20010819,       1659,    49.8123,  -149.5722,       4791,  4846.6,   1.5650,2,  34.6858,2,  34.6859,2,   150.21,1,  141.60,2,  160.98,2,   37.15,2,    0.03,2,    2.54,2,-999.000,9,-999.000,9,-999.000,9,  -999.0,9,  -999.0,9, -999.000,  -999.00, -999.00,9, -999.00,  -999.0,9,  -999.0,  27.7829,2
49NZ200107_1,       P17N,      73,          1,          1,          1,2,20010819,       1659,    49.8123,  -149.5722,       4791,  4865.9,   1.5675,2,  34.6858,2,  34.6856,2,   150.66,1,  142.10,2,  160.84,2,   37.27,2,    0.03,2,    2.55,2,-999.000,9,-999.000,9,-999.000,9,  -999.0,9,  -999.0,9, -999.000,  -999.00, -999.00,9, -999.00,  -999.0,9,  -999.0,  27.7829,2