BOTTLE,20220817CCHSIOAMB
EXPOCODE,SECT_ID,STNNBR,CASTNO,SAMPNO,BTLNBR,BTLNBR_FLAG_W,DATE,TIME,LATITUDE,LONGITUDE,DEPTH,CTDPRS,CTDTMP,CTDTMP_FLAG_W,CTDSAL,CTDSAL_FLAG_W,SALNTY,SALNTY_FLAG_W,CTDOXY,CTDOXY_FLAG_W,OXYGEN,OXYGEN_FLAG_W,SILCAT,SILCAT_FLAG_W,NITRAT,NITRAT_FLAG_W,NITRIT,NITRIT_FLAG_W,PHSPHT,PHSPHT_FLAG_W,CFC-11,CFC-11_FLAG_W,CFC-12,CFC-12_FLAG_W,CFC113,CFC113_FLAG_W,TCARBN,TCARBN_FLAG_W,ALKALI,ALKALI_FLAG_W,PH_TOT,PH_TMP,DELC13,DELC13_FLAG_W,C13ERR,DELC14,DELC14_FLAG_W,C14ERR,THETA,THETA_FLAG_W
,,,,,,,,,,,METERS,DBAR,ITS-90,,PSS-78,,PSS-78,,UMOL/KG,,UMOL/KG,,UMOL/KG,,UMOL/KG,,UMOL/KG,,UMOL/KG,,PMOL/KG,,PMOL/KG,,PMOL/KG,,UMOL/KG,,UMOL/KG,,,DEG C,/MILLE,,/MILLE,/MILLE,,/MILLE,DEG C,
49NZ200107_1,       P17C,      19,          1,          0,        -99,9,20010808,       0851,    33.5715,  -135.0100,       5062,     4.5,-999.0000,9,-999.0000,9,  33.4250,2,  -999.00,9,  232.28,2,    2.12,2,    0.14,2,   -0.01,2,    0.25,2,-999.000,9,-999.000,9,-999.000,9,  -999.0,9,  -999.0,9, -999.000,  -999.00, -999.00,9, -999.00,  -999.0,9,  -999.0,-999.0000,9
49NZ200107_1,       P17C,      19,          1,         36,         36,2,20010808,       0851,    33.5715,  -135.0100,       5062,    11.0,  20.3441,2,  33.4084,2,  33.4175,2,   224.02,1,  232.85,2,    1.80,2,    0.11,2,    0.00,2,    0.20,2,-999.000,9,-999.000,9,-999.000,9,  -999.0,9,  -999.0,9, -999.000,  -999.00, -999.00,9, -999.00,  -999.0,9,  -999.0,  23.4583,2
49NZ200107_1,       P17C,      19,          1,         35,         35,2,20010808,       0851,    33.5715,  -135.0100,       5062,    25.5,  19.2072,2,  33.4178,2,  33.4234,3,   244.52,1,  249.57,2,    2.47,2,    0.04,2,    0.01,2,    0.20,2,-999.000,9,-999.000,9,-999.000,9,  -999.0,9,  -999.0,9, -999.000,  -999.00, -999.00,9, -999.00,  -999.0,9,  -999.0,  23.7609,2
49NZ200107_1,       P17C,      19,          1,         34,         34,2,20010808,       0851,    33.5715,  -135.0100,       5062,    51.6,  15.2625,2,  33.4485,2,  33.4469,2,   256.99,1,  267.02,2,    2.70,2,    0.03,2,   -0.01,2,    0.20,2,-999.000,9,-999.000,9,-999.000,9,  -999.0,9,  -999.0,9, -999.000,  -999.00, -999.00,9, -999.00,  -999.0,9,  -999.0,  24.7204,2
49NZ200107_1,       P17C,      19,          1,         33,         33,2,20010808,       0851,    33.5715,  -135.0100,       5062,    75.9,  14.7188,2,  33.4820,2,  33.4887,2,   251.63,1,  259.98,2,    2.81,2,    0.02,2,   -0.01,2,    0.20,2,-999.000,9,-999.000,9,-999.000,9,  -999.0,9,  -999.0,9, -999.000,  -999.00, -999.00,9, -999.00,  -999.0,9,  -999.0,  24.8649,2
49NZ200107_1,       P17C,      19,          1,         32,         32,2,20010808,       0851,    33.5715,  -135.0100,       5062,   100.6,  14.3897,2,  33.5201,2,  33.5311,2,   243.55,1,  251.81,2,    2.86,2,    0.05,2,    0.02,2,    0.23,2,-999.000,9,-999.000,9,-999.000,9,  -999.0,9,  -999.0,9, -999.000,  -999.00, -999.00,9, -999.00,  -999.0,9,  -999.0,  24.9650,2
49NZ200107_1,       P17C,      19,          1,         31,         31,2,20010808,       0851,    33.5715,  -135.0100,       5062,   151.9,  11.7507,2,  33.4332,2,  33.4276,2,   227.57,1,  237.85,2,    5.42,2,    4.83,2,    0.01,2,    0.54,2,-999.000,9,-999.000,9,-999.000,9,  -999.0,9,  -999.0,9, -999.000,  -999.00, -999.00,9, -999.00,  -999.0,9,  -999.0,  25.4225,2
49NZ200107_1,       P17C,      19,          1,         30,         30,2,20010808,       0851,    33.5715,  -135.0100,       5062,   202.3,   9.4175,2,  33.4976,2,  33.4935,2,   211.98,1,  223.22,2,   11.80,2,   12.10,2,   -0.01,2,    0.97,2,-999.000,9,-999.000,9,-999.000,9,  -999.0,9,  -999.0,9, -999.000,  -999.00, -999.00,9, -999.00,  -999.0,9,  -999.0,  25.8786,2
49NZ200107_1,       P17C,      19,          1,         29,         29,2,20010808,       0851,    33.5715,  -135.0100,       5062,   252.6,   9.0853,2,  33.8871,2,  33.9071,2,   146.43,1,  153.27,2,   25.02,2,   23.24,2,    0.00,2,    1.67,3,-999.000,9,-999.000,9,-999.000,9,  -999.0,9,  -999.0,9, -999.000,  -999.00, -999.00,9, -999.00,  -999.0,9,  -999.0,  26.2375,2
49NZ200107_1,       P17C,      19,          1,         28,         28,2,20010808,       0851,    33.5715,  -135.0100,       5062,   303.3,   8.1765,2,  34.0119,2,  34.0138,3,   119.53,1,  122.34,2,   34.55,2,   27.90,2,   -0.01,2,    1.97,3,-999.000,9,-999.000,9,-999.000,9,  -999.0,9,  -999.0,9, -999.000,  -999.00, -999.00,9, -999.00,  -999.0,9,  -999.0,  26.4762,2
49NZ200107_1,       P17C,      19,          1,         27,         27,2,20010808,       0851,    33.5715,  -135.0100,       5062,   353.7,   7.5017,2,  34.0391,2,  34.0391,2,    91.52,1,   92.20,2,   42.16,2,   31.44,2,    0.00,2,    2.27,3,-999.000,9,-999.000,9,-999.000,9,  -999.0,9,  -999.0,9, -999.000,  -999.00, -999.00,9, -999.00,  -999.0,9,  -999.0,  26.5965,2
49NZ200107_1,       P17C,      19,          1,         26,         26,2,20010808,       0851,    33.5715,  -135.0100,       5062,   404.2,   6.9724,2,  34.0665,2,  34.0673,2,    70.94,1,   70.99,2,   49.39,2,   34.27,2,    0.00,2,    2.50,3,-999.000,9,-999.000,9,-999.000,9,  -999.0,9,  -999.0,9, -999.000,  -999.00, -999.00,9, -999.00,  -999.0,9,  -999.0,  26.6924,2
49NZ200107_1,       P17C,      19,          1,         25,         25,2,20010808,       0851,    33.5715,  -135.0100,       5062,   505.2,   6.1790,2,  34.1297,2,  34.1289,2,    42.70,1,   40.03,2,   63.10,2,   38.18,2,   -0.01,2,    2.83,3,-999.000,9,-999.000,9,-999.000,9,  -999.0,9,  -999.0,9, -999.000,  -999.00, -999.00,9, -999.00,  -999.0,9,  -999.0,  26.8479,2
49NZ200107_1,       P17C,      19,          1,         24,         24,2,20010808,       0851,    33.5715,  -135.0100,       5062,   605.8,   5.5975,2,  34.2012,2,  34.2010,2,    25.80,1,   21.69,2,   75.74,2,   40.53,2,    0.00,2,    3.06,3,-999.000,9,-999.000,9,-999.000,9,  -999.0,9,  -999.0,9, -999.000,  -999.00, -999.00,9, -999.00,  -999.0,9,  -999.0,  26.9775,2
49NZ200107_1,       P17C,      19,          1,         23,         23,2,20010808,       0851,    33.5715,  -135.0100,       5062,   706.4,   4.9610,2,  34.2639,2,  34.2626,3,    18.85,1,   13.43,2,   88.41,2,   42.44,2,   -0.01,2,    3.16,3,-999.000,9,-999.000,9,-999.000,9,  -999.0,9,  -999.0,9, -999.000,  -999.00, -999.00,9, -999.00,  -999.0,9,  -999.0,  27.1026,2
49NZ200107_1,       P17C,      19,          1,         22,         22,2,20010808,       0851,    33.5715,  -135.0100,       5062,   808.1,   4.5076,2,  34.3293,2,  34.3334,2,    16.13,1,    9.86,2,   98.64,2,   43.49,2,    0.00,2,    3.25,3,-999.000,9,-999.000,9,-999.000,9,  -999.0,9,  -999.0,9, -999.000,  -999.00, -999.00,9, -999.00,  -999.0,9,  -999.0,  27.2056,2
49NZ200107_1,       P17C,      19,          1,         21,         21,2,20010808,       0851,    33.5715,  -135.0100,       5062,   908.8,   4.1478,2,  34.3819,2,  34.3810,2,    17.74,1,   10.82,2,  106.78,2,   43.89,2,   -0.01,2,    3.28,3,-999.000,9,-999.000,9,-999.000,9,  -999.0,9,  -999.0,9, -999.000,  -999.00, -999.00,9, -999.00,  -999.0,9,  -999.0,  27.2863,2
49NZ200107_1,       P17C,      19,          1,         20,         20,3,20010808,       0851,    33.5715,  -135.0100,       5062,  1010.6,   3.8836,2,  34.4243,2,  34.4224,2,    21.29,1,   14.81,2,  112.49,2,   44.01,2,   -0.01,2,    3.27,3,-999.000,9,-999.000,9,-999.000,9,  -999.0,9,  -999.0,9, -999.000,  -999.00, -999.00,9, -999.00,  -999.0,9,  -999.0,  27.3478,2
49NZ200107_1,       P17C,      19,          1,         19,         19,2,20010808,       0851,    33.5715,  -135.0100,       5062,  1212.9,   3.3597,2,  34.4928,2,  34.4923,2,    33.15,1,   27.34,2,  123.30,2,   44.04,2,    0.00,2,    3.15,2,-999.000,9,-999.000,9,-999.000,9,  -999.0,9,  -999.0,9, -999.000,  -999.00, -999.00,9, -999.00,  -999.0,9,  -999.0,  27.4549,2
49NZ200107_1,       P17C,      19,          1,         18,         18,2,20010808,       0851,    33.5715,  -135.0100,       5062,  1415.9,   2.8866,2,  34.5373,2,  34.5369,2,    44.57,1,   40.38,2,  134.50,2,   43.33,2,    0.00,2,    3.12,2,-999.000,9,-999.000,9,-999.000,9,  -999.0,9,  -999.0,9, -999.000,  -999.00, -999.00,9, -999.00,  -999.0,9,  -999.0,  27.5349,2
49NZ200107_1,       P17C,      19,          1,         17,         17,2,20010808,       0851,    33.5715,  -135.0100,       5062,  1617.9,   2.5366,2,  34.5687,2,  34.5686,2,    55.60,1,   52.13,2,  142.33,2,   42.83,2,   -0.01,2,    3.06,2,-999.000,9,-999.000,9,-999.000,9,  -999.0,9,  -999.0,9, -999.000,  -999.00, -999.00,9, -999.00,  -999.0,9,  -999.0,  27.5914,2
49NZ200107_1,       P17C,      19,          1,         16,         16,2,20010808,       0851,    33.5715,  -135.0100,       5062,  1821.5,   2.2480,2,  34.5930,2,  34.5930,2,    65.02,1,   61.37,2,  150.01,2,   42.23,2,   -0.01,2,    3.02,2,-999.000,9,-999.000,9,-999.000,9,  -999.0,9,  -999.0,9, -999.000,  -999.00, -999.00,9, -999.00,  -999.0,9,  -999.0,  27.6358,2
49NZ200107_1,       P17C,      19,          1,         15,         15,2,20010808,       0851,    33.5715,  -135.0100,       5062,  2023.7,   2.0451,2,  34.6125,2,  34.6124,2,    74.66,1,   72.42,2,  155.06,2,   41.41,2,   -0.01,2,    2.96,2,-999.000,9,-999.000,9,-999.000,9,  -999.0,9,  -999.0,9, -999.000,  -999.00, -999.00,9, -999.00,  -999.0,9,  -999.0,  27.6686,2
49NZ200107_1,       P17C,      19,          1,         14,         14,2,20010808,       0851,    33.5715,  -135.0100,       5062,  2227.7,   1.8910,2,  34.6278,2,  34.6278,2,    83.64,1,   81.34,2,  158.28,2,   40.86,2,   -0.01,2,    2.91,2,-999.000,9,-999.000,9,-999.000,9,  -999.0,9,  -999.0,9, -999.000,  -999.00, -999.00,9, -999.00,  -999.0,9,  -999.0,  27.6938,2
49NZ200107_1,       P17C,      19,          1,         13,         13,2,20010808,       0851,    33.5715,  -135.0100,       5062,  2431.8,   1.7857,2,  34.6394,2,  34.6390,2,    91.68,1,   90.76,2,  159.64,2,   40.37,2,   -0.01,2,    2.85,2,-999.000,9,-999.000,9,-999.000,9,  -999.0,9,  -999.0,9, -999.000,  -999.00, -999.00,9, -999.00,  -999.0,9,  -999.0,  27.7123,2
49NZ200107_1,       P17C,      19,          1,         12,         12,2,20010808,       0851,    33.5715,  -135.0100,       5062,  2635.4,   1.6986,2,  34.6483,2,  34.6485,2,    98.60,1,   97.96,2,  161.02,2,   39.95,2,   -0.01,2,    2.84,2,-999.000,9,-999.000,9,-999.000,9,  -999.0,9,  -999.0,9, -999.000,  -999.00, -999.00,9, -999.00,  -999.0,9,  -999.0,  27.7270,2
49NZ200107_1,       P17C,      19,          1,         11,         11,2,20010808,       0851,    33.5715,  -135.0100,       5062,  2840.2,   1.6249,2,  34.6559,2,  34.6559,2,   105.64,1,  105.55,2,  161.26,2,   39.50,2,    0.00,2,    2.76,2,-999.000,9,-999.000,9,-999.000,9,  -999.0,9,  -999.0,9, -999.000,  -999.00, -999.00,9, -999.00,  -999.0,9,  -999.0,  27.7398,2
49NZ200107_1,       P17C,      19,          1,         10,         10,2,20010808,       0851,    33.5715,  -135.0100,       5062,  3043.2,   1.5773,2,  34.6622,2,  34.6623,2,   112.70,1,  112.66,2,  160.69,2,   38.88,2,   -0.01,2,    2.76,2,-999.000,9,-999.000,9,-999.000,9,  -999.0,9,  -999.0,9, -999.000,  -999.00, -999.00,9, -999.00,  -999.0,9,  -999.0,  27.7496,2
49NZ200107_1,       P17C,      19,          1,          9,          9,2,20010808,       0851,    33.5715,  -135.0100,       5062,  3299.4,   1.5237,2,  34.6701,2,  34.6701,2,   122.48,1,  123.04,2,  158.19,2,   38.32,2,   -0.01,2,    2.70,2,-999.000,9,-999.000,9,-999.000,9,  -999.0,9,  -999.0,9, -999.000,  -999.00, -999.00,9, -999.00,  -999.0,9,  -999.0,  27.7613,2
49NZ200107_1,       P17C,      19,          1,          8,          8,2,20010808,       0851,    33.5715,  -135.0100,       5062,  3555.1,   1.4980,2,  34.6757,2,  34.6755,2,   130.14,1,  130.60,2,  155.89,2,   37.92,2,   -0.01,2,    2.66,2,-999.000,9,-999.000,9,-999.000,9,  -999.0,9,  -999.0,9, -999.000,  -999.00, -999.00,9, -999.00,  -999.0,9,  -999.0,  27.7694,2
49NZ200107_1,       P17C,      19,          1,          7,          7,2,20010808,       0851,    33.5715,  -135.0100,       5062,  3810.9,   1.4838,2,  34.6804,2,  34.6800,2,   136.44,1,  137.24,2,  154.92,2,   37.53,2,   -0.01,2,    2.64,2,-999.000,9,-999.000,9,-999.000,9,  -999.0,9,  -999.0,9, -999.000,  -999.00, -999.00,9, -999.00,  -999.0,9,  -999.0,  27.7760,2
49NZ200107_1,       P17C,      19,          1,          6,          6,2,20010808,       0851,    33.5715,  -135.0100,       5062,  4067.9,   1.4850,2,  34.6835,2,  34.6831,2,   141.69,1,  141.29,2,  153.64,2,   37.11,2,    0.00,2,    2.62,2,-999.000,9,-999.000,9,-999.000,9,  -999.0,9,  -999.0,9, -999.000,  -999.00, -999.00,9, -999.00,  -999.0,9,  -999.0,  27.7803,2
49NZ200107_1,       P17C,      19,          1,          5,          5,2,20010808,       0851,    33.5715,  -135.0100,       5062,  4324.1,   1.4949,2,  34.6856,2,  34.6853,2,   146.20,1,  145.19,2,  150.99,2,   36.98,2,    0.00,2,    2.59,2,-999.000,9,-999.000,9,-999.000,9,  -999.0,9,  -999.0,9, -999.000,  -999.00, -999.00,9, -999.00,  -999.0,9,  -999.0,  27.7833,2
49NZ200107_1,       P17C,      19,          1,          4,          4,2,20010808,       0851,    33.5715,  -135.0100,       5062,  4581.7,   1.5157,2,  34.6868,2,  34.6869,2,   149.96,1,  147.85,2,  149.02,2,   36.75,2,    0.00,2,    2.58,2,-999.000,9,-999.000,9,-999.000,9,  -999.0,9,  -999.0,9, -999.000,  -999.00, -999.00,9, -999.00,  -999.0,9,  -999.0,  27.7849,2
49NZ200107_1,       P17C,      19,          1,          3,          3,2,20010808,       0851,    33.5715,  -135.0100,       5062,  4838.8,   1.5393,2,  34.6877,2,  34.6881,2,   153.47,1,  150.27,2,  146.89,2,   36.47,2,   -0.01,2,    2.56,2,-999.000,9,-999.000,9,-999.000,9,  -999.0,9,  -999.0,9, -999.000,  -999.00, -999.00,9, -999.00,  -999.0,9,  -999.0,  27.7861,2
49NZ200107_1,       P17C,      19,          1,          2,          2,2,20010808,       0851,    33.5715,  -135.0100,       5062,  5096.2,   1.5674,2,  34.6882,2,  34.6870,2,   156.50,1,  151.38,2,  144.21,2,   36.46,2,   -0.01,2,    2.48,2,-999.000,9,-999.000,9,-999.000,9,  -999.0,9,  -999.0,9, -999.000,  -999.00, -999.00,9, -999.00,  -999.0,9,  -999.0,  27.7868,2
49NZ200107_1,       P17C,      19,          1,          1,          1,2,20010808,       0851,    33.5715,  -135.0100,       5062,  5137.5,   1.5727,2,  34.6882,2,  34.6882,2,   157.26,1,  151.13,2,  144.54,2,   36.40,2,   -0.01,2,    2.52,2,-999.000,9,-999.000,9,-999.000,9,  -999.0,9,  -999.0,9, -999.000,  -999.00, -999.00,9, -999.00,  -999.0,9,  -999.0,  27.7868,2