BOTTLE,20220817CCHSIOAMB
EXPOCODE,SECT_ID,STNNBR,CASTNO,SAMPNO,BTLNBR,BTLNBR_FLAG_W,DATE,TIME,LATITUDE,LONGITUDE,DEPTH,CTDPRS,CTDTMP,CTDTMP_FLAG_W,CTDSAL,CTDSAL_FLAG_W,SALNTY,SALNTY_FLAG_W,CTDOXY,CTDOXY_FLAG_W,OXYGEN,OXYGEN_FLAG_W,SILCAT,SILCAT_FLAG_W,NITRAT,NITRAT_FLAG_W,NITRIT,NITRIT_FLAG_W,PHSPHT,PHSPHT_FLAG_W,CFC-11,CFC-11_FLAG_W,CFC-12,CFC-12_FLAG_W,CFC113,CFC113_FLAG_W,TCARBN,TCARBN_FLAG_W,ALKALI,ALKALI_FLAG_W,PH_TOT,PH_TMP,DELC13,DELC13_FLAG_W,C13ERR,DELC14,DELC14_FLAG_W,C14ERR,THETA,THETA_FLAG_W
,,,,,,,,,,,METERS,DBAR,ITS-90,,PSS-78,,PSS-78,,UMOL/KG,,UMOL/KG,,UMOL/KG,,UMOL/KG,,UMOL/KG,,UMOL/KG,,PMOL/KG,,PMOL/KG,,PMOL/KG,,UMOL/KG,,UMOL/KG,,,DEG C,/MILLE,,/MILLE,/MILLE,,/MILLE,DEG C,
49NZ200107_1,       P17N,      30,          1,          0,        -99,9,20010809,       0657,    35.5038,  -135.0095,       5229,     4.5,-999.0000,9,-999.0000,9,  33.1344,2,  -999.00,9,  236.78,2,    2.61,2,    0.06,2,   -0.01,2,    0.27,2,-999.000,1,-999.000,1,-999.000,1,  1981.1,2,  2218.0,2,    7.960,    25.00, -999.00,9, -999.00,  -999.0,9,  -999.0,-999.0000,9
49NZ200107_1,       P17N,      30,          1,         36,         36,2,20010809,       0657,    35.5038,  -135.0095,       5229,    11.7,  19.7784,2,  33.1327,2,  33.1340,2,   225.25,1,  237.04,2,    3.41,2,    0.04,2,   -0.01,2,    0.22,2,-999.000,1,-999.000,1,-999.000,1,  1981.9,2,  2215.3,2,    7.960,    25.00,    1.84,2,    0.00,    42.3,2,     3.7,  23.3962,2
49NZ200107_1,       P17N,      30,          1,         35,         35,2,20010809,       0657,    35.5038,  -135.0095,       5229,    26.0,  19.3484,2,  33.1179,2,  33.1235,2,   228.74,1,  240.56,2,    2.86,2,    0.00,2,   -0.01,2,    0.23,2,-999.000,1,-999.000,1,-999.000,1,  1983.7,2,  2216.2,2,    7.959,    25.00,    1.86,2,    0.00,    44.5,2,     3.4,  23.4960,2
49NZ200107_1,       P17N,      30,          1,         34,         34,3,20010809,       0657,    35.5038,  -135.0095,       5229,    51.2,  14.4149,2,  32.9744,2,  32.9859,2,   264.27,1, -999.00,5,    3.62,2,    0.00,2,   -0.01,2,    0.23,2,-999.000,9,-999.000,9,-999.000,9,  -999.0,9,  -999.0,9, -999.000,  -999.00, -999.00,5, -999.00,  -999.0,5,  -999.0,  24.5371,2
49NZ200107_1,       P17N,      30,          1,         33,         33,2,20010809,       0657,    35.5038,  -135.0095,       5229,    75.5,  13.2503,2,  33.0238,2,  33.0242,2,   254.69,1,  268.18,2,    3.54,2,    0.00,2,   -0.01,2,    0.28,2,-999.000,1,-999.000,1,-999.000,1,  1992.4,2,  2207.9,2,    7.923,    25.00,    1.54,2,    0.00,    40.0,2,     3.4,  24.8146,2
49NZ200107_1,       P17N,      30,          1,         32,         32,2,20010809,       0657,    35.5038,  -135.0095,       5229,   101.5,  12.4711,2,  32.9765,2,  32.9754,2,   247.28,1,  259.81,2,    3.83,2,    0.53,2,    0.08,2,    0.35,2,-999.000,1,-999.000,1,-999.000,1,  2006.4,2,  2205.7,6,    7.893,    25.00,    0.90,2,    0.01,    40.6,2,     3.4,  24.9311,2
49NZ200107_1,       P17N,      30,          1,         31,         31,2,20010809,       0657,    35.5038,  -135.0095,       5229,   152.2,   9.6336,2,  33.3049,2,  33.3143,2,   231.84,1,  243.85,2,    9.08,2,    9.26,2,    0.00,2,    0.77,2,-999.000,1,-999.000,1,-999.000,1,  2056.8,2,  2221.0,2,    7.795,    25.00,    0.54,2,    0.00,    47.7,2,     3.3,  25.6920,2
49NZ200107_1,       P17N,      30,          1,         30,         30,2,20010809,       0657,    35.5038,  -135.0095,       5229,   202.3,   9.0786,2,  33.7799,2,  33.8261,2,   221.92,1,  232.03,2,   15.23,2,   13.51,2,    0.00,2,    0.97,2,-999.000,1,-999.000,1,-999.000,1,  2091.0,6,  2243.2,2,    7.769,    25.00,    0.35,2,    0.00,    48.7,2,     3.4,  26.1537,2
49NZ200107_1,       P17N,      30,          1,         29,         29,2,20010809,       0657,    35.5038,  -135.0095,       5229,   252.2,   9.0715,2,  34.0166,2,  34.0301,2,   199.52,1,  207.80,2,   20.92,2,   17.47,2,    0.00,2,    1.21,2,-999.000,1,-999.000,1,-999.000,1,  2119.3,2,  2259.6,2,    7.734,    25.00,    0.16,2,    0.01,    43.2,2,     3.3,  26.3410,2
49NZ200107_1,       P17N,      30,          1,         28,         28,2,20010809,       0657,    35.5038,  -135.0095,       5229,   303.0,   8.5656,2,  34.0487,2,  34.0401,2,   176.73,1,  179.74,2,   29.59,2,   22.19,2,   -0.01,2,    1.48,2,-999.000,1,-999.000,1,-999.000,1,  2149.0,2,  2264.4,6,    7.670,    25.00,    0.06,2,    0.00,    11.6,2,     3.5,  26.4461,2
49NZ200107_1,       P17N,      30,          1,         27,         27,2,20010809,       0657,    35.5038,  -135.0095,       5229,   353.0,   7.7978,2,  34.0211,2,  34.0158,2,   153.90,1,  160.76,2,   35.93,2,   25.35,2,   -0.01,2,    1.73,2,-999.000,1,-999.000,1,-999.000,1,  2172.8,2,  2266.7,2,    7.618,    25.00,   -0.06,2,    0.00,    -1.2,2,     3.3,  26.5399,2
49NZ200107_1,       P17N,      30,          1,         26,         26,2,20010809,       0657,    35.5038,  -135.0095,       5229,   403.9,   6.8726,2,  33.9908,2,  33.9878,2,   130.81,1,  136.16,2,   44.85,2,   29.53,2,   -0.01,2,    2.01,2,-999.000,1,-999.000,1,-999.000,1,  2203.7,6,  2275.7,2,    7.545,    25.00,   -0.28,2,    0.00,   -24.8,2,     3.2,  26.6462,2
49NZ200107_1,       P17N,      30,          1,         25,         25,2,20010809,       0657,    35.5038,  -135.0095,       5229,   505.4,   5.3083,2,  33.9816,2,  33.9812,2,    86.19,1,   87.87,2,   65.10,2,   36.73,2,   -0.01,2,    2.61,2,-999.000,1,-999.000,1,-999.000,1,  2259.9,2,  2294.6,2,    7.420,    25.00,   -0.52,2,    0.00,   -86.0,2,     3.4,  26.8369,2
49NZ200107_1,       P17N,      30,          1,         24,         24,2,20010809,       0657,    35.5038,  -135.0095,       5229,   605.5,   4.7407,2,  34.0817,2,  34.0817,2,    40.99,1,   39.57,2,   81.36,2,   41.40,2,   -0.01,2,    2.96,2,-999.000,1,-999.000,1,-999.000,1,  2309.9,2,  2310.6,6,    7.333,    25.00,   -0.59,2,    0.00,  -128.1,2,     3.3,  26.9817,2
49NZ200107_1,       P17N,      30,          1,         23,         23,2,20010809,       0657,    35.5038,  -135.0095,       5229,   707.5,   4.2835,2,  34.1785,2,  34.1825,2,    24.86,1,   19.09,2,   96.54,2,   43.58,2,    0.00,2,    3.15,2,-999.000,1,-999.000,1,-999.000,1,  2339.9,2,  2330.5,2,    7.303,    25.00,   -0.61,2,    0.01,  -162.7,2,     2.9,  27.1087,2
49NZ200107_1,       P17N,      30,          1,         22,         22,2,20010809,       0657,    35.5038,  -135.0095,       5229,   807.9,   4.0031,2,  34.2614,2,  34.2631,2,    17.73,1,   11.68,2,  106.02,2,   44.28,2,   -0.01,2,    3.22,2,-999.000,1,-999.000,1,-999.000,1,  2357.9,6,  2349.6,2,    7.298,    25.00,   -0.59,2,    0.01,  -185.6,2,     2.7,  27.2044,2
49NZ200107_1,       P17N,      30,          1,         21,         21,2,20010809,       0657,    35.5038,  -135.0095,       5229,   908.7,   3.7569,2,  34.3386,2,  34.3379,2,    15.90,1,    8.46,2,  114.47,2,   44.70,2,    0.00,2,    3.26,2,-999.000,1,-999.000,1,-999.000,1,  2368.1,2,  2355.1,2,    7.301,    25.00,   -0.54,2,    0.00,  -206.0,2,     3.0,  27.2913,2
49NZ200107_1,       P17N,      30,          1,         20,         20,2,20010809,       0657,    35.5038,  -135.0095,       5229,  1010.7,   3.5642,2,  34.4102,2,  34.4090,2,    18.96,1,   11.54,2,  120.51,2,   44.80,2,   -0.01,2,    3.29,2,-999.000,1,-999.000,1,-999.000,1,  2376.5,2,  2373.2,6,    7.317,    25.00,   -0.57,2,    0.00,  -213.6,2,     2.8,  27.3680,2
49NZ200107_1,       P17N,      30,          1,         19,         19,2,20010809,       0657,    35.5038,  -135.0095,       5229,  1213.1,   3.1457,2,  34.4862,2,  34.4851,2,    29.77,1,   22.62,2,  131.80,2,   44.45,2,    0.00,2,    3.15,2,-999.000,1,-999.000,1,-999.000,1,  2381.2,2,  2384.1,2,    7.344,    25.00,   -0.39,2,    0.01,  -232.4,2,     3.1,  27.4694,2
49NZ200107_1,       P17N,      30,          1,         18,         18,2,20010809,       0657,    35.5038,  -135.0095,       5229,  1415.6,   2.8393,2,  34.5284,2,  34.5287,2,    41.20,1,   34.73,2,  137.30,2,   43.87,2,   -0.01,2,    3.16,2,-999.000,1,-999.000,1,-999.000,1,  2383.4,6,  2395.6,2,    7.371,    25.00,   -0.40,2,    0.00,  -244.3,2,     3.1,  27.5320,2
49NZ200107_1,       P17N,      30,          1,         17,         17,2,20010809,       0657,    35.5038,  -135.0095,       5229,  1618.2,   2.4753,2,  34.5627,2,  34.5615,2,    51.98,1,   47.35,2,  147.08,2,   43.16,2,   -0.01,2,    3.10,2,-999.000,1,-999.000,1,-999.000,1,  2385.5,2,  2410.9,2,    7.391,    25.00,   -0.34,2,    0.00,  -245.2,2,     2.7,  27.5917,2
49NZ200107_1,       P17N,      30,          1,         16,         16,3,20010809,       0657,    35.5038,  -135.0095,       5229,  1821.1,   2.2095,2,  34.5933,2,  34.5921,2,    65.39,1,   61.83,2,  152.45,2,   42.35,2,   -0.01,2,    3.04,2,-999.000,1,-999.000,1,-999.000,1,  2382.3,2,  2416.5,2,    7.422,    25.00,   -0.32,2,    0.01,  -246.2,2,     2.7,  27.6391,2
49NZ200107_1,       P17N,      30,          1,         15,         15,2,20010809,       0657,    35.5038,  -135.0095,       5229,  2025.1,   2.0199,2,  34.6126,2,  34.6118,2,    75.28,1,   72.61,2,  156.96,2,   41.75,2,   -0.01,2,    2.97,2,-999.000,1,-999.000,1,-999.000,1,  2380.8,2,  2418.3,2,    7.442,    25.00,   -0.32,2,    0.01,  -250.4,2,     2.6,  27.6706,2
49NZ200107_1,       P17N,      30,          1,         14,         14,2,20010809,       0657,    35.5038,  -135.0095,       5229,  2228.3,   1.8827,2,  34.6254,2,  34.6255,2,    82.39,1,   80.93,2,  161.13,2,   41.17,2,   -0.01,2,    2.93,2,-999.000,1,-999.000,1,-999.000,1,  2380.3,3,  2422.4,2,    7.462,    25.00,   -0.32,2,    0.00,  -253.2,2,     2.9,  27.6926,2
49NZ200107_1,       P17N,      30,          1,         13,         13,2,20010809,       0657,    35.5038,  -135.0095,       5229,  2431.9,   1.7811,2,  34.6378,2,  34.6378,2,    91.08,1,   89.29,2,  162.20,2,   40.56,2,   -0.01,2,    2.88,2,-999.000,9,-999.000,9,-999.000,9,  -999.0,9,  -999.0,9, -999.000,  -999.00, -999.00,9, -999.00,  -999.0,9,  -999.0,  27.7113,2
49NZ200107_1,       P17N,      30,          1,         12,         12,2,20010809,       0657,    35.5038,  -135.0095,       5229,  2636.0,   1.7042,2,  34.6475,2,  34.6475,2,    99.09,1,   97.75,2,  162.04,2,   40.08,2,   -0.01,2,    2.85,2,-999.000,1,-999.000,1,-999.000,1,  2370.9,2,  2426.1,6,    7.493,    25.00,   -0.20,2,    0.00,  -248.8,2,     3.0,  27.7260,2
49NZ200107_1,       P17N,      30,          1,         11,         11,2,20010809,       0657,    35.5038,  -135.0095,       5229,  2840.3,   1.6392,2,  34.6554,2,  34.6554,2,   106.54,1,  105.36,2,  160.72,2,   39.64,2,   -0.01,2,    2.75,2,-999.000,9,-999.000,9,-999.000,9,  -999.0,9,  -999.0,9, -999.000,  -999.00, -999.00,9, -999.00,  -999.0,9,  -999.0,  27.7384,2
49NZ200107_1,       P17N,      30,          1,         10,         10,2,20010809,       0657,    35.5038,  -135.0095,       5229,  3044.4,   1.5870,2,  34.6620,2,  34.6619,2,   113.46,1,  112.92,2,  160.40,2,   39.13,2,   -0.01,2,    2.75,2,-999.000,1,-999.000,1,-999.000,1,  2361.4,2,  2431.8,2,    7.523,    25.00,   -0.11,2,    0.01,  -249.9,2,     3.0,  27.7487,2
49NZ200107_1,       P17N,      30,          1,          9,          9,2,20010809,       0657,    35.5038,  -135.0095,       5229,  3300.5,   1.5345,2,  34.6690,2,  34.6689,2,   122.55,1,  122.01,2,  158.24,2,   38.52,2,   -0.01,2,    2.70,2,-999.000,9,-999.000,9,-999.000,9,  -999.0,9,  -999.0,9, -999.000,  -999.00, -999.00,9, -999.00,  -999.0,9,  -999.0,  27.7597,2
49NZ200107_1,       P17N,      30,          1,          8,          8,2,20010809,       0657,    35.5038,  -135.0095,       5229,  3556.1,   1.5039,2,  34.6747,2,  34.6752,2,   130.91,1,  130.96,2,  156.04,2,   38.09,2,   -0.01,2,    2.64,2,-999.000,1,-999.000,1,-999.000,1,  2350.1,6,  2426.6,2,    7.553,    25.00,    0.01,2,    0.01,  -238.7,2,     2.9,  27.7682,2
49NZ200107_1,       P17N,      30,          1,          7,          7,2,20010809,       0657,    35.5038,  -135.0095,       5229,  3812.2,   1.4884,2,  34.6797,2,  34.6797,2,   137.75,1,  136.89,2,  154.67,2,   37.67,2,   -0.01,2,    2.65,2,-999.000,9,-999.000,9,-999.000,9,  -999.0,9,  -999.0,9, -999.000,  -999.00, -999.00,9, -999.00,  -999.0,9,  -999.0,  27.7751,2
49NZ200107_1,       P17N,      30,          1,          6,          6,2,20010809,       0657,    35.5038,  -135.0095,       5229,  4069.0,   1.4902,2,  34.6825,2,  34.6830,2,   143.05,1,  141.52,2,  153.28,2,   37.32,2,   -0.01,2,    2.61,2,-999.000,1,-999.000,1,-999.000,1,  2342.6,2,  2428.2,6,    7.574,    25.00,    0.08,2,    0.01,  -234.3,2,     3.0,  27.7791,2
49NZ200107_1,       P17N,      30,          1,          5,          5,2,20010809,       0657,    35.5038,  -135.0095,       5229,  4325.1,   1.5009,2,  34.6847,2,  34.6851,2,   147.89,1,  145.54,2,  151.29,2,   37.06,2,   -0.01,2,    2.61,2,-999.000,9,-999.000,9,-999.000,9,  -999.0,9,  -999.0,9, -999.000,  -999.00, -999.00,9, -999.00,  -999.0,9,  -999.0,  27.7822,2
49NZ200107_1,       P17N,      30,          1,          4,          4,2,20010809,       0657,    35.5038,  -135.0095,       5229,  4582.5,   1.5199,2,  34.6860,2,  34.6859,2,   151.98,1,  147.97,2,  149.04,2,   36.84,2,   -0.01,2,    2.58,2,-999.000,1,-999.000,1,-999.000,1,  2336.4,2,  2425.3,2,    7.585,    25.00,    0.11,2,    0.00,  -229.4,2,     2.7,  27.7840,2
49NZ200107_1,       P17N,      30,          1,          3,          3,2,20010809,       0657,    35.5038,  -135.0095,       5229,  4839.1,   1.5447,2,  34.6869,2,  34.6864,2,   155.73,1,  150.66,2,  147.07,2,   36.64,2,   -0.01,2,    2.54,2,-999.000,9,-999.000,9,-999.000,9,  -999.0,9,  -999.0,9, -999.000,  -999.00, -999.00,9, -999.00,  -999.0,9,  -999.0,  27.7851,2
49NZ200107_1,       P17N,      30,          1,          2,          2,2,20010809,       0657,    35.5038,  -135.0095,       5229,  5097.1,   1.5734,2,  34.6872,2,  34.6871,2,   157.71,1,  151.32,2,  144.99,2,   36.52,2,   -0.01,2,    2.49,2,-999.000,1,-999.000,1,-999.000,1,  2332.7,6,  2427.2,2,    7.592,    25.00,    0.17,2,    0.00,  -221.4,2,     2.8,  27.7856,2
49NZ200107_1,       P17N,      30,          1,          1,          1,2,20010809,       0657,    35.5038,  -135.0095,       5229,  5306.0,   1.6005,2,  34.6871,2,  34.6875,2,   159.85,1,  151.49,2,  145.15,2,   36.49,2,   -0.01,2,    2.55,2,-999.000,1,-999.000,1,-999.000,1,  2334.7,2,  2427.7,2,    7.592,    25.00,    0.15,2,    0.00,  -229.9,2,     3.1,  27.7855,2