BOTTLE,20220817CCHSIOAMB
EXPOCODE,SECT_ID,STNNBR,CASTNO,SAMPNO,BTLNBR,BTLNBR_FLAG_W,DATE,TIME,LATITUDE,LONGITUDE,DEPTH,CTDPRS,CTDTMP,CTDTMP_FLAG_W,CTDSAL,CTDSAL_FLAG_W,SALNTY,SALNTY_FLAG_W,CTDOXY,CTDOXY_FLAG_W,OXYGEN,OXYGEN_FLAG_W,SILCAT,SILCAT_FLAG_W,NITRAT,NITRAT_FLAG_W,NITRIT,NITRIT_FLAG_W,PHSPHT,PHSPHT_FLAG_W,CFC-11,CFC-11_FLAG_W,CFC-12,CFC-12_FLAG_W,CFC113,CFC113_FLAG_W,TCARBN,TCARBN_FLAG_W,ALKALI,ALKALI_FLAG_W,PH_TOT,PH_TMP,DELC13,DELC13_FLAG_W,C13ERR,DELC14,DELC14_FLAG_W,C14ERR,THETA,THETA_FLAG_W
,,,,,,,,,,,METERS,DBAR,ITS-90,,PSS-78,,PSS-78,,UMOL/KG,,UMOL/KG,,UMOL/KG,,UMOL/KG,,UMOL/KG,,UMOL/KG,,PMOL/KG,,PMOL/KG,,PMOL/KG,,UMOL/KG,,UMOL/KG,,,DEG C,/MILLE,,/MILLE,/MILLE,,/MILLE,DEG C,
49NZ200107_1,       P17N,      32,          1,          0,        -99,9,20010809,       2352,    36.4990,  -135.0072,       5040,     4.5,-999.0000,9,-999.0000,9,  33.0809,2,  -999.00,9,  241.36,2,    3.28,2,    0.17,2,    0.01,2,    0.25,2,-999.000,1,-999.000,1,-999.000,1,  1977.9,2,  2219.6,2,    7.971,    25.00, -999.00,9, -999.00,  -999.0,9,  -999.0,-999.0000,9
49NZ200107_1,       P17N,      32,          1,         36,         36,2,20010809,       2352,    36.4990,  -135.0072,       5040,    10.3,  19.3793,2,  33.0730,2,  33.0721,2,   231.37,1,  242.23,2,    3.13,2,    0.12,2,    0.00,2,    0.19,2,-999.000,1,-999.000,1,-999.000,1,  1975.6,2,  2207.5,2,    7.971,    25.00, -999.00,9, -999.00,  -999.0,9,  -999.0,  23.4531,2
49NZ200107_1,       P17N,      32,          1,         35,         35,2,20010809,       2352,    36.4990,  -135.0072,       5040,    25.7,  19.1552,2,  33.0564,2,  33.0557,2,   236.12,1,  249.35,2,    3.16,2,    0.04,2,    0.00,2,    0.22,2,-999.000,1,-999.000,1,-999.000,1,  1976.8,2,  2213.8,2,    7.971,    25.00, -999.00,9, -999.00,  -999.0,9,  -999.0,  23.4982,2
49NZ200107_1,       P17N,      32,          1,         34,         34,3,20010809,       2352,    36.4990,  -135.0072,       5040,    50.3,  13.8909,2,  32.9506,2,  32.9616,2,   268.11,1,  284.52,2,    4.88,2,    0.06,2,    0.01,2,    0.24,2,-999.000,1,-999.000,1,-999.000,1,  1981.8,2,  2205.8,2,    7.948,    25.00, -999.00,9, -999.00,  -999.0,9,  -999.0,  24.6277,2
49NZ200107_1,       P17N,      32,          1,         33,         33,2,20010809,       2352,    36.4990,  -135.0072,       5040,    75.4,  12.9196,2,  32.9918,2,  32.9918,2,   252.57,1,  264.39,2,    5.06,2,    0.08,2,    0.03,2,    0.28,2,-999.000,1,-999.000,1,-999.000,1,  2000.6,2,  2208.3,2,    7.910,    25.00, -999.00,9, -999.00,  -999.0,9,  -999.0,  24.8553,2
49NZ200107_1,       P17N,      32,          1,         32,         32,2,20010809,       2352,    36.4990,  -135.0072,       5040,   101.2,  12.4792,2,  32.9563,2,  32.9561,2,   247.14,1,  257.56,2,    5.35,2,    0.88,2,    0.02,2,    0.35,2,-999.000,1,-999.000,1,-999.000,1,  2005.5,2,  2209.4,6,    7.895,    25.00, -999.00,9, -999.00,  -999.0,9,  -999.0,  24.9138,2
49NZ200107_1,       P17N,      32,          1,         31,         31,2,20010809,       2352,    36.4990,  -135.0072,       5040,   151.4,  10.0556,2,  33.1064,2,  33.1185,2,   225.74,1,  237.81,2,   10.55,2,    9.51,2,    0.01,2,    0.84,2,-999.000,1,-999.000,1,-999.000,1,  2055.0,2,  2213.0,2,    7.787,    25.00, -999.00,9, -999.00,  -999.0,9,  -999.0,  25.4671,2
49NZ200107_1,       P17N,      32,          1,         30,         30,2,20010809,       2352,    36.4990,  -135.0072,       5040,   202.1,   9.0581,2,  33.6786,2,  33.6927,2,   159.37,1,  171.73,2,   23.23,2,   15.95,2,    0.00,2,    1.18,2,-999.000,1,-999.000,1,-999.000,1,  2141.7,6,  2235.3,2,    7.630,    25.00, -999.00,9, -999.00,  -999.0,9,  -999.0,  26.0777,2
49NZ200107_1,       P17N,      32,          1,         29,         29,2,20010809,       2352,    36.4990,  -135.0072,       5040,   252.7,   8.5532,2,  33.9272,2,  33.9376,2,   111.05,1,  113.71,2,   34.01,2,   24.95,2,    0.00,2,    1.73,2,-999.000,1,-999.000,1,-999.000,1,  2196.0,2,  2256.3,2,    7.518,    25.00, -999.00,9, -999.00,  -999.0,9,  -999.0,  26.3519,2
49NZ200107_1,       P17N,      32,          1,         28,         28,2,20010809,       2352,    36.4990,  -135.0072,       5040,   303.0,   7.8152,2,  33.9983,2,  34.0015,2,    96.05,1,   96.92,2,   41.26,2,   31.39,2,    0.01,2,    2.16,2,-999.000,1,-999.000,1,-999.000,1,  2219.2,2,  2261.0,2,    7.479,    25.00, -999.00,9, -999.00,  -999.0,9,  -999.0,  26.5187,2
49NZ200107_1,       P17N,      32,          1,         27,         27,3,20010809,       2352,    36.4990,  -135.0072,       5040,   353.4,   7.2748,2,  34.0176,2,  34.0172,2,    84.57,1,   85.20,2,   46.56,2,   33.31,2,    0.01,2,    2.31,2,-999.000,1,-999.000,1,-999.000,1,  2233.9,2,  2272.6,2,    7.451,    25.00, -999.00,9, -999.00,  -999.0,9,  -999.0,  26.6115,2
49NZ200107_1,       P17N,      32,          1,         26,         26,2,20010809,       2352,    36.4990,  -135.0072,       5040,   404.1,   6.7612,2,  34.0331,2,  34.0332,2,    73.91,1,   74.24,2,   50.73,2,   34.77,2,    0.00,2,    2.42,2,-999.000,1,-999.000,1,-999.000,1,  2250.4,6,  2279.5,2,    7.422,    25.00, -999.00,9, -999.00,  -999.0,9,  -999.0,  26.6945,2
49NZ200107_1,       P17N,      32,          1,         25,         25,2,20010809,       2352,    36.4990,  -135.0072,       5040,   504.4,   5.9534,2,  34.0757,2,  34.0783,2,    50.97,1,   49.00,2,   63.54,2,   38.90,2,    0.01,2,    2.75,2,-999.000,1,-999.000,1,-999.000,1,  2281.9,2,  2294.1,2,    7.368,    25.00, -999.00,9, -999.00,  -999.0,9,  -999.0,  26.8336,2
49NZ200107_1,       P17N,      32,          1,         24,         24,2,20010809,       2352,    36.4990,  -135.0072,       5040,   605.8,   5.3474,2,  34.1489,2,  34.1491,2,    31.58,1,   27.69,2,   76.37,2,   41.40,2,    0.00,2,    2.96,2,-999.000,1,-999.000,1,-999.000,1,  2313.2,2,  2310.2,6,    7.333,    25.00, -999.00,9, -999.00,  -999.0,9,  -999.0,  26.9659,2
49NZ200107_1,       P17N,      32,          1,         23,         23,2,20010809,       2352,    36.4990,  -135.0072,       5040,   706.9,   4.8484,2,  34.2277,2,  34.2293,2,    20.76,1,   14.62,2,   88.86,2,   43.04,2,    0.00,2,    3.10,2,-999.000,1,-999.000,1,-999.000,1,  2334.0,2,  2324.7,2,    7.319,    25.00, -999.00,9, -999.00,  -999.0,9,  -999.0,  27.0866,2
49NZ200107_1,       P17N,      32,          1,         22,         22,2,20010809,       2352,    36.4990,  -135.0072,       5040,   807.6,   4.4848,2,  34.2974,2,  34.2971,2,    17.03,1,   10.33,2,   98.01,2,   43.99,2,    0.00,2,    3.16,2,-999.000,1,-999.000,1,-999.000,1,  2349.2,6,  2344.6,2,    7.321,    25.00, -999.00,9, -999.00,  -999.0,9,  -999.0,  27.1826,2
49NZ200107_1,       P17N,      32,          1,         21,         21,2,20010809,       2352,    36.4990,  -135.0072,       5040,   909.4,   4.1068,2,  34.3616,2,  34.3606,2,    16.88,1,   10.54,2,  107.01,2,   44.35,2,    0.00,2,    3.20,2,-999.000,1,-999.000,1,-999.000,1,  2361.7,2,  2356.5,2,    7.326,    25.00, -999.00,9, -999.00,  -999.0,9,  -999.0,  27.2743,2
49NZ200107_1,       P17N,      32,          1,         20,         20,2,20010809,       2352,    36.4990,  -135.0072,       5040,  1009.7,   3.8282,2,  34.4128,2,  34.4114,2,    19.73,1,   12.29,2,  114.21,2,   44.51,2,    0.00,2,    3.19,2,-999.000,1,-999.000,1,-999.000,1,  2367.4,2,  2366.7,6,    7.336,    25.00, -999.00,9, -999.00,  -999.0,9,  -999.0,  27.3442,2
49NZ200107_1,       P17N,      32,          1,         19,         19,2,20010809,       2352,    36.4990,  -135.0072,       5040,  1111.4,   3.5570,2,  34.4534,2,  34.4536,2,    24.59,1,   17.32,2,  121.20,2,   44.54,2,    0.01,2,    3.13,2,-999.000,1,-999.000,1,-999.000,1,  2373.7,2,  2381.1,3,    7.347,    25.00, -999.00,9, -999.00,  -999.0,9,  -999.0,  27.4039,2
49NZ200107_1,       P17N,      32,          1,         18,         18,2,20010809,       2352,    36.4990,  -135.0072,       5040,  1212.2,   3.2880,2,  34.4804,2,  34.4811,2,    28.97,1,   22.71,2,  128.00,2,   44.15,2,   -0.01,2,    3.10,2,-999.000,1,-999.000,1,-999.000,1,  2378.7,6,  2383.6,2,    7.356,    25.00, -999.00,9, -999.00,  -999.0,9,  -999.0,  27.4517,2
49NZ200107_1,       P17N,      32,          1,         17,         17,2,20010809,       2352,    36.4990,  -135.0072,       5040,  1415.3,   2.8943,2,  34.5222,2,  34.5216,2,    38.62,1,   32.25,2,  137.51,2,   43.41,2,    0.00,2,    3.06,2,-999.000,1,-999.000,1,-999.000,1,  2382.6,2,  2394.5,2,    7.375,    25.00, -999.00,9, -999.00,  -999.0,9,  -999.0,  27.5222,2
49NZ200107_1,       P17N,      32,          1,         16,         16,2,20010809,       2352,    36.4990,  -135.0072,       5040,  1617.7,   2.5705,2,  34.5566,2,  34.5565,2,    49.82,1,   45.07,2,  145.35,2,   42.85,2,    0.00,2,    3.00,2,-999.000,1,-999.000,1,-999.000,1,  2384.0,2,  2403.4,2,    7.399,    25.00, -999.00,9, -999.00,  -999.0,9,  -999.0,  27.5789,2
49NZ200107_1,       P17N,      32,          1,         15,         15,2,20010809,       2352,    36.4990,  -135.0072,       5040,  1821.0,   2.2008,2,  34.5844,2,  34.5842,2,    60.70,1,   56.28,2,  155.10,2,   42.18,2,   -0.01,2,    2.95,2,-999.000,1,-999.000,1,-999.000,1,  2385.2,2,  2417.4,2,    7.421,    25.00, -999.00,9, -999.00,  -999.0,9,  -999.0,  27.6326,2
49NZ200107_1,       P17N,      32,          1,         14,         14,2,20010809,       2352,    36.4990,  -135.0072,       5040,  2024.3,   2.0088,2,  34.6066,2,  34.6068,2,    71.82,1,   68.22,2,  159.73,2,   41.59,2,    0.00,2,    2.91,2,-999.000,1,-999.000,1,-999.000,1,  2383.2,2,  2420.4,2,    7.444,    25.00, -999.00,9, -999.00,  -999.0,9,  -999.0,  27.6667,2
49NZ200107_1,       P17N,      32,          1,         13,         13,2,20010809,       2352,    36.4990,  -135.0072,       5040,  2227.5,   1.8825,2,  34.6228,2,  34.6231,2,    81.50,1,   78.40,2,  162.26,2,   40.96,2,    0.01,2,    2.87,2,-999.000,1,-999.000,1,-999.000,1,  2379.6,2,  2426.0,2,    7.463,    25.00, -999.00,9, -999.00,  -999.0,9,  -999.0,  27.6905,2
49NZ200107_1,       P17N,      32,          1,         12,         12,2,20010809,       2352,    36.4990,  -135.0072,       5040,  2430.9,   1.7878,2,  34.6360,2,  34.6355,2,    89.96,1,   87.80,2,  163.27,2,   40.40,2,    0.01,2,    2.81,2,-999.000,9,-999.000,9,-999.000,9,  -999.0,9,  -999.0,9, -999.000,  -999.00, -999.00,9, -999.00,  -999.0,9,  -999.0,  27.7094,2
49NZ200107_1,       P17N,      32,          1,         11,         11,2,20010809,       2352,    36.4990,  -135.0072,       5040,  2634.4,   1.7216,2,  34.6450,2,  34.6448,2,    97.46,1,   95.45,2,  162.38,2,   40.01,2,    0.01,2,    2.78,2,-999.000,1,-999.000,1,-999.000,1,  2371.0,2,  2428.6,2,    7.495,    25.00, -999.00,9, -999.00,  -999.0,9,  -999.0,  27.7227,2
49NZ200107_1,       P17N,      32,          1,         10,         10,2,20010809,       2352,    36.4990,  -135.0072,       5040,  2839.1,   1.6547,2,  34.6532,2,  34.6532,2,   104.85,1,  103.37,2,  162.61,2,   39.54,2,    0.00,2,    2.74,2,-999.000,9,-999.000,9,-999.000,9,  -999.0,9,  -999.0,9, -999.000,  -999.00, -999.00,9, -999.00,  -999.0,9,  -999.0,  27.7355,2
49NZ200107_1,       P17N,      32,          1,          9,          9,2,20010809,       2352,    36.4990,  -135.0072,       5040,  3043.5,   1.6094,2,  34.6592,2,  34.6593,2,   110.94,1,  109.55,2,  162.99,2,   38.94,2,    0.00,2,    2.71,2,-999.000,1,-999.000,1,-999.000,1,  2363.8,6,  2427.6,2,    7.524,    25.00, -999.00,9, -999.00,  -999.0,9,  -999.0,  27.7449,2
49NZ200107_1,       P17N,      32,          1,          8,          8,2,20010809,       2352,    36.4990,  -135.0072,       5040,  3299.1,   1.5665,2,  34.6662,2,  34.6661,2,   118.84,1,  117.68,2,  162.36,2,   38.50,2,    0.00,2,    2.65,2,-999.000,9,-999.000,9,-999.000,9,  -999.0,9,  -999.0,9, -999.000,  -999.00, -999.00,9, -999.00,  -999.0,9,  -999.0,  27.7552,2
49NZ200107_1,       P17N,      32,          1,          7,          7,2,20010809,       2352,    36.4990,  -135.0072,       5040,  3555.1,   1.5293,2,  34.6731,2,  34.6728,2,   127.73,1,  126.24,2,  160.17,2,   38.15,2,    0.00,2,    2.62,2,-999.000,1,-999.000,1,-999.000,1,  2353.3,2,  2432.9,2,    7.553,    25.00, -999.00,9, -999.00,  -999.0,9,  -999.0,  27.7652,2
49NZ200107_1,       P17N,      32,          1,          6,          6,2,20010809,       2352,    36.4990,  -135.0072,       5040,  3810.7,   1.5057,2,  34.6786,2,  34.6784,2,   135.38,1,  133.24,2,  158.58,2,   37.76,2,    0.00,2,    2.60,2,-999.000,9,-999.000,9,-999.000,9,  -999.0,9,  -999.0,9, -999.000,  -999.00, -999.00,9, -999.00,  -999.0,9,  -999.0,  27.7731,2
49NZ200107_1,       P17N,      32,          1,          5,          5,2,20010809,       2352,    36.4990,  -135.0072,       5040,  4067.0,   1.5017,2,  34.6824,2,  34.6824,2,   141.33,1,  139.29,2,  157.34,2,   37.36,2,    0.00,2,    2.56,2,-999.000,1,-999.000,1,-999.000,1,  2342.9,2,  2434.4,6,    7.580,    25.00, -999.00,9, -999.00,  -999.0,9,  -999.0,  27.7783,2
49NZ200107_1,       P17N,      32,          1,          4,          4,2,20010809,       2352,    36.4990,  -135.0072,       5040,  4323.8,   1.5084,2,  34.6848,2,  34.6849,2,   146.77,1,  143.82,2,  154.32,2,   37.13,2,    0.01,2,    2.52,2,-999.000,9,-999.000,9,-999.000,9,  -999.0,9,  -999.0,9, -999.000,  -999.00, -999.00,9, -999.00,  -999.0,9,  -999.0,  27.7817,2
49NZ200107_1,       P17N,      32,          1,          3,          3,2,20010809,       2352,    36.4990,  -135.0072,       5040,  4581.4,   1.5269,2,  34.6862,2,  34.6859,2,   150.69,1,  146.21,2,  151.81,2,   37.00,2,    0.00,2,    2.52,2,-999.000,1,-999.000,1,-999.000,1,  2338.4,2,  2424.4,3,    7.592,    25.00, -999.00,9, -999.00,  -999.0,9,  -999.0,  27.7837,2
49NZ200107_1,       P17N,      32,          1,          2,          2,2,20010809,       2352,    36.4990,  -135.0072,       5040,  4837.9,   1.5518,2,  34.6872,2,  34.6872,2,   154.51,1,  148.69,2,  148.91,2,   36.83,2,    0.01,2,    2.50,2,-999.000,9,-999.000,9,-999.000,9,  -999.0,9,  -999.0,9, -999.000,  -999.00, -999.00,9, -999.00,  -999.0,9,  -999.0,  27.7849,2
49NZ200107_1,       P17N,      32,          1,          1,          1,2,20010809,       2352,    36.4990,  -135.0072,       5040,  5092.4,   1.5802,2,  34.6876,2,  34.6876,2,   158.62,1,  149.96,2,  147.11,2,   36.78,2,    0.00,2,    2.50,2,-999.000,1,-999.000,1,-999.000,1,  2336.3,2,  2432.0,2,    7.595,    25.00, -999.00,9, -999.00,  -999.0,9,  -999.0,  27.7854,2