BOTTLE,20220817CCHSIOAMB
EXPOCODE,SECT_ID,STNNBR,CASTNO,SAMPNO,BTLNBR,BTLNBR_FLAG_W,DATE,TIME,LATITUDE,LONGITUDE,DEPTH,CTDPRS,CTDTMP,CTDTMP_FLAG_W,CTDSAL,CTDSAL_FLAG_W,SALNTY,SALNTY_FLAG_W,CTDOXY,CTDOXY_FLAG_W,OXYGEN,OXYGEN_FLAG_W,SILCAT,SILCAT_FLAG_W,NITRAT,NITRAT_FLAG_W,NITRIT,NITRIT_FLAG_W,PHSPHT,PHSPHT_FLAG_W,CFC-11,CFC-11_FLAG_W,CFC-12,CFC-12_FLAG_W,CFC113,CFC113_FLAG_W,TCARBN,TCARBN_FLAG_W,ALKALI,ALKALI_FLAG_W,PH_TOT,PH_TMP,DELC13,DELC13_FLAG_W,C13ERR,DELC14,DELC14_FLAG_W,C14ERR,THETA,THETA_FLAG_W
,,,,,,,,,,,METERS,DBAR,ITS-90,,PSS-78,,PSS-78,,UMOL/KG,,UMOL/KG,,UMOL/KG,,UMOL/KG,,UMOL/KG,,UMOL/KG,,PMOL/KG,,PMOL/KG,,PMOL/KG,,UMOL/KG,,UMOL/KG,,,DEG C,/MILLE,,/MILLE,/MILLE,,/MILLE,DEG C,
49NZ200107_1,       P17N,      45,          1,          0,        -99,9,20010812,       1118,    40.5032,  -135.0017,       4218,     4.5,-999.0000,9,-999.0000,9,  32.6301,2,  -999.00,9,  348.43,2,    0.93,2,    0.04,2,    0.01,2,    0.36,2,-999.000,9,-999.000,9,-999.000,9,  -999.0,9,  -999.0,9, -999.000,  -999.00, -999.00,9, -999.00,  -999.0,9,  -999.0,-999.0000,9
49NZ200107_1,       P17N,      45,          1,         36,         36,2,20010812,       1118,    40.5032,  -135.0017,       4218,    11.1,  17.5016,2,  32.6299,2,  32.6299,2,   239.12,1,  247.89,2,    1.07,2,    0.03,2,    0.00,2,    0.31,2,-999.000,9,-999.000,9,-999.000,9,  -999.0,9,  -999.0,9, -999.000,  -999.00, -999.00,9, -999.00,  -999.0,9,  -999.0,  23.5780,2
49NZ200107_1,       P17N,      45,          1,         35,         35,3,20010812,       1118,    40.5032,  -135.0017,       4218,    26.1,  17.4903,2,  32.6170,2,  32.6277,2,   240.69,1,  249.36,2,    0.95,2,    0.00,2,    0.00,2,    0.31,2,-999.000,9,-999.000,9,-999.000,9,  -999.0,9,  -999.0,9, -999.000,  -999.00, -999.00,9, -999.00,  -999.0,9,  -999.0,  23.5714,2
49NZ200107_1,       P17N,      45,          1,         34,         34,3,20010812,       1118,    40.5032,  -135.0017,       4218,    51.3,  12.0482,2,  32.6318,2,  32.6264,2,   276.00,1,  292.18,2,    2.53,2,    0.00,2,    0.01,2,    0.38,2,-999.000,9,-999.000,9,-999.000,9,  -999.0,9,  -999.0,9, -999.000,  -999.00, -999.00,9, -999.00,  -999.0,9,  -999.0,  24.7425,2
49NZ200107_1,       P17N,      45,          1,         33,         33,2,20010812,       1118,    40.5032,  -135.0017,       4218,    76.7,  10.9851,2,  32.6302,2,  32.6310,2,   258.05,1,  268.13,2,    4.90,2,    3.23,2,    0.24,2,    0.57,2,-999.000,9,-999.000,9,-999.000,9,  -999.0,9,  -999.0,9, -999.000,  -999.00, -999.00,9, -999.00,  -999.0,9,  -999.0,  24.9348,2
49NZ200107_1,       P17N,      45,          1,         32,         32,2,20010812,       1118,    40.5032,  -135.0017,       4218,   101.7,  10.2364,2,  32.5991,2,  32.5920,2,   258.24,1,  269.17,2,    6.81,2,    5.29,2,    0.02,2,    0.69,2,-999.000,9,-999.000,9,-999.000,9,  -999.0,9,  -999.0,9, -999.000,  -999.00, -999.00,9, -999.00,  -999.0,9,  -999.0,  25.0400,2
49NZ200107_1,       P17N,      45,          1,         31,         31,2,20010812,       1118,    40.5032,  -135.0017,       4218,   152.3,   8.1676,2,  32.9725,2,  32.9891,2,   239.26,1,  250.46,2,   12.46,2,   12.66,2,    0.01,2,    1.08,2,-999.000,9,-999.000,9,-999.000,9,  -999.0,9,  -999.0,9, -999.000,  -999.00, -999.00,9, -999.00,  -999.0,9,  -999.0,  25.6594,2
49NZ200107_1,       P17N,      45,          1,         30,         30,2,20010812,       1118,    40.5032,  -135.0017,       4218,   202.7,   8.2153,2,  33.6748,2,  33.6961,2,   210.32,1,  220.53,2,   19.20,2,   16.84,2,    0.01,2,    1.23,2,-999.000,9,-999.000,9,-999.000,9,  -999.0,9,  -999.0,9, -999.000,  -999.00, -999.00,9, -999.00,  -999.0,9,  -999.0,  26.2042,2
49NZ200107_1,       P17N,      45,          1,         29,         29,2,20010812,       1118,    40.5032,  -135.0017,       4218,   252.8,   8.2954,2,  33.9861,2,  33.9855,2,   182.37,1,  191.64,2,   26.92,2,   20.92,2,    0.01,2,    1.44,2,-999.000,9,-999.000,9,-999.000,9,  -999.0,9,  -999.0,9, -999.000,  -999.00, -999.00,9, -999.00,  -999.0,9,  -999.0,  26.4372,2
49NZ200107_1,       P17N,      45,          1,         28,         28,2,20010812,       1118,    40.5032,  -135.0017,       4218,   303.4,   7.4680,2,  33.9899,2,  33.9873,2,   150.84,1,  156.35,2,   37.43,2,   26.38,2,    0.01,2,    1.79,2,-999.000,9,-999.000,9,-999.000,9,  -999.0,9,  -999.0,9, -999.000,  -999.00, -999.00,9, -999.00,  -999.0,9,  -999.0,  26.5619,2
49NZ200107_1,       P17N,      45,          1,         27,         27,3,20010812,       1118,    40.5032,  -135.0017,       4218,   353.9,   6.7142,2,  33.9748,2,  33.9710,2,   123.98,1,  126.15,2,   46.98,2,   30.81,2,    0.01,2,    2.11,2,-999.000,9,-999.000,9,-999.000,9,  -999.0,9,  -999.0,9, -999.000,  -999.00, -999.00,9, -999.00,  -999.0,9,  -999.0,  26.6542,2
49NZ200107_1,       P17N,      45,          1,         26,         26,2,20010812,       1118,    40.5032,  -135.0017,       4218,   404.6,   6.0276,2,  33.9646,2,  33.9631,2,   104.36,1,  106.81,2,   54.87,2,   33.93,2,    0.01,2,    2.33,2,-999.000,9,-999.000,9,-999.000,9,  -999.0,9,  -999.0,9, -999.000,  -999.00, -999.00,9, -999.00,  -999.0,9,  -999.0,  26.7354,2
49NZ200107_1,       P17N,      45,          1,         25,         25,2,20010812,       1118,    40.5032,  -135.0017,       4218,   505.3,   5.0128,2,  33.9968,2,  33.9971,2,    68.93,1,   67.88,2,   71.77,2,   38.98,2,    0.01,2,    2.72,2,-999.000,9,-999.000,9,-999.000,9,  -999.0,9,  -999.0,9, -999.000,  -999.00, -999.00,9, -999.00,  -999.0,9,  -999.0,  26.8830,2
49NZ200107_1,       P17N,      45,          1,         24,         24,2,20010812,       1118,    40.5032,  -135.0017,       4218,   606.1,   4.5126,2,  34.1039,2,  34.1061,2,    34.87,1,   30.05,2,   87.84,2,   42.69,2,    0.02,2,    2.99,2,-999.000,9,-999.000,9,-999.000,9,  -999.0,9,  -999.0,9, -999.000,  -999.00, -999.00,9, -999.00,  -999.0,9,  -999.0,  27.0242,2
49NZ200107_1,       P17N,      45,          1,         23,         23,2,20010812,       1118,    40.5032,  -135.0017,       4218,   707.7,   4.2192,2,  34.1868,2,  34.1915,2,    21.99,1,   16.75,2,   99.53,2,   44.00,2,    0.01,2,    3.11,2,-999.000,9,-999.000,9,-999.000,9,  -999.0,9,  -999.0,9, -999.000,  -999.00, -999.00,9, -999.00,  -999.0,9,  -999.0,  27.1220,2
49NZ200107_1,       P17N,      45,          1,         22,         22,2,20010812,       1118,    40.5032,  -135.0017,       4218,   808.8,   3.9630,2,  34.2733,2,  34.2735,2,    16.42,1,    9.80,2,  108.94,2,   44.55,2,    0.01,2,    3.19,2,-999.000,9,-999.000,9,-999.000,9,  -999.0,9,  -999.0,9, -999.000,  -999.00, -999.00,9, -999.00,  -999.0,9,  -999.0,  27.2180,2
49NZ200107_1,       P17N,      45,          1,         21,         21,3,20010812,       1118,    40.5032,  -135.0017,       4218,   909.6,   3.7168,2,  34.3348,2,  34.3350,2,    15.41,1,    9.07,3,  116.89,2,   44.81,2,    0.00,2,    3.21,2,-999.000,9,-999.000,9,-999.000,9,  -999.0,9,  -999.0,9, -999.000,  -999.00, -999.00,9, -999.00,  -999.0,9,  -999.0,  27.2923,2
49NZ200107_1,       P17N,      45,          1,         20,         20,2,20010812,       1118,    40.5032,  -135.0017,       4218,  1011.3,   3.4587,2,  34.3814,2,  34.3811,2,    16.28,1,    8.90,2,  124.36,2,   45.09,2,    0.01,2,    3.22,2,-999.000,9,-999.000,9,-999.000,9,  -999.0,9,  -999.0,9, -999.000,  -999.00, -999.00,9, -999.00,  -999.0,9,  -999.0,  27.3551,2
49NZ200107_1,       P17N,      45,          1,         19,         19,2,20010812,       1118,    40.5032,  -135.0017,       4218,  1112.7,   3.2260,2,  34.4240,2,  34.4237,2,    18.54,1,   11.19,2,  129.44,2,   45.01,2,    0.00,2,    3.18,2,-999.000,9,-999.000,9,-999.000,9,  -999.0,9,  -999.0,9, -999.000,  -999.00, -999.00,9, -999.00,  -999.0,9,  -999.0,  27.4117,2
49NZ200107_1,       P17N,      45,          1,         18,         18,2,20010812,       1118,    40.5032,  -135.0017,       4218,  1214.0,   3.0252,2,  34.4576,2,  34.4570,2,    21.78,1,   14.21,2,  134.66,2,   45.00,2,    0.00,2,    3.19,2,-999.000,9,-999.000,9,-999.000,9,  -999.0,9,  -999.0,9, -999.000,  -999.00, -999.00,9, -999.00,  -999.0,9,  -999.0,  27.4575,2
49NZ200107_1,       P17N,      45,          1,         17,         17,2,20010812,       1118,    40.5032,  -135.0017,       4218,  1315.0,   2.8518,2,  34.4866,2,  34.4861,2,    26.37,1,   20.04,2,  138.99,2,   44.80,2,    0.00,2,    3.17,2,-999.000,9,-999.000,9,-999.000,9,  -999.0,9,  -999.0,9, -999.000,  -999.00, -999.00,9, -999.00,  -999.0,9,  -999.0,  27.4967,2
49NZ200107_1,       P17N,      45,          1,         16,         16,2,20010812,       1118,    40.5032,  -135.0017,       4218,  1416.3,   2.6820,2,  34.5069,2,  34.5071,2,    30.48,1,   23.41,2,  143.28,2,   44.73,2,    0.00,2,    3.14,2,-999.000,9,-999.000,9,-999.000,9,  -999.0,9,  -999.0,9, -999.000,  -999.00, -999.00,9, -999.00,  -999.0,9,  -999.0,  27.5284,2
49NZ200107_1,       P17N,      45,          1,         15,         15,2,20010812,       1118,    40.5032,  -135.0017,       4218,  1517.9,   2.4800,2,  34.5322,2,  34.5327,2,    37.48,1,   31.07,2,  148.37,2,   44.29,2,   -0.01,2,    3.13,2,-999.000,9,-999.000,9,-999.000,9,  -999.0,9,  -999.0,9, -999.000,  -999.00, -999.00,9, -999.00,  -999.0,9,  -999.0,  27.5662,2
49NZ200107_1,       P17N,      45,          1,         14,         14,2,20010812,       1118,    40.5032,  -135.0017,       4218,  1619.8,   2.3231,2,  34.5581,2,  34.5580,2,    47.49,1,   41.78,2,  151.66,2,   43.50,2,   -0.01,2,    3.07,2,-999.000,9,-999.000,9,-999.000,9,  -999.0,9,  -999.0,9, -999.000,  -999.00, -999.00,9, -999.00,  -999.0,9,  -999.0,  27.6004,2
49NZ200107_1,       P17N,      45,          1,         13,         13,2,20010812,       1118,    40.5032,  -135.0017,       4218,  1721.3,   2.1896,2,  34.5743,2,  34.5740,2,    54.17,1,   49.09,2,  154.32,2,   43.18,2,    0.00,2,    3.03,2,-999.000,9,-999.000,9,-999.000,9,  -999.0,9,  -999.0,9, -999.000,  -999.00, -999.00,9, -999.00,  -999.0,9,  -999.0,  27.6248,2
49NZ200107_1,       P17N,      45,          1,         12,         12,2,20010812,       1118,    40.5032,  -135.0017,       4218,  1822.3,   2.0974,2,  34.5858,2,  34.5856,2,    59.85,1,   54.86,2,  156.55,2,   42.91,2,    0.00,2,    3.03,2,-999.000,9,-999.000,9,-999.000,9,  -999.0,9,  -999.0,9, -999.000,  -999.00, -999.00,9, -999.00,  -999.0,9,  -999.0,  27.6418,2
49NZ200107_1,       P17N,      45,          1,         11,         11,2,20010812,       1118,    40.5032,  -135.0017,       4218,  2026.4,   1.9393,2,  34.6090,2,  34.6090,2,    72.12,1,   68.76,2,  161.69,2,   41.89,2,    0.01,2,    2.93,2,-999.000,9,-999.000,9,-999.000,9,  -999.0,9,  -999.0,9, -999.000,  -999.00, -999.00,9, -999.00,  -999.0,9,  -999.0,  27.6738,2
49NZ200107_1,       P17N,      45,          1,         10,         10,2,20010812,       1118,    40.5032,  -135.0017,       4218,  2229.5,   1.8334,2,  34.6240,2,  34.6241,2,    81.87,1,   79.03,2,  162.98,2,   41.22,2,    0.01,2,    2.90,2,-999.000,9,-999.000,9,-999.000,9,  -999.0,9,  -999.0,9, -999.000,  -999.00, -999.00,9, -999.00,  -999.0,9,  -999.0,  27.6951,2
49NZ200107_1,       P17N,      45,          1,          9,          9,2,20010812,       1118,    40.5032,  -135.0017,       4218,  2434.2,   1.7388,2,  34.6374,2,  34.6374,2,    91.82,1,   88.57,2,  163.88,2,   40.60,2,    0.01,2,    2.86,2,-999.000,9,-999.000,9,-999.000,9,  -999.0,9,  -999.0,9, -999.000,  -999.00, -999.00,9, -999.00,  -999.0,9,  -999.0,  27.7141,2
49NZ200107_1,       P17N,      45,          1,          8,          8,2,20010812,       1118,    40.5032,  -135.0017,       4218,  2637.6,   1.6748,2,  34.6468,2,  34.6465,2,    99.69,1,   96.90,2,  163.95,2,   40.13,2,    0.01,2,    2.82,2,-999.000,9,-999.000,9,-999.000,9,  -999.0,9,  -999.0,9, -999.000,  -999.00, -999.00,9, -999.00,  -999.0,9,  -999.0,  27.7276,2
49NZ200107_1,       P17N,      45,          1,          7,          7,2,20010812,       1118,    40.5032,  -135.0017,       4218,  2841.7,   1.6378,2,  34.6529,2,  34.6527,2,   105.88,1,  102.69,2,  163.61,2,   39.84,2,    0.01,2,    2.77,2,-999.000,9,-999.000,9,-999.000,9,  -999.0,9,  -999.0,9, -999.000,  -999.00, -999.00,9, -999.00,  -999.0,9,  -999.0,  27.7365,2
49NZ200107_1,       P17N,      45,          1,          6,          6,2,20010812,       1118,    40.5032,  -135.0017,       4218,  3045.8,   1.6087,2,  34.6583,2,  34.6583,2,   111.58,1,  108.09,2,  163.25,2,   39.56,2,    0.01,2,    2.76,2,-999.000,9,-999.000,9,-999.000,9,  -999.0,9,  -999.0,9, -999.000,  -999.00, -999.00,9, -999.00,  -999.0,9,  -999.0,  27.7442,2
49NZ200107_1,       P17N,      45,          1,          5,          5,2,20010812,       1118,    40.5032,  -135.0017,       4218,  3302.0,   1.5712,2,  34.6651,2,  34.6651,2,   119.26,1,  115.61,2,  162.37,2,   39.13,2,    0.01,2,    2.72,2,-999.000,9,-999.000,9,-999.000,9,  -999.0,9,  -999.0,9, -999.000,  -999.00, -999.00,9, -999.00,  -999.0,9,  -999.0,  27.7540,2
49NZ200107_1,       P17N,      45,          1,          4,          4,2,20010812,       1118,    40.5032,  -135.0017,       4218,  3557.8,   1.5502,2,  34.6706,2,  34.6706,2,   125.37,1,  121.16,2,  162.98,2,   38.77,2,    0.00,2,    2.69,2,-999.000,9,-999.000,9,-999.000,9,  -999.0,9,  -999.0,9, -999.000,  -999.00, -999.00,9, -999.00,  -999.0,9,  -999.0,  27.7618,2
49NZ200107_1,       P17N,      45,          1,          3,          3,2,20010812,       1118,    40.5032,  -135.0017,       4218,  3813.4,   1.5430,2,  34.6750,2,  34.6748,2,   130.62,1,  125.63,2,  163.94,2,   38.46,2,    0.01,2,    2.68,2,-999.000,9,-999.000,9,-999.000,9,  -999.0,9,  -999.0,9, -999.000,  -999.00, -999.00,9, -999.00,  -999.0,9,  -999.0,  27.7677,2
49NZ200107_1,       P17N,      45,          1,          2,          2,2,20010812,       1118,    40.5032,  -135.0017,       4218,  4070.6,   1.5476,2,  34.6785,2,  34.6788,2,   134.85,1,  128.48,2,  163.89,2,   38.26,2,    0.00,2,    2.62,2,-999.000,9,-999.000,9,-999.000,9,  -999.0,9,  -999.0,9, -999.000,  -999.00, -999.00,9, -999.00,  -999.0,9,  -999.0,  27.7721,2
49NZ200107_1,       P17N,      45,          1,          1,          1,2,20010812,       1118,    40.5032,  -135.0017,       4218,  4239.3,   1.5536,2,  34.6806,2,  34.6810,2,   137.74,1,  130.44,2,  165.19,2,   38.03,2,    0.00,2,    2.63,2,-999.000,9,-999.000,9,-999.000,9,  -999.0,9,  -999.0,9, -999.000,  -999.00, -999.00,9, -999.00,  -999.0,9,  -999.0,  27.7747,2