BOTTLE,20220817CCHSIOAMB
EXPOCODE,SECT_ID,STNNBR,CASTNO,SAMPNO,BTLNBR,BTLNBR_FLAG_W,DATE,TIME,LATITUDE,LONGITUDE,DEPTH,CTDPRS,CTDTMP,CTDTMP_FLAG_W,CTDSAL,CTDSAL_FLAG_W,SALNTY,SALNTY_FLAG_W,CTDOXY,CTDOXY_FLAG_W,OXYGEN,OXYGEN_FLAG_W,SILCAT,SILCAT_FLAG_W,NITRAT,NITRAT_FLAG_W,NITRIT,NITRIT_FLAG_W,PHSPHT,PHSPHT_FLAG_W,CFC-11,CFC-11_FLAG_W,CFC-12,CFC-12_FLAG_W,CFC113,CFC113_FLAG_W,TCARBN,TCARBN_FLAG_W,ALKALI,ALKALI_FLAG_W,PH_TOT,PH_TMP,DELC13,DELC13_FLAG_W,C13ERR,DELC14,DELC14_FLAG_W,C14ERR,THETA,THETA_FLAG_W
,,,,,,,,,,,METERS,DBAR,ITS-90,,PSS-78,,PSS-78,,UMOL/KG,,UMOL/KG,,UMOL/KG,,UMOL/KG,,UMOL/KG,,UMOL/KG,,PMOL/KG,,PMOL/KG,,PMOL/KG,,UMOL/KG,,UMOL/KG,,,DEG C,/MILLE,,/MILLE,/MILLE,,/MILLE,DEG C,
49NZ200107_1,       P17N,      42,          1,          0,        -99,9,20010811,       2203,    39.9143,  -135.0138,       3324,     4.5,-999.0000,9,-999.0000,9,  32.6071,2,  -999.00,9,  249.76,2,    0.14,2,    0.07,2,    0.02,2,    0.36,2,-999.000,9,-999.000,9,-999.000,9,  -999.0,9,  -999.0,9, -999.000,  -999.00, -999.00,9, -999.00,  -999.0,9,  -999.0,-999.0000,9
49NZ200107_1,       P17N,      42,          1,         36,         36,2,20010811,       2203,    39.9143,  -135.0138,       3324,    11.0,  17.3558,2,  32.6052,2,  32.6031,2,   240.91,1,  250.67,2,    0.38,2,    0.13,2,    0.01,2,    0.31,2,-999.000,9,-999.000,9,-999.000,9,  -999.0,9,  -999.0,9, -999.000,  -999.00, -999.00,9, -999.00,  -999.0,9,  -999.0,  23.5937,2
49NZ200107_1,       P17N,      42,          1,         35,         35,3,20010811,       2203,    39.9143,  -135.0138,       3324,    25.5,  17.1931,2,  32.6001,2,  32.6028,2,   242.33,1,  253.99,2,    0.33,2,    0.06,2,    0.01,2,    0.29,2,-999.000,9,-999.000,9,-999.000,9,  -999.0,9,  -999.0,9, -999.000,  -999.00, -999.00,9, -999.00,  -999.0,9,  -999.0,  23.6288,2
49NZ200107_1,       P17N,      42,          1,         34,         34,3,20010811,       2203,    39.9143,  -135.0138,       3324,    50.9,  11.9928,2,  32.5681,2,  32.5695,2,   291.71,1,  305.44,2,    1.57,2,    0.07,2,    0.01,2,    0.36,2,-999.000,9,-999.000,9,-999.000,9,  -999.0,9,  -999.0,9, -999.000,  -999.00, -999.00,9, -999.00,  -999.0,9,  -999.0,  24.7034,2
49NZ200107_1,       P17N,      42,          1,         33,         33,2,20010811,       2203,    39.9143,  -135.0138,       3324,    75.3,  10.7703,2,  32.5797,2,  32.5764,2,   265.59,1,  279.53,2,    4.26,2,    2.53,2,    0.48,2,    0.59,2,-999.000,9,-999.000,9,-999.000,9,  -999.0,9,  -999.0,9, -999.000,  -999.00, -999.00,9, -999.00,  -999.0,9,  -999.0,  24.9331,2
49NZ200107_1,       P17N,      42,          1,         32,         32,2,20010811,       2203,    39.9143,  -135.0138,       3324,   101.0,  10.2651,2,  32.5770,2,  32.5717,2,   259.74,1,  270.93,2,    5.78,2,    4.98,2,    0.21,2,    0.69,2,-999.000,9,-999.000,9,-999.000,9,  -999.0,9,  -999.0,9, -999.000,  -999.00, -999.00,9, -999.00,  -999.0,9,  -999.0,  25.0180,2
49NZ200107_1,       P17N,      42,          1,         31,         31,3,20010811,       2203,    39.9143,  -135.0138,       3324,   151.6,   8.6353,2,  32.8440,2,  32.8960,2,   240.52,1,  253.97,2,   10.35,2,   11.40,2,    0.02,2,    1.00,2,-999.000,9,-999.000,9,-999.000,9,  -999.0,9,  -999.0,9, -999.000,  -999.00, -999.00,9, -999.00,  -999.0,9,  -999.0,  25.4888,2
49NZ200107_1,       P17N,      42,          1,         30,         30,2,20010811,       2203,    39.9143,  -135.0138,       3324,   201.6,   8.0400,2,  33.5912,2,  33.6142,2,   206.32,1,  217.98,2,   18.66,2,   17.50,2,    0.01,2,    1.27,2,-999.000,9,-999.000,9,-999.000,9,  -999.0,9,  -999.0,9, -999.000,  -999.00, -999.00,9, -999.00,  -999.0,9,  -999.0,  26.1645,2
49NZ200107_1,       P17N,      42,          1,         29,         29,2,20010811,       2203,    39.9143,  -135.0138,       3324,   252.4,   7.9976,2,  33.9628,2,  33.9653,2,   164.78,1,  169.98,2,   29.96,2,   24.00,2,    0.02,2,    1.63,2,-999.000,9,-999.000,9,-999.000,9,  -999.0,9,  -999.0,9, -999.000,  -999.00, -999.00,9, -999.00,  -999.0,9,  -999.0,  26.4633,2
49NZ200107_1,       P17N,      42,          1,         28,         28,2,20010811,       2203,    39.9143,  -135.0138,       3324,   302.9,   7.1870,2,  33.9805,2,  33.9772,2,   136.27,1,  139.37,2,   40.39,2,   28.91,2,    0.01,2,    1.94,2,-999.000,9,-999.000,9,-999.000,9,  -999.0,9,  -999.0,9, -999.000,  -999.00, -999.00,9, -999.00,  -999.0,9,  -999.0,  26.5938,2
49NZ200107_1,       P17N,      42,          1,         27,         27,2,20010811,       2203,    39.9143,  -135.0138,       3324,   352.8,   6.3905,2,  33.9703,2,  33.9668,2,   109.13,1,  109.16,2,   49.91,2,   33.11,2,    0.02,2,    2.26,2,-999.000,9,-999.000,9,-999.000,9,  -999.0,9,  -999.0,9, -999.000,  -999.00, -999.00,9, -999.00,  -999.0,9,  -999.0,  26.6931,2
49NZ200107_1,       P17N,      42,          1,         26,         26,2,20010811,       2203,    39.9143,  -135.0138,       3324,   403.6,   5.7119,2,  33.9711,2,  33.9721,2,    87.31,1,   85.24,2,   60.00,2,   36.68,2,    0.02,2,    2.52,2,-999.000,9,-999.000,9,-999.000,9,  -999.0,9,  -999.0,9, -999.000,  -999.00, -999.00,9, -999.00,  -999.0,9,  -999.0,  26.7794,2
49NZ200107_1,       P17N,      42,          1,         25,         25,2,20010811,       2203,    39.9143,  -135.0138,       3324,   504.9,   5.0044,2,  34.0327,2,  34.0423,2,    52.16,1,   46.84,2,   74.69,2,   40.71,2,    0.01,2,    2.84,2,-999.000,9,-999.000,9,-999.000,9,  -999.0,9,  -999.0,9, -999.000,  -999.00, -999.00,9, -999.00,  -999.0,9,  -999.0,  26.9124,2
49NZ200107_1,       P17N,      42,          1,         24,         24,2,20010811,       2203,    39.9143,  -135.0138,       3324,   605.6,   4.4834,2,  34.1294,2,  34.1353,2,    30.56,1,   24.35,2,   89.41,2,   43.08,2,    0.01,2,    3.02,2,-999.000,9,-999.000,9,-999.000,9,  -999.0,9,  -999.0,9, -999.000,  -999.00, -999.00,9, -999.00,  -999.0,9,  -999.0,  27.0476,2
49NZ200107_1,       P17N,      42,          1,         23,         23,2,20010811,       2203,    39.9143,  -135.0138,       3324,   706.6,   4.0439,2,  34.1931,2,  34.2003,2,    23.01,1,   16.09,2,  101.58,2,   44.10,2,    0.01,2,    3.10,2,-999.000,9,-999.000,9,-999.000,9,  -999.0,9,  -999.0,9, -999.000,  -999.00, -999.00,9, -999.00,  -999.0,9,  -999.0,  27.1451,2
49NZ200107_1,       P17N,      42,          1,         22,         22,2,20010811,       2203,    39.9143,  -135.0138,       3324,   808.4,   3.8299,2,  34.2667,2,  34.2742,2,    17.23,1,    9.91,2,  109.29,2,   44.62,2,    0.01,2,    3.17,2,-999.000,9,-999.000,9,-999.000,9,  -999.0,9,  -999.0,9, -999.000,  -999.00, -999.00,9, -999.00,  -999.0,9,  -999.0,  27.2260,2
49NZ200107_1,       P17N,      42,          1,         21,         21,3,20010811,       2203,    39.9143,  -135.0138,       3324,   917.0,   3.7335,2,  34.3593,2,  34.3615,2,    16.45,1,    9.31,2,  115.79,2,   44.74,2,    0.01,2,    3.22,2,-999.000,9,-999.000,9,-999.000,9,  -999.0,9,  -999.0,9, -999.000,  -999.00, -999.00,9, -999.00,  -999.0,9,  -999.0,  27.3102,2
49NZ200107_1,       P17N,      42,          1,         20,         20,2,20010811,       2203,    39.9143,  -135.0138,       3324,  1010.5,   3.5160,2,  34.4000,2,  34.4020,2,    18.32,1,   10.48,2,  121.62,2,   44.85,2,    0.01,2,    3.23,2,-999.000,9,-999.000,9,-999.000,9,  -999.0,9,  -999.0,9, -999.000,  -999.00, -999.00,9, -999.00,  -999.0,9,  -999.0,  27.3645,2
49NZ200107_1,       P17N,      42,          1,         19,         19,2,20010811,       2203,    39.9143,  -135.0138,       3324,  1111.7,   3.3202,2,  34.4436,2,  34.4451,2,    22.56,1,   15.42,2,  127.12,2,   44.87,2,    0.01,2,    3.18,2,-999.000,9,-999.000,9,-999.000,9,  -999.0,9,  -999.0,9, -999.000,  -999.00, -999.00,9, -999.00,  -999.0,9,  -999.0,  27.4186,2
49NZ200107_1,       P17N,      42,          1,         18,         18,2,20010811,       2203,    39.9143,  -135.0138,       3324,  1213.2,   3.1273,2,  34.4815,2,  34.4816,2,    28.78,1,   22.41,2,  131.17,2,   44.40,2,    0.01,2,    3.17,2,-999.000,9,-999.000,9,-999.000,9,  -999.0,9,  -999.0,9, -999.000,  -999.00, -999.00,9, -999.00,  -999.0,9,  -999.0,  27.4674,2
49NZ200107_1,       P17N,      42,          1,         17,         17,2,20010811,       2203,    39.9143,  -135.0138,       3324,  1314.3,   2.9264,2,  34.4974,2,  34.4974,2,    31.02,1,   24.39,2,  136.48,2,   44.43,2,    0.01,2,    3.16,2,-999.000,9,-999.000,9,-999.000,9,  -999.0,9,  -999.0,9, -999.000,  -999.00, -999.00,9, -999.00,  -999.0,9,  -999.0,  27.4988,2
49NZ200107_1,       P17N,      42,          1,         16,         16,2,20010811,       2203,    39.9143,  -135.0138,       3324,  1415.8,   2.7246,2,  34.5173,2,  34.5170,2,    35.58,1,   28.93,2,  142.15,2,   44.32,2,    0.01,2,    3.14,2,-999.000,9,-999.000,9,-999.000,9,  -999.0,9,  -999.0,9, -999.000,  -999.00, -999.00,9, -999.00,  -999.0,9,  -999.0,  27.5330,2
49NZ200107_1,       P17N,      42,          1,         15,         15,2,20010811,       2203,    39.9143,  -135.0138,       3324,  1517.2,   2.5375,2,  34.5362,2,  34.5352,2,    40.72,1,   34.11,2,  146.58,2,   44.05,2,    0.01,2,    3.12,2,-999.000,9,-999.000,9,-999.000,9,  -999.0,9,  -999.0,9, -999.000,  -999.00, -999.00,9, -999.00,  -999.0,9,  -999.0,  27.5646,2
49NZ200107_1,       P17N,      42,          1,         14,         14,2,20010811,       2203,    39.9143,  -135.0138,       3324,  1618.5,   2.3432,2,  34.5565,2,  34.5560,2,    47.92,1,   41.37,2,  151.32,2,   43.58,2,    0.01,2,    3.08,2,-999.000,9,-999.000,9,-999.000,9,  -999.0,9,  -999.0,9, -999.000,  -999.00, -999.00,9, -999.00,  -999.0,9,  -999.0,  27.5976,2
49NZ200107_1,       P17N,      42,          1,         13,         13,2,20010811,       2203,    39.9143,  -135.0138,       3324,  1720.5,   2.2133,2,  34.5716,2,  34.5714,2,    54.30,1,   48.96,2,  154.00,2,   43.13,2,    0.01,2,    3.04,2,-999.000,9,-999.000,9,-999.000,9,  -999.0,9,  -999.0,9, -999.000,  -999.00, -999.00,9, -999.00,  -999.0,9,  -999.0,  27.6207,2
49NZ200107_1,       P17N,      42,          1,         12,         12,2,20010811,       2203,    39.9143,  -135.0138,       3324,  1822.1,   2.0876,2,  34.5903,2,  34.5896,2,    63.73,1,   58.94,2,  157.18,2,   42.52,2,    0.01,2,    2.98,2,-999.000,9,-999.000,9,-999.000,9,  -999.0,9,  -999.0,9, -999.000,  -999.00, -999.00,9, -999.00,  -999.0,9,  -999.0,  27.6462,2
49NZ200107_1,       P17N,      42,          1,         11,         11,2,20010811,       2203,    39.9143,  -135.0138,       3324,  1923.5,   2.0262,2,  34.5985,2,  34.5982,2,    68.12,1,   64.07,2,  159.52,2,   42.32,2,    0.00,2,    2.95,2,-999.000,9,-999.000,9,-999.000,9,  -999.0,9,  -999.0,9, -999.000,  -999.00, -999.00,9, -999.00,  -999.0,9,  -999.0,  27.6582,2
49NZ200107_1,       P17N,      42,          1,         10,         10,2,20010811,       2203,    39.9143,  -135.0138,       3324,  2025.4,   1.9635,2,  34.6061,2,  34.6061,2,    72.35,1,   67.66,2,  160.47,2,   41.90,2,    0.01,2,    2.95,2,-999.000,9,-999.000,9,-999.000,9,  -999.0,9,  -999.0,9, -999.000,  -999.00, -999.00,9, -999.00,  -999.0,9,  -999.0,  27.6697,2
49NZ200107_1,       P17N,      42,          1,          9,          9,2,20010811,       2203,    39.9143,  -135.0138,       3324,  2229.1,   1.8506,2,  34.6216,2,  34.6215,2,    81.62,1,   77.81,2,  162.42,2,   41.33,2,    0.00,2,    2.90,2,-999.000,9,-999.000,9,-999.000,9,  -999.0,9,  -999.0,9, -999.000,  -999.00, -999.00,9, -999.00,  -999.0,9,  -999.0,  27.6919,2
49NZ200107_1,       P17N,      42,          1,          8,          8,2,20010811,       2203,    39.9143,  -135.0138,       3324,  2432.9,   1.7669,2,  34.6336,2,  34.6338,2,    90.39,1,   86.61,2,  162.59,2,   40.78,2,    0.01,2,    2.86,2,-999.000,9,-999.000,9,-999.000,9,  -999.0,9,  -999.0,9, -999.000,  -999.00, -999.00,9, -999.00,  -999.0,9,  -999.0,  27.7090,2
49NZ200107_1,       P17N,      42,          1,          7,          7,2,20010811,       2203,    39.9143,  -135.0138,       3324,  2636.2,   1.7103,2,  34.6422,2,  34.6422,2,    97.58,1,   94.49,2,  161.42,2,   40.34,2,    0.01,2,    2.83,2,-999.000,9,-999.000,9,-999.000,9,  -999.0,9,  -999.0,9, -999.000,  -999.00, -999.00,9, -999.00,  -999.0,9,  -999.0,  27.7213,2
49NZ200107_1,       P17N,      42,          1,          5,          5,2,20010811,       2203,    39.9143,  -135.0138,       3324,  2840.9,   1.6513,2,  34.6510,2,  34.6513,2,   105.66,1,  101.62,2,  160.33,2,   39.91,2,    0.01,2,    2.79,2,-999.000,9,-999.000,9,-999.000,9,  -999.0,9,  -999.0,9, -999.000,  -999.00, -999.00,9, -999.00,  -999.0,9,  -999.0,  27.7340,2
49NZ200107_1,       P17N,      42,          1,          6,          6,2,20010811,       2203,    39.9143,  -135.0138,       3324,  2841.1,   1.6515,2,  34.6510,2,  34.6510,2,   105.63,1,  101.73,2,  160.31,2,   39.91,2,    0.01,2,    2.79,2,-999.000,9,-999.000,9,-999.000,9,  -999.0,9,  -999.0,9, -999.000,  -999.00, -999.00,9, -999.00,  -999.0,9,  -999.0,  27.7340,2
49NZ200107_1,       P17N,      42,          1,          4,          4,2,20010811,       2203,    39.9143,  -135.0138,       3324,  2943.5,   1.6360,2,  34.6538,2,  34.6538,2,   108.70,1,  104.64,2,  160.54,2,   39.74,2,    0.01,2,    2.78,2,-999.000,9,-999.000,9,-999.000,9,  -999.0,9,  -999.0,9, -999.000,  -999.00, -999.00,9, -999.00,  -999.0,9,  -999.0,  27.7380,2
49NZ200107_1,       P17N,      42,          1,          2,          2,2,20010811,       2203,    39.9143,  -135.0138,       3324,  3045.1,   1.6140,2,  34.6574,2,  34.6574,2,   112.78,1,  107.97,2,  162.38,2,   39.61,2,    0.02,2,    2.73,2,-999.000,9,-999.000,9,-999.000,9,  -999.0,9,  -999.0,9, -999.000,  -999.00, -999.00,9, -999.00,  -999.0,9,  -999.0,  27.7432,2
49NZ200107_1,       P17N,      42,          1,          3,          3,2,20010811,       2203,    39.9143,  -135.0138,       3324,  3047.4,   1.6137,2,  34.6574,2,  34.6574,2,   112.52,1,  108.66,2,  160.83,2,   39.58,2,    0.01,2,    2.76,2,-999.000,9,-999.000,9,-999.000,9,  -999.0,9,  -999.0,9, -999.000,  -999.00, -999.00,9, -999.00,  -999.0,9,  -999.0,  27.7432,2
49NZ200107_1,       P17N,      42,          1,          1,          1,2,20010811,       2203,    39.9143,  -135.0138,       3324,  3297.2,   1.5687,2,  34.6653,2,  34.6656,2,   121.92,1,  116.88,2,  161.51,2,   38.95,2,    0.02,2,    2.71,2,-999.000,9,-999.000,9,-999.000,9,  -999.0,9,  -999.0,9, -999.000,  -999.00, -999.00,9, -999.00,  -999.0,9,  -999.0,  27.7544,2