BOTTLE,20220817CCHSIOAMB
EXPOCODE,SECT_ID,STNNBR,CASTNO,SAMPNO,BTLNBR,BTLNBR_FLAG_W,DATE,TIME,LATITUDE,LONGITUDE,DEPTH,CTDPRS,CTDTMP,CTDTMP_FLAG_W,CTDSAL,CTDSAL_FLAG_W,SALNTY,SALNTY_FLAG_W,CTDOXY,CTDOXY_FLAG_W,OXYGEN,OXYGEN_FLAG_W,SILCAT,SILCAT_FLAG_W,NITRAT,NITRAT_FLAG_W,NITRIT,NITRIT_FLAG_W,PHSPHT,PHSPHT_FLAG_W,CFC-11,CFC-11_FLAG_W,CFC-12,CFC-12_FLAG_W,CFC113,CFC113_FLAG_W,TCARBN,TCARBN_FLAG_W,ALKALI,ALKALI_FLAG_W,PH_TOT,PH_TMP,DELC13,DELC13_FLAG_W,C13ERR,DELC14,DELC14_FLAG_W,C14ERR,THETA,THETA_FLAG_W
,,,,,,,,,,,METERS,DBAR,ITS-90,,PSS-78,,PSS-78,,UMOL/KG,,UMOL/KG,,UMOL/KG,,UMOL/KG,,UMOL/KG,,UMOL/KG,,PMOL/KG,,PMOL/KG,,PMOL/KG,,UMOL/KG,,UMOL/KG,,,DEG C,/MILLE,,/MILLE,/MILLE,,/MILLE,DEG C,
49NZ200107_1,       P17N,      49,          1,          0,        -99,9,20010813,       1510,    41.9818,  -136.5010,       4146,     4.5,-999.0000,9,-999.0000,9,  32.5890,2,  -999.00,9,  247.22,2,    0.37,2,    0.16,2,    0.00,2,    0.35,2,-999.000,9,-999.000,9,-999.000,9,  -999.0,9,  -999.0,9, -999.000,  -999.00, -999.00,9, -999.00,  -999.0,9,  -999.0,-999.0000,9
49NZ200107_1,       P17N,      49,          1,         36,         36,2,20010813,       1510,    41.9818,  -136.5010,       4146,    11.5,  17.5531,2,  32.5885,2,  32.5877,2,   238.79,1,  247.90,2,    0.72,2,    0.12,2,    0.00,2,    0.32,2,-999.000,9,-999.000,9,-999.000,9,  -999.0,9,  -999.0,9, -999.000,  -999.00, -999.00,9, -999.00,  -999.0,9,  -999.0,  23.5341,2
49NZ200107_1,       P17N,      49,          1,         35,         35,2,20010813,       1510,    41.9818,  -136.5010,       4146,    26.0,  14.1367,2,  32.5626,2,  32.5608,2,   284.62,1,  296.88,3,    0.88,2,    0.10,2,    0.00,2,    0.37,2,-999.000,9,-999.000,9,-999.000,9,  -999.0,9,  -999.0,9, -999.000,  -999.00, -999.00,9, -999.00,  -999.0,9,  -999.0,  24.2766,2
49NZ200107_1,       P17N,      49,          1,         34,         34,2,20010813,       1510,    41.9818,  -136.5010,       4146,    51.4,  10.2483,2,  32.5633,2,  32.5649,2,   278.66,1,  293.20,2,    4.68,2,    4.22,2,    0.14,2,    0.66,2,-999.000,9,-999.000,9,-999.000,9,  -999.0,9,  -999.0,9, -999.000,  -999.00, -999.00,9, -999.00,  -999.0,9,  -999.0,  25.0091,2
49NZ200107_1,       P17N,      49,          1,         33,         33,2,20010813,       1510,    41.9818,  -136.5010,       4146,    76.7,   9.3464,2,  32.5617,2,  32.5611,2,   265.16,1,  277.22,2,    6.58,2,    7.62,2,    0.90,2,    0.83,2,-999.000,9,-999.000,9,-999.000,9,  -999.0,9,  -999.0,9, -999.000,  -999.00, -999.00,9, -999.00,  -999.0,9,  -999.0,  25.1561,2
49NZ200107_1,       P17N,      49,          1,         32,         32,2,20010813,       1510,    41.9818,  -136.5010,       4146,   101.6,   8.6814,2,  32.5453,2,  32.5468,2,   265.88,1,  277.70,2,    7.89,2,    9.32,2,    0.02,2,    0.94,2,-999.000,9,-999.000,9,-999.000,9,  -999.0,9,  -999.0,9, -999.000,  -999.00, -999.00,9, -999.00,  -999.0,9,  -999.0,  25.2470,2
49NZ200107_1,       P17N,      49,          1,         31,         31,2,20010813,       1510,    41.9818,  -136.5010,       4146,   151.8,   7.7833,2,  32.9884,2,  33.0117,2,   242.27,1,  254.86,2,   13.28,2,   13.86,2,    0.01,2,    1.14,2,-999.000,9,-999.000,9,-999.000,9,  -999.0,9,  -999.0,9, -999.000,  -999.00, -999.00,9, -999.00,  -999.0,9,  -999.0,  25.7276,2
49NZ200107_1,       P17N,      49,          1,         30,         30,2,20010813,       1510,    41.9818,  -136.5010,       4146,   202.5,   7.9609,2,  33.6315,2,  33.6486,2,   218.46,1,  228.87,2,   18.77,2,   16.66,2,    0.01,2,    1.21,2,-999.000,9,-999.000,9,-999.000,9,  -999.0,9,  -999.0,9, -999.000,  -999.00, -999.00,9, -999.00,  -999.0,9,  -999.0,  26.2078,2
49NZ200107_1,       P17N,      49,          1,         29,         29,2,20010813,       1510,    41.9818,  -136.5010,       4146,   253.3,   7.8382,2,  33.9533,2,  33.9533,2,   180.62,1,  187.19,2,   28.87,2,   22.21,2,    0.00,2,    1.53,2,-999.000,9,-999.000,9,-999.000,9,  -999.0,9,  -999.0,9, -999.000,  -999.00, -999.00,9, -999.00,  -999.0,9,  -999.0,  26.4792,2
49NZ200107_1,       P17N,      49,          1,         28,         28,2,20010813,       1510,    41.9818,  -136.5010,       4146,   303.7,   7.0959,2,  33.9569,2,  33.9553,2,   152.23,1,  158.62,2,   39.45,2,   26.81,2,    0.01,2,    1.84,2,-999.000,9,-999.000,9,-999.000,9,  -999.0,9,  -999.0,9, -999.000,  -999.00, -999.00,9, -999.00,  -999.0,9,  -999.0,  26.5878,2
49NZ200107_1,       P17N,      49,          1,         27,         27,2,20010813,       1510,    41.9818,  -136.5010,       4146,   353.5,   6.1939,2,  33.9523,2,  33.9495,2,   124.74,1,  128.63,2,   50.32,2,   31.38,2,    0.00,2,    2.15,2,-999.000,9,-999.000,9,-999.000,9,  -999.0,9,  -999.0,9, -999.000,  -999.00, -999.00,9, -999.00,  -999.0,9,  -999.0,  26.7041,2
49NZ200107_1,       P17N,      49,          1,         26,         26,2,20010813,       1510,    41.9818,  -136.5010,       4146,   404.8,   5.5765,2,  33.9642,2,  33.9651,2,    97.76,1,   97.93,2,   60.78,2,   35.59,2,    0.00,2,    2.47,2,-999.000,9,-999.000,9,-999.000,9,  -999.0,9,  -999.0,9, -999.000,  -999.00, -999.00,9, -999.00,  -999.0,9,  -999.0,  26.7904,2
49NZ200107_1,       P17N,      49,          1,         25,         25,2,20010813,       1510,    41.9818,  -136.5010,       4146,   505.2,   4.7411,2,  34.0056,2,  34.0069,2,    64.75,1,   62.94,2,   75.76,2,   39.86,2,    0.00,2,    2.77,2,-999.000,9,-999.000,9,-999.000,9,  -999.0,9,  -999.0,9, -999.000,  -999.00, -999.00,9, -999.00,  -999.0,9,  -999.0,  26.9203,2
49NZ200107_1,       P17N,      49,          1,         24,         24,2,20010813,       1510,    41.9818,  -136.5010,       4146,   606.5,   4.3524,2,  34.0801,2,  34.0849,2,    40.45,1,   35.82,2,   88.77,2,   42.48,2,    0.00,2,    2.95,2,-999.000,9,-999.000,9,-999.000,9,  -999.0,9,  -999.0,9, -999.000,  -999.00, -999.00,9, -999.00,  -999.0,9,  -999.0,  27.0223,2
49NZ200107_1,       P17N,      49,          1,         23,         23,2,20010813,       1510,    41.9818,  -136.5010,       4146,   707.8,   3.9534,2,  34.1681,2,  34.1743,2,    26.31,1,   19.63,2,  102.69,2,   44.06,2,    0.00,2,    3.09,2,-999.000,9,-999.000,9,-999.000,9,  -999.0,9,  -999.0,9, -999.000,  -999.00, -999.00,9, -999.00,  -999.0,9,  -999.0,  27.1344,2
49NZ200107_1,       P17N,      49,          1,         22,         22,2,20010813,       1510,    41.9818,  -136.5010,       4146,   809.3,   3.7134,2,  34.2441,2,  34.2474,2,    18.18,1,   11.64,2,  111.89,2,   44.65,2,    0.00,2,    3.16,2,-999.000,9,-999.000,9,-999.000,9,  -999.0,9,  -999.0,9, -999.000,  -999.00, -999.00,9, -999.00,  -999.0,9,  -999.0,  27.2196,2
49NZ200107_1,       P17N,      49,          1,         21,         21,2,20010813,       1510,    41.9818,  -136.5010,       4146,   910.6,   3.5456,2,  34.3087,2,  34.3112,2,    15.15,1,    7.62,2,  118.86,2,   45.02,2,    0.00,2,    3.20,2,-999.000,9,-999.000,9,-999.000,9,  -999.0,9,  -999.0,9, -999.000,  -999.00, -999.00,9, -999.00,  -999.0,9,  -999.0,  27.2881,2
49NZ200107_1,       P17N,      49,          1,         20,         20,2,20010813,       1510,    41.9818,  -136.5010,       4146,  1010.6,   3.3614,2,  34.3648,2,  34.3640,2,    15.19,1,    7.52,3,  125.42,2,   45.20,2,    0.00,2,    3.23,2,-999.000,9,-999.000,9,-999.000,9,  -999.0,9,  -999.0,9, -999.000,  -999.00, -999.00,9, -999.00,  -999.0,9,  -999.0,  27.3511,2
49NZ200107_1,       P17N,      49,          1,         19,         19,2,20010813,       1510,    41.9818,  -136.5010,       4146,  1112.6,   3.1758,2,  34.4056,2,  34.4057,2,    16.64,1,    9.67,2,  131.24,2,   45.11,2,   -0.01,2,    3.20,2,-999.000,9,-999.000,9,-999.000,9,  -999.0,9,  -999.0,9, -999.000,  -999.00, -999.00,9, -999.00,  -999.0,9,  -999.0,  27.4016,2
49NZ200107_1,       P17N,      49,          1,         18,         18,2,20010813,       1510,    41.9818,  -136.5010,       4146,  1213.8,   3.0001,2,  34.4465,2,  34.4455,2,    19.78,1,   11.69,2,  136.00,2,   45.09,2,   -0.01,2,    3.18,2,-999.000,9,-999.000,9,-999.000,9,  -999.0,9,  -999.0,9, -999.000,  -999.00, -999.00,9, -999.00,  -999.0,9,  -999.0,  27.4508,2
49NZ200107_1,       P17N,      49,          1,         17,         17,2,20010813,       1510,    41.9818,  -136.5010,       4146,  1315.0,   2.8150,2,  34.4771,2,  34.4763,2,    23.79,1,   16.23,2,  140.83,2,   45.04,2,   -0.01,2,    3.19,2,-999.000,9,-999.000,9,-999.000,9,  -999.0,9,  -999.0,9, -999.000,  -999.00, -999.00,9, -999.00,  -999.0,9,  -999.0,  27.4923,2
49NZ200107_1,       P17N,      49,          1,         16,         16,2,20010813,       1510,    41.9818,  -136.5010,       4146,  1417.2,   2.6159,2,  34.5042,2,  34.5036,2,    28.60,1,   21.19,2,  146.22,2,   44.77,2,   -0.01,2,    3.15,2,-999.000,9,-999.000,9,-999.000,9,  -999.0,9,  -999.0,9, -999.000,  -999.00, -999.00,9, -999.00,  -999.0,9,  -999.0,  27.5318,2
49NZ200107_1,       P17N,      49,          1,         15,         15,2,20010813,       1510,    41.9818,  -136.5010,       4146,  1518.2,   2.4467,2,  34.5260,2,  34.5255,2,    34.10,1,   26.86,2,  150.06,2,   44.51,2,   -0.01,2,    3.12,2,-999.000,9,-999.000,9,-999.000,9,  -999.0,9,  -999.0,9, -999.000,  -999.00, -999.00,9, -999.00,  -999.0,9,  -999.0,  27.5640,2
49NZ200107_1,       P17N,      49,          1,         14,         14,2,20010813,       1510,    41.9818,  -136.5010,       4146,  1619.9,   2.3305,2,  34.5440,2,  34.5438,2,    39.99,1,   33.76,2,  152.97,2,   44.19,2,   -0.01,2,    3.09,2,-999.000,9,-999.000,9,-999.000,9,  -999.0,9,  -999.0,9, -999.000,  -999.00, -999.00,9, -999.00,  -999.0,9,  -999.0,  27.5885,2
49NZ200107_1,       P17N,      49,          1,         13,         13,2,20010813,       1510,    41.9818,  -136.5010,       4146,  1721.5,   2.2088,2,  34.5626,2,  34.5622,2,    47.02,1,   41.03,2,  155.70,2,   43.72,2,   -0.01,2,    3.07,2,-999.000,9,-999.000,9,-999.000,9,  -999.0,9,  -999.0,9, -999.000,  -999.00, -999.00,9, -999.00,  -999.0,9,  -999.0,  27.6139,2
49NZ200107_1,       P17N,      49,          1,         12,         12,2,20010813,       1510,    41.9818,  -136.5010,       4146,  1823.6,   2.1256,2,  34.5763,2,  34.5757,2,    53.22,1,   47.62,2,  157.88,2,   43.32,2,   -0.01,2,    3.04,2,-999.000,9,-999.000,9,-999.000,9,  -999.0,9,  -999.0,9, -999.000,  -999.00, -999.00,9, -999.00,  -999.0,9,  -999.0,  27.6320,2
49NZ200107_1,       P17N,      49,          1,         11,         11,2,20010813,       1510,    41.9818,  -136.5010,       4146,  2026.2,   1.9560,2,  34.6045,2,  34.6046,2,    67.62,1,   63.20,2,  161.38,2,   42.34,2,    0.00,2,    2.94,2,-999.000,9,-999.000,9,-999.000,9,  -999.0,9,  -999.0,9, -999.000,  -999.00, -999.00,9, -999.00,  -999.0,9,  -999.0,  27.6690,2
49NZ200107_1,       P17N,      49,          1,         10,         10,2,20010813,       1510,    41.9818,  -136.5010,       4146,  2230.3,   1.8369,2,  34.6227,2,  34.6224,2,    78.69,1,   75.07,2,  162.71,2,   41.58,2,   -0.01,2,    2.90,2,-999.000,9,-999.000,9,-999.000,9,  -999.0,9,  -999.0,9, -999.000,  -999.00, -999.00,9, -999.00,  -999.0,9,  -999.0,  27.6938,2
49NZ200107_1,       P17N,      49,          1,          9,          9,2,20010813,       1510,    41.9818,  -136.5010,       4146,  2434.0,   1.7521,2,  34.6345,2,  34.6345,2,    87.61,1,   84.79,2,  162.68,2,   40.97,2,   -0.01,2,    2.86,2,-999.000,9,-999.000,9,-999.000,9,  -999.0,9,  -999.0,9, -999.000,  -999.00, -999.00,9, -999.00,  -999.0,9,  -999.0,  27.7108,2
49NZ200107_1,       P17N,      49,          1,          8,          8,2,20010813,       1510,    41.9818,  -136.5010,       4146,  2637.6,   1.6755,2,  34.6445,2,  34.6446,2,    97.29,1,   94.82,2,  161.58,2,   40.32,2,    0.00,2,    2.80,2,-999.000,9,-999.000,9,-999.000,9,  -999.0,9,  -999.0,9, -999.000,  -999.00, -999.00,9, -999.00,  -999.0,9,  -999.0,  27.7257,2
49NZ200107_1,       P17N,      49,          1,          7,          7,3,20010813,       1510,    41.9818,  -136.5010,       4146,  2842.1,   1.6031,2,  34.6548,2,  34.6531,3,   107.15,1,  105.58,2,  160.40,2,   39.71,2,   -0.01,2,    2.74,2,-999.000,9,-999.000,9,-999.000,9,  -999.0,9,  -999.0,9, -999.000,  -999.00, -999.00,9, -999.00,  -999.0,9,  -999.0,  27.7404,2
49NZ200107_1,       P17N,      49,          1,          6,          6,2,20010813,       1510,    41.9818,  -136.5010,       4146,  3046.5,   1.5652,2,  34.6616,2,  34.6614,2,   114.43,1,  112.26,2,  160.90,2,   39.34,2,   -0.01,2,    2.72,2,-999.000,9,-999.000,9,-999.000,9,  -999.0,9,  -999.0,9, -999.000,  -999.00, -999.00,9, -999.00,  -999.0,9,  -999.0,  27.7499,2
49NZ200107_1,       P17N,      49,          1,          5,          5,2,20010813,       1510,    41.9818,  -136.5010,       4146,  3302.0,   1.5394,2,  34.6678,2,  34.6675,2,   121.20,1,  118.99,2,  161.18,2,   38.86,2,   -0.01,2,    2.67,2,-999.000,9,-999.000,9,-999.000,9,  -999.0,9,  -999.0,9, -999.000,  -999.00, -999.00,9, -999.00,  -999.0,9,  -999.0,  27.7584,2
49NZ200107_1,       P17N,      49,          1,          4,          4,2,20010813,       1510,    41.9818,  -136.5010,       4146,  3558.6,   1.5288,2,  34.6727,2,  34.6727,2,   126.86,1,  124.34,3,  161.63,2,   38.56,2,   -0.01,2,    2.65,2,-999.000,9,-999.000,9,-999.000,9,  -999.0,9,  -999.0,9, -999.000,  -999.00, -999.00,9, -999.00,  -999.0,9,  -999.0,  27.7649,2
49NZ200107_1,       P17N,      49,          1,          3,          3,2,20010813,       1510,    41.9818,  -136.5010,       4146,  3814.6,   1.5320,2,  34.6764,2,  34.6764,2,   131.02,1,  127.31,2,  163.04,2,   38.37,2,   -0.01,2,    2.65,2,-999.000,9,-999.000,9,-999.000,9,  -999.0,9,  -999.0,9, -999.000,  -999.00, -999.00,9, -999.00,  -999.0,9,  -999.0,  27.7695,2
49NZ200107_1,       P17N,      49,          1,          2,          2,2,20010813,       1510,    41.9818,  -136.5010,       4146,  4071.6,   1.5484,2,  34.6786,2,  34.6784,2,   134.05,1,  128.38,2,  164.02,2,   38.23,2,    0.00,2,    2.62,2,-999.000,9,-999.000,9,-999.000,9,  -999.0,9,  -999.0,9, -999.000,  -999.00, -999.00,9, -999.00,  -999.0,9,  -999.0,  27.7721,2
49NZ200107_1,       P17N,      49,          1,          1,          1,2,20010813,       1510,    41.9818,  -136.5010,       4146,  4200.0,   1.5570,2,  34.6795,2,  34.6795,2,   135.60,1,  129.02,2,  164.86,2,   38.24,2,    0.00,2,    2.64,2,-999.000,9,-999.000,9,-999.000,9,  -999.0,9,  -999.0,9, -999.000,  -999.00, -999.00,9, -999.00,  -999.0,9,  -999.0,  27.7733,2