BOTTLE,20220817CCHSIOAMB
EXPOCODE,SECT_ID,STNNBR,CASTNO,SAMPNO,BTLNBR,BTLNBR_FLAG_W,DATE,TIME,LATITUDE,LONGITUDE,DEPTH,CTDPRS,CTDTMP,CTDTMP_FLAG_W,CTDSAL,CTDSAL_FLAG_W,SALNTY,SALNTY_FLAG_W,CTDOXY,CTDOXY_FLAG_W,OXYGEN,OXYGEN_FLAG_W,SILCAT,SILCAT_FLAG_W,NITRAT,NITRAT_FLAG_W,NITRIT,NITRIT_FLAG_W,PHSPHT,PHSPHT_FLAG_W,CFC-11,CFC-11_FLAG_W,CFC-12,CFC-12_FLAG_W,CFC113,CFC113_FLAG_W,TCARBN,TCARBN_FLAG_W,ALKALI,ALKALI_FLAG_W,PH_TOT,PH_TMP,DELC13,DELC13_FLAG_W,C13ERR,DELC14,DELC14_FLAG_W,C14ERR,THETA,THETA_FLAG_W
,,,,,,,,,,,METERS,DBAR,ITS-90,,PSS-78,,PSS-78,,UMOL/KG,,UMOL/KG,,UMOL/KG,,UMOL/KG,,UMOL/KG,,UMOL/KG,,PMOL/KG,,PMOL/KG,,PMOL/KG,,UMOL/KG,,UMOL/KG,,,DEG C,/MILLE,,/MILLE,/MILLE,,/MILLE,DEG C,
49NZ200107_1,       P17N,      58,          1,          0,        -99,9,20010815,       1227,    44.9488,  -141.2313,       4396,     4.5,-999.0000,9,-999.0000,9,  32.4257,2,  -999.00,9,  260.34,2,    6.31,2,    3.67,2,    0.07,2,    0.67,2,-999.000,1,-999.000,1,-999.000,1,  1965.0,2,  2185.6,2,    7.958,    25.00, -999.00,9, -999.00,  -999.0,9,  -999.0,-999.0000,9
49NZ200107_1,       P17N,      58,          1,         36,         36,2,20010815,       1227,    44.9488,  -141.2313,       4396,    10.7,  15.7594,2,  32.4402,2,  32.4390,2,   252.27,1,  261.68,2,    6.29,2,    3.64,2,    0.08,2,    0.64,2,-999.000,1,-999.000,1,-999.000,1,  1966.0,2,  2181.8,2,    7.958,    25.00,    2.04,2,    0.00,    13.2,2,     4.0,  23.8335,2
49NZ200107_1,       P17N,      58,          1,         35,         35,2,20010815,       1227,    44.9488,  -141.2313,       4396,    26.6,  10.7275,2,  32.4357,2,  32.4385,2,   298.68,1,  313.19,2,    7.69,2,    5.21,2,    0.07,2,    0.76,2,-999.000,1,-999.000,1,-999.000,1,  1979.9,2,  2180.9,2,    7.926,    25.00,    1.92,2,    0.00,     0.4,3,     3.9,  24.8274,2
49NZ200107_1,       P17N,      58,          1,         34,         34,2,20010815,       1227,    44.9488,  -141.2313,       4396,    51.3,   8.3496,2,  32.4887,2,  32.4895,2,   285.48,1,  301.39,2,   10.98,2,    9.15,2,    0.12,2,    1.04,2,-999.000,1,-999.000,1,-999.000,1,  2014.8,2,  2177.8,2,    7.846,    25.00,    1.52,2,    0.01,    12.7,2,     3.9,  25.2516,2
49NZ200107_1,       P17N,      58,          1,         33,         33,2,20010815,       1227,    44.9488,  -141.2313,       4396,    76.8,   7.4681,2,  32.5180,2,  32.5169,2,   278.59,1,  293.14,2,   11.88,2,   11.26,2,    0.72,2,    1.13,2,-999.000,1,-999.000,1,-999.000,1,  2025.3,2,  2180.0,2,    7.822,    25.00,    1.34,2,    0.00,    12.8,2,     3.5,  25.4014,2
49NZ200107_1,       P17N,      58,          1,         32,         32,2,20010815,       1227,    44.9488,  -141.2313,       4396,   102.0,   6.8698,2,  32.5307,2,  32.5289,2,   279.81,1,  294.77,2,   13.27,2,   12.62,2,    1.11,2,    1.19,2,-999.000,1,-999.000,1,-999.000,1,  2032.9,2,  2181.6,6,    7.800,    25.00,    1.30,2,    0.01,     9.9,2,     3.5,  25.4925,2
49NZ200107_1,       P17N,      58,          1,         31,         31,2,20010815,       1227,    44.9488,  -141.2313,       4396,   152.1,   6.1958,2,  32.9493,2,  32.9620,2,   255.19,1,  270.63,2,   20.93,2,   17.30,2,    0.02,2,    1.41,2,-999.000,1,-999.000,1,-999.000,1,  2074.6,2,  2203.7,2,    7.747,    25.00,    0.87,2,    0.00,    11.1,2,     3.5,  25.9097,2
49NZ200107_1,       P17N,      58,          1,         30,         30,2,20010815,       1227,    44.9488,  -141.2313,       4396,   202.1,   6.5733,2,  33.7243,2,  33.7295,2,   197.80,1,  211.01,2,   31.03,2,   22.14,2,    0.01,2,    1.60,2,-999.000,1,-999.000,1,-999.000,1,  2139.0,6,  2247.2,2,    7.678,    25.00,    0.28,2,    0.00,     8.3,2,     3.9,  26.4734,2
49NZ200107_1,       P17N,      58,          1,         29,         29,2,20010815,       1227,    44.9488,  -141.2313,       4396,   253.2,   6.2364,2,  33.8658,2,  33.8629,2,   158.31,1,  166.31,2,   43.00,2,   27.44,2,    0.02,2,    1.94,2,-999.000,1,-999.000,1,-999.000,1,  2184.7,2,  2265.6,2,    7.596,    25.00,    0.04,2,    0.01,   -24.4,2,     3.5,  26.6292,2
49NZ200107_1,       P17N,      58,          1,         28,         28,2,20010815,       1227,    44.9488,  -141.2313,       4396,   303.1,   5.3953,2,  33.8630,2,  33.8617,4,   125.73,1,  131.99,2,   54.31,2,   32.48,2,    0.02,2,    2.28,2,-999.000,1,-999.000,1,-999.000,1,  2223.5,2,  2269.0,6,    7.508,    25.00,   -0.15,2,    0.00,   -41.8,2,     3.7,  26.7308,2
49NZ200107_1,       P17N,      58,          1,         27,         27,2,20010815,       1227,    44.9488,  -141.2313,       4396,   354.0,   4.8705,2,  33.8913,2,  33.8914,2,   103.67,1,  105.57,2,   63.70,2,   35.96,2,    0.02,2,    2.51,2,-999.000,1,-999.000,1,-999.000,1,  2250.8,2,  2283.3,2,    7.442,    25.00,   -0.32,2,    0.00,   -68.1,2,     3.8,  26.8140,2
49NZ200107_1,       P17N,      58,          1,         26,         26,2,20010815,       1227,    44.9488,  -141.2313,       4396,   404.9,   4.5862,2,  33.9426,2,  33.9444,2,    83.80,1,   83.09,2,   72.15,2,   38.50,2,    0.02,2,    2.68,2,-999.000,1,-999.000,1,-999.000,1,  2274.0,6,  2285.5,2,    7.406,    25.00,   -0.45,2,    0.00,   -83.5,2,     3.6,  26.8864,2
49NZ200107_1,       P17N,      58,          1,         25,         25,2,20010815,       1227,    44.9488,  -141.2313,       4396,   505.5,   4.2962,2,  34.0340,2,  34.0358,2,    62.57,1,   59.76,2,   84.30,2,   40.64,2,    0.02,2,    2.85,2,-999.000,1,-999.000,1,-999.000,1,  2299.1,2,  2303.4,2,    7.369,    25.00,   -0.50,2,    0.01,  -125.2,2,     3.6,  26.9908,2
49NZ200107_1,       P17N,      58,          1,         24,         24,2,20010815,       1227,    44.9488,  -141.2313,       4396,   607.0,   4.0265,2,  34.1402,2,  34.1422,2,    40.68,1,   36.03,2,   97.92,2,   42.53,2,    0.02,2,    2.99,2,-999.000,1,-999.000,1,-999.000,1,  2327.1,2,  2322.4,6,    7.342,    25.00,   -0.55,2,    0.00,  -140.4,2,     3.6,  27.1040,2
49NZ200107_1,       P17N,      58,          1,         23,         23,2,20010815,       1227,    44.9488,  -141.2313,       4396,   708.4,   3.7524,2,  34.2043,2,  34.2047,2,    30.87,1,   25.51,2,  107.44,2,   43.58,2,    0.02,2,    3.06,2,-999.000,1,-999.000,1,-999.000,1,  2345.6,2,  2329.5,2,    7.332,    25.00,   -0.58,2,    0.00,  -171.5,2,     3.2,  27.1833,2
49NZ200107_1,       P17N,      58,          1,         22,         22,3,20010815,       1227,    44.9488,  -141.2313,       4396,   808.6,   3.5033,2,  34.2558,2,  34.2538,2,    24.38,1,   18.31,2,  115.64,2,   44.35,2,    0.02,2,    3.12,2,-999.000,1,-999.000,1,-999.000,1,  2359.1,6,  2349.0,2,    7.326,    25.00,   -0.58,2,    0.01,  -179.6,2,     3.3,  27.2492,2
49NZ200107_1,       P17N,      58,          1,         21,         21,2,20010815,       1227,    44.9488,  -141.2313,       4396,   910.4,   3.2551,2,  34.3089,2,  34.3083,2,    20.74,1,   13.43,2,  124.33,2,   44.76,2,    0.02,2,    3.16,2,-999.000,1,-999.000,1,-999.000,1,  2370.7,2,  2356.0,2,    7.322,    25.00,   -0.64,2,    0.00,  -202.9,2,     3.4,  27.3157,2
49NZ200107_1,       P17N,      58,          1,         20,         20,2,20010815,       1227,    44.9488,  -141.2313,       4396,  1011.4,   3.0824,2,  34.3481,2,  34.3488,2,    19.58,1,   11.68,2,  130.73,2,   44.96,2,    0.02,2,    3.18,2,-999.000,1,-999.000,1,-999.000,1,  2379.1,2,  2365.5,6,    7.322,    25.00,   -0.67,2,    0.01,  -212.7,2,     3.3,  27.3635,2
49NZ200107_1,       P17N,      58,          1,         19,         19,2,20010815,       1227,    44.9488,  -141.2313,       4396,  1112.8,   2.8964,2,  34.3916,2,  34.3908,2,    19.13,1,   10.99,2,  137.31,2,   45.32,2,    0.02,2,    3.18,2,-999.000,1,-999.000,1,-999.000,1,  2386.3,2,  2370.0,2,    7.321,    25.00,   -0.67,2,    0.01,  -215.4,2,     3.3,  27.4155,2
49NZ200107_1,       P17N,      58,          1,         18,         18,2,20010815,       1227,    44.9488,  -141.2313,       4396,  1214.4,   2.7763,2,  34.4281,2,  34.4268,2,    19.22,1,   11.00,2,  141.98,2,   45.24,2,    0.02,2,    3.19,2,-999.000,1,-999.000,1,-999.000,1,  2392.1,6,  2386.7,3,    7.328,    25.00,   -0.63,2,    0.00,  -225.1,2,     3.0,  27.4558,2
49NZ200107_1,       P17N,      58,          1,         17,         17,2,20010815,       1227,    44.9488,  -141.2313,       4396,  1314.5,   2.6312,2,  34.4599,2,  34.4590,2,    21.49,1,   13.74,3,  146.32,2,   45.28,2,    0.02,2,    3.18,2,-999.000,1,-999.000,1,-999.000,1,  2396.4,2,  2386.3,2,    7.335,    25.00,   -0.63,2,    0.00,  -229.8,2,     3.3,  27.4944,2
49NZ200107_1,       P17N,      58,          1,         16,         16,2,20010815,       1227,    44.9488,  -141.2313,       4396,  1417.3,   2.4835,2,  34.4901,2,  34.4888,2,    25.55,1,   17.65,2,  150.70,2,   45.20,2,    0.02,2,    3.17,2,-999.000,1,-999.000,1,-999.000,1,  2397.9,2,  2387.1,2,    7.340,    25.00,   -0.77,4,    0.00,  -232.1,2,     3.0,  27.5316,2
49NZ200107_1,       P17N,      58,          1,         15,         15,2,20010815,       1227,    44.9488,  -141.2313,       4396,  1518.4,   2.3770,2,  34.5119,2,  34.5119,2,    30.83,1,   22.55,2,  153.74,2,   44.74,2,    0.02,2,    3.14,2,-999.000,1,-999.000,1,-999.000,1,  2394.8,2,  2402.4,3,    7.355,    25.00,   -0.61,2,    0.00,  -234.9,2,     3.6,  27.5584,2
49NZ200107_1,       P17N,      58,          1,         14,         14,2,20010815,       1227,    44.9488,  -141.2313,       4396,  1620.2,   2.2705,2,  34.5320,2,  34.5315,2,    36.70,1,   26.56,2,  156.25,2,   44.38,2,    0.02,2,    3.11,2,-999.000,1,-999.000,1,-999.000,1,  2395.7,2,  2400.1,3,    7.370,    25.00,   -0.60,2,    0.01,  -236.8,2,     3.3,  27.5838,2
49NZ200107_1,       P17N,      58,          1,         13,         13,2,20010815,       1227,    44.9488,  -141.2313,       4396,  1823.5,   2.0687,2,  34.5684,2,  34.5683,2,    50.32,1,   46.42,2,  160.81,2,   43.58,2,    0.02,2,    3.04,2,-999.000,1,-999.000,1,-999.000,1,  2393.2,2,  2401.9,3,    7.404,    25.00,   -0.48,2,    0.00,  -245.5,2,     2.9,  27.6302,2
49NZ200107_1,       P17N,      58,          1,         12,         12,2,20010815,       1227,    44.9488,  -141.2313,       4396,  2027.0,   1.9235,2,  34.5952,2,  34.5958,2,    62.86,1,   57.70,2,  163.64,2,   42.81,2,    0.02,2,    2.99,2,-999.000,1,-999.000,1,-999.000,1,  2385.9,2,  2413.2,2,    7.420,    25.00,   -0.43,2,    0.01,  -238.9,2,     3.3,  27.6640,2
49NZ200107_1,       P17N,      58,          1,         11,         11,2,20010815,       1227,    44.9488,  -141.2313,       4396,  2230.8,   1.8159,2,  34.6159,2,  34.6154,2,    74.56,1,   70.44,2,  161.72,2,   41.81,2,    0.01,2,    2.89,2,-999.000,1,-999.000,1,-999.000,1,  2379.9,2,  2415.4,2,    7.451,    25.00,   -0.36,2,    0.00,  -244.8,2,     2.9,  27.6899,2
49NZ200107_1,       P17N,      58,          1,         10,         10,2,20010815,       1227,    44.9488,  -141.2313,       4396,  2434.6,   1.7445,2,  34.6287,2,  34.6287,2,    83.89,1,   80.41,2,  160.89,2,   41.20,2,    0.01,2,    2.86,2,-999.000,9,-999.000,9,-999.000,9,  -999.0,9,  -999.0,9, -999.000,  -999.00, -999.00,9, -999.00,  -999.0,9,  -999.0,  27.7067,2
49NZ200107_1,       P17N,      58,          1,          9,          9,2,20010815,       1227,    44.9488,  -141.2313,       4396,  2637.8,   1.6623,2,  34.6413,2,  34.6413,2,    95.18,1,   91.91,2,  160.05,2,   40.50,2,    0.02,2,    2.82,2,-999.000,1,-999.000,1,-999.000,1,  2367.7,2,  2416.7,2,    7.484,    25.00,   -0.24,2,    0.00,  -238.8,2,     3.3,  27.7240,2
49NZ200107_1,       P17N,      58,          1,          8,          8,2,20010815,       1227,    44.9488,  -141.2313,       4396,  2842.9,   1.5911,2,  34.6524,2,  34.6519,2,   106.34,1,  103.13,2,  158.22,2,   39.69,2,    0.02,2,    2.76,2,-999.000,9,-999.000,9,-999.000,9,  -999.0,9,  -999.0,9, -999.000,  -999.00, -999.00,9, -999.00,  -999.0,9,  -999.0,  27.7394,2
49NZ200107_1,       P17N,      58,          1,          7,          7,2,20010815,       1227,    44.9488,  -141.2313,       4396,  3047.1,   1.5490,2,  34.6609,2,  34.6611,2,   114.87,1,  112.59,2,  157.27,2,   39.11,2,    0.02,2,    2.71,2,-999.000,1,-999.000,1,-999.000,1,  2356.6,6,  2429.0,4,    7.526,    25.00,   -0.22,2,    0.00,  -242.6,2,     3.4,  27.7505,2
49NZ200107_1,       P17N,      58,          1,          6,          6,2,20010815,       1227,    44.9488,  -141.2313,       4396,  3303.1,   1.5216,2,  34.6679,2,  34.6676,2,   122.87,1,  119.87,2,  157.04,2,   38.57,2,    0.02,2,    2.66,2,-999.000,9,-999.000,9,-999.000,9,  -999.0,9,  -999.0,9, -999.000,  -999.00, -999.00,9, -999.00,  -999.0,9,  -999.0,  27.7598,2
49NZ200107_1,       P17N,      58,          1,          5,          5,2,20010815,       1227,    44.9488,  -141.2313,       4396,  3559.4,   1.5045,2,  34.6740,2,  34.6740,2,   129.97,1,  126.95,2,  158.47,2,   38.11,2,    0.01,2,    2.62,2,-999.000,1,-999.000,1,-999.000,1,  2345.9,2,  2422.5,2,    7.559,    25.00,    0.00,2,    0.00,  -234.1,2,     4.7,  27.7676,2
49NZ200107_1,       P17N,      58,          1,          4,          4,2,20010815,       1227,    44.9488,  -141.2313,       4396,  3815.4,   1.5057,2,  34.6781,2,  34.6782,2,   134.51,1,  131.23,2,  160.01,2,   37.93,2,    0.01,2,    2.61,2,-999.000,9,-999.000,9,-999.000,9,  -999.0,9,  -999.0,9, -999.000,  -999.00, -999.00,9, -999.00,  -999.0,9,  -999.0,  27.7727,2
49NZ200107_1,       P17N,      58,          1,          3,          3,2,20010815,       1227,    44.9488,  -141.2313,       4396,  4072.4,   1.5174,2,  34.6806,2,  34.6806,2,   138.04,1,  133.06,2,  161.50,2,   37.85,2,    0.01,2,    2.60,2,-999.000,1,-999.000,1,-999.000,1,  2344.1,2,  2428.2,6,    7.570,    25.00,    0.00,2,    0.00,  -230.9,2,     3.0,  27.7758,2
49NZ200107_1,       P17N,      58,          1,          2,          2,2,20010815,       1227,    44.9488,  -141.2313,       4396,  4329.2,   1.5367,2,  34.6826,2,  34.6826,2,   140.67,1,  135.23,2,  164.39,2,   37.73,2,    0.02,2,    2.60,2,-999.000,9,-999.000,9,-999.000,9,  -999.0,9,  -999.0,9, -999.000,  -999.00, -999.00,9, -999.00,  -999.0,9,  -999.0,  27.7781,2
49NZ200107_1,       P17N,      58,          1,          1,          1,2,20010815,       1227,    44.9488,  -141.2313,       4396,  4457.5,   1.5485,2,  34.6831,2,  34.6832,2,   141.90,1,  134.61,2,  164.67,2,   37.67,2,    0.02,2,    2.60,2,-999.000,1,-999.000,1,-999.000,1,  2347.5,2,  2430.1,2,    7.580,    25.00,    0.00,2,    0.00,  -225.8,2,     3.5,  27.7788,2