BOTTLE,20220817CCHSIOAMB
EXPOCODE,SECT_ID,STNNBR,CASTNO,SAMPNO,BTLNBR,BTLNBR_FLAG_W,DATE,TIME,LATITUDE,LONGITUDE,DEPTH,CTDPRS,CTDTMP,CTDTMP_FLAG_W,CTDSAL,CTDSAL_FLAG_W,SALNTY,SALNTY_FLAG_W,CTDOXY,CTDOXY_FLAG_W,OXYGEN,OXYGEN_FLAG_W,SILCAT,SILCAT_FLAG_W,NITRAT,NITRAT_FLAG_W,NITRIT,NITRIT_FLAG_W,PHSPHT,PHSPHT_FLAG_W,CFC-11,CFC-11_FLAG_W,CFC-12,CFC-12_FLAG_W,CFC113,CFC113_FLAG_W,TCARBN,TCARBN_FLAG_W,ALKALI,ALKALI_FLAG_W,PH_TOT,PH_TMP,DELC13,DELC13_FLAG_W,C13ERR,DELC14,DELC14_FLAG_W,C14ERR,THETA,THETA_FLAG_W
,,,,,,,,,,,METERS,DBAR,ITS-90,,PSS-78,,PSS-78,,UMOL/KG,,UMOL/KG,,UMOL/KG,,UMOL/KG,,UMOL/KG,,UMOL/KG,,PMOL/KG,,PMOL/KG,,PMOL/KG,,UMOL/KG,,UMOL/KG,,,DEG C,/MILLE,,/MILLE,/MILLE,,/MILLE,DEG C,
49NZ200107_1,       P17C,      21,          1,          0,        -99,9,20010807,       2238,    32.6052,  -135.0062,       4649,     4.5,-999.0000,9,-999.0000,9,  33.8711,2,  -999.00,9,  227.72,2,    2.70,2,    0.11,2,    0.00,2,    0.21,2,-999.000,9,-999.000,9,-999.000,9,  -999.0,9,  -999.0,9, -999.000,  -999.00, -999.00,9, -999.00,  -999.0,9,  -999.0,-999.0000,9
49NZ200107_1,       P17C,      21,          1,         36,         36,2,20010807,       2238,    32.6052,  -135.0062,       4649,    10.8,  21.1442,2,  33.8788,2,  33.8866,2,   219.67,1,  232.71,2,    2.67,2,    0.11,2,   -0.01,2,    0.15,2,-999.000,9,-999.000,9,-999.000,9,  -999.0,9,  -999.0,9, -999.000,  -999.00, -999.00,9, -999.00,  -999.0,9,  -999.0,  23.6021,2
49NZ200107_1,       P17C,      21,          1,         35,         35,2,20010807,       2238,    32.6052,  -135.0062,       4649,    25.9,  20.2327,2,  33.8915,2,  33.8599,2,   223.65,1,  236.91,2,    2.62,2,    0.04,2,    0.01,2,    0.15,2,-999.000,9,-999.000,9,-999.000,9,  -999.0,9,  -999.0,9, -999.000,  -999.00, -999.00,9, -999.00,  -999.0,9,  -999.0,  23.8565,2
49NZ200107_1,       P17C,      21,          1,         34,         34,2,20010807,       2238,    32.6052,  -135.0062,       4649,    50.9,  15.6474,2,  33.3733,2,  33.3832,2,   256.93,1,  267.24,2,    2.75,2,    0.04,2,    0.01,2,    0.22,2,-999.000,9,-999.000,9,-999.000,9,  -999.0,9,  -999.0,9, -999.000,  -999.00, -999.00,9, -999.00,  -999.0,9,  -999.0,  24.5775,2
49NZ200107_1,       P17C,      21,          1,         33,         33,2,20010807,       2238,    32.6052,  -135.0062,       4649,    75.8,  14.2621,2,  33.3215,2,  33.3215,2,   251.27,1,  260.76,2,    2.67,2,    0.04,2,    0.01,2,    0.26,2,-999.000,9,-999.000,9,-999.000,9,  -999.0,9,  -999.0,9, -999.000,  -999.00, -999.00,9, -999.00,  -999.0,9,  -999.0,  24.8378,2
49NZ200107_1,       P17C,      21,          1,         32,         32,2,20010807,       2238,    32.6052,  -135.0062,       4649,   101.0,  14.0695,2,  33.4144,2,  33.4154,2,   243.75,1,  253.30,2,    2.86,2,    0.07,2,    0.01,2,    0.27,2,-999.000,9,-999.000,9,-999.000,9,  -999.0,9,  -999.0,9, -999.000,  -999.00, -999.00,9, -999.00,  -999.0,9,  -999.0,  24.9504,2
49NZ200107_1,       P17C,      21,          1,         31,         31,2,20010807,       2238,    32.6052,  -135.0062,       4649,   151.3,  11.9674,2,  33.5481,2,  33.5605,2,   230.05,1,  240.86,2,    5.19,2,    4.09,2,    0.04,2,    0.49,2,-999.000,9,-999.000,9,-999.000,9,  -999.0,9,  -999.0,9, -999.000,  -999.00, -999.00,9, -999.00,  -999.0,9,  -999.0,  25.4713,2
49NZ200107_1,       P17C,      21,          1,         30,         30,2,20010807,       2238,    32.6052,  -135.0062,       4649,   201.6,   9.2116,2,  33.5977,2,  33.6230,2,   210.14,1,  221.72,2,   13.33,2,   13.14,2,   -0.01,2,    1.04,2,-999.000,9,-999.000,9,-999.000,9,  -999.0,9,  -999.0,9, -999.000,  -999.00, -999.00,9, -999.00,  -999.0,9,  -999.0,  25.9900,2
49NZ200107_1,       P17C,      21,          1,         29,         29,2,20010807,       2238,    32.6052,  -135.0062,       4649,   251.8,   8.8819,2,  33.9804,2,  33.9900,2,   170.12,1,  177.78,2,   24.90,2,   21.34,2,    0.00,2,    1.51,2,-999.000,9,-999.000,9,-999.000,9,  -999.0,9,  -999.0,9, -999.000,  -999.00, -999.00,9, -999.00,  -999.0,9,  -999.0,  26.3426,2
49NZ200107_1,       P17C,      21,          1,         28,         28,2,20010807,       2238,    32.6052,  -135.0062,       4649,   302.7,   7.9416,2,  34.0119,2,  34.0089,2,   138.20,1,  141.00,2,   35.06,2,   26.98,2,    0.01,2,    1.88,2,-999.000,9,-999.000,9,-999.000,9,  -999.0,9,  -999.0,9, -999.000,  -999.00, -999.00,9, -999.00,  -999.0,9,  -999.0,  26.5109,2
49NZ200107_1,       P17C,      21,          1,         27,         27,2,20010807,       2238,    32.6052,  -135.0062,       4649,   353.5,   7.1501,2,  33.9973,2,  33.9944,2,   130.86,1,  134.75,2,   41.29,2,   28.91,2,    0.01,2,    2.03,2,-999.000,9,-999.000,9,-999.000,9,  -999.0,9,  -999.0,9, -999.000,  -999.00, -999.00,9, -999.00,  -999.0,9,  -999.0,  26.6128,2
49NZ200107_1,       P17C,      21,          1,         26,         26,2,20010807,       2238,    32.6052,  -135.0062,       4649,   403.5,   6.3072,2,  33.9747,2,  33.9731,2,   112.98,1,  117.39,2,   50.18,2,   32.11,2,    0.01,2,    2.26,2,-999.000,9,-999.000,9,-999.000,9,  -999.0,9,  -999.0,9, -999.000,  -999.00, -999.00,9, -999.00,  -999.0,9,  -999.0,  26.7079,2
49NZ200107_1,       P17C,      21,          1,         25,         25,2,20010807,       2238,    32.6052,  -135.0062,       4649,   504.1,   5.2854,2,  34.0162,2,  34.0162,2,    68.60,1,   69.14,2,   67.94,2,   38.14,2,    0.01,2,    2.72,2,-999.000,9,-999.000,9,-999.000,9,  -999.0,9,  -999.0,9, -999.000,  -999.00, -999.00,9, -999.00,  -999.0,9,  -999.0,  26.8670,2
49NZ200107_1,       P17C,      21,          1,         24,         24,2,20010807,       2238,    32.6052,  -135.0062,       4649,   605.3,   4.8327,2,  34.1153,2,  34.1144,2,    36.97,1,   33.70,2,   82.84,2,   41.59,2,   -0.01,2,    2.99,2,-999.000,9,-999.000,9,-999.000,9,  -999.0,9,  -999.0,9, -999.000,  -999.00, -999.00,9, -999.00,  -999.0,9,  -999.0,  26.9982,2
49NZ200107_1,       P17C,      21,          1,         23,         23,2,20010807,       2238,    32.6052,  -135.0062,       4649,   706.5,   4.4543,2,  34.2146,2,  34.2189,2,    21.19,1,   15.73,2,   95.54,2,   43.38,2,   -0.01,2,    3.18,2,-999.000,9,-999.000,9,-999.000,9,  -999.0,9,  -999.0,9, -999.000,  -999.00, -999.00,9, -999.00,  -999.0,9,  -999.0,  27.1192,2
49NZ200107_1,       P17C,      21,          1,         22,         22,2,20010807,       2238,    32.6052,  -135.0062,       4649,   807.3,   4.1613,2,  34.3054,2,  34.3069,2,    16.14,1,   10.08,2,  104.57,2,   44.20,2,    0.00,2,    3.22,2,-999.000,9,-999.000,9,-999.000,9,  -999.0,9,  -999.0,9, -999.000,  -999.00, -999.00,9, -999.00,  -999.0,9,  -999.0,  27.2232,2
49NZ200107_1,       P17C,      21,          1,         21,         21,2,20010807,       2238,    32.6052,  -135.0062,       4649,   908.2,   3.8801,2,  34.3713,2,  34.3705,2,    16.90,1,   10.26,2,  112.41,2,   44.55,2,   -0.01,2,    3.25,2,-999.000,9,-999.000,9,-999.000,9,  -999.0,9,  -999.0,9, -999.000,  -999.00, -999.00,9, -999.00,  -999.0,9,  -999.0,  27.3051,2
49NZ200107_1,       P17C,      21,          1,         20,         20,2,20010807,       2238,    32.6052,  -135.0062,       4649,  1010.0,   3.6420,2,  34.4340,2,  34.4345,2,    22.41,1,   16.02,2,  118.36,2,   44.63,2,   -0.01,2,    3.30,2,-999.000,9,-999.000,9,-999.000,9,  -999.0,9,  -999.0,9, -999.000,  -999.00, -999.00,9, -999.00,  -999.0,9,  -999.0,  27.3794,2
49NZ200107_1,       P17C,      21,          1,         19,         19,2,20010807,       2238,    32.6052,  -135.0062,       4649,  1111.0,   3.4178,2,  34.4712,2,  34.4715,2,    29.22,1,   23.17,2,  122.51,2,   44.35,2,    0.00,2,    3.17,2,-999.000,9,-999.000,9,-999.000,9,  -999.0,9,  -999.0,9, -999.000,  -999.00, -999.00,9, -999.00,  -999.0,9,  -999.0,  27.4314,2
49NZ200107_1,       P17C,      21,          1,         18,         18,2,20010807,       2238,    32.6052,  -135.0062,       4649,  1212.2,   3.1997,2,  34.5014,2,  34.5005,2,    35.32,1,   29.96,2,  131.95,2,   43.66,2,    0.00,2,    3.13,2,-999.000,9,-999.000,9,-999.000,9,  -999.0,9,  -999.0,9, -999.000,  -999.00, -999.00,9, -999.00,  -999.0,9,  -999.0,  27.4766,2
49NZ200107_1,       P17C,      21,          1,         17,         17,2,20010807,       2238,    32.6052,  -135.0062,       4649,  1313.5,   2.9917,2,  34.5227,2,  34.5232,2,    41.70,1,   35.98,2,  131.53,2,   43.76,2,    0.00,2,    3.14,2,-999.000,9,-999.000,9,-999.000,9,  -999.0,9,  -999.0,9, -999.000,  -999.00, -999.00,9, -999.00,  -999.0,9,  -999.0,  27.5132,2
49NZ200107_1,       P17C,      21,          1,         16,         16,2,20010807,       2238,    32.6052,  -135.0062,       4649,  1414.8,   2.8234,2,  34.5440,2,  34.5434,2,    48.61,1,   44.08,2,  134.52,2,   43.46,2,   -0.01,2,    3.11,2,-999.000,9,-999.000,9,-999.000,9,  -999.0,9,  -999.0,9, -999.000,  -999.00, -999.00,9, -999.00,  -999.0,9,  -999.0,  27.5458,2
49NZ200107_1,       P17C,      21,          1,         15,         15,2,20010807,       2238,    32.6052,  -135.0062,       4649,  1618.3,   2.4449,2,  34.5770,2,  34.5770,2,    59.44,1,   55.80,2,  144.26,2,   42.73,2,    0.00,2,    3.07,2,-999.000,9,-999.000,9,-999.000,9,  -999.0,9,  -999.0,9, -999.000,  -999.00, -999.00,9, -999.00,  -999.0,9,  -999.0,  27.6057,2
49NZ200107_1,       P17C,      21,          1,         14,         14,2,20010807,       2238,    32.6052,  -135.0062,       4649,  1821.2,   2.1848,2,  34.5977,2,  34.5968,2,    67.78,1,   64.97,2,  151.56,2,   42.13,2,    0.00,2,    3.02,2,-999.000,9,-999.000,9,-999.000,9,  -999.0,9,  -999.0,9, -999.000,  -999.00, -999.00,9, -999.00,  -999.0,9,  -999.0,  27.6445,2
49NZ200107_1,       P17C,      21,          1,         13,         13,2,20010807,       2238,    32.6052,  -135.0062,       4649,  2024.9,   1.9823,2,  34.6170,2,  34.6169,2,    77.50,1,   75.24,2,  156.60,2,   41.48,2,    0.00,2,    2.95,2,-999.000,9,-999.000,9,-999.000,9,  -999.0,9,  -999.0,9, -999.000,  -999.00, -999.00,9, -999.00,  -999.0,9,  -999.0,  27.6770,2
49NZ200107_1,       P17C,      21,          1,         12,         12,2,20010807,       2238,    32.6052,  -135.0062,       4649,  2227.8,   1.8510,2,  34.6307,2,  34.6307,2,    85.99,1,   84.22,2,  159.60,2,   40.93,2,    0.00,2,    2.93,2,-999.000,9,-999.000,9,-999.000,9,  -999.0,9,  -999.0,9, -999.000,  -999.00, -999.00,9, -999.00,  -999.0,9,  -999.0,  27.6992,2
49NZ200107_1,       P17C,      21,          1,         11,         11,2,20010807,       2238,    32.6052,  -135.0062,       4649,  2430.9,   1.7449,2,  34.6446,2,  34.6448,2,    96.32,1,   95.53,2,  159.01,2,   40.25,2,   -0.01,2,    2.81,2,-999.000,9,-999.000,9,-999.000,9,  -999.0,9,  -999.0,9, -999.000,  -999.00, -999.00,9, -999.00,  -999.0,9,  -999.0,  27.7194,2
49NZ200107_1,       P17C,      21,          1,         10,         10,2,20010807,       2238,    32.6052,  -135.0062,       4649,  2634.6,   1.6572,2,  34.6526,2,  34.6531,2,   103.16,1,  102.88,2,  160.46,2,   39.78,2,    0.00,2,    2.80,2,-999.000,9,-999.000,9,-999.000,9,  -999.0,9,  -999.0,9, -999.000,  -999.00, -999.00,9, -999.00,  -999.0,9,  -999.0,  27.7334,2
49NZ200107_1,       P17C,      21,          1,          9,          9,2,20010807,       2238,    32.6052,  -135.0062,       4649,  2838.7,   1.5873,2,  34.6607,2,  34.6612,2,   111.33,1,  111.51,2,  160.55,2,   39.16,2,    0.00,2,    2.77,2,-999.000,9,-999.000,9,-999.000,9,  -999.0,9,  -999.0,9, -999.000,  -999.00, -999.00,9, -999.00,  -999.0,9,  -999.0,  27.7462,2
49NZ200107_1,       P17C,      21,          1,          8,          8,2,20010807,       2238,    32.6052,  -135.0062,       4649,  3042.7,   1.5425,2,  34.6662,2,  34.6662,2,   117.85,1,  118.00,2,  159.24,2,   38.83,2,   -0.01,2,    2.71,2,-999.000,9,-999.000,9,-999.000,9,  -999.0,9,  -999.0,9, -999.000,  -999.00, -999.00,9, -999.00,  -999.0,9,  -999.0,  27.7552,2
49NZ200107_1,       P17C,      21,          1,          7,          7,2,20010807,       2238,    32.6052,  -135.0062,       4649,  3298.3,   1.4928,2,  34.6736,2,  34.6739,2,   127.70,1,  128.48,2,  156.22,2,   38.19,2,    0.00,2,    2.65,2,-999.000,9,-999.000,9,-999.000,9,  -999.0,9,  -999.0,9, -999.000,  -999.00, -999.00,9, -999.00,  -999.0,9,  -999.0,  27.7662,2
49NZ200107_1,       P17C,      21,          1,          6,          6,2,20010807,       2238,    32.6052,  -135.0062,       4649,  3554.6,   1.4801,2,  34.6777,2,  34.6777,2,   134.11,1,  134.20,2,  154.37,2,   37.83,2,   -0.01,2,    2.63,2,-999.000,9,-999.000,9,-999.000,9,  -999.0,9,  -999.0,9, -999.000,  -999.00, -999.00,9, -999.00,  -999.0,9,  -999.0,  27.7722,2
49NZ200107_1,       P17C,      21,          1,          5,          5,2,20010807,       2238,    32.6052,  -135.0062,       4649,  3811.0,   1.4851,2,  34.6800,2,  34.6799,2,   138.35,1,  137.98,2,  152.72,2,   37.53,2,   -0.01,2,    2.60,2,-999.000,9,-999.000,9,-999.000,9,  -999.0,9,  -999.0,9, -999.000,  -999.00, -999.00,9, -999.00,  -999.0,9,  -999.0,  27.7756,2
49NZ200107_1,       P17C,      21,          1,          4,          4,3,20010807,       2238,    32.6052,  -135.0062,       4649,  4066.4,   1.4967,2,  34.6816,2,  34.6815,2,   142.23,1,  139.74,2,  151.21,2,   37.40,2,   -0.01,2,    2.60,2,-999.000,9,-999.000,9,-999.000,9,  -999.0,9,  -999.0,9, -999.000,  -999.00, -999.00,9, -999.00,  -999.0,9,  -999.0,  27.7780,2
49NZ200107_1,       P17C,      21,          1,          3,          3,2,20010807,       2238,    32.6052,  -135.0062,       4649,  4323.5,   1.5080,2,  34.6837,2,  34.6837,2,   146.64,1,  144.32,2,  149.91,2,   37.14,2,   -0.01,2,    2.60,2,-999.000,9,-999.000,9,-999.000,9,  -999.0,9,  -999.0,9, -999.000,  -999.00, -999.00,9, -999.00,  -999.0,9,  -999.0,  27.7809,2
49NZ200107_1,       P17C,      21,          1,          2,          2,3,20010807,       2238,    32.6052,  -135.0062,       4649,  4580.8,   1.5296,2,  34.6846,2,  34.6844,2,   150.01,1, -999.00,5,  149.43,2,   37.00,2,    0.00,2,    2.56,2,-999.000,9,-999.000,9,-999.000,9,  -999.0,9,  -999.0,9, -999.000,  -999.00, -999.00,9, -999.00,  -999.0,9,  -999.0,  27.7821,2
49NZ200107_1,       P17C,      21,          1,          1,          1,2,20010807,       2238,    32.6052,  -135.0062,       4649,  4710.2,   1.5438,2,  34.6846,2,  34.6855,2,   151.61,1,  146.25,2,  149.66,2,   36.96,2,    0.00,2,    2.57,2,-999.000,9,-999.000,9,-999.000,9,  -999.0,9,  -999.0,9, -999.000,  -999.00, -999.00,9, -999.00,  -999.0,9,  -999.0,  27.7823,2