BOTTLE,20220817CCHSIOAMB
EXPOCODE,SECT_ID,STNNBR,CASTNO,SAMPNO,BTLNBR,BTLNBR_FLAG_W,DATE,TIME,LATITUDE,LONGITUDE,DEPTH,CTDPRS,CTDTMP,CTDTMP_FLAG_W,CTDSAL,CTDSAL_FLAG_W,SALNTY,SALNTY_FLAG_W,CTDOXY,CTDOXY_FLAG_W,OXYGEN,OXYGEN_FLAG_W,SILCAT,SILCAT_FLAG_W,NITRAT,NITRAT_FLAG_W,NITRIT,NITRIT_FLAG_W,PHSPHT,PHSPHT_FLAG_W,CFC-11,CFC-11_FLAG_W,CFC-12,CFC-12_FLAG_W,CFC113,CFC113_FLAG_W,TCARBN,TCARBN_FLAG_W,ALKALI,ALKALI_FLAG_W,PH_TOT,PH_TMP,DELC13,DELC13_FLAG_W,C13ERR,DELC14,DELC14_FLAG_W,C14ERR,THETA,THETA_FLAG_W
,,,,,,,,,,,METERS,DBAR,ITS-90,,PSS-78,,PSS-78,,UMOL/KG,,UMOL/KG,,UMOL/KG,,UMOL/KG,,UMOL/KG,,UMOL/KG,,PMOL/KG,,PMOL/KG,,PMOL/KG,,UMOL/KG,,UMOL/KG,,,DEG C,/MILLE,,/MILLE,/MILLE,,/MILLE,DEG C,
49NZ200107_1,       P17N,      50,          1,          0,        -99,9,20010813,       2021,    42.3247,  -137.0148,       4139,     4.5,-999.0000,9,-999.0000,9,  32.4743,2,  -999.00,9,  248.57,2,    3.13,2,    0.14,2,    0.01,2,    0.47,2,-999.000,1,-999.000,1,-999.000,1,  1956.8,2,  2184.9,2,    7.965,    25.00, -999.00,9, -999.00,  -999.0,9,  -999.0,-999.0000,9
49NZ200107_1,       P17N,      50,          1,         36,         36,2,20010813,       2021,    42.3247,  -137.0148,       4139,    10.6,  17.4106,2,  32.4576,2,  32.4571,2,   243.46,1,  253.04,2,    2.40,2,    0.12,2,    0.00,2,    0.37,2,-999.000,1,-999.000,1,-999.000,1,  1956.4,2,  2178.7,2,    7.966,    25.00, -999.00,9, -999.00,  -999.0,9,  -999.0,  23.4676,2
49NZ200107_1,       P17N,      50,          1,         35,         35,2,20010813,       2021,    42.3247,  -137.0148,       4139,    25.1,  14.4346,2,  32.4866,2,  32.4821,2,   281.18,1,  293.46,2,    1.33,2,    0.18,2,    0.00,2,    0.40,2,-999.000,1,-999.000,1,-999.000,1,  1957.3,2,  2174.3,2,    7.961,    25.00, -999.00,9, -999.00,  -999.0,9,  -999.0,  24.1558,2
49NZ200107_1,       P17N,      50,          1,         34,         34,3,20010813,       2021,    42.3247,  -137.0148,       4139,    50.1,  10.7572,2,  32.5988,2,  32.6007,2,   279.40,1,  295.13,2,    4.50,2,    2.36,2,    0.22,2,    0.54,2,-999.000,1,-999.000,1,-999.000,1,  1979.7,2,  2186.3,2,    7.914,    25.00, -999.00,9, -999.00,  -999.0,9,  -999.0,  24.9497,2
49NZ200107_1,       P17N,      50,          1,         33,         33,2,20010813,       2021,    42.3247,  -137.0148,       4139,    76.1,   9.6012,2,  32.5639,2,  32.5645,2,   267.83,1,  278.69,2,    6.98,2,    6.48,2,    0.72,2,    0.80,2,-999.000,1,-999.000,1,-999.000,1,  2006.9,2,  2179.0,2,    7.857,    25.00, -999.00,9, -999.00,  -999.0,9,  -999.0,  25.1169,2
49NZ200107_1,       P17N,      50,          1,         32,         32,2,20010813,       2021,    42.3247,  -137.0148,       4139,   101.6,   8.7860,2,  32.5341,2,  32.5382,2,   265.94,1,  277.77,2,    8.37,2,    8.89,2,    0.05,2,    0.94,2,-999.000,1,-999.000,1,-999.000,1,  2014.6,2,  2174.7,6,    7.832,    25.00, -999.00,9, -999.00,  -999.0,9,  -999.0,  25.2222,2
49NZ200107_1,       P17N,      50,          1,         31,         31,3,20010813,       2021,    42.3247,  -137.0148,       4139,   151.5,   7.6512,2,  32.8867,2,  32.9080,2,   245.83,1,  259.08,2,   13.65,2,   13.68,2,    0.01,2,    1.17,2,-999.000,1,-999.000,1,-999.000,1,  2058.0,2,  2198.4,2,    7.767,    25.00, -999.00,9, -999.00,  -999.0,9,  -999.0,  25.6665,2
49NZ200107_1,       P17N,      50,          1,         30,         30,2,20010813,       2021,    42.3247,  -137.0148,       4139,   202.2,   7.9047,2,  33.7391,2,  33.7546,2,   208.57,1,  218.56,2,   21.21,2,   17.98,2,    0.01,2,    1.30,2,-999.000,1,-999.000,1,-999.000,1,  2111.8,6,  2241.3,2,    7.723,    25.00, -999.00,9, -999.00,  -999.0,9,  -999.0,  26.3005,2
49NZ200107_1,       P17N,      50,          1,         29,         29,2,20010813,       2021,    42.3247,  -137.0148,       4139,   252.5,   7.7895,2,  33.9710,2,  33.9709,2,   168.01,1,  174.89,2,   31.75,2,   23.67,2,    0.00,2,    1.63,2,-999.000,1,-999.000,1,-999.000,1,  2157.9,2,  2261.2,2,    7.651,    25.00, -999.00,9, -999.00,  -999.0,9,  -999.0,  26.5002,2
49NZ200107_1,       P17N,      50,          1,         28,         28,2,20010813,       2021,    42.3247,  -137.0148,       4139,   302.9,   6.9010,2,  33.9638,2,  33.9625,2,   141.07,1,  145.91,2,   43.21,2,   28.43,2,    0.01,2,    1.95,2,-999.000,1,-999.000,1,-999.000,1,  2192.5,2,  2273.4,6,    7.577,    25.00, -999.00,9, -999.00,  -999.0,9,  -999.0,  26.6198,2
49NZ200107_1,       P17N,      50,          1,         27,         27,2,20010813,       2021,    42.3247,  -137.0148,       4139,   353.6,   6.1269,2,  33.9557,2,  33.9543,2,   121.03,1,  124.49,2,   52.69,2,   31.86,2,    0.01,2,    2.20,2,-999.000,1,-999.000,1,-999.000,1,  2220.8,2,  -999.0,5,    7.518,    25.00, -999.00,9, -999.00,  -999.0,9,  -999.0,  26.7153,2
49NZ200107_1,       P17N,      50,          1,         26,         26,2,20010813,       2021,    42.3247,  -137.0148,       4139,   403.8,   5.5346,2,  33.9613,2,  33.9608,2,   101.28,1,  102.94,2,   61.33,2,   35.18,2,    0.00,2,    2.43,2,-999.000,1,-999.000,1,-999.000,1,  2245.3,6,  2287.1,2,    7.461,    25.00, -999.00,9, -999.00,  -999.0,9,  -999.0,  26.7931,2
49NZ200107_1,       P17N,      50,          1,         25,         25,2,20010813,       2021,    42.3247,  -137.0148,       4139,   504.8,   4.8214,2,  34.0072,2,  34.0071,2,    70.77,1,   70.94,2,   75.84,2,   39.12,2,    0.00,2,    2.73,2,-999.000,1,-999.000,1,-999.000,1,  2280.6,2,  2305.7,2,    7.395,    25.00, -999.00,9, -999.00,  -999.0,9,  -999.0,  26.9128,2
49NZ200107_1,       P17N,      50,          1,         24,         24,2,20010813,       2021,    42.3247,  -137.0148,       4139,   605.7,   4.3461,2,  34.0997,2,  34.0997,2,    36.18,1,   31.78,2,   92.12,2,   42.83,2,    0.00,2,    3.00,2,-999.000,1,-999.000,1,-999.000,1,  2322.3,2,  2316.1,6,    7.326,    25.00, -999.00,9, -999.00,  -999.0,9,  -999.0,  27.0386,2
49NZ200107_1,       P17N,      50,          1,         23,         23,2,20010813,       2021,    42.3247,  -137.0148,       4139,   707.1,   4.0108,2,  34.1788,2,  34.1805,2,    23.17,1,   17.43,2,  104.72,2,   44.22,2,    0.00,2,    3.13,2,-999.000,1,-999.000,1,-999.000,1,  2344.8,2,  2337.8,2,    7.308,    25.00, -999.00,9, -999.00,  -999.0,9,  -999.0,  27.1371,2
49NZ200107_1,       P17N,      50,          1,         22,         22,2,20010813,       2021,    42.3247,  -137.0148,       4139,   808.1,   3.7871,2,  34.2568,2,  34.2596,2,    16.69,1,   10.32,2,  114.18,2,   44.91,2,    0.00,2,    3.18,2,-999.000,1,-999.000,1,-999.000,1,  2359.4,6,  2343.7,2,    7.304,    25.00, -999.00,9, -999.00,  -999.0,9,  -999.0,  27.2224,2
49NZ200107_1,       P17N,      50,          1,         21,         21,3,20010813,       2021,    42.3247,  -137.0148,       4139,   909.5,   3.5846,2,  34.3168,2,  34.3189,2,    15.30,1,    7.78,2,  121.49,2,   45.08,2,   -0.01,2,    3.21,2,-999.000,1,-999.000,1,-999.000,1,  2369.9,2,  2358.2,2,    7.311,    25.00, -999.00,9, -999.00,  -999.0,9,  -999.0,  27.2908,2
49NZ200107_1,       P17N,      50,          1,         20,         20,2,20010813,       2021,    42.3247,  -137.0148,       4139,  1010.9,   3.3419,2,  34.3725,2,  34.3725,2,    15.61,1,    8.06,2,  128.92,2,   45.24,2,   -0.01,2,    3.22,2,-999.000,1,-999.000,1,-999.000,1,  2379.4,2,  2369.5,6,    7.318,    25.00, -999.00,9, -999.00,  -999.0,9,  -999.0,  27.3590,2
49NZ200107_1,       P17N,      50,          1,         19,         19,2,20010813,       2021,    42.3247,  -137.0148,       4139,  1112.1,   3.1181,2,  34.4132,2,  34.4155,2,    16.97,1,    9.44,2,  131.94,2,   45.39,2,   -0.01,2,    3.20,2,-999.000,1,-999.000,1,-999.000,1,  2385.5,2,  2377.3,2,    7.323,    25.00, -999.00,9, -999.00,  -999.0,9,  -999.0,  27.4130,2
49NZ200107_1,       P17N,      50,          1,         18,         18,2,20010813,       2021,    42.3247,  -137.0148,       4139,  1213.5,   2.9281,2,  34.4500,2,  34.4503,2,    19.64,1,   11.64,2,  137.13,2,   45.39,2,    0.00,2,    3.21,2,-999.000,1,-999.000,1,-999.000,1,  2392.4,6,  2384.4,2,    7.328,    25.00, -999.00,9, -999.00,  -999.0,9,  -999.0,  27.4601,2
49NZ200107_1,       P17N,      50,          1,         17,         17,2,20010813,       2021,    42.3247,  -137.0148,       4139,  1314.6,   2.7678,2,  34.4739,2,  34.4752,2,    22.53,1,   14.78,2,  142.06,2,   45.24,2,   -0.01,2,    3.18,2,-999.000,1,-999.000,1,-999.000,1,  2394.4,2,  2389.9,2,    7.335,    25.00, -999.00,9, -999.00,  -999.0,9,  -999.0,  27.4939,2
49NZ200107_1,       P17N,      50,          1,         16,         16,2,20010813,       2021,    42.3247,  -137.0148,       4139,  1416.2,   2.5978,2,  34.4992,2,  34.5004,2,    27.14,1,   19.69,2,  146.17,2,   45.11,2,    0.00,2,    3.16,2,-999.000,1,-999.000,1,-999.000,1,  2396.4,2,  2395.1,2,    7.347,    25.00, -999.00,9, -999.00,  -999.0,9,  -999.0,  27.5294,2
49NZ200107_1,       P17N,      50,          1,         15,         15,2,20010813,       2021,    42.3247,  -137.0148,       4139,  1517.8,   2.4536,2,  34.5198,2,  34.5205,2,    32.05,1,   24.80,2,  150.44,2,   44.96,2,    0.00,2,    3.14,2,-999.000,1,-999.000,1,-999.000,1,  2396.6,2,  2399.0,2,    7.358,    25.00, -999.00,9, -999.00,  -999.0,9,  -999.0,  27.5585,2
49NZ200107_1,       P17N,      50,          1,         14,         14,2,20010813,       2021,    42.3247,  -137.0148,       4139,  1619.5,   2.3029,2,  34.5425,2,  34.5421,2,    39.17,1,   32.07,2,  154.66,2,   44.41,2,    0.00,2,    3.11,2,-999.000,1,-999.000,1,-999.000,1,  2395.9,2,  2410.3,2,    7.371,    25.00, -999.00,9, -999.00,  -999.0,9,  -999.0,  27.5896,2
49NZ200107_1,       P17N,      50,          1,         13,         13,2,20010813,       2021,    42.3247,  -137.0148,       4139,  1720.7,   2.1994,2,  34.5610,2,  34.5615,2,    46.29,1,   39.85,2,  157.12,2,   43.82,2,   -0.01,2,    3.06,2,-999.000,1,-999.000,1,-999.000,1,  2393.0,2,  2406.3,2,    7.389,    25.00, -999.00,9, -999.00,  -999.0,9,  -999.0,  27.6133,2
49NZ200107_1,       P17N,      50,          1,         12,         12,2,20010813,       2021,    42.3247,  -137.0148,       4139,  1820.9,   2.0866,2,  34.5792,2,  34.5790,2,    54.19,1,   48.62,2,  159.48,2,   43.45,2,    0.00,2,    3.03,2,-999.000,1,-999.000,1,-999.000,1,  2391.3,2,  2407.5,3,    7.389,    25.00, -999.00,9, -999.00,  -999.0,9,  -999.0,  27.6374,2
49NZ200107_1,       P17N,      50,          1,         11,         11,2,20010813,       2021,    42.3247,  -137.0148,       4139,  2026.0,   1.9397,2,  34.6052,2,  34.6052,2,    67.18,1,   63.42,2,  162.88,2,   42.33,2,   -0.01,2,    2.95,2,-999.000,1,-999.000,1,-999.000,1,  2387.5,2,  2420.4,2,    7.435,    25.00, -999.00,9, -999.00,  -999.0,9,  -999.0,  27.6708,2
49NZ200107_1,       P17N,      50,          1,         10,         10,2,20010813,       2021,    42.3247,  -137.0148,       4139,  2229.7,   1.8360,2,  34.6219,2,  34.6219,2,    77.79,1,   74.31,2,  163.17,2,   41.66,2,   -0.01,2,    2.90,2,-999.000,1,-999.000,1,-999.000,1,  2380.3,2,  2423.0,2,    7.444,    25.00, -999.00,9, -999.00,  -999.0,9,  -999.0,  27.6932,2
49NZ200107_1,       P17N,      50,          1,          9,          9,2,20010813,       2021,    42.3247,  -137.0148,       4139,  2433.6,   1.7427,2,  34.6349,2,  34.6348,2,    87.92,1,   84.31,2,  163.54,2,   41.05,2,   -0.01,2,    2.85,2,-999.000,9,-999.000,9,-999.000,9,  -999.0,9,  -999.0,9, -999.000,  -999.00, -999.00,9, -999.00,  -999.0,9,  -999.0,  27.7118,2
49NZ200107_1,       P17N,      50,          1,          8,          8,2,20010813,       2021,    42.3247,  -137.0148,       4139,  2637.5,   1.6632,2,  34.6455,2,  34.6456,2,    97.90,1,   95.08,2,  162.83,2,   40.57,2,   -0.01,2,    2.81,2,-999.000,1,-999.000,1,-999.000,1,  2367.9,2,  2424.1,2,    7.491,    25.00, -999.00,9, -999.00,  -999.0,9,  -999.0,  27.7274,2
49NZ200107_1,       P17N,      50,          1,          7,          7,3,20010813,       2021,    42.3247,  -137.0148,       4139,  2842.1,   1.5972,2,  34.6553,2,  34.6551,2,   107.61,1,  105.18,2,  161.99,2,   39.88,2,   -0.01,2,    2.76,2,-999.000,9,-999.000,9,-999.000,9,  -999.0,9,  -999.0,9, -999.000,  -999.00, -999.00,9, -999.00,  -999.0,9,  -999.0,  27.7412,2
49NZ200107_1,       P17N,      50,          1,          6,          6,2,20010813,       2021,    42.3247,  -137.0148,       4139,  3046.2,   1.5588,2,  34.6620,2,  34.6618,2,   114.77,1,  112.63,2,  161.52,2,   39.29,2,   -0.01,2,    2.71,2,-999.000,1,-999.000,1,-999.000,1,  2357.4,6,  2423.7,2,    7.523,    25.00, -999.00,9, -999.00,  -999.0,9,  -999.0,  27.7507,2
49NZ200107_1,       P17N,      50,          1,          5,          5,2,20010813,       2021,    42.3247,  -137.0148,       4139,  3301.6,   1.5459,2,  34.6670,2,  34.6671,2,   120.46,1,  117.71,2,  162.86,2,   39.09,2,   -0.01,2,    2.70,2,-999.000,9,-999.000,9,-999.000,9,  -999.0,9,  -999.0,9, -999.000,  -999.00, -999.00,9, -999.00,  -999.0,9,  -999.0,  27.7573,2
49NZ200107_1,       P17N,      50,          1,          4,          4,2,20010813,       2021,    42.3247,  -137.0148,       4139,  3557.9,   1.5306,2,  34.6722,2,  34.6719,2,   126.56,1,  123.22,2,  162.92,2,   38.72,2,   -0.01,2,    2.67,2,-999.000,1,-999.000,1,-999.000,1,  2353.6,2,  -999.0,5,    7.546,    25.00, -999.00,9, -999.00,  -999.0,9,  -999.0,  27.7644,2
49NZ200107_1,       P17N,      50,          1,          3,          3,2,20010813,       2021,    42.3247,  -137.0148,       4139,  3814.2,   1.5276,2,  34.6765,2,  34.6765,2,   131.74,1,  128.10,2,  163.59,2,   38.37,2,   -0.01,2,    2.64,2,-999.000,9,-999.000,9,-999.000,9,  -999.0,9,  -999.0,9, -999.000,  -999.00, -999.00,9, -999.00,  -999.0,9,  -999.0,  27.7699,2
49NZ200107_1,       P17N,      50,          1,          2,          2,2,20010813,       2021,    42.3247,  -137.0148,       4139,  4070.7,   1.5424,2,  34.6794,2,  34.6791,2,   134.50,1,  129.32,2,  165.94,2,   38.33,2,    0.00,2,    2.62,2,-999.000,1,-999.000,1,-999.000,1,  2351.3,2,  2435.1,6,    7.562,    25.00, -999.00,9, -999.00,  -999.0,9,  -999.0,  27.7732,2
49NZ200107_1,       P17N,      50,          1,          1,          1,2,20010813,       2021,    42.3247,  -137.0148,       4139,  4195.4,   1.5550,2,  34.6797,2,  34.6797,2,   135.40,1,  129.67,2,  166.97,2,   38.29,2,    0.00,2,    2.63,2,-999.000,1,-999.000,1,-999.000,1,  2353.1,2,  2443.9,2,    7.564,    25.00, -999.00,9, -999.00,  -999.0,9,  -999.0,  27.7735,2