BOTTLE,20220817CCHSIOAMB
EXPOCODE,SECT_ID,STNNBR,CASTNO,SAMPNO,BTLNBR,BTLNBR_FLAG_W,DATE,TIME,LATITUDE,LONGITUDE,DEPTH,CTDPRS,CTDTMP,CTDTMP_FLAG_W,CTDSAL,CTDSAL_FLAG_W,SALNTY,SALNTY_FLAG_W,CTDOXY,CTDOXY_FLAG_W,OXYGEN,OXYGEN_FLAG_W,SILCAT,SILCAT_FLAG_W,NITRAT,NITRAT_FLAG_W,NITRIT,NITRIT_FLAG_W,PHSPHT,PHSPHT_FLAG_W,CFC-11,CFC-11_FLAG_W,CFC-12,CFC-12_FLAG_W,CFC113,CFC113_FLAG_W,TCARBN,TCARBN_FLAG_W,ALKALI,ALKALI_FLAG_W,PH_TOT,PH_TMP,DELC13,DELC13_FLAG_W,C13ERR,DELC14,DELC14_FLAG_W,C14ERR,THETA,THETA_FLAG_W
,,,,,,,,,,,METERS,DBAR,ITS-90,,PSS-78,,PSS-78,,UMOL/KG,,UMOL/KG,,UMOL/KG,,UMOL/KG,,UMOL/KG,,UMOL/KG,,PMOL/KG,,PMOL/KG,,PMOL/KG,,UMOL/KG,,UMOL/KG,,,DEG C,/MILLE,,/MILLE,/MILLE,,/MILLE,DEG C,
49NZ200107_1,       P17N,      40,          1,          0,        -99,9,20010811,       1827,    39.8150,  -135.0047,       4034,     4.5,-999.0000,9,-999.0000,9,  32.5897,2,  -999.00,9,  250.46,2,    2.81,2,    0.18,2,    0.00,2,    0.36,2,-999.000,9,-999.000,9,-999.000,9,  -999.0,9,  -999.0,9, -999.000,  -999.00, -999.00,9, -999.00,  -999.0,9,  -999.0,-999.0000,9
49NZ200107_1,       P17N,      40,          1,         36,         36,2,20010811,       1827,    39.8150,  -135.0047,       4034,    11.2,  17.3066,2,  32.5934,2,  32.5906,2,   241.32,1,  250.84,2,    1.91,2,    0.10,2,    0.01,2,    0.31,2,-999.000,9,-999.000,9,-999.000,9,  -999.0,9,  -999.0,9, -999.000,  -999.00, -999.00,9, -999.00,  -999.0,9,  -999.0,  23.5963,2
49NZ200107_1,       P17N,      40,          1,         35,         35,2,20010811,       1827,    39.8150,  -135.0047,       4034,    25.7,  16.3207,2,  32.5664,2,  32.5601,2,   264.99,1,  282.21,2,    2.06,2,    0.05,2,    0.01,2,    0.31,2,-999.000,9,-999.000,9,-999.000,9,  -999.0,9,  -999.0,9, -999.000,  -999.00, -999.00,9, -999.00,  -999.0,9,  -999.0,  23.8049,2
49NZ200107_1,       P17N,      40,          1,         34,         34,2,20010811,       1827,    39.8150,  -135.0047,       4034,    51.4,  11.3178,2,  32.5688,2,  32.5708,2,   284.88,1,  302.02,2,    4.50,2,    0.26,2,    0.05,2,    0.43,2,-999.000,9,-999.000,9,-999.000,9,  -999.0,9,  -999.0,9, -999.000,  -999.00, -999.00,9, -999.00,  -999.0,9,  -999.0,  24.8273,2
49NZ200107_1,       P17N,      40,          1,         33,         33,2,20010811,       1827,    39.8150,  -135.0047,       4034,    76.2,  10.8660,2,  32.6276,2,  32.6262,2,   257.73,1,  269.53,2,    6.36,2,    3.43,2,    0.15,2,    0.59,2,-999.000,9,-999.000,9,-999.000,9,  -999.0,9,  -999.0,9, -999.000,  -999.00, -999.00,9, -999.00,  -999.0,9,  -999.0,  24.9537,2
49NZ200107_1,       P17N,      40,          1,         32,         32,2,20010811,       1827,    39.8150,  -135.0047,       4034,   101.6,  10.2206,2,  32.6001,2,  32.5823,2,   258.88,1,  271.23,2,    7.94,2,    5.77,2,    0.07,2,    0.74,2,-999.000,9,-999.000,9,-999.000,9,  -999.0,9,  -999.0,9, -999.000,  -999.00, -999.00,9, -999.00,  -999.0,9,  -999.0,  25.0435,2
49NZ200107_1,       P17N,      40,          1,         31,         31,2,20010811,       1827,    39.8150,  -135.0047,       4034,   152.2,   8.4245,2,  32.9027,2,  32.9394,3,   240.72,1,  252.02,2,   13.06,2,   11.84,2,    0.01,2,    1.05,2,-999.000,9,-999.000,9,-999.000,9,  -999.0,9,  -999.0,9, -999.000,  -999.00, -999.00,9, -999.00,  -999.0,9,  -999.0,  25.5665,2
49NZ200107_1,       P17N,      40,          1,         30,         30,2,20010811,       1827,    39.8150,  -135.0047,       4034,   202.9,   8.0842,2,  33.6694,2,  33.6807,2,   204.04,1,  213.28,2,   21.74,2,   17.87,2,    0.00,2,    1.31,2,-999.000,9,-999.000,9,-999.000,9,  -999.0,9,  -999.0,9, -999.000,  -999.00, -999.00,9, -999.00,  -999.0,9,  -999.0,  26.2195,2
49NZ200107_1,       P17N,      40,          1,         29,         29,2,20010811,       1827,    39.8150,  -135.0047,       4034,   252.8,   7.9757,2,  33.9614,2,  33.9647,2,   162.85,1,  169.13,2,   32.07,2,   24.03,2,    0.01,2,    1.67,2,-999.000,9,-999.000,9,-999.000,9,  -999.0,9,  -999.0,9, -999.000,  -999.00, -999.00,9, -999.00,  -999.0,9,  -999.0,  26.4655,2
49NZ200107_1,       P17N,      40,          1,         28,         28,2,20010811,       1827,    39.8150,  -135.0047,       4034,   303.7,   7.1831,2,  33.9844,2,  33.9780,2,   122.28,1,  127.71,2,   43.26,2,   29.76,2,    0.01,2,    2.04,2,-999.000,9,-999.000,9,-999.000,9,  -999.0,9,  -999.0,9, -999.000,  -999.00, -999.00,9, -999.00,  -999.0,9,  -999.0,  26.5975,2
49NZ200107_1,       P17N,      40,          1,         27,         27,2,20010811,       1827,    39.8150,  -135.0047,       4034,   354.1,   6.3446,2,  33.9700,2,  33.9656,2,   113.12,1,  113.57,2,   51.63,2,   32.51,2,    0.01,2,    2.26,2,-999.000,9,-999.000,9,-999.000,9,  -999.0,9,  -999.0,9, -999.000,  -999.00, -999.00,9, -999.00,  -999.0,9,  -999.0,  26.6988,2
49NZ200107_1,       P17N,      40,          1,         26,         26,3,20010811,       1827,    39.8150,  -135.0047,       4034,   404.4,   5.7674,2,  33.9676,2,  33.9633,2,    92.34,1,   91.39,2,   59.67,2,   35.68,2,    0.00,2,    2.49,2,-999.000,9,-999.000,9,-999.000,9,  -999.0,9,  -999.0,9, -999.000,  -999.00, -999.00,9, -999.00,  -999.0,9,  -999.0,  26.7699,2
49NZ200107_1,       P17N,      40,          1,         25,         25,2,20010811,       1827,    39.8150,  -135.0047,       4034,   505.7,   4.9974,2,  34.0314,2,  34.0391,2,    53.04,1,   47.39,2,   76.50,2,   40.63,2,    0.00,2,    2.86,2,-999.000,9,-999.000,9,-999.000,9,  -999.0,9,  -999.0,9, -999.000,  -999.00, -999.00,9, -999.00,  -999.0,9,  -999.0,  26.9121,2
49NZ200107_1,       P17N,      40,          1,         24,         24,2,20010811,       1827,    39.8150,  -135.0047,       4034,   606.4,   4.5563,2,  34.1133,2,  34.1139,2,    34.30,1,   27.98,2,   88.71,2,   42.59,2,   -0.01,2,    3.01,2,-999.000,9,-999.000,9,-999.000,9,  -999.0,9,  -999.0,9, -999.000,  -999.00, -999.00,9, -999.00,  -999.0,9,  -999.0,  27.0269,2
49NZ200107_1,       P17N,      40,          1,         23,         23,2,20010811,       1827,    39.8150,  -135.0047,       4034,   707.3,   4.2007,2,  34.2054,2,  34.2054,2,    22.43,1,   15.52,2,  101.62,2,   43.90,2,    0.00,2,    3.13,2,-999.000,9,-999.000,9,-999.000,9,  -999.0,9,  -999.0,9, -999.000,  -999.00, -999.00,9, -999.00,  -999.0,9,  -999.0,  27.1387,2
49NZ200107_1,       P17N,      40,          1,         22,         22,2,20010811,       1827,    39.8150,  -135.0047,       4034,   808.3,   3.8105,2,  34.2821,2,  34.2886,2,    17.36,1,    8.64,2,  112.71,2,   44.71,2,   -0.01,2,    3.20,2,-999.000,9,-999.000,9,-999.000,9,  -999.0,9,  -999.0,9, -999.000,  -999.00, -999.00,9, -999.00,  -999.0,9,  -999.0,  27.2402,2
49NZ200107_1,       P17N,      40,          1,         21,         21,2,20010811,       1827,    39.8150,  -135.0047,       4034,   910.1,   3.6612,2,  34.3692,2,  34.3687,2,    17.62,1,    8.94,2,  118.50,2,   44.73,2,    0.00,2,    3.23,2,-999.000,9,-999.000,9,-999.000,9,  -999.0,9,  -999.0,9, -999.000,  -999.00, -999.00,9, -999.00,  -999.0,9,  -999.0,  27.3251,2
49NZ200107_1,       P17N,      40,          1,         20,         20,2,20010811,       1827,    39.8150,  -135.0047,       4034,  1010.9,   3.4625,2,  34.4150,2,  34.4172,2,    20.35,1,   12.19,2,  124.27,2,   44.71,2,    0.00,2,    3.23,2,-999.000,9,-999.000,9,-999.000,9,  -999.0,9,  -999.0,9, -999.000,  -999.00, -999.00,9, -999.00,  -999.0,9,  -999.0,  27.3816,2
49NZ200107_1,       P17N,      40,          1,         19,         19,2,20010811,       1827,    39.8150,  -135.0047,       4034,  1112.5,   3.2433,2,  34.4655,2,  34.4662,2,    26.76,1,   18.71,2,  130.41,2,   44.44,2,    0.00,2,    3.17,2,-999.000,9,-999.000,9,-999.000,9,  -999.0,9,  -999.0,9, -999.000,  -999.00, -999.00,9, -999.00,  -999.0,9,  -999.0,  27.4432,2
49NZ200107_1,       P17N,      40,          1,         18,         18,2,20010811,       1827,    39.8150,  -135.0047,       4034,  1213.6,   3.0164,2,  34.4855,2,  34.4849,2,    29.28,1,   21.51,2,  136.51,2,   44.34,2,    0.00,2,    3.17,2,-999.000,9,-999.000,9,-999.000,9,  -999.0,9,  -999.0,9, -999.000,  -999.00, -999.00,9, -999.00,  -999.0,9,  -999.0,  27.4805,2
49NZ200107_1,       P17N,      40,          1,         17,         17,2,20010811,       1827,    39.8150,  -135.0047,       4034,  1315.0,   2.8611,2,  34.5022,2,  34.5026,2,    32.88,1,   24.77,2,  140.37,2,   44.41,2,   -0.01,2,    3.17,2,-999.000,9,-999.000,9,-999.000,9,  -999.0,9,  -999.0,9, -999.000,  -999.00, -999.00,9, -999.00,  -999.0,9,  -999.0,  27.5084,2
49NZ200107_1,       P17N,      40,          1,         16,         16,2,20010811,       1827,    39.8150,  -135.0047,       4034,  1416.7,   2.6906,2,  34.5160,2,  34.5167,2,    35.91,1,   28.34,2,  145.11,2,   44.12,2,   -0.01,2,    3.14,2,-999.000,9,-999.000,9,-999.000,9,  -999.0,9,  -999.0,9, -999.000,  -999.00, -999.00,9, -999.00,  -999.0,9,  -999.0,  27.5349,2
49NZ200107_1,       P17N,      40,          1,         15,         15,2,20010811,       1827,    39.8150,  -135.0047,       4034,  1518.2,   2.5064,2,  34.5439,2,  34.5428,2,    44.97,1,   38.13,2,  148.12,2,   43.69,2,   -0.01,2,    3.10,2,-999.000,9,-999.000,9,-999.000,9,  -999.0,9,  -999.0,9, -999.000,  -999.00, -999.00,9, -999.00,  -999.0,9,  -999.0,  27.5734,2
49NZ200107_1,       P17N,      40,          1,         14,         14,2,20010811,       1827,    39.8150,  -135.0047,       4034,  1619.1,   2.3475,2,  34.5603,2,  34.5592,2,    50.88,1,   44.48,2,  152.25,2,   43.39,2,   -0.01,2,    3.07,2,-999.000,9,-999.000,9,-999.000,9,  -999.0,9,  -999.0,9, -999.000,  -999.00, -999.00,9, -999.00,  -999.0,9,  -999.0,  27.6003,2
49NZ200107_1,       P17N,      40,          1,         13,         13,2,20010811,       1827,    39.8150,  -135.0047,       4034,  1720.0,   2.2333,2,  34.5708,2,  34.5705,2,    55.06,1,   48.78,2,  155.50,2,   43.05,2,   -0.01,2,    3.05,2,-999.000,9,-999.000,9,-999.000,9,  -999.0,9,  -999.0,9, -999.000,  -999.00, -999.00,9, -999.00,  -999.0,9,  -999.0,  27.6185,2
49NZ200107_1,       P17N,      40,          1,         12,         12,2,20010811,       1827,    39.8150,  -135.0047,       4034,  1822.3,   2.1383,2,  34.5832,2,  34.5827,2,    61.31,1,   55.45,2,  157.36,2,   42.68,2,   -0.01,2,    3.02,2,-999.000,9,-999.000,9,-999.000,9,  -999.0,9,  -999.0,9, -999.000,  -999.00, -999.00,9, -999.00,  -999.0,9,  -999.0,  27.6366,2
49NZ200107_1,       P17N,      40,          1,         11,         11,2,20010811,       1827,    39.8150,  -135.0047,       4034,  1924.4,   2.0445,2,  34.5953,2,  34.5951,2,    67.00,1,   61.45,2,  159.14,2,   42.19,2,   -0.01,2,    2.96,2,-999.000,9,-999.000,9,-999.000,9,  -999.0,9,  -999.0,9, -999.000,  -999.00, -999.00,9, -999.00,  -999.0,9,  -999.0,  27.6542,2
49NZ200107_1,       P17N,      40,          1,         10,         10,2,20010811,       1827,    39.8150,  -135.0047,       4034,  2025.7,   1.9955,2,  34.6024,2,  34.6024,2,    71.23,1,   66.23,2,  160.29,2,   41.84,2,   -0.01,2,    2.96,2,-999.000,9,-999.000,9,-999.000,9,  -999.0,9,  -999.0,9, -999.000,  -999.00, -999.00,9, -999.00,  -999.0,9,  -999.0,  27.6643,2
49NZ200107_1,       P17N,      40,          1,          9,          9,2,20010811,       1827,    39.8150,  -135.0047,       4034,  2229.4,   1.8831,2,  34.6172,2,  34.6173,2,    79.43,1,   74.62,2,  162.50,2,   41.39,2,   -0.01,2,    2.93,2,-999.000,9,-999.000,9,-999.000,9,  -999.0,9,  -999.0,9, -999.000,  -999.00, -999.00,9, -999.00,  -999.0,9,  -999.0,  27.6860,2
49NZ200107_1,       P17N,      40,          1,          8,          8,2,20010811,       1827,    39.8150,  -135.0047,       4034,  2433.6,   1.7971,2,  34.6298,2,  34.6300,2,    87.97,1,   83.44,2,  163.76,2,   40.80,2,   -0.01,2,    2.89,2,-999.000,9,-999.000,9,-999.000,9,  -999.0,9,  -999.0,9, -999.000,  -999.00, -999.00,9, -999.00,  -999.0,9,  -999.0,  27.7038,2
49NZ200107_1,       P17N,      40,          1,          7,          7,2,20010811,       1827,    39.8150,  -135.0047,       4034,  2637.6,   1.7151,2,  34.6418,2,  34.6418,2,    97.03,1,   93.08,2,  163.82,2,   40.27,2,   -0.01,2,    2.84,2,-999.000,9,-999.000,9,-999.000,9,  -999.0,9,  -999.0,9, -999.000,  -999.00, -999.00,9, -999.00,  -999.0,9,  -999.0,  27.7207,2
49NZ200107_1,       P17N,      40,          1,          6,          6,2,20010811,       1827,    39.8150,  -135.0047,       4034,  2841.7,   1.6659,2,  34.6495,2,  34.6495,2,   103.93,1,  100.20,2,  162.44,2,   39.88,2,    0.00,2,    2.81,2,-999.000,9,-999.000,9,-999.000,9,  -999.0,9,  -999.0,9, -999.000,  -999.00, -999.00,9, -999.00,  -999.0,9,  -999.0,  27.7318,2
49NZ200107_1,       P17N,      40,          1,          5,          5,2,20010811,       1827,    39.8150,  -135.0047,       4034,  3045.9,   1.6250,2,  34.6559,2,  34.6561,2,   110.69,1,  107.12,2,  161.83,2,   39.48,2,   -0.01,2,    2.77,2,-999.000,9,-999.000,9,-999.000,9,  -999.0,9,  -999.0,9, -999.000,  -999.00, -999.00,9, -999.00,  -999.0,9,  -999.0,  27.7412,2
49NZ200107_1,       P17N,      40,          1,          4,          4,2,20010811,       1827,    39.8150,  -135.0047,       4034,  3301.4,   1.5828,2,  34.6634,2,  34.6633,2,   119.31,1,  115.10,2,  161.80,2,   38.98,2,    0.00,2,    2.74,2,-999.000,9,-999.000,9,-999.000,9,  -999.0,9,  -999.0,9, -999.000,  -999.00, -999.00,9, -999.00,  -999.0,9,  -999.0,  27.7519,2
49NZ200107_1,       P17N,      40,          1,          3,          3,2,20010811,       1827,    39.8150,  -135.0047,       4034,  3557.5,   1.5516,2,  34.6701,2,  34.6701,2,   127.17,1,  123.06,2,  161.50,2,   38.54,2,   -0.01,2,    2.69,2,-999.000,9,-999.000,9,-999.000,9,  -999.0,9,  -999.0,9, -999.000,  -999.00, -999.00,9, -999.00,  -999.0,9,  -999.0,  27.7613,2
49NZ200107_1,       P17N,      40,          1,          2,          2,2,20010811,       1827,    39.8150,  -135.0047,       4034,  3814.1,   1.5311,2,  34.6759,2,  34.6757,2,   134.45,1,  128.95,2,  160.55,2,   38.05,2,    0.00,2,    2.62,2,-999.000,9,-999.000,9,-999.000,9,  -999.0,9,  -999.0,9, -999.000,  -999.00, -999.00,9, -999.00,  -999.0,9,  -999.0,  27.7692,2
49NZ200107_1,       P17N,      40,          1,          1,          1,2,20010811,       1827,    39.8150,  -135.0047,       4034,  4015.1,   1.4963,2,  34.6824,2,  34.6824,2,   144.06,1,  138.41,2,  157.97,2,   37.48,2,    0.00,2,    2.61,2,-999.000,9,-999.000,9,-999.000,9,  -999.0,9,  -999.0,9, -999.000,  -999.00, -999.00,9, -999.00,  -999.0,9,  -999.0,  27.7782,2