BOTTLE,20220817CCHSIOAMB
EXPOCODE,SECT_ID,STNNBR,CASTNO,SAMPNO,BTLNBR,BTLNBR_FLAG_W,DATE,TIME,LATITUDE,LONGITUDE,DEPTH,CTDPRS,CTDTMP,CTDTMP_FLAG_W,CTDSAL,CTDSAL_FLAG_W,SALNTY,SALNTY_FLAG_W,CTDOXY,CTDOXY_FLAG_W,OXYGEN,OXYGEN_FLAG_W,SILCAT,SILCAT_FLAG_W,NITRAT,NITRAT_FLAG_W,NITRIT,NITRIT_FLAG_W,PHSPHT,PHSPHT_FLAG_W,CFC-11,CFC-11_FLAG_W,CFC-12,CFC-12_FLAG_W,CFC113,CFC113_FLAG_W,TCARBN,TCARBN_FLAG_W,ALKALI,ALKALI_FLAG_W,PH_TOT,PH_TMP,DELC13,DELC13_FLAG_W,C13ERR,DELC14,DELC14_FLAG_W,C14ERR,THETA,THETA_FLAG_W
,,,,,,,,,,,METERS,DBAR,ITS-90,,PSS-78,,PSS-78,,UMOL/KG,,UMOL/KG,,UMOL/KG,,UMOL/KG,,UMOL/KG,,UMOL/KG,,PMOL/KG,,PMOL/KG,,PMOL/KG,,UMOL/KG,,UMOL/KG,,,DEG C,/MILLE,,/MILLE,/MILLE,,/MILLE,DEG C,
49NZ200107_1,       P17N,      64,          1,          0,        -99,9,20010817,       0251,    46.8985,  -144.4443,       4679,     4.5,-999.0000,9,-999.0000,9,  32.4134,2,  -999.00,9,  277.39,2,   10.46,2,    5.43,2,    0.08,2,    0.77,2,-999.000,1,-999.000,1,-999.000,1,  1970.6,2,  2187.2,2,    7.928,    25.00, -999.00,9, -999.00,  -999.0,9,  -999.0,-999.0000,9
49NZ200107_1,       P17N,      64,          1,         36,         36,2,20010817,       0251,    46.8985,  -144.4443,       4679,    11.1,  13.3107,2,  32.4029,2,  32.4129,2,   269.02,1,  287.99,2,   10.78,2,    5.33,2,    0.09,2,    0.72,2,-999.000,1,-999.000,1,-999.000,1,  1972.8,2,  2186.6,2,    7.928,    25.00,    2.05,2,    0.00,    14.0,2,     3.9,  24.3206,2
49NZ200107_1,       P17N,      64,          1,         35,         35,2,20010817,       0251,    46.8985,  -144.4443,       4679,    25.1,   8.3784,2,  32.4846,2,  32.4829,2,   289.79,1,  309.17,2,   14.19,2,    9.79,2,    0.10,2,    1.08,2,-999.000,1,-999.000,1,-999.000,1,  2013.7,2,  2187.1,2,    7.845,    25.00,    1.63,2,    0.00,     9.0,2,     3.1,  25.2437,2
49NZ200107_1,       P17N,      64,          1,         34,         34,2,20010817,       0251,    46.8985,  -144.4443,       4679,    50.6,   6.7923,2,  32.5313,2,  32.5320,2,   283.76,1,  301.61,2,   16.30,2,   12.41,2,    0.30,2,    1.25,2,-999.000,1,-999.000,1,-999.000,1,   892.4,4,  2190.2,2,    7.792,    25.00,    1.33,2,    0.00,    -1.2,2,     3.1,  25.5025,2
49NZ200107_1,       P17N,      64,          1,         33,         33,2,20010817,       0251,    46.8985,  -144.4443,       4679,    76.1,   5.9243,2,  32.5662,2,  32.5641,2,   282.80,1,  299.12,2,   18.21,2,   15.16,2,    0.09,2,    1.35,2,-999.000,1,-999.000,1,-999.000,1,  2043.9,2,  2189.7,2,    7.770,    25.00,    1.21,2,    0.00,    -4.0,2,     2.9,  25.6398,2
49NZ200107_1,       P17N,      64,          1,         32,         32,2,20010817,       0251,    46.8985,  -144.4443,       4679,   101.3,   5.4860,2,  32.5936,2,  32.5932,2,   283.22,1,  300.31,2,   19.79,2,   16.12,2,    0.02,2,    1.41,2,-999.000,1,-999.000,1,-999.000,1,  2052.4,2,  2194.1,6,    7.759,    25.00,    1.11,2,    0.00,    -9.3,2,     2.9,  25.7137,2
49NZ200107_1,       P17N,      64,          1,         31,         31,2,20010817,       0251,    46.8985,  -144.4443,       4679,   151.9,   5.0644,2,  32.9929,2,  32.9332,2,   246.32,1,  267.05,2,   27.70,2,   20.38,2,    0.01,2,    1.63,2,-999.000,1,-999.000,1,-999.000,1,  2096.8,2,  2217.4,2,    7.686,    25.00,    0.75,2,    0.00,    -2.9,2,     3.1,  26.0782,2
49NZ200107_1,       P17N,      64,          1,         30,         30,2,20010817,       0251,    46.8985,  -144.4443,       4679,   202.5,   5.2559,2,  33.7625,2,  33.7594,2,   142.45,1,  151.20,2,   50.96,2,   31.28,2,    0.00,2,    2.23,2,-999.000,1,-999.000,1,-999.000,1,  2208.0,6,  2264.5,2,    7.513,    25.00,   -0.19,6,    0.04,   -35.8,6,     1.8,  26.6666,2
49NZ200107_1,       P17N,      64,          1,         29,         29,2,20010817,       0251,    46.8985,  -144.4443,       4679,   252.9,   4.8583,2,  33.8220,2,  33.8176,2,   115.22,1,  120.57,2,   60.74,2,   34.82,2,    0.00,2,    2.45,2,-999.000,1,-999.000,1,-999.000,1,  2237.6,2,  2277.3,2,    7.442,    25.00,   -0.30,2,    0.00,   -57.0,2,     2.9,  26.7595,2
49NZ200107_1,       P17N,      64,          1,         28,         28,2,20010817,       0251,    46.8985,  -144.4443,       4679,   303.7,   4.6837,2,  33.8955,2,  33.8920,2,    88.96,1,   90.83,2,   67.05,2,   37.87,2,   -0.01,2,    2.62,2,-999.000,1,-999.000,1,-999.000,1,  2267.2,2,  2289.8,6,    7.393,    25.00,   -0.40,2,    0.00,   -74.0,2,     2.5,  26.8376,2
49NZ200107_1,       P17N,      64,          1,         27,         27,2,20010817,       0251,    46.8985,  -144.4443,       4679,   354.2,   4.3361,2,  33.9299,2,  33.9300,2,    72.85,1,   73.55,2,   74.53,2,   39.72,2,    0.00,2,    2.77,2,-999.000,1,-999.000,1,-999.000,1,  2288.2,2,  2295.2,2,    7.360,    25.00,   -0.48,2,    0.00,   -89.6,2,     2.7,  26.9026,2
49NZ200107_1,       P17N,      64,          1,         26,         26,2,20010817,       0251,    46.8985,  -144.4443,       4679,   404.8,   4.2914,2,  33.9988,2,  34.0016,2,    64.89,1,   62.01,2,   80.25,2,   40.49,2,   -0.01,2,    2.85,2,-999.000,1,-999.000,1,-999.000,1,  2297.4,6,  2307.3,2,    7.358,    25.00,   -0.48,2,    0.00,  -108.5,2,     2.7,  26.9625,2
49NZ200107_1,       P17N,      64,          1,         25,         25,2,20010817,       0251,    46.8985,  -144.4443,       4679,   505.7,   4.0793,2,  34.0950,2,  34.0980,2,    46.99,1,   43.58,2,   90.93,2,   41.72,2,   -0.01,2,    2.97,2,-999.000,1,-999.000,1,-999.000,1,  2321.7,2,  2320.1,2, -999.000,  -999.00,   -0.68,3,    0.01,  -140.6,2,     2.6,  27.0618,2
49NZ200107_1,       P17N,      64,          1,         24,         24,2,20010817,       0251,    46.8985,  -144.4443,       4679,   606.8,   3.8592,2,  34.1819,2,  34.1819,2,    35.43,1,   30.63,2,  101.28,2,   42.87,2,   -0.01,2,    3.05,2,-999.000,1,-999.000,1,-999.000,1,  2339.8,2,  2335.9,6,    7.331,    25.00,   -0.57,2,    0.00,  -170.7,2,     2.7,  27.1541,2
49NZ200107_1,       P17N,      64,          1,         23,         23,2,20010817,       0251,    46.8985,  -144.4443,       4679,   708.0,   3.5735,2,  34.2393,2,  34.2424,2,    28.30,1,   22.53,2,  110.22,2,   43.82,2,   -0.01,2,    3.11,2,-999.000,1,-999.000,1,-999.000,1,  2354.2,2,  2349.1,2,    7.323,    25.00,   -0.60,2,    0.00,  -184.1,2,     2.8,  27.2286,2
49NZ200107_1,       P17N,      64,          1,         22,         22,2,20010817,       0251,    46.8985,  -144.4443,       4679,   809.1,   3.3256,2,  34.2929,2,  34.2926,2,    24.40,1,   17.93,2,  119.02,2,   44.43,2,   -0.01,2,    3.18,2,-999.000,1,-999.000,1,-999.000,1,  2367.0,6,  2359.8,2,    7.306,    25.00,   -0.68,2,    0.00,  -192.2,2,     2.4,  27.2956,2
49NZ200107_1,       P17N,      64,          1,         21,         21,2,20010817,       0251,    46.8985,  -144.4443,       4679,   910.2,   3.1153,2,  34.3366,2,  34.3373,2,    21.01,1,   14.42,2,  126.98,2,   44.61,2,   -0.01,2,    3.20,2,-999.000,1,-999.000,1,-999.000,1,  2378.7,2,  2363.5,2,    7.307,    25.00,   -0.59,2,    0.00,  -208.5,2,     2.7,  27.3506,2
49NZ200107_1,       P17N,      64,          1,         20,         20,2,20010817,       0251,    46.8985,  -144.4443,       4679,  1011.8,   2.9392,2,  34.3779,2,  34.3788,2,    19.59,1,   12.60,2,  133.89,2,   44.80,2,   -0.01,2,    3.21,2,-999.000,1,-999.000,1,-999.000,1,  2386.5,2,  2376.4,6,    7.312,    25.00,   -0.66,2,    0.01,  -216.2,2,     2.7,  27.4001,2
49NZ200107_1,       P17N,      64,          1,         19,         19,3,20010817,       0251,    46.8985,  -144.4443,       4679,  1113.2,   2.7911,2,  34.4121,2,  34.4113,2,    19.54,1,   12.45,2,  140.91,2,   44.90,2,    0.00,2,    3.21,2,-999.000,1,-999.000,1,-999.000,1,  2389.2,2,  2378.4,2,    7.315,    25.00,   -0.65,2,    0.00,  -223.1,2,     2.4,  27.4411,2
49NZ200107_1,       P17N,      64,          1,         18,         18,2,20010817,       0251,    46.8985,  -144.4443,       4679,  1214.3,   2.6405,2,  34.4429,2,  34.4426,2,    21.67,1,   14.57,2,  144.36,2,   44.87,2,   -0.01,2,    3.18,2,-999.000,1,-999.000,1,-999.000,1,  2396.2,3,  2383.8,2,    7.326,    25.00,   -0.65,6,    0.02,  -228.5,6,     1.9,  27.4794,2
49NZ200107_1,       P17N,      64,          1,         17,         17,2,20010817,       0251,    46.8985,  -144.4443,       4679,  1316.2,   2.5128,2,  34.4690,2,  34.4687,2,    23.36,1,   16.20,2,  149.48,2,   45.16,2,    0.00,2,    3.21,2,-999.000,1,-999.000,1,-999.000,1,  2394.6,2,  2395.4,3,    7.329,    25.00,   -0.70,3,    0.00,  -225.3,2,     2.6,  27.5116,2
49NZ200107_1,       P17N,      64,          1,         16,         16,2,20010817,       0251,    46.8985,  -144.4443,       4679,  1417.3,   2.4121,2,  34.4907,2,  34.4887,2,    25.87,1,   18.41,2,  151.98,2,   44.94,2,    0.00,2,    3.19,2,-999.000,1,-999.000,1,-999.000,1,  2398.6,2,  2404.6,3,    7.336,    25.00,   -0.72,3,    0.00,  -233.2,2,     2.6,  27.5380,2
49NZ200107_1,       P17N,      64,          1,         15,         15,2,20010817,       0251,    46.8985,  -144.4443,       4679,  1620.4,   2.2201,2,  34.5297,2,  34.5299,2,    35.30,1,   28.89,2,  155.27,2,   44.32,2,    0.00,2,    3.14,2,-999.000,1,-999.000,1,-999.000,1,  2399.1,2,  2404.3,2,    7.356,    25.00,   -0.56,2,    0.00,  -238.2,2,     2.7,  27.5859,2
49NZ200107_1,       P17N,      64,          1,         14,         14,2,20010817,       0251,    46.8985,  -144.4443,       4679,  1823.7,   2.0601,2,  34.5621,2,  34.5617,2,    47.09,1,   41.64,2,  158.60,2,   43.65,2,    0.00,2,    3.11,2,-999.000,1,-999.000,1,-999.000,1,  2394.2,2,  2407.5,2,    7.371,    25.00,   -0.52,2,    0.00,  -246.9,2,     2.6,  27.6257,2
49NZ200107_1,       P17N,      64,          1,         13,         13,2,20010817,       0251,    46.8985,  -144.4443,       4679,  2027.5,   1.9248,2,  34.5893,2,  34.5897,2,    59.92,1,   55.72,2,  161.24,2,   42.63,2,    0.00,2,    3.03,2,-999.000,1,-999.000,1,-999.000,1,  2387.9,2,  2417.3,2,    7.404,    25.00,   -0.45,2,    0.00,  -245.9,2,     2.6,  27.6592,2
49NZ200107_1,       P17N,      64,          1,         12,         12,2,20010817,       0251,    46.8985,  -144.4443,       4679,  2231.0,   1.8320,2,  34.6079,2,  34.6071,2,    70.45,1,   67.17,2,  161.58,2,   42.07,2,    0.00,2,    2.98,2,-999.000,1,-999.000,1,-999.000,1,  2384.0,2,  2421.3,2,    7.427,    25.00,   -0.36,2,    0.01,  -246.7,2,     2.5,  27.6823,2
49NZ200107_1,       P17N,      64,          1,         11,         11,2,20010817,       0251,    46.8985,  -144.4443,       4679,  2434.8,   1.7379,2,  34.6249,2,  34.6249,2,    82.50,1,   79.83,2,  161.58,2,   41.43,2,    0.00,2,    2.89,2,-999.000,9,-999.000,9,-999.000,9,  -999.0,9,  -999.0,9, -999.000,  -999.00, -999.00,9, -999.00,  -999.0,9,  -999.0,  27.7041,2
49NZ200107_1,       P17N,      64,          1,         10,         10,2,20010817,       0251,    46.8985,  -144.4443,       4679,  2639.2,   1.6636,2,  34.6387,2,  34.6389,2,    93.37,1,   91.62,2,  162.51,2,   40.45,2,    0.00,2,    2.85,2,-999.000,1,-999.000,1,-999.000,1,  2367.4,2,  2415.1,2,    7.478,    25.00,   -0.20,2,    0.00,  -244.7,2,     2.6,  27.7219,2
49NZ200107_1,       P17N,      64,          1,          9,          9,2,20010817,       0251,    46.8985,  -144.4443,       4679,  2843.4,   1.6039,2,  34.6501,2,  34.6500,2,   103.59,1,  102.86,2,  162.17,2,   39.69,2,    0.01,2,    2.80,2,-999.000,9,-999.000,9,-999.000,9,  -999.0,9,  -999.0,9, -999.000,  -999.00, -999.00,9, -999.00,  -999.0,9,  -999.0,  27.7366,2
49NZ200107_1,       P17N,      64,          1,          8,          8,3,20010817,       0251,    46.8985,  -144.4443,       4679,  3047.7,   1.5529,2,  34.6599,2,  34.6581,2,   113.61,1,  112.97,2,  161.06,2,   39.13,2,    0.00,2,    2.75,2,-999.000,1,-999.000,1,-999.000,1,  2355.7,6,  2421.7,2,    7.519,    25.00,   -0.12,6,    0.03,  -240.2,6,     1.8,  27.7494,2
49NZ200107_1,       P17N,      64,          1,          7,          7,2,20010817,       0251,    46.8985,  -144.4443,       4679,  3303.4,   1.5106,2,  34.6691,2,  34.6687,2,   123.33,1,  123.40,2,  160.50,2,   38.59,2,    0.00,2,    2.71,2,-999.000,9,-999.000,9,-999.000,9,  -999.0,9,  -999.0,9, -999.000,  -999.00, -999.00,9, -999.00,  -999.0,9,  -999.0,  27.7614,2
49NZ200107_1,       P17N,      64,          1,          6,          6,2,20010817,       0251,    46.8985,  -144.4443,       4679,  3559.4,   1.4928,2,  34.6750,2,  34.6745,2,   130.49,1,  130.06,2,  160.25,2,   37.95,2,    0.01,2,    2.67,2,-999.000,1,-999.000,1,-999.000,1,  2346.1,2,  2429.1,2,    7.547,    25.00,    0.03,2,    0.01,  -232.4,2,     2.3,  27.7692,2
49NZ200107_1,       P17N,      64,          1,          5,          5,2,20010817,       0251,    46.8985,  -144.4443,       4679,  3815.9,   1.4880,2,  34.6796,2,  34.6796,2,   136.14,1,  135.33,2,  161.12,2,   37.69,2,    0.00,2,    2.64,2,-999.000,9,-999.000,9,-999.000,9,  -999.0,9,  -999.0,9, -999.000,  -999.00, -999.00,9, -999.00,  -999.0,9,  -999.0,  27.7751,2
49NZ200107_1,       P17N,      64,          1,          4,          4,2,20010817,       0251,    46.8985,  -144.4443,       4679,  4073.2,   1.4990,2,  34.6824,2,  34.6821,2,   139.67,1,  137.46,2,  163.71,2,   37.54,2,    0.00,2,    2.62,2,-999.000,1,-999.000,1,-999.000,1,  2345.7,2,  2433.5,6,    7.573,    25.00,    0.06,2,    0.01,  -232.2,2,     2.7,  27.7785,2
49NZ200107_1,       P17N,      64,          1,          3,          3,2,20010817,       0251,    46.8985,  -144.4443,       4679,  4329.9,   1.5197,2,  34.6839,2,  34.6839,2,   142.17,1,  138.98,2,  165.10,2,   37.45,2,   -0.01,2,    2.59,2,-999.000,9,-999.000,9,-999.000,9,  -999.0,9,  -999.0,9, -999.000,  -999.00, -999.00,9, -999.00,  -999.0,9,  -999.0,  27.7803,2
49NZ200107_1,       P17N,      64,          1,          2,          2,2,20010817,       0251,    46.8985,  -144.4443,       4679,  4587.2,   1.5440,2,  34.6851,2,  34.6851,2,   144.08,1,  139.36,2,  158.84,2,   36.85,2,    0.00,2,    2.57,2,-999.000,1,-999.000,1,-999.000,1,  2343.2,2,  2435.5,2,    7.578,    25.00,   -0.06,4,    0.00,  -228.8,2,     2.7,  27.7817,2
49NZ200107_1,       P17N,      64,          1,          1,          1,2,20010817,       0251,    46.8985,  -144.4443,       4679,  4742.6,   1.5572,2,  34.6858,2,  34.6859,2,   148.07,1,  139.48,2,  158.76,2,   37.19,2,   -0.01,2,    2.58,2,-999.000,1,-999.000,1,-999.000,1,  2346.2,2,  2438.2,2,    7.581,    25.00,    0.09,2,    0.00,  -229.8,2,     2.5,  27.7826,2