BOTTLE,20220817CCHSIOAMB
EXPOCODE,SECT_ID,STNNBR,CASTNO,SAMPNO,BTLNBR,BTLNBR_FLAG_W,DATE,TIME,LATITUDE,LONGITUDE,DEPTH,CTDPRS,CTDTMP,CTDTMP_FLAG_W,CTDSAL,CTDSAL_FLAG_W,SALNTY,SALNTY_FLAG_W,CTDOXY,CTDOXY_FLAG_W,OXYGEN,OXYGEN_FLAG_W,SILCAT,SILCAT_FLAG_W,NITRAT,NITRAT_FLAG_W,NITRIT,NITRIT_FLAG_W,PHSPHT,PHSPHT_FLAG_W,CFC-11,CFC-11_FLAG_W,CFC-12,CFC-12_FLAG_W,CFC113,CFC113_FLAG_W,TCARBN,TCARBN_FLAG_W,ALKALI,ALKALI_FLAG_W,PH_TOT,PH_TMP,DELC13,DELC13_FLAG_W,C13ERR,DELC14,DELC14_FLAG_W,C14ERR,THETA,THETA_FLAG_W
,,,,,,,,,,,METERS,DBAR,ITS-90,,PSS-78,,PSS-78,,UMOL/KG,,UMOL/KG,,UMOL/KG,,UMOL/KG,,UMOL/KG,,UMOL/KG,,PMOL/KG,,PMOL/KG,,PMOL/KG,,UMOL/KG,,UMOL/KG,,,DEG C,/MILLE,,/MILLE,/MILLE,,/MILLE,DEG C,
49NZ200107_1,       P17N,      53,          1,          0,        -99,9,20010814,       1058,    43.3005,  -138.5682,       4197,     4.5,-999.0000,9,-999.0000,9,  32.4481,2,  -999.00,9,  254.46,2,    3.02,2,    0.33,2,    0.01,2,    0.42,2,-999.000,9,-999.000,9,-999.000,9,  -999.0,9,  -999.0,9, -999.000,  -999.00, -999.00,9, -999.00,  -999.0,9,  -999.0,-999.0000,9
49NZ200107_1,       P17N,      53,          1,         36,         36,2,20010814,       1058,    43.3005,  -138.5682,       4197,    10.9,  16.4785,2,  32.4512,2,  32.4476,2,   245.93,1,  255.57,2,    1.55,2,    0.32,2,    0.01,2,    0.38,2,-999.000,9,-999.000,9,-999.000,9,  -999.0,9,  -999.0,9, -999.000,  -999.00, -999.00,9, -999.00,  -999.0,9,  -999.0,  23.6798,2
49NZ200107_1,       P17N,      53,          1,         35,         35,2,20010814,       1058,    43.3005,  -138.5682,       4197,    25.7,  13.8709,2,  32.4320,2,  32.4556,2,   277.81,1,  293.93,2,    2.64,2,    2.91,2,    0.06,2,    0.59,2,-999.000,9,-999.000,9,-999.000,9,  -999.0,9,  -999.0,9, -999.000,  -999.00, -999.00,9, -999.00,  -999.0,9,  -999.0,  24.2305,2
49NZ200107_1,       P17N,      53,          1,         34,         34,2,20010814,       1058,    43.3005,  -138.5682,       4197,    51.3,   9.3983,2,  32.4823,2,  32.4868,2,   275.17,1,  286.30,2,    7.38,2,    6.00,2,    0.25,2,    0.81,2,-999.000,9,-999.000,9,-999.000,9,  -999.0,9,  -999.0,9, -999.000,  -999.00, -999.00,9, -999.00,  -999.0,9,  -999.0,  25.0853,2
49NZ200107_1,       P17N,      53,          1,         33,         33,2,20010814,       1058,    43.3005,  -138.5682,       4197,    76.9,   8.7159,2,  32.5015,2,  32.5014,2,   265.36,1,  278.58,2,    8.71,2,    9.03,2,    0.20,2,    0.93,2,-999.000,9,-999.000,9,-999.000,9,  -999.0,9,  -999.0,9, -999.000,  -999.00, -999.00,9, -999.00,  -999.0,9,  -999.0,  25.2071,2
49NZ200107_1,       P17N,      53,          1,         32,         32,2,20010814,       1058,    43.3005,  -138.5682,       4197,   101.7,   7.9788,2,  32.5629,2,  32.5699,2,   263.36,1,  274.68,2,   10.56,2,   11.23,2,    0.01,2,    1.05,2,-999.000,9,-999.000,9,-999.000,9,  -999.0,9,  -999.0,9, -999.000,  -999.00, -999.00,9, -999.00,  -999.0,9,  -999.0,  25.3647,2
49NZ200107_1,       P17N,      53,          1,         31,         31,2,20010814,       1058,    43.3005,  -138.5682,       4197,   152.3,   6.9558,2,  33.0455,2,  33.0571,2,   247.36,1,  259.59,2,   17.58,2,   15.99,2,    0.01,2,    1.28,2,-999.000,9,-999.000,9,-999.000,9,  -999.0,9,  -999.0,9, -999.000,  -999.00, -999.00,9, -999.00,  -999.0,9,  -999.0,  25.8871,2
49NZ200107_1,       P17N,      53,          1,         30,         30,2,20010814,       1058,    43.3005,  -138.5682,       4197,   202.8,   7.9802,2,  33.7729,2,  33.7828,2,   206.18,1,  216.26,2,   21.24,2,   18.12,2,    0.01,2,    1.28,2,-999.000,9,-999.000,9,-999.000,9,  -999.0,9,  -999.0,9, -999.000,  -999.00, -999.00,9, -999.00,  -999.0,9,  -999.0,  26.3160,2
49NZ200107_1,       P17N,      53,          1,         29,         29,2,20010814,       1058,    43.3005,  -138.5682,       4197,   253.1,   7.9127,2,  33.9627,2,  33.9645,2,   176.28,1,  185.59,2,   29.57,2,   22.34,2,    0.01,2,    1.55,2,-999.000,9,-999.000,9,-999.000,9,  -999.0,9,  -999.0,9, -999.000,  -999.00, -999.00,9, -999.00,  -999.0,9,  -999.0,  26.4757,2
49NZ200107_1,       P17N,      53,          1,         28,         28,2,20010814,       1058,    43.3005,  -138.5682,       4197,   303.4,   7.1594,2,  33.9694,2,  33.9663,2,   150.74,1,  156.60,2,   39.54,2,   26.73,2,    0.00,2,    1.81,2,-999.000,9,-999.000,9,-999.000,9,  -999.0,9,  -999.0,9, -999.000,  -999.00, -999.00,9, -999.00,  -999.0,9,  -999.0,  26.5889,2
49NZ200107_1,       P17N,      53,          1,         27,         27,2,20010814,       1058,    43.3005,  -138.5682,       4197,   354.4,   6.4115,2,  33.9514,2,  33.9490,2,   132.29,1,  136.46,2,   48.26,2,   30.06,2,    0.00,2,    2.07,2,-999.000,9,-999.000,9,-999.000,9,  -999.0,9,  -999.0,9, -999.000,  -999.00, -999.00,9, -999.00,  -999.0,9,  -999.0,  26.6754,2
49NZ200107_1,       P17N,      53,          1,         26,         26,2,20010814,       1058,    43.3005,  -138.5682,       4197,   404.7,   5.7253,2,  33.9524,2,  33.9507,2,   109.82,1,  111.40,2,   57.94,2,   33.96,2,    0.00,2,    2.34,2,-999.000,9,-999.000,9,-999.000,9,  -999.0,9,  -999.0,9, -999.000,  -999.00, -999.00,9, -999.00,  -999.0,9,  -999.0,  26.7631,2
49NZ200107_1,       P17N,      53,          1,         25,         25,2,20010814,       1058,    43.3005,  -138.5682,       4197,   505.8,   4.7297,2,  34.0075,2,  34.0094,2,    73.56,1,   72.22,2,   76.59,2,   39.03,2,    0.00,2,    2.70,2,-999.000,9,-999.000,9,-999.000,9,  -999.0,9,  -999.0,9, -999.000,  -999.00, -999.00,9, -999.00,  -999.0,9,  -999.0,  26.9231,2
49NZ200107_1,       P17N,      53,          1,         24,         24,2,20010814,       1058,    43.3005,  -138.5682,       4197,   606.4,   4.2713,2,  34.0902,2,  34.0921,2,    42.21,1,   39.22,3,   91.00,2,   42.29,2,    0.00,2,    2.93,2,-999.000,9,-999.000,9,-999.000,9,  -999.0,9,  -999.0,9, -999.000,  -999.00, -999.00,9, -999.00,  -999.0,9,  -999.0,  27.0389,2
49NZ200107_1,       P17N,      53,          1,         23,         23,2,20010814,       1058,    43.3005,  -138.5682,       4197,   707.6,   3.9288,2,  34.1640,2,  34.1663,2,    28.17,1,   23.10,2,  102.67,2,   43.73,2,   -0.01,2,    3.05,2,-999.000,9,-999.000,9,-999.000,9,  -999.0,9,  -999.0,9, -999.000,  -999.00, -999.00,9, -999.00,  -999.0,9,  -999.0,  27.1336,2
49NZ200107_1,       P17N,      53,          1,         22,         22,2,20010814,       1058,    43.3005,  -138.5682,       4197,   808.6,   3.6176,2,  34.2448,2,  34.2452,2,    19.58,1,   13.42,2,  113.68,2,   44.70,2,   -0.01,2,    3.13,2,-999.000,9,-999.000,9,-999.000,9,  -999.0,9,  -999.0,9, -999.000,  -999.00, -999.00,9, -999.00,  -999.0,9,  -999.0,  27.2295,2
49NZ200107_1,       P17N,      53,          1,         21,         21,2,20010814,       1058,    43.3005,  -138.5682,       4197,   910.0,   3.4816,2,  34.3080,2,  34.3069,2,    15.37,1,    8.27,2,  120.00,2,   45.02,2,    0.00,2,    3.17,2,-999.000,9,-999.000,9,-999.000,9,  -999.0,9,  -999.0,9, -999.000,  -999.00, -999.00,9, -999.00,  -999.0,9,  -999.0,  27.2937,2
49NZ200107_1,       P17N,      53,          1,         20,         20,2,20010814,       1058,    43.3005,  -138.5682,       4197,  1011.0,   3.3413,2,  34.3609,2,  34.3617,2,    14.99,1,    7.98,2,  125.92,2,   45.19,2,    0.00,2,    3.21,2,-999.000,9,-999.000,9,-999.000,9,  -999.0,9,  -999.0,9, -999.000,  -999.00, -999.00,9, -999.00,  -999.0,9,  -999.0,  27.3499,2
49NZ200107_1,       P17N,      53,          1,         19,         19,2,20010814,       1058,    43.3005,  -138.5682,       4197,  1112.7,   3.1419,2,  34.4119,2,  34.4115,2,    16.62,1,    9.26,2,  132.52,2,   45.14,2,    0.00,2,    3.18,2,-999.000,9,-999.000,9,-999.000,9,  -999.0,9,  -999.0,9, -999.000,  -999.00, -999.00,9, -999.00,  -999.0,9,  -999.0,  27.4097,2
49NZ200107_1,       P17N,      53,          1,         18,         18,2,20010814,       1058,    43.3005,  -138.5682,       4197,  1214.1,   2.9535,2,  34.4428,2,  34.4429,2,    19.02,1,   11.54,2,  138.34,2,   45.07,2,    0.00,2,    3.17,2,-999.000,9,-999.000,9,-999.000,9,  -999.0,9,  -999.0,9, -999.000,  -999.00, -999.00,9, -999.00,  -999.0,9,  -999.0,  27.4521,2
49NZ200107_1,       P17N,      53,          1,         17,         17,2,20010814,       1058,    43.3005,  -138.5682,       4197,  1315.2,   2.8055,2,  34.4731,2,  34.4720,2,    22.41,1,   15.57,2,  142.83,2,   45.01,2,    0.00,2,    3.18,2,-999.000,9,-999.000,9,-999.000,9,  -999.0,9,  -999.0,9, -999.000,  -999.00, -999.00,9, -999.00,  -999.0,9,  -999.0,  27.4900,2
49NZ200107_1,       P17N,      53,          1,         16,         16,2,20010814,       1058,    43.3005,  -138.5682,       4197,  1416.8,   2.6040,2,  34.5001,2,  34.4996,2,    27.61,1,   20.35,2,  148.20,2,   44.76,2,    0.00,2,    3.15,2,-999.000,9,-999.000,9,-999.000,9,  -999.0,9,  -999.0,9, -999.000,  -999.00, -999.00,9, -999.00,  -999.0,9,  -999.0,  27.5296,2
49NZ200107_1,       P17N,      53,          1,         15,         15,2,20010814,       1058,    43.3005,  -138.5682,       4197,  1518.1,   2.4498,2,  34.5232,2,  34.5232,2,    33.71,1,   27.19,2,  152.29,2,   44.41,2,   -0.01,2,    3.11,2,-999.000,9,-999.000,9,-999.000,9,  -999.0,9,  -999.0,9, -999.000,  -999.00, -999.00,9, -999.00,  -999.0,9,  -999.0,  27.5615,2
49NZ200107_1,       P17N,      53,          1,         14,         14,2,20010814,       1058,    43.3005,  -138.5682,       4197,  1619.8,   2.3142,2,  34.5425,2,  34.5413,2,    40.26,1,   34.04,2,  155.68,2,   44.08,2,    0.00,2,    3.09,2,-999.000,9,-999.000,9,-999.000,9,  -999.0,9,  -999.0,9, -999.000,  -999.00, -999.00,9, -999.00,  -999.0,9,  -999.0,  27.5887,2
49NZ200107_1,       P17N,      53,          1,         13,         13,2,20010814,       1058,    43.3005,  -138.5682,       4197,  1721.7,   2.2029,2,  34.5599,2,  34.5611,2,    46.66,1,   40.75,2,  158.55,2,   43.67,2,   -0.01,2,    3.07,2,-999.000,9,-999.000,9,-999.000,9,  -999.0,9,  -999.0,9, -999.000,  -999.00, -999.00,9, -999.00,  -999.0,9,  -999.0,  27.6122,2
49NZ200107_1,       P17N,      53,          1,         12,         12,2,20010814,       1058,    43.3005,  -138.5682,       4197,  1823.0,   2.0975,2,  34.5769,2,  34.5766,2,    53.54,1,   48.00,2,  160.86,2,   43.08,2,   -0.01,2,    3.03,2,-999.000,9,-999.000,9,-999.000,9,  -999.0,9,  -999.0,9, -999.000,  -999.00, -999.00,9, -999.00,  -999.0,9,  -999.0,  27.6347,2
49NZ200107_1,       P17N,      53,          1,         11,         11,2,20010814,       1058,    43.3005,  -138.5682,       4197,  2027.0,   1.9528,2,  34.6010,2,  34.6009,2,    65.68,1,   60.94,2,  161.90,2,   42.37,2,   -0.01,2,    2.95,2,-999.000,9,-999.000,9,-999.000,9,  -999.0,9,  -999.0,9, -999.000,  -999.00, -999.00,9, -999.00,  -999.0,9,  -999.0,  27.6665,2
49NZ200107_1,       P17N,      53,          1,         10,         10,2,20010814,       1058,    43.3005,  -138.5682,       4197,  2230.0,   1.8590,2,  34.6171,2,  34.6171,2,    75.12,1,   71.12,2,  164.00,2,   41.65,2,   -0.01,2,    2.91,2,-999.000,9,-999.000,9,-999.000,9,  -999.0,9,  -999.0,9, -999.000,  -999.00, -999.00,9, -999.00,  -999.0,9,  -999.0,  27.6877,2
49NZ200107_1,       P17N,      53,          1,          9,          9,2,20010814,       1058,    43.3005,  -138.5682,       4197,  2434.1,   1.7621,2,  34.6321,2,  34.6313,2,    85.60,1,   82.10,2,  164.06,2,   41.07,2,   -0.01,2,    2.86,2,-999.000,9,-999.000,9,-999.000,9,  -999.0,9,  -999.0,9, -999.000,  -999.00, -999.00,9, -999.00,  -999.0,9,  -999.0,  27.7081,2
49NZ200107_1,       P17N,      53,          1,          8,          8,2,20010814,       1058,    43.3005,  -138.5682,       4197,  2638.3,   1.6866,2,  34.6425,2,  34.6426,2,    94.90,1,   91.54,2,  163.38,2,   40.50,2,    0.00,2,    2.81,2,-999.000,9,-999.000,9,-999.000,9,  -999.0,9,  -999.0,9, -999.000,  -999.00, -999.00,9, -999.00,  -999.0,9,  -999.0,  27.7233,2
49NZ200107_1,       P17N,      53,          1,          7,          7,2,20010814,       1058,    43.3005,  -138.5682,       4197,  2842.1,   1.6153,2,  34.6521,2,  34.6521,2,   104.45,1,  102.01,2,  162.71,2,   39.96,2,   -0.01,2,    2.77,2,-999.000,9,-999.000,9,-999.000,9,  -999.0,9,  -999.0,9, -999.000,  -999.00, -999.00,9, -999.00,  -999.0,9,  -999.0,  27.7374,2
49NZ200107_1,       P17N,      53,          1,          6,          6,2,20010814,       1058,    43.3005,  -138.5682,       4197,  3046.8,   1.5678,2,  34.6594,2,  34.6595,2,   112.74,1,  110.09,2,  162.23,2,   39.34,2,    0.00,2,    2.72,2,-999.000,9,-999.000,9,-999.000,9,  -999.0,9,  -999.0,9, -999.000,  -999.00, -999.00,9, -999.00,  -999.0,9,  -999.0,  27.7480,2
49NZ200107_1,       P17N,      53,          1,          5,          5,2,20010814,       1058,    43.3005,  -138.5682,       4197,  3302.8,   1.5346,2,  34.6666,2,  34.6656,2,   121.09,1,  118.25,3,  162.39,2,   38.79,2,   -0.01,2,    2.67,2,-999.000,9,-999.000,9,-999.000,9,  -999.0,9,  -999.0,9, -999.000,  -999.00, -999.00,9, -999.00,  -999.0,9,  -999.0,  27.7578,2
49NZ200107_1,       P17N,      53,          1,          4,          4,2,20010814,       1058,    43.3005,  -138.5682,       4197,  3558.8,   1.5169,2,  34.6726,2,  34.6726,2,   128.38,1,  125.48,2,  162.12,2,   38.41,2,   -0.01,2,    2.64,2,-999.000,9,-999.000,9,-999.000,9,  -999.0,9,  -999.0,9, -999.000,  -999.00, -999.00,9, -999.00,  -999.0,9,  -999.0,  27.7656,2
49NZ200107_1,       P17N,      53,          1,          3,          3,2,20010814,       1058,    43.3005,  -138.5682,       4197,  3814.5,   1.5173,2,  34.6766,2,  34.6765,2,   133.45,1,  129.01,2,  162.67,2,   38.12,2,   -0.01,2,    2.64,2,-999.000,9,-999.000,9,-999.000,9,  -999.0,9,  -999.0,9, -999.000,  -999.00, -999.00,9, -999.00,  -999.0,9,  -999.0,  27.7707,2
49NZ200107_1,       P17N,      53,          1,          2,          2,2,20010814,       1058,    43.3005,  -138.5682,       4197,  4071.4,   1.5328,2,  34.6793,2,  34.6789,2,   136.19,1,  131.75,2,  162.74,2,   37.99,2,    0.00,2,    2.59,2,-999.000,9,-999.000,9,-999.000,9,  -999.0,9,  -999.0,9, -999.000,  -999.00, -999.00,9, -999.00,  -999.0,9,  -999.0,  27.7737,2
49NZ200107_1,       P17N,      53,          1,          1,          1,2,20010814,       1058,    43.3005,  -138.5682,       4197,  4256.1,   1.5504,2,  34.6803,2,  34.6808,2,   137.69,1,  130.58,2,  165.25,2,   38.02,2,    0.00,2,    2.62,2,-999.000,9,-999.000,9,-999.000,9,  -999.0,9,  -999.0,9, -999.000,  -999.00, -999.00,9, -999.00,  -999.0,9,  -999.0,  27.7748,2