BOTTLE,20220817CCHSIOAMB
EXPOCODE,SECT_ID,STNNBR,CASTNO,SAMPNO,BTLNBR,BTLNBR_FLAG_W,DATE,TIME,LATITUDE,LONGITUDE,DEPTH,CTDPRS,CTDTMP,CTDTMP_FLAG_W,CTDSAL,CTDSAL_FLAG_W,SALNTY,SALNTY_FLAG_W,CTDOXY,CTDOXY_FLAG_W,OXYGEN,OXYGEN_FLAG_W,SILCAT,SILCAT_FLAG_W,NITRAT,NITRAT_FLAG_W,NITRIT,NITRIT_FLAG_W,PHSPHT,PHSPHT_FLAG_W,CFC-11,CFC-11_FLAG_W,CFC-12,CFC-12_FLAG_W,CFC113,CFC113_FLAG_W,TCARBN,TCARBN_FLAG_W,ALKALI,ALKALI_FLAG_W,PH_TOT,PH_TMP,DELC13,DELC13_FLAG_W,C13ERR,DELC14,DELC14_FLAG_W,C14ERR,THETA,THETA_FLAG_W
,,,,,,,,,,,METERS,DBAR,ITS-90,,PSS-78,,PSS-78,,UMOL/KG,,UMOL/KG,,UMOL/KG,,UMOL/KG,,UMOL/KG,,UMOL/KG,,PMOL/KG,,PMOL/KG,,PMOL/KG,,UMOL/KG,,UMOL/KG,,,DEG C,/MILLE,,/MILLE,/MILLE,,/MILLE,DEG C,
49NZ200107_1,       P17N,      62,          1,          0,        -99,9,20010816,       1548,    46.2440,  -143.3345,       4593,     4.5,-999.0000,9,-999.0000,9,  32.3949,2,  -999.00,9,  274.69,2,    8.73,2,    4.73,2,    0.08,2,    0.71,2,-999.000,1,-999.000,1,-999.000,1,  1966.0,2,  2192.6,2,    7.942,    25.00, -999.00,9, -999.00,  -999.0,9,  -999.0,-999.0000,9
49NZ200107_1,       P17N,      62,          1,         36,         36,2,20010816,       1548,    46.2440,  -143.3345,       4593,    11.3,  13.7530,2,  32.4007,2,  32.3982,2,   264.93,1,  276.67,2,    8.60,2,    4.69,2,    0.09,2,    0.70,2,-999.000,1,-999.000,1,-999.000,1,  1967.1,2,  2185.2,2,    7.941,    25.00, -999.00,9, -999.00,  -999.0,9,  -999.0,  24.2299,2
49NZ200107_1,       P17N,      62,          1,         35,         35,2,20010816,       1548,    46.2440,  -143.3345,       4593,    26.2,  12.6460,2,  32.4235,2,  32.4362,2,   278.42,1,  292.55,3,    9.42,2,    5.58,2,    0.08,2,    0.79,2,-999.000,1,-999.000,1,-999.000,1,  1978.4,2,  2189.4,2,    7.922,    25.00, -999.00,9, -999.00,  -999.0,9,  -999.0,  24.4670,2
49NZ200107_1,       P17N,      62,          1,         34,         34,2,20010816,       1548,    46.2440,  -143.3345,       4593,    51.7,   8.1998,2,  32.5055,2,  32.5048,2,   283.66,1,  298.84,2,   12.34,2,    9.79,2,    0.12,2,    1.08,2,-999.000,1,-999.000,1,-999.000,1,  2019.5,2,  2189.1,2,    7.828,    25.00, -999.00,9, -999.00,  -999.0,9,  -999.0,  25.2869,2
49NZ200107_1,       P17N,      62,          1,         33,         33,2,20010816,       1548,    46.2440,  -143.3345,       4593,    76.7,   7.1633,2,  32.5371,2,  32.5308,2,   281.53,1,  297.62,2,   13.32,2,   11.19,2,    0.38,2,    1.18,2,-999.000,1,-999.000,1,-999.000,1,  2031.5,2,  2189.6,2,    7.803,    25.00, -999.00,9, -999.00,  -999.0,9,  -999.0,  25.4581,2
49NZ200107_1,       P17N,      62,          1,         32,         32,3,20010816,       1548,    46.2440,  -143.3345,       4593,   102.5,   6.6724,2,  32.5632,2,  32.5615,2,   277.60,1,  293.68,2,   13.96,2,   13.18,2,    0.06,2,    1.22,2,-999.000,1,-999.000,1,-999.000,1,  2035.1,2,  2192.0,6,    7.788,    25.00, -999.00,9, -999.00,  -999.0,9,  -999.0,  25.5439,2
49NZ200107_1,       P17N,      62,          1,         31,         31,2,20010816,       1548,    46.2440,  -143.3345,       4593,   152.1,   5.6713,2,  32.8529,2,  32.8768,2,   255.25,1,  274.82,2,   21.64,2,   17.83,2,    0.02,2,    1.46,2,-999.000,1,-999.000,1,-999.000,1,  2076.4,2,  2212.3,2,    7.727,    25.00, -999.00,9, -999.00,  -999.0,9,  -999.0,  25.8975,2
49NZ200107_1,       P17N,      62,          1,         30,         30,2,20010816,       1548,    46.2440,  -143.3345,       4593,   202.5,   5.6167,2,  33.6263,2,  33.6305,2,   180.70,1,  192.52,2,   37.99,2,   26.15,2,    0.01,2,    1.91,2,-999.000,1,-999.000,1,-999.000,1,  2166.9,6,  2256.0,2,    7.767,    25.00, -999.00,9, -999.00,  -999.0,9,  -999.0,  26.5161,2
49NZ200107_1,       P17N,      62,          1,         29,         29,2,20010816,       1548,    46.2440,  -143.3345,       4593,   253.4,   5.2786,2,  33.8274,2,  33.8248,2,   127.85,1,  133.15,2,   52.92,2,   32.66,2,    0.01,2,    2.31,2,-999.000,1,-999.000,1,-999.000,1,  2224.2,2,  2282.6,2,    7.483,    25.00, -999.00,9, -999.00,  -999.0,9,  -999.0,  26.7158,2
49NZ200107_1,       P17N,      62,          1,         28,         28,2,20010816,       1548,    46.2440,  -143.3345,       4593,   303.9,   4.7556,2,  33.8636,2,  33.8611,2,   104.95,1,  107.25,2,   63.55,2,   35.79,2,    0.02,2,    2.52,2,-999.000,1,-999.000,1,-999.000,1,  2248.9,2,  2288.8,6,    7.426,    25.00, -999.00,9, -999.00,  -999.0,9,  -999.0,  26.8043,2
49NZ200107_1,       P17N,      62,          1,         27,         27,2,20010816,       1548,    46.2440,  -143.3345,       4593,   354.2,   4.5352,2,  33.9229,2,  33.9214,2,    87.31,1,   88.06,2,   71.58,2,   38.00,2,    0.01,2,    2.67,2,-999.000,1,-999.000,1,-999.000,1,  2272.9,2,  2300.1,2,    7.395,    25.00, -999.00,9, -999.00,  -999.0,9,  -999.0,  26.8759,2
49NZ200107_1,       P17N,      62,          1,         26,         26,2,20010816,       1548,    46.2440,  -143.3345,       4593,   404.4,   4.4026,2,  33.9783,2,  33.9787,2,    74.37,1,   73.93,2,   78.31,2,   39.38,2,    0.02,2,    2.77,2,-999.000,1,-999.000,1,-999.000,1,  2283.9,6,  2303.2,2,    7.378,    25.00, -999.00,9, -999.00,  -999.0,9,  -999.0,  26.9345,2
49NZ200107_1,       P17N,      62,          1,         25,         25,2,20010816,       1548,    46.2440,  -143.3345,       4593,   505.8,   4.1878,2,  34.0869,2,  34.0879,2,    52.24,1,   48.55,2,   91.42,2,   41.33,2,    0.01,2,    2.92,2,-999.000,1,-999.000,1,-999.000,1,  2312.5,2,  2320.5,2,    7.349,    25.00, -999.00,9, -999.00,  -999.0,9,  -999.0,  27.0441,2
49NZ200107_1,       P17N,      62,          1,         24,         24,2,20010816,       1548,    46.2440,  -143.3345,       4593,   606.5,   3.8691,2,  34.1625,2,  34.1625,2,    35.26,1,   30.67,2,  103.53,2,   43.02,2,    0.01,2,    3.03,2,-999.000,1,-999.000,1,-999.000,1,  2338.1,2,  2337.0,6,    7.321,    25.00, -999.00,9, -999.00,  -999.0,9,  -999.0,  27.1376,2
49NZ200107_1,       P17N,      62,          1,         23,         23,3,20010816,       1548,    46.2440,  -143.3345,       4593,   707.2,   3.6001,2,  34.2295,2,  34.2311,2,    27.67,1,   22.00,2,  113.76,2,   43.80,2,    0.01,2,    3.10,2,-999.000,1,-999.000,1,-999.000,1,  2354.8,2,  2350.2,2,    7.318,    25.00, -999.00,9, -999.00,  -999.0,9,  -999.0,  27.2182,2
49NZ200107_1,       P17N,      62,          1,         22,         22,2,20010816,       1548,    46.2440,  -143.3345,       4593,   809.1,   3.4002,2,  34.2775,2,  34.2793,2,    21.90,1,   15.48,2,  120.66,2,   44.32,2,    0.00,2,    3.14,2,-999.000,1,-999.000,1,-999.000,1,  2365.0,6,  2357.3,2,    7.297,    25.00, -999.00,9, -999.00,  -999.0,9,  -999.0,  27.2763,2
49NZ200107_1,       P17N,      62,          1,         21,         21,2,20010816,       1548,    46.2440,  -143.3345,       4593,   910.7,   3.1807,2,  34.3258,2,  34.3259,2,    19.96,1,   12.94,2,  127.35,2,   44.66,2,    0.00,2,    3.17,2,-999.000,1,-999.000,1,-999.000,1,  2375.5,2,  2367.6,2,    7.302,    25.00, -999.00,9, -999.00,  -999.0,9,  -999.0,  27.3360,2
49NZ200107_1,       P17N,      62,          1,         20,         20,2,20010816,       1548,    46.2440,  -143.3345,       4593,  1011.8,   3.0126,2,  34.3671,2,  34.3676,2,    18.10,1,   10.68,2,  133.24,2,   45.02,2,    0.01,2,    3.20,2,-999.000,1,-999.000,1,-999.000,1,  2384.7,2,  2377.8,6,    7.304,    25.00, -999.00,9, -999.00,  -999.0,9,  -999.0,  27.3850,2
49NZ200107_1,       P17N,      62,          1,         19,         19,2,20010816,       1548,    46.2440,  -143.3345,       4593,  1113.3,   2.8301,2,  34.4066,2,  34.4072,2,    18.43,1,   10.90,2,  139.41,2,   44.98,2,    0.01,2,    3.18,2,-999.000,1,-999.000,1,-999.000,1,  2392.1,2,  2386.9,2,    7.310,    25.00, -999.00,9, -999.00,  -999.0,9,  -999.0,  27.4333,2
49NZ200107_1,       P17N,      62,          1,         18,         18,2,20010816,       1548,    46.2440,  -143.3345,       4593,  1214.4,   2.7092,2,  34.4352,2,  34.4355,2,    19.67,1,   11.98,2,  143.44,2,   45.04,2,    0.01,2,    3.19,2,-999.000,1,-999.000,1,-999.000,1,  2394.4,6,  2393.7,2,    7.305,    25.00, -999.00,9, -999.00,  -999.0,9,  -999.0,  27.4673,2
49NZ200107_1,       P17N,      62,          1,         17,         17,2,20010816,       1548,    46.2440,  -143.3345,       4593,  1315.9,   2.5727,2,  34.4608,2,  34.4632,2,    21.66,1,   13.84,2,  148.08,2,   45.06,2,    0.01,2,    3.19,2,-999.000,1,-999.000,1,-999.000,1,  2397.1,2,  2396.4,2,    7.323,    25.00, -999.00,9, -999.00,  -999.0,9,  -999.0,  27.5001,2
49NZ200107_1,       P17N,      62,          1,         16,         16,2,20010816,       1548,    46.2440,  -143.3345,       4593,  1417.3,   2.4608,2,  34.4847,2,  34.4843,2,    24.21,1,   16.58,2,  150.61,2,   44.96,2,    0.01,2,    3.17,2,-999.000,1,-999.000,1,-999.000,1,  2400.6,2,  2400.4,2,    7.330,    25.00, -999.00,9, -999.00,  -999.0,9,  -999.0,  27.5291,2
49NZ200107_1,       P17N,      62,          1,         15,         15,2,20010816,       1548,    46.2440,  -143.3345,       4593,  1620.8,   2.2396,2,  34.5285,2,  34.5291,2,    35.45,1,   28.51,2,  156.03,2,   44.37,2,    0.01,2,    3.13,2,-999.000,1,-999.000,1,-999.000,1,  2397.3,2,  2410.2,2,    7.354,    25.00, -999.00,9, -999.00,  -999.0,9,  -999.0,  27.5835,2
49NZ200107_1,       P17N,      62,          1,         14,         14,2,20010816,       1548,    46.2440,  -143.3345,       4593,  1823.9,   2.0587,2,  34.5660,2,  34.5666,2,    49.03,1,   42.49,2,  159.74,2,   43.51,2,    0.01,2,    3.09,2,-999.000,1,-999.000,1,-999.000,1,  2391.9,2,  2417.8,2,    7.388,    25.00, -999.00,9, -999.00,  -999.0,9,  -999.0,  27.6290,2
49NZ200107_1,       P17N,      62,          1,         13,         13,3,20010816,       1548,    46.2440,  -143.3345,       4593,  2027.2,   1.9265,2,  34.5919,2,  34.5925,2,    61.09,1,   56.00,2,  161.89,2,   42.69,2,    0.00,2,    3.01,2,-999.000,1,-999.000,1,-999.000,1,  2387.0,2,  2423.4,2,    7.414,    25.00, -999.00,9, -999.00,  -999.0,9,  -999.0,  27.6611,2
49NZ200107_1,       P17N,      62,          1,         12,         12,2,20010816,       1548,    46.2440,  -143.3345,       4593,  2231.2,   1.8262,2,  34.6106,2,  34.6104,2,    71.85,1,   67.93,2,  162.57,2,   41.96,2,    0.01,2,    2.96,2,-999.000,1,-999.000,1,-999.000,1,  2383.2,2,  2420.9,3,    7.431,    25.00, -999.00,9, -999.00,  -999.0,9,  -999.0,  27.6849,2
49NZ200107_1,       P17N,      62,          1,         11,         11,2,20010816,       1548,    46.2440,  -143.3345,       4593,  2435.0,   1.7438,2,  34.6257,2,  34.6256,2,    82.64,1,   79.74,2,  162.13,2,   41.05,2,    0.01,2,    2.88,2,-999.000,9,-999.000,9,-999.000,9,  -999.0,9,  -999.0,9, -999.000,  -999.00, -999.00,9, -999.00,  -999.0,9,  -999.0,  27.7044,2
49NZ200107_1,       P17N,      62,          1,         10,         10,2,20010816,       1548,    46.2440,  -143.3345,       4593,  2638.9,   1.6682,2,  34.6394,2,  34.6398,2,    93.54,1,   91.22,2,  161.90,2,   40.51,2,    0.02,2,    2.84,2,-999.000,1,-999.000,1,-999.000,1,  2368.7,2,  2432.8,2,    7.479,    25.00, -999.00,9, -999.00,  -999.0,9,  -999.0,  27.7221,2
49NZ200107_1,       P17N,      62,          1,          9,          9,2,20010816,       1548,    46.2440,  -143.3345,       4593,  2843.2,   1.6024,2,  34.6507,2,  34.6511,2,   104.19,1,  100.62,2,  161.13,2,   39.79,2,    0.02,2,    2.79,2,-999.000,9,-999.000,9,-999.000,9,  -999.0,9,  -999.0,9, -999.000,  -999.00, -999.00,9, -999.00,  -999.0,9,  -999.0,  27.7372,2
49NZ200107_1,       P17N,      62,          1,          8,          8,2,20010816,       1548,    46.2440,  -143.3345,       4593,  3047.9,   1.5578,2,  34.6593,2,  34.6595,2,   113.65,1,  112.00,2,  160.13,2,   39.11,2,    0.01,2,    2.74,2,-999.000,1,-999.000,1,-999.000,1,  2356.8,6,  2432.2,2,    7.520,    25.00, -999.00,9, -999.00,  -999.0,9,  -999.0,  27.7486,2
49NZ200107_1,       P17N,      62,          1,          7,          7,2,20010816,       1548,    46.2440,  -143.3345,       4593,  3303.4,   1.5172,2,  34.6683,2,  34.6678,2,   123.76,1,  122.19,2,  158.89,2,   38.50,2,    0.01,2,    2.69,2,-999.000,9,-999.000,9,-999.000,9,  -999.0,9,  -999.0,9, -999.000,  -999.00, -999.00,9, -999.00,  -999.0,9,  -999.0,  27.7604,2
49NZ200107_1,       P17N,      62,          1,          6,          6,2,20010816,       1548,    46.2440,  -143.3345,       4593,  3559.7,   1.4991,2,  34.6742,2,  34.6745,2,   130.94,1,  128.95,2,  158.37,2,   38.02,2,    0.01,2,    2.65,2,-999.000,1,-999.000,1,-999.000,1,  2345.2,2,  2432.1,2,    7.555,    25.00, -999.00,9, -999.00,  -999.0,9,  -999.0,  27.7681,2
49NZ200107_1,       P17N,      62,          1,          5,          5,2,20010816,       1548,    46.2440,  -143.3345,       4593,  3815.9,   1.4979,2,  34.6789,2,  34.6788,2,   135.70,1,  132.56,2,  160.94,2,   37.75,2,    0.01,2,    2.63,2,-999.000,9,-999.000,9,-999.000,9,  -999.0,9,  -999.0,9, -999.000,  -999.00, -999.00,9, -999.00,  -999.0,9,  -999.0,  27.7739,2
49NZ200107_1,       P17N,      62,          1,          4,          4,2,20010816,       1548,    46.2440,  -143.3345,       4593,  4072.8,   1.5086,2,  34.6813,2,  34.6813,2,   139.65,1,  136.03,2,  161.85,2,   37.62,2,    0.01,2,    2.62,2,-999.000,1,-999.000,1,-999.000,1,  2344.7,2,  2439.2,6,    7.573,    25.00, -999.00,9, -999.00,  -999.0,9,  -999.0,  27.7770,2
49NZ200107_1,       P17N,      62,          1,          3,          3,2,20010816,       1548,    46.2440,  -143.3345,       4593,  4330.0,   1.5290,2,  34.6830,2,  34.6830,2,   142.68,1,  137.15,2,  163.54,2,   37.57,2,    0.01,2,    2.62,2,-999.000,9,-999.000,9,-999.000,9,  -999.0,9,  -999.0,9, -999.000,  -999.00, -999.00,9, -999.00,  -999.0,9,  -999.0,  27.7789,2
49NZ200107_1,       P17N,      62,          1,          2,          2,2,20010816,       1548,    46.2440,  -143.3345,       4593,  4587.0,   1.5550,2,  34.6846,2,  34.6844,2,   144.36,1,  137.09,2,  162.79,2,   37.49,2,    0.01,2,    2.58,2,-999.000,1,-999.000,1,-999.000,1,  2347.1,2,  2441.5,2,    7.583,    25.00, -999.00,9, -999.00,  -999.0,9,  -999.0,  27.7806,2
49NZ200107_1,       P17N,      62,          1,          1,          1,2,20010816,       1548,    46.2440,  -143.3345,       4593,  4662.4,   1.5619,2,  34.6850,2,  34.6850,2,   144.86,1,  137.23,2,  162.61,2,   37.49,2,    0.01,2,    2.60,2,-999.000,1,-999.000,1,-999.000,1,  2348.7,2,  2441.9,2,    7.580,    25.00, -999.00,9, -999.00,  -999.0,9,  -999.0,  27.7810,2