BOTTLE,20220817CCHSIOAMB
EXPOCODE,SECT_ID,STNNBR,CASTNO,SAMPNO,BTLNBR,BTLNBR_FLAG_W,DATE,TIME,LATITUDE,LONGITUDE,DEPTH,CTDPRS,CTDTMP,CTDTMP_FLAG_W,CTDSAL,CTDSAL_FLAG_W,SALNTY,SALNTY_FLAG_W,CTDOXY,CTDOXY_FLAG_W,OXYGEN,OXYGEN_FLAG_W,SILCAT,SILCAT_FLAG_W,NITRAT,NITRAT_FLAG_W,NITRIT,NITRIT_FLAG_W,PHSPHT,PHSPHT_FLAG_W,CFC-11,CFC-11_FLAG_W,CFC-12,CFC-12_FLAG_W,CFC113,CFC113_FLAG_W,TCARBN,TCARBN_FLAG_W,ALKALI,ALKALI_FLAG_W,PH_TOT,PH_TMP,DELC13,DELC13_FLAG_W,C13ERR,DELC14,DELC14_FLAG_W,C14ERR,THETA,THETA_FLAG_W
,,,,,,,,,,,METERS,DBAR,ITS-90,,PSS-78,,PSS-78,,UMOL/KG,,UMOL/KG,,UMOL/KG,,UMOL/KG,,UMOL/KG,,UMOL/KG,,PMOL/KG,,PMOL/KG,,PMOL/KG,,UMOL/KG,,UMOL/KG,,,DEG C,/MILLE,,/MILLE,/MILLE,,/MILLE,DEG C,
49NZ200107_1,       P17N,      48,          1,          0,        -99,9,20010813,       0956,    41.6415,  -135.9917,       4063,     4.5,-999.0000,9,-999.0000,9,  32.6268,2,  -999.00,9,  245.18,2,    2.57,2,    0.13,2,    0.01,2,    0.36,2,-999.000,1,-999.000,1,-999.000,1,  1964.1,2,  2181.9,2,    7.950,    25.00, -999.00,9, -999.00,  -999.0,9,  -999.0,-999.0000,9
49NZ200107_1,       P17N,      48,          1,         36,         36,2,20010813,       0956,    41.6415,  -135.9917,       4063,     9.8,  17.6643,2,  32.6348,2,  32.6292,2,   237.85,1,  248.11,2,    1.73,2,    0.04,2,   -0.01,2,    0.32,2,-999.000,1,-999.000,1,-999.000,1,  1964.1,2,  2183.9,2,    7.953,    25.00,    1.99,2,    0.00,    28.7,2,     4.9,  23.5428,2
49NZ200107_1,       P17N,      48,          1,         35,         35,2,20010813,       0956,    41.6415,  -135.9917,       4063,    22.4,  17.5803,2,  32.6222,2,  32.6222,2,   240.38,1,  255.32,2,    1.23,2,    0.00,2,   -0.01,2,    0.31,2,-999.000,1,-999.000,1,-999.000,1,  1962.7,2,  2180.7,2,    7.950,    25.00,    1.97,2,    0.00,    23.4,2,     5.1,  23.5538,2
49NZ200107_1,       P17N,      48,          1,         34,         34,2,20010813,       0956,    41.6415,  -135.9917,       4063,    51.6,  10.5232,2,  32.5774,2,  32.5762,2,   280.32,1,  293.48,2,    4.68,2,    3.41,2,    0.18,2,    0.59,2,-999.000,1,-999.000,1,-999.000,1,  1986.8,2,  2177.0,2,    7.887,    25.00,    1.73,2,    0.00,     2.8,3,     4.9,  24.9734,2
49NZ200107_1,       P17N,      48,          1,         33,         33,2,20010813,       0956,    41.6415,  -135.9917,       4063,    75.8,   9.5364,2,  32.5662,2,  32.5628,2,   262.87,1,  275.12,2,    7.20,2,    6.94,2,    0.53,2,    0.79,2,-999.000,1,-999.000,1,-999.000,1,  2008.8,2,  2180.1,2,    7.842,    25.00,    1.50,2,    0.01,    26.1,2,     5.1,  25.1292,2
49NZ200107_1,       P17N,      48,          1,         32,         32,2,20010813,       0956,    41.6415,  -135.9917,       4063,   101.9,   8.8549,2,  32.5836,2,  32.5890,2,   259.06,1,  270.07,2,    8.49,2,    9.32,2,    0.03,2,    0.93,2,-999.000,1,-999.000,1,-999.000,1,  2022.8,2,  2181.2,6,    7.815,    25.00,    1.35,2,    0.00,    26.8,2,     4.7,  25.2504,2
49NZ200107_1,       P17N,      48,          1,         31,         31,2,20010813,       0956,    41.6415,  -135.9917,       4063,   152.1,   7.7812,2,  33.1687,2,  33.1899,2,   236.82,1,  248.63,2,   14.79,2,   14.40,2,    0.01,2,    1.14,2,-999.000,1,-999.000,1,-999.000,1,  2071.4,2,  2209.3,2,    7.753,    25.00,    0.80,2,    0.00,    31.8,2,     4.3,  25.8695,2
49NZ200107_1,       P17N,      48,          1,         30,         30,2,20010813,       0956,    41.6415,  -135.9917,       4063,   202.4,   8.2844,2,  33.7660,2,  33.7736,2,   213.25,1,  222.68,2,   18.81,2,   16.55,2,    0.01,2,    1.18,2,-999.000,1,-999.000,1,-999.000,1,  2105.4,6,  2243.9,2,    7.737,    25.00,    0.44,6,    0.01,    28.7,6,     3.3,  26.2655,2
49NZ200107_1,       P17N,      48,          1,         29,         29,2,20010813,       0956,    41.6415,  -135.9917,       4063,   253.2,   8.3289,2,  34.0039,2,  33.9989,2,   184.68,1,  191.66,2,   26.38,2,   20.64,2,    0.01,2,    1.41,2,-999.000,1,-999.000,1,-999.000,1,  2138.5,2,  2260.9,2,    7.695,    25.00,    0.18,2,    0.00,    29.3,2,     4.4,  26.4462,2
49NZ200107_1,       P17N,      48,          1,         28,         28,2,20010813,       0956,    41.6415,  -135.9917,       4063,   303.3,   7.7119,2,  34.0080,2,  34.0009,2,   160.13,1,  166.90,2,   35.32,2,   24.66,2,    0.01,2,    1.67,2,-999.000,1,-999.000,1,-999.000,1,  2167.5,2,  2263.2,6,    7.634,    25.00,    0.07,2,    0.00,   -10.8,2,     4.4,  26.5413,2
49NZ200107_1,       P17N,      48,          1,         27,         27,2,20010813,       0956,    41.6415,  -135.9917,       4063,   354.0,   6.8789,2,  33.9810,2,  33.9732,2,   137.05,1,  139.52,2,   45.47,2,   29.22,2,    0.01,2,    1.99,2,-999.000,1,-999.000,1,-999.000,1,  2200.6,2,  2269.6,2,    7.560,    25.00,   -0.10,2,    0.00,   -31.5,2,     4.4,  26.6370,2
49NZ200107_1,       P17N,      48,          1,         26,         26,2,20010813,       0956,    41.6415,  -135.9917,       4063,   404.8,   6.0041,2,  33.9672,2,  33.9621,2,   114.81,1,  114.19,2,   55.94,2,   33.21,2,    0.01,2,    2.29,2,-999.000,1,-999.000,1,-999.000,1,  2232.0,6,  2278.8,2,    7.490,    25.00,   -0.20,2,    0.00,   -50.7,2,     4.7,  26.7404,2
49NZ200107_1,       P17N,      48,          1,         25,         25,2,20010813,       0956,    41.6415,  -135.9917,       4063,   505.4,   4.9776,2,  33.9906,2,  34.0012,2,    75.01,1,   67.19,2,   73.64,2,   39.35,2,    0.01,2,    2.73,2,-999.000,1,-999.000,1,-999.000,1,  2283.0,2,  2295.8,2,    7.389,    25.00,   -0.46,2,    0.00,   -99.3,2,     4.7,  26.8820,2
49NZ200107_1,       P17N,      48,          1,         24,         24,2,20010813,       0956,    41.6415,  -135.9917,       4063,   606.5,   4.4775,2,  34.0900,2,  34.1029,2,    37.60,1,   30.67,2,   90.08,2,   42.80,2,    0.00,2,    3.00,2,-999.000,1,-999.000,1,-999.000,1,  2322.1,2,  2314.3,6,    7.326,    25.00,   -0.56,2,    0.00,  -138.9,2,     4.9,  27.0169,2
49NZ200107_1,       P17N,      48,          1,         23,         23,2,20010813,       0956,    41.6415,  -135.9917,       4063,   708.1,   4.0458,2,  34.1665,2,  34.1724,2,    25.22,1,   18.50,2,  104.77,2,   44.19,2,    0.00,2,    3.11,2,-999.000,1,-999.000,1,-999.000,1,  2342.2,2,  2331.8,2,    7.308,    25.00,   -0.63,2,    0.00,  -170.8,2,     4.9,  27.1238,2
49NZ200107_1,       P17N,      48,          1,         22,         22,2,20010813,       0956,    41.6415,  -135.9917,       4063,   808.8,   3.8329,2,  34.2498,2,  34.2554,2,    17.44,1,   10.32,2,  114.38,2,   44.77,2,    0.00,2,    3.17,2,-999.000,1,-999.000,1,-999.000,1,  2358.9,6,  2342.7,2,    7.311,    25.00,   -0.64,2,    0.00,  -184.1,2,     5.4,  27.2123,2
49NZ200107_1,       P17N,      48,          1,         21,         21,2,20010813,       0956,    41.6415,  -135.9917,       4063,   909.9,   3.5813,2,  34.3170,2,  34.3172,2,    15.08,1,    7.43,2,  124.26,2,   45.14,2,    0.00,2,    3.20,2,-999.000,1,-999.000,1,-999.000,1,  2371.8,2,  2354.3,2,    7.309,    25.00,   -0.62,2,    0.00,  -194.0,2,     5.0,  27.2913,2
49NZ200107_1,       P17N,      48,          1,         20,         20,2,20010813,       0956,    41.6415,  -135.9917,       4063,  1010.9,   3.3744,2,  34.3740,2,  34.3742,2,    15.50,1,    7.79,2,  130.93,2,   45.33,2,    0.00,2,    3.22,2,-999.000,1,-999.000,1,-999.000,1,  2379.6,2,  2369.0,6,    7.316,    25.00,   -0.68,2,    0.00,  -201.9,2,     7.0,  27.3572,2
49NZ200107_1,       P17N,      48,          1,         19,         19,2,20010813,       0956,    41.6415,  -135.9917,       4063,  1112.4,   3.2088,2,  34.4107,2,  34.4127,2,    17.11,1,    9.33,2,  128.34,2,   45.19,2,    0.01,2,    3.19,2,-999.000,1,-999.000,1,-999.000,1,  2384.0,2,  2373.9,2,    7.322,    25.00,   -0.62,2,    0.00,  -219.6,2,     5.6,  27.4027,2
49NZ200107_1,       P17N,      48,          1,         18,         18,2,20010813,       0956,    41.6415,  -135.9917,       4063,  1213.9,   3.0055,2,  34.4476,2,  34.4462,2,    19.85,1,   11.91,2,  132.32,2,   45.23,2,    0.00,2,    3.20,2,-999.000,1,-999.000,1,-999.000,1,  2388.7,6,  2382.7,2,    7.330,    25.00,   -0.61,6,    0.01,  -225.7,6,     4.3,  27.4513,2
49NZ200107_1,       P17N,      48,          1,         17,         17,2,20010813,       0956,    41.6415,  -135.9917,       4063,  1315.0,   2.8192,2,  34.4778,2,  34.4779,2,    23.72,1,   16.42,2,  135.36,2,   45.14,2,    0.00,2,    3.17,2,-999.000,1,-999.000,1,-999.000,1,  2392.0,2,  2388.6,2,    7.340,    25.00,   -0.61,2,    0.00,  -229.0,2,     7.7,  27.4925,2
49NZ200107_1,       P17N,      48,          1,         16,         16,2,20010813,       0956,    41.6415,  -135.9917,       4063,  1416.2,   2.6277,2,  34.5052,2,  34.5045,2,    28.86,1,   21.43,2,  140.24,2,   44.96,2,    0.00,2,    3.16,2,-999.000,1,-999.000,1,-999.000,1,  2395.0,2,  2395.1,2,    7.352,    25.00,   -0.62,2,    0.00,  -229.0,2,     7.0,  27.5316,2
49NZ200107_1,       P17N,      48,          1,         15,         15,9,20010813,       0956,    41.6415,  -135.9917,       4063,  1518.3,   2.4487,2,  34.5285,2,-999.0000,9,    35.54,1, -999.00,5, -999.00,9, -999.00,9, -999.00,9, -999.00,9,-999.000,1,-999.000,1,-999.000,1,  -999.0,9,  -999.0,9, -999.000,  -999.00, -999.00,5, -999.00,  -999.0,5,  -999.0,  27.5659,2
49NZ200107_1,       P17N,      48,          1,         14,         14,2,20010813,       0956,    41.6415,  -135.9917,       4063,  1619.5,   2.3014,2,  34.5486,2,  34.5471,2,    42.22,1,   35.88,2,  149.22,2,   44.07,2,    0.00,2,    3.07,2,-999.000,1,-999.000,1,-999.000,1,  2394.3,2,  2402.3,2,    7.380,    25.00,   -0.53,2,    0.00,  -241.4,2,     7.0,  27.5946,2
49NZ200107_1,       P17N,      48,          1,         13,         13,2,20010813,       0956,    41.6415,  -135.9917,       4063,  1721.0,   2.1807,2,  34.5667,2,  34.5658,2,    49.15,1,   43.19,2,  152.41,2,   43.59,2,    0.00,2,    3.05,2,-999.000,1,-999.000,1,-999.000,1,  2392.7,2,  2407.0,2,    7.395,    25.00,   -0.49,2,    0.01,  -241.1,2,     7.0,  27.6194,2
49NZ200107_1,       P17N,      48,          1,         12,         12,2,20010813,       0956,    41.6415,  -135.9917,       4063,  1822.9,   2.0830,2,  34.5826,2,  34.5818,2,    56.09,1,   50.44,2,  155.89,2,   43.29,2,    0.00,2,    3.02,2,-999.000,1,-999.000,1,-999.000,1,  2390.8,2,  2415.4,2,    7.409,    25.00,   -0.45,2,    0.00,  -241.4,2,     6.1,  27.6404,2
49NZ200107_1,       P17N,      48,          1,         11,         11,2,20010813,       0956,    41.6415,  -135.9917,       4063,  1925.0,   1.9983,2,  34.5966,2,  34.5967,2,    63.31,1,   58.21,2,  160.99,2,   42.65,2,   -0.01,2,    2.96,2,-999.000,1,-999.000,1,-999.000,1,  2388.2,2,  2415.4,2,    7.426,    25.00,   -0.40,2,    0.01,  -245.7,2,     5.8,  27.6588,2
49NZ200107_1,       P17N,      48,          1,         10,         10,2,20010813,       0956,    41.6415,  -135.9917,       4063,  2026.4,   1.9404,2,  34.6063,2,  34.6065,2,    68.89,1,   64.14,2,  161.54,2,   42.24,2,    0.00,2,    2.95,2,-999.000,1,-999.000,1,-999.000,1,  2385.6,2,  2418.1,2,    7.438,    25.00,   -0.40,2,    0.00,  -215.0,4,     5.1,  27.6716,2
49NZ200107_1,       P17N,      48,          1,          9,          9,2,20010813,       0956,    41.6415,  -135.9917,       4063,  2229.5,   1.8359,2,  34.6227,2,  34.6223,2,    79.30,1,   75.14,2,  162.45,2,   41.67,2,   -0.01,2,    2.91,2,-999.000,1,-999.000,1,-999.000,1,  2380.3,2,  2420.2,2,    7.460,    25.00,   -0.36,2,    0.00,  -246.3,2,     5.7,  27.6939,2
49NZ200107_1,       P17N,      48,          1,          8,          8,2,20010813,       0956,    41.6415,  -135.9917,       4063,  2433.5,   1.7488,2,  34.6351,2,  34.6351,2,    88.89,1,   84.72,2,  163.00,2,   41.05,2,   -0.01,2,    2.85,2,-999.000,9,-999.000,9,-999.000,9,  -999.0,9,  -999.0,9, -999.000,  -999.00, -999.00,9, -999.00,  -999.0,9,  -999.0,  27.7115,2
49NZ200107_1,       P17N,      48,          1,          7,          7,2,20010813,       0956,    41.6415,  -135.9917,       4063,  2637.2,   1.6738,2,  34.6458,2,  34.6446,2,    98.78,1,   95.78,2,  162.31,2,   40.30,2,   -0.01,2,    2.79,2,-999.000,1,-999.000,1,-999.000,1,  2367.8,6,  2421.8,2,    7.502,    25.00,   -0.20,6,    0.00,  -245.0,6,     3.6,  27.7268,2
49NZ200107_1,       P17N,      48,          1,          6,          6,2,20010813,       0956,    41.6415,  -135.9917,       4063,  2841.9,   1.6224,2,  34.6534,2,  34.6536,2,   106.64,1,  103.45,2,  161.51,2,   39.91,2,    0.01,2,    2.75,2,-999.000,9,-999.000,9,-999.000,9,  -999.0,9,  -999.0,9, -999.000,  -999.00, -999.00,9, -999.00,  -999.0,9,  -999.0,  27.7379,2
49NZ200107_1,       P17N,      48,          1,          5,          5,2,20010813,       0956,    41.6415,  -135.9917,       4063,  3046.7,   1.5908,2,  34.6593,2,  34.6617,4,   112.69,1,  109.98,2,  161.61,2,   39.48,2,    0.01,2,    2.73,2,-999.000,1,-999.000,1,-999.000,1,  2361.8,2,  2426.7,2,    7.524,    25.00,   -0.11,2,    0.00,  -244.8,2,     5.5,  27.7463,2
49NZ200107_1,       P17N,      48,          1,          4,          4,2,20010813,       0956,    41.6415,  -135.9917,       4063,  3301.6,   1.5595,2,  34.6655,2,  34.6651,2,   119.68,1,  116.26,2,  161.50,2,   39.07,2,    0.01,2,    2.69,2,-999.000,9,-999.000,9,-999.000,9,  -999.0,9,  -999.0,9, -999.000,  -999.00, -999.00,9, -999.00,  -999.0,9,  -999.0,  27.7552,2
49NZ200107_1,       P17N,      48,          1,          3,          3,2,20010813,       0956,    41.6415,  -135.9917,       4063,  3558.2,   1.5456,2,  34.6702,2,  34.6699,2,   125.36,1,  121.78,2,  162.01,2,   38.77,2,    0.00,2,    2.66,2,-999.000,1,-999.000,1,-999.000,1,  2353.5,2,  2424.2,6,    7.549,    25.00,   -0.11,2,    0.00,  -234.2,2,     4.6,  27.7618,2
49NZ200107_1,       P17N,      48,          1,          2,          2,2,20010813,       0956,    41.6415,  -135.9917,       4063,  3814.4,   1.5411,2,  34.6746,2,  34.6746,2,   130.87,1,  125.75,2,  163.21,2,   38.41,2,    0.01,2,    2.63,2,-999.000,9,-999.000,9,-999.000,9,  -999.0,9,  -999.0,9, -999.000,  -999.00, -999.00,9, -999.00,  -999.0,9,  -999.0,  27.7675,2
49NZ200107_1,       P17N,      48,          1,          1,          1,2,20010813,       0956,    41.6415,  -135.9917,       4063,  3949.4,   1.5452,2,  34.6763,2,  34.6793,2,   132.88,1,  127.11,2,  163.75,2,   38.39,2,    0.00,2,    2.63,2,-999.000,1,-999.000,1,-999.000,1,  2351.9,2,  2429.3,2,    7.561,    25.00,   -0.02,2,    0.00,  -226.3,2,     4.4,  27.7696,2