BOTTLE,20220817CCHSIOAMB
EXPOCODE,SECT_ID,STNNBR,CASTNO,SAMPNO,BTLNBR,BTLNBR_FLAG_W,DATE,TIME,LATITUDE,LONGITUDE,DEPTH,CTDPRS,CTDTMP,CTDTMP_FLAG_W,CTDSAL,CTDSAL_FLAG_W,SALNTY,SALNTY_FLAG_W,CTDOXY,CTDOXY_FLAG_W,OXYGEN,OXYGEN_FLAG_W,SILCAT,SILCAT_FLAG_W,NITRAT,NITRAT_FLAG_W,NITRIT,NITRIT_FLAG_W,PHSPHT,PHSPHT_FLAG_W,CFC-11,CFC-11_FLAG_W,CFC-12,CFC-12_FLAG_W,CFC113,CFC113_FLAG_W,TCARBN,TCARBN_FLAG_W,ALKALI,ALKALI_FLAG_W,PH_TOT,PH_TMP,DELC13,DELC13_FLAG_W,C13ERR,DELC14,DELC14_FLAG_W,C14ERR,THETA,THETA_FLAG_W
,,,,,,,,,,,METERS,DBAR,ITS-90,,PSS-78,,PSS-78,,UMOL/KG,,UMOL/KG,,UMOL/KG,,UMOL/KG,,UMOL/KG,,UMOL/KG,,PMOL/KG,,PMOL/KG,,PMOL/KG,,UMOL/KG,,UMOL/KG,,,DEG C,/MILLE,,/MILLE,/MILLE,,/MILLE,DEG C,
49NZ200107_1,       P17N,      60,          1,          0,        -99,9,20010816,       0512,    45.5757,  -142.2703,       4560,     4.5,-999.0000,9,-999.0000,9,  32.4117,2,  -999.00,9,  264.90,2,   10.42,2,    4.55,2,    0.05,2,    0.72,2,-999.000,1,-999.000,1,-999.000,1,  1966.9,2,  2182.3,2,    7.950,    25.00, -999.00,9, -999.00,  -999.0,9,  -999.0,-999.0000,9
49NZ200107_1,       P17N,      60,          1,         36,         36,2,20010816,       0512,    45.5757,  -142.2703,       4560,    10.9,  14.7786,2,  32.4179,2,  32.4131,2,   256.42,1,  265.79,2,    9.49,2,    4.57,2,    0.05,2,    0.68,2,-999.000,1,-999.000,1,-999.000,1,  1967.5,2,  2179.2,2,    7.948,    25.00, -999.00,9, -999.00,  -999.0,9,  -999.0,  24.0297,2
49NZ200107_1,       P17N,      60,          1,         35,         35,2,20010816,       0512,    45.5757,  -142.2703,       4560,    25.9,  14.2175,2,  32.4322,2,  32.4335,2,   266.80,1,  277.46,2,    9.54,2,    4.90,2,    0.05,2,    0.72,2,-999.000,1,-999.000,1,-999.000,1,  1971.7,2,  2179.0,2,    7.938,    25.00, -999.00,9, -999.00,  -999.0,9,  -999.0,  24.1593,2
49NZ200107_1,       P17N,      60,          1,         34,         34,2,20010816,       0512,    45.5757,  -142.2703,       4560,    51.0,   8.2893,2,  32.5072,2,  32.5080,2,   281.42,1,  296.78,2,   10.57,2,    9.28,2,    0.11,2,    1.04,2,-999.000,1,-999.000,1,-999.000,1,  2016.4,2,  2179.8,2,    7.839,    25.00, -999.00,9, -999.00,  -999.0,9,  -999.0,  25.2750,2
49NZ200107_1,       P17N,      60,          1,         33,         33,3,20010816,       0512,    45.5757,  -142.2703,       4560,    75.6,   7.0370,2,  32.5173,2,  32.5146,2,   280.80,1,  295.78,2,   12.95,2,   11.70,2,    0.61,2,    1.19,2,-999.000,1,-999.000,1,-999.000,1,  2030.4,2,  2188.2,2,    7.809,    25.00, -999.00,9, -999.00,  -999.0,9,  -999.0,  25.4595,2
49NZ200107_1,       P17N,      60,          1,         32,         32,2,20010816,       0512,    45.5757,  -142.2703,       4560,   102.8,   6.4451,2,  32.5178,2,  32.5197,2,   281.46,1,  296.27,2,   14.69,2,   13.76,2,    0.19,2,    1.27,2,-999.000,1,-999.000,1,-999.000,1,  2037.2,2,  2179.7,2,    7.789,    25.00, -999.00,9, -999.00,  -999.0,9,  -999.0,  25.5373,2
49NZ200107_1,       P17N,      60,          1,         31,         31,2,20010816,       0512,    45.5757,  -142.2703,       4560,   152.1,   5.8804,2,  32.9799,2,  33.0296,2,   250.86,1,  265.85,2,   21.97,2,   18.07,2,    0.00,2,    1.46,2,-999.000,1,-999.000,1,-999.000,1,  2083.0,2,  2207.2,2,    7.732,    25.00, -999.00,9, -999.00,  -999.0,9,  -999.0,  25.9727,2
49NZ200107_1,       P17N,      60,          1,         30,         30,2,20010816,       0512,    45.5757,  -142.2703,       4560,   202.7,   6.7635,2,  33.7631,2,  33.7680,2,   200.18,1,  210.79,2,   30.13,2,   21.69,2,    0.00,2,    1.56,2,-999.000,1,-999.000,1,-999.000,1,  2138.9,6,  2251.8,2,    7.670,    25.00, -999.00,9, -999.00,  -999.0,9,  -999.0,  26.4788,2
49NZ200107_1,       P17N,      60,          1,         29,         29,2,20010816,       0512,    45.5757,  -142.2703,       4560,   253.1,   6.3196,2,  33.8690,2,  33.8642,2,   161.92,1,  169.60,2,   41.71,2,   27.11,2,    0.00,2,    1.92,2,-999.000,1,-999.000,1,-999.000,1,  2181.0,2,  2262.5,2,    7.589,    25.00, -999.00,9, -999.00,  -999.0,9,  -999.0,  26.6211,2
49NZ200107_1,       P17N,      60,          1,         28,         28,2,20010816,       0512,    45.5757,  -142.2703,       4560,   303.6,   5.6960,2,  33.8815,2,  33.8770,2,   132.92,1,  138.19,2,   52.08,2,   31.42,2,    0.00,2,    2.19,2,-999.000,1,-999.000,1,-999.000,1,  2214.4,2,  2269.4,6,    7.517,    25.00, -999.00,9, -999.00,  -999.0,9,  -999.0,  26.7095,2
49NZ200107_1,       P17N,      60,          1,         27,         27,2,20010816,       0512,    45.5757,  -142.2703,       4560,   353.9,   5.0916,2,  33.9023,2,  33.8985,2,   107.29,1,  110.61,2,   62.13,2,   35.07,2,    0.00,2,    2.46,2,-999.000,1,-999.000,1,-999.000,1,  2247.5,2,  2279.6,2,    7.452,    25.00, -999.00,9, -999.00,  -999.0,9,  -999.0,  26.7977,2
49NZ200107_1,       P17N,      60,          1,         26,         26,2,20010816,       0512,    45.5757,  -142.2703,       4560,   404.4,   4.6767,2,  33.9386,2,  33.9405,2,    87.95,1,   87.99,2,   71.49,2,   37.82,2,    0.00,2,    2.67,2,-999.000,1,-999.000,1,-999.000,1,  2271.6,6,  2286.8,2,    7.406,    25.00, -999.00,9, -999.00,  -999.0,9,  -999.0,  26.8733,2
49NZ200107_1,       P17N,      60,          1,         25,         25,2,20010816,       0512,    45.5757,  -142.2703,       4560,   505.7,   4.2946,2,  34.0428,2,  34.0428,2,    61.04,1,   58.30,2,   85.86,2,   40.75,2,    0.00,2,    2.88,2,-999.000,1,-999.000,1,-999.000,1,  2302.3,2,  2308.3,2,    7.363,    25.00, -999.00,9, -999.00,  -999.0,9,  -999.0,  26.9980,2
49NZ200107_1,       P17N,      60,          1,         24,         24,2,20010816,       0512,    45.5757,  -142.2703,       4560,   606.4,   4.0269,2,  34.1288,2,  34.1305,2,    42.79,1,   38.55,2,   97.87,2,   42.51,2,    0.00,2,    3.02,2,-999.000,1,-999.000,1,-999.000,1,  2325.3,2,  2321.2,6,    7.339,    25.00, -999.00,9, -999.00,  -999.0,9,  -999.0,  27.0949,2
49NZ200107_1,       P17N,      60,          1,         23,         23,2,20010816,       0512,    45.5757,  -142.2703,       4560,   707.6,   3.7604,2,  34.1993,2,  34.2027,2,    30.87,1,   24.63,2,  108.46,2,   43.52,2,    0.00,2,    3.10,2,-999.000,1,-999.000,1,-999.000,1,  2347.6,2,  2338.0,2,    7.324,    25.00, -999.00,9, -999.00,  -999.0,9,  -999.0,  27.1785,2
49NZ200107_1,       P17N,      60,          1,         22,         22,2,20010816,       0512,    45.5757,  -142.2703,       4560,   809.1,   3.4820,2,  34.2585,2,  34.3072,2,    23.97,1,   17.73,2,  117.40,2,   44.42,2,    0.00,2,    3.17,2,-999.000,1,-999.000,1,-999.000,1,  2361.8,6,  2346.2,2,    7.317,    25.00, -999.00,9, -999.00,  -999.0,9,  -999.0,  27.2535,2
49NZ200107_1,       P17N,      60,          1,         21,         21,2,20010816,       0512,    45.5757,  -142.2703,       4560,   910.4,   3.2620,2,  34.3068,2,  34.3070,2,    22.48,1,   16.05,2,  124.92,2,   44.63,2,    0.00,2,    3.20,2,-999.000,1,-999.000,1,-999.000,1,  2371.0,2,  2356.6,2,    7.318,    25.00, -999.00,9, -999.00,  -999.0,9,  -999.0,  27.3133,2
49NZ200107_1,       P17N,      60,          1,         20,         20,2,20010816,       0512,    45.5757,  -142.2703,       4560,  1011.7,   3.0736,2,  34.3487,2,  34.3494,2,    19.57,1,   12.29,2,  131.60,2,   44.83,2,    0.00,2,    3.22,2,-999.000,1,-999.000,1,-999.000,1,  2380.6,2,  2365.0,6,    7.318,    25.00, -999.00,9, -999.00,  -999.0,9,  -999.0,  27.3648,2
49NZ200107_1,       P17N,      60,          1,         19,         19,2,20010816,       0512,    45.5757,  -142.2703,       4560,  1112.9,   2.9016,2,  34.3919,2,  34.3916,2,    18.48,1,   10.84,2,  138.28,2,   45.15,2,    0.00,2,    3.21,2,-999.000,1,-999.000,1,-999.000,1,  2388.5,2,  2373.6,2,    7.319,    25.00, -999.00,9, -999.00,  -999.0,9,  -999.0,  27.4153,2
49NZ200107_1,       P17N,      60,          1,         18,         18,2,20010816,       0512,    45.5757,  -142.2703,       4560,  1214.2,   2.7789,2,  34.4285,2,  34.4275,2,    18.66,1,   10.95,2,  143.35,2,   45.16,2,    0.00,2,    3.22,2,-999.000,1,-999.000,1,-999.000,1,  2392.0,6,  2379.1,2,    7.323,    25.00, -999.00,9, -999.00,  -999.0,9,  -999.0,  27.4560,2
49NZ200107_1,       P17N,      60,          1,         17,         17,2,20010816,       0512,    45.5757,  -142.2703,       4560,  1316.0,   2.6224,2,  34.4547,2,  34.4559,2,    20.60,1,   12.97,2,  148.32,2,   45.32,2,    0.00,2,    3.23,2,-999.000,1,-999.000,1,-999.000,1,  2397.7,2,  2386.9,2,    7.326,    25.00, -999.00,9, -999.00,  -999.0,9,  -999.0,  27.4910,2
49NZ200107_1,       P17N,      60,          1,         16,         16,2,20010816,       0512,    45.5757,  -142.2703,       4560,  1417.1,   2.5163,2,  34.4839,2,  34.4834,2,    23.79,1,   16.09,2,  151.73,2,   45.12,2,    0.00,2,    3.22,2,-999.000,1,-999.000,1,-999.000,1,  2399.2,2,  2389.8,2,    7.338,    25.00, -999.00,9, -999.00,  -999.0,9,  -999.0,  27.5239,2
49NZ200107_1,       P17N,      60,          1,         15,         15,2,20010816,       0512,    45.5757,  -142.2703,       4560,  1620.5,   2.2687,2,  34.5259,2,  34.5258,2,    33.87,1,   27.46,2,  157.78,2,   44.67,2,    0.00,2,    3.15,2,-999.000,1,-999.000,1,-999.000,1,  2397.3,2,  2397.3,2,    7.359,    25.00, -999.00,9, -999.00,  -999.0,9,  -999.0,  27.5790,2
49NZ200107_1,       P17N,      60,          1,         14,         14,3,20010816,       0512,    45.5757,  -142.2703,       4560,  1823.5,   2.0794,2,  34.5624,2,  34.5572,2,    47.31,1,   41.13,2,  161.67,2,   43.73,2,    0.00,2,    3.10,2,-999.000,1,-999.000,1,-999.000,1,  2394.8,2,  2405.5,2,    7.388,    25.00, -999.00,9, -999.00,  -999.0,9,  -999.0,  27.6245,2
49NZ200107_1,       P17N,      60,          1,         13,         13,2,20010816,       0512,    45.5757,  -142.2703,       4560,  2027.2,   1.9430,2,  34.5892,2,  34.5894,2,    59.55,1,   54.57,2,  164.43,2,   42.91,2,   -0.01,2,    3.04,2,-999.000,1,-999.000,1,-999.000,1,  2386.9,2,  2408.5,2,    7.417,    25.00, -999.00,9, -999.00,  -999.0,9,  -999.0,  27.6577,2
49NZ200107_1,       P17N,      60,          1,         12,         12,2,20010816,       0512,    45.5757,  -142.2703,       4560,  2230.7,   1.8494,2,  34.6103,2,  34.6100,2,    70.46,1,   66.05,2,  166.26,3,   41.81,2,   -0.01,2,    2.98,2,-999.000,1,-999.000,1,-999.000,1,  2385.9,2,  2422.2,3,    7.439,    25.00, -999.00,9, -999.00,  -999.0,9,  -999.0,  27.6829,2
49NZ200107_1,       P17N,      60,          1,         11,         11,2,20010816,       0512,    45.5757,  -142.2703,       4560,  2434.6,   1.7636,2,  34.6257,2,  34.6257,2,    81.09,1,   77.60,2,  159.81,3,   41.29,2,   -0.01,2,    2.88,2,-999.000,9,-999.000,9,-999.000,9,  -999.0,9,  -999.0,9, -999.000,  -999.00, -999.00,9, -999.00,  -999.0,9,  -999.0,  27.7029,2
49NZ200107_1,       P17N,      60,          1,         10,         10,2,20010816,       0512,    45.5757,  -142.2703,       4560,  2638.9,   1.6728,2,  34.6394,2,  34.6395,2,    92.85,1,   89.89,2,  157.46,3,   40.48,2,   -0.01,2,    2.83,2,-999.000,1,-999.000,1,-999.000,1,  2370.8,2,  2420.8,2,    7.484,    25.00, -999.00,9, -999.00,  -999.0,9,  -999.0,  27.7218,2
49NZ200107_1,       P17N,      60,          1,          9,          9,2,20010816,       0512,    45.5757,  -142.2703,       4560,  2842.8,   1.6084,2,  34.6506,2,  34.6504,2,   103.29,1,  100.72,2,  155.36,3,   39.68,2,   -0.01,2,    2.80,2,-999.000,9,-999.000,9,-999.000,9,  -999.0,9,  -999.0,9, -999.000,  -999.00, -999.00,9, -999.00,  -999.0,9,  -999.0,  27.7367,2
49NZ200107_1,       P17N,      60,          1,          8,          8,2,20010816,       0512,    45.5757,  -142.2703,       4560,  3047.8,   1.5644,2,  34.6588,2,  34.6589,2,   112.15,1,  110.01,2,  153.45,3,   39.13,2,   -0.01,2,    2.76,2,-999.000,1,-999.000,1,-999.000,1,  2358.1,6,  2417.0,2,    7.523,    25.00, -999.00,9, -999.00,  -999.0,9,  -999.0,  27.7477,2
49NZ200107_1,       P17N,      60,          1,          7,          7,2,20010816,       0512,    45.5757,  -142.2703,       4560,  3302.8,   1.5286,2,  34.6673,2,  34.6671,2,   121.38,1,  119.19,2,  153.06,3,   38.72,2,   -0.01,2,    2.71,2,-999.000,9,-999.000,9,-999.000,9,  -999.0,9,  -999.0,9, -999.000,  -999.00, -999.00,9, -999.00,  -999.0,9,  -999.0,  27.7587,2
49NZ200107_1,       P17N,      60,          1,          6,          6,2,20010816,       0512,    45.5757,  -142.2703,       4560,  3559.3,   1.5044,2,  34.6738,2,  34.6740,2,   129.53,1,  127.08,2,  152.97,3,   38.33,2,   -0.01,2,    2.68,2,-999.000,1,-999.000,1,-999.000,1,  2346.1,2,  2421.1,2,    7.555,    25.00, -999.00,9, -999.00,  -999.0,9,  -999.0,  27.7675,2
49NZ200107_1,       P17N,      60,          1,          5,          5,2,20010816,       0512,    45.5757,  -142.2703,       4560,  3815.6,   1.5000,2,  34.6786,2,  34.6786,2,   135.00,1,  132.06,3,  156.21,3,   37.77,2,   -0.01,2,    2.64,2,-999.000,9,-999.000,9,-999.000,9,  -999.0,9,  -999.0,9, -999.000,  -999.00, -999.00,9, -999.00,  -999.0,9,  -999.0,  27.7735,2
49NZ200107_1,       P17N,      60,          1,          4,          4,2,20010816,       0512,    45.5757,  -142.2703,       4560,  4072.5,   1.5118,2,  34.6816,2,  34.6813,2,   138.36,1,  134.97,2,  158.98,2,   37.85,2,   -0.01,2,    2.62,2,-999.000,1,-999.000,1,-999.000,1,  2343.7,2,  2432.0,6,    7.576,    25.00, -999.00,9, -999.00,  -999.0,9,  -999.0,  27.7770,2
49NZ200107_1,       P17N,      60,          1,          3,          3,2,20010816,       0512,    45.5757,  -142.2703,       4560,  4329.5,   1.5293,2,  34.6832,2,  34.6836,2,   141.51,1,  136.59,2,  160.67,2,   37.78,2,   -0.01,2,    2.64,2,-999.000,9,-999.000,9,-999.000,9,  -999.0,9,  -999.0,9, -999.000,  -999.00, -999.00,9, -999.00,  -999.0,9,  -999.0,  27.7791,2
49NZ200107_1,       P17N,      60,          1,          2,          2,3,20010816,       0512,    45.5757,  -142.2703,       4560,  4587.1,   1.5565,2,  34.6848,2,  34.6842,2,   143.00,1,  136.11,2,  164.84,2,   37.81,2,    0.00,2,    2.60,2,-999.000,1,-999.000,1,-999.000,1,  2349.6,2,  2436.0,2,    7.584,    25.00, -999.00,9, -999.00,  -999.0,9,  -999.0,  27.7806,2
49NZ200107_1,       P17N,      60,          1,          1,          1,2,20010816,       0512,    45.5757,  -142.2703,       4560,  4625.9,   1.5609,2,  34.6850,2,  34.6850,2,   143.39,1,  136.06,2,  165.23,2,   37.78,2,    0.00,2,    2.62,2,-999.000,1,-999.000,1,-999.000,1,  2349.4,2,  2434.1,2,    7.584,    25.00, -999.00,9, -999.00,  -999.0,9,  -999.0,  27.7808,2