BOTTLE,20220817CCHSIOAMB
EXPOCODE,SECT_ID,STNNBR,CASTNO,SAMPNO,BTLNBR,BTLNBR_FLAG_W,DATE,TIME,LATITUDE,LONGITUDE,DEPTH,CTDPRS,CTDTMP,CTDTMP_FLAG_W,CTDSAL,CTDSAL_FLAG_W,SALNTY,SALNTY_FLAG_W,CTDOXY,CTDOXY_FLAG_W,OXYGEN,OXYGEN_FLAG_W,SILCAT,SILCAT_FLAG_W,NITRAT,NITRAT_FLAG_W,NITRIT,NITRIT_FLAG_W,PHSPHT,PHSPHT_FLAG_W,CFC-11,CFC-11_FLAG_W,CFC-12,CFC-12_FLAG_W,CFC113,CFC113_FLAG_W,TCARBN,TCARBN_FLAG_W,ALKALI,ALKALI_FLAG_W,PH_TOT,PH_TMP,DELC13,DELC13_FLAG_W,C13ERR,DELC14,DELC14_FLAG_W,C14ERR,THETA,THETA_FLAG_W
,,,,,,,,,,,METERS,DBAR,ITS-90,,PSS-78,,PSS-78,,UMOL/KG,,UMOL/KG,,UMOL/KG,,UMOL/KG,,UMOL/KG,,UMOL/KG,,PMOL/KG,,PMOL/KG,,PMOL/KG,,UMOL/KG,,UMOL/KG,,,DEG C,/MILLE,,/MILLE,/MILLE,,/MILLE,DEG C,
49NZ200107_1,       P17N,      83,          1,          0,        -99,9,20010823,       2119,    53.1242,  -155.6217,       4472,     4.5,-999.0000,9,-999.0000,9,  32.7585,2,  -999.00,9,  279.81,2,   18.32,2,   12.52,2,    0.16,2,    1.14,2,-999.000,1,-999.000,1,-999.000,1,  2014.1,2,  2222.4,2,    7.880,    25.00, -999.00,9, -999.00,  -999.0,9,  -999.0,-999.0000,9
49NZ200107_1,       P17N,      83,          1,         36,         36,2,20010823,       2119,    53.1242,  -155.6217,       4472,    11.2,  11.2105,2,  32.7594,2,  32.7584,2,   269.16,1,  281.79,2,   18.17,2,   12.30,2,    0.16,2,    1.11,2,-999.000,1,-999.000,1,-999.000,1,  2012.9,2,  2214.3,2,    7.883,    25.00, -999.00,9, -999.00,  -999.0,9,  -999.0,  24.9940,2
49NZ200107_1,       P17N,      83,          1,         35,         35,2,20010823,       2119,    53.1242,  -155.6217,       4472,    25.2,  11.0543,2,  32.7520,2,  32.7597,2,   269.45,1,  282.31,2,   18.27,2,   12.52,2,    0.16,2,    1.14,2,-999.000,1,-999.000,1,-999.000,1,  2015.5,2,  2208.4,2,    7.877,    25.00, -999.00,9, -999.00,  -999.0,9,  -999.0,  25.0163,2
49NZ200107_1,       P17N,      83,          1,         34,         34,2,20010823,       2119,    53.1242,  -155.6217,       4472,    50.6,   5.4133,2,  32.8658,2,  32.8710,2,   271.53,1,  293.58,2,   26.70,2,   20.09,2,    0.14,2,    1.61,2,-999.000,1,-999.000,1,-999.000,1,  -999.0,5,  2212.4,2,    7.728,    25.00, -999.00,9, -999.00,  -999.0,9,  -999.0,  25.9370,2
49NZ200107_1,       P17N,      83,          1,         33,         33,2,20010823,       2119,    53.1242,  -155.6217,       4472,    75.1,   4.4883,2,  33.1099,2,  33.1145,2,   218.60,1,  246.42,2,   37.59,2,   26.41,2,    0.02,2,    1.97,2,-999.000,1,-999.000,1,-999.000,1,  2136.5,2,  2232.3,2,    7.617,    25.00, -999.00,9, -999.00,  -999.0,9,  -999.0,  26.2332,2
49NZ200107_1,       P17N,      83,          1,         32,         32,2,20010823,       2119,    53.1242,  -155.6217,       4472,   101.7,   4.2240,2,  33.4591,2,  33.4467,2,   141.83,1,  159.44,2,   53.12,2,   34.08,2,    0.01,2,    2.44,2,-999.000,1,-999.000,1,-999.000,1,  2210.7,2,  2250.5,6,    7.460,    25.00, -999.00,9, -999.00,  -999.0,9,  -999.0,  26.5383,2
49NZ200107_1,       P17N,      83,          1,         31,         31,2,20010823,       2119,    53.1242,  -155.6217,       4472,   151.9,   4.1986,2,  33.8541,2,  33.8559,2,    48.99,1,   50.81,2,   74.80,2,   42.72,2,    0.01,2,    2.96,2,-999.000,1,-999.000,1,-999.000,1,  2301.3,2,  2287.6,2,    7.292,    25.00, -999.00,9, -999.00,  -999.0,9,  -999.0,  26.8552,2
49NZ200107_1,       P17N,      83,          1,         30,         30,2,20010823,       2119,    53.1242,  -155.6217,       4472,   202.2,   4.1493,2,  33.9631,2,  33.9613,2,    33.68,1,   30.83,2,   83.38,2,   44.10,2,    0.02,2,    3.06,2,-999.000,1,-999.000,1,-999.000,1,  2321.3,6,  2300.3,2,    7.275,    25.00, -999.00,9, -999.00,  -999.0,9,  -999.0,  26.9474,2
49NZ200107_1,       P17N,      83,          1,         29,         29,2,20010823,       2119,    53.1242,  -155.6217,       4472,   252.3,   4.0163,2,  34.0165,2,  34.0147,2,    29.89,1,   25.23,2,   90.23,2,   44.50,2,    0.01,2,    3.11,2,-999.000,1,-999.000,1,-999.000,1,  2329.7,2,  2311.7,2,    7.278,    25.00, -999.00,9, -999.00,  -999.0,9,  -999.0,  27.0039,2
49NZ200107_1,       P17N,      83,          1,         28,         28,2,20010823,       2119,    53.1242,  -155.6217,       4472,   303.0,   3.9390,2,  34.0653,2,  34.0648,2,    28.80,1,   24.65,2,   95.37,2,   44.21,2,    0.01,2,    3.11,2,-999.000,1,-999.000,1,-999.000,1,  2334.7,2,  2316.9,6,    7.289,    25.00, -999.00,9, -999.00,  -999.0,9,  -999.0,  27.0510,2
49NZ200107_1,       P17N,      83,          1,         27,         27,3,20010823,       2119,    53.1242,  -155.6217,       4472,   353.5,   3.9036,2,  34.1172,2,  34.1155,2,    27.30,1,   22.06,2,   99.98,2,   44.07,2,    0.01,2,    3.09,2,-999.000,1,-999.000,1,-999.000,1,  2340.7,2,  2320.6,2,    7.297,    25.00, -999.00,9, -999.00,  -999.0,9,  -999.0,  27.0962,2
49NZ200107_1,       P17N,      83,          1,         26,         26,3,20010823,       2119,    53.1242,  -155.6217,       4472,   404.4,   3.7745,2,  34.1500,2,  34.1530,2,    25.59,1,   19.86,2,  104.88,2,   44.22,2,    0.01,2,    3.10,2,-999.000,1,-999.000,1,-999.000,1,  2346.8,6,  2328.3,2,    7.299,    25.00, -999.00,9, -999.00,  -999.0,9,  -999.0,  27.1356,2
49NZ200107_1,       P17N,      83,          1,         25,         25,2,20010823,       2119,    53.1242,  -155.6217,       4472,   506.1,   3.5749,2,  34.2168,2,  34.2179,2,    23.20,1,   17.01,2,  112.95,2,   44.37,2,    0.01,2,    3.14,2,-999.000,1,-999.000,1,-999.000,1,  2357.4,2,  2334.7,2,    7.306,    25.00, -999.00,9, -999.00,  -999.0,9,  -999.0,  27.2091,2
49NZ200107_1,       P17N,      83,          1,         24,         24,2,20010823,       2119,    53.1242,  -155.6217,       4472,   606.4,   3.3667,2,  34.2750,2,  34.2757,2,    22.20,1,   16.04,2,  120.58,2,   44.53,2,    0.01,2,    3.15,2,-999.000,1,-999.000,1,-999.000,1,  2364.8,2,  2347.4,6,    7.312,    25.00, -999.00,9, -999.00,  -999.0,9,  -999.0,  27.2761,2
49NZ200107_1,       P17N,      83,          1,         23,         23,2,20010823,       2119,    53.1242,  -155.6217,       4472,   707.4,   3.1813,2,  34.3191,2,  34.3191,2,    22.09,1,   14.92,2,  126.93,2,   44.68,2,    0.01,2,    3.17,2,-999.000,1,-999.000,1,-999.000,1,  2374.6,2,  2353.4,2,    7.315,    25.00, -999.00,9, -999.00,  -999.0,9,  -999.0,  27.3292,2
49NZ200107_1,       P17N,      83,          1,         22,         22,2,20010823,       2119,    53.1242,  -155.6217,       4472,   809.3,   3.0286,2,  34.3507,2,  34.3507,2,    22.68,1,   15.91,2,  131.66,2,   44.66,2,    0.01,2,    3.16,2,-999.000,1,-999.000,1,-999.000,1,  2379.5,6,  2359.9,2,    7.319,    25.00, -999.00,9, -999.00,  -999.0,9,  -999.0,  27.3690,2
49NZ200107_1,       P17N,      83,          1,         21,         21,2,20010823,       2119,    53.1242,  -155.6217,       4472,   910.0,   2.8857,2,  34.3815,2,  34.3818,2,    23.70,1,   16.77,2,  136.38,2,   44.72,2,    0.02,2,    3.17,2,-999.000,1,-999.000,1,-999.000,1,  2383.0,2,  2373.3,2,    7.324,    25.00, -999.00,9, -999.00,  -999.0,9,  -999.0,  27.4071,2
49NZ200107_1,       P17N,      83,          1,         20,         20,3,20010823,       2119,    53.1242,  -155.6217,       4472,  1012.0,   2.7297,2,  34.4130,2,  34.4146,2,    25.57,1,   18.43,2,  141.30,2,   44.67,2,    0.00,2,    3.17,2,-999.000,1,-999.000,1,-999.000,1,  2387.2,2,  2377.7,2,    7.333,    25.00, -999.00,9, -999.00,  -999.0,9,  -999.0,  27.4464,2
49NZ200107_1,       P17N,      83,          1,         19,         19,2,20010823,       2119,    53.1242,  -155.6217,       4472,  1113.0,   2.5796,2,  34.4448,2,  34.4455,2,    27.99,1,   20.21,2,  146.26,2,   44.54,2,    0.01,2,    3.13,2,-999.000,1,-999.000,1,-999.000,1,  2390.5,2,  2383.7,2,    7.338,    25.00, -999.00,9, -999.00,  -999.0,9,  -999.0,  27.4853,2
49NZ200107_1,       P17N,      83,          1,         18,         18,2,20010823,       2119,    53.1242,  -155.6217,       4472,  1214.5,   2.4382,2,  34.4729,2,  34.4740,2,    31.90,1,   24.91,2,  148.01,2,   44.43,2,    0.02,2,    3.13,2,-999.000,1,-999.000,1,-999.000,1,  2391.5,6,  2383.3,3,    7.347,    25.00, -999.00,9, -999.00,  -999.0,9,  -999.0,  27.5203,2
49NZ200107_1,       P17N,      83,          1,         17,         17,2,20010823,       2119,    53.1242,  -155.6217,       4472,  1316.5,   2.3306,2,  34.4962,2,  34.4971,2,    35.88,1,   29.52,2,  151.69,2,   44.27,2,    0.00,2,    3.13,2,-999.000,1,-999.000,1,-999.000,1,  2392.1,2,  2392.7,2,    7.358,    25.00, -999.00,9, -999.00,  -999.0,9,  -999.0,  27.5484,2
49NZ200107_1,       P17N,      83,          1,         16,         16,2,20010823,       2119,    53.1242,  -155.6217,       4472,  1402.9,   2.2509,2,  34.5137,2,  34.5151,2,    39.87,1,   33.14,2,  155.06,2,   43.96,2,    0.00,2,    3.10,2,-999.000,1,-999.000,1,-999.000,1,  2392.7,2,  2399.2,2,    7.368,    25.00, -999.00,9, -999.00,  -999.0,9,  -999.0,  27.5693,2
49NZ200107_1,       P17N,      83,          1,         15,         15,2,20010823,       2119,    53.1242,  -155.6217,       4472,  1520.2,   2.1386,2,  34.5378,2,  34.5379,2,    46.52,1,   40.17,2,  157.38,2,   43.59,2,    0.00,2,    3.07,2,-999.000,1,-999.000,1,-999.000,1,  2390.6,2,  2394.3,3,    7.382,    25.00, -999.00,9, -999.00,  -999.0,9,  -999.0,  27.5983,2
49NZ200107_1,       P17N,      83,          1,         14,         14,2,20010823,       2119,    53.1242,  -155.6217,       4472,  1620.7,   2.0632,2,  34.5544,2,  34.5537,2,    52.06,1,   45.82,2,  158.86,2,   43.24,2,    0.01,2,    3.05,2,-999.000,1,-999.000,1,-999.000,1,  2387.0,2,  2402.8,2,    7.394,    25.00, -999.00,9, -999.00,  -999.0,9,  -999.0,  27.6180,2
49NZ200107_1,       P17N,      83,          1,         13,         13,2,20010823,       2119,    53.1242,  -155.6217,       4472,  1813.2,   1.9344,2,  34.5812,2,  34.5809,2,    62.97,1,   57.06,2,  160.53,2,   42.54,2,    0.01,2,    2.99,2,-999.000,1,-999.000,1,-999.000,1,  2385.0,2,  2409.1,2,    7.418,    25.00, -999.00,9, -999.00,  -999.0,9,  -999.0,  27.6506,2
49NZ200107_1,       P17N,      83,          1,         12,         12,2,20010823,       2119,    53.1242,  -155.6217,       4472,  2027.2,   1.8241,2,  34.6036,2,  34.6040,2,    74.17,1,   68.16,2,  161.41,2,   41.85,2,    0.01,2,    2.95,2,-999.000,1,-999.000,1,-999.000,1,  2380.6,2,  2411.1,2,    7.442,    25.00, -999.00,9, -999.00,  -999.0,9,  -999.0,  27.6781,2
49NZ200107_1,       P17N,      83,          1,         11,         11,2,20010823,       2119,    53.1242,  -155.6217,       4472,  2231.6,   1.7420,2,  34.6204,2,  34.6204,2,    84.13,1,   79.17,2,  159.80,3,   41.08,2,    0.01,2,    2.85,2,-999.000,1,-999.000,1,-999.000,1,  2374.8,2,  2408.4,2,    7.464,    25.00, -999.00,9, -999.00,  -999.0,9,  -999.0,  27.6990,2
49NZ200107_1,       P17N,      83,          1,         10,         10,2,20010823,       2119,    53.1242,  -155.6217,       4472,  2435.9,   1.6679,2,  34.6350,2,  34.6350,2,    94.87,1,   90.78,2,  159.46,3,   40.39,2,    0.01,2,    2.81,2,-999.000,9,-999.000,9,-999.000,9,  -999.0,9,  -999.0,9, -999.000,  -999.00, -999.00,9, -999.00,  -999.0,9,  -999.0,  27.7173,2
49NZ200107_1,       P17N,      83,          1,          9,          9,3,20010823,       2119,    53.1242,  -155.6217,       4472,  2640.0,   1.6162,2,  34.6452,2,  34.6452,2,   103.39,1,   99.79,2,  159.50,2,   39.80,2,    0.00,2,    2.77,2,-999.000,1,-999.000,1,-999.000,1,  2362.3,2,  2416.3,2,    7.505,    25.00, -999.00,9, -999.00,  -999.0,9,  -999.0,  27.7304,2
49NZ200107_1,       P17N,      83,          1,          8,          8,2,20010823,       2119,    53.1242,  -155.6217,       4472,  2843.3,   1.5675,2,  34.6547,2,  34.6546,2,   112.90,1,  109.27,2,  158.54,2,   39.14,2,    0.00,2,    2.71,2,-999.000,9,-999.000,9,-999.000,9,  -999.0,9,  -999.0,9, -999.000,  -999.00, -999.00,9, -999.00,  -999.0,9,  -999.0,  27.7429,2
49NZ200107_1,       P17N,      83,          1,          7,          7,2,20010823,       2119,    53.1242,  -155.6217,       4472,  3048.1,   1.5304,2,  34.6625,2,  34.6625,2,   121.44,1,  118.36,2,  156.21,2,   38.57,2,    0.01,2,    2.68,2,-999.000,1,-999.000,1,-999.000,1,  2350.9,6,  2420.3,2,    7.543,    25.00, -999.00,9, -999.00,  -999.0,9,  -999.0,  27.7530,2
49NZ200107_1,       P17N,      83,          1,          6,          6,2,20010823,       2119,    53.1242,  -155.6217,       4472,  3304.2,   1.4931,2,  34.6707,2,  34.6708,2,   130.71,1,  127.50,2,  154.58,2,   38.10,2,   -0.01,2,    2.63,2,-999.000,9,-999.000,9,-999.000,9,  -999.0,9,  -999.0,9, -999.000,  -999.00, -999.00,9, -999.00,  -999.0,9,  -999.0,  27.7640,2
49NZ200107_1,       P17N,      83,          1,          5,          5,2,20010823,       2119,    53.1242,  -155.6217,       4472,  3560.5,   1.4760,2,  34.6764,2,  34.6767,2,   137.61,1,  134.40,2,  154.17,2,   37.58,2,    0.00,2,    2.59,2,-999.000,1,-999.000,1,-999.000,1,  2340.4,2,  2415.3,3,    7.573,    25.00, -999.00,9, -999.00,  -999.0,9,  -999.0,  27.7714,2
49NZ200107_1,       P17N,      83,          1,          4,          4,2,20010823,       2119,    53.1242,  -155.6217,       4472,  3816.5,   1.4723,2,  34.6805,2,  34.6802,2,   143.03,1,  139.06,2,  153.69,2,   37.30,2,    0.00,2,    2.56,2,-999.000,9,-999.000,9,-999.000,9,  -999.0,9,  -999.0,9, -999.000,  -999.00, -999.00,9, -999.00,  -999.0,9,  -999.0,  27.7769,2
49NZ200107_1,       P17N,      83,          1,          3,          3,2,20010823,       2119,    53.1242,  -155.6217,       4472,  4074.3,   1.4798,2,  34.6834,2,  34.6834,2,   147.16,1,  141.80,2,  154.24,2,   37.10,2,   -0.01,2,    2.58,2,-999.000,1,-999.000,1,-999.000,1,  2336.5,2,  2423.6,6,    7.591,    25.00, -999.00,9, -999.00,  -999.0,9,  -999.0,  27.7806,2
49NZ200107_1,       P17N,      83,          1,          2,          2,2,20010823,       2119,    53.1242,  -155.6217,       4472,  4332.2,   1.4944,2,  34.6853,2,  34.6853,2,   150.76,1,  144.71,2,  154.14,2,   36.91,2,    0.01,2,    2.52,2,-999.000,9,-999.000,9,-999.000,9,  -999.0,9,  -999.0,9, -999.000,  -999.00, -999.00,9, -999.00,  -999.0,9,  -999.0,  27.7831,2
49NZ200107_1,       P17N,      83,          1,          1,          1,2,20010823,       2119,    53.1242,  -155.6217,       4472,  4551.5,   1.5072,2,  34.6870,2,  34.6868,2,   154.64,1,  146.63,2,  153.76,2,   36.66,2,    0.01,2,    2.54,2,-999.000,1,-999.000,1,-999.000,1,  2332.2,2,  2421.1,2,    7.598,    25.00, -999.00,9, -999.00,  -999.0,9,  -999.0,  27.7853,2