BOTTLE,20220817CCHSIOAMB
EXPOCODE,SECT_ID,STNNBR,CASTNO,SAMPNO,BTLNBR,BTLNBR_FLAG_W,DATE,TIME,LATITUDE,LONGITUDE,DEPTH,CTDPRS,CTDTMP,CTDTMP_FLAG_W,CTDSAL,CTDSAL_FLAG_W,SALNTY,SALNTY_FLAG_W,CTDOXY,CTDOXY_FLAG_W,OXYGEN,OXYGEN_FLAG_W,SILCAT,SILCAT_FLAG_W,NITRAT,NITRAT_FLAG_W,NITRIT,NITRIT_FLAG_W,PHSPHT,PHSPHT_FLAG_W,CFC-11,CFC-11_FLAG_W,CFC-12,CFC-12_FLAG_W,CFC113,CFC113_FLAG_W,TCARBN,TCARBN_FLAG_W,ALKALI,ALKALI_FLAG_W,PH_TOT,PH_TMP,DELC13,DELC13_FLAG_W,C13ERR,DELC14,DELC14_FLAG_W,C14ERR,THETA,THETA_FLAG_W
,,,,,,,,,,,METERS,DBAR,ITS-90,,PSS-78,,PSS-78,,UMOL/KG,,UMOL/KG,,UMOL/KG,,UMOL/KG,,UMOL/KG,,UMOL/KG,,PMOL/KG,,PMOL/KG,,PMOL/KG,,UMOL/KG,,UMOL/KG,,,DEG C,/MILLE,,/MILLE,/MILLE,,/MILLE,DEG C,
49NZ200107_1,       P17N,      55,          1,          0,        -99,9,20010814,       2106,    43.9575,  -139.6175,       4330,     4.5,-999.0000,9,-999.0000,9,  32.4285,2,  -999.00,9,  255.38,2,    1.15,2,    0.33,2,    0.01,2,    0.44,2,-999.000,9,-999.000,9,-999.000,9,  -999.0,9,  -999.0,9, -999.000,  -999.00, -999.00,9, -999.00,  -999.0,9,  -999.0,-999.0000,9
49NZ200107_1,       P17N,      55,          1,         36,         36,2,20010814,       2106,    43.9575,  -139.6175,       4330,    11.0,  16.8961,2,  32.4119,2,  32.4133,2,   244.56,1,  254.41,2,    1.05,2,    0.23,2,    0.00,2,    0.38,2,-999.000,9,-999.000,9,-999.000,9,  -999.0,9,  -999.0,9, -999.000,  -999.00, -999.00,9, -999.00,  -999.0,9,  -999.0,  23.5535,2
49NZ200107_1,       P17N,      55,          1,         35,         35,2,20010814,       2106,    43.9575,  -139.6175,       4330,    25.3,  14.1802,2,  32.4389,2,  32.4342,2,   289.33,1,  300.27,2,    0.94,2,    0.80,2,    0.03,2,    0.43,2,-999.000,9,-999.000,9,-999.000,9,  -999.0,9,  -999.0,9, -999.000,  -999.00, -999.00,9, -999.00,  -999.0,9,  -999.0,  24.1721,2
49NZ200107_1,       P17N,      55,          1,         34,         34,3,20010814,       2106,    43.9575,  -139.6175,       4330,    50.7,   9.8875,2,  32.4753,2,  32.4755,2,   277.94,1,  292.48,2,    4.00,2,    5.64,2,    0.09,2,    0.79,2,-999.000,9,-999.000,9,-999.000,9,  -999.0,9,  -999.0,9, -999.000,  -999.00, -999.00,9, -999.00,  -999.0,9,  -999.0,  25.0006,2
49NZ200107_1,       P17N,      55,          1,         33,         33,2,20010814,       2106,    43.9575,  -139.6175,       4330,    75.7,   9.1162,2,  32.5397,2,  32.5384,2,   266.85,1,  280.25,2,    6.48,2,    7.50,2,    0.92,2,    0.89,2,-999.000,9,-999.000,9,-999.000,9,  -999.0,9,  -999.0,9, -999.000,  -999.00, -999.00,9, -999.00,  -999.0,9,  -999.0,  25.1751,2
49NZ200107_1,       P17N,      55,          1,         32,         32,3,20010814,       2106,    43.9575,  -139.6175,       4330,   101.6,   8.5146,2,  32.5355,2,  32.5370,2,   267.27,1,  278.85,2,    8.08,2,    9.61,2,    0.05,2,    0.97,2,-999.000,9,-999.000,9,-999.000,9,  -999.0,9,  -999.0,9, -999.000,  -999.00, -999.00,9, -999.00,  -999.0,9,  -999.0,  25.2645,2
49NZ200107_1,       P17N,      55,          1,         31,         31,2,20010814,       2106,    43.9575,  -139.6175,       4330,   151.7,   6.9994,2,  33.0260,2,  33.0444,2,   247.02,1,  260.30,2,   16.86,2,   15.83,2,    0.02,2,    1.28,2,-999.000,9,-999.000,9,-999.000,9,  -999.0,9,  -999.0,9, -999.000,  -999.00, -999.00,9, -999.00,  -999.0,9,  -999.0,  25.8659,2
49NZ200107_1,       P17N,      55,          1,         30,         30,2,20010814,       2106,    43.9575,  -139.6175,       4330,   202.0,   7.6255,2,  33.7942,2,  33.7919,2,   205.83,1,  216.19,2,   23.82,2,   19.19,2,    0.01,2,    1.37,2,-999.000,9,-999.000,9,-999.000,9,  -999.0,9,  -999.0,9, -999.000,  -999.00, -999.00,9, -999.00,  -999.0,9,  -999.0,  26.3841,2
49NZ200107_1,       P17N,      55,          1,         29,         29,2,20010814,       2106,    43.9575,  -139.6175,       4330,   252.7,   7.0721,2,  33.9156,2,  33.9130,2,   170.24,1,  178.19,2,   35.15,2,   24.50,2,    0.01,2,    1.73,2,-999.000,9,-999.000,9,-999.000,9,  -999.0,9,  -999.0,9, -999.000,  -999.00, -999.00,9, -999.00,  -999.0,9,  -999.0,  26.5579,2
49NZ200107_1,       P17N,      55,          1,         28,         28,2,20010814,       2106,    43.9575,  -139.6175,       4330,   303.0,   6.5769,2,  33.9433,2,  33.9417,2,   141.79,1,  147.79,2,   44.46,2,   28.61,2,    0.01,2,    1.98,2,-999.000,9,-999.000,9,-999.000,9,  -999.0,9,  -999.0,9, -999.000,  -999.00, -999.00,9, -999.00,  -999.0,9,  -999.0,  26.6469,2
49NZ200107_1,       P17N,      55,          1,         27,         27,2,20010814,       2106,    43.9575,  -139.6175,       4330,   353.4,   5.9522,2,  33.9475,2,  33.9445,2,   121.39,1,  125.05,2,   53.11,2,   31.92,2,    0.01,2,    2.24,2,-999.000,9,-999.000,9,-999.000,9,  -999.0,9,  -999.0,9, -999.000,  -999.00, -999.00,9, -999.00,  -999.0,9,  -999.0,  26.7307,2
49NZ200107_1,       P17N,      55,          1,         26,         26,2,20010814,       2106,    43.9575,  -139.6175,       4330,   403.8,   5.4830,2,  33.9592,2,  33.9587,2,   104.75,1,  105.58,2,   61.01,2,   34.77,2,    0.01,2,    2.44,2,-999.000,9,-999.000,9,-999.000,9,  -999.0,9,  -999.0,9, -999.000,  -999.00, -999.00,9, -999.00,  -999.0,9,  -999.0,  26.7975,2
49NZ200107_1,       P17N,      55,          1,         25,         25,2,20010814,       2106,    43.9575,  -139.6175,       4330,   505.0,   4.6578,2,  34.0182,2,  34.0221,2,    69.20,1,   67.02,2,   78.28,2,   39.49,2,    0.01,2,    2.78,2,-999.000,9,-999.000,9,-999.000,9,  -999.0,9,  -999.0,9, -999.000,  -999.00, -999.00,9, -999.00,  -999.0,9,  -999.0,  26.9395,2
49NZ200107_1,       P17N,      55,          1,         24,         24,2,20010814,       2106,    43.9575,  -139.6175,       4330,   604.4,   4.2685,2,  34.0899,2,  34.0934,2,    43.22,1,   38.26,2,   90.89,2,   42.28,2,    0.01,2,    2.98,2,-999.000,9,-999.000,9,-999.000,9,  -999.0,9,  -999.0,9, -999.000,  -999.00, -999.00,9, -999.00,  -999.0,9,  -999.0,  27.0389,2
49NZ200107_1,       P17N,      55,          1,         23,         23,2,20010814,       2106,    43.9575,  -139.6175,       4330,   707.4,   3.8802,2,  34.1729,2,  34.1786,2,    30.32,1,   24.24,2,  104.33,2,   43.47,2,    0.01,2,    3.08,2,-999.000,9,-999.000,9,-999.000,9,  -999.0,9,  -999.0,9, -999.000,  -999.00, -999.00,9, -999.00,  -999.0,9,  -999.0,  27.1456,2
49NZ200107_1,       P17N,      55,          1,         22,         22,2,20010814,       2106,    43.9575,  -139.6175,       4330,   808.3,   3.5438,2,  34.2487,2,  34.2508,2,    22.31,1,   16.23,2,  115.26,2,   44.38,2,    0.01,2,    3.15,2,-999.000,9,-999.000,9,-999.000,9,  -999.0,9,  -999.0,9, -999.000,  -999.00, -999.00,9, -999.00,  -999.0,9,  -999.0,  27.2397,2
49NZ200107_1,       P17N,      55,          1,         21,         21,2,20010814,       2106,    43.9575,  -139.6175,       4330,   909.4,   3.3115,2,  34.3064,2,  34.3064,2,    17.77,1,   10.71,2,  123.32,2,   44.87,2,    0.01,2,    3.20,2,-999.000,9,-999.000,9,-999.000,9,  -999.0,9,  -999.0,9, -999.000,  -999.00, -999.00,9, -999.00,  -999.0,9,  -999.0,  27.3084,2
49NZ200107_1,       P17N,      55,          1,         20,         20,3,20010814,       2106,    43.9575,  -139.6175,       4330,  1010.5,   3.1619,2,  34.3514,2,  34.3516,2,    16.68,1,    9.08,2,  129.38,2,   45.04,2,    0.01,2,    3.24,2,-999.000,9,-999.000,9,-999.000,9,  -999.0,9,  -999.0,9, -999.000,  -999.00, -999.00,9, -999.00,  -999.0,9,  -999.0,  27.3588,2
49NZ200107_1,       P17N,      55,          1,         19,         19,2,20010814,       2106,    43.9575,  -139.6175,       4330,  1111.7,   3.0016,2,  34.3969,2,  34.3972,2,    17.02,1,    9.37,2,  135.56,2,   45.14,2,    0.01,2,    3.21,2,-999.000,9,-999.000,9,-999.000,9,  -999.0,9,  -999.0,9, -999.000,  -999.00, -999.00,9, -999.00,  -999.0,9,  -999.0,  27.4104,2
49NZ200107_1,       P17N,      55,          1,         18,         18,2,20010814,       2106,    43.9575,  -139.6175,       4330,  1213.6,   2.8246,2,  34.4350,2,  34.4350,2,    18.83,1,   11.01,2,  141.40,2,   45.09,2,    0.01,2,    3.21,2,-999.000,9,-999.000,9,-999.000,9,  -999.0,9,  -999.0,9, -999.000,  -999.00, -999.00,9, -999.00,  -999.0,9,  -999.0,  27.4571,2
49NZ200107_1,       P17N,      55,          1,         17,         17,2,20010814,       2106,    43.9575,  -139.6175,       4330,  1314.7,   2.7195,2,  34.4665,2,  34.4668,2,    21.85,1,   14.21,2,  145.22,2,   45.10,2,    0.01,2,    3.22,2,-999.000,9,-999.000,9,-999.000,9,  -999.0,9,  -999.0,9, -999.000,  -999.00, -999.00,9, -999.00,  -999.0,9,  -999.0,  27.4921,2
49NZ200107_1,       P17N,      55,          1,         16,         16,2,20010814,       2106,    43.9575,  -139.6175,       4330,  1416.3,   2.5588,2,  34.4925,2,  34.4935,2,    26.23,1,   18.77,2,  149.52,2,   44.78,2,    0.01,2,    3.20,2,-999.000,9,-999.000,9,-999.000,9,  -999.0,9,  -999.0,9, -999.000,  -999.00, -999.00,9, -999.00,  -999.0,9,  -999.0,  27.5273,2
49NZ200107_1,       P17N,      55,          1,         15,         15,2,20010814,       2106,    43.9575,  -139.6175,       4330,  1517.7,   2.4387,2,  34.5184,2,  34.5191,2,    32.70,1,   25.44,2,  152.77,2,   44.41,2,    0.01,2,    3.16,2,-999.000,9,-999.000,9,-999.000,9,  -999.0,9,  -999.0,9, -999.000,  -999.00, -999.00,9, -999.00,  -999.0,9,  -999.0,  27.5586,2
49NZ200107_1,       P17N,      55,          1,         14,         14,2,20010814,       2106,    43.9575,  -139.6175,       4330,  1620.0,   2.2982,2,  34.5390,2,  34.5393,2,    39.28,1,   32.75,2,  156.15,2,   43.99,2,    0.01,2,    3.13,2,-999.000,9,-999.000,9,-999.000,9,  -999.0,9,  -999.0,9, -999.000,  -999.00, -999.00,9, -999.00,  -999.0,9,  -999.0,  27.5872,2
49NZ200107_1,       P17N,      55,          1,         13,         13,2,20010814,       2106,    43.9575,  -139.6175,       4330,  1822.9,   2.0799,2,  34.5745,2,  34.5742,2,    53.18,1,   47.68,2,  161.03,2,   43.19,2,    0.01,2,    3.05,2,-999.000,9,-999.000,9,-999.000,9,  -999.0,9,  -999.0,9, -999.000,  -999.00, -999.00,9, -999.00,  -999.0,9,  -999.0,  27.6342,2
49NZ200107_1,       P17N,      55,          1,         12,         12,2,20010814,       2106,    43.9575,  -139.6175,       4330,  2026.6,   1.9420,2,  34.5998,2,  34.6001,2,    65.27,1,   60.40,2,  164.15,2,   42.30,2,    0.00,2,    3.00,2,-999.000,9,-999.000,9,-999.000,9,  -999.0,9,  -999.0,9, -999.000,  -999.00, -999.00,9, -999.00,  -999.0,9,  -999.0,  27.6663,2
49NZ200107_1,       P17N,      55,          1,         11,         11,2,20010814,       2106,    43.9575,  -139.6175,       4330,  2229.8,   1.8540,2,  34.6166,2,  34.6166,2,    75.07,1,   70.70,2,  163.74,2,   41.58,2,    0.00,2,    2.93,2,-999.000,9,-999.000,9,-999.000,9,  -999.0,9,  -999.0,9, -999.000,  -999.00, -999.00,9, -999.00,  -999.0,9,  -999.0,  27.6876,2
49NZ200107_1,       P17N,      55,          1,         10,         10,2,20010814,       2106,    43.9575,  -139.6175,       4330,  2433.4,   1.7655,2,  34.6307,2,  34.6303,2,    84.71,1,   80.71,2,  163.39,2,   40.99,2,    0.00,2,    2.88,2,-999.000,9,-999.000,9,-999.000,9,  -999.0,9,  -999.0,9, -999.000,  -999.00, -999.00,9, -999.00,  -999.0,9,  -999.0,  27.7068,2
49NZ200107_1,       P17N,      55,          1,          9,          9,2,20010814,       2106,    43.9575,  -139.6175,       4330,  2637.9,   1.6953,2,  34.6409,2,  34.6412,2,    94.02,1,   90.62,2,  162.52,2,   40.51,2,    0.00,2,    2.84,2,-999.000,9,-999.000,9,-999.000,9,  -999.0,9,  -999.0,9, -999.000,  -999.00, -999.00,9, -999.00,  -999.0,9,  -999.0,  27.7214,2
49NZ200107_1,       P17N,      55,          1,          8,          8,2,20010814,       2106,    43.9575,  -139.6175,       4330,  2842.0,   1.6150,2,  34.6517,2,  34.6513,2,   104.45,1,  101.80,2,  160.93,2,   39.76,2,    0.01,2,    2.79,2,-999.000,9,-999.000,9,-999.000,9,  -999.0,9,  -999.0,9, -999.000,  -999.00, -999.00,9, -999.00,  -999.0,9,  -999.0,  27.7371,2
49NZ200107_1,       P17N,      55,          1,          7,          7,2,20010814,       2106,    43.9575,  -139.6175,       4330,  3046.0,   1.5640,2,  34.6596,2,  34.6596,2,   113.28,1,  110.46,2,  159.94,2,   39.17,2,    0.01,2,    2.74,2,-999.000,9,-999.000,9,-999.000,9,  -999.0,9,  -999.0,9, -999.000,  -999.00, -999.00,9, -999.00,  -999.0,9,  -999.0,  27.7484,2
49NZ200107_1,       P17N,      55,          1,          6,          6,2,20010814,       2106,    43.9575,  -139.6175,       4330,  3302.3,   1.5384,2,  34.6661,2,  34.6656,2,   120.75,1,  117.83,2,  159.23,2,   38.76,2,    0.01,2,    2.70,2,-999.000,9,-999.000,9,-999.000,9,  -999.0,9,  -999.0,9, -999.000,  -999.00, -999.00,9, -999.00,  -999.0,9,  -999.0,  27.7571,2
49NZ200107_1,       P17N,      55,          1,          5,          5,2,20010814,       2106,    43.9575,  -139.6175,       4330,  3558.5,   1.5116,2,  34.6732,2,  34.6733,2,   129.10,1,  126.13,2,  159.89,2,   38.12,2,    0.01,2,    2.67,2,-999.000,9,-999.000,9,-999.000,9,  -999.0,9,  -999.0,9, -999.000,  -999.00, -999.00,9, -999.00,  -999.0,9,  -999.0,  27.7665,2
49NZ200107_1,       P17N,      55,          1,          4,          4,2,20010814,       2106,    43.9575,  -139.6175,       4330,  3814.1,   1.5084,2,  34.6777,2,  34.6778,2,   134.39,1,  130.48,2,  160.86,2,   37.84,2,    0.00,2,    2.65,2,-999.000,9,-999.000,9,-999.000,9,  -999.0,9,  -999.0,9, -999.000,  -999.00, -999.00,9, -999.00,  -999.0,9,  -999.0,  27.7721,2
49NZ200107_1,       P17N,      55,          1,          3,          3,2,20010814,       2106,    43.9575,  -139.6175,       4330,  4071.5,   1.5220,2,  34.6805,2,  34.6807,2,   137.68,1,  132.88,2,  162.71,2,   37.84,2,    0.00,2,    2.64,2,-999.000,9,-999.000,9,-999.000,9,  -999.0,9,  -999.0,9, -999.000,  -999.00, -999.00,9, -999.00,  -999.0,9,  -999.0,  27.7755,2
49NZ200107_1,       P17N,      55,          1,          2,          2,2,20010814,       2106,    43.9575,  -139.6175,       4330,  4328.4,   1.5426,2,  34.6828,2,  34.6819,2,   139.98,1,  133.78,2,  165.11,2,   37.70,2,    0.01,2,    2.61,2,-999.000,9,-999.000,9,-999.000,9,  -999.0,9,  -999.0,9, -999.000,  -999.00, -999.00,9, -999.00,  -999.0,9,  -999.0,  27.7779,2
49NZ200107_1,       P17N,      55,          1,          1,          1,2,20010814,       2106,    43.9575,  -139.6175,       4330,  4390.6,   1.5487,2,  34.6830,2,  34.6830,2,   140.56,1,  133.16,2,  165.67,2,   37.74,2,    0.01,2,    2.63,2,-999.000,9,-999.000,9,-999.000,9,  -999.0,9,  -999.0,9, -999.000,  -999.00, -999.00,9, -999.00,  -999.0,9,  -999.0,  27.7781,2