BOTTLE,20220817CCHSIOAMB
EXPOCODE,SECT_ID,STNNBR,CASTNO,SAMPNO,BTLNBR,BTLNBR_FLAG_W,DATE,TIME,LATITUDE,LONGITUDE,DEPTH,CTDPRS,CTDTMP,CTDTMP_FLAG_W,CTDSAL,CTDSAL_FLAG_W,SALNTY,SALNTY_FLAG_W,CTDOXY,CTDOXY_FLAG_W,OXYGEN,OXYGEN_FLAG_W,SILCAT,SILCAT_FLAG_W,NITRAT,NITRAT_FLAG_W,NITRIT,NITRIT_FLAG_W,PHSPHT,PHSPHT_FLAG_W,CFC-11,CFC-11_FLAG_W,CFC-12,CFC-12_FLAG_W,CFC113,CFC113_FLAG_W,TCARBN,TCARBN_FLAG_W,ALKALI,ALKALI_FLAG_W,PH_TOT,PH_TMP,DELC13,DELC13_FLAG_W,C13ERR,DELC14,DELC14_FLAG_W,C14ERR,THETA,THETA_FLAG_W
,,,,,,,,,,,METERS,DBAR,ITS-90,,PSS-78,,PSS-78,,UMOL/KG,,UMOL/KG,,UMOL/KG,,UMOL/KG,,UMOL/KG,,UMOL/KG,,PMOL/KG,,PMOL/KG,,PMOL/KG,,UMOL/KG,,UMOL/KG,,,DEG C,/MILLE,,/MILLE,/MILLE,,/MILLE,DEG C,
49NZ200107_1,       P17N,      31,          1,          0,        -99,9,20010809,       1815,    35.9992,  -135.0133,       5174,     4.5,-999.0000,9,-999.0000,9,  32.9359,2,  -999.00,9,  241.52,2,    0.75,2,    0.10,2,    0.01,2,    0.27,2,-999.000,9,-999.000,9,-999.000,9,  -999.0,9,  -999.0,9, -999.000,  -999.00, -999.00,9, -999.00,  -999.0,9,  -999.0,-999.0000,9
49NZ200107_1,       P17N,      31,          1,         36,         36,2,20010809,       1815,    35.9992,  -135.0133,       5174,    11.0,  19.2042,2,  32.9573,2,  32.9545,2,   231.57,1,  241.90,2,    0.41,2,    0.10,2,   -0.01,2,    0.22,2,-999.000,9,-999.000,9,-999.000,9,  -999.0,9,  -999.0,9, -999.000,  -999.00, -999.00,9, -999.00,  -999.0,9,  -999.0,  23.4095,2
49NZ200107_1,       P17N,      31,          1,         35,         35,2,20010809,       1815,    35.9992,  -135.0133,       5174,    30.1,  18.5694,2,  32.9366,2,  32.9528,2,   237.83,1,  249.63,3,    0.41,2,    0.04,2,   -0.01,2,    0.22,2,-999.000,9,-999.000,9,-999.000,9,  -999.0,9,  -999.0,9, -999.000,  -999.00, -999.00,9, -999.00,  -999.0,9,  -999.0,  23.5537,2
49NZ200107_1,       P17N,      31,          1,         34,         34,3,20010809,       1815,    35.9992,  -135.0133,       5174,    50.2,  14.4021,2,  32.8836,2,  32.8854,2,   275.60,1,  290.34,2,    2.01,2,    0.05,2,    0.00,2,    0.25,2,-999.000,9,-999.000,9,-999.000,9,  -999.0,9,  -999.0,9, -999.000,  -999.00, -999.00,9, -999.00,  -999.0,9,  -999.0,  24.4697,2
49NZ200107_1,       P17N,      31,          1,         33,         33,2,20010809,       1815,    35.9992,  -135.0133,       5174,    76.0,  13.1550,2,  32.9721,2,  32.9745,2,   258.77,1,  271.41,2,    2.63,2,    0.06,2,    0.01,2,    0.28,2,-999.000,9,-999.000,9,-999.000,9,  -999.0,9,  -999.0,9, -999.000,  -999.00, -999.00,9, -999.00,  -999.0,9,  -999.0,  24.7936,2
49NZ200107_1,       P17N,      31,          1,         32,         32,2,20010809,       1815,    35.9992,  -135.0133,       5174,   100.7,  12.4421,2,  32.9488,2,  32.9507,2,   247.53,1,  257.06,2,    2.96,2,    1.16,2,    0.03,2,    0.39,2,-999.000,9,-999.000,9,-999.000,9,  -999.0,9,  -999.0,9, -999.000,  -999.00, -999.00,9, -999.00,  -999.0,9,  -999.0,  24.9151,2
49NZ200107_1,       P17N,      31,          1,         31,         31,2,20010809,       1815,    35.9992,  -135.0133,       5174,   151.8,   9.3080,2,  33.2015,2,  33.2118,2,   227.73,1,  238.18,2,    9.65,2,   10.86,2,    0.01,2,    0.90,2,-999.000,9,-999.000,9,-999.000,9,  -999.0,9,  -999.0,9, -999.000,  -999.00, -999.00,9, -999.00,  -999.0,9,  -999.0,  25.6638,2
49NZ200107_1,       P17N,      31,          1,         30,         30,2,20010809,       1815,    35.9992,  -135.0133,       5174,   202.0,   9.0973,2,  33.7002,2,  33.7345,2,   145.82,1,  154.43,2,   22.86,2,   22.95,3,    0.01,2,    1.64,2,-999.000,9,-999.000,9,-999.000,9,  -999.0,9,  -999.0,9, -999.000,  -999.00, -999.00,9, -999.00,  -999.0,9,  -999.0,  26.0884,2
49NZ200107_1,       P17N,      31,          1,         29,         29,2,20010809,       1815,    35.9992,  -135.0133,       5174,   252.2,   8.6814,2,  33.9824,2,  33.9840,2,   165.16,1,  170.45,2,   25.66,2,   22.45,2,    0.00,2,    1.55,2,-999.000,9,-999.000,9,-999.000,9,  -999.0,9,  -999.0,9, -999.000,  -999.00, -999.00,9, -999.00,  -999.0,9,  -999.0,  26.3754,2
49NZ200107_1,       P17N,      31,          1,         28,         28,2,20010809,       1815,    35.9992,  -135.0133,       5174,   303.1,   7.9700,2,  34.0057,2,  34.0042,2,   144.08,1,  150.61,2,   33.21,2,   26.14,2,    0.01,2,    1.75,2,-999.000,9,-999.000,9,-999.000,9,  -999.0,9,  -999.0,9, -999.000,  -999.00, -999.00,9, -999.00,  -999.0,9,  -999.0,  26.5019,2
49NZ200107_1,       P17N,      31,          1,         27,         27,2,20010809,       1815,    35.9992,  -135.0133,       5174,   352.9,   7.1928,2,  33.9974,2,  33.9973,2,   120.80,1,  123.33,2,   41.33,2,   30.04,2,    0.01,2,    2.05,2,-999.000,9,-999.000,9,-999.000,9,  -999.0,9,  -999.0,9, -999.000,  -999.00, -999.00,9, -999.00,  -999.0,9,  -999.0,  26.6070,2
49NZ200107_1,       P17N,      31,          1,         26,         26,2,20010809,       1815,    35.9992,  -135.0133,       5174,   403.8,   6.3292,2,  33.9732,2,  33.9736,2,   115.18,1,  120.25,2,   49.47,2,   32.07,2,    0.00,2,    2.17,2,-999.000,9,-999.000,9,-999.000,9,  -999.0,9,  -999.0,9, -999.000,  -999.00, -999.00,9, -999.00,  -999.0,9,  -999.0,  26.7039,2
49NZ200107_1,       P17N,      31,          1,         25,         25,2,20010809,       1815,    35.9992,  -135.0133,       5174,   504.1,   5.7394,2,  34.0910,2,  34.0942,2,    44.78,1,   41.96,2,   67.24,2,   39.59,2,    0.00,2,    2.80,2,-999.000,9,-999.000,9,-999.000,9,  -999.0,9,  -999.0,9, -999.000,  -999.00, -999.00,9, -999.00,  -999.0,9,  -999.0,  26.8721,2
49NZ200107_1,       P17N,      31,          1,         24,         24,2,20010809,       1815,    35.9992,  -135.0133,       5174,   605.6,   5.0617,2,  34.1652,2,  34.1653,2,    27.81,1,   23.62,2,   81.54,2,   42.09,2,    0.00,2,    2.99,2,-999.000,9,-999.000,9,-999.000,9,  -999.0,9,  -999.0,9, -999.000,  -999.00, -999.00,9, -999.00,  -999.0,9,  -999.0,  27.0119,2
49NZ200107_1,       P17N,      31,          1,         23,         23,2,20010809,       1815,    35.9992,  -135.0133,       5174,   706.6,   4.5335,2,  34.2335,2,  34.2353,2,    19.45,1,   14.02,2,   94.30,2,   43.56,2,    0.00,2,    3.10,2,-999.000,9,-999.000,9,-999.000,9,  -999.0,9,  -999.0,9, -999.000,  -999.00, -999.00,9, -999.00,  -999.0,9,  -999.0,  27.1258,2
49NZ200107_1,       P17N,      31,          1,         22,         22,2,20010809,       1815,    35.9992,  -135.0133,       5174,   808.2,   4.3084,2,  34.3156,2,  34.3149,2,    15.98,1,    9.99,2,  102.61,2,   44.15,2,    0.00,2,    3.16,2,-999.000,9,-999.000,9,-999.000,9,  -999.0,9,  -999.0,9, -999.000,  -999.00, -999.00,9, -999.00,  -999.0,9,  -999.0,  27.2159,2
49NZ200107_1,       P17N,      31,          1,         21,         21,2,20010809,       1815,    35.9992,  -135.0133,       5174,   909.0,   4.0088,2,  34.3769,2,  34.3763,2,    16.95,1,   11.20,2,  110.37,2,   44.55,2,    0.01,2,    3.20,2,-999.000,9,-999.000,9,-999.000,9,  -999.0,9,  -999.0,9, -999.000,  -999.00, -999.00,9, -999.00,  -999.0,9,  -999.0,  27.2965,2
49NZ200107_1,       P17N,      31,          1,         20,         20,2,20010809,       1815,    35.9992,  -135.0133,       5174,  1010.4,   3.7539,2,  34.4214,2,  34.4213,2,    20.04,1,   14.48,2,  116.72,2,   44.71,2,    0.00,2,    3.19,2,-999.000,9,-999.000,9,-999.000,9,  -999.0,9,  -999.0,9, -999.000,  -999.00, -999.00,9, -999.00,  -999.0,9,  -999.0,  27.3584,2
49NZ200107_1,       P17N,      31,          1,         19,         19,2,20010809,       1815,    35.9992,  -135.0133,       5174,  1212.8,   3.2615,2,  34.4889,2,  34.4885,2,    30.30,1,   24.32,2,  126.15,2,   44.75,2,   -0.01,2,    3.13,2,-999.000,9,-999.000,9,-999.000,9,  -999.0,9,  -999.0,9, -999.000,  -999.00, -999.00,9, -999.00,  -999.0,9,  -999.0,  27.4609,2
49NZ200107_1,       P17N,      31,          1,         18,         18,2,20010809,       1815,    35.9992,  -135.0133,       5174,  1415.3,   2.8400,2,  34.5237,2,  34.5237,2,    38.55,1,   33.08,2,  138.36,2,   44.31,2,   -0.01,2,    3.10,2,-999.000,9,-999.000,9,-999.000,9,  -999.0,9,  -999.0,9, -999.000,  -999.00, -999.00,9, -999.00,  -999.0,9,  -999.0,  27.5281,2
49NZ200107_1,       P17N,      31,          1,         17,         17,2,20010809,       1815,    35.9992,  -135.0133,       5174,  1618.7,   2.5316,2,  34.5556,2,  34.5555,2,    48.90,1,   44.19,2,  146.35,2,   43.64,2,    0.00,2,    3.06,2,-999.000,9,-999.000,9,-999.000,9,  -999.0,9,  -999.0,9, -999.000,  -999.00, -999.00,9, -999.00,  -999.0,9,  -999.0,  27.5814,2
49NZ200107_1,       P17N,      31,          1,         16,         16,2,20010809,       1815,    35.9992,  -135.0133,       5174,  1821.8,   2.2245,2,  34.5875,2,  34.5873,2,    62.39,1,   58.37,2,  153.76,2,   42.88,2,   -0.01,2,    2.99,2,-999.000,9,-999.000,9,-999.000,9,  -999.0,9,  -999.0,9, -999.000,  -999.00, -999.00,9, -999.00,  -999.0,9,  -999.0,  27.6333,2
49NZ200107_1,       P17N,      31,          1,         15,         15,2,20010809,       1815,    35.9992,  -135.0133,       5174,  2024.5,   2.0066,2,  34.6084,2,  34.6088,2,    72.83,1,   69.54,2,  160.02,2,   42.22,2,   -0.01,2,    2.94,2,-999.000,9,-999.000,9,-999.000,9,  -999.0,9,  -999.0,9, -999.000,  -999.00, -999.00,9, -999.00,  -999.0,9,  -999.0,  27.6682,2
49NZ200107_1,       P17N,      31,          1,         14,         14,2,20010809,       1815,    35.9992,  -135.0133,       5174,  2228.4,   1.8759,2,  34.6256,2,  34.6255,2,    82.71,1,   80.89,2,  162.14,2,   41.55,2,   -0.01,2,    2.90,2,-999.000,9,-999.000,9,-999.000,9,  -999.0,9,  -999.0,9, -999.000,  -999.00, -999.00,9, -999.00,  -999.0,9,  -999.0,  27.6932,2
49NZ200107_1,       P17N,      31,          1,         13,         13,2,20010809,       1815,    35.9992,  -135.0133,       5174,  2431.8,   1.7773,2,  34.6380,2,  34.6378,2,    91.34,1,   89.79,2,  163.77,2,   40.88,2,   -0.01,2,    2.86,2,-999.000,9,-999.000,9,-999.000,9,  -999.0,9,  -999.0,9, -999.000,  -999.00, -999.00,9, -999.00,  -999.0,9,  -999.0,  27.7118,2
49NZ200107_1,       P17N,      31,          1,         12,         12,2,20010809,       1815,    35.9992,  -135.0133,       5174,  2635.2,   1.6951,2,  34.6479,2,  34.6477,2,    99.45,1,   98.28,2,  163.93,2,   40.28,2,   -0.01,2,    2.80,2,-999.000,9,-999.000,9,-999.000,9,  -999.0,9,  -999.0,9, -999.000,  -999.00, -999.00,9, -999.00,  -999.0,9,  -999.0,  27.7270,2
49NZ200107_1,       P17N,      31,          1,         11,         11,2,20010809,       1815,    35.9992,  -135.0133,       5174,  2839.9,   1.6342,2,  34.6552,2,  34.6556,2,   106.63,1,  105.41,2,  161.42,2,   40.02,2,   -0.01,2,    2.75,2,-999.000,9,-999.000,9,-999.000,9,  -999.0,9,  -999.0,9, -999.000,  -999.00, -999.00,9, -999.00,  -999.0,9,  -999.0,  27.7386,2
49NZ200107_1,       P17N,      31,          1,         10,         10,2,20010809,       1815,    35.9992,  -135.0133,       5174,  3044.2,   1.5882,2,  34.6612,2,  34.6612,2,   112.57,1,  111.33,2,  161.52,2,   39.44,2,    0.00,2,    2.72,2,-999.000,9,-999.000,9,-999.000,9,  -999.0,9,  -999.0,9, -999.000,  -999.00, -999.00,9, -999.00,  -999.0,9,  -999.0,  27.7479,2
49NZ200107_1,       P17N,      31,          1,          9,          9,2,20010809,       1815,    35.9992,  -135.0133,       5174,  3298.8,   1.5471,2,  34.6682,2,  34.6681,2,   120.94,1,  119.29,2,  159.72,2,   38.97,2,   -0.01,2,    2.68,2,-999.000,9,-999.000,9,-999.000,9,  -999.0,9,  -999.0,9, -999.000,  -999.00, -999.00,9, -999.00,  -999.0,9,  -999.0,  27.7582,2
49NZ200107_1,       P17N,      31,          1,          8,          8,2,20010809,       1815,    35.9992,  -135.0133,       5174,  3555.0,   1.5163,2,  34.6742,2,  34.6742,2,   129.06,1,  127.73,2,  157.56,2,   38.46,2,   -0.01,2,    2.63,2,-999.000,9,-999.000,9,-999.000,9,  -999.0,9,  -999.0,9, -999.000,  -999.00, -999.00,9, -999.00,  -999.0,9,  -999.0,  27.7669,2
49NZ200107_1,       P17N,      31,          1,          7,          7,2,20010809,       1815,    35.9992,  -135.0133,       5174,  3811.5,   1.4997,2,  34.6790,2,  34.6791,2,   136.33,1,  134.69,2,  155.75,2,   38.11,2,   -0.01,2,    2.60,2,-999.000,9,-999.000,9,-999.000,9,  -999.0,9,  -999.0,9, -999.000,  -999.00, -999.00,9, -999.00,  -999.0,9,  -999.0,  27.7738,2
49NZ200107_1,       P17N,      31,          1,          6,          6,2,20010809,       1815,    35.9992,  -135.0133,       5174,  4067.5,   1.4943,2,  34.6826,2,  34.6828,2,   142.82,1,  141.09,2,  153.07,2,   37.66,2,   -0.01,2,    2.58,2,-999.000,9,-999.000,9,-999.000,9,  -999.0,9,  -999.0,9, -999.000,  -999.00, -999.00,9, -999.00,  -999.0,9,  -999.0,  27.7790,2
49NZ200107_1,       P17N,      31,          1,          5,          5,2,20010809,       1815,    35.9992,  -135.0133,       5174,  4324.5,   1.5050,2,  34.6849,2,  34.6850,2,   147.69,1,  144.64,2,  150.72,2,   37.43,2,   -0.01,2,    2.56,2,-999.000,9,-999.000,9,-999.000,9,  -999.0,9,  -999.0,9, -999.000,  -999.00, -999.00,9, -999.00,  -999.0,9,  -999.0,  27.7820,2
49NZ200107_1,       P17N,      31,          1,          4,          4,2,20010809,       1815,    35.9992,  -135.0133,       5174,  4581.3,   1.5256,2,  34.6862,2,  34.6852,2,   151.70,1,  147.36,2,  149.20,2,   37.30,2,    0.00,2,    2.54,2,-999.000,9,-999.000,9,-999.000,9,  -999.0,9,  -999.0,9, -999.000,  -999.00, -999.00,9, -999.00,  -999.0,9,  -999.0,  27.7837,2
49NZ200107_1,       P17N,      31,          1,          3,          3,2,20010809,       1815,    35.9992,  -135.0133,       5174,  4838.6,   1.5509,2,  34.6869,2,  34.6867,2,   155.88,1,  149.27,2,  147.49,2,   37.11,2,   -0.01,2,    2.53,2,-999.000,9,-999.000,9,-999.000,9,  -999.0,9,  -999.0,9, -999.000,  -999.00, -999.00,9, -999.00,  -999.0,9,  -999.0,  27.7847,2
49NZ200107_1,       P17N,      31,          1,          2,          2,2,20010809,       1815,    35.9992,  -135.0133,       5174,  5095.9,   1.5799,2,  34.6873,2,  34.6875,2,   158.82,1,  150.38,2,  146.96,2,   37.03,2,    0.00,2,    2.51,2,-999.000,9,-999.000,9,-999.000,9,  -999.0,9,  -999.0,9, -999.000,  -999.00, -999.00,9, -999.00,  -999.0,9,  -999.0,  27.7853,2
49NZ200107_1,       P17N,      31,          1,          1,          1,2,20010809,       1815,    35.9992,  -135.0133,       5174,  5215.9,   1.5914,2,  34.6876,2,  34.6876,2,   161.28,1,  151.19,2,  146.37,2,   36.85,2,    0.01,2,    2.52,2,-999.000,9,-999.000,9,-999.000,9,  -999.0,9,  -999.0,9, -999.000,  -999.00, -999.00,9, -999.00,  -999.0,9,  -999.0,  27.7857,2