BOTTLE,20220817CCHSIOAMB
EXPOCODE,SECT_ID,STNNBR,CASTNO,SAMPNO,BTLNBR,BTLNBR_FLAG_W,DATE,TIME,LATITUDE,LONGITUDE,DEPTH,CTDPRS,CTDTMP,CTDTMP_FLAG_W,CTDSAL,CTDSAL_FLAG_W,SALNTY,SALNTY_FLAG_W,CTDOXY,CTDOXY_FLAG_W,OXYGEN,OXYGEN_FLAG_W,SILCAT,SILCAT_FLAG_W,NITRAT,NITRAT_FLAG_W,NITRIT,NITRIT_FLAG_W,PHSPHT,PHSPHT_FLAG_W,CFC-11,CFC-11_FLAG_W,CFC-12,CFC-12_FLAG_W,CFC113,CFC113_FLAG_W,TCARBN,TCARBN_FLAG_W,ALKALI,ALKALI_FLAG_W,PH_TOT,PH_TMP,DELC13,DELC13_FLAG_W,C13ERR,DELC14,DELC14_FLAG_W,C14ERR,THETA,THETA_FLAG_W
,,,,,,,,,,,METERS,DBAR,ITS-90,,PSS-78,,PSS-78,,UMOL/KG,,UMOL/KG,,UMOL/KG,,UMOL/KG,,UMOL/KG,,UMOL/KG,,PMOL/KG,,PMOL/KG,,PMOL/KG,,UMOL/KG,,UMOL/KG,,,DEG C,/MILLE,,/MILLE,/MILLE,,/MILLE,DEG C,
49NZ200107_1,       P17N,      81,          1,          0,        -99,9,20010823,       1040,    52.4540,  -154.3753,       4553,     4.5,-999.0000,9,-999.0000,9,  32.7208,2,  -999.00,9,  276.98,2,   22.17,2,   12.44,2,    0.17,2,    1.20,2,-999.000,9,-999.000,9,-999.000,9,  -999.0,9,  -999.0,9, -999.000,  -999.00, -999.00,9, -999.00,  -999.0,9,  -999.0,-999.0000,9
49NZ200107_1,       P17N,      81,          1,         36,         36,2,20010823,       1040,    52.4540,  -154.3753,       4553,    11.0,  11.4999,2,  32.7288,2,  32.7273,2,   265.76,1,  278.56,2,   22.26,2,   12.43,2,    0.18,2,    1.14,2,-999.000,9,-999.000,9,-999.000,9,  -999.0,9,  -999.0,9, -999.000,  -999.00, -999.00,9, -999.00,  -999.0,9,  -999.0,  24.9180,2
49NZ200107_1,       P17N,      81,          1,         35,         35,2,20010823,       1040,    52.4540,  -154.3753,       4553,    26.1,  11.4537,2,  32.7317,2,  32.7304,2,   265.83,1,  278.11,2,   22.12,2,   12.38,2,    0.18,2,    1.15,2,-999.000,9,-999.000,9,-999.000,9,  -999.0,9,  -999.0,9, -999.000,  -999.00, -999.00,9, -999.00,  -999.0,9,  -999.0,  24.9289,2
49NZ200107_1,       P17N,      81,          1,         34,         34,2,20010823,       1040,    52.4540,  -154.3753,       4553,    51.3,   7.5560,2,  32.8248,2,  32.8323,2,   281.67,1,  300.73,2,   25.35,2,   16.21,2,    0.35,2,    1.42,2,-999.000,9,-999.000,9,-999.000,9,  -999.0,9,  -999.0,9, -999.000,  -999.00, -999.00,9, -999.00,  -999.0,9,  -999.0,  25.6299,2
49NZ200107_1,       P17N,      81,          1,         33,         33,2,20010823,       1040,    52.4540,  -154.3753,       4553,    76.8,   4.4433,2,  33.0536,2,  33.0559,2,   244.92,1,  274.23,2,   36.15,2,   24.96,2,    0.02,2,    1.91,2,-999.000,9,-999.000,9,-999.000,9,  -999.0,9,  -999.0,9, -999.000,  -999.00, -999.00,9, -999.00,  -999.0,9,  -999.0,  26.1932,2
49NZ200107_1,       P17N,      81,          1,         32,         32,2,20010823,       1040,    52.4540,  -154.3753,       4553,   103.4,   5.0542,2,  33.5993,2,  33.6009,2,   129.36,1,  135.55,2,   51.64,2,   34.09,2,    0.02,2,    2.43,2,-999.000,9,-999.000,9,-999.000,9,  -999.0,9,  -999.0,9, -999.000,  -999.00, -999.00,9, -999.00,  -999.0,9,  -999.0,  26.5595,2
49NZ200107_1,       P17N,      81,          1,         31,         31,2,20010823,       1040,    52.4540,  -154.3753,       4553,   152.3,   4.9783,2,  33.8844,2,  33.8825,2,    70.60,1,   72.01,2,   65.19,2,   39.33,2,    0.02,2,    2.76,2,-999.000,9,-999.000,9,-999.000,9,  -999.0,9,  -999.0,9, -999.000,  -999.00, -999.00,9, -999.00,  -999.0,9,  -999.0,  26.7945,2
49NZ200107_1,       P17N,      81,          1,         30,         30,2,20010823,       1040,    52.4540,  -154.3753,       4553,   202.6,   4.4357,2,  33.9356,2,  33.9335,2,    47.18,1,   45.73,2,   76.78,2,   42.46,2,    0.02,2,    2.95,2,-999.000,9,-999.000,9,-999.000,9,  -999.0,9,  -999.0,9, -999.000,  -999.00, -999.00,9, -999.00,  -999.0,9,  -999.0,  26.8954,2
49NZ200107_1,       P17N,      81,          1,         29,         29,2,20010823,       1040,    52.4540,  -154.3753,       4553,   253.4,   4.1355,2,  33.9778,2,  33.9763,2,    34.11,1,   30.66,2,   85.10,2,   44.18,2,    0.02,2,    3.11,2,-999.000,9,-999.000,9,-999.000,9,  -999.0,9,  -999.0,9, -999.000,  -999.00, -999.00,9, -999.00,  -999.0,9,  -999.0,  26.9609,2
49NZ200107_1,       P17N,      81,          1,         28,         28,2,20010823,       1040,    52.4540,  -154.3753,       4553,   303.8,   4.0838,2,  34.0361,2,  34.0351,2,    31.62,1,   27.26,2,   91.07,2,   44.01,2,    0.03,2,    3.05,2,-999.000,9,-999.000,9,-999.000,9,  -999.0,9,  -999.0,9, -999.000,  -999.00, -999.00,9, -999.00,  -999.0,9,  -999.0,  27.0130,2
49NZ200107_1,       P17N,      81,          1,         27,         27,2,20010823,       1040,    52.4540,  -154.3753,       4553,   354.2,   3.9473,2,  34.0821,2,  34.0814,2,    29.10,1,   24.44,2,   96.71,2,   44.03,2,    0.03,2,    3.13,2,-999.000,9,-999.000,9,-999.000,9,  -999.0,9,  -999.0,9, -999.000,  -999.00, -999.00,9, -999.00,  -999.0,9,  -999.0,  27.0638,2
49NZ200107_1,       P17N,      81,          1,         26,         26,2,20010823,       1040,    52.4540,  -154.3753,       4553,   404.8,   3.8554,2,  34.1240,2,  34.1241,2,    26.77,1,   22.31,2,  101.78,2,   44.18,2,    0.02,2,    3.15,2,-999.000,9,-999.000,9,-999.000,9,  -999.0,9,  -999.0,9, -999.000,  -999.00, -999.00,9, -999.00,  -999.0,9,  -999.0,  27.1068,2
49NZ200107_1,       P17N,      81,          1,         25,         25,2,20010823,       1040,    52.4540,  -154.3753,       4553,   505.9,   3.5706,2,  34.1917,2,  34.1927,2,    23.13,1,   16.99,2,  112.54,2,   44.53,2,    0.02,2,    3.17,2,-999.000,9,-999.000,9,-999.000,9,  -999.0,9,  -999.0,9, -999.000,  -999.00, -999.00,9, -999.00,  -999.0,9,  -999.0,  27.1895,2
49NZ200107_1,       P17N,      81,          1,         24,         24,2,20010823,       1040,    52.4540,  -154.3753,       4553,   607.0,   3.3595,2,  34.2493,2,  34.2536,2,    22.40,1,   16.48,2,  120.85,2,   44.61,2,    0.02,2,    3.18,2,-999.000,9,-999.000,9,-999.000,9,  -999.0,9,  -999.0,9, -999.000,  -999.00, -999.00,9, -999.00,  -999.0,9,  -999.0,  27.2563,2
49NZ200107_1,       P17N,      81,          1,         23,         23,2,20010823,       1040,    52.4540,  -154.3753,       4553,   708.3,   3.1977,2,  34.3049,2,  34.3063,2,    22.12,1,   15.77,2,  127.46,2,   44.59,2,    0.02,2,    3.20,2,-999.000,9,-999.000,9,-999.000,9,  -999.0,9,  -999.0,9, -999.000,  -999.00, -999.00,9, -999.00,  -999.0,9,  -999.0,  27.3164,2
49NZ200107_1,       P17N,      81,          1,         22,         22,2,20010823,       1040,    52.4540,  -154.3753,       4553,   809.5,   3.0028,2,  34.3398,2,  34.3419,2,    25.48,1,   19.01,2,  133.03,2,   44.49,2,    0.02,2,    3.17,2,-999.000,9,-999.000,9,-999.000,9,  -999.0,9,  -999.0,9, -999.000,  -999.00, -999.00,9, -999.00,  -999.0,9,  -999.0,  27.3627,2
49NZ200107_1,       P17N,      81,          1,         21,         21,3,20010823,       1040,    52.4540,  -154.3753,       4553,   911.0,   2.8685,2,  34.3725,2,  34.3734,2,    26.27,1,   19.09,2,  137.24,2,   44.51,2,    0.01,2,    3.18,2,-999.000,9,-999.000,9,-999.000,9,  -999.0,9,  -999.0,9, -999.000,  -999.00, -999.00,9, -999.00,  -999.0,9,  -999.0,  27.4013,2
49NZ200107_1,       P17N,      81,          1,         20,         20,2,20010823,       1040,    52.4540,  -154.3753,       4553,  1012.3,   2.7477,2,  34.4085,2,  34.4094,2,    25.16,1,   17.65,2,  141.83,2,   44.70,2,    0.02,2,    3.20,2,-999.000,9,-999.000,9,-999.000,9,  -999.0,9,  -999.0,9, -999.000,  -999.00, -999.00,9, -999.00,  -999.0,9,  -999.0,  27.4414,2
49NZ200107_1,       P17N,      81,          1,         19,         19,2,20010823,       1040,    52.4540,  -154.3753,       4553,  1113.9,   2.6140,2,  34.4368,2,  34.4375,2,    27.59,1,   20.76,2,  144.21,2,   44.63,2,    0.01,2,    3.12,2,-999.000,9,-999.000,9,-999.000,9,  -999.0,9,  -999.0,9, -999.000,  -999.00, -999.00,9, -999.00,  -999.0,9,  -999.0,  27.4761,2
49NZ200107_1,       P17N,      81,          1,         18,         18,2,20010823,       1040,    52.4540,  -154.3753,       4553,  1214.8,   2.4851,2,  34.4632,2,  34.4639,2,    31.16,1,   24.37,2,  147.36,2,   44.40,2,    0.02,2,    3.16,2,-999.000,9,-999.000,9,-999.000,9,  -999.0,9,  -999.0,9, -999.000,  -999.00, -999.00,9, -999.00,  -999.0,9,  -999.0,  27.5086,2
49NZ200107_1,       P17N,      81,          1,         17,         17,2,20010823,       1040,    52.4540,  -154.3753,       4553,  1316.8,   2.3600,2,  34.4904,2,  34.4913,2,    35.11,1,   28.16,2,  149.82,2,   44.38,2,    0.02,2,    3.11,2,-999.000,9,-999.000,9,-999.000,9,  -999.0,9,  -999.0,9, -999.000,  -999.00, -999.00,9, -999.00,  -999.0,9,  -999.0,  27.5413,2
49NZ200107_1,       P17N,      81,          1,         16,         16,2,20010823,       1040,    52.4540,  -154.3753,       4553,  1418.0,   2.2664,2,  34.5111,2,  34.5119,2,    39.52,1,   32.47,2,  152.08,2,   44.15,2,    0.02,2,    3.11,2,-999.000,9,-999.000,9,-999.000,9,  -999.0,9,  -999.0,9, -999.000,  -999.00, -999.00,9, -999.00,  -999.0,9,  -999.0,  27.5661,2
49NZ200107_1,       P17N,      81,          1,         15,         15,2,20010823,       1040,    52.4540,  -154.3753,       4553,  1621.7,   2.0908,2,  34.5490,2,  34.5490,2,    50.86,1,   43.87,2,  155.16,2,   43.37,2,    0.02,2,    3.08,2,-999.000,9,-999.000,9,-999.000,9,  -999.0,9,  -999.0,9, -999.000,  -999.00, -999.00,9, -999.00,  -999.0,9,  -999.0,  27.6116,2
49NZ200107_1,       P17N,      81,          1,         14,         14,2,20010823,       1040,    52.4540,  -154.3753,       4553,  1824.3,   1.9626,2,  34.5766,2,-999.0000,9,    61.02,1,   54.54,2,  157.42,2,   42.84,2,    0.02,2,    2.99,2,-999.000,9,-999.000,9,-999.000,9,  -999.0,9,  -999.0,9, -999.000,  -999.00, -999.00,9, -999.00,  -999.0,9,  -999.0,  27.6449,2
49NZ200107_1,       P17N,      81,          1,         13,         13,2,20010823,       1040,    52.4540,  -154.3753,       4553,  2028.3,   1.8660,2,  34.5970,2,  34.5970,2,    71.19,1,   65.19,2,  158.31,2,   42.25,2,    0.02,2,    2.95,2,-999.000,9,-999.000,9,-999.000,9,  -999.0,9,  -999.0,9, -999.000,  -999.00, -999.00,9, -999.00,  -999.0,9,  -999.0,  27.6697,2
49NZ200107_1,       P17N,      81,          1,         12,         12,2,20010823,       1040,    52.4540,  -154.3753,       4553,  2232.1,   1.7781,2,  34.6150,2,  34.6147,2,    80.76,1,   75.70,2,  159.46,2,   41.56,2,    0.02,2,    2.92,2,-999.000,9,-999.000,9,-999.000,9,  -999.0,9,  -999.0,9, -999.000,  -999.00, -999.00,9, -999.00,  -999.0,9,  -999.0,  27.6920,2
49NZ200107_1,       P17N,      81,          1,         11,         11,2,20010823,       1040,    52.4540,  -154.3753,       4553,  2436.8,   1.7018,2,  34.6300,2,  34.6301,2,    91.33,1,   86.78,2,  159.81,2,   40.83,2,    0.02,2,    2.85,2,-999.000,9,-999.000,9,-999.000,9,  -999.0,9,  -999.0,9, -999.000,  -999.00, -999.00,9, -999.00,  -999.0,9,  -999.0,  27.7108,2
49NZ200107_1,       P17N,      81,          1,         10,         10,2,20010823,       1040,    52.4540,  -154.3753,       4553,  2642.1,   1.6380,2,  34.6423,2,  34.6425,2,   101.92,1,   98.05,2,  158.41,2,   39.94,2,    0.02,2,    2.81,2,-999.000,9,-999.000,9,-999.000,9,  -999.0,9,  -999.0,9, -999.000,  -999.00, -999.00,9, -999.00,  -999.0,9,  -999.0,  27.7266,2
49NZ200107_1,       P17N,      81,          1,          9,          9,3,20010823,       1040,    52.4540,  -154.3753,       4553,  2844.1,   1.5907,2,  34.6516,2,  34.6516,2,   110.86,1,  107.16,2,  157.16,2,   39.46,2,    0.02,2,    2.75,2,-999.000,9,-999.000,9,-999.000,9,  -999.0,9,  -999.0,9, -999.000,  -999.00, -999.00,9, -999.00,  -999.0,9,  -999.0,  27.7387,2
49NZ200107_1,       P17N,      81,          1,          8,          8,2,20010823,       1040,    52.4540,  -154.3753,       4553,  3049.9,   1.5463,2,  34.6603,2,  34.6603,2,   120.13,1,  116.45,2,  155.69,2,   38.88,2,    0.02,2,    2.74,2,-999.000,9,-999.000,9,-999.000,9,  -999.0,9,  -999.0,9, -999.000,  -999.00, -999.00,9, -999.00,  -999.0,9,  -999.0,  27.7502,2
49NZ200107_1,       P17N,      81,          1,          7,          7,2,20010823,       1040,    52.4540,  -154.3753,       4553,  3304.7,   1.5049,2,  34.6692,2,  34.6688,2,   130.01,1,  126.43,2,  154.51,2,   38.18,2,    0.02,2,    2.69,2,-999.000,9,-999.000,9,-999.000,9,  -999.0,9,  -999.0,9, -999.000,  -999.00, -999.00,9, -999.00,  -999.0,9,  -999.0,  27.7619,2
49NZ200107_1,       P17N,      81,          1,          6,          6,2,20010823,       1040,    52.4540,  -154.3753,       4553,  3562.3,   1.4845,2,  34.6753,2,  34.6752,2,   137.44,1,  133.48,2,  153.55,2,   37.73,2,    0.02,2,    2.65,2,-999.000,9,-999.000,9,-999.000,9,  -999.0,9,  -999.0,9, -999.000,  -999.00, -999.00,9, -999.00,  -999.0,9,  -999.0,  27.7700,2
49NZ200107_1,       P17N,      81,          1,          5,          5,2,20010823,       1040,    52.4540,  -154.3753,       4553,  3816.5,   1.4815,2,  34.6793,2,  34.6789,2,   142.86,1,  137.79,2,  153.49,2,   37.44,2,    0.02,2,    2.62,2,-999.000,9,-999.000,9,-999.000,9,  -999.0,9,  -999.0,9, -999.000,  -999.00, -999.00,9, -999.00,  -999.0,9,  -999.0,  27.7753,2
49NZ200107_1,       P17N,      81,          1,          4,          4,2,20010823,       1040,    52.4540,  -154.3753,       4553,  4074.3,   1.4879,2,  34.6821,2,  34.6823,2,   147.48,1,  141.26,2,  153.82,2,   37.12,2,    0.02,2,    2.61,2,-999.000,9,-999.000,9,-999.000,9,  -999.0,9,  -999.0,9, -999.000,  -999.00, -999.00,9, -999.00,  -999.0,9,  -999.0,  27.7790,2
49NZ200107_1,       P17N,      81,          1,          3,          3,2,20010823,       1040,    52.4540,  -154.3753,       4553,  4332.2,   1.5024,2,  34.6842,2,  34.6842,2,   151.84,1,  143.36,2,  154.55,2,   37.08,2,    0.01,2,    2.60,2,-999.000,9,-999.000,9,-999.000,9,  -999.0,9,  -999.0,9, -999.000,  -999.00, -999.00,9, -999.00,  -999.0,9,  -999.0,  27.7817,2
49NZ200107_1,       P17N,      81,          1,          2,          2,2,20010823,       1040,    52.4540,  -154.3753,       4553,  4589.9,   1.5112,2,  34.6865,2,  34.6865,2,   157.84,1,  147.49,2,  153.58,2,   36.73,2,    0.02,2,    2.56,2,-999.000,9,-999.000,9,-999.000,9,  -999.0,9,  -999.0,9, -999.000,  -999.00, -999.00,9, -999.00,  -999.0,9,  -999.0,  27.7850,2
49NZ200107_1,       P17N,      81,          1,          1,          1,2,20010823,       1040,    52.4540,  -154.3753,       4553,  4620.7,   1.5103,2,  34.6869,2,  34.6869,2,   158.37,1,  147.85,2,  152.76,2,   36.60,2,    0.03,2,    2.56,2,-999.000,9,-999.000,9,-999.000,9,  -999.0,9,  -999.0,9, -999.000,  -999.00, -999.00,9, -999.00,  -999.0,9,  -999.0,  27.7856,2