BOTTLE,20220817CCHSIOAMB
EXPOCODE,SECT_ID,STNNBR,CASTNO,SAMPNO,BTLNBR,BTLNBR_FLAG_W,DATE,TIME,LATITUDE,LONGITUDE,DEPTH,CTDPRS,CTDTMP,CTDTMP_FLAG_W,CTDSAL,CTDSAL_FLAG_W,SALNTY,SALNTY_FLAG_W,CTDOXY,CTDOXY_FLAG_W,OXYGEN,OXYGEN_FLAG_W,SILCAT,SILCAT_FLAG_W,NITRAT,NITRAT_FLAG_W,NITRIT,NITRIT_FLAG_W,PHSPHT,PHSPHT_FLAG_W,CFC-11,CFC-11_FLAG_W,CFC-12,CFC-12_FLAG_W,CFC113,CFC113_FLAG_W,TCARBN,TCARBN_FLAG_W,ALKALI,ALKALI_FLAG_W,PH_TOT,PH_TMP,DELC13,DELC13_FLAG_W,C13ERR,DELC14,DELC14_FLAG_W,C14ERR,THETA,THETA_FLAG_W
,,,,,,,,,,,METERS,DBAR,ITS-90,,PSS-78,,PSS-78,,UMOL/KG,,UMOL/KG,,UMOL/KG,,UMOL/KG,,UMOL/KG,,UMOL/KG,,PMOL/KG,,PMOL/KG,,PMOL/KG,,UMOL/KG,,UMOL/KG,,,DEG C,/MILLE,,/MILLE,/MILLE,,/MILLE,DEG C,
49NZ200107_1,       P17N,      63,          1,          0,        -99,9,20010816,       2130,    46.5608,  -143.8970,       4630,     4.5,-999.0000,9,-999.0000,9,  32.4364,2,  -999.00,9,  271.44,2,    7.51,2,    5.17,2,    0.09,2,    0.72,2,-999.000,9,-999.000,9,-999.000,9,  -999.0,9,  -999.0,9, -999.000,  -999.00, -999.00,9, -999.00,  -999.0,9,  -999.0,-999.0000,9
49NZ200107_1,       P17N,      63,          1,         36,         36,2,20010816,       2130,    46.5608,  -143.8970,       4630,    10.1,  14.0244,2,  32.4343,2,  32.4341,2,   262.04,1,  272.10,2,    6.77,2,    5.04,2,    0.09,2,    0.72,2,-999.000,9,-999.000,9,-999.000,9,  -999.0,9,  -999.0,9, -999.000,  -999.00, -999.00,9, -999.00,  -999.0,9,  -999.0,  24.2003,2
49NZ200107_1,       P17N,      63,          1,         35,         35,2,20010816,       2130,    46.5608,  -143.8970,       4630,    25.5,   9.1515,2,  32.5258,2,  32.5247,2,   292.14,1,  309.75,2,    9.57,2,    8.15,2,    0.10,2,    0.94,2,-999.000,9,-999.000,9,-999.000,9,  -999.0,9,  -999.0,9, -999.000,  -999.00, -999.00,9, -999.00,  -999.0,9,  -999.0,  25.1580,2
49NZ200107_1,       P17N,      63,          1,         34,         34,2,20010816,       2130,    46.5608,  -143.8970,       4630,    50.5,   7.4759,2,  32.5046,2,  32.5081,2,   282.85,1,  299.29,2,   11.69,2,   10.74,2,    0.18,2,    1.17,2,-999.000,9,-999.000,9,-999.000,9,  -999.0,9,  -999.0,9, -999.000,  -999.00, -999.00,9, -999.00,  -999.0,9,  -999.0,  25.3894,2
49NZ200107_1,       P17N,      63,          1,         33,         33,2,20010816,       2130,    46.5608,  -143.8970,       4630,    76.0,   6.8063,2,  32.5474,2,  32.5586,2,   277.93,1,  294.23,2,   12.56,2,   13.12,2,    0.49,2,    1.24,2,-999.000,9,-999.000,9,-999.000,9,  -999.0,9,  -999.0,9, -999.000,  -999.00, -999.00,9, -999.00,  -999.0,9,  -999.0,  25.5137,2
49NZ200107_1,       P17N,      63,          1,         32,         32,2,20010816,       2130,    46.5608,  -143.8970,       4630,   101.9,   6.3506,2,  32.5941,2,  32.5960,2,   276.23,1,  292.59,2,   14.30,2,   14.42,2,    0.02,2,    1.30,2,-999.000,9,-999.000,9,-999.000,9,  -999.0,9,  -999.0,9, -999.000,  -999.00, -999.00,9, -999.00,  -999.0,9,  -999.0,  25.6094,2
49NZ200107_1,       P17N,      63,          1,         31,         31,2,20010816,       2130,    46.5608,  -143.8970,       4630,   151.5,   5.9779,2,  33.1303,2,  33.1410,2,   241.51,1,  260.00,2,   23.05,2,   19.05,2,    0.02,2,    1.50,2,-999.000,9,-999.000,9,-999.000,9,  -999.0,9,  -999.0,9, -999.000,  -999.00, -999.00,9, -999.00,  -999.0,9,  -999.0,  26.0796,2
49NZ200107_1,       P17N,      63,          1,         30,         30,2,20010816,       2130,    46.5608,  -143.8970,       4630,   202.1,   5.7253,2,  33.7127,2,  33.7133,2,   168.89,1,  182.66,2,   39.64,2,   27.14,2,    0.01,2,    1.94,2,-999.000,9,-999.000,9,-999.000,9,  -999.0,9,  -999.0,9, -999.000,  -999.00, -999.00,9, -999.00,  -999.0,9,  -999.0,  26.5714,2
49NZ200107_1,       P17N,      63,          1,         29,         29,2,20010816,       2130,    46.5608,  -143.8970,       4630,   252.6,   5.3060,2,  33.8395,2,  33.8371,2,   130.28,1,  137.64,2,   52.66,2,   32.22,2,    0.01,2,    2.29,2,-999.000,9,-999.000,9,-999.000,9,  -999.0,9,  -999.0,9, -999.000,  -999.00, -999.00,9, -999.00,  -999.0,9,  -999.0,  26.7222,2
49NZ200107_1,       P17N,      63,          1,         28,         28,2,20010816,       2130,    46.5608,  -143.8970,       4630,   302.7,   4.7647,2,  33.8672,2,  33.8645,2,   103.85,1,  108.38,2,   62.36,2,   36.09,2,    0.01,2,    2.50,2,-999.000,9,-999.000,9,-999.000,9,  -999.0,9,  -999.0,9, -999.000,  -999.00, -999.00,9, -999.00,  -999.0,9,  -999.0,  26.8061,2
49NZ200107_1,       P17N,      63,          1,         27,         27,2,20010816,       2130,    46.5608,  -143.8970,       4630,   353.8,   4.4653,2,  33.9125,2,  33.9119,2,    85.39,1,   87.27,2,   71.06,2,   38.55,2,    0.01,2,    2.69,2,-999.000,9,-999.000,9,-999.000,9,  -999.0,9,  -999.0,9, -999.000,  -999.00, -999.00,9, -999.00,  -999.0,9,  -999.0,  26.8751,2
49NZ200107_1,       P17N,      63,          1,         26,         26,2,20010816,       2130,    46.5608,  -143.8970,       4630,   403.8,   4.3379,2,  33.9731,2,  33.9775,2,    71.34,1,   71.02,2,   79.05,2,   40.05,2,    0.01,2,    2.81,2,-999.000,9,-999.000,9,-999.000,9,  -999.0,9,  -999.0,9, -999.000,  -999.00, -999.00,9, -999.00,  -999.0,9,  -999.0,  26.9371,2
49NZ200107_1,       P17N,      63,          1,         25,         25,2,20010816,       2130,    46.5608,  -143.8970,       4630,   505.4,   4.1648,2,  34.0828,2,  34.0866,2,    50.80,1,   48.94,2,   90.47,2,   41.60,2,    0.01,2,    2.91,2,-999.000,9,-999.000,9,-999.000,9,  -999.0,9,  -999.0,9, -999.000,  -999.00, -999.00,9, -999.00,  -999.0,9,  -999.0,  27.0433,2
49NZ200107_1,       P17N,      63,          1,         24,         24,2,20010816,       2130,    46.5608,  -143.8970,       4630,   606.4,   3.9005,2,  34.1729,2,  34.1729,2,    36.00,1,   32.26,2,  102.16,2,   43.06,2,    0.01,2,    3.01,2,-999.000,9,-999.000,9,-999.000,9,  -999.0,9,  -999.0,9, -999.000,  -999.00, -999.00,9, -999.00,  -999.0,9,  -999.0,  27.1427,2
49NZ200107_1,       P17N,      63,          1,         23,         23,2,20010816,       2130,    46.5608,  -143.8970,       4630,   707.1,   3.5840,2,  34.2355,2,  34.2348,2,    28.75,1,   23.95,2,  112.28,2,   43.83,2,    0.01,2,    3.09,2,-999.000,9,-999.000,9,-999.000,9,  -999.0,9,  -999.0,9, -999.000,  -999.00, -999.00,9, -999.00,  -999.0,9,  -999.0,  27.2245,2
49NZ200107_1,       P17N,      63,          1,         22,         22,2,20010816,       2130,    46.5608,  -143.8970,       4630,   808.4,   3.3395,2,  34.2862,2,  34.2855,2,    23.43,1,   18.05,2,  120.09,2,   44.46,2,    0.01,2,    3.12,2,-999.000,9,-999.000,9,-999.000,9,  -999.0,9,  -999.0,9, -999.000,  -999.00, -999.00,9, -999.00,  -999.0,9,  -999.0,  27.2890,2
49NZ200107_1,       P17N,      63,          1,         21,         21,2,20010816,       2130,    46.5608,  -143.8970,       4630,   909.7,   3.1786,2,  34.3228,2,  34.3238,2,    20.25,1,   13.70,2,  125.88,2,   44.91,2,    0.00,2,    3.16,2,-999.000,9,-999.000,9,-999.000,9,  -999.0,9,  -999.0,9, -999.000,  -999.00, -999.00,9, -999.00,  -999.0,9,  -999.0,  27.3338,2
49NZ200107_1,       P17N,      63,          1,         20,         20,2,20010816,       2130,    46.5608,  -143.8970,       4630,  1010.9,   2.9914,2,  34.3659,2,  34.3658,2,    19.23,1,   12.88,2,  131.96,2,   45.10,2,    0.01,2,    3.18,2,-999.000,9,-999.000,9,-999.000,9,  -999.0,9,  -999.0,9, -999.000,  -999.00, -999.00,9, -999.00,  -999.0,9,  -999.0,  27.3859,2
49NZ200107_1,       P17N,      63,          1,         19,         19,2,20010816,       2130,    46.5608,  -143.8970,       4630,  1112.7,   2.8584,2,  34.3978,2,  34.3968,2,    19.48,1,   12.94,2,  137.62,2,   45.17,2,    0.01,2,    3.16,2,-999.000,9,-999.000,9,-999.000,9,  -999.0,9,  -999.0,9, -999.000,  -999.00, -999.00,9, -999.00,  -999.0,9,  -999.0,  27.4238,2
49NZ200107_1,       P17N,      63,          1,         18,         18,2,20010816,       2130,    46.5608,  -143.8970,       4630,  1213.8,   2.7142,2,  34.4298,2,  34.4296,2,    20.27,1,   13.34,2,  142.41,2,   45.20,2,    0.01,2,    3.15,2,-999.000,9,-999.000,9,-999.000,9,  -999.0,9,  -999.0,9, -999.000,  -999.00, -999.00,9, -999.00,  -999.0,9,  -999.0,  27.4625,2
49NZ200107_1,       P17N,      63,          1,         17,         17,2,20010816,       2130,    46.5608,  -143.8970,       4630,  1315.1,   2.5743,2,  34.4566,2,  34.4572,2,    22.21,1,   15.46,2,  147.54,2,   45.28,2,    0.01,2,    3.18,2,-999.000,9,-999.000,9,-999.000,9,  -999.0,9,  -999.0,9, -999.000,  -999.00, -999.00,9, -999.00,  -999.0,9,  -999.0,  27.4966,2
49NZ200107_1,       P17N,      63,          1,         16,         16,2,20010816,       2130,    46.5608,  -143.8970,       4630,  1417.0,   2.4612,2,  34.4817,2,  34.4810,2,    24.47,1,   17.59,2,  150.30,2,   45.26,2,    0.01,2,    3.18,2,-999.000,9,-999.000,9,-999.000,9,  -999.0,9,  -999.0,9, -999.000,  -999.00, -999.00,9, -999.00,  -999.0,9,  -999.0,  27.5267,2
49NZ200107_1,       P17N,      63,          1,         15,         15,3,20010816,       2130,    46.5608,  -143.8970,       4630,  1615.9,   2.2628,2,  34.5229,2,  34.5219,2,    33.24,1,   26.78,2,  155.44,2,   44.67,2,    0.01,2,    3.13,2,-999.000,9,-999.000,9,-999.000,9,  -999.0,9,  -999.0,9, -999.000,  -999.00, -999.00,9, -999.00,  -999.0,9,  -999.0,  27.5771,2
49NZ200107_1,       P17N,      63,          1,         14,         14,2,20010816,       2130,    46.5608,  -143.8970,       4630,  1823.0,   2.0692,2,  34.5615,2,  34.5607,2,    47.14,1,   41.18,2,  158.48,2,   43.80,2,    0.01,2,    3.06,2,-999.000,9,-999.000,9,-999.000,9,  -999.0,9,  -999.0,9, -999.000,  -999.00, -999.00,9, -999.00,  -999.0,9,  -999.0,  27.6246,2
49NZ200107_1,       P17N,      63,          1,         13,         13,2,20010816,       2130,    46.5608,  -143.8970,       4630,  2026.6,   1.9400,2,  34.5868,2,  34.5868,2,    58.95,1,   54.57,2,  160.39,2,   43.06,2,    0.01,2,    3.00,2,-999.000,9,-999.000,9,-999.000,9,  -999.0,9,  -999.0,9, -999.000,  -999.00, -999.00,9, -999.00,  -999.0,9,  -999.0,  27.6560,2
49NZ200107_1,       P17N,      63,          1,         12,         12,2,20010816,       2130,    46.5608,  -143.8970,       4630,  2230.1,   1.8449,2,  34.6065,2,  34.6060,2,    69.72,1,   65.69,2,  161.65,2,   42.33,2,    0.01,2,    2.97,2,-999.000,9,-999.000,9,-999.000,9,  -999.0,9,  -999.0,9, -999.000,  -999.00, -999.00,9, -999.00,  -999.0,9,  -999.0,  27.6802,2
49NZ200107_1,       P17N,      63,          1,         11,         11,2,20010816,       2130,    46.5608,  -143.8970,       4630,  2434.6,   1.7458,2,  34.6237,2,  34.6232,2,    82.08,1,   78.12,2,  161.46,2,   41.45,2,    0.01,2,    2.89,2,-999.000,9,-999.000,9,-999.000,9,  -999.0,9,  -999.0,9, -999.000,  -999.00, -999.00,9, -999.00,  -999.0,9,  -999.0,  27.7026,2
49NZ200107_1,       P17N,      63,          1,         10,         10,2,20010816,       2130,    46.5608,  -143.8970,       4630,  2638.5,   1.6674,2,  34.6379,2,  34.6381,2,    93.66,1,   91.16,2,  161.18,2,   40.55,2,    0.01,2,    2.84,2,-999.000,9,-999.000,9,-999.000,9,  -999.0,9,  -999.0,9, -999.000,  -999.00, -999.00,9, -999.00,  -999.0,9,  -999.0,  27.7210,2
49NZ200107_1,       P17N,      63,          1,          9,          9,2,20010816,       2130,    46.5608,  -143.8970,       4630,  2842.9,   1.6052,2,  34.6495,2,  34.6497,2,   104.19,1,  103.14,2,  160.56,2,   39.77,2,    0.01,2,    2.79,2,-999.000,9,-999.000,9,-999.000,9,  -999.0,9,  -999.0,9, -999.000,  -999.00, -999.00,9, -999.00,  -999.0,9,  -999.0,  27.7360,2
49NZ200107_1,       P17N,      63,          1,          8,          8,2,20010816,       2130,    46.5608,  -143.8970,       4630,  3047.1,   1.5579,2,  34.6588,2,  34.6591,2,   113.62,1,  112.57,2,  159.80,2,   39.17,2,    0.01,2,    2.74,2,-999.000,9,-999.000,9,-999.000,9,  -999.0,9,  -999.0,9, -999.000,  -999.00, -999.00,9, -999.00,  -999.0,9,  -999.0,  27.7482,2
49NZ200107_1,       P17N,      63,          1,          7,          7,2,20010816,       2130,    46.5608,  -143.8970,       4630,  3302.9,   1.5159,2,  34.6680,2,  34.6679,2,   123.79,1,  122.95,2,  158.82,2,   38.59,2,    0.01,2,    2.69,2,-999.000,9,-999.000,9,-999.000,9,  -999.0,9,  -999.0,9, -999.000,  -999.00, -999.00,9, -999.00,  -999.0,9,  -999.0,  27.7602,2
49NZ200107_1,       P17N,      63,          1,          6,          6,2,20010816,       2130,    46.5608,  -143.8970,       4630,  3558.6,   1.4907,2,  34.6748,2,  34.6748,2,   132.17,1,  130.52,2,  158.14,2,   37.95,2,    0.01,2,    2.66,2,-999.000,9,-999.000,9,-999.000,9,  -999.0,9,  -999.0,9, -999.000,  -999.00, -999.00,9, -999.00,  -999.0,9,  -999.0,  27.7692,2
49NZ200107_1,       P17N,      63,          1,          5,          5,2,20010816,       2130,    46.5608,  -143.8970,       4630,  3815.4,   1.4894,2,  34.6787,2,  34.6787,2,   137.58,1,  134.92,2,  158.60,2,   37.74,2,    0.01,2,    2.63,2,-999.000,9,-999.000,9,-999.000,9,  -999.0,9,  -999.0,9, -999.000,  -999.00, -999.00,9, -999.00,  -999.0,9,  -999.0,  27.7743,2
49NZ200107_1,       P17N,      63,          1,          4,          4,2,20010816,       2130,    46.5608,  -143.8970,       4630,  4072.3,   1.4997,2,  34.6815,2,  34.6814,2,   141.29,1,  136.77,2,  160.09,2,   37.61,2,    0.00,2,    2.62,2,-999.000,9,-999.000,9,-999.000,9,  -999.0,9,  -999.0,9, -999.000,  -999.00, -999.00,9, -999.00,  -999.0,9,  -999.0,  27.7777,2
49NZ200107_1,       P17N,      63,          1,          3,          3,2,20010816,       2130,    46.5608,  -143.8970,       4630,  4329.5,   1.5212,2,  34.6832,2,  34.6832,2,   143.49,1,  138.12,2,  161.84,2,   37.56,2,    0.00,2,    2.62,2,-999.000,9,-999.000,9,-999.000,9,  -999.0,9,  -999.0,9, -999.000,  -999.00, -999.00,9, -999.00,  -999.0,9,  -999.0,  27.7796,2
49NZ200107_1,       P17N,      63,          1,          2,          2,2,20010816,       2130,    46.5608,  -143.8970,       4630,  4586.3,   1.5454,2,  34.6845,2,  34.6846,2,   146.54,1,  138.92,2,  162.01,2,   37.56,2,    0.01,2,    2.56,2,-999.000,9,-999.000,9,-999.000,9,  -999.0,9,  -999.0,9, -999.000,  -999.00, -999.00,9, -999.00,  -999.0,9,  -999.0,  27.7811,2
49NZ200107_1,       P17N,      63,          1,          1,          1,2,20010816,       2130,    46.5608,  -143.8970,       4630,  4697.1,   1.5584,2,  34.6848,2,  34.6851,2,   147.27,1,  138.03,2,  163.05,2,   37.65,2,    0.01,2,    2.60,2,-999.000,9,-999.000,9,-999.000,9,  -999.0,9,  -999.0,9, -999.000,  -999.00, -999.00,9, -999.00,  -999.0,9,  -999.0,  27.7813,2