BOTTLE,20220817CCHSIOAMB
EXPOCODE,SECT_ID,STNNBR,CASTNO,SAMPNO,BTLNBR,BTLNBR_FLAG_W,DATE,TIME,LATITUDE,LONGITUDE,DEPTH,CTDPRS,CTDTMP,CTDTMP_FLAG_W,CTDSAL,CTDSAL_FLAG_W,SALNTY,SALNTY_FLAG_W,CTDOXY,CTDOXY_FLAG_W,OXYGEN,OXYGEN_FLAG_W,SILCAT,SILCAT_FLAG_W,NITRAT,NITRAT_FLAG_W,NITRIT,NITRIT_FLAG_W,PHSPHT,PHSPHT_FLAG_W,CFC-11,CFC-11_FLAG_W,CFC-12,CFC-12_FLAG_W,CFC113,CFC113_FLAG_W,TCARBN,TCARBN_FLAG_W,ALKALI,ALKALI_FLAG_W,PH_TOT,PH_TMP,DELC13,DELC13_FLAG_W,C13ERR,DELC14,DELC14_FLAG_W,C14ERR,THETA,THETA_FLAG_W
,,,,,,,,,,,METERS,DBAR,ITS-90,,PSS-78,,PSS-78,,UMOL/KG,,UMOL/KG,,UMOL/KG,,UMOL/KG,,UMOL/KG,,UMOL/KG,,PMOL/KG,,PMOL/KG,,PMOL/KG,,UMOL/KG,,UMOL/KG,,,DEG C,/MILLE,,/MILLE,/MILLE,,/MILLE,DEG C,
49NZ200107_1,       P17N,      78,          1,          0,        -99,9,20010822,       1813,    51.4732,  -152.5498,       4554,     4.5,-999.0000,9,-999.0000,9,  32.7688,2,  -999.00,9,  278.21,2,   23.88,2,   13.20,2,    0.20,2,    1.20,2,-999.000,1,-999.000,1,-999.000,1,  2018.5,2,  2194.0,3,    7.845,    25.00, -999.00,9, -999.00,  -999.0,9,  -999.0,-999.0000,9
49NZ200107_1,       P17N,      78,          1,         36,         36,2,20010822,       1813,    51.4732,  -152.5498,       4554,    10.9,  11.5190,2,  32.7713,2,  32.7669,2,   266.77,1,  279.05,2,   23.78,2,   13.11,2,    0.19,2,    1.17,2,-999.000,1,-999.000,1,-999.000,1,  2017.4,2,  2192.4,3,    7.847,    25.00,    1.53,2,    0.00,     0.5,2,     4.3,  24.9475,2
49NZ200107_1,       P17N,      78,          1,         35,         35,2,20010822,       1813,    51.4732,  -152.5498,       4554,    25.9,  11.4963,2,  32.7646,2,  32.7674,2,   266.34,1,  278.74,2,   23.66,2,   13.15,2,    0.20,2,    1.18,2,-999.000,1,-999.000,1,-999.000,1,  2018.2,2,  2195.7,3,    7.845,    25.00,    1.60,2,    0.00,     0.0,2,     4.2,  24.9468,2
49NZ200107_1,       P17N,      78,          1,         34,         34,2,20010822,       1813,    51.4732,  -152.5498,       4554,    51.2,   5.1297,2,  32.8806,2,  32.8858,2,   286.91,1,  309.89,2,   29.44,2,   19.77,2,    0.59,2,    1.63,2,-999.000,1,-999.000,1,-999.000,1,  2085.0,2,  2203.5,3,    7.700,    25.00,    0.92,2,    0.00,   -11.0,3,     4.6,  25.9811,2
49NZ200107_1,       P17N,      78,          1,         33,         33,2,20010822,       1813,    51.4732,  -152.5498,       4554,    76.7,   4.4679,2,  32.9425,2,  32.9436,2,   285.79,1,  305.93,2,   32.49,2,   21.76,2,    0.25,2,    1.72,2,-999.000,1,-999.000,1,-999.000,1,  2097.7,2,  2199.3,3,    7.671,    25.00,    0.82,2,    0.00,    -4.5,2,     4.1,  26.1024,2
49NZ200107_1,       P17N,      78,          1,         32,         32,2,20010822,       1813,    51.4732,  -152.5498,       4554,   101.2,   4.1582,2,  33.0277,2,  33.0316,2,   264.79,1,  285.01,2,   36.10,2,   24.24,2,    0.03,2,    1.86,2,-999.000,1,-999.000,1,-999.000,1,  2116.2,2,  2211.3,3,    7.627,    25.00,    0.14,2,    0.00,   -31.1,2,     4.1,  26.2022,2
49NZ200107_1,       P17N,      78,          1,         31,         31,2,20010822,       1813,    51.4732,  -152.5498,       4554,   152.5,   4.0163,2,  33.7257,2,  33.7356,2,    77.05,1,   82.08,2,   69.15,2,   40.78,2,    0.04,2,    2.84,2,-999.000,1,-999.000,1,-999.000,1,  2278.4,2,  2264.8,3,    7.299,    25.00,   -0.57,2,    0.00,   -79.4,2,     3.9,  26.7719,2
49NZ200107_1,       P17N,      78,          1,         30,         30,2,20010822,       1813,    51.4732,  -152.5498,       4554,   202.3,   3.9226,2,  33.8862,2,-999.0000,9,    45.27,1,   44.13,2,   82.62,2,   43.75,2,    0.03,2,    3.03,2,-999.000,1,-999.000,1,-999.000,1,  2313.4,6,  2272.1,3,    7.243,    25.00,   -0.72,6,    0.01,   -93.8,6,     6.8,  26.9094,2
49NZ200107_1,       P17N,      78,          1,         29,         29,2,20010822,       1813,    51.4732,  -152.5498,       4554,   253.8,   3.8344,2,  33.9449,2,  33.9439,2,    36.44,1,   32.52,2,   87.58,2,   44.74,2,    0.03,2,    3.11,2,-999.000,1,-999.000,1,-999.000,1,  2326.4,2,  2291.4,3,    7.237,    25.00,   -0.77,2,    0.00,  -110.1,2,     4.0,  26.9653,2
49NZ200107_1,       P17N,      78,          1,         28,         28,2,20010822,       1813,    51.4732,  -152.5498,       4554,   304.4,   3.7883,2,  34.0037,2,  34.0037,2,    32.50,1,   28.19,2,   93.40,2,   44.80,2,    0.03,2,    3.08,2,-999.000,1,-999.000,1,-999.000,1,  2332.6,2,  2299.4,3,    7.243,    25.00,   -0.73,2,    0.00,  -133.9,3,     3.8,  27.0171,2
49NZ200107_1,       P17N,      78,          1,         27,         27,2,20010822,       1813,    51.4732,  -152.5498,       4554,   354.6,   3.7406,2,  34.0621,2,  34.0607,2,    29.14,1,   25.01,2,   98.88,2,   44.81,2,    0.03,2,    3.12,2,-999.000,1,-999.000,1,-999.000,1,  2338.9,2,  2307.4,3,    7.248,    25.00,   -0.68,2,    0.00,  -132.9,2,     3.9,  27.0686,2
49NZ200107_1,       P17N,      78,          1,         26,         26,2,20010822,       1813,    51.4732,  -152.5498,       4554,   405.1,   3.6969,2,  34.0979,2,  34.1006,2,    27.42,1,   22.82,2,  102.76,2,   44.64,2,    0.03,2,    3.13,2,-999.000,1,-999.000,1,-999.000,1,  2343.9,6,  2314.8,3,    7.252,    25.00,   -0.72,2,    0.00,  -146.9,2,     3.8,  27.1017,2
49NZ200107_1,       P17N,      78,          1,         25,         25,2,20010822,       1813,    51.4732,  -152.5498,       4554,   505.7,   3.5190,2,  34.1813,2,  34.1830,2,    24.71,1,   19.50,2,  112.07,2,   44.70,2,    0.03,2,    3.12,2,-999.000,1,-999.000,1,-999.000,1,  2355.8,2,  2328.6,3,    7.262,    25.00,   -0.70,2,    0.01,  -165.4,2,     3.7,  27.1862,2
49NZ200107_1,       P17N,      78,          1,         24,         24,2,20010822,       1813,    51.4732,  -152.5498,       4554,   607.0,   3.3397,2,  34.2467,2,  34.2464,2,    24.64,1,   19.49,2,  119.63,2,   44.77,2,    0.03,2,    3.15,2,-999.000,1,-999.000,1,-999.000,1,  2362.2,2,  2334.7,3,    7.272,    25.00,   -0.66,2,    0.00,  -179.6,2,     3.8,  27.2561,2
49NZ200107_1,       P17N,      78,          1,         23,         23,3,20010822,       1813,    51.4732,  -152.5498,       4554,   708.2,   3.1798,2,  34.2893,2,  34.2924,2,    25.15,1,   19.00,2,  125.70,2,   44.64,2,    0.02,2,    3.14,2,-999.000,1,-999.000,1,-999.000,1,  2368.7,2,  2350.1,3,    7.278,    25.00,   -0.73,2,    0.00,  -189.6,2,     3.8,  27.3056,2
49NZ200107_1,       P17N,      78,          1,         22,         22,2,20010822,       1813,    51.4732,  -152.5498,       4554,   809.5,   3.0342,2,  34.3289,2,  34.3295,2,    25.50,1,   19.80,2,  130.34,2,   44.80,2,    0.03,2,    3.15,2,-999.000,1,-999.000,1,-999.000,1,  2373.5,6,  2349.9,3,    7.282,    25.00,   -0.72,2,    0.00,  -195.5,2,     3.8,  27.3511,2
49NZ200107_1,       P17N,      78,          1,         21,         21,2,20010822,       1813,    51.4732,  -152.5498,       4554,   910.6,   2.9078,2,  34.3634,2,  34.3631,2,    26.46,1,   20.67,2,  134.78,2,   44.77,2,    0.02,2,    3.16,2,-999.000,1,-999.000,1,-999.000,1,  2378.8,2,  2366.5,3,    7.289,    25.00,   -0.63,2,    0.00,  -208.4,2,     3.5,  27.3906,2
49NZ200107_1,       P17N,      78,          1,         20,         20,2,20010822,       1813,    51.4732,  -152.5498,       4554,  1011.8,   2.7626,2,  34.3993,2,  34.3993,2,    28.08,1,   21.49,2,  139.35,2,   44.73,2,    0.03,2,    3.16,2,-999.000,1,-999.000,1,-999.000,1,  2381.9,2,  2364.9,3,    7.296,    25.00,   -0.63,2,    0.01,  -212.2,2,     3.4,  27.4327,2
49NZ200107_1,       P17N,      78,          1,         19,         19,3,20010822,       1813,    51.4732,  -152.5498,       4554,  1113.1,   2.6439,2,  34.4281,2,  34.4258,2,    29.30,1,   23.09,2,  143.00,2,   44.78,2,    0.03,2,    3.12,2,-999.000,1,-999.000,1,-999.000,1,  2382.6,2,  2377.4,3,    7.302,    25.00,   -0.71,2,    0.01,  -226.0,2,     3.6,  27.4666,2
49NZ200107_1,       P17N,      78,          1,         18,         18,2,20010822,       1813,    51.4732,  -152.5498,       4554,  1214.8,   2.5121,2,  34.4582,2,  34.4593,2,    31.15,1,   25.80,2,  146.83,2,   44.56,2,    0.03,2,    3.12,2,-999.000,1,-999.000,1,-999.000,1,  2388.8,6,  2381.1,3,    7.308,    25.00,   -0.60,6,    0.03,  -225.8,6,     4.0,  27.5024,2
49NZ200107_1,       P17N,      78,          1,         17,         17,2,20010822,       1813,    51.4732,  -152.5498,       4554,  1316.4,   2.3996,2,  34.4831,2,  34.4834,2,    34.06,1,   27.67,2,  150.16,2,   44.73,2,    0.03,2,    3.13,2,-999.000,1,-999.000,1,-999.000,1,  2392.0,2,  2385.3,3,    7.314,    25.00,   -0.59,2,    0.00,  -231.0,2,     3.4,  27.5322,2
49NZ200107_1,       P17N,      78,          1,         16,         16,2,20010822,       1813,    51.4732,  -152.5498,       4554,  1417.4,   2.2974,2,  34.5065,2,  34.5060,2,    37.38,1,   30.68,2,  152.89,2,   44.40,2,    0.03,2,    3.10,2,-999.000,1,-999.000,1,-999.000,1,  2394.9,2,  2385.4,3,    7.323,    25.00,   -0.58,2,    0.00,  -226.4,2,     3.6,  27.5599,2
49NZ200107_1,       P17N,      78,          1,         15,         15,2,20010822,       1813,    51.4732,  -152.5498,       4554,  1620.8,   2.1464,2,  34.5407,2,  34.5401,2,    44.90,1,   38.67,2,  155.90,2,   44.06,2,    0.02,2,    3.07,2,-999.000,1,-999.000,1,-999.000,1,  2392.6,2,  2398.9,3,    7.340,    25.00,   -0.53,2,    0.01,  -238.6,2,     3.2,  27.6006,2
49NZ200107_1,       P17N,      78,          1,         14,         14,2,20010822,       1813,    51.4732,  -152.5498,       4554,  1823.8,   2.0238,2,  34.5679,2,  34.5677,2,    52.31,1,   46.49,2,  158.65,2,   43.77,2,    0.03,2,    3.05,2,-999.000,1,-999.000,1,-999.000,1,  2392.0,2,  2400.1,3,    7.358,    25.00,   -0.49,2,    0.00,  -244.3,2,     3.5,  27.6332,2
49NZ200107_1,       P17N,      78,          1,         13,         13,2,20010822,       1813,    51.4732,  -152.5498,       4554,  2027.9,   1.9154,2,  34.5907,2,  34.5907,2,    61.63,1,   55.89,2,  160.83,2,   43.13,2,    0.03,2,    3.00,2,-999.000,1,-999.000,1,-999.000,1,  2389.0,2,  2409.0,3,    7.377,    25.00,   -0.40,2,    0.01,  -241.7,2,     3.3,  27.6610,2
49NZ200107_1,       P17N,      78,          1,         12,         12,2,20010822,       1813,    51.4732,  -152.5498,       4554,  2231.7,   1.8227,2,  34.6090,2,  34.6088,2,    72.66,1,   67.78,2,  160.68,2,   42.47,2,    0.03,2,    2.94,2,-999.000,1,-999.000,1,-999.000,1,  2381.6,2,  2411.2,3,    7.402,    25.00,   -0.36,2,    0.00,  -240.7,2,     3.3,  27.6839,2
49NZ200107_1,       P17N,      78,          1,         11,         11,2,20010822,       1813,    51.4732,  -152.5498,       4554,  2435.6,   1.7349,2,  34.6257,2,  34.6257,2,    84.38,1,   80.30,2,  161.02,2,   41.59,2,    0.03,2,    2.83,2,-999.000,9,-999.000,9,-999.000,9,  -999.0,9,  -999.0,9, -999.000,  -999.00, -999.00,9, -999.00,  -999.0,9,  -999.0,  27.7050,2
49NZ200107_1,       P17N,      78,          1,         10,         10,2,20010822,       1813,    51.4732,  -152.5498,       4554,  2639.3,   1.6485,2,  34.6410,2,  34.6405,2,    97.51,1,   93.84,2,  159.68,2,   40.65,2,    0.02,2,    2.79,2,-999.000,1,-999.000,1,-999.000,1,  2366.5,2,  2410.1,3,    7.453,    25.00,   -0.21,2,    0.01,  -244.3,2,     3.3,  27.7248,2
49NZ200107_1,       P17N,      78,          1,          9,          9,3,20010822,       1813,    51.4732,  -152.5498,       4554,  2843.9,   1.6351,2,  34.6457,2,  34.6456,2,   101.96,1,   98.58,2,  159.28,2,   40.27,2,    0.02,2,    2.77,2,-999.000,9,-999.000,9,-999.000,9,  -999.0,9,  -999.0,9, -999.000,  -999.00, -999.00,9, -999.00,  -999.0,9,  -999.0,  27.7309,2
49NZ200107_1,       P17N,      78,          1,          8,          8,2,20010822,       1813,    51.4732,  -152.5498,       4554,  3048.8,   1.6049,2,  34.6525,2,  34.6526,2,   110.09,1,  106.55,2,  157.76,2,   39.73,2,    0.02,2,    2.73,2,-999.000,1,-999.000,1,-999.000,1,  2359.3,6,  2409.5,3,    7.475,    25.00,   -0.16,6,    0.00,  -239.9,6,     2.5,  27.7399,2
49NZ200107_1,       P17N,      78,          1,          7,          7,2,20010822,       1813,    51.4732,  -152.5498,       4554,  3304.0,   1.5385,2,  34.6650,2,  34.6641,3,   123.21,1,  120.13,2,  155.15,2,   38.83,2,    0.02,2,    2.66,2,-999.000,9,-999.000,9,-999.000,9,  -999.0,9,  -999.0,9, -999.000,  -999.00, -999.00,9, -999.00,  -999.0,9,  -999.0,  27.7563,2
49NZ200107_1,       P17N,      78,          1,          6,          6,2,20010822,       1813,    51.4732,  -152.5498,       4554,  3560.4,   1.5101,2,  34.6721,2,  34.6720,2,   132.09,1,  128.91,2,  153.84,2,   38.30,2,    0.02,2,    2.62,2,-999.000,1,-999.000,1,-999.000,1,  2343.7,2,  2414.4,3,    7.519,    25.00,   -0.03,2,    0.01,  -236.8,2,     3.5,  27.7657,2
49NZ200107_1,       P17N,      78,          1,          5,          5,2,20010822,       1813,    51.4732,  -152.5498,       4554,  3816.9,   1.4948,2,  34.6776,2,  34.6776,2,   139.09,1,  135.36,2,  153.20,2,   37.84,2,    0.02,2,    2.58,2,-999.000,9,-999.000,9,-999.000,9,  -999.0,9,  -999.0,9, -999.000,  -999.00, -999.00,9, -999.00,  -999.0,9,  -999.0,  27.7730,2
49NZ200107_1,       P17N,      78,          1,          4,          4,2,20010822,       1813,    51.4732,  -152.5498,       4554,  4074.9,   1.4929,2,  34.6816,2,  34.6814,2,   144.69,1,  139.95,2,  152.98,2,   37.54,2,    0.02,2,    2.55,2,-999.000,1,-999.000,1,-999.000,1,  2336.4,2,  2421.0,3,    7.543,    25.00,    0.06,2,    0.01,  -226.4,2,     3.2,  27.7783,2
49NZ200107_1,       P17N,      78,          1,          3,          3,2,20010822,       1813,    51.4732,  -152.5498,       4554,  4331.8,   1.5069,2,  34.6840,2,  34.6842,2,   148.04,1,  142.13,2,  154.26,2,   37.43,2,    0.02,2,    2.56,2,-999.000,9,-999.000,9,-999.000,9,  -999.0,9,  -999.0,9, -999.000,  -999.00, -999.00,9, -999.00,  -999.0,9,  -999.0,  27.7812,2
49NZ200107_1,       P17N,      78,          1,          2,          2,2,20010822,       1813,    51.4732,  -152.5498,       4554,  4589.4,   1.5333,2,  34.6854,2,  34.6855,2,   150.52,1,  142.68,2,  159.24,2,   37.10,2,    0.03,2,    2.53,2,-999.000,1,-999.000,1,-999.000,1,  2336.4,2,  2421.8,3,    7.551,    25.00,    0.09,2,    0.00,  -215.2,3,     3.6,  27.7826,2
49NZ200107_1,       P17N,      78,          1,          1,          1,2,20010822,       1813,    51.4732,  -152.5498,       4554,  4635.9,   1.5388,2,  34.6854,2,  34.6853,2,   151.18,1,  142.38,2,  159.35,2,   37.37,2,    0.02,2,    2.54,2,-999.000,1,-999.000,1,-999.000,1,  2338.6,2,  2418.0,3,    7.551,    25.00,    0.10,2,    0.00,  -219.4,2,     3.6,  27.7827,2