BOTTLE,20220817CCHSIOAMB
EXPOCODE,SECT_ID,STNNBR,CASTNO,SAMPNO,BTLNBR,BTLNBR_FLAG_W,DATE,TIME,LATITUDE,LONGITUDE,DEPTH,CTDPRS,CTDTMP,CTDTMP_FLAG_W,CTDSAL,CTDSAL_FLAG_W,SALNTY,SALNTY_FLAG_W,CTDOXY,CTDOXY_FLAG_W,OXYGEN,OXYGEN_FLAG_W,SILCAT,SILCAT_FLAG_W,NITRAT,NITRAT_FLAG_W,NITRIT,NITRIT_FLAG_W,PHSPHT,PHSPHT_FLAG_W,CFC-11,CFC-11_FLAG_W,CFC-12,CFC-12_FLAG_W,CFC113,CFC113_FLAG_W,TCARBN,TCARBN_FLAG_W,ALKALI,ALKALI_FLAG_W,PH_TOT,PH_TMP,DELC13,DELC13_FLAG_W,C13ERR,DELC14,DELC14_FLAG_W,C14ERR,THETA,THETA_FLAG_W
,,,,,,,,,,,METERS,DBAR,ITS-90,,PSS-78,,PSS-78,,UMOL/KG,,UMOL/KG,,UMOL/KG,,UMOL/KG,,UMOL/KG,,UMOL/KG,,PMOL/KG,,PMOL/KG,,PMOL/KG,,UMOL/KG,,UMOL/KG,,,DEG C,/MILLE,,/MILLE,/MILLE,,/MILLE,DEG C,
49NZ200107_1,       P17N,      76,          1,          0,        -99,9,20010822,       0458,    50.8330,  -151.3230,       4995,     4.5,-999.0000,9,-999.0000,9,-999.0000,9,  -999.00,9, -999.00,9, -999.00,9, -999.00,9, -999.00,9, -999.00,9,-999.000,9,-999.000,9,-999.000,9,  -999.0,9,  -999.0,9, -999.000,  -999.00, -999.00,9, -999.00,  -999.0,9,  -999.0,-999.0000,9
49NZ200107_1,       P17N,      76,          1,         36,         36,2,20010822,       0458,    50.8330,  -151.3230,       4995,    12.1,  11.0702,2,  32.6236,2,  32.6208,2,   265.71,1,  283.90,2,   12.81,2,   11.94,2,    0.19,2,    1.13,2,-999.000,1,-999.000,1,-999.000,1,  2010.6,2,  2183.2,3,    7.849,    25.00, -999.00,9, -999.00,  -999.0,9,  -999.0,  24.9133,2
49NZ200107_1,       P17N,      76,          1,         35,         35,2,20010822,       0458,    50.8330,  -151.3230,       4995,    26.1,  10.1207,2,  32.6073,2,  32.6494,2,   276.28,1,  294.26,2,   10.29,2,   12.38,2,    0.22,2,    1.20,2,-999.000,1,-999.000,1,-999.000,1,  2025.5,2,  2187.3,3,    7.828,    25.00, -999.00,9, -999.00,  -999.0,9,  -999.0,  25.0644,2
49NZ200107_1,       P17N,      76,          1,         34,         34,2,20010822,       0458,    50.8330,  -151.3230,       4995,    52.0,   4.7811,2,  32.7667,2,  32.7663,2,   281.54,1,  306.23,2,   24.53,2,   18.36,2,    0.04,2,    1.53,2,-999.000,1,-999.000,1,-999.000,1,  2073.5,2,  2191.2,3,    7.715,    25.00, -999.00,9, -999.00,  -999.0,9,  -999.0,  25.9293,2
49NZ200107_1,       P17N,      76,          1,         33,         33,2,20010822,       0458,    50.8330,  -151.3230,       4995,    76.8,   4.4604,2,  32.8247,2,  32.8247,2,   278.76,1,  303.69,2,   27.53,2,   19.65,2,    0.04,2,    1.60,2,-999.000,1,-999.000,1,-999.000,1,  2084.2,2,  2197.2,3,    7.698,    25.00, -999.00,9, -999.00,  -999.0,9,  -999.0,  26.0097,2
49NZ200107_1,       P17N,      76,          1,         32,         32,2,20010822,       0458,    50.8330,  -151.3230,       4995,   102.0,   4.1855,2,  32.9361,2,  32.9589,2,   256.29,1,  280.71,2,   32.84,2,   22.35,2,    0.02,2,    1.76,2,-999.000,1,-999.000,1,-999.000,1,  2108.0,2,  2204.8,3,    7.636,    25.00, -999.00,9, -999.00,  -999.0,9,  -999.0,  26.1266,2
49NZ200107_1,       P17N,      76,          1,         31,         31,2,20010822,       0458,    50.8330,  -151.3230,       4995,   152.2,   3.9534,2,  33.6721,2,  33.6816,3,    94.62,1,  103.63,2,   65.17,2,   38.22,2,    0.02,2,    2.70,2,-999.000,1,-999.000,1,-999.000,1,  2262.3,2,  2256.9,3,    7.330,    25.00, -999.00,9, -999.00,  -999.0,9,  -999.0,  26.7356,2
49NZ200107_1,       P17N,      76,          1,         30,         30,2,20010822,       0458,    50.8330,  -151.3230,       4995,   202.1,   3.8617,2,  33.8300,2,  33.8274,2,    63.63,1,   63.70,2,   75.91,2,   41.80,2,    0.02,2,    2.90,2,-999.000,1,-999.000,1,-999.000,1,  2298.5,6,  2274.3,3,    7.267,    25.00, -999.00,9, -999.00,  -999.0,9,  -999.0,  26.8708,2
49NZ200107_1,       P17N,      76,          1,         29,         29,2,20010822,       0458,    50.8330,  -151.3230,       4995,   254.0,   3.8310,2,  33.8924,2,  33.8902,2,    52.32,1,   51.08,2,   82.08,2,   42.85,2,    0.03,2,    2.99,2,-999.000,1,-999.000,1,-999.000,1,  2311.4,2,  2279.2,3,    7.259,    25.00, -999.00,9, -999.00,  -999.0,9,  -999.0,  26.9239,2
49NZ200107_1,       P17N,      76,          1,         28,         28,2,20010822,       0458,    50.8330,  -151.3230,       4995,   303.9,   3.7988,2,  33.9515,2,  33.9533,2,    39.00,1,   35.35,2,   89.10,2,   43.92,2,    0.03,2,    3.05,2,-999.000,1,-999.000,1,-999.000,1,  2324.9,2,  2290.3,3,    7.242,    25.00, -999.00,9, -999.00,  -999.0,9,  -999.0,  26.9744,2
49NZ200107_1,       P17N,      76,          1,         27,         27,2,20010822,       0458,    50.8330,  -151.3230,       4995,   354.5,   3.7685,2,  34.0154,2,  34.0156,2,    33.68,1,   28.96,2,   94.91,2,   44.16,2,    0.03,2,    3.11,2,-999.000,1,-999.000,1,-999.000,1,  2332.4,2,  2298.8,3,    7.239,    25.00, -999.00,9, -999.00,  -999.0,9,  -999.0,  27.0287,2
49NZ200107_1,       P17N,      76,          1,         26,         26,2,20010822,       0458,    50.8330,  -151.3230,       4995,   404.5,   3.7355,2,  34.0662,2,  34.0668,2,    32.03,1,   27.97,2,   99.26,2,   43.90,2,    0.03,2,    3.12,2,-999.000,1,-999.000,1,-999.000,1,  2338.5,6,  2304.3,3,    7.254,    25.00, -999.00,9, -999.00,  -999.0,9,  -999.0,  27.0727,2
49NZ200107_1,       P17N,      76,          1,         25,         25,2,20010822,       0458,    50.8330,  -151.3230,       4995,   506.0,   3.6272,2,  34.1594,2,  34.1599,2,    29.68,1,   24.04,2,  107.89,2,   43.83,2,    0.03,2,    3.09,2,-999.000,1,-999.000,1,-999.000,1,  2347.7,2,  2320.0,3,    7.267,    25.00, -999.00,9, -999.00,  -999.0,9,  -999.0,  27.1583,2
49NZ200107_1,       P17N,      76,          1,         24,         24,2,20010822,       0458,    50.8330,  -151.3230,       4995,   606.7,   3.4439,2,  34.2260,2,  34.2263,2,    27.65,1,   22.08,2,  115.70,2,   43.96,2,    0.03,2,    3.12,2,-999.000,1,-999.000,1,-999.000,1,  2357.6,2,  2331.7,3,    7.274,    25.00, -999.00,9, -999.00,  -999.0,9,  -999.0,  27.2297,2
49NZ200107_1,       P17N,      76,          1,         23,         23,2,20010822,       0458,    50.8330,  -151.3230,       4995,   707.6,   3.2764,2,  34.2841,2,  34.2849,2,    28.08,1,   22.24,2,  122.60,2,   43.75,2,    0.03,2,    3.13,2,-999.000,1,-999.000,1,-999.000,1,  2365.8,2,  2342.5,3,    7.286,    25.00, -999.00,9, -999.00,  -999.0,9,  -999.0,  27.2925,2
49NZ200107_1,       P17N,      76,          1,         22,         22,2,20010822,       0458,    50.8330,  -151.3230,       4995,   808.8,   3.1152,2,  34.3266,2,  34.3253,2,    27.79,1,   22.13,2,  127.62,2,   44.10,2,    0.03,2,    3.14,2,-999.000,1,-999.000,1,-999.000,1,  2372.1,6,  2351.5,3,    7.289,    25.00, -999.00,9, -999.00,  -999.0,9,  -999.0,  27.3419,2
49NZ200107_1,       P17N,      76,          1,         21,         21,2,20010822,       0458,    50.8330,  -151.3230,       4995,   910.8,   2.9655,2,  34.3624,2,  34.3606,2,    26.83,1,   20.06,2,  132.58,2,   44.29,2,    0.03,2,    3.16,2,-999.000,1,-999.000,1,-999.000,1,  2377.9,2,  2358.6,3,    7.291,    25.00, -999.00,9, -999.00,  -999.0,9,  -999.0,  27.3847,2
49NZ200107_1,       P17N,      76,          1,         20,         20,2,20010822,       0458,    50.8330,  -151.3230,       4995,  1011.8,   2.8283,2,  34.3934,2,  34.3928,2,    26.61,1,   19.63,2,  137.85,2,   44.45,2,    0.03,2,    3.18,2,-999.000,1,-999.000,1,-999.000,1,  2383.9,2,  2365.0,3,    7.294,    25.00, -999.00,9, -999.00,  -999.0,9,  -999.0,  27.4223,2
49NZ200107_1,       P17N,      76,          1,         19,         19,2,20010822,       0458,    50.8330,  -151.3230,       4995,  1113.6,   2.7067,2,  34.4196,2,  34.4199,2,    27.34,1,   20.25,2,  141.35,2,   44.54,2,    0.03,2,    3.14,2,-999.000,1,-999.000,1,-999.000,1,  2384.5,2,  2371.5,3,    7.298,    25.00, -999.00,9, -999.00,  -999.0,9,  -999.0,  27.4544,2
49NZ200107_1,       P17N,      76,          1,         18,         18,2,20010822,       0458,    50.8330,  -151.3230,       4995,  1216.6,   2.5777,2,  34.4483,2,  34.4467,2,    28.47,1,   21.14,2,  145.20,2,   44.44,2,    0.03,2,    3.15,2,-999.000,1,-999.000,1,-999.000,1,  2389.7,6,  2375.8,3,    7.304,    25.00, -999.00,9, -999.00,  -999.0,9,  -999.0,  27.4890,2
49NZ200107_1,       P17N,      76,          1,         17,         17,2,20010822,       0458,    50.8330,  -151.3230,       4995,  1417.5,   2.3653,2,  34.4954,2,  34.4949,2,    31.50,1,   24.10,2,  151.98,2,   44.57,2,    0.03,2,    3.15,2,-999.000,1,-999.000,1,-999.000,1,  2397.3,2,  2385.8,3,    7.313,    25.00, -999.00,9, -999.00,  -999.0,9,  -999.0,  27.5455,2
49NZ200107_1,       P17N,      76,          1,         16,         16,2,20010822,       0458,    50.8330,  -151.3230,       4995,  1621.4,   2.1965,2,  34.5322,2,  34.5314,2,    39.07,1,   31.86,2,  156.41,2,   44.14,2,    0.03,2,    3.13,2,-999.000,1,-999.000,1,-999.000,1,  2395.6,2,  2389.1,3,    7.330,    25.00, -999.00,9, -999.00,  -999.0,9,  -999.0,  27.5899,2
49NZ200107_1,       P17N,      76,          1,         15,         15,2,20010822,       0458,    50.8330,  -151.3230,       4995,  1823.8,   2.0601,2,  34.5619,2,  34.5615,2,    47.97,1,   41.16,2,  159.03,2,   43.70,2,    0.03,2,    3.08,2,-999.000,1,-999.000,1,-999.000,1,  2393.5,2,  2398.1,3,    7.350,    25.00, -999.00,9, -999.00,  -999.0,9,  -999.0,  27.6256,2
49NZ200107_1,       P17N,      76,          1,         14,         14,2,20010822,       0458,    50.8330,  -151.3230,       4995,  2027.4,   1.9367,2,  34.5864,2,  34.5863,2,    59.23,1,   53.54,2,  160.66,2,   42.91,2,    0.03,2,    3.02,2,-999.000,1,-999.000,1,-999.000,1,  2389.5,2,  2399.4,3,    7.375,    25.00, -999.00,9, -999.00,  -999.0,9,  -999.0,  27.6559,2
49NZ200107_1,       P17N,      76,          1,         13,         13,2,20010822,       0458,    50.8330,  -151.3230,       4995,  2231.5,   1.8384,2,  34.6060,2,  34.6062,2,    69.73,1,   65.26,2,  161.59,2,   42.17,2,    0.03,2,    2.97,2,-999.000,1,-999.000,1,-999.000,1,  2381.5,2,  2403.9,3,    7.397,    25.00, -999.00,9, -999.00,  -999.0,9,  -999.0,  27.6803,2
49NZ200107_1,       P17N,      76,          1,         12,         12,2,20010822,       0458,    50.8330,  -151.3230,       4995,  2436.3,   1.7566,2,  34.6222,2,  34.6222,2,    80.67,1,   77.26,2,  161.37,2,   41.40,2,    0.04,2,    2.93,2,-999.000,9,-999.000,9,-999.000,9,  -999.0,9,  -999.0,9, -999.000,  -999.00, -999.00,9, -999.00,  -999.0,9,  -999.0,  27.7006,2
49NZ200107_1,       P17N,      76,          1,         11,         11,2,20010822,       0458,    50.8330,  -151.3230,       4995,  2639.5,   1.6901,2,  34.6349,2,  34.6349,2,    91.29,1,   88.79,2,  160.67,2,   40.68,2,    0.03,2,    2.83,2,-999.000,1,-999.000,1,-999.000,1,  2370.3,2,  2404.5,3,    7.443,    25.00, -999.00,9, -999.00,  -999.0,9,  -999.0,  27.7169,2
49NZ200107_1,       P17N,      76,          1,         10,         10,2,20010822,       0458,    50.8330,  -151.3230,       4995,  2845.0,   1.6369,2,  34.6456,2,  34.6455,2,   100.37,1,   98.60,2,  159.45,2,   40.04,2,    0.03,2,    2.81,2,-999.000,9,-999.000,9,-999.000,9,  -999.0,9,  -999.0,9, -999.000,  -999.00, -999.00,9, -999.00,  -999.0,9,  -999.0,  27.7307,2
49NZ200107_1,       P17N,      76,          1,          9,          9,2,20010822,       0458,    50.8330,  -151.3230,       4995,  3050.3,   1.5892,2,  34.6551,2,  34.6551,2,   111.42,1,  107.95,2,  158.96,2,   39.37,2,    0.03,2,    2.76,2,-999.000,1,-999.000,1,-999.000,1,  2358.4,6,  2408.0,3,    7.480,    25.00, -999.00,9, -999.00,  -999.0,9,  -999.0,  27.7430,2
49NZ200107_1,       P17N,      76,          1,          8,          8,2,20010822,       0458,    50.8330,  -151.3230,       4995,  3303.7,   1.5385,2,  34.6652,2,  34.6648,2,   122.79,1,  120.16,2,  156.98,2,   38.56,2,    0.03,2,    2.71,2,-999.000,9,-999.000,9,-999.000,9,  -999.0,9,  -999.0,9, -999.000,  -999.00, -999.00,9, -999.00,  -999.0,9,  -999.0,  27.7564,2
49NZ200107_1,       P17N,      76,          1,          7,          7,2,20010822,       0458,    50.8330,  -151.3230,       4995,  3560.6,   1.5103,2,  34.6723,2,  34.6722,2,   131.92,1,  128.81,2,  155.65,2,   38.00,2,    0.03,2,    2.66,2,-999.000,1,-999.000,1,-999.000,1,  2345.4,2,  2408.5,3,    7.521,    25.00, -999.00,9, -999.00,  -999.0,9,  -999.0,  27.7658,2
49NZ200107_1,       P17N,      76,          1,          6,          6,2,20010822,       0458,    50.8330,  -151.3230,       4995,  3817.2,   1.4952,2,  34.6777,2,  34.6777,2,   139.01,1,  135.04,2,  155.35,2,   37.60,2,    0.02,2,    2.63,2,-999.000,9,-999.000,9,-999.000,9,  -999.0,9,  -999.0,9, -999.000,  -999.00, -999.00,9, -999.00,  -999.0,9,  -999.0,  27.7731,2
49NZ200107_1,       P17N,      76,          1,          5,          5,2,20010822,       0458,    50.8330,  -151.3230,       4995,  4073.8,   1.4984,2,  34.6810,2,  34.6812,2,   144.26,1,  138.94,2,  155.80,2,   37.27,2,    0.02,2,    2.59,2,-999.000,1,-999.000,1,-999.000,1,  2339.1,2,  2412.8,3,    7.543,    25.00, -999.00,9, -999.00,  -999.0,9,  -999.0,  27.7774,2
49NZ200107_1,       P17N,      76,          1,          4,          4,2,20010822,       0458,    50.8330,  -151.3230,       4995,  4332.1,   1.5124,2,  34.6833,2,  34.6834,2,   148.10,1,  140.97,2,  157.05,2,   37.17,2,    0.02,2,    2.58,2,-999.000,9,-999.000,9,-999.000,9,  -999.0,9,  -999.0,9, -999.000,  -999.00, -999.00,9, -999.00,  -999.0,9,  -999.0,  27.7803,2
49NZ200107_1,       P17N,      76,          1,          3,          3,2,20010822,       0458,    50.8330,  -151.3230,       4995,  4588.4,   1.5339,2,  34.6850,2,  34.6850,2,   151.91,1,  142.48,2,  159.12,2,   37.12,2,    0.02,2,    2.58,2,-999.000,1,-999.000,1,-999.000,1,  2339.2,2,  2415.5,3,    7.551,    25.00, -999.00,9, -999.00,  -999.0,9,  -999.0,  27.7823,2
49NZ200107_1,       P17N,      76,          1,          2,          2,2,20010822,       0458,    50.8330,  -151.3230,       4995,  4846.9,   1.5616,2,  34.6861,2,  34.6865,2,   154.06,1,  142.11,2,  159.27,2,   37.19,2,    0.03,2,    2.55,2,-999.000,9,-999.000,9,-999.000,9,  -999.0,9,  -999.0,9, -999.000,  -999.00, -999.00,9, -999.00,  -999.0,9,  -999.0,  27.7835,2
49NZ200107_1,       P17N,      76,          1,          1,          1,2,20010822,       0458,    50.8330,  -151.3230,       4995,  5070.4,   1.5884,2,  34.6866,2,  34.6862,2,   157.53,1,  142.52,2,  159.11,2,   37.04,2,    0.04,2,    2.56,2,-999.000,1,-999.000,1,-999.000,1,  2340.8,2,  2418.0,3,    7.556,    25.00, -999.00,9, -999.00,  -999.0,9,  -999.0,  27.7839,2