BOTTLE,20220817CCHSIOAMB
EXPOCODE,SECT_ID,STNNBR,CASTNO,SAMPNO,BTLNBR,BTLNBR_FLAG_W,DATE,TIME,LATITUDE,LONGITUDE,DEPTH,CTDPRS,CTDTMP,CTDTMP_FLAG_W,CTDSAL,CTDSAL_FLAG_W,SALNTY,SALNTY_FLAG_W,CTDOXY,CTDOXY_FLAG_W,OXYGEN,OXYGEN_FLAG_W,SILCAT,SILCAT_FLAG_W,NITRAT,NITRAT_FLAG_W,NITRIT,NITRIT_FLAG_W,PHSPHT,PHSPHT_FLAG_W,CFC-11,CFC-11_FLAG_W,CFC-12,CFC-12_FLAG_W,CFC113,CFC113_FLAG_W,TCARBN,TCARBN_FLAG_W,ALKALI,ALKALI_FLAG_W,PH_TOT,PH_TMP,DELC13,DELC13_FLAG_W,C13ERR,DELC14,DELC14_FLAG_W,C14ERR,THETA,THETA_FLAG_W
,,,,,,,,,,,METERS,DBAR,ITS-90,,PSS-78,,PSS-78,,UMOL/KG,,UMOL/KG,,UMOL/KG,,UMOL/KG,,UMOL/KG,,UMOL/KG,,PMOL/KG,,PMOL/KG,,PMOL/KG,,UMOL/KG,,UMOL/KG,,,DEG C,/MILLE,,/MILLE,/MILLE,,/MILLE,DEG C,
49NZ200107_1,       P17N,      44,          1,          0,        -99,9,20010812,       0625,    40.0002,  -135.0075,       4166,     4.5,-999.0000,9,-999.0000,9,  32.6059,2,  -999.00,9,  249.09,2,    0.52,2,    0.00,2,   -0.01,2,    0.35,2,-999.000,9,-999.000,9,-999.000,9,  -999.0,9,  -999.0,9, -999.000,  -999.00, -999.00,9, -999.00,  -999.0,9,  -999.0,-999.0000,9
49NZ200107_1,       P17N,      44,          1,         36,         36,2,20010812,       0625,    40.0002,  -135.0075,       4166,    11.4,  17.4377,2,  32.6061,2,  32.6048,2,   239.53,1,  249.51,2,    1.42,2,    0.07,2,    0.01,2,    0.29,2,-999.000,9,-999.000,9,-999.000,9,  -999.0,9,  -999.0,9, -999.000,  -999.00, -999.00,9, -999.00,  -999.0,9,  -999.0,  23.5750,2
49NZ200107_1,       P17N,      44,          1,         35,         35,2,20010812,       0625,    40.0002,  -135.0075,       4166,    26.1,  17.3128,2,  32.5912,2,  32.6013,2,   245.10,1,  254.53,2,    0.88,2,    0.03,2,   -0.01,2,    0.29,2,-999.000,9,-999.000,9,-999.000,9,  -999.0,9,  -999.0,9, -999.000,  -999.00, -999.00,9, -999.00,  -999.0,9,  -999.0,  23.5937,2
49NZ200107_1,       P17N,      44,          1,         34,         34,2,20010812,       0625,    40.0002,  -135.0075,       4166,    51.1,  12.0529,2,  32.5940,2,  32.5927,2,   286.13,1,  300.64,2,    2.62,2,    0.03,2,    0.00,2,    0.36,2,-999.000,9,-999.000,9,-999.000,9,  -999.0,9,  -999.0,9, -999.000,  -999.00, -999.00,9, -999.00,  -999.0,9,  -999.0,  24.7123,2
49NZ200107_1,       P17N,      44,          1,         33,         33,2,20010812,       0625,    40.0002,  -135.0075,       4166,    75.7,  10.7278,2,  32.5903,2,  32.5895,2,   262.01,1,  274.30,2,    5.41,2,    3.27,2,    0.90,2,    0.60,2,-999.000,9,-999.000,9,-999.000,9,  -999.0,9,  -999.0,9, -999.000,  -999.00, -999.00,9, -999.00,  -999.0,9,  -999.0,  24.9487,2
49NZ200107_1,       P17N,      44,          1,         32,         32,2,20010812,       0625,    40.0002,  -135.0075,       4166,   101.0,  10.4213,2,  32.6041,2,  32.5998,2,   258.40,1,  270.12,2,    6.02,2,    4.82,2,    0.02,2,    0.66,2,-999.000,9,-999.000,9,-999.000,9,  -999.0,9,  -999.0,9, -999.000,  -999.00, -999.00,9, -999.00,  -999.0,9,  -999.0,  25.0127,2
49NZ200107_1,       P17N,      44,          1,         31,         31,2,20010812,       0625,    40.0002,  -135.0075,       4166,   152.4,   8.6952,2,  32.8446,2,  32.8864,2,   241.30,1,  253.30,2,   10.92,2,   11.36,2,    0.01,2,    1.01,2,-999.000,9,-999.000,9,-999.000,9,  -999.0,9,  -999.0,9, -999.000,  -999.00, -999.00,9, -999.00,  -999.0,9,  -999.0,  25.4802,2
49NZ200107_1,       P17N,      44,          1,         30,         30,2,20010812,       0625,    40.0002,  -135.0075,       4166,   202.5,   7.9628,2,  33.5363,2,  33.5822,2,   208.53,1,  218.70,3,   19.14,2,   17.39,2,   -0.01,2,    1.27,2,-999.000,9,-999.000,9,-999.000,9,  -999.0,9,  -999.0,9, -999.000,  -999.00, -999.00,9, -999.00,  -999.0,9,  -999.0,  26.1327,2
49NZ200107_1,       P17N,      44,          1,         29,         29,2,20010812,       0625,    40.0002,  -135.0075,       4166,   252.8,   8.0753,2,  33.9330,2,  33.9528,2,   164.28,1,  168.33,2,   30.50,2,   24.59,2,   -0.01,2,    1.67,2,-999.000,9,-999.000,9,-999.000,9,  -999.0,9,  -999.0,9, -999.000,  -999.00, -999.00,9, -999.00,  -999.0,9,  -999.0,  26.4284,2
49NZ200107_1,       P17N,      44,          1,         28,         28,2,20010812,       0625,    40.0002,  -135.0075,       4166,   303.6,   7.2542,2,  33.9797,2,  33.9777,2,   134.76,1,  138.94,2,   41.41,2,   28.83,2,    0.00,2,    1.96,2,-999.000,9,-999.000,9,-999.000,9,  -999.0,9,  -999.0,9, -999.000,  -999.00, -999.00,9, -999.00,  -999.0,9,  -999.0,  26.5839,2
49NZ200107_1,       P17N,      44,          1,         27,         27,2,20010812,       0625,    40.0002,  -135.0075,       4166,   353.8,   6.2694,2,  33.9682,2,  33.9636,2,   105.51,1,  108.11,2,   52.24,2,   33.50,2,    0.00,2,    2.30,2,-999.000,9,-999.000,9,-999.000,9,  -999.0,9,  -999.0,9, -999.000,  -999.00, -999.00,9, -999.00,  -999.0,9,  -999.0,  26.7070,2
49NZ200107_1,       P17N,      44,          1,         26,         26,2,20010812,       0625,    40.0002,  -135.0075,       4166,   404.1,   5.5814,2,  33.9670,2,  33.9692,2,    86.57,1,   85.39,2,   61.67,2,   36.76,2,   -0.01,2,    2.54,2,-999.000,9,-999.000,9,-999.000,9,  -999.0,9,  -999.0,9, -999.000,  -999.00, -999.00,9, -999.00,  -999.0,9,  -999.0,  26.7920,2
49NZ200107_1,       P17N,      44,          1,         25,         25,2,20010812,       0625,    40.0002,  -135.0075,       4166,   505.2,   4.9718,2,  34.0358,2,  34.0409,2,    50.60,1,   47.42,2,   76.59,2,   40.81,2,    0.00,2,    2.84,2,-999.000,9,-999.000,9,-999.000,9,  -999.0,9,  -999.0,9, -999.000,  -999.00, -999.00,9, -999.00,  -999.0,9,  -999.0,  26.9186,2
49NZ200107_1,       P17N,      44,          1,         24,         24,2,20010812,       0625,    40.0002,  -135.0075,       4166,   606.0,   4.4297,2,  34.0959,2,  34.0982,2,    38.27,1,   33.63,2,   89.33,2,   42.52,2,   -0.01,2,    2.97,2,-999.000,9,-999.000,9,-999.000,9,  -999.0,9,  -999.0,9, -999.000,  -999.00, -999.00,9, -999.00,  -999.0,9,  -999.0,  27.0267,2
49NZ200107_1,       P17N,      44,          1,         23,         23,2,20010812,       0625,    40.0002,  -135.0075,       4166,   707.6,   4.0798,2,  34.1833,2,  34.1878,2,    23.44,1,   16.95,2,  101.67,2,   44.04,2,   -0.01,2,    3.10,2,-999.000,9,-999.000,9,-999.000,9,  -999.0,9,  -999.0,9, -999.000,  -999.00, -999.00,9, -999.00,  -999.0,9,  -999.0,  27.1336,2
49NZ200107_1,       P17N,      44,          1,         22,         22,2,20010812,       0625,    40.0002,  -135.0075,       4166,   808.7,   3.8247,2,  34.2687,2,  34.2708,2,    16.77,1,    9.89,2,  111.96,2,   44.71,2,   -0.01,2,    3.16,2,-999.000,9,-999.000,9,-999.000,9,  -999.0,9,  -999.0,9, -999.000,  -999.00, -999.00,9, -999.00,  -999.0,9,  -999.0,  27.2282,2
49NZ200107_1,       P17N,      44,          1,         21,         21,2,20010812,       0625,    40.0002,  -135.0075,       4166,   909.8,   3.6291,2,  34.3358,2,  34.3427,2,    15.65,1,    8.06,2,  118.14,2,   44.86,2,   -0.01,2,    3.21,2,-999.000,9,-999.000,9,-999.000,9,  -999.0,9,  -999.0,9, -999.000,  -999.00, -999.00,9, -999.00,  -999.0,9,  -999.0,  27.3017,2
49NZ200107_1,       P17N,      44,          1,         20,         20,2,20010812,       0625,    40.0002,  -135.0075,       4166,  1010.9,   3.4237,2,  34.3994,2,  34.4006,2,    17.86,1,   10.27,2,  124.54,2,   44.98,2,   -0.02,2,    3.21,2,-999.000,9,-999.000,9,-999.000,9,  -999.0,9,  -999.0,9, -999.000,  -999.00, -999.00,9, -999.00,  -999.0,9,  -999.0,  27.3729,2
49NZ200107_1,       P17N,      44,          1,         19,         19,2,20010812,       0625,    40.0002,  -135.0075,       4166,  1112.2,   3.2790,2,  34.4429,2,  34.4410,2,    21.56,1,   14.48,2,  127.59,2,   45.12,2,   -0.01,2,    3.17,2,-999.000,9,-999.000,9,-999.000,9,  -999.0,9,  -999.0,9, -999.000,  -999.00, -999.00,9, -999.00,  -999.0,9,  -999.0,  27.4218,2
49NZ200107_1,       P17N,      44,          1,         18,         18,2,20010812,       0625,    40.0002,  -135.0075,       4166,  1213.7,   3.0990,2,  34.4781,2,  34.4779,2,    27.25,1,   19.87,2,  131.30,2,   44.62,2,   -0.01,2,    3.16,2,-999.000,9,-999.000,9,-999.000,9,  -999.0,9,  -999.0,9, -999.000,  -999.00, -999.00,9, -999.00,  -999.0,9,  -999.0,  27.4672,2
49NZ200107_1,       P17N,      44,          1,         17,         17,2,20010812,       0625,    40.0002,  -135.0075,       4166,  1314.9,   2.9114,2,  34.5038,2,  34.5031,2,    32.62,1,   26.10,2,  137.14,2,   44.35,2,   -0.01,2,    3.14,2,-999.000,9,-999.000,9,-999.000,9,  -999.0,9,  -999.0,9, -999.000,  -999.00, -999.00,9, -999.00,  -999.0,9,  -999.0,  27.5053,2
49NZ200107_1,       P17N,      44,          1,         16,         16,2,20010812,       0625,    40.0002,  -135.0075,       4166,  1416.1,   2.7395,2,  34.5216,2,  34.5212,2,    37.58,1,   30.85,2,  141.64,2,   44.05,2,   -0.01,2,    3.12,2,-999.000,9,-999.000,9,-999.000,9,  -999.0,9,  -999.0,9, -999.000,  -999.00, -999.00,9, -999.00,  -999.0,9,  -999.0,  27.5352,2
49NZ200107_1,       P17N,      44,          1,         15,         15,2,20010812,       0625,    40.0002,  -135.0075,       4166,  1517.8,   2.5941,2,  34.5364,2,  34.5361,2,    41.63,1,   36.01,2,  145.09,2,   43.87,2,   -0.01,2,    3.10,2,-999.000,9,-999.000,9,-999.000,9,  -999.0,9,  -999.0,9, -999.000,  -999.00, -999.00,9, -999.00,  -999.0,9,  -999.0,  27.5600,2
49NZ200107_1,       P17N,      44,          1,         14,         14,2,20010812,       0625,    40.0002,  -135.0075,       4166,  1619.6,   2.4141,2,  34.5523,2,  34.5516,2,    46.48,1,   40.64,2,  149.84,2,   43.73,2,   -0.01,2,    3.09,2,-999.000,9,-999.000,9,-999.000,9,  -999.0,9,  -999.0,9, -999.000,  -999.00, -999.00,9, -999.00,  -999.0,9,  -999.0,  27.5884,2
49NZ200107_1,       P17N,      44,          1,         13,         13,2,20010812,       0625,    40.0002,  -135.0075,       4166,  1720.8,   2.2650,2,  34.5684,2,  34.5684,2,    53.49,1,   47.67,2,  153.75,2,   43.29,2,   -0.01,2,    3.06,2,-999.000,9,-999.000,9,-999.000,9,  -999.0,9,  -999.0,9, -999.000,  -999.00, -999.00,9, -999.00,  -999.0,9,  -999.0,  27.6140,2
49NZ200107_1,       P17N,      44,          1,         12,         12,2,20010812,       0625,    40.0002,  -135.0075,       4166,  1822.0,   2.1484,2,  34.5793,2,  34.5794,2,    57.25,1,   51.43,2,  156.77,2,   43.07,2,   -0.01,2,    3.03,2,-999.000,9,-999.000,9,-999.000,9,  -999.0,9,  -999.0,9, -999.000,  -999.00, -999.00,9, -999.00,  -999.0,9,  -999.0,  27.6327,2
49NZ200107_1,       P17N,      44,          1,         11,         11,2,20010812,       0625,    40.0002,  -135.0075,       4166,  2025.9,   1.9833,2,  34.6031,2,  34.6030,2,    69.14,1,   64.57,2,  161.30,2,   42.45,2,    0.00,2,    2.97,2,-999.000,9,-999.000,9,-999.000,9,  -999.0,9,  -999.0,9, -999.000,  -999.00, -999.00,9, -999.00,  -999.0,9,  -999.0,  27.6658,2
49NZ200107_1,       P17N,      44,          1,         10,         10,2,20010812,       0625,    40.0002,  -135.0075,       4166,  2229.6,   1.8449,2,  34.6226,2,  34.6226,2,    81.29,1,   77.73,2,  163.76,2,   41.21,2,   -0.01,2,    2.91,2,-999.000,9,-999.000,9,-999.000,9,  -999.0,9,  -999.0,9, -999.000,  -999.00, -999.00,9, -999.00,  -999.0,9,  -999.0,  27.6931,2
49NZ200107_1,       P17N,      44,          1,          9,          9,2,20010812,       0625,    40.0002,  -135.0075,       4166,  2433.5,   1.7737,2,  34.6330,2,  34.6330,2,    89.05,1,   85.73,2,  163.23,2,   40.85,2,    0.00,2,    2.86,2,-999.000,9,-999.000,9,-999.000,9,  -999.0,9,  -999.0,9, -999.000,  -999.00, -999.00,9, -999.00,  -999.0,9,  -999.0,  27.7080,2
49NZ200107_1,       P17N,      44,          1,          8,          8,2,20010812,       0625,    40.0002,  -135.0075,       4166,  2637.2,   1.7135,2,  34.6423,2,  34.6419,2,    96.32,1,   93.38,2,  163.00,2,   40.37,2,   -0.01,2,    2.84,2,-999.000,9,-999.000,9,-999.000,9,  -999.0,9,  -999.0,9, -999.000,  -999.00, -999.00,9, -999.00,  -999.0,9,  -999.0,  27.7212,2
49NZ200107_1,       P17N,      44,          1,          7,          7,2,20010812,       0625,    40.0002,  -135.0075,       4166,  2841.4,   1.6593,2,  34.6505,2,  34.6501,2,   103.78,1,  101.07,2,  162.50,2,   39.99,2,   -0.01,2,    2.81,2,-999.000,9,-999.000,9,-999.000,9,  -999.0,9,  -999.0,9, -999.000,  -999.00, -999.00,9, -999.00,  -999.0,9,  -999.0,  27.7330,2
49NZ200107_1,       P17N,      44,          1,          6,          6,2,20010812,       0625,    40.0002,  -135.0075,       4166,  3045.7,   1.6271,2,  34.6563,2,  34.6563,2,   109.60,1,  107.11,2,  162.38,2,   39.63,2,    0.00,2,    2.79,2,-999.000,9,-999.000,9,-999.000,9,  -999.0,9,  -999.0,9, -999.000,  -999.00, -999.00,9, -999.00,  -999.0,9,  -999.0,  27.7413,2
49NZ200107_1,       P17N,      44,          1,          5,          5,2,20010812,       0625,    40.0002,  -135.0075,       4166,  3301.5,   1.5717,2,  34.6653,2,  34.6654,2,   119.26,1,  116.53,2,  161.36,2,   38.97,2,   -0.01,2,    2.71,2,-999.000,9,-999.000,9,-999.000,9,  -999.0,9,  -999.0,9, -999.000,  -999.00, -999.00,9, -999.00,  -999.0,9,  -999.0,  27.7542,2
49NZ200107_1,       P17N,      44,          1,          4,          4,2,20010812,       0625,    40.0002,  -135.0075,       4166,  3557.4,   1.5467,2,  34.6717,2,  34.6719,2,   125.95,1,  122.79,2,  162.00,2,   38.66,2,   -0.01,2,    2.70,2,-999.000,9,-999.000,9,-999.000,9,  -999.0,9,  -999.0,9, -999.000,  -999.00, -999.00,9, -999.00,  -999.0,9,  -999.0,  27.7629,2
49NZ200107_1,       P17N,      44,          1,          3,          3,2,20010812,       0625,    40.0002,  -135.0075,       4166,  3813.9,   1.5270,2,  34.6779,2,  34.6780,2,   132.17,1,  128.42,2,  163.30,2,   38.28,2,   -0.01,2,    2.67,2,-999.000,9,-999.000,9,-999.000,9,  -999.0,9,  -999.0,9, -999.000,  -999.00, -999.00,9, -999.00,  -999.0,9,  -999.0,  27.7711,2
49NZ200107_1,       P17N,      44,          1,          2,          2,2,20010812,       0625,    40.0002,  -135.0075,       4166,  4070.4,   1.5464,2,  34.6790,2,  34.6789,2,   134.80,1,  129.14,2,  162.69,2,   38.45,2,   -0.01,2,    2.65,2,-999.000,9,-999.000,9,-999.000,9,  -999.0,9,  -999.0,9, -999.000,  -999.00, -999.00,9, -999.00,  -999.0,9,  -999.0,  27.7726,2
49NZ200107_1,       P17N,      44,          1,          1,          1,2,20010812,       0625,    40.0002,  -135.0075,       4166,  4215.3,   1.5604,2,  34.6794,2,  34.6794,2,   136.28,1,  129.68,2,  162.23,2,   38.14,2,   -0.01,2,    2.64,2,-999.000,9,-999.000,9,-999.000,9,  -999.0,9,  -999.0,9, -999.000,  -999.00, -999.00,9, -999.00,  -999.0,9,  -999.0,  27.7731,2