BOTTLE,20220817CCHSIOAMB
EXPOCODE,SECT_ID,STNNBR,CASTNO,SAMPNO,BTLNBR,BTLNBR_FLAG_W,DATE,TIME,LATITUDE,LONGITUDE,DEPTH,CTDPRS,CTDTMP,CTDTMP_FLAG_W,CTDSAL,CTDSAL_FLAG_W,SALNTY,SALNTY_FLAG_W,CTDOXY,CTDOXY_FLAG_W,OXYGEN,OXYGEN_FLAG_W,SILCAT,SILCAT_FLAG_W,NITRAT,NITRAT_FLAG_W,NITRIT,NITRIT_FLAG_W,PHSPHT,PHSPHT_FLAG_W,CFC-11,CFC-11_FLAG_W,CFC-12,CFC-12_FLAG_W,CFC113,CFC113_FLAG_W,TCARBN,TCARBN_FLAG_W,ALKALI,ALKALI_FLAG_W,PH_TOT,PH_TMP,DELC13,DELC13_FLAG_W,C13ERR,DELC14,DELC14_FLAG_W,C14ERR,THETA,THETA_FLAG_W
,,,,,,,,,,,METERS,DBAR,ITS-90,,PSS-78,,PSS-78,,UMOL/KG,,UMOL/KG,,UMOL/KG,,UMOL/KG,,UMOL/KG,,UMOL/KG,,PMOL/KG,,PMOL/KG,,PMOL/KG,,UMOL/KG,,UMOL/KG,,,DEG C,/MILLE,,/MILLE,/MILLE,,/MILLE,DEG C,
49NZ200107_1,       P17N,      82,          1,          0,        -99,9,20010823,       1558,    52.7878,  -155.0162,       4453,     4.5,-999.0000,9,-999.0000,9,  32.6728,2,  -999.00,9,  275.13,2,   18.60,2,   10.51,2,    0.15,2,    1.05,2,-999.000,1,-999.000,1,-999.000,1,  2006.9,2,  2198.7,2,    7.905,    25.00, -999.00,9, -999.00,  -999.0,9,  -999.0,-999.0000,9
49NZ200107_1,       P17N,      82,          1,         36,         36,2,20010823,       1558,    52.7878,  -155.0162,       4453,    11.2,  11.8600,2,  32.6787,2,  32.6784,2,   264.13,1,  275.28,2,   18.66,2,   10.56,2,    0.14,2,    1.03,2,-999.000,1,-999.000,1,-999.000,1,  2007.0,2,  2198.7,2,    7.904,    25.00,    1.66,2,    0.00,     4.3,2,     5.0,  24.8129,2
49NZ200107_1,       P17N,      82,          1,         35,         35,2,20010823,       1558,    52.7878,  -155.0162,       4453,    25.9,  11.8358,2,  32.6705,2,  32.6803,2,   264.16,1,  276.34,2,   18.51,2,   10.67,2,    0.15,2,    1.04,2,-999.000,1,-999.000,1,-999.000,1,  2008.6,2,  2198.3,2,    7.904,    25.00,    1.66,2,    0.00,     2.3,2,     3.6,  24.8115,2
49NZ200107_1,       P17N,      82,          1,         34,         34,2,20010823,       1558,    52.7878,  -155.0162,       4453,    51.4,   4.6025,2,  32.9879,2,  32.9892,2,   288.26,1,  309.71,2,   36.23,2,   23.03,2,    0.92,2,    1.81,2,-999.000,1,-999.000,1,-999.000,1,  2107.2,2,  2220.1,2,    7.706,    25.00,    0.70,2,    0.00,   -22.5,2,     3.7,  26.1240,2
49NZ200107_1,       P17N,      82,          1,         33,         33,2,20010823,       1558,    52.7878,  -155.0162,       4453,    77.0,   4.1442,2,  33.0418,2,  33.0455,2,   275.24,1,  303.10,2,   37.84,2,   24.76,2,    0.05,2,    1.88,2,-999.000,1,-999.000,1,-999.000,1,  2118.9,2,  2222.2,2,    7.683,    25.00,    0.61,2,    0.00,   -20.9,2,     3.6,  26.2146,2
49NZ200107_1,       P17N,      82,          1,         32,         32,2,20010823,       1558,    52.7878,  -155.0162,       4453,   101.9,   4.3008,2,  33.3051,2,  33.3416,2,   174.95,1,  188.37,2,   47.85,2,   31.71,2,    0.03,2,    2.29,2,-999.000,1,-999.000,1,-999.000,1,  2190.8,2,  2239.2,6,    7.518,    25.00,    0.01,2,    0.00,   -45.8,2,     3.6,  26.4080,2
49NZ200107_1,       P17N,      82,          1,         31,         31,2,20010823,       1558,    52.7878,  -155.0162,       4453,   152.6,   4.0717,2,  33.8789,2,  33.8776,2,    44.95,1,   43.89,2,   78.23,2,   43.43,2,    0.01,2,    3.00,2,-999.000,1,-999.000,1,-999.000,1,  2313.3,2,  2284.0,2,    7.286,    25.00,   -0.74,2,    0.00,   -91.1,2,     3.4,  26.8881,2
49NZ200107_1,       P17N,      82,          1,         30,         30,2,20010823,       1558,    52.7878,  -155.0162,       4453,   202.8,   3.9688,2,  33.9485,2,  33.9467,2,    31.69,1,   27.53,2,   85.92,2,   44.76,2,    0.01,2,    3.09,2,-999.000,1,-999.000,1,-999.000,1,  2328.8,6,  2292.7,2,    7.266,    25.00,   -0.77,2,    0.00,  -109.8,2,     3.3,  26.9543,2
49NZ200107_1,       P17N,      82,          1,         29,         29,2,20010823,       1558,    52.7878,  -155.0162,       4453,   253.4,   3.8760,2,  33.9899,2,  33.9893,2,    30.90,1,   27.25,2,   91.27,2,   44.54,2,    0.01,2,    3.10,2,-999.000,1,-999.000,1,-999.000,1,  2330.5,2,  2302.4,2,    7.277,    25.00,   -0.73,2,    0.00,  -123.5,2,     3.1,  26.9970,2
49NZ200107_1,       P17N,      82,          1,         28,         28,2,20010823,       1558,    52.7878,  -155.0162,       4453,   303.7,   3.8257,2,  34.0425,2,  34.0419,2,    26.97,1,   21.80,2,   96.45,2,   44.75,2,    0.01,2,    3.12,2,-999.000,1,-999.000,1,-999.000,1,  2337.2,2,  2309.8,6,    7.277,    25.00,   -0.71,2,    0.00,  -135.5,2,     3.3,  27.0442,2
49NZ200107_1,       P17N,      82,          1,         27,         27,2,20010823,       1558,    52.7878,  -155.0162,       4453,   354.0,   3.7787,2,  34.0870,2,  34.0870,2,    26.70,1,   21.16,2,  100.62,2,   44.32,2,    0.01,2,    3.11,2,-999.000,1,-999.000,1,-999.000,1,  2343.0,2,  2316.7,2,    7.289,    25.00,   -0.71,2,    0.00,  -147.0,2,     3.3,  27.0847,2
49NZ200107_1,       P17N,      82,          1,         26,         26,2,20010823,       1558,    52.7878,  -155.0162,       4453,   404.7,   3.6906,2,  34.1182,2,  34.1188,2,    24.35,1,   19.16,2,  104.78,2,   44.65,2,    0.01,2,    3.11,2,-999.000,1,-999.000,1,-999.000,1,  2351.1,6,  2325.2,2,    7.291,    25.00,   -0.69,2,    0.01,  -144.4,3,     3.3,  27.1186,2
49NZ200107_1,       P17N,      82,          1,         25,         25,3,20010823,       1558,    52.7878,  -155.0162,       4453,   506.4,   3.5427,2,  34.1827,2,  34.1841,2,    22.77,1,   16.75,2,  111.95,2,   44.72,2,    0.00,2,    3.14,2,-999.000,1,-999.000,1,-999.000,1,  2359.3,2,  2333.0,2,    7.300,    25.00,   -0.73,2,    0.01,  -165.8,2,     3.0,  27.1850,2
49NZ200107_1,       P17N,      82,          1,         24,         24,3,20010823,       1558,    52.7878,  -155.0162,       4453,   607.1,   3.4305,2,  34.2465,2,  34.2463,2,    22.46,1,   16.37,2,  118.37,2,   44.56,2,    0.01,2,    3.15,2,-999.000,1,-999.000,1,-999.000,1,  2366.3,2,  2347.9,2,    7.310,    25.00,   -0.67,2,    0.01,  -184.2,2,     3.0,  27.2473,2
49NZ200107_1,       P17N,      82,          1,         23,         23,2,20010823,       1558,    52.7878,  -155.0162,       4453,   708.5,   3.2585,2,  34.2983,2,  34.2984,2,    21.67,1,   15.45,2,  124.36,2,   44.48,2,    0.01,2,    3.14,2,-999.000,1,-999.000,1,-999.000,1,  2373.6,2,  2355.6,2,    7.316,    25.00,   -0.65,2,    0.00,  -196.3,2,     2.9,  27.3055,2
49NZ200107_1,       P17N,      82,          1,         22,         22,2,20010823,       1558,    52.7878,  -155.0162,       4453,   810.2,   3.0951,2,  34.3366,2,  34.3360,2,    22.22,1,   15.13,2,  129.58,2,   44.69,2,    0.01,2,    3.16,2,-999.000,1,-999.000,1,-999.000,1,  2377.8,6,  2362.1,2,    7.321,    25.00,   -0.76,3,    0.00,  -203.5,2,     3.2,  27.3518,2
49NZ200107_1,       P17N,      82,          1,         21,         21,2,20010823,       1558,    52.7878,  -155.0162,       4453,   911.2,   2.9078,2,  34.3758,2,  34.3759,2,    23.03,1,   16.52,2,  135.78,2,   44.75,2,    0.00,2,    3.18,2,-999.000,1,-999.000,1,-999.000,1,  2383.6,2,  2372.2,2,    7.328,    25.00,   -0.66,2,    0.01,  -207.8,2,     3.2,  27.4005,2
49NZ200107_1,       P17N,      82,          1,         20,         20,2,20010823,       1558,    52.7878,  -155.0162,       4453,  1012.6,   2.7295,2,  34.4145,2,  34.4159,2,    25.23,1,   18.25,2,  141.40,2,   44.69,2,    0.00,2,    3.17,2,-999.000,1,-999.000,1,-999.000,1,  2389.4,2,  2378.7,6,    7.336,    25.00,   -0.63,2,    0.00,  -214.7,2,     3.1,  27.4477,2
49NZ200107_1,       P17N,      82,          1,         19,         19,3,20010823,       1558,    52.7878,  -155.0162,       4453,  1113.4,   2.5807,2,  34.4439,2,  34.4430,2,    27.68,1,   20.47,2,  145.86,2,   44.60,2,    0.01,2,    3.10,2,-999.000,1,-999.000,1,-999.000,1,  2391.2,2,  2383.0,2,    7.340,    25.00,   -0.63,2,    0.00,  -223.1,2,     2.9,  27.4845,2
49NZ200107_1,       P17N,      82,          1,         18,         18,2,20010823,       1558,    52.7878,  -155.0162,       4453,  1214.6,   2.4666,2,  34.4677,2,  34.4688,2,    30.81,1,   23.47,2,  149.63,2,   44.49,2,    0.00,2,    3.11,2,-999.000,1,-999.000,1,-999.000,1,  2394.0,6,  2388.7,2,    7.351,    25.00,   -0.61,2,    0.01,  -231.6,2,     3.1,  27.5138,2
49NZ200107_1,       P17N,      82,          1,         17,         17,2,20010823,       1558,    52.7878,  -155.0162,       4453,  1317.1,   2.3687,2,  34.4888,2,  34.4921,3,    34.55,1,   28.10,2,  152.32,2,   44.28,2,   -0.01,2,    3.07,2,-999.000,1,-999.000,1,-999.000,1,  2393.6,2,  2392.7,2,    7.363,    25.00,   -0.60,2,    0.00,  -235.1,2,     2.9,  27.5393,2
49NZ200107_1,       P17N,      82,          1,         16,         16,2,20010823,       1558,    52.7878,  -155.0162,       4453,  1417.9,   2.2493,2,  34.5143,2,  34.5143,2,    39.90,1,   32.87,2,  154.12,2,   44.00,2,    0.00,2,    3.07,2,-999.000,1,-999.000,1,-999.000,1,  2391.5,2,  2398.0,2,    7.373,    25.00,   -0.56,2,    0.00,  -236.0,2,     3.1,  27.5700,2
49NZ200107_1,       P17N,      82,          1,         15,         15,2,20010823,       1558,    52.7878,  -155.0162,       4453,  1519.4,   2.1637,2,  34.5328,2,  34.5339,2,    45.47,1,   38.35,2,  155.39,2,   43.72,2,   -0.01,2,    3.06,2,-999.000,1,-999.000,1,-999.000,1,  2392.8,2,  2400.6,2,    7.387,    25.00,   -0.49,2,    0.00,  -237.8,2,     3.0,  27.5923,2
49NZ200107_1,       P17N,      82,          1,         14,         14,2,20010823,       1558,    52.7878,  -155.0162,       4453,  1621.0,   2.0758,2,  34.5518,2,  34.5516,2,    51.32,1,   44.83,2,  156.43,2,   43.21,2,    0.01,2,    3.03,2,-999.000,1,-999.000,1,-999.000,1,  2388.3,2,  2405.0,2,    7.379,    25.00,   -0.47,2,    0.00,  -243.6,2,     3.1,  27.6150,2
49NZ200107_1,       P17N,      82,          1,         13,         13,2,20010823,       1558,    52.7878,  -155.0162,       4453,  1823.8,   1.9402,2,  34.5805,2,  34.5795,3,    62.65,1,   56.35,2,  157.68,3,   42.62,2,    0.01,2,    2.95,2,-999.000,1,-999.000,1,-999.000,1,  2385.0,2,  2407.1,2,    7.404,    25.00,   -0.43,2,    0.00,  -238.8,3,     3.1,  27.6497,2
49NZ200107_1,       P17N,      82,          1,         12,         12,2,20010823,       1558,    52.7878,  -155.0162,       4453,  2028.5,   1.8307,2,  34.6032,2,  34.6032,2,    73.76,1,   68.51,2,  158.28,3,   41.95,2,    0.01,2,    2.93,2,-999.000,1,-999.000,1,-999.000,1,  2381.8,2,  2411.1,2,    7.428,    25.00,   -0.34,2,    0.00,  -242.6,2,     3.0,  27.6773,2
49NZ200107_1,       P17N,      82,          1,         11,         11,2,20010823,       1558,    52.7878,  -155.0162,       4453,  2232.1,   1.7460,2,  34.6203,2,  34.6202,2,    83.98,1,   79.15,2,  159.60,2,   41.10,2,    0.00,2,    2.86,2,-999.000,1,-999.000,1,-999.000,1,  2377.3,2,  2413.1,2,    7.451,    25.00,   -0.35,2,    0.00,  -248.7,2,     3.0,  27.6985,2
49NZ200107_1,       P17N,      82,          1,         10,         10,2,20010823,       1558,    52.7878,  -155.0162,       4453,  2436.0,   1.6720,2,  34.6345,2,  34.6345,2,    94.47,1,   90.27,2,  159.46,2,   40.50,2,    0.00,2,    2.83,2,-999.000,9,-999.000,9,-999.000,9,  -999.0,9,  -999.0,9, -999.000,  -999.00, -999.00,9, -999.00,  -999.0,9,  -999.0,  27.7166,2
49NZ200107_1,       P17N,      82,          1,          9,          9,3,20010823,       1558,    52.7878,  -155.0162,       4453,  2639.7,   1.6154,2,  34.6455,2,  34.6434,2,   104.13,1,  100.94,2,  158.50,2,   39.67,2,    0.01,2,    2.77,2,-999.000,1,-999.000,1,-999.000,1,  2363.3,2,  2416.6,2,    7.492,    25.00,   -0.16,2,    0.00,  -242.7,2,     3.0,  27.7308,2
49NZ200107_1,       P17N,      82,          1,          8,          8,2,20010823,       1558,    52.7878,  -155.0162,       4453,  2844.3,   1.5603,2,  34.6558,2,  34.6559,2,   114.17,1,  111.03,2,  156.84,2,   39.13,2,    0.00,2,    2.72,2,-999.000,9,-999.000,9,-999.000,9,  -999.0,9,  -999.0,9, -999.000,  -999.00, -999.00,9, -999.00,  -999.0,9,  -999.0,  27.7443,2
49NZ200107_1,       P17N,      82,          1,          7,          7,2,20010823,       1558,    52.7878,  -155.0162,       4453,  3049.5,   1.5223,2,  34.6635,2,  34.6622,3,   122.82,1,  119.65,2,  155.60,2,   38.67,2,    0.00,2,    2.68,2,-999.000,1,-999.000,1,-999.000,1,  2352.7,2,  2417.1,2,    7.519,    25.00,   -0.04,2,    0.00,  -240.2,2,     3.1,  27.7544,2
49NZ200107_1,       P17N,      82,          1,          6,          6,2,20010823,       1558,    52.7878,  -155.0162,       4453,  3304.9,   1.4893,2,  34.6713,2,  34.6713,2,   131.52,1,  128.21,2,  154.87,2,   38.06,2,    0.00,2,    2.65,2,-999.000,9,-999.000,9,-999.000,9,  -999.0,9,  -999.0,9, -999.000,  -999.00, -999.00,9, -999.00,  -999.0,9,  -999.0,  27.7647,2
49NZ200107_1,       P17N,      82,          1,          5,          5,2,20010823,       1558,    52.7878,  -155.0162,       4453,  3561.6,   1.4731,2,  34.6768,2,  34.6761,3,   138.31,1,  134.86,2,  153.77,2,   37.66,2,    0.00,2,    2.60,2,-999.000,1,-999.000,1,-999.000,1,  2342.6,2,  2420.0,2,    7.554,    25.00,    0.04,2,    0.00,  -230.5,2,     3.1,  27.7720,2
49NZ200107_1,       P17N,      82,          1,          4,          4,2,20010823,       1558,    52.7878,  -155.0162,       4453,  3817.8,   1.4745,2,  34.6801,2,  34.6805,2,   143.47,1,  138.58,2,  153.65,2,   37.41,2,    0.00,2,    2.60,2,-999.000,9,-999.000,9,-999.000,9,  -999.0,9,  -999.0,9, -999.000,  -999.00, -999.00,9, -999.00,  -999.0,9,  -999.0,  27.7764,2
49NZ200107_1,       P17N,      82,          1,          3,          3,2,20010823,       1558,    52.7878,  -155.0162,       4453,  4074.9,   1.4811,2,  34.6830,2,  34.6830,2,   148.28,1,  142.04,2,  154.39,2,   37.06,2,    0.01,2,    2.59,2,-999.000,1,-999.000,1,-999.000,1,  2338.1,2,  2421.9,6,    7.574,    25.00,    0.09,2,    0.01,  -223.6,2,     2.8,  27.7802,2
49NZ200107_1,       P17N,      82,          1,          2,          2,2,20010823,       1558,    52.7878,  -155.0162,       4453,  4332.1,   1.4936,2,  34.6852,2,  34.6854,2,   152.37,1,  144.71,2,  154.05,2,   36.86,2,    0.00,2,    2.56,2,-999.000,9,-999.000,9,-999.000,9,  -999.0,9,  -999.0,9, -999.000,  -999.00, -999.00,9, -999.00,  -999.0,9,  -999.0,  27.7831,2
49NZ200107_1,       P17N,      82,          1,          1,          1,2,20010823,       1558,    52.7878,  -155.0162,       4453,  4522.2,   1.5069,2,  34.6861,2,  34.6859,2,   155.61,1,  145.94,2,  153.88,2,   36.84,2,    0.00,2,    2.55,2,-999.000,1,-999.000,1,-999.000,1,  2335.0,2,  2420.7,2,    7.579,    25.00,    0.13,2,    0.01,  -217.5,2,     3.1,  27.7844,2