BOTTLE,20220817CCHSIOAMB
EXPOCODE,SECT_ID,STNNBR,CASTNO,SAMPNO,BTLNBR,BTLNBR_FLAG_W,DATE,TIME,LATITUDE,LONGITUDE,DEPTH,CTDPRS,CTDTMP,CTDTMP_FLAG_W,CTDSAL,CTDSAL_FLAG_W,SALNTY,SALNTY_FLAG_W,CTDOXY,CTDOXY_FLAG_W,OXYGEN,OXYGEN_FLAG_W,SILCAT,SILCAT_FLAG_W,NITRAT,NITRAT_FLAG_W,NITRIT,NITRIT_FLAG_W,PHSPHT,PHSPHT_FLAG_W,CFC-11,CFC-11_FLAG_W,CFC-12,CFC-12_FLAG_W,CFC113,CFC113_FLAG_W,TCARBN,TCARBN_FLAG_W,ALKALI,ALKALI_FLAG_W,PH_TOT,PH_TMP,DELC13,DELC13_FLAG_W,C13ERR,DELC14,DELC14_FLAG_W,C14ERR,THETA,THETA_FLAG_W
,,,,,,,,,,,METERS,DBAR,ITS-90,,PSS-78,,PSS-78,,UMOL/KG,,UMOL/KG,,UMOL/KG,,UMOL/KG,,UMOL/KG,,UMOL/KG,,PMOL/KG,,PMOL/KG,,PMOL/KG,,UMOL/KG,,UMOL/KG,,,DEG C,/MILLE,,/MILLE,/MILLE,,/MILLE,DEG C,
49NZ200107_1,       P17N,      68,          1,          0,        -99,9,20010818,       1027,    48.2080,  -146.6845,       4654,     4.5,-999.0000,9,-999.0000,9,  32.4481,2,  -999.00,9,  278.70,2,    9.79,2,    7.25,2,    0.12,2,    0.87,2,-999.000,1,-999.000,1,-999.000,1,  1981.5,2,  2185.7,2,    7.933,    25.00, -999.00,9, -999.00,  -999.0,9,  -999.0,-999.0000,9
49NZ200107_1,       P17N,      68,          1,         36,         36,3,20010818,       1027,    48.2080,  -146.6845,       4654,    11.1,  12.8783,2,  32.4514,2,  32.4507,2,   267.26,1,  278.56,2,    9.59,2,    7.21,2,    0.12,2,    0.85,2,-999.000,1,-999.000,1,-999.000,1,  1980.8,2,  2183.1,2,    7.935,    25.00,    1.95,2,    0.01,  -999.0,5,  -999.0,  24.4432,2
49NZ200107_1,       P17N,      68,          1,         35,         35,3,20010818,       1027,    48.2080,  -146.6845,       4654,    26.1,   8.9834,2,  32.5315,2,  32.5324,2,   287.71,1,  304.98,2,   11.69,2,   10.01,2,    0.11,2,    1.06,2,-999.000,1,-999.000,1,-999.000,1,  2009.9,2,  2186.1,2,    7.867,    25.00,    1.55,2,    0.00,     8.6,2,     3.2,  25.1887,2
49NZ200107_1,       P17N,      68,          1,         34,         34,3,20010818,       1027,    48.2080,  -146.6845,       4654,    51.2,   7.2376,2,  32.5592,2,  32.5672,2,   286.39,1,  304.38,2,   14.14,2,   11.80,2,    0.19,2,    1.20,2,-999.000,1,-999.000,1,-999.000,1,  2029.8,2,  2188.8,2,    7.828,    25.00,    1.38,2,    0.00,     3.9,2,     3.2,  25.4650,2
49NZ200107_1,       P17N,      68,          1,         33,         33,2,20010818,       1027,    48.2080,  -146.6845,       4654,    76.9,   5.8995,2,  32.5934,2,  32.5934,2,   282.21,1,  301.13,2,   16.50,2,   14.60,2,    0.29,2,    1.31,2,-999.000,1,-999.000,1,-999.000,1,  2044.4,2,  2187.7,2,    7.794,    25.00,    1.19,2,    0.00,     4.7,2,     3.5,  25.6643,2
49NZ200107_1,       P17N,      68,          1,         32,         32,2,20010818,       1027,    48.2080,  -146.6845,       4654,   101.4,   5.3288,2,  32.6573,2,  32.6452,2,   283.37,1,  302.71,2,   19.00,2,   15.86,2,    0.05,2,    1.38,2,-999.000,1,-999.000,1,-999.000,1,  2054.2,2,  2191.6,6,    7.779,    25.00,    1.13,2,    0.00,    -1.2,2,     3.2,  25.7822,2
49NZ200107_1,       P17N,      68,          1,         31,         31,2,20010818,       1027,    48.2080,  -146.6845,       4654,   152.4,   4.5357,2,  32.8652,2,  32.8886,2,   259.85,1,  281.38,2,   27.64,2,   20.24,2,    0.00,2,    1.63,2,-999.000,1,-999.000,1,-999.000,1,  2093.6,2,  2206.9,2,    7.716,    25.00,    0.78,2,    0.00,    -8.2,2,     4.3,  26.0345,2
49NZ200107_1,       P17N,      68,          1,         30,         30,3,20010818,       1027,    48.2080,  -146.6845,       4654,   202.8,   5.2459,2,  33.5684,2,  33.5752,2,   176.32,1,  190.64,2,   41.03,2,   27.31,2,    0.00,2,    1.98,2,-999.000,1,-999.000,1,-999.000,1,  2173.5,6,  2249.8,2,    7.597,    25.00,    0.09,2,    0.00,   -20.4,2,     3.1,  26.5140,2
49NZ200107_1,       P17N,      68,          1,         29,         29,2,20010818,       1027,    48.2080,  -146.6845,       4654,   253.0,   4.8088,2,  33.7878,2,  33.7820,2,   119.75,1,  127.90,2,   58.04,2,   34.15,2,    0.00,2,    2.41,2,-999.000,1,-999.000,1,-999.000,1,  2236.1,2,  2266.9,2,    7.475,    25.00,   -0.29,2,    0.00,   -44.0,2,     3.0,  26.7378,2
49NZ200107_1,       P17N,      68,          1,         28,         28,2,20010818,       1027,    48.2080,  -146.6845,       4654,   303.7,   4.2471,2,  33.8328,2,  33.8320,2,    88.44,1,   91.76,2,   69.51,2,   38.56,2,   -0.01,2,    2.68,2,-999.000,1,-999.000,1,-999.000,1,  2271.7,2,  2281.0,6,    7.397,    25.00,   -0.46,2,    0.00,   -80.5,2,     3.0,  26.8344,2
49NZ200107_1,       P17N,      68,          1,         27,         27,2,20010818,       1027,    48.2080,  -146.6845,       4654,   354.1,   4.0788,2,  33.8827,2,  33.8847,2,    72.73,1,   73.52,2,   75.91,2,   40.40,2,    0.00,2,    2.80,2,-999.000,1,-999.000,1,-999.000,1,  2288.6,2,  2288.4,2,    7.367,    25.00,   -0.52,2,    0.00,   -87.6,2,     2.8,  26.8919,2
49NZ200107_1,       P17N,      68,          1,         26,         26,2,20010818,       1027,    48.2080,  -146.6845,       4654,   404.9,   4.0536,2,  33.9526,2,  33.9573,2,    62.45,1,   61.27,2,   82.55,2,   41.25,2,   -0.01,2,    2.89,2,-999.000,1,-999.000,1,-999.000,1,  2304.6,6,  2297.7,2,    7.360,    25.00,   -0.51,2,    0.00,  -107.3,2,     2.7,  26.9504,2
49NZ200107_1,       P17N,      68,          1,         25,         25,2,20010818,       1027,    48.2080,  -146.6845,       4654,   505.9,   3.9393,2,  34.0859,2,  34.0859,2,    43.51,1,   40.69,2,   95.10,2,   42.61,2,   -0.01,2,    3.00,2,-999.000,1,-999.000,1,-999.000,1,  2329.3,2,  2318.2,2,    7.346,    25.00,   -0.57,2,    0.00,  -143.5,2,     2.7,  27.0688,2
49NZ200107_1,       P17N,      68,          1,         24,         24,2,20010818,       1027,    48.2080,  -146.6845,       4654,   607.2,   3.7689,2,  34.1667,2,  34.1672,2,    35.97,1,   31.72,2,  103.99,2,   43.18,2,   -0.01,2,    3.05,2,-999.000,1,-999.000,1,-999.000,1,  2341.2,2,  2331.5,6,    7.345,    25.00,   -0.58,2,    0.01,  -158.7,2,     2.7,  27.1509,2
49NZ200107_1,       P17N,      68,          1,         23,         23,2,20010818,       1027,    48.2080,  -146.6845,       4654,   708.3,   3.5439,2,  34.2402,2,  34.2397,2,    30.23,1,   25.23,2,  113.41,2,   43.78,2,   -0.01,2,    3.10,2,-999.000,1,-999.000,1,-999.000,1,  2352.3,2,  2345.0,2,    7.344,    25.00,   -0.59,2,    0.00,  -178.9,2,     2.6,  27.2322,2
49NZ200107_1,       P17N,      68,          1,         22,         22,2,20010818,       1027,    48.2080,  -146.6845,       4654,   809.3,   3.3526,2,  34.2817,2,  34.2821,2,    26.16,1,   20.35,2,  120.03,2,   44.19,2,    0.00,2,    3.13,2,-999.000,1,-999.000,1,-999.000,1,  2363.7,6,  2354.8,2,    7.341,    25.00,   -0.64,2,    0.00,  -189.2,2,     2.6,  27.2841,2
49NZ200107_1,       P17N,      68,          1,         21,         21,2,20010818,       1027,    48.2080,  -146.6845,       4654,   910.5,   3.1324,2,  34.3303,2,  34.3308,2,    23.64,1,   17.24,2,  127.52,2,   44.67,2,   -0.01,2,    3.16,2,-999.000,1,-999.000,1,-999.000,1,  2374.9,2,  2363.4,2,    7.340,    25.00,   -0.62,2,    0.00,  -206.3,2,     2.6,  27.3440,2
49NZ200107_1,       P17N,      68,          1,         20,         20,2,20010818,       1027,    48.2080,  -146.6845,       4654,  1011.8,   2.9620,2,  34.3688,2,  34.3680,2,    22.25,1,   15.52,2,  133.46,2,   45.03,2,   -0.01,2,    3.20,2,-999.000,1,-999.000,1,-999.000,1,  2381.4,2,  2371.6,6,    7.340,    25.00,   -0.73,2,    0.00,  -212.8,2,     2.5,  27.3908,2
49NZ200107_1,       P17N,      68,          1,         19,         19,2,20010818,       1027,    48.2080,  -146.6845,       4654,  1113.2,   2.8158,2,  34.4016,2,  34.4007,2,    21.24,1,   14.31,2,  138.79,2,   45.03,2,    0.00,2,    3.14,2,-999.000,1,-999.000,1,-999.000,1,  2387.2,2,  2376.1,2,    7.341,    25.00,   -0.65,2,    0.00,  -212.2,2,     2.5,  27.4306,2
49NZ200107_1,       P17N,      68,          1,         18,         18,2,20010818,       1027,    48.2080,  -146.6845,       4654,  1214.5,   2.6652,2,  34.4325,2,  34.4317,2,    23.42,1,   16.27,2,  143.54,2,   45.12,2,    0.00,2,    3.18,2,-999.000,1,-999.000,1,-999.000,1,  2391.9,6,  2384.5,2,    7.348,    25.00,   -0.66,2,    0.00,  -222.7,2,     2.6,  27.4689,2
49NZ200107_1,       P17N,      68,          1,         17,         17,2,20010818,       1027,    48.2080,  -146.6845,       4654,  1315.9,   2.5286,2,  34.4629,2,  34.4621,2,    23.57,1,   16.17,2,  148.13,2,   45.17,2,    0.00,2,    3.19,2,-999.000,1,-999.000,1,-999.000,1,  2396.1,2,  2391.7,2,    7.350,    25.00,   -0.79,4,    0.00,  -229.3,2,     2.7,  27.5054,2
49NZ200107_1,       P17N,      68,          1,         16,         16,2,20010818,       1027,    48.2080,  -146.6845,       4654,  1417.4,   2.4196,2,  34.4859,2,  34.4853,2,    25.58,1,   18.15,2,  151.21,2,   45.20,2,    0.00,2,    3.17,2,-999.000,1,-999.000,1,-999.000,1,  2399.8,2,  2395.0,2,    7.353,    25.00,   -0.63,2,    0.01,  -238.6,2,     2.5,  27.5335,2
49NZ200107_1,       P17N,      68,          1,         15,         15,2,20010818,       1027,    48.2080,  -146.6845,       4654,  1620.7,   2.2330,2,  34.5256,2,  34.5261,2,    33.12,1,   26.61,2,  156.46,2,   44.83,2,    0.00,2,    3.16,2,-999.000,1,-999.000,1,-999.000,1,  2398.9,2,  2396.1,3,    7.372,    25.00,   -0.57,2,    0.00,  -246.3,2,     2.7,  27.5817,2
49NZ200107_1,       P17N,      68,          1,         14,         14,2,20010818,       1027,    48.2080,  -146.6845,       4654,  1823.5,   2.0726,2,  34.5587,2,  34.5588,2,    45.29,1,   39.03,2,  159.48,2,   43.89,2,    0.00,2,    3.09,2,-999.000,1,-999.000,1,-999.000,1,  2393.7,2,  2408.5,2,    7.399,    25.00,   -0.55,2,    0.00,  -243.1,2,     2.5,  27.6221,2
49NZ200107_1,       P17N,      68,          1,         13,         13,2,20010818,       1027,    48.2080,  -146.6845,       4654,  2027.7,   1.9451,2,  34.5844,2,  34.5848,2,    57.50,1,   52.27,2,  160.95,2,   43.10,2,    0.00,2,    3.03,2,-999.000,1,-999.000,1,-999.000,1,  2388.6,2,  2412.2,2,    7.426,    25.00,   -0.54,3,    0.00,  -246.5,2,     2.6,  27.6537,2
49NZ200107_1,       P17N,      68,          1,         12,         12,2,20010818,       1027,    48.2080,  -146.6845,       4654,  2231.4,   1.8530,2,  34.6029,2,  34.6029,2,    68.13,1,   63.56,2,  161.72,2,   42.45,2,    0.00,2,    2.98,2,-999.000,1,-999.000,1,-999.000,1,  2382.6,2,  2414.3,2,    7.450,    25.00,   -0.40,2,    0.00,  -240.9,2,     2.7,  27.6767,2
49NZ200107_1,       P17N,      68,          1,         11,         11,2,20010818,       1027,    48.2080,  -146.6845,       4654,  2435.3,   1.7615,2,  34.6204,2,  34.6204,2,    80.41,1,   76.57,2,  161.51,2,   41.50,2,   -0.01,2,    2.88,2,-999.000,9,-999.000,9,-999.000,9,  -999.0,9,  -999.0,9, -999.000,  -999.00, -999.00,9, -999.00,  -999.0,9,  -999.0,  27.6988,2
49NZ200107_1,       P17N,      68,          1,         10,         10,2,20010818,       1027,    48.2080,  -146.6845,       4654,  2639.5,   1.6759,2,  34.6362,2,  34.6360,2,    92.87,1,   90.84,2,  160.83,2,   40.55,2,   -0.01,2,    2.83,2,-999.000,1,-999.000,1,-999.000,1,  2368.9,2,  2417.0,2,    7.500,    25.00,   -0.23,2,    0.00,  -243.0,2,     2.5,  27.7190,2
49NZ200107_1,       P17N,      68,          1,          9,          9,2,20010818,       1027,    48.2080,  -146.6845,       4654,  2843.8,   1.6158,2,  34.6479,2,  34.6476,2,   103.29,1,  101.58,2,  159.58,2,   39.84,2,   -0.01,2,    2.78,2,-999.000,9,-999.000,9,-999.000,9,  -999.0,9,  -999.0,9, -999.000,  -999.00, -999.00,9, -999.00,  -999.0,9,  -999.0,  27.7340,2
49NZ200107_1,       P17N,      68,          1,          8,          8,3,20010818,       1027,    48.2080,  -146.6845,       4654,  3048.1,   1.5656,2,  34.6576,2,  34.6578,2,   113.26,1,  111.38,2,  157.84,2,   39.25,2,   -0.01,2,    2.73,2,-999.000,1,-999.000,1,-999.000,1,  2354.3,6,  2419.7,2,    7.543,    25.00, -999.00,5, -999.00,  -999.0,5,  -999.0,  27.7467,2
49NZ200107_1,       P17N,      68,          1,          7,          7,2,20010818,       1027,    48.2080,  -146.6845,       4654,  3304.3,   1.5225,2,  34.6671,2,  34.6674,2,   123.46,1,  122.37,2,  156.16,2,   38.58,2,   -0.01,2,    2.69,2,-999.000,9,-999.000,9,-999.000,9,  -999.0,9,  -999.0,9, -999.000,  -999.00, -999.00,9, -999.00,  -999.0,9,  -999.0,  27.7591,2
49NZ200107_1,       P17N,      68,          1,          6,          6,3,20010818,       1027,    48.2080,  -146.6845,       4654,  3560.3,   1.5002,2,  34.6737,2,  34.6730,2,   131.22,1,  128.90,2,  155.05,2,   37.99,2,   -0.01,2,    2.66,2,-999.000,1,-999.000,1,-999.000,1,  2343.8,2,  2422.9,2,    7.574,    25.00,   -0.02,2,    0.00,  -236.2,2,     2.8,  27.7677,2
49NZ200107_1,       P17N,      68,          1,          5,          5,2,20010818,       1027,    48.2080,  -146.6845,       4654,  3816.6,   1.4925,2,  34.6784,2,  34.6784,2,   137.46,1,  135.12,2,  154.71,2,   37.75,2,   -0.01,2,    2.62,2,-999.000,9,-999.000,9,-999.000,9,  -999.0,9,  -999.0,9, -999.000,  -999.00, -999.00,9, -999.00,  -999.0,9,  -999.0,  27.7738,2
49NZ200107_1,       P17N,      68,          1,          4,          4,2,20010818,       1027,    48.2080,  -146.6845,       4654,  4073.5,   1.4985,2,  34.6816,2,  34.6815,2,   141.73,1,  138.66,2,  156.66,2,   37.56,2,   -0.01,2,    2.62,2,-999.000,1,-999.000,1,-999.000,1,  2341.5,2,  2427.0,6,    7.598,    25.00,    0.03,2,    0.00,  -231.4,2,     2.6,  27.7779,2
49NZ200107_1,       P17N,      68,          1,          3,          3,2,20010818,       1027,    48.2080,  -146.6845,       4654,  4330.6,   1.5177,2,  34.6835,2,  34.6837,2,   144.47,1,  140.17,2,  158.69,2,   37.39,2,   -0.01,2,    2.60,2,-999.000,9,-999.000,9,-999.000,9,  -999.0,9,  -999.0,9, -999.000,  -999.00, -999.00,9, -999.00,  -999.0,9,  -999.0,  27.7801,2
49NZ200107_1,       P17N,      68,          1,          2,          2,2,20010818,       1027,    48.2080,  -146.6845,       4654,  4587.6,   1.5433,2,  34.6847,2,  34.6845,2,   146.63,1,  139.98,2,  162.05,2,   37.37,2,   -0.01,2,    2.56,2,-999.000,1,-999.000,1,-999.000,1,  2340.6,2,  2431.2,2,    7.605,    25.00,    0.04,2,    0.00,  -228.7,2,     2.7,  27.7814,2
49NZ200107_1,       P17N,      68,          1,          1,          1,2,20010818,       1027,    48.2080,  -146.6845,       4654,  4730.9,   1.5602,2,  34.6849,2,  34.6850,2,   147.93,1,  140.10,2,  163.80,2,   37.29,2,   -0.01,2,    2.58,2,-999.000,1,-999.000,1,-999.000,1,  2343.0,2,  2432.3,2,    7.571,    25.00,    0.08,2,    0.00,  -226.0,2,     3.2,  27.7816,2