BOTTLE,20220817CCHSIOAMB
EXPOCODE,SECT_ID,STNNBR,CASTNO,SAMPNO,BTLNBR,BTLNBR_FLAG_W,DATE,TIME,LATITUDE,LONGITUDE,DEPTH,CTDPRS,CTDTMP,CTDTMP_FLAG_W,CTDSAL,CTDSAL_FLAG_W,SALNTY,SALNTY_FLAG_W,CTDOXY,CTDOXY_FLAG_W,OXYGEN,OXYGEN_FLAG_W,SILCAT,SILCAT_FLAG_W,NITRAT,NITRAT_FLAG_W,NITRIT,NITRIT_FLAG_W,PHSPHT,PHSPHT_FLAG_W,CFC-11,CFC-11_FLAG_W,CFC-12,CFC-12_FLAG_W,CFC113,CFC113_FLAG_W,TCARBN,TCARBN_FLAG_W,ALKALI,ALKALI_FLAG_W,PH_TOT,PH_TMP,DELC13,DELC13_FLAG_W,C13ERR,DELC14,DELC14_FLAG_W,C14ERR,THETA,THETA_FLAG_W
,,,,,,,,,,,METERS,DBAR,ITS-90,,PSS-78,,PSS-78,,UMOL/KG,,UMOL/KG,,UMOL/KG,,UMOL/KG,,UMOL/KG,,UMOL/KG,,PMOL/KG,,PMOL/KG,,PMOL/KG,,UMOL/KG,,UMOL/KG,,,DEG C,/MILLE,,/MILLE,/MILLE,,/MILLE,DEG C,
49NZ200107_1,       P17N,      77,          1,          0,        -99,9,20010822,       1141,    51.1412,  -151.9433,       4914,     4.5,-999.0000,9,-999.0000,9,  32.6957,2,  -999.00,9,  281.73,2,   14.70,2,   12.93,2,    0.20,2,    1.19,2,-999.000,9,-999.000,9,-999.000,9,  -999.0,9,  -999.0,9, -999.000,  -999.00, -999.00,9, -999.00,  -999.0,9,  -999.0,-999.0000,9
49NZ200107_1,       P17N,      77,          1,         36,         36,2,20010822,       1141,    51.1412,  -151.9433,       4914,    11.2,  10.9588,2,  32.6909,2,  32.6867,2,   271.00,1,  282.55,2,   13.65,2,   12.67,2,    0.19,2,    1.12,2,-999.000,9,-999.000,9,-999.000,9,  -999.0,9,  -999.0,9, -999.000,  -999.00, -999.00,9, -999.00,  -999.0,9,  -999.0,  24.9854,2
49NZ200107_1,       P17N,      77,          1,         35,         35,2,20010822,       1141,    51.1412,  -151.9433,       4914,    26.1,  10.9538,2,  32.6834,2,  32.6870,2,   270.48,1,  282.63,2,   13.54,2,   12.66,2,    0.19,2,    1.14,2,-999.000,9,-999.000,9,-999.000,9,  -999.0,9,  -999.0,9, -999.000,  -999.00, -999.00,9, -999.00,  -999.0,9,  -999.0,  24.9807,2
49NZ200107_1,       P17N,      77,          1,         34,         34,2,20010822,       1141,    51.1412,  -151.9433,       4914,    51.4,   5.1700,2,  32.8255,2,  32.8263,2,   286.28,1,  307.76,2,   26.93,2,   19.18,2,    0.73,2,    1.53,2,-999.000,9,-999.000,9,-999.000,9,  -999.0,9,  -999.0,9, -999.000,  -999.00, -999.00,9, -999.00,  -999.0,9,  -999.0,  25.9330,2
49NZ200107_1,       P17N,      77,          1,         33,         33,2,20010822,       1141,    51.1412,  -151.9433,       4914,    76.9,   4.5300,2,  32.9289,2,  32.9305,2,   282.97,1,  302.42,2,   31.78,2,   21.65,2,    0.04,2,    1.67,2,-999.000,9,-999.000,9,-999.000,9,  -999.0,9,  -999.0,9, -999.000,  -999.00, -999.00,9, -999.00,  -999.0,9,  -999.0,  26.0851,2
49NZ200107_1,       P17N,      77,          1,         32,         32,2,20010822,       1141,    51.1412,  -151.9433,       4914,   101.8,   4.1838,2,  33.0627,2,  33.0622,2,   268.21,1,  290.36,2,   37.18,2,   24.75,2,    0.03,2,    1.84,2,-999.000,9,-999.000,9,-999.000,9,  -999.0,9,  -999.0,9, -999.000,  -999.00, -999.00,9, -999.00,  -999.0,9,  -999.0,  26.2274,2
49NZ200107_1,       P17N,      77,          1,         31,         31,2,20010822,       1141,    51.1412,  -151.9433,       4914,   151.7,   4.0292,2,  33.6768,2,  33.6868,2,    84.52,1,   97.09,2,   66.78,2,   39.18,2,    0.03,2,    2.73,2,-999.000,9,-999.000,9,-999.000,9,  -999.0,9,  -999.0,9, -999.000,  -999.00, -999.00,9, -999.00,  -999.0,9,  -999.0,  26.7317,2
49NZ200107_1,       P17N,      77,          1,         30,         30,2,20010822,       1141,    51.1412,  -151.9433,       4914,   202.7,   3.9538,2,  33.8687,2,  33.8684,2,    48.48,1,   46.96,2,   79.51,2,   43.09,2,    0.03,2,    2.98,2,-999.000,9,-999.000,9,-999.000,9,  -999.0,9,  -999.0,9, -999.000,  -999.00, -999.00,9, -999.00,  -999.0,9,  -999.0,  26.8923,2
49NZ200107_1,       P17N,      77,          1,         29,         29,2,20010822,       1141,    51.1412,  -151.9433,       4914,   253.4,   3.8660,2,  33.9275,2,  33.9294,2,    37.84,1,   34.10,2,   86.18,2,   44.29,2,    0.03,2,    3.05,2,-999.000,9,-999.000,9,-999.000,9,  -999.0,9,  -999.0,9, -999.000,  -999.00, -999.00,9, -999.00,  -999.0,9,  -999.0,  26.9483,2
49NZ200107_1,       P17N,      77,          1,         28,         28,2,20010822,       1141,    51.1412,  -151.9433,       4914,   303.7,   3.8036,2,  33.9895,2,  33.9890,2,    33.60,1,   29.03,2,   92.12,2,   44.41,2,    0.03,2,    3.02,2,-999.000,9,-999.000,9,-999.000,9,  -999.0,9,  -999.0,9, -999.000,  -999.00, -999.00,9, -999.00,  -999.0,9,  -999.0,  27.0042,2
49NZ200107_1,       P17N,      77,          1,         27,         27,3,20010822,       1141,    51.1412,  -151.9433,       4914,   354.2,   3.7456,2,  34.0492,2,  34.0476,2,    30.09,1,   25.62,2,   98.02,2,   44.41,2,    0.03,2,    3.09,2,-999.000,9,-999.000,9,-999.000,9,  -999.0,9,  -999.0,9, -999.000,  -999.00, -999.00,9, -999.00,  -999.0,9,  -999.0,  27.0578,2
49NZ200107_1,       P17N,      77,          1,         26,         26,2,20010822,       1141,    51.1412,  -151.9433,       4914,   404.7,   3.6882,2,  34.0891,2,  34.0934,2,    27.85,1,   22.40,2,  102.91,2,   44.28,2,    0.03,2,    3.10,2,-999.000,9,-999.000,9,-999.000,9,  -999.0,9,  -999.0,9, -999.000,  -999.00, -999.00,9, -999.00,  -999.0,9,  -999.0,  27.0956,2
49NZ200107_1,       P17N,      77,          1,         25,         25,2,20010822,       1141,    51.1412,  -151.9433,       4914,   505.8,   3.5618,2,  34.1682,2,  34.1715,2,    26.22,1,   20.46,2,  110.86,2,   44.24,2,    0.02,2,    3.08,2,-999.000,9,-999.000,9,-999.000,9,  -999.0,9,  -999.0,9, -999.000,  -999.00, -999.00,9, -999.00,  -999.0,9,  -999.0,  27.1716,2
49NZ200107_1,       P17N,      77,          1,         24,         24,2,20010822,       1141,    51.1412,  -151.9433,       4914,   607.1,   3.3914,2,  34.2292,2,  34.2339,2,    24.36,1,   18.02,2,  118.47,2,   44.37,2,    0.03,2,    3.10,2,-999.000,9,-999.000,9,-999.000,9,  -999.0,9,  -999.0,9, -999.000,  -999.00, -999.00,9, -999.00,  -999.0,9,  -999.0,  27.2372,2
49NZ200107_1,       P17N,      77,          1,         23,         23,2,20010822,       1141,    51.1412,  -151.9433,       4914,   708.0,   3.2236,2,  34.2877,2,  34.2877,2,    26.26,1,   19.78,2,  124.32,2,   44.10,2,    0.02,2,    3.12,2,-999.000,9,-999.000,9,-999.000,9,  -999.0,9,  -999.0,9, -999.000,  -999.00, -999.00,9, -999.00,  -999.0,9,  -999.0,  27.3003,2
49NZ200107_1,       P17N,      77,          1,         22,         22,2,20010822,       1141,    51.1412,  -151.9433,       4914,   809.3,   3.0355,2,  34.3361,2,  34.3347,2,    27.00,1,   20.17,2,  130.21,2,   44.26,2,    0.02,2,    3.12,2,-999.000,9,-999.000,9,-999.000,9,  -999.0,9,  -999.0,9, -999.000,  -999.00, -999.00,9, -999.00,  -999.0,9,  -999.0,  27.3567,2
49NZ200107_1,       P17N,      77,          1,         21,         21,2,20010822,       1141,    51.1412,  -151.9433,       4914,   910.7,   2.8677,2,  34.3764,2,  34.3768,2,    27.54,1,   20.76,2,  135.85,2,   44.31,2,    0.02,2,    3.14,2,-999.000,9,-999.000,9,-999.000,9,  -999.0,9,  -999.0,9, -999.000,  -999.00, -999.00,9, -999.00,  -999.0,9,  -999.0,  27.4046,2
49NZ200107_1,       P17N,      77,          1,         20,         20,2,20010822,       1141,    51.1412,  -151.9433,       4914,  1011.7,   2.7252,2,  34.4095,2,  34.4082,2,    28.52,1,   21.59,2,  140.49,2,   44.34,2,    0.02,2,    3.14,2,-999.000,9,-999.000,9,-999.000,9,  -999.0,9,  -999.0,9, -999.000,  -999.00, -999.00,9, -999.00,  -999.0,9,  -999.0,  27.4441,2
49NZ200107_1,       P17N,      77,          1,         19,         19,2,20010822,       1141,    51.1412,  -151.9433,       4914,  1113.5,   2.6074,2,  34.4375,2,  34.4361,2,    29.29,1,   22.22,2,  143.88,2,   44.36,2,    0.02,2,    3.11,2,-999.000,9,-999.000,9,-999.000,9,  -999.0,9,  -999.0,9, -999.000,  -999.00, -999.00,9, -999.00,  -999.0,9,  -999.0,  27.4772,2
49NZ200107_1,       P17N,      77,          1,         18,         18,2,20010822,       1141,    51.1412,  -151.9433,       4914,  1214.7,   2.5077,2,  34.4599,2,  34.4585,2,    31.21,1,   23.98,2,  147.12,2,   44.23,2,    0.02,2,    3.13,2,-999.000,9,-999.000,9,-999.000,9,  -999.0,9,  -999.0,9, -999.000,  -999.00, -999.00,9, -999.00,  -999.0,9,  -999.0,  27.5041,2
49NZ200107_1,       P17N,      77,          1,         17,         17,2,20010822,       1141,    51.1412,  -151.9433,       4914,  1417.1,   2.3280,2,  34.5029,2,  34.5023,2,    31.64,1,   23.99,2,  152.92,2,   44.61,2,    0.03,2,    3.12,2,-999.000,9,-999.000,9,-999.000,9,  -999.0,9,  -999.0,9, -999.000,  -999.00, -999.00,9, -999.00,  -999.0,9,  -999.0,  27.5546,2
49NZ200107_1,       P17N,      77,          1,         16,         16,2,20010822,       1141,    51.1412,  -151.9433,       4914,  1621.4,   2.1697,2,  34.5381,2,  34.5373,2,    39.03,1,   31.02,2,  157.22,2,   44.31,2,    0.03,2,    3.11,2,-999.000,9,-999.000,9,-999.000,9,  -999.0,9,  -999.0,9, -999.000,  -999.00, -999.00,9, -999.00,  -999.0,9,  -999.0,  27.5967,2
49NZ200107_1,       P17N,      77,          1,         15,         15,2,20010822,       1141,    51.1412,  -151.9433,       4914,  1824.0,   2.0386,2,  34.5660,2,  34.5652,2,    49.08,1,   42.58,2,  159.96,2,   43.68,2,    0.03,2,    3.06,2,-999.000,9,-999.000,9,-999.000,9,  -999.0,9,  -999.0,9, -999.000,  -999.00, -999.00,9, -999.00,  -999.0,9,  -999.0,  27.6305,2
49NZ200107_1,       P17N,      77,          1,         14,         14,2,20010822,       1141,    51.1412,  -151.9433,       4914,  2028.9,   1.9249,2,  34.5894,2,  34.5890,2,    59.57,1,   54.00,2,  161.06,2,   42.89,2,    0.03,2,    3.00,2,-999.000,9,-999.000,9,-999.000,9,  -999.0,9,  -999.0,9, -999.000,  -999.00, -999.00,9, -999.00,  -999.0,9,  -999.0,  27.6592,2
49NZ200107_1,       P17N,      77,          1,         13,         13,2,20010822,       1141,    51.1412,  -151.9433,       4914,  2232.1,   1.8263,2,  34.6089,2,  34.6089,2,    71.40,1,   66.15,2,  162.05,2,   42.32,2,    0.02,2,    2.95,2,-999.000,9,-999.000,9,-999.000,9,  -999.0,9,  -999.0,9, -999.000,  -999.00, -999.00,9, -999.00,  -999.0,9,  -999.0,  27.6835,2
49NZ200107_1,       P17N,      77,          1,         12,         12,2,20010822,       1141,    51.1412,  -151.9433,       4914,  2435.9,   1.7406,2,  34.6250,2,  34.6249,2,    83.14,1,   78.02,2,  161.52,2,   41.40,2,    0.02,2,    2.90,2,-999.000,9,-999.000,9,-999.000,9,  -999.0,9,  -999.0,9, -999.000,  -999.00, -999.00,9, -999.00,  -999.0,9,  -999.0,  27.7041,2
49NZ200107_1,       P17N,      77,          1,         11,         11,2,20010822,       1141,    51.1412,  -151.9433,       4914,  2639.8,   1.6737,2,  34.6378,2,  34.6375,2,    93.86,1,   89.26,2,  160.77,2,   40.60,2,    0.03,2,    2.81,2,-999.000,9,-999.000,9,-999.000,9,  -999.0,9,  -999.0,9, -999.000,  -999.00, -999.00,9, -999.00,  -999.0,9,  -999.0,  27.7204,2
49NZ200107_1,       P17N,      77,          1,         10,         10,2,20010822,       1141,    51.1412,  -151.9433,       4914,  2845.1,   1.6160,2,  34.6487,2,  34.6488,2,   104.04,1,  100.64,2,  159.46,2,   39.85,2,    0.02,2,    2.77,2,-999.000,9,-999.000,9,-999.000,9,  -999.0,9,  -999.0,9, -999.000,  -999.00, -999.00,9, -999.00,  -999.0,9,  -999.0,  27.7346,2
49NZ200107_1,       P17N,      77,          1,          9,          9,2,20010822,       1141,    51.1412,  -151.9433,       4914,  3049.0,   1.5778,2,  34.6566,2,  34.6568,2,   112.92,1,  109.96,2,  157.96,2,   39.24,2,    0.02,2,    2.73,2,-999.000,9,-999.000,9,-999.000,9,  -999.0,9,  -999.0,9, -999.000,  -999.00, -999.00,9, -999.00,  -999.0,9,  -999.0,  27.7451,2
49NZ200107_1,       P17N,      77,          1,          8,          8,2,20010822,       1141,    51.1412,  -151.9433,       4914,  3304.4,   1.5306,2,  34.6662,2,  34.6663,2,   123.93,1,  120.98,2,  156.07,2,   38.58,2,    0.03,2,    2.67,2,-999.000,9,-999.000,9,-999.000,9,  -999.0,9,  -999.0,9, -999.000,  -999.00, -999.00,9, -999.00,  -999.0,9,  -999.0,  27.7577,2
49NZ200107_1,       P17N,      77,          1,          7,          7,2,20010822,       1141,    51.1412,  -151.9433,       4914,  3560.5,   1.5024,2,  34.6732,2,  34.6728,2,   132.63,1,  129.52,2,  154.80,2,   37.91,2,    0.02,2,    2.64,2,-999.000,9,-999.000,9,-999.000,9,  -999.0,9,  -999.0,9, -999.000,  -999.00, -999.00,9, -999.00,  -999.0,9,  -999.0,  27.7671,2
49NZ200107_1,       P17N,      77,          1,          6,          6,2,20010822,       1141,    51.1412,  -151.9433,       4914,  3816.7,   1.4883,2,  34.6786,2,  34.6786,2,   139.15,1,  135.88,2,  154.43,2,   37.48,2,    0.03,2,    2.60,2,-999.000,9,-999.000,9,-999.000,9,  -999.0,9,  -999.0,9, -999.000,  -999.00, -999.00,9, -999.00,  -999.0,9,  -999.0,  27.7742,2
49NZ200107_1,       P17N,      77,          1,          5,          5,2,20010822,       1141,    51.1412,  -151.9433,       4914,  4074.1,   1.4951,2,  34.6815,2,  34.6815,2,   143.26,1,  139.41,2,  155.39,2,   37.41,2,    0.02,2,    2.58,2,-999.000,9,-999.000,9,-999.000,9,  -999.0,9,  -999.0,9, -999.000,  -999.00, -999.00,9, -999.00,  -999.0,9,  -999.0,  27.7781,2
49NZ200107_1,       P17N,      77,          1,          4,          4,2,20010822,       1141,    51.1412,  -151.9433,       4914,  4330.4,   1.5098,2,  34.6837,2,  34.6842,2,   146.39,1,  141.85,2,  156.66,2,   37.20,2,    0.03,2,    2.58,2,-999.000,9,-999.000,9,-999.000,9,  -999.0,9,  -999.0,9, -999.000,  -999.00, -999.00,9, -999.00,  -999.0,9,  -999.0,  27.7808,2
49NZ200107_1,       P17N,      77,          1,          3,          3,2,20010822,       1141,    51.1412,  -151.9433,       4914,  4589.0,   1.5320,2,  34.6854,2,  34.6856,2,   148.78,1,  142.38,2,  158.68,2,   37.20,2,    0.02,2,    2.56,2,-999.000,9,-999.000,9,-999.000,9,  -999.0,9,  -999.0,9, -999.000,  -999.00, -999.00,9, -999.00,  -999.0,9,  -999.0,  27.7828,2
49NZ200107_1,       P17N,      77,          1,          2,          2,2,20010822,       1141,    51.1412,  -151.9433,       4914,  4846.4,   1.5615,2,  34.6862,2,  34.6862,2,   150.97,1,  142.60,2,  160.77,2,   37.17,2,    0.03,2,    2.54,2,-999.000,9,-999.000,9,-999.000,9,  -999.0,9,  -999.0,9, -999.000,  -999.00, -999.00,9, -999.00,  -999.0,9,  -999.0,  27.7835,2
49NZ200107_1,       P17N,      77,          1,          1,          1,2,20010822,       1141,    51.1412,  -151.9433,       4914,  4939.0,   1.5719,2,  34.6863,2,  34.6862,2,   152.38,1,  143.18,2,  160.68,2,   37.12,2,    0.03,2,    2.54,2,-999.000,9,-999.000,9,-999.000,9,  -999.0,9,  -999.0,9, -999.000,  -999.00, -999.00,9, -999.00,  -999.0,9,  -999.0,  27.7837,2