BOTTLE,20220817CCHSIOAMB
EXPOCODE,SECT_ID,STNNBR,CASTNO,SAMPNO,BTLNBR,BTLNBR_FLAG_W,DATE,TIME,LATITUDE,LONGITUDE,DEPTH,CTDPRS,CTDTMP,CTDTMP_FLAG_W,CTDSAL,CTDSAL_FLAG_W,SALNTY,SALNTY_FLAG_W,CTDOXY,CTDOXY_FLAG_W,OXYGEN,OXYGEN_FLAG_W,SILCAT,SILCAT_FLAG_W,NITRAT,NITRAT_FLAG_W,NITRIT,NITRIT_FLAG_W,PHSPHT,PHSPHT_FLAG_W,CFC-11,CFC-11_FLAG_W,CFC-12,CFC-12_FLAG_W,CFC113,CFC113_FLAG_W,TCARBN,TCARBN_FLAG_W,ALKALI,ALKALI_FLAG_W,PH_TOT,PH_TMP,DELC13,DELC13_FLAG_W,C13ERR,DELC14,DELC14_FLAG_W,C14ERR,THETA,THETA_FLAG_W
,,,,,,,,,,,METERS,DBAR,ITS-90,,PSS-78,,PSS-78,,UMOL/KG,,UMOL/KG,,UMOL/KG,,UMOL/KG,,UMOL/KG,,UMOL/KG,,PMOL/KG,,PMOL/KG,,PMOL/KG,,UMOL/KG,,UMOL/KG,,,DEG C,/MILLE,,/MILLE,/MILLE,,/MILLE,DEG C,
49NZ200107_1,       P17N,      34,          1,          0,        -99,9,20010810,       1102,    37.5013,  -135.0022,       5281,     4.5,-999.0000,9,-999.0000,9,  32.9830,2,  -999.00,9,  241.28,2,    1.21,2,    0.07,2,    0.01,2,    0.28,2,-999.000,1,-999.000,1,-999.000,1,  1975.1,2,  2210.6,2,    7.947,    25.00, -999.00,9, -999.00,  -999.0,9,  -999.0,-999.0000,9
49NZ200107_1,       P17N,      34,          1,         36,         36,2,20010810,       1102,    37.5013,  -135.0022,       5281,    11.5,  19.1649,2,  32.9828,2,  32.9828,2,   231.05,1,  241.22,2,    1.45,2,    0.05,2,    0.01,2,    0.25,2,-999.000,1,-999.000,1,-999.000,1,  1975.0,2,  2204.6,2,    7.945,    25.00,    1.88,2,    0.00,    42.7,2,     4.0,  23.4389,2
49NZ200107_1,       P17N,      34,          1,         35,         35,2,20010810,       1102,    37.5013,  -135.0022,       5281,    26.1,  19.0520,2,  32.9579,2,  32.9630,2,   242.19,1,  271.63,3,    1.70,2,    0.03,2,    0.00,2,    0.23,2,-999.000,1,-999.000,1,-999.000,1,  1972.7,2,  2200.7,2,    7.942,    25.00,    1.67,3,    0.00,    41.8,2,     3.9,  23.4491,2
49NZ200107_1,       P17N,      34,          1,         34,         34,3,20010810,       1102,    37.5013,  -135.0022,       5281,    51.0,  13.0894,2,  32.8431,2,  32.8577,2,   268.38,1,  282.01,2,    3.06,2,    0.02,2,    0.00,2,    0.30,2,-999.000,1,-999.000,1,-999.000,1,  1979.2,2,  2197.0,2,    7.920,    25.00,    1.85,2,    0.00,    43.4,2,     4.1,  24.7061,2
49NZ200107_1,       P17N,      34,          1,         33,         33,2,20010810,       1102,    37.5013,  -135.0022,       5281,    76.5,  12.8563,2,  32.9560,2,  32.9534,2,   256.17,1,  266.32,2,    3.42,2,    0.02,2,    0.01,2,    0.30,2,-999.000,1,-999.000,1,-999.000,1,  1994.5,2,  2198.8,2,    7.898,    25.00,    1.67,2,    0.00,    45.9,2,     4.2,  24.8400,2
49NZ200107_1,       P17N,      34,          1,         32,         32,2,20010810,       1102,    37.5013,  -135.0022,       5281,   101.2,  12.3418,2,  32.9579,2,  32.9555,2,   245.45,1,  256.40,2,    4.05,2,    1.21,2,    0.02,2,    0.40,2,-999.000,1,-999.000,1,-999.000,1,  2007.7,2,  2206.5,6,    7.875,    25.00,    1.52,2,    0.00,    42.3,2,     4.0,  24.9413,2
49NZ200107_1,       P17N,      34,          1,         31,         31,2,20010810,       1102,    37.5013,  -135.0022,       5281,   151.9,   9.7289,2,  33.1219,2,  33.1263,2,   230.12,1,  240.97,2,    9.03,2,    9.28,2,    0.01,2,    0.83,2,-999.000,1,-999.000,1,-999.000,1,  2053.1,2,  2202.6,2,    7.774,    25.00,    1.00,2,    0.00,    35.6,2,     4.2,  25.5334,2
49NZ200107_1,       P17N,      34,          1,         30,         30,2,20010810,       1102,    37.5013,  -135.0022,       5281,   202.4,   8.8004,2,  33.6278,2,  33.6398,2,   212.61,1,  222.65,2,   16.04,2,   14.89,2,    0.01,2,    1.11,2,-999.000,1,-999.000,1,-999.000,1,  2096.3,6,  2229.1,2,    7.720,    25.00,    0.52,6,    0.03,    43.5,6,     2.6,  26.0783,2
49NZ200107_1,       P17N,      34,          1,         29,         29,2,20010810,       1102,    37.5013,  -135.0022,       5281,   252.7,   8.9243,2,  33.9798,2,  33.9715,2,   179.60,1,  191.25,2,   23.02,2,   19.36,2,    0.01,2,    1.34,2,-999.000,1,-999.000,1,-999.000,1,  2131.2,2,  2253.2,2,    7.679,    25.00,    0.22,2,    0.00,    49.3,2,     3.9,  26.3355,2
49NZ200107_1,       P17N,      34,          1,         28,         28,2,20010810,       1102,    37.5013,  -135.0022,       5281,   303.4,   8.1273,2,  34.0041,2,  34.0068,2,   151.76,1,  157.92,2,   32.01,2,   25.08,2,    0.01,2,    1.68,2,-999.000,1,-999.000,1,-999.000,1,  2169.4,2,  2264.1,6,    7.598,    25.00,    0.04,2,    0.01,     1.8,2,     4.2,  26.4773,2
49NZ200107_1,       P17N,      34,          1,         27,         27,3,20010810,       1102,    37.5013,  -135.0022,       5281,   353.4,   7.3812,2,  34.0005,2,  33.9971,2,   131.56,1,  138.15,2,   39.99,2,   28.38,2,    0.01,2,    1.94,2,-999.000,1,-999.000,1,-999.000,1,  2193.5,2,  2267.3,2,    7.549,    25.00,   -0.09,2,    0.00,    -9.4,2,     4.2,  26.5832,2
49NZ200107_1,       P17N,      34,          1,         26,         26,2,20010810,       1102,    37.5013,  -135.0022,       5281,   404.2,   6.5404,2,  33.9801,2,  33.9789,2,   119.39,1,  124.17,2,   47.68,2,   31.12,2,    0.01,2,    2.13,2,-999.000,1,-999.000,1,-999.000,1,  2216.4,6,  2278.1,2,    7.509,    25.00,   -0.13,2,    0.00,   -22.4,2,     4.0,  26.6819,2
49NZ200107_1,       P17N,      34,          1,         25,         25,2,20010810,       1102,    37.5013,  -135.0022,       5281,   504.8,   5.3332,2,  33.9919,2,  33.9942,2,    76.19,1,   75.98,2,   65.51,2,   37.61,2,    0.01,2,    2.62,2,-999.000,1,-999.000,1,-999.000,1,  2269.2,2,  2294.0,2,    7.393,    25.00,   -0.35,2,    0.00,   -82.4,2,     4.1,  26.8422,2
49NZ200107_1,       P17N,      34,          1,         24,         24,2,20010810,       1102,    37.5013,  -135.0022,       5281,   606.0,   4.8133,2,  34.0834,2,  34.0832,2,    41.92,1,   39.47,2,   80.63,2,   41.38,2,    0.01,2,    2.92,2,-999.000,1,-999.000,1,-999.000,1,  2308.4,2,  2308.2,6,    7.332,    25.00,   -0.51,2,    0.00,  -123.4,2,     4.2,  26.9750,2
49NZ200107_1,       P17N,      34,          1,         23,         23,2,20010810,       1102,    37.5013,  -135.0022,       5281,   707.4,   4.4593,2,  34.1912,2,  34.1938,2,    23.52,1,   18.61,2,   94.38,2,   43.20,2,    0.01,2,    3.10,2,-999.000,1,-999.000,1,-999.000,1,  2337.0,2,  2331.7,2,    7.297,    25.00,   -0.47,3,    0.00,  -165.1,2,     4.4,  27.1001,2
49NZ200107_1,       P17N,      34,          1,         22,         22,2,20010810,       1102,    37.5013,  -135.0022,       5281,   808.2,   4.1233,2,  34.2762,2,  34.2748,2,    17.33,1,   11.29,2,  104.72,2,   44.18,2,    0.01,2,    3.16,2,-999.000,1,-999.000,1,-999.000,1,  2355.7,6,  2342.4,2,    7.296,    25.00,   -0.58,2,    0.00,  -181.3,2,     4.5,  27.2039,2
49NZ200107_1,       P17N,      34,          1,         21,         21,3,20010810,       1102,    37.5013,  -135.0022,       5281,   909.6,   3.6025,2,  34.2988,2,  34.2966,2,    15.94,1,    9.15,3,  116.69,2,   44.93,2,    0.00,2,    3.20,2,-999.000,1,-999.000,1,-999.000,1,  2369.7,2,  2356.0,2,    7.297,    25.00,   -0.63,2,    0.00,  -201.1,2,     4.6,  27.2747,2
49NZ200107_1,       P17N,      34,          1,         20,         20,2,20010810,       1102,    37.5013,  -135.0022,       5281,  1010.6,   3.4129,2,  34.3581,2,  34.3582,2,    15.77,1,    8.57,2,  124.72,2,   44.99,2,    0.00,2,    3.23,2,-999.000,1,-999.000,1,-999.000,1,  2378.3,2,  2363.3,6,    7.297,    25.00,   -0.65,2,    0.00,  -206.1,2,     4.2,  27.3409,2
49NZ200107_1,       P17N,      34,          1,         19,         19,2,20010810,       1102,    37.5013,  -135.0022,       5281,  1212.5,   3.0474,2,  34.4464,2,  34.4466,2,    20.82,1,   13.05,2,  133.67,2,   45.09,2,    0.01,2,    3.17,2,-999.000,1,-999.000,1,-999.000,1,  2389.6,2,  2385.2,2,    7.314,    25.00,   -0.58,2,    0.01,  -221.0,2,     4.8,  27.4466,2
49NZ200107_1,       P17N,      34,          1,         18,         18,2,20010810,       1102,    37.5013,  -135.0022,       5281,  1415.0,   2.7430,2,  34.5100,2,  34.5102,2,    32.36,1,   25.65,2,  141.24,2,   44.34,2,    0.00,2,    3.13,2,-999.000,1,-999.000,1,-999.000,1,  2391.7,6,  2389.1,3,    7.344,    25.00,   -0.54,6,    0.00,  -227.9,6,     3.2,  27.5256,2
49NZ200107_1,       P17N,      34,          1,         17,         17,2,20010810,       1102,    37.5013,  -135.0022,       5281,  1618.0,   2.4096,2,  34.5557,2,  34.5556,2,    47.22,1,   41.20,2,  147.99,2,   43.57,2,    0.01,2,    3.08,2,-999.000,1,-999.000,1,-999.000,1,  2391.5,2,  2408.5,2,    7.376,    25.00,   -0.48,2,    0.00,  -242.3,2,     4.7,  27.5915,2
49NZ200107_1,       P17N,      34,          1,         16,         16,2,20010810,       1102,    37.5013,  -135.0022,       5281,  1821.3,   2.1513,2,  34.5866,2,  34.5866,2,    60.46,1,   56.36,2,  154.28,2,   42.63,2,    0.01,2,    3.02,2,-999.000,1,-999.000,1,-999.000,1,  2387.4,2,  -999.0,5,    7.405,    25.00,   -0.40,2,    0.00,  -246.6,2,     4.3,  27.6382,2
49NZ200107_1,       P17N,      34,          1,         15,         15,2,20010810,       1102,    37.5013,  -135.0022,       5281,  2024.1,   1.9659,2,  34.6094,2,  34.6094,2,    72.46,1,   68.95,2,  157.96,2,   41.93,2,    0.00,2,    2.94,2,-999.000,1,-999.000,1,-999.000,1,  2384.4,2,  2425.0,2,    7.429,    25.00,   -0.33,2,    0.00,  -253.6,2,     4.9,  27.6722,2
49NZ200107_1,       P17N,      34,          1,         14,         14,2,20010810,       1102,    37.5013,  -135.0022,       5281,  2228.2,   1.8432,2,  34.6232,2,  34.6232,2,    81.02,1,   78.98,2,  160.58,2,   41.30,2,    0.01,2,    2.91,2,-999.000,1,-999.000,1,-999.000,1,  2381.5,2,  2423.9,2,    7.455,    25.00,   -0.31,2,    0.01,  -248.1,2,     4.9,  27.6938,2
49NZ200107_1,       P17N,      34,          1,         13,         13,2,20010810,       1102,    37.5013,  -135.0022,       5281,  2431.5,   1.7490,2,  34.6367,2,  34.6366,2,    90.36,1,   88.12,2,  160.97,2,   40.58,2,    0.01,2,    2.85,2,-999.000,9,-999.000,9,-999.000,9,  -999.0,9,  -999.0,9, -999.000,  -999.00, -999.00,9, -999.00,  -999.0,9,  -999.0,  27.7128,2
49NZ200107_1,       P17N,      34,          1,         12,         12,2,20010810,       1102,    37.5013,  -135.0022,       5281,  2635.5,   1.6751,2,  34.6471,2,  34.6473,2,    99.25,1,   97.94,2,  160.98,2,   40.07,2,    0.01,2,    2.80,2,-999.000,1,-999.000,1,-999.000,1,  2369.8,2,  2428.1,6,    7.490,    25.00,   -0.20,2,    0.00,  -249.8,2,     4.4,  27.7278,2
49NZ200107_1,       P17N,      34,          1,         11,         11,2,20010810,       1102,    37.5013,  -135.0022,       5281,  2839.5,   1.6231,2,  34.6545,2,  34.6549,2,   106.28,1,  105.36,2,  162.62,2,   39.67,2,    0.01,2,    2.74,2,-999.000,9,-999.000,9,-999.000,9,  -999.0,9,  -999.0,9, -999.000,  -999.00, -999.00,9, -999.00,  -999.0,9,  -999.0,  27.7387,2
49NZ200107_1,       P17N,      34,          1,         10,         10,2,20010810,       1102,    37.5013,  -135.0022,       5281,  3044.0,   1.5841,2,  34.6610,2,  34.6613,2,   112.76,1,  112.04,2,  163.23,2,   39.23,2,    0.01,2,    2.72,2,-999.000,1,-999.000,1,-999.000,1,  2362.4,2,  2429.7,2,    7.515,    25.00,   -0.16,2,    0.00,  -240.1,2,     4.2,  27.7481,2
49NZ200107_1,       P17N,      34,          1,          9,          9,2,20010810,       1102,    37.5013,  -135.0022,       5281,  3309.1,   1.5479,2,  34.6680,2,  34.6679,2,   120.78,1,  119.37,2,  161.91,2,   38.65,2,    0.01,2,    2.69,2,-999.000,9,-999.000,9,-999.000,9,  -999.0,9,  -999.0,9, -999.000,  -999.00, -999.00,9, -999.00,  -999.0,9,  -999.0,  27.7581,2
49NZ200107_1,       P17N,      34,          1,          8,          8,2,20010810,       1102,    37.5013,  -135.0022,       5281,  3554.8,   1.5202,2,  34.6739,2,  34.6740,2,   128.49,1,  127.15,2,  160.59,2,   38.32,2,    0.01,2,    2.65,2,-999.000,1,-999.000,1,-999.000,1,  2352.6,6,  2433.1,2,    7.543,    25.00,   -0.09,2,    0.00,  -230.4,3,     4.8,  27.7664,2
49NZ200107_1,       P17N,      34,          1,          7,          7,2,20010810,       1102,    37.5013,  -135.0022,       5281,  3810.8,   1.5043,2,  34.6790,2,  34.6788,2,   135.07,1,  133.27,2,  160.14,2,   37.96,2,    0.01,2,    2.63,2,-999.000,9,-999.000,9,-999.000,9,  -999.0,9,  -999.0,9, -999.000,  -999.00, -999.00,9, -999.00,  -999.0,9,  -999.0,  27.7735,2
49NZ200107_1,       P17N,      34,          1,          6,          6,2,20010810,       1102,    37.5013,  -135.0022,       5281,  4067.9,   1.5005,2,  34.6824,2,  34.6821,2,   141.26,1,  139.46,2,  157.69,2,   37.55,2,    0.01,2,    2.60,2,-999.000,1,-999.000,1,-999.000,1,  2345.6,2,  2427.2,6,    7.573,    25.00,    0.05,2,    0.01,  -233.9,2,     4.5,  27.7784,2
49NZ200107_1,       P17N,      34,          1,          5,          5,2,20010810,       1102,    37.5013,  -135.0022,       5281,  4324.1,   1.5081,2,  34.6847,2,  34.6846,2,   146.69,1,  143.93,2,  154.08,2,   37.26,2,    0.00,2,    2.58,2,-999.000,9,-999.000,9,-999.000,9,  -999.0,9,  -999.0,9, -999.000,  -999.00, -999.00,9, -999.00,  -999.0,9,  -999.0,  27.7816,2
49NZ200107_1,       P17N,      34,          1,          4,          4,2,20010810,       1102,    37.5013,  -135.0022,       5281,  4580.8,   1.5267,2,  34.6860,2,  34.6859,2,   150.50,1,  146.21,2,  152.05,2,   37.01,2,    0.00,2,    2.56,2,-999.000,1,-999.000,1,-999.000,1,  2338.9,2,  2427.9,2,    7.579,    25.00,    0.10,2,    0.01,  -229.2,2,     4.7,  27.7835,2
49NZ200107_1,       P17N,      34,          1,          3,          3,2,20010810,       1102,    37.5013,  -135.0022,       5281,  4838.6,   1.5507,2,  34.6867,2,  34.6868,2,   154.52,1,  148.21,2,  149.69,2,   36.86,2,    0.00,2,    2.54,2,-999.000,9,-999.000,9,-999.000,9,  -999.0,9,  -999.0,9, -999.000,  -999.00, -999.00,9, -999.00,  -999.0,9,  -999.0,  27.7846,2
49NZ200107_1,       P17N,      34,          1,          2,          2,2,20010810,       1102,    37.5013,  -135.0022,       5281,  5096.3,   1.5776,2,  34.6875,2,  34.6875,2,   158.02,1,  149.86,2,  147.06,2,   36.72,2,    0.01,2,    2.49,2,-999.000,1,-999.000,1,-999.000,1,  2336.1,6,  2426.1,2,    7.590,    25.00,    0.13,6,    0.01,  -218.9,6,     7.7,  27.7855,2
49NZ200107_1,       P17N,      34,          1,          1,          1,2,20010810,       1102,    37.5013,  -135.0022,       5281,  5309.8,   1.6038,2,  34.6876,2,  34.6876,2,   161.70,1,  150.61,2,  146.86,2,   36.61,2,    0.01,2,    2.50,2,-999.000,1,-999.000,1,-999.000,1,  2335.1,2,  2430.7,2,    7.592,    25.00,    0.10,2,    0.00,  -221.1,2,     4.4,  27.7857,2