BOTTLE,20220817CCHSIOAMB
EXPOCODE,SECT_ID,STNNBR,CASTNO,SAMPNO,BTLNBR,BTLNBR_FLAG_W,DATE,TIME,LATITUDE,LONGITUDE,DEPTH,CTDPRS,CTDTMP,CTDTMP_FLAG_W,CTDSAL,CTDSAL_FLAG_W,SALNTY,SALNTY_FLAG_W,CTDOXY,CTDOXY_FLAG_W,OXYGEN,OXYGEN_FLAG_W,SILCAT,SILCAT_FLAG_W,NITRAT,NITRAT_FLAG_W,NITRIT,NITRIT_FLAG_W,PHSPHT,PHSPHT_FLAG_W,CFC-11,CFC-11_FLAG_W,CFC-12,CFC-12_FLAG_W,CFC113,CFC113_FLAG_W,TCARBN,TCARBN_FLAG_W,ALKALI,ALKALI_FLAG_W,PH_TOT,PH_TMP,DELC13,DELC13_FLAG_W,C13ERR,DELC14,DELC14_FLAG_W,C14ERR,THETA,THETA_FLAG_W
,,,,,,,,,,,METERS,DBAR,ITS-90,,PSS-78,,PSS-78,,UMOL/KG,,UMOL/KG,,UMOL/KG,,UMOL/KG,,UMOL/KG,,UMOL/KG,,PMOL/KG,,PMOL/KG,,PMOL/KG,,UMOL/KG,,UMOL/KG,,,DEG C,/MILLE,,/MILLE,/MILLE,,/MILLE,DEG C,
49NZ200107_1,       P17N,      69,          1,          0,        -99,9,20010818,       1618,    48.5250,  -147.2522,       4718,     4.5,-999.0000,9,-999.0000,9,  32.4494,2,  -999.00,9,  280.43,2,   10.08,2,    7.41,2,    0.13,2,    0.89,2,-999.000,9,-999.000,9,-999.000,9,  -999.0,9,  -999.0,9, -999.000,  -999.00, -999.00,9, -999.00,  -999.0,9,  -999.0,-999.0000,9
49NZ200107_1,       P17N,      69,          1,         36,         36,2,20010818,       1618,    48.5250,  -147.2522,       4718,    11.0,  12.3915,2,  32.4563,2,  32.4527,2,   269.13,1,  282.15,2,   10.24,2,    7.44,2,    0.13,2,    0.87,2,-999.000,9,-999.000,9,-999.000,9,  -999.0,9,  -999.0,9, -999.000,  -999.00, -999.00,9, -999.00,  -999.0,9,  -999.0,  24.5407,2
49NZ200107_1,       P17N,      69,          1,         35,         35,2,20010818,       1618,    48.5250,  -147.2522,       4718,    26.4,  11.8909,2,  32.4442,2,  32.4715,2,   274.67,1,  303.85,2,   10.29,2,    8.30,2,    0.13,2,    0.93,2,-999.000,9,-999.000,9,-999.000,9,  -999.0,9,  -999.0,9, -999.000,  -999.00, -999.00,9, -999.00,  -999.0,9,  -999.0,  24.6256,2
49NZ200107_1,       P17N,      69,          1,         34,         34,2,20010818,       1618,    48.5250,  -147.2522,       4718,    51.5,   6.7121,2,  32.5767,2,  32.5789,2,   284.17,1,  304.00,2,   14.75,2,   12.80,2,    0.39,2,    1.26,2,-999.000,9,-999.000,9,-999.000,9,  -999.0,9,  -999.0,9, -999.000,  -999.00, -999.00,9, -999.00,  -999.0,9,  -999.0,  25.5488,2
49NZ200107_1,       P17N,      69,          1,         33,         33,2,20010818,       1618,    48.5250,  -147.2522,       4718,    76.3,   5.6371,2,  32.6074,2,  32.6083,2,   282.25,1,  302.48,2,   17.71,2,   15.47,2,    0.05,2,    1.34,2,-999.000,9,-999.000,9,-999.000,9,  -999.0,9,  -999.0,9, -999.000,  -999.00, -999.00,9, -999.00,  -999.0,9,  -999.0,  25.7067,2
49NZ200107_1,       P17N,      69,          1,         32,         32,2,20010818,       1618,    48.5250,  -147.2522,       4718,    98.6,   5.3019,2,  32.6596,2,  32.6648,2,   282.06,1,  303.38,2,   19.99,2,   16.56,2,    0.03,2,    1.42,2,-999.000,9,-999.000,9,-999.000,9,  -999.0,9,  -999.0,9, -999.000,  -999.00, -999.00,9, -999.00,  -999.0,9,  -999.0,  25.7870,2
49NZ200107_1,       P17N,      69,          1,         31,         31,2,20010818,       1618,    48.5250,  -147.2522,       4718,   152.2,   4.9420,2,  33.1471,2,  33.1620,2,   225.39,1,  247.92,2,   31.69,2,   22.67,2,    0.01,2,    1.73,2,-999.000,9,-999.000,9,-999.000,9,  -999.0,9,  -999.0,9, -999.000,  -999.00, -999.00,9, -999.00,  -999.0,9,  -999.0,  26.2141,2
49NZ200107_1,       P17N,      69,          1,         30,         30,2,20010818,       1618,    48.5250,  -147.2522,       4718,   202.9,   5.3819,2,  33.7808,2,  33.7813,2,   141.52,1,  150.47,2,   48.98,2,   31.08,2,    0.01,2,    2.19,2,-999.000,9,-999.000,9,-999.000,9,  -999.0,9,  -999.0,9, -999.000,  -999.00, -999.00,9, -999.00,  -999.0,9,  -999.0,  26.6663,2
49NZ200107_1,       P17N,      69,          1,         29,         29,2,20010818,       1618,    48.5250,  -147.2522,       4718,   253.1,   5.0061,2,  33.8455,2,  33.8455,2,   110.65,1,  118.59,2,   59.16,2,   35.26,2,    0.02,2,    2.45,2,-999.000,9,-999.000,9,-999.000,9,  -999.0,9,  -999.0,9, -999.000,  -999.00, -999.00,9, -999.00,  -999.0,9,  -999.0,  26.7615,2
49NZ200107_1,       P17N,      69,          1,         28,         28,2,20010818,       1618,    48.5250,  -147.2522,       4718,   303.6,   4.5677,2,  33.8819,2,  33.8814,2,    88.59,1,   92.14,2,   68.53,2,   38.09,2,    0.01,2,    2.59,2,-999.000,9,-999.000,9,-999.000,9,  -999.0,9,  -999.0,9, -999.000,  -999.00, -999.00,9, -999.00,  -999.0,9,  -999.0,  26.8394,2
49NZ200107_1,       P17N,      69,          1,         27,         27,2,20010818,       1618,    48.5250,  -147.2522,       4718,   354.4,   4.3305,2,  33.9281,2,  33.9275,2,    73.71,1,   75.05,2,   76.12,2,   39.93,2,    0.01,2,    2.71,2,-999.000,9,-999.000,9,-999.000,9,  -999.0,9,  -999.0,9, -999.000,  -999.00, -999.00,9, -999.00,  -999.0,9,  -999.0,  26.9018,2
49NZ200107_1,       P17N,      69,          1,         26,         26,2,20010818,       1618,    48.5250,  -147.2522,       4718,   404.6,   4.1516,2,  33.9840,2,  33.9869,2,    61.48,1,   60.69,2,   84.38,2,   41.19,2,    0.00,2,    2.88,2,-999.000,9,-999.000,9,-999.000,9,  -999.0,9,  -999.0,9, -999.000,  -999.00, -999.00,9, -999.00,  -999.0,9,  -999.0,  26.9653,2
49NZ200107_1,       P17N,      69,          1,         25,         25,2,20010818,       1618,    48.5250,  -147.2522,       4718,   505.9,   3.9698,2,  34.0793,2,  34.0788,2,    44.29,1,   42.50,2,   95.09,2,   42.52,2,    0.00,2,    2.97,2,-999.000,9,-999.000,9,-999.000,9,  -999.0,9,  -999.0,9, -999.000,  -999.00, -999.00,9, -999.00,  -999.0,9,  -999.0,  27.0605,2
49NZ200107_1,       P17N,      69,          1,         24,         24,2,20010818,       1618,    48.5250,  -147.2522,       4718,   607.2,   3.7693,2,  34.1728,2,  34.1718,2,    35.74,1,   31.81,2,  105.54,2,   43.15,2,    0.00,2,    3.03,2,-999.000,9,-999.000,9,-999.000,9,  -999.0,9,  -999.0,9, -999.000,  -999.00, -999.00,9, -999.00,  -999.0,9,  -999.0,  27.1557,2
49NZ200107_1,       P17N,      69,          1,         23,         23,3,20010818,       1618,    48.5250,  -147.2522,       4718,   708.2,   3.5695,2,  34.2339,2,  34.2344,2,    30.99,1,   26.44,2,  113.18,2,   43.76,2,    0.00,2,    3.06,2,-999.000,9,-999.000,9,-999.000,9,  -999.0,9,  -999.0,9, -999.000,  -999.00, -999.00,9, -999.00,  -999.0,9,  -999.0,  27.2247,2
49NZ200107_1,       P17N,      69,          1,         22,         22,2,20010818,       1618,    48.5250,  -147.2522,       4718,   809.1,   3.3203,2,  34.2851,2,  34.2847,2,    27.12,1,   21.95,2,  121.36,2,   44.22,2,    0.01,2,    3.12,2,-999.000,9,-999.000,9,-999.000,9,  -999.0,9,  -999.0,9, -999.000,  -999.00, -999.00,9, -999.00,  -999.0,9,  -999.0,  27.2899,2
49NZ200107_1,       P17N,      69,          1,         21,         21,2,20010818,       1618,    48.5250,  -147.2522,       4718,   910.5,   3.1373,2,  34.3261,2,  34.3263,2,    25.61,1,   19.90,2,  127.58,2,   44.40,2,    0.00,2,    3.13,2,-999.000,9,-999.000,9,-999.000,9,  -999.0,9,  -999.0,9, -999.000,  -999.00, -999.00,9, -999.00,  -999.0,9,  -999.0,  27.3402,2
49NZ200107_1,       P17N,      69,          1,         20,         20,2,20010818,       1618,    48.5250,  -147.2522,       4718,  1012.0,   2.9505,2,  34.3684,2,  34.3692,2,    24.24,1,   18.53,2,  133.97,2,   44.75,2,    0.00,2,    3.15,2,-999.000,9,-999.000,9,-999.000,9,  -999.0,9,  -999.0,9, -999.000,  -999.00, -999.00,9, -999.00,  -999.0,9,  -999.0,  27.3915,2
49NZ200107_1,       P17N,      69,          1,         19,         19,2,20010818,       1618,    48.5250,  -147.2522,       4718,  1113.4,   2.7868,2,  34.4056,2,  34.4060,2,    22.36,1,   15.70,2,  140.45,2,   44.88,2,    0.00,2,    3.13,2,-999.000,9,-999.000,9,-999.000,9,  -999.0,9,  -999.0,9, -999.000,  -999.00, -999.00,9, -999.00,  -999.0,9,  -999.0,  27.4363,2
49NZ200107_1,       P17N,      69,          1,         18,         18,2,20010818,       1618,    48.5250,  -147.2522,       4718,  1215.0,   2.6481,2,  34.4376,2,  34.4369,2,    21.75,1,   14.83,2,  144.72,2,   45.12,2,    0.00,2,    3.17,2,-999.000,9,-999.000,9,-999.000,9,  -999.0,9,  -999.0,9, -999.000,  -999.00, -999.00,9, -999.00,  -999.0,9,  -999.0,  27.4745,2
49NZ200107_1,       P17N,      69,          1,         17,         17,2,20010818,       1618,    48.5250,  -147.2522,       4718,  1316.3,   2.5252,2,  34.4634,2,  34.4627,2,    23.48,1,   16.59,2,  148.55,2,   45.23,2,    0.00,2,    3.19,2,-999.000,9,-999.000,9,-999.000,9,  -999.0,9,  -999.0,9, -999.000,  -999.00, -999.00,9, -999.00,  -999.0,9,  -999.0,  27.5061,2
49NZ200107_1,       P17N,      69,          1,         16,         16,2,20010818,       1618,    48.5250,  -147.2522,       4718,  1417.7,   2.4158,2,  34.4864,2,  34.4854,2,    26.15,1,   19.24,2,  151.56,2,   45.08,2,    0.01,2,    3.17,2,-999.000,9,-999.000,9,-999.000,9,  -999.0,9,  -999.0,9, -999.000,  -999.00, -999.00,9, -999.00,  -999.0,9,  -999.0,  27.5342,2
49NZ200107_1,       P17N,      69,          1,         15,         15,2,20010818,       1618,    48.5250,  -147.2522,       4718,  1620.7,   2.2375,2,  34.5259,2,  34.5265,2,    32.55,1,   26.23,2,  156.38,2,   44.89,2,    0.00,2,    3.14,2,-999.000,9,-999.000,9,-999.000,9,  -999.0,9,  -999.0,9, -999.000,  -999.00, -999.00,9, -999.00,  -999.0,9,  -999.0,  27.5815,2
49NZ200107_1,       P17N,      69,          1,         14,         14,2,20010818,       1618,    48.5250,  -147.2522,       4718,  1824.1,   2.0686,2,  34.5607,2,  34.5605,2,    45.33,1,   39.72,2,  159.62,2,   44.11,2,    0.00,2,    3.09,2,-999.000,9,-999.000,9,-999.000,9,  -999.0,9,  -999.0,9, -999.000,  -999.00, -999.00,9, -999.00,  -999.0,9,  -999.0,  27.6240,2
49NZ200107_1,       P17N,      69,          1,         13,         13,2,20010818,       1618,    48.5250,  -147.2522,       4718,  2027.5,   1.9340,2,  34.5871,2,  34.5868,2,    58.28,1,   53.59,2,  161.43,2,   43.13,2,    0.00,2,    3.03,2,-999.000,9,-999.000,9,-999.000,9,  -999.0,9,  -999.0,9, -999.000,  -999.00, -999.00,9, -999.00,  -999.0,9,  -999.0,  27.6567,2
49NZ200107_1,       P17N,      69,          1,         12,         12,2,20010818,       1618,    48.5250,  -147.2522,       4718,  2231.3,   1.8351,2,  34.6064,2,  34.6065,2,    69.83,1,   65.85,2,  161.77,2,   42.30,2,    0.00,2,    2.97,2,-999.000,9,-999.000,9,-999.000,9,  -999.0,9,  -999.0,9, -999.000,  -999.00, -999.00,9, -999.00,  -999.0,9,  -999.0,  27.6809,2
49NZ200107_1,       P17N,      69,          1,         11,         11,2,20010818,       1618,    48.5250,  -147.2522,       4718,  2435.5,   1.7526,2,  34.6225,2,  34.6225,2,    81.16,1,   77.83,2,  162.37,2,   41.51,2,    0.01,2,    2.89,2,-999.000,9,-999.000,9,-999.000,9,  -999.0,9,  -999.0,9, -999.000,  -999.00, -999.00,9, -999.00,  -999.0,9,  -999.0,  27.7011,2
49NZ200107_1,       P17N,      69,          1,         10,         10,2,20010818,       1618,    48.5250,  -147.2522,       4718,  2639.6,   1.6822,2,  34.6360,2,  34.6356,2,    91.57,1,   88.94,2,  161.54,2,   40.77,2,    0.00,2,    2.84,2,-999.000,9,-999.000,9,-999.000,9,  -999.0,9,  -999.0,9, -999.000,  -999.00, -999.00,9, -999.00,  -999.0,9,  -999.0,  27.7184,2
49NZ200107_1,       P17N,      69,          1,          9,          9,2,20010818,       1618,    48.5250,  -147.2522,       4718,  2844.0,   1.6199,2,  34.6476,2,  34.6476,2,   102.67,1,  100.57,2,  160.65,2,   40.07,2,    0.00,2,    2.81,2,-999.000,9,-999.000,9,-999.000,9,  -999.0,9,  -999.0,9, -999.000,  -999.00, -999.00,9, -999.00,  -999.0,9,  -999.0,  27.7335,2
49NZ200107_1,       P17N,      69,          1,          8,          8,2,20010818,       1618,    48.5250,  -147.2522,       4718,  3048.5,   1.5706,2,  34.6574,2,  34.6574,2,   112.33,1,  111.05,2,  159.06,2,   39.37,2,    0.00,2,    2.76,2,-999.000,9,-999.000,9,-999.000,9,  -999.0,9,  -999.0,9, -999.000,  -999.00, -999.00,9, -999.00,  -999.0,9,  -999.0,  27.7461,2
49NZ200107_1,       P17N,      69,          1,          7,          7,2,20010818,       1618,    48.5250,  -147.2522,       4718,  3304.4,   1.5261,2,  34.6668,2,  34.6665,2,   123.14,1,  121.68,2,  157.79,2,   38.72,2,    0.01,2,    2.71,2,-999.000,9,-999.000,9,-999.000,9,  -999.0,9,  -999.0,9, -999.000,  -999.00, -999.00,9, -999.00,  -999.0,9,  -999.0,  27.7585,2
49NZ200107_1,       P17N,      69,          1,          6,          6,2,20010818,       1618,    48.5250,  -147.2522,       4718,  3560.0,   1.5017,2,  34.6735,2,  34.6735,2,   131.20,1,  129.61,2,  156.75,2,   38.09,2,    0.01,2,    2.67,2,-999.000,9,-999.000,9,-999.000,9,  -999.0,9,  -999.0,9, -999.000,  -999.00, -999.00,9, -999.00,  -999.0,9,  -999.0,  27.7674,2
49NZ200107_1,       P17N,      69,          1,          5,          5,2,20010818,       1618,    48.5250,  -147.2522,       4718,  3816.9,   1.4978,2,  34.6775,2,  34.6773,2,   136.85,1,  134.68,2,  156.72,2,   37.83,2,    0.01,2,    2.65,2,-999.000,9,-999.000,9,-999.000,9,  -999.0,9,  -999.0,9, -999.000,  -999.00, -999.00,9, -999.00,  -999.0,9,  -999.0,  27.7727,2
49NZ200107_1,       P17N,      69,          1,          4,          4,2,20010818,       1618,    48.5250,  -147.2522,       4718,  4073.8,   1.5019,2,  34.6809,2,  34.6809,2,   141.20,1,  138.34,2,  157.92,2,   37.67,2,    0.00,2,    2.60,2,-999.000,9,-999.000,9,-999.000,9,  -999.0,9,  -999.0,9, -999.000,  -999.00, -999.00,9, -999.00,  -999.0,9,  -999.0,  27.7771,2
49NZ200107_1,       P17N,      69,          1,          3,          3,2,20010818,       1618,    48.5250,  -147.2522,       4718,  4330.9,   1.5175,2,  34.6832,2,  34.6837,2,   144.36,1,  140.20,2,  159.49,2,   37.51,2,    0.00,2,    2.62,2,-999.000,9,-999.000,9,-999.000,9,  -999.0,9,  -999.0,9, -999.000,  -999.00, -999.00,9, -999.00,  -999.0,9,  -999.0,  27.7799,2
49NZ200107_1,       P17N,      69,          1,          2,          2,2,20010818,       1618,    48.5250,  -147.2522,       4718,  4588.1,   1.5418,2,  34.6845,2,  34.6844,2,   146.67,1,  140.61,2,  160.45,2,   37.45,2,    0.00,2,    2.54,2,-999.000,9,-999.000,9,-999.000,9,  -999.0,9,  -999.0,9, -999.000,  -999.00, -999.00,9, -999.00,  -999.0,9,  -999.0,  27.7814,2
49NZ200107_1,       P17N,      69,          1,          1,          1,2,20010818,       1618,    48.5250,  -147.2522,       4718,  4791.4,   1.5646,2,  34.6848,2,  34.6849,2,   148.87,1,  140.82,2,  161.20,2,   37.44,2,    0.01,2,    2.58,2,-999.000,9,-999.000,9,-999.000,9,  -999.0,9,  -999.0,9, -999.000,  -999.00, -999.00,9, -999.00,  -999.0,9,  -999.0,  27.7817,2