BOTTLE,20220817CCHSIOAMB
EXPOCODE,SECT_ID,STNNBR,CASTNO,SAMPNO,BTLNBR,BTLNBR_FLAG_W,DATE,TIME,LATITUDE,LONGITUDE,DEPTH,CTDPRS,CTDTMP,CTDTMP_FLAG_W,CTDSAL,CTDSAL_FLAG_W,SALNTY,SALNTY_FLAG_W,CTDOXY,CTDOXY_FLAG_W,OXYGEN,OXYGEN_FLAG_W,SILCAT,SILCAT_FLAG_W,NITRAT,NITRAT_FLAG_W,NITRIT,NITRIT_FLAG_W,PHSPHT,PHSPHT_FLAG_W,CFC-11,CFC-11_FLAG_W,CFC-12,CFC-12_FLAG_W,CFC113,CFC113_FLAG_W,TCARBN,TCARBN_FLAG_W,ALKALI,ALKALI_FLAG_W,PH_TOT,PH_TMP,DELC13,DELC13_FLAG_W,C13ERR,DELC14,DELC14_FLAG_W,C14ERR,THETA,THETA_FLAG_W
,,,,,,,,,,,METERS,DBAR,ITS-90,,PSS-78,,PSS-78,,UMOL/KG,,UMOL/KG,,UMOL/KG,,UMOL/KG,,UMOL/KG,,UMOL/KG,,PMOL/KG,,PMOL/KG,,PMOL/KG,,UMOL/KG,,UMOL/KG,,,DEG C,/MILLE,,/MILLE,/MILLE,,/MILLE,DEG C,
49NZ200107_1,       P17N,      28,          1,          0,        -99,9,20010808,       1944,    34.5877,  -135.0042,       5191,     4.5,-999.0000,9,-999.0000,9,  33.4557,2,  -999.00,9,  234.86,2,    2.90,2,    0.00,2,    0.00,2,    0.26,2,-999.000,1,-999.000,1,-999.000,1,  1993.2,2,  2226.3,2,    7.970,    25.00, -999.00,9, -999.00,  -999.0,9,  -999.0,-999.0000,9
49NZ200107_1,       P17N,      28,          1,         36,         36,2,20010808,       1944,    34.5877,  -135.0042,       5191,    10.8,  19.9689,2,  33.4740,2,  33.4762,2,   226.70,1,  238.13,2,    2.26,2,    0.00,2,    0.00,2,    0.19,2,-999.000,1,-999.000,1,-999.000,1,  1992.9,2,  2227.1,2,    7.974,    25.00,    1.76,6,    0.01,    51.5,6,     3.9,  23.6068,2
49NZ200107_1,       P17N,      28,          1,         35,         35,2,20010808,       1944,    34.5877,  -135.0042,       5191,    25.3,  19.7295,2,  33.4755,2,  33.4797,2,   228.05,1,  242.07,2,    2.55,2,    0.00,2,    0.00,2,    0.18,2,-999.000,1,-999.000,1,-999.000,1,  1994.0,2,  2231.6,2,    7.972,    25.00,    1.78,6,    0.01,    41.5,6,     6.7,  23.6709,2
49NZ200107_1,       P17N,      28,          1,         34,         34,2,20010808,       1944,    34.5877,  -135.0042,       5191,    50.5,  15.6101,2,  33.4256,2,  33.4272,2,   258.24,1,  270.75,2,    2.63,2,    0.39,2,    0.01,2,    0.20,2,-999.000,1,-999.000,1,-999.000,1,  1994.5,2,  2225.1,2,    7.957,    25.00,    1.72,6,    0.04,    49.5,6,     2.3,  24.6260,2
49NZ200107_1,       P17N,      28,          1,         33,         33,2,20010808,       1944,    34.5877,  -135.0042,       5191,    76.0,  14.6159,2,  33.4815,2,  33.4809,2,   250.25,1,  261.41,2,    2.86,2,    0.00,2,    0.00,2,    0.22,2,-999.000,1,-999.000,1,-999.000,1,  -999.0,5,  2231.4,2,    7.947,    25.00,    1.59,6,    0.01,    57.1,6,     2.3,  24.8864,2
49NZ200107_1,       P17N,      28,          1,         32,         32,2,20010808,       1944,    34.5877,  -135.0042,       5191,   101.2,  14.2780,2,  33.5325,2,  33.5160,2,   240.79,1,  251.89,2,    2.96,2,    0.02,2,    0.09,2,    0.25,2,-999.000,1,-999.000,1,-999.000,1,  -999.0,5,  2225.1,6,    7.935,    25.00,    1.52,6,    0.02,    52.6,6,     7.0,  24.9981,2
49NZ200107_1,       P17N,      28,          1,         31,         31,2,20010808,       1944,    34.5877,  -135.0042,       5191,   151.3,  10.9532,2,  33.3855,2,  33.3846,2,   230.46,1,  240.97,2,    6.31,2,    6.01,2,    0.01,2,    0.62,2,-999.000,1,-999.000,1,-999.000,1,  -999.0,5,  2214.9,2,    7.836,    25.00,    1.06,6,    0.03,    52.3,6,     2.2,  25.5300,2
49NZ200107_1,       P17N,      28,          1,         30,         30,2,20010808,       1944,    34.5877,  -135.0042,       5191,   202.0,   9.2527,2,  33.5451,2,  33.5746,2,   220.16,1,  230.53,2,   11.97,2,   11.89,2,    0.01,2,    0.94,2,-999.000,1,-999.000,1,-999.000,1,  2079.3,2,  2216.3,2,    7.777,    25.00,    0.70,6,    0.03,    46.2,6,     2.5,  25.9422,2
49NZ200107_1,       P17N,      28,          1,         29,         29,2,20010808,       1944,    34.5877,  -135.0042,       5191,   251.8,   9.1790,2,  33.9129,2,  33.9191,2,   190.21,1,  200.85,2,   19.20,2,   17.33,2,    0.00,2,    1.25,2,-999.000,1,-999.000,1,-999.000,1,  2115.8,2,  2236.7,2,    7.724,    25.00,    0.32,6,    0.03,    42.5,6,     3.9,  26.2427,2
49NZ200107_1,       P17N,      28,          1,         28,         28,2,20010808,       1944,    34.5877,  -135.0042,       5191,   302.8,   8.6208,2,  34.0273,2,  34.0265,2,   172.57,1,  180.73,2,   27.29,2,   21.66,2,    0.01,2,    1.49,2,-999.000,1,-999.000,1,-999.000,1,  2144.9,2,  2251.5,6,    7.682,    25.00,    0.16,6,    0.00,    22.3,6,     2.1,  26.4208,2
49NZ200107_1,       P17N,      28,          1,         27,         27,2,20010808,       1944,    34.5877,  -135.0042,       5191,   353.3,   7.8157,2,  34.0119,2,  34.0114,2,   140.99,1,  147.17,2,   35.91,2,   26.46,2,    0.01,2,    1.86,2,-999.000,1,-999.000,1,-999.000,1,  2178.8,2,  2260.1,2,    7.597,    25.00,   -0.01,6,    0.01,    -4.6,6,     2.3,  26.5300,2
49NZ200107_1,       P17N,      28,          1,         26,         26,2,20010808,       1944,    34.5877,  -135.0042,       5191,   403.2,   6.9747,2,  33.9977,2,  33.9986,2,   114.14,1,  120.64,2,   44.71,2,   30.44,2,    0.00,2,    2.16,2,-999.000,1,-999.000,1,-999.000,1,  2209.8,6,  2261.9,2,    7.527,    25.00,   -0.13,6,    0.00,   -29.2,6,     3.1,  26.6378,2
49NZ200107_1,       P17N,      28,          1,         25,         25,2,20010808,       1944,    34.5877,  -135.0042,       5191,   504.7,   5.6343,2,  34.0185,2,  34.0180,2,    72.95,1,   72.70,2,   64.09,2,   37.16,2,    0.00,2,    2.65,2,-999.000,1,-999.000,1,-999.000,1,  2265.6,2,  2278.8,2,    7.412,    25.00,   -0.35,6,    0.01,   -85.0,6,     2.2,  26.8275,2
49NZ200107_1,       P17N,      28,          1,         24,         24,2,20010808,       1944,    34.5877,  -135.0042,       5191,   605.3,   5.0912,2,  34.1045,2,  34.1065,2,    41.58,1,   37.36,2,   79.64,2,   40.94,2,    0.00,2,    2.99,2,-999.000,1,-999.000,1,-999.000,1,  2304.7,2,  2300.8,6,    7.348,    25.00,   -0.48,6,    0.00,  -131.8,6,     5.4,  26.9604,2
49NZ200107_1,       P17N,      28,          1,         23,         23,2,20010808,       1944,    34.5877,  -135.0042,       5191,   706.5,   4.4924,2,  34.1833,2,  34.1858,2,    26.56,1,   20.30,2,   94.70,2,   43.12,2,    0.00,2,    3.12,2,-999.000,1,-999.000,1,-999.000,1,  2334.8,2,  2328.2,2,    7.322,    25.00,   -0.56,6,    0.01,  -162.5,6,     2.1,  27.0903,2
49NZ200107_1,       P17N,      28,          1,         22,         22,2,20010808,       1944,    34.5877,  -135.0042,       5191,   807.4,   4.1952,2,  34.2763,2,  34.2763,2,    18.79,1,   11.13,2,  104.83,2,   44.06,2,    0.00,2,    3.23,2,-999.000,1,-999.000,1,-999.000,1,  2353.3,6,  2337.3,2,    7.313,    25.00,   -0.59,6,    0.05,  -187.4,6,     2.2,  27.1965,2
49NZ200107_1,       P17N,      28,          1,         21,         21,2,20010808,       1944,    34.5877,  -135.0042,       5191,   908.4,   3.9726,2,  34.3536,2,  34.3526,2,    17.90,1,    9.84,2,  112.48,2,   44.32,2,   -0.01,2,    3.26,2,-999.000,1,-999.000,1,-999.000,1,  2363.2,2,  2350.7,2,    7.319,    25.00,   -0.54,6,    0.01,  -203.3,6,     2.0,  27.2817,2
49NZ200107_1,       P17N,      28,          1,         20,         20,2,20010808,       1944,    34.5877,  -135.0042,       5191,  1009.6,   3.7226,2,  34.4044,2,  34.4056,2,    20.46,1,   11.84,2,  118.85,2,   44.59,2,    0.00,2,    3.24,2,-999.000,1,-999.000,1,-999.000,1,  2369.9,2,  2359.4,6,    7.330,    25.00,   -0.54,6,    0.01,  -215.0,6,     4.0,  27.3479,2
49NZ200107_1,       P17N,      28,          1,         19,         19,2,20010808,       1944,    34.5877,  -135.0042,       5191,  1211.8,   3.2629,2,  34.4854,2,  34.4854,2,    32.20,1,   24.59,2,  125.82,2,   44.25,2,    0.00,2,    3.18,2,-999.000,1,-999.000,1,-999.000,1,  2379.5,2,  2385.3,2,    7.359,    25.00,   -0.48,6,    0.00,  -233.4,6,     1.8,  27.4580,2
49NZ200107_1,       P17N,      28,          1,         18,         18,2,20010808,       1944,    34.5877,  -135.0042,       5191,  1414.6,   2.8735,2,  34.5307,2,  34.5310,2,    43.79,1,   37.17,2,  133.92,2,   43.66,2,   -0.01,2,    3.14,2,-999.000,1,-999.000,1,-999.000,1,  2380.6,6,  2389.5,2,    7.387,    25.00,   -0.42,6,    0.00,  -240.5,6,     1.9,  27.5308,2
49NZ200107_1,       P17N,      28,          1,         17,         17,2,20010808,       1944,    34.5877,  -135.0042,       5191,  1617.9,   2.5347,2,  34.5635,2,  34.5629,2,    54.77,1,   49.00,2,  141.64,2,   43.09,2,   -0.01,2,    3.09,2,-999.000,1,-999.000,1,-999.000,1,  2380.8,2,  2396.1,2,    7.409,    25.00,   -0.38,6,    0.04,  -246.7,6,     3.3,  27.5874,2
49NZ200107_1,       P17N,      28,          1,         16,         16,2,20010808,       1944,    34.5877,  -135.0042,       5191,  1820.8,   2.2307,2,  34.5919,2,  34.5917,2,    66.22,1,   61.81,2,  149.62,2,   42.37,2,   -0.01,2,    3.04,2,-999.000,1,-999.000,1,-999.000,1,  2381.9,2,  2417.9,3,    7.433,    25.00,   -0.33,6,    0.01,  -246.1,6,     4.4,  27.6363,2
49NZ200107_1,       P17N,      28,          1,         15,         15,2,20010808,       1944,    34.5877,  -135.0042,       5191,  2024.2,   2.0093,2,  34.6113,2,  34.6113,2,    75.31,1,   71.09,2,  156.62,2,   41.66,2,    0.00,2,    2.99,2,-999.000,1,-999.000,1,-999.000,1,  2380.5,2,  2414.4,2,    7.455,    25.00,   -0.31,6,    0.01,  -247.7,6,     1.8,  27.6704,2
49NZ200107_1,       P17N,      28,          1,         14,         14,2,20010808,       1944,    34.5877,  -135.0042,       5191,  2227.7,   1.8658,2,  34.6284,2,  34.6282,2,    85.26,1,   82.79,2,  159.38,2,   40.97,2,    0.00,2,    2.93,2,-999.000,1,-999.000,1,-999.000,1,  2376.4,2,  2423.4,2,    7.476,    25.00,   -0.27,6,    0.04,  -250.9,6,     1.8,  27.6962,2
49NZ200107_1,       P17N,      28,          1,         13,         13,2,20010808,       1944,    34.5877,  -135.0042,       5191,  2430.8,   1.7612,2,  34.6392,2,  34.6394,2,    92.75,1,   90.89,2,  161.91,2,   40.50,2,    0.00,2,    2.91,2,-999.000,9,-999.000,9,-999.000,9,  -999.0,9,  -999.0,9, -999.000,  -999.00, -999.00,9, -999.00,  -999.0,9,  -999.0,  27.7139,2
49NZ200107_1,       P17N,      28,          1,         12,         12,2,20010808,       1944,    34.5877,  -135.0042,       5191,  2635.1,   1.6929,2,  34.6480,2,  34.6482,2,   100.02,1,   98.25,2,  162.14,2,   39.97,2,    0.00,2,    2.86,2,-999.000,1,-999.000,1,-999.000,1,  2369.5,2,  2424.1,6,    7.504,    25.00,   -0.19,6,    0.00,  -248.6,6,     2.0,  27.7272,2
49NZ200107_1,       P17N,      28,          1,         11,         11,2,20010808,       1944,    34.5877,  -135.0042,       5191,  2788.0,   1.6422,2,  34.6539,2,  34.6539,2,   105.59,1,  102.96,2,  162.83,2,   39.59,2,    0.00,2,    2.78,2,-999.000,9,-999.000,9,-999.000,9,  -999.0,9,  -999.0,9, -999.000,  -999.00, -999.00,9, -999.00,  -999.0,9,  -999.0,  27.7366,2
49NZ200107_1,       P17N,      28,          1,         10,         10,2,20010808,       1944,    34.5877,  -135.0042,       5191,  3043.2,   1.5816,2,  34.6619,2,  34.6615,2,   113.55,1,  112.92,2,  162.04,2,   39.06,2,    0.00,2,    2.76,2,-999.000,1,-999.000,1,-999.000,1,  2361.4,2,  2421.8,2,    7.531,    25.00,   -0.11,6,    0.01,  -243.4,6,     3.5,  27.7490,2
49NZ200107_1,       P17N,      28,          1,          9,          9,2,20010808,       1944,    34.5877,  -135.0042,       5191,  3298.5,   1.5310,2,  34.6693,2,  34.6693,2,   123.23,1,  122.56,2,  159.57,2,   38.60,2,    0.00,2,    2.72,2,-999.000,9,-999.000,9,-999.000,9,  -999.0,9,  -999.0,9, -999.000,  -999.00, -999.00,9, -999.00,  -999.0,9,  -999.0,  27.7602,2
49NZ200107_1,       P17N,      28,          1,          8,          8,2,20010808,       1944,    34.5877,  -135.0042,       5191,  3554.2,   1.4986,2,  34.6758,2,  34.6758,2,   131.43,1,  131.42,2,  157.73,2,   38.05,2,    0.00,2,    2.69,2,-999.000,1,-999.000,1,-999.000,1,  2347.7,6,  2422.3,2,    7.564,    25.00,    0.02,6,    0.01,  -236.1,6,     1.9,  27.7694,2
49NZ200107_1,       P17N,      28,          1,          7,          7,2,20010808,       1944,    34.5877,  -135.0042,       5191,  3810.6,   1.4889,2,  34.6798,2,  34.6793,2,   137.80,1,  136.37,2,  156.01,2,   37.54,2,    0.00,2,    2.66,2,-999.000,9,-999.000,9,-999.000,9,  -999.0,9,  -999.0,9, -999.000,  -999.00, -999.00,9, -999.00,  -999.0,9,  -999.0,  27.7751,2
49NZ200107_1,       P17N,      28,          1,          6,          6,2,20010808,       1944,    34.5877,  -135.0042,       5191,  4066.8,   1.4863,2,  34.6831,2,  34.6829,2,   144.00,1,  142.23,2,  153.79,2,   37.38,2,    0.00,2,    2.61,2,-999.000,1,-999.000,1,-999.000,1,  2338.8,2,  2426.0,2,    7.582,    25.00,    0.07,6,    0.01,  -232.1,6,     5.1,  27.7799,2
49NZ200107_1,       P17N,      28,          1,          5,          5,2,20010808,       1944,    34.5877,  -135.0042,       5191,  4323.9,   1.4977,2,  34.6852,2,  34.6852,2,   148.79,1,  146.39,2,  151.73,2,   36.98,2,    0.00,2,    2.62,2,-999.000,9,-999.000,9,-999.000,9,  -999.0,9,  -999.0,9, -999.000,  -999.00, -999.00,9, -999.00,  -999.0,9,  -999.0,  27.7828,2
49NZ200107_1,       P17N,      28,          1,          4,          4,2,20010808,       1944,    34.5877,  -135.0042,       5191,  4580.6,   1.5174,2,  34.6865,2,  34.6865,2,   153.06,1,  148.82,2,  149.19,2,   36.76,2,    0.00,2,    2.59,2,-999.000,1,-999.000,1,-999.000,1,  2335.1,2,  2419.2,2,    7.596,    25.00,    0.13,6,    0.01,  -226.5,6,     2.5,  27.7845,2
49NZ200107_1,       P17N,      28,          1,          3,          3,2,20010808,       1944,    34.5877,  -135.0042,       5191,  4837.9,   1.5418,2,  34.6873,2,  34.6876,2,   156.50,1,  150.71,2,  146.89,2,   36.70,2,    0.00,2,    2.57,2,-999.000,9,-999.000,9,-999.000,9,  -999.0,9,  -999.0,9, -999.000,  -999.00, -999.00,9, -999.00,  -999.0,9,  -999.0,  27.7856,2
49NZ200107_1,       P17N,      28,          1,          2,          2,2,20010808,       1944,    34.5877,  -135.0042,       5191,  5095.3,   1.5691,2,  34.6875,2,  34.6872,2,   159.24,1,  151.69,2,  146.94,2,   36.62,2,    0.00,2,    2.55,2,-999.000,1,-999.000,1,-999.000,1,  2334.0,2,  2418.0,2,    7.594,    25.00,    0.14,6,    0.02,  -228.7,6,     5.1,  27.7861,2
49NZ200107_1,       P17N,      28,          1,          1,          1,2,20010808,       1944,    34.5877,  -135.0042,       5191,  5288.9,   1.5904,2,  34.6879,2,  34.6882,2,   160.51,1,  152.71,2,  145.91,2,   36.38,2,    0.00,2,    2.56,2,-999.000,1,-999.000,1,-999.000,1,  2331.4,2,  2419.9,2,    7.598,    25.00,    0.10,6,    0.08,  -229.9,6,     1.9,  27.7866,2