BOTTLE,20220817CCHSIOAMB
EXPOCODE,SECT_ID,STNNBR,CASTNO,SAMPNO,BTLNBR,BTLNBR_FLAG_W,DATE,TIME,LATITUDE,LONGITUDE,DEPTH,CTDPRS,CTDTMP,CTDTMP_FLAG_W,CTDSAL,CTDSAL_FLAG_W,SALNTY,SALNTY_FLAG_W,CTDOXY,CTDOXY_FLAG_W,OXYGEN,OXYGEN_FLAG_W,SILCAT,SILCAT_FLAG_W,NITRAT,NITRAT_FLAG_W,NITRIT,NITRIT_FLAG_W,PHSPHT,PHSPHT_FLAG_W,CFC-11,CFC-11_FLAG_W,CFC-12,CFC-12_FLAG_W,CFC113,CFC113_FLAG_W,TCARBN,TCARBN_FLAG_W,ALKALI,ALKALI_FLAG_W,PH_TOT,PH_TMP,DELC13,DELC13_FLAG_W,C13ERR,DELC14,DELC14_FLAG_W,C14ERR,THETA,THETA_FLAG_W
,,,,,,,,,,,METERS,DBAR,ITS-90,,PSS-78,,PSS-78,,UMOL/KG,,UMOL/KG,,UMOL/KG,,UMOL/KG,,UMOL/KG,,UMOL/KG,,PMOL/KG,,PMOL/KG,,PMOL/KG,,UMOL/KG,,UMOL/KG,,,DEG C,/MILLE,,/MILLE,/MILLE,,/MILLE,DEG C,
49NZ200107_1,       P17N,      88,          1,          0,        -99,9,20010824,       1939,    54.1043,  -157.6183,       5684,     4.5,-999.0000,9,-999.0000,9,  32.5058,2,  -999.00,9,  281.72,2,   15.30,2,    6.54,2,    0.12,2,    0.81,2,-999.000,1,-999.000,1,-999.000,1,  1978.4,2,  2197.6,2,    7.933,    25.00, -999.00,9, -999.00,  -999.0,9,  -999.0,-999.0000,9
49NZ200107_1,       P17N,      88,          1,         36,         36,2,20010824,       1939,    54.1043,  -157.6183,       5684,    10.8,  11.1169,2,  32.4945,2,  32.4964,2,   269.02,1,  282.89,2,   14.98,2,    6.45,2,    0.13,2,    0.77,2,-999.000,1,-999.000,1,-999.000,1,  1979.4,2,  2200.3,2,    7.931,    25.00, -999.00,9, -999.00,  -999.0,9,  -999.0,  24.8045,2
49NZ200107_1,       P17N,      88,          1,         35,         35,2,20010824,       1939,    54.1043,  -157.6183,       5684,    25.4,   8.3117,2,  32.6906,2,  32.7065,2,   278.40,1,  298.42,2,   21.25,2,   13.11,2,    0.22,2,    1.24,2,-999.000,1,-999.000,1,-999.000,1,  2035.2,2,  2206.5,2,    7.840,    25.00, -999.00,9, -999.00,  -999.0,9,  -999.0,  25.4152,2
49NZ200107_1,       P17N,      88,          1,         34,         34,2,20010824,       1939,    54.1043,  -157.6183,       5684,    50.5,   5.0849,2,  32.9285,2,  32.9290,2,   256.46,1,  288.66,2,   29.30,2,   21.43,2,    0.27,2,    1.71,2,-999.000,1,-999.000,1,-999.000,1,  2091.2,2,  2210.7,2,    7.708,    25.00, -999.00,9, -999.00,  -999.0,9,  -999.0,  26.0241,2
49NZ200107_1,       P17N,      88,          1,         33,         33,2,20010824,       1939,    54.1043,  -157.6183,       5684,    76.2,   4.4267,2,  33.2473,2,  33.2461,2,   185.46,1,  216.41,2,   42.89,2,   29.21,2,    0.04,2,    2.16,2,-999.000,1,-999.000,1,-999.000,1,  2162.4,2,  2234.1,2,    7.565,    25.00, -999.00,9, -999.00,  -999.0,9,  -999.0,  26.3487,2
49NZ200107_1,       P17N,      88,          1,         32,         32,2,20010824,       1939,    54.1043,  -157.6183,       5684,   101.3,   4.4693,2,  33.6294,2,  33.6089,2,   110.17,1,  122.90,2,   58.35,2,   36.72,2,    0.01,2,    2.60,2,-999.000,1,-999.000,1,-999.000,1,  2239.8,2,  2264.4,6,    7.413,    25.00, -999.00,9, -999.00,  -999.0,9,  -999.0,  26.6478,2
49NZ200107_1,       P17N,      88,          1,         31,         31,2,20010824,       1939,    54.1043,  -157.6183,       5684,   151.5,   4.2459,2,  33.9020,2,  33.8997,2,    46.59,1,   43.69,2,   77.45,2,   43.16,2,    0.01,2,    3.02,2,-999.000,1,-999.000,1,-999.000,1,  2307.6,2,  2301.7,3,    7.288,    25.00, -999.00,9, -999.00,  -999.0,9,  -999.0,  26.8884,2
49NZ200107_1,       P17N,      88,          1,         30,         30,2,20010824,       1939,    54.1043,  -157.6183,       5684,   202.1,   4.0948,2,  33.9769,2,  33.9765,2,    32.92,1,   28.01,2,   86.08,2,   43.84,2,    0.01,2,    3.12,2,-999.000,1,-999.000,1,-999.000,1,  2324.0,6,  2298.7,2,    7.274,    25.00, -999.00,9, -999.00,  -999.0,9,  -999.0,  26.9640,2
49NZ200107_1,       P17N,      88,          1,         29,         29,2,20010824,       1939,    54.1043,  -157.6183,       5684,   303.1,   3.9629,2,  34.0720,2,  34.0734,2,    30.55,1,   24.33,2,   95.18,2,   44.15,2,    0.03,2,    3.12,2,-999.000,1,-999.000,1,-999.000,1,  2332.1,2,  2314.9,2,    7.289,    25.00, -999.00,9, -999.00,  -999.0,9,  -999.0,  27.0539,2
49NZ200107_1,       P17N,      88,          1,         28,         28,2,20010824,       1939,    54.1043,  -157.6183,       5684,   403.9,   3.7809,2,  34.1468,2,  34.1471,2,    26.46,1,   20.16,2,  105.15,2,   44.16,2,    0.02,2,    3.09,2,-999.000,1,-999.000,1,-999.000,1,  2343.8,2,  2329.7,6,    7.296,    25.00, -999.00,9, -999.00,  -999.0,9,  -999.0,  27.1324,2
49NZ200107_1,       P17N,      88,          1,         27,         27,3,20010824,       1939,    54.1043,  -157.6183,       5684,   505.2,   3.6242,2,  34.1995,2,  34.1980,2,    24.21,1,   18.03,2,  112.37,2,   44.27,2,    0.03,2,    3.11,2,-999.000,1,-999.000,1,-999.000,1,  2352.7,2,  2332.4,3,    7.299,    25.00, -999.00,9, -999.00,  -999.0,9,  -999.0,  27.1905,2
49NZ200107_1,       P17N,      88,          1,         26,         26,2,20010824,       1939,    54.1043,  -157.6183,       5684,   606.8,   3.4037,2,  34.2622,2,  34.2632,2,    23.01,1,   12.14,2,  121.46,2,   44.52,2,    0.01,2,    3.13,2,-999.000,1,-999.000,1,-999.000,1,  2364.0,6,  2339.4,3,    7.307,    25.00, -999.00,9, -999.00,  -999.0,9,  -999.0,  27.2624,2
49NZ200107_1,       P17N,      88,          1,         25,         25,2,20010824,       1939,    54.1043,  -157.6183,       5684,   707.2,   3.1862,2,  34.3149,2,  34.3165,2,    23.01,1,   15.66,2,  128.33,2,   44.68,2,    0.02,2,    3.15,2,-999.000,1,-999.000,1,-999.000,1,  2370.5,2,  2366.6,3,    7.312,    25.00, -999.00,9, -999.00,  -999.0,9,  -999.0,  27.3254,2
49NZ200107_1,       P17N,      88,          1,         24,         24,2,20010824,       1939,    54.1043,  -157.6183,       5684,   809.4,   3.0069,2,  34.3547,2,  34.3541,2,    23.50,1,   15.20,2,  134.51,2,   44.69,2,    0.01,2,    3.16,2,-999.000,1,-999.000,1,-999.000,1,  2378.0,2,  2363.0,6,    7.315,    25.00, -999.00,9, -999.00,  -999.0,9,  -999.0,  27.3742,2
49NZ200107_1,       P17N,      88,          1,         23,         23,2,20010824,       1939,    54.1043,  -157.6183,       5684,   910.5,   2.8459,2,  34.3888,2,  34.3881,2,    24.82,1,   16.82,2,  139.07,2,   44.80,2,    0.01,2,    3.14,2,-999.000,1,-999.000,1,-999.000,1,  2383.8,2,  2374.0,2,    7.319,    25.00, -999.00,9, -999.00,  -999.0,9,  -999.0,  27.4163,2
49NZ200107_1,       P17N,      88,          1,         22,         22,2,20010824,       1939,    54.1043,  -157.6183,       5684,  1012.0,   2.6813,2,  34.4230,2,  34.4231,2,    26.80,1,   18.61,2,  144.20,2,   44.79,2,    0.02,2,    3.13,2,-999.000,1,-999.000,1,-999.000,1,  2388.8,6,  2380.1,2,    7.325,    25.00, -999.00,9, -999.00,  -999.0,9,  -999.0,  27.4586,2
49NZ200107_1,       P17N,      88,          1,         21,         21,2,20010824,       1939,    54.1043,  -157.6183,       5684,  1214.1,   2.4267,2,  34.4764,2,  34.4756,2,    32.71,1,   24.11,2,  151.67,2,   44.46,2,    0.01,2,    3.12,2,-999.000,1,-999.000,1,-999.000,1,  2389.9,2,  2391.0,2,    7.341,    25.00, -999.00,9, -999.00,  -999.0,9,  -999.0,  27.5240,2
49NZ200107_1,       P17N,      88,          1,         20,         20,2,20010824,       1939,    54.1043,  -157.6183,       5684,  1417.3,   2.2186,2,  34.5211,2,  34.5211,2,    41.75,1,   33.93,2,  156.51,2,   44.01,2,    0.02,2,    3.08,2,-999.000,1,-999.000,1,-999.000,1,  2390.9,2,  2399.7,6,    7.363,    25.00, -999.00,9, -999.00,  -999.0,9,  -999.0,  27.5779,2
49NZ200107_1,       P17N,      88,          1,         19,         19,3,20010824,       1939,    54.1043,  -157.6183,       5684,  1620.6,   2.0513,2,  34.5562,2,  34.5548,2,    53.14,1,   45.65,2,  156.97,2,   43.22,2,    0.01,2,    3.00,2,-999.000,1,-999.000,1,-999.000,1,  2388.9,2,  2410.1,2,    7.388,    25.00, -999.00,9, -999.00,  -999.0,9,  -999.0,  27.6204,2
49NZ200107_1,       P17N,      88,          1,         18,         18,2,20010824,       1939,    54.1043,  -157.6183,       5684,  1823.8,   1.9087,2,  34.5847,2,  34.5845,2,    65.11,1,   58.30,2,  159.71,2,   42.44,2,    0.01,2,    2.94,2,-999.000,1,-999.000,1,-999.000,1,  2384.8,6,  2411.9,2,    7.415,    25.00, -999.00,9, -999.00,  -999.0,9,  -999.0,  27.6554,2
49NZ200107_1,       P17N,      88,          1,         17,         17,2,20010824,       1939,    54.1043,  -157.6183,       5684,  2028.1,   1.8181,2,  34.6034,2,  34.6037,2,    74.69,1,   69.09,2,  160.80,2,   41.86,2,    0.01,2,    2.92,2,-999.000,1,-999.000,1,-999.000,1,  2382.6,2,  2412.7,2,    7.437,    25.00, -999.00,9, -999.00,  -999.0,9,  -999.0,  27.6784,2
49NZ200107_1,       P17N,      88,          1,         16,         16,2,20010824,       1939,    54.1043,  -157.6183,       5684,  2231.2,   1.7459,2,  34.6187,2,  34.6187,2,    83.28,1,   78.12,2,  161.27,2,   41.30,2,    0.01,2,    2.87,2,-999.000,1,-999.000,1,-999.000,1,  2376.2,2,  2416.0,2,    7.454,    25.00, -999.00,9, -999.00,  -999.0,9,  -999.0,  27.6973,2
49NZ200107_1,       P17N,      88,          1,         15,         15,2,20010824,       1939,    54.1043,  -157.6183,       5684,  2436.0,   1.6856,2,  34.6312,2,  34.6314,2,    92.79,1,   88.20,2,  161.05,2,   40.69,2,    0.02,2,    2.83,2,-999.000,9,-999.000,9,-999.000,9,  -999.0,9,  -999.0,9, -999.000,  -999.00, -999.00,9, -999.00,  -999.0,9,  -999.0,  27.7130,2
49NZ200107_1,       P17N,      88,          1,         14,         14,2,20010824,       1939,    54.1043,  -157.6183,       5684,  2640.3,   1.6354,2,  34.6416,2,  34.6414,2,   101.62,1,   97.86,2,  160.66,2,   40.07,2,    0.01,2,    2.81,2,-999.000,1,-999.000,1,-999.000,1,  2364.7,2,  2420.1,6,    7.493,    25.00, -999.00,9, -999.00,  -999.0,9,  -999.0,  27.7262,2
49NZ200107_1,       P17N,      88,          1,         13,         13,2,20010824,       1939,    54.1043,  -157.6183,       5684,  2844.3,   1.5797,2,  34.6525,2,  34.6529,2,   111.86,1,  108.85,2,  158.89,2,   39.32,2,    0.01,2,    2.75,2,-999.000,9,-999.000,9,-999.000,9,  -999.0,9,  -999.0,9, -999.000,  -999.00, -999.00,9, -999.00,  -999.0,9,  -999.0,  27.7403,2
49NZ200107_1,       P17N,      88,          1,         12,         12,2,20010824,       1939,    54.1043,  -157.6183,       5684,  3049.2,   1.5343,2,  34.6617,2,  34.6617,2,   120.16,1,  117.53,2,  157.47,2,   38.78,2,    0.01,2,    2.70,2,-999.000,1,-999.000,1,-999.000,1,  2351.2,2,  2425.1,2,    7.531,    25.00, -999.00,9, -999.00,  -999.0,9,  -999.0,  27.7521,2
49NZ200107_1,       P17N,      88,          1,         11,         11,2,20010824,       1939,    54.1043,  -157.6183,       5684,  3304.3,   1.5132,2,  34.6681,2,  34.6681,2,   130.43,1,  127.64,2,  151.21,2,   37.99,2,    0.03,2,    2.64,2,-999.000,9,-999.000,9,-999.000,9,  -999.0,9,  -999.0,9, -999.000,  -999.00, -999.00,9, -999.00,  -999.0,9,  -999.0,  27.7604,2
49NZ200107_1,       P17N,      88,          1,         10,         10,2,20010824,       1939,    54.1043,  -157.6183,       5684,  3561.8,   1.4946,2,  34.6738,2,  34.6734,2,   137.84,1,  134.69,2,  149.42,2,   37.49,2,    0.02,2,    2.62,2,-999.000,1,-999.000,1,-999.000,1,  2339.7,6,  2413.8,2,    7.561,    25.00, -999.00,9, -999.00,  -999.0,9,  -999.0,  27.7681,2
49NZ200107_1,       P17N,      88,          1,          9,          9,2,20010824,       1939,    54.1043,  -157.6183,       5684,  3818.1,   1.4791,2,  34.6791,2,  34.6789,2,   144.99,1,  140.97,2,  148.08,2,   37.08,2,    0.02,2,    2.59,2,-999.000,9,-999.000,9,-999.000,9,  -999.0,9,  -999.0,9, -999.000,  -999.00, -999.00,9, -999.00,  -999.0,9,  -999.0,  27.7753,2
49NZ200107_1,       P17N,      88,          1,          8,          8,2,20010824,       1939,    54.1043,  -157.6183,       5684,  4075.5,   1.4731,2,  34.6828,2,  34.6828,2,   149.62,1,  146.37,2,  145.77,2,   36.81,2,    0.02,2,    2.57,2,-999.000,1,-999.000,1,-999.000,1,  2332.5,2,  2420.0,2,    7.580,    25.00, -999.00,9, -999.00,  -999.0,9,  -999.0,  27.7806,2
49NZ200107_1,       P17N,      88,          1,          7,          7,2,20010824,       1939,    54.1043,  -157.6183,       5684,  4313.3,   1.4798,2,  34.6853,2,  34.6844,2,   153.14,1,  149.07,2,  145.61,2,   36.60,2,    0.03,2,    2.56,2,-999.000,9,-999.000,9,-999.000,9,  -999.0,9,  -999.0,9, -999.000,  -999.00, -999.00,9, -999.00,  -999.0,9,  -999.0,  27.7839,2
49NZ200107_1,       P17N,      88,          1,          6,          6,2,20010824,       1939,    54.1043,  -157.6183,       5684,  4589.2,   1.4952,2,  34.6870,2,  34.6871,2,   157.34,1,  151.76,2,  145.26,2,   36.43,2,    0.02,2,    2.54,2,-999.000,1,-999.000,1,-999.000,1,  2325.4,2,  2416.6,2,    7.588,    25.00, -999.00,9, -999.00,  -999.0,9,  -999.0,  27.7865,2
49NZ200107_1,       P17N,      88,          1,          5,          5,2,20010824,       1939,    54.1043,  -157.6183,       5684,  4847.4,   1.5073,2,  34.6890,2,  34.6890,2,   161.44,1,  155.13,2,  142.66,2,   36.16,2,    0.01,2,    2.53,2,-999.000,9,-999.000,9,-999.000,9,  -999.0,9,  -999.0,9, -999.000,  -999.00, -999.00,9, -999.00,  -999.0,9,  -999.0,  27.7893,2
49NZ200107_1,       P17N,      88,          1,          4,          4,2,20010824,       1939,    54.1043,  -157.6183,       5684,  5105.9,   1.5287,2,  34.6901,2,  34.6896,2,   165.33,1,  156.87,2,  141.26,2,   36.00,2,    0.00,2,    2.52,2,-999.000,1,-999.000,1,-999.000,1,  2321.6,2,  2413.0,2,    7.596,    25.00, -999.00,9, -999.00,  -999.0,9,  -999.0,  27.7909,2
49NZ200107_1,       P17N,      88,          1,          3,          3,2,20010824,       1939,    54.1043,  -157.6183,       5684,  5364.0,   1.5556,2,  34.6905,2,  34.6905,2,   168.57,1,  158.62,2,  140.40,2,   35.97,2,    0.00,2,    2.53,2,-999.000,9,-999.000,9,-999.000,9,  -999.0,9,  -999.0,9, -999.000,  -999.00, -999.00,9, -999.00,  -999.0,9,  -999.0,  27.7917,2
49NZ200107_1,       P17N,      88,          1,          2,          2,2,20010824,       1939,    54.1043,  -157.6183,       5684,  5623.0,   1.5831,2,  34.6912,2,  34.6912,2,   172.70,1,  159.68,2,  139.36,2,   35.89,2,    0.01,2,    2.49,2,-999.000,1,-999.000,1,-999.000,1,  2321.1,6,  2414.8,2,    7.592,    25.00, -999.00,9, -999.00,  -999.0,9,  -999.0,  27.7927,2
49NZ200107_1,       P17N,      88,          1,          1,          1,2,20010824,       1939,    54.1043,  -157.6183,       5684,  5699.4,   1.5926,2,  34.6913,2,  34.6913,2,   173.94,1,  159.52,2,  139.63,2,   35.77,2,    0.01,2,    2.52,2,-999.000,1,-999.000,1,-999.000,1,  2321.3,2,  2409.9,2,    7.593,    25.00, -999.00,9, -999.00,  -999.0,9,  -999.0,  27.7928,2