BOTTLE,20220817CCHSIOAMB
EXPOCODE,SECT_ID,STNNBR,CASTNO,SAMPNO,BTLNBR,BTLNBR_FLAG_W,DATE,TIME,LATITUDE,LONGITUDE,DEPTH,CTDPRS,CTDTMP,CTDTMP_FLAG_W,CTDSAL,CTDSAL_FLAG_W,SALNTY,SALNTY_FLAG_W,CTDOXY,CTDOXY_FLAG_W,OXYGEN,OXYGEN_FLAG_W,SILCAT,SILCAT_FLAG_W,NITRAT,NITRAT_FLAG_W,NITRIT,NITRIT_FLAG_W,PHSPHT,PHSPHT_FLAG_W,CFC-11,CFC-11_FLAG_W,CFC-12,CFC-12_FLAG_W,CFC113,CFC113_FLAG_W,TCARBN,TCARBN_FLAG_W,ALKALI,ALKALI_FLAG_W,PH_TOT,PH_TMP,DELC13,DELC13_FLAG_W,C13ERR,DELC14,DELC14_FLAG_W,C14ERR,THETA,THETA_FLAG_W
,,,,,,,,,,,METERS,DBAR,ITS-90,,PSS-78,,PSS-78,,UMOL/KG,,UMOL/KG,,UMOL/KG,,UMOL/KG,,UMOL/KG,,UMOL/KG,,PMOL/KG,,PMOL/KG,,PMOL/KG,,UMOL/KG,,UMOL/KG,,,DEG C,/MILLE,,/MILLE,/MILLE,,/MILLE,DEG C,
49NZ200107_1,       P17N,      90,          1,          0,        -99,9,20010825,       0019,    54.2108,  -157.7918,       4644,     4.5,-999.0000,9,-999.0000,9,  32.4793,2,  -999.00,9,  279.27,2,   15.07,2,    5.64,2,    0.10,2,    0.77,2,-999.000,9,-999.000,9,-999.000,9,  -999.0,9,  -999.0,9, -999.000,  -999.00, -999.00,9, -999.00,  -999.0,9,  -999.0,-999.0000,9
49NZ200107_1,       P17N,      90,          1,         36,         36,2,20010825,       0019,    54.2108,  -157.7918,       4644,    11.0,  11.5981,2,  32.4916,2,  32.4913,2,   269.19,1,  284.32,2,   14.94,2,    5.98,2,    0.11,2,    0.75,2,-999.000,9,-999.000,9,-999.000,9,  -999.0,9,  -999.0,9, -999.000,  -999.00, -999.00,9, -999.00,  -999.0,9,  -999.0,  24.7158,2
49NZ200107_1,       P17N,      90,          1,         35,         35,2,20010825,       0019,    54.2108,  -157.7918,       4644,    25.2,  10.3120,2,  32.5099,2,  32.5239,2,   271.63,1,  290.32,2,   16.33,2,    8.27,2,    0.14,2,    0.92,2,-999.000,9,-999.000,9,-999.000,9,  -999.0,9,  -999.0,9, -999.000,  -999.00, -999.00,9, -999.00,  -999.0,9,  -999.0,  24.9563,2
49NZ200107_1,       P17N,      90,          1,         34,         34,2,20010825,       0019,    54.2108,  -157.7918,       4644,    50.3,   5.2485,2,  32.9103,2,  32.9152,2,   265.53,1,  286.57,2,   28.85,2,   21.11,2,    0.23,2,    1.69,2,-999.000,9,-999.000,9,-999.000,9,  -999.0,9,  -999.0,9, -999.000,  -999.00, -999.00,9, -999.00,  -999.0,9,  -999.0,  25.9912,2
49NZ200107_1,       P17N,      90,          1,         33,         33,2,20010825,       0019,    54.2108,  -157.7918,       4644,    76.7,   4.5103,2,  33.1415,2,  33.2617,2,   202.04,1,  213.29,2,   43.33,2,   29.39,2,    0.02,2,    2.15,2,-999.000,9,-999.000,9,-999.000,9,  -999.0,9,  -999.0,9, -999.000,  -999.00, -999.00,9, -999.00,  -999.0,9,  -999.0,  26.2559,2
49NZ200107_1,       P17N,      90,          1,         32,         32,2,20010825,       0019,    54.2108,  -157.7918,       4644,   102.4,   4.3933,2,  33.5735,2,  33.5720,2,   122.74,1,  130.07,2,   57.65,2,   36.44,2,    0.01,2,    2.58,2,-999.000,9,-999.000,9,-999.000,9,  -999.0,9,  -999.0,9, -999.000,  -999.00, -999.00,9, -999.00,  -999.0,9,  -999.0,  26.6115,2
49NZ200107_1,       P17N,      90,          1,         31,         31,2,20010825,       0019,    54.2108,  -157.7918,       4644,   151.9,   4.5415,2,  33.8885,2,  33.8832,2,    55.62,1,   56.26,2,   72.34,2,   41.79,2,    0.01,2,    2.91,2,-999.000,9,-999.000,9,-999.000,9,  -999.0,9,  -999.0,9, -999.000,  -999.00, -999.00,9, -999.00,  -999.0,9,  -999.0,  26.8462,2
49NZ200107_1,       P17N,      90,          1,         30,         30,2,20010825,       0019,    54.2108,  -157.7918,       4644,   202.1,   4.2044,2,  33.9485,2,  33.9463,2,    38.50,1,   35.33,2,   81.51,2,   43.74,2,    0.01,2,    3.05,2,-999.000,9,-999.000,9,-999.000,9,  -999.0,9,  -999.0,9, -999.000,  -999.00, -999.00,9, -999.00,  -999.0,9,  -999.0,  26.9301,2
49NZ200107_1,       P17N,      90,          1,         29,         29,2,20010825,       0019,    54.2108,  -157.7918,       4644,   252.5,   4.0678,2,  33.9950,2,  33.9947,2,    30.96,1,   27.10,2,   87.80,2,   44.66,2,    0.01,2,    3.12,2,-999.000,9,-999.000,9,-999.000,9,  -999.0,9,  -999.0,9, -999.000,  -999.00, -999.00,9, -999.00,  -999.0,9,  -999.0,  26.9816,2
49NZ200107_1,       P17N,      90,          1,         28,         28,2,20010825,       0019,    54.2108,  -157.7918,       4644,   303.9,   3.9865,2,  34.0357,2,  34.0343,2,    28.25,1,   23.34,2,   93.02,2,   44.65,2,    0.01,2,    3.07,2,-999.000,9,-999.000,9,-999.000,9,  -999.0,9,  -999.0,9, -999.000,  -999.00, -999.00,9, -999.00,  -999.0,9,  -999.0,  27.0226,2
49NZ200107_1,       P17N,      90,          1,         27,         27,2,20010825,       0019,    54.2108,  -157.7918,       4644,   354.2,   3.9358,2,  34.0649,2,  34.0658,2,    26.96,1,   21.24,2,   96.82,2,   44.57,2,   -0.01,2,    3.11,2,-999.000,9,-999.000,9,-999.000,9,  -999.0,9,  -999.0,9, -999.000,  -999.00, -999.00,9, -999.00,  -999.0,9,  -999.0,  27.0513,2
49NZ200107_1,       P17N,      90,          1,         26,         26,2,20010825,       0019,    54.2108,  -157.7918,       4644,   405.0,   3.8499,2,  34.1124,2,  34.1198,2,    26.41,1,   20.77,2,  102.82,2,   44.46,2,   -0.01,2,    3.12,2,-999.000,9,-999.000,9,-999.000,9,  -999.0,9,  -999.0,9, -999.000,  -999.00, -999.00,9, -999.00,  -999.0,9,  -999.0,  27.0981,2
49NZ200107_1,       P17N,      90,          1,         25,         25,2,20010825,       0019,    54.2108,  -157.7918,       4644,   505.5,   3.6855,2,  34.1728,2,  34.1811,2,    24.20,1,   17.89,2,  110.60,2,   44.23,2,   -0.01,2,    3.12,2,-999.000,9,-999.000,9,-999.000,9,  -999.0,9,  -999.0,9, -999.000,  -999.00, -999.00,9, -999.00,  -999.0,9,  -999.0,  27.1632,2
49NZ200107_1,       P17N,      90,          1,         24,         24,2,20010825,       0019,    54.2108,  -157.7918,       4644,   606.9,   3.4783,2,  34.2394,2,  34.2417,2,    22.26,1,   15.19,2,  118.69,2,   44.59,2,   -0.02,2,    3.13,2,-999.000,9,-999.000,9,-999.000,9,  -999.0,9,  -999.0,9, -999.000,  -999.00, -999.00,9, -999.00,  -999.0,9,  -999.0,  27.2371,2
49NZ200107_1,       P17N,      90,          1,         23,         23,2,20010825,       0019,    54.2108,  -157.7918,       4644,   708.5,   3.2990,2,  34.2903,2,  34.2936,2,    21.95,1,   15.24,2,  125.21,2,   44.65,2,   -0.02,2,    3.16,2,-999.000,9,-999.000,9,-999.000,9,  -999.0,9,  -999.0,9, -999.000,  -999.00, -999.00,9, -999.00,  -999.0,9,  -999.0,  27.2953,2
49NZ200107_1,       P17N,      90,          1,         22,         12,2,20010825,       0019,    54.2108,  -157.7918,       4644,   809.7,   3.1131,2,  34.3311,2,  34.3290,2,    22.72,1,   16.33,2,  130.00,2,   44.54,2,   -0.01,2,    3.16,2,-999.000,9,-999.000,9,-999.000,9,  -999.0,9,  -999.0,9, -999.000,  -999.00, -999.00,9, -999.00,  -999.0,9,  -999.0,  27.3457,2
49NZ200107_1,       P17N,      90,          1,         21,         21,2,20010825,       0019,    54.2108,  -157.7918,       4644,   911.3,   2.9165,2,  34.3737,2,  34.3733,2,    23.77,1,   16.41,2,  135.87,2,   44.78,2,   -0.02,2,    3.16,2,-999.000,9,-999.000,9,-999.000,9,  -999.0,9,  -999.0,9, -999.000,  -999.00, -999.00,9, -999.00,  -999.0,9,  -999.0,  27.3981,2
49NZ200107_1,       P17N,      90,          1,         20,         20,2,20010825,       0019,    54.2108,  -157.7918,       4644,  1011.6,   2.8174,2,  34.3961,2,  34.3961,2,    24.49,1,   16.49,2,  138.91,2,   44.93,2,   -0.02,2,    3.18,2,-999.000,9,-999.000,9,-999.000,9,  -999.0,9,  -999.0,9, -999.000,  -999.00, -999.00,9, -999.00,  -999.0,9,  -999.0,  27.4254,2
49NZ200107_1,       P17N,      90,          1,         19,         19,2,20010825,       0019,    54.2108,  -157.7918,       4644,  1113.5,   2.6595,2,  34.4289,2,  34.4278,2,    26.59,1,   18.44,2,  143.62,2,   44.62,2,   -0.01,2,    3.09,2,-999.000,9,-999.000,9,-999.000,9,  -999.0,9,  -999.0,9, -999.000,  -999.00, -999.00,9, -999.00,  -999.0,9,  -999.0,  27.4659,2
49NZ200107_1,       P17N,      90,          1,         18,         18,2,20010825,       0019,    54.2108,  -157.7918,       4644,  1215.5,   2.5457,2,  34.4529,2,  34.4534,2,    29.14,1,   21.60,2,  147.29,2,   44.55,2,   -0.02,2,    3.11,2,-999.000,9,-999.000,9,-999.000,9,  -999.0,9,  -999.0,9, -999.000,  -999.00, -999.00,9, -999.00,  -999.0,9,  -999.0,  27.4953,2
49NZ200107_1,       P17N,      90,          1,         17,         17,2,20010825,       0019,    54.2108,  -157.7918,       4644,  1315.7,   2.4168,2,  34.4800,2,  34.4809,2,    33.20,1,   24.83,2,  151.04,2,   44.25,2,   -0.02,2,    3.14,2,-999.000,9,-999.000,9,-999.000,9,  -999.0,9,  -999.0,9, -999.000,  -999.00, -999.00,9, -999.00,  -999.0,9,  -999.0,  27.5284,2
49NZ200107_1,       P17N,      90,          1,         16,         16,2,20010825,       0019,    54.2108,  -157.7918,       4644,  1417.7,   2.3332,2,  34.4983,2,  34.4984,2,    36.94,1,   29.15,2,  152.66,2,   44.22,2,   -0.01,2,    3.11,2,-999.000,9,-999.000,9,-999.000,9,  -999.0,9,  -999.0,9, -999.000,  -999.00, -999.00,9, -999.00,  -999.0,9,  -999.0,  27.5505,2
49NZ200107_1,       P17N,      90,          1,         15,         15,2,20010825,       0019,    54.2108,  -157.7918,       4644,  1620.7,   2.0871,2,  34.5485,2,  34.5487,2,    51.69,1,   44.88,2,  157.34,2,   43.36,2,   -0.02,2,    3.06,2,-999.000,9,-999.000,9,-999.000,9,  -999.0,9,  -999.0,9, -999.000,  -999.00, -999.00,9, -999.00,  -999.0,9,  -999.0,  27.6115,2
49NZ200107_1,       P17N,      90,          1,         14,         14,2,20010825,       0019,    54.2108,  -157.7918,       4644,  1824.8,   1.9520,2,  34.5768,2,  34.5765,2,    61.48,1,   55.10,2,  160.02,2,   42.66,2,   -0.01,2,    3.02,2,-999.000,9,-999.000,9,-999.000,9,  -999.0,9,  -999.0,9, -999.000,  -999.00, -999.00,9, -999.00,  -999.0,9,  -999.0,  27.6458,2
49NZ200107_1,       P17N,      90,          1,         13,         13,2,20010825,       0019,    54.2108,  -157.7918,       4644,  2027.0,   1.8685,2,  34.5952,2,  34.5952,2,    69.94,1,   63.95,2,  160.85,2,   41.99,2,   -0.01,2,    2.98,2,-999.000,9,-999.000,9,-999.000,9,  -999.0,9,  -999.0,9, -999.000,  -999.00, -999.00,9, -999.00,  -999.0,9,  -999.0,  27.6681,2
49NZ200107_1,       P17N,      90,          1,         12,         22,3,20010825,       0019,    54.2108,  -157.7918,       4644,  2232.3,   1.7817,2,  34.6134,2,  34.6131,2,    79.77,1,   75.52,2,  161.01,2,   41.42,2,   -0.01,2,    2.93,2,-999.000,9,-999.000,9,-999.000,9,  -999.0,9,  -999.0,9, -999.000,  -999.00, -999.00,9, -999.00,  -999.0,9,  -999.0,  27.6904,2
49NZ200107_1,       P17N,      90,          1,         11,         11,2,20010825,       0019,    54.2108,  -157.7918,       4644,  2436.1,   1.6771,2,  34.6330,2,  34.6327,2,    92.49,1,   91.02,2,  161.46,2,   40.63,2,   -0.01,2,    2.85,2,-999.000,9,-999.000,9,-999.000,9,  -999.0,9,  -999.0,9, -999.000,  -999.00, -999.00,9, -999.00,  -999.0,9,  -999.0,  27.7150,2
49NZ200107_1,       P17N,      90,          1,         10,         10,2,20010825,       0019,    54.2108,  -157.7918,       4644,  2639.7,   1.6160,2,  34.6447,2,  34.6449,2,   103.05,1,   99.08,2,  161.35,2,   39.97,2,   -0.01,2,    2.83,2,-999.000,9,-999.000,9,-999.000,9,  -999.0,9,  -999.0,9, -999.000,  -999.00, -999.00,9, -999.00,  -999.0,9,  -999.0,  27.7301,2
49NZ200107_1,       P17N,      90,          1,          9,          9,2,20010825,       0019,    54.2108,  -157.7918,       4644,  2844.5,   1.5784,2,  34.6530,2,  34.6532,2,   111.12,1,  107.59,2,  160.41,2,   39.40,2,    0.00,2,    2.81,2,-999.000,9,-999.000,9,-999.000,9,  -999.0,9,  -999.0,9, -999.000,  -999.00, -999.00,9, -999.00,  -999.0,9,  -999.0,  27.7407,2
49NZ200107_1,       P17N,      90,          1,          8,          8,2,20010825,       0019,    54.2108,  -157.7918,       4644,  3049.1,   1.5270,2,  34.6629,2,  34.6631,2,   121.80,1,  119.38,2,  157.14,2,   38.50,2,    0.00,2,    2.74,2,-999.000,9,-999.000,9,-999.000,9,  -999.0,9,  -999.0,9, -999.000,  -999.00, -999.00,9, -999.00,  -999.0,9,  -999.0,  27.7536,2
49NZ200107_1,       P17N,      90,          1,          7,          7,2,20010825,       0019,    54.2108,  -157.7918,       4644,  3304.9,   1.4900,2,  34.6710,2,  34.6707,2,   131.31,1,  128.48,2,  154.61,2,   37.97,2,    0.00,2,    2.70,2,-999.000,9,-999.000,9,-999.000,9,  -999.0,9,  -999.0,9, -999.000,  -999.00, -999.00,9, -999.00,  -999.0,9,  -999.0,  27.7644,2
49NZ200107_1,       P17N,      90,          1,          6,          6,2,20010825,       0019,    54.2108,  -157.7918,       4644,  3561.2,   1.4695,2,  34.6769,2,  34.6768,2,   139.38,1,  141.23,2,  152.88,2,   37.57,2,    0.00,2,    2.68,2,-999.000,9,-999.000,9,-999.000,9,  -999.0,9,  -999.0,9, -999.000,  -999.00, -999.00,9, -999.00,  -999.0,9,  -999.0,  27.7723,2
49NZ200107_1,       P17N,      90,          1,          5,          5,2,20010825,       0019,    54.2108,  -157.7918,       4644,  3818.5,   1.4709,2,  34.6802,2,  34.6802,2,   143.81,1,  139.63,2,  151.73,2,   37.17,2,    0.00,2,    2.64,2,-999.000,9,-999.000,9,-999.000,9,  -999.0,9,  -999.0,9, -999.000,  -999.00, -999.00,9, -999.00,  -999.0,9,  -999.0,  27.7767,2
49NZ200107_1,       P17N,      90,          1,          4,          4,2,20010825,       0019,    54.2108,  -157.7918,       4644,  4074.9,   1.4689,2,  34.6836,2,  34.6836,2,   149.87,1,  144.95,2,  150.19,2,   36.97,2,    0.00,2,    2.63,2,-999.000,9,-999.000,9,-999.000,9,  -999.0,9,  -999.0,9, -999.000,  -999.00, -999.00,9, -999.00,  -999.0,9,  -999.0,  27.7815,2
49NZ200107_1,       P17N,      90,          1,          3,          3,2,20010825,       0019,    54.2108,  -157.7918,       4644,  4332.3,   1.4796,2,  34.6857,2,  34.6855,2,   154.51,1,  148.11,2,  148.93,2,   36.72,2,    0.01,2,    2.63,2,-999.000,9,-999.000,9,-999.000,9,  -999.0,9,  -999.0,9, -999.000,  -999.00, -999.00,9, -999.00,  -999.0,9,  -999.0,  27.7844,2
49NZ200107_1,       P17N,      90,          1,          2,          2,2,20010825,       0019,    54.2108,  -157.7918,       4644,  4590.1,   1.4916,2,  34.6875,2,  34.6875,2,   159.91,1,  151.52,2,  146.53,2,   36.46,2,    0.01,2,    2.55,2,-999.000,9,-999.000,9,-999.000,9,  -999.0,9,  -999.0,9, -999.000,  -999.00, -999.00,9, -999.00,  -999.0,9,  -999.0,  27.7871,2
49NZ200107_1,       P17N,      90,          1,          1,          1,2,20010825,       0019,    54.2108,  -157.7918,       4644,  4645.7,   1.4892,2,  34.6884,2,  34.6885,2,   162.01,1,  153.32,2,  145.71,2,   36.24,2,    0.01,2,    2.58,2,-999.000,9,-999.000,9,-999.000,9,  -999.0,9,  -999.0,9, -999.000,  -999.00, -999.00,9, -999.00,  -999.0,9,  -999.0,  27.7884,2