BOTTLE,20220817CCHSIOAMB
EXPOCODE,SECT_ID,STNNBR,CASTNO,SAMPNO,BTLNBR,BTLNBR_FLAG_W,DATE,TIME,LATITUDE,LONGITUDE,DEPTH,CTDPRS,CTDTMP,CTDTMP_FLAG_W,CTDSAL,CTDSAL_FLAG_W,SALNTY,SALNTY_FLAG_W,CTDOXY,CTDOXY_FLAG_W,OXYGEN,OXYGEN_FLAG_W,SILCAT,SILCAT_FLAG_W,NITRAT,NITRAT_FLAG_W,NITRIT,NITRIT_FLAG_W,PHSPHT,PHSPHT_FLAG_W,CFC-11,CFC-11_FLAG_W,CFC-12,CFC-12_FLAG_W,CFC113,CFC113_FLAG_W,TCARBN,TCARBN_FLAG_W,ALKALI,ALKALI_FLAG_W,PH_TOT,PH_TMP,DELC13,DELC13_FLAG_W,C13ERR,DELC14,DELC14_FLAG_W,C14ERR,THETA,THETA_FLAG_W
,,,,,,,,,,,METERS,DBAR,ITS-90,,PSS-78,,PSS-78,,UMOL/KG,,UMOL/KG,,UMOL/KG,,UMOL/KG,,UMOL/KG,,UMOL/KG,,PMOL/KG,,PMOL/KG,,PMOL/KG,,UMOL/KG,,UMOL/KG,,,DEG C,/MILLE,,/MILLE,/MILLE,,/MILLE,DEG C,
49NZ200107_1,       P17N,      79,          1,          0,        -99,9,20010822,       2351,    51.8083,  -153.1585,       4732,     4.5,-999.0000,9,-999.0000,9,  32.7488,2,  -999.00,9,  280.47,2,   23.21,2,   12.67,2,    0.20,2,    1.17,2,-999.000,9,-999.000,9,-999.000,9,  -999.0,9,  -999.0,9, -999.000,  -999.00, -999.00,9, -999.00,  -999.0,9,  -999.0,-999.0000,9
49NZ200107_1,       P17N,      79,          1,         36,         36,2,20010822,       2351,    51.8083,  -153.1585,       4732,    10.8,  11.3241,2,  32.7496,2,  32.7487,2,   269.47,1,  281.14,2,   23.01,2,   12.65,2,    0.20,2,    1.13,2,-999.000,9,-999.000,9,-999.000,9,  -999.0,9,  -999.0,9, -999.000,  -999.00, -999.00,9, -999.00,  -999.0,9,  -999.0,  24.9659,2
49NZ200107_1,       P17N,      79,          1,         35,         35,2,20010822,       2351,    51.8083,  -153.1585,       4732,    25.8,  11.1845,2,  32.7366,2,  32.7760,2,   269.44,1,  287.69,2,   23.96,2,   13.75,2,    0.24,2,    1.23,2,-999.000,9,-999.000,9,-999.000,9,  -999.0,9,  -999.0,9, -999.000,  -999.00, -999.00,9, -999.00,  -999.0,9,  -999.0,  24.9811,2
49NZ200107_1,       P17N,      79,          1,         34,         34,2,20010822,       2351,    51.8083,  -153.1585,       4732,    51.2,   5.0804,2,  32.9186,2,  32.9418,2,   289.38,1,  310.50,2,   32.81,2,   21.13,2,    0.84,2,    1.69,2,-999.000,9,-999.000,9,-999.000,9,  -999.0,9,  -999.0,9, -999.000,  -999.00, -999.00,9, -999.00,  -999.0,9,  -999.0,  26.0168,2
49NZ200107_1,       P17N,      79,          1,         33,         33,2,20010822,       2351,    51.8083,  -153.1585,       4732,    76.4,   4.3677,2,  32.9774,2,  32.9923,2,   284.55,1,  306.05,2,   35.71,2,   23.25,2,    0.21,2,    1.80,2,-999.000,9,-999.000,9,-999.000,9,  -999.0,9,  -999.0,9, -999.000,  -999.00, -999.00,9, -999.00,  -999.0,9,  -999.0,  26.1405,2
49NZ200107_1,       P17N,      79,          1,         32,         32,2,20010822,       2351,    51.8083,  -153.1585,       4732,   101.8,   4.1725,2,  33.1982,2,  33.2257,2,   207.10,1,  236.56,2,   43.88,2,   28.35,2,    0.04,2,    2.11,2,-999.000,9,-999.000,9,-999.000,9,  -999.0,9,  -999.0,9, -999.000,  -999.00, -999.00,9, -999.00,  -999.0,9,  -999.0,  26.3363,2
49NZ200107_1,       P17N,      79,          1,         31,         31,2,20010822,       2351,    51.8083,  -153.1585,       4732,   152.6,   4.0181,2,  33.8230,2,  33.8232,2,    59.43,1,   59.33,2,   75.31,2,   41.99,2,    0.04,2,    2.94,2,-999.000,9,-999.000,9,-999.000,9,  -999.0,9,  -999.0,9, -999.000,  -999.00, -999.00,9, -999.00,  -999.0,9,  -999.0,  26.8491,2
49NZ200107_1,       P17N,      79,          1,         30,         30,2,20010822,       2351,    51.8083,  -153.1585,       4732,   202.7,   3.9509,2,  33.8905,2,  33.8890,2,    43.52,1,   40.99,2,   81.29,2,   43.61,2,    0.04,2,    3.03,2,-999.000,9,-999.000,9,-999.000,9,  -999.0,9,  -999.0,9, -999.000,  -999.00, -999.00,9, -999.00,  -999.0,9,  -999.0,  26.9099,2
49NZ200107_1,       P17N,      79,          1,         29,         29,2,20010822,       2351,    51.8083,  -153.1585,       4732,   253.5,   3.9030,2,  33.9557,2,  33.9559,2,    34.72,1,   31.21,2,   88.27,2,   44.24,2,    0.04,2,    3.09,2,-999.000,9,-999.000,9,-999.000,9,  -999.0,9,  -999.0,9, -999.000,  -999.00, -999.00,9, -999.00,  -999.0,9,  -999.0,  26.9670,2
49NZ200107_1,       P17N,      79,          1,         28,         28,2,20010822,       2351,    51.8083,  -153.1585,       4732,   304.0,   3.8275,2,  34.0026,2,  34.0032,2,    32.48,1,   28.84,2,   93.25,2,   44.22,2,    0.03,2,    3.05,2,-999.000,9,-999.000,9,-999.000,9,  -999.0,9,  -999.0,9, -999.000,  -999.00, -999.00,9, -999.00,  -999.0,9,  -999.0,  27.0123,2
49NZ200107_1,       P17N,      79,          1,         27,         27,2,20010822,       2351,    51.8083,  -153.1585,       4732,   354.3,   3.7735,2,  34.0571,2,  34.0583,2,    29.67,1,   24.97,2,   98.58,2,   44.14,2,    0.03,2,    3.06,2,-999.000,9,-999.000,9,-999.000,9,  -999.0,9,  -999.0,9, -999.000,  -999.00, -999.00,9, -999.00,  -999.0,9,  -999.0,  27.0614,2
49NZ200107_1,       P17N,      79,          1,         26,         26,2,20010822,       2351,    51.8083,  -153.1585,       4732,   404.5,   3.6990,2,  34.0984,2,  34.1005,2,    27.52,1,   23.19,2,  103.31,2,   44.24,2,    0.03,2,    3.09,2,-999.000,9,-999.000,9,-999.000,9,  -999.0,9,  -999.0,9, -999.000,  -999.00, -999.00,9, -999.00,  -999.0,9,  -999.0,  27.1019,2
49NZ200107_1,       P17N,      79,          1,         25,         25,2,20010822,       2351,    51.8083,  -153.1585,       4732,   505.8,   3.5299,2,  34.1747,2,  34.1747,2,    24.74,1,   19.93,2,  111.72,2,   44.11,2,    0.03,2,    3.07,2,-999.000,9,-999.000,9,-999.000,9,  -999.0,9,  -999.0,9, -999.000,  -999.00, -999.00,9, -999.00,  -999.0,9,  -999.0,  27.1799,2
49NZ200107_1,       P17N,      79,          1,         24,         24,2,20010822,       2351,    51.8083,  -153.1585,       4732,   606.6,   3.3307,2,  34.2480,2,  34.2467,2,    24.85,1,   19.31,2,  119.93,2,   44.25,2,    0.03,2,    3.09,2,-999.000,9,-999.000,9,-999.000,9,  -999.0,9,  -999.0,9, -999.000,  -999.00, -999.00,9, -999.00,  -999.0,9,  -999.0,  27.2580,2
49NZ200107_1,       P17N,      79,          1,         23,         23,2,20010822,       2351,    51.8083,  -153.1585,       4732,   707.8,   3.1637,2,  34.2939,2,  34.2932,2,    24.81,1,   19.53,2,  125.99,2,   44.30,2,    0.02,2,    3.11,2,-999.000,9,-999.000,9,-999.000,9,  -999.0,9,  -999.0,9, -999.000,  -999.00, -999.00,9, -999.00,  -999.0,9,  -999.0,  27.3107,2
49NZ200107_1,       P17N,      79,          1,         22,         22,2,20010822,       2351,    51.8083,  -153.1585,       4732,   808.8,   2.9954,2,  34.3364,2,  34.3361,2,    25.77,1,   19.91,2,  131.11,2,   44.28,2,    0.03,2,    3.10,2,-999.000,9,-999.000,9,-999.000,9,  -999.0,9,  -999.0,9, -999.000,  -999.00, -999.00,9, -999.00,  -999.0,9,  -999.0,  27.3606,2
49NZ200107_1,       P17N,      79,          1,         21,         21,2,20010822,       2351,    51.8083,  -153.1585,       4732,   909.6,   2.8515,2,  34.3729,2,  34.3733,2,    27.20,1,   21.33,2,  135.05,2,   44.32,2,    0.02,2,    3.08,2,-999.000,9,-999.000,9,-999.000,9,  -999.0,9,  -999.0,9, -999.000,  -999.00, -999.00,9, -999.00,  -999.0,9,  -999.0,  27.4032,2
49NZ200107_1,       P17N,      79,          1,         20,         20,2,20010822,       2351,    51.8083,  -153.1585,       4732,  1011.5,   2.7215,2,  34.4051,2,  34.4064,2,    28.96,1,   22.80,2,  138.98,2,   44.37,2,    0.02,2,    3.09,2,-999.000,9,-999.000,9,-999.000,9,  -999.0,9,  -999.0,9, -999.000,  -999.00, -999.00,9, -999.00,  -999.0,9,  -999.0,  27.4409,2
49NZ200107_1,       P17N,      79,          1,         19,         19,2,20010822,       2351,    51.8083,  -153.1585,       4732,  1112.3,   2.5938,2,  34.4361,2,  34.4355,2,    30.59,1,   24.34,2,  143.82,2,   44.18,2,    0.03,2,    3.04,3,-999.000,9,-999.000,9,-999.000,9,  -999.0,9,  -999.0,9, -999.000,  -999.00, -999.00,9, -999.00,  -999.0,9,  -999.0,  27.4772,2
49NZ200107_1,       P17N,      79,          1,         18,         18,2,20010822,       2351,    51.8083,  -153.1585,       4732,  1214.4,   2.4902,2,  34.4613,2,  34.4623,2,    31.55,1,   25.67,2,  147.41,2,   44.20,2,    0.03,2,    3.08,2,-999.000,9,-999.000,9,-999.000,9,  -999.0,9,  -999.0,9, -999.000,  -999.00, -999.00,9, -999.00,  -999.0,9,  -999.0,  27.5067,2
49NZ200107_1,       P17N,      79,          1,         17,         17,2,20010822,       2351,    51.8083,  -153.1585,       4732,  1315.5,   2.4060,2,  34.4815,2,  34.4816,2,    33.20,1,   26.69,2,  149.73,2,   44.33,2,    0.03,2,    3.07,2,-999.000,9,-999.000,9,-999.000,9,  -999.0,9,  -999.0,9, -999.000,  -999.00, -999.00,9, -999.00,  -999.0,9,  -999.0,  27.5305,2
49NZ200107_1,       P17N,      79,          1,         16,         16,2,20010822,       2351,    51.8083,  -153.1585,       4732,  1416.9,   2.3320,2,  34.4989,2,  34.4991,2,    35.35,1,   29.05,2,  152.16,2,   44.27,2,    0.03,2,    3.07,2,-999.000,9,-999.000,9,-999.000,9,  -999.0,9,  -999.0,9, -999.000,  -999.00, -999.00,9, -999.00,  -999.0,9,  -999.0,  27.5510,2
49NZ200107_1,       P17N,      79,          1,         15,         15,2,20010822,       2351,    51.8083,  -153.1585,       4732,  1621.4,   2.1774,2,  34.5343,2,  34.5349,2,    41.19,1,   35.07,2,  156.02,2,   43.91,2,    0.03,2,    3.06,2,-999.000,9,-999.000,9,-999.000,9,  -999.0,9,  -999.0,9, -999.000,  -999.00, -999.00,9, -999.00,  -999.0,9,  -999.0,  27.5930,2
49NZ200107_1,       P17N,      79,          1,         14,         14,2,20010822,       2351,    51.8083,  -153.1585,       4732,  1823.3,   2.0374,2,  34.5653,2,  34.5654,2,    50.35,1,   43.86,2,  158.76,2,   43.54,2,    0.03,2,    3.00,2,-999.000,9,-999.000,9,-999.000,9,  -999.0,9,  -999.0,9, -999.000,  -999.00, -999.00,9, -999.00,  -999.0,9,  -999.0,  27.6301,2
49NZ200107_1,       P17N,      79,          1,         13,         13,2,20010822,       2351,    51.8083,  -153.1585,       4732,  2026.4,   1.9300,2,  34.5881,2,  34.5880,2,    60.00,1,   54.45,2,  160.56,2,   42.98,2,    0.03,2,    2.97,2,-999.000,9,-999.000,9,-999.000,9,  -999.0,9,  -999.0,9, -999.000,  -999.00, -999.00,9, -999.00,  -999.0,9,  -999.0,  27.6578,2
49NZ200107_1,       P17N,      79,          1,         12,         12,2,20010822,       2351,    51.8083,  -153.1585,       4732,  2231.4,   1.8392,2,  34.6067,2,  34.6067,2,    69.50,1,   64.41,2,  162.11,2,   42.19,2,    0.03,2,    2.94,2,-999.000,9,-999.000,9,-999.000,9,  -999.0,9,  -999.0,9, -999.000,  -999.00, -999.00,9, -999.00,  -999.0,9,  -999.0,  27.6808,2
49NZ200107_1,       P17N,      79,          1,         11,         11,2,20010822,       2351,    51.8083,  -153.1585,       4732,  2435.4,   1.7510,2,  34.6233,2,  34.6235,2,    81.82,1,   77.17,2,  161.79,2,   41.26,2,    0.03,2,    2.86,2,-999.000,9,-999.000,9,-999.000,9,  -999.0,9,  -999.0,9, -999.000,  -999.00, -999.00,9, -999.00,  -999.0,9,  -999.0,  27.7019,2
49NZ200107_1,       P17N,      79,          1,         10,         10,2,20010822,       2351,    51.8083,  -153.1585,       4732,  2640.1,   1.6830,2,  34.6364,2,  34.6365,2,    92.57,1,   88.43,2,  160.52,2,   40.65,2,    0.03,2,    2.80,2,-999.000,9,-999.000,9,-999.000,9,  -999.0,9,  -999.0,9, -999.000,  -999.00, -999.00,9, -999.00,  -999.0,9,  -999.0,  27.7186,2
49NZ200107_1,       P17N,      79,          1,          9,          9,2,20010822,       2351,    51.8083,  -153.1585,       4732,  2843.4,   1.6295,2,  34.6467,2,  34.6467,2,   102.31,1,   99.20,2,  159.58,2,   40.07,2,    0.04,2,    2.76,2,-999.000,9,-999.000,9,-999.000,9,  -999.0,9,  -999.0,9, -999.000,  -999.00, -999.00,9, -999.00,  -999.0,9,  -999.0,  27.7321,2
49NZ200107_1,       P17N,      79,          1,          8,          8,3,20010822,       2351,    51.8083,  -153.1585,       4732,  3048.0,   1.5807,2,  34.6561,2,  34.6538,3,   112.54,1,  109.26,2,  158.18,2,   39.23,2,    0.03,2,    2.71,2,-999.000,9,-999.000,9,-999.000,9,  -999.0,9,  -999.0,9, -999.000,  -999.00, -999.00,9, -999.00,  -999.0,9,  -999.0,  27.7444,2
49NZ200107_1,       P17N,      79,          1,          7,          7,2,20010822,       2351,    51.8083,  -153.1585,       4732,  3303.8,   1.5409,2,  34.6648,2,  34.6649,2,   122.56,1,  119.96,2,  156.36,2,   38.59,2,    0.04,2,    2.66,2,-999.000,9,-999.000,9,-999.000,9,  -999.0,9,  -999.0,9, -999.000,  -999.00, -999.00,9, -999.00,  -999.0,9,  -999.0,  27.7559,2
49NZ200107_1,       P17N,      79,          1,          6,          6,2,20010822,       2351,    51.8083,  -153.1585,       4732,  3560.6,   1.5086,2,  34.6724,2,  34.6723,2,   132.06,1,  128.45,2,  154.87,2,   38.03,2,    0.03,2,    2.62,2,-999.000,9,-999.000,9,-999.000,9,  -999.0,9,  -999.0,9, -999.000,  -999.00, -999.00,9, -999.00,  -999.0,9,  -999.0,  27.7661,2
49NZ200107_1,       P17N,      79,          1,          5,          5,2,20010822,       2351,    51.8083,  -153.1585,       4732,  3817.0,   1.4997,2,  34.6771,2,  34.6769,2,   138.01,1,  134.54,2,  155.08,2,   37.57,2,    0.04,2,    2.61,2,-999.000,9,-999.000,9,-999.000,9,  -999.0,9,  -999.0,9, -999.000,  -999.00, -999.00,9, -999.00,  -999.0,9,  -999.0,  27.7723,2
49NZ200107_1,       P17N,      79,          1,          4,          4,2,20010822,       2351,    51.8083,  -153.1585,       4732,  4074.1,   1.5002,2,  34.6808,2,  34.6811,2,   143.62,1,  138.81,2,  155.09,2,   37.33,2,    0.03,2,    2.57,2,-999.000,9,-999.000,9,-999.000,9,  -999.0,9,  -999.0,9, -999.000,  -999.00, -999.00,9, -999.00,  -999.0,9,  -999.0,  27.7771,2
49NZ200107_1,       P17N,      79,          1,          3,          3,2,20010822,       2351,    51.8083,  -153.1585,       4732,  4331.2,   1.5112,2,  34.6834,2,  34.6834,2,   147.86,1,  141.49,2,  155.56,2,   37.25,2,    0.03,2,    2.59,2,-999.000,9,-999.000,9,-999.000,9,  -999.0,9,  -999.0,9, -999.000,  -999.00, -999.00,9, -999.00,  -999.0,9,  -999.0,  27.7805,2
49NZ200107_1,       P17N,      79,          1,          2,          2,2,20010822,       2351,    51.8083,  -153.1585,       4732,  4588.7,   1.5326,2,  34.6849,2,  34.6847,2,   151.79,1,  142.61,2,  156.15,2,   37.05,2,    0.03,2,    2.52,2,-999.000,9,-999.000,9,-999.000,9,  -999.0,9,  -999.0,9, -999.000,  -999.00, -999.00,9, -999.00,  -999.0,9,  -999.0,  27.7823,2
49NZ200107_1,       P17N,      79,          1,          1,          1,2,20010822,       2351,    51.8083,  -153.1585,       4732,  4796.5,   1.5569,2,  34.6851,2,  34.6851,2,   153.83,1,  142.92,2,  156.68,2,   37.10,2,    0.03,2,    2.54,2,-999.000,9,-999.000,9,-999.000,9,  -999.0,9,  -999.0,9, -999.000,  -999.00, -999.00,9, -999.00,  -999.0,9,  -999.0,  27.7825,2