BOTTLE,20220817CCHSIOAMB
EXPOCODE,SECT_ID,STNNBR,CASTNO,SAMPNO,BTLNBR,BTLNBR_FLAG_W,DATE,TIME,LATITUDE,LONGITUDE,DEPTH,CTDPRS,CTDTMP,CTDTMP_FLAG_W,CTDSAL,CTDSAL_FLAG_W,SALNTY,SALNTY_FLAG_W,CTDOXY,CTDOXY_FLAG_W,OXYGEN,OXYGEN_FLAG_W,SILCAT,SILCAT_FLAG_W,NITRAT,NITRAT_FLAG_W,NITRIT,NITRIT_FLAG_W,PHSPHT,PHSPHT_FLAG_W,CFC-11,CFC-11_FLAG_W,CFC-12,CFC-12_FLAG_W,CFC113,CFC113_FLAG_W,TCARBN,TCARBN_FLAG_W,ALKALI,ALKALI_FLAG_W,PH_TOT,PH_TMP,DELC13,DELC13_FLAG_W,C13ERR,DELC14,DELC14_FLAG_W,C14ERR,THETA,THETA_FLAG_W
,,,,,,,,,,,METERS,DBAR,ITS-90,,PSS-78,,PSS-78,,UMOL/KG,,UMOL/KG,,UMOL/KG,,UMOL/KG,,UMOL/KG,,UMOL/KG,,PMOL/KG,,PMOL/KG,,PMOL/KG,,UMOL/KG,,UMOL/KG,,,DEG C,/MILLE,,/MILLE,/MILLE,,/MILLE,DEG C,
49NZ200107_1,       P17N,      56,          1,          0,        -99,9,20010815,       0212,    44.2937,  -140.1490,       4386,     4.5,-999.0000,9,-999.0000,9,  32.4578,2,  -999.00,9,  256.97,2,    1.70,2,    0.20,2,    0.02,2,    0.43,2,-999.000,1,-999.000,1,-999.000,1,  1955.2,2,  2184.1,2,    7.992,    25.00, -999.00,9, -999.00,  -999.0,9,  -999.0,-999.0000,9
49NZ200107_1,       P17N,      56,          1,         36,         36,2,20010815,       0212,    44.2937,  -140.1490,       4386,    10.6,  16.2807,2,  32.4620,2,  32.4610,2,   248.94,1,  259.06,2,    1.41,2,    0.23,2,    0.02,2,    0.40,2,-999.000,1,-999.000,1,-999.000,1,  1954.3,2,  2183.8,2,    7.992,    25.00,    1.92,2,    0.00,    28.2,2,     3.4,  23.7332,2
49NZ200107_1,       P17N,      56,          1,         35,         35,2,20010815,       0212,    44.2937,  -140.1490,       4386,    25.4,  12.5731,2,  32.4501,2,  32.4433,2,   283.27,1,  286.21,2,    1.44,2,    1.32,2,    0.05,2,    0.49,2,-999.000,1,-999.000,1,-999.000,1,  1964.1,2,  2181.4,2,    7.967,    25.00,    2.09,2,    0.00,    28.9,2,     3.3,  24.5016,2
49NZ200107_1,       P17N,      56,          1,         34,         34,3,20010815,       0212,    44.2937,  -140.1490,       4386,    50.9,   9.6805,2,  32.4946,2,  32.4962,2,   272.99,1,  299.57,2,    5.14,2,    5.75,2,    0.12,2,    0.86,2,-999.000,1,-999.000,1,-999.000,1,  2005.3,2,  2176.1,2,    7.878,    25.00,    1.62,2,    0.01,     9.9,3,     3.7,  25.0495,2
49NZ200107_1,       P17N,      56,          1,         33,         33,2,20010815,       0212,    44.2937,  -140.1490,       4386,    74.5,   8.8988,2,  32.5362,2,  32.5351,2,   267.72,1,  280.36,2,    7.18,2,    8.39,2,    1.18,2,    0.94,2,-999.000,1,-999.000,1,-999.000,1,  2017.1,2,  2175.6,2,    7.849,    25.00,    1.43,2,    0.00,    21.9,2,     3.0,  25.2061,2
49NZ200107_1,       P17N,      56,          1,         32,         32,2,20010815,       0212,    44.2937,  -140.1490,       4386,   101.9,   8.0956,2,  32.5391,2,  32.5388,2,   267.57,1,  279.50,2,    9.54,2,   10.56,2,    0.02,2,    1.05,2,-999.000,1,-999.000,1,-999.000,1,  2025.1,2,  2176.2,6,    7.826,    25.00,    1.35,2,    0.00,    24.3,2,     3.1,  25.3292,2
49NZ200107_1,       P17N,      56,          1,         31,         31,2,20010815,       0212,    44.2937,  -140.1490,       4386,   151.7,   6.9845,2,  32.9891,2,  33.0263,2,   249.57,1,  262.94,2,   17.22,2,   15.64,2,    0.02,2,    1.30,2,-999.000,1,-999.000,1,-999.000,1,  2072.6,2,  2207.5,2,    7.766,    25.00,    0.86,2,    0.00,    21.2,2,     3.3,  25.8388,2
49NZ200107_1,       P17N,      56,          1,         30,         30,2,20010815,       0212,    44.2937,  -140.1490,       4386,   202.1,   7.6747,2,  33.7284,2,  33.7425,2,   214.03,1,  224.08,2,   22.19,2,   18.00,2,    0.01,2,    1.33,2,-999.000,1,-999.000,1,-999.000,1,  2114.0,6,  2239.5,2,    7.740,    25.00,    0.43,6,    0.01,    23.7,6,     2.5,  26.3254,2
49NZ200107_1,       P17N,      56,          1,         29,         29,2,20010815,       0212,    44.2937,  -140.1490,       4386,   252.8,   7.6684,2,  33.9535,2,  33.9483,2,   182.55,1,  189.48,2,   30.48,2,   22.04,2,    0.01,2,    1.57,2,-999.000,1,-999.000,1,-999.000,1,  2151.6,2,  2254.3,2,    7.686,    25.00,    0.18,2,    0.00,    10.6,2,     3.0,  26.5040,2
49NZ200107_1,       P17N,      56,          1,         28,         28,2,20010815,       0212,    44.2937,  -140.1490,       4386,   302.7,   6.9354,2,  33.9463,2,  33.9418,2,   155.62,1,  162.15,2,   40.36,2,   26.48,2,    0.01,2,    1.87,2,-999.000,1,-999.000,1,-999.000,1,  2183.0,2,  2261.0,6,    7.617,    25.00,   -0.02,2,    0.00,   -10.2,2,     3.1,  26.6013,2
49NZ200107_1,       P17N,      56,          1,         27,         27,2,20010815,       0212,    44.2937,  -140.1490,       4386,   353.8,   5.9838,2,  33.9172,2,  33.9139,2,   130.82,1,  134.16,2,   51.69,2,   31.15,2,    0.02,2,    2.20,2,-999.000,1,-999.000,1,-999.000,1,  2219.1,2,  2272.1,2,    7.536,    25.00,   -0.15,2,    0.00,   -36.5,2,     3.3,  26.7029,2
49NZ200107_1,       P17N,      56,          1,         26,         26,2,20010815,       0212,    44.2937,  -140.1490,       4386,   404.1,   5.3385,2,  33.9410,2,  33.9410,2,   103.76,1,  103.55,2,   62.48,2,   35.29,2,    0.02,2,    2.48,2,-999.000,1,-999.000,1,-999.000,1,  2252.0,6,  2283.2,2,    7.466,    25.00,   -0.30,2,    0.00,   -63.2,2,     3.4,  26.8003,2
49NZ200107_1,       P17N,      56,          1,         25,         25,2,20010815,       0212,    44.2937,  -140.1490,       4386,   504.9,   4.6599,2,  34.0024,2,  34.0156,2,    74.26,1,   70.75,2,   78.12,2,   39.25,2,    0.01,2,    2.77,2,-999.000,1,-999.000,1,-999.000,1,  2290.4,2,  2300.4,2,    7.402,    25.00,   -0.42,2,    0.00,   -96.8,2,     3.0,  26.9267,2
49NZ200107_1,       P17N,      56,          1,         24,         24,2,20010815,       0212,    44.2937,  -140.1490,       4386,   606.1,   4.2524,2,  34.0960,2,  34.1075,2,    46.71,1,   40.06,2,   92.82,2,   42.00,2,    0.01,2,    2.97,2,-999.000,1,-999.000,1,-999.000,1,  2324.0,2,  2313.6,6,    7.356,    25.00,   -0.54,2,    0.00,  -135.8,2,     2.9,  27.0455,2
49NZ200107_1,       P17N,      56,          1,         23,         23,2,20010815,       0212,    44.2937,  -140.1490,       4386,   707.3,   3.8791,2,  34.1780,2,  34.1807,2,    30.83,1,   24.94,2,  104.24,2,   43.40,2,    0.02,2,    3.07,2,-999.000,1,-999.000,1,-999.000,1,  2345.8,2,  2336.4,2,    7.338,    25.00,   -0.61,2,    0.01,  -163.4,2,     3.1,  27.1498,2
49NZ200107_1,       P17N,      56,          1,         22,         22,2,20010815,       0212,    44.2937,  -140.1490,       4386,   808.5,   3.5804,2,  34.2409,2,  34.2517,2,    22.72,1,   15.52,2,  114.92,2,   44.41,2,    0.01,2,    3.14,2,-999.000,1,-999.000,1,-999.000,1,  2361.8,6,  2343.5,2,    7.327,    25.00,   -0.72,2,    0.00,  -182.0,2,     3.1,  27.2299,2
49NZ200107_1,       P17N,      56,          1,         21,         21,2,20010815,       0212,    44.2937,  -140.1490,       4386,   909.5,   3.3470,2,  34.2950,2,  34.2973,2,    19.12,1,   10.91,2,  122.57,2,   44.79,2,    0.01,2,    3.18,2,-999.000,1,-999.000,1,-999.000,1,  2374.0,2,  2349.2,3,    7.327,    25.00,   -0.67,2,    0.00,  -192.3,2,     3.4,  27.2960,2
49NZ200107_1,       P17N,      56,          1,         20,         20,2,20010815,       0212,    44.2937,  -140.1490,       4386,  1010.2,   3.1583,2,  34.3419,2,  34.3432,3,    17.99,1,   10.84,2,  129.22,2,   44.93,2,    0.01,2,    3.20,2,-999.000,1,-999.000,1,-999.000,1,  2382.1,2,  2367.7,6,    7.329,    25.00,   -0.68,2,    0.00,  -205.1,2,     3.0,  27.3516,2
49NZ200107_1,       P17N,      56,          1,         19,         19,2,20010815,       0212,    44.2937,  -140.1490,       4386,  1111.9,   2.9616,2,  34.3880,2,  34.3889,2,    17.85,1,   10.33,2,  136.28,2,   45.18,2,    0.02,2,    3.19,2,-999.000,1,-999.000,1,-999.000,1,  2388.4,2,  2373.7,2,    7.333,    25.00,   -0.67,2,    0.00,  -214.4,2,     2.9,  27.4069,2
49NZ200107_1,       P17N,      56,          1,         18,         18,2,20010815,       0212,    44.2937,  -140.1490,       4386,  1213.5,   2.7866,2,  34.4281,2,  34.4306,2,    18.52,1,   10.55,2,  142.43,2,   45.21,2,    0.02,2,    3.21,2,-999.000,1,-999.000,1,-999.000,1,  2395.0,6,  2380.8,2,    7.338,    25.00,   -0.69,6,    0.01,  -222.6,6,     6.0,  27.4549,2
49NZ200107_1,       P17N,      56,          1,         17,         17,2,20010815,       0212,    44.2937,  -140.1490,       4386,  1315.0,   2.6339,2,  34.4578,2,  34.4574,2,    20.72,1,   12.67,2,  147.56,2,   45.12,2,    0.02,2,    3.20,2,-999.000,1,-999.000,1,-999.000,1,  2398.0,2,  2387.0,2,    7.344,    25.00,   -0.65,2,    0.00,  -223.9,2,     3.0,  27.4925,2
49NZ200107_1,       P17N,      56,          1,         16,         16,2,20010815,       0212,    44.2937,  -140.1490,       4386,  1416.1,   2.5129,2,  34.4790,2,  34.4784,2,    23.40,1,   15.49,2,  151.06,2,   45.04,2,    0.02,2,    3.19,2,-999.000,1,-999.000,1,-999.000,1,  2401.7,2,  2391.4,2,    7.351,    25.00,   -0.64,2,    0.00,  -224.6,2,     2.9,  27.5203,2
49NZ200107_1,       P17N,      56,          1,         15,         15,2,20010815,       0212,    44.2937,  -140.1490,       4386,  1517.9,   2.3987,2,  34.5046,2,  34.5055,2,    29.49,1,   22.01,2,  154.59,2,   44.68,2,    0.01,2,    3.16,2,-999.000,1,-999.000,1,-999.000,1,  2402.2,2,  2392.3,2,    7.364,    25.00,   -0.62,2,    0.00,  -234.6,2,     2.9,  27.5508,2
49NZ200107_1,       P17N,      56,          1,         14,         14,2,20010815,       0212,    44.2937,  -140.1490,       4386,  1619.6,   2.2701,2,  34.5272,2,  34.5259,2,    35.56,1,   28.24,2,  157.80,2,   44.23,2,    0.01,2,    3.13,2,-999.000,1,-999.000,1,-999.000,1,  2400.4,2,  2398.5,2,    7.378,    25.00,   -0.59,2,    0.00,  -237.9,2,     3.7,  27.5800,2
49NZ200107_1,       P17N,      56,          1,         13,         13,2,20010815,       0212,    44.2937,  -140.1490,       4386,  1823.0,   2.0916,2,  34.5654,2,  34.5649,2,    48.85,1,   42.71,2,  162.05,2,   43.38,2,    0.01,2,    3.06,2,-999.000,1,-999.000,1,-999.000,1,  2394.8,2,  2410.6,2,    7.411,    25.00,   -0.48,2,    0.01,  -241.7,2,     3.1,  27.6259,2
49NZ200107_1,       P17N,      56,          1,         12,         12,2,20010815,       0212,    44.2937,  -140.1490,       4386,  2025.3,   1.9484,2,  34.5926,2,  34.5927,2,    61.14,1,   55.87,2,  165.04,2,   42.65,2,    0.01,2,    3.01,2,-999.000,1,-999.000,1,-999.000,1,  2389.6,2,  2399.7,4,    7.436,    25.00,   -0.45,2,    0.00,  -241.4,2,     3.6,  27.6600,2
49NZ200107_1,       P17N,      56,          1,         11,         11,2,20010815,       0212,    44.2937,  -140.1490,       4386,  2229.8,   1.8452,2,  34.6137,2,  34.6137,2,    72.59,1,   68.31,2,  162.06,2,   41.83,2,    0.01,2,    2.93,2,-999.000,1,-999.000,1,-999.000,1,  2384.8,2,  2416.2,2,    7.463,    25.00,   -0.37,2,    0.00,  -248.5,2,     2.9,  27.6860,2
49NZ200107_1,       P17N,      56,          1,         10,         10,2,20010815,       0212,    44.2937,  -140.1490,       4386,  2434.5,   1.7432,2,  34.6289,2,  34.6285,2,    83.56,1,   80.22,2,  160.40,2,   40.99,2,    0.01,2,    2.88,2,-999.000,9,-999.000,9,-999.000,9,  -999.0,9,  -999.0,9, -999.000,  -999.00, -999.00,9, -999.00,  -999.0,9,  -999.0,  27.7069,2
49NZ200107_1,       P17N,      56,          1,          9,          9,2,20010815,       0212,    44.2937,  -140.1490,       4386,  2637.8,   1.6590,2,  34.6417,2,  34.6413,2,    95.11,1,   93.98,2,  158.90,2,   40.33,2,    0.01,2,    2.83,2,-999.000,1,-999.000,1,-999.000,1,  2371.6,2,  2423.7,2,    7.507,    25.00,   -0.22,2,    0.00,  -240.8,2,     3.0,  27.7246,2
49NZ200107_1,       P17N,      56,          1,          8,          8,2,20010815,       0212,    44.2937,  -140.1490,       4386,  2841.6,   1.5955,2,  34.6520,2,  34.6556,3,   105.23,1,  102.96,2,  157.70,2,   39.68,2,    0.01,2,    2.79,2,-999.000,9,-999.000,9,-999.000,9,  -999.0,9,  -999.0,9, -999.000,  -999.00, -999.00,9, -999.00,  -999.0,9,  -999.0,  27.7387,2
49NZ200107_1,       P17N,      56,          1,          7,          7,2,20010815,       0212,    44.2937,  -140.1490,       4386,  3046.8,   1.5534,2,  34.6602,2,  34.6602,2,   113.87,1,  111.71,2,  157.28,2,   39.00,2,    0.01,2,    2.74,2,-999.000,1,-999.000,1,-999.000,1,  2358.6,6,  2425.1,2,    7.545,    25.00,   -0.16,6,    0.04,  -241.3,6,     2.2,  27.7496,2
49NZ200107_1,       P17N,      56,          1,          6,          6,2,20010815,       0212,    44.2937,  -140.1490,       4386,  3302.2,   1.5155,2,  34.6685,2,  34.6685,2,   123.39,1,  121.24,2,  156.79,2,   38.37,2,    0.01,2,    2.69,2,-999.000,9,-999.000,9,-999.000,9,  -999.0,9,  -999.0,9, -999.000,  -999.00, -999.00,9, -999.00,  -999.0,9,  -999.0,  27.7606,2
49NZ200107_1,       P17N,      56,          1,          5,          5,2,20010815,       0212,    44.2937,  -140.1490,       4386,  3609.0,   1.4979,2,  34.6753,2,  34.6754,2,   131.44,1,  129.53,2,  157.84,2,   37.91,2,    0.01,2,    2.66,2,-999.000,1,-999.000,1,-999.000,1,  2351.1,2,  2428.8,2,    7.569,    25.00,   -0.01,2,    0.00,  -232.5,2,     2.9,  27.7695,2
49NZ200107_1,       P17N,      56,          1,          4,          4,2,20010815,       0212,    44.2937,  -140.1490,       4386,  3814.5,   1.4989,2,  34.6786,2,  34.6787,2,   135.17,1,  132.08,2,  159.43,2,   37.79,2,    0.01,2,    2.64,2,-999.000,9,-999.000,9,-999.000,9,  -999.0,9,  -999.0,9, -999.000,  -999.00, -999.00,9, -999.00,  -999.0,9,  -999.0,  27.7735,2
49NZ200107_1,       P17N,      56,          1,          3,          3,3,20010815,       0212,    44.2937,  -140.1490,       4386,  4071.7,   1.5141,2,  34.6813,2,  34.6815,2,   137.92,1,  134.30,2,  162.10,2,   37.61,2,    0.01,2,    2.63,2,-999.000,1,-999.000,1,-999.000,1,  2350.0,2,  2426.6,6,    7.596,    25.00,   -0.01,2,    0.00,  -230.4,2,     3.0,  27.7766,2
49NZ200107_1,       P17N,      56,          1,          2,          2,2,20010815,       0212,    44.2937,  -140.1490,       4386,  4328.4,   1.5388,2,  34.6829,2,  34.6839,4,   139.68,1,  134.23,2,  164.59,2,   37.87,2,    0.01,2,    2.61,2,-999.000,9,-999.000,9,-999.000,9,  -999.0,9,  -999.0,9, -999.000,  -999.00, -999.00,9, -999.00,  -999.0,9,  -999.0,  27.7782,2
49NZ200107_1,       P17N,      56,          1,          1,          1,2,20010815,       0212,    44.2937,  -140.1490,       4386,  4446.0,   1.5511,2,  34.6832,2,  34.6831,2,   140.33,1,  133.71,2,  166.24,2,   37.85,2,    0.01,2,    2.63,2,-999.000,1,-999.000,1,-999.000,1,  2353.4,2,  2437.1,2,    7.601,    25.00,    0.04,2,    0.01,  -231.2,2,     3.2,  27.7785,2