BOTTLE,20220817CCHSIOAMB
EXPOCODE,SECT_ID,STNNBR,CASTNO,SAMPNO,BTLNBR,BTLNBR_FLAG_W,DATE,TIME,LATITUDE,LONGITUDE,DEPTH,CTDPRS,CTDTMP,CTDTMP_FLAG_W,CTDSAL,CTDSAL_FLAG_W,SALNTY,SALNTY_FLAG_W,CTDOXY,CTDOXY_FLAG_W,OXYGEN,OXYGEN_FLAG_W,SILCAT,SILCAT_FLAG_W,NITRAT,NITRAT_FLAG_W,NITRIT,NITRIT_FLAG_W,PHSPHT,PHSPHT_FLAG_W,CFC-11,CFC-11_FLAG_W,CFC-12,CFC-12_FLAG_W,CFC113,CFC113_FLAG_W,TCARBN,TCARBN_FLAG_W,ALKALI,ALKALI_FLAG_W,PH_TOT,PH_TMP,DELC13,DELC13_FLAG_W,C13ERR,DELC14,DELC14_FLAG_W,C14ERR,THETA,THETA_FLAG_W
,,,,,,,,,,,METERS,DBAR,ITS-90,,PSS-78,,PSS-78,,UMOL/KG,,UMOL/KG,,UMOL/KG,,UMOL/KG,,UMOL/KG,,UMOL/KG,,PMOL/KG,,PMOL/KG,,PMOL/KG,,UMOL/KG,,UMOL/KG,,,DEG C,/MILLE,,/MILLE,/MILLE,,/MILLE,DEG C,
49NZ200107_1,       P17N,      96,          2,          0,        -99,9,20010825,       1702,    54.5383,  -158.3723,       1274,     4.5,-999.0000,9,-999.0000,9,  32.4123,2,  -999.00,9,  292.18,2,   13.95,2,    6.38,2,    0.15,2,    0.87,2,-999.000,9,-999.000,9,-999.000,9,  -999.0,9,  -999.0,9, -999.000,  -999.00, -999.00,9, -999.00,  -999.0,9,  -999.0,-999.0000,9
49NZ200107_1,       P17N,      96,          2,         26,         26,2,20010825,       1702,    54.5383,  -158.3723,       1274,     6.3,  10.0609,2,  32.4158,2,  32.3936,2,   278.54,1,  293.45,2,   13.64,2,    6.39,2,    0.15,2,    0.80,2,-999.000,9,-999.000,9,-999.000,9,  -999.0,9,  -999.0,9, -999.000,  -999.00, -999.00,9, -999.00,  -999.0,9,  -999.0,  24.9247,2
49NZ200107_1,       P17N,      96,          2,         25,         25,3,20010825,       1702,    54.5383,  -158.3723,       1274,    11.5,  10.0442,2,  32.4216,2,  32.4187,2,   278.48,1,  294.11,2,   13.53,2,    6.41,2,    0.15,2,    0.82,2,-999.000,9,-999.000,9,-999.000,9,  -999.0,9,  -999.0,9, -999.000,  -999.00, -999.00,9, -999.00,  -999.0,9,  -999.0,  24.9321,2
49NZ200107_1,       P17N,      96,          2,         24,         24,3,20010825,       1702,    54.5383,  -158.3723,       1274,    26.3,   9.5121,2,  32.4234,2,  32.4241,2,   275.11,1,  291.34,2,   13.75,2,    7.25,2,    0.16,2,    0.87,2,-999.000,9,-999.000,9,-999.000,9,  -999.0,9,  -999.0,9, -999.000,  -999.00, -999.00,9, -999.00,  -999.0,9,  -999.0,  25.0207,2
49NZ200107_1,       P17N,      96,          2,         23,         23,3,20010825,       1702,    54.5383,  -158.3723,       1274,    36.1,   9.2165,2,  32.4331,2,  32.4419,2,   271.66,1,  288.22,2,   14.24,2,    8.38,2,    0.18,2,    0.94,2,-999.000,9,-999.000,9,-999.000,9,  -999.0,9,  -999.0,9, -999.000,  -999.00, -999.00,9, -999.00,  -999.0,9,  -999.0,  25.0754,2
49NZ200107_1,       P17N,      96,          2,         22,         22,3,20010825,       1702,    54.5383,  -158.3723,       1274,    51.5,   8.3417,2,  32.5120,2,  32.5337,2,   266.22,1,  284.38,2,   16.99,2,   11.57,2,    0.18,2,    1.12,2,-999.000,9,-999.000,9,-999.000,9,  -999.0,9,  -999.0,9, -999.000,  -999.00, -999.00,9, -999.00,  -999.0,9,  -999.0,  25.2711,2
49NZ200107_1,       P17N,      96,          2,         21,         21,2,20010825,       1702,    54.5383,  -158.3723,       1274,    73.7,   5.8487,2,  32.9654,2,  32.9566,2,   219.49,1,  240.39,2,   28.58,2,   21.79,2,    0.03,2,    1.70,2,-999.000,9,-999.000,9,-999.000,9,  -999.0,9,  -999.0,9, -999.000,  -999.00, -999.00,9, -999.00,  -999.0,9,  -999.0,  25.9644,2
49NZ200107_1,       P17N,      96,          2,         20,         20,2,20010825,       1702,    54.5383,  -158.3723,       1274,   101.8,   5.7194,2,  33.2450,2,  33.3268,2,   175.77,1,  175.61,2,   40.20,2,   28.39,2,    0.05,2,    2.09,2,-999.000,9,-999.000,9,-999.000,9,  -999.0,9,  -999.0,9, -999.000,  -999.00, -999.00,9, -999.00,  -999.0,9,  -999.0,  26.2013,2
49NZ200107_1,       P17N,      96,          2,         19,         19,3,20010825,       1702,    54.5383,  -158.3723,       1274,   126.6,   5.3021,2,  33.5279,2,  33.5847,2,   141.67,1,  137.89,2,   47.38,2,   32.89,2,    0.02,2,    2.33,2,-999.000,9,-999.000,9,-999.000,9,  -999.0,9,  -999.0,9, -999.000,  -999.00, -999.00,9, -999.00,  -999.0,9,  -999.0,  26.4747,2
49NZ200107_1,       P17N,      96,          2,         18,         18,2,20010825,       1702,    54.5383,  -158.3723,       1274,   152.7,   5.3466,2,  33.7290,2,  33.7586,2,   108.16,1,  107.70,2,   53.36,2,   35.62,2,    0.03,2,    2.48,2,-999.000,9,-999.000,9,-999.000,9,  -999.0,9,  -999.0,9, -999.000,  -999.00, -999.00,9, -999.00,  -999.0,9,  -999.0,  26.6290,2
49NZ200107_1,       P17N,      96,          2,         17,         17,3,20010825,       1702,    54.5383,  -158.3723,       1274,   177.3,   5.3154,2,  33.8277,2,  33.8535,2,    88.90,1,   86.33,2,   58.62,2,   37.67,2,    0.02,2,    2.61,2,-999.000,9,-999.000,9,-999.000,9,  -999.0,9,  -999.0,9, -999.000,  -999.00, -999.00,9, -999.00,  -999.0,9,  -999.0,  26.7110,2
49NZ200107_1,       P17N,      96,          2,         16,         16,2,20010825,       1702,    54.5383,  -158.3723,       1274,   203.2,   4.9711,2,  33.9047,2,  33.9053,2,    71.67,1,   69.66,2,   67.15,2,   39.70,2,    0.01,2,    2.69,2,-999.000,9,-999.000,9,-999.000,9,  -999.0,9,  -999.0,9, -999.000,  -999.00, -999.00,9, -999.00,  -999.0,9,  -999.0,  26.8119,2
49NZ200107_1,       P17N,      96,          2,         15,         15,2,20010825,       1702,    54.5383,  -158.3723,       1274,   228.3,   4.7800,2,  33.9241,2,  33.9241,2,    63.79,1,   60.78,2,   70.78,2,   40.61,2,    0.01,2,    2.81,2,-999.000,9,-999.000,9,-999.000,9,  -999.0,9,  -999.0,9, -999.000,  -999.00, -999.00,9, -999.00,  -999.0,9,  -999.0,  26.8490,2
49NZ200107_1,       P17N,      96,          2,         14,         14,2,20010825,       1702,    54.5383,  -158.3723,       1274,   253.3,   4.6855,2,  33.9347,2,  33.9370,2,    59.26,1,   56.61,2,   72.91,2,   41.17,2,    0.01,2,    2.84,2,-999.000,9,-999.000,9,-999.000,9,  -999.0,9,  -999.0,9, -999.000,  -999.00, -999.00,9, -999.00,  -999.0,9,  -999.0,  26.8680,2
49NZ200107_1,       P17N,      96,          2,         13,         13,2,20010825,       1702,    54.5383,  -158.3723,       1274,   303.6,   4.4717,2,  33.9768,2,  33.9777,2,    49.79,1,   44.90,2,   79.54,2,   42.49,2,    0.00,2,    2.95,2,-999.000,9,-999.000,9,-999.000,9,  -999.0,9,  -999.0,9, -999.000,  -999.00, -999.00,9, -999.00,  -999.0,9,  -999.0,  26.9251,2
49NZ200107_1,       P17N,      96,          2,         12,         12,2,20010825,       1702,    54.5383,  -158.3723,       1274,   354.8,   4.2851,2,  33.9916,2,  33.9971,2,    41.61,1,   36.84,2,   84.53,2,   43.37,2,    0.00,2,    3.03,2,-999.000,9,-999.000,9,-999.000,9,  -999.0,9,  -999.0,9, -999.000,  -999.00, -999.00,9, -999.00,  -999.0,9,  -999.0,  26.9570,2
49NZ200107_1,       P17N,      96,          2,         11,         11,2,20010825,       1702,    54.5383,  -158.3723,       1274,   404.6,   4.0342,2,  34.0408,2,  34.0407,2,    32.79,1,   26.09,2,   92.40,2,   44.16,2,   -0.01,2,    3.09,2,-999.000,9,-999.000,9,-999.000,9,  -999.0,9,  -999.0,9, -999.000,  -999.00, -999.00,9, -999.00,  -999.0,9,  -999.0,  27.0225,2
49NZ200107_1,       P17N,      96,          2,         10,         10,2,20010825,       1702,    54.5383,  -158.3723,       1274,   455.7,   3.9436,2,  34.0928,2,  34.0917,2,    31.00,1,   24.41,2,   97.73,2,   44.25,2,   -0.01,2,    3.10,2,-999.000,9,-999.000,9,-999.000,9,  -999.0,9,  -999.0,9, -999.000,  -999.00, -999.00,9, -999.00,  -999.0,9,  -999.0,  27.0735,2
49NZ200107_1,       P17N,      96,          2,          9,          9,2,20010825,       1702,    54.5383,  -158.3723,       1274,   506.1,   3.8578,2,  34.1293,2,  34.1298,2,    28.84,1,   22.17,2,  102.47,2,   44.36,2,   -0.01,2,    3.12,2,-999.000,9,-999.000,9,-999.000,9,  -999.0,9,  -999.0,9, -999.000,  -999.00, -999.00,9, -999.00,  -999.0,9,  -999.0,  27.1116,2
49NZ200107_1,       P17N,      96,          2,          8,          8,2,20010825,       1702,    54.5383,  -158.3723,       1274,   607.2,   3.6455,2,  34.2000,2,  34.1981,2,    25.61,1,   17.70,2,  111.35,2,   44.48,2,   -0.01,2,    3.15,2,-999.000,9,-999.000,9,-999.000,9,  -999.0,9,  -999.0,9, -999.000,  -999.00, -999.00,9, -999.00,  -999.0,9,  -999.0,  27.1896,2
49NZ200107_1,       P17N,      96,          2,          7,          7,2,20010825,       1702,    54.5383,  -158.3723,       1274,   708.7,   3.5030,2,  34.2422,2,  34.2407,2,    24.71,1,   16.64,2,  114.89,2,   44.68,2,    0.01,2,    3.13,2,-999.000,9,-999.000,9,-999.000,9,  -999.0,9,  -999.0,9, -999.000,  -999.00, -999.00,9, -999.00,  -999.0,9,  -999.0,  27.2377,2
49NZ200107_1,       P17N,      96,          2,          6,          6,2,20010825,       1702,    54.5383,  -158.3723,       1274,   809.9,   3.3587,2,  34.2771,2,  34.2758,2,    24.25,1,   15.03,2,  119.59,2,   44.57,2,    0.01,2,    3.15,2,-999.000,9,-999.000,9,-999.000,9,  -999.0,9,  -999.0,9, -999.000,  -999.00, -999.00,9, -999.00,  -999.0,9,  -999.0,  27.2799,2
49NZ200107_1,       P17N,      96,          2,          5,          5,2,20010825,       1702,    54.5383,  -158.3723,       1274,   911.2,   3.2609,2,  34.2993,2,  34.2983,2,    24.97,1,   16.00,2,  123.36,2,   44.77,2,    0.01,2,    3.18,2,-999.000,9,-999.000,9,-999.000,9,  -999.0,9,  -999.0,9, -999.000,  -999.00, -999.00,9, -999.00,  -999.0,9,  -999.0,  27.3075,2
49NZ200107_1,       P17N,      96,          2,          4,          4,2,20010825,       1702,    54.5383,  -158.3723,       1274,  1012.7,   3.1293,2,  34.3277,2,  34.3269,2,    25.43,1,   16.85,2,  128.26,2,   44.83,2,    0.01,2,    3.21,2,-999.000,9,-999.000,9,-999.000,9,  -999.0,9,  -999.0,9, -999.000,  -999.00, -999.00,9, -999.00,  -999.0,9,  -999.0,  27.3430,2
49NZ200107_1,       P17N,      96,          2,          3,          3,2,20010825,       1702,    54.5383,  -158.3723,       1274,  1114.1,   2.9715,2,  34.3629,2,  34.3629,2,    26.26,1,   16.33,2,  133.66,2,   44.79,2,    0.01,2,    3.20,2,-999.000,9,-999.000,9,-999.000,9,  -999.0,9,  -999.0,9, -999.000,  -999.00, -999.00,9, -999.00,  -999.0,9,  -999.0,  27.3859,2
49NZ200107_1,       P17N,      96,          2,          2,          2,2,20010825,       1702,    54.5383,  -158.3723,       1274,  1214.8,   2.8523,2,  34.3889,2,  34.3894,2,    27.79,1,   17.67,2,  137.45,2,   44.84,2,    0.01,2,    3.20,2,-999.000,9,-999.000,9,-999.000,9,  -999.0,9,  -999.0,9, -999.000,  -999.00, -999.00,9, -999.00,  -999.0,9,  -999.0,  27.4179,2
49NZ200107_1,       P17N,      96,          2,          1,          1,2,20010825,       1702,    54.5383,  -158.3723,       1274,  1314.6,   2.7725,2,  34.4066,2,  34.4067,2,    29.10,1,   19.01,2,  140.11,2,   44.92,2,    0.01,2,    3.22,2,-999.000,9,-999.000,9,-999.000,9,  -999.0,9,  -999.0,9, -999.000,  -999.00, -999.00,9, -999.00,  -999.0,9,  -999.0,  27.4397,2
49NZ200107_1,       P17N,      98,          1,          0,        -99,9,20010825,       1854,    54.5987,  -158.5025,        547,     4.5,-999.0000,9,-999.0000,9,-999.0000,9,  -999.00,9,  286.18,2, -999.00,9, -999.00,9, -999.00,9, -999.00,9,-999.000,1,-999.000,1,-999.000,1,  1976.2,2,  2170.0,2,    7.921,    25.00, -999.00,9, -999.00,  -999.0,9,  -999.0,-999.0000,9
49NZ200107_1,       P17N,      98,          1,         20,         20,2,20010825,       1854,    54.5987,  -158.5025,        547,     5.9,  10.8752,2,  32.3138,2,  32.3478,2,   274.44,1,  288.72,2,   12.96,2,    5.51,2,    0.14,2,    0.76,2,-999.000,1,-999.000,1,-999.000,1,  1983.4,2,  2171.5,2,    7.910,    25.00, -999.00,9, -999.00,  -999.0,9,  -999.0,  24.7064,2
49NZ200107_1,       P17N,      98,          1,         19,         19,3,20010825,       1854,    54.5987,  -158.5025,        547,    11.2,  10.6036,2,  32.3221,2,  32.3844,2,   277.01,1,  288.02,2,   13.57,2,    6.53,2,    0.14,2,    0.82,2,-999.000,1,-999.000,1,-999.000,1,  1990.5,2,  2171.8,2,    7.896,    25.00, -999.00,9, -999.00,  -999.0,9,  -999.0,  24.7599,2
49NZ200107_1,       P17N,      98,          1,         18,         18,2,20010825,       1854,    54.5987,  -158.5025,        547,    16.5,  10.0135,2,  32.3694,2,-999.0000,9,   272.25,1, -999.00,9,   14.84,3,    8.34,2,    0.19,2,    0.94,3,-999.000,9,-999.000,9,-999.000,9,  -999.0,9,  -999.0,9, -999.000,  -999.00, -999.00,9, -999.00,  -999.0,9,  -999.0,  24.8965,2
49NZ200107_1,       P17N,      98,          1,         17,         17,2,20010825,       1854,    54.5987,  -158.5025,        547,    26.2,   9.5846,2,  32.4098,2,  32.4349,2,   271.24,1,  281.80,2,   14.84,3,    8.66,2,    0.29,2,    0.96,3,-999.000,1,-999.000,1,-999.000,1,  2004.9,2,  2173.1,2,    7.864,    25.00, -999.00,9, -999.00,  -999.0,9,  -999.0,  24.9984,2
49NZ200107_1,       P17N,      98,          1,         16,         16,2,20010825,       1854,    54.5987,  -158.5025,        547,    36.0,   9.2720,2,  32.4265,2,  32.4829,2,   262.75,1,  269.79,2,   17.02,2,   11.10,2,    0.19,2,    1.09,2,-999.000,1,-999.000,1,-999.000,1,  2031.1,2,  2177.3,2,    7.815,    25.00, -999.00,9, -999.00,  -999.0,9,  -999.0,  25.0615,2
49NZ200107_1,       P17N,      98,          1,         15,         15,2,20010825,       1854,    54.5987,  -158.5025,        547,    51.1,   7.9222,2,  32.5190,2,  32.5535,2,   255.90,1,  267.88,2,   19.08,2,   13.76,2,    0.17,2,    1.25,2,-999.000,1,-999.000,1,-999.000,1,  2054.5,2,  2177.2,2,    7.761,    25.00, -999.00,9, -999.00,  -999.0,9,  -999.0,  25.3377,2
49NZ200107_1,       P17N,      98,          1,         14,         14,2,20010825,       1854,    54.5987,  -158.5025,        547,    76.0,   6.1858,2,  32.7288,2,  32.7529,2,   239.55,1,  261.00,2,   24.42,2,   18.55,2,    0.03,2,    1.53,2,-999.000,1,-999.000,1,-999.000,1,  2078.1,2,  2188.3,2,    7.707,    25.00, -999.00,9, -999.00,  -999.0,9,  -999.0,  25.7360,2
49NZ200107_1,       P17N,      98,          1,         13,         13,2,20010825,       1854,    54.5987,  -158.5025,        547,   102.1,   5.8427,2,  33.0731,2,  33.0674,2,   194.98,1,  207.54,2,   34.46,2,   24.34,2,    0.02,2,    1.87,2,-999.000,1,-999.000,1,-999.000,1,  2131.3,2,  2206.9,2,    7.607,    25.00, -999.00,9, -999.00,  -999.0,9,  -999.0,  26.0505,2
49NZ200107_1,       P17N,      98,          1,         12,         12,2,20010825,       1854,    54.5987,  -158.5025,        547,   127.1,   5.7262,2,  33.2425,2,  33.2764,2,   168.16,1,  176.79,2,   41.04,2,   27.87,2,    0.03,2,    2.08,2,-999.000,1,-999.000,1,-999.000,1,  2169.3,2,  2226.3,2,    7.548,    25.00, -999.00,9, -999.00,  -999.0,9,  -999.0,  26.1987,2
49NZ200107_1,       P17N,      98,          1,         11,         11,2,20010825,       1854,    54.5987,  -158.5025,        547,   152.3,   5.6172,2,  33.4357,2,  33.4357,2,   144.78,1,  152.26,2,   46.33,2,   30.55,2,    0.04,2,    2.19,2,-999.000,1,-999.000,1,-999.000,1,  2194.9,2,  2233.8,2,    7.504,    25.00, -999.00,9, -999.00,  -999.0,9,  -999.0,  26.3648,2
49NZ200107_1,       P17N,      98,          1,         10,         10,2,20010825,       1854,    54.5987,  -158.5025,        547,   177.3,   5.5538,2,  33.5589,2,  33.5663,2,   128.71,1,  134.23,2,   49.83,2,   32.33,2,    0.03,2,    2.30,2,-999.000,1,-999.000,1,-999.000,1,  2211.8,2,  2242.5,2,    7.474,    25.00, -999.00,9, -999.00,  -999.0,9,  -999.0,  26.4701,2
49NZ200107_1,       P17N,      98,          1,          9,          9,2,20010825,       1854,    54.5987,  -158.5025,        547,   203.0,   5.4108,2,  33.7643,2,  33.7616,2,   101.93,1,  103.31,2,   56.61,2,   35.58,2,    0.02,2,    2.47,2,-999.000,1,-999.000,1,-999.000,1,  2241.5,2,  2257.2,3,    7.424,    25.00, -999.00,9, -999.00,  -999.0,9,  -999.0,  26.6498,2
49NZ200107_1,       P17N,      98,          1,          8,          8,2,20010825,       1854,    54.5987,  -158.5025,        547,   228.0,   5.4094,2,  33.7764,2,  33.7764,2,   100.25,1,  102.16,2,   57.00,2,   35.83,2,    0.01,2,    2.50,2,-999.000,1,-999.000,1,-999.000,1,  2244.9,6,  2257.2,2,    7.420,    25.00, -999.00,9, -999.00,  -999.0,9,  -999.0,  26.6599,2
49NZ200107_1,       P17N,      98,          1,          7,          7,3,20010825,       1854,    54.5987,  -158.5025,        547,   253.4,   5.1659,2,  33.8690,2,  33.8686,2,    81.85,1,   82.32,2,   63.04,2,   38.12,2,    0.01,2,    2.64,2,-999.000,1,-999.000,1,-999.000,1,  2266.8,2,  2268.1,2,    7.383,    25.00, -999.00,9, -999.00,  -999.0,9,  -999.0,  26.7619,2
49NZ200107_1,       P17N,      98,          1,          6,          6,2,20010825,       1854,    54.5987,  -158.5025,        547,   303.4,   4.8865,2,  33.9143,2,  33.9154,2,    66.98,1,   66.71,2,   68.72,2,   40.06,2,    0.01,2,    2.74,2,-999.000,1,-999.000,1,-999.000,1,  2284.1,2,  2274.7,2,    7.353,    25.00, -999.00,9, -999.00,  -999.0,9,  -999.0,  26.8300,2
49NZ200107_1,       P17N,      98,          1,          5,          5,2,20010825,       1854,    54.5987,  -158.5025,        547,   354.4,   4.4296,2,  33.9760,2,  33.9768,2,    47.40,1,   43.16,2,   81.62,2,   42.55,2,    0.01,2,    2.95,2,-999.000,1,-999.000,1,-999.000,1,  2311.1,6,  2289.5,2,    7.310,    25.00, -999.00,9, -999.00,  -999.0,9,  -999.0,  26.9293,2
49NZ200107_1,       P17N,      98,          1,          4,          4,2,20010825,       1854,    54.5987,  -158.5025,        547,   405.0,   4.3219,2,  34.0112,2,  34.0126,2,    44.27,1,   39.06,2,   86.07,2,   42.73,2,    0.01,2,    2.98,2,-999.000,1,-999.000,1,-999.000,1,  2318.2,2,  2293.8,2,    7.310,    25.00, -999.00,9, -999.00,  -999.0,9,  -999.0,  26.9691,2
49NZ200107_1,       P17N,      98,          1,          3,          3,2,20010825,       1854,    54.5987,  -158.5025,        547,   455.2,   4.1907,2,  34.0547,2,  34.0540,2,    39.44,1,   33.60,2,   91.38,2,   43.18,2,    0.01,2,    3.00,2,-999.000,1,-999.000,1,-999.000,1,  2324.2,2,  2302.1,2,    7.309,    25.00, -999.00,9, -999.00,  -999.0,9,  -999.0,  27.0179,2
49NZ200107_1,       P17N,      98,          1,          2,          2,2,20010825,       1854,    54.5987,  -158.5025,        547,   506.0,   4.0830,2,  34.0850,2,  34.0850,2,    36.08,1,   30.17,2,   93.84,2,   43.41,2,    0.02,2,    3.02,2,-999.000,1,-999.000,1,-999.000,1,  2328.5,6,  2310.4,2,    7.307,    25.00, -999.00,9, -999.00,  -999.0,9,  -999.0,  27.0535,2
49NZ200107_1,       P17N,      98,          1,          1,          1,2,20010825,       1854,    54.5987,  -158.5025,        547,   518.1,   4.0366,2,  34.0983,2,  34.0930,2,    35.12,1,   28.84,2,   94.51,2,   43.31,2,    0.02,2,    3.02,2,-999.000,1,-999.000,1,-999.000,1,  2331.8,2,  2308.7,2,    7.305,    25.00, -999.00,9, -999.00,  -999.0,9,  -999.0,  27.0689,2