BOTTLE,20220817CCHSIOAMB
EXPOCODE,SECT_ID,STNNBR,CASTNO,SAMPNO,BTLNBR,BTLNBR_FLAG_W,DATE,TIME,LATITUDE,LONGITUDE,DEPTH,CTDPRS,CTDTMP,CTDTMP_FLAG_W,CTDSAL,CTDSAL_FLAG_W,SALNTY,SALNTY_FLAG_W,CTDOXY,CTDOXY_FLAG_W,OXYGEN,OXYGEN_FLAG_W,SILCAT,SILCAT_FLAG_W,NITRAT,NITRAT_FLAG_W,NITRIT,NITRIT_FLAG_W,PHSPHT,PHSPHT_FLAG_W,CFC-11,CFC-11_FLAG_W,CFC-12,CFC-12_FLAG_W,CFC113,CFC113_FLAG_W,TCARBN,TCARBN_FLAG_W,ALKALI,ALKALI_FLAG_W,PH_TOT,PH_TMP,DELC13,DELC13_FLAG_W,C13ERR,DELC14,DELC14_FLAG_W,C14ERR,THETA,THETA_FLAG_W
,,,,,,,,,,,METERS,DBAR,ITS-90,,PSS-78,,PSS-78,,UMOL/KG,,UMOL/KG,,UMOL/KG,,UMOL/KG,,UMOL/KG,,UMOL/KG,,PMOL/KG,,PMOL/KG,,PMOL/KG,,UMOL/KG,,UMOL/KG,,,DEG C,/MILLE,,/MILLE,/MILLE,,/MILLE,DEG C,
49NZ200107_1,       P17N,      37,          1,          0,        -99,9,20010811,       0328,    38.9977,  -135.0087,       4823,     4.5,-999.0000,9,-999.0000,9,  32.6031,2,  -999.00,9,  248.09,2,    1.29,2,    0.10,2,    0.01,2,    0.28,2,-999.000,9,-999.000,9,-999.000,9,  -999.0,9,  -999.0,9, -999.000,  -999.00, -999.00,9, -999.00,  -999.0,9,  -999.0,-999.0000,9
49NZ200107_1,       P17N,      37,          1,         36,         36,2,20010811,       0328,    38.9977,  -135.0087,       4823,    11.2,  17.7351,2,  32.5973,2,  32.5952,2,   238.83,1,  249.71,2,    1.25,2,    0.12,2,    0.01,2,    0.27,2,-999.000,9,-999.000,9,-999.000,9,  -999.0,9,  -999.0,9, -999.000,  -999.00, -999.00,9, -999.00,  -999.0,9,  -999.0,  23.4972,2
49NZ200107_1,       P17N,      37,          1,         35,         35,2,20010811,       0328,    38.9977,  -135.0087,       4823,    25.3,  16.9348,2,  32.5711,2,  32.5573,2,   254.30,1,  276.87,2,    1.46,2,    0.06,2,   -0.01,2,    0.26,2,-999.000,9,-999.000,9,-999.000,9,  -999.0,9,  -999.0,9, -999.000,  -999.00, -999.00,9, -999.00,  -999.0,9,  -999.0,  23.6671,2
49NZ200107_1,       P17N,      37,          1,         34,         34,3,20010811,       0328,    38.9977,  -135.0087,       4823,    51.2,  11.0472,2,  32.5625,2,  32.5662,2,   282.26,1,  298.22,2,    3.84,2,    0.66,2,    0.07,2,    0.47,2,-999.000,9,-999.000,9,-999.000,9,  -999.0,9,  -999.0,9, -999.000,  -999.00, -999.00,9, -999.00,  -999.0,9,  -999.0,  24.8706,2
49NZ200107_1,       P17N,      37,          1,         33,         33,2,20010811,       0328,    38.9977,  -135.0087,       4823,    75.7,  10.0894,2,  32.5431,2,  32.5400,2,   261.31,1,  273.61,2,    6.98,2,    5.35,2,    1.35,2,    0.75,2,-999.000,9,-999.000,9,-999.000,9,  -999.0,9,  -999.0,9, -999.000,  -999.00, -999.00,9, -999.00,  -999.0,9,  -999.0,  25.0205,2
49NZ200107_1,       P17N,      37,          1,         32,         32,2,20010811,       0328,    38.9977,  -135.0087,       4823,   101.6,   9.5295,2,  32.5408,2,  32.5904,2,   258.32,1,  267.55,2,    9.95,2,    7.81,2,    0.03,2,    0.84,2,-999.000,9,-999.000,9,-999.000,9,  -999.0,9,  -999.0,9, -999.000,  -999.00, -999.00,9, -999.00,  -999.0,9,  -999.0,  25.1109,2
49NZ200107_1,       P17N,      37,          1,         31,         31,2,20010811,       0328,    38.9977,  -135.0087,       4823,   151.6,   7.7878,2,  33.1290,2,  33.1832,3,   227.97,1,  237.49,2,   16.14,2,   15.06,2,    0.01,2,    1.18,2,-999.000,9,-999.000,9,-999.000,9,  -999.0,9,  -999.0,9, -999.000,  -999.00, -999.00,9, -999.00,  -999.0,9,  -999.0,  25.8375,2
49NZ200107_1,       P17N,      37,          1,         30,         30,2,20010811,       0328,    38.9977,  -135.0087,       4823,   202.3,   8.0478,2,  33.7824,2,  33.8032,2,   170.56,1,  178.26,2,   27.29,2,   22.74,2,    0.00,2,    1.57,2,-999.000,9,-999.000,9,-999.000,9,  -999.0,9,  -999.0,9, -999.000,  -999.00, -999.00,9, -999.00,  -999.0,9,  -999.0,  26.3135,2
49NZ200107_1,       P17N,      37,          1,         29,         29,2,20010811,       0328,    38.9977,  -135.0087,       4823,   252.3,   7.7552,2,  33.9697,2,  33.9702,2,   146.86,1,  153.56,2,   35.41,2,   26.34,2,   -0.01,2,    1.77,2,-999.000,9,-999.000,9,-999.000,9,  -999.0,9,  -999.0,9, -999.000,  -999.00, -999.00,9, -999.00,  -999.0,9,  -999.0,  26.5042,2
49NZ200107_1,       P17N,      37,          1,         28,         28,2,20010811,       0328,    38.9977,  -135.0087,       4823,   303.3,   6.7856,2,  33.9752,2,  33.9729,2,   119.51,1,  123.25,2,   46.58,2,   31.20,2,    0.01,2,    2.08,2,-999.000,9,-999.000,9,-999.000,9,  -999.0,9,  -999.0,9, -999.000,  -999.00, -999.00,9, -999.00,  -999.0,9,  -999.0,  26.6443,2
49NZ200107_1,       P17N,      37,          1,         27,         27,3,20010811,       0328,    38.9977,  -135.0087,       4823,   353.2,   6.1287,2,  33.9657,2,  33.9640,2,   101.08,1,  104.83,2,   52.99,2,   33.89,2,    0.00,2,    2.29,2,-999.000,9,-999.000,9,-999.000,9,  -999.0,9,  -999.0,9, -999.000,  -999.00, -999.00,9, -999.00,  -999.0,9,  -999.0,  26.7229,2
49NZ200107_1,       P17N,      37,          1,         26,         26,2,20010811,       0328,    38.9977,  -135.0087,       4823,   403.8,   5.5776,2,  33.9675,2,  33.9675,2,    86.40,1,   87.99,2,   60.77,2,   36.39,2,   -0.01,2,    2.48,2,-999.000,9,-999.000,9,-999.000,9,  -999.0,9,  -999.0,9, -999.000,  -999.00, -999.00,9, -999.00,  -999.0,9,  -999.0,  26.7928,2
49NZ200107_1,       P17N,      37,          1,         25,         25,2,20010811,       0328,    38.9977,  -135.0087,       4823,   504.5,   4.8709,2,  34.0463,2,  34.0465,2,    47.11,1,   45.32,2,   75.88,2,   41.02,2,    0.01,2,    2.83,2,-999.000,9,-999.000,9,-999.000,9,  -999.0,9,  -999.0,9, -999.000,  -999.00, -999.00,9, -999.00,  -999.0,9,  -999.0,  26.9382,2
49NZ200107_1,       P17N,      37,          1,         24,         24,2,20010811,       0328,    38.9977,  -135.0087,       4823,   605.9,   4.5117,2,  34.1276,2,  34.1277,2,    29.73,1,   25.23,2,   87.17,2,   42.97,2,    0.00,2,    2.99,2,-999.000,9,-999.000,9,-999.000,9,  -999.0,9,  -999.0,9, -999.000,  -999.00, -999.00,9, -999.00,  -999.0,9,  -999.0,  27.0431,2
49NZ200107_1,       P17N,      37,          1,         23,         23,2,20010811,       0328,    38.9977,  -135.0087,       4823,   706.9,   4.1958,2,  34.2162,2,  34.2153,2,    20.38,1,   13.83,2,   97.32,2,   44.10,2,    0.00,2,    3.12,2,-999.000,9,-999.000,9,-999.000,9,  -999.0,9,  -999.0,9, -999.000,  -999.00, -999.00,9, -999.00,  -999.0,9,  -999.0,  27.1478,2
49NZ200107_1,       P17N,      37,          1,         22,         22,2,20010811,       0328,    38.9977,  -135.0087,       4823,   808.1,   3.9542,2,  34.2782,2,  34.2812,2,    16.66,1,    9.71,2,  105.14,2,   44.56,2,    0.00,2,    3.16,2,-999.000,9,-999.000,9,-999.000,9,  -999.0,9,  -999.0,9, -999.000,  -999.00, -999.00,9, -999.00,  -999.0,9,  -999.0,  27.2228,2
49NZ200107_1,       P17N,      37,          1,         21,         21,3,20010811,       0328,    38.9977,  -135.0087,       4823,   909.2,   3.6881,2,  34.3449,2,  34.3447,2,    16.15,1,    8.63,2,  113.63,2,   44.86,2,   -0.01,2,    3.19,2,-999.000,9,-999.000,9,-999.000,9,  -999.0,9,  -999.0,9, -999.000,  -999.00, -999.00,9, -999.00,  -999.0,9,  -999.0,  27.3031,2
49NZ200107_1,       P17N,      37,          1,         20,         20,3,20010811,       0328,    38.9977,  -135.0087,       4823,  1009.6,   3.4594,2,  34.4062,2,  34.4038,2,    18.55,1,   11.01,2,  120.46,2,   45.00,2,    0.00,2,    3.20,2,-999.000,9,-999.000,9,-999.000,9,  -999.0,9,  -999.0,9, -999.000,  -999.00, -999.00,9, -999.00,  -999.0,9,  -999.0,  27.3748,2
49NZ200107_1,       P17N,      37,          1,         19,         19,2,20010811,       0328,    38.9977,  -135.0087,       4823,  1111.5,   3.2134,2,  34.4504,2,  34.4500,2,    22.75,1,   15.12,2,  131.74,2,   45.06,2,    0.00,2,    3.17,2,-999.000,9,-999.000,9,-999.000,9,  -999.0,9,  -999.0,9, -999.000,  -999.00, -999.00,9, -999.00,  -999.0,9,  -999.0,  27.4339,2
49NZ200107_1,       P17N,      37,          1,         18,         18,2,20010811,       0328,    38.9977,  -135.0087,       4823,  1213.0,   3.0055,2,  34.4769,2,  34.4767,2,    26.66,1,   19.16,2,  136.27,2,   44.81,2,    0.02,2,    3.16,2,-999.000,9,-999.000,9,-999.000,9,  -999.0,9,  -999.0,9, -999.000,  -999.00, -999.00,9, -999.00,  -999.0,9,  -999.0,  27.4746,2
49NZ200107_1,       P17N,      37,          1,         17,         17,2,20010811,       0328,    38.9977,  -135.0087,       4823,  1314.3,   2.8319,2,  34.4993,2,  34.5002,2,    31.24,1,   24.10,2,  141.38,2,   44.46,2,    0.01,2,    3.15,2,-999.000,9,-999.000,9,-999.000,9,  -999.0,9,  -999.0,9, -999.000,  -999.00, -999.00,9, -999.00,  -999.0,9,  -999.0,  27.5086,2
49NZ200107_1,       P17N,      37,          1,         16,         16,2,20010811,       0328,    38.9977,  -135.0087,       4823,  1415.4,   2.6360,2,  34.5208,2,  34.5214,2,    36.75,1,   29.71,2,  146.70,2,   44.21,2,    0.01,2,    3.12,2,-999.000,9,-999.000,9,-999.000,9,  -999.0,9,  -999.0,9, -999.000,  -999.00, -999.00,9, -999.00,  -999.0,9,  -999.0,  27.5434,2
49NZ200107_1,       P17N,      37,          1,         15,         15,2,20010811,       0328,    38.9977,  -135.0087,       4823,  1618.4,   2.2993,2,  34.5631,2,  34.5628,2,    51.12,1,   45.59,2,  154.60,2,   43.35,2,    0.01,2,    3.06,2,-999.000,9,-999.000,9,-999.000,9,  -999.0,9,  -999.0,9, -999.000,  -999.00, -999.00,9, -999.00,  -999.0,9,  -999.0,  27.6064,2
49NZ200107_1,       P17N,      37,          1,         14,         14,2,20010811,       0328,    38.9977,  -135.0087,       4823,  1821.4,   2.0848,2,  34.5885,2,  34.5889,2,    62.38,1,   57.82,2,  159.62,2,   42.63,2,    0.00,2,    3.00,2,-999.000,9,-999.000,9,-999.000,9,  -999.0,9,  -999.0,9, -999.000,  -999.00, -999.00,9, -999.00,  -999.0,9,  -999.0,  27.6450,2
49NZ200107_1,       P17N,      37,          1,         13,         13,2,20010811,       0328,    38.9977,  -135.0087,       4823,  2024.5,   1.9285,2,  34.6082,2,  34.6082,2,    72.89,1,   68.58,2,  162.75,2,   41.94,2,    0.01,2,    2.95,2,-999.000,9,-999.000,9,-999.000,9,  -999.0,9,  -999.0,9, -999.000,  -999.00, -999.00,9, -999.00,  -999.0,9,  -999.0,  27.6741,2
49NZ200107_1,       P17N,      37,          1,         12,         12,2,20010811,       0328,    38.9977,  -135.0087,       4823,  2228.3,   1.8246,2,  34.6236,2,  34.6240,2,    82.42,1,   79.44,2,  164.40,2,   41.22,2,    0.01,2,    2.90,2,-999.000,9,-999.000,9,-999.000,9,  -999.0,9,  -999.0,9, -999.000,  -999.00, -999.00,9, -999.00,  -999.0,9,  -999.0,  27.6954,2
49NZ200107_1,       P17N,      37,          1,         11,         11,2,20010811,       0328,    38.9977,  -135.0087,       4823,  2431.8,   1.7500,2,  34.6351,2,  34.6350,2,    90.64,1,   87.73,2,  164.87,2,   40.87,2,    0.01,2,    2.84,2,-999.000,9,-999.000,9,-999.000,9,  -999.0,9,  -999.0,9, -999.000,  -999.00, -999.00,9, -999.00,  -999.0,9,  -999.0,  27.7114,2
49NZ200107_1,       P17N,      37,          1,         10,         10,2,20010811,       0328,    38.9977,  -135.0087,       4823,  2635.4,   1.6748,2,  34.6459,2,  34.6458,2,    99.49,1,   97.74,2,  163.85,2,   40.18,2,    0.01,2,    2.78,2,-999.000,9,-999.000,9,-999.000,9,  -999.0,9,  -999.0,9, -999.000,  -999.00, -999.00,9, -999.00,  -999.0,9,  -999.0,  27.7269,2
49NZ200107_1,       P17N,      37,          1,          9,          9,2,20010811,       0328,    38.9977,  -135.0087,       4823,  2839.7,   1.6198,2,  34.6541,2,  34.6544,2,   106.95,1,  105.03,2,  162.85,2,   39.76,2,    0.01,2,    2.75,2,-999.000,9,-999.000,9,-999.000,9,  -999.0,9,  -999.0,9, -999.000,  -999.00, -999.00,9, -999.00,  -999.0,9,  -999.0,  27.7387,2
49NZ200107_1,       P17N,      37,          1,          8,          8,2,20010811,       0328,    38.9977,  -135.0087,       4823,  3044.0,   1.5873,2,  34.6603,2,  34.6606,2,   112.90,1,  111.28,2,  162.88,2,   39.44,2,    0.00,2,    2.72,2,-999.000,9,-999.000,9,-999.000,9,  -999.0,9,  -999.0,9, -999.000,  -999.00, -999.00,9, -999.00,  -999.0,9,  -999.0,  27.7474,2
49NZ200107_1,       P17N,      37,          1,          7,          7,2,20010811,       0328,    38.9977,  -135.0087,       4823,  3299.0,   1.5542,2,  34.6666,2,  34.6666,2,   120.58,1,  119.65,2,  161.26,2,   38.91,2,    0.00,2,    2.68,2,-999.000,9,-999.000,9,-999.000,9,  -999.0,9,  -999.0,9, -999.000,  -999.00, -999.00,9, -999.00,  -999.0,9,  -999.0,  27.7564,2
49NZ200107_1,       P17N,      37,          1,          6,          6,2,20010811,       0328,    38.9977,  -135.0087,       4823,  3554.7,   1.5261,2,  34.6727,2,  34.6725,2,   128.33,1,  126.40,2,  159.83,2,   38.49,2,   -0.01,2,    2.64,2,-999.000,9,-999.000,9,-999.000,9,  -999.0,9,  -999.0,9, -999.000,  -999.00, -999.00,9, -999.00,  -999.0,9,  -999.0,  27.7651,2
49NZ200107_1,       P17N,      37,          1,          5,          5,2,20010811,       0328,    38.9977,  -135.0087,       4823,  3811.2,   1.5127,2,  34.6777,2,  34.6777,2,   134.54,1,  132.01,2,  159.51,2,   38.12,2,    0.01,2,    2.63,2,-999.000,9,-999.000,9,-999.000,9,  -999.0,9,  -999.0,9, -999.000,  -999.00, -999.00,9, -999.00,  -999.0,9,  -999.0,  27.7719,2
49NZ200107_1,       P17N,      37,          1,          4,          4,3,20010811,       0328,    38.9977,  -135.0087,       4823,  4066.8,   1.5067,2,  34.6819,2,  34.6822,2,   140.75,1,  137.18,2,  158.53,2,   37.70,2,    0.00,2,    2.60,2,-999.000,9,-999.000,9,-999.000,9,  -999.0,9,  -999.0,9, -999.000,  -999.00, -999.00,9, -999.00,  -999.0,9,  -999.0,  27.7775,2
49NZ200107_1,       P17N,      37,          1,          3,          3,2,20010811,       0328,    38.9977,  -135.0087,       4823,  4323.5,   1.5098,2,  34.6845,2,  34.6849,2,   147.02,1,  142.82,2,  154.90,2,   37.33,2,    0.00,2,    2.55,2,-999.000,9,-999.000,9,-999.000,9,  -999.0,9,  -999.0,9, -999.000,  -999.00, -999.00,9, -999.00,  -999.0,9,  -999.0,  27.7814,2
49NZ200107_1,       P17N,      37,          1,          2,          2,2,20010811,       0328,    38.9977,  -135.0087,       4823,  4580.3,   1.5245,2,  34.6862,2,  34.6860,2,   151.79,1,  147.95,2,  152.07,2,   37.31,2,    0.01,2,    2.54,2,-999.000,9,-999.000,9,-999.000,9,  -999.0,9,  -999.0,9, -999.000,  -999.00, -999.00,9, -999.00,  -999.0,9,  -999.0,  27.7838,2
49NZ200107_1,       P17N,      37,          1,          1,          1,2,20010811,       0328,    38.9977,  -135.0087,       4823,  4843.3,   1.5541,2,  34.6866,2,  34.6866,2,   155.54,1,  147.50,2,  151.45,2,   37.05,2,    0.01,2,    2.53,2,-999.000,9,-999.000,9,-999.000,9,  -999.0,9,  -999.0,9, -999.000,  -999.00, -999.00,9, -999.00,  -999.0,9,  -999.0,  27.7843,2