BOTTLE,20220817CCHSIOAMB
EXPOCODE,SECT_ID,STNNBR,CASTNO,SAMPNO,BTLNBR,BTLNBR_FLAG_W,DATE,TIME,LATITUDE,LONGITUDE,DEPTH,CTDPRS,CTDTMP,CTDTMP_FLAG_W,CTDSAL,CTDSAL_FLAG_W,SALNTY,SALNTY_FLAG_W,CTDOXY,CTDOXY_FLAG_W,OXYGEN,OXYGEN_FLAG_W,SILCAT,SILCAT_FLAG_W,NITRAT,NITRAT_FLAG_W,NITRIT,NITRIT_FLAG_W,PHSPHT,PHSPHT_FLAG_W,CFC-11,CFC-11_FLAG_W,CFC-12,CFC-12_FLAG_W,CFC113,CFC113_FLAG_W,TCARBN,TCARBN_FLAG_W,ALKALI,ALKALI_FLAG_W,PH_TOT,PH_TMP,DELC13,DELC13_FLAG_W,C13ERR,DELC14,DELC14_FLAG_W,C14ERR,THETA,THETA_FLAG_W
,,,,,,,,,,,METERS,DBAR,ITS-90,,PSS-78,,PSS-78,,UMOL/KG,,UMOL/KG,,UMOL/KG,,UMOL/KG,,UMOL/KG,,UMOL/KG,,PMOL/KG,,PMOL/KG,,PMOL/KG,,UMOL/KG,,UMOL/KG,,,DEG C,/MILLE,,/MILLE,/MILLE,,/MILLE,DEG C,
49NZ200107_1,       P17N,      46,          1,          0,        -99,9,20010812,       2302,    40.9908,  -134.9867,       4039,     4.5,-999.0000,9,-999.0000,9,  32.6197,2,  -999.00,9,  248.00,2,    2.37,2,    0.05,2,    0.01,2,    0.36,2,-999.000,1,-999.000,1,-999.000,1,  1964.4,2,  -999.0,5,    7.950,    25.00, -999.00,9, -999.00,  -999.0,9,  -999.0,-999.0000,9
49NZ200107_1,       P17N,      46,          1,         36,         36,2,20010812,       2302,    40.9908,  -134.9867,       4039,    10.0,  17.6399,2,  32.6207,2,  32.6186,2,   238.81,1,  248.80,2,    1.38,2,    0.02,2,    0.00,2,    0.33,2,-999.000,1,-999.000,1,-999.000,1,  1964.1,2,  2183.3,2,    7.950,    25.00,    1.95,2,    0.00,    49.1,2,     4.6,  23.5379,2
49NZ200107_1,       P17N,      46,          1,         35,         35,2,20010812,       2302,    40.9908,  -134.9867,       4039,    25.1,  17.4226,2,  32.6132,2,  32.6174,2,   240.23,1,  249.72,2,    0.79,2,    0.00,2,   -0.01,2,    0.32,2,-999.000,1,-999.000,1,-999.000,1,  1964.4,2,  2176.1,2,    7.950,    25.00,    1.99,2,    0.00,    45.9,2,     5.0,  23.5845,2
49NZ200107_1,       P17N,      46,          1,         34,         34,2,20010812,       2302,    40.9908,  -134.9867,       4039,    50.9,  12.4159,2,  32.6214,2,  32.6189,2,   282.51,1,  294.91,2,    1.60,2,    0.00,2,    0.00,2,    0.36,2,-999.000,1,-999.000,1,-999.000,1,  1965.5,2,  2179.8,2,    7.941,    25.00,    1.96,2,    0.01,    35.8,2,     5.1,  24.6650,2
49NZ200107_1,       P17N,      46,          1,         33,         33,2,20010812,       2302,    40.9908,  -134.9867,       4039,    75.5,  11.0475,2,  32.6221,2,  32.6201,2,   260.63,1,  271.96,2,    4.51,2,    2.62,2,    0.47,2,    0.55,2,-999.000,1,-999.000,1,-999.000,1,  1993.7,2,  2182.4,2,    7.886,    25.00,    1.64,2,    0.00,    42.6,2,     4.9,  24.9174,2
49NZ200107_1,       P17N,      46,          1,         32,         32,2,20010812,       2302,    40.9908,  -134.9867,       4039,   101.4,  10.1822,2,  32.5795,2,  32.5779,2,   259.25,1,  269.81,2,    6.94,2,    5.19,2,    0.02,2,    0.71,2,-999.000,1,-999.000,1,-999.000,1,  2004.6,2,  2179.0,6,    7.859,    25.00,    1.51,2,    0.01,    37.0,2,     7.0,  25.0339,2
49NZ200107_1,       P17N,      46,          1,         31,         31,2,20010812,       2302,    40.9908,  -134.9867,       4039,   151.4,   8.0309,2,  33.1092,2,  33.1300,2,   236.92,1,  248.78,2,   12.63,2,   13.12,2,    0.01,2,    1.10,2,-999.000,1,-999.000,1,-999.000,1,  2069.6,2,  2207.1,2,    7.759,    25.00,    0.90,2,    0.00,    39.4,2,     4.2,  25.7867,2
49NZ200107_1,       P17N,      46,          1,         30,         30,2,20010812,       2302,    40.9908,  -134.9867,       4039,   201.8,   8.2545,2,  33.7080,2,  33.7208,2,   216.22,1,  225.52,2,   17.50,2,   16.06,2,    0.00,2,    1.18,2,-999.000,1,-999.000,1,-999.000,1,  2102.0,6,  2233.2,2,    7.744,    25.00,    0.48,2,    0.00,    41.2,2,     5.0,  26.2244,2
49NZ200107_1,       P17N,      46,          1,         29,         29,2,20010812,       2302,    40.9908,  -134.9867,       4039,   252.5,   8.1314,2,  33.9688,2,  33.9820,2,   180.80,1,  186.19,2,   27.93,2,   21.70,2,    0.01,2,    1.51,2,-999.000,1,-999.000,1,-999.000,1,  2146.6,2,  2255.3,2,    7.676,    25.00,    0.16,2,    0.00,    27.2,2,     4.6,  26.4482,2
49NZ200107_1,       P17N,      46,          1,         28,         28,2,20010812,       2302,    40.9908,  -134.9867,       4039,   303.0,   7.3611,2,  33.9882,2,  33.9841,2,   152.16,1,  154.92,2,   38.72,2,   26.66,2,    0.01,2,    1.84,2,-999.000,1,-999.000,1,-999.000,1,  2181.7,2,  2260.5,2,    7.600,    25.00,   -0.01,2,    0.00,   -17.3,2,     4.7,  26.5756,2
49NZ200107_1,       P17N,      46,          1,         27,         27,2,20010812,       2302,    40.9908,  -134.9867,       4039,   353.2,   6.5571,2,  33.9711,2,  33.9673,2,   125.05,1,  125.92,2,   48.30,2,   30.98,2,    0.00,2,    2.13,2,-999.000,1,-999.000,1,-999.000,1,  2215.7,2,  2274.3,2,    7.524,    25.00,   -0.16,2,    0.00,   -27.4,2,     4.8,  26.6720,2
49NZ200107_1,       P17N,      46,          1,         26,         26,2,20010812,       2302,    40.9908,  -134.9867,       4039,   403.8,   5.8228,2,  33.9654,2,  33.9644,2,   106.87,1,  101.08,2,   58.83,2,   34.88,2,    0.01,2,    2.43,2,-999.000,1,-999.000,1,-999.000,1,  2245.0,6,  2276.8,2,    7.458,    25.00,   -0.28,2,    0.00,   -68.7,2,     5.3,  26.7614,2
49NZ200107_1,       P17N,      46,          1,         25,         25,2,20010812,       2302,    40.9908,  -134.9867,       4039,   504.9,   4.8404,2,  34.0062,2,  34.0160,2,    63.95,1,   58.89,2,   76.30,2,   40.07,2,    0.01,2,    2.80,2,-999.000,1,-999.000,1,-999.000,1,  2292.0,2,  2294.8,2,    7.368,    25.00,   -0.47,2,    0.00,  -101.3,2,     5.5,  26.9098,2
49NZ200107_1,       P17N,      46,          1,         24,         24,2,20010812,       2302,    40.9908,  -134.9867,       4039,   605.9,   4.3387,2,  34.0994,2,  34.1012,2,    36.88,1,   32.66,2,   90.46,2,   42.66,2,    0.00,2,    2.99,2,-999.000,1,-999.000,1,-999.000,1,  2323.6,2,  2314.0,6,    7.324,    25.00,   -0.58,2,    0.00,  -133.6,2,     5.5,  27.0391,2
49NZ200107_1,       P17N,      46,          1,         23,         23,2,20010812,       2302,    40.9908,  -134.9867,       4039,   707.1,   4.0519,2,  34.1733,2,  34.1749,2,    23.66,1,   17.79,2,  100.22,2,   44.00,2,    0.01,2,    3.10,2,-999.000,1,-999.000,1,-999.000,1,  2344.4,2,  2326.6,2,    7.305,    25.00,   -0.62,2,    0.00,  -159.2,2,     5.7,  27.1285,2
49NZ200107_1,       P17N,      46,          1,         22,         22,2,20010812,       2302,    40.9908,  -134.9867,       4039,   808.0,   3.8954,2,  34.2544,2,  34.2657,2,    16.52,1,   10.03,2,  109.13,2,   44.64,2,    0.01,2,    3.19,2,-999.000,1,-999.000,1,-999.000,1,  2359.5,6,  2340.6,2,    7.303,    25.00,   -0.64,2,    0.00,  -180.6,2,     6.1,  27.2097,2
49NZ200107_1,       P17N,      46,          1,         21,         21,3,20010812,       2302,    40.9908,  -134.9867,       4039,   909.2,   3.6482,2,  34.3285,2,  34.3317,2,    14.81,1,    7.71,2,  117.50,2,   44.89,2,    0.00,2,    3.23,2,-999.000,1,-999.000,1,-999.000,1,  2369.3,2,  2352.6,2,    7.308,    25.00,   -0.60,2,    0.00,  -200.1,2,     5.7,  27.2940,2
49NZ200107_1,       P17N,      46,          1,         20,         20,2,20010812,       2302,    40.9908,  -134.9867,       4039,  1011.1,   3.4168,2,  34.3784,2,  34.3834,2,    15.54,1,    8.46,2,  124.78,2,   45.03,2,    0.00,2,    3.23,2,-999.000,1,-999.000,1,-999.000,1,  2379.0,2,  2366.4,6,    7.313,    25.00,   -0.61,2,    0.00,  -219.5,2,     5.0,  27.3567,2
49NZ200107_1,       P17N,      46,          1,         19,         19,2,20010812,       2302,    40.9908,  -134.9867,       4039,  1111.9,   3.2137,2,  34.4155,2,  34.4182,2,    17.23,1,   10.61,3,  130.58,2,   45.05,2,    0.00,2,    3.22,2,-999.000,1,-999.000,1,-999.000,1,  2383.0,2,  2371.2,3,    7.319,    25.00,   -0.65,2,    0.00,  -224.7,2,     7.4,  27.4060,2
49NZ200107_1,       P17N,      46,          1,         18,         18,2,20010812,       2302,    40.9908,  -134.9867,       4039,  1213.6,   3.0018,2,  34.4513,2,  34.4532,2,    20.25,1,   13.21,2,  136.51,2,   44.90,2,    0.00,2,    3.20,2,-999.000,1,-999.000,1,-999.000,1,  2389.6,6,  2383.8,2,    7.326,    25.00,   -0.62,2,    0.00,  -229.2,2,     7.0,  27.4546,2
49NZ200107_1,       P17N,      46,          1,         17,         17,2,20010812,       2302,    40.9908,  -134.9867,       4039,  1314.7,   2.8163,2,  34.4803,2,  34.4823,2,    24.33,1,   17.96,2,  141.76,2,   44.83,2,    0.01,2,    3.19,2,-999.000,1,-999.000,1,-999.000,1,  2392.1,2,  2385.7,3,    7.336,    25.00,   -0.60,2,    0.01,  -234.1,2,     5.7,  27.4948,2
49NZ200107_1,       P17N,      46,          1,         16,         16,2,20010812,       2302,    40.9908,  -134.9867,       4039,  1416.5,   2.6387,2,  34.5053,2,  34.5056,2,    29.43,1,   22.93,2,  146.29,2,   44.70,2,    0.00,2,    3.16,2,-999.000,1,-999.000,1,-999.000,1,  2392.0,2,  2390.4,3,    7.348,    25.00,   -0.59,2,    0.00,  -237.1,2,     5.4,  27.5307,2
49NZ200107_1,       P17N,      46,          1,         15,         15,2,20010812,       2302,    40.9908,  -134.9867,       4039,  1517.5,   2.4607,2,  34.5262,2,  34.5256,2,    34.61,1,   28.33,2,  150.90,2,   44.33,2,    0.00,2,    3.14,2,-999.000,1,-999.000,1,-999.000,1,  2393.8,2,  2402.4,2,    7.360,    25.00, -999.00,5, -999.00,  -999.0,5,  -999.0,  27.5630,2
49NZ200107_1,       P17N,      46,          1,         14,         14,2,20010812,       2302,    40.9908,  -134.9867,       4039,  1619.0,   2.3281,2,  34.5445,2,  34.5451,2,    41.15,1,   34.90,2,  154.49,2,   43.94,2,    0.01,2,    3.10,2,-999.000,1,-999.000,1,-999.000,1,  2394.5,2,  2404.0,2,    7.372,    25.00,   -0.56,2,    0.00,  -239.0,2,     5.3,  27.5892,2
49NZ200107_1,       P17N,      46,          1,         13,         13,2,20010812,       2302,    40.9908,  -134.9867,       4039,  1720.6,   2.1910,2,  34.5655,2,  34.5655,2,    48.97,1,   43.38,2,  157.11,2,   43.47,2,    0.01,2,    3.05,2,-999.000,1,-999.000,1,-999.000,1,  2392.1,2,  2405.4,2,    7.389,    25.00,   -0.52,2,    0.01,  -238.6,2,     7.0,  27.6176,2
49NZ200107_1,       P17N,      46,          1,         12,         12,2,20010812,       2302,    40.9908,  -134.9867,       4039,  1822.7,   2.1005,2,  34.5801,2,  34.5799,2,    55.00,1,   49.99,2,  159.28,2,   43.09,2,    0.01,2,    3.03,2,-999.000,1,-999.000,1,-999.000,1,  2389.4,2,  2409.1,2,    7.404,    25.00,   -0.47,2,    0.01,  -245.1,2,     6.2,  27.6370,2
49NZ200107_1,       P17N,      46,          1,         11,         11,2,20010812,       2302,    40.9908,  -134.9867,       4039,  2026.3,   1.9452,2,  34.6065,2,  34.6067,2,    68.97,1,   65.11,2,  161.79,2,   42.03,2,    0.01,2,    2.91,2,-999.000,1,-999.000,1,-999.000,1,  2384.2,2,  2416.2,2,    7.436,    25.00,   -0.44,2,    0.00,  -247.0,2,     6.6,  27.6714,2
49NZ200107_1,       P17N,      46,          1,         10,         10,2,20010812,       2302,    40.9908,  -134.9867,       4039,  2229.3,   1.8364,2,  34.6235,2,  34.6234,2,    79.92,1,   76.36,2,  161.27,2,   41.20,2,    0.00,2,    2.84,2,-999.000,1,-999.000,1,-999.000,1,  2378.6,2,  2419.3,2,    7.456,    25.00,   -0.33,2,    0.00,  -248.7,2,     7.1,  27.6945,2
49NZ200107_1,       P17N,      46,          1,          9,          9,2,20010812,       2302,    40.9908,  -134.9867,       4039,  2432.8,   1.7586,2,  34.6347,2,  34.6346,2,    88.78,1,   85.68,2,  163.56,2,   40.75,2,   -0.01,2,    2.82,2,-999.000,9,-999.000,9,-999.000,9,  -999.0,9,  -999.0,9, -999.000,  -999.00, -999.00,9, -999.00,  -999.0,9,  -999.0,  27.7105,2
49NZ200107_1,       P17N,      46,          1,          8,          8,2,20010812,       2302,    40.9908,  -134.9867,       4039,  2637.2,   1.6895,2,  34.6445,2,  34.6447,2,    97.29,1,   94.79,2,  161.87,2,   40.17,2,   -0.01,2,    2.77,2,-999.000,1,-999.000,1,-999.000,1,  2368.4,2,  2421.7,2,    7.494,    25.00,   -0.18,2,    0.00,  -250.5,2,     7.0,  27.7247,2
49NZ200107_1,       P17N,      46,          1,          7,          7,2,20010812,       2302,    40.9908,  -134.9867,       4039,  2840.9,   1.6402,2,  34.6518,2,  34.6517,2,   104.52,1,  101.91,2,  160.61,2,   39.71,2,   -0.01,2,    2.73,2,-999.000,9,-999.000,9,-999.000,9,  -999.0,9,  -999.0,9, -999.000,  -999.00, -999.00,9, -999.00,  -999.0,9,  -999.0,  27.7354,2
49NZ200107_1,       P17N,      46,          1,          6,          6,2,20010812,       2302,    40.9908,  -134.9867,       4039,  3045.4,   1.5943,2,  34.6588,2,  34.6589,2,   112.15,1,  109.40,2,  159.42,2,   39.22,2,    0.00,2,    2.69,2,-999.000,1,-999.000,1,-999.000,1,  2359.4,6,  2422.8,2,    7.522,    25.00,   -0.10,2,    0.00,  -240.2,2,     5.3,  27.7456,2
49NZ200107_1,       P17N,      46,          1,          5,          5,2,20010812,       2302,    40.9908,  -134.9867,       4039,  3301.5,   1.5591,2,  34.6656,2,  34.6656,2,   119.50,1,  116.76,2,  158.21,2,   38.80,2,   -0.01,2,    2.66,2,-999.000,9,-999.000,9,-999.000,9,  -999.0,9,  -999.0,9, -999.000,  -999.00, -999.00,9, -999.00,  -999.0,9,  -999.0,  27.7553,2
49NZ200107_1,       P17N,      46,          1,          4,          4,2,20010812,       2302,    40.9908,  -134.9867,       4039,  3557.1,   1.5449,2,  34.6713,2,  34.6713,2,   125.05,1,  121.65,2,  159.64,2,   38.48,2,    0.00,2,    2.63,2,-999.000,1,-999.000,1,-999.000,1,  2354.3,2,  2430.5,2,    7.546,    25.00,   -0.05,2,    0.01,  -231.6,2,     5.0,  27.7627,2
49NZ200107_1,       P17N,      46,          1,          3,          3,2,20010812,       2302,    40.9908,  -134.9867,       4039,  3813.5,   1.5465,2,  34.6752,2,  34.6755,2,   129.20,1,  124.81,2,  160.52,2,   38.32,2,    0.00,2,    2.62,2,-999.000,9,-999.000,9,-999.000,9,  -999.0,9,  -999.0,9, -999.000,  -999.00, -999.00,9, -999.00,  -999.0,9,  -999.0,  27.7676,2
49NZ200107_1,       P17N,      46,          1,          2,          2,2,20010812,       2302,    40.9908,  -134.9867,       4039,  4070.5,   1.5544,2,  34.6780,2,  34.6778,2,   133.36,1,  127.35,2,  165.39,2,   38.15,2,    0.01,2,    2.62,2,-999.000,1,-999.000,1,-999.000,1,  2352.9,2,  2435.4,6,    7.566,    25.00,   -0.08,2,    0.00,  -230.8,2,     4.4,  27.7712,2
49NZ200107_1,       P17N,      46,          1,          1,          1,2,20010812,       2302,    40.9908,  -134.9867,       4039,  4113.3,   1.5579,2,  34.6783,2,  34.6783,2,   133.83,1,  127.24,2,  166.82,2,   38.07,2,    0.00,2,    2.61,2,-999.000,1,-999.000,1,-999.000,1,  2352.8,2,  2425.3,3,    7.566,    25.00,   -0.03,2,    0.01,  -228.2,2,     4.7,  27.7716,2