BOTTLE,20220817CCHSIOAMB
EXPOCODE,SECT_ID,STNNBR,CASTNO,SAMPNO,BTLNBR,BTLNBR_FLAG_W,DATE,TIME,LATITUDE,LONGITUDE,DEPTH,CTDPRS,CTDTMP,CTDTMP_FLAG_W,CTDSAL,CTDSAL_FLAG_W,SALNTY,SALNTY_FLAG_W,CTDOXY,CTDOXY_FLAG_W,OXYGEN,OXYGEN_FLAG_W,SILCAT,SILCAT_FLAG_W,NITRAT,NITRAT_FLAG_W,NITRIT,NITRIT_FLAG_W,PHSPHT,PHSPHT_FLAG_W,CFC-11,CFC-11_FLAG_W,CFC-12,CFC-12_FLAG_W,CFC113,CFC113_FLAG_W,TCARBN,TCARBN_FLAG_W,ALKALI,ALKALI_FLAG_W,PH_TOT,PH_TMP,DELC13,DELC13_FLAG_W,C13ERR,DELC14,DELC14_FLAG_W,C14ERR,THETA,THETA_FLAG_W
,,,,,,,,,,,METERS,DBAR,ITS-90,,PSS-78,,PSS-78,,UMOL/KG,,UMOL/KG,,UMOL/KG,,UMOL/KG,,UMOL/KG,,UMOL/KG,,PMOL/KG,,PMOL/KG,,PMOL/KG,,UMOL/KG,,UMOL/KG,,,DEG C,/MILLE,,/MILLE,/MILLE,,/MILLE,DEG C,
49NZ200107_1,       P17N,      36,          1,          0,        -99,9,20010810,       2217,    38.5040,  -135.0048,       4542,     4.5,-999.0000,9,-999.0000,9,  32.6953,2,  -999.00,9,  244.50,2,    1.30,2,    0.05,2,   -0.01,2,    0.27,2,-999.000,1,-999.000,1,-999.000,1,  1968.2,2,  2183.9,2,    7.950,    25.00, -999.00,9, -999.00,  -999.0,9,  -999.0,-999.0000,9
49NZ200107_1,       P17N,      36,          1,         36,         36,2,20010810,       2217,    38.5040,  -135.0048,       4542,    10.4,  18.3612,2,  32.6842,2,  32.6854,2,   234.98,1,  245.18,2,    0.38,2,    0.06,2,   -0.01,2,    0.25,2,-999.000,1,-999.000,1,-999.000,1,  1966.9,2,  2193.2,2,    7.952,    25.00, -999.00,9, -999.00,  -999.0,9,  -999.0,  23.4115,2
49NZ200107_1,       P17N,      36,          1,         35,         35,2,20010810,       2217,    38.5040,  -135.0048,       4542,    25.2,  18.2696,2,  32.6660,2,  32.6654,2,   243.61,1,  270.72,2,    0.19,2,    0.02,2,    0.00,2,    0.25,2,-999.000,1,-999.000,1,-999.000,1,  1964.4,2,  2185.6,2,    7.956,    25.00, -999.00,9, -999.00,  -999.0,9,  -999.0,  23.4206,2
49NZ200107_1,       P17N,      36,          1,         34,         34,2,20010810,       2217,    38.5040,  -135.0048,       4542,    50.4,  12.4786,2,  32.6455,2,  32.6446,2,   287.49,1,  300.99,2,    1.06,2,    0.01,2,    0.00,2,    0.31,2,-999.000,1,-999.000,1,-999.000,1,  1967.1,2,  2185.4,2,    7.946,    25.00, -999.00,9, -999.00,  -999.0,9,  -999.0,  24.6717,2
49NZ200107_1,       P17N,      36,          1,         33,         33,2,20010810,       2217,    38.5040,  -135.0048,       4542,    75.8,  11.2919,2,  32.6750,2,  32.6794,2,   261.44,1,  274.29,2,    3.42,2,    1.60,2,    0.39,2,    0.49,2,-999.000,1,-999.000,1,-999.000,1,  1996.9,2,  2191.8,2,    7.893,    25.00, -999.00,9, -999.00,  -999.0,9,  -999.0,  24.9151,2
49NZ200107_1,       P17N,      36,          1,         32,         32,2,20010810,       2217,    38.5040,  -135.0048,       4542,   101.8,  10.7936,2,  32.6685,2,  32.6663,2,   255.83,1,  266.86,2,    4.88,2,    3.88,2,    0.02,2,    0.59,2,-999.000,1,-999.000,1,-999.000,1,  2006.8,2,  2187.2,6, -999.000,  -999.00, -999.00,9, -999.00,  -999.0,9,  -999.0,  24.9987,2
49NZ200107_1,       P17N,      36,          1,         31,         31,2,20010810,       2217,    38.5040,  -135.0048,       4542,   151.4,   8.2877,2,  33.0648,2,  33.1171,2,   227.95,1,  241.62,2,   12.49,2,   13.29,2,    0.00,2,    1.10,2,-999.000,1,-999.000,1,-999.000,1,  2075.5,2,  2208.0,2,    7.745,    25.00, -999.00,9, -999.00,  -999.0,9,  -999.0,  25.7141,2
49NZ200107_1,       P17N,      36,          1,         30,         30,2,20010810,       2217,    38.5040,  -135.0048,       4542,   201.3,   8.2501,2,  33.7761,2,  33.7949,2,   179.33,1,  187.60,2,   23.00,2,   20.82,2,    0.00,2,    1.48,2,-999.000,1,-999.000,1,-999.000,1,  2136.0,6,  2252.7,2,    7.667,    25.00, -999.00,9, -999.00,  -999.0,9,  -999.0,  26.2785,2
49NZ200107_1,       P17N,      36,          1,         29,         29,2,20010810,       2217,    38.5040,  -135.0048,       4542,   252.5,   7.8899,2,  33.9653,2,  33.9652,2,   150.44,1,  156.77,2,   31.42,2,   25.51,2,    0.00,2,    1.77,2,-999.000,1,-999.000,1,-999.000,1,  2173.0,2,  2260.9,2,    7.608,    25.00, -999.00,9, -999.00,  -999.0,9,  -999.0,  26.4811,2
49NZ200107_1,       P17N,      36,          1,         28,         28,2,20010810,       2217,    38.5040,  -135.0048,       4542,   302.7,   7.1828,2,  33.9824,2,  33.9826,2,   121.16,1,  126.38,2,   40.28,2,   29.75,2,    0.00,2,    2.04,2,-999.000,1,-999.000,1,-999.000,1,  2205.6,2,  2264.5,6,    7.539,    25.00, -999.00,9, -999.00,  -999.0,9,  -999.0,  26.5959,2
49NZ200107_1,       P17N,      36,          1,         27,         27,3,20010810,       2217,    38.5040,  -135.0048,       4542,   352.9,   6.4517,2,  33.9739,2,  33.9732,2,   104.15,1,  108.52,2,   48.35,2,   32.66,2,    0.00,2,    2.27,2,-999.000,1,-999.000,1,-999.000,1,  2230.1,2,  2271.2,2,    7.487,    25.00, -999.00,9, -999.00,  -999.0,9,  -999.0,  26.6879,2
49NZ200107_1,       P17N,      36,          1,         26,         26,2,20010810,       2217,    38.5040,  -135.0048,       4542,   403.7,   5.7880,2,  33.9821,2,  33.9817,2,    82.90,1,   83.60,2,   57.52,2,   36.14,2,    0.00,2,    2.53,2,-999.000,1,-999.000,1,-999.000,1,  2257.9,6,  2286.2,2,    7.426,    25.00, -999.00,9, -999.00,  -999.0,9,  -999.0,  26.7789,2
49NZ200107_1,       P17N,      36,          1,         25,         25,3,20010810,       2217,    38.5040,  -135.0048,       4542,   504.8,   4.8755,2,  34.0290,2,  34.0318,2,    54.69,1,   51.54,2,   75.62,2,   40.37,2,   -0.01,2,    2.85,2,-999.000,1,-999.000,1,-999.000,1,  2296.2,2,  2303.5,2,    7.345,    25.00, -999.00,9, -999.00,  -999.0,9,  -999.0,  26.9240,2
49NZ200107_1,       P17N,      36,          1,         24,         24,2,20010810,       2217,    38.5040,  -135.0048,       4542,   605.7,   4.5526,2,  34.1353,2,  34.1342,2,    29.81,1,   25.29,2,   87.92,2,   42.61,2,   -0.01,2,    3.05,2,-999.000,1,-999.000,1,-999.000,1,  2328.1,2,  2318.4,6,    7.323,    25.00, -999.00,9, -999.00,  -999.0,9,  -999.0,  27.0448,2
49NZ200107_1,       P17N,      36,          1,         23,         23,2,20010810,       2217,    38.5040,  -135.0048,       4542,   707.1,   4.2872,2,  34.2180,2,  34.2196,2,    20.35,1,   14.12,2,   97.82,2,   43.73,2,   -0.01,2,    3.15,2,-999.000,1,-999.000,1,-999.000,1,  2347.8,2,  2338.7,2,    7.310,    25.00, -999.00,9, -999.00,  -999.0,9,  -999.0,  27.1396,2
49NZ200107_1,       P17N,      36,          1,         22,         22,2,20010810,       2217,    38.5040,  -135.0048,       4542,   807.9,   4.0246,2,  34.2974,2,  34.3017,2,    16.50,1,    9.14,2,  107.37,2,   44.33,2,   -0.01,2,    3.22,2,-999.000,1,-999.000,1,-999.000,1,  2360.1,6,  2350.9,2,    7.312,    25.00, -999.00,9, -999.00,  -999.0,9,  -999.0,  27.2308,2
49NZ200107_1,       P17N,      36,          1,         21,         21,2,20010810,       2217,    38.5040,  -135.0048,       4542,   909.0,   3.6838,2,  34.3521,2,  34.3521,2,    16.48,1,    8.64,2,  116.09,2,   44.72,2,   -0.01,2,    3.24,2,-999.000,1,-999.000,1,-999.000,1,  2374.0,2,  2360.0,2,    7.315,    25.00, -999.00,9, -999.00,  -999.0,9,  -999.0,  27.3093,2
49NZ200107_1,       P17N,      36,          1,         20,         20,3,20010810,       2217,    38.5040,  -135.0048,       4542,  1011.1,   3.3301,2,  34.3890,2,  34.3879,2,    17.15,1,    8.75,2,  125.56,2,   45.04,2,   -0.01,2,    3.25,2,-999.000,1,-999.000,1,-999.000,1,  2383.1,2,  2375.4,3,    7.319,    25.00, -999.00,9, -999.00,  -999.0,9,  -999.0,  27.3733,2
49NZ200107_1,       P17N,      36,          1,         19,         19,2,20010810,       2217,    38.5040,  -135.0048,       4542,  1112.1,   3.1226,2,  34.4322,2,  34.4316,2,    19.98,1,   11.94,2,  131.05,2,   45.08,2,   -0.01,2,    3.20,2,-999.000,1,-999.000,1,-999.000,1,  2388.3,2,  2377.5,2,    7.326,    25.00, -999.00,9, -999.00,  -999.0,9,  -999.0,  27.4277,2
49NZ200107_1,       P17N,      36,          1,         18,         18,2,20010810,       2217,    38.5040,  -135.0048,       4542,  1212.9,   2.9529,2,  34.4673,2,  34.4664,2,    24.10,1,   15.63,2,  135.93,2,   44.86,2,   -0.01,2,    3.21,2,-999.000,1,-999.000,1,-999.000,1,  2390.5,6,  2391.7,3,    7.334,    25.00, -999.00,9, -999.00,  -999.0,9,  -999.0,  27.4717,2
49NZ200107_1,       P17N,      36,          1,         17,         17,2,20010810,       2217,    38.5040,  -135.0048,       4542,  1314.2,   2.7864,2,  34.4915,2,  34.4920,2,    28.30,1,   20.75,2,  141.03,2,   44.63,2,    0.00,2,    3.21,2,-999.000,1,-999.000,1,-999.000,1,  2393.1,2,  2398.3,3,    7.344,    25.00, -999.00,9, -999.00,  -999.0,9,  -999.0,  27.5063,2
49NZ200107_1,       P17N,      36,          1,         16,         16,2,20010810,       2217,    38.5040,  -135.0048,       4542,  1415.2,   2.6242,2,  34.5169,2,  34.5169,2,    34.50,1,   27.03,2,  144.81,2,   44.42,2,   -0.01,2,    3.17,2,-999.000,1,-999.000,1,-999.000,1,  2393.6,2,  2396.0,2,    7.358,    25.00, -999.00,9, -999.00,  -999.0,9,  -999.0,  27.5412,2
49NZ200107_1,       P17N,      36,          1,         15,         15,2,20010810,       2217,    38.5040,  -135.0048,       4542,  1618.4,   2.3570,2,  34.5575,2,  34.5576,2,    49.31,1,   42.47,2,  150.72,2,   43.59,2,   -0.01,2,    3.12,2,-999.000,1,-999.000,1,-999.000,1,  2390.1,2,  2406.8,2,    7.392,    25.00, -999.00,9, -999.00,  -999.0,9,  -999.0,  27.5972,2
49NZ200107_1,       P17N,      36,          1,         14,         14,2,20010810,       2217,    38.5040,  -135.0048,       4542,  1822.3,   2.1097,2,  34.5875,2,  34.5872,2,    62.41,1,   57.66,2,  157.27,2,   42.57,2,   -0.01,2,    3.05,2,-999.000,1,-999.000,1,-999.000,1,  2387.5,2,  2412.1,2,    7.421,    25.00, -999.00,9, -999.00,  -999.0,9,  -999.0,  27.6423,2
49NZ200107_1,       P17N,      36,          1,         13,         13,2,20010810,       2217,    38.5040,  -135.0048,       4542,  2025.0,   1.9393,2,  34.6093,2,  34.6094,2,    73.72,1,   69.12,2,  160.96,2,   41.71,2,   -0.01,2,    2.98,2,-999.000,1,-999.000,1,-999.000,1,  2383.7,2,  2429.2,3,    7.446,    25.00, -999.00,9, -999.00,  -999.0,9,  -999.0,  27.6741,2
49NZ200107_1,       P17N,      36,          1,         12,         12,2,20010810,       2217,    38.5040,  -135.0048,       4542,  2228.8,   1.8283,2,  34.6248,2,  34.6248,2,    83.09,1,   79.71,2,  162.56,2,   41.17,2,   -0.01,2,    2.94,2,-999.000,1,-999.000,1,-999.000,1,  2379.1,2,  2425.0,2,    7.468,    25.00, -999.00,9, -999.00,  -999.0,9,  -999.0,  27.6961,2
49NZ200107_1,       P17N,      36,          1,         11,         11,2,20010810,       2217,    38.5040,  -135.0048,       4542,  2432.6,   1.7422,2,  34.6370,2,  34.6373,2,    92.01,1,   88.93,2,  163.62,2,   40.61,2,   -0.01,2,    2.85,2,-999.000,9,-999.000,9,-999.000,9,  -999.0,9,  -999.0,9, -999.000,  -999.00, -999.00,9, -999.00,  -999.0,9,  -999.0,  27.7135,2
49NZ200107_1,       P17N,      36,          1,         10,         10,2,20010810,       2217,    38.5040,  -135.0048,       4542,  2636.4,   1.6727,2,  34.6476,2,  34.6475,2,   100.81,1,   98.38,2,  164.02,2,   39.93,2,    0.00,2,    2.82,2,-999.000,1,-999.000,1,-999.000,1,  2369.0,2,  2425.4,2,    7.502,    25.00, -999.00,9, -999.00,  -999.0,9,  -999.0,  27.7283,2
49NZ200107_1,       P17N,      36,          1,          9,          9,2,20010810,       2217,    38.5040,  -135.0048,       4542,  2840.6,   1.6210,2,  34.6549,2,  34.6551,2,   107.51,1,  105.16,2,  163.93,2,   39.45,2,   -0.01,2,    2.78,2,-999.000,9,-999.000,9,-999.000,9,  -999.0,9,  -999.0,9, -999.000,  -999.00, -999.00,9, -999.00,  -999.0,9,  -999.0,  27.7392,2
49NZ200107_1,       P17N,      36,          1,          8,          8,2,20010810,       2217,    38.5040,  -135.0048,       4542,  3044.5,   1.5825,2,  34.6612,2,  34.6609,2,   114.06,1,  111.79,2,  163.41,2,   39.15,2,   -0.01,2,    2.76,2,-999.000,1,-999.000,1,-999.000,1,  2360.7,6,  2438.5,3,    7.533,    25.00, -999.00,9, -999.00,  -999.0,9,  -999.0,  27.7484,2
49NZ200107_1,       P17N,      36,          1,          7,          7,2,20010810,       2217,    38.5040,  -135.0048,       4542,  3300.5,   1.5490,2,  34.6677,2,  34.6677,2,   121.69,1,  119.15,2,  162.67,2,   38.65,2,   -0.01,2,    2.72,2,-999.000,9,-999.000,9,-999.000,9,  -999.0,9,  -999.0,9, -999.000,  -999.00, -999.00,9, -999.00,  -999.0,9,  -999.0,  27.7577,2
49NZ200107_1,       P17N,      36,          1,          6,          6,2,20010810,       2217,    38.5040,  -135.0048,       4542,  3556.4,   1.5193,2,  34.6740,2,  34.6737,2,   129.64,1,  126.89,2,  161.35,2,   38.23,2,   -0.01,2,    2.67,2,-999.000,1,-999.000,1,-999.000,1,  2352.8,2,  2436.5,3,    7.559,    25.00, -999.00,9, -999.00,  -999.0,9,  -999.0,  27.7666,2
49NZ200107_1,       P17N,      36,          1,          5,          5,3,20010810,       2217,    38.5040,  -135.0048,       4542,  3812.4,   1.5097,2,  34.6783,2,  34.6783,2,   135.70,1,  132.45,2,  160.97,2,   37.76,2,   -0.01,2,    2.65,2,-999.000,9,-999.000,9,-999.000,9,  -999.0,9,  -999.0,9, -999.000,  -999.00, -999.00,9, -999.00,  -999.0,9,  -999.0,  27.7726,2
49NZ200107_1,       P17N,      36,          1,          4,          4,2,20010810,       2217,    38.5040,  -135.0048,       4542,  4069.1,   1.5052,2,  34.6820,2,  34.6824,2,   141.60,1,  138.08,2,  159.02,2,   37.48,2,   -0.01,2,    2.62,2,-999.000,1,-999.000,1,-999.000,1,  2346.3,2,  2432.9,6,    7.580,    25.00, -999.00,9, -999.00,  -999.0,9,  -999.0,  27.7777,2
49NZ200107_1,       P17N,      36,          1,          3,          3,2,20010810,       2217,    38.5040,  -135.0048,       4542,  4325.8,   1.5096,2,  34.6847,2,  34.6849,2,   147.92,1,  143.25,2,  154.76,2,   37.14,2,   -0.01,2,    2.58,2,-999.000,9,-999.000,9,-999.000,9,  -999.0,9,  -999.0,9, -999.000,  -999.00, -999.00,9, -999.00,  -999.0,9,  -999.0,  27.7816,2
49NZ200107_1,       P17N,      36,          1,          2,          2,2,20010810,       2217,    38.5040,  -135.0048,       4542,  4582.8,   1.5257,2,  34.6862,2,  34.6860,2,   152.82,1,  146.04,2,  150.46,2,   36.96,2,   -0.01,2,    2.52,2,-999.000,1,-999.000,1,-999.000,1,  2338.3,2,  2431.6,2,    7.591,    25.00, -999.00,9, -999.00,  -999.0,9,  -999.0,  27.7837,2
49NZ200107_1,       P17N,      36,          1,          1,          1,2,20010810,       2217,    38.5040,  -135.0048,       4542,  4602.0,   1.5277,2,  34.6864,2,  34.6864,2,   153.13,1,  146.16,2,  151.06,2,   36.89,2,   -0.01,2,    2.54,2,-999.000,1,-999.000,1,-999.000,1,  2341.0,2,  2431.2,2,    7.592,    25.00, -999.00,9, -999.00,  -999.0,9,  -999.0,  27.7839,2