BOTTLE,20220817CCHSIOAMB
EXPOCODE,SECT_ID,STNNBR,CASTNO,SAMPNO,BTLNBR,BTLNBR_FLAG_W,DATE,TIME,LATITUDE,LONGITUDE,DEPTH,CTDPRS,CTDTMP,CTDTMP_FLAG_W,CTDSAL,CTDSAL_FLAG_W,SALNTY,SALNTY_FLAG_W,CTDOXY,CTDOXY_FLAG_W,OXYGEN,OXYGEN_FLAG_W,SILCAT,SILCAT_FLAG_W,NITRAT,NITRAT_FLAG_W,NITRIT,NITRIT_FLAG_W,PHSPHT,PHSPHT_FLAG_W,CFC-11,CFC-11_FLAG_W,CFC-12,CFC-12_FLAG_W,CFC113,CFC113_FLAG_W,TCARBN,TCARBN_FLAG_W,ALKALI,ALKALI_FLAG_W,PH_TOT,PH_TMP,DELC13,DELC13_FLAG_W,C13ERR,DELC14,DELC14_FLAG_W,C14ERR,THETA,THETA_FLAG_W
,,,,,,,,,,,METERS,DBAR,ITS-90,,PSS-78,,PSS-78,,UMOL/KG,,UMOL/KG,,UMOL/KG,,UMOL/KG,,UMOL/KG,,UMOL/KG,,PMOL/KG,,PMOL/KG,,PMOL/KG,,UMOL/KG,,UMOL/KG,,,DEG C,/MILLE,,/MILLE,/MILLE,,/MILLE,DEG C,
49NZ200107_1,       P17N,      93,          1,          0,        -99,9,20010825,       0742,    54.3602,  -158.0548,       2997,     4.5,-999.0000,9,-999.0000,9,  32.4459,2,  -999.00,9,  293.97,2,   13.87,2,    6.04,2,    0.13,2,    0.79,2,-999.000,9,-999.000,9,-999.000,9,  -999.0,9,  -999.0,9, -999.000,  -999.00, -999.00,9, -999.00,  -999.0,9,  -999.0,-999.0000,9
49NZ200107_1,       P17N,      93,          1,         36,         36,2,20010825,       0742,    54.3602,  -158.0548,       2997,    11.0,  10.0900,2,  32.4589,2,  32.4614,2,   278.35,1,  293.06,2,   14.53,2,    6.47,2,    0.13,2,    0.78,2,-999.000,9,-999.000,9,-999.000,9,  -999.0,9,  -999.0,9, -999.000,  -999.00, -999.00,9, -999.00,  -999.0,9,  -999.0,  24.9535,2
49NZ200107_1,       P17N,      93,          1,         35,         35,2,20010825,       0742,    54.3602,  -158.0548,       2997,    25.6,   9.9111,2,  32.4523,2,  32.5662,2,   274.35,1,  293.37,2,   17.61,2,    9.48,2,    0.16,2,    0.99,2,-999.000,9,-999.000,9,-999.000,9,  -999.0,9,  -999.0,9, -999.000,  -999.00, -999.00,9, -999.00,  -999.0,9,  -999.0,  24.9783,2
49NZ200107_1,       P17N,      93,          1,         34,         34,2,20010825,       0742,    54.3602,  -158.0548,       2997,    51.7,   6.6799,2,  32.8080,2,  32.8295,2,   283.07,1,  304.55,2,   25.68,2,   17.09,2,    0.24,2,    1.47,2,-999.000,9,-999.000,9,-999.000,9,  -999.0,9,  -999.0,9, -999.000,  -999.00, -999.00,9, -999.00,  -999.0,9,  -999.0,  25.7353,2
49NZ200107_1,       P17N,      93,          1,         33,         33,2,20010825,       0742,    54.3602,  -158.0548,       2997,    76.1,   4.9518,2,  32.9395,2,  32.9556,2,   256.82,1,  285.84,2,   31.40,2,   22.34,2,    0.21,2,    1.77,2,-999.000,9,-999.000,9,-999.000,9,  -999.0,9,  -999.0,9, -999.000,  -999.00, -999.00,9, -999.00,  -999.0,9,  -999.0,  26.0479,2
49NZ200107_1,       P17N,      93,          1,         32,         32,2,20010825,       0742,    54.3602,  -158.0548,       2997,   101.5,   4.5752,2,  33.2970,2,  33.2947,2,   187.50,1,  204.60,2,   44.25,2,   29.82,2,    0.02,2,    2.17,2,-999.000,9,-999.000,9,-999.000,9,  -999.0,9,  -999.0,9, -999.000,  -999.00, -999.00,9, -999.00,  -999.0,9,  -999.0,  26.3726,2
49NZ200107_1,       P17N,      93,          1,         31,         31,2,20010825,       0742,    54.3602,  -158.0548,       2997,   125.8,   4.7072,2,  33.7356,2,  33.7477,2,    86.59,1,   97.08,2,   62.07,2,   38.24,2,    0.01,2,    2.66,2,-999.000,9,-999.000,9,-999.000,9,  -999.0,9,  -999.0,9, -999.000,  -999.00, -999.00,9, -999.00,  -999.0,9,  -999.0,  26.7066,2
49NZ200107_1,       P17N,      93,          1,         30,         30,2,20010825,       0742,    54.3602,  -158.0548,       2997,   152.0,   4.4779,2,  33.8176,2,  33.8260,2,    65.02,1,   69.17,2,   69.75,2,   41.01,2,    0.01,2,    2.84,2,-999.000,9,-999.000,9,-999.000,9,  -999.0,9,  -999.0,9, -999.000,  -999.00, -999.00,9, -999.00,  -999.0,9,  -999.0,  26.7968,2
49NZ200107_1,       P17N,      93,          1,         29,         29,2,20010825,       0742,    54.3602,  -158.0548,       2997,   202.9,   4.1714,2,  33.9259,2,  33.9294,2,    37.67,1,   36.20,2,   81.42,2,   44.12,2,    0.02,2,    3.06,2,-999.000,9,-999.000,9,-999.000,9,  -999.0,9,  -999.0,9, -999.000,  -999.00, -999.00,9, -999.00,  -999.0,9,  -999.0,  26.9155,2
49NZ200107_1,       P17N,      93,          1,         28,         28,2,20010825,       0742,    54.3602,  -158.0548,       2997,   253.4,   4.1391,2,  33.9819,2,  33.9815,2,    35.73,1,   30.94,2,   86.87,2,   44.24,2,    0.02,2,    3.03,2,-999.000,9,-999.000,9,-999.000,9,  -999.0,9,  -999.0,9, -999.000,  -999.00, -999.00,9, -999.00,  -999.0,9,  -999.0,  26.9638,2
49NZ200107_1,       P17N,      93,          1,         27,         27,3,20010825,       0742,    54.3602,  -158.0548,       2997,   304.6,   4.0509,2,  34.0319,2,  34.0313,2,    32.41,1,   27.91,3,   92.50,2,   44.18,2,    0.02,2,    3.08,2,-999.000,9,-999.000,9,-999.000,9,  -999.0,9,  -999.0,9, -999.000,  -999.00, -999.00,9, -999.00,  -999.0,9,  -999.0,  27.0130,2
49NZ200107_1,       P17N,      93,          1,         26,         26,2,20010825,       0742,    54.3602,  -158.0548,       2997,   354.3,   3.9781,2,  34.0682,2,  34.0703,2,    30.16,1,   24.80,2,   97.57,2,   44.28,2,    0.01,2,    3.11,2,-999.000,9,-999.000,9,-999.000,9,  -999.0,9,  -999.0,9, -999.000,  -999.00, -999.00,9, -999.00,  -999.0,9,  -999.0,  27.0497,2
49NZ200107_1,       P17N,      93,          1,         25,         25,2,20010825,       0742,    54.3602,  -158.0548,       2997,   405.1,   3.8826,2,  34.1047,2,  34.1061,2,    28.40,1,   22.68,2,  102.66,2,   44.31,2,    0.01,2,    3.12,2,-999.000,9,-999.000,9,-999.000,9,  -999.0,9,  -999.0,9, -999.000,  -999.00, -999.00,9, -999.00,  -999.0,9,  -999.0,  27.0887,2
49NZ200107_1,       P17N,      93,          1,         24,         24,2,20010825,       0742,    54.3602,  -158.0548,       2997,   506.2,   3.7404,2,  34.1652,2,  34.1652,2,    25.78,1,   19.83,2,  110.03,2,   44.40,2,    0.01,2,    3.14,2,-999.000,9,-999.000,9,-999.000,9,  -999.0,9,  -999.0,9, -999.000,  -999.00, -999.00,9, -999.00,  -999.0,9,  -999.0,  27.1518,2
49NZ200107_1,       P17N,      93,          1,         23,         23,2,20010825,       0742,    54.3602,  -158.0548,       2997,   607.0,   3.5793,2,  34.2213,2,  34.2256,2,    23.89,1,   16.82,2,  118.55,2,   44.44,2,    0.00,2,    3.16,2,-999.000,9,-999.000,9,-999.000,9,  -999.0,9,  -999.0,9, -999.000,  -999.00, -999.00,9, -999.00,  -999.0,9,  -999.0,  27.2130,2
49NZ200107_1,       P17N,      93,          1,         22,         22,2,20010825,       0742,    54.3602,  -158.0548,       2997,   708.8,   3.3136,2,  34.2857,2,  34.2857,2,    22.76,1,   15.42,2,  128.46,2,   44.63,2,   -0.01,2,    3.17,2,-999.000,9,-999.000,9,-999.000,9,  -999.0,9,  -999.0,9, -999.000,  -999.00, -999.00,9, -999.00,  -999.0,9,  -999.0,  27.2903,2
49NZ200107_1,       P17N,      93,          1,         21,         21,2,20010825,       0742,    54.3602,  -158.0548,       2997,   809.3,   3.1201,2,  34.3280,2,  34.3278,2,    23.78,1,   15.87,2,  135.30,2,   44.62,2,    0.00,2,    3.18,2,-999.000,9,-999.000,9,-999.000,9,  -999.0,9,  -999.0,9, -999.000,  -999.00, -999.00,9, -999.00,  -999.0,9,  -999.0,  27.3426,2
49NZ200107_1,       P17N,      93,          1,         20,         20,2,20010825,       0742,    54.3602,  -158.0548,       2997,   910.5,   2.9537,2,  34.3639,2,  34.3637,2,    24.72,1,   16.83,2,  139.86,2,   44.68,2,   -0.01,2,    3.16,2,-999.000,9,-999.000,9,-999.000,9,  -999.0,9,  -999.0,9, -999.000,  -999.00, -999.00,9, -999.00,  -999.0,9,  -999.0,  27.3870,2
49NZ200107_1,       P17N,      93,          1,         19,         19,2,20010825,       0742,    54.3602,  -158.0548,       2997,  1012.4,   2.8245,2,  34.3924,2,  34.3926,2,    25.82,1,   17.66,2,  136.38,3,   44.67,2,    0.00,2,    3.12,2,-999.000,9,-999.000,9,-999.000,9,  -999.0,9,  -999.0,9, -999.000,  -999.00, -999.00,9, -999.00,  -999.0,9,  -999.0,  27.4218,2
49NZ200107_1,       P17N,      93,          1,         18,         18,2,20010825,       0742,    54.3602,  -158.0548,       2997,  1113.4,   2.7014,2,  34.4194,2,  34.4193,2,    27.54,1,   19.00,2,  139.64,3,   44.59,2,    0.00,2,    3.16,2,-999.000,9,-999.000,9,-999.000,9,  -999.0,9,  -999.0,9, -999.000,  -999.00, -999.00,9, -999.00,  -999.0,9,  -999.0,  27.4547,2
49NZ200107_1,       P17N,      93,          1,         17,         17,2,20010825,       0742,    54.3602,  -158.0548,       2997,  1214.7,   2.6053,2,  34.4404,2,  34.4404,2,    29.28,1,   20.74,2,  143.10,3,   44.60,2,    0.00,2,    3.16,2,-999.000,9,-999.000,9,-999.000,9,  -999.0,9,  -999.0,9, -999.000,  -999.00, -999.00,9, -999.00,  -999.0,9,  -999.0,  27.4804,2
49NZ200107_1,       P17N,      93,          1,         16,         16,2,20010825,       0742,    54.3602,  -158.0548,       2997,  1317.4,   2.5194,2,  34.4589,2,  34.4597,2,    31.64,1,   23.65,2,  146.14,3,   44.68,2,    0.00,2,    3.17,2,-999.000,9,-999.000,9,-999.000,9,  -999.0,9,  -999.0,9, -999.000,  -999.00, -999.00,9, -999.00,  -999.0,9,  -999.0,  27.5030,2
49NZ200107_1,       P17N,      93,          1,         15,         15,2,20010825,       0742,    54.3602,  -158.0548,       2997,  1417.9,   2.4177,2,  34.4808,2,  34.4811,2,    34.41,1,   25.74,2,  149.26,3,   44.50,2,    0.00,2,    3.15,2,-999.000,9,-999.000,9,-999.000,9,  -999.0,9,  -999.0,9, -999.000,  -999.00, -999.00,9, -999.00,  -999.0,9,  -999.0,  27.5295,2
49NZ200107_1,       P17N,      93,          1,         14,         14,2,20010825,       0742,    54.3602,  -158.0548,       2997,  1520.9,   2.3244,2,  34.5011,2,  34.5010,2,    38.50,1,   30.70,2,  151.84,3,   44.23,2,    0.00,2,    3.14,2,-999.000,9,-999.000,9,-999.000,9,  -999.0,9,  -999.0,9, -999.000,  -999.00, -999.00,9, -999.00,  -999.0,9,  -999.0,  27.5540,2
49NZ200107_1,       P17N,      93,          1,         13,         13,2,20010825,       0742,    54.3602,  -158.0548,       2997,  1621.2,   2.2257,2,  34.5219,2,  34.5218,2,    43.79,1,   35.48,2,  154.19,3,   44.00,2,    0.00,2,    3.13,2,-999.000,9,-999.000,9,-999.000,9,  -999.0,9,  -999.0,9, -999.000,  -999.00, -999.00,9, -999.00,  -999.0,9,  -999.0,  27.5793,2
49NZ200107_1,       P17N,      93,          1,         12,         12,2,20010825,       0742,    54.3602,  -158.0548,       2997,  1723.2,   2.1051,2,  34.5464,2,  34.5465,2,    52.58,1,   43.96,2,  156.83,3,   43.50,2,    0.00,2,    3.10,2,-999.000,9,-999.000,9,-999.000,9,  -999.0,9,  -999.0,9, -999.000,  -999.00, -999.00,9, -999.00,  -999.0,9,  -999.0,  27.6090,2
49NZ200107_1,       P17N,      93,          1,         11,         11,2,20010825,       0742,    54.3602,  -158.0548,       2997,  1824.8,   2.0431,2,  34.5596,2,  34.5594,2,    56.35,1,   48.98,2,  158.76,3,   43.20,2,    0.01,2,    3.06,2,-999.000,9,-999.000,9,-999.000,9,  -999.0,9,  -999.0,9, -999.000,  -999.00, -999.00,9, -999.00,  -999.0,9,  -999.0,  27.6250,2
49NZ200107_1,       P17N,      93,          1,         10,         10,2,20010825,       0742,    54.3602,  -158.0548,       2997,  1927.1,   2.0069,2,  34.5680,2,  34.5680,2,    59.47,1,   52.42,2,  159.13,3,   42.84,2,    0.01,2,    3.05,2,-999.000,9,-999.000,9,-999.000,9,  -999.0,9,  -999.0,9, -999.000,  -999.00, -999.00,9, -999.00,  -999.0,9,  -999.0,  27.6352,2
49NZ200107_1,       P17N,      93,          1,          9,          9,2,20010825,       0742,    54.3602,  -158.0548,       2997,  2027.8,   1.9839,2,  34.5737,2,  34.5737,2,    62.57,1,   54.90,2,  159.33,2,   42.85,2,    0.01,2,    3.04,2,-999.000,9,-999.000,9,-999.000,9,  -999.0,9,  -999.0,9, -999.000,  -999.00, -999.00,9, -999.00,  -999.0,9,  -999.0,  27.6422,2
49NZ200107_1,       P17N,      93,          1,          8,          8,2,20010825,       0742,    54.3602,  -158.0548,       2997,  2232.8,   1.8763,2,  34.5964,2,  34.5965,2,    72.68,1,   65.49,2,  161.01,2,   42.27,2,    0.01,2,    3.02,2,-999.000,9,-999.000,9,-999.000,9,  -999.0,9,  -999.0,9, -999.000,  -999.00, -999.00,9, -999.00,  -999.0,9,  -999.0,  27.6698,2
49NZ200107_1,       P17N,      93,          1,          6,          6,2,20010825,       0742,    54.3602,  -158.0548,       2997,  2438.5,   1.7477,2,  34.6215,2,  34.6214,2,    86.61,1,   80.61,2,  161.77,2,   41.27,2,    0.01,2,    2.94,2,-999.000,9,-999.000,9,-999.000,9,  -999.0,9,  -999.0,9, -999.000,  -999.00, -999.00,9, -999.00,  -999.0,9,  -999.0,  27.7007,2
49NZ200107_1,       P17N,      93,          1,          7,          7,2,20010825,       0742,    54.3602,  -158.0548,       2997,  2438.6,   1.7473,2,  34.6216,2,  34.6215,2,    86.62,1,   80.37,2,  162.06,2,   41.21,2,    0.01,2,    2.95,2,-999.000,9,-999.000,9,-999.000,9,  -999.0,9,  -999.0,9, -999.000,  -999.00, -999.00,9, -999.00,  -999.0,9,  -999.0,  27.7008,2
49NZ200107_1,       P17N,      93,          1,          5,          5,2,20010825,       0742,    54.3602,  -158.0548,       2997,  2641.6,   1.6698,2,  34.6364,2,  34.6361,2,    98.69,1,   92.57,2,  161.38,2,   40.51,2,    0.01,2,    2.90,2,-999.000,9,-999.000,9,-999.000,9,  -999.0,9,  -999.0,9, -999.000,  -999.00, -999.00,9, -999.00,  -999.0,9,  -999.0,  27.7196,2
49NZ200107_1,       P17N,      93,          1,          4,          4,2,20010825,       0742,    54.3602,  -158.0548,       2997,  2742.3,   1.6360,2,  34.6428,2,  34.6429,2,   104.00,1,   98.29,2,  160.63,2,   39.99,2,    0.01,2,    2.86,2,-999.000,9,-999.000,9,-999.000,9,  -999.0,9,  -999.0,9, -999.000,  -999.00, -999.00,9, -999.00,  -999.0,9,  -999.0,  27.7278,2
49NZ200107_1,       P17N,      93,          1,          3,          3,2,20010825,       0742,    54.3602,  -158.0548,       2997,  2845.3,   1.6158,2,  34.6471,2,  34.6468,2,   108.49,1,  102.29,2,  160.13,2,   39.78,2,    0.01,2,    2.85,2,-999.000,9,-999.000,9,-999.000,9,  -999.0,9,  -999.0,9, -999.000,  -999.00, -999.00,9, -999.00,  -999.0,9,  -999.0,  27.7334,2
49NZ200107_1,       P17N,      93,          1,          1,          1,2,20010825,       0742,    54.3602,  -158.0548,       2997,  3000.3,   1.6221,2,  34.6484,2,  34.6484,2,   110.20,1,  103.46,2,  160.58,2,   39.67,2,    0.01,2,    2.79,2,-999.000,9,-999.000,9,-999.000,9,  -999.0,9,  -999.0,9, -999.000,  -999.00, -999.00,9, -999.00,  -999.0,9,  -999.0,  27.7350,2
49NZ200107_1,       P17N,      93,          1,          2,          2,2,20010825,       0742,    54.3602,  -158.0548,       2997,  3001.2,   1.6226,2,  34.6484,2,  34.6487,2,   110.26,1,  103.71,2, -999.00,9, -999.00,9, -999.00,9, -999.00,9,-999.000,9,-999.000,9,-999.000,9,  -999.0,9,  -999.0,9, -999.000,  -999.00, -999.00,9, -999.00,  -999.0,9,  -999.0,  27.7350,2