BOTTLE,20220817CCHSIOAMB
EXPOCODE,SECT_ID,STNNBR,CASTNO,SAMPNO,BTLNBR,BTLNBR_FLAG_W,DATE,TIME,LATITUDE,LONGITUDE,DEPTH,CTDPRS,CTDTMP,CTDTMP_FLAG_W,CTDSAL,CTDSAL_FLAG_W,SALNTY,SALNTY_FLAG_W,CTDOXY,CTDOXY_FLAG_W,OXYGEN,OXYGEN_FLAG_W,SILCAT,SILCAT_FLAG_W,NITRAT,NITRAT_FLAG_W,NITRIT,NITRIT_FLAG_W,PHSPHT,PHSPHT_FLAG_W,CFC-11,CFC-11_FLAG_W,CFC-12,CFC-12_FLAG_W,CFC113,CFC113_FLAG_W,TCARBN,TCARBN_FLAG_W,ALKALI,ALKALI_FLAG_W,PH_TOT,PH_TMP,DELC13,DELC13_FLAG_W,C13ERR,DELC14,DELC14_FLAG_W,C14ERR,THETA,THETA_FLAG_W
,,,,,,,,,,,METERS,DBAR,ITS-90,,PSS-78,,PSS-78,,UMOL/KG,,UMOL/KG,,UMOL/KG,,UMOL/KG,,UMOL/KG,,UMOL/KG,,PMOL/KG,,PMOL/KG,,PMOL/KG,,UMOL/KG,,UMOL/KG,,,DEG C,/MILLE,,/MILLE,/MILLE,,/MILLE,DEG C,
49NZ200107_1,       P17N,      86,          1,          0,        -99,9,20010824,       0936,    53.9747,  -157.3708,       5491,     4.5,-999.0000,9,-999.0000,9,  32.6508,2,  -999.00,9,  275.19,2,   17.03,2,    7.81,2,    0.13,2,    0.87,2,-999.000,1,-999.000,1,-999.000,1,  1986.8,2,  2200.1,2,    7.924,    25.00, -999.00,9, -999.00,  -999.0,9,  -999.0,-999.0000,9
49NZ200107_1,       P17N,      86,          1,         36,         36,2,20010824,       0936,    53.9747,  -157.3708,       5491,    11.9,  11.9621,2,  32.6671,2,  32.6653,2,   264.82,1,  277.50,2,   17.38,2,    7.90,2,    0.14,2,    0.85,2,-999.000,1,-999.000,1,-999.000,1,  1989.1,2,  2200.1,2,    7.925,    25.00,    1.82,2,    0.00,     2.5,2,     3.7,  24.7850,2
49NZ200107_1,       P17N,      86,          1,         35,         35,2,20010824,       0936,    53.9747,  -157.3708,       5491,    26.1,  11.9522,2,  32.6569,2,  32.6664,2,   264.71,1,  277.14,2,   17.17,2,    7.89,2,    0.13,2,    0.85,2,-999.000,1,-999.000,1,-999.000,1,  1989.9,2,  2197.9,2,    7.927,    25.00,    1.81,2,    0.00,     5.0,2,     3.8,  24.7793,2
49NZ200107_1,       P17N,      86,          1,         34,         34,2,20010824,       0936,    53.9747,  -157.3708,       5491,    51.6,   5.5060,2,  32.9242,2,  32.9294,2,   278.50,1,  302.01,2,   27.40,2,   19.73,2,    0.52,2,    1.62,2,-999.000,1,-999.000,1,-999.000,1,  2084.3,2,  2211.7,2,    7.731,    25.00,    0.88,2,    0.01,    -1.2,2,     3.7,  25.9724,2
49NZ200107_1,       P17N,      86,          1,         33,         33,2,20010824,       0936,    53.9747,  -157.3708,       5491,    76.6,   4.4954,2,  33.0983,2,  33.1018,2,   219.19,1,  258.53,2,   36.92,2,   25.91,2,    0.05,2,    1.94,2,-999.000,1,-999.000,1,-999.000,1,  2131.6,2,  2222.4,2,    7.624,    25.00,    0.45,2,    0.01,   -19.8,2,     4.6,  26.2232,2
49NZ200107_1,       P17N,      86,          1,         32,         32,2,20010824,       0936,    53.9747,  -157.3708,       5491,   102.6,   4.5307,2,  33.4957,2,  33.5211,2,   133.04,1,  149.00,2,   54.41,2,   34.83,2,    0.02,2,    2.46,2,-999.000,1,-999.000,1,-999.000,1,  2219.9,2,  2252.0,6,    7.445,    25.00,   -0.19,2,    0.00,   -47.1,2,     3.5,  26.5351,2
49NZ200107_1,       P17N,      86,          1,         31,         31,2,20010824,       0936,    53.9747,  -157.3708,       5491,   151.9,   4.3583,2,  33.8951,2,  33.8945,2,    50.40,1,   48.45,2,   75.65,2,   42.74,2,    0.02,2,    2.94,2,-999.000,1,-999.000,1,-999.000,1,  2303.4,2,  2283.7,2,    7.294,    25.00,   -0.68,2,    0.00,   -96.7,2,     3.7,  26.8711,2
49NZ200107_1,       P17N,      86,          1,         30,         30,3,20010824,       0936,    53.9747,  -157.3708,       5491,   202.7,   4.1633,2,  33.9621,2,  33.9605,2,    36.04,1,   31.93,2,   83.87,2,   44.17,2,    0.04,2,    3.04,2,-999.000,1,-999.000,1,-999.000,1,  2318.3,6,  2295.3,2,    7.274,    25.00,   -0.75,6,    0.02,  -106.5,6,     2.5,  26.9451,2
49NZ200107_1,       P17N,      86,          1,         29,         29,2,20010824,       0936,    53.9747,  -157.3708,       5491,   253.3,   4.0597,2,  34.0261,2,  34.0254,2,    31.53,1,   26.60,2,   90.99,2,   44.40,2,    0.02,2,    3.08,2,-999.000,1,-999.000,1,-999.000,1,  2329.6,2,  2306.3,2,    7.279,    25.00,   -0.73,2,    0.00,  -118.9,2,     3.3,  27.0071,2
49NZ200107_1,       P17N,      86,          1,         28,         28,2,20010824,       0936,    53.9747,  -157.3708,       5491,   303.2,   3.9743,2,  34.0675,2,  34.0672,2,    29.21,1,   24.34,2,   96.62,2,   44.28,2,    0.03,2,    3.08,2,-999.000,1,-999.000,1,-999.000,1,  2335.7,2,  2312.1,6,    7.284,    25.00,   -0.72,2,    0.01,  -133.6,2,     3.2,  27.0491,2
49NZ200107_1,       P17N,      86,          1,         27,         27,3,20010824,       0936,    53.9747,  -157.3708,       5491,   404.5,   3.7859,2,  34.1366,2,  34.1357,2,    26.35,1,   20.05,2,  105.18,2,   44.37,2,    0.02,2,    3.10,2,-999.000,1,-999.000,1,-999.000,1,  2347.9,2,  2325.1,2,    7.292,    25.00,   -0.68,2,    0.00,  -151.6,2,     3.5,  27.1238,2
49NZ200107_1,       P17N,      86,          1,         26,         26,2,20010824,       0936,    53.9747,  -157.3708,       5491,   506.6,   3.6059,2,  34.2050,2,  34.2091,2,    24.12,1,   17.64,2,  114.22,2,   44.54,2,    0.02,2,    3.13,2,-999.000,1,-999.000,1,-999.000,1,  2358.2,6,  2339.5,2,    7.298,    25.00,   -0.66,2,    0.00,  -173.8,2,     3.2,  27.1967,2
49NZ200107_1,       P17N,      86,          1,         25,         25,2,20010824,       0936,    53.9747,  -157.3708,       5491,   607.2,   3.4202,2,  34.2594,2,  34.2630,2,    23.22,1,   16.07,2,  120.31,2,   44.64,2,    0.03,2,    3.16,2,-999.000,1,-999.000,1,-999.000,1,  2366.2,2,  2350.5,2,    7.305,    25.00,   -0.65,2,    0.01,  -185.5,2,     3.2,  27.2586,2
49NZ200107_1,       P17N,      86,          1,         24,         24,2,20010824,       0936,    53.9747,  -157.3708,       5491,   708.0,   3.2067,2,  34.3115,2,  34.3156,2,    22.90,1,   14.89,2,  127.54,2,   44.74,2,    0.02,2,    3.16,2,-999.000,1,-999.000,1,-999.000,1,  2374.9,2,  2359.5,6,    7.309,    25.00,   -0.63,2,    0.00,  -193.8,2,     3.1,  27.3208,2
49NZ200107_1,       P17N,      86,          1,         23,         23,2,20010824,       0936,    53.9747,  -157.3708,       5491,   809.5,   3.0099,2,  34.3536,2,  34.3567,2,    23.40,1,   15.18,2,  133.71,2,   44.94,2,    0.01,2,    3.17,2,-999.000,1,-999.000,1,-999.000,1,  2380.3,2,  2369.0,2,    7.314,    25.00,   -0.62,2,    0.00,  -204.2,2,     3.3,  27.3731,2
49NZ200107_1,       P17N,      86,          1,         22,         22,3,20010824,       0936,    53.9747,  -157.3708,       5491,   911.8,   2.8395,2,  34.3906,2,  34.3891,2,    24.79,1,   16.58,2,  138.15,2,   44.81,2,    0.01,2,    3.18,2,-999.000,1,-999.000,1,-999.000,1,  2383.7,6,  2374.4,2,    7.320,    25.00,   -0.61,2,    0.01,  -212.0,2,     3.0,  27.4183,2
49NZ200107_1,       P17N,      86,          1,         21,         21,2,20010824,       0936,    53.9747,  -157.3708,       5491,  1012.6,   2.7079,2,  34.4180,2,  34.4192,2,    26.52,1,   17.91,2,  142.27,2,   44.88,2,    0.02,2,    3.16,2,-999.000,1,-999.000,1,-999.000,1,  2389.9,2,  2379.6,2,    7.327,    25.00,   -0.64,2,    0.01,  -214.9,2,     3.3,  27.4523,2
49NZ200107_1,       P17N,      86,          1,         20,         20,2,20010824,       0936,    53.9747,  -157.3708,       5491,  1214.9,   2.4472,2,  34.4728,2,  34.4728,2,    32.34,1,   24.16,2,  149.13,2,   44.75,2,    0.01,2,    3.15,2,-999.000,1,-999.000,1,-999.000,1,  2394.0,2,  2389.9,6,    7.344,    25.00,   -0.60,2,    0.00,  -227.3,2,     3.1,  27.5195,2
49NZ200107_1,       P17N,      86,          1,         19,         19,2,20010824,       0936,    53.9747,  -157.3708,       5491,  1418.5,   2.2291,2,  34.5189,2,  34.5206,2,    41.76,1,   33.98,2,  155.12,2,   44.09,2,    0.02,2,    3.07,2,-999.000,1,-999.000,1,-999.000,1,  2393.9,2,  2398.8,2,    7.364,    25.00,   -0.57,2,    0.00,  -234.8,2,     3.1,  27.5753,2
49NZ200107_1,       P17N,      86,          1,         18,         18,2,20010824,       0936,    53.9747,  -157.3708,       5491,  1621.1,   2.0506,2,  34.5564,2,  34.5566,2,    53.53,1,   45.94,2,  158.24,2,   43.46,2,    0.03,2,    3.04,2,-999.000,1,-999.000,1,-999.000,1,  2390.8,6,  2403.7,2,    7.390,    25.00,   -0.51,6,    0.01,  -238.8,6,     2.2,  27.6206,2
49NZ200107_1,       P17N,      86,          1,         17,         17,2,20010824,       0936,    53.9747,  -157.3708,       5491,  1824.9,   1.9058,2,  34.5860,2,  34.5852,2,    65.01,1,   58.71,2,  160.87,2,   42.65,2,    0.02,2,    3.00,2,-999.000,1,-999.000,1,-999.000,1,  2385.9,2,  2411.2,2,    7.417,    25.00,   -0.41,2,    0.00,  -242.7,2,     3.1,  27.6567,2
49NZ200107_1,       P17N,      86,          1,         16,         16,2,20010824,       0936,    53.9747,  -157.3708,       5491,  2028.2,   1.8155,2,  34.6041,2,  34.6041,2,    75.13,1,   69.45,2,  161.61,2,   42.11,2,    0.02,2,    2.95,2,-999.000,1,-999.000,1,-999.000,1,  2381.9,2,  2412.4,2,    7.424,    25.00,   -0.34,2,    0.00,  -246.1,2,     3.3,  27.6791,2
49NZ200107_1,       P17N,      86,          1,         15,         15,2,20010824,       0936,    53.9747,  -157.3708,       5491,  2231.8,   1.7289,2,  34.6222,2,  34.6222,2,    87.25,1,   83.59,2,  160.33,2,   41.16,2,    0.02,2,    2.91,2,-999.000,1,-999.000,1,-999.000,1,  2373.1,2,  2415.1,2,    7.453,    25.00,   -0.24,2,    0.00,  -239.3,2,     3.0,  27.7013,2
49NZ200107_1,       P17N,      86,          1,         14,         14,2,20010824,       0936,    53.9747,  -157.3708,       5491,  2435.3,   1.6570,2,  34.6360,2,  34.6360,2,    97.72,1,   94.48,2,  159.72,2,   40.40,2,    0.01,2,    2.86,2,-999.000,9,-999.000,9,-999.000,9,  -999.0,9,  -999.0,9, -999.000,  -999.00, -999.00,9, -999.00,  -999.0,9,  -999.0,  27.7189,2
49NZ200107_1,       P17N,      86,          1,         13,         13,2,20010824,       0936,    53.9747,  -157.3708,       5491,  2640.8,   1.6107,2,  34.6460,2,  34.6460,2,   106.63,1,  103.55,2,  157.22,2,   39.85,2,    0.02,2,    2.80,2,-999.000,1,-999.000,1,-999.000,1,  2360.1,2,  2417.2,6,    7.502,    25.00,   -0.18,2,    0.01,  -237.6,2,     3.2,  27.7315,2
49NZ200107_1,       P17N,      86,          1,         12,         12,2,20010824,       0936,    53.9747,  -157.3708,       5491,  2845.1,   1.5668,2,  34.6549,2,  34.6551,2,   114.72,1,  112.20,3,  156.06,2,   39.33,2,    0.01,2,    2.76,2,-999.000,9,-999.000,9,-999.000,9,  -999.0,9,  -999.0,9, -999.000,  -999.00, -999.00,9, -999.00,  -999.0,9,  -999.0,  27.7431,2
49NZ200107_1,       P17N,      86,          1,         11,         11,2,20010824,       0936,    53.9747,  -157.3708,       5491,  3049.9,   1.5327,2,  34.6621,2,  34.6619,2,   123.25,1,  119.95,2,  155.56,2,   38.70,2,    0.02,2,    2.70,2,-999.000,1,-999.000,1,-999.000,1,  2349.3,2,  2416.6,2,    7.535,    25.00,   -0.04,2,    0.00,  -242.2,2,     3.1,  27.7526,2
49NZ200107_1,       P17N,      86,          1,         10,         10,2,20010824,       0936,    53.9747,  -157.3708,       5491,  3304.3,   1.4917,2,  34.6708,2,  34.6711,2,   132.85,1,  129.56,2,  154.17,2,   38.02,2,    0.01,2,    2.68,2,-999.000,9,-999.000,9,-999.000,9,  -999.0,9,  -999.0,9, -999.000,  -999.00, -999.00,9, -999.00,  -999.0,9,  -999.0,  27.7641,2
49NZ200107_1,       P17N,      86,          1,          9,          9,2,20010824,       0936,    53.9747,  -157.3708,       5491,  3561.8,   1.4724,2,  34.6767,2,  34.6763,2,   139.55,1,  136.49,2,  154.37,2,   37.54,2,    0.02,2,    2.65,2,-999.000,1,-999.000,1,-999.000,1,  2339.1,6,  2419.3,2,    7.566,    25.00,    0.05,2,    0.00,  -227.3,2,     3.3,  27.7719,2
49NZ200107_1,       P17N,      86,          1,          8,          8,2,20010824,       0936,    53.9747,  -157.3708,       5491,  3818.8,   1.4627,2,  34.6810,2,  34.6809,2,   146.82,1,  142.91,2,  151.54,2,   37.17,2,    0.02,2,    2.61,2,-999.000,9,-999.000,9,-999.000,9,  -999.0,9,  -999.0,9, -999.000,  -999.00, -999.00,9, -999.00,  -999.0,9,  -999.0,  27.7779,2
49NZ200107_1,       P17N,      86,          1,          7,          7,2,20010824,       0936,    53.9747,  -157.3708,       5491,  4075.3,   1.4651,2,  34.6842,2,  34.6839,2,   150.85,1,  147.06,3,  153.09,2,   36.99,2,    0.01,2,    2.60,2,-999.000,1,-999.000,1,-999.000,1,  2332.3,2,  2418.5,6,    7.584,    25.00,    0.12,2,    0.01,  -223.5,2,     3.4,  27.7822,2
49NZ200107_1,       P17N,      86,          1,          6,          6,2,20010824,       0936,    53.9747,  -157.3708,       5491,  4332.3,   1.4729,2,  34.6867,2,  34.6863,2,   155.50,1,  149.98,2,  152.93,2,   36.67,2,    0.02,2,    2.59,2,-999.000,9,-999.000,9,-999.000,9,  -999.0,9,  -999.0,9, -999.000,  -999.00, -999.00,9, -999.00,  -999.0,9,  -999.0,  27.7856,2
49NZ200107_1,       P17N,      86,          1,          5,          5,2,20010824,       0936,    53.9747,  -157.3708,       5491,  4589.9,   1.4843,2,  34.6882,2,  34.6882,2,   160.97,1,  154.23,2,  149.65,2,   36.42,2,    0.01,2,    2.55,2,-999.000,1,-999.000,1,-999.000,1,  2325.0,2,  2416.9,2,    7.595,    25.00,    0.12,2,    0.01,  -219.9,2,     3.3,  27.7881,2
49NZ200107_1,       P17N,      86,          1,          4,          4,2,20010824,       0936,    53.9747,  -157.3708,       5491,  4847.3,   1.5006,2,  34.6895,2,  34.6900,3,   165.61,1,  157.04,2,  147.24,2,   36.19,2,    0.02,2,    2.54,2,-999.000,9,-999.000,9,-999.000,9,  -999.0,9,  -999.0,9, -999.000,  -999.00, -999.00,9, -999.00,  -999.0,9,  -999.0,  27.7902,2
49NZ200107_1,       P17N,      86,          1,          3,          3,2,20010824,       0936,    53.9747,  -157.3708,       5491,  5105.0,   1.5215,2,  34.6904,2,  34.6912,3,   169.98,1,  159.00,2,  144.71,2,   35.93,2,    0.01,2,    2.52,2,-999.000,1,-999.000,1,-999.000,1,  2320.8,6,  2412.3,2,    7.600,    25.00,    0.14,6,    0.07,  -208.8,6,     2.4,  27.7916,2
49NZ200107_1,       P17N,      86,          1,          2,          2,2,20010824,       0936,    53.9747,  -157.3708,       5491,  5363.8,   1.5475,2,  34.6912,2,  34.6912,2,   173.34,1,  160.07,2,  139.32,2,   35.90,2,    0.02,2,    2.49,2,-999.000,9,-999.000,9,-999.000,9,  -999.0,9,  -999.0,9, -999.000,  -999.00, -999.00,9, -999.00,  -999.0,9,  -999.0,  27.7928,2
49NZ200107_1,       P17N,      86,          1,          1,          1,2,20010824,       0936,    53.9747,  -157.3708,       5491,  5620.4,   1.5809,2,  34.6912,2,  34.6913,2,   177.25,1,  159.95,2,  139.47,2,   35.78,2,    0.02,2,    2.50,2,-999.000,1,-999.000,1,-999.000,1,  2320.3,2,  2411.5,2,    7.602,    25.00,    0.21,2,    0.01,  -203.3,2,     3.3,  27.7928,2