BOTTLE,20220817CCHSIOAMB
EXPOCODE,SECT_ID,STNNBR,CASTNO,SAMPNO,BTLNBR,BTLNBR_FLAG_W,DATE,TIME,LATITUDE,LONGITUDE,DEPTH,CTDPRS,CTDTMP,CTDTMP_FLAG_W,CTDSAL,CTDSAL_FLAG_W,SALNTY,SALNTY_FLAG_W,CTDOXY,CTDOXY_FLAG_W,OXYGEN,OXYGEN_FLAG_W,SILCAT,SILCAT_FLAG_W,NITRAT,NITRAT_FLAG_W,NITRIT,NITRIT_FLAG_W,PHSPHT,PHSPHT_FLAG_W,CFC-11,CFC-11_FLAG_W,CFC-12,CFC-12_FLAG_W,CFC113,CFC113_FLAG_W,TCARBN,TCARBN_FLAG_W,ALKALI,ALKALI_FLAG_W,PH_TOT,PH_TMP,DELC13,DELC13_FLAG_W,C13ERR,DELC14,DELC14_FLAG_W,C14ERR,THETA,THETA_FLAG_W
,,,,,,,,,,,METERS,DBAR,ITS-90,,PSS-78,,PSS-78,,UMOL/KG,,UMOL/KG,,UMOL/KG,,UMOL/KG,,UMOL/KG,,UMOL/KG,,PMOL/KG,,PMOL/KG,,PMOL/KG,,UMOL/KG,,UMOL/KG,,,DEG C,/MILLE,,/MILLE,/MILLE,,/MILLE,DEG C,
49NZ200107_1,       P17N,      80,          1,          0,        -99,9,20010823,       0512,    52.1398,  -153.7393,       4687,     4.5,-999.0000,9,-999.0000,9,  32.7206,2,  -999.00,9,  280.31,3,   23.96,2,   13.07,2,    0.19,2,    1.23,2,-999.000,1,-999.000,1,-999.000,1,  2017.4,2,  2202.4,2,    7.874,    25.00, -999.00,9, -999.00,  -999.0,9,  -999.0,-999.0000,9
49NZ200107_1,       P17N,      80,          1,         36,         36,2,20010823,       0512,    52.1398,  -153.7393,       4687,    11.3,  11.3836,2,  32.7336,2,  32.7309,2,   268.13,1,  285.66,3,   24.04,2,   13.19,2,    0.18,2,    1.18,2,-999.000,1,-999.000,1,-999.000,1,  2018.5,2,  2206.3,2,    7.875,    25.00, -999.00,9, -999.00,  -999.0,9,  -999.0,  24.9428,2
49NZ200107_1,       P17N,      80,          1,         35,         35,2,20010823,       0512,    52.1398,  -153.7393,       4687,    25.9,  11.2219,2,  32.7595,2,  34.5008,4,   267.80,1,  279.90,2,   23.99,2,   13.35,2,    0.19,2,    1.20,2,-999.000,1,-999.000,1,-999.000,1,  2021.5,2,  2206.7,2,    7.871,    25.00, -999.00,9, -999.00,  -999.0,9,  -999.0,  24.9923,2
49NZ200107_1,       P17N,      80,          1,         34,         34,3,20010823,       0512,    52.1398,  -153.7393,       4687,    50.7,   5.7230,2,  32.9150,2,  32.9104,2,   286.50,1,  308.13,2,   30.83,2,   19.57,2,    0.42,2,    1.64,2,-999.000,1,-999.000,1,-999.000,1,  2085.6,2,  2214.2,2,    7.699,    25.00, -999.00,9, -999.00,  -999.0,9,  -999.0,  25.9394,2
49NZ200107_1,       P17N,      80,          1,         33,         33,2,20010823,       0512,    52.1398,  -153.7393,       4687,    76.1,   4.5080,2,  32.9726,2,  32.9704,2,   283.89,1,  306.72,2,   33.74,2,   22.25,2,    0.60,2,    1.74,2,-999.000,1,-999.000,1,-999.000,1,  2100.5,2,  2216.2,2,    7.738,    25.00, -999.00,9, -999.00,  -999.0,9,  -999.0,  26.1221,2
49NZ200107_1,       P17N,      80,          1,         32,         32,2,20010823,       0512,    52.1398,  -153.7393,       4687,   102.3,   4.0927,2,  33.0910,2,  33.1235,2,   247.89,1,  265.78,2,   40.07,2,   26.35,2,    0.02,2,    1.99,2,-999.000,1,-999.000,1,-999.000,1,  2137.4,2,  2227.6,6,    7.620,    25.00, -999.00,9, -999.00,  -999.0,9,  -999.0,  26.2591,2
49NZ200107_1,       P17N,      80,          1,         31,         31,2,20010823,       0512,    52.1398,  -153.7393,       4687,   152.2,   4.0121,2,  33.8181,2,  33.8151,2,    61.31,1,   63.32,2,   74.00,2,   42.03,2,    0.02,2,    2.92,2,-999.000,1,-999.000,1,-999.000,1,  2296.4,2,  2282.6,2,    7.303,    25.00, -999.00,9, -999.00,  -999.0,9,  -999.0,  26.8458,2
49NZ200107_1,       P17N,      80,          1,         30,         30,2,20010823,       0512,    52.1398,  -153.7393,       4687,   202.6,   3.8909,2,  33.9010,2,  33.8985,2,    42.49,1,   40.43,2,   82.68,2,   44.01,2,    0.04,2,    3.04,2,-999.000,1,-999.000,1,-999.000,1,  2316.9,6,  2288.7,2,    7.274,    25.00, -999.00,9, -999.00,  -999.0,9,  -999.0,  26.9244,2
49NZ200107_1,       P17N,      80,          1,         29,         29,2,20010823,       0512,    52.1398,  -153.7393,       4687,   253.4,   3.8591,2,  33.9789,2,  33.9761,2,    34.77,1,   30.72,2,   90.21,2,   44.53,2,    0.02,2,    3.11,2,-999.000,1,-999.000,1,-999.000,1,  2328.1,2,  2302.1,2,    7.274,    25.00, -999.00,9, -999.00,  -999.0,9,  -999.0,  26.9899,2
49NZ200107_1,       P17N,      80,          1,         28,         28,2,20010823,       0512,    52.1398,  -153.7393,       4687,   303.9,   3.8110,2,  34.0281,2,  34.0260,2,    32.17,1,   27.86,2,   95.21,2,   44.45,2,    0.01,2,    3.09,2,-999.000,1,-999.000,1,-999.000,1,  2333.7,2,  2311.2,6,    7.288,    25.00, -999.00,9, -999.00,  -999.0,9,  -999.0,  27.0342,2
49NZ200107_1,       P17N,      80,          1,         27,         27,3,20010823,       0512,    52.1398,  -153.7393,       4687,   354.4,   3.7163,2,  34.0745,2,  34.0751,2,    30.93,1,   26.40,2,  100.84,2,   44.32,2,    0.02,2,    3.10,2,-999.000,1,-999.000,1,-999.000,1,  2339.2,2,  2314.3,2,    7.291,    25.00, -999.00,9, -999.00,  -999.0,9,  -999.0,  27.0809,2
49NZ200107_1,       P17N,      80,          1,         26,         26,2,20010823,       0512,    52.1398,  -153.7393,       4687,   404.4,   3.6599,2,  34.1170,2,  34.1201,2,    29.26,1,   23.74,2,  105.19,2,   44.46,2,    0.01,2,    3.12,2,-999.000,1,-999.000,1,-999.000,1,  2346.3,6,  2327.7,2,    7.301,    25.00, -999.00,9, -999.00,  -999.0,9,  -999.0,  27.1206,2
49NZ200107_1,       P17N,      80,          1,         25,         25,2,20010823,       0512,    52.1398,  -153.7393,       4687,   506.4,   3.5056,2,  34.1861,2,  34.1884,2,    26.45,1,   21.05,2,  113.37,2,   44.47,2,    0.02,2,    3.14,2,-999.000,1,-999.000,1,-999.000,1,  2356.8,2,  2337.1,2,    7.309,    25.00, -999.00,9, -999.00,  -999.0,9,  -999.0,  27.1913,2
49NZ200107_1,       P17N,      80,          1,         24,         24,2,20010823,       0512,    52.1398,  -153.7393,       4687,   607.5,   3.3161,2,  34.2518,2,  34.2522,2,    25.43,1,   20.13,2,  121.24,2,   44.41,2,    0.01,2,    3.15,2,-999.000,1,-999.000,1,-999.000,1,  2365.1,2,  2345.2,2,    7.316,    25.00, -999.00,9, -999.00,  -999.0,9,  -999.0,  27.2624,2
49NZ200107_1,       P17N,      80,          1,         23,         23,2,20010823,       0512,    52.1398,  -153.7393,       4687,   708.2,   3.1635,2,  34.2965,2,  34.2979,2,    25.85,1,   19.33,2,  126.78,2,   44.60,2,    0.01,2,    3.15,2,-999.000,1,-999.000,1,-999.000,1,  2370.5,2,  2353.3,2,    7.319,    25.00, -999.00,9, -999.00,  -999.0,9,  -999.0,  27.3129,2
49NZ200107_1,       P17N,      80,          1,         22,         22,2,20010823,       0512,    52.1398,  -153.7393,       4687,   809.5,   3.0137,2,  34.3374,2,  34.3395,2,    26.57,1,   20.62,2,  132.15,2,   44.48,2,    0.02,2,    3.16,2,-999.000,1,-999.000,1,-999.000,1,  2374.4,6,  2368.0,2,    7.327,    25.00, -999.00,9, -999.00,  -999.0,9,  -999.0,  27.3597,2
49NZ200107_1,       P17N,      80,          1,         21,         21,2,20010823,       0512,    52.1398,  -153.7393,       4687,   910.5,   2.8535,2,  34.3754,2,  34.3763,2,    27.33,1,   20.73,2,  137.08,2,   44.48,2,    0.02,2,    3.17,2,-999.000,1,-999.000,1,-999.000,1,  2381.0,2,  2374.3,2,    7.334,    25.00, -999.00,9, -999.00,  -999.0,9,  -999.0,  27.4050,2
49NZ200107_1,       P17N,      80,          1,         20,         20,2,20010823,       0512,    52.1398,  -153.7393,       4687,  1012.1,   2.7199,2,  34.4064,2,  34.4064,2,    29.01,1,   22.72,2,  140.90,2,   44.58,2,    0.01,2,    3.17,2,-999.000,1,-999.000,1,-999.000,1,  2383.3,2,  2380.9,6,    7.339,    25.00, -999.00,9, -999.00,  -999.0,9,  -999.0,  27.4421,2
49NZ200107_1,       P17N,      80,          1,         19,         19,2,20010823,       0512,    52.1398,  -153.7393,       4687,  1113.3,   2.6022,2,  34.4341,2,  34.4345,2,    31.26,1,   24.93,2,  144.43,2,   44.33,2,    0.02,2,    3.12,2,-999.000,1,-999.000,1,-999.000,1,  2385.7,2,  2384.0,2,    7.344,    25.00, -999.00,9, -999.00,  -999.0,9,  -999.0,  27.4749,2
49NZ200107_1,       P17N,      80,          1,         18,         18,2,20010823,       0512,    52.1398,  -153.7393,       4687,  1215.1,   2.4812,2,  34.4619,2,  34.4626,2,    33.63,1,   26.67,2,  147.89,2,   44.35,2,    0.02,2,    3.13,2,-999.000,1,-999.000,1,-999.000,1,  2390.8,6,  2388.5,2,    7.355,    25.00, -999.00,9, -999.00,  -999.0,9,  -999.0,  27.5080,2
49NZ200107_1,       P17N,      80,          1,         17,         17,2,20010823,       0512,    52.1398,  -153.7393,       4687,  1316.6,   2.3683,2,  34.4891,2,  34.4892,2,    36.32,1,   30.02,2,  151.24,2,   44.15,2,    0.01,2,    3.15,2,-999.000,1,-999.000,1,-999.000,1,  2392.2,2,  2392.0,2,    7.364,    25.00, -999.00,9, -999.00,  -999.0,9,  -999.0,  27.5396,2
49NZ200107_1,       P17N,      80,          1,         16,         16,2,20010823,       0512,    52.1398,  -153.7393,       4687,  1418.2,   2.2904,2,  34.5076,2,  34.5074,2,    38.86,1,   32.19,2,  152.83,2,   44.24,2,    0.02,2,    3.13,2,-999.000,1,-999.000,1,-999.000,1,  2392.8,2,  2393.1,2,    7.383,    25.00, -999.00,9, -999.00,  -999.0,9,  -999.0,  27.5614,2
49NZ200107_1,       P17N,      80,          1,         15,         15,2,20010823,       0512,    52.1398,  -153.7393,       4687,  1621.0,   2.1298,2,  34.5438,2,  34.5430,2,    47.11,1,   40.37,2,  156.35,2,   43.92,2,    0.02,2,    3.12,2,-999.000,1,-999.000,1,-999.000,1,  2391.5,2,  2399.8,2,    7.402,    25.00, -999.00,9, -999.00,  -999.0,9,  -999.0,  27.6044,2
49NZ200107_1,       P17N,      80,          1,         14,         14,2,20010823,       0512,    52.1398,  -153.7393,       4687,  1823.7,   2.0053,2,  34.5713,2,  34.5708,2,    54.70,1,   48.69,2,  159.21,2,   43.43,2,    0.01,2,    3.08,2,-999.000,1,-999.000,1,-999.000,1,  2392.2,2,  2413.1,2,    7.419,    25.00, -999.00,9, -999.00,  -999.0,9,  -999.0,  27.6373,2
49NZ200107_1,       P17N,      80,          1,         13,         13,2,20010823,       0512,    52.1398,  -153.7393,       4687,  2028.5,   1.9024,2,  34.5927,2,  34.5922,2,    63.21,1,   57.79,2,  160.64,2,   42.82,2,    0.01,2,    3.03,2,-999.000,1,-999.000,1,-999.000,1,  2390.0,2,  2416.0,2,    7.437,    25.00, -999.00,9, -999.00,  -999.0,9,  -999.0,  27.6636,2
49NZ200107_1,       P17N,      80,          1,         12,         12,2,20010823,       0512,    52.1398,  -153.7393,       4687,  2232.5,   1.8329,2,  34.6074,2,  34.6071,2,    71.52,1,   65.86,2,  161.25,2,   42.44,2,    0.01,2,    3.00,2,-999.000,1,-999.000,1,-999.000,1,  2384.0,2,  2417.9,2,    7.482,    25.00, -999.00,9, -999.00,  -999.0,9,  -999.0,  27.6818,2
49NZ200107_1,       P17N,      80,          1,         11,         11,2,20010823,       0512,    52.1398,  -153.7393,       4687,  2435.8,   1.7490,2,  34.6234,2,  34.6234,2,    83.03,1,   77.51,2,  161.28,2,   41.63,2,    0.02,2,    2.91,2,-999.000,9,-999.000,9,-999.000,9,  -999.0,9,  -999.0,9, -999.000,  -999.00, -999.00,9, -999.00,  -999.0,9,  -999.0,  27.7021,2
49NZ200107_1,       P17N,      80,          1,         10,         10,2,20010823,       0512,    52.1398,  -153.7393,       4687,  2639.5,   1.6827,2,  34.6360,2,  34.6361,2,    93.49,1,   88.89,2,  160.63,2,   40.74,2,    0.01,2,    2.87,2,-999.000,1,-999.000,1,-999.000,1,  2370.1,2,  2417.3,2,    7.521,    25.00, -999.00,9, -999.00,  -999.0,9,  -999.0,  27.7184,2
49NZ200107_1,       P17N,      80,          1,          9,          9,2,20010823,       0512,    52.1398,  -153.7393,       4687,  2844.9,   1.6221,2,  34.6474,2,  34.6474,2,   104.62,1,  100.41,2,  158.94,2,   39.93,2,    0.01,2,    2.80,2,-999.000,9,-999.000,9,-999.000,9,  -999.0,9,  -999.0,9, -999.000,  -999.00, -999.00,9, -999.00,  -999.0,9,  -999.0,  27.7332,2
49NZ200107_1,       P17N,      80,          1,          8,          8,2,20010823,       0512,    52.1398,  -153.7393,       4687,  3049.2,   1.5799,2,  34.6559,2,  34.6562,2,   113.82,1,  110.06,2,  157.45,2,   39.42,2,    0.02,2,    2.77,2,-999.000,1,-999.000,1,-999.000,1,  2356.5,6,  2414.8,2,    7.561,    25.00, -999.00,9, -999.00,  -999.0,9,  -999.0,  27.7444,2
49NZ200107_1,       P17N,      80,          1,          7,          7,2,20010823,       0512,    52.1398,  -153.7393,       4687,  3304.8,   1.5331,2,  34.6655,2,  34.6652,2,   124.83,1,  121.02,2,  155.87,2,   38.60,2,    0.02,2,    2.73,2,-999.000,9,-999.000,9,-999.000,9,  -999.0,9,  -999.0,9, -999.000,  -999.00, -999.00,9, -999.00,  -999.0,9,  -999.0,  27.7570,2
49NZ200107_1,       P17N,      80,          1,          6,          6,2,20010823,       0512,    52.1398,  -153.7393,       4687,  3561.1,   1.5038,2,  34.6727,2,  34.6728,2,   133.38,1,  129.80,2,  154.43,2,   37.90,2,    0.01,2,    2.67,2,-999.000,1,-999.000,1,-999.000,1,  2345.6,2,  2418.1,2,    7.561,    25.00, -999.00,9, -999.00,  -999.0,9,  -999.0,  27.7666,2
49NZ200107_1,       P17N,      80,          1,          5,          5,2,20010823,       0512,    52.1398,  -153.7393,       4687,  3818.0,   1.4918,2,  34.6777,2,  34.6776,2,   140.09,1,  135.99,2,  154.27,2,   37.68,2,    0.01,2,    2.65,2,-999.000,9,-999.000,9,-999.000,9,  -999.0,9,  -999.0,9, -999.000,  -999.00, -999.00,9, -999.00,  -999.0,9,  -999.0,  27.7733,2
49NZ200107_1,       P17N,      80,          1,          4,          4,2,20010823,       0512,    52.1398,  -153.7393,       4687,  4074.0,   1.4949,2,  34.6810,2,  34.6807,2,   144.53,1,  139.98,2,  154.61,2,   37.30,2,    0.01,2,    2.62,2,-999.000,1,-999.000,1,-999.000,1,  2342.1,2,  2424.9,6,    7.581,    25.00, -999.00,9, -999.00,  -999.0,9,  -999.0,  27.7777,2
49NZ200107_1,       P17N,      80,          1,          3,          3,2,20010823,       0512,    52.1398,  -153.7393,       4687,  4331.9,   1.5081,2,  34.6836,2,  34.6843,3,   148.10,1,  141.99,2,  155.53,2,   37.20,2,    0.02,2,    2.60,2,-999.000,9,-999.000,9,-999.000,9,  -999.0,9,  -999.0,9, -999.000,  -999.00, -999.00,9, -999.00,  -999.0,9,  -999.0,  27.7808,2
49NZ200107_1,       P17N,      80,          1,          2,          2,2,20010823,       0512,    52.1398,  -153.7393,       4687,  4589.8,   1.5307,2,  34.6849,2,  34.6849,2,   150.84,1,  142.65,2,  156.43,2,   37.07,2,    0.01,2,    2.56,2,-999.000,1,-999.000,1,-999.000,1,  2338.5,2,  2425.3,2,    7.592,    25.00, -999.00,9, -999.00,  -999.0,9,  -999.0,  27.7824,2
49NZ200107_1,       P17N,      80,          1,          1,          1,2,20010823,       0512,    52.1398,  -153.7393,       4687,  4720.3,   1.5425,2,  34.6854,2,  34.6854,2,   152.78,1,  144.42,2,  155.74,2,   37.08,2,    0.02,2,    2.58,2,-999.000,1,-999.000,1,-999.000,1,  2338.9,2,  2427.9,2,    7.592,    25.00, -999.00,9, -999.00,  -999.0,9,  -999.0,  27.7831,2