BOTTLE,20220817CCHSIOAMB
EXPOCODE,SECT_ID,STNNBR,CASTNO,SAMPNO,BTLNBR,BTLNBR_FLAG_W,DATE,TIME,LATITUDE,LONGITUDE,DEPTH,CTDPRS,CTDTMP,CTDTMP_FLAG_W,CTDSAL,CTDSAL_FLAG_W,SALNTY,SALNTY_FLAG_W,CTDOXY,CTDOXY_FLAG_W,OXYGEN,OXYGEN_FLAG_W,SILCAT,SILCAT_FLAG_W,NITRAT,NITRAT_FLAG_W,NITRIT,NITRIT_FLAG_W,PHSPHT,PHSPHT_FLAG_W,CFC-11,CFC-11_FLAG_W,CFC-12,CFC-12_FLAG_W,CFC113,CFC113_FLAG_W,TCARBN,TCARBN_FLAG_W,ALKALI,ALKALI_FLAG_W,PH_TOT,PH_TMP,DELC13,DELC13_FLAG_W,C13ERR,DELC14,DELC14_FLAG_W,C14ERR,THETA,THETA_FLAG_W
,,,,,,,,,,,METERS,DBAR,ITS-90,,PSS-78,,PSS-78,,UMOL/KG,,UMOL/KG,,UMOL/KG,,UMOL/KG,,UMOL/KG,,UMOL/KG,,PMOL/KG,,PMOL/KG,,PMOL/KG,,UMOL/KG,,UMOL/KG,,,DEG C,/MILLE,,/MILLE,/MILLE,,/MILLE,DEG C,
49NZ200107_1,       P17N,      51,          1,          0,        -99,9,20010814,       0119,    42.6380,  -137.5338,       4148,     4.5,-999.0000,9,-999.0000,9,  32.4090,2,  -999.00,9,  249.72,2,    2.74,2,    0.68,2,    0.01,2,    0.46,2,-999.000,9,-999.000,9,-999.000,9,  -999.0,9,  -999.0,9, -999.000,  -999.00, -999.00,9, -999.00,  -999.0,9,  -999.0,-999.0000,9
49NZ200107_1,       P17N,      51,          1,         36,         36,2,20010814,       0119,    42.6380,  -137.5338,       4148,    10.9,  17.5404,2,  32.4340,2,  32.4445,2,   241.31,1,  251.63,2,    2.21,2,    0.57,2,    0.01,2,    0.39,2,-999.000,9,-999.000,9,-999.000,9,  -999.0,9,  -999.0,9, -999.000,  -999.00, -999.00,9, -999.00,  -999.0,9,  -999.0,  23.4187,2
49NZ200107_1,       P17N,      51,          1,         35,         35,2,20010814,       0119,    42.6380,  -137.5338,       4148,    25.4,  15.8564,2,  32.5290,2,  32.5436,2,   266.20,1,  274.72,2,    1.33,2,    0.05,2,    0.01,2,    0.34,2,-999.000,9,-999.000,9,-999.000,9,  -999.0,9,  -999.0,9, -999.000,  -999.00, -999.00,9, -999.00,  -999.0,9,  -999.0,  23.8807,2
49NZ200107_1,       P17N,      51,          1,         34,         34,2,20010814,       0119,    42.6380,  -137.5338,       4148,    50.4,  10.7396,2,  32.5964,2,  32.5972,2,   278.54,1,  297.48,2,    4.06,2,    2.61,2,    0.18,2,    0.52,2,-999.000,9,-999.000,9,-999.000,9,  -999.0,9,  -999.0,9, -999.000,  -999.00, -999.00,9, -999.00,  -999.0,9,  -999.0,  24.9509,2
49NZ200107_1,       P17N,      51,          1,         33,         33,2,20010814,       0119,    42.6380,  -137.5338,       4148,    75.9,   9.6608,2,  32.5816,2,  32.5786,2,   263.90,1,  277.04,2,    6.87,2,    6.65,2,    0.62,2,    0.77,2,-999.000,9,-999.000,9,-999.000,9,  -999.0,9,  -999.0,9, -999.000,  -999.00, -999.00,9, -999.00,  -999.0,9,  -999.0,  25.1211,2
49NZ200107_1,       P17N,      51,          1,         32,         32,2,20010814,       0119,    42.6380,  -137.5338,       4148,   101.8,   8.8330,2,  32.6132,2,  32.6351,2,   258.77,1,  269.04,2,    7.85,2,    9.73,2,    0.32,2,    0.86,2,-999.000,9,-999.000,9,-999.000,9,  -999.0,9,  -999.0,9, -999.000,  -999.00, -999.00,9, -999.00,  -999.0,9,  -999.0,  25.2770,2
49NZ200107_1,       P17N,      51,          1,         31,         31,3,20010814,       0119,    42.6380,  -137.5338,       4148,   151.3,   7.8347,2,  33.3138,2,  33.3248,2,   233.63,1,  245.43,2,   15.09,2,   14.77,2,    0.01,2,    1.14,2,-999.000,9,-999.000,9,-999.000,9,  -999.0,9,  -999.0,9, -999.000,  -999.00, -999.00,9, -999.00,  -999.0,9,  -999.0,  25.9759,2
49NZ200107_1,       P17N,      51,          1,         30,         30,2,20010814,       0119,    42.6380,  -137.5338,       4148,   201.9,   8.0346,2,  33.7559,2,  33.7617,2,   211.40,1,  221.25,2,   20.37,2,   17.44,2,    0.01,2,    1.25,2,-999.000,9,-999.000,9,-999.000,9,  -999.0,9,  -999.0,9, -999.000,  -999.00, -999.00,9, -999.00,  -999.0,9,  -999.0,  26.2947,2
49NZ200107_1,       P17N,      51,          1,         29,         29,2,20010814,       0119,    42.6380,  -137.5338,       4148,   252.2,   7.8089,2,  33.9788,2,  33.9785,2,   169.98,1,  175.61,2,   32.18,2,   23.66,2,    0.01,2,    1.63,2,-999.000,9,-999.000,9,-999.000,9,  -999.0,9,  -999.0,9, -999.000,  -999.00, -999.00,9, -999.00,  -999.0,9,  -999.0,  26.5035,2
49NZ200107_1,       P17N,      51,          1,         28,         28,2,20010814,       0119,    42.6380,  -137.5338,       4148,   303.1,   6.9373,2,  33.9644,2,  33.9633,2,   144.96,1,  149.77,2,   42.48,2,   28.01,2,    0.01,2,    1.92,2,-999.000,9,-999.000,9,-999.000,9,  -999.0,9,  -999.0,9, -999.000,  -999.00, -999.00,9, -999.00,  -999.0,9,  -999.0,  26.6153,2
49NZ200107_1,       P17N,      51,          1,         27,         27,2,20010814,       0119,    42.6380,  -137.5338,       4148,   353.4,   6.1307,2,  33.9567,2,  33.9559,2,   120.66,1,  124.39,2,   52.23,2,   31.90,2,    0.01,2,    2.21,2,-999.000,9,-999.000,9,-999.000,9,  -999.0,9,  -999.0,9, -999.000,  -999.00, -999.00,9, -999.00,  -999.0,9,  -999.0,  26.7156,2
49NZ200107_1,       P17N,      51,          1,         26,         26,2,20010814,       0119,    42.6380,  -137.5338,       4148,   404.2,   5.5461,2,  33.9615,2,  33.9601,2,    99.97,1,  101.99,2,   60.29,2,   35.10,2,    0.01,2,    2.45,2,-999.000,9,-999.000,9,-999.000,9,  -999.0,9,  -999.0,9, -999.000,  -999.00, -999.00,9, -999.00,  -999.0,9,  -999.0,  26.7919,2
49NZ200107_1,       P17N,      51,          1,         25,         25,2,20010814,       0119,    42.6380,  -137.5338,       4148,   505.0,   4.8232,2,  33.9995,2,  34.0016,2,    73.61,1,   72.50,2,   74.56,2,   38.84,2,    0.01,2,    2.72,2,-999.000,9,-999.000,9,-999.000,9,  -999.0,9,  -999.0,9, -999.000,  -999.00, -999.00,9, -999.00,  -999.0,9,  -999.0,  26.9064,2
49NZ200107_1,       P17N,      51,          1,         24,         24,2,20010814,       0119,    42.6380,  -137.5338,       4148,   605.9,   4.3087,2,  34.0869,2,  34.0905,2,    43.22,1,   37.63,2,   90.01,2,   42.24,2,    0.01,2,    2.94,2,-999.000,9,-999.000,9,-999.000,9,  -999.0,9,  -999.0,9, -999.000,  -999.00, -999.00,9, -999.00,  -999.0,9,  -999.0,  27.0324,2
49NZ200107_1,       P17N,      51,          1,         23,         23,2,20010814,       0119,    42.6380,  -137.5338,       4148,   706.9,   3.9356,2,  34.1664,2,  34.1688,2,    29.34,1,   23.39,2,  103.03,2,   43.73,2,    0.01,2,    3.12,2,-999.000,9,-999.000,9,-999.000,9,  -999.0,9,  -999.0,9, -999.000,  -999.00, -999.00,9, -999.00,  -999.0,9,  -999.0,  27.1348,2
49NZ200107_1,       P17N,      51,          1,         22,         22,2,20010814,       0119,    42.6380,  -137.5338,       4148,   808.3,   3.7300,2,  34.2378,2,  34.2418,2,    18.90,1,   12.08,2,  111.74,2,   44.65,2,    0.01,2,    3.16,2,-999.000,9,-999.000,9,-999.000,9,  -999.0,9,  -999.0,9, -999.000,  -999.00, -999.00,9, -999.00,  -999.0,9,  -999.0,  27.2129,2
49NZ200107_1,       P17N,      51,          1,         21,         21,2,20010814,       0119,    42.6380,  -137.5338,       4148,   909.4,   3.5605,2,  34.3155,2,  34.3179,2,    15.31,1,    7.65,2,  119.23,2,   45.09,2,    0.00,2,    3.21,2,-999.000,9,-999.000,9,-999.000,9,  -999.0,9,  -999.0,9, -999.000,  -999.00, -999.00,9, -999.00,  -999.0,9,  -999.0,  27.2921,2
49NZ200107_1,       P17N,      51,          1,         20,         20,2,20010814,       0119,    42.6380,  -137.5338,       4148,  1010.9,   3.3983,2,  34.3766,2,  34.3785,2,    15.83,1,    8.18,2,  125.43,2,   45.23,2,    0.01,2,    3.24,2,-999.000,9,-999.000,9,-999.000,9,  -999.0,9,  -999.0,9, -999.000,  -999.00, -999.00,9, -999.00,  -999.0,9,  -999.0,  27.3571,2
49NZ200107_1,       P17N,      51,          1,         19,         19,2,20010814,       0119,    42.6380,  -137.5338,       4148,  1112.2,   3.1935,2,  34.4219,2,  34.4216,2,    17.93,1,   10.92,2,  131.92,2,   45.03,2,    0.01,2,    3.21,2,-999.000,9,-999.000,9,-999.000,9,  -999.0,9,  -999.0,9, -999.000,  -999.00, -999.00,9, -999.00,  -999.0,9,  -999.0,  27.4130,2
49NZ200107_1,       P17N,      51,          1,         18,         18,2,20010814,       0119,    42.6380,  -137.5338,       4148,  1213.5,   2.9765,2,  34.4575,2,  34.4576,2,    21.42,1,   13.69,2,  138.40,2,   45.01,2,    0.00,2,    3.19,2,-999.000,9,-999.000,9,-999.000,9,  -999.0,9,  -999.0,9, -999.000,  -999.00, -999.00,9, -999.00,  -999.0,9,  -999.0,  27.4618,2
49NZ200107_1,       P17N,      51,          1,         17,         17,3,20010814,       0119,    42.6380,  -137.5338,       4148,  1314.8,   2.7947,2,  34.4804,2,  34.4788,2,    24.37,1,   17.23,2,  143.43,2,   45.09,2,    0.00,2,    3.19,2,-999.000,9,-999.000,9,-999.000,9,  -999.0,9,  -999.0,9, -999.000,  -999.00, -999.00,9, -999.00,  -999.0,9,  -999.0,  27.4968,2
49NZ200107_1,       P17N,      51,          1,         16,         16,3,20010814,       0119,    42.6380,  -137.5338,       4148,  1416.4,   2.6086,2,  34.5037,2,  34.5030,2,    28.96,1,   21.59,2,  148.41,2,   44.78,2,    0.00,2,    3.17,2,-999.000,9,-999.000,9,-999.000,9,  -999.0,9,  -999.0,9, -999.000,  -999.00, -999.00,9, -999.00,  -999.0,9,  -999.0,  27.5320,2
49NZ200107_1,       P17N,      51,          1,         15,         15,2,20010814,       0119,    42.6380,  -137.5338,       4148,  1517.5,   2.4573,2,  34.5251,2,  34.5249,2,    34.98,1,   28.12,2,  151.99,2,   44.37,2,    0.01,2,    3.13,2,-999.000,9,-999.000,9,-999.000,9,  -999.0,9,  -999.0,9, -999.000,  -999.00, -999.00,9, -999.00,  -999.0,9,  -999.0,  27.5624,2
49NZ200107_1,       P17N,      51,          1,         14,         14,2,20010814,       0119,    42.6380,  -137.5338,       4148,  1619.4,   2.3047,2,  34.5446,2,  34.5446,2,    41.00,1,   34.33,2,  155.95,2,   44.22,2,    0.00,2,    3.10,2,-999.000,9,-999.000,9,-999.000,9,  -999.0,9,  -999.0,9, -999.000,  -999.00, -999.00,9, -999.00,  -999.0,9,  -999.0,  27.5911,2
49NZ200107_1,       P17N,      51,          1,         13,         13,2,20010814,       0119,    42.6380,  -137.5338,       4148,  1720.9,   2.1675,2,  34.5649,2,  34.5650,2,    48.54,1,   42.13,2,  158.50,2,   43.75,2,    0.00,2,    3.07,2,-999.000,9,-999.000,9,-999.000,9,  -999.0,9,  -999.0,9, -999.000,  -999.00, -999.00,9, -999.00,  -999.0,9,  -999.0,  27.6190,2
49NZ200107_1,       P17N,      51,          1,         12,         12,2,20010814,       0119,    42.6380,  -137.5338,       4148,  1822.4,   2.0699,2,  34.5819,2,  34.5818,2,    55.55,1,   50.15,2,  160.70,2,   43.22,2,    0.00,2,    3.05,2,-999.000,9,-999.000,9,-999.000,9,  -999.0,9,  -999.0,9, -999.000,  -999.00, -999.00,9, -999.00,  -999.0,9,  -999.0,  27.6408,2
49NZ200107_1,       P17N,      51,          1,         11,         11,2,20010814,       0119,    42.6380,  -137.5338,       4148,  2026.3,   1.9338,2,  34.6053,2,  34.6057,2,    67.79,1,   63.10,2,  162.38,2,   42.36,2,    0.00,2,    2.95,2,-999.000,9,-999.000,9,-999.000,9,  -999.0,9,  -999.0,9, -999.000,  -999.00, -999.00,9, -999.00,  -999.0,9,  -999.0,  27.6713,2
49NZ200107_1,       P17N,      51,          1,         10,         10,2,20010814,       0119,    42.6380,  -137.5338,       4148,  2229.8,   1.8460,2,  34.6203,2,  34.6202,2,    77.06,1,   72.97,2,  163.49,2,   41.68,2,    0.00,2,    2.93,2,-999.000,9,-999.000,9,-999.000,9,  -999.0,9,  -999.0,9, -999.000,  -999.00, -999.00,9, -999.00,  -999.0,9,  -999.0,  27.6912,2
49NZ200107_1,       P17N,      51,          1,          9,          9,2,20010814,       0119,    42.6380,  -137.5338,       4148,  2431.1,   1.7449,2,  34.6348,2,  34.6348,2,    88.30,1,   84.74,2,  162.94,2,   40.96,2,    0.00,2,    2.87,2,-999.000,9,-999.000,9,-999.000,9,  -999.0,9,  -999.0,9, -999.000,  -999.00, -999.00,9, -999.00,  -999.0,9,  -999.0,  27.7116,2
49NZ200107_1,       P17N,      51,          1,          8,          8,2,20010814,       0119,    42.6380,  -137.5338,       4148,  2637.3,   1.6687,2,  34.6452,2,  34.6454,2,    97.95,1,   95.04,2,  161.78,2,   40.33,2,    0.00,2,    2.80,2,-999.000,9,-999.000,9,-999.000,9,  -999.0,9,  -999.0,9, -999.000,  -999.00, -999.00,9, -999.00,  -999.0,9,  -999.0,  27.7267,2
49NZ200107_1,       P17N,      51,          1,          7,          7,2,20010814,       0119,    42.6380,  -137.5338,       4148,  2841.9,   1.6020,2,  34.6547,2,  34.6540,2,   107.21,1,  104.90,2,  161.82,2,   39.76,2,    0.00,2,    2.76,2,-999.000,9,-999.000,9,-999.000,9,  -999.0,9,  -999.0,9, -999.000,  -999.00, -999.00,9, -999.00,  -999.0,9,  -999.0,  27.7404,2
49NZ200107_1,       P17N,      51,          1,          6,          6,2,20010814,       0119,    42.6380,  -137.5338,       4148,  3046.2,   1.5722,2,  34.6604,2,  34.6604,2,   113.47,1,  111.14,2,  161.91,2,   39.32,2,    0.00,2,    2.74,2,-999.000,9,-999.000,9,-999.000,9,  -999.0,9,  -999.0,9, -999.000,  -999.00, -999.00,9, -999.00,  -999.0,9,  -999.0,  27.7484,2
49NZ200107_1,       P17N,      51,          1,          5,          5,2,20010814,       0119,    42.6380,  -137.5338,       4148,  3302.0,   1.5514,2,  34.6658,2,  34.6658,2,   119.71,1,  116.47,2,  161.64,2,   38.96,2,    0.00,2,    2.70,2,-999.000,9,-999.000,9,-999.000,9,  -999.0,9,  -999.0,9, -999.000,  -999.00, -999.00,9, -999.00,  -999.0,9,  -999.0,  27.7560,2
49NZ200107_1,       P17N,      51,          1,          4,          4,2,20010814,       0119,    42.6380,  -137.5338,       4148,  3558.2,   1.5353,2,  34.6716,2,  34.6715,2,   126.02,1,  122.57,2,  162.50,2,   38.60,2,   -0.01,2,    2.66,2,-999.000,9,-999.000,9,-999.000,9,  -999.0,9,  -999.0,9, -999.000,  -999.00, -999.00,9, -999.00,  -999.0,9,  -999.0,  27.7636,2
49NZ200107_1,       P17N,      51,          1,          3,          3,2,20010814,       0119,    42.6380,  -137.5338,       4148,  3814.7,   1.5324,2,  34.6757,2,  34.6756,2,   131.20,1,  127.10,2,  163.33,2,   38.29,2,    0.01,2,    2.66,2,-999.000,9,-999.000,9,-999.000,9,  -999.0,9,  -999.0,9, -999.000,  -999.00, -999.00,9, -999.00,  -999.0,9,  -999.0,  27.7690,2
49NZ200107_1,       P17N,      51,          1,          2,          2,2,20010814,       0119,    42.6380,  -137.5338,       4148,  4071.1,   1.5416,2,  34.6787,2,  34.6789,2,   135.07,1,  129.61,2,  163.33,2,   38.11,2,    0.01,2,    2.61,2,-999.000,9,-999.000,9,-999.000,9,  -999.0,9,  -999.0,9, -999.000,  -999.00, -999.00,9, -999.00,  -999.0,9,  -999.0,  27.7727,2
49NZ200107_1,       P17N,      51,          1,          1,          1,3,20010814,       0119,    42.6380,  -137.5338,       4148,  4203.2,   1.5547,2,  34.6797,2,  34.6798,2,   135.95,1,  130.05,2,  165.16,2,   38.15,2,    0.01,2,    2.63,2,-999.000,9,-999.000,9,-999.000,9,  -999.0,9,  -999.0,9, -999.000,  -999.00, -999.00,9, -999.00,  -999.0,9,  -999.0,  27.7736,2