BOTTLE,20220817CCHSIOAMB
EXPOCODE,SECT_ID,STNNBR,CASTNO,SAMPNO,BTLNBR,BTLNBR_FLAG_W,DATE,TIME,LATITUDE,LONGITUDE,DEPTH,CTDPRS,CTDTMP,CTDTMP_FLAG_W,CTDSAL,CTDSAL_FLAG_W,SALNTY,SALNTY_FLAG_W,CTDOXY,CTDOXY_FLAG_W,OXYGEN,OXYGEN_FLAG_W,SILCAT,SILCAT_FLAG_W,NITRAT,NITRAT_FLAG_W,NITRIT,NITRIT_FLAG_W,PHSPHT,PHSPHT_FLAG_W,CFC-11,CFC-11_FLAG_W,CFC-12,CFC-12_FLAG_W,CFC113,CFC113_FLAG_W,TCARBN,TCARBN_FLAG_W,ALKALI,ALKALI_FLAG_W,PH_TOT,PH_TMP,DELC13,DELC13_FLAG_W,C13ERR,DELC14,DELC14_FLAG_W,C14ERR,THETA,THETA_FLAG_W
,,,,,,,,,,,METERS,DBAR,ITS-90,,PSS-78,,PSS-78,,UMOL/KG,,UMOL/KG,,UMOL/KG,,UMOL/KG,,UMOL/KG,,UMOL/KG,,PMOL/KG,,PMOL/KG,,PMOL/KG,,UMOL/KG,,UMOL/KG,,,DEG C,/MILLE,,/MILLE,/MILLE,,/MILLE,DEG C,
49NZ200107_1,       P17C,      24,          1,          0,        -99,9,20010807,       0634,    31.0107,  -135.0015,       4658,     4.5,-999.0000,9,-999.0000,9,  34.4965,2,  -999.00,9,  226.72,2,    2.04,2,    0.09,2,    0.02,2,    0.11,2,-999.000,1,-999.000,1,-999.000,1,  2020.7,2,  2274.4,2,    7.998,    25.00, -999.00,9, -999.00,  -999.0,9,  -999.0,-999.0000,9
49NZ200107_1,       P17C,      24,          1,         36,         36,2,20010807,       0634,    31.0107,  -135.0015,       4658,    11.4,  20.7764,2,  34.4497,2,  34.4489,2,   220.91,1,  230.78,2,    2.44,2,    0.05,2,    0.00,2,    0.08,2,-999.000,1,-999.000,1,-999.000,1,  2020.3,2,  2280.7,2,    7.997,    25.00,    1.49,2,    0.00,    59.3,2,     3.9,  24.1360,2
49NZ200107_1,       P17C,      24,          1,         35,         35,2,20010807,       0634,    31.0107,  -135.0015,       4658,    24.8,  20.6173,2,  34.4450,2,  34.4285,2,   221.72,1,  236.76,2,    2.33,2,    0.00,2,    0.01,2,    0.07,2,-999.000,1,-999.000,1,-999.000,1,  2019.5,2,  2277.1,2,    7.996,    25.00,    1.49,2,    0.00,    57.4,2,     3.8,  24.1758,2
49NZ200107_1,       P17C,      24,          1,         34,         34,2,20010807,       0634,    31.0107,  -135.0015,       4658,    51.4,  17.8250,2,  34.3214,2,  34.3392,2,   241.93,1,  251.70,2,    2.61,2,    0.00,2,    0.01,2,    0.06,2,-999.000,1,-999.000,1,-999.000,1,  2010.7,2,  2261.5,2,    7.995,    25.00,    1.42,2,    0.00,    67.1,2,     4.1,  24.7973,2
49NZ200107_1,       P17C,      24,          1,         33,         33,2,20010807,       0634,    31.0107,  -135.0015,       4658,    75.5,  17.6699,2,  34.4251,2,  34.4323,2,   237.87,1,  248.64,2,    2.65,2,    0.00,2,    0.01,2,    0.05,2,-999.000,1,-999.000,1,-999.000,1,  2013.9,2,  2264.7,2,    7.992,    25.00,    1.38,2,    0.00,    49.0,3,     3.8,  24.9155,2
49NZ200107_1,       P17C,      24,          1,         32,         32,2,20010807,       0634,    31.0107,  -135.0015,       4658,   102.4,  17.4638,2,  34.5365,2,  34.5404,2,   231.06,1,  241.09,2,    2.63,2,    0.00,2,    0.00,2,    0.07,2,-999.000,1,-999.000,1,-999.000,1,  2022.2,2,  2271.6,6,    7.988,    25.00,    1.26,2,    0.00,    74.4,2,     4.1,  25.0517,2
49NZ200107_1,       P17C,      24,          1,         31,         31,2,20010807,       0634,    31.0107,  -135.0015,       4658,   152.0,  14.3702,2,  34.1713,2,  34.1369,2,   221.56,1,  230.15,2,    4.47,2,    3.05,2,    0.03,2,    0.32,2,-999.000,1,-999.000,1,-999.000,1,  2040.8,2,  2245.9,2,    7.909,    25.00,    0.93,2,    0.00,    65.8,2,     6.3,  25.4734,2
49NZ200107_1,       P17C,      24,          1,         30,         30,2,20010807,       0634,    31.0107,  -135.0015,       4658,   202.6,  11.4040,2,  33.9764,2,  33.9779,2,   218.85,1,  227.44,2,    8.30,2,    8.48,2,    0.02,2,    0.65,2,-999.000,1,-999.000,1,-999.000,1,  2066.3,6,  2235.1,2,    7.838,    25.00,    0.73,2,    0.00,    62.2,2,     3.8,  25.9098,2
49NZ200107_1,       P17C,      24,          1,         29,         29,2,20010807,       0634,    31.0107,  -135.0015,       4658,   252.3,  10.4157,2,  34.0269,2,  34.0269,2,   218.27,1,  227.36,2,   11.35,2,   11.24,2,    0.01,2,    0.80,2,-999.000,1,-999.000,1,-999.000,1,  2082.5,2,  2241.1,2,    7.811,    25.00,    0.56,2,    0.00,    68.6,2,     3.8,  26.1260,2
49NZ200107_1,       P17C,      24,          1,         28,         28,2,20010807,       0634,    31.0107,  -135.0015,       4658,   303.4,   9.7640,2,  34.0911,2,  34.0916,2,   201.94,1,  212.08,2,   16.90,2,   15.24,2,    0.01,2,    1.04,2,-999.000,1,-999.000,1,-999.000,1,  2107.7,2,  2249.0,6,    7.773,    25.00,    0.32,2,    0.00,    63.2,2,     3.6,  26.2876,2
49NZ200107_1,       P17C,      24,          1,         27,         27,2,20010807,       0634,    31.0107,  -135.0015,       4658,   352.9,   8.6323,2,  34.0476,2,  34.0466,2,   175.37,1,  182.65,2,   25.74,2,   21.06,2,    0.00,2,    1.43,2,-999.000,1,-999.000,1,-999.000,1,  2144.5,2,  2256.6,2,    7.695,    25.00,    0.18,2,    0.00,    35.2,2,     3.7,  26.4358,2
49NZ200107_1,       P17C,      24,          1,         26,         26,2,20010807,       0634,    31.0107,  -135.0015,       4658,   404.1,   7.8262,2,  34.0261,2,  34.0235,2,   153.42,1,  157.89,2,   33.86,2,   25.25,2,    0.01,2,    1.72,2,-999.000,1,-999.000,1,-999.000,1,  2174.9,6,  2261.7,2,    7.626,    25.00,    0.07,2,    0.00,     1.1,2,     3.7,  26.5405,2
49NZ200107_1,       P17C,      24,          1,         25,         25,2,20010807,       0634,    31.0107,  -135.0015,       4658,   505.4,   6.1133,2,  33.9932,2,  33.9936,2,    98.08,1,  102.69,2,   52.37,2,   33.64,2,    0.00,2,    2.34,2,-999.000,1,-999.000,1,-999.000,1,  2238.4,2,  2273.8,2,    7.482,    25.00,   -0.23,2,    0.00,   -58.5,2,     3.4,  26.7484,2
49NZ200107_1,       P17C,      24,          1,         24,         24,2,20010807,       0634,    31.0107,  -135.0015,       4658,   605.5,   5.1258,2,  34.0534,2,  34.0651,2,    53.73,1,   52.88,2,   72.51,2,   39.64,2,    0.01,2,    2.79,2,-999.000,1,-999.000,1,-999.000,1,  2293.1,2,  2293.0,6,    7.378,    25.00,   -0.44,2,    0.01,  -117.8,2,     3.4,  26.9159,2
49NZ200107_1,       P17C,      24,          1,         23,         23,2,20010807,       0634,    31.0107,  -135.0015,       4658,   706.7,   4.6594,2,  34.1865,2,  34.1873,2,    27.24,1,   22.56,2,   87.25,2,   42.91,2,    0.01,2,    3.07,2,-999.000,1,-999.000,1,-999.000,1,  2331.6,2,  2322.6,2,    7.333,    25.00,   -0.56,2,    0.00,  -155.4,2,     3.5,  27.0747,2
49NZ200107_1,       P17C,      24,          1,         22,         22,2,20010807,       0634,    31.0107,  -135.0015,       4658,   808.8,   4.2163,2,  34.2886,2,  34.2888,2,    18.72,1,   12.66,2,  100.26,2,   44.26,2,    0.00,2,    3.19,2,-999.000,1,-999.000,1,-999.000,1,  2351.8,6,  2335.4,2,    7.326,    25.00,   -0.58,2,    0.01,  -192.2,2,     3.5,  27.2041,2
49NZ200107_1,       P17C,      24,          1,         21,         21,2,20010807,       0634,    31.0107,  -135.0015,       4658,   909.5,   3.9493,2,  34.3709,2,  34.3708,2,    20.27,1,   13.69,2,  108.12,2,   44.55,2,    0.01,2,    3.22,2,-999.000,1,-999.000,1,-999.000,1,  2364.8,2,  2354.2,2,    7.337,    25.00,   -0.56,2,    0.00,  -198.9,2,     3.6,  27.2978,2
49NZ200107_1,       P17C,      24,          1,         20,         20,2,20010807,       0634,    31.0107,  -135.0015,       4658,  1009.9,   3.6681,2,  34.4306,2,  34.4311,2,    25.62,1,   19.61,2,  114.68,2,   44.53,2,    0.00,2,    3.19,2,-999.000,1,-999.000,1,-999.000,1,  2370.1,2,  2363.8,6,    7.354,    25.00,   -0.53,2,    0.00,  -210.1,2,     3.4,  27.3742,2
49NZ200107_1,       P17C,      24,          1,         19,         19,2,20010807,       0634,    31.0107,  -135.0015,       4658,  1110.9,   3.4560,2,  34.4720,2,  34.4714,2,    32.39,1,   27.60,2,  121.45,2,   44.19,2,    0.00,2,    3.14,2,-999.000,1,-999.000,1,-999.000,1,  2371.9,2,  2370.2,2,    7.369,    25.00,   -0.47,2,    0.00,  -214.8,2,     3.4,  27.4284,2
49NZ200107_1,       P17C,      24,          1,         18,         18,2,20010807,       0634,    31.0107,  -135.0015,       4658,  1212.5,   3.2539,2,  34.5008,2,  34.5005,2,    39.34,1,   33.83,2,  125.55,2,   43.84,2,    0.01,2,    3.12,2,-999.000,1,-999.000,1,-999.000,1,  2373.9,6,  2376.4,2,    7.387,    25.00,   -0.42,2,    0.00,  -222.9,2,     3.5,  27.4711,2
49NZ200107_1,       P17C,      24,          1,         17,         17,2,20010807,       0634,    31.0107,  -135.0015,       4658,  1313.9,   3.0471,2,  34.5257,2,  34.5253,2,    45.43,1,   40.52,2,  131.14,2,   43.67,2,    0.01,2,    3.11,2,-999.000,1,-999.000,1,-999.000,1,  2375.2,2,  2387.1,2,    7.393,    25.00,   -0.41,2,    0.00,  -236.8,2,     3.5,  27.5106,2
49NZ200107_1,       P17C,      24,          1,         16,         16,2,20010807,       0634,    31.0107,  -135.0015,       4658,  1414.9,   2.8647,2,  34.5440,2,  34.5457,2,    50.86,1,   46.89,2,  136.04,2,   43.32,2,    0.00,2,    3.07,2,-999.000,1,-999.000,1,-999.000,1,  2376.0,2,  2390.1,2,    7.397,    25.00,   -0.37,2,    0.00,  -232.8,2,     3.4,  27.5422,2
49NZ200107_1,       P17C,      24,          1,         15,         15,2,20010807,       0634,    31.0107,  -135.0015,       4658,  1618.6,   2.5328,2,  34.5754,2,  34.5755,2,    61.09,1,   58.01,2,  143.96,2,   42.71,2,    0.01,2,    3.03,2,-999.000,1,-999.000,1,-999.000,1,  2378.2,2,  2399.3,2,    7.419,    25.00,   -0.36,2,    0.00,  -246.3,2,     3.9,  27.5971,2
49NZ200107_1,       P17C,      24,          1,         14,         14,2,20010807,       0634,    31.0107,  -135.0015,       4658,  1821.1,   2.2769,2,  34.5968,2,  34.5968,2,    69.56,1,   67.06,2,  150.61,2,   42.19,2,    0.01,2,    2.99,2,-999.000,1,-999.000,1,-999.000,1,  2378.8,2,  2405.3,2,    7.437,    25.00,   -0.30,2,    0.00,  -252.2,2,     3.3,  27.6365,2
49NZ200107_1,       P17C,      24,          1,         13,         13,2,20010807,       0634,    31.0107,  -135.0015,       4658,  2024.1,   2.0491,2,  34.6162,2,  34.6168,2,    78.29,1,   75.95,2,  155.89,2,   41.54,2,    0.01,2,    2.94,2,-999.000,1,-999.000,1,-999.000,1,  2378.6,2,  2412.1,2,    7.452,    25.00,   -0.31,2,    0.01,  -247.1,2,     3.4,  27.6712,2
49NZ200107_1,       P17C,      24,          1,         12,         12,2,20010807,       0634,    31.0107,  -135.0015,       4658,  2228.5,   1.8814,2,  34.6330,2,  34.6330,2,    88.13,1,   86.85,2,  158.12,2,   40.91,2,    0.01,2,    2.89,2,-999.000,1,-999.000,1,-999.000,1,  2375.6,2,  2415.8,2,    7.471,    25.00,   -0.23,2,    0.00,  -251.4,2,     4.5,  27.6987,2
49NZ200107_1,       P17C,      24,          1,         11,         11,2,20010807,       0634,    31.0107,  -135.0015,       4658,  2431.4,   1.7746,2,  34.6441,2,  34.6441,2,    95.95,1,   94.80,2,  158.53,2,   40.33,2,    0.01,2,    2.83,2,-999.000,9,-999.000,9,-999.000,9,  -999.0,9,  -999.0,9, -999.000,  -999.00, -999.00,9, -999.00,  -999.0,9,  -999.0,  27.7169,2
49NZ200107_1,       P17C,      24,          1,         10,         10,2,20010807,       0634,    31.0107,  -135.0015,       4658,  2635.3,   1.6866,2,  34.6536,2,  34.6537,2,   104.38,1,  104.53,2,  158.67,2,   39.76,2,    0.00,2,    2.79,2,-999.000,1,-999.000,1,-999.000,1,  2367.1,2,  2418.8,2,    7.509,    25.00,   -0.06,3,    0.00,  -242.7,2,     3.4,  27.7322,2
49NZ200107_1,       P17C,      24,          1,          9,          9,2,20010807,       0634,    31.0107,  -135.0015,       4658,  2840.8,   1.6170,2,  34.6606,2,  34.6603,2,   110.87,1,  110.74,2,  159.82,2,   39.44,2,    0.01,2,    2.76,2,-999.000,9,-999.000,9,-999.000,9,  -999.0,9,  -999.0,9, -999.000,  -999.00, -999.00,9, -999.00,  -999.0,9,  -999.0,  27.7441,2
49NZ200107_1,       P17C,      24,          1,          8,          8,2,20010807,       0634,    31.0107,  -135.0015,       4658,  3042.2,   1.5599,2,  34.6668,2,  34.6663,2,   117.87,1,  116.78,2,  159.26,2,   39.01,2,    0.01,2,    2.74,2,-999.000,1,-999.000,1,-999.000,1,  2357.8,6,  2426.1,2,    7.533,    25.00,   -0.06,2,    0.00,  -236.1,2,     3.5,  27.7545,2
49NZ200107_1,       P17C,      24,          1,          7,          7,2,20010807,       0634,    31.0107,  -135.0015,       4658,  3298.6,   1.5074,2,  34.6739,2,  34.6737,2,   126.61,1,  127.04,2,  157.29,2,   38.33,2,    0.01,2,    2.68,2,-999.000,9,-999.000,9,-999.000,9,  -999.0,9,  -999.0,9, -999.000,  -999.00, -999.00,9, -999.00,  -999.0,9,  -999.0,  27.7655,2
49NZ200107_1,       P17C,      24,          1,          6,          6,2,20010807,       0634,    31.0107,  -135.0015,       4658,  3555.0,   1.4877,2,  34.6785,2,  34.6785,2,   133.29,1,  133.36,2,  155.84,2,   37.93,2,    0.01,2,    2.65,2,-999.000,1,-999.000,1,-999.000,1,  2351.5,2,  2422.9,6,    7.564,    25.00,    0.05,2,    0.00,  -234.4,2,     2.7,  27.7723,2
49NZ200107_1,       P17C,      24,          1,          5,          5,2,20010807,       0634,    31.0107,  -135.0015,       4658,  3810.9,   1.4781,2,  34.6823,2,  34.6816,2,   139.85,1,  139.33,2,  152.65,2,   37.58,2,    0.00,2,    2.61,2,-999.000,9,-999.000,9,-999.000,9,  -999.0,9,  -999.0,9, -999.000,  -999.00, -999.00,9, -999.00,  -999.0,9,  -999.0,  27.7779,2
49NZ200107_1,       P17C,      24,          1,          4,          4,2,20010807,       0634,    31.0107,  -135.0015,       4658,  4067.2,   1.4918,2,  34.6840,2,  34.6840,2,   143.54,1,  142.23,2,  150.90,2,   37.33,2,    0.02,2,    2.58,2,-999.000,1,-999.000,1,-999.000,1,  2343.5,2,  2421.1,6,    7.578,    25.00,    0.06,2,    0.00,  -232.4,2,     2.7,  27.7802,2
49NZ200107_1,       P17C,      24,          1,          3,          3,2,20010807,       0634,    31.0107,  -135.0015,       4658,  4324.2,   1.5124,2,  34.6848,2,  34.6850,2,   146.58,1,  144.26,2,  149.66,2,   37.21,2,    0.01,2,    2.58,2,-999.000,9,-999.000,9,-999.000,9,  -999.0,9,  -999.0,9, -999.000,  -999.00, -999.00,9, -999.00,  -999.0,9,  -999.0,  27.7815,2
49NZ200107_1,       P17C,      24,          1,          2,          2,3,20010807,       0634,    31.0107,  -135.0015,       4658,  4581.6,   1.5379,2,  34.6852,2,  34.6851,2,   149.18,1,  144.88,2,  151.21,2,   36.94,2,    0.01,2,    2.53,2,-999.000,1,-999.000,1,-999.000,1,  2341.3,2,  2428.8,2,    7.585,    25.00,    0.09,2,    0.00,  -227.8,2,     2.7,  27.7821,2
49NZ200107_1,       P17C,      24,          1,          1,          1,2,20010807,       0634,    31.0107,  -135.0015,       4658,  4706.0,   1.5524,2,  34.6852,2,  34.6858,2,   150.55,1,  145.15,2,  150.63,2,   37.00,2,    0.01,2,    2.54,2,-999.000,1,-999.000,1,-999.000,1,  2340.6,2,  2424.2,2,    7.589,    25.00,    0.10,2,    0.00,  -231.2,2,     2.7,  27.7822,2