BOTTLE,20220817CCHSIOAMB
EXPOCODE,SECT_ID,STNNBR,CASTNO,SAMPNO,BTLNBR,BTLNBR_FLAG_W,DATE,TIME,LATITUDE,LONGITUDE,DEPTH,CTDPRS,CTDTMP,CTDTMP_FLAG_W,CTDSAL,CTDSAL_FLAG_W,SALNTY,SALNTY_FLAG_W,CTDOXY,CTDOXY_FLAG_W,OXYGEN,OXYGEN_FLAG_W,SILCAT,SILCAT_FLAG_W,NITRAT,NITRAT_FLAG_W,NITRIT,NITRIT_FLAG_W,PHSPHT,PHSPHT_FLAG_W,CFC-11,CFC-11_FLAG_W,CFC-12,CFC-12_FLAG_W,CFC113,CFC113_FLAG_W,TCARBN,TCARBN_FLAG_W,ALKALI,ALKALI_FLAG_W,PH_TOT,PH_TMP,DELC13,DELC13_FLAG_W,C13ERR,DELC14,DELC14_FLAG_W,C14ERR,THETA,THETA_FLAG_W
,,,,,,,,,,,METERS,DBAR,ITS-90,,PSS-78,,PSS-78,,UMOL/KG,,UMOL/KG,,UMOL/KG,,UMOL/KG,,UMOL/KG,,UMOL/KG,,PMOL/KG,,PMOL/KG,,PMOL/KG,,UMOL/KG,,UMOL/KG,,,DEG C,/MILLE,,/MILLE,/MILLE,,/MILLE,DEG C,
49NZ200107_1,       P17C,      22,          1,          0,        -99,9,20010807,       1655,    32.0007,  -134.9970,       4959,     4.5,-999.0000,9,-999.0000,9,  33.9736,2,  -999.00,9,  227.94,2,    2.28,2,    0.22,2,    0.00,2,    0.18,2,-999.000,1,-999.000,1,-999.000,1,  2002.4,2,  2251.9,2,    7.975,    25.00, -999.00,9, -999.00,  -999.0,9,  -999.0,-999.0000,9
49NZ200107_1,       P17C,      22,          1,         36,         36,2,20010807,       1655,    32.0007,  -134.9970,       4959,    11.0,  20.7201,2,  33.9536,2,  33.9551,2,   220.69,1,  231.29,2,    2.40,2,    0.15,2,    0.00,2,    0.15,2,-999.000,1,-999.000,1,-999.000,1,  2003.9,2,  2245.2,2,    7.979,    25.00, -999.00,9, -999.00,  -999.0,9,  -999.0,  23.7735,2
49NZ200107_1,       P17C,      22,          1,         35,         35,2,20010807,       1655,    32.0007,  -134.9970,       4959,    26.1,  20.4713,2,  33.9834,2,  33.9943,2,   221.32,1,  231.65,2,    2.23,2,    0.08,2,   -0.01,2,    0.13,2,-999.000,1,-999.000,1,-999.000,1,  2005.4,2,  2247.7,2,    7.982,    25.00, -999.00,9, -999.00,  -999.0,9,  -999.0,  23.8633,2
49NZ200107_1,       P17C,      22,          1,         34,         34,2,20010807,       1655,    32.0007,  -134.9970,       4959,    51.0,  16.9890,2,  33.7323,2,  33.7289,2,   249.17,1,  260.43,2,    2.28,2,    0.07,2,    0.01,2,    0.15,2,-999.000,1,-999.000,1,-999.000,1,  1996.7,2,  2234.1,2,    7.969,    25.00, -999.00,9, -999.00,  -999.0,9,  -999.0,  24.5460,2
49NZ200107_1,       P17C,      22,          1,         33,         33,2,20010807,       1655,    32.0007,  -134.9970,       4959,    76.6,  16.4100,2,  33.9720,2,  33.9947,2,   244.98,1,  254.70,2,    2.42,2,    0.06,2,    0.00,2,    0.13,2,-999.000,1,-999.000,1,-999.000,1,  2006.7,2,  2245.0,2,    7.971,    25.00, -999.00,9, -999.00,  -999.0,9,  -999.0,  24.8658,2
49NZ200107_1,       P17C,      22,          1,         32,         32,2,20010807,       1655,    32.0007,  -134.9970,       4959,   101.3,  15.9161,2,  34.0685,2,  34.0618,2,   236.13,1,  246.54,2,    2.58,2,    0.07,2,    0.01,2,    0.15,2,-999.000,1,-999.000,1,-999.000,1,  2013.1,2,  2249.3,6,    7.959,    25.00, -999.00,9, -999.00,  -999.0,9,  -999.0,  25.0537,2
49NZ200107_1,       P17C,      22,          1,         31,         31,2,20010807,       1655,    32.0007,  -134.9970,       4959,   152.2,  12.0890,2,  33.7249,2,  33.6993,2,   226.95,1,  236.50,2,    5.43,2,    5.37,2,    0.02,2,    0.54,2,-999.000,1,-999.000,1,-999.000,1,  2045.8,2,  2223.9,2,    7.855,    25.00, -999.00,9, -999.00,  -999.0,9,  -999.0,  25.5857,2
49NZ200107_1,       P17C,      22,          1,         30,         30,2,20010807,       1655,    32.0007,  -134.9970,       4959,   202.0,   9.9558,2,  33.7900,2,  33.8019,2,   220.99,1,  230.88,2,   10.25,2,   10.67,2,    0.00,2,    0.82,2,-999.000,1,-999.000,1,-999.000,1,  2074.0,6,  2230.0,2,    7.799,    25.00, -999.00,9, -999.00,  -999.0,9,  -999.0,  26.0184,2
49NZ200107_1,       P17C,      22,          1,         29,         29,2,20010807,       1655,    32.0007,  -134.9970,       4959,   252.6,   9.3868,2,  33.9845,2,  33.9928,2,   201.08,1,  211.50,2,   17.05,2,   15.56,2,    0.00,2,    1.11,2,-999.000,1,-999.000,1,-999.000,1,  2105.4,2,  2242.7,2,    7.756,    25.00, -999.00,9, -999.00,  -999.0,9,  -999.0,  26.2653,2
49NZ200107_1,       P17C,      22,          1,         28,         28,2,20010807,       1655,    32.0007,  -134.9970,       4959,   303.4,   8.8423,2,  34.0485,2,  34.0482,2,   181.50,1,  190.32,2,   24.00,2,   19.84,2,    0.00,2,    1.36,2,-999.000,1,-999.000,1,-999.000,1,  2132.1,2,  2251.1,2,    7.701,    25.00, -999.00,9, -999.00,  -999.0,9,  -999.0,  26.4031,2
49NZ200107_1,       P17C,      22,          1,         27,         27,2,20010807,       1655,    32.0007,  -134.9970,       4959,   353.6,   7.7831,2,  34.0178,2,  34.0176,2,   150.05,1,  157.46,2,   34.13,2,   25.27,2,   -0.01,2,    1.73,2,-999.000,1,-999.000,1,-999.000,1,  2171.6,2,  2258.9,2,    7.619,    25.00, -999.00,9, -999.00,  -999.0,9,  -999.0,  26.5394,2
49NZ200107_1,       P17C,      22,          1,         26,         26,2,20010807,       1655,    32.0007,  -134.9970,       4959,   403.9,   6.8598,2,  33.9955,2,  33.9942,2,   120.52,1,  125.41,2,   43.52,2,   30.07,2,    0.00,2,    2.08,2,-999.000,1,-999.000,1,-999.000,1,  2207.5,6,  2263.5,2,    7.528,    25.00, -999.00,9, -999.00,  -999.0,9,  -999.0,  26.6516,2
49NZ200107_1,       P17C,      22,          1,         25,         25,2,20010807,       1655,    32.0007,  -134.9970,       4959,   504.7,   5.5645,2,  34.0294,2,  34.0301,2,    67.96,1,   67.77,2,   66.38,2,   37.75,2,    0.00,2,    2.64,2,-999.000,1,-999.000,1,-999.000,1,  2271.8,2,  2283.7,2,    7.393,    25.00, -999.00,9, -999.00,  -999.0,9,  -999.0,  26.8445,2
49NZ200107_1,       P17C,      22,          1,         24,         24,2,20010807,       1655,    32.0007,  -134.9970,       4959,   606.0,   4.9535,2,  34.1032,2,  34.1032,2,    39.47,1,   37.48,2,   81.58,2,   41.27,2,    0.00,2,    2.92,2,-999.000,1,-999.000,1,-999.000,1,  2306.3,2,  2304.2,6,    7.339,    25.00, -999.00,9, -999.00,  -999.0,9,  -999.0,  26.9750,2
49NZ200107_1,       P17C,      22,          1,         23,         23,2,20010807,       1655,    32.0007,  -134.9970,       4959,   707.1,   4.4823,2,  34.2070,2,  34.2089,2,    22.27,1,   17.86,2,   96.31,2,   43.48,2,    0.00,2,    3.10,2,-999.000,1,-999.000,1,-999.000,1,  2337.9,2,  2322.5,2,    7.314,    25.00, -999.00,9, -999.00,  -999.0,9,  -999.0,  27.1102,2
49NZ200107_1,       P17C,      22,          1,         22,         22,2,20010807,       1655,    32.0007,  -134.9970,       4959,   808.2,   4.1085,2,  34.3063,2,  34.3076,2,    16.60,1,   10.01,2,  107.51,2,   44.30,2,   -0.01,2,    3.18,2,-999.000,1,-999.000,1,-999.000,1,  2355.6,6,  2347.5,3,    7.316,    25.00, -999.00,9, -999.00,  -999.0,9,  -999.0,  27.2294,2
49NZ200107_1,       P17C,      22,          1,         21,         21,2,20010807,       1655,    32.0007,  -134.9970,       4959,   909.6,   3.9100,2,  34.3817,2,  34.3807,2,    18.56,1,   12.14,2,  112.84,2,   44.48,2,   -0.01,2,    3.21,2,-999.000,1,-999.000,1,-999.000,1,  2364.5,2,  2354.0,2,    7.329,    25.00, -999.00,9, -999.00,  -999.0,9,  -999.0,  27.3104,2
49NZ200107_1,       P17C,      22,          1,         20,         20,2,20010807,       1655,    32.0007,  -134.9970,       4959,  1010.1,   3.6358,2,  34.4351,2,  34.4349,2,    24.49,1,   17.91,2,  118.39,2,   44.55,2,    0.00,2,    3.19,2,-999.000,1,-999.000,1,-999.000,1,  2369.1,2,  2365.0,6,    7.345,    25.00, -999.00,9, -999.00,  -999.0,9,  -999.0,  27.3809,2
49NZ200107_1,       P17C,      22,          1,         19,         19,2,20010807,       1655,    32.0007,  -134.9970,       4959,  1111.5,   3.4039,2,  34.4802,2,  34.4802,2,    33.14,1,   27.56,2,  122.09,2,   44.35,2,    0.00,2,    3.15,2,-999.000,1,-999.000,1,-999.000,1,  2369.3,2,  2375.6,2,    7.367,    25.00, -999.00,9, -999.00,  -999.0,9,  -999.0,  27.4399,2
49NZ200107_1,       P17C,      22,          1,         18,         18,2,20010807,       1655,    32.0007,  -134.9970,       4959,  1212.1,   3.2414,2,  34.5059,2,  34.5066,2,    40.24,1,   35.01,2,  124.99,2,   43.97,2,    0.00,2,    3.11,2,-999.000,1,-999.000,1,-999.000,1,  2369.5,6,  2384.3,2,    7.382,    25.00, -999.00,9, -999.00,  -999.0,9,  -999.0,  27.4764,2
49NZ200107_1,       P17C,      22,          1,         17,         17,2,20010807,       1655,    32.0007,  -134.9970,       4959,  1415.1,   2.8538,2,  34.5484,2,  34.5477,2,    51.73,1,   47.78,2,  133.60,2,   43.23,2,   -0.01,2,    3.07,2,-999.000,1,-999.000,1,-999.000,1,  2372.0,2,  2394.5,2,    7.407,    25.00, -999.00,9, -999.00,  -999.0,9,  -999.0,  27.5466,2
49NZ200107_1,       P17C,      22,          1,         16,         16,2,20010807,       1655,    32.0007,  -134.9970,       4959,  1618.3,   2.5182,2,  34.5764,2,  34.5769,2,    61.07,1,   58.46,2,  141.93,2,   42.58,2,    0.00,2,    3.05,2,-999.000,1,-999.000,1,-999.000,1,  2373.3,2,  2400.0,2,    7.431,    25.00, -999.00,9, -999.00,  -999.0,9,  -999.0,  27.5991,2
49NZ200107_1,       P17C,      22,          1,         15,         15,2,20010807,       1655,    32.0007,  -134.9970,       4959,  1820.7,   2.2507,2,  34.5979,2,  34.5978,2,    69.60,1,   66.82,2,  148.86,2,   42.17,2,   -0.01,2,    3.00,2,-999.000,1,-999.000,1,-999.000,1,  2373.1,2,  2412.3,2,    7.446,    25.00, -999.00,9, -999.00,  -999.0,9,  -999.0,  27.6395,2
49NZ200107_1,       P17C,      22,          1,         14,         14,2,20010807,       1655,    32.0007,  -134.9970,       4959,  2025.0,   2.0429,2,  34.6162,2,  34.6168,2,    78.06,1, -999.00,5,  154.12,2,   41.66,2,   -0.01,2,    2.96,2,-999.000,1,-999.000,1,-999.000,1,  2374.1,2,  2414.0,2,    7.467,    25.00, -999.00,9, -999.00,  -999.0,9,  -999.0,  27.6718,2
49NZ200107_1,       P17C,      22,          1,         13,         13,3,20010807,       1655,    32.0007,  -134.9970,       4959,  2228.2,   1.8965,2,  34.6308,2,  34.6314,2,    86.64,1,   85.48,2,  157.27,2,   41.00,2,    0.01,2,    2.88,2,-999.000,1,-999.000,1,-999.000,1,  2372.5,2,  2418.6,2,    7.484,    25.00, -999.00,9, -999.00,  -999.0,9,  -999.0,  27.6958,2
49NZ200107_1,       P17C,      22,          1,         12,         12,2,20010807,       1655,    32.0007,  -134.9970,       4959,  2431.7,   1.7783,2,  34.6431,2,  34.6427,2,    95.25,1,   94.89,2,  159.47,2,   40.43,2,   -0.01,2,    2.83,2,-999.000,9,-999.000,9,-999.000,9,  -999.0,9,  -999.0,9, -999.000,  -999.00, -999.00,9, -999.00,  -999.0,9,  -999.0,  27.7158,2
49NZ200107_1,       P17C,      22,          1,         11,         11,2,20010807,       1655,    32.0007,  -134.9970,       4959,  2635.2,   1.6910,2,  34.6522,2,  34.6522,2,   102.93,1,  103.00,2,  158.64,2,   39.83,2,    0.00,2,    2.78,2,-999.000,1,-999.000,1,-999.000,1,  2364.7,2,  2422.0,2,    7.516,    25.00, -999.00,9, -999.00,  -999.0,9,  -999.0,  27.7308,2
49NZ200107_1,       P17C,      22,          1,         10,         10,2,20010807,       1655,    32.0007,  -134.9970,       4959,  2839.4,   1.6264,2,  34.6589,2,  34.6590,2,   109.15,1,  109.97,2,  158.74,2,   39.30,2,   -0.01,2,    2.74,2,-999.000,9,-999.000,9,-999.000,9,  -999.0,9,  -999.0,9, -999.000,  -999.00, -999.00,9, -999.00,  -999.0,9,  -999.0,  27.7421,2
49NZ200107_1,       P17C,      22,          1,          9,          9,2,20010807,       1655,    32.0007,  -134.9970,       4959,  3043.8,   1.5705,2,  34.6649,2,  34.6652,2,   115.98,1,  116.50,2,  158.72,2,   39.02,2,   -0.01,2,    2.71,2,-999.000,1,-999.000,1,-999.000,1,  2356.8,6,  2421.2,2,    7.541,    25.00, -999.00,9, -999.00,  -999.0,9,  -999.0,  27.7522,2
49NZ200107_1,       P17C,      22,          1,          8,          8,2,20010807,       1655,    32.0007,  -134.9970,       4959,  3299.5,   1.5125,2,  34.6727,2,  34.6725,2,   124.92,1,  126.34,2,  157.40,2,   38.42,2,    0.00,2,    2.67,2,-999.000,9,-999.000,9,-999.000,9,  -999.0,9,  -999.0,9, -999.000,  -999.00, -999.00,9, -999.00,  -999.0,9,  -999.0,  27.7642,2
49NZ200107_1,       P17C,      22,          1,          7,          7,2,20010807,       1655,    32.0007,  -134.9970,       4959,  3555.2,   1.4851,2,  34.6782,2,  34.6782,2,   132.65,1,  133.90,2,  154.87,2,   37.98,2,    0.00,2,    2.63,2,-999.000,1,-999.000,1,-999.000,1,  2345.6,2,  2421.6,2,    7.570,    25.00, -999.00,9, -999.00,  -999.0,9,  -999.0,  27.7723,2
49NZ200107_1,       P17C,      22,          1,          6,          6,2,20010807,       1655,    32.0007,  -134.9970,       4959,  3811.1,   1.4780,2,  34.6817,2,  34.6817,2,   138.69,1,  139.15,2,  152.62,2,   37.62,2,    0.01,2,    2.61,2,-999.000,9,-999.000,9,-999.000,9,  -999.0,9,  -999.0,9, -999.000,  -999.00, -999.00,9, -999.00,  -999.0,9,  -999.0,  27.7774,2
49NZ200107_1,       P17C,      22,          1,          5,          5,2,20010807,       1655,    32.0007,  -134.9970,       4959,  4067.6,   1.4882,2,  34.6839,2,  34.6840,2,   142.82,1,  143.09,2,  150.96,2,   37.29,2,    0.00,2,    2.58,2,-999.000,1,-999.000,1,-999.000,1,  2339.1,2,  2421.6,6,    7.580,    25.00, -999.00,9, -999.00,  -999.0,9,  -999.0,  27.7804,2
49NZ200107_1,       P17C,      22,          1,          4,          4,2,20010807,       1655,    32.0007,  -134.9970,       4959,  4324.2,   1.5097,2,  34.6847,2,  34.6846,2,   145.45,1,  144.29,2,  149.90,2,   37.19,2,    0.00,2,    2.58,2,-999.000,9,-999.000,9,-999.000,9,  -999.0,9,  -999.0,9, -999.000,  -999.00, -999.00,9, -999.00,  -999.0,9,  -999.0,  27.7816,2
49NZ200107_1,       P17C,      22,          1,          3,          3,2,20010807,       1655,    32.0007,  -134.9970,       4959,  4580.9,   1.5352,2,  34.6852,2,  34.6853,2,   147.87,1,  145.95,2,  148.16,2,   37.13,2,    0.00,2,    2.57,2,-999.000,1,-999.000,1,-999.000,1,  2338.2,2,  2422.2,2,    7.580,    25.00, -999.00,9, -999.00,  -999.0,9,  -999.0,  27.7823,2
49NZ200107_1,       P17C,      22,          1,          2,          2,3,20010807,       1655,    32.0007,  -134.9970,       4959,  4839.5,   1.5655,2,  34.6855,2,  34.6846,2,   149.76,1,  145.71,2,  149.99,2,   37.01,2,    0.00,2,    2.56,2,-999.000,9,-999.000,9,-999.000,9,  -999.0,9,  -999.0,9, -999.000,  -999.00, -999.00,9, -999.00,  -999.0,9,  -999.0,  27.7826,2
49NZ200107_1,       P17C,      22,          1,          1,          1,2,20010807,       1655,    32.0007,  -134.9970,       4959,  5028.1,   1.5895,2,  34.6854,2,  34.6854,2,   151.66,1,  145.97,2,  149.77,2,   36.89,2,   -0.01,2,    2.57,2,-999.000,1,-999.000,1,-999.000,1,  2337.5,2,  2421.3,2,    7.584,    25.00, -999.00,9, -999.00,  -999.0,9,  -999.0,  27.7825,2