BOTTLE,20220817CCHSIOAMB
EXPOCODE,SECT_ID,STNNBR,CASTNO,SAMPNO,BTLNBR,BTLNBR_FLAG_W,DATE,TIME,LATITUDE,LONGITUDE,DEPTH,CTDPRS,CTDTMP,CTDTMP_FLAG_W,CTDSAL,CTDSAL_FLAG_W,SALNTY,SALNTY_FLAG_W,CTDOXY,CTDOXY_FLAG_W,OXYGEN,OXYGEN_FLAG_W,SILCAT,SILCAT_FLAG_W,NITRAT,NITRAT_FLAG_W,NITRIT,NITRIT_FLAG_W,PHSPHT,PHSPHT_FLAG_W,CFC-11,CFC-11_FLAG_W,CFC-12,CFC-12_FLAG_W,CFC113,CFC113_FLAG_W,TCARBN,TCARBN_FLAG_W,ALKALI,ALKALI_FLAG_W,PH_TOT,PH_TMP,DELC13,DELC13_FLAG_W,C13ERR,DELC14,DELC14_FLAG_W,C14ERR,THETA,THETA_FLAG_W
,,,,,,,,,,,METERS,DBAR,ITS-90,,PSS-78,,PSS-78,,UMOL/KG,,UMOL/KG,,UMOL/KG,,UMOL/KG,,UMOL/KG,,UMOL/KG,,PMOL/KG,,PMOL/KG,,PMOL/KG,,UMOL/KG,,UMOL/KG,,,DEG C,/MILLE,,/MILLE,/MILLE,,/MILLE,DEG C,
49NZ200107_1,       P17N,      84,          1,          0,        -99,9,20010824,       0238,    53.4588,  -156.2667,       4627,     4.5,-999.0000,9,-999.0000,9,  32.7230,2,  -999.00,9,  276.16,2,   16.37,2,    9.27,2,    0.13,2,    0.94,2,-999.000,9,-999.000,9,-999.000,9,  -999.0,9,  -999.0,9, -999.000,  -999.00, -999.00,9, -999.00,  -999.0,9,  -999.0,-999.0000,9
49NZ200107_1,       P17N,      84,          1,         36,         36,2,20010824,       0238,    53.4588,  -156.2667,       4627,    11.0,  11.8359,2,  32.7202,2,  32.7180,2,   262.23,1,  276.94,2,   15.84,2,    8.98,2,    0.13,2,    0.86,2,-999.000,9,-999.000,9,-999.000,9,  -999.0,9,  -999.0,9, -999.000,  -999.00, -999.00,9, -999.00,  -999.0,9,  -999.0,  24.8497,2
49NZ200107_1,       P17N,      84,          1,         35,         35,2,20010824,       0238,    53.4588,  -156.2667,       4627,    25.4,  11.7180,2,  32.7147,2,  32.7206,2,   263.63,1,  277.96,2,   15.68,2,    9.12,2,    0.12,2,    0.90,2,-999.000,9,-999.000,9,-999.000,9,  -999.0,9,  -999.0,9, -999.000,  -999.00, -999.00,9, -999.00,  -999.0,9,  -999.0,  24.8674,2
49NZ200107_1,       P17N,      84,          1,         34,         34,2,20010824,       0238,    53.4588,  -156.2667,       4627,    51.3,   5.3758,2,  32.9084,2,  32.9085,2,   274.03,1,  303.01,2,   26.56,2,   19.47,2,    0.44,2,    1.54,2,-999.000,9,-999.000,9,-999.000,9,  -999.0,9,  -999.0,9, -999.000,  -999.00, -999.00,9, -999.00,  -999.0,9,  -999.0,  25.9751,2
49NZ200107_1,       P17N,      84,          1,         33,         33,2,20010824,       0238,    53.4588,  -156.2667,       4627,    76.8,   4.4961,2,  33.0926,2,  33.0960,2,   227.27,1,  257.40,2,   36.15,2,   25.70,2,    0.03,2,    1.89,2,-999.000,9,-999.000,9,-999.000,9,  -999.0,9,  -999.0,9, -999.000,  -999.00, -999.00,9, -999.00,  -999.0,9,  -999.0,  26.2186,2
49NZ200107_1,       P17N,      84,          1,         32,         32,2,20010824,       0238,    53.4588,  -156.2667,       4627,   102.0,   4.5759,2,  33.5609,2,  33.5329,3,   127.53,1,  144.00,2,   53.63,2,   34.55,2,    0.03,2,    2.40,2,-999.000,9,-999.000,9,-999.000,9,  -999.0,9,  -999.0,9, -999.000,  -999.00, -999.00,9, -999.00,  -999.0,9,  -999.0,  26.5820,2
49NZ200107_1,       P17N,      84,          1,         31,         31,2,20010824,       0238,    53.4588,  -156.2667,       4627,   152.2,   4.3229,2,  33.8905,2,  33.8901,2,    48.58,1,   47.42,2,   75.33,2,   42.69,2,    0.03,2,    2.91,2,-999.000,9,-999.000,9,-999.000,9,  -999.0,9,  -999.0,9, -999.000,  -999.00, -999.00,9, -999.00,  -999.0,9,  -999.0,  26.8712,2
49NZ200107_1,       P17N,      84,          1,         30,         30,2,20010824,       0238,    53.4588,  -156.2667,       4627,   202.9,   4.1460,2,  33.9662,2,  33.9645,2,    34.18,1,   30.25,2,   83.97,2,   44.10,2,    0.03,2,    3.03,2,-999.000,9,-999.000,9,-999.000,9,  -999.0,9,  -999.0,9, -999.000,  -999.00, -999.00,9, -999.00,  -999.0,9,  -999.0,  26.9502,2
49NZ200107_1,       P17N,      84,          1,         29,         29,2,20010824,       0238,    53.4588,  -156.2667,       4627,   253.2,   4.0608,2,  34.0058,2,  34.0052,2,    30.54,1,   25.83,2,   88.91,2,   44.19,2,    0.03,2,    3.05,2,-999.000,9,-999.000,9,-999.000,9,  -999.0,9,  -999.0,9, -999.000,  -999.00, -999.00,9, -999.00,  -999.0,9,  -999.0,  26.9908,2
49NZ200107_1,       P17N,      84,          1,         28,         28,2,20010824,       0238,    53.4588,  -156.2667,       4627,   303.7,   3.9682,2,  34.0544,2,  34.0536,2,    28.46,1,   23.54,2,   94.85,2,   44.17,2,    0.03,2,    3.05,2,-999.000,9,-999.000,9,-999.000,9,  -999.0,9,  -999.0,9, -999.000,  -999.00, -999.00,9, -999.00,  -999.0,9,  -999.0,  27.0393,2
49NZ200107_1,       P17N,      84,          1,         27,         27,3,20010824,       0238,    53.4588,  -156.2667,       4627,   354.4,   3.9132,2,  34.0918,2,  34.0900,2,    27.79,1,   22.77,2,   98.22,2,   43.99,2,    0.03,2,    3.06,2,-999.000,9,-999.000,9,-999.000,9,  -999.0,9,  -999.0,9, -999.000,  -999.00, -999.00,9, -999.00,  -999.0,9,  -999.0,  27.0750,2
49NZ200107_1,       P17N,      84,          1,         26,         26,2,20010824,       0238,    53.4588,  -156.2667,       4627,   404.6,   3.8189,2,  34.1299,2,  34.1307,2,    25.89,1,   20.82,2,  102.69,2,   44.25,2,    0.03,2,    3.09,2,-999.000,9,-999.000,9,-999.000,9,  -999.0,9,  -999.0,9, -999.000,  -999.00, -999.00,9, -999.00,  -999.0,9,  -999.0,  27.1152,2
49NZ200107_1,       P17N,      84,          1,         25,         25,2,20010824,       0238,    53.4588,  -156.2667,       4627,   506.0,   3.5997,2,  34.2075,2,  34.2089,2,    22.55,1,   16.56,2,  112.64,2,   44.39,2,    0.03,2,    3.14,2,-999.000,9,-999.000,9,-999.000,9,  -999.0,9,  -999.0,9, -999.000,  -999.00, -999.00,9, -999.00,  -999.0,9,  -999.0,  27.1992,2
49NZ200107_1,       P17N,      84,          1,         24,         24,2,20010824,       0238,    53.4588,  -156.2667,       4627,   606.8,   3.3913,2,  34.2644,2,  34.2682,2,    21.65,1,   15.01,2,  120.63,2,   44.35,2,    0.02,2,    3.15,2,-999.000,9,-999.000,9,-999.000,9,  -999.0,9,  -999.0,9, -999.000,  -999.00, -999.00,9, -999.00,  -999.0,9,  -999.0,  27.2654,2
49NZ200107_1,       P17N,      84,          1,         23,         23,2,20010824,       0238,    53.4588,  -156.2667,       4627,   708.3,   3.2060,2,  34.3167,2,  34.3180,2,    21.76,1,   15.29,2,  126.65,2,   44.65,2,    0.03,2,    3.18,2,-999.000,9,-999.000,9,-999.000,9,  -999.0,9,  -999.0,9, -999.000,  -999.00, -999.00,9, -999.00,  -999.0,9,  -999.0,  27.3251,2
49NZ200107_1,       P17N,      84,          1,         22,         22,2,20010824,       0238,    53.4588,  -156.2667,       4627,   809.4,   3.0442,2,  34.3516,2,  34.3554,2,    22.09,1,   15.79,3,  132.36,2,   44.62,2,    0.02,2,    3.20,2,-999.000,9,-999.000,9,-999.000,9,  -999.0,9,  -999.0,9, -999.000,  -999.00, -999.00,9, -999.00,  -999.0,9,  -999.0,  27.3684,2
49NZ200107_1,       P17N,      84,          1,         21,         21,2,20010824,       0238,    53.4588,  -156.2667,       4627,   911.0,   2.8514,2,  34.3894,2,  34.3894,2,    23.37,1,   16.22,2,  137.55,2,   44.63,2,    0.03,2,    3.19,2,-999.000,9,-999.000,9,-999.000,9,  -999.0,9,  -999.0,9, -999.000,  -999.00, -999.00,9, -999.00,  -999.0,9,  -999.0,  27.4164,2
49NZ200107_1,       P17N,      84,          1,         20,         20,2,20010824,       0238,    53.4588,  -156.2667,       4627,  1012.2,   2.6979,2,  34.4207,2,  34.4211,2,    25.27,1,   18.43,2,  142.41,2,   44.76,2,    0.03,2,    3.20,2,-999.000,9,-999.000,9,-999.000,9,  -999.0,9,  -999.0,9, -999.000,  -999.00, -999.00,9, -999.00,  -999.0,9,  -999.0,  27.4554,2
49NZ200107_1,       P17N,      84,          1,         19,         19,2,20010824,       0238,    53.4588,  -156.2667,       4627,  1112.5,   2.5521,2,  34.4518,2,  34.4505,2,    28.44,1,   21.75,2,  146.35,2,   44.47,2,    0.03,2,    3.13,2,-999.000,9,-999.000,9,-999.000,9,  -999.0,9,  -999.0,9, -999.000,  -999.00, -999.00,9, -999.00,  -999.0,9,  -999.0,  27.4933,2
49NZ200107_1,       P17N,      84,          1,         18,         18,2,20010824,       0238,    53.4588,  -156.2667,       4627,  1214.6,   2.4266,2,  34.4764,2,  34.4763,2,    32.29,1,   25.57,2,  149.51,2,   44.33,2,    0.04,2,    3.16,2,-999.000,9,-999.000,9,-999.000,9,  -999.0,9,  -999.0,9, -999.000,  -999.00, -999.00,9, -999.00,  -999.0,9,  -999.0,  27.5240,2
49NZ200107_1,       P17N,      84,          1,         17,         17,2,20010824,       0238,    53.4588,  -156.2667,       4627,  1316.0,   2.3090,2,  34.5013,2,  34.5020,2,    36.90,1,   30.05,2,  152.77,2,   44.07,2,    0.03,2,    3.15,2,-999.000,9,-999.000,9,-999.000,9,  -999.0,9,  -999.0,9, -999.000,  -999.00, -999.00,9, -999.00,  -999.0,9,  -999.0,  27.5541,2
49NZ200107_1,       P17N,      84,          1,         16,         16,2,20010824,       0238,    53.4588,  -156.2667,       4627,  1418.0,   2.2029,2,  34.5238,2,  34.5237,2,    42.52,1,   35.77,2,  154.82,2,   43.76,2,    0.03,2,    3.13,2,-999.000,9,-999.000,9,-999.000,9,  -999.0,9,  -999.0,9, -999.000,  -999.00, -999.00,9, -999.00,  -999.0,9,  -999.0,  27.5814,2
49NZ200107_1,       P17N,      84,          1,         15,         15,2,20010824,       0238,    53.4588,  -156.2667,       4627,  1621.0,   2.0311,2,  34.5610,2,  34.5616,2,    54.69,1,   48.74,2,  157.83,2,   43.05,2,    0.03,2,    3.08,2,-999.000,9,-999.000,9,-999.000,9,  -999.0,9,  -999.0,9, -999.000,  -999.00, -999.00,9, -999.00,  -999.0,9,  -999.0,  27.6258,2
49NZ200107_1,       P17N,      84,          1,         14,         14,2,20010824,       0238,    53.4588,  -156.2667,       4627,  1823.9,   1.9116,2,  34.5858,2,  34.5855,2,    64.96,1,   59.26,2,  159.30,2,   42.43,2,    0.03,2,    3.04,2,-999.000,9,-999.000,9,-999.000,9,  -999.0,9,  -999.0,9, -999.000,  -999.00, -999.00,9, -999.00,  -999.0,9,  -999.0,  27.6560,2
49NZ200107_1,       P17N,      84,          1,         13,         13,2,20010824,       0238,    53.4588,  -156.2667,       4627,  2027.1,   1.8146,2,  34.6054,2,  34.6054,2,    74.70,1,   69.31,2,  160.73,2,   41.87,2,    0.04,2,    3.01,2,-999.000,9,-999.000,9,-999.000,9,  -999.0,9,  -999.0,9, -999.000,  -999.00, -999.00,9, -999.00,  -999.0,9,  -999.0,  27.6803,2
49NZ200107_1,       P17N,      84,          1,         12,         12,2,20010824,       0238,    53.4588,  -156.2667,       4627,  2231.7,   1.7273,2,  34.6226,2,  34.6231,3,    84.67,1,   80.45,2,  161.43,2,   41.20,2,    0.03,2,    2.96,2,-999.000,9,-999.000,9,-999.000,9,  -999.0,9,  -999.0,9, -999.000,  -999.00, -999.00,9, -999.00,  -999.0,9,  -999.0,  27.7018,2
49NZ200107_1,       P17N,      84,          1,         11,         11,2,20010824,       0238,    53.4588,  -156.2667,       4627,  2435.7,   1.6670,2,  34.6349,2,  34.6345,2,    93.78,1,   89.97,2,  161.36,2,   40.40,2,    0.04,2,    2.87,2,-999.000,9,-999.000,9,-999.000,9,  -999.0,9,  -999.0,9, -999.000,  -999.00, -999.00,9, -999.00,  -999.0,9,  -999.0,  27.7173,2
49NZ200107_1,       P17N,      84,          1,         10,         10,2,20010824,       0238,    53.4588,  -156.2667,       4627,  2639.6,   1.6240,2,  34.6441,2,  34.6443,2,   102.02,1,   98.82,2,  159.93,2,   39.83,2,    0.04,2,    2.85,2,-999.000,9,-999.000,9,-999.000,9,  -999.0,9,  -999.0,9, -999.000,  -999.00, -999.00,9, -999.00,  -999.0,9,  -999.0,  27.7291,2
49NZ200107_1,       P17N,      84,          1,          9,          9,2,20010824,       0238,    53.4588,  -156.2667,       4627,  2844.2,   1.5741,2,  34.6540,2,  34.6542,2,   111.83,1,  108.74,2,  158.24,2,   39.26,2,    0.03,2,    2.82,2,-999.000,9,-999.000,9,-999.000,9,  -999.0,9,  -999.0,9, -999.000,  -999.00, -999.00,9, -999.00,  -999.0,9,  -999.0,  27.7418,2
49NZ200107_1,       P17N,      84,          1,          8,          8,2,20010824,       0238,    53.4588,  -156.2667,       4627,  3048.7,   1.5378,2,  34.6616,2,  34.6622,3,   120.32,1,  116.91,2,  156.60,2,   38.67,2,    0.04,2,    2.77,2,-999.000,9,-999.000,9,-999.000,9,  -999.0,9,  -999.0,9, -999.000,  -999.00, -999.00,9, -999.00,  -999.0,9,  -999.0,  27.7518,2
49NZ200107_1,       P17N,      84,          1,          7,          7,2,20010824,       0238,    53.4588,  -156.2667,       4627,  3304.3,   1.5037,2,  34.6695,2,  34.6696,2,   129.33,1,  126.92,2,  154.39,2,   38.06,2,    0.04,2,    2.72,2,-999.000,9,-999.000,9,-999.000,9,  -999.0,9,  -999.0,9, -999.000,  -999.00, -999.00,9, -999.00,  -999.0,9,  -999.0,  27.7622,2
49NZ200107_1,       P17N,      84,          1,          6,          6,2,20010824,       0238,    53.4588,  -156.2667,       4627,  3560.8,   1.4820,2,  34.6758,2,  34.6754,2,   136.69,1,  133.88,2,  153.81,2,   37.68,2,    0.04,2,    2.69,2,-999.000,9,-999.000,9,-999.000,9,  -999.0,9,  -999.0,9, -999.000,  -999.00, -999.00,9, -999.00,  -999.0,9,  -999.0,  27.7706,2
49NZ200107_1,       P17N,      84,          1,          5,          5,2,20010824,       0238,    53.4588,  -156.2667,       4627,  3817.3,   1.4771,2,  34.6797,2,  34.6798,3,   142.59,1,  139.15,2,  152.40,2,   37.25,2,    0.03,2,    2.66,2,-999.000,9,-999.000,9,-999.000,9,  -999.0,9,  -999.0,9, -999.000,  -999.00, -999.00,9, -999.00,  -999.0,9,  -999.0,  27.7759,2
49NZ200107_1,       P17N,      84,          1,          4,          4,2,20010824,       0238,    53.4588,  -156.2667,       4627,  4074.7,   1.4857,2,  34.6822,2,  34.6819,2,   146.58,1,  142.10,2,  152.57,2,   37.04,2,    0.03,2,    2.65,2,-999.000,9,-999.000,9,-999.000,9,  -999.0,9,  -999.0,9, -999.000,  -999.00, -999.00,9, -999.00,  -999.0,9,  -999.0,  27.7792,2
49NZ200107_1,       P17N,      84,          1,          3,          3,2,20010824,       0238,    53.4588,  -156.2667,       4627,  4331.8,   1.4934,2,  34.6849,2,  34.6847,2,   151.10,1,  145.02,2,  152.28,2,   36.90,2,    0.03,2,    2.64,2,-999.000,9,-999.000,9,-999.000,9,  -999.0,9,  -999.0,9, -999.000,  -999.00, -999.00,9, -999.00,  -999.0,9,  -999.0,  27.7828,2
49NZ200107_1,       P17N,      84,          1,          2,          2,2,20010824,       0238,    53.4588,  -156.2667,       4627,  4589.7,   1.4947,2,  34.6876,2,  34.6877,2,   158.44,1,  150.84,2,  149.02,2,   36.34,2,    0.04,2,    2.54,2,-999.000,9,-999.000,9,-999.000,9,  -999.0,9,  -999.0,9, -999.000,  -999.00, -999.00,9, -999.00,  -999.0,9,  -999.0,  27.7870,2
49NZ200107_1,       P17N,      84,          1,          1,          1,2,20010824,       0238,    53.4588,  -156.2667,       4627,  4708.4,   1.4868,2,  34.6898,2,  34.6898,2,   163.06,1,  154.79,2,  146.68,2,   36.03,2,    0.02,2,    2.55,2,-999.000,9,-999.000,9,-999.000,9,  -999.0,9,  -999.0,9, -999.000,  -999.00, -999.00,9, -999.00,  -999.0,9,  -999.0,  27.7902,2