BOTTLE,20220817CCHSIOAMB
EXPOCODE,SECT_ID,STNNBR,CASTNO,SAMPNO,BTLNBR,BTLNBR_FLAG_W,DATE,TIME,LATITUDE,LONGITUDE,DEPTH,CTDPRS,CTDTMP,CTDTMP_FLAG_W,CTDSAL,CTDSAL_FLAG_W,SALNTY,SALNTY_FLAG_W,CTDOXY,CTDOXY_FLAG_W,OXYGEN,OXYGEN_FLAG_W,SILCAT,SILCAT_FLAG_W,NITRAT,NITRAT_FLAG_W,NITRIT,NITRIT_FLAG_W,PHSPHT,PHSPHT_FLAG_W,CFC-11,CFC-11_FLAG_W,CFC-12,CFC-12_FLAG_W,CFC113,CFC113_FLAG_W,TCARBN,TCARBN_FLAG_W,ALKALI,ALKALI_FLAG_W,PH_TOT,PH_TMP,DELC13,DELC13_FLAG_W,C13ERR,DELC14,DELC14_FLAG_W,C14ERR,THETA,THETA_FLAG_W
,,,,,,,,,,,METERS,DBAR,ITS-90,,PSS-78,,PSS-78,,UMOL/KG,,UMOL/KG,,UMOL/KG,,UMOL/KG,,UMOL/KG,,UMOL/KG,,PMOL/KG,,PMOL/KG,,PMOL/KG,,UMOL/KG,,UMOL/KG,,,DEG C,/MILLE,,/MILLE,/MILLE,,/MILLE,DEG C,
49NZ200107_1,       P17N,      54,          1,          0,        -99,9,20010814,       1602,    43.6298,  -139.0772,       4136,     4.5,-999.0000,9,-999.0000,9,  32.4570,2,  -999.00,9,  252.43,2,    1.68,2,    0.19,2,    0.00,2,    0.42,2,-999.000,1,-999.000,1,-999.000,1,  1956.1,2,  2182.4,2,    7.968,    25.00, -999.00,9, -999.00,  -999.0,9,  -999.0,-999.0000,9
49NZ200107_1,       P17N,      54,          1,         36,         36,2,20010814,       1602,    43.6298,  -139.0772,       4136,    10.4,  16.8582,2,  32.4497,2,  32.4503,2,   246.28,1,  261.40,2,    1.44,2,    0.05,2,    0.01,2,    0.39,2,-999.000,1,-999.000,1,-999.000,1,  1955.0,2,  2167.4,2,    7.970,    25.00, -999.00,9, -999.00,  -999.0,9,  -999.0,  23.5912,2
49NZ200107_1,       P17N,      54,          1,         35,         35,2,20010814,       1602,    43.6298,  -139.0772,       4136,    26.0,  11.2978,2,  32.4817,2,  32.4778,2,   284.14,1,  297.64,2,    1.74,2,    2.25,2,    0.06,2,    0.57,2,-999.000,1,-999.000,1,-999.000,1,  1970.9,2,  2172.5,2,    7.934,    25.00, -999.00,9, -999.00,  -999.0,9,  -999.0,  24.7627,2
49NZ200107_1,       P17N,      54,          1,         34,         34,3,20010814,       1602,    43.6298,  -139.0772,       4136,    51.2,   9.6709,2,  32.5399,2,  32.5362,2,   269.97,1,  281.76,2,    5.21,2,    5.48,2,    0.18,2,    0.86,2,-999.000,1,-999.000,1,-999.000,1,  2007.5,2,  2179.8,2,    7.864,    25.00, -999.00,9, -999.00,  -999.0,9,  -999.0,  25.0864,2
49NZ200107_1,       P17N,      54,          1,         33,         33,2,20010814,       1602,    43.6298,  -139.0772,       4136,    76.4,   9.1823,2,  32.5851,2,  32.5807,2,   264.40,1,  276.33,2,    6.57,2,    7.85,2,    0.71,2,    0.90,2,-999.000,1,-999.000,1,-999.000,1,  2013.6,2,  2172.2,2,    7.844,    25.00, -999.00,9, -999.00,  -999.0,9,  -999.0,  25.2003,2
49NZ200107_1,       P17N,      54,          1,         32,         32,2,20010814,       1602,    43.6298,  -139.0772,       4136,   101.7,   8.5571,2,  32.5656,2,  32.5586,2,   266.75,1,  278.48,2,    8.49,2,    9.56,2,    0.03,2,    1.00,2,-999.000,1,-999.000,1,-999.000,1,  2021.3,2,  2183.1,6,    7.827,    25.00, -999.00,9, -999.00,  -999.0,9,  -999.0,  25.2816,2
49NZ200107_1,       P17N,      54,          1,         31,         31,2,20010814,       1602,    43.6298,  -139.0772,       4136,   152.1,   7.0517,2,  32.9843,2,  33.0128,2,   247.08,1,  261.47,2,   16.56,2,   15.26,2,    0.01,2,    1.28,2,-999.000,1,-999.000,1,-999.000,1,  2070.2,2,  2198.8,2,    7.756,    25.00, -999.00,9, -999.00,  -999.0,9,  -999.0,  25.8260,2
49NZ200107_1,       P17N,      54,          1,         30,         30,2,20010814,       1602,    43.6298,  -139.0772,       4136,   202.6,   8.0204,2,  33.8085,2,  33.8190,2,   188.94,1,  199.00,2,   23.15,2,   19.74,2,    0.01,2,    1.44,2,-999.000,1,-999.000,1,-999.000,1,  2129.5,6,  2238.4,2,    7.695,    25.00, -999.00,9, -999.00,  -999.0,9,  -999.0,  26.3380,2
49NZ200107_1,       P17N,      54,          1,         29,         29,2,20010814,       1602,    43.6298,  -139.0772,       4136,   253.2,   7.6833,2,  33.9808,2,  33.9746,2,   166.51,1,  173.20,2,   32.79,2,   23.84,2,    0.01,2,    1.68,2,-999.000,1,-999.000,1,-999.000,1,  2162.4,2,  2255.4,2,    7.649,    25.00, -999.00,9, -999.00,  -999.0,9,  -999.0,  26.5233,2
49NZ200107_1,       P17N,      54,          1,         28,         28,2,20010814,       1602,    43.6298,  -139.0772,       4136,   303.7,   7.0006,2,  33.9690,2,  33.9622,2,   146.22,1,  151.29,2,   41.43,2,   27.58,2,    0.01,2,    1.92,2,-999.000,1,-999.000,1,-999.000,1,  2192.1,2,  2262.7,6,    7.590,    25.00, -999.00,9, -999.00,  -999.0,9,  -999.0,  26.6104,2
49NZ200107_1,       P17N,      54,          1,         27,         27,2,20010814,       1602,    43.6298,  -139.0772,       4136,   351.5,   6.3040,2,  33.9529,2,  33.9441,2,   128.03,1,  129.65,2,   50.38,2,   31.09,2,    0.00,2,    2.17,2,-999.000,1,-999.000,1,-999.000,1,  2216.2,2,  2264.4,2,    7.530,    25.00, -999.00,9, -999.00,  -999.0,9,  -999.0,  26.6905,2
49NZ200107_1,       P17N,      54,          1,         26,         26,2,20010814,       1602,    43.6298,  -139.0772,       4136,   404.6,   5.5115,2,  33.9578,2,  33.9560,2,   102.82,1,  101.32,2,   62.16,2,   35.26,2,    0.00,2,    2.47,2,-999.000,1,-999.000,1,-999.000,1,  2250.1,6,  2282.4,2,    7.458,    25.00, -999.00,9, -999.00,  -999.0,9,  -999.0,  26.7931,2
49NZ200107_1,       P17N,      54,          1,         25,         25,2,20010814,       1602,    43.6298,  -139.0772,       4136,   505.7,   4.7305,2,  34.0057,2,  34.0112,2,    73.14,1,   69.59,2,   78.15,2,   39.20,2,   -0.01,2,    2.76,2,-999.000,1,-999.000,1,-999.000,1,  2287.0,2,  2302.1,2,    7.392,    25.00, -999.00,9, -999.00,  -999.0,9,  -999.0,  26.9216,2
49NZ200107_1,       P17N,      54,          1,         24,         24,2,20010814,       1602,    43.6298,  -139.0772,       4136,   606.6,   4.2715,2,  34.0873,2,  34.0932,2,    47.16,1,   41.48,2,   92.78,2,   42.01,2,   -0.01,2,    2.96,2,-999.000,1,-999.000,1,-999.000,1,  2318.5,2,  2313.1,6,    7.348,    25.00, -999.00,9, -999.00,  -999.0,9,  -999.0,  27.0366,2
49NZ200107_1,       P17N,      54,          1,         23,         23,2,20010814,       1602,    43.6298,  -139.0772,       4136,   707.9,   3.9123,2,  34.1677,2,  34.1748,2,    30.24,1,   23.50,2,  106.10,2,   43.73,2,   -0.01,2,    3.09,2,-999.000,1,-999.000,1,-999.000,1,  2343.8,2,  2331.0,2,    7.323,    25.00, -999.00,9, -999.00,  -999.0,9,  -999.0,  27.1382,2
49NZ200107_1,       P17N,      54,          1,         22,         22,2,20010814,       1602,    43.6298,  -139.0772,       4136,   808.6,   3.6144,2,  34.2373,2,  34.2400,2,    22.71,1,   15.47,2,  115.99,2,   44.36,2,   -0.01,2,    3.14,2,-999.000,1,-999.000,1,-999.000,1,  2360.2,6,  2339.2,2,    7.317,    25.00, -999.00,9, -999.00,  -999.0,9,  -999.0,  27.2238,2
49NZ200107_1,       P17N,      54,          1,         21,         21,2,20010814,       1602,    43.6298,  -139.0772,       4136,   910.3,   3.4157,2,  34.2984,2,  34.3044,2,    17.25,1,    8.94,2,  123.40,2,   44.89,2,   -0.01,2,    3.19,2,-999.000,1,-999.000,1,-999.000,1,  2372.8,2,  2356.4,2,    7.312,    25.00, -999.00,9, -999.00,  -999.0,9,  -999.0,  27.2923,2
49NZ200107_1,       P17N,      54,          1,         20,         20,2,20010814,       1602,    43.6298,  -139.0772,       4136,  1011.3,   3.2727,2,  34.3667,2,  34.3682,2,    15.50,1,    7.92,2,  129.89,2,   45.17,2,   -0.01,2,    3.23,2,-999.000,1,-999.000,1,-999.000,1,  2380.9,2,  2364.1,6,    7.317,    25.00, -999.00,9, -999.00,  -999.0,9,  -999.0,  27.3609,2
49NZ200107_1,       P17N,      54,          1,         19,         19,2,20010814,       1602,    43.6298,  -139.0772,       4136,  1112.3,   3.0596,2,  34.4075,2,  34.4113,2,    16.80,1,    9.06,2,  134.35,2,   45.13,2,   -0.01,2,    3.21,2,-999.000,1,-999.000,1,-999.000,1,  2388.7,2,  2378.8,2,    7.324,    25.00, -999.00,9, -999.00,  -999.0,9,  -999.0,  27.4137,2
49NZ200107_1,       P17N,      54,          1,         18,         18,2,20010814,       1602,    43.6298,  -139.0772,       4136,  1214.3,   2.9137,2,  34.4534,2,  34.4543,2,    20.01,1,   12.56,2,  138.65,2,   44.98,2,   -0.01,2,    3.20,2,-999.000,1,-999.000,1,-999.000,1,  2393.0,2,  2382.1,2,    7.335,    25.00, -999.00,9, -999.00,  -999.0,9,  -999.0,  27.4641,2
49NZ200107_1,       P17N,      54,          1,         17,         17,2,20010814,       1602,    43.6298,  -139.0772,       4136,  1316.0,   2.7388,2,  34.4804,2,  34.4802,2,    23.66,1,   16.56,2,  143.38,2,   45.04,2,   -0.01,2,    3.19,2,-999.000,1,-999.000,1,-999.000,1,  2394.5,2,  2394.3,2,    7.345,    25.00, -999.00,9, -999.00,  -999.0,9,  -999.0,  27.5016,2
49NZ200107_1,       P17N,      54,          1,         16,         16,2,20010814,       1602,    43.6298,  -139.0772,       4136,  1417.3,   2.5805,2,  34.5018,2,  34.5018,2,    27.70,1,   20.38,2,  147.73,2,   44.78,2,    0.00,2,    3.18,2,-999.000,1,-999.000,1,-999.000,1,  2397.3,2,  2395.4,2,    7.354,    25.00, -999.00,9, -999.00,  -999.0,9,  -999.0,  27.5329,2
49NZ200107_1,       P17N,      54,          1,         15,         15,2,20010814,       1602,    43.6298,  -139.0772,       4136,  1518.5,   2.4377,2,  34.5213,2,  34.5211,2,    32.82,1,   25.76,2,  151.28,2,   44.50,2,   -0.01,2,    3.15,2,-999.000,1,-999.000,1,-999.000,1,  2398.9,2,  2399.4,2,    7.363,    25.00, -999.00,9, -999.00,  -999.0,9,  -999.0,  27.5610,2
49NZ200107_1,       P17N,      54,          1,         14,         14,2,20010814,       1602,    43.6298,  -139.0772,       4136,  1620.2,   2.3011,2,  34.5417,2,  34.5411,2,    39.80,1,   33.20,2,  154.12,2,   44.10,2,   -0.01,2,    3.11,2,-999.000,1,-999.000,1,-999.000,1,  2398.6,2,  2398.3,3,    7.378,    25.00, -999.00,9, -999.00,  -999.0,9,  -999.0,  27.5891,2
49NZ200107_1,       P17N,      54,          1,         13,         13,2,20010814,       1602,    43.6298,  -139.0772,       4136,  1722.1,   2.1912,2,  34.5590,2,  34.5583,2,    46.24,1,   40.14,2,  156.99,2,   43.72,2,   -0.01,2,    3.08,2,-999.000,1,-999.000,1,-999.000,1,  2395.5,2,  2407.2,2,    7.393,    25.00, -999.00,9, -999.00,  -999.0,9,  -999.0,  27.6124,2
49NZ200107_1,       P17N,      54,          1,         12,         12,2,20010814,       1602,    43.6298,  -139.0772,       4136,  1823.4,   2.0888,2,  34.5763,2,  34.5752,2,    53.51,1,   47.69,2,  159.32,2,   43.35,2,   -0.01,2,    3.06,2,-999.000,1,-999.000,1,-999.000,1,  2392.7,2,  2405.4,3,    7.411,    25.00, -999.00,9, -999.00,  -999.0,9,  -999.0,  27.6349,2
49NZ200107_1,       P17N,      54,          1,         11,         11,2,20010814,       1602,    43.6298,  -139.0772,       4136,  2026.8,   1.9390,2,  34.6022,2,  34.6022,2,    66.90,1,   62.16,2,  162.52,2,   42.29,2,    0.00,2,    2.97,2,-999.000,1,-999.000,1,-999.000,1,  2388.7,2,  2417.4,2,    7.441,    25.00, -999.00,9, -999.00,  -999.0,9,  -999.0,  27.6684,2
49NZ200107_1,       P17N,      54,          1,         10,         10,2,20010814,       1602,    43.6298,  -139.0772,       4136,  2230.4,   1.8478,2,  34.6176,2,  34.6174,2,    75.88,1,   71.44,2,  164.20,2,   41.68,2,   -0.01,2,    2.94,2,-999.000,1,-999.000,1,-999.000,1,  2384.4,2,  2417.4,2,    7.460,    25.00, -999.00,9, -999.00,  -999.0,9,  -999.0,  27.6889,2
49NZ200107_1,       P17N,      54,          1,          9,          9,2,20010814,       1602,    43.6298,  -139.0772,       4136,  2434.4,   1.7692,2,  34.6297,2,  34.6298,2,    84.49,1,   80.41,2,  164.31,2,   41.23,2,    0.00,2,    2.91,2,-999.000,9,-999.000,9,-999.000,9,  -999.0,9,  -999.0,9, -999.000,  -999.00, -999.00,9, -999.00,  -999.0,9,  -999.0,  27.7057,2
49NZ200107_1,       P17N,      54,          1,          8,          8,3,20010814,       1602,    43.6298,  -139.0772,       4136,  2638.1,   1.6758,2,  34.6425,2,  34.6408,2,    95.41,1,   92.11,2,  163.02,2,   40.48,2,    0.00,2,    2.84,2,-999.000,1,-999.000,1,-999.000,1,  2372.5,2,  2420.8,2,    7.500,    25.00, -999.00,9, -999.00,  -999.0,9,  -999.0,  27.7241,2
49NZ200107_1,       P17N,      54,          1,          7,          7,2,20010814,       1602,    43.6298,  -139.0772,       4136,  2842.1,   1.6053,2,  34.6524,2,  34.6526,2,   105.51,1,  102.79,2,  161.74,2,   39.84,2,    0.00,2,    2.79,2,-999.000,9,-999.000,9,-999.000,9,  -999.0,9,  -999.0,9, -999.000,  -999.00, -999.00,9, -999.00,  -999.0,9,  -999.0,  27.7384,2
49NZ200107_1,       P17N,      54,          1,          6,          6,2,20010814,       1602,    43.6298,  -139.0772,       4136,  3046.3,   1.5639,2,  34.6597,2,  34.6594,2,   113.47,1,  110.64,2,  161.18,2,   39.33,2,    0.00,2,    2.76,2,-999.000,1,-999.000,1,-999.000,1,  2359.3,6,  2424.3,2,    7.534,    25.00, -999.00,9, -999.00,  -999.0,9,  -999.0,  27.7484,2
49NZ200107_1,       P17N,      54,          1,          5,          5,2,20010814,       1602,    43.6298,  -139.0772,       4136,  3302.9,   1.5313,2,  34.6669,2,  34.6666,2,   121.95,1,  119.46,2,  160.98,2,   38.81,2,    0.00,2,    2.71,2,-999.000,9,-999.000,9,-999.000,9,  -999.0,9,  -999.0,9, -999.000,  -999.00, -999.00,9, -999.00,  -999.0,9,  -999.0,  27.7583,2
49NZ200107_1,       P17N,      54,          1,          4,          4,2,20010814,       1602,    43.6298,  -139.0772,       4136,  3558.6,   1.5142,2,  34.6729,2,  34.6727,2,   129.03,1,  125.98,2,  161.10,2,   38.31,2,    0.01,2,    2.68,2,-999.000,1,-999.000,1,-999.000,1,  2353.9,2,  2425.8,2,    7.570,    25.00, -999.00,9, -999.00,  -999.0,9,  -999.0,  27.7661,2
49NZ200107_1,       P17N,      54,          1,          3,          3,2,20010814,       1602,    43.6298,  -139.0772,       4136,  3815.2,   1.5125,2,  34.6777,2,  34.6779,2,   133.97,1,  130.65,2,  162.54,2,   38.13,2,   -0.01,2,    2.66,2,-999.000,9,-999.000,9,-999.000,9,  -999.0,9,  -999.0,9, -999.000,  -999.00, -999.00,9, -999.00,  -999.0,9,  -999.0,  27.7719,2
49NZ200107_1,       P17N,      54,          1,          2,          2,2,20010814,       1602,    43.6298,  -139.0772,       4136,  4071.6,   1.5323,2,  34.6796,2,  34.6796,2,   136.61,1,  131.47,2,  164.87,2,   37.86,2,    0.01,2,    2.62,2,-999.000,1,-999.000,1,-999.000,1,  2352.6,2,  2429.5,6,    7.582,    25.00, -999.00,9, -999.00,  -999.0,9,  -999.0,  27.7740,2
49NZ200107_1,       P17N,      54,          1,          1,          1,2,20010814,       1602,    43.6298,  -139.0772,       4136,  4166.4,   1.5418,2,  34.6803,2,  34.6803,2,   137.25,1,  131.58,2,  165.34,2,   37.88,2,    0.00,2,    2.63,2,-999.000,1,-999.000,1,-999.000,1,  2352.6,2,  2429.0,2,    7.584,    25.00, -999.00,9, -999.00,  -999.0,9,  -999.0,  27.7746,2