BOTTLE,20220817CCHSIOAMB
# Added constructed CTDPRS of 4.5 for the "surface" nutrient samples as noted in the cruise report
# Change empty value alkalinity flags from 3 to 9
#BOTTLE,20170221CCHSIORJL
# Updated parameters: CTDOXY, OXYGEN, OXYGEN_FLAG_W, PH_TOT, C13ERR
# Updated parameters with higher data precision from p17n_2001_hy1.csv (uploaded 2017-02-07 by R.Lee for JAMSTEC)
# 20100824CCHDOSIOCBG
#code : Justin Fields merge_exchange.rb
#original files copied from HTML directory: 2010-08-24
#original HYD file: /Users/cberys/Work/Data/2010.08.24_P17N_2001_PH_header_CBG/working/online_p17n_2001a_hy1.csv  2010-08-24
EXPOCODE,SECT_ID,STNNBR,CASTNO,SAMPNO,BTLNBR,BTLNBR_FLAG_W,DATE,TIME,LATITUDE,LONGITUDE,DEPTH,CTDPRS,CTDTMP,CTDTMP_FLAG_W,CTDSAL,CTDSAL_FLAG_W,SALNTY,SALNTY_FLAG_W,CTDOXY,CTDOXY_FLAG_W,OXYGEN,OXYGEN_FLAG_W,SILCAT,SILCAT_FLAG_W,NITRAT,NITRAT_FLAG_W,NITRIT,NITRIT_FLAG_W,PHSPHT,PHSPHT_FLAG_W,CFC-11,CFC-11_FLAG_W,CFC-12,CFC-12_FLAG_W,CFC113,CFC113_FLAG_W,TCARBN,TCARBN_FLAG_W,ALKALI,ALKALI_FLAG_W,PH_TOT,PH_TMP,DELC13,DELC13_FLAG_W,C13ERR,DELC14,DELC14_FLAG_W,C14ERR,THETA,THETA_FLAG_W
,,,,,,,,,,,METERS,DBAR,ITS-90,,PSS-78,,PSS-78,,UMOL/KG,,UMOL/KG,,UMOL/KG,,UMOL/KG,,UMOL/KG,,UMOL/KG,,PMOL/KG,,PMOL/KG,,PMOL/KG,,UMOL/KG,,UMOL/KG,,,DEG C,/MILLE,,/MILLE,/MILLE,,/MILLE,DEG C,
49NZ200107_1,       P17C,      26,          1,          0,        -99,9,20010806,       2030,    30.0002,  -134.9947,       4321,     4.5,-999.0000,9,-999.0000,9,  34.5340,2,  -999.00,9,  225.27,2,    2.53,2,    0.17,2,    0.00,2,    0.13,2,-999.000,1,-999.000,1,-999.000,1,  2021.4,2,  2283.1,2,    8.001,    25.00, -999.00,9, -999.00,  -999.0,9,  -999.0,-999.0000,9
49NZ200107_1,       P17C,      26,          1,         36,         36,2,20010806,       2030,    30.0002,  -134.9947,       4321,    10.6,  21.4125,2,  34.5287,2,  34.5010,2,   217.15,1,  230.87,2,    2.63,2,    0.14,2,    0.00,2,    0.07,2,-999.000,1,-999.000,1,-999.000,1,  2018.8,2,  2278.5,2,    7.999,    25.00,    1.49,2,    0.00,    66.2,2,     4.8,  24.0231,2
49NZ200107_1,       P17C,      26,          1,         35,         35,2,20010806,       2030,    30.0002,  -134.9947,       4321,    25.5,  20.9401,2,  34.4820,2,  34.4636,2,   218.94,1,  239.27,2,    2.43,2,    0.08,2,    0.00,2,    0.06,2,-999.000,1,-999.000,1,-999.000,1,  2016.2,2,  2274.2,2,    8.001,    25.00,    1.33,2,    0.00,    62.8,2,     3.6,  24.1172,2
49NZ200107_1,       P17C,      26,          1,         34,         34,2,20010806,       2030,    30.0002,  -134.9947,       4321,    50.2,  18.3039,2,  34.4207,2,  34.4037,2,   239.77,1,  250.34,2,    2.76,2,    0.07,2,    0.00,2,    0.05,2,-999.000,1,-999.000,1,-999.000,1,  2009.1,2,  2264.1,2,    7.999,    25.00,    1.40,2,    0.01,    61.5,2,     4.0,  24.7555,2
49NZ200107_1,       P17C,      26,          1,         33,         33,2,20010806,       2030,    30.0002,  -134.9947,       4321,    76.1,  17.6429,2,  34.5000,2,  34.4925,2,   235.88,1,  244.97,2,    2.74,2,    0.07,2,    0.01,2,    0.05,2,-999.000,1,-999.000,1,-999.000,1,  2014.7,2,  2272.2,2,    7.997,    25.00,    1.26,2,    0.00,    78.5,2,     4.8,  24.9794,2
49NZ200107_1,       P17C,      26,          1,         32,         32,2,20010806,       2030,    30.0002,  -134.9947,       4321,   101.1,  17.2993,2,  34.5041,2,  34.5177,2,   232.07,1,  239.94,2,    2.72,2,    0.08,2,    0.01,2,    0.08,2,-999.000,1,-999.000,1,-999.000,1,  2021.9,2,  2273.7,6,    7.989,    25.00,    1.30,2,    0.00,    79.9,2,     3.6,  25.0663,2
49NZ200107_1,       P17C,      26,          1,         31,         31,2,20010806,       2030,    30.0002,  -134.9947,       4321,   151.0,  14.1128,2,  34.1217,2,  34.1225,2,   221.23,1,  230.10,2,    4.39,2,    3.00,2,    0.02,2,    0.33,2,-999.000,1,-999.000,1,-999.000,1,  2038.5,2,  2246.1,2,    7.912,    25.00,    0.98,2,    0.00,    77.2,2,     3.6,  25.4893,2
49NZ200107_1,       P17C,      26,          1,         30,         30,2,20010806,       2030,    30.0002,  -134.9947,       4321,   201.3,  11.9598,2,  34.0143,2,  34.0197,2,   210.80,1,  218.21,2,    8.10,2,    8.26,2,    0.02,2,    0.64,2,-999.000,1,-999.000,1,-999.000,1,  2065.7,6,  2237.4,2,    7.840,    25.00,    0.72,6,    0.02,    72.5,6,     5.8,  25.8360,2
49NZ200107_1,       P17C,      26,          1,         29,         29,2,20010806,       2030,    30.0002,  -134.9947,       4321,   251.8,  10.4959,2,  34.0374,2,  34.0519,2,   206.98,1,  214.85,2,   12.94,2,   12.66,2,    0.00,2,    0.90,2,-999.000,1,-999.000,1,-999.000,1,  2088.4,2,  2244.0,2,    7.796,    25.00,    0.51,2,    0.00,    26.2,3,     3.8,  26.1203,2
49NZ200107_1,       P17C,      26,          1,         28,         28,2,20010806,       2030,    30.0002,  -134.9947,       4321,   302.7,   9.8636,2,  34.1202,2,  34.1197,2,   203.96,1,  212.54,2,   17.48,2,   15.25,2,    0.01,2,    1.05,2,-999.000,1,-999.000,1,-999.000,1,  2105.3,2,  2251.2,6,    7.781,    25.00,    0.37,2,    0.00,    41.7,2,     3.7,  26.2937,2
49NZ200107_1,       P17C,      26,          1,         27,         27,2,20010806,       2030,    30.0002,  -134.9947,       4321,   352.8,   8.9876,2,  34.0792,2,  34.0761,2,   182.34,1,  189.76,2,   24.35,2,   19.58,2,    0.00,2,    1.35,2,-999.000,1,-999.000,1,-999.000,1,  2134.9,2,  2253.5,2,    7.718,    25.00,    0.23,2,    0.00,    26.2,2,     3.9,  26.4051,2
49NZ200107_1,       P17C,      26,          1,         26,         26,2,20010806,       2030,    30.0002,  -134.9947,       4321,   403.6,   8.1204,2,  34.0357,2,  34.0336,2,   160.98,1,  167.61,2,   31.38,2,   23.57,2,    0.01,2,    1.62,2,-999.000,1,-999.000,1,-999.000,1,  2162.8,6,  2256.2,2,    7.654,    25.00,    0.12,2,    0.00,     3.0,2,     3.4,  26.5047,2
49NZ200107_1,       P17C,      26,          1,         25,         25,2,20010806,       2030,    30.0002,  -134.9947,       4321,   504.4,   6.2448,2,  33.9993,2,  33.9993,2,   105.82,1,  108.69,2,   52.35,2,   32.66,2,    0.00,2,    2.27,2,-999.000,1,-999.000,1,-999.000,1,  2231.8,2,  2273.2,2,    7.500,    25.00,   -0.13,2,    0.00,   -59.2,2,     3.2,  26.7365,2
49NZ200107_1,       P17C,      26,          1,         24,         24,2,20010806,       2030,    30.0002,  -134.9947,       4321,   605.4,   5.2500,2,  34.0778,2,  34.0782,2,    53.62,1,   53.53,2,   72.90,2,   39.19,2,    0.00,2,    2.77,2,-999.000,1,-999.000,1,-999.000,1,  2292.3,2,  2296.5,2,    7.384,    25.00,   -0.40,2,    0.01,  -121.8,2,     3.0,  26.9210,2
49NZ200107_1,       P17C,      26,          1,         23,         23,2,20010806,       2030,    30.0002,  -134.9947,       4321,   706.3,   4.6088,2,  34.1658,2,  34.1663,2,    30.84,1,   26.96,2,   89.77,2,   42.58,2,    0.00,2,    3.03,2,-999.000,1,-999.000,1,-999.000,1,  2328.1,2,  2316.3,2,    7.335,    25.00,   -0.51,2,    0.00,  -160.4,2,     3.1,  27.0639,2
49NZ200107_1,       P17C,      26,          1,         22,         22,2,20010806,       2030,    30.0002,  -134.9947,       4321,   807.6,   4.2544,2,  34.2588,2,  34.2670,2,    20.70,1,   14.36,2,  101.29,2,   43.87,2,    0.00,2,    3.14,2,-999.000,1,-999.000,1,-999.000,1,  2346.4,2,  2333.3,2,    7.323,    25.00,   -0.53,2,    0.00,  -189.9,2,     3.0,  27.1764,2
49NZ200107_1,       P17C,      26,          1,         21,         21,2,20010806,       2030,    30.0002,  -134.9947,       4321,   908.3,   3.9723,2,  34.3446,2,  34.3449,2,    19.61,1,   13.25,2,  109.26,2,   44.29,2,    0.00,2,    3.17,2,-999.000,1,-999.000,1,-999.000,1,  2362.1,2,  2350.3,2,    7.330,    25.00,   -0.56,2,    0.00,  -228.8,2,     3.0,  27.2746,2
49NZ200107_1,       P17C,      26,          1,         20,         20,2,20010806,       2030,    30.0002,  -134.9947,       4321,  1010.1,   3.6670,2,  34.4109,2,  34.4107,2,    23.43,1,   16.63,2,  116.96,2,   44.46,2,    0.00,2,    3.17,2,-999.000,1,-999.000,1,-999.000,1,  2369.0,2,  2362.4,6,    7.343,    25.00,   -0.57,2,    0.00,  -217.8,2,     2.8,  27.3586,2
49NZ200107_1,       P17C,      26,          1,         19,         19,2,20010806,       2030,    30.0002,  -134.9947,       4321,  1111.1,   3.4236,2,  34.4641,2,  34.4687,3,    31.48,1,   26.50,2,  121.72,2,   44.03,2,   -0.01,2,    3.11,2,-999.000,1,-999.000,1,-999.000,1,  2371.4,2,  2371.5,2,    7.368,    25.00,   -0.43,2,    0.00,  -221.7,2,     4.9,  27.4252,2
49NZ200107_1,       P17C,      26,          1,         18,         18,2,20010806,       2030,    30.0002,  -134.9947,       4321,  1212.2,   3.2300,2,  34.5068,2,  34.5060,2,    41.63,1,   36.66,2,  125.41,2,   43.60,2,    0.00,2,    3.09,2,-999.000,1,-999.000,1,-999.000,1,  2371.4,6,  2379.4,2,    7.389,    25.00,   -0.38,6,    0.02,  -228.1,6,     3.3,  27.4781,2
49NZ200107_1,       P17C,      26,          1,         17,         17,2,20010806,       2030,    30.0002,  -134.9947,       4321,  1313.5,   3.0309,2,  34.5307,2,  34.5301,2,    48.12,1,   43.23,2,  130.04,2,   43.41,2,    0.00,2,    3.07,2,-999.000,1,-999.000,1,-999.000,1,  2372.3,2,  2386.4,2,    7.402,    25.00,   -0.45,2,    0.00,  -234.7,2,     2.9,  27.5161,2
49NZ200107_1,       P17C,      26,          1,         16,         16,2,20010806,       2030,    30.0002,  -134.9947,       4321,  1414.8,   2.8481,2,  34.5467,2,  34.5459,2,    52.97,1,   48.86,2,  133.80,2,   43.04,2,   -0.01,2,    3.05,2,-999.000,1,-999.000,1,-999.000,1,  2374.4,2,  2391.3,2,    7.411,    25.00,   -0.34,2,    0.00,  -244.2,2,     2.7,  27.5458,2
49NZ200107_1,       P17C,      26,          1,         15,         15,2,20010806,       2030,    30.0002,  -134.9947,       4321,  1516.5,   2.6299,2,  34.5648,2,  34.5642,2,    59.03,1,   54.81,2,  138.75,2,   42.63,2,   -0.01,2,    3.01,2,-999.000,1,-999.000,1,-999.000,1,  2374.8,2,  2396.0,2,    7.426,    25.00,   -0.33,2,    0.00,  -251.5,2,     2.8,  27.5797,2
49NZ200107_1,       P17C,      26,          1,         14,         14,2,20010806,       2030,    30.0002,  -134.9947,       4321,  1618.0,   2.4733,2,  34.5782,2,  34.5776,2,    63.61,1,   60.32,2,  142.40,2,   42.31,2,   -0.01,2,    2.98,2,-999.000,1,-999.000,1,-999.000,1,  2376.6,2,  2397.1,2,    7.436,    25.00,   -0.31,2,    0.00,  -249.2,2,     2.9,  27.6043,2
49NZ200107_1,       P17C,      26,          1,         13,         13,2,20010806,       2030,    30.0002,  -134.9947,       4321,  1821.2,   2.2155,2,  34.5999,2,  34.5995,2,    71.88,1,   68.41,2,  148.57,2,   41.96,2,   -0.01,2,    2.95,2,-999.000,1,-999.000,1,-999.000,1,  2377.4,2,  2406.6,2,    7.451,    25.00,   -0.30,2,    0.00,  -278.2,4,     2.9,  27.6439,2
49NZ200107_1,       P17C,      26,          1,         12,         12,2,20010806,       2030,    30.0002,  -134.9947,       4321,  2023.7,   1.9975,2,  34.6182,2,  34.6185,2,    80.42,1,   78.19,2,  154.49,2,   41.45,2,   -0.01,2,    2.92,2,-999.000,1,-999.000,1,-999.000,1,  2377.3,2,  2418.4,2,    7.470,    25.00,   -0.30,2,    0.00,  -250.5,2,     2.8,  27.6768,2
49NZ200107_1,       P17C,      26,          1,         11,         11,2,20010806,       2030,    30.0002,  -134.9947,       4321,  2227.4,   1.8402,2,  34.6338,2,  34.6338,2,    90.57,1,   89.26,2,  157.97,2,   40.68,2,    0.00,2,    2.85,2,-999.000,1,-999.000,1,-999.000,1,  2372.7,2,  2419.9,2,    7.488,    25.00,   -0.21,2,    0.00,  -254.4,2,     2.9,  27.7025,2
49NZ200107_1,       P17C,      26,          1,         10,         10,2,20010806,       2030,    30.0002,  -134.9947,       4321,  2430.9,   1.7416,2,  34.6441,2,  34.6440,2,    97.78,1,   96.75,2,  159.13,2,   40.10,2,    0.00,2,    2.80,2,-999.000,9,-999.000,9,-999.000,9,  -999.0,9,  -999.0,9, -999.000,  -999.00, -999.00,9, -999.00,  -999.0,9,  -999.0,  27.7193,2
49NZ200107_1,       P17C,      26,          1,          9,          9,2,20010806,       2030,    30.0002,  -134.9947,       4321,  2634.7,   1.6602,2,  34.6527,2,  34.6527,2,   105.27,1,  103.82,2,  159.58,2,   39.60,2,    0.00,2,    2.77,2,-999.000,1,-999.000,1,-999.000,1,  2367.9,2,  2425.7,2,    7.516,    25.00,   -0.14,2,    0.00,  -255.6,2,     2.9,  27.7333,2
49NZ200107_1,       P17C,      26,          1,          8,          8,2,20010806,       2030,    30.0002,  -134.9947,       4321,  2838.7,   1.5867,2,  34.6612,2,  34.6612,2,   113.62,1,  113.17,2,  158.71,2,   39.18,2,   -0.01,2,    2.73,2,-999.000,9,-999.000,9,-999.000,9,  -999.0,9,  -999.0,9, -999.000,  -999.00, -999.00,9, -999.00,  -999.0,9,  -999.0,  27.7467,2
49NZ200107_1,       P17C,      26,          1,          7,          7,2,20010806,       2030,    30.0002,  -134.9947,       4321,  3043.7,   1.5392,2,  34.6683,2,  34.6679,2,   120.99,1,  120.97,2,  157.91,2,   38.74,2,   -0.01,2,    2.69,2,-999.000,1,-999.000,1,-999.000,1,  2355.6,6,  2426.8,2,    7.541,    25.00,   -0.05,6,    0.00,  -250.4,6,     5.1,  27.7570,2
49NZ200107_1,       P17C,      26,          1,          6,          6,2,20010806,       2030,    30.0002,  -134.9947,       4321,  3298.7,   1.4862,2,  34.6754,2,  34.6758,2,   130.89,1,  130.27,2,  155.44,2,   38.12,2,   -0.01,2,    2.65,2,-999.000,9,-999.000,9,-999.000,9,  2350.1,2,  -999.0,9,    7.565,    25.00,    0.00,2,    0.00,  -259.3,4,     2.9,  27.7682,2
49NZ200107_1,       P17C,      26,          1,          5,          5,2,20010806,       2030,    30.0002,  -134.9947,       4321,  3554.8,   1.4704,2,  34.6800,2,-999.0000,9,   137.21,1,  136.81,2, -999.00,9, -999.00,9, -999.00,9, -999.00,9,-999.000,1,-999.000,1,-999.000,1,  2346.8,2,  2417.9,2,    7.573,    25.00, -999.00,5, -999.00,  -999.0,5,  -999.0,  27.7747,2
49NZ200107_1,       P17C,      26,          1,          4,          4,2,20010806,       2030,    30.0002,  -134.9947,       4321,  3811.1,   1.4735,2,  34.6825,2,  34.6829,2,   142.16,1,  140.71,2,  152.44,2,   37.29,2,    0.00,2,    2.57,2,-999.000,9,-999.000,9,-999.000,9,  -999.0,9,  -999.0,9, -999.000,  -999.00, -999.00,9, -999.00,  -999.0,9,  -999.0,  27.7784,2
49NZ200107_1,       P17C,      26,          1,          3,          3,2,20010806,       2030,    30.0002,  -134.9947,       4321,  4067.1,   1.4900,2,  34.6840,2,  34.6839,2,   145.40,1,  143.02,2,  151.85,2,   37.15,2,   -0.01,2,    2.56,2,-999.000,1,-999.000,1,-999.000,1,  2342.2,2,  2419.8,2,    7.583,    25.00,    0.08,2,    0.01,  -240.1,2,     2.8,  27.7803,2
49NZ200107_1,       P17C,      26,          1,          2,          2,2,20010806,       2030,    30.0002,  -134.9947,       4321,  4323.3,   1.5139,2,  34.6844,2,  34.6848,2,   147.86,1,  144.07,2,  149.63,2,   36.99,2,    0.00,2,    2.54,2,-999.000,9,-999.000,9,-999.000,9,  -999.0,9,  -999.0,9, -999.000,  -999.00, -999.00,9, -999.00,  -999.0,9,  -999.0,  27.7811,2
49NZ200107_1,       P17C,      26,          1,          1,          1,2,20010806,       2030,    30.0002,  -134.9947,       4321,  4549.2,   1.5394,2,  34.6846,2,  34.6846,2,   150.08,1,  144.41,2,  150.57,2,   37.07,2,   -0.01,2,    2.55,2,-999.000,1,-999.000,1,-999.000,1,  2339.6,2,  2420.2,2,    7.583,    25.00,    0.08,2,    0.00,  -230.6,2,     2.8,  27.7813,2