BOTTLE,20220817CCHSIOAMB
EXPOCODE,SECT_ID,STNNBR,CASTNO,SAMPNO,BTLNBR,BTLNBR_FLAG_W,DATE,TIME,LATITUDE,LONGITUDE,DEPTH,CTDPRS,CTDTMP,CTDTMP_FLAG_W,CTDSAL,CTDSAL_FLAG_W,SALNTY,SALNTY_FLAG_W,CTDOXY,CTDOXY_FLAG_W,OXYGEN,OXYGEN_FLAG_W,SILCAT,SILCAT_FLAG_W,NITRAT,NITRAT_FLAG_W,NITRIT,NITRIT_FLAG_W,PHSPHT,PHSPHT_FLAG_W,CFC-11,CFC-11_FLAG_W,CFC-12,CFC-12_FLAG_W,CFC113,CFC113_FLAG_W,TCARBN,TCARBN_FLAG_W,ALKALI,ALKALI_FLAG_W,PH_TOT,PH_TMP,DELC13,DELC13_FLAG_W,C13ERR,DELC14,DELC14_FLAG_W,C14ERR,THETA,THETA_FLAG_W
,,,,,,,,,,,METERS,DBAR,ITS-90,,PSS-78,,PSS-78,,UMOL/KG,,UMOL/KG,,UMOL/KG,,UMOL/KG,,UMOL/KG,,UMOL/KG,,PMOL/KG,,PMOL/KG,,PMOL/KG,,UMOL/KG,,UMOL/KG,,,DEG C,/MILLE,,/MILLE,/MILLE,,/MILLE,DEG C,
49NZ200107_1,       P17N,      75,          1,          0,        -99,9,20010820,       0400,    50.4917,  -150.7220,       5050,     4.5,-999.0000,9,-999.0000,9,  32.5770,2,  -999.00,9,  278.67,2,    9.14,2,   10.50,2,    0.20,2,    1.06,2,-999.000,9,-999.000,9,-999.000,9,  -999.0,9,  -999.0,9, -999.000,  -999.00, -999.00,9, -999.00,  -999.0,9,  -999.0,-999.0000,9
49NZ200107_1,       P17N,      75,          1,         36,         36,2,20010820,       0400,    50.4917,  -150.7220,       5050,    11.8,  12.2702,2,  32.5857,2,  32.5808,2,   268.90,1,  280.38,2,    8.01,2,   10.40,2,    0.22,2,    1.02,2,-999.000,9,-999.000,9,-999.000,9,  -999.0,9,  -999.0,9, -999.000,  -999.00, -999.00,9, -999.00,  -999.0,9,  -999.0,  24.6641,2
49NZ200107_1,       P17N,      75,          1,         35,         35,2,20010820,       0400,    50.4917,  -150.7220,       5050,    26.0,  10.3260,2,  32.6275,2,  32.6477,2,   286.08,1,  298.72,2,    2.24,2,   10.50,2,    0.23,2,    1.07,2,-999.000,9,-999.000,9,-999.000,9,  -999.0,9,  -999.0,9, -999.000,  -999.00, -999.00,9, -999.00,  -999.0,9,  -999.0,  25.0456,2
49NZ200107_1,       P17N,      75,          1,         34,         34,3,20010820,       0400,    50.4917,  -150.7220,       5050,    51.2,   5.1097,2,  32.7279,2,  32.7271,2,   286.81,1,  307.61,2,   23.11,2,   17.68,2,    0.86,2,    1.49,2,-999.000,9,-999.000,9,-999.000,9,  -999.0,9,  -999.0,9, -999.000,  -999.00, -999.00,9, -999.00,  -999.0,9,  -999.0,  25.8624,2
49NZ200107_1,       P17N,      75,          1,         33,         33,2,20010820,       0400,    50.4917,  -150.7220,       5050,    76.4,   4.7055,2,  32.7980,2,  32.7982,2,   283.10,1,  304.65,2,   27.00,2,   19.25,2,    0.07,2,    1.57,2,-999.000,9,-999.000,9,-999.000,9,  -999.0,9,  -999.0,9, -999.000,  -999.00, -999.00,9, -999.00,  -999.0,9,  -999.0,  25.9625,2
49NZ200107_1,       P17N,      75,          1,         32,         32,2,20010820,       0400,    50.4917,  -150.7220,       5050,   102.2,   4.2352,2,  32.9279,2,  32.9395,2,   259.40,1,  278.04,2,   32.97,2,   22.55,2,    0.06,2,    1.74,2,-999.000,9,-999.000,9,-999.000,9,  -999.0,9,  -999.0,9, -999.000,  -999.00, -999.00,9, -999.00,  -999.0,9,  -999.0,  26.1151,2
49NZ200107_1,       P17N,      75,          1,         31,         31,2,20010820,       0400,    50.4917,  -150.7220,       5050,   152.2,   4.0286,2,  33.6417,2,  33.6487,2,   113.49,1,  121.50,2,   62.60,2,   36.57,2,    0.06,2,    2.59,2,-999.000,9,-999.000,9,-999.000,9,  -999.0,9,  -999.0,9, -999.000,  -999.00, -999.00,9, -999.00,  -999.0,9,  -999.0,  26.7038,2
49NZ200107_1,       P17N,      75,          1,         30,         30,2,20010820,       0400,    50.4917,  -150.7220,       5050,   202.6,   3.9130,2,  33.8151,2,  33.8112,2,    75.89,1,   76.94,2,   74.80,2,   40.45,2,    0.06,2,    2.82,2,-999.000,9,-999.000,9,-999.000,9,  -999.0,9,  -999.0,9, -999.000,  -999.00, -999.00,9, -999.00,  -999.0,9,  -999.0,  26.8538,2
49NZ200107_1,       P17N,      75,          1,         29,         29,2,20010820,       0400,    50.4917,  -150.7220,       5050,   253.6,   3.8526,2,  33.8871,2,  33.8871,2,    56.93,1,   55.10,2,   82.45,2,   42.63,2,    0.06,2,    2.96,2,-999.000,9,-999.000,9,-999.000,9,  -999.0,9,  -999.0,9, -999.000,  -999.00, -999.00,9, -999.00,  -999.0,9,  -999.0,  26.9175,2
49NZ200107_1,       P17N,      75,          1,         28,         28,2,20010820,       0400,    50.4917,  -150.7220,       5050,   303.9,   3.8674,2,  33.9522,2,  33.9500,2,    49.91,1,   46.85,2,   87.47,2,   42.95,2,    0.05,2,    2.99,2,-999.000,9,-999.000,9,-999.000,9,  -999.0,9,  -999.0,9, -999.000,  -999.00, -999.00,9, -999.00,  -999.0,9,  -999.0,  26.9682,2
49NZ200107_1,       P17N,      75,          1,         27,         27,2,20010820,       0400,    50.4917,  -150.7220,       5050,   354.1,   3.8438,2,  34.0101,2,  34.0101,2,    42.82,1,   38.53,2,   93.01,2,   43.34,2,    0.06,2,    3.05,2,-999.000,9,-999.000,9,-999.000,9,  -999.0,9,  -999.0,9, -999.000,  -999.00, -999.00,9, -999.00,  -999.0,9,  -999.0,  27.0169,2
49NZ200107_1,       P17N,      75,          1,         26,         26,2,20010820,       0400,    50.4917,  -150.7220,       5050,   404.6,   3.7821,2,  34.0554,2,  34.0613,2,    35.67,1,   30.50,2,   98.21,2,   43.89,2,    0.05,2,    3.06,2,-999.000,9,-999.000,9,-999.000,9,  -999.0,9,  -999.0,9, -999.000,  -999.00, -999.00,9, -999.00,  -999.0,9,  -999.0,  27.0595,2
49NZ200107_1,       P17N,      75,          1,         25,         25,3,20010820,       0400,    50.4917,  -150.7220,       5050,   505.5,   3.6606,2,  34.1453,2,  34.1470,2,    29.97,1,   24.57,2,  106.89,2,   44.10,2,    0.05,2,    3.07,2,-999.000,9,-999.000,9,-999.000,9,  -999.0,9,  -999.0,9, -999.000,  -999.00, -999.00,9, -999.00,  -999.0,9,  -999.0,  27.1438,2
49NZ200107_1,       P17N,      75,          1,         24,         24,2,20010820,       0400,    50.4917,  -150.7220,       5050,   607.1,   3.4533,2,  34.2238,2,  34.2284,2,    27.61,1,   21.84,2,  116.37,2,   44.24,2,    0.05,2,    3.10,2,-999.000,9,-999.000,9,-999.000,9,  -999.0,9,  -999.0,9, -999.000,  -999.00, -999.00,9, -999.00,  -999.0,9,  -999.0,  27.2271,2
49NZ200107_1,       P17N,      75,          1,         23,         23,2,20010820,       0400,    50.4917,  -150.7220,       5050,   708.2,   3.2617,2,  34.2841,2,  34.2851,2,    27.53,1,   21.56,2,  122.93,2,   44.21,2,    0.05,2,    3.10,2,-999.000,9,-999.000,9,-999.000,9,  -999.0,9,  -999.0,9, -999.000,  -999.00, -999.00,9, -999.00,  -999.0,9,  -999.0,  27.2939,2
49NZ200107_1,       P17N,      75,          1,         22,         22,2,20010820,       0400,    50.4917,  -150.7220,       5050,   809.6,   3.0892,2,  34.3256,2,  34.3250,2,    27.64,1,   21.42,2,  128.64,2,   44.28,2,    0.05,2,    3.12,2,-999.000,9,-999.000,9,-999.000,9,  -999.0,9,  -999.0,9, -999.000,  -999.00, -999.00,9, -999.00,  -999.0,9,  -999.0,  27.3435,2
49NZ200107_1,       P17N,      75,          1,         21,         21,2,20010820,       0400,    50.4917,  -150.7220,       5050,   910.8,   2.9480,2,  34.3639,2,  34.3639,2,    27.54,1,   20.96,2,  133.55,2,   44.47,2,    0.05,2,    3.14,2,-999.000,9,-999.000,9,-999.000,9,  -999.0,9,  -999.0,9, -999.000,  -999.00, -999.00,9, -999.00,  -999.0,9,  -999.0,  27.3875,2
49NZ200107_1,       P17N,      75,          1,         20,         20,2,20010820,       0400,    50.4917,  -150.7220,       5050,  1011.9,   2.8163,2,  34.3957,2,  34.3959,2,    27.32,1,   20.28,2,  138.26,2,   44.68,2,    0.05,2,    3.16,2,-999.000,9,-999.000,9,-999.000,9,  -999.0,9,  -999.0,9, -999.000,  -999.00, -999.00,9, -999.00,  -999.0,9,  -999.0,  27.4251,2
49NZ200107_1,       P17N,      75,          1,         19,         19,2,20010820,       0400,    50.4917,  -150.7220,       5050,  1214.7,   2.5717,2,  34.4497,2,  34.4473,2,    28.87,1,   21.50,2,  146.57,2,   44.58,2,    0.06,2,    3.12,2,-999.000,9,-999.000,9,-999.000,9,  -999.0,9,  -999.0,9, -999.000,  -999.00, -999.00,9, -999.00,  -999.0,9,  -999.0,  27.4906,2
49NZ200107_1,       P17N,      75,          1,         18,         18,2,20010820,       0400,    50.4917,  -150.7220,       5050,  1417.3,   2.3723,2,  34.4942,2,  34.4944,2,    32.05,1,   24.58,2,  152.41,2,   44.62,2,    0.05,2,    3.10,2,-999.000,9,-999.000,9,-999.000,9,  -999.0,9,  -999.0,9, -999.000,  -999.00, -999.00,9, -999.00,  -999.0,9,  -999.0,  27.5440,2
49NZ200107_1,       P17N,      75,          1,         17,         17,2,20010820,       0400,    50.4917,  -150.7220,       5050,  1621.2,   2.1989,2,  34.5317,2,  34.5316,2,    39.65,1,   32.69,2,  156.26,2,   44.39,2,    0.05,2,    3.10,2,-999.000,9,-999.000,9,-999.000,9,  -999.0,9,  -999.0,9, -999.000,  -999.00, -999.00,9, -999.00,  -999.0,9,  -999.0,  27.5892,2
49NZ200107_1,       P17N,      75,          1,         16,         16,2,20010820,       0400,    50.4917,  -150.7220,       5050,  1824.1,   2.0486,2,  34.5643,2,  34.5644,2,    49.47,1,   44.18,2,  159.45,2,   43.66,2,    0.05,2,    3.06,2,-999.000,9,-999.000,9,-999.000,9,  -999.0,9,  -999.0,9, -999.000,  -999.00, -999.00,9, -999.00,  -999.0,9,  -999.0,  27.6284,2
49NZ200107_1,       P17N,      75,          1,         15,         15,2,20010820,       0400,    50.4917,  -150.7220,       5050,  2027.4,   1.9396,2,  34.5872,2,  34.5873,2,    58.78,1,   53.38,2,  160.67,2,   43.12,2,    0.04,2,    3.00,2,-999.000,9,-999.000,9,-999.000,9,  -999.0,9,  -999.0,9, -999.000,  -999.00, -999.00,9, -999.00,  -999.0,9,  -999.0,  27.6564,2
49NZ200107_1,       P17N,      75,          1,         14,         14,2,20010820,       0400,    50.4917,  -150.7220,       5050,  2231.9,   1.8341,2,  34.6081,2,  34.6085,2,    70.15,1,   64.97,2,  161.44,2,   42.46,2,    0.05,2,    2.94,2,-999.000,9,-999.000,9,-999.000,9,  -999.0,9,  -999.0,9, -999.000,  -999.00, -999.00,9, -999.00,  -999.0,9,  -999.0,  27.6823,2
49NZ200107_1,       P17N,      75,          1,         13,         13,2,20010820,       0400,    50.4917,  -150.7220,       5050,  2435.8,   1.7564,2,  34.6227,2,  34.6227,2,    81.02,1,   76.49,2,  161.30,2,   41.62,2,    0.05,2,    2.89,2,-999.000,9,-999.000,9,-999.000,9,  -999.0,9,  -999.0,9, -999.000,  -999.00, -999.00,9, -999.00,  -999.0,9,  -999.0,  27.7010,2
49NZ200107_1,       P17N,      75,          1,         12,         12,2,20010820,       0400,    50.4917,  -150.7220,       5050,  2639.7,   1.6816,2,  34.6368,2,  34.6368,2,    92.43,1,   88.91,2,  160.81,2,   40.75,2,    0.06,2,    2.85,2,-999.000,9,-999.000,9,-999.000,9,  -999.0,9,  -999.0,9, -999.000,  -999.00, -999.00,9, -999.00,  -999.0,9,  -999.0,  27.7190,2
49NZ200107_1,       P17N,      75,          1,         11,         11,2,20010820,       0400,    50.4917,  -150.7220,       5050,  2844.3,   1.6203,2,  34.6481,2,  34.6480,2,   103.16,1,  100.47,2,  159.97,2,   40.07,2,    0.05,2,    2.75,2,-999.000,9,-999.000,9,-999.000,9,  -999.0,9,  -999.0,9, -999.000,  -999.00, -999.00,9, -999.00,  -999.0,9,  -999.0,  27.7339,2
49NZ200107_1,       P17N,      75,          1,         10,         10,2,20010820,       0400,    50.4917,  -150.7220,       5050,  3048.5,   1.5723,2,  34.6575,2,  34.6572,2,   112.85,1,  110.60,2,  158.56,2,   39.28,2,    0.05,2,    2.74,2,-999.000,9,-999.000,9,-999.000,9,  -999.0,9,  -999.0,9, -999.000,  -999.00, -999.00,9, -999.00,  -999.0,9,  -999.0,  27.7461,2
49NZ200107_1,       P17N,      75,          1,          9,          9,2,20010820,       0400,    50.4917,  -150.7220,       5050,  3304.6,   1.5242,2,  34.6671,2,  34.6665,2,   123.97,1,  121.93,2,  156.22,2,   38.61,2,    0.05,2,    2.66,2,-999.000,9,-999.000,9,-999.000,9,  -999.0,9,  -999.0,9, -999.000,  -999.00, -999.00,9, -999.00,  -999.0,9,  -999.0,  27.7589,2
49NZ200107_1,       P17N,      75,          1,          8,          8,3,20010820,       0400,    50.4917,  -150.7220,       5050,  3560.5,   1.5042,2,  34.6730,2,  34.6708,2,   131.60,1,  129.56,2,  155.03,2,   38.05,2,    0.06,2,    2.63,2,-999.000,9,-999.000,9,-999.000,9,  -999.0,9,  -999.0,9, -999.000,  -999.00, -999.00,9, -999.00,  -999.0,9,  -999.0,  27.7668,2
49NZ200107_1,       P17N,      75,          1,          7,          7,2,20010820,       0400,    50.4917,  -150.7220,       5050,  3817.3,   1.4956,2,  34.6775,2,  34.6772,2,   137.72,1,  135.09,2,  155.26,2,   37.69,2,    0.05,2,    2.62,2,-999.000,9,-999.000,9,-999.000,9,  -999.0,9,  -999.0,9, -999.000,  -999.00, -999.00,9, -999.00,  -999.0,9,  -999.0,  27.7729,2
49NZ200107_1,       P17N,      75,          1,          6,          6,2,20010820,       0400,    50.4917,  -150.7220,       5050,  4074.1,   1.4980,2,  34.6809,2,  34.6809,2,   142.42,1,  138.70,2,  155.54,2,   37.43,2,    0.05,2,    2.59,2,-999.000,9,-999.000,9,-999.000,9,  -999.0,9,  -999.0,9, -999.000,  -999.00, -999.00,9, -999.00,  -999.0,9,  -999.0,  27.7774,2
49NZ200107_1,       P17N,      75,          1,          5,          5,2,20010820,       0400,    50.4917,  -150.7220,       5050,  4331.4,   1.5131,2,  34.6829,2,  34.6828,2,   145.62,1,  141.12,2,  156.29,2,   37.44,2,    0.06,2,    2.58,2,-999.000,9,-999.000,9,-999.000,9,  -999.0,9,  -999.0,9, -999.000,  -999.00, -999.00,9, -999.00,  -999.0,9,  -999.0,  27.7800,2
49NZ200107_1,       P17N,      75,          1,          4,          4,2,20010820,       0400,    50.4917,  -150.7220,       5050,  4588.4,   1.5339,2,  34.6844,2,  34.6848,2,   148.33,1,  142.19,2,  157.92,2,   37.32,2,    0.06,2,    2.58,2,-999.000,9,-999.000,9,-999.000,9,  -999.0,9,  -999.0,9, -999.000,  -999.00, -999.00,9, -999.00,  -999.0,9,  -999.0,  27.7818,2
49NZ200107_1,       P17N,      75,          1,          3,          3,2,20010820,       0400,    50.4917,  -150.7220,       5050,  4846.2,   1.5615,2,  34.6853,2,  34.6847,2,   150.31,1,  142.52,2,  160.19,2,   37.24,2,    0.06,2,    2.58,2,-999.000,9,-999.000,9,-999.000,9,  -999.0,9,  -999.0,9, -999.000,  -999.00, -999.00,9, -999.00,  -999.0,9,  -999.0,  27.7828,2
49NZ200107_1,       P17N,      75,          1,          2,          2,2,20010820,       0400,    50.4917,  -150.7220,       5050,  5103.4,   1.5927,2,  34.6855,2,  34.6861,2,   152.70,1,  142.50,2,  160.93,2,   37.34,2,    0.05,2,    2.56,2,-999.000,9,-999.000,9,-999.000,9,  -999.0,9,  -999.0,9, -999.000,  -999.00, -999.00,9, -999.00,  -999.0,9,  -999.0,  27.7831,2
49NZ200107_1,       P17N,      75,          1,          1,          1,2,20010820,       0400,    50.4917,  -150.7220,       5050,  5162.7,   1.6002,2,  34.6856,2,  34.6862,2,   153.37,1,  142.42,2,  161.22,2,   37.19,2,    0.06,2,    2.58,2,-999.000,9,-999.000,9,-999.000,9,  -999.0,9,  -999.0,9, -999.000,  -999.00, -999.00,9, -999.00,  -999.0,9,  -999.0,  27.7831,2