BOTTLE,20220817CCHSIOAMB
EXPOCODE,SECT_ID,STNNBR,CASTNO,SAMPNO,BTLNBR,BTLNBR_FLAG_W,DATE,TIME,LATITUDE,LONGITUDE,DEPTH,CTDPRS,CTDTMP,CTDTMP_FLAG_W,CTDSAL,CTDSAL_FLAG_W,SALNTY,SALNTY_FLAG_W,CTDOXY,CTDOXY_FLAG_W,OXYGEN,OXYGEN_FLAG_W,SILCAT,SILCAT_FLAG_W,NITRAT,NITRAT_FLAG_W,NITRIT,NITRIT_FLAG_W,PHSPHT,PHSPHT_FLAG_W,CFC-11,CFC-11_FLAG_W,CFC-12,CFC-12_FLAG_W,CFC113,CFC113_FLAG_W,TCARBN,TCARBN_FLAG_W,ALKALI,ALKALI_FLAG_W,PH_TOT,PH_TMP,DELC13,DELC13_FLAG_W,C13ERR,DELC14,DELC14_FLAG_W,C14ERR,THETA,THETA_FLAG_W
,,,,,,,,,,,METERS,DBAR,ITS-90,,PSS-78,,PSS-78,,UMOL/KG,,UMOL/KG,,UMOL/KG,,UMOL/KG,,UMOL/KG,,UMOL/KG,,PMOL/KG,,PMOL/KG,,PMOL/KG,,UMOL/KG,,UMOL/KG,,,DEG C,/MILLE,,/MILLE,/MILLE,,/MILLE,DEG C,
49NZ200107_1,       P17N,      47,          1,          0,        -99,9,20010813,       0428,    41.3167,  -135.4973,       3974,     4.5,-999.0000,9,-999.0000,9,  32.6549,2,  -999.00,9,  245.82,2,    2.66,2,    0.04,2,    0.01,2,    0.38,2,-999.000,9,-999.000,9,-999.000,9,  -999.0,9,  -999.0,9, -999.000,  -999.00, -999.00,9, -999.00,  -999.0,9,  -999.0,-999.0000,9
49NZ200107_1,       P17N,      47,          1,         36,         36,2,20010813,       0428,    41.3167,  -135.4973,       3974,    11.1,  17.8458,2,  32.6546,2,  32.6551,2,   237.23,1,  246.28,2,    5.36,2,    0.08,2,    0.01,2,    0.31,2,-999.000,9,-999.000,9,-999.000,9,  -999.0,9,  -999.0,9, -999.000,  -999.00, -999.00,9, -999.00,  -999.0,9,  -999.0,  23.5144,2
49NZ200107_1,       P17N,      47,          1,         35,         35,2,20010813,       0428,    41.3167,  -135.4973,       3974,    25.7,  17.1521,2,  32.6111,2,  32.6302,2,   248.22,1,  258.84,2,    4.85,2,    0.01,2,    0.00,2,    0.32,2,-999.000,9,-999.000,9,-999.000,9,  -999.0,9,  -999.0,9, -999.000,  -999.00, -999.00,9, -999.00,  -999.0,9,  -999.0,  23.6468,2
49NZ200107_1,       P17N,      47,          1,         34,         34,2,20010813,       0428,    41.3167,  -135.4973,       3974,    50.7,  12.4405,2,  32.5992,2,  32.6030,2,   288.01,1,  301.31,2,    5.69,2,    0.02,2,    0.00,2,    0.36,2,-999.000,9,-999.000,9,-999.000,9,  -999.0,9,  -999.0,9, -999.000,  -999.00, -999.00,9, -999.00,  -999.0,9,  -999.0,  24.6432,2
49NZ200107_1,       P17N,      47,          1,         33,         33,2,20010813,       0428,    41.3167,  -135.4973,       3974,    75.7,  10.6183,2,  32.6265,2,  32.6234,2,   262.41,1,  273.89,2,    9.58,2,    4.13,2,    0.24,2,    0.63,2,-999.000,9,-999.000,9,-999.000,9,  -999.0,9,  -999.0,9, -999.000,  -999.00, -999.00,9, -999.00,  -999.0,9,  -999.0,  24.9959,2
49NZ200107_1,       P17N,      47,          1,         32,         32,2,20010813,       0428,    41.3167,  -135.4973,       3974,   101.6,   9.8973,2,  32.6357,2,  32.6393,2,   256.27,1,  265.75,2,    9.93,2,    6.87,2,    0.10,2,    0.79,2,-999.000,9,-999.000,9,-999.000,9,  -999.0,9,  -999.0,9, -999.000,  -999.00, -999.00,9, -999.00,  -999.0,9,  -999.0,  25.1251,2
49NZ200107_1,       P17N,      47,          1,         31,         31,2,20010813,       0428,    41.3167,  -135.4973,       3974,   152.0,   8.0899,2,  33.0949,2,  33.1289,2,   233.36,1,  244.15,2,   17.11,2,   13.38,2,    0.01,2,    1.12,2,-999.000,9,-999.000,9,-999.000,9,  -999.0,9,  -999.0,9, -999.000,  -999.00, -999.00,9, -999.00,  -999.0,9,  -999.0,  25.7669,2
49NZ200107_1,       P17N,      47,          1,         30,         30,2,20010813,       0428,    41.3167,  -135.4973,       3974,   202.0,   8.3782,2,  33.8682,2,  33.8727,2,   202.69,1,  212.47,2,   24.31,2,   17.93,2,    0.00,2,    1.28,2,-999.000,9,-999.000,9,-999.000,9,  -999.0,9,  -999.0,9, -999.000,  -999.00, -999.00,9, -999.00,  -999.0,9,  -999.0,  26.3314,2
49NZ200107_1,       P17N,      47,          1,         29,         29,2,20010813,       0428,    41.3167,  -135.4973,       3974,   253.2,   8.0817,2,  33.9993,2,  33.9990,2,   172.88,1,  179.91,2,   33.18,2,   22.64,2,    0.00,2,    1.57,2,-999.000,9,-999.000,9,-999.000,9,  -999.0,9,  -999.0,9, -999.000,  -999.00, -999.00,9, -999.00,  -999.0,9,  -999.0,  26.4796,2
49NZ200107_1,       P17N,      47,          1,         28,         28,2,20010813,       0428,    41.3167,  -135.4973,       3974,   303.7,   7.4238,2,  33.9931,2,  33.9898,2,   150.40,1,  154.76,2,   40.07,2,   26.69,2,    0.00,2,    1.82,2,-999.000,9,-999.000,9,-999.000,9,  -999.0,9,  -999.0,9, -999.000,  -999.00, -999.00,9, -999.00,  -999.0,9,  -999.0,  26.5707,2
49NZ200107_1,       P17N,      47,          1,         27,         27,2,20010813,       0428,    41.3167,  -135.4973,       3974,   354.0,   6.4519,2,  33.9706,2,  33.9699,2,   115.83,1,  118.77,2,   51.17,2,   31.95,2,    0.00,2,    2.21,2,-999.000,9,-999.000,9,-999.000,9,  -999.0,9,  -999.0,9, -999.000,  -999.00, -999.00,9, -999.00,  -999.0,9,  -999.0,  26.6854,2
49NZ200107_1,       P17N,      47,          1,         26,         26,2,20010813,       0428,    41.3167,  -135.4973,       3974,   403.8,   5.7890,2,  33.9626,2,  33.9619,2,   100.42,1,  103.05,2,   59.43,2,   34.65,2,    0.00,2,    2.42,2,-999.000,9,-999.000,9,-999.000,9,  -999.0,9,  -999.0,9, -999.000,  -999.00, -999.00,9, -999.00,  -999.0,9,  -999.0,  26.7634,2
49NZ200107_1,       P17N,      47,          1,         25,         25,2,20010813,       0428,    41.3167,  -135.4973,       3974,   502.0,   4.9089,2,  33.9872,2,  33.9898,2,    70.59,1,   68.62,2,   74.21,2,   39.16,2,    0.00,2,    2.73,2,-999.000,9,-999.000,9,-999.000,9,  -999.0,9,  -999.0,9, -999.000,  -999.00, -999.00,9, -999.00,  -999.0,9,  -999.0,  26.8871,2
49NZ200107_1,       P17N,      47,          1,         24,         24,2,20010813,       0428,    41.3167,  -135.4973,       3974,   606.3,   4.3795,2,  34.0766,2,  34.0808,2,    41.72,1,   36.98,2,   90.09,2,   42.28,2,   -0.01,2,    2.95,2,-999.000,9,-999.000,9,-999.000,9,  -999.0,9,  -999.0,9, -999.000,  -999.00, -999.00,9, -999.00,  -999.0,9,  -999.0,  27.0167,2
49NZ200107_1,       P17N,      47,          1,         23,         23,2,20010813,       0428,    41.3167,  -135.4973,       3974,   707.7,   4.0413,2,  34.1687,2,  34.1711,2,    24.20,1,   19.05,2,  102.63,2,   43.84,2,    0.00,2,    3.09,2,-999.000,9,-999.000,9,-999.000,9,  -999.0,9,  -999.0,9, -999.000,  -999.00, -999.00,9, -999.00,  -999.0,9,  -999.0,  27.1259,2
49NZ200107_1,       P17N,      47,          1,         22,         22,2,20010813,       0428,    41.3167,  -135.4973,       3974,   808.8,   3.7939,2,  34.2486,2,  34.2483,2,    17.19,1, -999.00,5,  110.83,2,   44.60,2,   -0.01,2,    3.15,2,-999.000,9,-999.000,9,-999.000,9,  -999.0,9,  -999.0,9, -999.000,  -999.00, -999.00,9, -999.00,  -999.0,9,  -999.0,  27.2152,2
49NZ200107_1,       P17N,      47,          1,         21,         21,3,20010813,       0428,    41.3167,  -135.4973,       3974,   909.9,   3.5843,2,  34.3270,2,  34.3255,2,    14.84,1,    7.72,2,  119.51,2,   44.92,2,   -0.01,2,    3.21,2,-999.000,9,-999.000,9,-999.000,9,  -999.0,9,  -999.0,9, -999.000,  -999.00, -999.00,9, -999.00,  -999.0,9,  -999.0,  27.2990,2
49NZ200107_1,       P17N,      47,          1,         20,         20,2,20010813,       0428,    41.3167,  -135.4973,       3974,  1011.2,   3.4155,2,  34.3776,2,  34.3781,2,    15.79,1,    8.08,2,  125.26,2,   44.97,2,   -0.01,2,    3.24,2,-999.000,9,-999.000,9,-999.000,9,  -999.0,9,  -999.0,9, -999.000,  -999.00, -999.00,9, -999.00,  -999.0,9,  -999.0,  27.3562,2
49NZ200107_1,       P17N,      47,          1,         19,         19,2,20010813,       0428,    41.3167,  -135.4973,       3974,  1112.1,   3.2257,2,  34.4121,2,  34.4121,2,    17.28,1,    9.31,2,  130.80,2,   45.22,2,    0.00,2,    3.20,2,-999.000,9,-999.000,9,-999.000,9,  -999.0,9,  -999.0,9, -999.000,  -999.00, -999.00,9, -999.00,  -999.0,9,  -999.0,  27.4022,2
49NZ200107_1,       P17N,      47,          1,         18,         18,2,20010813,       0428,    41.3167,  -135.4973,       3974,  1213.8,   3.0048,2,  34.4479,2,  34.4484,2,    20.12,1,   12.38,2,  137.63,2,   45.01,2,    0.00,2,    3.21,2,-999.000,9,-999.000,9,-999.000,9,  -999.0,9,  -999.0,9, -999.000,  -999.00, -999.00,9, -999.00,  -999.0,9,  -999.0,  27.4516,2
49NZ200107_1,       P17N,      47,          1,         17,         17,2,20010813,       0428,    41.3167,  -135.4973,       3974,  1315.4,   2.8003,2,  34.4775,2,  34.4772,2,    23.91,1,   16.13,2,  143.27,2,   44.97,2,    0.00,2,    3.18,2,-999.000,9,-999.000,9,-999.000,9,  -999.0,9,  -999.0,9, -999.000,  -999.00, -999.00,9, -999.00,  -999.0,9,  -999.0,  27.4939,2
49NZ200107_1,       P17N,      47,          1,         16,         16,2,20010813,       0428,    41.3167,  -135.4973,       3974,  1416.4,   2.6167,2,  34.5049,2,  34.5044,2,    29.46,1,   22.29,2,  148.59,2,   44.66,2,    0.00,2,    3.16,2,-999.000,9,-999.000,9,-999.000,9,  -999.0,9,  -999.0,9, -999.000,  -999.00, -999.00,9, -999.00,  -999.0,9,  -999.0,  27.5323,2
49NZ200107_1,       P17N,      47,          1,         15,         15,2,20010813,       0428,    41.3167,  -135.4973,       3974,  1518.1,   2.4580,2,  34.5263,2,-999.0000,9,    35.09,1,   28.80,2,  152.67,2,   44.36,2,    0.00,2,    3.11,2,-999.000,9,-999.000,9,-999.000,9,  -999.0,9,  -999.0,9, -999.000,  -999.00, -999.00,9, -999.00,  -999.0,9,  -999.0,  27.5634,2
49NZ200107_1,       P17N,      47,          1,         14,         14,2,20010813,       0428,    41.3167,  -135.4973,       3974,  1618.8,   2.3391,2,  34.5425,2,  34.5434,2,    40.92,1,   34.36,2,  155.84,2,   44.04,2,   -0.01,2,    3.11,2,-999.000,9,-999.000,9,-999.000,9,  -999.0,9,  -999.0,9, -999.000,  -999.00, -999.00,9, -999.00,  -999.0,9,  -999.0,  27.5867,2
49NZ200107_1,       P17N,      47,          1,         13,         13,2,20010813,       0428,    41.3167,  -135.4973,       3974,  1721.0,   2.2062,2,  34.5622,2,  34.5623,2,    47.76,1,   41.79,2,  158.85,2,   43.58,2,    0.00,2,    3.08,2,-999.000,9,-999.000,9,-999.000,9,  -999.0,9,  -999.0,9, -999.000,  -999.00, -999.00,9, -999.00,  -999.0,9,  -999.0,  27.6137,2
49NZ200107_1,       P17N,      47,          1,         12,         12,2,20010813,       0428,    41.3167,  -135.4973,       3974,  1822.9,   2.1214,2,  34.5759,2,  34.5764,2,    53.91,1,   47.60,2,  160.72,2,   43.24,2,    0.00,2,    3.05,2,-999.000,9,-999.000,9,-999.000,9,  -999.0,9,  -999.0,9, -999.000,  -999.00, -999.00,9, -999.00,  -999.0,9,  -999.0,  27.6320,2
49NZ200107_1,       P17N,      47,          1,         11,         11,2,20010813,       0428,    41.3167,  -135.4973,       3974,  1924.4,   2.0308,2,  34.5908,2,  34.5912,2,    61.06,1,   55.50,2,  161.36,2,   42.77,2,    0.00,2,    2.98,2,-999.000,9,-999.000,9,-999.000,9,  -999.0,9,  -999.0,9, -999.000,  -999.00, -999.00,9, -999.00,  -999.0,9,  -999.0,  27.6517,2
49NZ200107_1,       P17N,      47,          1,         10,         10,2,20010813,       0428,    41.3167,  -135.4973,       3974,  2026.2,   1.9549,2,  34.6043,2,  34.6045,2,    68.16,1,   63.00,2,  162.43,2,   42.24,2,    0.00,2,    2.96,2,-999.000,9,-999.000,9,-999.000,9,  -999.0,9,  -999.0,9, -999.000,  -999.00, -999.00,9, -999.00,  -999.0,9,  -999.0,  27.6689,2
49NZ200107_1,       P17N,      47,          1,          9,          9,2,20010813,       0428,    41.3167,  -135.4973,       3974,  2230.3,   1.8542,2,  34.6209,2,  34.6206,2,    78.46,1,   74.06,2,  163.79,2,   41.53,2,    0.00,2,    2.92,2,-999.000,9,-999.000,9,-999.000,9,  -999.0,9,  -999.0,9, -999.000,  -999.00, -999.00,9, -999.00,  -999.0,9,  -999.0,  27.6911,2
49NZ200107_1,       P17N,      47,          1,          8,          8,2,20010813,       0428,    41.3167,  -135.4973,       3974,  2433.1,   1.7670,2,  34.6334,2,  34.6333,2,    87.78,1,   83.78,2,  164.48,2,   40.95,2,    0.00,2,    2.88,2,-999.000,9,-999.000,9,-999.000,9,  -999.0,9,  -999.0,9, -999.000,  -999.00, -999.00,9, -999.00,  -999.0,9,  -999.0,  27.7089,2
49NZ200107_1,       P17N,      47,          1,          7,          7,3,20010813,       0428,    41.3167,  -135.4973,       3974,  2637.4,   1.6846,2,  34.6449,2,  34.6442,2,    97.94,1,   94.92,2,  162.37,2,   40.29,2,    0.00,2,    2.83,2,-999.000,9,-999.000,9,-999.000,9,  -999.0,9,  -999.0,9, -999.000,  -999.00, -999.00,9, -999.00,  -999.0,9,  -999.0,  27.7253,2
49NZ200107_1,       P17N,      47,          1,          6,          6,2,20010813,       0428,    41.3167,  -135.4973,       3974,  2842.1,   1.6318,2,  34.6528,2,  34.6528,2,   105.65,1,  102.46,2,  161.61,2,   39.88,2,    0.00,2,    2.79,2,-999.000,9,-999.000,9,-999.000,9,  -999.0,9,  -999.0,9, -999.000,  -999.00, -999.00,9, -999.00,  -999.0,9,  -999.0,  27.7368,2
49NZ200107_1,       P17N,      47,          1,          5,          5,2,20010813,       0428,    41.3167,  -135.4973,       3974,  3046.1,   1.5980,2,  34.6585,2,  34.6648,3,   112.10,1,  108.63,2,  162.18,2,   39.44,2,    0.00,2,    2.76,2,-999.000,9,-999.000,9,-999.000,9,  -999.0,9,  -999.0,9, -999.000,  -999.00, -999.00,9, -999.00,  -999.0,9,  -999.0,  27.7452,2
49NZ200107_1,       P17N,      47,          1,          4,          4,2,20010813,       0428,    41.3167,  -135.4973,       3974,  3302.1,   1.5689,2,  34.6650,2,  34.6650,2,   118.79,1,  114.95,2,  162.75,2,   39.00,2,    0.00,2,    2.73,2,-999.000,9,-999.000,9,-999.000,9,  -999.0,9,  -999.0,9, -999.000,  -999.00, -999.00,9, -999.00,  -999.0,9,  -999.0,  27.7541,2
49NZ200107_1,       P17N,      47,          1,          3,          3,2,20010813,       0428,    41.3167,  -135.4973,       3974,  3558.0,   1.5525,2,  34.6702,2,  34.6702,2,   124.67,1,  120.23,2,  162.90,2,   38.74,2,    0.00,2,    2.71,2,-999.000,9,-999.000,9,-999.000,9,  -999.0,9,  -999.0,9, -999.000,  -999.00, -999.00,9, -999.00,  -999.0,9,  -999.0,  27.7613,2
49NZ200107_1,       P17N,      47,          1,          2,          2,2,20010813,       0428,    41.3167,  -135.4973,       3974,  3814.3,   1.5505,2,  34.6742,2,  34.6742,2,   129.35,1,  124.49,2,  163.62,2,   38.50,2,    0.01,2,    2.66,2,-999.000,9,-999.000,9,-999.000,9,  -999.0,9,  -999.0,9, -999.000,  -999.00, -999.00,9, -999.00,  -999.0,9,  -999.0,  27.7665,2
49NZ200107_1,       P17N,      47,          1,          1,          1,2,20010813,       0428,    41.3167,  -135.4973,       3974,  4031.5,   1.5516,2,  34.6777,2,  34.6776,2,   133.35,1,  126.88,2,  165.13,2,   38.22,2,    0.00,2,    2.65,2,-999.000,9,-999.000,9,-999.000,9,  -999.0,9,  -999.0,9, -999.000,  -999.00, -999.00,9, -999.00,  -999.0,9,  -999.0,  27.7709,2