BOTTLE,20220817CCHSIOAMB
EXPOCODE,SECT_ID,STNNBR,CASTNO,SAMPNO,BTLNBR,BTLNBR_FLAG_W,DATE,TIME,LATITUDE,LONGITUDE,DEPTH,CTDPRS,CTDTMP,CTDTMP_FLAG_W,CTDSAL,CTDSAL_FLAG_W,SALNTY,SALNTY_FLAG_W,CTDOXY,CTDOXY_FLAG_W,OXYGEN,OXYGEN_FLAG_W,SILCAT,SILCAT_FLAG_W,NITRAT,NITRAT_FLAG_W,NITRIT,NITRIT_FLAG_W,PHSPHT,PHSPHT_FLAG_W,CFC-11,CFC-11_FLAG_W,CFC-12,CFC-12_FLAG_W,CFC113,CFC113_FLAG_W,TCARBN,TCARBN_FLAG_W,ALKALI,ALKALI_FLAG_W,PH_TOT,PH_TMP,DELC13,DELC13_FLAG_W,C13ERR,DELC14,DELC14_FLAG_W,C14ERR,THETA,THETA_FLAG_W
,,,,,,,,,,,METERS,DBAR,ITS-90,,PSS-78,,PSS-78,,UMOL/KG,,UMOL/KG,,UMOL/KG,,UMOL/KG,,UMOL/KG,,UMOL/KG,,PMOL/KG,,PMOL/KG,,PMOL/KG,,UMOL/KG,,UMOL/KG,,,DEG C,/MILLE,,/MILLE,/MILLE,,/MILLE,DEG C,
49NZ200107_1,       P17N,      92,          1,          0,        -99,9,20010825,       0428,    54.2788,  -157.9438,       3801,     4.5,-999.0000,9,-999.0000,9,  32.4853,2,  -999.00,9,  281.56,2,   15.14,2,    5.88,2,    0.09,2,    0.77,2,-999.000,9,-999.000,9,-999.000,9,  -999.0,9,  -999.0,9, -999.000,  -999.00, -999.00,9, -999.00,  -999.0,9,  -999.0,-999.0000,9
49NZ200107_1,       P17N,      92,          1,         36,         36,2,20010825,       0428,    54.2788,  -157.9438,       3801,    11.9,  10.7537,2,  32.5135,2,  32.5085,2,   272.31,1,  287.86,2,   15.84,2,    7.09,2,    0.10,2,    0.79,2,-999.000,9,-999.000,9,-999.000,9,  -999.0,9,  -999.0,9, -999.000,  -999.00, -999.00,9, -999.00,  -999.0,9,  -999.0,  24.8831,2
49NZ200107_1,       P17N,      92,          1,         35,         35,2,20010825,       0428,    54.2788,  -157.9438,       3801,    25.6,   9.7522,2,  32.5663,2,  32.5800,2,   275.52,1,  292.68,2,   17.94,2,    9.67,2,    0.15,2,    0.98,2,-999.000,9,-999.000,9,-999.000,9,  -999.0,9,  -999.0,9, -999.000,  -999.00, -999.00,9, -999.00,  -999.0,9,  -999.0,  25.0934,2
49NZ200107_1,       P17N,      92,          1,         34,         34,2,20010825,       0428,    54.2788,  -157.9438,       3801,    51.5,   5.3008,2,  32.9019,2,  32.9135,2,   266.69,1,  297.05,2,   28.58,2,   20.49,2,    0.29,2,    1.64,2,-999.000,9,-999.000,9,-999.000,9,  -999.0,9,  -999.0,9, -999.000,  -999.00, -999.00,9, -999.00,  -999.0,9,  -999.0,  25.9785,2
49NZ200107_1,       P17N,      92,          1,         33,         33,2,20010825,       0428,    54.2788,  -157.9438,       3801,    76.5,   4.5689,2,  33.1538,2,  33.1819,2,   201.33,1,  235.19,2,   38.79,2,   27.16,2,    0.00,2,    2.04,2,-999.000,9,-999.000,9,-999.000,9,  -999.0,9,  -999.0,9, -999.000,  -999.00, -999.00,9, -999.00,  -999.0,9,  -999.0,  26.2594,2
49NZ200107_1,       P17N,      92,          1,         32,         32,2,20010825,       0428,    54.2788,  -157.9438,       3801,   102.0,   4.8453,2,  33.5204,2,  33.5076,2,   138.15,1,  153.45,2,   49.07,2,   32.75,2,    0.00,2,    2.35,2,-999.000,9,-999.000,9,-999.000,9,  -999.0,9,  -999.0,9, -999.000,  -999.00, -999.00,9, -999.00,  -999.0,9,  -999.0,  26.5204,2
49NZ200107_1,       P17N,      92,          1,         31,         31,2,20010825,       0428,    54.2788,  -157.9438,       3801,   152.5,   4.5562,2,  33.8802,2,  33.8804,2,    57.33,1,   59.14,2,   70.23,2,   41.02,2,   -0.01,2,    2.84,2,-999.000,9,-999.000,9,-999.000,9,  -999.0,9,  -999.0,9, -999.000,  -999.00, -999.00,9, -999.00,  -999.0,9,  -999.0,  26.8380,2
49NZ200107_1,       P17N,      92,          1,         30,         30,2,20010825,       0428,    54.2788,  -157.9438,       3801,   202.9,   4.2693,2,  33.9526,2,  33.9504,2,    40.88,1,   39.32,2,   79.57,2,   42.96,2,   -0.01,2,    2.98,2,-999.000,9,-999.000,9,-999.000,9,  -999.0,9,  -999.0,9, -999.000,  -999.00, -999.00,9, -999.00,  -999.0,9,  -999.0,  26.9265,2
49NZ200107_1,       P17N,      92,          1,         29,         29,2,20010825,       0428,    54.2788,  -157.9438,       3801,   253.3,   4.1022,2,  33.9820,2,  33.9809,2,    32.89,1,   28.65,2,   85.44,2,   43.92,2,   -0.01,2,    3.06,2,-999.000,9,-999.000,9,-999.000,9,  -999.0,9,  -999.0,9, -999.000,  -999.00, -999.00,9, -999.00,  -999.0,9,  -999.0,  26.9677,2
49NZ200107_1,       P17N,      92,          1,         28,         28,2,20010825,       0428,    54.2788,  -157.9438,       3801,   304.2,   4.0048,2,  34.0311,2,  34.0311,2,    29.45,1,   24.39,2,   91.24,2,   44.07,2,   -0.01,2,    3.06,2,-999.000,9,-999.000,9,-999.000,9,  -999.0,9,  -999.0,9, -999.000,  -999.00, -999.00,9, -999.00,  -999.0,9,  -999.0,  27.0171,2
49NZ200107_1,       P17N,      92,          1,         27,         27,3,20010825,       0428,    54.2788,  -157.9438,       3801,   354.4,   3.9026,2,  34.0738,2,  34.0733,2,    27.92,1,   22.87,2,   96.18,2,   44.03,2,   -0.01,2,    3.13,2,-999.000,9,-999.000,9,-999.000,9,  -999.0,9,  -999.0,9, -999.000,  -999.00, -999.00,9, -999.00,  -999.0,9,  -999.0,  27.0618,2
49NZ200107_1,       P17N,      92,          1,         26,         26,2,20010825,       0428,    54.2788,  -157.9438,       3801,   405.0,   3.8315,2,  34.1115,2,  34.1169,2,    26.78,1,   20.73,2,  100.87,2,   44.02,2,   -0.01,2,    3.13,2,-999.000,9,-999.000,9,-999.000,9,  -999.0,9,  -999.0,9, -999.000,  -999.00, -999.00,9, -999.00,  -999.0,9,  -999.0,  27.0993,2
49NZ200107_1,       P17N,      92,          1,         25,         25,2,20010825,       0428,    54.2788,  -157.9438,       3801,   505.9,   3.6961,2,  34.1906,2,  34.1919,2,    24.03,1,   18.41,2,  108.61,2,   44.04,2,   -0.01,2,    3.15,2,-999.000,9,-999.000,9,-999.000,9,  -999.0,9,  -999.0,9, -999.000,  -999.00, -999.00,9, -999.00,  -999.0,9,  -999.0,  27.1764,2
49NZ200107_1,       P17N,      92,          1,         24,         24,2,20010825,       0428,    54.2788,  -157.9438,       3801,   606.9,   3.4426,2,  34.2536,2,  34.2528,2,    22.39,1,   15.99,2,  116.94,2,   44.19,2,   -0.01,2,    3.16,2,-999.000,9,-999.000,9,-999.000,9,  -999.0,9,  -999.0,9, -999.000,  -999.00, -999.00,9, -999.00,  -999.0,9,  -999.0,  27.2518,2
49NZ200107_1,       P17N,      92,          1,         23,         23,2,20010825,       0428,    54.2788,  -157.9438,       3801,   708.0,   3.2487,2,  34.3021,2,  34.3017,2,    22.02,1,   15.18,2,  123.78,2,   44.42,2,    0.00,2,    3.19,2,-999.000,9,-999.000,9,-999.000,9,  -999.0,9,  -999.0,9, -999.000,  -999.00, -999.00,9, -999.00,  -999.0,9,  -999.0,  27.3094,2
49NZ200107_1,       P17N,      92,          1,         22,         22,2,20010825,       0428,    54.2788,  -157.9438,       3801,   809.5,   3.0969,2,  34.3361,2,  34.3372,2,    22.51,1,   15.22,2,  128.95,2,   44.44,2,   -0.01,2,    3.19,2,-999.000,9,-999.000,9,-999.000,9,  -999.0,9,  -999.0,9, -999.000,  -999.00, -999.00,9, -999.00,  -999.0,9,  -999.0,  27.3512,2
49NZ200107_1,       P17N,      92,          1,         21,         21,2,20010825,       0428,    54.2788,  -157.9438,       3801,   911.3,   2.9308,2,  34.3714,2,  34.3711,2,    23.54,1,   15.67,2,  134.26,2,   44.51,2,   -0.02,2,    3.20,2,-999.000,9,-999.000,9,-999.000,9,  -999.0,9,  -999.0,9, -999.000,  -999.00, -999.00,9, -999.00,  -999.0,9,  -999.0,  27.3950,2
49NZ200107_1,       P17N,      92,          1,         20,         20,2,20010825,       0428,    54.2788,  -157.9438,       3801,  1012.0,   2.7909,2,  34.4007,2,  34.4011,2,    25.00,1,   17.34,2,  138.74,2,   44.54,2,   -0.01,2,    3.19,2,-999.000,9,-999.000,9,-999.000,9,  -999.0,9,  -999.0,9, -999.000,  -999.00, -999.00,9, -999.00,  -999.0,9,  -999.0,  27.4313,2
49NZ200107_1,       P17N,      92,          1,         19,         19,2,20010825,       0428,    54.2788,  -157.9438,       3801,  1114.2,   2.6488,2,  34.4309,2,  34.4315,2,    27.10,1,   19.49,2,  144.24,2,   44.44,2,    0.00,2,    3.14,2,-999.000,9,-999.000,9,-999.000,9,  -999.0,9,  -999.0,9, -999.000,  -999.00, -999.00,9, -999.00,  -999.0,9,  -999.0,  27.4684,2
49NZ200107_1,       P17N,      92,          1,         18,         18,2,20010825,       0428,    54.2788,  -157.9438,       3801,  1216.1,   2.5134,2,  34.4598,2,  34.4596,2,    30.19,1,   22.50,2,  148.76,2,   44.32,2,   -0.01,2,    3.16,2,-999.000,9,-999.000,9,-999.000,9,  -999.0,9,  -999.0,9, -999.000,  -999.00, -999.00,9, -999.00,  -999.0,9,  -999.0,  27.5036,2
49NZ200107_1,       P17N,      92,          1,         17,         17,2,20010825,       0428,    54.2788,  -157.9438,       3801,  1316.7,   2.4144,2,  34.4810,2,  34.4815,2,    33.46,1,   25.82,2,  153.10,2,   44.17,2,   -0.01,2,    3.17,2,-999.000,9,-999.000,9,-999.000,9,  -999.0,9,  -999.0,9, -999.000,  -999.00, -999.00,9, -999.00,  -999.0,9,  -999.0,  27.5294,2
49NZ200107_1,       P17N,      92,          1,         16,         16,2,20010825,       0428,    54.2788,  -157.9438,       3801,  1418.5,   2.3069,2,  34.5041,2,  34.5037,2,    37.53,1,   30.49,2,  156.24,2,   44.04,2,   -0.01,2,    3.15,2,-999.000,9,-999.000,9,-999.000,9,  -999.0,9,  -999.0,9, -999.000,  -999.00, -999.00,9, -999.00,  -999.0,9,  -999.0,  27.5573,2
49NZ200107_1,       P17N,      92,          1,         15,         15,2,20010825,       0428,    54.2788,  -157.9438,       3801,  1519.9,   2.1936,2,  34.5275,2,  34.5269,2,    43.80,1,   36.49,2,  158.43,2,   43.59,2,   -0.01,2,    3.11,2,-999.000,9,-999.000,9,-999.000,9,  -999.0,9,  -999.0,9, -999.000,  -999.00, -999.00,9, -999.00,  -999.0,9,  -999.0,  27.5856,2
49NZ200107_1,       P17N,      92,          1,         14,         14,2,20010825,       0428,    54.2788,  -157.9438,       3801,  1621.3,   2.1011,2,  34.5468,2,  34.5464,2,    49.74,1,   42.52,2,  160.80,2,   43.22,2,   -0.01,2,    3.07,2,-999.000,9,-999.000,9,-999.000,9,  -999.0,9,  -999.0,9, -999.000,  -999.00, -999.00,9, -999.00,  -999.0,9,  -999.0,  27.6090,2
49NZ200107_1,       P17N,      92,          1,         13,         13,2,20010825,       0428,    54.2788,  -157.9438,       3801,  1722.8,   2.0359,2,  34.5603,2,  34.5601,2,    54.93,1,   48.19,2,  161.99,2,   42.85,2,   -0.01,2,    3.05,2,-999.000,9,-999.000,9,-999.000,9,  -999.0,9,  -999.0,9, -999.000,  -999.00, -999.00,9, -999.00,  -999.0,9,  -999.0,  27.6255,2
49NZ200107_1,       P17N,      92,          1,         12,         12,2,20010825,       0428,    54.2788,  -157.9438,       3801,  1824.3,   2.0011,2,  34.5681,2,  34.5674,3,    58.12,1,   51.60,2,  162.67,2,   42.65,2,   -0.01,2,    3.03,2,-999.000,9,-999.000,9,-999.000,9,  -999.0,9,  -999.0,9, -999.000,  -999.00, -999.00,9, -999.00,  -999.0,9,  -999.0,  27.6351,2
49NZ200107_1,       P17N,      92,          1,         11,         11,2,20010825,       0428,    54.2788,  -157.9438,       3801,  1927.2,   1.9576,2,  34.5773,2,  34.5772,2,    62.40,1,   55.89,2,  158.44,2,   42.27,2,   -0.01,2,    2.96,2,-999.000,9,-999.000,9,-999.000,9,  -999.0,9,  -999.0,9, -999.000,  -999.00, -999.00,9, -999.00,  -999.0,9,  -999.0,  27.6465,2
49NZ200107_1,       P17N,      92,          1,         10,         10,2,20010825,       0428,    54.2788,  -157.9438,       3801,  2028.3,   1.9237,2,  34.5850,2,  34.5848,2,    66.07,1,   59.44,2,  158.31,3,   42.05,2,   -0.01,2,    2.98,2,-999.000,9,-999.000,9,-999.000,9,  -999.0,9,  -999.0,9, -999.000,  -999.00, -999.00,9, -999.00,  -999.0,9,  -999.0,  27.6558,2
49NZ200107_1,       P17N,      92,          1,          9,          9,2,20010825,       0428,    54.2788,  -157.9438,       3801,  2232.8,   1.8277,2,  34.6051,2,  34.6054,2,    76.55,1,   70.23,2,  158.81,3,   41.49,2,   -0.01,2,    2.94,2,-999.000,9,-999.000,9,-999.000,9,  -999.0,9,  -999.0,9, -999.000,  -999.00, -999.00,9, -999.00,  -999.0,9,  -999.0,  27.6804,2
49NZ200107_1,       P17N,      92,          1,          8,          8,2,20010825,       0428,    54.2788,  -157.9438,       3801,  2436.7,   1.7309,2,  34.6245,2,  34.6246,2,    88.00,1,   82.40,2,  159.40,3,   40.65,2,   -0.02,2,    2.89,2,-999.000,9,-999.000,9,-999.000,9,  -999.0,9,  -999.0,9, -999.000,  -999.00, -999.00,9, -999.00,  -999.0,9,  -999.0,  27.7044,2
49NZ200107_1,       P17N,      92,          1,          7,          7,2,20010825,       0428,    54.2788,  -157.9438,       3801,  2640.8,   1.6761,2,  34.6362,2,  34.6360,2,    96.38,1,   91.50,2,  159.63,3,   40.17,2,   -0.01,2,    2.86,2,-999.000,9,-999.000,9,-999.000,9,  -999.0,9,  -999.0,9, -999.000,  -999.00, -999.00,9, -999.00,  -999.0,9,  -999.0,  27.7190,2
49NZ200107_1,       P17N,      92,          1,          6,          6,2,20010825,       0428,    54.2788,  -157.9438,       3801,  2845.5,   1.6421,2,  34.6441,2,  34.6443,2,   103.49,1,   99.00,2,  159.57,2,   39.63,2,   -0.01,2,    2.83,2,-999.000,9,-999.000,9,-999.000,9,  -999.0,9,  -999.0,9, -999.000,  -999.00, -999.00,9, -999.00,  -999.0,9,  -999.0,  27.7291,2
49NZ200107_1,       P17N,      92,          1,          5,          5,2,20010825,       0428,    54.2788,  -157.9438,       3801,  3050.3,   1.5953,2,  34.6539,2,  34.6539,2,   112.93,1,  107.62,2,  158.94,2,   39.12,2,   -0.01,2,    2.78,2,-999.000,9,-999.000,9,-999.000,9,  -999.0,9,  -999.0,9, -999.000,  -999.00, -999.00,9, -999.00,  -999.0,9,  -999.0,  27.7417,2
49NZ200107_1,       P17N,      92,          1,          4,          4,2,20010825,       0428,    54.2788,  -157.9438,       3801,  3294.4,   1.5622,2,  34.6618,2,  34.6615,2,   123.16,1,  117.14,2,  156.37,2,   38.43,2,   -0.01,2,    2.73,2,-999.000,9,-999.000,9,-999.000,9,  -999.0,9,  -999.0,9, -999.000,  -999.00, -999.00,9, -999.00,  -999.0,9,  -999.0,  27.7520,2
49NZ200107_1,       P17N,      92,          1,          3,          3,2,20010825,       0428,    54.2788,  -157.9438,       3801,  3305.2,   1.5622,2,  34.6618,2,  34.6616,2,   124.41,1,  117.76,2,  156.35,2,   38.42,2,   -0.01,2,    2.73,2,-999.000,9,-999.000,9,-999.000,9,  -999.0,9,  -999.0,9, -999.000,  -999.00, -999.00,9, -999.00,  -999.0,9,  -999.0,  27.7521,2
49NZ200107_1,       P17N,      92,          1,          2,          2,2,20010825,       0428,    54.2788,  -157.9438,       3801,  3562.3,   1.5335,2,  34.6691,2,  34.6691,2,   131.67,1,  125.22,2,  155.49,2,   37.84,2,   -0.01,2,    2.65,2,-999.000,9,-999.000,9,-999.000,9,  -999.0,9,  -999.0,9, -999.000,  -999.00, -999.00,9, -999.00,  -999.0,9,  -999.0,  27.7617,2
49NZ200107_1,       P17N,      92,          1,          1,          1,2,20010825,       0428,    54.2788,  -157.9438,       3801,  3801.4,   1.4893,2,  34.6781,2,  34.6781,2,   142.89,1,  137.05,2,  152.41,2,   37.13,2,   -0.01,2,    2.64,2,-999.000,9,-999.000,9,-999.000,9,  -999.0,9,  -999.0,9, -999.000,  -999.00, -999.00,9, -999.00,  -999.0,9,  -999.0,  27.7737,2