BOTTLE,20220817CCHSIOAMB
EXPOCODE,SECT_ID,STNNBR,CASTNO,SAMPNO,BTLNBR,BTLNBR_FLAG_W,DATE,TIME,LATITUDE,LONGITUDE,DEPTH,CTDPRS,CTDTMP,CTDTMP_FLAG_W,CTDSAL,CTDSAL_FLAG_W,SALNTY,SALNTY_FLAG_W,CTDOXY,CTDOXY_FLAG_W,OXYGEN,OXYGEN_FLAG_W,SILCAT,SILCAT_FLAG_W,NITRAT,NITRAT_FLAG_W,NITRIT,NITRIT_FLAG_W,PHSPHT,PHSPHT_FLAG_W,CFC-11,CFC-11_FLAG_W,CFC-12,CFC-12_FLAG_W,CFC113,CFC113_FLAG_W,TCARBN,TCARBN_FLAG_W,ALKALI,ALKALI_FLAG_W,PH_TOT,PH_TMP,DELC13,DELC13_FLAG_W,C13ERR,DELC14,DELC14_FLAG_W,C14ERR,THETA,THETA_FLAG_W
,,,,,,,,,,,METERS,DBAR,ITS-90,,PSS-78,,PSS-78,,UMOL/KG,,UMOL/KG,,UMOL/KG,,UMOL/KG,,UMOL/KG,,UMOL/KG,,PMOL/KG,,PMOL/KG,,PMOL/KG,,UMOL/KG,,UMOL/KG,,,DEG C,/MILLE,,/MILLE,/MILLE,,/MILLE,DEG C,
49NZ200107_1,       P17N,      74,          1,          0,        -99,9,20010819,       2238,    50.1707,  -150.1373,       4720,     4.5,-999.0000,9,-999.0000,9,  32.5471,2,  -999.00,9, -999.00,5,    3.48,2,    8.48,2,    0.18,2,    0.92,2,-999.000,1,-999.000,1,-999.000,1,  1994.4,2,  2196.7,2,    7.923,    25.00, -999.00,9, -999.00,  -999.0,9,  -999.0,-999.0000,9
49NZ200107_1,       P17N,      74,          1,         36,         36,2,20010819,       2238,    50.1707,  -150.1373,       4720,    10.8,  12.5644,2,  32.5501,2,  32.5576,2,   272.61,1,  286.69,2,    4.35,2,    8.85,2,    0.18,2,    0.92,2,-999.000,1,-999.000,1,-999.000,1,  1998.5,2,  2197.7,2,    7.916,    25.00,    1.77,2,    0.01,    12.7,3,     4.0,  24.5804,2
49NZ200107_1,       P17N,      74,          1,         35,         35,2,20010819,       2238,    50.1707,  -150.1373,       4720,    25.7,  11.4385,2,  32.5595,2,  32.6109,2,   281.16,1,  304.56,2,    3.61,2,   10.30,2,    0.19,2,    1.04,2,-999.000,1,-999.000,1,-999.000,1,  2018.0,2,  2200.5,2,    7.886,    25.00,    1.91,3,    0.01,     3.9,2,     4.1,  24.7979,2
49NZ200107_1,       P17N,      74,          1,         34,         34,2,20010819,       2238,    50.1707,  -150.1373,       4720,    50.8,   5.6953,2,  32.7104,2,  32.7108,2,   289.52,1,  309.72,2,   17.78,2,   15.64,2,    0.54,2,    1.44,2,-999.000,1,-999.000,1,-999.000,1,  2065.6,2,  2203.5,2,    7.772,    25.00,    1.10,2,    0.00,     6.2,2,     4.0,  25.7810,2
49NZ200107_1,       P17N,      74,          1,         33,         33,2,20010819,       2238,    50.1707,  -150.1373,       4720,    76.0,   4.8955,2,  32.7454,2,  32.7449,2,   286.02,1,  306.44,2,   24.46,2,   18.36,2,    0.04,2,    1.52,2,-999.000,1,-999.000,1,-999.000,1,  2075.9,2,  2203.5,2,    7.744,    25.00,    0.96,2,    0.00,    -5.8,2,     4.2,  25.9002,2
49NZ200107_1,       P17N,      74,          1,         32,         32,2,20010819,       2238,    50.1707,  -150.1373,       4720,   101.3,   4.4907,2,  32.8133,2,  32.8269,2,   278.04,1,  298.28,2,   28.64,2,   20.13,2,    0.04,2,    1.62,2,-999.000,1,-999.000,1,-999.000,1,  2092.4,2,  2207.9,6,    7.717,    25.00,    0.86,2,    0.00,    -5.0,2,     4.0,  25.9976,2
49NZ200107_1,       P17N,      74,          1,         31,         31,2,20010819,       2238,    50.1707,  -150.1373,       4720,   151.5,   4.1256,2,  33.4857,2,  33.4938,2,   135.08,1,  150.30,2,   56.08,2,   33.90,2,    0.04,2,    2.43,2,-999.000,1,-999.000,1,-999.000,1,  2224.5,2,  2252.6,2,    7.458,    25.00,   -0.17,2,    0.00,   -39.9,2,     4.0,  26.5699,2
49NZ200107_1,       P17N,      74,          1,         30,         30,2,20010819,       2238,    50.1707,  -150.1373,       4720,   202.2,   3.9775,2,  33.8022,2,  33.7999,2,    77.25,1,   79.73,2,   73.50,2,   40.35,2,    0.03,2,    2.82,2,-999.000,1,-999.000,1,-999.000,1,  2286.7,6,  2280.5,2,    7.341,    25.00,   -0.55,2,    0.00,   -71.5,2,     3.8,  26.8370,2
49NZ200107_1,       P17N,      74,          1,         29,         29,2,20010819,       2238,    50.1707,  -150.1373,       4720,   252.5,   3.8691,2,  33.8812,2,  33.8780,2,    53.96,1,   53.12,2,   81.94,2,   42.60,2,    0.03,2,    2.96,2,-999.000,1,-999.000,1,-999.000,1,  2314.1,2,  2290.2,2,    7.303,    25.00,   -0.65,2,    0.00,   -92.0,2,     3.8,  26.9111,2
49NZ200107_1,       P17N,      74,          1,         28,         28,3,20010819,       2238,    50.1707,  -150.1373,       4720,   297.9,   3.8345,2,  33.9360,2,  33.9327,2,    43.79,1,   41.21,2,   86.30,2,   43.66,2,    0.03,2,    3.01,2,-999.000,1,-999.000,1,-999.000,1,  2324.0,2,  2300.0,6,    7.289,    25.00,   -0.72,2,    0.00,  -105.8,2,     3.8,  26.9585,2
49NZ200107_1,       P17N,      74,          1,         27,         27,3,20010819,       2238,    50.1707,  -150.1373,       4720,   353.6,   3.7902,2,  33.9968,2,  33.9939,2,    37.84,1,   34.28,2,   91.55,2,   43.89,2,    0.03,2,    3.07,2,-999.000,1,-999.000,1,-999.000,1,  2330.4,2,  2307.1,2,    7.291,    25.00,   -0.69,2,    0.00,  -116.4,2,     3.7,  27.0117,2
49NZ200107_1,       P17N,      74,          1,         26,         26,2,20010819,       2238,    50.1707,  -150.1373,       4720,   404.2,   3.7431,2,  34.0563,2,  34.0585,2,    32.12,1,   27.13,2,   97.90,2,   44.18,2,    0.02,2,    3.10,2,-999.000,1,-999.000,1,-999.000,1,  2342.2,6,  2317.1,2,    7.291,    25.00,   -0.73,2,    0.00,  -125.1,2,     3.9,  27.0641,2
49NZ200107_1,       P17N,      74,          1,         25,         25,2,20010819,       2238,    50.1707,  -150.1373,       4720,   505.8,   3.6313,2,  34.1470,2,  34.1470,2,    28.97,1,   23.81,2,  105.79,2,   44.00,2,    0.02,2,    3.09,2,-999.000,1,-999.000,1,-999.000,1,  2352.1,2,  2330.8,2,    7.304,    25.00,   -0.67,2,    0.01,  -150.5,2,     3.7,  27.1480,2
49NZ200107_1,       P17N,      74,          1,         24,         24,2,20010819,       2238,    50.1707,  -150.1373,       4720,   607.0,   3.4930,2,  34.2191,2,  34.2174,2,    28.50,1,   23.09,2,  113.49,2,   43.98,2,    0.02,2,    3.09,2,-999.000,1,-999.000,1,-999.000,1,  2359.8,2,  2343.4,6,    7.316,    25.00,   -0.63,2,    0.00,  -170.5,2,     3.7,  27.2195,2
49NZ200107_1,       P17N,      74,          1,         23,         23,3,20010819,       2238,    50.1707,  -150.1373,       4720,   707.6,   3.3097,2,  34.2724,2,  34.2742,2,    27.44,1,   21.75,2,  121.24,2,   44.07,2,    0.02,2,    3.13,2,-999.000,1,-999.000,1,-999.000,1,  2364.3,2,  2353.5,2,    7.323,    25.00,   -0.61,2,    0.00,  -172.4,2,     3.7,  27.2801,2
49NZ200107_1,       P17N,      74,          1,         22,         22,2,20010819,       2238,    50.1707,  -150.1373,       4720,   808.9,   3.1075,2,  34.3233,2,  34.3229,2,    27.24,1,   20.98,2,  127.41,2,   44.24,2,    0.02,2,    3.14,2,-999.000,1,-999.000,1,-999.000,1,  2372.9,6,  2363.3,2,    7.326,    25.00,   -0.62,2,    0.00,  -200.2,2,     3.5,  27.3400,2
49NZ200107_1,       P17N,      74,          1,         21,         21,2,20010819,       2238,    50.1707,  -150.1373,       4720,   910.0,   2.9461,2,  34.3634,2,  34.3621,2,    27.43,1,   21.07,2,  133.61,2,   44.43,2,    0.02,2,    3.16,2,-999.000,1,-999.000,1,-999.000,1,  2381.4,2,  2371.7,2,    7.333,    25.00,   -0.62,2,    0.00,  -203.7,2,     3.6,  27.3873,2
49NZ200107_1,       P17N,      74,          1,         20,         20,2,20010819,       2238,    50.1707,  -150.1373,       4720,  1012.1,   2.8147,2,  34.3955,2,  34.3962,2,    24.90,1,   17.84,2,  138.85,2,   44.76,2,    0.03,2,    3.17,2,-999.000,1,-999.000,1,-999.000,1,  2387.6,2,  2380.1,6,    7.331,    25.00,   -0.64,2,    0.01,  -204.9,2,     3.7,  27.4251,2
49NZ200107_1,       P17N,      74,          1,         19,         19,3,20010819,       2238,    50.1707,  -150.1373,       4720,  1113.2,   2.6688,2,  34.4278,2,  34.4257,2,    25.70,1,   18.97,2,  143.07,2,   44.94,2,    0.03,2,    3.13,2,-999.000,1,-999.000,1,-999.000,1,  2392.8,2,  2384.5,2,    7.335,    25.00,   -0.61,2,    0.00,  -215.0,2,     3.6,  27.4642,2
49NZ200107_1,       P17N,      74,          1,         18,         18,2,20010819,       2238,    50.1707,  -150.1373,       4720,  1213.9,   2.5579,2,  34.4513,2,  34.4497,2,    27.32,1,   20.04,2,  146.36,2,   44.60,2,    0.03,2,    3.15,2,-999.000,1,-999.000,1,-999.000,1,  2397.7,6,  2389.6,2,    7.340,    25.00,   -0.64,2,    0.01,  -220.7,2,     3.6,  27.4930,2
49NZ200107_1,       P17N,      74,          1,         17,         17,2,20010819,       2238,    50.1707,  -150.1373,       4720,  1315.6,   2.4439,2,  34.4765,2,  34.4769,2,    28.87,1,   21.39,2,  149.73,2,   44.74,2,    0.02,2,    3.15,2,-999.000,1,-999.000,1,-999.000,1,  2398.4,2,  2393.6,2,    7.345,    25.00,   -0.70,2,    0.00,  -227.2,2,     3.9,  27.5233,2
49NZ200107_1,       P17N,      74,          1,         16,         16,2,20010819,       2238,    50.1707,  -150.1373,       4720,  1417.1,   2.3474,2,  34.4978,2,  34.4976,2,    31.70,1,   24.40,2,  152.40,2,   44.60,2,    0.02,2,    3.15,2,-999.000,1,-999.000,1,-999.000,1,  2401.6,2,  2399.0,2,    7.352,    25.00,   -0.56,2,    0.00,  -226.2,2,     3.5,  27.5489,2
49NZ200107_1,       P17N,      74,          1,         15,         15,2,20010819,       2238,    50.1707,  -150.1373,       4720,  1620.7,   2.1761,2,  34.5354,2,  34.5351,2,    39.30,1,   31.94,2,  156.79,2,   44.10,2,    0.02,2,    3.10,2,-999.000,1,-999.000,1,-999.000,1,  2399.8,2,  2404.8,2,    7.370,    25.00,   -0.55,2,    0.00,  -228.1,4,     3.5,  27.5940,2
49NZ200107_1,       P17N,      74,          1,         14,         14,2,20010819,       2238,    50.1707,  -150.1373,       4720,  1824.0,   2.0250,2,  34.5670,2,  34.5672,2,    50.39,1,   43.66,2,  159.46,2,   43.55,2,    0.02,2,    3.05,2,-999.000,1,-999.000,1,-999.000,1,  2397.9,2,  2410.6,2,    7.395,    25.00,   -0.53,2,    0.00,  -241.7,2,     3.5,  27.6324,2
49NZ200107_1,       P17N,      74,          1,         13,         13,3,20010819,       2238,    50.1707,  -150.1373,       4720,  2027.7,   1.9125,2,  34.5897,2,  34.5900,2,    61.41,1,   55.25,2,  160.31,2,   42.83,2,    0.02,2,    3.01,2,-999.000,1,-999.000,1,-999.000,1,  2392.6,2,  2411.7,2,    7.419,    25.00,   -0.44,2,    0.00,  -241.2,2,     3.5,  27.6604,2
49NZ200107_1,       P17N,      74,          1,         12,         12,2,20010819,       2238,    50.1707,  -150.1373,       4720,  2231.4,   1.8235,2,  34.6075,2,  34.6074,2,    72.12,1,   67.43,2,  161.30,2,   42.09,2,    0.02,2,    2.96,2,-999.000,1,-999.000,1,-999.000,1,  2386.0,2,  2416.1,2,    7.441,    25.00,   -0.36,2,    0.01,  -235.5,3,     3.5,  27.6826,2
49NZ200107_1,       P17N,      74,          1,         11,         11,2,20010819,       2238,    50.1707,  -150.1373,       4720,  2435.2,   1.7342,2,  34.6244,2,  34.6252,2,    84.25,1,   79.84,2,  162.45,2,   41.49,2,    0.02,2,    2.87,2,-999.000,9,-999.000,9,-999.000,9,  -999.0,9,  -999.0,9, -999.000,  -999.00, -999.00,9, -999.00,  -999.0,9,  -999.0,  27.7040,2
49NZ200107_1,       P17N,      74,          1,         10,         10,2,20010819,       2238,    50.1707,  -150.1373,       4720,  2639.7,   1.6616,2,  34.6384,2,  34.6384,2,    95.51,1,   91.98,2,  160.97,2,   40.30,2,    0.02,2,    2.82,2,-999.000,1,-999.000,1,-999.000,1,  2372.7,2,  2418.7,2,    7.490,    25.00,   -0.22,2,    0.00,  -237.0,3,     3.5,  27.7217,2
49NZ200107_1,       P17N,      74,          1,          9,          9,3,20010819,       2238,    50.1707,  -150.1373,       4720,  2843.8,   1.6108,2,  34.6486,2,  34.6476,2,   105.04,1,  101.70,2,  159.68,2,   39.83,2,    0.02,2,    2.76,2,-999.000,9,-999.000,9,-999.000,9,  -999.0,9,  -999.0,9, -999.000,  -999.00, -999.00,9, -999.00,  -999.0,9,  -999.0,  27.7349,2
49NZ200107_1,       P17N,      74,          1,          8,          8,3,20010819,       2238,    50.1707,  -150.1373,       4720,  3048.4,   1.5645,2,  34.6577,2,  34.6569,2,   114.54,1,  111.69,2,  158.15,2,   39.26,2,    0.03,2,    2.74,2,-999.000,1,-999.000,1,-999.000,1,  2358.4,6,  2420.8,2,    7.527,    25.00,   -0.10,2,    0.00,  -239.7,2,     3.6,  27.7469,2
49NZ200107_1,       P17N,      74,          1,          7,          7,2,20010819,       2238,    50.1707,  -150.1373,       4720,  3304.5,   1.5212,2,  34.6670,2,  34.6660,2,   124.77,1,  122.80,2,  156.87,2,   38.41,2,    0.02,2,    2.68,2,-999.000,9,-999.000,9,-999.000,9,  -999.0,9,  -999.0,9, -999.000,  -999.00, -999.00,9, -999.00,  -999.0,9,  -999.0,  27.7590,2
49NZ200107_1,       P17N,      74,          1,          6,          6,2,20010819,       2238,    50.1707,  -150.1373,       4720,  3560.5,   1.4920,2,  34.6742,2,  34.6740,2,   133.81,1,  130.87,2,  155.19,2,   37.85,2,    0.02,2,    2.63,2,-999.000,1,-999.000,1,-999.000,1,  2348.2,2,  2420.6,2,    7.566,    25.00,    0.01,2,    0.00,  -229.5,2,     3.6,  27.7686,2
49NZ200107_1,       P17N,      74,          1,          5,          5,2,20010819,       2238,    50.1707,  -150.1373,       4720,  3817.0,   1.4850,2,  34.6787,2,  34.6787,2,   139.72,1,  136.58,2,  155.25,2,   37.62,2,    0.02,2,    2.62,2,-999.000,9,-999.000,9,-999.000,9,  -999.0,9,  -999.0,9, -999.000,  -999.00, -999.00,9, -999.00,  -999.0,9,  -999.0,  27.7746,2
49NZ200107_1,       P17N,      74,          1,          4,          4,2,20010819,       2238,    50.1707,  -150.1373,       4720,  4074.1,   1.4907,2,  34.6818,2,  34.6816,2,   143.96,1,  139.73,2,  156.73,2,   37.33,2,    0.02,2,    2.60,2,-999.000,1,-999.000,1,-999.000,1,  2344.6,2,  2428.3,6,    7.587,    25.00,    0.03,2,    0.00,  -219.8,3,     3.6,  27.7786,2
49NZ200107_1,       P17N,      74,          1,          3,          3,2,20010819,       2238,    50.1707,  -150.1373,       4720,  4331.2,   1.5075,2,  34.6842,2,  34.6843,2,   146.86,1,  141.76,2,  158.58,2,   37.24,2,    0.02,2,    2.57,2,-999.000,9,-999.000,9,-999.000,9,  -999.0,9,  -999.0,9, -999.000,  -999.00, -999.00,9, -999.00,  -999.0,9,  -999.0,  27.7814,2
49NZ200107_1,       P17N,      74,          1,          2,          2,2,20010819,       2238,    50.1707,  -150.1373,       4720,  4588.0,   1.5332,2,  34.6854,2,  34.6854,2,   148.70,1,  142.09,2,  160.96,2,   37.45,2,    0.03,2,    2.56,2,-999.000,1,-999.000,1,-999.000,1,  2345.5,2,  2431.5,2,    7.595,    25.00,    0.07,2,    0.01,  -223.6,2,     3.6,  27.7826,2
49NZ200107_1,       P17N,      74,          1,          1,          1,2,20010819,       2238,    50.1707,  -150.1373,       4720,  4800.3,   1.5564,2,  34.6859,2,  34.6859,2,   150.77,1,  142.40,2,  161.63,2,   37.18,2,    0.03,2,    2.56,2,-999.000,1,-999.000,1,-999.000,1,  2346.9,2,  2432.1,2,    7.597,    25.00,    0.09,2,    0.00,  -217.3,2,     3.5,  27.7832,2