BOTTLE,20220817CCHSIOAMB
EXPOCODE,SECT_ID,STNNBR,CASTNO,SAMPNO,BTLNBR,BTLNBR_FLAG_W,DATE,TIME,LATITUDE,LONGITUDE,DEPTH,CTDPRS,CTDTMP,CTDTMP_FLAG_W,CTDSAL,CTDSAL_FLAG_W,SALNTY,SALNTY_FLAG_W,CTDOXY,CTDOXY_FLAG_W,OXYGEN,OXYGEN_FLAG_W,SILCAT,SILCAT_FLAG_W,NITRAT,NITRAT_FLAG_W,NITRIT,NITRIT_FLAG_W,PHSPHT,PHSPHT_FLAG_W,CFC-11,CFC-11_FLAG_W,CFC-12,CFC-12_FLAG_W,CFC113,CFC113_FLAG_W,TCARBN,TCARBN_FLAG_W,ALKALI,ALKALI_FLAG_W,PH_TOT,PH_TMP,DELC13,DELC13_FLAG_W,C13ERR,DELC14,DELC14_FLAG_W,C14ERR,THETA,THETA_FLAG_W
,,,,,,,,,,,METERS,DBAR,ITS-90,,PSS-78,,PSS-78,,UMOL/KG,,UMOL/KG,,UMOL/KG,,UMOL/KG,,UMOL/KG,,UMOL/KG,,PMOL/KG,,PMOL/KG,,PMOL/KG,,UMOL/KG,,UMOL/KG,,,DEG C,/MILLE,,/MILLE,/MILLE,,/MILLE,DEG C,
49NZ200107_1,       P17N,     X01,          1,          0,        -99,9,20010817,       1106,    46.9955,  -145.8160,       4812,     4.5,-999.0000,9,-999.0000,9,  32.4069,2,  -999.00,9,  277.26,2,    9.19,2,    5.23,2,    0.09,2,    0.74,2,-999.000,1,-999.000,1,-999.000,1,  1971.8,2,  2183.7,2,    7.896,    25.00, -999.00,9, -999.00,  -999.0,9,  -999.0,-999.0000,9
49NZ200107_1,       P17N,     X01,          1,         36,         36,3,20010817,       1106,    46.9955,  -145.8160,       4812,    11.1,  13.1711,2,  32.4118,2,  32.4085,2,   267.27,1,  278.86,2,    9.00,2,    5.07,2,    0.09,2,    0.70,2,-999.000,1,-999.000,1,-999.000,1,  1972.2,2,  2183.7,2,    7.897,    25.00, -999.00,9, -999.00,  -999.0,9,  -999.0,  24.3551,2
49NZ200107_1,       P17N,     X01,          1,         35,         35,2,20010817,       1106,    46.9955,  -145.8160,       4812,    24.8,   9.3608,2,  32.4758,2,  32.4739,2,   290.85,1,  305.94,2,   12.11,2,    8.58,2,    0.09,2,    0.97,2,-999.000,1,-999.000,1,-999.000,1,  2002.9,2,  2182.8,2,    7.805,    25.00, -999.00,9, -999.00,  -999.0,9,  -999.0,  25.0858,2
49NZ200107_1,       P17N,     X01,          1,         34,         34,2,20010817,       1106,    46.9955,  -145.8160,       4812,    51.2,   6.9758,2,  32.5076,2,  32.5071,2,   283.34,1,  300.50,2,   14.65,2,   11.64,2,    0.22,2,    1.20,2,-999.000,1,-999.000,1,-999.000,1,  2033.2,2,  2184.3,2,    7.742,    25.00, -999.00,9, -999.00,  -999.0,9,  -999.0,  25.4596,2
49NZ200107_1,       P17N,     X01,          1,         33,         33,2,20010817,       1106,    46.9955,  -145.8160,       4812,    76.4,   6.1008,2,  32.5550,2,  32.5549,2,   281.62,1,  298.94,2,   16.52,2,   14.66,2,    0.18,2,    1.31,2,-999.000,1,-999.000,1,-999.000,1,  2043.4,2,  2186.8,2,    7.718,    25.00, -999.00,9, -999.00,  -999.0,9,  -999.0,  25.6094,2
49NZ200107_1,       P17N,     X01,          1,         32,         32,2,20010817,       1106,    46.9955,  -145.8160,       4812,   101.6,   5.5495,2,  32.5955,2,  32.5930,2,   282.13,1,  299.60,2,   18.26,2,   15.77,2,    0.05,2,    1.36,2,-999.000,1,-999.000,1,-999.000,1,  2051.6,2,  2189.0,6,    7.705,    25.00, -999.00,9, -999.00,  -999.0,9,  -999.0,  25.7077,2
49NZ200107_1,       P17N,     X01,          1,         31,         31,2,20010817,       1106,    46.9955,  -145.8160,       4812,   152.3,   5.0278,2,  33.1824,2,  33.2071,2,   216.78,1,  236.78,2,   32.14,2,   23.15,2,    0.01,2,    1.73,2,-999.000,1,-999.000,1,-999.000,1,  2130.1,2,  2224.6,2,    7.589,    25.00, -999.00,9, -999.00,  -999.0,9,  -999.0,  26.2326,2
49NZ200107_1,       P17N,     X01,          1,         30,         30,2,20010817,       1106,    46.9955,  -145.8160,       4812,   202.7,   5.3203,2,  33.7540,2,  33.7508,2,   146.66,1,  155.37,2,   48.06,2,   30.51,2,    0.01,2,    2.14,2,-999.000,1,-999.000,1,-999.000,1,  2206.0,6,  2262.1,2,    7.470,    25.00, -999.00,9, -999.00,  -999.0,9,  -999.0,  26.6523,2
49NZ200107_1,       P17N,     X01,          1,         29,         29,2,20010817,       1106,    46.9955,  -145.8160,       4812,   253.4,   4.8174,2,  33.8142,2,  33.8107,2,   115.20,1,  120.57,2,   58.94,2,   34.58,2,    0.01,2,    2.44,2,-999.000,1,-999.000,1,-999.000,1,  2239.9,2,  2271.9,2,    7.397,    25.00, -999.00,9, -999.00,  -999.0,9,  -999.0,  26.7578,2
49NZ200107_1,       P17N,     X01,          1,         28,         28,2,20010817,       1106,    46.9955,  -145.8160,       4812,   303.4,   4.4637,2,  33.8657,2,  33.8637,2,    90.79,1,   94.07,2,   68.63,2,   37.80,2,    0.02,2,    2.63,2,-999.000,1,-999.000,1,-999.000,1,  2268.5,2,  2282.3,6,    7.339,    25.00, -999.00,9, -999.00,  -999.0,9,  -999.0,  26.8377,2
49NZ200107_1,       P17N,     X01,          1,         27,         27,2,20010817,       1106,    46.9955,  -145.8160,       4812,   354.2,   4.2900,2,  33.9273,2,  33.9308,2,    71.74,1,   72.65,2,   76.39,2,   39.76,2,    0.01,2,    2.76,2,-999.000,1,-999.000,1,-999.000,1,  2287.2,2,  2290.6,2,    7.309,    25.00, -999.00,9, -999.00,  -999.0,9,  -999.0,  26.9055,2
49NZ200107_1,       P17N,     X01,          1,         26,         26,2,20010817,       1106,    46.9955,  -145.8160,       4812,   404.7,   4.2751,2,  34.0099,2,  34.0099,2,    60.63,1,   59.31,2,   83.25,2,   40.81,2,    0.01,2,    2.83,2,-999.000,1,-999.000,1,-999.000,1,  2301.2,6,  2302.9,2,    7.301,    25.00, -999.00,9, -999.00,  -999.0,9,  -999.0,  26.9730,2
49NZ200107_1,       P17N,     X01,          1,         25,         25,2,20010817,       1106,    46.9955,  -145.8160,       4812,   505.5,   4.0359,2,  34.1126,2,  34.1135,2,    42.26,1,   38.68,2,   96.01,2,   42.48,2,    0.01,2,    2.97,2,-999.000,1,-999.000,1,-999.000,1,  2325.1,2,  2319.7,2,    7.281,    25.00, -999.00,9, -999.00,  -999.0,9,  -999.0,  27.0803,2
49NZ200107_1,       P17N,     X01,          1,         24,         24,2,20010817,       1106,    46.9955,  -145.8160,       4812,   606.7,   3.7701,2,  34.1915,2,  34.1932,2,    32.80,1,   27.61,2,  107.26,2,   43.32,2,    0.01,2,    3.05,2,-999.000,1,-999.000,1,-999.000,1,  2343.6,2,  2335.9,6,    7.276,    25.00, -999.00,9, -999.00,  -999.0,9,  -999.0,  27.1706,2
49NZ200107_1,       P17N,     X01,          1,         23,         23,2,20010817,       1106,    46.9955,  -145.8160,       4812,   708.1,   3.5256,2,  34.2471,2,  34.2478,2,    27.14,1,   21.79,2,  115.14,2,   43.93,2,    0.01,2,    3.12,2,-999.000,1,-999.000,1,-999.000,1,  2356.9,2,  2347.3,2,    7.273,    25.00, -999.00,9, -999.00,  -999.0,9,  -999.0,  27.2394,2
49NZ200107_1,       P17N,     X01,          1,         22,         22,3,20010817,       1106,    46.9955,  -145.8160,       4812,   809.4,   3.3106,2,  34.2977,2,  34.2983,2,    23.65,1,   17.85,2,  122.84,2,   44.33,2,    0.01,2,    3.14,2,-999.000,1,-999.000,1,-999.000,1,  2369.6,6,  2357.9,2,    7.275,    25.00, -999.00,9, -999.00,  -999.0,9,  -999.0,  27.3009,2
49NZ200107_1,       P17N,     X01,          1,         21,         21,2,20010817,       1106,    46.9955,  -145.8160,       4812,   910.5,   3.0824,2,  34.3442,2,  34.3454,2,    20.17,1,   13.80,2,  130.58,2,   44.72,2,    0.01,2,    3.18,2,-999.000,1,-999.000,1,-999.000,1,  2378.9,2,  2368.6,2,    7.272,    25.00, -999.00,9, -999.00,  -999.0,9,  -999.0,  27.3597,2
49NZ200107_1,       P17N,     X01,          1,         20,         20,3,20010817,       1106,    46.9955,  -145.8160,       4812,  1011.7,   2.9159,2,  34.3829,2,  34.3829,2,    18.13,1,   11.34,2,  136.23,2,   45.15,2,    0.01,2,    3.19,2,-999.000,1,-999.000,1,-999.000,1,  2386.4,2,  2376.5,6,    7.277,    25.00, -999.00,9, -999.00,  -999.0,9,  -999.0,  27.4061,2
49NZ200107_1,       P17N,     X01,          1,         19,         19,3,20010817,       1106,    46.9955,  -145.8160,       4812,  1113.4,   2.7573,2,  34.4203,2,  34.4198,2,    17.66,1,   10.94,2,  143.39,2,   45.17,2,    0.01,2,    3.16,2,-999.000,1,-999.000,1,-999.000,1,  2393.0,2,  2382.9,2,    7.282,    25.00, -999.00,9, -999.00,  -999.0,9,  -999.0,  27.4506,2
49NZ200107_1,       P17N,     X01,          1,         18,         18,2,20010817,       1106,    46.9955,  -145.8160,       4812,  1214.5,   2.6258,2,  34.4499,2,  34.4495,2,    19.18,1,   11.74,2,  147.95,2,   45.31,2,    0.00,2,    3.18,2,-999.000,1,-999.000,1,-999.000,1,  2397.0,6,  2386.5,2,    7.289,    25.00, -999.00,9, -999.00,  -999.0,9,  -999.0,  27.4862,2
49NZ200107_1,       P17N,     X01,          1,         17,         17,2,20010817,       1106,    46.9955,  -145.8160,       4812,  1417.5,   2.3942,2,  34.4971,2,  34.4971,2,    25.37,1,   18.46,2,  155.74,2,   44.91,2,    0.00,2,    3.17,2,-999.000,1,-999.000,1,-999.000,1,  2400.1,2,  2396.2,2,    7.305,    25.00, -999.00,9, -999.00,  -999.0,9,  -999.0,  27.5445,2
49NZ200107_1,       P17N,     X01,          1,         16,         16,2,20010817,       1106,    46.9955,  -145.8160,       4812,  1620.5,   2.2000,2,  34.5350,2,  34.5347,2,    36.09,1,   29.94,2,  159.76,2,   44.25,2,    0.00,2,    3.10,2,-999.000,1,-999.000,1,-999.000,1,  2398.8,2,  2401.5,2,    7.335,    25.00, -999.00,9, -999.00,  -999.0,9,  -999.0,  27.5918,2
49NZ200107_1,       P17N,     X01,          1,         15,         15,2,20010817,       1106,    46.9955,  -145.8160,       4812,  1824.2,   2.0334,2,  34.5675,2,  34.5675,2,    49.26,1,   43.97,2,  161.90,2,   43.37,2,    0.00,2,    3.04,2,-999.000,1,-999.000,1,-999.000,1,  2392.8,2,  2407.2,2,    7.362,    25.00, -999.00,9, -999.00,  -999.0,9,  -999.0,  27.6322,2
49NZ200107_1,       P17N,     X01,          1,         14,         14,2,20010817,       1106,    46.9955,  -145.8160,       4812,  2027.5,   1.9145,2,  34.5922,2,  34.5926,2,    61.03,1,   56.77,2,  163.16,2,   42.59,2,    0.00,2,    3.01,2,-999.000,1,-999.000,1,-999.000,1,  2388.1,2,  2412.5,2,    7.385,    25.00, -999.00,9, -999.00,  -999.0,9,  -999.0,  27.6623,2
49NZ200107_1,       P17N,     X01,          1,         13,         13,2,20010817,       1106,    46.9955,  -145.8160,       4812,  2231.4,   1.8193,2,  34.6113,2,  34.6110,2,    71.55,1, -999.00,9,  162.50,2,   41.74,2,    0.00,2,    2.93,2,-999.000,1,-999.000,1,-999.000,1,  2381.9,2,  2416.7,2,    7.409,    25.00, -999.00,9, -999.00,  -999.0,9,  -999.0,  27.6859,2
49NZ200107_1,       P17N,     X01,          1,         12,         12,2,20010817,       1106,    46.9955,  -145.8160,       4812,  2434.9,   1.7324,2,  34.6269,2,  34.6265,2,    83.07,1,   79.84,2,  160.67,2,   41.05,2,    0.00,2,    2.88,2,-999.000,9,-999.000,9,-999.000,9,  -999.0,9,  -999.0,9, -999.000,  -999.00, -999.00,9, -999.00,  -999.0,9,  -999.0,  27.7061,2
49NZ200107_1,       P17N,     X01,          1,         11,         11,2,20010817,       1106,    46.9955,  -145.8160,       4812,  2639.1,   1.6479,2,  34.6412,2,  34.6410,2,    95.15,1,   93.60,2,  161.55,2,   40.22,2,    0.00,2,    2.81,2,-999.000,1,-999.000,1,-999.000,1,  2366.2,2,  2416.0,2,    7.463,    25.00, -999.00,9, -999.00,  -999.0,9,  -999.0,  27.7250,2
49NZ200107_1,       P17N,     X01,          1,         10,         10,2,20010817,       1106,    46.9955,  -145.8160,       4812,  2843.3,   1.5858,2,  34.6525,2,  34.6527,2,   105.86,1,  104.65,2,  160.27,2,   39.49,2,    0.00,2,    2.75,2,-999.000,9,-999.000,9,-999.000,9,  -999.0,9,  -999.0,9, -999.000,  -999.00, -999.00,9, -999.00,  -999.0,9,  -999.0,  27.7398,2
49NZ200107_1,       P17N,     X01,          1,          9,          9,2,20010817,       1106,    46.9955,  -145.8160,       4812,  3048.8,   1.5463,2,  34.6608,2,  34.6608,2,   114.51,1,  113.54,2,  159.04,2,   38.99,2,    0.00,2,    2.73,2,-999.000,1,-999.000,1,-999.000,1,  2354.7,6,  2419.1,2,    7.501,    25.00, -999.00,9, -999.00,  -999.0,9,  -999.0,  27.7506,2
49NZ200107_1,       P17N,     X01,          1,          8,          8,2,20010817,       1106,    46.9955,  -145.8160,       4812,  3303.7,   1.5085,2,  34.6694,2,  34.6694,2,   124.21,1,  122.95,2,  158.01,2,   38.36,2,    0.00,2,    2.70,2,-999.000,9,-999.000,9,-999.000,9,  -999.0,9,  -999.0,9, -999.000,  -999.00, -999.00,9, -999.00,  -999.0,9,  -999.0,  27.7618,2
49NZ200107_1,       P17N,     X01,          1,          7,          7,2,20010817,       1106,    46.9955,  -145.8160,       4812,  3559.9,   1.4887,2,  34.6755,2,  34.6748,2,   131.87,1,  130.59,2,  157.40,2,   37.84,2,    0.01,2,    2.63,2,-999.000,1,-999.000,1,-999.000,1,  2343.6,2,  2422.5,2,    7.555,    25.00, -999.00,9, -999.00,  -999.0,9,  -999.0,  27.7699,2
49NZ200107_1,       P17N,     X01,          1,          6,          6,2,20010817,       1106,    46.9955,  -145.8160,       4812,  3816.5,   1.4846,2,  34.6799,2,  34.6800,2,   137.79,1,  135.03,2,  157.64,2,   37.54,2,    0.01,2,    2.62,2,-999.000,9,-999.000,9,-999.000,9,  -999.0,9,  -999.0,9, -999.000,  -999.00, -999.00,9, -999.00,  -999.0,9,  -999.0,  27.7755,2
49NZ200107_1,       P17N,     X01,          1,          5,          5,2,20010817,       1106,    46.9955,  -145.8160,       4812,  4073.6,   1.4946,2,  34.6827,2,  34.6819,2,   141.75,1,  138.02,2,  158.82,2,   37.37,2,    0.01,2,    2.61,2,-999.000,1,-999.000,1,-999.000,1,  2342.1,2,  2427.2,6,    7.551,    25.00, -999.00,9, -999.00,  -999.0,9,  -999.0,  27.7790,2
49NZ200107_1,       P17N,     X01,          1,          4,          4,2,20010817,       1106,    46.9955,  -145.8160,       4812,  4330.3,   1.5153,2,  34.6845,2,  34.6846,2,   144.28,1,  139.19,2,  160.71,2,   37.34,2,    0.01,2,    2.61,2,-999.000,9,-999.000,9,-999.000,9,  -999.0,9,  -999.0,9, -999.000,  -999.00, -999.00,9, -999.00,  -999.0,9,  -999.0,  27.7811,2
49NZ200107_1,       P17N,     X01,          1,          3,          3,2,20010817,       1106,    46.9955,  -145.8160,       4812,  4587.7,   1.5389,2,  34.6854,2,  34.6854,2,   146.99,1,  140.31,2,  160.81,2,   37.30,2,    0.01,2,    2.61,2,-999.000,1,-999.000,1,-999.000,1,  2341.5,2,  2431.6,2,    7.562,    25.00, -999.00,9, -999.00,  -999.0,9,  -999.0,  27.7823,2
49NZ200107_1,       P17N,     X01,          1,          2,          2,2,20010817,       1106,    46.9955,  -145.8160,       4812,  4845.0,   1.5668,2,  34.6862,2,  34.6864,2,   150.11,1,  140.21,2,  161.49,2,   37.25,2,    0.01,2,    2.58,2,-999.000,9,-999.000,9,-999.000,9,  -999.0,9,  -999.0,9, -999.000,  -999.00, -999.00,9, -999.00,  -999.0,9,  -999.0,  27.7832,2
49NZ200107_1,       P17N,     X01,          1,          1,          1,2,20010817,       1106,    46.9955,  -145.8160,       4812,  4882.0,   1.5711,2,  34.6862,2,  34.6862,2,   150.50,1,  140.19,2,  161.65,2,   37.32,2,    0.01,2,    2.62,2,-999.000,1,-999.000,1,-999.000,1,  2343.3,2,  2432.4,2,    7.571,    25.00, -999.00,9, -999.00,  -999.0,9,  -999.0,  27.7832,2