BOTTLE,20220817CCHSIOAMB
EXPOCODE,SECT_ID,STNNBR,CASTNO,SAMPNO,BTLNBR,BTLNBR_FLAG_W,DATE,TIME,LATITUDE,LONGITUDE,DEPTH,CTDPRS,CTDTMP,CTDTMP_FLAG_W,CTDSAL,CTDSAL_FLAG_W,SALNTY,SALNTY_FLAG_W,CTDOXY,CTDOXY_FLAG_W,OXYGEN,OXYGEN_FLAG_W,SILCAT,SILCAT_FLAG_W,NITRAT,NITRAT_FLAG_W,NITRIT,NITRIT_FLAG_W,PHSPHT,PHSPHT_FLAG_W,CFC-11,CFC-11_FLAG_W,CFC-12,CFC-12_FLAG_W,CFC113,CFC113_FLAG_W,TCARBN,TCARBN_FLAG_W,ALKALI,ALKALI_FLAG_W,PH_TOT,PH_TMP,DELC13,DELC13_FLAG_W,C13ERR,DELC14,DELC14_FLAG_W,C14ERR,THETA,THETA_FLAG_W
,,,,,,,,,,,METERS,DBAR,ITS-90,,PSS-78,,PSS-78,,UMOL/KG,,UMOL/KG,,UMOL/KG,,UMOL/KG,,UMOL/KG,,UMOL/KG,,PMOL/KG,,PMOL/KG,,PMOL/KG,,UMOL/KG,,UMOL/KG,,,DEG C,/MILLE,,/MILLE,/MILLE,,/MILLE,DEG C,
49NZ200107_1,       P17N,      33,          1,          0,        -99,9,20010810,       0531,    37.0032,  -135.0087,       5055,     4.5,-999.0000,9,-999.0000,9,  33.0612,2,  -999.00,9,  240.74,2,    1.55,2,    0.09,2,    0.00,2,    0.23,2,-999.000,9,-999.000,9,-999.000,9,  -999.0,9,  -999.0,9, -999.000,  -999.00, -999.00,9, -999.00,  -999.0,9,  -999.0,-999.0000,9
49NZ200107_1,       P17N,      33,          1,         36,         36,2,20010810,       0531,    37.0032,  -135.0087,       5055,    10.9,  19.2570,2,  33.0504,2,  33.0537,2,   231.33,1,  241.14,2,    1.88,2,    0.08,2,    0.00,2,    0.16,2,-999.000,9,-999.000,9,-999.000,9,  -999.0,9,  -999.0,9, -999.000,  -999.00, -999.00,9, -999.00,  -999.0,9,  -999.0,  23.4671,2
49NZ200107_1,       P17N,      33,          1,         35,         35,2,20010810,       0531,    37.0032,  -135.0087,       5055,    26.2,  17.8478,2,  32.9958,2,  32.9867,2,   253.63,1,  281.70,2,    2.36,2,    0.06,2,    0.00,2,    0.16,2,-999.000,9,-999.000,9,-999.000,9,  -999.0,9,  -999.0,9, -999.000,  -999.00, -999.00,9, -999.00,  -999.0,9,  -999.0,  23.7756,2
49NZ200107_1,       P17N,      33,          1,         34,         34,2,20010810,       0531,    37.0032,  -135.0087,       5055,    50.4,  13.4485,2,  32.9953,2,  32.9964,2,   264.40,1,  277.78,2,    3.13,2,    0.01,2,    0.01,2,    0.23,2,-999.000,9,-999.000,9,-999.000,9,  -999.0,9,  -999.0,9, -999.000,  -999.00, -999.00,9, -999.00,  -999.0,9,  -999.0,  24.7522,2
49NZ200107_1,       P17N,      33,          1,         33,         33,2,20010810,       0531,    37.0032,  -135.0087,       5055,    75.5,  12.9419,2,  32.9938,2,  32.9908,2,   253.92,1,  263.52,2,    3.13,2,    0.04,2,    0.03,2,    0.27,2,-999.000,9,-999.000,9,-999.000,9,  -999.0,9,  -999.0,9, -999.000,  -999.00, -999.00,9, -999.00,  -999.0,9,  -999.0,  24.8525,2
49NZ200107_1,       P17N,      33,          1,         32,         32,2,20010810,       0531,    37.0032,  -135.0087,       5055,   102.2,  12.4743,2,  32.9613,2,  32.9613,2,   246.54,1,  256.20,2,    2.79,2,    0.80,2,    0.02,2,    0.32,2,-999.000,9,-999.000,9,-999.000,9,  -999.0,9,  -999.0,9, -999.000,  -999.00, -999.00,9, -999.00,  -999.0,9,  -999.0,  24.9187,2
49NZ200107_1,       P17N,      33,          1,         31,         31,2,20010810,       0531,    37.0032,  -135.0087,       5055,   152.0,  10.3525,2,  33.0857,2,  33.1221,2,   223.14,1,  232.96,2,    8.52,2,    9.05,2,    0.01,2,    0.79,2,-999.000,9,-999.000,9,-999.000,9,  -999.0,9,  -999.0,9, -999.000,  -999.00, -999.00,9, -999.00,  -999.0,9,  -999.0,  25.4008,2
49NZ200107_1,       P17N,      33,          1,         30,         30,2,20010810,       0531,    37.0032,  -135.0087,       5055,   202.2,   8.9208,2,  33.4872,2,  33.5222,2,   197.52,1,  210.80,2,   15.12,2,   20.77,2,    0.00,2,    1.48,2,-999.000,9,-999.000,9,-999.000,9,  -999.0,9,  -999.0,9, -999.000,  -999.00, -999.00,9, -999.00,  -999.0,9,  -999.0,  25.9494,2
49NZ200107_1,       P17N,      33,          1,         29,         29,2,20010810,       0531,    37.0032,  -135.0087,       5055,   252.4,   8.6950,2,  33.9038,2,  33.9295,2,   148.36,1,  148.67,2,   27.11,2,   28.33,2,   -0.02,2,    2.00,2,-999.000,9,-999.000,9,-999.000,9,  -999.0,9,  -999.0,9, -999.000,  -999.00, -999.00,9, -999.00,  -999.0,9,  -999.0,  26.3117,2
49NZ200107_1,       P17N,      33,          1,         28,         28,2,20010810,       0531,    37.0032,  -135.0087,       5055,   303.1,   7.8966,2,  33.9925,2,  33.9978,2,    95.95,1,   96.25,2,   38.65,2,   31.32,2,   -0.01,2,    2.17,2,-999.000,9,-999.000,9,-999.000,9,  -999.0,9,  -999.0,9, -999.000,  -999.00, -999.00,9, -999.00,  -999.0,9,  -999.0,  26.5022,2
49NZ200107_1,       P17N,      33,          1,         27,         27,2,20010810,       0531,    37.0032,  -135.0087,       5055,   353.7,   7.2579,2,  34.0169,2,  34.0168,2,    84.09,1,   85.67,2,   44.36,2,   33.10,2,   -0.01,2,    2.34,2,-999.000,9,-999.000,9,-999.000,9,  -999.0,9,  -999.0,9, -999.000,  -999.00, -999.00,9, -999.00,  -999.0,9,  -999.0,  26.6133,2
49NZ200107_1,       P17N,      33,          1,         26,         26,2,20010810,       0531,    37.0032,  -135.0087,       5055,   404.1,   6.8456,2,  34.0291,2,  34.0291,2,    76.82,1,   76.80,2,   49.11,2,   34.90,2,   -0.01,2,    2.46,2,-999.000,9,-999.000,9,-999.000,9,  -999.0,9,  -999.0,9, -999.000,  -999.00, -999.00,9, -999.00,  -999.0,9,  -999.0,  26.6800,2
49NZ200107_1,       P17N,      33,          1,         25,         25,2,20010810,       0531,    37.0032,  -135.0087,       5055,   504.7,   5.8537,2,  34.0832,2,  34.0832,2,    47.93,1,   46.45,2,   65.12,2,   38.34,2,   -0.01,2,    2.76,2,-999.000,9,-999.000,9,-999.000,9,  -999.0,9,  -999.0,9, -999.000,  -999.00, -999.00,9, -999.00,  -999.0,9,  -999.0,  26.8519,2
49NZ200107_1,       P17N,      33,          1,         24,         24,2,20010810,       0531,    37.0032,  -135.0087,       5055,   606.7,   5.2511,2,  34.1640,2,  34.1638,2,    29.47,1,   24.94,2,   79.24,2,   40.92,2,   -0.01,2,    2.96,2,-999.000,9,-999.000,9,-999.000,9,  -999.0,9,  -999.0,9, -999.000,  -999.00, -999.00,9, -999.00,  -999.0,9,  -999.0,  26.9892,2
49NZ200107_1,       P17N,      33,          1,         23,         23,2,20010810,       0531,    37.0032,  -135.0087,       5055,   707.3,   4.7764,2,  34.2405,2,  34.2413,2,    19.70,1,   13.73,2,   91.27,2,   42.65,2,    0.01,2,    3.12,2,-999.000,9,-999.000,9,-999.000,9,  -999.0,9,  -999.0,9, -999.000,  -999.00, -999.00,9, -999.00,  -999.0,9,  -999.0,  27.1047,2
49NZ200107_1,       P17N,      33,          1,         22,         22,2,20010810,       0531,    37.0032,  -135.0087,       5055,   807.8,   4.4257,2,  34.3028,2,  34.3061,2,    16.49,1,    9.91,2,  100.69,2,   43.48,2,    0.01,2,    3.19,2,-999.000,9,-999.000,9,-999.000,9,  -999.0,9,  -999.0,9, -999.000,  -999.00, -999.00,9, -999.00,  -999.0,9,  -999.0,  27.1933,2
49NZ200107_1,       P17N,      33,          1,         21,         21,3,20010810,       0531,    37.0032,  -135.0087,       5055,   909.3,   4.0714,2,  34.3672,2,  34.3684,2,    16.86,1,   10.10,2,  109.18,2,   43.97,2,    0.01,2,    3.23,2,-999.000,9,-999.000,9,-999.000,9,  -999.0,9,  -999.0,9, -999.000,  -999.00, -999.00,9, -999.00,  -999.0,9,  -999.0,  27.2825,2
49NZ200107_1,       P17N,      33,          1,         20,         20,2,20010810,       0531,    37.0032,  -135.0087,       5055,  1009.7,   3.8019,2,  34.4156,2,  34.4161,2,    19.81,1,   12.94,2,  115.45,2,   44.36,2,    0.02,2,    3.22,2,-999.000,9,-999.000,9,-999.000,9,  -999.0,9,  -999.0,9, -999.000,  -999.00, -999.00,9, -999.00,  -999.0,9,  -999.0,  27.3491,2
49NZ200107_1,       P17N,      33,          1,         19,         19,2,20010810,       0531,    37.0032,  -135.0087,       5055,  1212.3,   3.3223,2,  34.4796,2,  34.4798,2,    29.04,1,   22.21,2,  125.24,2,   44.31,2,    0.00,2,    3.18,2,-999.000,9,-999.000,9,-999.000,9,  -999.0,9,  -999.0,9, -999.000,  -999.00, -999.00,9, -999.00,  -999.0,9,  -999.0,  27.4478,2
49NZ200107_1,       P17N,      33,          1,         18,         18,2,20010810,       0531,    37.0032,  -135.0087,       5055,  1415.8,   2.9074,2,  34.5222,2,  34.5232,2,    38.62,1,   32.54,2,  135.68,2,   44.27,2,    0.00,2,    3.17,2,-999.000,9,-999.000,9,-999.000,9,  -999.0,9,  -999.0,9, -999.000,  -999.00, -999.00,9, -999.00,  -999.0,9,  -999.0,  27.5211,2
49NZ200107_1,       P17N,      33,          1,         17,         17,2,20010810,       0531,    37.0032,  -135.0087,       5055,  1618.6,   2.5776,2,  34.5598,2,  34.5598,2,    51.43,1,   46.64,2,  143.36,2,   43.89,2,    0.00,2,    3.13,2,-999.000,9,-999.000,9,-999.000,9,  -999.0,9,  -999.0,9, -999.000,  -999.00, -999.00,9, -999.00,  -999.0,9,  -999.0,  27.5809,2
49NZ200107_1,       P17N,      33,          1,         16,         16,2,20010810,       0531,    37.0032,  -135.0087,       5055,  1821.2,   2.2435,2,  34.5848,2,  34.5848,2,    61.42,1,   56.89,2,  152.44,2,   43.15,2,    0.00,2,    3.07,2,-999.000,9,-999.000,9,-999.000,9,  -999.0,9,  -999.0,9, -999.000,  -999.00, -999.00,9, -999.00,  -999.0,9,  -999.0,  27.6296,2
49NZ200107_1,       P17N,      33,          1,         15,         15,2,20010810,       0531,    37.0032,  -135.0087,       5055,  2024.6,   2.0184,2,  34.6059,2,  34.6059,2,    71.18,1,   67.35,2,  158.08,2,   42.57,2,    0.00,2,    3.01,2,-999.000,9,-999.000,9,-999.000,9,  -999.0,9,  -999.0,9, -999.000,  -999.00, -999.00,9, -999.00,  -999.0,9,  -999.0,  27.6653,2
49NZ200107_1,       P17N,      33,          1,         14,         14,2,20010810,       0531,    37.0032,  -135.0087,       5055,  2228.0,   1.8848,2,  34.6233,2,  34.6234,2,    81.40,1,   79.01,2,  160.89,2,   41.90,2,   -0.01,2,    2.97,2,-999.000,9,-999.000,9,-999.000,9,  -999.0,9,  -999.0,9, -999.000,  -999.00, -999.00,9, -999.00,  -999.0,9,  -999.0,  27.6907,2
49NZ200107_1,       P17N,      33,          1,         13,         13,2,20010810,       0531,    37.0032,  -135.0087,       5055,  2431.6,   1.7934,2,  34.6348,2,  34.6346,2,    89.13,1,   86.51,2,  162.70,2,   41.13,2,   -0.01,2,    2.93,2,-999.000,9,-999.000,9,-999.000,9,  -999.0,9,  -999.0,9, -999.000,  -999.00, -999.00,9, -999.00,  -999.0,9,  -999.0,  27.7081,2
49NZ200107_1,       P17N,      33,          1,         12,         12,2,20010810,       0531,    37.0032,  -135.0087,       5055,  2635.2,   1.7153,2,  34.6454,2,  34.6456,2,    97.45,1,   95.81,2,  162.55,2,   40.47,2,   -0.01,2,    2.87,2,-999.000,9,-999.000,9,-999.000,9,  -999.0,9,  -999.0,9, -999.000,  -999.00, -999.00,9, -999.00,  -999.0,9,  -999.0,  27.7235,2
49NZ200107_1,       P17N,      33,          1,         11,         11,2,20010810,       0531,    37.0032,  -135.0087,       5055,  2839.8,   1.6468,2,  34.6530,2,  34.6530,2,   104.58,1,  103.01,2,  163.44,2,   40.10,2,    0.01,2,    2.82,2,-999.000,9,-999.000,9,-999.000,9,  -999.0,9,  -999.0,9, -999.000,  -999.00, -999.00,9, -999.00,  -999.0,9,  -999.0,  27.7359,2
49NZ200107_1,       P17N,      33,          1,         10,         10,2,20010810,       0531,    37.0032,  -135.0087,       5055,  3043.6,   1.6062,2,  34.6592,2,  34.6590,2,   110.90,1,  109.98,2,  164.06,2,   39.62,2,    0.01,2,    2.79,2,-999.000,9,-999.000,9,-999.000,9,  -999.0,9,  -999.0,9, -999.000,  -999.00, -999.00,9, -999.00,  -999.0,9,  -999.0,  27.7451,2
49NZ200107_1,       P17N,      33,          1,          9,          9,2,20010810,       0531,    37.0032,  -135.0087,       5055,  3299.0,   1.5631,2,  34.6663,2,  34.6662,2,   119.23,1,  117.85,2,  163.13,2,   39.28,2,    0.00,2,    2.76,2,-999.000,9,-999.000,9,-999.000,9,  -999.0,9,  -999.0,9, -999.000,  -999.00, -999.00,9, -999.00,  -999.0,9,  -999.0,  27.7556,2
49NZ200107_1,       P17N,      33,          1,          8,          8,2,20010810,       0531,    37.0032,  -135.0087,       5055,  3554.9,   1.5317,2,  34.6726,2,  34.6723,2,   127.28,1,  125.48,2,  161.45,2,   38.77,2,    0.00,2,    2.72,2,-999.000,9,-999.000,9,-999.000,9,  -999.0,9,  -999.0,9, -999.000,  -999.00, -999.00,9, -999.00,  -999.0,9,  -999.0,  27.7646,2
49NZ200107_1,       P17N,      33,          1,          7,          7,2,20010810,       0531,    37.0032,  -135.0087,       5055,  3811.0,   1.5132,2,  34.6778,2,  34.6779,2,   134.16,1,  132.37,2,  160.65,2,   38.20,2,    0.00,2,    2.66,2,-999.000,9,-999.000,9,-999.000,9,  -999.0,9,  -999.0,9, -999.000,  -999.00, -999.00,9, -999.00,  -999.0,9,  -999.0,  27.7719,2
49NZ200107_1,       P17N,      33,          1,          6,          6,2,20010810,       0531,    37.0032,  -135.0087,       5055,  4067.2,   1.5070,2,  34.6818,2,  34.6815,2,   140.29,1,  137.75,2,  159.95,2,   37.87,2,    0.00,2,    2.62,2,-999.000,9,-999.000,9,-999.000,9,  -999.0,9,  -999.0,9, -999.000,  -999.00, -999.00,9, -999.00,  -999.0,9,  -999.0,  27.7774,2
49NZ200107_1,       P17N,      33,          1,          5,          5,2,20010810,       0531,    37.0032,  -135.0087,       5055,  4324.4,   1.5114,2,  34.6844,2,  34.6846,2,   146.45,1,  142.52,2,  156.57,2,   37.36,2,    0.00,2,    2.59,2,-999.000,9,-999.000,9,-999.000,9,  -999.0,9,  -999.0,9, -999.000,  -999.00, -999.00,9, -999.00,  -999.0,9,  -999.0,  27.7812,2
49NZ200107_1,       P17N,      33,          1,          4,          4,2,20010810,       0531,    37.0032,  -135.0087,       5055,  4580.9,   1.5272,2,  34.6860,2,  34.6860,2,   150.92,1,  146.35,2,  152.81,2,   37.06,2,    0.00,2,    2.56,2,-999.000,9,-999.000,9,-999.000,9,  -999.0,9,  -999.0,9, -999.000,  -999.00, -999.00,9, -999.00,  -999.0,9,  -999.0,  27.7835,2
49NZ200107_1,       P17N,      33,          1,          3,          3,2,20010810,       0531,    37.0032,  -135.0087,       5055,  4837.6,   1.5510,2,  34.6869,2,  34.6878,2,   154.72,1,  148.25,2,  150.42,2,   36.89,2,    0.00,2,    2.55,2,-999.000,9,-999.000,9,-999.000,9,  -999.0,9,  -999.0,9, -999.000,  -999.00, -999.00,9, -999.00,  -999.0,9,  -999.0,  27.7847,2
49NZ200107_1,       P17N,      33,          1,          2,          2,2,20010810,       0531,    37.0032,  -135.0087,       5055,  5096.2,   1.5771,2,  34.6876,2,  34.6871,2,   159.04,1,  150.02,2,  145.10,2,   36.74,2,    0.00,2,    2.51,2,-999.000,9,-999.000,9,-999.000,9,  -999.0,9,  -999.0,9, -999.000,  -999.00, -999.00,9, -999.00,  -999.0,9,  -999.0,  27.7857,2
49NZ200107_1,       P17N,      33,          1,          1,          1,2,20010810,       0531,    37.0032,  -135.0087,       5055,  5096.4,   1.5771,2,  34.6876,2,  34.6880,2,   159.10,1,  150.26,2,  144.97,2,   36.63,2,    0.00,2,    2.51,2,-999.000,9,-999.000,9,-999.000,9,  -999.0,9,  -999.0,9, -999.000,  -999.00, -999.00,9, -999.00,  -999.0,9,  -999.0,  27.7857,2