BOTTLE,20220817CCHSIOAMB
EXPOCODE,SECT_ID,STNNBR,CASTNO,SAMPNO,BTLNBR,BTLNBR_FLAG_W,DATE,TIME,LATITUDE,LONGITUDE,DEPTH,CTDPRS,CTDTMP,CTDTMP_FLAG_W,CTDSAL,CTDSAL_FLAG_W,SALNTY,SALNTY_FLAG_W,CTDOXY,CTDOXY_FLAG_W,OXYGEN,OXYGEN_FLAG_W,SILCAT,SILCAT_FLAG_W,NITRAT,NITRAT_FLAG_W,NITRIT,NITRIT_FLAG_W,PHSPHT,PHSPHT_FLAG_W,CFC-11,CFC-11_FLAG_W,CFC-12,CFC-12_FLAG_W,CFC113,CFC113_FLAG_W,TCARBN,TCARBN_FLAG_W,ALKALI,ALKALI_FLAG_W,PH_TOT,PH_TMP,DELC13,DELC13_FLAG_W,C13ERR,DELC14,DELC14_FLAG_W,C14ERR,THETA,THETA_FLAG_W
,,,,,,,,,,,METERS,DBAR,ITS-90,,PSS-78,,PSS-78,,UMOL/KG,,UMOL/KG,,UMOL/KG,,UMOL/KG,,UMOL/KG,,UMOL/KG,,PMOL/KG,,PMOL/KG,,PMOL/KG,,UMOL/KG,,UMOL/KG,,,DEG C,/MILLE,,/MILLE,/MILLE,,/MILLE,DEG C,
49NZ200107_1,       P17N,      99,          1,          0,        -99,9,20010825,       2041,    54.6153,  -158.5702,        200,     4.5,-999.0000,9,-999.0000,9,-999.0000,9,  -999.00,9, -999.00,9, -999.00,9, -999.00,9, -999.00,9, -999.00,9,-999.000,9,-999.000,9,-999.000,9,  -999.0,9,  -999.0,9, -999.000,  -999.00, -999.00,9, -999.00,  -999.0,9,  -999.0,-999.0000,9
49NZ200107_1,       P17N,      99,          1,         36,         36,2,20010825,       2041,    54.6153,  -158.5702,        200,    11.2,  10.5465,2,  32.3339,2,  32.3254,2,   274.21,1,  290.14,2,   11.92,2,    4.54,2,    0.09,2,    0.67,2,-999.000,9,-999.000,9,-999.000,9,  -999.0,9,  -999.0,9, -999.000,  -999.00, -999.00,9, -999.00,  -999.0,9,  -999.0,  24.7790,2
49NZ200107_1,       P17N,      99,          1,         35,         35,2,20010825,       2041,    54.6153,  -158.5702,        200,    16.4,  10.4778,2,  32.3366,2,-999.0000,9,   271.69,1, -999.00,9, -999.00,9, -999.00,9, -999.00,9, -999.00,9,-999.000,9,-999.000,9,-999.000,9,  -999.0,9,  -999.0,9, -999.000,  -999.00, -999.00,9, -999.00,  -999.0,9,  -999.0,  24.7929,2
49NZ200107_1,       P17N,      99,          1,         34,         34,2,20010825,       2041,    54.6153,  -158.5702,        200,    21.8,  10.0300,2,  32.3693,2,  32.3719,2,   261.69,1,  276.25,2,   12.71,2,    6.80,2,    0.20,2,    0.83,2,-999.000,9,-999.000,9,-999.000,9,  -999.0,9,  -999.0,9, -999.000,  -999.00, -999.00,9, -999.00,  -999.0,9,  -999.0,  24.8938,2
49NZ200107_1,       P17N,      99,          1,         33,         33,3,20010825,       2041,    54.6153,  -158.5702,        200,    26.9,   9.1531,2,  32.4423,2,-999.0000,9,   261.09,1, -999.00,9, -999.00,9, -999.00,9, -999.00,9, -999.00,9,-999.000,9,-999.000,9,-999.000,9,  -999.0,9,  -999.0,9, -999.000,  -999.00, -999.00,9, -999.00,  -999.0,9,  -999.0,  25.0924,2
49NZ200107_1,       P17N,      99,          1,         32,         32,2,20010825,       2041,    54.6153,  -158.5702,        200,    31.0,   8.8087,2,  32.4676,2,-999.0000,9,   255.68,1, -999.00,9, -999.00,9, -999.00,9, -999.00,9, -999.00,9,-999.000,9,-999.000,9,-999.000,9,  -999.0,9,  -999.0,9, -999.000,  -999.00, -999.00,9, -999.00,  -999.0,9,  -999.0,  25.1656,2
49NZ200107_1,       P17N,      99,          1,         31,         31,2,20010825,       2041,    54.6153,  -158.5702,        200,    35.9,   8.2044,2,  32.5141,2,  32.5141,2,   253.72,1,  270.05,2,   17.02,2,   12.13,2,    0.23,2,    1.17,2,-999.000,9,-999.000,9,-999.000,9,  -999.0,9,  -999.0,9, -999.000,  -999.00, -999.00,9, -999.00,  -999.0,9,  -999.0,  25.2927,2
49NZ200107_1,       P17N,      99,          1,         30,         30,2,20010825,       2041,    54.6153,  -158.5702,        200,    41.2,   7.7126,2,  32.5550,2,-999.0000,9,   245.80,1, -999.00,9, -999.00,9, -999.00,9, -999.00,9, -999.00,9,-999.000,9,-999.000,9,-999.000,9,  -999.0,9,  -999.0,9, -999.000,  -999.00, -999.00,9, -999.00,  -999.0,9,  -999.0,  25.3957,2
49NZ200107_1,       P17N,      99,          1,         29,         29,2,20010825,       2041,    54.6153,  -158.5702,        200,    45.9,   7.0018,2,  32.6075,2,  32.5952,2,   237.44,1,  252.89,2,   21.15,2,   15.91,2,    0.07,2,    1.40,2,-999.000,9,-999.000,9,-999.000,9,  -999.0,9,  -999.0,9, -999.000,  -999.00, -999.00,9, -999.00,  -999.0,9,  -999.0,  25.5348,2
49NZ200107_1,       P17N,      99,          1,         28,         28,3,20010825,       2041,    54.6153,  -158.5702,        200,    50.8,   6.8593,2,  32.6207,2,-999.0000,9,   236.49,1, -999.00,9, -999.00,9, -999.00,9, -999.00,9, -999.00,9,-999.000,9,-999.000,9,-999.000,9,  -999.0,9,  -999.0,9, -999.000,  -999.00, -999.00,9, -999.00,  -999.0,9,  -999.0,  25.5642,2
49NZ200107_1,       P17N,      99,          1,         27,         27,3,20010825,       2041,    54.6153,  -158.5702,        200,    55.1,   6.7629,2,  32.6341,2,-999.0000,9,   235.74,1, -999.00,9, -999.00,9, -999.00,9, -999.00,9, -999.00,9,-999.000,9,-999.000,9,-999.000,9,  -999.0,9,  -999.0,9, -999.000,  -999.00, -999.00,9, -999.00,  -999.0,9,  -999.0,  25.5875,2
49NZ200107_1,       P17N,      99,          1,         26,         26,3,20010825,       2041,    54.6153,  -158.5702,        200,    60.0,   6.6216,2,  32.6559,2,  32.6645,2,   234.29,1,  249.46,2,   23.14,2,   17.60,2,    0.03,2,    1.50,2,-999.000,9,-999.000,9,-999.000,9,  -999.0,9,  -999.0,9, -999.000,  -999.00, -999.00,9, -999.00,  -999.0,9,  -999.0,  25.6231,2
49NZ200107_1,       P17N,      99,          1,         25,         25,2,20010825,       2041,    54.6153,  -158.5702,        200,    64.7,   6.3850,2,  32.7063,2,-999.0000,9,   235.29,1, -999.00,9, -999.00,9, -999.00,9, -999.00,9, -999.00,9,-999.000,9,-999.000,9,-999.000,9,  -999.0,9,  -999.0,9, -999.000,  -999.00, -999.00,9, -999.00,  -999.0,9,  -999.0,  25.6931,2
49NZ200107_1,       P17N,      99,          1,         24,         24,2,20010825,       2041,    54.6153,  -158.5702,        200,    69.2,   6.3521,2,  32.7475,2,-999.0000,9,   238.65,1, -999.00,9, -999.00,9, -999.00,9, -999.00,9, -999.00,9,-999.000,9,-999.000,9,-999.000,9,  -999.0,9,  -999.0,9, -999.000,  -999.00, -999.00,9, -999.00,  -999.0,9,  -999.0,  25.7298,2
49NZ200107_1,       P17N,      99,          1,         23,         23,2,20010825,       2041,    54.6153,  -158.5702,        200,    74.2,   6.2821,2,  32.7626,2,-999.0000,9,   239.07,1, -999.00,9, -999.00,9, -999.00,9, -999.00,9, -999.00,9,-999.000,9,-999.000,9,-999.000,9,  -999.0,9,  -999.0,9, -999.000,  -999.00, -999.00,9, -999.00,  -999.0,9,  -999.0,  25.7507,2
49NZ200107_1,       P17N,      99,          1,         22,         22,3,20010825,       2041,    54.6153,  -158.5702,        200,    79.0,   6.2317,2,  32.7751,2,-999.0000,9,   235.40,1, -999.00,9, -999.00,9, -999.00,9, -999.00,9, -999.00,9,-999.000,9,-999.000,9,-999.000,9,  -999.0,9,  -999.0,9, -999.000,  -999.00, -999.00,9, -999.00,  -999.0,9,  -999.0,  25.7669,2
49NZ200107_1,       P17N,      99,          1,         21,         21,2,20010825,       2041,    54.6153,  -158.5702,        200,    83.9,   6.0853,2,  32.8436,2,  32.8642,2,   222.71,1,  234.79,2,   27.77,2,   20.85,2,    0.03,2,    1.66,2,-999.000,9,-999.000,9,-999.000,9,  -999.0,9,  -999.0,9, -999.000,  -999.00, -999.00,9, -999.00,  -999.0,9,  -999.0,  25.8392,2
49NZ200107_1,       P17N,      99,          1,         20,         20,2,20010825,       2041,    54.6153,  -158.5702,        200,    88.6,   6.0541,2,  32.8559,2,-999.0000,9,   220.87,1, -999.00,9, -999.00,9, -999.00,9, -999.00,9, -999.00,9,-999.000,9,-999.000,9,-999.000,9,  -999.0,9,  -999.0,9, -999.000,  -999.00, -999.00,9, -999.00,  -999.0,9,  -999.0,  25.8528,2
49NZ200107_1,       P17N,      99,          1,         19,         19,2,20010825,       2041,    54.6153,  -158.5702,        200,    93.4,   6.0067,2,  32.8785,2,-999.0000,9,   217.94,1, -999.00,9, -999.00,9, -999.00,9, -999.00,9, -999.00,9,-999.000,9,-999.000,9,-999.000,9,  -999.0,9,  -999.0,9, -999.000,  -999.00, -999.00,9, -999.00,  -999.0,9,  -999.0,  25.8766,2
49NZ200107_1,       P17N,      99,          1,         18,         18,3,20010825,       2041,    54.6153,  -158.5702,        200,    98.8,   5.9836,2,  32.9013,2,-999.0000,9,   212.94,1, -999.00,9, -999.00,9, -999.00,9, -999.00,9, -999.00,9,-999.000,9,-999.000,9,-999.000,9,  -999.0,9,  -999.0,9, -999.000,  -999.00, -999.00,9, -999.00,  -999.0,9,  -999.0,  25.8975,2
49NZ200107_1,       P17N,      99,          1,         17,         17,2,20010825,       2041,    54.6153,  -158.5702,        200,   103.0,   5.9518,2,  32.9601,2,-999.0000,9,   204.53,1, -999.00,9, -999.00,9, -999.00,9, -999.00,9, -999.00,9,-999.000,9,-999.000,9,-999.000,9,  -999.0,9,  -999.0,9, -999.000,  -999.00, -999.00,9, -999.00,  -999.0,9,  -999.0,  25.9479,2
49NZ200107_1,       P17N,      99,          1,         16,         16,2,20010825,       2041,    54.6153,  -158.5702,        200,   108.5,   5.8934,2,  33.0522,2,  33.0753,2,   188.16,1,  205.30,2,   33.73,2,   24.43,2,    0.04,2,    1.86,2,-999.000,9,-999.000,9,-999.000,9,  -999.0,9,  -999.0,9, -999.000,  -999.00, -999.00,9, -999.00,  -999.0,9,  -999.0,  26.0278,2
49NZ200107_1,       P17N,      99,          1,         15,         15,2,20010825,       2041,    54.6153,  -158.5702,        200,   112.3,   5.8184,2,  33.1576,2,-999.0000,9,   179.21,1, -999.00,9, -999.00,9, -999.00,9, -999.00,9, -999.00,9,-999.000,9,-999.000,9,-999.000,9,  -999.0,9,  -999.0,9, -999.000,  -999.00, -999.00,9, -999.00,  -999.0,9,  -999.0,  26.1203,2
49NZ200107_1,       P17N,      99,          1,         14,         14,2,20010825,       2041,    54.6153,  -158.5702,        200,   117.5,   5.7755,2,  33.2394,2,-999.0000,9,   166.77,1, -999.00,9, -999.00,9, -999.00,9, -999.00,9, -999.00,9,-999.000,9,-999.000,9,-999.000,9,  -999.0,9,  -999.0,9, -999.000,  -999.00, -999.00,9, -999.00,  -999.0,9,  -999.0,  26.1902,2
49NZ200107_1,       P17N,      99,          1,         13,         13,2,20010825,       2041,    54.6153,  -158.5702,        200,   122.6,   5.7452,2,  33.2942,2,-999.0000,9,   163.10,1, -999.00,9, -999.00,9, -999.00,9, -999.00,9, -999.00,9,-999.000,9,-999.000,9,-999.000,9,  -999.0,9,  -999.0,9, -999.000,  -999.00, -999.00,9, -999.00,  -999.0,9,  -999.0,  26.2373,2
49NZ200107_1,       P17N,      99,          1,         12,         12,2,20010825,       2041,    54.6153,  -158.5702,        200,   127.7,   5.7347,2,  33.3089,2,-999.0000,9,   161.71,1, -999.00,9, -999.00,9, -999.00,9, -999.00,9, -999.00,9,-999.000,9,-999.000,9,-999.000,9,  -999.0,9,  -999.0,9, -999.000,  -999.00, -999.00,9, -999.00,  -999.0,9,  -999.0,  26.2502,2
49NZ200107_1,       P17N,      99,          1,         11,         11,2,20010825,       2041,    54.6153,  -158.5702,        200,   132.3,   5.7257,2,  33.3164,2,  33.3268,2,   161.00,1,  165.76,2,   44.89,2,   28.71,2,    0.06,2,    2.12,2,-999.000,9,-999.000,9,-999.000,9,  -999.0,9,  -999.0,9, -999.000,  -999.00, -999.00,9, -999.00,  -999.0,9,  -999.0,  26.2572,2
49NZ200107_1,       P17N,      99,          1,         10,         10,2,20010825,       2041,    54.6153,  -158.5702,        200,   137.7,   5.7140,2,  33.3229,2,-999.0000,9,   160.60,1, -999.00,9, -999.00,9, -999.00,9, -999.00,9, -999.00,9,-999.000,9,-999.000,9,-999.000,9,  -999.0,9,  -999.0,9, -999.000,  -999.00, -999.00,9, -999.00,  -999.0,9,  -999.0,  26.2638,2
49NZ200107_1,       P17N,      99,          1,          9,          9,2,20010825,       2041,    54.6153,  -158.5702,        200,   142.5,   5.7205,2,  33.3215,2,-999.0000,9,   160.22,1, -999.00,9, -999.00,9, -999.00,9, -999.00,9, -999.00,9,-999.000,9,-999.000,9,-999.000,9,  -999.0,9,  -999.0,9, -999.000,  -999.00, -999.00,9, -999.00,  -999.0,9,  -999.0,  26.2620,2
49NZ200107_1,       P17N,      99,          1,          8,          8,3,20010825,       2041,    54.6153,  -158.5702,        200,   147.3,   5.7087,2,  33.3267,2,-999.0000,9,   158.72,1, -999.00,9, -999.00,9, -999.00,9, -999.00,9, -999.00,9,-999.000,9,-999.000,9,-999.000,9,  -999.0,9,  -999.0,9, -999.000,  -999.00, -999.00,9, -999.00,  -999.0,9,  -999.0,  26.2676,2
49NZ200107_1,       P17N,      99,          1,          7,          7,2,20010825,       2041,    54.6153,  -158.5702,        200,   152.4,   5.6724,2,  33.3332,2,-999.0000,9,   155.41,1, -999.00,9, -999.00,9, -999.00,9, -999.00,9, -999.00,9,-999.000,9,-999.000,9,-999.000,9,  -999.0,9,  -999.0,9, -999.000,  -999.00, -999.00,9, -999.00,  -999.0,9,  -999.0,  26.2772,2
49NZ200107_1,       P17N,      99,          1,          6,          6,2,20010825,       2041,    54.6153,  -158.5702,        200,   157.8,   5.5829,2,  33.3585,2,  33.3585,2,   149.65,1,  157.76,2,   47.75,2,   29.60,2,    0.07,2,    2.19,2,-999.000,9,-999.000,9,-999.000,9,  -999.0,9,  -999.0,9, -999.000,  -999.00, -999.00,9, -999.00,  -999.0,9,  -999.0,  26.3079,2
49NZ200107_1,       P17N,      99,          1,          5,          5,2,20010825,       2041,    54.6153,  -158.5702,        200,   162.5,   5.5460,2,  33.3744,2,-999.0000,9,   149.04,1, -999.00,9, -999.00,9, -999.00,9, -999.00,9, -999.00,9,-999.000,9,-999.000,9,-999.000,9,  -999.0,9,  -999.0,9, -999.000,  -999.00, -999.00,9, -999.00,  -999.0,9,  -999.0,  26.3249,2
49NZ200107_1,       P17N,      99,          1,          4,          4,2,20010825,       2041,    54.6153,  -158.5702,        200,   166.9,   5.5517,2,  33.3697,2,-999.0000,9,   148.84,1, -999.00,9, -999.00,9, -999.00,9, -999.00,9, -999.00,9,-999.000,9,-999.000,9,-999.000,9,  -999.0,9,  -999.0,9, -999.000,  -999.00, -999.00,9, -999.00,  -999.0,9,  -999.0,  26.3205,2
49NZ200107_1,       P17N,      99,          1,          3,          3,2,20010825,       2041,    54.6153,  -158.5702,        200,   177.0,   5.4924,2,  33.4381,2,-999.0000,9,   139.14,1, -999.00,9, -999.00,9, -999.00,9, -999.00,9, -999.00,9,-999.000,9,-999.000,9,-999.000,9,  -999.0,9,  -999.0,9, -999.000,  -999.00, -999.00,9, -999.00,  -999.0,9,  -999.0,  26.3818,2
49NZ200107_1,       P17N,      99,          1,          2,          2,2,20010825,       2041,    54.6153,  -158.5702,        200,   186.8,   5.4883,2,  33.4407,2,  33.4681,3,   131.31,1,  139.36,2,   51.00,2,   31.42,2,    0.07,2,    2.31,2,-999.000,9,-999.000,9,-999.000,9,  -999.0,9,  -999.0,9, -999.000,  -999.00, -999.00,9, -999.00,  -999.0,9,  -999.0,  26.3844,2
49NZ200107_1,       P17N,      99,          1,          1,          1,2,20010825,       2041,    54.6153,  -158.5702,        200,   197.3,   5.3588,2,  33.5747,2,  33.5044,2,   123.95,1,  132.19,2,   52.43,2,   32.16,2,    0.08,2,    2.34,2,-999.000,9,-999.000,9,-999.000,9,  -999.0,9,  -999.0,9, -999.000,  -999.00, -999.00,9, -999.00,  -999.0,9,  -999.0,  26.5058,2