BOTTLE,20220817CCHSIOAMB
EXPOCODE,SECT_ID,STNNBR,CASTNO,SAMPNO,BTLNBR,BTLNBR_FLAG_W,DATE,TIME,LATITUDE,LONGITUDE,DEPTH,CTDPRS,CTDTMP,CTDTMP_FLAG_W,CTDSAL,CTDSAL_FLAG_W,SALNTY,SALNTY_FLAG_W,CTDOXY,CTDOXY_FLAG_W,OXYGEN,OXYGEN_FLAG_W,SILCAT,SILCAT_FLAG_W,NITRAT,NITRAT_FLAG_W,NITRIT,NITRIT_FLAG_W,PHSPHT,PHSPHT_FLAG_W,CFC-11,CFC-11_FLAG_W,CFC-12,CFC-12_FLAG_W,CFC113,CFC113_FLAG_W,TCARBN,TCARBN_FLAG_W,ALKALI,ALKALI_FLAG_W,PH_TOT,PH_TMP,DELC13,DELC13_FLAG_W,C13ERR,DELC14,DELC14_FLAG_W,C14ERR,THETA,THETA_FLAG_W
,,,,,,,,,,,METERS,DBAR,ITS-90,,PSS-78,,PSS-78,,UMOL/KG,,UMOL/KG,,UMOL/KG,,UMOL/KG,,UMOL/KG,,UMOL/KG,,PMOL/KG,,PMOL/KG,,PMOL/KG,,UMOL/KG,,UMOL/KG,,,DEG C,/MILLE,,/MILLE,/MILLE,,/MILLE,DEG C,
49NZ200107_1,       P17N,      39,          1,          0,        -99,9,20010811,       1336,    39.6195,  -135.0097,       4725,     4.5,-999.0000,9,-999.0000,9,  32.5797,2,  -999.00,9,  248.47,2,    1.85,2,    0.02,2,    0.01,2,    0.33,2,-999.000,9,-999.000,9,-999.000,9,  -999.0,9,  -999.0,9, -999.000,  -999.00, -999.00,9, -999.00,  -999.0,9,  -999.0,-999.0000,9
49NZ200107_1,       P17N,      39,          1,         36,         36,2,20010811,       1336,    39.6195,  -135.0097,       4725,    11.5,  17.4243,2,  32.5773,2,  32.5765,2,   239.58,1,  249.31,2,    2.59,2,    0.14,2,    0.01,2,    0.32,2,-999.000,9,-999.000,9,-999.000,9,  -999.0,9,  -999.0,9, -999.000,  -999.00, -999.00,9, -999.00,  -999.0,9,  -999.0,  23.5561,2
49NZ200107_1,       P17N,      39,          1,         35,         35,2,20010811,       1336,    39.6195,  -135.0097,       4725,    26.2,  16.6034,2,  32.5670,2,  32.5796,2,   257.82,1,  277.16,3,    2.88,2,    0.08,2,    0.02,2,    0.35,2,-999.000,9,-999.000,9,-999.000,9,  -999.0,9,  -999.0,9, -999.000,  -999.00, -999.00,9, -999.00,  -999.0,9,  -999.0,  23.7407,2
49NZ200107_1,       P17N,      39,          1,         34,         34,2,20010811,       1336,    39.6195,  -135.0097,       4725,    51.4,  11.8182,2,  32.5972,2,  32.5927,2,   283.66,1,  296.81,2,    4.63,2,    0.63,2,    0.10,2,    0.45,2,-999.000,9,-999.000,9,-999.000,9,  -999.0,9,  -999.0,9, -999.000,  -999.00, -999.00,9, -999.00,  -999.0,9,  -999.0,  24.7584,2
49NZ200107_1,       P17N,      39,          1,         33,         33,2,20010811,       1336,    39.6195,  -135.0097,       4725,    76.6,  10.7866,2,  32.6078,2,  32.6096,2,   258.53,1,  271.28,2,    6.18,2,    3.79,2,    0.18,2,    0.63,2,-999.000,9,-999.000,9,-999.000,9,  -999.0,9,  -999.0,9, -999.000,  -999.00, -999.00,9, -999.00,  -999.0,9,  -999.0,  24.9521,2
49NZ200107_1,       P17N,      39,          1,         32,         32,2,20010811,       1336,    39.6195,  -135.0097,       4725,   101.2,   9.8596,2,  32.5802,2,  32.5834,2,   258.56,1,  271.00,3,    8.60,2,    6.73,2,    0.05,2,    0.80,2,-999.000,9,-999.000,9,-999.000,9,  -999.0,9,  -999.0,9, -999.000,  -999.00, -999.00,9, -999.00,  -999.0,9,  -999.0,  25.0880,2
49NZ200107_1,       P17N,      39,          1,         31,         31,2,20010811,       1336,    39.6195,  -135.0097,       4725,   152.2,   8.0294,2,  33.0449,2,  33.1196,3,   232.89,1,  244.58,2,   15.13,2,   13.88,2,    0.03,2,    1.15,2,-999.000,9,-999.000,9,-999.000,9,  -999.0,9,  -999.0,9, -999.000,  -999.00, -999.00,9, -999.00,  -999.0,9,  -999.0,  25.7365,2
49NZ200107_1,       P17N,      39,          1,         30,         30,2,20010811,       1336,    39.6195,  -135.0097,       4725,   202.4,   7.8981,2,  33.7262,2,  33.7909,2,   176.83,1,  179.70,2,   28.37,2,   22.63,2,    0.03,2,    1.60,2,-999.000,9,-999.000,9,-999.000,9,  -999.0,9,  -999.0,9, -999.000,  -999.00, -999.00,9, -999.00,  -999.0,9,  -999.0,  26.2913,2
49NZ200107_1,       P17N,      39,          1,         29,         29,2,20010811,       1336,    39.6195,  -135.0097,       4725,   252.7,   7.5537,2,  33.9601,2,  33.9678,2,   136.92,1,  135.17,2,   39.16,2,   28.65,2,   -0.01,2,    1.98,2,-999.000,9,-999.000,9,-999.000,9,  -999.0,9,  -999.0,9, -999.000,  -999.00, -999.00,9, -999.00,  -999.0,9,  -999.0,  26.5256,2
49NZ200107_1,       P17N,      39,          1,         28,         28,2,20010811,       1336,    39.6195,  -135.0097,       4725,   303.8,   6.8980,2,  33.9843,2,  33.9843,2,   100.62,1,  100.25,2,   47.21,2,   33.04,2,    0.01,2,    2.27,2,-999.000,9,-999.000,9,-999.000,9,  -999.0,9,  -999.0,9, -999.000,  -999.00, -999.00,9, -999.00,  -999.0,9,  -999.0,  26.6364,2
49NZ200107_1,       P17N,      39,          1,         27,         27,3,20010811,       1336,    39.6195,  -135.0097,       4725,   353.8,   6.3961,2,  33.9974,2,  33.9957,2,    82.97,1,   83.12,2,   53.11,2,   35.05,2,    0.00,2,    2.43,2,-999.000,9,-999.000,9,-999.000,9,  -999.0,9,  -999.0,9, -999.000,  -999.00, -999.00,9, -999.00,  -999.0,9,  -999.0,  26.7138,2
49NZ200107_1,       P17N,      39,          1,         26,         26,3,20010811,       1336,    39.6195,  -135.0097,       4725,   404.3,   5.9439,2,  34.0006,2,  33.9994,2,    73.73,1,   75.04,2,   58.94,2,   36.72,2,   -0.01,2,    2.55,2,-999.000,9,-999.000,9,-999.000,9,  -999.0,9,  -999.0,9, -999.000,  -999.00, -999.00,9, -999.00,  -999.0,9,  -999.0,  26.7743,2
49NZ200107_1,       P17N,      39,          1,         25,         25,2,20010811,       1336,    39.6195,  -135.0097,       4725,   505.3,   4.9272,2,  34.0210,2,  34.0236,2,    55.94,1,   52.37,2,   75.74,2,   40.46,2,    0.00,2,    2.80,2,-999.000,9,-999.000,9,-999.000,9,  -999.0,9,  -999.0,9, -999.000,  -999.00, -999.00,9, -999.00,  -999.0,9,  -999.0,  26.9118,2
49NZ200107_1,       P17N,      39,          1,         24,         24,2,20010811,       1336,    39.6195,  -135.0097,       4725,   606.2,   4.4472,2,  34.1214,2,  34.1193,2,    30.80,1,   26.85,2,   91.34,2,   42.83,2,    0.00,2,    2.99,2,-999.000,9,-999.000,9,-999.000,9,  -999.0,9,  -999.0,9, -999.000,  -999.00, -999.00,9, -999.00,  -999.0,9,  -999.0,  27.0451,2
49NZ200107_1,       P17N,      39,          1,         23,         23,2,20010811,       1336,    39.6195,  -135.0097,       4725,   707.4,   4.2235,2,  34.2215,2,  34.2220,2,    19.79,1,   14.13,2,  101.51,2,   43.81,2,    0.01,2,    3.10,2,-999.000,9,-999.000,9,-999.000,9,  -999.0,9,  -999.0,9, -999.000,  -999.00, -999.00,9, -999.00,  -999.0,9,  -999.0,  27.1491,2
49NZ200107_1,       P17N,      39,          1,         22,         22,2,20010811,       1336,    39.6195,  -135.0097,       4725,   808.4,   3.9236,2,  34.2928,2,  34.2933,2,    16.15,1,    9.48,2,  111.79,2,   44.43,2,    0.01,2,    3.15,2,-999.000,9,-999.000,9,-999.000,9,  -999.0,9,  -999.0,9, -999.000,  -999.00, -999.00,9, -999.00,  -999.0,9,  -999.0,  27.2374,2
49NZ200107_1,       P17N,      39,          1,         21,         21,2,20010811,       1336,    39.6195,  -135.0097,       4725,   910.1,   3.6914,2,  34.3431,2,  34.3424,2,    15.92,1,    8.88,2,  119.04,2,   44.80,2,    0.01,2,    3.19,2,-999.000,9,-999.000,9,-999.000,9,  -999.0,9,  -999.0,9, -999.000,  -999.00, -999.00,9, -999.00,  -999.0,9,  -999.0,  27.3014,2
49NZ200107_1,       P17N,      39,          1,         20,         20,2,20010811,       1336,    39.6195,  -135.0097,       4725,  1011.1,   3.4523,2,  34.3879,2,  34.3872,2,    17.06,1,    9.66,2,  125.74,2,   44.93,2,    0.00,2,    3.18,2,-999.000,9,-999.000,9,-999.000,9,  -999.0,9,  -999.0,9, -999.000,  -999.00, -999.00,9, -999.00,  -999.0,9,  -999.0,  27.3609,2
49NZ200107_1,       P17N,      39,          1,         19,         19,2,20010811,       1336,    39.6195,  -135.0097,       4725,  1112.5,   3.1534,2,  34.4302,2,  34.4310,2,    19.52,1,   11.64,2,  132.56,2,   45.16,2,    0.02,2,    3.15,2,-999.000,9,-999.000,9,-999.000,9,  -999.0,9,  -999.0,9, -999.000,  -999.00, -999.00,9, -999.00,  -999.0,9,  -999.0,  27.4233,2
49NZ200107_1,       P17N,      39,          1,         18,         18,2,20010811,       1336,    39.6195,  -135.0097,       4725,  1214.0,   2.9982,2,  34.4701,2,  34.4723,2,    24.97,1,   18.05,2,  136.40,2,   44.81,2,    0.01,2,    3.14,2,-999.000,9,-999.000,9,-999.000,9,  -999.0,9,  -999.0,9, -999.000,  -999.00, -999.00,9, -999.00,  -999.0,9,  -999.0,  27.4699,2
49NZ200107_1,       P17N,      39,          1,         17,         17,2,20010811,       1336,    39.6195,  -135.0097,       4725,  1315.2,   2.8690,2,  34.4971,2,  34.4963,2,    30.52,1,   23.14,2,  140.16,2,   44.38,2,    0.00,2,    3.12,2,-999.000,9,-999.000,9,-999.000,9,  -999.0,9,  -999.0,9, -999.000,  -999.00, -999.00,9, -999.00,  -999.0,9,  -999.0,  27.5036,2
49NZ200107_1,       P17N,      39,          1,         16,         16,2,20010811,       1336,    39.6195,  -135.0097,       4725,  1416.6,   2.7340,2,  34.5215,2,  34.5214,2,    38.34,1,   31.98,2,  142.76,2,   43.97,2,   -0.01,2,    3.09,2,-999.000,9,-999.000,9,-999.000,9,  -999.0,9,  -999.0,9, -999.000,  -999.00, -999.00,9, -999.00,  -999.0,9,  -999.0,  27.5356,2
49NZ200107_1,       P17N,      39,          1,         15,         15,2,20010811,       1336,    39.6195,  -135.0097,       4725,  1619.1,   2.3865,2,  34.5560,2,  34.5558,2,    48.93,1,   42.92,2,  151.48,2,   43.45,2,   -0.01,2,    3.05,2,-999.000,9,-999.000,9,-999.000,9,  -999.0,9,  -999.0,9, -999.000,  -999.00, -999.00,9, -999.00,  -999.0,9,  -999.0,  27.5937,2
49NZ200107_1,       P17N,      39,          1,         14,         14,2,20010811,       1336,    39.6195,  -135.0097,       4725,  1822.7,   2.1356,2,  34.5806,2,  34.5806,2,    58.64,1,   53.29,2,  157.69,2,   42.91,2,   -0.01,2,    3.01,2,-999.000,9,-999.000,9,-999.000,9,  -999.0,9,  -999.0,9, -999.000,  -999.00, -999.00,9, -999.00,  -999.0,9,  -999.0,  27.6347,2
49NZ200107_1,       P17N,      39,          1,         13,         13,2,20010811,       1336,    39.6195,  -135.0097,       4725,  2026.0,   2.0018,2,  34.6013,2,  34.6013,2,    69.78,1,   65.96,2,  160.65,2,   42.16,2,   -0.01,2,    2.97,2,-999.000,9,-999.000,9,-999.000,9,  -999.0,9,  -999.0,9, -999.000,  -999.00, -999.00,9, -999.00,  -999.0,9,  -999.0,  27.6629,2
49NZ200107_1,       P17N,      39,          1,         12,         12,2,20010811,       1336,    39.6195,  -135.0097,       4725,  2229.3,   1.8560,2,  34.6205,2,  34.6206,2,    80.69,1,   76.68,2,  162.36,2,   41.34,2,   -0.01,2,    2.90,2,-999.000,9,-999.000,9,-999.000,9,  -999.0,9,  -999.0,9, -999.000,  -999.00, -999.00,9, -999.00,  -999.0,9,  -999.0,  27.6907,2
49NZ200107_1,       P17N,      39,          1,         11,         11,2,20010811,       1336,    39.6195,  -135.0097,       4725,  2433.6,   1.7642,2,  34.6337,2,  34.6340,2,    90.05,1,   87.62,2,  165.50,2,   40.77,2,    0.00,2,    2.85,2,-999.000,9,-999.000,9,-999.000,9,  -999.0,9,  -999.0,9, -999.000,  -999.00, -999.00,9, -999.00,  -999.0,9,  -999.0,  27.7093,2
49NZ200107_1,       P17N,      39,          1,         10,         10,2,20010811,       1336,    39.6195,  -135.0097,       4725,  2637.3,   1.7043,2,  34.6429,2,  34.6427,2,    97.49,1,   94.20,2,  165.03,2,   40.21,2,    0.00,2,    2.83,2,-999.000,9,-999.000,9,-999.000,9,  -999.0,9,  -999.0,9, -999.000,  -999.00, -999.00,9, -999.00,  -999.0,9,  -999.0,  27.7224,2
49NZ200107_1,       P17N,      39,          1,          9,          9,2,20010811,       1336,    39.6195,  -135.0097,       4725,  2841.6,   1.6441,2,  34.6519,2,  34.6522,2,   105.43,1,  103.49,2,  164.17,2,   39.72,2,   -0.01,2,    2.79,2,-999.000,9,-999.000,9,-999.000,9,  -999.0,9,  -999.0,9, -999.000,  -999.00, -999.00,9, -999.00,  -999.0,9,  -999.0,  27.7352,2
49NZ200107_1,       P17N,      39,          1,          8,          8,2,20010811,       1336,    39.6195,  -135.0097,       4725,  3045.8,   1.6171,2,  34.6572,2,  34.6572,2,   110.67,1,  107.95,2,  163.95,2,   39.43,2,    0.00,2,    2.75,2,-999.000,9,-999.000,9,-999.000,9,  -999.0,9,  -999.0,9, -999.000,  -999.00, -999.00,9, -999.00,  -999.0,9,  -999.0,  27.7428,2
49NZ200107_1,       P17N,      39,          1,          7,          7,2,20010811,       1336,    39.6195,  -135.0097,       4725,  3301.6,   1.5799,2,  34.6643,2,  34.6642,2,   117.83,1,  115.80,2,  163.60,2,   39.05,2,    0.00,2,    2.72,2,-999.000,9,-999.000,9,-999.000,9,  -999.0,9,  -999.0,9, -999.000,  -999.00, -999.00,9, -999.00,  -999.0,9,  -999.0,  27.7529,2
49NZ200107_1,       P17N,      39,          1,          6,          6,2,20010811,       1336,    39.6195,  -135.0097,       4725,  3557.3,   1.5516,2,  34.6700,2,  34.6702,2,   125.87,1,  122.36,2,  161.48,2,   38.72,2,    0.00,2,    2.69,2,-999.000,9,-999.000,9,-999.000,9,  -999.0,9,  -999.0,9, -999.000,  -999.00, -999.00,9, -999.00,  -999.0,9,  -999.0,  27.7612,2
49NZ200107_1,       P17N,      39,          1,          5,          5,2,20010811,       1336,    39.6195,  -135.0097,       4725,  3813.6,   1.5253,2,  34.6764,2,  34.6764,2,   133.19,1,  130.34,2,  160.99,2,   38.15,2,    0.00,2,    2.66,2,-999.000,9,-999.000,9,-999.000,9,  -999.0,9,  -999.0,9, -999.000,  -999.00, -999.00,9, -999.00,  -999.0,9,  -999.0,  27.7700,2
49NZ200107_1,       P17N,      39,          1,          4,          4,2,20010811,       1336,    39.6195,  -135.0097,       4725,  4070.1,   1.5243,2,  34.6800,2,  34.6795,2,   138.80,1,  134.82,2,  160.97,2,   37.90,2,    0.00,2,    2.63,2,-999.000,9,-999.000,9,-999.000,9,  -999.0,9,  -999.0,9, -999.000,  -999.00, -999.00,9, -999.00,  -999.0,9,  -999.0,  27.7749,2
49NZ200107_1,       P17N,      39,          1,          3,          3,2,20010811,       1336,    39.6195,  -135.0097,       4725,  4326.8,   1.5170,2,  34.6840,2,  34.6840,2,   146.43,1,  141.47,2,  156.97,2,   37.47,2,    0.00,2,    2.60,2,-999.000,9,-999.000,9,-999.000,9,  -999.0,9,  -999.0,9, -999.000,  -999.00, -999.00,9, -999.00,  -999.0,9,  -999.0,  27.7805,2
49NZ200107_1,       P17N,      39,          1,          2,          2,2,20010811,       1336,    39.6195,  -135.0097,       4725,  4584.3,   1.5262,2,  34.6861,2,  34.6860,2,   152.05,1,  145.71,2,  155.09,2,   37.10,2,    0.01,2,    2.55,2,-999.000,9,-999.000,9,-999.000,9,  -999.0,9,  -999.0,9, -999.000,  -999.00, -999.00,9, -999.00,  -999.0,9,  -999.0,  27.7836,2
49NZ200107_1,       P17N,      39,          1,          1,          1,2,20010811,       1336,    39.6195,  -135.0097,       4725,  4808.8,   1.5471,2,  34.6866,2,  34.6868,2,   155.78,1,  147.79,2,  153.04,2,   36.78,2,    0.01,2,    2.55,2,-999.000,9,-999.000,9,-999.000,9,  -999.0,9,  -999.0,9, -999.000,  -999.00, -999.00,9, -999.00,  -999.0,9,  -999.0,  27.7845,2