BOTTLE,20220817CCHSIOAMB
EXPOCODE,SECT_ID,STNNBR,CASTNO,SAMPNO,BTLNBR,BTLNBR_FLAG_W,DATE,TIME,LATITUDE,LONGITUDE,DEPTH,CTDPRS,CTDTMP,CTDTMP_FLAG_W,CTDSAL,CTDSAL_FLAG_W,SALNTY,SALNTY_FLAG_W,CTDOXY,CTDOXY_FLAG_W,OXYGEN,OXYGEN_FLAG_W,SILCAT,SILCAT_FLAG_W,NITRAT,NITRAT_FLAG_W,NITRIT,NITRIT_FLAG_W,PHSPHT,PHSPHT_FLAG_W,CFC-11,CFC-11_FLAG_W,CFC-12,CFC-12_FLAG_W,CFC113,CFC113_FLAG_W,TCARBN,TCARBN_FLAG_W,ALKALI,ALKALI_FLAG_W,PH_TOT,PH_TMP,DELC13,DELC13_FLAG_W,C13ERR,DELC14,DELC14_FLAG_W,C14ERR,THETA,THETA_FLAG_W
,,,,,,,,,,,METERS,DBAR,ITS-90,,PSS-78,,PSS-78,,UMOL/KG,,UMOL/KG,,UMOL/KG,,UMOL/KG,,UMOL/KG,,UMOL/KG,,PMOL/KG,,PMOL/KG,,PMOL/KG,,UMOL/KG,,UMOL/KG,,,DEG C,/MILLE,,/MILLE,/MILLE,,/MILLE,DEG C,
49NZ200107_1,       P17N,      87,          1,          0,        -99,9,20010824,       1450,    54.0622,  -157.4887,       5930,     4.5,-999.0000,9,-999.0000,9,  32.5354,2,  -999.00,9,  279.88,2,   15.80,2,    6.73,2,    0.11,2,    0.79,2,-999.000,9,-999.000,9,-999.000,9,  -999.0,9,  -999.0,9, -999.000,  -999.00, -999.00,9, -999.00,  -999.0,9,  -999.0,-999.0000,9
49NZ200107_1,       P17N,      87,          1,         36,         36,2,20010824,       1450,    54.0622,  -157.4887,       5930,    10.9,  11.1386,2,  32.5306,2,  32.5272,2,   267.59,1,  282.09,2,   15.61,2,    6.74,2,    0.12,2,    0.78,2,-999.000,9,-999.000,9,-999.000,9,  -999.0,9,  -999.0,9, -999.000,  -999.00, -999.00,9, -999.00,  -999.0,9,  -999.0,  24.8288,2
49NZ200107_1,       P17N,      87,          1,         35,         35,2,20010824,       1450,    54.0622,  -157.4887,       5930,    26.0,  11.0391,2,  32.5109,2,  32.5687,2,   274.35,1,  284.96,2,   16.80,2,    8.05,2,    0.14,2,    0.87,2,-999.000,9,-999.000,9,-999.000,9,  -999.0,9,  -999.0,9, -999.000,  -999.00, -999.00,9, -999.00,  -999.0,9,  -999.0,  24.8314,2
49NZ200107_1,       P17N,      87,          1,         34,         34,2,20010824,       1450,    54.0622,  -157.4887,       5930,    76.7,   4.5061,2,  33.0719,2,  33.0727,2,   232.97,1,  262.17,2,   36.12,2,   25.63,2,    0.03,2,    1.89,2,-999.000,9,-999.000,9,-999.000,9,  -999.0,9,  -999.0,9, -999.000,  -999.00, -999.00,9, -999.00,  -999.0,9,  -999.0,  26.2011,2
49NZ200107_1,       P17N,      87,          1,         33,         33,2,20010824,       1450,    54.0622,  -157.4887,       5930,   101.5,   4.5367,2,  33.4146,2,  33.4261,2,   161.13,1,  169.50,2,   50.00,2,   32.93,2,    0.03,2,    2.33,2,-999.000,9,-999.000,9,-999.000,9,  -999.0,9,  -999.0,9, -999.000,  -999.00, -999.00,9, -999.00,  -999.0,9,  -999.0,  26.4701,2
49NZ200107_1,       P17N,      87,          1,         32,         32,2,20010824,       1450,    54.0622,  -157.4887,       5930,   152.2,   4.3294,2,  33.8589,2,  33.8564,2,    55.58,1,   55.45,2,   73.82,2,   42.42,2,    0.03,2,    2.92,2,-999.000,9,-999.000,9,-999.000,9,  -999.0,9,  -999.0,9, -999.000,  -999.00, -999.00,9, -999.00,  -999.0,9,  -999.0,  26.8453,2
49NZ200107_1,       P17N,      87,          1,         31,         31,2,20010824,       1450,    54.0622,  -157.4887,       5930,   202.5,   4.1432,2,  33.9374,2,  33.9349,2,    35.34,1,   32.25,2,   82.44,2,   44.59,2,    0.03,2,    3.05,2,-999.000,9,-999.000,9,-999.000,9,  -999.0,9,  -999.0,9, -999.000,  -999.00, -999.00,9, -999.00,  -999.0,9,  -999.0,  26.9276,2
49NZ200107_1,       P17N,      87,          1,         30,         30,2,20010824,       1450,    54.0622,  -157.4887,       5930,   303.6,   3.9445,2,  34.0441,2,  34.0416,2,    27.30,1,   22.71,2,   94.23,2,   44.95,2,    0.02,2,    3.13,2,-999.000,9,-999.000,9,-999.000,9,  -999.0,9,  -999.0,9, -999.000,  -999.00, -999.00,9, -999.00,  -999.0,9,  -999.0,  27.0336,2
49NZ200107_1,       P17N,      87,          1,         29,         29,2,20010824,       1450,    54.0622,  -157.4887,       5930,   405.1,   3.8089,2,  34.1312,2,  34.1349,2,    25.33,1,   20.82,2,  103.71,2,   44.62,2,    0.01,2,    3.13,2,-999.000,9,-999.000,9,-999.000,9,  -999.0,9,  -999.0,9, -999.000,  -999.00, -999.00,9, -999.00,  -999.0,9,  -999.0,  27.1172,2
49NZ200107_1,       P17N,      87,          1,         28,         28,2,20010824,       1450,    54.0622,  -157.4887,       5930,   505.9,   3.6046,2,  34.2067,2,  34.2069,2,    22.34,1,   16.91,2,  113.29,2,   44.91,2,    0.01,2,    3.12,2,-999.000,9,-999.000,9,-999.000,9,  -999.0,9,  -999.0,9, -999.000,  -999.00, -999.00,9, -999.00,  -999.0,9,  -999.0,  27.1982,2
49NZ200107_1,       P17N,      87,          1,         27,         27,3,20010824,       1450,    54.0622,  -157.4887,       5930,   607.3,   3.3696,2,  34.2722,2,  34.2704,2,    21.02,1,   15.69,2,  121.06,2,   44.77,2,    0.02,2,    3.15,2,-999.000,9,-999.000,9,-999.000,9,  -999.0,9,  -999.0,9, -999.000,  -999.00, -999.00,9, -999.00,  -999.0,9,  -999.0,  27.2736,2
49NZ200107_1,       P17N,      87,          1,         26,         26,3,20010824,       1450,    54.0622,  -157.4887,       5930,   708.4,   3.1929,2,  34.3148,2,  34.3143,2,    20.98,1,   15.07,2,  127.05,2,   44.87,2,    0.01,2,    3.15,2,-999.000,9,-999.000,9,-999.000,9,  -999.0,9,  -999.0,9, -999.000,  -999.00, -999.00,9, -999.00,  -999.0,9,  -999.0,  27.3247,2
49NZ200107_1,       P17N,      87,          1,         25,         25,2,20010824,       1450,    54.0622,  -157.4887,       5930,   809.6,   3.0188,2,  34.3529,2,  34.3538,2,    21.48,1,   15.54,2,  132.58,2,   45.13,2,    0.01,2,    3.16,2,-999.000,9,-999.000,9,-999.000,9,  -999.0,9,  -999.0,9, -999.000,  -999.00, -999.00,9, -999.00,  -999.0,9,  -999.0,  27.3717,2
49NZ200107_1,       P17N,      87,          1,         24,         24,2,20010824,       1450,    54.0622,  -157.4887,       5930,   911.4,   2.8709,2,  34.3845,2,  34.3858,2,    22.49,1,   16.35,2,  137.74,2,   45.23,2,    0.01,2,    3.18,2,-999.000,9,-999.000,9,-999.000,9,  -999.0,9,  -999.0,9, -999.000,  -999.00, -999.00,9, -999.00,  -999.0,9,  -999.0,  27.4108,2
49NZ200107_1,       P17N,      87,          1,         23,         23,2,20010824,       1450,    54.0622,  -157.4887,       5930,  1012.5,   2.7308,2,  34.4153,2,  34.4151,2,    24.10,1,   17.82,2,  141.66,2,   45.20,2,    0.01,2,    3.15,2,-999.000,9,-999.000,9,-999.000,9,  -999.0,9,  -999.0,9, -999.000,  -999.00, -999.00,9, -999.00,  -999.0,9,  -999.0,  27.4482,2
49NZ200107_1,       P17N,      87,          1,         22,         22,2,20010824,       1450,    54.0622,  -157.4887,       5930,  1214.5,   2.4556,2,  34.4713,2,  34.4713,2,    30.17,1,   23.99,2,  149.16,2,   45.06,2,    0.01,2,    3.13,2,-999.000,9,-999.000,9,-999.000,9,  -999.0,9,  -999.0,9, -999.000,  -999.00, -999.00,9, -999.00,  -999.0,9,  -999.0,  27.5176,2
49NZ200107_1,       P17N,      87,          1,         21,         21,2,20010824,       1450,    54.0622,  -157.4887,       5930,  1418.1,   2.2402,2,  34.5174,2,  34.5174,2,    38.76,1,   33.23,2,  154.51,2,   44.51,2,   -0.01,2,    3.11,2,-999.000,9,-999.000,9,-999.000,9,  -999.0,9,  -999.0,9, -999.000,  -999.00, -999.00,9, -999.00,  -999.0,9,  -999.0,  27.5732,2
49NZ200107_1,       P17N,      87,          1,         20,         20,2,20010824,       1450,    54.0622,  -157.4887,       5930,  1620.9,   2.0555,2,  34.5557,2,  34.5558,2,    50.43,1,   45.55,2,  158.40,2,   43.66,2,    0.01,2,    3.05,2,-999.000,9,-999.000,9,-999.000,9,  -999.0,9,  -999.0,9, -999.000,  -999.00, -999.00,9, -999.00,  -999.0,9,  -999.0,  27.6197,2
49NZ200107_1,       P17N,      87,          1,         19,         19,2,20010824,       1450,    54.0622,  -157.4887,       5930,  1824.6,   1.9242,2,  34.5827,2,  34.5828,2,    61.44,1,   57.06,2,  159.90,2,   43.12,2,    0.00,2,    2.95,2,-999.000,9,-999.000,9,-999.000,9,  -999.0,9,  -999.0,9, -999.000,  -999.00, -999.00,9, -999.00,  -999.0,9,  -999.0,  27.6526,2
49NZ200107_1,       P17N,      87,          1,         18,         18,2,20010824,       1450,    54.0622,  -157.4887,       5930,  2028.4,   1.8154,2,  34.6041,2,  34.6041,2,    72.31,1,   68.95,2,  161.79,2,   42.29,2,    0.01,2,    2.94,2,-999.000,9,-999.000,9,-999.000,9,  -999.0,9,  -999.0,9, -999.000,  -999.00, -999.00,9, -999.00,  -999.0,9,  -999.0,  27.6791,2
49NZ200107_1,       P17N,      87,          1,         17,         17,2,20010824,       1450,    54.0622,  -157.4887,       5930,  2232.3,   1.7321,2,  34.6215,2,  34.6219,2,    83.94,1,   82.21,2,  159.67,2,   41.34,2,    0.01,2,    2.87,2,-999.000,9,-999.000,9,-999.000,9,  -999.0,9,  -999.0,9, -999.000,  -999.00, -999.00,9, -999.00,  -999.0,9,  -999.0,  27.7005,2
49NZ200107_1,       P17N,      87,          1,         16,         16,2,20010824,       1450,    54.0622,  -157.4887,       5930,  2534.5,   1.6280,2,  34.6415,2,  34.6415,2,    99.43,1,   98.77,2,  158.42,2,   40.50,2,    0.01,2,    2.80,2,-999.000,9,-999.000,9,-999.000,9,  -999.0,9,  -999.0,9, -999.000,  -999.00, -999.00,9, -999.00,  -999.0,9,  -999.0,  27.7260,2
49NZ200107_1,       P17N,      87,          1,         15,         15,2,20010824,       1450,    54.0622,  -157.4887,       5930,  2640.3,   1.6021,2,  34.6470,2,  34.6470,2,   104.48,1,  104.14,2,  157.38,2,   39.89,2,    0.00,2,    2.79,2,-999.000,9,-999.000,9,-999.000,9,  -999.0,9,  -999.0,9, -999.000,  -999.00, -999.00,9, -999.00,  -999.0,9,  -999.0,  27.7329,2
49NZ200107_1,       P17N,      87,          1,         14,         14,2,20010824,       1450,    54.0622,  -157.4887,       5930,  2844.7,   1.5529,2,  34.6565,2,  34.6566,2,   114.15,1,  114.17,2,  155.09,2,   39.14,2,    0.01,2,    2.74,2,-999.000,9,-999.000,9,-999.000,9,  -999.0,9,  -999.0,9, -999.000,  -999.00, -999.00,9, -999.00,  -999.0,9,  -999.0,  27.7453,2
49NZ200107_1,       P17N,      87,          1,         13,         13,2,20010824,       1450,    54.0622,  -157.4887,       5930,  3049.3,   1.5270,2,  34.6627,2,  34.6626,2,   120.46,1,  120.83,2,  153.60,2,   38.87,2,    0.01,2,    2.70,2,-999.000,9,-999.000,9,-999.000,9,  -999.0,9,  -999.0,9, -999.000,  -999.00, -999.00,9, -999.00,  -999.0,9,  -999.0,  27.7534,2
49NZ200107_1,       P17N,      87,          1,         12,         12,2,20010824,       1450,    54.0622,  -157.4887,       5930,  3305.2,   1.4889,2,  34.6709,2,  34.6706,2,   130.25,1, -999.00,5,  151.09,2,   38.21,2,    0.01,2,    2.65,2,-999.000,9,-999.000,9,-999.000,9,  -999.0,9,  -999.0,9, -999.000,  -999.00, -999.00,9, -999.00,  -999.0,9,  -999.0,  27.7644,2
49NZ200107_1,       P17N,      87,          1,         11,         11,2,20010824,       1450,    54.0622,  -157.4887,       5930,  3561.6,   1.4656,2,  34.6773,2,  34.6772,2,   137.35,1,  138.38,2,  150.17,2,   37.70,2,    0.01,2,    2.60,2,-999.000,9,-999.000,9,-999.000,9,  -999.0,9,  -999.0,9, -999.000,  -999.00, -999.00,9, -999.00,  -999.0,9,  -999.0,  27.7729,2
49NZ200107_1,       P17N,      87,          1,         10,         10,2,20010824,       1450,    54.0622,  -157.4887,       5930,  3818.7,   1.4610,2,  34.6811,2,  34.6809,2,   142.18,1,  142.84,2,  150.16,2,   37.34,2,    0.01,2,    2.60,2,-999.000,9,-999.000,9,-999.000,9,  -999.0,9,  -999.0,9, -999.000,  -999.00, -999.00,9, -999.00,  -999.0,9,  -999.0,  27.7781,2
49NZ200107_1,       P17N,      87,          1,          9,          9,2,20010824,       1450,    54.0622,  -157.4887,       5930,  4075.3,   1.4613,2,  34.6840,2,  34.6846,3,   147.82,1,  148.17,2,  148.16,2,   37.00,2,    0.01,2,    2.58,2,-999.000,9,-999.000,9,-999.000,9,  -999.0,9,  -999.0,9, -999.000,  -999.00, -999.00,9, -999.00,  -999.0,9,  -999.0,  27.7824,2
49NZ200107_1,       P17N,      87,          1,          8,          8,2,20010824,       1450,    54.0622,  -157.4887,       5930,  4333.2,   1.4728,2,  34.6861,2,  34.6869,3,   151.35,1,  150.18,2,  148.07,2,   36.77,2,    0.01,2,    2.57,2,-999.000,9,-999.000,9,-999.000,9,  -999.0,9,  -999.0,9, -999.000,  -999.00, -999.00,9, -999.00,  -999.0,9,  -999.0,  27.7852,2
49NZ200107_1,       P17N,      87,          1,          7,          7,2,20010824,       1450,    54.0622,  -157.4887,       5930,  4589.9,   1.4852,2,  34.6878,2,  34.6885,3,   155.51,1,  153.80,2,  145.96,2,   36.49,2,    0.01,2,    2.54,2,-999.000,9,-999.000,9,-999.000,9,  -999.0,9,  -999.0,9, -999.000,  -999.00, -999.00,9, -999.00,  -999.0,9,  -999.0,  27.7878,2
49NZ200107_1,       P17N,      87,          1,          6,          6,2,20010824,       1450,    54.0622,  -157.4887,       5930,  4847.3,   1.5040,2,  34.6889,2,  34.6892,2,   158.91,1,  155.91,2,  144.51,2,   36.42,2,    0.01,2,    2.53,2,-999.000,9,-999.000,9,-999.000,9,  -999.0,9,  -999.0,9, -999.000,  -999.00, -999.00,9, -999.00,  -999.0,9,  -999.0,  27.7894,2
49NZ200107_1,       P17N,      87,          1,          5,          5,2,20010824,       1450,    54.0622,  -157.4887,       5930,  5106.0,   1.5254,2,  34.6899,2,  34.6906,3,   161.82,1,  157.83,2,  142.75,2,   36.12,2,    0.01,2,    2.52,2,-999.000,9,-999.000,9,-999.000,9,  -999.0,9,  -999.0,9, -999.000,  -999.00, -999.00,9, -999.00,  -999.0,9,  -999.0,  27.7910,2
49NZ200107_1,       P17N,      87,          1,          4,          4,2,20010824,       1450,    54.0622,  -157.4887,       5930,  5363.6,   1.5496,2,  34.6908,2,  34.6907,2,   164.49,1,  159.66,2,  142.48,2,   36.10,2,    0.01,2,    2.50,2,-999.000,9,-999.000,9,-999.000,9,  -999.0,9,  -999.0,9, -999.000,  -999.00, -999.00,9, -999.00,  -999.0,9,  -999.0,  27.7923,2
49NZ200107_1,       P17N,      87,          1,          3,          3,2,20010824,       1450,    54.0622,  -157.4887,       5930,  5623.1,   1.5813,2,  34.6911,2,  34.6913,2,   166.70,1,  164.53,2,  143.22,2,   36.08,2,    0.01,2,    2.51,2,-999.000,9,-999.000,9,-999.000,9,  -999.0,9,  -999.0,9, -999.000,  -999.00, -999.00,9, -999.00,  -999.0,9,  -999.0,  27.7927,2
49NZ200107_1,       P17N,      87,          1,          2,          2,2,20010824,       1450,    54.0622,  -157.4887,       5930,  5882.1,   1.6163,2,  34.6910,2,  34.6910,2,   168.78,1,  159.81,2,  139.93,2,   35.75,2,    0.01,2,    2.45,2,-999.000,9,-999.000,9,-999.000,9,  -999.0,9,  -999.0,9, -999.000,  -999.00, -999.00,9, -999.00,  -999.0,9,  -999.0,  27.7927,2
49NZ200107_1,       P17N,      87,          1,          1,          1,2,20010824,       1450,    54.0622,  -157.4887,       5930,  6127.9,   1.6506,2,  34.6910,2,  34.6915,2,   172.85,1,  159.01,2,  139.93,2,   35.82,2,    0.00,2,    2.47,2,-999.000,9,-999.000,9,-999.000,9,  -999.0,9,  -999.0,9, -999.000,  -999.00, -999.00,9, -999.00,  -999.0,9,  -999.0,  27.7927,2