BOTTLE,20220817CCHSIOAMB
EXPOCODE,SECT_ID,STNNBR,CASTNO,SAMPNO,BTLNBR,BTLNBR_FLAG_W,DATE,TIME,LATITUDE,LONGITUDE,DEPTH,CTDPRS,CTDTMP,CTDTMP_FLAG_W,CTDSAL,CTDSAL_FLAG_W,SALNTY,SALNTY_FLAG_W,CTDOXY,CTDOXY_FLAG_W,OXYGEN,OXYGEN_FLAG_W,SILCAT,SILCAT_FLAG_W,NITRAT,NITRAT_FLAG_W,NITRIT,NITRIT_FLAG_W,PHSPHT,PHSPHT_FLAG_W,CFC-11,CFC-11_FLAG_W,CFC-12,CFC-12_FLAG_W,CFC113,CFC113_FLAG_W,TCARBN,TCARBN_FLAG_W,ALKALI,ALKALI_FLAG_W,PH_TOT,PH_TMP,DELC13,DELC13_FLAG_W,C13ERR,DELC14,DELC14_FLAG_W,C14ERR,THETA,THETA_FLAG_W
,,,,,,,,,,,METERS,DBAR,ITS-90,,PSS-78,,PSS-78,,UMOL/KG,,UMOL/KG,,UMOL/KG,,UMOL/KG,,UMOL/KG,,UMOL/KG,,PMOL/KG,,PMOL/KG,,PMOL/KG,,UMOL/KG,,UMOL/KG,,,DEG C,/MILLE,,/MILLE,/MILLE,,/MILLE,DEG C,
49NZ200107_1,       P17N,      29,          1,          0,        -99,9,20010809,       0119,    34.9920,  -135.0055,       5209,     4.5,-999.0000,9,-999.0000,9,  33.1326,2,  -999.00,9,  235.03,2,    2.08,2,    0.12,2,    0.00,2,    0.32,2,-999.000,9,-999.000,9,-999.000,9,  -999.0,9,  -999.0,9, -999.000,  -999.00, -999.00,9, -999.00,  -999.0,9,  -999.0,-999.0000,9
49NZ200107_1,       P17N,      29,          1,         36,         36,2,20010809,       0119,    34.9920,  -135.0055,       5209,    11.4,  20.0454,2,  33.1179,2,  33.1162,2,   224.68,1,  237.19,2,    2.35,2,    0.12,2,   -0.01,2,    0.27,2,-999.000,9,-999.000,9,-999.000,9,  -999.0,9,  -999.0,9, -999.000,  -999.00, -999.00,9, -999.00,  -999.0,9,  -999.0,  23.3154,2
49NZ200107_1,       P17N,      29,          1,         35,         35,2,20010809,       0119,    34.9920,  -135.0055,       5209,    26.0,  19.4346,2,  33.0812,2,  33.0949,2,   232.45,1,  241.27,2,    2.05,2,    0.06,2,   -0.02,2,    0.27,2,-999.000,9,-999.000,9,-999.000,9,  -999.0,9,  -999.0,9, -999.000,  -999.00, -999.00,9, -999.00,  -999.0,9,  -999.0,  23.4461,2
49NZ200107_1,       P17N,      29,          1,         34,         34,2,20010809,       0119,    34.9920,  -135.0055,       5209,    50.4,  13.7618,2,  32.9785,2,  32.9806,3,   265.33,1,  281.25,2,    2.76,2,    0.05,2,   -0.01,2,    0.30,2,-999.000,9,-999.000,9,-999.000,9,  -999.0,9,  -999.0,9, -999.000,  -999.00, -999.00,9, -999.00,  -999.0,9,  -999.0,  24.6757,2
49NZ200107_1,       P17N,      29,          1,         33,         33,3,20010809,       0119,    34.9920,  -135.0055,       5209,    75.6,  12.8664,2,  32.9835,2,  32.9840,3,   250.97,1, -999.00,5,    2.76,2,    0.04,2,   -0.01,2,    0.35,2,-999.000,9,-999.000,9,-999.000,9,  -999.0,9,  -999.0,9, -999.000,  -999.00, -999.00,9, -999.00,  -999.0,9,  -999.0,  24.8593,2
49NZ200107_1,       P17N,      29,          1,         32,         32,2,20010809,       0119,    34.9920,  -135.0055,       5209,   100.5,  12.3898,2,  32.9904,2,  32.9876,3,   243.41,1,  254.85,2,    2.96,2,    1.24,2,    0.01,2,    0.44,2,-999.000,9,-999.000,9,-999.000,9,  -999.0,9,  -999.0,9, -999.000,  -999.00, -999.00,9, -999.00,  -999.0,9,  -999.0,  24.9573,2
49NZ200107_1,       P17N,      29,          1,         31,         31,3,20010809,       0119,    34.9920,  -135.0055,       5209,   150.9,   9.8554,2,  33.2457,2,  33.2501,2,   231.49,1,  242.11,2,    7.76,2,    8.81,2,   -0.01,2,    0.80,2,-999.000,9,-999.000,9,-999.000,9,  -999.0,9,  -999.0,9, -999.000,  -999.00, -999.00,9, -999.00,  -999.0,9,  -999.0,  25.6092,2
49NZ200107_1,       P17N,      29,          1,         30,         30,2,20010809,       0119,    34.9920,  -135.0055,       5209,   201.9,   9.1583,2,  33.6971,2,  33.7048,2,   224.00,1,  235.79,2,   11.90,2,   12.01,2,   -0.01,2,    0.92,2,-999.000,9,-999.000,9,-999.000,9,  -999.0,9,  -999.0,9, -999.000,  -999.00, -999.00,9, -999.00,  -999.0,9,  -999.0,  26.0762,2
49NZ200107_1,       P17N,      29,          1,         29,         29,2,20010809,       0119,    34.9920,  -135.0055,       5209,   252.5,   9.0215,2,  33.9933,2,  34.0005,2,   202.45,1,  209.26,2,   19.31,2,   17.17,2,   -0.01,2,    1.22,2,-999.000,9,-999.000,9,-999.000,9,  -999.0,9,  -999.0,9, -999.000,  -999.00, -999.00,9, -999.00,  -999.0,9,  -999.0,  26.3308,2
49NZ200107_1,       P17N,      29,          1,         28,         28,2,20010809,       0119,    34.9920,  -135.0055,       5209,   302.2,   8.3704,2,  34.0299,2,  34.0261,2,   166.86,1,  175.13,2,   29.01,2,   22.81,2,   -0.01,2,    1.56,2,-999.000,9,-999.000,9,-999.000,9,  -999.0,9,  -999.0,9, -999.000,  -999.00, -999.00,9, -999.00,  -999.0,9,  -999.0,  26.4611,2
49NZ200107_1,       P17N,      29,          1,         27,         27,3,20010809,       0119,    34.9920,  -135.0055,       5209,   353.1,   7.4957,2,  34.0103,2,  34.0067,2,   141.33,1,  148.43,2,   37.00,2,   26.93,2,    0.00,2,    1.83,2,-999.000,9,-999.000,9,-999.000,9,  -999.0,9,  -999.0,9, -999.000,  -999.00, -999.00,9, -999.00,  -999.0,9,  -999.0,  26.5747,2
49NZ200107_1,       P17N,      29,          1,         26,         26,2,20010809,       0119,    34.9920,  -135.0055,       5209,   404.1,   6.4466,2,  33.9792,2,  33.9759,2,   118.15,1,  123.70,2,   47.71,2,   31.39,2,    0.00,2,    2.16,2,-999.000,9,-999.000,9,-999.000,9,  -999.0,9,  -999.0,9, -999.000,  -999.00, -999.00,9, -999.00,  -999.0,9,  -999.0,  26.6934,2
49NZ200107_1,       P17N,      29,          1,         25,         25,2,20010809,       0119,    34.9920,  -135.0055,       5209,   504.5,   5.3019,2,  34.0040,2,  34.0024,2,    73.93,1,   75.01,2,   65.84,2,   37.72,2,   -0.01,2,    2.64,2,-999.000,9,-999.000,9,-999.000,9,  -999.0,9,  -999.0,9, -999.000,  -999.00, -999.00,9, -999.00,  -999.0,9,  -999.0,  26.8554,2
49NZ200107_1,       P17N,      29,          1,         24,         24,2,20010809,       0119,    34.9920,  -135.0055,       5209,   605.6,   4.7945,2,  34.1105,2,  34.1117,2,    39.08,1,   34.27,2,   82.32,2,   41.79,2,    0.00,2,    2.93,2,-999.000,9,-999.000,9,-999.000,9,  -999.0,9,  -999.0,9, -999.000,  -999.00, -999.00,9, -999.00,  -999.0,9,  -999.0,  26.9986,2
49NZ200107_1,       P17N,      29,          1,         23,         23,2,20010809,       0119,    34.9920,  -135.0055,       5209,   706.7,   4.4104,2,  34.2071,2,  34.2077,2,    23.33,1,   17.19,2,   95.21,2,   43.65,2,   -0.01,2,    3.10,2,-999.000,9,-999.000,9,-999.000,9,  -999.0,9,  -999.0,9, -999.000,  -999.00, -999.00,9, -999.00,  -999.0,9,  -999.0,  27.1180,2
49NZ200107_1,       P17N,      29,          1,         22,         22,2,20010809,       0119,    34.9920,  -135.0055,       5209,   807.4,   4.0916,2,  34.2826,2,  34.2830,2,    17.41,1,   10.49,2,  104.62,2,   44.33,2,   -0.01,2,    3.18,2,-999.000,9,-999.000,9,-999.000,9,  -999.0,9,  -999.0,9, -999.000,  -999.00, -999.00,9, -999.00,  -999.0,9,  -999.0,  27.2122,2
49NZ200107_1,       P17N,      29,          1,         21,         21,2,20010809,       0119,    34.9920,  -135.0055,       5209,   908.3,   3.8913,2,  34.3553,2,  34.3557,2,    16.92,1,    9.31,2,  110.91,2,   44.68,2,   -0.01,2,    3.20,2,-999.000,9,-999.000,9,-999.000,9,  -999.0,9,  -999.0,9, -999.000,  -999.00, -999.00,9, -999.00,  -999.0,9,  -999.0,  27.2912,2
49NZ200107_1,       P17N,      29,          1,         20,         20,3,20010809,       0119,    34.9920,  -135.0055,       5209,  1009.9,   3.6490,2,  34.4090,2,  34.4061,2,    19.47,1,   12.37,2,  117.38,2,   44.77,2,   -0.01,2,    3.23,2,-999.000,9,-999.000,9,-999.000,9,  -999.0,9,  -999.0,9, -999.000,  -999.00, -999.00,9, -999.00,  -999.0,9,  -999.0,  27.3588,2
49NZ200107_1,       P17N,      29,          1,         19,         19,2,20010809,       0119,    34.9920,  -135.0055,       5209,  1212.5,   3.1879,2,  34.4803,2,  34.4803,2,    28.87,1,   21.81,2,  130.16,2,   44.63,2,    0.00,2,    3.17,2,-999.000,9,-999.000,9,-999.000,9,  -999.0,9,  -999.0,9, -999.000,  -999.00, -999.00,9, -999.00,  -999.0,9,  -999.0,  27.4609,2
49NZ200107_1,       P17N,      29,          1,         18,         18,2,20010809,       0119,    34.9920,  -135.0055,       5209,  1415.2,   2.7892,2,  34.5269,2,  34.5263,3,    39.29,1,   33.73,2,  140.69,2,   44.02,2,   -0.01,2,    3.12,2,-999.000,9,-999.000,9,-999.000,9,  -999.0,9,  -999.0,9, -999.000,  -999.00, -999.00,9, -999.00,  -999.0,9,  -999.0,  27.5351,2
49NZ200107_1,       P17N,      29,          1,         17,         17,2,20010809,       0119,    34.9920,  -135.0055,       5209,  1617.5,   2.4726,2,  34.5653,2,  34.5645,2,    53.00,1,   48.30,2,  149.19,3,   43.28,2,   -0.01,2,    3.07,2,-999.000,9,-999.000,9,-999.000,9,  -999.0,9,  -999.0,9, -999.000,  -999.00, -999.00,9, -999.00,  -999.0,9,  -999.0,  27.5940,2
49NZ200107_1,       P17N,      29,          1,         16,         16,2,20010809,       0119,    34.9920,  -135.0055,       5209,  1820.7,   2.1396,2,  34.5919,2,  34.5915,2,    63.73,1,   59.96,2,  159.57,3,   42.45,2,   -0.01,2,    3.02,2,-999.000,9,-999.000,9,-999.000,9,  -999.0,9,  -999.0,9, -999.000,  -999.00, -999.00,9, -999.00,  -999.0,9,  -999.0,  27.6435,2
49NZ200107_1,       P17N,      29,          1,         15,         15,2,20010809,       0119,    34.9920,  -135.0055,       5209,  2023.4,   1.9684,2,  34.6134,2,  34.6135,2,    75.55,1,   72.62,2,  163.24,3,   41.59,2,   -0.02,2,    2.93,2,-999.000,9,-999.000,9,-999.000,9,  -999.0,9,  -999.0,9, -999.000,  -999.00, -999.00,9, -999.00,  -999.0,9,  -999.0,  27.6752,2
49NZ200107_1,       P17N,      29,          1,         14,         14,2,20010809,       0119,    34.9920,  -135.0055,       5209,  2227.9,   1.8399,2,  34.6290,2,  34.6290,2,    84.69,1,   82.93,2,  165.79,3,   40.98,2,   -0.02,2,    2.88,2,-999.000,9,-999.000,9,-999.000,9,  -999.0,9,  -999.0,9, -999.000,  -999.00, -999.00,9, -999.00,  -999.0,9,  -999.0,  27.6986,2
49NZ200107_1,       P17N,      29,          1,         13,         13,2,20010809,       0119,    34.9920,  -135.0055,       5209,  2432.1,   1.7501,2,  34.6403,2,  34.6402,2,    92.72,1, -999.00,5,  166.81,3,   40.49,2,   -0.01,2,    2.85,2,-999.000,9,-999.000,9,-999.000,9,  -999.0,9,  -999.0,9, -999.000,  -999.00, -999.00,9, -999.00,  -999.0,9,  -999.0,  27.7156,2
49NZ200107_1,       P17N,      29,          1,         12,         12,2,20010809,       0119,    34.9920,  -135.0055,       5209,  2634.5,   1.6681,2,  34.6503,2,  34.6505,2,   101.04,1,  100.41,2,  166.40,3,   39.90,2,   -0.02,2,    2.81,2,-999.000,9,-999.000,9,-999.000,9,  -999.0,9,  -999.0,9, -999.000,  -999.00, -999.00,9, -999.00,  -999.0,9,  -999.0,  27.7308,2
49NZ200107_1,       P17N,      29,          1,         11,         11,2,20010809,       0119,    34.9920,  -135.0055,       5209,  2839.5,   1.6146,2,  34.6569,2,  34.6569,2,   107.48,1,  107.28,2,  159.21,3,   39.55,2,   -0.01,2,    2.73,2,-999.000,9,-999.000,9,-999.000,9,  -999.0,9,  -999.0,9, -999.000,  -999.00, -999.00,9, -999.00,  -999.0,9,  -999.0,  27.7413,2
49NZ200107_1,       P17N,      29,          1,         10,         10,2,20010809,       0119,    34.9920,  -135.0055,       5209,  3043.2,   1.5627,2,  34.6624,2,  34.6623,2,   115.01,1,  114.58,2,  155.05,3,   39.12,2,   -0.01,2,    2.71,2,-999.000,9,-999.000,9,-999.000,9,  -999.0,9,  -999.0,9, -999.000,  -999.00, -999.00,9, -999.00,  -999.0,9,  -999.0,  27.7507,2
49NZ200107_1,       P17N,      29,          1,          9,          9,2,20010809,       0119,    34.9920,  -135.0055,       5209,  3298.3,   1.5218,2,  34.6698,2,  34.6697,2,   123.27,1,  123.18,2,  154.31,3,   38.60,2,   -0.02,2,    2.67,2,-999.000,9,-999.000,9,-999.000,9,  -999.0,9,  -999.0,9, -999.000,  -999.00, -999.00,9, -999.00,  -999.0,9,  -999.0,  27.7612,2
49NZ200107_1,       P17N,      29,          1,          8,          8,2,20010809,       0119,    34.9920,  -135.0055,       5209,  3554.6,   1.4920,2,  34.6761,2,  34.6761,2,   131.80,1,  132.00,2,  152.02,3,   38.00,2,   -0.01,2,    2.63,2,-999.000,9,-999.000,9,-999.000,9,  -999.0,9,  -999.0,9, -999.000,  -999.00, -999.00,9, -999.00,  -999.0,9,  -999.0,  27.7701,2
49NZ200107_1,       P17N,      29,          1,          7,          7,2,20010809,       0119,    34.9920,  -135.0055,       5209,  3810.9,   1.4848,2,  34.6803,2,  34.6801,2,   137.25,1,  137.40,2,  151.37,2,   37.67,2,   -0.02,2,    2.60,2,-999.000,9,-999.000,9,-999.000,9,  -999.0,9,  -999.0,9, -999.000,  -999.00, -999.00,9, -999.00,  -999.0,9,  -999.0,  27.7758,2
49NZ200107_1,       P17N,      29,          1,          6,          6,2,20010809,       0119,    34.9920,  -135.0055,       5209,  4066.8,   1.4872,2,  34.6830,2,  34.6833,2,   142.34,1,  141.89,2,  150.04,2,   37.42,2,   -0.02,2,    2.59,2,-999.000,9,-999.000,9,-999.000,9,  -999.0,9,  -999.0,9, -999.000,  -999.00, -999.00,9, -999.00,  -999.0,9,  -999.0,  27.7797,2
49NZ200107_1,       P17N,      29,          1,          5,          5,2,20010809,       0119,    34.9920,  -135.0055,       5209,  4324.2,   1.4973,2,  34.6850,2,  34.6852,2,   147.05,1,  145.58,2,  149.20,2,   37.11,2,   -0.01,2,    2.57,2,-999.000,9,-999.000,9,-999.000,9,  -999.0,9,  -999.0,9, -999.000,  -999.00, -999.00,9, -999.00,  -999.0,9,  -999.0,  27.7826,2
49NZ200107_1,       P17N,      29,          1,          4,          4,2,20010809,       0119,    34.9920,  -135.0055,       5209,  4581.0,   1.5155,2,  34.6864,2,  34.6854,2,   150.91,1,  148.03,2,  147.04,2,   36.88,2,   -0.02,2,    2.55,2,-999.000,9,-999.000,9,-999.000,9,  -999.0,9,  -999.0,9, -999.000,  -999.00, -999.00,9, -999.00,  -999.0,9,  -999.0,  27.7846,2
49NZ200107_1,       P17N,      29,          1,          3,          3,2,20010809,       0119,    34.9920,  -135.0055,       5209,  4838.8,   1.5393,2,  34.6876,2,  34.6878,2,   155.12,1,  151.11,2,  144.51,2,   36.73,2,   -0.01,2,    2.53,2,-999.000,9,-999.000,9,-999.000,9,  -999.0,9,  -999.0,9, -999.000,  -999.00, -999.00,9, -999.00,  -999.0,9,  -999.0,  27.7861,2
49NZ200107_1,       P17N,      29,          1,          2,          2,2,20010809,       0119,    34.9920,  -135.0055,       5209,  5095.5,   1.5666,2,  34.6880,2,  34.6881,2,   157.98,1,  151.50,2,  144.92,2,   36.65,2,   -0.01,2,    2.52,2,-999.000,9,-999.000,9,-999.000,9,  -999.0,9,  -999.0,9, -999.000,  -999.00, -999.00,9, -999.00,  -999.0,9,  -999.0,  27.7866,2
49NZ200107_1,       P17N,      29,          1,          1,          1,2,20010809,       0119,    34.9920,  -135.0055,       5209,  5292.8,   1.5909,2,  34.6882,2,  34.6882,2,   160.35,1,  152.49,2,  144.31,2,   36.49,2,   -0.01,2,    2.52,2,-999.000,9,-999.000,9,-999.000,9,  -999.0,9,  -999.0,9, -999.000,  -999.00, -999.00,9, -999.00,  -999.0,9,  -999.0,  27.7869,2