BOTTLE,20220817CCHSIOAMB
EXPOCODE,SECT_ID,STNNBR,CASTNO,SAMPNO,BTLNBR,BTLNBR_FLAG_W,DATE,TIME,LATITUDE,LONGITUDE,DEPTH,CTDPRS,CTDTMP,CTDTMP_FLAG_W,CTDSAL,CTDSAL_FLAG_W,SALNTY,SALNTY_FLAG_W,CTDOXY,CTDOXY_FLAG_W,OXYGEN,OXYGEN_FLAG_W,SILCAT,SILCAT_FLAG_W,NITRAT,NITRAT_FLAG_W,NITRIT,NITRIT_FLAG_W,PHSPHT,PHSPHT_FLAG_W,CFC-11,CFC-11_FLAG_W,CFC-12,CFC-12_FLAG_W,CFC113,CFC113_FLAG_W,TCARBN,TCARBN_FLAG_W,ALKALI,ALKALI_FLAG_W,PH_TOT,PH_TMP,DELC13,DELC13_FLAG_W,C13ERR,DELC14,DELC14_FLAG_W,C14ERR,THETA,THETA_FLAG_W
,,,,,,,,,,,METERS,DBAR,ITS-90,,PSS-78,,PSS-78,,UMOL/KG,,UMOL/KG,,UMOL/KG,,UMOL/KG,,UMOL/KG,,UMOL/KG,,PMOL/KG,,PMOL/KG,,PMOL/KG,,UMOL/KG,,UMOL/KG,,,DEG C,/MILLE,,/MILLE,/MILLE,,/MILLE,DEG C,
49NZ200107_1,       P17N,      67,          1,          0,        -99,9,20010818,       0402,    47.8768,  -146.1142,       4566,     4.5,-999.0000,9,-999.0000,9,  32.4102,2,  -999.00,9,  278.13,2,   12.88,2,    7.01,2,    0.10,2,    0.85,2,-999.000,9,-999.000,9,-999.000,9,  -999.0,9,  -999.0,9, -999.000,  -999.00, -999.00,9, -999.00,  -999.0,9,  -999.0,-999.0000,9
49NZ200107_1,       P17N,      67,          1,         36,         36,2,20010818,       0402,    47.8768,  -146.1142,       4566,    11.7,  12.6952,2,  32.4115,2,  32.4126,2,   267.54,1,  280.94,2,    9.99,2,    6.84,2,    0.10,2,    0.83,2,-999.000,9,-999.000,9,-999.000,9,  -999.0,9,  -999.0,9, -999.000,  -999.00, -999.00,9, -999.00,  -999.0,9,  -999.0,  24.4478,2
49NZ200107_1,       P17N,      67,          1,         35,         35,2,20010818,       0402,    47.8768,  -146.1142,       4566,    26.0,   8.7864,2,  32.4688,2,  32.4724,2,   288.29,1,  308.24,2,   11.69,2,    9.20,2,    0.09,2,    1.04,2,-999.000,9,-999.000,9,-999.000,9,  -999.0,9,  -999.0,9, -999.000,  -999.00, -999.00,9, -999.00,  -999.0,9,  -999.0,  25.1699,2
49NZ200107_1,       P17N,      67,          1,         34,         34,2,20010818,       0402,    47.8768,  -146.1142,       4566,    51.3,   6.6615,2,  32.5266,2,  32.5266,2,   281.41,1,  298.93,2,   14.94,2,   12.64,2,    0.39,2,    1.26,2,-999.000,9,-999.000,9,-999.000,9,  -999.0,9,  -999.0,9, -999.000,  -999.00, -999.00,9, -999.00,  -999.0,9,  -999.0,  25.5159,2
49NZ200107_1,       P17N,      67,          1,         33,         33,2,20010818,       0402,    47.8768,  -146.1142,       4566,    76.4,   5.9399,2,  32.5642,2,  32.5639,2,   279.70,1,  299.22,2,   17.24,2,   15.25,2,    0.04,2,    1.35,2,-999.000,9,-999.000,9,-999.000,9,  -999.0,9,  -999.0,9, -999.000,  -999.00, -999.00,9, -999.00,  -999.0,9,  -999.0,  25.6363,2
49NZ200107_1,       P17N,      67,          1,         32,         32,2,20010818,       0402,    47.8768,  -146.1142,       4566,   101.8,   5.5444,2,  32.5883,2,  32.5890,2,   280.54,1,  300.26,2,   16.06,2,   16.02,2,    0.01,2,    1.40,2,-999.000,9,-999.000,9,-999.000,9,  -999.0,9,  -999.0,9, -999.000,  -999.00, -999.00,9, -999.00,  -999.0,9,  -999.0,  25.7026,2
49NZ200107_1,       P17N,      67,          1,         31,         31,2,20010818,       0402,    47.8768,  -146.1142,       4566,   152.4,   5.0276,2,  32.9569,2,  32.9691,2,   234.00,1,  258.92,2,   28.05,2,   21.11,2,    0.00,2,    1.66,2,-999.000,9,-999.000,9,-999.000,9,  -999.0,9,  -999.0,9, -999.000,  -999.00, -999.00,9, -999.00,  -999.0,9,  -999.0,  26.0539,2
49NZ200107_1,       P17N,      67,          1,         30,         30,3,20010818,       0402,    47.8768,  -146.1142,       4566,   202.7,   5.4539,2,  33.7484,2,  33.7485,2,   144.84,1,  155.98,2,   47.82,2,   30.37,2,    0.00,2,    2.13,2,-999.000,9,-999.000,9,-999.000,9,  -999.0,9,  -999.0,9, -999.000,  -999.00, -999.00,9, -999.00,  -999.0,9,  -999.0,  26.6322,2
49NZ200107_1,       P17N,      67,          1,         29,         29,2,20010818,       0402,    47.8768,  -146.1142,       4566,   253.2,   4.8522,2,  33.8214,2,  33.8167,2,   113.43,1,  119.21,2,   60.00,2,   35.08,2,    0.00,2,    2.44,2,-999.000,9,-999.000,9,-999.000,9,  -999.0,9,  -999.0,9, -999.000,  -999.00, -999.00,9, -999.00,  -999.0,9,  -999.0,  26.7596,2
49NZ200107_1,       P17N,      67,          1,         28,         28,2,20010818,       0402,    47.8768,  -146.1142,       4566,   303.6,   4.3507,2,  33.8492,2,  33.8473,2,    89.44,1,   93.89,2,   69.03,2,   38.23,2,    0.00,2,    2.66,2,-999.000,9,-999.000,9,-999.000,9,  -999.0,9,  -999.0,9, -999.000,  -999.00, -999.00,9, -999.00,  -999.0,9,  -999.0,  26.8366,2
49NZ200107_1,       P17N,      67,          1,         27,         27,2,20010818,       0402,    47.8768,  -146.1142,       4566,   354.1,   4.3594,2,  33.9239,2,  33.9199,2,    72.59,1,   74.14,2,   75.61,2,   40.01,2,    0.00,2,    2.75,2,-999.000,9,-999.000,9,-999.000,9,  -999.0,9,  -999.0,9, -999.000,  -999.00, -999.00,9, -999.00,  -999.0,9,  -999.0,  26.8954,2
49NZ200107_1,       P17N,      67,          1,         26,         26,2,20010818,       0402,    47.8768,  -146.1142,       4566,   404.7,   4.1324,2,  33.9723,2,  33.9728,2,    61.22,1,   60.62,2,   84.34,2,   41.27,2,    0.00,2,    2.88,2,-999.000,9,-999.000,9,-999.000,9,  -999.0,9,  -999.0,9, -999.000,  -999.00, -999.00,9, -999.00,  -999.0,9,  -999.0,  26.9580,2
49NZ200107_1,       P17N,      67,          1,         25,         25,2,20010818,       0402,    47.8768,  -146.1142,       4566,   505.8,   4.0302,2,  34.0863,2,  34.0897,2,    45.00,1,   42.16,2,   95.34,2,   42.34,2,    0.00,2,    2.95,2,-999.000,9,-999.000,9,-999.000,9,  -999.0,9,  -999.0,9, -999.000,  -999.00, -999.00,9, -999.00,  -999.0,9,  -999.0,  27.0599,2
49NZ200107_1,       P17N,      67,          1,         24,         24,2,20010818,       0402,    47.8768,  -146.1142,       4566,   606.9,   3.8228,2,  34.1729,2,  34.1723,2,    33.23,1,   29.37,2,  105.51,2,   43.37,2,   -0.01,2,    3.03,2,-999.000,9,-999.000,9,-999.000,9,  -999.0,9,  -999.0,9, -999.000,  -999.00, -999.00,9, -999.00,  -999.0,9,  -999.0,  27.1505,2
49NZ200107_1,       P17N,      67,          1,         23,         23,2,20010818,       0402,    47.8768,  -146.1142,       4566,   707.9,   3.5703,2,  34.2364,2,  34.2349,2,    28.22,1,   23.41,2,  113.98,2,   43.96,2,    0.00,2,    3.07,2,-999.000,9,-999.000,9,-999.000,9,  -999.0,9,  -999.0,9, -999.000,  -999.00, -999.00,9, -999.00,  -999.0,9,  -999.0,  27.2266,2
49NZ200107_1,       P17N,      67,          1,         22,         22,2,20010818,       0402,    47.8768,  -146.1142,       4566,   809.2,   3.3127,2,  34.2929,2,  34.2930,2,    24.19,1,   19.41,2,  123.22,2,   44.44,2,    0.00,2,    3.13,2,-999.000,9,-999.000,9,-999.000,9,  -999.0,9,  -999.0,9, -999.000,  -999.00, -999.00,9, -999.00,  -999.0,9,  -999.0,  27.2968,2
49NZ200107_1,       P17N,      67,          1,         21,         21,2,20010818,       0402,    47.8768,  -146.1142,       4566,   910.4,   3.1125,2,  34.3365,2,  34.3361,2,    21.76,1,   15.44,2,  129.74,2,   44.82,2,   -0.01,2,    3.15,2,-999.000,9,-999.000,9,-999.000,9,  -999.0,9,  -999.0,9, -999.000,  -999.00, -999.00,9, -999.00,  -999.0,9,  -999.0,  27.3508,2
49NZ200107_1,       P17N,      67,          1,         20,         20,2,20010818,       0402,    47.8768,  -146.1142,       4566,  1011.9,   2.9471,2,  34.3751,2,  34.3755,2,    19.62,1,   12.75,2,  135.51,2,   45.19,2,    0.00,2,    3.18,2,-999.000,9,-999.000,9,-999.000,9,  -999.0,9,  -999.0,9, -999.000,  -999.00, -999.00,9, -999.00,  -999.0,9,  -999.0,  27.3972,2
49NZ200107_1,       P17N,      67,          1,         19,         19,3,20010818,       0402,    47.8768,  -146.1142,       4566,  1113.0,   2.7885,2,  34.4097,2,  34.4076,2,    20.58,1,   14.78,2,  140.76,2,   45.04,2,    0.00,2,    3.17,2,-999.000,9,-999.000,9,-999.000,9,  -999.0,9,  -999.0,9, -999.000,  -999.00, -999.00,9, -999.00,  -999.0,9,  -999.0,  27.4394,2
49NZ200107_1,       P17N,      67,          1,         18,         18,3,20010818,       0402,    47.8768,  -146.1142,       4566,  1214.4,   2.6447,2,  34.4391,2,  34.4375,2,    21.89,1,   15.40,2,  145.16,2,   45.05,2,    0.00,2,    3.14,2,-999.000,9,-999.000,9,-999.000,9,  -999.0,9,  -999.0,9, -999.000,  -999.00, -999.00,9, -999.00,  -999.0,9,  -999.0,  27.4759,2
49NZ200107_1,       P17N,      67,          1,         17,         17,2,20010818,       0402,    47.8768,  -146.1142,       4566,  1316.1,   2.5313,2,  34.4622,2,  34.4633,2,    23.51,1,   17.21,2,  149.64,2,   45.14,2,   -0.01,2,    3.17,2,-999.000,9,-999.000,9,-999.000,9,  -999.0,9,  -999.0,9, -999.000,  -999.00, -999.00,9, -999.00,  -999.0,9,  -999.0,  27.5046,2
49NZ200107_1,       P17N,      67,          1,         16,         16,2,20010818,       0402,    47.8768,  -146.1142,       4566,  1417.3,   2.4223,2,  34.4853,2,  34.4848,2,    25.83,1,   19.13,2,  152.37,2,   45.05,2,    0.00,2,    3.15,2,-999.000,9,-999.000,9,-999.000,9,  -999.0,9,  -999.0,9, -999.000,  -999.00, -999.00,9, -999.00,  -999.0,9,  -999.0,  27.5328,2
49NZ200107_1,       P17N,      67,          1,         15,         15,2,20010818,       0402,    47.8768,  -146.1142,       4566,  1620.7,   2.2297,2,  34.5256,2,  34.5262,2,    34.39,1,   28.35,2,  156.84,2,   44.64,2,    0.00,2,    3.10,2,-999.000,9,-999.000,9,-999.000,9,  -999.0,9,  -999.0,9, -999.000,  -999.00, -999.00,9, -999.00,  -999.0,9,  -999.0,  27.5819,2
49NZ200107_1,       P17N,      67,          1,         14,         14,2,20010818,       0402,    47.8768,  -146.1142,       4566,  1823.9,   2.0606,2,  34.5600,2,  34.5598,2,    47.66,1,   42.72,2,  159.87,2,   43.80,2,    0.00,2,    3.05,2,-999.000,9,-999.000,9,-999.000,9,  -999.0,9,  -999.0,9, -999.000,  -999.00, -999.00,9, -999.00,  -999.0,9,  -999.0,  27.6240,2
49NZ200107_1,       P17N,      67,          1,         13,         13,2,20010818,       0402,    47.8768,  -146.1142,       4566,  2027.3,   1.9248,2,  34.5868,2,  34.5875,2,    60.31,1,   56.51,2,  162.08,2,   42.87,2,    0.00,2,    3.00,2,-999.000,9,-999.000,9,-999.000,9,  -999.0,9,  -999.0,9, -999.000,  -999.00, -999.00,9, -999.00,  -999.0,9,  -999.0,  27.6572,2
49NZ200107_1,       P17N,      67,          1,         12,         12,2,20010818,       0402,    47.8768,  -146.1142,       4566,  2230.9,   1.8302,2,  34.6068,2,  34.6065,2,    70.58,1,   67.04,2,  162.47,2,   42.10,2,    0.00,2,    2.95,2,-999.000,9,-999.000,9,-999.000,9,  -999.0,9,  -999.0,9, -999.000,  -999.00, -999.00,9, -999.00,  -999.0,9,  -999.0,  27.6816,2
49NZ200107_1,       P17N,      67,          1,         11,         11,2,20010818,       0402,    47.8768,  -146.1142,       4566,  2435.1,   1.7390,2,  34.6240,2,  34.6246,2,    82.30,1,   80.10,2,  163.50,2,   41.18,2,    0.00,2,    2.89,2,-999.000,9,-999.000,9,-999.000,9,  -999.0,9,  -999.0,9, -999.000,  -999.00, -999.00,9, -999.00,  -999.0,9,  -999.0,  27.7033,2
49NZ200107_1,       P17N,      67,          1,         10,         10,2,20010818,       0402,    47.8768,  -146.1142,       4566,  2639.3,   1.6597,2,  34.6388,2,  34.6388,2,    93.79,1,   92.37,2,  159.56,2,   40.33,2,    0.01,2,    2.80,2,-999.000,9,-999.000,9,-999.000,9,  -999.0,9,  -999.0,9, -999.000,  -999.00, -999.00,9, -999.00,  -999.0,9,  -999.0,  27.7222,2
49NZ200107_1,       P17N,      67,          1,          9,          9,2,20010818,       0402,    47.8768,  -146.1142,       4566,  2843.1,   1.5994,2,  34.6504,2,  34.6506,2,   104.09,1,  103.42,2,  159.61,2,   39.72,2,   -0.01,2,    2.76,2,-999.000,9,-999.000,9,-999.000,9,  -999.0,9,  -999.0,9, -999.000,  -999.00, -999.00,9, -999.00,  -999.0,9,  -999.0,  27.7371,2
49NZ200107_1,       P17N,      67,          1,          8,          8,2,20010818,       0402,    47.8768,  -146.1142,       4566,  3047.9,   1.5576,2,  34.6590,2,  34.6587,2,   112.88,1,  112.40,2,  158.78,2,   39.17,2,   -0.01,2,    2.70,2,-999.000,9,-999.000,9,-999.000,9,  -999.0,9,  -999.0,9, -999.000,  -999.00, -999.00,9, -999.00,  -999.0,9,  -999.0,  27.7483,2
49NZ200107_1,       P17N,      67,          1,          7,          7,2,20010818,       0402,    47.8768,  -146.1142,       4566,  3303.9,   1.5211,2,  34.6674,2,  34.6673,2,   122.01,1,  122.33,2,  157.62,2,   38.56,2,   -0.01,2,    2.67,2,-999.000,9,-999.000,9,-999.000,9,  -999.0,9,  -999.0,9, -999.000,  -999.00, -999.00,9, -999.00,  -999.0,9,  -999.0,  27.7594,2
49NZ200107_1,       P17N,      67,          1,          6,          6,3,20010818,       0402,    47.8768,  -146.1142,       4566,  3560.3,   1.5041,2,  34.6734,2,  34.6724,2,   128.90,1,  129.39,2,  156.64,2,   38.10,2,   -0.01,2,    2.64,2,-999.000,9,-999.000,9,-999.000,9,  -999.0,9,  -999.0,9, -999.000,  -999.00, -999.00,9, -999.00,  -999.0,9,  -999.0,  27.7672,2
49NZ200107_1,       P17N,      67,          1,          5,          5,2,20010818,       0402,    47.8768,  -146.1142,       4566,  3815.8,   1.4958,2,  34.6782,2,  34.6781,2,   134.85,1,  134.17,2,  156.45,2,   37.75,2,   -0.01,2,    2.62,2,-999.000,9,-999.000,9,-999.000,9,  -999.0,9,  -999.0,9, -999.000,  -999.00, -999.00,9, -999.00,  -999.0,9,  -999.0,  27.7735,2
49NZ200107_1,       P17N,      67,          1,          4,          4,2,20010818,       0402,    47.8768,  -146.1142,       4566,  4073.0,   1.5042,2,  34.6813,2,  34.6813,2,   138.86,1,  137.47,2,  156.43,2,   37.58,2,   -0.01,2,    2.60,2,-999.000,9,-999.000,9,-999.000,9,  -999.0,9,  -999.0,9, -999.000,  -999.00, -999.00,9, -999.00,  -999.0,9,  -999.0,  27.7773,2
49NZ200107_1,       P17N,      67,          1,          3,          3,2,20010818,       0402,    47.8768,  -146.1142,       4566,  4329.9,   1.5226,2,  34.6835,2,  34.6834,2,   141.38,1,  138.27,2,  159.31,2,   37.56,2,   -0.01,2,    2.57,2,-999.000,9,-999.000,9,-999.000,9,  -999.0,9,  -999.0,9, -999.000,  -999.00, -999.00,9, -999.00,  -999.0,9,  -999.0,  27.7798,2
49NZ200107_1,       P17N,      67,          1,          2,          2,2,20010818,       0402,    47.8768,  -146.1142,       4566,  4587.2,   1.5476,2,  34.6848,2,  34.6853,2,   144.97,1,  138.28,2,  165.12,2,   37.57,2,    0.00,2,    2.59,2,-999.000,9,-999.000,9,-999.000,9,  -999.0,9,  -999.0,9, -999.000,  -999.00, -999.00,9, -999.00,  -999.0,9,  -999.0,  27.7812,2
49NZ200107_1,       P17N,      67,          1,          1,          1,2,20010818,       0402,    47.8768,  -146.1142,       4566,  4631.0,   1.5528,2,  34.6849,2,  34.6850,2,   145.57,1,  138.87,2,  165.58,2,   37.53,2,    0.00,2,    2.59,2,-999.000,9,-999.000,9,-999.000,9,  -999.0,9,  -999.0,9, -999.000,  -999.00, -999.00,9, -999.00,  -999.0,9,  -999.0,  27.7813,2