BOTTLE,20220817CCHSIOAMB
EXPOCODE,SECT_ID,STNNBR,CASTNO,SAMPNO,BTLNBR,BTLNBR_FLAG_W,DATE,TIME,LATITUDE,LONGITUDE,DEPTH,CTDPRS,CTDTMP,CTDTMP_FLAG_W,CTDSAL,CTDSAL_FLAG_W,SALNTY,SALNTY_FLAG_W,CTDOXY,CTDOXY_FLAG_W,OXYGEN,OXYGEN_FLAG_W,SILCAT,SILCAT_FLAG_W,NITRAT,NITRAT_FLAG_W,NITRIT,NITRIT_FLAG_W,PHSPHT,PHSPHT_FLAG_W,CFC-11,CFC-11_FLAG_W,CFC-12,CFC-12_FLAG_W,CFC113,CFC113_FLAG_W,TCARBN,TCARBN_FLAG_W,ALKALI,ALKALI_FLAG_W,PH_TOT,PH_TMP,DELC13,DELC13_FLAG_W,C13ERR,DELC14,DELC14_FLAG_W,C14ERR,THETA,THETA_FLAG_W
,,,,,,,,,,,METERS,DBAR,ITS-90,,PSS-78,,PSS-78,,UMOL/KG,,UMOL/KG,,UMOL/KG,,UMOL/KG,,UMOL/KG,,UMOL/KG,,PMOL/KG,,PMOL/KG,,PMOL/KG,,UMOL/KG,,UMOL/KG,,,DEG C,/MILLE,,/MILLE,/MILLE,,/MILLE,DEG C,
49NZ200107_1,       P17N,      66,          1,          0,        -99,9,20010817,       2226,    47.5505,  -145.5515,       4824,     4.5,-999.0000,9,-999.0000,9,  32.4254,2,  -999.00,9,  275.48,2,   12.15,2,    6.85,2,    0.09,2,    0.84,2,-999.000,1,-999.000,1,-999.000,1,  1978.8,2,  2181.6,2,    7.903,    25.00, -999.00,9, -999.00,  -999.0,9,  -999.0,-999.0000,9
49NZ200107_1,       P17N,      66,          1,         36,         36,2,20010817,       2226,    47.5505,  -145.5515,       4824,    10.9,  13.0710,2,  32.4280,2,  32.4269,2,   264.91,1,  276.98,2,   12.02,2,    6.74,2,    0.10,2,    0.80,2,-999.000,1,-999.000,1,-999.000,1,  1979.3,2,  2182.6,2,    7.907,    25.00, -999.00,9, -999.00,  -999.0,9,  -999.0,  24.3874,2
49NZ200107_1,       P17N,      66,          1,         35,         35,2,20010817,       2226,    47.5505,  -145.5515,       4824,    25.2,   9.4707,2,  32.4653,2,  32.4647,2,   286.78,1,  309.32,2,   11.86,2,    8.36,2,    0.09,2,    0.96,2,-999.000,1,-999.000,1,-999.000,1,  1998.3,2,  2184.2,2,    7.863,    25.00, -999.00,9, -999.00,  -999.0,9,  -999.0,  25.0600,2
49NZ200107_1,       P17N,      66,          1,         34,         34,2,20010817,       2226,    47.5505,  -145.5515,       4824,    51.0,   6.9118,2,  32.5154,2,  32.5121,2,   284.20,1,  301.70,2,   15.15,2,   11.99,2,    0.21,2,    1.23,2,-999.000,1,-999.000,1,-999.000,1,  2035.0,2,  2185.0,2,    7.786,    25.00, -999.00,9, -999.00,  -999.0,9,  -999.0,  25.4743,2
49NZ200107_1,       P17N,      66,          1,         33,         33,2,20010817,       2226,    47.5505,  -145.5515,       4824,    76.0,   6.1735,2,  32.5470,2,  32.5470,2,   280.04,1,  297.59,2,   16.35,2,   14.76,2,    0.19,2,    1.31,2,-999.000,1,-999.000,1,-999.000,1,  2043.9,2,  2184.5,2,    7.758,    25.00, -999.00,9, -999.00,  -999.0,9,  -999.0,  25.5941,2
49NZ200107_1,       P17N,      66,          1,         32,         32,2,20010817,       2226,    47.5505,  -145.5515,       4824,   101.4,   5.6651,2,  32.5817,2,  32.5824,2,   281.34,1,  299.38,2,   18.36,2,   15.85,2,    0.02,2,    1.36,2,-999.000,1,-999.000,1,-999.000,1,  2052.3,2,  2186.2,6,    7.749,    25.00, -999.00,9, -999.00,  -999.0,9,  -999.0,  25.6833,2
49NZ200107_1,       P17N,      66,          1,         31,         31,2,20010817,       2226,    47.5505,  -145.5515,       4824,   151.7,   4.9379,2,  33.0349,2,  33.0549,2,   227.28,1,  249.72,2,   29.73,2,   22.36,2,    0.01,2,    1.71,2,-999.000,1,-999.000,1,-999.000,1,  2118.7,2,  2214.5,2,    7.645,    25.00, -999.00,9, -999.00,  -999.0,9,  -999.0,  26.1256,2
49NZ200107_1,       P17N,      66,          1,         30,         30,2,20010817,       2226,    47.5505,  -145.5515,       4824,   202.2,   5.4034,2,  33.7693,2,  33.7727,2,   140.01,1,  149.82,2,   48.30,2,   31.08,2,    0.01,2,    2.17,2,-999.000,1,-999.000,1,-999.000,1,  2210.4,6,  2261.7,2,    7.505,    25.00, -999.00,9, -999.00,  -999.0,9,  -999.0,  26.6547,2
49NZ200107_1,       P17N,      66,          1,         29,         29,2,20010817,       2226,    47.5505,  -145.5515,       4824,   252.4,   4.9644,2,  33.8529,2,  33.8507,2,   106.27,1,  112.32,2,   59.04,2,   35.47,2,    0.01,2,    2.47,2,-999.000,1,-999.000,1,-999.000,1,  2246.3,2,  2275.0,2,    7.427,    25.00, -999.00,9, -999.00,  -999.0,9,  -999.0,  26.7720,2
49NZ200107_1,       P17N,      66,          1,         28,         28,2,20010817,       2226,    47.5505,  -145.5515,       4824,   303.1,   4.6274,2,  33.9005,2,  33.8974,2,    84.97,1,   87.64,2,   67.90,2,   38.40,2,    0.02,2,    2.64,2,-999.000,1,-999.000,1,-999.000,1,  2267.6,2,  2283.3,6,    7.381,    25.00, -999.00,9, -999.00,  -999.0,9,  -999.0,  26.8476,2
49NZ200107_1,       P17N,      66,          1,         27,         27,2,20010817,       2226,    47.5505,  -145.5515,       4824,   353.5,   4.4476,2,  33.9473,2,  33.9451,2,    71.38,1,   71.91,2,   75.06,2,   39.94,2,    0.01,2,    2.77,2,-999.000,1,-999.000,1,-999.000,1,  2287.9,2,  2289.4,2,    7.359,    25.00, -999.00,9, -999.00,  -999.0,9,  -999.0,  26.9046,2
49NZ200107_1,       P17N,      66,          1,         26,         26,3,20010817,       2226,    47.5505,  -145.5515,       4824,   404.2,   4.3038,2,  34.0060,2,  34.0073,2,    60.95,1,   58.99,2,   82.62,2,   41.04,2,    0.01,2,    2.88,2,-999.000,1,-999.000,1,-999.000,1,  2301.8,6,  2301.2,2,    7.348,    25.00, -999.00,9, -999.00,  -999.0,9,  -999.0,  26.9669,2
49NZ200107_1,       P17N,      66,          1,         25,         25,2,20010817,       2226,    47.5505,  -145.5515,       4824,   505.3,   4.0697,2,  34.0920,2,  34.0963,2,    44.35,1,   40.34,2,   94.29,2,   42.52,2,    0.01,2,    2.98,2,-999.000,1,-999.000,1,-999.000,1,  2322.8,2,  2317.2,2,    7.327,    25.00, -999.00,9, -999.00,  -999.0,9,  -999.0,  27.0604,2
49NZ200107_1,       P17N,      66,          1,         24,         24,2,20010817,       2226,    47.5505,  -145.5515,       4824,   606.1,   3.8136,2,  34.1721,2,  34.1748,2,    32.83,1,   28.13,2,  107.43,2,   43.50,2,    0.00,2,    3.07,2,-999.000,1,-999.000,1,-999.000,1,  2342.8,2,  2331.6,6,    7.317,    25.00, -999.00,9, -999.00,  -999.0,9,  -999.0,  27.1508,2
49NZ200107_1,       P17N,      66,          1,         23,         23,3,20010817,       2226,    47.5505,  -145.5515,       4824,   707.4,   3.5594,2,  34.2363,2,  34.2427,2,    27.69,1,   22.26,2,  118.65,2,   44.02,2,    0.00,2,    3.11,2,-999.000,1,-999.000,1,-999.000,1,  2354.8,2,  2345.2,2,    7.316,    25.00, -999.00,9, -999.00,  -999.0,9,  -999.0,  27.2276,2
49NZ200107_1,       P17N,      66,          1,         22,         22,2,20010817,       2226,    47.5505,  -145.5515,       4824,   808.4,   3.3182,2,  34.2899,2,  34.2911,2,    22.87,1,   16.67,2,  126.42,2,   44.55,2,    0.00,2,    3.16,2,-999.000,1,-999.000,1,-999.000,1,  2369.7,6,  2355.6,2,    7.312,    25.00, -999.00,9, -999.00,  -999.0,9,  -999.0,  27.2939,2
49NZ200107_1,       P17N,      66,          1,         21,         21,2,20010817,       2226,    47.5505,  -145.5515,       4824,   909.9,   3.1287,2,  34.3374,2,  34.3375,2,    19.56,1,   13.29,2,  133.09,2,   44.95,2,    0.00,2,    3.19,2,-999.000,1,-999.000,1,-999.000,1,  2377.8,2,  2363.3,2,    7.313,    25.00, -999.00,9, -999.00,  -999.0,9,  -999.0,  27.3500,2
49NZ200107_1,       P17N,      66,          1,         20,         20,2,20010817,       2226,    47.5505,  -145.5515,       4824,  1011.5,   2.9535,2,  34.3745,2,  34.3748,2,    20.14,1,   13.50,2,  138.36,2,   44.94,2,    0.01,2,    3.19,2,-999.000,1,-999.000,1,-999.000,1,  2382.8,2,  2371.7,6,    7.318,    25.00, -999.00,9, -999.00,  -999.0,9,  -999.0,  27.3961,2
49NZ200107_1,       P17N,      66,          1,         19,         19,2,20010817,       2226,    47.5505,  -145.5515,       4824,  1112.8,   2.8053,2,  34.4103,2,  34.4112,2,    19.34,1,   12.73,2,  139.62,2,   45.26,2,    0.00,2,    3.16,2,-999.000,1,-999.000,1,-999.000,1,  2390.4,2,  2378.3,2,    7.319,    25.00, -999.00,9, -999.00,  -999.0,9,  -999.0,  27.4385,2
49NZ200107_1,       P17N,      66,          1,         18,         18,2,20010817,       2226,    47.5505,  -145.5515,       4824,  1214.2,   2.6827,2,  34.4383,2,  34.4386,2,    20.14,1,   13.50,2,  144.42,2,   45.17,2,    0.00,2,    3.19,2,-999.000,1,-999.000,1,-999.000,1,  2393.6,6,  2384.3,2,    7.325,    25.00, -999.00,9, -999.00,  -999.0,9,  -999.0,  27.4721,2
49NZ200107_1,       P17N,      66,          1,         17,         17,2,20010817,       2226,    47.5505,  -145.5515,       4824,  1416.5,   2.4221,2,  34.4918,2,  34.4914,2,    26.09,1,   18.83,2,  151.19,2,   45.06,2,    0.00,2,    3.17,2,-999.000,1,-999.000,1,-999.000,1,  2401.3,2,  2393.9,2,    7.339,    25.00, -999.00,9, -999.00,  -999.0,9,  -999.0,  27.5380,2
49NZ200107_1,       P17N,      66,          1,         16,         16,2,20010817,       2226,    47.5505,  -145.5515,       4824,  1620.2,   2.2069,2,  34.5322,2,  34.5313,2,    36.95,1,   30.24,2,  156.60,2,   44.39,2,    0.00,2,    3.12,2,-999.000,1,-999.000,1,-999.000,1,  2398.5,2,  2400.2,2,    7.365,    25.00, -999.00,9, -999.00,  -999.0,9,  -999.0,  27.5890,2
49NZ200107_1,       P17N,      66,          1,         15,         15,2,20010817,       2226,    47.5505,  -145.5515,       4824,  1823.4,   2.0343,2,  34.5666,2,  34.5663,2,    49.59,1,   43.82,2,  159.57,2,   43.63,2,    0.00,2,    3.05,2,-999.000,1,-999.000,1,-999.000,1,  2392.5,2,  2406.6,2,    7.394,    25.00, -999.00,9, -999.00,  -999.0,9,  -999.0,  27.6313,2
49NZ200107_1,       P17N,      66,          1,         14,         14,2,20010817,       2226,    47.5505,  -145.5515,       4824,  2027.3,   1.9068,2,  34.5912,2,  34.5912,2,    61.43,1,   56.69,2,  161.09,2,   42.84,2,    0.00,2,    3.01,2,-999.000,1,-999.000,1,-999.000,1,  2386.0,2,  2411.3,2,    7.420,    25.00, -999.00,9, -999.00,  -999.0,9,  -999.0,  27.6620,2
49NZ200107_1,       P17N,      66,          1,         13,         13,2,20010817,       2226,    47.5505,  -145.5515,       4824,  2230.6,   1.8109,2,  34.6101,2,  34.6105,2,    72.60,1,   68.92,2,  161.76,2,   42.09,2,    0.00,2,    2.95,2,-999.000,1,-999.000,1,-999.000,1,  2379.6,2,  2414.0,2,    7.446,    25.00, -999.00,9, -999.00,  -999.0,9,  -999.0,  27.6856,2
49NZ200107_1,       P17N,      66,          1,         12,         12,2,20010817,       2226,    47.5505,  -145.5515,       4824,  2434.6,   1.7293,2,  34.6256,2,  34.6250,2,    83.71,1,   80.59,2,  161.51,2,   41.32,2,    0.00,2,    2.89,2,-999.000,9,-999.000,9,-999.000,9,  -999.0,9,  -999.0,9, -999.000,  -999.00, -999.00,9, -999.00,  -999.0,9,  -999.0,  27.7053,2
49NZ200107_1,       P17N,      66,          1,         11,         11,2,20010817,       2226,    47.5505,  -145.5515,       4824,  2638.4,   1.6565,2,  34.6394,2,  34.6397,2,    94.58,1,   93.12,2,  161.14,2,   40.49,2,    0.01,2,    2.82,2,-999.000,1,-999.000,1,-999.000,1,  2366.3,2,  2415.6,2,    7.492,    25.00, -999.00,9, -999.00,  -999.0,9,  -999.0,  27.7230,2
49NZ200107_1,       P17N,      66,          1,         10,         10,2,20010817,       2226,    47.5505,  -145.5515,       4824,  2842.6,   1.5964,2,  34.6507,2,  34.6509,2,   105.01,1,  103.73,2,  160.27,2,   39.90,2,    0.01,2,    2.78,2,-999.000,9,-999.000,9,-999.000,9,  -999.0,9,  -999.0,9, -999.000,  -999.00, -999.00,9, -999.00,  -999.0,9,  -999.0,  27.7376,2
49NZ200107_1,       P17N,      66,          1,          9,          9,3,20010817,       2226,    47.5505,  -145.5515,       4824,  3048.3,   1.5477,2,  34.6605,2,  34.6593,2,   114.52,1,  113.54,2,  158.11,2,   39.23,2,    0.01,2,    2.74,2,-999.000,1,-999.000,1,-999.000,1,  2355.1,2,  2418.2,2,    7.533,    25.00, -999.00,9, -999.00,  -999.0,9,  -999.0,  27.7503,2
49NZ200107_1,       P17N,      66,          1,          8,          8,2,20010817,       2226,    47.5505,  -145.5515,       4824,  3303.6,   1.5076,2,  34.6694,2,  34.6691,2,   124.52,1,  124.12,2,  156.49,2,   38.44,2,    0.01,2,    2.70,2,-999.000,9,-999.000,9,-999.000,9,  -999.0,9,  -999.0,9, -999.000,  -999.00, -999.00,9, -999.00,  -999.0,9,  -999.0,  27.7619,2
49NZ200107_1,       P17N,      66,          1,          7,          7,2,20010817,       2226,    47.5505,  -145.5515,       4824,  3559.5,   1.4894,2,  34.6752,2,  34.6751,2,   132.15,1,  130.52,2,  155.89,2,   38.10,2,    0.01,2,    2.65,2,-999.000,1,-999.000,1,-999.000,1,  2345.5,2,  2419.8,2,    7.571,    25.00, -999.00,9, -999.00,  -999.0,9,  -999.0,  27.7696,2
49NZ200107_1,       P17N,      66,          1,          6,          6,2,20010817,       2226,    47.5505,  -145.5515,       4824,  3815.7,   1.4871,2,  34.6794,2,  34.6794,2,   137.42,1,  135.12,2,  156.74,2,   37.83,2,    0.01,2,    2.64,2,-999.000,9,-999.000,9,-999.000,9,  -999.0,9,  -999.0,9, -999.000,  -999.00, -999.00,9, -999.00,  -999.0,9,  -999.0,  27.7750,2
49NZ200107_1,       P17N,      66,          1,          5,          5,2,20010817,       2226,    47.5505,  -145.5515,       4824,  4072.7,   1.4977,2,  34.6819,2,  34.6822,2,   141.15,1,  138.10,2,  157.97,2,   37.61,2,    0.01,2,    2.61,2,-999.000,1,-999.000,1,-999.000,1,  2342.0,2,  2425.6,6,    7.584,    25.00, -999.00,9, -999.00,  -999.0,9,  -999.0,  27.7782,2
49NZ200107_1,       P17N,      66,          1,          4,          4,2,20010817,       2226,    47.5505,  -145.5515,       4824,  4329.5,   1.5186,2,  34.6838,2,  34.6839,2,   143.47,1,  138.95,2,  159.53,2,   37.62,2,    0.00,2,    2.61,2,-999.000,9,-999.000,9,-999.000,9,  -999.0,9,  -999.0,9, -999.000,  -999.00, -999.00,9, -999.00,  -999.0,9,  -999.0,  27.7803,2
49NZ200107_1,       P17N,      66,          1,          3,          3,2,20010817,       2226,    47.5505,  -145.5515,       4824,  4586.9,   1.5450,2,  34.6850,2,  34.6849,2,   145.35,1,  139.36,2,  161.16,2,   37.63,2,    0.00,2,    2.61,2,-999.000,1,-999.000,1,-999.000,1,  2343.6,2,  2430.3,2,    7.594,    25.00, -999.00,9, -999.00,  -999.0,9,  -999.0,  27.7815,2
49NZ200107_1,       P17N,      66,          1,          2,          2,2,20010817,       2226,    47.5505,  -145.5515,       4824,  4844.5,   1.5685,2,  34.6860,2,  34.6859,2,   148.52,1,  139.33,2,  161.77,2,   37.56,2,    0.01,2,    2.57,2,-999.000,9,-999.000,9,-999.000,9,  -999.0,9,  -999.0,9, -999.000,  -999.00, -999.00,9, -999.00,  -999.0,9,  -999.0,  27.7829,2
49NZ200107_1,       P17N,      66,          1,          1,          1,2,20010817,       2226,    47.5505,  -145.5515,       4824,  4893.9,   1.5739,2,  34.6861,2,  34.6866,2,   149.04,1,  140.49,2,  162.55,2,   37.47,2,    0.01,2,    2.59,2,-999.000,1,-999.000,1,-999.000,1,  2345.7,2,  2425.6,2,    7.598,    25.00, -999.00,9, -999.00,  -999.0,9,  -999.0,  27.7830,2