BOTTLE,20220817CCHSIOAMB
EXPOCODE,SECT_ID,STNNBR,CASTNO,SAMPNO,BTLNBR,BTLNBR_FLAG_W,DATE,TIME,LATITUDE,LONGITUDE,DEPTH,CTDPRS,CTDTMP,CTDTMP_FLAG_W,CTDSAL,CTDSAL_FLAG_W,SALNTY,SALNTY_FLAG_W,CTDOXY,CTDOXY_FLAG_W,OXYGEN,OXYGEN_FLAG_W,SILCAT,SILCAT_FLAG_W,NITRAT,NITRAT_FLAG_W,NITRIT,NITRIT_FLAG_W,PHSPHT,PHSPHT_FLAG_W,CFC-11,CFC-11_FLAG_W,CFC-12,CFC-12_FLAG_W,CFC113,CFC113_FLAG_W,TCARBN,TCARBN_FLAG_W,ALKALI,ALKALI_FLAG_W,PH_TOT,PH_TMP,DELC13,DELC13_FLAG_W,C13ERR,DELC14,DELC14_FLAG_W,C14ERR,THETA,THETA_FLAG_W
,,,,,,,,,,,METERS,DBAR,ITS-90,,PSS-78,,PSS-78,,UMOL/KG,,UMOL/KG,,UMOL/KG,,UMOL/KG,,UMOL/KG,,UMOL/KG,,PMOL/KG,,PMOL/KG,,PMOL/KG,,UMOL/KG,,UMOL/KG,,,DEG C,/MILLE,,/MILLE,/MILLE,,/MILLE,DEG C,
49NZ200107_1,       P17N,      38,          1,          0,        -99,9,20010811,       0852,    39.5035,  -135.0112,       4892,     4.5,-999.0000,9,-999.0000,9,  32.5822,2,  -999.00,9,  249.83,2,    1.49,2,    0.20,2,    0.00,2,    0.32,2,-999.000,1,-999.000,1,-999.000,1,  1963.8,2,  2185.2,2,    7.950,    25.00, -999.00,9, -999.00,  -999.0,9,  -999.0,-999.0000,9
49NZ200107_1,       P17N,      38,          1,         36,         36,2,20010811,       0852,    39.5035,  -135.0112,       4892,    10.8,  17.3769,2,  32.5773,2,  32.5772,2,   240.57,1,  250.63,2,    0.47,2,    0.28,2,    0.01,2,    0.28,2,-999.000,1,-999.000,1,-999.000,1,  1963.5,2,  2179.5,2,    7.954,    25.00,    1.97,2,    0.01,    44.4,2,     3.9,  23.5674,2
49NZ200107_1,       P17N,      38,          1,         35,         35,2,20010811,       0852,    39.5035,  -135.0112,       4892,    25.9,  17.1928,2,  32.5624,2,  32.5713,2,   250.73,1,  278.60,2,    0.46,2,    0.04,2,    0.02,2,    0.29,2,-999.000,1,-999.000,1,-999.000,1,  1961.5,2,  2188.3,2,    7.954,    25.00,    2.00,2,    0.00,    36.9,2,     4.0,  23.6000,2
49NZ200107_1,       P17N,      38,          1,         34,         34,2,20010811,       0852,    39.5035,  -135.0112,       4892,    51.3,  11.7724,2,  32.5868,2,  32.5937,2,   287.38,1,  301.01,2,    2.46,2,    0.17,2,    0.04,2,    0.39,2,-999.000,1,-999.000,1,-999.000,1,  1971.9,2,  2188.4,2,    7.937,    25.00,    1.92,2,    0.00,    36.2,2,     4.0,  24.7587,2
49NZ200107_1,       P17N,      38,          1,         33,         33,2,20010811,       0852,    39.5035,  -135.0112,       4892,    76.4,  10.7872,2,  32.6055,2,  32.5990,2,   261.40,1,  272.62,2,    4.56,2,    3.48,2,    0.72,2,    0.61,2,-999.000,1,-999.000,1,-999.000,1,  1999.6,2,  2180.5,2,    7.878,    25.00,    1.60,2,    0.01,    32.2,2,     4.0,  24.9502,2
49NZ200107_1,       P17N,      38,          1,         32,         32,2,20010811,       0852,    39.5035,  -135.0112,       4892,   102.5,   9.7480,2,  32.5242,2,  32.5412,2,   261.77,1,  272.67,2,    6.90,2,    6.32,2,    0.13,2,    0.79,2,-999.000,1,-999.000,1,-999.000,1,  2009.4,2,  2178.0,6,    7.851,    25.00,    1.47,2,    0.00,    28.5,2,     4.2,  25.0625,2
49NZ200107_1,       P17N,      38,          1,         31,         31,2,20010811,       0852,    39.5035,  -135.0112,       4892,   152.0,   8.0070,2,  33.0017,2,  33.0777,3,   231.25,1,  244.11,2,   14.31,2,   13.92,2,    0.02,2,    1.19,2,-999.000,1,-999.000,1,-999.000,1,  2075.4,2,  2203.3,2,    7.731,    25.00,    0.84,2,    0.00,    45.3,2,     3.6,  25.7058,2
49NZ200107_1,       P17N,      38,          1,         30,         30,2,20010811,       0852,    39.5035,  -135.0112,       4892,   202.5,   7.9475,2,  33.7484,2,  33.7735,2,   184.82,1,  193.00,2,   24.56,2,   20.61,2,    0.02,2,    1.51,2,-999.000,1,-999.000,1,-999.000,1,  2134.8,6,  2243.3,2,    7.673,    25.00,    0.26,2,    0.00,    22.7,2,     4.1,  26.3015,2
49NZ200107_1,       P17N,      38,          1,         29,         29,2,20010811,       0852,    39.5035,  -135.0112,       4892,   253.0,   7.5645,2,  33.9575,2,  33.9589,2,   128.71,1,  133.44,2,   37.15,2,   28.33,2,    0.01,2,    2.03,2,-999.000,1,-999.000,1,-999.000,1,  2192.5,2,  2263.7,2,    7.553,    25.00,   -0.07,2,    0.00,    -7.9,2,     4.3,  26.5220,2
49NZ200107_1,       P17N,      38,          1,         28,         28,2,20010811,       0852,    39.5035,  -135.0112,       4892,   303.2,   6.8712,2,  33.9858,2,  33.9846,2,    97.76,1,  100.68,2,   45.96,2,   32.49,2,    0.01,2,    2.31,2,-999.000,1,-999.000,1,-999.000,1,  2226.7,2,  2265.8,6,    7.477,    25.00,   -0.23,2,    0.00,   -28.7,2,     4.1,  26.6411,2
49NZ200107_1,       P17N,      38,          1,         27,         27,3,20010811,       0852,    39.5035,  -135.0112,       4892,   354.1,   6.2952,2,  34.0009,2,  33.9984,2,    79.92,1,   80.72,2,   53.54,2,   35.22,2,    0.01,2,    2.53,2,-999.000,1,-999.000,1,-999.000,1,  2249.0,2,  2272.5,2,    7.425,    25.00,   -0.34,2,    0.00,   -45.1,2,     4.1,  26.7295,2
49NZ200107_1,       P17N,      38,          1,         26,         26,2,20010811,       0852,    39.5035,  -135.0112,       4892,   404.4,   5.7515,2,  34.0115,2,  34.0096,2,    65.50,1,   65.59,3,   61.40,2,   37.47,2,    0.01,2,    2.72,2,-999.000,1,-999.000,1,-999.000,1,  2268.8,6,  2284.4,2,    7.396,    25.00,   -0.44,2,    0.00,   -69.5,2,     4.4,  26.8066,2
49NZ200107_1,       P17N,      38,          1,         25,         25,2,20010811,       0852,    39.5035,  -135.0112,       4892,   505.2,   4.7338,2,  34.0366,2,  34.0366,2,    49.05,1,   46.73,2,   78.87,2,   40.88,2,    0.01,2,    2.93,2,-999.000,1,-999.000,1,-999.000,1,  2300.3,2,  2298.4,2,    7.351,    25.00,   -0.51,2,    0.01,  -103.3,2,     4.2,  26.9457,2
49NZ200107_1,       P17N,      38,          1,         24,         24,2,20010811,       0852,    39.5035,  -135.0112,       4892,   606.6,   4.4714,2,  34.1380,2,  34.1408,2,    28.79,1,   22.98,2,   91.02,2,   42.76,2,    0.01,2,    3.11,2,-999.000,1,-999.000,1,-999.000,1,  2329.3,2,  2320.3,6,    7.322,    25.00,   -0.58,2,    0.01,  -138.0,2,     4.4,  27.0557,2
49NZ200107_1,       P17N,      38,          1,         23,         23,2,20010811,       0852,    39.5035,  -135.0112,       4892,   707.2,   4.2295,2,  34.2190,2,  34.2172,2,    20.11,1,   13.92,2,   99.61,2,   43.61,2,    0.01,2,    3.21,2,-999.000,1,-999.000,1,-999.000,1,  2344.5,2,  2332.5,2,    7.315,    25.00,   -0.62,2,    0.00,  -156.1,2,     4.6,  27.1465,2
49NZ200107_1,       P17N,      38,          1,         22,         22,2,20010811,       0852,    39.5035,  -135.0112,       4892,   808.1,   3.8935,2,  34.2924,2,  34.2920,2,    16.44,1,    9.14,2,  110.03,2,   44.23,2,    0.01,2,    3.27,2,-999.000,1,-999.000,1,-999.000,1,  2360.5,6,  2342.9,2,    7.312,    25.00,   -0.62,2,    0.00,  -188.5,2,     4.5,  27.2402,2
49NZ200107_1,       P17N,      38,          1,         21,         21,2,20010811,       0852,    39.5035,  -135.0112,       4892,   909.8,   3.6164,2,  34.3588,2,  34.3592,2,    16.41,1,    8.47,2,  118.68,2,   44.56,2,    0.01,2,    3.28,2,-999.000,1,-999.000,1,-999.000,1,  2370.6,2,  2360.4,2,    7.314,    25.00,   -0.60,2,    0.00,  -203.7,2,     4.5,  27.3212,2
49NZ200107_1,       P17N,      38,          1,         20,         20,2,20010811,       0852,    39.5035,  -135.0112,       4892,  1011.2,   3.3807,2,  34.4060,2,  34.4046,2,    18.33,1,   10.22,2,  125.68,2,   44.78,2,    0.01,2,    3.30,2,-999.000,1,-999.000,1,-999.000,1,  2379.4,2,  2371.7,6,    7.322,    25.00,   -0.62,2,    0.01,  -212.7,2,     4.6,  27.3822,2
49NZ200107_1,       P17N,      38,          1,         19,         19,2,20010811,       0852,    39.5035,  -135.0112,       4892,  1112.5,   3.1740,2,  34.4394,2,  34.4381,2,    20.97,1,   12.76,2,  132.52,2,   44.60,2,    0.01,2,    3.25,2,-999.000,1,-999.000,1,-999.000,1,  2383.0,2,  2380.8,2,    7.333,    25.00,   -0.57,2,    0.00,  -215.6,2,     4.6,  27.4288,2
49NZ200107_1,       P17N,      38,          1,         18,         18,2,20010811,       0852,    39.5035,  -135.0112,       4892,  1213.5,   2.9919,2,  34.4740,2,  34.4727,2,    25.64,1,   18.43,2,  136.28,2,   44.49,2,    0.01,2,    3.25,2,-999.000,1,-999.000,1,-999.000,1,  2385.9,6,  2382.5,3,    7.336,    25.00,   -0.58,2,    0.00,  -225.7,2,     4.7,  27.4736,2
49NZ200107_1,       P17N,      38,          1,         17,         17,2,20010811,       0852,    39.5035,  -135.0112,       4892,  1416.7,   2.6387,2,  34.5170,2,  34.5179,2,    34.51,1,   27.42,2,  146.47,2,   44.05,2,    0.01,2,    3.22,2,-999.000,1,-999.000,1,-999.000,1,  2391.5,2,  2392.7,2,    7.360,    25.00,   -0.53,2,    0.00,  -234.6,2,     4.6,  27.5401,2
49NZ200107_1,       P17N,      38,          1,         16,         16,2,20010811,       0852,    39.5035,  -135.0112,       4892,  1619.6,   2.3585,2,  34.5509,2,  34.5497,2,    45.87,1,   38.59,2,  152.36,2,   43.42,2,    0.01,2,    3.15,2,-999.000,1,-999.000,1,-999.000,1,  2390.2,2,  2406.3,2,    7.380,    25.00,   -0.50,2,    0.00,  -242.9,2,     7.0,  27.5918,2
49NZ200107_1,       P17N,      38,          1,         15,         15,2,20010811,       0852,    39.5035,  -135.0112,       4892,  1822.2,   2.0956,2,  34.5850,2,  34.5851,2,    60.33,1,   54.77,2,  159.20,2,   42.61,2,    0.01,2,    3.09,2,-999.000,1,-999.000,1,-999.000,1,  2387.4,2,  2409.0,2,    7.417,    25.00,   -0.41,2,    0.01,  -246.1,2,     7.7,  27.6413,2
49NZ200107_1,       P17N,      38,          1,         14,         14,2,20010811,       0852,    39.5035,  -135.0112,       4892,  2025.5,   1.9300,2,  34.6093,2,  34.6094,2,    73.99,1,   69.77,2,  162.52,2,   41.51,2,    0.00,2,    3.02,2,-999.000,1,-999.000,1,-999.000,1,  2381.8,2,  2419.8,2,    7.438,    25.00,   -0.33,2,    0.00,  -239.2,2,     7.0,  27.6748,2
49NZ200107_1,       P17N,      38,          1,         13,         13,2,20010811,       0852,    39.5035,  -135.0112,       4892,  2229.5,   1.8335,2,  34.6230,2,  34.6229,2,    82.82,1,   79.54,2,  163.72,2,   40.83,2,    0.01,2,    2.97,2,-999.000,1,-999.000,1,-999.000,1,  2377.3,2,  2423.2,2,    7.455,    25.00,   -0.29,2,    0.00,  -242.6,2,     4.5,  27.6943,2
49NZ200107_1,       P17N,      38,          1,         12,         12,2,20010811,       0852,    39.5035,  -135.0112,       4892,  2433.3,   1.7506,2,  34.6352,2,  34.6352,2,    91.28,1,   87.55,2,  164.55,2,   40.41,2,    0.00,2,    2.92,2,-999.000,9,-999.000,9,-999.000,9,  -999.0,9,  -999.0,9, -999.000,  -999.00, -999.00,9, -999.00,  -999.0,9,  -999.0,  27.7115,2
49NZ200107_1,       P17N,      38,          1,         11,         11,2,20010811,       0852,    39.5035,  -135.0112,       4892,  2637.2,   1.6820,2,  34.6452,2,  34.6461,3,    99.63,1,   96.50,2,  164.17,2,   39.84,2,    0.00,2,    2.84,2,-999.000,1,-999.000,1,-999.000,1,  2369.2,2,  2421.5,3,    7.490,    25.00,   -0.18,2,    0.01,  -244.7,2,     4.7,  27.7258,2
49NZ200107_1,       P17N,      38,          1,         10,         10,2,20010811,       0852,    39.5035,  -135.0112,       4892,  2840.9,   1.6386,2,  34.6523,2,  34.6521,2,   106.07,1,  103.11,2,  163.81,2,   39.48,2,    0.01,2,    2.83,2,-999.000,9,-999.000,9,-999.000,9,  -999.0,9,  -999.0,9, -999.000,  -999.00, -999.00,9, -999.00,  -999.0,9,  -999.0,  27.7359,2
49NZ200107_1,       P17N,      38,          1,          9,          9,2,20010811,       0852,    39.5035,  -135.0112,       4892,  3045.7,   1.5937,2,  34.6594,2,  34.6595,2,   113.17,1,  110.50,2,  161.70,2,   39.16,2,    0.01,2,    2.81,2,-999.000,1,-999.000,1,-999.000,1,  2360.5,6,  2425.9,2,    7.519,    25.00,   -0.11,2,    0.00,  -238.9,2,     7.7,  27.7462,2
49NZ200107_1,       P17N,      38,          1,          8,          8,2,20010811,       0852,    39.5035,  -135.0112,       4892,  3300.5,   1.5606,2,  34.6654,2,  34.6653,2,   120.64,1,  117.82,2,  160.48,2,   38.63,2,    0.01,2,    2.76,2,-999.000,9,-999.000,9,-999.000,9,  -999.0,9,  -999.0,9, -999.000,  -999.00, -999.00,9, -999.00,  -999.0,9,  -999.0,  27.7551,2
49NZ200107_1,       P17N,      38,          1,          7,          7,2,20010811,       0852,    39.5035,  -135.0112,       4892,  3557.3,   1.5366,2,  34.6717,2,  34.6716,2,   127.38,1,  125.38,2,  160.20,2,   38.09,2,    0.01,2,    2.72,2,-999.000,1,-999.000,1,-999.000,1,  2353.4,2,  2428.6,2,    7.557,    25.00,    0.02,2,    0.00,  -230.8,2,     5.7,  27.7636,2
49NZ200107_1,       P17N,      38,          1,          6,          6,2,20010811,       0852,    39.5035,  -135.0112,       4892,  3813.5,   1.5242,2,  34.6768,2,  34.6769,2,   133.07,1,  129.54,2,  161.39,2,   37.90,2,    0.01,2,    2.70,2,-999.000,9,-999.000,9,-999.000,9,  -999.0,9,  -999.0,9, -999.000,  -999.00, -999.00,9, -999.00,  -999.0,9,  -999.0,  27.7703,2
49NZ200107_1,       P17N,      38,          1,          5,          5,2,20010811,       0852,    39.5035,  -135.0112,       4892,  4070.0,   1.5175,2,  34.6808,2,  34.6809,2,   139.53,1,  135.31,2,  160.45,2,   37.55,2,    0.01,2,    2.65,2,-999.000,1,-999.000,1,-999.000,1,  2344.9,2,  2429.6,6,    7.568,    25.00,    0.06,2,    0.00,  -235.0,3,     5.8,  27.7759,2
49NZ200107_1,       P17N,      38,          1,          4,          4,2,20010811,       0852,    39.5035,  -135.0112,       4892,  4327.0,   1.5115,2,  34.6843,2,  34.6845,2,   146.68,1,  142.53,2,  156.08,2,   37.08,2,    0.00,2,    2.64,2,-999.000,9,-999.000,9,-999.000,9,  -999.0,9,  -999.0,9, -999.000,  -999.00, -999.00,9, -999.00,  -999.0,9,  -999.0,  27.7811,2
49NZ200107_1,       P17N,      38,          1,          3,          3,2,20010811,       0852,    39.5035,  -135.0112,       4892,  4583.9,   1.5242,2,  34.6860,2,  34.6860,2,   151.78,1,  145.82,2,  152.85,2,   36.76,2,    0.01,2,    2.61,2,-999.000,1,-999.000,1,-999.000,1,  2337.6,2,  2429.6,2,    7.585,    25.00,    0.12,2,    0.01,  -218.0,2,     7.4,  27.7837,2
49NZ200107_1,       P17N,      38,          1,          2,          2,2,20010811,       0852,    39.5035,  -135.0112,       4892,  4841.0,   1.5465,2,  34.6869,2,  34.6866,2,   156.10,1,  148.04,2,  149.44,2,   36.54,2,    0.01,2,    2.56,2,-999.000,9,-999.000,9,-999.000,9,  -999.0,9,  -999.0,9, -999.000,  -999.00, -999.00,9, -999.00,  -999.0,9,  -999.0,  27.7850,2
49NZ200107_1,       P17N,      38,          1,          1,          1,2,20010811,       0852,    39.5035,  -135.0112,       4892,  4963.7,   1.5616,2,  34.6870,2,  34.6870,2,   157.72,1,  148.30,2,  149.64,2,   36.53,2,    0.01,2,    2.58,2,-999.000,1,-999.000,1,-999.000,1,  2335.4,2,  2428.0,2,    7.592,    25.00,    0.13,2,    0.00,  -221.8,2,     4.7,  27.7851,2