BOTTLE,20220817CCHSIOAMB
EXPOCODE,SECT_ID,STNNBR,CASTNO,SAMPNO,BTLNBR,BTLNBR_FLAG_W,DATE,TIME,LATITUDE,LONGITUDE,DEPTH,CTDPRS,CTDTMP,CTDTMP_FLAG_W,CTDSAL,CTDSAL_FLAG_W,SALNTY,SALNTY_FLAG_W,CTDOXY,CTDOXY_FLAG_W,OXYGEN,OXYGEN_FLAG_W,SILCAT,SILCAT_FLAG_W,NITRAT,NITRAT_FLAG_W,NITRIT,NITRIT_FLAG_W,PHSPHT,PHSPHT_FLAG_W,CFC-11,CFC-11_FLAG_W,CFC-12,CFC-12_FLAG_W,CFC113,CFC113_FLAG_W,TCARBN,TCARBN_FLAG_W,ALKALI,ALKALI_FLAG_W,PH_TOT,PH_TMP,DELC13,DELC13_FLAG_W,C13ERR,DELC14,DELC14_FLAG_W,C14ERR,THETA,THETA_FLAG_W
,,,,,,,,,,,METERS,DBAR,ITS-90,,PSS-78,,PSS-78,,UMOL/KG,,UMOL/KG,,UMOL/KG,,UMOL/KG,,UMOL/KG,,UMOL/KG,,PMOL/KG,,PMOL/KG,,PMOL/KG,,UMOL/KG,,UMOL/KG,,,DEG C,/MILLE,,/MILLE,/MILLE,,/MILLE,DEG C,
49NZ200107_1,       P17C,      20,          1,          0,        -99,9,20010808,       0320,    33.0028,  -135.0028,       4834,     4.5,-999.0000,9,-999.0000,9,  33.5218,2,  -999.00,9,  229.29,2,    2.60,2,    0.16,2,    0.00,2,    0.25,2,-999.000,1,-999.000,1,-999.000,1,  1996.0,2,  2230.9,2,    7.969,    25.00, -999.00,9, -999.00,  -999.0,9,  -999.0,-999.0000,9
49NZ200107_1,       P17C,      20,          1,         36,         36,2,20010808,       0320,    33.0028,  -135.0028,       4834,    10.3,  20.1565,2,  33.5323,2,  33.5342,2,   224.92,1,  234.62,2,    2.63,2,    0.15,2,    0.00,2,    0.23,2,-999.000,1,-999.000,1,-999.000,1,  1996.3,2,  2237.4,2,    7.967,    25.00,    1.69,2,    0.00,    38.9,2,     3.3,  23.6021,2
49NZ200107_1,       P17C,      20,          1,         35,         35,2,20010808,       0320,    33.0028,  -135.0028,       4834,    25.1,  19.9743,2,  33.5271,2,  33.5345,2,   224.97,1,  235.65,2,    2.59,2,    0.06,2,    0.01,2,    0.20,2,-999.000,1,-999.000,1,-999.000,1,  1996.8,2,  2229.9,2,    7.966,    25.00,    1.72,2,    0.00,    46.7,2,     3.3,  23.6465,2
49NZ200107_1,       P17C,      20,          1,         34,         34,3,20010808,       0320,    33.0028,  -135.0028,       4834,    51.1,  15.9123,2,  33.4518,2,  33.4608,2,   256.38,1,  267.37,2,    2.54,2,    0.06,2,    0.00,2,    0.20,2,-999.000,1,-999.000,1,-999.000,1,  1996.1,2,  2227.1,2,    7.951,    25.00,    1.58,2,    0.00,    52.4,2,     3.6,  24.5785,2
49NZ200107_1,       P17C,      20,          1,         33,         33,2,20010808,       0320,    33.0028,  -135.0028,       4834,    75.9,  15.1402,2,  33.6013,2,  33.5992,2,   247.28,1,  257.61,2,    2.59,2,    0.05,2,    0.01,2,    0.20,2,-999.000,1,-999.000,1,-999.000,1,  2001.8,2,  2229.5,2,    7.947,    25.00,    1.56,2,    0.00,    59.3,2,     3.3,  24.8657,2
49NZ200107_1,       P17C,      20,          1,         32,         32,2,20010808,       0320,    33.0028,  -135.0028,       4834,   100.9,  14.6289,2,  33.5628,2,  33.5637,2,   243.79,1,  254.02,2,    2.57,2,    0.06,2,    0.00,2,    0.23,2,-999.000,1,-999.000,1,-999.000,1,  2006.7,2,  2226.8,6,    7.934,    25.00,    1.51,2,    0.00,    60.2,2,     3.3,  24.9472,2
49NZ200107_1,       P17C,      20,          1,         31,         31,2,20010808,       0320,    33.0028,  -135.0028,       4834,   150.9,  10.9388,2,  33.4381,2,  33.4373,2,   230.37,1,  240.95,2,    6.22,2,    6.17,2,    0.02,2,    0.60,2,-999.000,1,-999.000,1,-999.000,1,  2046.4,2,  2220.2,2,    7.834,    25.00,    1.02,2,    0.00,    47.4,2,     3.3,  25.5734,2
49NZ200107_1,       P17C,      20,          1,         30,         30,2,20010808,       0320,    33.0028,  -135.0028,       4834,   202.6,   9.2536,2,  33.6643,2,  33.6805,2,   219.06,1,  229.36,2,   12.18,2,   11.96,2,    0.01,2,    0.92,2,-999.000,1,-999.000,1,-999.000,1,  2080.4,6,  2225.6,2,    7.779,    25.00,    0.64,6,    0.01,    43.9,6,     5.3,  26.0354,2
49NZ200107_1,       P17C,      20,          1,         29,         29,2,20010808,       0320,    33.0028,  -135.0028,       4834,   252.1,   9.0147,2,  33.9854,2,  33.9932,2,   188.20,1,  200.33,2,   20.38,2,   17.78,2,    0.00,2,    1.22,2,-999.000,1,-999.000,1,-999.000,1,  2120.9,2,  2248.2,2,    7.723,    25.00,    0.32,2,    0.00,    36.5,2,     5.0,  26.3256,2
49NZ200107_1,       P17C,      20,          1,         28,         28,2,20010808,       0320,    33.0028,  -135.0028,       4834,   303.3,   8.1517,2,  34.0150,2,  34.0144,2,   154.67,1,  160.82,2,   30.11,2,   24.21,2,    0.01,2,    1.65,2,-999.000,1,-999.000,1,-999.000,1,  2166.7,2,  2258.2,6,    7.630,    25.00,    0.06,2,    0.00,     6.0,2,     4.8,  26.4823,2
49NZ200107_1,       P17C,      20,          1,         27,         27,2,20010808,       0320,    33.0028,  -135.0028,       4834,   353.5,   7.3796,2,  34.0009,2,  34.0002,2,   133.99,1,  139.53,2,   37.60,2,   27.79,2,    0.00,2,    1.91,2,-999.000,1,-999.000,1,-999.000,1,  2220.2,2,  2267.0,2,    7.568,    25.00,   -0.05,2,    0.00,   -12.9,2,     4.5,  26.5837,2
49NZ200107_1,       P17C,      20,          1,         26,         26,2,20010808,       0320,    33.0028,  -135.0028,       4834,   404.2,   6.3912,2,  33.9781,2,  33.9781,2,   113.85,1,  117.93,2,   46.51,2,   31.57,2,    0.00,2,    2.18,2,-999.000,1,-999.000,1,-999.000,1,  2191.8,6,  2277.2,2,    7.510,    25.00,   -0.16,2,    0.01,   -41.2,2,     4.4,  26.6998,2
49NZ200107_1,       P17C,      20,          1,         25,         25,3,20010808,       0320,    33.0028,  -135.0028,       4834,   504.8,   5.4906,2,  34.0277,2,  34.0308,2,    66.99,1,   65.30,2,   63.69,2,   37.94,2,    0.00,2,    2.70,2,-999.000,1,-999.000,1,-999.000,1,  2272.8,2,  2290.1,2,    7.397,    25.00,   -0.36,2,    0.00,   -93.4,2,     4.0,  26.8519,2
49NZ200107_1,       P17C,      20,          1,         24,         24,2,20010808,       0320,    33.0028,  -135.0028,       4834,   605.8,   4.9865,2,  34.1207,2,  34.1202,2,    36.41,1,   34.14,2,   77.42,2,   41.32,2,    0.00,2,    2.94,2,-999.000,1,-999.000,1,-999.000,1,  2312.4,2,  2305.2,6,    7.336,    25.00,   -0.48,2,    0.00,  -138.6,2,     3.8,  26.9852,2
49NZ200107_1,       P17C,      20,          1,         23,         23,2,20010808,       0320,    33.0028,  -135.0028,       4834,   707.0,   4.5520,2,  34.2168,2,  34.2174,2,    21.44,1,   15.91,2,   90.88,2,   43.27,2,    0.00,2,    3.12,2,-999.000,1,-999.000,1,-999.000,1,  2336.5,2,  2322.0,2,    7.312,    25.00,   -0.54,2,    0.00,  -170.4,2,     3.7,  27.1105,2
49NZ200107_1,       P17C,      20,          1,         22,         22,2,20010808,       0320,    33.0028,  -135.0028,       4834,   807.8,   4.2044,2,  34.2978,2,  34.3020,2,    16.57,1,   13.05,2,  100.79,2,   44.14,2,    0.00,2,    3.21,2,-999.000,1,-999.000,1,-999.000,1,  2352.8,6,  2344.5,2,    7.311,    25.00,   -0.55,2,    0.00,  -186.3,2,     3.6,  27.2127,2
49NZ200107_1,       P17C,      20,          1,         21,         21,2,20010808,       0320,    33.0028,  -135.0028,       4834,   909.3,   3.9506,2,  34.3755,2,  34.3745,2,    17.25,1,   11.15,2,  108.68,2,   44.47,2,    0.00,2,    3.25,2,-999.000,1,-999.000,1,-999.000,1,  2363.9,2,  2355.6,2,    7.325,    25.00,   -0.54,2,    0.00,  -198.0,2,     3.6,  27.3014,2
49NZ200107_1,       P17C,      20,          1,         20,         20,2,20010808,       0320,    33.0028,  -135.0028,       4834,  1010.2,   3.6459,2,  34.4351,2,  34.4349,2,    22.10,1,   16.10,2,  116.12,2,   44.41,2,    0.00,2,    3.24,2,-999.000,1,-999.000,1,-999.000,1,  2370.3,2,  2369.0,6,    7.338,    25.00,   -0.48,2,    0.00,  -216.8,2,     3.6,  27.3799,2
49NZ200107_1,       P17C,      20,          1,         19,         19,2,20010808,       0320,    33.0028,  -135.0028,       4834,  1111.5,   3.3937,2,  34.4722,2,  34.4725,2,    28.08,1,   21.88,2,  123.43,2,   44.38,2,    0.00,2,    3.16,2,-999.000,1,-999.000,1,-999.000,1,  2373.4,2,  2372.7,2,    7.352,    25.00,   -0.47,2,    0.00,  -212.2,2,     3.5,  27.4345,2
49NZ200107_1,       P17C,      20,          1,         18,         18,2,20010808,       0320,    33.0028,  -135.0028,       4834,  1212.5,   3.1728,2,  34.5004,2,  34.5006,2,    34.59,1,   29.04,2,  128.53,2,   44.06,2,    0.00,2,    3.19,2,-999.000,1,-999.000,1,-999.000,1,  2375.8,6,  2380.2,2,    7.365,    25.00,   -0.44,6,    0.01,  -228.6,6,     5.8,  27.4783,2
49NZ200107_1,       P17C,      20,          1,         17,         17,2,20010808,       0320,    33.0028,  -135.0028,       4834,  1415.3,   2.8252,2,  34.5409,2,  34.5411,2,    46.64,1,   42.17,2,  136.91,2,   43.32,2,    0.01,2,    3.12,2,-999.000,1,-999.000,1,-999.000,1,  2376.8,2,  2389.5,2,    7.392,    25.00,   -0.39,2,    0.00,  -236.1,2,     3.4,  27.5432,2
49NZ200107_1,       P17C,      20,          1,         16,         16,2,20010808,       0320,    33.0028,  -135.0028,       4834,  1618.3,   2.4897,2,  34.5743,2,  34.5745,2,    58.88,1,   55.43,2,  144.39,2,   42.66,2,    0.00,2,    3.03,2,-999.000,1,-999.000,1,-999.000,1,  2375.2,2,  2399.6,2,    7.423,    25.00,   -0.40,2,    0.01,  -246.5,2,     3.8,  27.5998,2
49NZ200107_1,       P17C,      20,          1,         15,         15,2,20010808,       0320,    33.0028,  -135.0028,       4834,  1820.9,   2.2355,2,  34.5957,2,  34.5956,2,    67.09,1,   63.73,2,  151.48,2,   42.17,2,    0.00,2,    3.02,2,-999.000,1,-999.000,1,-999.000,1,  2376.9,2,  2411.9,2,    7.437,    25.00,   -0.35,2,    0.00,  -245.2,2,     3.3,  27.6389,2
49NZ200107_1,       P17C,      20,          1,         14,         14,2,20010808,       0320,    33.0028,  -135.0028,       4834,  2024.6,   2.0345,2,  34.6151,2,  34.6156,2,    77.06,1,   74.44,2,  156.44,2,   41.49,2,   -0.01,2,    2.97,2,-999.000,1,-999.000,1,-999.000,1,  2376.8,2,  2416.4,2,    7.455,    25.00,   -0.28,2,    0.00,  -249.0,2,     3.4,  27.6715,2
49NZ200107_1,       P17C,      20,          1,         13,         13,2,20010808,       0320,    33.0028,  -135.0028,       4834,  2227.9,   1.8867,2,  34.6314,2,  34.6316,2,    86.27,1,   84.11,2,  158.83,2,   40.70,2,    0.00,2,    2.90,2,-999.000,1,-999.000,1,-999.000,1,  2372.8,2,  2414.8,2,    7.479,    25.00,   -0.25,2,    0.00,  -244.9,2,     3.3,  27.6971,2
49NZ200107_1,       P17C,      20,          1,         12,         12,2,20010808,       0320,    33.0028,  -135.0028,       4834,  2431.5,   1.7708,2,  34.6420,2,  34.6420,2,    93.69,1,   92.81,2,  160.85,2,   40.18,2,    0.00,2,    2.86,2,-999.000,9,-999.000,9,-999.000,9,  -999.0,9,  -999.0,9, -999.000,  -999.00, -999.00,9, -999.00,  -999.0,9,  -999.0,  27.7155,2
49NZ200107_1,       P17C,      20,          1,         11,         11,2,20010808,       0320,    33.0028,  -135.0028,       4834,  2635.5,   1.6812,2,  34.6515,2,  34.6513,2,   101.65,1,  100.59,2,  160.52,2,   39.86,2,    0.00,2,    2.81,2,-999.000,1,-999.000,1,-999.000,1,  2363.8,2,  2421.4,2,    7.511,    25.00,   -0.15,2,    0.00,  -252.8,2,     3.3,  27.7308,2
49NZ200107_1,       P17C,      20,          1,         10,         10,2,20010808,       0320,    33.0028,  -135.0028,       4834,  2839.7,   1.6144,2,  34.6587,2,  34.6584,2,   108.62,1,  108.64,2,  160.38,2,   39.21,2,    0.00,2,    2.78,2,-999.000,9,-999.000,9,-999.000,9,  -999.0,9,  -999.0,9, -999.000,  -999.00, -999.00,9, -999.00,  -999.0,9,  -999.0,  27.7427,2
49NZ200107_1,       P17C,      20,          1,          9,          9,2,20010808,       0320,    33.0028,  -135.0028,       4834,  3043.4,   1.5679,2,  34.6634,2,  34.6635,2,   114.43,1,  114.17,2,  160.21,2,   38.96,2,    0.00,2,    2.74,2,-999.000,1,-999.000,1,-999.000,1,  2358.2,6,  2424.3,2,    7.535,    25.00,   -0.06,6,    0.00,  -246.5,6,     3.8,  27.7511,2
49NZ200107_1,       P17C,      20,          1,          8,          8,2,20010808,       0320,    33.0028,  -135.0028,       4834,  3298.9,   1.5113,2,  34.6717,2,  34.6717,2,   124.60,1,  124.22,2,  157.44,2,   38.30,2,    0.00,2,    2.69,2,-999.000,9,-999.000,9,-999.000,9,  -999.0,9,  -999.0,9, -999.000,  -999.00, -999.00,9, -999.00,  -999.0,9,  -999.0,  27.7635,2
49NZ200107_1,       P17C,      20,          1,          7,          7,2,20010808,       0320,    33.0028,  -135.0028,       4834,  3554.5,   1.4859,2,  34.6774,2,  34.6768,2,   132.23,1,  132.83,2,  155.35,2,   37.83,2,    0.00,2,    2.68,2,-999.000,1,-999.000,1,-999.000,1,  2345.7,2,  2420.6,2,    7.563,    25.00,    0.06,2,    0.00,  -237.5,2,     3.4,  27.7716,2
49NZ200107_1,       P17C,      20,          1,          6,          6,2,20010808,       0320,    33.0028,  -135.0028,       4834,  3810.3,   1.4794,2,  34.6807,2,  34.6807,2,   137.94,1,  138.45,2,  154.05,2,   37.50,2,    0.01,2,    2.64,2,-999.000,9,-999.000,9,-999.000,9,  -999.0,9,  -999.0,9, -999.000,  -999.00, -999.00,9, -999.00,  -999.0,9,  -999.0,  27.7765,2
49NZ200107_1,       P17C,      20,          1,          5,          5,2,20010808,       0320,    33.0028,  -135.0028,       4834,  4067.0,   1.4770,2,  34.6841,2,  34.6847,2,   143.81,1,  143.40,2,  150.77,2,   37.04,2,    0.00,2,    2.56,2,-999.000,1,-999.000,1,-999.000,1,  2337.8,2,  2421.6,6,    7.581,    25.00,    0.12,2,    0.00,  -233.6,2,     3.5,  27.7813,2
49NZ200107_1,       P17C,      20,          1,          4,          4,3,20010808,       0320,    33.0028,  -135.0028,       4834,  4321.0,   1.4913,2,  34.6858,2,  34.6853,2,   147.89,1,  147.03,2,  148.28,2,   36.86,2,    0.00,2,    2.57,2,-999.000,9,-999.000,9,-999.000,9,  -999.0,9,  -999.0,9, -999.000,  -999.00, -999.00,9, -999.00,  -999.0,9,  -999.0,  27.7836,2
49NZ200107_1,       P17C,      20,          1,          3,          3,2,20010808,       0320,    33.0028,  -135.0028,       4834,  4580.5,   1.5151,2,  34.6867,2,  34.6869,2,   151.33,1,  148.67,2,  146.68,2,   36.74,2,    0.00,2,    2.58,2,-999.000,1,-999.000,1,-999.000,1,  2331.8,2,  2425.8,2,    7.589,    25.00,    0.14,2,    0.00,  -222.4,2,     3.4,  27.7848,2
49NZ200107_1,       P17C,      20,          1,          2,          2,3,20010808,       0320,    33.0028,  -135.0028,       4834,  4837.9,   1.5433,2,  34.6873,2,  34.6868,2,   154.24,1,  150.29,2,  146.85,2,   36.44,2,    0.01,2,    2.51,2,-999.000,9,-999.000,9,-999.000,9,  -999.0,9,  -999.0,9, -999.000,  -999.00, -999.00,9, -999.00,  -999.0,9,  -999.0,  27.7855,2
49NZ200107_1,       P17C,      20,          1,          1,          1,2,20010808,       0320,    33.0028,  -135.0028,       4834,  4906.8,   1.5519,2,  34.6874,2,  34.6873,2,   155.26,1,  150.31,2,  147.22,2,   36.48,2,    0.00,2,    2.53,2,-999.000,1,-999.000,1,-999.000,1,  2331.4,2,  2425.5,2,    7.591,    25.00,    0.06,3,    0.00,  -221.1,2,     3.5,  27.7856,2