BOTTLE,20220817CCHSIOAMB
EXPOCODE,SECT_ID,STNNBR,CASTNO,SAMPNO,BTLNBR,BTLNBR_FLAG_W,DATE,TIME,LATITUDE,LONGITUDE,DEPTH,CTDPRS,CTDTMP,CTDTMP_FLAG_W,CTDSAL,CTDSAL_FLAG_W,SALNTY,SALNTY_FLAG_W,CTDOXY,CTDOXY_FLAG_W,OXYGEN,OXYGEN_FLAG_W,SILCAT,SILCAT_FLAG_W,NITRAT,NITRAT_FLAG_W,NITRIT,NITRIT_FLAG_W,PHSPHT,PHSPHT_FLAG_W,CFC-11,CFC-11_FLAG_W,CFC-12,CFC-12_FLAG_W,CFC113,CFC113_FLAG_W,TCARBN,TCARBN_FLAG_W,ALKALI,ALKALI_FLAG_W,PH_TOT,PH_TMP,DELC13,DELC13_FLAG_W,C13ERR,DELC14,DELC14_FLAG_W,C14ERR,THETA,THETA_FLAG_W
,,,,,,,,,,,METERS,DBAR,ITS-90,,PSS-78,,PSS-78,,UMOL/KG,,UMOL/KG,,UMOL/KG,,UMOL/KG,,UMOL/KG,,UMOL/KG,,PMOL/KG,,PMOL/KG,,PMOL/KG,,UMOL/KG,,UMOL/KG,,,DEG C,/MILLE,,/MILLE,/MILLE,,/MILLE,DEG C,
49NZ200107_1,       P17N,      94,          1,          0,        -99,9,20010825,       1105,    54.3738,  -158.1048,       2572,     4.5,-999.0000,9,-999.0000,9,  32.4480,2,  -999.00,9,  292.94,2,   13.88,2,    6.09,2,    0.12,2,    0.81,2,-999.000,1,-999.000,1,-999.000,1,  1986.3,2,  2186.4,2,    7.903,    25.00, -999.00,9, -999.00,  -999.0,9,  -999.0,-999.0000,9
49NZ200107_1,       P17N,      94,          1,         36,         36,2,20010825,       1105,    54.3738,  -158.1048,       2572,    11.6,  10.1483,2,  32.4554,2,  32.4546,2,   278.15,1,  292.89,2,   13.80,2,    6.21,2,    0.12,2,    0.75,2,-999.000,1,-999.000,1,-999.000,1,  1986.7,2,  2186.1,2,    7.905,    25.00,    1.74,2,    0.00,     7.3,2,     3.1,  24.9411,2
49NZ200107_1,       P17N,      94,          1,         35,         35,2,20010825,       1105,    54.3738,  -158.1048,       2572,    26.1,   9.9353,2,  32.4540,2,  32.4599,2,   275.10,1,  290.37,2,   14.00,2,    6.60,2,    0.13,2,    0.79,2,-999.000,1,-999.000,1,-999.000,1,  1987.9,2,  2185.4,2,    7.896,    25.00,    1.60,2,    0.00,     7.2,2,     3.2,  24.9756,2
49NZ200107_1,       P17N,      94,          1,         34,         34,2,20010825,       1105,    54.3738,  -158.1048,       2572,    51.7,   7.6302,2,  32.7264,2,  32.7597,2,   283.61,1,  302.90,2,   22.96,2,   14.58,2,    0.22,2,    1.30,2,-999.000,1,-999.000,1,-999.000,1,  2041.7,2,  2206.5,2,    7.795,    25.00,    1.22,2,    0.00,    -9.1,2,     3.0,  25.5422,2
49NZ200107_1,       P17N,      94,          1,         33,         33,2,20010825,       1105,    54.3738,  -158.1048,       2572,    77.0,   4.5464,2,  33.0450,2,  33.0679,2,   240.70,1,  263.21,2,   35.95,2,   25.05,2,    0.03,2,    1.89,2,-999.000,1,-999.000,1,-999.000,1,  2124.3,2,  2222.7,2,    7.629,    25.00,    0.54,2,    0.00,   -20.9,2,     3.0,  26.1755,2
49NZ200107_1,       P17N,      94,          1,         32,         32,2,20010825,       1105,    54.3738,  -158.1048,       2572,   102.3,   4.5308,2,  33.2530,2,  33.2528,2,   201.33,1,  214.44,2,   42.43,2,   28.83,2,    0.01,2,    2.14,2,-999.000,1,-999.000,1,-999.000,1,  2165.3,2,  2233.5,6,    7.552,    25.00,    0.22,2,    0.00,   -31.8,2,     2.8,  26.3424,2
49NZ200107_1,       P17N,      94,          1,         31,         31,2,20010825,       1105,    54.3738,  -158.1048,       2572,   127.0,   4.5549,2,  33.5318,2,  33.5404,2,   124.09,1,  143.63,2,   53.71,2,   34.48,2,    0.01,2,    2.46,2,-999.000,1,-999.000,1,-999.000,1,  2224.4,2,  2252.4,2,    7.436,    25.00,   -0.22,2,    0.00,   -50.0,2,     2.9,  26.5613,2
49NZ200107_1,       P17N,      94,          1,         30,         30,2,20010825,       1105,    54.3738,  -158.1048,       2572,   152.5,   4.7036,2,  33.7849,2,  33.7865,2,    82.41,1,   86.81,2,   62.97,2,   38.56,2,   -0.01,2,    2.71,2,-999.000,1,-999.000,1,-999.000,1,  2266.1,6,  2268.8,2,    7.359,    25.00,   -0.47,2,    0.00,   -66.6,2,     2.8,  26.7463,2
49NZ200107_1,       P17N,      94,          1,         29,         29,2,20010825,       1105,    54.3738,  -158.1048,       2572,   175.4,   4.6296,2,  33.8610,2,  33.8626,2,    65.34,1,   65.56,2,   68.30,2,   40.51,2,    0.00,2,    2.82,2,-999.000,1,-999.000,1,-999.000,1,  2285.4,2,  2280.2,2,    7.325,    25.00,   -0.56,2,    0.01,   -81.7,2,     2.9,  26.8150,2
49NZ200107_1,       P17N,      94,          1,         28,         28,2,20010825,       1105,    54.3738,  -158.1048,       2572,   203.1,   4.3784,2,  33.9037,2,  33.9024,2,    51.12,1,   48.63,2,   74.99,2,   42.18,2,    0.01,2,    2.91,2,-999.000,1,-999.000,1,-999.000,1,  2303.9,2,  2285.1,6,    7.293,    25.00,   -0.66,2,    0.00,   -94.7,2,     2.9,  26.8762,2
49NZ200107_1,       P17N,      94,          1,         27,         27,2,20010825,       1105,    54.3738,  -158.1048,       2572,   228.0,   4.2338,2,  33.9245,2,  33.9230,2,    42.81,1,   38.81,2,   78.84,2,   43.17,2,   -0.01,2,    3.01,2,-999.000,1,-999.000,1,-999.000,1,  2315.7,2,  2291.9,2,    7.277,    25.00,   -0.69,2,    0.00,  -101.5,2,     2.6,  26.9081,2
49NZ200107_1,       P17N,      94,          1,         26,         26,2,20010825,       1105,    54.3738,  -158.1048,       2572,   253.7,   4.1412,2,  33.9434,2,  33.9459,2,    36.46,1,   31.92,2,   82.55,2,   43.89,2,    0.00,2,    3.07,2,-999.000,1,-999.000,1,-999.000,1,  2320.3,6,  2293.5,2,    7.268,    25.00,   -0.73,2,    0.00,  -109.5,2,     2.8,  26.9330,2
49NZ200107_1,       P17N,      94,          1,         25,         25,2,20010825,       1105,    54.3738,  -158.1048,       2572,   304.0,   4.0541,2,  33.9986,2,  34.0000,2,    33.58,1,   27.08,2,   87.80,2,   44.08,2,    0.00,2,    3.10,2,-999.000,1,-999.000,1,-999.000,1,  2325.8,2,  2302.3,2,    7.273,    25.00,   -0.72,2,    0.00,  -121.3,2,     2.8,  26.9862,2
49NZ200107_1,       P17N,      94,          1,         24,         24,2,20010825,       1105,    54.3738,  -158.1048,       2572,   354.3,   4.0336,2,  34.0523,2,  34.0547,2,    32.06,1,   26.85,2,   92.29,2,   43.80,2,   -0.01,2,    3.11,2,-999.000,1,-999.000,1,-999.000,1,  2331.5,2,  2311.4,6,    7.287,    25.00,   -0.68,2,    0.00,  -137.5,2,     2.7,  27.0314,2
49NZ200107_1,       P17N,      94,          1,         23,         23,2,20010825,       1105,    54.3738,  -158.1048,       2572,   404.2,   3.9339,2,  34.0933,2,  34.0970,2,    29.33,1,   23.47,2,   97.46,2,   43.93,2,    0.00,2,    3.11,2,-999.000,1,-999.000,1,-999.000,1,  2339.4,2,  2318.2,2,    7.289,    25.00,   -0.68,2,    0.00,  -138.7,2,     2.7,  27.0745,2
49NZ200107_1,       P17N,      94,          1,         22,         22,2,20010825,       1105,    54.3738,  -158.1048,       2572,   506.0,   3.7367,2,  34.1673,2,  34.1696,2,    25.72,1,   19.22,2,  106.35,2,   44.09,2,   -0.01,2,    3.14,2,-999.000,1,-999.000,1,-999.000,1,  2348.3,6,  2331.0,2,    7.295,    25.00,   -0.68,2,    0.00,  -164.8,2,     2.7,  27.1538,2
49NZ200107_1,       P17N,      94,          1,         21,         21,2,20010825,       1105,    54.3738,  -158.1048,       2572,   607.0,   3.5667,2,  34.2272,2,  34.2272,2,    24.01,1,   16.31,2,  113.41,2,   44.22,2,   -0.01,2,    3.16,2,-999.000,1,-999.000,1,-999.000,1,  2358.0,2,  2344.0,2,    7.301,    25.00,   -0.65,2,    0.00,  -173.6,2,     2.6,  27.2189,2
49NZ200107_1,       P17N,      94,          1,         20,         20,2,20010825,       1105,    54.3738,  -158.1048,       2572,   709.2,   3.3901,2,  34.2755,2,  34.2762,2,    23.10,1,   15.22,2,  120.35,2,   44.43,2,   -0.01,2,    3.19,2,-999.000,1,-999.000,1,-999.000,1,  2368.1,2,  2353.7,6,    7.307,    25.00,   -0.66,2,    0.00,  -192.0,2,     2.5,  27.2750,2
49NZ200107_1,       P17N,      94,          1,         19,         19,2,20010825,       1105,    54.3738,  -158.1048,       2572,   810.1,   3.2083,2,  34.3108,2,  34.3105,2,    23.13,1,   15.46,2,  125.25,2,   44.30,2,   -0.01,2,    3.12,2,-999.000,1,-999.000,1,-999.000,1,  2375.8,2,  2359.4,2,    7.307,    25.00,   -0.67,2,    0.00,  -195.3,2,     2.4,  27.3208,2
49NZ200107_1,       P17N,      94,          1,         18,         18,2,20010825,       1105,    54.3738,  -158.1048,       2572,   910.5,   3.0723,2,  34.3395,2,  34.3398,2,    24.50,1,   15.92,2,  129.81,2,   44.23,2,   -0.01,2,    3.17,2,-999.000,1,-999.000,1,-999.000,1,  2377.5,6,  2365.0,2,    7.313,    25.00,   -0.65,2,    0.00,  -194.7,2,     2.5,  27.3568,2
49NZ200107_1,       P17N,      94,          1,         17,         17,2,20010825,       1105,    54.3738,  -158.1048,       2572,  1011.7,   2.9291,2,  34.3711,2,  34.3725,2,    25.45,1,   17.25,2,  133.70,2,   44.38,2,   -0.01,2,    3.18,2,-999.000,1,-999.000,1,-999.000,1,  2385.6,2,  2373.6,2,    7.320,    25.00,   -0.63,2,    0.00,  -206.7,2,     2.5,  27.3956,2
49NZ200107_1,       P17N,      94,          1,         16,         16,2,20010825,       1105,    54.3738,  -158.1048,       2572,  1112.7,   2.7925,2,  34.4014,2,  34.4004,2,    26.45,1,   17.52,2,  137.24,2,   44.47,2,   -0.01,2,    3.19,2,-999.000,1,-999.000,1,-999.000,1,  2389.3,2,  2380.1,2,    7.323,    25.00,   -0.62,2,    0.00,  -211.3,2,     2.7,  27.4324,2
49NZ200107_1,       P17N,      94,          1,         15,         15,2,20010825,       1105,    54.3738,  -158.1048,       2572,  1214.4,   2.6771,2,  34.4263,2,  34.4262,2,    28.59,1,   19.72,2,  140.82,2,   44.36,2,   -0.01,2,    3.18,2,-999.000,1,-999.000,1,-999.000,1,  2392.9,2,  2382.8,2,    7.330,    25.00,   -0.60,2,    0.00,  -211.5,2,     2.8,  27.4629,2
49NZ200107_1,       P17N,      94,          1,         14,         14,2,20010825,       1105,    54.3738,  -158.1048,       2572,  1317.5,   2.5342,2,  34.4563,2,  34.4563,2,    30.69,1,   22.06,2,  144.96,2,   44.40,2,    0.00,2,    3.17,2,-999.000,1,-999.000,1,-999.000,1,  2394.7,2,  2389.8,2,    7.335,    25.00,   -0.63,2,    0.01,  -222.8,2,     2.6,  27.4997,2
49NZ200107_1,       P17N,      94,          1,         13,         13,2,20010825,       1105,    54.3738,  -158.1048,       2572,  1418.2,   2.4316,2,  34.4784,2,  34.4783,2,    34.30,1,   24.97,2,  148.33,2,   44.22,2,   -0.01,2,    3.16,2,-999.000,1,-999.000,1,-999.000,1,  2392.7,2,  2393.6,2,    7.343,    25.00,   -0.60,2,    0.00,  -224.2,2,     2.5,  27.5265,2
49NZ200107_1,       P17N,      94,          1,         12,         12,2,20010825,       1105,    54.3738,  -158.1048,       2572,  1519.6,   2.3203,2,  34.5021,2,  34.5015,2,    38.86,1,   30.27,2,  151.38,2,   43.97,2,   -0.01,2,    3.15,2,-999.000,1,-999.000,1,-999.000,1,  2393.5,2,  2395.8,2,    7.354,    25.00,   -0.57,2,    0.00,  -226.8,2,     2.5,  27.5552,2
49NZ200107_1,       P17N,      94,          1,         11,         11,2,20010825,       1105,    54.3738,  -158.1048,       2572,  1622.3,   2.2277,2,  34.5216,2,  34.5213,2,    44.31,1,   35.24,2,  154.13,2,   43.60,2,    0.00,2,    3.07,2,-999.000,1,-999.000,1,-999.000,1,  2394.9,2,  2401.1,2,    7.367,    25.00,   -0.53,2,    0.00,  -229.4,2,     2.4,  27.5789,2
49NZ200107_1,       P17N,      94,          1,         10,         10,3,20010825,       1105,    54.3738,  -158.1048,       2572,  1722.1,   2.1214,2,  34.5432,2,  34.5433,2,    51.24,1,   42.68,2,  156.68,2,   43.21,2,    0.00,2,    3.08,2,-999.000,1,-999.000,1,-999.000,1,  2391.4,2,  2404.4,2,    7.384,    25.00,   -0.52,2,    0.00,  -236.7,2,     2.7,  27.6052,2
49NZ200107_1,       P17N,      94,          1,          9,          9,2,20010825,       1105,    54.3738,  -158.1048,       2572,  1825.0,   2.0302,2,  34.5619,2,  34.5621,2,    57.59,1,   49.40,2,  158.27,2,   42.83,2,   -0.01,2,    3.06,2,-999.000,1,-999.000,1,-999.000,1,  2386.5,2,  2407.6,2,    7.398,    25.00,   -0.46,2,    0.00,  -232.5,2,     2.6,  27.6279,2
49NZ200107_1,       P17N,      94,          1,          8,          8,2,20010825,       1105,    54.3738,  -158.1048,       2572,  1926.8,   1.9675,2,  34.5749,2,  34.5747,2,    62.61,1,   54.86,2,  159.48,2,   42.43,2,    0.00,2,    3.04,2,-999.000,1,-999.000,1,-999.000,1,  2384.5,2,  2410.5,6,    7.412,    25.00,   -0.45,2,    0.00,  -235.3,2,     2.5,  27.6437,2
49NZ200107_1,       P17N,      94,          1,          7,          7,2,20010825,       1105,    54.3738,  -158.1048,       2572,  2028.7,   1.9157,2,  34.5856,2,  34.5854,2,    67.64,1,   59.96,2,  160.04,2,   42.15,2,   -0.01,2,    3.03,2,-999.000,1,-999.000,1,-999.000,1,  2386.2,2,  2410.0,2,    7.423,    25.00,   -0.51,3,    0.00,  -236.8,2,     2.5,  27.6569,2
49NZ200107_1,       P17N,      94,          1,          6,          6,2,20010825,       1105,    54.3738,  -158.1048,       2572,  2232.0,   1.8471,2,  34.6011,2,  34.6011,2,    75.10,1,   68.00,2,  160.87,2,   41.73,2,    0.00,2,    3.00,2,-999.000,1,-999.000,1,-999.000,1,  2379.8,6,  2412.7,2,    7.438,    25.00,   -0.37,2,    0.00,  -234.0,2,     2.5,  27.6757,2
49NZ200107_1,       P17N,      94,          1,          4,          4,2,20010825,       1105,    54.3738,  -158.1048,       2572,  2335.4,   1.8009,2,  34.6106,2,  34.6107,2,    80.66,1,   73.36,2,  161.12,2,   41.28,2,    0.01,2,    2.96,2,-999.000,1,-999.000,1,-999.000,1,  2377.9,2,  2414.7,2,    7.450,    25.00,   -0.33,2,    0.00,  -232.7,2,     2.5,  27.6875,2
49NZ200107_1,       P17N,      94,          1,          5,          5,2,20010825,       1105,    54.3738,  -158.1048,       2572,  2335.6,   1.8003,2,  34.6107,2,  34.6109,2,    80.51,1,   73.78,2,  161.16,2,   41.33,2,   -0.01,2,    2.98,2,-999.000,1,-999.000,1,-999.000,1,  2374.6,2,  2413.9,2,    7.448,    25.00,   -0.30,2,    0.00,  -234.7,2,     2.5,  27.6876,2
49NZ200107_1,       P17N,      94,          1,          3,          3,2,20010825,       1105,    54.3738,  -158.1048,       2572,  2436.0,   1.7403,2,  34.6220,2,  34.6220,2,    88.14,1,   81.39,2,  161.05,2,   40.89,2,   -0.01,2,    2.95,2,-999.000,9,-999.000,9,-999.000,9,  -999.0,9,  -999.0,9, -999.000,  -999.00, -999.00,9, -999.00,  -999.0,9,  -999.0,  27.7016,2
49NZ200107_1,       P17N,      94,          1,          2,          2,2,20010825,       1105,    54.3738,  -158.1048,       2572,  2567.7,   1.6689,2,  34.6351,2,  34.6357,3,    97.98,1,   91.90,2,  161.10,2,   40.08,2,   -0.01,2,    2.82,2,-999.000,1,-999.000,1,-999.000,1,  2367.7,2,  2419.4,2,    7.485,    25.00,   -0.22,2,    0.00,  -229.2,2,     2.5,  27.7182,2
49NZ200107_1,       P17N,      94,          1,          1,          1,2,20010825,       1105,    54.3738,  -158.1048,       2572,  2567.7,   1.6632,2,  34.6360,2,  34.6360,2,    98.29,1,   92.04,2,  161.26,2,   40.05,2,    0.00,2,    2.86,2,-999.000,1,-999.000,1,-999.000,1,  2367.8,2,  2417.8,2,    7.484,    25.00,   -0.21,2,    0.00,  -230.3,2,     2.6,  27.7193,2