BOTTLE,20220817CCHSIOAMB
EXPOCODE,SECT_ID,STNNBR,CASTNO,SAMPNO,BTLNBR,BTLNBR_FLAG_W,DATE,TIME,LATITUDE,LONGITUDE,DEPTH,CTDPRS,CTDTMP,CTDTMP_FLAG_W,CTDSAL,CTDSAL_FLAG_W,SALNTY,SALNTY_FLAG_W,CTDOXY,CTDOXY_FLAG_W,OXYGEN,OXYGEN_FLAG_W,SILCAT,SILCAT_FLAG_W,NITRAT,NITRAT_FLAG_W,NITRIT,NITRIT_FLAG_W,PHSPHT,PHSPHT_FLAG_W,CFC-11,CFC-11_FLAG_W,CFC-12,CFC-12_FLAG_W,CFC113,CFC113_FLAG_W,TCARBN,TCARBN_FLAG_W,ALKALI,ALKALI_FLAG_W,PH_TOT,PH_TMP,DELC13,DELC13_FLAG_W,C13ERR,DELC14,DELC14_FLAG_W,C14ERR,THETA,THETA_FLAG_W
,,,,,,,,,,,METERS,DBAR,ITS-90,,PSS-78,,PSS-78,,UMOL/KG,,UMOL/KG,,UMOL/KG,,UMOL/KG,,UMOL/KG,,UMOL/KG,,PMOL/KG,,PMOL/KG,,PMOL/KG,,UMOL/KG,,UMOL/KG,,,DEG C,/MILLE,,/MILLE,/MILLE,,/MILLE,DEG C,
49NZ200107_1,       P17N,      35,          1,          0,        -99,9,20010810,       1656,    38.0007,  -135.0103,       4545,     4.5,-999.0000,9,-999.0000,9,  32.8553,2,  -999.00,9,  242.53,2,    0.52,2,    0.00,2,    0.00,2,    0.29,2,-999.000,9,-999.000,9,-999.000,9,  -999.0,9,  -999.0,9, -999.000,  -999.00, -999.00,9, -999.00,  -999.0,9,  -999.0,-999.0000,9
49NZ200107_1,       P17N,      35,          1,         36,         36,2,20010810,       1656,    38.0007,  -135.0103,       4545,    11.4,  18.7708,2,  32.8479,2,  32.8481,2,   233.27,1,  242.70,2,    0.70,2,    0.12,2,    0.00,2,    0.27,2,-999.000,9,-999.000,9,-999.000,9,  -999.0,9,  -999.0,9, -999.000,  -999.00, -999.00,9, -999.00,  -999.0,9,  -999.0,  23.4351,2
49NZ200107_1,       P17N,      35,          1,         35,         35,2,20010810,       1656,    38.0007,  -135.0103,       4545,    26.5,  18.7698,2,  32.8475,2,  32.8482,2,   232.73,1,  243.00,2,    0.64,2,    0.06,2,    0.01,2,    0.27,2,-999.000,9,-999.000,9,-999.000,9,  -999.0,9,  -999.0,9, -999.000,  -999.00, -999.00,9, -999.00,  -999.0,9,  -999.0,  23.4356,2
49NZ200107_1,       P17N,      35,          1,         34,         34,2,20010810,       1656,    38.0007,  -135.0103,       4545,    51.3,  12.8844,2,  32.7676,2,  32.7742,2,   270.98,1,  283.25,2,    2.44,2,    0.05,2,    0.01,2,    0.31,2,-999.000,9,-999.000,9,-999.000,9,  -999.0,9,  -999.0,9, -999.000,  -999.00, -999.00,9, -999.00,  -999.0,9,  -999.0,  24.6879,2
49NZ200107_1,       P17N,      35,          1,         33,         33,2,20010810,       1656,    38.0007,  -135.0103,       4545,    76.9,  11.5494,2,  32.6949,2,  32.6953,2,   257.50,1,  267.98,2,    3.17,2,    1.57,2,    0.16,2,    0.46,2,-999.000,9,-999.000,9,-999.000,9,  -999.0,9,  -999.0,9, -999.000,  -999.00, -999.00,9, -999.00,  -999.0,9,  -999.0,  24.8841,2
49NZ200107_1,       P17N,      35,          1,         32,         32,2,20010810,       1656,    38.0007,  -135.0103,       4545,   101.9,  11.1474,2,  32.7276,2,  32.7343,2,   256.11,1,  266.70,2,    4.39,2,    3.00,2,    0.02,2,    0.53,2,-999.000,9,-999.000,9,-999.000,9,  -999.0,9,  -999.0,9, -999.000,  -999.00, -999.00,9, -999.00,  -999.0,9,  -999.0,  24.9824,2
49NZ200107_1,       P17N,      35,          1,         31,         31,2,20010810,       1656,    38.0007,  -135.0103,       4545,   152.0,   8.9728,2,  33.2876,2,  33.3858,3,   234.00,1,  244.47,2,   11.25,2,   11.85,2,    0.01,2,    0.92,2,-999.000,9,-999.000,9,-999.000,9,  -999.0,9,  -999.0,9, -999.000,  -999.00, -999.00,9, -999.00,  -999.0,9,  -999.0,  25.7841,2
49NZ200107_1,       P17N,      35,          1,         30,         30,2,20010810,       1656,    38.0007,  -135.0103,       4545,   202.9,   9.1132,2,  33.8645,2,  33.9103,2,   224.47,1,  232.94,2,   15.25,2,   14.10,2,    0.01,2,    0.98,2,-999.000,9,-999.000,9,-999.000,9,  -999.0,9,  -999.0,9, -999.000,  -999.00, -999.00,9, -999.00,  -999.0,9,  -999.0,  26.2145,2
49NZ200107_1,       P17N,      35,          1,         29,         29,2,20010810,       1656,    38.0007,  -135.0103,       4545,   253.0,   8.9864,2,  34.0377,2,  34.0424,2,   203.03,1,  206.72,2,   21.97,2,   18.15,2,    0.01,2,    1.21,2,-999.000,9,-999.000,9,-999.000,9,  -999.0,9,  -999.0,9, -999.000,  -999.00, -999.00,9, -999.00,  -999.0,9,  -999.0,  26.3710,2
49NZ200107_1,       P17N,      35,          1,         28,         28,2,20010810,       1656,    38.0007,  -135.0103,       4545,   303.6,   8.2550,2,  34.0381,2,  34.0285,2,   173.35,1,  175.40,2,   31.76,2,   23.58,2,    0.01,2,    1.54,2,-999.000,9,-999.000,9,-999.000,9,  -999.0,9,  -999.0,9, -999.000,  -999.00, -999.00,9, -999.00,  -999.0,9,  -999.0,  26.4850,2
49NZ200107_1,       P17N,      35,          1,         27,         27,2,20010810,       1656,    38.0007,  -135.0103,       4545,   354.0,   7.2142,2,  33.9963,2,  33.9878,2,   145.48,1,  143.63,2,   43.63,2,   28.76,2,    0.01,2,    1.93,2,-999.000,9,-999.000,9,-999.000,9,  -999.0,9,  -999.0,9, -999.000,  -999.00, -999.00,9, -999.00,  -999.0,9,  -999.0,  26.6032,2
49NZ200107_1,       P17N,      35,          1,         26,         26,2,20010810,       1656,    38.0007,  -135.0103,       4545,   404.1,   6.3113,2,  33.9741,2,  33.9708,2,   120.71,1,  118.97,2,   52.57,2,   32.59,2,    0.00,2,    2.19,2,-999.000,9,-999.000,9,-999.000,9,  -999.0,9,  -999.0,9, -999.000,  -999.00, -999.00,9, -999.00,  -999.0,9,  -999.0,  26.7069,2
49NZ200107_1,       P17N,      35,          1,         25,         25,2,20010810,       1656,    38.0007,  -135.0103,       4545,   505.3,   5.0017,2,  33.9855,2,  33.9842,2,    79.31,1,   82.00,2,   69.61,2,   37.87,2,    0.01,2,    2.58,2,-999.000,9,-999.000,9,-999.000,9,  -999.0,9,  -999.0,9, -999.000,  -999.00, -999.00,9, -999.00,  -999.0,9,  -999.0,  26.8752,2
49NZ200107_1,       P17N,      35,          1,         24,         24,2,20010810,       1656,    38.0007,  -135.0103,       4545,   606.5,   4.5199,2,  34.0874,2,  34.0866,2,    38.42,1,   34.53,2,   86.33,2,   42.46,2,    0.01,2,    2.92,2,-999.000,9,-999.000,9,-999.000,9,  -999.0,9,  -999.0,9, -999.000,  -999.00, -999.00,9, -999.00,  -999.0,9,  -999.0,  27.0103,2
49NZ200107_1,       P17N,      35,          1,         23,         23,2,20010810,       1656,    38.0007,  -135.0103,       4545,   707.3,   4.0488,2,  34.1744,2,  34.1742,2,    26.01,1,   21.10,2,  101.52,2,   44.00,2,    0.01,2,    3.05,2,-999.000,9,-999.000,9,-999.000,9,  -999.0,9,  -999.0,9, -999.000,  -999.00, -999.00,9, -999.00,  -999.0,9,  -999.0,  27.1297,2
49NZ200107_1,       P17N,      35,          1,         22,         22,2,20010810,       1656,    38.0007,  -135.0103,       4545,   808.5,   3.7895,2,  34.2618,2,  34.2619,2,    17.74,1,   11.30,2,  111.72,2,   44.74,2,    0.01,2,    3.13,2,-999.000,9,-999.000,9,-999.000,9,  -999.0,9,  -999.0,9, -999.000,  -999.00, -999.00,9, -999.00,  -999.0,9,  -999.0,  27.2261,2
49NZ200107_1,       P17N,      35,          1,         21,         21,2,20010810,       1656,    38.0007,  -135.0103,       4545,   909.8,   3.6929,2,  34.3485,2,  34.3505,2,    16.55,1,    8.88,2,  117.47,2,   44.91,2,    0.00,2,    3.19,2,-999.000,9,-999.000,9,-999.000,9,  -999.0,9,  -999.0,9, -999.000,  -999.00, -999.00,9, -999.00,  -999.0,9,  -999.0,  27.3055,2
49NZ200107_1,       P17N,      35,          1,         20,         20,2,20010810,       1656,    38.0007,  -135.0103,       4545,  1011.2,   3.5045,2,  34.4039,2,  34.4036,2,    18.71,1,   11.13,2,  123.28,2,   44.99,2,    0.00,2,    3.19,2,-999.000,9,-999.000,9,-999.000,9,  -999.0,9,  -999.0,9, -999.000,  -999.00, -999.00,9, -999.00,  -999.0,9,  -999.0,  27.3687,2
49NZ200107_1,       P17N,      35,          1,         19,         19,2,20010810,       1656,    38.0007,  -135.0103,       4545,  1112.3,   3.2538,2,  34.4425,2,  34.4425,2,    22.00,1,   14.38,2,  128.02,2,   45.43,2,    0.01,2,    3.16,2,-999.000,9,-999.000,9,-999.000,9,  -999.0,9,  -999.0,9, -999.000,  -999.00, -999.00,9, -999.00,  -999.0,9,  -999.0,  27.4239,2
49NZ200107_1,       P17N,      35,          1,         18,         18,2,20010810,       1656,    38.0007,  -135.0103,       4545,  1213.4,   3.0690,2,  34.4753,2,  34.4776,2,    26.91,1,   20.18,3,  132.56,2,   44.79,2,    0.01,2,    3.15,2,-999.000,9,-999.000,9,-999.000,9,  -999.0,9,  -999.0,9, -999.000,  -999.00, -999.00,9, -999.00,  -999.0,9,  -999.0,  27.4677,2
49NZ200107_1,       P17N,      35,          1,         17,         17,2,20010810,       1656,    38.0007,  -135.0103,       4545,  1314.4,   2.8935,2,  34.5006,2,  34.5006,2,    32.39,1,   25.18,2,  136.79,2,   44.57,2,    0.01,2,    3.14,2,-999.000,9,-999.000,9,-999.000,9,  -999.0,9,  -999.0,9, -999.000,  -999.00, -999.00,9, -999.00,  -999.0,9,  -999.0,  27.5043,2
49NZ200107_1,       P17N,      35,          1,         16,         16,2,20010810,       1656,    38.0007,  -135.0103,       4545,  1416.2,   2.7211,2,  34.5186,2,  34.5185,2,    36.55,1,   29.23,2,  141.28,2,   44.34,2,    0.01,2,    3.13,2,-999.000,9,-999.000,9,-999.000,9,  -999.0,9,  -999.0,9, -999.000,  -999.00, -999.00,9, -999.00,  -999.0,9,  -999.0,  27.5344,2
49NZ200107_1,       P17N,      35,          1,         15,         15,2,20010810,       1656,    38.0007,  -135.0103,       4545,  1619.4,   2.3470,2,  34.5534,2,  34.5530,2,    46.75,1,   40.39,2,  149.80,2,   43.87,2,    0.00,2,    3.07,2,-999.000,9,-999.000,9,-999.000,9,  -999.0,9,  -999.0,9, -999.000,  -999.00, -999.00,9, -999.00,  -999.0,9,  -999.0,  27.5947,2
49NZ200107_1,       P17N,      35,          1,         14,         14,2,20010810,       1656,    38.0007,  -135.0103,       4545,  1822.8,   2.0956,2,  34.5882,2,  34.5883,2,    61.83,1,   56.58,2,  157.39,2,   42.94,2,    0.01,2,    3.02,2,-999.000,9,-999.000,9,-999.000,9,  -999.0,9,  -999.0,9, -999.000,  -999.00, -999.00,9, -999.00,  -999.0,9,  -999.0,  27.6439,2
49NZ200107_1,       P17N,      35,          1,         13,         13,2,20010810,       1656,    38.0007,  -135.0103,       4545,  2025.1,   1.9387,2,  34.6093,2,  34.6093,2,    73.22,1,   69.21,2,  160.42,2,   42.10,2,    0.01,2,    2.94,2,-999.000,9,-999.000,9,-999.000,9,  -999.0,9,  -999.0,9, -999.000,  -999.00, -999.00,9, -999.00,  -999.0,9,  -999.0,  27.6741,2
49NZ200107_1,       P17N,      35,          1,         12,         12,2,20010810,       1656,    38.0007,  -135.0103,       4545,  2229.2,   1.8273,2,  34.6247,2,  34.6247,2,    83.02,1,   79.46,2,  162.44,2,   41.30,2,    0.02,2,    2.90,2,-999.000,9,-999.000,9,-999.000,9,  -999.0,9,  -999.0,9, -999.000,  -999.00, -999.00,9, -999.00,  -999.0,9,  -999.0,  27.6961,2
49NZ200107_1,       P17N,      35,          1,         11,         11,2,20010810,       1656,    38.0007,  -135.0103,       4545,  2432.9,   1.7424,2,  34.6372,2,  34.6373,2,    91.92,1,   88.83,2,  164.41,2,   41.09,2,    0.02,2,    2.84,2,-999.000,9,-999.000,9,-999.000,9,  -999.0,9,  -999.0,9, -999.000,  -999.00, -999.00,9, -999.00,  -999.0,9,  -999.0,  27.7136,2
49NZ200107_1,       P17N,      35,          1,         10,         10,2,20010810,       1656,    38.0007,  -135.0103,       4545,  2636.8,   1.6737,2,  34.6471,2,  34.6471,2,   100.23,1,   97.50,2,  163.53,2,   40.20,2,    0.01,2,    2.79,2,-999.000,9,-999.000,9,-999.000,9,  -999.0,9,  -999.0,9, -999.000,  -999.00, -999.00,9, -999.00,  -999.0,9,  -999.0,  27.7279,2
49NZ200107_1,       P17N,      35,          1,          9,          9,2,20010810,       1656,    38.0007,  -135.0103,       4545,  2841.0,   1.6138,2,  34.6555,2,  34.6554,2,   108.18,1,  106.24,2,  163.36,2,   39.76,2,    0.01,2,    2.76,2,-999.000,9,-999.000,9,-999.000,9,  -999.0,9,  -999.0,9, -999.000,  -999.00, -999.00,9, -999.00,  -999.0,9,  -999.0,  27.7402,2
49NZ200107_1,       P17N,      35,          1,          8,          8,2,20010810,       1656,    38.0007,  -135.0103,       4545,  3045.6,   1.5789,2,  34.6617,2,  34.6621,2,   114.38,1,  112.71,2,  163.07,2,   39.44,2,    0.01,2,    2.73,2,-999.000,9,-999.000,9,-999.000,9,  -999.0,9,  -999.0,9, -999.000,  -999.00, -999.00,9, -999.00,  -999.0,9,  -999.0,  27.7491,2
49NZ200107_1,       P17N,      35,          1,          7,          7,2,20010810,       1656,    38.0007,  -135.0103,       4545,  3300.8,   1.5418,2,  34.6688,2,  34.6684,2,   122.59,1,  120.81,2,  162.08,2,   38.87,2,    0.01,2,    2.69,2,-999.000,9,-999.000,9,-999.000,9,  -999.0,9,  -999.0,9, -999.000,  -999.00, -999.00,9, -999.00,  -999.0,9,  -999.0,  27.7590,2
49NZ200107_1,       P17N,      35,          1,          6,          6,2,20010810,       1656,    38.0007,  -135.0103,       4545,  3557.2,   1.5133,2,  34.6750,2,  34.6747,2,   130.43,1,  127.97,2,  160.53,2,   38.37,2,    0.01,2,    2.65,2,-999.000,9,-999.000,9,-999.000,9,  -999.0,9,  -999.0,9, -999.000,  -999.00, -999.00,9, -999.00,  -999.0,9,  -999.0,  27.7678,2
49NZ200107_1,       P17N,      35,          1,          5,          5,2,20010810,       1656,    38.0007,  -135.0103,       4545,  3813.2,   1.5026,2,  34.6793,2,  34.6793,2,   136.62,1,  133.81,2,  159.68,2,   38.02,2,    0.01,2,    2.62,2,-999.000,9,-999.000,9,-999.000,9,  -999.0,9,  -999.0,9, -999.000,  -999.00, -999.00,9, -999.00,  -999.0,9,  -999.0,  27.7738,2
49NZ200107_1,       P17N,      35,          1,          4,          4,2,20010810,       1656,    38.0007,  -135.0103,       4545,  4069.4,   1.4941,2,  34.6833,2,  34.6827,2,   144.21,1,  140.41,2,  156.52,2,   37.55,2,    0.01,2,    2.59,2,-999.000,9,-999.000,9,-999.000,9,  -999.0,9,  -999.0,9, -999.000,  -999.00, -999.00,9, -999.00,  -999.0,9,  -999.0,  27.7795,2
49NZ200107_1,       P17N,      35,          1,          3,          3,2,20010810,       1656,    38.0007,  -135.0103,       4545,  4326.8,   1.5052,2,  34.6854,2,  34.6854,2,   148.90,1,  144.26,2,  154.19,2,   37.26,2,    0.01,2,    2.57,2,-999.000,9,-999.000,9,-999.000,9,  -999.0,9,  -999.0,9, -999.000,  -999.00, -999.00,9, -999.00,  -999.0,9,  -999.0,  27.7824,2
49NZ200107_1,       P17N,      35,          1,          2,          2,2,20010810,       1656,    38.0007,  -135.0103,       4545,  4583.9,   1.5280,2,  34.6862,2,  34.6863,2,   152.72,1,  145.99,2,  151.60,2,   37.27,2,    0.01,2,    2.53,2,-999.000,9,-999.000,9,-999.000,9,  -999.0,9,  -999.0,9, -999.000,  -999.00, -999.00,9, -999.00,  -999.0,9,  -999.0,  27.7836,2
49NZ200107_1,       P17N,      35,          1,          1,          1,2,20010810,       1656,    38.0007,  -135.0103,       4545,  4603.6,   1.5306,2,  34.6862,2,  34.6861,2,   153.04,1,  146.50,2,  151.17,2,   37.05,2,    0.00,2,    2.53,2,-999.000,9,-999.000,9,-999.000,9,  -999.0,9,  -999.0,9, -999.000,  -999.00, -999.00,9, -999.00,  -999.0,9,  -999.0,  27.7836,2