BOTTLE,20220817CCHSIOAMB
EXPOCODE,SECT_ID,STNNBR,CASTNO,SAMPNO,BTLNBR,BTLNBR_FLAG_W,DATE,TIME,LATITUDE,LONGITUDE,DEPTH,CTDPRS,CTDTMP,CTDTMP_FLAG_W,CTDSAL,CTDSAL_FLAG_W,SALNTY,SALNTY_FLAG_W,CTDOXY,CTDOXY_FLAG_W,OXYGEN,OXYGEN_FLAG_W,SILCAT,SILCAT_FLAG_W,NITRAT,NITRAT_FLAG_W,NITRIT,NITRIT_FLAG_W,PHSPHT,PHSPHT_FLAG_W,CFC-11,CFC-11_FLAG_W,CFC-12,CFC-12_FLAG_W,CFC113,CFC113_FLAG_W,TCARBN,TCARBN_FLAG_W,ALKALI,ALKALI_FLAG_W,PH_TOT,PH_TMP,DELC13,DELC13_FLAG_W,C13ERR,DELC14,DELC14_FLAG_W,C14ERR,THETA,THETA_FLAG_W
,,,,,,,,,,,METERS,DBAR,ITS-90,,PSS-78,,PSS-78,,UMOL/KG,,UMOL/KG,,UMOL/KG,,UMOL/KG,,UMOL/KG,,UMOL/KG,,PMOL/KG,,PMOL/KG,,PMOL/KG,,UMOL/KG,,UMOL/KG,,,DEG C,/MILLE,,/MILLE,/MILLE,,/MILLE,DEG C,
49NZ200107_1,       P17N,      57,          1,          0,        -99,9,20010815,       0705,    44.5995,  -140.6373,       4422,     4.5,-999.0000,9,-999.0000,9,  32.4503,2,  -999.00,9,  254.85,2,    1.61,2,    1.59,2,    0.03,2,    0.53,2,-999.000,9,-999.000,9,-999.000,9,  -999.0,9,  -999.0,9, -999.000,  -999.00, -999.00,9, -999.00,  -999.0,9,  -999.0,-999.0000,9
49NZ200107_1,       P17N,      57,          1,         36,         36,2,20010815,       0705,    44.5995,  -140.6373,       4422,    11.8,  16.1412,2,  32.4593,2,  32.4557,2,   246.51,1,  256.09,2,    1.42,2,    1.53,2,    0.04,2,    0.48,2,-999.000,9,-999.000,9,-999.000,9,  -999.0,9,  -999.0,9, -999.000,  -999.00, -999.00,9, -999.00,  -999.0,9,  -999.0,  23.7627,2
49NZ200107_1,       P17N,      57,          1,         35,         35,2,20010815,       0705,    44.5995,  -140.6373,       4422,    25.9,  13.9996,2,  32.4648,2,  32.4826,2,   287.74,1,  302.39,2, -999.00,9, -999.00,9, -999.00,9, -999.00,9,-999.000,9,-999.000,9,-999.000,9,  -999.0,9,  -999.0,9, -999.000,  -999.00, -999.00,9, -999.00,  -999.0,9,  -999.0,  24.2295,2
49NZ200107_1,       P17N,      57,          1,         34,         34,2,20010815,       0705,    44.5995,  -140.6373,       4422,    51.1,  10.2431,2,  32.5193,2,  32.5236,2,   273.04,1,  285.99,2,    1.74,2,    4.75,2,    0.12,2,    0.78,2,-999.000,9,-999.000,9,-999.000,9,  -999.0,9,  -999.0,9, -999.000,  -999.00, -999.00,9, -999.00,  -999.0,9,  -999.0,  24.9758,2
49NZ200107_1,       P17N,      57,          1,         33,         33,2,20010815,       0705,    44.5995,  -140.6373,       4422,    76.1,   9.1796,2,  32.6343,2,  32.6294,2,   264.93,1,  276.61,2,    4.44,2,    7.85,2,    0.61,2,    0.87,2,-999.000,9,-999.000,9,-999.000,9,  -999.0,9,  -999.0,9, -999.000,  -999.00, -999.00,9, -999.00,  -999.0,9,  -999.0,  25.2392,2
49NZ200107_1,       P17N,      57,          1,         32,         32,3,20010815,       0705,    44.5995,  -140.6373,       4422,   101.1,   8.4682,2,  32.6602,2,  32.6601,2,   263.50,1,  275.73,2,    7.36,2,   10.01,2,    0.03,2,    0.99,2,-999.000,9,-999.000,9,-999.000,9,  -999.0,9,  -999.0,9, -999.000,  -999.00, -999.00,9, -999.00,  -999.0,9,  -999.0,  25.3692,2
49NZ200107_1,       P17N,      57,          1,         31,         31,2,20010815,       0705,    44.5995,  -140.6373,       4422,   152.2,   6.9355,2,  32.9843,2,  32.9904,2,   250.78,1,  264.48,2,   15.78,2,   15.82,2,    0.02,2,    1.29,2,-999.000,9,-999.000,9,-999.000,9,  -999.0,9,  -999.0,9, -999.000,  -999.00, -999.00,9, -999.00,  -999.0,9,  -999.0,  25.8416,2
49NZ200107_1,       P17N,      57,          1,         30,         30,2,20010815,       0705,    44.5995,  -140.6373,       4422,   202.6,   7.2469,2,  33.6600,2,  33.6727,2,   217.44,1,  229.01,2,   22.06,2,   18.60,2,    0.01,2,    1.36,2,-999.000,9,-999.000,9,-999.000,9,  -999.0,9,  -999.0,9, -999.000,  -999.00, -999.00,9, -999.00,  -999.0,9,  -999.0,  26.3319,2
49NZ200107_1,       P17N,      57,          1,         29,         29,3,20010815,       0705,    44.5995,  -140.6373,       4422,   252.7,   7.1104,2,  33.9011,2,  33.8975,2,   176.71,1,  185.47,2,   32.71,2,   23.68,2,    0.01,2,    1.68,2,-999.000,9,-999.000,9,-999.000,9,  -999.0,9,  -999.0,9, -999.000,  -999.00, -999.00,9, -999.00,  -999.0,9,  -999.0,  26.5412,2
49NZ200107_1,       P17N,      57,          1,         28,         28,2,20010815,       0705,    44.5995,  -140.6373,       4422,   303.2,   6.3517,2,  33.9165,2,  33.9116,2,   145.04,1,  151.95,2,   43.78,2,   28.68,2,    0.01,2,    1.99,2,-999.000,9,-999.000,9,-999.000,9,  -999.0,9,  -999.0,9, -999.000,  -999.00, -999.00,9, -999.00,  -999.0,9,  -999.0,  26.6550,2
49NZ200107_1,       P17N,      57,          1,         27,         27,2,20010815,       0705,    44.5995,  -140.6373,       4422,   354.1,   5.7104,2,  33.9214,2,  33.9196,2,   121.60,1,  124.99,2,   52.65,2,   32.51,2,    0.01,2,    2.26,2,-999.000,9,-999.000,9,-999.000,9,  -999.0,9,  -999.0,9, -999.000,  -999.00, -999.00,9, -999.00,  -999.0,9,  -999.0,  26.7398,2
49NZ200107_1,       P17N,      57,          1,         26,         26,2,20010815,       0705,    44.5995,  -140.6373,       4422,   404.4,   5.1805,2,  33.9368,2,  33.9389,2,   101.00,1,  102.34,2,   62.18,2,   35.97,2,    0.01,2,    2.51,2,-999.000,9,-999.000,9,-999.000,9,  -999.0,9,  -999.0,9, -999.000,  -999.00, -999.00,9, -999.00,  -999.0,9,  -999.0,  26.8153,2
49NZ200107_1,       P17N,      57,          1,         25,         25,2,20010815,       0705,    44.5995,  -140.6373,       4422,   505.6,   4.5708,2,  34.0340,2,  34.0351,2,    69.08,1,   66.63,2,   78.43,2,   39.49,2,    0.01,2,    2.78,2,-999.000,9,-999.000,9,-999.000,9,  -999.0,9,  -999.0,9, -999.000,  -999.00, -999.00,9, -999.00,  -999.0,9,  -999.0,  26.9615,2
49NZ200107_1,       P17N,      57,          1,         24,         24,2,20010815,       0705,    44.5995,  -140.6373,       4422,   606.7,   4.1535,2,  34.1197,2,  34.1213,2,    40.89,1,   35.86,2,   92.83,2,   42.57,2,    0.01,2,    2.97,2,-999.000,9,-999.000,9,-999.000,9,  -999.0,9,  -999.0,9, -999.000,  -999.00, -999.00,9, -999.00,  -999.0,9,  -999.0,  27.0746,2
49NZ200107_1,       P17N,      57,          1,         23,         23,2,20010815,       0705,    44.5995,  -140.6373,       4422,   707.7,   3.8760,2,  34.1751,2,  34.1771,2,    29.79,1,   24.18,2,  102.39,2,   43.77,2,    0.01,2,    3.08,2,-999.000,9,-999.000,9,-999.000,9,  -999.0,9,  -999.0,9, -999.000,  -999.00, -999.00,9, -999.00,  -999.0,9,  -999.0,  27.1478,2
49NZ200107_1,       P17N,      57,          1,         22,         22,2,20010815,       0705,    44.5995,  -140.6373,       4422,   808.9,   3.5691,2,  34.2440,2,  34.2462,2,    21.76,1,   14.79,2,  113.29,2,   44.51,2,    0.01,2,    3.14,2,-999.000,9,-999.000,9,-999.000,9,  -999.0,9,  -999.0,9, -999.000,  -999.00, -999.00,9, -999.00,  -999.0,9,  -999.0,  27.2335,2
49NZ200107_1,       P17N,      57,          1,         21,         21,2,20010815,       0705,    44.5995,  -140.6373,       4422,   910.3,   3.3506,2,  34.2957,2,  34.2975,3,    18.71,1,   11.63,2,  120.94,2,   44.94,2,    0.01,2,    3.19,2,-999.000,9,-999.000,9,-999.000,9,  -999.0,9,  -999.0,9, -999.000,  -999.00, -999.00,9, -999.00,  -999.0,9,  -999.0,  27.2962,2
49NZ200107_1,       P17N,      57,          1,         20,         20,2,20010815,       0705,    44.5995,  -140.6373,       4422,  1011.5,   3.1559,2,  34.3522,2,  34.3522,2,    16.41,1,    9.17,2,  128.20,2,   45.28,2,    0.01,2,    3.21,2,-999.000,9,-999.000,9,-999.000,9,  -999.0,9,  -999.0,9, -999.000,  -999.00, -999.00,9, -999.00,  -999.0,9,  -999.0,  27.3601,2
49NZ200107_1,       P17N,      57,          1,         19,         19,2,20010815,       0705,    44.5995,  -140.6373,       4422,  1113.2,   2.9747,2,  34.3895,2,  34.3914,2,    17.18,1,    9.46,2,  134.91,2,   45.14,2,    0.01,2,    3.19,2,-999.000,9,-999.000,9,-999.000,9,  -999.0,9,  -999.0,9, -999.000,  -999.00, -999.00,9, -999.00,  -999.0,9,  -999.0,  27.4069,2
49NZ200107_1,       P17N,      57,          1,         18,         18,2,20010815,       0705,    44.5995,  -140.6373,       4422,  1213.9,   2.8094,2,  34.4228,2,  34.4221,2,    18.39,1,   10.55,2,  139.79,2,   45.25,2,    0.01,2,    3.20,2,-999.000,9,-999.000,9,-999.000,9,  -999.0,9,  -999.0,9, -999.000,  -999.00, -999.00,9, -999.00,  -999.0,9,  -999.0,  27.4488,2
49NZ200107_1,       P17N,      57,          1,         17,         17,2,20010815,       0705,    44.5995,  -140.6373,       4422,  1315.7,   2.6498,2,  34.4510,2,  34.4518,2,    20.16,1,   12.41,2,  145.01,2,   45.42,2,    0.01,2,    3.21,2,-999.000,9,-999.000,9,-999.000,9,  -999.0,9,  -999.0,9, -999.000,  -999.00, -999.00,9, -999.00,  -999.0,9,  -999.0,  27.4857,2
49NZ200107_1,       P17N,      57,          1,         16,         16,2,20010815,       0705,    44.5995,  -140.6373,       4422,  1417.1,   2.5062,2,  34.4797,2,  34.4786,2,    23.18,1,   15.37,2,  149.34,2,   45.27,2,    0.01,2,    3.20,2,-999.000,9,-999.000,9,-999.000,9,  -999.0,9,  -999.0,9, -999.000,  -999.00, -999.00,9, -999.00,  -999.0,9,  -999.0,  27.5214,2
49NZ200107_1,       P17N,      57,          1,         15,         15,2,20010815,       0705,    44.5995,  -140.6373,       4422,  1518.5,   2.3947,2,  34.5034,2,  34.5026,2,    28.21,1,   20.70,2,  152.09,2,   44.90,2,    0.01,2,    3.17,2,-999.000,9,-999.000,9,-999.000,9,  -999.0,9,  -999.0,9, -999.000,  -999.00, -999.00,9, -999.00,  -999.0,9,  -999.0,  27.5502,2
49NZ200107_1,       P17N,      57,          1,         14,         14,2,20010815,       0705,    44.5995,  -140.6373,       4422,  1620.3,   2.2835,2,  34.5234,2,  34.5234,2,    33.99,1,   27.11,2,  154.67,2,   44.65,2,    0.01,2,    3.13,2,-999.000,9,-999.000,9,-999.000,9,  -999.0,9,  -999.0,9, -999.000,  -999.00, -999.00,9, -999.00,  -999.0,9,  -999.0,  27.5759,2
49NZ200107_1,       P17N,      57,          1,         13,         13,2,20010815,       0705,    44.5995,  -140.6373,       4422,  1824.0,   2.0738,2,  34.5633,2,  34.5630,2,    48.31,1,   42.34,2,  159.07,2,   43.73,2,    0.01,2,    3.08,2,-999.000,9,-999.000,9,-999.000,9,  -999.0,9,  -999.0,9, -999.000,  -999.00, -999.00,9, -999.00,  -999.0,9,  -999.0,  27.6257,2
49NZ200107_1,       P17N,      57,          1,         12,         12,2,20010815,       0705,    44.5995,  -140.6373,       4422,  2027.5,   1.9325,2,  34.5913,2,  34.5914,2,    60.79,1,   56.02,2,  162.06,2,   42.81,2,    0.00,2,    3.02,2,-999.000,9,-999.000,9,-999.000,9,  -999.0,9,  -999.0,9, -999.000,  -999.00, -999.00,9, -999.00,  -999.0,9,  -999.0,  27.6601,2
49NZ200107_1,       P17N,      57,          1,         11,         11,2,20010815,       0705,    44.5995,  -140.6373,       4422,  2231.0,   1.8375,2,  34.6120,2,  34.6122,2,    71.77,1,   67.37,2,  161.86,2,   42.08,2,    0.00,2,    2.91,2,-999.000,9,-999.000,9,-999.000,9,  -999.0,9,  -999.0,9, -999.000,  -999.00, -999.00,9, -999.00,  -999.0,9,  -999.0,  27.6852,2
49NZ200107_1,       P17N,      57,          1,         10,         10,3,20010815,       0705,    44.5995,  -140.6373,       4422,  2434.8,   1.7399,2,  34.6284,2,  34.6283,2,    83.38,1,   79.88,2,  161.03,2,   41.25,2,    0.00,2,    2.89,2,-999.000,9,-999.000,9,-999.000,9,  -999.0,9,  -999.0,9, -999.000,  -999.00, -999.00,9, -999.00,  -999.0,9,  -999.0,  27.7068,2
49NZ200107_1,       P17N,      57,          1,          9,          9,2,20010815,       0705,    44.5995,  -140.6373,       4422,  2637.8,   1.6636,2,  34.6413,2,  34.6413,2,    94.57,1,   91.41,2,  160.11,2,   40.52,2,    0.00,2,    2.82,2,-999.000,9,-999.000,9,-999.000,9,  -999.0,9,  -999.0,9, -999.000,  -999.00, -999.00,9, -999.00,  -999.0,9,  -999.0,  27.7240,2
49NZ200107_1,       P17N,      57,          1,          8,          8,3,20010815,       0705,    44.5995,  -140.6373,       4422,  2842.6,   1.5952,2,  34.6525,2,  34.6514,3,   105.10,1,  102.64,2,  158.53,2,   39.84,2,    0.00,2,    2.77,2,-999.000,9,-999.000,9,-999.000,9,  -999.0,9,  -999.0,9, -999.000,  -999.00, -999.00,9, -999.00,  -999.0,9,  -999.0,  27.7392,2
49NZ200107_1,       P17N,      57,          1,          7,          7,2,20010815,       0705,    44.5995,  -140.6373,       4422,  3047.0,   1.5532,2,  34.6605,2,  34.6601,2,   113.47,1,  111.53,2,  157.57,2,   39.32,2,    0.00,2,    2.73,2,-999.000,9,-999.000,9,-999.000,9,  -999.0,9,  -999.0,9, -999.000,  -999.00, -999.00,9, -999.00,  -999.0,9,  -999.0,  27.7499,2
49NZ200107_1,       P17N,      57,          1,          6,          6,2,20010815,       0705,    44.5995,  -140.6373,       4422,  3302.8,   1.5171,2,  34.6686,2,  34.6683,2,   123.04,1,  120.69,2,  157.24,2,   38.67,2,    0.00,2,    2.70,2,-999.000,9,-999.000,9,-999.000,9,  -999.0,9,  -999.0,9, -999.000,  -999.00, -999.00,9, -999.00,  -999.0,9,  -999.0,  27.7606,2
49NZ200107_1,       P17N,      57,          1,          5,          5,2,20010815,       0705,    44.5995,  -140.6373,       4422,  3559.1,   1.4983,2,  34.6752,2,  34.6742,2,   130.09,1,  127.85,2,  157.70,2,   38.22,2,    0.00,2,    2.65,2,-999.000,9,-999.000,9,-999.000,9,  -999.0,9,  -999.0,9, -999.000,  -999.00, -999.00,9, -999.00,  -999.0,9,  -999.0,  27.7690,2
49NZ200107_1,       P17N,      57,          1,          4,          4,2,20010815,       0705,    44.5995,  -140.6373,       4422,  3815.6,   1.5005,2,  34.6792,2,  34.6792,2,   134.66,1,  131.93,2,  159.26,2,   37.96,2,    0.00,2,    2.63,2,-999.000,9,-999.000,9,-999.000,9,  -999.0,9,  -999.0,9, -999.000,  -999.00, -999.00,9, -999.00,  -999.0,9,  -999.0,  27.7739,2
49NZ200107_1,       P17N,      57,          1,          3,          3,2,20010815,       0705,    44.5995,  -140.6373,       4422,  4072.1,   1.5158,2,  34.6816,2,  34.6817,2,   137.53,1,  133.17,2,  161.91,2,   37.89,2,    0.01,2,    2.63,2,-999.000,9,-999.000,9,-999.000,9,  -999.0,9,  -999.0,9, -999.000,  -999.00, -999.00,9, -999.00,  -999.0,9,  -999.0,  27.7768,2
49NZ200107_1,       P17N,      57,          1,          2,          2,3,20010815,       0705,    44.5995,  -140.6373,       4422,  4329.1,   1.5378,2,  34.6834,2,  34.6830,2,   139.81,1,  134.73,2,  163.84,2,   37.87,2,    0.01,2,    2.59,2,-999.000,9,-999.000,9,-999.000,9,  -999.0,9,  -999.0,9, -999.000,  -999.00, -999.00,9, -999.00,  -999.0,9,  -999.0,  27.7787,2
49NZ200107_1,       P17N,      57,          1,          1,          1,2,20010815,       0705,    44.5995,  -140.6373,       4422,  4479.8,   1.5532,2,  34.6838,2,  34.6840,2,   140.92,1,  133.95,2,  164.67,2,   37.86,2,    0.01,2,    2.61,2,-999.000,9,-999.000,9,-999.000,9,  -999.0,9,  -999.0,9, -999.000,  -999.00, -999.00,9, -999.00,  -999.0,9,  -999.0,  27.7792,2