BOTTLE,20220817CCHSIOAMB
EXPOCODE,SECT_ID,STNNBR,CASTNO,SAMPNO,BTLNBR,BTLNBR_FLAG_W,DATE,TIME,LATITUDE,LONGITUDE,DEPTH,CTDPRS,CTDTMP,CTDTMP_FLAG_W,CTDSAL,CTDSAL_FLAG_W,SALNTY,SALNTY_FLAG_W,CTDOXY,CTDOXY_FLAG_W,OXYGEN,OXYGEN_FLAG_W,SILCAT,SILCAT_FLAG_W,NITRAT,NITRAT_FLAG_W,NITRIT,NITRIT_FLAG_W,PHSPHT,PHSPHT_FLAG_W,CFC-11,CFC-11_FLAG_W,CFC-12,CFC-12_FLAG_W,CFC113,CFC113_FLAG_W,TCARBN,TCARBN_FLAG_W,ALKALI,ALKALI_FLAG_W,PH_TOT,PH_TMP,DELC13,DELC13_FLAG_W,C13ERR,DELC14,DELC14_FLAG_W,C14ERR,THETA,THETA_FLAG_W
,,,,,,,,,,,METERS,DBAR,ITS-90,,PSS-78,,PSS-78,,UMOL/KG,,UMOL/KG,,UMOL/KG,,UMOL/KG,,UMOL/KG,,UMOL/KG,,PMOL/KG,,PMOL/KG,,PMOL/KG,,UMOL/KG,,UMOL/KG,,,DEG C,/MILLE,,/MILLE,/MILLE,,/MILLE,DEG C,
49NZ200107_1,       P17N,      52,          1,          0,        -99,9,20010814,       0604,    42.9657,  -138.0527,       3977,     4.5,-999.0000,9,-999.0000,9,  32.4359,2,  -999.00,9,  254.34,2,    2.36,2,    0.66,2,    0.02,2,    0.45,2,-999.000,1,-999.000,1,-999.000,1,  1956.8,2,  2184.3,2,    7.965,    25.00, -999.00,9, -999.00,  -999.0,9,  -999.0,-999.0000,9
49NZ200107_1,       P17N,      52,          1,         36,         36,2,20010814,       0604,    42.9657,  -138.0527,       3977,    10.5,  17.2015,2,  32.4327,2,  32.4470,2,   242.67,1,  265.94,2,    1.83,2,    0.77,2,    0.03,2,    0.43,2,-999.000,1,-999.000,1,-999.000,1,  1958.4,2,  2187.3,2,    7.961,    25.00,    2.13,2,    0.00,    31.1,2,     3.2,  23.4979,2
49NZ200107_1,       P17N,      52,          1,         35,         35,2,20010814,       0604,    42.9657,  -138.0527,       3977,    25.7,  15.1486,2,  32.4333,2,  32.4371,2,   266.52,1,  287.22,2,    1.69,2,    0.82,2,    0.03,2,    0.44,2,-999.000,1,-999.000,1,-999.000,1,  1959.4,2,  2188.1,2,    7.955,    25.00,    2.07,2,    0.00,    27.8,2,     3.4,  23.9626,2
49NZ200107_1,       P17N,      52,          1,         34,         34,3,20010814,       0604,    42.9657,  -138.0527,       3977,    51.1,  10.1124,2,  32.4963,2,  32.4952,2,   278.88,1,  291.41,2,    5.48,2,    4.91,2,    0.11,2,    0.76,2,-999.000,1,-999.000,1,-999.000,1,  1993.9,2,  2184.2,2,    7.879,    25.00,    1.68,2,    0.00,   -12.0,3,     3.3,  24.9797,2
49NZ200107_1,       P17N,      52,          1,         33,         33,2,20010814,       0604,    42.9657,  -138.0527,       3977,    76.7,   8.9984,2,  32.5162,2,  32.5123,2,   268.75,1,  281.30,2,    7.78,2,    7.94,2,    1.03,2,    0.90,2,-999.000,1,-999.000,1,-999.000,1,  2012.7,2,  2190.7,2,    7.836,    25.00,    1.45,2,    0.00,    15.1,3,     3.5,  25.1752,2
49NZ200107_1,       P17N,      52,          1,         32,         32,2,20010814,       0604,    42.9657,  -138.0527,       3977,    98.5,   8.1457,2,  32.5206,2,  32.5195,2,   267.21,1,  278.79,2,   10.18,2,   10.39,2,    0.04,2,    1.02,2,-999.000,1,-999.000,1,-999.000,1,  2022.0,2,  2180.1,6,    7.811,    25.00,    1.31,2,    0.00,    24.2,2,     3.1,  25.3073,2
49NZ200107_1,       P17N,      52,          1,         31,         31,2,20010814,       0604,    42.9657,  -138.0527,       3977,   151.9,   7.2575,2,  33.1224,2,  33.1361,2,   237.86,1,  250.21,2,   16.68,2,   15.55,2,    0.03,2,    1.24,2,-999.000,1,-999.000,1,-999.000,1,  2076.6,2,  2210.4,2,    7.739,    25.00,    0.77,2,    0.01,    26.1,2,     3.2,  25.9067,2
49NZ200107_1,       P17N,      52,          1,         30,         30,2,20010814,       0604,    42.9657,  -138.0527,       3977,   202.7,   7.7752,2,  33.7858,2,  33.7922,2,   201.99,1,  212.06,2,   23.38,2,   19.09,2,    0.02,2,    1.37,2,-999.000,1,-999.000,1,-999.000,1,  2121.2,6,  2245.7,2,    7.706,    25.00,    0.37,2,    0.01,    24.0,2,     3.3,  26.3560,2
49NZ200107_1,       P17N,      52,          1,         29,         29,2,20010814,       0604,    42.9657,  -138.0527,       3977,   252.4,   7.5087,2,  33.9461,2,  33.9464,2,   167.02,1,  176.31,2,   33.66,2,   23.97,2,    0.02,2,    1.66,2,-999.000,1,-999.000,1,-999.000,1,  2161.9,2,  2262.7,2,    7.640,    25.00,    0.10,2,    0.00,     9.1,2,     3.3,  26.5209,2
49NZ200107_1,       P17N,      52,          1,         28,         28,2,20010814,       0604,    42.9657,  -138.0527,       3977,   303.4,   6.7196,2,  33.9576,2,  33.9540,2,   135.93,1,  141.11,2,   44.72,2,   29.19,2,    0.01,2,    1.99,2,-999.000,1,-999.000,1,-999.000,1,  2198.5,2,  2275.2,6,    7.556,    25.00,   -0.24,2,    0.00,   -28.4,2,     2.9,  26.6393,2
49NZ200107_1,       P17N,      52,          1,         27,         27,2,20010814,       0604,    42.9657,  -138.0527,       3977,   354.0,   6.2763,2,  33.9765,2,  33.9783,2,    88.65,1,   91.59,2,   52.91,2,   34.65,2,    0.00,2,    2.40,2,-999.000,1,-999.000,1,-999.000,1,  2240.8,2,  2271.3,2,    7.445,    25.00,   -0.34,2,    0.00,   -40.6,2,     2.9,  26.7127,2
49NZ200107_1,       P17N,      52,          1,         26,         26,3,20010814,       0604,    42.9657,  -138.0527,       3977,   404.4,   5.7366,2,  33.9870,2,  33.9821,2,    82.24,1,   81.71,2,   60.48,2,   36.53,2,    0.00,2,    2.54,2,-999.000,1,-999.000,1,-999.000,1,  2255.5,6,  2276.8,2,    7.417,    25.00,   -0.36,2,    0.00,   -64.3,2,     2.9,  26.7890,2
49NZ200107_1,       P17N,      52,          1,         25,         25,2,20010814,       0604,    42.9657,  -138.0527,       3977,   505.4,   4.7261,2,  34.0334,2,  34.0334,2,    55.81,1,   53.86,2,   77.84,2,   40.55,2,    0.01,2,    2.82,2,-999.000,1,-999.000,1,-999.000,1,  2296.1,2,  2298.6,2,    7.356,    25.00,   -0.47,2,    0.00,  -110.4,2,     2.8,  26.9441,2
49NZ200107_1,       P17N,      52,          1,         24,         24,2,20010814,       0604,    42.9657,  -138.0527,       3977,   606.4,   4.3315,2,  34.1260,2,  34.1251,2,    31.57,1,   26.74,2,   91.75,2,   43.17,2,    0.00,2,    3.01,2,-999.000,1,-999.000,1,-999.000,1,  2327.3,2,  2320.4,6,    7.314,    25.00,   -0.59,2,    0.00,  -140.3,2,     2.7,  27.0611,2
49NZ200107_1,       P17N,      52,          1,         23,         23,2,20010814,       0604,    42.9657,  -138.0527,       3977,   707.1,   4.0049,2,  34.2195,2,  34.2249,3,    19.32,1,   12.40,2,  103.82,2,   44.53,2,    0.01,2,    3.15,2,-999.000,1,-999.000,1,-999.000,1,  2349.4,2,  2335.7,2,    7.289,    25.00,   -0.66,2,    0.00,  -174.9,2,     2.7,  27.1700,2
49NZ200107_1,       P17N,      52,          1,         22,         22,3,20010814,       0604,    42.9657,  -138.0527,       3977,   808.6,   3.7419,2,  34.2788,2,  34.2777,2,    15.87,1,    8.91,2,  112.33,2,   44.85,2,    0.00,2,    3.18,2,-999.000,1,-999.000,1,-999.000,1,  2363.6,6,  2344.5,2,    7.292,    25.00,   -0.68,2,    0.01,  -185.6,2,     4.3,  27.2444,2
49NZ200107_1,       P17N,      52,          1,         21,         21,3,20010814,       0604,    42.9657,  -138.0527,       3977,   910.0,   3.5385,2,  34.3476,2,  34.3463,2,    15.09,1,    7.49,2,  119.48,2,   45.08,2,    0.00,2,    3.20,2,-999.000,1,-999.000,1,-999.000,1,  2374.5,2,  2368.1,2,    7.302,    25.00, -999.00,5, -999.00,  -999.0,5,  -999.0,  27.3198,2
49NZ200107_1,       P17N,      52,          1,         20,         20,2,20010814,       0604,    42.9657,  -138.0527,       3977,  1007.6,   3.3608,2,  34.3989,2,  34.3978,2,    16.71,1,    9.13,2,  125.66,2,   45.18,2,    0.00,2,    3.22,2,-999.000,1,-999.000,1,-999.000,1,  2381.0,6,  2372.8,6,    7.312,    25.00,   -0.65,2,    0.01,  -209.3,2,     2.5,  27.3783,2
49NZ200107_1,       P17N,      52,          1,         19,         19,2,20010814,       0604,    42.9657,  -138.0527,       3977,  1113.1,   3.1385,2,  34.4317,2,  34.4314,2,    18.87,1,   11.45,2,  133.56,2,   45.23,2,    0.01,2,    3.19,2,-999.000,1,-999.000,1,-999.000,1,  2384.2,3,  2383.9,2,    7.311,    25.00,   -0.62,2,    0.00,  -222.0,2,     2.6,  27.4259,2
49NZ200107_1,       P17N,      52,          1,         18,         18,2,20010814,       0604,    42.9657,  -138.0527,       3977,  1213.9,   2.9350,2,  34.4633,2,  34.4638,2,    22.25,1,   14.57,2,  139.76,2,   45.04,2,    0.00,2,    3.18,2,-999.000,1,-999.000,1,-999.000,1,  2389.6,3,  2383.6,3,    7.324,    25.00,   -0.63,2,    0.00,  -228.1,2,     2.7,  27.4701,2
49NZ200107_1,       P17N,      52,          1,         17,         17,2,20010814,       0604,    42.9657,  -138.0527,       3977,  1315.2,   2.7503,2,  34.4886,2,  34.4888,2,    26.29,1,   19.03,2,  145.27,2,   45.05,2,   -0.01,2,    3.17,2,-999.000,1,-999.000,1,-999.000,1,  2393.2,2,  2388.6,2,    7.334,    25.00,   -0.63,2,    0.00,  -225.9,2,     2.7,  27.5072,2
49NZ200107_1,       P17N,      52,          1,         16,         16,2,20010814,       0604,    42.9657,  -138.0527,       3977,  1416.5,   2.5802,2,  34.5109,2,  34.5099,2,    31.10,1,   23.55,2,  148.46,2,   44.84,2,    0.00,2,    3.15,2,-999.000,1,-999.000,1,-999.000,1,  2393.0,2,  2401.2,2,    7.348,    25.00,   -0.57,2,    0.00,  -231.0,2,     2.6,  27.5402,2
49NZ200107_1,       P17N,      52,          1,         15,         15,2,20010814,       0604,    42.9657,  -138.0527,       3977,  1518.5,   2.4475,2,  34.5265,2,  34.5260,2,    35.45,1,   28.71,2,  152.49,2,   44.51,2,    0.00,2,    3.12,2,-999.000,1,-999.000,1,-999.000,1,  2392.6,2,  2399.4,3,    7.355,    25.00,   -0.60,2,    0.01,  -236.2,2,     2.9,  27.5643,2
49NZ200107_1,       P17N,      52,          1,         14,         14,2,20010814,       0604,    42.9657,  -138.0527,       3977,  1619.3,   2.2958,2,  34.5471,2,  34.5464,2,    42.43,1,   36.06,2,  155.67,2,   44.10,2,   -0.01,2,    3.08,2,-999.000,1,-999.000,1,-999.000,1,  2393.3,2,  2410.3,2,    7.371,    25.00,   -0.51,2,    0.00,  -238.5,2,     2.7,  27.5939,2
49NZ200107_1,       P17N,      52,          1,         13,         13,2,20010814,       0604,    42.9657,  -138.0527,       3977,  1721.5,   2.1621,2,  34.5660,2,  34.5661,2,    49.64,1,   43.47,2,  158.47,2,   43.65,2,   -0.01,2,    3.05,2,-999.000,1,-999.000,1,-999.000,1,  2392.9,2,  2413.5,2,    7.385,    25.00,   -0.49,2,    0.00,  -236.4,2,     2.9,  27.6203,2
49NZ200107_1,       P17N,      52,          1,         12,         12,2,20010814,       0604,    42.9657,  -138.0527,       3977,  1823.0,   2.0741,2,  34.5803,2,  34.5803,2,    55.75,1,   50.12,2,  160.88,2,   43.30,2,   -0.01,2,    3.02,2,-999.000,1,-999.000,1,-999.000,1,  2390.3,2,  2418.8,2,    7.398,    25.00,   -0.39,2,    0.01,  -246.9,2,     2.7,  27.6392,2
49NZ200107_1,       P17N,      52,          1,         11,         11,2,20010814,       0604,    42.9657,  -138.0527,       3977,  1924.8,   1.9720,2,  34.5967,2,  34.5965,2,    63.44,1,   58.87,2,  162.35,2,   42.60,2,    0.00,2,    2.94,2,-999.000,1,-999.000,1,-999.000,1,  2387.7,2,  2423.8,2,    7.419,    25.00,   -0.51,3,    0.00,  -240.5,2,     2.7,  27.6609,2
49NZ200107_1,       P17N,      52,          1,         10,         10,2,20010814,       0604,    42.9657,  -138.0527,       3977,  2026.5,   1.9218,2,  34.6055,2,  34.6053,2,    68.60,1,   63.51,2,  163.01,2,   42.32,2,   -0.01,2,    2.94,2,-999.000,1,-999.000,1,-999.000,1,  2384.4,2,  2419.2,2,    7.431,    25.00,   -0.37,2,    0.00,  -244.2,2,     2.6,  27.6724,2
49NZ200107_1,       P17N,      52,          1,          9,          9,2,20010814,       0604,    42.9657,  -138.0527,       3977,  2230.4,   1.8180,2,  34.6226,2,  34.6228,2,    79.00,1,   74.70,2,  165.15,2,   41.72,2,    0.01,2,    2.90,2,-999.000,1,-999.000,1,-999.000,1,  2380.3,2,  2427.9,2,    7.444,    25.00,   -0.30,2,    0.00,  -247.6,2,     2.6,  27.6951,2
49NZ200107_1,       P17N,      52,          1,          8,          8,2,20010814,       0604,    42.9657,  -138.0527,       3977,  2434.1,   1.7432,2,  34.6343,2,  34.6343,2,    87.95,1,   84.39,2,  164.77,2,   41.10,2,    0.01,2,    2.86,2,-999.000,9,-999.000,9,-999.000,9,  -999.0,9,  -999.0,9, -999.000,  -999.00, -999.00,9, -999.00,  -999.0,9,  -999.0,  27.7113,2
49NZ200107_1,       P17N,      52,          1,          7,          7,2,20010814,       0604,    42.9657,  -138.0527,       3977,  2637.7,   1.6658,2,  34.6449,2,  34.6449,2,    97.24,1,   93.83,2,  163.43,2,   40.46,2,    0.01,2,    2.81,2,-999.000,1,-999.000,1,-999.000,1,  2368.7,6,  2419.0,2,    7.486,    25.00,   -0.28,2,    0.00,  -245.0,2,     2.6,  27.7267,2
49NZ200107_1,       P17N,      52,          1,          6,          6,2,20010814,       0604,    42.9657,  -138.0527,       3977,  2842.6,   1.5937,2,  34.6550,2,  34.6550,2,   107.67,1,  105.15,2,  161.93,2,   39.79,2,    0.01,2,    2.74,2,-999.000,9,-999.000,9,-999.000,9,  -999.0,9,  -999.0,9, -999.000,  -999.00, -999.00,9, -999.00,  -999.0,9,  -999.0,  27.7412,2
49NZ200107_1,       P17N,      52,          1,          5,          5,2,20010814,       0604,    42.9657,  -138.0527,       3977,  3046.6,   1.5651,2,  34.6604,2,  34.6603,2,   113.69,1,  110.90,2,  161.90,2,   39.54,2,    0.01,2,    2.73,2,-999.000,1,-999.000,1,-999.000,1,  2358.2,2,  2425.3,2,    7.528,    25.00,   -0.10,2,    0.00,  -238.8,2,     2.8,  27.7490,2
49NZ200107_1,       P17N,      52,          1,          4,          4,2,20010814,       0604,    42.9657,  -138.0527,       3977,  3302.3,   1.5308,2,  34.6677,2,  34.6676,2,   122.18,1,  118.93,2,  160.72,2,   38.92,2,    0.00,2,    2.68,2,-999.000,9,-999.000,9,-999.000,9,  -999.0,9,  -999.0,9, -999.000,  -999.00, -999.00,9, -999.00,  -999.0,9,  -999.0,  27.7589,2
49NZ200107_1,       P17N,      52,          1,          3,          3,2,20010814,       0604,    42.9657,  -138.0527,       3977,  3558.9,   1.5093,2,  34.6743,2,  34.6743,2,   129.48,1,  126.39,2,  161.67,2,   38.42,2,    0.01,2,    2.65,2,-999.000,1,-999.000,1,-999.000,1,  2350.3,2,  2434.9,2,    7.554,    25.00,   -0.03,2,    0.00,  -227.0,4,     3.2,  27.7676,2
49NZ200107_1,       P17N,      52,          1,          2,          2,2,20010814,       0604,    42.9657,  -138.0527,       3977,  3815.1,   1.5176,2,  34.6775,2,  34.6776,2,   133.25,1,  128.72,2,  163.57,2,   38.30,2,    0.01,2,    2.62,2,-999.000,9,-999.000,9,-999.000,9,  -999.0,9,  -999.0,9, -999.000,  -999.00, -999.00,9, -999.00,  -999.0,9,  -999.0,  27.7714,2
49NZ200107_1,       P17N,      52,          1,          1,          1,2,20010814,       0604,    42.9657,  -138.0527,       3977,  4065.7,   1.5380,2,  34.6789,2,  34.6789,2,   136.08,1,  126.80,2,  165.23,2,   38.19,2,    0.00,2,    2.63,2,-999.000,1,-999.000,1,-999.000,1,  2349.5,2,  2439.1,2,    7.566,    25.00,   -0.01,2,    0.00,  -231.7,2,     2.6,  27.7730,2