BOTTLE,20220817CCHSIOAMB
EXPOCODE,SECT_ID,STNNBR,CASTNO,SAMPNO,BTLNBR,BTLNBR_FLAG_W,DATE,TIME,LATITUDE,LONGITUDE,DEPTH,CTDPRS,CTDTMP,CTDTMP_FLAG_W,CTDSAL,CTDSAL_FLAG_W,SALNTY,SALNTY_FLAG_W,CTDOXY,CTDOXY_FLAG_W,OXYGEN,OXYGEN_FLAG_W,SILCAT,SILCAT_FLAG_W,NITRAT,NITRAT_FLAG_W,NITRIT,NITRIT_FLAG_W,PHSPHT,PHSPHT_FLAG_W,CFC-11,CFC-11_FLAG_W,CFC-12,CFC-12_FLAG_W,CFC113,CFC113_FLAG_W,TCARBN,TCARBN_FLAG_W,ALKALI,ALKALI_FLAG_W,PH_TOT,PH_TMP,DELC13,DELC13_FLAG_W,C13ERR,DELC14,DELC14_FLAG_W,C14ERR,THETA,THETA_FLAG_W
,,,,,,,,,,,METERS,DBAR,ITS-90,,PSS-78,,PSS-78,,UMOL/KG,,UMOL/KG,,UMOL/KG,,UMOL/KG,,UMOL/KG,,UMOL/KG,,PMOL/KG,,PMOL/KG,,PMOL/KG,,UMOL/KG,,UMOL/KG,,,DEG C,/MILLE,,/MILLE,/MILLE,,/MILLE,DEG C,
49NZ200107_1,       P17N,      65,          1,          0,        -99,9,20010817,       1701,    47.2268,  -145.0072,       4727,     4.5,-999.0000,9,-999.0000,9,  32.4104,2,  -999.00,9,  274.30,2,   13.42,2,    6.70,2,    0.09,2,    0.81,2,-999.000,9,-999.000,9,-999.000,9,  -999.0,9,  -999.0,9, -999.000,  -999.00, -999.00,9, -999.00,  -999.0,9,  -999.0,-999.0000,9
49NZ200107_1,       P17N,      65,          1,         36,         36,2,20010817,       1701,    47.2268,  -145.0072,       4727,    11.0,  13.2317,2,  32.4165,2,  32.4121,2,   262.19,1,  274.97,2,   14.78,2,    6.67,2,    0.09,2,    0.80,2,-999.000,9,-999.000,9,-999.000,9,  -999.0,9,  -999.0,9, -999.000,  -999.00, -999.00,9, -999.00,  -999.0,9,  -999.0,  24.3467,2
49NZ200107_1,       P17N,      65,          1,         35,         35,2,20010817,       1701,    47.2268,  -145.0072,       4727,    25.8,  10.9537,2,  32.4859,2,  32.4679,2,   285.03,1,  303.77,2,   14.90,2,    8.58,2,    0.09,2,    0.96,2,-999.000,9,-999.000,9,-999.000,9,  -999.0,9,  -999.0,9, -999.000,  -999.00, -999.00,9, -999.00,  -999.0,9,  -999.0,  24.8270,2
49NZ200107_1,       P17N,      65,          1,         34,         34,2,20010817,       1701,    47.2268,  -145.0072,       4727,    51.4,   7.0609,2,  32.5078,2,  32.5080,2,   282.22,1,  301.68,2,   17.10,2,   11.82,2,    0.20,2,    1.23,2,-999.000,9,-999.000,9,-999.000,9,  -999.0,9,  -999.0,9, -999.000,  -999.00, -999.00,9, -999.00,  -999.0,9,  -999.0,  25.4485,2
49NZ200107_1,       P17N,      65,          1,         33,         33,2,20010817,       1701,    47.2268,  -145.0072,       4727,    76.5,   6.1071,2,  32.5448,2,  32.5408,2,   277.37,1,  296.62,2,   18.42,2,   14.69,2,    0.03,2,    1.33,2,-999.000,9,-999.000,9,-999.000,9,  -999.0,9,  -999.0,9, -999.000,  -999.00, -999.00,9, -999.00,  -999.0,9,  -999.0,  25.6005,2
49NZ200107_1,       P17N,      65,          1,         32,         32,2,20010817,       1701,    47.2268,  -145.0072,       4727,   101.8,   5.7054,2,  32.5807,2,  32.5842,2,   275.06,1,  296.02,2,   20.38,2,   15.94,2,    0.01,2,    1.39,2,-999.000,9,-999.000,9,-999.000,9,  -999.0,9,  -999.0,9, -999.000,  -999.00, -999.00,9, -999.00,  -999.0,9,  -999.0,  25.6777,2
49NZ200107_1,       P17N,      65,          1,         31,         31,2,20010817,       1701,    47.2268,  -145.0072,       4727,   152.1,   4.9404,2,  33.1195,2,  33.1427,2,   217.78,1,  241.04,2,   33.43,2,   23.29,2,    0.01,2,    1.77,2,-999.000,9,-999.000,9,-999.000,9,  -999.0,9,  -999.0,9, -999.000,  -999.00, -999.00,9, -999.00,  -999.0,9,  -999.0,  26.1924,2
49NZ200107_1,       P17N,      65,          1,         30,         30,3,20010817,       1701,    47.2268,  -145.0072,       4727,   202.5,   5.2753,2,  33.7282,2,  33.7291,2,   147.13,1,  158.38,2,   49.26,2,   30.57,2,    0.01,2,    2.16,2,-999.000,9,-999.000,9,-999.000,9,  -999.0,9,  -999.0,9, -999.000,  -999.00, -999.00,9, -999.00,  -999.0,9,  -999.0,  26.6372,2
49NZ200107_1,       P17N,      65,          1,         29,         29,3,20010817,       1701,    47.2268,  -145.0072,       4727,   253.3,   4.9241,2,  33.8421,2,  33.8369,2,   111.14,1,  116.20,2,   61.95,2,   35.28,2,    0.00,2,    2.46,2,-999.000,9,-999.000,9,-999.000,9,  -999.0,9,  -999.0,9, -999.000,  -999.00, -999.00,9, -999.00,  -999.0,9,  -999.0,  26.7681,2
49NZ200107_1,       P17N,      65,          1,         28,         28,2,20010817,       1701,    47.2268,  -145.0072,       4727,   303.9,   4.5972,2,  33.8919,2,  33.8893,2,    88.29,1,   90.71,2,   69.92,2,   38.29,2,    0.00,2,    2.63,2,-999.000,9,-999.000,9,-999.000,9,  -999.0,9,  -999.0,9, -999.000,  -999.00, -999.00,9, -999.00,  -999.0,9,  -999.0,  26.8441,2
49NZ200107_1,       P17N,      65,          1,         27,         27,2,20010817,       1701,    47.2268,  -145.0072,       4727,   354.4,   4.4422,2,  33.9487,2,  33.9492,2,    71.27,1,   71.25,2,   77.47,2,   40.14,2,    0.01,2,    2.77,2,-999.000,9,-999.000,9,-999.000,9,  -999.0,9,  -999.0,9, -999.000,  -999.00, -999.00,9, -999.00,  -999.0,9,  -999.0,  26.9063,2
49NZ200107_1,       P17N,      65,          1,         26,         26,2,20010817,       1701,    47.2268,  -145.0072,       4727,   404.6,   4.3269,2,  34.0093,2,  34.0101,2,    60.96,1,   59.28,2,   84.63,2,   40.97,2,    0.00,2,    2.86,2,-999.000,9,-999.000,9,-999.000,9,  -999.0,9,  -999.0,9, -999.000,  -999.00, -999.00,9, -999.00,  -999.0,9,  -999.0,  26.9671,2
49NZ200107_1,       P17N,      65,          1,         25,         25,2,20010817,       1701,    47.2268,  -145.0072,       4727,   506.8,   4.0569,2,  34.1084,2,  34.1061,2,    42.05,1,   38.74,2,   96.84,2,   42.71,2,   -0.01,2,    2.96,2,-999.000,9,-999.000,9,-999.000,9,  -999.0,9,  -999.0,9, -999.000,  -999.00, -999.00,9, -999.00,  -999.0,9,  -999.0,  27.0748,2
49NZ200107_1,       P17N,      65,          1,         24,         24,2,20010817,       1701,    47.2268,  -145.0072,       4727,   607.2,   3.8085,2,  34.1747,2,  34.1746,2,    31.25,1,   26.57,2,  107.04,2,   43.85,2,   -0.01,2,    3.06,2,-999.000,9,-999.000,9,-999.000,9,  -999.0,9,  -999.0,9, -999.000,  -999.00, -999.00,9, -999.00,  -999.0,9,  -999.0,  27.1534,2
49NZ200107_1,       P17N,      65,          1,         23,         23,2,20010817,       1701,    47.2268,  -145.0072,       4727,   708.0,   3.5466,2,  34.2381,2,  34.2384,2,    25.13,1,   19.65,2,  116.98,2,   44.35,2,   -0.01,2,    3.11,2,-999.000,9,-999.000,9,-999.000,9,  -999.0,9,  -999.0,9, -999.000,  -999.00, -999.00,9, -999.00,  -999.0,9,  -999.0,  27.2302,2
49NZ200107_1,       P17N,      65,          1,         22,         22,2,20010817,       1701,    47.2268,  -145.0072,       4727,   809.6,   3.3238,2,  34.2930,2,  34.2947,2,    20.92,1,   14.97,2,  124.68,2,   44.87,2,    0.00,2,    3.13,2,-999.000,9,-999.000,9,-999.000,9,  -999.0,9,  -999.0,9, -999.000,  -999.00, -999.00,9, -999.00,  -999.0,9,  -999.0,  27.2959,2
49NZ200107_1,       P17N,      65,          1,         21,         21,2,20010817,       1701,    47.2268,  -145.0072,       4727,   910.6,   3.1328,2,  34.3406,2,  34.3433,2,    18.93,1,   12.54,2,  132.24,2,   45.21,2,   -0.01,2,    3.18,2,-999.000,9,-999.000,9,-999.000,9,  -999.0,9,  -999.0,9, -999.000,  -999.00, -999.00,9, -999.00,  -999.0,9,  -999.0,  27.3522,2
49NZ200107_1,       P17N,      65,          1,         20,         20,3,20010817,       1701,    47.2268,  -145.0072,       4727,  1011.7,   2.9406,2,  34.3832,2,  34.3839,2,    18.77,1,   12.25,2,  137.49,2,   45.35,2,   -0.01,2,    3.20,2,-999.000,9,-999.000,9,-999.000,9,  -999.0,9,  -999.0,9, -999.000,  -999.00, -999.00,9, -999.00,  -999.0,9,  -999.0,  27.4042,2
49NZ200107_1,       P17N,      65,          1,         19,         19,3,20010817,       1701,    47.2268,  -145.0072,       4727,  1113.2,   2.7791,2,  34.4208,2,  34.4195,2,    19.15,1,   12.45,2,  142.09,2,   45.40,2,    0.00,2,    3.17,2,-999.000,9,-999.000,9,-999.000,9,  -999.0,9,  -999.0,9, -999.000,  -999.00, -999.00,9, -999.00,  -999.0,9,  -999.0,  27.4491,2
49NZ200107_1,       P17N,      65,          1,         18,         18,2,20010817,       1701,    47.2268,  -145.0072,       4727,  1214.7,   2.6171,2,  34.4480,2,  34.4465,2,    21.50,1,   14.21,2,  147.28,2,   45.34,2,   -0.01,2,    3.17,2,-999.000,9,-999.000,9,-999.000,9,  -999.0,9,  -999.0,9, -999.000,  -999.00, -999.00,9, -999.00,  -999.0,9,  -999.0,  27.4854,2
49NZ200107_1,       P17N,      65,          1,         17,         17,2,20010817,       1701,    47.2268,  -145.0072,       4727,  1315.7,   2.4925,2,  34.4719,2,  34.4730,2,    23.55,1,   16.45,2,  151.09,2,   45.27,2,    0.00,2,    3.17,2,-999.000,9,-999.000,9,-999.000,9,  -999.0,9,  -999.0,9, -999.000,  -999.00, -999.00,9, -999.00,  -999.0,9,  -999.0,  27.5157,2
49NZ200107_1,       P17N,      65,          1,         16,         16,2,20010817,       1701,    47.2268,  -145.0072,       4727,  1417.5,   2.3894,2,  34.4936,2,  34.4936,2,    26.85,1,   20.68,2,  153.72,2,   45.26,2,   -0.01,2,    3.15,2,-999.000,9,-999.000,9,-999.000,9,  -999.0,9,  -999.0,9, -999.000,  -999.00, -999.00,9, -999.00,  -999.0,9,  -999.0,  27.5421,2
49NZ200107_1,       P17N,      65,          1,         15,         15,2,20010817,       1701,    47.2268,  -145.0072,       4727,  1620.8,   2.2055,2,  34.5330,2,  34.5329,2,    35.35,1,   29.34,2,  158.47,2,   44.76,2,   -0.01,2,    3.12,2,-999.000,9,-999.000,9,-999.000,9,  -999.0,9,  -999.0,9, -999.000,  -999.00, -999.00,9, -999.00,  -999.0,9,  -999.0,  27.5898,2
49NZ200107_1,       P17N,      65,          1,         14,         14,2,20010817,       1701,    47.2268,  -145.0072,       4727,  1823.8,   2.0376,2,  34.5662,2,  34.5653,2,    48.38,1,   42.93,2,  160.74,2,   43.82,2,   -0.01,2,    3.07,2,-999.000,9,-999.000,9,-999.000,9,  -999.0,9,  -999.0,9, -999.000,  -999.00, -999.00,9, -999.00,  -999.0,9,  -999.0,  27.6308,2
49NZ200107_1,       P17N,      65,          1,         13,         13,2,20010817,       1701,    47.2268,  -145.0072,       4727,  2027.4,   1.9180,2,  34.5905,2,  34.5907,2,    60.42,1,   56.24,2,  162.47,2,   42.98,2,   -0.01,2,    3.00,2,-999.000,9,-999.000,9,-999.000,9,  -999.0,9,  -999.0,9, -999.000,  -999.00, -999.00,9, -999.00,  -999.0,9,  -999.0,  27.6606,2
49NZ200107_1,       P17N,      65,          1,         12,         12,2,20010817,       1701,    47.2268,  -145.0072,       4727,  2231.2,   1.8115,2,  34.6110,2,  34.6110,2,    72.15,1,   68.93,2,  162.87,2,   42.28,2,   -0.01,2,    2.94,2,-999.000,9,-999.000,9,-999.000,9,  -999.0,9,  -999.0,9, -999.000,  -999.00, -999.00,9, -999.00,  -999.0,9,  -999.0,  27.6863,2
49NZ200107_1,       P17N,      65,          1,         11,         11,2,20010817,       1701,    47.2268,  -145.0072,       4727,  2434.8,   1.7271,2,  34.6263,2,  34.6263,2,    83.48,1,   80.69,2,  160.87,2,   41.39,2,   -0.01,2,    2.85,2,-999.000,9,-999.000,9,-999.000,9,  -999.0,9,  -999.0,9, -999.000,  -999.00, -999.00,9, -999.00,  -999.0,9,  -999.0,  27.7060,2
49NZ200107_1,       P17N,      65,          1,         10,         10,2,20010817,       1701,    47.2268,  -145.0072,       4727,  2639.6,   1.6525,2,  34.6400,2,  34.6396,2,    94.65,1,   92.99,2,  160.15,2,   40.60,2,   -0.01,2,    2.81,2,-999.000,9,-999.000,9,-999.000,9,  -999.0,9,  -999.0,9, -999.000,  -999.00, -999.00,9, -999.00,  -999.0,9,  -999.0,  27.7237,2
49NZ200107_1,       P17N,      65,          1,          9,          9,2,20010817,       1701,    47.2268,  -145.0072,       4727,  2843.4,   1.5915,2,  34.6515,2,  34.6515,2,   105.18,1,  104.06,2,  159.33,2,   39.87,2,   -0.01,2,    2.77,2,-999.000,9,-999.000,9,-999.000,9,  -999.0,9,  -999.0,9, -999.000,  -999.00, -999.00,9, -999.00,  -999.0,9,  -999.0,  27.7386,2
49NZ200107_1,       P17N,      65,          1,          8,          8,2,20010817,       1701,    47.2268,  -145.0072,       4727,  3047.9,   1.5483,2,  34.6602,2,  34.6603,2,   114.22,1,  113.69,2,  158.69,2,   39.21,2,   -0.01,2,    2.73,2,-999.000,9,-999.000,9,-999.000,9,  -999.0,9,  -999.0,9, -999.000,  -999.00, -999.00,9, -999.00,  -999.0,9,  -999.0,  27.7500,2
49NZ200107_1,       P17N,      65,          1,          7,          7,2,20010817,       1701,    47.2268,  -145.0072,       4727,  3303.9,   1.5111,2,  34.6687,2,  34.6678,2,   123.68,1,  123.12,2,  157.47,2,   38.61,2,   -0.01,2,    2.67,2,-999.000,9,-999.000,9,-999.000,9,  -999.0,9,  -999.0,9, -999.000,  -999.00, -999.00,9, -999.00,  -999.0,9,  -999.0,  27.7611,2
49NZ200107_1,       P17N,      65,          1,          6,          6,2,20010817,       1701,    47.2268,  -145.0072,       4727,  3560.0,   1.4905,2,  34.6750,2,  34.6748,2,   131.59,1,  130.49,2,  156.98,2,   38.17,2,   -0.01,2,    2.64,2,-999.000,9,-999.000,9,-999.000,9,  -999.0,9,  -999.0,9, -999.000,  -999.00, -999.00,9, -999.00,  -999.0,9,  -999.0,  27.7694,2
49NZ200107_1,       P17N,      65,          1,          5,          5,2,20010817,       1701,    47.2268,  -145.0072,       4727,  3816.6,   1.4890,2,  34.6789,2,  34.6789,2,   137.13,1,  135.30,3,  157.77,2,   37.83,2,   -0.01,2,    2.61,2,-999.000,9,-999.000,9,-999.000,9,  -999.0,9,  -999.0,9, -999.000,  -999.00, -999.00,9, -999.00,  -999.0,9,  -999.0,  27.7745,2
49NZ200107_1,       P17N,      65,          1,          4,          4,2,20010817,       1701,    47.2268,  -145.0072,       4727,  4073.1,   1.4981,2,  34.6820,2,  34.6823,2,   140.93,1,  137.27,2,  159.06,2,   37.65,2,   -0.01,2,    2.60,2,-999.000,9,-999.000,9,-999.000,9,  -999.0,9,  -999.0,9, -999.000,  -999.00, -999.00,9, -999.00,  -999.0,9,  -999.0,  27.7783,2
49NZ200107_1,       P17N,      65,          1,          3,          3,2,20010817,       1701,    47.2268,  -145.0072,       4727,  4330.2,   1.5189,2,  34.6838,2,  34.6842,2,   143.30,1,  138.93,2,  160.67,2,   37.69,2,   -0.01,2,    2.59,2,-999.000,9,-999.000,9,-999.000,9,  -999.0,9,  -999.0,9, -999.000,  -999.00, -999.00,9, -999.00,  -999.0,9,  -999.0,  27.7803,2
49NZ200107_1,       P17N,      65,          1,          2,          2,2,20010817,       1701,    47.2268,  -145.0072,       4727,  4587.7,   1.5428,2,  34.6850,2,  34.6850,2,   145.79,1,  139.24,2,  161.32,2,   37.60,2,   -0.01,2,    2.56,2,-999.000,9,-999.000,9,-999.000,9,  -999.0,9,  -999.0,9, -999.000,  -999.00, -999.00,9, -999.00,  -999.0,9,  -999.0,  27.7817,2
49NZ200107_1,       P17N,      65,          1,          1,          1,2,20010817,       1701,    47.2268,  -145.0072,       4727,  4796.9,   1.5628,2,  34.6861,2,  34.6864,2,   148.33,1,  140.47,2,  162.42,2,   37.55,2,    0.00,2,    2.58,2,-999.000,9,-999.000,9,-999.000,9,  -999.0,9,  -999.0,9, -999.000,  -999.00, -999.00,9, -999.00,  -999.0,9,  -999.0,  27.7829,2