BOTTLE,20220817CCHSIOAMB
EXPOCODE,SECT_ID,STNNBR,CASTNO,SAMPNO,BTLNBR,BTLNBR_FLAG_W,DATE,TIME,LATITUDE,LONGITUDE,DEPTH,CTDPRS,CTDTMP,CTDTMP_FLAG_W,CTDSAL,CTDSAL_FLAG_W,SALNTY,SALNTY_FLAG_W,CTDOXY,CTDOXY_FLAG_W,OXYGEN,OXYGEN_FLAG_W,SILCAT,SILCAT_FLAG_W,NITRAT,NITRAT_FLAG_W,NITRIT,NITRIT_FLAG_W,PHSPHT,PHSPHT_FLAG_W,CFC-11,CFC-11_FLAG_W,CFC-12,CFC-12_FLAG_W,CFC113,CFC113_FLAG_W,TCARBN,TCARBN_FLAG_W,ALKALI,ALKALI_FLAG_W,PH_TOT,PH_TMP,DELC13,DELC13_FLAG_W,C13ERR,DELC14,DELC14_FLAG_W,C14ERR,THETA,THETA_FLAG_W
,,,,,,,,,,,METERS,DBAR,ITS-90,,PSS-78,,PSS-78,,UMOL/KG,,UMOL/KG,,UMOL/KG,,UMOL/KG,,UMOL/KG,,UMOL/KG,,PMOL/KG,,PMOL/KG,,PMOL/KG,,UMOL/KG,,UMOL/KG,,,DEG C,/MILLE,,/MILLE,/MILLE,,/MILLE,DEG C,
49NZ200107_1,       P17C,      18,          1,          0,        -99,9,20010808,       1409,    34.0693,  -134.9977,       5091,     4.5,-999.0000,9,-999.0000,9,  33.4931,2,  -999.00,9,  234.38,2,    2.61,2,    0.18,2,    0.00,2,    0.25,2,-999.000,1,-999.000,1,-999.000,1,  1993.1,2,  2230.6,2,    7.975,    25.00, -999.00,9, -999.00,  -999.0,9,  -999.0,-999.0000,9
49NZ200107_1,       P17C,      18,          1,         36,         36,2,20010808,       1409,    34.0693,  -134.9977,       5091,    11.0,  20.1403,2,  33.4861,2,  33.4861,2,   224.03,1,  234.65,2,    2.39,2,    0.10,2,   -0.01,2,    0.20,2,-999.000,1,-999.000,1,-999.000,1,  1992.7,2,  2231.1,2,    7.975,    25.00, -999.00,9, -999.00,  -999.0,9,  -999.0,  23.5712,2
49NZ200107_1,       P17C,      18,          1,         35,         35,2,20010808,       1409,    34.0693,  -134.9977,       5091,    25.4,  19.8677,2,  33.4641,2,  33.4730,2,   226.16,1,  237.04,2,    2.24,2,    0.08,2,   -0.01,2,    0.20,2,-999.000,1,-999.000,1,-999.000,1,  1993.5,2,  -999.0,5,    7.977,    25.00, -999.00,9, -999.00,  -999.0,9,  -999.0,  23.6263,2
49NZ200107_1,       P17C,      18,          1,         34,         34,2,20010808,       1409,    34.0693,  -134.9977,       5091,    51.6,  14.8782,2,  33.4404,2,  33.4629,2,   255.89,1,  264.20,2,    2.39,2,    0.13,2,    0.00,2,    0.23,2,-999.000,1,-999.000,1,-999.000,1,  2000.6,2,  2219.9,2,    7.957,    25.00, -999.00,9, -999.00,  -999.0,9,  -999.0,  24.7977,2
49NZ200107_1,       P17C,      18,          1,         33,         33,2,20010808,       1409,    34.0693,  -134.9977,       5091,    76.6,  14.5569,2,  33.4848,2,  33.5046,2,   248.13,1,  256.77,2,    2.37,2,    0.09,2,   -0.01,2,    0.24,2,-999.000,1,-999.000,1,-999.000,1,  2006.8,2,  2231.0,2,    7.927,    25.00, -999.00,9, -999.00,  -999.0,9,  -999.0,  24.9016,2
49NZ200107_1,       P17C,      18,          1,         32,         32,2,20010808,       1409,    34.0693,  -134.9977,       5091,   102.2,  14.3550,2,  33.5416,2,  33.5473,2,   240.81,1,  250.27,2,    2.47,2,    0.10,2,    0.02,2,    0.25,2,-999.000,1,-999.000,1,-999.000,1,  2012.7,2,  2227.3,6,    7.919,    25.00, -999.00,9, -999.00,  -999.0,9,  -999.0,  24.9889,2
49NZ200107_1,       P17C,      18,          1,         31,         31,2,20010808,       1409,    34.0693,  -134.9977,       5091,   151.5,  10.6908,2,  33.4348,2,  33.5041,2,   205.57,1,  202.07,2,   12.17,2,   13.10,2,    0.01,2,    1.07,2,-999.000,1,-999.000,1,-999.000,1,  2090.6,2,  2219.3,2,    7.722,    25.00, -999.00,9, -999.00,  -999.0,9,  -999.0,  25.6145,2
49NZ200107_1,       P17C,      18,          1,         30,         30,2,20010808,       1409,    34.0693,  -134.9977,       5091,   202.7,   9.4379,2,  33.8859,2,  33.8996,2,   108.83,1,  108.65,2,   28.15,2,   28.02,2,    0.00,2,    2.02,2,-999.000,1,-999.000,1,-999.000,1,  2195.0,6,  2248.5,2,    7.496,    25.00, -999.00,9, -999.00,  -999.0,9,  -999.0,  26.1790,2
49NZ200107_1,       P17C,      18,          1,         29,         29,2,20010808,       1409,    34.0693,  -134.9977,       5091,   253.1,   8.9939,2,  33.9833,2,  33.9923,2,    91.18,1,   89.74,2,   33.64,2,   30.97,2,   -0.01,2,    2.22,2,-999.000,1,-999.000,1,-999.000,1,  2217.9,2,  2253.7,2,    7.449,    25.00, -999.00,9, -999.00,  -999.0,9,  -999.0,  26.3273,2
49NZ200107_1,       P17C,      18,          1,         28,         28,2,20010808,       1409,    34.0693,  -134.9977,       5091,   303.7,   8.5031,2,  34.0280,2,  34.0303,2,    77.19,1,   77.09,2,   37.10,2,   32.34,2,    0.00,2,    2.29,2,-999.000,1,-999.000,1,-999.000,1,  2227.6,2,  2253.7,6,    7.427,    25.00, -999.00,9, -999.00,  -999.0,9,  -999.0,  26.4394,2
49NZ200107_1,       P17C,      18,          1,         27,         27,2,20010808,       1409,    34.0693,  -134.9977,       5091,   353.3,   8.0387,2,  34.0581,2,  34.0560,2,    71.39,1,   71.82,2,   40.03,2,   33.04,2,    0.00,2,    2.36,2,-999.000,1,-999.000,1,-999.000,1,  2235.2,2,  2266.2,2,    7.425,    25.00, -999.00,9, -999.00,  -999.0,9,  -999.0,  26.5337,2
49NZ200107_1,       P17C,      18,          1,         26,         26,2,20010808,       1409,    34.0693,  -134.9977,       5091,   404.5,   7.6071,2,  34.0798,2,  34.0789,2,    66.81,1,   67.56,2,   44.00,2,   33.80,2,   -0.01,2,    2.43,2,-999.000,1,-999.000,1,-999.000,1,  2243.7,6,  2269.9,2,    7.422,    25.00, -999.00,9, -999.00,  -999.0,9,  -999.0,  26.6143,2
49NZ200107_1,       P17C,      18,          1,         25,         25,2,20010808,       1409,    34.0693,  -134.9977,       5091,   505.0,   6.8742,2,  34.1216,2,  34.1196,2,    52.10,1,   51.11,2,   53.27,2,   36.22,2,    0.00,2,    2.63,2,-999.000,1,-999.000,1,-999.000,1,  2267.5,2,  2277.8,2,    7.382,    25.00, -999.00,9, -999.00,  -999.0,9,  -999.0,  26.7504,2
49NZ200107_1,       P17C,      18,          1,         24,         24,3,20010808,       1409,    34.0693,  -134.9977,       5091,   606.3,   6.0436,2,  34.1723,2,  34.1710,2,    33.23,1,   29.92,2,   66.78,2,   39.51,2,    0.00,2,    2.89,2,-999.000,1,-999.000,1,-999.000,1,  2296.4,2,  2296.9,6,    7.341,    25.00, -999.00,9, -999.00,  -999.0,9,  -999.0,  26.8998,2
49NZ200107_1,       P17C,      18,          1,         23,         23,3,20010808,       1409,    34.0693,  -134.9977,       5091,   707.0,   5.3056,2,  34.2386,2,  34.2371,2,    21.06,1,   16.72,2,   80.76,2,   41.82,2,    0.00,2,    3.06,2,-999.000,1,-999.000,1,-999.000,1,  2322.6,2,  2312.2,2,    7.324,    25.00, -999.00,9, -999.00,  -999.0,9,  -999.0,  27.0429,2
49NZ200107_1,       P17C,      18,          1,         22,         22,2,20010808,       1409,    34.0693,  -134.9977,       5091,   808.0,   4.7781,2,  34.3110,2,  34.3098,2,    16.53,1,   10.84,2,   92.34,2,   43.30,2,   -0.01,2,    3.15,2,-999.000,1,-999.000,1,-999.000,1,  2345.0,2,  2326.8,2,    7.314,    25.00, -999.00,9, -999.00,  -999.0,9,  -999.0,  27.1614,2
49NZ200107_1,       P17C,      18,          1,         21,         21,3,20010808,       1409,    34.0693,  -134.9977,       5091,   908.9,   4.2940,2,  34.3680,2,  34.3675,2,    16.84,1,   11.11,2,  103.05,2,   44.26,2,    0.00,2,    3.20,2,-999.000,1,-999.000,1,-999.000,1,  2357.1,2,  2350.2,2,    7.320,    25.00, -999.00,9, -999.00,  -999.0,9,  -999.0,  27.2600,2
49NZ200107_1,       P17C,      18,          1,         20,         20,3,20010808,       1409,    34.0693,  -134.9977,       5091,  1010.0,   3.9626,2,  34.4149,2,  34.4162,2,    20.17,1,   13.84,2,  110.60,2,   44.59,2,    0.00,2,    3.21,2,-999.000,1,-999.000,1,-999.000,1,  2364.1,2,  2365.5,6,    7.337,    25.00, -999.00,9, -999.00,  -999.0,9,  -999.0,  27.3324,2
49NZ200107_1,       P17C,      18,          1,         19,         19,2,20010808,       1409,    34.0693,  -134.9977,       5091,  1212.6,   3.3880,2,  34.4884,2,  34.4877,2,    32.31,1,   26.85,2,  122.48,2,   44.29,2,    0.00,2,    3.13,2,-999.000,1,-999.000,1,-999.000,1,  2371.9,2,  -999.0,5,    7.357,    25.00, -999.00,9, -999.00,  -999.0,9,  -999.0,  27.4487,2
49NZ200107_1,       P17C,      18,          1,         18,         18,2,20010808,       1409,    34.0693,  -134.9977,       5091,  1415.4,   2.9617,2,  34.5322,2,  34.5321,2,    43.61,1,   38.65,2,  132.59,2,   43.84,2,    0.00,2,    3.10,2,-999.000,1,-999.000,1,-999.000,1,  2376.3,6,  2389.9,2,    7.383,    25.00, -999.00,9, -999.00,  -999.0,9,  -999.0,  27.5242,2
49NZ200107_1,       P17C,      18,          1,         17,         17,2,20010808,       1409,    34.0693,  -134.9977,       5091,  1618.3,   2.6418,2,  34.5630,2,  34.5626,2,    53.80,1,   49.99,2,  140.67,2,   43.30,2,    0.00,2,    3.07,2,-999.000,1,-999.000,1,-999.000,1,  2376.4,2,  2399.6,2,    7.406,    25.00, -999.00,9, -999.00,  -999.0,9,  -999.0,  27.5780,2
49NZ200107_1,       P17C,      18,          1,         16,         16,2,20010808,       1409,    34.0693,  -134.9977,       5091,  1821.1,   2.3006,2,  34.5892,2,  34.5896,2,    63.74,1,   60.88,2,  149.51,2,   42.65,2,    0.00,2,    3.01,2,-999.000,1,-999.000,1,-999.000,1,  2379.0,2,  2403.6,2,    7.425,    25.00, -999.00,9, -999.00,  -999.0,9,  -999.0,  27.6285,2
49NZ200107_1,       P17C,      18,          1,         15,         15,2,20010808,       1409,    34.0693,  -134.9977,       5091,  2024.2,   2.0591,2,  34.6089,2,  34.6089,2,    72.40,1,   71.08,2,  155.87,2,   42.09,2,    0.00,2,    2.97,2,-999.000,1,-999.000,1,-999.000,1,  2380.5,2,  2407.8,2,    7.439,    25.00, -999.00,9, -999.00,  -999.0,9,  -999.0,  27.6646,2
49NZ200107_1,       P17C,      18,          1,         14,         14,2,20010808,       1409,    34.0693,  -134.9977,       5091,  2228.1,   1.8927,2,  34.6240,2,  34.6241,2,    80.46,1,   79.96,2,  160.95,2,   41.50,2,    0.00,2,    2.93,2,-999.000,1,-999.000,1,-999.000,1,  2375.2,2,  2417.4,2,    7.452,    25.00, -999.00,9, -999.00,  -999.0,9,  -999.0,  27.6907,2
49NZ200107_1,       P17C,      18,          1,         13,         13,2,20010808,       1409,    34.0693,  -134.9977,       5091,  2431.8,   1.7828,2,  34.6363,2,  34.6366,2,    88.80,1,   88.25,2,  163.29,2,   40.90,2,    0.00,2,    2.89,2,-999.000,9,-999.000,9,-999.000,9,  -999.0,9,  -999.0,9, -999.000,  -999.00, -999.00,9, -999.00,  -999.0,9,  -999.0,  27.7100,2
49NZ200107_1,       P17C,      18,          1,         12,         12,2,20010808,       1409,    34.0693,  -134.9977,       5091,  2635.3,   1.7028,2,  34.6472,2,  34.6470,2,    97.33,1,   98.33,2,  162.82,2,   40.25,2,    0.01,2,    2.83,2,-999.000,1,-999.000,1,-999.000,1,  2368.7,2,  2420.7,6,    7.491,    25.00, -999.00,9, -999.00,  -999.0,9,  -999.0,  27.7259,2
49NZ200107_1,       P17C,      18,          1,         11,         11,2,20010808,       1409,    34.0693,  -134.9977,       5091,  2839.5,   1.6285,2,  34.6554,2,  34.6554,2,   104.95,1,  106.06,2,  162.12,2,   39.73,2,    0.00,2,    2.76,2,-999.000,9,-999.000,9,-999.000,9,  -999.0,9,  -999.0,9, -999.000,  -999.00, -999.00,9, -999.00,  -999.0,9,  -999.0,  27.7391,2
49NZ200107_1,       P17C,      18,          1,         10,         10,2,20010808,       1409,    34.0693,  -134.9977,       5091,  3043.4,   1.5829,2,  34.6615,2,  34.6615,2,   111.45,1,  112.29,2,  160.96,2,   39.20,2,   -0.01,2,    2.72,2,-999.000,1,-999.000,1,-999.000,1,  2359.3,2,  2425.6,2,    7.521,    25.00, -999.00,9, -999.00,  -999.0,9,  -999.0,  27.7486,2
49NZ200107_1,       P17C,      18,          1,          9,          9,2,20010808,       1409,    34.0693,  -134.9977,       5091,  3299.1,   1.5407,2,  34.6683,2,  34.6680,2,   120.18,1,  120.69,2,  157.89,2,   38.74,2,   -0.01,2,    2.68,2,-999.000,9,-999.000,9,-999.000,9,  -999.0,9,  -999.0,9, -999.000,  -999.00, -999.00,9, -999.00,  -999.0,9,  -999.0,  27.7588,2
49NZ200107_1,       P17C,      18,          1,          8,          8,2,20010808,       1409,    34.0693,  -134.9977,       5091,  3555.3,   1.4990,2,  34.6756,2,  34.6756,2,   129.22,1,  130.31,2,  155.32,2,   38.31,2,   -0.01,2,    2.63,2,-999.000,1,-999.000,1,-999.000,1,  2347.1,6,  2421.5,2,    7.558,    25.00, -999.00,9, -999.00,  -999.0,9,  -999.0,  27.7692,2
49NZ200107_1,       P17C,      18,          1,          7,          7,2,20010808,       1409,    34.0693,  -134.9977,       5091,  3811.0,   1.4868,2,  34.6801,2,  34.6800,2,   135.49,1,  136.62,2,  153.62,2,   37.84,2,    0.00,2,    2.61,2,-999.000,9,-999.000,9,-999.000,9,  -999.0,9,  -999.0,9, -999.000,  -999.00, -999.00,9, -999.00,  -999.0,9,  -999.0,  27.7755,2
49NZ200107_1,       P17C,      18,          1,          6,          6,2,20010808,       1409,    34.0693,  -134.9977,       5091,  4067.6,   1.4892,2,  34.6829,2,  34.6832,2,   140.41,1,  141.52,2,  151.27,2,   37.43,2,   -0.01,2,    2.58,2,-999.000,1,-999.000,1,-999.000,1,  2341.6,2,  2426.6,6,    7.580,    25.00, -999.00,9, -999.00,  -999.0,9,  -999.0,  27.7795,2
49NZ200107_1,       P17C,      18,          1,          5,          5,2,20010808,       1409,    34.0693,  -134.9977,       5091,  4324.1,   1.4998,2,  34.6851,2,  34.6851,2,   144.79,1,  144.43,2,  148.44,2,   37.26,2,   -0.01,2,    2.55,2,-999.000,9,-999.000,9,-999.000,9,  -999.0,9,  -999.0,9, -999.000,  -999.00, -999.00,9, -999.00,  -999.0,9,  -999.0,  27.7826,2
49NZ200107_1,       P17C,      18,          1,          4,          4,2,20010808,       1409,    34.0693,  -134.9977,       5091,  4581.1,   1.5173,2,  34.6867,2,  34.6864,2,   149.00,1,  147.69,2,  146.02,2,   37.04,2,   -0.01,2,    2.54,2,-999.000,1,-999.000,1,-999.000,1,  2334.0,2,  2419.9,2,    7.581,    25.00, -999.00,9, -999.00,  -999.0,9,  -999.0,  27.7847,2
49NZ200107_1,       P17C,      18,          1,          3,          3,2,20010808,       1409,    34.0693,  -134.9977,       5091,  4838.3,   1.5411,2,  34.6876,2,  34.6876,2,   152.58,1,  150.38,2,  143.41,2,   36.85,2,   -0.01,2,    2.53,2,-999.000,9,-999.000,9,-999.000,9,  -999.0,9,  -999.0,9, -999.000,  -999.00, -999.00,9, -999.00,  -999.0,9,  -999.0,  27.7859,2
49NZ200107_1,       P17C,      18,          1,          2,          2,2,20010808,       1409,    34.0693,  -134.9977,       5091,  5095.8,   1.5681,2,  34.6881,2,  34.6882,2,   155.73,1,  151.34,2,  144.53,2,   36.73,2,    0.00,2,    2.50,2,-999.000,1,-999.000,1,-999.000,1,  2330.2,6,  2423.8,2,    7.592,    25.00, -999.00,9, -999.00,  -999.0,9,  -999.0,  27.7867,2
49NZ200107_1,       P17C,      18,          1,          1,          1,2,20010808,       1409,    34.0693,  -134.9977,       5091,  5177.9,   1.5786,2,  34.6882,2,  34.6883,2,   156.76,1,  151.67,2,  144.78,2,   36.76,2,   -0.01,2,    2.51,2,-999.000,1,-999.000,1,-999.000,1,  2332.2,2,  2419.1,2,    7.592,    25.00, -999.00,9, -999.00,  -999.0,9,  -999.0,  27.7867,2