BOTTLE,20220817CCHSIOAMB
EXPOCODE,SECT_ID,STNNBR,CASTNO,SAMPNO,BTLNBR,BTLNBR_FLAG_W,DATE,TIME,LATITUDE,LONGITUDE,DEPTH,CTDPRS,CTDTMP,CTDTMP_FLAG_W,CTDSAL,CTDSAL_FLAG_W,SALNTY,SALNTY_FLAG_W,CTDOXY,CTDOXY_FLAG_W,OXYGEN,OXYGEN_FLAG_W,SILCAT,SILCAT_FLAG_W,NITRAT,NITRAT_FLAG_W,NITRIT,NITRIT_FLAG_W,PHSPHT,PHSPHT_FLAG_W,CFC-11,CFC-11_FLAG_W,CFC-12,CFC-12_FLAG_W,CFC113,CFC113_FLAG_W,TCARBN,TCARBN_FLAG_W,ALKALI,ALKALI_FLAG_W,PH_TOT,PH_TMP,DELC13,DELC13_FLAG_W,C13ERR,DELC14,DELC14_FLAG_W,C14ERR,THETA,THETA_FLAG_W
,,,,,,,,,,,METERS,DBAR,ITS-90,,PSS-78,,PSS-78,,UMOL/KG,,UMOL/KG,,UMOL/KG,,UMOL/KG,,UMOL/KG,,UMOL/KG,,PMOL/KG,,PMOL/KG,,PMOL/KG,,UMOL/KG,,UMOL/KG,,,DEG C,/MILLE,,/MILLE,/MILLE,,/MILLE,DEG C,
49NZ200107_1,       P17N,      72,          1,          0,        -99,9,20010819,       1111,    49.5252,  -148.9595,       4699,     4.5,-999.0000,9,-999.0000,9,  32.4414,2,  -999.00,9,  278.14,2,   12.61,2,    9.64,2,    0.17,2,    1.02,2,-999.000,1,-999.000,1,-999.000,1,  1995.2,2,  2184.2,2,    7.892,    25.00, -999.00,9, -999.00,  -999.0,9,  -999.0,-999.0000,9
49NZ200107_1,       P17N,      72,          1,         36,         36,2,20010819,       1111,    49.5252,  -148.9595,       4699,    10.9,  12.3827,2,  32.4427,2,  32.4429,2,   268.35,1,  282.60,2,   12.88,2,    9.71,2,    0.16,2,    1.00,2,-999.000,1,-999.000,1,-999.000,1,  2000.1,2,  2183.1,2,    7.892,    25.00, -999.00,9, -999.00,  -999.0,9,  -999.0,  24.5318,2
49NZ200107_1,       P17N,      72,          1,         35,         35,2,20010819,       1111,    49.5252,  -148.9595,       4699,    26.3,   9.2269,2,  32.5357,2,  32.5444,2,   289.60,1,  304.26,2,   14.12,2,   11.38,2,    0.17,2,    1.14,2,-999.000,1,-999.000,1,-999.000,1,  2019.3,2,  2190.3,2,    7.854,    25.00, -999.00,9, -999.00,  -999.0,9,  -999.0,  25.1538,2
49NZ200107_1,       P17N,      72,          1,         34,         34,2,20010819,       1111,    49.5252,  -148.9595,       4699,    51.4,   6.0449,2,  32.6236,2,  32.6239,2,   291.70,1,  312.71,2,   17.46,2,   14.41,2,    0.34,2,    1.37,2,-999.000,1,-999.000,1,-999.000,1,  2048.6,2,  2195.3,2,    7.794,    25.00, -999.00,9, -999.00,  -999.0,9,  -999.0,  25.6701,2
49NZ200107_1,       P17N,      72,          1,         33,         33,2,20010819,       1111,    49.5252,  -148.9595,       4699,    76.7,   5.2086,2,  32.6618,2,  32.6613,2,   287.23,1,  307.18,2,   20.40,2,   16.95,2,    0.34,2,    1.46,2,-999.000,1,-999.000,1,-999.000,1,  2060.3,2,  2196.3,2,    7.762,    25.00, -999.00,9, -999.00,  -999.0,9,  -999.0,  25.7992,2
49NZ200107_1,       P17N,      72,          1,         32,         32,2,20010819,       1111,    49.5252,  -148.9595,       4699,   101.8,   4.8788,2,  32.6924,2,  32.7018,2,   283.79,1,  303.70,2,   22.41,2,   18.24,2,    0.07,2,    1.53,2,-999.000,1,-999.000,1,-999.000,1,  2070.6,2,  2198.7,6,    7.745,    25.00, -999.00,9, -999.00,  -999.0,9,  -999.0,  25.8603,2
49NZ200107_1,       P17N,      72,          1,         31,         31,2,20010819,       1111,    49.5252,  -148.9595,       4699,   152.4,   4.4163,2,  33.3704,2,  33.3827,2,   171.80,1,  191.37,2,   44.86,2,   29.56,2,    0.06,2,    2.17,2,-999.000,1,-999.000,1,-999.000,1,  2181.6,2,  2242.6,2,    7.546,    25.00, -999.00,9, -999.00,  -999.0,9,  -999.0,  26.4482,2
49NZ200107_1,       P17N,      72,          1,         30,         30,2,20010819,       1111,    49.5252,  -148.9595,       4699,   202.6,   4.2852,2,  33.7528,2,  33.7505,2,   103.30,1,  108.24,2,   63.61,2,   37.52,2,    0.06,2,    2.65,2,-999.000,1,-999.000,1,-999.000,1,  2256.9,6,  2270.9,2,    7.399,    25.00, -999.00,9, -999.00,  -999.0,9,  -999.0,  26.7661,2
49NZ200107_1,       P17N,      72,          1,         29,         29,2,20010819,       1111,    49.5252,  -148.9595,       4699,   253.3,   4.0793,2,  33.8339,2,  33.8329,2,    78.29,1,   81.27,2,   72.99,2,   40.24,2,    0.06,2,    2.81,2,-999.000,1,-999.000,1,-999.000,1,  2285.2,2,  2284.4,2,    7.352,    25.00, -999.00,9, -999.00,  -999.0,9,  -999.0,  26.8522,2
49NZ200107_1,       P17N,      72,          1,         28,         28,2,20010819,       1111,    49.5252,  -148.9595,       4699,   303.7,   3.9778,2,  33.9014,2,  33.9001,2,    59.21,1,   59.01,2,   81.13,2,   42.40,2,    0.06,2,    2.91,2,-999.000,1,-999.000,1,-999.000,1,  2304.5,2,  2292.0,6,    7.321,    25.00, -999.00,9, -999.00,  -999.0,9,  -999.0,  26.9167,2
49NZ200107_1,       P17N,      72,          1,         27,         27,2,20010819,       1111,    49.5252,  -148.9595,       4699,   354.2,   3.9250,2,  33.9725,2,  33.9705,2,    47.71,1,   45.36,2,   88.05,2,   43.17,2,    0.06,2,    3.01,2,-999.000,1,-999.000,1,-999.000,1,  2319.9,2,  2302.9,2,    7.310,    25.00, -999.00,9, -999.00,  -999.0,9,  -999.0,  26.9789,2
49NZ200107_1,       P17N,      72,          1,         26,         26,2,20010819,       1111,    49.5252,  -148.9595,       4699,   404.7,   3.8875,2,  34.0305,2,  34.0303,2,    37.86,1,   34.44,2,   94.36,2,   43.72,2,    0.05,2,    3.08,2,-999.000,1,-999.000,1,-999.000,1,  2330.6,6,  2312.0,2,    7.303,    25.00, -999.00,9, -999.00,  -999.0,9,  -999.0,  27.0292,2
49NZ200107_1,       P17N,      72,          1,         25,         25,2,20010819,       1111,    49.5252,  -148.9595,       4699,   505.7,   3.7727,2,  34.1185,2,  34.1202,2,    31.72,1,   27.31,2,  103.69,2,   43.88,2,    0.05,2,    3.10,2,-999.000,1,-999.000,1,-999.000,1,  2342.4,2,  2327.2,2,    7.308,    25.00, -999.00,9, -999.00,  -999.0,9,  -999.0,  27.1114,2
49NZ200107_1,       P17N,      72,          1,         24,         24,2,20010819,       1111,    49.5252,  -148.9595,       4699,   607.0,   3.5590,2,  34.1957,2,  34.1971,2,    28.30,1,   23.96,2,  113.22,2,   44.15,2,    0.05,2,    3.11,2,-999.000,1,-999.000,1,-999.000,1,  2352.8,2,  2340.1,6,    7.316,    25.00, -999.00,9, -999.00,  -999.0,9,  -999.0,  27.1945,2
49NZ200107_1,       P17N,      72,          1,         23,         23,2,20010819,       1111,    49.5252,  -148.9595,       4699,   708.5,   3.3927,2,  34.2572,2,  34.2580,2,    27.85,1,   22.98,2,  120.08,2,   44.17,2,    0.06,2,    3.14,2,-999.000,1,-999.000,1,-999.000,1,  2362.6,2,  2350.9,2,    7.324,    25.00, -999.00,9, -999.00,  -999.0,9,  -999.0,  27.2602,2
49NZ200107_1,       P17N,      72,          1,         22,         22,2,20010819,       1111,    49.5252,  -148.9595,       4699,   809.4,   3.2175,2,  34.3048,2,  34.3044,2,    26.50,1,   21.21,2,  125.63,2,   44.29,2,    0.06,2,    3.15,2,-999.000,1,-999.000,1,-999.000,1,  2369.0,6,  2360.8,2,    7.326,    25.00, -999.00,9, -999.00,  -999.0,9,  -999.0,  27.3152,2
49NZ200107_1,       P17N,      72,          1,         21,         21,2,20010819,       1111,    49.5252,  -148.9595,       4699,   910.6,   3.0001,2,  34.3518,2,  34.3530,2,    26.34,1,   20.91,2,  132.27,2,   44.48,2,    0.06,2,    3.15,2,-999.000,1,-999.000,1,-999.000,1,  2379.4,2,  2369.9,2,    7.331,    25.00, -999.00,9, -999.00,  -999.0,9,  -999.0,  27.3732,2
49NZ200107_1,       P17N,      72,          1,         20,         20,2,20010819,       1111,    49.5252,  -148.9595,       4699,  1012.2,   2.8423,2,  34.3886,2,  34.3894,2,    25.55,1,   19.64,2,  137.36,2,   44.76,2,    0.05,2,    3.18,2,-999.000,1,-999.000,1,-999.000,1,  2385.4,2,  2377.6,6,    7.333,    25.00, -999.00,9, -999.00,  -999.0,9,  -999.0,  27.4172,2
49NZ200107_1,       P17N,      72,          1,         19,         19,2,20010819,       1111,    49.5252,  -148.9595,       4699,  1113.4,   2.7205,2,  34.4167,2,  34.4176,2,    24.93,1,   18.67,2,  142.28,2,   44.99,2,    0.04,2,    3.13,2,-999.000,1,-999.000,1,-999.000,1,  2388.7,2,  2384.0,2,    7.333,    25.00, -999.00,9, -999.00,  -999.0,9,  -999.0,  27.4509,2
49NZ200107_1,       P17N,      72,          1,         18,         18,2,20010819,       1111,    49.5252,  -148.9595,       4699,  1214.7,   2.6076,2,  34.4417,2,  34.4417,2,    25.54,1,   19.19,2,  145.13,2,   44.96,2,    0.05,2,    3.15,2,-999.000,1,-999.000,1,-999.000,1,  2393.8,6,  2389.7,2,    7.336,    25.00, -999.00,9, -999.00,  -999.0,9,  -999.0,  27.4812,2
49NZ200107_1,       P17N,      72,          1,         17,         17,2,20010819,       1111,    49.5252,  -148.9595,       4699,  1312.1,   2.4927,2,  34.4662,2,  34.4690,2,    27.34,1,   21.06,2,  148.69,2,   44.92,2,    0.05,2,    3.18,2,-999.000,1,-999.000,1,-999.000,1,  2397.1,2,  2393.6,2,    7.341,    25.00, -999.00,9, -999.00,  -999.0,9,  -999.0,  27.5110,2
49NZ200107_1,       P17N,      72,          1,         16,         16,2,20010819,       1111,    49.5252,  -148.9595,       4699,  1417.7,   2.3701,2,  34.4928,2,  34.4935,2,    29.86,1,   23.27,2,  151.39,2,   44.89,2,    0.05,2,    3.15,2,-999.000,1,-999.000,1,-999.000,1,  2398.7,2,  2397.4,2,    7.348,    25.00, -999.00,9, -999.00,  -999.0,9,  -999.0,  27.5431,2
49NZ200107_1,       P17N,      72,          1,         15,         15,2,20010819,       1111,    49.5252,  -148.9595,       4699,  1620.8,   2.2043,2,  34.5304,2,  34.5313,2,    35.52,1,   29.42,2,  155.23,2,   44.72,2,    0.05,2,    3.12,2,-999.000,1,-999.000,1,-999.000,1,  2401.8,2,  2403.8,2,    7.365,    25.00, -999.00,9, -999.00,  -999.0,9,  -999.0,  27.5878,2
49NZ200107_1,       P17N,      72,          1,         14,         14,2,20010819,       1111,    49.5252,  -148.9595,       4699,  1824.7,   2.0632,2,  34.5609,2,  34.5612,2,    45.23,1,   39.17,2,  158.10,2,   44.20,2,    0.05,2,    3.10,2,-999.000,1,-999.000,1,-999.000,1,  2393.9,2,  2409.8,2,    7.384,    25.00, -999.00,9, -999.00,  -999.0,9,  -999.0,  27.6245,2
49NZ200107_1,       P17N,      72,          1,         13,         13,2,20010819,       1111,    49.5252,  -148.9595,       4699,  2027.9,   1.9363,2,  34.5866,2,  34.5874,2,    57.60,1,   52.68,2,  160.11,2,   43.13,2,    0.05,2,    3.04,2,-999.000,1,-999.000,1,-999.000,1,  -999.0,5,  2413.7,2,    7.411,    25.00, -999.00,9, -999.00,  -999.0,9,  -999.0,  27.6562,2
49NZ200107_1,       P17N,      72,          1,         12,         12,2,20010819,       1111,    49.5252,  -148.9595,       4699,  2231.7,   1.8309,2,  34.6074,2,  34.6071,2,    69.28,1,   64.88,2,  161.02,2,   42.48,2,    0.05,2,    2.98,2,-999.000,1,-999.000,1,-999.000,1,  -999.0,5,  2415.5,2,    7.434,    25.00, -999.00,9, -999.00,  -999.0,9,  -999.0,  27.6820,2
49NZ200107_1,       P17N,      72,          1,         11,         11,2,20010819,       1111,    49.5252,  -148.9595,       4699,  2435.6,   1.7508,2,  34.6231,2,  34.6231,2,    80.41,1,   76.65,2,  162.43,2,   41.96,2,    0.06,2,    2.89,2,-999.000,9,-999.000,9,-999.000,9,  -999.0,9,  -999.0,9, -999.000,  -999.00, -999.00,9, -999.00,  -999.0,9,  -999.0,  27.7018,2
49NZ200107_1,       P17N,      72,          1,         10,         10,2,20010819,       1111,    49.5252,  -148.9595,       4699,  2639.9,   1.6745,2,  34.6372,2,  34.6376,2,    92.34,1,   89.66,2,  160.88,2,   40.93,2,    0.05,2,    2.84,2,-999.000,1,-999.000,1,-999.000,1,  2372.4,2,  2419.9,2,    7.483,    25.00, -999.00,9, -999.00,  -999.0,9,  -999.0,  27.7199,2
49NZ200107_1,       P17N,      72,          1,          9,          9,2,20010819,       1111,    49.5252,  -148.9595,       4699,  2844.2,   1.6117,2,  34.6491,2,  34.6488,2,   103.44,1,  101.20,2,  159.65,2,   40.23,2,    0.05,2,    2.80,2,-999.000,9,-999.000,9,-999.000,9,  -999.0,9,  -999.0,9, -999.000,  -999.00, -999.00,9, -999.00,  -999.0,9,  -999.0,  27.7352,2
49NZ200107_1,       P17N,      72,          1,          8,          8,2,20010819,       1111,    49.5252,  -148.9595,       4699,  3048.4,   1.5625,2,  34.6585,2,  34.6586,2,   113.65,1,  112.15,2,  158.08,2,   39.45,2,    0.05,2,    2.75,2,-999.000,1,-999.000,1,-999.000,1,  2357.1,6,  2422.2,2,    7.524,    25.00, -999.00,9, -999.00,  -999.0,9,  -999.0,  27.7476,2
49NZ200107_1,       P17N,      72,          1,          7,          7,2,20010819,       1111,    49.5252,  -148.9595,       4699,  3304.6,   1.5184,2,  34.6677,2,  34.6680,2,   124.45,1,  122.72,2,  156.24,2,   38.65,2,    0.06,2,    2.70,2,-999.000,9,-999.000,9,-999.000,9,  -999.0,9,  -999.0,9, -999.000,  -999.00, -999.00,9, -999.00,  -999.0,9,  -999.0,  27.7598,2
49NZ200107_1,       P17N,      72,          1,          6,          6,2,20010819,       1111,    49.5252,  -148.9595,       4699,  3571.0,   1.4939,2,  34.6744,2,  34.6744,2,   133.14,1,  131.18,2,  155.23,2,   38.13,2,    0.06,2,    2.65,2,-999.000,1,-999.000,1,-999.000,1,  2342.5,2,  2424.9,2,    7.562,    25.00, -999.00,9, -999.00,  -999.0,9,  -999.0,  27.7687,2
49NZ200107_1,       P17N,      72,          1,          5,          5,2,20010819,       1111,    49.5252,  -148.9595,       4699,  3817.5,   1.4867,2,  34.6789,2,  34.6788,2,   139.02,1,  136.32,2,  155.04,2,   37.84,2,    0.05,2,    2.64,2,-999.000,9,-999.000,9,-999.000,9,  -999.0,9,  -999.0,9, -999.000,  -999.00, -999.00,9, -999.00,  -999.0,9,  -999.0,  27.7746,2
49NZ200107_1,       P17N,      72,          1,          4,          4,2,20010819,       1111,    49.5252,  -148.9595,       4699,  4074.2,   1.4950,2,  34.6817,2,  34.6813,2,   143.23,1,  139.56,2,  155.97,2,   37.61,2,    0.06,2,    2.63,2,-999.000,1,-999.000,1,-999.000,1,  2342.4,2,  2426.1,6,    7.580,    25.00, -999.00,9, -999.00,  -999.0,9,  -999.0,  27.7782,2
49NZ200107_1,       P17N,      72,          1,          3,          3,2,20010819,       1111,    49.5252,  -148.9595,       4699,  4330.9,   1.5114,2,  34.6842,2,  34.6844,2,   146.13,1,  141.21,2,  158.86,2,   37.50,2,    0.06,2,    2.62,2,-999.000,9,-999.000,9,-999.000,9,  -999.0,9,  -999.0,9, -999.000,  -999.00, -999.00,9, -999.00,  -999.0,9,  -999.0,  27.7811,2
49NZ200107_1,       P17N,      72,          1,          2,          2,2,20010819,       1111,    49.5252,  -148.9595,       4699,  4588.7,   1.5356,2,  34.6853,2,  34.6852,2,   148.75,1,  141.31,2,  160.94,2,   37.56,2,    0.06,2,    2.58,2,-999.000,1,-999.000,1,-999.000,1,  2343.7,2,  2430.9,2,    7.588,    25.00, -999.00,9, -999.00,  -999.0,9,  -999.0,  27.7824,2
49NZ200107_1,       P17N,      72,          1,          1,          1,2,20010819,       1111,    49.5252,  -148.9595,       4699,  4793.3,   1.5584,2,  34.6858,2,  34.6861,2,   150.84,1,  141.50,2,  162.38,2,   37.47,2,    0.06,2,    2.59,2,-999.000,1,-999.000,1,-999.000,1,  2342.6,2,  2434.2,2,    7.590,    25.00, -999.00,9, -999.00,  -999.0,9,  -999.0,  27.7829,2