BOTTLE,20220817CCHSIOAMB
EXPOCODE,SECT_ID,STNNBR,CASTNO,SAMPNO,BTLNBR,BTLNBR_FLAG_W,DATE,TIME,LATITUDE,LONGITUDE,DEPTH,CTDPRS,CTDTMP,CTDTMP_FLAG_W,CTDSAL,CTDSAL_FLAG_W,SALNTY,SALNTY_FLAG_W,CTDOXY,CTDOXY_FLAG_W,OXYGEN,OXYGEN_FLAG_W,SILCAT,SILCAT_FLAG_W,NITRAT,NITRAT_FLAG_W,NITRIT,NITRIT_FLAG_W,PHSPHT,PHSPHT_FLAG_W,CFC-11,CFC-11_FLAG_W,CFC-12,CFC-12_FLAG_W,CFC113,CFC113_FLAG_W,TCARBN,TCARBN_FLAG_W,ALKALI,ALKALI_FLAG_W,PH_TOT,PH_TMP,DELC13,DELC13_FLAG_W,C13ERR,DELC14,DELC14_FLAG_W,C14ERR,THETA,THETA_FLAG_W
,,,,,,,,,,,METERS,DBAR,ITS-90,,PSS-78,,PSS-78,,UMOL/KG,,UMOL/KG,,UMOL/KG,,UMOL/KG,,UMOL/KG,,UMOL/KG,,PMOL/KG,,PMOL/KG,,PMOL/KG,,UMOL/KG,,UMOL/KG,,,DEG C,/MILLE,,/MILLE,/MILLE,,/MILLE,DEG C,
49NZ200107_1,       P17N,      70,          1,          0,        -99,9,20010818,       2209,    48.9135,  -147.9070,       4718,     4.5,-999.0000,9,-999.0000,9,  32.4399,2,  -999.00,9,  281.76,2,   13.60,2,    9.17,2,    0.15,2,    0.97,2,-999.000,1,-999.000,1,-999.000,1,  1989.1,2,  2189.7,2,    7.903,    25.00, -999.00,9, -999.00,  -999.0,9,  -999.0,-999.0000,9
49NZ200107_1,       P17N,      70,          1,         36,         36,2,20010818,       2209,    48.9135,  -147.9070,       4718,    10.5,  12.4876,2,  32.4479,2,  32.4576,2,   269.57,1,  286.35,2,   13.42,2,    9.49,2,    0.15,2,    0.98,2,-999.000,1,-999.000,1,-999.000,1,  1994.5,2,  2185.8,2,    7.896,    25.00,    1.74,2,    0.01,     1.2,2,     3.1,  24.5159,2
49NZ200107_1,       P17N,      70,          1,         35,         35,2,20010818,       2209,    48.9135,  -147.9070,       4718,    25.4,  11.7670,2,  32.4425,2,  32.5358,2,   280.31,1,  311.18,2,   14.33,2,   11.49,2,    0.18,2,    1.14,2,-999.000,1,-999.000,1,-999.000,1,  2031.3,2,  2192.8,2,    7.860,    25.00,    1.49,2,    0.01,    -2.0,2,     3.4,  24.6471,2
49NZ200107_1,       P17N,      70,          1,         34,         34,2,20010818,       2209,    48.9135,  -147.9070,       4718,    51.0,   5.8353,2,  32.6175,2,  32.6222,2,   289.44,1,  308.86,2,   18.55,2,   15.17,2,    0.59,2,    1.38,2,-999.000,1,-999.000,1,-999.000,1,  2050.6,2,  2201.2,2,    7.783,    25.00,    1.16,2,    0.00,    -3.8,2,     3.0,  25.6908,2
49NZ200107_1,       P17N,      70,          1,         33,         33,3,20010818,       2209,    48.9135,  -147.9070,       4718,    76.0,   5.2664,2,  32.6573,2,  32.6573,2,   286.71,1,  306.71,2,   19.81,2,   16.58,2,    0.25,2,    1.42,2,-999.000,1,-999.000,1,-999.000,1,  2059.9,2,  2199.7,2,    7.766,    25.00,    1.13,2,    0.00,     0.6,2,     3.0,  25.7890,2
49NZ200107_1,       P17N,      70,          1,         32,         32,2,20010818,       2209,    48.9135,  -147.9070,       4718,   101.0,   4.9429,2,  32.6848,2,  32.6830,2,   286.02,1,  306.66,2,   21.07,2,   17.27,2,    0.05,2,    1.45,2,-999.000,1,-999.000,1,-999.000,1,  2061.6,2,  2202.3,6,    7.620,    25.00,    1.06,2,    0.00,    -0.7,2,     3.3,  25.8472,2
49NZ200107_1,       P17N,      70,          1,         31,         31,2,20010818,       2209,    48.9135,  -147.9070,       4718,   151.7,   4.3411,2,  33.0958,2,  33.1196,2,   209.14,1,  234.95,2,   36.69,2,   25.35,2,    0.04,2,    1.92,2,-999.000,1,-999.000,1,-999.000,1,  2137.9,2,  2232.6,2,    7.757,    25.00,    0.40,2,    0.01,   -21.7,2,     3.3,  26.2379,2
49NZ200107_1,       P17N,      70,          1,         30,         30,2,20010818,       2209,    48.9135,  -147.9070,       4718,   202.3,   4.2259,2,  33.7273,2,  33.7253,2,   110.31,1,  116.63,2,   61.90,2,   36.38,2,    0.04,2,    2.57,2,-999.000,1,-999.000,1,-999.000,1,  2249.6,6,  2280.6,2,    7.417,    25.00,   -0.41,6,    0.06,   -59.9,6,     2.3,  26.7520,2
49NZ200107_1,       P17N,      70,          1,         29,         29,2,20010818,       2209,    48.9135,  -147.9070,       4718,   252.9,   4.0903,2,  33.8253,2,  33.8203,2,    83.86,1,   85.57,2,   71.02,2,   39.66,2,    0.04,2,    2.77,2,-999.000,1,-999.000,1,-999.000,1,  2278.9,2,  2289.5,2,    7.365,    25.00,   -0.51,2,    0.00,   -77.0,2,     2.9,  26.8442,2
49NZ200107_1,       P17N,      70,          1,         28,         28,2,20010818,       2209,    48.9135,  -147.9070,       4718,   303.1,   4.0426,2,  33.8988,2,  33.8939,2,    68.55,1,   68.44,2,   78.37,2,   40.97,2,    0.04,2,    2.81,2,-999.000,1,-999.000,1,-999.000,1,  2292.4,2,  2299.0,6,    7.345,    25.00,   -0.57,2,    0.00,   -93.3,2,     2.9,  26.9080,2
49NZ200107_1,       P17N,      70,          1,         27,         27,3,20010818,       2209,    48.9135,  -147.9070,       4718,   353.8,   4.0141,2,  33.9521,2,  33.9470,2,    60.47,1,   59.63,2,   83.62,2,   41.64,2,    0.03,2,    2.89,2,-999.000,1,-999.000,1,-999.000,1,  2298.8,2,  2308.1,2,    7.341,    25.00,   -0.58,2,    0.00,  -110.0,2,     2.9,  26.9537,2
49NZ200107_1,       P17N,      70,          1,         26,         26,2,20010818,       2209,    48.9135,  -147.9070,       4718,   404.4,   3.9218,2,  34.0069,2,  34.0125,2,    50.31,1,   45.57,2,   91.75,2,   42.51,2,    0.03,2,    2.98,2,-999.000,1,-999.000,1,-999.000,1,  2314.4,6,  2310.8,2,    7.328,    25.00,   -0.63,2,    0.00,  -119.5,2,     2.8,  27.0070,2
49NZ200107_1,       P17N,      70,          1,         25,         25,3,20010818,       2209,    48.9135,  -147.9070,       4718,   505.4,   3.7872,2,  34.1034,2,  34.1034,2,    35.72,1,   30.59,2,  102.07,2,   43.54,2,    0.03,2,    3.05,2,-999.000,1,-999.000,1,-999.000,1,  2332.2,2,  2335.8,2,    7.316,    25.00,   -0.65,2,    0.01,  -145.9,2,     2.7,  27.0980,2
49NZ200107_1,       P17N,      70,          1,         24,         24,2,20010818,       2209,    48.9135,  -147.9070,       4718,   606.6,   3.6241,2,  34.1959,2,  34.1974,2,    31.99,1,   26.62,2,  111.68,2,   43.72,2,    0.03,2,    3.06,2,-999.000,1,-999.000,1,-999.000,1,  2350.2,2,  2350.5,6,    7.328,    25.00,   -0.62,2,    0.00,  -163.8,2,     2.7,  27.1884,2
49NZ200107_1,       P17N,      70,          1,         23,         23,2,20010818,       2209,    48.9135,  -147.9070,       4718,   707.4,   3.4430,2,  34.2566,2,  34.2598,2,    29.96,1,   23.74,2,  119.30,2,   43.83,2,    0.03,2,    3.09,2,-999.000,1,-999.000,1,-999.000,1,  2360.3,2,  2358.1,2,    7.331,    25.00, -999.00,5, -999.00,  -999.0,5,  -999.0,  27.2549,2
49NZ200107_1,       P17N,      70,          1,         22,         22,3,20010818,       2209,    48.9135,  -147.9070,       4718,   808.9,   3.2481,2,  34.3026,2,  34.3024,2,    27.60,1,   21.03,2,  124.97,2,   44.14,2,    0.03,2,    3.11,2,-999.000,1,-999.000,1,-999.000,1,  2366.7,6,  2371.5,2,    7.333,    25.00,   -0.63,2,    0.00,  -189.7,2,     2.9,  27.3106,2
49NZ200107_1,       P17N,      70,          1,         21,         21,2,20010818,       2209,    48.9135,  -147.9070,       4718,   910.2,   3.0567,2,  34.3456,2,  34.3444,2,    26.18,1,   19.60,2,  130.92,2,   44.53,2,    0.02,2,    3.13,2,-999.000,1,-999.000,1,-999.000,1,  2371.9,2,  2377.0,2,    7.335,    25.00,   -0.64,2,    0.01,  -203.5,2,     2.6,  27.3631,2
49NZ200107_1,       P17N,      70,          1,         20,         20,2,20010818,       2209,    48.9135,  -147.9070,       4718,  1011.3,   2.9127,2,  34.3804,2,  34.3804,2,    22.74,1,   15.30,2,  136.31,2,   44.92,2,    0.02,2,    3.17,2,-999.000,1,-999.000,1,-999.000,1,  2381.1,2,  2387.6,6,    7.331,    25.00, -999.00,5, -999.00,  -999.0,5,  -999.0,  27.4044,2
49NZ200107_1,       P17N,      70,          1,         19,         19,2,20010818,       2209,    48.9135,  -147.9070,       4718,  1112.9,   2.7629,2,  34.4141,2,  34.4128,2,    22.45,1,   14.58,2,  140.21,2,   45.12,2,    0.03,2,    3.15,2,-999.000,1,-999.000,1,-999.000,1,  2385.9,2,  -999.0,5,    7.334,    25.00,   -0.65,2,    0.00,  -223.8,2,     2.6,  27.4452,2
49NZ200107_1,       P17N,      70,          1,         18,         18,2,20010818,       2209,    48.9135,  -147.9070,       4718,  1214.2,   2.6248,2,  34.4435,2,  34.4416,2,    23.90,1,   15.85,2,  144.81,2,   45.19,2,    0.03,2,    3.17,2,-999.000,1,-999.000,1,-999.000,1,  2396.0,6,  2399.1,2,    7.338,    25.00,   -0.63,6,    0.01,  -223.7,6,     2.7,  27.4812,2
49NZ200107_1,       P17N,      70,          1,         17,         17,2,20010818,       2209,    48.9135,  -147.9070,       4718,  1315.6,   2.5055,2,  34.4709,2,  34.4709,2,    24.09,1,   16.42,2,  149.17,2,   45.21,2,    0.03,2,    3.16,2,-999.000,1,-999.000,1,-999.000,1,  2400.6,2,  2399.6,3,    7.341,    25.00,   -0.65,2,    0.00,  -226.5,2,     2.6,  27.5137,2
49NZ200107_1,       P17N,      70,          1,         16,         16,2,20010818,       2209,    48.9135,  -147.9070,       4718,  1417.3,   2.3974,2,  34.4920,2,  34.4908,2,    27.89,1,   20.01,2,  151.63,2,   45.04,2,    0.03,2,    3.15,2,-999.000,1,-999.000,1,-999.000,1,  2401.4,2,  2399.3,3,    7.350,    25.00,   -0.65,2,    0.00,  -232.8,2,     2.8,  27.5402,2
49NZ200107_1,       P17N,      70,          1,         15,         15,2,20010818,       2209,    48.9135,  -147.9070,       4718,  1619.9,   2.2143,2,  34.5300,2,  34.5293,2,    35.83,1,   28.50,2,  156.49,2,   44.72,2,    0.03,2,    3.13,2,-999.000,1,-999.000,1,-999.000,1,  2397.6,2,  2414.2,2,    7.368,    25.00,   -0.64,2,    0.01,  -242.8,2,     3.9,  27.5867,2
49NZ200107_1,       P17N,      70,          1,         14,         14,2,20010818,       2209,    48.9135,  -147.9070,       4718,  1824.1,   2.0586,2,  34.5617,2,  34.5611,2,    47.35,1,   40.30,2,  159.40,2,   43.80,2,    0.02,2,    3.07,2,-999.000,1,-999.000,1,-999.000,1,  2392.4,2,  2417.4,2,    7.394,    25.00,   -0.53,2,    0.00,  -243.6,2,     2.8,  27.6255,2
49NZ200107_1,       P17N,      70,          1,         13,         13,2,20010818,       2209,    48.9135,  -147.9070,       4718,  2027.6,   1.9310,2,  34.5874,2,  34.5876,2,    59.40,1,   54.34,2,  160.88,2,   43.10,2,    0.03,2,    3.00,2,-999.000,1,-999.000,1,-999.000,1,  2385.3,2,  2421.1,2,    7.421,    25.00,   -0.46,2,    0.01,  -245.9,2,     2.8,  27.6572,2
49NZ200107_1,       P17N,      70,          1,         12,         12,2,20010818,       2209,    48.9135,  -147.9070,       4718,  2231.0,   1.8346,2,  34.6064,2,  34.6064,2,    70.65,1,   65.70,2,  161.44,2,   42.42,2,    0.03,2,    2.97,2,-999.000,1,-999.000,1,-999.000,1,  2382.4,2,  2422.9,2,    7.445,    25.00,   -0.39,2,    0.00,  -246.3,2,     2.5,  27.6809,2
49NZ200107_1,       P17N,      70,          1,         11,         11,2,20010818,       2209,    48.9135,  -147.9070,       4718,  2435.2,   1.7442,2,  34.6239,2,  34.6236,2,    82.51,1,   78.43,2,  161.20,2,   41.50,2,    0.03,2,    2.88,2,-999.000,9,-999.000,9,-999.000,9,  -999.0,9,  -999.0,9, -999.000,  -999.00, -999.00,9, -999.00,  -999.0,9,  -999.0,  27.7029,2
49NZ200107_1,       P17N,      70,          1,         10,         10,2,20010818,       2209,    48.9135,  -147.9070,       4718,  2639.0,   1.6759,2,  34.6369,2,  34.6367,2,    93.42,1,   89.97,2,  161.00,2,   40.78,2,    0.03,2,    2.84,2,-999.000,1,-999.000,1,-999.000,1,  2370.6,2,  2422.6,2,    7.492,    25.00,   -0.23,2,    0.01,  -242.6,2,     2.5,  27.7195,2
49NZ200107_1,       P17N,      70,          1,          9,          9,3,20010818,       2209,    48.9135,  -147.9070,       4718,  2843.2,   1.6225,2,  34.6472,2,  34.6457,2,   103.35,1,  100.53,2,  159.91,2,   39.97,2,    0.03,2,    2.79,2,-999.000,9,-999.000,9,-999.000,9,  -999.0,9,  -999.0,9, -999.000,  -999.00, -999.00,9, -999.00,  -999.0,9,  -999.0,  27.7330,2
49NZ200107_1,       P17N,      70,          1,          8,          8,3,20010818,       2209,    48.9135,  -147.9070,       4718,  3047.8,   1.5561,2,  34.6593,2,  34.6580,2,   114.95,1,  113.37,2,  158.00,2,   39.26,2,    0.03,2,    2.72,2,-999.000,1,-999.000,1,-999.000,1,  2356.1,6,  2424.2,2,    7.536,    25.00,   -0.09,6,    0.01,  -235.6,6,     1.8,  27.7487,2
49NZ200107_1,       P17N,      70,          1,          7,          7,2,20010818,       2209,    48.9135,  -147.9070,       4718,  3293.3,   1.5193,2,  34.6675,2,  34.6674,2,   123.94,1,  122.19,2,  156.89,2,   38.68,2,    0.03,2,    2.69,2,-999.000,9,-999.000,9,-999.000,9,  -999.0,9,  -999.0,9, -999.000,  -999.00, -999.00,9, -999.00,  -999.0,9,  -999.0,  27.7595,2
49NZ200107_1,       P17N,      70,          1,          6,          6,2,20010818,       2209,    48.9135,  -147.9070,       4718,  3560.2,   1.4995,2,  34.6738,2,  34.6737,2,   131.64,1,  129.89,2,  156.31,2,   37.99,2,    0.03,2,    2.66,2,-999.000,1,-999.000,1,-999.000,1,  2346.0,2,  2432.7,2,    7.569,    25.00,    0.03,2,    0.00,  -232.0,2,     2.6,  27.7678,2
49NZ200107_1,       P17N,      70,          1,          5,          5,2,20010818,       2209,    48.9135,  -147.9070,       4718,  3816.2,   1.4915,2,  34.6785,2,  34.6785,2,   137.77,1,  135.49,2,  156.40,2,   37.84,2,    0.03,2,    2.62,2,-999.000,9,-999.000,9,-999.000,9,  -999.0,9,  -999.0,9, -999.000,  -999.00, -999.00,9, -999.00,  -999.0,9,  -999.0,  27.7739,2
49NZ200107_1,       P17N,      70,          1,          4,          4,2,20010818,       2209,    48.9135,  -147.9070,       4718,  4073.2,   1.4992,2,  34.6811,2,  34.6812,2,   141.89,1,  138.65,2,  157.30,2,   37.52,2,    0.03,2,    2.61,2,-999.000,1,-999.000,1,-999.000,1,  2342.0,2,  2441.5,3,    7.590,    25.00,    0.06,2,    0.01,  -228.6,2,     2.5,  27.7775,2
49NZ200107_1,       P17N,      70,          1,          3,          3,2,20010818,       2209,    48.9135,  -147.9070,       4718,  4330.4,   1.5143,2,  34.6838,2,  34.6838,2,   144.84,1,  140.47,2,  159.86,2,   37.38,2,    0.03,2,    2.59,2,-999.000,9,-999.000,9,-999.000,9,  -999.0,9,  -999.0,9, -999.000,  -999.00, -999.00,9, -999.00,  -999.0,9,  -999.0,  27.7806,2
49NZ200107_1,       P17N,      70,          1,          2,          2,2,20010818,       2209,    48.9135,  -147.9070,       4718,  4587.4,   1.5380,2,  34.6849,2,  34.6852,2,   147.34,1,  141.55,2,  160.69,2,   37.33,2,    0.03,2,    2.56,2,-999.000,1,-999.000,1,-999.000,1,  2339.1,2,  2434.3,2,    7.598,    25.00,    0.09,2,    0.00,  -223.4,2,     2.6,  27.7819,2
49NZ200107_1,       P17N,      70,          1,          1,          1,2,20010818,       2209,    48.9135,  -147.9070,       4718,  4846.5,   1.5678,2,  34.6853,2,  34.6852,2,   149.58,1,  140.82,2,  161.87,2,   37.35,2,    0.03,2,    2.56,2,-999.000,1,-999.000,1,-999.000,1,  2337.3,3,  2433.9,2,    7.600,    25.00,    0.08,2,    0.00,  -222.1,2,     2.5,  27.7824,2