BOTTLE,20220817CCHSIOAMB
EXPOCODE,SECT_ID,STNNBR,CASTNO,SAMPNO,BTLNBR,BTLNBR_FLAG_W,DATE,TIME,LATITUDE,LONGITUDE,DEPTH,CTDPRS,CTDTMP,CTDTMP_FLAG_W,CTDSAL,CTDSAL_FLAG_W,SALNTY,SALNTY_FLAG_W,CTDOXY,CTDOXY_FLAG_W,OXYGEN,OXYGEN_FLAG_W,SILCAT,SILCAT_FLAG_W,NITRAT,NITRAT_FLAG_W,NITRIT,NITRIT_FLAG_W,PHSPHT,PHSPHT_FLAG_W,CFC-11,CFC-11_FLAG_W,CFC-12,CFC-12_FLAG_W,CFC113,CFC113_FLAG_W,TCARBN,TCARBN_FLAG_W,ALKALI,ALKALI_FLAG_W,PH_TOT,PH_TMP,DELC13,DELC13_FLAG_W,C13ERR,DELC14,DELC14_FLAG_W,C14ERR,THETA,THETA_FLAG_W
,,,,,,,,,,,METERS,DBAR,ITS-90,,PSS-78,,PSS-78,,UMOL/KG,,UMOL/KG,,UMOL/KG,,UMOL/KG,,UMOL/KG,,UMOL/KG,,PMOL/KG,,PMOL/KG,,PMOL/KG,,UMOL/KG,,UMOL/KG,,,DEG C,/MILLE,,/MILLE,/MILLE,,/MILLE,DEG C,
49NZ200107_1,       P17C,      25,          1,          0,        -99,9,20010807,       0135,    30.5180,  -135.0043,       4524,     4.5,-999.0000,9,-999.0000,9,  34.5159,2,  -999.00,9,  227.05,2,    2.71,2,    0.10,2,    0.00,2,    0.14,2,-999.000,9,-999.000,9,-999.000,9,  -999.0,9,  -999.0,9, -999.000,  -999.00, -999.00,9, -999.00,  -999.0,9,  -999.0,-999.0000,9
49NZ200107_1,       P17C,      25,          1,         36,         36,2,20010807,       0135,    30.5180,  -135.0043,       4524,    10.3,  21.3914,2,  34.5215,2,  34.5545,2,   218.30,1,  229.94,2,    2.55,2,    0.05,2,   -0.01,2,    0.05,2,-999.000,9,-999.000,9,-999.000,9,  -999.0,9,  -999.0,9, -999.000,  -999.00, -999.00,9, -999.00,  -999.0,9,  -999.0,  24.0234,2
49NZ200107_1,       P17C,      25,          1,         35,         35,3,20010807,       0135,    30.5180,  -135.0043,       4524,    25.7,  20.8711,2,  34.5720,2,  34.5123,2,   220.50,1,  237.81,2,    2.44,2,    0.01,2,    0.00,2,    0.06,2,-999.000,9,-999.000,9,-999.000,9,  -999.0,9,  -999.0,9, -999.000,  -999.00, -999.00,9, -999.00,  -999.0,9,  -999.0,  24.2044,2
49NZ200107_1,       P17C,      25,          1,         34,         34,3,20010807,       0135,    30.5180,  -135.0043,       4524,    50.5,  17.9646,2,  34.2713,2,  34.2726,2,   242.79,1,  252.93,2,    2.65,2,    0.00,2,   -0.01,2,    0.06,2,-999.000,9,-999.000,9,-999.000,9,  -999.0,9,  -999.0,9, -999.000,  -999.00, -999.00,9, -999.00,  -999.0,9,  -999.0,  24.7248,2
49NZ200107_1,       P17C,      25,          1,         33,         33,2,20010807,       0135,    30.5180,  -135.0043,       4524,    75.0,  17.4208,2,  34.3192,2,  34.3337,2,   240.03,1,  250.51,2,    2.61,2,    0.00,2,   -0.01,2,    0.05,2,-999.000,9,-999.000,9,-999.000,9,  -999.0,9,  -999.0,9, -999.000,  -999.00, -999.00,9, -999.00,  -999.0,9,  -999.0,  24.8944,2
49NZ200107_1,       P17C,      25,          1,         32,         32,2,20010807,       0135,    30.5180,  -135.0043,       4524,   101.0,  17.4061,2,  34.4996,2,  34.5017,2,   232.38,1,  240.76,2,    2.70,2,    0.00,2,   -0.01,2,    0.05,2,-999.000,9,-999.000,9,-999.000,9,  -999.0,9,  -999.0,9, -999.000,  -999.00, -999.00,9, -999.00,  -999.0,9,  -999.0,  25.0373,2
49NZ200107_1,       P17C,      25,          1,         31,         31,2,20010807,       0135,    30.5180,  -135.0043,       4524,   151.3,  13.7329,2,  33.9675,2,  33.9804,2,   226.23,1,  234.93,2,    4.01,2,    2.58,2,    0.05,2,    0.30,2,-999.000,9,-999.000,9,-999.000,9,  -999.0,9,  -999.0,9, -999.000,  -999.00, -999.00,9, -999.00,  -999.0,9,  -999.0,  25.4490,2
49NZ200107_1,       P17C,      25,          1,         30,         30,2,20010807,       0135,    30.5180,  -135.0043,       4524,   202.2,  11.8980,2,  34.0650,2,  34.0649,2,   213.50,1,  221.63,2,    8.25,2,    8.58,2,    0.01,2,    0.62,2,-999.000,9,-999.000,9,-999.000,9,  -999.0,9,  -999.0,9, -999.000,  -999.00, -999.00,9, -999.00,  -999.0,9,  -999.0,  25.8870,2
49NZ200107_1,       P17C,      25,          1,         29,         29,2,20010807,       0135,    30.5180,  -135.0043,       4524,   252.0,  10.7673,2,  34.0778,2,  34.0672,2,   216.93,1,  227.51,2,   11.67,2,   11.61,2,    0.00,2,    0.78,2,-999.000,9,-999.000,9,-999.000,9,  -999.0,9,  -999.0,9, -999.000,  -999.00, -999.00,9, -999.00,  -999.0,9,  -999.0,  26.1043,2
49NZ200107_1,       P17C,      25,          1,         28,         28,2,20010807,       0135,    30.5180,  -135.0043,       4524,   302.9,   9.7750,2,  34.0928,2,  34.0925,2,   204.24,1,  207.55,2,   18.39,2,   16.38,2,    0.00,2,    1.11,2,-999.000,9,-999.000,9,-999.000,9,  -999.0,9,  -999.0,9, -999.000,  -999.00, -999.00,9, -999.00,  -999.0,9,  -999.0,  26.2871,2
49NZ200107_1,       P17C,      25,          1,         27,         27,2,20010807,       0135,    30.5180,  -135.0043,       4524,   352.2,   8.9032,2,  34.0645,2,  34.0647,2,   179.77,1,  189.04,2,   23.79,2,   19.90,2,    0.00,2,    1.34,2,-999.000,9,-999.000,9,-999.000,9,  -999.0,9,  -999.0,9, -999.000,  -999.00, -999.00,9, -999.00,  -999.0,9,  -999.0,  26.4068,2
49NZ200107_1,       P17C,      25,          1,         26,         26,2,20010807,       0135,    30.5180,  -135.0043,       4524,   403.4,   8.0323,2,  34.0350,2,  34.0331,2,   157.95,1,  162.58,2,   31.93,2,   24.32,2,   -0.01,2,    1.68,2,-999.000,9,-999.000,9,-999.000,9,  -999.0,9,  -999.0,9, -999.000,  -999.00, -999.00,9, -999.00,  -999.0,9,  -999.0,  26.5172,2
49NZ200107_1,       P17C,      25,          1,         25,         25,2,20010807,       0135,    30.5180,  -135.0043,       4524,   504.2,   6.2313,2,  33.9994,2,  34.0006,2,   103.62,1,  108.87,2,   51.65,2,   32.57,2,    0.00,2,    2.31,2,-999.000,9,-999.000,9,-999.000,9,  -999.0,9,  -999.0,9, -999.000,  -999.00, -999.00,9, -999.00,  -999.0,9,  -999.0,  26.7383,2
49NZ200107_1,       P17C,      25,          1,         24,         24,2,20010807,       0135,    30.5180,  -135.0043,       4524,   605.2,   5.1028,2,  34.0596,2,  34.0627,2,    56.76,1,   54.58,2,   73.43,2,   39.25,2,   -0.01,2,    2.79,2,-999.000,9,-999.000,9,-999.000,9,  -999.0,9,  -999.0,9, -999.000,  -999.00, -999.00,9, -999.00,  -999.0,9,  -999.0,  26.9235,2
49NZ200107_1,       P17C,      25,          1,         23,         23,2,20010807,       0135,    30.5180,  -135.0043,       4524,   705.9,   4.4632,2,  34.1728,2,  34.1736,2,    28.87,1,   24.15,2,   91.05,2,   42.60,2,   -0.01,2,    3.09,2,-999.000,9,-999.000,9,-999.000,9,  -999.0,9,  -999.0,9, -999.000,  -999.00, -999.00,9, -999.00,  -999.0,9,  -999.0,  27.0851,2
49NZ200107_1,       P17C,      25,          1,         22,         22,2,20010807,       0135,    30.5180,  -135.0043,       4524,   807.0,   4.2085,2,  34.2827,2,  34.2919,2,    19.33,1,   12.95,2,  101.19,2,   43.66,2,   -0.01,2,    3.18,2,-999.000,9,-999.000,9,-999.000,9,  -999.0,9,  -999.0,9, -999.000,  -999.00, -999.00,9, -999.00,  -999.0,9,  -999.0,  27.2002,2
49NZ200107_1,       P17C,      25,          1,         21,         21,2,20010807,       0135,    30.5180,  -135.0043,       4524,   909.0,   3.9475,2,  34.3727,2,  34.3716,2,    18.37,1,   12.13,2,  109.46,2,   44.15,2,    0.01,2,    3.22,2,-999.000,9,-999.000,9,-999.000,9,  -999.0,9,  -999.0,9, -999.000,  -999.00, -999.00,9, -999.00,  -999.0,9,  -999.0,  27.2994,2
49NZ200107_1,       P17C,      25,          1,         20,         20,2,20010807,       0135,    30.5180,  -135.0043,       4524,  1009.5,   3.7043,2,  34.4241,2,  34.4238,2,    22.76,1,   15.63,2,  115.30,2,   44.25,2,   -0.01,2,    3.22,2,-999.000,9,-999.000,9,-999.000,9,  -999.0,9,  -999.0,9, -999.000,  -999.00, -999.00,9, -999.00,  -999.0,9,  -999.0,  27.3654,2
49NZ200107_1,       P17C,      25,          1,         19,         19,2,20010807,       0135,    30.5180,  -135.0043,       4524,  1110.7,   3.4503,2,  34.4628,2,  34.4651,3,    29.00,1,   22.57,2,  121.96,2,   44.14,2,    0.00,2,    3.16,2,-999.000,9,-999.000,9,-999.000,9,  -999.0,9,  -999.0,9, -999.000,  -999.00, -999.00,9, -999.00,  -999.0,9,  -999.0,  27.4216,2
49NZ200107_1,       P17C,      25,          1,         18,         18,2,20010807,       0135,    30.5180,  -135.0043,       4524,  1212.2,   3.2449,2,  34.4942,2,  34.4942,2,    35.48,1,   30.45,2,  126.19,2,   43.89,2,    0.00,2,    3.13,2,-999.000,9,-999.000,9,-999.000,9,  -999.0,9,  -999.0,9, -999.000,  -999.00, -999.00,9, -999.00,  -999.0,9,  -999.0,  27.4667,2
49NZ200107_1,       P17C,      25,          1,         17,         17,2,20010807,       0135,    30.5180,  -135.0043,       4524,  1313.1,   3.0365,2,  34.5213,2,  34.5211,2,    44.60,1,   39.89,2,  130.51,2,   43.32,2,   -0.01,2,    3.11,2,-999.000,9,-999.000,9,-999.000,9,  -999.0,9,  -999.0,9, -999.000,  -999.00, -999.00,9, -999.00,  -999.0,9,  -999.0,  27.5081,2
49NZ200107_1,       P17C,      25,          1,         16,         16,2,20010807,       0135,    30.5180,  -135.0043,       4524,  1415.0,   2.8674,2,  34.5407,2,  34.5408,2,    49.92,1,   45.65,2,  134.44,2,   43.10,2,   -0.01,2,    3.09,2,-999.000,9,-999.000,9,-999.000,9,  -999.0,9,  -999.0,9, -999.000,  -999.00, -999.00,9, -999.00,  -999.0,9,  -999.0,  27.5393,2
49NZ200107_1,       P17C,      25,          1,         15,         15,2,20010807,       0135,    30.5180,  -135.0043,       4524,  1618.6,   2.5020,2,  34.5749,2,  34.5752,2,    61.03,1,   58.53,2,  143.36,2,   42.40,2,   -0.01,2,    2.99,2,-999.000,9,-999.000,9,-999.000,9,  -999.0,9,  -999.0,9, -999.000,  -999.00, -999.00,9, -999.00,  -999.0,9,  -999.0,  27.5993,2
49NZ200107_1,       P17C,      25,          1,         14,         14,2,20010807,       0135,    30.5180,  -135.0043,       4524,  1821.0,   2.2179,2,  34.5994,2,  34.5996,2,    70.71,1,   67.85,2,  150.63,2,   41.78,2,   -0.01,2,    2.98,2,-999.000,9,-999.000,9,-999.000,9,  -999.0,9,  -999.0,9, -999.000,  -999.00, -999.00,9, -999.00,  -999.0,9,  -999.0,  27.6433,2
49NZ200107_1,       P17C,      25,          1,         13,         13,2,20010807,       0135,    30.5180,  -135.0043,       4524,  2023.8,   2.0115,2,  34.6182,2,  34.6182,2,    80.38,1,   78.21,2,  155.57,2,   41.08,2,   -0.01,2,    2.93,2,-999.000,9,-999.000,9,-999.000,9,  -999.0,9,  -999.0,9, -999.000,  -999.00, -999.00,9, -999.00,  -999.0,9,  -999.0,  27.6757,2
49NZ200107_1,       P17C,      25,          1,         12,         12,2,20010807,       0135,    30.5180,  -135.0043,       4524,  2227.5,   1.8540,2,  34.6341,2,  34.6341,2,    90.01,1,   88.39,2,  157.45,2,   40.39,2,   -0.01,2,    2.87,2,-999.000,9,-999.000,9,-999.000,9,  -999.0,9,  -999.0,9, -999.000,  -999.00, -999.00,9, -999.00,  -999.0,9,  -999.0,  27.7017,2
49NZ200107_1,       P17C,      25,          1,         11,         11,2,20010807,       0135,    30.5180,  -135.0043,       4524,  2431.5,   1.7485,2,  34.6451,2,  34.6452,2,    97.58,1,   96.72,2,  157.97,2,   39.90,2,    0.01,2,    2.80,2,-999.000,9,-999.000,9,-999.000,9,  -999.0,9,  -999.0,9, -999.000,  -999.00, -999.00,9, -999.00,  -999.0,9,  -999.0,  27.7196,2
49NZ200107_1,       P17C,      25,          1,         10,         10,2,20010807,       0135,    30.5180,  -135.0043,       4524,  2634.8,   1.6544,2,  34.6538,2,  34.6540,2,   105.27,1,  105.25,2,  159.37,2,   39.44,2,   -0.01,2,    2.78,2,-999.000,9,-999.000,9,-999.000,9,  -999.0,9,  -999.0,9, -999.000,  -999.00, -999.00,9, -999.00,  -999.0,9,  -999.0,  27.7347,2
49NZ200107_1,       P17C,      25,          1,          9,          9,2,20010807,       0135,    30.5180,  -135.0043,       4524,  2838.6,   1.5927,2,  34.6615,2,  34.6615,2,   112.77,1,  112.11,2,  159.49,2,   38.86,2,   -0.01,2,    2.74,2,-999.000,9,-999.000,9,-999.000,9,  -999.0,9,  -999.0,9, -999.000,  -999.00, -999.00,9, -999.00,  -999.0,9,  -999.0,  27.7465,2
49NZ200107_1,       P17C,      25,          1,          8,          8,2,20010807,       0135,    30.5180,  -135.0043,       4524,  3042.5,   1.5441,2,  34.6677,2,  34.6673,2,   119.37,1,  119.25,2,  159.31,2,   38.55,2,    0.00,2,    2.70,2,-999.000,9,-999.000,9,-999.000,9,  -999.0,9,  -999.0,9, -999.000,  -999.00, -999.00,9, -999.00,  -999.0,9,  -999.0,  27.7563,2
49NZ200107_1,       P17C,      25,          1,          7,          7,2,20010807,       0135,    30.5180,  -135.0043,       4524,  3298.6,   1.4833,2,  34.6757,2,  34.6752,2,   130.18,1,  130.42,2,  155.91,2,   37.92,2,    0.00,2,    2.64,2,-999.000,9,-999.000,9,-999.000,9,  -999.0,9,  -999.0,9, -999.000,  -999.00, -999.00,9, -999.00,  -999.0,9,  -999.0,  27.7686,2
49NZ200107_1,       P17C,      25,          1,          6,          6,2,20010807,       0135,    30.5180,  -135.0043,       4524,  3554.5,   1.4714,2,  34.6797,2,  34.6792,2,   136.27,1,  136.31,2,  154.48,2,   37.43,2,   -0.01,2,    2.63,2,-999.000,9,-999.000,9,-999.000,9,  -999.0,9,  -999.0,9, -999.000,  -999.00, -999.00,9, -999.00,  -999.0,9,  -999.0,  27.7744,2
49NZ200107_1,       P17C,      25,          1,          5,          5,2,20010807,       0135,    30.5180,  -135.0043,       4524,  3809.9,   1.4739,2,  34.6825,2,  34.6823,2,   141.00,1,  140.61,2,  152.47,2,   37.20,2,   -0.01,2,    2.59,2,-999.000,9,-999.000,9,-999.000,9,  -999.0,9,  -999.0,9, -999.000,  -999.00, -999.00,9, -999.00,  -999.0,9,  -999.0,  27.7783,2
49NZ200107_1,       P17C,      25,          1,          4,          4,2,20010807,       0135,    30.5180,  -135.0043,       4524,  4066.8,   1.4905,2,  34.6839,2,  34.6837,2,   144.18,1,  143.39,2,  151.64,2,   37.06,2,    0.00,2,    2.58,2,-999.000,9,-999.000,9,-999.000,9,  -999.0,9,  -999.0,9, -999.000,  -999.00, -999.00,9, -999.00,  -999.0,9,  -999.0,  27.7802,2
49NZ200107_1,       P17C,      25,          1,          3,          3,2,20010807,       0135,    30.5180,  -135.0043,       4524,  4323.5,   1.5151,2,  34.6845,2,  34.6845,2,   146.48,1,  143.64,2,  151.29,2,   36.92,2,    0.00,2,    2.56,2,-999.000,9,-999.000,9,-999.000,9,  -999.0,9,  -999.0,9, -999.000,  -999.00, -999.00,9, -999.00,  -999.0,9,  -999.0,  27.7810,2
49NZ200107_1,       P17C,      25,          1,          2,          2,2,20010807,       0135,    30.5180,  -135.0043,       4524,  4580.7,   1.5431,2,  34.6848,2,  34.6849,2,   148.86,1,  144.25,2,  150.67,2,   36.80,2,   -0.01,2,    2.49,2,-999.000,9,-999.000,9,-999.000,9,  -999.0,9,  -999.0,9, -999.000,  -999.00, -999.00,9, -999.00,  -999.0,9,  -999.0,  27.7815,2
49NZ200107_1,       P17C,      25,          1,          1,          1,2,20010807,       0135,    30.5180,  -135.0043,       4524,  4644.8,   1.5508,2,  34.6849,2,  34.6851,2,   149.64,1,  144.11,2,  150.57,2,   36.87,2,   -0.01,2,    2.52,2,-999.000,9,-999.000,9,-999.000,9,  -999.0,9,  -999.0,9, -999.000,  -999.00, -999.00,9, -999.00,  -999.0,9,  -999.0,  27.7815,2