BOTTLE,20220817CCHSIOAMB
EXPOCODE,SECT_ID,STNNBR,CASTNO,SAMPNO,BTLNBR,BTLNBR_FLAG_W,DATE,TIME,LATITUDE,LONGITUDE,DEPTH,CTDPRS,CTDTMP,CTDTMP_FLAG_W,CTDSAL,CTDSAL_FLAG_W,SALNTY,SALNTY_FLAG_W,CTDOXY,CTDOXY_FLAG_W,OXYGEN,OXYGEN_FLAG_W,SILCAT,SILCAT_FLAG_W,NITRAT,NITRAT_FLAG_W,NITRIT,NITRIT_FLAG_W,PHSPHT,PHSPHT_FLAG_W,CFC-11,CFC-11_FLAG_W,CFC-12,CFC-12_FLAG_W,CFC113,CFC113_FLAG_W,TCARBN,TCARBN_FLAG_W,ALKALI,ALKALI_FLAG_W,PH_TOT,PH_TMP,DELC13,DELC13_FLAG_W,C13ERR,DELC14,DELC14_FLAG_W,C14ERR,THETA,THETA_FLAG_W
,,,,,,,,,,,METERS,DBAR,ITS-90,,PSS-78,,PSS-78,,UMOL/KG,,UMOL/KG,,UMOL/KG,,UMOL/KG,,UMOL/KG,,UMOL/KG,,PMOL/KG,,PMOL/KG,,PMOL/KG,,UMOL/KG,,UMOL/KG,,,DEG C,/MILLE,,/MILLE,/MILLE,,/MILLE,DEG C,
49NZ200107_1,       P17N,      43,          1,          0,        -99,9,20010812,       0201,    39.9702,  -135.0100,       3786,     4.5,-999.0000,9,-999.0000,9,  32.6022,2,  -999.00,9,  249.80,2,    1.36,2,    0.05,2,    0.00,2,    0.34,2,-999.000,1,-999.000,1,-999.000,1,  1964.6,2,  2182.5,2,    7.945,    25.00, -999.00,9, -999.00,  -999.0,9,  -999.0,-999.0000,9
49NZ200107_1,       P17N,      43,          1,         36,         36,2,20010812,       0201,    39.9702,  -135.0100,       3786,    10.9,  17.3591,2,  32.5980,2,  32.5973,2,   240.86,1,  251.14,2,    2.07,2,    0.03,2,    0.01,2,    0.31,2,-999.000,1,-999.000,1,-999.000,1,  1962.5,2,  2179.5,2,    7.942,    25.00,    2.02,2,    0.00,    51.3,2,     4.9,  23.5874,2
49NZ200107_1,       P17N,      43,          1,         35,         35,2,20010812,       0201,    39.9702,  -135.0100,       3786,    25.6,  17.2742,2,  32.5824,2,  32.5955,2,   244.05,1,  270.04,2,    1.79,2,    0.00,2,    0.01,2,    0.31,2,-999.000,1,-999.000,1,-999.000,1,  1963.7,2,  2180.4,2,    7.946,    25.00,    2.02,2,    0.01,    53.1,2,     5.5,  23.5961,2
49NZ200107_1,       P17N,      43,          1,         34,         34,2,20010812,       0201,    39.9702,  -135.0100,       3786,    50.9,  11.9471,2,  32.5970,2,  32.6001,2,   285.42,1,  298.57,2,    3.71,2,    0.00,2,    0.02,2,    0.39,2,-999.000,1,-999.000,1,-999.000,1,  1968.4,2,  2180.4,2,    7.924,    25.00,    1.94,2,    0.01,    43.4,2,     4.5,  24.7343,2
49NZ200107_1,       P17N,      43,          1,         33,         33,2,20010812,       0201,    39.9702,  -135.0100,       3786,    76.0,  10.8168,2,  32.6031,2,  32.5869,2,   262.31,1,  274.10,2,    6.86,2,    3.03,2,    0.90,2,    0.62,2,-999.000,1,-999.000,1,-999.000,1,  1998.5,2,  2181.1,6,    7.866,    25.00,    1.52,2,    0.01,    42.1,2,     5.2,  24.9432,2
49NZ200107_1,       P17N,      43,          1,         32,         32,2,20010812,       0201,    39.9702,  -135.0100,       3786,   101.2,  10.3412,2,  32.5774,2,  32.6035,2,   259.28,1,  271.00,2,    6.54,2,    4.39,2,    0.72,2,    0.68,2,-999.000,1,-999.000,1,-999.000,1,  2003.1,2,  2185.4,2,    7.846,    25.00,    1.58,2,    0.00,    37.5,2,     5.4,  25.0055,2
49NZ200107_1,       P17N,      43,          1,         31,         31,3,20010812,       0201,    39.9702,  -135.0100,       3786,   151.6,   8.7686,2,  32.7608,2,  32.7843,2,   245.09,1,  257.36,2,   11.00,2,   10.65,2,    0.02,2,    1.01,2,-999.000,1,-999.000,1,-999.000,1,  2043.0,2,  2186.7,2,    7.774,    25.00,    1.10,2,    0.00,    38.1,2,     4.4,  25.4032,2
49NZ200107_1,       P17N,      43,          1,         30,         30,2,20010812,       0201,    39.9702,  -135.0100,       3786,   202.5,   8.0139,2,  33.5146,2,  33.5876,2,   212.85,1,  222.39,2,   19.33,2,   17.08,2,    0.01,2,    1.28,2,-999.000,1,-999.000,1,-999.000,1,  2105.6,6,  2227.6,2,    7.717,    25.00,    0.48,6,    0.00,    31.1,6,     3.0,  26.1083,2
49NZ200107_1,       P17N,      43,          1,         29,         29,2,20010812,       0201,    39.9702,  -135.0100,       3786,   252.1,   8.0990,2,  33.9338,2,  33.9445,2,   170.09,1,  177.60,2,   30.11,2,   23.20,2,    0.01,2,    1.62,2,-999.000,1,-999.000,1,-999.000,1,  2151.5,2,  2254.8,2,    7.637,    25.00,    0.08,2,    0.00,    25.4,2,     4.4,  26.4255,2
49NZ200107_1,       P17N,      43,          1,         28,         28,2,20010812,       0201,    39.9702,  -135.0100,       3786,   303.0,   7.2258,2,  33.9800,2,  33.9782,2,   137.13,1,  141.94,2,   40.67,2,   28.35,2,    0.01,2,    1.93,2,-999.000,1,-999.000,1,-999.000,1,  2193.2,2,  2262.5,6,    7.554,    25.00,   -0.08,2,    0.01,    -7.9,2,     4.3,  26.5880,2
49NZ200107_1,       P17N,      43,          1,         27,         27,3,20010812,       0201,    39.9702,  -135.0100,       3786,   353.4,   6.3817,2,  33.9690,2,  33.9660,2,   110.99,1,  113.78,2,   50.17,2,   32.51,2,    0.01,2,    2.24,2,-999.000,1,-999.000,1,-999.000,1,  2223.5,2,  2271.0,2,    7.493,    25.00,   -0.22,2,    0.01,   -28.7,2,     4.3,  26.6932,2
49NZ200107_1,       P17N,      43,          1,         26,         26,3,20010812,       0201,    39.9702,  -135.0100,       3786,   403.8,   5.7712,2,  33.9663,2,  33.9648,2,    92.08,1,   93.16,2,   57.99,2,   35.49,2,    0.01,2,    2.47,2,-999.000,1,-999.000,1,-999.000,1,  2248.3,6,  2278.2,2,    7.436,    25.00,   -0.32,2,    0.00,   -45.1,2,     4.6,  26.7684,2
49NZ200107_1,       P17N,      43,          1,         25,         25,2,20010812,       0201,    39.9702,  -135.0100,       3786,   504.9,   5.1088,2,  34.0189,2,  34.0248,2,    56.93,1,   52.72,2,   72.45,2,   40.05,2,    0.01,2,    2.81,2,-999.000,1,-999.000,1,-999.000,1,  2289.0,2,  2297.1,2,    7.356,    25.00,   -0.50,2,    0.00,   -91.5,2,     4.7,  26.8895,2
49NZ200107_1,       P17N,      43,          1,         24,         24,2,20010812,       0201,    39.9702,  -135.0100,       3786,   606.0,   4.5711,2,  34.0921,2,  34.0932,2,    38.58,1,   34.01,2,   85.65,2,   42.29,2,    0.01,2,    2.96,2,-999.000,1,-999.000,1,-999.000,1,  2315.2,2,  2305.1,2,    7.326,    25.00,   -0.54,2,    0.00,  -137.2,2,     4.4,  27.0085,2
49NZ200107_1,       P17N,      43,          1,         23,         23,2,20010812,       0201,    39.9702,  -135.0100,       3786,   707.0,   4.1288,2,  34.1619,2,  34.1787,2,    25.83,1,   18.51,2,   99.14,2,   43.84,2,    0.01,2,    3.11,2,-999.000,1,-999.000,1,-999.000,1,  2341.3,2,  2326.0,2,    7.306,    25.00,   -0.63,2,    0.00,  -166.2,2,     7.1,  27.1116,2
49NZ200107_1,       P17N,      43,          1,         22,         22,3,20010812,       0201,    39.9702,  -135.0100,       3786,   808.4,   3.8762,2,  34.2529,2,  34.2621,2,    17.93,1,   10.21,2,  108.18,2,   44.66,2,    0.01,2,    3.17,2,-999.000,1,-999.000,1,-999.000,1,  2359.5,6,  -999.0,5,    7.304,    25.00,   -0.62,2,    0.00,  -192.1,2,     4.8,  27.2104,2
49NZ200107_1,       P17N,      43,          1,         21,         21,3,20010812,       0201,    39.9702,  -135.0100,       3786,   909.6,   3.6794,2,  34.3271,2,  34.3297,2,    15.75,1,    8.07,2,  115.20,2,   45.00,2,    0.01,2,    3.21,2,-999.000,1,-999.000,1,-999.000,1,  2370.5,2,  2356.5,2,    7.307,    25.00, -999.00,5, -999.00,  -999.0,5,  -999.0,  27.2898,2
49NZ200107_1,       P17N,      43,          1,         20,         20,3,20010812,       0201,    39.9702,  -135.0100,       3786,  1010.7,   3.4863,2,  34.3891,2,  34.3925,2,    17.25,1,    9.93,2,  122.47,2,   45.04,2,    0.01,2,    3.24,2,-999.000,1,-999.000,1,-999.000,1,  2374.8,2,  2364.5,2,    7.323,    25.00,   -0.60,2,    0.00,  -209.1,2,     5.7,  27.3587,2
49NZ200107_1,       P17N,      43,          1,         19,         19,2,20010812,       0201,    39.9702,  -135.0100,       3786,  1111.8,   3.3145,2,  34.4365,2,  34.4365,2,    21.23,1,   14.03,2,  126.79,2,   44.97,2,    0.00,2,    3.19,2,-999.000,1,-999.000,1,-999.000,1,  2381.4,2,  2374.9,2,    7.326,    25.00,   -0.60,2,    0.00,  -219.8,2,     4.5,  27.4134,2
49NZ200107_1,       P17N,      43,          1,         18,         18,2,20010812,       0201,    39.9702,  -135.0100,       3786,  1213.0,   3.1106,2,  34.4759,2,  34.4757,2,    27.10,1,   19.40,2,  132.21,2,   44.69,2,    0.01,2,    3.19,2,-999.000,1,-999.000,1,-999.000,1,  2381.9,6,  2382.8,2,    7.345,    25.00,   -0.57,6,    0.00,  -231.0,6,     3.2,  27.4644,2
49NZ200107_1,       P17N,      43,          1,         17,         17,2,20010812,       0201,    39.9702,  -135.0100,       3786,  1314.4,   2.9319,2,  34.4980,2,  34.4981,2,    31.31,1,   24.69,2,  136.56,2,   44.56,2,    0.01,2,    3.17,2,-999.000,1,-999.000,1,-999.000,1,  2383.8,2,  2393.2,2,    7.355,    25.00,   -0.51,2,    0.00,  -228.9,2,     4.8,  27.4988,2
49NZ200107_1,       P17N,      43,          1,         16,         16,2,20010812,       0201,    39.9702,  -135.0100,       3786,  1415.4,   2.7713,2,  34.5171,2,  34.5171,2,    36.35,1,   29.68,2,  140.71,2,   44.42,2,    0.01,2,    3.15,2,-999.000,1,-999.000,1,-999.000,1,  2385.0,2,  2398.0,2,    7.365,    25.00,   -0.51,2,    0.00,  -234.7,2,     5.3,  27.5289,2
49NZ200107_1,       P17N,      43,          1,         15,         15,2,20010812,       0201,    39.9702,  -135.0100,       3786,  1517.0,   2.5627,2,  34.5336,2,  34.5333,2,    40.57,1,   33.71,2,  146.32,2,   44.03,2,    0.00,2,    3.12,2,-999.000,1,-999.000,1,-999.000,1,  2389.2,2,  2393.8,3,    7.372,    25.00,   -0.51,2,    0.00,  -241.5,2,     7.3,  27.5605,2
49NZ200107_1,       P17N,      43,          1,         14,         14,2,20010812,       0201,    39.9702,  -135.0100,       3786,  1619.3,   2.3755,2,  34.5527,2,  34.5537,2,    46.67,1,   41.34,2,  151.36,2,   43.76,2,    0.01,2,    3.07,2,-999.000,1,-999.000,1,-999.000,1,  2388.6,2,  2404.0,2,    7.387,    25.00,   -0.49,2,    0.00,  -244.7,2,     5.5,  27.5919,2
49NZ200107_1,       P17N,      43,          1,         13,         13,2,20010812,       0201,    39.9702,  -135.0100,       3786,  1721.1,   2.2625,2,  34.5686,2,  34.5686,2,    53.50,1,   48.35,2,  153.66,2,   43.35,2,    0.00,2,    3.04,2,-999.000,1,-999.000,1,-999.000,1,  2386.5,2,  2406.4,2,    7.402,    25.00,   -0.42,2,    0.00,  -243.8,2,     4.9,  27.6144,2
49NZ200107_1,       P17N,      43,          1,         12,         12,2,20010812,       0201,    39.9702,  -135.0100,       3786,  1822.3,   2.0892,2,  34.5884,2,  34.5882,2,    62.14,1,   57.17,2,  157.72,2,   42.81,2,    0.00,2,    3.01,2,-999.000,1,-999.000,1,-999.000,1,  2384.9,2,  2410.5,2,    7.421,    25.00,   -0.39,2,    0.01,  -241.3,2,     4.8,  27.6446,2
49NZ200107_1,       P17N,      43,          1,         11,         11,2,20010812,       0201,    39.9702,  -135.0100,       3786,  1923.6,   2.0324,2,  34.5964,2,  34.5966,2,    66.34,1,   61.76,2,  159.56,2,   42.47,2,    0.01,2,    2.97,2,-999.000,1,-999.000,1,-999.000,1,  2384.4,2,  2416.1,2,    7.430,    25.00,   -0.37,2,    0.00,  -241.9,2,     4.6,  27.6560,2
49NZ200107_1,       P17N,      43,          1,         10,         10,2,20010812,       0201,    39.9702,  -135.0100,       3786,  2025.5,   1.9619,2,  34.6060,2,  34.6057,2,    71.49,1,   67.16,2,  161.67,2,   42.06,2,   -0.01,2,    2.95,2,-999.000,1,-999.000,1,-999.000,1,  2384.1,2,  2418.2,2,    7.440,    25.00,   -0.36,2,    0.00,  -249.1,2,     5.2,  27.6697,2
49NZ200107_1,       P17N,      43,          1,          9,          9,2,20010812,       0201,    39.9702,  -135.0100,       3786,  2229.6,   1.8602,2,  34.6203,2,  34.6205,2,    80.33,1,   76.64,2,  163.83,2,   41.29,2,    0.00,2,    2.92,2,-999.000,1,-999.000,1,-999.000,1,  2377.9,2,  2424.7,2,    7.462,    25.00,   -0.30,2,    0.00,  -247.2,2,     6.6,  27.6902,2
49NZ200107_1,       P17N,      43,          1,          8,          8,2,20010812,       0201,    39.9702,  -135.0100,       3786,  2432.7,   1.7621,2,  34.6344,2,  34.6345,2,    90.38,1,   87.24,2,  164.37,2,   40.79,2,    0.01,2,    2.86,2,-999.000,9,-999.000,9,-999.000,9,  -999.0,9,  -999.0,9, -999.000,  -999.00, -999.00,9, -999.00,  -999.0,9,  -999.0,  27.7100,2
49NZ200107_1,       P17N,      43,          1,          7,          7,2,20010812,       0201,    39.9702,  -135.0100,       3786,  2636.3,   1.6991,2,  34.6436,2,  34.6436,2,    98.04,1,   95.10,2,  164.33,2,   40.39,2,    0.01,2,    2.82,2,-999.000,1,-999.000,1,-999.000,1,  2368.9,6,  2423.8,2,    7.497,    25.00,   -0.20,6,    0.00,  -246.7,6,     6.9,  27.7233,2
49NZ200107_1,       P17N,      43,          1,          6,          6,2,20010812,       0201,    39.9702,  -135.0100,       3786,  2840.8,   1.6606,2,  34.6500,2,  34.6499,2,   104.02,1,  101.10,2,  165.03,2,   40.03,2,   -0.01,2,    2.81,2,-999.000,9,-999.000,9,-999.000,9,  -999.0,9,  -999.0,9, -999.000,  -999.00, -999.00,9, -999.00,  -999.0,9,  -999.0,  27.7325,2
49NZ200107_1,       P17N,      43,          1,          5,          5,2,20010812,       0201,    39.9702,  -135.0100,       3786,  3045.3,   1.6214,2,  34.6566,2,  34.6568,2,   111.08,1,  107.47,2,  164.54,2,   39.60,2,    0.00,2,    2.75,2,-999.000,1,-999.000,1,-999.000,1,  2362.2,2,  2423.0,2,    7.521,    25.00,   -0.18,2,    0.01,  -244.6,2,     5.3,  27.7419,2
49NZ200107_1,       P17N,      43,          1,          3,          3,2,20010812,       0201,    39.9702,  -135.0100,       3786,  3301.4,   1.5672,2,  34.6657,2,  34.6656,2,   120.48,1,  117.08,2,  164.19,2,   39.07,2,   -0.01,2,    2.72,2,-999.000,1,-999.000,1,-999.000,1,  2358.4,2,  2431.5,6,    7.538,    25.00,   -0.14,2,    0.00,  -242.7,2,     4.5,  27.7548,2
49NZ200107_1,       P17N,      43,          1,          4,          4,2,20010812,       0201,    39.9702,  -135.0100,       3786,  3301.5,   1.5674,2,  34.6656,2,  34.6656,2,   120.50,1,  116.75,2,  163.78,2,   39.07,2,    0.00,2,    2.71,2,-999.000,1,-999.000,1,-999.000,1,  2358.7,2,  2428.3,2,    7.540,    25.00,   -0.14,2,    0.01,  -233.5,2,     5.6,  27.7547,2
49NZ200107_1,       P17N,      43,          1,          2,          2,2,20010812,       0201,    39.9702,  -135.0100,       3786,  3557.3,   1.5344,2,  34.6731,2,  34.6728,2,   128.54,1,  123.72,2,  163.24,2,   38.57,2,    0.00,2,    2.67,2,-999.000,1,-999.000,1,-999.000,1,  2353.8,2,  2430.5,2,    7.555,    25.00,   -0.05,2,    0.00,  -230.3,2,     4.5,  27.7648,2
49NZ200107_1,       P17N,      43,          1,          1,          1,2,20010812,       0201,    39.9702,  -135.0100,       3786,  3742.9,   1.5208,2,  34.6773,2,  34.6773,2,   133.48,1,  127.98,2,  164.38,2,   38.32,2,    0.00,2,    2.65,2,-999.000,1,-999.000,1,-999.000,1,  2353.3,2,  2433.3,2,    7.565,    25.00,   -0.02,2,    0.00,  -233.2,2,     7.6,  27.7705,2