BOTTLE,20220816CCHSIOAMB
EXPOCODE,STNNBR,CASTNO,BTLNBR,BTLNBR_FLAG_W,DATE,LATITUDE,LONGITUDE,DEPTH,CTDPRS,CTDTMP,CTDSAL,CTDSAL_FLAG_W,SALNTY,SALNTY_FLAG_W,CTDOXY,CTDOXY_FLAG_W,OXYGEN,OXYGEN_FLAG_W,SILCAT,SILCAT_FLAG_W,NITRAT,NITRAT_FLAG_W,NITRIT,NITRIT_FLAG_W,PHSPHT,PHSPHT_FLAG_W,TCARBN,TCARBN_FLAG_W,ALKALI,ALKALI_FLAG_W,TRITUM,TRITUM_FLAG_W,TRITER,HELIUM,HELIUM_FLAG_W,DELHE3,DELHE3_FLAG_W,DELHER,THETA,SOMSAL,AMMONI,AMMONI_FLAG_W,POC,POC_FLAG_W,PON,PON_FLAG_W,CHLORA,CHLORA_FLAG_W,PHAEO,PHAEO_FLAG_W,BACT,BACT_FLAG_W,STNNBR_U,BNLID
,,,,,,,,METERS,DBAR,ITS-90,PSS-78,,PSS-78,,UMOL/KG,,UMOL/KG,,UMOL/KG,,UMOL/KG,,UMOL/KG,,UMOL/KG,,UMOL/KG,,UMOL/KG,,TU,,TU,NMOL/KG,,PERCNT,,PERCNT,DEG C,PSS-78,UMOL/KG,,UG/KG,,UG/KG,,UG/KG,,UG/L,,E8/L,,,
32L919920715,2,3,11,2,19920719,77.1560,-10.4460,480,     2.0,  0.0580, 31.1320,2,-999.0000,9,   390.5,2,  -999.0,9, -999.00,9, -999.00,9, -999.00,9, -999.00,9,  -999.0,9,  -999.0,9,-999.000,9,-999.000,-999.0000,9, -999.00,9, -999.00,  0.0579,-999.0000,-999.000,9,-999.000,9,-999.000,9, -999.00,9,-999.00,9, -999.00,9,5,59
32L919920715,2,3,10,2,19920719,77.1560,-10.4460,480,    14.0, -0.9910, 32.3980,2,-999.0000,9,   366.5,2,  -999.0,9, -999.00,9, -999.00,9, -999.00,9, -999.00,9,  -999.0,9,  -999.0,9,-999.000,9,-999.000,-999.0000,9, -999.00,9, -999.00, -0.9913,-999.0000,-999.000,9,-999.000,9,-999.000,9, -999.00,9,-999.00,9, -999.00,9,5,58
32L919920715,2,3,9,2,19920719,77.1560,-10.4460,480,    29.0, -1.0760, 32.9650,2,-999.0000,9,   381.1,2,  -999.0,9, -999.00,9, -999.00,9, -999.00,9, -999.00,9,  -999.0,9,  -999.0,9,-999.000,9,-999.000,-999.0000,9, -999.00,9, -999.00, -1.0767,-999.0000,-999.000,9,-999.000,9,-999.000,9, -999.00,9,-999.00,9, -999.00,9,5,57
32L919920715,2,3,8,2,19920719,77.1560,-10.4460,480,    49.0, -1.6500, 33.7830,2,-999.0000,9,   383.1,2,  -999.0,9, -999.00,9, -999.00,9, -999.00,9, -999.00,9,  -999.0,9,  -999.0,9,-999.000,9,-999.000,-999.0000,9, -999.00,9, -999.00, -1.6510,-999.0000,-999.000,9,-999.000,9,-999.000,9, -999.00,9,-999.00,9, -999.00,9,5,56
32L919920715,2,3,7,2,19920719,77.1560,-10.4460,480,    74.0, -1.6570, 34.0270,2,-999.0000,9,   331.6,2,  -999.0,9, -999.00,9, -999.00,9, -999.00,9, -999.00,9,  -999.0,9,  -999.0,9,-999.000,9,-999.000,-999.0000,9, -999.00,9, -999.00, -1.6585,-999.0000,-999.000,9,-999.000,9,-999.000,9, -999.00,9,-999.00,9, -999.00,9,5,55
32L919920715,2,3,6,2,19920719,77.1560,-10.4460,480,    99.0, -1.5940, 34.1310,2,-999.0000,9,   323.3,2,  -999.0,9, -999.00,9, -999.00,9, -999.00,9, -999.00,9,  -999.0,9,  -999.0,9,-999.000,9,-999.000,-999.0000,9, -999.00,9, -999.00, -1.5961,-999.0000,-999.000,9,-999.000,9,-999.000,9, -999.00,9,-999.00,9, -999.00,9,5,54
32L919920715,2,3,5,2,19920719,77.1560,-10.4460,480,   152.0, -0.6520, 34.4320,2,-999.0000,9,   304.3,2,  -999.0,9, -999.00,9, -999.00,9, -999.00,9, -999.00,9,  -999.0,9,  -999.0,9,-999.000,9,-999.000,-999.0000,9, -999.00,9, -999.00, -0.6566,-999.0000,-999.000,9,-999.000,9,-999.000,9, -999.00,9,-999.00,9, -999.00,9,5,53
32L919920715,2,3,4,2,19920719,77.1560,-10.4460,480,   202.0,  0.7240, 34.7460,2,-999.0000,9,   294.3,2,  -999.0,9, -999.00,9, -999.00,9, -999.00,9, -999.00,9,  -999.0,9,  -999.0,9,-999.000,9,-999.000,-999.0000,9, -999.00,9, -999.00,  0.7153,-999.0000,-999.000,9,-999.000,9,-999.000,9, -999.00,9,-999.00,9, -999.00,9,5,52
32L919920715,2,3,3,2,19920719,77.1560,-10.4460,480,   299.0,  1.1920, 34.9160,2,-999.0000,9,   295.1,2,  -999.0,9, -999.00,9, -999.00,9, -999.00,9, -999.00,9,  -999.0,9,  -999.0,9,-999.000,9,-999.000,-999.0000,9, -999.00,9, -999.00,  1.1776,-999.0000,-999.000,9,-999.000,9,-999.000,9, -999.00,9,-999.00,9, -999.00,9,5,51
32L919920715,2,3,2,2,19920719,77.1560,-10.4460,480,   400.0,  0.8010, 34.9130,2,-999.0000,9,   287.6,2,  -999.0,9, -999.00,9, -999.00,9, -999.00,9, -999.00,9,  -999.0,9,  -999.0,9,-999.000,9,-999.000,-999.0000,9, -999.00,9, -999.00,  0.7826,-999.0000,-999.000,9,-999.000,9,-999.000,9, -999.00,9,-999.00,9, -999.00,9,5,50
32L919920715,2,3,1,2,19920719,77.1560,-10.4460,480,   470.0,  0.7900, 34.9110,2,-999.0000,9,   287.4,2,  -999.0,9, -999.00,9, -999.00,9, -999.00,9, -999.00,9,  -999.0,9,  -999.0,9,-999.000,9,-999.000,-999.0000,9, -999.00,9, -999.00,  0.7682,-999.0000,-999.000,9,-999.000,9,-999.000,9, -999.00,9,-999.00,9, -999.00,9,5,49
32L919920715,2,4,10,2,19920719,77.1560,-10.4460,480,     3.0,  0.0670, 31.2800,2,-999.0000,9,   439.3,3,  -999.0,9,   14.25,2,    2.90,3,    0.04,2,    0.89,2,  -999.0,9,  -999.0,9,-999.000,9,-999.000,-999.0000,9, -999.00,9, -999.00,  0.0669,-999.0000,   0.263,2,-999.000,9,-999.000,9, -999.00,9,-999.00,9, -999.00,9,6,70
32L919920715,2,4,8,2,19920719,77.1560,-10.4460,480,    10.0, -0.5230, 31.7520,2,-999.0000,9,  -999.0,9,  -999.0,9,   14.38,2,    3.08,2,    0.04,2,    0.91,2,  -999.0,9,  -999.0,9,-999.000,9,-999.000,-999.0000,9, -999.00,9, -999.00, -0.5233,-999.0000,   0.263,2,-999.000,9,-999.000,9, -999.00,9,-999.00,9, -999.00,9,6,68
32L919920715,2,4,9,2,19920719,77.1560,-10.4460,480,    10.0, -0.5230, 31.7520,2,-999.0000,9,  -999.0,9,  -999.0,9, -999.00,9, -999.00,9, -999.00,9, -999.00,9,  -999.0,9,  -999.0,9,-999.000,9,-999.000,-999.0000,9, -999.00,9, -999.00, -0.5233,-999.0000,-999.000,9,-999.000,9,-999.000,9, -999.00,9,-999.00,9, -999.00,9,6,69
32L919920715,2,4,6,2,19920719,77.1560,-10.4460,480,    53.0, -1.6530, 33.8200,2,-999.0000,9,  -999.0,9,  -999.0,9,    7.98,2,    7.35,2,    0.06,2,    0.66,2,  -999.0,9,  -999.0,9,-999.000,9,-999.000,-999.0000,9, -999.00,9, -999.00, -1.6540,-999.0000,   0.146,2,-999.000,9,-999.000,9, -999.00,9,-999.00,9, -999.00,9,6,66
32L919920715,2,4,7,2,19920719,77.1560,-10.4460,480,    53.0, -1.6530, 33.8200,2,-999.0000,9,  -999.0,9,  -999.0,9, -999.00,9, -999.00,9, -999.00,9, -999.00,9,  -999.0,9,  -999.0,9,-999.000,9,-999.000,-999.0000,9, -999.00,9, -999.00, -1.6540,-999.0000,-999.000,9,-999.000,9,-999.000,9, -999.00,9,-999.00,9, -999.00,9,6,67
32L919920715,2,4,4,2,19920719,77.1560,-10.4460,480,   152.0, -0.5390, 34.4680,2,-999.0000,9,   364.9,3,  -999.0,9,    7.90,2,   10.40,2,    0.01,2,    0.77,2,  -999.0,9,  -999.0,9,-999.000,9,-999.000,-999.0000,9, -999.00,9, -999.00, -0.5438,-999.0000,   0.049,2,-999.000,9,-999.000,9, -999.00,9,-999.00,9, -999.00,9,6,64
32L919920715,2,4,5,2,19920719,77.1560,-10.4460,480,   152.0, -0.5390, 34.4680,2,-999.0000,9,   364.9,3,  -999.0,9, -999.00,9, -999.00,9, -999.00,9, -999.00,9,  -999.0,9,  -999.0,9,-999.000,9,-999.000,-999.0000,9, -999.00,9, -999.00, -0.5438,-999.0000,-999.000,9,-999.000,9,-999.000,9, -999.00,9,-999.00,9, -999.00,9,6,65
32L919920715,2,4,2,2,19920719,77.1560,-10.4460,480,   300.0,  1.1460, 34.9030,2,-999.0000,9,   315.0,2,  -999.0,9,    8.27,2,   12.34,2,    0.00,2,    0.82,2,  -999.0,9,  -999.0,9,-999.000,9,-999.000,-999.0000,9, -999.00,9, -999.00,  1.1316,-999.0000,   0.068,2,-999.000,9,-999.000,9, -999.00,9,-999.00,9, -999.00,9,6,62
32L919920715,2,4,3,2,19920719,77.1560,-10.4460,480,   300.0,  1.1460, 34.9030,2,-999.0000,9,   315.0,2,  -999.0,9, -999.00,9, -999.00,9, -999.00,9, -999.00,9,  -999.0,9,  -999.0,9,-999.000,9,-999.000,-999.0000,9, -999.00,9, -999.00,  1.1316,-999.0000,-999.000,9,-999.000,9,-999.000,9, -999.00,9,-999.00,9, -999.00,9,6,63
32L919920715,2,4,12,2,19920719,77.1560,-10.4460,480,   434.0,  0.7980, 34.9090,2,-999.0000,9,   291.4,2,  -999.0,9,   10.43,2,   12.81,2,    0.01,2,    0.86,2,  -999.0,9,  -999.0,9,-999.000,9,-999.000,-999.0000,9, -999.00,9, -999.00,  0.7779,-999.0000,   0.088,2,-999.000,9,-999.000,9, -999.00,9,-999.00,9, -999.00,9,6,60
32L919920715,2,4,1,2,19920719,77.1560,-10.4460,480,   434.0,  0.7980, 34.9090,2,-999.0000,9,   291.4,2,  -999.0,9, -999.00,9, -999.00,9, -999.00,9, -999.00,9,  -999.0,9,  -999.0,9,-999.000,9,-999.000,-999.0000,9, -999.00,9, -999.00,  0.7779,-999.0000,-999.000,9,-999.000,9,-999.000,9, -999.00,9,-999.00,9, -999.00,9,6,61
32L919920715,3,1,10,2,19920720,78.6190,-13.5040,173,     2.0, -1.2570, 31.9250,2,-999.0000,9,   363.1,2,   371.2,2,   11.98,2,    2.85,2,    0.05,2,    0.95,2,  -999.0,9,  -999.0,9,-999.000,9,-999.000,-999.0000,9, -999.00,9, -999.00, -1.2570,-999.0000,   0.059,2,-999.000,9,-999.000,9, -999.00,9,-999.00,9, -999.00,9,7,82
32L919920715,3,1,9,2,19920720,78.6190,-13.5040,173,    10.0, -1.4700, 32.0220,2,-999.0000,9,   369.5,2,   370.3,2,   11.68,2,    2.90,2,    0.06,2,    0.96,2,  -999.0,9,  -999.0,9,-999.000,9,-999.000,-999.0000,9, -999.00,9, -999.00, -1.4702,-999.0000,   0.049,2,-999.000,9,-999.000,9, -999.00,9,-999.00,9, -999.00,9,7,81
32L919920715,3,1,8,2,19920720,78.6190,-13.5040,173,    20.0, -1.6550, 32.2250,2,-999.0000,9,   367.2,2,   367.7,2,   10.66,2,    2.78,2,    0.08,2,    0.93,2,  -999.0,9,  -999.0,9,-999.000,9,-999.000,-999.0000,9, -999.00,9, -999.00, -1.6553,-999.0000,   0.029,2,-999.000,9,-999.000,9, -999.00,9,-999.00,9, -999.00,9,7,80
32L919920715,3,1,7,2,19920720,78.6190,-13.5040,173,    31.0, -1.7040, 32.2830,2,-999.0000,9,   362.4,2,   367.4,2,   10.47,2,    2.86,2,    0.09,2,    0.92,2,  -999.0,9,  -999.0,9,-999.000,9,-999.000,-999.0000,9, -999.00,9, -999.00, -1.7045,-999.0000,   0.020,2,-999.000,9,-999.000,9, -999.00,9,-999.00,9, -999.00,9,7,79
32L919920715,3,1,6,2,19920720,78.6190,-13.5040,173,    40.0, -1.7260, 32.3190,2,-999.0000,9,   360.7,2,   367.1,2,    9.77,2,    2.91,2,    0.09,2,    0.88,2,  -999.0,9,  -999.0,9,-999.000,9,-999.000,-999.0000,9, -999.00,9, -999.00, -1.7266,-999.0000,   0.029,2,-999.000,9,-999.000,9, -999.00,9,-999.00,9,49200.00,2,7,78
32L919920715,3,1,5,2,19920720,78.6190,-13.5040,173,    50.0, -1.7330, 32.3290,2, 32.3510,2,   363.6,2,   366.0,2,    9.76,2,    2.94,2,    0.07,2,    0.89,2,  -999.0,9,  -999.0,9,-999.000,9,-999.000,-999.0000,9, -999.00,9, -999.00, -1.7338,-999.0000,   0.010,2,-999.000,9,-999.000,9, -999.00,9,-999.00,9, -999.00,9,7,77
32L919920715,3,1,4,2,19920720,78.6190,-13.5040,173,    70.0, -1.7370, 32.3540,2,-999.0000,9,   363.5,2,   364.8,2,    9.53,2,    3.09,2,    0.03,2,    0.87,2,  -999.0,9,  -999.0,9,-999.000,9,-999.000,-999.0000,9, -999.00,9, -999.00, -1.7381,-999.0000,   0.029,2,-999.000,9,-999.000,9, -999.00,9,-999.00,9, -999.00,9,7,76
32L919920715,3,1,3,2,19920720,78.6190,-13.5040,173,    90.0, -1.7310, 32.4310,2,-999.0000,9,   360.6,2,   360.3,2,   10.51,2,    3.68,2,    0.02,2,    0.90,2,  -999.0,9,  -999.0,9,-999.000,9,-999.000,-999.0000,9, -999.00,9, -999.00, -1.7325,-999.0000,   0.020,2,-999.000,9,-999.000,9, -999.00,9,-999.00,9, -999.00,9,7,75
32L919920715,3,1,2,2,19920720,78.6190,-13.5040,173,   107.0, -1.6630, 32.6000,2,-999.0000,9,   356.5,2,   352.7,2,   11.09,2,    4.55,2,    0.02,2,    0.91,2,  -999.0,9,  -999.0,9,-999.000,9,-999.000,-999.0000,9, -999.00,9, -999.00, -1.6649,-999.0000,   0.010,2,-999.000,9,-999.000,9, -999.00,9,-999.00,9, -999.00,9,7,74
32L919920715,3,1,1,2,19920720,78.6190,-13.5040,173,   122.0, -1.5540, 32.8210,2, 32.9760,2,   337.5,2,   339.9,2,   11.60,2,    5.99,2,    0.02,2,    0.89,2,  -999.0,9,  -999.0,9,-999.000,9,-999.000,-999.0000,9, -999.00,9, -999.00, -1.5564,-999.0000,   0.020,2,-999.000,9,-999.000,9, -999.00,9,-999.00,9, -999.00,9,7,73
32L919920715,3,1,12,2,19920720,78.6190,-13.5040,173,   141.0, -1.3430, 33.2390,2,-999.0000,9,   320.7,2,   344.7,2,   11.59,2,    6.54,2,    0.02,2,    0.87,2,  -999.0,9,  -999.0,9,-999.000,9,-999.000,-999.0000,9, -999.00,9, -999.00, -1.3461,-999.0000,   0.039,2,-999.000,9,-999.000,9, -999.00,9,-999.00,9, -999.00,9,7,72
32L919920715,3,2,9,2,19920720,78.6190,-13.5040,173,     2.0, -1.2480, 31.9080,2,-999.0000,9,   372.3,2,  -999.0,9,   12.01,2,    2.62,2,    0.06,2,    0.98,2,  -999.0,9,  -999.0,9,-999.000,9,-999.000,-999.0000,9, -999.00,9, -999.00, -1.2480,-999.0000,   0.059,2,   3.734,2,   0.748,2,    0.33,2,0.20,2,158000.00,2,8,93
32L919920715,3,2,10,2,19920720,78.6190,-13.5040,173,     2.0, -1.2480, 31.9080,2,-999.0000,9,   372.3,2,  -999.0,9,   12.22,2,    2.61,2,    0.05,2,    0.98,2,  -999.0,9,  -999.0,9,-999.000,9,-999.000,-999.0000,9, -999.00,9, -999.00, -1.2480,-999.0000,   0.059,2,-999.000,9,-999.000,9, -999.00,9,-999.00,9, -999.00,9,8,94
32L919920715,3,2,8,2,19920720,78.6190,-13.5040,173,     4.0, -1.2940, 31.9100,2,-999.0000,9,   366.1,2,  -999.0,9,   11.91,2,    2.70,2,    0.06,2,    1.00,2,  -999.0,9,  -999.0,9,-999.000,9,-999.000,-999.0000,9, -999.00,9, -999.00, -1.2941,-999.0000,   0.059,2,   4.867,2,   0.708,2,    0.28,2,0.24,2, -999.00,9,8,92
32L919920715,3,2,7,2,19920720,78.6190,-13.5040,173,    10.0, -1.5810, 32.1130,2,-999.0000,9,   364.9,2,  -999.0,9,   11.48,2,    2.86,2,    0.07,2,    0.98,2,  -999.0,9,  -999.0,9,-999.000,9,-999.000,-999.0000,9, -999.00,9, -999.00, -1.5812,-999.0000,   0.137,2,   3.673,2,   0.505,2,    0.27,2,0.19,2,136000.00,2,8,91
32L919920715,3,2,6,2,19920720,78.6190,-13.5040,173,    17.0, -1.6530, 32.2020,2,-999.0000,9,   371.9,2,  -999.0,9, -999.00,9, -999.00,9, -999.00,9, -999.00,9,  -999.0,9,  -999.0,9,-999.000,9,-999.000,-999.0000,9, -999.00,9, -999.00, -1.6533,-999.0000,-999.000,9,-999.000,9,-999.000,9, -999.00,9,-999.00,9, -999.00,9,8,90
32L919920715,3,2,5,2,19920720,78.6190,-13.5040,173,    28.0, -1.6800, 32.2450,2,-999.0000,9,   365.6,2,  -999.0,9,   10.67,2,    2.90,2,    0.08,2,    0.94,2,  -999.0,9,  -999.0,9,-999.000,9,-999.000,-999.0000,9, -999.00,9, -999.00, -1.6805,-999.0000,   0.049,2,   2.164,2,   0.379,2,    0.17,2,0.16,2,104000.00,2,8,89
32L919920715,3,2,4,2,19920720,78.6190,-13.5040,173,    43.0, -1.7220, 32.3160,2,-999.0000,9,   353.7,2,  -999.0,9,    9.99,2,    2.98,2,    0.09,2,    0.91,2,  -999.0,9,  -999.0,9,-999.000,9,-999.000,-999.0000,9, -999.00,9, -999.00, -1.7227,-999.0000,   0.029,2,   2.104,2,   0.250,2,    0.12,2,0.06,2,105000.00,2,8,88
32L919920715,3,2,3,2,19920720,78.6190,-13.5040,173,    65.0, -1.7360, 32.3480,2,-999.0000,9,   366.8,2,  -999.0,9,    9.78,2,    3.17,2,    0.05,2,    0.90,2,  -999.0,9,  -999.0,9,-999.000,9,-999.000,-999.0000,9, -999.00,9, -999.00, -1.7371,-999.0000,   0.020,2,   1.636,2,   0.157,2,    0.06,2,0.04,2,95900.00,2,8,87
32L919920715,3,2,2,2,19920720,78.6190,-13.5040,173,    80.0, -1.7360, 32.3850,2,-999.0000,9,   363.9,2,  -999.0,9,   10.33,2,    3.47,2,    0.02,2,    0.94,2,  -999.0,9,  -999.0,9,-999.000,9,-999.000,-999.0000,9, -999.00,9, -999.00, -1.7373,-999.0000,   0.029,2,   1.230,2,   0.120,2,    0.02,2,0.05,2,54600.00,2,8,86
32L919920715,3,2,1,2,19920720,78.6190,-13.5040,173,   100.0, -1.6830, 32.5500,2,-999.0000,9,   356.6,2,  -999.0,9,   11.02,2,    4.25,2,    0.02,2,    0.92,2,  -999.0,9,  -999.0,9,-999.000,9,-999.000,-999.0000,9, -999.00,9, -999.00, -1.6847,-999.0000,   0.020,2,   0.997,2,   0.105,2,    0.01,2,0.03,2,41800.00,2,8,85
32L919920715,3,2,12,2,19920720,78.6190,-13.5040,173,   124.0, -1.5500, 32.8310,2,-999.0000,9,   347.0,2,  -999.0,9,   11.61,2,    5.87,2,    0.02,2,    0.89,2,  -999.0,9,  -999.0,9,-999.000,9,-999.000,-999.0000,9, -999.00,9, -999.00, -1.5524,-999.0000,   0.010,2,   2.355,2,   0.192,2,    0.01,2,0.03,2, -999.00,9,8,84
32L919920715,3,3,10,2,19920720,78.6190,-13.5040,173,     2.0, -1.2190, 31.8750,2,-999.0000,9,   370.9,2,  -999.0,9, -999.00,9, -999.00,9, -999.00,9, -999.00,9,  -999.0,9,  -999.0,9,-999.000,9,-999.000,-999.0000,9, -999.00,9, -999.00, -1.2190,-999.0000,-999.000,9,-999.000,9,-999.000,9, -999.00,9,-999.00,9, -999.00,9,9,106
32L919920715,3,3,9,2,19920720,78.6190,-13.5040,173,    10.0, -1.5370, 32.0240,2,-999.0000,9,   375.1,2,  -999.0,9, -999.00,9, -999.00,9, -999.00,9, -999.00,9,  -999.0,9,  -999.0,9,-999.000,9,-999.000,-999.0000,9, -999.00,9, -999.00, -1.5372,-999.0000,-999.000,9,-999.000,9,-999.000,9, -999.00,9,-999.00,9, -999.00,9,9,105
32L919920715,3,3,8,2,19920720,78.6190,-13.5040,173,    20.0, -1.6670, 32.2220,2,-999.0000,9,   368.6,2,  -999.0,9, -999.00,9, -999.00,9, -999.00,9, -999.00,9,  -999.0,9,  -999.0,9,-999.000,9,-999.000,-999.0000,9, -999.00,9, -999.00, -1.6673,-999.0000,-999.000,9,-999.000,9,-999.000,9, -999.00,9,-999.00,9, -999.00,9,9,104
32L919920715,3,3,7,2,19920720,78.6190,-13.5040,173,    35.0, -1.7160, 32.3130,2,-999.0000,9,   363.9,2,  -999.0,9, -999.00,9, -999.00,9, -999.00,9, -999.00,9,  -999.0,9,  -999.0,9,-999.000,9,-999.000,-999.0000,9, -999.00,9, -999.00, -1.7166,-999.0000,-999.000,9,-999.000,9,-999.000,9, -999.00,9,-999.00,9, -999.00,9,9,103
32L919920715,3,3,6,2,19920720,78.6190,-13.5040,173,    50.0, -1.7310, 32.3290,2,-999.0000,9,   364.8,2,  -999.0,9, -999.00,9, -999.00,9, -999.00,9, -999.00,9,  -999.0,9,  -999.0,9,-999.000,9,-999.000,-999.0000,9, -999.00,9, -999.00, -1.7318,-999.0000,-999.000,9,-999.000,9,-999.000,9, -999.00,9,-999.00,9, -999.00,9,9,102
32L919920715,3,3,5,2,19920720,78.6190,-13.5040,173,    74.0, -1.7350, 32.3620,2,-999.0000,9,   366.0,2,  -999.0,9, -999.00,9, -999.00,9, -999.00,9, -999.00,9,  -999.0,9,  -999.0,9,-999.000,9,-999.000,-999.0000,9, -999.00,9, -999.00, -1.7362,-999.0000,-999.000,9,-999.000,9,-999.000,9, -999.00,9,-999.00,9, -999.00,9,9,101
32L919920715,3,3,4,2,19920720,78.6190,-13.5040,173,    89.0, -1.7240, 32.4390,2,-999.0000,9,   361.6,2,  -999.0,9, -999.00,9, -999.00,9, -999.00,9, -999.00,9,  -999.0,9,  -999.0,9,-999.000,9,-999.000,-999.0000,9, -999.00,9, -999.00, -1.7255,-999.0000,-999.000,9,-999.000,9,-999.000,9, -999.00,9,-999.00,9, -999.00,9,9,100
32L919920715,3,3,3,2,19920720,78.6190,-13.5040,173,    99.0, -1.6850, 32.5470,2,-999.0000,9,   359.0,2,  -999.0,9, -999.00,9, -999.00,9, -999.00,9, -999.00,9,  -999.0,9,  -999.0,9,-999.000,9,-999.000,-999.0000,9, -999.00,9, -999.00, -1.6867,-999.0000,-999.000,9,-999.000,9,-999.000,9, -999.00,9,-999.00,9, -999.00,9,9,99
32L919920715,3,3,2,2,19920720,78.6190,-13.5040,173,   119.0, -1.5730, 32.7970,2,-999.0000,9,   350.7,2,  -999.0,9, -999.00,9, -999.00,9, -999.00,9, -999.00,9,  -999.0,9,  -999.0,9,-999.000,9,-999.000,-999.0000,9, -999.00,9, -999.00, -1.5753,-999.0000,-999.000,9,-999.000,9,-999.000,9, -999.00,9,-999.00,9, -999.00,9,9,98
32L919920715,3,3,1,2,19920720,78.6190,-13.5040,173,   129.0, -1.4200, 33.0610,2,-999.0000,9,   341.5,2,  -999.0,9, -999.00,9, -999.00,9, -999.00,9, -999.00,9,  -999.0,9,  -999.0,9,-999.000,9,-999.000,-999.0000,9, -999.00,9, -999.00, -1.4227,-999.0000,-999.000,9,-999.000,9,-999.000,9, -999.00,9,-999.00,9, -999.00,9,9,97
32L919920715,3,3,12,2,19920720,78.6190,-13.5040,173,   132.0, -1.3930, 33.1100,2,-999.0000,9,   338.4,2,  -999.0,9, -999.00,9, -999.00,9, -999.00,9, -999.00,9,  -999.0,9,  -999.0,9,-999.000,9,-999.000,-999.0000,9, -999.00,9, -999.00, -1.3958,-999.0000,-999.000,9,-999.000,9,-999.000,9, -999.00,9,-999.00,9, -999.00,9,9,96
32L919920715,3,3,11,2,19920720,78.6190,-13.5040,173,   136.0, -1.3820, 33.1380,2,-999.0000,9,   335.5,2,  -999.0,9, -999.00,9, -999.00,9, -999.00,9, -999.00,9,  -999.0,9,  -999.0,9,-999.000,9,-999.000,-999.0000,9, -999.00,9, -999.00, -1.3849,-999.0000,-999.000,9,-999.000,9,-999.000,9, -999.00,9,-999.00,9, -999.00,9,9,95