BOTTLE,20220816CCHSIOAMB
EXPOCODE,STNNBR,CASTNO,BTLNBR,BTLNBR_FLAG_W,DATE,LATITUDE,LONGITUDE,DEPTH,CTDPRS,CTDTMP,CTDSAL,CTDSAL_FLAG_W,SALNTY,SALNTY_FLAG_W,CTDOXY,CTDOXY_FLAG_W,OXYGEN,OXYGEN_FLAG_W,SILCAT,SILCAT_FLAG_W,NITRAT,NITRAT_FLAG_W,NITRIT,NITRIT_FLAG_W,PHSPHT,PHSPHT_FLAG_W,TCARBN,TCARBN_FLAG_W,ALKALI,ALKALI_FLAG_W,TRITUM,TRITUM_FLAG_W,TRITER,HELIUM,HELIUM_FLAG_W,DELHE3,DELHE3_FLAG_W,DELHER,THETA,SOMSAL,AMMONI,AMMONI_FLAG_W,POC,POC_FLAG_W,PON,PON_FLAG_W,CHLORA,CHLORA_FLAG_W,PHAEO,PHAEO_FLAG_W,BACT,BACT_FLAG_W,STNNBR_U,BNLID
,,,,,,,,METERS,DBAR,ITS-90,PSS-78,,PSS-78,,UMOL/KG,,UMOL/KG,,UMOL/KG,,UMOL/KG,,UMOL/KG,,UMOL/KG,,UMOL/KG,,UMOL/KG,,TU,,TU,NMOL/KG,,PERCNT,,PERCNT,DEG C,PSS-78,UMOL/KG,,UG/KG,,UG/KG,,UG/KG,,UG/L,,E8/L,,,
32L919920715,44,1,5,2,19920802,80.7440,-7.6430,322,     2.0, -1.5350, 31.3480,2,-999.0000,9,   388.3,2,   382.9,2,   10.64,2,    2.21,2,    0.03,2,    1.16,2,  -999.0,9,  -999.0,9,-999.000,9,-999.000,-999.0000,9, -999.00,9, -999.00, -1.5350,-999.0000,   0.000,2,-999.000,9,-999.000,9,    0.71,2,0.46,2, -999.00,9,77,833
32L919920715,44,1,4,2,19920802,80.7440,-7.6430,322,    10.0, -1.5340, 31.3620,2,-999.0000,9,   394.7,2,  -999.0,9,   10.63,2,    2.26,2,    0.03,2,    1.18,2,  -999.0,9,  -999.0,9,-999.000,9,-999.000,-999.0000,9, -999.00,9, -999.00, -1.5342,-999.0000,   0.000,2,-999.000,9,-999.000,9,    0.64,2,0.39,2, -999.00,9,77,832
32L919920715,44,1,3,2,19920802,80.7440,-7.6430,322,    20.0, -1.6440, 31.5120,2,-999.0000,9,   388.0,2,   381.3,2,   10.34,2,    2.43,2,    0.03,2,    1.20,2,  -999.0,9,  -999.0,9,-999.000,9,-999.000,-999.0000,9, -999.00,9, -999.00, -1.6443,-999.0000,   0.049,2,-999.000,9,-999.000,9,    0.43,2,0.31,2, -999.00,9,77,831
32L919920715,44,1,2,2,19920802,80.7440,-7.6430,322,    30.0, -1.6060, 31.7820,2,-999.0000,9,   374.3,2,   378.2,2,    8.81,2,    2.04,2,    0.04,2,    1.14,2,  -999.0,9,  -999.0,9,-999.000,9,-999.000,-999.0000,9, -999.00,9, -999.00, -1.6065,-999.0000,   0.107,2,-999.000,9,-999.000,9,    0.15,2,0.21,2, -999.00,9,77,830
32L919920715,44,1,1,2,19920802,80.7440,-7.6430,322,    40.0, -1.6060, 31.8340,2,-999.0000,9,   375.8,2,   377.5,2,    8.35,2,    2.02,2,    0.04,2,    1.15,2,  -999.0,9,  -999.0,9,-999.000,9,-999.000,-999.0000,9, -999.00,9, -999.00, -1.6066,-999.0000,   0.107,2,-999.000,9,-999.000,9,    0.38,2,0.34,2, -999.00,9,77,829
32L919920715,44,1,12,2,19920802,80.7440,-7.6430,322,    50.0, -1.5520, 31.9260,2,-999.0000,9,   370.6,2,   374.4,2,    8.85,2,    2.32,2,    0.04,2,    1.17,2,  -999.0,9,  -999.0,9,-999.000,9,-999.000,-999.0000,9, -999.00,9, -999.00, -1.5528,-999.0000,   0.107,2,-999.000,9,-999.000,9,    0.12,2,0.26,2, -999.00,9,77,828
32L919920715,44,1,11,2,19920802,80.7440,-7.6430,322,    60.0, -1.5350, 31.9780,2,-999.0000,9,   370.8,2,   373.7,2,    9.32,2,    2.23,2,    0.04,2,    1.18,2,  -999.0,9,  -999.0,9,-999.000,9,-999.000,-999.0000,9, -999.00,9, -999.00, -1.5360,-999.0000,   0.098,2,-999.000,9,-999.000,9,    0.48,2,0.38,2, -999.00,9,77,827
32L919920715,44,1,10,2,19920802,80.7440,-7.6430,322,    70.0, -1.5400, 32.0050,2,-999.0000,9,   370.1,2,   372.0,2,    9.66,2,    2.35,2,    0.05,2,    1.20,2,  -999.0,9,  -999.0,9,-999.000,9,-999.000,-999.0000,9, -999.00,9, -999.00, -1.5412,-999.0000,   0.078,2,-999.000,9,-999.000,9,    0.20,2,0.28,2, -999.00,9,77,826
32L919920715,44,1,9,2,19920802,80.7440,-7.6430,322,    80.0, -1.5360, 32.0410,2,-999.0000,9,   370.8,2,   371.4,2,    9.51,2,    2.27,2,    0.05,2,    1.18,2,  -999.0,9,  -999.0,9,-999.000,9,-999.000,-999.0000,9, -999.00,9, -999.00, -1.5374,-999.0000,   0.088,2,-999.000,9,-999.000,9,    0.13,2,0.23,2, -999.00,9,77,825
32L919920715,44,1,8,2,19920802,80.7440,-7.6430,322,   121.0, -1.3160, 33.1140,2,-999.0000,9,   307.2,2,   302.1,2,   19.01,2,   10.04,2,    0.02,2,    1.15,2,  -999.0,9,  -999.0,9,-999.000,9,-999.000,-999.0000,9, -999.00,9, -999.00, -1.3187,-999.0000,   0.049,2,-999.000,9,-999.000,9,    0.04,2,0.27,2, -999.00,9,77,824
32L919920715,44,1,7,2,19920802,80.7440,-7.6430,322,   168.0, -0.6450, 34.3260,2, 34.2840,2,   300.7,2,   290.7,2,   12.09,2,   11.34,2,    0.00,2,    1.05,2,  -999.0,9,  -999.0,9,-999.000,9,-999.000,-999.0000,9, -999.00,9, -999.00, -0.6501,-999.0000,   0.049,2,-999.000,9,-999.000,9,    0.06,2,0.20,2, -999.00,9,77,823
32L919920715,45,1,4,2,19920802,80.7320,-7.3260,569,     2.0, -1.5760, 31.4030,2,-999.0000,9,   389.2,2,   382.7,2,   11.04,2, -999.00,9,    0.03,2,    1.21,2,  -999.0,9,  -999.0,9,-999.000,9,-999.000,-999.0000,9, -999.00,9, -999.00, -1.5760,-999.0000,   0.039,2,-999.000,9,-999.000,9,    0.53,2,0.27,2, -999.00,9,78,844
32L919920715,45,1,3,2,19920802,80.7320,-7.3260,569,    11.0, -1.6380, 31.4380,2,-999.0000,9,   375.2,2,   381.8,2,   11.03,2,    2.12,2,    0.03,2,    1.21,2,  -999.0,9,  -999.0,9,-999.000,9,-999.000,-999.0000,9, -999.00,9, -999.00, -1.6382,-999.0000,   0.059,2,-999.000,9,-999.000,9,    0.42,2,0.34,2, -999.00,9,78,843
32L919920715,45,1,2,2,19920802,80.7320,-7.3260,569,    20.0, -1.6260, 31.6860,2,-999.0000,9,   378.4,2,   381.7,2,   10.82,2,    2.15,2,    0.03,2,    1.21,2,  -999.0,9,  -999.0,9,   4.090,2,   0.061,  1.9690,2,    1.70,2,    0.20, -1.6263,-999.0000,   0.059,2,-999.000,9,-999.000,9,    0.39,2,0.26,2, -999.00,9,78,842
32L919920715,45,1,1,2,19920802,80.7320,-7.3260,569,    30.0, -1.5980, 31.8470,2,-999.0000,9,   377.4,2,   377.8,2,   10.03,2,    2.33,2,    0.04,2,    1.20,2,  -999.0,9,  -999.0,9,-999.000,9,-999.000,-999.0000,9, -999.00,9, -999.00, -1.5985,-999.0000,   0.088,2,-999.000,9,-999.000,9,    0.18,2,0.20,2, -999.00,9,78,841
32L919920715,45,1,12,2,19920802,80.7320,-7.3260,569,    49.0, -1.5220, 31.9620,2, 31.8250,2,   371.9,2,   376.4,2,    9.24,2,    2.24,2,    0.04,2,    1.17,2,  -999.0,9,  -999.0,9,   6.540,2,   0.098,  1.9500,2,    2.80,2,    0.20, -1.5228,-999.0000,   0.078,2,-999.000,9,-999.000,9,    0.16,2,0.20,2, -999.00,9,78,840
32L919920715,45,1,11,2,19920802,80.7320,-7.3260,569,    70.0, -1.4580, 32.5340,2,-999.0000,9,   329.0,3,   373.9,2,    9.41,2,    2.51,2,    0.04,2,    1.19,2,  -999.0,9,  -999.0,9,-999.000,9,-999.000,-999.0000,9, -999.00,9, -999.00, -1.4593,-999.0000,   0.098,2,-999.000,9,-999.000,9,    0.10,2,0.20,2, -999.00,9,78,839
32L919920715,45,1,10,2,19920802,80.7320,-7.3260,569,   101.0, -1.2640, 34.0450,2,-999.0000,9,   298.6,3,   336.6,2,   15.50,2,    6.50,3,    0.04,2,    1.35,2,  -999.0,9,  -999.0,9,   6.360,2,   0.095,  1.7570,2,    7.50,2,    0.20, -1.2664,-999.0000,   0.068,2,-999.000,9,-999.000,9,    0.11,2,0.13,2, -999.00,9,78,838
32L919920715,45,1,9,2,19920802,80.7320,-7.3260,569,   141.0, -0.7870, 34.4180,2,-999.0000,9,   300.0,2,   289.8,2,   12.65,2,   11.39,2,    0.00,2,    1.09,2,  -999.0,9,  -999.0,9,-999.000,9,-999.000,-999.0000,9, -999.00,9, -999.00, -0.7911,-999.0000,   0.020,2,-999.000,9,-999.000,9,    0.02,2,0.04,2, -999.00,9,78,837
32L919920715,45,1,8,2,19920802,80.7320,-7.3260,569,   182.0, -0.3030, 34.5840,2,-999.0000,9,   293.8,2,   294.5,2,    7.82,2,   11.11,2,    0.00,2,    0.91,2,  -999.0,9,  -999.0,9,   3.760,2,   0.056,  1.9330,2,   27.60,3,    0.20, -0.3092,-999.0000,   0.020,2,-999.000,9,-999.000,9, -999.00,9,-999.00,9, -999.00,9,78,836
32L919920715,45,1,7,2,19920802,80.7320,-7.3260,569,   221.0,  0.3910, 34.8250,2,-999.0000,9,   293.3,2,   290.2,2,    8.05,2,   12.00,2,    0.00,2,    0.95,2,  -999.0,9,  -999.0,9,-999.000,9,-999.000,-999.0000,9, -999.00,9, -999.00,  0.3820,-999.0000,   0.000,2,-999.000,9,-999.000,9, -999.00,9,-999.00,9, -999.00,9,78,835
32L919920715,45,1,6,2,19920802,80.7320,-7.3260,569,   265.0,  0.4030, 34.8360,2, 34.8200,2,   290.5,2,   289.9,2,    7.34,2,   13.62,2,    0.00,2,    0.98,2,  -999.0,9,  -999.0,9,-999.000,9,-999.000,-999.0000,9, -999.00,9, -999.00,  0.3921,-999.0000,   0.029,2,-999.000,9,-999.000,9, -999.00,9,-999.00,9, -999.00,9,78,834
32L919920715,45,1,5,2,19920802,80.7320,-7.3260,569,   275.0, -1.5900, 31.3990,2,-999.0000,9,   380.7,3,   290.9,2,    7.32,2, -999.00,9,    0.01,2,    0.99,2,  -999.0,9,  -999.0,9,-999.000,9,-999.000,-999.0000,9, -999.00,9, -999.00, -1.5949,-999.0000,   0.049,2,-999.000,9,-999.000,9, -999.00,9,-999.00,9, -999.00,9,78,845
32L919920715,46,1,5,2,19920802,80.7330,-7.1540,569,     5.0, -1.6720, 31.4340,2,-999.0000,9,   373.7,2,   379.7,2,   10.12,2,    2.67,2,    0.01,2,    1.20,2,  -999.0,9,  -999.0,9,-999.000,9,-999.000,-999.0000,9, -999.00,9, -999.00, -1.6721,-999.0000,   0.234,2,   7.406,2,   1.212,2,    0.38,2,0.24,2,51400.00,2,79,857
32L919920715,46,1,4,2,19920802,80.7330,-7.1540,569,     9.0, -1.6740, 31.4590,2,-999.0000,9,   391.6,2,   380.7,2,   10.19,2,    2.66,2,    0.01,2,    1.19,2,  -999.0,9,  -999.0,9,-999.000,9,-999.000,-999.0000,9, -999.00,9, -999.00, -1.6741,-999.0000,   0.244,2,   4.260,2,   1.115,2,    0.35,2,0.23,2,58400.00,2,79,856
32L919920715,46,1,3,2,19920802,80.7330,-7.1540,569,    17.0, -1.6760, 31.5180,2,-999.0000,9,   388.3,2,   380.0,2,   10.24,2,    2.63,2,    0.01,2,    1.20,2,  -999.0,9,  -999.0,9,-999.000,9,-999.000,-999.0000,9, -999.00,9, -999.00, -1.6762,-999.0000,   0.244,2,   5.775,2,   1.026,2,    0.20,2,0.30,2,43800.00,2,79,855
32L919920715,46,1,2,2,19920802,80.7330,-7.1540,569,    27.0, -1.6770, 31.5610,2,-999.0000,9,   383.5,2,   379.3,2,   10.41,2,    2.91,2,    0.00,2,    1.22,2,  -999.0,9,  -999.0,9,-999.000,9,-999.000,-999.0000,9, -999.00,9, -999.00, -1.6774,-999.0000,   0.254,2,   4.802,2,   0.869,2,    0.27,2,0.20,2,45600.00,2,79,854
32L919920715,46,1,1,2,19920802,80.7330,-7.1540,569,    44.0, -1.7140, 31.9910,2,-999.0000,9,   365.6,2,   367.5,2,   12.00,2,    4.67,2,    0.01,2,    1.25,2,  -999.0,9,  -999.0,9,-999.000,9,-999.000,-999.0000,9, -999.00,9, -999.00, -1.7147,-999.0000,   0.049,2,   2.233,2,   0.212,2,    0.11,2,0.07,2,24000.00,2,79,853
32L919920715,46,1,12,2,19920802,80.7330,-7.1540,569,    67.0, -1.5860, 32.3720,2,-999.0000,9,   328.0,2,   331.7,2,   17.89,2,    8.05,2,    0.00,2,    1.14,2,  -999.0,9,  -999.0,9,-999.000,9,-999.000,-999.0000,9, -999.00,9, -999.00, -1.5872,-999.0000,   0.020,2,   1.594,2,   0.251,2,    0.05,2,0.05,2,23600.00,2,79,852
32L919920715,46,1,11,2,19920802,80.7330,-7.1540,569,   101.0, -1.1960, 34.0080,2,-999.0000,9,   300.0,2,   290.7,2,   12.07,2,   12.01,2,    0.00,2,    1.08,2,  -999.0,9,  -999.0,9,-999.000,9,-999.000,-999.0000,9, -999.00,9, -999.00, -1.1985,-999.0000,   0.010,2,   1.121,2,   0.184,2,    0.04,2,0.08,2,10800.00,2,79,851
32L919920715,46,1,10,2,19920802,80.7330,-7.1540,569,   150.0, -0.3840, 34.5630,2,-999.0000,9,   294.2,2,   290.4,2,    7.66,2,   12.19,2,    0.01,2,    0.93,2,  -999.0,9,  -999.0,9,-999.000,9,-999.000,-999.0000,9, -999.00,9, -999.00, -0.3890,-999.0000,   0.010,2,   0.967,2,   0.116,2,    0.02,2,0.05,2, -999.00,9,79,850
32L919920715,46,1,9,2,19920802,80.7330,-7.1540,569,   200.0,  0.1810, 34.7390,2,-999.0000,9,   292.1,2,   287.0,2,    7.80,2,   13.39,2,    0.01,2,    0.99,2,  -999.0,9,  -999.0,9,-999.000,9,-999.000,-999.0000,9, -999.00,9, -999.00,  0.1733,-999.0000,   0.000,2,   0.281,2,   0.109,2,    0.01,2,0.03,2, -999.00,9,79,849
32L919920715,46,1,8,2,19920802,80.7330,-7.1540,569,   250.0,  0.4080, 34.8130,2,-999.0000,9,   293.9,2,   288.7,2,    7.21,2,   13.55,2,    0.01,2,    0.97,2,  -999.0,9,  -999.0,9,-999.000,9,-999.000,-999.0000,9, -999.00,9, -999.00,  0.3977,-999.0000,   0.000,2,-999.000,9,-999.000,9, -999.00,9,-999.00,9, -999.00,9,79,848
32L919920715,46,1,7,2,19920802,80.7330,-7.1540,569,   299.0,  0.4310, 34.8560,2, 34.8450,2,   288.1,2,   290.0,2,    7.01,2,   13.80,2,    0.01,2,    0.97,2,  -999.0,9,  -999.0,9,-999.000,9,-999.000,-999.0000,9, -999.00,9, -999.00,  0.4185,-999.0000,   0.000,2,-999.000,9,-999.000,9, -999.00,9,-999.00,9, -999.00,9,79,847
32L919920715,46,1,6,2,19920802,80.7330,-7.1540,569,   355.0,  0.3730, 34.8790,2,-999.0000,9,   296.1,2,   292.8,2,    6.85,2,   13.80,2,    0.01,2,    0.97,2,  -999.0,9,  -999.0,9,-999.000,9,-999.000,-999.0000,9, -999.00,9, -999.00,  0.3581,-999.0000,   0.000,2,-999.000,9,-999.000,9, -999.00,9,-999.00,9, -999.00,9,79,846
32L919920715,47,1,1,2,19920803,80.6750,-8.2460,188,     2.0, -1.4010, 31.4130,2,-999.0000,9,   401.5,2,   392.3,2,    7.59,2,    0.38,2,    0.02,2,    0.98,2,  -999.0,9,  -999.0,9,-999.000,9,-999.000,-999.0000,9, -999.00,9, -999.00, -1.4010,-999.0000,   0.039,2,-999.000,9,-999.000,9,    4.40,2,0.31,2, -999.00,9,80,865
32L919920715,47,1,12,2,19920803,80.6750,-8.2460,188,    10.0, -1.3970, 31.5090,2,-999.0000,9,   392.2,2,   384.3,2,    8.11,2,    1.18,2,    0.03,2,    1.04,2,  -999.0,9,  -999.0,9,-999.000,9,-999.000,-999.0000,9, -999.00,9, -999.00, -1.3972,-999.0000,   0.088,2,-999.000,9,-999.000,9,    2.94,2,0.62,2, -999.00,9,80,864
32L919920715,47,1,11,2,19920803,80.6750,-8.2460,188,    20.0, -1.4650, 31.8280,2,-999.0000,9,   385.8,2,   376.1,2,    9.35,2,    2.37,2,    0.05,2,    1.09,2,  -999.0,9,  -999.0,9,-999.000,9,-999.000,-999.0000,9, -999.00,9, -999.00, -1.4653,-999.0000,   0.146,2,-999.000,9,-999.000,9,    1.64,2,0.55,2, -999.00,9,80,863
32L919920715,47,1,10,2,19920803,80.6750,-8.2460,188,    30.0, -1.4680, 31.8730,2,-999.0000,9,   383.9,2,   374.2,2,    9.58,2,    2.58,2,    0.05,2,    1.10,2,  -999.0,9,  -999.0,9,-999.000,9,-999.000,-999.0000,9, -999.00,9, -999.00, -1.4685,-999.0000,   0.205,2,-999.000,9,-999.000,9,    1.29,2,0.52,2, -999.00,9,80,862
32L919920715,47,1,9,2,19920803,80.6750,-8.2460,188,    40.0, -1.4790, 31.9030,2,-999.0000,9,   386.8,2,   372.9,2,    9.76,2,    2.69,2,    0.05,2,    1.11,2,  -999.0,9,  -999.0,9,-999.000,9,-999.000,-999.0000,9, -999.00,9, -999.00, -1.4797,-999.0000,   0.176,2,-999.000,9,-999.000,9,    1.20,2,0.41,2, -999.00,9,80,861
32L919920715,47,1,8,2,19920803,80.6750,-8.2460,188,    50.0, -1.4770, 31.9000,2,-999.0000,9,   386.1,2,   375.2,2,    9.77,2,    2.69,2,    0.05,2,    1.12,2,  -999.0,9,  -999.0,9,-999.000,9,-999.000,-999.0000,9, -999.00,9, -999.00, -1.4779,-999.0000,   0.166,2,-999.000,9,-999.000,9,    1.41,2,0.53,2, -999.00,9,80,860
32L919920715,47,1,7,2,19920803,80.6750,-8.2460,188,    60.0, -1.4800, 31.9080,2, 31.8830,2,   385.6,2,   376.1,2,    9.77,2,    2.69,2,    0.05,2,    1.12,2,  -999.0,9,  -999.0,9,-999.000,9,-999.000,-999.0000,9, -999.00,9, -999.00, -1.4811,-999.0000,   0.156,2,-999.000,9,-999.000,9,    1.32,2,0.46,2, -999.00,9,80,859
32L919920715,47,1,6,2,19920803,80.6750,-8.2460,188,    68.0, -1.4810, 31.9100,2,-999.0000,9,   381.8,2,   374.9,2,    9.78,2,    2.73,2,    0.05,2,    1.11,2,  -999.0,9,  -999.0,9,-999.000,9,-999.000,-999.0000,9, -999.00,9, -999.00, -1.4822,-999.0000,   0.166,2,-999.000,9,-999.000,9,    1.07,2,0.73,2, -999.00,9,80,858
32L919920715,48,1,11,2,19920804,80.7520,-8.8220,113,     2.0, -1.4530, 31.3860,2,-999.0000,9,   410.5,2,   386.9,2,    9.10,2,    1.20,2,    0.03,2,    1.04,2,  -999.0,9,  -999.0,9,-999.000,9,-999.000,-999.0000,9, -999.00,9, -999.00, -1.4530,-999.0000,   0.010,2,   8.576,2,   1.459,2,    2.11,2,0.41,2,50100.00,2,82,875
32L919920715,48,1,10,2,19920804,80.7520,-8.8220,113,     5.0, -1.5130, 31.4280,2,-999.0000,9,   406.8,2,   387.2,2,    9.33,2,    1.29,2,    0.04,2,    1.07,2,  -999.0,9,  -999.0,9,-999.000,9,-999.000,-999.0000,9, -999.00,9, -999.00, -1.5131,-999.0000,   0.059,2,   9.085,2,   1.519,2,    2.00,2,0.30,2,51400.00,2,82,874
32L919920715,48,1,9,2,19920804,80.7520,-8.8220,113,     9.0, -1.4900, 31.5160,2,-999.0000,9,   404.0,2,   383.1,2,    9.56,2,    1.82,2,    0.05,2,    1.08,2,  -999.0,9,  -999.0,9,-999.000,9,-999.000,-999.0000,9, -999.00,9, -999.00, -1.4901,-999.0000,   0.039,2,   7.100,2,   1.224,2,    1.67,2,0.30,2,58400.00,2,82,873
32L919920715,48,1,7,2,19920804,80.7520,-8.8220,113,    15.0, -1.4460, 31.7110,2,-999.0000,9,   402.0,2,   379.7,2,    9.35,2,    2.13,2,    0.05,2,    1.07,2,  -999.0,9,  -999.0,9,-999.000,9,-999.000,-999.0000,9, -999.00,9, -999.00, -1.4463,-999.0000,   0.029,2,-999.000,9,-999.000,9, -999.00,9,-999.00,9, -999.00,9,82,871
32L919920715,48,1,8,2,19920804,80.7520,-8.8220,113,    15.0, -1.4330, 31.7300,2,-999.0000,9,   408.7,2,   379.8,2,    9.35,2,    2.07,2,    0.05,2,    1.07,2,  -999.0,9,  -999.0,9,-999.000,9,-999.000,-999.0000,9, -999.00,9, -999.00, -1.4333,-999.0000,   0.029,2,   6.184,2,   1.282,2,    2.17,2,0.48,2,53000.00,2,82,872
32L919920715,48,1,6,2,19920804,80.7520,-8.8220,113,    23.0, -1.3910, 31.7970,2,-999.0000,9,   397.8,2,   378.7,2,    9.06,2,    2.16,2,    0.05,2,    1.06,2,  -999.0,9,  -999.0,9,-999.000,9,-999.000,-999.0000,9, -999.00,9, -999.00, -1.3914,-999.0000,   0.020,2,   6.570,2,   1.225,2,    1.76,2,0.43,2,61300.00,2,82,870
32L919920715,48,1,5,2,19920804,80.7520,-8.8220,113,    36.0, -1.3710, 31.8170,2,-999.0000,9,   395.9,2,   377.4,2,    8.87,2,    2.18,2,    0.05,2,    1.04,2,  -999.0,9,  -999.0,9,-999.000,9,-999.000,-999.0000,9, -999.00,9, -999.00, -1.3717,-999.0000,   0.010,2,   4.984,2,   1.119,2,    2.03,2,0.36,2,71900.00,2,82,869
32L919920715,48,1,4,2,19920804,80.7520,-8.8220,113,    54.0, -1.3640, 31.8190,2,-999.0000,9,   407.3,2,   377.2,2,    8.85,2,    2.17,2,    0.05,2,    1.04,2,  -999.0,9,  -999.0,9,-999.000,9,-999.000,-999.0000,9, -999.00,9, -999.00, -1.3650,-999.0000,   0.020,2,   8.471,2,   1.308,2,    1.82,2,0.34,2,59500.00,2,82,868