BOTTLE,20220816CCHSIOAMB
EXPOCODE,STNNBR,CASTNO,BTLNBR,BTLNBR_FLAG_W,DATE,LATITUDE,LONGITUDE,DEPTH,CTDPRS,CTDTMP,CTDSAL,CTDSAL_FLAG_W,SALNTY,SALNTY_FLAG_W,CTDOXY,CTDOXY_FLAG_W,OXYGEN,OXYGEN_FLAG_W,SILCAT,SILCAT_FLAG_W,NITRAT,NITRAT_FLAG_W,NITRIT,NITRIT_FLAG_W,PHSPHT,PHSPHT_FLAG_W,TCARBN,TCARBN_FLAG_W,ALKALI,ALKALI_FLAG_W,TRITUM,TRITUM_FLAG_W,TRITER,HELIUM,HELIUM_FLAG_W,DELHE3,DELHE3_FLAG_W,DELHER,THETA,SOMSAL,AMMONI,AMMONI_FLAG_W,POC,POC_FLAG_W,PON,PON_FLAG_W,CHLORA,CHLORA_FLAG_W,PHAEO,PHAEO_FLAG_W,BACT,BACT_FLAG_W,STNNBR_U,BNLID
,,,,,,,,METERS,DBAR,ITS-90,PSS-78,,PSS-78,,UMOL/KG,,UMOL/KG,,UMOL/KG,,UMOL/KG,,UMOL/KG,,UMOL/KG,,UMOL/KG,,UMOL/KG,,TU,,TU,NMOL/KG,,PERCNT,,PERCNT,DEG C,PSS-78,UMOL/KG,,UG/KG,,UG/KG,,UG/KG,,UG/L,,E8/L,,,
32L919920715,34,1,5,2,19920729,79.9400,-14.2130,99,     2.0,  0.3070, 32.2840,2,-999.0000,9,   418.5,2,  -999.0,9,    2.40,2,    0.14,2,    0.00,2,    0.76,2,  -999.0,9,  -999.0,9,-999.000,9,-999.000,-999.0000,9, -999.00,9, -999.00,  0.3069,-999.0000,   0.068,2,-999.000,9,-999.000,9, -999.00,9,-999.00,9, -999.00,9,53,605
32L919920715,34,1,4,2,19920729,79.9400,-14.2130,99,    10.0,  0.0080, 32.2930,2,-999.0000,9,   408.5,2,  -999.0,9,    2.70,2,    0.25,2,    0.01,2,    0.78,2,  -999.0,9,  -999.0,9,-999.000,9,-999.000,-999.0000,9, -999.00,9, -999.00,  0.0077,-999.0000,   0.049,2,-999.000,9,-999.000,9, -999.00,9,-999.00,9, -999.00,9,53,604
32L919920715,34,1,3,2,19920729,79.9400,-14.2130,99,    15.0, -0.3300, 32.2840,2,-999.0000,9,   400.3,2,  -999.0,9,    2.92,2,    0.48,2,    0.01,2,    0.81,2,  -999.0,9,  -999.0,9,-999.000,9,-999.000,-999.0000,9, -999.00,9, -999.00, -0.3304,-999.0000,   0.039,2,-999.000,9,-999.000,9, -999.00,9,-999.00,9, -999.00,9,53,603
32L919920715,34,1,1,2,19920729,79.9400,-14.2130,99,    20.0, -0.4910, 32.2990,2,-999.0000,9,   384.8,2,  -999.0,9,    3.03,2,    0.61,2,    0.01,2,    0.80,2,  -999.0,9,  -999.0,9,-999.000,9,-999.000,-999.0000,9, -999.00,9, -999.00, -0.4915,-999.0000,   0.020,2,-999.000,9,-999.000,9, -999.00,9,-999.00,9, -999.00,9,53,601
32L919920715,34,1,2,2,19920729,79.9400,-14.2130,99,    20.0, -0.4910, 32.2990,2,-999.0000,9,   384.8,2,  -999.0,9,    3.03,2,    0.62,2,    0.01,2,    0.81,2,  -999.0,9,  -999.0,9,-999.000,9,-999.000,-999.0000,9, -999.00,9, -999.00, -0.4915,-999.0000,   0.039,2,-999.000,9,-999.000,9, -999.00,9,-999.00,9, -999.00,9,53,602
32L919920715,34,1,12,2,19920729,79.9400,-14.2130,99,    30.0, -1.0960, 32.3210,2,-999.0000,9,   369.4,2,  -999.0,9,    4.22,2,    2.05,2,    0.03,2,    0.95,2,  -999.0,9,  -999.0,9,-999.000,9,-999.000,-999.0000,9, -999.00,9, -999.00, -1.0966,-999.0000,   0.010,2,-999.000,9,-999.000,9, -999.00,9,-999.00,9, -999.00,9,53,600
32L919920715,34,1,11,2,19920729,79.9400,-14.2130,99,    40.0, -1.6230, 32.3650,2,-999.0000,9,   356.9,2,  -999.0,9,    5.66,2,    3.64,2,    0.04,2,    1.04,2,  -999.0,9,  -999.0,9,-999.000,9,-999.000,-999.0000,9, -999.00,9, -999.00, -1.6237,-999.0000,   0.020,2,-999.000,9,-999.000,9, -999.00,9,-999.00,9, -999.00,9,53,599
32L919920715,34,1,9,2,19920729,79.9400,-14.2130,99,    50.0, -1.6410, 32.3710,2,-999.0000,9,   356.4,2,  -999.0,9,    5.96,2,    3.63,2,    0.04,2,    1.05,2,  -999.0,9,  -999.0,9,-999.000,9,-999.000,-999.0000,9, -999.00,9, -999.00, -1.6418,-999.0000,   0.010,2,-999.000,9,-999.000,9, -999.00,9,-999.00,9, -999.00,9,53,597
32L919920715,34,1,10,2,19920729,79.9400,-14.2130,99,    50.0, -1.6410, 32.3710,2,-999.0000,9,   356.4,2,  -999.0,9,    5.94,2,    3.80,2,    0.04,2,    1.07,2,  -999.0,9,  -999.0,9,-999.000,9,-999.000,-999.0000,9, -999.00,9, -999.00, -1.6418,-999.0000,   0.020,2,-999.000,9,-999.000,9, -999.00,9,-999.00,9, -999.00,9,53,598
32L919920715,34,1,8,2,19920729,79.9400,-14.2130,99,    59.0, -1.6510, 32.3730,2,-999.0000,9,   372.4,2,  -999.0,9,    6.14,2,    4.09,2,    0.05,2,    1.05,2,  -999.0,9,  -999.0,9,-999.000,9,-999.000,-999.0000,9, -999.00,9, -999.00, -1.6520,-999.0000,   0.020,2,-999.000,9,-999.000,9, -999.00,9,-999.00,9, -999.00,9,53,596
32L919920715,34,1,7,2,19920729,79.9400,-14.2130,99,    75.0, -1.6580, 32.3750,2,-999.0000,9,   369.7,2,  -999.0,9,    6.32,2,    4.18,2,    0.04,2,    1.07,2,  -999.0,9,  -999.0,9,-999.000,9,-999.000,-999.0000,9, -999.00,9, -999.00, -1.6593,-999.0000,   0.029,2,-999.000,9,-999.000,9, -999.00,9,-999.00,9, -999.00,9,53,595
32L919920715,34,1,6,2,19920729,79.9400,-14.2130,99,    84.0, -1.6590, 32.3760,2,-999.0000,9,   376.2,2,  -999.0,9,    6.22,2,    4.05,2,    0.05,2,    1.05,2,  -999.0,9,  -999.0,9,-999.000,9,-999.000,-999.0000,9, -999.00,9, -999.00, -1.6604,-999.0000,   0.029,2,-999.000,9,-999.000,9, -999.00,9,-999.00,9, -999.00,9,53,594
32L919920715,35,1,2,2,19920729,80.0200,-13.4260,92,     2.0,  1.3210, 32.1730,2,-999.0000,9,   421.7,2,   411.0,2,    0.81,2,    0.05,2,    0.02,2,    0.71,2,  -999.0,9,  -999.0,9,-999.000,9,-999.000,-999.0000,9, -999.00,9, -999.00,  1.3209,-999.0000,   0.059,2,-999.000,9,-999.000,9,    0.86,2,0.16,2, -999.00,9,54,614
32L919920715,35,1,1,2,19920729,80.0200,-13.4260,92,     7.0,  1.3060, 32.2020,2,-999.0000,9,   392.7,2,   412.8,2,    0.79,2,    0.06,2,    0.03,2,    0.71,2,  -999.0,9,  -999.0,9,-999.000,9,-999.000,-999.0000,9, -999.00,9, -999.00,  1.3057,-999.0000,   0.049,2,-999.000,9,-999.000,9,    0.76,2,0.17,2, -999.00,9,54,613
32L919920715,35,1,12,2,19920729,80.0200,-13.4260,92,    10.0,  1.2930, 32.2200,2,-999.0000,9,   406.7,2,   412.9,2,    0.76,2,    0.06,2,    0.03,2,    0.73,2,  -999.0,9,  -999.0,9,-999.000,9,-999.000,-999.0000,9, -999.00,9, -999.00,  1.2926,-999.0000,   0.049,2,-999.000,9,-999.000,9,    0.89,2,0.00,2, -999.00,9,54,612
32L919920715,35,1,11,2,19920729,80.0200,-13.4260,92,    25.0, -0.8940, 32.4020,2,-999.0000,9,   391.4,2,   417.3,2,    1.49,2,    0.19,2,    0.05,2,    0.80,2,  -999.0,9,  -999.0,9,-999.000,9,-999.000,-999.0000,9, -999.00,9, -999.00, -0.8946,-999.0000,   0.039,2,-999.000,9,-999.000,9,    1.59,2,0.34,2, -999.00,9,54,611
32L919920715,35,1,10,2,19920729,80.0200,-13.4260,92,    35.0, -1.4490, 32.3310,2,-999.0000,9,   341.7,3,   385.8,2,    3.45,2,    1.28,2,    0.11,2,    0.90,2,  -999.0,9,  -999.0,9,-999.000,9,-999.000,-999.0000,9, -999.00,9, -999.00, -1.4496,-999.0000,   0.068,2,-999.000,9,-999.000,9,    2.94,2,0.42,2, -999.00,9,54,610
32L919920715,35,1,9,2,19920729,80.0200,-13.4260,92,    45.0, -1.5890, 32.3460,2,-999.0000,9,   369.7,2,   370.0,2,    5.24,2,    2.79,2,    0.15,2,    1.00,2,  -999.0,9,  -999.0,9,-999.000,9,-999.000,-999.0000,9, -999.00,9, -999.00, -1.5898,-999.0000,   0.107,2,-999.000,9,-999.000,9,    2.30,2,0.60,2, -999.00,9,54,609
32L919920715,35,1,8,2,19920729,80.0200,-13.4260,92,    56.0, -1.6170, 32.3570,2,-999.0000,9,   372.1,2,   365.6,2,    5.52,2,    3.43,2,    0.15,2,    1.01,2,  -999.0,9,  -999.0,9,-999.000,9,-999.000,-999.0000,9, -999.00,9, -999.00, -1.6180,-999.0000,   0.078,2,-999.000,9,-999.000,9,    1.88,2,0.51,2, -999.00,9,54,608
32L919920715,35,1,7,2,19920729,80.0200,-13.4260,92,    78.0, -1.6420, 32.3670,2,-999.0000,9,   352.9,2,   361.2,2,    5.95,2,    3.51,2,    0.15,2,    1.04,2,  -999.0,9,  -999.0,9,-999.000,9,-999.000,-999.0000,9, -999.00,9, -999.00, -1.6433,-999.0000,   0.088,2,-999.000,9,-999.000,9,    1.67,2,0.55,2, -999.00,9,54,607
32L919920715,35,1,6,2,19920729,80.0200,-13.4260,92,    82.0, -1.6500, 32.3620,2,-999.0000,9,   369.4,2,   365.6,2,    5.58,2,    3.20,2,    0.15,2,    1.02,2,  -999.0,9,  -999.0,9,-999.000,9,-999.000,-999.0000,9, -999.00,9, -999.00, -1.6514,-999.0000,   0.039,2,-999.000,9,-999.000,9,    1.97,2,0.62,2, -999.00,9,54,606
32L919920715,36,1,2,2,19920729,80.0920,-13.9400,163,     2.0,  1.5220, 32.3120,2,-999.0000,9,   407.4,2,   420.1,2,    0.34,2,    0.07,2,    0.00,2,    0.72,2,  -999.0,9,  -999.0,9,-999.000,9,-999.000,-999.0000,9, -999.00,9, -999.00,  1.5219,-999.0000,   0.068,2,  23.866,2,   1.829,2,    1.32,2,0.42,2,75000.00,2,55,626
32L919920715,36,1,1,2,19920729,80.0920,-13.9400,163,     3.0,  1.4510, 32.3120,2,-999.0000,9,   401.1,2,   422.2,2,    0.35,2,    0.06,2,    0.00,2,    0.72,2,  -999.0,9,  -999.0,9,-999.000,9,-999.000,-999.0000,9, -999.00,9, -999.00,  1.4509,-999.0000,   0.068,2,  21.830,2,   1.860,2,    1.23,2,0.45,2,97000.00,2,55,625
32L919920715,36,1,12,2,19920729,80.0920,-13.9400,163,     5.0,  1.3450, 32.3110,2,-999.0000,9,   415.0,2,   423.0,2,    0.35,2,    0.00,2,    0.00,2,    0.71,2,  -999.0,9,  -999.0,9,-999.000,9,-999.000,-999.0000,9, -999.00,9, -999.00,  1.3448,-999.0000,   0.068,2,  21.157,2,   1.667,2,    1.79,2,0.41,2,90100.00,2,55,624
32L919920715,36,1,11,2,19920729,80.0920,-13.9400,163,     7.0,  1.3190, 32.3140,2,-999.0000,9,   413.3,2,   423.4,2,    0.35,2,   -0.01,2,    0.00,2,    0.70,2,  -999.0,9,  -999.0,9,-999.000,9,-999.000,-999.0000,9, -999.00,9, -999.00,  1.3187,-999.0000,   0.068,2,  18.649,2,   1.774,2,    1.47,2,0.53,2,107000.00,2,55,623
32L919920715,36,1,10,2,19920729,80.0920,-13.9400,163,    11.0,  1.1340, 32.3110,2,-999.0000,9,   409.8,2,   430.0,2,    0.50,2,    0.01,2,    0.01,2,    0.71,2,  -999.0,9,  -999.0,9,-999.000,9,-999.000,-999.0000,9, -999.00,9, -999.00,  1.1336,-999.0000,   0.068,2,  25.076,2,   2.494,2,    1.85,2,0.64,2,111000.00,2,55,622
32L919920715,36,1,9,2,19920729,80.0920,-13.9400,163,    18.0, -0.0390, 32.3190,2,-999.0000,9,   401.8,2,   424.1,2,    1.15,2,    0.00,2,    0.01,2,    0.77,2,  -999.0,9,  -999.0,9,-999.000,9,-999.000,-999.0000,9, -999.00,9, -999.00, -0.0396,-999.0000,   0.059,2,  33.308,2,   2.687,2,    3.58,2,0.42,2,141000.00,2,55,621
32L919920715,36,1,8,2,19920729,80.0920,-13.9400,163,    26.0, -1.2620, 32.3360,2,-999.0000,9,   384.1,2,   402.0,2,    1.32,2,    0.12,2,    0.01,2,    0.83,2,  -999.0,9,  -999.0,9,-999.000,9,-999.000,-999.0000,9, -999.00,9, -999.00, -1.2625,-999.0000,   0.059,2,  19.475,2,   2.108,2,    2.58,2,0.26,2,235000.00,2,55,620
32L919920715,36,1,7,2,19920729,80.0920,-13.9400,163,    37.0, -1.6280, 32.3570,2,-999.0000,9,   361.5,2,   368.2,2,    5.23,2,    3.25,2,    0.03,2,    1.02,2,  -999.0,9,  -999.0,9,-999.000,9,-999.000,-999.0000,9, -999.00,9, -999.00, -1.6286,-999.0000,   0.068,2,  10.594,2,   1.461,2,    3.93,2,0.14,2, -999.00,9,55,619
32L919920715,36,1,6,2,19920729,80.0920,-13.9400,163,    50.0, -1.7090, 32.3640,2,-999.0000,9,   357.3,2,   364.3,2,    6.78,2,    3.93,2,    0.02,2,    1.08,2,  -999.0,9,  -999.0,9,-999.000,9,-999.000,-999.0000,9, -999.00,9, -999.00, -1.7098,-999.0000,   0.098,2,   9.235,2,   1.010,2,    1.59,2,0.42,2, -999.00,9,55,618
32L919920715,36,1,5,2,19920729,80.0920,-13.9400,163,   101.0, -1.6890, 32.5550,2,-999.0000,9,   347.2,2,   352.7,2,    9.64,2,    5.49,2,    0.03,2,    1.14,2,  -999.0,9,  -999.0,9,-999.000,9,-999.000,-999.0000,9, -999.00,9, -999.00, -1.6908,-999.0000,   0.078,2,   4.129,2,   0.470,2,    0.62,2,0.08,2, -999.00,9,55,617
32L919920715,36,1,4,2,19920729,80.0920,-13.9400,163,   149.0, -1.2290, 33.6530,2, 33.5790,2,   331.6,2,   323.8,2,    9.38,2,    9.12,2,    0.02,2,    1.00,2,  -999.0,9,  -999.0,9,-999.000,9,-999.000,-999.0000,9, -999.00,9, -999.00, -1.2326,-999.0000,   0.146,2,   2.109,2,   0.233,2,    0.34,2,0.15,2, -999.00,9,55,616
32L919920715,36,1,3,2,19920729,80.0920,-13.9400,163,   153.0, -1.2250, 33.6540,2,-999.0000,9,   327.4,2,   328.2,2,    9.44,2,    8.95,2,    0.02,2,    1.00,2,  -999.0,9,  -999.0,9,-999.000,9,-999.000,-999.0000,9, -999.00,9, -999.00, -1.2287,-999.0000,   0.078,2,   1.731,2,   0.184,2, -999.00,9,-999.00,9, -999.00,9,55,615
32L919920715,37,1,2,2,19920729,80.1680,-14.3680,257,     2.0,  0.6380, 32.3180,2,-999.0000,9,   381.8,2,   386.7,2,    5.33,2,    1.17,2,    0.04,2,    0.89,2,  -999.0,9,  -999.0,9,-999.000,9,-999.000,-999.0000,9, -999.00,9, -999.00,  0.6379,-999.0000,   0.107,2,-999.000,9,-999.000,9,    1.94,2,0.31,2, -999.00,9,56,638
32L919920715,37,1,1,2,19920729,80.1680,-14.3680,257,    15.0, -1.6270, 32.3320,2,-999.0000,9,   374.5,2,   370.0,2,    6.34,2,    3.36,2,    0.08,2,    1.01,2,  -999.0,9,  -999.0,9,-999.000,9,-999.000,-999.0000,9, -999.00,9, -999.00, -1.6272,-999.0000,   0.088,2,-999.000,9,-999.000,9,    1.77,2,0.56,2, -999.00,9,56,637
32L919920715,37,1,12,2,19920729,80.1680,-14.3680,257,    30.0, -1.6630, 32.3530,2,-999.0000,9,   369.9,2,   364.3,2,    6.55,2,    3.79,2,    0.07,2,    1.03,2,  -999.0,9,  -999.0,9,-999.000,9,-999.000,-999.0000,9, -999.00,9, -999.00, -1.6635,-999.0000,   0.098,2,-999.000,9,-999.000,9,    1.70,2,0.44,2, -999.00,9,56,636
32L919920715,37,1,11,2,19920729,80.1680,-14.3680,257,    50.0, -1.7080, 32.3770,2,-999.0000,9,   364.4,2,   364.7,2,    8.63,2,    4.44,2,    0.02,2,    1.07,2,  -999.0,9,  -999.0,9,-999.000,9,-999.000,-999.0000,9, -999.00,9, -999.00, -1.7088,-999.0000,   0.117,2,-999.000,9,-999.000,9,    1.17,2,0.38,2, -999.00,9,56,635
32L919920715,37,1,10,2,19920729,80.1680,-14.3680,257,    60.0, -1.7010, 32.3860,2,-999.0000,9,   362.6,2,   363.8,2,    8.70,2,    4.56,2,    0.02,2,    1.06,2,  -999.0,9,  -999.0,9,-999.000,9,-999.000,-999.0000,9, -999.00,9, -999.00, -1.7020,-999.0000,   0.098,2,-999.000,9,-999.000,9,    0.88,2,0.18,2, -999.00,9,56,634
32L919920715,37,1,9,2,19920729,80.1680,-14.3680,257,   100.0, -1.6310, 32.7150,2,-999.0000,9,   348.5,2,   349.1,2,   10.77,2,    6.57,2,    0.01,2,    1.09,2,  -999.0,9,  -999.0,9,-999.000,9,-999.000,-999.0000,9, -999.00,9, -999.00, -1.6328,-999.0000,   0.088,2,-999.000,9,-999.000,9,    0.15,2,0.10,2, -999.00,9,56,633
32L919920715,37,1,8,2,19920729,80.1680,-14.3680,257,   124.0, -1.4670, 33.2600,2,-999.0000,9,   334.8,2,   333.3,2,   10.43,2,    8.38,2,    0.01,2,    1.00,2,  -999.0,9,  -999.0,9,-999.000,9,-999.000,-999.0000,9, -999.00,9, -999.00, -1.4696,-999.0000,   0.098,2,-999.000,9,-999.000,9,    0.13,2,0.06,2, -999.00,9,56,632
32L919920715,37,1,7,2,19920729,80.1680,-14.3680,257,   150.0, -1.2520, 33.7130,2,-999.0000,9,   317.4,2,   320.0,2,    9.44,2,   10.10,2,    0.01,2,    0.95,2,  -999.0,9,  -999.0,9,-999.000,9,-999.000,-999.0000,9, -999.00,9, -999.00, -1.2556,-999.0000,   0.088,2,-999.000,9,-999.000,9,    0.34,2,0.14,2, -999.00,9,56,631
32L919920715,37,1,6,2,19920729,80.1680,-14.3680,257,   173.0, -0.3960, 34.2840,2,-999.0000,9,   295.7,2,   297.0,2,    9.36,2,   12.87,2,    0.01,2,    0.99,2,  -999.0,9,  -999.0,9,-999.000,9,-999.000,-999.0000,9, -999.00,9, -999.00, -0.4017,-999.0000,   0.088,2,-999.000,9,-999.000,9,    0.17,2,0.06,2, -999.00,9,56,630
32L919920715,37,1,5,2,19920729,80.1680,-14.3680,257,   200.0, -0.0230, 34.4740,2,-999.0000,9,   291.6,2,   290.4,2,    9.31,2,   13.67,2,    0.01,2,    1.00,2,  -999.0,9,  -999.0,9,-999.000,9,-999.000,-999.0000,9, -999.00,9, -999.00, -0.0303,-999.0000,   0.088,2,-999.000,9,-999.000,9,    0.08,2,0.10,2, -999.00,9,56,629
32L919920715,37,1,4,2,19920729,80.1680,-14.3680,257,   226.0,  0.3800, 34.6480,2, 34.6550,2,   281.0,2,   286.4,2,    9.51,2,   13.93,2,    0.02,2,    1.00,2,  -999.0,9,  -999.0,9,-999.000,9,-999.000,-999.0000,9, -999.00,9, -999.00,  0.3709,-999.0000,   0.107,2,-999.000,9,-999.000,9,    0.10,2,0.07,2, -999.00,9,56,628
32L919920715,37,1,3,2,19920729,80.1680,-14.3680,257,   247.0,  0.4870, 34.6830,2,-999.0000,9,   281.0,2,   287.4,2,    9.58,2,   14.08,2,    0.02,2,    1.00,2,  -999.0,9,  -999.0,9,-999.000,9,-999.000,-999.0000,9, -999.00,9, -999.00,  0.4767,-999.0000,   0.127,2,-999.000,9,-999.000,9,    0.05,2,0.06,2, -999.00,9,56,627
32L919920715,38,1,2,2,19920730,80.2140,-14.6120,341,     2.0,  1.7370, 32.2690,2,-999.0000,9,   397.9,2,   423.9,2,    2.09,2,    0.14,2,    0.01,2,    0.79,2,  -999.0,9,  -999.0,9,-999.000,9,-999.000,-999.0000,9, -999.00,9, -999.00,  1.7369,-999.0000,   0.146,2,-999.000,9,-999.000,9,    4.70,2,1.44,2, -999.00,9,57,650
32L919920715,38,1,1,2,19920730,80.2140,-14.6120,341,     9.0,  0.7710, 32.2660,2,-999.0000,9,   380.6,2,   392.9,2,    6.28,2,    1.64,2,    0.02,2,    0.97,2,  -999.0,9,  -999.0,9,-999.000,9,-999.000,-999.0000,9, -999.00,9, -999.00,  0.7707,-999.0000,   0.107,2,-999.000,9,-999.000,9,    5.28,2,1.11,2, -999.00,9,57,649
32L919920715,38,1,12,2,19920730,80.2140,-14.6120,341,    19.0, -1.5920, 32.2860,2,-999.0000,9,   368.6,2,   369.8,2,    8.59,2,    3.98,2,    0.02,2,    1.08,2,  -999.0,9,  -999.0,9,-999.000,9,-999.000,-999.0000,9, -999.00,9, -999.00, -1.5923,-999.0000,   0.107,2,-999.000,9,-999.000,9,    1.25,2,0.09,2, -999.00,9,57,648
32L919920715,38,1,11,2,19920730,80.2140,-14.6120,341,    35.0, -1.6880, 32.3120,2,-999.0000,9,   368.2,2,   366.6,2,    9.01,2,    4.44,2,    0.02,2,    1.12,2,  -999.0,9,  -999.0,9,-999.000,9,-999.000,-999.0000,9, -999.00,9, -999.00, -1.6886,-999.0000,   0.088,2,-999.000,9,-999.000,9,    7.69,2,1.87,2, -999.00,9,57,647
32L919920715,38,1,10,2,19920730,80.2140,-14.6120,341,    50.0, -1.7560, 32.3500,2,-999.0000,9,   367.8,2,   364.6,2,    9.36,2,    4.72,2,    0.02,2,    1.15,2,  -999.0,9,  -999.0,9,-999.000,9,-999.000,-999.0000,9, -999.00,9, -999.00, -1.7568,-999.0000,   0.088,2,-999.000,9,-999.000,9,    0.20,2,0.09,2, -999.00,9,57,646
32L919920715,38,1,9,2,19920730,80.2140,-14.6120,341,    75.0, -1.7250, 32.4490,2,-999.0000,9,   360.5,2,   360.8,2,    9.69,2,    5.27,2,    0.01,2,    1.12,2,  -999.0,9,  -999.0,9,-999.000,9,-999.000,-999.0000,9, -999.00,9, -999.00, -1.7262,-999.0000,   0.088,2,-999.000,9,-999.000,9,    0.11,2,0.04,2, -999.00,9,57,645
32L919920715,38,1,8,2,19920730,80.2140,-14.6120,341,   101.0, -1.6220, 32.7120,2,-999.0000,9,   346.2,2,   344.4,2,   10.18,2,    6.50,2,    0.01,2,    1.08,2,  -999.0,9,  -999.0,9,-999.000,9,-999.000,-999.0000,9, -999.00,9, -999.00, -1.6238,-999.0000,   0.098,2,-999.000,9,-999.000,9,    0.06,2,0.02,2, -999.00,9,57,644
32L919920715,38,1,7,2,19920730,80.2140,-14.6120,341,   150.0, -1.0180, 33.9530,2,-999.0000,9,   309.5,2,   309.2,2,    9.40,2,   11.26,2,    0.02,2,    0.96,2,  -999.0,9,  -999.0,9,-999.000,9,-999.000,-999.0000,9, -999.00,9, -999.00, -1.0220,-999.0000,   0.088,2,-999.000,9,-999.000,9,    0.04,2,0.04,2, -999.00,9,57,643
32L919920715,38,1,6,2,19920730,80.2140,-14.6120,341,   200.0,  0.1420, 34.5530,2,-999.0000,9,   293.8,2,   288.8,2,    9.63,2,   13.68,2,    0.02,2,    1.00,2,  -999.0,9,  -999.0,9,-999.000,9,-999.000,-999.0000,9, -999.00,9, -999.00,  0.1344,-999.0000,   0.088,2,-999.000,9,-999.000,9,    0.05,2,0.02,2, -999.00,9,57,642
32L919920715,38,1,5,2,19920730,80.2140,-14.6120,341,   251.0,  0.4630, 34.6800,2,-999.0000,9,   281.6,2,   286.8,2,    9.67,2,   13.92,2,    0.02,2,    1.00,2,  -999.0,9,  -999.0,9,-999.000,9,-999.000,-999.0000,9, -999.00,9, -999.00,  0.4526,-999.0000,   0.088,2,-999.000,9,-999.000,9, -999.00,9,-999.00,9, -999.00,9,57,641
32L919920715,38,1,4,2,19920730,80.2140,-14.6120,341,   300.0,  0.5860, 34.7240,2, 34.7200,2,   285.6,2,   286.1,2,    9.76,2,   14.02,2,    0.02,2,    1.00,2,  -999.0,9,  -999.0,9,-999.000,9,-999.000,-999.0000,9, -999.00,9, -999.00,  0.5731,-999.0000,   0.107,2,-999.000,9,-999.000,9, -999.00,9,-999.00,9, -999.00,9,57,640
32L919920715,38,1,3,2,19920730,80.2140,-14.6120,341,   331.0,  0.6060, 34.7320,2,-999.0000,9,   288.0,2,   286.9,2,    9.82,2,   14.00,2,    0.01,2,    1.00,2,  -999.0,9,  -999.0,9,-999.000,9,-999.000,-999.0000,9, -999.00,9, -999.00,  0.5916,-999.0000,   0.088,2,-999.000,9,-999.000,9, -999.00,9,-999.00,9, -999.00,9,57,639