BOTTLE,20220816CCHSIOAMB
EXPOCODE,STNNBR,CASTNO,BTLNBR,BTLNBR_FLAG_W,DATE,LATITUDE,LONGITUDE,DEPTH,CTDPRS,CTDTMP,CTDSAL,CTDSAL_FLAG_W,SALNTY,SALNTY_FLAG_W,CTDOXY,CTDOXY_FLAG_W,OXYGEN,OXYGEN_FLAG_W,SILCAT,SILCAT_FLAG_W,NITRAT,NITRAT_FLAG_W,NITRIT,NITRIT_FLAG_W,PHSPHT,PHSPHT_FLAG_W,TCARBN,TCARBN_FLAG_W,ALKALI,ALKALI_FLAG_W,TRITUM,TRITUM_FLAG_W,TRITER,HELIUM,HELIUM_FLAG_W,DELHE3,DELHE3_FLAG_W,DELHER,THETA,SOMSAL,AMMONI,AMMONI_FLAG_W,POC,POC_FLAG_W,PON,PON_FLAG_W,CHLORA,CHLORA_FLAG_W,PHAEO,PHAEO_FLAG_W,BACT,BACT_FLAG_W,STNNBR_U,BNLID
,,,,,,,,METERS,DBAR,ITS-90,PSS-78,,PSS-78,,UMOL/KG,,UMOL/KG,,UMOL/KG,,UMOL/KG,,UMOL/KG,,UMOL/KG,,UMOL/KG,,UMOL/KG,,TU,,TU,NMOL/KG,,PERCNT,,PERCNT,DEG C,PSS-78,UMOL/KG,,UG/KG,,UG/KG,,UG/KG,,UG/L,,E8/L,,,
32L919920715,25,7,3,2,19920726,80.4540,-13.3520,315,     2.0,  2.3850, 31.9830,2,-999.0000,9,   414.5,2,  -999.0,9,    0.69,2,    0.13,2,    0.01,2,    0.62,2,  -999.0,9,  -999.0,9,-999.000,9,-999.000,-999.0000,9, -999.00,9, -999.00,  2.3849,-999.0000,   0.010,2,-999.000,9,-999.000,9, -999.00,9,-999.00,9, -999.00,9,40,459
32L919920715,25,7,4,2,19920726,80.4540,-13.3520,315,     2.0,  2.4010, 31.9810,2,-999.0000,9,   431.5,2,  -999.0,9, -999.00,9, -999.00,9, -999.00,9, -999.00,9,  -999.0,9,  -999.0,9,-999.000,9,-999.000,-999.0000,9, -999.00,9, -999.00,  2.4009,-999.0000,-999.000,9,-999.000,9,-999.000,9, -999.00,9,-999.00,9, -999.00,9,40,460
32L919920715,25,7,1,2,19920726,80.4540,-13.3520,315,    22.0, -1.1840, 32.3110,2,-999.0000,9,   386.4,2,  -999.0,9,    6.52,2,    2.56,2,    0.02,2,    0.94,2,  -999.0,9,  -999.0,9,-999.000,9,-999.000,-999.0000,9, -999.00,9, -999.00, -1.1845,-999.0000,   0.049,2,-999.000,9,-999.000,9, -999.00,9,-999.00,9, -999.00,9,40,457
32L919920715,25,7,2,2,19920726,80.4540,-13.3520,315,    22.0, -1.1800, 32.3040,2,-999.0000,9,   422.1,2,  -999.0,9, -999.00,9, -999.00,9, -999.00,9, -999.00,9,  -999.0,9,  -999.0,9,-999.000,9,-999.000,-999.0000,9, -999.00,9, -999.00, -1.1805,-999.0000,-999.000,9,-999.000,9,-999.000,9, -999.00,9,-999.00,9, -999.00,9,40,458
32L919920715,25,7,11,2,19920726,80.4540,-13.3520,315,    51.0, -1.7070, 32.3490,2,-999.0000,9,   371.5,2,  -999.0,9,    8.70,2,    4.56,2,    0.01,2,    1.01,2,  -999.0,9,  -999.0,9,-999.000,9,-999.000,-999.0000,9, -999.00,9, -999.00, -1.7078,-999.0000,   0.000,2,-999.000,9,-999.000,9, -999.00,9,-999.00,9, -999.00,9,40,455
32L919920715,25,7,12,2,19920726,80.4540,-13.3520,315,    51.0, -1.7050, 32.3480,2,-999.0000,9,   378.6,2,   365.6,2, -999.00,9, -999.00,9, -999.00,9, -999.00,9,  -999.0,9,  -999.0,9,-999.000,9,-999.000,-999.0000,9, -999.00,9, -999.00, -1.7058,-999.0000,-999.000,9,-999.000,9,-999.000,9, -999.00,9,-999.00,9, -999.00,9,40,456
32L919920715,25,7,9,2,19920726,80.4540,-13.3520,315,    77.0, -1.7490, 32.3870,2,-999.0000,9,   364.3,2,  -999.0,9,    8.70,2,    4.84,2,    0.01,2,    1.07,2,  -999.0,9,  -999.0,9,-999.000,9,-999.000,-999.0000,9, -999.00,9, -999.00, -1.7503,-999.0000,   0.000,2,-999.000,9,-999.000,9, -999.00,9,-999.00,9, -999.00,9,40,453
32L919920715,25,7,10,2,19920726,80.4540,-13.3520,315,    77.0, -1.7480, 32.3870,2,-999.0000,9,   374.4,2,  -999.0,9, -999.00,9, -999.00,9, -999.00,9, -999.00,9,  -999.0,9,  -999.0,9,-999.000,9,-999.000,-999.0000,9, -999.00,9, -999.00, -1.7493,-999.0000,-999.000,9,-999.000,9,-999.000,9, -999.00,9,-999.00,9, -999.00,9,40,454
32L919920715,25,7,7,2,19920726,80.4540,-13.3520,315,   125.0, -1.4670, 33.3630,2,-999.0000,9,   332.8,2,  -999.0,9,    9.60,2,    8.60,2,    0.01,2,    1.05,2,  -999.0,9,  -999.0,9,-999.000,9,-999.000,-999.0000,9, -999.00,9, -999.00, -1.4696,-999.0000,   0.039,2,-999.000,9,-999.000,9, -999.00,9,-999.00,9, -999.00,9,40,451
32L919920715,25,7,8,2,19920726,80.4540,-13.3520,315,   126.0, -1.4460, 33.3830,2,-999.0000,9,   334.9,2,   332.1,2, -999.00,9, -999.00,9, -999.00,9, -999.00,9,  -999.0,9,  -999.0,9,-999.000,9,-999.000,-999.0000,9, -999.00,9, -999.00, -1.4487,-999.0000,-999.000,9,-999.000,9,-999.000,9, -999.00,9,-999.00,9, -999.00,9,40,452
32L919920715,25,7,5,2,19920726,80.4540,-13.3520,315,   249.0,  0.4620, 34.6960,2,-999.0000,9,   289.1,2,  -999.0,9, -999.00,9, -999.00,9, -999.00,9, -999.00,9,  -999.0,9,  -999.0,9,-999.000,9,-999.000,-999.0000,9, -999.00,9, -999.00,  0.4517,-999.0000,-999.000,9,-999.000,9,-999.000,9, -999.00,9,-999.00,9, -999.00,9,40,449
32L919920715,25,7,6,2,19920726,80.4540,-13.3520,315,   249.0,  0.4480, 34.6970,2,-999.0000,9,   292.3,2,  -999.0,9,    8.91,2,   13.77,2,    0.01,2,    1.07,2,  -999.0,9,  -999.0,9,-999.000,9,-999.000,-999.0000,9, -999.00,9, -999.00,  0.4377,-999.0000,   0.098,2,-999.000,9,-999.000,9, -999.00,9,-999.00,9, -999.00,9,40,450
32L919920715,25,8,4,2,19920726,80.4540,-13.3520,315,     2.0,  2.4950, 31.7910,2,-999.0000,9,   398.3,2,   394.2,2,    1.82,2,   -0.01,2,    0.00,2,    0.69,2,  -999.0,9,  -999.0,9,-999.000,9,-999.000,-999.0000,9, -999.00,9, -999.00,  2.4949,-999.0000,   0.029,2,  16.487,2,   1.307,2,    1.20,2,0.15,2,103000.00,2,41,472
32L919920715,25,8,3,2,19920726,80.4540,-13.3520,315,     4.0,  2.5250, 31.7780,2,-999.0000,9,   396.0,2,   391.6,2,    1.67,2,   -0.01,2,    0.00,2,    0.68,2,  -999.0,9,  -999.0,9,-999.000,9,-999.000,-999.0000,9, -999.00,9, -999.00,  2.5248,-999.0000,   0.029,2,  18.458,2,   1.613,2,    1.20,2,0.31,2,89600.00,2,41,471
32L919920715,25,8,2,2,19920726,80.4540,-13.3520,315,     6.0,  2.5190, 31.7790,2,-999.0000,9,   394.3,2,   391.4,2,    1.84,2,   -0.01,2,    0.00,2,    0.67,2,  -999.0,9,  -999.0,9,-999.000,9,-999.000,-999.0000,9, -999.00,9, -999.00,  2.5187,-999.0000,   0.020,2,  25.078,2,   1.679,2,    0.94,2,0.22,2,94100.00,2,41,470
32L919920715,25,8,1,2,19920726,80.4540,-13.3520,315,     8.0,  2.5740, 31.7760,2,-999.0000,9,   384.3,2,   391.7,2,    1.61,2,   -0.01,2,    0.01,2,    0.69,2,  -999.0,9,  -999.0,9,-999.000,9,-999.000,-999.0000,9, -999.00,9, -999.00,  2.5736,-999.0000,   0.020,2,  16.543,2,   1.386,2,    0.91,2,0.22,2,97300.00,2,41,469
32L919920715,25,8,10,2,19920726,80.4540,-13.3520,315,    10.0,  2.5140, 31.7760,2,-999.0000,9,   401.6,2,  -999.0,9, -999.00,9, -999.00,9, -999.00,9, -999.00,9,  -999.0,9,  -999.0,9,-999.000,9,-999.000,-999.0000,9, -999.00,9, -999.00,  2.5135,-999.0000,-999.000,9,-999.000,9,-999.000,9, -999.00,9,-999.00,9, -999.00,9,41,466
32L919920715,25,8,11,2,19920726,80.4540,-13.3520,315,    10.0,  2.5140, 31.7760,2,-999.0000,9,   401.6,2,  -999.0,9, -999.00,9, -999.00,9, -999.00,9, -999.00,9,  -999.0,9,  -999.0,9,-999.000,9,-999.000,-999.0000,9, -999.00,9, -999.00,  2.5135,-999.0000,-999.000,9,-999.000,9,-999.000,9, -999.00,9,-999.00,9, -999.00,9,41,467
32L919920715,25,8,12,2,19920726,80.4540,-13.3520,315,    10.0,  2.5140, 31.7760,2,-999.0000,9,   401.6,2,   393.6,2,    1.59,2,   -0.01,2,    0.01,2,    0.68,2,  -999.0,9,  -999.0,9,-999.000,9,-999.000,-999.0000,9, -999.00,9, -999.00,  2.5135,-999.0000,   0.020,2,  17.781,2,   1.630,2,    1.14,2,0.21,2,110000.00,2,41,468
32L919920715,25,8,9,2,19920726,80.4540,-13.3520,315,    12.0,  2.4990, 31.7860,2,-999.0000,9,   412.0,2,   403.2,2,    1.44,2,   -0.01,2,    0.00,2,    0.68,2,  -999.0,9,  -999.0,9,-999.000,9,-999.000,-999.0000,9, -999.00,9, -999.00,  2.4984,-999.0000,   0.020,2,  18.605,2,   1.658,2,    1.23,2,0.19,2,97500.00,2,41,465
32L919920715,25,8,8,2,19920726,80.4540,-13.3520,315,    18.0,  1.2700, 32.1900,2,-999.0000,9,   406.9,2,   426.3,2,    2.16,2,   -0.01,2,    0.01,2,    0.69,2,  -999.0,9,  -999.0,9,-999.000,9,-999.000,-999.0000,9, -999.00,9, -999.00,  1.2693,-999.0000,   0.039,2,  72.099,2,   0.100,2,    3.17,2,0.70,2,129000.00,2,41,464
32L919920715,25,8,7,2,19920726,80.4540,-13.3520,315,    35.0, -1.3150, 32.3500,2,-999.0000,9,   376.2,2,   377.4,2,    6.99,2,    2.50,2,    0.01,2,    0.94,2,  -999.0,9,  -999.0,9,-999.000,9,-999.000,-999.0000,9, -999.00,9, -999.00, -1.3157,-999.0000,   0.029,2,-999.000,9,-999.000,9,    6.93,2,1.08,2, -999.00,9,41,463
32L919920715,25,8,6,2,19920726,80.4540,-13.3520,315,   121.0, -1.4420, 33.3150,2, 33.3210,2,   333.4,2,   334.3,2,    9.67,2,    8.70,2,    0.01,2,    0.93,2,  -999.0,9,  -999.0,9,-999.000,9,-999.000,-999.0000,9, -999.00,9, -999.00, -1.4446,-999.0000,   0.049,2,-999.000,9,-999.000,9,    0.03,2,0.03,2, -999.00,9,41,462
32L919920715,25,8,5,2,19920726,80.4540,-13.3520,315,   301.0,  0.4360, 34.7410,2,-999.0000,9,   288.5,2,   284.8,2,    9.33,2,   13.94,2,    0.01,2,    0.95,2,  -999.0,9,  -999.0,9,-999.000,9,-999.000,-999.0000,9, -999.00,9, -999.00,  0.4234,-999.0000,   0.107,2,-999.000,9,-999.000,9, -999.00,9,-999.00,9, -999.00,9,41,461
32L919920715,25,9,4,2,19920726,80.4540,-13.3520,315,     2.0,  2.5750, 31.8690,2,-999.0000,9,   401.7,2,   400.8,2,    1.26,2,    0.01,2,   -0.01,2,    0.79,2,  2001.2,3,  2192.6,2,-999.000,9,-999.000,-999.0000,9, -999.00,9, -999.00,  2.5749,31.7760,   0.107,2,  21.806,2,   2.053,2,    2.20,2,0.09,2,116000.00,2,42,484
32L919920715,25,9,3,2,19920726,80.4540,-13.3520,315,     3.0,  2.4860, 31.8720,2,-999.0000,9,   409.8,2,   410.1,2,    1.19,2,    0.02,2,   -0.02,2,    0.79,2,  -999.0,9,  -999.0,9,-999.000,9,-999.000,-999.0000,9, -999.00,9, -999.00,  2.4858,-999.0000,   0.098,2,  27.675,2,   2.116,2,    2.61,2,0.20,2,134000.00,2,42,483
32L919920715,25,9,2,2,19920726,80.4540,-13.3520,315,     5.0,  2.9640, 31.8090,2,-999.0000,9,   394.5,2,   388.9,2,    1.45,2,    0.23,2,   -0.02,2,    0.78,2,  -999.0,9,  -999.0,9,-999.000,9,-999.000,-999.0000,9, -999.00,9, -999.00,  2.9637,-999.0000,   0.098,2,  21.143,2,   1.894,2,    1.76,2,0.18,2,108000.00,2,42,482
32L919920715,25,9,1,2,19920726,80.4540,-13.3520,315,     7.0,  2.9970, 31.8090,2,-999.0000,9,   391.8,2,   389.2,2,    1.47,2,    0.20,2,   -0.02,2,    0.78,2,  -999.0,9,  -999.0,9,-999.000,9,-999.000,-999.0000,9, -999.00,9, -999.00,  2.9966,-999.0000,   0.117,2,  17.859,2,   1.899,2,    1.64,2,0.23,2,94100.00,2,42,481
32L919920715,25,9,12,2,19920726,80.4540,-13.3520,315,     9.0,  3.0110, 31.8010,2,-999.0000,9,   401.9,2,   389.0,2,    1.44,2,    0.20,2,   -0.02,2,    0.77,2,  2001.5,3,  2190.0,2,-999.000,9,-999.000,-999.0000,9, -999.00,9, -999.00,  3.0105,31.7350,   0.117,2,  23.620,2,   2.026,2,    1.50,2,0.28,2,97100.00,2,42,480
32L919920715,25,9,11,2,19920726,80.4540,-13.3520,315,    11.0,  3.0150, 31.8050,2,-999.0000,9,   398.6,2,   392.1,2,    1.41,2,    0.20,2,   -0.02,2,    0.76,2,  -999.0,9,  -999.0,9,-999.000,9,-999.000,-999.0000,9, -999.00,9, -999.00,  3.0144,-999.0000,   0.117,2,  22.481,2,   1.961,2,    1.53,2,0.28,2,126000.00,2,42,479
32L919920715,25,9,10,2,19920726,80.4540,-13.3520,315,    17.0,  0.0560, 32.2960,2,-999.0000,9,   434.7,2,   440.0,2,    2.70,2,    0.24,2,   -0.02,2,    0.81,2,  -999.0,9,  -999.0,9,-999.000,9,-999.000,-999.0000,9, -999.00,9, -999.00,  0.0555,-999.0000,   0.107,2,  31.340,2,   3.022,2,    4.34,2,0.56,2,161000.00,2,42,478
32L919920715,25,9,8,2,19920726,80.4540,-13.3520,315,    25.0, -1.0870, 32.3220,2,-999.0000,9,   396.8,2,   385.9,2,    5.91,2,    1.52,2,   -0.01,2,    1.01,2,  2089.2,2,  2223.9,2,-999.000,9,-999.000,-999.0000,9, -999.00,9, -999.00, -1.0875,32.2380,   0.117,2,-999.000,9,-999.000,9, -999.00,9,-999.00,9,71400.00,2,42,476
32L919920715,25,9,9,2,19920726,80.4540,-13.3520,315,    25.0, -1.0670, 32.3190,2,-999.0000,9,   404.4,2,   385.4,2,    5.80,2,    1.30,2,   -0.01,2,    1.00,2,  -999.0,9,  -999.0,9,-999.000,9,-999.000,-999.0000,9, -999.00,9, -999.00, -1.0675,-999.0000,   0.117,2,  20.943,2,   4.073,2,    8.22,2,1.02,2, -999.00,9,42,477
32L919920715,25,9,7,2,19920726,80.4540,-13.3520,315,   148.0, -0.9110, 33.9160,2,-999.0000,9,   314.0,2,   310.7,2,    8.88,2,   10.96,2,   -0.02,2,    1.00,2,  2135.9,2,  2258.4,2,-999.000,9,-999.000,-999.0000,9, -999.00,9, -999.00, -0.9150,33.8200,   0.137,2,-999.000,9,-999.000,9,    0.07,2,0.06,2, -999.00,9,42,475
32L919920715,25,9,6,2,19920726,80.4540,-13.3520,315,   194.0,  0.1340, 34.5310,2,-999.0000,9,   294.9,2,   289.2,2,    8.89,2,   13.35,2,   -0.01,2,    1.02,2,  2142.4,2,  2271.3,2,-999.000,9,-999.000,-999.0000,9, -999.00,9, -999.00,  0.1267,34.4530,   0.137,2,-999.000,9,-999.000,9,    0.06,2,0.07,2, -999.00,9,42,474
32L919920715,25,9,5,2,19920726,80.4540,-13.3520,315,   305.0,  0.4410, 34.7400,2,-999.0000,9,   291.4,2,   283.3,2,    9.52,2,   13.77,2,   -0.01,2,    1.05,2,  2149.8,2,  2280.5,2,-999.000,9,-999.000,-999.0000,9, -999.00,9, -999.00,  0.4282,34.6330,   0.137,2,-999.000,9,-999.000,9, -999.00,9,-999.00,9, -999.00,9,42,473
32L919920715,25,10,5,2,19920726,80.4540,-13.3520,315,   101.0, -1.5830, 32.8110,2,-999.0000,9,   347.3,2,  -999.0,9, -999.00,9, -999.00,9, -999.00,9, -999.00,9,  -999.0,9,  -999.0,9,-999.000,9,-999.000,-999.0000,9, -999.00,9, -999.00, -1.5849,-999.0000,-999.000,9,-999.000,9,-999.000,9, -999.00,9,-999.00,9, -999.00,9,43,497
32L919920715,25,10,4,2,19920726,80.4540,-13.3520,315,   148.0, -0.9390, 33.9340,2,-999.0000,9,   311.0,2,  -999.0,9, -999.00,9, -999.00,9, -999.00,9, -999.00,9,  -999.0,9,  -999.0,9,-999.000,9,-999.000,-999.0000,9, -999.00,9, -999.00, -0.9430,-999.0000,-999.000,9,-999.000,9,-999.000,9, -999.00,9,-999.00,9, -999.00,9,43,496
32L919920715,25,10,3,2,19920726,80.4540,-13.3520,315,   196.0,  0.0890, 34.5180,2,-999.0000,9,   294.2,2,  -999.0,9, -999.00,9, -999.00,9, -999.00,9, -999.00,9,  -999.0,9,  -999.0,9,-999.000,9,-999.000,-999.0000,9, -999.00,9, -999.00,  0.0817,-999.0000,-999.000,9,-999.000,9,-999.000,9, -999.00,9,-999.00,9, -999.00,9,43,495
32L919920715,25,10,2,2,19920726,80.4540,-13.3520,315,   215.0,  0.3290, 34.6230,2,-999.0000,9,   293.1,2,  -999.0,9, -999.00,9, -999.00,9, -999.00,9, -999.00,9,  -999.0,9,  -999.0,9,-999.000,9,-999.000,-999.0000,9, -999.00,9, -999.00,  0.3204,-999.0000,-999.000,9,-999.000,9,-999.000,9, -999.00,9,-999.00,9, -999.00,9,43,494
32L919920715,25,10,1,2,19920726,80.4540,-13.3520,315,   224.0,  0.3700, 34.6410,2,-999.0000,9,   292.2,2,  -999.0,9, -999.00,9, -999.00,9, -999.00,9, -999.00,9,  -999.0,9,  -999.0,9,-999.000,9,-999.000,-999.0000,9, -999.00,9, -999.00,  0.3610,-999.0000,-999.000,9,-999.000,9,-999.000,9, -999.00,9,-999.00,9, -999.00,9,43,493
32L919920715,25,10,12,2,19920726,80.4540,-13.3520,315,   234.0,  0.4240, 34.6610,2,-999.0000,9,   292.0,2,  -999.0,9, -999.00,9, -999.00,9, -999.00,9, -999.00,9,  -999.0,9,  -999.0,9,-999.000,9,-999.000,-999.0000,9, -999.00,9, -999.00,  0.4144,-999.0000,-999.000,9,-999.000,9,-999.000,9, -999.00,9,-999.00,9, -999.00,9,43,492
32L919920715,25,10,11,2,19920726,80.4540,-13.3520,315,   244.0,  0.4720, 34.6810,2,-999.0000,9,   290.9,2,  -999.0,9, -999.00,9, -999.00,9, -999.00,9, -999.00,9,  -999.0,9,  -999.0,9,-999.000,9,-999.000,-999.0000,9, -999.00,9, -999.00,  0.4619,-999.0000,-999.000,9,-999.000,9,-999.000,9, -999.00,9,-999.00,9, -999.00,9,43,491
32L919920715,25,10,10,2,19920726,80.4540,-13.3520,315,   254.0,  0.5140, 34.7040,2,-999.0000,9,   290.8,2,  -999.0,9, -999.00,9, -999.00,9, -999.00,9, -999.00,9,  -999.0,9,  -999.0,9,-999.000,9,-999.000,-999.0000,9, -999.00,9, -999.00,  0.5034,-999.0000,-999.000,9,-999.000,9,-999.000,9, -999.00,9,-999.00,9, -999.00,9,43,490
32L919920715,25,10,9,2,19920726,80.4540,-13.3520,315,   264.0,  0.5480, 34.7220,2,-999.0000,9,   287.7,2,  -999.0,9, -999.00,9, -999.00,9, -999.00,9, -999.00,9,  -999.0,9,  -999.0,9,-999.000,9,-999.000,-999.0000,9, -999.00,9, -999.00,  0.5368,-999.0000,-999.000,9,-999.000,9,-999.000,9, -999.00,9,-999.00,9, -999.00,9,43,489
32L919920715,25,10,8,2,19920726,80.4540,-13.3520,315,   275.0,  0.5510, 34.7300,2,-999.0000,9,   285.8,2,  -999.0,9, -999.00,9, -999.00,9, -999.00,9, -999.00,9,  -999.0,9,  -999.0,9,-999.000,9,-999.000,-999.0000,9, -999.00,9, -999.00,  0.5393,-999.0000,-999.000,9,-999.000,9,-999.000,9, -999.00,9,-999.00,9, -999.00,9,43,488
32L919920715,25,10,7,2,19920726,80.4540,-13.3520,315,   288.0,  0.5500, 34.7310,2,-999.0000,9,   285.7,2,  -999.0,9, -999.00,9, -999.00,9, -999.00,9, -999.00,9,  -999.0,9,  -999.0,9,-999.000,9,-999.000,-999.0000,9, -999.00,9, -999.00,  0.5377,-999.0000,-999.000,9,-999.000,9,-999.000,9, -999.00,9,-999.00,9, -999.00,9,43,487
32L919920715,25,10,6,2,19920726,80.4540,-13.3520,315,   292.0,  0.5510, 34.7350,2,-999.0000,9,   289.2,2,  -999.0,9, -999.00,9, -999.00,9, -999.00,9, -999.00,9,  -999.0,9,  -999.0,9,-999.000,9,-999.000,-999.0000,9, -999.00,9, -999.00,  0.5386,-999.0000,-999.000,9,-999.000,9,-999.000,9, -999.00,9,-999.00,9, -999.00,9,43,486