BOTTLE,20220816CCHSIOAMB
EXPOCODE,STNNBR,CASTNO,BTLNBR,BTLNBR_FLAG_W,DATE,LATITUDE,LONGITUDE,DEPTH,CTDPRS,CTDTMP,CTDSAL,CTDSAL_FLAG_W,SALNTY,SALNTY_FLAG_W,CTDOXY,CTDOXY_FLAG_W,OXYGEN,OXYGEN_FLAG_W,SILCAT,SILCAT_FLAG_W,NITRAT,NITRAT_FLAG_W,NITRIT,NITRIT_FLAG_W,PHSPHT,PHSPHT_FLAG_W,TCARBN,TCARBN_FLAG_W,ALKALI,ALKALI_FLAG_W,TRITUM,TRITUM_FLAG_W,TRITER,HELIUM,HELIUM_FLAG_W,DELHE3,DELHE3_FLAG_W,DELHER,THETA,SOMSAL,AMMONI,AMMONI_FLAG_W,POC,POC_FLAG_W,PON,PON_FLAG_W,CHLORA,CHLORA_FLAG_W,PHAEO,PHAEO_FLAG_W,BACT,BACT_FLAG_W,STNNBR_U,BNLID
,,,,,,,,METERS,DBAR,ITS-90,PSS-78,,PSS-78,,UMOL/KG,,UMOL/KG,,UMOL/KG,,UMOL/KG,,UMOL/KG,,UMOL/KG,,UMOL/KG,,UMOL/KG,,TU,,TU,NMOL/KG,,PERCNT,,PERCNT,DEG C,PSS-78,UMOL/KG,,UG/KG,,UG/KG,,UG/KG,,UG/L,,E8/L,,,
32L919920715,11,1,9,2,19920724,80.3700,-14.0880,323,     2.0,  1.5410, 32.3210,2,-999.0000,9,   368.0,2,   367.5,2,   10.29,2,    2.89,2,    0.03,2,    0.84,2,  -999.0,9,  -999.0,9,-999.000,9,-999.000,-999.0000,9, -999.00,9, -999.00,  1.5409,-999.0000,   0.078,2,   8.953,2,   1.332,2,    1.06,2,0.14,2,28800.00,2,20,237
32L919920715,11,1,8,2,19920724,80.3700,-14.0880,323,     4.0,  1.3450, 32.3210,2,-999.0000,9,   368.3,2,   367.5,2,   10.42,2,    3.08,2,    0.03,2,    0.85,2,  -999.0,9,  -999.0,9,-999.000,9,-999.000,-999.0000,9, -999.00,9, -999.00,  1.3448,-999.0000,   0.068,2,   7.978,2,   1.251,2,    0.88,2,0.18,2, -999.00,9,20,236
32L919920715,11,1,7,2,19920724,80.3700,-14.0880,323,     7.0,  1.4200, 32.3280,2,-999.0000,9,   378.2,2,   368.0,2,   10.59,2,    3.36,2,    0.02,2,    0.89,2,  -999.0,9,  -999.0,9,-999.000,9,-999.000,-999.0000,9, -999.00,9, -999.00,  1.4197,-999.0000,   0.039,2,   7.170,2,   1.034,2,    0.63,2,0.18,2,24700.00,2,20,235
32L919920715,11,1,6,2,19920724,80.3700,-14.0880,323,    14.0,  0.1870, 32.3240,2,-999.0000,9,   371.0,2,   366.9,2,   10.76,2,    3.82,2,    0.02,2,    0.92,2,  -999.0,9,  -999.0,9,-999.000,9,-999.000,-999.0000,9, -999.00,9, -999.00,  0.1865,-999.0000,   0.039,2,   4.465,2,   0.568,2,    0.45,2,0.15,2,21100.00,2,20,234
32L919920715,11,1,5,2,19920724,80.3700,-14.0880,323,    21.0, -0.9300, 32.3310,2,-999.0000,9,   375.9,2,   370.5,2,   10.28,2,    3.53,2,    0.02,2,    0.92,2,  -999.0,9,  -999.0,9,-999.000,9,-999.000,-999.0000,9, -999.00,9, -999.00, -0.9305,-999.0000,   0.088,2,   5.334,2,   0.694,2,    0.88,2,0.25,2,29000.00,2,20,233
32L919920715,11,1,4,2,19920724,80.3700,-14.0880,323,    33.0, -1.5980, 32.3570,2,-999.0000,9,   366.0,2,   367.7,2,   10.63,2,    4.18,2,    0.02,2,    0.92,2,  -999.0,9,  -999.0,9,-999.000,9,-999.000,-999.0000,9, -999.00,9, -999.00, -1.5986,-999.0000,   0.068,2,   3.597,2,   0.149,2,    0.15,2,0.09,2,18400.00,2,20,232
32L919920715,11,1,3,2,19920724,80.3700,-14.0880,323,    48.0, -1.7070, 32.3690,2,-999.0000,9,   360.4,2,   365.2,2,   10.90,2,    4.43,2,    0.01,2,    0.95,2,  -999.0,9,  -999.0,9,-999.000,9,-999.000,-999.0000,9, -999.00,9, -999.00, -1.7078,-999.0000,   0.049,2,   2.415,2,   0.100,2,    0.05,2,0.04,2,19800.00,2,20,231
32L919920715,11,1,2,2,19920724,80.3700,-14.0880,323,    80.0, -1.7060, 32.4740,2,-999.0000,9,   352.9,2,   358.0,2,   11.86,2,    5.36,2,    0.01,2,    0.97,2,  -999.0,9,  -999.0,9,-999.000,9,-999.000,-999.0000,9, -999.00,9, -999.00, -1.7074,-999.0000,   0.088,2,   3.320,2,   0.092,2,    0.01,2,0.01,2,18200.00,2,20,230
32L919920715,11,1,1,2,19920724,80.3700,-14.0880,323,   140.0, -1.1650, 33.7580,2,-999.0000,9,   319.1,2,   315.4,2,   11.42,2,   10.48,2,    0.01,2,    0.83,2,  -999.0,9,  -999.0,9,-999.000,9,-999.000,-999.0000,9, -999.00,9, -999.00, -1.1685,-999.0000,   0.049,2,   3.509,2,   0.089,2,    0.07,2,0.04,2, -999.00,9,20,229
32L919920715,11,1,12,2,19920724,80.3700,-14.0880,323,   199.0,  0.1160, 34.5260,2,-999.0000,9,   288.9,2,   289.0,2,   11.48,2,   13.32,2,    0.02,2,    0.87,2,  -999.0,9,  -999.0,9,-999.000,9,-999.000,-999.0000,9, -999.00,9, -999.00,  0.1085,-999.0000,   0.029,2,   2.137,2,   0.115,2,    0.04,2,0.06,2, -999.00,9,20,228
32L919920715,11,1,11,2,19920724,80.3700,-14.0880,323,   251.0,  0.4540, 34.7020,2, 34.7150,2,   282.0,2,   284.5,2,   11.76,2,   13.69,2,    0.02,2,    0.87,2,  -999.0,9,  -999.0,9,-999.000,9,-999.000,-999.0000,9, -999.00,9, -999.00,  0.4436,-999.0000,   0.029,2,-999.000,9,-999.000,9, -999.00,9,-999.00,9, -999.00,9,20,227
32L919920715,11,1,10,2,19920724,80.3700,-14.0880,323,   313.0,  0.4150, 34.7560,2,-999.0000,9,   283.6,2,   289.5,2,   12.11,2,   13.69,2,    0.02,2,    0.88,2,  -999.0,9,  -999.0,9,-999.000,9,-999.000,-999.0000,9, -999.00,9, -999.00,  0.4019,-999.0000,   0.000,2,-999.000,9,-999.000,9, -999.00,9,-999.00,9, -999.00,9,20,226
32L919920715,12,1,9,2,19920724,80.3060,-13.7970,294,     2.0,  1.3500, 32.2640,2,-999.0000,9,   385.0,2,   371.9,2,    9.53,2,    2.82,2,    0.00,2,    0.94,2,  -999.0,9,  -999.0,9,-999.000,9,-999.000,-999.0000,9, -999.00,9, -999.00,  1.3499,-999.0000,   0.068,2,-999.000,9,-999.000,9,    0.90,2,0.10,2, -999.00,9,21,249
32L919920715,12,1,8,2,19920724,80.3060,-13.7970,294,    10.0,  0.9290, 32.2920,2, 32.2900,2,   366.8,2,   369.3,2,   10.75,2,    3.77,2,    0.00,2,    1.03,2,  -999.0,9,  -999.0,9,-999.000,9,-999.000,-999.0000,9, -999.00,9, -999.00,  0.9286,-999.0000,   0.059,2,-999.000,9,-999.000,9,    0.59,2,0.01,2, -999.00,9,21,248
32L919920715,12,1,7,2,19920724,80.3060,-13.7970,294,    20.0, -0.6070, 32.3200,2,-999.0000,9,   371.6,2,   368.1,2, -999.00,9, -999.00,9, -999.00,9, -999.00,9,  -999.0,9,  -999.0,9,-999.000,9,-999.000,-999.0000,9, -999.00,9, -999.00, -0.6075,-999.0000,-999.000,9,-999.000,9,-999.000,9,    0.43,2,0.05,2, -999.00,9,21,247
32L919920715,12,1,6,2,19920724,80.3060,-13.7970,294,    36.0, -1.5760, 32.3330,2, 32.3090,2,   367.9,2,   367.4,2,   10.97,2,    3.97,2,    0.00,2,    1.03,2,  -999.0,9,  -999.0,9,-999.000,9,-999.000,-999.0000,9, -999.00,9, -999.00, -1.5766,-999.0000,   0.137,2,-999.000,9,-999.000,9,    0.41,2,0.05,2, -999.00,9,21,246
32L919920715,12,1,5,2,19920724,80.3060,-13.7970,294,    51.0, -1.7350, 32.3630,2,-999.0000,9,   374.1,2,   368.0,2,   10.17,2,    4.00,2,    0.00,2,    1.04,2,  -999.0,9,  -999.0,9,-999.000,9,-999.000,-999.0000,9, -999.00,9, -999.00, -1.7358,-999.0000,   0.127,2,-999.000,9,-999.000,9,    2.85,2,0.35,2, -999.00,9,21,245
32L919920715,12,1,4,2,19920724,80.3060,-13.7970,294,    81.0, -1.7280, 32.4170,2, 32.4520,2,   362.5,2,   363.2,2,   11.27,2,    4.91,2,    0.00,2,    1.04,2,  -999.0,9,  -999.0,9,   7.830,2,   0.117,  1.8650,2,    2.50,2,    0.20, -1.7293,-999.0000,   0.107,2,-999.000,9,-999.000,9,    0.15,2,0.03,2, -999.00,9,21,244
32L919920715,12,1,3,2,19920724,80.3060,-13.7970,294,   120.0, -1.4880, 33.1510,2,-999.0000,9,   335.4,2,   335.5,2,   12.29,2,    8.07,2,    0.00,2,    0.99,2,  -999.0,9,  -999.0,9,-999.000,9,-999.000,-999.0000,9, -999.00,9, -999.00, -1.4905,-999.0000,   0.088,2,-999.000,9,-999.000,9,    0.07,2,0.03,2, -999.00,9,21,243
32L919920715,12,1,2,2,19920724,80.3060,-13.7970,294,   160.0, -0.7820, 34.0190,2, 34.0470,2,   305.1,2,   307.0,2,   11.18,2,   11.52,2,    0.00,2,    0.92,2,  -999.0,9,  -999.0,9,-999.000,9,-999.000,-999.0000,9, -999.00,9, -999.00, -0.7866,-999.0000,   0.068,2,-999.000,9,-999.000,9,    0.04,2,0.04,2, -999.00,9,21,242
32L919920715,12,1,1,2,19920724,80.3060,-13.7970,294,   200.0,  0.1050, 34.5120,2,-999.0000,9,   291.6,2,   288.6,2,   11.41,2,   13.25,2,    0.00,2,    0.97,2,  -999.0,9,  -999.0,9,-999.000,9,-999.000,-999.0000,9, -999.00,9, -999.00,  0.0975,-999.0000,   0.010,2,-999.000,9,-999.000,9,    0.05,2,0.06,2, -999.00,9,21,241
32L919920715,12,1,12,2,19920724,80.3060,-13.7970,294,   249.0,  0.4860, 34.6910,2, 34.7050,2,   284.3,2,   285.9,2,   11.39,2,   13.66,2,    0.01,2,    0.98,2,  -999.0,9,  -999.0,9,-999.000,9,-999.000,-999.0000,9, -999.00,9, -999.00,  0.4756,-999.0000,   0.020,2,-999.000,9,-999.000,9, -999.00,9,-999.00,9, -999.00,9,21,240
32L919920715,12,1,11,2,19920724,80.3060,-13.7970,294,   281.0,  0.5550, 34.7270,2, 34.7140,2,   283.7,2,   285.2,2,   11.61,2,   13.72,2,    0.01,2,    0.98,2,  -999.0,9,  -999.0,9,   1.870,2,   0.028,  1.8840,2,   10.30,2,    0.20,  0.5431,-999.0000,   0.049,2,-999.000,9,-999.000,9, -999.00,9,-999.00,9, -999.00,9,21,239
32L919920715,12,1,10,2,19920724,80.3060,-13.7970,294,   284.0,  0.5570, 34.7330,2, 34.7270,2,   291.5,2,   293.1,2,   11.63,2,   13.72,2,    0.01,2,    0.98,2,  -999.0,9,  -999.0,9,-999.000,9,-999.000,-999.0000,9, -999.00,9, -999.00,  0.5449,-999.0000,   0.078,2,-999.000,9,-999.000,9, -999.00,9,-999.00,9, -999.00,9,21,238
32L919920715,13,1,7,2,19920724,80.2380,-13.6170,184,     2.0,  2.0280, 32.3260,2,-999.0000,9,   415.9,2,   409.8,2,    5.12,2,    0.05,2,    0.00,2,    0.63,2,  -999.0,9,  -999.0,9,-999.000,9,-999.000,-999.0000,9, -999.00,9, -999.00,  2.0279,-999.0000,   0.078,2,-999.000,9,-999.000,9,    3.11,2,0.63,2, -999.00,9,22,259
32L919920715,13,1,6,2,19920724,80.2380,-13.6170,184,    11.0,  1.3460, 32.3400,2,-999.0000,9,   404.6,2,   418.7,2,    5.37,2,    0.03,2,    0.00,2,    0.66,2,  -999.0,9,  -999.0,9,-999.000,9,-999.000,-999.0000,9, -999.00,9, -999.00,  1.3455,-999.0000,   0.078,2,-999.000,9,-999.000,9,    4.58,2,0.78,2, -999.00,9,22,258
32L919920715,13,1,5,2,19920724,80.2380,-13.6170,184,    21.0, -1.2420, 32.3000,2,-999.0000,9,   394.1,2,   416.5,2,    2.86,2,    0.08,2,    0.00,2,    0.69,2,  -999.0,9,  -999.0,9,-999.000,9,-999.000,-999.0000,9, -999.00,9, -999.00, -1.2424,-999.0000,   0.068,2,-999.000,9,-999.000,9,    3.99,2,0.59,2, -999.00,9,22,257
32L919920715,13,1,4,2,19920724,80.2380,-13.6170,184,    31.0, -1.5920, 32.3540,2,-999.0000,9,   366.6,2,  -999.0,9,    8.34,2,    3.03,2,    0.02,2,    0.95,2,  -999.0,9,  -999.0,9,-999.000,9,-999.000,-999.0000,9, -999.00,9, -999.00, -1.5925,-999.0000,   0.039,2,-999.000,9,-999.000,9,    3.17,2,0.45,2, -999.00,9,22,256
32L919920715,13,1,3,2,19920724,80.2380,-13.6170,184,    40.0, -1.6620, 32.3620,2,-999.0000,9,   362.1,2,   367.0,2,   10.60,2,    4.22,2,    0.01,2,    1.00,2,  -999.0,9,  -999.0,9,-999.000,9,-999.000,-999.0000,9, -999.00,9, -999.00, -1.6627,-999.0000,   0.020,2,-999.000,9,-999.000,9,    0.16,2,0.11,2, -999.00,9,22,255
32L919920715,13,1,2,2,19920724,80.2380,-13.6170,184,    59.0, -1.7440, 32.3860,2,-999.0000,9,   364.0,2,   364.3,2,   10.80,2,    4.50,2,    0.01,2,    1.01,2,  -999.0,9,  -999.0,9,-999.000,9,-999.000,-999.0000,9, -999.00,9, -999.00, -1.7450,-999.0000,   0.039,2,-999.000,9,-999.000,9,    0.14,2,0.05,2, -999.00,9,22,254
32L919920715,13,1,1,2,19920724,80.2380,-13.6170,184,    80.0, -1.7160, 32.4710,2,-999.0000,9,   358.6,2,   361.8,2,   11.92,2,    5.33,2,    0.02,2,    1.11,2,  -999.0,9,  -999.0,9,-999.000,9,-999.000,-999.0000,9, -999.00,9, -999.00, -1.7173,-999.0000,   0.078,2,-999.000,9,-999.000,9,    0.03,2,1.15,2, -999.00,9,22,253
32L919920715,13,1,12,2,19920724,80.2380,-13.6170,184,   100.0, -1.6250, 32.6810,2,-999.0000,9,   350.8,2,   354.3,2,   11.75,2,    6.07,2,    0.01,2,    1.02,2,  -999.0,9,  -999.0,9,-999.000,9,-999.000,-999.0000,9, -999.00,9, -999.00, -1.6268,-999.0000,   0.000,2,-999.000,9,-999.000,9,    0.11,2,0.03,2, -999.00,9,22,252
32L919920715,13,1,11,2,19920724,80.2380,-13.6170,184,   120.0, -1.5560, 32.9010,2, 32.9690,2,   350.6,2,   341.8,2,   12.44,2,    7.20,2,    0.01,2,    1.02,2,  -999.0,9,  -999.0,9,-999.000,9,-999.000,-999.0000,9, -999.00,9, -999.00, -1.5583,-999.0000,   0.039,2,-999.000,9,-999.000,9,    0.05,2,0.03,2, -999.00,9,22,251
32L919920715,13,1,10,2,19920724,80.2380,-13.6170,184,   174.0, -0.5610, 34.1780,2,-999.0000,9,   306.8,2,   306.3,2,   11.40,2,   11.59,2,    0.00,2,    0.94,2,  -999.0,9,  -999.0,9,-999.000,9,-999.000,-999.0000,9, -999.00,9, -999.00, -0.5664,-999.0000,   0.049,2,-999.000,9,-999.000,9,    0.08,2,0.05,2, -999.00,9,22,250
32L919920715,14,1,7,2,19920724,80.1880,-13.4540,194,     2.0,  1.4910, 32.3290,2,-999.0000,9,   388.9,2,   388.2,2,    7.20,2,    0.54,2,    0.03,2,    0.86,2,  -999.0,9,  -999.0,9,-999.000,9,-999.000,-999.0000,9, -999.00,9, -999.00,  1.4909,-999.0000,   0.059,2,  20.217,2,   3.277,2,    2.38,2,0.37,2,39100.00,2,23,271
32L919920715,14,1,6,2,19920724,80.1880,-13.4540,194,     3.0,  1.5020, 32.3230,2,-999.0000,9,   399.0,2,   391.3,2,    7.15,2,    0.53,2,    0.03,2,    0.85,2,  -999.0,9,  -999.0,9,-999.000,9,-999.000,-999.0000,9, -999.00,9, -999.00,  1.5019,-999.0000,   0.020,2,  19.928,2,   3.238,2,    2.35,2,0.36,2, -999.00,9,23,270
32L919920715,14,1,5,2,19920724,80.1880,-13.4540,194,     7.0,  1.6280, 32.3230,2,-999.0000,9,   405.7,2,   382.9,2,    8.15,2,    1.36,2,    0.04,2,    0.92,2,  -999.0,9,  -999.0,9,-999.000,9,-999.000,-999.0000,9, -999.00,9, -999.00,  1.6277,-999.0000,   0.049,2,  15.225,2,   2.541,2,    1.97,2,0.36,2,42200.00,2,23,269
32L919920715,14,1,4,2,19920724,80.1880,-13.4540,194,    14.0,  0.9350, 32.3300,2,-999.0000,9,   360.4,2,   371.2,2,    9.71,2,    2.95,2,    0.04,2,    1.05,2,  -999.0,9,  -999.0,9,-999.000,9,-999.000,-999.0000,9, -999.00,9, -999.00,  0.9345,-999.0000,   0.059,2,   6.529,2,   1.182,2,    0.84,2,0.28,2,32400.00,2,23,268
32L919920715,14,1,3,2,19920724,80.1880,-13.4540,194,    27.0, -1.5160, 32.3490,2,-999.0000,9,   371.3,2,   372.8,2,    9.78,2,    3.18,2,    0.03,2,    1.08,2,  -999.0,9,  -999.0,9,-999.000,9,-999.000,-999.0000,9, -999.00,9, -999.00, -1.5165,-999.0000,   0.068,2,   8.710,2,   1.560,2,    2.35,2,0.27,2,32300.00,2,23,267
32L919920715,14,1,2,2,19920724,80.1880,-13.4540,194,    42.0, -1.6900, 32.3630,2,-999.0000,9,   361.4,2,   366.5,2,   10.13,2,    4.20,2,    0.02,2,    1.11,2,  -999.0,9,  -999.0,9,-999.000,9,-999.000,-999.0000,9, -999.00,9, -999.00, -1.6907,-999.0000,   0.039,2,   2.105,2,   0.200,2,    0.32,2,0.07,2,50100.00,2,23,266
32L919920715,14,1,1,2,19920724,80.1880,-13.4540,194,    65.0, -1.7340, 32.3770,2,-999.0000,9,   360.7,2,   364.9,2,   10.25,2,    4.37,2,    0.02,2,    1.13,2,  -999.0,9,  -999.0,9,-999.000,9,-999.000,-999.0000,9, -999.00,9, -999.00, -1.7351,-999.0000,   0.000,2,   1.301,2,   0.078,2,    0.11,2,0.05,2,26300.00,2,23,265
32L919920715,14,1,12,2,19920724,80.1880,-13.4540,194,    80.0, -1.7360, 32.4250,2,-999.0000,9,   362.5,2,   361.2,2,   10.82,2,    4.74,2,    0.02,2,    1.15,2,  -999.0,9,  -999.0,9,-999.000,9,-999.000,-999.0000,9, -999.00,9, -999.00, -1.7373,-999.0000,   0.010,2,   1.152,2,   0.117,2,    0.07,2,0.02,2,22000.00,2,23,264
32L919920715,14,1,11,2,19920724,80.1880,-13.4540,194,   100.0, -1.6600, 32.5990,2,-999.0000,9,   356.1,2,   355.2,2,   11.23,2,    5.58,2,    0.02,2,    1.15,2,  -999.0,9,  -999.0,9,-999.000,9,-999.000,-999.0000,9, -999.00,9, -999.00, -1.6618,-999.0000,   0.049,2,   1.266,2,   0.077,2,    0.05,2,0.02,2, -999.00,9,23,263
32L919920715,14,1,10,2,19920724,80.1880,-13.4540,194,   120.0, -1.5700, 32.9170,2,-999.0000,9,   350.9,2,   344.0,2,   12.53,2,    7.08,2,    0.02,2,    1.14,2,  -999.0,9,  -999.0,9,-999.000,9,-999.000,-999.0000,9, -999.00,9, -999.00, -1.5723,-999.0000,   0.059,2,   3.244,2,   0.586,2,    0.08,2,0.04,2, -999.00,9,23,262
32L919920715,14,1,9,2,19920724,80.1880,-13.4540,194,   151.0, -1.2090, 33.5640,2, 33.5760,2,   328.6,2,   322.6,2,   12.12,2,    9.53,2,    0.04,2,    1.08,2,  -999.0,9,  -999.0,9,-999.000,9,-999.000,-999.0000,9, -999.00,9, -999.00, -1.2126,-999.0000,   0.078,2,   2.600,2,   0.290,2,    0.07,2,0.08,2, -999.00,9,23,261
32L919920715,14,1,8,2,19920724,80.1880,-13.4540,194,   184.0, -1.1200, 33.6950,2,-999.0000,9,   324.0,3,   319.2,2,   11.97,2,    9.91,2,    0.03,2,    1.07,2,  -999.0,9,  -999.0,9,-999.000,9,-999.000,-999.0000,9, -999.00,9, -999.00, -1.1247,-999.0000,   0.098,2,   2.814,2,   0.225,2,    0.23,2,0.19,2, -999.00,9,23,260
32L919920715,15,1,5,2,19920724,80.1190,-13.1590,84,     2.0,  0.3830, 31.3380,2,-999.0000,9,   380.4,2,   402.8,2,    2.82,2,    0.00,2,    0.01,2,    0.74,2,  -999.0,9,  -999.0,9,-999.000,9,-999.000,-999.0000,9, -999.00,9, -999.00,  0.3829,-999.0000,   0.029,2,-999.000,9,-999.000,9,    0.55,2,0.09,2, -999.00,9,24,281
32L919920715,15,1,4,2,19920724,80.1190,-13.1590,84,     3.0,  0.3030, 31.5150,2,-999.0000,9,   359.1,3,   412.3,2,    2.71,2,    0.02,2,    0.01,2,    0.77,2,  -999.0,9,  -999.0,9,-999.000,9,-999.000,-999.0000,9, -999.00,9, -999.00,  0.3029,-999.0000,   0.039,2,-999.000,9,-999.000,9,    1.29,2,0.51,2, -999.00,9,24,280
32L919920715,15,1,3,2,19920724,80.1190,-13.1590,84,     7.0, -0.4260, 31.8970,2,-999.0000,9,   390.0,2,   414.4,2,    3.20,2,    0.11,2,    0.02,2,    0.80,2,  -999.0,9,  -999.0,9,-999.000,9,-999.000,-999.0000,9, -999.00,9, -999.00, -0.4262,-999.0000,   0.117,2,-999.000,9,-999.000,9,    2.00,2,0.23,2, -999.00,9,24,279
32L919920715,15,1,2,2,19920724,80.1190,-13.1590,84,    15.0, -1.6480, 32.2410,2,-999.0000,9,   389.2,2,   396.8,2,    5.80,2,    0.60,2,    0.04,2,    0.92,2,  -999.0,9,  -999.0,9,-999.000,9,-999.000,-999.0000,9, -999.00,9, -999.00, -1.6482,-999.0000,   0.156,2,-999.000,9,-999.000,9,    6.05,2,0.93,2, -999.00,9,24,278
32L919920715,15,1,1,2,19920724,80.1190,-13.1590,84,    22.0, -1.6450, 32.2560,2,-999.0000,9,   385.9,2,   379.3,2,    7.60,2,    2.24,2,    0.08,2,    1.02,2,  -999.0,9,  -999.0,9,-999.000,9,-999.000,-999.0000,9, -999.00,9, -999.00, -1.6454,-999.0000,   0.244,2,-999.000,9,-999.000,9,    4.11,2,0.73,2, -999.00,9,24,277
32L919920715,15,1,12,2,19920724,80.1190,-13.1590,84,    31.0, -1.6510, 32.2890,2,-999.0000,9,   377.0,2,   369.6,2,    9.16,2,    3.46,2,    0.10,2,    1.08,2,  -999.0,9,  -999.0,9,-999.000,9,-999.000,-999.0000,9, -999.00,9, -999.00, -1.6515,-999.0000,   0.234,2,-999.000,9,-999.000,9,    1.38,2,0.49,2, -999.00,9,24,276
32L919920715,15,1,11,2,19920724,80.1190,-13.1590,84,    40.0, -1.6680, 32.3230,2,-999.0000,9,   371.7,2,   366.8,2,    9.90,2,    3.94,2,    0.11,2,    1.11,2,  -999.0,9,  -999.0,9,-999.000,9,-999.000,-999.0000,9, -999.00,9, -999.00, -1.6687,-999.0000,   0.127,2,-999.000,9,-999.000,9,    0.82,2,0.33,2, -999.00,9,24,275
32L919920715,15,1,10,2,19920724,80.1190,-13.1590,84,    49.0, -1.6890, 32.3500,2,-999.0000,9,   377.1,2,   366.0,2,   10.22,2,    4.18,2,    0.09,2,    1.13,2,  -999.0,9,  -999.0,9,-999.000,9,-999.000,-999.0000,9, -999.00,9, -999.00, -1.6898,-999.0000,   0.068,2,-999.000,9,-999.000,9,    0.32,2,0.45,2, -999.00,9,24,274
32L919920715,15,1,9,2,19920724,80.1190,-13.1590,84,    64.0, -1.7000, 32.3970,2, 32.3800,2,   354.6,2,   362.3,2,   11.21,2,    4.73,2,    0.05,2,    1.18,2,  -999.0,9,  -999.0,9,-999.000,9,-999.000,-999.0000,9, -999.00,9, -999.00, -1.7011,-999.0000,   0.068,2,-999.000,9,-999.000,9,    0.26,2,0.25,2, -999.00,9,24,273
32L919920715,15,1,8,2,19920724,80.1190,-13.1590,84,    74.0, -1.7010, 32.4000,2,-999.0000,9,   351.9,2,   358.6,2,   11.26,2,    4.74,2,    0.04,2,    1.19,2,  -999.0,9,  -999.0,9,-999.000,9,-999.000,-999.0000,9, -999.00,9, -999.00, -1.7022,-999.0000,   0.068,2,-999.000,9,-999.000,9, -999.00,9,-999.00,9, -999.00,9,24,272