BOTTLE,20220816CCHSIOAMB
EXPOCODE,STNNBR,CASTNO,BTLNBR,BTLNBR_FLAG_W,DATE,LATITUDE,LONGITUDE,DEPTH,CTDPRS,CTDTMP,CTDSAL,CTDSAL_FLAG_W,SALNTY,SALNTY_FLAG_W,CTDOXY,CTDOXY_FLAG_W,OXYGEN,OXYGEN_FLAG_W,SILCAT,SILCAT_FLAG_W,NITRAT,NITRAT_FLAG_W,NITRIT,NITRIT_FLAG_W,PHSPHT,PHSPHT_FLAG_W,TCARBN,TCARBN_FLAG_W,ALKALI,ALKALI_FLAG_W,TRITUM,TRITUM_FLAG_W,TRITER,HELIUM,HELIUM_FLAG_W,DELHE3,DELHE3_FLAG_W,DELHER,THETA,SOMSAL,AMMONI,AMMONI_FLAG_W,POC,POC_FLAG_W,PON,PON_FLAG_W,CHLORA,CHLORA_FLAG_W,PHAEO,PHAEO_FLAG_W,BACT,BACT_FLAG_W,STNNBR_U,BNLID
,,,,,,,,METERS,DBAR,ITS-90,PSS-78,,PSS-78,,UMOL/KG,,UMOL/KG,,UMOL/KG,,UMOL/KG,,UMOL/KG,,UMOL/KG,,UMOL/KG,,UMOL/KG,,TU,,TU,NMOL/KG,,PERCNT,,PERCNT,DEG C,PSS-78,UMOL/KG,,UG/KG,,UG/KG,,UG/KG,,UG/L,,E8/L,,,
32L919920715,73,1,5,2,19920812,77.2820,-10.0510,359,     2.0, -0.5110, 30.1330,2, 30.1670,2,   371.1,2,   402.9,2,    3.50,2,    0.03,2,    0.04,2,    0.69,2,  -999.0,9,  -999.0,9,-999.000,9,-999.000,-999.0000,9, -999.00,9, -999.00, -0.5110,-999.0000,   0.117,2,-999.000,9,-999.000,9,    1.35,2,0.07,2, -999.00,9,118,1289
32L919920715,73,1,4,2,19920812,77.2820,-10.0510,359,    10.0, -0.3970, 30.6000,2, 30.6870,2,   395.0,2,   412.0,2,    3.57,2,    0.03,2,    0.03,2,    0.74,2,  -999.0,9,  -999.0,9,-999.000,9,-999.000,-999.0000,9, -999.00,9, -999.00, -0.3972,-999.0000,   0.127,2,-999.000,9,-999.000,9,    2.29,2,0.49,2, -999.00,9,118,1288
32L919920715,73,1,3,2,19920812,77.2820,-10.0510,359,    18.0, -1.2700, 32.2790,2, 32.1580,2,   367.7,2,   381.4,2,   10.08,2,    0.00,2,    0.07,2,    1.00,2,  -999.0,9,  -999.0,9,-999.000,9,-999.000,-999.0000,9, -999.00,9, -999.00, -1.2704,-999.0000,   0.263,2,-999.000,9,-999.000,9,    4.52,2,0.77,2, -999.00,9,118,1287
32L919920715,73,1,2,2,19920812,77.2820,-10.0510,359,    35.0, -1.5530, 32.9370,2, 32.8860,2,   345.3,2,   344.6,2,   11.99,2,    2.43,2,    0.10,2,    1.07,2,  -999.0,9,  -999.0,9,   6.970,2,   0.105,  1.9010,2,    9.80,2,    0.20, -1.5537,-999.0000,   0.273,2,-999.000,9,-999.000,9,    0.24,2,0.33,2, -999.00,9,118,1286
32L919920715,73,1,1,2,19920812,77.2820,-10.0510,359,    60.0, -1.5450, 33.6750,2, 33.5390,2,   335.0,2,   339.4,2,    8.43,2,    6.41,2,    0.12,2,    0.88,2,  -999.0,9,  -999.0,9,-999.000,9,-999.000,-999.0000,9, -999.00,9, -999.00, -1.5462,-999.0000,   0.273,2,-999.000,9,-999.000,9,    0.20,2,0.18,2, -999.00,9,118,1285
32L919920715,73,1,12,2,19920812,77.2820,-10.0510,359,   100.0, -1.4900, 34.1360,2, 34.1630,2,   323.9,2,   322.3,2,    5.55,2,    7.23,2,    0.10,2,    0.84,2,  -999.0,9,  -999.0,9,-999.000,9,-999.000,-999.0000,9, -999.00,9, -999.00, -1.4922,-999.0000,   0.127,2,-999.000,9,-999.000,9,    0.10,2,0.09,2, -999.00,9,118,1284
32L919920715,73,1,11,2,19920812,77.2820,-10.0510,359,   150.0, -0.5290, 34.4550,2, 34.4750,2,   304.9,2,   305.4,2,    6.54,2,    9.72,2,    0.12,2,    0.92,2,  -999.0,9,  -999.0,9,-999.000,9,-999.000,-999.0000,9, -999.00,9, -999.00, -0.5338,-999.0000,   0.127,2,-999.000,9,-999.000,9,    0.05,2,0.07,2, -999.00,9,118,1283
32L919920715,73,1,10,2,19920812,77.2820,-10.0510,359,   199.0,  0.7160, 34.7350,2, 34.7490,2,   297.5,2,   293.0,2,    7.63,2,   12.44,2,    0.04,2,    0.97,2,  -999.0,9,  -999.0,9,-999.000,9,-999.000,-999.0000,9, -999.00,9, -999.00,  0.7074,-999.0000,   0.166,2,-999.000,9,-999.000,9,    0.08,2,0.05,2, -999.00,9,118,1282
32L919920715,73,1,9,2,19920812,77.2820,-10.0510,359,   251.0,  1.2710, 34.8820,2, 34.8920,2,   292.2,2,   296.2,2,    6.93,2,   12.71,2,    0.04,2,    0.97,2,  -999.0,9,  -999.0,9,   3.120,2,   0.047,  1.8770,2,    4.70,2,    0.20,  1.2588,-999.0000,   0.156,2,-999.000,9,-999.000,9, -999.00,9,-999.00,9, -999.00,9,118,1281
32L919920715,73,1,8,2,19920812,77.2820,-10.0510,359,   300.0,  1.1190, 34.9030,2, 34.9010,2,   281.6,2,   294.7,2,    7.48,2,   13.02,2,    0.04,2,    0.98,2,  -999.0,9,  -999.0,9,-999.000,9,-999.000,-999.0000,9, -999.00,9, -999.00,  1.1047,-999.0000,   0.137,2,-999.000,9,-999.000,9, -999.00,9,-999.00,9, -999.00,9,118,1280
32L919920715,73,1,7,2,19920812,77.2820,-10.0510,359,   330.0,  1.0410, 34.9070,2, 34.9030,2,   294.7,2,   295.8,2,    7.35,2,   12.98,2,    0.05,2,    1.00,2,  -999.0,9,  -999.0,9,   2.150,2,   0.032,  1.8190,2,    5.60,2,    0.20,  1.0254,-999.0000,   0.234,2,-999.000,9,-999.000,9, -999.00,9,-999.00,9, -999.00,9,118,1279
32L919920715,73,1,6,2,19920812,77.2820,-10.0510,359,   349.0,  1.0460, 34.9100,2, 34.9060,2,   291.3,2,  -999.0,9,    7.27,2,   12.92,2,    0.05,2,    1.00,2,  -999.0,9,  -999.0,9,-999.000,9,-999.000,-999.0000,9, -999.00,9, -999.00,  1.0294,-999.0000,   0.156,2,-999.000,9,-999.000,9, -999.00,9,-999.00,9, -999.00,9,118,1278
32L919920715,74,1,5,2,19920813,77.0010,-10.9100,360,     2.0, -0.2590, 30.4120,2, 30.4530,2,   384.6,2,   408.5,2,    1.37,2,    0.06,2,    0.02,2,    0.71,2,  -999.0,9,  -999.0,9,-999.000,9,-999.000,-999.0000,9, -999.00,9, -999.00, -0.2590,-999.0000,   0.029,2,  22.501,2,   2.524,2,    1.06,2,0.00,2,165000.00,2,119,1301
32L919920715,74,1,4,2,19920813,77.0010,-10.9100,360,     4.0, -0.2530, 30.4390,2, 30.4510,2,   349.3,3,   409.5,2,    1.39,2,    0.06,2,    0.00,2,    0.72,2,  -999.0,9,  -999.0,9,-999.000,9,-999.000,-999.0000,9, -999.00,9, -999.00, -0.2531,-999.0000,   0.020,2,  19.801,2,   2.530,2,    0.91,2,0.12,2,178000.00,2,119,1300
32L919920715,74,1,3,2,19920813,77.0010,-10.9100,360,     7.0, -0.5150, 30.7240,2, 30.7680,2,   403.0,2,   416.6,2,    1.80,2,    0.04,2,    0.01,2,    0.76,2,  -999.0,9,  -999.0,9,-999.000,9,-999.000,-999.0000,9, -999.00,9, -999.00, -0.5152,-999.0000,   0.020,2,  26.072,2,   3.165,2,    2.29,2,0.04,2,234000.00,2,119,1299
32L919920715,74,1,2,2,19920813,77.0010,-10.9100,360,    13.0, -0.6390, 31.4840,2, 31.5650,2,   411.5,2,   426.8,2,    2.70,2,    0.02,2,    0.01,2,    0.84,2,  -999.0,9,  -999.0,9,-999.000,9,-999.000,-999.0000,9, -999.00,9, -999.00, -0.6393,-999.0000,   0.029,2,  41.023,2,   4.716,2,    3.87,2,0.39,2,378000.00,2,119,1298
32L919920715,74,1,1,2,19920813,77.0010,-10.9100,360,    20.0, -0.9370, 32.1440,2, 32.2160,2,   373.8,2,   391.7,2,    9.06,2,    1.82,2,    0.04,2,    0.98,2,  -999.0,9,  -999.0,9,-999.000,9,-999.000,-999.0000,9, -999.00,9, -999.00, -0.9375,-999.0000,   0.098,2,  30.635,2,   4.776,2,    5.52,2,0.87,2,312000.00,2,119,1297
32L919920715,74,1,12,2,19920813,77.0010,-10.9100,360,    31.0, -1.4090, 32.7090,2, 32.8040,2,   340.0,2,   347.3,2,   12.46,2,    6.34,2,    0.06,2,    1.07,2,  -999.0,9,  -999.0,9,   6.560,2,   0.098,  1.9180,2,    3.40,2,    0.20, -1.4096,-999.0000,   0.098,2,   1.956,2,   0.156,2,    0.22,2,0.34,2,62700.00,2,119,1296
32L919920715,74,1,11,2,19920813,77.0010,-10.9100,360,    47.0, -1.4820, 33.4020,2, 33.4330,2,   332.2,2,   337.1,2,    9.73,2,    7.37,2,    0.07,2,    0.89,2,  -999.0,9,  -999.0,9,-999.000,9,-999.000,-999.0000,9, -999.00,9, -999.00, -1.4830,-999.0000,   0.137,2,   0.001,2,   0.100,2,    0.02,2,0.09,2,57700.00,2,119,1295
32L919920715,74,1,10,2,19920813,77.0010,-10.9100,360,   100.0, -1.4690, 34.1280,2, 34.1010,2,   319.1,2,   321.1,2,    6.40,2,    9.84,2,    0.01,2,    0.79,2,  -999.0,9,  -999.0,9,-999.000,9,-999.000,-999.0000,9, -999.00,9, -999.00, -1.4712,-999.0000,   0.010,2,   1.320,2,-999.000,9,    0.04,2,0.10,2, -999.00,9,119,1294
32L919920715,74,1,9,2,19920813,77.0010,-10.9100,360,   150.0, -0.7510, 34.4010,2, 34.3740,2,   307.4,2,   307.5,2,    6.96,2,   11.07,2,    0.01,2,    0.83,2,  -999.0,9,  -999.0,9,-999.000,9,-999.000,-999.0000,9, -999.00,9, -999.00, -0.7554,-999.0000,   0.000,2,   2.550,2,   0.004,2,    0.03,2,0.09,2, -999.00,9,119,1293
32L919920715,74,1,8,2,19920813,77.0010,-10.9100,360,   251.0,  1.8110, 34.9260,2, 34.9190,2,   283.4,2,   306.7,2,    5.70,2,   11.94,2,    0.01,2,    0.84,2,  -999.0,9,  -999.0,9,   2.600,2,   0.039,  1.8920,2,    4.00,2,    0.20,  1.7977,-999.0000,   0.000,2,   0.625,2,   0.006,2,    0.05,2,0.01,2, -999.00,9,119,1292
32L919920715,74,1,7,2,19920813,77.0010,-10.9100,360,   350.0,  1.0620, 34.9100,2, 34.9060,2,   280.4,2,   294.7,2,    7.88,2,   12.72,2,    0.01,2,    0.90,2,  -999.0,9,  -999.0,9,   2.100,2,   0.031,  1.8740,2,    7.80,2,    0.20,  1.0453,-999.0000,   0.010,2,-999.000,9,-999.000,9, -999.00,9,-999.00,9, -999.00,9,119,1291
32L919920715,75,1,5,2,19920813,76.8880,-8.8500,372,     2.0, -0.2790, 30.5140,2, 30.5190,2,   389.8,2,   408.5,2,    1.36,2,    0.00,2,    0.01,2,    0.67,2,  -999.0,9,  -999.0,9,-999.000,9,-999.000,-999.0000,9, -999.00,9, -999.00, -0.2790,-999.0000,   0.039,2,  23.957,2,   3.102,2,    0.79,2,0.08,2,210000.00,2,122,1337
32L919920715,75,1,4,2,19920813,76.8880,-8.8500,372,     4.0, -0.2870, 30.5150,2, 30.5480,2,   396.2,2,   409.8,2,    1.36,2,    0.02,2,    0.01,2,    0.68,2,  -999.0,9,  -999.0,9,-999.000,9,-999.000,-999.0000,9, -999.00,9, -999.00, -0.2871,-999.0000,   0.088,2,  17.778,2,   2.302,2,    0.70,2,0.06,2,233000.00,2,122,1336
32L919920715,75,1,3,2,19920813,76.8880,-8.8500,372,     7.0, -0.3300, 30.7640,2, 30.9570,2,   405.1,2,   417.1,2,    1.38,2,    0.05,2,    0.01,2,    0.71,2,  -999.0,9,  -999.0,9,-999.000,9,-999.000,-999.0000,9, -999.00,9, -999.00, -0.3302,-999.0000,   0.029,2,  57.336,2,   5.572,2,    1.41,2,0.17,2,252000.00,2,122,1335
32L919920715,75,1,2,2,19920813,76.8880,-8.8500,372,    11.0, -0.4370, 31.4120,2, 31.5100,2,   407.8,2,   424.4,2,    1.73,2,    0.20,2,    0.01,2,    0.78,2,  -999.0,9,  -999.0,9,-999.000,9,-999.000,-999.0000,9, -999.00,9, -999.00, -0.4373,-999.0000,   0.029,2,  29.063,2,   3.100,2,    2.11,2,0.05,2,279000.00,2,122,1334
32L919920715,75,1,1,2,19920813,76.8880,-8.8500,372,    18.0, -0.9690, 32.1370,2, 32.2100,2,   373.6,2,   395.2,2,    7.73,2,    1.99,2,    0.04,2,    0.94,2,  -999.0,9,  -999.0,9,-999.000,9,-999.000,-999.0000,9, -999.00,9, -999.00, -0.9694,-999.0000,   0.088,2,  29.936,2,   4.282,2,    5.87,2,0.59,2,274000.00,2,122,1333
32L919920715,75,1,12,2,19920813,76.8880,-8.8500,372,    27.0, -1.4400, 32.7300,2, 32.8080,2,   346.6,2,   350.5,2,   12.10,2,    5.91,2,    0.07,2,    1.02,2,  -999.0,9,  -999.0,9,-999.000,9,-999.000,-999.0000,9, -999.00,9, -999.00, -1.4405,-999.0000,   0.107,2,   2.913,2,   0.565,2,    0.30,2,0.29,2,115000.00,2,122,1332
32L919920715,75,1,11,2,19920813,76.8880,-8.8500,372,    41.0, -1.5020, 33.4470,2, 33.4040,2,   340.7,2,   344.0,2,    9.21,2,    6.72,2,    0.09,2,    0.85,2,  -999.0,9,  -999.0,9,-999.000,9,-999.000,-999.0000,9, -999.00,9, -999.00, -1.5028,-999.0000,   0.137,2,   0.924,2,   0.315,2,    0.19,2,0.30,2,89000.00,2,122,1331
32L919920715,75,1,10,2,19920813,76.8880,-8.8500,372,    80.0, -1.5880, 34.0290,2, 34.0190,2,   327.4,2,   326.9,2,    6.50,2,    9.39,2,    0.05,2,    0.82,2,  -999.0,9,  -999.0,9,-999.000,9,-999.000,-999.0000,9, -999.00,9, -999.00, -1.5897,-999.0000,   0.000,2,   0.551,2,   0.120,2,    0.06,2,0.15,2, -999.00,9,122,1330
32L919920715,75,1,9,2,19920813,76.8880,-8.8500,372,   160.0, -0.8130, 34.4170,2, 34.4390,2,   309.6,2,   309.8,2,    6.72,2,   10.91,2,    0.10,2,    0.88,2,  -999.0,9,  -999.0,9,-999.000,9,-999.000,-999.0000,9, -999.00,9, -999.00, -0.8177,-999.0000,   0.098,2,   0.046,2,-999.000,9,    0.03,2,0.09,2, -999.00,9,122,1329
32L919920715,75,1,8,2,19920813,76.8880,-8.8500,372,   250.0,  1.2000, 34.8470,2, 34.8450,2,   294.4,2,   292.8,2,    7.76,2,   12.49,2,    0.01,2,    0.94,2,  -999.0,9,  -999.0,9,   2.600,2,   0.039,  1.8390,2,    9.80,2,    0.20,  1.1880,-999.0000,   0.010,2,   0.491,2,   0.037,2,    0.01,2,0.06,2, -999.00,9,122,1328
32L919920715,75,1,7,2,19920813,76.8880,-8.8500,372,   350.0,  1.1210, 34.9200,2,-999.0000,9,   285.1,2,   297.1,2,    7.52,2,   12.71,2,    0.02,2,    0.96,2,  -999.0,9,  -999.0,9,-999.000,9,-999.000,-999.0000,9, -999.00,9, -999.00,  1.1041,-999.0000,   0.020,2,-999.000,9,-999.000,9, -999.00,9,-999.00,9, -999.00,9,122,1327
32L919920715,75,1,6,2,19920813,76.8880,-8.8500,372,   362.0,  0.9280, 34.9120,2, 34.9420,2,   291.3,2,   298.5,2,    7.51,2,   12.94,2,    0.02,2,    0.94,2,  -999.0,9,  -999.0,9,-999.000,9,-999.000,-999.0000,9, -999.00,9, -999.00,  0.9111,-999.0000,   0.020,2,-999.000,9,-999.000,9, -999.00,9,-999.00,9, -999.00,9,122,1326
32L919920715,75,2,5,2,19920813,76.8880,-8.8500,372,     2.0, -0.2210, 30.1390,2,-999.0000,9,   370.4,2,  -999.0,9, -999.00,9, -999.00,9, -999.00,9, -999.00,9,  -999.0,9,  -999.0,9,-999.000,9,-999.000,-999.0000,9, -999.00,9, -999.00, -0.2210,-999.0000,-999.000,9,-999.000,9,-999.000,9, -999.00,9,-999.00,9, -999.00,9,123,1349
32L919920715,75,2,4,2,19920813,76.8880,-8.8500,372,     9.0, -0.3730, 30.9090,2,-999.0000,9,   403.5,2,  -999.0,9, -999.00,9, -999.00,9, -999.00,9, -999.00,9,  -999.0,9,  -999.0,9,-999.000,9,-999.000,-999.0000,9, -999.00,9, -999.00, -0.3732,-999.0000,-999.000,9,-999.000,9,-999.000,9, -999.00,9,-999.00,9, -999.00,9,123,1348
32L919920715,75,2,3,2,19920813,76.8880,-8.8500,372,    15.0, -1.0210, 32.1770,2,-999.0000,9,   371.6,2,  -999.0,9, -999.00,9, -999.00,9, -999.00,9, -999.00,9,  -999.0,9,  -999.0,9,-999.000,9,-999.000,-999.0000,9, -999.00,9, -999.00, -1.0213,-999.0000,-999.000,9,-999.000,9,-999.000,9, -999.00,9,-999.00,9, -999.00,9,123,1347
32L919920715,75,2,2,2,19920813,76.8880,-8.8500,372,    19.0, -1.2510, 32.3900,2,-999.0000,9,   351.3,2,  -999.0,9, -999.00,9, -999.00,9, -999.00,9, -999.00,9,  -999.0,9,  -999.0,9,-999.000,9,-999.000,-999.0000,9, -999.00,9, -999.00, -1.2514,-999.0000,-999.000,9,-999.000,9,-999.000,9, -999.00,9,-999.00,9, -999.00,9,123,1346
32L919920715,75,2,1,2,19920813,76.8880,-8.8500,372,    24.0, -1.3550, 32.5190,2,-999.0000,9,   342.5,2,  -999.0,9, -999.00,9, -999.00,9, -999.00,9, -999.00,9,  -999.0,9,  -999.0,9,-999.000,9,-999.000,-999.0000,9, -999.00,9, -999.00, -1.3555,-999.0000,-999.000,9,-999.000,9,-999.000,9, -999.00,9,-999.00,9, -999.00,9,123,1345
32L919920715,75,2,12,2,19920813,76.8880,-8.8500,372,    30.0, -1.4480, 32.9330,2,-999.0000,9,   350.8,2,  -999.0,9, -999.00,9, -999.00,9, -999.00,9, -999.00,9,  -999.0,9,  -999.0,9,-999.000,9,-999.000,-999.0000,9, -999.00,9, -999.00, -1.4486,-999.0000,-999.000,9,-999.000,9,-999.000,9, -999.00,9,-999.00,9, -999.00,9,123,1344
32L919920715,75,2,11,2,19920813,76.8880,-8.8500,372,    35.0, -1.4780, 33.1160,2,-999.0000,9,   343.6,2,  -999.0,9, -999.00,9, -999.00,9, -999.00,9, -999.00,9,  -999.0,9,  -999.0,9,-999.000,9,-999.000,-999.0000,9, -999.00,9, -999.00, -1.4787,-999.0000,-999.000,9,-999.000,9,-999.000,9, -999.00,9,-999.00,9, -999.00,9,123,1343
32L919920715,75,2,10,2,19920813,76.8880,-8.8500,372,    40.0, -1.4810, 33.1970,2,-999.0000,9,   340.4,2,  -999.0,9, -999.00,9, -999.00,9, -999.00,9, -999.00,9,  -999.0,9,  -999.0,9,-999.000,9,-999.000,-999.0000,9, -999.00,9, -999.00, -1.4818,-999.0000,-999.000,9,-999.000,9,-999.000,9, -999.00,9,-999.00,9, -999.00,9,123,1342
32L919920715,75,2,9,2,19920813,76.8880,-8.8500,372,    45.0, -1.5220, 33.5000,2,-999.0000,9,   333.5,2,  -999.0,9, -999.00,9, -999.00,9, -999.00,9, -999.00,9,  -999.0,9,  -999.0,9,-999.000,9,-999.000,-999.0000,9, -999.00,9, -999.00, -1.5229,-999.0000,-999.000,9,-999.000,9,-999.000,9, -999.00,9,-999.00,9, -999.00,9,123,1341
32L919920715,75,2,8,2,19920813,76.8880,-8.8500,372,    50.0, -1.5780, 33.6990,2,-999.0000,9,   337.2,2,  -999.0,9, -999.00,9, -999.00,9, -999.00,9, -999.00,9,  -999.0,9,  -999.0,9,-999.000,9,-999.000,-999.0000,9, -999.00,9, -999.00, -1.5790,-999.0000,-999.000,9,-999.000,9,-999.000,9, -999.00,9,-999.00,9, -999.00,9,123,1340
32L919920715,75,2,7,2,19920813,76.8880,-8.8500,372,   100.0, -1.5690, 34.1230,2,-999.0000,9,   322.8,2,  -999.0,9, -999.00,9, -999.00,9, -999.00,9, -999.00,9,  -999.0,9,  -999.0,9,-999.000,9,-999.000,-999.0000,9, -999.00,9, -999.00, -1.5712,-999.0000,-999.000,9,-999.000,9,-999.000,9, -999.00,9,-999.00,9, -999.00,9,123,1339
32L919920715,76,1,5,2,19920814,77.1770,-7.9950,296,     2.0, -0.7850, 30.1910,2, 30.5810,2,   406.2,2,   405.0,2,    2.89,2,    0.15,2,    0.04,2,    0.69,2,  -999.0,9,  -999.0,9,-999.000,9,-999.000,-999.0000,9, -999.00,9, -999.00, -0.7850,-999.0000,   0.146,2,-999.000,9,-999.000,9,    2.50,2,0.22,2, -999.00,9,124,1361
32L919920715,76,1,4,2,19920814,77.1770,-7.9950,296,    13.0, -0.9420, 32.0590,2, 32.4700,2,   373.6,2,   367.3,2,   11.08,2,    4.18,2,    0.08,2,    0.96,2,  -999.0,9,  -999.0,9,-999.000,9,-999.000,-999.0000,9, -999.00,9, -999.00, -0.9423,-999.0000,   0.302,2,-999.000,9,-999.000,9,    2.58,2,0.65,2, -999.00,9,124,1360
32L919920715,76,1,2,2,19920814,77.1770,-7.9950,296,    35.0, -1.4390, 33.1920,2, 33.2500,2,   342.8,2,   342.5,2,   10.79,2,    6.65,2,    0.10,2,    0.89,2,  -999.0,9,  -999.0,9,-999.000,9,-999.000,-999.0000,9, -999.00,9, -999.00, -1.4397,-999.0000,   0.341,2,-999.000,9,-999.000,9,    0.22,2,0.48,2, -999.00,9,124,1358
32L919920715,76,1,3,2,19920814,77.1770,-7.9950,296,    35.0, -1.4060, 33.1600,2,-999.0000,9,   361.3,2,   340.6,2,   10.80,2,    6.83,2,    0.10,2,    0.89,2,  -999.0,9,  -999.0,9,-999.000,9,-999.000,-999.0000,9, -999.00,9, -999.00, -1.4067,-999.0000,   0.400,2,-999.000,9,-999.000,9, -999.00,9,-999.00,9, -999.00,9,124,1359
32L919920715,76,1,1,2,19920814,77.1770,-7.9950,296,    50.0, -1.4010, 33.7410,2, 33.7940,2,   328.5,2,   326.5,2,    9.12,2,    8.56,2,    0.11,2,    0.84,2,  -999.0,9,  -999.0,9,-999.000,9,-999.000,-999.0000,9, -999.00,9, -999.00, -1.4021,-999.0000,   0.205,2,-999.000,9,-999.000,9,    0.07,2,0.18,2, -999.00,9,124,1357
32L919920715,76,1,12,2,19920814,77.1770,-7.9950,296,    75.0, -1.5470, 34.1020,2, 34.1140,2,   323.3,2,   323.9,2,    6.20,2,    9.56,2,    0.07,2,    0.76,2,  -999.0,9,  -999.0,9,-999.000,9,-999.000,-999.0000,9, -999.00,9, -999.00, -1.5486,-999.0000,   0.127,2,-999.000,9,-999.000,9,    0.06,2,0.14,2, -999.00,9,124,1356
32L919920715,76,1,11,2,19920814,77.1770,-7.9950,296,   100.0, -1.1530, 34.2680,2, 34.2700,2,   317.5,2,   315.4,2,    6.65,2,   10.47,2,    0.07,2,    0.81,2,  -999.0,9,  -999.0,9,-999.000,9,-999.000,-999.0000,9, -999.00,9, -999.00, -1.1555,-999.0000,   0.098,2,-999.000,9,-999.000,9,    0.04,2,0.10,2, -999.00,9,124,1355
32L919920715,76,1,10,2,19920814,77.1770,-7.9950,296,   150.0,  0.1160, 34.5780,2, 34.7030,2,   302.4,2,   298.4,2,    7.80,2,   11.71,2,    0.08,2,    0.88,2,  -999.0,9,  -999.0,9,-999.000,9,-999.000,-999.0000,9, -999.00,9, -999.00,  0.1104,-999.0000,   0.098,2,-999.000,9,-999.000,9,    0.02,2,0.08,2, -999.00,9,124,1354
32L919920715,76,1,9,2,19920814,77.1770,-7.9950,296,   200.0,  1.1130, 34.8140,2, 34.8180,2,   299.4,2,   295.3,2,    7.82,2,   12.54,2,    0.03,2,    0.91,2,  -999.0,9,  -999.0,9,-999.000,9,-999.000,-999.0000,9, -999.00,9, -999.00,  1.1037,-999.0000,   0.088,2,-999.000,9,-999.000,9,    0.02,2,0.09,2, -999.00,9,124,1353
32L919920715,76,1,8,2,19920814,77.1770,-7.9950,296,   250.0,  1.2310, 34.9130,2, 34.9170,2,   297.3,2,   298.2,2,    7.47,2,   12.90,2,    0.03,2,    0.94,2,  -999.0,9,  -999.0,9,   2.600,2,   0.039,  1.8300,2,    4.40,2,    0.20,  1.2189,-999.0000,   0.078,2,-999.000,9,-999.000,9, -999.00,9,-999.00,9, -999.00,9,124,1352
32L919920715,76,1,7,2,19920814,77.1770,-7.9950,296,   283.0,  1.1140, 34.9130,2, 34.9120,2,   277.6,2,   297.9,2,    7.65,2,   12.88,2,    0.04,2,    0.93,2,  -999.0,9,  -999.0,9,-999.000,9,-999.000,-999.0000,9, -999.00,9, -999.00,  1.1005,-999.0000,   0.078,2,-999.000,9,-999.000,9, -999.00,9,-999.00,9, -999.00,9,124,1351
32L919920715,76,1,6,2,19920814,77.1770,-7.9950,296,   286.0,  1.1080, 34.9130,2, 34.9190,2,   298.8,2,   300.0,2,    7.66,2,   12.77,2,    0.04,2,    0.94,2,  -999.0,9,  -999.0,9,-999.000,9,-999.000,-999.0000,9, -999.00,9, -999.00,  1.0944,-999.0000,   0.137,2,-999.000,9,-999.000,9, -999.00,9,-999.00,9, -999.00,9,124,1350