BOTTLE,20220816CCHSIOAMB
EXPOCODE,STNNBR,CASTNO,BTLNBR,BTLNBR_FLAG_W,DATE,LATITUDE,LONGITUDE,DEPTH,CTDPRS,CTDTMP,CTDSAL,CTDSAL_FLAG_W,SALNTY,SALNTY_FLAG_W,CTDOXY,CTDOXY_FLAG_W,OXYGEN,OXYGEN_FLAG_W,SILCAT,SILCAT_FLAG_W,NITRAT,NITRAT_FLAG_W,NITRIT,NITRIT_FLAG_W,PHSPHT,PHSPHT_FLAG_W,TCARBN,TCARBN_FLAG_W,ALKALI,ALKALI_FLAG_W,TRITUM,TRITUM_FLAG_W,TRITER,HELIUM,HELIUM_FLAG_W,DELHE3,DELHE3_FLAG_W,DELHER,THETA,SOMSAL,AMMONI,AMMONI_FLAG_W,POC,POC_FLAG_W,PON,PON_FLAG_W,CHLORA,CHLORA_FLAG_W,PHAEO,PHAEO_FLAG_W,BACT,BACT_FLAG_W,STNNBR_U,BNLID
,,,,,,,,METERS,DBAR,ITS-90,PSS-78,,PSS-78,,UMOL/KG,,UMOL/KG,,UMOL/KG,,UMOL/KG,,UMOL/KG,,UMOL/KG,,UMOL/KG,,UMOL/KG,,TU,,TU,NMOL/KG,,PERCNT,,PERCNT,DEG C,PSS-78,UMOL/KG,,UG/KG,,UG/KG,,UG/KG,,UG/L,,E8/L,,,
32L919920715,77,1,4,2,19920814,77.1090,-7.1700,261,     2.0, -0.5470, 30.1990,2, 30.2290,2,   376.4,2,   399.4,2,    2.34,2,    0.05,2,    0.02,2,    0.64,2,  -999.0,9,  -999.0,9,-999.000,9,-999.000,-999.0000,9, -999.00,9, -999.00, -0.5470,-999.0000,   0.120,2,-999.000,9,-999.000,9,    0.94,2,0.09,2, -999.00,9,125,1372
32L919920715,77,1,3,2,19920814,77.1090,-7.1700,261,    10.0, -0.5330, 30.4350,2, 31.0740,2,   383.7,2,   410.3,2,    2.85,2,    0.16,2,    0.04,2,    0.75,2,  -999.0,9,  -999.0,9,-999.000,9,-999.000,-999.0000,9, -999.00,9, -999.00, -0.5332,-999.0000,   0.160,2,-999.000,9,-999.000,9,    2.99,2,0.36,2, -999.00,9,125,1371
32L919920715,77,1,2,2,19920814,77.1090,-7.1700,261,    17.0, -1.2900, 32.4420,2, 32.3740,2,   367.5,2,   374.7,2,   10.57,2,    3.11,2,    0.06,2,    0.96,2,  -999.0,9,  -999.0,9,-999.000,9,-999.000,-999.0000,9, -999.00,9, -999.00, -1.2903,-999.0000,   0.190,2,-999.000,9,-999.000,9,    4.40,2,0.44,2, -999.00,9,125,1370
32L919920715,77,1,1,2,19920814,77.1090,-7.1700,261,    35.0, -1.5040, 32.9970,2, 33.0590,2,   343.9,2,   345.8,2,   11.55,2,    6.17,2,    0.10,2,    0.97,2,  -999.0,9,  -999.0,9,-999.000,9,-999.000,-999.0000,9, -999.00,9, -999.00, -1.5047,-999.0000,   0.180,2,-999.000,9,-999.000,9,    0.25,2,0.46,2, -999.00,9,125,1369
32L919920715,77,1,12,2,19920814,77.1090,-7.1700,261,    50.0, -1.5280, 33.4670,2, 33.9190,2,   329.9,2,   328.4,2,   10.97,2,    7.69,2,    0.10,2,    0.99,2,  -999.0,9,  -999.0,9,-999.000,9,-999.000,-999.0000,9, -999.00,9, -999.00, -1.5290,-999.0000,   0.170,2,-999.000,9,-999.000,9,    0.12,2,0.24,2, -999.00,9,125,1368
32L919920715,77,1,11,2,19920814,77.1090,-7.1700,261,    75.0, -1.4960, 34.0670,2, 34.0400,2,   324.5,2,   324.6,2,    6.52,2,    8.73,2,    0.13,2,    0.83,2,  -999.0,9,  -999.0,9,-999.000,9,-999.000,-999.0000,9, -999.00,9, -999.00, -1.4976,-999.0000,   0.150,2,-999.000,9,-999.000,9,    0.09,2,0.17,2, -999.00,9,125,1367
32L919920715,77,1,10,2,19920814,77.1090,-7.1700,261,   101.0, -1.4480, 34.2260,2, 34.2230,2,   320.9,2,   320.4,2,    5.73,2,    9.79,2,    0.03,2,    0.85,2,  -999.0,9,  -999.0,9,-999.000,9,-999.000,-999.0000,9, -999.00,9, -999.00, -1.4503,-999.0000,   0.120,2,-999.000,9,-999.000,9,    0.04,2,0.12,2, -999.00,9,125,1366
32L919920715,77,1,9,2,19920814,77.1090,-7.1700,261,   150.0,  0.1390, 34.5990,2, 34.6090,2,   294.3,2,   295.1,2,    7.91,2,   11.40,2,    0.02,2,    0.90,2,  -999.0,9,  -999.0,9,-999.000,9,-999.000,-999.0000,9, -999.00,9, -999.00,  0.1334,-999.0000,   0.130,2,-999.000,9,-999.000,9,    0.03,2,0.11,2, -999.00,9,125,1365
32L919920715,77,1,8,2,19920814,77.1090,-7.1700,261,   200.0,  0.8650, 34.8080,2,-999.0000,9,   289.2,2,   291.6,2,    8.08,2,   12.28,2,    0.01,2,    0.92,2,  -999.0,9,  -999.0,9,-999.000,9,-999.000,-999.0000,9, -999.00,9, -999.00,  0.8561,-999.0000,   0.130,2,-999.000,9,-999.000,9,    0.03,2,0.04,2, -999.00,9,125,1364
32L919920715,77,1,7,2,19920814,77.1090,-7.1700,261,   251.0,  0.9800, 34.9010,2, 34.9340,2,   293.5,2,   297.1,2,    7.45,2,   12.74,2,    0.03,2,    0.94,2,  -999.0,9,  -999.0,9,   2.600,2,   0.039,  1.8520,2,    7.80,2,    0.20,  0.9684,-999.0000,   0.130,2,-999.000,9,-999.000,9, -999.00,9,-999.00,9, -999.00,9,125,1363
32L919920715,78,1,4,2,19920814,76.9880,-6.5760,390,     2.0, -1.0170, 30.7120,2, 30.8410,2,   403.0,2,   419.9,2,    0.41,2,   -0.05,2,    0.04,2,    0.77,2,  1953.1,2,  2126.4,2,-999.000,9,-999.000,-999.0000,9, -999.00,9, -999.00, -1.0170,30.7720,   0.130,2,-999.000,9,-999.000,9,    2.11,2,0.11,2, -999.00,9,126,1384
32L919920715,78,1,3,2,19920814,76.9880,-6.5760,390,    10.0, -1.1610, 31.1150,2, 31.7110,2,   398.2,2,   397.3,2,    5.35,2,    1.39,2,    0.06,2,    0.97,2,  -999.0,9,  -999.0,9,   9.000,2,   0.135,  1.8090,2,    4.10,2,    0.20, -1.1612,-999.0000,   0.100,2,-999.000,9,-999.000,9,    5.34,2,0.34,2, -999.00,9,126,1383
32L919920715,78,1,2,2,19920814,76.9880,-6.5760,390,    18.0, -1.4870, 32.0080,2, 32.2880,2,   367.3,2,   358.9,2,   12.40,2,    4.60,2,    0.09,2,    1.15,2,  -999.0,9,  -999.0,9,-999.000,9,-999.000,-999.0000,9, -999.00,9, -999.00, -1.4873,-999.0000,   0.150,2,-999.000,9,-999.000,9,    2.03,2,0.33,2, -999.00,9,126,1382
32L919920715,78,1,1,2,19920814,76.9880,-6.5760,390,    35.0, -1.6260, 32.5170,2,-999.0000,9,   355.3,2,   348.6,2,   13.34,2,    5.85,2,    0.07,2,    1.12,2,  -999.0,9,  -999.0,9,   7.600,2,   0.114,  1.9260,2,    6.30,2,    0.20, -1.6266,-999.0000,   0.120,2,-999.000,9,-999.000,9,    0.20,2,0.19,2, -999.00,9,126,1381
32L919920715,78,1,12,2,19920814,76.9880,-6.5760,390,    50.0, -1.6700, 32.8370,2,-999.0000,9,   345.9,2,   339.5,2,   13.00,2,    6.81,2,    0.05,2,    1.04,2,  2146.7,2,  2247.3,2,-999.000,9,-999.000,-999.0000,9, -999.00,9, -999.00, -1.6709,32.8910,   0.090,2,-999.000,9,-999.000,9,    0.10,2,0.12,2, -999.00,9,126,1380
32L919920715,78,1,11,2,19920814,76.9880,-6.5760,390,    75.0, -1.4170, 33.4880,2, 33.5150,2,   326.8,2,   324.4,2,   11.20,2,    8.31,2,    0.07,2,    0.98,2,  -999.0,9,  -999.0,9,   5.670,2,   0.085,  1.9190,2,   15.10,2,    0.20, -1.4186,-999.0000,   0.120,2,-999.000,9,-999.000,9,    0.09,2,0.13,2, -999.00,9,126,1379
32L919920715,78,1,10,2,19920814,76.9880,-6.5760,390,   100.0, -1.4080, 33.9840,2, 33.9850,2,   323.8,2,   322.5,2,    7.40,2,    8.73,2,    0.12,2,    0.81,2,  2131.4,2,  2259.9,2,-999.000,9,-999.000,-999.0000,9, -999.00,9, -999.00, -1.4103,33.9010,   0.130,2,-999.000,9,-999.000,9,    0.08,2,0.14,2, -999.00,9,126,1378
32L919920715,78,1,9,2,19920814,76.9880,-6.5760,390,   151.0, -0.2220, 34.4990,2, 34.4750,2,   299.0,2,   297.2,2,    7.48,2,   11.00,2,    0.06,2,    0.88,2,  2140.2,2,  2269.8,2,   3.750,2,   0.056,  1.8770,2,   18.40,2,    0.20, -0.2272,34.3750,   0.100,2,-999.000,9,-999.000,9,    0.03,2,0.12,2, -999.00,9,126,1377
32L919920715,78,1,8,2,19920814,76.9880,-6.5760,390,   200.0,  1.0470, 34.7940,2, 34.7890,2,   295.3,2,   295.8,2,    7.19,2,   12.20,2,    0.03,2,    0.91,2,  2142.3,2,  2281.4,2,-999.000,9,-999.000,-999.0000,9, -999.00,9, -999.00,  1.0378,34.7050,   0.100,2,-999.000,9,-999.000,9,    0.04,2,0.11,2, -999.00,9,126,1376
32L919920715,78,1,7,2,19920814,76.9880,-6.5760,390,   230.0,  1.4410, 34.8840,2, 34.8850,2,   299.0,2,   299.3,2,    6.56,2,   12.02,2,    0.03,2,    0.92,2,  2143.4,2,  2287.4,2,-999.000,9,-999.000,-999.0000,9, -999.00,9, -999.00,  1.4296,34.7640,   0.120,2,-999.000,9,-999.000,9, -999.00,9,-999.00,9,39300.00,2,126,1375
32L919920715,78,1,6,2,19920814,76.9880,-6.5760,390,   250.0,  1.1200, 34.8950,2, 34.9030,2,   295.9,2,   296.5,2,    7.19,2,   12.26,2,    0.04,2,    0.88,2,  -999.0,9,  -999.0,9,   2.600,2,   0.039,  1.7940,2,    4.10,2,    0.20,  1.1082,-999.0000,   0.130,2,-999.000,9,-999.000,9, -999.00,9,-999.00,9, -999.00,9,126,1374
32L919920715,78,1,5,2,19920814,76.9880,-6.5760,390,   272.0,  1.0500, 34.8960,2, 34.9080,2,   302.4,2,   297.3,2,    7.18,2,   12.20,2,    0.04,2,    0.93,2,  -999.0,9,  -999.0,9,-999.000,9,-999.000,-999.0000,9, -999.00,9, -999.00,  1.0372,-999.0000,   0.110,2,-999.000,9,-999.000,9, -999.00,9,-999.00,9, -999.00,9,126,1373
32L919920715,79,1,4,2,19920814,76.9480,-6.2910,706,     2.0, -1.0090, 31.1050,2, 31.2270,2,   394.7,2,   415.7,2,    2.23,2,   -0.16,2,    0.04,2,    0.76,2,  -999.0,9,  -999.0,9,-999.000,9,-999.000,-999.0000,9, -999.00,9, -999.00, -1.0090,-999.0000,   0.050,2,-999.000,9,-999.000,9,    3.82,2,0.58,2, -999.00,9,127,1396
32L919920715,79,1,3,2,19920814,76.9480,-6.2910,706,    13.0, -1.4830, 31.8840,2, 32.6200,2,   393.1,2,   386.2,2,    7.08,2,    1.42,2,    0.09,2,    0.98,2,  -999.0,9,  -999.0,9,-999.000,9,-999.000,-999.0000,9, -999.00,9, -999.00, -1.4832,-999.0000,   0.090,2,-999.000,9,-999.000,9,    4.40,2,0.44,2, -999.00,9,127,1395
32L919920715,79,1,2,2,19920814,76.9480,-6.2910,706,    31.0, -1.4920, 32.3030,2, 32.4470,2,   358.8,2,   360.4,2,    8.77,2,    3.93,2,    0.12,2,    1.03,2,  -999.0,9,  -999.0,9,-999.000,9,-999.000,-999.0000,9, -999.00,9, -999.00, -1.4926,-999.0000,   0.090,2,-999.000,9,-999.000,9,    0.22,2,0.21,2, -999.00,9,127,1394
32L919920715,79,1,1,2,19920814,76.9480,-6.2910,706,   121.0, -1.4410, 34.1540,2, 34.1640,2,   318.9,2,   318.3,2,    5.83,2,    8.97,2,    0.05,2,    0.73,2,  -999.0,9,  -999.0,9,-999.000,9,-999.000,-999.0000,9, -999.00,9, -999.00, -1.4438,-999.0000,   0.030,2,-999.000,9,-999.000,9,    0.02,2,0.02,2, -999.00,9,127,1393
32L919920715,79,1,12,2,19920814,76.9480,-6.2910,706,   201.0,  1.1840, 34.7770,2, 34.7850,2,   298.9,2,   299.4,2,    6.19,2,   11.18,2,    0.08,2,    0.84,2,  -999.0,9,  -999.0,9,-999.000,9,-999.000,-999.0000,9, -999.00,9, -999.00,  1.1745,-999.0000,   0.030,2,-999.000,9,-999.000,9,    0.02,2,0.11,2, -999.00,9,127,1392
32L919920715,79,1,11,2,19920814,76.9480,-6.2910,706,   251.0,  1.6410, 34.9000,2, 34.8950,2,   297.7,2,   303.3,2,    5.75,2,   11.42,2,    0.00,2,    0.84,2,  -999.0,9,  -999.0,9,   2.600,2,   0.039,  1.8340,2,    3.40,2,    0.20,  1.6281,-999.0000,   0.040,2,-999.000,9,-999.000,9, -999.00,9,-999.00,9, -999.00,9,127,1391
32L919920715,79,1,10,2,19920814,76.9480,-6.2910,706,   301.0,  1.1930, 34.8980,2, 34.8930,2,   294.8,2,   297.8,2,    6.57,2,   11.89,2,    0.01,2,    0.87,2,  -999.0,9,  -999.0,9,-999.000,9,-999.000,-999.0000,9, -999.00,9, -999.00,  1.1785,-999.0000,   0.020,2,-999.000,9,-999.000,9, -999.00,9,-999.00,9, -999.00,9,127,1390
32L919920715,79,1,9,2,19920814,76.9480,-6.2910,706,   350.0,  0.8420, 34.8820,2, 34.8750,2,   298.1,2,   295.9,2,    6.52,2,   11.94,2,    0.00,2,    0.87,2,  -999.0,9,  -999.0,9,-999.000,9,-999.000,-999.0000,9, -999.00,9, -999.00,  0.8260,-999.0000,   0.030,2,-999.000,9,-999.000,9, -999.00,9,-999.00,9, -999.00,9,127,1389
32L919920715,79,1,8,2,19920814,76.9480,-6.2910,706,   400.0,  0.7460, 34.8900,2, 34.8880,2,   297.6,2,   295.5,2,    6.82,2,   12.11,2,    0.01,2,    0.88,2,  -999.0,9,  -999.0,9,-999.000,9,-999.000,-999.0000,9, -999.00,9, -999.00,  0.7278,-999.0000,   0.020,2,-999.000,9,-999.000,9, -999.00,9,-999.00,9, -999.00,9,127,1388
32L919920715,79,1,7,2,19920814,76.9480,-6.2910,706,   501.0,  0.4600, 34.8890,2, 34.8810,2,   297.2,2,   295.1,2,    6.72,2,   12.09,2,    0.01,2,    0.89,2,  -999.0,9,  -999.0,9,-999.000,9,-999.000,-999.0000,9, -999.00,9, -999.00,  0.4380,-999.0000,   0.020,2,-999.000,9,-999.000,9, -999.00,9,-999.00,9, -999.00,9,127,1387
32L919920715,79,1,6,2,19920814,76.9480,-6.2910,706,   597.0,  0.3460, 34.8910,2, 34.8860,2,   299.1,2,   296.1,2,    6.75,2,   12.10,2,    0.01,2,    0.88,2,  -999.0,9,  -999.0,9,-999.000,9,-999.000,-999.0000,9, -999.00,9, -999.00,  0.3198,-999.0000,   0.020,2,-999.000,9,-999.000,9, -999.00,9,-999.00,9, -999.00,9,127,1386
32L919920715,79,1,5,2,19920814,76.9480,-6.2910,706,   696.0,  0.1250, 34.8970,2, 34.9040,2,   297.4,2,   299.6,2,    6.89,2,   11.97,2,    0.01,2,    0.88,2,  -999.0,9,  -999.0,9,-999.000,9,-999.000,-999.0000,9, -999.00,9, -999.00,  0.0951,-999.0000,   0.020,2,-999.000,9,-999.000,9, -999.00,9,-999.00,9, -999.00,9,127,1385
32L919920715,80,1,4,2,19920814,76.9190,-6.0650,908,     2.0, -0.9900, 31.2750,2, 31.2650,2,   404.5,2,   420.7,2, -999.00,9, -999.00,9, -999.00,9,    0.76,2,  1990.8,2,  2157.6,2,-999.000,9,-999.000,-999.0000,9, -999.00,9, -999.00, -0.9900,31.1720,-999.000,9,-999.000,9,-999.000,9,    4.23,2,0.23,2, -999.00,9,128,1408
32L919920715,80,1,3,2,19920814,76.9190,-6.0650,908,    10.0, -1.1450, 31.3200,2, 31.9570,2,   403.5,2,   382.9,2,    7.24,2,    1.85,2,    0.07,2,    1.02,2,  -999.0,9,  -999.0,9,-999.000,9,-999.000,-999.0000,9, -999.00,9, -999.00, -1.1452,-999.0000,   0.120,2,-999.000,9,-999.000,9,    1.94,2,0.23,2, -999.00,9,128,1407
32L919920715,80,1,2,2,19920814,76.9190,-6.0650,908,    51.0, -1.6430, 32.6260,2, 32.7200,2,   350.6,2,   347.7,2,   11.66,2,    5.68,2,    0.04,2,    1.10,2,  2133.2,2,  2237.9,2,   7.500,2,   0.112,  1.8720,2,   10.40,2,    0.20, -1.6439,32.6560,   0.110,2,-999.000,9,-999.000,9,    0.09,2,0.16,2, -999.00,9,128,1406
32L919920715,80,1,1,2,19920814,76.9190,-6.0650,908,   101.0, -0.7920, 34.0250,2, 34.0290,2,   310.3,2,  -999.0,9,    9.21,2,    9.71,2,    0.03,2,    0.93,2,  2137.4,2,  2259.8,2,-999.000,9,-999.000,-999.0000,9, -999.00,9, -999.00, -0.7948,33.9460,   0.050,2,-999.000,9,-999.000,9,    0.05,2,0.15,2, -999.00,9,128,1405
32L919920715,80,1,12,2,19920814,76.9190,-6.0650,908,   200.0,  1.3680, 34.8090,2, 34.8200,2,   302.8,2,   300.7,2,    6.10,2,   11.39,2,    0.01,2,    0.88,2,  2139.3,2,  2282.2,2,-999.000,9,-999.000,-999.0000,9, -999.00,9, -999.00,  1.3583,34.7430,   0.040,2,-999.000,9,-999.000,9,    0.04,2,0.09,2, -999.00,9,128,1404
32L919920715,80,1,11,2,19920814,76.9190,-6.0650,908,   251.0,  1.9300, 34.9340,2, 34.9270,2,   306.6,2,   306.2,2,    5.27,2,   11.38,2,    0.01,2,    0.88,2,  2138.3,2,  2288.5,2,   2.600,2,   0.039,  1.8400,2,    1.00,2,    0.20,  1.9164,34.8330,   0.090,2,-999.000,9,-999.000,9, -999.00,9,-999.00,9, -999.00,9,128,1403
32L919920715,80,1,10,2,19920814,76.9190,-6.0650,908,   301.0,  1.2940, 34.9030,2, 34.9040,2,   301.3,2,   300.2,2,    6.16,2,   11.72,2,    0.00,2,    0.93,2,  2142.6,2,  2288.7,2,-999.000,9,-999.000,-999.0000,9, -999.00,9, -999.00,  1.2792,34.8080,   0.110,2,-999.000,9,-999.000,9, -999.00,9,-999.00,9, -999.00,9,128,1402
32L919920715,80,1,9,2,19920814,76.9190,-6.0650,908,   401.0,  0.6670, 34.8900,2, 34.8870,2,   301.4,2,   297.1,2,    6.44,2,   11.95,2,    0.00,2,    0.94,2,  2144.5,2,  2286.3,2,-999.000,9,-999.000,-999.0000,9, -999.00,9, -999.00,  0.6490,34.7900,   0.040,2,-999.000,9,-999.000,9, -999.00,9,-999.00,9, -999.00,9,128,1401
32L919920715,80,1,8,2,19920814,76.9190,-6.0650,908,   503.0,  0.3940, 34.8870,2, 34.8830,2,   300.6,2,   295.1,2,    6.77,2,   12.08,2,    0.00,2,    0.93,2,  2145.0,2,  2286.0,2,   1.890,2,   0.028,  1.8370,2,    3.60,2,    0.20,  0.3721,34.8010,   0.020,2,-999.000,9,-999.000,9, -999.00,9,-999.00,9, -999.00,9,128,1400
32L919920715,80,1,7,2,19920814,76.9190,-6.0650,908,   699.0,  0.1630, 34.8940,2, 34.8910,2,   304.1,2,   299.3,2,    6.53,2,   12.04,2,    0.00,2,    0.95,2,  2146.9,2,  2285.6,2,-999.000,9,-999.000,-999.0000,9, -999.00,9, -999.00,  0.1327,34.8080,   0.040,2,-999.000,9,-999.000,9, -999.00,9,-999.00,9, -999.00,9,128,1399
32L919920715,80,1,6,2,19920814,76.9190,-6.0650,908,   898.0, -0.0990, 34.9160,2, 34.9150,2,   306.1,2,   300.7,2,    6.79,2,   11.98,2,   -0.01,2,    0.96,2,  2148.1,2,  2288.5,2,   1.450,2,   0.022,  1.8530,2,    4.50,2,    0.20, -0.1376,34.8180,   0.040,2,-999.000,9,-999.000,9, -999.00,9,-999.00,9, -999.00,9,128,1398
32L919920715,81,1,4,2,19920814,76.8420,-5.5610,1471,     2.0, -1.4680, 31.4720,2,-999.0000,9,   377.4,2,   383.9,2,   10.20,2,    1.31,2,    0.04,2,    0.94,2,  -999.0,9,  -999.0,9,-999.000,9,-999.000,-999.0000,9, -999.00,9, -999.00, -1.4680,-999.0000,   0.120,2,-999.000,9,-999.000,9,    2.94,2,0.36,2,41100.00,2,129,1420
32L919920715,81,1,3,2,19920814,76.8420,-5.5610,1471,    10.0, -1.5350, 31.6810,2,-999.0000,9,   363.9,2,   366.7,2,   11.93,2,    3.13,2,    0.05,2,    1.03,2,  -999.0,9,  -999.0,9,-999.000,9,-999.000,-999.0000,9, -999.00,9, -999.00, -1.5352,-999.0000,   0.160,2,-999.000,9,-999.000,9,    1.94,2,0.36,2,55100.00,2,129,1419
32L919920715,81,1,2,2,19920814,76.8420,-5.5610,1471,   100.0, -0.6080, 34.4000,2,-999.0000,9,   300.9,2,   293.1,2,    8.29,2,   10.34,2,    0.02,2,    0.89,2,  -999.0,9,  -999.0,9,-999.000,9,-999.000,-999.0000,9, -999.00,9, -999.00, -0.6110,-999.0000,  -0.040,2,-999.000,9,-999.000,9,    0.02,2,0.08,2,13700.00,2,129,1418
32L919920715,81,1,1,2,19920814,76.8420,-5.5610,1471,   200.0,  2.1740, 34.9580,2,-999.0000,9,   295.4,2,   306.5,2,    5.17,2,   11.42,2,    0.02,2,    0.83,2,  -999.0,9,  -999.0,9,-999.000,9,-999.000,-999.0000,9, -999.00,9, -999.00,  2.1629,-999.0000,  -0.090,2,-999.000,9,-999.000,9,    0.02,2,0.09,2,47800.00,2,129,1417
32L919920715,81,1,12,2,19920814,76.8420,-5.5610,1471,   250.0,  1.5470, 34.9270,2, 34.9340,2,   297.1,2,   302.9,2,    5.62,2,   11.64,2,    0.02,2,    0.85,2,  -999.0,9,  -999.0,9,-999.000,9,-999.000,-999.0000,9, -999.00,9, -999.00,  1.5343,-999.0000,  -0.060,2,-999.000,9,-999.000,9, -999.00,9,-999.00,9,32600.00,2,129,1416
32L919920715,81,1,11,2,19920814,76.8420,-5.5610,1471,   301.0,  1.0910, 34.9040,2,-999.0000,9,   296.7,2,   300.2,2,    5.95,2,   11.75,2,    0.01,2,    0.87,2,  -999.0,9,  -999.0,9,-999.000,9,-999.000,-999.0000,9, -999.00,9, -999.00,  1.0767,-999.0000,  -0.080,2,-999.000,9,-999.000,9, -999.00,9,-999.00,9,15100.00,2,129,1415
32L919920715,81,1,10,2,19920814,76.8420,-5.5610,1471,   501.0,  0.3500, 34.8880,2,-999.0000,9,   295.3,2,   295.5,2,    6.65,2,   11.96,2,    0.01,2,    0.88,2,  -999.0,9,  -999.0,9,-999.000,9,-999.000,-999.0000,9, -999.00,9, -999.00,  0.3284,-999.0000,  -0.160,2,-999.000,9,-999.000,9, -999.00,9,-999.00,9,24100.00,2,129,1414
32L919920715,81,1,9,2,19920814,76.8420,-5.5610,1471,   701.0,  0.1830, 34.8940,2,-999.0000,9,   301.1,2,   296.1,2,    6.92,2,   12.10,2,    0.01,2,    0.91,2,  -999.0,9,  -999.0,9,-999.000,9,-999.000,-999.0000,9, -999.00,9, -999.00,  0.1525,-999.0000,  -0.130,2,-999.000,9,-999.000,9, -999.00,9,-999.00,9, 8830.00,2,129,1413
32L919920715,81,1,8,2,19920814,76.8420,-5.5610,1471,  1000.0, -0.0200, 34.9160,2,-999.0000,9,   302.3,2,   301.2,2,    6.59,2,   11.97,2,    0.01,2,    0.91,2,  -999.0,9,  -999.0,9,-999.000,9,-999.000,-999.0000,9, -999.00,9, -999.00, -0.0645,-999.0000,  -0.200,2,-999.000,9,-999.000,9, -999.00,9,-999.00,9, 7750.00,2,129,1412
32L919920715,81,1,7,2,19920814,76.8420,-5.5610,1471,  1201.0, -0.2730, 34.9250,2,-999.0000,9,   305.8,2,   303.1,2,    6.95,2,   12.16,2,    0.02,2,    0.92,2,  -999.0,9,  -999.0,9,-999.000,9,-999.000,-999.0000,9, -999.00,9, -999.00, -0.3261,-999.0000,  -0.210,2,-999.000,9,-999.000,9, -999.00,9,-999.00,9, 6130.00,2,129,1411
32L919920715,81,1,6,2,19920814,76.8420,-5.5610,1471,  1298.0, -0.3650, 34.9310,2,-999.0000,9,   308.1,2,   301.9,2,    7.42,2,   12.41,2,    0.01,2,    0.97,2,  -999.0,9,  -999.0,9,-999.000,9,-999.000,-999.0000,9, -999.00,9, -999.00, -0.4226,-999.0000,  -0.270,2,-999.000,9,-999.000,9, -999.00,9,-999.00,9, 4870.00,2,129,1410
32L919920715,81,1,5,2,19920814,76.8420,-5.5610,1471,  1461.0, -0.6460, 34.9410,2, 34.9320,2,   299.6,2,   300.2,2,    9.38,2,   13.34,2,    0.01,2,    1.00,2,  -999.0,9,  -999.0,9,-999.000,9,-999.000,-999.0000,9, -999.00,9, -999.00, -0.7096,-999.0000,  -0.300,2,-999.000,9,-999.000,9, -999.00,9,-999.00,9, 4330.00,2,129,1409