BOTTLE,20220816CCHSIOAMB
EXPOCODE,STNNBR,CASTNO,BTLNBR,BTLNBR_FLAG_W,DATE,LATITUDE,LONGITUDE,DEPTH,CTDPRS,CTDTMP,CTDSAL,CTDSAL_FLAG_W,SALNTY,SALNTY_FLAG_W,CTDOXY,CTDOXY_FLAG_W,OXYGEN,OXYGEN_FLAG_W,SILCAT,SILCAT_FLAG_W,NITRAT,NITRAT_FLAG_W,NITRIT,NITRIT_FLAG_W,PHSPHT,PHSPHT_FLAG_W,TCARBN,TCARBN_FLAG_W,ALKALI,ALKALI_FLAG_W,TRITUM,TRITUM_FLAG_W,TRITER,HELIUM,HELIUM_FLAG_W,DELHE3,DELHE3_FLAG_W,DELHER,THETA,SOMSAL,AMMONI,AMMONI_FLAG_W,POC,POC_FLAG_W,PON,PON_FLAG_W,CHLORA,CHLORA_FLAG_W,PHAEO,PHAEO_FLAG_W,BACT,BACT_FLAG_W,STNNBR_U,BNLID
,,,,,,,,METERS,DBAR,ITS-90,PSS-78,,PSS-78,,UMOL/KG,,UMOL/KG,,UMOL/KG,,UMOL/KG,,UMOL/KG,,UMOL/KG,,UMOL/KG,,UMOL/KG,,TU,,TU,NMOL/KG,,PERCNT,,PERCNT,DEG C,PSS-78,UMOL/KG,,UG/KG,,UG/KG,,UG/KG,,UG/L,,E8/L,,,
32L919920715,43,7,3,2,19920731,80.3080,-9.5580,325,     2.0,  1.0110, 31.6100,2,-999.0000,9,   359.7,2,  -999.0,9,    0.97,2,    0.03,2,    0.00,2,    0.73,2,  -999.0,9,  -999.0,9,-999.000,9,-999.000,-999.0000,9, -999.00,9, -999.00,  1.0109,-999.0000,   0.088,2,-999.000,9,-999.000,9, -999.00,9,-999.00,9, -999.00,9,71,771
32L919920715,43,7,4,2,19920731,80.3080,-9.5580,325,     2.0,  1.0090, 31.6090,2,-999.0000,9,   360.8,2,  -999.0,9,    0.99,2,    0.01,2,    0.00,2,    0.72,2,  -999.0,9,  -999.0,9,-999.000,9,-999.000,-999.0000,9, -999.00,9, -999.00,  1.0089,-999.0000,   0.068,2,-999.000,9,-999.000,9, -999.00,9,-999.00,9, -999.00,9,71,772
32L919920715,43,7,1,2,19920731,80.3080,-9.5580,325,    39.0, -1.5700, 32.3540,2,-999.0000,9,   370.4,2,  -999.0,9,    2.85,2,    1.59,2,    0.03,2,    1.04,2,  -999.0,9,  -999.0,9,-999.000,9,-999.000,-999.0000,9, -999.00,9, -999.00, -1.5707,-999.0000,   0.078,2,-999.000,9,-999.000,9, -999.00,9,-999.00,9, -999.00,9,71,769
32L919920715,43,7,2,2,19920731,80.3080,-9.5580,325,    39.0, -1.5630, 32.3530,2,-999.0000,9,   375.2,2,  -999.0,9,    3.83,2,    2.19,2,    0.03,2,    1.03,2,  -999.0,9,  -999.0,9,-999.000,9,-999.000,-999.0000,9, -999.00,9, -999.00, -1.5637,-999.0000,   0.078,2,-999.000,9,-999.000,9, -999.00,9,-999.00,9, -999.00,9,71,770
32L919920715,43,7,11,2,19920731,80.3080,-9.5580,325,    69.0, -1.7300, 32.3830,2,-999.0000,9,   361.3,2,  -999.0,9,    8.40,2,    3.85,2,    0.03,2,    1.13,2,  -999.0,9,  -999.0,9,-999.000,9,-999.000,-999.0000,9, -999.00,9, -999.00, -1.7311,-999.0000,   0.020,2,-999.000,9,-999.000,9, -999.00,9,-999.00,9, -999.00,9,71,767
32L919920715,43,7,12,2,19920731,80.3080,-9.5580,325,    69.0, -1.7240, 32.3790,2,-999.0000,9,   359.7,2,  -999.0,9,    8.68,2,    3.88,2,    0.03,2,    1.14,2,  -999.0,9,  -999.0,9,-999.000,9,-999.000,-999.0000,9, -999.00,9, -999.00, -1.7251,-999.0000,   0.039,2,-999.000,9,-999.000,9, -999.00,9,-999.00,9, -999.00,9,71,768
32L919920715,43,7,9,2,19920731,80.3080,-9.5580,325,   150.0, -0.7990, 33.9960,2,-999.0000,9,   304.1,2,  -999.0,9,   12.38,2,   12.14,2,    0.02,2,    1.15,2,  -999.0,9,  -999.0,9,-999.000,9,-999.000,-999.0000,9, -999.00,9, -999.00, -0.8033,-999.0000,   0.039,2,-999.000,9,-999.000,9, -999.00,9,-999.00,9, -999.00,9,71,765
32L919920715,43,7,10,2,19920731,80.3080,-9.5580,325,   151.0, -0.8040, 33.9960,2,-999.0000,9,   309.1,2,  -999.0,9,   11.94,2,   11.89,2,    0.02,2,    1.13,2,  -999.0,9,  -999.0,9,-999.000,9,-999.000,-999.0000,9, -999.00,9, -999.00, -0.8083,-999.0000,   0.020,2,-999.000,9,-999.000,9, -999.00,9,-999.00,9, -999.00,9,71,766
32L919920715,43,7,7,2,19920731,80.3080,-9.5580,325,   200.0,  0.3130, 34.6730,2,-999.0000,9,   291.8,2,  -999.0,9,    9.32,2,   14.54,2,    0.01,2,    1.02,2,  -999.0,9,  -999.0,9,-999.000,9,-999.000,-999.0000,9, -999.00,9, -999.00,  0.3051,-999.0000,   0.000,2,-999.000,9,-999.000,9, -999.00,9,-999.00,9, -999.00,9,71,763
32L919920715,43,7,8,2,19920731,80.3080,-9.5580,325,   201.0,  0.3210, 34.6760,2,-999.0000,9,   292.7,2,  -999.0,9,    9.32,2,   14.57,2,    0.01,2,    1.03,2,  -999.0,9,  -999.0,9,-999.000,9,-999.000,-999.0000,9, -999.00,9, -999.00,  0.3130,-999.0000,   0.029,2,-999.000,9,-999.000,9, -999.00,9,-999.00,9, -999.00,9,71,764
32L919920715,43,7,6,2,19920731,80.3080,-9.5580,325,   294.0,  0.4430, 34.8600,2,-999.0000,9,   290.7,2,  -999.0,9,    8.06,2,   14.60,2,    0.02,2,    1.03,2,  -999.0,9,  -999.0,9,-999.000,9,-999.000,-999.0000,9, -999.00,9, -999.00,  0.4307,-999.0000,   0.010,2,-999.000,9,-999.000,9, -999.00,9,-999.00,9, -999.00,9,71,762
32L919920715,43,7,5,2,19920731,80.3080,-9.5580,325,   295.0,  0.4430, 34.8590,2,-999.0000,9,   290.1,2,  -999.0,9,    8.19,2,   14.57,2,    0.03,2,    1.02,2,  -999.0,9,  -999.0,9,-999.000,9,-999.000,-999.0000,9, -999.00,9, -999.00,  0.4306,-999.0000,   0.010,2,-999.000,9,-999.000,9, -999.00,9,-999.00,9, -999.00,9,71,761
32L919920715,43,8,4,2,19920731,80.3080,-9.5580,325,     2.0,  0.4170, 31.2480,2,-999.0000,9,   402.1,2,   391.1,2,    2.05,2,    0.09,2,    0.01,2,    0.82,2,  -999.0,9,  -999.0,9,-999.000,9,-999.000,-999.0000,9, -999.00,9, -999.00,  0.4169,-999.0000,   0.029,2,-999.000,9,-999.000,9, -999.00,9,-999.00,9, -999.00,9,72,784
32L919920715,43,8,3,2,19920731,80.3080,-9.5580,325,    10.0,  0.4030, 31.2590,2,-999.0000,9,   395.1,2,   389.3,2,    5.39,2,    0.67,2,    0.02,2,    0.96,2,  -999.0,9,  -999.0,9,-999.000,9,-999.000,-999.0000,9, -999.00,9, -999.00,  0.4027,-999.0000,   0.078,2,-999.000,9,-999.000,9, -999.00,9,-999.00,9, -999.00,9,72,783
32L919920715,43,8,2,2,19920731,80.3080,-9.5580,325,    20.0, -1.5420, 31.7360,2,-999.0000,9,   393.0,2,   378.2,2,   10.16,2,    2.36,2,    0.04,2,    1.16,2,  -999.0,9,  -999.0,9,-999.000,9,-999.000,-999.0000,9, -999.00,9, -999.00, -1.5423,-999.0000,   0.127,2,-999.000,9,-999.000,9, -999.00,9,-999.00,9, -999.00,9,72,782
32L919920715,43,8,1,2,19920731,80.3080,-9.5580,325,    40.0, -1.5100, 32.1000,2, 32.1280,2,   369.4,2,   363.1,2,   11.80,2,    3.95,2,    0.04,2,    1.23,2,  -999.0,9,  -999.0,9,-999.000,9,-999.000,-999.0000,9, -999.00,9, -999.00, -1.5107,-999.0000,   0.146,2,-999.000,9,-999.000,9, -999.00,9,-999.00,9, -999.00,9,72,781
32L919920715,43,8,12,2,19920731,80.3080,-9.5580,325,    59.0, -1.4840, 32.2260,2,-999.0000,9,   363.5,2,   361.0,2,   10.32,2,    3.89,2,    0.04,2,    1.19,2,  -999.0,9,  -999.0,9,-999.000,9,-999.000,-999.0000,9, -999.00,9, -999.00, -1.4851,-999.0000,   0.185,2,-999.000,9,-999.000,9, -999.00,9,-999.00,9, -999.00,9,72,780
32L919920715,43,8,11,2,19920731,80.3080,-9.5580,325,    80.0, -1.5690, 32.5900,2,-999.0000,9,   350.7,2,   353.1,2,    9.72,2,    4.98,2,    0.06,2,    1.14,2,  -999.0,9,  -999.0,9,-999.000,9,-999.000,-999.0000,9, -999.00,9, -999.00, -1.5705,-999.0000,   0.088,2,-999.000,9,-999.000,9, -999.00,9,-999.00,9, -999.00,9,72,779
32L919920715,43,8,10,2,19920731,80.3080,-9.5580,325,   100.0, -1.3280, 32.9930,2,-999.0000,9,   327.8,2,   334.0,2,   10.69,2,    7.36,2,    0.09,2,    1.15,2,  -999.0,9,  -999.0,9,-999.000,9,-999.000,-999.0000,9, -999.00,9, -999.00, -1.3301,-999.0000,   0.078,2,-999.000,9,-999.000,9, -999.00,9,-999.00,9, -999.00,9,72,778
32L919920715,43,8,9,2,19920731,80.3080,-9.5580,325,   140.0, -0.7650, 34.1050,2,-999.0000,9,   297.7,2,   294.2,2,   12.31,2,   12.60,2,    0.01,2,    1.12,2,  -999.0,9,  -999.0,9,-999.000,9,-999.000,-999.0000,9, -999.00,9, -999.00, -0.7690,-999.0000,   0.020,2,-999.000,9,-999.000,9, -999.00,9,-999.00,9, -999.00,9,72,777
32L919920715,43,8,8,2,19920731,80.3080,-9.5580,325,   181.0,  0.1740, 34.5880,2,-999.0000,9,   287.4,2,   289.7,2,    9.21,2,   14.34,2,    0.01,2,    1.02,2,  -999.0,9,  -999.0,9,-999.000,9,-999.000,-999.0000,9, -999.00,9, -999.00,  0.1671,-999.0000,   0.107,2,-999.000,9,-999.000,9, -999.00,9,-999.00,9, -999.00,9,72,776
32L919920715,43,8,7,2,19920731,80.3080,-9.5580,325,   220.0,  0.3990, 34.7670,2,-999.0000,9,   287.4,2,   286.6,2,    9.01,2,   14.66,2,    0.01,2,    1.01,2,  -999.0,9,  -999.0,9,-999.000,9,-999.000,-999.0000,9, -999.00,9, -999.00,  0.3900,-999.0000,   0.000,2,-999.000,9,-999.000,9, -999.00,9,-999.00,9, -999.00,9,72,775
32L919920715,43,8,6,2,19920731,80.3080,-9.5580,325,   260.0,  0.4500, 34.8450,2,-999.0000,9,   289.5,2,   289.7,2,    7.78,2,   14.63,2,    0.01,2,    1.01,2,  -999.0,9,  -999.0,9,-999.000,9,-999.000,-999.0000,9, -999.00,9, -999.00,  0.4392,-999.0000,   0.000,2,-999.000,9,-999.000,9, -999.00,9,-999.00,9, -999.00,9,72,774
32L919920715,43,8,5,2,19920731,80.3080,-9.5580,325,   305.0,  0.4540, 34.8560,2, 34.8470,2,   289.2,2,   291.2,2,    7.64,2,   14.60,2,    0.01,2,    1.00,2,  -999.0,9,  -999.0,9,-999.000,9,-999.000,-999.0000,9, -999.00,9, -999.00,  0.4412,-999.0000,   0.020,2,-999.000,9,-999.000,9, -999.00,9,-999.00,9, -999.00,9,72,773
32L919920715,43,9,4,2,19920731,80.3080,-9.5580,325,     2.0,  0.2310, 31.0660,2,-999.0000,9,   397.5,2,   398.8,2, -999.00,9, -999.00,9, -999.00,9, -999.00,9,  -999.0,9,  -999.0,9,-999.000,9,-999.000,-999.0000,9, -999.00,9, -999.00,  0.2309,-999.0000,-999.000,9,-999.000,9,-999.000,9, -999.00,9,-999.00,9, -999.00,9,73,796
32L919920715,43,9,3,2,19920731,80.3080,-9.5580,325,    14.0,  1.1900, 31.7280,2,-999.0000,9,   417.4,2,  -999.0,9,    0.76,2,   -0.02,2,    0.00,2,    0.72,2,  -999.0,9,  -999.0,9,-999.000,9,-999.000,-999.0000,9, -999.00,9, -999.00,  1.1894,-999.0000,   0.020,2,-999.000,9,-999.000,9, -999.00,9,-999.00,9, -999.00,9,73,795
32L919920715,43,9,2,2,19920731,80.3080,-9.5580,325,    25.0, -0.4930, 32.1780,2,-999.0000,9,   448.6,2,  -999.0,9,    1.21,2,    0.02,2,    0.01,2,    0.78,2,  -999.0,9,  -999.0,9,-999.000,9,-999.000,-999.0000,9, -999.00,9, -999.00, -0.4937,-999.0000,   0.049,2,-999.000,9,-999.000,9, -999.00,9,-999.00,9, -999.00,9,73,794
32L919920715,43,9,1,2,19920731,80.3080,-9.5580,325,    39.0, -1.3890, 32.3380,2,-999.0000,9,   385.2,2,   378.6,2,    5.78,2,    2.22,2,    0.03,2,    1.00,2,  -999.0,9,  -999.0,9,-999.000,9,-999.000,-999.0000,9, -999.00,9, -999.00, -1.3897,-999.0000,   0.049,2,-999.000,9,-999.000,9, -999.00,9,-999.00,9, -999.00,9,73,793
32L919920715,43,9,12,2,19920731,80.3080,-9.5580,325,    45.0, -1.6140, 32.3680,2,-999.0000,9,   369.9,2,  -999.0,9,    8.99,2,    3.75,2,    0.02,2,    1.10,2,  -999.0,9,  -999.0,9,-999.000,9,-999.000,-999.0000,9, -999.00,9, -999.00, -1.6148,-999.0000,   0.049,2,-999.000,9,-999.000,9, -999.00,9,-999.00,9, -999.00,9,73,792
32L919920715,43,9,11,2,19920731,80.3080,-9.5580,325,    75.0, -1.7450, 32.3850,2,-999.0000,9,   364.3,2,  -999.0,9,   10.16,2,    4.09,2,    0.01,2,    1.11,2,  -999.0,9,  -999.0,9,-999.000,9,-999.000,-999.0000,9, -999.00,9, -999.00, -1.7462,-999.0000,   0.000,2,-999.000,9,-999.000,9, -999.00,9,-999.00,9, -999.00,9,73,791
32L919920715,43,9,10,2,19920731,80.3080,-9.5580,325,    99.0, -1.6040, 32.6480,2,-999.0000,9,   343.0,2,  -999.0,9,   10.75,2,    5.56,2,    0.04,2,    1.12,2,  -999.0,9,  -999.0,9,-999.000,9,-999.000,-999.0000,9, -999.00,9, -999.00, -1.6058,-999.0000,   0.098,2,-999.000,9,-999.000,9, -999.00,9,-999.00,9, -999.00,9,73,790
32L919920715,43,9,9,2,19920731,80.3080,-9.5580,325,   175.0, -0.1980, 34.4810,2,-999.0000,9,   291.4,2,  -999.0,9,   10.26,2,   13.74,2,    0.01,2,    1.00,2,  -999.0,9,  -999.0,9,-999.000,9,-999.000,-999.0000,9, -999.00,9, -999.00, -0.2041,-999.0000,   0.000,2,-999.000,9,-999.000,9, -999.00,9,-999.00,9, -999.00,9,73,789
32L919920715,43,9,7,2,19920731,80.3080,-9.5580,325,   250.0,  0.4180, 34.8080,2,-999.0000,9,   288.5,2,   287.5,2,    9.38,2,   14.73,2,    0.01,2,    1.01,2,  -999.0,9,  -999.0,9,-999.000,9,-999.000,-999.0000,9, -999.00,9, -999.00,  0.4077,-999.0000,   0.000,2,-999.000,9,-999.000,9, -999.00,9,-999.00,9, -999.00,9,73,787
32L919920715,43,9,8,2,19920731,80.3080,-9.5580,325,   250.0,  0.4120, 34.8050,2,-999.0000,9,   284.4,2,  -999.0,9,    9.47,2,   14.80,2,    0.01,2,    1.01,2,  -999.0,9,  -999.0,9,-999.000,9,-999.000,-999.0000,9, -999.00,9, -999.00,  0.4017,-999.0000,   0.039,2,-999.000,9,-999.000,9, -999.00,9,-999.00,9, -999.00,9,73,788
32L919920715,43,9,6,2,19920731,80.3080,-9.5580,325,   310.0,  0.4390, 34.8620,2,-999.0000,9,   282.1,2,  -999.0,9,    9.14,2,   14.72,2,    0.02,2,    1.02,2,  -999.0,9,  -999.0,9,-999.000,9,-999.000,-999.0000,9, -999.00,9, -999.00,  0.4260,-999.0000,   0.010,2,-999.000,9,-999.000,9, -999.00,9,-999.00,9, -999.00,9,73,786
32L919920715,43,10,4,2,19920731,80.3080,-9.5580,325,     2.0,  0.0450, 31.3800,2,-999.0000,9,   403.1,2,   395.4,2,    3.72,2,    0.32,2,    0.01,2,    0.85,2,  1996.2,2,  2165.8,2,-999.000,9,-999.000,-999.0000,9, -999.00,9, -999.00,  0.0449,31.3260,   0.078,2,   9.126,2,   1.478,2,    1.26,2,0.32,2,65200.00,2,74,808
32L919920715,43,10,3,2,19920731,80.3080,-9.5580,325,     5.0, -0.2010, 31.1540,2,-999.0000,9,   390.5,2,   394.8,2,    7.52,2,    0.86,2,    0.02,2,    1.00,2,  -999.0,9,  -999.0,9,-999.000,9,-999.000,-999.0000,9, -999.00,9, -999.00, -0.2011,-999.0000,   0.088,2,  12.330,2,   2.495,2,    1.76,2,0.18,2,66000.00,2,74,807
32L919920715,43,10,2,2,19920731,80.3080,-9.5580,325,     9.0, -1.3460, 31.7930,2,-999.0000,9,   420.9,2,   385.9,2,    9.88,2,    1.66,3,    0.03,2,    1.12,2,  -999.0,9,  -999.0,9,-999.000,9,-999.000,-999.0000,9, -999.00,9, -999.00, -1.3462,-999.0000,   0.127,2,   7.760,2,   1.309,2,    3.52,2,0.35,2,75900.00,2,74,806
32L919920715,43,10,1,2,19920731,80.3080,-9.5580,325,    14.0, -1.5240, 31.8230,2,-999.0000,9,   394.6,2,   386.4,2,    9.65,2,    1.62,2,    0.03,2,    1.11,2,  -999.0,9,  -999.0,9,-999.000,9,-999.000,-999.0000,9, -999.00,9, -999.00, -1.5242,-999.0000,   0.137,2,   7.328,2,   2.097,2,    2.17,2,0.35,2,92300.00,2,74,805
32L919920715,43,10,12,2,19920731,80.3080,-9.5580,325,    17.0, -1.3080, 31.7700,2,-999.0000,9,   385.9,2,   388.5,2,    9.20,2,    1.27,2,    0.03,2,    1.08,2,  2060.5,2,  2188.9,2,-999.000,9,-999.000,-999.0000,9, -999.00,9, -999.00, -1.3083,31.6800,   0.107,2,-999.000,9,-999.000,9,    2.70,2,1.43,2,97000.00,2,74,804
32L919920715,43,10,11,2,19920731,80.3080,-9.5580,325,    21.0, -1.5160, 31.8250,2,-999.0000,9,   390.0,2,   380.3,2,   10.69,2,    2.24,2,    0.04,2,    1.17,2,  -999.0,9,  -999.0,9,-999.000,9,-999.000,-999.0000,9, -999.00,9, -999.00, -1.5164,-999.0000,   0.117,2,   6.919,2,   2.387,2,    2.47,2,0.31,2,56000.00,2,74,803
32L919920715,43,10,10,2,19920731,80.3080,-9.5580,325,    34.0, -1.5330, 31.9660,2,-999.0000,9,   376.2,2,   376.3,2,   10.56,2,    2.94,2,    0.04,2,    1.17,2,  2073.4,2,  2201.3,2,-999.000,9,-999.000,-999.0000,9, -999.00,9, -999.00, -1.5336,31.9660,   0.127,2,   6.401,2,   2.213,2,    1.32,2,0.46,2,71000.00,2,74,802
32L919920715,43,10,9,2,19920731,80.3080,-9.5580,325,    50.0, -1.4730, 32.2420,2,-999.0000,9,   367.4,2,   368.7,2,    8.83,2,    2.98,2,    0.04,2,    1.14,2,  2095.1,2,  2216.1,2,-999.000,9,-999.000,-999.0000,9, -999.00,9, -999.00, -1.4739,32.1460,   0.263,2,   2.883,2,   1.139,2,    1.06,2,0.43,2,76800.00,2,74,801
32L919920715,43,10,8,2,19920731,80.3080,-9.5580,325,    80.0, -1.5580, 32.4260,2,-999.0000,9,   356.0,2,   360.2,2,    9.08,2,    3.87,2,    0.05,2,    1.14,2,  -999.0,9,  -999.0,9,-999.000,9,-999.000,-999.0000,9, -999.00,9, -999.00, -1.5594,-999.0000,   0.263,2,   3.406,2,   0.439,2,    0.55,2,0.65,2, -999.00,9,74,800
32L919920715,43,10,7,2,19920731,80.3080,-9.5580,325,   100.0, -1.3750, 32.8640,2,-999.0000,9,   339.8,2,   342.8,2,   10.75,2,    6.22,2,    0.07,2,    1.15,2,  2124.0,2,  2235.6,2,-999.000,9,-999.000,-999.0000,9, -999.00,9, -999.00, -1.3771,32.7450,   0.205,2,   0.880,2,   0.366,2,    0.22,2,0.25,2, -999.00,9,74,799
32L919920715,43,10,6,2,19920731,80.3080,-9.5580,325,   197.0,  0.2280, 34.6340,2, 34.6190,2,   292.8,2,   287.6,2,   10.05,2,   14.45,2,    0.00,2,    1.01,2,  2146.8,2,  2275.4,2,-999.000,9,-999.000,-999.0000,9, -999.00,9, -999.00,  0.2204,34.5390,   0.020,2,   0.655,2,-999.000,9, -999.00,9,-999.00,9, -999.00,9,74,798
32L919920715,43,10,5,2,19920731,80.3080,-9.5580,325,   313.0,  0.4460, 34.8610,2,-999.0000,9,   293.6,2,   289.2,2,    8.98,2,   14.71,2,    0.01,2,    1.00,2,  -999.0,9,  -999.0,9,-999.000,9,-999.000,-999.0000,9, -999.00,9, -999.00,  0.4328,-999.0000,   0.029,2,-999.000,9,-999.000,9, -999.00,9,-999.00,9, -999.00,9,74,797
32L919920715,43,11,5,2,19920731,80.3080,-9.5580,325,    17.0, -1.4900, 31.7870,2,-999.0000,9,   405.1,2,  -999.0,9,   10.00,2,    1.59,2,    0.04,2,    1.12,2,  -999.0,9,  -999.0,9,-999.000,9,-999.000,-999.0000,9, -999.00,9, -999.00, -1.4903,-999.0000,   0.166,2,   9.690,2,   1.688,2, -999.00,9,-999.00,9, -999.00,9,75,809
32L919920715,43,12,5,2,19920731,80.3080,-9.5580,325,     2.0,  0.2590, 31.0720,2,-999.0000,9,   412.2,2,  -999.0,9,    1.17,2,   -0.07,2,    0.00,2,    0.72,2,  -999.0,9,  -999.0,9,-999.000,9,-999.000,-999.0000,9, -999.00,9, -999.00,  0.2589,-999.0000,   0.020,2,-999.000,9,-999.000,9, -999.00,9,-999.00,9, -999.00,9,76,821
32L919920715,43,12,4,2,19920731,80.3080,-9.5580,325,    15.0,  1.0690, 31.9660,2,-999.0000,9,   410.9,2,  -999.0,9,    0.72,2,   -0.06,2,    0.00,2,    0.74,2,  -999.0,9,  -999.0,9,-999.000,9,-999.000,-999.0000,9, -999.00,9, -999.00,  1.0684,-999.0000,   0.029,2,-999.000,9,-999.000,9, -999.00,9,-999.00,9, -999.00,9,76,820
32L919920715,43,12,3,2,19920731,80.3080,-9.5580,325,    25.0, -0.8910, 32.2900,2,-999.0000,9,   391.7,2,  -999.0,9,    3.37,2,    0.99,2,    0.02,2,    0.95,2,  -999.0,9,  -999.0,9,-999.000,9,-999.000,-999.0000,9, -999.00,9, -999.00, -0.8916,-999.0000,   0.039,2,-999.000,9,-999.000,9, -999.00,9,-999.00,9, -999.00,9,76,819
32L919920715,43,12,2,2,19920731,80.3080,-9.5580,325,    50.0, -1.7240, 32.3780,2,-999.0000,9,   369.7,2,  -999.0,9,    9.28,2,    3.53,2,    0.01,2,    1.13,2,  -999.0,9,  -999.0,9,-999.000,9,-999.000,-999.0000,9, -999.00,9, -999.00, -1.7248,-999.0000,   0.029,2,-999.000,9,-999.000,9, -999.00,9,-999.00,9, -999.00,9,76,818
32L919920715,43,12,1,2,19920731,80.3080,-9.5580,325,    79.0, -1.7480, 32.4250,2,-999.0000,9,   359.4,2,  -999.0,9,    9.67,2,    4.07,2,    0.01,2,    1.12,2,  -999.0,9,  -999.0,9,-999.000,9,-999.000,-999.0000,9, -999.00,9, -999.00, -1.7493,-999.0000,   0.000,2,-999.000,9,-999.000,9, -999.00,9,-999.00,9, -999.00,9,76,817
32L919920715,43,12,12,2,19920731,80.3080,-9.5580,325,   100.0, -1.6120, 32.7390,2,-999.0000,9,   346.3,2,  -999.0,9,    9.93,2,    5.39,2,    0.05,2,    1.11,2,  -999.0,9,  -999.0,9,-999.000,9,-999.000,-999.0000,9, -999.00,9, -999.00, -1.6138,-999.0000,   0.000,2,-999.000,9,-999.000,9, -999.00,9,-999.00,9, -999.00,9,76,816
32L919920715,43,12,11,2,19920731,80.3080,-9.5580,325,   150.0, -0.6410, 34.0850,2,-999.0000,9,   305.4,2,  -999.0,9,    9.40,2,   11.08,2,    0.03,2,    1.00,2,  -999.0,9,  -999.0,9,-999.000,9,-999.000,-999.0000,9, -999.00,9, -999.00, -0.6455,-999.0000,  -0.010,2,-999.000,9,-999.000,9, -999.00,9,-999.00,9, -999.00,9,76,815
32L919920715,43,12,10,2,19920731,80.3080,-9.5580,325,   200.0,  0.2780, 34.6440,2,-999.0000,9,   285.9,2,  -999.0,9,    8.83,2,   12.76,2,    0.01,2,    1.00,2,  -999.0,9,  -999.0,9,-999.000,9,-999.000,-999.0000,9, -999.00,9, -999.00,  0.2701,-999.0000,   0.010,2,-999.000,9,-999.000,9, -999.00,9,-999.00,9, -999.00,9,76,814
32L919920715,43,12,9,2,19920731,80.3080,-9.5580,325,   250.0,  0.4200, 34.8120,2,-999.0000,9,   293.3,2,  -999.0,9,    8.63,2,   13.02,2,    0.01,2,    1.00,2,  -999.0,9,  -999.0,9,-999.000,9,-999.000,-999.0000,9, -999.00,9, -999.00,  0.4097,-999.0000,   0.020,2,-999.000,9,-999.000,9, -999.00,9,-999.00,9, -999.00,9,76,813
32L919920715,43,12,7,2,19920731,80.3080,-9.5580,325,   310.0,  0.4390, 34.8630,2,-999.0000,9,   287.5,2,  -999.0,9,    8.45,2,   13.12,2,    0.02,2,    1.00,2,  -999.0,9,  -999.0,9,-999.000,9,-999.000,-999.0000,9, -999.00,9, -999.00,  0.4260,-999.0000,   0.029,2,-999.000,9,-999.000,9, -999.00,9,-999.00,9, -999.00,9,76,811
32L919920715,43,12,6,2,19920731,80.3080,-9.5580,325,   315.0,  0.4380, 34.8630,2,-999.0000,9,   291.7,2,  -999.0,9,    8.43,2,   13.47,2,    0.02,2,    1.00,2,  -999.0,9,  -999.0,9,-999.000,9,-999.000,-999.0000,9, -999.00,9, -999.00,  0.4247,-999.0000,   0.029,2,-999.000,9,-999.000,9, -999.00,9,-999.00,9, -999.00,9,76,810