BOTTLE,20220816CCHSIOAMB
EXPOCODE,STNNBR,CASTNO,BTLNBR,BTLNBR_FLAG_W,DATE,LATITUDE,LONGITUDE,DEPTH,CTDPRS,CTDTMP,CTDSAL,CTDSAL_FLAG_W,SALNTY,SALNTY_FLAG_W,CTDOXY,CTDOXY_FLAG_W,OXYGEN,OXYGEN_FLAG_W,SILCAT,SILCAT_FLAG_W,NITRAT,NITRAT_FLAG_W,NITRIT,NITRIT_FLAG_W,PHSPHT,PHSPHT_FLAG_W,TCARBN,TCARBN_FLAG_W,ALKALI,ALKALI_FLAG_W,TRITUM,TRITUM_FLAG_W,TRITER,HELIUM,HELIUM_FLAG_W,DELHE3,DELHE3_FLAG_W,DELHER,THETA,SOMSAL,AMMONI,AMMONI_FLAG_W,POC,POC_FLAG_W,PON,PON_FLAG_W,CHLORA,CHLORA_FLAG_W,PHAEO,PHAEO_FLAG_W,BACT,BACT_FLAG_W,STNNBR_U,BNLID
,,,,,,,,METERS,DBAR,ITS-90,PSS-78,,PSS-78,,UMOL/KG,,UMOL/KG,,UMOL/KG,,UMOL/KG,,UMOL/KG,,UMOL/KG,,UMOL/KG,,UMOL/KG,,TU,,TU,NMOL/KG,,PERCNT,,PERCNT,DEG C,PSS-78,UMOL/KG,,UG/KG,,UG/KG,,UG/KG,,UG/L,,E8/L,,,
32L919920715,63,2,5,2,19920809,79.1550,-13.7880,151,     2.0, -1.2970, 31.7020,2,-999.0000,9,   377.9,2,  -999.0,9, -999.00,9, -999.00,9, -999.00,9, -999.00,9,  -999.0,9,  -999.0,9,-999.000,9,-999.000,-999.0000,9, -999.00,9, -999.00, -1.2970,-999.0000,-999.000,9,-999.000,9,-999.000,9, -999.00,9,-999.00,9, -999.00,9,102,1109
32L919920715,63,2,4,2,19920809,79.1550,-13.7880,151,    25.0, -1.7090, 32.1080,2,-999.0000,9,   361.1,2,  -999.0,9, -999.00,9, -999.00,9, -999.00,9, -999.00,9,  -999.0,9,  -999.0,9,-999.000,9,-999.000,-999.0000,9, -999.00,9, -999.00, -1.7094,-999.0000,-999.000,9,-999.000,9,-999.000,9, -999.00,9,-999.00,9, -999.00,9,102,1108
32L919920715,63,2,3,2,19920809,79.1550,-13.7880,151,    50.0, -1.7110, 32.3180,2,-999.0000,9,   362.8,2,  -999.0,9, -999.00,9, -999.00,9, -999.00,9, -999.00,9,  -999.0,9,  -999.0,9,-999.000,9,-999.000,-999.0000,9, -999.00,9, -999.00, -1.7118,-999.0000,-999.000,9,-999.000,9,-999.000,9, -999.00,9,-999.00,9, -999.00,9,102,1107
32L919920715,63,2,2,2,19920809,79.1550,-13.7880,151,    89.0, -1.7110, 32.5240,2,-999.0000,9,   352.8,2,  -999.0,9, -999.00,9, -999.00,9, -999.00,9, -999.00,9,  -999.0,9,  -999.0,9,-999.000,9,-999.000,-999.0000,9, -999.00,9, -999.00, -1.7125,-999.0000,-999.000,9,-999.000,9,-999.000,9, -999.00,9,-999.00,9, -999.00,9,102,1106
32L919920715,63,2,1,2,19920809,79.1550,-13.7880,151,    95.0, -1.6710, 32.5790,2,-999.0000,9,   345.3,2,  -999.0,9, -999.00,9, -999.00,9, -999.00,9, -999.00,9,  -999.0,9,  -999.0,9,-999.000,9,-999.000,-999.0000,9, -999.00,9, -999.00, -1.6727,-999.0000,-999.000,9,-999.000,9,-999.000,9, -999.00,9,-999.00,9, -999.00,9,102,1105
32L919920715,63,2,12,2,19920809,79.1550,-13.7880,151,   100.0, -1.6340, 32.6840,2,-999.0000,9,   342.8,2,  -999.0,9, -999.00,9, -999.00,9, -999.00,9, -999.00,9,  -999.0,9,  -999.0,9,-999.000,9,-999.000,-999.0000,9, -999.00,9, -999.00, -1.6358,-999.0000,-999.000,9,-999.000,9,-999.000,9, -999.00,9,-999.00,9, -999.00,9,102,1104
32L919920715,63,2,11,2,19920809,79.1550,-13.7880,151,   105.0, -1.4200, 32.9210,2,-999.0000,9,   340.8,2,  -999.0,9, -999.00,9, -999.00,9, -999.00,9, -999.00,9,  -999.0,9,  -999.0,9,-999.000,9,-999.000,-999.0000,9, -999.00,9, -999.00, -1.4222,-999.0000,-999.000,9,-999.000,9,-999.000,9, -999.00,9,-999.00,9, -999.00,9,102,1103
32L919920715,63,2,10,2,19920809,79.1550,-13.7880,151,   110.0, -1.3810, 32.9760,2,-999.0000,9,   336.3,2,  -999.0,9, -999.00,9, -999.00,9, -999.00,9, -999.00,9,  -999.0,9,  -999.0,9,-999.000,9,-999.000,-999.0000,9, -999.00,9, -999.00, -1.3833,-999.0000,-999.000,9,-999.000,9,-999.000,9, -999.00,9,-999.00,9, -999.00,9,102,1102
32L919920715,63,2,9,2,19920809,79.1550,-13.7880,151,   113.0, -1.3120, 33.0980,2,-999.0000,9,   327.3,2,  -999.0,9, -999.00,9, -999.00,9, -999.00,9, -999.00,9,  -999.0,9,  -999.0,9,-999.000,9,-999.000,-999.0000,9, -999.00,9, -999.00, -1.3145,-999.0000,-999.000,9,-999.000,9,-999.000,9, -999.00,9,-999.00,9, -999.00,9,102,1101
32L919920715,63,2,7,2,19920809,79.1550,-13.7880,151,   117.0, -1.2390, 33.1900,2,-999.0000,9,   319.4,2,  -999.0,9, -999.00,9, -999.00,9, -999.00,9, -999.00,9,  -999.0,9,  -999.0,9,-999.000,9,-999.000,-999.0000,9, -999.00,9, -999.00, -1.2417,-999.0000,-999.000,9,-999.000,9,-999.000,9, -999.00,9,-999.00,9, -999.00,9,102,1099
32L919920715,63,2,8,2,19920809,79.1550,-13.7880,151,   117.0, -1.2350, 33.2030,2,-999.0000,9,   329.4,2,  -999.0,9, -999.00,9, -999.00,9, -999.00,9, -999.00,9,  -999.0,9,  -999.0,9,-999.000,9,-999.000,-999.0000,9, -999.00,9, -999.00, -1.2377,-999.0000,-999.000,9,-999.000,9,-999.000,9, -999.00,9,-999.00,9, -999.00,9,102,1100
32L919920715,63,2,6,2,19920809,79.1550,-13.7880,151,   122.0, -1.1900, 33.2700,2,-999.0000,9,   313.6,2,  -999.0,9, -999.00,9, -999.00,9, -999.00,9, -999.00,9,  -999.0,9,  -999.0,9,-999.000,9,-999.000,-999.0000,9, -999.00,9, -999.00, -1.1929,-999.0000,-999.000,9,-999.000,9,-999.000,9, -999.00,9,-999.00,9, -999.00,9,102,1098
32L919920715,64,1,5,2,19920809,79.0170,-12.0170,228,     3.0, -1.3880, 31.2520,2, 24.6510,2,   386.5,2,   412.3,2,    1.13,2,    0.01,2,    0.00,2,    0.30,2,  1766.6,3,  1890.6,3,-999.000,9,-999.000,-999.0000,9, -999.00,9, -999.00, -1.3880,27.3320,   0.088,2,   9.382,2,   0.901,2,    0.56,2,0.06,2,63600.00,2,103,1121
32L919920715,64,1,4,2,19920809,79.0170,-12.0170,228,     4.0, -1.4830, 31.4290,2, 31.4230,2,   330.0,3,   415.7,2,    0.28,3,   -0.01,3,    0.03,2,    0.60,2,  -999.0,9,  -999.0,9,-999.000,9,-999.000,-999.0000,9, -999.00,9, -999.00, -1.4831,-999.0000,   0.068,2,  11.550,2,   1.173,2,    0.94,2,0.13,2,87000.00,2,103,1120
32L919920715,64,1,3,2,19920809,79.0170,-12.0170,228,     6.0, -1.5010, 31.4850,2, 31.4660,2,   392.6,2,   416.6,2,    0.34,2,   -0.01,2,    0.03,2,    0.93,2,  -999.0,9,  -999.0,9,-999.000,9,-999.000,-999.0000,9, -999.00,9, -999.00, -1.5011,-999.0000,   0.068,2,  13.165,2,   1.241,2,    1.70,2,0.04,2,61100.00,2,103,1119
32L919920715,64,1,2,2,19920809,79.0170,-12.0170,228,    11.0, -1.4800, 31.4990,2, 31.4910,2,   397.5,2,   414.1,2,    0.49,2,    0.02,2,    0.02,2,    0.94,2,  -999.0,9,  -999.0,9,-999.000,9,-999.000,-999.0000,9, -999.00,9, -999.00, -1.4802,-999.0000,   0.068,2,  11.786,2,   1.137,2,    2.00,2,0.07,2,74400.00,2,103,1118
32L919920715,64,1,1,2,19920809,79.0170,-12.0170,228,    18.0, -1.5090, 31.5520,2, 31.5810,2,   398.1,2,   411.8,2,    0.85,2,    0.17,2,    0.02,2,    0.95,2,  -999.0,9,  -999.0,9,-999.000,9,-999.000,-999.0000,9, -999.00,9, -999.00, -1.5093,-999.0000,   0.078,2,  11.747,2,   1.533,2,    2.38,2,0.21,2,55700.00,2,103,1117
32L919920715,64,1,11,2,19920809,79.0170,-12.0170,228,    27.0, -1.5220, 31.9970,2, 31.9530,2,   372.7,2,   370.9,2,   11.56,2,    3.61,2,    0.10,2,    0.97,2,  2088.7,2,  2199.7,2,-999.000,9,-999.000,-999.0000,9, -999.00,9, -999.00, -1.5225,31.8780,   0.302,2,-999.000,9,-999.000,9, -999.00,9,-999.00,9,60600.00,2,103,1115
32L919920715,64,1,12,2,19920809,79.0170,-12.0170,228,    27.0, -1.4990, 31.9140,2, 31.8930,2,   330.9,3,   376.0,2,   10.19,2,    3.02,2,    0.09,2,    0.99,2,  -999.0,9,  -999.0,9,-999.000,9,-999.000,-999.0000,9, -999.00,9, -999.00, -1.4995,-999.0000,   0.302,2,   6.824,2,   0.484,2,    1.14,2,0.21,2,48500.00,2,103,1116
32L919920715,64,1,10,2,19920809,79.0170,-12.0170,228,    41.0, -1.6270, 32.1390,2, 32.1490,2,   368.0,2,   374.1,2,   11.32,2,    4.04,2,    0.14,2,    1.04,2,  2098.9,2,  2210.1,2,-999.000,9,-999.000,-999.0000,9, -999.00,9, -999.00, -1.6277,32.0680,   0.205,2,   0.116,2,   0.100,2,    0.19,2,0.26,2,83600.00,2,103,1114
32L919920715,64,1,9,2,19920809,79.0170,-12.0170,228,    99.0, -1.5860, 32.9060,2, 32.9440,2,   342.8,2,   341.8,2,   11.73,2,    7.37,2,    0.03,2,    1.00,2,  2138.2,2,  2244.0,2,-999.000,9,-999.000,-999.0000,9, -999.00,9, -999.00, -1.5879,32.8520,   0.049,2,   2.801,2,   0.073,2,    0.05,2,0.12,2, -999.00,9,103,1113
32L919920715,64,1,8,2,19920809,79.0170,-12.0170,228,   150.0, -0.6730, 33.9980,2, 34.0020,2,   307.7,2,   302.7,2,   10.49,2,   11.54,2,    0.03,2,    1.00,2,  2142.1,2,  2259.8,2,-999.000,9,-999.000,-999.0000,9, -999.00,9, -999.00, -0.6774,33.9200,   0.078,2,   0.954,2,   0.041,2,    0.05,2,0.08,2, -999.00,9,103,1112
32L919920715,64,1,7,2,19920809,79.0170,-12.0170,228,   199.0, -0.1300, 34.4470,2, 34.4450,2,   277.2,2,   280.7,2,   12.09,2,   13.40,2,    0.03,2,    1.00,2,  2152.1,2,  2270.4,2,-999.000,9,-999.000,-999.0000,9, -999.00,9, -999.00, -0.1371,34.3530,   0.117,2,   2.739,2,   0.099,2,    0.03,2,0.07,2, -999.00,9,103,1111
32L919920715,64,1,6,2,19920809,79.0170,-12.0170,228,   215.0, -0.0710, 34.4950,2, 34.4320,2,   267.5,2,   287.4,2,   11.96,2,   13.28,2,    0.03,2,    1.03,2,  -999.0,9,  -999.0,9,-999.000,9,-999.000,-999.0000,9, -999.00,9, -999.00, -0.0788,-999.0000,   0.000,2,-999.000,9,-999.000,9, -999.00,9,-999.00,9, -999.00,9,103,1110
32L919920715,64,2,5,2,19920809,79.0170,-12.0170,228,     2.0, -1.4900, 31.4350,2,-999.0000,9,   386.3,2,  -999.0,9,    0.26,2,   -0.01,2,    0.01,2,    0.83,2,  -999.0,9,  -999.0,9,-999.000,9,-999.000,-999.0000,9, -999.00,9, -999.00, -1.4900,-999.0000,   0.010,2,-999.000,9,-999.000,9, -999.00,9,-999.00,9, -999.00,9,104,1133
32L919920715,64,2,4,2,19920809,79.0170,-12.0170,228,    10.0, -1.4810, 31.4820,2,-999.0000,9,   392.5,2,  -999.0,9,    1.00,2,    0.18,2,    0.02,2,    0.97,2,  -999.0,9,  -999.0,9,-999.000,9,-999.000,-999.0000,9, -999.00,9, -999.00, -1.4812,-999.0000,   0.020,2,-999.000,9,-999.000,9, -999.00,9,-999.00,9, -999.00,9,104,1132
32L919920715,64,2,3,2,19920809,79.0170,-12.0170,228,    25.0, -1.4820, 31.8300,2,-999.0000,9,   363.0,2,  -999.0,9,   10.48,2,    3.46,2,    0.10,2,    1.35,2,  -999.0,9,  -999.0,9,-999.000,9,-999.000,-999.0000,9, -999.00,9, -999.00, -1.4824,-999.0000,   0.234,2,-999.000,9,-999.000,9, -999.00,9,-999.00,9, -999.00,9,104,1131
32L919920715,64,2,2,2,19920809,79.0170,-12.0170,228,    75.0, -1.7050, 32.5020,2,-999.0000,9,   361.3,2,  -999.0,9,   10.92,2,    5.39,2,    0.04,2,    1.35,2,  -999.0,9,  -999.0,9,-999.000,9,-999.000,-999.0000,9, -999.00,9, -999.00, -1.7063,-999.0000,   0.020,2,-999.000,9,-999.000,9, -999.00,9,-999.00,9, -999.00,9,104,1130
32L919920715,64,2,1,2,19920809,79.0170,-12.0170,228,    80.0, -1.6630, 32.6000,2,-999.0000,9,   353.6,2,  -999.0,9,   11.41,2,    5.98,2,    0.04,2,    1.23,2,  -999.0,9,  -999.0,9,-999.000,9,-999.000,-999.0000,9, -999.00,9, -999.00, -1.6644,-999.0000,   0.029,2,-999.000,9,-999.000,9, -999.00,9,-999.00,9, -999.00,9,104,1129
32L919920715,64,2,12,2,19920809,79.0170,-12.0170,228,    90.0, -1.6020, 32.8350,2,-999.0000,9,   345.2,2,  -999.0,9,   11.59,2,    6.91,2,    0.03,2,    0.94,2,  -999.0,9,  -999.0,9,-999.000,9,-999.000,-999.0000,9, -999.00,9, -999.00, -1.6037,-999.0000,   0.020,2,-999.000,9,-999.000,9, -999.00,9,-999.00,9, -999.00,9,104,1128
32L919920715,64,2,11,2,19920809,79.0170,-12.0170,228,   100.0, -1.5680, 32.9600,2,-999.0000,9,   344.5,2,  -999.0,9,   11.40,2,    7.39,2,    0.03,2,    0.92,2,  -999.0,9,  -999.0,9,-999.000,9,-999.000,-999.0000,9, -999.00,9, -999.00, -1.5699,-999.0000,   0.010,2,-999.000,9,-999.000,9, -999.00,9,-999.00,9, -999.00,9,104,1127
32L919920715,64,2,10,2,19920809,79.0170,-12.0170,228,   125.0, -1.1890, 33.4710,2,-999.0000,9,   322.5,2,  -999.0,9,   10.66,2,    9.65,2,    0.03,2,    0.82,2,  -999.0,9,  -999.0,9,-999.000,9,-999.000,-999.0000,9, -999.00,9, -999.00, -1.1920,-999.0000,   0.010,2,-999.000,9,-999.000,9, -999.00,9,-999.00,9, -999.00,9,104,1126
32L919920715,64,2,9,2,19920809,79.0170,-12.0170,228,   149.0, -0.9450, 33.9290,2,-999.0000,9,   313.7,2,  -999.0,9,    9.10,2,   10.56,2,    0.03,2,    0.81,2,  -999.0,9,  -999.0,9,-999.000,9,-999.000,-999.0000,9, -999.00,9, -999.00, -0.9490,-999.0000,   0.010,2,-999.000,9,-999.000,9, -999.00,9,-999.00,9, -999.00,9,104,1125
32L919920715,64,2,8,2,19920809,79.0170,-12.0170,228,   175.0, -0.8020, 34.2530,2,-999.0000,9,   305.2,2,  -999.0,9,    8.35,2,   11.64,2,    0.03,2,    1.00,2,  -999.0,9,  -999.0,9,-999.000,9,-999.000,-999.0000,9, -999.00,9, -999.00, -0.8071,-999.0000,   0.010,2,-999.000,9,-999.000,9, -999.00,9,-999.00,9, -999.00,9,104,1124
32L919920715,64,2,7,2,19920809,79.0170,-12.0170,228,   214.0, -0.0700, 34.4910,2,-999.0000,9,   278.9,2,  -999.0,9,   12.05,2,   13.47,2,    0.03,2,    1.33,2,  -999.0,9,  -999.0,9,-999.000,9,-999.000,-999.0000,9, -999.00,9, -999.00, -0.0778,-999.0000,   0.020,2,-999.000,9,-999.000,9, -999.00,9,-999.00,9, -999.00,9,104,1123
32L919920715,64,2,6,2,19920809,79.0170,-12.0170,228,   218.0, -0.0480, 34.5080,2,-999.0000,9,   282.7,2,  -999.0,9,   12.00,2,   13.32,2,    0.03,2,    1.34,2,  -999.0,9,  -999.0,9,-999.000,9,-999.000,-999.0000,9, -999.00,9, -999.00, -0.0560,-999.0000,   0.020,2,-999.000,9,-999.000,9, -999.00,9,-999.00,9, -999.00,9,104,1122
32L919920715,64,3,5,2,19920809,79.0170,-12.0170,228,     2.0, -1.3770, 31.3570,2,-999.0000,9,   389.0,2,  -999.0,9,    0.31,2,    0.05,2,    0.02,2,    0.77,2,  -999.0,9,  -999.0,9,-999.000,9,-999.000,-999.0000,9, -999.00,9, -999.00, -1.3770,-999.0000,   0.029,2,-999.000,9,-999.000,9, -999.00,9,-999.00,9, -999.00,9,105,1145
32L919920715,64,3,6,2,19920809,79.0170,-12.0170,228,     2.0, -1.3460, 31.3170,2, 29.6790,2,   346.6,2,  -999.0,9,    0.57,2,    0.01,2,    0.02,2,    0.74,2,  -999.0,9,  -999.0,9,-999.000,9,-999.000,-999.0000,9, -999.00,9, -999.00, -1.3460,-999.0000,   0.020,2,-999.000,9,-999.000,9, -999.00,9,-999.00,9, -999.00,9,105,1146
32L919920715,64,3,3,2,19920809,79.0170,-12.0170,228,     9.0, -1.4860, 31.4540,2,-999.0000,9,   400.7,2,  -999.0,9,    0.44,2,    0.06,2,    0.01,2,    0.90,2,  -999.0,9,  -999.0,9,-999.000,9,-999.000,-999.0000,9, -999.00,9, -999.00, -1.4861,-999.0000,   0.029,2,-999.000,9,-999.000,9, -999.00,9,-999.00,9, -999.00,9,105,1143
32L919920715,64,3,4,2,19920809,79.0170,-12.0170,228,     9.0, -1.4720, 31.4330,2, 31.5120,2,   393.5,2,  -999.0,9,    1.00,2,    0.07,2,    0.02,2,    0.80,2,  -999.0,9,  -999.0,9,-999.000,9,-999.000,-999.0000,9, -999.00,9, -999.00, -1.4721,-999.0000,   0.020,2,-999.000,9,-999.000,9, -999.00,9,-999.00,9, -999.00,9,105,1144
32L919920715,64,3,1,2,19920809,79.0170,-12.0170,228,    20.0, -1.4850, 31.6910,2,-999.0000,9,   385.4,2,  -999.0,9,    5.33,2,    1.23,2,    0.04,2,    1.00,2,  -999.0,9,  -999.0,9,-999.000,9,-999.000,-999.0000,9, -999.00,9, -999.00, -1.4853,-999.0000,   0.117,2,-999.000,9,-999.000,9, -999.00,9,-999.00,9, -999.00,9,105,1141
32L919920715,64,3,2,2,19920809,79.0170,-12.0170,228,    20.0, -1.4850, 31.6610,2, 31.7150,2,   385.5,2,  -999.0,9,    4.90,2,    1.03,2,    0.04,2,    1.04,2,  -999.0,9,  -999.0,9,-999.000,9,-999.000,-999.0000,9, -999.00,9, -999.00, -1.4853,-999.0000,   0.107,2,-999.000,9,-999.000,9, -999.00,9,-999.00,9, -999.00,9,105,1142
32L919920715,64,3,11,2,19920809,79.0170,-12.0170,228,    50.0, -1.6470, 32.1900,2,-999.0000,9,   330.2,2,  -999.0,9,   11.03,2,    4.39,2,    0.14,2,    1.18,2,  -999.0,9,  -999.0,9,-999.000,9,-999.000,-999.0000,9, -999.00,9, -999.00, -1.6478,-999.0000,   0.117,2,-999.000,9,-999.000,9, -999.00,9,-999.00,9, -999.00,9,105,1139
32L919920715,64,3,12,2,19920809,79.0170,-12.0170,228,    50.0, -1.6450, 32.1840,2, 32.2250,2,   304.5,3,  -999.0,9,   11.01,2,    4.35,3,    0.14,2,    1.11,2,  -999.0,9,  -999.0,9,-999.000,9,-999.000,-999.0000,9, -999.00,9, -999.00, -1.6458,-999.0000,   0.127,2,-999.000,9,-999.000,9, -999.00,9,-999.00,9, -999.00,9,105,1140
32L919920715,64,3,9,2,19920809,79.0170,-12.0170,228,   100.0, -1.5790, 32.9230,2,-999.0000,9,   333.5,2,  -999.0,9,   11.52,2,    7.39,2,    0.03,2,    1.07,2,  -999.0,9,  -999.0,9,-999.000,9,-999.000,-999.0000,9, -999.00,9, -999.00, -1.5809,-999.0000,   0.000,2,-999.000,9,-999.000,9, -999.00,9,-999.00,9, -999.00,9,105,1137
32L919920715,64,3,10,2,19920809,79.0170,-12.0170,228,   100.0, -1.5820, 32.8980,2, 32.9380,2,   323.7,2,  -999.0,9,   11.52,2,    7.30,2,    0.03,2,    1.11,2,  -999.0,9,  -999.0,9,-999.000,9,-999.000,-999.0000,9, -999.00,9, -999.00, -1.5839,-999.0000,   0.000,2,-999.000,9,-999.000,9, -999.00,9,-999.00,9, -999.00,9,105,1138
32L919920715,64,3,7,2,19920809,79.0170,-12.0170,228,   175.0, -0.3210, 34.2770,2,-999.0000,9,   243.4,4,  -999.0,9,   11.26,2,   12.56,2,    0.02,2,    1.06,2,  -999.0,9,  -999.0,9,-999.000,9,-999.000,-999.0000,9, -999.00,9, -999.00, -0.3268,-999.0000,   0.010,2,-999.000,9,-999.000,9, -999.00,9,-999.00,9, -999.00,9,105,1135
32L919920715,64,3,8,2,19920809,79.0170,-12.0170,228,   175.0, -0.3210, 34.2790,2, 34.2680,2,   228.5,4,  -999.0,9,   11.35,2,   12.64,2,    0.02,2,    1.00,2,  -999.0,9,  -999.0,9,-999.000,9,-999.000,-999.0000,9, -999.00,9, -999.00, -0.3268,-999.0000,   0.000,2,-999.000,9,-999.000,9, -999.00,9,-999.00,9, -999.00,9,105,1136
32L919920715,65,1,3,2,19920810,78.3140,-16.7650,524,     2.0, -1.3770, 31.5780,2, 31.3520,2,   360.3,2,   373.9,2,   10.83,2,    3.30,2,    0.06,2,    0.95,2,  -999.0,9,  -999.0,9,-999.000,9,-999.000,-999.0000,9, -999.00,9, -999.00, -1.3770,-999.0000,   0.137,2,   5.117,2,   0.481,2,    0.35,2,0.10,2,51500.00,2,106,1155
32L919920715,65,1,2,2,19920810,78.3140,-16.7650,524,     9.0, -1.4900, 31.8800,2, 31.8870,2,   353.2,2,   372.7,2,   10.99,2,    3.45,2,    0.07,2,    1.05,2,  -999.0,9,  -999.0,9,-999.000,9,-999.000,-999.0000,9, -999.00,9, -999.00, -1.4902,-999.0000,   0.107,2,   4.696,2,   0.575,2,    0.14,2,0.10,2,54600.00,2,106,1154
32L919920715,65,1,12,2,19920810,78.3140,-16.7650,524,    16.0, -1.6020, 32.0340,2, 32.0400,2,   367.6,2,  -999.0,9,   11.11,2,    3.79,2,    0.10,2,    1.06,2,  -999.0,9,  -999.0,9,-999.000,9,-999.000,-999.0000,9, -999.00,9, -999.00, -1.6023,-999.0000,   0.078,2,   4.384,2,   0.458,2, -999.00,9,-999.00,9, -999.00,9,106,1152
32L919920715,65,1,1,2,19920810,78.3140,-16.7650,524,    16.0, -1.6000, 32.0270,2, 32.0410,2,   356.5,2,   370.9,2,   11.11,2,    3.78,2,    0.10,2,    1.07,2,  -999.0,9,  -999.0,9,-999.000,9,-999.000,-999.0000,9, -999.00,9, -999.00, -1.6003,-999.0000,   0.068,2,-999.000,9,-999.000,9,    0.18,2,0.14,2,53900.00,2,106,1153
32L919920715,65,1,11,2,19920810,78.3140,-16.7650,524,    26.0, -1.6480, 32.1470,2,-999.0000,9,   352.2,2,   366.5,2,   11.03,2,    4.18,2,    0.11,2,    1.06,2,  -999.0,9,  -999.0,9,-999.000,9,-999.000,-999.0000,9, -999.00,9, -999.00, -1.6484,-999.0000,   0.020,2,   2.456,2,   0.381,2,    0.16,2,0.09,2,50600.00,2,106,1151
32L919920715,65,1,10,2,19920810,78.3140,-16.7650,524,    41.0, -1.7320, 32.3080,2, 32.3040,2,   360.6,2,   364.7,2,    9.39,2,    4.24,2,    0.03,2,    1.04,2,  -999.0,9,  -999.0,9,-999.000,9,-999.000,-999.0000,9, -999.00,9, -999.00, -1.7327,-999.0000,   0.020,2,   0.159,2,   5.000,2,    0.09,2,0.05,2,56400.00,2,106,1150
32L919920715,65,1,9,2,19920810,78.3140,-16.7650,524,    63.0, -1.7290, 32.4400,2, 32.4350,2,   347.0,2,   361.7,2,    9.81,2,    4.70,2,    0.01,2,    1.06,2,  -999.0,9,  -999.0,9,-999.000,9,-999.000,-999.0000,9, -999.00,9, -999.00, -1.7300,-999.0000,   0.010,2,   1.052,2,   0.153,2,    0.06,2,0.04,2,35300.00,2,106,1149
32L919920715,65,1,8,2,19920810,78.3140,-16.7650,524,    94.0, -1.5550, 32.8080,2, 32.8540,2,   338.1,2,   359.3,2,   10.80,2,    6.55,2,    0.02,2,    1.12,2,  -999.0,9,  -999.0,9,-999.000,9,-999.000,-999.0000,9, -999.00,9, -999.00, -1.5568,-999.0000,   0.000,2,   2.122,2,   0.095,2,    0.02,2,0.02,2,29000.00,2,106,1148