BOTTLE,20220816CCHSIOAMB
EXPOCODE,STNNBR,CASTNO,BTLNBR,BTLNBR_FLAG_W,DATE,LATITUDE,LONGITUDE,DEPTH,CTDPRS,CTDTMP,CTDSAL,CTDSAL_FLAG_W,SALNTY,SALNTY_FLAG_W,CTDOXY,CTDOXY_FLAG_W,OXYGEN,OXYGEN_FLAG_W,SILCAT,SILCAT_FLAG_W,NITRAT,NITRAT_FLAG_W,NITRIT,NITRIT_FLAG_W,PHSPHT,PHSPHT_FLAG_W,TCARBN,TCARBN_FLAG_W,ALKALI,ALKALI_FLAG_W,TRITUM,TRITUM_FLAG_W,TRITER,HELIUM,HELIUM_FLAG_W,DELHE3,DELHE3_FLAG_W,DELHER,THETA,SOMSAL,AMMONI,AMMONI_FLAG_W,POC,POC_FLAG_W,PON,PON_FLAG_W,CHLORA,CHLORA_FLAG_W,PHAEO,PHAEO_FLAG_W,BACT,BACT_FLAG_W,STNNBR_U,BNLID
,,,,,,,,METERS,DBAR,ITS-90,PSS-78,,PSS-78,,UMOL/KG,,UMOL/KG,,UMOL/KG,,UMOL/KG,,UMOL/KG,,UMOL/KG,,UMOL/KG,,UMOL/KG,,TU,,TU,NMOL/KG,,PERCNT,,PERCNT,DEG C,PSS-78,UMOL/KG,,UG/KG,,UG/KG,,UG/KG,,UG/L,,E8/L,,,
32L919920715,3,4,9,2,19920720,78.6190,-13.5040,173,    10.0, -1.5420, 32.0280,2, 32.1320,2,   369.3,2,  -999.0,9,   10.57,2,    3.39,2,    0.06,2,    0.92,2,  -999.0,9,  -999.0,9,-999.000,9,-999.000,-999.0000,9, -999.00,9, -999.00, -1.5422,-999.0000,   0.039,2,-999.000,9,-999.000,9, -999.00,9,-999.00,9, -999.00,9,10,117
32L919920715,3,4,7,2,19920720,78.6190,-13.5040,173,    30.0, -1.7100, 32.2840,2, 32.3170,2,   350.8,2,  -999.0,9,    9.56,2,    3.53,2,    0.08,2,    0.89,2,  -999.0,9,  -999.0,9,-999.000,9,-999.000,-999.0000,9, -999.00,9, -999.00, -1.7105,-999.0000,   0.029,2,-999.000,9,-999.000,9, -999.00,9,-999.00,9, -999.00,9,10,115
32L919920715,3,4,8,2,19920720,78.6190,-13.5040,173,    30.0, -1.7090, 32.2820,2, 32.2980,2,   355.5,2,  -999.0,9,    9.58,2,    3.53,2,    0.08,2,    0.88,2,  -999.0,9,  -999.0,9,-999.000,9,-999.000,-999.0000,9, -999.00,9, -999.00, -1.7095,-999.0000,   0.029,2,-999.000,9,-999.000,9, -999.00,9,-999.00,9, -999.00,9,10,116
32L919920715,3,4,5,2,19920720,78.6190,-13.5040,173,    60.0, -1.7350, 32.3390,2, 32.3370,2,   353.5,2,  -999.0,9,    9.40,2,    3.81,2,    0.04,2,    0.89,2,  -999.0,9,  -999.0,9,-999.000,9,-999.000,-999.0000,9, -999.00,9, -999.00, -1.7360,-999.0000,   0.010,2,-999.000,9,-999.000,9, -999.00,9,-999.00,9, -999.00,9,10,113
32L919920715,3,4,6,2,19920720,78.6190,-13.5040,173,    60.0, -1.7350, 32.3390,2, 32.3430,2,   353.5,2,  -999.0,9,    9.57,2,    3.77,2,    0.05,2,    0.89,2,  -999.0,9,  -999.0,9,-999.000,9,-999.000,-999.0000,9, -999.00,9, -999.00, -1.7360,-999.0000,   0.010,2,-999.000,9,-999.000,9, -999.00,9,-999.00,9, -999.00,9,10,114
32L919920715,3,4,3,2,19920720,78.6190,-13.5040,173,   100.0, -1.6970, 32.5390,2, 32.5640,2,   347.3,2,  -999.0,9,   10.50,2,    4.77,2,    0.00,2,    0.89,2,  -999.0,9,  -999.0,9,-999.000,9,-999.000,-999.0000,9, -999.00,9, -999.00, -1.6987,-999.0000,   0.020,2,-999.000,9,-999.000,9, -999.00,9,-999.00,9, -999.00,9,10,111
32L919920715,3,4,4,2,19920720,78.6190,-13.5040,173,   100.0, -1.6970, 32.5390,2, 32.5510,2,   347.3,2,  -999.0,9,   10.52,2,    4.74,2,    0.00,2,    0.89,2,  -999.0,9,  -999.0,9,-999.000,9,-999.000,-999.0000,9, -999.00,9, -999.00, -1.6987,-999.0000,   0.020,2,-999.000,9,-999.000,9, -999.00,9,-999.00,9, -999.00,9,10,112
32L919920715,3,4,11,2,19920720,78.6190,-13.5040,173,   120.0, -1.5750, 32.7900,2, 32.7620,2,   337.1,2,  -999.0,9,   11.26,2,    5.78,2,    0.00,2,    0.88,2,  -999.0,9,  -999.0,9,-999.000,9,-999.000,-999.0000,9, -999.00,9, -999.00, -1.5773,-999.0000,   0.020,2,-999.000,9,-999.000,9, -999.00,9,-999.00,9, -999.00,9,10,107
32L919920715,3,4,12,2,19920720,78.6190,-13.5040,173,   120.0, -1.5720, 32.7960,2, 32.7670,2,   333.0,2,  -999.0,9,   11.29,2,    5.86,2,    0.00,2,    0.89,2,  -999.0,9,  -999.0,9,-999.000,9,-999.000,-999.0000,9, -999.00,9, -999.00, -1.5743,-999.0000,   0.039,2,-999.000,9,-999.000,9, -999.00,9,-999.00,9, -999.00,9,10,108
32L919920715,3,4,1,2,19920720,78.6190,-13.5040,173,   120.0, -1.5750, 32.7830,2, 32.7660,2,   318.9,2,  -999.0,9,   11.24,2,    5.85,2,    0.00,2,    0.89,2,  -999.0,9,  -999.0,9,-999.000,9,-999.000,-999.0000,9, -999.00,9, -999.00, -1.5773,-999.0000,   0.020,2,-999.000,9,-999.000,9, -999.00,9,-999.00,9, -999.00,9,10,109
32L919920715,3,4,2,2,19920720,78.6190,-13.5040,173,   120.0, -1.5750, 32.7830,2, 32.7710,2,   318.9,2,  -999.0,9,   11.16,2,    5.91,2,    0.00,2,    0.88,2,  -999.0,9,  -999.0,9,-999.000,9,-999.000,-999.0000,9, -999.00,9, -999.00, -1.5773,-999.0000,   0.010,2,-999.000,9,-999.000,9, -999.00,9,-999.00,9, -999.00,9,10,110
32L919920715,4,1,10,2,19920721,80.4100,-14.2030,346,     2.0,  1.2810, 32.1670,2,-999.0000,9,   393.9,2,   387.0,2,    4.10,2,    0.70,2,    0.02,2,    0.77,2,  -999.0,9,  -999.0,9,-999.000,9,-999.000,-999.0000,9, -999.00,9, -999.00,  1.2809,-999.0000,   0.088,2,-999.000,9,-999.000,9, -999.00,9,-999.00,9, -999.00,9,11,130
32L919920715,4,1,9,2,19920721,80.4100,-14.2030,346,    10.0,  0.9970, 32.2800,2,-999.0000,9,   360.6,2,   367.3,2,    8.88,2,    3.67,2,    0.01,2,    0.99,2,  -999.0,9,  -999.0,9,-999.000,9,-999.000,-999.0000,9, -999.00,9, -999.00,  0.9966,-999.0000,   0.078,2,-999.000,9,-999.000,9, -999.00,9,-999.00,9, -999.00,9,11,129
32L919920715,4,1,8,2,19920721,80.4100,-14.2030,346,    35.0, -1.7260, 32.3530,2,-999.0000,9,   359.2,2,   364.8,2,    9.54,2,    4.33,2,    0.01,2,    1.02,2,  -999.0,9,  -999.0,9,-999.000,9,-999.000,-999.0000,9, -999.00,9, -999.00, -1.7266,-999.0000,   0.059,2,-999.000,9,-999.000,9, -999.00,9,-999.00,9, -999.00,9,11,128
32L919920715,4,1,7,2,19920721,80.4100,-14.2030,346,    50.0, -1.7460, 32.3630,2,-999.0000,9,   361.3,2,   364.8,2,    9.27,2,    4.29,2,    0.01,2,    1.01,2,  -999.0,9,  -999.0,9,-999.000,9,-999.000,-999.0000,9, -999.00,9, -999.00, -1.7468,-999.0000,   0.088,2,-999.000,9,-999.000,9, -999.00,9,-999.00,9, -999.00,9,11,127
32L919920715,4,1,6,2,19920721,80.4100,-14.2030,346,    75.0, -1.7280, 32.4210,2,-999.0000,9,   358.6,2,   360.0,2,    9.58,2,    4.77,2,    0.00,2,    1.01,2,  -999.0,9,  -999.0,9,-999.000,9,-999.000,-999.0000,9, -999.00,9, -999.00, -1.7292,-999.0000,   0.117,2,-999.000,9,-999.000,9, -999.00,9,-999.00,9, -999.00,9,11,126
32L919920715,4,1,5,2,19920721,80.4100,-14.2030,346,   100.0, -1.6330, 32.7890,2,-999.0000,9,   347.8,2,   347.7,2,   11.59,2,    6.40,2,    0.01,2,    1.03,2,  -999.0,9,  -999.0,9,-999.000,9,-999.000,-999.0000,9, -999.00,9, -999.00, -1.6348,-999.0000,   0.107,2,-999.000,9,-999.000,9, -999.00,9,-999.00,9, -999.00,9,11,125
32L919920715,4,1,4,2,19920721,80.4100,-14.2030,346,   125.0, -1.5050, 33.2220,2,-999.0000,9,   334.0,2,   335.4,2,   11.06,2,    7.71,2,    0.00,2,    0.97,2,  -999.0,9,  -999.0,9,-999.000,9,-999.000,-999.0000,9, -999.00,9, -999.00, -1.5076,-999.0000,   0.429,2,-999.000,9,-999.000,9, -999.00,9,-999.00,9, -999.00,9,11,124
32L919920715,4,1,3,2,19920721,80.4100,-14.2030,346,   160.0, -0.8050, 34.0250,2,-999.0000,9,   305.8,2,   306.0,2,    9.57,2,   11.23,2,    0.00,2,    0.95,2,  -999.0,9,  -999.0,9,-999.000,9,-999.000,-999.0000,9, -999.00,9, -999.00, -0.8096,-999.0000,   0.098,2,-999.000,9,-999.000,9, -999.00,9,-999.00,9, -999.00,9,11,123
32L919920715,4,1,2,2,19920721,80.4100,-14.2030,346,   201.0,  0.0400, 34.4900,2,-999.0000,9,   295.4,2,   289.7,2,    9.88,2,   12.52,2,    0.00,2,    0.95,2,  -999.0,9,  -999.0,9,-999.000,9,-999.000,-999.0000,9, -999.00,9, -999.00,  0.0326,-999.0000,   0.049,2,-999.000,9,-999.000,9, -999.00,9,-999.00,9, -999.00,9,11,122
32L919920715,4,1,1,2,19920721,80.4100,-14.2030,346,   251.0,  0.4050, 34.6760,2,-999.0000,9,   285.7,2,   285.9,2,   10.23,2,   12.73,2,    0.01,2,    0.95,2,  -999.0,9,  -999.0,9,-999.000,9,-999.000,-999.0000,9, -999.00,9, -999.00,  0.3947,-999.0000,   0.049,2,-999.000,9,-999.000,9, -999.00,9,-999.00,9, -999.00,9,11,121
32L919920715,4,1,12,2,19920721,80.4100,-14.2030,346,   300.0,  0.4320, 34.7520,2, 34.7590,2,   286.3,2,   282.6,2,   10.61,2,   12.61,2,    0.02,2,    0.97,2,  -999.0,9,  -999.0,9,-999.000,9,-999.000,-999.0000,9, -999.00,9, -999.00,  0.4195,-999.0000,   0.351,2,-999.000,9,-999.000,9, -999.00,9,-999.00,9, -999.00,9,11,120
32L919920715,4,1,11,2,19920721,80.4100,-14.2030,346,   336.0,  0.3980, 34.7560,2,-999.0000,9,   284.8,2,   286.2,2,   10.79,2,   12.34,2,    0.02,2,    0.97,2,  -999.0,9,  -999.0,9,-999.000,9,-999.000,-999.0000,9, -999.00,9, -999.00,  0.3840,-999.0000,   0.039,2,-999.000,9,-999.000,9, -999.00,9,-999.00,9, -999.00,9,11,119
32L919920715,4,2,9,2,19920721,80.4100,-14.2030,346,     2.0,  1.3290, 32.1150,2,-999.0000,9,   399.0,2,  -999.0,9,    3.05,2,    0.14,2,    0.02,2,    0.82,2,  -999.0,9,  -999.0,9,-999.000,9,-999.000,-999.0000,9, -999.00,9, -999.00,  1.3289,-999.0000,   0.049,2,  21.387,2,   2.371,2,    1.99,2,0.12,2,66100.00,2,12,141
32L919920715,4,2,8,2,19920721,80.4100,-14.2030,346,     4.0,  1.2670, 32.1450,2,-999.0000,9,   397.4,2,  -999.0,9,    3.27,2,    0.22,2,    0.02,2,    0.82,2,  -999.0,9,  -999.0,9,-999.000,9,-999.000,-999.0000,9, -999.00,9, -999.00,  1.2668,-999.0000,   0.088,2,  20.664,2,   2.345,2,    2.11,2,0.21,2, -999.00,9,12,140
32L919920715,4,2,7,2,19920721,80.4100,-14.2030,346,     6.0,-999.0000,-999.0000,9,-999.0000,9,  -999.0,9,  -999.0,9,    2.11,2,    0.05,2,    0.02,2,    0.78,2,  -999.0,9,  -999.0,9,-999.000,9,-999.000,-999.0000,9, -999.00,9, -999.00,-999.0000,-999.0000,   0.068,2,  23.863,2,   2.311,2,    1.94,2,0.26,2,67900.00,2,12,139
32L919920715,4,2,6,2,19920721,80.4100,-14.2030,346,    11.0,  1.4970, 32.0640,2,-999.0000,9,   388.6,2,  -999.0,9,    5.75,2,    1.71,2,    0.03,2,    0.93,2,  -999.0,9,  -999.0,9,-999.000,9,-999.000,-999.0000,9, -999.00,9, -999.00,  1.4965,-999.0000,   0.068,2,  15.505,2,   2.098,2,    1.01,2,0.22,2,44000.00,2,12,138
32L919920715,4,2,5,2,19920721,80.4100,-14.2030,346,    19.0,  0.4250, 32.3410,2,-999.0000,9,   360.5,2,  -999.0,9,    9.27,2,    3.77,2,    0.02,2,    1.08,2,  -999.0,9,  -999.0,9,-999.000,9,-999.000,-999.0000,9, -999.00,9, -999.00,  0.4243,-999.0000,   0.068,2,   4.480,2,   0.579,2,    0.96,2,0.46,2,31500.00,2,12,137
32L919920715,4,2,4,2,19920721,80.4100,-14.2030,346,    31.0, -1.4450, 32.3530,2,-999.0000,9,   364.7,2,  -999.0,9,    8.96,2,    3.85,2,    0.02,2,    1.06,2,  -999.0,9,  -999.0,9,-999.000,9,-999.000,-999.0000,9, -999.00,9, -999.00, -1.4456,-999.0000,   0.049,2,   3.416,2,   0.328,2,    1.06,2,0.61,2,30300.00,2,12,136
32L919920715,4,2,3,2,19920721,80.4100,-14.2030,346,    46.0, -1.7340, 32.3610,2,-999.0000,9,   368.1,2,  -999.0,9,    9.06,2,    4.17,2,    0.02,2,    1.08,2,  -999.0,9,  -999.0,9,-999.000,9,-999.000,-999.0000,9, -999.00,9, -999.00, -1.7347,-999.0000,   0.137,2,   2.670,2,   0.228,2,    0.08,2,0.04,2,27900.00,2,12,135
32L919920715,4,2,2,2,19920721,80.4100,-14.2030,346,    60.0, -1.7560, 32.3690,2,-999.0000,9,   367.9,2,  -999.0,9,    9.23,2,    4.30,2,    0.01,2,    1.10,2,  -999.0,9,  -999.0,9,-999.000,9,-999.000,-999.0000,9, -999.00,9, -999.00, -1.7570,-999.0000,   0.068,2,   2.063,2,   0.177,2,    0.03,2,0.02,2,28100.00,2,12,134
32L919920715,4,2,1,2,19920721,80.4100,-14.2030,346,    90.0, -1.6480, 32.6130,2,-999.0000,9,   351.4,2,  -999.0,9,   10.86,2,    6.00,2,    0.01,2,    1.11,2,  -999.0,9,  -999.0,9,-999.000,9,-999.000,-999.0000,9, -999.00,9, -999.00, -1.6496,-999.0000,   0.107,2,-999.000,9,-999.000,9,    0.00,2,0.01,2, -999.00,9,12,133
32L919920715,4,2,12,2,19920721,80.4100,-14.2030,346,   119.0, -1.5200, 33.1600,2,-999.0000,9,   342.0,2,  -999.0,9,   11.17,2,    7.80,2,    0.01,2,    1.04,2,  -999.0,9,  -999.0,9,-999.000,9,-999.000,-999.0000,9, -999.00,9, -999.00, -1.5224,-999.0000,   0.039,2,   2.245,2,   0.144,2,    0.06,2,0.04,2, -999.00,9,12,132
32L919920715,4,2,11,2,19920721,80.4100,-14.2030,346,   151.0, -1.2060, 33.7930,2,-999.0000,9,   316.6,2,  -999.0,9,    9.95,2,   10.04,2,    0.01,2,    0.99,2,  -999.0,9,  -999.0,9,-999.000,9,-999.000,-999.0000,9, -999.00,9, -999.00, -1.2097,-999.0000,   0.059,2,   0.931,2,   0.013,2,    0.04,2,0.04,2, -999.00,9,12,131
32L919920715,4,3,9,2,19920721,80.4100,-14.2030,346,     2.0,  1.8470, 32.0420,2,-999.0000,9,   412.5,2,  -999.0,9, -999.00,9, -999.00,9, -999.00,9, -999.00,9,  -999.0,9,  -999.0,9,-999.000,9,-999.000,-999.0000,9, -999.00,9, -999.00,  1.8469,-999.0000,-999.000,9,-999.000,9,-999.000,9, -999.00,9,-999.00,9, -999.00,9,13,153
32L919920715,4,3,8,2,19920721,80.4100,-14.2030,346,    10.0,  1.4990, 32.0690,2,-999.0000,9,   367.6,2,  -999.0,9, -999.00,9, -999.00,9, -999.00,9, -999.00,9,  -999.0,9,  -999.0,9,-999.000,9,-999.000,-999.0000,9, -999.00,9, -999.00,  1.4986,-999.0000,-999.000,9,-999.000,9,-999.000,9, -999.00,9,-999.00,9, -999.00,9,13,152
32L919920715,4,3,7,2,19920721,80.4100,-14.2030,346,    36.0, -1.6800, 32.3500,2,-999.0000,9,   370.4,2,  -999.0,9, -999.00,9, -999.00,9, -999.00,9, -999.00,9,  -999.0,9,  -999.0,9,-999.000,9,-999.000,-999.0000,9, -999.00,9, -999.00, -1.6806,-999.0000,-999.000,9,-999.000,9,-999.000,9, -999.00,9,-999.00,9, -999.00,9,13,151
32L919920715,4,3,6,2,19920721,80.4100,-14.2030,346,    50.0, -1.7470, 32.3550,2,-999.0000,9,   370.8,2,  -999.0,9, -999.00,9, -999.00,9, -999.00,9, -999.00,9,  -999.0,9,  -999.0,9,-999.000,9,-999.000,-999.0000,9, -999.00,9, -999.00, -1.7478,-999.0000,-999.000,9,-999.000,9,-999.000,9, -999.00,9,-999.00,9, -999.00,9,13,150
32L919920715,4,3,5,2,19920721,80.4100,-14.2030,346,    75.0, -1.7430, 32.3910,2,-999.0000,9,   362.2,2,  -999.0,9, -999.00,9, -999.00,9, -999.00,9, -999.00,9,  -999.0,9,  -999.0,9,-999.000,9,-999.000,-999.0000,9, -999.00,9, -999.00, -1.7442,-999.0000,-999.000,9,-999.000,9,-999.000,9, -999.00,9,-999.00,9, -999.00,9,13,149
32L919920715,4,3,4,2,19920721,80.4100,-14.2030,346,   100.0, -1.6360, 32.7840,2,-999.0000,9,   346.0,2,  -999.0,9, -999.00,9, -999.00,9, -999.00,9, -999.00,9,  -999.0,9,  -999.0,9,-999.000,9,-999.000,-999.0000,9, -999.00,9, -999.00, -1.6378,-999.0000,-999.000,9,-999.000,9,-999.000,9, -999.00,9,-999.00,9, -999.00,9,13,148
32L919920715,4,3,3,2,19920721,80.4100,-14.2030,346,   127.0, -1.5040, 33.2090,2,-999.0000,9,   333.7,2,  -999.0,9, -999.00,9, -999.00,9, -999.00,9, -999.00,9,  -999.0,9,  -999.0,9,-999.000,9,-999.000,-999.0000,9, -999.00,9, -999.00, -1.5066,-999.0000,-999.000,9,-999.000,9,-999.000,9, -999.00,9,-999.00,9, -999.00,9,13,147
32L919920715,4,3,2,2,19920721,80.4100,-14.2030,346,   201.0,  0.1620, 34.5530,2,-999.0000,9,   293.6,2,  -999.0,9, -999.00,9, -999.00,9, -999.00,9, -999.00,9,  -999.0,9,  -999.0,9,-999.000,9,-999.000,-999.0000,9, -999.00,9, -999.00,  0.1543,-999.0000,-999.000,9,-999.000,9,-999.000,9, -999.00,9,-999.00,9, -999.00,9,13,146
32L919920715,4,3,1,2,19920721,80.4100,-14.2030,346,   248.0,  0.5240, 34.7060,2,-999.0000,9,   288.4,2,  -999.0,9, -999.00,9, -999.00,9, -999.00,9, -999.00,9,  -999.0,9,  -999.0,9,-999.000,9,-999.000,-999.0000,9, -999.00,9, -999.00,  0.5136,-999.0000,-999.000,9,-999.000,9,-999.000,9, -999.00,9,-999.00,9, -999.00,9,13,145
32L919920715,4,3,12,2,19920721,80.4100,-14.2030,346,   300.0,  0.5020, 34.7470,2,-999.0000,9,   285.4,2,  -999.0,9, -999.00,9, -999.00,9, -999.00,9, -999.00,9,  -999.0,9,  -999.0,9,-999.000,9,-999.000,-999.0000,9, -999.00,9, -999.00,  0.4893,-999.0000,-999.000,9,-999.000,9,-999.000,9, -999.00,9,-999.00,9, -999.00,9,13,144
32L919920715,4,3,11,2,19920721,80.4100,-14.2030,346,   326.0,  0.4120, 34.7530,2,-999.0000,9,   283.1,2,  -999.0,9, -999.00,9, -999.00,9, -999.00,9, -999.00,9,  -999.0,9,  -999.0,9,-999.000,9,-999.000,-999.0000,9, -999.00,9, -999.00,  0.3984,-999.0000,-999.000,9,-999.000,9,-999.000,9, -999.00,9,-999.00,9, -999.00,9,13,143
32L919920715,4,3,10,2,19920721,80.4100,-14.2030,346,   329.0,  0.4100, 34.7540,2,-999.0000,9,   284.7,2,  -999.0,9, -999.00,9, -999.00,9, -999.00,9, -999.00,9,  -999.0,9,  -999.0,9,-999.000,9,-999.000,-999.0000,9, -999.00,9, -999.00,  0.3963,-999.0000,-999.000,9,-999.000,9,-999.000,9, -999.00,9,-999.00,9, -999.00,9,13,142
32L919920715,5,1,9,2,19920722,80.6520,-11.2680,211,     2.0,  0.4840, 31.4520,2,-999.0000,9,   399.8,2,   407.5,2,    2.29,2,   -0.01,2,    0.01,2,    0.73,2,  -999.0,9,  -999.0,9,-999.000,9,-999.000,-999.0000,9, -999.00,9, -999.00,  0.4839,-999.0000,   0.020,2,  17.283,2,   1.767,2,    1.63,2,0.18,2,27900.00,2,14,165
32L919920715,5,1,8,2,19920722,80.6520,-11.2680,211,     4.0,  0.4630, 31.4480,2,-999.0000,9,   409.0,2,   411.0,2,    2.60,2,    0.01,2,    0.01,2,    0.74,2,  -999.0,9,  -999.0,9,-999.000,9,-999.000,-999.0000,9, -999.00,9, -999.00,  0.4629,-999.0000,   0.029,2,  22.679,2,   2.578,2,    2.24,2,0.33,2, -999.00,9,14,164
32L919920715,5,1,7,2,19920722,80.6520,-11.2680,211,     6.0,  0.3030, 31.4790,2,-999.0000,9,   414.2,2,   413.6,2,    2.79,2,    0.02,2,    0.01,2,    0.74,2,  -999.0,9,  -999.0,9,-999.000,9,-999.000,-999.0000,9, -999.00,9, -999.00,  0.3028,-999.0000,   0.020,2,  24.089,2,   2.784,2,    2.70,2,0.41,2,105000.00,2,14,163
32L919920715,5,1,6,2,19920722,80.6520,-11.2680,211,    10.0, -0.3020, 31.6680,2,-999.0000,9,   420.5,2,   420.4,2,    3.22,2,    0.02,2,    0.01,2,    0.75,2,  -999.0,9,  -999.0,9,-999.000,9,-999.000,-999.0000,9, -999.00,9, -999.00, -0.3023,-999.0000,   0.029,2,  26.631,2,   3.138,2,    3.23,2,0.32,2,79100.00,2,14,162
32L919920715,5,1,5,2,19920722,80.6520,-11.2680,211,    14.0, -0.6230, 31.8120,2,-999.0000,9,   412.6,2,   416.9,2,    3.79,2,    0.05,2,    0.01,2,    0.77,2,  -999.0,9,  -999.0,9,-999.000,9,-999.000,-999.0000,9, -999.00,9, -999.00, -0.6233,-999.0000,   0.029,2,  21.026,2,   3.180,2,    4.11,2,0.35,2,119000.00,2,14,161
32L919920715,5,1,4,2,19920722,80.6520,-11.2680,211,    22.0, -1.1280, 32.0910,2,-999.0000,9,   402.4,2,   405.2,2,    4.42,2,    0.13,2,    0.02,2,    0.83,2,  -999.0,9,  -999.0,9,-999.000,9,-999.000,-999.0000,9, -999.00,9, -999.00, -1.1285,-999.0000,   0.020,2,  21.771,2,   3.529,2,    4.64,2,0.21,2,119000.00,2,14,160
32L919920715,5,1,3,2,19920722,80.6520,-11.2680,211,    33.0, -1.1660, 32.1930,2,-999.0000,9,   399.5,2,   399.7,2,    3.95,2,    0.19,2,    0.02,2,    0.82,2,  -999.0,9,  -999.0,9,-999.000,9,-999.000,-999.0000,9, -999.00,9, -999.00, -1.1667,-999.0000,   0.029,2,  18.852,2,   3.309,2,    5.93,2,0.59,2,130000.00,2,14,159
32L919920715,5,1,2,2,19920722,80.6520,-11.2680,211,    50.0, -1.3040, 32.3010,2,-999.0000,9,   369.1,2,   380.1,2,    6.23,2,    2.17,2,    0.03,2,    0.93,2,  -999.0,9,  -999.0,9,-999.000,9,-999.000,-999.0000,9, -999.00,9, -999.00, -1.3050,-999.0000,   0.039,2,  16.607,2,   2.661,2,    4.70,2,0.47,2,117000.00,2,14,158
32L919920715,5,1,1,2,19920722,80.6520,-11.2680,211,   102.0, -1.6380, 32.5180,2,-999.0000,9,   348.5,2,   354.3,2,   10.32,2,    5.15,2,    0.04,2,    1.03,2,  -999.0,9,  -999.0,9,-999.000,9,-999.000,-999.0000,9, -999.00,9, -999.00, -1.6398,-999.0000,   0.039,2,   3.854,2,   0.527,2,    0.59,2,0.19,2, -999.00,9,14,157
32L919920715,5,1,12,2,19920722,80.6520,-11.2680,211,   150.0, -0.1430, 34.4200,2,-999.0000,9,   292.0,2,   291.2,2,    9.77,2,   12.45,2,    0.01,2,    0.92,2,  -999.0,9,  -999.0,9,-999.000,9,-999.000,-999.0000,9, -999.00,9, -999.00, -0.1482,-999.0000,   0.000,2,   1.844,2,   0.174,2,    0.14,2,0.08,2, -999.00,9,14,156
32L919920715,5,1,11,2,19920722,80.6520,-11.2680,211,   201.0,  0.3740, 34.7050,2, 34.7950,2,   286.3,2,   286.9,2,   10.02,2,   13.02,2,    0.01,2,    0.93,2,  -999.0,9,  -999.0,9,-999.000,9,-999.000,-999.0000,9, -999.00,9, -999.00,  0.3659,-999.0000,   0.010,2,-999.000,9,-999.000,9, -999.00,9,-999.00,9, -999.00,9,14,155