BOTTLE,20220816CCHSIOAMB
EXPOCODE,STNNBR,CASTNO,BTLNBR,BTLNBR_FLAG_W,DATE,LATITUDE,LONGITUDE,DEPTH,CTDPRS,CTDTMP,CTDSAL,CTDSAL_FLAG_W,SALNTY,SALNTY_FLAG_W,CTDOXY,CTDOXY_FLAG_W,OXYGEN,OXYGEN_FLAG_W,SILCAT,SILCAT_FLAG_W,NITRAT,NITRAT_FLAG_W,NITRIT,NITRIT_FLAG_W,PHSPHT,PHSPHT_FLAG_W,TCARBN,TCARBN_FLAG_W,ALKALI,ALKALI_FLAG_W,TRITUM,TRITUM_FLAG_W,TRITER,HELIUM,HELIUM_FLAG_W,DELHE3,DELHE3_FLAG_W,DELHER,THETA,SOMSAL,AMMONI,AMMONI_FLAG_W,POC,POC_FLAG_W,PON,PON_FLAG_W,CHLORA,CHLORA_FLAG_W,PHAEO,PHAEO_FLAG_W,BACT,BACT_FLAG_W,STNNBR_U,BNLID
,,,,,,,,METERS,DBAR,ITS-90,PSS-78,,PSS-78,,UMOL/KG,,UMOL/KG,,UMOL/KG,,UMOL/KG,,UMOL/KG,,UMOL/KG,,UMOL/KG,,UMOL/KG,,TU,,TU,NMOL/KG,,PERCNT,,PERCNT,DEG C,PSS-78,UMOL/KG,,UG/KG,,UG/KG,,UG/KG,,UG/L,,E8/L,,,
32L919920715,57,1,4,2,19920807,80.3090,-8.5550,292,     2.0, -1.3750, 31.5770,2, 31.5950,2,   400.6,2,   386.9,2,    9.39,2,    1.39,2,    0.00,2,    1.03,2,  -999.0,9,  -999.0,9,-999.000,9,-999.000,-999.0000,9, -999.00,9, -999.00, -1.3750,-999.0000,   0.176,2,-999.000,9,-999.000,9,    2.08,2,0.21,2, -999.00,9,93,1000
32L919920715,57,1,3,2,19920807,80.3090,-8.5550,292,    10.0, -1.5730, 31.6010,2, 31.6090,2,   401.5,2,  -999.0,9,   10.28,2,    2.13,2,    0.00,2,    1.09,2,  -999.0,9,  -999.0,9,-999.000,9,-999.000,-999.0000,9, -999.00,9, -999.00, -1.5732,-999.0000,   0.127,2,-999.000,9,-999.000,9, -999.00,9,-999.00,9, -999.00,9,93,999
32L919920715,57,1,2,2,19920807,80.3090,-8.5550,292,    20.0, -1.5500, 31.6960,2, 31.7040,2,   393.0,2,   380.0,2,   10.16,2,    2.49,2,    0.01,2,    1.10,2,  -999.0,9,  -999.0,9,-999.000,9,-999.000,-999.0000,9, -999.00,9, -999.00, -1.5503,-999.0000,   0.117,2,-999.000,9,-999.000,9,    1.67,2,0.43,2, -999.00,9,93,998
32L919920715,57,1,1,2,19920807,80.3090,-8.5550,292,    35.0, -1.5660, 31.8690,2, 31.8510,2,   374.3,2,  -999.0,9,   10.74,2,    3.38,2,    0.03,2,    1.15,2,  -999.0,9,  -999.0,9,-999.000,9,-999.000,-999.0000,9, -999.00,9, -999.00, -1.5666,-999.0000,   0.127,2,-999.000,9,-999.000,9, -999.00,9,-999.00,9, -999.00,9,93,997
32L919920715,57,1,12,2,19920807,80.3090,-8.5550,292,    49.0, -1.5330, 32.2320,2, 32.3080,2,   355.1,2,  -999.0,9,   12.12,2,    5.41,2,    0.04,2,    1.19,2,  -999.0,9,  -999.0,9,-999.000,9,-999.000,-999.0000,9, -999.00,9, -999.00, -1.5339,-999.0000,   0.127,2,-999.000,9,-999.000,9, -999.00,9,-999.00,9, -999.00,9,93,996
32L919920715,57,1,11,2,19920807,80.3090,-8.5550,292,    71.0, -1.2760, 32.9310,2, 33.1320,2,   327.7,2,  -999.0,9,   10.63,2,    7.82,2,    0.05,2,    1.08,2,  -999.0,9,  -999.0,9,-999.000,9,-999.000,-999.0000,9, -999.00,9, -999.00, -1.2776,-999.0000,   0.059,2,-999.000,9,-999.000,9, -999.00,9,-999.00,9, -999.00,9,93,995
32L919920715,57,1,10,2,19920807,80.3090,-8.5550,292,   101.0, -0.8260, 33.9740,2, 34.0760,2,   301.4,2,  -999.0,9,   10.74,2,   11.59,2,    0.02,2,    1.05,2,  -999.0,9,  -999.0,9,-999.000,9,-999.000,-999.0000,9, -999.00,9, -999.00, -0.8288,-999.0000,   0.029,2,-999.000,9,-999.000,9, -999.00,9,-999.00,9, -999.00,9,93,994
32L919920715,57,1,9,2,19920807,80.3090,-8.5550,292,   150.0, -0.2050, 34.5510,2, 34.5450,2,   286.2,2,   305.1,2,    8.63,2,   12.35,2,    0.01,2,    0.96,2,  -999.0,9,  -999.0,9,-999.000,9,-999.000,-999.0000,9, -999.00,9, -999.00, -0.2102,-999.0000,   0.117,2,-999.000,9,-999.000,9, -999.00,9,-999.00,9, -999.00,9,93,993
32L919920715,57,1,8,2,19920807,80.3090,-8.5550,292,   201.0,  0.2640, 34.7600,2, 34.7460,2,   289.4,2,  -999.0,9,    8.01,2,   12.94,2,    0.00,2,    0.97,2,  -999.0,9,  -999.0,9,-999.000,9,-999.000,-999.0000,9, -999.00,9, -999.00,  0.2561,-999.0000,   0.010,2,-999.000,9,-999.000,9, -999.00,9,-999.00,9, -999.00,9,93,992
32L919920715,57,1,7,2,19920807,80.3090,-8.5550,292,   250.0,  0.4060, 34.8340,2, 34.8380,2,   293.7,2,  -999.0,9,    7.94,2,   13.16,2,    0.01,2,    0.98,2,  -999.0,9,  -999.0,9,-999.000,9,-999.000,-999.0000,9, -999.00,9, -999.00,  0.3957,-999.0000,   0.029,2,-999.000,9,-999.000,9, -999.00,9,-999.00,9, -999.00,9,93,991
32L919920715,57,1,6,2,19920807,80.3090,-8.5550,292,   279.0,  0.4370, 34.8590,2, 34.8510,2,   280.2,2,  -999.0,9,    8.15,2,   13.17,2,    0.02,2,    1.00,2,  -999.0,9,  -999.0,9,-999.000,9,-999.000,-999.0000,9, -999.00,9, -999.00,  0.4254,-999.0000,   0.020,2,-999.000,9,-999.000,9, -999.00,9,-999.00,9, -999.00,9,93,990
32L919920715,57,1,5,2,19920807,80.3090,-8.5550,292,   282.0,  0.4360, 34.8600,2, 34.8690,2,   305.0,2,  -999.0,9,    8.06,2,   13.17,2,    0.02,2,    0.99,2,  -999.0,9,  -999.0,9,-999.000,9,-999.000,-999.0000,9, -999.00,9, -999.00,  0.4242,-999.0000,   0.020,2,-999.000,9,-999.000,9, -999.00,9,-999.00,9, -999.00,9,93,989
32L919920715,58,1,4,2,19920807,80.4460,-13.2910,300,     2.0,  1.2430, 32.1870,2, 32.0850,2,   416.4,2,   425.0,2,    1.65,2,    0.00,2,    0.03,2,    0.67,2,  -999.0,9,  -999.0,9,-999.000,9,-999.000,-999.0000,9, -999.00,9, -999.00,  1.2429,-999.0000,   0.059,2,  24.522,2,   1.727,2,    1.53,2,0.31,2,64900.00,2,94,1012
32L919920715,58,1,3,2,19920807,80.4460,-13.2910,300,     4.0,  1.3240, 32.3030,2, 32.3100,2,   429.7,2,   430.0,2,    2.27,2,    0.02,2,    0.02,2,    0.67,2,  -999.0,9,  -999.0,9,-999.000,9,-999.000,-999.0000,9, -999.00,9, -999.00,  1.3238,-999.0000,   0.059,2,  26.838,2,   1.886,2,    1.97,2,0.36,2,93700.00,2,94,1011
32L919920715,58,1,2,2,19920807,80.4460,-13.2910,300,     7.0,  0.8220, 32.3370,2, 32.3770,2,   430.0,2,   434.1,2,    2.30,2,    0.05,2,    0.02,2,    0.70,2,  -999.0,9,  -999.0,9,-999.000,9,-999.000,-999.0000,9, -999.00,9, -999.00,  0.8217,-999.0000,   0.059,2,  32.759,2,   1.925,2,    1.79,2,0.63,2,102000.00,2,94,1010
32L919920715,58,1,1,2,19920807,80.4460,-13.2910,300,    11.0,  0.3480, 32.3230,2, 32.4610,2,   418.9,2,   433.9,2,    1.86,2,    0.07,2,    0.01,2,    0.70,2,  -999.0,9,  -999.0,9,-999.000,9,-999.000,-999.0000,9, -999.00,9, -999.00,  0.3476,-999.0000,   0.029,2,  22.551,2,   1.584,2,    1.76,2,0.63,2,116000.00,2,94,1009
32L919920715,58,1,12,2,19920807,80.4460,-13.2910,300,    16.0, -1.1490, 32.3380,2, 32.3250,2,   411.9,2,   419.4,2,    0.78,2,    0.11,2,    0.02,2,    0.73,2,  -999.0,9,  -999.0,9,-999.000,9,-999.000,-999.0000,9, -999.00,9, -999.00, -1.1493,-999.0000,   0.020,2,  12.984,2,   1.235,2,    2.00,2,0.68,2,139000.00,2,94,1008
32L919920715,58,1,8,2,19920807,80.4460,-13.2910,300,    24.0, -1.4950, 32.3540,2, 32.4110,2,   383.4,2,   376.0,2,    8.05,2,    2.95,2,    0.05,2,    1.01,2,  -999.0,9,  -999.0,9,-999.000,9,-999.000,-999.0000,9, -999.00,9, -999.00, -1.4954,-999.0000,   0.020,2,-999.000,9,-999.000,9,    3.52,2,0.87,2,34200.00,2,94,1004
32L919920715,58,1,9,2,19920807,80.4460,-13.2910,300,    24.0, -1.3400, 32.3390,2,-999.0000,9,   362.3,2,  -999.0,9,    7.60,2,    2.65,2,    0.05,2,    1.00,2,  -999.0,9,  -999.0,9,-999.000,9,-999.000,-999.0000,9, -999.00,9, -999.00, -1.3405,-999.0000,   0.059,2,-999.000,9,-999.000,9, -999.00,9,-999.00,9, -999.00,9,94,1005
32L919920715,58,1,10,2,19920807,80.4460,-13.2910,300,    24.0, -1.3720, 32.3380,2, 32.4060,2,   342.5,2,  -999.0,9,    7.18,2,    2.24,2,    0.05,2,    0.98,2,  -999.0,9,  -999.0,9,-999.000,9,-999.000,-999.0000,9, -999.00,9, -999.00, -1.3725,-999.0000,   0.088,2,-999.000,9,-999.000,9, -999.00,9,-999.00,9, -999.00,9,94,1006
32L919920715,58,1,11,2,19920807,80.4460,-13.2910,300,    24.0, -1.3860, 32.3370,2, 32.3730,2,   311.3,3,  -999.0,9,    6.71,2,    1.92,3,    0.04,2,    0.96,2,  -999.0,9,  -999.0,9,-999.000,9,-999.000,-999.0000,9, -999.00,9, -999.00, -1.3865,-999.0000,   0.078,2,   4.797,2,   1.092,2, -999.00,9,-999.00,9, -999.00,9,94,1007
32L919920715,58,1,7,2,19920807,80.4460,-13.2910,300,    39.0, -1.7020, 32.3650,2, 32.4170,2,   371.7,2,   369.6,2,    8.15,2,    3.68,2,    0.04,2,    1.05,2,  -999.0,9,  -999.0,9,-999.000,9,-999.000,-999.0000,9, -999.00,9, -999.00, -1.7026,-999.0000,   0.029,2,   0.547,2,   0.323,2,    1.53,2,0.25,2,38200.00,2,94,1003
32L919920715,58,1,6,2,19920807,80.4460,-13.2910,300,    50.0, -1.7370, 32.3770,2, 32.4330,2,   361.1,2,   365.8,2,    8.64,2,    4.23,2,    0.04,2,    1.06,2,  -999.0,9,  -999.0,9,-999.000,9,-999.000,-999.0000,9, -999.00,9, -999.00, -1.7378,-999.0000,   0.020,2,   0.158,2,-999.000,9,    0.27,2,0.09,2, -999.00,9,94,1002
32L919920715,58,1,5,2,19920807,80.4460,-13.2910,300,   284.0,  0.4450, 34.7630,2, 34.7780,2,   281.8,2,   288.7,2,   10.22,2,   13.96,2,    0.05,2,    1.03,2,  -999.0,9,  -999.0,9,-999.000,9,-999.000,-999.0000,9, -999.00,9, -999.00,  0.4331,-999.0000,   0.010,2,-999.000,9,-999.000,9, -999.00,9,-999.00,9, -999.00,9,94,1001
32L919920715,58,2,4,2,19920807,80.4460,-13.2910,300,     2.0,  0.8730, 32.2060,2,-999.0000,9,   431.5,2,  -999.0,9, -999.00,9, -999.00,9, -999.00,9, -999.00,9,  -999.0,9,  -999.0,9,-999.000,9,-999.000,-999.0000,9, -999.00,9, -999.00,  0.8729,-999.0000,-999.000,9,-999.000,9,-999.000,9, -999.00,9,-999.00,9, -999.00,9,95,1024
32L919920715,58,2,3,2,19920807,80.4460,-13.2910,300,    10.0,  0.4300, 32.2990,2,-999.0000,9,   402.5,2,  -999.0,9, -999.00,9, -999.00,9, -999.00,9, -999.00,9,  -999.0,9,  -999.0,9,-999.000,9,-999.000,-999.0000,9, -999.00,9, -999.00,  0.4297,-999.0000,-999.000,9,-999.000,9,-999.000,9, -999.00,9,-999.00,9, -999.00,9,95,1023
32L919920715,58,2,2,2,19920807,80.4460,-13.2910,300,    30.0, -1.6640, 32.3460,2,-999.0000,9,   368.7,2,  -999.0,9, -999.00,9, -999.00,9, -999.00,9, -999.00,9,  -999.0,9,  -999.0,9,-999.000,9,-999.000,-999.0000,9, -999.00,9, -999.00, -1.6645,-999.0000,-999.000,9,-999.000,9,-999.000,9, -999.00,9,-999.00,9, -999.00,9,95,1022
32L919920715,58,2,1,2,19920807,80.4460,-13.2910,300,    50.0, -1.7310, 32.3740,2,-999.0000,9,   371.7,2,  -999.0,9, -999.00,9, -999.00,9, -999.00,9, -999.00,9,  -999.0,9,  -999.0,9,-999.000,9,-999.000,-999.0000,9, -999.00,9, -999.00, -1.7318,-999.0000,-999.000,9,-999.000,9,-999.000,9, -999.00,9,-999.00,9, -999.00,9,95,1021
32L919920715,58,2,12,2,19920807,80.4460,-13.2910,300,    75.0, -1.7300, 32.4270,2,-999.0000,9,   363.4,2,  -999.0,9, -999.00,9, -999.00,9, -999.00,9, -999.00,9,  -999.0,9,  -999.0,9,-999.000,9,-999.000,-999.0000,9, -999.00,9, -999.00, -1.7312,-999.0000,-999.000,9,-999.000,9,-999.000,9, -999.00,9,-999.00,9, -999.00,9,95,1020
32L919920715,58,2,11,2,19920807,80.4460,-13.2910,300,   100.0, -1.5810, 32.8450,2,-999.0000,9,   343.3,2,  -999.0,9, -999.00,9, -999.00,9, -999.00,9, -999.00,9,  -999.0,9,  -999.0,9,-999.000,9,-999.000,-999.0000,9, -999.00,9, -999.00, -1.5829,-999.0000,-999.000,9,-999.000,9,-999.000,9, -999.00,9,-999.00,9, -999.00,9,95,1019
32L919920715,58,2,10,2,19920807,80.4460,-13.2910,300,   125.0, -1.3690, 33.4990,2,-999.0000,9,   324.5,2,  -999.0,9, -999.00,9, -999.00,9, -999.00,9, -999.00,9,  -999.0,9,  -999.0,9,-999.000,9,-999.000,-999.0000,9, -999.00,9, -999.00, -1.3718,-999.0000,-999.000,9,-999.000,9,-999.000,9, -999.00,9,-999.00,9, -999.00,9,95,1018
32L919920715,58,2,9,2,19920807,80.4460,-13.2910,300,   150.0, -0.8900, 34.0260,2,-999.0000,9,   305.0,2,  -999.0,9, -999.00,9, -999.00,9, -999.00,9, -999.00,9,  -999.0,9,  -999.0,9,-999.000,9,-999.000,-999.0000,9, -999.00,9, -999.00, -0.8942,-999.0000,-999.000,9,-999.000,9,-999.000,9, -999.00,9,-999.00,9, -999.00,9,95,1017
32L919920715,58,2,8,2,19920807,80.4460,-13.2910,300,   200.0,  0.2180, 34.5980,2,-999.0000,9,   287.9,2,  -999.0,9, -999.00,9, -999.00,9, -999.00,9, -999.00,9,  -999.0,9,  -999.0,9,-999.000,9,-999.000,-999.0000,9, -999.00,9, -999.00,  0.2103,-999.0000,-999.000,9,-999.000,9,-999.000,9, -999.00,9,-999.00,9, -999.00,9,95,1016
32L919920715,58,2,7,2,19920807,80.4460,-13.2910,300,   250.0,  0.5030, 34.7440,2,-999.0000,9,   284.6,2,  -999.0,9, -999.00,9, -999.00,9, -999.00,9, -999.00,9,  -999.0,9,  -999.0,9,-999.000,9,-999.000,-999.0000,9, -999.00,9, -999.00,  0.4925,-999.0000,-999.000,9,-999.000,9,-999.000,9, -999.00,9,-999.00,9, -999.00,9,95,1015
32L919920715,58,2,6,2,19920807,80.4460,-13.2910,300,   287.0,  0.4250, 34.7750,2,-999.0000,9,   277.5,2,  -999.0,9, -999.00,9, -999.00,9, -999.00,9, -999.00,9,  -999.0,9,  -999.0,9,-999.000,9,-999.000,-999.0000,9, -999.00,9, -999.00,  0.4131,-999.0000,-999.000,9,-999.000,9,-999.000,9, -999.00,9,-999.00,9, -999.00,9,95,1014
32L919920715,58,2,5,2,19920807,80.4460,-13.2910,300,   290.0,  0.4240, 34.7780,2,-999.0000,9,   288.3,2,  -999.0,9, -999.00,9, -999.00,9, -999.00,9, -999.00,9,  -999.0,9,  -999.0,9,-999.000,9,-999.000,-999.0000,9, -999.00,9, -999.00,  0.4119,-999.0000,-999.000,9,-999.000,9,-999.000,9, -999.00,9,-999.00,9, -999.00,9,95,1013
32L919920715,59,1,4,2,19920808,80.0120,-15.9300,434,     2.0,  0.7880, 32.1040,2, 32.1830,2,   435.2,2,  -999.0,9,    1.78,2,    0.06,2,    0.01,2,    0.85,2,  -999.0,9,  -999.0,9,-999.000,9,-999.000,-999.0000,9, -999.00,9, -999.00,  0.7879,-999.0000,   0.020,2,-999.000,9,-999.000,9,    5.87,2,6.46,2, -999.00,9,96,1036
32L919920715,59,1,3,2,19920808,80.0120,-15.9300,434,    14.0, -1.3670, 32.2790,2, 32.5100,2,   393.2,2,  -999.0,9,    6.27,2,    1.27,2,    0.02,2,    0.98,2,  -999.0,9,  -999.0,9,-999.000,9,-999.000,-999.0000,9, -999.00,9, -999.00, -1.3673,-999.0000,   0.010,2,-999.000,9,-999.000,9,    5.69,2,2.83,2, -999.00,9,96,1035
32L919920715,59,1,2,2,19920808,80.0120,-15.9300,434,    50.0, -1.7490, 32.3470,2, 32.3490,2,   365.0,2,  -999.0,9,    9.28,2,    4.37,2,    0.00,2,    1.08,2,  -999.0,9,  -999.0,9,-999.000,9,-999.000,-999.0000,9, -999.00,9, -999.00, -1.7498,-999.0000,   0.000,2,-999.000,9,-999.000,9,    0.12,2,0.07,2, -999.00,9,96,1034
32L919920715,59,1,1,2,19920808,80.0120,-15.9300,434,    76.0, -1.7230, 32.4420,2, 32.4700,2,   361.7,2,   360.2,2,    9.87,2,    4.99,2,    0.00,2,    1.09,2,  -999.0,9,  -999.0,9,-999.000,9,-999.000,-999.0000,9, -999.00,9, -999.00, -1.7243,-999.0000,   0.010,2,-999.000,9,-999.000,9,    0.14,2,0.07,2, -999.00,9,96,1033
32L919920715,59,1,12,2,19920808,80.0120,-15.9300,434,   101.0, -1.5220, 32.8880,2, 33.0520,2,   340.4,2,   339.6,2,   10.09,2,    7.48,2,    0.01,2,    1.09,2,  -999.0,9,  -999.0,9,-999.000,9,-999.000,-999.0000,9, -999.00,9, -999.00, -1.5240,-999.0000,   0.020,2,-999.000,9,-999.000,9,    0.11,2,0.08,2, -999.00,9,96,1032
32L919920715,59,1,11,2,19920808,80.0120,-15.9300,434,   150.0, -0.3530, 34.2100,2, 34.2480,2,   302.0,2,   299.6,2,    9.20,2,   12.40,2,    0.02,2,    1.00,2,  -999.0,9,  -999.0,9,-999.000,9,-999.000,-999.0000,9, -999.00,9, -999.00, -0.3579,-999.0000,   0.010,2,-999.000,9,-999.000,9,    0.12,2,0.03,2, -999.00,9,96,1031
32L919920715,59,1,10,2,19920808,80.0120,-15.9300,434,   200.0,  0.0790, 34.5190,2, 34.5960,2,   273.6,2,   289.1,2,    9.12,2,   13.50,2,    0.01,2,    1.00,2,  -999.0,9,  -999.0,9,-999.000,9,-999.000,-999.0000,9, -999.00,9, -999.00,  0.0715,-999.0000,   0.000,2,-999.000,9,-999.000,9,    0.06,2,0.03,2, -999.00,9,96,1030
32L919920715,59,1,9,2,19920808,80.0120,-15.9300,434,   251.0,  0.4780, 34.6950,2, 34.7440,2,   275.5,2,   286.4,2,    9.30,2,   13.77,2,    0.01,2,    1.00,2,  -999.0,9,  -999.0,9,-999.000,9,-999.000,-999.0000,9, -999.00,9, -999.00,  0.4675,-999.0000,   0.010,2,-999.000,9,-999.000,9, -999.00,9,-999.00,9, -999.00,9,96,1029
32L919920715,59,1,8,2,19920808,80.0120,-15.9300,434,   300.0,  0.5800, 34.7280,2, 34.7800,2,   279.5,2,   286.7,2,    9.35,2,   13.81,2,    0.01,2,    1.00,2,  -999.0,9,  -999.0,9,-999.000,9,-999.000,-999.0000,9, -999.00,9, -999.00,  0.5671,-999.0000,   0.020,2,-999.000,9,-999.000,9, -999.00,9,-999.00,9, -999.00,9,96,1028
32L919920715,59,1,7,2,19920808,80.0120,-15.9300,434,   350.0,  0.5060, 34.7430,2, 34.8080,2,   284.2,2,   283.7,2,    9.87,2,   13.83,2,    0.01,2,    1.02,2,  -999.0,9,  -999.0,9,-999.000,9,-999.000,-999.0000,9, -999.00,9, -999.00,  0.4910,-999.0000,   0.000,2,-999.000,9,-999.000,9, -999.00,9,-999.00,9, -999.00,9,96,1027
32L919920715,59,1,6,2,19920808,80.0120,-15.9300,434,   401.0,  0.4240, 34.7610,2, 35.0990,2,   277.1,2,   282.2,2,   10.03,2,   13.78,2,    0.02,2,    1.03,2,  -999.0,9,  -999.0,9,-999.000,9,-999.000,-999.0000,9, -999.00,9, -999.00,  0.4069,-999.0000,   0.000,2,-999.000,9,-999.000,9, -999.00,9,-999.00,9, -999.00,9,96,1026
32L919920715,59,1,5,2,19920808,80.0120,-15.9300,434,   424.0,  0.4210, 34.7670,2, 34.7930,2,   268.0,2,   293.4,2,   10.05,2,   13.71,2,    0.02,2,    1.03,2,  -999.0,9,  -999.0,9,-999.000,9,-999.000,-999.0000,9, -999.00,9, -999.00,  0.4029,-999.0000,   0.010,2,-999.000,9,-999.000,9, -999.00,9,-999.00,9, -999.00,9,96,1025