BOTTLE,20220816CCHSIOAMB
EXPOCODE,STNNBR,CASTNO,BTLNBR,BTLNBR_FLAG_W,DATE,LATITUDE,LONGITUDE,DEPTH,CTDPRS,CTDTMP,CTDSAL,CTDSAL_FLAG_W,SALNTY,SALNTY_FLAG_W,CTDOXY,CTDOXY_FLAG_W,OXYGEN,OXYGEN_FLAG_W,SILCAT,SILCAT_FLAG_W,NITRAT,NITRAT_FLAG_W,NITRIT,NITRIT_FLAG_W,PHSPHT,PHSPHT_FLAG_W,TCARBN,TCARBN_FLAG_W,ALKALI,ALKALI_FLAG_W,TRITUM,TRITUM_FLAG_W,TRITER,HELIUM,HELIUM_FLAG_W,DELHE3,DELHE3_FLAG_W,DELHER,THETA,SOMSAL,AMMONI,AMMONI_FLAG_W,POC,POC_FLAG_W,PON,PON_FLAG_W,CHLORA,CHLORA_FLAG_W,PHAEO,PHAEO_FLAG_W,BACT,BACT_FLAG_W,STNNBR_U,BNLID
,,,,,,,,METERS,DBAR,ITS-90,PSS-78,,PSS-78,,UMOL/KG,,UMOL/KG,,UMOL/KG,,UMOL/KG,,UMOL/KG,,UMOL/KG,,UMOL/KG,,UMOL/KG,,TU,,TU,NMOL/KG,,PERCNT,,PERCNT,DEG C,PSS-78,UMOL/KG,,UG/KG,,UG/KG,,UG/KG,,UG/L,,E8/L,,,
32L919920715,65,2,3,2,19920810,78.3140,-16.7650,524,     2.0, -1.4660, 31.8230,2, 27.9440,2,   364.8,2,   375.1,2,    9.52,2,    2.57,2,    0.03,2,    0.95,2,  1939.7,3,  2048.2,3,   6.270,2,   0.094,  1.9990,2,    4.40,2,    0.20, -1.4660,29.6980,   0.127,2,-999.000,9,-999.000,9, -999.00,9,-999.00,9, -999.00,9,107,1167
32L919920715,65,2,2,2,19920810,78.3140,-16.7650,524,    49.0, -1.7110, 32.3340,2, 32.3440,2,   357.0,2,   363.4,2,    9.86,2,    4.28,2,    0.02,2,    1.02,2,  2107.0,2,  2219.8,2,-999.000,9,-999.000,-999.0000,9, -999.00,9, -999.00, -1.7118,32.2680,   0.029,2,-999.000,9,-999.000,9, -999.00,9,-999.00,9, -999.00,9,107,1166
32L919920715,65,2,1,2,19920810,78.3140,-16.7650,524,   101.0, -1.5790, 32.9250,2, 33.0540,2,   341.3,2,   344.8,2,   11.13,2,    6.82,2,    0.00,2,    0.98,2,  -999.0,9,  -999.0,9,   5.480,2,   0.082,  1.9310,2,   10.30,2,    0.20, -1.5810,-999.0000,   0.020,2,-999.000,9,-999.000,9, -999.00,9,-999.00,9, -999.00,9,107,1165
32L919920715,65,2,12,2,19920810,78.3140,-16.7650,524,   151.0, -1.3120, 33.8010,2, 33.8400,2,   318.7,2,   316.5,2,    9.16,2,    9.85,2,    0.00,2,    0.88,2,  -999.0,9,  -999.0,9,-999.000,9,-999.000,-999.0000,9, -999.00,9, -999.00, -1.3156,-999.0000,   0.039,2,-999.000,9,-999.000,9, -999.00,9,-999.00,9, -999.00,9,107,1164
32L919920715,65,2,11,2,19920810,78.3140,-16.7650,524,   201.0, -0.2770, 34.3960,2, 34.4160,2,   291.1,2,   291.5,2,    9.41,2,   12.46,2,    0.00,2,    0.93,2,  -999.0,9,  -999.0,9,   3.160,2,   0.047,  1.9690,2,   13.00,2,    0.20, -0.2839,-999.0000,   0.039,2,-999.000,9,-999.000,9, -999.00,9,-999.00,9, -999.00,9,107,1163
32L919920715,65,2,10,2,19920810,78.3140,-16.7650,524,   250.0,  0.4400, 34.6810,2, 34.6940,2,   290.2,2,   287.6,2,    9.34,2,   12.81,2,    0.00,2,    0.94,2,  -999.0,9,  -999.0,9,-999.000,9,-999.000,-999.0000,9, -999.00,9, -999.00,  0.4297,-999.0000,   0.029,2,-999.000,9,-999.000,9, -999.00,9,-999.00,9, -999.00,9,107,1162
32L919920715,65,2,9,2,19920810,78.3140,-16.7650,524,   300.0,  1.0750, 34.8430,2,-999.0000,9,   292.5,2,  -999.0,9,    8.30,2,   13.07,2,    0.00,2,    0.94,2,  -999.0,9,  -999.0,9,   2.100,2,   0.031,  1.7680,2,    6.50,2,    0.20,  1.0608,-999.0000,   0.029,2,-999.000,9,-999.000,9, -999.00,9,-999.00,9, -999.00,9,107,1161
32L919920715,65,2,8,2,19920810,78.3140,-16.7650,524,   350.0,  1.0480, 34.8920,2,-999.0000,9,   289.2,2,   292.1,2,    8.30,2,   13.30,2,    0.00,2,    0.96,2,  -999.0,9,  -999.0,9,-999.000,9,-999.000,-999.0000,9, -999.00,9, -999.00,  1.0314,-999.0000,   0.010,2,-999.000,9,-999.000,9, -999.00,9,-999.00,9, -999.00,9,107,1160
32L919920715,65,2,7,2,19920810,78.3140,-16.7650,524,   400.0,  0.9220, 34.8950,2,-999.0000,9,   285.2,2,   292.0,2,    8.92,2,   13.47,2,    0.00,2,    0.97,2,  -999.0,9,  -999.0,9,-999.000,9,-999.000,-999.0000,9, -999.00,9, -999.00,  0.9032,-999.0000,   0.020,2,-999.000,9,-999.000,9, -999.00,9,-999.00,9, -999.00,9,107,1159
32L919920715,65,2,6,2,19920810,78.3140,-16.7650,524,   449.0,  0.8870, 34.8970,2,-999.0000,9,   286.6,2,   288.0,2,    9.21,2,   13.58,2,    0.00,2,    0.97,2,  -999.0,9,  -999.0,9,-999.000,9,-999.000,-999.0000,9, -999.00,9, -999.00,  0.8659,-999.0000,   0.000,2,-999.000,9,-999.000,9, -999.00,9,-999.00,9, -999.00,9,107,1158
32L919920715,65,2,5,2,19920810,78.3140,-16.7650,524,   500.0,  0.8590, 34.8960,2,-999.0000,9,   281.7,2,   286.4,2,    9.76,2,   13.72,2,    0.00,2,    0.99,2,  -999.0,9,  -999.0,9,-999.000,9,-999.000,-999.0000,9, -999.00,9, -999.00,  0.8354,-999.0000,   0.039,2,-999.000,9,-999.000,9, -999.00,9,-999.00,9, -999.00,9,107,1157
32L919920715,65,2,4,2,19920810,78.3140,-16.7650,524,   511.0,  0.8590, 34.8970,2, 34.9110,2,   283.9,2,   286.4,2,    9.76,2,   13.68,2,    0.01,2,    1.00,2,  -999.0,9,  -999.0,9,-999.000,9,-999.000,-999.0000,9, -999.00,9, -999.00,  0.8348,-999.0000,   0.020,2,-999.000,9,-999.000,9, -999.00,9,-999.00,9, -999.00,9,107,1156
32L919920715,65,3,3,2,19920810,78.3140,-16.7650,524,    20.0, -1.5780, 32.0050,2, 32.0300,2,   355.5,2,  -999.0,9, -999.00,9, -999.00,9, -999.00,9, -999.00,9,  -999.0,9,  -999.0,9,-999.000,9,-999.000,-999.0000,9, -999.00,9, -999.00, -1.5783,-999.0000,-999.000,9,-999.000,9,-999.000,9, -999.00,9,-999.00,9, -999.00,9,108,1179
32L919920715,65,3,2,2,19920810,78.3140,-16.7650,524,    50.0, -1.7270, 32.3810,2, 32.3690,2,   363.5,2,  -999.0,9, -999.00,9, -999.00,9, -999.00,9, -999.00,9,  -999.0,9,  -999.0,9,-999.000,9,-999.000,-999.0000,9, -999.00,9, -999.00, -1.7278,-999.0000,-999.000,9,-999.000,9,-999.000,9, -999.00,9,-999.00,9, -999.00,9,108,1178
32L919920715,65,3,1,2,19920810,78.3140,-16.7650,524,   100.0, -1.5960, 32.9920,2, 32.9880,2,   341.6,2,  -999.0,9,    2.62,2,    0.07,3,    0.02,2, -999.00,9,  -999.0,9,  -999.0,9,-999.000,9,-999.000,-999.0000,9, -999.00,9, -999.00, -1.5979,-999.0000,   0.059,2,-999.000,9,-999.000,9, -999.00,9,-999.00,9, -999.00,9,108,1177
32L919920715,65,3,12,2,19920810,78.3140,-16.7650,524,   150.0, -1.3680, 33.7330,2, 33.8090,2,   318.1,2,  -999.0,9,    2.66,3,    0.20,3,    0.01,2, -999.00,9,  -999.0,9,  -999.0,9,-999.000,9,-999.000,-999.0000,9, -999.00,9, -999.00, -1.3715,-999.0000,   0.049,2,-999.000,9,-999.000,9, -999.00,9,-999.00,9, -999.00,9,108,1176
32L919920715,65,3,11,2,19920810,78.3140,-16.7650,524,   200.0, -0.3540, 34.4050,2, 34.4030,2,   290.0,2,  -999.0,9, -999.00,9, -999.00,9, -999.00,9, -999.00,9,  -999.0,9,  -999.0,9,-999.000,9,-999.000,-999.0000,9, -999.00,9, -999.00, -0.3607,-999.0000,-999.000,9,-999.000,9,-999.000,9, -999.00,9,-999.00,9, -999.00,9,108,1175
32L919920715,65,3,10,2,19920810,78.3140,-16.7650,524,   241.0,  0.2520, 34.6450,2, 34.6660,2,   292.8,2,  -999.0,9, -999.00,9, -999.00,9, -999.00,9, -999.00,9,  -999.0,9,  -999.0,9,-999.000,9,-999.000,-999.0000,9, -999.00,9, -999.00,  0.2425,-999.0000,-999.000,9,-999.000,9,-999.000,9, -999.00,9,-999.00,9, -999.00,9,108,1174
32L919920715,65,3,9,2,19920810,78.3140,-16.7650,524,   340.0,  0.9990, 34.8840,2, 34.8820,2,   287.0,2,  -999.0,9, -999.00,9, -999.00,9, -999.00,9, -999.00,9,  -999.0,9,  -999.0,9,-999.000,9,-999.000,-999.0000,9, -999.00,9, -999.00,  0.9830,-999.0000,-999.000,9,-999.000,9,-999.000,9, -999.00,9,-999.00,9, -999.00,9,108,1173
32L919920715,65,3,8,2,19920810,78.3140,-16.7650,524,   400.0,  0.9270, 34.8970,2, 34.8970,2,   289.0,2,  -999.0,9, -999.00,9, -999.00,9, -999.00,9, -999.00,9,  -999.0,9,  -999.0,9,-999.000,9,-999.000,-999.0000,9, -999.00,9, -999.00,  0.9082,-999.0000,-999.000,9,-999.000,9,-999.000,9, -999.00,9,-999.00,9, -999.00,9,108,1172
32L919920715,65,3,7,2,19920810,78.3140,-16.7650,524,   474.0,  0.8730, 34.8990,2, 34.8940,2,   286.6,2,  -999.0,9, -999.00,9, -999.00,9, -999.00,9, -999.00,9,  -999.0,9,  -999.0,9,-999.000,9,-999.000,-999.0000,9, -999.00,9, -999.00,  0.8506,-999.0000,-999.000,9,-999.000,9,-999.000,9, -999.00,9,-999.00,9, -999.00,9,108,1171
32L919920715,65,3,6,2,19920810,78.3140,-16.7650,524,   504.0,  0.8590, 34.8980,2, 34.8990,2,   282.5,2,  -999.0,9, -999.00,9, -999.00,9, -999.00,9, -999.00,9,  -999.0,9,  -999.0,9,-999.000,9,-999.000,-999.0000,9, -999.00,9, -999.00,  0.8351,-999.0000,-999.000,9,-999.000,9,-999.000,9, -999.00,9,-999.00,9, -999.00,9,108,1170
32L919920715,65,3,5,2,19920810,78.3140,-16.7650,524,   510.0,  0.8600, 34.8970,2, 34.8950,2,   268.7,2,  -999.0,9, -999.00,9, -999.00,9, -999.00,9, -999.00,9,  -999.0,9,  -999.0,9,-999.000,9,-999.000,-999.0000,9, -999.00,9, -999.00,  0.8358,-999.0000,-999.000,9,-999.000,9,-999.000,9, -999.00,9,-999.00,9, -999.00,9,108,1169
32L919920715,65,3,4,2,19920810,78.3140,-16.7650,524,   514.0,  0.8590, 34.8990,2, 34.8990,2,   280.5,2,  -999.0,9, -999.00,9, -999.00,9, -999.00,9, -999.00,9,  -999.0,9,  -999.0,9,-999.000,9,-999.000,-999.0000,9, -999.00,9, -999.00,  0.8346,-999.0000,-999.000,9,-999.000,9,-999.000,9, -999.00,9,-999.00,9, -999.00,9,108,1168
32L919920715,66,1,2,2,19920811,77.6350,-11.3740,280,     3.0, -1.3630, 31.2720,2, 31.2920,2,   385.1,2,   406.3,2,    6.84,2,    0.54,2,    0.02,2,    0.90,2,  -999.0,9,  -999.0,9,-999.000,9,-999.000,-999.0000,9, -999.00,9, -999.00, -1.3631,-999.0000,   0.049,2,  17.687,2,   3.820,2,    5.11,2,0.38,2,97100.00,2,109,1190
32L919920715,66,1,3,2,19920811,77.6350,-11.3740,280,     3.0, -1.2800, 30.9940,2, 31.2340,2,   374.8,2,   407.9,2,    6.65,2,    0.48,2,    0.01,2,    0.89,2,  -999.0,9,  -999.0,9,-999.000,9,-999.000,-999.0000,9, -999.00,9, -999.00, -1.2801,-999.0000,   0.020,2,  16.753,2,   2.960,2,    5.99,2,0.34,2,125000.00,2,109,1191
32L919920715,66,1,1,2,19920811,77.6350,-11.3740,280,     5.0, -1.4120, 31.3850,2, 31.4680,2,   381.5,2,   403.5,2,    6.42,2,    0.61,2,    0.02,2,    0.92,2,  -999.0,9,  -999.0,9,-999.000,9,-999.000,-999.0000,9, -999.00,9, -999.00, -1.4121,-999.0000,   0.049,2,  31.041,2,   7.503,2,    5.52,2,0.55,2,85100.00,2,109,1189
32L919920715,66,1,12,2,19920811,77.6350,-11.3740,280,     7.0, -1.4260, 31.5150,2, 31.4950,2,   388.5,2,   402.5,2,    6.18,2,    0.67,2,    0.02,2,    0.90,2,  -999.0,9,  -999.0,9,-999.000,9,-999.000,-999.0000,9, -999.00,9, -999.00, -1.4261,-999.0000,   0.020,2,  22.901,2,   4.493,2,    5.17,2,0.13,2,99100.00,2,109,1188
32L919920715,66,1,11,2,19920811,77.6350,-11.3740,280,    12.0, -1.4310, 31.5510,2, 31.5350,2,   390.7,2,   404.2,2,    5.93,2,    0.74,2,    0.02,2,    0.91,2,  -999.0,9,  -999.0,9,-999.000,9,-999.000,-999.0000,9, -999.00,9, -999.00, -1.4312,-999.0000,   0.039,2,  12.236,2,   2.779,2,    5.23,2,0.59,2,102000.00,2,109,1187
32L919920715,66,1,10,2,19920811,77.6350,-11.3740,280,    18.0, -1.4410, 31.6430,2, 31.6380,2,   381.8,2,   401.3,2,    6.03,2,    0.98,2,    0.02,2,    0.94,2,  -999.0,9,  -999.0,9,-999.000,9,-999.000,-999.0000,9, -999.00,9, -999.00, -1.4413,-999.0000,   0.127,2,  17.528,2,   3.722,2,    4.87,2,0.55,2,98900.00,2,109,1186
32L919920715,66,1,9,2,19920811,77.6350,-11.3740,280,    25.0, -1.5500, 31.9640,2, 31.9360,2,   371.5,2,   379.7,2,    8.88,2,    2.31,2,    0.08,2,    1.08,2,  -999.0,9,  -999.0,9,-999.000,9,-999.000,-999.0000,9, -999.00,9, -999.00, -1.5504,-999.0000,   0.254,2,   4.494,2,   0.807,2,    1.39,2,0.44,2,70600.00,2,109,1185
32L919920715,66,1,8,2,19920811,77.6350,-11.3740,280,    76.0, -1.5160, 32.9350,2, 32.9640,2,   335.5,2,   340.0,2,   11.23,2,    7.64,2,    0.01,2,    1.05,2,  -999.0,9,  -999.0,9,-999.000,9,-999.000,-999.0000,9, -999.00,9, -999.00, -1.5175,-999.0000,   0.059,2,   0.351,2,   0.076,2,    0.03,2,0.11,2, -999.00,9,109,1184
32L919920715,66,1,7,2,19920811,77.6350,-11.3740,280,   130.0, -1.2810, 34.0610,2, 34.0510,2,   312.3,2,   311.7,2,    8.28,2,   11.38,2,    0.01,2,    0.85,2,  -999.0,9,  -999.0,9,-999.000,9,-999.000,-999.0000,9, -999.00,9, -999.00, -1.2841,-999.0000,   0.059,2,   0.098,2,-999.000,9,    0.05,2,0.11,2, -999.00,9,109,1183
32L919920715,66,1,6,2,19920811,77.6350,-11.3740,280,   201.0,  0.9410, 34.7670,2, 34.7590,2,   298.1,2,   295.8,2,    7.47,2,   13.40,2,    0.01,2,    0.91,2,  -999.0,9,  -999.0,9,-999.000,9,-999.000,-999.0000,9, -999.00,9, -999.00,  0.9319,-999.0000,   0.068,2,   1.447,2,   0.122,2,    0.05,2,0.05,2, -999.00,9,109,1182
32L919920715,66,1,5,2,19920811,77.6350,-11.3740,280,   251.0,  1.2990, 34.9080,2, 34.9070,2,   293.4,2,   297.4,2,    7.41,2,   13.81,2,    0.01,2,    0.90,2,  -999.0,9,  -999.0,9,   2.200,2,   0.033,  1.8100,2,    8.10,2,    0.20,  1.2868,-999.0000,   0.010,2,-999.000,9,-999.000,9, -999.00,9,-999.00,9, -999.00,9,109,1181
32L919920715,66,1,4,2,19920811,77.6350,-11.3740,280,   270.0,  1.1200, 34.9080,2, 34.9040,2,   296.3,2,   297.3,2,    7.53,2,   14.22,2,    0.01,2,    0.93,2,  -999.0,9,  -999.0,9,-999.000,9,-999.000,-999.0000,9, -999.00,9, -999.00,  1.1072,-999.0000,   0.020,2,-999.000,9,-999.000,9, -999.00,9,-999.00,9, -999.00,9,109,1180
32L919920715,67,1,3,2,19920811,77.5720,-11.6880,449,     2.0, -1.0000, 31.0700,2, 31.2120,2,   413.5,2,   426.1,2,    1.10,2,   -0.01,2,    0.02,2,    0.85,2,  -999.0,9,  -999.0,9,-999.000,9,-999.000,-999.0000,9, -999.00,9, -999.00, -1.0000,-999.0000,   0.059,2,-999.000,9,-999.000,9,    2.70,2,0.04,2, -999.00,9,110,1203
32L919920715,67,1,2,2,19920811,77.5720,-11.6880,449,    15.0, -1.4610, 31.6290,2, 31.6840,2,   394.1,2,   408.8,2,    2.88,2,    0.64,2,    0.03,2,    1.00,2,  -999.0,9,  -999.0,9,   9.000,2,   0.135,  1.9760,2,    5.10,2,    0.20, -1.4613,-999.0000,   0.068,2,-999.000,9,-999.000,9,    3.93,2,0.26,2, -999.00,9,110,1202
32L919920715,67,1,1,2,19920811,77.5720,-11.6880,449,    50.0, -1.6010, 32.5850,2, 32.7670,2,   354.1,2,   345.7,2,   12.56,2,    6.61,2,    0.07,2,    1.10,2,  -999.0,9,  -999.0,9,-999.000,9,-999.000,-999.0000,9, -999.00,9, -999.00, -1.6019,-999.0000,   0.029,2,-999.000,9,-999.000,9,    0.26,2,0.20,2, -999.00,9,110,1201
32L919920715,67,1,12,2,19920811,77.5720,-11.6880,449,   101.0, -1.5550, 33.8980,2, 33.9360,2,   334.3,2,   330.6,2,    6.90,2,    8.92,2,    0.04,2,    0.79,2,  -999.0,9,  -999.0,9,   5.400,2,   0.081,  1.9910,2,   11.10,2,    0.20, -1.5572,-999.0000,   0.000,2,-999.000,9,-999.000,9,    0.84,2,0.10,2, -999.00,9,110,1200
32L919920715,67,1,11,2,19920811,77.5720,-11.6880,449,   152.0, -1.2910, 34.2680,2, 34.2480,2,   321.1,2,   317.4,2,    6.28,2,   10.93,2,    0.02,2,    0.83,2,  -999.0,9,  -999.0,9,-999.000,9,-999.000,-999.0000,9, -999.00,9, -999.00, -1.2948,-999.0000,   0.029,2,-999.000,9,-999.000,9,    0.20,2,0.08,2, -999.00,9,110,1199
32L919920715,67,1,10,2,19920811,77.5720,-11.6880,449,   200.0, -0.0280, 34.5590,2, 34.5410,2,   306.6,2,   302.0,2,    7.11,2,   11.67,2,    0.12,2,    0.87,2,  -999.0,9,  -999.0,9,-999.000,9,-999.000,-999.0000,9, -999.00,9, -999.00, -0.0353,-999.0000,   0.010,2,-999.000,9,-999.000,9,    0.14,2,0.10,2, -999.00,9,110,1198
32L919920715,67,1,9,2,19920811,77.5720,-11.6880,449,   251.0,  1.2330, 34.8210,2, 34.8220,2,   301.0,2,   297.3,2,    6.99,2,   12.79,2,    0.02,2,    0.92,2,  -999.0,9,  -999.0,9,   2.480,2,   0.037,  1.8730,2,    8.00,2,    0.20,  1.2209,-999.0000,   0.000,2,-999.000,9,-999.000,9, -999.00,9,-999.00,9, -999.00,9,110,1197
32L919920715,67,1,8,2,19920811,77.5720,-11.6880,449,   301.0,  1.6290, 34.9230,2, 34.9180,2,   302.1,2,   302.3,2,    6.30,2,   12.83,2,    0.01,2,    0.91,2,  -999.0,9,  -999.0,9,-999.000,9,-999.000,-999.0000,9, -999.00,9, -999.00,  1.6134,-999.0000,   0.000,2,-999.000,9,-999.000,9, -999.00,9,-999.00,9, -999.00,9,110,1196
32L919920715,67,1,7,2,19920811,77.5720,-11.6880,449,   351.0,  1.2860, 34.9190,2, 34.9150,2,   302.6,2,   299.2,2,    6.93,2,   13.17,2,    0.02,2,    0.92,2,  -999.0,9,  -999.0,9,-999.000,9,-999.000,-999.0000,9, -999.00,9, -999.00,  1.2686,-999.0000,   0.000,2,-999.000,9,-999.000,9, -999.00,9,-999.00,9, -999.00,9,110,1195
32L919920715,67,1,6,2,19920811,77.5720,-11.6880,449,   401.0,  1.0880, 34.9150,2, 34.9150,2,   301.2,2,   297.6,2,    7.12,2,   13.27,2,    0.02,2,    0.95,2,  -999.0,9,  -999.0,9,-999.000,9,-999.000,-999.0000,9, -999.00,9, -999.00,  1.0686,-999.0000,   0.020,2,-999.000,9,-999.000,9, -999.00,9,-999.00,9, -999.00,9,110,1194
32L919920715,67,1,5,2,19920811,77.5720,-11.6880,449,   420.0,  1.0910, 34.9150,2, 34.9110,2,   301.0,2,   298.0,2,    7.07,2,   13.27,2,    0.02,2,    0.94,2,  -999.0,9,  -999.0,9,   2.000,2,   0.030,  1.8830,2,    8.70,2,    0.20,  1.0706,-999.0000,   0.010,2,-999.000,9,-999.000,9, -999.00,9,-999.00,9, -999.00,9,110,1193
32L919920715,67,1,4,2,19920811,77.5720,-11.6880,449,   439.0,  1.0980, 34.9140,2, 34.9190,2,   298.6,2,   300.9,2,    7.13,2,   13.42,2,    0.03,2,    0.92,2,  -999.0,9,  -999.0,9,-999.000,9,-999.000,-999.0000,9, -999.00,9, -999.00,  1.0766,-999.0000,   0.010,2,-999.000,9,-999.000,9, -999.00,9,-999.00,9, -999.00,9,110,1192