BOTTLE,20220816CCHSIOAMB
EXPOCODE,STNNBR,CASTNO,BTLNBR,BTLNBR_FLAG_W,DATE,LATITUDE,LONGITUDE,DEPTH,CTDPRS,CTDTMP,CTDSAL,CTDSAL_FLAG_W,SALNTY,SALNTY_FLAG_W,CTDOXY,CTDOXY_FLAG_W,OXYGEN,OXYGEN_FLAG_W,SILCAT,SILCAT_FLAG_W,NITRAT,NITRAT_FLAG_W,NITRIT,NITRIT_FLAG_W,PHSPHT,PHSPHT_FLAG_W,TCARBN,TCARBN_FLAG_W,ALKALI,ALKALI_FLAG_W,TRITUM,TRITUM_FLAG_W,TRITER,HELIUM,HELIUM_FLAG_W,DELHE3,DELHE3_FLAG_W,DELHER,THETA,SOMSAL,AMMONI,AMMONI_FLAG_W,POC,POC_FLAG_W,PON,PON_FLAG_W,CHLORA,CHLORA_FLAG_W,PHAEO,PHAEO_FLAG_W,BACT,BACT_FLAG_W,STNNBR_U,BNLID
,,,,,,,,METERS,DBAR,ITS-90,PSS-78,,PSS-78,,UMOL/KG,,UMOL/KG,,UMOL/KG,,UMOL/KG,,UMOL/KG,,UMOL/KG,,UMOL/KG,,UMOL/KG,,TU,,TU,NMOL/KG,,PERCNT,,PERCNT,DEG C,PSS-78,UMOL/KG,,UG/KG,,UG/KG,,UG/KG,,UG/L,,E8/L,,,
32L919920715,68,1,3,2,19920811,77.4600,-12.0440,499,     2.0,  0.0890, 30.2450,2, 30.2730,2,   376.9,2,   406.5,2,    2.13,2,   -0.01,2,    0.03,2,    0.61,2,  -999.0,9,  -999.0,9,-999.000,9,-999.000,-999.0000,9, -999.00,9, -999.00,  0.0889,-999.0000,   0.078,2,  30.394,2,   2.854,2,    1.42,2,0.00,2,146000.00,2,111,1215
32L919920715,68,1,2,2,19920811,77.4600,-12.0440,499,     5.0,  0.0820, 30.3040,2, 30.3680,2,   387.4,2,  -999.0,9,    2.16,2,    0.14,2,    0.03,2,    0.61,2,  -999.0,9,  -999.0,9,-999.000,9,-999.000,-999.0000,9, -999.00,9, -999.00,  0.0819,-999.0000,   0.039,2,  32.973,2,   3.040,2,    1.74,2,0.02,2,153000.00,2,111,1214
32L919920715,68,1,1,2,19920811,77.4600,-12.0440,499,     9.0, -0.1070, 30.7820,2, 30.8210,2,   404.4,2,   420.1,2,    2.93,2,    0.16,2,    0.03,2,    0.68,2,  -999.0,9,  -999.0,9,-999.000,9,-999.000,-999.0000,9, -999.00,9, -999.00, -0.1072,-999.0000,   0.049,2,  39.122,2,   3.923,2,    0.93,2,0.05,2,255000.00,2,111,1213
32L919920715,68,1,12,2,19920811,77.4600,-12.0440,499,    13.0, -0.2070, 30.9280,2, 31.1360,2,   394.6,2,   420.6,2,    3.67,2,    0.29,2,    0.03,2,    0.73,2,  -999.0,9,  -999.0,9,-999.000,9,-999.000,-999.0000,9, -999.00,9, -999.00, -0.2073,-999.0000,   0.059,2,  39.891,2,   4.356,2,    2.20,2,0.58,2,265000.00,2,111,1212
32L919920715,68,1,11,2,19920811,77.4600,-12.0440,499,    23.0, -1.1610, 32.5990,2, 32.7130,2,   350.1,2,   359.2,2,   11.11,2,    4.91,2,    0.07,2,    0.91,2,  -999.0,9,  -999.0,9,-999.000,9,-999.000,-999.0000,9, -999.00,9, -999.00, -1.1615,-999.0000,   0.215,2,  21.209,2,   2.107,2,    0.55,2,0.42,2,171000.00,2,111,1211
32L919920715,68,1,10,2,19920811,77.4600,-12.0440,499,    33.0, -1.3860, 33.0070,2, 33.1060,2,   342.2,2,   347.4,2,   10.11,2,    6.16,2,    0.09,2,    0.87,2,  -999.0,9,  -999.0,9,-999.000,9,-999.000,-999.0000,9, -999.00,9, -999.00, -1.3867,-999.0000,   0.205,2,   3.144,2,   0.399,2,    0.30,2,0.37,2,139000.00,2,111,1210
32L919920715,68,1,9,2,19920811,77.4600,-12.0440,499,    80.0, -1.3660, 33.9990,2, 33.9870,2,   321.9,2,   321.8,2,    7.34,2,    9.48,2,    0.05,2,    0.80,2,  -999.0,9,  -999.0,9,-999.000,9,-999.000,-999.0000,9, -999.00,9, -999.00, -1.3678,-999.0000,   0.029,2,   1.483,2,   0.034,2,    0.05,2,0.08,2, -999.00,9,111,1209
32L919920715,68,1,8,2,19920811,77.4600,-12.0440,499,   120.0, -1.3280, 34.2140,2, 34.2060,2,   317.5,2,   316.5,2,    6.35,2,   10.42,2,    0.04,2,    0.80,2,  -999.0,9,  -999.0,9,-999.000,9,-999.000,-999.0000,9, -999.00,9, -999.00, -1.3309,-999.0000,   0.020,2,   1.791,2,   0.081,2,    0.06,2,0.08,2, -999.00,9,111,1208
32L919920715,68,1,7,2,19920811,77.4600,-12.0440,499,   251.0,  1.3190, 34.8730,2, 34.8730,2,   292.4,2,   296.2,2,    7.13,2,   12.74,2,    0.03,2,    0.90,2,  -999.0,9,  -999.0,9,   1.800,2,   0.027,  1.9260,2,    6.10,2,    0.20,  1.3067,-999.0000,   0.020,2,   0.126,2,-999.000,9,    0.02,2,0.04,2, -999.00,9,111,1207
32L919920715,68,1,6,2,19920811,77.4600,-12.0440,499,   298.0,  1.1710, 34.9020,2, 34.9000,2,   291.2,2,   295.1,2,    7.49,2,   13.04,2,    0.03,2,    0.92,2,  -999.0,9,  -999.0,9,-999.000,9,-999.000,-999.0000,9, -999.00,9, -999.00,  1.1567,-999.0000,   0.010,2,-999.000,9,-999.000,9, -999.00,9,-999.00,9, -999.00,9,111,1206
32L919920715,68,1,5,2,19920811,77.4600,-12.0440,499,   399.0,  0.8920, 34.9080,2, 34.9070,2,   292.9,2,   293.0,2,    8.13,2,   13.28,2,    0.03,2,    0.94,2,  -999.0,9,  -999.0,9,-999.000,9,-999.000,-999.0000,9, -999.00,9, -999.00,  0.8734,-999.0000,   0.020,2,-999.000,9,-999.000,9, -999.00,9,-999.00,9, -999.00,9,111,1205
32L919920715,68,1,4,2,19920811,77.4600,-12.0440,499,   489.0,  0.8140, 34.9060,2, 34.8980,2,   287.7,2,   293.2,2,    9.46,2,   13.60,2,    0.03,2,    0.96,2,  -999.0,9,  -999.0,9,-999.000,9,-999.000,-999.0000,9, -999.00,9, -999.00,  0.7911,-999.0000,   0.020,2,-999.000,9,-999.000,9, -999.00,9,-999.00,9, -999.00,9,111,1204
32L919920715,69,1,3,2,19920811,77.3510,-12.3260,310,     2.0, -0.1580, 30.5020,2, 30.5690,2,   389.8,2,   412.2,2,    2.31,2,    0.06,2,    0.01,2,    0.69,2,  -999.0,9,  -999.0,9,-999.000,9,-999.000,-999.0000,9, -999.00,9, -999.00, -0.1581,-999.0000,   0.010,2,-999.000,9,-999.000,9,    1.97,2,0.04,2, -999.00,9,112,1227
32L919920715,69,1,2,2,19920811,77.3510,-12.3260,310,    19.0, -0.9230, 32.2750,2, 32.5050,2,   360.9,2,   363.0,2,   11.77,2,    4.61,2,    0.06,2,    1.00,2,  -999.0,9,  -999.0,9,-999.000,9,-999.000,-999.0000,9, -999.00,9, -999.00, -0.9234,-999.0000,   0.205,2,-999.000,9,-999.000,9,    1.29,2,0.45,2, -999.00,9,112,1226
32L919920715,69,1,1,2,19920811,77.3510,-12.3260,310,    40.0, -1.5200, 33.2960,2, 33.4050,2,   343.5,2,   339.1,2,    9.36,2,    6.97,2,    0.08,2,    0.86,2,  -999.0,9,  -999.0,9,-999.000,9,-999.000,-999.0000,9, -999.00,9, -999.00, -1.5208,-999.0000,   0.146,2,-999.000,9,-999.000,9,    0.24,2,0.27,2, -999.00,9,112,1225
32L919920715,69,1,12,2,19920811,77.3510,-12.3260,310,    60.0, -1.5300, 33.8930,2, 33.8400,2,   318.2,2,   328.4,2,    7.75,2,    8.47,2,    0.03,2,    0.82,2,  -999.0,9,  -999.0,9,-999.000,9,-999.000,-999.0000,9, -999.00,9, -999.00, -1.5313,-999.0000,   0.010,2,-999.000,9,-999.000,9,    0.16,2,0.13,2, -999.00,9,112,1224
32L919920715,69,1,11,2,19920811,77.3510,-12.3260,310,    80.0, -1.1830, 34.1240,2, 34.0990,2,   315.5,2,   313.5,2,    7.72,2,   10.27,2,    0.00,2,    0.85,2,  -999.0,9,  -999.0,9,-999.000,9,-999.000,-999.0000,9, -999.00,9, -999.00, -1.1850,-999.0000,   0.010,2,-999.000,9,-999.000,9,    0.03,2,0.07,2, -999.00,9,112,1223
32L919920715,69,1,10,2,19920811,77.3510,-12.3260,310,   100.0, -1.1560, 34.1900,2, 34.1950,2,   312.8,2,   313.8,2,    6.99,2,   10.34,2,    0.01,2,    0.83,2,  -999.0,9,  -999.0,9,-999.000,9,-999.000,-999.0000,9, -999.00,9, -999.00, -1.1585,-999.0000,   0.029,2,-999.000,9,-999.000,9,    0.05,2,0.08,2, -999.00,9,112,1222
32L919920715,69,1,9,2,19920811,77.3510,-12.3260,310,   140.0, -0.1590, 34.5320,2, 34.5240,2,   288.3,2,   296.7,2,    7.92,2,   11.88,2,    0.01,2,    0.90,2,  -999.0,9,  -999.0,9,-999.000,9,-999.000,-999.0000,9, -999.00,9, -999.00, -0.1639,-999.0000,   0.010,2,-999.000,9,-999.000,9,    0.03,2,0.09,2, -999.00,9,112,1221
32L919920715,69,1,8,2,19920811,77.3510,-12.3260,310,   180.0,  0.6600, 34.7250,2, 34.7240,2,   281.6,2,   289.7,2,    8.33,2,   12.66,2,    0.01,2,    0.93,2,  -999.0,9,  -999.0,9,-999.000,9,-999.000,-999.0000,9, -999.00,9, -999.00,  0.6524,-999.0000,   0.039,2,-999.000,9,-999.000,9,    0.03,2,0.10,2, -999.00,9,112,1220
32L919920715,69,1,7,2,19920811,77.3510,-12.3260,310,   220.0,  1.4480, 34.8820,2, 34.8640,2,   294.2,2,   298.5,2,    6.73,2,   12.48,2,    0.01,2,    0.90,2,  -999.0,9,  -999.0,9,-999.000,9,-999.000,-999.0000,9, -999.00,9, -999.00,  1.4371,-999.0000,   0.088,2,-999.000,9,-999.000,9, -999.00,9,-999.00,9, -999.00,9,112,1219
32L919920715,69,1,6,2,19920811,77.3510,-12.3260,310,   250.0,  1.4950, 34.9180,2, 34.9110,2,   297.2,2,   301.2,2,    6.33,2,   12.50,2,    0.01,2,    0.91,2,  -999.0,9,  -999.0,9,   2.510,2,   0.038,  1.9290,2,    3.00,2,    0.20,  1.4824,-999.0000,   0.010,2,-999.000,9,-999.000,9, -999.00,9,-999.00,9, -999.00,9,112,1218
32L919920715,69,1,5,2,19920811,77.3510,-12.3260,310,   300.0,  1.1580, 34.9150,2, 34.9120,2,   289.5,2,   298.6,2,    7.16,2,   12.78,2,    0.01,2,    0.91,2,  -999.0,9,  -999.0,9,-999.000,9,-999.000,-999.0000,9, -999.00,9, -999.00,  1.1436,-999.0000,   0.000,2,-999.000,9,-999.000,9, -999.00,9,-999.00,9, -999.00,9,112,1217
32L919920715,70,1,3,2,19920811,77.2350,-12.6690,270,     2.0, -0.3370, 30.5880,2, 30.5350,2,   400.7,2,   409.3,2,    1.88,2,   -0.02,2,    0.02,2,    0.68,2,  -999.0,9,  -999.0,9,-999.000,9,-999.000,-999.0000,9, -999.00,9, -999.00, -0.3370,-999.0000,   0.049,2,  29.222,2,   2.580,2,    2.05,2,0.04,2,147000.00,2,113,1239
32L919920715,70,1,2,2,19920811,77.2350,-12.6690,270,     4.0, -0.2690, 30.5500,2, 30.5630,2,   407.7,2,   409.4,2,    2.30,2,   -0.01,2,    0.02,2,    0.69,2,  -999.0,9,  -999.0,9,-999.000,9,-999.000,-999.0000,9, -999.00,9, -999.00, -0.2691,-999.0000,   0.049,2,  30.740,2,   3.159,2,    1.91,2,0.06,2,147000.00,2,113,1238
32L919920715,70,1,1,2,19920811,77.2350,-12.6690,270,     9.0, -0.5010, 30.7730,2, 31.0170,2,   394.9,2,   421.0,2,    3.82,2,    0.01,2,    0.03,2,    0.77,2,  -999.0,9,  -999.0,9,-999.000,9,-999.000,-999.0000,9, -999.00,9, -999.00, -0.5012,-999.0000,   0.068,2,  36.057,2,   3.867,2,    3.41,2,0.08,2,193000.00,2,113,1237
32L919920715,70,1,12,2,19920811,77.2350,-12.6690,270,    13.0, -0.9040, 31.3430,2, 31.5000,2,   405.9,2,   417.5,2,    8.48,2,    0.16,2,    0.03,2,    1.13,2,  -999.0,9,  -999.0,9,-999.000,9,-999.000,-999.0000,9, -999.00,9, -999.00, -0.9043,-999.0000,   0.059,2,  42.432,2,   6.119,2,    5.52,2,0.36,2,231000.00,2,113,1236
32L919920715,70,1,11,2,19920811,77.2350,-12.6690,270,    20.0, -1.3580, 32.0600,2, 32.1330,2,   378.6,2,   383.1,2,   12.52,2,    2.37,2,    0.07,2,    1.00,2,  -999.0,9,  -999.0,9,-999.000,9,-999.000,-999.0000,9, -999.00,9, -999.00, -1.3584,-999.0000,   0.137,2,  17.650,2,   3.382,2,    7.22,2,1.05,2,153000.00,2,113,1235
32L919920715,70,1,10,2,19920811,77.2350,-12.6690,270,    30.0, -1.4480, 32.4820,2, 32.5440,2,   355.0,2,   354.6,2,   10.35,2,    5.28,2,    0.10,2,    1.08,2,  -999.0,9,  -999.0,9,-999.000,9,-999.000,-999.0000,9, -999.00,9, -999.00, -1.4486,-999.0000,   0.127,2,   3.357,2,   0.598,2,    0.45,2,0.36,2,95500.00,2,113,1234
32L919920715,70,1,9,2,19920811,77.2350,-12.6690,270,    60.0, -1.6190, 33.3290,2, 33.3620,2,   331.2,2,   336.4,2,    9.62,2,    7.28,2,    0.07,2,    0.94,2,  -999.0,9,  -999.0,9,-999.000,9,-999.000,-999.0000,9, -999.00,9, -999.00, -1.6202,-999.0000,   0.049,2,   0.289,2,   0.118,2,    0.10,2,0.14,2, -999.00,9,113,1233
32L919920715,70,1,8,2,19920811,77.2350,-12.6690,270,    80.0, -1.2890, 33.7460,2, 33.7600,2,   322.6,2,   319.8,2,    8.96,2,    8.66,2,    0.02,2,    0.88,2,  -999.0,9,  -999.0,9,-999.000,9,-999.000,-999.0000,9, -999.00,9, -999.00, -1.2908,-999.0000,   0.020,2,   0.299,2,   0.087,2,    0.05,2,0.12,2, -999.00,9,113,1232
32L919920715,70,1,7,2,19920811,77.2350,-12.6690,270,   120.0, -1.5000, 34.1290,2, 34.1270,2,   323.7,2,   321.6,2,    6.02,2,    9.58,2,    0.01,2,    0.78,2,  -999.0,9,  -999.0,9,-999.000,9,-999.000,-999.0000,9, -999.00,9, -999.00, -1.5027,-999.0000,   0.020,2,   0.564,2,   0.113,2,    0.05,2,0.09,2, -999.00,9,113,1231
32L919920715,70,1,6,2,19920811,77.2350,-12.6690,270,   160.0, -0.3090, 34.4290,2, 34.4360,2,   301.3,2,   294.6,2,    8.66,2,   11.77,2,    0.00,2,    0.92,2,  -999.0,9,  -999.0,9,-999.000,9,-999.000,-999.0000,9, -999.00,9, -999.00, -0.3144,-999.0000,   0.020,2,   0.018,2,-999.000,9,    0.02,2,0.05,2, -999.00,9,113,1230
32L919920715,70,1,5,2,19920811,77.2350,-12.6690,270,   201.0,  0.4960, 34.6730,2, 34.6710,2,   287.9,2,   287.3,2,    9.06,2,   12.64,2,    0.02,2,    0.93,2,  -999.0,9,  -999.0,9,-999.000,9,-999.000,-999.0000,9, -999.00,9, -999.00,  0.4877,-999.0000,   0.020,2,   0.484,2,   0.074,2,    0.00,2,0.11,2, -999.00,9,113,1229
32L919920715,70,1,4,2,19920811,77.2350,-12.6690,270,   260.0,  0.6860, 34.7360,2, 34.7120,2,   288.0,2,   286.9,2,    9.23,2,   12.77,2,    0.02,2,    0.94,2,  -999.0,9,  -999.0,9,   2.790,2,   0.042,  1.9190,2,    9.30,2,    0.20,  0.6747,-999.0000,   0.029,2,-999.000,9,-999.000,9, -999.00,9,-999.00,9, -999.00,9,113,1228
32L919920715,71,1,5,2,19920811,77.3410,-11.8540,423,     2.0,  0.1060, 30.4490,2, 30.7350,2,   372.9,2,  -999.0,9,    3.10,2,    0.19,2,    0.02,2,    0.72,2,  -999.0,9,  -999.0,9,-999.000,9,-999.000,-999.0000,9, -999.00,9, -999.00,  0.1059,-999.0000,   0.049,2,-999.000,9,-999.000,9, -999.00,9,-999.00,9, -999.00,9,114,1241
32L919920715,71,1,4,2,19920811,77.3410,-11.8540,423,   413.0,  1.0030, 34.9100,2, 34.9120,2,   302.1,2,  -999.0,9,    7.45,2,   12.17,2,    0.03,2,    0.94,2,  -999.0,9,  -999.0,9,-999.000,9,-999.000,-999.0000,9, -999.00,9, -999.00,  0.9833,-999.0000,   0.049,2,-999.000,9,-999.000,9, -999.00,9,-999.00,9, -999.00,9,114,1240
32L919920715,72,1,5,2,19920812,77.1530,-10.5330,499,     2.0, -0.1610, 30.4450,2, 30.4740,2,   393.1,2,  -999.0,9,    2.22,2,   -0.01,2,    0.01,2,    0.66,2,  -999.0,9,  -999.0,9,-999.000,9,-999.000,-999.0000,9, -999.00,9, -999.00, -0.1611,-999.0000,   0.049,2,-999.000,9,-999.000,9, -999.00,9,-999.00,9, -999.00,9,115,1253
32L919920715,72,1,4,2,19920812,77.1530,-10.5330,499,    10.0, -0.2390, 30.6290,2, 31.4650,2,   403.1,2,  -999.0,9,    3.75,2,    0.39,2,    0.01,2,    0.78,2,  -999.0,9,  -999.0,9,-999.000,9,-999.000,-999.0000,9, -999.00,9, -999.00, -0.2393,-999.0000,   0.049,2,-999.000,9,-999.000,9, -999.00,9,-999.00,9, -999.00,9,115,1252
32L919920715,72,1,2,2,19920812,77.1530,-10.5330,499,    20.0, -0.9710, 32.4570,2, 32.5580,2,   360.8,2,  -999.0,9,   11.81,2,    3.95,2,    0.05,2,    0.95,2,  -999.0,9,  -999.0,9,-999.000,9,-999.000,-999.0000,9, -999.00,9, -999.00, -0.9715,-999.0000,   0.215,2,-999.000,9,-999.000,9, -999.00,9,-999.00,9, -999.00,9,115,1250
32L919920715,72,1,3,2,19920812,77.1530,-10.5330,499,    20.0, -0.9890, 32.4580,2, 32.6070,2,   375.0,2,  -999.0,9,   11.47,2,    3.96,2,    0.05,2,    0.95,2,  -999.0,9,  -999.0,9,-999.000,9,-999.000,-999.0000,9, -999.00,9, -999.00, -0.9895,-999.0000,   0.205,2,-999.000,9,-999.000,9, -999.00,9,-999.00,9, -999.00,9,115,1251
32L919920715,72,1,1,2,19920812,77.1530,-10.5330,499,    30.0, -1.3030, 32.9280,2, 33.0000,2,   352.2,2,  -999.0,9,   10.52,2,    4.83,2,    0.07,2,    0.86,2,  -999.0,9,  -999.0,9,-999.000,9,-999.000,-999.0000,9, -999.00,9, -999.00, -1.3036,-999.0000,   0.185,2,-999.000,9,-999.000,9, -999.00,9,-999.00,9, -999.00,9,115,1249
32L919920715,72,1,12,2,19920812,77.1530,-10.5330,499,    40.0, -1.4620, 33.3970,2, 33.4070,2,   340.7,2,  -999.0,9,    9.28,2,    6.26,2,    0.07,2,    0.82,2,  -999.0,9,  -999.0,9,-999.000,9,-999.000,-999.0000,9, -999.00,9, -999.00, -1.4628,-999.0000,   0.185,2,-999.000,9,-999.000,9, -999.00,9,-999.00,9, -999.00,9,115,1248
32L919920715,72,1,11,2,19920812,77.1530,-10.5330,499,    50.0, -1.4860, 33.6410,2, 33.6840,2,   328.5,2,  -999.0,9,    8.69,2,    7.39,2,    0.07,2,    0.83,2,  -999.0,9,  -999.0,9,-999.000,9,-999.000,-999.0000,9, -999.00,9, -999.00, -1.4870,-999.0000,   0.059,2,-999.000,9,-999.000,9, -999.00,9,-999.00,9, -999.00,9,115,1247
32L919920715,72,1,10,2,19920812,77.1530,-10.5330,499,   150.0, -0.6010, 34.4180,2, 34.4130,2,   308.4,2,  -999.0,9,    7.11,2,   10.74,2,    0.00,2,    0.85,2,  -999.0,9,  -999.0,9,-999.000,9,-999.000,-999.0000,9, -999.00,9, -999.00, -0.6056,-999.0000,   0.010,2,-999.000,9,-999.000,9, -999.00,9,-999.00,9, -999.00,9,115,1246
32L919920715,72,1,9,2,19920812,77.1530,-10.5330,499,   301.0,  1.2130, 34.9080,2, 34.9050,2,   296.4,2,  -999.0,9,    7.42,2,   12.98,2,    0.00,2,    0.91,2,  -999.0,9,  -999.0,9,-999.000,9,-999.000,-999.0000,9, -999.00,9, -999.00,  1.1984,-999.0000,   0.010,2,-999.000,9,-999.000,9, -999.00,9,-999.00,9, -999.00,9,115,1245
32L919920715,72,1,8,2,19920812,77.1530,-10.5330,499,   430.0,  0.8200, 34.9040,2, 34.9050,2,   289.2,2,  -999.0,9,    9.23,2,   12.97,2,    0.01,2,    0.96,2,  -999.0,9,  -999.0,9,-999.000,9,-999.000,-999.0000,9, -999.00,9, -999.00,  0.8001,-999.0000,   0.010,2,-999.000,9,-999.000,9, -999.00,9,-999.00,9, -999.00,9,115,1244
32L919920715,72,1,7,2,19920812,77.1530,-10.5330,499,   482.0,  0.8090, 34.9020,2, 34.9010,2,   284.2,2,  -999.0,9,    9.65,2,   13.06,2,    0.01,2,    0.97,2,  -999.0,9,  -999.0,9,-999.000,9,-999.000,-999.0000,9, -999.00,9, -999.00,  0.7865,-999.0000,   0.020,2,-999.000,9,-999.000,9, -999.00,9,-999.00,9, -999.00,9,115,1243
32L919920715,72,1,6,2,19920812,77.1530,-10.5330,499,   485.0,  0.8090, 34.9030,2, 34.9020,2,   288.0,2,  -999.0,9,    9.66,2,   13.10,2,    0.01,2,    0.97,2,  -999.0,9,  -999.0,9,-999.000,9,-999.000,-999.0000,9, -999.00,9, -999.00,  0.7863,-999.0000,   0.010,2,-999.000,9,-999.000,9, -999.00,9,-999.00,9, -999.00,9,115,1242