BOTTLE,20220816CCHSIOAMB
EXPOCODE,STNNBR,CASTNO,BTLNBR,BTLNBR_FLAG_W,DATE,LATITUDE,LONGITUDE,DEPTH,CTDPRS,CTDTMP,CTDSAL,CTDSAL_FLAG_W,SALNTY,SALNTY_FLAG_W,CTDOXY,CTDOXY_FLAG_W,OXYGEN,OXYGEN_FLAG_W,SILCAT,SILCAT_FLAG_W,NITRAT,NITRAT_FLAG_W,NITRIT,NITRIT_FLAG_W,PHSPHT,PHSPHT_FLAG_W,TCARBN,TCARBN_FLAG_W,ALKALI,ALKALI_FLAG_W,TRITUM,TRITUM_FLAG_W,TRITER,HELIUM,HELIUM_FLAG_W,DELHE3,DELHE3_FLAG_W,DELHER,THETA,SOMSAL,AMMONI,AMMONI_FLAG_W,POC,POC_FLAG_W,PON,PON_FLAG_W,CHLORA,CHLORA_FLAG_W,PHAEO,PHAEO_FLAG_W,BACT,BACT_FLAG_W,STNNBR_U,BNLID
,,,,,,,,METERS,DBAR,ITS-90,PSS-78,,PSS-78,,UMOL/KG,,UMOL/KG,,UMOL/KG,,UMOL/KG,,UMOL/KG,,UMOL/KG,,UMOL/KG,,UMOL/KG,,TU,,TU,NMOL/KG,,PERCNT,,PERCNT,DEG C,PSS-78,UMOL/KG,,UG/KG,,UG/KG,,UG/KG,,UG/L,,E8/L,,,
32L919920715,21,1,5,2,19920725,80.5390,-10.9800,266,     2.0, -1.4720, 31.8150,2, 35.0690,2,   430.4,2,   421.3,2,    3.20,2,    0.08,2,    0.01,2,    0.85,2,  -999.0,9,  -999.0,9,-999.000,9,-999.000,-999.0000,9, -999.00,9, -999.00, -1.4720,-999.0000,   0.000,2,-999.000,9,-999.000,9,    0.71,2,0.20,2, -999.00,9,30,353
32L919920715,21,1,4,2,19920725,80.5390,-10.9800,266,    11.0, -1.5680, 32.0200,2,-999.0000,9,   416.5,2,   403.8,2,    4.00,2,    0.16,2,    0.02,2,    0.91,2,  -999.0,9,  -999.0,9,-999.000,9,-999.000,-999.0000,9, -999.00,9, -999.00, -1.5682,-999.0000,   0.000,2,-999.000,9,-999.000,9,    2.00,2,0.36,2, -999.00,9,30,352
32L919920715,21,1,3,2,19920725,80.5390,-10.9800,266,    20.0, -1.5950, 32.2370,2, 32.2660,2,   380.5,2,   369.5,2,    9.80,2,    2.91,2,    0.10,2,    1.08,2,  -999.0,9,  -999.0,9,-999.000,9,-999.000,-999.0000,9, -999.00,9, -999.00, -1.5953,-999.0000,   0.117,2,-999.000,9,-999.000,9,    0.91,2,0.48,2, -999.00,9,30,351
32L919920715,21,1,2,2,19920725,80.5390,-10.9800,266,    36.0, -1.6630, 32.3130,2,-999.0000,9,   366.8,2,   365.8,2,   10.63,2,    3.91,2,    0.08,2,    1.08,2,  -999.0,9,  -999.0,9,-999.000,9,-999.000,-999.0000,9, -999.00,9, -999.00, -1.6636,-999.0000,   0.010,2,-999.000,9,-999.000,9,    0.87,2,0.00,2, -999.00,9,30,350
32L919920715,21,1,1,2,19920725,80.5390,-10.9800,266,    50.0, -1.7040, 32.3340,2,-999.0000,9,   361.7,2,   365.4,2,   10.61,2,    4.08,2,    0.03,2,    1.08,2,  -999.0,9,  -999.0,9,-999.000,9,-999.000,-999.0000,9, -999.00,9, -999.00, -1.7048,-999.0000,   0.000,2,-999.000,9,-999.000,9,    0.21,2,0.09,2, -999.00,9,30,349
32L919920715,21,1,12,2,19920725,80.5390,-10.9800,266,    66.0, -1.7110, 32.3500,2, 32.3590,2,   366.4,2,   365.7,2,   11.93,2,    4.20,2,    0.02,2,    1.08,2,  -999.0,9,  -999.0,9,   7.850,2,   0.118,  1.9140,2,    3.00,2,    0.20, -1.7121,-999.0000,   0.000,2,-999.000,9,-999.000,9,    0.13,2,0.09,2, -999.00,9,30,348
32L919920715,21,1,11,2,19920725,80.5390,-10.9800,266,    80.0, -1.7060, 32.4240,2,-999.0000,9,   359.9,2,   361.2,2,   11.70,2,    4.82,2,    0.03,2,    1.12,2,  -999.0,9,  -999.0,9,-999.000,9,-999.000,-999.0000,9, -999.00,9, -999.00, -1.7073,-999.0000,   0.010,2,-999.000,9,-999.000,9,    0.14,2,0.12,2, -999.00,9,30,347
32L919920715,21,1,10,2,19920725,80.5390,-10.9800,266,   101.0, -1.6490, 32.6550,2,-999.0000,9,   352.4,2,   350.8,2,   12.77,2,    6.18,2,    0.04,2,    1.12,2,  -999.0,9,  -999.0,9,-999.000,9,-999.000,-999.0000,9, -999.00,9, -999.00, -1.6508,-999.0000,   0.010,2,-999.000,9,-999.000,9,    0.16,2,0.17,2, -999.00,9,30,346
32L919920715,21,1,9,2,19920725,80.5390,-10.9800,266,   151.0, -0.5870, 34.0670,2, 34.1290,2,   303.2,2,   299.7,2,   11.75,2,   12.01,2,    0.02,2,    1.03,2,  -999.0,9,  -999.0,9,-999.000,9,-999.000,-999.0000,9, -999.00,9, -999.00, -0.5916,-999.0000,   0.010,2,-999.000,9,-999.000,9,    0.09,2,0.11,2, -999.00,9,30,345
32L919920715,21,1,8,2,19920725,80.5390,-10.9800,266,   199.0,  0.1760, 34.5720,2,-999.0000,9,   288.3,2,   287.7,2,   11.56,2,   13.13,2,    0.01,2,    1.03,2,  -999.0,9,  -999.0,9,-999.000,9,-999.000,-999.0000,9, -999.00,9, -999.00,  0.1684,-999.0000,   0.010,2,-999.000,9,-999.000,9,    0.07,2,0.10,2, -999.00,9,30,344
32L919920715,21,1,7,2,19920725,80.5390,-10.9800,266,   229.0,  0.4080, 34.7600,2, 34.7780,2,   282.8,2,   283.2,2,   12.07,2,   13.45,2,    0.02,2,    1.06,2,  -999.0,9,  -999.0,9,   2.240,2,   0.034,  1.8920,2,   11.80,2,    0.20,  0.3986,-999.0000,   0.010,2,-999.000,9,-999.000,9, -999.00,9,-999.00,9, -999.00,9,30,343
32L919920715,21,1,6,2,19920725,80.5390,-10.9800,266,   256.0,  0.4140, 34.7700,2,-999.0000,9,   285.4,2,   285.8,2,   12.07,2,   13.38,2,    0.02,2,    1.06,2,  -999.0,9,  -999.0,9,-999.000,9,-999.000,-999.0000,9, -999.00,9, -999.00,  0.4035,-999.0000,   0.010,2,-999.000,9,-999.000,9, -999.00,9,-999.00,9, -999.00,9,30,342
32L919920715,22,1,5,2,19920725,80.6100,-10.9750,276,     2.0,  0.4060, 31.9830,2,-999.0000,9,   434.9,2,   428.2,2,    1.85,2,    0.01,2,   -0.01,2,    0.77,2,  -999.0,9,  -999.0,9,-999.000,9,-999.000,-999.0000,9, -999.00,9, -999.00,  0.4059,-999.0000,   0.010,2,-999.000,9,-999.000,9,    0.97,2,0.16,2, -999.00,9,31,365
32L919920715,22,1,4,2,19920725,80.6100,-10.9750,276,    10.0,  0.3900, 32.1920,2,-999.0000,9,   435.0,2,   432.8,2,    0.84,2,    0.01,2,    0.00,2,    0.80,2,  -999.0,9,  -999.0,9,-999.000,9,-999.000,-999.0000,9, -999.00,9, -999.00,  0.3897,-999.0000,   0.010,2,-999.000,9,-999.000,9,    2.99,2,0.36,2, -999.00,9,31,364
32L919920715,22,1,3,2,19920725,80.6100,-10.9750,276,    21.0, -1.3320, 32.2290,2,-999.0000,9,   407.2,2,   395.0,2,    4.10,2,    0.55,2,    0.01,2,    0.91,2,  -999.0,9,  -999.0,9,-999.000,9,-999.000,-999.0000,9, -999.00,9, -999.00, -1.3324,-999.0000,   0.020,2,-999.000,9,-999.000,9,    8.04,2,1.13,2, -999.00,9,31,363
32L919920715,22,1,2,2,19920725,80.6100,-10.9750,276,    36.0, -1.5320, 32.3460,2,-999.0000,9,   370.8,2,   365.9,2,   10.88,2,    4.09,2,    0.01,2,    1.09,2,  -999.0,9,  -999.0,9,-999.000,9,-999.000,-999.0000,9, -999.00,9, -999.00, -1.5326,-999.0000,   0.000,2,-999.000,9,-999.000,9,    1.41,2,0.14,2, -999.00,9,31,362
32L919920715,22,1,1,2,19920725,80.6100,-10.9750,276,    51.0, -1.7090, 32.3540,2,-999.0000,9,   370.9,2,   364.6,2,   10.93,2,    4.10,2,    0.01,2,    1.07,2,  -999.0,9,  -999.0,9,-999.000,9,-999.000,-999.0000,9, -999.00,9, -999.00, -1.7098,-999.0000,   0.000,2,-999.000,9,-999.000,9,    0.16,2,0.25,2, -999.00,9,31,361
32L919920715,22,1,12,2,19920725,80.6100,-10.9750,276,    66.0, -1.7470, 32.3580,2,-999.0000,9,   367.2,2,   365.2,2,   11.25,2,    4.18,2,    0.00,2,    1.10,2,  -999.0,9,  -999.0,9,-999.000,9,-999.000,-999.0000,9, -999.00,9, -999.00, -1.7481,-999.0000,   0.000,2,-999.000,9,-999.000,9,    0.05,2,0.03,2, -999.00,9,31,360
32L919920715,22,1,11,2,19920725,80.6100,-10.9750,276,    81.0, -1.6690, 32.4650,2,-999.0000,9,   355.1,2,   356.9,2,   11.49,2,    4.93,2,    0.03,2,    1.11,2,  -999.0,9,  -999.0,9,-999.000,9,-999.000,-999.0000,9, -999.00,9, -999.00, -1.6704,-999.0000,   0.000,2,-999.000,9,-999.000,9,    0.31,2,0.13,2, -999.00,9,31,359
32L919920715,22,1,10,2,19920725,80.6100,-10.9750,276,   110.0, -1.1900, 33.2480,2,-999.0000,9,   326.1,2,   327.5,2,   12.56,2,    8.19,2,    0.06,2,    1.10,2,  -999.0,9,  -999.0,9,-999.000,9,-999.000,-999.0000,9, -999.00,9, -999.00, -1.1926,-999.0000,   0.010,2,-999.000,9,-999.000,9,    0.29,2,0.24,2, -999.00,9,31,358
32L919920715,22,1,9,2,19920725,80.6100,-10.9750,276,   150.0, -0.3150, 34.2970,2,-999.0000,9,   297.2,2,   294.1,2,   11.21,2,   12.48,2,    0.00,2,    1.02,2,  -999.0,9,  -999.0,9,-999.000,9,-999.000,-999.0000,9, -999.00,9, -999.00, -0.3200,-999.0000,   0.010,2,-999.000,9,-999.000,9,    0.10,2,0.11,2, -999.00,9,31,357
32L919920715,22,1,8,2,19920725,80.6100,-10.9750,276,   199.0,  0.3580, 34.6950,2,-999.0000,9,   291.6,2,   284.8,2,   11.50,2,   13.21,2,    0.00,2,    1.04,2,  -999.0,9,  -999.0,9,-999.000,9,-999.000,-999.0000,9, -999.00,9, -999.00,  0.3500,-999.0000,   0.020,2,-999.000,9,-999.000,9,    0.06,2,0.08,2, -999.00,9,31,356
32L919920715,22,1,7,2,19920725,80.6100,-10.9750,276,   231.0,  0.3870, 34.7750,2, 34.7750,2,   285.9,2,   284.2,2,   11.53,2,   13.27,2,    0.00,2,    1.04,2,  -999.0,9,  -999.0,9,-999.000,9,-999.000,-999.0000,9, -999.00,9, -999.00,  0.3776,-999.0000,   0.020,2,-999.000,9,-999.000,9, -999.00,9,-999.00,9, -999.00,9,31,355
32L919920715,22,1,6,2,19920725,80.6100,-10.9750,276,   266.0,  0.4030, 34.7950,2,-999.0000,9,   287.7,2,   285.3,2,   11.76,2,   13.33,2,    0.01,2,    1.04,2,  -999.0,9,  -999.0,9,-999.000,9,-999.000,-999.0000,9, -999.00,9, -999.00,  0.3920,-999.0000,   0.029,2,-999.000,9,-999.000,9, -999.00,9,-999.00,9, -999.00,9,31,354
32L919920715,23,1,5,2,19920725,80.6700,-10.9560,161,     2.0,  0.7970, 31.1600,2,-999.0000,9,   405.9,2,  -999.0,9,    1.58,2,    0.04,2,    0.01,2,    0.93,2,  -999.0,9,  -999.0,9,-999.000,9,-999.000,-999.0000,9, -999.00,9, -999.00,  0.7969,-999.0000,   0.049,2,   6.514,2,   1.139,2,    0.39,2,0.06,2,81100.00,2,32,377
32L919920715,23,1,4,2,19920725,80.6700,-10.9560,161,     5.0,  0.4920, 31.5220,2,-999.0000,9,   420.1,2,   416.7,2,    1.48,2,    0.05,2,    0.00,2,    0.94,2,  -999.0,9,  -999.0,9,-999.000,9,-999.000,-999.0000,9, -999.00,9, -999.00,  0.4918,-999.0000,   0.039,2,   9.625,2,   1.157,2,    0.67,2,0.06,2,94100.00,2,32,376
32L919920715,23,1,3,2,19920725,80.6700,-10.9560,161,     9.0, -0.2680, 31.6760,2,-999.0000,9,   431.2,2,   424.3,2,    1.42,2,    0.05,2,    0.01,2,    0.94,2,  -999.0,9,  -999.0,9,-999.000,9,-999.000,-999.0000,9, -999.00,9, -999.00, -0.2682,-999.0000,   0.049,2,  11.429,2,   1.507,2,    1.12,2,0.01,2,80000.00,2,32,375
32L919920715,23,1,2,2,19920725,80.6700,-10.9560,161,    15.0, -0.6710, 31.8680,2,-999.0000,9,   431.4,2,   423.1,2,    1.37,2,    0.06,2,    0.01,2,    0.94,2,  -999.0,9,  -999.0,9,-999.000,9,-999.000,-999.0000,9, -999.00,9, -999.00, -0.6714,-999.0000,   0.078,2,  14.672,2,   1.808,2,    1.64,2,0.13,2,84900.00,2,32,374
32L919920715,23,1,1,2,19920725,80.6700,-10.9560,161,    23.0, -0.9850, 32.0810,2,-999.0000,9,   417.7,2,   416.3,2,    1.19,2,    0.06,2,    0.01,2,    0.93,2,  -999.0,9,  -999.0,9,-999.000,9,-999.000,-999.0000,9, -999.00,9, -999.00, -0.9855,-999.0000,   0.059,2,  17.530,2,   2.314,2,    2.23,2,0.22,2,88500.00,2,32,373
32L919920715,23,1,12,2,19920725,80.6700,-10.9560,161,    35.0, -1.2860, 32.1910,2,-999.0000,9,   404.0,2,   406.7,2,    0.67,2,    0.10,2,    0.00,2,    0.92,2,  -999.0,9,  -999.0,9,-999.000,9,-999.000,-999.0000,9, -999.00,9, -999.00, -1.2867,-999.0000,   0.039,2,  20.375,2,   2.983,2,    5.34,2,0.41,2,118000.00,2,32,372
32L919920715,23,1,11,2,19920725,80.6700,-10.9560,161,    51.0, -1.6230, 32.3460,2,-999.0000,9,   369.6,2,   364.1,2,    8.22,2,    2.86,2,    0.04,2,    1.17,2,  -999.0,9,  -999.0,9,-999.000,9,-999.000,-999.0000,9, -999.00,9, -999.00, -1.6239,-999.0000,   0.068,2,   6.156,2,   0.932,2,    1.59,2,0.38,2,79500.00,2,32,371
32L919920715,23,1,10,2,19920725,80.6700,-10.9560,161,    65.0, -1.7290, 32.3640,2,-999.0000,9,   365.6,2,   363.4,2,    9.13,2,    3.06,2,    0.01,2,    1.19,2,  -999.0,9,  -999.0,9,-999.000,9,-999.000,-999.0000,9, -999.00,9, -999.00, -1.7301,-999.0000,   0.029,2,   4.505,2,   0.384,2,    0.54,2,0.19,2, -999.00,9,32,370
32L919920715,23,1,9,2,19920725,80.6700,-10.9560,161,    81.0, -1.5800, 32.6460,2,-999.0000,9,   348.2,2,   347.8,2,    9.83,2,    4.18,2,    0.04,2,    1.16,2,  -999.0,9,  -999.0,9,-999.000,9,-999.000,-999.0000,9, -999.00,9, -999.00, -1.5815,-999.0000,   0.039,2,   2.959,2,   0.388,2,    0.39,2,0.20,2, -999.00,9,32,369
32L919920715,23,1,8,2,19920725,80.6700,-10.9560,161,   110.0, -0.8690, 33.6920,2,-999.0000,9,   319.1,2,   311.1,2,   10.29,2,    8.38,2,    0.03,2,    1.12,2,  -999.0,9,  -999.0,9,-999.000,9,-999.000,-999.0000,9, -999.00,9, -999.00, -0.8720,-999.0000,   0.020,2,   1.684,2,   0.285,2,    0.29,2,0.18,2, -999.00,9,32,368
32L919920715,23,1,7,2,19920725,80.6700,-10.9560,161,   151.0,  0.1280, 34.5940,2, 34.6300,2,   291.0,2,   286.9,2,    9.23,2,   12.22,2,    0.01,2,    1.07,2,  -999.0,9,  -999.0,9,-999.000,9,-999.000,-999.0000,9, -999.00,9, -999.00,  0.1223,-999.0000,   0.020,2,   0.665,2,   0.165,2,    0.15,2,0.13,2, -999.00,9,32,367
32L919920715,24,1,4,2,19920725,80.7220,-10.9380,120,     2.0,  0.4270, 31.3740,2,-999.0000,9,   409.3,2,   409.0,2,    1.60,2,    0.02,2,    0.00,2,    0.89,2,  -999.0,9,  -999.0,9,-999.000,9,-999.000,-999.0000,9, -999.00,9, -999.00,  0.4269,-999.0000,   0.078,2,-999.000,9,-999.000,9,    1.61,2,0.10,2, -999.00,9,33,388
32L919920715,24,1,3,2,19920725,80.7220,-10.9380,120,    10.0, -0.5380, 31.6660,2,-999.0000,9,   427.5,2,   426.2,2,    1.64,2,   -0.01,2,    0.01,2,    0.89,2,  -999.0,9,  -999.0,9,-999.000,9,-999.000,-999.0000,9, -999.00,9, -999.00, -0.5382,-999.0000,   0.088,2,-999.000,9,-999.000,9,    3.35,2,0.21,2, -999.00,9,33,387
32L919920715,24,1,2,2,19920725,80.7220,-10.9380,120,    20.0, -0.9840, 31.8670,2,-999.0000,9,   407.8,2,   416.5,2,    2.42,2,    0.02,2,    0.01,2,    0.92,2,  -999.0,9,  -999.0,9,-999.000,9,-999.000,-999.0000,9, -999.00,9, -999.00, -0.9844,-999.0000,   0.068,2,-999.000,9,-999.000,9,    6.16,2,0.29,2, -999.00,9,33,386
32L919920715,24,1,1,2,19920725,80.7220,-10.9380,120,    31.0, -1.3230, 32.1640,2,-999.0000,9,   392.7,2,   391.3,2,    3.80,2,    0.49,2,    0.01,2,    1.00,2,  -999.0,9,  -999.0,9,-999.000,9,-999.000,-999.0000,9, -999.00,9, -999.00, -1.3236,-999.0000,   0.088,2,-999.000,9,-999.000,9,    3.41,2,0.47,2, -999.00,9,33,385
32L919920715,24,1,12,2,19920725,80.7220,-10.9380,120,    40.0, -1.4300, 32.2400,2,-999.0000,9,   382.8,2,   379.7,2,    4.79,2,    1.23,2,    0.01,2,    1.06,2,  -999.0,9,  -999.0,9,-999.000,9,-999.000,-999.0000,9, -999.00,9, -999.00, -1.4307,-999.0000,   0.185,2,-999.000,9,-999.000,9,    2.79,2,0.31,2, -999.00,9,33,384
32L919920715,24,1,11,2,19920725,80.7220,-10.9380,120,    50.0, -1.4640, 32.3170,2,-999.0000,9,   367.7,2,   366.1,2,    6.78,2,    2.04,2,    0.03,2,    1.14,2,  -999.0,9,  -999.0,9,-999.000,9,-999.000,-999.0000,9, -999.00,9, -999.00, -1.4649,-999.0000,   0.302,2,-999.000,9,-999.000,9,    1.56,2,0.64,2, -999.00,9,33,383
32L919920715,24,1,10,2,19920725,80.7220,-10.9380,120,    60.0, -1.5550, 32.4470,2,-999.0000,9,   356.1,2,   359.1,2,    8.05,2,    2.71,2,    0.05,2,    1.17,2,  -999.0,9,  -999.0,9,-999.000,9,-999.000,-999.0000,9, -999.00,9, -999.00, -1.5561,-999.0000,   0.273,2,-999.000,9,-999.000,9,    0.91,2,0.51,2, -999.00,9,33,382
32L919920715,24,1,9,2,19920725,80.7220,-10.9380,120,    70.0, -1.5430, 32.5710,2,-999.0000,9,   350.7,2,   350.0,2,    9.58,2,    4.00,2,    0.05,2,    1.18,2,  -999.0,9,  -999.0,9,-999.000,9,-999.000,-999.0000,9, -999.00,9, -999.00, -1.5443,-999.0000,   0.127,2,-999.000,9,-999.000,9,    0.69,2,0.34,2, -999.00,9,33,381
32L919920715,24,1,8,2,19920725,80.7220,-10.9380,120,    79.0, -1.3880, 32.9380,2,-999.0000,9,   336.8,2,   337.5,2,   10.64,2,    5.43,2,    0.05,2,    1.18,2,  -999.0,9,  -999.0,9,-999.000,9,-999.000,-999.0000,9, -999.00,9, -999.00, -1.3896,-999.0000,   0.078,2,-999.000,9,-999.000,9,    0.47,2,0.32,2, -999.00,9,33,380
32L919920715,24,1,7,2,19920725,80.7220,-10.9380,120,    91.0, -1.3110, 33.0380,2,-999.0000,9,   325.3,2,   320.1,2,   10.88,2,    7.46,2,    0.04,2,    1.16,2,  -999.0,9,  -999.0,9,-999.000,9,-999.000,-999.0000,9, -999.00,9, -999.00, -1.3130,-999.0000,   0.068,2,-999.000,9,-999.000,9,    0.41,2,0.18,2, -999.00,9,33,379
32L919920715,24,1,6,2,19920725,80.7220,-10.9380,120,   110.0, -0.3760, 34.3130,2,-999.0000,9,   296.6,2,   296.8,2,   10.89,2,   10.27,2,    0.06,2,    1.13,2,  -999.0,9,  -999.0,9,-999.000,9,-999.000,-999.0000,9, -999.00,9, -999.00, -0.3796,-999.0000,   0.068,2,-999.000,9,-999.000,9,    0.14,2,0.10,2, -999.00,9,33,378
32L919920715,25,1,4,2,19920726,80.4540,-13.3520,315,     2.0,  1.7240, 32.2720,2,-999.0000,9,   387.6,2,   377.0,2,    5.86,2,    0.45,2,    0.02,2,    0.91,2,  -999.0,9,  -999.0,9,-999.000,9,-999.000,-999.0000,9, -999.00,9, -999.00,  1.7239,-999.0000,   0.312,2,  17.042,2,   3.445,2,    1.07,2,0.13,2,89600.00,2,34,400
32L919920715,25,1,3,2,19920726,80.4540,-13.3520,315,     3.0,  1.8790, 32.2550,2,-999.0000,9,   388.1,2,   377.1,2,    5.88,2,    0.53,2,    0.02,2,    0.93,2,  2070.0,2,  2245.1,3,-999.000,9,-999.000,-999.0000,9, -999.00,9, -999.00,  1.8789,32.1470,   0.332,2,  13.856,2,   2.846,2,    0.76,2,0.04,2,73700.00,2,34,399
32L919920715,25,1,2,2,19920726,80.4540,-13.3520,315,     5.0,  1.8560, 32.2500,2,-999.0000,9,   385.2,2,   377.4,2,    5.95,2,    0.57,2,    0.02,2,    0.93,2,  -999.0,9,  -999.0,9,-999.000,9,-999.000,-999.0000,9, -999.00,9, -999.00,  1.8558,-999.0000,   0.332,2,  14.823,2,   2.752,2,    0.84,2,0.16,2,75100.00,2,34,398
32L919920715,25,1,1,2,19920726,80.4540,-13.3520,315,     7.0,  1.7080, 32.2620,2,-999.0000,9,   397.3,2,   379.2,2,    6.05,2,    0.67,2,    0.02,2,    0.97,2,  -999.0,9,  -999.0,9,-999.000,9,-999.000,-999.0000,9, -999.00,9, -999.00,  1.7077,-999.0000,   0.332,2,  14.631,2,   2.463,2,    0.43,2,0.40,2,105000.00,2,34,397
32L919920715,25,1,12,2,19920726,80.4540,-13.3520,315,    11.0,  1.8090, 32.2580,2,-999.0000,9,   393.3,2,   377.7,2,    6.70,2,    1.15,2,    0.02,2,    1.00,2,  -999.0,9,  -999.0,9,-999.000,9,-999.000,-999.0000,9, -999.00,9, -999.00,  1.8085,-999.0000,   0.322,2,  15.009,2,   2.426,2,    0.75,2,0.11,2,86100.00,2,34,396
32L919920715,25,1,10,2,19920726,80.4540,-13.3520,315,    16.0,  0.2660, 32.3160,2,-999.0000,9,   377.7,2,   370.0,2,    8.61,2,    2.88,2,    0.02,2,    1.08,2,  2097.6,2,  2221.4,2,-999.000,9,-999.000,-999.0000,9, -999.00,9, -999.00,  0.2655,32.2210,   0.312,2,-999.000,9,-999.000,9, -999.00,9,-999.00,9,36900.00,2,34,394
32L919920715,25,1,11,2,19920726,80.4540,-13.3520,315,    16.0,  0.3610, 32.3230,2,-999.0000,9,   388.4,2,   372.7,2,    8.22,2,    2.52,2,    0.02,2,    1.07,2,  -999.0,9,  -999.0,9,-999.000,9,-999.000,-999.0000,9, -999.00,9, -999.00,  0.3605,-999.0000,   0.312,2,  30.690,2,   4.189,2,    0.38,2,0.12,2,67800.00,2,34,395
32L919920715,25,1,9,2,19920726,80.4540,-13.3520,315,    24.0, -1.4710, 32.3220,2,-999.0000,9,   379.9,2,   369.7,2,    8.36,2,    3.27,2,    0.01,2,    1.11,2,  -999.0,9,  -999.0,9,-999.000,9,-999.000,-999.0000,9, -999.00,9, -999.00, -1.4714,-999.0000,   0.312,2,   4.307,2,   0.639,2,    0.20,2,0.13,2,60700.00,2,34,393
32L919920715,25,1,8,2,19920726,80.4540,-13.3520,315,    70.0, -1.7470, 32.3770,2,-999.0000,9,   366.6,2,   362.9,2,    9.21,2,    4.18,2,    0.00,2,    1.16,2,  2109.5,2,  2223.0,2,-999.000,9,-999.000,-999.0000,9, -999.00,9, -999.00, -1.7481,32.2760,   0.293,2,   1.685,2,   0.134,2,    0.03,2,0.02,2, -999.00,9,34,392
32L919920715,25,1,7,2,19920726,80.4540,-13.3520,315,   121.0, -1.5140, 33.2200,2,-999.0000,9,   333.4,2,   335.0,2,   10.22,2,    7.42,2,    0.00,2,    1.06,2,  2139.9,2,  2248.3,2,-999.000,9,-999.000,-999.0000,9, -999.00,9, -999.00, -1.5165,33.1330,   0.312,2,   3.289,2,   0.201,2,    0.03,2,0.02,2, -999.00,9,34,391
32L919920715,25,1,6,2,19920726,80.4540,-13.3520,315,   200.0,  0.1360, 34.5340,2,-999.0000,9,   292.8,2,   288.3,2, -999.00,9, -999.00,9, -999.00,9, -999.00,9,  2144.3,2,  2278.7,2,-999.000,9,-999.000,-999.0000,9, -999.00,9, -999.00,  0.1284,34.4780,-999.000,9,-999.000,9,-999.000,9, -999.00,9,-999.00,9, -999.00,9,34,390
32L919920715,25,1,5,2,19920726,80.4540,-13.3520,315,   287.0,  0.5550, 34.7300,2,-999.0000,9,   290.1,2,   287.8,2,    9.75,2,   13.39,2,    0.01,2,    1.07,2,  -999.0,9,  -999.0,9,-999.000,9,-999.000,-999.0000,9, -999.00,9, -999.00,  0.5428,-999.0000,   0.263,2,-999.000,9,-999.000,9, -999.00,9,-999.00,9, -999.00,9,34,389