BOTTLE,20220816CCHSIOAMB
EXPOCODE,STNNBR,CASTNO,BTLNBR,BTLNBR_FLAG_W,DATE,LATITUDE,LONGITUDE,DEPTH,CTDPRS,CTDTMP,CTDSAL,CTDSAL_FLAG_W,SALNTY,SALNTY_FLAG_W,CTDOXY,CTDOXY_FLAG_W,OXYGEN,OXYGEN_FLAG_W,SILCAT,SILCAT_FLAG_W,NITRAT,NITRAT_FLAG_W,NITRIT,NITRIT_FLAG_W,PHSPHT,PHSPHT_FLAG_W,TCARBN,TCARBN_FLAG_W,ALKALI,ALKALI_FLAG_W,TRITUM,TRITUM_FLAG_W,TRITER,HELIUM,HELIUM_FLAG_W,DELHE3,DELHE3_FLAG_W,DELHER,THETA,SOMSAL,AMMONI,AMMONI_FLAG_W,POC,POC_FLAG_W,PON,PON_FLAG_W,CHLORA,CHLORA_FLAG_W,PHAEO,PHAEO_FLAG_W,BACT,BACT_FLAG_W,STNNBR_U,BNLID
,,,,,,,,METERS,DBAR,ITS-90,PSS-78,,PSS-78,,UMOL/KG,,UMOL/KG,,UMOL/KG,,UMOL/KG,,UMOL/KG,,UMOL/KG,,UMOL/KG,,UMOL/KG,,TU,,TU,NMOL/KG,,PERCNT,,PERCNT,DEG C,PSS-78,UMOL/KG,,UG/KG,,UG/KG,,UG/KG,,UG/L,,E8/L,,,
32L919920715,60,1,5,2,19920808,79.8330,-16.1640,245,     2.0, -0.7860, 32.0600,2, 32.1070,2,   419.2,2,   413.9,2,    7.19,2,    0.66,2,    0.04,2,    0.90,2,  -999.0,9,  -999.0,9,-999.000,9,-999.000,-999.0000,9, -999.00,9, -999.00, -0.7860,-999.0000,   0.088,2,-999.000,9,-999.000,9,    5.11,2,0.38,2, -999.00,9,97,1049
32L919920715,60,1,4,2,19920808,79.8330,-16.1640,245,    10.0, -1.3530, 32.1500,2, 32.1780,2,   390.9,2,   386.2,2,    6.90,2,    1.79,2,    0.05,2,    0.99,2,  -999.0,9,  -999.0,9,-999.000,9,-999.000,-999.0000,9, -999.00,9, -999.00, -1.3532,-999.0000,   0.078,2,-999.000,9,-999.000,9,    4.76,2,0.02,2, -999.00,9,97,1048
32L919920715,60,1,3,2,19920808,79.8330,-16.1640,245,    20.0, -1.4820, 32.2440,2, 32.2720,2,   367.3,2,   369.8,2,    8.69,2,    3.80,2,    0.04,2,    1.08,2,  -999.0,9,  -999.0,9,-999.000,9,-999.000,-999.0000,9, -999.00,9, -999.00, -1.4824,-999.0000,   0.068,2,-999.000,9,-999.000,9,    1.50,2,0.12,2, -999.00,9,97,1047
32L919920715,60,1,2,2,19920808,79.8330,-16.1640,245,    40.0, -1.7460, 32.3220,2, 32.3250,2,   365.6,2,   365.7,2,    9.33,2,    4.55,2,    0.03,2,    1.12,2,  -999.0,9,  -999.0,9,-999.000,9,-999.000,-999.0000,9, -999.00,9, -999.00, -1.7466,-999.0000,   0.049,2,-999.000,9,-999.000,9,    0.09,2,0.03,2, -999.00,9,97,1046
32L919920715,60,1,1,2,19920808,79.8330,-16.1640,245,    60.0, -1.7490, 32.3610,2, 32.3670,2,   367.0,2,   364.3,2,    9.36,2,    4.79,2,    0.02,2,    1.12,2,  -999.0,9,  -999.0,9,-999.000,9,-999.000,-999.0000,9, -999.00,9, -999.00, -1.7500,-999.0000,   0.059,2,-999.000,9,-999.000,9,    0.03,2,0.01,2, -999.00,9,97,1045
32L919920715,60,1,12,2,19920808,79.8330,-16.1640,245,    80.0, -1.7020, 32.4980,2, 32.5060,2,   360.8,2,   358.2,2,    9.99,2,    5.67,2,    0.02,2,    1.12,2,  -999.0,9,  -999.0,9,-999.000,9,-999.000,-999.0000,9, -999.00,9, -999.00, -1.7034,-999.0000,   0.029,2,-999.000,9,-999.000,9,    0.06,2,0.00,2, -999.00,9,97,1044
32L919920715,60,1,11,2,19920808,79.8330,-16.1640,245,   100.0, -1.5730, 32.8720,2, 32.9710,2,   344.9,2,   342.6,2,   10.41,2,    7.80,2,    0.02,2,    1.09,2,  -999.0,9,  -999.0,9,-999.000,9,-999.000,-999.0000,9, -999.00,9, -999.00, -1.5749,-999.0000,   0.010,2,-999.000,9,-999.000,9,    0.01,2,0.02,2, -999.00,9,97,1043
32L919920715,60,1,10,2,19920808,79.8330,-16.1640,245,   119.0, -1.3090, 33.5090,2, 33.5580,2,   323.5,2,   324.7,2,    9.66,2,   10.08,2,    0.02,2,    1.02,2,  -999.0,9,  -999.0,9,-999.000,9,-999.000,-999.0000,9, -999.00,9, -999.00, -1.3117,-999.0000,   0.029,2,-999.000,9,-999.000,9,    0.02,2,0.02,2, -999.00,9,97,1042
32L919920715,60,1,9,2,19920808,79.8330,-16.1640,245,   160.0, -0.3000, 34.2850,2, 34.2930,2,   298.6,2,   297.3,2,    9.12,2,   13.22,2,    0.01,2,    1.03,2,  -999.0,9,  -999.0,9,-999.000,9,-999.000,-999.0000,9, -999.00,9, -999.00, -0.3053,-999.0000,   0.020,2,-999.000,9,-999.000,9,    0.05,2,0.02,2, -999.00,9,97,1041
32L919920715,60,1,8,2,19920808,79.8330,-16.1640,245,   199.0,  0.1730, 34.5600,2, 34.5460,2,   287.5,2,   289.6,2,    9.17,2,   13.96,2,    0.02,2,    1.03,2,  -999.0,9,  -999.0,9,-999.000,9,-999.000,-999.0000,9, -999.00,9, -999.00,  0.1654,-999.0000,   0.010,2,-999.000,9,-999.000,9,    0.03,2,0.02,2, -999.00,9,97,1040
32L919920715,60,1,7,2,19920808,79.8330,-16.1640,245,   230.0,  0.3310, 34.6270,2, 34.6140,2,   286.9,2,   288.0,2,    9.24,2,   14.12,2,    0.02,2,    1.04,2,  -999.0,9,  -999.0,9,-999.000,9,-999.000,-999.0000,9, -999.00,9, -999.00,  0.3218,-999.0000,   0.020,2,-999.000,9,-999.000,9, -999.00,9,-999.00,9, -999.00,9,97,1039
32L919920715,60,1,6,2,19920808,79.8330,-16.1640,245,   235.0,  0.3870, 34.6520,2, 34.5910,2,   287.7,2,   290.3,2,    9.25,2,   14.37,2,    0.03,2,    1.04,2,  -999.0,9,  -999.0,9,-999.000,9,-999.000,-999.0000,9, -999.00,9, -999.00,  0.3775,-999.0000,   0.059,2,-999.000,9,-999.000,9, -999.00,9,-999.00,9, -999.00,9,97,1038
32L919920715,61,1,5,2,19920808,79.7560,-15.5740,210,     2.0,  0.2240, 31.9370,2, 31.9330,2,   386.3,2,   376.5,2,    5.15,2,    0.70,2,   -0.06,2,    0.86,2,  -999.0,9,  -999.0,9,-999.000,9,-999.000,-999.0000,9, -999.00,9, -999.00,  0.2239,-999.0000,   0.049,2,  10.993,2,   1.222,2,    1.50,2,0.09,2,45400.00,2,98,1061
32L919920715,61,1,4,2,19920808,79.7560,-15.5740,210,     5.0, -0.2660, 32.1410,2, 32.1660,2,   378.1,2,   373.3,2,    7.47,2,    1.38,2,   -0.03,2,    0.95,2,  -999.0,9,  -999.0,9,-999.000,9,-999.000,-999.0000,9, -999.00,9, -999.00, -0.2661,-999.0000,   0.059,2,   8.022,2,   0.902,2,    1.00,2,0.20,2,37300.00,2,98,1060
32L919920715,61,1,3,2,19920808,79.7560,-15.5740,210,    11.0, -0.5480, 32.2360,2, 32.2420,2,   383.0,2,   372.2,2,    8.30,2,    1.66,2,   -0.02,2,    0.99,2,  -999.0,9,  -999.0,9,-999.000,9,-999.000,-999.0000,9, -999.00,9, -999.00, -0.5483,-999.0000,   0.088,2,   6.264,2,   0.836,2,    0.76,2,0.20,2,42300.00,2,98,1059
32L919920715,61,1,2,2,19920808,79.7560,-15.5740,210,    17.0, -0.6280, 32.2720,2, 32.2570,2,   360.6,2,   371.5,2,    8.52,2,    1.78,2,   -0.04,2,    1.00,2,  -999.0,9,  -999.0,9,-999.000,9,-999.000,-999.0000,9, -999.00,9, -999.00, -0.6284,-999.0000,   0.098,2,   4.667,2,   0.508,2,    0.49,2,0.22,2,40500.00,2,98,1058
32L919920715,61,1,1,2,19920808,79.7560,-15.5740,210,    27.0, -1.6020, 32.2660,2, 32.2740,2,   376.2,2,   371.9,2,    8.42,2,    1.71,2,   -0.04,2,    0.99,2,  -999.0,9,  -999.0,9,-999.000,9,-999.000,-999.0000,9, -999.00,9, -999.00, -1.6025,-999.0000,   0.117,2,   4.336,2,   0.407,2,    0.59,2,0.36,2,53700.00,2,98,1057
32L919920715,61,1,12,2,19920808,79.7560,-15.5740,210,    42.0, -1.7190, 32.3090,2, 32.3170,2,   359.5,2,   366.9,2,    9.16,2,    2.25,2,   -0.06,2,    1.05,2,  -999.0,9,  -999.0,9,-999.000,9,-999.000,-999.0000,9, -999.00,9, -999.00, -1.7197,-999.0000,   0.078,2,   3.545,2,   0.120,2,    0.33,2,0.08,2,23100.00,2,98,1056
32L919920715,61,1,11,2,19920808,79.7560,-15.5740,210,    63.0, -1.7390, 32.3760,2, 32.3730,2,   366.6,2,   364.3,2,    9.15,2,    2.57,2,   -0.06,2,    1.05,2,  -999.0,9,  -999.0,9,-999.000,9,-999.000,-999.0000,9, -999.00,9, -999.00, -1.7400,-999.0000,   0.078,2,   0.602,2,   0.093,2,    0.03,2,0.01,2,23400.00,2,98,1055
32L919920715,61,1,10,2,19920808,79.7560,-15.5740,210,    80.0, -1.7070, 32.4700,2, 32.4730,2,   360.5,2,   363.1,2,    9.92,2,    3.01,2,   -0.05,2,    1.07,2,  -999.0,9,  -999.0,9,-999.000,9,-999.000,-999.0000,9, -999.00,9, -999.00, -1.7084,-999.0000,   0.029,2,   2.091,2,   0.028,2,    0.01,2,0.02,2, -999.00,9,98,1054
32L919920715,61,1,9,2,19920808,79.7560,-15.5740,210,   100.0, -1.6110, 32.8130,2, 32.8620,2,   344.9,2,   346.1,2,   10.88,2,    4.22,2,   -0.05,2,    1.04,2,  -999.0,9,  -999.0,9,-999.000,9,-999.000,-999.0000,9, -999.00,9, -999.00, -1.6129,-999.0000,   0.039,2,   1.740,2,   0.028,2,    0.04,2,0.02,2, -999.00,9,98,1053
32L919920715,61,1,8,2,19920808,79.7560,-15.5740,210,   151.0, -0.7440, 34.0650,2, 34.1630,2,   292.5,2,   303.0,2,    9.07,2,    9.42,2,   -0.04,2,    0.96,2,  -999.0,9,  -999.0,9,-999.000,9,-999.000,-999.0000,9, -999.00,9, -999.00, -0.7484,-999.0000,   0.049,2,   2.166,2,   0.064,2,    0.07,2,0.04,2, -999.00,9,98,1052
32L919920715,61,1,7,2,19920808,79.7560,-15.5740,210,   200.0,  0.1790, 34.5710,2, 34.5710,2,   286.9,2,   292.2,2,    9.22,2,   10.65,2,   -0.06,2,    0.97,2,  -999.0,9,  -999.0,9,-999.000,9,-999.000,-999.0000,9, -999.00,9, -999.00,  0.1713,-999.0000,   0.059,2,   3.986,2,   0.044,2,    0.02,2,0.01,2, -999.00,9,98,1051
32L919920715,62,1,5,2,19920808,79.6280,-15.9730,209,     2.0, -1.2750, 32.1610,2, 32.1870,2,   377.7,2,   371.9,2,    8.37,2,    3.27,2,    0.07,2,    1.02,2,  -999.0,9,  -999.0,9,-999.000,9,-999.000,-999.0000,9, -999.00,9, -999.00, -1.2750,-999.0000,   0.020,2,-999.000,9,-999.000,9,    0.39,2,0.20,2, -999.00,9,99,1073
32L919920715,62,1,4,2,19920808,79.6280,-15.9730,209,    10.0, -1.5450, 32.2100,2, 32.2020,2,   374.7,2,   371.4,2,    8.37,2,    3.35,2,    0.07,2,    1.03,2,  -999.0,9,  -999.0,9,-999.000,9,-999.000,-999.0000,9, -999.00,9, -999.00, -1.5452,-999.0000,   0.010,2,-999.000,9,-999.000,9,    0.45,2,0.09,2, -999.00,9,99,1072
32L919920715,62,1,3,2,19920808,79.6280,-15.9730,209,    20.0, -1.6660, 32.2500,2, 32.2430,2,   385.0,2,   370.0,2,    8.37,2,    3.40,2,    0.06,2,    1.04,2,  -999.0,9,  -999.0,9,-999.000,9,-999.000,-999.0000,9, -999.00,9, -999.00, -1.6663,-999.0000,   0.010,2,-999.000,9,-999.000,9,    0.33,2,0.14,2, -999.00,9,99,1071
32L919920715,62,1,2,2,19920808,79.6280,-15.9730,209,    40.0, -1.7200, 32.3020,2, 32.2860,2,   384.3,2,   369.1,2,    8.64,2,    3.82,2,    0.04,2,    1.04,2,  -999.0,9,  -999.0,9,-999.000,9,-999.000,-999.0000,9, -999.00,9, -999.00, -1.7206,-999.0000,   0.000,2,-999.000,9,-999.000,9,    0.36,2,0.14,2, -999.00,9,99,1070
32L919920715,62,1,1,2,19920808,79.6280,-15.9730,209,    60.0, -1.7480, 32.3600,2, 32.3590,2,   377.3,2,   365.6,2,    9.18,2,    4.26,2,    0.03,2,    1.07,2,  -999.0,9,  -999.0,9,-999.000,9,-999.000,-999.0000,9, -999.00,9, -999.00, -1.7490,-999.0000,   0.010,2,-999.000,9,-999.000,9,    0.12,2,0.04,2, -999.00,9,99,1069
32L919920715,62,1,12,2,19920808,79.6280,-15.9730,209,    80.0, -1.7170, 32.4760,2, 32.4680,2,   360.6,2,   359.7,2,   10.05,2,    4.93,2,    0.03,2,    1.08,2,  -999.0,9,  -999.0,9,-999.000,9,-999.000,-999.0000,9, -999.00,9, -999.00, -1.7183,-999.0000,   0.010,2,-999.000,9,-999.000,9,    0.02,2,0.02,2, -999.00,9,99,1068
32L919920715,62,1,11,2,19920808,79.6280,-15.9730,209,   100.0, -1.6030, 32.8260,2, 32.8720,2,   357.7,2,   345.2,2,   10.97,2,    6.61,2,    0.03,2,    1.04,2,  -999.0,9,  -999.0,9,-999.000,9,-999.000,-999.0000,9, -999.00,9, -999.00, -1.6049,-999.0000,   0.000,2,-999.000,9,-999.000,9,    0.01,2,0.02,2, -999.00,9,99,1067
32L919920715,62,1,10,2,19920808,79.6280,-15.9730,209,   120.0, -1.4800, 33.3650,2, 33.3660,2,   342.2,2,   332.9,2,   10.22,2,    8.24,2,    0.03,2,    0.98,2,  -999.0,9,  -999.0,9,-999.000,9,-999.000,-999.0000,9, -999.00,9, -999.00, -1.4825,-999.0000,   0.000,2,-999.000,9,-999.000,9,    0.01,2,0.02,2, -999.00,9,99,1066
32L919920715,62,1,9,2,19920808,79.6280,-15.9730,209,   160.0, -0.4680, 34.2710,2, 34.2550,2,   309.0,2,   296.9,2,    9.13,2,   12.65,2,    0.03,2,    0.98,2,  -999.0,9,  -999.0,9,-999.000,9,-999.000,-999.0000,9, -999.00,9, -999.00, -0.4731,-999.0000,   0.000,2,-999.000,9,-999.000,9,    0.01,2,0.02,2, -999.00,9,99,1065
32L919920715,62,1,8,2,19920808,79.6280,-15.9730,209,   181.0,  0.0180, 34.5080,2, 34.4950,2,   298.9,2,   290.2,2,    9.13,2,   13.39,2,    0.04,2,    0.99,2,  -999.0,9,  -999.0,9,-999.000,9,-999.000,-999.0000,9, -999.00,9, -999.00,  0.0114,-999.0000,   0.010,2,-999.000,9,-999.000,9,    0.01,2,0.02,2, -999.00,9,99,1064
32L919920715,62,1,7,2,19920808,79.6280,-15.9730,209,   194.0,  0.0790, 34.5390,2, 34.5280,2,   282.9,2,   289.8,2,    9.18,2,   13.51,2,    0.04,2,    1.00,2,  -999.0,9,  -999.0,9,-999.000,9,-999.000,-999.0000,9, -999.00,9, -999.00,  0.0718,-999.0000,   0.000,2,-999.000,9,-999.000,9,    0.01,2,0.02,2, -999.00,9,99,1063
32L919920715,62,1,6,2,19920808,79.6280,-15.9730,209,   199.0,  0.0910, 34.5470,2, 34.4820,2,   297.4,2,   292.0,2,    9.16,2,   13.21,2,    0.04,2,    1.00,2,  -999.0,9,  -999.0,9,-999.000,9,-999.000,-999.0000,9, -999.00,9, -999.00,  0.0836,-999.0000,   0.000,2,-999.000,9,-999.000,9,    0.02,2,0.07,2, -999.00,9,99,1062
32L919920715,62,2,5,2,19920808,79.6280,-15.9730,209,    10.0, -1.2950, 32.1810,2,-999.0000,9,   388.8,2,  -999.0,9,    8.35,2,    3.45,2,    0.07,2,    1.05,2,  -999.0,9,  -999.0,9,-999.000,9,-999.000,-999.0000,9, -999.00,9, -999.00, -1.2952,-999.0000,   0.010,2,-999.000,9,-999.000,9, -999.00,9,-999.00,9, -999.00,9,100,1085
32L919920715,62,2,4,2,19920808,79.6280,-15.9730,209,    20.0, -1.6270, 32.2470,2,-999.0000,9,   387.9,2,  -999.0,9,    8.60,2,    3.59,2,    0.06,2,    1.06,2,  -999.0,9,  -999.0,9,-999.000,9,-999.000,-999.0000,9, -999.00,9, -999.00, -1.6273,-999.0000,   0.020,2,-999.000,9,-999.000,9, -999.00,9,-999.00,9, -999.00,9,100,1084
32L919920715,62,2,3,2,19920808,79.6280,-15.9730,209,    31.0, -1.6750, 32.2710,2,-999.0000,9,   389.1,2,  -999.0,9,    8.58,2,    3.71,2,    0.05,2,    1.06,2,  -999.0,9,  -999.0,9,-999.000,9,-999.000,-999.0000,9, -999.00,9, -999.00, -1.6755,-999.0000,   0.010,2,-999.000,9,-999.000,9, -999.00,9,-999.00,9, -999.00,9,100,1083
32L919920715,62,2,2,2,19920808,79.6280,-15.9730,209,    50.0, -1.7370, 32.3190,2,-999.0000,9,   387.4,2,  -999.0,9,    9.08,2,    4.04,2,    0.03,2,    1.08,2,  -999.0,9,  -999.0,9,-999.000,9,-999.000,-999.0000,9, -999.00,9, -999.00, -1.7378,-999.0000,   0.010,2,-999.000,9,-999.000,9, -999.00,9,-999.00,9, -999.00,9,100,1082
32L919920715,62,2,1,2,19920808,79.6280,-15.9730,209,    70.0, -1.7380, 32.4050,2,-999.0000,9,   383.5,2,  -999.0,9,    9.44,2,    4.53,2,    0.03,2,    1.08,2,  -999.0,9,  -999.0,9,-999.000,9,-999.000,-999.0000,9, -999.00,9, -999.00, -1.7391,-999.0000,   0.000,2,-999.000,9,-999.000,9, -999.00,9,-999.00,9, -999.00,9,100,1081
32L919920715,62,2,12,2,19920808,79.6280,-15.9730,209,    80.0, -1.7190, 32.4660,2,-999.0000,9,   380.2,2,  -999.0,9,    9.93,2,    4.90,2,    0.03,2,    1.10,2,  -999.0,9,  -999.0,9,-999.000,9,-999.000,-999.0000,9, -999.00,9, -999.00, -1.7203,-999.0000,   0.000,2,-999.000,9,-999.000,9, -999.00,9,-999.00,9, -999.00,9,100,1080
32L919920715,62,2,11,2,19920808,79.6280,-15.9730,209,    90.0, -1.6900, 32.5530,2,-999.0000,9,   373.9,2,  -999.0,9,   10.27,2,    5.39,2,    0.03,2,    1.09,2,  -999.0,9,  -999.0,9,-999.000,9,-999.000,-999.0000,9, -999.00,9, -999.00, -1.6916,-999.0000,   0.000,2,-999.000,9,-999.000,9, -999.00,9,-999.00,9, -999.00,9,100,1079
32L919920715,62,2,10,2,19920808,79.6280,-15.9730,209,   100.0, -1.6070, 32.8090,2,-999.0000,9,   360.1,2,  -999.0,9,   10.68,2,    6.63,2,    0.04,2,    1.06,2,  -999.0,9,  -999.0,9,-999.000,9,-999.000,-999.0000,9, -999.00,9, -999.00, -1.6089,-999.0000,   0.000,2,-999.000,9,-999.000,9, -999.00,9,-999.00,9, -999.00,9,100,1078
32L919920715,62,2,9,2,19920808,79.6280,-15.9730,209,   149.0, -0.7420, 34.1060,2,-999.0000,9,   318.6,2,  -999.0,9,    9.09,2,   12.23,2,    0.03,2,    1.00,2,  -999.0,9,  -999.0,9,-999.000,9,-999.000,-999.0000,9, -999.00,9, -999.00, -0.7463,-999.0000,   0.000,2,-999.000,9,-999.000,9, -999.00,9,-999.00,9, -999.00,9,100,1077
32L919920715,62,2,8,2,19920808,79.6280,-15.9730,209,   175.0, -0.1430, 34.4520,2,-999.0000,9,   303.8,2,  -999.0,9,    9.11,2,   13.27,2,    0.04,2,    1.00,2,  -999.0,9,  -999.0,9,-999.000,9,-999.000,-999.0000,9, -999.00,9, -999.00, -0.1492,-999.0000,   0.000,2,-999.000,9,-999.000,9, -999.00,9,-999.00,9, -999.00,9,100,1076
32L919920715,62,2,7,2,19920808,79.6280,-15.9730,209,   190.0,  0.0810, 34.5380,2,-999.0000,9,   294.7,2,  -999.0,9,    9.18,2,   13.51,2,    0.03,2,    1.00,2,  -999.0,9,  -999.0,9,-999.000,9,-999.000,-999.0000,9, -999.00,9, -999.00,  0.0739,-999.0000,   0.000,2,-999.000,9,-999.000,9, -999.00,9,-999.00,9, -999.00,9,100,1075
32L919920715,62,2,6,2,19920808,79.6280,-15.9730,209,   195.0,  0.0880, 34.5440,2,-999.0000,9,   288.1,2,  -999.0,9,    9.16,2,   13.31,2,    0.06,2,    1.00,2,  -999.0,9,  -999.0,9,-999.000,9,-999.000,-999.0000,9, -999.00,9, -999.00,  0.0807,-999.0000,   0.000,2,-999.000,9,-999.000,9, -999.00,9,-999.00,9, -999.00,9,100,1074
32L919920715,63,1,5,2,19920809,79.1550,-13.7880,151,     3.0, -0.6980, 30.8640,2, 30.4040,2,   367.6,2,   395.9,2,    4.82,2,    0.07,2,    0.01,2,    0.80,2,  -999.0,9,  -999.0,9,-999.000,9,-999.000,-999.0000,9, -999.00,9, -999.00, -0.6981,-999.0000,   0.029,2,  38.088,2,   3.143,2,    2.55,2,0.00,2,88300.00,2,101,1097
32L919920715,63,1,4,2,19920809,79.1550,-13.7880,151,     5.0, -1.4270, 31.8030,2, 31.7350,2,   373.4,2,   394.2,2,    6.26,2,    0.47,2,    0.03,2,    1.00,2,  -999.0,9,  -999.0,9,-999.000,9,-999.000,-999.0000,9, -999.00,9, -999.00, -1.4271,-999.0000,   0.088,2,  15.448,2,   2.736,2,   10.57,2,0.73,2,60700.00,2,101,1096
32L919920715,63,1,3,2,19920809,79.1550,-13.7880,151,     6.0, -1.4610, 31.8780,2, 31.8950,2,   371.8,2,   384.3,2,    7.41,2,    1.51,2,    0.04,2,    1.07,2,  -999.0,9,  -999.0,9,-999.000,9,-999.000,-999.0000,9, -999.00,9, -999.00, -1.4611,-999.0000,   0.156,2,   6.810,2,   1.305,2,    1.93,2,0.33,2,64300.00,2,101,1095
32L919920715,63,1,2,2,19920809,79.1550,-13.7880,151,     9.0, -1.5460, 31.9690,2, 31.9360,2,   372.8,2,   379.3,2,    8.10,2,    2.25,2,    0.06,2,    1.13,2,  -999.0,9,  -999.0,9,-999.000,9,-999.000,-999.0000,9, -999.00,9, -999.00, -1.5461,-999.0000,   0.176,2,   3.859,2,   0.739,2,    0.85,2,0.18,2,43300.00,2,101,1094
32L919920715,63,1,1,2,19920809,79.1550,-13.7880,151,    15.0, -1.6380, 32.0250,2, 32.0050,2,   368.1,2,   374.6,2,    8.47,2,    2.91,2,    0.08,2,    1.16,2,  -999.0,9,  -999.0,9,-999.000,9,-999.000,-999.0000,9, -999.00,9, -999.00, -1.6382,-999.0000,   0.166,2,   1.989,2,   0.588,2,    0.46,2,0.20,2,57500.00,2,101,1093
32L919920715,63,1,12,2,19920809,79.1550,-13.7880,151,    25.0, -1.7110, 32.1080,2, 32.1010,2,   370.3,2,   371.4,2,    8.55,2,    3.41,2,    0.10,2,    1.04,2,  -999.0,9,  -999.0,9,-999.000,9,-999.000,-999.0000,9, -999.00,9, -999.00, -1.7114,-999.0000,   0.107,2,   6.545,2,   0.477,2,    0.23,2,0.15,2,61500.00,2,101,1092
32L919920715,63,1,11,2,19920809,79.1550,-13.7880,151,    37.0, -1.6440, 32.2180,2, 32.2200,2,   370.6,2,   371.0,2,    8.28,2,    3.28,2,    0.11,2,    1.06,2,  -999.0,9,  -999.0,9,-999.000,9,-999.000,-999.0000,9, -999.00,9, -999.00, -1.6446,-999.0000,   0.107,2,   2.752,2,   0.419,2,    0.37,2,0.20,2,61100.00,2,101,1091
32L919920715,63,1,10,2,19920809,79.1550,-13.7880,151,    50.0, -1.6980, 32.3030,2, 32.2770,2,   361.6,2,   367.0,2,    8.98,2,    3.98,2,    0.10,2,    1.15,2,  -999.0,9,  -999.0,9,-999.000,9,-999.000,-999.0000,9, -999.00,9, -999.00, -1.6988,-999.0000,   0.029,2,   0.528,2,   0.166,2,    0.19,2,0.19,2, -999.00,9,101,1090
32L919920715,63,1,9,2,19920809,79.1550,-13.7880,151,    75.0, -1.7060, 32.4050,2, 32.3770,2,   360.5,2,   362.0,2,   10.50,2,    4.71,2,    0.12,2,    1.23,2,  -999.0,9,  -999.0,9,-999.000,9,-999.000,-999.0000,9, -999.00,9, -999.00, -1.7072,-999.0000,   0.088,2,   2.496,2,   0.278,2,    0.23,2,0.24,2, -999.00,9,101,1089
32L919920715,63,1,8,2,19920809,79.1550,-13.7880,151,    99.0, -1.5790, 32.6720,2, 32.6880,2,   345.1,2,   349.2,2,   10.16,2,    6.20,2,    0.02,2,    1.17,2,  -999.0,9,  -999.0,9,-999.000,9,-999.000,-999.0000,9, -999.00,9, -999.00, -1.5808,-999.0000,   0.010,2,   1.999,2,   0.238,2,    0.22,2,0.07,2, -999.00,9,101,1088
32L919920715,63,1,7,2,19920809,79.1550,-13.7880,151,   115.0, -1.2980, 33.1040,2, 33.1520,2,   331.3,2,   328.1,2,   11.03,2,    8.57,2,    0.03,2,    1.22,2,  -999.0,9,  -999.0,9,-999.000,9,-999.000,-999.0000,9, -999.00,9, -999.00, -1.3005,-999.0000,   0.059,2,   0.750,2,   0.170,2,    0.09,2,0.07,2, -999.00,9,101,1087
32L919920715,63,1,6,2,19920809,79.1550,-13.7880,151,   125.0, -1.1320, 33.3430,2, 33.1180,2,   317.9,2,   329.3,2,   11.09,2,    8.49,2,    0.05,2,    1.24,2,  -999.0,9,  -999.0,9,-999.000,9,-999.000,-999.0000,9, -999.00,9, -999.00, -1.1350,-999.0000,   0.049,2,   0.975,2,   0.150,2,    0.08,2,0.05,2, -999.00,9,101,1086