BOTTLE,20220816CCHSIOAMB
EXPOCODE,STNNBR,CASTNO,BTLNBR,BTLNBR_FLAG_W,DATE,LATITUDE,LONGITUDE,DEPTH,CTDPRS,CTDTMP,CTDSAL,CTDSAL_FLAG_W,SALNTY,SALNTY_FLAG_W,CTDOXY,CTDOXY_FLAG_W,OXYGEN,OXYGEN_FLAG_W,SILCAT,SILCAT_FLAG_W,NITRAT,NITRAT_FLAG_W,NITRIT,NITRIT_FLAG_W,PHSPHT,PHSPHT_FLAG_W,TCARBN,TCARBN_FLAG_W,ALKALI,ALKALI_FLAG_W,TRITUM,TRITUM_FLAG_W,TRITER,HELIUM,HELIUM_FLAG_W,DELHE3,DELHE3_FLAG_W,DELHER,THETA,SOMSAL,AMMONI,AMMONI_FLAG_W,POC,POC_FLAG_W,PON,PON_FLAG_W,CHLORA,CHLORA_FLAG_W,PHAEO,PHAEO_FLAG_W,BACT,BACT_FLAG_W,STNNBR_U,BNLID
,,,,,,,,METERS,DBAR,ITS-90,PSS-78,,PSS-78,,UMOL/KG,,UMOL/KG,,UMOL/KG,,UMOL/KG,,UMOL/KG,,UMOL/KG,,UMOL/KG,,UMOL/KG,,TU,,TU,NMOL/KG,,PERCNT,,PERCNT,DEG C,PSS-78,UMOL/KG,,UG/KG,,UG/KG,,UG/KG,,UG/L,,E8/L,,,
32L919920715,49,1,11,2,19920805,80.7560,-8.2100,188,     2.0, -1.3300, 31.7350,2,-999.0000,9,   384.3,2,   379.0,2,    9.40,2,    2.01,2,    0.05,2,    1.01,2,  -999.0,9,  -999.0,9,-999.000,9,-999.000,-999.0000,9, -999.00,9, -999.00, -1.3300,-999.0000,   0.098,2,   5.016,2,   0.992,2,    1.70,2,0.27,2,73000.00,2,83,887
32L919920715,49,1,10,2,19920805,80.7560,-8.2100,188,     5.0, -1.3310, 31.7390,2,-999.0000,9,   383.4,2,  -999.0,9,    9.41,2,    2.02,2,    0.05,2,    1.02,2,  -999.0,9,  -999.0,9,-999.000,9,-999.000,-999.0000,9, -999.00,9, -999.00, -1.3311,-999.0000,   0.068,2,   4.806,2,   1.137,2,    1.76,2,0.32,2,91700.00,2,83,886
32L919920715,49,1,9,2,19920805,80.7560,-8.2100,188,     9.0, -1.3460, 31.7460,2,-999.0000,9,   389.6,2,  -999.0,9,    9.41,2,    2.03,2,    0.04,2,    1.02,2,  -999.0,9,  -999.0,9,-999.000,9,-999.000,-999.0000,9, -999.00,9, -999.00, -1.3462,-999.0000,   0.068,2,   5.014,2,   1.088,2,    1.79,2,0.37,2,106000.00,2,83,885
32L919920715,49,1,8,2,19920805,80.7560,-8.2100,188,    14.0, -1.3530, 31.7460,2,-999.0000,9,   378.3,2,  -999.0,9,    9.42,2,    2.04,2,    0.05,2,    1.02,2,  -999.0,9,  -999.0,9,-999.000,9,-999.000,-999.0000,9, -999.00,9, -999.00, -1.3533,-999.0000,   0.088,2,   7.301,2,   1.403,2,    1.85,2,0.51,2,90100.00,2,83,884
32L919920715,49,1,7,2,19920805,80.7560,-8.2100,188,    23.0, -1.3770, 31.7800,2,-999.0000,9,   387.2,2,  -999.0,9,    9.25,2,    2.13,2,    0.05,2,    1.02,2,  -999.0,9,  -999.0,9,-999.000,9,-999.000,-999.0000,9, -999.00,9, -999.00, -1.3774,-999.0000,   0.078,2,   5.848,2,   1.202,2,    2.29,2,0.58,2,65100.00,2,83,883
32L919920715,49,1,6,2,19920805,80.7560,-8.2100,188,    34.0, -1.3640, 31.7990,2,-999.0000,9,   388.7,2,  -999.0,9,    9.20,2,    2.20,2,    0.04,2,    1.01,2,  -999.0,9,  -999.0,9,-999.000,9,-999.000,-999.0000,9, -999.00,9, -999.00, -1.3646,-999.0000,   0.068,2,   5.491,2,   1.092,2,    2.35,2,0.46,2,72800.00,2,83,882
32L919920715,49,1,5,2,19920805,80.7560,-8.2100,188,    42.0, -1.3160, 31.8510,2,-999.0000,9,   383.6,2,  -999.0,9,    9.07,2,    2.25,2,    0.05,2,    1.01,2,  -999.0,9,  -999.0,9,-999.000,9,-999.000,-999.0000,9, -999.00,9, -999.00, -1.3168,-999.0000,   0.117,2,-999.000,9,-999.000,9, -999.00,9,-999.00,9, -999.00,9,83,881
32L919920715,49,1,3,2,19920805,80.7560,-8.2100,188,    50.0, -1.3470, 31.9030,2,-999.0000,9,   384.4,2,   374.6,2,    9.37,2,    2.51,2,    0.04,2,    1.04,2,  2070.6,2,  2195.7,2,-999.000,9,-999.000,-999.0000,9, -999.00,9, -999.00, -1.3479,31.8210,   0.117,2,-999.000,9,-999.000,9, -999.00,9,-999.00,9, -999.00,9,83,879
32L919920715,49,1,4,2,19920805,80.7560,-8.2100,188,    50.0, -1.3440, 31.9010,2,-999.0000,9,   393.7,2,  -999.0,9,    9.31,2,    2.45,2,    0.05,2,    1.03,2,  -999.0,9,  -999.0,9,-999.000,9,-999.000,-999.0000,9, -999.00,9, -999.00, -1.3449,-999.0000,   0.146,2,   6.777,2,   1.181,2,    1.94,2,0.45,2,57800.00,2,83,880
32L919920715,49,1,2,2,19920805,80.7560,-8.2100,188,    60.0, -1.4630, 31.9630,2,-999.0000,9,   385.1,2,  -999.0,9,   10.24,2,    2.97,2,    0.05,2,    1.10,2,  -999.0,9,  -999.0,9,-999.000,9,-999.000,-999.0000,9, -999.00,9, -999.00, -1.4641,-999.0000,   0.332,2,-999.000,9,-999.000,9, -999.00,9,-999.00,9, -999.00,9,83,878
32L919920715,49,1,1,2,19920805,80.7560,-8.2100,188,    66.0, -1.5060, 32.0200,2,-999.0000,9,   380.0,2,  -999.0,9,   10.60,2,    3.25,2,    0.05,2,    1.13,2,  -999.0,9,  -999.0,9,-999.000,9,-999.000,-999.0000,9, -999.00,9, -999.00, -1.5072,-999.0000,   0.293,2,-999.000,9,-999.000,9, -999.00,9,-999.00,9, -999.00,9,83,877
32L919920715,49,1,12,2,19920805,80.7560,-8.2100,188,    75.0, -1.3170, 32.6580,2,-999.0000,9,   367.5,2,   369.5,2,   10.46,2,    3.16,2,    0.05,2,    1.12,2,  -999.0,9,  -999.0,9,-999.000,9,-999.000,-999.0000,9, -999.00,9, -999.00, -1.3185,-999.0000,   0.254,2,-999.000,9,-999.000,9, -999.00,9,-999.00,9, -999.00,9,83,876
32L919920715,49,2,6,2,19920805,80.7560,-8.2100,188,     2.0, -1.2570, 31.7460,2,-999.0000,9,   392.6,2,   378.5,2,    9.27,2,    1.99,2,    0.05,2,    1.04,2,  2059.3,2,  2277.2,3,   4.900,2,   0.074,  1.9160,2,    3.70,2,    0.20, -1.2570,31.6640,   0.234,2,-999.000,9,-999.000,9, -999.00,9,-999.00,9, -999.00,9,84,894
32L919920715,49,2,5,2,19920805,80.7560,-8.2100,188,    22.0, -1.3530, 31.8030,2,-999.0000,9,   385.5,2,   378.1,2,    9.04,2,    2.09,2,    0.05,2,    1.03,2,  2061.6,2,  2184.7,2,   5.810,2,   0.087,  1.9100,2,    4.10,2,    0.20, -1.3534,31.7290,   0.068,2,-999.000,9,-999.000,9, -999.00,9,-999.00,9, -999.00,9,84,893
32L919920715,49,2,4,2,19920805,80.7560,-8.2100,188,    34.0, -1.3250, 31.8360,2, 31.8240,2,   382.3,2,   377.1,2,    8.98,2,    2.14,2,    0.05,2,    1.03,2,  -999.0,9,  -999.0,9,-999.000,9,-999.000,-999.0000,9, -999.00,9, -999.00, -1.3256,-999.0000,   0.068,2,-999.000,9,-999.000,9, -999.00,9,-999.00,9, -999.00,9,84,892
32L919920715,49,2,3,2,19920805,80.7560,-8.2100,188,    49.0, -1.3920, 31.9250,2,-999.0000,9,   386.0,2,   372.4,2,    9.64,2,    2.64,2,    0.05,2,    1.09,2,  -999.0,9,  -999.0,9,   6.730,2,   0.101,  1.8520,2,    6.30,2,    0.20, -1.3929,-999.0000,   0.205,2,-999.000,9,-999.000,9, -999.00,9,-999.00,9, -999.00,9,84,891
32L919920715,49,2,2,2,19920805,80.7560,-8.2100,188,    59.0, -1.4810, 31.9950,2,-999.0000,9,   385.2,2,  -999.0,9,    9.65,2,    2.66,2,    0.05,2,    1.09,2,  -999.0,9,  -999.0,9,-999.000,9,-999.000,-999.0000,9, -999.00,9, -999.00, -1.4820,-999.0000,   0.166,2,-999.000,9,-999.000,9, -999.00,9,-999.00,9, -999.00,9,84,890
32L919920715,49,2,1,2,19920805,80.7560,-8.2100,188,    72.0, -1.4980, 32.0380,2,-999.0000,9,   383.7,2,   369.8,2,   10.42,2,    3.18,2,    0.06,2,    1.14,2,  2082.0,2,  2197.7,2,   6.390,2,   0.096,  1.9850,2,    4.00,2,    0.20, -1.4993,31.9560,   0.273,2,-999.000,9,-999.000,9, -999.00,9,-999.00,9, -999.00,9,84,889
32L919920715,49,2,12,2,19920805,80.7560,-8.2100,188,    74.0, -1.4980, 32.0370,2, 32.0160,2,   387.3,2,   369.5,2,   10.40,2,    3.09,2,    0.06,2,    1.14,2,  -999.0,9,  -999.0,9,-999.000,9,-999.000,-999.0000,9, -999.00,9, -999.00, -1.4993,-999.0000,   0.254,2,-999.000,9,-999.000,9, -999.00,9,-999.00,9, -999.00,9,84,888
32L919920715,50,1,4,2,19920806,80.6060,-7.9110,322,     2.0, -1.5690, 31.2230,2,-999.0000,9,   371.5,2,   384.5,2,   11.62,2,    1.98,2,    0.04,2,    1.16,2,  -999.0,9,  -999.0,9,-999.000,9,-999.000,-999.0000,9, -999.00,9, -999.00, -1.5690,-999.0000,   0.068,2,   5.867,2,   1.044,2,    1.14,2,0.53,2,53700.00,2,85,904
32L919920715,50,1,3,2,19920806,80.6060,-7.9110,322,     8.0, -1.5730, 31.2360,2,-999.0000,9,   382.5,2,   385.2,2,   11.67,2,    2.05,2,    0.03,2,    1.17,2,  -999.0,9,  -999.0,9,-999.000,9,-999.000,-999.0000,9, -999.00,9, -999.00, -1.5731,-999.0000,   0.098,2,   7.506,2,   1.073,2,    1.20,2,0.64,2,51200.00,2,85,903
32L919920715,50,1,2,2,19920806,80.6060,-7.9110,322,    13.0, -1.5940, 31.3590,2,-999.0000,9,   392.1,2,   382.3,2,   11.86,2,    2.47,2,    0.04,2,    1.19,2,  -999.0,9,  -999.0,9,-999.000,9,-999.000,-999.0000,9, -999.00,9, -999.00, -1.5942,-999.0000,   0.088,2,   4.401,2,   0.764,2,    0.82,2,0.41,2,51700.00,2,85,902
32L919920715,50,1,1,2,19920806,80.6060,-7.9110,322,    21.0, -1.6480, 31.6040,2,-999.0000,9,   383.1,2,   379.3,2,   12.13,2,    2.95,2,    0.04,2,    1.22,2,  -999.0,9,  -999.0,9,-999.000,9,-999.000,-999.0000,9, -999.00,9, -999.00, -1.6483,-999.0000,   0.127,2,   1.889,2,   0.377,2,    0.34,2,0.69,2,55300.00,2,85,901
32L919920715,50,1,12,2,19920806,80.6060,-7.9110,322,    33.0, -1.6960, 31.8470,2,-999.0000,9,   371.2,2,   362.7,2,   13.12,2,    4.69,2,    0.03,2,    1.26,2,  -999.0,9,  -999.0,9,-999.000,9,-999.000,-999.0000,9, -999.00,9, -999.00, -1.6965,-999.0000,   0.059,2,   2.101,2,   0.075,2,    0.18,2,0.10,2,26100.00,2,85,900
32L919920715,50,1,11,2,19920806,80.6060,-7.9110,322,    50.0, -1.5360, 32.7990,2,-999.0000,9,   335.3,2,   332.5,2,   15.27,2,    7.92,2,    0.03,2,    1.23,2,  -999.0,9,  -999.0,9,-999.000,9,-999.000,-999.0000,9, -999.00,9, -999.00, -1.5369,-999.0000,   0.088,2,   2.545,2,   0.140,2,    0.07,2,0.08,2,34100.00,2,85,899
32L919920715,50,1,10,2,19920806,80.6060,-7.9110,322,    75.0, -0.8390, 34.0230,2,-999.0000,9,   314.4,2,   299.3,2,   11.58,2,   10.90,2,    0.03,2,    1.07,2,  -999.0,9,  -999.0,9,-999.000,9,-999.000,-999.0000,9, -999.00,9, -999.00, -0.8411,-999.0000,   0.068,2,   0.760,2,   0.105,2,    0.06,2,0.09,2,25400.00,2,85,898
32L919920715,50,1,9,2,19920806,80.6060,-7.9110,322,    84.0, -0.8370, 34.0340,2,-999.0000,9,   312.9,2,   297.6,2,   11.33,2,   11.09,2,    0.03,2,    1.05,2,  -999.0,9,  -999.0,9,-999.000,9,-999.000,-999.0000,9, -999.00,9, -999.00, -0.8393,-999.0000,   0.068,2,   1.093,2,   0.068,2,    0.07,2,0.14,2, -999.00,9,85,897
32L919920715,50,1,8,2,19920806,80.6060,-7.9110,322,    95.0, -0.8270, 34.0480,2, 34.0350,2,   311.0,2,   297.5,2,   11.30,2,   11.15,2,    0.02,2,    1.05,2,  -999.0,9,  -999.0,9,-999.000,9,-999.000,-999.0000,9, -999.00,9, -999.00, -0.8296,-999.0000,   0.078,2,   3.517,2,   0.102,2,    0.07,2,0.13,2, -999.00,9,85,896
32L919920715,51,1,4,2,19920806,80.4870,-8.2190,258,     2.0, -0.8920, 30.8950,2,-999.0000,9,   423.4,2,   408.7,2,    3.19,2,    0.03,2,    0.00,2,    0.78,2,  -999.0,9,  -999.0,9,-999.000,9,-999.000,-999.0000,9, -999.00,9, -999.00, -0.8920,-999.0000,   0.020,2,-999.000,9,-999.000,9,    2.79,2,0.28,2, -999.00,9,86,916
32L919920715,51,1,3,2,19920806,80.4870,-8.2190,258,    10.0, -0.9000, 31.1870,2,-999.0000,9,   409.3,2,   412.0,2,    4.05,2,    0.11,2,    0.01,2,    0.82,2,  -999.0,9,  -999.0,9,   7.440,2,   0.112,  1.8600,2,   -1.60,2,    0.20, -0.9002,-999.0000,   0.029,2,-999.000,9,-999.000,9,    3.35,2,0.40,2, -999.00,9,86,915
32L919920715,51,1,2,2,19920806,80.4870,-8.2190,258,    20.0, -1.5360, 31.7570,2,-999.0000,9,   398.2,2,   391.6,2,    7.29,2,    1.45,2,    0.03,2,    1.03,2,  -999.0,9,  -999.0,9,-999.000,9,-999.000,-999.0000,9, -999.00,9, -999.00, -1.5363,-999.0000,   0.059,2,-999.000,9,-999.000,9,    4.34,2,0.76,2, -999.00,9,86,914
32L919920715,51,1,1,2,19920806,80.4870,-8.2190,258,    35.0, -1.3200, 32.2140,2,-999.0000,9,   380.3,2,   382.0,2,    5.49,2,    2.30,2,    0.03,2,    0.99,2,  -999.0,9,  -999.0,9,-999.000,9,-999.000,-999.0000,9, -999.00,9, -999.00, -1.3207,-999.0000,   0.059,2,-999.000,9,-999.000,9,    2.42,2,0.54,2, -999.00,9,86,913
32L919920715,51,1,12,2,19920806,80.4870,-8.2190,258,    51.0, -1.6080, 32.4020,2,-999.0000,9,   351.7,2,   353.0,2,   11.59,2,    5.45,2,    0.04,2,    1.15,2,  -999.0,9,  -999.0,9,   7.070,2,   0.106,  1.8170,2,    5.30,2,    0.20, -1.6089,-999.0000,   0.088,2,-999.000,9,-999.000,9,    0.32,2,0.21,2, -999.00,9,86,912
32L919920715,51,1,11,2,19920806,80.4870,-8.2190,258,    75.0, -1.3770, 32.9740,2,-999.0000,9,   321.5,2,   318.7,2,   14.79,2,    9.39,2,    0.04,2,    1.25,2,  -999.0,9,  -999.0,9,-999.000,9,-999.000,-999.0000,9, -999.00,9, -999.00, -1.3786,-999.0000,   0.020,2,-999.000,9,-999.000,9,    0.11,2,0.22,2, -999.00,9,86,911
32L919920715,51,1,10,2,19920806,80.4870,-8.2190,258,    99.0, -0.6860, 34.0390,2,-999.0000,9,   303.9,2,   295.1,2,   11.64,2,   12.00,2,    0.01,2,    1.07,2,  -999.0,9,  -999.0,9,   3.700,2,   0.056,  1.8230,2,   16.50,2,    0.20, -0.6889,-999.0000,   0.000,2,-999.000,9,-999.000,9,    0.13,2,0.13,2, -999.00,9,86,910
32L919920715,51,1,9,2,19920806,80.4870,-8.2190,258,   121.0, -0.2820, 34.3800,2,-999.0000,9,   296.7,2,   291.0,2,   10.07,2,   12.60,2,    0.01,2,    1.01,2,  -999.0,9,  -999.0,9,-999.000,9,-999.000,-999.0000,9, -999.00,9, -999.00, -0.2860,-999.0000,   0.020,2,-999.000,9,-999.000,9,    0.07,2,0.10,2, -999.00,9,86,909
32L919920715,51,1,8,2,19920806,80.4870,-8.2190,258,   160.0,  0.1630, 34.6370,2,-999.0000,9,   289.9,2,   287.5,2,    9.33,2,   13.29,2,    0.01,2,    0.99,2,  -999.0,9,  -999.0,9,   1.990,2,   0.030,  1.8090,2,   12.20,2,    0.20,  0.1569,-999.0000,   0.010,2,-999.000,9,-999.000,9,    0.03,2,0.08,2, -999.00,9,86,908
32L919920715,51,1,7,2,19920806,80.4870,-8.2190,258,   200.0,  0.3670, 34.7490,2,-999.0000,9,   288.3,2,  -999.0,9, -999.00,9, -999.00,9, -999.00,9, -999.00,9,  -999.0,9,  -999.0,9,-999.000,9,-999.000,-999.0000,9, -999.00,9, -999.00,  0.3589,-999.0000,-999.000,9,-999.000,9,-999.000,9, -999.00,9,-999.00,9, -999.00,9,86,907
32L919920715,51,1,6,2,19920806,80.4870,-8.2190,258,   234.0,  0.4180, 34.8170,2, 34.8090,2,   290.0,2,   287.3,2,    8.57,2,   13.64,2,    0.02,2,    0.99,2,  -999.0,9,  -999.0,9,   1.220,2,   0.018,  1.7770,2,    9.40,2,    0.20,  0.4084,-999.0000,   0.020,2,-999.000,9,-999.000,9,    0.02,2,0.06,2, -999.00,9,86,906
32L919920715,51,1,5,2,19920806,80.4870,-8.2190,258,   248.0,  0.4200, 34.8170,2,-999.0000,9,   292.0,2,   287.9,2,    8.61,2,   13.75,2,    0.02,2,    0.98,2,  -999.0,9,  -999.0,9,-999.000,9,-999.000,-999.0000,9, -999.00,9, -999.00,  0.4098,-999.0000,   0.029,2,-999.000,9,-999.000,9,    0.03,2,0.05,2, -999.00,9,86,905
32L919920715,52,1,4,2,19920806,80.3780,-8.3940,264,     2.0, -1.3990, 31.4100,2,-999.0000,9,   406.1,2,  -999.0,9,    6.20,2,    0.01,2,    0.00,2,    0.96,2,  -999.0,9,  -999.0,9,-999.000,9,-999.000,-999.0000,9, -999.00,9, -999.00, -1.3990,-999.0000,   0.000,2,  27.468,2,   3.553,2,    5.46,2,0.22,2,75300.00,2,87,928
32L919920715,52,1,3,2,19920806,80.3780,-8.3940,264,     4.0, -1.4110, 31.4330,2,-999.0000,9,   400.5,2,  -999.0,9,    6.48,2,    0.13,2,    0.01,2,    0.95,2,  -999.0,9,  -999.0,9,-999.000,9,-999.000,-999.0000,9, -999.00,9, -999.00, -1.4111,-999.0000,   0.000,2,  18.216,2,   2.767,2,    5.40,2,0.35,2,70100.00,2,87,927
32L919920715,52,1,2,2,19920806,80.3780,-8.3940,264,     6.0, -1.4210, 31.4560,2,-999.0000,9,   412.4,2,  -999.0,9,    7.35,2,    0.44,2,    0.01,2,    0.99,2,  -999.0,9,  -999.0,9,-999.000,9,-999.000,-999.0000,9, -999.00,9, -999.00, -1.4211,-999.0000,   0.010,2,  14.666,2,   2.310,2,    5.34,2,0.34,2,82000.00,2,87,926
32L919920715,52,1,1,2,19920806,80.3780,-8.3940,264,    10.0, -1.4440, 31.4970,2,-999.0000,9,   405.8,2,  -999.0,9,    8.30,2,    0.84,2,    0.01,2,    1.05,2,  -999.0,9,  -999.0,9,-999.000,9,-999.000,-999.0000,9, -999.00,9, -999.00, -1.4442,-999.0000,   0.020,2,  11.955,2,   1.961,2,    4.52,2,0.32,2,60000.00,2,87,925
32L919920715,52,1,12,2,19920806,80.3780,-8.3940,264,    16.0, -1.5560, 31.6010,2,-999.0000,9,   389.0,2,  -999.0,9,   11.78,2,    3.38,2,    0.00,2,    1.20,2,  -999.0,9,  -999.0,9,-999.000,9,-999.000,-999.0000,9, -999.00,9, -999.00, -1.5563,-999.0000,   0.049,2,   3.851,2,   1.258,2,    1.29,2,0.29,2,46300.00,2,87,924
32L919920715,52,1,11,2,19920806,80.3780,-8.3940,264,    25.0, -1.6520, 31.8850,2,-999.0000,9,   373.0,2,   367.9,2,   12.60,2,    4.22,2,    0.01,2,    1.24,2,  -999.0,9,  -999.0,9,-999.000,9,-999.000,-999.0000,9, -999.00,9, -999.00, -1.6524,-999.0000,   0.039,2,   1.405,2,   0.269,2,    0.50,2,0.17,2,29700.00,2,87,923
32L919920715,52,1,10,2,19920806,80.3780,-8.3940,264,    37.0, -1.6540, 31.9930,2,-999.0000,9,   363.7,2,   362.6,2,   12.86,2,    4.77,2,    0.01,2,    1.25,2,  -999.0,9,  -999.0,9,-999.000,9,-999.000,-999.0000,9, -999.00,9, -999.00, -1.6546,-999.0000,   0.049,2,   0.450,2,   0.161,2,    0.55,2,0.09,2,27900.00,2,87,922
32L919920715,52,1,9,2,19920806,80.3780,-8.3940,264,   100.0, -0.9360, 33.8280,2,-999.0000,9,   298.0,2,   297.4,2,   13.06,2,   11.26,2,    0.00,2,    1.14,2,  -999.0,9,  -999.0,9,-999.000,9,-999.000,-999.0000,9, -999.00,9, -999.00, -0.9386,-999.0000,   0.000,2,   2.056,2,   0.095,2,    0.14,2,0.16,2, -999.00,9,87,921
32L919920715,52,1,8,2,19920806,80.3780,-8.3940,264,   150.0, -0.2620, 34.5230,2,-999.0000,9,   290.0,2,   289.9,2,    8.75,2,   10.90,2,    0.01,2,    0.95,2,  -999.0,9,  -999.0,9,-999.000,9,-999.000,-999.0000,9, -999.00,9, -999.00, -0.2671,-999.0000,   0.010,2,   1.237,2,   0.047,2,    0.04,2,0.07,2, -999.00,9,87,920
32L919920715,52,1,7,2,19920806,80.3780,-8.3940,264,   200.0,  0.1680, 34.6910,2,-999.0000,9,   286.0,2,   287.4,2,    8.58,2,   12.99,2,    0.01,2,    0.97,2,  -999.0,9,  -999.0,9,-999.000,9,-999.000,-999.0000,9, -999.00,9, -999.00,  0.1603,-999.0000,   0.010,2,   0.829,2,   0.082,2,    0.03,2,0.06,2, -999.00,9,87,919
32L919920715,52,1,6,2,19920806,80.3780,-8.3940,264,   249.0,  0.4310, 34.8260,2, 34.8330,2,   282.0,2,   288.3,2,    8.25,2,   13.23,2,    0.02,2,    0.98,2,  -999.0,9,  -999.0,9,-999.000,9,-999.000,-999.0000,9, -999.00,9, -999.00,  0.4207,-999.0000,   0.020,2,-999.000,9,-999.000,9, -999.00,9,-999.00,9, -999.00,9,87,918
32L919920715,52,1,5,2,19920806,80.3780,-8.3940,264,   254.0,  0.4300, 34.8270,2,-999.0000,9,   294.3,2,   289.5,2,    8.09,2,   13.24,2,    0.01,2,    0.97,2,  -999.0,9,  -999.0,9,-999.000,9,-999.000,-999.0000,9, -999.00,9, -999.00,  0.4195,-999.0000,   0.039,2,-999.000,9,-999.000,9, -999.00,9,-999.00,9, -999.00,9,87,917