BOTTLE,20220816CCHSIOAMB
EXPOCODE,STNNBR,CASTNO,BTLNBR,BTLNBR_FLAG_W,DATE,LATITUDE,LONGITUDE,DEPTH,CTDPRS,CTDTMP,CTDSAL,CTDSAL_FLAG_W,SALNTY,SALNTY_FLAG_W,CTDOXY,CTDOXY_FLAG_W,OXYGEN,OXYGEN_FLAG_W,SILCAT,SILCAT_FLAG_W,NITRAT,NITRAT_FLAG_W,NITRIT,NITRIT_FLAG_W,PHSPHT,PHSPHT_FLAG_W,TCARBN,TCARBN_FLAG_W,ALKALI,ALKALI_FLAG_W,TRITUM,TRITUM_FLAG_W,TRITER,HELIUM,HELIUM_FLAG_W,DELHE3,DELHE3_FLAG_W,DELHER,THETA,SOMSAL,AMMONI,AMMONI_FLAG_W,POC,POC_FLAG_W,PON,PON_FLAG_W,CHLORA,CHLORA_FLAG_W,PHAEO,PHAEO_FLAG_W,BACT,BACT_FLAG_W,STNNBR_U,BNLID
,,,,,,,,METERS,DBAR,ITS-90,PSS-78,,PSS-78,,UMOL/KG,,UMOL/KG,,UMOL/KG,,UMOL/KG,,UMOL/KG,,UMOL/KG,,UMOL/KG,,UMOL/KG,,TU,,TU,NMOL/KG,,PERCNT,,PERCNT,DEG C,PSS-78,UMOL/KG,,UG/KG,,UG/KG,,UG/KG,,UG/L,,E8/L,,,
32L919920715,53,1,4,2,19920806,80.2820,-8.6960,301,     2.0, -1.2710, 31.5140,2,-999.0000,9,   408.6,2,   387.1,2,   10.03,2,    1.18,2,    0.03,2,    1.12,2,  -999.0,9,  -999.0,9,-999.000,9,-999.000,-999.0000,9, -999.00,9, -999.00, -1.2710,-999.0000,   0.098,2,-999.000,9,-999.000,9,    1.88,2,0.28,2, -999.00,9,88,940
32L919920715,53,1,3,2,19920806,80.2820,-8.6960,301,    10.0, -1.2560, 31.5260,2,-999.0000,9,   405.6,2,   388.4,2,    8.98,2,    0.93,2,    0.03,2,    1.07,2,  -999.0,9,  -999.0,9,-999.000,9,-999.000,-999.0000,9, -999.00,9, -999.00, -1.2562,-999.0000,   0.088,2,-999.000,9,-999.000,9,    2.99,2,0.43,2, -999.00,9,88,939
32L919920715,53,1,2,2,19920806,80.2820,-8.6960,301,    20.0, -1.5310, 31.6510,2,-999.0000,9,   388.9,2,   377.6,2,   10.25,2,    2.57,2,    0.04,2,    1.15,2,  -999.0,9,  -999.0,9,   5.710,2,   0.086,  2.0360,2,    5.90,2,    0.20, -1.5313,-999.0000,   0.127,2,-999.000,9,-999.000,9,    2.17,2,0.41,2, -999.00,9,88,938
32L919920715,53,1,1,2,19920806,80.2820,-8.6960,301,    34.0, -1.5470, 31.9150,2,-999.0000,9,   368.1,2,   367.6,2,   11.40,2,    3.70,2,    0.04,2,    1.21,2,  -999.0,9,  -999.0,9,-999.000,9,-999.000,-999.0000,9, -999.00,9, -999.00, -1.5476,-999.0000,   0.137,2,-999.000,9,-999.000,9,    0.88,2,0.28,2, -999.00,9,88,937
32L919920715,53,1,12,2,19920806,80.2820,-8.6960,301,    74.0, -1.3350, 32.7500,2,-999.0000,9,   335.3,2,   332.8,2,   12.97,2,    7.43,2,    0.03,2,    1.21,2,  -999.0,9,  -999.0,9,-999.000,9,-999.000,-999.0000,9, -999.00,9, -999.00, -1.3365,-999.0000,   0.078,2,-999.000,9,-999.000,9,    0.28,2,0.17,2, -999.00,9,88,936
32L919920715,53,1,11,2,19920806,80.2820,-8.6960,301,   100.0, -0.8560, 33.7280,2,-999.0000,9,   303.3,2,   305.8,2,   11.57,2,   10.40,2,    0.03,2,    1.10,2,  -999.0,9,  -999.0,9,-999.000,9,-999.000,-999.0000,9, -999.00,9, -999.00, -0.8587,-999.0000,   0.020,2,-999.000,9,-999.000,9,    0.10,2,0.15,2, -999.00,9,88,935
32L919920715,53,1,10,2,19920806,80.2820,-8.6960,301,   150.0, -0.2420, 34.4740,2,-999.0000,9,   288.7,2,   290.1,2,    9.15,2,   12.20,2,    0.01,2,    0.99,2,  -999.0,9,  -999.0,9,   3.370,2,   0.051,  1.8430,2,   14.10,2,    0.20, -0.2471,-999.0000,   0.029,2,-999.000,9,-999.000,9,    0.04,2,0.07,2, -999.00,9,88,934
32L919920715,53,1,9,2,19920806,80.2820,-8.6960,301,   201.0,  0.2760, 34.7070,2,-999.0000,9,   288.1,2,   286.1,2,    8.98,2,   13.03,2,    0.00,2,    0.99,2,  -999.0,9,  -999.0,9,-999.000,9,-999.000,-999.0000,9, -999.00,9, -999.00,  0.2681,-999.0000,   0.020,2,-999.000,9,-999.000,9,    0.03,2,0.06,2, -999.00,9,88,933
32L919920715,53,1,8,2,19920806,80.2820,-8.6960,301,   250.0,  0.3790, 34.8090,2,-999.0000,9,   284.7,2,   289.2,2,    7.90,2,   13.03,2,    0.01,2,    0.97,2,  -999.0,9,  -999.0,9,-999.000,9,-999.000,-999.0000,9, -999.00,9, -999.00,  0.3688,-999.0000,   0.020,2,-999.000,9,-999.000,9, -999.00,9,-999.00,9, -999.00,9,88,932
32L919920715,53,1,7,2,19920806,80.2820,-8.6960,301,   275.0,  0.4440, 34.8390,2,-999.0000,9,   285.7,2,   287.3,2,    8.41,2,   13.11,2,    0.02,2,    0.99,2,  -999.0,9,  -999.0,9,-999.000,9,-999.000,-999.0000,9, -999.00,9, -999.00,  0.4325,-999.0000,   0.020,2,-999.000,9,-999.000,9, -999.00,9,-999.00,9, -999.00,9,88,931
32L919920715,53,1,6,2,19920806,80.2820,-8.6960,301,   287.0,  0.4470, 34.8430,2, 34.8380,2,   269.8,2,   288.4,2,    8.46,2,   13.12,2,    0.02,2,    0.99,2,  -999.0,9,  -999.0,9,-999.000,9,-999.000,-999.0000,9, -999.00,9, -999.00,  0.4350,-999.0000,   0.020,2,-999.000,9,-999.000,9, -999.00,9,-999.00,9, -999.00,9,88,930
32L919920715,53,1,5,2,19920806,80.2820,-8.6960,301,   291.0,  0.4470, 34.8440,2,-999.0000,9,   286.9,2,  -999.0,9, -999.00,9, -999.00,9, -999.00,9, -999.00,9,  -999.0,9,  -999.0,9,-999.000,9,-999.000,-999.0000,9, -999.00,9, -999.00,  0.4348,-999.0000,-999.000,9,-999.000,9,-999.000,9, -999.00,9,-999.00,9, -999.00,9,88,929
32L919920715,54,1,4,2,19920806,80.1670,-9.0320,315,     2.0,  0.4620, 31.5450,2,-999.0000,9,   408.2,2,   401.8,2,    1.36,2,    0.03,2,    0.00,2,    0.67,2,  -999.0,9,  -999.0,9,-999.000,9,-999.000,-999.0000,9, -999.00,9, -999.00,  0.4619,-999.0000,   0.039,2,-999.000,9,-999.000,9,    0.33,2,0.06,2, -999.00,9,89,952
32L919920715,54,1,3,2,19920806,80.1670,-9.0320,315,    11.0,  0.8700, 31.8340,2,-999.0000,9,   426.8,2,   431.8,2,    1.36,2,    0.14,2,    0.01,2,    0.71,2,  -999.0,9,  -999.0,9,-999.000,9,-999.000,-999.0000,9, -999.00,9, -999.00,  0.8696,-999.0000,   0.039,2,-999.000,9,-999.000,9,    1.73,2,0.14,2, -999.00,9,89,951
32L919920715,54,1,2,2,19920806,80.1670,-9.0320,315,    20.0, -1.0490, 32.3090,2,-999.0000,9,   405.1,2,   400.2,2,    4.73,2,    1.96,2,    0.02,2,    0.90,2,  -999.0,9,  -999.0,9,-999.000,9,-999.000,-999.0000,9, -999.00,9, -999.00, -1.0494,-999.0000,   0.049,2,-999.000,9,-999.000,9,    5.69,2,0.83,2, -999.00,9,89,950
32L919920715,54,1,1,2,19920806,80.1670,-9.0320,315,    35.0, -1.6480, 32.3410,2,-999.0000,9,   379.9,2,   369.0,2,    8.66,2,    3.84,2,    0.02,2,    1.06,2,  -999.0,9,  -999.0,9,-999.000,9,-999.000,-999.0000,9, -999.00,9, -999.00, -1.6486,-999.0000,   0.020,2,-999.000,9,-999.000,9,    1.29,2,0.32,2, -999.00,9,89,949
32L919920715,54,1,12,2,19920806,80.1670,-9.0320,315,    50.0, -1.6770, 32.3600,2,-999.0000,9,   370.2,2,   368.3,2,    7.56,2,    4.01,2,    0.03,2,    1.03,2,  -999.0,9,  -999.0,9,-999.000,9,-999.000,-999.0000,9, -999.00,9, -999.00, -1.6778,-999.0000,   0.029,2,-999.000,9,-999.000,9,    1.09,2,0.21,2, -999.00,9,89,948
32L919920715,54,1,11,2,19920806,80.1670,-9.0320,315,    70.0, -1.7350, 32.4050,2,-999.0000,9,   361.3,2,   361.3,2,    9.91,2,    4.81,2,    0.01,2,    1.10,2,  -999.0,9,  -999.0,9,-999.000,9,-999.000,-999.0000,9, -999.00,9, -999.00, -1.7361,-999.0000,   0.029,2,-999.000,9,-999.000,9,    0.35,2,0.10,2, -999.00,9,89,947
32L919920715,54,1,10,2,19920806,80.1670,-9.0320,315,   101.0, -1.5950, 32.8250,2,-999.0000,9,   344.8,2,   344.6,2,   10.75,2,    6.64,2,    0.01,2,    1.01,2,  -999.0,9,  -999.0,9,-999.000,9,-999.000,-999.0000,9, -999.00,9, -999.00, -1.5969,-999.0000,   0.020,2,-999.000,9,-999.000,9,    0.13,2,0.09,2, -999.00,9,89,946
32L919920715,54,1,9,2,19920806,80.1670,-9.0320,315,   150.0, -0.5420, 34.1410,2,-999.0000,9,   303.1,2,   298.1,2,    9.69,2,   11.87,2,    0.02,2,    0.99,2,  -999.0,9,  -999.0,9,-999.000,9,-999.000,-999.0000,9, -999.00,9, -999.00, -0.5466,-999.0000,   0.010,2,-999.000,9,-999.000,9,    0.07,2,0.11,2, -999.00,9,89,945
32L919920715,54,1,8,2,19920806,80.1670,-9.0320,315,   200.0,  0.2580, 34.6140,2,-999.0000,9,   289.5,2,   287.1,2,    9.44,2,   13.15,2,    0.01,2,    0.99,2,  -999.0,9,  -999.0,9,-999.000,9,-999.000,-999.0000,9, -999.00,9, -999.00,  0.2502,-999.0000,   0.020,2,-999.000,9,-999.000,9,    0.06,2,0.12,2, -999.00,9,89,944
32L919920715,54,1,7,2,19920806,80.1670,-9.0320,315,   249.0,  0.4360, 34.8310,2,-999.0000,9,   289.2,2,   288.3,2,    8.32,2,   13.34,2,    0.01,2,    0.98,2,  -999.0,9,  -999.0,9,-999.000,9,-999.000,-999.0000,9, -999.00,9, -999.00,  0.4257,-999.0000,   0.020,2,-999.000,9,-999.000,9, -999.00,9,-999.00,9, -999.00,9,89,943
32L919920715,54,1,6,2,19920806,80.1670,-9.0320,315,   301.0,  0.4410, 34.8550,2, 34.8530,2,   288.2,2,   287.0,2,    8.85,2,   13.30,2,    0.03,2,    0.99,2,  -999.0,9,  -999.0,9,-999.000,9,-999.000,-999.0000,9, -999.00,9, -999.00,  0.4284,-999.0000,   0.107,2,-999.000,9,-999.000,9, -999.00,9,-999.00,9, -999.00,9,89,942
32L919920715,54,1,5,2,19920806,80.1670,-9.0320,315,   305.0,  0.4410, 34.8540,2,-999.0000,9,   292.9,2,   287.6,2,    8.85,2,   13.31,2,    0.03,2,    0.99,2,  -999.0,9,  -999.0,9,-999.000,9,-999.000,-999.0000,9, -999.00,9, -999.00,  0.4282,-999.0000,   0.049,2,-999.000,9,-999.000,9, -999.00,9,-999.00,9, -999.00,9,89,941
32L919920715,55,1,4,2,19920806,80.0650,-9.3530,171,     2.0, -1.2800, 31.4410,2,-999.0000,9,   429.9,2,   416.4,2,    1.13,2,    0.01,2,    0.00,2,    0.75,2,  -999.0,9,  -999.0,9,-999.000,9,-999.000,-999.0000,9, -999.00,9, -999.00, -1.2800,-999.0000,   0.020,2,   8.019,2,   0.959,2,    0.53,2,0.06,2,67400.00,2,90,964
32L919920715,55,1,3,2,19920806,80.0650,-9.3530,171,     6.0, -1.3820, 31.5720,2,-999.0000,9,   427.8,2,   419.6,2,    1.06,2,    0.05,2,    0.00,2,    0.75,2,  -999.0,9,  -999.0,9,-999.000,9,-999.000,-999.0000,9, -999.00,9, -999.00, -1.3821,-999.0000,   0.029,2,   7.471,2,   0.983,2,    0.65,2,0.12,2,64000.00,2,90,963
32L919920715,55,1,2,2,19920806,80.0650,-9.3530,171,    10.0, -1.4230, 31.6300,2,-999.0000,9,   430.8,2,   421.0,2,    1.06,2,    0.02,2,    0.00,2,    0.68,2,  -999.0,9,  -999.0,9,-999.000,9,-999.000,-999.0000,9, -999.00,9, -999.00, -1.4232,-999.0000,   0.029,2,   8.649,2,   0.996,2,    0.80,2,0.06,2,64200.00,2,90,962
32L919920715,55,1,1,2,19920806,80.0650,-9.3530,171,    16.0, -1.4860, 31.8020,2,-999.0000,9,   418.7,2,   418.2,2,    1.05,2,    0.05,2,    0.00,2,    0.77,2,  -999.0,9,  -999.0,9,-999.000,9,-999.000,-999.0000,9, -999.00,9, -999.00, -1.4863,-999.0000,   0.029,2,   9.862,2,   1.277,2,    1.70,2,0.23,2,70500.00,2,90,961
32L919920715,55,1,12,2,19920806,80.0650,-9.3530,171,    26.0, -1.5360, 32.2100,2,-999.0000,9,   377.7,2,   383.7,2,    5.20,2,    1.99,2,    0.05,2,    0.98,2,  -999.0,9,  -999.0,9,-999.000,9,-999.000,-999.0000,9, -999.00,9, -999.00, -1.5365,-999.0000,   0.029,2,   8.663,2,   1.493,2,    2.88,2,0.55,2,73900.00,2,90,960
32L919920715,55,1,11,2,19920806,80.0650,-9.3530,171,    39.0, -1.6720, 32.3360,2,-999.0000,9,   370.5,2,   363.9,2,    8.80,2,    4.05,2,    0.09,2,    1.10,2,  -999.0,9,  -999.0,9,-999.000,9,-999.000,-999.0000,9, -999.00,9, -999.00, -1.6726,-999.0000,   0.039,2,   1.677,2,   0.230,2,    0.19,2,0.25,2,70300.00,2,90,959
32L919920715,55,1,10,2,19920806,80.0650,-9.3530,171,    59.0, -1.6850, 32.3470,2,-999.0000,9,   362.2,2,   363.4,2,    9.08,2,    4.22,2,    0.07,2,    1.12,2,  -999.0,9,  -999.0,9,-999.000,9,-999.000,-999.0000,9, -999.00,9, -999.00, -1.6860,-999.0000,   0.020,2,   0.751,2,   0.352,2,    0.16,2,0.25,2,65200.00,2,90,958
32L919920715,55,1,9,2,19920806,80.0650,-9.3530,171,    70.0, -1.6950, 32.3570,2,-999.0000,9,   362.9,2,   363.3,2,    9.19,2,    4.29,2,    0.06,2,    1.13,2,  -999.0,9,  -999.0,9,-999.000,9,-999.000,-999.0000,9, -999.00,9, -999.00, -1.6962,-999.0000,   0.039,2,   0.851,2,   0.099,2,    0.14,2,0.23,2, -999.00,9,90,957
32L919920715,55,1,8,2,19920806,80.0650,-9.3530,171,    80.0, -1.7170, 32.3970,2,-999.0000,9,   360.0,2,   361.1,2,    9.67,2,    4.58,2,    0.03,2,    1.14,2,  -999.0,9,  -999.0,9,-999.000,9,-999.000,-999.0000,9, -999.00,9, -999.00, -1.7183,-999.0000,   0.010,2,   1.852,2,   0.153,2,    0.13,2,0.20,2, -999.00,9,90,956
32L919920715,55,1,7,2,19920806,80.0650,-9.3530,171,    89.0, -1.7140, 32.4340,2,-999.0000,9,   356.8,2,   359.3,2,    9.98,2,    4.73,2,    0.03,2,    1.14,2,  -999.0,9,  -999.0,9,-999.000,9,-999.000,-999.0000,9, -999.00,9, -999.00, -1.7155,-999.0000,   0.000,2,   1.035,2,   0.107,2,    0.11,2,0.19,2, -999.00,9,90,955
32L919920715,55,1,6,2,19920806,80.0650,-9.3530,171,   100.0, -1.7120, 32.4190,2, 32.4490,2,   358.5,2,   358.9,2,   10.16,2,    4.94,2,    0.03,2,    1.15,2,  -999.0,9,  -999.0,9,-999.000,9,-999.000,-999.0000,9, -999.00,9, -999.00, -1.7137,-999.0000,   0.020,2,   1.338,2,   0.135,2,    0.10,2,0.16,2, -999.00,9,90,954
32L919920715,55,1,5,2,19920806,80.0650,-9.3530,171,   117.0, -1.6120, 32.6510,2,-999.0000,9,   338.5,2,   357.9,2,   10.25,2,    5.01,2,    0.02,2,    1.15,2,  -999.0,9,  -999.0,9,-999.000,9,-999.000,-999.0000,9, -999.00,9, -999.00, -1.6142,-999.0000,   0.010,2,   2.682,2,   0.061,2,    0.09,2,0.15,2, -999.00,9,90,953
32L919920715,55,2,4,2,19920806,80.0650,-9.3530,171,     2.0, -1.2590, 31.3430,2, 31.3540,2,   429.9,2,  -999.0,9,    1.16,2,    0.02,2,   -0.01,2,    0.72,2,  -999.0,9,  -999.0,9,-999.000,9,-999.000,-999.0000,9, -999.00,9, -999.00, -1.2590,-999.0000,   0.410,2,-999.000,9,-999.000,9, -999.00,9,-999.00,9, -999.00,9,91,976
32L919920715,55,2,3,2,19920806,80.0650,-9.3530,171,    15.0, -1.4750, 31.9180,2, 32.0090,2,   419.2,2,  -999.0,9,    1.35,2,    0.12,2,    0.01,2,    0.76,2,  -999.0,9,  -999.0,9,-999.000,9,-999.000,-999.0000,9, -999.00,9, -999.00, -1.4753,-999.0000,   0.117,2,-999.000,9,-999.000,9, -999.00,9,-999.00,9, -999.00,9,91,975
32L919920715,55,2,1,2,19920806,80.0650,-9.3530,171,    24.0, -1.5110, 32.1840,2, 32.1970,2,   378.6,2,  -999.0,9,    3.71,2,    1.09,2,    0.05,2,    0.85,2,  -999.0,9,  -999.0,9,-999.000,9,-999.000,-999.0000,9, -999.00,9, -999.00, -1.5114,-999.0000,   0.146,2,-999.000,9,-999.000,9, -999.00,9,-999.00,9, -999.00,9,91,973
32L919920715,55,2,2,2,19920806,80.0650,-9.3530,171,    24.0, -1.5110, 32.1840,2, 32.1970,2,   378.6,2,  -999.0,9,    3.92,2,    1.30,2,    0.04,2,    0.86,2,  -999.0,9,  -999.0,9,-999.000,9,-999.000,-999.0000,9, -999.00,9, -999.00, -1.5114,-999.0000,   0.185,2,-999.000,9,-999.000,9, -999.00,9,-999.00,9, -999.00,9,91,974
32L919920715,55,2,12,2,19920806,80.0650,-9.3530,171,    40.0, -1.6580, 32.3310,2, 32.3080,2,   366.8,2,  -999.0,9,    7.73,2,    3.78,2,    0.05,2,    1.03,2,  -999.0,9,  -999.0,9,-999.000,9,-999.000,-999.0000,9, -999.00,9, -999.00, -1.6587,-999.0000,   0.088,2,-999.000,9,-999.000,9, -999.00,9,-999.00,9, -999.00,9,91,972
32L919920715,55,2,10,2,19920806,80.0650,-9.3530,171,    50.0, -1.6680, 32.3340,2, 32.3220,2,   358.0,2,  -999.0,9,    8.28,2,    3.94,2,    0.07,2,    1.05,2,  -999.0,9,  -999.0,9,-999.000,9,-999.000,-999.0000,9, -999.00,9, -999.00, -1.6688,-999.0000,   0.000,2,-999.000,9,-999.000,9, -999.00,9,-999.00,9, -999.00,9,91,970
32L919920715,55,2,11,2,19920806,80.0650,-9.3530,171,    50.0, -1.6680, 32.3340,2, 32.3280,2,   358.0,2,  -999.0,9,    8.25,2,    3.93,2,    0.07,2,    1.04,2,  -999.0,9,  -999.0,9,-999.000,9,-999.000,-999.0000,9, -999.00,9, -999.00, -1.6688,-999.0000,   0.068,2,-999.000,9,-999.000,9, -999.00,9,-999.00,9, -999.00,9,91,971
32L919920715,55,2,9,2,19920806,80.0650,-9.3530,171,    79.0, -1.7100, 32.4100,2, 32.3950,2,   362.2,2,  -999.0,9,    9.25,2,    4.43,2,    0.05,2,    1.08,2,  -999.0,9,  -999.0,9,-999.000,9,-999.000,-999.0000,9, -999.00,9, -999.00, -1.7113,-999.0000,   0.029,2,-999.000,9,-999.000,9, -999.00,9,-999.00,9, -999.00,9,91,969
32L919920715,55,2,8,2,19920806,80.0650,-9.3530,171,   100.0, -1.7090, 32.4600,2, 32.4420,2,   359.6,2,  -999.0,9,    9.55,2,    4.73,2,    0.04,2,    1.09,2,  -999.0,9,  -999.0,9,-999.000,9,-999.000,-999.0000,9, -999.00,9, -999.00, -1.7107,-999.0000,   0.098,2,-999.000,9,-999.000,9, -999.00,9,-999.00,9, -999.00,9,91,968
32L919920715,55,2,7,2,19920806,80.0650,-9.3530,171,   110.0, -1.6890, 32.5150,2, 32.5270,2,   358.5,2,  -999.0,9,    9.81,2,    5.06,2,    0.05,2,    1.07,2,  -999.0,9,  -999.0,9,-999.000,9,-999.000,-999.0000,9, -999.00,9, -999.00, -1.6909,-999.0000,   0.088,2,-999.000,9,-999.000,9, -999.00,9,-999.00,9, -999.00,9,91,967
32L919920715,55,2,6,2,19920806,80.0650,-9.3530,171,   135.0, -1.4110, 33.2390,2, 33.2540,2,   321.3,2,  -999.0,9,   10.07,2,    7.67,2,    0.05,2,    1.00,2,  -999.0,9,  -999.0,9,-999.000,9,-999.000,-999.0000,9, -999.00,9, -999.00, -1.4139,-999.0000,   0.244,2,-999.000,9,-999.000,9, -999.00,9,-999.00,9, -999.00,9,91,966
32L919920715,55,2,5,2,19920806,80.0650,-9.3530,171,   140.0, -1.1920, 33.5680,2, 32.6970,2,   332.1,2,  -999.0,9,   10.00,2,    5.95,2,    0.05,2,    1.06,2,  -999.0,9,  -999.0,9,-999.000,9,-999.000,-999.0000,9, -999.00,9, -999.00, -1.1954,-999.0000,   0.049,2,-999.000,9,-999.000,9, -999.00,9,-999.00,9, -999.00,9,91,965
32L919920715,56,1,4,2,19920807,80.2640,-8.6670,298,     3.0, -0.8390, 31.3730,2, 31.3970,2,   378.8,2,   383.6,2,    1.22,2,    0.78,2,    0.01,2,    0.96,2,  2034.8,2,  2164.8,2,-999.000,9,-999.000,-999.0000,9, -999.00,9, -999.00, -0.8391,31.3250,   0.068,2,   9.563,2,   1.890,2,    1.79,2,0.18,2,76800.00,2,92,988
32L919920715,56,1,3,2,19920807,80.2640,-8.6670,298,     6.0, -1.3540, 31.5170,2, 31.5010,2,   400.7,2,   385.8,2,    1.39,2,    1.27,2,    0.00,2,    1.02,2,  -999.0,9,  -999.0,9,-999.000,9,-999.000,-999.0000,9, -999.00,9, -999.00, -1.3541,-999.0000,   0.185,2,   9.526,2,   2.227,2,    1.70,2,0.17,2,45600.00,2,92,987
32L919920715,56,1,2,2,19920807,80.2640,-8.6670,298,    10.0, -1.4750, 31.5800,2, 31.5600,2,   401.3,2,   385.6,2,    3.97,2,    1.55,2,    0.00,2,    1.06,2,  -999.0,9,  -999.0,9,-999.000,9,-999.000,-999.0000,9, -999.00,9, -999.00, -1.4752,-999.0000,   0.146,2,  12.948,2,   3.454,2,    1.73,2,0.30,2,36400.00,2,92,986
32L919920715,56,1,12,2,19920807,80.2640,-8.6670,298,    15.0, -1.3900, 31.5780,2, 31.5890,2,   397.5,2,   386.1,2,    7.76,2,    1.52,2,    0.02,2,    1.04,2,  -999.0,9,  -999.0,9,-999.000,9,-999.000,-999.0000,9, -999.00,9, -999.00, -1.3903,-999.0000,   0.146,2,   6.516,2,   1.384,2,    2.32,2,0.49,2,51800.00,2,92,984
32L919920715,56,1,1,2,19920807,80.2640,-8.6670,298,    15.0, -1.3900, 31.5780,2, 31.5770,2,   397.5,2,   385.9,2,    3.75,2,    1.51,2,    0.02,2,    1.04,2,  2055.8,2,  2179.4,2,-999.000,9,-999.000,-999.0000,9, -999.00,9, -999.00, -1.3903,31.5120,   0.185,2,-999.000,9,-999.000,9, -999.00,9,-999.00,9,35100.00,2,92,985
32L919920715,56,1,11,2,19920807,80.2640,-8.6670,298,    25.0, -1.6200, 31.6890,2, 31.6800,2,   383.9,2,   376.6,2,    8.28,2,    2.84,2,    0.02,2,    1.14,2,  -999.0,9,  -999.0,9,-999.000,9,-999.000,-999.0000,9, -999.00,9, -999.00, -1.6204,-999.0000,   0.068,2,   4.351,2,   0.508,2,    0.90,2,0.30,2,56400.00,2,92,983
32L919920715,56,1,10,2,19920807,80.2640,-8.6670,298,    37.0, -1.5900, 31.9810,2, 31.9290,2,   370.4,2,   366.3,2,    8.31,2,    3.84,2,    0.02,2,    1.17,2,  -999.0,9,  -999.0,9,-999.000,9,-999.000,-999.0000,9, -999.00,9, -999.00, -1.5906,-999.0000,   0.088,2,   2.786,2,   0.285,2,    0.48,2,0.24,2,46100.00,2,92,982
32L919920715,56,1,9,2,19920807,80.2640,-8.6670,298,    57.0, -1.4800, 32.3920,2, 32.4030,2,   344.7,2,   349.0,2,    9.27,2,    5.56,2,    0.02,2,    1.18,2,  2108.4,2,  2217.3,2,-999.000,9,-999.000,-999.0000,9, -999.00,9, -999.00, -1.4811,32.3370,   0.107,2,   1.589,2,   0.288,2,    0.24,2,0.21,2,99300.00,2,92,981
32L919920715,56,1,8,2,19920807,80.2640,-8.6670,298,    99.0, -0.9040, 33.7000,2, 33.6950,2,   312.4,2,   312.3,2,    9.57,2,    9.45,2,    0.05,2,    1.03,2,  2140.2,2,  2255.3,2,-999.000,9,-999.000,-999.0000,9, -999.00,9, -999.00, -0.9066,33.6260,   0.010,2,   2.340,2,   0.317,2,    0.10,2,0.19,2, -999.00,9,92,980
32L919920715,56,1,7,2,19920807,80.2640,-8.6670,298,   200.0,  0.3720, 34.7360,2, 34.7010,2,   286.6,2,   285.5,2,    9.82,2,   12.58,2,    0.05,2,    1.00,2,  2148.5,2,  2280.7,2,-999.000,9,-999.000,-999.0000,9, -999.00,9, -999.00,  0.3640,34.6330,   0.010,2,   0.824,2,   0.086,2,    0.03,2,0.08,2, -999.00,9,92,979
32L919920715,56,1,6,2,19920807,80.2640,-8.6670,298,   251.0,  0.4320, 34.8400,2, 34.8280,2,   288.1,2,   286.8,2,   10.07,2,   12.57,2,    0.05,2,    0.99,2,  2147.9,2,  2285.7,2,-999.000,9,-999.000,-999.0000,9, -999.00,9, -999.00,  0.4216,34.7420,   0.010,2,-999.000,9,-999.000,9, -999.00,9,-999.00,9, -999.00,9,92,978
32L919920715,56,1,5,2,19920807,80.2640,-8.6670,298,   288.0,  0.4450, 34.6550,2, 34.8400,2,   291.7,2,   305.9,2,   10.01,2,   12.39,2,    0.05,2,    1.00,2,  -999.0,9,  -999.0,9,-999.000,9,-999.000,-999.0000,9, -999.00,9, -999.00,  0.4329,-999.0000,   0.020,2,-999.000,9,-999.000,9, -999.00,9,-999.00,9, -999.00,9,92,977