BOTTLE,20220816CCHSIOAMB
EXPOCODE,STNNBR,CASTNO,BTLNBR,BTLNBR_FLAG_W,DATE,LATITUDE,LONGITUDE,DEPTH,CTDPRS,CTDTMP,CTDSAL,CTDSAL_FLAG_W,SALNTY,SALNTY_FLAG_W,CTDOXY,CTDOXY_FLAG_W,OXYGEN,OXYGEN_FLAG_W,SILCAT,SILCAT_FLAG_W,NITRAT,NITRAT_FLAG_W,NITRIT,NITRIT_FLAG_W,PHSPHT,PHSPHT_FLAG_W,TCARBN,TCARBN_FLAG_W,ALKALI,ALKALI_FLAG_W,TRITUM,TRITUM_FLAG_W,TRITER,HELIUM,HELIUM_FLAG_W,DELHE3,DELHE3_FLAG_W,DELHER,THETA,SOMSAL,AMMONI,AMMONI_FLAG_W,POC,POC_FLAG_W,PON,PON_FLAG_W,CHLORA,CHLORA_FLAG_W,PHAEO,PHAEO_FLAG_W,BACT,BACT_FLAG_W,STNNBR_U,BNLID
,,,,,,,,METERS,DBAR,ITS-90,PSS-78,,PSS-78,,UMOL/KG,,UMOL/KG,,UMOL/KG,,UMOL/KG,,UMOL/KG,,UMOL/KG,,UMOL/KG,,UMOL/KG,,TU,,TU,NMOL/KG,,PERCNT,,PERCNT,DEG C,PSS-78,UMOL/KG,,UG/KG,,UG/KG,,UG/KG,,UG/L,,E8/L,,,
32L919920715,16,1,5,2,19920725,80.2750,-11.0290,208,     2.0, -0.4080, 31.7150,2,-999.0000,9,   400.2,2,   417.1,2,    2.18,2,    0.14,2,    0.00,2,    0.77,2,  -999.0,9,  -999.0,9,-999.000,9,-999.000,-999.0000,9, -999.00,9, -999.00, -0.4081,-999.0000,   0.039,2,-999.000,9,-999.000,9,    0.43,2,0.08,2, -999.00,9,25,293
32L919920715,16,1,4,2,19920725,80.2750,-11.0290,208,     9.0, -0.6740, 31.9620,2,-999.0000,9,   417.2,2,   424.4,2,    2.07,2,    0.14,2,    0.00,2,    0.77,2,  -999.0,9,  -999.0,9,-999.000,9,-999.000,-999.0000,9, -999.00,9, -999.00, -0.6742,-999.0000,   0.049,2,-999.000,9,-999.000,9,    0.48,2,0.09,2, -999.00,9,25,292
32L919920715,16,1,3,2,19920725,80.2750,-11.0290,208,    19.0, -1.1610, 32.0390,2,-999.0000,9,   400.6,2,   411.7,2,    2.19,2,    0.14,2,    0.00,2,    0.78,2,  -999.0,9,  -999.0,9,-999.000,9,-999.000,-999.0000,9, -999.00,9, -999.00, -1.1614,-999.0000,   0.263,2,-999.000,9,-999.000,9,    2.46,2,0.26,2, -999.00,9,25,291
32L919920715,16,1,2,2,19920725,80.2750,-11.0290,208,    35.0, -1.5120, 32.3140,2,-999.0000,9,   375.3,2,   388.1,2,    3.08,2,    0.99,2,    0.02,2,    0.90,2,  -999.0,9,  -999.0,9,-999.000,9,-999.000,-999.0000,9, -999.00,9, -999.00, -1.5126,-999.0000,   0.107,2,-999.000,9,-999.000,9,    5.58,2,0.56,2, -999.00,9,25,290
32L919920715,16,1,1,2,19920725,80.2750,-11.0290,208,    50.0, -1.6820, 32.3370,2,-999.0000,9,   350.0,2,   363.9,2,    7.99,2,    4.59,2,    0.06,2,    1.10,2,  -999.0,9,  -999.0,9,-999.000,9,-999.000,-999.0000,9, -999.00,9, -999.00, -1.6828,-999.0000,   0.146,2,-999.000,9,-999.000,9,    0.63,2,0.20,2, -999.00,9,25,289
32L919920715,16,1,12,2,19920725,80.2750,-11.0290,208,    60.0, -1.7170, 32.3570,2,-999.0000,9,   365.0,2,   363.6,2,    9.30,2,    4.83,2,    0.03,2,    1.12,2,  -999.0,9,  -999.0,9,-999.000,9,-999.000,-999.0000,9, -999.00,9, -999.00, -1.7180,-999.0000,   0.088,2,-999.000,9,-999.000,9,    0.97,2,0.32,2, -999.00,9,25,288
32L919920715,16,1,11,2,19920725,80.2750,-11.0290,208,    75.0, -1.7170, 32.3830,2,-999.0000,9,   361.0,2,   362.2,2,   10.03,2,    4.99,2,    0.03,2,    1.15,2,  -999.0,9,  -999.0,9,-999.000,9,-999.000,-999.0000,9, -999.00,9, -999.00, -1.7182,-999.0000,   0.059,2,-999.000,9,-999.000,9,    0.41,2,0.20,2, -999.00,9,25,287
32L919920715,16,1,10,2,19920725,80.2750,-11.0290,208,    90.0, -1.7140, 32.4780,2,-999.0000,9,   362.7,2,   358.4,2,   10.67,2,    5.46,2,    0.02,2,    1.16,2,  -999.0,9,  -999.0,9,   4.750,2,   0.071,  1.9260,2,    1.90,2,    0.20, -1.7155,-999.0000,   0.010,2,-999.000,9,-999.000,9,    0.29,2,0.16,2, -999.00,9,25,286
32L919920715,16,1,9,2,19920725,80.2750,-11.0290,208,   119.0, -1.6540, 32.6950,2,-999.0000,9,   341.5,2,   348.9,2,   11.15,2,    6.68,2,    0.01,2,    1.13,2,  -999.0,9,  -999.0,9,-999.000,9,-999.000,-999.0000,9, -999.00,9, -999.00, -1.6562,-999.0000,   0.000,2,-999.000,9,-999.000,9,    0.23,2,0.17,2, -999.00,9,25,285
32L919920715,16,1,7,2,19920725,80.2750,-11.0290,208,   181.0, -0.2350, 34.3580,2,-999.0000,9,   291.3,2,   291.3,2,   10.22,2,   13.07,2,    0.02,2,    1.16,2,  -999.0,9,  -999.0,9,-999.000,9,-999.000,-999.0000,9, -999.00,9, -999.00, -0.2412,-999.0000,   0.088,2,-999.000,9,-999.000,9,    0.21,2,0.30,2, -999.00,9,25,283
32L919920715,16,1,6,2,19920725,80.2750,-11.0290,208,   198.0, -0.1150, 34.4330,2,-999.0000,9,   290.5,2,   303.6,2,   10.36,2,   13.23,2,    0.02,2,    1.07,2,  -999.0,9,  -999.0,9,-999.000,9,-999.000,-999.0000,9, -999.00,9, -999.00, -0.1220,-999.0000,   0.068,2,-999.000,9,-999.000,9,    0.17,2,0.22,2, -999.00,9,25,282
32L919920715,17,1,5,2,19920725,80.1900,-10.9230,167,     2.0, -0.5250, 30.9210,2,-999.0000,9,   409.9,2,   408.5,2,    2.14,2,    0.14,2,    0.00,2,    0.85,2,  -999.0,9,  -999.0,9,-999.000,9,-999.000,-999.0000,9, -999.00,9, -999.00, -0.5250,-999.0000,   0.263,2,  12.351,2,   0.989,2,    0.43,2,0.06,2,92800.00,2,26,305
32L919920715,17,1,4,2,19920725,80.1900,-10.9230,167,     4.0, -0.4330, 30.7650,2,-999.0000,9,   411.5,2,   411.9,2,    2.20,2,    0.14,2,    0.00,2,    0.87,2,  -999.0,9,  -999.0,9,-999.000,9,-999.000,-999.0000,9, -999.00,9, -999.00, -0.4331,-999.0000,   0.098,2,  11.787,2,   1.165,2,    0.60,2,0.09,2, -999.00,9,26,304
32L919920715,17,1,3,2,19920725,80.1900,-10.9230,167,     8.0, -0.3960, 31.8060,2,-999.0000,9,   415.8,2,   413.7,2,    2.30,2,    0.14,2,    0.00,2,    0.87,2,  -999.0,9,  -999.0,9,-999.000,9,-999.000,-999.0000,9, -999.00,9, -999.00, -0.3962,-999.0000,   0.098,2,  13.554,2,   0.957,2,    0.48,2,0.17,2,127000.00,2,26,303
32L919920715,17,1,2,2,19920725,80.1900,-10.9230,167,    14.0, -0.4410, 31.9430,2,-999.0000,9,   408.5,2,   415.5,2,    2.42,2,    0.14,2,    0.00,2,    0.92,2,  -999.0,9,  -999.0,9,-999.000,9,-999.000,-999.0000,9, -999.00,9, -999.00, -0.4414,-999.0000,   0.244,2,  12.926,2,   0.852,2,    0.47,2,0.09,2,137000.00,2,26,302
32L919920715,17,1,1,2,19920725,80.1900,-10.9230,167,    22.0, -0.4830, 31.8460,2,-999.0000,9,   399.7,2,   416.3,2,    2.27,2,    0.24,2,    0.00,2,    0.88,2,  -999.0,9,  -999.0,9,-999.000,9,-999.000,-999.0000,9, -999.00,9, -999.00, -0.4836,-999.0000,   0.059,2,  15.433,2,   1.233,2,    0.62,2,0.08,2,136000.00,2,26,301
32L919920715,17,1,12,2,19920725,80.1900,-10.9230,167,    35.0, -1.5940, 32.3040,2,-999.0000,9,   360.0,2,   385.2,2,    1.94,2,    1.16,2,    0.03,2,    1.01,2,  -999.0,9,  -999.0,9,-999.000,9,-999.000,-999.0000,9, -999.00,9, -999.00, -1.5946,-999.0000,   0.078,2,  49.172,2,   5.590,2,    5.58,2,0.62,2,377000.00,2,26,300
32L919920715,17,1,11,2,19920725,80.1900,-10.9230,167,    53.0, -1.6730, 32.3350,2,-999.0000,9,   354.7,2,   364.1,2,    8.79,2,    4.59,2,    0.07,2,    1.26,2,  -999.0,9,  -999.0,9,-999.000,9,-999.000,-999.0000,9, -999.00,9, -999.00, -1.6739,-999.0000,   0.137,2,  13.451,2,   1.211,2,    0.27,2,1.53,2,112000.00,2,26,299
32L919920715,17,1,10,2,19920725,80.1900,-10.9230,167,    60.0, -1.6960, 32.3470,2,-999.0000,9,   354.1,2,   364.2,2,    9.16,2,    4.67,2,    0.05,2,    1.27,2,  -999.0,9,  -999.0,9,-999.000,9,-999.000,-999.0000,9, -999.00,9, -999.00, -1.6970,-999.0000,   0.146,2,  12.715,2,   0.431,2,    0.87,2,0.22,2, -999.00,9,26,298
32L919920715,17,1,9,2,19920725,80.1900,-10.9230,167,    70.0, -1.7390, 32.3610,2,-999.0000,9,   361.1,2,   365.1,2,    9.14,2,    4.71,2,    0.04,2,    1.27,2,  -999.0,9,  -999.0,9,-999.000,9,-999.000,-999.0000,9, -999.00,9, -999.00, -1.7401,-999.0000,   0.068,2,  10.150,2,   0.341,2,    0.75,2,0.23,2,79100.00,2,26,297
32L919920715,17,1,8,2,19920725,80.1900,-10.9230,167,    80.0, -1.7530, 32.3730,2,-999.0000,9,   361.7,2,   362.9,2,    9.32,2,    4.88,2,    0.02,2,    1.28,2,  -999.0,9,  -999.0,9,-999.000,9,-999.000,-999.0000,9, -999.00,9, -999.00, -1.7543,-999.0000,   0.039,2,  11.141,2,-999.000,9,    0.66,2,0.25,2, -999.00,9,26,296
32L919920715,17,1,7,2,19920725,80.1900,-10.9230,167,    94.0, -1.7530, 32.3860,2,-999.0000,9,   361.2,2,   366.6,2,    9.59,2,    4.91,2,    0.02,2,    1.26,2,  -999.0,9,  -999.0,9,-999.000,9,-999.000,-999.0000,9, -999.00,9, -999.00, -1.7545,-999.0000,   0.000,2,   5.243,2,-999.000,9,    0.30,2,0.15,2, -999.00,9,26,295
32L919920715,17,1,6,2,19920725,80.1900,-10.9230,167,   120.0, -1.7150, 32.4880,2,-999.0000,9,   353.5,2,  -999.0,9, -999.00,9, -999.00,9, -999.00,9, -999.00,9,  -999.0,9,  -999.0,9,-999.000,9,-999.000,-999.0000,9, -999.00,9, -999.00, -1.7171,-999.0000,-999.000,9,-999.000,9,-999.000,9, -999.00,9,-999.00,9, -999.00,9,26,294
32L919920715,18,1,5,2,19920725,80.3380,-11.0260,262,     2.0, -0.8260, 31.5960,2,-999.0000,9,   415.6,2,   421.3,2,    2.40,2,    0.11,2,    0.00,2,    0.88,2,  -999.0,9,  -999.0,9,-999.000,9,-999.000,-999.0000,9, -999.00,9, -999.00, -0.8260,-999.0000,   0.049,2,-999.000,9,-999.000,9,    0.43,2,0.09,2, -999.00,9,27,317
32L919920715,18,1,4,2,19920725,80.3380,-11.0260,262,    10.0, -1.3090, 31.8940,2,-999.0000,9,   431.7,2,   415.8,2,    2.34,2,    0.22,2,    0.00,2,    0.93,2,  -999.0,9,  -999.0,9,-999.000,9,-999.000,-999.0000,9, -999.00,9, -999.00, -1.3092,-999.0000,   0.049,2,-999.000,9,-999.000,9,    1.99,2,0.33,2, -999.00,9,27,316
32L919920715,18,1,3,2,19920725,80.3380,-11.0260,262,    20.0, -1.2410, 32.1750,2,-999.0000,9,   408.3,2,   386.9,2,    4.59,2,    1.27,2,    0.03,2,    1.08,2,  -999.0,9,  -999.0,9,-999.000,9,-999.000,-999.0000,9, -999.00,9, -999.00, -1.2414,-999.0000,   0.039,2,-999.000,9,-999.000,9,    2.76,2,0.79,2, -999.00,9,27,315
32L919920715,18,1,2,2,19920725,80.3380,-11.0260,262,    31.0, -1.5710, 32.3020,2,-999.0000,9,   374.7,2,   369.9,2,    7.04,2,    2.63,2,    0.06,2,    1.22,2,  -999.0,9,  -999.0,9,-999.000,9,-999.000,-999.0000,9, -999.00,9, -999.00, -1.5715,-999.0000,   0.137,2,-999.000,9,-999.000,9,    2.38,2,0.72,2, -999.00,9,27,314
32L919920715,18,1,1,2,19920725,80.3380,-11.0260,262,    40.0, -1.6630, 32.3350,2,-999.0000,9,   368.1,2,   366.2,2,    8.89,2,    3.57,2,    0.06,2,    1.28,2,  -999.0,9,  -999.0,9,-999.000,9,-999.000,-999.0000,9, -999.00,9, -999.00, -1.6637,-999.0000,   0.098,2,-999.000,9,-999.000,9,    0.96,2,0.43,2, -999.00,9,27,313
32L919920715,18,1,12,2,19920725,80.3380,-11.0260,262,    50.0, -1.7040, 32.3540,2,-999.0000,9,   364.4,2,   364.6,2,    9.53,2,    3.64,2,    0.04,2,    1.31,2,  -999.0,9,  -999.0,9,-999.000,9,-999.000,-999.0000,9, -999.00,9, -999.00, -1.7048,-999.0000,   0.000,2,-999.000,9,-999.000,9,    0.49,2,0.34,2, -999.00,9,27,312
32L919920715,18,1,11,2,19920725,80.3380,-11.0260,262,    65.0, -1.7430, 32.3790,2,-999.0000,9,   370.3,2,   364.0,2,    9.59,2,    3.78,2,    0.02,2,    1.33,2,  -999.0,9,  -999.0,9,-999.000,9,-999.000,-999.0000,9, -999.00,9, -999.00, -1.7441,-999.0000,   0.098,2,-999.000,9,-999.000,9,    0.58,2,0.00,2, -999.00,9,27,311
32L919920715,18,1,10,2,19920725,80.3380,-11.0260,262,    85.0, -1.7440, 32.4020,2,-999.0000,9,   364.9,2,   362.2,2,    9.93,2,    3.98,2,    0.01,2,    1.32,2,  -999.0,9,  -999.0,9,-999.000,9,-999.000,-999.0000,9, -999.00,9, -999.00, -1.7454,-999.0000,   0.068,2,-999.000,9,-999.000,9,    0.23,2,0.17,2, -999.00,9,27,310
32L919920715,18,1,9,2,19920725,80.3380,-11.0260,262,   110.0, -1.6660, 32.6630,2,-999.0000,9,   352.2,2,   351.2,2,   10.87,2,    5.25,2,    0.01,2,    1.31,2,  -999.0,9,  -999.0,9,-999.000,9,-999.000,-999.0000,9, -999.00,9, -999.00, -1.6680,-999.0000,   0.088,2,-999.000,9,-999.000,9,    0.21,2,0.17,2, -999.00,9,27,309
32L919920715,18,1,8,2,19920725,80.3380,-11.0260,262,   150.0, -1.4500, 33.2900,2,-999.0000,9,   333.0,2,   332.3,2,   10.35,2,    7.61,2,    0.00,2,    1.21,2,  -999.0,9,  -999.0,9,-999.000,9,-999.000,-999.0000,9, -999.00,9, -999.00, -1.4532,-999.0000,   0.341,2,-999.000,9,-999.000,9,    0.16,2,0.14,2, -999.00,9,27,308
32L919920715,18,1,7,2,19920725,80.3380,-11.0260,262,   201.0,  0.0210, 34.5100,2, 34.5570,2,   289.2,2,   289.8,2,    9.77,2,   12.62,2,    0.00,2,    1.21,2,  -999.0,9,  -999.0,9,-999.000,9,-999.000,-999.0000,9, -999.00,9, -999.00,  0.0136,-999.0000,   0.049,2,-999.000,9,-999.000,9,    0.13,2,0.15,2, -999.00,9,27,307
32L919920715,18,1,6,2,19920725,80.3380,-11.0260,262,   252.0,  0.4100, 34.7600,2,-999.0000,9,   287.5,2,  -999.0,9, -999.00,9, -999.00,9, -999.00,9, -999.00,9,  -999.0,9,  -999.0,9,-999.000,9,-999.000,-999.0000,9, -999.00,9, -999.00,  0.3996,-999.0000,-999.000,9,-999.000,9,-999.000,9, -999.00,9,-999.00,9, -999.00,9,27,306
32L919920715,19,1,5,2,19920725,80.4080,-11.0300,323,     2.0, -1.3720, 31.7250,2,-999.0000,9,   430.4,2,   426.7,2,    1.79,2,   -0.02,2,   -0.01,2,    0.71,2,  -999.0,9,  -999.0,9,-999.000,9,-999.000,-999.0000,9, -999.00,9, -999.00, -1.3720,-999.0000,   0.127,2,-999.000,9,-999.000,9,    0.60,2,0.08,2, -999.00,9,28,329
32L919920715,19,1,3,2,19920725,80.4080,-11.0300,323,    20.0, -1.6250, 32.1690,2,-999.0000,9,   387.0,2,   397.4,2,    3.49,2,    0.36,2,    0.01,2,    0.93,2,  -999.0,9,  -999.0,9,-999.000,9,-999.000,-999.0000,9, -999.00,9, -999.00, -1.6253,-999.0000,   0.020,2,-999.000,9,-999.000,9,    3.23,2,1.87,2, -999.00,9,28,327
32L919920715,19,1,4,2,19920725,80.4080,-11.0300,323,    20.0, -1.5460, 32.0630,2,-999.0000,9,   471.7,3,   399.7,2,    3.37,2,    0.35,2,    0.01,2,    0.92,2,  -999.0,9,  -999.0,9,-999.000,9,-999.000,-999.0000,9, -999.00,9, -999.00, -1.5463,-999.0000,   0.039,2,-999.000,9,-999.000,9, -999.00,9,-999.00,9, -999.00,9,28,328
32L919920715,19,1,2,2,19920725,80.4080,-11.0300,323,    36.0, -1.6750, 32.3070,2,-999.0000,9,   355.1,2,   367.2,2, -999.00,9, -999.00,9, -999.00,9, -999.00,9,  -999.0,9,  -999.0,9,-999.000,9,-999.000,-999.0000,9, -999.00,9, -999.00, -1.6756,-999.0000,-999.000,9,-999.000,9,-999.000,9,    0.55,2,0.25,2, -999.00,9,28,326
32L919920715,19,1,1,2,19920725,80.4080,-11.0300,323,    50.0, -1.7010, 32.3440,2,-999.0000,9,   367.9,2,   365.8,2,    8.60,2,    4.14,2,    0.02,2,    1.12,2,  -999.0,9,  -999.0,9,-999.000,9,-999.000,-999.0000,9, -999.00,9, -999.00, -1.7018,-999.0000,   0.039,2,-999.000,9,-999.000,9,    0.30,2,0.18,2, -999.00,9,28,325
32L919920715,19,1,12,2,19920725,80.4080,-11.0300,323,    65.0, -1.7190, 32.3600,2,-999.0000,9,   367.3,2,   365.5,2,    8.62,2,    4.20,2,    0.01,2,    1.11,2,  -999.0,9,  -999.0,9,-999.000,9,-999.000,-999.0000,9, -999.00,9, -999.00, -1.7201,-999.0000,   0.059,2,-999.000,9,-999.000,9,    0.16,2,0.13,2, -999.00,9,28,324
32L919920715,19,1,11,2,19920725,80.4080,-11.0300,323,    80.0, -1.7090, 32.4180,2,-999.0000,9,   365.2,2,   363.1,2,    9.34,2,    4.59,2,    0.01,2,    1.11,2,  -999.0,9,  -999.0,9,-999.000,9,-999.000,-999.0000,9, -999.00,9, -999.00, -1.7103,-999.0000,   0.000,2,-999.000,9,-999.000,9,    0.11,2,0.08,2, -999.00,9,28,323
32L919920715,19,1,10,2,19920725,80.4080,-11.0300,323,   101.0, -1.6950, 32.5590,2,-999.0000,9,   350.5,2,   355.1,2,   10.84,2,    5.62,2,    0.01,2,    1.18,2,  -999.0,9,  -999.0,9,-999.000,9,-999.000,-999.0000,9, -999.00,9, -999.00, -1.6968,-999.0000,   0.020,2,-999.000,9,-999.000,9,    0.16,2,0.16,2, -999.00,9,28,322
32L919920715,19,1,9,2,19920725,80.4080,-11.0300,323,   149.0, -1.3040, 33.4220,2,-999.0000,9,   326.5,2,   326.1,2,   10.23,2,    9.25,2,    0.01,2,    1.05,2,  -999.0,9,  -999.0,9,-999.000,9,-999.000,-999.0000,9, -999.00,9, -999.00, -1.3074,-999.0000,   0.078,2,-999.000,9,-999.000,9,    0.18,2,0.17,2, -999.00,9,28,321
32L919920715,19,1,8,2,19920725,80.4080,-11.0300,323,   199.0,  0.1130, 34.5660,2,-999.0000,9,   292.9,2,   288.9,2,    9.71,2,   13.18,2,    0.00,2,    1.07,2,  -999.0,9,  -999.0,9,-999.000,9,-999.000,-999.0000,9, -999.00,9, -999.00,  0.1055,-999.0000,   0.049,2,-999.000,9,-999.000,9,    0.08,2,0.10,2, -999.00,9,28,320
32L919920715,19,1,7,2,19920725,80.4080,-11.0300,323,   249.0,  0.3720, 34.7300,2, 34.7390,2,   275.1,2,   283.7,2,    9.71,2,   13.48,2,    0.00,2,    1.07,2,  -999.0,9,  -999.0,9,-999.000,9,-999.000,-999.0000,9, -999.00,9, -999.00,  0.3619,-999.0000,   0.039,2,-999.000,9,-999.000,9, -999.00,9,-999.00,9, -999.00,9,28,319
32L919920715,19,1,6,2,19920725,80.4080,-11.0300,323,   313.0,  0.4220, 34.8280,2,-999.0000,9,   287.8,2,   287.1,2,    9.71,2,   13.49,2,    0.00,2,    1.10,2,  -999.0,9,  -999.0,9,-999.000,9,-999.000,-999.0000,9, -999.00,9, -999.00,  0.4089,-999.0000,   0.234,2,-999.000,9,-999.000,9, -999.00,9,-999.00,9, -999.00,9,28,318
32L919920715,20,1,5,2,19920725,80.4770,-10.8970,299,     2.0, -1.4850, 31.7440,2,-999.0000,9,   425.0,2,   427.2,2,    2.29,2,    0.02,2,    0.00,2,    0.88,2,  -999.0,9,  -999.0,9,-999.000,9,-999.000,-999.0000,9, -999.00,9, -999.00, -1.4850,-999.0000,   0.068,2,   7.519,2,   1.177,2,    0.41,2,0.11,2,84900.00,2,29,341
32L919920715,20,1,4,2,19920725,80.4770,-10.8970,299,     5.0, -1.4360, 31.7200,2,-999.0000,9,   432.7,2,   423.5,2,    2.29,2,    0.03,2,    0.00,2,    0.87,2,  -999.0,9,  -999.0,9,-999.000,9,-999.000,-999.0000,9, -999.00,9, -999.00, -1.4361,-999.0000,   0.195,2,   7.926,2,   1.384,2,    0.40,2,0.12,2,83400.00,2,29,340
32L919920715,20,1,3,2,19920725,80.4770,-10.8970,299,     9.0, -1.5150, 31.7460,2,-999.0000,9,   436.4,2,   424.5,2,    2.29,2,    0.04,2,    0.00,2,    0.86,2,  -999.0,9,  -999.0,9,-999.000,9,-999.000,-999.0000,9, -999.00,9, -999.00, -1.5151,-999.0000,   0.078,2,   7.741,2,   1.147,2,    0.58,2,0.14,2,96800.00,2,29,339
32L919920715,20,1,2,2,19920725,80.4770,-10.8970,299,    15.0, -1.5420, 31.8130,2,-999.0000,9,   422.9,2,   415.9,2,    2.55,2,    0.04,2,    0.00,2,    0.89,2,  -999.0,9,  -999.0,9,-999.000,9,-999.000,-999.0000,9, -999.00,9, -999.00, -1.5422,-999.0000,  -0.010,2,   7.950,2,   1.556,2,    1.09,2,0.21,2,167000.00,2,29,338
32L919920715,20,1,1,2,19920725,80.4770,-10.8970,299,    23.0, -1.4770, 32.1000,2,-999.0000,9,   393.5,2,   389.3,2,    4.01,2,    0.77,2,    0.02,2,    1.00,2,  -999.0,9,  -999.0,9,-999.000,9,-999.000,-999.0000,9, -999.00,9, -999.00, -1.4774,-999.0000,   0.088,2,  10.062,2,   1.883,2,    2.41,2,0.66,2,203000.00,2,29,337
32L919920715,20,1,12,2,19920725,80.4770,-10.8970,299,    35.0, -1.6200, 32.2740,2,-999.0000,9,   368.6,2,   368.3,2,    8.03,2,    3.37,2,    0.06,2,    0.70,2,  -999.0,9,  -999.0,9,-999.000,9,-999.000,-999.0000,9, -999.00,9, -999.00, -1.6206,-999.0000,   0.137,2,   3.847,2,   0.827,2,    0.77,2,0.63,2,136000.00,2,29,336
32L919920715,20,1,11,2,19920725,80.4770,-10.8970,299,    52.0, -1.6810, 32.3380,2,-999.0000,9,   366.6,2,   364.3,2,    9.23,2,    4.35,2,    0.05,2,    1.16,2,  -999.0,9,  -999.0,9,-999.000,9,-999.000,-999.0000,9, -999.00,9, -999.00, -1.6819,-999.0000,   0.020,2,   4.584,2,   0.307,2,    0.49,2,0.34,2,78800.00,2,29,335
32L919920715,20,1,10,2,19920725,80.4770,-10.8970,299,    75.0, -1.7100, 32.3820,2,-999.0000,9,   362.6,2,   363.0,2,    9.36,2,    4.56,2,    0.02,2,    1.13,2,  -999.0,9,  -999.0,9,-999.000,9,-999.000,-999.0000,9, -999.00,9, -999.00, -1.7112,-999.0000,   0.029,2,   1.977,2,   0.276,2,    0.18,2,0.27,2, -999.00,9,29,334
32L919920715,20,1,9,2,19920725,80.4770,-10.8970,299,   102.0, -1.6710, 32.6460,2,-999.0000,9,   344.7,2,   349.9,2,   10.95,2,    6.38,2,    0.02,2,    1.17,2,  -999.0,9,  -999.0,9,-999.000,9,-999.000,-999.0000,9, -999.00,9, -999.00, -1.6728,-999.0000,   0.029,2,   2.258,2,   0.368,2,    0.15,2,0.19,2, -999.00,9,29,333
32L919920715,20,1,8,2,19920725,80.4770,-10.8970,299,   152.0, -0.8030, 33.9580,2,-999.0000,9,   305.4,2,   306.9,2,    9.40,2,   11.57,2,    0.00,2,    1.05,2,  -999.0,9,  -999.0,9,-999.000,9,-999.000,-999.0000,9, -999.00,9, -999.00, -0.8073,-999.0000,   0.068,2,   0.838,2,   0.270,2,    0.13,2,0.06,2, -999.00,9,29,332
32L919920715,20,1,7,2,19920725,80.4770,-10.8970,299,   201.0,  0.1480, 34.5640,2,-999.0000,9,   284.5,2,   287.6,2,    9.46,2,   13.36,2,    0.00,2,    1.07,2,  -999.0,9,  -999.0,9,-999.000,9,-999.000,-999.0000,9, -999.00,9, -999.00,  0.1403,-999.0000,   0.039,2,   0.723,2,   0.129,2,    0.08,2,0.11,2, -999.00,9,29,331
32L919920715,20,1,6,2,19920725,80.4770,-10.8970,299,   289.0,  0.4190, 34.8160,2,-999.0000,9,   287.8,2,   287.5,2,    9.56,2,   13.53,2,    0.01,2,    1.08,2,  -999.0,9,  -999.0,9,-999.000,9,-999.000,-999.0000,9, -999.00,9, -999.00,  0.4070,-999.0000,   0.039,2,   0.920,2,   0.298,2,    0.05,2,0.09,2, -999.00,9,29,330