BOTTLE,20220816CCHSIOAMB
EXPOCODE,STNNBR,CASTNO,BTLNBR,BTLNBR_FLAG_W,DATE,LATITUDE,LONGITUDE,DEPTH,CTDPRS,CTDTMP,CTDSAL,CTDSAL_FLAG_W,SALNTY,SALNTY_FLAG_W,CTDOXY,CTDOXY_FLAG_W,OXYGEN,OXYGEN_FLAG_W,SILCAT,SILCAT_FLAG_W,NITRAT,NITRAT_FLAG_W,NITRIT,NITRIT_FLAG_W,PHSPHT,PHSPHT_FLAG_W,TCARBN,TCARBN_FLAG_W,ALKALI,ALKALI_FLAG_W,TRITUM,TRITUM_FLAG_W,TRITER,HELIUM,HELIUM_FLAG_W,DELHE3,DELHE3_FLAG_W,DELHER,THETA,SOMSAL,AMMONI,AMMONI_FLAG_W,POC,POC_FLAG_W,PON,PON_FLAG_W,CHLORA,CHLORA_FLAG_W,PHAEO,PHAEO_FLAG_W,BACT,BACT_FLAG_W,STNNBR_U,BNLID
,,,,,,,,METERS,DBAR,ITS-90,PSS-78,,PSS-78,,UMOL/KG,,UMOL/KG,,UMOL/KG,,UMOL/KG,,UMOL/KG,,UMOL/KG,,UMOL/KG,,UMOL/KG,,TU,,TU,NMOL/KG,,PERCNT,,PERCNT,DEG C,PSS-78,UMOL/KG,,UG/KG,,UG/KG,,UG/KG,,UG/L,,E8/L,,,
32L919920715,25,2,4,2,19920726,80.4540,-13.3520,315,     2.0,  1.5030, 32.1770,2,-999.0000,9,   390.9,2,   389.2,2,    4.81,2,    0.29,2,    0.00,2,    0.90,2,  -999.0,9,  -999.0,9,-999.000,9,-999.000,-999.0000,9, -999.00,9, -999.00,  1.5029,-999.0000,   0.010,2,-999.000,9,-999.000,9,    2.41,2,0.56,2, -999.00,9,35,412
32L919920715,25,2,2,2,19920726,80.4540,-13.3520,315,    24.0, -1.5980, 32.3260,2,-999.0000,9,   369.9,2,  -999.0,9,    8.48,2,    3.28,2,    0.00,2,    1.09,2,  -999.0,9,  -999.0,9,-999.000,9,-999.000,-999.0000,9, -999.00,9, -999.00, -1.5984,-999.0000,   0.000,2,-999.000,9,-999.000,9,    0.52,2,0.32,2, -999.00,9,35,410
32L919920715,25,2,3,2,19920726,80.4540,-13.3520,315,    24.0, -1.6050, 32.3310,2,-999.0000,9,   364.1,2,  -999.0,9, -999.00,9, -999.00,9, -999.00,9, -999.00,9,  -999.0,9,  -999.0,9,-999.000,9,-999.000,-999.0000,9, -999.00,9, -999.00, -1.6054,-999.0000,-999.000,9,-999.000,9,-999.000,9,    0.31,2,0.11,2, -999.00,9,35,411
32L919920715,25,2,1,2,19920726,80.4540,-13.3520,315,    30.0, -1.6460, 32.3400,2,-999.0000,9,   367.3,2,   367.2,2,    8.88,2,    3.82,2,    0.00,2,    1.11,2,  -999.0,9,  -999.0,9,-999.000,9,-999.000,-999.0000,9, -999.00,9, -999.00, -1.6465,-999.0000,   0.000,2,-999.000,9,-999.000,9,    0.88,2,0.22,2, -999.00,9,35,409
32L919920715,25,2,12,2,19920726,80.4540,-13.3520,315,    50.0, -1.7350, 32.3550,2,-999.0000,9,   361.2,2,   365.8,2,    8.84,2,    4.03,2,    0.01,2,    1.14,2,  -999.0,9,  -999.0,9,-999.000,9,-999.000,-999.0000,9, -999.00,9, -999.00, -1.7358,-999.0000,   0.010,2,-999.000,9,-999.000,9,    0.12,2,0.05,2, -999.00,9,35,408
32L919920715,25,2,11,2,19920726,80.4540,-13.3520,315,    74.0, -1.7370, 32.3950,2,-999.0000,9,   339.8,2,   361.2,2,    9.30,2,    4.50,2,    0.00,2,    1.15,2,  -999.0,9,  -999.0,9,-999.000,9,-999.000,-999.0000,9, -999.00,9, -999.00, -1.7382,-999.0000,   0.068,2,-999.000,9,-999.000,9,    0.06,2,0.03,2, -999.00,9,35,407
32L919920715,25,2,10,2,19920726,80.4540,-13.3520,315,    99.0, -1.6060, 32.7940,2,-999.0000,9,   340.9,2,   345.3,2,   10.50,2,    6.34,2,    0.00,2,    1.12,2,  -999.0,9,  -999.0,9,-999.000,9,-999.000,-999.0000,9, -999.00,9, -999.00, -1.6078,-999.0000,   0.039,2,-999.000,9,-999.000,9,    0.01,2,0.02,2, -999.00,9,35,406
32L919920715,25,2,9,2,19920726,80.4540,-13.3520,315,   126.0, -1.4470, 33.3570,2,-999.0000,9,   323.2,2,   330.6,2,    9.98,2,    8.10,2,    0.00,2,    1.03,2,  -999.0,9,  -999.0,9,-999.000,9,-999.000,-999.0000,9, -999.00,9, -999.00, -1.4497,-999.0000,   0.039,2,-999.000,9,-999.000,9,    0.10,2,0.07,2, -999.00,9,35,405
32L919920715,25,2,8,2,19920726,80.4540,-13.3520,315,   150.0, -0.8640, 33.9160,2,-999.0000,9,   306.1,2,   307.2,2,    9.05,2,   10.85,2,    0.00,2,    1.02,2,  -999.0,9,  -999.0,9,-999.000,9,-999.000,-999.0000,9, -999.00,9, -999.00, -0.8682,-999.0000,   0.039,2,-999.000,9,-999.000,9,    0.03,2,0.03,2, -999.00,9,35,404
32L919920715,25,2,7,2,19920726,80.4540,-13.3520,315,   200.0,  0.1510, 34.5460,2,-999.0000,9,   288.4,2,   288.5,2,    9.18,2,   13.12,2,    0.00,2,    1.05,2,  -999.0,9,  -999.0,9,-999.000,9,-999.000,-999.0000,9, -999.00,9, -999.00,  0.1434,-999.0000,   0.068,2,-999.000,9,-999.000,9,    0.03,2,0.06,2, -999.00,9,35,403
32L919920715,25,2,6,2,19920726,80.4540,-13.3520,315,   251.0,  0.4690, 34.6770,2, 34.6810,2,   287.3,2,   285.4,2,    9.28,2,   13.27,2,    0.01,2,    1.03,2,  -999.0,9,  -999.0,9,-999.000,9,-999.000,-999.0000,9, -999.00,9, -999.00,  0.4586,-999.0000,   0.088,2,-999.000,9,-999.000,9, -999.00,9,-999.00,9, -999.00,9,35,402
32L919920715,25,2,5,2,19920726,80.4540,-13.3520,315,   305.0,  0.4830, 34.7430,2,-999.0000,9,   287.0,2,   284.7,2,    9.96,2,   13.29,2,    0.02,2,    1.05,2,  -999.0,9,  -999.0,9,-999.000,9,-999.000,-999.0000,9, -999.00,9, -999.00,  0.4701,-999.0000,   0.039,2,-999.000,9,-999.000,9, -999.00,9,-999.00,9, -999.00,9,35,401
32L919920715,25,3,4,2,19920726,80.4540,-13.3520,315,     2.0,  2.1520, 31.9880,2,-999.0000,9,   398.2,2,  -999.0,9, -999.00,9, -999.00,9, -999.00,9, -999.00,9,  -999.0,9,  -999.0,9,-999.000,9,-999.000,-999.0000,9, -999.00,9, -999.00,  2.1519,-999.0000,-999.000,9,-999.000,9,-999.000,9, -999.00,9,-999.00,9, -999.00,9,36,424
32L919920715,25,3,3,2,19920726,80.4540,-13.3520,315,    10.0, -0.5620, 32.3130,2,-999.0000,9,   398.7,2,  -999.0,9, -999.00,9, -999.00,9, -999.00,9, -999.00,9,  -999.0,9,  -999.0,9,-999.000,9,-999.000,-999.0000,9, -999.00,9, -999.00, -0.5623,-999.0000,-999.000,9,-999.000,9,-999.000,9, -999.00,9,-999.00,9, -999.00,9,36,423
32L919920715,25,3,2,2,19920726,80.4540,-13.3520,315,    20.0, -1.4890, 32.3270,2,-999.0000,9,   375.3,2,  -999.0,9, -999.00,9, -999.00,9, -999.00,9, -999.00,9,  -999.0,9,  -999.0,9,-999.000,9,-999.000,-999.0000,9, -999.00,9, -999.00, -1.4894,-999.0000,-999.000,9,-999.000,9,-999.000,9, -999.00,9,-999.00,9, -999.00,9,36,422
32L919920715,25,3,1,2,19920726,80.4540,-13.3520,315,    50.0, -1.7170, 32.3560,2,-999.0000,9,   370.4,2,  -999.0,9, -999.00,9, -999.00,9, -999.00,9, -999.00,9,  -999.0,9,  -999.0,9,-999.000,9,-999.000,-999.0000,9, -999.00,9, -999.00, -1.7178,-999.0000,-999.000,9,-999.000,9,-999.000,9, -999.00,9,-999.00,9, -999.00,9,36,421
32L919920715,25,3,12,2,19920726,80.4540,-13.3520,315,    76.0, -1.7400, 32.4020,2,-999.0000,9,   366.4,2,  -999.0,9, -999.00,9, -999.00,9, -999.00,9, -999.00,9,  -999.0,9,  -999.0,9,-999.000,9,-999.000,-999.0000,9, -999.00,9, -999.00, -1.7412,-999.0000,-999.000,9,-999.000,9,-999.000,9, -999.00,9,-999.00,9, -999.00,9,36,420
32L919920715,25,3,11,2,19920726,80.4540,-13.3520,315,    98.0, -1.6470, 32.6900,2,-999.0000,9,   349.3,2,  -999.0,9, -999.00,9, -999.00,9, -999.00,9, -999.00,9,  -999.0,9,  -999.0,9,-999.000,9,-999.000,-999.0000,9, -999.00,9, -999.00, -1.6488,-999.0000,-999.000,9,-999.000,9,-999.000,9, -999.00,9,-999.00,9, -999.00,9,36,419
32L919920715,25,3,10,2,19920726,80.4540,-13.3520,315,   125.0, -1.4800, 33.3830,2,-999.0000,9,   332.0,2,  -999.0,9, -999.00,9, -999.00,9, -999.00,9, -999.00,9,  -999.0,9,  -999.0,9,-999.000,9,-999.000,-999.0000,9, -999.00,9, -999.00, -1.4826,-999.0000,-999.000,9,-999.000,9,-999.000,9, -999.00,9,-999.00,9, -999.00,9,36,418
32L919920715,25,3,9,2,19920726,80.4540,-13.3520,315,   150.0, -0.9130, 33.9660,2,-999.0000,9,   309.8,2,  -999.0,9, -999.00,9, -999.00,9, -999.00,9, -999.00,9,  -999.0,9,  -999.0,9,-999.000,9,-999.000,-999.0000,9, -999.00,9, -999.00, -0.9171,-999.0000,-999.000,9,-999.000,9,-999.000,9, -999.00,9,-999.00,9, -999.00,9,36,417
32L919920715,25,3,8,2,19920726,80.4540,-13.3520,315,   201.0,  0.2090, 34.5700,2,-999.0000,9,   286.9,2,  -999.0,9, -999.00,9, -999.00,9, -999.00,9, -999.00,9,  -999.0,9,  -999.0,9,-999.000,9,-999.000,-999.0000,9, -999.00,9, -999.00,  0.2012,-999.0000,-999.000,9,-999.000,9,-999.000,9, -999.00,9,-999.00,9, -999.00,9,36,416
32L919920715,25,3,7,2,19920726,80.4540,-13.3520,315,   250.0,  0.4850, 34.6850,2,-999.0000,9,   286.9,2,  -999.0,9, -999.00,9, -999.00,9, -999.00,9, -999.00,9,  -999.0,9,  -999.0,9,-999.000,9,-999.000,-999.0000,9, -999.00,9, -999.00,  0.4746,-999.0000,-999.000,9,-999.000,9,-999.000,9, -999.00,9,-999.00,9, -999.00,9,36,415
32L919920715,25,3,6,2,19920726,80.4540,-13.3520,315,   300.0,  0.4760, 34.7450,2,-999.0000,9,   283.6,2,  -999.0,9, -999.00,9, -999.00,9, -999.00,9, -999.00,9,  -999.0,9,  -999.0,9,-999.000,9,-999.000,-999.0000,9, -999.00,9, -999.00,  0.4634,-999.0000,-999.000,9,-999.000,9,-999.000,9, -999.00,9,-999.00,9, -999.00,9,36,414
32L919920715,25,3,5,2,19920726,80.4540,-13.3520,315,   304.0,  0.4740, 34.7500,2,-999.0000,9,   283.1,2,  -999.0,9, -999.00,9, -999.00,9, -999.00,9, -999.00,9,  -999.0,9,  -999.0,9,-999.000,9,-999.000,-999.0000,9, -999.00,9, -999.00,  0.4612,-999.0000,-999.000,9,-999.000,9,-999.000,9, -999.00,9,-999.00,9, -999.00,9,36,413
32L919920715,25,4,4,2,19920726,80.4540,-13.3520,315,     2.0, -0.2490, 32.1830,2,-999.0000,9,   460.9,2,   456.9,2,    0.19,2,    0.06,2,    0.00,2,    0.77,2,  -999.0,9,  -999.0,9,-999.000,9,-999.000,-999.0000,9, -999.00,9, -999.00, -0.2491,-999.0000,   0.137,2,  50.677,2,   3.066,2,    3.29,2,0.46,2,125000.00,2,37,436
32L919920715,25,4,3,2,19920726,80.4540,-13.3520,315,     3.0, -0.5880, 32.2030,2,-999.0000,9,   465.1,2,   436.6,2,    0.17,2,    0.06,2,    0.00,2,    0.77,2,  -999.0,9,  -999.0,9,-999.000,9,-999.000,-999.0000,9, -999.00,9, -999.00, -0.5881,-999.0000,   0.098,2,  38.157,2,   2.989,2,    2.88,2,0.42,2,128000.00,2,37,435
32L919920715,25,4,2,2,19920726,80.4540,-13.3520,315,     6.0, -0.5270, 32.2000,2,-999.0000,9,   463.9,2,   459.2,2,    0.19,2,    0.06,2,    0.00,2,    0.76,2,  -999.0,9,  -999.0,9,-999.000,9,-999.000,-999.0000,9, -999.00,9, -999.00, -0.5272,-999.0000,   0.059,2,  39.503,2,   2.826,2,    2.73,2,0.43,2,111000.00,2,37,434
32L919920715,25,4,1,2,19920726,80.4540,-13.3520,315,     7.0,  0.1440, 32.1530,2,-999.0000,9,   466.2,2,   461.1,2,    0.17,2,    0.03,2,    0.00,2,    0.76,2,  -999.0,9,  -999.0,9,-999.000,9,-999.000,-999.0000,9, -999.00,9, -999.00,  0.1438,-999.0000,   0.029,2,  35.716,2,   2.824,2,    2.44,2,0.37,2,119000.00,2,37,433
32L919920715,25,4,10,2,19920726,80.4540,-13.3520,315,    10.0, -1.0820, 32.2220,2,-999.0000,9,   474.0,2,  -999.0,9, -999.00,9, -999.00,9, -999.00,9, -999.00,9,  -999.0,9,  -999.0,9,-999.000,9,-999.000,-999.0000,9, -999.00,9, -999.00, -1.0822,-999.0000,-999.000,9,-999.000,9,-999.000,9, -999.00,9,-999.00,9, -999.00,9,37,430
32L919920715,25,4,11,2,19920726,80.4540,-13.3520,315,    10.0, -1.0820, 32.2220,2,-999.0000,9,   474.0,2,  -999.0,9, -999.00,9, -999.00,9, -999.00,9, -999.00,9,  -999.0,9,  -999.0,9,-999.000,9,-999.000,-999.0000,9, -999.00,9, -999.00, -1.0822,-999.0000,-999.000,9,-999.000,9,-999.000,9, -999.00,9,-999.00,9, -999.00,9,37,431
32L919920715,25,4,12,2,19920726,80.4540,-13.3520,315,    10.0, -1.0820, 32.2220,2,-999.0000,9,   474.0,2,   463.8,2,    0.14,2,    0.06,2,    0.00,2,    0.82,2,  -999.0,9,  -999.0,9,-999.000,9,-999.000,-999.0000,9, -999.00,9, -999.00, -1.0822,-999.0000,   0.068,2,  38.854,2,   3.391,2,    3.64,2,0.75,2,129000.00,2,37,432
32L919920715,25,4,9,2,19920726,80.4540,-13.3520,315,    11.0, -1.2490, 32.2410,2,-999.0000,9,   465.5,2,   464.5,2,    0.11,2,    0.06,2,    0.00,2,    0.86,2,  -999.0,9,  -999.0,9,-999.000,9,-999.000,-999.0000,9, -999.00,9, -999.00, -1.2492,-999.0000,   2.498,2,  40.490,2,   3.637,2,    5.58,2,0.56,2,129000.00,2,37,429
32L919920715,25,4,8,2,19920726,80.4540,-13.3520,315,    17.0, -1.1430, 32.2740,2,-999.0000,9,   401.3,2,   421.6,2,    1.42,2,    0.09,2,    0.00,2,    0.83,2,  -999.0,9,  -999.0,9,-999.000,9,-999.000,-999.0000,9, -999.00,9, -999.00, -1.1434,-999.0000,   0.088,2,  61.275,2,   0.100,2,   10.57,2,1.06,2,124000.00,2,37,428
32L919920715,25,4,7,2,19920726,80.4540,-13.3520,315,    25.0, -1.5730, 32.3150,2,-999.0000,9,   371.8,2,   371.0,2,    8.63,2,    3.49,2,    0.02,2,    1.11,2,  -999.0,9,  -999.0,9,-999.000,9,-999.000,-999.0000,9, -999.00,9, -999.00, -1.5734,-999.0000,   0.078,2,-999.000,9,-999.000,9,    1.76,2,3.47,2, -999.00,9,37,427
32L919920715,25,4,6,2,19920726,80.4540,-13.3520,315,   200.0,  0.1460, 34.5400,2, 34.5450,2,   293.7,2,   288.8,2,    9.89,2,   13.56,2,    0.00,2,    1.03,2,  -999.0,9,  -999.0,9,-999.000,9,-999.000,-999.0000,9, -999.00,9, -999.00,  0.1384,-999.0000,   0.020,2,-999.000,9,-999.000,9,    0.06,2,0.05,2, -999.00,9,37,426
32L919920715,25,4,5,2,19920726,80.4540,-13.3520,315,   300.0,  0.4830, 34.7450,2,-999.0000,9,   292.5,2,   283.5,2,   10.36,2,   13.95,2,    0.00,2,    1.05,2,  -999.0,9,  -999.0,9,-999.000,9,-999.000,-999.0000,9, -999.00,9, -999.00,  0.4704,-999.0000,   0.059,2,-999.000,9,-999.000,9, -999.00,9,-999.00,9, -999.00,9,37,425
32L919920715,25,6,4,2,19920726,80.4540,-13.3520,315,     2.0,  2.5220, 31.9520,2,-999.0000,9,   396.1,2,  -999.0,9, -999.00,9, -999.00,9, -999.00,9, -999.00,9,  -999.0,9,  -999.0,9,-999.000,9,-999.000,-999.0000,9, -999.00,9, -999.00,  2.5219,-999.0000,-999.000,9,-999.000,9,-999.000,9, -999.00,9,-999.00,9, -999.00,9,39,448
32L919920715,25,6,3,2,19920726,80.4540,-13.3520,315,     8.0,  2.5030, 31.9510,2,-999.0000,9,   408.8,2,  -999.0,9, -999.00,9, -999.00,9, -999.00,9, -999.00,9,  -999.0,9,  -999.0,9,-999.000,9,-999.000,-999.0000,9, -999.00,9, -999.00,  2.5026,-999.0000,-999.000,9,-999.000,9,-999.000,9, -999.00,9,-999.00,9, -999.00,9,39,447
32L919920715,25,6,2,2,19920726,80.4540,-13.3520,315,    13.0,  2.4920, 31.9530,2,-999.0000,9,   421.8,2,  -999.0,9, -999.00,9, -999.00,9, -999.00,9, -999.00,9,  -999.0,9,  -999.0,9,-999.000,9,-999.000,-999.0000,9, -999.00,9, -999.00,  2.4913,-999.0000,-999.000,9,-999.000,9,-999.000,9, -999.00,9,-999.00,9, -999.00,9,39,446
32L919920715,25,6,1,2,19920726,80.4540,-13.3520,315,    18.0,  0.0710, 32.2760,2,-999.0000,9,   418.0,2,  -999.0,9, -999.00,9, -999.00,9, -999.00,9, -999.00,9,  -999.0,9,  -999.0,9,-999.000,9,-999.000,-999.0000,9, -999.00,9, -999.00,  0.0704,-999.0000,-999.000,9,-999.000,9,-999.000,9, -999.00,9,-999.00,9, -999.00,9,39,445
32L919920715,25,6,12,2,19920726,80.4540,-13.3520,315,    23.0, -1.0060, 32.3130,2,-999.0000,9,   380.5,2,  -999.0,9, -999.00,9, -999.00,9, -999.00,9, -999.00,9,  -999.0,9,  -999.0,9,-999.000,9,-999.000,-999.0000,9, -999.00,9, -999.00, -1.0065,-999.0000,-999.000,9,-999.000,9,-999.000,9, -999.00,9,-999.00,9, -999.00,9,39,444
32L919920715,25,6,11,2,19920726,80.4540,-13.3520,315,    28.0, -1.5400, 32.3190,2,-999.0000,9,   370.6,2,  -999.0,9, -999.00,9, -999.00,9, -999.00,9, -999.00,9,  -999.0,9,  -999.0,9,-999.000,9,-999.000,-999.0000,9, -999.00,9, -999.00, -1.5405,-999.0000,-999.000,9,-999.000,9,-999.000,9, -999.00,9,-999.00,9, -999.00,9,39,443
32L919920715,25,6,10,2,19920726,80.4540,-13.3520,315,    35.0, -1.6570, 32.3310,2,-999.0000,9,   372.4,2,  -999.0,9, -999.00,9, -999.00,9, -999.00,9, -999.00,9,  -999.0,9,  -999.0,9,-999.000,9,-999.000,-999.0000,9, -999.00,9, -999.00, -1.6576,-999.0000,-999.000,9,-999.000,9,-999.000,9, -999.00,9,-999.00,9, -999.00,9,39,442
32L919920715,25,6,9,2,19920726,80.4540,-13.3520,315,    44.0, -1.7010, 32.3450,2,-999.0000,9,   370.0,2,  -999.0,9, -999.00,9, -999.00,9, -999.00,9, -999.00,9,  -999.0,9,  -999.0,9,-999.000,9,-999.000,-999.0000,9, -999.00,9, -999.00, -1.7017,-999.0000,-999.000,9,-999.000,9,-999.000,9, -999.00,9,-999.00,9, -999.00,9,39,441
32L919920715,25,6,8,2,19920726,80.4540,-13.3520,315,    55.0, -1.7390, 32.3550,2,-999.0000,9,   366.7,2,  -999.0,9, -999.00,9, -999.00,9, -999.00,9, -999.00,9,  -999.0,9,  -999.0,9,-999.000,9,-999.000,-999.0000,9, -999.00,9, -999.00, -1.7399,-999.0000,-999.000,9,-999.000,9,-999.000,9, -999.00,9,-999.00,9, -999.00,9,39,440
32L919920715,25,6,7,2,19920726,80.4540,-13.3520,315,    65.0, -1.7560, 32.3680,2,-999.0000,9,   362.7,2,  -999.0,9, -999.00,9, -999.00,9, -999.00,9, -999.00,9,  -999.0,9,  -999.0,9,-999.000,9,-999.000,-999.0000,9, -999.00,9, -999.00, -1.7570,-999.0000,-999.000,9,-999.000,9,-999.000,9, -999.00,9,-999.00,9, -999.00,9,39,439
32L919920715,25,6,6,2,19920726,80.4540,-13.3520,315,    75.0, -1.7370, 32.3970,2,-999.0000,9,   360.0,2,  -999.0,9, -999.00,9, -999.00,9, -999.00,9, -999.00,9,  -999.0,9,  -999.0,9,-999.000,9,-999.000,-999.0000,9, -999.00,9, -999.00, -1.7382,-999.0000,-999.000,9,-999.000,9,-999.000,9, -999.00,9,-999.00,9, -999.00,9,39,438
32L919920715,25,6,5,2,19920726,80.4540,-13.3520,315,   301.0,  0.4190, 34.7720,2,-999.0000,9,   286.7,2,  -999.0,9, -999.00,9, -999.00,9, -999.00,9, -999.00,9,  -999.0,9,  -999.0,9,-999.000,9,-999.000,-999.0000,9, -999.00,9, -999.00,  0.4065,-999.0000,-999.000,9,-999.000,9,-999.000,9, -999.00,9,-999.00,9, -999.00,9,39,437