BOTTLE,20220816CCHSIOAMB
EXPOCODE,STNNBR,CASTNO,BTLNBR,BTLNBR_FLAG_W,DATE,LATITUDE,LONGITUDE,DEPTH,CTDPRS,CTDTMP,CTDSAL,CTDSAL_FLAG_W,SALNTY,SALNTY_FLAG_W,CTDOXY,CTDOXY_FLAG_W,OXYGEN,OXYGEN_FLAG_W,SILCAT,SILCAT_FLAG_W,NITRAT,NITRAT_FLAG_W,NITRIT,NITRIT_FLAG_W,PHSPHT,PHSPHT_FLAG_W,TCARBN,TCARBN_FLAG_W,ALKALI,ALKALI_FLAG_W,TRITUM,TRITUM_FLAG_W,TRITER,HELIUM,HELIUM_FLAG_W,DELHE3,DELHE3_FLAG_W,DELHER,THETA,SOMSAL,AMMONI,AMMONI_FLAG_W,POC,POC_FLAG_W,PON,PON_FLAG_W,CHLORA,CHLORA_FLAG_W,PHAEO,PHAEO_FLAG_W,BACT,BACT_FLAG_W,STNNBR_U,BNLID
,,,,,,,,METERS,DBAR,ITS-90,PSS-78,,PSS-78,,UMOL/KG,,UMOL/KG,,UMOL/KG,,UMOL/KG,,UMOL/KG,,UMOL/KG,,UMOL/KG,,UMOL/KG,,TU,,TU,NMOL/KG,,PERCNT,,PERCNT,DEG C,PSS-78,UMOL/KG,,UG/KG,,UG/KG,,UG/KG,,UG/L,,E8/L,,,
32L919920715,42,3,3,2,19920730,80.0250,-15.9880,446,    22.0, -1.5360, 32.3090,2, 32.3190,2,   392.4,2,   368.4,2, -999.00,9, -999.00,9, -999.00,9, -999.00,9,  2104.4,2,  2225.0,2,-999.000,9,-999.000,-999.0000,9, -999.00,9, -999.00, -1.5364,32.2330,-999.000,9,-999.000,9,-999.000,9, -999.00,9,-999.00,9, -999.00,9,63,711
32L919920715,42,3,4,2,19920730,80.0250,-15.9880,446,    23.0, -1.5930, 32.3240,2, 32.3270,2,   380.0,2,  -999.0,9, -999.00,9, -999.00,9, -999.00,9, -999.00,9,  -999.0,9,  -999.0,9,   7.300,2,   0.110,  2.0390,2,    5.70,2,    0.20, -1.5934,-999.0000,-999.000,9,-999.000,9,-999.000,9, -999.00,9,-999.00,9, -999.00,9,63,712
32L919920715,42,3,5,2,19920730,80.0250,-15.9880,446,    52.0, -1.7420, 32.3480,2, 32.2940,2,   358.8,2,   377.7,2, -999.00,9, -999.00,9, -999.00,9, -999.00,9,  2094.7,2,  2222.5,2,-999.000,9,-999.000,-999.0000,9, -999.00,9, -999.00, -1.7428,32.2070,-999.000,9,-999.000,9,-999.000,9, -999.00,9,-999.00,9, -999.00,9,63,713
32L919920715,42,3,6,2,19920730,80.0250,-15.9880,446,    52.0, -1.7380, 32.3450,2,-999.0000,9,   341.9,2,  -999.0,9, -999.00,9, -999.00,9, -999.00,9, -999.00,9,  -999.0,9,  -999.0,9,   6.780,2,   0.102,  2.0390,2,    4.20,2,    0.20, -1.7388,-999.0000,-999.000,9,-999.000,9,-999.000,9, -999.00,9,-999.00,9, -999.00,9,63,714
32L919920715,43,1,6,2,19920731,80.3080,-9.5580,325,     2.0,  0.9280, 31.7420,2,-999.0000,9,   404.3,2,   397.3,2,    1.66,2,    0.03,2,    0.00,2,    0.71,2,  2009.6,3,  2193.8,2,-999.000,9,-999.000,-999.0000,9, -999.00,9, -999.00,  0.9279,31.7570,   0.068,2,-999.000,9,-999.000,9,    0.62,2,0.08,2, -999.00,9,65,726
32L919920715,43,1,5,2,19920731,80.3080,-9.5580,325,    11.0,  0.5820, 32.0190,2,-999.0000,9,   403.4,2,   404.7,2,    2.08,2,    0.29,2,    0.01,2,    0.79,2,  2048.5,3,  2210.2,2,-999.000,9,-999.000,-999.0000,9, -999.00,9, -999.00,  0.5816,32.0400,   0.049,2,-999.000,9,-999.000,9,    1.82,2,3.99,2, -999.00,9,65,725
32L919920715,43,1,4,2,19920731,80.3080,-9.5580,325,    25.0, -1.5710, 32.2980,2,-999.0000,9,   375.5,2,   383.3,2,    4.75,2,    1.78,2,    0.05,2,    0.95,2,  -999.0,9,  -999.0,9,   7.300,2,   0.110,  1.9500,2,    1.70,2,    0.20, -1.5714,-999.0000,   0.088,2,-999.000,9,-999.000,9,    5.40,2,0.54,2, -999.00,9,65,724
32L919920715,43,1,3,2,19920731,80.3080,-9.5580,325,    30.0, -1.5770, 32.3230,2,-999.0000,9,   370.0,2,   374.0,2,    5.89,2,    2.76,2,    0.06,2,    0.98,2,  2101.0,2,  2226.1,2,   7.300,2,   0.110,  1.9790,2,    2.40,2,    0.20, -1.5775,32.2550,   0.059,2,-999.000,9,-999.000,9,    3.35,2,0.53,2, -999.00,9,65,723
32L919920715,43,1,2,2,19920731,80.3080,-9.5580,325,    61.0, -1.7360, 32.3580,2, 32.3510,2,   361.8,2,   364.4,2,    9.26,2,    4.31,2,    0.04,2, -999.00,9,  2107.1,2,  2224.4,2,   7.300,2,   0.110,  1.9510,2,    4.90,2,    0.20, -1.7370,32.2840,   0.010,2,-999.000,9,-999.000,9,    0.28,2,0.18,2, -999.00,9,65,722
32L919920715,43,1,1,2,19920731,80.3080,-9.5580,325,    91.0, -1.6900, 32.5340,2, 32.5550,2,   350.6,2,   356.7,2,   10.20,2,    5.21,2,    0.02,2, -999.00,9,  2117.7,2,  2230.7,2,   7.320,2,   0.110,  2.2540,3,    1.90,2,    0.20, -1.6916,32.4640,   0.039,2,-999.000,9,-999.000,9,    0.14,2,0.23,2, -999.00,9,65,721
32L919920715,43,1,12,2,19920731,80.3080,-9.5580,325,   121.0, -1.3810, 33.3350,2, 33.3710,2,   323.1,2,   329.8,2,    9.99,2,    8.28,2,    0.02,2,    0.97,2,  2138.1,2,  2252.5,2,   5.910,2,   0.089,  1.9140,2,   10.00,2,    0.20, -1.3837,33.2900,   0.010,2,-999.000,9,-999.000,9,    0.15,2,0.16,2, -999.00,9,65,720
32L919920715,43,1,11,2,19920731,80.3080,-9.5580,325,   162.0, -0.1270, 34.4120,2, 34.4180,2,   291.3,2,   293.1,2,    9.13,2,   12.42,2,    0.01,2,    0.96,2,  2140.0,2,  2269.0,2,   1.600,2,   0.024,  2.0660,2,    9.20,2,    0.20, -0.1327,34.3140,   0.000,2,-999.000,9,-999.000,9, -999.00,9,-999.00,9, -999.00,9,65,719
32L919920715,43,1,10,2,19920731,80.3080,-9.5580,325,   201.0,  0.3030, 34.6660,2, 34.6720,2,   284.9,2,   287.0,2,    9.08,2,   12.90,2,    0.00,2,    0.96,2,  -999.0,9,  -999.0,9,   2.080,2,   0.031,  1.9500,2,    6.20,2,    0.20,  0.2950,-999.0000,   0.010,2,-999.000,9,-999.000,9, -999.00,9,-999.00,9, -999.00,9,65,718
32L919920715,43,1,9,2,19920731,80.3080,-9.5580,325,   251.0,  0.4180, 34.8120,2, 34.8100,2,   287.4,2,   288.1,2,    8.40,2,   13.06,2,    0.01,2,    0.95,2,  2148.2,2,  -999.0,9,   2.000,2,   0.030,  2.0050,2,    9.10,2,    0.20,  0.4076,34.7450,   0.000,2,-999.000,9,-999.000,9, -999.00,9,-999.00,9, -999.00,9,65,717
32L919920715,43,1,8,2,19920731,80.3080,-9.5580,325,   300.0,  0.4410, 34.8520,2, 34.8500,2,   288.0,2,   288.8,2,    8.24,2,   13.02,2,    0.02,2,    0.95,2,  2147.4,2,  2290.4,2,   1.810,2,   0.027,  1.9150,2,   11.70,2,    0.20,  0.4284,34.7810,   0.029,2,-999.000,9,-999.000,9, -999.00,9,-999.00,9, -999.00,9,65,716
32L919920715,43,1,7,2,19920731,80.3080,-9.5580,325,   312.0,  0.4400, 34.8530,2, 34.8480,2,   290.5,2,   291.4,2,    8.27,2,   12.97,2,    0.02,2,    0.95,2,  -999.0,9,  -999.0,9,   1.230,2,   0.018,  1.9290,2,   11.60,2,    0.20,  0.4269,-999.0000,   0.029,2,-999.000,9,-999.000,9, -999.00,9,-999.00,9, -999.00,9,65,715
32L919920715,43,2,6,2,19920731,80.3080,-9.5580,325,     2.0,  1.3870, 31.3200,2,-999.0000,9,   385.0,2,   376.1,2,    1.24,2,   -0.01,2,    0.01,2,    0.73,2,  -999.0,9,  -999.0,9,-999.000,9,-999.000,-999.0000,9, -999.00,9, -999.00,  1.3869,-999.0000,   0.068,2,   6.681,2,   0.762,2,    0.19,2,0.04,2,61500.00,2,66,738
32L919920715,43,2,5,2,19920731,80.3080,-9.5580,325,     7.0,  1.4350, 31.3120,2,-999.0000,9,   391.2,2,   381.7,2,    1.24,2,   -0.01,2,    0.01,2,    0.73,2,  -999.0,9,  -999.0,9,-999.000,9,-999.000,-999.0000,9, -999.00,9, -999.00,  1.4347,-999.0000,   0.068,2,  13.054,2,   0.870,2,    0.23,2,0.08,2,61800.00,2,66,737
32L919920715,43,2,4,2,19920731,80.3080,-9.5580,325,    12.0,  1.3590, 31.3030,2,-999.0000,9,   401.3,2,   400.7,2,    1.23,2,    0.03,2,    0.01,2,    0.75,2,  -999.0,9,  -999.0,9,-999.000,9,-999.000,-999.0000,9, -999.00,9, -999.00,  1.3585,-999.0000,   0.078,2,  37.395,2,   4.204,2,    0.35,2,0.05,2,62200.00,2,66,736
32L919920715,43,2,3,2,19920731,80.3080,-9.5580,325,    18.0, -0.4250, 31.9800,2,-999.0000,9,   420.7,2,   411.7,2,    3.10,2,    0.43,2,    0.03,2,    0.87,2,  -999.0,9,  -999.0,9,-999.000,9,-999.000,-999.0000,9, -999.00,9, -999.00, -0.4255,-999.0000,   0.156,2,  13.272,2,   1.457,2,    1.41,2,0.28,2,64700.00,2,66,735
32L919920715,43,2,2,2,19920731,80.3080,-9.5580,325,    28.0, -1.2990, 32.1920,2,-999.0000,9,   401.4,2,   408.3,2,    3.22,2,    0.31,2,    0.03,2,    0.87,2,  -999.0,9,  -999.0,9,-999.000,9,-999.000,-999.0000,9, -999.00,9, -999.00, -1.2995,-999.0000,   0.127,2,  11.871,2,   1.539,2,    2.32,2,0.36,2,75000.00,2,66,734
32L919920715,43,2,1,2,19920731,80.3080,-9.5580,325,    38.0, -1.4770, 32.3340,2,-999.0000,9,   374.9,2,   381.9,2,    4.12,2,    1.59,2,    0.03,2,    0.97,2,  2095.6,2,  2224.7,2,-999.000,9,-999.000,-999.0000,9, -999.00,9, -999.00, -1.4777,32.2460,   0.098,2,  25.366,2,-999.000,9,    5.46,2,0.68,2,106000.00,2,66,733
32L919920715,43,2,12,2,19920731,80.3080,-9.5580,325,    43.0, -1.5690, 32.3460,2,-999.0000,9,   371.6,2,   370.7,2,    7.49,2,    3.25,2,    0.03,2,    1.04,2,  -999.0,9,  -999.0,9,-999.000,9,-999.000,-999.0000,9, -999.00,9, -999.00, -1.5698,-999.0000,   0.068,2,  17.119,2,   1.661,2,    5.58,2,0.23,2,101000.00,2,66,732
32L919920715,43,2,11,2,19920731,80.3080,-9.5580,325,    66.0, -1.7320, 32.3580,2,-999.0000,9,   369.7,2,   365.8,2,    9.01,2,    3.95,2,    0.02,2,    1.07,2,  -999.0,9,  -999.0,9,   7.300,2,   0.110,  1.8180,2,    3.90,2,    0.20, -1.7331,-999.0000,   0.049,2,   2.936,2,   0.221,2,    0.14,2,0.40,2,31400.00,2,66,731
32L919920715,43,2,10,2,19920731,80.3080,-9.5580,325,   103.0, -1.6420, 32.6460,2,-999.0000,9,   350.0,2,   352.7,2,   10.10,2,    5.48,2,    0.01,2,    1.06,2,  -999.0,9,  -999.0,9,-999.000,9,-999.000,-999.0000,9, -999.00,9, -999.00, -1.6439,-999.0000,   0.029,2,   3.125,2,   0.240,2,    0.25,2,0.17,2, -999.00,9,66,730
32L919920715,43,2,9,2,19920731,80.3080,-9.5580,325,   140.0, -0.7440, 33.9890,2,-999.0000,9,   300.9,2,   298.1,2,   11.41,2,   10.98,2,    0.02,2,    1.05,2,  -999.0,9,  -999.0,9,-999.000,9,-999.000,-999.0000,9, -999.00,9, -999.00, -0.7480,-999.0000,   0.020,2,   2.233,2,   0.125,2,    0.10,2,0.10,2, -999.00,9,66,729
32L919920715,43,2,8,2,19920731,80.3080,-9.5580,325,   221.0,  0.4030, 34.7270,2, 34.7230,2,   287.6,2,   286.0,2,    9.24,2,   12.82,2,    0.01,2,    0.98,2,  -999.0,9,  -999.0,9,-999.000,9,-999.000,-999.0000,9, -999.00,9, -999.00,  0.3940,-999.0000,   0.010,2,-999.000,9,-999.000,9, -999.00,9,-999.00,9, -999.00,9,66,728
32L919920715,43,2,7,2,19920731,80.3080,-9.5580,325,   311.0,  0.4380, 34.8540,2,-999.0000,9,   291.6,2,   291.1,2,    8.18,2,   12.76,2,    0.03,2,    0.98,2,  -999.0,9,  -999.0,9,-999.000,9,-999.000,-999.0000,9, -999.00,9, -999.00,  0.4249,-999.0000,   0.020,2,-999.000,9,-999.000,9, -999.00,9,-999.00,9, -999.00,9,66,727
32L919920715,43,3,6,2,19920731,80.3080,-9.5580,325,     2.0,  0.9840, 31.5040,2,-999.0000,9,   406.4,2,   399.6,2,    2.06,2,    0.24,2,    0.00,2,    0.54,2,  -999.0,9,  -999.0,9,-999.000,9,-999.000,-999.0000,9, -999.00,9, -999.00,  0.9839,-999.0000,   0.020,2,-999.000,9,-999.000,9, -999.00,9,-999.00,9, -999.00,9,67,750
32L919920715,43,3,5,2,19920731,80.3080,-9.5580,325,     9.0, -0.6780, 32.1080,2,-999.0000,9,   406.6,2,  -999.0,9,    3.49,2,    0.76,2,    0.02,2,    0.62,2,  -999.0,9,  -999.0,9,-999.000,9,-999.000,-999.0000,9, -999.00,9, -999.00, -0.6782,-999.0000,   0.059,2,-999.000,9,-999.000,9, -999.00,9,-999.00,9, -999.00,9,67,749
32L919920715,43,3,4,2,19920731,80.3080,-9.5580,325,    25.0, -1.1830, 32.3100,2,-999.0000,9,   394.6,2,  -999.0,9,    3.41,2,    1.29,2,    0.04,2,    0.81,2,  -999.0,9,  -999.0,9,-999.000,9,-999.000,-999.0000,9, -999.00,9, -999.00, -1.1835,-999.0000,   0.049,2,-999.000,9,-999.000,9, -999.00,9,-999.00,9, -999.00,9,67,748
32L919920715,43,3,3,2,19920731,80.3080,-9.5580,325,    35.0, -1.4840, 32.3400,2, 32.3380,2,   373.6,2,   372.7,2,    4.76,2,    2.56,2,    0.02,2,    1.03,2,  -999.0,9,  -999.0,9,-999.000,9,-999.000,-999.0000,9, -999.00,9, -999.00, -1.4846,-999.0000,   0.059,2,-999.000,9,-999.000,9, -999.00,9,-999.00,9, -999.00,9,67,747
32L919920715,43,3,2,2,19920731,80.3080,-9.5580,325,    40.0, -1.6130, 32.3430,2,-999.0000,9,   368.6,2,  -999.0,9,    6.02,2,    3.70,2,    0.02,2,    1.08,2,  -999.0,9,  -999.0,9,-999.000,9,-999.000,-999.0000,9, -999.00,9, -999.00, -1.6137,-999.0000,   0.010,2,-999.000,9,-999.000,9, -999.00,9,-999.00,9, -999.00,9,67,746
32L919920715,43,3,1,2,19920731,80.3080,-9.5580,325,    80.0, -1.7350, 32.3910,2,-999.0000,9,   358.0,2,  -999.0,9,    9.34,2,    4.76,2,    0.00,2,    1.10,2,  -999.0,9,  -999.0,9,-999.000,9,-999.000,-999.0000,9, -999.00,9, -999.00, -1.7363,-999.0000,   0.000,2,-999.000,9,-999.000,9, -999.00,9,-999.00,9, -999.00,9,67,745
32L919920715,43,3,12,2,19920731,80.3080,-9.5580,325,   101.0, -1.6260, 32.6910,2,-999.0000,9,   347.5,2,  -999.0,9,   10.13,2,    6.11,2,    0.00,2,    1.09,2,  -999.0,9,  -999.0,9,-999.000,9,-999.000,-999.0000,9, -999.00,9, -999.00, -1.6278,-999.0000,   0.068,2,-999.000,9,-999.000,9, -999.00,9,-999.00,9, -999.00,9,67,744
32L919920715,43,3,11,2,19920731,80.3080,-9.5580,325,   151.0, -0.3420, 34.3110,2,-999.0000,9,   297.5,2,  -999.0,9,    9.90,2,   12.34,2,    0.00,2,    1.04,2,  -999.0,9,  -999.0,9,-999.000,9,-999.000,-999.0000,9, -999.00,9, -999.00, -0.3470,-999.0000,   0.020,2,-999.000,9,-999.000,9, -999.00,9,-999.00,9, -999.00,9,67,743
32L919920715,43,3,10,2,19920731,80.3080,-9.5580,325,   198.0,  0.2210, 34.6590,2,-999.0000,9,   289.6,2,  -999.0,9,    9.10,2,   13.24,2,    0.00,2,    1.00,2,  -999.0,9,  -999.0,9,-999.000,9,-999.000,-999.0000,9, -999.00,9, -999.00,  0.2133,-999.0000,   0.010,2,-999.000,9,-999.000,9, -999.00,9,-999.00,9, -999.00,9,67,742
32L919920715,43,3,9,2,19920731,80.3080,-9.5580,325,   246.0,  0.4600, 34.8260,2,-999.0000,9,   290.8,2,  -999.0,9,    7.96,2,   13.32,2,    0.00,2,    0.99,2,  -999.0,9,  -999.0,9,-999.000,9,-999.000,-999.0000,9, -999.00,9, -999.00,  0.4498,-999.0000,   0.020,2,-999.000,9,-999.000,9, -999.00,9,-999.00,9, -999.00,9,67,741
32L919920715,43,3,8,2,19920731,80.3080,-9.5580,325,   302.0,  0.4470, 34.8520,2,-999.0000,9,   290.0,2,  -999.0,9,    7.91,2,   13.26,2,    0.01,2,    1.00,2,  -999.0,9,  -999.0,9,-999.000,9,-999.000,-999.0000,9, -999.00,9, -999.00,  0.4343,-999.0000,   0.029,2,-999.000,9,-999.000,9, -999.00,9,-999.00,9, -999.00,9,67,740
32L919920715,43,3,7,2,19920731,80.3080,-9.5580,325,   307.0,  0.4450, 34.8540,2,-999.0000,9,   294.8,2,  -999.0,9,    7.94,2,   13.56,2,    0.01,2,    1.00,2,  -999.0,9,  -999.0,9,-999.000,9,-999.000,-999.0000,9, -999.00,9, -999.00,  0.4321,-999.0000,   0.029,2,-999.000,9,-999.000,9, -999.00,9,-999.00,9, -999.00,9,67,739
32L919920715,43,4,7,2,19920731,80.3080,-9.5580,325,    35.0, -1.5600, 32.3400,2,-999.0000,9,   383.7,2,  -999.0,9,    2.78,2,    0.68,2,    0.00,2,    0.93,2,  -999.0,9,  -999.0,9,-999.000,9,-999.000,-999.0000,9, -999.00,9, -999.00, -1.5606,-999.0000,   0.000,2,  26.528,2,   3.928,2, -999.00,9,-999.00,9, -999.00,9,68,751
32L919920715,43,5,3,2,19920731,80.3080,-9.5580,325,     2.0,  0.1600, 30.7710,2, 30.9350,2,   386.4,2,   390.4,2,    1.38,2,    0.03,2,    0.01,2,    0.76,2,  -999.0,9,  -999.0,9,-999.000,9,-999.000,-999.0000,9, -999.00,9, -999.00,  0.1599,-999.0000,   0.039,2,-999.000,9,-999.000,9,    0.29,2,0.04,2, -999.00,9,69,759
32L919920715,43,5,2,2,19920731,80.3080,-9.5580,325,    15.0, -0.3490, 31.8190,2, 31.8860,2,   414.4,2,   423.3,2,    1.47,2,    0.12,2,    0.01,2,    0.84,2,  -999.0,9,  -999.0,9,-999.000,9,-999.000,-999.0000,9, -999.00,9, -999.00, -0.3494,-999.0000,   0.059,2,-999.000,9,-999.000,9,    1.23,2,0.16,2, -999.00,9,69,758
32L919920715,43,5,1,2,19920731,80.3080,-9.5580,325,    40.0, -1.3900, 32.2450,2, 32.2520,2,   374.2,2,   382.6,2,    3.30,2,    1.29,2,    0.02,2,    0.97,2,  -999.0,9,  -999.0,9,-999.000,9,-999.000,-999.0000,9, -999.00,9, -999.00, -1.3908,-999.0000,   0.137,2,-999.000,9,-999.000,9,    4.05,2,0.73,2, -999.00,9,69,757
32L919920715,43,5,12,2,19920731,80.3080,-9.5580,325,   100.0, -1.4450, 33.1630,2, 33.2930,2,   330.0,2,   327.5,2,   11.60,2,    8.33,2,    0.02,2,    1.08,2,  -999.0,9,  -999.0,9,-999.000,9,-999.000,-999.0000,9, -999.00,9, -999.00, -1.4471,-999.0000,   0.020,2,-999.000,9,-999.000,9,    0.29,2,0.18,2, -999.00,9,69,756
32L919920715,43,5,11,2,19920731,80.3080,-9.5580,325,   150.0, -0.0540, 34.4560,2, 34.4970,2,   291.2,2,   290.7,2,    9.50,2,   13.75,2,    0.01,2,    1.01,2,  -999.0,9,  -999.0,9,-999.000,9,-999.000,-999.0000,9, -999.00,9, -999.00, -0.0594,-999.0000,   0.000,2,-999.000,9,-999.000,9,    0.09,2,0.08,2, -999.00,9,69,755
32L919920715,43,5,10,2,19920731,80.3080,-9.5580,325,   200.0,  0.4030, 34.7050,2, 34.7100,2,   285.8,2,   285.8,2,    9.53,2,   14.49,2,    0.01,2,    1.01,2,  -999.0,9,  -999.0,9,-999.000,9,-999.000,-999.0000,9, -999.00,9, -999.00,  0.3949,-999.0000,   0.000,2,-999.000,9,-999.000,9, -999.00,9,-999.00,9, -999.00,9,69,754
32L919920715,43,5,9,2,19920731,80.3080,-9.5580,325,   249.0,  0.4390, 34.8430,2, 34.8350,2,   285.0,2,   289.2,2,    7.93,2,   14.41,2,    0.01,2,    1.00,2,  -999.0,9,  -999.0,9,-999.000,9,-999.000,-999.0000,9, -999.00,9, -999.00,  0.4287,-999.0000,   0.010,2,-999.000,9,-999.000,9, -999.00,9,-999.00,9, -999.00,9,69,753
32L919920715,43,5,8,2,19920731,80.3080,-9.5580,325,   304.0,  0.4470, 34.8490,2, 34.8490,2,   296.0,2,   289.8,2,    7.80,2,   14.50,2,    0.01,2,    1.00,2,  -999.0,9,  -999.0,9,-999.000,9,-999.000,-999.0000,9, -999.00,9, -999.00,  0.4342,-999.0000,   0.010,2,-999.000,9,-999.000,9, -999.00,9,-999.00,9, -999.00,9,69,752
32L919920715,43,6,4,2,19920731,80.3080,-9.5580,325,    36.0,  0.4380, 34.8620,2,-999.0000,9,   296.7,3,  -999.0,9, -999.00,9, -999.00,9, -999.00,9,    1.07,2,  -999.0,9,  -999.0,9,-999.000,9,-999.000,-999.0000,9, -999.00,9, -999.00,  0.4366,-999.0000,-999.000,9,  11.092,2,   1.446,2, -999.00,9,-999.00,9, -999.00,9,70,760