BOTTLE,20220816CCHSIOAMB
EXPOCODE,STNNBR,CASTNO,BTLNBR,BTLNBR_FLAG_W,DATE,LATITUDE,LONGITUDE,DEPTH,CTDPRS,CTDTMP,CTDSAL,CTDSAL_FLAG_W,SALNTY,SALNTY_FLAG_W,CTDOXY,CTDOXY_FLAG_W,OXYGEN,OXYGEN_FLAG_W,SILCAT,SILCAT_FLAG_W,NITRAT,NITRAT_FLAG_W,NITRIT,NITRIT_FLAG_W,PHSPHT,PHSPHT_FLAG_W,TCARBN,TCARBN_FLAG_W,ALKALI,ALKALI_FLAG_W,TRITUM,TRITUM_FLAG_W,TRITER,HELIUM,HELIUM_FLAG_W,DELHE3,DELHE3_FLAG_W,DELHER,THETA,SOMSAL,AMMONI,AMMONI_FLAG_W,POC,POC_FLAG_W,PON,PON_FLAG_W,CHLORA,CHLORA_FLAG_W,PHAEO,PHAEO_FLAG_W,BACT,BACT_FLAG_W,STNNBR_U,BNLID
,,,,,,,,METERS,DBAR,ITS-90,PSS-78,,PSS-78,,UMOL/KG,,UMOL/KG,,UMOL/KG,,UMOL/KG,,UMOL/KG,,UMOL/KG,,UMOL/KG,,UMOL/KG,,TU,,TU,NMOL/KG,,PERCNT,,PERCNT,DEG C,PSS-78,UMOL/KG,,UG/KG,,UG/KG,,UG/KG,,UG/L,,E8/L,,,
32L919920715,39,1,2,2,19920730,80.2620,-14.9110,389,     2.0,  2.4030, 31.8240,2,-999.0000,9,   364.4,2,   396.8,2, -999.00,9, -999.00,9, -999.00,9,    0.67,2,  -999.0,9,  -999.0,9,-999.000,9,-999.000,-999.0000,9, -999.00,9, -999.00,  2.4029,-999.0000,-999.000,9,  16.511,2,   1.150,2,    0.94,2,0.35,2,78000.00,2,58,662
32L919920715,39,1,1,2,19920730,80.2620,-14.9110,389,     4.0,  2.1610, 31.8900,2,-999.0000,9,  -999.0,9,   408.8,2,    0.62,2,    0.00,2,    0.00,2,    0.68,2,  -999.0,9,  -999.0,9,-999.000,9,-999.000,-999.0000,9, -999.00,9, -999.00,  2.1608,-999.0000,   0.302,2,  32.029,2,   1.911,2,    1.83,2,0.35,2,90100.00,2,58,661
32L919920715,39,1,12,2,19920730,80.2620,-14.9110,389,     5.0,  1.9080, 32.0080,2,-999.0000,9,   423.4,2,   409.6,2,    0.88,2,    0.07,2,    0.01,2,    0.66,2,  -999.0,9,  -999.0,9,-999.000,9,-999.000,-999.0000,9, -999.00,9, -999.00,  1.9078,-999.0000,   0.312,2,  36.105,2,   2.313,2,    2.47,2,0.11,2,79100.00,2,58,660
32L919920715,39,1,11,2,19920730,80.2620,-14.9110,389,     7.0,  0.9220, 32.0640,2,-999.0000,9,   415.5,2,   446.4,2,    1.21,2,    0.13,2,    0.01,2,    0.69,2,  -999.0,9,  -999.0,9,-999.000,9,-999.000,-999.0000,9, -999.00,9, -999.00,  0.9217,-999.0000,   0.322,2,  70.250,2,   4.450,2,    7.69,2,0.96,2,101000.00,2,58,659
32L919920715,39,1,10,2,19920730,80.2620,-14.9110,389,    11.0, -1.2680, 32.2520,2,-999.0000,9,   381.5,2,   383.7,2,    2.34,2,    0.24,2,    0.01,2,    0.98,2,  -999.0,9,  -999.0,9,-999.000,9,-999.000,-999.0000,9, -999.00,9, -999.00, -1.2682,-999.0000,   0.341,2,  23.815,2,   3.576,2,    5.46,2,0.22,2,43100.00,2,58,658
32L919920715,39,1,9,2,19920730,80.2620,-14.9110,389,    17.0, -1.6030, 32.2930,2,-999.0000,9,   376.1,2,   373.3,2,    7.69,2,    1.89,2,    0.01,2,    1.03,2,  -999.0,9,  -999.0,9,-999.000,9,-999.000,-999.0000,9, -999.00,9, -999.00, -1.6033,-999.0000,   0.332,2,   5.295,2,   0.996,2,    2.00,2,0.19,2,33500.00,2,58,657
32L919920715,39,1,8,2,19920730,80.2620,-14.9110,389,    26.0, -1.7060, 32.3010,2,-999.0000,9,   365.8,2,   368.0,2,    8.46,2,    3.35,2,    0.01,2,    1.06,2,  -999.0,9,  -999.0,9,-999.000,9,-999.000,-999.0000,9, -999.00,9, -999.00, -1.7064,-999.0000,   0.302,2,   1.097,2,   0.400,2,    0.70,2,0.08,2,26000.00,2,58,656
32L919920715,39,1,7,2,19920730,80.2620,-14.9110,389,   150.0, -0.6390, 34.1280,2,-999.0000,9,   302.1,2,   301.7,2,    9.11,2,    4.17,3,    0.01,2,    0.98,2,  -999.0,9,  -999.0,9,-999.000,9,-999.000,-999.0000,9, -999.00,9, -999.00, -0.6435,-999.0000,   0.293,2,   1.491,2,   0.071,2,    0.09,2,0.02,2, -999.00,9,58,655
32L919920715,39,1,6,2,19920730,80.2620,-14.9110,389,   201.0,  0.1360, 34.5420,2,-999.0000,9,   302.2,2,   289.3,2,    9.14,2,   12.25,2,    0.00,2,    1.00,2,  -999.0,9,  -999.0,9,-999.000,9,-999.000,-999.0000,9, -999.00,9, -999.00,  0.1284,-999.0000,   0.283,2,   1.833,2,   0.082,2,    0.08,2,0.01,2, -999.00,9,58,654
32L919920715,39,1,4,2,19920730,80.2620,-14.9110,389,   320.0,  0.4430, 34.7200,2, 34.7310,2,   287.9,2,  -999.0,9,   10.12,2,   13.87,2,    0.01,2,    1.00,2,  -999.0,9,  -999.0,9,-999.000,9,-999.000,-999.0000,9, -999.00,9, -999.00,  0.4296,-999.0000,   0.283,2,-999.000,9,-999.000,9, -999.00,9,-999.00,9, -999.00,9,58,652
32L919920715,39,1,3,2,19920730,80.2620,-14.9110,389,   379.0,  0.4220, 34.7560,2,-999.0000,9,   288.7,2,   285.4,2,   10.53,2,   13.87,2,    0.01,2,    1.05,2,  -999.0,9,  -999.0,9,-999.000,9,-999.000,-999.0000,9, -999.00,9, -999.00,  0.4060,-999.0000,   0.283,2,-999.000,9,-999.000,9, -999.00,9,-999.00,9, -999.00,9,58,651
32L919920715,40,1,2,2,19920730,80.3210,-15.2280,281,     2.0,  0.7300, 32.3260,2,-999.0000,9,   390.3,2,   396.0,2,    5.98,2,    0.75,2,    0.02,2,    0.94,2,  -999.0,9,  -999.0,9,-999.000,9,-999.000,-999.0000,9, -999.00,9, -999.00,  0.7299,-999.0000,   0.088,2,-999.000,9,-999.000,9,   11.10,2,1.17,2, -999.00,9,59,674
32L919920715,40,1,1,2,19920730,80.3210,-15.2280,281,    10.0, -1.5610, 32.2810,2, 32.2940,2,   387.5,2,   383.7,2,    6.69,2,    1.08,2,    0.02,2,    0.99,2,  -999.0,9,  -999.0,9,-999.000,9,-999.000,-999.0000,9, -999.00,9, -999.00, -1.5612,-999.0000,   0.088,2,-999.000,9,-999.000,9,   12.56,2,0.42,2, -999.00,9,59,673
32L919920715,40,1,12,2,19920730,80.3210,-15.2280,281,    21.0, -1.4110, 32.3060,2,-999.0000,9,   372.0,2,   374.2,2,    8.31,2,    3.12,2,    0.02,2,    1.02,2,  -999.0,9,  -999.0,9,-999.000,9,-999.000,-999.0000,9, -999.00,9, -999.00, -1.4114,-999.0000,   0.078,2,-999.000,9,-999.000,9,    5.23,2,0.72,2, -999.00,9,59,672
32L919920715,40,1,11,2,19920730,80.3210,-15.2280,281,    31.0, -1.7200, 32.3160,2, 32.3120,2,   375.5,2,   366.3,2,    8.90,2,    4.11,2,    0.01,2,    1.05,2,  -999.0,9,  -999.0,9,-999.000,9,-999.000,-999.0000,9, -999.00,9, -999.00, -1.7205,-999.0000,   0.068,2,-999.000,9,-999.000,9,    4.05,2,1.05,2, -999.00,9,59,671
32L919920715,40,1,10,2,19920730,80.3210,-15.2280,281,    45.0, -1.6480, 32.3380,2,-999.0000,9,   371.6,2,   367.4,2,    8.93,2,    4.10,2,    0.02,2,    1.05,2,  -999.0,9,  -999.0,9,-999.000,9,-999.000,-999.0000,9, -999.00,9, -999.00, -1.6488,-999.0000,   0.078,2,-999.000,9,-999.000,9,    0.72,2,0.19,2, -999.00,9,59,670
32L919920715,40,1,9,2,19920730,80.3210,-15.2280,281,    60.0, -1.7520, 32.3560,2, 32.3540,2,   364.7,2,   363.8,2,    9.39,2,    4.48,2,    0.00,2,    1.08,2,  -999.0,9,  -999.0,9,   7.310,2,   0.110,  1.8810,2,    2.80,2,    0.20, -1.7530,-999.0000,   0.098,2,-999.000,9,-999.000,9,    0.07,2,0.07,2, -999.00,9,59,669
32L919920715,40,1,8,2,19920730,80.3210,-15.2280,281,    90.0, -1.6460, 32.6270,2,-999.0000,9,   347.6,2,   349.6,2,   10.11,2,    6.14,2,    0.00,2,    1.05,2,  -999.0,9,  -999.0,9,-999.000,9,-999.000,-999.0000,9, -999.00,9, -999.00, -1.6476,-999.0000,   0.088,2,-999.000,9,-999.000,9,    0.01,2,0.02,2, -999.00,9,59,668
32L919920715,40,1,7,2,19920730,80.3210,-15.2280,281,   120.0, -1.3950, 33.4830,2,-999.0000,9,   327.2,2,   328.9,2,    9.59,2,    8.69,2,    0.00,2,    0.96,2,  -999.0,9,  -999.0,9,-999.000,9,-999.000,-999.0000,9, -999.00,9, -999.00, -1.3976,-999.0000,   0.088,2,-999.000,9,-999.000,9,    0.02,2,0.04,2, -999.00,9,59,667
32L919920715,40,1,6,2,19920730,80.3210,-15.2280,281,   161.0, -0.1460, 34.4010,2,-999.0000,9,   292.3,2,   293.0,2,    8.85,2,   12.88,2,    0.01,2,    0.97,2,  -999.0,9,  -999.0,9,-999.000,9,-999.000,-999.0000,9, -999.00,9, -999.00, -0.1516,-999.0000,   0.224,2,-999.000,9,-999.000,9,    0.15,2,0.06,2, -999.00,9,59,666
32L919920715,40,1,5,2,19920730,80.3210,-15.2280,281,   200.0,  0.3160, 34.6230,2, 32.3550,2,   284.4,2,   289.5,2,    8.99,2,   13.35,2,    0.01,2,    0.98,2,  -999.0,9,  -999.0,9,-999.000,9,-999.000,-999.0000,9, -999.00,9, -999.00,  0.3081,-999.0000,   0.176,2,-999.000,9,-999.000,9,    2.35,2,1.59,2, -999.00,9,59,665
32L919920715,40,1,4,2,19920730,80.3210,-15.2280,281,   251.0,  0.5080, 34.7120,2, 34.7040,2,   285.6,2,   283.9,2,    9.61,2,   13.53,2,    0.01,2,    1.00,2,  -999.0,9,  -999.0,9,   2.180,2,   0.033,  1.9550,2,    5.90,2,    0.20,  0.4975,-999.0000,   0.098,2,-999.000,9,-999.000,9, -999.00,9,-999.00,9, -999.00,9,59,664
32L919920715,40,1,3,2,19920730,80.3210,-15.2280,281,   271.0,  0.5030, 34.7190,2,-999.0000,9,   287.4,2,  -999.0,9, -999.00,9, -999.00,9, -999.00,9, -999.00,9,  -999.0,9,  -999.0,9,-999.000,9,-999.000,-999.0000,9, -999.00,9, -999.00,  0.4916,-999.0000,-999.000,9,-999.000,9,-999.000,9, -999.00,9,-999.00,9, -999.00,9,59,663
32L919920715,41,1,2,2,19920730,80.3840,-15.5830,91,     2.0, -0.0470, 31.8490,2,-999.0000,9,   411.3,2,   413.9,2,    0.98,2,    0.10,2,    0.00,2,    0.75,2,  -999.0,9,  -999.0,9,-999.000,9,-999.000,-999.0000,9, -999.00,9, -999.00, -0.0471,-999.0000,   0.010,2,   7.458,2,   1.080,2,    0.68,2,0.09,2,55700.00,2,60,686
32L919920715,41,1,1,2,19920730,80.3840,-15.5830,91,     7.0, -0.2360, 31.9320,2,-999.0000,9,   435.3,2,   429.5,2,    0.88,2,    0.10,2,    0.00,2,    0.74,2,  -999.0,9,  -999.0,9,-999.000,9,-999.000,-999.0000,9, -999.00,9, -999.00, -0.2362,-999.0000,   0.000,2,  12.359,2,   1.414,2,    0.83,2,0.12,2,59600.00,2,60,685
32L919920715,41,1,12,2,19920730,80.3840,-15.5830,91,    12.0, -1.0740, 32.0620,2,-999.0000,9,   436.8,2,   428.4,2,    0.93,2,    0.10,2,    0.00,2,    0.75,2,  -999.0,9,  -999.0,9,-999.000,9,-999.000,-999.0000,9, -999.00,9, -999.00, -1.0743,-999.0000,   0.010,2,  15.229,2,   1.913,2,    2.21,2,0.23,2,76800.00,2,60,684
32L919920715,41,1,11,2,19920730,80.3840,-15.5830,91,    19.0, -0.9540, 32.1300,2,-999.0000,9,   443.1,2,   447.4,2,    1.11,2,    0.10,2,    0.00,2,    0.72,2,  -999.0,9,  -999.0,9,-999.000,9,-999.000,-999.0000,9, -999.00,9, -999.00, -0.9544,-999.0000,   0.029,2,  31.676,2,   2.825,2,    3.23,2,0.45,2,100000.00,2,60,683
32L919920715,41,1,10,2,19920730,80.3840,-15.5830,91,    25.0, -1.1800, 32.1990,2,-999.0000,9,   423.8,2,   441.5,2,    1.56,2,    0.13,2,    0.00,2,    0.75,2,  -999.0,9,  -999.0,9,-999.000,9,-999.000,-999.0000,9, -999.00,9, -999.00, -1.1805,-999.0000,   0.039,2,  27.477,2,   3.162,2,    5.58,2,0.75,2,75100.00,2,60,682
32L919920715,41,1,9,2,19920730,80.3840,-15.5830,91,    29.0, -1.3240, 32.2150,2,-999.0000,9,   404.1,2,   432.5,2,    1.52,2,    0.25,2,    0.00,2,    0.81,2,  -999.0,9,  -999.0,9,-999.000,9,-999.000,-999.0000,9, -999.00,9, -999.00, -1.3246,-999.0000,   0.039,2,  29.259,2,   2.902,2,    5.28,2,2.34,2,106000.00,2,60,681
32L919920715,41,1,8,2,19920730,80.3840,-15.5830,91,    38.0, -1.6790, 32.2640,2,-999.0000,9,   368.4,2,   371.4,2, -999.00,9, -999.00,9, -999.00,9, -999.00,9,  -999.0,9,  -999.0,9,-999.000,9,-999.000,-999.0000,9, -999.00,9, -999.00, -1.6796,-999.0000,-999.000,9,   6.743,2,   1.055,2,    3.23,2,0.45,2,52800.00,2,60,680
32L919920715,41,1,7,2,19920730,80.3840,-15.5830,91,    45.0, -1.6940, 32.3030,2,-999.0000,9,   368.8,2,   366.8,2,    8.48,2,    4.15,2,    0.02,2,    1.05,2,  -999.0,9,  -999.0,9,-999.000,9,-999.000,-999.0000,9, -999.00,9, -999.00, -1.6947,-999.0000,   0.039,2,   4.029,2,   0.430,2,    1.29,2,0.19,2, -999.00,9,60,679
32L919920715,41,1,6,2,19920730,80.3840,-15.5830,91,    69.0, -1.7170, 32.4250,2,-999.0000,9,   353.4,2,   361.2,2,    9.42,2,    4.86,2,    0.01,2,    1.06,2,  -999.0,9,  -999.0,9,-999.000,9,-999.000,-999.0000,9, -999.00,9, -999.00, -1.7181,-999.0000,   0.039,2,   4.078,2,   0.158,2,    0.36,2,0.07,2, -999.00,9,60,678
32L919920715,41,1,5,2,19920730,80.3840,-15.5830,91,    74.0, -1.7140, 32.4490,2,-999.0000,9,   359.5,2,   359.5,2,    9.52,2,    5.03,2,    0.01,2,    1.06,2,  -999.0,9,  -999.0,9,-999.000,9,-999.000,-999.0000,9, -999.00,9, -999.00, -1.7152,-999.0000,   0.039,2,   1.149,2,   0.110,2,    0.34,2,0.09,2, -999.00,9,60,677
32L919920715,41,1,4,2,19920730,80.3840,-15.5830,91,    81.0, -1.6720, 32.5540,2, 32.6280,2,   355.5,2,   352.5,2,    9.86,2,    5.77,2,    0.01,2,    1.05,2,  -999.0,9,  -999.0,9,-999.000,9,-999.000,-999.0000,9, -999.00,9, -999.00, -1.6734,-999.0000,   0.059,2,   0.830,2,   0.149,2,    0.18,2,0.07,2, -999.00,9,60,676
32L919920715,42,1,2,2,19920730,80.0250,-15.9880,446,     2.0, -0.7430, 32.2150,2,-999.0000,9,   388.6,2,   387.0,2,    6.88,2,    1.46,2,    0.02,2,    0.94,2,  -999.0,9,  -999.0,9,-999.000,9,-999.000,-999.0000,9, -999.00,9, -999.00, -0.7430,-999.0000,   0.029,2,  10.341,2,   2.320,2,    3.17,2,0.12,2,33500.00,2,61,698
32L919920715,42,1,1,2,19920730,80.0250,-15.9880,446,     4.0, -0.7530, 32.2070,2,-999.0000,9,   390.0,2,   391.6,2,    6.37,2,    0.95,2,    0.02,2,    0.84,2,  -999.0,9,  -999.0,9,-999.000,9,-999.000,-999.0000,9, -999.00,9, -999.00, -0.7531,-999.0000,   0.039,2,  17.559,2,   3.547,2,    3.99,2,0.21,2,35700.00,2,61,697
32L919920715,42,1,12,2,19920730,80.0250,-15.9880,446,     7.0, -0.7440, 32.1980,2,-999.0000,9,   389.0,2,   386.1,2,    6.99,2,    1.61,2,    0.02,2,    0.96,2,  -999.0,9,  -999.0,9,-999.000,9,-999.000,-999.0000,9, -999.00,9, -999.00, -0.7442,-999.0000,   0.039,2,  14.738,2,   3.071,2,    2.94,2,0.29,2,30100.00,2,61,696
32L919920715,42,1,11,2,19920730,80.0250,-15.9880,446,    12.0, -1.2530, 32.3360,2,-999.0000,9,   376.7,2,   373.0,2,    8.18,2,    3.46,2,    0.02,2,    1.03,2,  -999.0,9,  -999.0,9,-999.000,9,-999.000,-999.0000,9, -999.00,9, -999.00, -1.2532,-999.0000,   0.029,2,   6.084,2,   1.450,2,    1.72,2,0.17,2,27000.00,2,61,695
32L919920715,42,1,10,2,19920730,80.0250,-15.9880,446,    18.0, -1.7000, 32.2520,2,-999.0000,9,   374.9,2,   367.8,2,    8.72,2,    4.33,2,    0.02,2,    1.04,2,  -999.0,9,  -999.0,9,-999.000,9,-999.000,-999.0000,9, -999.00,9, -999.00, -1.7003,-999.0000,   0.029,2,   3.232,2,   0.576,2,    0.59,2,0.10,2,26300.00,2,61,694
32L919920715,42,1,9,2,19920730,80.0250,-15.9880,446,    28.0, -1.7300, 32.2890,2,-999.0000,9,   367.5,2,   366.9,2,    8.28,2,    4.22,2,    0.02,2,    1.01,2,  -999.0,9,  -999.0,9,-999.000,9,-999.000,-999.0000,9, -999.00,9, -999.00, -1.7304,-999.0000,   0.078,2,   3.251,2,   0.245,2, -999.00,9,-999.00,9,41100.00,2,61,693
32L919920715,42,1,8,2,19920730,80.0250,-15.9880,446,    43.0, -1.7490, 32.3180,2,-999.0000,9,   359.8,2,   365.1,2,    9.33,2,    4.67,2,    0.01,2,    1.08,2,  -999.0,9,  -999.0,9,-999.000,9,-999.000,-999.0000,9, -999.00,9, -999.00, -1.7497,-999.0000,   0.068,2,   2.147,2,   0.220,2,    0.25,2,0.06,2,20700.00,2,61,692
32L919920715,42,1,7,2,19920730,80.0250,-15.9880,446,   251.0,  0.4940, 34.6930,2,-999.0000,9,   286.3,2,   286.9,2,    9.13,2,   13.67,2,    0.01,2,    0.98,2,  2148.3,2,  2278.1,2,   2.350,2,   0.035,  1.8660,2,    9.70,2,    0.20,  0.4835,34.6040,   0.078,2,-999.000,9,-999.000,9, -999.00,9,-999.00,9, -999.00,9,61,691
32L919920715,42,1,6,2,19920730,80.0250,-15.9880,446,   300.0,  0.5760, 34.7240,2,-999.0000,9,   286.7,2,   285.4,2,    9.15,2,   13.72,2,    0.01,2,    0.98,2,  2148.9,2,  2282.1,2,   2.490,2,   0.037,  1.8020,2,    8.90,2,    0.20,  0.5631,34.6340,   0.088,2,-999.000,9,-999.000,9, -999.00,9,-999.00,9, -999.00,9,61,690
32L919920715,42,1,5,2,19920730,80.0250,-15.9880,446,   349.0,  0.5750, 34.7410,2,-999.0000,9,   285.5,2,   284.4,2,    9.48,2,   13.74,2,    0.01,2,    0.99,2,  2150.3,2,  2279.8,2,   2.170,2,   0.033,  1.8790,2,    7.00,2,    0.20,  0.5599,34.6420,   0.088,2,-999.000,9,-999.000,9, -999.00,9,-999.00,9, -999.00,9,61,689
32L919920715,42,1,4,2,19920730,80.0250,-15.9880,446,   398.0,  0.5540, 34.7430,2, 34.7500,2,   285.6,2,   283.7,2,    9.67,2,   13.65,2,    0.01,2,    1.00,2,  2149.9,2,  2313.3,3,   2.100,2,   0.031,  1.8350,2,    6.90,2,    0.20,  0.5366,34.6470,   0.088,2,-999.000,9,-999.000,9, -999.00,9,-999.00,9, -999.00,9,61,688
32L919920715,42,1,3,2,19920730,80.0250,-15.9880,446,   436.0,  0.5480, 34.7440,2,-999.0000,9,   289.6,2,   286.8,2,    9.68,2,   13.32,2,    0.01,2,    1.00,2,  -999.0,9,  -999.0,9,   2.040,2,   0.031,  1.9170,2,    8.80,2,    0.20,  0.5289,-999.0000,   0.088,2,-999.000,9,-999.000,9, -999.00,9,-999.00,9, -999.00,9,61,687
32L919920715,42,2,2,2,19920730,80.0250,-15.9880,446,    21.0, -1.6280, 32.2380,2,-999.0000,9,   373.5,2,  -999.0,9, -999.00,9, -999.00,9, -999.00,9, -999.00,9,  -999.0,9,  -999.0,9,-999.000,9,-999.000,-999.0000,9, -999.00,9, -999.00, -1.6283,-999.0000,-999.000,9,-999.000,9,-999.000,9, -999.00,9,-999.00,9, -999.00,9,62,710
32L919920715,42,2,12,2,19920730,80.0250,-15.9880,446,   100.0, -1.5070, 33.0290,2,-999.0000,9,   339.0,2,  -999.0,9, -999.00,9, -999.00,9, -999.00,9, -999.00,9,  -999.0,9,  -999.0,9,-999.000,9,-999.000,-999.0000,9, -999.00,9, -999.00, -1.5090,-999.0000,-999.000,9,-999.000,9,-999.000,9, -999.00,9,-999.00,9, -999.00,9,62,708
32L919920715,42,2,1,2,19920730,80.0250,-15.9880,446,   100.0, -1.5090, 33.0280,2,-999.0000,9,   342.2,2,   340.7,2,   10.03,2,    7.44,2,    0.01,2,    0.99,2,  2129.4,2,  2240.8,2,-999.000,9,-999.000,-999.0000,9, -999.00,9, -999.00, -1.5110,32.8980,   0.029,2,-999.000,9,-999.000,9, -999.00,9,-999.00,9, -999.00,9,62,709
32L919920715,42,2,10,2,19920730,80.0250,-15.9880,446,   151.0, -0.7020, 34.0500,2,-999.0000,9,   307.2,2,  -999.0,9, -999.00,9, -999.00,9, -999.00,9, -999.00,9,  -999.0,9,  -999.0,9,-999.000,9,-999.000,-999.0000,9, -999.00,9, -999.00, -0.7064,-999.0000,-999.000,9,-999.000,9,-999.000,9, -999.00,9,-999.00,9, -999.00,9,62,706
32L919920715,42,2,11,2,19920730,80.0250,-15.9880,446,   152.0, -0.7040, 34.0520,2,-999.0000,9,   309.6,2,   303.2,2,    8.93,2,   11.86,2,    0.01,2,    0.95,2,  2134.6,2,  2256.7,2,   2.420,2,   0.036,  2.1460,3,    6.90,2,    0.20, -0.7085,34.0060,   0.020,2,-999.000,9,-999.000,9, -999.00,9,-999.00,9, -999.00,9,62,707
32L919920715,42,2,8,2,19920730,80.0250,-15.9880,446,   202.0,  0.2240, 34.5760,2,-999.0000,9,   287.5,2,  -999.0,9, -999.00,9, -999.00,9, -999.00,9, -999.00,9,  -999.0,9,  -999.0,9,-999.000,9,-999.000,-999.0000,9, -999.00,9, -999.00,  0.2162,-999.0000,-999.000,9,-999.000,9,-999.000,9, -999.00,9,-999.00,9, -999.00,9,62,704
32L919920715,42,2,9,2,19920730,80.0250,-15.9880,446,   202.0,  0.2180, 34.5730,2, 34.5690,2,   291.0,2,   288.7,2,    8.98,2,   13.28,2,    0.00,2,    0.96,2,  2144.1,2,  2271.7,2,   2.700,2,   0.041,  2.1230,3,    8.10,2,    0.20,  0.2102,34.4840,   0.020,2,-999.000,9,-999.000,9, -999.00,9,-999.00,9, -999.00,9,62,705
32L919920715,42,2,7,2,19920730,80.0250,-15.9880,446,   251.0,  0.5030, 34.6960,2,-999.0000,9,   286.2,2,  -999.0,9,    9.09,2,   13.49,2,    0.01,2,    0.97,2,  -999.0,9,  -999.0,9,-999.000,9,-999.000,-999.0000,9, -999.00,9, -999.00,  0.4925,-999.0000,   0.039,2,-999.000,9,-999.000,9, -999.00,9,-999.00,9, -999.00,9,62,703
32L919920715,42,2,6,2,19920730,80.0250,-15.9880,446,   299.0,  0.5790, 34.7230,2,-999.0000,9,   283.2,2,  -999.0,9,    9.16,2,   13.55,2,    0.01,2, -999.00,9,  -999.0,9,  -999.0,9,-999.000,9,-999.000,-999.0000,9, -999.00,9, -999.00,  0.5662,-999.0000,   0.039,2,-999.000,9,-999.000,9, -999.00,9,-999.00,9, -999.00,9,62,702
32L919920715,42,2,5,2,19920730,80.0250,-15.9880,446,   349.0,  0.5520, 34.7430,2,-999.0000,9,   285.3,2,  -999.0,9,    9.61,2,   13.69,2,    0.01,2,    1.00,2,  -999.0,9,  -999.0,9,-999.000,9,-999.000,-999.0000,9, -999.00,9, -999.00,  0.5369,-999.0000,   0.029,2,-999.000,9,-999.000,9, -999.00,9,-999.00,9, -999.00,9,62,701
32L919920715,42,2,4,2,19920730,80.0250,-15.9880,446,   372.0,  0.5570, 34.7450,2,-999.0000,9,   286.2,2,  -999.0,9,    9.60,2,   13.71,2,    0.01,2,    0.99,2,  -999.0,9,  -999.0,9,-999.000,9,-999.000,-999.0000,9, -999.00,9, -999.00,  0.5409,-999.0000,   0.020,2,-999.000,9,-999.000,9, -999.00,9,-999.00,9, -999.00,9,62,700
32L919920715,42,2,3,2,19920730,80.0250,-15.9880,446,   387.0,  0.5580, 34.7450,2,-999.0000,9,   285.9,2,  -999.0,9,    9.60,2,   13.67,2,    0.01,2,    0.99,2,  -999.0,9,  -999.0,9,-999.000,9,-999.000,-999.0000,9, -999.00,9, -999.00,  0.5412,-999.0000,   0.000,2,-999.000,9,-999.000,9, -999.00,9,-999.00,9, -999.00,9,62,699