BOTTLE,20220816CCHSIOAMB
EXPOCODE,STNNBR,CASTNO,BTLNBR,BTLNBR_FLAG_W,DATE,LATITUDE,LONGITUDE,DEPTH,CTDPRS,CTDTMP,CTDSAL,CTDSAL_FLAG_W,SALNTY,SALNTY_FLAG_W,CTDOXY,CTDOXY_FLAG_W,OXYGEN,OXYGEN_FLAG_W,SILCAT,SILCAT_FLAG_W,NITRAT,NITRAT_FLAG_W,NITRIT,NITRIT_FLAG_W,PHSPHT,PHSPHT_FLAG_W,TCARBN,TCARBN_FLAG_W,ALKALI,ALKALI_FLAG_W,TRITUM,TRITUM_FLAG_W,TRITER,HELIUM,HELIUM_FLAG_W,DELHE3,DELHE3_FLAG_W,DELHER,THETA,SOMSAL,AMMONI,AMMONI_FLAG_W,POC,POC_FLAG_W,PON,PON_FLAG_W,CHLORA,CHLORA_FLAG_W,PHAEO,PHAEO_FLAG_W,BACT,BACT_FLAG_W,STNNBR_U,BNLID
,,,,,,,,METERS,DBAR,ITS-90,PSS-78,,PSS-78,,UMOL/KG,,UMOL/KG,,UMOL/KG,,UMOL/KG,,UMOL/KG,,UMOL/KG,,UMOL/KG,,UMOL/KG,,TU,,TU,NMOL/KG,,PERCNT,,PERCNT,DEG C,PSS-78,UMOL/KG,,UG/KG,,UG/KG,,UG/KG,,UG/L,,E8/L,,,
32L919920715,6,1,9,2,19920722,80.6490,-12.1690,211,     2.0,  0.0740, 31.1960,2,-999.0000,9,   416.2,2,   409.9,2,    2.00,2,    0.01,2,    0.00,2,    0.87,2,  -999.0,9,  -999.0,9,-999.000,9,-999.000,-999.0000,9, -999.00,9, -999.00,  0.0739,-999.0000,   0.039,2,   9.028,2,   1.144,2,    1.16,2,0.14,2,93900.00,2,15,177
32L919920715,6,1,8,2,19920722,80.6490,-12.1690,211,     3.0,  0.0440, 31.2440,2,-999.0000,9,   410.8,2,   410.7,2,    1.79,2,    0.01,2,    0.00,2,    0.87,2,  -999.0,9,  -999.0,9,-999.000,9,-999.000,-999.0000,9, -999.00,9, -999.00,  0.0439,-999.0000,   0.029,2,  12.707,2,   2.214,2,    1.00,2,0.13,2, -999.00,9,15,176
32L919920715,6,1,7,2,19920722,80.6490,-12.1690,211,     6.0,  0.6010, 31.5790,2,-999.0000,9,   404.2,2,   417.0,2,    1.51,2,    0.02,2,    0.00,2,    0.85,2,  -999.0,9,  -999.0,9,-999.000,9,-999.000,-999.0000,9, -999.00,9, -999.00,  0.6008,-999.0000,   0.029,2,  13.336,2,   1.239,2,    0.77,2,0.13,2,73700.00,2,15,175
32L919920715,6,1,6,2,19920722,80.6490,-12.1690,211,     7.0,  0.2900, 31.8420,2,-999.0000,9,   391.5,2,   420.2,2,    1.37,2,    0.05,2,    0.00,2,    0.85,2,  -999.0,9,  -999.0,9,-999.000,9,-999.000,-999.0000,9, -999.00,9, -999.00,  0.2898,-999.0000,   0.039,2,  12.324,2,   1.360,2,    0.87,2,0.10,2,73700.00,2,15,174
32L919920715,6,1,5,2,19920722,80.6490,-12.1690,211,    11.0, -0.9790, 32.1190,2,-999.0000,9,   421.4,2,   431.2,2,    0.67,2,    0.06,2,    0.00,2,    0.82,2,  -999.0,9,  -999.0,9,-999.000,9,-999.000,-999.0000,9, -999.00,9, -999.00, -0.9792,-999.0000,   0.049,2,  30.413,2,   2.808,2,    3.35,2,0.33,2,154000.00,2,15,173
32L919920715,6,1,4,2,19920722,80.6490,-12.1690,211,    19.0, -1.2810, 32.2010,2,-999.0000,9,   400.6,2,   411.0,2,    1.61,2,    0.06,2,    0.01,2,    0.85,2,  -999.0,9,  -999.0,9,-999.000,9,-999.000,-999.0000,9, -999.00,9, -999.00, -1.2814,-999.0000,   0.088,2,  28.179,2,   4.290,2,    7.22,2,0.46,2,143000.00,2,15,172
32L919920715,6,1,3,2,19920722,80.6490,-12.1690,211,    32.0, -1.3940, 32.2920,2,-999.0000,9,   373.5,2,   376.2,2,    6.17,2,    2.35,2,    0.04,2,    1.04,2,  -999.0,9,  -999.0,9,-999.000,9,-999.000,-999.0000,9, -999.00,9, -999.00, -1.3946,-999.0000,   0.107,2,  21.788,2,   4.084,2,    5.75,2,1.03,2,91500.00,2,15,171
32L919920715,6,1,2,2,19920722,80.6490,-12.1690,211,    49.0, -1.6200, 32.3550,2,-999.0000,9,   367.0,2,   365.8,2,    9.87,2,    4.15,2,    0.02,2,    1.13,2,  -999.0,9,  -999.0,9,   6.510,2,   0.098,  1.9300,2,    2.10,2,    0.20, -1.6208,-999.0000,   0.049,2,   5.636,2,   1.001,2,    0.49,2,0.07,2,42500.00,2,15,170
32L919920715,6,1,1,2,19920722,80.6490,-12.1690,211,   100.0, -1.5250, 32.8150,2,-999.0000,9,   342.5,2,   344.5,2,   11.10,2,    6.53,2,    0.03,2,    1.12,2,  -999.0,9,  -999.0,9,-999.000,9,-999.000,-999.0000,9, -999.00,9, -999.00, -1.5269,-999.0000,   0.039,2,   3.236,2,   0.585,2,    0.25,2,0.13,2, -999.00,9,15,169
32L919920715,6,1,12,2,19920722,80.6490,-12.1690,211,   151.0, -0.5950, 34.1000,2,-999.0000,9,   299.6,2,  -999.0,9,   10.26,2,   11.45,2,    0.02,2,    1.03,2,  -999.0,9,  -999.0,9,   2.980,2,   0.045,  1.9720,2,    9.10,2,    0.20, -0.5996,-999.0000,   0.049,2,-999.000,9,-999.000,9, -999.00,9,-999.00,9, -999.00,9,15,168
32L919920715,6,1,11,2,19920722,80.6490,-12.1690,211,   201.0,  0.2210, 34.6240,2, 34.6570,2,   284.8,2,   291.7,2,   10.29,2,   12.93,2,    0.02,2,    1.04,2,  -999.0,9,  -999.0,9,-999.000,9,-999.000,-999.0000,9, -999.00,9, -999.00,  0.2132,-999.0000,   0.049,2,-999.000,9,-999.000,9, -999.00,9,-999.00,9, -999.00,9,15,167
32L919920715,7,1,9,2,19920722,80.6480,-13.0820,232,     2.0,  1.6450, 32.1870,2,-999.0000,9,   464.3,2,   469.8,2,    1.11,2,    0.05,2,    0.01,2,    0.78,2,  -999.0,9,  -999.0,9,-999.000,9,-999.000,-999.0000,9, -999.00,9, -999.00,  1.6449,-999.0000,   0.029,2,   4.861,2, 100.000,2,    3.76,2,0.18,2,74600.00,2,16,189
32L919920715,7,1,8,2,19920722,80.6480,-13.0820,232,     3.0,  1.1090, 32.2560,2,-999.0000,9,   471.3,2,   476.9,2,    1.11,2,    0.09,2,    0.01,2,    0.77,2,  -999.0,9,  -999.0,9,-999.000,9,-999.000,-999.0000,9, -999.00,9, -999.00,  1.1089,-999.0000,   0.029,2,   4.083,2,  50.000,2,    5.58,2,0.56,2,103000.00,2,16,188
32L919920715,7,1,6,2,19920722,80.6480,-13.0820,232,    10.0, -0.8510, 32.3550,2,-999.0000,9,   401.5,2,   393.6,2,    7.03,2,    0.83,2,    0.02,2,    1.00,2,  -999.0,9,  -999.0,9,-999.000,9,-999.000,-999.0000,9, -999.00,9, -999.00, -0.8512,-999.0000,   0.029,2,  64.007,2,   6.642,2,    9.39,2,0.87,2,53200.00,2,16,186
32L919920715,7,1,5,2,19920722,80.6480,-13.0820,232,    15.0, -1.4690, 32.3550,2,-999.0000,9,   381.7,2,   369.1,2,    9.90,2,    3.46,2,    0.01,2,    1.13,2,  -999.0,9,  -999.0,9,-999.000,9,-999.000,-999.0000,9, -999.00,9, -999.00, -1.4693,-999.0000,   0.020,2,  13.829,2,   2.075,2,    3.93,2,0.07,2,26700.00,2,16,185
32L919920715,7,1,4,2,19920722,80.6480,-13.0820,232,    25.0, -1.6360, 32.3600,2,-999.0000,9,   377.4,2,   366.2,2,   10.23,2,    4.18,2,    0.01,2,    1.14,2,  -999.0,9,  -999.0,9,-999.000,9,-999.000,-999.0000,9, -999.00,9, -999.00, -1.6364,-999.0000,   0.010,2,   3.376,2,   0.276,2,    0.58,2,0.06,2,23200.00,2,16,184
32L919920715,7,1,3,2,19920722,80.6480,-13.0820,232,    37.0, -1.7070, 32.3630,2,-999.0000,9,   376.9,2,   364.7,2,   10.26,2,    4.30,2,    0.01,2,    1.14,2,  -999.0,9,  -999.0,9,-999.000,9,-999.000,-999.0000,9, -999.00,9, -999.00, -1.7076,-999.0000,   0.010,2,   1.965,2,   0.185,2,    0.11,2,0.04,2,24900.00,2,16,183
32L919920715,7,1,2,2,19920722,80.6480,-13.0820,232,    50.0, -1.7100, 32.3690,2,-999.0000,9,   367.3,2,   365.4,2,   10.36,2,    4.33,2,    0.01,2,    1.15,2,  -999.0,9,  -999.0,9,-999.000,9,-999.000,-999.0000,9, -999.00,9, -999.00, -1.7108,-999.0000,   0.000,2,   1.550,2,   0.206,2,    0.05,2,0.04,2,16800.00,2,16,182
32L919920715,7,1,1,2,19920722,80.6480,-13.0820,232,   100.0, -1.6130, 32.7770,2,-999.0000,9,   347.9,2,   347.9,2,   11.60,2,    6.27,2,    0.01,2,    1.13,2,  -999.0,9,  -999.0,9,-999.000,9,-999.000,-999.0000,9, -999.00,9, -999.00, -1.6149,-999.0000,   0.010,2,   0.199,2,-999.000,9,    0.02,2,0.04,2, -999.00,9,16,181
32L919920715,7,1,12,2,19920722,80.6480,-13.0820,232,   151.0, -0.1810, 34.3920,2,-999.0000,9,   297.8,2,   292.4,2,   10.22,2,   12.46,2,    0.01,2,    1.04,2,  -999.0,9,  -999.0,9,   2.820,2,   0.042,  2.0090,2,   10.60,2,    0.20, -0.1862,-999.0000,   0.010,2,   1.067,2,   0.140,2,    0.11,2,0.11,2, -999.00,9,16,180
32L919920715,7,1,11,2,19920722,80.6480,-13.0820,232,   200.0,  0.3080, 34.6820,2, 34.6820,2,   291.0,2,   284.4,2,   10.56,2,   12.98,2,    0.01,2,    1.06,2,  -999.0,9,  -999.0,9,-999.000,9,-999.000,-999.0000,9, -999.00,9, -999.00,  0.3001,-999.0000,   0.020,2,-999.000,9,-999.000,9, -999.00,9,-999.00,9, -999.00,9,16,179
32L919920715,7,1,10,2,19920722,80.6480,-13.0820,232,   222.0,  0.3630, 34.7200,2,-999.0000,9,   291.3,2,   284.9,2,   10.76,2,   13.01,2,    0.02,2,    1.08,2,  -999.0,9,  -999.0,9,-999.000,9,-999.000,-999.0000,9, -999.00,9, -999.00,  0.3540,-999.0000,   0.029,2,-999.000,9,-999.000,9, -999.00,9,-999.00,9, -999.00,9,16,178
32L919920715,8,1,9,2,19920724,80.5320,-14.6620,191,     2.0,  1.0070, 30.3360,2,-999.0000,9,   376.5,2,   396.4,2,    2.35,2,    0.03,2,    0.00,2,    0.76,2,  -999.0,9,  -999.0,9,-999.000,9,-999.000,-999.0000,9, -999.00,9, -999.00,  1.0069,-999.0000,   0.039,2,   9.452,2,   0.861,2,    0.16,2,0.04,2,70800.00,2,17,201
32L919920715,8,1,8,2,19920724,80.5320,-14.6620,191,     3.0,  0.4300, 30.8010,2,-999.0000,9,   403.8,2,   401.2,2,    2.30,2,    0.03,2,    0.00,2,    0.76,2,  -999.0,9,  -999.0,9,-999.000,9,-999.000,-999.0000,9, -999.00,9, -999.00,  0.4299,-999.0000,   0.020,2,   8.161,2,   0.765,2,    0.19,2,0.10,2, -999.00,9,17,200
32L919920715,8,1,7,2,19920724,80.5320,-14.6620,191,     5.0,  0.1860, 31.3350,2,-999.0000,9,   408.7,2,   409.5,2,    2.35,2,    0.02,2,    0.00,2,    0.79,2,  -999.0,9,  -999.0,9,-999.000,9,-999.000,-999.0000,9, -999.00,9, -999.00,  0.1858,-999.0000,   0.020,2,   8.379,2,   1.147,2,    0.29,2,0.06,2,53000.00,2,17,199
32L919920715,8,1,6,2,19920724,80.5320,-14.6620,191,    10.0, -0.9480, 31.8260,2,-999.0000,9,   427.5,2,   416.8,2,    2.62,2,    0.02,2,    0.00,2,    0.85,2,  -999.0,9,  -999.0,9,-999.000,9,-999.000,-999.0000,9, -999.00,9, -999.00, -0.9482,-999.0000,   0.010,2,   7.082,2,   1.009,2,    0.60,2,0.13,2,96200.00,2,17,198
32L919920715,8,1,5,2,19920724,80.5320,-14.6620,191,    17.0, -1.1340, 32.0500,2,-999.0000,9,   415.0,2,   409.5,2,    2.64,2,    0.05,2,    0.01,2,    0.85,2,  -999.0,9,  -999.0,9,-999.000,9,-999.000,-999.0000,9, -999.00,9, -999.00, -1.1343,-999.0000,   0.000,2,  25.178,2,   3.720,2,    2.52,2,0.64,2,90800.00,2,17,197
32L919920715,8,1,4,2,19920724,80.5320,-14.6620,191,    26.0, -1.3510, 32.1760,2,-999.0000,9,   392.8,2,   379.2,2,    7.16,2,    1.86,2,    0.06,2,    1.00,2,  -999.0,9,  -999.0,9,-999.000,9,-999.000,-999.0000,9, -999.00,9, -999.00, -1.3515,-999.0000,   0.020,2,  12.734,2,   2.291,2,    3.35,2,0.98,2,64700.00,2,17,196
32L919920715,8,1,3,2,19920724,80.5320,-14.6620,191,    39.0, -1.3470, 32.3260,2,-999.0000,9,   365.3,2,   372.6,2,    8.06,2,    2.39,2,    0.04,2,    1.03,2,  -999.0,9,  -999.0,9,-999.000,9,-999.000,-999.0000,9, -999.00,9, -999.00, -1.3478,-999.0000,   0.020,2,  17.660,2,   2.495,2,    5.11,2,1.09,2,69000.00,2,17,195
32L919920715,8,1,2,2,19920724,80.5320,-14.6620,191,    60.0, -1.7410, 32.3790,2,-999.0000,9,   362.9,2,   362.6,2,   11.30,2,    4.57,2,    0.02,2,    1.15,2,  -999.0,9,  -999.0,9,-999.000,9,-999.000,-999.0000,9, -999.00,9, -999.00, -1.7420,-999.0000,   0.020,2,   3.125,2,   0.370,2,    0.27,2,0.12,2,40700.00,2,17,194
32L919920715,8,1,1,2,19920724,80.5320,-14.6620,191,    92.0, -1.5710, 32.7430,2,-999.0000,9,   344.0,2,   344.4,2,   11.93,2,    6.68,2,    0.04,2,    1.09,2,  -999.0,9,  -999.0,9,-999.000,9,-999.000,-999.0000,9, -999.00,9, -999.00, -1.5727,-999.0000,   0.020,2,   2.638,2,   0.294,2,    0.15,2,0.23,2, -999.00,9,17,193
32L919920715,8,1,12,2,19920724,80.5320,-14.6620,191,   121.0, -1.0830, 33.6260,2,-999.0000,9,   319.0,2,   318.5,2,   11.53,2,   10.06,2,    0.01,2,    1.02,2,  -999.0,9,  -999.0,9,-999.000,9,-999.000,-999.0000,9, -999.00,9, -999.00, -1.0860,-999.0000,   0.020,2,   1.237,2,   0.263,2,    0.10,2,0.10,2, -999.00,9,17,192
32L919920715,8,1,11,2,19920724,80.5320,-14.6620,191,   181.0,  0.2200, 34.5940,2, 34.5880,2,   280.0,2,   287.0,2,   11.57,2,   13.49,2,    0.02,2,    1.04,2,  -999.0,9,  -999.0,9,-999.000,9,-999.000,-999.0000,9, -999.00,9, -999.00,  0.2130,-999.0000,   0.020,2,-999.000,9,-999.000,9, -999.00,9,-999.00,9, -999.00,9,17,191
32L919920715,9,1,9,2,19920724,80.4830,-14.4880,261,     2.0,  0.6460, 31.4520,2,-999.0000,9,   428.8,2,   426.8,2,    2.34,2,    0.18,2,    0.02,2,    0.60,2,  -999.0,9,  -999.0,9,-999.000,9,-999.000,-999.0000,9, -999.00,9, -999.00,  0.6459,-999.0000,   0.020,2,-999.000,9,-999.000,9,    1.38,2,0.23,2, -999.00,9,18,213
32L919920715,9,1,8,2,19920724,80.4830,-14.4880,261,     9.0,  0.6440, 32.0840,2,-999.0000,9,   440.1,2,   437.1,2,    3.68,2,    0.31,2,    0.02,2,    0.62,2,  -999.0,9,  -999.0,9,-999.000,9,-999.000,-999.0000,9, -999.00,9, -999.00,  0.6437,-999.0000,   0.020,2,-999.000,9,-999.000,9,    3.52,2,0.68,2, -999.00,9,18,212
32L919920715,9,1,7,2,19920724,80.4830,-14.4880,261,    20.0,  0.3170, 32.3890,2,-999.0000,9,   374.9,2,   396.7,2,    7.96,2,    1.34,2,    0.03,2,    0.78,2,  -999.0,9,  -999.0,9,-999.000,9,-999.000,-999.0000,9, -999.00,9, -999.00,  0.3163,-999.0000,   0.020,2,-999.000,9,-999.000,9,    6.46,2,0.71,2, -999.00,9,18,211
32L919920715,9,1,6,2,19920724,80.4830,-14.4880,261,    30.0, -1.5250, 32.3360,2,-999.0000,9,   376.2,2,   370.7,2,   10.64,2,    3.66,2,    0.02,2,    0.93,2,  -999.0,9,  -999.0,9,-999.000,9,-999.000,-999.0000,9, -999.00,9, -999.00, -1.5255,-999.0000,   0.029,2,-999.000,9,-999.000,9,    2.14,2,0.15,2, -999.00,9,18,210
32L919920715,9,1,5,2,19920724,80.4830,-14.4880,261,    39.0, -1.6180, 32.3480,2,-999.0000,9,   372.8,2,   366.8,2,   10.98,2,    4.17,2,    0.02,2,    0.95,2,  -999.0,9,  -999.0,9,-999.000,9,-999.000,-999.0000,9, -999.00,9, -999.00, -1.6187,-999.0000,   0.029,2,-999.000,9,-999.000,9,    4.52,2,3.29,2, -999.00,9,18,209
32L919920715,9,1,4,2,19920724,80.4830,-14.4880,261,    60.0, -1.7340, 32.3660,2,-999.0000,9,   363.3,2,   364.4,2,   11.51,2,    4.56,2,    0.02,2,    0.96,2,  -999.0,9,  -999.0,9,-999.000,9,-999.000,-999.0000,9, -999.00,9, -999.00, -1.7350,-999.0000,   0.039,2,-999.000,9,-999.000,9,    0.24,2,0.09,2, -999.00,9,18,208
32L919920715,9,1,3,2,19920724,80.4830,-14.4880,261,    90.0, -1.6770, 32.5910,2,-999.0000,9,   354.2,2,   351.8,2,   12.06,2,    5.85,2,    0.02,2,    0.94,2,  -999.0,9,  -999.0,9,-999.000,9,-999.000,-999.0000,9, -999.00,9, -999.00, -1.6786,-999.0000,   0.010,2,-999.000,9,-999.000,9,    0.32,2,0.10,2, -999.00,9,18,207
32L919920715,9,1,2,2,19920724,80.4830,-14.4880,261,   110.0, -1.4860, 32.9630,2,-999.0000,9,   336.6,2,   337.9,2,   11.93,2,    7.63,2,    0.02,2,    0.89,2,  -999.0,9,  -999.0,9,-999.000,9,-999.000,-999.0000,9, -999.00,9, -999.00, -1.4882,-999.0000,   0.010,2,-999.000,9,-999.000,9,    0.10,2,0.16,2, -999.00,9,18,206
32L919920715,9,1,1,2,19920724,80.4830,-14.4880,261,   150.0, -0.3340, 34.2450,2,-999.0000,9,   292.1,2,   296.0,2,   11.24,2,   12.69,2,    0.02,2,    0.86,2,  -999.0,9,  -999.0,9,-999.000,9,-999.000,-999.0000,9, -999.00,9, -999.00, -0.3389,-999.0000,   0.020,2,-999.000,9,-999.000,9,    0.12,2,0.09,2, -999.00,9,18,205
32L919920715,9,1,12,2,19920724,80.4830,-14.4880,261,   201.0,  0.2770, 34.6050,2,-999.0000,9,   290.3,2,   287.5,2,   11.56,2,   13.61,2,    0.01,2,    0.85,2,  -999.0,9,  -999.0,9,-999.000,9,-999.000,-999.0000,9, -999.00,9, -999.00,  0.2691,-999.0000,   0.010,2,-999.000,9,-999.000,9,    0.04,2,0.06,2, -999.00,9,18,204
32L919920715,9,1,11,2,19920724,80.4830,-14.4880,261,   251.0,  0.4240, 34.7190,2, 34.7250,2,   284.3,2,   285.5,2,   11.57,2,   13.82,2,    0.02,2,    0.88,2,  -999.0,9,  -999.0,9,   2.150,2,   0.032,  1.8970,2,   11.90,2,    0.20,  0.4137,-999.0000,   0.010,2,-999.000,9,-999.000,9, -999.00,9,-999.00,9, -999.00,9,18,203
32L919920715,10,1,9,2,19920724,80.4400,-14.4220,310,     2.0,  0.7490, 32.3280,2,-999.0000,9,   378.2,2,   362.0,2,    9.98,2,    2.31,2,    0.02,2,    0.82,2,  -999.0,9,  -999.0,9,-999.000,9,-999.000,-999.0000,9, -999.00,9, -999.00,  0.7489,-999.0000,   0.000,2,-999.000,9,-999.000,9,    1.44,2,0.27,2, -999.00,9,19,225
32L919920715,10,1,8,2,19920724,80.4400,-14.4220,310,    10.0, -1.1460, 32.3340,2,-999.0000,9,   378.2,2,   366.5,2,   11.02,2,    4.14,2,    0.02,2,    0.93,2,  -999.0,9,  -999.0,9,-999.000,9,-999.000,-999.0000,9, -999.00,9, -999.00, -1.1462,-999.0000,   0.020,2,-999.000,9,-999.000,9,    0.15,2,0.07,2, -999.00,9,19,224
32L919920715,10,1,7,2,19920724,80.4400,-14.4220,310,    20.0, -1.5680, 32.3450,2,-999.0000,9,   376.3,2,   365.8,2,   11.07,2,    4.22,2,    0.02,2,    0.94,2,  -999.0,9,  -999.0,9,-999.000,9,-999.000,-999.0000,9, -999.00,9, -999.00, -1.5683,-999.0000,   0.020,2,-999.000,9,-999.000,9,    0.17,2,0.07,2, -999.00,9,19,223
32L919920715,10,1,6,2,19920724,80.4400,-14.4220,310,    30.0, -1.6930, 32.3410,2,-999.0000,9,   371.5,2,   365.5,2,   10.94,2,    4.20,2,    0.02,2,    0.94,2,  -999.0,9,  -999.0,9,-999.000,9,-999.000,-999.0000,9, -999.00,9, -999.00, -1.6935,-999.0000,   0.020,2,-999.000,9,-999.000,9,    0.13,2,0.05,2, -999.00,9,19,222
32L919920715,10,1,5,2,19920724,80.4400,-14.4220,310,    40.0, -1.7280, 32.3480,2,-999.0000,9,   368.5,2,   365.3,2,   11.06,2,    4.27,2,    0.01,2,    0.94,2,  -999.0,9,  -999.0,9,-999.000,9,-999.000,-999.0000,9, -999.00,9, -999.00, -1.7286,-999.0000,   0.020,2,-999.000,9,-999.000,9,    0.02,2,0.10,2, -999.00,9,19,221
32L919920715,10,1,4,2,19920724,80.4400,-14.4220,310,    60.0, -1.7530, 32.3770,2,-999.0000,9,   370.1,2,   363.8,2,   10.97,2,    4.40,2,    0.01,2,    0.92,2,  -999.0,9,  -999.0,9,-999.000,9,-999.000,-999.0000,9, -999.00,9, -999.00, -1.7540,-999.0000,   0.029,2,-999.000,9,-999.000,9,    0.03,2,0.01,2, -999.00,9,19,220
32L919920715,10,1,3,2,19920724,80.4400,-14.4220,310,    89.0, -1.6480, 32.6230,2,-999.0000,9,   354.8,2,   352.6,2,   11.86,2,    5.82,2,    0.01,2,    0.88,2,  -999.0,9,  -999.0,9,-999.000,9,-999.000,-999.0000,9, -999.00,9, -999.00, -1.6496,-999.0000,   0.010,2,-999.000,9,-999.000,9,    0.02,2,0.03,2, -999.00,9,19,219
32L919920715,10,1,2,2,19920724,80.4400,-14.4220,310,   111.0, -1.5390, 33.0130,2,-999.0000,9,   340.8,2,   340.2,2,   12.36,2,    7.43,2,    0.01,2,    0.87,2,  -999.0,9,  -999.0,9,-999.000,9,-999.000,-999.0000,9, -999.00,9, -999.00, -1.5412,-999.0000,   0.010,2,-999.000,9,-999.000,9,    0.03,2,0.09,2, -999.00,9,19,218
32L919920715,10,1,1,2,19920724,80.4400,-14.4220,310,   150.0, -0.5530, 34.0860,2,-999.0000,9,   303.8,2,   302.1,2,   11.20,2,   11.93,2,    0.02,2,    0.83,2,  -999.0,9,  -999.0,9,-999.000,9,-999.000,-999.0000,9, -999.00,9, -999.00, -0.5576,-999.0000,   0.020,2,-999.000,9,-999.000,9,    0.05,2,0.05,2, -999.00,9,19,217
32L919920715,10,1,12,2,19920724,80.4400,-14.4220,310,   199.0,  0.2530, 34.5900,2,-999.0000,9,   291.5,2,   286.9,2,   11.15,2,   13.59,2,    0.01,2,    0.84,2,  -999.0,9,  -999.0,9,-999.000,9,-999.000,-999.0000,9, -999.00,9, -999.00,  0.2452,-999.0000,   0.049,2,-999.000,9,-999.000,9,    0.02,2,0.05,2, -999.00,9,19,216
32L919920715,10,1,11,2,19920724,80.4400,-14.4220,310,   251.0,  0.4640, 34.7330,2, 34.7320,2,   283.9,2,   283.9,2,   11.58,2,   13.81,2,    0.02,2,    0.85,2,  -999.0,9,  -999.0,9,-999.000,9,-999.000,-999.0000,9, -999.00,9, -999.00,  0.4536,-999.0000,   0.010,2,-999.000,9,-999.000,9, -999.00,9,-999.00,9, -999.00,9,19,215
32L919920715,10,1,10,2,19920724,80.4400,-14.4220,310,   300.0,  0.4160, 34.7600,2,-999.0000,9,   287.2,2,   282.8,2,   11.94,2,   13.82,2,    0.02,2,    0.86,2,  -999.0,9,  -999.0,9,-999.000,9,-999.000,-999.0000,9, -999.00,9, -999.00,  0.4035,-999.0000,   0.020,2,-999.000,9,-999.000,9, -999.00,9,-999.00,9, -999.00,9,19,214