BOTTLE,20220816CCHSIOAMB
EXPOCODE,STNNBR,CASTNO,BTLNBR,BTLNBR_FLAG_W,DATE,LATITUDE,LONGITUDE,DEPTH,CTDPRS,CTDTMP,CTDSAL,CTDSAL_FLAG_W,SALNTY,SALNTY_FLAG_W,CTDOXY,CTDOXY_FLAG_W,OXYGEN,OXYGEN_FLAG_W,SILCAT,SILCAT_FLAG_W,NITRAT,NITRAT_FLAG_W,NITRIT,NITRIT_FLAG_W,PHSPHT,PHSPHT_FLAG_W,TCARBN,TCARBN_FLAG_W,ALKALI,ALKALI_FLAG_W,TRITUM,TRITUM_FLAG_W,TRITER,HELIUM,HELIUM_FLAG_W,DELHE3,DELHE3_FLAG_W,DELHER,THETA,SOMSAL,AMMONI,AMMONI_FLAG_W,POC,POC_FLAG_W,PON,PON_FLAG_W,CHLORA,CHLORA_FLAG_W,PHAEO,PHAEO_FLAG_W,BACT,BACT_FLAG_W,STNNBR_U,BNLID
,,,,,,,,METERS,DBAR,ITS-90,PSS-78,,PSS-78,,UMOL/KG,,UMOL/KG,,UMOL/KG,,UMOL/KG,,UMOL/KG,,UMOL/KG,,UMOL/KG,,UMOL/KG,,TU,,TU,NMOL/KG,,PERCNT,,PERCNT,DEG C,PSS-78,UMOL/KG,,UG/KG,,UG/KG,,UG/KG,,UG/L,,E8/L,,,
32L919920715,30,1,5,2,19920729,80.0760,-15.8120,363,     2.0, -0.7000, 32.1150,2,-999.0000,9,   412.1,2,   422.1,2,    3.94,2,    0.02,2,    0.00,2,    0.79,2,  -999.0,9,  -999.0,9,-999.000,9,-999.000,-999.0000,9, -999.00,9, -999.00, -0.7000,-999.0000,   0.068,2,-999.000,9,-999.000,9,    6.46,2,0.58,2, -999.00,9,49,557
32L919920715,30,1,4,2,19920729,80.0760,-15.8120,363,     5.0, -0.6980, 32.1120,2,-999.0000,9,   395.3,2,   415.8,2,    6.86,2,    0.23,2,    0.01,2,    0.83,2,  -999.0,9,  -999.0,9,-999.000,9,-999.000,-999.0000,9, -999.00,9, -999.00, -0.6981,-999.0000,   0.039,2,-999.000,9,-999.000,9,    6.58,2,0.27,2, -999.00,9,49,556
32L919920715,30,1,3,2,19920729,80.0760,-15.8120,363,    10.0, -1.5010, 32.2470,2,-999.0000,9,   384.5,2,   381.9,2,    7.87,2,    2.34,2,    0.01,2,    1.00,2,  -999.0,9,  -999.0,9,-999.000,9,-999.000,-999.0000,9, -999.00,9, -999.00, -1.5012,-999.0000,   0.020,2,-999.000,9,-999.000,9,    4.05,2,0.02,2, -999.00,9,49,555
32L919920715,30,1,2,2,19920729,80.0760,-15.8120,363,    25.0, -1.6990, 32.2980,2,-999.0000,9,   372.6,2,   366.4,2,    9.35,2,    3.91,2,    0.01,2,    1.16,2,  -999.0,9,  -999.0,9,-999.000,9,-999.000,-999.0000,9, -999.00,9, -999.00, -1.6994,-999.0000,   0.020,2,-999.000,9,-999.000,9,    0.18,2,0.35,2, -999.00,9,49,554
32L919920715,30,1,1,2,19920729,80.0760,-15.8120,363,    40.0, -1.7440, 32.3270,2,-999.0000,9,   367.6,2,   379.4,2,    9.44,2,    4.08,2,    0.00,2,    1.12,2,  -999.0,9,  -999.0,9,-999.000,9,-999.000,-999.0000,9, -999.00,9, -999.00, -1.7446,-999.0000,   0.029,2,-999.000,9,-999.000,9,    0.07,2,0.03,2, -999.00,9,49,553
32L919920715,30,1,12,2,19920729,80.0760,-15.8120,363,    75.0, -1.7170, 32.4470,2,-999.0000,9,   350.6,2,   359.3,2,    9.96,2,    4.78,2,    0.00,2,    1.10,2,  -999.0,9,  -999.0,9,-999.000,9,-999.000,-999.0000,9, -999.00,9, -999.00, -1.7183,-999.0000,   0.029,2,-999.000,9,-999.000,9,    0.11,2,0.11,2, -999.00,9,49,552
32L919920715,30,1,11,2,19920729,80.0760,-15.8120,363,   101.0, -1.5410, 32.9220,2,-999.0000,9,   336.1,2,   340.5,2,   10.04,2,    7.09,2,    0.00,2,    1.08,2,  -999.0,9,  -999.0,9,-999.000,9,-999.000,-999.0000,9, -999.00,9, -999.00, -1.5430,-999.0000,   0.020,2,-999.000,9,-999.000,9,    0.02,2,0.01,2, -999.00,9,49,551
32L919920715,30,1,10,2,19920729,80.0760,-15.8120,363,   151.0, -0.5240, 34.1640,2,-999.0000,9,   301.5,2,   300.0,2,    8.93,2,   12.10,2,    0.01,2,    0.98,2,  -999.0,9,  -999.0,9,-999.000,9,-999.000,-999.0000,9, -999.00,9, -999.00, -0.5287,-999.0000,   0.029,2,-999.000,9,-999.000,9,    0.06,2,0.01,2, -999.00,9,49,550
32L919920715,30,1,9,2,19920729,80.0760,-15.8120,363,   201.0,  0.1460, 34.5150,2,-999.0000,9,   286.5,2,   289.6,2,    9.03,2,   13.17,2,    0.00,2,    0.98,2,  -999.0,9,  -999.0,9,-999.000,9,-999.000,-999.0000,9, -999.00,9, -999.00,  0.1384,-999.0000,   0.000,2,-999.000,9,-999.000,9,    0.31,2,0.09,2, -999.00,9,49,549
32L919920715,30,1,8,2,19920729,80.0760,-15.8120,363,   250.0,  0.5200, 34.6880,2,-999.0000,9,   283.4,2,   286.5,2,    9.12,2,   13.43,2,    0.00,2,    0.99,2,  -999.0,9,  -999.0,9,-999.000,9,-999.000,-999.0000,9, -999.00,9, -999.00,  0.5095,-999.0000,   0.010,2,-999.000,9,-999.000,9, -999.00,9,-999.00,9, -999.00,9,49,548
32L919920715,30,1,7,2,19920729,80.0760,-15.8120,363,   320.0,  0.6180, 34.7270,2, 34.7410,2,   279.9,2,   285.5,2,    9.27,2,   13.63,2,    0.00,2,    1.00,2,  -999.0,9,  -999.0,9,-999.000,9,-999.000,-999.0000,9, -999.00,9, -999.00,  0.6041,-999.0000,   0.000,2,-999.000,9,-999.000,9, -999.00,9,-999.00,9, -999.00,9,49,547
32L919920715,30,1,6,2,19920729,80.0760,-15.8120,363,   353.0,  0.5070, 34.7230,2,-999.0000,9,   265.1,2,   283.6,2,    9.78,2,   13.64,2,    0.00,2,    1.00,2,  -999.0,9,  -999.0,9,-999.000,9,-999.000,-999.0000,9, -999.00,9, -999.00,  0.4919,-999.0000,   0.010,2,-999.000,9,-999.000,9, -999.00,9,-999.00,9, -999.00,9,49,546
32L919920715,31,1,5,2,19920729,80.0500,-15.5050,284,     2.0, -0.7630, 32.0830,2,-999.0000,9,   402.9,2,   406.9,2,    4.64,2,   -0.01,2,    0.00,2,    0.79,2,  -999.0,9,  -999.0,9,-999.000,9,-999.000,-999.0000,9, -999.00,9, -999.00, -0.7630,-999.0000,   0.107,2,  24.177,2,   3.184,2,    5.46,2,0.29,2,53000.00,2,50,569
32L919920715,31,1,4,2,19920729,80.0500,-15.5050,284,     5.0, -1.0000, 32.1150,2,-999.0000,9,   395.0,2,   398.8,2,    5.63,2,    0.04,2,    0.00,2,    0.83,2,  -999.0,9,  -999.0,9,-999.000,9,-999.000,-999.0000,9, -999.00,9, -999.00, -1.0001,-999.0000,   0.117,2,  26.460,2,   4.550,2,    5.28,2,0.33,2,59300.00,2,50,568
32L919920715,31,1,3,2,19920729,80.0500,-15.5050,284,     9.0, -1.2360, 32.1370,2,-999.0000,9,   378.8,2,   393.7,2,    6.20,2,    0.32,2,    0.00,2,    0.87,2,  -999.0,9,  -999.0,9,-999.000,9,-999.000,-999.0000,9, -999.00,9, -999.00, -1.2362,-999.0000,   0.098,2,  28.645,2,   5.656,2,    6.46,2,0.19,2,37100.00,2,50,567
32L919920715,31,1,2,2,19920729,80.0500,-15.5050,284,    15.0, -1.4490, 32.2840,2,-999.0000,9,   373.4,2,   372.0,2,    8.60,2,    3.06,2,    0.01,2,    1.05,2,  -999.0,9,  -999.0,9,-999.000,9,-999.000,-999.0000,9, -999.00,9, -999.00, -1.4493,-999.0000,   0.078,2,   5.741,2,   1.338,2,    2.05,2,0.08,2,23400.00,2,50,566
32L919920715,31,1,1,2,19920729,80.0500,-15.5050,284,    25.0, -1.5450, 32.2870,2,-999.0000,9,   369.4,2,   371.1,2,    8.83,2,    3.48,2,    0.01,2,    1.06,2,  -999.0,9,  -999.0,9,-999.000,9,-999.000,-999.0000,9, -999.00,9, -999.00, -1.5454,-999.0000,   0.068,2,   3.609,2,   0.578,2,    1.36,2,0.17,2,34800.00,2,50,565
32L919920715,31,1,12,2,19920729,80.0500,-15.5050,284,    38.0, -1.6260, 32.3130,2,-999.0000,9,   327.6,3,   368.6,2,    9.04,2,    3.82,2,    0.01,2,    1.13,2,  -999.0,9,  -999.0,9,-999.000,9,-999.000,-999.0000,9, -999.00,9, -999.00, -1.6266,-999.0000,   0.078,2,   1.690,2,   0.293,2,    0.88,2,0.12,2,25600.00,2,50,564
32L919920715,31,1,11,2,19920729,80.0500,-15.5050,284,    57.0, -1.7440, 32.3490,2,-999.0000,9,   341.4,2,   364.1,2,    9.50,2,    4.34,2,    0.00,2,    1.15,2,  -999.0,9,  -999.0,9,-999.000,9,-999.000,-999.0000,9, -999.00,9, -999.00, -1.7449,-999.0000,   0.059,2,   1.060,2,   0.043,2,    0.03,2,0.01,2,23200.00,2,50,563
32L919920715,31,1,10,2,19920729,80.0500,-15.5050,284,    74.0, -1.7150, 32.4470,2,-999.0000,9,   355.9,2,   358.4,2,    9.99,2,    4.96,2,    0.00,2,    1.09,2,  -999.0,9,  -999.0,9,-999.000,9,-999.000,-999.0000,9, -999.00,9, -999.00, -1.7162,-999.0000,   0.049,2,   1.597,2,   0.063,2,    0.01,2,0.01,2, -999.00,9,50,562
32L919920715,31,1,9,2,19920729,80.0500,-15.5050,284,   101.0, -1.5290, 32.9610,2,-999.0000,9,   335.8,2,   338.7,2,   10.12,2,    7.35,2,    0.00,2,    1.05,2,  -999.0,9,  -999.0,9,-999.000,9,-999.000,-999.0000,9, -999.00,9, -999.00, -1.5310,-999.0000,   0.068,2,  -0.042,2,   0.047,2,    0.22,2,0.00,2, -999.00,9,50,561
32L919920715,31,1,8,2,19920729,80.0500,-15.5050,284,   151.0, -0.3700, 34.1670,2,-999.0000,9,   300.2,2,   300.4,2,    8.95,2,   12.04,2,    0.00,2,    1.00,2,  -999.0,9,  -999.0,9,-999.000,9,-999.000,-999.0000,9, -999.00,9, -999.00, -0.3749,-999.0000,   0.068,2,  -1.365,2,   0.030,2,    0.14,2,0.03,2, -999.00,9,50,560
32L919920715,31,1,7,2,19920729,80.0500,-15.5050,284,   201.0,  0.2000, 34.5560,2, 34.5910,2,   271.4,2,   289.0,2,    8.91,2,   13.23,2,    0.00,2,    1.22,2,  -999.0,9,  -999.0,9,-999.000,9,-999.000,-999.0000,9, -999.00,9, -999.00,  0.1922,-999.0000,   0.049,2,   0.709,2,   0.094,2,    0.06,2,0.01,2, -999.00,9,50,559
32L919920715,31,1,6,2,19920729,80.0500,-15.5050,284,   274.0,  0.6130, 34.7280,2,-999.0000,9,   284.1,2,   287.2,2,    9.29,2,   13.49,2,    0.01,2,    1.00,2,  -999.0,9,  -999.0,9,-999.000,9,-999.000,-999.0000,9, -999.00,9, -999.00,  0.6012,-999.0000,   0.049,2,-999.000,9,-999.000,9, -999.00,9,-999.00,9, -999.00,9,50,558
32L919920715,32,1,5,2,19920729,80.0250,-15.1370,243,     2.0,  0.2580, 32.2720,2,-999.0000,9,   383.7,2,   382.6,2,    2.17,2,    1.16,2,    0.02,2,    0.88,2,  -999.0,9,  -999.0,9,-999.000,9,-999.000,-999.0000,9, -999.00,9, -999.00,  0.2579,-999.0000,   0.020,2,-999.000,9,-999.000,9,    0.38,2,0.03,2, -999.00,9,51,581
32L919920715,32,1,4,2,19920729,80.0250,-15.1370,243,     9.0,  0.2040, 32.2650,2,-999.0000,9,   372.8,2,   374.3,2,    7.80,2,    2.66,2,    0.02,2,    0.98,2,  -999.0,9,  -999.0,9,-999.000,9,-999.000,-999.0000,9, -999.00,9, -999.00,  0.2037,-999.0000,   0.029,2,-999.000,9,-999.000,9,    1.78,2,0.03,2, -999.00,9,51,580
32L919920715,32,1,3,2,19920729,80.0250,-15.1370,243,    19.0, -0.7850, 32.2830,2,-999.0000,9,   363.8,2,   369.4,2,    8.29,2,    3.78,2,    0.02,2,    1.02,2,  -999.0,9,  -999.0,9,-999.000,9,-999.000,-999.0000,9, -999.00,9, -999.00, -0.7855,-999.0000,   0.039,2,-999.000,9,-999.000,9,    0.66,2,0.05,2, -999.00,9,51,579
32L919920715,32,1,2,2,19920729,80.0250,-15.1370,243,    35.0, -1.6860, 32.3110,2,-999.0000,9,   359.9,2,   367.2,2,    8.61,2,    4.22,2,    0.02,2,    1.04,2,  -999.0,9,  -999.0,9,-999.000,9,-999.000,-999.0000,9, -999.00,9, -999.00, -1.6866,-999.0000,   0.049,2,-999.000,9,-999.000,9,    0.12,2,0.05,2, -999.00,9,51,578
32L919920715,32,1,1,2,19920729,80.0250,-15.1370,243,    49.0, -1.7370, 32.3430,2,-999.0000,9,   361.2,2,   366.2,2,    9.11,2,    4.39,2,    0.01,2,    1.06,2,  -999.0,9,  -999.0,9,-999.000,9,-999.000,-999.0000,9, -999.00,9, -999.00, -1.7378,-999.0000,   0.039,2,-999.000,9,-999.000,9,    0.04,2,0.03,2, -999.00,9,51,577
32L919920715,32,1,12,2,19920729,80.0250,-15.1370,243,    75.0, -1.7260, 32.4240,2,-999.0000,9,   359.1,2,   360.2,2,    9.83,2,    5.13,2,    0.01,2,    1.07,2,  -999.0,9,  -999.0,9,   7.040,2,   0.106,  1.8750,2,    2.20,2,    0.20, -1.7272,-999.0000,   0.059,2,-999.000,9,-999.000,9,    0.01,2,0.12,2, -999.00,9,51,576
32L919920715,32,1,11,2,19920729,80.0250,-15.1370,243,   102.0, -1.5710, 32.8590,2,-999.0000,9,   342.1,2,   344.6,2,   10.48,2,    7.12,2,    0.01,2,    1.01,2,  -999.0,9,  -999.0,9,-999.000,9,-999.000,-999.0000,9, -999.00,9, -999.00, -1.5729,-999.0000,   0.078,2,-999.000,9,-999.000,9,    0.02,2,0.03,2, -999.00,9,51,575
32L919920715,32,1,10,2,19920729,80.0250,-15.1370,243,   121.0, -1.4080, 33.3530,2,-999.0000,9,   326.2,2,   330.8,2,    9.82,2,    8.61,2,    0.01,2,    0.96,2,  -999.0,9,  -999.0,9,-999.000,9,-999.000,-999.0000,9, -999.00,9, -999.00, -1.4106,-999.0000,   0.088,2,-999.000,9,-999.000,9,    0.01,2,0.02,2, -999.00,9,51,574
32L919920715,32,1,9,2,19920729,80.0250,-15.1370,243,   161.0, -0.4210, 34.2690,2,-999.0000,9,   297.8,2,   298.3,2,    8.57,2,   13.14,2,    0.02,2,    0.96,2,  -999.0,9,  -999.0,9,-999.000,9,-999.000,-999.0000,9, -999.00,9, -999.00, -0.4262,-999.0000,   0.117,2,-999.000,9,-999.000,9,    0.01,2,0.02,2, -999.00,9,51,573
32L919920715,32,1,8,2,19920729,80.0250,-15.1370,243,   200.0,  0.1530, 34.5460,2,-999.0000,9,   287.6,2,   289.8,2,    8.91,2,   13.33,2,    0.02,2,    0.98,2,  -999.0,9,  -999.0,9,-999.000,9,-999.000,-999.0000,9, -999.00,9, -999.00,  0.1454,-999.0000,   0.020,2,-999.000,9,-999.000,9,    0.01,2,0.01,2, -999.00,9,51,572
32L919920715,32,1,7,2,19920729,80.0250,-15.1370,243,   220.0,  0.3340, 34.6230,2,-999.0000,9,   285.3,2,   287.2,2,    9.24,2,   13.50,2,    0.02,2,    0.99,2,  -999.0,9,  -999.0,9,   2.520,2,   0.038,  1.9740,2,    8.90,2,    0.20,  0.3252,-999.0000,   0.010,2,-999.000,9,-999.000,9,    0.02,2,0.02,2, -999.00,9,51,571
32L919920715,32,1,6,2,19920729,80.0250,-15.1370,243,   233.0,  0.3270, 34.6240,2,-999.0000,9,   289.2,2,   289.4,2,    9.23,2,   13.54,2,    0.01,2,    0.98,2,  -999.0,9,  -999.0,9,-999.000,9,-999.000,-999.0000,9, -999.00,9, -999.00,  0.3177,-999.0000,   0.010,2,-999.000,9,-999.000,9, -999.00,9,-999.00,9, -999.00,9,51,570
32L919920715,33,1,5,2,19920729,79.9850,-14.7890,158,     2.0, -0.4630, 32.3110,2,-999.0000,9,   377.8,2,   367.6,2,    7.99,2,    3.67,2,    0.02,2,    1.02,2,  -999.0,9,  -999.0,9,-999.000,9,-999.000,-999.0000,9, -999.00,9, -999.00, -0.4631,-999.0000,   0.029,2,   4.472,2,   0.953,2,    0.25,2,0.07,2,39300.00,2,52,593
32L919920715,33,1,4,2,19920729,79.9850,-14.7890,158,     9.0, -0.4730, 32.3090,2,-999.0000,9,   370.4,2,   367.9,2,    7.99,2,    3.70,2,    0.02,2,    1.02,2,  -999.0,9,  -999.0,9,-999.000,9,-999.000,-999.0000,9, -999.00,9, -999.00, -0.4732,-999.0000,   0.020,2,   2.385,2,   0.502,2,    0.66,2,0.13,2,40200.00,2,52,592
32L919920715,33,1,3,2,19920729,79.9850,-14.7890,158,    16.0, -0.8150, 32.3180,2,-999.0000,9,   363.9,2,   368.7,2,    8.01,2,    3.73,2,    0.02,2,    1.03,2,  -999.0,9,  -999.0,9,-999.000,9,-999.000,-999.0000,9, -999.00,9, -999.00, -0.8154,-999.0000,   0.029,2,   3.310,2,   0.401,2,    2.29,2,1.07,2,47400.00,2,52,591
32L919920715,33,1,2,2,19920729,79.9850,-14.7890,158,    25.0, -1.4870, 32.3140,2,-999.0000,9,   368.5,2,   368.4,2,    7.94,2,    3.76,2,    0.01,2,    1.03,2,  -999.0,9,  -999.0,9,-999.000,9,-999.000,-999.0000,9, -999.00,9, -999.00, -1.4874,-999.0000,   0.039,2,   2.179,2,   0.421,2,    0.31,2,0.09,2,41800.00,2,52,590
32L919920715,33,1,1,2,19920729,79.9850,-14.7890,158,    38.0, -1.6560, 32.3220,2,-999.0000,9,   351.5,2,   367.5,2,    8.25,2,    4.02,2,    0.01,2,    1.07,2,  -999.0,9,  -999.0,9,-999.000,9,-999.000,-999.0000,9, -999.00,9, -999.00, -1.6566,-999.0000,   0.020,2,   2.618,2,   0.273,2,    0.59,2,0.14,2,32300.00,2,52,589
32L919920715,33,1,12,2,19920729,79.9850,-14.7890,158,    60.0, -1.7350, 32.3710,2,-999.0000,9,   360.5,2,   365.1,2,    8.86,2,    4.47,2,    0.00,2,    1.10,2,  -999.0,9,  -999.0,9,-999.000,9,-999.000,-999.0000,9, -999.00,9, -999.00, -1.7360,-999.0000,   0.029,2,   0.967,2,   0.204,2,    0.14,2,0.05,2,24900.00,2,52,588
32L919920715,33,1,11,2,19920729,79.9850,-14.7890,158,    90.0, -1.6730, 32.5270,2,-999.0000,9,   353.7,2,   357.1,2,    9.32,2,    8.29,2,    0.00,2,    1.08,2,  -999.0,9,  -999.0,9,-999.000,9,-999.000,-999.0000,9, -999.00,9, -999.00, -1.6746,-999.0000,   0.020,2,   1.128,2,   0.154,2,    0.52,2,0.07,2,24500.00,2,52,587
32L919920715,33,1,10,2,19920729,79.9850,-14.7890,158,   101.0, -1.5960, 32.7360,2,-999.0000,9,   349.1,2,   348.5,2,    9.92,2,    6.31,2,    0.00,2,    1.07,2,  -999.0,9,  -999.0,9,-999.000,9,-999.000,-999.0000,9, -999.00,9, -999.00, -1.5979,-999.0000,   0.020,2,   0.850,2,   0.147,2,    0.02,2,0.01,2, -999.00,9,52,586
32L919920715,33,1,9,2,19920729,79.9850,-14.7890,158,   121.0, -1.4730, 33.1150,2,-999.0000,9,   333.4,2,   337.8,2,   10.20,2,    7.74,2,    0.01,2,    1.04,2,  -999.0,9,  -999.0,9,-999.000,9,-999.000,-999.0000,9, -999.00,9, -999.00, -1.4755,-999.0000,   0.020,2,   1.040,2,   0.133,2,    0.01,2,0.01,2, -999.00,9,52,585
32L919920715,33,1,8,2,19920729,79.9850,-14.7890,158,   131.0, -1.3840, 33.3800,2,-999.0000,9,   328.7,2,   328.3,2,    9.76,2,    8.84,2,    0.01,2,    1.01,2,  -999.0,9,  -999.0,9,-999.000,9,-999.000,-999.0000,9, -999.00,9, -999.00, -1.3869,-999.0000,   0.029,2,   1.148,2,-999.000,9,    0.07,2,0.02,2, -999.00,9,52,584
32L919920715,33,1,7,2,19920729,79.9850,-14.7890,158,   139.0, -1.2900, 33.5960,2, 33.7160,2,   326.4,2,   320.1,2,    9.34,2,    9.86,2,    0.00,2,    1.00,2,  -999.0,9,  -999.0,9,-999.000,9,-999.000,-999.0000,9, -999.00,9, -999.00, -1.2933,-999.0000,   0.010,2,   0.113,2,-999.000,9,    0.03,2,0.02,2, -999.00,9,52,583
32L919920715,33,1,6,2,19920729,79.9850,-14.7890,158,   148.0, -1.0370, 33.8480,2,-999.0000,9,   323.0,2,   330.1,2,    9.70,2,    8.91,2,    0.00,2,    1.00,2,  -999.0,9,  -999.0,9,-999.000,9,-999.000,-999.0000,9, -999.00,9, -999.00, -1.0409,-999.0000,   0.020,2,   0.137,2,-999.000,9,    0.02,2,0.02,2, -999.00,9,52,582