BOTTLE,20220816CCHSIOAMB
EXPOCODE,STNNBR,CASTNO,BTLNBR,BTLNBR_FLAG_W,DATE,LATITUDE,LONGITUDE,DEPTH,CTDPRS,CTDTMP,CTDSAL,CTDSAL_FLAG_W,SALNTY,SALNTY_FLAG_W,CTDOXY,CTDOXY_FLAG_W,OXYGEN,OXYGEN_FLAG_W,SILCAT,SILCAT_FLAG_W,NITRAT,NITRAT_FLAG_W,NITRIT,NITRIT_FLAG_W,PHSPHT,PHSPHT_FLAG_W,TCARBN,TCARBN_FLAG_W,ALKALI,ALKALI_FLAG_W,TRITUM,TRITUM_FLAG_W,TRITER,HELIUM,HELIUM_FLAG_W,DELHE3,DELHE3_FLAG_W,DELHER,THETA,SOMSAL,AMMONI,AMMONI_FLAG_W,POC,POC_FLAG_W,PON,PON_FLAG_W,CHLORA,CHLORA_FLAG_W,PHAEO,PHAEO_FLAG_W,BACT,BACT_FLAG_W,STNNBR_U,BNLID
,,,,,,,,METERS,DBAR,ITS-90,PSS-78,,PSS-78,,UMOL/KG,,UMOL/KG,,UMOL/KG,,UMOL/KG,,UMOL/KG,,UMOL/KG,,UMOL/KG,,UMOL/KG,,TU,,TU,NMOL/KG,,PERCNT,,PERCNT,DEG C,PSS-78,UMOL/KG,,UG/KG,,UG/KG,,UG/KG,,UG/L,,E8/L,,,
32L919920715,26,1,5,2,19920728,80.3370,-14.4660,353,     2.0,  1.8070, 31.3160,2,-999.0000,9,   391.2,2,   376.6,2,    1.60,2,   -0.01,2,    0.00,2,    0.83,2,  -999.0,9,  -999.0,9,-999.000,9,-999.000,-999.0000,9, -999.00,9, -999.00,  1.8069,-999.0000,  -0.010,2,-999.000,9,-999.000,9,    1.23,2,0.09,2, -999.00,9,44,509
32L919920715,26,1,4,2,19920728,80.3370,-14.4660,353,     9.0,  1.7350, 31.3480,2, 31.9670,2,   398.0,2,   390.3,2,    4.41,2,    0.60,2,    0.01,2,    1.06,2,  -999.0,9,  -999.0,9,-999.000,9,-999.000,-999.0000,9, -999.00,9, -999.00,  1.7346,-999.0000,   0.020,2,-999.000,9,-999.000,9,    4.99,2,0.69,2, -999.00,9,44,508
32L919920715,26,1,3,2,19920728,80.3370,-14.4660,353,    20.0, -1.3170, 32.3200,2,-999.0000,9,   377.6,2,   373.1,2,    8.24,2,    3.02,2,    0.02,2,    1.07,2,  -999.0,9,  -999.0,9,-999.000,9,-999.000,-999.0000,9, -999.00,9, -999.00, -1.3174,-999.0000,   0.020,2,-999.000,9,-999.000,9,    2.70,2,0.46,2, -999.00,9,44,507
32L919920715,26,1,2,2,19920728,80.3370,-14.4660,353,    35.0, -1.7370, 32.3280,2, 32.3270,2,   368.8,2,   366.7,2,    9.03,2,    3.93,2,    0.01,2,    1.12,2,  -999.0,9,  -999.0,9,-999.000,9,-999.000,-999.0000,9, -999.00,9, -999.00, -1.7376,-999.0000,   0.000,2,-999.000,9,-999.000,9,    0.23,2,0.07,2, -999.00,9,44,506
32L919920715,26,1,1,2,19920728,80.3370,-14.4660,353,    62.0, -1.7480, 32.3550,2,-999.0000,9,   367.5,2,   366.0,2,    9.27,2,    4.06,2,    0.01,2,    1.13,2,  -999.0,9,  -999.0,9,   7.540,2,   0.113,  1.8680,2,    3.60,2,    0.20, -1.7490,-999.0000,   0.010,2,-999.000,9,-999.000,9,    0.05,2,0.04,2, -999.00,9,44,505
32L919920715,26,1,12,2,19920728,80.3370,-14.4660,353,    92.0, -1.6910, 32.5070,2, 32.5480,2,   355.1,2,  -999.0,9,    9.67,2,    5.02,2,    0.01,2,    1.12,2,  -999.0,9,  -999.0,9,-999.000,9,-999.000,-999.0000,9, -999.00,9, -999.00, -1.6926,-999.0000,   0.000,2,-999.000,9,-999.000,9,    0.03,2,0.03,2, -999.00,9,44,504
32L919920715,26,1,11,2,19920728,80.3370,-14.4660,353,   121.0, -1.4400, 33.3860,2, 33.3800,2,   328.7,2,   331.2,2,    9.78,2,    7.91,2,    0.01,2,    1.01,2,  -999.0,9,  -999.0,9,-999.000,9,-999.000,-999.0000,9, -999.00,9, -999.00, -1.4426,-999.0000,   0.020,2,-999.000,9,-999.000,9,    0.03,2,0.09,2, -999.00,9,44,503
32L919920715,26,1,10,2,19920728,80.3370,-14.4660,353,   161.0, -0.5690, 34.1900,2,-999.0000,9,   301.8,2,   300.2,2,    8.79,2,   11.55,2,    0.01,2,    1.00,2,  -999.0,9,  -999.0,9,-999.000,9,-999.000,-999.0000,9, -999.00,9, -999.00, -0.5740,-999.0000,   0.049,2,-999.000,9,-999.000,9,    0.01,2,0.01,2, -999.00,9,44,502
32L919920715,26,1,9,2,19920728,80.3370,-14.4660,353,   200.0,  0.0920, 34.5080,2, 34.5050,2,   290.5,2,   289.6,2,    9.16,2,   12.49,2,    0.02,2,    1.01,2,  -999.0,9,  -999.0,9,-999.000,9,-999.000,-999.0000,9, -999.00,9, -999.00,  0.0845,-999.0000,   0.049,2,-999.000,9,-999.000,9, -999.00,9,-999.00,9, -999.00,9,44,501
32L919920715,26,1,8,2,19920728,80.3370,-14.4660,353,   249.0,  0.4060, 34.6790,2,-999.0000,9,   287.8,2,   285.9,2,    9.15,2,   12.83,2,    0.01,2,    1.00,2,  -999.0,9,  -999.0,9,   2.640,2,   0.040,  1.9150,2,    8.40,2,    0.20,  0.3958,-999.0000,   0.049,2,-999.000,9,-999.000,9, -999.00,9,-999.00,9, -999.00,9,44,500
32L919920715,26,1,7,2,19920728,80.3370,-14.4660,353,   298.0,  0.4110, 34.7540,2, 34.7600,2,   285.5,2,   282.8,2,    9.75,2,   12.86,2,    0.02,2,    1.01,2,  -999.0,9,  -999.0,9,-999.000,9,-999.000,-999.0000,9, -999.00,9, -999.00,  0.3986,-999.0000,   0.049,2,-999.000,9,-999.000,9, -999.00,9,-999.00,9, -999.00,9,44,499
32L919920715,26,1,6,2,19920728,80.3370,-14.4660,353,   343.0,  0.4130, 34.7570,2, 34.7690,2,   289.8,2,   284.5,2,    9.81,2,   12.87,2,    0.02,2,    1.01,2,  -999.0,9,  -999.0,9,-999.000,9,-999.000,-999.0000,9, -999.00,9, -999.00,  0.3986,-999.0000,   0.059,2,-999.000,9,-999.000,9, -999.00,9,-999.00,9, -999.00,9,44,498
32L919920715,27,1,5,2,19920728,80.1960,-15.2840,280,     2.0,  0.4580, 32.2840,2,-999.0000,9,   396.9,2,   375.6,2,    7.55,2,    1.54,2,    0.01,2,    0.95,2,  -999.0,9,  -999.0,9,-999.000,9,-999.000,-999.0000,9, -999.00,9, -999.00,  0.4579,-999.0000,   0.010,2,-999.000,9,-999.000,9,    2.94,2,0.04,2, -999.00,9,45,521
32L919920715,27,1,4,2,19920728,80.1960,-15.2840,280,    13.0,  0.4510, 32.2810,2,-999.0000,9,   378.5,2,   380.1,2,    7.32,2,    1.72,2,    0.01,2,    0.95,2,  -999.0,9,  -999.0,9,-999.000,9,-999.000,-999.0000,9, -999.00,9, -999.00,  0.4505,-999.0000,   0.029,2,-999.000,9,-999.000,9,    2.70,2,0.14,2, -999.00,9,45,520
32L919920715,27,1,3,2,19920728,80.1960,-15.2840,280,    23.0, -1.5910, 32.3150,2,-999.0000,9,   373.3,2,   372.2,2,    7.82,2,    3.14,2,    0.02,2,    1.03,2,  -999.0,9,  -999.0,9,-999.000,9,-999.000,-999.0000,9, -999.00,9, -999.00, -1.5914,-999.0000,   0.010,2,-999.000,9,-999.000,9,    1.12,2,0.24,2, -999.00,9,45,519
32L919920715,27,1,2,2,19920728,80.1960,-15.2840,280,    38.0, -1.5730, 32.3460,2,-999.0000,9,   374.9,2,   370.8,2,    6.98,2,    3.04,2,    0.02,2,    1.02,2,  -999.0,9,  -999.0,9,-999.000,9,-999.000,-999.0000,9, -999.00,9, -999.00, -1.5737,-999.0000,   0.078,2,-999.000,9,-999.000,9,    1.94,2,0.32,2, -999.00,9,45,518
32L919920715,27,1,1,2,19920728,80.1960,-15.2840,280,    62.0, -1.7050, 32.3920,2,-999.0000,9,   363.7,2,   360.2,2,    7.54,2,    4.04,2,    0.04,2,    1.06,2,  -999.0,9,  -999.0,9,-999.000,9,-999.000,-999.0000,9, -999.00,9, -999.00, -1.7060,-999.0000,   0.078,2,-999.000,9,-999.000,9,    0.82,2,0.34,2, -999.00,9,45,517
32L919920715,27,1,12,2,19920728,80.1960,-15.2840,280,    92.0, -1.6540, 32.6030,2,-999.0000,9,   353.5,2,   352.3,2,    9.53,2,    5.35,2,    0.01,2,    1.06,2,  -999.0,9,  -999.0,9,-999.000,9,-999.000,-999.0000,9, -999.00,9, -999.00, -1.6556,-999.0000,   0.020,2,-999.000,9,-999.000,9,    0.26,2,0.10,2, -999.00,9,45,516
32L919920715,27,1,11,2,19920728,80.1960,-15.2840,280,   122.0, -1.4780, 33.1240,2,-999.0000,9,   336.7,2,   338.0,2,    9.95,2,    6.98,2,    0.00,2,    1.02,2,  -999.0,9,  -999.0,9,-999.000,9,-999.000,-999.0000,9, -999.00,9, -999.00, -1.4805,-999.0000,   0.039,2,-999.000,9,-999.000,9,    0.06,2,0.04,2, -999.00,9,45,515
32L919920715,27,1,10,2,19920728,80.1960,-15.2840,280,   161.0, -1.0270, 33.9020,2,-999.0000,9,   312.9,2,   312.5,2,    8.84,2,   10.11,2,   -0.01,2,    1.03,2,  -999.0,9,  -999.0,9,-999.000,9,-999.000,-999.0000,9, -999.00,9, -999.00, -1.0313,-999.0000,   0.039,2,-999.000,9,-999.000,9, -999.00,9,-999.00,9, -999.00,9,45,514
32L919920715,27,1,9,2,19920728,80.1960,-15.2840,280,   201.0,  0.1280, 34.5290,2,-999.0000,9,   293.2,2,   290.0,2,    8.89,2,   12.61,2,   -0.01,2,    1.05,2,  -999.0,9,  -999.0,9,-999.000,9,-999.000,-999.0000,9, -999.00,9, -999.00,  0.1204,-999.0000,   0.059,2,-999.000,9,-999.000,9, -999.00,9,-999.00,9, -999.00,9,45,513
32L919920715,27,1,8,2,19920728,80.1960,-15.2840,280,   220.0,  0.2550, 34.5900,2,-999.0000,9,   289.9,2,   289.0,2,    8.93,2,   12.74,2,   -0.01,2,    1.05,2,  -999.0,9,  -999.0,9,-999.000,9,-999.000,-999.0000,9, -999.00,9, -999.00,  0.2464,-999.0000,   0.049,2,-999.000,9,-999.000,9, -999.00,9,-999.00,9, -999.00,9,45,512
32L919920715,27,1,7,2,19920728,80.1960,-15.2840,280,   239.0,  0.4050, 34.6530,2, 34.6520,2,   288.3,2,   287.0,2,    9.04,2,   12.81,2,    0.00,2,    1.05,2,  -999.0,9,  -999.0,9,-999.000,9,-999.000,-999.0000,9, -999.00,9, -999.00,  0.3953,-999.0000,   0.059,2,-999.000,9,-999.000,9, -999.00,9,-999.00,9, -999.00,9,45,511
32L919920715,27,1,6,2,19920728,80.1960,-15.2840,280,   270.0,  0.5100, 34.6960,2,-999.0000,9,   293.5,2,   288.5,2,    9.28,2,   12.97,2,    0.00,2,    1.06,2,  -999.0,9,  -999.0,9,-999.000,9,-999.000,-999.0000,9, -999.00,9, -999.00,  0.4987,-999.0000,   0.078,2,-999.000,9,-999.000,9, -999.00,9,-999.00,9, -999.00,9,45,510
32L919920715,28,1,5,2,19920728,80.0140,-15.9440,427,     2.0, -1.2330, 32.1870,2,-999.0000,9,   387.5,2,  -999.0,9,    7.77,2,    2.25,2,    0.04,2,    0.97,2,  -999.0,9,  -999.0,9,-999.000,9,-999.000,-999.0000,9, -999.00,9, -999.00, -1.2330,-999.0000,   0.195,2,-999.000,9,-999.000,9, -999.00,9,-999.00,9, -999.00,9,46,533
32L919920715,28,1,4,2,19920728,80.0140,-15.9440,427,    26.0, -1.7190, 32.2590,2,-999.0000,9,   368.3,2,  -999.0,9,    8.56,2,    3.75,2,    0.04,2,    1.07,2,  -999.0,9,  -999.0,9,-999.000,9,-999.000,-999.0000,9, -999.00,9, -999.00, -1.7194,-999.0000,   0.146,2,-999.000,9,-999.000,9, -999.00,9,-999.00,9, -999.00,9,46,532
32L919920715,28,1,3,2,19920728,80.0140,-15.9440,427,    30.0, -1.7440, 32.2800,2,-999.0000,9,   369.6,2,  -999.0,9,    8.52,2,    3.73,2,    0.04,2,    1.06,2,  -999.0,9,  -999.0,9,-999.000,9,-999.000,-999.0000,9, -999.00,9, -999.00, -1.7445,-999.0000,   0.146,2,-999.000,9,-999.000,9, -999.00,9,-999.00,9, -999.00,9,46,531
32L919920715,28,1,2,2,19920728,80.0140,-15.9440,427,    75.0, -1.7390, 32.4160,2,-999.0000,9,   354.9,2,  -999.0,9,    9.98,2,    5.05,2,    0.02,2,    1.09,2,  -999.0,9,  -999.0,9,-999.000,9,-999.000,-999.0000,9, -999.00,9, -999.00, -1.7402,-999.0000,   0.156,2,-999.000,9,-999.000,9, -999.00,9,-999.00,9, -999.00,9,46,530
32L919920715,28,1,1,2,19920728,80.0140,-15.9440,427,   101.0, -1.5410, 32.9110,2,-999.0000,9,   338.0,2,  -999.0,9,   10.03,2,    7.20,2,    0.01,2,    1.02,2,  -999.0,9,  -999.0,9,-999.000,9,-999.000,-999.0000,9, -999.00,9, -999.00, -1.5430,-999.0000,   0.156,2,-999.000,9,-999.000,9, -999.00,9,-999.00,9, -999.00,9,46,529
32L919920715,28,1,12,2,19920728,80.0140,-15.9440,427,   149.0, -0.5590, 34.1830,2,-999.0000,9,   298.1,2,  -999.0,9,    8.98,2,   11.84,2,    0.02,2,    0.97,2,  -999.0,9,  -999.0,9,-999.000,9,-999.000,-999.0000,9, -999.00,9, -999.00, -0.5636,-999.0000,   0.205,2,-999.000,9,-999.000,9, -999.00,9,-999.00,9, -999.00,9,46,528
32L919920715,28,1,11,2,19920728,80.0140,-15.9440,427,   199.0,  0.1170, 34.5380,2,-999.0000,9,   288.8,2,  -999.0,9,    8.97,2,   12.91,2,    0.01,2,    0.98,2,  -999.0,9,  -999.0,9,-999.000,9,-999.000,-999.0000,9, -999.00,9, -999.00,  0.1095,-999.0000,   0.205,2,-999.000,9,-999.000,9, -999.00,9,-999.00,9, -999.00,9,46,527
32L919920715,28,1,10,2,19920728,80.0140,-15.9440,427,   251.0,  0.4930, 34.6860,2,-999.0000,9,   282.2,2,  -999.0,9,    9.19,2,   13.16,2,    0.01,2,    0.99,2,  -999.0,9,  -999.0,9,-999.000,9,-999.000,-999.0000,9, -999.00,9, -999.00,  0.4825,-999.0000,   0.195,2,-999.000,9,-999.000,9, -999.00,9,-999.00,9, -999.00,9,46,526
32L919920715,28,1,9,2,19920728,80.0140,-15.9440,427,   300.0,  0.5620, 34.7190,2,-999.0000,9,   283.4,2,  -999.0,9,    9.30,2,   13.20,2,    0.01,2,    0.99,2,  -999.0,9,  -999.0,9,-999.000,9,-999.000,-999.0000,9, -999.00,9, -999.00,  0.5492,-999.0000,   0.205,2,-999.000,9,-999.000,9, -999.00,9,-999.00,9, -999.00,9,46,525
32L919920715,28,1,8,2,19920728,80.0140,-15.9440,427,   350.0,  0.6380, 34.7410,2,-999.0000,9,   285.0,2,  -999.0,9,    9.25,2,   13.17,2,    0.00,2,    0.99,2,  -999.0,9,  -999.0,9,-999.000,9,-999.000,-999.0000,9, -999.00,9, -999.00,  0.6227,-999.0000,   0.195,2,-999.000,9,-999.000,9, -999.00,9,-999.00,9, -999.00,9,46,524
32L919920715,28,1,7,2,19920728,80.0140,-15.9440,427,   399.0,  0.5450, 34.7390,2,-999.0000,9,   282.5,2,  -999.0,9,    9.78,2,   13.64,2,    0.00,2,    1.00,2,  -999.0,9,  -999.0,9,-999.000,9,-999.000,-999.0000,9, -999.00,9, -999.00,  0.5276,-999.0000,   0.205,2,-999.000,9,-999.000,9, -999.00,9,-999.00,9, -999.00,9,46,523
32L919920715,28,1,6,2,19920728,80.0140,-15.9440,427,   417.0,  0.5530, 34.7400,2,-999.0000,9,   286.6,2,   284.5,2,    9.78,2,   13.57,2,    0.00,2,    1.00,2,  -999.0,9,  -999.0,9,-999.000,9,-999.000,-999.0000,9, -999.00,9, -999.00,  0.5348,-999.0000,   0.215,2,-999.000,9,-999.000,9, -999.00,9,-999.00,9, -999.00,9,46,522
32L919920715,29,1,5,2,19920728,80.0940,-16.1050,196,     2.0, -1.3790, 32.1390,2,-999.0000,9,   378.0,2,   375.7,2,    7.44,2,    3.04,2,    0.02,2,    0.97,2,  -999.0,9,  -999.0,9,-999.000,9,-999.000,-999.0000,9, -999.00,9, -999.00, -1.3790,-999.0000,   0.098,2,   6.039,2,   1.128,2,    2.58,2,0.27,2,57100.00,2,47,545
32L919920715,29,1,4,2,19920728,80.0940,-16.1050,196,     7.0, -1.3780, 32.1420,2,-999.0000,9,   378.3,2,   375.4,2,    7.51,2,    3.17,2,    0.02,2,    1.00,2,  -999.0,9,  -999.0,9,-999.000,9,-999.000,-999.0000,9, -999.00,9, -999.00, -1.3781,-999.0000,   0.137,2,   6.009,2,   1.229,2,    2.00,2,0.33,2,30800.00,2,47,544
32L919920715,29,1,3,2,19920728,80.0940,-16.1050,196,    12.0, -1.4730, 32.1410,2,-999.0000,9,   372.9,2,   371.1,2,    8.29,2,    3.94,2,    0.02,2,    1.02,2,  -999.0,9,  -999.0,9,-999.000,9,-999.000,-999.0000,9, -999.00,9, -999.00, -1.4732,-999.0000,   0.263,2,   4.795,2,   0.947,2,    1.88,2,0.63,2,32300.00,2,47,543
32L919920715,29,1,2,2,19920728,80.0940,-16.1050,196,    20.0, -1.7090, 32.2240,2,-999.0000,9,   369.1,2,   367.2,2,    8.83,2,    4.45,2,    0.02,2,    1.06,2,  -999.0,9,  -999.0,9,-999.000,9,-999.000,-999.0000,9, -999.00,9, -999.00, -1.7093,-999.0000,   0.068,2,   2.404,2,   0.254,2,    6.40,2,0.70,2,12300.00,2,47,542
32L919920715,29,1,1,2,19920728,80.0940,-16.1050,196,    31.0, -1.7380, 32.2580,2,-999.0000,9,   361.7,2,   365.5,2,    8.99,2,    4.73,2,    0.02,2,    1.05,2,  -999.0,9,  -999.0,9,-999.000,9,-999.000,-999.0000,9, -999.00,9, -999.00, -1.7385,-999.0000,   0.059,2,   2.705,2,   0.136,2,    1.41,2,0.59,2,26000.00,2,47,541
32L919920715,29,1,12,2,19920728,80.0940,-16.1050,196,    49.0, -1.7460, 32.3080,2,-999.0000,9,   353.1,2,   364.5,2,    9.40,2,    2.54,2,    0.02,2,    1.07,2,  -999.0,9,  -999.0,9,-999.000,9,-999.000,-999.0000,9, -999.00,9, -999.00, -1.7468,-999.0000,   0.078,2,   1.560,2,   0.138,2,    0.04,2,0.02,2,21800.00,2,47,540
32L919920715,29,1,11,2,19920728,80.0940,-16.1050,196,    75.0, -1.7380, 32.3760,2,-999.0000,9,   359.5,2,   360.5,2,    9.70,2,    4.50,2,    0.02,2,    1.08,2,  -999.0,9,  -999.0,9,-999.000,9,-999.000,-999.0000,9, -999.00,9, -999.00, -1.7392,-999.0000,   0.088,2,   0.678,2,   0.286,2,    0.05,2,0.02,2,17800.00,2,47,539
32L919920715,29,1,10,2,19920728,80.0940,-16.1050,196,    92.0, -1.6420, 32.6150,2,-999.0000,9,   346.5,2,   349.9,2,    9.91,2,    5.80,2,    0.01,2,    1.06,2,  -999.0,9,  -999.0,9,-999.000,9,-999.000,-999.0000,9, -999.00,9, -999.00, -1.6436,-999.0000,   0.059,2,   0.951,2,   0.323,2,    0.05,2,0.02,2, -999.00,9,47,538
32L919920715,29,1,9,2,19920728,80.0940,-16.1050,196,   112.0, -1.2410, 33.2840,2,-999.0000,9,   325.9,2,   328.1,2,    9.49,2,    8.55,2,    0.01,2,    1.00,2,  -999.0,9,  -999.0,9,-999.000,9,-999.000,-999.0000,9, -999.00,9, -999.00, -1.2436,-999.0000,   0.088,2,   1.530,2,   0.128,2,    0.06,2,0.03,2, -999.00,9,47,537
32L919920715,29,1,8,2,19920728,80.0940,-16.1050,196,   127.0, -0.8360, 33.7990,2,-999.0000,9,   305.0,2,   311.1,2,    9.10,2,   10.69,2,    0.01,2,    0.97,2,  -999.0,9,  -999.0,9,-999.000,9,-999.000,-999.0000,9, -999.00,9, -999.00, -0.8395,-999.0000,   0.117,2,   0.740,2,   0.045,2,    0.02,2,0.02,2, -999.00,9,47,536
32L919920715,29,1,7,2,19920728,80.0940,-16.1050,196,   152.0, -0.3240, 34.3090,2, 34.3040,2,   295.1,2,   296.9,2,    8.69,2,   12.53,2,    0.01,2,    0.96,2,  -999.0,9,  -999.0,9,-999.000,9,-999.000,-999.0000,9, -999.00,9, -999.00, -0.3290,-999.0000,   0.107,2,   1.072,2,   0.315,2,    0.04,2,0.02,2, -999.00,9,47,535
32L919920715,29,1,6,2,19920728,80.0940,-16.1050,196,   186.0,  0.0310, 34.4630,2,-999.0000,9,   302.4,2,   292.7,2,    8.88,2,   12.94,2,    0.01,2,    0.96,2,  -999.0,9,  -999.0,9,-999.000,9,-999.000,-999.0000,9, -999.00,9, -999.00,  0.0242,-999.0000,   0.137,2,-999.000,9,-999.000,9, -999.00,9,-999.00,9, -999.00,9,47,534