BOTTLE,20220816CCHSIOAMB
EXPOCODE,STNNBR,CASTNO,BTLNBR,BTLNBR_FLAG_W,DATE,LATITUDE,LONGITUDE,DEPTH,CTDPRS,CTDTMP,CTDSAL,CTDSAL_FLAG_W,SALNTY,SALNTY_FLAG_W,CTDOXY,CTDOXY_FLAG_W,OXYGEN,OXYGEN_FLAG_W,SILCAT,SILCAT_FLAG_W,NITRAT,NITRAT_FLAG_W,NITRIT,NITRIT_FLAG_W,PHSPHT,PHSPHT_FLAG_W,TCARBN,TCARBN_FLAG_W,ALKALI,ALKALI_FLAG_W,TRITUM,TRITUM_FLAG_W,TRITER,HELIUM,HELIUM_FLAG_W,DELHE3,DELHE3_FLAG_W,DELHER,THETA,SOMSAL,AMMONI,AMMONI_FLAG_W,POC,POC_FLAG_W,PON,PON_FLAG_W,CHLORA,CHLORA_FLAG_W,PHAEO,PHAEO_FLAG_W,BACT,BACT_FLAG_W,STNNBR_U,BNLID
,,,,,,,,METERS,DBAR,ITS-90,PSS-78,,PSS-78,,UMOL/KG,,UMOL/KG,,UMOL/KG,,UMOL/KG,,UMOL/KG,,UMOL/KG,,UMOL/KG,,UMOL/KG,,TU,,TU,NMOL/KG,,PERCNT,,PERCNT,DEG C,PSS-78,UMOL/KG,,UG/KG,,UG/KG,,UG/KG,,UG/L,,E8/L,,,
32L919920715,72,2,5,2,19920812,77.1530,-10.5330,499,     2.0, -0.0490, 30.1170,2, 30.1070,2,   357.7,2,   395.4,2,    1.42,2,   -0.01,2,    0.01,2,    0.62,2,  1895.0,3,  2067.0,2,-999.000,9,-999.000,-999.0000,9, -999.00,9, -999.00, -0.0491,30.0350,   0.020,2,  19.372,2,   1.876,2,    0.88,2,0.12,2,192000.00,2,116,1265
32L919920715,72,2,4,2,19920812,77.1530,-10.5330,499,     3.0, -0.0540, 30.1190,2, 30.1290,2,   374.5,2,   394.6,2,    1.40,2,    0.01,2,    0.01,2,    0.61,2,  -999.0,9,  -999.0,9,-999.000,9,-999.000,-999.0000,9, -999.00,9, -999.00, -0.0541,-999.0000,   0.029,2,  19.967,2,   2.192,2,    0.94,2,0.13,2,193000.00,2,116,1264
32L919920715,72,2,3,2,19920812,77.1530,-10.5330,499,     5.0, -0.0190, 30.1660,2, 30.1580,2,   374.1,2,   396.0,2,    1.37,2,    0.05,2,    0.00,2,    0.63,2,  -999.0,9,  -999.0,9,-999.000,9,-999.000,-999.0000,9, -999.00,9, -999.00, -0.0191,-999.0000,   0.010,2,  23.440,2,   2.570,2,    0.91,2,0.06,2,211000.00,2,116,1263
32L919920715,72,2,2,2,19920812,77.1530,-10.5330,499,     8.0,  0.0300, 30.2870,2, 30.3980,2,   380.3,2,   404.9,2,    1.26,2,    0.05,2,    0.01,2,    0.66,2,  -999.0,9,  -999.0,9,-999.000,9,-999.000,-999.0000,9, -999.00,9, -999.00,  0.0298,-999.0000,   0.039,2,  23.998,2,   2.318,2,    1.12,2,0.05,2,231000.00,2,116,1262
32L919920715,72,2,1,2,19920812,77.1530,-10.5330,499,    12.0, -0.4000, 31.7100,2, 31.7250,2,   398.9,2,   418.4,2,    4.17,2,    0.14,2,    0.01,2,    0.78,2,  -999.0,9,  -999.0,9,-999.000,9,-999.000,-999.0000,9, -999.00,9, -999.00, -0.4003,-999.0000,   0.039,2,  38.969,2,   4.704,2,    4.58,2,0.01,2,529000.00,2,116,1261
32L919920715,72,2,12,2,19920812,77.1530,-10.5330,499,    19.0, -1.1230, 32.5470,2,-999.0000,9,   358.4,2,   370.4,2,   11.47,2,    3.83,2,    0.04,2,    0.97,2,  2095.8,2,  2219.3,2,-999.000,9,-999.000,-999.0000,9, -999.00,9, -999.00, -1.1234,32.4250,   0.146,2,  18.842,2,   4.112,2,    5.52,2,0.87,2,291000.00,2,116,1260
32L919920715,72,2,11,2,19920812,77.1530,-10.5330,499,    29.0, -1.3620, 33.0280,2, 33.1150,2,   344.4,2,   350.7,2,   10.41,2,    5.85,2,    0.07,2,    0.90,2,  -999.0,9,  -999.0,9,-999.000,9,-999.000,-999.0000,9, -999.00,9, -999.00, -1.3626,-999.0000,   0.166,2,   2.315,2,   0.474,2,    0.35,2,0.25,2,132000.00,2,116,1259
32L919920715,72,2,10,2,19920812,77.1530,-10.5330,499,    90.0, -1.6110, 34.0740,2, 34.0740,2,   313.4,2,   327.7,2,    5.84,2,    9.09,2,    0.05,2,    0.96,2,  2118.5,2,  2231.5,3,-999.000,9,-999.000,-999.0000,9, -999.00,9, -999.00, -1.6129,33.9920,   0.000,2,   0.822,2,   0.110,2,    0.05,2,0.06,2, -999.00,9,116,1258
32L919920715,72,2,8,2,19920812,77.1530,-10.5330,499,   251.0,  1.3160, 34.8700,2, 34.8810,2,   293.5,2,  -999.0,9,    7.27,2,   12.42,2,    0.00,2,    0.91,2,  -999.0,9,  -999.0,9,   2.600,2,   0.039,  1.8200,2,    7.80,2,    0.20,  1.3037,-999.0000,   0.020,2,-999.000,9,-999.000,9, -999.00,9,-999.00,9, -999.00,9,116,1256
32L919920715,72,2,9,2,19920812,77.1530,-10.5330,499,   251.0,  1.3170, 34.8700,2,-999.0000,9,   251.3,3,   301.3,2,    7.24,2,   12.35,2,    0.00,2,    0.91,2,  2145.5,2,  2285.1,2,-999.000,9,-999.000,-999.0000,9, -999.00,9, -999.00,  1.3047,34.7800,   0.020,2,   1.591,2,   0.202,2,    0.05,2,0.06,2,25800.00,2,116,1257
32L919920715,72,2,7,2,19920812,77.1530,-10.5330,499,   485.0,  0.8120, 34.9010,2, 34.9130,2,   255.5,3,  -999.0,9,    9.64,2,   13.30,2,    0.01,2,    0.96,2,  2154.7,2,  2287.3,2,-999.000,9,-999.000,-999.0000,9, -999.00,9, -999.00,  0.7893,34.8270,   0.020,2,-999.000,9,-999.000,9, -999.00,9,-999.00,9, -999.00,9,116,1255
32L919920715,72,2,6,2,19920812,77.1530,-10.5330,499,   489.0,  0.8120, 34.9020,2, 34.9010,2,   287.2,2,  -999.0,9,    9.58,2,   13.23,2,    0.01,2,    0.96,2,  -999.0,9,  -999.0,9,-999.000,9,-999.000,-999.0000,9, -999.00,9, -999.00,  0.7891,-999.0000,   0.010,2,-999.000,9,-999.000,9, -999.00,9,-999.00,9, -999.00,9,116,1254
32L919920715,72,3,4,2,19920812,77.1530,-10.5330,499,     2.0, -0.0390, 30.1420,2,-999.0000,9,   386.6,2,  -999.0,9, -999.00,9, -999.00,9, -999.00,9,    0.62,2,  -999.0,9,  -999.0,9,-999.000,9,-999.000,-999.0000,9, -999.00,9, -999.00, -0.0391,-999.0000,-999.000,9,-999.000,9,-999.000,9, -999.00,9,-999.00,9, -999.00,9,117,1276
32L919920715,72,3,5,2,19920812,77.1530,-10.5330,499,     2.0, -0.0330, 30.1140,2, 30.5060,2,   393.7,2,  -999.0,9, -999.00,9, -999.00,9, -999.00,9,    0.72,2,  -999.0,9,  -999.0,9,-999.000,9,-999.000,-999.0000,9, -999.00,9, -999.00, -0.0331,-999.0000,-999.000,9,-999.000,9,-999.000,9, -999.00,9,-999.00,9, -999.00,9,117,1277
32L919920715,72,3,2,2,19920812,77.1530,-10.5330,499,    20.0, -1.2470, 32.5570,2,-999.0000,9,   355.5,2,  -999.0,9,   11.90,2,    4.76,2,    0.08,2,    1.06,2,  -999.0,9,  -999.0,9,-999.000,9,-999.000,-999.0000,9, -999.00,9, -999.00, -1.2474,-999.0000,   0.156,2,-999.000,9,-999.000,9, -999.00,9,-999.00,9, -999.00,9,117,1274
32L919920715,72,3,3,2,19920812,77.1530,-10.5330,499,    20.0, -1.1920, 32.3630,2,-999.0000,9,   358.4,2,  -999.0,9,   11.84,2,    4.95,2,    0.08,2,    1.04,2,  -999.0,9,  -999.0,9,-999.000,9,-999.000,-999.0000,9, -999.00,9, -999.00, -1.1924,-999.0000,   0.156,2,-999.000,9,-999.000,9, -999.00,9,-999.00,9, -999.00,9,117,1275
32L919920715,72,3,12,2,19920812,77.1530,-10.5330,499,    50.0, -1.3980, 33.6210,2,-999.0000,9,   325.1,2,  -999.0,9,    8.98,2,    8.40,2,    0.02,2,    0.84,2,  -999.0,9,  -999.0,9,-999.000,9,-999.000,-999.0000,9, -999.00,9, -999.00, -1.3991,-999.0000,   0.029,2,-999.000,9,-999.000,9, -999.00,9,-999.00,9, -999.00,9,117,1272
32L919920715,72,3,1,2,19920812,77.1530,-10.5330,499,    50.0, -1.3290, 33.6000,2, 33.6510,2,   323.4,2,  -999.0,9,    8.96,2,    8.40,2,    0.02,2,    0.84,2,  -999.0,9,  -999.0,9,-999.000,9,-999.000,-999.0000,9, -999.00,9, -999.00, -1.3301,-999.0000,   0.039,2,-999.000,9,-999.000,9, -999.00,9,-999.00,9, -999.00,9,117,1273
32L919920715,72,3,10,2,19920812,77.1530,-10.5330,499,   150.0, -0.7710, 34.4060,2,-999.0000,9,   310.1,2,  -999.0,9,    6.59,2,   11.18,2,    0.01,2,    0.80,2,  -999.0,9,  -999.0,9,-999.000,9,-999.000,-999.0000,9, -999.00,9, -999.00, -0.7754,-999.0000,   0.010,2,-999.000,9,-999.000,9, -999.00,9,-999.00,9, -999.00,9,117,1270
32L919920715,72,3,11,2,19920812,77.1530,-10.5330,499,   150.0, -0.8290, 34.3970,2, 34.4120,2,   305.4,2,  -999.0,9,    6.58,2,   11.17,2,    0.02,2,    0.81,2,  -999.0,9,  -999.0,9,-999.000,9,-999.000,-999.0000,9, -999.00,9, -999.00, -0.8333,-999.0000,   0.020,2,-999.000,9,-999.000,9, -999.00,9,-999.00,9, -999.00,9,117,1271
32L919920715,72,3,8,2,19920812,77.1530,-10.5330,499,   300.0,  1.1720, 34.9060,2,-999.0000,9,   295.8,2,  -999.0,9,    7.10,2,   12.81,2,    0.00,2,    0.84,2,  -999.0,9,  -999.0,9,-999.000,9,-999.000,-999.0000,9, -999.00,9, -999.00,  1.1576,-999.0000,   0.010,2,-999.000,9,-999.000,9, -999.00,9,-999.00,9, -999.00,9,117,1268
32L919920715,72,3,9,2,19920812,77.1530,-10.5330,499,   300.0,  1.1850, 34.9050,2, 34.9020,2,   290.5,2,  -999.0,9,    7.09,2,   12.81,2,    0.01,2,    0.87,2,  -999.0,9,  -999.0,9,-999.000,9,-999.000,-999.0000,9, -999.00,9, -999.00,  1.1705,-999.0000,   0.010,2,-999.000,9,-999.000,9, -999.00,9,-999.00,9, -999.00,9,117,1269
32L919920715,72,3,6,2,19920812,77.1530,-10.5330,499,   435.0,  0.8370, 34.9040,2,-999.0000,9,   290.2,2,  -999.0,9,    8.70,2,   13.04,2,    0.01,2,    0.81,2,  -999.0,9,  -999.0,9,-999.000,9,-999.000,-999.0000,9, -999.00,9, -999.00,  0.8167,-999.0000,   0.020,2,-999.000,9,-999.000,9, -999.00,9,-999.00,9, -999.00,9,117,1266
32L919920715,72,3,7,2,19920812,77.1530,-10.5330,499,   435.0,  0.8390, 34.9030,2, 34.9110,2,   291.0,2,  -999.0,9,    8.67,2,   13.22,2,    0.01,2,    0.80,2,  -999.0,9,  -999.0,9,-999.000,9,-999.000,-999.0000,9, -999.00,9, -999.00,  0.8187,-999.0000,   0.010,2,-999.000,9,-999.000,9, -999.00,9,-999.00,9, -999.00,9,117,1267
32L919920715,72,6,5,2,19920812,77.1530,-10.5330,499,     2.0,  0.0240, 30.3510,2, 30.4740,2,   375.1,2,   405.3,2,    1.96,2,    0.11,2,    0.02,2,    0.66,2,  1923.6,3,  2088.5,2,-999.000,9,-999.000,-999.0000,9, -999.00,9, -999.00,  0.0239,30.3750,   0.059,2,-999.000,9,-999.000,9,    0.91,2,0.09,2, -999.00,9,120,1313
32L919920715,72,6,4,2,19920812,77.1530,-10.5330,499,    20.0, -1.2090, 32.4390,2, 32.8480,2,   359.5,2,   367.0,2,   11.54,2,    4.23,2,    0.07,2,    1.00,2,  2103.5,2,  2218.8,2,-999.000,9,-999.000,-999.0000,9, -999.00,9, -999.00, -1.2094,32.4050,   0.185,2,-999.000,9,-999.000,9,    3.87,2,0.58,2,287000.00,2,120,1312
32L919920715,72,6,3,2,19920812,77.1530,-10.5330,499,    50.0, -1.4330, 33.6470,2, 33.6780,2,   329.9,2,   328.5,2,    9.63,2,    9.20,2,    0.03,2,    0.89,2,  2139.8,2,  -999.0,9,-999.000,9,-999.000,-999.0000,9, -999.00,9, -999.00, -1.4341,33.5560,   0.059,2,-999.000,9,-999.000,9,    0.05,2,0.09,2, -999.00,9,120,1311
32L919920715,72,6,2,2,19920812,77.1530,-10.5330,499,   100.0, -1.4420, 34.1050,2, 34.1140,2,   316.1,2,   319.8,2,    6.96,2,   10.71,2,    0.01,2,    0.83,2,  -999.0,9,  -999.0,9,-999.000,9,-999.000,-999.0000,9, -999.00,9, -999.00, -1.4443,-999.0000,   0.068,2,-999.000,9,-999.000,9,    0.05,2,0.06,2, -999.00,9,120,1310
32L919920715,72,6,1,2,19920812,77.1530,-10.5330,499,   151.0, -0.8340, 34.4120,2, 34.4340,2,   310.8,2,   308.4,2,    7.25,2,   12.01,2,    0.01,2,    0.89,2,  2129.4,2,  2261.6,2,-999.000,9,-999.000,-999.0000,9, -999.00,9, -999.00, -0.8384,34.3210,   0.059,2,-999.000,9,-999.000,9,    0.03,2,0.06,2, -999.00,9,120,1309
32L919920715,72,6,12,2,19920812,77.1530,-10.5330,499,   200.0,  0.6680, 34.7170,2, 34.7370,2,   297.3,2,   294.3,2,    8.22,2,   12.94,2,    0.00,2,    0.94,2,  -999.0,9,  -999.0,9,-999.000,9,-999.000,-999.0000,9, -999.00,9, -999.00,  0.6594,-999.0000,   0.020,2,-999.000,9,-999.000,9,    0.02,2,0.04,2, -999.00,9,120,1308
32L919920715,72,6,11,2,19920812,77.1530,-10.5330,499,   250.0,  1.3160, 34.8680,2,-999.0000,9,   295.0,2,   295.9,2,    7.60,2,   13.36,2,    0.00,2,    0.95,2,  2144.4,2,  2288.7,2,   2.600,2,   0.039,  1.8620,2,    4.20,2,    0.20,  1.3038,34.7520,   0.039,2,-999.000,9,-999.000,9, -999.00,9,-999.00,9,30800.00,2,120,1307
32L919920715,72,6,10,2,19920812,77.1530,-10.5330,499,   301.0,  1.2270, 34.9110,2, 34.9130,2,   294.5,2,   295.7,2,    7.80,2,   13.63,2,    0.00,2,    0.96,2,  -999.0,9,  -999.0,9,-999.000,9,-999.000,-999.0000,9, -999.00,9, -999.00,  1.2124,-999.0000,   0.010,2,-999.000,9,-999.000,9, -999.00,9,-999.00,9, -999.00,9,120,1306
32L919920715,72,6,9,2,19920812,77.1530,-10.5330,499,   348.0,  0.9310, 34.9050,2, 34.9190,2,   288.7,2,   293.2,2,    8.52,2,   13.78,2,    0.00,2,    0.96,2,  2149.0,2,  2284.4,2,   2.100,2,   0.031,  1.8930,2,    8.70,2,    0.20,  0.9148,34.8070,   0.000,2,-999.000,9,-999.000,9, -999.00,9,-999.00,9, -999.00,9,120,1305
32L919920715,72,6,8,2,19920812,77.1530,-10.5330,499,   400.0,  0.8230, 34.9050,2, 34.9100,2,   290.8,2,   290.7,2,    9.51,2,   13.94,2,    0.00,2,    0.99,2,  -999.0,9,  -999.0,9,-999.000,9,-999.000,-999.0000,9, -999.00,9, -999.00,  0.8045,-999.0000,   0.000,2,-999.000,9,-999.000,9, -999.00,9,-999.00,9, -999.00,9,120,1304
32L919920715,72,6,7,2,19920812,77.1530,-10.5330,499,   450.0,  0.8090, 34.9050,2, 34.9100,2,   292.0,2,   288.5,2,    9.95,2,   13.97,2,    0.01,2,    0.99,2,  -999.0,9,  -999.0,9,-999.000,9,-999.000,-999.0000,9, -999.00,9, -999.00,  0.7881,-999.0000,   0.020,2,-999.000,9,-999.000,9, -999.00,9,-999.00,9, -999.00,9,120,1303
32L919920715,72,6,6,2,19920812,77.1530,-10.5330,499,   477.0,  0.8080, 34.9050,2, 34.9030,2,   283.3,2,   289.8,2,    9.99,2,   13.98,2,    0.01,2,    1.00,2,  -999.0,9,  -999.0,9,-999.000,9,-999.000,-999.0000,9, -999.00,9, -999.00,  0.7857,-999.0000,   0.029,2,-999.000,9,-999.000,9, -999.00,9,-999.00,9, -999.00,9,120,1302
32L919920715,72,7,2,2,19920812,77.1530,-10.5330,499,     2.0,  0.0320, 30.3480,2,-999.0000,9,   387.6,2,  -999.0,9, -999.00,9, -999.00,9, -999.00,9, -999.00,9,  -999.0,9,  -999.0,9,-999.000,9,-999.000,-999.0000,9, -999.00,9, -999.00,  0.0319,-999.0000,-999.000,9,-999.000,9,-999.000,9, -999.00,9,-999.00,9, -999.00,9,121,1322
32L919920715,72,7,3,2,19920812,77.1530,-10.5330,499,     2.0,  0.0470, 30.2810,2,-999.0000,9,   351.8,2,  -999.0,9, -999.00,9, -999.00,9, -999.00,9, -999.00,9,  -999.0,9,  -999.0,9,-999.000,9,-999.000,-999.0000,9, -999.00,9, -999.00,  0.0469,-999.0000,-999.000,9,-999.000,9,-999.000,9, -999.00,9,-999.00,9, -999.00,9,121,1323
32L919920715,72,7,4,2,19920812,77.1530,-10.5330,499,     2.0,  0.0330, 30.2760,2,-999.0000,9,   327.3,2,  -999.0,9, -999.00,9, -999.00,9, -999.00,9, -999.00,9,  -999.0,9,  -999.0,9,-999.000,9,-999.000,-999.0000,9, -999.00,9, -999.00,  0.0329,-999.0000,-999.000,9,-999.000,9,-999.000,9, -999.00,9,-999.00,9, -999.00,9,121,1324
32L919920715,72,7,5,2,19920812,77.1530,-10.5330,499,     2.0,  0.0530, 30.2250,2,-999.0000,9,   343.2,2,  -999.0,9, -999.00,9, -999.00,9, -999.00,9, -999.00,9,  -999.0,9,  -999.0,9,-999.000,9,-999.000,-999.0000,9, -999.00,9, -999.00,  0.0529,-999.0000,-999.000,9,-999.000,9,-999.000,9, -999.00,9,-999.00,9, -999.00,9,121,1325
32L919920715,72,7,1,2,19920812,77.1530,-10.5330,499,    10.0, -0.0500, 30.7270,2,-999.0000,9,   396.7,2,  -999.0,9, -999.00,9, -999.00,9, -999.00,9, -999.00,9,  -999.0,9,  -999.0,9,-999.000,9,-999.000,-999.0000,9, -999.00,9, -999.00, -0.0503,-999.0000,-999.000,9,-999.000,9,-999.000,9, -999.00,9,-999.00,9, -999.00,9,121,1321
32L919920715,72,7,12,2,19920812,77.1530,-10.5330,499,    15.0, -0.9620, 32.2400,2,-999.0000,9,   387.3,2,  -999.0,9, -999.00,9, -999.00,9, -999.00,9, -999.00,9,  -999.0,9,  -999.0,9,-999.000,9,-999.000,-999.0000,9, -999.00,9, -999.00, -0.9623,-999.0000,-999.000,9,-999.000,9,-999.000,9, -999.00,9,-999.00,9, -999.00,9,121,1320
32L919920715,72,7,11,2,19920812,77.1530,-10.5330,499,    21.0, -1.2840, 32.5310,2,-999.0000,9,   355.0,2,  -999.0,9, -999.00,9, -999.00,9, -999.00,9, -999.00,9,  -999.0,9,  -999.0,9,-999.000,9,-999.000,-999.0000,9, -999.00,9, -999.00, -1.2844,-999.0000,-999.000,9,-999.000,9,-999.000,9, -999.00,9,-999.00,9, -999.00,9,121,1319
32L919920715,72,7,10,2,19920812,77.1530,-10.5330,499,    25.0, -1.3380, 32.7030,2,-999.0000,9,   348.7,2,  -999.0,9, -999.00,9, -999.00,9, -999.00,9, -999.00,9,  -999.0,9,  -999.0,9,-999.000,9,-999.000,-999.0000,9, -999.00,9, -999.00, -1.3385,-999.0000,-999.000,9,-999.000,9,-999.000,9, -999.00,9,-999.00,9, -999.00,9,121,1318
32L919920715,72,7,9,2,19920812,77.1530,-10.5330,499,    31.0, -1.4650, 33.0560,2,-999.0000,9,   347.1,2,  -999.0,9, -999.00,9, -999.00,9, -999.00,9, -999.00,9,  -999.0,9,  -999.0,9,-999.000,9,-999.000,-999.0000,9, -999.00,9, -999.00, -1.4656,-999.0000,-999.000,9,-999.000,9,-999.000,9, -999.00,9,-999.00,9, -999.00,9,121,1317
32L919920715,72,7,8,2,19920812,77.1530,-10.5330,499,    51.0, -1.4240, 33.6740,2,-999.0000,9,   323.6,2,  -999.0,9, -999.00,9, -999.00,9, -999.00,9, -999.00,9,  -999.0,9,  -999.0,9,-999.000,9,-999.000,-999.0000,9, -999.00,9, -999.00, -1.4251,-999.0000,-999.000,9,-999.000,9,-999.000,9, -999.00,9,-999.00,9, -999.00,9,121,1316
32L919920715,72,7,7,2,19920812,77.1530,-10.5330,499,    99.0, -1.4250, 34.1340,2,-999.0000,9,   319.2,2,  -999.0,9, -999.00,9, -999.00,9, -999.00,9, -999.00,9,  -999.0,9,  -999.0,9,-999.000,9,-999.000,-999.0000,9, -999.00,9, -999.00, -1.4273,-999.0000,-999.000,9,-999.000,9,-999.000,9, -999.00,9,-999.00,9, -999.00,9,121,1315
32L919920715,72,7,6,2,19920812,77.1530,-10.5330,499,   484.0,  0.8080, 34.9050,2,-999.0000,9,   283.5,2,  -999.0,9, -999.00,9, -999.00,9, -999.00,9, -999.00,9,  -999.0,9,  -999.0,9,-999.000,9,-999.000,-999.0000,9, -999.00,9, -999.00,  0.7854,-999.0000,-999.000,9,-999.000,9,-999.000,9, -999.00,9,-999.00,9, -999.00,9,121,1314