BOTTLE,20220816CCHSIOAMB
# Documented BNLID in params DB
# Change CTDNO to STNNBR_U
# Change PHAEO units from empty string to UG/L to match WOCE file
# No SAMPNO in file, this is OK
# Removed time column with all "0" values
#BOTTLE,20100412CCHDOSIODBK
#code : Justin Fields merge_exchange.rb 
#original files copied from HTML directory: 2010-04-12
#original HYD file: /Users/danie/CLIVAR/newp92/newp92_32L919920715_hy1.csv  2010-04-12
#BOTTLE,20090112PRINUNIVRMK
# 9/12/05 Initialized README file  
# Data from Wallace via Kozyr on 9/8/05; All flags by Key (corrections from A. Schneider) 
# Ship: Polar Sea 
# Cruise: NEWP92 
# Dates: 7/15/92 - 8/15/92 
# EXPOCODE: 32L919920715 
# Region: Polynya off NE Greenland 
# Chief Scientist: J. Deming (U. Washington) 
# 81 stations with 12 place Rosette 
# Hydro: Who - T.S.Hopkins(NCSU), D.Voegel(TAMU), J.Smith(U. Alaska); Status - final 
#       Notes:  Near surface bottle and CTD salinity values frequently do not agree due to extremely sharp salinity gradient 
#       See Budeus and Schneider, 1995. 
#       Bottom Depths from global topography 
#       See: Wallace et al. 1995a. 
# Nuts/O2: Who - D. Guffey(TAMU), R. Ramirez(BNL), C. Neill(BNL); Status - final 
#       Notes: Near surface bottle and CTD oxygen values frequently do not agree due to extremely sharp gradient 
#       See Wallace et al., 1995b 
# TCO2: Who - D.Wallace; Status - final 
#       Notes: measured in D.Wallace lab at BNL 
#       See Yager, et al, 1995. 
# TA: Who - D. Wallace; Status - final 
#       Notes: measured by P. Yager in Goyet lab at WHOI 
# H-3/He-3: Who - Z. Top(U.Miami); Status - final 
#       Notes: See Top et al., 1997 
# Other: Phaeophyten, POC, PON, bacterial abundance 
#       See Smith, 1995. 
# References: 
# Budeus, G. and W. Schneider, On the hydrography of the Northeast Water Polynya, J. Geophys. Res., 100(C3), 4287-4300, 1995. 
# Smith, W.O., Jr., Primary productivity and new production in the Northeast Water (Greenland) Polynya during summer 1992, J. Geophys. Res., 100 (C3), 4357-4370, 1995. 
# Top, Z., F. Bignami and T. Hopkins, Tritium-3He ages of deep waters in the NEW Polynya, J. Mar. Sys., 10, 175-184, 1997. 
# Wallace, D. W. R., T.S. Hopkins, W.J. Behrens, C. Kiinder, W.O. Smith, Z. Top and I.D. Walsh, Collaborative research on the Northeast Water polynya: Hydrographic cruise report, USCGS Polar Sea cruise, July 15 - August 15, 1992, Brookhaven National Lab., Upton, NY, informal cruise report, 1995a. 
# Wallace, D. W. R.,  P. J. Minnett, and T.S. Hopkins, Nutrients, oxygen, and inferred new production in the northeast water polynya, 1992, J. Geophys. Res., 100(C3), 4323-4341, 1995b. 
# Yager, P.L., D.W.R. Wallace, K.M. Johnson, W.O. Smith, Jr., P.J. Minnett and J.W. Deming, The northeast water polynya as an atmospheric CO2 sink: A seasonal rectification hypothesis, J. Geophys. Res., 100(C3), 4389-4399, 1995. 
EXPOCODE,STNNBR,CASTNO,BTLNBR,BTLNBR_FLAG_W,DATE,LATITUDE,LONGITUDE,DEPTH,CTDPRS,CTDTMP,CTDSAL,CTDSAL_FLAG_W,SALNTY,SALNTY_FLAG_W,CTDOXY,CTDOXY_FLAG_W,OXYGEN,OXYGEN_FLAG_W,SILCAT,SILCAT_FLAG_W,NITRAT,NITRAT_FLAG_W,NITRIT,NITRIT_FLAG_W,PHSPHT,PHSPHT_FLAG_W,TCARBN,TCARBN_FLAG_W,ALKALI,ALKALI_FLAG_W,TRITUM,TRITUM_FLAG_W,TRITER,HELIUM,HELIUM_FLAG_W,DELHE3,DELHE3_FLAG_W,DELHER,THETA,SOMSAL,AMMONI,AMMONI_FLAG_W,POC,POC_FLAG_W,PON,PON_FLAG_W,CHLORA,CHLORA_FLAG_W,PHAEO,PHAEO_FLAG_W,BACT,BACT_FLAG_W,STNNBR_U,BNLID
,,,,,,,,METERS,DBAR,ITS-90,PSS-78,,PSS-78,,UMOL/KG,,UMOL/KG,,UMOL/KG,,UMOL/KG,,UMOL/KG,,UMOL/KG,,UMOL/KG,,UMOL/KG,,TU,,TU,NMOL/KG,,PERCNT,,PERCNT,DEG C,PSS-78,UMOL/KG,,UG/KG,,UG/KG,,UG/KG,,UG/L,,E8/L,,,
32L919920715,1,1,12,2,19920718,76.5190,-6.9370,1352,     5.0, -0.4850, 31.8010,2,-999.0000,9,   395.1,2,  -999.0,9, -999.00,9, -999.00,9, -999.00,9, -999.00,9,  -999.0,9,  -999.0,9,-999.000,9,-999.000,-999.0000,9, -999.00,9, -999.00, -0.4851,-999.0000,-999.000,9,-999.000,9,-999.000,9, -999.00,9,-999.00,9, -999.00,9,1,12
32L919920715,1,1,11,2,19920718,76.5190,-6.9370,1352,    14.0, -1.5690, 32.6200,2,-999.0000,9,   362.6,2,  -999.0,9, -999.00,9, -999.00,9, -999.00,9, -999.00,9,  -999.0,9,  -999.0,9,-999.000,9,-999.000,-999.0000,9, -999.00,9, -999.00, -1.5692,-999.0000,-999.000,9,-999.000,9,-999.000,9, -999.00,9,-999.00,9, -999.00,9,1,11
32L919920715,1,1,10,2,19920718,76.5190,-6.9370,1352,    29.0, -1.5480, 33.0410,2, 33.1760,2,   334.2,2,   330.7,2,   16.02,3,    7.71,2,    0.02,2,    1.00,2,  -999.0,9,  -999.0,9,-999.000,9,-999.000,-999.0000,9, -999.00,9, -999.00, -1.5486,-999.0000,   0.137,2,-999.000,9,-999.000,9,    0.29,2,0.19,2, -999.00,9,1,10
32L919920715,1,1,9,2,19920718,76.5190,-6.9370,1352,    49.0, -1.4370, 33.8270,2,-999.0000,9,   322.4,2,   324.2,2,    8.83,2,    8.77,2,    0.07,2,    0.74,2,  -999.0,9,  -999.0,9,-999.000,9,-999.000,-999.0000,9, -999.00,9, -999.00, -1.4381,-999.0000,   0.205,2,-999.000,9,-999.000,9,    0.03,2,0.03,2, -999.00,9,1,9
32L919920715,1,1,8,2,19920718,76.5190,-6.9370,1352,   100.0,  0.9430, 34.6270,2,-999.0000,9,   302.3,2,   307.4,2,    6.31,2,   10.92,2,    0.06,2,    0.76,2,  -999.0,9,  -999.0,9,-999.000,9,-999.000,-999.0000,9, -999.00,9, -999.00,  0.9386,-999.0000,   0.137,2,-999.000,9,-999.000,9,    0.01,2,0.05,2, -999.00,9,1,8
32L919920715,1,1,7,2,19920718,76.5190,-6.9370,1352,   151.0,  2.5040, 34.9300,2,-999.0000,9,   304.4,2,   318.2,2,    5.35,2,   11.59,2,    0.03,2,    0.78,2,  -999.0,9,  -999.0,9,-999.000,9,-999.000,-999.0000,9, -999.00,9, -999.00,  2.4953,-999.0000,   0.117,2,-999.000,9,-999.000,9,    0.01,2,0.05,2, -999.00,9,1,7
32L919920715,1,1,6,2,19920718,76.5190,-6.9370,1352,   198.0,  2.3660, 34.9530,2,-999.0000,9,   307.8,2,   314.5,2,    5.34,2,   11.66,2,    0.03,2,    0.78,2,  -999.0,9,  -999.0,9,-999.000,9,-999.000,-999.0000,9, -999.00,9, -999.00,  2.3547,-999.0000,   0.039,2,-999.000,9,-999.000,9,    0.00,2,0.01,2, -999.00,9,1,6
32L919920715,1,1,5,2,19920718,76.5190,-6.9370,1352,   300.0,  2.2080, 34.9710,2,-999.0000,9,   305.5,2,  -999.0,9, -999.00,9, -999.00,9, -999.00,9, -999.00,9,  -999.0,9,  -999.0,9,-999.000,9,-999.000,-999.0000,9, -999.00,9, -999.00,  2.1910,-999.0000,-999.000,9,-999.000,9,-999.000,9, -999.00,9,-999.00,9, -999.00,9,1,5
32L919920715,1,1,4,2,19920718,76.5190,-6.9370,1352,   496.0,  2.2330, 34.9880,2,-999.0000,9,   313.4,2,   314.6,2,    5.44,2,   11.83,2,    0.04,2,    0.79,2,  -999.0,9,  -999.0,9,-999.000,9,-999.000,-999.0000,9, -999.00,9, -999.00,  2.2039,-999.0000,   0.078,2,-999.000,9,-999.000,9, -999.00,9,-999.00,9, -999.00,9,1,4
32L919920715,1,1,3,2,19920718,76.5190,-6.9370,1352,   802.0,  0.2760, 34.8970,2, 34.9210,2,   304.2,2,   298.7,2,    7.75,2,   12.60,2,    0.05,2,    0.81,2,  -999.0,9,  -999.0,9,-999.000,9,-999.000,-999.0000,9, -999.00,9, -999.00,  0.2398,-999.0000,   0.020,2,-999.000,9,-999.000,9, -999.00,9,-999.00,9, -999.00,9,1,3
32L919920715,1,1,2,2,19920718,76.5190,-6.9370,1352,  1209.0, -0.3470, 34.9210,2,-999.0000,9,   312.5,2,  -999.0,9, -999.00,9, -999.00,9, -999.00,9, -999.00,9,  -999.0,9,  -999.0,9,-999.000,9,-999.000,-999.0000,9, -999.00,9, -999.00, -0.3998,-999.0000,-999.000,9,-999.000,9,-999.000,9, -999.00,9,-999.00,9, -999.00,9,1,2
32L919920715,1,1,1,2,19920718,76.5190,-6.9370,1352,  1342.0, -0.4400, 34.9330,2, 34.9770,2,   309.9,2,   314.0,2,    5.57,2,   11.81,2,    0.05,2,    0.80,2,  -999.0,9,  -999.0,9,-999.000,9,-999.000,-999.0000,9, -999.00,9, -999.00, -0.4993,-999.0000,   0.049,2,-999.000,9,-999.000,9, -999.00,9,-999.00,9, -999.00,9,1,1
32L919920715,1,2,12,2,19920718,76.5190,-6.9370,1352,     2.0, -0.7310, 31.8740,2,-999.0000,9,   368.1,2,   385.8,2,   11.26,2,    0.67,2,    0.04,2,    0.74,2,  -999.0,9,  -999.0,9,-999.000,9,-999.000,-999.0000,9, -999.00,9, -999.00, -0.7310,-999.0000,   0.059,2,-999.000,9,-999.000,9, -999.00,9,-999.00,9, -999.00,9,2,24
32L919920715,1,2,11,2,19920718,76.5190,-6.9370,1352,    14.0, -1.5360, 32.5660,2,-999.0000,9,   360.0,2,   302.9,2,   13.80,2,    4.79,2,    0.05,2,    0.93,2,  -999.0,9,  -999.0,9,-999.000,9,-999.000,-999.0000,9, -999.00,9, -999.00, -1.5363,-999.0000,   0.088,2,-999.000,9,-999.000,9, -999.00,9,-999.00,9, -999.00,9,2,23
32L919920715,1,2,10,2,19920718,76.5190,-6.9370,1352,    29.0, -1.5030, 33.1870,2,-999.0000,9,   323.7,2,   328.3,2,   12.47,2,    6.85,2,    0.05,2,    0.85,2,  -999.0,9,  -999.0,9,-999.000,9,-999.000,-999.0000,9, -999.00,9, -999.00, -1.5036,-999.0000,   0.078,2,-999.000,9,-999.000,9, -999.00,9,-999.00,9, -999.00,9,2,22
32L919920715,1,2,9,2,19920718,76.5190,-6.9370,1352,    49.0, -1.5530, 33.9450,2,-999.0000,9,   320.4,2,  -999.0,9,    7.29,2,    7.67,2,    0.10,2,    0.67,2,  -999.0,9,  -999.0,9,-999.000,9,-999.000,-999.0000,9, -999.00,9, -999.00, -1.5540,-999.0000,   0.049,2,-999.000,9,-999.000,9, -999.00,9,-999.00,9, -999.00,9,2,21
32L919920715,1,2,8,2,19920718,76.5190,-6.9370,1352,    99.0,  1.4210, 34.7140,2,-999.0000,9,   306.8,2,  -999.0,9,    5.39,2,    9.64,2,    0.04,2,    0.69,2,  -999.0,9,  -999.0,9,-999.000,9,-999.000,-999.0000,9, -999.00,9, -999.00,  1.4162,-999.0000,   0.078,2,-999.000,9,-999.000,9, -999.00,9,-999.00,9, -999.00,9,2,20
32L919920715,1,2,7,2,19920718,76.5190,-6.9370,1352,   149.0,  2.4410, 34.9270,2,-999.0000,9,   290.6,2,  -999.0,9,    4.99,2,   10.09,2,    0.03,2,    0.72,2,  -999.0,9,  -999.0,9,-999.000,9,-999.000,-999.0000,9, -999.00,9, -999.00,  2.4325,-999.0000,   0.020,2,-999.000,9,-999.000,9, -999.00,9,-999.00,9, -999.00,9,2,19
32L919920715,1,2,6,2,19920718,76.5190,-6.9370,1352,   198.0,-999.0000,-999.0000,9,-999.0000,9,  -999.0,9,   314.6,2,    5.01,2,   10.18,2,    0.02,2,    0.72,2,  -999.0,9,  -999.0,9,-999.000,9,-999.000,-999.0000,9, -999.00,9, -999.00,-999.0000,-999.0000,   0.029,2,-999.000,9,-999.000,9, -999.00,9,-999.00,9, -999.00,9,2,18
32L919920715,1,2,5,2,19920718,76.5190,-6.9370,1352,   317.0,  2.2050, 34.9770,2,-999.0000,9,   309.9,2,   313.7,2,    4.99,2,   10.23,2,    0.02,2,    0.72,2,  -999.0,9,  -999.0,9,-999.000,9,-999.000,-999.0000,9, -999.00,9, -999.00,  2.1870,-999.0000,   0.020,2,-999.000,9,-999.000,9, -999.00,9,-999.00,9, -999.00,9,2,17
32L919920715,1,2,4,2,19920718,76.5190,-6.9370,1352,   502.0,  2.2480, 35.0030,2,-999.0000,9,   315.0,2,  -999.0,9,    5.11,2,   10.42,2,    0.02,2,    0.73,2,  -999.0,9,  -999.0,9,-999.000,9,-999.000,-999.0000,9, -999.00,9, -999.00,  2.2185,-999.0000,   0.010,2,-999.000,9,-999.000,9, -999.00,9,-999.00,9, -999.00,9,2,16
32L919920715,1,2,3,2,19920718,76.5190,-6.9370,1352,   796.0,  0.3220, 34.9030,2,-999.0000,9,   296.2,2,  -999.0,9,    7.10,2,   10.92,2,    0.02,2, -999.00,9,  -999.0,9,  -999.0,9,-999.000,9,-999.000,-999.0000,9, -999.00,9, -999.00,  0.2858,-999.0000,   0.010,2,-999.000,9,-999.000,9, -999.00,9,-999.00,9, -999.00,9,2,15
32L919920715,1,2,2,2,19920718,76.5190,-6.9370,1352,   999.0, -0.0620, 34.9200,2, 34.9080,2,   305.0,2,   303.0,2,    7.16,2,   10.97,2,    0.02,2,    0.80,2,  -999.0,9,  -999.0,9,-999.000,9,-999.000,-999.0000,9, -999.00,9, -999.00, -0.1061,-999.0000,   4.615,2,-999.000,9,-999.000,9, -999.00,9,-999.00,9, -999.00,9,2,14
32L919920715,1,2,1,2,19920718,76.5190,-6.9370,1352,  1302.0, -0.4190, 34.9370,2,-999.0000,9,   312.9,2,   305.2,2,    8.18,2,   11.43,2,    0.02,2,    0.83,2,  -999.0,9,  -999.0,9,-999.000,9,-999.000,-999.0000,9, -999.00,9, -999.00, -0.4762,-999.0000,   0.020,2,-999.000,9,-999.000,9, -999.00,9,-999.00,9, -999.00,9,2,13
32L919920715,2,1,10,2,19920719,77.1560,-10.4460,480,     2.0,  0.1430, 31.1890,2,-999.0000,9,   362.1,2,  -999.0,9,   15.49,2,    3.66,2,    0.04,2,    0.91,2,  -999.0,9,  -999.0,9,-999.000,9,-999.000,-999.0000,9, -999.00,9, -999.00,  0.1429,-999.0000,   0.117,2,  17.043,2,   2.846,2,    0.49,2,0.14,2,106000.00,2,3,34
32L919920715,2,1,11,2,19920719,77.1560,-10.4460,480,     2.0,  0.1430, 31.1890,2,-999.0000,9,   362.1,2,  -999.0,9,   15.51,2,    3.63,2,    0.04,2,    0.91,2,  -999.0,9,  -999.0,9,-999.000,9,-999.000,-999.0000,9, -999.00,9, -999.00,  0.1429,-999.0000,   0.127,2,-999.000,9,-999.000,9, -999.00,9,-999.00,9, -999.00,9,3,35
32L919920715,2,1,9,2,19920719,77.1560,-10.4460,480,     9.0,  0.1130, 31.2220,2,-999.0000,9,   368.1,2,  -999.0,9,   15.05,2,    4.16,2,    0.04,2,    0.89,2,  -999.0,9,  -999.0,9,-999.000,9,-999.000,-999.0000,9, -999.00,9, -999.00,  0.1127,-999.0000,   0.117,2,  12.979,2,   1.602,2,    0.70,2,0.23,2,103000.00,2,3,33
32L919920715,2,1,8,2,19920719,77.1560,-10.4460,480,    14.0, -0.6480, 32.2440,2,-999.0000,9,   374.3,2,  -999.0,9,   14.61,2,    4.58,2,    0.04,2,    0.87,2,  -999.0,9,  -999.0,9,-999.000,9,-999.000,-999.0000,9, -999.00,9, -999.00, -0.6484,-999.0000,   0.117,2,  10.602,2,   1.439,2,    0.91,2,0.25,2,125000.00,2,3,32
32L919920715,2,1,7,2,19920719,77.1560,-10.4460,480,    28.0, -1.0740, 32.9500,2,-999.0000,9,   363.8,2,  -999.0,9,    9.74,2,    4.20,2,    0.04,2,    0.64,2,  -999.0,9,  -999.0,9,-999.000,9,-999.000,-999.0000,9, -999.00,9, -999.00, -1.0746,-999.0000,   0.127,2,  14.114,2,   1.650,2,    0.79,2,0.69,2,131000.00,2,3,31
32L919920715,2,1,6,2,19920719,77.1560,-10.4460,480,    44.0, -1.6480, 33.7150,2,-999.0000,9,   338.5,2,  -999.0,9,    8.25,2,    7.63,2,    0.06,2,    0.70,2,  -999.0,9,  -999.0,9,-999.000,9,-999.000,-999.0000,9, -999.00,9, -999.00, -1.6489,-999.0000,   0.107,2,   7.942,2,   0.526,2,    0.32,2,0.13,2,36400.00,2,3,30
32L919920715,2,1,5,2,19920719,77.1560,-10.4460,480,    69.0, -1.6420, 34.0040,2,-999.0000,9,   329.6,2,  -999.0,9,    6.70,2,    8.96,2,    0.02,2,    0.70,2,  -999.0,9,  -999.0,9,-999.000,9,-999.000,-999.0000,9, -999.00,9, -999.00, -1.6434,-999.0000,   0.020,2,   6.261,2,   0.298,2,    0.05,2,0.04,2,21200.00,2,3,29
32L919920715,2,1,4,2,19920719,77.1560,-10.4460,480,   104.0, -1.5900, 34.1560,2,-999.0000,9,   328.9,2,  -999.0,9,    5.52,2,    9.60,2,    0.02,2,    0.68,2,  -999.0,9,  -999.0,9,-999.000,9,-999.000,-999.0000,9, -999.00,9, -999.00, -1.5922,-999.0000,   0.020,2,   7.163,2,   0.340,2,    0.02,2,0.03,2,26100.00,2,3,28
32L919920715,2,1,3,2,19920719,77.1560,-10.4460,480,   125.0, -1.2860, 34.2470,2,-999.0000,9,   321.9,2,  -999.0,9,    6.35,2,   10.34,2,    0.02,2,    0.74,2,  -999.0,9,  -999.0,9,-999.000,9,-999.000,-999.0000,9, -999.00,9, -999.00, -1.2891,-999.0000,   0.020,2,   9.240,2,   0.400,2,    0.02,2,0.03,2, -999.00,9,3,27
32L919920715,2,1,1,2,19920719,77.1560,-10.4460,480,   151.0, -0.6770, 34.4310,2,-999.0000,9,   310.2,2,  -999.0,9,    7.04,2,   11.09,2,    0.02,2,    0.78,2,  -999.0,9,  -999.0,9,-999.000,9,-999.000,-999.0000,9, -999.00,9, -999.00, -0.6816,-999.0000,   0.185,2,-999.000,9,-999.000,9, -999.00,9,-999.00,9, -999.00,9,3,25
32L919920715,2,1,2,2,19920719,77.1560,-10.4460,480,   151.0, -0.6770, 34.4310,2,-999.0000,9,   310.2,2,  -999.0,9,    7.25,2,   11.13,2,    0.02,2,    0.78,2,  -999.0,9,  -999.0,9,-999.000,9,-999.000,-999.0000,9, -999.00,9, -999.00, -0.6816,-999.0000,   0.020,2,   1.228,2,   0.075,2,    0.01,2,0.02,2, -999.00,9,3,26
32L919920715,2,2,11,2,19920719,77.1560,-10.4460,480,     2.0, -0.1490, 22.2290,2,-999.0000,9,   387.4,2,   364.0,2,   15.07,2,    3.67,2,    0.06,2,    0.92,2,  -999.0,9,  -999.0,9,-999.000,9,-999.000,-999.0000,9, -999.00,9, -999.00, -0.1490,-999.0000,   0.117,2,-999.000,9,-999.000,9, -999.00,9,-999.00,9, -999.00,9,4,47
32L919920715,2,2,10,2,19920719,77.1560,-10.4460,480,    14.0, -0.2650, 30.5370,2,-999.0000,9,   381.8,2,   367.1,2,   13.69,2,    4.59,2,    0.06,2,    0.91,2,  -999.0,9,  -999.0,9,-999.000,9,-999.000,-999.0000,9, -999.00,9, -999.00, -0.2654,-999.0000,   0.117,2,-999.000,9,-999.000,9, -999.00,9,-999.00,9, -999.00,9,4,46
32L919920715,2,2,9,2,19920719,77.1560,-10.4460,480,    29.0, -1.0310, 32.8830,2,-999.0000,9,   382.5,2,   361.7,2,    8.61,2,    4.74,2,    0.06,2,    0.66,2,  -999.0,9,  -999.0,9,-999.000,9,-999.000,-999.0000,9, -999.00,9, -999.00, -1.0317,-999.0000,   0.117,2,-999.000,9,-999.000,9, -999.00,9,-999.00,9, -999.00,9,4,45
32L919920715,2,2,8,2,19920719,77.1560,-10.4460,480,    50.0, -1.6620, 33.7500,2,-999.0000,9,   365.7,2,   335.1,2,    6.94,2,    8.00,2,    0.08,2,    0.70,2,  -999.0,9,  -999.0,9,-999.000,9,-999.000,-999.0000,9, -999.00,9, -999.00, -1.6630,-999.0000,   0.068,2,-999.000,9,-999.000,9, -999.00,9,-999.00,9, -999.00,9,4,44
32L919920715,2,2,7,2,19920719,77.1560,-10.4460,480,    74.0, -1.6790, 34.0180,2,-999.0000,9,   350.2,2,   330.2,2,    5.27,2,    8.97,2,    0.09,2,    0.67,2,  -999.0,9,  -999.0,9,-999.000,9,-999.000,-999.0000,9, -999.00,9, -999.00, -1.6805,-999.0000,   0.059,2,-999.000,9,-999.000,9, -999.00,9,-999.00,9, -999.00,9,4,43
32L919920715,2,2,6,2,19920719,77.1560,-10.4460,480,   100.0, -1.5950, 34.1530,2,-999.0000,9,   346.6,2,   327.4,2,    5.15,2,    9.66,2,    0.04,2,    0.69,2,  -999.0,9,  -999.0,9,-999.000,9,-999.000,-999.0000,9, -999.00,9, -999.00, -1.5971,-999.0000,   0.029,2,-999.000,9,-999.000,9, -999.00,9,-999.00,9, -999.00,9,4,42
32L919920715,2,2,5,2,19920719,77.1560,-10.4460,480,   149.0, -0.6430, 34.4500,2,-999.0000,9,   327.4,2,   308.9,2,    6.75,2,   11.20,2,    0.03,2,    0.77,2,  -999.0,9,  -999.0,9,-999.000,9,-999.000,-999.0000,9, -999.00,9, -999.00, -0.6476,-999.0000,   0.029,2,-999.000,9,-999.000,9, -999.00,9,-999.00,9, -999.00,9,4,41
32L919920715,2,2,4,2,19920719,77.1560,-10.4460,480,   199.0,  0.6230, 34.7320,2,-999.0000,9,   312.5,2,   294.9,2,    7.53,2,   12.20,2,    0.03,2,    0.82,2,  -999.0,9,  -999.0,9,-999.000,9,-999.000,-999.0000,9, -999.00,9, -999.00,  0.6146,-999.0000,   0.010,2,-999.000,9,-999.000,9, -999.00,9,-999.00,9, -999.00,9,4,40
32L919920715,2,2,2,2,19920719,77.1560,-10.4460,480,   400.0,  0.8230, 34.9150,2,-999.0000,9,   303.7,2,   290.2,2,    9.40,2,   13.44,2,    0.03,2,    0.87,2,  -999.0,9,  -999.0,9,-999.000,9,-999.000,-999.0000,9, -999.00,9, -999.00,  0.8045,-999.0000,   0.010,2,-999.000,9,-999.000,9, -999.00,9,-999.00,9, -999.00,9,4,38
32L919920715,2,2,1,2,19920719,77.1560,-10.4460,480,   452.0,  0.7860, 34.9130,2, 34.9130,2,   284.9,2,   289.8,2,   10.41,2,   13.49,2,    0.03,2,    0.88,2,  -999.0,9,  -999.0,9,-999.000,9,-999.000,-999.0000,9, -999.00,9, -999.00,  0.7651,-999.0000,   0.029,2,-999.000,9,-999.000,9, -999.00,9,-999.00,9, -999.00,9,4,37